{"text_format":"1","workbook":"xlsx","n_sheets":13,"sheets":["Registro de cambios","configuracion","DIGITADOR","ACTIVIDADES","DESEMBARCO","COSTOS","referentes","Otras referencias","AGD_MUESTREOS","AGD_MUESTRAS_VARIABLES","AGD_PARAMETRO","AGD_MUESTRAS","AGD_AUTORIAS"],"not_rendered":{"charts":0,"images":0,"macros":1,"external_links":1,"defined_names":30,"comments":0,"pivot_tables":0},"unopened":[],"bounds":{"document_bytes":16777216,"sheet_cells":100000,"rows_first":2000,"rows_last":500,"rows_between":2000,"halvings":0,"cell_chars":16384,"cell_head_chars":4096},"cells_cut":0,"cells_raw":0,"read":"whole","date_system":"1900"}

{"sheet":"Registro de cambios","index":0,"n_rows":6,"n_cols":7,"rows_kept":6,"cut":false,"hidden":true,"merged":[[1,3,1,6]]}
[]
[null,null,null,"REGISTRO DE CAMBIOS"]
[null,null,null,"VERSIÓN No.","CAMBIO REALIZADO","AUTOR","VIGENTE DESDE"]
[null,null,null,"20241021i","Actualización del código de la macro.\n\nSe eliminó la URL de la antigua API de portete:\n       http://portete.invemar.org.co:7003/ArgosWebServices-RESTWebService-context-root/rest/1.0\n\nFue reemplazada por la URL de la API de ARGOS:\n       https://argos.invemar.org.co/api/\n\nLa API contiene End Points que permiten tener mayor control, facilitan la descarga de referentes (listas de usuarios, estaciones, especies, etc.) que corresponden a criterios específicos como el proyecto usado en la plantilla para evitar descargar data innecesaria.\n\nDel mismo modo, también permite la carga de información a la BDD del INVEMAR.\n\nLa macro toma los Endpoints desde la hoja configuracion de una tabla llamada \"Configuración referentes\", a la que se le puede modificar las rutas de la API o agregar nuevas. cabe resaltar que se puede \"quemar\" directamente en la macro los Endpoints que lo requieran.","Kevin Moreno","21/10/2024"]
[null,null,null,"1.1","*Se mueve la columna \"Monitoreada\" de la hoja de \"ACTIVIDADES\" al inicio.\n*Se coloca el \"Registro\" en 0 si no se monitoreada la actividad y se inactiva dicha celda.\n*Se colocan los nombres completos de las columnas.\n*Se ingresa fórmula para calcular automáricamente los días efectivos.\n*En la hoja \"DESEMBARCO\" se agregan 3 columnas nuevas (Fecha Zarpe, Embarcación y Tipo de pesquería).",null,"2019-09-04"]
[null,null,null,"1.0","Creación de la plantilla",null,"29/03/2019"]

{"sheet":"configuracion","index":1,"n_rows":71,"n_cols":31,"rows_kept":71,"cut":false,"hidden":true,"merged":[[23,0,26,0],[0,0,2,0],[3,0,5,0],[7,0,8,0],[9,0,15,0],[17,0,21,0],[60,0,60,1],[61,0,61,2],[28,0,35,0],[37,0,42,0],[45,0,45,1]]}
["general","urlServicio","https://argos.invemar.org.co/api/"]
[null,"fila de inicio",5]
[null,"fila de fin",350]
["metodologias","Metodologias",825,828,830,829]
[null,"Referentes",10000,10000,10000,10000]
[null,"Cantidad maxima de referentes ",10000,10000,10000,10000]
["estaciones/investigadores","proyectos",3453]
["Lista especies","metodologias",828]
[null,"proyectos",3453]
["MUESTREOS","ID_MUESTREO","ACTIVIDADES,AC","DESEMBARCO,AB","DESEMBARCO,AC","DESEMBARCO,AD","COSTOS,I"]
[null,"ID_ESTACION","ACTIVIDADES,N","DESEMBARCO,AJ","DESEMBARCO,AJ","DESEMBARCO,AJ","COSTOS,F"]
[null,"ID_PROYECTO",3453,3453,3453,3453,3453]
[null,"ID_METODOLOGIA",826,825,828,830,829]
[null,"ID_TEMATICAS",234,234,234,234,234]
[null,"FECHA","ACTIVIDADES,K","DESEMBARCO,D","DESEMBARCO,D","DESEMBARCO,D","COSTOS,E"]
[null,"NOTAS","DIGITADOR,B,14","DIGITADOR,B,14","DIGITADOR,B,14","DIGITADOR,B,14","DIGITADOR,B,14"]
[null,"cantidad",300,300,300,300,300]
["parametro muestreo","ID_MUESTREO","ACTIVIDADES,AC","DESEMBARCO,AB","DESEMBARCO,AC","DESEMBARCO,AD","COSTOS,I","ACTIVIDADES,AC","DESEMBARCO,AB","DESEMBARCO,AC","DESEMBARCO,AD","COSTOS,I","ACTIVIDADES,AC","DESEMBARCO,AB","DESEMBARCO,AC","DESEMBARCO,AD","COSTOS,I"]
[null,"ID_PARAMETRO",249,249,923,130,928,1055,1055,1055,1055,1055,1170,1170,1170,1170,1170]
[null,"ID_METODOLOGIA",826,825,828,830,829,826,825,828,830,829,826,825,828,830,829]
[null,"ID_UNIDAD_MEDIDA",100,100,100,100,100,100,100,100,100,100,100,100,100,100,100]
[null,"VALOR","ACTIVIDADES,H","DESEMBARCO,AI","DESEMBARCO,AI","DESEMBARCO,G","COSTOS,C","DIGITADOR,B,5","DIGITADOR,B,5","DIGITADOR,B,5","DIGITADOR,B,5","DIGITADOR,B,5","DIGITADOR,B,8","DIGITADOR,B,8","DIGITADOR,B,8","DIGITADOR,B,8","DIGITADOR,B,8"]
[null,"cantidad",300,300,300,300,300,300,300,300,300,300,300,300,300,300,300]
["muestra","ID_MUESTRA","ACTIVIDADES,Z","DESEMBARCO,W","DESEMBARCO,X","DESEMBARCO,Y","COSTOS,K"]
[null,"ID_MUESTREO","ACTIVIDADES,AD","DESEMBARCO,AF","DESEMBARCO,AG","DESEMBARCO,AH","COSTOS,H"]
[null,"NOTAS"]
[null,"ES_REPLICA",1,1,1,1,1]
[null,"cantidad",350,350,350,350,350]
["muestra variable","ID_PARAMETRO",825,907,915,916,917,923,935,936,937,938,939,940,907,915,916,917,918,919,920,921,149,927,922,925,138,924,923,923,929]
[null,"ID_METODOLOGIA",826,826,826,826,826,826,826,826,826,826,826,826,825,825,825,825,825,825,825,825,828,828,828,828,828,828,830,829,829]
[null,"ID_UNIDAD_MEDIDA",100,100,100,100,100,100,100,100,100,100,100,100,100,100,100,100,100,100,100,100,116,117,100,100,100,100,100,100,117]
[null,"ID_MUESTRA","ACTIVIDADES,Z","ACTIVIDADES,Z","ACTIVIDADES,Z","ACTIVIDADES,Z","ACTIVIDADES,Z","ACTIVIDADES,Z","ACTIVIDADES,Z","ACTIVIDADES,Z","ACTIVIDADES,Z","ACTIVIDADES,Z","ACTIVIDADES,Z","ACTIVIDADES,Z","DESEMBARCO,W","DESEMBARCO,W","DESEMBARCO,W","DESEMBARCO,W","DESEMBARCO,W","DESEMBARCO,W","DESEMBARCO,W","DESEMBARCO,W","DESEMBARCO,X","DESEMBARCO,X","DESEMBARCO,X","DESEMBARCO,X","DESEMBARCO,X","DESEMBARCO,X","DESEMBARCO,Y","COSTOS,K","COSTOS,K"]
[null,"ID_METODO"]
[null,"VALOR","ACTIVIDADES,F","ACTIVIDADES,R","ACTIVIDADES,G","ACTIVIDADES,P","ACTIVIDADES,K","ACTIVIDADES,I","ACTIVIDADES,L","ACTIVIDADES,S","ACTIVIDADES,U","ACTIVIDADES,V","ACTIVIDADES,T","ACTIVIDADES,X","DESEMBARCO,AL","DESEMBARCO,A","DESEMBARCO,F","DESEMBARCO,D","DESEMBARCO,J","DESEMBARCO,K","DESEMBARCO,L","DESEMBARCO,C","DESEMBARCO,T","DESEMBARCO,U","DESEMBARCO,M","DESEMBARCO,R","DESEMBARCO,N","DESEMBARCO,P","DESEMBARCO,AI","COSTOS,J","COSTOS,D"]
[null,"QUALITY_FLAG"]
[null,"PRECISION"]
[null,"cantidad",300,300,300,300,300,300,300,300,300,300,300,300,300,300,300,300,300,300,300,300,300,300,300,300,300,300,300,300,300]
["autoria","ID_FUNCIONARIO","DIGITADOR,B,2","DIGITADOR,B,2","DIGITADOR,B,2","DESEMBARCO,C","DIGITADOR,B,2","DESEMBARCO,C","DIGITADOR,B,2","DESEMBARCO,C","DIGITADOR,B,2","DIGITADOR,B,2"]
[null,"ID_TAREA",5,4,5,4,5,4,5,4,5,4]
[null,"ORDEN",1,2,3,4,5,6,7,8,9,10]
[null,"FECHA","DIGITADOR,B,7","ACTIVIDADES,K","DIGITADOR,B,7","DESEMBARCO,D","DIGITADOR,B,7","DESEMBARCO,D","DIGITADOR,B,7","DESEMBARCO,D","COSTOS,E","COSTOS,E"]
[null,"ID_MUESTREO","ACTIVIDADES,AC","ACTIVIDADES,AC","DESEMBARCO,AB","DESEMBARCO,AB","DESEMBARCO,AC","DESEMBARCO,AC","DESEMBARCO,AD","DESEMBARCO,AD","COSTOS,I","COSTOS,I"]
[null,"ENTIDAD","DIGITADOR,B,4","DIGITADOR,B,4","DIGITADOR,B,4","DIGITADOR,B,4","DIGITADOR,B,4","DIGITADOR,B,4","DIGITADOR,B,4","DIGITADOR,B,4","DIGITADOR,B,4","DIGITADOR,B,4"]
[null,"cantidad",350,350,350,350,350,350,350,350,350,350]
[]
["REGISTROS GENERADOS",null,"REGISTROS CARGADOS"]
["MUESTREOS"]
["parametro muestreo"]
["muestra"]
["muestra variable"]
["autoria"]
["registros correctos"]
["Fecha de carga"]
["json error"]
["error"]
[]
[]
["Atributo","Descripción","Código"]
["Tipo Nodo","Region",{"$f":"VLOOKUP(B59,'Otras referencias'!A17:C27,2,FALSE)","v":50}]
[]
[]
["CONFIGURACION REFERENTES"]
["Ruta de la API","Endpoint","Descripción"]
["URL - AGM Campo",{"$f":"CONCATENATE(\"parametros/agmcampo/\",$C$4,\"\")","v":"parametros/agmcampo/825"},"Listado de referentes AGM_CAMPO"]
["URL - Especies",{"$f":"IF($C$8=\"\",\"\",CONCATENATE(\"especies/filt/\",$C$9,\",\",$C$8,\"/\"))","v":"especies/filt/3453,828/"},"Especies por proyecto\n(No todos los proyectos tienen asociados una lista de especies)"]
["URL - Estaciones",{"$f":"CONCATENATE(\"estaciones/\", $C$59, \"/\",$C$9,\"\")","v":"estaciones/50/3453"},"Estaciones/parcelas por proyecto, cambia dependiendo del Tipo de Nodo, cuyo estado sea VIGENTE."]
["URL - Usuarios",{"$f":"CONCATENATE(\"parametros/usersByProject/\",$C$7,\"\")","v":"parametros/usersByProject/3453"},"Usuarios por proyecto."]
["URL - Entidades","estaciones/get-entidades","Listado de entidades."]
["Atributos de la API","codigo_in","nombre_in"]
["Rango de atributos de la API","B69:C70","nombre_in"]
["URL - Plantillas","plantillas/","Endpoint para la carga de datos al sistema."]

{"sheet":"DIGITADOR","index":2,"n_rows":25,"n_cols":4,"rows_kept":25,"cut":false,"hidden":false,"merged":[[16,0,16,1],[11,3,13,9],[5,0,6,0],[0,0,0,1],[0,3,5,9],[6,3,8,9],[9,3,10,9],[12,0,12,1]]}
["Recolección de Datos SIPEIN INDUSTRIAL - Actividades, Captura y Esfuerzo",null,null,"Recomendaciones generales: \n¡Precaución! No inserte Filas o Columnas.\nEn los casos en que falte un valor a ingresar que provenga de la hoja de referencias, informe para que el administrador del sistema haga las adiciones necesarias.\nEsta es una plantilla programada. Las columnas de color oscuro se llenan automaticamente, principalmente a partir de los contenidos de la hoja de referencias. \nNO UTILICE PUNTO Y COMA (;) en ningun campo, por ser el separador de variables (columnas). Tampoco escriba las unidades de medida, no son necesarias.\nPara el correcto funcionamiento de la hoja debe estar activa la opcion de Excel de ejecutar macros (al abrir la hoja acepte la opcion habilitar macros, mensaje de Excel que aparece en la parte superior de la hoja en un recuadro amarillo). La extensión del archivo debe ser .xlsm\nSe recomienda renombrar el archivo de la siguiente manera: SIMAC_Gorgonaceos_NombreEstacion_FechaMonitoreo.xlsm"]
["Código Digitador",{"$f":"IF(B3=\"\",\"\",INDEX(referentes!Y:Z,MATCH(B3,referentes!Z:Z,0),1))","v":""}]
["Nombre del responsable"]
["Entidad","INVEMAR"]
["Versión de la plantilla",{"$f":"'Registro de cambios'!$D$4","v":"20241021i"}]
["Fecha en la que ingresa los datos en esta hoja","DD/MM/AAAA"]
[null,"3000-12-12",null,"Previamente a iniciar el llenado de la plantilla, debe presionar el botón \"Descargar referentes\" para que los referentes de ésta plantilla sean actualizados. \nLuego de llenar completamente la plantilla, haga clic sobre el botón \"Generar tablas\" para que los datos sean organizados antes de cargarlos al Sistema de Información.\nAntes de presionar el botón \"Generar tablas\" verifique que:\na. No haya celdas con valores como \"#N/A\" o \"#¡REF!\"\nb. No se esten aplicando filtros en la hoja de datos \nPara finalizar, presione el botón \"Cargar datos\"."]
["Nombre del archivo",{"$f":"MID(CELL(\"FILENAME\",N63),FIND(\"[\",CELL(\"FILENAME\",N63))+1,   FIND(\"]\",CELL(\"FILENAME\",N63))-FIND(\"[\",CELL(\"FILENAME\",N63))-1)","v":"SIPEIN_Actividades_Captura_Esfuerzo_20241021i.xlsm"}]
["Cod_Proyecto",3453]
["Nombre","Sistema de Información Pesquera Industrial de Invemar",null,"Si requiere ayuda contacte a:\nKevin S. Moreno (kevin.moreno@invemar.org.co)  - Apoyo técnico software"]
[]
[null,null,null,"El custodio de los datos es el único autorizado para distribuir este conjunto de datos. El observador y el digitador se comprometen a tomar las medidas necesarias para salvaguardar este conjunto de datos de modo que copia de los mismos no sean obtenidas y/o usadas por terceros no relacionados con el propósito para la cual se recolectó."]
["ATRIBUTOS ADICIONALES"]
["Observaciones generales"]
[]
[]
["REGISTROS GENERADOS",null,"CARGADOS"]
["Muestreos",{"$f":"IF(configuracion!B47=\"\",\"\",configuracion!B47)","v":""},{"$f":"IF(configuracion!C47=\"\",\"\",configuracion!C47)","v":""}]
["Parámetros del muestreo",{"$f":"IF(configuracion!B48=\"\",\"\",configuracion!B48)","v":""},{"$f":"IF(configuracion!C48=\"\",\"\",configuracion!C48)","v":""}]
["Registros",{"$f":"IF(configuracion!B49=\"\",\"\",configuracion!B49)","v":""},{"$f":"IF(configuracion!C49=\"\",\"\",configuracion!C49)","v":""}]
["Variables",{"$f":"IF(configuracion!B50=\"\",\"\",configuracion!B50)","v":""},{"$f":"IF(configuracion!C50=\"\",\"\",configuracion!C50)","v":""}]
["Autorías",{"$f":"IF(configuracion!B51=\"\",\"\",configuracion!B51)","v":""},{"$f":"IF(configuracion!C51=\"\",\"\",configuracion!C51)","v":""}]
["Registros correctos",{"$f":"IF(configuracion!B52=\"\",\"\",configuracion!B52)","v":""},{"$f":"IF(configuracion!C52=\"\",\"\",configuracion!C52)","v":""}]
["json error",{"$f":"IF(configuracion!B53=\"\",\"\",configuracion!B53)","v":""},{"$f":"IF(configuracion!C53=\"\",\"\",configuracion!C53)","v":""}]
["error",{"$f":"IF(configuracion!B54=\"\",\"\",configuracion!B54)","v":""},{"$f":"IF(configuracion!C54=\"\",\"\",configuracion!C54)","v":""}]

{"sheet":"ACTIVIDADES","index":3,"n_rows":304,"n_cols":30,"rows_kept":304,"cut":false,"hidden":false,"merged":[[0,28,3,28],[0,29,3,29],[0,26,3,26],[0,27,3,27],[0,4,2,5],[0,16,2,23],[0,6,2,6],[1,2,3,2],[0,8,2,8],[0,10,2,11],[0,12,2,15],[0,24,3,24]]}
[{"$f":"DIGITADOR!B7+ACTIVIDADES!K5","v":"3000-12-12"},null,null,null,null,null,"CONTROL",null,null,null,"Fecha",null,"Lugar",null,null,null,"Información General",null,null,null,null,null,null,null,"ID_MUESTRA",null,"CONSECUTIVO","ID_MUESTREO (AGD_MUESTREOS)",826,"COD_MUESTREO 826"]
[{"$f":"TEXT(A1,\"yyyymmdd\")","v":"30001212"},null,"CODIGO"]
[]
[null,null,null,"CODMUESTREO","ACTIVIDAD MONITOREADA","COD ACTIVIDAD MONITOREADA","REGISTRO","ID_CONTROL","CODCAPTURA","CODCAPTURA_BD","FECHA DE ZARPE","FECHA DE ARRIBO","SITIO DE DESEMBARQUE","CODBDD","TIPO DE PESQUERÍA","COD","EMBARCACIÓN","COD EMBARCACIÓN","DÍAS FUERA DE PUERTO","DÍAS DE NO PESCA","FECHA ZARPE REAL","FECHA ARRIBO REAL","ACTIVIDAD VALIDAD","COD ACTIVIDAD VALIDAD",null,826]
[{"$f":"A2","v":"30001212"},{"$f":"DIGITADOR!$B$2","v":""},1,{"$f":"IF(G5<>\"\",CONCATENATE(B5,A5,DIGITADOR!$M$1,C5,G5),\"\")","v":""},null,{"$f":"IF(E5=\"\",\"\",IF(E5=FALSE,0,-1))","v":""},null,{"$f":"IF(G5=\"\",\"\",D5)","v":""},{"$f":"IF(ACTIVIDADES!K5<>\"\",CONCATENATE(B5,A5,DIGITADOR!$M$1,ACTIVIDADES!N5,C5),\"\")","v":""},{"$f":"IF(G5<>\"\",CONCATENATE(B5,A5,DIGITADOR!$M$1,ACTIVIDADES!N5,C5),\"\")","v":""},null,null,null,{"$f":"IF(M5=\"\",\"\",INDEX(referentes!AN:AQ,MATCH(M5,referentes!AQ:AQ,0),1))","v":""},null,{"$f":"IF(O5=\"\",\"\",INDEX(referentes!A:B,MATCH(O5,referentes!B:B,0),1))","v":""},null,{"$f":"IF(Q5=\"\",\"\",INDEX(referentes!D:E,MATCH(Q5,referentes!E:E,0),1))","v":""},{"$f":"IF(U5=\"\",IF(K5=\"\",\"\",IF(L5=\"\",0,L5-K5)),IF(U5=\"\",\"\",IF(V5=\"\",0,V5-U5)))","v":""},null,null,null,null,{"$f":"IF(W5=\"\",\"\",IF(W5=FALSE,0,-1))","v":""},{"$f":"IF(D5=\"\",\"\",CONCATENATE(D5,AA5))","v":""},{"$f":"IF(Y5=\"\",\"\",CONCATENATE(Y5,$Z$4))","v":""},1,{"$f":"IF(ACTIVIDADES!G5<>\"\",D5,\"\")","v":""},{"$f":"IF(AB5=\"\",\"\",CONCATENATE(AB5,$AC$1))","v":""},{"$f":"IF(D5=\"\",\"\",CONCATENATE(D5,$AC$1))","v":""}]
[{"$f":"A5","v":"30001212"},{"$f":"DIGITADOR!$B$2","v":""},{"$f":"IF(G6=G5,C5,C5+1)","v":1},{"$f":"IF(G6<>\"\",CONCATENATE(B6,A6,DIGITADOR!$M$1,C6,G6),\"\")","v":""},null,{"$f":"IF(E6=\"\",\"\",IF(E6=FALSE,0,-1))","v":""},null,{"$f":"IF(G6=\"\",\"\",D6)","v":""},{"$f":"IF(ACTIVIDADES!K6<>\"\",CONCATENATE(B6,A6,DIGITADOR!$M$1,ACTIVIDADES!N6,C6),\"\")","v":""},{"$f":"IF(G6=\"\",\"\",IF(D6=D5,\"\",CONCATENATE(B6,A6,DIGITADOR!$M$1,ACTIVIDADES!N6,C6)))","v":""},null,null,null,{"$f":"IF(M6=\"\",\"\",INDEX(referentes!AN:AQ,MATCH(M6,referentes!AQ:AQ,0),1))","v":""},null,{"$f":"IF(O6=\"\",\"\",INDEX(referentes!A:B,MATCH(O6,referentes!B:B,0),1))","v":""},null,{"$f":"IF(Q6=\"\",\"\",INDEX(referentes!D:E,MATCH(Q6,referentes!E:E,0),1))","v":""},"",null,null,null,null,{"$f":"IF(W6=\"\",\"\",IF(W6=FALSE,0,-1))","v":""},"",{"$f":"IF(Y6=\"\",\"\",CONCATENATE(Y6,$Z$4))","v":""},2,{"$f":"IF(G6=G5,\"\",D6)","v":""},"",""]
["30001212",{"$f":"DIGITADOR!$B$2","v":""},1,{"$f":"IF(G7<>\"\",CONCATENATE(B7,A7,DIGITADOR!$M$1,C7,G7),\"\")","v":""},null,"",null,{"$f":"IF(G7=\"\",\"\",D7)","v":""},{"$f":"IF(ACTIVIDADES!K7<>\"\",CONCATENATE(B7,A7,DIGITADOR!$M$1,ACTIVIDADES!N7,C7),\"\")","v":""},{"$f":"IF(G7=\"\",\"\",IF(D7=D6,\"\",CONCATENATE(B7,A7,DIGITADOR!$M$1,ACTIVIDADES!N7,C7)))","v":""},null,null,null,{"$f":"IF(M7=\"\",\"\",INDEX(referentes!AN:AQ,MATCH(M7,referentes!AQ:AQ,0),1))","v":""},null,{"$f":"IF(O7=\"\",\"\",INDEX(referentes!A:B,MATCH(O7,referentes!B:B,0),1))","v":""},null,{"$f":"IF(Q7=\"\",\"\",INDEX(referentes!D:E,MATCH(Q7,referentes!E:E,0),1))","v":""},"",null,null,null,null,"","","",3,"","",""]
["30001212",{"$f":"DIGITADOR!$B$2","v":""},1,{"$f":"IF(G8<>\"\",CONCATENATE(B8,A8,DIGITADOR!$M$1,C8,G8),\"\")","v":""},null,"",null,"",{"$f":"IF(ACTIVIDADES!K8<>\"\",CONCATENATE(B8,A8,DIGITADOR!$M$1,ACTIVIDADES!N8,C8),\"\")","v":""},{"$f":"IF(G8=\"\",\"\",IF(D8=D7,\"\",CONCATENATE(B8,A8,DIGITADOR!$M$1,ACTIVIDADES!N8,C8)))","v":""},null,null,null,{"$f":"IF(M8=\"\",\"\",INDEX(referentes!AN:AQ,MATCH(M8,referentes!AQ:AQ,0),1))","v":""},null,{"$f":"IF(O8=\"\",\"\",INDEX(referentes!A:B,MATCH(O8,referentes!B:B,0),1))","v":""},null,{"$f":"IF(Q8=\"\",\"\",INDEX(referentes!D:E,MATCH(Q8,referentes!E:E,0),1))","v":""},"",null,null,null,null,"","","",4,"","",""]
["30001212",{"$f":"DIGITADOR!$B$2","v":""},1,{"$f":"IF(G9<>\"\",CONCATENATE(B9,A9,DIGITADOR!$M$1,C9,G9),\"\")","v":""},null,"",null,"",{"$f":"IF(ACTIVIDADES!K9<>\"\",CONCATENATE(B9,A9,DIGITADOR!$M$1,ACTIVIDADES!N9,C9),\"\")","v":""},{"$f":"IF(G9=\"\",\"\",IF(D9=D8,\"\",CONCATENATE(B9,A9,DIGITADOR!$M$1,ACTIVIDADES!N9,C9)))","v":""},null,null,null,{"$f":"IF(M9=\"\",\"\",INDEX(referentes!AN:AQ,MATCH(M9,referentes!AQ:AQ,0),1))","v":""},null,{"$f":"IF(O9=\"\",\"\",INDEX(referentes!A:B,MATCH(O9,referentes!B:B,0),1))","v":""},null,{"$f":"IF(Q9=\"\",\"\",INDEX(referentes!D:E,MATCH(Q9,referentes!E:E,0),1))","v":""},"",null,null,null,null,"","","",5,"","",""]
["30001212",{"$f":"DIGITADOR!$B$2","v":""},1,{"$f":"IF(G10<>\"\",CONCATENATE(B10,A10,DIGITADOR!$M$1,C10,G10),\"\")","v":""},null,"",null,"",{"$f":"IF(ACTIVIDADES!K10<>\"\",CONCATENATE(B10,A10,DIGITADOR!$M$1,ACTIVIDADES!N10,C10),\"\")","v":""},{"$f":"IF(G10=\"\",\"\",IF(D10=D9,\"\",CONCATENATE(B10,A10,DIGITADOR!$M$1,ACTIVIDADES!N10,C10)))","v":""},null,null,null,{"$f":"IF(M10=\"\",\"\",INDEX(referentes!AN:AQ,MATCH(M10,referentes!AQ:AQ,0),1))","v":""},null,{"$f":"IF(O10=\"\",\"\",INDEX(referentes!A:B,MATCH(O10,referentes!B:B,0),1))","v":""},null,{"$f":"IF(Q10=\"\",\"\",INDEX(referentes!D:E,MATCH(Q10,referentes!E:E,0),1))","v":""},"",null,null,null,null,"","","",6,"","",""]
["30001212",{"$f":"DIGITADOR!$B$2","v":""},1,{"$f":"IF(G11<>\"\",CONCATENATE(B11,A11,DIGITADOR!$M$1,C11,G11),\"\")","v":""},null,"",null,"",{"$f":"IF(ACTIVIDADES!K11<>\"\",CONCATENATE(B11,A11,DIGITADOR!$M$1,ACTIVIDADES!N11,C11),\"\")","v":""},{"$f":"IF(G11=\"\",\"\",IF(D11=D10,\"\",CONCATENATE(B11,A11,DIGITADOR!$M$1,ACTIVIDADES!N11,C11)))","v":""},null,null,null,{"$f":"IF(M11=\"\",\"\",INDEX(referentes!AN:AQ,MATCH(M11,referentes!AQ:AQ,0),1))","v":""},null,{"$f":"IF(O11=\"\",\"\",INDEX(referentes!A:B,MATCH(O11,referentes!B:B,0),1))","v":""},null,{"$f":"IF(Q11=\"\",\"\",INDEX(referentes!D:E,MATCH(Q11,referentes!E:E,0),1))","v":""},"",null,null,null,null,"","","",7,"","",""]
["30001212",{"$f":"DIGITADOR!$B$2","v":""},1,{"$f":"IF(G12<>\"\",CONCATENATE(B12,A12,DIGITADOR!$M$1,C12,G12),\"\")","v":""},null,"",null,"",{"$f":"IF(ACTIVIDADES!K12<>\"\",CONCATENATE(B12,A12,DIGITADOR!$M$1,ACTIVIDADES!N12,C12),\"\")","v":""},{"$f":"IF(G12=\"\",\"\",IF(D12=D11,\"\",CONCATENATE(B12,A12,DIGITADOR!$M$1,ACTIVIDADES!N12,C12)))","v":""},null,null,null,{"$f":"IF(M12=\"\",\"\",INDEX(referentes!AN:AQ,MATCH(M12,referentes!AQ:AQ,0),1))","v":""},null,{"$f":"IF(O12=\"\",\"\",INDEX(referentes!A:B,MATCH(O12,referentes!B:B,0),1))","v":""},null,{"$f":"IF(Q12=\"\",\"\",INDEX(referentes!D:E,MATCH(Q12,referentes!E:E,0),1))","v":""},"",null,null,null,null,"","","",8,"","",""]
["30001212",{"$f":"DIGITADOR!$B$2","v":""},1,{"$f":"IF(G13<>\"\",CONCATENATE(B13,A13,DIGITADOR!$M$1,C13,G13),\"\")","v":""},null,"",null,"",{"$f":"IF(ACTIVIDADES!K13<>\"\",CONCATENATE(B13,A13,DIGITADOR!$M$1,ACTIVIDADES!N13,C13),\"\")","v":""},{"$f":"IF(G13=\"\",\"\",IF(D13=D12,\"\",CONCATENATE(B13,A13,DIGITADOR!$M$1,ACTIVIDADES!N13,C13)))","v":""},null,null,null,{"$f":"IF(M13=\"\",\"\",INDEX(referentes!AN:AQ,MATCH(M13,referentes!AQ:AQ,0),1))","v":""},null,{"$f":"IF(O13=\"\",\"\",INDEX(referentes!A:B,MATCH(O13,referentes!B:B,0),1))","v":""},null,{"$f":"IF(Q13=\"\",\"\",INDEX(referentes!D:E,MATCH(Q13,referentes!E:E,0),1))","v":""},"",null,null,null,null,"","","",9,"","",""]
["30001212",{"$f":"DIGITADOR!$B$2","v":""},1,{"$f":"IF(G14<>\"\",CONCATENATE(B14,A14,DIGITADOR!$M$1,C14,G14),\"\")","v":""},null,"",null,"",{"$f":"IF(ACTIVIDADES!K14<>\"\",CONCATENATE(B14,A14,DIGITADOR!$M$1,ACTIVIDADES!N14,C14),\"\")","v":""},{"$f":"IF(G14=\"\",\"\",IF(D14=D13,\"\",CONCATENATE(B14,A14,DIGITADOR!$M$1,ACTIVIDADES!N14,C14)))","v":""},null,null,null,{"$f":"IF(M14=\"\",\"\",INDEX(referentes!AN:AQ,MATCH(M14,referentes!AQ:AQ,0),1))","v":""},null,{"$f":"IF(O14=\"\",\"\",INDEX(referentes!A:B,MATCH(O14,referentes!B:B,0),1))","v":""},null,{"$f":"IF(Q14=\"\",\"\",INDEX(referentes!D:E,MATCH(Q14,referentes!E:E,0),1))","v":""},"",null,null,null,null,"","","",10,"","",""]
["30001212",{"$f":"DIGITADOR!$B$2","v":""},1,{"$f":"IF(G15<>\"\",CONCATENATE(B15,A15,DIGITADOR!$M$1,C15,G15),\"\")","v":""},null,"",null,"",{"$f":"IF(ACTIVIDADES!K15<>\"\",CONCATENATE(B15,A15,DIGITADOR!$M$1,ACTIVIDADES!N15,C15),\"\")","v":""},{"$f":"IF(G15=\"\",\"\",IF(D15=D14,\"\",CONCATENATE(B15,A15,DIGITADOR!$M$1,ACTIVIDADES!N15,C15)))","v":""},null,null,null,{"$f":"IF(M15=\"\",\"\",INDEX(referentes!AN:AQ,MATCH(M15,referentes!AQ:AQ,0),1))","v":""},null,{"$f":"IF(O15=\"\",\"\",INDEX(referentes!A:B,MATCH(O15,referentes!B:B,0),1))","v":""},null,{"$f":"IF(Q15=\"\",\"\",INDEX(referentes!D:E,MATCH(Q15,referentes!E:E,0),1))","v":""},"",null,null,null,null,"","","",11,"","",""]
["30001212",{"$f":"DIGITADOR!$B$2","v":""},1,{"$f":"IF(G16<>\"\",CONCATENATE(B16,A16,DIGITADOR!$M$1,C16,G16),\"\")","v":""},null,"",null,"",{"$f":"IF(ACTIVIDADES!K16<>\"\",CONCATENATE(B16,A16,DIGITADOR!$M$1,ACTIVIDADES!N16,C16),\"\")","v":""},{"$f":"IF(G16=\"\",\"\",IF(D16=D15,\"\",CONCATENATE(B16,A16,DIGITADOR!$M$1,ACTIVIDADES!N16,C16)))","v":""},null,null,null,{"$f":"IF(M16=\"\",\"\",INDEX(referentes!AN:AQ,MATCH(M16,referentes!AQ:AQ,0),1))","v":""},null,{"$f":"IF(O16=\"\",\"\",INDEX(referentes!A:B,MATCH(O16,referentes!B:B,0),1))","v":""},null,{"$f":"IF(Q16=\"\",\"\",INDEX(referentes!D:E,MATCH(Q16,referentes!E:E,0),1))","v":""},"",null,null,null,null,"","","",12,"","",""]
["30001212",{"$f":"DIGITADOR!$B$2","v":""},1,{"$f":"IF(G17<>\"\",CONCATENATE(B17,A17,DIGITADOR!$M$1,C17,G17),\"\")","v":""},null,"",null,"",{"$f":"IF(ACTIVIDADES!K17<>\"\",CONCATENATE(B17,A17,DIGITADOR!$M$1,ACTIVIDADES!N17,C17),\"\")","v":""},{"$f":"IF(G17=\"\",\"\",IF(D17=D16,\"\",CONCATENATE(B17,A17,DIGITADOR!$M$1,ACTIVIDADES!N17,C17)))","v":""},null,null,null,{"$f":"IF(M17=\"\",\"\",INDEX(referentes!AN:AQ,MATCH(M17,referentes!AQ:AQ,0),1))","v":""},null,{"$f":"IF(O17=\"\",\"\",INDEX(referentes!A:B,MATCH(O17,referentes!B:B,0),1))","v":""},null,{"$f":"IF(Q17=\"\",\"\",INDEX(referentes!D:E,MATCH(Q17,referentes!E:E,0),1))","v":""},"",null,null,null,null,"","","",13,"","",""]
["30001212",{"$f":"DIGITADOR!$B$2","v":""},1,{"$f":"IF(G18<>\"\",CONCATENATE(B18,A18,DIGITADOR!$M$1,C18,G18),\"\")","v":""},null,"",null,"",{"$f":"IF(ACTIVIDADES!K18<>\"\",CONCATENATE(B18,A18,DIGITADOR!$M$1,ACTIVIDADES!N18,C18),\"\")","v":""},{"$f":"IF(G18=\"\",\"\",IF(D18=D17,\"\",CONCATENATE(B18,A18,DIGITADOR!$M$1,ACTIVIDADES!N18,C18)))","v":""},null,null,null,{"$f":"IF(M18=\"\",\"\",INDEX(referentes!AN:AQ,MATCH(M18,referentes!AQ:AQ,0),1))","v":""},null,{"$f":"IF(O18=\"\",\"\",INDEX(referentes!A:B,MATCH(O18,referentes!B:B,0),1))","v":""},null,{"$f":"IF(Q18=\"\",\"\",INDEX(referentes!D:E,MATCH(Q18,referentes!E:E,0),1))","v":""},"",null,null,null,null,"","","",14,"","",""]
["30001212",{"$f":"DIGITADOR!$B$2","v":""},1,{"$f":"IF(G19<>\"\",CONCATENATE(B19,A19,DIGITADOR!$M$1,C19,G19),\"\")","v":""},null,"",null,"",{"$f":"IF(ACTIVIDADES!K19<>\"\",CONCATENATE(B19,A19,DIGITADOR!$M$1,ACTIVIDADES!N19,C19),\"\")","v":""},{"$f":"IF(G19=\"\",\"\",IF(D19=D18,\"\",CONCATENATE(B19,A19,DIGITADOR!$M$1,ACTIVIDADES!N19,C19)))","v":""},null,null,null,{"$f":"IF(M19=\"\",\"\",INDEX(referentes!AN:AQ,MATCH(M19,referentes!AQ:AQ,0),1))","v":""},null,{"$f":"IF(O19=\"\",\"\",INDEX(referentes!A:B,MATCH(O19,referentes!B:B,0),1))","v":""},null,{"$f":"IF(Q19=\"\",\"\",INDEX(referentes!D:E,MATCH(Q19,referentes!E:E,0),1))","v":""},"",null,null,null,null,"","","",15,"","",""]
["30001212",{"$f":"DIGITADOR!$B$2","v":""},1,{"$f":"IF(G20<>\"\",CONCATENATE(B20,A20,DIGITADOR!$M$1,C20,G20),\"\")","v":""},null,"",null,"",{"$f":"IF(ACTIVIDADES!K20<>\"\",CONCATENATE(B20,A20,DIGITADOR!$M$1,ACTIVIDADES!N20,C20),\"\")","v":""},{"$f":"IF(G20=\"\",\"\",IF(D20=D19,\"\",CONCATENATE(B20,A20,DIGITADOR!$M$1,ACTIVIDADES!N20,C20)))","v":""},null,null,null,{"$f":"IF(M20=\"\",\"\",INDEX(referentes!AN:AQ,MATCH(M20,referentes!AQ:AQ,0),1))","v":""},null,{"$f":"IF(O20=\"\",\"\",INDEX(referentes!A:B,MATCH(O20,referentes!B:B,0),1))","v":""},null,{"$f":"IF(Q20=\"\",\"\",INDEX(referentes!D:E,MATCH(Q20,referentes!E:E,0),1))","v":""},"",null,null,null,null,"","","",16,"","",""]
["30001212",{"$f":"DIGITADOR!$B$2","v":""},1,{"$f":"IF(G21<>\"\",CONCATENATE(B21,A21,DIGITADOR!$M$1,C21,G21),\"\")","v":""},null,"",null,"",{"$f":"IF(ACTIVIDADES!K21<>\"\",CONCATENATE(B21,A21,DIGITADOR!$M$1,ACTIVIDADES!N21,C21),\"\")","v":""},{"$f":"IF(G21=\"\",\"\",IF(D21=D20,\"\",CONCATENATE(B21,A21,DIGITADOR!$M$1,ACTIVIDADES!N21,C21)))","v":""},null,null,null,{"$f":"IF(M21=\"\",\"\",INDEX(referentes!AN:AQ,MATCH(M21,referentes!AQ:AQ,0),1))","v":""},null,{"$f":"IF(O21=\"\",\"\",INDEX(referentes!A:B,MATCH(O21,referentes!B:B,0),1))","v":""},null,{"$f":"IF(Q21=\"\",\"\",INDEX(referentes!D:E,MATCH(Q21,referentes!E:E,0),1))","v":""},"",null,null,null,null,"","","",17,"","",""]
["30001212",{"$f":"DIGITADOR!$B$2","v":""},1,{"$f":"IF(G22<>\"\",CONCATENATE(B22,A22,DIGITADOR!$M$1,C22,G22),\"\")","v":""},null,"",null,"",{"$f":"IF(ACTIVIDADES!K22<>\"\",CONCATENATE(B22,A22,DIGITADOR!$M$1,ACTIVIDADES!N22,C22),\"\")","v":""},{"$f":"IF(G22=\"\",\"\",IF(D22=D21,\"\",CONCATENATE(B22,A22,DIGITADOR!$M$1,ACTIVIDADES!N22,C22)))","v":""},null,null,null,{"$f":"IF(M22=\"\",\"\",INDEX(referentes!AN:AQ,MATCH(M22,referentes!AQ:AQ,0),1))","v":""},null,{"$f":"IF(O22=\"\",\"\",INDEX(referentes!A:B,MATCH(O22,referentes!B:B,0),1))","v":""},null,{"$f":"IF(Q22=\"\",\"\",INDEX(referentes!D:E,MATCH(Q22,referentes!E:E,0),1))","v":""},"",null,null,null,null,"","","",18,"","",""]
["30001212",{"$f":"DIGITADOR!$B$2","v":""},1,{"$f":"IF(G23<>\"\",CONCATENATE(B23,A23,DIGITADOR!$M$1,C23,G23),\"\")","v":""},null,"",null,"",{"$f":"IF(ACTIVIDADES!K23<>\"\",CONCATENATE(B23,A23,DIGITADOR!$M$1,ACTIVIDADES!N23,C23),\"\")","v":""},{"$f":"IF(G23=\"\",\"\",IF(D23=D22,\"\",CONCATENATE(B23,A23,DIGITADOR!$M$1,ACTIVIDADES!N23,C23)))","v":""},null,null,null,{"$f":"IF(M23=\"\",\"\",INDEX(referentes!AN:AQ,MATCH(M23,referentes!AQ:AQ,0),1))","v":""},null,{"$f":"IF(O23=\"\",\"\",INDEX(referentes!A:B,MATCH(O23,referentes!B:B,0),1))","v":""},null,{"$f":"IF(Q23=\"\",\"\",INDEX(referentes!D:E,MATCH(Q23,referentes!E:E,0),1))","v":""},"",null,null,null,null,"","","",19,"","",""]
["30001212",{"$f":"DIGITADOR!$B$2","v":""},1,{"$f":"IF(G24<>\"\",CONCATENATE(B24,A24,DIGITADOR!$M$1,C24,G24),\"\")","v":""},null,"",null,"",{"$f":"IF(ACTIVIDADES!K24<>\"\",CONCATENATE(B24,A24,DIGITADOR!$M$1,ACTIVIDADES!N24,C24),\"\")","v":""},{"$f":"IF(G24=\"\",\"\",IF(D24=D23,\"\",CONCATENATE(B24,A24,DIGITADOR!$M$1,ACTIVIDADES!N24,C24)))","v":""},null,null,null,{"$f":"IF(M24=\"\",\"\",INDEX(referentes!AN:AQ,MATCH(M24,referentes!AQ:AQ,0),1))","v":""},null,{"$f":"IF(O24=\"\",\"\",INDEX(referentes!A:B,MATCH(O24,referentes!B:B,0),1))","v":""},null,{"$f":"IF(Q24=\"\",\"\",INDEX(referentes!D:E,MATCH(Q24,referentes!E:E,0),1))","v":""},"",null,null,null,null,"","","",20,"","",""]
["30001212",{"$f":"DIGITADOR!$B$2","v":""},1,{"$f":"IF(G25<>\"\",CONCATENATE(B25,A25,DIGITADOR!$M$1,C25,G25),\"\")","v":""},null,"",null,"",{"$f":"IF(ACTIVIDADES!K25<>\"\",CONCATENATE(B25,A25,DIGITADOR!$M$1,ACTIVIDADES!N25,C25),\"\")","v":""},{"$f":"IF(G25=\"\",\"\",IF(D25=D24,\"\",CONCATENATE(B25,A25,DIGITADOR!$M$1,ACTIVIDADES!N25,C25)))","v":""},null,null,null,{"$f":"IF(M25=\"\",\"\",INDEX(referentes!AN:AQ,MATCH(M25,referentes!AQ:AQ,0),1))","v":""},null,{"$f":"IF(O25=\"\",\"\",INDEX(referentes!A:B,MATCH(O25,referentes!B:B,0),1))","v":""},null,{"$f":"IF(Q25=\"\",\"\",INDEX(referentes!D:E,MATCH(Q25,referentes!E:E,0),1))","v":""},"",null,null,null,null,"","","",21,"","",""]
["30001212",{"$f":"DIGITADOR!$B$2","v":""},1,{"$f":"IF(G26<>\"\",CONCATENATE(B26,A26,DIGITADOR!$M$1,C26,G26),\"\")","v":""},null,"",null,"",{"$f":"IF(ACTIVIDADES!K26<>\"\",CONCATENATE(B26,A26,DIGITADOR!$M$1,ACTIVIDADES!N26,C26),\"\")","v":""},{"$f":"IF(G26=\"\",\"\",IF(D26=D25,\"\",CONCATENATE(B26,A26,DIGITADOR!$M$1,ACTIVIDADES!N26,C26)))","v":""},null,null,null,{"$f":"IF(M26=\"\",\"\",INDEX(referentes!AN:AQ,MATCH(M26,referentes!AQ:AQ,0),1))","v":""},null,{"$f":"IF(O26=\"\",\"\",INDEX(referentes!A:B,MATCH(O26,referentes!B:B,0),1))","v":""},null,{"$f":"IF(Q26=\"\",\"\",INDEX(referentes!D:E,MATCH(Q26,referentes!E:E,0),1))","v":""},"",null,null,null,null,"","","",22,"","",""]
["30001212",{"$f":"DIGITADOR!$B$2","v":""},1,{"$f":"IF(G27<>\"\",CONCATENATE(B27,A27,DIGITADOR!$M$1,C27,G27),\"\")","v":""},null,"",null,"",{"$f":"IF(ACTIVIDADES!K27<>\"\",CONCATENATE(B27,A27,DIGITADOR!$M$1,ACTIVIDADES!N27,C27),\"\")","v":""},{"$f":"IF(G27=\"\",\"\",IF(D27=D26,\"\",CONCATENATE(B27,A27,DIGITADOR!$M$1,ACTIVIDADES!N27,C27)))","v":""},null,null,null,{"$f":"IF(M27=\"\",\"\",INDEX(referentes!AN:AQ,MATCH(M27,referentes!AQ:AQ,0),1))","v":""},null,{"$f":"IF(O27=\"\",\"\",INDEX(referentes!A:B,MATCH(O27,referentes!B:B,0),1))","v":""},null,{"$f":"IF(Q27=\"\",\"\",INDEX(referentes!D:E,MATCH(Q27,referentes!E:E,0),1))","v":""},"",null,null,null,null,"","","",23,"","",""]
["30001212",{"$f":"DIGITADOR!$B$2","v":""},1,{"$f":"IF(G28<>\"\",CONCATENATE(B28,A28,DIGITADOR!$M$1,C28,G28),\"\")","v":""},null,"",null,"",{"$f":"IF(ACTIVIDADES!K28<>\"\",CONCATENATE(B28,A28,DIGITADOR!$M$1,ACTIVIDADES!N28,C28),\"\")","v":""},{"$f":"IF(G28=\"\",\"\",IF(D28=D27,\"\",CONCATENATE(B28,A28,DIGITADOR!$M$1,ACTIVIDADES!N28,C28)))","v":""},null,null,null,{"$f":"IF(M28=\"\",\"\",INDEX(referentes!AN:AQ,MATCH(M28,referentes!AQ:AQ,0),1))","v":""},null,{"$f":"IF(O28=\"\",\"\",INDEX(referentes!A:B,MATCH(O28,referentes!B:B,0),1))","v":""},null,{"$f":"IF(Q28=\"\",\"\",INDEX(referentes!D:E,MATCH(Q28,referentes!E:E,0),1))","v":""},"",null,null,null,null,"","","",24,"","",""]
["30001212",{"$f":"DIGITADOR!$B$2","v":""},1,{"$f":"IF(G29<>\"\",CONCATENATE(B29,A29,DIGITADOR!$M$1,C29,G29),\"\")","v":""},null,"",null,"",{"$f":"IF(ACTIVIDADES!K29<>\"\",CONCATENATE(B29,A29,DIGITADOR!$M$1,ACTIVIDADES!N29,C29),\"\")","v":""},{"$f":"IF(G29=\"\",\"\",IF(D29=D28,\"\",CONCATENATE(B29,A29,DIGITADOR!$M$1,ACTIVIDADES!N29,C29)))","v":""},null,null,null,{"$f":"IF(M29=\"\",\"\",INDEX(referentes!AN:AQ,MATCH(M29,referentes!AQ:AQ,0),1))","v":""},null,{"$f":"IF(O29=\"\",\"\",INDEX(referentes!A:B,MATCH(O29,referentes!B:B,0),1))","v":""},null,{"$f":"IF(Q29=\"\",\"\",INDEX(referentes!D:E,MATCH(Q29,referentes!E:E,0),1))","v":""},"",null,null,null,null,"","","",25,"","",""]
["30001212",{"$f":"DIGITADOR!$B$2","v":""},1,{"$f":"IF(G30<>\"\",CONCATENATE(B30,A30,DIGITADOR!$M$1,C30,G30),\"\")","v":""},null,"",null,"",{"$f":"IF(ACTIVIDADES!K30<>\"\",CONCATENATE(B30,A30,DIGITADOR!$M$1,ACTIVIDADES!N30,C30),\"\")","v":""},{"$f":"IF(G30=\"\",\"\",IF(D30=D29,\"\",CONCATENATE(B30,A30,DIGITADOR!$M$1,ACTIVIDADES!N30,C30)))","v":""},null,null,null,{"$f":"IF(M30=\"\",\"\",INDEX(referentes!AN:AQ,MATCH(M30,referentes!AQ:AQ,0),1))","v":""},null,{"$f":"IF(O30=\"\",\"\",INDEX(referentes!A:B,MATCH(O30,referentes!B:B,0),1))","v":""},null,{"$f":"IF(Q30=\"\",\"\",INDEX(referentes!D:E,MATCH(Q30,referentes!E:E,0),1))","v":""},"",null,null,null,null,"","","",26,"","",""]
["30001212",{"$f":"DIGITADOR!$B$2","v":""},1,{"$f":"IF(G31<>\"\",CONCATENATE(B31,A31,DIGITADOR!$M$1,C31,G31),\"\")","v":""},null,"",null,"",{"$f":"IF(ACTIVIDADES!K31<>\"\",CONCATENATE(B31,A31,DIGITADOR!$M$1,ACTIVIDADES!N31,C31),\"\")","v":""},{"$f":"IF(G31=\"\",\"\",IF(D31=D30,\"\",CONCATENATE(B31,A31,DIGITADOR!$M$1,ACTIVIDADES!N31,C31)))","v":""},null,null,null,{"$f":"IF(M31=\"\",\"\",INDEX(referentes!AN:AQ,MATCH(M31,referentes!AQ:AQ,0),1))","v":""},null,{"$f":"IF(O31=\"\",\"\",INDEX(referentes!A:B,MATCH(O31,referentes!B:B,0),1))","v":""},null,{"$f":"IF(Q31=\"\",\"\",INDEX(referentes!D:E,MATCH(Q31,referentes!E:E,0),1))","v":""},"",null,null,null,null,"","","",27,"","",""]
["30001212",{"$f":"DIGITADOR!$B$2","v":""},1,{"$f":"IF(G32<>\"\",CONCATENATE(B32,A32,DIGITADOR!$M$1,C32,G32),\"\")","v":""},null,"",null,"",{"$f":"IF(ACTIVIDADES!K32<>\"\",CONCATENATE(B32,A32,DIGITADOR!$M$1,ACTIVIDADES!N32,C32),\"\")","v":""},{"$f":"IF(G32=\"\",\"\",IF(D32=D31,\"\",CONCATENATE(B32,A32,DIGITADOR!$M$1,ACTIVIDADES!N32,C32)))","v":""},null,null,null,{"$f":"IF(M32=\"\",\"\",INDEX(referentes!AN:AQ,MATCH(M32,referentes!AQ:AQ,0),1))","v":""},null,{"$f":"IF(O32=\"\",\"\",INDEX(referentes!A:B,MATCH(O32,referentes!B:B,0),1))","v":""},null,{"$f":"IF(Q32=\"\",\"\",INDEX(referentes!D:E,MATCH(Q32,referentes!E:E,0),1))","v":""},"",null,null,null,null,"","","",28,"","",""]
["30001212",{"$f":"DIGITADOR!$B$2","v":""},1,{"$f":"IF(G33<>\"\",CONCATENATE(B33,A33,DIGITADOR!$M$1,C33,G33),\"\")","v":""},null,"",null,"",{"$f":"IF(ACTIVIDADES!K33<>\"\",CONCATENATE(B33,A33,DIGITADOR!$M$1,ACTIVIDADES!N33,C33),\"\")","v":""},{"$f":"IF(G33=\"\",\"\",IF(D33=D32,\"\",CONCATENATE(B33,A33,DIGITADOR!$M$1,ACTIVIDADES!N33,C33)))","v":""},null,null,null,{"$f":"IF(M33=\"\",\"\",INDEX(referentes!AN:AQ,MATCH(M33,referentes!AQ:AQ,0),1))","v":""},null,{"$f":"IF(O33=\"\",\"\",INDEX(referentes!A:B,MATCH(O33,referentes!B:B,0),1))","v":""},null,{"$f":"IF(Q33=\"\",\"\",INDEX(referentes!D:E,MATCH(Q33,referentes!E:E,0),1))","v":""},"",null,null,null,null,"","","",29,"","",""]
["30001212",{"$f":"DIGITADOR!$B$2","v":""},1,{"$f":"IF(G34<>\"\",CONCATENATE(B34,A34,DIGITADOR!$M$1,C34,G34),\"\")","v":""},null,"",null,"",{"$f":"IF(ACTIVIDADES!K34<>\"\",CONCATENATE(B34,A34,DIGITADOR!$M$1,ACTIVIDADES!N34,C34),\"\")","v":""},{"$f":"IF(G34=\"\",\"\",IF(D34=D33,\"\",CONCATENATE(B34,A34,DIGITADOR!$M$1,ACTIVIDADES!N34,C34)))","v":""},null,null,null,{"$f":"IF(M34=\"\",\"\",INDEX(referentes!AN:AQ,MATCH(M34,referentes!AQ:AQ,0),1))","v":""},null,{"$f":"IF(O34=\"\",\"\",INDEX(referentes!A:B,MATCH(O34,referentes!B:B,0),1))","v":""},null,{"$f":"IF(Q34=\"\",\"\",INDEX(referentes!D:E,MATCH(Q34,referentes!E:E,0),1))","v":""},"",null,null,null,null,"","","",30,"","",""]
["30001212",{"$f":"DIGITADOR!$B$2","v":""},1,{"$f":"IF(G35<>\"\",CONCATENATE(B35,A35,DIGITADOR!$M$1,C35,G35),\"\")","v":""},null,"",null,"",{"$f":"IF(ACTIVIDADES!K35<>\"\",CONCATENATE(B35,A35,DIGITADOR!$M$1,ACTIVIDADES!N35,C35),\"\")","v":""},{"$f":"IF(G35=\"\",\"\",IF(D35=D34,\"\",CONCATENATE(B35,A35,DIGITADOR!$M$1,ACTIVIDADES!N35,C35)))","v":""},null,null,null,{"$f":"IF(M35=\"\",\"\",INDEX(referentes!AN:AQ,MATCH(M35,referentes!AQ:AQ,0),1))","v":""},null,{"$f":"IF(O35=\"\",\"\",INDEX(referentes!A:B,MATCH(O35,referentes!B:B,0),1))","v":""},null,{"$f":"IF(Q35=\"\",\"\",INDEX(referentes!D:E,MATCH(Q35,referentes!E:E,0),1))","v":""},"",null,null,null,null,"","","",31,"","",""]
["30001212",{"$f":"DIGITADOR!$B$2","v":""},1,{"$f":"IF(G36<>\"\",CONCATENATE(B36,A36,DIGITADOR!$M$1,C36,G36),\"\")","v":""},null,"",null,"",{"$f":"IF(ACTIVIDADES!K36<>\"\",CONCATENATE(B36,A36,DIGITADOR!$M$1,ACTIVIDADES!N36,C36),\"\")","v":""},{"$f":"IF(G36=\"\",\"\",IF(D36=D35,\"\",CONCATENATE(B36,A36,DIGITADOR!$M$1,ACTIVIDADES!N36,C36)))","v":""},null,null,null,{"$f":"IF(M36=\"\",\"\",INDEX(referentes!AN:AQ,MATCH(M36,referentes!AQ:AQ,0),1))","v":""},null,{"$f":"IF(O36=\"\",\"\",INDEX(referentes!A:B,MATCH(O36,referentes!B:B,0),1))","v":""},null,{"$f":"IF(Q36=\"\",\"\",INDEX(referentes!D:E,MATCH(Q36,referentes!E:E,0),1))","v":""},"",null,null,null,null,"","","",32,"","",""]
["30001212",{"$f":"DIGITADOR!$B$2","v":""},1,{"$f":"IF(G37<>\"\",CONCATENATE(B37,A37,DIGITADOR!$M$1,C37,G37),\"\")","v":""},null,"",null,"",{"$f":"IF(ACTIVIDADES!K37<>\"\",CONCATENATE(B37,A37,DIGITADOR!$M$1,ACTIVIDADES!N37,C37),\"\")","v":""},{"$f":"IF(G37=\"\",\"\",IF(D37=D36,\"\",CONCATENATE(B37,A37,DIGITADOR!$M$1,ACTIVIDADES!N37,C37)))","v":""},null,null,null,{"$f":"IF(M37=\"\",\"\",INDEX(referentes!AN:AQ,MATCH(M37,referentes!AQ:AQ,0),1))","v":""},null,{"$f":"IF(O37=\"\",\"\",INDEX(referentes!A:B,MATCH(O37,referentes!B:B,0),1))","v":""},null,{"$f":"IF(Q37=\"\",\"\",INDEX(referentes!D:E,MATCH(Q37,referentes!E:E,0),1))","v":""},"",null,null,null,null,"","","",33,"","",""]
["30001212",{"$f":"DIGITADOR!$B$2","v":""},1,{"$f":"IF(G38<>\"\",CONCATENATE(B38,A38,DIGITADOR!$M$1,C38,G38),\"\")","v":""},null,"",null,"",{"$f":"IF(ACTIVIDADES!K38<>\"\",CONCATENATE(B38,A38,DIGITADOR!$M$1,ACTIVIDADES!N38,C38),\"\")","v":""},{"$f":"IF(G38=\"\",\"\",IF(D38=D37,\"\",CONCATENATE(B38,A38,DIGITADOR!$M$1,ACTIVIDADES!N38,C38)))","v":""},null,null,null,{"$f":"IF(M38=\"\",\"\",INDEX(referentes!AN:AQ,MATCH(M38,referentes!AQ:AQ,0),1))","v":""},null,{"$f":"IF(O38=\"\",\"\",INDEX(referentes!A:B,MATCH(O38,referentes!B:B,0),1))","v":""},null,{"$f":"IF(Q38=\"\",\"\",INDEX(referentes!D:E,MATCH(Q38,referentes!E:E,0),1))","v":""},"",null,null,null,null,"","","",34,"","",""]
["30001212",{"$f":"DIGITADOR!$B$2","v":""},1,{"$f":"IF(G39<>\"\",CONCATENATE(B39,A39,DIGITADOR!$M$1,C39,G39),\"\")","v":""},null,"",null,"",{"$f":"IF(ACTIVIDADES!K39<>\"\",CONCATENATE(B39,A39,DIGITADOR!$M$1,ACTIVIDADES!N39,C39),\"\")","v":""},{"$f":"IF(G39=\"\",\"\",IF(D39=D38,\"\",CONCATENATE(B39,A39,DIGITADOR!$M$1,ACTIVIDADES!N39,C39)))","v":""},null,null,null,{"$f":"IF(M39=\"\",\"\",INDEX(referentes!AN:AQ,MATCH(M39,referentes!AQ:AQ,0),1))","v":""},null,{"$f":"IF(O39=\"\",\"\",INDEX(referentes!A:B,MATCH(O39,referentes!B:B,0),1))","v":""},null,{"$f":"IF(Q39=\"\",\"\",INDEX(referentes!D:E,MATCH(Q39,referentes!E:E,0),1))","v":""},"",null,null,null,null,"","","",35,"","",""]
["30001212",{"$f":"DIGITADOR!$B$2","v":""},1,{"$f":"IF(G40<>\"\",CONCATENATE(B40,A40,DIGITADOR!$M$1,C40,G40),\"\")","v":""},null,"",null,"",{"$f":"IF(ACTIVIDADES!K40<>\"\",CONCATENATE(B40,A40,DIGITADOR!$M$1,ACTIVIDADES!N40,C40),\"\")","v":""},{"$f":"IF(G40=\"\",\"\",IF(D40=D39,\"\",CONCATENATE(B40,A40,DIGITADOR!$M$1,ACTIVIDADES!N40,C40)))","v":""},null,null,null,{"$f":"IF(M40=\"\",\"\",INDEX(referentes!AN:AQ,MATCH(M40,referentes!AQ:AQ,0),1))","v":""},null,{"$f":"IF(O40=\"\",\"\",INDEX(referentes!A:B,MATCH(O40,referentes!B:B,0),1))","v":""},null,{"$f":"IF(Q40=\"\",\"\",INDEX(referentes!D:E,MATCH(Q40,referentes!E:E,0),1))","v":""},"",null,null,null,null,"","","",36,"","",""]
["30001212",{"$f":"DIGITADOR!$B$2","v":""},1,{"$f":"IF(G41<>\"\",CONCATENATE(B41,A41,DIGITADOR!$M$1,C41,G41),\"\")","v":""},null,"",null,"",{"$f":"IF(ACTIVIDADES!K41<>\"\",CONCATENATE(B41,A41,DIGITADOR!$M$1,ACTIVIDADES!N41,C41),\"\")","v":""},{"$f":"IF(G41=\"\",\"\",IF(D41=D40,\"\",CONCATENATE(B41,A41,DIGITADOR!$M$1,ACTIVIDADES!N41,C41)))","v":""},null,null,null,{"$f":"IF(M41=\"\",\"\",INDEX(referentes!AN:AQ,MATCH(M41,referentes!AQ:AQ,0),1))","v":""},null,{"$f":"IF(O41=\"\",\"\",INDEX(referentes!A:B,MATCH(O41,referentes!B:B,0),1))","v":""},null,{"$f":"IF(Q41=\"\",\"\",INDEX(referentes!D:E,MATCH(Q41,referentes!E:E,0),1))","v":""},"",null,null,null,null,"","","",37,"","",""]
["30001212",{"$f":"DIGITADOR!$B$2","v":""},1,{"$f":"IF(G42<>\"\",CONCATENATE(B42,A42,DIGITADOR!$M$1,C42,G42),\"\")","v":""},null,"",null,"",{"$f":"IF(ACTIVIDADES!K42<>\"\",CONCATENATE(B42,A42,DIGITADOR!$M$1,ACTIVIDADES!N42,C42),\"\")","v":""},{"$f":"IF(G42=\"\",\"\",IF(D42=D41,\"\",CONCATENATE(B42,A42,DIGITADOR!$M$1,ACTIVIDADES!N42,C42)))","v":""},null,null,null,{"$f":"IF(M42=\"\",\"\",INDEX(referentes!AN:AQ,MATCH(M42,referentes!AQ:AQ,0),1))","v":""},null,{"$f":"IF(O42=\"\",\"\",INDEX(referentes!A:B,MATCH(O42,referentes!B:B,0),1))","v":""},null,{"$f":"IF(Q42=\"\",\"\",INDEX(referentes!D:E,MATCH(Q42,referentes!E:E,0),1))","v":""},"",null,null,null,null,"","","",38,"","",""]
["30001212",{"$f":"DIGITADOR!$B$2","v":""},1,{"$f":"IF(G43<>\"\",CONCATENATE(B43,A43,DIGITADOR!$M$1,C43,G43),\"\")","v":""},null,"",null,"",{"$f":"IF(ACTIVIDADES!K43<>\"\",CONCATENATE(B43,A43,DIGITADOR!$M$1,ACTIVIDADES!N43,C43),\"\")","v":""},{"$f":"IF(G43=\"\",\"\",IF(D43=D42,\"\",CONCATENATE(B43,A43,DIGITADOR!$M$1,ACTIVIDADES!N43,C43)))","v":""},null,null,null,{"$f":"IF(M43=\"\",\"\",INDEX(referentes!AN:AQ,MATCH(M43,referentes!AQ:AQ,0),1))","v":""},null,{"$f":"IF(O43=\"\",\"\",INDEX(referentes!A:B,MATCH(O43,referentes!B:B,0),1))","v":""},null,{"$f":"IF(Q43=\"\",\"\",INDEX(referentes!D:E,MATCH(Q43,referentes!E:E,0),1))","v":""},"",null,null,null,null,"","","",39,"","",""]
["30001212",{"$f":"DIGITADOR!$B$2","v":""},1,{"$f":"IF(G44<>\"\",CONCATENATE(B44,A44,DIGITADOR!$M$1,C44,G44),\"\")","v":""},null,"",null,"",{"$f":"IF(ACTIVIDADES!K44<>\"\",CONCATENATE(B44,A44,DIGITADOR!$M$1,ACTIVIDADES!N44,C44),\"\")","v":""},{"$f":"IF(G44=\"\",\"\",IF(D44=D43,\"\",CONCATENATE(B44,A44,DIGITADOR!$M$1,ACTIVIDADES!N44,C44)))","v":""},null,null,null,{"$f":"IF(M44=\"\",\"\",INDEX(referentes!AN:AQ,MATCH(M44,referentes!AQ:AQ,0),1))","v":""},null,{"$f":"IF(O44=\"\",\"\",INDEX(referentes!A:B,MATCH(O44,referentes!B:B,0),1))","v":""},null,{"$f":"IF(Q44=\"\",\"\",INDEX(referentes!D:E,MATCH(Q44,referentes!E:E,0),1))","v":""},"",null,null,null,null,"","","",40,"","",""]
["30001212",{"$f":"DIGITADOR!$B$2","v":""},1,{"$f":"IF(G45<>\"\",CONCATENATE(B45,A45,DIGITADOR!$M$1,C45,G45),\"\")","v":""},null,"",null,"",{"$f":"IF(ACTIVIDADES!K45<>\"\",CONCATENATE(B45,A45,DIGITADOR!$M$1,ACTIVIDADES!N45,C45),\"\")","v":""},{"$f":"IF(G45=\"\",\"\",IF(D45=D44,\"\",CONCATENATE(B45,A45,DIGITADOR!$M$1,ACTIVIDADES!N45,C45)))","v":""},null,null,null,{"$f":"IF(M45=\"\",\"\",INDEX(referentes!AN:AQ,MATCH(M45,referentes!AQ:AQ,0),1))","v":""},null,{"$f":"IF(O45=\"\",\"\",INDEX(referentes!A:B,MATCH(O45,referentes!B:B,0),1))","v":""},null,{"$f":"IF(Q45=\"\",\"\",INDEX(referentes!D:E,MATCH(Q45,referentes!E:E,0),1))","v":""},"",null,null,null,null,"","","",41,"","",""]
["30001212",{"$f":"DIGITADOR!$B$2","v":""},1,{"$f":"IF(G46<>\"\",CONCATENATE(B46,A46,DIGITADOR!$M$1,C46,G46),\"\")","v":""},null,"",null,"",{"$f":"IF(ACTIVIDADES!K46<>\"\",CONCATENATE(B46,A46,DIGITADOR!$M$1,ACTIVIDADES!N46,C46),\"\")","v":""},{"$f":"IF(G46=\"\",\"\",IF(D46=D45,\"\",CONCATENATE(B46,A46,DIGITADOR!$M$1,ACTIVIDADES!N46,C46)))","v":""},null,null,null,{"$f":"IF(M46=\"\",\"\",INDEX(referentes!AN:AQ,MATCH(M46,referentes!AQ:AQ,0),1))","v":""},null,{"$f":"IF(O46=\"\",\"\",INDEX(referentes!A:B,MATCH(O46,referentes!B:B,0),1))","v":""},null,{"$f":"IF(Q46=\"\",\"\",INDEX(referentes!D:E,MATCH(Q46,referentes!E:E,0),1))","v":""},"",null,null,null,null,"","","",42,"","",""]
["30001212",{"$f":"DIGITADOR!$B$2","v":""},1,{"$f":"IF(G47<>\"\",CONCATENATE(B47,A47,DIGITADOR!$M$1,C47,G47),\"\")","v":""},null,"",null,"",{"$f":"IF(ACTIVIDADES!K47<>\"\",CONCATENATE(B47,A47,DIGITADOR!$M$1,ACTIVIDADES!N47,C47),\"\")","v":""},{"$f":"IF(G47=\"\",\"\",IF(D47=D46,\"\",CONCATENATE(B47,A47,DIGITADOR!$M$1,ACTIVIDADES!N47,C47)))","v":""},null,null,null,{"$f":"IF(M47=\"\",\"\",INDEX(referentes!AN:AQ,MATCH(M47,referentes!AQ:AQ,0),1))","v":""},null,{"$f":"IF(O47=\"\",\"\",INDEX(referentes!A:B,MATCH(O47,referentes!B:B,0),1))","v":""},null,{"$f":"IF(Q47=\"\",\"\",INDEX(referentes!D:E,MATCH(Q47,referentes!E:E,0),1))","v":""},"",null,null,null,null,"","","",43,"","",""]
["30001212",{"$f":"DIGITADOR!$B$2","v":""},1,{"$f":"IF(G48<>\"\",CONCATENATE(B48,A48,DIGITADOR!$M$1,C48,G48),\"\")","v":""},null,"",null,"",{"$f":"IF(ACTIVIDADES!K48<>\"\",CONCATENATE(B48,A48,DIGITADOR!$M$1,ACTIVIDADES!N48,C48),\"\")","v":""},{"$f":"IF(G48=\"\",\"\",IF(D48=D47,\"\",CONCATENATE(B48,A48,DIGITADOR!$M$1,ACTIVIDADES!N48,C48)))","v":""},null,null,null,{"$f":"IF(M48=\"\",\"\",INDEX(referentes!AN:AQ,MATCH(M48,referentes!AQ:AQ,0),1))","v":""},null,{"$f":"IF(O48=\"\",\"\",INDEX(referentes!A:B,MATCH(O48,referentes!B:B,0),1))","v":""},null,{"$f":"IF(Q48=\"\",\"\",INDEX(referentes!D:E,MATCH(Q48,referentes!E:E,0),1))","v":""},"",null,null,null,null,"","","",44,"","",""]
["30001212",{"$f":"DIGITADOR!$B$2","v":""},1,{"$f":"IF(G49<>\"\",CONCATENATE(B49,A49,DIGITADOR!$M$1,C49,G49),\"\")","v":""},null,"",null,"",{"$f":"IF(ACTIVIDADES!K49<>\"\",CONCATENATE(B49,A49,DIGITADOR!$M$1,ACTIVIDADES!N49,C49),\"\")","v":""},{"$f":"IF(G49=\"\",\"\",IF(D49=D48,\"\",CONCATENATE(B49,A49,DIGITADOR!$M$1,ACTIVIDADES!N49,C49)))","v":""},null,null,null,{"$f":"IF(M49=\"\",\"\",INDEX(referentes!AN:AQ,MATCH(M49,referentes!AQ:AQ,0),1))","v":""},null,{"$f":"IF(O49=\"\",\"\",INDEX(referentes!A:B,MATCH(O49,referentes!B:B,0),1))","v":""},null,{"$f":"IF(Q49=\"\",\"\",INDEX(referentes!D:E,MATCH(Q49,referentes!E:E,0),1))","v":""},"",null,null,null,null,"","","",45,"","",""]
["30001212",{"$f":"DIGITADOR!$B$2","v":""},1,{"$f":"IF(G50<>\"\",CONCATENATE(B50,A50,DIGITADOR!$M$1,C50,G50),\"\")","v":""},null,"",null,"",{"$f":"IF(ACTIVIDADES!K50<>\"\",CONCATENATE(B50,A50,DIGITADOR!$M$1,ACTIVIDADES!N50,C50),\"\")","v":""},{"$f":"IF(G50=\"\",\"\",IF(D50=D49,\"\",CONCATENATE(B50,A50,DIGITADOR!$M$1,ACTIVIDADES!N50,C50)))","v":""},null,null,null,{"$f":"IF(M50=\"\",\"\",INDEX(referentes!AN:AQ,MATCH(M50,referentes!AQ:AQ,0),1))","v":""},null,{"$f":"IF(O50=\"\",\"\",INDEX(referentes!A:B,MATCH(O50,referentes!B:B,0),1))","v":""},null,{"$f":"IF(Q50=\"\",\"\",INDEX(referentes!D:E,MATCH(Q50,referentes!E:E,0),1))","v":""},"",null,null,null,null,"","","",46,"","",""]
["30001212",{"$f":"DIGITADOR!$B$2","v":""},1,{"$f":"IF(G51<>\"\",CONCATENATE(B51,A51,DIGITADOR!$M$1,C51,G51),\"\")","v":""},null,"",null,"",{"$f":"IF(ACTIVIDADES!K51<>\"\",CONCATENATE(B51,A51,DIGITADOR!$M$1,ACTIVIDADES!N51,C51),\"\")","v":""},{"$f":"IF(G51=\"\",\"\",IF(D51=D50,\"\",CONCATENATE(B51,A51,DIGITADOR!$M$1,ACTIVIDADES!N51,C51)))","v":""},null,null,null,{"$f":"IF(M51=\"\",\"\",INDEX(referentes!AN:AQ,MATCH(M51,referentes!AQ:AQ,0),1))","v":""},null,{"$f":"IF(O51=\"\",\"\",INDEX(referentes!A:B,MATCH(O51,referentes!B:B,0),1))","v":""},null,{"$f":"IF(Q51=\"\",\"\",INDEX(referentes!D:E,MATCH(Q51,referentes!E:E,0),1))","v":""},"",null,null,null,null,"","","",47,"","",""]
["30001212",{"$f":"DIGITADOR!$B$2","v":""},1,{"$f":"IF(G52<>\"\",CONCATENATE(B52,A52,DIGITADOR!$M$1,C52,G52),\"\")","v":""},null,"",null,"",{"$f":"IF(ACTIVIDADES!K52<>\"\",CONCATENATE(B52,A52,DIGITADOR!$M$1,ACTIVIDADES!N52,C52),\"\")","v":""},{"$f":"IF(G52=\"\",\"\",IF(D52=D51,\"\",CONCATENATE(B52,A52,DIGITADOR!$M$1,ACTIVIDADES!N52,C52)))","v":""},null,null,null,{"$f":"IF(M52=\"\",\"\",INDEX(referentes!AN:AQ,MATCH(M52,referentes!AQ:AQ,0),1))","v":""},null,{"$f":"IF(O52=\"\",\"\",INDEX(referentes!A:B,MATCH(O52,referentes!B:B,0),1))","v":""},null,{"$f":"IF(Q52=\"\",\"\",INDEX(referentes!D:E,MATCH(Q52,referentes!E:E,0),1))","v":""},"",null,null,null,null,"","","",48,"","",""]
["30001212",{"$f":"DIGITADOR!$B$2","v":""},1,{"$f":"IF(G53<>\"\",CONCATENATE(B53,A53,DIGITADOR!$M$1,C53,G53),\"\")","v":""},null,"",null,"",{"$f":"IF(ACTIVIDADES!K53<>\"\",CONCATENATE(B53,A53,DIGITADOR!$M$1,ACTIVIDADES!N53,C53),\"\")","v":""},{"$f":"IF(G53=\"\",\"\",IF(D53=D52,\"\",CONCATENATE(B53,A53,DIGITADOR!$M$1,ACTIVIDADES!N53,C53)))","v":""},null,null,null,{"$f":"IF(M53=\"\",\"\",INDEX(referentes!AN:AQ,MATCH(M53,referentes!AQ:AQ,0),1))","v":""},null,{"$f":"IF(O53=\"\",\"\",INDEX(referentes!A:B,MATCH(O53,referentes!B:B,0),1))","v":""},null,{"$f":"IF(Q53=\"\",\"\",INDEX(referentes!D:E,MATCH(Q53,referentes!E:E,0),1))","v":""},"",null,null,null,null,"","","",49,"","",""]
["30001212",{"$f":"DIGITADOR!$B$2","v":""},1,{"$f":"IF(G54<>\"\",CONCATENATE(B54,A54,DIGITADOR!$M$1,C54,G54),\"\")","v":""},null,"",null,"",{"$f":"IF(ACTIVIDADES!K54<>\"\",CONCATENATE(B54,A54,DIGITADOR!$M$1,ACTIVIDADES!N54,C54),\"\")","v":""},{"$f":"IF(G54=\"\",\"\",IF(D54=D53,\"\",CONCATENATE(B54,A54,DIGITADOR!$M$1,ACTIVIDADES!N54,C54)))","v":""},null,null,null,{"$f":"IF(M54=\"\",\"\",INDEX(referentes!AN:AQ,MATCH(M54,referentes!AQ:AQ,0),1))","v":""},null,{"$f":"IF(O54=\"\",\"\",INDEX(referentes!A:B,MATCH(O54,referentes!B:B,0),1))","v":""},null,{"$f":"IF(Q54=\"\",\"\",INDEX(referentes!D:E,MATCH(Q54,referentes!E:E,0),1))","v":""},"",null,null,null,null,"","","",50,"","",""]
["30001212",{"$f":"DIGITADOR!$B$2","v":""},1,{"$f":"IF(G55<>\"\",CONCATENATE(B55,A55,DIGITADOR!$M$1,C55,G55),\"\")","v":""},null,"",null,"",{"$f":"IF(ACTIVIDADES!K55<>\"\",CONCATENATE(B55,A55,DIGITADOR!$M$1,ACTIVIDADES!N55,C55),\"\")","v":""},{"$f":"IF(G55=\"\",\"\",IF(D55=D54,\"\",CONCATENATE(B55,A55,DIGITADOR!$M$1,ACTIVIDADES!N55,C55)))","v":""},null,null,null,{"$f":"IF(M55=\"\",\"\",INDEX(referentes!AN:AQ,MATCH(M55,referentes!AQ:AQ,0),1))","v":""},null,{"$f":"IF(O55=\"\",\"\",INDEX(referentes!A:B,MATCH(O55,referentes!B:B,0),1))","v":""},null,{"$f":"IF(Q55=\"\",\"\",INDEX(referentes!D:E,MATCH(Q55,referentes!E:E,0),1))","v":""},"",null,null,null,null,"","","",51,"","",""]
["30001212",{"$f":"DIGITADOR!$B$2","v":""},1,{"$f":"IF(G56<>\"\",CONCATENATE(B56,A56,DIGITADOR!$M$1,C56,G56),\"\")","v":""},null,"",null,"",{"$f":"IF(ACTIVIDADES!K56<>\"\",CONCATENATE(B56,A56,DIGITADOR!$M$1,ACTIVIDADES!N56,C56),\"\")","v":""},{"$f":"IF(G56=\"\",\"\",IF(D56=D55,\"\",CONCATENATE(B56,A56,DIGITADOR!$M$1,ACTIVIDADES!N56,C56)))","v":""},null,null,null,{"$f":"IF(M56=\"\",\"\",INDEX(referentes!AN:AQ,MATCH(M56,referentes!AQ:AQ,0),1))","v":""},null,{"$f":"IF(O56=\"\",\"\",INDEX(referentes!A:B,MATCH(O56,referentes!B:B,0),1))","v":""},null,{"$f":"IF(Q56=\"\",\"\",INDEX(referentes!D:E,MATCH(Q56,referentes!E:E,0),1))","v":""},"",null,null,null,null,"","","",52,"","",""]
["30001212",{"$f":"DIGITADOR!$B$2","v":""},1,{"$f":"IF(G57<>\"\",CONCATENATE(B57,A57,DIGITADOR!$M$1,C57,G57),\"\")","v":""},null,"",null,"",{"$f":"IF(ACTIVIDADES!K57<>\"\",CONCATENATE(B57,A57,DIGITADOR!$M$1,ACTIVIDADES!N57,C57),\"\")","v":""},{"$f":"IF(G57=\"\",\"\",IF(D57=D56,\"\",CONCATENATE(B57,A57,DIGITADOR!$M$1,ACTIVIDADES!N57,C57)))","v":""},null,null,null,{"$f":"IF(M57=\"\",\"\",INDEX(referentes!AN:AQ,MATCH(M57,referentes!AQ:AQ,0),1))","v":""},null,{"$f":"IF(O57=\"\",\"\",INDEX(referentes!A:B,MATCH(O57,referentes!B:B,0),1))","v":""},null,{"$f":"IF(Q57=\"\",\"\",INDEX(referentes!D:E,MATCH(Q57,referentes!E:E,0),1))","v":""},"",null,null,null,null,"","","",53,"","",""]
["30001212",{"$f":"DIGITADOR!$B$2","v":""},1,{"$f":"IF(G58<>\"\",CONCATENATE(B58,A58,DIGITADOR!$M$1,C58,G58),\"\")","v":""},null,"",null,"",{"$f":"IF(ACTIVIDADES!K58<>\"\",CONCATENATE(B58,A58,DIGITADOR!$M$1,ACTIVIDADES!N58,C58),\"\")","v":""},{"$f":"IF(G58=\"\",\"\",IF(D58=D57,\"\",CONCATENATE(B58,A58,DIGITADOR!$M$1,ACTIVIDADES!N58,C58)))","v":""},null,null,null,{"$f":"IF(M58=\"\",\"\",INDEX(referentes!AN:AQ,MATCH(M58,referentes!AQ:AQ,0),1))","v":""},null,{"$f":"IF(O58=\"\",\"\",INDEX(referentes!A:B,MATCH(O58,referentes!B:B,0),1))","v":""},null,{"$f":"IF(Q58=\"\",\"\",INDEX(referentes!D:E,MATCH(Q58,referentes!E:E,0),1))","v":""},"",null,null,null,null,"","","",54,"","",""]
["30001212",{"$f":"DIGITADOR!$B$2","v":""},1,{"$f":"IF(G59<>\"\",CONCATENATE(B59,A59,DIGITADOR!$M$1,C59,G59),\"\")","v":""},null,"",null,"",{"$f":"IF(ACTIVIDADES!K59<>\"\",CONCATENATE(B59,A59,DIGITADOR!$M$1,ACTIVIDADES!N59,C59),\"\")","v":""},{"$f":"IF(G59=\"\",\"\",IF(D59=D58,\"\",CONCATENATE(B59,A59,DIGITADOR!$M$1,ACTIVIDADES!N59,C59)))","v":""},null,null,null,{"$f":"IF(M59=\"\",\"\",INDEX(referentes!AN:AQ,MATCH(M59,referentes!AQ:AQ,0),1))","v":""},null,{"$f":"IF(O59=\"\",\"\",INDEX(referentes!A:B,MATCH(O59,referentes!B:B,0),1))","v":""},null,{"$f":"IF(Q59=\"\",\"\",INDEX(referentes!D:E,MATCH(Q59,referentes!E:E,0),1))","v":""},"",null,null,null,null,"","","",55,"","",""]
["30001212",{"$f":"DIGITADOR!$B$2","v":""},1,{"$f":"IF(G60<>\"\",CONCATENATE(B60,A60,DIGITADOR!$M$1,C60,G60),\"\")","v":""},null,"",null,"",{"$f":"IF(ACTIVIDADES!K60<>\"\",CONCATENATE(B60,A60,DIGITADOR!$M$1,ACTIVIDADES!N60,C60),\"\")","v":""},{"$f":"IF(G60=\"\",\"\",IF(D60=D59,\"\",CONCATENATE(B60,A60,DIGITADOR!$M$1,ACTIVIDADES!N60,C60)))","v":""},null,null,null,{"$f":"IF(M60=\"\",\"\",INDEX(referentes!AN:AQ,MATCH(M60,referentes!AQ:AQ,0),1))","v":""},null,{"$f":"IF(O60=\"\",\"\",INDEX(referentes!A:B,MATCH(O60,referentes!B:B,0),1))","v":""},null,{"$f":"IF(Q60=\"\",\"\",INDEX(referentes!D:E,MATCH(Q60,referentes!E:E,0),1))","v":""},"",null,null,null,null,"","","",56,"","",""]
["30001212",{"$f":"DIGITADOR!$B$2","v":""},1,{"$f":"IF(G61<>\"\",CONCATENATE(B61,A61,DIGITADOR!$M$1,C61,G61),\"\")","v":""},null,"",null,"",{"$f":"IF(ACTIVIDADES!K61<>\"\",CONCATENATE(B61,A61,DIGITADOR!$M$1,ACTIVIDADES!N61,C61),\"\")","v":""},{"$f":"IF(G61=\"\",\"\",IF(D61=D60,\"\",CONCATENATE(B61,A61,DIGITADOR!$M$1,ACTIVIDADES!N61,C61)))","v":""},null,null,null,{"$f":"IF(M61=\"\",\"\",INDEX(referentes!AN:AQ,MATCH(M61,referentes!AQ:AQ,0),1))","v":""},null,{"$f":"IF(O61=\"\",\"\",INDEX(referentes!A:B,MATCH(O61,referentes!B:B,0),1))","v":""},null,{"$f":"IF(Q61=\"\",\"\",INDEX(referentes!D:E,MATCH(Q61,referentes!E:E,0),1))","v":""},"",null,null,null,null,"","","",57,"","",""]
["30001212",{"$f":"DIGITADOR!$B$2","v":""},1,{"$f":"IF(G62<>\"\",CONCATENATE(B62,A62,DIGITADOR!$M$1,C62,G62),\"\")","v":""},null,"",null,"",{"$f":"IF(ACTIVIDADES!K62<>\"\",CONCATENATE(B62,A62,DIGITADOR!$M$1,ACTIVIDADES!N62,C62),\"\")","v":""},{"$f":"IF(G62=\"\",\"\",IF(D62=D61,\"\",CONCATENATE(B62,A62,DIGITADOR!$M$1,ACTIVIDADES!N62,C62)))","v":""},null,null,null,{"$f":"IF(M62=\"\",\"\",INDEX(referentes!AN:AQ,MATCH(M62,referentes!AQ:AQ,0),1))","v":""},null,{"$f":"IF(O62=\"\",\"\",INDEX(referentes!A:B,MATCH(O62,referentes!B:B,0),1))","v":""},null,{"$f":"IF(Q62=\"\",\"\",INDEX(referentes!D:E,MATCH(Q62,referentes!E:E,0),1))","v":""},"",null,null,null,null,"","","",58,"","",""]
["30001212",{"$f":"DIGITADOR!$B$2","v":""},1,{"$f":"IF(G63<>\"\",CONCATENATE(B63,A63,DIGITADOR!$M$1,C63,G63),\"\")","v":""},null,"",null,"",{"$f":"IF(ACTIVIDADES!K63<>\"\",CONCATENATE(B63,A63,DIGITADOR!$M$1,ACTIVIDADES!N63,C63),\"\")","v":""},{"$f":"IF(G63=\"\",\"\",IF(D63=D62,\"\",CONCATENATE(B63,A63,DIGITADOR!$M$1,ACTIVIDADES!N63,C63)))","v":""},null,null,null,{"$f":"IF(M63=\"\",\"\",INDEX(referentes!AN:AQ,MATCH(M63,referentes!AQ:AQ,0),1))","v":""},null,{"$f":"IF(O63=\"\",\"\",INDEX(referentes!A:B,MATCH(O63,referentes!B:B,0),1))","v":""},null,{"$f":"IF(Q63=\"\",\"\",INDEX(referentes!D:E,MATCH(Q63,referentes!E:E,0),1))","v":""},"",null,null,null,null,"","","",59,"","",""]
["30001212",{"$f":"DIGITADOR!$B$2","v":""},1,{"$f":"IF(G64<>\"\",CONCATENATE(B64,A64,DIGITADOR!$M$1,C64,G64),\"\")","v":""},null,"",null,"",{"$f":"IF(ACTIVIDADES!K64<>\"\",CONCATENATE(B64,A64,DIGITADOR!$M$1,ACTIVIDADES!N64,C64),\"\")","v":""},{"$f":"IF(G64=\"\",\"\",IF(D64=D63,\"\",CONCATENATE(B64,A64,DIGITADOR!$M$1,ACTIVIDADES!N64,C64)))","v":""},null,null,null,{"$f":"IF(M64=\"\",\"\",INDEX(referentes!AN:AQ,MATCH(M64,referentes!AQ:AQ,0),1))","v":""},null,{"$f":"IF(O64=\"\",\"\",INDEX(referentes!A:B,MATCH(O64,referentes!B:B,0),1))","v":""},null,{"$f":"IF(Q64=\"\",\"\",INDEX(referentes!D:E,MATCH(Q64,referentes!E:E,0),1))","v":""},"",null,null,null,null,"","","",60,"","",""]
["30001212",{"$f":"DIGITADOR!$B$2","v":""},1,{"$f":"IF(G65<>\"\",CONCATENATE(B65,A65,DIGITADOR!$M$1,C65,G65),\"\")","v":""},null,"",null,"",{"$f":"IF(ACTIVIDADES!K65<>\"\",CONCATENATE(B65,A65,DIGITADOR!$M$1,ACTIVIDADES!N65,C65),\"\")","v":""},{"$f":"IF(G65=\"\",\"\",IF(D65=D64,\"\",CONCATENATE(B65,A65,DIGITADOR!$M$1,ACTIVIDADES!N65,C65)))","v":""},null,null,null,{"$f":"IF(M65=\"\",\"\",INDEX(referentes!AN:AQ,MATCH(M65,referentes!AQ:AQ,0),1))","v":""},null,{"$f":"IF(O65=\"\",\"\",INDEX(referentes!A:B,MATCH(O65,referentes!B:B,0),1))","v":""},null,{"$f":"IF(Q65=\"\",\"\",INDEX(referentes!D:E,MATCH(Q65,referentes!E:E,0),1))","v":""},"",null,null,null,null,"","","",61,"","",""]
["30001212",{"$f":"DIGITADOR!$B$2","v":""},1,{"$f":"IF(G66<>\"\",CONCATENATE(B66,A66,DIGITADOR!$M$1,C66,G66),\"\")","v":""},null,"",null,"",{"$f":"IF(ACTIVIDADES!K66<>\"\",CONCATENATE(B66,A66,DIGITADOR!$M$1,ACTIVIDADES!N66,C66),\"\")","v":""},{"$f":"IF(G66=\"\",\"\",IF(D66=D65,\"\",CONCATENATE(B66,A66,DIGITADOR!$M$1,ACTIVIDADES!N66,C66)))","v":""},null,null,null,{"$f":"IF(M66=\"\",\"\",INDEX(referentes!AN:AQ,MATCH(M66,referentes!AQ:AQ,0),1))","v":""},null,{"$f":"IF(O66=\"\",\"\",INDEX(referentes!A:B,MATCH(O66,referentes!B:B,0),1))","v":""},null,{"$f":"IF(Q66=\"\",\"\",INDEX(referentes!D:E,MATCH(Q66,referentes!E:E,0),1))","v":""},"",null,null,null,null,"","","",62,"","",""]
["30001212",{"$f":"DIGITADOR!$B$2","v":""},1,{"$f":"IF(G67<>\"\",CONCATENATE(B67,A67,DIGITADOR!$M$1,C67,G67),\"\")","v":""},null,"",null,"",{"$f":"IF(ACTIVIDADES!K67<>\"\",CONCATENATE(B67,A67,DIGITADOR!$M$1,ACTIVIDADES!N67,C67),\"\")","v":""},{"$f":"IF(G67=\"\",\"\",IF(D67=D66,\"\",CONCATENATE(B67,A67,DIGITADOR!$M$1,ACTIVIDADES!N67,C67)))","v":""},null,null,null,{"$f":"IF(M67=\"\",\"\",INDEX(referentes!AN:AQ,MATCH(M67,referentes!AQ:AQ,0),1))","v":""},null,{"$f":"IF(O67=\"\",\"\",INDEX(referentes!A:B,MATCH(O67,referentes!B:B,0),1))","v":""},null,{"$f":"IF(Q67=\"\",\"\",INDEX(referentes!D:E,MATCH(Q67,referentes!E:E,0),1))","v":""},"",null,null,null,null,"","","",63,"","",""]
["30001212",{"$f":"DIGITADOR!$B$2","v":""},1,{"$f":"IF(G68<>\"\",CONCATENATE(B68,A68,DIGITADOR!$M$1,C68,G68),\"\")","v":""},null,"",null,"",{"$f":"IF(ACTIVIDADES!K68<>\"\",CONCATENATE(B68,A68,DIGITADOR!$M$1,ACTIVIDADES!N68,C68),\"\")","v":""},{"$f":"IF(G68=\"\",\"\",IF(D68=D67,\"\",CONCATENATE(B68,A68,DIGITADOR!$M$1,ACTIVIDADES!N68,C68)))","v":""},null,null,null,{"$f":"IF(M68=\"\",\"\",INDEX(referentes!AN:AQ,MATCH(M68,referentes!AQ:AQ,0),1))","v":""},null,{"$f":"IF(O68=\"\",\"\",INDEX(referentes!A:B,MATCH(O68,referentes!B:B,0),1))","v":""},null,{"$f":"IF(Q68=\"\",\"\",INDEX(referentes!D:E,MATCH(Q68,referentes!E:E,0),1))","v":""},"",null,null,null,null,"","","",64,"","",""]
["30001212",{"$f":"DIGITADOR!$B$2","v":""},1,{"$f":"IF(G69<>\"\",CONCATENATE(B69,A69,DIGITADOR!$M$1,C69,G69),\"\")","v":""},null,"",null,"",{"$f":"IF(ACTIVIDADES!K69<>\"\",CONCATENATE(B69,A69,DIGITADOR!$M$1,ACTIVIDADES!N69,C69),\"\")","v":""},{"$f":"IF(G69=\"\",\"\",IF(D69=D68,\"\",CONCATENATE(B69,A69,DIGITADOR!$M$1,ACTIVIDADES!N69,C69)))","v":""},null,null,null,{"$f":"IF(M69=\"\",\"\",INDEX(referentes!AN:AQ,MATCH(M69,referentes!AQ:AQ,0),1))","v":""},null,{"$f":"IF(O69=\"\",\"\",INDEX(referentes!A:B,MATCH(O69,referentes!B:B,0),1))","v":""},null,{"$f":"IF(Q69=\"\",\"\",INDEX(referentes!D:E,MATCH(Q69,referentes!E:E,0),1))","v":""},{"$f":"IF(U69=\"\",IF(K69=\"\",\"\",IF(L69=\"\",0,L69-K69)),IF(U69=\"\",\"\",IF(V69=\"\",0,V69-U69)))","v":""},null,null,null,null,"",{"$f":"IF(D69=\"\",\"\",CONCATENATE(D69,AA69))","v":""},"",65,"",{"$f":"IF(AB69=\"\",\"\",CONCATENATE(AB69,$AC$1))","v":""},{"$f":"IF(D69=\"\",\"\",CONCATENATE(D69,$AC$1))","v":""}]
[{"$f":"A69","v":"30001212"},{"$f":"DIGITADOR!$B$2","v":""},{"$f":"IF(G70=G69,C69,C69+1)","v":1},{"$f":"IF(G70<>\"\",CONCATENATE(B70,A70,DIGITADOR!$M$1,C70,G70),\"\")","v":""},null,{"$f":"IF(E70=\"\",\"\",IF(E70=FALSE,0,-1))","v":""},null,{"$f":"IF(G70=\"\",\"\",D70)","v":""},{"$f":"IF(ACTIVIDADES!K70<>\"\",CONCATENATE(B70,A70,DIGITADOR!$M$1,ACTIVIDADES!N70,C70),\"\")","v":""},{"$f":"IF(G70=\"\",\"\",IF(D70=D69,\"\",CONCATENATE(B70,A70,DIGITADOR!$M$1,ACTIVIDADES!N70,C70)))","v":""},null,null,null,{"$f":"IF(M70=\"\",\"\",INDEX(referentes!AN:AQ,MATCH(M70,referentes!AQ:AQ,0),1))","v":""},null,{"$f":"IF(O70=\"\",\"\",INDEX(referentes!A:B,MATCH(O70,referentes!B:B,0),1))","v":""},null,{"$f":"IF(Q70=\"\",\"\",INDEX(referentes!D:E,MATCH(Q70,referentes!E:E,0),1))","v":""},"",null,null,null,null,{"$f":"IF(W70=\"\",\"\",IF(W70=FALSE,0,-1))","v":""},"",{"$f":"IF(Y70=\"\",\"\",CONCATENATE(Y70,$Z$4))","v":""},66,{"$f":"IF(G70=G69,\"\",D70)","v":""},"",""]
["30001212",{"$f":"DIGITADOR!$B$2","v":""},1,{"$f":"IF(G71<>\"\",CONCATENATE(B71,A71,DIGITADOR!$M$1,C71,G71),\"\")","v":""},null,"",null,"",{"$f":"IF(ACTIVIDADES!K71<>\"\",CONCATENATE(B71,A71,DIGITADOR!$M$1,ACTIVIDADES!N71,C71),\"\")","v":""},{"$f":"IF(G71=\"\",\"\",IF(D71=D70,\"\",CONCATENATE(B71,A71,DIGITADOR!$M$1,ACTIVIDADES!N71,C71)))","v":""},null,null,null,{"$f":"IF(M71=\"\",\"\",INDEX(referentes!AN:AQ,MATCH(M71,referentes!AQ:AQ,0),1))","v":""},null,{"$f":"IF(O71=\"\",\"\",INDEX(referentes!A:B,MATCH(O71,referentes!B:B,0),1))","v":""},null,{"$f":"IF(Q71=\"\",\"\",INDEX(referentes!D:E,MATCH(Q71,referentes!E:E,0),1))","v":""},"",null,null,null,null,"","","",67,"","",""]
["30001212",{"$f":"DIGITADOR!$B$2","v":""},1,{"$f":"IF(G72<>\"\",CONCATENATE(B72,A72,DIGITADOR!$M$1,C72,G72),\"\")","v":""},null,"",null,"",{"$f":"IF(ACTIVIDADES!K72<>\"\",CONCATENATE(B72,A72,DIGITADOR!$M$1,ACTIVIDADES!N72,C72),\"\")","v":""},{"$f":"IF(G72=\"\",\"\",IF(D72=D71,\"\",CONCATENATE(B72,A72,DIGITADOR!$M$1,ACTIVIDADES!N72,C72)))","v":""},null,null,null,{"$f":"IF(M72=\"\",\"\",INDEX(referentes!AN:AQ,MATCH(M72,referentes!AQ:AQ,0),1))","v":""},null,{"$f":"IF(O72=\"\",\"\",INDEX(referentes!A:B,MATCH(O72,referentes!B:B,0),1))","v":""},null,{"$f":"IF(Q72=\"\",\"\",INDEX(referentes!D:E,MATCH(Q72,referentes!E:E,0),1))","v":""},"",null,null,null,null,"","","",68,"","",""]
["30001212",{"$f":"DIGITADOR!$B$2","v":""},1,{"$f":"IF(G73<>\"\",CONCATENATE(B73,A73,DIGITADOR!$M$1,C73,G73),\"\")","v":""},null,"",null,"",{"$f":"IF(ACTIVIDADES!K73<>\"\",CONCATENATE(B73,A73,DIGITADOR!$M$1,ACTIVIDADES!N73,C73),\"\")","v":""},{"$f":"IF(G73=\"\",\"\",IF(D73=D72,\"\",CONCATENATE(B73,A73,DIGITADOR!$M$1,ACTIVIDADES!N73,C73)))","v":""},null,null,null,{"$f":"IF(M73=\"\",\"\",INDEX(referentes!AN:AQ,MATCH(M73,referentes!AQ:AQ,0),1))","v":""},null,{"$f":"IF(O73=\"\",\"\",INDEX(referentes!A:B,MATCH(O73,referentes!B:B,0),1))","v":""},null,{"$f":"IF(Q73=\"\",\"\",INDEX(referentes!D:E,MATCH(Q73,referentes!E:E,0),1))","v":""},"",null,null,null,null,"","","",69,"","",""]
["30001212",{"$f":"DIGITADOR!$B$2","v":""},1,{"$f":"IF(G74<>\"\",CONCATENATE(B74,A74,DIGITADOR!$M$1,C74,G74),\"\")","v":""},null,"",null,"",{"$f":"IF(ACTIVIDADES!K74<>\"\",CONCATENATE(B74,A74,DIGITADOR!$M$1,ACTIVIDADES!N74,C74),\"\")","v":""},{"$f":"IF(G74=\"\",\"\",IF(D74=D73,\"\",CONCATENATE(B74,A74,DIGITADOR!$M$1,ACTIVIDADES!N74,C74)))","v":""},null,null,null,{"$f":"IF(M74=\"\",\"\",INDEX(referentes!AN:AQ,MATCH(M74,referentes!AQ:AQ,0),1))","v":""},null,{"$f":"IF(O74=\"\",\"\",INDEX(referentes!A:B,MATCH(O74,referentes!B:B,0),1))","v":""},null,{"$f":"IF(Q74=\"\",\"\",INDEX(referentes!D:E,MATCH(Q74,referentes!E:E,0),1))","v":""},"",null,null,null,null,"","","",70,"","",""]
["30001212",{"$f":"DIGITADOR!$B$2","v":""},1,{"$f":"IF(G75<>\"\",CONCATENATE(B75,A75,DIGITADOR!$M$1,C75,G75),\"\")","v":""},null,"",null,"",{"$f":"IF(ACTIVIDADES!K75<>\"\",CONCATENATE(B75,A75,DIGITADOR!$M$1,ACTIVIDADES!N75,C75),\"\")","v":""},{"$f":"IF(G75=\"\",\"\",IF(D75=D74,\"\",CONCATENATE(B75,A75,DIGITADOR!$M$1,ACTIVIDADES!N75,C75)))","v":""},null,null,null,{"$f":"IF(M75=\"\",\"\",INDEX(referentes!AN:AQ,MATCH(M75,referentes!AQ:AQ,0),1))","v":""},null,{"$f":"IF(O75=\"\",\"\",INDEX(referentes!A:B,MATCH(O75,referentes!B:B,0),1))","v":""},null,{"$f":"IF(Q75=\"\",\"\",INDEX(referentes!D:E,MATCH(Q75,referentes!E:E,0),1))","v":""},"",null,null,null,null,"","","",71,"","",""]
["30001212",{"$f":"DIGITADOR!$B$2","v":""},1,{"$f":"IF(G76<>\"\",CONCATENATE(B76,A76,DIGITADOR!$M$1,C76,G76),\"\")","v":""},null,"",null,"",{"$f":"IF(ACTIVIDADES!K76<>\"\",CONCATENATE(B76,A76,DIGITADOR!$M$1,ACTIVIDADES!N76,C76),\"\")","v":""},{"$f":"IF(G76=\"\",\"\",IF(D76=D75,\"\",CONCATENATE(B76,A76,DIGITADOR!$M$1,ACTIVIDADES!N76,C76)))","v":""},null,null,null,{"$f":"IF(M76=\"\",\"\",INDEX(referentes!AN:AQ,MATCH(M76,referentes!AQ:AQ,0),1))","v":""},null,{"$f":"IF(O76=\"\",\"\",INDEX(referentes!A:B,MATCH(O76,referentes!B:B,0),1))","v":""},null,{"$f":"IF(Q76=\"\",\"\",INDEX(referentes!D:E,MATCH(Q76,referentes!E:E,0),1))","v":""},"",null,null,null,null,"","","",72,"","",""]
["30001212",{"$f":"DIGITADOR!$B$2","v":""},1,{"$f":"IF(G77<>\"\",CONCATENATE(B77,A77,DIGITADOR!$M$1,C77,G77),\"\")","v":""},null,"",null,"",{"$f":"IF(ACTIVIDADES!K77<>\"\",CONCATENATE(B77,A77,DIGITADOR!$M$1,ACTIVIDADES!N77,C77),\"\")","v":""},{"$f":"IF(G77=\"\",\"\",IF(D77=D76,\"\",CONCATENATE(B77,A77,DIGITADOR!$M$1,ACTIVIDADES!N77,C77)))","v":""},null,null,null,{"$f":"IF(M77=\"\",\"\",INDEX(referentes!AN:AQ,MATCH(M77,referentes!AQ:AQ,0),1))","v":""},null,{"$f":"IF(O77=\"\",\"\",INDEX(referentes!A:B,MATCH(O77,referentes!B:B,0),1))","v":""},null,{"$f":"IF(Q77=\"\",\"\",INDEX(referentes!D:E,MATCH(Q77,referentes!E:E,0),1))","v":""},"",null,null,null,null,"","","",73,"","",""]
["30001212",{"$f":"DIGITADOR!$B$2","v":""},1,{"$f":"IF(G78<>\"\",CONCATENATE(B78,A78,DIGITADOR!$M$1,C78,G78),\"\")","v":""},null,"",null,"",{"$f":"IF(ACTIVIDADES!K78<>\"\",CONCATENATE(B78,A78,DIGITADOR!$M$1,ACTIVIDADES!N78,C78),\"\")","v":""},{"$f":"IF(G78=\"\",\"\",IF(D78=D77,\"\",CONCATENATE(B78,A78,DIGITADOR!$M$1,ACTIVIDADES!N78,C78)))","v":""},null,null,null,{"$f":"IF(M78=\"\",\"\",INDEX(referentes!AN:AQ,MATCH(M78,referentes!AQ:AQ,0),1))","v":""},null,{"$f":"IF(O78=\"\",\"\",INDEX(referentes!A:B,MATCH(O78,referentes!B:B,0),1))","v":""},null,{"$f":"IF(Q78=\"\",\"\",INDEX(referentes!D:E,MATCH(Q78,referentes!E:E,0),1))","v":""},"",null,null,null,null,"","","",74,"","",""]
["30001212",{"$f":"DIGITADOR!$B$2","v":""},1,{"$f":"IF(G79<>\"\",CONCATENATE(B79,A79,DIGITADOR!$M$1,C79,G79),\"\")","v":""},null,"",null,"",{"$f":"IF(ACTIVIDADES!K79<>\"\",CONCATENATE(B79,A79,DIGITADOR!$M$1,ACTIVIDADES!N79,C79),\"\")","v":""},{"$f":"IF(G79=\"\",\"\",IF(D79=D78,\"\",CONCATENATE(B79,A79,DIGITADOR!$M$1,ACTIVIDADES!N79,C79)))","v":""},null,null,null,{"$f":"IF(M79=\"\",\"\",INDEX(referentes!AN:AQ,MATCH(M79,referentes!AQ:AQ,0),1))","v":""},null,{"$f":"IF(O79=\"\",\"\",INDEX(referentes!A:B,MATCH(O79,referentes!B:B,0),1))","v":""},null,{"$f":"IF(Q79=\"\",\"\",INDEX(referentes!D:E,MATCH(Q79,referentes!E:E,0),1))","v":""},"",null,null,null,null,"","","",75,"","",""]
["30001212",{"$f":"DIGITADOR!$B$2","v":""},1,{"$f":"IF(G80<>\"\",CONCATENATE(B80,A80,DIGITADOR!$M$1,C80,G80),\"\")","v":""},null,"",null,"",{"$f":"IF(ACTIVIDADES!K80<>\"\",CONCATENATE(B80,A80,DIGITADOR!$M$1,ACTIVIDADES!N80,C80),\"\")","v":""},{"$f":"IF(G80=\"\",\"\",IF(D80=D79,\"\",CONCATENATE(B80,A80,DIGITADOR!$M$1,ACTIVIDADES!N80,C80)))","v":""},null,null,null,{"$f":"IF(M80=\"\",\"\",INDEX(referentes!AN:AQ,MATCH(M80,referentes!AQ:AQ,0),1))","v":""},null,{"$f":"IF(O80=\"\",\"\",INDEX(referentes!A:B,MATCH(O80,referentes!B:B,0),1))","v":""},null,{"$f":"IF(Q80=\"\",\"\",INDEX(referentes!D:E,MATCH(Q80,referentes!E:E,0),1))","v":""},"",null,null,null,null,"","","",76,"","",""]
["30001212",{"$f":"DIGITADOR!$B$2","v":""},1,{"$f":"IF(G81<>\"\",CONCATENATE(B81,A81,DIGITADOR!$M$1,C81,G81),\"\")","v":""},null,"",null,"",{"$f":"IF(ACTIVIDADES!K81<>\"\",CONCATENATE(B81,A81,DIGITADOR!$M$1,ACTIVIDADES!N81,C81),\"\")","v":""},{"$f":"IF(G81=\"\",\"\",IF(D81=D80,\"\",CONCATENATE(B81,A81,DIGITADOR!$M$1,ACTIVIDADES!N81,C81)))","v":""},null,null,null,{"$f":"IF(M81=\"\",\"\",INDEX(referentes!AN:AQ,MATCH(M81,referentes!AQ:AQ,0),1))","v":""},null,{"$f":"IF(O81=\"\",\"\",INDEX(referentes!A:B,MATCH(O81,referentes!B:B,0),1))","v":""},null,{"$f":"IF(Q81=\"\",\"\",INDEX(referentes!D:E,MATCH(Q81,referentes!E:E,0),1))","v":""},"",null,null,null,null,"","","",77,"","",""]
["30001212",{"$f":"DIGITADOR!$B$2","v":""},1,{"$f":"IF(G82<>\"\",CONCATENATE(B82,A82,DIGITADOR!$M$1,C82,G82),\"\")","v":""},null,"",null,"",{"$f":"IF(ACTIVIDADES!K82<>\"\",CONCATENATE(B82,A82,DIGITADOR!$M$1,ACTIVIDADES!N82,C82),\"\")","v":""},{"$f":"IF(G82=\"\",\"\",IF(D82=D81,\"\",CONCATENATE(B82,A82,DIGITADOR!$M$1,ACTIVIDADES!N82,C82)))","v":""},null,null,null,{"$f":"IF(M82=\"\",\"\",INDEX(referentes!AN:AQ,MATCH(M82,referentes!AQ:AQ,0),1))","v":""},null,{"$f":"IF(O82=\"\",\"\",INDEX(referentes!A:B,MATCH(O82,referentes!B:B,0),1))","v":""},null,{"$f":"IF(Q82=\"\",\"\",INDEX(referentes!D:E,MATCH(Q82,referentes!E:E,0),1))","v":""},"",null,null,null,null,"","","",78,"","",""]
["30001212",{"$f":"DIGITADOR!$B$2","v":""},1,{"$f":"IF(G83<>\"\",CONCATENATE(B83,A83,DIGITADOR!$M$1,C83,G83),\"\")","v":""},null,"",null,"",{"$f":"IF(ACTIVIDADES!K83<>\"\",CONCATENATE(B83,A83,DIGITADOR!$M$1,ACTIVIDADES!N83,C83),\"\")","v":""},{"$f":"IF(G83=\"\",\"\",IF(D83=D82,\"\",CONCATENATE(B83,A83,DIGITADOR!$M$1,ACTIVIDADES!N83,C83)))","v":""},null,null,null,{"$f":"IF(M83=\"\",\"\",INDEX(referentes!AN:AQ,MATCH(M83,referentes!AQ:AQ,0),1))","v":""},null,{"$f":"IF(O83=\"\",\"\",INDEX(referentes!A:B,MATCH(O83,referentes!B:B,0),1))","v":""},null,{"$f":"IF(Q83=\"\",\"\",INDEX(referentes!D:E,MATCH(Q83,referentes!E:E,0),1))","v":""},"",null,null,null,null,"","","",79,"","",""]
["30001212",{"$f":"DIGITADOR!$B$2","v":""},1,{"$f":"IF(G84<>\"\",CONCATENATE(B84,A84,DIGITADOR!$M$1,C84,G84),\"\")","v":""},null,"",null,"",{"$f":"IF(ACTIVIDADES!K84<>\"\",CONCATENATE(B84,A84,DIGITADOR!$M$1,ACTIVIDADES!N84,C84),\"\")","v":""},{"$f":"IF(G84=\"\",\"\",IF(D84=D83,\"\",CONCATENATE(B84,A84,DIGITADOR!$M$1,ACTIVIDADES!N84,C84)))","v":""},null,null,null,{"$f":"IF(M84=\"\",\"\",INDEX(referentes!AN:AQ,MATCH(M84,referentes!AQ:AQ,0),1))","v":""},null,{"$f":"IF(O84=\"\",\"\",INDEX(referentes!A:B,MATCH(O84,referentes!B:B,0),1))","v":""},null,{"$f":"IF(Q84=\"\",\"\",INDEX(referentes!D:E,MATCH(Q84,referentes!E:E,0),1))","v":""},"",null,null,null,null,"","","",80,"","",""]
["30001212",{"$f":"DIGITADOR!$B$2","v":""},1,{"$f":"IF(G85<>\"\",CONCATENATE(B85,A85,DIGITADOR!$M$1,C85,G85),\"\")","v":""},null,"",null,"",{"$f":"IF(ACTIVIDADES!K85<>\"\",CONCATENATE(B85,A85,DIGITADOR!$M$1,ACTIVIDADES!N85,C85),\"\")","v":""},{"$f":"IF(G85=\"\",\"\",IF(D85=D84,\"\",CONCATENATE(B85,A85,DIGITADOR!$M$1,ACTIVIDADES!N85,C85)))","v":""},null,null,null,{"$f":"IF(M85=\"\",\"\",INDEX(referentes!AN:AQ,MATCH(M85,referentes!AQ:AQ,0),1))","v":""},null,{"$f":"IF(O85=\"\",\"\",INDEX(referentes!A:B,MATCH(O85,referentes!B:B,0),1))","v":""},null,{"$f":"IF(Q85=\"\",\"\",INDEX(referentes!D:E,MATCH(Q85,referentes!E:E,0),1))","v":""},"",null,null,null,null,"","","",81,"","",""]
["30001212",{"$f":"DIGITADOR!$B$2","v":""},1,{"$f":"IF(G86<>\"\",CONCATENATE(B86,A86,DIGITADOR!$M$1,C86,G86),\"\")","v":""},null,"",null,"",{"$f":"IF(ACTIVIDADES!K86<>\"\",CONCATENATE(B86,A86,DIGITADOR!$M$1,ACTIVIDADES!N86,C86),\"\")","v":""},{"$f":"IF(G86=\"\",\"\",IF(D86=D85,\"\",CONCATENATE(B86,A86,DIGITADOR!$M$1,ACTIVIDADES!N86,C86)))","v":""},null,null,null,{"$f":"IF(M86=\"\",\"\",INDEX(referentes!AN:AQ,MATCH(M86,referentes!AQ:AQ,0),1))","v":""},null,{"$f":"IF(O86=\"\",\"\",INDEX(referentes!A:B,MATCH(O86,referentes!B:B,0),1))","v":""},null,{"$f":"IF(Q86=\"\",\"\",INDEX(referentes!D:E,MATCH(Q86,referentes!E:E,0),1))","v":""},"",null,null,null,null,"","","",82,"","",""]
["30001212",{"$f":"DIGITADOR!$B$2","v":""},1,{"$f":"IF(G87<>\"\",CONCATENATE(B87,A87,DIGITADOR!$M$1,C87,G87),\"\")","v":""},null,"",null,"",{"$f":"IF(ACTIVIDADES!K87<>\"\",CONCATENATE(B87,A87,DIGITADOR!$M$1,ACTIVIDADES!N87,C87),\"\")","v":""},{"$f":"IF(G87=\"\",\"\",IF(D87=D86,\"\",CONCATENATE(B87,A87,DIGITADOR!$M$1,ACTIVIDADES!N87,C87)))","v":""},null,null,null,{"$f":"IF(M87=\"\",\"\",INDEX(referentes!AN:AQ,MATCH(M87,referentes!AQ:AQ,0),1))","v":""},null,{"$f":"IF(O87=\"\",\"\",INDEX(referentes!A:B,MATCH(O87,referentes!B:B,0),1))","v":""},null,{"$f":"IF(Q87=\"\",\"\",INDEX(referentes!D:E,MATCH(Q87,referentes!E:E,0),1))","v":""},"",null,null,null,null,"","","",83,"","",""]
["30001212",{"$f":"DIGITADOR!$B$2","v":""},1,{"$f":"IF(G88<>\"\",CONCATENATE(B88,A88,DIGITADOR!$M$1,C88,G88),\"\")","v":""},null,"",null,"",{"$f":"IF(ACTIVIDADES!K88<>\"\",CONCATENATE(B88,A88,DIGITADOR!$M$1,ACTIVIDADES!N88,C88),\"\")","v":""},{"$f":"IF(G88=\"\",\"\",IF(D88=D87,\"\",CONCATENATE(B88,A88,DIGITADOR!$M$1,ACTIVIDADES!N88,C88)))","v":""},null,null,null,{"$f":"IF(M88=\"\",\"\",INDEX(referentes!AN:AQ,MATCH(M88,referentes!AQ:AQ,0),1))","v":""},null,{"$f":"IF(O88=\"\",\"\",INDEX(referentes!A:B,MATCH(O88,referentes!B:B,0),1))","v":""},null,{"$f":"IF(Q88=\"\",\"\",INDEX(referentes!D:E,MATCH(Q88,referentes!E:E,0),1))","v":""},"",null,null,null,null,"","","",84,"","",""]
["30001212",{"$f":"DIGITADOR!$B$2","v":""},1,{"$f":"IF(G89<>\"\",CONCATENATE(B89,A89,DIGITADOR!$M$1,C89,G89),\"\")","v":""},null,"",null,"",{"$f":"IF(ACTIVIDADES!K89<>\"\",CONCATENATE(B89,A89,DIGITADOR!$M$1,ACTIVIDADES!N89,C89),\"\")","v":""},{"$f":"IF(G89=\"\",\"\",IF(D89=D88,\"\",CONCATENATE(B89,A89,DIGITADOR!$M$1,ACTIVIDADES!N89,C89)))","v":""},null,null,null,{"$f":"IF(M89=\"\",\"\",INDEX(referentes!AN:AQ,MATCH(M89,referentes!AQ:AQ,0),1))","v":""},null,{"$f":"IF(O89=\"\",\"\",INDEX(referentes!A:B,MATCH(O89,referentes!B:B,0),1))","v":""},null,{"$f":"IF(Q89=\"\",\"\",INDEX(referentes!D:E,MATCH(Q89,referentes!E:E,0),1))","v":""},"",null,null,null,null,"","","",85,"","",""]
["30001212",{"$f":"DIGITADOR!$B$2","v":""},1,{"$f":"IF(G90<>\"\",CONCATENATE(B90,A90,DIGITADOR!$M$1,C90,G90),\"\")","v":""},null,"",null,"",{"$f":"IF(ACTIVIDADES!K90<>\"\",CONCATENATE(B90,A90,DIGITADOR!$M$1,ACTIVIDADES!N90,C90),\"\")","v":""},{"$f":"IF(G90=\"\",\"\",IF(D90=D89,\"\",CONCATENATE(B90,A90,DIGITADOR!$M$1,ACTIVIDADES!N90,C90)))","v":""},null,null,null,{"$f":"IF(M90=\"\",\"\",INDEX(referentes!AN:AQ,MATCH(M90,referentes!AQ:AQ,0),1))","v":""},null,{"$f":"IF(O90=\"\",\"\",INDEX(referentes!A:B,MATCH(O90,referentes!B:B,0),1))","v":""},null,{"$f":"IF(Q90=\"\",\"\",INDEX(referentes!D:E,MATCH(Q90,referentes!E:E,0),1))","v":""},"",null,null,null,null,"","","",86,"","",""]
["30001212",{"$f":"DIGITADOR!$B$2","v":""},1,{"$f":"IF(G91<>\"\",CONCATENATE(B91,A91,DIGITADOR!$M$1,C91,G91),\"\")","v":""},null,"",null,"",{"$f":"IF(ACTIVIDADES!K91<>\"\",CONCATENATE(B91,A91,DIGITADOR!$M$1,ACTIVIDADES!N91,C91),\"\")","v":""},{"$f":"IF(G91=\"\",\"\",IF(D91=D90,\"\",CONCATENATE(B91,A91,DIGITADOR!$M$1,ACTIVIDADES!N91,C91)))","v":""},null,null,null,{"$f":"IF(M91=\"\",\"\",INDEX(referentes!AN:AQ,MATCH(M91,referentes!AQ:AQ,0),1))","v":""},null,{"$f":"IF(O91=\"\",\"\",INDEX(referentes!A:B,MATCH(O91,referentes!B:B,0),1))","v":""},null,{"$f":"IF(Q91=\"\",\"\",INDEX(referentes!D:E,MATCH(Q91,referentes!E:E,0),1))","v":""},"",null,null,null,null,"","","",87,"","",""]
["30001212",{"$f":"DIGITADOR!$B$2","v":""},1,{"$f":"IF(G92<>\"\",CONCATENATE(B92,A92,DIGITADOR!$M$1,C92,G92),\"\")","v":""},null,"",null,"",{"$f":"IF(ACTIVIDADES!K92<>\"\",CONCATENATE(B92,A92,DIGITADOR!$M$1,ACTIVIDADES!N92,C92),\"\")","v":""},{"$f":"IF(G92=\"\",\"\",IF(D92=D91,\"\",CONCATENATE(B92,A92,DIGITADOR!$M$1,ACTIVIDADES!N92,C92)))","v":""},null,null,null,{"$f":"IF(M92=\"\",\"\",INDEX(referentes!AN:AQ,MATCH(M92,referentes!AQ:AQ,0),1))","v":""},null,{"$f":"IF(O92=\"\",\"\",INDEX(referentes!A:B,MATCH(O92,referentes!B:B,0),1))","v":""},null,{"$f":"IF(Q92=\"\",\"\",INDEX(referentes!D:E,MATCH(Q92,referentes!E:E,0),1))","v":""},"",null,null,null,null,"","","",88,"","",""]
["30001212",{"$f":"DIGITADOR!$B$2","v":""},1,{"$f":"IF(G93<>\"\",CONCATENATE(B93,A93,DIGITADOR!$M$1,C93,G93),\"\")","v":""},null,"",null,"",{"$f":"IF(ACTIVIDADES!K93<>\"\",CONCATENATE(B93,A93,DIGITADOR!$M$1,ACTIVIDADES!N93,C93),\"\")","v":""},{"$f":"IF(G93=\"\",\"\",IF(D93=D92,\"\",CONCATENATE(B93,A93,DIGITADOR!$M$1,ACTIVIDADES!N93,C93)))","v":""},null,null,null,{"$f":"IF(M93=\"\",\"\",INDEX(referentes!AN:AQ,MATCH(M93,referentes!AQ:AQ,0),1))","v":""},null,{"$f":"IF(O93=\"\",\"\",INDEX(referentes!A:B,MATCH(O93,referentes!B:B,0),1))","v":""},null,{"$f":"IF(Q93=\"\",\"\",INDEX(referentes!D:E,MATCH(Q93,referentes!E:E,0),1))","v":""},"",null,null,null,null,"","","",89,"","",""]
["30001212",{"$f":"DIGITADOR!$B$2","v":""},1,{"$f":"IF(G94<>\"\",CONCATENATE(B94,A94,DIGITADOR!$M$1,C94,G94),\"\")","v":""},null,"",null,"",{"$f":"IF(ACTIVIDADES!K94<>\"\",CONCATENATE(B94,A94,DIGITADOR!$M$1,ACTIVIDADES!N94,C94),\"\")","v":""},{"$f":"IF(G94=\"\",\"\",IF(D94=D93,\"\",CONCATENATE(B94,A94,DIGITADOR!$M$1,ACTIVIDADES!N94,C94)))","v":""},null,null,null,{"$f":"IF(M94=\"\",\"\",INDEX(referentes!AN:AQ,MATCH(M94,referentes!AQ:AQ,0),1))","v":""},null,{"$f":"IF(O94=\"\",\"\",INDEX(referentes!A:B,MATCH(O94,referentes!B:B,0),1))","v":""},null,{"$f":"IF(Q94=\"\",\"\",INDEX(referentes!D:E,MATCH(Q94,referentes!E:E,0),1))","v":""},"",null,null,null,null,"","","",90,"","",""]
["30001212",{"$f":"DIGITADOR!$B$2","v":""},1,{"$f":"IF(G95<>\"\",CONCATENATE(B95,A95,DIGITADOR!$M$1,C95,G95),\"\")","v":""},null,"",null,"",{"$f":"IF(ACTIVIDADES!K95<>\"\",CONCATENATE(B95,A95,DIGITADOR!$M$1,ACTIVIDADES!N95,C95),\"\")","v":""},{"$f":"IF(G95=\"\",\"\",IF(D95=D94,\"\",CONCATENATE(B95,A95,DIGITADOR!$M$1,ACTIVIDADES!N95,C95)))","v":""},null,null,null,{"$f":"IF(M95=\"\",\"\",INDEX(referentes!AN:AQ,MATCH(M95,referentes!AQ:AQ,0),1))","v":""},null,{"$f":"IF(O95=\"\",\"\",INDEX(referentes!A:B,MATCH(O95,referentes!B:B,0),1))","v":""},null,{"$f":"IF(Q95=\"\",\"\",INDEX(referentes!D:E,MATCH(Q95,referentes!E:E,0),1))","v":""},"",null,null,null,null,"","","",91,"","",""]
["30001212",{"$f":"DIGITADOR!$B$2","v":""},1,{"$f":"IF(G96<>\"\",CONCATENATE(B96,A96,DIGITADOR!$M$1,C96,G96),\"\")","v":""},null,"",null,"",{"$f":"IF(ACTIVIDADES!K96<>\"\",CONCATENATE(B96,A96,DIGITADOR!$M$1,ACTIVIDADES!N96,C96),\"\")","v":""},{"$f":"IF(G96=\"\",\"\",IF(D96=D95,\"\",CONCATENATE(B96,A96,DIGITADOR!$M$1,ACTIVIDADES!N96,C96)))","v":""},null,null,null,{"$f":"IF(M96=\"\",\"\",INDEX(referentes!AN:AQ,MATCH(M96,referentes!AQ:AQ,0),1))","v":""},null,{"$f":"IF(O96=\"\",\"\",INDEX(referentes!A:B,MATCH(O96,referentes!B:B,0),1))","v":""},null,{"$f":"IF(Q96=\"\",\"\",INDEX(referentes!D:E,MATCH(Q96,referentes!E:E,0),1))","v":""},"",null,null,null,null,"","","",92,"","",""]
["30001212",{"$f":"DIGITADOR!$B$2","v":""},1,{"$f":"IF(G97<>\"\",CONCATENATE(B97,A97,DIGITADOR!$M$1,C97,G97),\"\")","v":""},null,"",null,"",{"$f":"IF(ACTIVIDADES!K97<>\"\",CONCATENATE(B97,A97,DIGITADOR!$M$1,ACTIVIDADES!N97,C97),\"\")","v":""},{"$f":"IF(G97=\"\",\"\",IF(D97=D96,\"\",CONCATENATE(B97,A97,DIGITADOR!$M$1,ACTIVIDADES!N97,C97)))","v":""},null,null,null,{"$f":"IF(M97=\"\",\"\",INDEX(referentes!AN:AQ,MATCH(M97,referentes!AQ:AQ,0),1))","v":""},null,{"$f":"IF(O97=\"\",\"\",INDEX(referentes!A:B,MATCH(O97,referentes!B:B,0),1))","v":""},null,{"$f":"IF(Q97=\"\",\"\",INDEX(referentes!D:E,MATCH(Q97,referentes!E:E,0),1))","v":""},"",null,null,null,null,"","","",93,"","",""]
["30001212",{"$f":"DIGITADOR!$B$2","v":""},1,{"$f":"IF(G98<>\"\",CONCATENATE(B98,A98,DIGITADOR!$M$1,C98,G98),\"\")","v":""},null,"",null,"",{"$f":"IF(ACTIVIDADES!K98<>\"\",CONCATENATE(B98,A98,DIGITADOR!$M$1,ACTIVIDADES!N98,C98),\"\")","v":""},{"$f":"IF(G98=\"\",\"\",IF(D98=D97,\"\",CONCATENATE(B98,A98,DIGITADOR!$M$1,ACTIVIDADES!N98,C98)))","v":""},null,null,null,{"$f":"IF(M98=\"\",\"\",INDEX(referentes!AN:AQ,MATCH(M98,referentes!AQ:AQ,0),1))","v":""},null,{"$f":"IF(O98=\"\",\"\",INDEX(referentes!A:B,MATCH(O98,referentes!B:B,0),1))","v":""},null,{"$f":"IF(Q98=\"\",\"\",INDEX(referentes!D:E,MATCH(Q98,referentes!E:E,0),1))","v":""},"",null,null,null,null,"","","",94,"","",""]
["30001212",{"$f":"DIGITADOR!$B$2","v":""},1,{"$f":"IF(G99<>\"\",CONCATENATE(B99,A99,DIGITADOR!$M$1,C99,G99),\"\")","v":""},null,"",null,"",{"$f":"IF(ACTIVIDADES!K99<>\"\",CONCATENATE(B99,A99,DIGITADOR!$M$1,ACTIVIDADES!N99,C99),\"\")","v":""},{"$f":"IF(G99=\"\",\"\",IF(D99=D98,\"\",CONCATENATE(B99,A99,DIGITADOR!$M$1,ACTIVIDADES!N99,C99)))","v":""},null,null,null,{"$f":"IF(M99=\"\",\"\",INDEX(referentes!AN:AQ,MATCH(M99,referentes!AQ:AQ,0),1))","v":""},null,{"$f":"IF(O99=\"\",\"\",INDEX(referentes!A:B,MATCH(O99,referentes!B:B,0),1))","v":""},null,{"$f":"IF(Q99=\"\",\"\",INDEX(referentes!D:E,MATCH(Q99,referentes!E:E,0),1))","v":""},"",null,null,null,null,"","","",95,"","",""]
["30001212",{"$f":"DIGITADOR!$B$2","v":""},1,{"$f":"IF(G100<>\"\",CONCATENATE(B100,A100,DIGITADOR!$M$1,C100,G100),\"\")","v":""},null,"",null,"",{"$f":"IF(ACTIVIDADES!K100<>\"\",CONCATENATE(B100,A100,DIGITADOR!$M$1,ACTIVIDADES!N100,C100),\"\")","v":""},{"$f":"IF(G100=\"\",\"\",IF(D100=D99,\"\",CONCATENATE(B100,A100,DIGITADOR!$M$1,ACTIVIDADES!N100,C100)))","v":""},null,null,null,{"$f":"IF(M100=\"\",\"\",INDEX(referentes!AN:AQ,MATCH(M100,referentes!AQ:AQ,0),1))","v":""},null,{"$f":"IF(O100=\"\",\"\",INDEX(referentes!A:B,MATCH(O100,referentes!B:B,0),1))","v":""},null,{"$f":"IF(Q100=\"\",\"\",INDEX(referentes!D:E,MATCH(Q100,referentes!E:E,0),1))","v":""},"",null,null,null,null,"","","",96,"","",""]
["30001212",{"$f":"DIGITADOR!$B$2","v":""},1,{"$f":"IF(G101<>\"\",CONCATENATE(B101,A101,DIGITADOR!$M$1,C101,G101),\"\")","v":""},null,"",null,"",{"$f":"IF(ACTIVIDADES!K101<>\"\",CONCATENATE(B101,A101,DIGITADOR!$M$1,ACTIVIDADES!N101,C101),\"\")","v":""},{"$f":"IF(G101=\"\",\"\",IF(D101=D100,\"\",CONCATENATE(B101,A101,DIGITADOR!$M$1,ACTIVIDADES!N101,C101)))","v":""},null,null,null,{"$f":"IF(M101=\"\",\"\",INDEX(referentes!AN:AQ,MATCH(M101,referentes!AQ:AQ,0),1))","v":""},null,{"$f":"IF(O101=\"\",\"\",INDEX(referentes!A:B,MATCH(O101,referentes!B:B,0),1))","v":""},null,{"$f":"IF(Q101=\"\",\"\",INDEX(referentes!D:E,MATCH(Q101,referentes!E:E,0),1))","v":""},"",null,null,null,null,"","","",97,"","",""]
["30001212",{"$f":"DIGITADOR!$B$2","v":""},1,{"$f":"IF(G102<>\"\",CONCATENATE(B102,A102,DIGITADOR!$M$1,C102,G102),\"\")","v":""},null,"",null,"",{"$f":"IF(ACTIVIDADES!K102<>\"\",CONCATENATE(B102,A102,DIGITADOR!$M$1,ACTIVIDADES!N102,C102),\"\")","v":""},{"$f":"IF(G102=\"\",\"\",IF(D102=D101,\"\",CONCATENATE(B102,A102,DIGITADOR!$M$1,ACTIVIDADES!N102,C102)))","v":""},null,null,null,{"$f":"IF(M102=\"\",\"\",INDEX(referentes!AN:AQ,MATCH(M102,referentes!AQ:AQ,0),1))","v":""},null,{"$f":"IF(O102=\"\",\"\",INDEX(referentes!A:B,MATCH(O102,referentes!B:B,0),1))","v":""},null,{"$f":"IF(Q102=\"\",\"\",INDEX(referentes!D:E,MATCH(Q102,referentes!E:E,0),1))","v":""},"",null,null,null,null,"","","",98,"","",""]
["30001212",{"$f":"DIGITADOR!$B$2","v":""},1,{"$f":"IF(G103<>\"\",CONCATENATE(B103,A103,DIGITADOR!$M$1,C103,G103),\"\")","v":""},null,"",null,"",{"$f":"IF(ACTIVIDADES!K103<>\"\",CONCATENATE(B103,A103,DIGITADOR!$M$1,ACTIVIDADES!N103,C103),\"\")","v":""},{"$f":"IF(G103=\"\",\"\",IF(D103=D102,\"\",CONCATENATE(B103,A103,DIGITADOR!$M$1,ACTIVIDADES!N103,C103)))","v":""},null,null,null,{"$f":"IF(M103=\"\",\"\",INDEX(referentes!AN:AQ,MATCH(M103,referentes!AQ:AQ,0),1))","v":""},null,{"$f":"IF(O103=\"\",\"\",INDEX(referentes!A:B,MATCH(O103,referentes!B:B,0),1))","v":""},null,{"$f":"IF(Q103=\"\",\"\",INDEX(referentes!D:E,MATCH(Q103,referentes!E:E,0),1))","v":""},"",null,null,null,null,"","","",99,"","",""]
["30001212",{"$f":"DIGITADOR!$B$2","v":""},1,{"$f":"IF(G104<>\"\",CONCATENATE(B104,A104,DIGITADOR!$M$1,C104,G104),\"\")","v":""},null,"",null,"",{"$f":"IF(ACTIVIDADES!K104<>\"\",CONCATENATE(B104,A104,DIGITADOR!$M$1,ACTIVIDADES!N104,C104),\"\")","v":""},{"$f":"IF(G104=\"\",\"\",IF(D104=D103,\"\",CONCATENATE(B104,A104,DIGITADOR!$M$1,ACTIVIDADES!N104,C104)))","v":""},null,null,null,{"$f":"IF(M104=\"\",\"\",INDEX(referentes!AN:AQ,MATCH(M104,referentes!AQ:AQ,0),1))","v":""},null,{"$f":"IF(O104=\"\",\"\",INDEX(referentes!A:B,MATCH(O104,referentes!B:B,0),1))","v":""},null,{"$f":"IF(Q104=\"\",\"\",INDEX(referentes!D:E,MATCH(Q104,referentes!E:E,0),1))","v":""},"",null,null,null,null,"","","",100,"","",""]
["30001212",{"$f":"DIGITADOR!$B$2","v":""},1,{"$f":"IF(G105<>\"\",CONCATENATE(B105,A105,DIGITADOR!$M$1,C105,G105),\"\")","v":""},null,"",null,"",{"$f":"IF(ACTIVIDADES!K105<>\"\",CONCATENATE(B105,A105,DIGITADOR!$M$1,ACTIVIDADES!N105,C105),\"\")","v":""},{"$f":"IF(G105=\"\",\"\",IF(D105=D104,\"\",CONCATENATE(B105,A105,DIGITADOR!$M$1,ACTIVIDADES!N105,C105)))","v":""},null,null,null,{"$f":"IF(M105=\"\",\"\",INDEX(referentes!AN:AQ,MATCH(M105,referentes!AQ:AQ,0),1))","v":""},null,{"$f":"IF(O105=\"\",\"\",INDEX(referentes!A:B,MATCH(O105,referentes!B:B,0),1))","v":""},null,{"$f":"IF(Q105=\"\",\"\",INDEX(referentes!D:E,MATCH(Q105,referentes!E:E,0),1))","v":""},"",null,null,null,null,"","","",101,"","",""]
["30001212",{"$f":"DIGITADOR!$B$2","v":""},1,{"$f":"IF(G106<>\"\",CONCATENATE(B106,A106,DIGITADOR!$M$1,C106,G106),\"\")","v":""},null,"",null,"",{"$f":"IF(ACTIVIDADES!K106<>\"\",CONCATENATE(B106,A106,DIGITADOR!$M$1,ACTIVIDADES!N106,C106),\"\")","v":""},{"$f":"IF(G106=\"\",\"\",IF(D106=D105,\"\",CONCATENATE(B106,A106,DIGITADOR!$M$1,ACTIVIDADES!N106,C106)))","v":""},null,null,null,{"$f":"IF(M106=\"\",\"\",INDEX(referentes!AN:AQ,MATCH(M106,referentes!AQ:AQ,0),1))","v":""},null,{"$f":"IF(O106=\"\",\"\",INDEX(referentes!A:B,MATCH(O106,referentes!B:B,0),1))","v":""},null,{"$f":"IF(Q106=\"\",\"\",INDEX(referentes!D:E,MATCH(Q106,referentes!E:E,0),1))","v":""},"",null,null,null,null,"","","",102,"","",""]
["30001212",{"$f":"DIGITADOR!$B$2","v":""},1,{"$f":"IF(G107<>\"\",CONCATENATE(B107,A107,DIGITADOR!$M$1,C107,G107),\"\")","v":""},null,"",null,"",{"$f":"IF(ACTIVIDADES!K107<>\"\",CONCATENATE(B107,A107,DIGITADOR!$M$1,ACTIVIDADES!N107,C107),\"\")","v":""},{"$f":"IF(G107=\"\",\"\",IF(D107=D106,\"\",CONCATENATE(B107,A107,DIGITADOR!$M$1,ACTIVIDADES!N107,C107)))","v":""},null,null,null,{"$f":"IF(M107=\"\",\"\",INDEX(referentes!AN:AQ,MATCH(M107,referentes!AQ:AQ,0),1))","v":""},null,{"$f":"IF(O107=\"\",\"\",INDEX(referentes!A:B,MATCH(O107,referentes!B:B,0),1))","v":""},null,{"$f":"IF(Q107=\"\",\"\",INDEX(referentes!D:E,MATCH(Q107,referentes!E:E,0),1))","v":""},"",null,null,null,null,"","","",103,"","",""]
["30001212",{"$f":"DIGITADOR!$B$2","v":""},1,{"$f":"IF(G108<>\"\",CONCATENATE(B108,A108,DIGITADOR!$M$1,C108,G108),\"\")","v":""},null,"",null,"",{"$f":"IF(ACTIVIDADES!K108<>\"\",CONCATENATE(B108,A108,DIGITADOR!$M$1,ACTIVIDADES!N108,C108),\"\")","v":""},{"$f":"IF(G108=\"\",\"\",IF(D108=D107,\"\",CONCATENATE(B108,A108,DIGITADOR!$M$1,ACTIVIDADES!N108,C108)))","v":""},null,null,null,{"$f":"IF(M108=\"\",\"\",INDEX(referentes!AN:AQ,MATCH(M108,referentes!AQ:AQ,0),1))","v":""},null,{"$f":"IF(O108=\"\",\"\",INDEX(referentes!A:B,MATCH(O108,referentes!B:B,0),1))","v":""},null,{"$f":"IF(Q108=\"\",\"\",INDEX(referentes!D:E,MATCH(Q108,referentes!E:E,0),1))","v":""},"",null,null,null,null,"","","",104,"","",""]
["30001212",{"$f":"DIGITADOR!$B$2","v":""},1,{"$f":"IF(G109<>\"\",CONCATENATE(B109,A109,DIGITADOR!$M$1,C109,G109),\"\")","v":""},null,"",null,"",{"$f":"IF(ACTIVIDADES!K109<>\"\",CONCATENATE(B109,A109,DIGITADOR!$M$1,ACTIVIDADES!N109,C109),\"\")","v":""},{"$f":"IF(G109=\"\",\"\",IF(D109=D108,\"\",CONCATENATE(B109,A109,DIGITADOR!$M$1,ACTIVIDADES!N109,C109)))","v":""},null,null,null,{"$f":"IF(M109=\"\",\"\",INDEX(referentes!AN:AQ,MATCH(M109,referentes!AQ:AQ,0),1))","v":""},null,{"$f":"IF(O109=\"\",\"\",INDEX(referentes!A:B,MATCH(O109,referentes!B:B,0),1))","v":""},null,{"$f":"IF(Q109=\"\",\"\",INDEX(referentes!D:E,MATCH(Q109,referentes!E:E,0),1))","v":""},"",null,null,null,null,"","","",105,"","",""]
["30001212",{"$f":"DIGITADOR!$B$2","v":""},1,{"$f":"IF(G110<>\"\",CONCATENATE(B110,A110,DIGITADOR!$M$1,C110,G110),\"\")","v":""},null,"",null,"",{"$f":"IF(ACTIVIDADES!K110<>\"\",CONCATENATE(B110,A110,DIGITADOR!$M$1,ACTIVIDADES!N110,C110),\"\")","v":""},{"$f":"IF(G110=\"\",\"\",IF(D110=D109,\"\",CONCATENATE(B110,A110,DIGITADOR!$M$1,ACTIVIDADES!N110,C110)))","v":""},null,null,null,{"$f":"IF(M110=\"\",\"\",INDEX(referentes!AN:AQ,MATCH(M110,referentes!AQ:AQ,0),1))","v":""},null,{"$f":"IF(O110=\"\",\"\",INDEX(referentes!A:B,MATCH(O110,referentes!B:B,0),1))","v":""},null,{"$f":"IF(Q110=\"\",\"\",INDEX(referentes!D:E,MATCH(Q110,referentes!E:E,0),1))","v":""},"",null,null,null,null,"","","",106,"","",""]
["30001212",{"$f":"DIGITADOR!$B$2","v":""},1,{"$f":"IF(G111<>\"\",CONCATENATE(B111,A111,DIGITADOR!$M$1,C111,G111),\"\")","v":""},null,"",null,"",{"$f":"IF(ACTIVIDADES!K111<>\"\",CONCATENATE(B111,A111,DIGITADOR!$M$1,ACTIVIDADES!N111,C111),\"\")","v":""},{"$f":"IF(G111=\"\",\"\",IF(D111=D110,\"\",CONCATENATE(B111,A111,DIGITADOR!$M$1,ACTIVIDADES!N111,C111)))","v":""},null,null,null,{"$f":"IF(M111=\"\",\"\",INDEX(referentes!AN:AQ,MATCH(M111,referentes!AQ:AQ,0),1))","v":""},null,{"$f":"IF(O111=\"\",\"\",INDEX(referentes!A:B,MATCH(O111,referentes!B:B,0),1))","v":""},null,{"$f":"IF(Q111=\"\",\"\",INDEX(referentes!D:E,MATCH(Q111,referentes!E:E,0),1))","v":""},"",null,null,null,null,"","","",107,"","",""]
["30001212",{"$f":"DIGITADOR!$B$2","v":""},1,{"$f":"IF(G112<>\"\",CONCATENATE(B112,A112,DIGITADOR!$M$1,C112,G112),\"\")","v":""},null,"",null,"",{"$f":"IF(ACTIVIDADES!K112<>\"\",CONCATENATE(B112,A112,DIGITADOR!$M$1,ACTIVIDADES!N112,C112),\"\")","v":""},{"$f":"IF(G112=\"\",\"\",IF(D112=D111,\"\",CONCATENATE(B112,A112,DIGITADOR!$M$1,ACTIVIDADES!N112,C112)))","v":""},null,null,null,{"$f":"IF(M112=\"\",\"\",INDEX(referentes!AN:AQ,MATCH(M112,referentes!AQ:AQ,0),1))","v":""},null,{"$f":"IF(O112=\"\",\"\",INDEX(referentes!A:B,MATCH(O112,referentes!B:B,0),1))","v":""},null,{"$f":"IF(Q112=\"\",\"\",INDEX(referentes!D:E,MATCH(Q112,referentes!E:E,0),1))","v":""},"",null,null,null,null,"","","",108,"","",""]
["30001212",{"$f":"DIGITADOR!$B$2","v":""},1,{"$f":"IF(G113<>\"\",CONCATENATE(B113,A113,DIGITADOR!$M$1,C113,G113),\"\")","v":""},null,"",null,"",{"$f":"IF(ACTIVIDADES!K113<>\"\",CONCATENATE(B113,A113,DIGITADOR!$M$1,ACTIVIDADES!N113,C113),\"\")","v":""},{"$f":"IF(G113=\"\",\"\",IF(D113=D112,\"\",CONCATENATE(B113,A113,DIGITADOR!$M$1,ACTIVIDADES!N113,C113)))","v":""},null,null,null,{"$f":"IF(M113=\"\",\"\",INDEX(referentes!AN:AQ,MATCH(M113,referentes!AQ:AQ,0),1))","v":""},null,{"$f":"IF(O113=\"\",\"\",INDEX(referentes!A:B,MATCH(O113,referentes!B:B,0),1))","v":""},null,{"$f":"IF(Q113=\"\",\"\",INDEX(referentes!D:E,MATCH(Q113,referentes!E:E,0),1))","v":""},"",null,null,null,null,"","","",109,"","",""]
["30001212",{"$f":"DIGITADOR!$B$2","v":""},1,{"$f":"IF(G114<>\"\",CONCATENATE(B114,A114,DIGITADOR!$M$1,C114,G114),\"\")","v":""},null,"",null,"",{"$f":"IF(ACTIVIDADES!K114<>\"\",CONCATENATE(B114,A114,DIGITADOR!$M$1,ACTIVIDADES!N114,C114),\"\")","v":""},{"$f":"IF(G114=\"\",\"\",IF(D114=D113,\"\",CONCATENATE(B114,A114,DIGITADOR!$M$1,ACTIVIDADES!N114,C114)))","v":""},null,null,null,{"$f":"IF(M114=\"\",\"\",INDEX(referentes!AN:AQ,MATCH(M114,referentes!AQ:AQ,0),1))","v":""},null,{"$f":"IF(O114=\"\",\"\",INDEX(referentes!A:B,MATCH(O114,referentes!B:B,0),1))","v":""},null,{"$f":"IF(Q114=\"\",\"\",INDEX(referentes!D:E,MATCH(Q114,referentes!E:E,0),1))","v":""},"",null,null,null,null,"","","",110,"","",""]
["30001212",{"$f":"DIGITADOR!$B$2","v":""},1,{"$f":"IF(G115<>\"\",CONCATENATE(B115,A115,DIGITADOR!$M$1,C115,G115),\"\")","v":""},null,"",null,"",{"$f":"IF(ACTIVIDADES!K115<>\"\",CONCATENATE(B115,A115,DIGITADOR!$M$1,ACTIVIDADES!N115,C115),\"\")","v":""},{"$f":"IF(G115=\"\",\"\",IF(D115=D114,\"\",CONCATENATE(B115,A115,DIGITADOR!$M$1,ACTIVIDADES!N115,C115)))","v":""},null,null,null,{"$f":"IF(M115=\"\",\"\",INDEX(referentes!AN:AQ,MATCH(M115,referentes!AQ:AQ,0),1))","v":""},null,{"$f":"IF(O115=\"\",\"\",INDEX(referentes!A:B,MATCH(O115,referentes!B:B,0),1))","v":""},null,{"$f":"IF(Q115=\"\",\"\",INDEX(referentes!D:E,MATCH(Q115,referentes!E:E,0),1))","v":""},"",null,null,null,null,"","","",111,"","",""]
["30001212",{"$f":"DIGITADOR!$B$2","v":""},1,{"$f":"IF(G116<>\"\",CONCATENATE(B116,A116,DIGITADOR!$M$1,C116,G116),\"\")","v":""},null,"",null,"",{"$f":"IF(ACTIVIDADES!K116<>\"\",CONCATENATE(B116,A116,DIGITADOR!$M$1,ACTIVIDADES!N116,C116),\"\")","v":""},{"$f":"IF(G116=\"\",\"\",IF(D116=D115,\"\",CONCATENATE(B116,A116,DIGITADOR!$M$1,ACTIVIDADES!N116,C116)))","v":""},null,null,null,{"$f":"IF(M116=\"\",\"\",INDEX(referentes!AN:AQ,MATCH(M116,referentes!AQ:AQ,0),1))","v":""},null,{"$f":"IF(O116=\"\",\"\",INDEX(referentes!A:B,MATCH(O116,referentes!B:B,0),1))","v":""},null,{"$f":"IF(Q116=\"\",\"\",INDEX(referentes!D:E,MATCH(Q116,referentes!E:E,0),1))","v":""},"",null,null,null,null,"","","",112,"","",""]
["30001212",{"$f":"DIGITADOR!$B$2","v":""},1,{"$f":"IF(G117<>\"\",CONCATENATE(B117,A117,DIGITADOR!$M$1,C117,G117),\"\")","v":""},null,"",null,"",{"$f":"IF(ACTIVIDADES!K117<>\"\",CONCATENATE(B117,A117,DIGITADOR!$M$1,ACTIVIDADES!N117,C117),\"\")","v":""},{"$f":"IF(G117=\"\",\"\",IF(D117=D116,\"\",CONCATENATE(B117,A117,DIGITADOR!$M$1,ACTIVIDADES!N117,C117)))","v":""},null,null,null,{"$f":"IF(M117=\"\",\"\",INDEX(referentes!AN:AQ,MATCH(M117,referentes!AQ:AQ,0),1))","v":""},null,{"$f":"IF(O117=\"\",\"\",INDEX(referentes!A:B,MATCH(O117,referentes!B:B,0),1))","v":""},null,{"$f":"IF(Q117=\"\",\"\",INDEX(referentes!D:E,MATCH(Q117,referentes!E:E,0),1))","v":""},"",null,null,null,null,"","","",113,"","",""]
["30001212",{"$f":"DIGITADOR!$B$2","v":""},1,{"$f":"IF(G118<>\"\",CONCATENATE(B118,A118,DIGITADOR!$M$1,C118,G118),\"\")","v":""},null,"",null,"",{"$f":"IF(ACTIVIDADES!K118<>\"\",CONCATENATE(B118,A118,DIGITADOR!$M$1,ACTIVIDADES!N118,C118),\"\")","v":""},{"$f":"IF(G118=\"\",\"\",IF(D118=D117,\"\",CONCATENATE(B118,A118,DIGITADOR!$M$1,ACTIVIDADES!N118,C118)))","v":""},null,null,null,{"$f":"IF(M118=\"\",\"\",INDEX(referentes!AN:AQ,MATCH(M118,referentes!AQ:AQ,0),1))","v":""},null,{"$f":"IF(O118=\"\",\"\",INDEX(referentes!A:B,MATCH(O118,referentes!B:B,0),1))","v":""},null,{"$f":"IF(Q118=\"\",\"\",INDEX(referentes!D:E,MATCH(Q118,referentes!E:E,0),1))","v":""},"",null,null,null,null,"","","",114,"","",""]
["30001212",{"$f":"DIGITADOR!$B$2","v":""},1,{"$f":"IF(G119<>\"\",CONCATENATE(B119,A119,DIGITADOR!$M$1,C119,G119),\"\")","v":""},null,"",null,"",{"$f":"IF(ACTIVIDADES!K119<>\"\",CONCATENATE(B119,A119,DIGITADOR!$M$1,ACTIVIDADES!N119,C119),\"\")","v":""},{"$f":"IF(G119=\"\",\"\",IF(D119=D118,\"\",CONCATENATE(B119,A119,DIGITADOR!$M$1,ACTIVIDADES!N119,C119)))","v":""},null,null,null,{"$f":"IF(M119=\"\",\"\",INDEX(referentes!AN:AQ,MATCH(M119,referentes!AQ:AQ,0),1))","v":""},null,{"$f":"IF(O119=\"\",\"\",INDEX(referentes!A:B,MATCH(O119,referentes!B:B,0),1))","v":""},null,{"$f":"IF(Q119=\"\",\"\",INDEX(referentes!D:E,MATCH(Q119,referentes!E:E,0),1))","v":""},"",null,null,null,null,"","","",115,"","",""]
["30001212",{"$f":"DIGITADOR!$B$2","v":""},1,{"$f":"IF(G120<>\"\",CONCATENATE(B120,A120,DIGITADOR!$M$1,C120,G120),\"\")","v":""},null,"",null,"",{"$f":"IF(ACTIVIDADES!K120<>\"\",CONCATENATE(B120,A120,DIGITADOR!$M$1,ACTIVIDADES!N120,C120),\"\")","v":""},{"$f":"IF(G120=\"\",\"\",IF(D120=D119,\"\",CONCATENATE(B120,A120,DIGITADOR!$M$1,ACTIVIDADES!N120,C120)))","v":""},null,null,null,{"$f":"IF(M120=\"\",\"\",INDEX(referentes!AN:AQ,MATCH(M120,referentes!AQ:AQ,0),1))","v":""},null,{"$f":"IF(O120=\"\",\"\",INDEX(referentes!A:B,MATCH(O120,referentes!B:B,0),1))","v":""},null,{"$f":"IF(Q120=\"\",\"\",INDEX(referentes!D:E,MATCH(Q120,referentes!E:E,0),1))","v":""},"",null,null,null,null,"","","",116,"","",""]
["30001212",{"$f":"DIGITADOR!$B$2","v":""},1,{"$f":"IF(G121<>\"\",CONCATENATE(B121,A121,DIGITADOR!$M$1,C121,G121),\"\")","v":""},null,"",null,"",{"$f":"IF(ACTIVIDADES!K121<>\"\",CONCATENATE(B121,A121,DIGITADOR!$M$1,ACTIVIDADES!N121,C121),\"\")","v":""},{"$f":"IF(G121=\"\",\"\",IF(D121=D120,\"\",CONCATENATE(B121,A121,DIGITADOR!$M$1,ACTIVIDADES!N121,C121)))","v":""},null,null,null,{"$f":"IF(M121=\"\",\"\",INDEX(referentes!AN:AQ,MATCH(M121,referentes!AQ:AQ,0),1))","v":""},null,{"$f":"IF(O121=\"\",\"\",INDEX(referentes!A:B,MATCH(O121,referentes!B:B,0),1))","v":""},null,{"$f":"IF(Q121=\"\",\"\",INDEX(referentes!D:E,MATCH(Q121,referentes!E:E,0),1))","v":""},"",null,null,null,null,"","","",117,"","",""]
["30001212",{"$f":"DIGITADOR!$B$2","v":""},1,{"$f":"IF(G122<>\"\",CONCATENATE(B122,A122,DIGITADOR!$M$1,C122,G122),\"\")","v":""},null,"",null,"",{"$f":"IF(ACTIVIDADES!K122<>\"\",CONCATENATE(B122,A122,DIGITADOR!$M$1,ACTIVIDADES!N122,C122),\"\")","v":""},{"$f":"IF(G122=\"\",\"\",IF(D122=D121,\"\",CONCATENATE(B122,A122,DIGITADOR!$M$1,ACTIVIDADES!N122,C122)))","v":""},null,null,null,{"$f":"IF(M122=\"\",\"\",INDEX(referentes!AN:AQ,MATCH(M122,referentes!AQ:AQ,0),1))","v":""},null,{"$f":"IF(O122=\"\",\"\",INDEX(referentes!A:B,MATCH(O122,referentes!B:B,0),1))","v":""},null,{"$f":"IF(Q122=\"\",\"\",INDEX(referentes!D:E,MATCH(Q122,referentes!E:E,0),1))","v":""},"",null,null,null,null,"","","",118,"","",""]
["30001212",{"$f":"DIGITADOR!$B$2","v":""},1,{"$f":"IF(G123<>\"\",CONCATENATE(B123,A123,DIGITADOR!$M$1,C123,G123),\"\")","v":""},null,"",null,"",{"$f":"IF(ACTIVIDADES!K123<>\"\",CONCATENATE(B123,A123,DIGITADOR!$M$1,ACTIVIDADES!N123,C123),\"\")","v":""},{"$f":"IF(G123=\"\",\"\",IF(D123=D122,\"\",CONCATENATE(B123,A123,DIGITADOR!$M$1,ACTIVIDADES!N123,C123)))","v":""},null,null,null,{"$f":"IF(M123=\"\",\"\",INDEX(referentes!AN:AQ,MATCH(M123,referentes!AQ:AQ,0),1))","v":""},null,{"$f":"IF(O123=\"\",\"\",INDEX(referentes!A:B,MATCH(O123,referentes!B:B,0),1))","v":""},null,{"$f":"IF(Q123=\"\",\"\",INDEX(referentes!D:E,MATCH(Q123,referentes!E:E,0),1))","v":""},"",null,null,null,null,"","","",119,"","",""]
["30001212",{"$f":"DIGITADOR!$B$2","v":""},1,{"$f":"IF(G124<>\"\",CONCATENATE(B124,A124,DIGITADOR!$M$1,C124,G124),\"\")","v":""},null,"",null,"",{"$f":"IF(ACTIVIDADES!K124<>\"\",CONCATENATE(B124,A124,DIGITADOR!$M$1,ACTIVIDADES!N124,C124),\"\")","v":""},{"$f":"IF(G124=\"\",\"\",IF(D124=D123,\"\",CONCATENATE(B124,A124,DIGITADOR!$M$1,ACTIVIDADES!N124,C124)))","v":""},null,null,null,{"$f":"IF(M124=\"\",\"\",INDEX(referentes!AN:AQ,MATCH(M124,referentes!AQ:AQ,0),1))","v":""},null,{"$f":"IF(O124=\"\",\"\",INDEX(referentes!A:B,MATCH(O124,referentes!B:B,0),1))","v":""},null,{"$f":"IF(Q124=\"\",\"\",INDEX(referentes!D:E,MATCH(Q124,referentes!E:E,0),1))","v":""},"",null,null,null,null,"","","",120,"","",""]
["30001212",{"$f":"DIGITADOR!$B$2","v":""},1,{"$f":"IF(G125<>\"\",CONCATENATE(B125,A125,DIGITADOR!$M$1,C125,G125),\"\")","v":""},null,"",null,"",{"$f":"IF(ACTIVIDADES!K125<>\"\",CONCATENATE(B125,A125,DIGITADOR!$M$1,ACTIVIDADES!N125,C125),\"\")","v":""},{"$f":"IF(G125=\"\",\"\",IF(D125=D124,\"\",CONCATENATE(B125,A125,DIGITADOR!$M$1,ACTIVIDADES!N125,C125)))","v":""},null,null,null,{"$f":"IF(M125=\"\",\"\",INDEX(referentes!AN:AQ,MATCH(M125,referentes!AQ:AQ,0),1))","v":""},null,{"$f":"IF(O125=\"\",\"\",INDEX(referentes!A:B,MATCH(O125,referentes!B:B,0),1))","v":""},null,{"$f":"IF(Q125=\"\",\"\",INDEX(referentes!D:E,MATCH(Q125,referentes!E:E,0),1))","v":""},"",null,null,null,null,"","","",121,"","",""]
["30001212",{"$f":"DIGITADOR!$B$2","v":""},1,{"$f":"IF(G126<>\"\",CONCATENATE(B126,A126,DIGITADOR!$M$1,C126,G126),\"\")","v":""},null,"",null,"",{"$f":"IF(ACTIVIDADES!K126<>\"\",CONCATENATE(B126,A126,DIGITADOR!$M$1,ACTIVIDADES!N126,C126),\"\")","v":""},{"$f":"IF(G126=\"\",\"\",IF(D126=D125,\"\",CONCATENATE(B126,A126,DIGITADOR!$M$1,ACTIVIDADES!N126,C126)))","v":""},null,null,null,{"$f":"IF(M126=\"\",\"\",INDEX(referentes!AN:AQ,MATCH(M126,referentes!AQ:AQ,0),1))","v":""},null,{"$f":"IF(O126=\"\",\"\",INDEX(referentes!A:B,MATCH(O126,referentes!B:B,0),1))","v":""},null,{"$f":"IF(Q126=\"\",\"\",INDEX(referentes!D:E,MATCH(Q126,referentes!E:E,0),1))","v":""},"",null,null,null,null,"","","",122,"","",""]
["30001212",{"$f":"DIGITADOR!$B$2","v":""},1,{"$f":"IF(G127<>\"\",CONCATENATE(B127,A127,DIGITADOR!$M$1,C127,G127),\"\")","v":""},null,"",null,"",{"$f":"IF(ACTIVIDADES!K127<>\"\",CONCATENATE(B127,A127,DIGITADOR!$M$1,ACTIVIDADES!N127,C127),\"\")","v":""},{"$f":"IF(G127=\"\",\"\",IF(D127=D126,\"\",CONCATENATE(B127,A127,DIGITADOR!$M$1,ACTIVIDADES!N127,C127)))","v":""},null,null,null,{"$f":"IF(M127=\"\",\"\",INDEX(referentes!AN:AQ,MATCH(M127,referentes!AQ:AQ,0),1))","v":""},null,{"$f":"IF(O127=\"\",\"\",INDEX(referentes!A:B,MATCH(O127,referentes!B:B,0),1))","v":""},null,{"$f":"IF(Q127=\"\",\"\",INDEX(referentes!D:E,MATCH(Q127,referentes!E:E,0),1))","v":""},"",null,null,null,null,"","","",123,"","",""]
["30001212",{"$f":"DIGITADOR!$B$2","v":""},1,{"$f":"IF(G128<>\"\",CONCATENATE(B128,A128,DIGITADOR!$M$1,C128,G128),\"\")","v":""},null,"",null,"",{"$f":"IF(ACTIVIDADES!K128<>\"\",CONCATENATE(B128,A128,DIGITADOR!$M$1,ACTIVIDADES!N128,C128),\"\")","v":""},{"$f":"IF(G128=\"\",\"\",IF(D128=D127,\"\",CONCATENATE(B128,A128,DIGITADOR!$M$1,ACTIVIDADES!N128,C128)))","v":""},null,null,null,{"$f":"IF(M128=\"\",\"\",INDEX(referentes!AN:AQ,MATCH(M128,referentes!AQ:AQ,0),1))","v":""},null,{"$f":"IF(O128=\"\",\"\",INDEX(referentes!A:B,MATCH(O128,referentes!B:B,0),1))","v":""},null,{"$f":"IF(Q128=\"\",\"\",INDEX(referentes!D:E,MATCH(Q128,referentes!E:E,0),1))","v":""},"",null,null,null,null,"","","",124,"","",""]
["30001212",{"$f":"DIGITADOR!$B$2","v":""},1,{"$f":"IF(G129<>\"\",CONCATENATE(B129,A129,DIGITADOR!$M$1,C129,G129),\"\")","v":""},null,"",null,"",{"$f":"IF(ACTIVIDADES!K129<>\"\",CONCATENATE(B129,A129,DIGITADOR!$M$1,ACTIVIDADES!N129,C129),\"\")","v":""},{"$f":"IF(G129=\"\",\"\",IF(D129=D128,\"\",CONCATENATE(B129,A129,DIGITADOR!$M$1,ACTIVIDADES!N129,C129)))","v":""},null,null,null,{"$f":"IF(M129=\"\",\"\",INDEX(referentes!AN:AQ,MATCH(M129,referentes!AQ:AQ,0),1))","v":""},null,{"$f":"IF(O129=\"\",\"\",INDEX(referentes!A:B,MATCH(O129,referentes!B:B,0),1))","v":""},null,{"$f":"IF(Q129=\"\",\"\",INDEX(referentes!D:E,MATCH(Q129,referentes!E:E,0),1))","v":""},"",null,null,null,null,"","","",125,"","",""]
["30001212",{"$f":"DIGITADOR!$B$2","v":""},1,{"$f":"IF(G130<>\"\",CONCATENATE(B130,A130,DIGITADOR!$M$1,C130,G130),\"\")","v":""},null,"",null,"",{"$f":"IF(ACTIVIDADES!K130<>\"\",CONCATENATE(B130,A130,DIGITADOR!$M$1,ACTIVIDADES!N130,C130),\"\")","v":""},{"$f":"IF(G130=\"\",\"\",IF(D130=D129,\"\",CONCATENATE(B130,A130,DIGITADOR!$M$1,ACTIVIDADES!N130,C130)))","v":""},null,null,null,{"$f":"IF(M130=\"\",\"\",INDEX(referentes!AN:AQ,MATCH(M130,referentes!AQ:AQ,0),1))","v":""},null,{"$f":"IF(O130=\"\",\"\",INDEX(referentes!A:B,MATCH(O130,referentes!B:B,0),1))","v":""},null,{"$f":"IF(Q130=\"\",\"\",INDEX(referentes!D:E,MATCH(Q130,referentes!E:E,0),1))","v":""},"",null,null,null,null,"","","",126,"","",""]
["30001212",{"$f":"DIGITADOR!$B$2","v":""},1,{"$f":"IF(G131<>\"\",CONCATENATE(B131,A131,DIGITADOR!$M$1,C131,G131),\"\")","v":""},null,"",null,"",{"$f":"IF(ACTIVIDADES!K131<>\"\",CONCATENATE(B131,A131,DIGITADOR!$M$1,ACTIVIDADES!N131,C131),\"\")","v":""},{"$f":"IF(G131=\"\",\"\",IF(D131=D130,\"\",CONCATENATE(B131,A131,DIGITADOR!$M$1,ACTIVIDADES!N131,C131)))","v":""},null,null,null,{"$f":"IF(M131=\"\",\"\",INDEX(referentes!AN:AQ,MATCH(M131,referentes!AQ:AQ,0),1))","v":""},null,{"$f":"IF(O131=\"\",\"\",INDEX(referentes!A:B,MATCH(O131,referentes!B:B,0),1))","v":""},null,{"$f":"IF(Q131=\"\",\"\",INDEX(referentes!D:E,MATCH(Q131,referentes!E:E,0),1))","v":""},"",null,null,null,null,"","","",127,"","",""]
["30001212",{"$f":"DIGITADOR!$B$2","v":""},1,{"$f":"IF(G132<>\"\",CONCATENATE(B132,A132,DIGITADOR!$M$1,C132,G132),\"\")","v":""},null,"",null,"",{"$f":"IF(ACTIVIDADES!K132<>\"\",CONCATENATE(B132,A132,DIGITADOR!$M$1,ACTIVIDADES!N132,C132),\"\")","v":""},{"$f":"IF(G132=\"\",\"\",IF(D132=D131,\"\",CONCATENATE(B132,A132,DIGITADOR!$M$1,ACTIVIDADES!N132,C132)))","v":""},null,null,null,{"$f":"IF(M132=\"\",\"\",INDEX(referentes!AN:AQ,MATCH(M132,referentes!AQ:AQ,0),1))","v":""},null,{"$f":"IF(O132=\"\",\"\",INDEX(referentes!A:B,MATCH(O132,referentes!B:B,0),1))","v":""},null,{"$f":"IF(Q132=\"\",\"\",INDEX(referentes!D:E,MATCH(Q132,referentes!E:E,0),1))","v":""},"",null,null,null,null,"","","",128,"","",""]
["30001212",{"$f":"DIGITADOR!$B$2","v":""},1,{"$f":"IF(G133<>\"\",CONCATENATE(B133,A133,DIGITADOR!$M$1,C133,G133),\"\")","v":""},null,"",null,"",{"$f":"IF(ACTIVIDADES!K133<>\"\",CONCATENATE(B133,A133,DIGITADOR!$M$1,ACTIVIDADES!N133,C133),\"\")","v":""},{"$f":"IF(G133=\"\",\"\",IF(D133=D132,\"\",CONCATENATE(B133,A133,DIGITADOR!$M$1,ACTIVIDADES!N133,C133)))","v":""},null,null,null,{"$f":"IF(M133=\"\",\"\",INDEX(referentes!AN:AQ,MATCH(M133,referentes!AQ:AQ,0),1))","v":""},null,{"$f":"IF(O133=\"\",\"\",INDEX(referentes!A:B,MATCH(O133,referentes!B:B,0),1))","v":""},null,{"$f":"IF(Q133=\"\",\"\",INDEX(referentes!D:E,MATCH(Q133,referentes!E:E,0),1))","v":""},{"$f":"IF(U133=\"\",IF(K133=\"\",\"\",IF(L133=\"\",0,L133-K133)),IF(U133=\"\",\"\",IF(V133=\"\",0,V133-U133)))","v":""},null,null,null,null,"",{"$f":"IF(D133=\"\",\"\",CONCATENATE(D133,AA133))","v":""},"",129,"",{"$f":"IF(AB133=\"\",\"\",CONCATENATE(AB133,$AC$1))","v":""},{"$f":"IF(D133=\"\",\"\",CONCATENATE(D133,$AC$1))","v":""}]
[{"$f":"A133","v":"30001212"},{"$f":"DIGITADOR!$B$2","v":""},{"$f":"IF(G134=G133,C133,C133+1)","v":1},{"$f":"IF(G134<>\"\",CONCATENATE(B134,A134,DIGITADOR!$M$1,C134,G134),\"\")","v":""},null,{"$f":"IF(E134=\"\",\"\",IF(E134=FALSE,0,-1))","v":""},null,{"$f":"IF(G134=\"\",\"\",D134)","v":""},{"$f":"IF(ACTIVIDADES!K134<>\"\",CONCATENATE(B134,A134,DIGITADOR!$M$1,ACTIVIDADES!N134,C134),\"\")","v":""},{"$f":"IF(G134=\"\",\"\",IF(D134=D133,\"\",CONCATENATE(B134,A134,DIGITADOR!$M$1,ACTIVIDADES!N134,C134)))","v":""},null,null,null,{"$f":"IF(M134=\"\",\"\",INDEX(referentes!AN:AQ,MATCH(M134,referentes!AQ:AQ,0),1))","v":""},null,{"$f":"IF(O134=\"\",\"\",INDEX(referentes!A:B,MATCH(O134,referentes!B:B,0),1))","v":""},null,{"$f":"IF(Q134=\"\",\"\",INDEX(referentes!D:E,MATCH(Q134,referentes!E:E,0),1))","v":""},"",null,null,null,null,{"$f":"IF(W134=\"\",\"\",IF(W134=FALSE,0,-1))","v":""},"",{"$f":"IF(Y134=\"\",\"\",CONCATENATE(Y134,$Z$4))","v":""},130,{"$f":"IF(G134=G133,\"\",D134)","v":""},"",""]
["30001212",{"$f":"DIGITADOR!$B$2","v":""},1,{"$f":"IF(G135<>\"\",CONCATENATE(B135,A135,DIGITADOR!$M$1,C135,G135),\"\")","v":""},null,"",null,"",{"$f":"IF(ACTIVIDADES!K135<>\"\",CONCATENATE(B135,A135,DIGITADOR!$M$1,ACTIVIDADES!N135,C135),\"\")","v":""},{"$f":"IF(G135=\"\",\"\",IF(D135=D134,\"\",CONCATENATE(B135,A135,DIGITADOR!$M$1,ACTIVIDADES!N135,C135)))","v":""},null,null,null,{"$f":"IF(M135=\"\",\"\",INDEX(referentes!AN:AQ,MATCH(M135,referentes!AQ:AQ,0),1))","v":""},null,{"$f":"IF(O135=\"\",\"\",INDEX(referentes!A:B,MATCH(O135,referentes!B:B,0),1))","v":""},null,{"$f":"IF(Q135=\"\",\"\",INDEX(referentes!D:E,MATCH(Q135,referentes!E:E,0),1))","v":""},"",null,null,null,null,"","","",131,"","",""]
["30001212",{"$f":"DIGITADOR!$B$2","v":""},1,{"$f":"IF(G136<>\"\",CONCATENATE(B136,A136,DIGITADOR!$M$1,C136,G136),\"\")","v":""},null,"",null,"",{"$f":"IF(ACTIVIDADES!K136<>\"\",CONCATENATE(B136,A136,DIGITADOR!$M$1,ACTIVIDADES!N136,C136),\"\")","v":""},{"$f":"IF(G136=\"\",\"\",IF(D136=D135,\"\",CONCATENATE(B136,A136,DIGITADOR!$M$1,ACTIVIDADES!N136,C136)))","v":""},null,null,null,{"$f":"IF(M136=\"\",\"\",INDEX(referentes!AN:AQ,MATCH(M136,referentes!AQ:AQ,0),1))","v":""},null,{"$f":"IF(O136=\"\",\"\",INDEX(referentes!A:B,MATCH(O136,referentes!B:B,0),1))","v":""},null,{"$f":"IF(Q136=\"\",\"\",INDEX(referentes!D:E,MATCH(Q136,referentes!E:E,0),1))","v":""},"",null,null,null,null,"","","",132,"","",""]
["30001212",{"$f":"DIGITADOR!$B$2","v":""},1,{"$f":"IF(G137<>\"\",CONCATENATE(B137,A137,DIGITADOR!$M$1,C137,G137),\"\")","v":""},null,"",null,"",{"$f":"IF(ACTIVIDADES!K137<>\"\",CONCATENATE(B137,A137,DIGITADOR!$M$1,ACTIVIDADES!N137,C137),\"\")","v":""},{"$f":"IF(G137=\"\",\"\",IF(D137=D136,\"\",CONCATENATE(B137,A137,DIGITADOR!$M$1,ACTIVIDADES!N137,C137)))","v":""},null,null,null,{"$f":"IF(M137=\"\",\"\",INDEX(referentes!AN:AQ,MATCH(M137,referentes!AQ:AQ,0),1))","v":""},null,{"$f":"IF(O137=\"\",\"\",INDEX(referentes!A:B,MATCH(O137,referentes!B:B,0),1))","v":""},null,{"$f":"IF(Q137=\"\",\"\",INDEX(referentes!D:E,MATCH(Q137,referentes!E:E,0),1))","v":""},"",null,null,null,null,"","","",133,"","",""]
["30001212",{"$f":"DIGITADOR!$B$2","v":""},1,{"$f":"IF(G138<>\"\",CONCATENATE(B138,A138,DIGITADOR!$M$1,C138,G138),\"\")","v":""},null,"",null,"",{"$f":"IF(ACTIVIDADES!K138<>\"\",CONCATENATE(B138,A138,DIGITADOR!$M$1,ACTIVIDADES!N138,C138),\"\")","v":""},{"$f":"IF(G138=\"\",\"\",IF(D138=D137,\"\",CONCATENATE(B138,A138,DIGITADOR!$M$1,ACTIVIDADES!N138,C138)))","v":""},null,null,null,{"$f":"IF(M138=\"\",\"\",INDEX(referentes!AN:AQ,MATCH(M138,referentes!AQ:AQ,0),1))","v":""},null,{"$f":"IF(O138=\"\",\"\",INDEX(referentes!A:B,MATCH(O138,referentes!B:B,0),1))","v":""},null,{"$f":"IF(Q138=\"\",\"\",INDEX(referentes!D:E,MATCH(Q138,referentes!E:E,0),1))","v":""},"",null,null,null,null,"","","",134,"","",""]
["30001212",{"$f":"DIGITADOR!$B$2","v":""},1,{"$f":"IF(G139<>\"\",CONCATENATE(B139,A139,DIGITADOR!$M$1,C139,G139),\"\")","v":""},null,"",null,"",{"$f":"IF(ACTIVIDADES!K139<>\"\",CONCATENATE(B139,A139,DIGITADOR!$M$1,ACTIVIDADES!N139,C139),\"\")","v":""},{"$f":"IF(G139=\"\",\"\",IF(D139=D138,\"\",CONCATENATE(B139,A139,DIGITADOR!$M$1,ACTIVIDADES!N139,C139)))","v":""},null,null,null,{"$f":"IF(M139=\"\",\"\",INDEX(referentes!AN:AQ,MATCH(M139,referentes!AQ:AQ,0),1))","v":""},null,{"$f":"IF(O139=\"\",\"\",INDEX(referentes!A:B,MATCH(O139,referentes!B:B,0),1))","v":""},null,{"$f":"IF(Q139=\"\",\"\",INDEX(referentes!D:E,MATCH(Q139,referentes!E:E,0),1))","v":""},"",null,null,null,null,"","","",135,"","",""]
["30001212",{"$f":"DIGITADOR!$B$2","v":""},1,{"$f":"IF(G140<>\"\",CONCATENATE(B140,A140,DIGITADOR!$M$1,C140,G140),\"\")","v":""},null,"",null,"",{"$f":"IF(ACTIVIDADES!K140<>\"\",CONCATENATE(B140,A140,DIGITADOR!$M$1,ACTIVIDADES!N140,C140),\"\")","v":""},{"$f":"IF(G140=\"\",\"\",IF(D140=D139,\"\",CONCATENATE(B140,A140,DIGITADOR!$M$1,ACTIVIDADES!N140,C140)))","v":""},null,null,null,{"$f":"IF(M140=\"\",\"\",INDEX(referentes!AN:AQ,MATCH(M140,referentes!AQ:AQ,0),1))","v":""},null,{"$f":"IF(O140=\"\",\"\",INDEX(referentes!A:B,MATCH(O140,referentes!B:B,0),1))","v":""},null,{"$f":"IF(Q140=\"\",\"\",INDEX(referentes!D:E,MATCH(Q140,referentes!E:E,0),1))","v":""},"",null,null,null,null,"","","",136,"","",""]
["30001212",{"$f":"DIGITADOR!$B$2","v":""},1,{"$f":"IF(G141<>\"\",CONCATENATE(B141,A141,DIGITADOR!$M$1,C141,G141),\"\")","v":""},null,"",null,"",{"$f":"IF(ACTIVIDADES!K141<>\"\",CONCATENATE(B141,A141,DIGITADOR!$M$1,ACTIVIDADES!N141,C141),\"\")","v":""},{"$f":"IF(G141=\"\",\"\",IF(D141=D140,\"\",CONCATENATE(B141,A141,DIGITADOR!$M$1,ACTIVIDADES!N141,C141)))","v":""},null,null,null,{"$f":"IF(M141=\"\",\"\",INDEX(referentes!AN:AQ,MATCH(M141,referentes!AQ:AQ,0),1))","v":""},null,{"$f":"IF(O141=\"\",\"\",INDEX(referentes!A:B,MATCH(O141,referentes!B:B,0),1))","v":""},null,{"$f":"IF(Q141=\"\",\"\",INDEX(referentes!D:E,MATCH(Q141,referentes!E:E,0),1))","v":""},"",null,null,null,null,"","","",137,"","",""]
["30001212",{"$f":"DIGITADOR!$B$2","v":""},1,{"$f":"IF(G142<>\"\",CONCATENATE(B142,A142,DIGITADOR!$M$1,C142,G142),\"\")","v":""},null,"",null,"",{"$f":"IF(ACTIVIDADES!K142<>\"\",CONCATENATE(B142,A142,DIGITADOR!$M$1,ACTIVIDADES!N142,C142),\"\")","v":""},{"$f":"IF(G142=\"\",\"\",IF(D142=D141,\"\",CONCATENATE(B142,A142,DIGITADOR!$M$1,ACTIVIDADES!N142,C142)))","v":""},null,null,null,{"$f":"IF(M142=\"\",\"\",INDEX(referentes!AN:AQ,MATCH(M142,referentes!AQ:AQ,0),1))","v":""},null,{"$f":"IF(O142=\"\",\"\",INDEX(referentes!A:B,MATCH(O142,referentes!B:B,0),1))","v":""},null,{"$f":"IF(Q142=\"\",\"\",INDEX(referentes!D:E,MATCH(Q142,referentes!E:E,0),1))","v":""},"",null,null,null,null,"","","",138,"","",""]
["30001212",{"$f":"DIGITADOR!$B$2","v":""},1,{"$f":"IF(G143<>\"\",CONCATENATE(B143,A143,DIGITADOR!$M$1,C143,G143),\"\")","v":""},null,"",null,"",{"$f":"IF(ACTIVIDADES!K143<>\"\",CONCATENATE(B143,A143,DIGITADOR!$M$1,ACTIVIDADES!N143,C143),\"\")","v":""},{"$f":"IF(G143=\"\",\"\",IF(D143=D142,\"\",CONCATENATE(B143,A143,DIGITADOR!$M$1,ACTIVIDADES!N143,C143)))","v":""},null,null,null,{"$f":"IF(M143=\"\",\"\",INDEX(referentes!AN:AQ,MATCH(M143,referentes!AQ:AQ,0),1))","v":""},null,{"$f":"IF(O143=\"\",\"\",INDEX(referentes!A:B,MATCH(O143,referentes!B:B,0),1))","v":""},null,{"$f":"IF(Q143=\"\",\"\",INDEX(referentes!D:E,MATCH(Q143,referentes!E:E,0),1))","v":""},"",null,null,null,null,"","","",139,"","",""]
["30001212",{"$f":"DIGITADOR!$B$2","v":""},1,{"$f":"IF(G144<>\"\",CONCATENATE(B144,A144,DIGITADOR!$M$1,C144,G144),\"\")","v":""},null,"",null,"",{"$f":"IF(ACTIVIDADES!K144<>\"\",CONCATENATE(B144,A144,DIGITADOR!$M$1,ACTIVIDADES!N144,C144),\"\")","v":""},{"$f":"IF(G144=\"\",\"\",IF(D144=D143,\"\",CONCATENATE(B144,A144,DIGITADOR!$M$1,ACTIVIDADES!N144,C144)))","v":""},null,null,null,{"$f":"IF(M144=\"\",\"\",INDEX(referentes!AN:AQ,MATCH(M144,referentes!AQ:AQ,0),1))","v":""},null,{"$f":"IF(O144=\"\",\"\",INDEX(referentes!A:B,MATCH(O144,referentes!B:B,0),1))","v":""},null,{"$f":"IF(Q144=\"\",\"\",INDEX(referentes!D:E,MATCH(Q144,referentes!E:E,0),1))","v":""},"",null,null,null,null,"","","",140,"","",""]
["30001212",{"$f":"DIGITADOR!$B$2","v":""},1,{"$f":"IF(G145<>\"\",CONCATENATE(B145,A145,DIGITADOR!$M$1,C145,G145),\"\")","v":""},null,"",null,"",{"$f":"IF(ACTIVIDADES!K145<>\"\",CONCATENATE(B145,A145,DIGITADOR!$M$1,ACTIVIDADES!N145,C145),\"\")","v":""},{"$f":"IF(G145=\"\",\"\",IF(D145=D144,\"\",CONCATENATE(B145,A145,DIGITADOR!$M$1,ACTIVIDADES!N145,C145)))","v":""},null,null,null,{"$f":"IF(M145=\"\",\"\",INDEX(referentes!AN:AQ,MATCH(M145,referentes!AQ:AQ,0),1))","v":""},null,{"$f":"IF(O145=\"\",\"\",INDEX(referentes!A:B,MATCH(O145,referentes!B:B,0),1))","v":""},null,{"$f":"IF(Q145=\"\",\"\",INDEX(referentes!D:E,MATCH(Q145,referentes!E:E,0),1))","v":""},"",null,null,null,null,"","","",141,"","",""]
["30001212",{"$f":"DIGITADOR!$B$2","v":""},1,{"$f":"IF(G146<>\"\",CONCATENATE(B146,A146,DIGITADOR!$M$1,C146,G146),\"\")","v":""},null,"",null,"",{"$f":"IF(ACTIVIDADES!K146<>\"\",CONCATENATE(B146,A146,DIGITADOR!$M$1,ACTIVIDADES!N146,C146),\"\")","v":""},{"$f":"IF(G146=\"\",\"\",IF(D146=D145,\"\",CONCATENATE(B146,A146,DIGITADOR!$M$1,ACTIVIDADES!N146,C146)))","v":""},null,null,null,{"$f":"IF(M146=\"\",\"\",INDEX(referentes!AN:AQ,MATCH(M146,referentes!AQ:AQ,0),1))","v":""},null,{"$f":"IF(O146=\"\",\"\",INDEX(referentes!A:B,MATCH(O146,referentes!B:B,0),1))","v":""},null,{"$f":"IF(Q146=\"\",\"\",INDEX(referentes!D:E,MATCH(Q146,referentes!E:E,0),1))","v":""},"",null,null,null,null,"","","",142,"","",""]
["30001212",{"$f":"DIGITADOR!$B$2","v":""},1,{"$f":"IF(G147<>\"\",CONCATENATE(B147,A147,DIGITADOR!$M$1,C147,G147),\"\")","v":""},null,"",null,"",{"$f":"IF(ACTIVIDADES!K147<>\"\",CONCATENATE(B147,A147,DIGITADOR!$M$1,ACTIVIDADES!N147,C147),\"\")","v":""},{"$f":"IF(G147=\"\",\"\",IF(D147=D146,\"\",CONCATENATE(B147,A147,DIGITADOR!$M$1,ACTIVIDADES!N147,C147)))","v":""},null,null,null,{"$f":"IF(M147=\"\",\"\",INDEX(referentes!AN:AQ,MATCH(M147,referentes!AQ:AQ,0),1))","v":""},null,{"$f":"IF(O147=\"\",\"\",INDEX(referentes!A:B,MATCH(O147,referentes!B:B,0),1))","v":""},null,{"$f":"IF(Q147=\"\",\"\",INDEX(referentes!D:E,MATCH(Q147,referentes!E:E,0),1))","v":""},"",null,null,null,null,"","","",143,"","",""]
["30001212",{"$f":"DIGITADOR!$B$2","v":""},1,{"$f":"IF(G148<>\"\",CONCATENATE(B148,A148,DIGITADOR!$M$1,C148,G148),\"\")","v":""},null,"",null,"",{"$f":"IF(ACTIVIDADES!K148<>\"\",CONCATENATE(B148,A148,DIGITADOR!$M$1,ACTIVIDADES!N148,C148),\"\")","v":""},{"$f":"IF(G148=\"\",\"\",IF(D148=D147,\"\",CONCATENATE(B148,A148,DIGITADOR!$M$1,ACTIVIDADES!N148,C148)))","v":""},null,null,null,{"$f":"IF(M148=\"\",\"\",INDEX(referentes!AN:AQ,MATCH(M148,referentes!AQ:AQ,0),1))","v":""},null,{"$f":"IF(O148=\"\",\"\",INDEX(referentes!A:B,MATCH(O148,referentes!B:B,0),1))","v":""},null,{"$f":"IF(Q148=\"\",\"\",INDEX(referentes!D:E,MATCH(Q148,referentes!E:E,0),1))","v":""},"",null,null,null,null,"","","",144,"","",""]
["30001212",{"$f":"DIGITADOR!$B$2","v":""},1,{"$f":"IF(G149<>\"\",CONCATENATE(B149,A149,DIGITADOR!$M$1,C149,G149),\"\")","v":""},null,"",null,"",{"$f":"IF(ACTIVIDADES!K149<>\"\",CONCATENATE(B149,A149,DIGITADOR!$M$1,ACTIVIDADES!N149,C149),\"\")","v":""},{"$f":"IF(G149=\"\",\"\",IF(D149=D148,\"\",CONCATENATE(B149,A149,DIGITADOR!$M$1,ACTIVIDADES!N149,C149)))","v":""},null,null,null,{"$f":"IF(M149=\"\",\"\",INDEX(referentes!AN:AQ,MATCH(M149,referentes!AQ:AQ,0),1))","v":""},null,{"$f":"IF(O149=\"\",\"\",INDEX(referentes!A:B,MATCH(O149,referentes!B:B,0),1))","v":""},null,{"$f":"IF(Q149=\"\",\"\",INDEX(referentes!D:E,MATCH(Q149,referentes!E:E,0),1))","v":""},"",null,null,null,null,"","","",145,"","",""]
["30001212",{"$f":"DIGITADOR!$B$2","v":""},1,{"$f":"IF(G150<>\"\",CONCATENATE(B150,A150,DIGITADOR!$M$1,C150,G150),\"\")","v":""},null,"",null,"",{"$f":"IF(ACTIVIDADES!K150<>\"\",CONCATENATE(B150,A150,DIGITADOR!$M$1,ACTIVIDADES!N150,C150),\"\")","v":""},{"$f":"IF(G150=\"\",\"\",IF(D150=D149,\"\",CONCATENATE(B150,A150,DIGITADOR!$M$1,ACTIVIDADES!N150,C150)))","v":""},null,null,null,{"$f":"IF(M150=\"\",\"\",INDEX(referentes!AN:AQ,MATCH(M150,referentes!AQ:AQ,0),1))","v":""},null,{"$f":"IF(O150=\"\",\"\",INDEX(referentes!A:B,MATCH(O150,referentes!B:B,0),1))","v":""},null,{"$f":"IF(Q150=\"\",\"\",INDEX(referentes!D:E,MATCH(Q150,referentes!E:E,0),1))","v":""},"",null,null,null,null,"","","",146,"","",""]
["30001212",{"$f":"DIGITADOR!$B$2","v":""},1,{"$f":"IF(G151<>\"\",CONCATENATE(B151,A151,DIGITADOR!$M$1,C151,G151),\"\")","v":""},null,"",null,"",{"$f":"IF(ACTIVIDADES!K151<>\"\",CONCATENATE(B151,A151,DIGITADOR!$M$1,ACTIVIDADES!N151,C151),\"\")","v":""},{"$f":"IF(G151=\"\",\"\",IF(D151=D150,\"\",CONCATENATE(B151,A151,DIGITADOR!$M$1,ACTIVIDADES!N151,C151)))","v":""},null,null,null,{"$f":"IF(M151=\"\",\"\",INDEX(referentes!AN:AQ,MATCH(M151,referentes!AQ:AQ,0),1))","v":""},null,{"$f":"IF(O151=\"\",\"\",INDEX(referentes!A:B,MATCH(O151,referentes!B:B,0),1))","v":""},null,{"$f":"IF(Q151=\"\",\"\",INDEX(referentes!D:E,MATCH(Q151,referentes!E:E,0),1))","v":""},"",null,null,null,null,"","","",147,"","",""]
["30001212",{"$f":"DIGITADOR!$B$2","v":""},1,{"$f":"IF(G152<>\"\",CONCATENATE(B152,A152,DIGITADOR!$M$1,C152,G152),\"\")","v":""},null,"",null,"",{"$f":"IF(ACTIVIDADES!K152<>\"\",CONCATENATE(B152,A152,DIGITADOR!$M$1,ACTIVIDADES!N152,C152),\"\")","v":""},{"$f":"IF(G152=\"\",\"\",IF(D152=D151,\"\",CONCATENATE(B152,A152,DIGITADOR!$M$1,ACTIVIDADES!N152,C152)))","v":""},null,null,null,{"$f":"IF(M152=\"\",\"\",INDEX(referentes!AN:AQ,MATCH(M152,referentes!AQ:AQ,0),1))","v":""},null,{"$f":"IF(O152=\"\",\"\",INDEX(referentes!A:B,MATCH(O152,referentes!B:B,0),1))","v":""},null,{"$f":"IF(Q152=\"\",\"\",INDEX(referentes!D:E,MATCH(Q152,referentes!E:E,0),1))","v":""},"",null,null,null,null,"","","",148,"","",""]
["30001212",{"$f":"DIGITADOR!$B$2","v":""},1,{"$f":"IF(G153<>\"\",CONCATENATE(B153,A153,DIGITADOR!$M$1,C153,G153),\"\")","v":""},null,"",null,"",{"$f":"IF(ACTIVIDADES!K153<>\"\",CONCATENATE(B153,A153,DIGITADOR!$M$1,ACTIVIDADES!N153,C153),\"\")","v":""},{"$f":"IF(G153=\"\",\"\",IF(D153=D152,\"\",CONCATENATE(B153,A153,DIGITADOR!$M$1,ACTIVIDADES!N153,C153)))","v":""},null,null,null,{"$f":"IF(M153=\"\",\"\",INDEX(referentes!AN:AQ,MATCH(M153,referentes!AQ:AQ,0),1))","v":""},null,{"$f":"IF(O153=\"\",\"\",INDEX(referentes!A:B,MATCH(O153,referentes!B:B,0),1))","v":""},null,{"$f":"IF(Q153=\"\",\"\",INDEX(referentes!D:E,MATCH(Q153,referentes!E:E,0),1))","v":""},"",null,null,null,null,"","","",149,"","",""]
["30001212",{"$f":"DIGITADOR!$B$2","v":""},1,{"$f":"IF(G154<>\"\",CONCATENATE(B154,A154,DIGITADOR!$M$1,C154,G154),\"\")","v":""},null,"",null,"",{"$f":"IF(ACTIVIDADES!K154<>\"\",CONCATENATE(B154,A154,DIGITADOR!$M$1,ACTIVIDADES!N154,C154),\"\")","v":""},{"$f":"IF(G154=\"\",\"\",IF(D154=D153,\"\",CONCATENATE(B154,A154,DIGITADOR!$M$1,ACTIVIDADES!N154,C154)))","v":""},null,null,null,{"$f":"IF(M154=\"\",\"\",INDEX(referentes!AN:AQ,MATCH(M154,referentes!AQ:AQ,0),1))","v":""},null,{"$f":"IF(O154=\"\",\"\",INDEX(referentes!A:B,MATCH(O154,referentes!B:B,0),1))","v":""},null,{"$f":"IF(Q154=\"\",\"\",INDEX(referentes!D:E,MATCH(Q154,referentes!E:E,0),1))","v":""},"",null,null,null,null,"","","",150,"","",""]
["30001212",{"$f":"DIGITADOR!$B$2","v":""},1,{"$f":"IF(G155<>\"\",CONCATENATE(B155,A155,DIGITADOR!$M$1,C155,G155),\"\")","v":""},null,"",null,"",{"$f":"IF(ACTIVIDADES!K155<>\"\",CONCATENATE(B155,A155,DIGITADOR!$M$1,ACTIVIDADES!N155,C155),\"\")","v":""},{"$f":"IF(G155=\"\",\"\",IF(D155=D154,\"\",CONCATENATE(B155,A155,DIGITADOR!$M$1,ACTIVIDADES!N155,C155)))","v":""},null,null,null,{"$f":"IF(M155=\"\",\"\",INDEX(referentes!AN:AQ,MATCH(M155,referentes!AQ:AQ,0),1))","v":""},null,{"$f":"IF(O155=\"\",\"\",INDEX(referentes!A:B,MATCH(O155,referentes!B:B,0),1))","v":""},null,{"$f":"IF(Q155=\"\",\"\",INDEX(referentes!D:E,MATCH(Q155,referentes!E:E,0),1))","v":""},"",null,null,null,null,"","","",151,"","",""]
["30001212",{"$f":"DIGITADOR!$B$2","v":""},1,{"$f":"IF(G156<>\"\",CONCATENATE(B156,A156,DIGITADOR!$M$1,C156,G156),\"\")","v":""},null,"",null,"",{"$f":"IF(ACTIVIDADES!K156<>\"\",CONCATENATE(B156,A156,DIGITADOR!$M$1,ACTIVIDADES!N156,C156),\"\")","v":""},{"$f":"IF(G156=\"\",\"\",IF(D156=D155,\"\",CONCATENATE(B156,A156,DIGITADOR!$M$1,ACTIVIDADES!N156,C156)))","v":""},null,null,null,{"$f":"IF(M156=\"\",\"\",INDEX(referentes!AN:AQ,MATCH(M156,referentes!AQ:AQ,0),1))","v":""},null,{"$f":"IF(O156=\"\",\"\",INDEX(referentes!A:B,MATCH(O156,referentes!B:B,0),1))","v":""},null,{"$f":"IF(Q156=\"\",\"\",INDEX(referentes!D:E,MATCH(Q156,referentes!E:E,0),1))","v":""},"",null,null,null,null,"","","",152,"","",""]
["30001212",{"$f":"DIGITADOR!$B$2","v":""},1,{"$f":"IF(G157<>\"\",CONCATENATE(B157,A157,DIGITADOR!$M$1,C157,G157),\"\")","v":""},null,"",null,"",{"$f":"IF(ACTIVIDADES!K157<>\"\",CONCATENATE(B157,A157,DIGITADOR!$M$1,ACTIVIDADES!N157,C157),\"\")","v":""},{"$f":"IF(G157=\"\",\"\",IF(D157=D156,\"\",CONCATENATE(B157,A157,DIGITADOR!$M$1,ACTIVIDADES!N157,C157)))","v":""},null,null,null,{"$f":"IF(M157=\"\",\"\",INDEX(referentes!AN:AQ,MATCH(M157,referentes!AQ:AQ,0),1))","v":""},null,{"$f":"IF(O157=\"\",\"\",INDEX(referentes!A:B,MATCH(O157,referentes!B:B,0),1))","v":""},null,{"$f":"IF(Q157=\"\",\"\",INDEX(referentes!D:E,MATCH(Q157,referentes!E:E,0),1))","v":""},"",null,null,null,null,"","","",153,"","",""]
["30001212",{"$f":"DIGITADOR!$B$2","v":""},1,{"$f":"IF(G158<>\"\",CONCATENATE(B158,A158,DIGITADOR!$M$1,C158,G158),\"\")","v":""},null,"",null,"",{"$f":"IF(ACTIVIDADES!K158<>\"\",CONCATENATE(B158,A158,DIGITADOR!$M$1,ACTIVIDADES!N158,C158),\"\")","v":""},{"$f":"IF(G158=\"\",\"\",IF(D158=D157,\"\",CONCATENATE(B158,A158,DIGITADOR!$M$1,ACTIVIDADES!N158,C158)))","v":""},null,null,null,{"$f":"IF(M158=\"\",\"\",INDEX(referentes!AN:AQ,MATCH(M158,referentes!AQ:AQ,0),1))","v":""},null,{"$f":"IF(O158=\"\",\"\",INDEX(referentes!A:B,MATCH(O158,referentes!B:B,0),1))","v":""},null,{"$f":"IF(Q158=\"\",\"\",INDEX(referentes!D:E,MATCH(Q158,referentes!E:E,0),1))","v":""},"",null,null,null,null,"","","",154,"","",""]
["30001212",{"$f":"DIGITADOR!$B$2","v":""},1,{"$f":"IF(G159<>\"\",CONCATENATE(B159,A159,DIGITADOR!$M$1,C159,G159),\"\")","v":""},null,"",null,"",{"$f":"IF(ACTIVIDADES!K159<>\"\",CONCATENATE(B159,A159,DIGITADOR!$M$1,ACTIVIDADES!N159,C159),\"\")","v":""},{"$f":"IF(G159=\"\",\"\",IF(D159=D158,\"\",CONCATENATE(B159,A159,DIGITADOR!$M$1,ACTIVIDADES!N159,C159)))","v":""},null,null,null,{"$f":"IF(M159=\"\",\"\",INDEX(referentes!AN:AQ,MATCH(M159,referentes!AQ:AQ,0),1))","v":""},null,{"$f":"IF(O159=\"\",\"\",INDEX(referentes!A:B,MATCH(O159,referentes!B:B,0),1))","v":""},null,{"$f":"IF(Q159=\"\",\"\",INDEX(referentes!D:E,MATCH(Q159,referentes!E:E,0),1))","v":""},"",null,null,null,null,"","","",155,"","",""]
["30001212",{"$f":"DIGITADOR!$B$2","v":""},1,{"$f":"IF(G160<>\"\",CONCATENATE(B160,A160,DIGITADOR!$M$1,C160,G160),\"\")","v":""},null,"",null,"",{"$f":"IF(ACTIVIDADES!K160<>\"\",CONCATENATE(B160,A160,DIGITADOR!$M$1,ACTIVIDADES!N160,C160),\"\")","v":""},{"$f":"IF(G160=\"\",\"\",IF(D160=D159,\"\",CONCATENATE(B160,A160,DIGITADOR!$M$1,ACTIVIDADES!N160,C160)))","v":""},null,null,null,{"$f":"IF(M160=\"\",\"\",INDEX(referentes!AN:AQ,MATCH(M160,referentes!AQ:AQ,0),1))","v":""},null,{"$f":"IF(O160=\"\",\"\",INDEX(referentes!A:B,MATCH(O160,referentes!B:B,0),1))","v":""},null,{"$f":"IF(Q160=\"\",\"\",INDEX(referentes!D:E,MATCH(Q160,referentes!E:E,0),1))","v":""},"",null,null,null,null,"","","",156,"","",""]
["30001212",{"$f":"DIGITADOR!$B$2","v":""},1,{"$f":"IF(G161<>\"\",CONCATENATE(B161,A161,DIGITADOR!$M$1,C161,G161),\"\")","v":""},null,"",null,"",{"$f":"IF(ACTIVIDADES!K161<>\"\",CONCATENATE(B161,A161,DIGITADOR!$M$1,ACTIVIDADES!N161,C161),\"\")","v":""},{"$f":"IF(G161=\"\",\"\",IF(D161=D160,\"\",CONCATENATE(B161,A161,DIGITADOR!$M$1,ACTIVIDADES!N161,C161)))","v":""},null,null,null,{"$f":"IF(M161=\"\",\"\",INDEX(referentes!AN:AQ,MATCH(M161,referentes!AQ:AQ,0),1))","v":""},null,{"$f":"IF(O161=\"\",\"\",INDEX(referentes!A:B,MATCH(O161,referentes!B:B,0),1))","v":""},null,{"$f":"IF(Q161=\"\",\"\",INDEX(referentes!D:E,MATCH(Q161,referentes!E:E,0),1))","v":""},"",null,null,null,null,"","","",157,"","",""]
["30001212",{"$f":"DIGITADOR!$B$2","v":""},1,{"$f":"IF(G162<>\"\",CONCATENATE(B162,A162,DIGITADOR!$M$1,C162,G162),\"\")","v":""},null,"",null,"",{"$f":"IF(ACTIVIDADES!K162<>\"\",CONCATENATE(B162,A162,DIGITADOR!$M$1,ACTIVIDADES!N162,C162),\"\")","v":""},{"$f":"IF(G162=\"\",\"\",IF(D162=D161,\"\",CONCATENATE(B162,A162,DIGITADOR!$M$1,ACTIVIDADES!N162,C162)))","v":""},null,null,null,{"$f":"IF(M162=\"\",\"\",INDEX(referentes!AN:AQ,MATCH(M162,referentes!AQ:AQ,0),1))","v":""},null,{"$f":"IF(O162=\"\",\"\",INDEX(referentes!A:B,MATCH(O162,referentes!B:B,0),1))","v":""},null,{"$f":"IF(Q162=\"\",\"\",INDEX(referentes!D:E,MATCH(Q162,referentes!E:E,0),1))","v":""},"",null,null,null,null,"","","",158,"","",""]
["30001212",{"$f":"DIGITADOR!$B$2","v":""},1,{"$f":"IF(G163<>\"\",CONCATENATE(B163,A163,DIGITADOR!$M$1,C163,G163),\"\")","v":""},null,"",null,"",{"$f":"IF(ACTIVIDADES!K163<>\"\",CONCATENATE(B163,A163,DIGITADOR!$M$1,ACTIVIDADES!N163,C163),\"\")","v":""},{"$f":"IF(G163=\"\",\"\",IF(D163=D162,\"\",CONCATENATE(B163,A163,DIGITADOR!$M$1,ACTIVIDADES!N163,C163)))","v":""},null,null,null,{"$f":"IF(M163=\"\",\"\",INDEX(referentes!AN:AQ,MATCH(M163,referentes!AQ:AQ,0),1))","v":""},null,{"$f":"IF(O163=\"\",\"\",INDEX(referentes!A:B,MATCH(O163,referentes!B:B,0),1))","v":""},null,{"$f":"IF(Q163=\"\",\"\",INDEX(referentes!D:E,MATCH(Q163,referentes!E:E,0),1))","v":""},"",null,null,null,null,"","","",159,"","",""]
["30001212",{"$f":"DIGITADOR!$B$2","v":""},1,{"$f":"IF(G164<>\"\",CONCATENATE(B164,A164,DIGITADOR!$M$1,C164,G164),\"\")","v":""},null,"",null,"",{"$f":"IF(ACTIVIDADES!K164<>\"\",CONCATENATE(B164,A164,DIGITADOR!$M$1,ACTIVIDADES!N164,C164),\"\")","v":""},{"$f":"IF(G164=\"\",\"\",IF(D164=D163,\"\",CONCATENATE(B164,A164,DIGITADOR!$M$1,ACTIVIDADES!N164,C164)))","v":""},null,null,null,{"$f":"IF(M164=\"\",\"\",INDEX(referentes!AN:AQ,MATCH(M164,referentes!AQ:AQ,0),1))","v":""},null,{"$f":"IF(O164=\"\",\"\",INDEX(referentes!A:B,MATCH(O164,referentes!B:B,0),1))","v":""},null,{"$f":"IF(Q164=\"\",\"\",INDEX(referentes!D:E,MATCH(Q164,referentes!E:E,0),1))","v":""},"",null,null,null,null,"","","",160,"","",""]
["30001212",{"$f":"DIGITADOR!$B$2","v":""},1,{"$f":"IF(G165<>\"\",CONCATENATE(B165,A165,DIGITADOR!$M$1,C165,G165),\"\")","v":""},null,"",null,"",{"$f":"IF(ACTIVIDADES!K165<>\"\",CONCATENATE(B165,A165,DIGITADOR!$M$1,ACTIVIDADES!N165,C165),\"\")","v":""},{"$f":"IF(G165=\"\",\"\",IF(D165=D164,\"\",CONCATENATE(B165,A165,DIGITADOR!$M$1,ACTIVIDADES!N165,C165)))","v":""},null,null,null,{"$f":"IF(M165=\"\",\"\",INDEX(referentes!AN:AQ,MATCH(M165,referentes!AQ:AQ,0),1))","v":""},null,{"$f":"IF(O165=\"\",\"\",INDEX(referentes!A:B,MATCH(O165,referentes!B:B,0),1))","v":""},null,{"$f":"IF(Q165=\"\",\"\",INDEX(referentes!D:E,MATCH(Q165,referentes!E:E,0),1))","v":""},"",null,null,null,null,"","","",161,"","",""]
["30001212",{"$f":"DIGITADOR!$B$2","v":""},1,{"$f":"IF(G166<>\"\",CONCATENATE(B166,A166,DIGITADOR!$M$1,C166,G166),\"\")","v":""},null,"",null,"",{"$f":"IF(ACTIVIDADES!K166<>\"\",CONCATENATE(B166,A166,DIGITADOR!$M$1,ACTIVIDADES!N166,C166),\"\")","v":""},{"$f":"IF(G166=\"\",\"\",IF(D166=D165,\"\",CONCATENATE(B166,A166,DIGITADOR!$M$1,ACTIVIDADES!N166,C166)))","v":""},null,null,null,{"$f":"IF(M166=\"\",\"\",INDEX(referentes!AN:AQ,MATCH(M166,referentes!AQ:AQ,0),1))","v":""},null,{"$f":"IF(O166=\"\",\"\",INDEX(referentes!A:B,MATCH(O166,referentes!B:B,0),1))","v":""},null,{"$f":"IF(Q166=\"\",\"\",INDEX(referentes!D:E,MATCH(Q166,referentes!E:E,0),1))","v":""},"",null,null,null,null,"","","",162,"","",""]
["30001212",{"$f":"DIGITADOR!$B$2","v":""},1,{"$f":"IF(G167<>\"\",CONCATENATE(B167,A167,DIGITADOR!$M$1,C167,G167),\"\")","v":""},null,"",null,"",{"$f":"IF(ACTIVIDADES!K167<>\"\",CONCATENATE(B167,A167,DIGITADOR!$M$1,ACTIVIDADES!N167,C167),\"\")","v":""},{"$f":"IF(G167=\"\",\"\",IF(D167=D166,\"\",CONCATENATE(B167,A167,DIGITADOR!$M$1,ACTIVIDADES!N167,C167)))","v":""},null,null,null,{"$f":"IF(M167=\"\",\"\",INDEX(referentes!AN:AQ,MATCH(M167,referentes!AQ:AQ,0),1))","v":""},null,{"$f":"IF(O167=\"\",\"\",INDEX(referentes!A:B,MATCH(O167,referentes!B:B,0),1))","v":""},null,{"$f":"IF(Q167=\"\",\"\",INDEX(referentes!D:E,MATCH(Q167,referentes!E:E,0),1))","v":""},"",null,null,null,null,"","","",163,"","",""]
["30001212",{"$f":"DIGITADOR!$B$2","v":""},1,{"$f":"IF(G168<>\"\",CONCATENATE(B168,A168,DIGITADOR!$M$1,C168,G168),\"\")","v":""},null,"",null,"",{"$f":"IF(ACTIVIDADES!K168<>\"\",CONCATENATE(B168,A168,DIGITADOR!$M$1,ACTIVIDADES!N168,C168),\"\")","v":""},{"$f":"IF(G168=\"\",\"\",IF(D168=D167,\"\",CONCATENATE(B168,A168,DIGITADOR!$M$1,ACTIVIDADES!N168,C168)))","v":""},null,null,null,{"$f":"IF(M168=\"\",\"\",INDEX(referentes!AN:AQ,MATCH(M168,referentes!AQ:AQ,0),1))","v":""},null,{"$f":"IF(O168=\"\",\"\",INDEX(referentes!A:B,MATCH(O168,referentes!B:B,0),1))","v":""},null,{"$f":"IF(Q168=\"\",\"\",INDEX(referentes!D:E,MATCH(Q168,referentes!E:E,0),1))","v":""},"",null,null,null,null,"","","",164,"","",""]
["30001212",{"$f":"DIGITADOR!$B$2","v":""},1,{"$f":"IF(G169<>\"\",CONCATENATE(B169,A169,DIGITADOR!$M$1,C169,G169),\"\")","v":""},null,"",null,"",{"$f":"IF(ACTIVIDADES!K169<>\"\",CONCATENATE(B169,A169,DIGITADOR!$M$1,ACTIVIDADES!N169,C169),\"\")","v":""},{"$f":"IF(G169=\"\",\"\",IF(D169=D168,\"\",CONCATENATE(B169,A169,DIGITADOR!$M$1,ACTIVIDADES!N169,C169)))","v":""},null,null,null,{"$f":"IF(M169=\"\",\"\",INDEX(referentes!AN:AQ,MATCH(M169,referentes!AQ:AQ,0),1))","v":""},null,{"$f":"IF(O169=\"\",\"\",INDEX(referentes!A:B,MATCH(O169,referentes!B:B,0),1))","v":""},null,{"$f":"IF(Q169=\"\",\"\",INDEX(referentes!D:E,MATCH(Q169,referentes!E:E,0),1))","v":""},"",null,null,null,null,"","","",165,"","",""]
["30001212",{"$f":"DIGITADOR!$B$2","v":""},1,{"$f":"IF(G170<>\"\",CONCATENATE(B170,A170,DIGITADOR!$M$1,C170,G170),\"\")","v":""},null,"",null,"",{"$f":"IF(ACTIVIDADES!K170<>\"\",CONCATENATE(B170,A170,DIGITADOR!$M$1,ACTIVIDADES!N170,C170),\"\")","v":""},{"$f":"IF(G170=\"\",\"\",IF(D170=D169,\"\",CONCATENATE(B170,A170,DIGITADOR!$M$1,ACTIVIDADES!N170,C170)))","v":""},null,null,null,{"$f":"IF(M170=\"\",\"\",INDEX(referentes!AN:AQ,MATCH(M170,referentes!AQ:AQ,0),1))","v":""},null,{"$f":"IF(O170=\"\",\"\",INDEX(referentes!A:B,MATCH(O170,referentes!B:B,0),1))","v":""},null,{"$f":"IF(Q170=\"\",\"\",INDEX(referentes!D:E,MATCH(Q170,referentes!E:E,0),1))","v":""},"",null,null,null,null,"","","",166,"","",""]
["30001212",{"$f":"DIGITADOR!$B$2","v":""},1,{"$f":"IF(G171<>\"\",CONCATENATE(B171,A171,DIGITADOR!$M$1,C171,G171),\"\")","v":""},null,"",null,"",{"$f":"IF(ACTIVIDADES!K171<>\"\",CONCATENATE(B171,A171,DIGITADOR!$M$1,ACTIVIDADES!N171,C171),\"\")","v":""},{"$f":"IF(G171=\"\",\"\",IF(D171=D170,\"\",CONCATENATE(B171,A171,DIGITADOR!$M$1,ACTIVIDADES!N171,C171)))","v":""},null,null,null,{"$f":"IF(M171=\"\",\"\",INDEX(referentes!AN:AQ,MATCH(M171,referentes!AQ:AQ,0),1))","v":""},null,{"$f":"IF(O171=\"\",\"\",INDEX(referentes!A:B,MATCH(O171,referentes!B:B,0),1))","v":""},null,{"$f":"IF(Q171=\"\",\"\",INDEX(referentes!D:E,MATCH(Q171,referentes!E:E,0),1))","v":""},"",null,null,null,null,"","","",167,"","",""]
["30001212",{"$f":"DIGITADOR!$B$2","v":""},1,{"$f":"IF(G172<>\"\",CONCATENATE(B172,A172,DIGITADOR!$M$1,C172,G172),\"\")","v":""},null,"",null,"",{"$f":"IF(ACTIVIDADES!K172<>\"\",CONCATENATE(B172,A172,DIGITADOR!$M$1,ACTIVIDADES!N172,C172),\"\")","v":""},{"$f":"IF(G172=\"\",\"\",IF(D172=D171,\"\",CONCATENATE(B172,A172,DIGITADOR!$M$1,ACTIVIDADES!N172,C172)))","v":""},null,null,null,{"$f":"IF(M172=\"\",\"\",INDEX(referentes!AN:AQ,MATCH(M172,referentes!AQ:AQ,0),1))","v":""},null,{"$f":"IF(O172=\"\",\"\",INDEX(referentes!A:B,MATCH(O172,referentes!B:B,0),1))","v":""},null,{"$f":"IF(Q172=\"\",\"\",INDEX(referentes!D:E,MATCH(Q172,referentes!E:E,0),1))","v":""},"",null,null,null,null,"","","",168,"","",""]
["30001212",{"$f":"DIGITADOR!$B$2","v":""},1,{"$f":"IF(G173<>\"\",CONCATENATE(B173,A173,DIGITADOR!$M$1,C173,G173),\"\")","v":""},null,"",null,"",{"$f":"IF(ACTIVIDADES!K173<>\"\",CONCATENATE(B173,A173,DIGITADOR!$M$1,ACTIVIDADES!N173,C173),\"\")","v":""},{"$f":"IF(G173=\"\",\"\",IF(D173=D172,\"\",CONCATENATE(B173,A173,DIGITADOR!$M$1,ACTIVIDADES!N173,C173)))","v":""},null,null,null,{"$f":"IF(M173=\"\",\"\",INDEX(referentes!AN:AQ,MATCH(M173,referentes!AQ:AQ,0),1))","v":""},null,{"$f":"IF(O173=\"\",\"\",INDEX(referentes!A:B,MATCH(O173,referentes!B:B,0),1))","v":""},null,{"$f":"IF(Q173=\"\",\"\",INDEX(referentes!D:E,MATCH(Q173,referentes!E:E,0),1))","v":""},"",null,null,null,null,"","","",169,"","",""]
["30001212",{"$f":"DIGITADOR!$B$2","v":""},1,{"$f":"IF(G174<>\"\",CONCATENATE(B174,A174,DIGITADOR!$M$1,C174,G174),\"\")","v":""},null,"",null,"",{"$f":"IF(ACTIVIDADES!K174<>\"\",CONCATENATE(B174,A174,DIGITADOR!$M$1,ACTIVIDADES!N174,C174),\"\")","v":""},{"$f":"IF(G174=\"\",\"\",IF(D174=D173,\"\",CONCATENATE(B174,A174,DIGITADOR!$M$1,ACTIVIDADES!N174,C174)))","v":""},null,null,null,{"$f":"IF(M174=\"\",\"\",INDEX(referentes!AN:AQ,MATCH(M174,referentes!AQ:AQ,0),1))","v":""},null,{"$f":"IF(O174=\"\",\"\",INDEX(referentes!A:B,MATCH(O174,referentes!B:B,0),1))","v":""},null,{"$f":"IF(Q174=\"\",\"\",INDEX(referentes!D:E,MATCH(Q174,referentes!E:E,0),1))","v":""},"",null,null,null,null,"","","",170,"","",""]
["30001212",{"$f":"DIGITADOR!$B$2","v":""},1,{"$f":"IF(G175<>\"\",CONCATENATE(B175,A175,DIGITADOR!$M$1,C175,G175),\"\")","v":""},null,"",null,"",{"$f":"IF(ACTIVIDADES!K175<>\"\",CONCATENATE(B175,A175,DIGITADOR!$M$1,ACTIVIDADES!N175,C175),\"\")","v":""},{"$f":"IF(G175=\"\",\"\",IF(D175=D174,\"\",CONCATENATE(B175,A175,DIGITADOR!$M$1,ACTIVIDADES!N175,C175)))","v":""},null,null,null,{"$f":"IF(M175=\"\",\"\",INDEX(referentes!AN:AQ,MATCH(M175,referentes!AQ:AQ,0),1))","v":""},null,{"$f":"IF(O175=\"\",\"\",INDEX(referentes!A:B,MATCH(O175,referentes!B:B,0),1))","v":""},null,{"$f":"IF(Q175=\"\",\"\",INDEX(referentes!D:E,MATCH(Q175,referentes!E:E,0),1))","v":""},"",null,null,null,null,"","","",171,"","",""]
["30001212",{"$f":"DIGITADOR!$B$2","v":""},1,{"$f":"IF(G176<>\"\",CONCATENATE(B176,A176,DIGITADOR!$M$1,C176,G176),\"\")","v":""},null,"",null,"",{"$f":"IF(ACTIVIDADES!K176<>\"\",CONCATENATE(B176,A176,DIGITADOR!$M$1,ACTIVIDADES!N176,C176),\"\")","v":""},{"$f":"IF(G176=\"\",\"\",IF(D176=D175,\"\",CONCATENATE(B176,A176,DIGITADOR!$M$1,ACTIVIDADES!N176,C176)))","v":""},null,null,null,{"$f":"IF(M176=\"\",\"\",INDEX(referentes!AN:AQ,MATCH(M176,referentes!AQ:AQ,0),1))","v":""},null,{"$f":"IF(O176=\"\",\"\",INDEX(referentes!A:B,MATCH(O176,referentes!B:B,0),1))","v":""},null,{"$f":"IF(Q176=\"\",\"\",INDEX(referentes!D:E,MATCH(Q176,referentes!E:E,0),1))","v":""},"",null,null,null,null,"","","",172,"","",""]
["30001212",{"$f":"DIGITADOR!$B$2","v":""},1,{"$f":"IF(G177<>\"\",CONCATENATE(B177,A177,DIGITADOR!$M$1,C177,G177),\"\")","v":""},null,"",null,"",{"$f":"IF(ACTIVIDADES!K177<>\"\",CONCATENATE(B177,A177,DIGITADOR!$M$1,ACTIVIDADES!N177,C177),\"\")","v":""},{"$f":"IF(G177=\"\",\"\",IF(D177=D176,\"\",CONCATENATE(B177,A177,DIGITADOR!$M$1,ACTIVIDADES!N177,C177)))","v":""},null,null,null,{"$f":"IF(M177=\"\",\"\",INDEX(referentes!AN:AQ,MATCH(M177,referentes!AQ:AQ,0),1))","v":""},null,{"$f":"IF(O177=\"\",\"\",INDEX(referentes!A:B,MATCH(O177,referentes!B:B,0),1))","v":""},null,{"$f":"IF(Q177=\"\",\"\",INDEX(referentes!D:E,MATCH(Q177,referentes!E:E,0),1))","v":""},"",null,null,null,null,"","","",173,"","",""]
["30001212",{"$f":"DIGITADOR!$B$2","v":""},1,{"$f":"IF(G178<>\"\",CONCATENATE(B178,A178,DIGITADOR!$M$1,C178,G178),\"\")","v":""},null,"",null,"",{"$f":"IF(ACTIVIDADES!K178<>\"\",CONCATENATE(B178,A178,DIGITADOR!$M$1,ACTIVIDADES!N178,C178),\"\")","v":""},{"$f":"IF(G178=\"\",\"\",IF(D178=D177,\"\",CONCATENATE(B178,A178,DIGITADOR!$M$1,ACTIVIDADES!N178,C178)))","v":""},null,null,null,{"$f":"IF(M178=\"\",\"\",INDEX(referentes!AN:AQ,MATCH(M178,referentes!AQ:AQ,0),1))","v":""},null,{"$f":"IF(O178=\"\",\"\",INDEX(referentes!A:B,MATCH(O178,referentes!B:B,0),1))","v":""},null,{"$f":"IF(Q178=\"\",\"\",INDEX(referentes!D:E,MATCH(Q178,referentes!E:E,0),1))","v":""},"",null,null,null,null,"","","",174,"","",""]
["30001212",{"$f":"DIGITADOR!$B$2","v":""},1,{"$f":"IF(G179<>\"\",CONCATENATE(B179,A179,DIGITADOR!$M$1,C179,G179),\"\")","v":""},null,"",null,"",{"$f":"IF(ACTIVIDADES!K179<>\"\",CONCATENATE(B179,A179,DIGITADOR!$M$1,ACTIVIDADES!N179,C179),\"\")","v":""},{"$f":"IF(G179=\"\",\"\",IF(D179=D178,\"\",CONCATENATE(B179,A179,DIGITADOR!$M$1,ACTIVIDADES!N179,C179)))","v":""},null,null,null,{"$f":"IF(M179=\"\",\"\",INDEX(referentes!AN:AQ,MATCH(M179,referentes!AQ:AQ,0),1))","v":""},null,{"$f":"IF(O179=\"\",\"\",INDEX(referentes!A:B,MATCH(O179,referentes!B:B,0),1))","v":""},null,{"$f":"IF(Q179=\"\",\"\",INDEX(referentes!D:E,MATCH(Q179,referentes!E:E,0),1))","v":""},"",null,null,null,null,"","","",175,"","",""]
["30001212",{"$f":"DIGITADOR!$B$2","v":""},1,{"$f":"IF(G180<>\"\",CONCATENATE(B180,A180,DIGITADOR!$M$1,C180,G180),\"\")","v":""},null,"",null,"",{"$f":"IF(ACTIVIDADES!K180<>\"\",CONCATENATE(B180,A180,DIGITADOR!$M$1,ACTIVIDADES!N180,C180),\"\")","v":""},{"$f":"IF(G180=\"\",\"\",IF(D180=D179,\"\",CONCATENATE(B180,A180,DIGITADOR!$M$1,ACTIVIDADES!N180,C180)))","v":""},null,null,null,{"$f":"IF(M180=\"\",\"\",INDEX(referentes!AN:AQ,MATCH(M180,referentes!AQ:AQ,0),1))","v":""},null,{"$f":"IF(O180=\"\",\"\",INDEX(referentes!A:B,MATCH(O180,referentes!B:B,0),1))","v":""},null,{"$f":"IF(Q180=\"\",\"\",INDEX(referentes!D:E,MATCH(Q180,referentes!E:E,0),1))","v":""},"",null,null,null,null,"","","",176,"","",""]
["30001212",{"$f":"DIGITADOR!$B$2","v":""},1,{"$f":"IF(G181<>\"\",CONCATENATE(B181,A181,DIGITADOR!$M$1,C181,G181),\"\")","v":""},null,"",null,"",{"$f":"IF(ACTIVIDADES!K181<>\"\",CONCATENATE(B181,A181,DIGITADOR!$M$1,ACTIVIDADES!N181,C181),\"\")","v":""},{"$f":"IF(G181=\"\",\"\",IF(D181=D180,\"\",CONCATENATE(B181,A181,DIGITADOR!$M$1,ACTIVIDADES!N181,C181)))","v":""},null,null,null,{"$f":"IF(M181=\"\",\"\",INDEX(referentes!AN:AQ,MATCH(M181,referentes!AQ:AQ,0),1))","v":""},null,{"$f":"IF(O181=\"\",\"\",INDEX(referentes!A:B,MATCH(O181,referentes!B:B,0),1))","v":""},null,{"$f":"IF(Q181=\"\",\"\",INDEX(referentes!D:E,MATCH(Q181,referentes!E:E,0),1))","v":""},"",null,null,null,null,"","","",177,"","",""]
["30001212",{"$f":"DIGITADOR!$B$2","v":""},1,{"$f":"IF(G182<>\"\",CONCATENATE(B182,A182,DIGITADOR!$M$1,C182,G182),\"\")","v":""},null,"",null,"",{"$f":"IF(ACTIVIDADES!K182<>\"\",CONCATENATE(B182,A182,DIGITADOR!$M$1,ACTIVIDADES!N182,C182),\"\")","v":""},{"$f":"IF(G182=\"\",\"\",IF(D182=D181,\"\",CONCATENATE(B182,A182,DIGITADOR!$M$1,ACTIVIDADES!N182,C182)))","v":""},null,null,null,{"$f":"IF(M182=\"\",\"\",INDEX(referentes!AN:AQ,MATCH(M182,referentes!AQ:AQ,0),1))","v":""},null,{"$f":"IF(O182=\"\",\"\",INDEX(referentes!A:B,MATCH(O182,referentes!B:B,0),1))","v":""},null,{"$f":"IF(Q182=\"\",\"\",INDEX(referentes!D:E,MATCH(Q182,referentes!E:E,0),1))","v":""},"",null,null,null,null,"","","",178,"","",""]
["30001212",{"$f":"DIGITADOR!$B$2","v":""},1,{"$f":"IF(G183<>\"\",CONCATENATE(B183,A183,DIGITADOR!$M$1,C183,G183),\"\")","v":""},null,"",null,"",{"$f":"IF(ACTIVIDADES!K183<>\"\",CONCATENATE(B183,A183,DIGITADOR!$M$1,ACTIVIDADES!N183,C183),\"\")","v":""},{"$f":"IF(G183=\"\",\"\",IF(D183=D182,\"\",CONCATENATE(B183,A183,DIGITADOR!$M$1,ACTIVIDADES!N183,C183)))","v":""},null,null,null,{"$f":"IF(M183=\"\",\"\",INDEX(referentes!AN:AQ,MATCH(M183,referentes!AQ:AQ,0),1))","v":""},null,{"$f":"IF(O183=\"\",\"\",INDEX(referentes!A:B,MATCH(O183,referentes!B:B,0),1))","v":""},null,{"$f":"IF(Q183=\"\",\"\",INDEX(referentes!D:E,MATCH(Q183,referentes!E:E,0),1))","v":""},"",null,null,null,null,"","","",179,"","",""]
["30001212",{"$f":"DIGITADOR!$B$2","v":""},1,{"$f":"IF(G184<>\"\",CONCATENATE(B184,A184,DIGITADOR!$M$1,C184,G184),\"\")","v":""},null,"",null,"",{"$f":"IF(ACTIVIDADES!K184<>\"\",CONCATENATE(B184,A184,DIGITADOR!$M$1,ACTIVIDADES!N184,C184),\"\")","v":""},{"$f":"IF(G184=\"\",\"\",IF(D184=D183,\"\",CONCATENATE(B184,A184,DIGITADOR!$M$1,ACTIVIDADES!N184,C184)))","v":""},null,null,null,{"$f":"IF(M184=\"\",\"\",INDEX(referentes!AN:AQ,MATCH(M184,referentes!AQ:AQ,0),1))","v":""},null,{"$f":"IF(O184=\"\",\"\",INDEX(referentes!A:B,MATCH(O184,referentes!B:B,0),1))","v":""},null,{"$f":"IF(Q184=\"\",\"\",INDEX(referentes!D:E,MATCH(Q184,referentes!E:E,0),1))","v":""},"",null,null,null,null,"","","",180,"","",""]
["30001212",{"$f":"DIGITADOR!$B$2","v":""},1,{"$f":"IF(G185<>\"\",CONCATENATE(B185,A185,DIGITADOR!$M$1,C185,G185),\"\")","v":""},null,"",null,"",{"$f":"IF(ACTIVIDADES!K185<>\"\",CONCATENATE(B185,A185,DIGITADOR!$M$1,ACTIVIDADES!N185,C185),\"\")","v":""},{"$f":"IF(G185=\"\",\"\",IF(D185=D184,\"\",CONCATENATE(B185,A185,DIGITADOR!$M$1,ACTIVIDADES!N185,C185)))","v":""},null,null,null,{"$f":"IF(M185=\"\",\"\",INDEX(referentes!AN:AQ,MATCH(M185,referentes!AQ:AQ,0),1))","v":""},null,{"$f":"IF(O185=\"\",\"\",INDEX(referentes!A:B,MATCH(O185,referentes!B:B,0),1))","v":""},null,{"$f":"IF(Q185=\"\",\"\",INDEX(referentes!D:E,MATCH(Q185,referentes!E:E,0),1))","v":""},"",null,null,null,null,"","","",181,"","",""]
["30001212",{"$f":"DIGITADOR!$B$2","v":""},1,{"$f":"IF(G186<>\"\",CONCATENATE(B186,A186,DIGITADOR!$M$1,C186,G186),\"\")","v":""},null,"",null,"",{"$f":"IF(ACTIVIDADES!K186<>\"\",CONCATENATE(B186,A186,DIGITADOR!$M$1,ACTIVIDADES!N186,C186),\"\")","v":""},{"$f":"IF(G186=\"\",\"\",IF(D186=D185,\"\",CONCATENATE(B186,A186,DIGITADOR!$M$1,ACTIVIDADES!N186,C186)))","v":""},null,null,null,{"$f":"IF(M186=\"\",\"\",INDEX(referentes!AN:AQ,MATCH(M186,referentes!AQ:AQ,0),1))","v":""},null,{"$f":"IF(O186=\"\",\"\",INDEX(referentes!A:B,MATCH(O186,referentes!B:B,0),1))","v":""},null,{"$f":"IF(Q186=\"\",\"\",INDEX(referentes!D:E,MATCH(Q186,referentes!E:E,0),1))","v":""},"",null,null,null,null,"","","",182,"","",""]
["30001212",{"$f":"DIGITADOR!$B$2","v":""},1,{"$f":"IF(G187<>\"\",CONCATENATE(B187,A187,DIGITADOR!$M$1,C187,G187),\"\")","v":""},null,"",null,"",{"$f":"IF(ACTIVIDADES!K187<>\"\",CONCATENATE(B187,A187,DIGITADOR!$M$1,ACTIVIDADES!N187,C187),\"\")","v":""},{"$f":"IF(G187=\"\",\"\",IF(D187=D186,\"\",CONCATENATE(B187,A187,DIGITADOR!$M$1,ACTIVIDADES!N187,C187)))","v":""},null,null,null,{"$f":"IF(M187=\"\",\"\",INDEX(referentes!AN:AQ,MATCH(M187,referentes!AQ:AQ,0),1))","v":""},null,{"$f":"IF(O187=\"\",\"\",INDEX(referentes!A:B,MATCH(O187,referentes!B:B,0),1))","v":""},null,{"$f":"IF(Q187=\"\",\"\",INDEX(referentes!D:E,MATCH(Q187,referentes!E:E,0),1))","v":""},"",null,null,null,null,"","","",183,"","",""]
["30001212",{"$f":"DIGITADOR!$B$2","v":""},1,{"$f":"IF(G188<>\"\",CONCATENATE(B188,A188,DIGITADOR!$M$1,C188,G188),\"\")","v":""},null,"",null,"",{"$f":"IF(ACTIVIDADES!K188<>\"\",CONCATENATE(B188,A188,DIGITADOR!$M$1,ACTIVIDADES!N188,C188),\"\")","v":""},{"$f":"IF(G188=\"\",\"\",IF(D188=D187,\"\",CONCATENATE(B188,A188,DIGITADOR!$M$1,ACTIVIDADES!N188,C188)))","v":""},null,null,null,{"$f":"IF(M188=\"\",\"\",INDEX(referentes!AN:AQ,MATCH(M188,referentes!AQ:AQ,0),1))","v":""},null,{"$f":"IF(O188=\"\",\"\",INDEX(referentes!A:B,MATCH(O188,referentes!B:B,0),1))","v":""},null,{"$f":"IF(Q188=\"\",\"\",INDEX(referentes!D:E,MATCH(Q188,referentes!E:E,0),1))","v":""},"",null,null,null,null,"","","",184,"","",""]
["30001212",{"$f":"DIGITADOR!$B$2","v":""},1,{"$f":"IF(G189<>\"\",CONCATENATE(B189,A189,DIGITADOR!$M$1,C189,G189),\"\")","v":""},null,"",null,"",{"$f":"IF(ACTIVIDADES!K189<>\"\",CONCATENATE(B189,A189,DIGITADOR!$M$1,ACTIVIDADES!N189,C189),\"\")","v":""},{"$f":"IF(G189=\"\",\"\",IF(D189=D188,\"\",CONCATENATE(B189,A189,DIGITADOR!$M$1,ACTIVIDADES!N189,C189)))","v":""},null,null,null,{"$f":"IF(M189=\"\",\"\",INDEX(referentes!AN:AQ,MATCH(M189,referentes!AQ:AQ,0),1))","v":""},null,{"$f":"IF(O189=\"\",\"\",INDEX(referentes!A:B,MATCH(O189,referentes!B:B,0),1))","v":""},null,{"$f":"IF(Q189=\"\",\"\",INDEX(referentes!D:E,MATCH(Q189,referentes!E:E,0),1))","v":""},"",null,null,null,null,"","","",185,"","",""]
["30001212",{"$f":"DIGITADOR!$B$2","v":""},1,{"$f":"IF(G190<>\"\",CONCATENATE(B190,A190,DIGITADOR!$M$1,C190,G190),\"\")","v":""},null,"",null,"",{"$f":"IF(ACTIVIDADES!K190<>\"\",CONCATENATE(B190,A190,DIGITADOR!$M$1,ACTIVIDADES!N190,C190),\"\")","v":""},{"$f":"IF(G190=\"\",\"\",IF(D190=D189,\"\",CONCATENATE(B190,A190,DIGITADOR!$M$1,ACTIVIDADES!N190,C190)))","v":""},null,null,null,{"$f":"IF(M190=\"\",\"\",INDEX(referentes!AN:AQ,MATCH(M190,referentes!AQ:AQ,0),1))","v":""},null,{"$f":"IF(O190=\"\",\"\",INDEX(referentes!A:B,MATCH(O190,referentes!B:B,0),1))","v":""},null,{"$f":"IF(Q190=\"\",\"\",INDEX(referentes!D:E,MATCH(Q190,referentes!E:E,0),1))","v":""},"",null,null,null,null,"","","",186,"","",""]
["30001212",{"$f":"DIGITADOR!$B$2","v":""},1,{"$f":"IF(G191<>\"\",CONCATENATE(B191,A191,DIGITADOR!$M$1,C191,G191),\"\")","v":""},null,"",null,"",{"$f":"IF(ACTIVIDADES!K191<>\"\",CONCATENATE(B191,A191,DIGITADOR!$M$1,ACTIVIDADES!N191,C191),\"\")","v":""},{"$f":"IF(G191=\"\",\"\",IF(D191=D190,\"\",CONCATENATE(B191,A191,DIGITADOR!$M$1,ACTIVIDADES!N191,C191)))","v":""},null,null,null,{"$f":"IF(M191=\"\",\"\",INDEX(referentes!AN:AQ,MATCH(M191,referentes!AQ:AQ,0),1))","v":""},null,{"$f":"IF(O191=\"\",\"\",INDEX(referentes!A:B,MATCH(O191,referentes!B:B,0),1))","v":""},null,{"$f":"IF(Q191=\"\",\"\",INDEX(referentes!D:E,MATCH(Q191,referentes!E:E,0),1))","v":""},"",null,null,null,null,"","","",187,"","",""]
["30001212",{"$f":"DIGITADOR!$B$2","v":""},1,{"$f":"IF(G192<>\"\",CONCATENATE(B192,A192,DIGITADOR!$M$1,C192,G192),\"\")","v":""},null,"",null,"",{"$f":"IF(ACTIVIDADES!K192<>\"\",CONCATENATE(B192,A192,DIGITADOR!$M$1,ACTIVIDADES!N192,C192),\"\")","v":""},{"$f":"IF(G192=\"\",\"\",IF(D192=D191,\"\",CONCATENATE(B192,A192,DIGITADOR!$M$1,ACTIVIDADES!N192,C192)))","v":""},null,null,null,{"$f":"IF(M192=\"\",\"\",INDEX(referentes!AN:AQ,MATCH(M192,referentes!AQ:AQ,0),1))","v":""},null,{"$f":"IF(O192=\"\",\"\",INDEX(referentes!A:B,MATCH(O192,referentes!B:B,0),1))","v":""},null,{"$f":"IF(Q192=\"\",\"\",INDEX(referentes!D:E,MATCH(Q192,referentes!E:E,0),1))","v":""},"",null,null,null,null,"","","",188,"","",""]
["30001212",{"$f":"DIGITADOR!$B$2","v":""},1,{"$f":"IF(G193<>\"\",CONCATENATE(B193,A193,DIGITADOR!$M$1,C193,G193),\"\")","v":""},null,"",null,"",{"$f":"IF(ACTIVIDADES!K193<>\"\",CONCATENATE(B193,A193,DIGITADOR!$M$1,ACTIVIDADES!N193,C193),\"\")","v":""},{"$f":"IF(G193=\"\",\"\",IF(D193=D192,\"\",CONCATENATE(B193,A193,DIGITADOR!$M$1,ACTIVIDADES!N193,C193)))","v":""},null,null,null,{"$f":"IF(M193=\"\",\"\",INDEX(referentes!AN:AQ,MATCH(M193,referentes!AQ:AQ,0),1))","v":""},null,{"$f":"IF(O193=\"\",\"\",INDEX(referentes!A:B,MATCH(O193,referentes!B:B,0),1))","v":""},null,{"$f":"IF(Q193=\"\",\"\",INDEX(referentes!D:E,MATCH(Q193,referentes!E:E,0),1))","v":""},"",null,null,null,null,"","","",189,"","",""]
["30001212",{"$f":"DIGITADOR!$B$2","v":""},1,{"$f":"IF(G194<>\"\",CONCATENATE(B194,A194,DIGITADOR!$M$1,C194,G194),\"\")","v":""},null,"",null,"",{"$f":"IF(ACTIVIDADES!K194<>\"\",CONCATENATE(B194,A194,DIGITADOR!$M$1,ACTIVIDADES!N194,C194),\"\")","v":""},{"$f":"IF(G194=\"\",\"\",IF(D194=D193,\"\",CONCATENATE(B194,A194,DIGITADOR!$M$1,ACTIVIDADES!N194,C194)))","v":""},null,null,null,{"$f":"IF(M194=\"\",\"\",INDEX(referentes!AN:AQ,MATCH(M194,referentes!AQ:AQ,0),1))","v":""},null,{"$f":"IF(O194=\"\",\"\",INDEX(referentes!A:B,MATCH(O194,referentes!B:B,0),1))","v":""},null,{"$f":"IF(Q194=\"\",\"\",INDEX(referentes!D:E,MATCH(Q194,referentes!E:E,0),1))","v":""},"",null,null,null,null,"","","",190,"","",""]
["30001212",{"$f":"DIGITADOR!$B$2","v":""},1,{"$f":"IF(G195<>\"\",CONCATENATE(B195,A195,DIGITADOR!$M$1,C195,G195),\"\")","v":""},null,"",null,"",{"$f":"IF(ACTIVIDADES!K195<>\"\",CONCATENATE(B195,A195,DIGITADOR!$M$1,ACTIVIDADES!N195,C195),\"\")","v":""},{"$f":"IF(G195=\"\",\"\",IF(D195=D194,\"\",CONCATENATE(B195,A195,DIGITADOR!$M$1,ACTIVIDADES!N195,C195)))","v":""},null,null,null,{"$f":"IF(M195=\"\",\"\",INDEX(referentes!AN:AQ,MATCH(M195,referentes!AQ:AQ,0),1))","v":""},null,{"$f":"IF(O195=\"\",\"\",INDEX(referentes!A:B,MATCH(O195,referentes!B:B,0),1))","v":""},null,{"$f":"IF(Q195=\"\",\"\",INDEX(referentes!D:E,MATCH(Q195,referentes!E:E,0),1))","v":""},"",null,null,null,null,"","","",191,"","",""]
["30001212",{"$f":"DIGITADOR!$B$2","v":""},1,{"$f":"IF(G196<>\"\",CONCATENATE(B196,A196,DIGITADOR!$M$1,C196,G196),\"\")","v":""},null,"",null,"",{"$f":"IF(ACTIVIDADES!K196<>\"\",CONCATENATE(B196,A196,DIGITADOR!$M$1,ACTIVIDADES!N196,C196),\"\")","v":""},{"$f":"IF(G196=\"\",\"\",IF(D196=D195,\"\",CONCATENATE(B196,A196,DIGITADOR!$M$1,ACTIVIDADES!N196,C196)))","v":""},null,null,null,{"$f":"IF(M196=\"\",\"\",INDEX(referentes!AN:AQ,MATCH(M196,referentes!AQ:AQ,0),1))","v":""},null,{"$f":"IF(O196=\"\",\"\",INDEX(referentes!A:B,MATCH(O196,referentes!B:B,0),1))","v":""},null,{"$f":"IF(Q196=\"\",\"\",INDEX(referentes!D:E,MATCH(Q196,referentes!E:E,0),1))","v":""},"",null,null,null,null,"","","",192,"","",""]
["30001212",{"$f":"DIGITADOR!$B$2","v":""},1,{"$f":"IF(G197<>\"\",CONCATENATE(B197,A197,DIGITADOR!$M$1,C197,G197),\"\")","v":""},null,"",null,"",{"$f":"IF(ACTIVIDADES!K197<>\"\",CONCATENATE(B197,A197,DIGITADOR!$M$1,ACTIVIDADES!N197,C197),\"\")","v":""},{"$f":"IF(G197=\"\",\"\",IF(D197=D196,\"\",CONCATENATE(B197,A197,DIGITADOR!$M$1,ACTIVIDADES!N197,C197)))","v":""},null,null,null,{"$f":"IF(M197=\"\",\"\",INDEX(referentes!AN:AQ,MATCH(M197,referentes!AQ:AQ,0),1))","v":""},null,{"$f":"IF(O197=\"\",\"\",INDEX(referentes!A:B,MATCH(O197,referentes!B:B,0),1))","v":""},null,{"$f":"IF(Q197=\"\",\"\",INDEX(referentes!D:E,MATCH(Q197,referentes!E:E,0),1))","v":""},{"$f":"IF(U197=\"\",IF(K197=\"\",\"\",IF(L197=\"\",0,L197-K197)),IF(U197=\"\",\"\",IF(V197=\"\",0,V197-U197)))","v":""},null,null,null,null,"",{"$f":"IF(D197=\"\",\"\",CONCATENATE(D197,AA197))","v":""},"",193,"",{"$f":"IF(AB197=\"\",\"\",CONCATENATE(AB197,$AC$1))","v":""},{"$f":"IF(D197=\"\",\"\",CONCATENATE(D197,$AC$1))","v":""}]
[{"$f":"A197","v":"30001212"},{"$f":"DIGITADOR!$B$2","v":""},{"$f":"IF(G198=G197,C197,C197+1)","v":1},{"$f":"IF(G198<>\"\",CONCATENATE(B198,A198,DIGITADOR!$M$1,C198,G198),\"\")","v":""},null,{"$f":"IF(E198=\"\",\"\",IF(E198=FALSE,0,-1))","v":""},null,{"$f":"IF(G198=\"\",\"\",D198)","v":""},{"$f":"IF(ACTIVIDADES!K198<>\"\",CONCATENATE(B198,A198,DIGITADOR!$M$1,ACTIVIDADES!N198,C198),\"\")","v":""},{"$f":"IF(G198=\"\",\"\",IF(D198=D197,\"\",CONCATENATE(B198,A198,DIGITADOR!$M$1,ACTIVIDADES!N198,C198)))","v":""},null,null,null,{"$f":"IF(M198=\"\",\"\",INDEX(referentes!AN:AQ,MATCH(M198,referentes!AQ:AQ,0),1))","v":""},null,{"$f":"IF(O198=\"\",\"\",INDEX(referentes!A:B,MATCH(O198,referentes!B:B,0),1))","v":""},null,{"$f":"IF(Q198=\"\",\"\",INDEX(referentes!D:E,MATCH(Q198,referentes!E:E,0),1))","v":""},"",null,null,null,null,{"$f":"IF(W198=\"\",\"\",IF(W198=FALSE,0,-1))","v":""},"",{"$f":"IF(Y198=\"\",\"\",CONCATENATE(Y198,$Z$4))","v":""},194,{"$f":"IF(G198=G197,\"\",D198)","v":""},"",""]
["30001212",{"$f":"DIGITADOR!$B$2","v":""},1,{"$f":"IF(G199<>\"\",CONCATENATE(B199,A199,DIGITADOR!$M$1,C199,G199),\"\")","v":""},null,"",null,"",{"$f":"IF(ACTIVIDADES!K199<>\"\",CONCATENATE(B199,A199,DIGITADOR!$M$1,ACTIVIDADES!N199,C199),\"\")","v":""},{"$f":"IF(G199=\"\",\"\",IF(D199=D198,\"\",CONCATENATE(B199,A199,DIGITADOR!$M$1,ACTIVIDADES!N199,C199)))","v":""},null,null,null,{"$f":"IF(M199=\"\",\"\",INDEX(referentes!AN:AQ,MATCH(M199,referentes!AQ:AQ,0),1))","v":""},null,{"$f":"IF(O199=\"\",\"\",INDEX(referentes!A:B,MATCH(O199,referentes!B:B,0),1))","v":""},null,{"$f":"IF(Q199=\"\",\"\",INDEX(referentes!D:E,MATCH(Q199,referentes!E:E,0),1))","v":""},"",null,null,null,null,"","","",195,"","",""]
["30001212",{"$f":"DIGITADOR!$B$2","v":""},1,{"$f":"IF(G200<>\"\",CONCATENATE(B200,A200,DIGITADOR!$M$1,C200,G200),\"\")","v":""},null,"",null,"",{"$f":"IF(ACTIVIDADES!K200<>\"\",CONCATENATE(B200,A200,DIGITADOR!$M$1,ACTIVIDADES!N200,C200),\"\")","v":""},{"$f":"IF(G200=\"\",\"\",IF(D200=D199,\"\",CONCATENATE(B200,A200,DIGITADOR!$M$1,ACTIVIDADES!N200,C200)))","v":""},null,null,null,{"$f":"IF(M200=\"\",\"\",INDEX(referentes!AN:AQ,MATCH(M200,referentes!AQ:AQ,0),1))","v":""},null,{"$f":"IF(O200=\"\",\"\",INDEX(referentes!A:B,MATCH(O200,referentes!B:B,0),1))","v":""},null,{"$f":"IF(Q200=\"\",\"\",INDEX(referentes!D:E,MATCH(Q200,referentes!E:E,0),1))","v":""},"",null,null,null,null,"","","",196,"","",""]
["30001212",{"$f":"DIGITADOR!$B$2","v":""},1,{"$f":"IF(G201<>\"\",CONCATENATE(B201,A201,DIGITADOR!$M$1,C201,G201),\"\")","v":""},null,"",null,"",{"$f":"IF(ACTIVIDADES!K201<>\"\",CONCATENATE(B201,A201,DIGITADOR!$M$1,ACTIVIDADES!N201,C201),\"\")","v":""},{"$f":"IF(G201=\"\",\"\",IF(D201=D200,\"\",CONCATENATE(B201,A201,DIGITADOR!$M$1,ACTIVIDADES!N201,C201)))","v":""},null,null,null,{"$f":"IF(M201=\"\",\"\",INDEX(referentes!AN:AQ,MATCH(M201,referentes!AQ:AQ,0),1))","v":""},null,{"$f":"IF(O201=\"\",\"\",INDEX(referentes!A:B,MATCH(O201,referentes!B:B,0),1))","v":""},null,{"$f":"IF(Q201=\"\",\"\",INDEX(referentes!D:E,MATCH(Q201,referentes!E:E,0),1))","v":""},"",null,null,null,null,"","","",197,"","",""]
["30001212",{"$f":"DIGITADOR!$B$2","v":""},1,{"$f":"IF(G202<>\"\",CONCATENATE(B202,A202,DIGITADOR!$M$1,C202,G202),\"\")","v":""},null,"",null,"",{"$f":"IF(ACTIVIDADES!K202<>\"\",CONCATENATE(B202,A202,DIGITADOR!$M$1,ACTIVIDADES!N202,C202),\"\")","v":""},{"$f":"IF(G202=\"\",\"\",IF(D202=D201,\"\",CONCATENATE(B202,A202,DIGITADOR!$M$1,ACTIVIDADES!N202,C202)))","v":""},null,null,null,{"$f":"IF(M202=\"\",\"\",INDEX(referentes!AN:AQ,MATCH(M202,referentes!AQ:AQ,0),1))","v":""},null,{"$f":"IF(O202=\"\",\"\",INDEX(referentes!A:B,MATCH(O202,referentes!B:B,0),1))","v":""},null,{"$f":"IF(Q202=\"\",\"\",INDEX(referentes!D:E,MATCH(Q202,referentes!E:E,0),1))","v":""},"",null,null,null,null,"","","",198,"","",""]
["30001212",{"$f":"DIGITADOR!$B$2","v":""},1,{"$f":"IF(G203<>\"\",CONCATENATE(B203,A203,DIGITADOR!$M$1,C203,G203),\"\")","v":""},null,"",null,"",{"$f":"IF(ACTIVIDADES!K203<>\"\",CONCATENATE(B203,A203,DIGITADOR!$M$1,ACTIVIDADES!N203,C203),\"\")","v":""},{"$f":"IF(G203=\"\",\"\",IF(D203=D202,\"\",CONCATENATE(B203,A203,DIGITADOR!$M$1,ACTIVIDADES!N203,C203)))","v":""},null,null,null,{"$f":"IF(M203=\"\",\"\",INDEX(referentes!AN:AQ,MATCH(M203,referentes!AQ:AQ,0),1))","v":""},null,{"$f":"IF(O203=\"\",\"\",INDEX(referentes!A:B,MATCH(O203,referentes!B:B,0),1))","v":""},null,{"$f":"IF(Q203=\"\",\"\",INDEX(referentes!D:E,MATCH(Q203,referentes!E:E,0),1))","v":""},"",null,null,null,null,"","","",199,"","",""]
["30001212",{"$f":"DIGITADOR!$B$2","v":""},1,{"$f":"IF(G204<>\"\",CONCATENATE(B204,A204,DIGITADOR!$M$1,C204,G204),\"\")","v":""},null,"",null,"",{"$f":"IF(ACTIVIDADES!K204<>\"\",CONCATENATE(B204,A204,DIGITADOR!$M$1,ACTIVIDADES!N204,C204),\"\")","v":""},{"$f":"IF(G204=\"\",\"\",IF(D204=D203,\"\",CONCATENATE(B204,A204,DIGITADOR!$M$1,ACTIVIDADES!N204,C204)))","v":""},null,null,null,{"$f":"IF(M204=\"\",\"\",INDEX(referentes!AN:AQ,MATCH(M204,referentes!AQ:AQ,0),1))","v":""},null,{"$f":"IF(O204=\"\",\"\",INDEX(referentes!A:B,MATCH(O204,referentes!B:B,0),1))","v":""},null,{"$f":"IF(Q204=\"\",\"\",INDEX(referentes!D:E,MATCH(Q204,referentes!E:E,0),1))","v":""},"",null,null,null,null,"","","",200,"","",""]
["30001212",{"$f":"DIGITADOR!$B$2","v":""},1,{"$f":"IF(G205<>\"\",CONCATENATE(B205,A205,DIGITADOR!$M$1,C205,G205),\"\")","v":""},null,"",null,"",{"$f":"IF(ACTIVIDADES!K205<>\"\",CONCATENATE(B205,A205,DIGITADOR!$M$1,ACTIVIDADES!N205,C205),\"\")","v":""},{"$f":"IF(G205=\"\",\"\",IF(D205=D204,\"\",CONCATENATE(B205,A205,DIGITADOR!$M$1,ACTIVIDADES!N205,C205)))","v":""},null,null,null,{"$f":"IF(M205=\"\",\"\",INDEX(referentes!AN:AQ,MATCH(M205,referentes!AQ:AQ,0),1))","v":""},null,{"$f":"IF(O205=\"\",\"\",INDEX(referentes!A:B,MATCH(O205,referentes!B:B,0),1))","v":""},null,{"$f":"IF(Q205=\"\",\"\",INDEX(referentes!D:E,MATCH(Q205,referentes!E:E,0),1))","v":""},"",null,null,null,null,"","","",201,"","",""]
["30001212",{"$f":"DIGITADOR!$B$2","v":""},1,{"$f":"IF(G206<>\"\",CONCATENATE(B206,A206,DIGITADOR!$M$1,C206,G206),\"\")","v":""},null,"",null,"",{"$f":"IF(ACTIVIDADES!K206<>\"\",CONCATENATE(B206,A206,DIGITADOR!$M$1,ACTIVIDADES!N206,C206),\"\")","v":""},{"$f":"IF(G206=\"\",\"\",IF(D206=D205,\"\",CONCATENATE(B206,A206,DIGITADOR!$M$1,ACTIVIDADES!N206,C206)))","v":""},null,null,null,{"$f":"IF(M206=\"\",\"\",INDEX(referentes!AN:AQ,MATCH(M206,referentes!AQ:AQ,0),1))","v":""},null,{"$f":"IF(O206=\"\",\"\",INDEX(referentes!A:B,MATCH(O206,referentes!B:B,0),1))","v":""},null,{"$f":"IF(Q206=\"\",\"\",INDEX(referentes!D:E,MATCH(Q206,referentes!E:E,0),1))","v":""},"",null,null,null,null,"","","",202,"","",""]
["30001212",{"$f":"DIGITADOR!$B$2","v":""},1,{"$f":"IF(G207<>\"\",CONCATENATE(B207,A207,DIGITADOR!$M$1,C207,G207),\"\")","v":""},null,"",null,"",{"$f":"IF(ACTIVIDADES!K207<>\"\",CONCATENATE(B207,A207,DIGITADOR!$M$1,ACTIVIDADES!N207,C207),\"\")","v":""},{"$f":"IF(G207=\"\",\"\",IF(D207=D206,\"\",CONCATENATE(B207,A207,DIGITADOR!$M$1,ACTIVIDADES!N207,C207)))","v":""},null,null,null,{"$f":"IF(M207=\"\",\"\",INDEX(referentes!AN:AQ,MATCH(M207,referentes!AQ:AQ,0),1))","v":""},null,{"$f":"IF(O207=\"\",\"\",INDEX(referentes!A:B,MATCH(O207,referentes!B:B,0),1))","v":""},null,{"$f":"IF(Q207=\"\",\"\",INDEX(referentes!D:E,MATCH(Q207,referentes!E:E,0),1))","v":""},"",null,null,null,null,"","","",203,"","",""]
["30001212",{"$f":"DIGITADOR!$B$2","v":""},1,{"$f":"IF(G208<>\"\",CONCATENATE(B208,A208,DIGITADOR!$M$1,C208,G208),\"\")","v":""},null,"",null,"",{"$f":"IF(ACTIVIDADES!K208<>\"\",CONCATENATE(B208,A208,DIGITADOR!$M$1,ACTIVIDADES!N208,C208),\"\")","v":""},{"$f":"IF(G208=\"\",\"\",IF(D208=D207,\"\",CONCATENATE(B208,A208,DIGITADOR!$M$1,ACTIVIDADES!N208,C208)))","v":""},null,null,null,{"$f":"IF(M208=\"\",\"\",INDEX(referentes!AN:AQ,MATCH(M208,referentes!AQ:AQ,0),1))","v":""},null,{"$f":"IF(O208=\"\",\"\",INDEX(referentes!A:B,MATCH(O208,referentes!B:B,0),1))","v":""},null,{"$f":"IF(Q208=\"\",\"\",INDEX(referentes!D:E,MATCH(Q208,referentes!E:E,0),1))","v":""},"",null,null,null,null,"","","",204,"","",""]
["30001212",{"$f":"DIGITADOR!$B$2","v":""},1,{"$f":"IF(G209<>\"\",CONCATENATE(B209,A209,DIGITADOR!$M$1,C209,G209),\"\")","v":""},null,"",null,"",{"$f":"IF(ACTIVIDADES!K209<>\"\",CONCATENATE(B209,A209,DIGITADOR!$M$1,ACTIVIDADES!N209,C209),\"\")","v":""},{"$f":"IF(G209=\"\",\"\",IF(D209=D208,\"\",CONCATENATE(B209,A209,DIGITADOR!$M$1,ACTIVIDADES!N209,C209)))","v":""},null,null,null,{"$f":"IF(M209=\"\",\"\",INDEX(referentes!AN:AQ,MATCH(M209,referentes!AQ:AQ,0),1))","v":""},null,{"$f":"IF(O209=\"\",\"\",INDEX(referentes!A:B,MATCH(O209,referentes!B:B,0),1))","v":""},null,{"$f":"IF(Q209=\"\",\"\",INDEX(referentes!D:E,MATCH(Q209,referentes!E:E,0),1))","v":""},"",null,null,null,null,"","","",205,"","",""]
["30001212",{"$f":"DIGITADOR!$B$2","v":""},1,{"$f":"IF(G210<>\"\",CONCATENATE(B210,A210,DIGITADOR!$M$1,C210,G210),\"\")","v":""},null,"",null,"",{"$f":"IF(ACTIVIDADES!K210<>\"\",CONCATENATE(B210,A210,DIGITADOR!$M$1,ACTIVIDADES!N210,C210),\"\")","v":""},{"$f":"IF(G210=\"\",\"\",IF(D210=D209,\"\",CONCATENATE(B210,A210,DIGITADOR!$M$1,ACTIVIDADES!N210,C210)))","v":""},null,null,null,{"$f":"IF(M210=\"\",\"\",INDEX(referentes!AN:AQ,MATCH(M210,referentes!AQ:AQ,0),1))","v":""},null,{"$f":"IF(O210=\"\",\"\",INDEX(referentes!A:B,MATCH(O210,referentes!B:B,0),1))","v":""},null,{"$f":"IF(Q210=\"\",\"\",INDEX(referentes!D:E,MATCH(Q210,referentes!E:E,0),1))","v":""},"",null,null,null,null,"","","",206,"","",""]
["30001212",{"$f":"DIGITADOR!$B$2","v":""},1,{"$f":"IF(G211<>\"\",CONCATENATE(B211,A211,DIGITADOR!$M$1,C211,G211),\"\")","v":""},null,"",null,"",{"$f":"IF(ACTIVIDADES!K211<>\"\",CONCATENATE(B211,A211,DIGITADOR!$M$1,ACTIVIDADES!N211,C211),\"\")","v":""},{"$f":"IF(G211=\"\",\"\",IF(D211=D210,\"\",CONCATENATE(B211,A211,DIGITADOR!$M$1,ACTIVIDADES!N211,C211)))","v":""},null,null,null,{"$f":"IF(M211=\"\",\"\",INDEX(referentes!AN:AQ,MATCH(M211,referentes!AQ:AQ,0),1))","v":""},null,{"$f":"IF(O211=\"\",\"\",INDEX(referentes!A:B,MATCH(O211,referentes!B:B,0),1))","v":""},null,{"$f":"IF(Q211=\"\",\"\",INDEX(referentes!D:E,MATCH(Q211,referentes!E:E,0),1))","v":""},"",null,null,null,null,"","","",207,"","",""]
["30001212",{"$f":"DIGITADOR!$B$2","v":""},1,{"$f":"IF(G212<>\"\",CONCATENATE(B212,A212,DIGITADOR!$M$1,C212,G212),\"\")","v":""},null,"",null,"",{"$f":"IF(ACTIVIDADES!K212<>\"\",CONCATENATE(B212,A212,DIGITADOR!$M$1,ACTIVIDADES!N212,C212),\"\")","v":""},{"$f":"IF(G212=\"\",\"\",IF(D212=D211,\"\",CONCATENATE(B212,A212,DIGITADOR!$M$1,ACTIVIDADES!N212,C212)))","v":""},null,null,null,{"$f":"IF(M212=\"\",\"\",INDEX(referentes!AN:AQ,MATCH(M212,referentes!AQ:AQ,0),1))","v":""},null,{"$f":"IF(O212=\"\",\"\",INDEX(referentes!A:B,MATCH(O212,referentes!B:B,0),1))","v":""},null,{"$f":"IF(Q212=\"\",\"\",INDEX(referentes!D:E,MATCH(Q212,referentes!E:E,0),1))","v":""},"",null,null,null,null,"","","",208,"","",""]
["30001212",{"$f":"DIGITADOR!$B$2","v":""},1,{"$f":"IF(G213<>\"\",CONCATENATE(B213,A213,DIGITADOR!$M$1,C213,G213),\"\")","v":""},null,"",null,"",{"$f":"IF(ACTIVIDADES!K213<>\"\",CONCATENATE(B213,A213,DIGITADOR!$M$1,ACTIVIDADES!N213,C213),\"\")","v":""},{"$f":"IF(G213=\"\",\"\",IF(D213=D212,\"\",CONCATENATE(B213,A213,DIGITADOR!$M$1,ACTIVIDADES!N213,C213)))","v":""},null,null,null,{"$f":"IF(M213=\"\",\"\",INDEX(referentes!AN:AQ,MATCH(M213,referentes!AQ:AQ,0),1))","v":""},null,{"$f":"IF(O213=\"\",\"\",INDEX(referentes!A:B,MATCH(O213,referentes!B:B,0),1))","v":""},null,{"$f":"IF(Q213=\"\",\"\",INDEX(referentes!D:E,MATCH(Q213,referentes!E:E,0),1))","v":""},"",null,null,null,null,"","","",209,"","",""]
["30001212",{"$f":"DIGITADOR!$B$2","v":""},1,{"$f":"IF(G214<>\"\",CONCATENATE(B214,A214,DIGITADOR!$M$1,C214,G214),\"\")","v":""},null,"",null,"",{"$f":"IF(ACTIVIDADES!K214<>\"\",CONCATENATE(B214,A214,DIGITADOR!$M$1,ACTIVIDADES!N214,C214),\"\")","v":""},{"$f":"IF(G214=\"\",\"\",IF(D214=D213,\"\",CONCATENATE(B214,A214,DIGITADOR!$M$1,ACTIVIDADES!N214,C214)))","v":""},null,null,null,{"$f":"IF(M214=\"\",\"\",INDEX(referentes!AN:AQ,MATCH(M214,referentes!AQ:AQ,0),1))","v":""},null,{"$f":"IF(O214=\"\",\"\",INDEX(referentes!A:B,MATCH(O214,referentes!B:B,0),1))","v":""},null,{"$f":"IF(Q214=\"\",\"\",INDEX(referentes!D:E,MATCH(Q214,referentes!E:E,0),1))","v":""},"",null,null,null,null,"","","",210,"","",""]
["30001212",{"$f":"DIGITADOR!$B$2","v":""},1,{"$f":"IF(G215<>\"\",CONCATENATE(B215,A215,DIGITADOR!$M$1,C215,G215),\"\")","v":""},null,"",null,"",{"$f":"IF(ACTIVIDADES!K215<>\"\",CONCATENATE(B215,A215,DIGITADOR!$M$1,ACTIVIDADES!N215,C215),\"\")","v":""},{"$f":"IF(G215=\"\",\"\",IF(D215=D214,\"\",CONCATENATE(B215,A215,DIGITADOR!$M$1,ACTIVIDADES!N215,C215)))","v":""},null,null,null,{"$f":"IF(M215=\"\",\"\",INDEX(referentes!AN:AQ,MATCH(M215,referentes!AQ:AQ,0),1))","v":""},null,{"$f":"IF(O215=\"\",\"\",INDEX(referentes!A:B,MATCH(O215,referentes!B:B,0),1))","v":""},null,{"$f":"IF(Q215=\"\",\"\",INDEX(referentes!D:E,MATCH(Q215,referentes!E:E,0),1))","v":""},"",null,null,null,null,"","","",211,"","",""]
["30001212",{"$f":"DIGITADOR!$B$2","v":""},1,{"$f":"IF(G216<>\"\",CONCATENATE(B216,A216,DIGITADOR!$M$1,C216,G216),\"\")","v":""},null,"",null,"",{"$f":"IF(ACTIVIDADES!K216<>\"\",CONCATENATE(B216,A216,DIGITADOR!$M$1,ACTIVIDADES!N216,C216),\"\")","v":""},{"$f":"IF(G216=\"\",\"\",IF(D216=D215,\"\",CONCATENATE(B216,A216,DIGITADOR!$M$1,ACTIVIDADES!N216,C216)))","v":""},null,null,null,{"$f":"IF(M216=\"\",\"\",INDEX(referentes!AN:AQ,MATCH(M216,referentes!AQ:AQ,0),1))","v":""},null,{"$f":"IF(O216=\"\",\"\",INDEX(referentes!A:B,MATCH(O216,referentes!B:B,0),1))","v":""},null,{"$f":"IF(Q216=\"\",\"\",INDEX(referentes!D:E,MATCH(Q216,referentes!E:E,0),1))","v":""},"",null,null,null,null,"","","",212,"","",""]
["30001212",{"$f":"DIGITADOR!$B$2","v":""},1,{"$f":"IF(G217<>\"\",CONCATENATE(B217,A217,DIGITADOR!$M$1,C217,G217),\"\")","v":""},null,"",null,"",{"$f":"IF(ACTIVIDADES!K217<>\"\",CONCATENATE(B217,A217,DIGITADOR!$M$1,ACTIVIDADES!N217,C217),\"\")","v":""},{"$f":"IF(G217=\"\",\"\",IF(D217=D216,\"\",CONCATENATE(B217,A217,DIGITADOR!$M$1,ACTIVIDADES!N217,C217)))","v":""},null,null,null,{"$f":"IF(M217=\"\",\"\",INDEX(referentes!AN:AQ,MATCH(M217,referentes!AQ:AQ,0),1))","v":""},null,{"$f":"IF(O217=\"\",\"\",INDEX(referentes!A:B,MATCH(O217,referentes!B:B,0),1))","v":""},null,{"$f":"IF(Q217=\"\",\"\",INDEX(referentes!D:E,MATCH(Q217,referentes!E:E,0),1))","v":""},"",null,null,null,null,"","","",213,"","",""]
["30001212",{"$f":"DIGITADOR!$B$2","v":""},1,{"$f":"IF(G218<>\"\",CONCATENATE(B218,A218,DIGITADOR!$M$1,C218,G218),\"\")","v":""},null,"",null,"",{"$f":"IF(ACTIVIDADES!K218<>\"\",CONCATENATE(B218,A218,DIGITADOR!$M$1,ACTIVIDADES!N218,C218),\"\")","v":""},{"$f":"IF(G218=\"\",\"\",IF(D218=D217,\"\",CONCATENATE(B218,A218,DIGITADOR!$M$1,ACTIVIDADES!N218,C218)))","v":""},null,null,null,{"$f":"IF(M218=\"\",\"\",INDEX(referentes!AN:AQ,MATCH(M218,referentes!AQ:AQ,0),1))","v":""},null,{"$f":"IF(O218=\"\",\"\",INDEX(referentes!A:B,MATCH(O218,referentes!B:B,0),1))","v":""},null,{"$f":"IF(Q218=\"\",\"\",INDEX(referentes!D:E,MATCH(Q218,referentes!E:E,0),1))","v":""},"",null,null,null,null,"","","",214,"","",""]
["30001212",{"$f":"DIGITADOR!$B$2","v":""},1,{"$f":"IF(G219<>\"\",CONCATENATE(B219,A219,DIGITADOR!$M$1,C219,G219),\"\")","v":""},null,"",null,"",{"$f":"IF(ACTIVIDADES!K219<>\"\",CONCATENATE(B219,A219,DIGITADOR!$M$1,ACTIVIDADES!N219,C219),\"\")","v":""},{"$f":"IF(G219=\"\",\"\",IF(D219=D218,\"\",CONCATENATE(B219,A219,DIGITADOR!$M$1,ACTIVIDADES!N219,C219)))","v":""},null,null,null,{"$f":"IF(M219=\"\",\"\",INDEX(referentes!AN:AQ,MATCH(M219,referentes!AQ:AQ,0),1))","v":""},null,{"$f":"IF(O219=\"\",\"\",INDEX(referentes!A:B,MATCH(O219,referentes!B:B,0),1))","v":""},null,{"$f":"IF(Q219=\"\",\"\",INDEX(referentes!D:E,MATCH(Q219,referentes!E:E,0),1))","v":""},"",null,null,null,null,"","","",215,"","",""]
["30001212",{"$f":"DIGITADOR!$B$2","v":""},1,{"$f":"IF(G220<>\"\",CONCATENATE(B220,A220,DIGITADOR!$M$1,C220,G220),\"\")","v":""},null,"",null,"",{"$f":"IF(ACTIVIDADES!K220<>\"\",CONCATENATE(B220,A220,DIGITADOR!$M$1,ACTIVIDADES!N220,C220),\"\")","v":""},{"$f":"IF(G220=\"\",\"\",IF(D220=D219,\"\",CONCATENATE(B220,A220,DIGITADOR!$M$1,ACTIVIDADES!N220,C220)))","v":""},null,null,null,{"$f":"IF(M220=\"\",\"\",INDEX(referentes!AN:AQ,MATCH(M220,referentes!AQ:AQ,0),1))","v":""},null,{"$f":"IF(O220=\"\",\"\",INDEX(referentes!A:B,MATCH(O220,referentes!B:B,0),1))","v":""},null,{"$f":"IF(Q220=\"\",\"\",INDEX(referentes!D:E,MATCH(Q220,referentes!E:E,0),1))","v":""},"",null,null,null,null,"","","",216,"","",""]
["30001212",{"$f":"DIGITADOR!$B$2","v":""},1,{"$f":"IF(G221<>\"\",CONCATENATE(B221,A221,DIGITADOR!$M$1,C221,G221),\"\")","v":""},null,"",null,"",{"$f":"IF(ACTIVIDADES!K221<>\"\",CONCATENATE(B221,A221,DIGITADOR!$M$1,ACTIVIDADES!N221,C221),\"\")","v":""},{"$f":"IF(G221=\"\",\"\",IF(D221=D220,\"\",CONCATENATE(B221,A221,DIGITADOR!$M$1,ACTIVIDADES!N221,C221)))","v":""},null,null,null,{"$f":"IF(M221=\"\",\"\",INDEX(referentes!AN:AQ,MATCH(M221,referentes!AQ:AQ,0),1))","v":""},null,{"$f":"IF(O221=\"\",\"\",INDEX(referentes!A:B,MATCH(O221,referentes!B:B,0),1))","v":""},null,{"$f":"IF(Q221=\"\",\"\",INDEX(referentes!D:E,MATCH(Q221,referentes!E:E,0),1))","v":""},"",null,null,null,null,"","","",217,"","",""]
["30001212",{"$f":"DIGITADOR!$B$2","v":""},1,{"$f":"IF(G222<>\"\",CONCATENATE(B222,A222,DIGITADOR!$M$1,C222,G222),\"\")","v":""},null,"",null,"",{"$f":"IF(ACTIVIDADES!K222<>\"\",CONCATENATE(B222,A222,DIGITADOR!$M$1,ACTIVIDADES!N222,C222),\"\")","v":""},{"$f":"IF(G222=\"\",\"\",IF(D222=D221,\"\",CONCATENATE(B222,A222,DIGITADOR!$M$1,ACTIVIDADES!N222,C222)))","v":""},null,null,null,{"$f":"IF(M222=\"\",\"\",INDEX(referentes!AN:AQ,MATCH(M222,referentes!AQ:AQ,0),1))","v":""},null,{"$f":"IF(O222=\"\",\"\",INDEX(referentes!A:B,MATCH(O222,referentes!B:B,0),1))","v":""},null,{"$f":"IF(Q222=\"\",\"\",INDEX(referentes!D:E,MATCH(Q222,referentes!E:E,0),1))","v":""},"",null,null,null,null,"","","",218,"","",""]
["30001212",{"$f":"DIGITADOR!$B$2","v":""},1,{"$f":"IF(G223<>\"\",CONCATENATE(B223,A223,DIGITADOR!$M$1,C223,G223),\"\")","v":""},null,"",null,"",{"$f":"IF(ACTIVIDADES!K223<>\"\",CONCATENATE(B223,A223,DIGITADOR!$M$1,ACTIVIDADES!N223,C223),\"\")","v":""},{"$f":"IF(G223=\"\",\"\",IF(D223=D222,\"\",CONCATENATE(B223,A223,DIGITADOR!$M$1,ACTIVIDADES!N223,C223)))","v":""},null,null,null,{"$f":"IF(M223=\"\",\"\",INDEX(referentes!AN:AQ,MATCH(M223,referentes!AQ:AQ,0),1))","v":""},null,{"$f":"IF(O223=\"\",\"\",INDEX(referentes!A:B,MATCH(O223,referentes!B:B,0),1))","v":""},null,{"$f":"IF(Q223=\"\",\"\",INDEX(referentes!D:E,MATCH(Q223,referentes!E:E,0),1))","v":""},"",null,null,null,null,"","","",219,"","",""]
["30001212",{"$f":"DIGITADOR!$B$2","v":""},1,{"$f":"IF(G224<>\"\",CONCATENATE(B224,A224,DIGITADOR!$M$1,C224,G224),\"\")","v":""},null,"",null,"",{"$f":"IF(ACTIVIDADES!K224<>\"\",CONCATENATE(B224,A224,DIGITADOR!$M$1,ACTIVIDADES!N224,C224),\"\")","v":""},{"$f":"IF(G224=\"\",\"\",IF(D224=D223,\"\",CONCATENATE(B224,A224,DIGITADOR!$M$1,ACTIVIDADES!N224,C224)))","v":""},null,null,null,{"$f":"IF(M224=\"\",\"\",INDEX(referentes!AN:AQ,MATCH(M224,referentes!AQ:AQ,0),1))","v":""},null,{"$f":"IF(O224=\"\",\"\",INDEX(referentes!A:B,MATCH(O224,referentes!B:B,0),1))","v":""},null,{"$f":"IF(Q224=\"\",\"\",INDEX(referentes!D:E,MATCH(Q224,referentes!E:E,0),1))","v":""},"",null,null,null,null,"","","",220,"","",""]
["30001212",{"$f":"DIGITADOR!$B$2","v":""},1,{"$f":"IF(G225<>\"\",CONCATENATE(B225,A225,DIGITADOR!$M$1,C225,G225),\"\")","v":""},null,"",null,"",{"$f":"IF(ACTIVIDADES!K225<>\"\",CONCATENATE(B225,A225,DIGITADOR!$M$1,ACTIVIDADES!N225,C225),\"\")","v":""},{"$f":"IF(G225=\"\",\"\",IF(D225=D224,\"\",CONCATENATE(B225,A225,DIGITADOR!$M$1,ACTIVIDADES!N225,C225)))","v":""},null,null,null,{"$f":"IF(M225=\"\",\"\",INDEX(referentes!AN:AQ,MATCH(M225,referentes!AQ:AQ,0),1))","v":""},null,{"$f":"IF(O225=\"\",\"\",INDEX(referentes!A:B,MATCH(O225,referentes!B:B,0),1))","v":""},null,{"$f":"IF(Q225=\"\",\"\",INDEX(referentes!D:E,MATCH(Q225,referentes!E:E,0),1))","v":""},"",null,null,null,null,"","","",221,"","",""]
["30001212",{"$f":"DIGITADOR!$B$2","v":""},1,{"$f":"IF(G226<>\"\",CONCATENATE(B226,A226,DIGITADOR!$M$1,C226,G226),\"\")","v":""},null,"",null,"",{"$f":"IF(ACTIVIDADES!K226<>\"\",CONCATENATE(B226,A226,DIGITADOR!$M$1,ACTIVIDADES!N226,C226),\"\")","v":""},{"$f":"IF(G226=\"\",\"\",IF(D226=D225,\"\",CONCATENATE(B226,A226,DIGITADOR!$M$1,ACTIVIDADES!N226,C226)))","v":""},null,null,null,{"$f":"IF(M226=\"\",\"\",INDEX(referentes!AN:AQ,MATCH(M226,referentes!AQ:AQ,0),1))","v":""},null,{"$f":"IF(O226=\"\",\"\",INDEX(referentes!A:B,MATCH(O226,referentes!B:B,0),1))","v":""},null,{"$f":"IF(Q226=\"\",\"\",INDEX(referentes!D:E,MATCH(Q226,referentes!E:E,0),1))","v":""},"",null,null,null,null,"","","",222,"","",""]
["30001212",{"$f":"DIGITADOR!$B$2","v":""},1,{"$f":"IF(G227<>\"\",CONCATENATE(B227,A227,DIGITADOR!$M$1,C227,G227),\"\")","v":""},null,"",null,"",{"$f":"IF(ACTIVIDADES!K227<>\"\",CONCATENATE(B227,A227,DIGITADOR!$M$1,ACTIVIDADES!N227,C227),\"\")","v":""},{"$f":"IF(G227=\"\",\"\",IF(D227=D226,\"\",CONCATENATE(B227,A227,DIGITADOR!$M$1,ACTIVIDADES!N227,C227)))","v":""},null,null,null,{"$f":"IF(M227=\"\",\"\",INDEX(referentes!AN:AQ,MATCH(M227,referentes!AQ:AQ,0),1))","v":""},null,{"$f":"IF(O227=\"\",\"\",INDEX(referentes!A:B,MATCH(O227,referentes!B:B,0),1))","v":""},null,{"$f":"IF(Q227=\"\",\"\",INDEX(referentes!D:E,MATCH(Q227,referentes!E:E,0),1))","v":""},"",null,null,null,null,"","","",223,"","",""]
["30001212",{"$f":"DIGITADOR!$B$2","v":""},1,{"$f":"IF(G228<>\"\",CONCATENATE(B228,A228,DIGITADOR!$M$1,C228,G228),\"\")","v":""},null,"",null,"",{"$f":"IF(ACTIVIDADES!K228<>\"\",CONCATENATE(B228,A228,DIGITADOR!$M$1,ACTIVIDADES!N228,C228),\"\")","v":""},{"$f":"IF(G228=\"\",\"\",IF(D228=D227,\"\",CONCATENATE(B228,A228,DIGITADOR!$M$1,ACTIVIDADES!N228,C228)))","v":""},null,null,null,{"$f":"IF(M228=\"\",\"\",INDEX(referentes!AN:AQ,MATCH(M228,referentes!AQ:AQ,0),1))","v":""},null,{"$f":"IF(O228=\"\",\"\",INDEX(referentes!A:B,MATCH(O228,referentes!B:B,0),1))","v":""},null,{"$f":"IF(Q228=\"\",\"\",INDEX(referentes!D:E,MATCH(Q228,referentes!E:E,0),1))","v":""},"",null,null,null,null,"","","",224,"","",""]
["30001212",{"$f":"DIGITADOR!$B$2","v":""},1,{"$f":"IF(G229<>\"\",CONCATENATE(B229,A229,DIGITADOR!$M$1,C229,G229),\"\")","v":""},null,"",null,"",{"$f":"IF(ACTIVIDADES!K229<>\"\",CONCATENATE(B229,A229,DIGITADOR!$M$1,ACTIVIDADES!N229,C229),\"\")","v":""},{"$f":"IF(G229=\"\",\"\",IF(D229=D228,\"\",CONCATENATE(B229,A229,DIGITADOR!$M$1,ACTIVIDADES!N229,C229)))","v":""},null,null,null,{"$f":"IF(M229=\"\",\"\",INDEX(referentes!AN:AQ,MATCH(M229,referentes!AQ:AQ,0),1))","v":""},null,{"$f":"IF(O229=\"\",\"\",INDEX(referentes!A:B,MATCH(O229,referentes!B:B,0),1))","v":""},null,{"$f":"IF(Q229=\"\",\"\",INDEX(referentes!D:E,MATCH(Q229,referentes!E:E,0),1))","v":""},"",null,null,null,null,"","","",225,"","",""]
["30001212",{"$f":"DIGITADOR!$B$2","v":""},1,{"$f":"IF(G230<>\"\",CONCATENATE(B230,A230,DIGITADOR!$M$1,C230,G230),\"\")","v":""},null,"",null,"",{"$f":"IF(ACTIVIDADES!K230<>\"\",CONCATENATE(B230,A230,DIGITADOR!$M$1,ACTIVIDADES!N230,C230),\"\")","v":""},{"$f":"IF(G230=\"\",\"\",IF(D230=D229,\"\",CONCATENATE(B230,A230,DIGITADOR!$M$1,ACTIVIDADES!N230,C230)))","v":""},null,null,null,{"$f":"IF(M230=\"\",\"\",INDEX(referentes!AN:AQ,MATCH(M230,referentes!AQ:AQ,0),1))","v":""},null,{"$f":"IF(O230=\"\",\"\",INDEX(referentes!A:B,MATCH(O230,referentes!B:B,0),1))","v":""},null,{"$f":"IF(Q230=\"\",\"\",INDEX(referentes!D:E,MATCH(Q230,referentes!E:E,0),1))","v":""},"",null,null,null,null,"","","",226,"","",""]
["30001212",{"$f":"DIGITADOR!$B$2","v":""},1,{"$f":"IF(G231<>\"\",CONCATENATE(B231,A231,DIGITADOR!$M$1,C231,G231),\"\")","v":""},null,"",null,"",{"$f":"IF(ACTIVIDADES!K231<>\"\",CONCATENATE(B231,A231,DIGITADOR!$M$1,ACTIVIDADES!N231,C231),\"\")","v":""},{"$f":"IF(G231=\"\",\"\",IF(D231=D230,\"\",CONCATENATE(B231,A231,DIGITADOR!$M$1,ACTIVIDADES!N231,C231)))","v":""},null,null,null,{"$f":"IF(M231=\"\",\"\",INDEX(referentes!AN:AQ,MATCH(M231,referentes!AQ:AQ,0),1))","v":""},null,{"$f":"IF(O231=\"\",\"\",INDEX(referentes!A:B,MATCH(O231,referentes!B:B,0),1))","v":""},null,{"$f":"IF(Q231=\"\",\"\",INDEX(referentes!D:E,MATCH(Q231,referentes!E:E,0),1))","v":""},"",null,null,null,null,"","","",227,"","",""]
["30001212",{"$f":"DIGITADOR!$B$2","v":""},1,{"$f":"IF(G232<>\"\",CONCATENATE(B232,A232,DIGITADOR!$M$1,C232,G232),\"\")","v":""},null,"",null,"",{"$f":"IF(ACTIVIDADES!K232<>\"\",CONCATENATE(B232,A232,DIGITADOR!$M$1,ACTIVIDADES!N232,C232),\"\")","v":""},{"$f":"IF(G232=\"\",\"\",IF(D232=D231,\"\",CONCATENATE(B232,A232,DIGITADOR!$M$1,ACTIVIDADES!N232,C232)))","v":""},null,null,null,{"$f":"IF(M232=\"\",\"\",INDEX(referentes!AN:AQ,MATCH(M232,referentes!AQ:AQ,0),1))","v":""},null,{"$f":"IF(O232=\"\",\"\",INDEX(referentes!A:B,MATCH(O232,referentes!B:B,0),1))","v":""},null,{"$f":"IF(Q232=\"\",\"\",INDEX(referentes!D:E,MATCH(Q232,referentes!E:E,0),1))","v":""},"",null,null,null,null,"","","",228,"","",""]
["30001212",{"$f":"DIGITADOR!$B$2","v":""},1,{"$f":"IF(G233<>\"\",CONCATENATE(B233,A233,DIGITADOR!$M$1,C233,G233),\"\")","v":""},null,"",null,"",{"$f":"IF(ACTIVIDADES!K233<>\"\",CONCATENATE(B233,A233,DIGITADOR!$M$1,ACTIVIDADES!N233,C233),\"\")","v":""},{"$f":"IF(G233=\"\",\"\",IF(D233=D232,\"\",CONCATENATE(B233,A233,DIGITADOR!$M$1,ACTIVIDADES!N233,C233)))","v":""},null,null,null,{"$f":"IF(M233=\"\",\"\",INDEX(referentes!AN:AQ,MATCH(M233,referentes!AQ:AQ,0),1))","v":""},null,{"$f":"IF(O233=\"\",\"\",INDEX(referentes!A:B,MATCH(O233,referentes!B:B,0),1))","v":""},null,{"$f":"IF(Q233=\"\",\"\",INDEX(referentes!D:E,MATCH(Q233,referentes!E:E,0),1))","v":""},"",null,null,null,null,"","","",229,"","",""]
["30001212",{"$f":"DIGITADOR!$B$2","v":""},1,{"$f":"IF(G234<>\"\",CONCATENATE(B234,A234,DIGITADOR!$M$1,C234,G234),\"\")","v":""},null,"",null,"",{"$f":"IF(ACTIVIDADES!K234<>\"\",CONCATENATE(B234,A234,DIGITADOR!$M$1,ACTIVIDADES!N234,C234),\"\")","v":""},{"$f":"IF(G234=\"\",\"\",IF(D234=D233,\"\",CONCATENATE(B234,A234,DIGITADOR!$M$1,ACTIVIDADES!N234,C234)))","v":""},null,null,null,{"$f":"IF(M234=\"\",\"\",INDEX(referentes!AN:AQ,MATCH(M234,referentes!AQ:AQ,0),1))","v":""},null,{"$f":"IF(O234=\"\",\"\",INDEX(referentes!A:B,MATCH(O234,referentes!B:B,0),1))","v":""},null,{"$f":"IF(Q234=\"\",\"\",INDEX(referentes!D:E,MATCH(Q234,referentes!E:E,0),1))","v":""},"",null,null,null,null,"","","",230,"","",""]
["30001212",{"$f":"DIGITADOR!$B$2","v":""},1,{"$f":"IF(G235<>\"\",CONCATENATE(B235,A235,DIGITADOR!$M$1,C235,G235),\"\")","v":""},null,"",null,"",{"$f":"IF(ACTIVIDADES!K235<>\"\",CONCATENATE(B235,A235,DIGITADOR!$M$1,ACTIVIDADES!N235,C235),\"\")","v":""},{"$f":"IF(G235=\"\",\"\",IF(D235=D234,\"\",CONCATENATE(B235,A235,DIGITADOR!$M$1,ACTIVIDADES!N235,C235)))","v":""},null,null,null,{"$f":"IF(M235=\"\",\"\",INDEX(referentes!AN:AQ,MATCH(M235,referentes!AQ:AQ,0),1))","v":""},null,{"$f":"IF(O235=\"\",\"\",INDEX(referentes!A:B,MATCH(O235,referentes!B:B,0),1))","v":""},null,{"$f":"IF(Q235=\"\",\"\",INDEX(referentes!D:E,MATCH(Q235,referentes!E:E,0),1))","v":""},"",null,null,null,null,"","","",231,"","",""]
["30001212",{"$f":"DIGITADOR!$B$2","v":""},1,{"$f":"IF(G236<>\"\",CONCATENATE(B236,A236,DIGITADOR!$M$1,C236,G236),\"\")","v":""},null,"",null,"",{"$f":"IF(ACTIVIDADES!K236<>\"\",CONCATENATE(B236,A236,DIGITADOR!$M$1,ACTIVIDADES!N236,C236),\"\")","v":""},{"$f":"IF(G236=\"\",\"\",IF(D236=D235,\"\",CONCATENATE(B236,A236,DIGITADOR!$M$1,ACTIVIDADES!N236,C236)))","v":""},null,null,null,{"$f":"IF(M236=\"\",\"\",INDEX(referentes!AN:AQ,MATCH(M236,referentes!AQ:AQ,0),1))","v":""},null,{"$f":"IF(O236=\"\",\"\",INDEX(referentes!A:B,MATCH(O236,referentes!B:B,0),1))","v":""},null,{"$f":"IF(Q236=\"\",\"\",INDEX(referentes!D:E,MATCH(Q236,referentes!E:E,0),1))","v":""},"",null,null,null,null,"","","",232,"","",""]
["30001212",{"$f":"DIGITADOR!$B$2","v":""},1,{"$f":"IF(G237<>\"\",CONCATENATE(B237,A237,DIGITADOR!$M$1,C237,G237),\"\")","v":""},null,"",null,"",{"$f":"IF(ACTIVIDADES!K237<>\"\",CONCATENATE(B237,A237,DIGITADOR!$M$1,ACTIVIDADES!N237,C237),\"\")","v":""},{"$f":"IF(G237=\"\",\"\",IF(D237=D236,\"\",CONCATENATE(B237,A237,DIGITADOR!$M$1,ACTIVIDADES!N237,C237)))","v":""},null,null,null,{"$f":"IF(M237=\"\",\"\",INDEX(referentes!AN:AQ,MATCH(M237,referentes!AQ:AQ,0),1))","v":""},null,{"$f":"IF(O237=\"\",\"\",INDEX(referentes!A:B,MATCH(O237,referentes!B:B,0),1))","v":""},null,{"$f":"IF(Q237=\"\",\"\",INDEX(referentes!D:E,MATCH(Q237,referentes!E:E,0),1))","v":""},"",null,null,null,null,"","","",233,"","",""]
["30001212",{"$f":"DIGITADOR!$B$2","v":""},1,{"$f":"IF(G238<>\"\",CONCATENATE(B238,A238,DIGITADOR!$M$1,C238,G238),\"\")","v":""},null,"",null,"",{"$f":"IF(ACTIVIDADES!K238<>\"\",CONCATENATE(B238,A238,DIGITADOR!$M$1,ACTIVIDADES!N238,C238),\"\")","v":""},{"$f":"IF(G238=\"\",\"\",IF(D238=D237,\"\",CONCATENATE(B238,A238,DIGITADOR!$M$1,ACTIVIDADES!N238,C238)))","v":""},null,null,null,{"$f":"IF(M238=\"\",\"\",INDEX(referentes!AN:AQ,MATCH(M238,referentes!AQ:AQ,0),1))","v":""},null,{"$f":"IF(O238=\"\",\"\",INDEX(referentes!A:B,MATCH(O238,referentes!B:B,0),1))","v":""},null,{"$f":"IF(Q238=\"\",\"\",INDEX(referentes!D:E,MATCH(Q238,referentes!E:E,0),1))","v":""},"",null,null,null,null,"","","",234,"","",""]
["30001212",{"$f":"DIGITADOR!$B$2","v":""},1,{"$f":"IF(G239<>\"\",CONCATENATE(B239,A239,DIGITADOR!$M$1,C239,G239),\"\")","v":""},null,"",null,"",{"$f":"IF(ACTIVIDADES!K239<>\"\",CONCATENATE(B239,A239,DIGITADOR!$M$1,ACTIVIDADES!N239,C239),\"\")","v":""},{"$f":"IF(G239=\"\",\"\",IF(D239=D238,\"\",CONCATENATE(B239,A239,DIGITADOR!$M$1,ACTIVIDADES!N239,C239)))","v":""},null,null,null,{"$f":"IF(M239=\"\",\"\",INDEX(referentes!AN:AQ,MATCH(M239,referentes!AQ:AQ,0),1))","v":""},null,{"$f":"IF(O239=\"\",\"\",INDEX(referentes!A:B,MATCH(O239,referentes!B:B,0),1))","v":""},null,{"$f":"IF(Q239=\"\",\"\",INDEX(referentes!D:E,MATCH(Q239,referentes!E:E,0),1))","v":""},"",null,null,null,null,"","","",235,"","",""]
["30001212",{"$f":"DIGITADOR!$B$2","v":""},1,{"$f":"IF(G240<>\"\",CONCATENATE(B240,A240,DIGITADOR!$M$1,C240,G240),\"\")","v":""},null,"",null,"",{"$f":"IF(ACTIVIDADES!K240<>\"\",CONCATENATE(B240,A240,DIGITADOR!$M$1,ACTIVIDADES!N240,C240),\"\")","v":""},{"$f":"IF(G240=\"\",\"\",IF(D240=D239,\"\",CONCATENATE(B240,A240,DIGITADOR!$M$1,ACTIVIDADES!N240,C240)))","v":""},null,null,null,{"$f":"IF(M240=\"\",\"\",INDEX(referentes!AN:AQ,MATCH(M240,referentes!AQ:AQ,0),1))","v":""},null,{"$f":"IF(O240=\"\",\"\",INDEX(referentes!A:B,MATCH(O240,referentes!B:B,0),1))","v":""},null,{"$f":"IF(Q240=\"\",\"\",INDEX(referentes!D:E,MATCH(Q240,referentes!E:E,0),1))","v":""},"",null,null,null,null,"","","",236,"","",""]
["30001212",{"$f":"DIGITADOR!$B$2","v":""},1,{"$f":"IF(G241<>\"\",CONCATENATE(B241,A241,DIGITADOR!$M$1,C241,G241),\"\")","v":""},null,"",null,"",{"$f":"IF(ACTIVIDADES!K241<>\"\",CONCATENATE(B241,A241,DIGITADOR!$M$1,ACTIVIDADES!N241,C241),\"\")","v":""},{"$f":"IF(G241=\"\",\"\",IF(D241=D240,\"\",CONCATENATE(B241,A241,DIGITADOR!$M$1,ACTIVIDADES!N241,C241)))","v":""},null,null,null,{"$f":"IF(M241=\"\",\"\",INDEX(referentes!AN:AQ,MATCH(M241,referentes!AQ:AQ,0),1))","v":""},null,{"$f":"IF(O241=\"\",\"\",INDEX(referentes!A:B,MATCH(O241,referentes!B:B,0),1))","v":""},null,{"$f":"IF(Q241=\"\",\"\",INDEX(referentes!D:E,MATCH(Q241,referentes!E:E,0),1))","v":""},"",null,null,null,null,"","","",237,"","",""]
["30001212",{"$f":"DIGITADOR!$B$2","v":""},1,{"$f":"IF(G242<>\"\",CONCATENATE(B242,A242,DIGITADOR!$M$1,C242,G242),\"\")","v":""},null,"",null,"",{"$f":"IF(ACTIVIDADES!K242<>\"\",CONCATENATE(B242,A242,DIGITADOR!$M$1,ACTIVIDADES!N242,C242),\"\")","v":""},{"$f":"IF(G242=\"\",\"\",IF(D242=D241,\"\",CONCATENATE(B242,A242,DIGITADOR!$M$1,ACTIVIDADES!N242,C242)))","v":""},null,null,null,{"$f":"IF(M242=\"\",\"\",INDEX(referentes!AN:AQ,MATCH(M242,referentes!AQ:AQ,0),1))","v":""},null,{"$f":"IF(O242=\"\",\"\",INDEX(referentes!A:B,MATCH(O242,referentes!B:B,0),1))","v":""},null,{"$f":"IF(Q242=\"\",\"\",INDEX(referentes!D:E,MATCH(Q242,referentes!E:E,0),1))","v":""},"",null,null,null,null,"","","",238,"","",""]
["30001212",{"$f":"DIGITADOR!$B$2","v":""},1,{"$f":"IF(G243<>\"\",CONCATENATE(B243,A243,DIGITADOR!$M$1,C243,G243),\"\")","v":""},null,"",null,"",{"$f":"IF(ACTIVIDADES!K243<>\"\",CONCATENATE(B243,A243,DIGITADOR!$M$1,ACTIVIDADES!N243,C243),\"\")","v":""},{"$f":"IF(G243=\"\",\"\",IF(D243=D242,\"\",CONCATENATE(B243,A243,DIGITADOR!$M$1,ACTIVIDADES!N243,C243)))","v":""},null,null,null,{"$f":"IF(M243=\"\",\"\",INDEX(referentes!AN:AQ,MATCH(M243,referentes!AQ:AQ,0),1))","v":""},null,{"$f":"IF(O243=\"\",\"\",INDEX(referentes!A:B,MATCH(O243,referentes!B:B,0),1))","v":""},null,{"$f":"IF(Q243=\"\",\"\",INDEX(referentes!D:E,MATCH(Q243,referentes!E:E,0),1))","v":""},"",null,null,null,null,"","","",239,"","",""]
["30001212",{"$f":"DIGITADOR!$B$2","v":""},1,{"$f":"IF(G244<>\"\",CONCATENATE(B244,A244,DIGITADOR!$M$1,C244,G244),\"\")","v":""},null,"",null,"",{"$f":"IF(ACTIVIDADES!K244<>\"\",CONCATENATE(B244,A244,DIGITADOR!$M$1,ACTIVIDADES!N244,C244),\"\")","v":""},{"$f":"IF(G244=\"\",\"\",IF(D244=D243,\"\",CONCATENATE(B244,A244,DIGITADOR!$M$1,ACTIVIDADES!N244,C244)))","v":""},null,null,null,{"$f":"IF(M244=\"\",\"\",INDEX(referentes!AN:AQ,MATCH(M244,referentes!AQ:AQ,0),1))","v":""},null,{"$f":"IF(O244=\"\",\"\",INDEX(referentes!A:B,MATCH(O244,referentes!B:B,0),1))","v":""},null,{"$f":"IF(Q244=\"\",\"\",INDEX(referentes!D:E,MATCH(Q244,referentes!E:E,0),1))","v":""},"",null,null,null,null,"","","",240,"","",""]
["30001212",{"$f":"DIGITADOR!$B$2","v":""},1,{"$f":"IF(G245<>\"\",CONCATENATE(B245,A245,DIGITADOR!$M$1,C245,G245),\"\")","v":""},null,"",null,"",{"$f":"IF(ACTIVIDADES!K245<>\"\",CONCATENATE(B245,A245,DIGITADOR!$M$1,ACTIVIDADES!N245,C245),\"\")","v":""},{"$f":"IF(G245=\"\",\"\",IF(D245=D244,\"\",CONCATENATE(B245,A245,DIGITADOR!$M$1,ACTIVIDADES!N245,C245)))","v":""},null,null,null,{"$f":"IF(M245=\"\",\"\",INDEX(referentes!AN:AQ,MATCH(M245,referentes!AQ:AQ,0),1))","v":""},null,{"$f":"IF(O245=\"\",\"\",INDEX(referentes!A:B,MATCH(O245,referentes!B:B,0),1))","v":""},null,{"$f":"IF(Q245=\"\",\"\",INDEX(referentes!D:E,MATCH(Q245,referentes!E:E,0),1))","v":""},"",null,null,null,null,"","","",241,"","",""]
["30001212",{"$f":"DIGITADOR!$B$2","v":""},1,{"$f":"IF(G246<>\"\",CONCATENATE(B246,A246,DIGITADOR!$M$1,C246,G246),\"\")","v":""},null,"",null,"",{"$f":"IF(ACTIVIDADES!K246<>\"\",CONCATENATE(B246,A246,DIGITADOR!$M$1,ACTIVIDADES!N246,C246),\"\")","v":""},{"$f":"IF(G246=\"\",\"\",IF(D246=D245,\"\",CONCATENATE(B246,A246,DIGITADOR!$M$1,ACTIVIDADES!N246,C246)))","v":""},null,null,null,{"$f":"IF(M246=\"\",\"\",INDEX(referentes!AN:AQ,MATCH(M246,referentes!AQ:AQ,0),1))","v":""},null,{"$f":"IF(O246=\"\",\"\",INDEX(referentes!A:B,MATCH(O246,referentes!B:B,0),1))","v":""},null,{"$f":"IF(Q246=\"\",\"\",INDEX(referentes!D:E,MATCH(Q246,referentes!E:E,0),1))","v":""},"",null,null,null,null,"","","",242,"","",""]
["30001212",{"$f":"DIGITADOR!$B$2","v":""},1,{"$f":"IF(G247<>\"\",CONCATENATE(B247,A247,DIGITADOR!$M$1,C247,G247),\"\")","v":""},null,"",null,"",{"$f":"IF(ACTIVIDADES!K247<>\"\",CONCATENATE(B247,A247,DIGITADOR!$M$1,ACTIVIDADES!N247,C247),\"\")","v":""},{"$f":"IF(G247=\"\",\"\",IF(D247=D246,\"\",CONCATENATE(B247,A247,DIGITADOR!$M$1,ACTIVIDADES!N247,C247)))","v":""},null,null,null,{"$f":"IF(M247=\"\",\"\",INDEX(referentes!AN:AQ,MATCH(M247,referentes!AQ:AQ,0),1))","v":""},null,{"$f":"IF(O247=\"\",\"\",INDEX(referentes!A:B,MATCH(O247,referentes!B:B,0),1))","v":""},null,{"$f":"IF(Q247=\"\",\"\",INDEX(referentes!D:E,MATCH(Q247,referentes!E:E,0),1))","v":""},"",null,null,null,null,"","","",243,"","",""]
["30001212",{"$f":"DIGITADOR!$B$2","v":""},1,{"$f":"IF(G248<>\"\",CONCATENATE(B248,A248,DIGITADOR!$M$1,C248,G248),\"\")","v":""},null,"",null,"",{"$f":"IF(ACTIVIDADES!K248<>\"\",CONCATENATE(B248,A248,DIGITADOR!$M$1,ACTIVIDADES!N248,C248),\"\")","v":""},{"$f":"IF(G248=\"\",\"\",IF(D248=D247,\"\",CONCATENATE(B248,A248,DIGITADOR!$M$1,ACTIVIDADES!N248,C248)))","v":""},null,null,null,{"$f":"IF(M248=\"\",\"\",INDEX(referentes!AN:AQ,MATCH(M248,referentes!AQ:AQ,0),1))","v":""},null,{"$f":"IF(O248=\"\",\"\",INDEX(referentes!A:B,MATCH(O248,referentes!B:B,0),1))","v":""},null,{"$f":"IF(Q248=\"\",\"\",INDEX(referentes!D:E,MATCH(Q248,referentes!E:E,0),1))","v":""},"",null,null,null,null,"","","",244,"","",""]
["30001212",{"$f":"DIGITADOR!$B$2","v":""},1,{"$f":"IF(G249<>\"\",CONCATENATE(B249,A249,DIGITADOR!$M$1,C249,G249),\"\")","v":""},null,"",null,"",{"$f":"IF(ACTIVIDADES!K249<>\"\",CONCATENATE(B249,A249,DIGITADOR!$M$1,ACTIVIDADES!N249,C249),\"\")","v":""},{"$f":"IF(G249=\"\",\"\",IF(D249=D248,\"\",CONCATENATE(B249,A249,DIGITADOR!$M$1,ACTIVIDADES!N249,C249)))","v":""},null,null,null,{"$f":"IF(M249=\"\",\"\",INDEX(referentes!AN:AQ,MATCH(M249,referentes!AQ:AQ,0),1))","v":""},null,{"$f":"IF(O249=\"\",\"\",INDEX(referentes!A:B,MATCH(O249,referentes!B:B,0),1))","v":""},null,{"$f":"IF(Q249=\"\",\"\",INDEX(referentes!D:E,MATCH(Q249,referentes!E:E,0),1))","v":""},"",null,null,null,null,"","","",245,"","",""]
["30001212",{"$f":"DIGITADOR!$B$2","v":""},1,{"$f":"IF(G250<>\"\",CONCATENATE(B250,A250,DIGITADOR!$M$1,C250,G250),\"\")","v":""},null,"",null,"",{"$f":"IF(ACTIVIDADES!K250<>\"\",CONCATENATE(B250,A250,DIGITADOR!$M$1,ACTIVIDADES!N250,C250),\"\")","v":""},{"$f":"IF(G250=\"\",\"\",IF(D250=D249,\"\",CONCATENATE(B250,A250,DIGITADOR!$M$1,ACTIVIDADES!N250,C250)))","v":""},null,null,null,{"$f":"IF(M250=\"\",\"\",INDEX(referentes!AN:AQ,MATCH(M250,referentes!AQ:AQ,0),1))","v":""},null,{"$f":"IF(O250=\"\",\"\",INDEX(referentes!A:B,MATCH(O250,referentes!B:B,0),1))","v":""},null,{"$f":"IF(Q250=\"\",\"\",INDEX(referentes!D:E,MATCH(Q250,referentes!E:E,0),1))","v":""},"",null,null,null,null,"","","",246,"","",""]
["30001212",{"$f":"DIGITADOR!$B$2","v":""},1,{"$f":"IF(G251<>\"\",CONCATENATE(B251,A251,DIGITADOR!$M$1,C251,G251),\"\")","v":""},null,"",null,"",{"$f":"IF(ACTIVIDADES!K251<>\"\",CONCATENATE(B251,A251,DIGITADOR!$M$1,ACTIVIDADES!N251,C251),\"\")","v":""},{"$f":"IF(G251=\"\",\"\",IF(D251=D250,\"\",CONCATENATE(B251,A251,DIGITADOR!$M$1,ACTIVIDADES!N251,C251)))","v":""},null,null,null,{"$f":"IF(M251=\"\",\"\",INDEX(referentes!AN:AQ,MATCH(M251,referentes!AQ:AQ,0),1))","v":""},null,{"$f":"IF(O251=\"\",\"\",INDEX(referentes!A:B,MATCH(O251,referentes!B:B,0),1))","v":""},null,{"$f":"IF(Q251=\"\",\"\",INDEX(referentes!D:E,MATCH(Q251,referentes!E:E,0),1))","v":""},"",null,null,null,null,"","","",247,"","",""]
["30001212",{"$f":"DIGITADOR!$B$2","v":""},1,{"$f":"IF(G252<>\"\",CONCATENATE(B252,A252,DIGITADOR!$M$1,C252,G252),\"\")","v":""},null,"",null,"",{"$f":"IF(ACTIVIDADES!K252<>\"\",CONCATENATE(B252,A252,DIGITADOR!$M$1,ACTIVIDADES!N252,C252),\"\")","v":""},{"$f":"IF(G252=\"\",\"\",IF(D252=D251,\"\",CONCATENATE(B252,A252,DIGITADOR!$M$1,ACTIVIDADES!N252,C252)))","v":""},null,null,null,{"$f":"IF(M252=\"\",\"\",INDEX(referentes!AN:AQ,MATCH(M252,referentes!AQ:AQ,0),1))","v":""},null,{"$f":"IF(O252=\"\",\"\",INDEX(referentes!A:B,MATCH(O252,referentes!B:B,0),1))","v":""},null,{"$f":"IF(Q252=\"\",\"\",INDEX(referentes!D:E,MATCH(Q252,referentes!E:E,0),1))","v":""},"",null,null,null,null,"","","",248,"","",""]
["30001212",{"$f":"DIGITADOR!$B$2","v":""},1,{"$f":"IF(G253<>\"\",CONCATENATE(B253,A253,DIGITADOR!$M$1,C253,G253),\"\")","v":""},null,"",null,"",{"$f":"IF(ACTIVIDADES!K253<>\"\",CONCATENATE(B253,A253,DIGITADOR!$M$1,ACTIVIDADES!N253,C253),\"\")","v":""},{"$f":"IF(G253=\"\",\"\",IF(D253=D252,\"\",CONCATENATE(B253,A253,DIGITADOR!$M$1,ACTIVIDADES!N253,C253)))","v":""},null,null,null,{"$f":"IF(M253=\"\",\"\",INDEX(referentes!AN:AQ,MATCH(M253,referentes!AQ:AQ,0),1))","v":""},null,{"$f":"IF(O253=\"\",\"\",INDEX(referentes!A:B,MATCH(O253,referentes!B:B,0),1))","v":""},null,{"$f":"IF(Q253=\"\",\"\",INDEX(referentes!D:E,MATCH(Q253,referentes!E:E,0),1))","v":""},"",null,null,null,null,"","","",249,"","",""]
["30001212",{"$f":"DIGITADOR!$B$2","v":""},1,{"$f":"IF(G254<>\"\",CONCATENATE(B254,A254,DIGITADOR!$M$1,C254,G254),\"\")","v":""},null,"",null,"",{"$f":"IF(ACTIVIDADES!K254<>\"\",CONCATENATE(B254,A254,DIGITADOR!$M$1,ACTIVIDADES!N254,C254),\"\")","v":""},{"$f":"IF(G254=\"\",\"\",IF(D254=D253,\"\",CONCATENATE(B254,A254,DIGITADOR!$M$1,ACTIVIDADES!N254,C254)))","v":""},null,null,null,{"$f":"IF(M254=\"\",\"\",INDEX(referentes!AN:AQ,MATCH(M254,referentes!AQ:AQ,0),1))","v":""},null,{"$f":"IF(O254=\"\",\"\",INDEX(referentes!A:B,MATCH(O254,referentes!B:B,0),1))","v":""},null,{"$f":"IF(Q254=\"\",\"\",INDEX(referentes!D:E,MATCH(Q254,referentes!E:E,0),1))","v":""},"",null,null,null,null,"","","",250,"","",""]
["30001212",{"$f":"DIGITADOR!$B$2","v":""},1,{"$f":"IF(G255<>\"\",CONCATENATE(B255,A255,DIGITADOR!$M$1,C255,G255),\"\")","v":""},null,"",null,"",{"$f":"IF(ACTIVIDADES!K255<>\"\",CONCATENATE(B255,A255,DIGITADOR!$M$1,ACTIVIDADES!N255,C255),\"\")","v":""},{"$f":"IF(G255=\"\",\"\",IF(D255=D254,\"\",CONCATENATE(B255,A255,DIGITADOR!$M$1,ACTIVIDADES!N255,C255)))","v":""},null,null,null,{"$f":"IF(M255=\"\",\"\",INDEX(referentes!AN:AQ,MATCH(M255,referentes!AQ:AQ,0),1))","v":""},null,{"$f":"IF(O255=\"\",\"\",INDEX(referentes!A:B,MATCH(O255,referentes!B:B,0),1))","v":""},null,{"$f":"IF(Q255=\"\",\"\",INDEX(referentes!D:E,MATCH(Q255,referentes!E:E,0),1))","v":""},"",null,null,null,null,"","","",251,"","",""]
["30001212",{"$f":"DIGITADOR!$B$2","v":""},1,{"$f":"IF(G256<>\"\",CONCATENATE(B256,A256,DIGITADOR!$M$1,C256,G256),\"\")","v":""},null,"",null,"",{"$f":"IF(ACTIVIDADES!K256<>\"\",CONCATENATE(B256,A256,DIGITADOR!$M$1,ACTIVIDADES!N256,C256),\"\")","v":""},{"$f":"IF(G256=\"\",\"\",IF(D256=D255,\"\",CONCATENATE(B256,A256,DIGITADOR!$M$1,ACTIVIDADES!N256,C256)))","v":""},null,null,null,{"$f":"IF(M256=\"\",\"\",INDEX(referentes!AN:AQ,MATCH(M256,referentes!AQ:AQ,0),1))","v":""},null,{"$f":"IF(O256=\"\",\"\",INDEX(referentes!A:B,MATCH(O256,referentes!B:B,0),1))","v":""},null,{"$f":"IF(Q256=\"\",\"\",INDEX(referentes!D:E,MATCH(Q256,referentes!E:E,0),1))","v":""},"",null,null,null,null,"","","",252,"","",""]
["30001212",{"$f":"DIGITADOR!$B$2","v":""},1,{"$f":"IF(G257<>\"\",CONCATENATE(B257,A257,DIGITADOR!$M$1,C257,G257),\"\")","v":""},null,"",null,"",{"$f":"IF(ACTIVIDADES!K257<>\"\",CONCATENATE(B257,A257,DIGITADOR!$M$1,ACTIVIDADES!N257,C257),\"\")","v":""},{"$f":"IF(G257=\"\",\"\",IF(D257=D256,\"\",CONCATENATE(B257,A257,DIGITADOR!$M$1,ACTIVIDADES!N257,C257)))","v":""},null,null,null,{"$f":"IF(M257=\"\",\"\",INDEX(referentes!AN:AQ,MATCH(M257,referentes!AQ:AQ,0),1))","v":""},null,{"$f":"IF(O257=\"\",\"\",INDEX(referentes!A:B,MATCH(O257,referentes!B:B,0),1))","v":""},null,{"$f":"IF(Q257=\"\",\"\",INDEX(referentes!D:E,MATCH(Q257,referentes!E:E,0),1))","v":""},"",null,null,null,null,"","","",253,"","",""]
["30001212",{"$f":"DIGITADOR!$B$2","v":""},1,{"$f":"IF(G258<>\"\",CONCATENATE(B258,A258,DIGITADOR!$M$1,C258,G258),\"\")","v":""},null,"",null,"",{"$f":"IF(ACTIVIDADES!K258<>\"\",CONCATENATE(B258,A258,DIGITADOR!$M$1,ACTIVIDADES!N258,C258),\"\")","v":""},{"$f":"IF(G258=\"\",\"\",IF(D258=D257,\"\",CONCATENATE(B258,A258,DIGITADOR!$M$1,ACTIVIDADES!N258,C258)))","v":""},null,null,null,{"$f":"IF(M258=\"\",\"\",INDEX(referentes!AN:AQ,MATCH(M258,referentes!AQ:AQ,0),1))","v":""},null,{"$f":"IF(O258=\"\",\"\",INDEX(referentes!A:B,MATCH(O258,referentes!B:B,0),1))","v":""},null,{"$f":"IF(Q258=\"\",\"\",INDEX(referentes!D:E,MATCH(Q258,referentes!E:E,0),1))","v":""},"",null,null,null,null,"","","",254,"","",""]
["30001212",{"$f":"DIGITADOR!$B$2","v":""},1,{"$f":"IF(G259<>\"\",CONCATENATE(B259,A259,DIGITADOR!$M$1,C259,G259),\"\")","v":""},null,"",null,"",{"$f":"IF(ACTIVIDADES!K259<>\"\",CONCATENATE(B259,A259,DIGITADOR!$M$1,ACTIVIDADES!N259,C259),\"\")","v":""},{"$f":"IF(G259=\"\",\"\",IF(D259=D258,\"\",CONCATENATE(B259,A259,DIGITADOR!$M$1,ACTIVIDADES!N259,C259)))","v":""},null,null,null,{"$f":"IF(M259=\"\",\"\",INDEX(referentes!AN:AQ,MATCH(M259,referentes!AQ:AQ,0),1))","v":""},null,{"$f":"IF(O259=\"\",\"\",INDEX(referentes!A:B,MATCH(O259,referentes!B:B,0),1))","v":""},null,{"$f":"IF(Q259=\"\",\"\",INDEX(referentes!D:E,MATCH(Q259,referentes!E:E,0),1))","v":""},"",null,null,null,null,"","","",255,"","",""]
["30001212",{"$f":"DIGITADOR!$B$2","v":""},1,{"$f":"IF(G260<>\"\",CONCATENATE(B260,A260,DIGITADOR!$M$1,C260,G260),\"\")","v":""},null,"",null,"",{"$f":"IF(ACTIVIDADES!K260<>\"\",CONCATENATE(B260,A260,DIGITADOR!$M$1,ACTIVIDADES!N260,C260),\"\")","v":""},{"$f":"IF(G260=\"\",\"\",IF(D260=D259,\"\",CONCATENATE(B260,A260,DIGITADOR!$M$1,ACTIVIDADES!N260,C260)))","v":""},null,null,null,{"$f":"IF(M260=\"\",\"\",INDEX(referentes!AN:AQ,MATCH(M260,referentes!AQ:AQ,0),1))","v":""},null,{"$f":"IF(O260=\"\",\"\",INDEX(referentes!A:B,MATCH(O260,referentes!B:B,0),1))","v":""},null,{"$f":"IF(Q260=\"\",\"\",INDEX(referentes!D:E,MATCH(Q260,referentes!E:E,0),1))","v":""},"",null,null,null,null,"","","",256,"","",""]
["30001212",{"$f":"DIGITADOR!$B$2","v":""},1,{"$f":"IF(G261<>\"\",CONCATENATE(B261,A261,DIGITADOR!$M$1,C261,G261),\"\")","v":""},null,"",null,"",{"$f":"IF(ACTIVIDADES!K261<>\"\",CONCATENATE(B261,A261,DIGITADOR!$M$1,ACTIVIDADES!N261,C261),\"\")","v":""},{"$f":"IF(G261=\"\",\"\",IF(D261=D260,\"\",CONCATENATE(B261,A261,DIGITADOR!$M$1,ACTIVIDADES!N261,C261)))","v":""},null,null,null,{"$f":"IF(M261=\"\",\"\",INDEX(referentes!AN:AQ,MATCH(M261,referentes!AQ:AQ,0),1))","v":""},null,{"$f":"IF(O261=\"\",\"\",INDEX(referentes!A:B,MATCH(O261,referentes!B:B,0),1))","v":""},null,{"$f":"IF(Q261=\"\",\"\",INDEX(referentes!D:E,MATCH(Q261,referentes!E:E,0),1))","v":""},{"$f":"IF(U261=\"\",IF(K261=\"\",\"\",IF(L261=\"\",0,L261-K261)),IF(U261=\"\",\"\",IF(V261=\"\",0,V261-U261)))","v":""},null,null,null,null,"",{"$f":"IF(D261=\"\",\"\",CONCATENATE(D261,AA261))","v":""},"",257,"",{"$f":"IF(AB261=\"\",\"\",CONCATENATE(AB261,$AC$1))","v":""},{"$f":"IF(D261=\"\",\"\",CONCATENATE(D261,$AC$1))","v":""}]
[{"$f":"A261","v":"30001212"},{"$f":"DIGITADOR!$B$2","v":""},{"$f":"IF(G262=G261,C261,C261+1)","v":1},{"$f":"IF(G262<>\"\",CONCATENATE(B262,A262,DIGITADOR!$M$1,C262,G262),\"\")","v":""},null,{"$f":"IF(E262=\"\",\"\",IF(E262=FALSE,0,-1))","v":""},null,{"$f":"IF(G262=\"\",\"\",D262)","v":""},{"$f":"IF(ACTIVIDADES!K262<>\"\",CONCATENATE(B262,A262,DIGITADOR!$M$1,ACTIVIDADES!N262,C262),\"\")","v":""},{"$f":"IF(G262=\"\",\"\",IF(D262=D261,\"\",CONCATENATE(B262,A262,DIGITADOR!$M$1,ACTIVIDADES!N262,C262)))","v":""},null,null,null,{"$f":"IF(M262=\"\",\"\",INDEX(referentes!AN:AQ,MATCH(M262,referentes!AQ:AQ,0),1))","v":""},null,{"$f":"IF(O262=\"\",\"\",INDEX(referentes!A:B,MATCH(O262,referentes!B:B,0),1))","v":""},null,{"$f":"IF(Q262=\"\",\"\",INDEX(referentes!D:E,MATCH(Q262,referentes!E:E,0),1))","v":""},"",null,null,null,null,{"$f":"IF(W262=\"\",\"\",IF(W262=FALSE,0,-1))","v":""},"",{"$f":"IF(Y262=\"\",\"\",CONCATENATE(Y262,$Z$4))","v":""},258,"","",""]
["30001212",{"$f":"DIGITADOR!$B$2","v":""},1,{"$f":"IF(G263<>\"\",CONCATENATE(B263,A263,DIGITADOR!$M$1,C263,G263),\"\")","v":""},null,"",null,"",{"$f":"IF(ACTIVIDADES!K263<>\"\",CONCATENATE(B263,A263,DIGITADOR!$M$1,ACTIVIDADES!N263,C263),\"\")","v":""},{"$f":"IF(G263=\"\",\"\",IF(D263=D262,\"\",CONCATENATE(B263,A263,DIGITADOR!$M$1,ACTIVIDADES!N263,C263)))","v":""},null,null,null,{"$f":"IF(M263=\"\",\"\",INDEX(referentes!AN:AQ,MATCH(M263,referentes!AQ:AQ,0),1))","v":""},null,{"$f":"IF(O263=\"\",\"\",INDEX(referentes!A:B,MATCH(O263,referentes!B:B,0),1))","v":""},null,{"$f":"IF(Q263=\"\",\"\",INDEX(referentes!D:E,MATCH(Q263,referentes!E:E,0),1))","v":""},"",null,null,null,null,"","","",259,{"$f":"IF(G263=G262,\"\",D263)","v":""},"",""]
["30001212",{"$f":"DIGITADOR!$B$2","v":""},1,{"$f":"IF(G264<>\"\",CONCATENATE(B264,A264,DIGITADOR!$M$1,C264,G264),\"\")","v":""},null,"",null,"",{"$f":"IF(ACTIVIDADES!K264<>\"\",CONCATENATE(B264,A264,DIGITADOR!$M$1,ACTIVIDADES!N264,C264),\"\")","v":""},{"$f":"IF(G264=\"\",\"\",IF(D264=D263,\"\",CONCATENATE(B264,A264,DIGITADOR!$M$1,ACTIVIDADES!N264,C264)))","v":""},null,null,null,{"$f":"IF(M264=\"\",\"\",INDEX(referentes!AN:AQ,MATCH(M264,referentes!AQ:AQ,0),1))","v":""},null,{"$f":"IF(O264=\"\",\"\",INDEX(referentes!A:B,MATCH(O264,referentes!B:B,0),1))","v":""},null,{"$f":"IF(Q264=\"\",\"\",INDEX(referentes!D:E,MATCH(Q264,referentes!E:E,0),1))","v":""},"",null,null,null,null,"","","",260,"","",""]
["30001212",{"$f":"DIGITADOR!$B$2","v":""},1,{"$f":"IF(G265<>\"\",CONCATENATE(B265,A265,DIGITADOR!$M$1,C265,G265),\"\")","v":""},null,"",null,"",{"$f":"IF(ACTIVIDADES!K265<>\"\",CONCATENATE(B265,A265,DIGITADOR!$M$1,ACTIVIDADES!N265,C265),\"\")","v":""},{"$f":"IF(G265=\"\",\"\",IF(D265=D264,\"\",CONCATENATE(B265,A265,DIGITADOR!$M$1,ACTIVIDADES!N265,C265)))","v":""},null,null,null,{"$f":"IF(M265=\"\",\"\",INDEX(referentes!AN:AQ,MATCH(M265,referentes!AQ:AQ,0),1))","v":""},null,{"$f":"IF(O265=\"\",\"\",INDEX(referentes!A:B,MATCH(O265,referentes!B:B,0),1))","v":""},null,{"$f":"IF(Q265=\"\",\"\",INDEX(referentes!D:E,MATCH(Q265,referentes!E:E,0),1))","v":""},"",null,null,null,null,"","","",261,"","",""]
["30001212",{"$f":"DIGITADOR!$B$2","v":""},1,{"$f":"IF(G266<>\"\",CONCATENATE(B266,A266,DIGITADOR!$M$1,C266,G266),\"\")","v":""},null,"",null,"",{"$f":"IF(ACTIVIDADES!K266<>\"\",CONCATENATE(B266,A266,DIGITADOR!$M$1,ACTIVIDADES!N266,C266),\"\")","v":""},{"$f":"IF(G266=\"\",\"\",IF(D266=D265,\"\",CONCATENATE(B266,A266,DIGITADOR!$M$1,ACTIVIDADES!N266,C266)))","v":""},null,null,null,{"$f":"IF(M266=\"\",\"\",INDEX(referentes!AN:AQ,MATCH(M266,referentes!AQ:AQ,0),1))","v":""},null,{"$f":"IF(O266=\"\",\"\",INDEX(referentes!A:B,MATCH(O266,referentes!B:B,0),1))","v":""},null,{"$f":"IF(Q266=\"\",\"\",INDEX(referentes!D:E,MATCH(Q266,referentes!E:E,0),1))","v":""},"",null,null,null,null,"","","",262,"","",""]
["30001212",{"$f":"DIGITADOR!$B$2","v":""},1,{"$f":"IF(G267<>\"\",CONCATENATE(B267,A267,DIGITADOR!$M$1,C267,G267),\"\")","v":""},null,"",null,"",{"$f":"IF(ACTIVIDADES!K267<>\"\",CONCATENATE(B267,A267,DIGITADOR!$M$1,ACTIVIDADES!N267,C267),\"\")","v":""},{"$f":"IF(G267=\"\",\"\",IF(D267=D266,\"\",CONCATENATE(B267,A267,DIGITADOR!$M$1,ACTIVIDADES!N267,C267)))","v":""},null,null,null,{"$f":"IF(M267=\"\",\"\",INDEX(referentes!AN:AQ,MATCH(M267,referentes!AQ:AQ,0),1))","v":""},null,{"$f":"IF(O267=\"\",\"\",INDEX(referentes!A:B,MATCH(O267,referentes!B:B,0),1))","v":""},null,{"$f":"IF(Q267=\"\",\"\",INDEX(referentes!D:E,MATCH(Q267,referentes!E:E,0),1))","v":""},"",null,null,null,null,"","","",263,"","",""]
["30001212",{"$f":"DIGITADOR!$B$2","v":""},1,{"$f":"IF(G268<>\"\",CONCATENATE(B268,A268,DIGITADOR!$M$1,C268,G268),\"\")","v":""},null,"",null,"",{"$f":"IF(ACTIVIDADES!K268<>\"\",CONCATENATE(B268,A268,DIGITADOR!$M$1,ACTIVIDADES!N268,C268),\"\")","v":""},{"$f":"IF(G268=\"\",\"\",IF(D268=D267,\"\",CONCATENATE(B268,A268,DIGITADOR!$M$1,ACTIVIDADES!N268,C268)))","v":""},null,null,null,{"$f":"IF(M268=\"\",\"\",INDEX(referentes!AN:AQ,MATCH(M268,referentes!AQ:AQ,0),1))","v":""},null,{"$f":"IF(O268=\"\",\"\",INDEX(referentes!A:B,MATCH(O268,referentes!B:B,0),1))","v":""},null,{"$f":"IF(Q268=\"\",\"\",INDEX(referentes!D:E,MATCH(Q268,referentes!E:E,0),1))","v":""},"",null,null,null,null,"","","",264,"","",""]
["30001212",{"$f":"DIGITADOR!$B$2","v":""},1,{"$f":"IF(G269<>\"\",CONCATENATE(B269,A269,DIGITADOR!$M$1,C269,G269),\"\")","v":""},null,"",null,"",{"$f":"IF(ACTIVIDADES!K269<>\"\",CONCATENATE(B269,A269,DIGITADOR!$M$1,ACTIVIDADES!N269,C269),\"\")","v":""},{"$f":"IF(G269=\"\",\"\",IF(D269=D268,\"\",CONCATENATE(B269,A269,DIGITADOR!$M$1,ACTIVIDADES!N269,C269)))","v":""},null,null,null,{"$f":"IF(M269=\"\",\"\",INDEX(referentes!AN:AQ,MATCH(M269,referentes!AQ:AQ,0),1))","v":""},null,{"$f":"IF(O269=\"\",\"\",INDEX(referentes!A:B,MATCH(O269,referentes!B:B,0),1))","v":""},null,{"$f":"IF(Q269=\"\",\"\",INDEX(referentes!D:E,MATCH(Q269,referentes!E:E,0),1))","v":""},"",null,null,null,null,"","","",265,"","",""]
["30001212",{"$f":"DIGITADOR!$B$2","v":""},1,{"$f":"IF(G270<>\"\",CONCATENATE(B270,A270,DIGITADOR!$M$1,C270,G270),\"\")","v":""},null,"",null,"",{"$f":"IF(ACTIVIDADES!K270<>\"\",CONCATENATE(B270,A270,DIGITADOR!$M$1,ACTIVIDADES!N270,C270),\"\")","v":""},{"$f":"IF(G270=\"\",\"\",IF(D270=D269,\"\",CONCATENATE(B270,A270,DIGITADOR!$M$1,ACTIVIDADES!N270,C270)))","v":""},null,null,null,{"$f":"IF(M270=\"\",\"\",INDEX(referentes!AN:AQ,MATCH(M270,referentes!AQ:AQ,0),1))","v":""},null,{"$f":"IF(O270=\"\",\"\",INDEX(referentes!A:B,MATCH(O270,referentes!B:B,0),1))","v":""},null,{"$f":"IF(Q270=\"\",\"\",INDEX(referentes!D:E,MATCH(Q270,referentes!E:E,0),1))","v":""},"",null,null,null,null,"","","",266,"","",""]
["30001212",{"$f":"DIGITADOR!$B$2","v":""},1,{"$f":"IF(G271<>\"\",CONCATENATE(B271,A271,DIGITADOR!$M$1,C271,G271),\"\")","v":""},null,"",null,"",{"$f":"IF(ACTIVIDADES!K271<>\"\",CONCATENATE(B271,A271,DIGITADOR!$M$1,ACTIVIDADES!N271,C271),\"\")","v":""},{"$f":"IF(G271=\"\",\"\",IF(D271=D270,\"\",CONCATENATE(B271,A271,DIGITADOR!$M$1,ACTIVIDADES!N271,C271)))","v":""},null,null,null,{"$f":"IF(M271=\"\",\"\",INDEX(referentes!AN:AQ,MATCH(M271,referentes!AQ:AQ,0),1))","v":""},null,{"$f":"IF(O271=\"\",\"\",INDEX(referentes!A:B,MATCH(O271,referentes!B:B,0),1))","v":""},null,{"$f":"IF(Q271=\"\",\"\",INDEX(referentes!D:E,MATCH(Q271,referentes!E:E,0),1))","v":""},"",null,null,null,null,"","","",267,"","",""]
["30001212",{"$f":"DIGITADOR!$B$2","v":""},1,{"$f":"IF(G272<>\"\",CONCATENATE(B272,A272,DIGITADOR!$M$1,C272,G272),\"\")","v":""},null,"",null,"",{"$f":"IF(ACTIVIDADES!K272<>\"\",CONCATENATE(B272,A272,DIGITADOR!$M$1,ACTIVIDADES!N272,C272),\"\")","v":""},{"$f":"IF(G272=\"\",\"\",IF(D272=D271,\"\",CONCATENATE(B272,A272,DIGITADOR!$M$1,ACTIVIDADES!N272,C272)))","v":""},null,null,null,{"$f":"IF(M272=\"\",\"\",INDEX(referentes!AN:AQ,MATCH(M272,referentes!AQ:AQ,0),1))","v":""},null,{"$f":"IF(O272=\"\",\"\",INDEX(referentes!A:B,MATCH(O272,referentes!B:B,0),1))","v":""},null,{"$f":"IF(Q272=\"\",\"\",INDEX(referentes!D:E,MATCH(Q272,referentes!E:E,0),1))","v":""},"",null,null,null,null,"","","",268,"","",""]
["30001212",{"$f":"DIGITADOR!$B$2","v":""},1,{"$f":"IF(G273<>\"\",CONCATENATE(B273,A273,DIGITADOR!$M$1,C273,G273),\"\")","v":""},null,"",null,"",{"$f":"IF(ACTIVIDADES!K273<>\"\",CONCATENATE(B273,A273,DIGITADOR!$M$1,ACTIVIDADES!N273,C273),\"\")","v":""},{"$f":"IF(G273=\"\",\"\",IF(D273=D272,\"\",CONCATENATE(B273,A273,DIGITADOR!$M$1,ACTIVIDADES!N273,C273)))","v":""},null,null,null,{"$f":"IF(M273=\"\",\"\",INDEX(referentes!AN:AQ,MATCH(M273,referentes!AQ:AQ,0),1))","v":""},null,{"$f":"IF(O273=\"\",\"\",INDEX(referentes!A:B,MATCH(O273,referentes!B:B,0),1))","v":""},null,{"$f":"IF(Q273=\"\",\"\",INDEX(referentes!D:E,MATCH(Q273,referentes!E:E,0),1))","v":""},"",null,null,null,null,"","","",269,"","",""]
["30001212",{"$f":"DIGITADOR!$B$2","v":""},1,{"$f":"IF(G274<>\"\",CONCATENATE(B274,A274,DIGITADOR!$M$1,C274,G274),\"\")","v":""},null,"",null,"",{"$f":"IF(ACTIVIDADES!K274<>\"\",CONCATENATE(B274,A274,DIGITADOR!$M$1,ACTIVIDADES!N274,C274),\"\")","v":""},{"$f":"IF(G274=\"\",\"\",IF(D274=D273,\"\",CONCATENATE(B274,A274,DIGITADOR!$M$1,ACTIVIDADES!N274,C274)))","v":""},null,null,null,{"$f":"IF(M274=\"\",\"\",INDEX(referentes!AN:AQ,MATCH(M274,referentes!AQ:AQ,0),1))","v":""},null,{"$f":"IF(O274=\"\",\"\",INDEX(referentes!A:B,MATCH(O274,referentes!B:B,0),1))","v":""},null,{"$f":"IF(Q274=\"\",\"\",INDEX(referentes!D:E,MATCH(Q274,referentes!E:E,0),1))","v":""},"",null,null,null,null,"","","",270,"","",""]
["30001212",{"$f":"DIGITADOR!$B$2","v":""},1,{"$f":"IF(G275<>\"\",CONCATENATE(B275,A275,DIGITADOR!$M$1,C275,G275),\"\")","v":""},null,"",null,"",{"$f":"IF(ACTIVIDADES!K275<>\"\",CONCATENATE(B275,A275,DIGITADOR!$M$1,ACTIVIDADES!N275,C275),\"\")","v":""},{"$f":"IF(G275=\"\",\"\",IF(D275=D274,\"\",CONCATENATE(B275,A275,DIGITADOR!$M$1,ACTIVIDADES!N275,C275)))","v":""},null,null,null,{"$f":"IF(M275=\"\",\"\",INDEX(referentes!AN:AQ,MATCH(M275,referentes!AQ:AQ,0),1))","v":""},null,{"$f":"IF(O275=\"\",\"\",INDEX(referentes!A:B,MATCH(O275,referentes!B:B,0),1))","v":""},null,{"$f":"IF(Q275=\"\",\"\",INDEX(referentes!D:E,MATCH(Q275,referentes!E:E,0),1))","v":""},"",null,null,null,null,"","","",271,"","",""]
["30001212",{"$f":"DIGITADOR!$B$2","v":""},1,{"$f":"IF(G276<>\"\",CONCATENATE(B276,A276,DIGITADOR!$M$1,C276,G276),\"\")","v":""},null,"",null,"",{"$f":"IF(ACTIVIDADES!K276<>\"\",CONCATENATE(B276,A276,DIGITADOR!$M$1,ACTIVIDADES!N276,C276),\"\")","v":""},{"$f":"IF(G276=\"\",\"\",IF(D276=D275,\"\",CONCATENATE(B276,A276,DIGITADOR!$M$1,ACTIVIDADES!N276,C276)))","v":""},null,null,null,{"$f":"IF(M276=\"\",\"\",INDEX(referentes!AN:AQ,MATCH(M276,referentes!AQ:AQ,0),1))","v":""},null,{"$f":"IF(O276=\"\",\"\",INDEX(referentes!A:B,MATCH(O276,referentes!B:B,0),1))","v":""},null,{"$f":"IF(Q276=\"\",\"\",INDEX(referentes!D:E,MATCH(Q276,referentes!E:E,0),1))","v":""},"",null,null,null,null,"","","",272,"","",""]
["30001212",{"$f":"DIGITADOR!$B$2","v":""},1,{"$f":"IF(G277<>\"\",CONCATENATE(B277,A277,DIGITADOR!$M$1,C277,G277),\"\")","v":""},null,"",null,"",{"$f":"IF(ACTIVIDADES!K277<>\"\",CONCATENATE(B277,A277,DIGITADOR!$M$1,ACTIVIDADES!N277,C277),\"\")","v":""},{"$f":"IF(G277=\"\",\"\",IF(D277=D276,\"\",CONCATENATE(B277,A277,DIGITADOR!$M$1,ACTIVIDADES!N277,C277)))","v":""},null,null,null,{"$f":"IF(M277=\"\",\"\",INDEX(referentes!AN:AQ,MATCH(M277,referentes!AQ:AQ,0),1))","v":""},null,{"$f":"IF(O277=\"\",\"\",INDEX(referentes!A:B,MATCH(O277,referentes!B:B,0),1))","v":""},null,{"$f":"IF(Q277=\"\",\"\",INDEX(referentes!D:E,MATCH(Q277,referentes!E:E,0),1))","v":""},"",null,null,null,null,"","","",273,"","",""]
["30001212",{"$f":"DIGITADOR!$B$2","v":""},1,{"$f":"IF(G278<>\"\",CONCATENATE(B278,A278,DIGITADOR!$M$1,C278,G278),\"\")","v":""},null,"",null,"",{"$f":"IF(ACTIVIDADES!K278<>\"\",CONCATENATE(B278,A278,DIGITADOR!$M$1,ACTIVIDADES!N278,C278),\"\")","v":""},{"$f":"IF(G278=\"\",\"\",IF(D278=D277,\"\",CONCATENATE(B278,A278,DIGITADOR!$M$1,ACTIVIDADES!N278,C278)))","v":""},null,null,null,{"$f":"IF(M278=\"\",\"\",INDEX(referentes!AN:AQ,MATCH(M278,referentes!AQ:AQ,0),1))","v":""},null,{"$f":"IF(O278=\"\",\"\",INDEX(referentes!A:B,MATCH(O278,referentes!B:B,0),1))","v":""},null,{"$f":"IF(Q278=\"\",\"\",INDEX(referentes!D:E,MATCH(Q278,referentes!E:E,0),1))","v":""},"",null,null,null,null,"","","",274,"","",""]
["30001212",{"$f":"DIGITADOR!$B$2","v":""},1,{"$f":"IF(G279<>\"\",CONCATENATE(B279,A279,DIGITADOR!$M$1,C279,G279),\"\")","v":""},null,"",null,"",{"$f":"IF(ACTIVIDADES!K279<>\"\",CONCATENATE(B279,A279,DIGITADOR!$M$1,ACTIVIDADES!N279,C279),\"\")","v":""},{"$f":"IF(G279=\"\",\"\",IF(D279=D278,\"\",CONCATENATE(B279,A279,DIGITADOR!$M$1,ACTIVIDADES!N279,C279)))","v":""},null,null,null,{"$f":"IF(M279=\"\",\"\",INDEX(referentes!AN:AQ,MATCH(M279,referentes!AQ:AQ,0),1))","v":""},null,{"$f":"IF(O279=\"\",\"\",INDEX(referentes!A:B,MATCH(O279,referentes!B:B,0),1))","v":""},null,{"$f":"IF(Q279=\"\",\"\",INDEX(referentes!D:E,MATCH(Q279,referentes!E:E,0),1))","v":""},"",null,null,null,null,"","","",275,"","",""]
["30001212",{"$f":"DIGITADOR!$B$2","v":""},1,{"$f":"IF(G280<>\"\",CONCATENATE(B280,A280,DIGITADOR!$M$1,C280,G280),\"\")","v":""},null,"",null,"",{"$f":"IF(ACTIVIDADES!K280<>\"\",CONCATENATE(B280,A280,DIGITADOR!$M$1,ACTIVIDADES!N280,C280),\"\")","v":""},{"$f":"IF(G280=\"\",\"\",IF(D280=D279,\"\",CONCATENATE(B280,A280,DIGITADOR!$M$1,ACTIVIDADES!N280,C280)))","v":""},null,null,null,{"$f":"IF(M280=\"\",\"\",INDEX(referentes!AN:AQ,MATCH(M280,referentes!AQ:AQ,0),1))","v":""},null,{"$f":"IF(O280=\"\",\"\",INDEX(referentes!A:B,MATCH(O280,referentes!B:B,0),1))","v":""},null,{"$f":"IF(Q280=\"\",\"\",INDEX(referentes!D:E,MATCH(Q280,referentes!E:E,0),1))","v":""},"",null,null,null,null,"","","",276,"","",""]
["30001212",{"$f":"DIGITADOR!$B$2","v":""},1,{"$f":"IF(G281<>\"\",CONCATENATE(B281,A281,DIGITADOR!$M$1,C281,G281),\"\")","v":""},null,"",null,"",{"$f":"IF(ACTIVIDADES!K281<>\"\",CONCATENATE(B281,A281,DIGITADOR!$M$1,ACTIVIDADES!N281,C281),\"\")","v":""},{"$f":"IF(G281=\"\",\"\",IF(D281=D280,\"\",CONCATENATE(B281,A281,DIGITADOR!$M$1,ACTIVIDADES!N281,C281)))","v":""},null,null,null,{"$f":"IF(M281=\"\",\"\",INDEX(referentes!AN:AQ,MATCH(M281,referentes!AQ:AQ,0),1))","v":""},null,{"$f":"IF(O281=\"\",\"\",INDEX(referentes!A:B,MATCH(O281,referentes!B:B,0),1))","v":""},null,{"$f":"IF(Q281=\"\",\"\",INDEX(referentes!D:E,MATCH(Q281,referentes!E:E,0),1))","v":""},"",null,null,null,null,"","","",277,"","",""]
["30001212",{"$f":"DIGITADOR!$B$2","v":""},1,{"$f":"IF(G282<>\"\",CONCATENATE(B282,A282,DIGITADOR!$M$1,C282,G282),\"\")","v":""},null,"",null,"",{"$f":"IF(ACTIVIDADES!K282<>\"\",CONCATENATE(B282,A282,DIGITADOR!$M$1,ACTIVIDADES!N282,C282),\"\")","v":""},{"$f":"IF(G282=\"\",\"\",IF(D282=D281,\"\",CONCATENATE(B282,A282,DIGITADOR!$M$1,ACTIVIDADES!N282,C282)))","v":""},null,null,null,{"$f":"IF(M282=\"\",\"\",INDEX(referentes!AN:AQ,MATCH(M282,referentes!AQ:AQ,0),1))","v":""},null,{"$f":"IF(O282=\"\",\"\",INDEX(referentes!A:B,MATCH(O282,referentes!B:B,0),1))","v":""},null,{"$f":"IF(Q282=\"\",\"\",INDEX(referentes!D:E,MATCH(Q282,referentes!E:E,0),1))","v":""},"",null,null,null,null,"","","",278,"","",""]
["30001212",{"$f":"DIGITADOR!$B$2","v":""},1,{"$f":"IF(G283<>\"\",CONCATENATE(B283,A283,DIGITADOR!$M$1,C283,G283),\"\")","v":""},null,"",null,"",{"$f":"IF(ACTIVIDADES!K283<>\"\",CONCATENATE(B283,A283,DIGITADOR!$M$1,ACTIVIDADES!N283,C283),\"\")","v":""},{"$f":"IF(G283=\"\",\"\",IF(D283=D282,\"\",CONCATENATE(B283,A283,DIGITADOR!$M$1,ACTIVIDADES!N283,C283)))","v":""},null,null,null,{"$f":"IF(M283=\"\",\"\",INDEX(referentes!AN:AQ,MATCH(M283,referentes!AQ:AQ,0),1))","v":""},null,{"$f":"IF(O283=\"\",\"\",INDEX(referentes!A:B,MATCH(O283,referentes!B:B,0),1))","v":""},null,{"$f":"IF(Q283=\"\",\"\",INDEX(referentes!D:E,MATCH(Q283,referentes!E:E,0),1))","v":""},"",null,null,null,null,"","","",279,"","",""]
["30001212",{"$f":"DIGITADOR!$B$2","v":""},1,{"$f":"IF(G284<>\"\",CONCATENATE(B284,A284,DIGITADOR!$M$1,C284,G284),\"\")","v":""},null,"",null,"",{"$f":"IF(ACTIVIDADES!K284<>\"\",CONCATENATE(B284,A284,DIGITADOR!$M$1,ACTIVIDADES!N284,C284),\"\")","v":""},{"$f":"IF(G284=\"\",\"\",IF(D284=D283,\"\",CONCATENATE(B284,A284,DIGITADOR!$M$1,ACTIVIDADES!N284,C284)))","v":""},null,null,null,{"$f":"IF(M284=\"\",\"\",INDEX(referentes!AN:AQ,MATCH(M284,referentes!AQ:AQ,0),1))","v":""},null,{"$f":"IF(O284=\"\",\"\",INDEX(referentes!A:B,MATCH(O284,referentes!B:B,0),1))","v":""},null,{"$f":"IF(Q284=\"\",\"\",INDEX(referentes!D:E,MATCH(Q284,referentes!E:E,0),1))","v":""},"",null,null,null,null,"","","",280,"","",""]
["30001212",{"$f":"DIGITADOR!$B$2","v":""},1,{"$f":"IF(G285<>\"\",CONCATENATE(B285,A285,DIGITADOR!$M$1,C285,G285),\"\")","v":""},null,"",null,"",{"$f":"IF(ACTIVIDADES!K285<>\"\",CONCATENATE(B285,A285,DIGITADOR!$M$1,ACTIVIDADES!N285,C285),\"\")","v":""},{"$f":"IF(G285=\"\",\"\",IF(D285=D284,\"\",CONCATENATE(B285,A285,DIGITADOR!$M$1,ACTIVIDADES!N285,C285)))","v":""},null,null,null,{"$f":"IF(M285=\"\",\"\",INDEX(referentes!AN:AQ,MATCH(M285,referentes!AQ:AQ,0),1))","v":""},null,{"$f":"IF(O285=\"\",\"\",INDEX(referentes!A:B,MATCH(O285,referentes!B:B,0),1))","v":""},null,{"$f":"IF(Q285=\"\",\"\",INDEX(referentes!D:E,MATCH(Q285,referentes!E:E,0),1))","v":""},"",null,null,null,null,"","","",281,"","",""]
["30001212",{"$f":"DIGITADOR!$B$2","v":""},1,{"$f":"IF(G286<>\"\",CONCATENATE(B286,A286,DIGITADOR!$M$1,C286,G286),\"\")","v":""},null,"",null,"",{"$f":"IF(ACTIVIDADES!K286<>\"\",CONCATENATE(B286,A286,DIGITADOR!$M$1,ACTIVIDADES!N286,C286),\"\")","v":""},{"$f":"IF(G286=\"\",\"\",IF(D286=D285,\"\",CONCATENATE(B286,A286,DIGITADOR!$M$1,ACTIVIDADES!N286,C286)))","v":""},null,null,null,{"$f":"IF(M286=\"\",\"\",INDEX(referentes!AN:AQ,MATCH(M286,referentes!AQ:AQ,0),1))","v":""},null,{"$f":"IF(O286=\"\",\"\",INDEX(referentes!A:B,MATCH(O286,referentes!B:B,0),1))","v":""},null,{"$f":"IF(Q286=\"\",\"\",INDEX(referentes!D:E,MATCH(Q286,referentes!E:E,0),1))","v":""},"",null,null,null,null,"","","",282,"","",""]
["30001212",{"$f":"DIGITADOR!$B$2","v":""},1,{"$f":"IF(G287<>\"\",CONCATENATE(B287,A287,DIGITADOR!$M$1,C287,G287),\"\")","v":""},null,"",null,"",{"$f":"IF(ACTIVIDADES!K287<>\"\",CONCATENATE(B287,A287,DIGITADOR!$M$1,ACTIVIDADES!N287,C287),\"\")","v":""},{"$f":"IF(G287=\"\",\"\",IF(D287=D286,\"\",CONCATENATE(B287,A287,DIGITADOR!$M$1,ACTIVIDADES!N287,C287)))","v":""},null,null,null,{"$f":"IF(M287=\"\",\"\",INDEX(referentes!AN:AQ,MATCH(M287,referentes!AQ:AQ,0),1))","v":""},null,{"$f":"IF(O287=\"\",\"\",INDEX(referentes!A:B,MATCH(O287,referentes!B:B,0),1))","v":""},null,{"$f":"IF(Q287=\"\",\"\",INDEX(referentes!D:E,MATCH(Q287,referentes!E:E,0),1))","v":""},"",null,null,null,null,"","","",283,"","",""]
["30001212",{"$f":"DIGITADOR!$B$2","v":""},1,{"$f":"IF(G288<>\"\",CONCATENATE(B288,A288,DIGITADOR!$M$1,C288,G288),\"\")","v":""},null,"",null,"",{"$f":"IF(ACTIVIDADES!K288<>\"\",CONCATENATE(B288,A288,DIGITADOR!$M$1,ACTIVIDADES!N288,C288),\"\")","v":""},{"$f":"IF(G288=\"\",\"\",IF(D288=D287,\"\",CONCATENATE(B288,A288,DIGITADOR!$M$1,ACTIVIDADES!N288,C288)))","v":""},null,null,null,{"$f":"IF(M288=\"\",\"\",INDEX(referentes!AN:AQ,MATCH(M288,referentes!AQ:AQ,0),1))","v":""},null,{"$f":"IF(O288=\"\",\"\",INDEX(referentes!A:B,MATCH(O288,referentes!B:B,0),1))","v":""},null,{"$f":"IF(Q288=\"\",\"\",INDEX(referentes!D:E,MATCH(Q288,referentes!E:E,0),1))","v":""},"",null,null,null,null,"","","",284,"","",""]
["30001212",{"$f":"DIGITADOR!$B$2","v":""},1,{"$f":"IF(G289<>\"\",CONCATENATE(B289,A289,DIGITADOR!$M$1,C289,G289),\"\")","v":""},null,"",null,"",{"$f":"IF(ACTIVIDADES!K289<>\"\",CONCATENATE(B289,A289,DIGITADOR!$M$1,ACTIVIDADES!N289,C289),\"\")","v":""},{"$f":"IF(G289=\"\",\"\",IF(D289=D288,\"\",CONCATENATE(B289,A289,DIGITADOR!$M$1,ACTIVIDADES!N289,C289)))","v":""},null,null,null,{"$f":"IF(M289=\"\",\"\",INDEX(referentes!AN:AQ,MATCH(M289,referentes!AQ:AQ,0),1))","v":""},null,{"$f":"IF(O289=\"\",\"\",INDEX(referentes!A:B,MATCH(O289,referentes!B:B,0),1))","v":""},null,{"$f":"IF(Q289=\"\",\"\",INDEX(referentes!D:E,MATCH(Q289,referentes!E:E,0),1))","v":""},"",null,null,null,null,"","","",285,"","",""]
["30001212",{"$f":"DIGITADOR!$B$2","v":""},1,{"$f":"IF(G290<>\"\",CONCATENATE(B290,A290,DIGITADOR!$M$1,C290,G290),\"\")","v":""},null,"",null,"",{"$f":"IF(ACTIVIDADES!K290<>\"\",CONCATENATE(B290,A290,DIGITADOR!$M$1,ACTIVIDADES!N290,C290),\"\")","v":""},{"$f":"IF(G290=\"\",\"\",IF(D290=D289,\"\",CONCATENATE(B290,A290,DIGITADOR!$M$1,ACTIVIDADES!N290,C290)))","v":""},null,null,null,{"$f":"IF(M290=\"\",\"\",INDEX(referentes!AN:AQ,MATCH(M290,referentes!AQ:AQ,0),1))","v":""},null,{"$f":"IF(O290=\"\",\"\",INDEX(referentes!A:B,MATCH(O290,referentes!B:B,0),1))","v":""},null,{"$f":"IF(Q290=\"\",\"\",INDEX(referentes!D:E,MATCH(Q290,referentes!E:E,0),1))","v":""},"",null,null,null,null,"","","",286,"","",""]
["30001212",{"$f":"DIGITADOR!$B$2","v":""},1,{"$f":"IF(G291<>\"\",CONCATENATE(B291,A291,DIGITADOR!$M$1,C291,G291),\"\")","v":""},null,"",null,"",{"$f":"IF(ACTIVIDADES!K291<>\"\",CONCATENATE(B291,A291,DIGITADOR!$M$1,ACTIVIDADES!N291,C291),\"\")","v":""},{"$f":"IF(G291=\"\",\"\",IF(D291=D290,\"\",CONCATENATE(B291,A291,DIGITADOR!$M$1,ACTIVIDADES!N291,C291)))","v":""},null,null,null,{"$f":"IF(M291=\"\",\"\",INDEX(referentes!AN:AQ,MATCH(M291,referentes!AQ:AQ,0),1))","v":""},null,{"$f":"IF(O291=\"\",\"\",INDEX(referentes!A:B,MATCH(O291,referentes!B:B,0),1))","v":""},null,{"$f":"IF(Q291=\"\",\"\",INDEX(referentes!D:E,MATCH(Q291,referentes!E:E,0),1))","v":""},"",null,null,null,null,"","","",287,"","",""]
["30001212",{"$f":"DIGITADOR!$B$2","v":""},1,{"$f":"IF(G292<>\"\",CONCATENATE(B292,A292,DIGITADOR!$M$1,C292,G292),\"\")","v":""},null,"",null,"",{"$f":"IF(ACTIVIDADES!K292<>\"\",CONCATENATE(B292,A292,DIGITADOR!$M$1,ACTIVIDADES!N292,C292),\"\")","v":""},{"$f":"IF(G292=\"\",\"\",IF(D292=D291,\"\",CONCATENATE(B292,A292,DIGITADOR!$M$1,ACTIVIDADES!N292,C292)))","v":""},null,null,null,{"$f":"IF(M292=\"\",\"\",INDEX(referentes!AN:AQ,MATCH(M292,referentes!AQ:AQ,0),1))","v":""},null,{"$f":"IF(O292=\"\",\"\",INDEX(referentes!A:B,MATCH(O292,referentes!B:B,0),1))","v":""},null,{"$f":"IF(Q292=\"\",\"\",INDEX(referentes!D:E,MATCH(Q292,referentes!E:E,0),1))","v":""},"",null,null,null,null,"","","",288,"","",""]
["30001212",{"$f":"DIGITADOR!$B$2","v":""},1,{"$f":"IF(G293<>\"\",CONCATENATE(B293,A293,DIGITADOR!$M$1,C293,G293),\"\")","v":""},null,"",null,"",{"$f":"IF(ACTIVIDADES!K293<>\"\",CONCATENATE(B293,A293,DIGITADOR!$M$1,ACTIVIDADES!N293,C293),\"\")","v":""},{"$f":"IF(G293=\"\",\"\",IF(D293=D292,\"\",CONCATENATE(B293,A293,DIGITADOR!$M$1,ACTIVIDADES!N293,C293)))","v":""},null,null,null,{"$f":"IF(M293=\"\",\"\",INDEX(referentes!AN:AQ,MATCH(M293,referentes!AQ:AQ,0),1))","v":""},null,{"$f":"IF(O293=\"\",\"\",INDEX(referentes!A:B,MATCH(O293,referentes!B:B,0),1))","v":""},null,{"$f":"IF(Q293=\"\",\"\",INDEX(referentes!D:E,MATCH(Q293,referentes!E:E,0),1))","v":""},"",null,null,null,null,"","","",289,"","",""]
["30001212",{"$f":"DIGITADOR!$B$2","v":""},1,{"$f":"IF(G294<>\"\",CONCATENATE(B294,A294,DIGITADOR!$M$1,C294,G294),\"\")","v":""},null,"",null,"",{"$f":"IF(ACTIVIDADES!K294<>\"\",CONCATENATE(B294,A294,DIGITADOR!$M$1,ACTIVIDADES!N294,C294),\"\")","v":""},{"$f":"IF(G294=\"\",\"\",IF(D294=D293,\"\",CONCATENATE(B294,A294,DIGITADOR!$M$1,ACTIVIDADES!N294,C294)))","v":""},null,null,null,{"$f":"IF(M294=\"\",\"\",INDEX(referentes!AN:AQ,MATCH(M294,referentes!AQ:AQ,0),1))","v":""},null,{"$f":"IF(O294=\"\",\"\",INDEX(referentes!A:B,MATCH(O294,referentes!B:B,0),1))","v":""},null,{"$f":"IF(Q294=\"\",\"\",INDEX(referentes!D:E,MATCH(Q294,referentes!E:E,0),1))","v":""},"",null,null,null,null,"","","",290,"","",""]
["30001212",{"$f":"DIGITADOR!$B$2","v":""},1,{"$f":"IF(G295<>\"\",CONCATENATE(B295,A295,DIGITADOR!$M$1,C295,G295),\"\")","v":""},null,"",null,"",{"$f":"IF(ACTIVIDADES!K295<>\"\",CONCATENATE(B295,A295,DIGITADOR!$M$1,ACTIVIDADES!N295,C295),\"\")","v":""},{"$f":"IF(G295=\"\",\"\",IF(D295=D294,\"\",CONCATENATE(B295,A295,DIGITADOR!$M$1,ACTIVIDADES!N295,C295)))","v":""},null,null,null,{"$f":"IF(M295=\"\",\"\",INDEX(referentes!AN:AQ,MATCH(M295,referentes!AQ:AQ,0),1))","v":""},null,{"$f":"IF(O295=\"\",\"\",INDEX(referentes!A:B,MATCH(O295,referentes!B:B,0),1))","v":""},null,{"$f":"IF(Q295=\"\",\"\",INDEX(referentes!D:E,MATCH(Q295,referentes!E:E,0),1))","v":""},"",null,null,null,null,"","","",291,"","",""]
["30001212",{"$f":"DIGITADOR!$B$2","v":""},1,{"$f":"IF(G296<>\"\",CONCATENATE(B296,A296,DIGITADOR!$M$1,C296,G296),\"\")","v":""},null,"",null,"",{"$f":"IF(ACTIVIDADES!K296<>\"\",CONCATENATE(B296,A296,DIGITADOR!$M$1,ACTIVIDADES!N296,C296),\"\")","v":""},{"$f":"IF(G296=\"\",\"\",IF(D296=D295,\"\",CONCATENATE(B296,A296,DIGITADOR!$M$1,ACTIVIDADES!N296,C296)))","v":""},null,null,null,{"$f":"IF(M296=\"\",\"\",INDEX(referentes!AN:AQ,MATCH(M296,referentes!AQ:AQ,0),1))","v":""},null,{"$f":"IF(O296=\"\",\"\",INDEX(referentes!A:B,MATCH(O296,referentes!B:B,0),1))","v":""},null,{"$f":"IF(Q296=\"\",\"\",INDEX(referentes!D:E,MATCH(Q296,referentes!E:E,0),1))","v":""},"",null,null,null,null,"","","",292,"","",""]
["30001212",{"$f":"DIGITADOR!$B$2","v":""},1,{"$f":"IF(G297<>\"\",CONCATENATE(B297,A297,DIGITADOR!$M$1,C297,G297),\"\")","v":""},null,"",null,"",{"$f":"IF(ACTIVIDADES!K297<>\"\",CONCATENATE(B297,A297,DIGITADOR!$M$1,ACTIVIDADES!N297,C297),\"\")","v":""},{"$f":"IF(G297=\"\",\"\",IF(D297=D296,\"\",CONCATENATE(B297,A297,DIGITADOR!$M$1,ACTIVIDADES!N297,C297)))","v":""},null,null,null,{"$f":"IF(M297=\"\",\"\",INDEX(referentes!AN:AQ,MATCH(M297,referentes!AQ:AQ,0),1))","v":""},null,{"$f":"IF(O297=\"\",\"\",INDEX(referentes!A:B,MATCH(O297,referentes!B:B,0),1))","v":""},null,{"$f":"IF(Q297=\"\",\"\",INDEX(referentes!D:E,MATCH(Q297,referentes!E:E,0),1))","v":""},"",null,null,null,null,"","","",293,"","",""]
["30001212",{"$f":"DIGITADOR!$B$2","v":""},1,{"$f":"IF(G298<>\"\",CONCATENATE(B298,A298,DIGITADOR!$M$1,C298,G298),\"\")","v":""},null,"",null,"",{"$f":"IF(ACTIVIDADES!K298<>\"\",CONCATENATE(B298,A298,DIGITADOR!$M$1,ACTIVIDADES!N298,C298),\"\")","v":""},{"$f":"IF(G298=\"\",\"\",IF(D298=D297,\"\",CONCATENATE(B298,A298,DIGITADOR!$M$1,ACTIVIDADES!N298,C298)))","v":""},null,null,null,{"$f":"IF(M298=\"\",\"\",INDEX(referentes!AN:AQ,MATCH(M298,referentes!AQ:AQ,0),1))","v":""},null,{"$f":"IF(O298=\"\",\"\",INDEX(referentes!A:B,MATCH(O298,referentes!B:B,0),1))","v":""},null,{"$f":"IF(Q298=\"\",\"\",INDEX(referentes!D:E,MATCH(Q298,referentes!E:E,0),1))","v":""},"",null,null,null,null,"","","",294,"","",""]
["30001212",{"$f":"DIGITADOR!$B$2","v":""},1,{"$f":"IF(G299<>\"\",CONCATENATE(B299,A299,DIGITADOR!$M$1,C299,G299),\"\")","v":""},null,"",null,"",{"$f":"IF(ACTIVIDADES!K299<>\"\",CONCATENATE(B299,A299,DIGITADOR!$M$1,ACTIVIDADES!N299,C299),\"\")","v":""},{"$f":"IF(G299=\"\",\"\",IF(D299=D298,\"\",CONCATENATE(B299,A299,DIGITADOR!$M$1,ACTIVIDADES!N299,C299)))","v":""},null,null,null,{"$f":"IF(M299=\"\",\"\",INDEX(referentes!AN:AQ,MATCH(M299,referentes!AQ:AQ,0),1))","v":""},null,{"$f":"IF(O299=\"\",\"\",INDEX(referentes!A:B,MATCH(O299,referentes!B:B,0),1))","v":""},null,{"$f":"IF(Q299=\"\",\"\",INDEX(referentes!D:E,MATCH(Q299,referentes!E:E,0),1))","v":""},"",null,null,null,null,"","","",295,"","",""]
["30001212",{"$f":"DIGITADOR!$B$2","v":""},1,{"$f":"IF(G300<>\"\",CONCATENATE(B300,A300,DIGITADOR!$M$1,C300,G300),\"\")","v":""},null,"",null,"",{"$f":"IF(ACTIVIDADES!K300<>\"\",CONCATENATE(B300,A300,DIGITADOR!$M$1,ACTIVIDADES!N300,C300),\"\")","v":""},{"$f":"IF(G300=\"\",\"\",IF(D300=D299,\"\",CONCATENATE(B300,A300,DIGITADOR!$M$1,ACTIVIDADES!N300,C300)))","v":""},null,null,null,{"$f":"IF(M300=\"\",\"\",INDEX(referentes!AN:AQ,MATCH(M300,referentes!AQ:AQ,0),1))","v":""},null,{"$f":"IF(O300=\"\",\"\",INDEX(referentes!A:B,MATCH(O300,referentes!B:B,0),1))","v":""},null,{"$f":"IF(Q300=\"\",\"\",INDEX(referentes!D:E,MATCH(Q300,referentes!E:E,0),1))","v":""},"",null,null,null,null,"","","",296,"","",""]
["30001212",{"$f":"DIGITADOR!$B$2","v":""},1,{"$f":"IF(G301<>\"\",CONCATENATE(B301,A301,DIGITADOR!$M$1,C301,G301),\"\")","v":""},null,"",null,"",{"$f":"IF(ACTIVIDADES!K301<>\"\",CONCATENATE(B301,A301,DIGITADOR!$M$1,ACTIVIDADES!N301,C301),\"\")","v":""},{"$f":"IF(G301=\"\",\"\",IF(D301=D300,\"\",CONCATENATE(B301,A301,DIGITADOR!$M$1,ACTIVIDADES!N301,C301)))","v":""},null,null,null,{"$f":"IF(M301=\"\",\"\",INDEX(referentes!AN:AQ,MATCH(M301,referentes!AQ:AQ,0),1))","v":""},null,{"$f":"IF(O301=\"\",\"\",INDEX(referentes!A:B,MATCH(O301,referentes!B:B,0),1))","v":""},null,{"$f":"IF(Q301=\"\",\"\",INDEX(referentes!D:E,MATCH(Q301,referentes!E:E,0),1))","v":""},"",null,null,null,null,"","","",297,"","",""]
["30001212",{"$f":"DIGITADOR!$B$2","v":""},1,{"$f":"IF(G302<>\"\",CONCATENATE(B302,A302,DIGITADOR!$M$1,C302,G302),\"\")","v":""},null,"",null,"",{"$f":"IF(ACTIVIDADES!K302<>\"\",CONCATENATE(B302,A302,DIGITADOR!$M$1,ACTIVIDADES!N302,C302),\"\")","v":""},{"$f":"IF(G302=\"\",\"\",IF(D302=D301,\"\",CONCATENATE(B302,A302,DIGITADOR!$M$1,ACTIVIDADES!N302,C302)))","v":""},null,null,null,{"$f":"IF(M302=\"\",\"\",INDEX(referentes!AN:AQ,MATCH(M302,referentes!AQ:AQ,0),1))","v":""},null,{"$f":"IF(O302=\"\",\"\",INDEX(referentes!A:B,MATCH(O302,referentes!B:B,0),1))","v":""},null,{"$f":"IF(Q302=\"\",\"\",INDEX(referentes!D:E,MATCH(Q302,referentes!E:E,0),1))","v":""},"",null,null,null,null,"","","",298,"","",""]
["30001212",{"$f":"DIGITADOR!$B$2","v":""},1,{"$f":"IF(G303<>\"\",CONCATENATE(B303,A303,DIGITADOR!$M$1,C303,G303),\"\")","v":""},null,"",null,"",{"$f":"IF(ACTIVIDADES!K303<>\"\",CONCATENATE(B303,A303,DIGITADOR!$M$1,ACTIVIDADES!N303,C303),\"\")","v":""},{"$f":"IF(G303=\"\",\"\",IF(D303=D302,\"\",CONCATENATE(B303,A303,DIGITADOR!$M$1,ACTIVIDADES!N303,C303)))","v":""},null,null,null,{"$f":"IF(M303=\"\",\"\",INDEX(referentes!AN:AQ,MATCH(M303,referentes!AQ:AQ,0),1))","v":""},null,{"$f":"IF(O303=\"\",\"\",INDEX(referentes!A:B,MATCH(O303,referentes!B:B,0),1))","v":""},null,{"$f":"IF(Q303=\"\",\"\",INDEX(referentes!D:E,MATCH(Q303,referentes!E:E,0),1))","v":""},"",null,null,null,null,"","","",299,"","",""]
["30001212",{"$f":"DIGITADOR!$B$2","v":""},1,{"$f":"IF(G304<>\"\",CONCATENATE(B304,A304,DIGITADOR!$M$1,C304,G304),\"\")","v":""},null,"",null,"",{"$f":"IF(ACTIVIDADES!K304<>\"\",CONCATENATE(B304,A304,DIGITADOR!$M$1,ACTIVIDADES!N304,C304),\"\")","v":""},{"$f":"IF(G304=\"\",\"\",IF(D304=D303,\"\",CONCATENATE(B304,A304,DIGITADOR!$M$1,ACTIVIDADES!N304,C304)))","v":""},null,null,null,{"$f":"IF(M304=\"\",\"\",INDEX(referentes!AN:AQ,MATCH(M304,referentes!AQ:AQ,0),1))","v":""},null,{"$f":"IF(O304=\"\",\"\",INDEX(referentes!A:B,MATCH(O304,referentes!B:B,0),1))","v":""},null,{"$f":"IF(Q304=\"\",\"\",INDEX(referentes!D:E,MATCH(Q304,referentes!E:E,0),1))","v":""},"",null,null,null,null,"","","",300,"","",""]

{"sheet":"DESEMBARCO","index":4,"n_rows":304,"n_cols":38,"rows_kept":304,"cut":false,"hidden":false,"merged":[[0,0,2,0],[0,4,2,6],[0,7,2,11],[0,3,2,3],[2,31,2,33],[2,27,2,29],[0,1,2,2],[0,25,3,25],[0,26,3,26],[0,12,2,20],[0,30,2,30],[0,21,2,21]]}
["CONTROL","Registrador",null,null,"LUGAR",null,null,"INFORMACION GENERAL",null,null,null,null,"Captura Desembarcada",null,null,null,null,null,null,null,null,null,null,null,null,"CONSECUTIVO","ID_MUESTREO (AGD_MUESTREOS)"]
[]
[null,null,null,null,null,null,null,null,null,null,null,null,null,null,null,null,null,null,null,null,null,null,null,null,null,null,null,"ID_MUESTREO (AGD_MUESTREOS)",null,null,null,"CODMUESTREO",null,null,"CODCAPTURA"]
["REGISTRO","DATOS TOMADOS POR","COD REGISTRADOR","FECHA DE ZARPE","SITIO DE DESEMBARQUE","TIPO DE PESQUERÍA","ZONA DE PESCA","EMBARCACIÓN","CAPITÁN","COD CAPITAN","NÚMERO LANCES DIA","NÚMERO DE  PESCADORES","TIPO DE CAPTURA","COD PRODUCTO","PRODUCTO","COD CAT COMERCIAL","CATEGORIA COMERCIAL","COD ESTADO","ESTADO","PESO (KG)","PRECIO (KG)","CODMUESTRA",825,828,830,null,null,825,828,830,"CODMUESTREO",825,828,830,null,"COD SITIO DE DESEMBARQUE","COD TIPO DE PESQUERÍA","COD EMBARCACIÓN"]
[null,null,{"$f":"IF(B5=\"\",\"\",INDEX(referentes!J:K,MATCH(B5,referentes!K:K,0),1))","v":""},null,null,null,null,null,null,{"$f":"IF(I5=\"\",\"\",INDEX(referentes!G:H,MATCH(I5,referentes!H:H,0),1))","v":""},null,null,null,{"$f":"IF(O5=\"\",\"\",INDEX(referentes!AE:AF,MATCH(O5,referentes!AF:AF,0),1))","v":""},null,{"$f":"IF(Q5=\"\",\"\",INDEX(referentes!V:W,MATCH(Q5,referentes!W:W,0),1))","v":""},null,{"$f":"IF(S5=\"\",\"\",INDEX(referentes!S:T,MATCH(S5,referentes!T:T,0),1))","v":""},null,null,null,{"$f":"IF(A5=\"\",\"\",CONCATENATE(AE5,Z5))","v":""},{"$f":"IF(A5=\"\",\"\",CONCATENATE(V5,$W$4))","v":""},{"$f":"IF(A5=\"\",\"\",CONCATENATE(V5,$X$4))","v":""},{"$f":"IF(A5=\"\",\"\",CONCATENATE(V5,$Y$4))","v":""},1,{"$f":"IF(A5=\"\",\"\",AE5)","v":""},{"$f":"IF(AA5=\"\",\"\",CONCATENATE(AA5,$AB$4))","v":""},{"$f":"IF(AB5=\"\",\"\",CONCATENATE(AA5,$AC$4))","v":""},{"$f":"IF(AC5=\"\",\"\",CONCATENATE(AA5,$AD$4))","v":""},{"$f":"IF(A5=\"\",\"\",INDEX(ACTIVIDADES!D:G,MATCH(A5,ACTIVIDADES!G:G,0),1))","v":""},{"$f":"IF(A5=\"\",\"\",CONCATENATE(AE5,$AF$4))","v":""},{"$f":"IF(A5=\"\",\"\",CONCATENATE(AE5,$AG$4))","v":""},{"$f":"IF(A5=\"\",\"\",CONCATENATE(AE5,$AH$4))","v":""},{"$f":"IF(A5=\"\",\"\",INDEX(ACTIVIDADES!D:I,MATCH(A5,ACTIVIDADES!G:G,0),4))","v":""},{"$f":"IF(E5=\"\",\"\",INDEX(referentes!AN:AQ,MATCH(E5,referentes!AQ:AQ,0),1))","v":""},{"$f":"IF(F5=\"\",\"\",INDEX(referentes!A:B,MATCH(F5,referentes!B:B,0),1))","v":""},{"$f":"IF(H5=\"\",\"\",INDEX(referentes!D:E,MATCH(H5,referentes!E:E,0),1))","v":""}]
[null,null,{"$f":"IF(B6=\"\",\"\",INDEX(referentes!J:K,MATCH(B6,referentes!K:K,0),1))","v":""},null,null,null,null,null,null,{"$f":"IF(I6=\"\",\"\",INDEX(referentes!G:H,MATCH(I6,referentes!H:H,0),1))","v":""},null,null,null,{"$f":"IF(O6=\"\",\"\",INDEX(referentes!AE:AF,MATCH(O6,referentes!AF:AF,0),1))","v":""},null,{"$f":"IF(Q6=\"\",\"\",INDEX(referentes!V:W,MATCH(Q6,referentes!W:W,0),1))","v":""},null,{"$f":"IF(S6=\"\",\"\",INDEX(referentes!S:T,MATCH(S6,referentes!T:T,0),1))","v":""},null,null,null,{"$f":"IF(A6=\"\",\"\",CONCATENATE(AE6,Z6))","v":""},"","","",2,{"$f":"IF(A6=\"\",\"\",IF(A6=A5,\"\",AE6))","v":""},"",{"$f":"IF(AB6=\"\",\"\",CONCATENATE(AA6,$AC$4))","v":""},{"$f":"IF(AC6=\"\",\"\",CONCATENATE(AA6,$AD$4))","v":""},{"$f":"IF(A6=\"\",\"\",INDEX(ACTIVIDADES!D:G,MATCH(A6,ACTIVIDADES!G:G,0),1))","v":""},"","","",{"$f":"IF(A6=\"\",\"\",INDEX(ACTIVIDADES!D:I,MATCH(A6,ACTIVIDADES!G:G,0),4))","v":""},{"$f":"IF(E6=\"\",\"\",INDEX(referentes!AN:AQ,MATCH(E6,referentes!AQ:AQ,0),1))","v":""},{"$f":"IF(F6=\"\",\"\",INDEX(referentes!A:B,MATCH(F6,referentes!B:B,0),1))","v":""},{"$f":"IF(H6=\"\",\"\",INDEX(referentes!D:E,MATCH(H6,referentes!E:E,0),1))","v":""}]
[null,null,{"$f":"IF(B7=\"\",\"\",INDEX(referentes!J:K,MATCH(B7,referentes!K:K,0),1))","v":""},null,null,null,null,null,null,{"$f":"IF(I7=\"\",\"\",INDEX(referentes!G:H,MATCH(I7,referentes!H:H,0),1))","v":""},null,null,null,{"$f":"IF(O7=\"\",\"\",INDEX(referentes!AE:AF,MATCH(O7,referentes!AF:AF,0),1))","v":""},null,{"$f":"IF(Q7=\"\",\"\",INDEX(referentes!V:W,MATCH(Q7,referentes!W:W,0),1))","v":""},null,{"$f":"IF(S7=\"\",\"\",INDEX(referentes!S:T,MATCH(S7,referentes!T:T,0),1))","v":""},null,null,null,"","","","",3,"","","","",{"$f":"IF(A7=\"\",\"\",INDEX(ACTIVIDADES!D:G,MATCH(A7,ACTIVIDADES!G:G,0),1))","v":""},"","","",{"$f":"IF(A7=\"\",\"\",INDEX(ACTIVIDADES!D:I,MATCH(A7,ACTIVIDADES!G:G,0),4))","v":""},{"$f":"IF(E7=\"\",\"\",INDEX(referentes!AN:AQ,MATCH(E7,referentes!AQ:AQ,0),1))","v":""},{"$f":"IF(F7=\"\",\"\",INDEX(referentes!A:B,MATCH(F7,referentes!B:B,0),1))","v":""},{"$f":"IF(H7=\"\",\"\",INDEX(referentes!D:E,MATCH(H7,referentes!E:E,0),1))","v":""}]
[null,null,{"$f":"IF(B8=\"\",\"\",INDEX(referentes!J:K,MATCH(B8,referentes!K:K,0),1))","v":""},null,null,null,null,null,null,{"$f":"IF(I8=\"\",\"\",INDEX(referentes!G:H,MATCH(I8,referentes!H:H,0),1))","v":""},null,null,null,{"$f":"IF(O8=\"\",\"\",INDEX(referentes!AE:AF,MATCH(O8,referentes!AF:AF,0),1))","v":""},null,{"$f":"IF(Q8=\"\",\"\",INDEX(referentes!V:W,MATCH(Q8,referentes!W:W,0),1))","v":""},null,{"$f":"IF(S8=\"\",\"\",INDEX(referentes!S:T,MATCH(S8,referentes!T:T,0),1))","v":""},null,null,null,"","","","",4,"","","","",{"$f":"IF(A8=\"\",\"\",INDEX(ACTIVIDADES!D:G,MATCH(A8,ACTIVIDADES!G:G,0),1))","v":""},"","","",{"$f":"IF(A8=\"\",\"\",INDEX(ACTIVIDADES!D:I,MATCH(A8,ACTIVIDADES!G:G,0),4))","v":""},{"$f":"IF(E8=\"\",\"\",INDEX(referentes!AN:AQ,MATCH(E8,referentes!AQ:AQ,0),1))","v":""},{"$f":"IF(F8=\"\",\"\",INDEX(referentes!A:B,MATCH(F8,referentes!B:B,0),1))","v":""},{"$f":"IF(H8=\"\",\"\",INDEX(referentes!D:E,MATCH(H8,referentes!E:E,0),1))","v":""}]
[null,null,{"$f":"IF(B9=\"\",\"\",INDEX(referentes!J:K,MATCH(B9,referentes!K:K,0),1))","v":""},null,null,null,null,null,null,{"$f":"IF(I9=\"\",\"\",INDEX(referentes!G:H,MATCH(I9,referentes!H:H,0),1))","v":""},null,null,null,{"$f":"IF(O9=\"\",\"\",INDEX(referentes!AE:AF,MATCH(O9,referentes!AF:AF,0),1))","v":""},null,{"$f":"IF(Q9=\"\",\"\",INDEX(referentes!V:W,MATCH(Q9,referentes!W:W,0),1))","v":""},null,{"$f":"IF(S9=\"\",\"\",INDEX(referentes!S:T,MATCH(S9,referentes!T:T,0),1))","v":""},null,null,null,"","","","",5,"","","","",{"$f":"IF(A9=\"\",\"\",INDEX(ACTIVIDADES!D:G,MATCH(A9,ACTIVIDADES!G:G,0),1))","v":""},"","","",{"$f":"IF(A9=\"\",\"\",INDEX(ACTIVIDADES!D:I,MATCH(A9,ACTIVIDADES!G:G,0),4))","v":""},{"$f":"IF(E9=\"\",\"\",INDEX(referentes!AN:AQ,MATCH(E9,referentes!AQ:AQ,0),1))","v":""},{"$f":"IF(F9=\"\",\"\",INDEX(referentes!A:B,MATCH(F9,referentes!B:B,0),1))","v":""},{"$f":"IF(H9=\"\",\"\",INDEX(referentes!D:E,MATCH(H9,referentes!E:E,0),1))","v":""}]
[null,null,{"$f":"IF(B10=\"\",\"\",INDEX(referentes!J:K,MATCH(B10,referentes!K:K,0),1))","v":""},null,null,null,null,null,null,{"$f":"IF(I10=\"\",\"\",INDEX(referentes!G:H,MATCH(I10,referentes!H:H,0),1))","v":""},null,null,null,{"$f":"IF(O10=\"\",\"\",INDEX(referentes!AE:AF,MATCH(O10,referentes!AF:AF,0),1))","v":""},null,{"$f":"IF(Q10=\"\",\"\",INDEX(referentes!V:W,MATCH(Q10,referentes!W:W,0),1))","v":""},null,{"$f":"IF(S10=\"\",\"\",INDEX(referentes!S:T,MATCH(S10,referentes!T:T,0),1))","v":""},null,null,null,"","","","",6,"","","","",{"$f":"IF(A10=\"\",\"\",INDEX(ACTIVIDADES!D:G,MATCH(A10,ACTIVIDADES!G:G,0),1))","v":""},"","","",{"$f":"IF(A10=\"\",\"\",INDEX(ACTIVIDADES!D:I,MATCH(A10,ACTIVIDADES!G:G,0),4))","v":""},{"$f":"IF(E10=\"\",\"\",INDEX(referentes!AN:AQ,MATCH(E10,referentes!AQ:AQ,0),1))","v":""},{"$f":"IF(F10=\"\",\"\",INDEX(referentes!A:B,MATCH(F10,referentes!B:B,0),1))","v":""},{"$f":"IF(H10=\"\",\"\",INDEX(referentes!D:E,MATCH(H10,referentes!E:E,0),1))","v":""}]
[null,null,{"$f":"IF(B11=\"\",\"\",INDEX(referentes!J:K,MATCH(B11,referentes!K:K,0),1))","v":""},null,null,null,null,null,null,{"$f":"IF(I11=\"\",\"\",INDEX(referentes!G:H,MATCH(I11,referentes!H:H,0),1))","v":""},null,null,null,{"$f":"IF(O11=\"\",\"\",INDEX(referentes!AE:AF,MATCH(O11,referentes!AF:AF,0),1))","v":""},null,{"$f":"IF(Q11=\"\",\"\",INDEX(referentes!V:W,MATCH(Q11,referentes!W:W,0),1))","v":""},null,{"$f":"IF(S11=\"\",\"\",INDEX(referentes!S:T,MATCH(S11,referentes!T:T,0),1))","v":""},null,null,null,"","","","",7,"","","","",{"$f":"IF(A11=\"\",\"\",INDEX(ACTIVIDADES!D:G,MATCH(A11,ACTIVIDADES!G:G,0),1))","v":""},"","","",{"$f":"IF(A11=\"\",\"\",INDEX(ACTIVIDADES!D:I,MATCH(A11,ACTIVIDADES!G:G,0),4))","v":""},{"$f":"IF(E11=\"\",\"\",INDEX(referentes!AN:AQ,MATCH(E11,referentes!AQ:AQ,0),1))","v":""},{"$f":"IF(F11=\"\",\"\",INDEX(referentes!A:B,MATCH(F11,referentes!B:B,0),1))","v":""},{"$f":"IF(H11=\"\",\"\",INDEX(referentes!D:E,MATCH(H11,referentes!E:E,0),1))","v":""}]
[null,null,{"$f":"IF(B12=\"\",\"\",INDEX(referentes!J:K,MATCH(B12,referentes!K:K,0),1))","v":""},null,null,null,null,null,null,{"$f":"IF(I12=\"\",\"\",INDEX(referentes!G:H,MATCH(I12,referentes!H:H,0),1))","v":""},null,null,null,{"$f":"IF(O12=\"\",\"\",INDEX(referentes!AE:AF,MATCH(O12,referentes!AF:AF,0),1))","v":""},null,{"$f":"IF(Q12=\"\",\"\",INDEX(referentes!V:W,MATCH(Q12,referentes!W:W,0),1))","v":""},null,{"$f":"IF(S12=\"\",\"\",INDEX(referentes!S:T,MATCH(S12,referentes!T:T,0),1))","v":""},null,null,null,"","","","",8,"","","","",{"$f":"IF(A12=\"\",\"\",INDEX(ACTIVIDADES!D:G,MATCH(A12,ACTIVIDADES!G:G,0),1))","v":""},"","","",{"$f":"IF(A12=\"\",\"\",INDEX(ACTIVIDADES!D:I,MATCH(A12,ACTIVIDADES!G:G,0),4))","v":""},{"$f":"IF(E12=\"\",\"\",INDEX(referentes!AN:AQ,MATCH(E12,referentes!AQ:AQ,0),1))","v":""},{"$f":"IF(F12=\"\",\"\",INDEX(referentes!A:B,MATCH(F12,referentes!B:B,0),1))","v":""},{"$f":"IF(H12=\"\",\"\",INDEX(referentes!D:E,MATCH(H12,referentes!E:E,0),1))","v":""}]
[null,null,{"$f":"IF(B13=\"\",\"\",INDEX(referentes!J:K,MATCH(B13,referentes!K:K,0),1))","v":""},null,null,null,null,null,null,{"$f":"IF(I13=\"\",\"\",INDEX(referentes!G:H,MATCH(I13,referentes!H:H,0),1))","v":""},null,null,null,{"$f":"IF(O13=\"\",\"\",INDEX(referentes!AE:AF,MATCH(O13,referentes!AF:AF,0),1))","v":""},null,{"$f":"IF(Q13=\"\",\"\",INDEX(referentes!V:W,MATCH(Q13,referentes!W:W,0),1))","v":""},null,{"$f":"IF(S13=\"\",\"\",INDEX(referentes!S:T,MATCH(S13,referentes!T:T,0),1))","v":""},null,null,null,"","","","",9,"","","","",{"$f":"IF(A13=\"\",\"\",INDEX(ACTIVIDADES!D:G,MATCH(A13,ACTIVIDADES!G:G,0),1))","v":""},"","","",{"$f":"IF(A13=\"\",\"\",INDEX(ACTIVIDADES!D:I,MATCH(A13,ACTIVIDADES!G:G,0),4))","v":""},{"$f":"IF(E13=\"\",\"\",INDEX(referentes!AN:AQ,MATCH(E13,referentes!AQ:AQ,0),1))","v":""},{"$f":"IF(F13=\"\",\"\",INDEX(referentes!A:B,MATCH(F13,referentes!B:B,0),1))","v":""},{"$f":"IF(H13=\"\",\"\",INDEX(referentes!D:E,MATCH(H13,referentes!E:E,0),1))","v":""}]
[null,null,{"$f":"IF(B14=\"\",\"\",INDEX(referentes!J:K,MATCH(B14,referentes!K:K,0),1))","v":""},null,null,null,null,null,null,{"$f":"IF(I14=\"\",\"\",INDEX(referentes!G:H,MATCH(I14,referentes!H:H,0),1))","v":""},null,null,null,{"$f":"IF(O14=\"\",\"\",INDEX(referentes!AE:AF,MATCH(O14,referentes!AF:AF,0),1))","v":""},null,{"$f":"IF(Q14=\"\",\"\",INDEX(referentes!V:W,MATCH(Q14,referentes!W:W,0),1))","v":""},null,{"$f":"IF(S14=\"\",\"\",INDEX(referentes!S:T,MATCH(S14,referentes!T:T,0),1))","v":""},null,null,null,"","","","",10,"","","","",{"$f":"IF(A14=\"\",\"\",INDEX(ACTIVIDADES!D:G,MATCH(A14,ACTIVIDADES!G:G,0),1))","v":""},"","","",{"$f":"IF(A14=\"\",\"\",INDEX(ACTIVIDADES!D:I,MATCH(A14,ACTIVIDADES!G:G,0),4))","v":""},{"$f":"IF(E14=\"\",\"\",INDEX(referentes!AN:AQ,MATCH(E14,referentes!AQ:AQ,0),1))","v":""},{"$f":"IF(F14=\"\",\"\",INDEX(referentes!A:B,MATCH(F14,referentes!B:B,0),1))","v":""},{"$f":"IF(H14=\"\",\"\",INDEX(referentes!D:E,MATCH(H14,referentes!E:E,0),1))","v":""}]
[null,null,{"$f":"IF(B15=\"\",\"\",INDEX(referentes!J:K,MATCH(B15,referentes!K:K,0),1))","v":""},null,null,null,null,null,null,{"$f":"IF(I15=\"\",\"\",INDEX(referentes!G:H,MATCH(I15,referentes!H:H,0),1))","v":""},null,null,null,{"$f":"IF(O15=\"\",\"\",INDEX(referentes!AE:AF,MATCH(O15,referentes!AF:AF,0),1))","v":""},null,{"$f":"IF(Q15=\"\",\"\",INDEX(referentes!V:W,MATCH(Q15,referentes!W:W,0),1))","v":""},null,{"$f":"IF(S15=\"\",\"\",INDEX(referentes!S:T,MATCH(S15,referentes!T:T,0),1))","v":""},null,null,null,"","","","",11,"","","","",{"$f":"IF(A15=\"\",\"\",INDEX(ACTIVIDADES!D:G,MATCH(A15,ACTIVIDADES!G:G,0),1))","v":""},"","","",{"$f":"IF(A15=\"\",\"\",INDEX(ACTIVIDADES!D:I,MATCH(A15,ACTIVIDADES!G:G,0),4))","v":""},{"$f":"IF(E15=\"\",\"\",INDEX(referentes!AN:AQ,MATCH(E15,referentes!AQ:AQ,0),1))","v":""},{"$f":"IF(F15=\"\",\"\",INDEX(referentes!A:B,MATCH(F15,referentes!B:B,0),1))","v":""},{"$f":"IF(H15=\"\",\"\",INDEX(referentes!D:E,MATCH(H15,referentes!E:E,0),1))","v":""}]
[null,null,{"$f":"IF(B16=\"\",\"\",INDEX(referentes!J:K,MATCH(B16,referentes!K:K,0),1))","v":""},null,null,null,null,null,null,{"$f":"IF(I16=\"\",\"\",INDEX(referentes!G:H,MATCH(I16,referentes!H:H,0),1))","v":""},null,null,null,{"$f":"IF(O16=\"\",\"\",INDEX(referentes!AE:AF,MATCH(O16,referentes!AF:AF,0),1))","v":""},null,{"$f":"IF(Q16=\"\",\"\",INDEX(referentes!V:W,MATCH(Q16,referentes!W:W,0),1))","v":""},null,{"$f":"IF(S16=\"\",\"\",INDEX(referentes!S:T,MATCH(S16,referentes!T:T,0),1))","v":""},null,null,null,"","","","",12,"","","","",{"$f":"IF(A16=\"\",\"\",INDEX(ACTIVIDADES!D:G,MATCH(A16,ACTIVIDADES!G:G,0),1))","v":""},"","","",{"$f":"IF(A16=\"\",\"\",INDEX(ACTIVIDADES!D:I,MATCH(A16,ACTIVIDADES!G:G,0),4))","v":""},{"$f":"IF(E16=\"\",\"\",INDEX(referentes!AN:AQ,MATCH(E16,referentes!AQ:AQ,0),1))","v":""},{"$f":"IF(F16=\"\",\"\",INDEX(referentes!A:B,MATCH(F16,referentes!B:B,0),1))","v":""},{"$f":"IF(H16=\"\",\"\",INDEX(referentes!D:E,MATCH(H16,referentes!E:E,0),1))","v":""}]
[null,null,{"$f":"IF(B17=\"\",\"\",INDEX(referentes!J:K,MATCH(B17,referentes!K:K,0),1))","v":""},null,null,null,null,null,null,{"$f":"IF(I17=\"\",\"\",INDEX(referentes!G:H,MATCH(I17,referentes!H:H,0),1))","v":""},null,null,null,{"$f":"IF(O17=\"\",\"\",INDEX(referentes!AE:AF,MATCH(O17,referentes!AF:AF,0),1))","v":""},null,{"$f":"IF(Q17=\"\",\"\",INDEX(referentes!V:W,MATCH(Q17,referentes!W:W,0),1))","v":""},null,{"$f":"IF(S17=\"\",\"\",INDEX(referentes!S:T,MATCH(S17,referentes!T:T,0),1))","v":""},null,null,null,"","","","",13,"","","","",{"$f":"IF(A17=\"\",\"\",INDEX(ACTIVIDADES!D:G,MATCH(A17,ACTIVIDADES!G:G,0),1))","v":""},"","","",{"$f":"IF(A17=\"\",\"\",INDEX(ACTIVIDADES!D:I,MATCH(A17,ACTIVIDADES!G:G,0),4))","v":""},{"$f":"IF(E17=\"\",\"\",INDEX(referentes!AN:AQ,MATCH(E17,referentes!AQ:AQ,0),1))","v":""},{"$f":"IF(F17=\"\",\"\",INDEX(referentes!A:B,MATCH(F17,referentes!B:B,0),1))","v":""},{"$f":"IF(H17=\"\",\"\",INDEX(referentes!D:E,MATCH(H17,referentes!E:E,0),1))","v":""}]
[null,null,{"$f":"IF(B18=\"\",\"\",INDEX(referentes!J:K,MATCH(B18,referentes!K:K,0),1))","v":""},null,null,null,null,null,null,{"$f":"IF(I18=\"\",\"\",INDEX(referentes!G:H,MATCH(I18,referentes!H:H,0),1))","v":""},null,null,null,{"$f":"IF(O18=\"\",\"\",INDEX(referentes!AE:AF,MATCH(O18,referentes!AF:AF,0),1))","v":""},null,{"$f":"IF(Q18=\"\",\"\",INDEX(referentes!V:W,MATCH(Q18,referentes!W:W,0),1))","v":""},null,{"$f":"IF(S18=\"\",\"\",INDEX(referentes!S:T,MATCH(S18,referentes!T:T,0),1))","v":""},null,null,null,"","","","",14,"","","","",{"$f":"IF(A18=\"\",\"\",INDEX(ACTIVIDADES!D:G,MATCH(A18,ACTIVIDADES!G:G,0),1))","v":""},"","","",{"$f":"IF(A18=\"\",\"\",INDEX(ACTIVIDADES!D:I,MATCH(A18,ACTIVIDADES!G:G,0),4))","v":""},{"$f":"IF(E18=\"\",\"\",INDEX(referentes!AN:AQ,MATCH(E18,referentes!AQ:AQ,0),1))","v":""},{"$f":"IF(F18=\"\",\"\",INDEX(referentes!A:B,MATCH(F18,referentes!B:B,0),1))","v":""},{"$f":"IF(H18=\"\",\"\",INDEX(referentes!D:E,MATCH(H18,referentes!E:E,0),1))","v":""}]
[null,null,{"$f":"IF(B19=\"\",\"\",INDEX(referentes!J:K,MATCH(B19,referentes!K:K,0),1))","v":""},null,null,null,null,null,null,{"$f":"IF(I19=\"\",\"\",INDEX(referentes!G:H,MATCH(I19,referentes!H:H,0),1))","v":""},null,null,null,{"$f":"IF(O19=\"\",\"\",INDEX(referentes!AE:AF,MATCH(O19,referentes!AF:AF,0),1))","v":""},null,{"$f":"IF(Q19=\"\",\"\",INDEX(referentes!V:W,MATCH(Q19,referentes!W:W,0),1))","v":""},null,{"$f":"IF(S19=\"\",\"\",INDEX(referentes!S:T,MATCH(S19,referentes!T:T,0),1))","v":""},null,null,null,"","","","",15,"","","","",{"$f":"IF(A19=\"\",\"\",INDEX(ACTIVIDADES!D:G,MATCH(A19,ACTIVIDADES!G:G,0),1))","v":""},"","","",{"$f":"IF(A19=\"\",\"\",INDEX(ACTIVIDADES!D:I,MATCH(A19,ACTIVIDADES!G:G,0),4))","v":""},{"$f":"IF(E19=\"\",\"\",INDEX(referentes!AN:AQ,MATCH(E19,referentes!AQ:AQ,0),1))","v":""},{"$f":"IF(F19=\"\",\"\",INDEX(referentes!A:B,MATCH(F19,referentes!B:B,0),1))","v":""},{"$f":"IF(H19=\"\",\"\",INDEX(referentes!D:E,MATCH(H19,referentes!E:E,0),1))","v":""}]
[null,null,{"$f":"IF(B20=\"\",\"\",INDEX(referentes!J:K,MATCH(B20,referentes!K:K,0),1))","v":""},null,null,null,null,null,null,{"$f":"IF(I20=\"\",\"\",INDEX(referentes!G:H,MATCH(I20,referentes!H:H,0),1))","v":""},null,null,null,{"$f":"IF(O20=\"\",\"\",INDEX(referentes!AE:AF,MATCH(O20,referentes!AF:AF,0),1))","v":""},null,{"$f":"IF(Q20=\"\",\"\",INDEX(referentes!V:W,MATCH(Q20,referentes!W:W,0),1))","v":""},null,{"$f":"IF(S20=\"\",\"\",INDEX(referentes!S:T,MATCH(S20,referentes!T:T,0),1))","v":""},null,null,null,"","","","",16,"","","","",{"$f":"IF(A20=\"\",\"\",INDEX(ACTIVIDADES!D:G,MATCH(A20,ACTIVIDADES!G:G,0),1))","v":""},"","","",{"$f":"IF(A20=\"\",\"\",INDEX(ACTIVIDADES!D:I,MATCH(A20,ACTIVIDADES!G:G,0),4))","v":""},{"$f":"IF(E20=\"\",\"\",INDEX(referentes!AN:AQ,MATCH(E20,referentes!AQ:AQ,0),1))","v":""},{"$f":"IF(F20=\"\",\"\",INDEX(referentes!A:B,MATCH(F20,referentes!B:B,0),1))","v":""},{"$f":"IF(H20=\"\",\"\",INDEX(referentes!D:E,MATCH(H20,referentes!E:E,0),1))","v":""}]
[null,null,{"$f":"IF(B21=\"\",\"\",INDEX(referentes!J:K,MATCH(B21,referentes!K:K,0),1))","v":""},null,null,null,null,null,null,{"$f":"IF(I21=\"\",\"\",INDEX(referentes!G:H,MATCH(I21,referentes!H:H,0),1))","v":""},null,null,null,{"$f":"IF(O21=\"\",\"\",INDEX(referentes!AE:AF,MATCH(O21,referentes!AF:AF,0),1))","v":""},null,{"$f":"IF(Q21=\"\",\"\",INDEX(referentes!V:W,MATCH(Q21,referentes!W:W,0),1))","v":""},null,{"$f":"IF(S21=\"\",\"\",INDEX(referentes!S:T,MATCH(S21,referentes!T:T,0),1))","v":""},null,null,null,"","","","",17,"","","","",{"$f":"IF(A21=\"\",\"\",INDEX(ACTIVIDADES!D:G,MATCH(A21,ACTIVIDADES!G:G,0),1))","v":""},"","","",{"$f":"IF(A21=\"\",\"\",INDEX(ACTIVIDADES!D:I,MATCH(A21,ACTIVIDADES!G:G,0),4))","v":""},{"$f":"IF(E21=\"\",\"\",INDEX(referentes!AN:AQ,MATCH(E21,referentes!AQ:AQ,0),1))","v":""},{"$f":"IF(F21=\"\",\"\",INDEX(referentes!A:B,MATCH(F21,referentes!B:B,0),1))","v":""},{"$f":"IF(H21=\"\",\"\",INDEX(referentes!D:E,MATCH(H21,referentes!E:E,0),1))","v":""}]
[null,null,{"$f":"IF(B22=\"\",\"\",INDEX(referentes!J:K,MATCH(B22,referentes!K:K,0),1))","v":""},null,null,null,null,null,null,{"$f":"IF(I22=\"\",\"\",INDEX(referentes!G:H,MATCH(I22,referentes!H:H,0),1))","v":""},null,null,null,{"$f":"IF(O22=\"\",\"\",INDEX(referentes!AE:AF,MATCH(O22,referentes!AF:AF,0),1))","v":""},null,{"$f":"IF(Q22=\"\",\"\",INDEX(referentes!V:W,MATCH(Q22,referentes!W:W,0),1))","v":""},null,{"$f":"IF(S22=\"\",\"\",INDEX(referentes!S:T,MATCH(S22,referentes!T:T,0),1))","v":""},null,null,null,"","","","",18,"","","","",{"$f":"IF(A22=\"\",\"\",INDEX(ACTIVIDADES!D:G,MATCH(A22,ACTIVIDADES!G:G,0),1))","v":""},"","","",{"$f":"IF(A22=\"\",\"\",INDEX(ACTIVIDADES!D:I,MATCH(A22,ACTIVIDADES!G:G,0),4))","v":""},{"$f":"IF(E22=\"\",\"\",INDEX(referentes!AN:AQ,MATCH(E22,referentes!AQ:AQ,0),1))","v":""},{"$f":"IF(F22=\"\",\"\",INDEX(referentes!A:B,MATCH(F22,referentes!B:B,0),1))","v":""},{"$f":"IF(H22=\"\",\"\",INDEX(referentes!D:E,MATCH(H22,referentes!E:E,0),1))","v":""}]
[null,null,{"$f":"IF(B23=\"\",\"\",INDEX(referentes!J:K,MATCH(B23,referentes!K:K,0),1))","v":""},null,null,null,null,null,null,{"$f":"IF(I23=\"\",\"\",INDEX(referentes!G:H,MATCH(I23,referentes!H:H,0),1))","v":""},null,null,null,{"$f":"IF(O23=\"\",\"\",INDEX(referentes!AE:AF,MATCH(O23,referentes!AF:AF,0),1))","v":""},null,{"$f":"IF(Q23=\"\",\"\",INDEX(referentes!V:W,MATCH(Q23,referentes!W:W,0),1))","v":""},null,{"$f":"IF(S23=\"\",\"\",INDEX(referentes!S:T,MATCH(S23,referentes!T:T,0),1))","v":""},null,null,null,"","","","",19,"","","","",{"$f":"IF(A23=\"\",\"\",INDEX(ACTIVIDADES!D:G,MATCH(A23,ACTIVIDADES!G:G,0),1))","v":""},"","","",{"$f":"IF(A23=\"\",\"\",INDEX(ACTIVIDADES!D:I,MATCH(A23,ACTIVIDADES!G:G,0),4))","v":""},{"$f":"IF(E23=\"\",\"\",INDEX(referentes!AN:AQ,MATCH(E23,referentes!AQ:AQ,0),1))","v":""},{"$f":"IF(F23=\"\",\"\",INDEX(referentes!A:B,MATCH(F23,referentes!B:B,0),1))","v":""},{"$f":"IF(H23=\"\",\"\",INDEX(referentes!D:E,MATCH(H23,referentes!E:E,0),1))","v":""}]
[null,null,{"$f":"IF(B24=\"\",\"\",INDEX(referentes!J:K,MATCH(B24,referentes!K:K,0),1))","v":""},null,null,null,null,null,null,{"$f":"IF(I24=\"\",\"\",INDEX(referentes!G:H,MATCH(I24,referentes!H:H,0),1))","v":""},null,null,null,{"$f":"IF(O24=\"\",\"\",INDEX(referentes!AE:AF,MATCH(O24,referentes!AF:AF,0),1))","v":""},null,{"$f":"IF(Q24=\"\",\"\",INDEX(referentes!V:W,MATCH(Q24,referentes!W:W,0),1))","v":""},null,{"$f":"IF(S24=\"\",\"\",INDEX(referentes!S:T,MATCH(S24,referentes!T:T,0),1))","v":""},null,null,null,"","","","",20,"","","","",{"$f":"IF(A24=\"\",\"\",INDEX(ACTIVIDADES!D:G,MATCH(A24,ACTIVIDADES!G:G,0),1))","v":""},"","","",{"$f":"IF(A24=\"\",\"\",INDEX(ACTIVIDADES!D:I,MATCH(A24,ACTIVIDADES!G:G,0),4))","v":""},{"$f":"IF(E24=\"\",\"\",INDEX(referentes!AN:AQ,MATCH(E24,referentes!AQ:AQ,0),1))","v":""},{"$f":"IF(F24=\"\",\"\",INDEX(referentes!A:B,MATCH(F24,referentes!B:B,0),1))","v":""},{"$f":"IF(H24=\"\",\"\",INDEX(referentes!D:E,MATCH(H24,referentes!E:E,0),1))","v":""}]
[null,null,{"$f":"IF(B25=\"\",\"\",INDEX(referentes!J:K,MATCH(B25,referentes!K:K,0),1))","v":""},null,null,null,null,null,null,{"$f":"IF(I25=\"\",\"\",INDEX(referentes!G:H,MATCH(I25,referentes!H:H,0),1))","v":""},null,null,null,{"$f":"IF(O25=\"\",\"\",INDEX(referentes!AE:AF,MATCH(O25,referentes!AF:AF,0),1))","v":""},null,{"$f":"IF(Q25=\"\",\"\",INDEX(referentes!V:W,MATCH(Q25,referentes!W:W,0),1))","v":""},null,{"$f":"IF(S25=\"\",\"\",INDEX(referentes!S:T,MATCH(S25,referentes!T:T,0),1))","v":""},null,null,null,"","","","",21,"","","","",{"$f":"IF(A25=\"\",\"\",INDEX(ACTIVIDADES!D:G,MATCH(A25,ACTIVIDADES!G:G,0),1))","v":""},"","","",{"$f":"IF(A25=\"\",\"\",INDEX(ACTIVIDADES!D:I,MATCH(A25,ACTIVIDADES!G:G,0),4))","v":""},{"$f":"IF(E25=\"\",\"\",INDEX(referentes!AN:AQ,MATCH(E25,referentes!AQ:AQ,0),1))","v":""},{"$f":"IF(F25=\"\",\"\",INDEX(referentes!A:B,MATCH(F25,referentes!B:B,0),1))","v":""},{"$f":"IF(H25=\"\",\"\",INDEX(referentes!D:E,MATCH(H25,referentes!E:E,0),1))","v":""}]
[null,null,{"$f":"IF(B26=\"\",\"\",INDEX(referentes!J:K,MATCH(B26,referentes!K:K,0),1))","v":""},null,null,null,null,null,null,{"$f":"IF(I26=\"\",\"\",INDEX(referentes!G:H,MATCH(I26,referentes!H:H,0),1))","v":""},null,null,null,{"$f":"IF(O26=\"\",\"\",INDEX(referentes!AE:AF,MATCH(O26,referentes!AF:AF,0),1))","v":""},null,{"$f":"IF(Q26=\"\",\"\",INDEX(referentes!V:W,MATCH(Q26,referentes!W:W,0),1))","v":""},null,{"$f":"IF(S26=\"\",\"\",INDEX(referentes!S:T,MATCH(S26,referentes!T:T,0),1))","v":""},null,null,null,"","","","",22,"","","","",{"$f":"IF(A26=\"\",\"\",INDEX(ACTIVIDADES!D:G,MATCH(A26,ACTIVIDADES!G:G,0),1))","v":""},"","","",{"$f":"IF(A26=\"\",\"\",INDEX(ACTIVIDADES!D:I,MATCH(A26,ACTIVIDADES!G:G,0),4))","v":""},{"$f":"IF(E26=\"\",\"\",INDEX(referentes!AN:AQ,MATCH(E26,referentes!AQ:AQ,0),1))","v":""},{"$f":"IF(F26=\"\",\"\",INDEX(referentes!A:B,MATCH(F26,referentes!B:B,0),1))","v":""},{"$f":"IF(H26=\"\",\"\",INDEX(referentes!D:E,MATCH(H26,referentes!E:E,0),1))","v":""}]
[null,null,{"$f":"IF(B27=\"\",\"\",INDEX(referentes!J:K,MATCH(B27,referentes!K:K,0),1))","v":""},null,null,null,null,null,null,{"$f":"IF(I27=\"\",\"\",INDEX(referentes!G:H,MATCH(I27,referentes!H:H,0),1))","v":""},null,null,null,{"$f":"IF(O27=\"\",\"\",INDEX(referentes!AE:AF,MATCH(O27,referentes!AF:AF,0),1))","v":""},null,{"$f":"IF(Q27=\"\",\"\",INDEX(referentes!V:W,MATCH(Q27,referentes!W:W,0),1))","v":""},null,{"$f":"IF(S27=\"\",\"\",INDEX(referentes!S:T,MATCH(S27,referentes!T:T,0),1))","v":""},null,null,null,"","","","",23,"","","","",{"$f":"IF(A27=\"\",\"\",INDEX(ACTIVIDADES!D:G,MATCH(A27,ACTIVIDADES!G:G,0),1))","v":""},"","","",{"$f":"IF(A27=\"\",\"\",INDEX(ACTIVIDADES!D:I,MATCH(A27,ACTIVIDADES!G:G,0),4))","v":""},{"$f":"IF(E27=\"\",\"\",INDEX(referentes!AN:AQ,MATCH(E27,referentes!AQ:AQ,0),1))","v":""},{"$f":"IF(F27=\"\",\"\",INDEX(referentes!A:B,MATCH(F27,referentes!B:B,0),1))","v":""},{"$f":"IF(H27=\"\",\"\",INDEX(referentes!D:E,MATCH(H27,referentes!E:E,0),1))","v":""}]
[null,null,{"$f":"IF(B28=\"\",\"\",INDEX(referentes!J:K,MATCH(B28,referentes!K:K,0),1))","v":""},null,null,null,null,null,null,{"$f":"IF(I28=\"\",\"\",INDEX(referentes!G:H,MATCH(I28,referentes!H:H,0),1))","v":""},null,null,null,{"$f":"IF(O28=\"\",\"\",INDEX(referentes!AE:AF,MATCH(O28,referentes!AF:AF,0),1))","v":""},null,{"$f":"IF(Q28=\"\",\"\",INDEX(referentes!V:W,MATCH(Q28,referentes!W:W,0),1))","v":""},null,{"$f":"IF(S28=\"\",\"\",INDEX(referentes!S:T,MATCH(S28,referentes!T:T,0),1))","v":""},null,null,null,"","","","",24,"","","","",{"$f":"IF(A28=\"\",\"\",INDEX(ACTIVIDADES!D:G,MATCH(A28,ACTIVIDADES!G:G,0),1))","v":""},"","","",{"$f":"IF(A28=\"\",\"\",INDEX(ACTIVIDADES!D:I,MATCH(A28,ACTIVIDADES!G:G,0),4))","v":""},{"$f":"IF(E28=\"\",\"\",INDEX(referentes!AN:AQ,MATCH(E28,referentes!AQ:AQ,0),1))","v":""},{"$f":"IF(F28=\"\",\"\",INDEX(referentes!A:B,MATCH(F28,referentes!B:B,0),1))","v":""},{"$f":"IF(H28=\"\",\"\",INDEX(referentes!D:E,MATCH(H28,referentes!E:E,0),1))","v":""}]
[null,null,{"$f":"IF(B29=\"\",\"\",INDEX(referentes!J:K,MATCH(B29,referentes!K:K,0),1))","v":""},null,null,null,null,null,null,{"$f":"IF(I29=\"\",\"\",INDEX(referentes!G:H,MATCH(I29,referentes!H:H,0),1))","v":""},null,null,null,{"$f":"IF(O29=\"\",\"\",INDEX(referentes!AE:AF,MATCH(O29,referentes!AF:AF,0),1))","v":""},null,{"$f":"IF(Q29=\"\",\"\",INDEX(referentes!V:W,MATCH(Q29,referentes!W:W,0),1))","v":""},null,{"$f":"IF(S29=\"\",\"\",INDEX(referentes!S:T,MATCH(S29,referentes!T:T,0),1))","v":""},null,null,null,"","","","",25,"","","","",{"$f":"IF(A29=\"\",\"\",INDEX(ACTIVIDADES!D:G,MATCH(A29,ACTIVIDADES!G:G,0),1))","v":""},"","","",{"$f":"IF(A29=\"\",\"\",INDEX(ACTIVIDADES!D:I,MATCH(A29,ACTIVIDADES!G:G,0),4))","v":""},{"$f":"IF(E29=\"\",\"\",INDEX(referentes!AN:AQ,MATCH(E29,referentes!AQ:AQ,0),1))","v":""},{"$f":"IF(F29=\"\",\"\",INDEX(referentes!A:B,MATCH(F29,referentes!B:B,0),1))","v":""},{"$f":"IF(H29=\"\",\"\",INDEX(referentes!D:E,MATCH(H29,referentes!E:E,0),1))","v":""}]
[null,null,{"$f":"IF(B30=\"\",\"\",INDEX(referentes!J:K,MATCH(B30,referentes!K:K,0),1))","v":""},null,null,null,null,null,null,{"$f":"IF(I30=\"\",\"\",INDEX(referentes!G:H,MATCH(I30,referentes!H:H,0),1))","v":""},null,null,null,{"$f":"IF(O30=\"\",\"\",INDEX(referentes!AE:AF,MATCH(O30,referentes!AF:AF,0),1))","v":""},null,{"$f":"IF(Q30=\"\",\"\",INDEX(referentes!V:W,MATCH(Q30,referentes!W:W,0),1))","v":""},null,{"$f":"IF(S30=\"\",\"\",INDEX(referentes!S:T,MATCH(S30,referentes!T:T,0),1))","v":""},null,null,null,"","","","",26,"","","","",{"$f":"IF(A30=\"\",\"\",INDEX(ACTIVIDADES!D:G,MATCH(A30,ACTIVIDADES!G:G,0),1))","v":""},"","","",{"$f":"IF(A30=\"\",\"\",INDEX(ACTIVIDADES!D:I,MATCH(A30,ACTIVIDADES!G:G,0),4))","v":""},{"$f":"IF(E30=\"\",\"\",INDEX(referentes!AN:AQ,MATCH(E30,referentes!AQ:AQ,0),1))","v":""},{"$f":"IF(F30=\"\",\"\",INDEX(referentes!A:B,MATCH(F30,referentes!B:B,0),1))","v":""},{"$f":"IF(H30=\"\",\"\",INDEX(referentes!D:E,MATCH(H30,referentes!E:E,0),1))","v":""}]
[null,null,{"$f":"IF(B31=\"\",\"\",INDEX(referentes!J:K,MATCH(B31,referentes!K:K,0),1))","v":""},null,null,null,null,null,null,{"$f":"IF(I31=\"\",\"\",INDEX(referentes!G:H,MATCH(I31,referentes!H:H,0),1))","v":""},null,null,null,{"$f":"IF(O31=\"\",\"\",INDEX(referentes!AE:AF,MATCH(O31,referentes!AF:AF,0),1))","v":""},null,{"$f":"IF(Q31=\"\",\"\",INDEX(referentes!V:W,MATCH(Q31,referentes!W:W,0),1))","v":""},null,{"$f":"IF(S31=\"\",\"\",INDEX(referentes!S:T,MATCH(S31,referentes!T:T,0),1))","v":""},null,null,null,"","","","",27,"","","","",{"$f":"IF(A31=\"\",\"\",INDEX(ACTIVIDADES!D:G,MATCH(A31,ACTIVIDADES!G:G,0),1))","v":""},"","","",{"$f":"IF(A31=\"\",\"\",INDEX(ACTIVIDADES!D:I,MATCH(A31,ACTIVIDADES!G:G,0),4))","v":""},{"$f":"IF(E31=\"\",\"\",INDEX(referentes!AN:AQ,MATCH(E31,referentes!AQ:AQ,0),1))","v":""},{"$f":"IF(F31=\"\",\"\",INDEX(referentes!A:B,MATCH(F31,referentes!B:B,0),1))","v":""},{"$f":"IF(H31=\"\",\"\",INDEX(referentes!D:E,MATCH(H31,referentes!E:E,0),1))","v":""}]
[null,null,{"$f":"IF(B32=\"\",\"\",INDEX(referentes!J:K,MATCH(B32,referentes!K:K,0),1))","v":""},null,null,null,null,null,null,{"$f":"IF(I32=\"\",\"\",INDEX(referentes!G:H,MATCH(I32,referentes!H:H,0),1))","v":""},null,null,null,{"$f":"IF(O32=\"\",\"\",INDEX(referentes!AE:AF,MATCH(O32,referentes!AF:AF,0),1))","v":""},null,{"$f":"IF(Q32=\"\",\"\",INDEX(referentes!V:W,MATCH(Q32,referentes!W:W,0),1))","v":""},null,{"$f":"IF(S32=\"\",\"\",INDEX(referentes!S:T,MATCH(S32,referentes!T:T,0),1))","v":""},null,null,null,"","","","",28,"","","","",{"$f":"IF(A32=\"\",\"\",INDEX(ACTIVIDADES!D:G,MATCH(A32,ACTIVIDADES!G:G,0),1))","v":""},"","","",{"$f":"IF(A32=\"\",\"\",INDEX(ACTIVIDADES!D:I,MATCH(A32,ACTIVIDADES!G:G,0),4))","v":""},{"$f":"IF(E32=\"\",\"\",INDEX(referentes!AN:AQ,MATCH(E32,referentes!AQ:AQ,0),1))","v":""},{"$f":"IF(F32=\"\",\"\",INDEX(referentes!A:B,MATCH(F32,referentes!B:B,0),1))","v":""},{"$f":"IF(H32=\"\",\"\",INDEX(referentes!D:E,MATCH(H32,referentes!E:E,0),1))","v":""}]
[null,null,{"$f":"IF(B33=\"\",\"\",INDEX(referentes!J:K,MATCH(B33,referentes!K:K,0),1))","v":""},null,null,null,null,null,null,{"$f":"IF(I33=\"\",\"\",INDEX(referentes!G:H,MATCH(I33,referentes!H:H,0),1))","v":""},null,null,null,{"$f":"IF(O33=\"\",\"\",INDEX(referentes!AE:AF,MATCH(O33,referentes!AF:AF,0),1))","v":""},null,{"$f":"IF(Q33=\"\",\"\",INDEX(referentes!V:W,MATCH(Q33,referentes!W:W,0),1))","v":""},null,{"$f":"IF(S33=\"\",\"\",INDEX(referentes!S:T,MATCH(S33,referentes!T:T,0),1))","v":""},null,null,null,"","","","",29,"","","","",{"$f":"IF(A33=\"\",\"\",INDEX(ACTIVIDADES!D:G,MATCH(A33,ACTIVIDADES!G:G,0),1))","v":""},"","","",{"$f":"IF(A33=\"\",\"\",INDEX(ACTIVIDADES!D:I,MATCH(A33,ACTIVIDADES!G:G,0),4))","v":""},{"$f":"IF(E33=\"\",\"\",INDEX(referentes!AN:AQ,MATCH(E33,referentes!AQ:AQ,0),1))","v":""},{"$f":"IF(F33=\"\",\"\",INDEX(referentes!A:B,MATCH(F33,referentes!B:B,0),1))","v":""},{"$f":"IF(H33=\"\",\"\",INDEX(referentes!D:E,MATCH(H33,referentes!E:E,0),1))","v":""}]
[null,null,{"$f":"IF(B34=\"\",\"\",INDEX(referentes!J:K,MATCH(B34,referentes!K:K,0),1))","v":""},null,null,null,null,null,null,{"$f":"IF(I34=\"\",\"\",INDEX(referentes!G:H,MATCH(I34,referentes!H:H,0),1))","v":""},null,null,null,{"$f":"IF(O34=\"\",\"\",INDEX(referentes!AE:AF,MATCH(O34,referentes!AF:AF,0),1))","v":""},null,{"$f":"IF(Q34=\"\",\"\",INDEX(referentes!V:W,MATCH(Q34,referentes!W:W,0),1))","v":""},null,{"$f":"IF(S34=\"\",\"\",INDEX(referentes!S:T,MATCH(S34,referentes!T:T,0),1))","v":""},null,null,null,"","","","",30,"","","","",{"$f":"IF(A34=\"\",\"\",INDEX(ACTIVIDADES!D:G,MATCH(A34,ACTIVIDADES!G:G,0),1))","v":""},"","","",{"$f":"IF(A34=\"\",\"\",INDEX(ACTIVIDADES!D:I,MATCH(A34,ACTIVIDADES!G:G,0),4))","v":""},{"$f":"IF(E34=\"\",\"\",INDEX(referentes!AN:AQ,MATCH(E34,referentes!AQ:AQ,0),1))","v":""},{"$f":"IF(F34=\"\",\"\",INDEX(referentes!A:B,MATCH(F34,referentes!B:B,0),1))","v":""},{"$f":"IF(H34=\"\",\"\",INDEX(referentes!D:E,MATCH(H34,referentes!E:E,0),1))","v":""}]
[null,null,{"$f":"IF(B35=\"\",\"\",INDEX(referentes!J:K,MATCH(B35,referentes!K:K,0),1))","v":""},null,null,null,null,null,null,{"$f":"IF(I35=\"\",\"\",INDEX(referentes!G:H,MATCH(I35,referentes!H:H,0),1))","v":""},null,null,null,{"$f":"IF(O35=\"\",\"\",INDEX(referentes!AE:AF,MATCH(O35,referentes!AF:AF,0),1))","v":""},null,{"$f":"IF(Q35=\"\",\"\",INDEX(referentes!V:W,MATCH(Q35,referentes!W:W,0),1))","v":""},null,{"$f":"IF(S35=\"\",\"\",INDEX(referentes!S:T,MATCH(S35,referentes!T:T,0),1))","v":""},null,null,null,"","","","",31,"","","","",{"$f":"IF(A35=\"\",\"\",INDEX(ACTIVIDADES!D:G,MATCH(A35,ACTIVIDADES!G:G,0),1))","v":""},"","","",{"$f":"IF(A35=\"\",\"\",INDEX(ACTIVIDADES!D:I,MATCH(A35,ACTIVIDADES!G:G,0),4))","v":""},{"$f":"IF(E35=\"\",\"\",INDEX(referentes!AN:AQ,MATCH(E35,referentes!AQ:AQ,0),1))","v":""},{"$f":"IF(F35=\"\",\"\",INDEX(referentes!A:B,MATCH(F35,referentes!B:B,0),1))","v":""},{"$f":"IF(H35=\"\",\"\",INDEX(referentes!D:E,MATCH(H35,referentes!E:E,0),1))","v":""}]
[null,null,{"$f":"IF(B36=\"\",\"\",INDEX(referentes!J:K,MATCH(B36,referentes!K:K,0),1))","v":""},null,null,null,null,null,null,{"$f":"IF(I36=\"\",\"\",INDEX(referentes!G:H,MATCH(I36,referentes!H:H,0),1))","v":""},null,null,null,{"$f":"IF(O36=\"\",\"\",INDEX(referentes!AE:AF,MATCH(O36,referentes!AF:AF,0),1))","v":""},null,{"$f":"IF(Q36=\"\",\"\",INDEX(referentes!V:W,MATCH(Q36,referentes!W:W,0),1))","v":""},null,{"$f":"IF(S36=\"\",\"\",INDEX(referentes!S:T,MATCH(S36,referentes!T:T,0),1))","v":""},null,null,null,"","","","",32,"","","","",{"$f":"IF(A36=\"\",\"\",INDEX(ACTIVIDADES!D:G,MATCH(A36,ACTIVIDADES!G:G,0),1))","v":""},"","","",{"$f":"IF(A36=\"\",\"\",INDEX(ACTIVIDADES!D:I,MATCH(A36,ACTIVIDADES!G:G,0),4))","v":""},{"$f":"IF(E36=\"\",\"\",INDEX(referentes!AN:AQ,MATCH(E36,referentes!AQ:AQ,0),1))","v":""},{"$f":"IF(F36=\"\",\"\",INDEX(referentes!A:B,MATCH(F36,referentes!B:B,0),1))","v":""},{"$f":"IF(H36=\"\",\"\",INDEX(referentes!D:E,MATCH(H36,referentes!E:E,0),1))","v":""}]
[null,null,{"$f":"IF(B37=\"\",\"\",INDEX(referentes!J:K,MATCH(B37,referentes!K:K,0),1))","v":""},null,null,null,null,null,null,{"$f":"IF(I37=\"\",\"\",INDEX(referentes!G:H,MATCH(I37,referentes!H:H,0),1))","v":""},null,null,null,{"$f":"IF(O37=\"\",\"\",INDEX(referentes!AE:AF,MATCH(O37,referentes!AF:AF,0),1))","v":""},null,{"$f":"IF(Q37=\"\",\"\",INDEX(referentes!V:W,MATCH(Q37,referentes!W:W,0),1))","v":""},null,{"$f":"IF(S37=\"\",\"\",INDEX(referentes!S:T,MATCH(S37,referentes!T:T,0),1))","v":""},null,null,null,"","","","",33,"",{"$f":"IF(AA37=\"\",\"\",CONCATENATE(AA37,$AB$4))","v":""},"","",{"$f":"IF(A37=\"\",\"\",INDEX(ACTIVIDADES!D:G,MATCH(A37,ACTIVIDADES!G:G,0),1))","v":""},"","","",{"$f":"IF(A37=\"\",\"\",INDEX(ACTIVIDADES!D:I,MATCH(A37,ACTIVIDADES!G:G,0),4))","v":""},{"$f":"IF(E37=\"\",\"\",INDEX(referentes!AN:AQ,MATCH(E37,referentes!AQ:AQ,0),1))","v":""},{"$f":"IF(F37=\"\",\"\",INDEX(referentes!A:B,MATCH(F37,referentes!B:B,0),1))","v":""},{"$f":"IF(H37=\"\",\"\",INDEX(referentes!D:E,MATCH(H37,referentes!E:E,0),1))","v":""}]
[null,null,{"$f":"IF(B38=\"\",\"\",INDEX(referentes!J:K,MATCH(B38,referentes!K:K,0),1))","v":""},null,null,null,null,null,null,{"$f":"IF(I38=\"\",\"\",INDEX(referentes!G:H,MATCH(I38,referentes!H:H,0),1))","v":""},null,null,null,{"$f":"IF(O38=\"\",\"\",INDEX(referentes!AE:AF,MATCH(O38,referentes!AF:AF,0),1))","v":""},null,{"$f":"IF(Q38=\"\",\"\",INDEX(referentes!V:W,MATCH(Q38,referentes!W:W,0),1))","v":""},null,{"$f":"IF(S38=\"\",\"\",INDEX(referentes!S:T,MATCH(S38,referentes!T:T,0),1))","v":""},null,null,null,"","","","",34,"","","","",{"$f":"IF(A38=\"\",\"\",INDEX(ACTIVIDADES!D:G,MATCH(A38,ACTIVIDADES!G:G,0),1))","v":""},"","","",{"$f":"IF(A38=\"\",\"\",INDEX(ACTIVIDADES!D:I,MATCH(A38,ACTIVIDADES!G:G,0),4))","v":""},{"$f":"IF(E38=\"\",\"\",INDEX(referentes!AN:AQ,MATCH(E38,referentes!AQ:AQ,0),1))","v":""},{"$f":"IF(F38=\"\",\"\",INDEX(referentes!A:B,MATCH(F38,referentes!B:B,0),1))","v":""},{"$f":"IF(H38=\"\",\"\",INDEX(referentes!D:E,MATCH(H38,referentes!E:E,0),1))","v":""}]
[null,null,{"$f":"IF(B39=\"\",\"\",INDEX(referentes!J:K,MATCH(B39,referentes!K:K,0),1))","v":""},null,null,null,null,null,null,{"$f":"IF(I39=\"\",\"\",INDEX(referentes!G:H,MATCH(I39,referentes!H:H,0),1))","v":""},null,null,null,{"$f":"IF(O39=\"\",\"\",INDEX(referentes!AE:AF,MATCH(O39,referentes!AF:AF,0),1))","v":""},null,{"$f":"IF(Q39=\"\",\"\",INDEX(referentes!V:W,MATCH(Q39,referentes!W:W,0),1))","v":""},null,{"$f":"IF(S39=\"\",\"\",INDEX(referentes!S:T,MATCH(S39,referentes!T:T,0),1))","v":""},null,null,null,"","","","",35,"","","","",{"$f":"IF(A39=\"\",\"\",INDEX(ACTIVIDADES!D:G,MATCH(A39,ACTIVIDADES!G:G,0),1))","v":""},"","","",{"$f":"IF(A39=\"\",\"\",INDEX(ACTIVIDADES!D:I,MATCH(A39,ACTIVIDADES!G:G,0),4))","v":""},{"$f":"IF(E39=\"\",\"\",INDEX(referentes!AN:AQ,MATCH(E39,referentes!AQ:AQ,0),1))","v":""},{"$f":"IF(F39=\"\",\"\",INDEX(referentes!A:B,MATCH(F39,referentes!B:B,0),1))","v":""},{"$f":"IF(H39=\"\",\"\",INDEX(referentes!D:E,MATCH(H39,referentes!E:E,0),1))","v":""}]
[null,null,{"$f":"IF(B40=\"\",\"\",INDEX(referentes!J:K,MATCH(B40,referentes!K:K,0),1))","v":""},null,null,null,null,null,null,{"$f":"IF(I40=\"\",\"\",INDEX(referentes!G:H,MATCH(I40,referentes!H:H,0),1))","v":""},null,null,null,{"$f":"IF(O40=\"\",\"\",INDEX(referentes!AE:AF,MATCH(O40,referentes!AF:AF,0),1))","v":""},null,{"$f":"IF(Q40=\"\",\"\",INDEX(referentes!V:W,MATCH(Q40,referentes!W:W,0),1))","v":""},null,{"$f":"IF(S40=\"\",\"\",INDEX(referentes!S:T,MATCH(S40,referentes!T:T,0),1))","v":""},null,null,null,"","","","",36,"","","","",{"$f":"IF(A40=\"\",\"\",INDEX(ACTIVIDADES!D:G,MATCH(A40,ACTIVIDADES!G:G,0),1))","v":""},"","","",{"$f":"IF(A40=\"\",\"\",INDEX(ACTIVIDADES!D:I,MATCH(A40,ACTIVIDADES!G:G,0),4))","v":""},{"$f":"IF(E40=\"\",\"\",INDEX(referentes!AN:AQ,MATCH(E40,referentes!AQ:AQ,0),1))","v":""},{"$f":"IF(F40=\"\",\"\",INDEX(referentes!A:B,MATCH(F40,referentes!B:B,0),1))","v":""},{"$f":"IF(H40=\"\",\"\",INDEX(referentes!D:E,MATCH(H40,referentes!E:E,0),1))","v":""}]
[null,null,{"$f":"IF(B41=\"\",\"\",INDEX(referentes!J:K,MATCH(B41,referentes!K:K,0),1))","v":""},null,null,null,null,null,null,{"$f":"IF(I41=\"\",\"\",INDEX(referentes!G:H,MATCH(I41,referentes!H:H,0),1))","v":""},null,null,null,{"$f":"IF(O41=\"\",\"\",INDEX(referentes!AE:AF,MATCH(O41,referentes!AF:AF,0),1))","v":""},null,{"$f":"IF(Q41=\"\",\"\",INDEX(referentes!V:W,MATCH(Q41,referentes!W:W,0),1))","v":""},null,{"$f":"IF(S41=\"\",\"\",INDEX(referentes!S:T,MATCH(S41,referentes!T:T,0),1))","v":""},null,null,null,"","","","",37,"","","","",{"$f":"IF(A41=\"\",\"\",INDEX(ACTIVIDADES!D:G,MATCH(A41,ACTIVIDADES!G:G,0),1))","v":""},"","","",{"$f":"IF(A41=\"\",\"\",INDEX(ACTIVIDADES!D:I,MATCH(A41,ACTIVIDADES!G:G,0),4))","v":""},{"$f":"IF(E41=\"\",\"\",INDEX(referentes!AN:AQ,MATCH(E41,referentes!AQ:AQ,0),1))","v":""},{"$f":"IF(F41=\"\",\"\",INDEX(referentes!A:B,MATCH(F41,referentes!B:B,0),1))","v":""},{"$f":"IF(H41=\"\",\"\",INDEX(referentes!D:E,MATCH(H41,referentes!E:E,0),1))","v":""}]
[null,null,{"$f":"IF(B42=\"\",\"\",INDEX(referentes!J:K,MATCH(B42,referentes!K:K,0),1))","v":""},null,null,null,null,null,null,{"$f":"IF(I42=\"\",\"\",INDEX(referentes!G:H,MATCH(I42,referentes!H:H,0),1))","v":""},null,null,null,{"$f":"IF(O42=\"\",\"\",INDEX(referentes!AE:AF,MATCH(O42,referentes!AF:AF,0),1))","v":""},null,{"$f":"IF(Q42=\"\",\"\",INDEX(referentes!V:W,MATCH(Q42,referentes!W:W,0),1))","v":""},null,{"$f":"IF(S42=\"\",\"\",INDEX(referentes!S:T,MATCH(S42,referentes!T:T,0),1))","v":""},null,null,null,"","","","",38,"","","","",{"$f":"IF(A42=\"\",\"\",INDEX(ACTIVIDADES!D:G,MATCH(A42,ACTIVIDADES!G:G,0),1))","v":""},"","","",{"$f":"IF(A42=\"\",\"\",INDEX(ACTIVIDADES!D:I,MATCH(A42,ACTIVIDADES!G:G,0),4))","v":""},{"$f":"IF(E42=\"\",\"\",INDEX(referentes!AN:AQ,MATCH(E42,referentes!AQ:AQ,0),1))","v":""},{"$f":"IF(F42=\"\",\"\",INDEX(referentes!A:B,MATCH(F42,referentes!B:B,0),1))","v":""},{"$f":"IF(H42=\"\",\"\",INDEX(referentes!D:E,MATCH(H42,referentes!E:E,0),1))","v":""}]
[null,null,{"$f":"IF(B43=\"\",\"\",INDEX(referentes!J:K,MATCH(B43,referentes!K:K,0),1))","v":""},null,null,null,null,null,null,{"$f":"IF(I43=\"\",\"\",INDEX(referentes!G:H,MATCH(I43,referentes!H:H,0),1))","v":""},null,null,null,{"$f":"IF(O43=\"\",\"\",INDEX(referentes!AE:AF,MATCH(O43,referentes!AF:AF,0),1))","v":""},null,{"$f":"IF(Q43=\"\",\"\",INDEX(referentes!V:W,MATCH(Q43,referentes!W:W,0),1))","v":""},null,{"$f":"IF(S43=\"\",\"\",INDEX(referentes!S:T,MATCH(S43,referentes!T:T,0),1))","v":""},null,null,null,"","","","",39,"","","","",{"$f":"IF(A43=\"\",\"\",INDEX(ACTIVIDADES!D:G,MATCH(A43,ACTIVIDADES!G:G,0),1))","v":""},"","","",{"$f":"IF(A43=\"\",\"\",INDEX(ACTIVIDADES!D:I,MATCH(A43,ACTIVIDADES!G:G,0),4))","v":""},{"$f":"IF(E43=\"\",\"\",INDEX(referentes!AN:AQ,MATCH(E43,referentes!AQ:AQ,0),1))","v":""},{"$f":"IF(F43=\"\",\"\",INDEX(referentes!A:B,MATCH(F43,referentes!B:B,0),1))","v":""},{"$f":"IF(H43=\"\",\"\",INDEX(referentes!D:E,MATCH(H43,referentes!E:E,0),1))","v":""}]
[null,null,{"$f":"IF(B44=\"\",\"\",INDEX(referentes!J:K,MATCH(B44,referentes!K:K,0),1))","v":""},null,null,null,null,null,null,{"$f":"IF(I44=\"\",\"\",INDEX(referentes!G:H,MATCH(I44,referentes!H:H,0),1))","v":""},null,null,null,{"$f":"IF(O44=\"\",\"\",INDEX(referentes!AE:AF,MATCH(O44,referentes!AF:AF,0),1))","v":""},null,{"$f":"IF(Q44=\"\",\"\",INDEX(referentes!V:W,MATCH(Q44,referentes!W:W,0),1))","v":""},null,{"$f":"IF(S44=\"\",\"\",INDEX(referentes!S:T,MATCH(S44,referentes!T:T,0),1))","v":""},null,null,null,"","","","",40,"","","","",{"$f":"IF(A44=\"\",\"\",INDEX(ACTIVIDADES!D:G,MATCH(A44,ACTIVIDADES!G:G,0),1))","v":""},"","","",{"$f":"IF(A44=\"\",\"\",INDEX(ACTIVIDADES!D:I,MATCH(A44,ACTIVIDADES!G:G,0),4))","v":""},{"$f":"IF(E44=\"\",\"\",INDEX(referentes!AN:AQ,MATCH(E44,referentes!AQ:AQ,0),1))","v":""},{"$f":"IF(F44=\"\",\"\",INDEX(referentes!A:B,MATCH(F44,referentes!B:B,0),1))","v":""},{"$f":"IF(H44=\"\",\"\",INDEX(referentes!D:E,MATCH(H44,referentes!E:E,0),1))","v":""}]
[null,null,{"$f":"IF(B45=\"\",\"\",INDEX(referentes!J:K,MATCH(B45,referentes!K:K,0),1))","v":""},null,null,null,null,null,null,{"$f":"IF(I45=\"\",\"\",INDEX(referentes!G:H,MATCH(I45,referentes!H:H,0),1))","v":""},null,null,null,{"$f":"IF(O45=\"\",\"\",INDEX(referentes!AE:AF,MATCH(O45,referentes!AF:AF,0),1))","v":""},null,{"$f":"IF(Q45=\"\",\"\",INDEX(referentes!V:W,MATCH(Q45,referentes!W:W,0),1))","v":""},null,{"$f":"IF(S45=\"\",\"\",INDEX(referentes!S:T,MATCH(S45,referentes!T:T,0),1))","v":""},null,null,null,"","","","",41,"","","","",{"$f":"IF(A45=\"\",\"\",INDEX(ACTIVIDADES!D:G,MATCH(A45,ACTIVIDADES!G:G,0),1))","v":""},"","","",{"$f":"IF(A45=\"\",\"\",INDEX(ACTIVIDADES!D:I,MATCH(A45,ACTIVIDADES!G:G,0),4))","v":""},{"$f":"IF(E45=\"\",\"\",INDEX(referentes!AN:AQ,MATCH(E45,referentes!AQ:AQ,0),1))","v":""},{"$f":"IF(F45=\"\",\"\",INDEX(referentes!A:B,MATCH(F45,referentes!B:B,0),1))","v":""},{"$f":"IF(H45=\"\",\"\",INDEX(referentes!D:E,MATCH(H45,referentes!E:E,0),1))","v":""}]
[null,null,{"$f":"IF(B46=\"\",\"\",INDEX(referentes!J:K,MATCH(B46,referentes!K:K,0),1))","v":""},null,null,null,null,null,null,{"$f":"IF(I46=\"\",\"\",INDEX(referentes!G:H,MATCH(I46,referentes!H:H,0),1))","v":""},null,null,null,{"$f":"IF(O46=\"\",\"\",INDEX(referentes!AE:AF,MATCH(O46,referentes!AF:AF,0),1))","v":""},null,{"$f":"IF(Q46=\"\",\"\",INDEX(referentes!V:W,MATCH(Q46,referentes!W:W,0),1))","v":""},null,{"$f":"IF(S46=\"\",\"\",INDEX(referentes!S:T,MATCH(S46,referentes!T:T,0),1))","v":""},null,null,null,"","","","",42,"","","","",{"$f":"IF(A46=\"\",\"\",INDEX(ACTIVIDADES!D:G,MATCH(A46,ACTIVIDADES!G:G,0),1))","v":""},"","","",{"$f":"IF(A46=\"\",\"\",INDEX(ACTIVIDADES!D:I,MATCH(A46,ACTIVIDADES!G:G,0),4))","v":""},{"$f":"IF(E46=\"\",\"\",INDEX(referentes!AN:AQ,MATCH(E46,referentes!AQ:AQ,0),1))","v":""},{"$f":"IF(F46=\"\",\"\",INDEX(referentes!A:B,MATCH(F46,referentes!B:B,0),1))","v":""},{"$f":"IF(H46=\"\",\"\",INDEX(referentes!D:E,MATCH(H46,referentes!E:E,0),1))","v":""}]
[null,null,{"$f":"IF(B47=\"\",\"\",INDEX(referentes!J:K,MATCH(B47,referentes!K:K,0),1))","v":""},null,null,null,null,null,null,{"$f":"IF(I47=\"\",\"\",INDEX(referentes!G:H,MATCH(I47,referentes!H:H,0),1))","v":""},null,null,null,{"$f":"IF(O47=\"\",\"\",INDEX(referentes!AE:AF,MATCH(O47,referentes!AF:AF,0),1))","v":""},null,{"$f":"IF(Q47=\"\",\"\",INDEX(referentes!V:W,MATCH(Q47,referentes!W:W,0),1))","v":""},null,{"$f":"IF(S47=\"\",\"\",INDEX(referentes!S:T,MATCH(S47,referentes!T:T,0),1))","v":""},null,null,null,"","","","",43,"","","","",{"$f":"IF(A47=\"\",\"\",INDEX(ACTIVIDADES!D:G,MATCH(A47,ACTIVIDADES!G:G,0),1))","v":""},"","","",{"$f":"IF(A47=\"\",\"\",INDEX(ACTIVIDADES!D:I,MATCH(A47,ACTIVIDADES!G:G,0),4))","v":""},{"$f":"IF(E47=\"\",\"\",INDEX(referentes!AN:AQ,MATCH(E47,referentes!AQ:AQ,0),1))","v":""},{"$f":"IF(F47=\"\",\"\",INDEX(referentes!A:B,MATCH(F47,referentes!B:B,0),1))","v":""},{"$f":"IF(H47=\"\",\"\",INDEX(referentes!D:E,MATCH(H47,referentes!E:E,0),1))","v":""}]
[null,null,{"$f":"IF(B48=\"\",\"\",INDEX(referentes!J:K,MATCH(B48,referentes!K:K,0),1))","v":""},null,null,null,null,null,null,{"$f":"IF(I48=\"\",\"\",INDEX(referentes!G:H,MATCH(I48,referentes!H:H,0),1))","v":""},null,null,null,{"$f":"IF(O48=\"\",\"\",INDEX(referentes!AE:AF,MATCH(O48,referentes!AF:AF,0),1))","v":""},null,{"$f":"IF(Q48=\"\",\"\",INDEX(referentes!V:W,MATCH(Q48,referentes!W:W,0),1))","v":""},null,{"$f":"IF(S48=\"\",\"\",INDEX(referentes!S:T,MATCH(S48,referentes!T:T,0),1))","v":""},null,null,null,"","","","",44,"","","","",{"$f":"IF(A48=\"\",\"\",INDEX(ACTIVIDADES!D:G,MATCH(A48,ACTIVIDADES!G:G,0),1))","v":""},"","","",{"$f":"IF(A48=\"\",\"\",INDEX(ACTIVIDADES!D:I,MATCH(A48,ACTIVIDADES!G:G,0),4))","v":""},{"$f":"IF(E48=\"\",\"\",INDEX(referentes!AN:AQ,MATCH(E48,referentes!AQ:AQ,0),1))","v":""},{"$f":"IF(F48=\"\",\"\",INDEX(referentes!A:B,MATCH(F48,referentes!B:B,0),1))","v":""},{"$f":"IF(H48=\"\",\"\",INDEX(referentes!D:E,MATCH(H48,referentes!E:E,0),1))","v":""}]
[null,null,{"$f":"IF(B49=\"\",\"\",INDEX(referentes!J:K,MATCH(B49,referentes!K:K,0),1))","v":""},null,null,null,null,null,null,{"$f":"IF(I49=\"\",\"\",INDEX(referentes!G:H,MATCH(I49,referentes!H:H,0),1))","v":""},null,null,null,{"$f":"IF(O49=\"\",\"\",INDEX(referentes!AE:AF,MATCH(O49,referentes!AF:AF,0),1))","v":""},null,{"$f":"IF(Q49=\"\",\"\",INDEX(referentes!V:W,MATCH(Q49,referentes!W:W,0),1))","v":""},null,{"$f":"IF(S49=\"\",\"\",INDEX(referentes!S:T,MATCH(S49,referentes!T:T,0),1))","v":""},null,null,null,"","","","",45,"","","","",{"$f":"IF(A49=\"\",\"\",INDEX(ACTIVIDADES!D:G,MATCH(A49,ACTIVIDADES!G:G,0),1))","v":""},"","","",{"$f":"IF(A49=\"\",\"\",INDEX(ACTIVIDADES!D:I,MATCH(A49,ACTIVIDADES!G:G,0),4))","v":""},{"$f":"IF(E49=\"\",\"\",INDEX(referentes!AN:AQ,MATCH(E49,referentes!AQ:AQ,0),1))","v":""},{"$f":"IF(F49=\"\",\"\",INDEX(referentes!A:B,MATCH(F49,referentes!B:B,0),1))","v":""},{"$f":"IF(H49=\"\",\"\",INDEX(referentes!D:E,MATCH(H49,referentes!E:E,0),1))","v":""}]
[null,null,{"$f":"IF(B50=\"\",\"\",INDEX(referentes!J:K,MATCH(B50,referentes!K:K,0),1))","v":""},null,null,null,null,null,null,{"$f":"IF(I50=\"\",\"\",INDEX(referentes!G:H,MATCH(I50,referentes!H:H,0),1))","v":""},null,null,null,{"$f":"IF(O50=\"\",\"\",INDEX(referentes!AE:AF,MATCH(O50,referentes!AF:AF,0),1))","v":""},null,{"$f":"IF(Q50=\"\",\"\",INDEX(referentes!V:W,MATCH(Q50,referentes!W:W,0),1))","v":""},null,{"$f":"IF(S50=\"\",\"\",INDEX(referentes!S:T,MATCH(S50,referentes!T:T,0),1))","v":""},null,null,null,"","","","",46,"","","","",{"$f":"IF(A50=\"\",\"\",INDEX(ACTIVIDADES!D:G,MATCH(A50,ACTIVIDADES!G:G,0),1))","v":""},"","","",{"$f":"IF(A50=\"\",\"\",INDEX(ACTIVIDADES!D:I,MATCH(A50,ACTIVIDADES!G:G,0),4))","v":""},{"$f":"IF(E50=\"\",\"\",INDEX(referentes!AN:AQ,MATCH(E50,referentes!AQ:AQ,0),1))","v":""},{"$f":"IF(F50=\"\",\"\",INDEX(referentes!A:B,MATCH(F50,referentes!B:B,0),1))","v":""},{"$f":"IF(H50=\"\",\"\",INDEX(referentes!D:E,MATCH(H50,referentes!E:E,0),1))","v":""}]
[null,null,{"$f":"IF(B51=\"\",\"\",INDEX(referentes!J:K,MATCH(B51,referentes!K:K,0),1))","v":""},null,null,null,null,null,null,{"$f":"IF(I51=\"\",\"\",INDEX(referentes!G:H,MATCH(I51,referentes!H:H,0),1))","v":""},null,null,null,{"$f":"IF(O51=\"\",\"\",INDEX(referentes!AE:AF,MATCH(O51,referentes!AF:AF,0),1))","v":""},null,{"$f":"IF(Q51=\"\",\"\",INDEX(referentes!V:W,MATCH(Q51,referentes!W:W,0),1))","v":""},null,{"$f":"IF(S51=\"\",\"\",INDEX(referentes!S:T,MATCH(S51,referentes!T:T,0),1))","v":""},null,null,null,"","","","",47,"","","","",{"$f":"IF(A51=\"\",\"\",INDEX(ACTIVIDADES!D:G,MATCH(A51,ACTIVIDADES!G:G,0),1))","v":""},"","","",{"$f":"IF(A51=\"\",\"\",INDEX(ACTIVIDADES!D:I,MATCH(A51,ACTIVIDADES!G:G,0),4))","v":""},{"$f":"IF(E51=\"\",\"\",INDEX(referentes!AN:AQ,MATCH(E51,referentes!AQ:AQ,0),1))","v":""},{"$f":"IF(F51=\"\",\"\",INDEX(referentes!A:B,MATCH(F51,referentes!B:B,0),1))","v":""},{"$f":"IF(H51=\"\",\"\",INDEX(referentes!D:E,MATCH(H51,referentes!E:E,0),1))","v":""}]
[null,null,{"$f":"IF(B52=\"\",\"\",INDEX(referentes!J:K,MATCH(B52,referentes!K:K,0),1))","v":""},null,null,null,null,null,null,{"$f":"IF(I52=\"\",\"\",INDEX(referentes!G:H,MATCH(I52,referentes!H:H,0),1))","v":""},null,null,null,{"$f":"IF(O52=\"\",\"\",INDEX(referentes!AE:AF,MATCH(O52,referentes!AF:AF,0),1))","v":""},null,{"$f":"IF(Q52=\"\",\"\",INDEX(referentes!V:W,MATCH(Q52,referentes!W:W,0),1))","v":""},null,{"$f":"IF(S52=\"\",\"\",INDEX(referentes!S:T,MATCH(S52,referentes!T:T,0),1))","v":""},null,null,null,"","","","",48,"","","","",{"$f":"IF(A52=\"\",\"\",INDEX(ACTIVIDADES!D:G,MATCH(A52,ACTIVIDADES!G:G,0),1))","v":""},"","","",{"$f":"IF(A52=\"\",\"\",INDEX(ACTIVIDADES!D:I,MATCH(A52,ACTIVIDADES!G:G,0),4))","v":""},{"$f":"IF(E52=\"\",\"\",INDEX(referentes!AN:AQ,MATCH(E52,referentes!AQ:AQ,0),1))","v":""},{"$f":"IF(F52=\"\",\"\",INDEX(referentes!A:B,MATCH(F52,referentes!B:B,0),1))","v":""},{"$f":"IF(H52=\"\",\"\",INDEX(referentes!D:E,MATCH(H52,referentes!E:E,0),1))","v":""}]
[null,null,{"$f":"IF(B53=\"\",\"\",INDEX(referentes!J:K,MATCH(B53,referentes!K:K,0),1))","v":""},null,null,null,null,null,null,{"$f":"IF(I53=\"\",\"\",INDEX(referentes!G:H,MATCH(I53,referentes!H:H,0),1))","v":""},null,null,null,{"$f":"IF(O53=\"\",\"\",INDEX(referentes!AE:AF,MATCH(O53,referentes!AF:AF,0),1))","v":""},null,{"$f":"IF(Q53=\"\",\"\",INDEX(referentes!V:W,MATCH(Q53,referentes!W:W,0),1))","v":""},null,{"$f":"IF(S53=\"\",\"\",INDEX(referentes!S:T,MATCH(S53,referentes!T:T,0),1))","v":""},null,null,null,"","","","",49,"","","","",{"$f":"IF(A53=\"\",\"\",INDEX(ACTIVIDADES!D:G,MATCH(A53,ACTIVIDADES!G:G,0),1))","v":""},"","","",{"$f":"IF(A53=\"\",\"\",INDEX(ACTIVIDADES!D:I,MATCH(A53,ACTIVIDADES!G:G,0),4))","v":""},{"$f":"IF(E53=\"\",\"\",INDEX(referentes!AN:AQ,MATCH(E53,referentes!AQ:AQ,0),1))","v":""},{"$f":"IF(F53=\"\",\"\",INDEX(referentes!A:B,MATCH(F53,referentes!B:B,0),1))","v":""},{"$f":"IF(H53=\"\",\"\",INDEX(referentes!D:E,MATCH(H53,referentes!E:E,0),1))","v":""}]
[null,null,{"$f":"IF(B54=\"\",\"\",INDEX(referentes!J:K,MATCH(B54,referentes!K:K,0),1))","v":""},null,null,null,null,null,null,{"$f":"IF(I54=\"\",\"\",INDEX(referentes!G:H,MATCH(I54,referentes!H:H,0),1))","v":""},null,null,null,{"$f":"IF(O54=\"\",\"\",INDEX(referentes!AE:AF,MATCH(O54,referentes!AF:AF,0),1))","v":""},null,{"$f":"IF(Q54=\"\",\"\",INDEX(referentes!V:W,MATCH(Q54,referentes!W:W,0),1))","v":""},null,{"$f":"IF(S54=\"\",\"\",INDEX(referentes!S:T,MATCH(S54,referentes!T:T,0),1))","v":""},null,null,null,"","","","",50,"","","","",{"$f":"IF(A54=\"\",\"\",INDEX(ACTIVIDADES!D:G,MATCH(A54,ACTIVIDADES!G:G,0),1))","v":""},"","","",{"$f":"IF(A54=\"\",\"\",INDEX(ACTIVIDADES!D:I,MATCH(A54,ACTIVIDADES!G:G,0),4))","v":""},{"$f":"IF(E54=\"\",\"\",INDEX(referentes!AN:AQ,MATCH(E54,referentes!AQ:AQ,0),1))","v":""},{"$f":"IF(F54=\"\",\"\",INDEX(referentes!A:B,MATCH(F54,referentes!B:B,0),1))","v":""},{"$f":"IF(H54=\"\",\"\",INDEX(referentes!D:E,MATCH(H54,referentes!E:E,0),1))","v":""}]
[null,null,{"$f":"IF(B55=\"\",\"\",INDEX(referentes!J:K,MATCH(B55,referentes!K:K,0),1))","v":""},null,null,null,null,null,null,{"$f":"IF(I55=\"\",\"\",INDEX(referentes!G:H,MATCH(I55,referentes!H:H,0),1))","v":""},null,null,null,{"$f":"IF(O55=\"\",\"\",INDEX(referentes!AE:AF,MATCH(O55,referentes!AF:AF,0),1))","v":""},null,{"$f":"IF(Q55=\"\",\"\",INDEX(referentes!V:W,MATCH(Q55,referentes!W:W,0),1))","v":""},null,{"$f":"IF(S55=\"\",\"\",INDEX(referentes!S:T,MATCH(S55,referentes!T:T,0),1))","v":""},null,null,null,"","","","",51,"","","","",{"$f":"IF(A55=\"\",\"\",INDEX(ACTIVIDADES!D:G,MATCH(A55,ACTIVIDADES!G:G,0),1))","v":""},"","","",{"$f":"IF(A55=\"\",\"\",INDEX(ACTIVIDADES!D:I,MATCH(A55,ACTIVIDADES!G:G,0),4))","v":""},{"$f":"IF(E55=\"\",\"\",INDEX(referentes!AN:AQ,MATCH(E55,referentes!AQ:AQ,0),1))","v":""},{"$f":"IF(F55=\"\",\"\",INDEX(referentes!A:B,MATCH(F55,referentes!B:B,0),1))","v":""},{"$f":"IF(H55=\"\",\"\",INDEX(referentes!D:E,MATCH(H55,referentes!E:E,0),1))","v":""}]
[null,null,{"$f":"IF(B56=\"\",\"\",INDEX(referentes!J:K,MATCH(B56,referentes!K:K,0),1))","v":""},null,null,null,null,null,null,{"$f":"IF(I56=\"\",\"\",INDEX(referentes!G:H,MATCH(I56,referentes!H:H,0),1))","v":""},null,null,null,{"$f":"IF(O56=\"\",\"\",INDEX(referentes!AE:AF,MATCH(O56,referentes!AF:AF,0),1))","v":""},null,{"$f":"IF(Q56=\"\",\"\",INDEX(referentes!V:W,MATCH(Q56,referentes!W:W,0),1))","v":""},null,{"$f":"IF(S56=\"\",\"\",INDEX(referentes!S:T,MATCH(S56,referentes!T:T,0),1))","v":""},null,null,null,"","","","",52,"","","","",{"$f":"IF(A56=\"\",\"\",INDEX(ACTIVIDADES!D:G,MATCH(A56,ACTIVIDADES!G:G,0),1))","v":""},"","","",{"$f":"IF(A56=\"\",\"\",INDEX(ACTIVIDADES!D:I,MATCH(A56,ACTIVIDADES!G:G,0),4))","v":""},{"$f":"IF(E56=\"\",\"\",INDEX(referentes!AN:AQ,MATCH(E56,referentes!AQ:AQ,0),1))","v":""},{"$f":"IF(F56=\"\",\"\",INDEX(referentes!A:B,MATCH(F56,referentes!B:B,0),1))","v":""},{"$f":"IF(H56=\"\",\"\",INDEX(referentes!D:E,MATCH(H56,referentes!E:E,0),1))","v":""}]
[null,null,{"$f":"IF(B57=\"\",\"\",INDEX(referentes!J:K,MATCH(B57,referentes!K:K,0),1))","v":""},null,null,null,null,null,null,{"$f":"IF(I57=\"\",\"\",INDEX(referentes!G:H,MATCH(I57,referentes!H:H,0),1))","v":""},null,null,null,{"$f":"IF(O57=\"\",\"\",INDEX(referentes!AE:AF,MATCH(O57,referentes!AF:AF,0),1))","v":""},null,{"$f":"IF(Q57=\"\",\"\",INDEX(referentes!V:W,MATCH(Q57,referentes!W:W,0),1))","v":""},null,{"$f":"IF(S57=\"\",\"\",INDEX(referentes!S:T,MATCH(S57,referentes!T:T,0),1))","v":""},null,null,null,"","","","",53,"","","","",{"$f":"IF(A57=\"\",\"\",INDEX(ACTIVIDADES!D:G,MATCH(A57,ACTIVIDADES!G:G,0),1))","v":""},"","","",{"$f":"IF(A57=\"\",\"\",INDEX(ACTIVIDADES!D:I,MATCH(A57,ACTIVIDADES!G:G,0),4))","v":""},{"$f":"IF(E57=\"\",\"\",INDEX(referentes!AN:AQ,MATCH(E57,referentes!AQ:AQ,0),1))","v":""},{"$f":"IF(F57=\"\",\"\",INDEX(referentes!A:B,MATCH(F57,referentes!B:B,0),1))","v":""},{"$f":"IF(H57=\"\",\"\",INDEX(referentes!D:E,MATCH(H57,referentes!E:E,0),1))","v":""}]
[null,null,{"$f":"IF(B58=\"\",\"\",INDEX(referentes!J:K,MATCH(B58,referentes!K:K,0),1))","v":""},null,null,null,null,null,null,{"$f":"IF(I58=\"\",\"\",INDEX(referentes!G:H,MATCH(I58,referentes!H:H,0),1))","v":""},null,null,null,{"$f":"IF(O58=\"\",\"\",INDEX(referentes!AE:AF,MATCH(O58,referentes!AF:AF,0),1))","v":""},null,{"$f":"IF(Q58=\"\",\"\",INDEX(referentes!V:W,MATCH(Q58,referentes!W:W,0),1))","v":""},null,{"$f":"IF(S58=\"\",\"\",INDEX(referentes!S:T,MATCH(S58,referentes!T:T,0),1))","v":""},null,null,null,"","","","",54,"","","","",{"$f":"IF(A58=\"\",\"\",INDEX(ACTIVIDADES!D:G,MATCH(A58,ACTIVIDADES!G:G,0),1))","v":""},"","","",{"$f":"IF(A58=\"\",\"\",INDEX(ACTIVIDADES!D:I,MATCH(A58,ACTIVIDADES!G:G,0),4))","v":""},{"$f":"IF(E58=\"\",\"\",INDEX(referentes!AN:AQ,MATCH(E58,referentes!AQ:AQ,0),1))","v":""},{"$f":"IF(F58=\"\",\"\",INDEX(referentes!A:B,MATCH(F58,referentes!B:B,0),1))","v":""},{"$f":"IF(H58=\"\",\"\",INDEX(referentes!D:E,MATCH(H58,referentes!E:E,0),1))","v":""}]
[null,null,{"$f":"IF(B59=\"\",\"\",INDEX(referentes!J:K,MATCH(B59,referentes!K:K,0),1))","v":""},null,null,null,null,null,null,{"$f":"IF(I59=\"\",\"\",INDEX(referentes!G:H,MATCH(I59,referentes!H:H,0),1))","v":""},null,null,null,{"$f":"IF(O59=\"\",\"\",INDEX(referentes!AE:AF,MATCH(O59,referentes!AF:AF,0),1))","v":""},null,{"$f":"IF(Q59=\"\",\"\",INDEX(referentes!V:W,MATCH(Q59,referentes!W:W,0),1))","v":""},null,{"$f":"IF(S59=\"\",\"\",INDEX(referentes!S:T,MATCH(S59,referentes!T:T,0),1))","v":""},null,null,null,"","","","",55,"","","","",{"$f":"IF(A59=\"\",\"\",INDEX(ACTIVIDADES!D:G,MATCH(A59,ACTIVIDADES!G:G,0),1))","v":""},"","","",{"$f":"IF(A59=\"\",\"\",INDEX(ACTIVIDADES!D:I,MATCH(A59,ACTIVIDADES!G:G,0),4))","v":""},{"$f":"IF(E59=\"\",\"\",INDEX(referentes!AN:AQ,MATCH(E59,referentes!AQ:AQ,0),1))","v":""},{"$f":"IF(F59=\"\",\"\",INDEX(referentes!A:B,MATCH(F59,referentes!B:B,0),1))","v":""},{"$f":"IF(H59=\"\",\"\",INDEX(referentes!D:E,MATCH(H59,referentes!E:E,0),1))","v":""}]
[null,null,{"$f":"IF(B60=\"\",\"\",INDEX(referentes!J:K,MATCH(B60,referentes!K:K,0),1))","v":""},null,null,null,null,null,null,{"$f":"IF(I60=\"\",\"\",INDEX(referentes!G:H,MATCH(I60,referentes!H:H,0),1))","v":""},null,null,null,{"$f":"IF(O60=\"\",\"\",INDEX(referentes!AE:AF,MATCH(O60,referentes!AF:AF,0),1))","v":""},null,{"$f":"IF(Q60=\"\",\"\",INDEX(referentes!V:W,MATCH(Q60,referentes!W:W,0),1))","v":""},null,{"$f":"IF(S60=\"\",\"\",INDEX(referentes!S:T,MATCH(S60,referentes!T:T,0),1))","v":""},null,null,null,"","","","",56,"","","","",{"$f":"IF(A60=\"\",\"\",INDEX(ACTIVIDADES!D:G,MATCH(A60,ACTIVIDADES!G:G,0),1))","v":""},"","","",{"$f":"IF(A60=\"\",\"\",INDEX(ACTIVIDADES!D:I,MATCH(A60,ACTIVIDADES!G:G,0),4))","v":""},{"$f":"IF(E60=\"\",\"\",INDEX(referentes!AN:AQ,MATCH(E60,referentes!AQ:AQ,0),1))","v":""},{"$f":"IF(F60=\"\",\"\",INDEX(referentes!A:B,MATCH(F60,referentes!B:B,0),1))","v":""},{"$f":"IF(H60=\"\",\"\",INDEX(referentes!D:E,MATCH(H60,referentes!E:E,0),1))","v":""}]
[null,null,{"$f":"IF(B61=\"\",\"\",INDEX(referentes!J:K,MATCH(B61,referentes!K:K,0),1))","v":""},null,null,null,null,null,null,{"$f":"IF(I61=\"\",\"\",INDEX(referentes!G:H,MATCH(I61,referentes!H:H,0),1))","v":""},null,null,null,{"$f":"IF(O61=\"\",\"\",INDEX(referentes!AE:AF,MATCH(O61,referentes!AF:AF,0),1))","v":""},null,{"$f":"IF(Q61=\"\",\"\",INDEX(referentes!V:W,MATCH(Q61,referentes!W:W,0),1))","v":""},null,{"$f":"IF(S61=\"\",\"\",INDEX(referentes!S:T,MATCH(S61,referentes!T:T,0),1))","v":""},null,null,null,"","","","",57,"","","","",{"$f":"IF(A61=\"\",\"\",INDEX(ACTIVIDADES!D:G,MATCH(A61,ACTIVIDADES!G:G,0),1))","v":""},"","","",{"$f":"IF(A61=\"\",\"\",INDEX(ACTIVIDADES!D:I,MATCH(A61,ACTIVIDADES!G:G,0),4))","v":""},{"$f":"IF(E61=\"\",\"\",INDEX(referentes!AN:AQ,MATCH(E61,referentes!AQ:AQ,0),1))","v":""},{"$f":"IF(F61=\"\",\"\",INDEX(referentes!A:B,MATCH(F61,referentes!B:B,0),1))","v":""},{"$f":"IF(H61=\"\",\"\",INDEX(referentes!D:E,MATCH(H61,referentes!E:E,0),1))","v":""}]
[null,null,{"$f":"IF(B62=\"\",\"\",INDEX(referentes!J:K,MATCH(B62,referentes!K:K,0),1))","v":""},null,null,null,null,null,null,{"$f":"IF(I62=\"\",\"\",INDEX(referentes!G:H,MATCH(I62,referentes!H:H,0),1))","v":""},null,null,null,{"$f":"IF(O62=\"\",\"\",INDEX(referentes!AE:AF,MATCH(O62,referentes!AF:AF,0),1))","v":""},null,{"$f":"IF(Q62=\"\",\"\",INDEX(referentes!V:W,MATCH(Q62,referentes!W:W,0),1))","v":""},null,{"$f":"IF(S62=\"\",\"\",INDEX(referentes!S:T,MATCH(S62,referentes!T:T,0),1))","v":""},null,null,null,"","","","",58,"","","","",{"$f":"IF(A62=\"\",\"\",INDEX(ACTIVIDADES!D:G,MATCH(A62,ACTIVIDADES!G:G,0),1))","v":""},"","","",{"$f":"IF(A62=\"\",\"\",INDEX(ACTIVIDADES!D:I,MATCH(A62,ACTIVIDADES!G:G,0),4))","v":""},{"$f":"IF(E62=\"\",\"\",INDEX(referentes!AN:AQ,MATCH(E62,referentes!AQ:AQ,0),1))","v":""},{"$f":"IF(F62=\"\",\"\",INDEX(referentes!A:B,MATCH(F62,referentes!B:B,0),1))","v":""},{"$f":"IF(H62=\"\",\"\",INDEX(referentes!D:E,MATCH(H62,referentes!E:E,0),1))","v":""}]
[null,null,{"$f":"IF(B63=\"\",\"\",INDEX(referentes!J:K,MATCH(B63,referentes!K:K,0),1))","v":""},null,null,null,null,null,null,{"$f":"IF(I63=\"\",\"\",INDEX(referentes!G:H,MATCH(I63,referentes!H:H,0),1))","v":""},null,null,null,{"$f":"IF(O63=\"\",\"\",INDEX(referentes!AE:AF,MATCH(O63,referentes!AF:AF,0),1))","v":""},null,{"$f":"IF(Q63=\"\",\"\",INDEX(referentes!V:W,MATCH(Q63,referentes!W:W,0),1))","v":""},null,{"$f":"IF(S63=\"\",\"\",INDEX(referentes!S:T,MATCH(S63,referentes!T:T,0),1))","v":""},null,null,null,"","","","",59,"","","","",{"$f":"IF(A63=\"\",\"\",INDEX(ACTIVIDADES!D:G,MATCH(A63,ACTIVIDADES!G:G,0),1))","v":""},"","","",{"$f":"IF(A63=\"\",\"\",INDEX(ACTIVIDADES!D:I,MATCH(A63,ACTIVIDADES!G:G,0),4))","v":""},{"$f":"IF(E63=\"\",\"\",INDEX(referentes!AN:AQ,MATCH(E63,referentes!AQ:AQ,0),1))","v":""},{"$f":"IF(F63=\"\",\"\",INDEX(referentes!A:B,MATCH(F63,referentes!B:B,0),1))","v":""},{"$f":"IF(H63=\"\",\"\",INDEX(referentes!D:E,MATCH(H63,referentes!E:E,0),1))","v":""}]
[null,null,{"$f":"IF(B64=\"\",\"\",INDEX(referentes!J:K,MATCH(B64,referentes!K:K,0),1))","v":""},null,null,null,null,null,null,{"$f":"IF(I64=\"\",\"\",INDEX(referentes!G:H,MATCH(I64,referentes!H:H,0),1))","v":""},null,null,null,{"$f":"IF(O64=\"\",\"\",INDEX(referentes!AE:AF,MATCH(O64,referentes!AF:AF,0),1))","v":""},null,{"$f":"IF(Q64=\"\",\"\",INDEX(referentes!V:W,MATCH(Q64,referentes!W:W,0),1))","v":""},null,{"$f":"IF(S64=\"\",\"\",INDEX(referentes!S:T,MATCH(S64,referentes!T:T,0),1))","v":""},null,null,null,"","","","",60,"","","","",{"$f":"IF(A64=\"\",\"\",INDEX(ACTIVIDADES!D:G,MATCH(A64,ACTIVIDADES!G:G,0),1))","v":""},"","","",{"$f":"IF(A64=\"\",\"\",INDEX(ACTIVIDADES!D:I,MATCH(A64,ACTIVIDADES!G:G,0),4))","v":""},{"$f":"IF(E64=\"\",\"\",INDEX(referentes!AN:AQ,MATCH(E64,referentes!AQ:AQ,0),1))","v":""},{"$f":"IF(F64=\"\",\"\",INDEX(referentes!A:B,MATCH(F64,referentes!B:B,0),1))","v":""},{"$f":"IF(H64=\"\",\"\",INDEX(referentes!D:E,MATCH(H64,referentes!E:E,0),1))","v":""}]
[null,null,{"$f":"IF(B65=\"\",\"\",INDEX(referentes!J:K,MATCH(B65,referentes!K:K,0),1))","v":""},null,null,null,null,null,null,{"$f":"IF(I65=\"\",\"\",INDEX(referentes!G:H,MATCH(I65,referentes!H:H,0),1))","v":""},null,null,null,{"$f":"IF(O65=\"\",\"\",INDEX(referentes!AE:AF,MATCH(O65,referentes!AF:AF,0),1))","v":""},null,{"$f":"IF(Q65=\"\",\"\",INDEX(referentes!V:W,MATCH(Q65,referentes!W:W,0),1))","v":""},null,{"$f":"IF(S65=\"\",\"\",INDEX(referentes!S:T,MATCH(S65,referentes!T:T,0),1))","v":""},null,null,null,"","","","",61,"","","","",{"$f":"IF(A65=\"\",\"\",INDEX(ACTIVIDADES!D:G,MATCH(A65,ACTIVIDADES!G:G,0),1))","v":""},"","","",{"$f":"IF(A65=\"\",\"\",INDEX(ACTIVIDADES!D:I,MATCH(A65,ACTIVIDADES!G:G,0),4))","v":""},{"$f":"IF(E65=\"\",\"\",INDEX(referentes!AN:AQ,MATCH(E65,referentes!AQ:AQ,0),1))","v":""},{"$f":"IF(F65=\"\",\"\",INDEX(referentes!A:B,MATCH(F65,referentes!B:B,0),1))","v":""},{"$f":"IF(H65=\"\",\"\",INDEX(referentes!D:E,MATCH(H65,referentes!E:E,0),1))","v":""}]
[null,null,{"$f":"IF(B66=\"\",\"\",INDEX(referentes!J:K,MATCH(B66,referentes!K:K,0),1))","v":""},null,null,null,null,null,null,{"$f":"IF(I66=\"\",\"\",INDEX(referentes!G:H,MATCH(I66,referentes!H:H,0),1))","v":""},null,null,null,{"$f":"IF(O66=\"\",\"\",INDEX(referentes!AE:AF,MATCH(O66,referentes!AF:AF,0),1))","v":""},null,{"$f":"IF(Q66=\"\",\"\",INDEX(referentes!V:W,MATCH(Q66,referentes!W:W,0),1))","v":""},null,{"$f":"IF(S66=\"\",\"\",INDEX(referentes!S:T,MATCH(S66,referentes!T:T,0),1))","v":""},null,null,null,"","","","",62,"","","","",{"$f":"IF(A66=\"\",\"\",INDEX(ACTIVIDADES!D:G,MATCH(A66,ACTIVIDADES!G:G,0),1))","v":""},"","","",{"$f":"IF(A66=\"\",\"\",INDEX(ACTIVIDADES!D:I,MATCH(A66,ACTIVIDADES!G:G,0),4))","v":""},{"$f":"IF(E66=\"\",\"\",INDEX(referentes!AN:AQ,MATCH(E66,referentes!AQ:AQ,0),1))","v":""},{"$f":"IF(F66=\"\",\"\",INDEX(referentes!A:B,MATCH(F66,referentes!B:B,0),1))","v":""},{"$f":"IF(H66=\"\",\"\",INDEX(referentes!D:E,MATCH(H66,referentes!E:E,0),1))","v":""}]
[null,null,{"$f":"IF(B67=\"\",\"\",INDEX(referentes!J:K,MATCH(B67,referentes!K:K,0),1))","v":""},null,null,null,null,null,null,{"$f":"IF(I67=\"\",\"\",INDEX(referentes!G:H,MATCH(I67,referentes!H:H,0),1))","v":""},null,null,null,{"$f":"IF(O67=\"\",\"\",INDEX(referentes!AE:AF,MATCH(O67,referentes!AF:AF,0),1))","v":""},null,{"$f":"IF(Q67=\"\",\"\",INDEX(referentes!V:W,MATCH(Q67,referentes!W:W,0),1))","v":""},null,{"$f":"IF(S67=\"\",\"\",INDEX(referentes!S:T,MATCH(S67,referentes!T:T,0),1))","v":""},null,null,null,"","","","",63,"","","","",{"$f":"IF(A67=\"\",\"\",INDEX(ACTIVIDADES!D:G,MATCH(A67,ACTIVIDADES!G:G,0),1))","v":""},"","","",{"$f":"IF(A67=\"\",\"\",INDEX(ACTIVIDADES!D:I,MATCH(A67,ACTIVIDADES!G:G,0),4))","v":""},{"$f":"IF(E67=\"\",\"\",INDEX(referentes!AN:AQ,MATCH(E67,referentes!AQ:AQ,0),1))","v":""},{"$f":"IF(F67=\"\",\"\",INDEX(referentes!A:B,MATCH(F67,referentes!B:B,0),1))","v":""},{"$f":"IF(H67=\"\",\"\",INDEX(referentes!D:E,MATCH(H67,referentes!E:E,0),1))","v":""}]
[null,null,{"$f":"IF(B68=\"\",\"\",INDEX(referentes!J:K,MATCH(B68,referentes!K:K,0),1))","v":""},null,null,null,null,null,null,{"$f":"IF(I68=\"\",\"\",INDEX(referentes!G:H,MATCH(I68,referentes!H:H,0),1))","v":""},null,null,null,{"$f":"IF(O68=\"\",\"\",INDEX(referentes!AE:AF,MATCH(O68,referentes!AF:AF,0),1))","v":""},null,{"$f":"IF(Q68=\"\",\"\",INDEX(referentes!V:W,MATCH(Q68,referentes!W:W,0),1))","v":""},null,{"$f":"IF(S68=\"\",\"\",INDEX(referentes!S:T,MATCH(S68,referentes!T:T,0),1))","v":""},null,null,null,"","","","",64,"","","","",{"$f":"IF(A68=\"\",\"\",INDEX(ACTIVIDADES!D:G,MATCH(A68,ACTIVIDADES!G:G,0),1))","v":""},"","","",{"$f":"IF(A68=\"\",\"\",INDEX(ACTIVIDADES!D:I,MATCH(A68,ACTIVIDADES!G:G,0),4))","v":""},{"$f":"IF(E68=\"\",\"\",INDEX(referentes!AN:AQ,MATCH(E68,referentes!AQ:AQ,0),1))","v":""},{"$f":"IF(F68=\"\",\"\",INDEX(referentes!A:B,MATCH(F68,referentes!B:B,0),1))","v":""},{"$f":"IF(H68=\"\",\"\",INDEX(referentes!D:E,MATCH(H68,referentes!E:E,0),1))","v":""}]
[null,null,{"$f":"IF(B69=\"\",\"\",INDEX(referentes!J:K,MATCH(B69,referentes!K:K,0),1))","v":""},null,null,null,null,null,null,{"$f":"IF(I69=\"\",\"\",INDEX(referentes!G:H,MATCH(I69,referentes!H:H,0),1))","v":""},null,null,null,{"$f":"IF(O69=\"\",\"\",INDEX(referentes!AE:AF,MATCH(O69,referentes!AF:AF,0),1))","v":""},null,{"$f":"IF(Q69=\"\",\"\",INDEX(referentes!V:W,MATCH(Q69,referentes!W:W,0),1))","v":""},null,{"$f":"IF(S69=\"\",\"\",INDEX(referentes!S:T,MATCH(S69,referentes!T:T,0),1))","v":""},null,null,null,{"$f":"IF(A69=\"\",\"\",CONCATENATE(AE69,Z69))","v":""},{"$f":"IF(A69=\"\",\"\",CONCATENATE(V69,$W$4))","v":""},{"$f":"IF(A69=\"\",\"\",CONCATENATE(V69,$X$4))","v":""},{"$f":"IF(A69=\"\",\"\",CONCATENATE(V69,$Y$4))","v":""},65,"",{"$f":"IF(AA69=\"\",\"\",CONCATENATE(AA69,$AB$4))","v":""},"","",{"$f":"IF(A69=\"\",\"\",INDEX(ACTIVIDADES!D:G,MATCH(A69,ACTIVIDADES!G:G,0),1))","v":""},{"$f":"IF(A69=\"\",\"\",CONCATENATE(AE69,$AF$4))","v":""},{"$f":"IF(A69=\"\",\"\",CONCATENATE(AE69,$AG$4))","v":""},{"$f":"IF(A69=\"\",\"\",CONCATENATE(AE69,$AH$4))","v":""},{"$f":"IF(A69=\"\",\"\",INDEX(ACTIVIDADES!D:I,MATCH(A69,ACTIVIDADES!G:G,0),4))","v":""},{"$f":"IF(E69=\"\",\"\",INDEX(referentes!AN:AQ,MATCH(E69,referentes!AQ:AQ,0),1))","v":""},{"$f":"IF(F69=\"\",\"\",INDEX(referentes!A:B,MATCH(F69,referentes!B:B,0),1))","v":""},{"$f":"IF(H69=\"\",\"\",INDEX(referentes!D:E,MATCH(H69,referentes!E:E,0),1))","v":""}]
[null,null,{"$f":"IF(B70=\"\",\"\",INDEX(referentes!J:K,MATCH(B70,referentes!K:K,0),1))","v":""},null,null,null,null,null,null,{"$f":"IF(I70=\"\",\"\",INDEX(referentes!G:H,MATCH(I70,referentes!H:H,0),1))","v":""},null,null,null,{"$f":"IF(O70=\"\",\"\",INDEX(referentes!AE:AF,MATCH(O70,referentes!AF:AF,0),1))","v":""},null,{"$f":"IF(Q70=\"\",\"\",INDEX(referentes!V:W,MATCH(Q70,referentes!W:W,0),1))","v":""},null,{"$f":"IF(S70=\"\",\"\",INDEX(referentes!S:T,MATCH(S70,referentes!T:T,0),1))","v":""},null,null,null,"","","","",66,{"$f":"IF(A70=\"\",\"\",IF(A70=A69,\"\",AE70))","v":""},{"$f":"IF(AA70=\"\",\"\",CONCATENATE(AA70,$AB$4))","v":""},{"$f":"IF(AB70=\"\",\"\",CONCATENATE(AA70,$AC$4))","v":""},{"$f":"IF(AC70=\"\",\"\",CONCATENATE(AA70,$AD$4))","v":""},{"$f":"IF(A70=\"\",\"\",INDEX(ACTIVIDADES!D:G,MATCH(A70,ACTIVIDADES!G:G,0),1))","v":""},"","","",{"$f":"IF(A70=\"\",\"\",INDEX(ACTIVIDADES!D:I,MATCH(A70,ACTIVIDADES!G:G,0),4))","v":""},{"$f":"IF(E70=\"\",\"\",INDEX(referentes!AN:AQ,MATCH(E70,referentes!AQ:AQ,0),1))","v":""},{"$f":"IF(F70=\"\",\"\",INDEX(referentes!A:B,MATCH(F70,referentes!B:B,0),1))","v":""},{"$f":"IF(H70=\"\",\"\",INDEX(referentes!D:E,MATCH(H70,referentes!E:E,0),1))","v":""}]
[null,null,{"$f":"IF(B71=\"\",\"\",INDEX(referentes!J:K,MATCH(B71,referentes!K:K,0),1))","v":""},null,null,null,null,null,null,{"$f":"IF(I71=\"\",\"\",INDEX(referentes!G:H,MATCH(I71,referentes!H:H,0),1))","v":""},null,null,null,{"$f":"IF(O71=\"\",\"\",INDEX(referentes!AE:AF,MATCH(O71,referentes!AF:AF,0),1))","v":""},null,{"$f":"IF(Q71=\"\",\"\",INDEX(referentes!V:W,MATCH(Q71,referentes!W:W,0),1))","v":""},null,{"$f":"IF(S71=\"\",\"\",INDEX(referentes!S:T,MATCH(S71,referentes!T:T,0),1))","v":""},null,null,null,"","","","",67,"","","","",{"$f":"IF(A71=\"\",\"\",INDEX(ACTIVIDADES!D:G,MATCH(A71,ACTIVIDADES!G:G,0),1))","v":""},"","","",{"$f":"IF(A71=\"\",\"\",INDEX(ACTIVIDADES!D:I,MATCH(A71,ACTIVIDADES!G:G,0),4))","v":""},{"$f":"IF(E71=\"\",\"\",INDEX(referentes!AN:AQ,MATCH(E71,referentes!AQ:AQ,0),1))","v":""},{"$f":"IF(F71=\"\",\"\",INDEX(referentes!A:B,MATCH(F71,referentes!B:B,0),1))","v":""},{"$f":"IF(H71=\"\",\"\",INDEX(referentes!D:E,MATCH(H71,referentes!E:E,0),1))","v":""}]
[null,null,{"$f":"IF(B72=\"\",\"\",INDEX(referentes!J:K,MATCH(B72,referentes!K:K,0),1))","v":""},null,null,null,null,null,null,{"$f":"IF(I72=\"\",\"\",INDEX(referentes!G:H,MATCH(I72,referentes!H:H,0),1))","v":""},null,null,null,{"$f":"IF(O72=\"\",\"\",INDEX(referentes!AE:AF,MATCH(O72,referentes!AF:AF,0),1))","v":""},null,{"$f":"IF(Q72=\"\",\"\",INDEX(referentes!V:W,MATCH(Q72,referentes!W:W,0),1))","v":""},null,{"$f":"IF(S72=\"\",\"\",INDEX(referentes!S:T,MATCH(S72,referentes!T:T,0),1))","v":""},null,null,null,"","","","",68,"","","","",{"$f":"IF(A72=\"\",\"\",INDEX(ACTIVIDADES!D:G,MATCH(A72,ACTIVIDADES!G:G,0),1))","v":""},"","","",{"$f":"IF(A72=\"\",\"\",INDEX(ACTIVIDADES!D:I,MATCH(A72,ACTIVIDADES!G:G,0),4))","v":""},{"$f":"IF(E72=\"\",\"\",INDEX(referentes!AN:AQ,MATCH(E72,referentes!AQ:AQ,0),1))","v":""},{"$f":"IF(F72=\"\",\"\",INDEX(referentes!A:B,MATCH(F72,referentes!B:B,0),1))","v":""},{"$f":"IF(H72=\"\",\"\",INDEX(referentes!D:E,MATCH(H72,referentes!E:E,0),1))","v":""}]
[null,null,{"$f":"IF(B73=\"\",\"\",INDEX(referentes!J:K,MATCH(B73,referentes!K:K,0),1))","v":""},null,null,null,null,null,null,{"$f":"IF(I73=\"\",\"\",INDEX(referentes!G:H,MATCH(I73,referentes!H:H,0),1))","v":""},null,null,null,{"$f":"IF(O73=\"\",\"\",INDEX(referentes!AE:AF,MATCH(O73,referentes!AF:AF,0),1))","v":""},null,{"$f":"IF(Q73=\"\",\"\",INDEX(referentes!V:W,MATCH(Q73,referentes!W:W,0),1))","v":""},null,{"$f":"IF(S73=\"\",\"\",INDEX(referentes!S:T,MATCH(S73,referentes!T:T,0),1))","v":""},null,null,null,"","","","",69,"","","","",{"$f":"IF(A73=\"\",\"\",INDEX(ACTIVIDADES!D:G,MATCH(A73,ACTIVIDADES!G:G,0),1))","v":""},"","","",{"$f":"IF(A73=\"\",\"\",INDEX(ACTIVIDADES!D:I,MATCH(A73,ACTIVIDADES!G:G,0),4))","v":""},{"$f":"IF(E73=\"\",\"\",INDEX(referentes!AN:AQ,MATCH(E73,referentes!AQ:AQ,0),1))","v":""},{"$f":"IF(F73=\"\",\"\",INDEX(referentes!A:B,MATCH(F73,referentes!B:B,0),1))","v":""},{"$f":"IF(H73=\"\",\"\",INDEX(referentes!D:E,MATCH(H73,referentes!E:E,0),1))","v":""}]
[null,null,{"$f":"IF(B74=\"\",\"\",INDEX(referentes!J:K,MATCH(B74,referentes!K:K,0),1))","v":""},null,null,null,null,null,null,{"$f":"IF(I74=\"\",\"\",INDEX(referentes!G:H,MATCH(I74,referentes!H:H,0),1))","v":""},null,null,null,{"$f":"IF(O74=\"\",\"\",INDEX(referentes!AE:AF,MATCH(O74,referentes!AF:AF,0),1))","v":""},null,{"$f":"IF(Q74=\"\",\"\",INDEX(referentes!V:W,MATCH(Q74,referentes!W:W,0),1))","v":""},null,{"$f":"IF(S74=\"\",\"\",INDEX(referentes!S:T,MATCH(S74,referentes!T:T,0),1))","v":""},null,null,null,"","","","",70,"","","","",{"$f":"IF(A74=\"\",\"\",INDEX(ACTIVIDADES!D:G,MATCH(A74,ACTIVIDADES!G:G,0),1))","v":""},"","","",{"$f":"IF(A74=\"\",\"\",INDEX(ACTIVIDADES!D:I,MATCH(A74,ACTIVIDADES!G:G,0),4))","v":""},{"$f":"IF(E74=\"\",\"\",INDEX(referentes!AN:AQ,MATCH(E74,referentes!AQ:AQ,0),1))","v":""},{"$f":"IF(F74=\"\",\"\",INDEX(referentes!A:B,MATCH(F74,referentes!B:B,0),1))","v":""},{"$f":"IF(H74=\"\",\"\",INDEX(referentes!D:E,MATCH(H74,referentes!E:E,0),1))","v":""}]
[null,null,{"$f":"IF(B75=\"\",\"\",INDEX(referentes!J:K,MATCH(B75,referentes!K:K,0),1))","v":""},null,null,null,null,null,null,{"$f":"IF(I75=\"\",\"\",INDEX(referentes!G:H,MATCH(I75,referentes!H:H,0),1))","v":""},null,null,null,{"$f":"IF(O75=\"\",\"\",INDEX(referentes!AE:AF,MATCH(O75,referentes!AF:AF,0),1))","v":""},null,{"$f":"IF(Q75=\"\",\"\",INDEX(referentes!V:W,MATCH(Q75,referentes!W:W,0),1))","v":""},null,{"$f":"IF(S75=\"\",\"\",INDEX(referentes!S:T,MATCH(S75,referentes!T:T,0),1))","v":""},null,null,null,"","","","",71,"","","","",{"$f":"IF(A75=\"\",\"\",INDEX(ACTIVIDADES!D:G,MATCH(A75,ACTIVIDADES!G:G,0),1))","v":""},"","","",{"$f":"IF(A75=\"\",\"\",INDEX(ACTIVIDADES!D:I,MATCH(A75,ACTIVIDADES!G:G,0),4))","v":""},{"$f":"IF(E75=\"\",\"\",INDEX(referentes!AN:AQ,MATCH(E75,referentes!AQ:AQ,0),1))","v":""},{"$f":"IF(F75=\"\",\"\",INDEX(referentes!A:B,MATCH(F75,referentes!B:B,0),1))","v":""},{"$f":"IF(H75=\"\",\"\",INDEX(referentes!D:E,MATCH(H75,referentes!E:E,0),1))","v":""}]
[null,null,{"$f":"IF(B76=\"\",\"\",INDEX(referentes!J:K,MATCH(B76,referentes!K:K,0),1))","v":""},null,null,null,null,null,null,{"$f":"IF(I76=\"\",\"\",INDEX(referentes!G:H,MATCH(I76,referentes!H:H,0),1))","v":""},null,null,null,{"$f":"IF(O76=\"\",\"\",INDEX(referentes!AE:AF,MATCH(O76,referentes!AF:AF,0),1))","v":""},null,{"$f":"IF(Q76=\"\",\"\",INDEX(referentes!V:W,MATCH(Q76,referentes!W:W,0),1))","v":""},null,{"$f":"IF(S76=\"\",\"\",INDEX(referentes!S:T,MATCH(S76,referentes!T:T,0),1))","v":""},null,null,null,"","","","",72,"","","","",{"$f":"IF(A76=\"\",\"\",INDEX(ACTIVIDADES!D:G,MATCH(A76,ACTIVIDADES!G:G,0),1))","v":""},"","","",{"$f":"IF(A76=\"\",\"\",INDEX(ACTIVIDADES!D:I,MATCH(A76,ACTIVIDADES!G:G,0),4))","v":""},{"$f":"IF(E76=\"\",\"\",INDEX(referentes!AN:AQ,MATCH(E76,referentes!AQ:AQ,0),1))","v":""},{"$f":"IF(F76=\"\",\"\",INDEX(referentes!A:B,MATCH(F76,referentes!B:B,0),1))","v":""},{"$f":"IF(H76=\"\",\"\",INDEX(referentes!D:E,MATCH(H76,referentes!E:E,0),1))","v":""}]
[null,null,{"$f":"IF(B77=\"\",\"\",INDEX(referentes!J:K,MATCH(B77,referentes!K:K,0),1))","v":""},null,null,null,null,null,null,{"$f":"IF(I77=\"\",\"\",INDEX(referentes!G:H,MATCH(I77,referentes!H:H,0),1))","v":""},null,null,null,{"$f":"IF(O77=\"\",\"\",INDEX(referentes!AE:AF,MATCH(O77,referentes!AF:AF,0),1))","v":""},null,{"$f":"IF(Q77=\"\",\"\",INDEX(referentes!V:W,MATCH(Q77,referentes!W:W,0),1))","v":""},null,{"$f":"IF(S77=\"\",\"\",INDEX(referentes!S:T,MATCH(S77,referentes!T:T,0),1))","v":""},null,null,null,"","","","",73,"","","","",{"$f":"IF(A77=\"\",\"\",INDEX(ACTIVIDADES!D:G,MATCH(A77,ACTIVIDADES!G:G,0),1))","v":""},"","","",{"$f":"IF(A77=\"\",\"\",INDEX(ACTIVIDADES!D:I,MATCH(A77,ACTIVIDADES!G:G,0),4))","v":""},{"$f":"IF(E77=\"\",\"\",INDEX(referentes!AN:AQ,MATCH(E77,referentes!AQ:AQ,0),1))","v":""},{"$f":"IF(F77=\"\",\"\",INDEX(referentes!A:B,MATCH(F77,referentes!B:B,0),1))","v":""},{"$f":"IF(H77=\"\",\"\",INDEX(referentes!D:E,MATCH(H77,referentes!E:E,0),1))","v":""}]
[null,null,{"$f":"IF(B78=\"\",\"\",INDEX(referentes!J:K,MATCH(B78,referentes!K:K,0),1))","v":""},null,null,null,null,null,null,{"$f":"IF(I78=\"\",\"\",INDEX(referentes!G:H,MATCH(I78,referentes!H:H,0),1))","v":""},null,null,null,{"$f":"IF(O78=\"\",\"\",INDEX(referentes!AE:AF,MATCH(O78,referentes!AF:AF,0),1))","v":""},null,{"$f":"IF(Q78=\"\",\"\",INDEX(referentes!V:W,MATCH(Q78,referentes!W:W,0),1))","v":""},null,{"$f":"IF(S78=\"\",\"\",INDEX(referentes!S:T,MATCH(S78,referentes!T:T,0),1))","v":""},null,null,null,"","","","",74,"","","","",{"$f":"IF(A78=\"\",\"\",INDEX(ACTIVIDADES!D:G,MATCH(A78,ACTIVIDADES!G:G,0),1))","v":""},"","","",{"$f":"IF(A78=\"\",\"\",INDEX(ACTIVIDADES!D:I,MATCH(A78,ACTIVIDADES!G:G,0),4))","v":""},{"$f":"IF(E78=\"\",\"\",INDEX(referentes!AN:AQ,MATCH(E78,referentes!AQ:AQ,0),1))","v":""},{"$f":"IF(F78=\"\",\"\",INDEX(referentes!A:B,MATCH(F78,referentes!B:B,0),1))","v":""},{"$f":"IF(H78=\"\",\"\",INDEX(referentes!D:E,MATCH(H78,referentes!E:E,0),1))","v":""}]
[null,null,{"$f":"IF(B79=\"\",\"\",INDEX(referentes!J:K,MATCH(B79,referentes!K:K,0),1))","v":""},null,null,null,null,null,null,{"$f":"IF(I79=\"\",\"\",INDEX(referentes!G:H,MATCH(I79,referentes!H:H,0),1))","v":""},null,null,null,{"$f":"IF(O79=\"\",\"\",INDEX(referentes!AE:AF,MATCH(O79,referentes!AF:AF,0),1))","v":""},null,{"$f":"IF(Q79=\"\",\"\",INDEX(referentes!V:W,MATCH(Q79,referentes!W:W,0),1))","v":""},null,{"$f":"IF(S79=\"\",\"\",INDEX(referentes!S:T,MATCH(S79,referentes!T:T,0),1))","v":""},null,null,null,"","","","",75,"","","","",{"$f":"IF(A79=\"\",\"\",INDEX(ACTIVIDADES!D:G,MATCH(A79,ACTIVIDADES!G:G,0),1))","v":""},"","","",{"$f":"IF(A79=\"\",\"\",INDEX(ACTIVIDADES!D:I,MATCH(A79,ACTIVIDADES!G:G,0),4))","v":""},{"$f":"IF(E79=\"\",\"\",INDEX(referentes!AN:AQ,MATCH(E79,referentes!AQ:AQ,0),1))","v":""},{"$f":"IF(F79=\"\",\"\",INDEX(referentes!A:B,MATCH(F79,referentes!B:B,0),1))","v":""},{"$f":"IF(H79=\"\",\"\",INDEX(referentes!D:E,MATCH(H79,referentes!E:E,0),1))","v":""}]
[null,null,{"$f":"IF(B80=\"\",\"\",INDEX(referentes!J:K,MATCH(B80,referentes!K:K,0),1))","v":""},null,null,null,null,null,null,{"$f":"IF(I80=\"\",\"\",INDEX(referentes!G:H,MATCH(I80,referentes!H:H,0),1))","v":""},null,null,null,{"$f":"IF(O80=\"\",\"\",INDEX(referentes!AE:AF,MATCH(O80,referentes!AF:AF,0),1))","v":""},null,{"$f":"IF(Q80=\"\",\"\",INDEX(referentes!V:W,MATCH(Q80,referentes!W:W,0),1))","v":""},null,{"$f":"IF(S80=\"\",\"\",INDEX(referentes!S:T,MATCH(S80,referentes!T:T,0),1))","v":""},null,null,null,"","","","",76,"","","","",{"$f":"IF(A80=\"\",\"\",INDEX(ACTIVIDADES!D:G,MATCH(A80,ACTIVIDADES!G:G,0),1))","v":""},"","","",{"$f":"IF(A80=\"\",\"\",INDEX(ACTIVIDADES!D:I,MATCH(A80,ACTIVIDADES!G:G,0),4))","v":""},{"$f":"IF(E80=\"\",\"\",INDEX(referentes!AN:AQ,MATCH(E80,referentes!AQ:AQ,0),1))","v":""},{"$f":"IF(F80=\"\",\"\",INDEX(referentes!A:B,MATCH(F80,referentes!B:B,0),1))","v":""},{"$f":"IF(H80=\"\",\"\",INDEX(referentes!D:E,MATCH(H80,referentes!E:E,0),1))","v":""}]
[null,null,{"$f":"IF(B81=\"\",\"\",INDEX(referentes!J:K,MATCH(B81,referentes!K:K,0),1))","v":""},null,null,null,null,null,null,{"$f":"IF(I81=\"\",\"\",INDEX(referentes!G:H,MATCH(I81,referentes!H:H,0),1))","v":""},null,null,null,{"$f":"IF(O81=\"\",\"\",INDEX(referentes!AE:AF,MATCH(O81,referentes!AF:AF,0),1))","v":""},null,{"$f":"IF(Q81=\"\",\"\",INDEX(referentes!V:W,MATCH(Q81,referentes!W:W,0),1))","v":""},null,{"$f":"IF(S81=\"\",\"\",INDEX(referentes!S:T,MATCH(S81,referentes!T:T,0),1))","v":""},null,null,null,"","","","",77,"","","","",{"$f":"IF(A81=\"\",\"\",INDEX(ACTIVIDADES!D:G,MATCH(A81,ACTIVIDADES!G:G,0),1))","v":""},"","","",{"$f":"IF(A81=\"\",\"\",INDEX(ACTIVIDADES!D:I,MATCH(A81,ACTIVIDADES!G:G,0),4))","v":""},{"$f":"IF(E81=\"\",\"\",INDEX(referentes!AN:AQ,MATCH(E81,referentes!AQ:AQ,0),1))","v":""},{"$f":"IF(F81=\"\",\"\",INDEX(referentes!A:B,MATCH(F81,referentes!B:B,0),1))","v":""},{"$f":"IF(H81=\"\",\"\",INDEX(referentes!D:E,MATCH(H81,referentes!E:E,0),1))","v":""}]
[null,null,{"$f":"IF(B82=\"\",\"\",INDEX(referentes!J:K,MATCH(B82,referentes!K:K,0),1))","v":""},null,null,null,null,null,null,{"$f":"IF(I82=\"\",\"\",INDEX(referentes!G:H,MATCH(I82,referentes!H:H,0),1))","v":""},null,null,null,{"$f":"IF(O82=\"\",\"\",INDEX(referentes!AE:AF,MATCH(O82,referentes!AF:AF,0),1))","v":""},null,{"$f":"IF(Q82=\"\",\"\",INDEX(referentes!V:W,MATCH(Q82,referentes!W:W,0),1))","v":""},null,{"$f":"IF(S82=\"\",\"\",INDEX(referentes!S:T,MATCH(S82,referentes!T:T,0),1))","v":""},null,null,null,"","","","",78,"","","","",{"$f":"IF(A82=\"\",\"\",INDEX(ACTIVIDADES!D:G,MATCH(A82,ACTIVIDADES!G:G,0),1))","v":""},"","","",{"$f":"IF(A82=\"\",\"\",INDEX(ACTIVIDADES!D:I,MATCH(A82,ACTIVIDADES!G:G,0),4))","v":""},{"$f":"IF(E82=\"\",\"\",INDEX(referentes!AN:AQ,MATCH(E82,referentes!AQ:AQ,0),1))","v":""},{"$f":"IF(F82=\"\",\"\",INDEX(referentes!A:B,MATCH(F82,referentes!B:B,0),1))","v":""},{"$f":"IF(H82=\"\",\"\",INDEX(referentes!D:E,MATCH(H82,referentes!E:E,0),1))","v":""}]
[null,null,{"$f":"IF(B83=\"\",\"\",INDEX(referentes!J:K,MATCH(B83,referentes!K:K,0),1))","v":""},null,null,null,null,null,null,{"$f":"IF(I83=\"\",\"\",INDEX(referentes!G:H,MATCH(I83,referentes!H:H,0),1))","v":""},null,null,null,{"$f":"IF(O83=\"\",\"\",INDEX(referentes!AE:AF,MATCH(O83,referentes!AF:AF,0),1))","v":""},null,{"$f":"IF(Q83=\"\",\"\",INDEX(referentes!V:W,MATCH(Q83,referentes!W:W,0),1))","v":""},null,{"$f":"IF(S83=\"\",\"\",INDEX(referentes!S:T,MATCH(S83,referentes!T:T,0),1))","v":""},null,null,null,"","","","",79,"","","","",{"$f":"IF(A83=\"\",\"\",INDEX(ACTIVIDADES!D:G,MATCH(A83,ACTIVIDADES!G:G,0),1))","v":""},"","","",{"$f":"IF(A83=\"\",\"\",INDEX(ACTIVIDADES!D:I,MATCH(A83,ACTIVIDADES!G:G,0),4))","v":""},{"$f":"IF(E83=\"\",\"\",INDEX(referentes!AN:AQ,MATCH(E83,referentes!AQ:AQ,0),1))","v":""},{"$f":"IF(F83=\"\",\"\",INDEX(referentes!A:B,MATCH(F83,referentes!B:B,0),1))","v":""},{"$f":"IF(H83=\"\",\"\",INDEX(referentes!D:E,MATCH(H83,referentes!E:E,0),1))","v":""}]
[null,null,{"$f":"IF(B84=\"\",\"\",INDEX(referentes!J:K,MATCH(B84,referentes!K:K,0),1))","v":""},null,null,null,null,null,null,{"$f":"IF(I84=\"\",\"\",INDEX(referentes!G:H,MATCH(I84,referentes!H:H,0),1))","v":""},null,null,null,{"$f":"IF(O84=\"\",\"\",INDEX(referentes!AE:AF,MATCH(O84,referentes!AF:AF,0),1))","v":""},null,{"$f":"IF(Q84=\"\",\"\",INDEX(referentes!V:W,MATCH(Q84,referentes!W:W,0),1))","v":""},null,{"$f":"IF(S84=\"\",\"\",INDEX(referentes!S:T,MATCH(S84,referentes!T:T,0),1))","v":""},null,null,null,"","","","",80,"","","","",{"$f":"IF(A84=\"\",\"\",INDEX(ACTIVIDADES!D:G,MATCH(A84,ACTIVIDADES!G:G,0),1))","v":""},"","","",{"$f":"IF(A84=\"\",\"\",INDEX(ACTIVIDADES!D:I,MATCH(A84,ACTIVIDADES!G:G,0),4))","v":""},{"$f":"IF(E84=\"\",\"\",INDEX(referentes!AN:AQ,MATCH(E84,referentes!AQ:AQ,0),1))","v":""},{"$f":"IF(F84=\"\",\"\",INDEX(referentes!A:B,MATCH(F84,referentes!B:B,0),1))","v":""},{"$f":"IF(H84=\"\",\"\",INDEX(referentes!D:E,MATCH(H84,referentes!E:E,0),1))","v":""}]
[null,null,{"$f":"IF(B85=\"\",\"\",INDEX(referentes!J:K,MATCH(B85,referentes!K:K,0),1))","v":""},null,null,null,null,null,null,{"$f":"IF(I85=\"\",\"\",INDEX(referentes!G:H,MATCH(I85,referentes!H:H,0),1))","v":""},null,null,null,{"$f":"IF(O85=\"\",\"\",INDEX(referentes!AE:AF,MATCH(O85,referentes!AF:AF,0),1))","v":""},null,{"$f":"IF(Q85=\"\",\"\",INDEX(referentes!V:W,MATCH(Q85,referentes!W:W,0),1))","v":""},null,{"$f":"IF(S85=\"\",\"\",INDEX(referentes!S:T,MATCH(S85,referentes!T:T,0),1))","v":""},null,null,null,"","","","",81,"","","","",{"$f":"IF(A85=\"\",\"\",INDEX(ACTIVIDADES!D:G,MATCH(A85,ACTIVIDADES!G:G,0),1))","v":""},"","","",{"$f":"IF(A85=\"\",\"\",INDEX(ACTIVIDADES!D:I,MATCH(A85,ACTIVIDADES!G:G,0),4))","v":""},{"$f":"IF(E85=\"\",\"\",INDEX(referentes!AN:AQ,MATCH(E85,referentes!AQ:AQ,0),1))","v":""},{"$f":"IF(F85=\"\",\"\",INDEX(referentes!A:B,MATCH(F85,referentes!B:B,0),1))","v":""},{"$f":"IF(H85=\"\",\"\",INDEX(referentes!D:E,MATCH(H85,referentes!E:E,0),1))","v":""}]
[null,null,{"$f":"IF(B86=\"\",\"\",INDEX(referentes!J:K,MATCH(B86,referentes!K:K,0),1))","v":""},null,null,null,null,null,null,{"$f":"IF(I86=\"\",\"\",INDEX(referentes!G:H,MATCH(I86,referentes!H:H,0),1))","v":""},null,null,null,{"$f":"IF(O86=\"\",\"\",INDEX(referentes!AE:AF,MATCH(O86,referentes!AF:AF,0),1))","v":""},null,{"$f":"IF(Q86=\"\",\"\",INDEX(referentes!V:W,MATCH(Q86,referentes!W:W,0),1))","v":""},null,{"$f":"IF(S86=\"\",\"\",INDEX(referentes!S:T,MATCH(S86,referentes!T:T,0),1))","v":""},null,null,null,"","","","",82,"","","","",{"$f":"IF(A86=\"\",\"\",INDEX(ACTIVIDADES!D:G,MATCH(A86,ACTIVIDADES!G:G,0),1))","v":""},"","","",{"$f":"IF(A86=\"\",\"\",INDEX(ACTIVIDADES!D:I,MATCH(A86,ACTIVIDADES!G:G,0),4))","v":""},{"$f":"IF(E86=\"\",\"\",INDEX(referentes!AN:AQ,MATCH(E86,referentes!AQ:AQ,0),1))","v":""},{"$f":"IF(F86=\"\",\"\",INDEX(referentes!A:B,MATCH(F86,referentes!B:B,0),1))","v":""},{"$f":"IF(H86=\"\",\"\",INDEX(referentes!D:E,MATCH(H86,referentes!E:E,0),1))","v":""}]
[null,null,{"$f":"IF(B87=\"\",\"\",INDEX(referentes!J:K,MATCH(B87,referentes!K:K,0),1))","v":""},null,null,null,null,null,null,{"$f":"IF(I87=\"\",\"\",INDEX(referentes!G:H,MATCH(I87,referentes!H:H,0),1))","v":""},null,null,null,{"$f":"IF(O87=\"\",\"\",INDEX(referentes!AE:AF,MATCH(O87,referentes!AF:AF,0),1))","v":""},null,{"$f":"IF(Q87=\"\",\"\",INDEX(referentes!V:W,MATCH(Q87,referentes!W:W,0),1))","v":""},null,{"$f":"IF(S87=\"\",\"\",INDEX(referentes!S:T,MATCH(S87,referentes!T:T,0),1))","v":""},null,null,null,"","","","",83,"","","","",{"$f":"IF(A87=\"\",\"\",INDEX(ACTIVIDADES!D:G,MATCH(A87,ACTIVIDADES!G:G,0),1))","v":""},"","","",{"$f":"IF(A87=\"\",\"\",INDEX(ACTIVIDADES!D:I,MATCH(A87,ACTIVIDADES!G:G,0),4))","v":""},{"$f":"IF(E87=\"\",\"\",INDEX(referentes!AN:AQ,MATCH(E87,referentes!AQ:AQ,0),1))","v":""},{"$f":"IF(F87=\"\",\"\",INDEX(referentes!A:B,MATCH(F87,referentes!B:B,0),1))","v":""},{"$f":"IF(H87=\"\",\"\",INDEX(referentes!D:E,MATCH(H87,referentes!E:E,0),1))","v":""}]
[null,null,{"$f":"IF(B88=\"\",\"\",INDEX(referentes!J:K,MATCH(B88,referentes!K:K,0),1))","v":""},null,null,null,null,null,null,{"$f":"IF(I88=\"\",\"\",INDEX(referentes!G:H,MATCH(I88,referentes!H:H,0),1))","v":""},null,null,null,{"$f":"IF(O88=\"\",\"\",INDEX(referentes!AE:AF,MATCH(O88,referentes!AF:AF,0),1))","v":""},null,{"$f":"IF(Q88=\"\",\"\",INDEX(referentes!V:W,MATCH(Q88,referentes!W:W,0),1))","v":""},null,{"$f":"IF(S88=\"\",\"\",INDEX(referentes!S:T,MATCH(S88,referentes!T:T,0),1))","v":""},null,null,null,"","","","",84,"","","","",{"$f":"IF(A88=\"\",\"\",INDEX(ACTIVIDADES!D:G,MATCH(A88,ACTIVIDADES!G:G,0),1))","v":""},"","","",{"$f":"IF(A88=\"\",\"\",INDEX(ACTIVIDADES!D:I,MATCH(A88,ACTIVIDADES!G:G,0),4))","v":""},{"$f":"IF(E88=\"\",\"\",INDEX(referentes!AN:AQ,MATCH(E88,referentes!AQ:AQ,0),1))","v":""},{"$f":"IF(F88=\"\",\"\",INDEX(referentes!A:B,MATCH(F88,referentes!B:B,0),1))","v":""},{"$f":"IF(H88=\"\",\"\",INDEX(referentes!D:E,MATCH(H88,referentes!E:E,0),1))","v":""}]
[null,null,{"$f":"IF(B89=\"\",\"\",INDEX(referentes!J:K,MATCH(B89,referentes!K:K,0),1))","v":""},null,null,null,null,null,null,{"$f":"IF(I89=\"\",\"\",INDEX(referentes!G:H,MATCH(I89,referentes!H:H,0),1))","v":""},null,null,null,{"$f":"IF(O89=\"\",\"\",INDEX(referentes!AE:AF,MATCH(O89,referentes!AF:AF,0),1))","v":""},null,{"$f":"IF(Q89=\"\",\"\",INDEX(referentes!V:W,MATCH(Q89,referentes!W:W,0),1))","v":""},null,{"$f":"IF(S89=\"\",\"\",INDEX(referentes!S:T,MATCH(S89,referentes!T:T,0),1))","v":""},null,null,null,"","","","",85,"","","","",{"$f":"IF(A89=\"\",\"\",INDEX(ACTIVIDADES!D:G,MATCH(A89,ACTIVIDADES!G:G,0),1))","v":""},"","","",{"$f":"IF(A89=\"\",\"\",INDEX(ACTIVIDADES!D:I,MATCH(A89,ACTIVIDADES!G:G,0),4))","v":""},{"$f":"IF(E89=\"\",\"\",INDEX(referentes!AN:AQ,MATCH(E89,referentes!AQ:AQ,0),1))","v":""},{"$f":"IF(F89=\"\",\"\",INDEX(referentes!A:B,MATCH(F89,referentes!B:B,0),1))","v":""},{"$f":"IF(H89=\"\",\"\",INDEX(referentes!D:E,MATCH(H89,referentes!E:E,0),1))","v":""}]
[null,null,{"$f":"IF(B90=\"\",\"\",INDEX(referentes!J:K,MATCH(B90,referentes!K:K,0),1))","v":""},null,null,null,null,null,null,{"$f":"IF(I90=\"\",\"\",INDEX(referentes!G:H,MATCH(I90,referentes!H:H,0),1))","v":""},null,null,null,{"$f":"IF(O90=\"\",\"\",INDEX(referentes!AE:AF,MATCH(O90,referentes!AF:AF,0),1))","v":""},null,{"$f":"IF(Q90=\"\",\"\",INDEX(referentes!V:W,MATCH(Q90,referentes!W:W,0),1))","v":""},null,{"$f":"IF(S90=\"\",\"\",INDEX(referentes!S:T,MATCH(S90,referentes!T:T,0),1))","v":""},null,null,null,"","","","",86,"","","","",{"$f":"IF(A90=\"\",\"\",INDEX(ACTIVIDADES!D:G,MATCH(A90,ACTIVIDADES!G:G,0),1))","v":""},"","","",{"$f":"IF(A90=\"\",\"\",INDEX(ACTIVIDADES!D:I,MATCH(A90,ACTIVIDADES!G:G,0),4))","v":""},{"$f":"IF(E90=\"\",\"\",INDEX(referentes!AN:AQ,MATCH(E90,referentes!AQ:AQ,0),1))","v":""},{"$f":"IF(F90=\"\",\"\",INDEX(referentes!A:B,MATCH(F90,referentes!B:B,0),1))","v":""},{"$f":"IF(H90=\"\",\"\",INDEX(referentes!D:E,MATCH(H90,referentes!E:E,0),1))","v":""}]
[null,null,{"$f":"IF(B91=\"\",\"\",INDEX(referentes!J:K,MATCH(B91,referentes!K:K,0),1))","v":""},null,null,null,null,null,null,{"$f":"IF(I91=\"\",\"\",INDEX(referentes!G:H,MATCH(I91,referentes!H:H,0),1))","v":""},null,null,null,{"$f":"IF(O91=\"\",\"\",INDEX(referentes!AE:AF,MATCH(O91,referentes!AF:AF,0),1))","v":""},null,{"$f":"IF(Q91=\"\",\"\",INDEX(referentes!V:W,MATCH(Q91,referentes!W:W,0),1))","v":""},null,{"$f":"IF(S91=\"\",\"\",INDEX(referentes!S:T,MATCH(S91,referentes!T:T,0),1))","v":""},null,null,null,"","","","",87,"","","","",{"$f":"IF(A91=\"\",\"\",INDEX(ACTIVIDADES!D:G,MATCH(A91,ACTIVIDADES!G:G,0),1))","v":""},"","","",{"$f":"IF(A91=\"\",\"\",INDEX(ACTIVIDADES!D:I,MATCH(A91,ACTIVIDADES!G:G,0),4))","v":""},{"$f":"IF(E91=\"\",\"\",INDEX(referentes!AN:AQ,MATCH(E91,referentes!AQ:AQ,0),1))","v":""},{"$f":"IF(F91=\"\",\"\",INDEX(referentes!A:B,MATCH(F91,referentes!B:B,0),1))","v":""},{"$f":"IF(H91=\"\",\"\",INDEX(referentes!D:E,MATCH(H91,referentes!E:E,0),1))","v":""}]
[null,null,{"$f":"IF(B92=\"\",\"\",INDEX(referentes!J:K,MATCH(B92,referentes!K:K,0),1))","v":""},null,null,null,null,null,null,{"$f":"IF(I92=\"\",\"\",INDEX(referentes!G:H,MATCH(I92,referentes!H:H,0),1))","v":""},null,null,null,{"$f":"IF(O92=\"\",\"\",INDEX(referentes!AE:AF,MATCH(O92,referentes!AF:AF,0),1))","v":""},null,{"$f":"IF(Q92=\"\",\"\",INDEX(referentes!V:W,MATCH(Q92,referentes!W:W,0),1))","v":""},null,{"$f":"IF(S92=\"\",\"\",INDEX(referentes!S:T,MATCH(S92,referentes!T:T,0),1))","v":""},null,null,null,"","","","",88,"","","","",{"$f":"IF(A92=\"\",\"\",INDEX(ACTIVIDADES!D:G,MATCH(A92,ACTIVIDADES!G:G,0),1))","v":""},"","","",{"$f":"IF(A92=\"\",\"\",INDEX(ACTIVIDADES!D:I,MATCH(A92,ACTIVIDADES!G:G,0),4))","v":""},{"$f":"IF(E92=\"\",\"\",INDEX(referentes!AN:AQ,MATCH(E92,referentes!AQ:AQ,0),1))","v":""},{"$f":"IF(F92=\"\",\"\",INDEX(referentes!A:B,MATCH(F92,referentes!B:B,0),1))","v":""},{"$f":"IF(H92=\"\",\"\",INDEX(referentes!D:E,MATCH(H92,referentes!E:E,0),1))","v":""}]
[null,null,{"$f":"IF(B93=\"\",\"\",INDEX(referentes!J:K,MATCH(B93,referentes!K:K,0),1))","v":""},null,null,null,null,null,null,{"$f":"IF(I93=\"\",\"\",INDEX(referentes!G:H,MATCH(I93,referentes!H:H,0),1))","v":""},null,null,null,{"$f":"IF(O93=\"\",\"\",INDEX(referentes!AE:AF,MATCH(O93,referentes!AF:AF,0),1))","v":""},null,{"$f":"IF(Q93=\"\",\"\",INDEX(referentes!V:W,MATCH(Q93,referentes!W:W,0),1))","v":""},null,{"$f":"IF(S93=\"\",\"\",INDEX(referentes!S:T,MATCH(S93,referentes!T:T,0),1))","v":""},null,null,null,"","","","",89,"","","","",{"$f":"IF(A93=\"\",\"\",INDEX(ACTIVIDADES!D:G,MATCH(A93,ACTIVIDADES!G:G,0),1))","v":""},"","","",{"$f":"IF(A93=\"\",\"\",INDEX(ACTIVIDADES!D:I,MATCH(A93,ACTIVIDADES!G:G,0),4))","v":""},{"$f":"IF(E93=\"\",\"\",INDEX(referentes!AN:AQ,MATCH(E93,referentes!AQ:AQ,0),1))","v":""},{"$f":"IF(F93=\"\",\"\",INDEX(referentes!A:B,MATCH(F93,referentes!B:B,0),1))","v":""},{"$f":"IF(H93=\"\",\"\",INDEX(referentes!D:E,MATCH(H93,referentes!E:E,0),1))","v":""}]
[null,null,{"$f":"IF(B94=\"\",\"\",INDEX(referentes!J:K,MATCH(B94,referentes!K:K,0),1))","v":""},null,null,null,null,null,null,{"$f":"IF(I94=\"\",\"\",INDEX(referentes!G:H,MATCH(I94,referentes!H:H,0),1))","v":""},null,null,null,{"$f":"IF(O94=\"\",\"\",INDEX(referentes!AE:AF,MATCH(O94,referentes!AF:AF,0),1))","v":""},null,{"$f":"IF(Q94=\"\",\"\",INDEX(referentes!V:W,MATCH(Q94,referentes!W:W,0),1))","v":""},null,{"$f":"IF(S94=\"\",\"\",INDEX(referentes!S:T,MATCH(S94,referentes!T:T,0),1))","v":""},null,null,null,"","","","",90,"","","","",{"$f":"IF(A94=\"\",\"\",INDEX(ACTIVIDADES!D:G,MATCH(A94,ACTIVIDADES!G:G,0),1))","v":""},"","","",{"$f":"IF(A94=\"\",\"\",INDEX(ACTIVIDADES!D:I,MATCH(A94,ACTIVIDADES!G:G,0),4))","v":""},{"$f":"IF(E94=\"\",\"\",INDEX(referentes!AN:AQ,MATCH(E94,referentes!AQ:AQ,0),1))","v":""},{"$f":"IF(F94=\"\",\"\",INDEX(referentes!A:B,MATCH(F94,referentes!B:B,0),1))","v":""},{"$f":"IF(H94=\"\",\"\",INDEX(referentes!D:E,MATCH(H94,referentes!E:E,0),1))","v":""}]
[null,null,{"$f":"IF(B95=\"\",\"\",INDEX(referentes!J:K,MATCH(B95,referentes!K:K,0),1))","v":""},null,null,null,null,null,null,{"$f":"IF(I95=\"\",\"\",INDEX(referentes!G:H,MATCH(I95,referentes!H:H,0),1))","v":""},null,null,null,{"$f":"IF(O95=\"\",\"\",INDEX(referentes!AE:AF,MATCH(O95,referentes!AF:AF,0),1))","v":""},null,{"$f":"IF(Q95=\"\",\"\",INDEX(referentes!V:W,MATCH(Q95,referentes!W:W,0),1))","v":""},null,{"$f":"IF(S95=\"\",\"\",INDEX(referentes!S:T,MATCH(S95,referentes!T:T,0),1))","v":""},null,null,null,"","","","",91,"","","","",{"$f":"IF(A95=\"\",\"\",INDEX(ACTIVIDADES!D:G,MATCH(A95,ACTIVIDADES!G:G,0),1))","v":""},"","","",{"$f":"IF(A95=\"\",\"\",INDEX(ACTIVIDADES!D:I,MATCH(A95,ACTIVIDADES!G:G,0),4))","v":""},{"$f":"IF(E95=\"\",\"\",INDEX(referentes!AN:AQ,MATCH(E95,referentes!AQ:AQ,0),1))","v":""},{"$f":"IF(F95=\"\",\"\",INDEX(referentes!A:B,MATCH(F95,referentes!B:B,0),1))","v":""},{"$f":"IF(H95=\"\",\"\",INDEX(referentes!D:E,MATCH(H95,referentes!E:E,0),1))","v":""}]
[null,null,{"$f":"IF(B96=\"\",\"\",INDEX(referentes!J:K,MATCH(B96,referentes!K:K,0),1))","v":""},null,null,null,null,null,null,{"$f":"IF(I96=\"\",\"\",INDEX(referentes!G:H,MATCH(I96,referentes!H:H,0),1))","v":""},null,null,null,{"$f":"IF(O96=\"\",\"\",INDEX(referentes!AE:AF,MATCH(O96,referentes!AF:AF,0),1))","v":""},null,{"$f":"IF(Q96=\"\",\"\",INDEX(referentes!V:W,MATCH(Q96,referentes!W:W,0),1))","v":""},null,{"$f":"IF(S96=\"\",\"\",INDEX(referentes!S:T,MATCH(S96,referentes!T:T,0),1))","v":""},null,null,null,"","","","",92,"","","","",{"$f":"IF(A96=\"\",\"\",INDEX(ACTIVIDADES!D:G,MATCH(A96,ACTIVIDADES!G:G,0),1))","v":""},"","","",{"$f":"IF(A96=\"\",\"\",INDEX(ACTIVIDADES!D:I,MATCH(A96,ACTIVIDADES!G:G,0),4))","v":""},{"$f":"IF(E96=\"\",\"\",INDEX(referentes!AN:AQ,MATCH(E96,referentes!AQ:AQ,0),1))","v":""},{"$f":"IF(F96=\"\",\"\",INDEX(referentes!A:B,MATCH(F96,referentes!B:B,0),1))","v":""},{"$f":"IF(H96=\"\",\"\",INDEX(referentes!D:E,MATCH(H96,referentes!E:E,0),1))","v":""}]
[null,null,{"$f":"IF(B97=\"\",\"\",INDEX(referentes!J:K,MATCH(B97,referentes!K:K,0),1))","v":""},null,null,null,null,null,null,{"$f":"IF(I97=\"\",\"\",INDEX(referentes!G:H,MATCH(I97,referentes!H:H,0),1))","v":""},null,null,null,{"$f":"IF(O97=\"\",\"\",INDEX(referentes!AE:AF,MATCH(O97,referentes!AF:AF,0),1))","v":""},null,{"$f":"IF(Q97=\"\",\"\",INDEX(referentes!V:W,MATCH(Q97,referentes!W:W,0),1))","v":""},null,{"$f":"IF(S97=\"\",\"\",INDEX(referentes!S:T,MATCH(S97,referentes!T:T,0),1))","v":""},null,null,null,"","","","",93,"","","","",{"$f":"IF(A97=\"\",\"\",INDEX(ACTIVIDADES!D:G,MATCH(A97,ACTIVIDADES!G:G,0),1))","v":""},"","","",{"$f":"IF(A97=\"\",\"\",INDEX(ACTIVIDADES!D:I,MATCH(A97,ACTIVIDADES!G:G,0),4))","v":""},{"$f":"IF(E97=\"\",\"\",INDEX(referentes!AN:AQ,MATCH(E97,referentes!AQ:AQ,0),1))","v":""},{"$f":"IF(F97=\"\",\"\",INDEX(referentes!A:B,MATCH(F97,referentes!B:B,0),1))","v":""},{"$f":"IF(H97=\"\",\"\",INDEX(referentes!D:E,MATCH(H97,referentes!E:E,0),1))","v":""}]
[null,null,{"$f":"IF(B98=\"\",\"\",INDEX(referentes!J:K,MATCH(B98,referentes!K:K,0),1))","v":""},null,null,null,null,null,null,{"$f":"IF(I98=\"\",\"\",INDEX(referentes!G:H,MATCH(I98,referentes!H:H,0),1))","v":""},null,null,null,{"$f":"IF(O98=\"\",\"\",INDEX(referentes!AE:AF,MATCH(O98,referentes!AF:AF,0),1))","v":""},null,{"$f":"IF(Q98=\"\",\"\",INDEX(referentes!V:W,MATCH(Q98,referentes!W:W,0),1))","v":""},null,{"$f":"IF(S98=\"\",\"\",INDEX(referentes!S:T,MATCH(S98,referentes!T:T,0),1))","v":""},null,null,null,"","","","",94,"","","","",{"$f":"IF(A98=\"\",\"\",INDEX(ACTIVIDADES!D:G,MATCH(A98,ACTIVIDADES!G:G,0),1))","v":""},"","","",{"$f":"IF(A98=\"\",\"\",INDEX(ACTIVIDADES!D:I,MATCH(A98,ACTIVIDADES!G:G,0),4))","v":""},{"$f":"IF(E98=\"\",\"\",INDEX(referentes!AN:AQ,MATCH(E98,referentes!AQ:AQ,0),1))","v":""},{"$f":"IF(F98=\"\",\"\",INDEX(referentes!A:B,MATCH(F98,referentes!B:B,0),1))","v":""},{"$f":"IF(H98=\"\",\"\",INDEX(referentes!D:E,MATCH(H98,referentes!E:E,0),1))","v":""}]
[null,null,{"$f":"IF(B99=\"\",\"\",INDEX(referentes!J:K,MATCH(B99,referentes!K:K,0),1))","v":""},null,null,null,null,null,null,{"$f":"IF(I99=\"\",\"\",INDEX(referentes!G:H,MATCH(I99,referentes!H:H,0),1))","v":""},null,null,null,{"$f":"IF(O99=\"\",\"\",INDEX(referentes!AE:AF,MATCH(O99,referentes!AF:AF,0),1))","v":""},null,{"$f":"IF(Q99=\"\",\"\",INDEX(referentes!V:W,MATCH(Q99,referentes!W:W,0),1))","v":""},null,{"$f":"IF(S99=\"\",\"\",INDEX(referentes!S:T,MATCH(S99,referentes!T:T,0),1))","v":""},null,null,null,"","","","",95,"","","","",{"$f":"IF(A99=\"\",\"\",INDEX(ACTIVIDADES!D:G,MATCH(A99,ACTIVIDADES!G:G,0),1))","v":""},"","","",{"$f":"IF(A99=\"\",\"\",INDEX(ACTIVIDADES!D:I,MATCH(A99,ACTIVIDADES!G:G,0),4))","v":""},{"$f":"IF(E99=\"\",\"\",INDEX(referentes!AN:AQ,MATCH(E99,referentes!AQ:AQ,0),1))","v":""},{"$f":"IF(F99=\"\",\"\",INDEX(referentes!A:B,MATCH(F99,referentes!B:B,0),1))","v":""},{"$f":"IF(H99=\"\",\"\",INDEX(referentes!D:E,MATCH(H99,referentes!E:E,0),1))","v":""}]
[null,null,{"$f":"IF(B100=\"\",\"\",INDEX(referentes!J:K,MATCH(B100,referentes!K:K,0),1))","v":""},null,null,null,null,null,null,{"$f":"IF(I100=\"\",\"\",INDEX(referentes!G:H,MATCH(I100,referentes!H:H,0),1))","v":""},null,null,null,{"$f":"IF(O100=\"\",\"\",INDEX(referentes!AE:AF,MATCH(O100,referentes!AF:AF,0),1))","v":""},null,{"$f":"IF(Q100=\"\",\"\",INDEX(referentes!V:W,MATCH(Q100,referentes!W:W,0),1))","v":""},null,{"$f":"IF(S100=\"\",\"\",INDEX(referentes!S:T,MATCH(S100,referentes!T:T,0),1))","v":""},null,null,null,"","","","",96,"","","","",{"$f":"IF(A100=\"\",\"\",INDEX(ACTIVIDADES!D:G,MATCH(A100,ACTIVIDADES!G:G,0),1))","v":""},"","","",{"$f":"IF(A100=\"\",\"\",INDEX(ACTIVIDADES!D:I,MATCH(A100,ACTIVIDADES!G:G,0),4))","v":""},{"$f":"IF(E100=\"\",\"\",INDEX(referentes!AN:AQ,MATCH(E100,referentes!AQ:AQ,0),1))","v":""},{"$f":"IF(F100=\"\",\"\",INDEX(referentes!A:B,MATCH(F100,referentes!B:B,0),1))","v":""},{"$f":"IF(H100=\"\",\"\",INDEX(referentes!D:E,MATCH(H100,referentes!E:E,0),1))","v":""}]
[null,null,{"$f":"IF(B101=\"\",\"\",INDEX(referentes!J:K,MATCH(B101,referentes!K:K,0),1))","v":""},null,null,null,null,null,null,{"$f":"IF(I101=\"\",\"\",INDEX(referentes!G:H,MATCH(I101,referentes!H:H,0),1))","v":""},null,null,null,{"$f":"IF(O101=\"\",\"\",INDEX(referentes!AE:AF,MATCH(O101,referentes!AF:AF,0),1))","v":""},null,{"$f":"IF(Q101=\"\",\"\",INDEX(referentes!V:W,MATCH(Q101,referentes!W:W,0),1))","v":""},null,{"$f":"IF(S101=\"\",\"\",INDEX(referentes!S:T,MATCH(S101,referentes!T:T,0),1))","v":""},null,null,null,"","","","",97,"","","","",{"$f":"IF(A101=\"\",\"\",INDEX(ACTIVIDADES!D:G,MATCH(A101,ACTIVIDADES!G:G,0),1))","v":""},"","","",{"$f":"IF(A101=\"\",\"\",INDEX(ACTIVIDADES!D:I,MATCH(A101,ACTIVIDADES!G:G,0),4))","v":""},{"$f":"IF(E101=\"\",\"\",INDEX(referentes!AN:AQ,MATCH(E101,referentes!AQ:AQ,0),1))","v":""},{"$f":"IF(F101=\"\",\"\",INDEX(referentes!A:B,MATCH(F101,referentes!B:B,0),1))","v":""},{"$f":"IF(H101=\"\",\"\",INDEX(referentes!D:E,MATCH(H101,referentes!E:E,0),1))","v":""}]
[null,null,{"$f":"IF(B102=\"\",\"\",INDEX(referentes!J:K,MATCH(B102,referentes!K:K,0),1))","v":""},null,null,null,null,null,null,{"$f":"IF(I102=\"\",\"\",INDEX(referentes!G:H,MATCH(I102,referentes!H:H,0),1))","v":""},null,null,null,{"$f":"IF(O102=\"\",\"\",INDEX(referentes!AE:AF,MATCH(O102,referentes!AF:AF,0),1))","v":""},null,{"$f":"IF(Q102=\"\",\"\",INDEX(referentes!V:W,MATCH(Q102,referentes!W:W,0),1))","v":""},null,{"$f":"IF(S102=\"\",\"\",INDEX(referentes!S:T,MATCH(S102,referentes!T:T,0),1))","v":""},null,null,null,"","","","",98,"","","","",{"$f":"IF(A102=\"\",\"\",INDEX(ACTIVIDADES!D:G,MATCH(A102,ACTIVIDADES!G:G,0),1))","v":""},"","","",{"$f":"IF(A102=\"\",\"\",INDEX(ACTIVIDADES!D:I,MATCH(A102,ACTIVIDADES!G:G,0),4))","v":""},{"$f":"IF(E102=\"\",\"\",INDEX(referentes!AN:AQ,MATCH(E102,referentes!AQ:AQ,0),1))","v":""},{"$f":"IF(F102=\"\",\"\",INDEX(referentes!A:B,MATCH(F102,referentes!B:B,0),1))","v":""},{"$f":"IF(H102=\"\",\"\",INDEX(referentes!D:E,MATCH(H102,referentes!E:E,0),1))","v":""}]
[null,null,{"$f":"IF(B103=\"\",\"\",INDEX(referentes!J:K,MATCH(B103,referentes!K:K,0),1))","v":""},null,null,null,null,null,null,{"$f":"IF(I103=\"\",\"\",INDEX(referentes!G:H,MATCH(I103,referentes!H:H,0),1))","v":""},null,null,null,{"$f":"IF(O103=\"\",\"\",INDEX(referentes!AE:AF,MATCH(O103,referentes!AF:AF,0),1))","v":""},null,{"$f":"IF(Q103=\"\",\"\",INDEX(referentes!V:W,MATCH(Q103,referentes!W:W,0),1))","v":""},null,{"$f":"IF(S103=\"\",\"\",INDEX(referentes!S:T,MATCH(S103,referentes!T:T,0),1))","v":""},null,null,null,"","","","",99,"","","","",{"$f":"IF(A103=\"\",\"\",INDEX(ACTIVIDADES!D:G,MATCH(A103,ACTIVIDADES!G:G,0),1))","v":""},"","","",{"$f":"IF(A103=\"\",\"\",INDEX(ACTIVIDADES!D:I,MATCH(A103,ACTIVIDADES!G:G,0),4))","v":""},{"$f":"IF(E103=\"\",\"\",INDEX(referentes!AN:AQ,MATCH(E103,referentes!AQ:AQ,0),1))","v":""},{"$f":"IF(F103=\"\",\"\",INDEX(referentes!A:B,MATCH(F103,referentes!B:B,0),1))","v":""},{"$f":"IF(H103=\"\",\"\",INDEX(referentes!D:E,MATCH(H103,referentes!E:E,0),1))","v":""}]
[null,null,{"$f":"IF(B104=\"\",\"\",INDEX(referentes!J:K,MATCH(B104,referentes!K:K,0),1))","v":""},null,null,null,null,null,null,{"$f":"IF(I104=\"\",\"\",INDEX(referentes!G:H,MATCH(I104,referentes!H:H,0),1))","v":""},null,null,null,{"$f":"IF(O104=\"\",\"\",INDEX(referentes!AE:AF,MATCH(O104,referentes!AF:AF,0),1))","v":""},null,{"$f":"IF(Q104=\"\",\"\",INDEX(referentes!V:W,MATCH(Q104,referentes!W:W,0),1))","v":""},null,{"$f":"IF(S104=\"\",\"\",INDEX(referentes!S:T,MATCH(S104,referentes!T:T,0),1))","v":""},null,null,null,"","","","",100,"","","","",{"$f":"IF(A104=\"\",\"\",INDEX(ACTIVIDADES!D:G,MATCH(A104,ACTIVIDADES!G:G,0),1))","v":""},"","","",{"$f":"IF(A104=\"\",\"\",INDEX(ACTIVIDADES!D:I,MATCH(A104,ACTIVIDADES!G:G,0),4))","v":""},{"$f":"IF(E104=\"\",\"\",INDEX(referentes!AN:AQ,MATCH(E104,referentes!AQ:AQ,0),1))","v":""},{"$f":"IF(F104=\"\",\"\",INDEX(referentes!A:B,MATCH(F104,referentes!B:B,0),1))","v":""},{"$f":"IF(H104=\"\",\"\",INDEX(referentes!D:E,MATCH(H104,referentes!E:E,0),1))","v":""}]
[null,null,{"$f":"IF(B105=\"\",\"\",INDEX(referentes!J:K,MATCH(B105,referentes!K:K,0),1))","v":""},null,null,null,null,null,null,{"$f":"IF(I105=\"\",\"\",INDEX(referentes!G:H,MATCH(I105,referentes!H:H,0),1))","v":""},null,null,null,{"$f":"IF(O105=\"\",\"\",INDEX(referentes!AE:AF,MATCH(O105,referentes!AF:AF,0),1))","v":""},null,{"$f":"IF(Q105=\"\",\"\",INDEX(referentes!V:W,MATCH(Q105,referentes!W:W,0),1))","v":""},null,{"$f":"IF(S105=\"\",\"\",INDEX(referentes!S:T,MATCH(S105,referentes!T:T,0),1))","v":""},null,null,null,"","","","",101,"","","","",{"$f":"IF(A105=\"\",\"\",INDEX(ACTIVIDADES!D:G,MATCH(A105,ACTIVIDADES!G:G,0),1))","v":""},"","","",{"$f":"IF(A105=\"\",\"\",INDEX(ACTIVIDADES!D:I,MATCH(A105,ACTIVIDADES!G:G,0),4))","v":""},{"$f":"IF(E105=\"\",\"\",INDEX(referentes!AN:AQ,MATCH(E105,referentes!AQ:AQ,0),1))","v":""},{"$f":"IF(F105=\"\",\"\",INDEX(referentes!A:B,MATCH(F105,referentes!B:B,0),1))","v":""},{"$f":"IF(H105=\"\",\"\",INDEX(referentes!D:E,MATCH(H105,referentes!E:E,0),1))","v":""}]
[null,null,{"$f":"IF(B106=\"\",\"\",INDEX(referentes!J:K,MATCH(B106,referentes!K:K,0),1))","v":""},null,null,null,null,null,null,{"$f":"IF(I106=\"\",\"\",INDEX(referentes!G:H,MATCH(I106,referentes!H:H,0),1))","v":""},null,null,null,{"$f":"IF(O106=\"\",\"\",INDEX(referentes!AE:AF,MATCH(O106,referentes!AF:AF,0),1))","v":""},null,{"$f":"IF(Q106=\"\",\"\",INDEX(referentes!V:W,MATCH(Q106,referentes!W:W,0),1))","v":""},null,{"$f":"IF(S106=\"\",\"\",INDEX(referentes!S:T,MATCH(S106,referentes!T:T,0),1))","v":""},null,null,null,"","","","",102,"","","","",{"$f":"IF(A106=\"\",\"\",INDEX(ACTIVIDADES!D:G,MATCH(A106,ACTIVIDADES!G:G,0),1))","v":""},"","","",{"$f":"IF(A106=\"\",\"\",INDEX(ACTIVIDADES!D:I,MATCH(A106,ACTIVIDADES!G:G,0),4))","v":""},{"$f":"IF(E106=\"\",\"\",INDEX(referentes!AN:AQ,MATCH(E106,referentes!AQ:AQ,0),1))","v":""},{"$f":"IF(F106=\"\",\"\",INDEX(referentes!A:B,MATCH(F106,referentes!B:B,0),1))","v":""},{"$f":"IF(H106=\"\",\"\",INDEX(referentes!D:E,MATCH(H106,referentes!E:E,0),1))","v":""}]
[null,null,{"$f":"IF(B107=\"\",\"\",INDEX(referentes!J:K,MATCH(B107,referentes!K:K,0),1))","v":""},null,null,null,null,null,null,{"$f":"IF(I107=\"\",\"\",INDEX(referentes!G:H,MATCH(I107,referentes!H:H,0),1))","v":""},null,null,null,{"$f":"IF(O107=\"\",\"\",INDEX(referentes!AE:AF,MATCH(O107,referentes!AF:AF,0),1))","v":""},null,{"$f":"IF(Q107=\"\",\"\",INDEX(referentes!V:W,MATCH(Q107,referentes!W:W,0),1))","v":""},null,{"$f":"IF(S107=\"\",\"\",INDEX(referentes!S:T,MATCH(S107,referentes!T:T,0),1))","v":""},null,null,null,"","","","",103,"","","","",{"$f":"IF(A107=\"\",\"\",INDEX(ACTIVIDADES!D:G,MATCH(A107,ACTIVIDADES!G:G,0),1))","v":""},"","","",{"$f":"IF(A107=\"\",\"\",INDEX(ACTIVIDADES!D:I,MATCH(A107,ACTIVIDADES!G:G,0),4))","v":""},{"$f":"IF(E107=\"\",\"\",INDEX(referentes!AN:AQ,MATCH(E107,referentes!AQ:AQ,0),1))","v":""},{"$f":"IF(F107=\"\",\"\",INDEX(referentes!A:B,MATCH(F107,referentes!B:B,0),1))","v":""},{"$f":"IF(H107=\"\",\"\",INDEX(referentes!D:E,MATCH(H107,referentes!E:E,0),1))","v":""}]
[null,null,{"$f":"IF(B108=\"\",\"\",INDEX(referentes!J:K,MATCH(B108,referentes!K:K,0),1))","v":""},null,null,null,null,null,null,{"$f":"IF(I108=\"\",\"\",INDEX(referentes!G:H,MATCH(I108,referentes!H:H,0),1))","v":""},null,null,null,{"$f":"IF(O108=\"\",\"\",INDEX(referentes!AE:AF,MATCH(O108,referentes!AF:AF,0),1))","v":""},null,{"$f":"IF(Q108=\"\",\"\",INDEX(referentes!V:W,MATCH(Q108,referentes!W:W,0),1))","v":""},null,{"$f":"IF(S108=\"\",\"\",INDEX(referentes!S:T,MATCH(S108,referentes!T:T,0),1))","v":""},null,null,null,"","","","",104,"","","","",{"$f":"IF(A108=\"\",\"\",INDEX(ACTIVIDADES!D:G,MATCH(A108,ACTIVIDADES!G:G,0),1))","v":""},"","","",{"$f":"IF(A108=\"\",\"\",INDEX(ACTIVIDADES!D:I,MATCH(A108,ACTIVIDADES!G:G,0),4))","v":""},{"$f":"IF(E108=\"\",\"\",INDEX(referentes!AN:AQ,MATCH(E108,referentes!AQ:AQ,0),1))","v":""},{"$f":"IF(F108=\"\",\"\",INDEX(referentes!A:B,MATCH(F108,referentes!B:B,0),1))","v":""},{"$f":"IF(H108=\"\",\"\",INDEX(referentes!D:E,MATCH(H108,referentes!E:E,0),1))","v":""}]
[null,null,{"$f":"IF(B109=\"\",\"\",INDEX(referentes!J:K,MATCH(B109,referentes!K:K,0),1))","v":""},null,null,null,null,null,null,{"$f":"IF(I109=\"\",\"\",INDEX(referentes!G:H,MATCH(I109,referentes!H:H,0),1))","v":""},null,null,null,{"$f":"IF(O109=\"\",\"\",INDEX(referentes!AE:AF,MATCH(O109,referentes!AF:AF,0),1))","v":""},null,{"$f":"IF(Q109=\"\",\"\",INDEX(referentes!V:W,MATCH(Q109,referentes!W:W,0),1))","v":""},null,{"$f":"IF(S109=\"\",\"\",INDEX(referentes!S:T,MATCH(S109,referentes!T:T,0),1))","v":""},null,null,null,"","","","",105,"","","","",{"$f":"IF(A109=\"\",\"\",INDEX(ACTIVIDADES!D:G,MATCH(A109,ACTIVIDADES!G:G,0),1))","v":""},"","","",{"$f":"IF(A109=\"\",\"\",INDEX(ACTIVIDADES!D:I,MATCH(A109,ACTIVIDADES!G:G,0),4))","v":""},{"$f":"IF(E109=\"\",\"\",INDEX(referentes!AN:AQ,MATCH(E109,referentes!AQ:AQ,0),1))","v":""},{"$f":"IF(F109=\"\",\"\",INDEX(referentes!A:B,MATCH(F109,referentes!B:B,0),1))","v":""},{"$f":"IF(H109=\"\",\"\",INDEX(referentes!D:E,MATCH(H109,referentes!E:E,0),1))","v":""}]
[null,null,{"$f":"IF(B110=\"\",\"\",INDEX(referentes!J:K,MATCH(B110,referentes!K:K,0),1))","v":""},null,null,null,null,null,null,{"$f":"IF(I110=\"\",\"\",INDEX(referentes!G:H,MATCH(I110,referentes!H:H,0),1))","v":""},null,null,null,{"$f":"IF(O110=\"\",\"\",INDEX(referentes!AE:AF,MATCH(O110,referentes!AF:AF,0),1))","v":""},null,{"$f":"IF(Q110=\"\",\"\",INDEX(referentes!V:W,MATCH(Q110,referentes!W:W,0),1))","v":""},null,{"$f":"IF(S110=\"\",\"\",INDEX(referentes!S:T,MATCH(S110,referentes!T:T,0),1))","v":""},null,null,null,"","","","",106,"","","","",{"$f":"IF(A110=\"\",\"\",INDEX(ACTIVIDADES!D:G,MATCH(A110,ACTIVIDADES!G:G,0),1))","v":""},"","","",{"$f":"IF(A110=\"\",\"\",INDEX(ACTIVIDADES!D:I,MATCH(A110,ACTIVIDADES!G:G,0),4))","v":""},{"$f":"IF(E110=\"\",\"\",INDEX(referentes!AN:AQ,MATCH(E110,referentes!AQ:AQ,0),1))","v":""},{"$f":"IF(F110=\"\",\"\",INDEX(referentes!A:B,MATCH(F110,referentes!B:B,0),1))","v":""},{"$f":"IF(H110=\"\",\"\",INDEX(referentes!D:E,MATCH(H110,referentes!E:E,0),1))","v":""}]
[null,null,{"$f":"IF(B111=\"\",\"\",INDEX(referentes!J:K,MATCH(B111,referentes!K:K,0),1))","v":""},null,null,null,null,null,null,{"$f":"IF(I111=\"\",\"\",INDEX(referentes!G:H,MATCH(I111,referentes!H:H,0),1))","v":""},null,null,null,{"$f":"IF(O111=\"\",\"\",INDEX(referentes!AE:AF,MATCH(O111,referentes!AF:AF,0),1))","v":""},null,{"$f":"IF(Q111=\"\",\"\",INDEX(referentes!V:W,MATCH(Q111,referentes!W:W,0),1))","v":""},null,{"$f":"IF(S111=\"\",\"\",INDEX(referentes!S:T,MATCH(S111,referentes!T:T,0),1))","v":""},null,null,null,"","","","",107,"","","","",{"$f":"IF(A111=\"\",\"\",INDEX(ACTIVIDADES!D:G,MATCH(A111,ACTIVIDADES!G:G,0),1))","v":""},"","","",{"$f":"IF(A111=\"\",\"\",INDEX(ACTIVIDADES!D:I,MATCH(A111,ACTIVIDADES!G:G,0),4))","v":""},{"$f":"IF(E111=\"\",\"\",INDEX(referentes!AN:AQ,MATCH(E111,referentes!AQ:AQ,0),1))","v":""},{"$f":"IF(F111=\"\",\"\",INDEX(referentes!A:B,MATCH(F111,referentes!B:B,0),1))","v":""},{"$f":"IF(H111=\"\",\"\",INDEX(referentes!D:E,MATCH(H111,referentes!E:E,0),1))","v":""}]
[null,null,{"$f":"IF(B112=\"\",\"\",INDEX(referentes!J:K,MATCH(B112,referentes!K:K,0),1))","v":""},null,null,null,null,null,null,{"$f":"IF(I112=\"\",\"\",INDEX(referentes!G:H,MATCH(I112,referentes!H:H,0),1))","v":""},null,null,null,{"$f":"IF(O112=\"\",\"\",INDEX(referentes!AE:AF,MATCH(O112,referentes!AF:AF,0),1))","v":""},null,{"$f":"IF(Q112=\"\",\"\",INDEX(referentes!V:W,MATCH(Q112,referentes!W:W,0),1))","v":""},null,{"$f":"IF(S112=\"\",\"\",INDEX(referentes!S:T,MATCH(S112,referentes!T:T,0),1))","v":""},null,null,null,"","","","",108,"","","","",{"$f":"IF(A112=\"\",\"\",INDEX(ACTIVIDADES!D:G,MATCH(A112,ACTIVIDADES!G:G,0),1))","v":""},"","","",{"$f":"IF(A112=\"\",\"\",INDEX(ACTIVIDADES!D:I,MATCH(A112,ACTIVIDADES!G:G,0),4))","v":""},{"$f":"IF(E112=\"\",\"\",INDEX(referentes!AN:AQ,MATCH(E112,referentes!AQ:AQ,0),1))","v":""},{"$f":"IF(F112=\"\",\"\",INDEX(referentes!A:B,MATCH(F112,referentes!B:B,0),1))","v":""},{"$f":"IF(H112=\"\",\"\",INDEX(referentes!D:E,MATCH(H112,referentes!E:E,0),1))","v":""}]
[null,null,{"$f":"IF(B113=\"\",\"\",INDEX(referentes!J:K,MATCH(B113,referentes!K:K,0),1))","v":""},null,null,null,null,null,null,{"$f":"IF(I113=\"\",\"\",INDEX(referentes!G:H,MATCH(I113,referentes!H:H,0),1))","v":""},null,null,null,{"$f":"IF(O113=\"\",\"\",INDEX(referentes!AE:AF,MATCH(O113,referentes!AF:AF,0),1))","v":""},null,{"$f":"IF(Q113=\"\",\"\",INDEX(referentes!V:W,MATCH(Q113,referentes!W:W,0),1))","v":""},null,{"$f":"IF(S113=\"\",\"\",INDEX(referentes!S:T,MATCH(S113,referentes!T:T,0),1))","v":""},null,null,null,"","","","",109,"","","","",{"$f":"IF(A113=\"\",\"\",INDEX(ACTIVIDADES!D:G,MATCH(A113,ACTIVIDADES!G:G,0),1))","v":""},"","","",{"$f":"IF(A113=\"\",\"\",INDEX(ACTIVIDADES!D:I,MATCH(A113,ACTIVIDADES!G:G,0),4))","v":""},{"$f":"IF(E113=\"\",\"\",INDEX(referentes!AN:AQ,MATCH(E113,referentes!AQ:AQ,0),1))","v":""},{"$f":"IF(F113=\"\",\"\",INDEX(referentes!A:B,MATCH(F113,referentes!B:B,0),1))","v":""},{"$f":"IF(H113=\"\",\"\",INDEX(referentes!D:E,MATCH(H113,referentes!E:E,0),1))","v":""}]
[null,null,{"$f":"IF(B114=\"\",\"\",INDEX(referentes!J:K,MATCH(B114,referentes!K:K,0),1))","v":""},null,null,null,null,null,null,{"$f":"IF(I114=\"\",\"\",INDEX(referentes!G:H,MATCH(I114,referentes!H:H,0),1))","v":""},null,null,null,{"$f":"IF(O114=\"\",\"\",INDEX(referentes!AE:AF,MATCH(O114,referentes!AF:AF,0),1))","v":""},null,{"$f":"IF(Q114=\"\",\"\",INDEX(referentes!V:W,MATCH(Q114,referentes!W:W,0),1))","v":""},null,{"$f":"IF(S114=\"\",\"\",INDEX(referentes!S:T,MATCH(S114,referentes!T:T,0),1))","v":""},null,null,null,"","","","",110,"","","","",{"$f":"IF(A114=\"\",\"\",INDEX(ACTIVIDADES!D:G,MATCH(A114,ACTIVIDADES!G:G,0),1))","v":""},"","","",{"$f":"IF(A114=\"\",\"\",INDEX(ACTIVIDADES!D:I,MATCH(A114,ACTIVIDADES!G:G,0),4))","v":""},{"$f":"IF(E114=\"\",\"\",INDEX(referentes!AN:AQ,MATCH(E114,referentes!AQ:AQ,0),1))","v":""},{"$f":"IF(F114=\"\",\"\",INDEX(referentes!A:B,MATCH(F114,referentes!B:B,0),1))","v":""},{"$f":"IF(H114=\"\",\"\",INDEX(referentes!D:E,MATCH(H114,referentes!E:E,0),1))","v":""}]
[null,null,{"$f":"IF(B115=\"\",\"\",INDEX(referentes!J:K,MATCH(B115,referentes!K:K,0),1))","v":""},null,null,null,null,null,null,{"$f":"IF(I115=\"\",\"\",INDEX(referentes!G:H,MATCH(I115,referentes!H:H,0),1))","v":""},null,null,null,{"$f":"IF(O115=\"\",\"\",INDEX(referentes!AE:AF,MATCH(O115,referentes!AF:AF,0),1))","v":""},null,{"$f":"IF(Q115=\"\",\"\",INDEX(referentes!V:W,MATCH(Q115,referentes!W:W,0),1))","v":""},null,{"$f":"IF(S115=\"\",\"\",INDEX(referentes!S:T,MATCH(S115,referentes!T:T,0),1))","v":""},null,null,null,"","","","",111,"","","","",{"$f":"IF(A115=\"\",\"\",INDEX(ACTIVIDADES!D:G,MATCH(A115,ACTIVIDADES!G:G,0),1))","v":""},"","","",{"$f":"IF(A115=\"\",\"\",INDEX(ACTIVIDADES!D:I,MATCH(A115,ACTIVIDADES!G:G,0),4))","v":""},{"$f":"IF(E115=\"\",\"\",INDEX(referentes!AN:AQ,MATCH(E115,referentes!AQ:AQ,0),1))","v":""},{"$f":"IF(F115=\"\",\"\",INDEX(referentes!A:B,MATCH(F115,referentes!B:B,0),1))","v":""},{"$f":"IF(H115=\"\",\"\",INDEX(referentes!D:E,MATCH(H115,referentes!E:E,0),1))","v":""}]
[null,null,{"$f":"IF(B116=\"\",\"\",INDEX(referentes!J:K,MATCH(B116,referentes!K:K,0),1))","v":""},null,null,null,null,null,null,{"$f":"IF(I116=\"\",\"\",INDEX(referentes!G:H,MATCH(I116,referentes!H:H,0),1))","v":""},null,null,null,{"$f":"IF(O116=\"\",\"\",INDEX(referentes!AE:AF,MATCH(O116,referentes!AF:AF,0),1))","v":""},null,{"$f":"IF(Q116=\"\",\"\",INDEX(referentes!V:W,MATCH(Q116,referentes!W:W,0),1))","v":""},null,{"$f":"IF(S116=\"\",\"\",INDEX(referentes!S:T,MATCH(S116,referentes!T:T,0),1))","v":""},null,null,null,"","","","",112,"","","","",{"$f":"IF(A116=\"\",\"\",INDEX(ACTIVIDADES!D:G,MATCH(A116,ACTIVIDADES!G:G,0),1))","v":""},"","","",{"$f":"IF(A116=\"\",\"\",INDEX(ACTIVIDADES!D:I,MATCH(A116,ACTIVIDADES!G:G,0),4))","v":""},{"$f":"IF(E116=\"\",\"\",INDEX(referentes!AN:AQ,MATCH(E116,referentes!AQ:AQ,0),1))","v":""},{"$f":"IF(F116=\"\",\"\",INDEX(referentes!A:B,MATCH(F116,referentes!B:B,0),1))","v":""},{"$f":"IF(H116=\"\",\"\",INDEX(referentes!D:E,MATCH(H116,referentes!E:E,0),1))","v":""}]
[null,null,{"$f":"IF(B117=\"\",\"\",INDEX(referentes!J:K,MATCH(B117,referentes!K:K,0),1))","v":""},null,null,null,null,null,null,{"$f":"IF(I117=\"\",\"\",INDEX(referentes!G:H,MATCH(I117,referentes!H:H,0),1))","v":""},null,null,null,{"$f":"IF(O117=\"\",\"\",INDEX(referentes!AE:AF,MATCH(O117,referentes!AF:AF,0),1))","v":""},null,{"$f":"IF(Q117=\"\",\"\",INDEX(referentes!V:W,MATCH(Q117,referentes!W:W,0),1))","v":""},null,{"$f":"IF(S117=\"\",\"\",INDEX(referentes!S:T,MATCH(S117,referentes!T:T,0),1))","v":""},null,null,null,"","","","",113,"","","","",{"$f":"IF(A117=\"\",\"\",INDEX(ACTIVIDADES!D:G,MATCH(A117,ACTIVIDADES!G:G,0),1))","v":""},"","","",{"$f":"IF(A117=\"\",\"\",INDEX(ACTIVIDADES!D:I,MATCH(A117,ACTIVIDADES!G:G,0),4))","v":""},{"$f":"IF(E117=\"\",\"\",INDEX(referentes!AN:AQ,MATCH(E117,referentes!AQ:AQ,0),1))","v":""},{"$f":"IF(F117=\"\",\"\",INDEX(referentes!A:B,MATCH(F117,referentes!B:B,0),1))","v":""},{"$f":"IF(H117=\"\",\"\",INDEX(referentes!D:E,MATCH(H117,referentes!E:E,0),1))","v":""}]
[null,null,{"$f":"IF(B118=\"\",\"\",INDEX(referentes!J:K,MATCH(B118,referentes!K:K,0),1))","v":""},null,null,null,null,null,null,{"$f":"IF(I118=\"\",\"\",INDEX(referentes!G:H,MATCH(I118,referentes!H:H,0),1))","v":""},null,null,null,{"$f":"IF(O118=\"\",\"\",INDEX(referentes!AE:AF,MATCH(O118,referentes!AF:AF,0),1))","v":""},null,{"$f":"IF(Q118=\"\",\"\",INDEX(referentes!V:W,MATCH(Q118,referentes!W:W,0),1))","v":""},null,{"$f":"IF(S118=\"\",\"\",INDEX(referentes!S:T,MATCH(S118,referentes!T:T,0),1))","v":""},null,null,null,"","","","",114,"","","","",{"$f":"IF(A118=\"\",\"\",INDEX(ACTIVIDADES!D:G,MATCH(A118,ACTIVIDADES!G:G,0),1))","v":""},"","","",{"$f":"IF(A118=\"\",\"\",INDEX(ACTIVIDADES!D:I,MATCH(A118,ACTIVIDADES!G:G,0),4))","v":""},{"$f":"IF(E118=\"\",\"\",INDEX(referentes!AN:AQ,MATCH(E118,referentes!AQ:AQ,0),1))","v":""},{"$f":"IF(F118=\"\",\"\",INDEX(referentes!A:B,MATCH(F118,referentes!B:B,0),1))","v":""},{"$f":"IF(H118=\"\",\"\",INDEX(referentes!D:E,MATCH(H118,referentes!E:E,0),1))","v":""}]
[null,null,{"$f":"IF(B119=\"\",\"\",INDEX(referentes!J:K,MATCH(B119,referentes!K:K,0),1))","v":""},null,null,null,null,null,null,{"$f":"IF(I119=\"\",\"\",INDEX(referentes!G:H,MATCH(I119,referentes!H:H,0),1))","v":""},null,null,null,{"$f":"IF(O119=\"\",\"\",INDEX(referentes!AE:AF,MATCH(O119,referentes!AF:AF,0),1))","v":""},null,{"$f":"IF(Q119=\"\",\"\",INDEX(referentes!V:W,MATCH(Q119,referentes!W:W,0),1))","v":""},null,{"$f":"IF(S119=\"\",\"\",INDEX(referentes!S:T,MATCH(S119,referentes!T:T,0),1))","v":""},null,null,null,"","","","",115,"","","","",{"$f":"IF(A119=\"\",\"\",INDEX(ACTIVIDADES!D:G,MATCH(A119,ACTIVIDADES!G:G,0),1))","v":""},"","","",{"$f":"IF(A119=\"\",\"\",INDEX(ACTIVIDADES!D:I,MATCH(A119,ACTIVIDADES!G:G,0),4))","v":""},{"$f":"IF(E119=\"\",\"\",INDEX(referentes!AN:AQ,MATCH(E119,referentes!AQ:AQ,0),1))","v":""},{"$f":"IF(F119=\"\",\"\",INDEX(referentes!A:B,MATCH(F119,referentes!B:B,0),1))","v":""},{"$f":"IF(H119=\"\",\"\",INDEX(referentes!D:E,MATCH(H119,referentes!E:E,0),1))","v":""}]
[null,null,{"$f":"IF(B120=\"\",\"\",INDEX(referentes!J:K,MATCH(B120,referentes!K:K,0),1))","v":""},null,null,null,null,null,null,{"$f":"IF(I120=\"\",\"\",INDEX(referentes!G:H,MATCH(I120,referentes!H:H,0),1))","v":""},null,null,null,{"$f":"IF(O120=\"\",\"\",INDEX(referentes!AE:AF,MATCH(O120,referentes!AF:AF,0),1))","v":""},null,{"$f":"IF(Q120=\"\",\"\",INDEX(referentes!V:W,MATCH(Q120,referentes!W:W,0),1))","v":""},null,{"$f":"IF(S120=\"\",\"\",INDEX(referentes!S:T,MATCH(S120,referentes!T:T,0),1))","v":""},null,null,null,"","","","",116,"","","","",{"$f":"IF(A120=\"\",\"\",INDEX(ACTIVIDADES!D:G,MATCH(A120,ACTIVIDADES!G:G,0),1))","v":""},"","","",{"$f":"IF(A120=\"\",\"\",INDEX(ACTIVIDADES!D:I,MATCH(A120,ACTIVIDADES!G:G,0),4))","v":""},{"$f":"IF(E120=\"\",\"\",INDEX(referentes!AN:AQ,MATCH(E120,referentes!AQ:AQ,0),1))","v":""},{"$f":"IF(F120=\"\",\"\",INDEX(referentes!A:B,MATCH(F120,referentes!B:B,0),1))","v":""},{"$f":"IF(H120=\"\",\"\",INDEX(referentes!D:E,MATCH(H120,referentes!E:E,0),1))","v":""}]
[null,null,{"$f":"IF(B121=\"\",\"\",INDEX(referentes!J:K,MATCH(B121,referentes!K:K,0),1))","v":""},null,null,null,null,null,null,{"$f":"IF(I121=\"\",\"\",INDEX(referentes!G:H,MATCH(I121,referentes!H:H,0),1))","v":""},null,null,null,{"$f":"IF(O121=\"\",\"\",INDEX(referentes!AE:AF,MATCH(O121,referentes!AF:AF,0),1))","v":""},null,{"$f":"IF(Q121=\"\",\"\",INDEX(referentes!V:W,MATCH(Q121,referentes!W:W,0),1))","v":""},null,{"$f":"IF(S121=\"\",\"\",INDEX(referentes!S:T,MATCH(S121,referentes!T:T,0),1))","v":""},null,null,null,"","","","",117,"","","","",{"$f":"IF(A121=\"\",\"\",INDEX(ACTIVIDADES!D:G,MATCH(A121,ACTIVIDADES!G:G,0),1))","v":""},"","","",{"$f":"IF(A121=\"\",\"\",INDEX(ACTIVIDADES!D:I,MATCH(A121,ACTIVIDADES!G:G,0),4))","v":""},{"$f":"IF(E121=\"\",\"\",INDEX(referentes!AN:AQ,MATCH(E121,referentes!AQ:AQ,0),1))","v":""},{"$f":"IF(F121=\"\",\"\",INDEX(referentes!A:B,MATCH(F121,referentes!B:B,0),1))","v":""},{"$f":"IF(H121=\"\",\"\",INDEX(referentes!D:E,MATCH(H121,referentes!E:E,0),1))","v":""}]
[null,null,{"$f":"IF(B122=\"\",\"\",INDEX(referentes!J:K,MATCH(B122,referentes!K:K,0),1))","v":""},null,null,null,null,null,null,{"$f":"IF(I122=\"\",\"\",INDEX(referentes!G:H,MATCH(I122,referentes!H:H,0),1))","v":""},null,null,null,{"$f":"IF(O122=\"\",\"\",INDEX(referentes!AE:AF,MATCH(O122,referentes!AF:AF,0),1))","v":""},null,{"$f":"IF(Q122=\"\",\"\",INDEX(referentes!V:W,MATCH(Q122,referentes!W:W,0),1))","v":""},null,{"$f":"IF(S122=\"\",\"\",INDEX(referentes!S:T,MATCH(S122,referentes!T:T,0),1))","v":""},null,null,null,"","","","",118,"","","","",{"$f":"IF(A122=\"\",\"\",INDEX(ACTIVIDADES!D:G,MATCH(A122,ACTIVIDADES!G:G,0),1))","v":""},"","","",{"$f":"IF(A122=\"\",\"\",INDEX(ACTIVIDADES!D:I,MATCH(A122,ACTIVIDADES!G:G,0),4))","v":""},{"$f":"IF(E122=\"\",\"\",INDEX(referentes!AN:AQ,MATCH(E122,referentes!AQ:AQ,0),1))","v":""},{"$f":"IF(F122=\"\",\"\",INDEX(referentes!A:B,MATCH(F122,referentes!B:B,0),1))","v":""},{"$f":"IF(H122=\"\",\"\",INDEX(referentes!D:E,MATCH(H122,referentes!E:E,0),1))","v":""}]
[null,null,{"$f":"IF(B123=\"\",\"\",INDEX(referentes!J:K,MATCH(B123,referentes!K:K,0),1))","v":""},null,null,null,null,null,null,{"$f":"IF(I123=\"\",\"\",INDEX(referentes!G:H,MATCH(I123,referentes!H:H,0),1))","v":""},null,null,null,{"$f":"IF(O123=\"\",\"\",INDEX(referentes!AE:AF,MATCH(O123,referentes!AF:AF,0),1))","v":""},null,{"$f":"IF(Q123=\"\",\"\",INDEX(referentes!V:W,MATCH(Q123,referentes!W:W,0),1))","v":""},null,{"$f":"IF(S123=\"\",\"\",INDEX(referentes!S:T,MATCH(S123,referentes!T:T,0),1))","v":""},null,null,null,"","","","",119,"","","","",{"$f":"IF(A123=\"\",\"\",INDEX(ACTIVIDADES!D:G,MATCH(A123,ACTIVIDADES!G:G,0),1))","v":""},"","","",{"$f":"IF(A123=\"\",\"\",INDEX(ACTIVIDADES!D:I,MATCH(A123,ACTIVIDADES!G:G,0),4))","v":""},{"$f":"IF(E123=\"\",\"\",INDEX(referentes!AN:AQ,MATCH(E123,referentes!AQ:AQ,0),1))","v":""},{"$f":"IF(F123=\"\",\"\",INDEX(referentes!A:B,MATCH(F123,referentes!B:B,0),1))","v":""},{"$f":"IF(H123=\"\",\"\",INDEX(referentes!D:E,MATCH(H123,referentes!E:E,0),1))","v":""}]
[null,null,{"$f":"IF(B124=\"\",\"\",INDEX(referentes!J:K,MATCH(B124,referentes!K:K,0),1))","v":""},null,null,null,null,null,null,{"$f":"IF(I124=\"\",\"\",INDEX(referentes!G:H,MATCH(I124,referentes!H:H,0),1))","v":""},null,null,null,{"$f":"IF(O124=\"\",\"\",INDEX(referentes!AE:AF,MATCH(O124,referentes!AF:AF,0),1))","v":""},null,{"$f":"IF(Q124=\"\",\"\",INDEX(referentes!V:W,MATCH(Q124,referentes!W:W,0),1))","v":""},null,{"$f":"IF(S124=\"\",\"\",INDEX(referentes!S:T,MATCH(S124,referentes!T:T,0),1))","v":""},null,null,null,"","","","",120,"","","","",{"$f":"IF(A124=\"\",\"\",INDEX(ACTIVIDADES!D:G,MATCH(A124,ACTIVIDADES!G:G,0),1))","v":""},"","","",{"$f":"IF(A124=\"\",\"\",INDEX(ACTIVIDADES!D:I,MATCH(A124,ACTIVIDADES!G:G,0),4))","v":""},{"$f":"IF(E124=\"\",\"\",INDEX(referentes!AN:AQ,MATCH(E124,referentes!AQ:AQ,0),1))","v":""},{"$f":"IF(F124=\"\",\"\",INDEX(referentes!A:B,MATCH(F124,referentes!B:B,0),1))","v":""},{"$f":"IF(H124=\"\",\"\",INDEX(referentes!D:E,MATCH(H124,referentes!E:E,0),1))","v":""}]
[null,null,{"$f":"IF(B125=\"\",\"\",INDEX(referentes!J:K,MATCH(B125,referentes!K:K,0),1))","v":""},null,null,null,null,null,null,{"$f":"IF(I125=\"\",\"\",INDEX(referentes!G:H,MATCH(I125,referentes!H:H,0),1))","v":""},null,null,null,{"$f":"IF(O125=\"\",\"\",INDEX(referentes!AE:AF,MATCH(O125,referentes!AF:AF,0),1))","v":""},null,{"$f":"IF(Q125=\"\",\"\",INDEX(referentes!V:W,MATCH(Q125,referentes!W:W,0),1))","v":""},null,{"$f":"IF(S125=\"\",\"\",INDEX(referentes!S:T,MATCH(S125,referentes!T:T,0),1))","v":""},null,null,null,"","","","",121,"","","","",{"$f":"IF(A125=\"\",\"\",INDEX(ACTIVIDADES!D:G,MATCH(A125,ACTIVIDADES!G:G,0),1))","v":""},"","","",{"$f":"IF(A125=\"\",\"\",INDEX(ACTIVIDADES!D:I,MATCH(A125,ACTIVIDADES!G:G,0),4))","v":""},{"$f":"IF(E125=\"\",\"\",INDEX(referentes!AN:AQ,MATCH(E125,referentes!AQ:AQ,0),1))","v":""},{"$f":"IF(F125=\"\",\"\",INDEX(referentes!A:B,MATCH(F125,referentes!B:B,0),1))","v":""},{"$f":"IF(H125=\"\",\"\",INDEX(referentes!D:E,MATCH(H125,referentes!E:E,0),1))","v":""}]
[null,null,{"$f":"IF(B126=\"\",\"\",INDEX(referentes!J:K,MATCH(B126,referentes!K:K,0),1))","v":""},null,null,null,null,null,null,{"$f":"IF(I126=\"\",\"\",INDEX(referentes!G:H,MATCH(I126,referentes!H:H,0),1))","v":""},null,null,null,{"$f":"IF(O126=\"\",\"\",INDEX(referentes!AE:AF,MATCH(O126,referentes!AF:AF,0),1))","v":""},null,{"$f":"IF(Q126=\"\",\"\",INDEX(referentes!V:W,MATCH(Q126,referentes!W:W,0),1))","v":""},null,{"$f":"IF(S126=\"\",\"\",INDEX(referentes!S:T,MATCH(S126,referentes!T:T,0),1))","v":""},null,null,null,"","","","",122,"","","","",{"$f":"IF(A126=\"\",\"\",INDEX(ACTIVIDADES!D:G,MATCH(A126,ACTIVIDADES!G:G,0),1))","v":""},"","","",{"$f":"IF(A126=\"\",\"\",INDEX(ACTIVIDADES!D:I,MATCH(A126,ACTIVIDADES!G:G,0),4))","v":""},{"$f":"IF(E126=\"\",\"\",INDEX(referentes!AN:AQ,MATCH(E126,referentes!AQ:AQ,0),1))","v":""},{"$f":"IF(F126=\"\",\"\",INDEX(referentes!A:B,MATCH(F126,referentes!B:B,0),1))","v":""},{"$f":"IF(H126=\"\",\"\",INDEX(referentes!D:E,MATCH(H126,referentes!E:E,0),1))","v":""}]
[null,null,{"$f":"IF(B127=\"\",\"\",INDEX(referentes!J:K,MATCH(B127,referentes!K:K,0),1))","v":""},null,null,null,null,null,null,{"$f":"IF(I127=\"\",\"\",INDEX(referentes!G:H,MATCH(I127,referentes!H:H,0),1))","v":""},null,null,null,{"$f":"IF(O127=\"\",\"\",INDEX(referentes!AE:AF,MATCH(O127,referentes!AF:AF,0),1))","v":""},null,{"$f":"IF(Q127=\"\",\"\",INDEX(referentes!V:W,MATCH(Q127,referentes!W:W,0),1))","v":""},null,{"$f":"IF(S127=\"\",\"\",INDEX(referentes!S:T,MATCH(S127,referentes!T:T,0),1))","v":""},null,null,null,"","","","",123,"","","","",{"$f":"IF(A127=\"\",\"\",INDEX(ACTIVIDADES!D:G,MATCH(A127,ACTIVIDADES!G:G,0),1))","v":""},"","","",{"$f":"IF(A127=\"\",\"\",INDEX(ACTIVIDADES!D:I,MATCH(A127,ACTIVIDADES!G:G,0),4))","v":""},{"$f":"IF(E127=\"\",\"\",INDEX(referentes!AN:AQ,MATCH(E127,referentes!AQ:AQ,0),1))","v":""},{"$f":"IF(F127=\"\",\"\",INDEX(referentes!A:B,MATCH(F127,referentes!B:B,0),1))","v":""},{"$f":"IF(H127=\"\",\"\",INDEX(referentes!D:E,MATCH(H127,referentes!E:E,0),1))","v":""}]
[null,null,{"$f":"IF(B128=\"\",\"\",INDEX(referentes!J:K,MATCH(B128,referentes!K:K,0),1))","v":""},null,null,null,null,null,null,{"$f":"IF(I128=\"\",\"\",INDEX(referentes!G:H,MATCH(I128,referentes!H:H,0),1))","v":""},null,null,null,{"$f":"IF(O128=\"\",\"\",INDEX(referentes!AE:AF,MATCH(O128,referentes!AF:AF,0),1))","v":""},null,{"$f":"IF(Q128=\"\",\"\",INDEX(referentes!V:W,MATCH(Q128,referentes!W:W,0),1))","v":""},null,{"$f":"IF(S128=\"\",\"\",INDEX(referentes!S:T,MATCH(S128,referentes!T:T,0),1))","v":""},null,null,null,"","","","",124,"","","","",{"$f":"IF(A128=\"\",\"\",INDEX(ACTIVIDADES!D:G,MATCH(A128,ACTIVIDADES!G:G,0),1))","v":""},"","","",{"$f":"IF(A128=\"\",\"\",INDEX(ACTIVIDADES!D:I,MATCH(A128,ACTIVIDADES!G:G,0),4))","v":""},{"$f":"IF(E128=\"\",\"\",INDEX(referentes!AN:AQ,MATCH(E128,referentes!AQ:AQ,0),1))","v":""},{"$f":"IF(F128=\"\",\"\",INDEX(referentes!A:B,MATCH(F128,referentes!B:B,0),1))","v":""},{"$f":"IF(H128=\"\",\"\",INDEX(referentes!D:E,MATCH(H128,referentes!E:E,0),1))","v":""}]
[null,null,{"$f":"IF(B129=\"\",\"\",INDEX(referentes!J:K,MATCH(B129,referentes!K:K,0),1))","v":""},null,null,null,null,null,null,{"$f":"IF(I129=\"\",\"\",INDEX(referentes!G:H,MATCH(I129,referentes!H:H,0),1))","v":""},null,null,null,{"$f":"IF(O129=\"\",\"\",INDEX(referentes!AE:AF,MATCH(O129,referentes!AF:AF,0),1))","v":""},null,{"$f":"IF(Q129=\"\",\"\",INDEX(referentes!V:W,MATCH(Q129,referentes!W:W,0),1))","v":""},null,{"$f":"IF(S129=\"\",\"\",INDEX(referentes!S:T,MATCH(S129,referentes!T:T,0),1))","v":""},null,null,null,"","","","",125,"","","","",{"$f":"IF(A129=\"\",\"\",INDEX(ACTIVIDADES!D:G,MATCH(A129,ACTIVIDADES!G:G,0),1))","v":""},"","","",{"$f":"IF(A129=\"\",\"\",INDEX(ACTIVIDADES!D:I,MATCH(A129,ACTIVIDADES!G:G,0),4))","v":""},{"$f":"IF(E129=\"\",\"\",INDEX(referentes!AN:AQ,MATCH(E129,referentes!AQ:AQ,0),1))","v":""},{"$f":"IF(F129=\"\",\"\",INDEX(referentes!A:B,MATCH(F129,referentes!B:B,0),1))","v":""},{"$f":"IF(H129=\"\",\"\",INDEX(referentes!D:E,MATCH(H129,referentes!E:E,0),1))","v":""}]
[null,null,{"$f":"IF(B130=\"\",\"\",INDEX(referentes!J:K,MATCH(B130,referentes!K:K,0),1))","v":""},null,null,null,null,null,null,{"$f":"IF(I130=\"\",\"\",INDEX(referentes!G:H,MATCH(I130,referentes!H:H,0),1))","v":""},null,null,null,{"$f":"IF(O130=\"\",\"\",INDEX(referentes!AE:AF,MATCH(O130,referentes!AF:AF,0),1))","v":""},null,{"$f":"IF(Q130=\"\",\"\",INDEX(referentes!V:W,MATCH(Q130,referentes!W:W,0),1))","v":""},null,{"$f":"IF(S130=\"\",\"\",INDEX(referentes!S:T,MATCH(S130,referentes!T:T,0),1))","v":""},null,null,null,"","","","",126,"","","","",{"$f":"IF(A130=\"\",\"\",INDEX(ACTIVIDADES!D:G,MATCH(A130,ACTIVIDADES!G:G,0),1))","v":""},"","","",{"$f":"IF(A130=\"\",\"\",INDEX(ACTIVIDADES!D:I,MATCH(A130,ACTIVIDADES!G:G,0),4))","v":""},{"$f":"IF(E130=\"\",\"\",INDEX(referentes!AN:AQ,MATCH(E130,referentes!AQ:AQ,0),1))","v":""},{"$f":"IF(F130=\"\",\"\",INDEX(referentes!A:B,MATCH(F130,referentes!B:B,0),1))","v":""},{"$f":"IF(H130=\"\",\"\",INDEX(referentes!D:E,MATCH(H130,referentes!E:E,0),1))","v":""}]
[null,null,{"$f":"IF(B131=\"\",\"\",INDEX(referentes!J:K,MATCH(B131,referentes!K:K,0),1))","v":""},null,null,null,null,null,null,{"$f":"IF(I131=\"\",\"\",INDEX(referentes!G:H,MATCH(I131,referentes!H:H,0),1))","v":""},null,null,null,{"$f":"IF(O131=\"\",\"\",INDEX(referentes!AE:AF,MATCH(O131,referentes!AF:AF,0),1))","v":""},null,{"$f":"IF(Q131=\"\",\"\",INDEX(referentes!V:W,MATCH(Q131,referentes!W:W,0),1))","v":""},null,{"$f":"IF(S131=\"\",\"\",INDEX(referentes!S:T,MATCH(S131,referentes!T:T,0),1))","v":""},null,null,null,"","","","",127,"","","","",{"$f":"IF(A131=\"\",\"\",INDEX(ACTIVIDADES!D:G,MATCH(A131,ACTIVIDADES!G:G,0),1))","v":""},"","","",{"$f":"IF(A131=\"\",\"\",INDEX(ACTIVIDADES!D:I,MATCH(A131,ACTIVIDADES!G:G,0),4))","v":""},{"$f":"IF(E131=\"\",\"\",INDEX(referentes!AN:AQ,MATCH(E131,referentes!AQ:AQ,0),1))","v":""},{"$f":"IF(F131=\"\",\"\",INDEX(referentes!A:B,MATCH(F131,referentes!B:B,0),1))","v":""},{"$f":"IF(H131=\"\",\"\",INDEX(referentes!D:E,MATCH(H131,referentes!E:E,0),1))","v":""}]
[null,null,{"$f":"IF(B132=\"\",\"\",INDEX(referentes!J:K,MATCH(B132,referentes!K:K,0),1))","v":""},null,null,null,null,null,null,{"$f":"IF(I132=\"\",\"\",INDEX(referentes!G:H,MATCH(I132,referentes!H:H,0),1))","v":""},null,null,null,{"$f":"IF(O132=\"\",\"\",INDEX(referentes!AE:AF,MATCH(O132,referentes!AF:AF,0),1))","v":""},null,{"$f":"IF(Q132=\"\",\"\",INDEX(referentes!V:W,MATCH(Q132,referentes!W:W,0),1))","v":""},null,{"$f":"IF(S132=\"\",\"\",INDEX(referentes!S:T,MATCH(S132,referentes!T:T,0),1))","v":""},null,null,null,"","","","",128,"","","","",{"$f":"IF(A132=\"\",\"\",INDEX(ACTIVIDADES!D:G,MATCH(A132,ACTIVIDADES!G:G,0),1))","v":""},"","","",{"$f":"IF(A132=\"\",\"\",INDEX(ACTIVIDADES!D:I,MATCH(A132,ACTIVIDADES!G:G,0),4))","v":""},{"$f":"IF(E132=\"\",\"\",INDEX(referentes!AN:AQ,MATCH(E132,referentes!AQ:AQ,0),1))","v":""},{"$f":"IF(F132=\"\",\"\",INDEX(referentes!A:B,MATCH(F132,referentes!B:B,0),1))","v":""},{"$f":"IF(H132=\"\",\"\",INDEX(referentes!D:E,MATCH(H132,referentes!E:E,0),1))","v":""}]
[null,null,{"$f":"IF(B133=\"\",\"\",INDEX(referentes!J:K,MATCH(B133,referentes!K:K,0),1))","v":""},null,null,null,null,null,null,{"$f":"IF(I133=\"\",\"\",INDEX(referentes!G:H,MATCH(I133,referentes!H:H,0),1))","v":""},null,null,null,{"$f":"IF(O133=\"\",\"\",INDEX(referentes!AE:AF,MATCH(O133,referentes!AF:AF,0),1))","v":""},null,{"$f":"IF(Q133=\"\",\"\",INDEX(referentes!V:W,MATCH(Q133,referentes!W:W,0),1))","v":""},null,{"$f":"IF(S133=\"\",\"\",INDEX(referentes!S:T,MATCH(S133,referentes!T:T,0),1))","v":""},null,null,null,{"$f":"IF(A133=\"\",\"\",CONCATENATE(AE133,Z133))","v":""},{"$f":"IF(A133=\"\",\"\",CONCATENATE(V133,$W$4))","v":""},{"$f":"IF(A133=\"\",\"\",CONCATENATE(V133,$X$4))","v":""},{"$f":"IF(A133=\"\",\"\",CONCATENATE(V133,$Y$4))","v":""},129,"","","","",{"$f":"IF(A133=\"\",\"\",INDEX(ACTIVIDADES!D:G,MATCH(A133,ACTIVIDADES!G:G,0),1))","v":""},{"$f":"IF(A133=\"\",\"\",CONCATENATE(AE133,$AF$4))","v":""},{"$f":"IF(A133=\"\",\"\",CONCATENATE(AE133,$AG$4))","v":""},{"$f":"IF(A133=\"\",\"\",CONCATENATE(AE133,$AH$4))","v":""},{"$f":"IF(A133=\"\",\"\",INDEX(ACTIVIDADES!D:I,MATCH(A133,ACTIVIDADES!G:G,0),4))","v":""},{"$f":"IF(E133=\"\",\"\",INDEX(referentes!AN:AQ,MATCH(E133,referentes!AQ:AQ,0),1))","v":""},{"$f":"IF(F133=\"\",\"\",INDEX(referentes!A:B,MATCH(F133,referentes!B:B,0),1))","v":""},{"$f":"IF(H133=\"\",\"\",INDEX(referentes!D:E,MATCH(H133,referentes!E:E,0),1))","v":""}]
[null,null,{"$f":"IF(B134=\"\",\"\",INDEX(referentes!J:K,MATCH(B134,referentes!K:K,0),1))","v":""},null,null,null,null,null,null,{"$f":"IF(I134=\"\",\"\",INDEX(referentes!G:H,MATCH(I134,referentes!H:H,0),1))","v":""},null,null,null,{"$f":"IF(O134=\"\",\"\",INDEX(referentes!AE:AF,MATCH(O134,referentes!AF:AF,0),1))","v":""},null,{"$f":"IF(Q134=\"\",\"\",INDEX(referentes!V:W,MATCH(Q134,referentes!W:W,0),1))","v":""},null,{"$f":"IF(S134=\"\",\"\",INDEX(referentes!S:T,MATCH(S134,referentes!T:T,0),1))","v":""},null,null,null,"","","","",130,{"$f":"IF(A134=\"\",\"\",IF(A134=A133,\"\",AE134))","v":""},{"$f":"IF(AA134=\"\",\"\",CONCATENATE(AA134,$AB$4))","v":""},{"$f":"IF(AB134=\"\",\"\",CONCATENATE(AA134,$AC$4))","v":""},{"$f":"IF(AC134=\"\",\"\",CONCATENATE(AA134,$AD$4))","v":""},{"$f":"IF(A134=\"\",\"\",INDEX(ACTIVIDADES!D:G,MATCH(A134,ACTIVIDADES!G:G,0),1))","v":""},"","","",{"$f":"IF(A134=\"\",\"\",INDEX(ACTIVIDADES!D:I,MATCH(A134,ACTIVIDADES!G:G,0),4))","v":""},{"$f":"IF(E134=\"\",\"\",INDEX(referentes!AN:AQ,MATCH(E134,referentes!AQ:AQ,0),1))","v":""},{"$f":"IF(F134=\"\",\"\",INDEX(referentes!A:B,MATCH(F134,referentes!B:B,0),1))","v":""},{"$f":"IF(H134=\"\",\"\",INDEX(referentes!D:E,MATCH(H134,referentes!E:E,0),1))","v":""}]
[null,null,{"$f":"IF(B135=\"\",\"\",INDEX(referentes!J:K,MATCH(B135,referentes!K:K,0),1))","v":""},null,null,null,null,null,null,{"$f":"IF(I135=\"\",\"\",INDEX(referentes!G:H,MATCH(I135,referentes!H:H,0),1))","v":""},null,null,null,{"$f":"IF(O135=\"\",\"\",INDEX(referentes!AE:AF,MATCH(O135,referentes!AF:AF,0),1))","v":""},null,{"$f":"IF(Q135=\"\",\"\",INDEX(referentes!V:W,MATCH(Q135,referentes!W:W,0),1))","v":""},null,{"$f":"IF(S135=\"\",\"\",INDEX(referentes!S:T,MATCH(S135,referentes!T:T,0),1))","v":""},null,null,null,"","","","",131,"","","","",{"$f":"IF(A135=\"\",\"\",INDEX(ACTIVIDADES!D:G,MATCH(A135,ACTIVIDADES!G:G,0),1))","v":""},"","","",{"$f":"IF(A135=\"\",\"\",INDEX(ACTIVIDADES!D:I,MATCH(A135,ACTIVIDADES!G:G,0),4))","v":""},{"$f":"IF(E135=\"\",\"\",INDEX(referentes!AN:AQ,MATCH(E135,referentes!AQ:AQ,0),1))","v":""},{"$f":"IF(F135=\"\",\"\",INDEX(referentes!A:B,MATCH(F135,referentes!B:B,0),1))","v":""},{"$f":"IF(H135=\"\",\"\",INDEX(referentes!D:E,MATCH(H135,referentes!E:E,0),1))","v":""}]
[null,null,{"$f":"IF(B136=\"\",\"\",INDEX(referentes!J:K,MATCH(B136,referentes!K:K,0),1))","v":""},null,null,null,null,null,null,{"$f":"IF(I136=\"\",\"\",INDEX(referentes!G:H,MATCH(I136,referentes!H:H,0),1))","v":""},null,null,null,{"$f":"IF(O136=\"\",\"\",INDEX(referentes!AE:AF,MATCH(O136,referentes!AF:AF,0),1))","v":""},null,{"$f":"IF(Q136=\"\",\"\",INDEX(referentes!V:W,MATCH(Q136,referentes!W:W,0),1))","v":""},null,{"$f":"IF(S136=\"\",\"\",INDEX(referentes!S:T,MATCH(S136,referentes!T:T,0),1))","v":""},null,null,null,"","","","",132,"","","","",{"$f":"IF(A136=\"\",\"\",INDEX(ACTIVIDADES!D:G,MATCH(A136,ACTIVIDADES!G:G,0),1))","v":""},"","","",{"$f":"IF(A136=\"\",\"\",INDEX(ACTIVIDADES!D:I,MATCH(A136,ACTIVIDADES!G:G,0),4))","v":""},{"$f":"IF(E136=\"\",\"\",INDEX(referentes!AN:AQ,MATCH(E136,referentes!AQ:AQ,0),1))","v":""},{"$f":"IF(F136=\"\",\"\",INDEX(referentes!A:B,MATCH(F136,referentes!B:B,0),1))","v":""},{"$f":"IF(H136=\"\",\"\",INDEX(referentes!D:E,MATCH(H136,referentes!E:E,0),1))","v":""}]
[null,null,{"$f":"IF(B137=\"\",\"\",INDEX(referentes!J:K,MATCH(B137,referentes!K:K,0),1))","v":""},null,null,null,null,null,null,{"$f":"IF(I137=\"\",\"\",INDEX(referentes!G:H,MATCH(I137,referentes!H:H,0),1))","v":""},null,null,null,{"$f":"IF(O137=\"\",\"\",INDEX(referentes!AE:AF,MATCH(O137,referentes!AF:AF,0),1))","v":""},null,{"$f":"IF(Q137=\"\",\"\",INDEX(referentes!V:W,MATCH(Q137,referentes!W:W,0),1))","v":""},null,{"$f":"IF(S137=\"\",\"\",INDEX(referentes!S:T,MATCH(S137,referentes!T:T,0),1))","v":""},null,null,null,"","","","",133,"","","","",{"$f":"IF(A137=\"\",\"\",INDEX(ACTIVIDADES!D:G,MATCH(A137,ACTIVIDADES!G:G,0),1))","v":""},"","","",{"$f":"IF(A137=\"\",\"\",INDEX(ACTIVIDADES!D:I,MATCH(A137,ACTIVIDADES!G:G,0),4))","v":""},{"$f":"IF(E137=\"\",\"\",INDEX(referentes!AN:AQ,MATCH(E137,referentes!AQ:AQ,0),1))","v":""},{"$f":"IF(F137=\"\",\"\",INDEX(referentes!A:B,MATCH(F137,referentes!B:B,0),1))","v":""},{"$f":"IF(H137=\"\",\"\",INDEX(referentes!D:E,MATCH(H137,referentes!E:E,0),1))","v":""}]
[null,null,{"$f":"IF(B138=\"\",\"\",INDEX(referentes!J:K,MATCH(B138,referentes!K:K,0),1))","v":""},null,null,null,null,null,null,{"$f":"IF(I138=\"\",\"\",INDEX(referentes!G:H,MATCH(I138,referentes!H:H,0),1))","v":""},null,null,null,{"$f":"IF(O138=\"\",\"\",INDEX(referentes!AE:AF,MATCH(O138,referentes!AF:AF,0),1))","v":""},null,{"$f":"IF(Q138=\"\",\"\",INDEX(referentes!V:W,MATCH(Q138,referentes!W:W,0),1))","v":""},null,{"$f":"IF(S138=\"\",\"\",INDEX(referentes!S:T,MATCH(S138,referentes!T:T,0),1))","v":""},null,null,null,"","","","",134,"","","","",{"$f":"IF(A138=\"\",\"\",INDEX(ACTIVIDADES!D:G,MATCH(A138,ACTIVIDADES!G:G,0),1))","v":""},"","","",{"$f":"IF(A138=\"\",\"\",INDEX(ACTIVIDADES!D:I,MATCH(A138,ACTIVIDADES!G:G,0),4))","v":""},{"$f":"IF(E138=\"\",\"\",INDEX(referentes!AN:AQ,MATCH(E138,referentes!AQ:AQ,0),1))","v":""},{"$f":"IF(F138=\"\",\"\",INDEX(referentes!A:B,MATCH(F138,referentes!B:B,0),1))","v":""},{"$f":"IF(H138=\"\",\"\",INDEX(referentes!D:E,MATCH(H138,referentes!E:E,0),1))","v":""}]
[null,null,{"$f":"IF(B139=\"\",\"\",INDEX(referentes!J:K,MATCH(B139,referentes!K:K,0),1))","v":""},null,null,null,null,null,null,{"$f":"IF(I139=\"\",\"\",INDEX(referentes!G:H,MATCH(I139,referentes!H:H,0),1))","v":""},null,null,null,{"$f":"IF(O139=\"\",\"\",INDEX(referentes!AE:AF,MATCH(O139,referentes!AF:AF,0),1))","v":""},null,{"$f":"IF(Q139=\"\",\"\",INDEX(referentes!V:W,MATCH(Q139,referentes!W:W,0),1))","v":""},null,{"$f":"IF(S139=\"\",\"\",INDEX(referentes!S:T,MATCH(S139,referentes!T:T,0),1))","v":""},null,null,null,"","","","",135,"","","","",{"$f":"IF(A139=\"\",\"\",INDEX(ACTIVIDADES!D:G,MATCH(A139,ACTIVIDADES!G:G,0),1))","v":""},"","","",{"$f":"IF(A139=\"\",\"\",INDEX(ACTIVIDADES!D:I,MATCH(A139,ACTIVIDADES!G:G,0),4))","v":""},{"$f":"IF(E139=\"\",\"\",INDEX(referentes!AN:AQ,MATCH(E139,referentes!AQ:AQ,0),1))","v":""},{"$f":"IF(F139=\"\",\"\",INDEX(referentes!A:B,MATCH(F139,referentes!B:B,0),1))","v":""},{"$f":"IF(H139=\"\",\"\",INDEX(referentes!D:E,MATCH(H139,referentes!E:E,0),1))","v":""}]
[null,null,{"$f":"IF(B140=\"\",\"\",INDEX(referentes!J:K,MATCH(B140,referentes!K:K,0),1))","v":""},null,null,null,null,null,null,{"$f":"IF(I140=\"\",\"\",INDEX(referentes!G:H,MATCH(I140,referentes!H:H,0),1))","v":""},null,null,null,{"$f":"IF(O140=\"\",\"\",INDEX(referentes!AE:AF,MATCH(O140,referentes!AF:AF,0),1))","v":""},null,{"$f":"IF(Q140=\"\",\"\",INDEX(referentes!V:W,MATCH(Q140,referentes!W:W,0),1))","v":""},null,{"$f":"IF(S140=\"\",\"\",INDEX(referentes!S:T,MATCH(S140,referentes!T:T,0),1))","v":""},null,null,null,"","","","",136,"","","","",{"$f":"IF(A140=\"\",\"\",INDEX(ACTIVIDADES!D:G,MATCH(A140,ACTIVIDADES!G:G,0),1))","v":""},"","","",{"$f":"IF(A140=\"\",\"\",INDEX(ACTIVIDADES!D:I,MATCH(A140,ACTIVIDADES!G:G,0),4))","v":""},{"$f":"IF(E140=\"\",\"\",INDEX(referentes!AN:AQ,MATCH(E140,referentes!AQ:AQ,0),1))","v":""},{"$f":"IF(F140=\"\",\"\",INDEX(referentes!A:B,MATCH(F140,referentes!B:B,0),1))","v":""},{"$f":"IF(H140=\"\",\"\",INDEX(referentes!D:E,MATCH(H140,referentes!E:E,0),1))","v":""}]
[null,null,{"$f":"IF(B141=\"\",\"\",INDEX(referentes!J:K,MATCH(B141,referentes!K:K,0),1))","v":""},null,null,null,null,null,null,{"$f":"IF(I141=\"\",\"\",INDEX(referentes!G:H,MATCH(I141,referentes!H:H,0),1))","v":""},null,null,null,{"$f":"IF(O141=\"\",\"\",INDEX(referentes!AE:AF,MATCH(O141,referentes!AF:AF,0),1))","v":""},null,{"$f":"IF(Q141=\"\",\"\",INDEX(referentes!V:W,MATCH(Q141,referentes!W:W,0),1))","v":""},null,{"$f":"IF(S141=\"\",\"\",INDEX(referentes!S:T,MATCH(S141,referentes!T:T,0),1))","v":""},null,null,null,"","","","",137,"","","","",{"$f":"IF(A141=\"\",\"\",INDEX(ACTIVIDADES!D:G,MATCH(A141,ACTIVIDADES!G:G,0),1))","v":""},"","","",{"$f":"IF(A141=\"\",\"\",INDEX(ACTIVIDADES!D:I,MATCH(A141,ACTIVIDADES!G:G,0),4))","v":""},{"$f":"IF(E141=\"\",\"\",INDEX(referentes!AN:AQ,MATCH(E141,referentes!AQ:AQ,0),1))","v":""},{"$f":"IF(F141=\"\",\"\",INDEX(referentes!A:B,MATCH(F141,referentes!B:B,0),1))","v":""},{"$f":"IF(H141=\"\",\"\",INDEX(referentes!D:E,MATCH(H141,referentes!E:E,0),1))","v":""}]
[null,null,{"$f":"IF(B142=\"\",\"\",INDEX(referentes!J:K,MATCH(B142,referentes!K:K,0),1))","v":""},null,null,null,null,null,null,{"$f":"IF(I142=\"\",\"\",INDEX(referentes!G:H,MATCH(I142,referentes!H:H,0),1))","v":""},null,null,null,{"$f":"IF(O142=\"\",\"\",INDEX(referentes!AE:AF,MATCH(O142,referentes!AF:AF,0),1))","v":""},null,{"$f":"IF(Q142=\"\",\"\",INDEX(referentes!V:W,MATCH(Q142,referentes!W:W,0),1))","v":""},null,{"$f":"IF(S142=\"\",\"\",INDEX(referentes!S:T,MATCH(S142,referentes!T:T,0),1))","v":""},null,null,null,"","","","",138,"","","","",{"$f":"IF(A142=\"\",\"\",INDEX(ACTIVIDADES!D:G,MATCH(A142,ACTIVIDADES!G:G,0),1))","v":""},"","","",{"$f":"IF(A142=\"\",\"\",INDEX(ACTIVIDADES!D:I,MATCH(A142,ACTIVIDADES!G:G,0),4))","v":""},{"$f":"IF(E142=\"\",\"\",INDEX(referentes!AN:AQ,MATCH(E142,referentes!AQ:AQ,0),1))","v":""},{"$f":"IF(F142=\"\",\"\",INDEX(referentes!A:B,MATCH(F142,referentes!B:B,0),1))","v":""},{"$f":"IF(H142=\"\",\"\",INDEX(referentes!D:E,MATCH(H142,referentes!E:E,0),1))","v":""}]
[null,null,{"$f":"IF(B143=\"\",\"\",INDEX(referentes!J:K,MATCH(B143,referentes!K:K,0),1))","v":""},null,null,null,null,null,null,{"$f":"IF(I143=\"\",\"\",INDEX(referentes!G:H,MATCH(I143,referentes!H:H,0),1))","v":""},null,null,null,{"$f":"IF(O143=\"\",\"\",INDEX(referentes!AE:AF,MATCH(O143,referentes!AF:AF,0),1))","v":""},null,{"$f":"IF(Q143=\"\",\"\",INDEX(referentes!V:W,MATCH(Q143,referentes!W:W,0),1))","v":""},null,{"$f":"IF(S143=\"\",\"\",INDEX(referentes!S:T,MATCH(S143,referentes!T:T,0),1))","v":""},null,null,null,"","","","",139,"","","","",{"$f":"IF(A143=\"\",\"\",INDEX(ACTIVIDADES!D:G,MATCH(A143,ACTIVIDADES!G:G,0),1))","v":""},"","","",{"$f":"IF(A143=\"\",\"\",INDEX(ACTIVIDADES!D:I,MATCH(A143,ACTIVIDADES!G:G,0),4))","v":""},{"$f":"IF(E143=\"\",\"\",INDEX(referentes!AN:AQ,MATCH(E143,referentes!AQ:AQ,0),1))","v":""},{"$f":"IF(F143=\"\",\"\",INDEX(referentes!A:B,MATCH(F143,referentes!B:B,0),1))","v":""},{"$f":"IF(H143=\"\",\"\",INDEX(referentes!D:E,MATCH(H143,referentes!E:E,0),1))","v":""}]
[null,null,{"$f":"IF(B144=\"\",\"\",INDEX(referentes!J:K,MATCH(B144,referentes!K:K,0),1))","v":""},null,null,null,null,null,null,{"$f":"IF(I144=\"\",\"\",INDEX(referentes!G:H,MATCH(I144,referentes!H:H,0),1))","v":""},null,null,null,{"$f":"IF(O144=\"\",\"\",INDEX(referentes!AE:AF,MATCH(O144,referentes!AF:AF,0),1))","v":""},null,{"$f":"IF(Q144=\"\",\"\",INDEX(referentes!V:W,MATCH(Q144,referentes!W:W,0),1))","v":""},null,{"$f":"IF(S144=\"\",\"\",INDEX(referentes!S:T,MATCH(S144,referentes!T:T,0),1))","v":""},null,null,null,"","","","",140,"","","","",{"$f":"IF(A144=\"\",\"\",INDEX(ACTIVIDADES!D:G,MATCH(A144,ACTIVIDADES!G:G,0),1))","v":""},"","","",{"$f":"IF(A144=\"\",\"\",INDEX(ACTIVIDADES!D:I,MATCH(A144,ACTIVIDADES!G:G,0),4))","v":""},{"$f":"IF(E144=\"\",\"\",INDEX(referentes!AN:AQ,MATCH(E144,referentes!AQ:AQ,0),1))","v":""},{"$f":"IF(F144=\"\",\"\",INDEX(referentes!A:B,MATCH(F144,referentes!B:B,0),1))","v":""},{"$f":"IF(H144=\"\",\"\",INDEX(referentes!D:E,MATCH(H144,referentes!E:E,0),1))","v":""}]
[null,null,{"$f":"IF(B145=\"\",\"\",INDEX(referentes!J:K,MATCH(B145,referentes!K:K,0),1))","v":""},null,null,null,null,null,null,{"$f":"IF(I145=\"\",\"\",INDEX(referentes!G:H,MATCH(I145,referentes!H:H,0),1))","v":""},null,null,null,{"$f":"IF(O145=\"\",\"\",INDEX(referentes!AE:AF,MATCH(O145,referentes!AF:AF,0),1))","v":""},null,{"$f":"IF(Q145=\"\",\"\",INDEX(referentes!V:W,MATCH(Q145,referentes!W:W,0),1))","v":""},null,{"$f":"IF(S145=\"\",\"\",INDEX(referentes!S:T,MATCH(S145,referentes!T:T,0),1))","v":""},null,null,null,"","","","",141,"","","","",{"$f":"IF(A145=\"\",\"\",INDEX(ACTIVIDADES!D:G,MATCH(A145,ACTIVIDADES!G:G,0),1))","v":""},"","","",{"$f":"IF(A145=\"\",\"\",INDEX(ACTIVIDADES!D:I,MATCH(A145,ACTIVIDADES!G:G,0),4))","v":""},{"$f":"IF(E145=\"\",\"\",INDEX(referentes!AN:AQ,MATCH(E145,referentes!AQ:AQ,0),1))","v":""},{"$f":"IF(F145=\"\",\"\",INDEX(referentes!A:B,MATCH(F145,referentes!B:B,0),1))","v":""},{"$f":"IF(H145=\"\",\"\",INDEX(referentes!D:E,MATCH(H145,referentes!E:E,0),1))","v":""}]
[null,null,{"$f":"IF(B146=\"\",\"\",INDEX(referentes!J:K,MATCH(B146,referentes!K:K,0),1))","v":""},null,null,null,null,null,null,{"$f":"IF(I146=\"\",\"\",INDEX(referentes!G:H,MATCH(I146,referentes!H:H,0),1))","v":""},null,null,null,{"$f":"IF(O146=\"\",\"\",INDEX(referentes!AE:AF,MATCH(O146,referentes!AF:AF,0),1))","v":""},null,{"$f":"IF(Q146=\"\",\"\",INDEX(referentes!V:W,MATCH(Q146,referentes!W:W,0),1))","v":""},null,{"$f":"IF(S146=\"\",\"\",INDEX(referentes!S:T,MATCH(S146,referentes!T:T,0),1))","v":""},null,null,null,"","","","",142,"","","","",{"$f":"IF(A146=\"\",\"\",INDEX(ACTIVIDADES!D:G,MATCH(A146,ACTIVIDADES!G:G,0),1))","v":""},"","","",{"$f":"IF(A146=\"\",\"\",INDEX(ACTIVIDADES!D:I,MATCH(A146,ACTIVIDADES!G:G,0),4))","v":""},{"$f":"IF(E146=\"\",\"\",INDEX(referentes!AN:AQ,MATCH(E146,referentes!AQ:AQ,0),1))","v":""},{"$f":"IF(F146=\"\",\"\",INDEX(referentes!A:B,MATCH(F146,referentes!B:B,0),1))","v":""},{"$f":"IF(H146=\"\",\"\",INDEX(referentes!D:E,MATCH(H146,referentes!E:E,0),1))","v":""}]
[null,null,{"$f":"IF(B147=\"\",\"\",INDEX(referentes!J:K,MATCH(B147,referentes!K:K,0),1))","v":""},null,null,null,null,null,null,{"$f":"IF(I147=\"\",\"\",INDEX(referentes!G:H,MATCH(I147,referentes!H:H,0),1))","v":""},null,null,null,{"$f":"IF(O147=\"\",\"\",INDEX(referentes!AE:AF,MATCH(O147,referentes!AF:AF,0),1))","v":""},null,{"$f":"IF(Q147=\"\",\"\",INDEX(referentes!V:W,MATCH(Q147,referentes!W:W,0),1))","v":""},null,{"$f":"IF(S147=\"\",\"\",INDEX(referentes!S:T,MATCH(S147,referentes!T:T,0),1))","v":""},null,null,null,"","","","",143,"","","","",{"$f":"IF(A147=\"\",\"\",INDEX(ACTIVIDADES!D:G,MATCH(A147,ACTIVIDADES!G:G,0),1))","v":""},"","","",{"$f":"IF(A147=\"\",\"\",INDEX(ACTIVIDADES!D:I,MATCH(A147,ACTIVIDADES!G:G,0),4))","v":""},{"$f":"IF(E147=\"\",\"\",INDEX(referentes!AN:AQ,MATCH(E147,referentes!AQ:AQ,0),1))","v":""},{"$f":"IF(F147=\"\",\"\",INDEX(referentes!A:B,MATCH(F147,referentes!B:B,0),1))","v":""},{"$f":"IF(H147=\"\",\"\",INDEX(referentes!D:E,MATCH(H147,referentes!E:E,0),1))","v":""}]
[null,null,{"$f":"IF(B148=\"\",\"\",INDEX(referentes!J:K,MATCH(B148,referentes!K:K,0),1))","v":""},null,null,null,null,null,null,{"$f":"IF(I148=\"\",\"\",INDEX(referentes!G:H,MATCH(I148,referentes!H:H,0),1))","v":""},null,null,null,{"$f":"IF(O148=\"\",\"\",INDEX(referentes!AE:AF,MATCH(O148,referentes!AF:AF,0),1))","v":""},null,{"$f":"IF(Q148=\"\",\"\",INDEX(referentes!V:W,MATCH(Q148,referentes!W:W,0),1))","v":""},null,{"$f":"IF(S148=\"\",\"\",INDEX(referentes!S:T,MATCH(S148,referentes!T:T,0),1))","v":""},null,null,null,"","","","",144,"","","","",{"$f":"IF(A148=\"\",\"\",INDEX(ACTIVIDADES!D:G,MATCH(A148,ACTIVIDADES!G:G,0),1))","v":""},"","","",{"$f":"IF(A148=\"\",\"\",INDEX(ACTIVIDADES!D:I,MATCH(A148,ACTIVIDADES!G:G,0),4))","v":""},{"$f":"IF(E148=\"\",\"\",INDEX(referentes!AN:AQ,MATCH(E148,referentes!AQ:AQ,0),1))","v":""},{"$f":"IF(F148=\"\",\"\",INDEX(referentes!A:B,MATCH(F148,referentes!B:B,0),1))","v":""},{"$f":"IF(H148=\"\",\"\",INDEX(referentes!D:E,MATCH(H148,referentes!E:E,0),1))","v":""}]
[null,null,{"$f":"IF(B149=\"\",\"\",INDEX(referentes!J:K,MATCH(B149,referentes!K:K,0),1))","v":""},null,null,null,null,null,null,{"$f":"IF(I149=\"\",\"\",INDEX(referentes!G:H,MATCH(I149,referentes!H:H,0),1))","v":""},null,null,null,{"$f":"IF(O149=\"\",\"\",INDEX(referentes!AE:AF,MATCH(O149,referentes!AF:AF,0),1))","v":""},null,{"$f":"IF(Q149=\"\",\"\",INDEX(referentes!V:W,MATCH(Q149,referentes!W:W,0),1))","v":""},null,{"$f":"IF(S149=\"\",\"\",INDEX(referentes!S:T,MATCH(S149,referentes!T:T,0),1))","v":""},null,null,null,"","","","",145,"","","","",{"$f":"IF(A149=\"\",\"\",INDEX(ACTIVIDADES!D:G,MATCH(A149,ACTIVIDADES!G:G,0),1))","v":""},"","","",{"$f":"IF(A149=\"\",\"\",INDEX(ACTIVIDADES!D:I,MATCH(A149,ACTIVIDADES!G:G,0),4))","v":""},{"$f":"IF(E149=\"\",\"\",INDEX(referentes!AN:AQ,MATCH(E149,referentes!AQ:AQ,0),1))","v":""},{"$f":"IF(F149=\"\",\"\",INDEX(referentes!A:B,MATCH(F149,referentes!B:B,0),1))","v":""},{"$f":"IF(H149=\"\",\"\",INDEX(referentes!D:E,MATCH(H149,referentes!E:E,0),1))","v":""}]
[null,null,{"$f":"IF(B150=\"\",\"\",INDEX(referentes!J:K,MATCH(B150,referentes!K:K,0),1))","v":""},null,null,null,null,null,null,{"$f":"IF(I150=\"\",\"\",INDEX(referentes!G:H,MATCH(I150,referentes!H:H,0),1))","v":""},null,null,null,{"$f":"IF(O150=\"\",\"\",INDEX(referentes!AE:AF,MATCH(O150,referentes!AF:AF,0),1))","v":""},null,{"$f":"IF(Q150=\"\",\"\",INDEX(referentes!V:W,MATCH(Q150,referentes!W:W,0),1))","v":""},null,{"$f":"IF(S150=\"\",\"\",INDEX(referentes!S:T,MATCH(S150,referentes!T:T,0),1))","v":""},null,null,null,"","","","",146,"","","","",{"$f":"IF(A150=\"\",\"\",INDEX(ACTIVIDADES!D:G,MATCH(A150,ACTIVIDADES!G:G,0),1))","v":""},"","","",{"$f":"IF(A150=\"\",\"\",INDEX(ACTIVIDADES!D:I,MATCH(A150,ACTIVIDADES!G:G,0),4))","v":""},{"$f":"IF(E150=\"\",\"\",INDEX(referentes!AN:AQ,MATCH(E150,referentes!AQ:AQ,0),1))","v":""},{"$f":"IF(F150=\"\",\"\",INDEX(referentes!A:B,MATCH(F150,referentes!B:B,0),1))","v":""},{"$f":"IF(H150=\"\",\"\",INDEX(referentes!D:E,MATCH(H150,referentes!E:E,0),1))","v":""}]
[null,null,{"$f":"IF(B151=\"\",\"\",INDEX(referentes!J:K,MATCH(B151,referentes!K:K,0),1))","v":""},null,null,null,null,null,null,{"$f":"IF(I151=\"\",\"\",INDEX(referentes!G:H,MATCH(I151,referentes!H:H,0),1))","v":""},null,null,null,{"$f":"IF(O151=\"\",\"\",INDEX(referentes!AE:AF,MATCH(O151,referentes!AF:AF,0),1))","v":""},null,{"$f":"IF(Q151=\"\",\"\",INDEX(referentes!V:W,MATCH(Q151,referentes!W:W,0),1))","v":""},null,{"$f":"IF(S151=\"\",\"\",INDEX(referentes!S:T,MATCH(S151,referentes!T:T,0),1))","v":""},null,null,null,"","","","",147,"","","","",{"$f":"IF(A151=\"\",\"\",INDEX(ACTIVIDADES!D:G,MATCH(A151,ACTIVIDADES!G:G,0),1))","v":""},"","","",{"$f":"IF(A151=\"\",\"\",INDEX(ACTIVIDADES!D:I,MATCH(A151,ACTIVIDADES!G:G,0),4))","v":""},{"$f":"IF(E151=\"\",\"\",INDEX(referentes!AN:AQ,MATCH(E151,referentes!AQ:AQ,0),1))","v":""},{"$f":"IF(F151=\"\",\"\",INDEX(referentes!A:B,MATCH(F151,referentes!B:B,0),1))","v":""},{"$f":"IF(H151=\"\",\"\",INDEX(referentes!D:E,MATCH(H151,referentes!E:E,0),1))","v":""}]
[null,null,{"$f":"IF(B152=\"\",\"\",INDEX(referentes!J:K,MATCH(B152,referentes!K:K,0),1))","v":""},null,null,null,null,null,null,{"$f":"IF(I152=\"\",\"\",INDEX(referentes!G:H,MATCH(I152,referentes!H:H,0),1))","v":""},null,null,null,{"$f":"IF(O152=\"\",\"\",INDEX(referentes!AE:AF,MATCH(O152,referentes!AF:AF,0),1))","v":""},null,{"$f":"IF(Q152=\"\",\"\",INDEX(referentes!V:W,MATCH(Q152,referentes!W:W,0),1))","v":""},null,{"$f":"IF(S152=\"\",\"\",INDEX(referentes!S:T,MATCH(S152,referentes!T:T,0),1))","v":""},null,null,null,"","","","",148,"","","","",{"$f":"IF(A152=\"\",\"\",INDEX(ACTIVIDADES!D:G,MATCH(A152,ACTIVIDADES!G:G,0),1))","v":""},"","","",{"$f":"IF(A152=\"\",\"\",INDEX(ACTIVIDADES!D:I,MATCH(A152,ACTIVIDADES!G:G,0),4))","v":""},{"$f":"IF(E152=\"\",\"\",INDEX(referentes!AN:AQ,MATCH(E152,referentes!AQ:AQ,0),1))","v":""},{"$f":"IF(F152=\"\",\"\",INDEX(referentes!A:B,MATCH(F152,referentes!B:B,0),1))","v":""},{"$f":"IF(H152=\"\",\"\",INDEX(referentes!D:E,MATCH(H152,referentes!E:E,0),1))","v":""}]
[null,null,{"$f":"IF(B153=\"\",\"\",INDEX(referentes!J:K,MATCH(B153,referentes!K:K,0),1))","v":""},null,null,null,null,null,null,{"$f":"IF(I153=\"\",\"\",INDEX(referentes!G:H,MATCH(I153,referentes!H:H,0),1))","v":""},null,null,null,{"$f":"IF(O153=\"\",\"\",INDEX(referentes!AE:AF,MATCH(O153,referentes!AF:AF,0),1))","v":""},null,{"$f":"IF(Q153=\"\",\"\",INDEX(referentes!V:W,MATCH(Q153,referentes!W:W,0),1))","v":""},null,{"$f":"IF(S153=\"\",\"\",INDEX(referentes!S:T,MATCH(S153,referentes!T:T,0),1))","v":""},null,null,null,"","","","",149,"","","","",{"$f":"IF(A153=\"\",\"\",INDEX(ACTIVIDADES!D:G,MATCH(A153,ACTIVIDADES!G:G,0),1))","v":""},"","","",{"$f":"IF(A153=\"\",\"\",INDEX(ACTIVIDADES!D:I,MATCH(A153,ACTIVIDADES!G:G,0),4))","v":""},{"$f":"IF(E153=\"\",\"\",INDEX(referentes!AN:AQ,MATCH(E153,referentes!AQ:AQ,0),1))","v":""},{"$f":"IF(F153=\"\",\"\",INDEX(referentes!A:B,MATCH(F153,referentes!B:B,0),1))","v":""},{"$f":"IF(H153=\"\",\"\",INDEX(referentes!D:E,MATCH(H153,referentes!E:E,0),1))","v":""}]
[null,null,{"$f":"IF(B154=\"\",\"\",INDEX(referentes!J:K,MATCH(B154,referentes!K:K,0),1))","v":""},null,null,null,null,null,null,{"$f":"IF(I154=\"\",\"\",INDEX(referentes!G:H,MATCH(I154,referentes!H:H,0),1))","v":""},null,null,null,{"$f":"IF(O154=\"\",\"\",INDEX(referentes!AE:AF,MATCH(O154,referentes!AF:AF,0),1))","v":""},null,{"$f":"IF(Q154=\"\",\"\",INDEX(referentes!V:W,MATCH(Q154,referentes!W:W,0),1))","v":""},null,{"$f":"IF(S154=\"\",\"\",INDEX(referentes!S:T,MATCH(S154,referentes!T:T,0),1))","v":""},null,null,null,"","","","",150,"","","","",{"$f":"IF(A154=\"\",\"\",INDEX(ACTIVIDADES!D:G,MATCH(A154,ACTIVIDADES!G:G,0),1))","v":""},"","","",{"$f":"IF(A154=\"\",\"\",INDEX(ACTIVIDADES!D:I,MATCH(A154,ACTIVIDADES!G:G,0),4))","v":""},{"$f":"IF(E154=\"\",\"\",INDEX(referentes!AN:AQ,MATCH(E154,referentes!AQ:AQ,0),1))","v":""},{"$f":"IF(F154=\"\",\"\",INDEX(referentes!A:B,MATCH(F154,referentes!B:B,0),1))","v":""},{"$f":"IF(H154=\"\",\"\",INDEX(referentes!D:E,MATCH(H154,referentes!E:E,0),1))","v":""}]
[null,null,{"$f":"IF(B155=\"\",\"\",INDEX(referentes!J:K,MATCH(B155,referentes!K:K,0),1))","v":""},null,null,null,null,null,null,{"$f":"IF(I155=\"\",\"\",INDEX(referentes!G:H,MATCH(I155,referentes!H:H,0),1))","v":""},null,null,null,{"$f":"IF(O155=\"\",\"\",INDEX(referentes!AE:AF,MATCH(O155,referentes!AF:AF,0),1))","v":""},null,{"$f":"IF(Q155=\"\",\"\",INDEX(referentes!V:W,MATCH(Q155,referentes!W:W,0),1))","v":""},null,{"$f":"IF(S155=\"\",\"\",INDEX(referentes!S:T,MATCH(S155,referentes!T:T,0),1))","v":""},null,null,null,"","","","",151,"","","","",{"$f":"IF(A155=\"\",\"\",INDEX(ACTIVIDADES!D:G,MATCH(A155,ACTIVIDADES!G:G,0),1))","v":""},"","","",{"$f":"IF(A155=\"\",\"\",INDEX(ACTIVIDADES!D:I,MATCH(A155,ACTIVIDADES!G:G,0),4))","v":""},{"$f":"IF(E155=\"\",\"\",INDEX(referentes!AN:AQ,MATCH(E155,referentes!AQ:AQ,0),1))","v":""},{"$f":"IF(F155=\"\",\"\",INDEX(referentes!A:B,MATCH(F155,referentes!B:B,0),1))","v":""},{"$f":"IF(H155=\"\",\"\",INDEX(referentes!D:E,MATCH(H155,referentes!E:E,0),1))","v":""}]
[null,null,{"$f":"IF(B156=\"\",\"\",INDEX(referentes!J:K,MATCH(B156,referentes!K:K,0),1))","v":""},null,null,null,null,null,null,{"$f":"IF(I156=\"\",\"\",INDEX(referentes!G:H,MATCH(I156,referentes!H:H,0),1))","v":""},null,null,null,{"$f":"IF(O156=\"\",\"\",INDEX(referentes!AE:AF,MATCH(O156,referentes!AF:AF,0),1))","v":""},null,{"$f":"IF(Q156=\"\",\"\",INDEX(referentes!V:W,MATCH(Q156,referentes!W:W,0),1))","v":""},null,{"$f":"IF(S156=\"\",\"\",INDEX(referentes!S:T,MATCH(S156,referentes!T:T,0),1))","v":""},null,null,null,"","","","",152,"","","","",{"$f":"IF(A156=\"\",\"\",INDEX(ACTIVIDADES!D:G,MATCH(A156,ACTIVIDADES!G:G,0),1))","v":""},"","","",{"$f":"IF(A156=\"\",\"\",INDEX(ACTIVIDADES!D:I,MATCH(A156,ACTIVIDADES!G:G,0),4))","v":""},{"$f":"IF(E156=\"\",\"\",INDEX(referentes!AN:AQ,MATCH(E156,referentes!AQ:AQ,0),1))","v":""},{"$f":"IF(F156=\"\",\"\",INDEX(referentes!A:B,MATCH(F156,referentes!B:B,0),1))","v":""},{"$f":"IF(H156=\"\",\"\",INDEX(referentes!D:E,MATCH(H156,referentes!E:E,0),1))","v":""}]
[null,null,{"$f":"IF(B157=\"\",\"\",INDEX(referentes!J:K,MATCH(B157,referentes!K:K,0),1))","v":""},null,null,null,null,null,null,{"$f":"IF(I157=\"\",\"\",INDEX(referentes!G:H,MATCH(I157,referentes!H:H,0),1))","v":""},null,null,null,{"$f":"IF(O157=\"\",\"\",INDEX(referentes!AE:AF,MATCH(O157,referentes!AF:AF,0),1))","v":""},null,{"$f":"IF(Q157=\"\",\"\",INDEX(referentes!V:W,MATCH(Q157,referentes!W:W,0),1))","v":""},null,{"$f":"IF(S157=\"\",\"\",INDEX(referentes!S:T,MATCH(S157,referentes!T:T,0),1))","v":""},null,null,null,"","","","",153,"","","","",{"$f":"IF(A157=\"\",\"\",INDEX(ACTIVIDADES!D:G,MATCH(A157,ACTIVIDADES!G:G,0),1))","v":""},"","","",{"$f":"IF(A157=\"\",\"\",INDEX(ACTIVIDADES!D:I,MATCH(A157,ACTIVIDADES!G:G,0),4))","v":""},{"$f":"IF(E157=\"\",\"\",INDEX(referentes!AN:AQ,MATCH(E157,referentes!AQ:AQ,0),1))","v":""},{"$f":"IF(F157=\"\",\"\",INDEX(referentes!A:B,MATCH(F157,referentes!B:B,0),1))","v":""},{"$f":"IF(H157=\"\",\"\",INDEX(referentes!D:E,MATCH(H157,referentes!E:E,0),1))","v":""}]
[null,null,{"$f":"IF(B158=\"\",\"\",INDEX(referentes!J:K,MATCH(B158,referentes!K:K,0),1))","v":""},null,null,null,null,null,null,{"$f":"IF(I158=\"\",\"\",INDEX(referentes!G:H,MATCH(I158,referentes!H:H,0),1))","v":""},null,null,null,{"$f":"IF(O158=\"\",\"\",INDEX(referentes!AE:AF,MATCH(O158,referentes!AF:AF,0),1))","v":""},null,{"$f":"IF(Q158=\"\",\"\",INDEX(referentes!V:W,MATCH(Q158,referentes!W:W,0),1))","v":""},null,{"$f":"IF(S158=\"\",\"\",INDEX(referentes!S:T,MATCH(S158,referentes!T:T,0),1))","v":""},null,null,null,"","","","",154,"","","","",{"$f":"IF(A158=\"\",\"\",INDEX(ACTIVIDADES!D:G,MATCH(A158,ACTIVIDADES!G:G,0),1))","v":""},"","","",{"$f":"IF(A158=\"\",\"\",INDEX(ACTIVIDADES!D:I,MATCH(A158,ACTIVIDADES!G:G,0),4))","v":""},{"$f":"IF(E158=\"\",\"\",INDEX(referentes!AN:AQ,MATCH(E158,referentes!AQ:AQ,0),1))","v":""},{"$f":"IF(F158=\"\",\"\",INDEX(referentes!A:B,MATCH(F158,referentes!B:B,0),1))","v":""},{"$f":"IF(H158=\"\",\"\",INDEX(referentes!D:E,MATCH(H158,referentes!E:E,0),1))","v":""}]
[null,null,{"$f":"IF(B159=\"\",\"\",INDEX(referentes!J:K,MATCH(B159,referentes!K:K,0),1))","v":""},null,null,null,null,null,null,{"$f":"IF(I159=\"\",\"\",INDEX(referentes!G:H,MATCH(I159,referentes!H:H,0),1))","v":""},null,null,null,{"$f":"IF(O159=\"\",\"\",INDEX(referentes!AE:AF,MATCH(O159,referentes!AF:AF,0),1))","v":""},null,{"$f":"IF(Q159=\"\",\"\",INDEX(referentes!V:W,MATCH(Q159,referentes!W:W,0),1))","v":""},null,{"$f":"IF(S159=\"\",\"\",INDEX(referentes!S:T,MATCH(S159,referentes!T:T,0),1))","v":""},null,null,null,"","","","",155,"","","","",{"$f":"IF(A159=\"\",\"\",INDEX(ACTIVIDADES!D:G,MATCH(A159,ACTIVIDADES!G:G,0),1))","v":""},"","","",{"$f":"IF(A159=\"\",\"\",INDEX(ACTIVIDADES!D:I,MATCH(A159,ACTIVIDADES!G:G,0),4))","v":""},{"$f":"IF(E159=\"\",\"\",INDEX(referentes!AN:AQ,MATCH(E159,referentes!AQ:AQ,0),1))","v":""},{"$f":"IF(F159=\"\",\"\",INDEX(referentes!A:B,MATCH(F159,referentes!B:B,0),1))","v":""},{"$f":"IF(H159=\"\",\"\",INDEX(referentes!D:E,MATCH(H159,referentes!E:E,0),1))","v":""}]
[null,null,{"$f":"IF(B160=\"\",\"\",INDEX(referentes!J:K,MATCH(B160,referentes!K:K,0),1))","v":""},null,null,null,null,null,null,{"$f":"IF(I160=\"\",\"\",INDEX(referentes!G:H,MATCH(I160,referentes!H:H,0),1))","v":""},null,null,null,{"$f":"IF(O160=\"\",\"\",INDEX(referentes!AE:AF,MATCH(O160,referentes!AF:AF,0),1))","v":""},null,{"$f":"IF(Q160=\"\",\"\",INDEX(referentes!V:W,MATCH(Q160,referentes!W:W,0),1))","v":""},null,{"$f":"IF(S160=\"\",\"\",INDEX(referentes!S:T,MATCH(S160,referentes!T:T,0),1))","v":""},null,null,null,"","","","",156,"","","","",{"$f":"IF(A160=\"\",\"\",INDEX(ACTIVIDADES!D:G,MATCH(A160,ACTIVIDADES!G:G,0),1))","v":""},"","","",{"$f":"IF(A160=\"\",\"\",INDEX(ACTIVIDADES!D:I,MATCH(A160,ACTIVIDADES!G:G,0),4))","v":""},{"$f":"IF(E160=\"\",\"\",INDEX(referentes!AN:AQ,MATCH(E160,referentes!AQ:AQ,0),1))","v":""},{"$f":"IF(F160=\"\",\"\",INDEX(referentes!A:B,MATCH(F160,referentes!B:B,0),1))","v":""},{"$f":"IF(H160=\"\",\"\",INDEX(referentes!D:E,MATCH(H160,referentes!E:E,0),1))","v":""}]
[null,null,{"$f":"IF(B161=\"\",\"\",INDEX(referentes!J:K,MATCH(B161,referentes!K:K,0),1))","v":""},null,null,null,null,null,null,{"$f":"IF(I161=\"\",\"\",INDEX(referentes!G:H,MATCH(I161,referentes!H:H,0),1))","v":""},null,null,null,{"$f":"IF(O161=\"\",\"\",INDEX(referentes!AE:AF,MATCH(O161,referentes!AF:AF,0),1))","v":""},null,{"$f":"IF(Q161=\"\",\"\",INDEX(referentes!V:W,MATCH(Q161,referentes!W:W,0),1))","v":""},null,{"$f":"IF(S161=\"\",\"\",INDEX(referentes!S:T,MATCH(S161,referentes!T:T,0),1))","v":""},null,null,null,"","","","",157,"","","","",{"$f":"IF(A161=\"\",\"\",INDEX(ACTIVIDADES!D:G,MATCH(A161,ACTIVIDADES!G:G,0),1))","v":""},"","","",{"$f":"IF(A161=\"\",\"\",INDEX(ACTIVIDADES!D:I,MATCH(A161,ACTIVIDADES!G:G,0),4))","v":""},{"$f":"IF(E161=\"\",\"\",INDEX(referentes!AN:AQ,MATCH(E161,referentes!AQ:AQ,0),1))","v":""},{"$f":"IF(F161=\"\",\"\",INDEX(referentes!A:B,MATCH(F161,referentes!B:B,0),1))","v":""},{"$f":"IF(H161=\"\",\"\",INDEX(referentes!D:E,MATCH(H161,referentes!E:E,0),1))","v":""}]
[null,null,{"$f":"IF(B162=\"\",\"\",INDEX(referentes!J:K,MATCH(B162,referentes!K:K,0),1))","v":""},null,null,null,null,null,null,{"$f":"IF(I162=\"\",\"\",INDEX(referentes!G:H,MATCH(I162,referentes!H:H,0),1))","v":""},null,null,null,{"$f":"IF(O162=\"\",\"\",INDEX(referentes!AE:AF,MATCH(O162,referentes!AF:AF,0),1))","v":""},null,{"$f":"IF(Q162=\"\",\"\",INDEX(referentes!V:W,MATCH(Q162,referentes!W:W,0),1))","v":""},null,{"$f":"IF(S162=\"\",\"\",INDEX(referentes!S:T,MATCH(S162,referentes!T:T,0),1))","v":""},null,null,null,"","","","",158,"","","","",{"$f":"IF(A162=\"\",\"\",INDEX(ACTIVIDADES!D:G,MATCH(A162,ACTIVIDADES!G:G,0),1))","v":""},"","","",{"$f":"IF(A162=\"\",\"\",INDEX(ACTIVIDADES!D:I,MATCH(A162,ACTIVIDADES!G:G,0),4))","v":""},{"$f":"IF(E162=\"\",\"\",INDEX(referentes!AN:AQ,MATCH(E162,referentes!AQ:AQ,0),1))","v":""},{"$f":"IF(F162=\"\",\"\",INDEX(referentes!A:B,MATCH(F162,referentes!B:B,0),1))","v":""},{"$f":"IF(H162=\"\",\"\",INDEX(referentes!D:E,MATCH(H162,referentes!E:E,0),1))","v":""}]
[null,null,{"$f":"IF(B163=\"\",\"\",INDEX(referentes!J:K,MATCH(B163,referentes!K:K,0),1))","v":""},null,null,null,null,null,null,{"$f":"IF(I163=\"\",\"\",INDEX(referentes!G:H,MATCH(I163,referentes!H:H,0),1))","v":""},null,null,null,{"$f":"IF(O163=\"\",\"\",INDEX(referentes!AE:AF,MATCH(O163,referentes!AF:AF,0),1))","v":""},null,{"$f":"IF(Q163=\"\",\"\",INDEX(referentes!V:W,MATCH(Q163,referentes!W:W,0),1))","v":""},null,{"$f":"IF(S163=\"\",\"\",INDEX(referentes!S:T,MATCH(S163,referentes!T:T,0),1))","v":""},null,null,null,"","","","",159,"","","","",{"$f":"IF(A163=\"\",\"\",INDEX(ACTIVIDADES!D:G,MATCH(A163,ACTIVIDADES!G:G,0),1))","v":""},"","","",{"$f":"IF(A163=\"\",\"\",INDEX(ACTIVIDADES!D:I,MATCH(A163,ACTIVIDADES!G:G,0),4))","v":""},{"$f":"IF(E163=\"\",\"\",INDEX(referentes!AN:AQ,MATCH(E163,referentes!AQ:AQ,0),1))","v":""},{"$f":"IF(F163=\"\",\"\",INDEX(referentes!A:B,MATCH(F163,referentes!B:B,0),1))","v":""},{"$f":"IF(H163=\"\",\"\",INDEX(referentes!D:E,MATCH(H163,referentes!E:E,0),1))","v":""}]
[null,null,{"$f":"IF(B164=\"\",\"\",INDEX(referentes!J:K,MATCH(B164,referentes!K:K,0),1))","v":""},null,null,null,null,null,null,{"$f":"IF(I164=\"\",\"\",INDEX(referentes!G:H,MATCH(I164,referentes!H:H,0),1))","v":""},null,null,null,{"$f":"IF(O164=\"\",\"\",INDEX(referentes!AE:AF,MATCH(O164,referentes!AF:AF,0),1))","v":""},null,{"$f":"IF(Q164=\"\",\"\",INDEX(referentes!V:W,MATCH(Q164,referentes!W:W,0),1))","v":""},null,{"$f":"IF(S164=\"\",\"\",INDEX(referentes!S:T,MATCH(S164,referentes!T:T,0),1))","v":""},null,null,null,"","","","",160,"","","","",{"$f":"IF(A164=\"\",\"\",INDEX(ACTIVIDADES!D:G,MATCH(A164,ACTIVIDADES!G:G,0),1))","v":""},"","","",{"$f":"IF(A164=\"\",\"\",INDEX(ACTIVIDADES!D:I,MATCH(A164,ACTIVIDADES!G:G,0),4))","v":""},{"$f":"IF(E164=\"\",\"\",INDEX(referentes!AN:AQ,MATCH(E164,referentes!AQ:AQ,0),1))","v":""},{"$f":"IF(F164=\"\",\"\",INDEX(referentes!A:B,MATCH(F164,referentes!B:B,0),1))","v":""},{"$f":"IF(H164=\"\",\"\",INDEX(referentes!D:E,MATCH(H164,referentes!E:E,0),1))","v":""}]
[null,null,{"$f":"IF(B165=\"\",\"\",INDEX(referentes!J:K,MATCH(B165,referentes!K:K,0),1))","v":""},null,null,null,null,null,null,{"$f":"IF(I165=\"\",\"\",INDEX(referentes!G:H,MATCH(I165,referentes!H:H,0),1))","v":""},null,null,null,{"$f":"IF(O165=\"\",\"\",INDEX(referentes!AE:AF,MATCH(O165,referentes!AF:AF,0),1))","v":""},null,{"$f":"IF(Q165=\"\",\"\",INDEX(referentes!V:W,MATCH(Q165,referentes!W:W,0),1))","v":""},null,{"$f":"IF(S165=\"\",\"\",INDEX(referentes!S:T,MATCH(S165,referentes!T:T,0),1))","v":""},null,null,null,"","","","",161,"","","","",{"$f":"IF(A165=\"\",\"\",INDEX(ACTIVIDADES!D:G,MATCH(A165,ACTIVIDADES!G:G,0),1))","v":""},"","","",{"$f":"IF(A165=\"\",\"\",INDEX(ACTIVIDADES!D:I,MATCH(A165,ACTIVIDADES!G:G,0),4))","v":""},{"$f":"IF(E165=\"\",\"\",INDEX(referentes!AN:AQ,MATCH(E165,referentes!AQ:AQ,0),1))","v":""},{"$f":"IF(F165=\"\",\"\",INDEX(referentes!A:B,MATCH(F165,referentes!B:B,0),1))","v":""},{"$f":"IF(H165=\"\",\"\",INDEX(referentes!D:E,MATCH(H165,referentes!E:E,0),1))","v":""}]
[null,null,{"$f":"IF(B166=\"\",\"\",INDEX(referentes!J:K,MATCH(B166,referentes!K:K,0),1))","v":""},null,null,null,null,null,null,{"$f":"IF(I166=\"\",\"\",INDEX(referentes!G:H,MATCH(I166,referentes!H:H,0),1))","v":""},null,null,null,{"$f":"IF(O166=\"\",\"\",INDEX(referentes!AE:AF,MATCH(O166,referentes!AF:AF,0),1))","v":""},null,{"$f":"IF(Q166=\"\",\"\",INDEX(referentes!V:W,MATCH(Q166,referentes!W:W,0),1))","v":""},null,{"$f":"IF(S166=\"\",\"\",INDEX(referentes!S:T,MATCH(S166,referentes!T:T,0),1))","v":""},null,null,null,"","","","",162,"","","","",{"$f":"IF(A166=\"\",\"\",INDEX(ACTIVIDADES!D:G,MATCH(A166,ACTIVIDADES!G:G,0),1))","v":""},"","","",{"$f":"IF(A166=\"\",\"\",INDEX(ACTIVIDADES!D:I,MATCH(A166,ACTIVIDADES!G:G,0),4))","v":""},{"$f":"IF(E166=\"\",\"\",INDEX(referentes!AN:AQ,MATCH(E166,referentes!AQ:AQ,0),1))","v":""},{"$f":"IF(F166=\"\",\"\",INDEX(referentes!A:B,MATCH(F166,referentes!B:B,0),1))","v":""},{"$f":"IF(H166=\"\",\"\",INDEX(referentes!D:E,MATCH(H166,referentes!E:E,0),1))","v":""}]
[null,null,{"$f":"IF(B167=\"\",\"\",INDEX(referentes!J:K,MATCH(B167,referentes!K:K,0),1))","v":""},null,null,null,null,null,null,{"$f":"IF(I167=\"\",\"\",INDEX(referentes!G:H,MATCH(I167,referentes!H:H,0),1))","v":""},null,null,null,{"$f":"IF(O167=\"\",\"\",INDEX(referentes!AE:AF,MATCH(O167,referentes!AF:AF,0),1))","v":""},null,{"$f":"IF(Q167=\"\",\"\",INDEX(referentes!V:W,MATCH(Q167,referentes!W:W,0),1))","v":""},null,{"$f":"IF(S167=\"\",\"\",INDEX(referentes!S:T,MATCH(S167,referentes!T:T,0),1))","v":""},null,null,null,"","","","",163,"","","","",{"$f":"IF(A167=\"\",\"\",INDEX(ACTIVIDADES!D:G,MATCH(A167,ACTIVIDADES!G:G,0),1))","v":""},"","","",{"$f":"IF(A167=\"\",\"\",INDEX(ACTIVIDADES!D:I,MATCH(A167,ACTIVIDADES!G:G,0),4))","v":""},{"$f":"IF(E167=\"\",\"\",INDEX(referentes!AN:AQ,MATCH(E167,referentes!AQ:AQ,0),1))","v":""},{"$f":"IF(F167=\"\",\"\",INDEX(referentes!A:B,MATCH(F167,referentes!B:B,0),1))","v":""},{"$f":"IF(H167=\"\",\"\",INDEX(referentes!D:E,MATCH(H167,referentes!E:E,0),1))","v":""}]
[null,null,{"$f":"IF(B168=\"\",\"\",INDEX(referentes!J:K,MATCH(B168,referentes!K:K,0),1))","v":""},null,null,null,null,null,null,{"$f":"IF(I168=\"\",\"\",INDEX(referentes!G:H,MATCH(I168,referentes!H:H,0),1))","v":""},null,null,null,{"$f":"IF(O168=\"\",\"\",INDEX(referentes!AE:AF,MATCH(O168,referentes!AF:AF,0),1))","v":""},null,{"$f":"IF(Q168=\"\",\"\",INDEX(referentes!V:W,MATCH(Q168,referentes!W:W,0),1))","v":""},null,{"$f":"IF(S168=\"\",\"\",INDEX(referentes!S:T,MATCH(S168,referentes!T:T,0),1))","v":""},null,null,null,"","","","",164,"","","","",{"$f":"IF(A168=\"\",\"\",INDEX(ACTIVIDADES!D:G,MATCH(A168,ACTIVIDADES!G:G,0),1))","v":""},"","","",{"$f":"IF(A168=\"\",\"\",INDEX(ACTIVIDADES!D:I,MATCH(A168,ACTIVIDADES!G:G,0),4))","v":""},{"$f":"IF(E168=\"\",\"\",INDEX(referentes!AN:AQ,MATCH(E168,referentes!AQ:AQ,0),1))","v":""},{"$f":"IF(F168=\"\",\"\",INDEX(referentes!A:B,MATCH(F168,referentes!B:B,0),1))","v":""},{"$f":"IF(H168=\"\",\"\",INDEX(referentes!D:E,MATCH(H168,referentes!E:E,0),1))","v":""}]
[null,null,{"$f":"IF(B169=\"\",\"\",INDEX(referentes!J:K,MATCH(B169,referentes!K:K,0),1))","v":""},null,null,null,null,null,null,{"$f":"IF(I169=\"\",\"\",INDEX(referentes!G:H,MATCH(I169,referentes!H:H,0),1))","v":""},null,null,null,{"$f":"IF(O169=\"\",\"\",INDEX(referentes!AE:AF,MATCH(O169,referentes!AF:AF,0),1))","v":""},null,{"$f":"IF(Q169=\"\",\"\",INDEX(referentes!V:W,MATCH(Q169,referentes!W:W,0),1))","v":""},null,{"$f":"IF(S169=\"\",\"\",INDEX(referentes!S:T,MATCH(S169,referentes!T:T,0),1))","v":""},null,null,null,"","","","",165,"","","","",{"$f":"IF(A169=\"\",\"\",INDEX(ACTIVIDADES!D:G,MATCH(A169,ACTIVIDADES!G:G,0),1))","v":""},"","","",{"$f":"IF(A169=\"\",\"\",INDEX(ACTIVIDADES!D:I,MATCH(A169,ACTIVIDADES!G:G,0),4))","v":""},{"$f":"IF(E169=\"\",\"\",INDEX(referentes!AN:AQ,MATCH(E169,referentes!AQ:AQ,0),1))","v":""},{"$f":"IF(F169=\"\",\"\",INDEX(referentes!A:B,MATCH(F169,referentes!B:B,0),1))","v":""},{"$f":"IF(H169=\"\",\"\",INDEX(referentes!D:E,MATCH(H169,referentes!E:E,0),1))","v":""}]
[null,null,{"$f":"IF(B170=\"\",\"\",INDEX(referentes!J:K,MATCH(B170,referentes!K:K,0),1))","v":""},null,null,null,null,null,null,{"$f":"IF(I170=\"\",\"\",INDEX(referentes!G:H,MATCH(I170,referentes!H:H,0),1))","v":""},null,null,null,{"$f":"IF(O170=\"\",\"\",INDEX(referentes!AE:AF,MATCH(O170,referentes!AF:AF,0),1))","v":""},null,{"$f":"IF(Q170=\"\",\"\",INDEX(referentes!V:W,MATCH(Q170,referentes!W:W,0),1))","v":""},null,{"$f":"IF(S170=\"\",\"\",INDEX(referentes!S:T,MATCH(S170,referentes!T:T,0),1))","v":""},null,null,null,"","","","",166,"","","","",{"$f":"IF(A170=\"\",\"\",INDEX(ACTIVIDADES!D:G,MATCH(A170,ACTIVIDADES!G:G,0),1))","v":""},"","","",{"$f":"IF(A170=\"\",\"\",INDEX(ACTIVIDADES!D:I,MATCH(A170,ACTIVIDADES!G:G,0),4))","v":""},{"$f":"IF(E170=\"\",\"\",INDEX(referentes!AN:AQ,MATCH(E170,referentes!AQ:AQ,0),1))","v":""},{"$f":"IF(F170=\"\",\"\",INDEX(referentes!A:B,MATCH(F170,referentes!B:B,0),1))","v":""},{"$f":"IF(H170=\"\",\"\",INDEX(referentes!D:E,MATCH(H170,referentes!E:E,0),1))","v":""}]
[null,null,{"$f":"IF(B171=\"\",\"\",INDEX(referentes!J:K,MATCH(B171,referentes!K:K,0),1))","v":""},null,null,null,null,null,null,{"$f":"IF(I171=\"\",\"\",INDEX(referentes!G:H,MATCH(I171,referentes!H:H,0),1))","v":""},null,null,null,{"$f":"IF(O171=\"\",\"\",INDEX(referentes!AE:AF,MATCH(O171,referentes!AF:AF,0),1))","v":""},null,{"$f":"IF(Q171=\"\",\"\",INDEX(referentes!V:W,MATCH(Q171,referentes!W:W,0),1))","v":""},null,{"$f":"IF(S171=\"\",\"\",INDEX(referentes!S:T,MATCH(S171,referentes!T:T,0),1))","v":""},null,null,null,"","","","",167,"","","","",{"$f":"IF(A171=\"\",\"\",INDEX(ACTIVIDADES!D:G,MATCH(A171,ACTIVIDADES!G:G,0),1))","v":""},"","","",{"$f":"IF(A171=\"\",\"\",INDEX(ACTIVIDADES!D:I,MATCH(A171,ACTIVIDADES!G:G,0),4))","v":""},{"$f":"IF(E171=\"\",\"\",INDEX(referentes!AN:AQ,MATCH(E171,referentes!AQ:AQ,0),1))","v":""},{"$f":"IF(F171=\"\",\"\",INDEX(referentes!A:B,MATCH(F171,referentes!B:B,0),1))","v":""},{"$f":"IF(H171=\"\",\"\",INDEX(referentes!D:E,MATCH(H171,referentes!E:E,0),1))","v":""}]
[null,null,{"$f":"IF(B172=\"\",\"\",INDEX(referentes!J:K,MATCH(B172,referentes!K:K,0),1))","v":""},null,null,null,null,null,null,{"$f":"IF(I172=\"\",\"\",INDEX(referentes!G:H,MATCH(I172,referentes!H:H,0),1))","v":""},null,null,null,{"$f":"IF(O172=\"\",\"\",INDEX(referentes!AE:AF,MATCH(O172,referentes!AF:AF,0),1))","v":""},null,{"$f":"IF(Q172=\"\",\"\",INDEX(referentes!V:W,MATCH(Q172,referentes!W:W,0),1))","v":""},null,{"$f":"IF(S172=\"\",\"\",INDEX(referentes!S:T,MATCH(S172,referentes!T:T,0),1))","v":""},null,null,null,"","","","",168,"","","","",{"$f":"IF(A172=\"\",\"\",INDEX(ACTIVIDADES!D:G,MATCH(A172,ACTIVIDADES!G:G,0),1))","v":""},"","","",{"$f":"IF(A172=\"\",\"\",INDEX(ACTIVIDADES!D:I,MATCH(A172,ACTIVIDADES!G:G,0),4))","v":""},{"$f":"IF(E172=\"\",\"\",INDEX(referentes!AN:AQ,MATCH(E172,referentes!AQ:AQ,0),1))","v":""},{"$f":"IF(F172=\"\",\"\",INDEX(referentes!A:B,MATCH(F172,referentes!B:B,0),1))","v":""},{"$f":"IF(H172=\"\",\"\",INDEX(referentes!D:E,MATCH(H172,referentes!E:E,0),1))","v":""}]
[null,null,{"$f":"IF(B173=\"\",\"\",INDEX(referentes!J:K,MATCH(B173,referentes!K:K,0),1))","v":""},null,null,null,null,null,null,{"$f":"IF(I173=\"\",\"\",INDEX(referentes!G:H,MATCH(I173,referentes!H:H,0),1))","v":""},null,null,null,{"$f":"IF(O173=\"\",\"\",INDEX(referentes!AE:AF,MATCH(O173,referentes!AF:AF,0),1))","v":""},null,{"$f":"IF(Q173=\"\",\"\",INDEX(referentes!V:W,MATCH(Q173,referentes!W:W,0),1))","v":""},null,{"$f":"IF(S173=\"\",\"\",INDEX(referentes!S:T,MATCH(S173,referentes!T:T,0),1))","v":""},null,null,null,"","","","",169,"","","","",{"$f":"IF(A173=\"\",\"\",INDEX(ACTIVIDADES!D:G,MATCH(A173,ACTIVIDADES!G:G,0),1))","v":""},"","","",{"$f":"IF(A173=\"\",\"\",INDEX(ACTIVIDADES!D:I,MATCH(A173,ACTIVIDADES!G:G,0),4))","v":""},{"$f":"IF(E173=\"\",\"\",INDEX(referentes!AN:AQ,MATCH(E173,referentes!AQ:AQ,0),1))","v":""},{"$f":"IF(F173=\"\",\"\",INDEX(referentes!A:B,MATCH(F173,referentes!B:B,0),1))","v":""},{"$f":"IF(H173=\"\",\"\",INDEX(referentes!D:E,MATCH(H173,referentes!E:E,0),1))","v":""}]
[null,null,{"$f":"IF(B174=\"\",\"\",INDEX(referentes!J:K,MATCH(B174,referentes!K:K,0),1))","v":""},null,null,null,null,null,null,{"$f":"IF(I174=\"\",\"\",INDEX(referentes!G:H,MATCH(I174,referentes!H:H,0),1))","v":""},null,null,null,{"$f":"IF(O174=\"\",\"\",INDEX(referentes!AE:AF,MATCH(O174,referentes!AF:AF,0),1))","v":""},null,{"$f":"IF(Q174=\"\",\"\",INDEX(referentes!V:W,MATCH(Q174,referentes!W:W,0),1))","v":""},null,{"$f":"IF(S174=\"\",\"\",INDEX(referentes!S:T,MATCH(S174,referentes!T:T,0),1))","v":""},null,null,null,"","","","",170,"","","","",{"$f":"IF(A174=\"\",\"\",INDEX(ACTIVIDADES!D:G,MATCH(A174,ACTIVIDADES!G:G,0),1))","v":""},"","","",{"$f":"IF(A174=\"\",\"\",INDEX(ACTIVIDADES!D:I,MATCH(A174,ACTIVIDADES!G:G,0),4))","v":""},{"$f":"IF(E174=\"\",\"\",INDEX(referentes!AN:AQ,MATCH(E174,referentes!AQ:AQ,0),1))","v":""},{"$f":"IF(F174=\"\",\"\",INDEX(referentes!A:B,MATCH(F174,referentes!B:B,0),1))","v":""},{"$f":"IF(H174=\"\",\"\",INDEX(referentes!D:E,MATCH(H174,referentes!E:E,0),1))","v":""}]
[null,null,{"$f":"IF(B175=\"\",\"\",INDEX(referentes!J:K,MATCH(B175,referentes!K:K,0),1))","v":""},null,null,null,null,null,null,{"$f":"IF(I175=\"\",\"\",INDEX(referentes!G:H,MATCH(I175,referentes!H:H,0),1))","v":""},null,null,null,{"$f":"IF(O175=\"\",\"\",INDEX(referentes!AE:AF,MATCH(O175,referentes!AF:AF,0),1))","v":""},null,{"$f":"IF(Q175=\"\",\"\",INDEX(referentes!V:W,MATCH(Q175,referentes!W:W,0),1))","v":""},null,{"$f":"IF(S175=\"\",\"\",INDEX(referentes!S:T,MATCH(S175,referentes!T:T,0),1))","v":""},null,null,null,"","","","",171,"","","","",{"$f":"IF(A175=\"\",\"\",INDEX(ACTIVIDADES!D:G,MATCH(A175,ACTIVIDADES!G:G,0),1))","v":""},"","","",{"$f":"IF(A175=\"\",\"\",INDEX(ACTIVIDADES!D:I,MATCH(A175,ACTIVIDADES!G:G,0),4))","v":""},{"$f":"IF(E175=\"\",\"\",INDEX(referentes!AN:AQ,MATCH(E175,referentes!AQ:AQ,0),1))","v":""},{"$f":"IF(F175=\"\",\"\",INDEX(referentes!A:B,MATCH(F175,referentes!B:B,0),1))","v":""},{"$f":"IF(H175=\"\",\"\",INDEX(referentes!D:E,MATCH(H175,referentes!E:E,0),1))","v":""}]
[null,null,{"$f":"IF(B176=\"\",\"\",INDEX(referentes!J:K,MATCH(B176,referentes!K:K,0),1))","v":""},null,null,null,null,null,null,{"$f":"IF(I176=\"\",\"\",INDEX(referentes!G:H,MATCH(I176,referentes!H:H,0),1))","v":""},null,null,null,{"$f":"IF(O176=\"\",\"\",INDEX(referentes!AE:AF,MATCH(O176,referentes!AF:AF,0),1))","v":""},null,{"$f":"IF(Q176=\"\",\"\",INDEX(referentes!V:W,MATCH(Q176,referentes!W:W,0),1))","v":""},null,{"$f":"IF(S176=\"\",\"\",INDEX(referentes!S:T,MATCH(S176,referentes!T:T,0),1))","v":""},null,null,null,"","","","",172,"","","","",{"$f":"IF(A176=\"\",\"\",INDEX(ACTIVIDADES!D:G,MATCH(A176,ACTIVIDADES!G:G,0),1))","v":""},"","","",{"$f":"IF(A176=\"\",\"\",INDEX(ACTIVIDADES!D:I,MATCH(A176,ACTIVIDADES!G:G,0),4))","v":""},{"$f":"IF(E176=\"\",\"\",INDEX(referentes!AN:AQ,MATCH(E176,referentes!AQ:AQ,0),1))","v":""},{"$f":"IF(F176=\"\",\"\",INDEX(referentes!A:B,MATCH(F176,referentes!B:B,0),1))","v":""},{"$f":"IF(H176=\"\",\"\",INDEX(referentes!D:E,MATCH(H176,referentes!E:E,0),1))","v":""}]
[null,null,{"$f":"IF(B177=\"\",\"\",INDEX(referentes!J:K,MATCH(B177,referentes!K:K,0),1))","v":""},null,null,null,null,null,null,{"$f":"IF(I177=\"\",\"\",INDEX(referentes!G:H,MATCH(I177,referentes!H:H,0),1))","v":""},null,null,null,{"$f":"IF(O177=\"\",\"\",INDEX(referentes!AE:AF,MATCH(O177,referentes!AF:AF,0),1))","v":""},null,{"$f":"IF(Q177=\"\",\"\",INDEX(referentes!V:W,MATCH(Q177,referentes!W:W,0),1))","v":""},null,{"$f":"IF(S177=\"\",\"\",INDEX(referentes!S:T,MATCH(S177,referentes!T:T,0),1))","v":""},null,null,null,"","","","",173,"","","","",{"$f":"IF(A177=\"\",\"\",INDEX(ACTIVIDADES!D:G,MATCH(A177,ACTIVIDADES!G:G,0),1))","v":""},"","","",{"$f":"IF(A177=\"\",\"\",INDEX(ACTIVIDADES!D:I,MATCH(A177,ACTIVIDADES!G:G,0),4))","v":""},{"$f":"IF(E177=\"\",\"\",INDEX(referentes!AN:AQ,MATCH(E177,referentes!AQ:AQ,0),1))","v":""},{"$f":"IF(F177=\"\",\"\",INDEX(referentes!A:B,MATCH(F177,referentes!B:B,0),1))","v":""},{"$f":"IF(H177=\"\",\"\",INDEX(referentes!D:E,MATCH(H177,referentes!E:E,0),1))","v":""}]
[null,null,{"$f":"IF(B178=\"\",\"\",INDEX(referentes!J:K,MATCH(B178,referentes!K:K,0),1))","v":""},null,null,null,null,null,null,{"$f":"IF(I178=\"\",\"\",INDEX(referentes!G:H,MATCH(I178,referentes!H:H,0),1))","v":""},null,null,null,{"$f":"IF(O178=\"\",\"\",INDEX(referentes!AE:AF,MATCH(O178,referentes!AF:AF,0),1))","v":""},null,{"$f":"IF(Q178=\"\",\"\",INDEX(referentes!V:W,MATCH(Q178,referentes!W:W,0),1))","v":""},null,{"$f":"IF(S178=\"\",\"\",INDEX(referentes!S:T,MATCH(S178,referentes!T:T,0),1))","v":""},null,null,null,"","","","",174,"","","","",{"$f":"IF(A178=\"\",\"\",INDEX(ACTIVIDADES!D:G,MATCH(A178,ACTIVIDADES!G:G,0),1))","v":""},"","","",{"$f":"IF(A178=\"\",\"\",INDEX(ACTIVIDADES!D:I,MATCH(A178,ACTIVIDADES!G:G,0),4))","v":""},{"$f":"IF(E178=\"\",\"\",INDEX(referentes!AN:AQ,MATCH(E178,referentes!AQ:AQ,0),1))","v":""},{"$f":"IF(F178=\"\",\"\",INDEX(referentes!A:B,MATCH(F178,referentes!B:B,0),1))","v":""},{"$f":"IF(H178=\"\",\"\",INDEX(referentes!D:E,MATCH(H178,referentes!E:E,0),1))","v":""}]
[null,null,{"$f":"IF(B179=\"\",\"\",INDEX(referentes!J:K,MATCH(B179,referentes!K:K,0),1))","v":""},null,null,null,null,null,null,{"$f":"IF(I179=\"\",\"\",INDEX(referentes!G:H,MATCH(I179,referentes!H:H,0),1))","v":""},null,null,null,{"$f":"IF(O179=\"\",\"\",INDEX(referentes!AE:AF,MATCH(O179,referentes!AF:AF,0),1))","v":""},null,{"$f":"IF(Q179=\"\",\"\",INDEX(referentes!V:W,MATCH(Q179,referentes!W:W,0),1))","v":""},null,{"$f":"IF(S179=\"\",\"\",INDEX(referentes!S:T,MATCH(S179,referentes!T:T,0),1))","v":""},null,null,null,"","","","",175,"","","","",{"$f":"IF(A179=\"\",\"\",INDEX(ACTIVIDADES!D:G,MATCH(A179,ACTIVIDADES!G:G,0),1))","v":""},"","","",{"$f":"IF(A179=\"\",\"\",INDEX(ACTIVIDADES!D:I,MATCH(A179,ACTIVIDADES!G:G,0),4))","v":""},{"$f":"IF(E179=\"\",\"\",INDEX(referentes!AN:AQ,MATCH(E179,referentes!AQ:AQ,0),1))","v":""},{"$f":"IF(F179=\"\",\"\",INDEX(referentes!A:B,MATCH(F179,referentes!B:B,0),1))","v":""},{"$f":"IF(H179=\"\",\"\",INDEX(referentes!D:E,MATCH(H179,referentes!E:E,0),1))","v":""}]
[null,null,{"$f":"IF(B180=\"\",\"\",INDEX(referentes!J:K,MATCH(B180,referentes!K:K,0),1))","v":""},null,null,null,null,null,null,{"$f":"IF(I180=\"\",\"\",INDEX(referentes!G:H,MATCH(I180,referentes!H:H,0),1))","v":""},null,null,null,{"$f":"IF(O180=\"\",\"\",INDEX(referentes!AE:AF,MATCH(O180,referentes!AF:AF,0),1))","v":""},null,{"$f":"IF(Q180=\"\",\"\",INDEX(referentes!V:W,MATCH(Q180,referentes!W:W,0),1))","v":""},null,{"$f":"IF(S180=\"\",\"\",INDEX(referentes!S:T,MATCH(S180,referentes!T:T,0),1))","v":""},null,null,null,"","","","",176,"","","","",{"$f":"IF(A180=\"\",\"\",INDEX(ACTIVIDADES!D:G,MATCH(A180,ACTIVIDADES!G:G,0),1))","v":""},"","","",{"$f":"IF(A180=\"\",\"\",INDEX(ACTIVIDADES!D:I,MATCH(A180,ACTIVIDADES!G:G,0),4))","v":""},{"$f":"IF(E180=\"\",\"\",INDEX(referentes!AN:AQ,MATCH(E180,referentes!AQ:AQ,0),1))","v":""},{"$f":"IF(F180=\"\",\"\",INDEX(referentes!A:B,MATCH(F180,referentes!B:B,0),1))","v":""},{"$f":"IF(H180=\"\",\"\",INDEX(referentes!D:E,MATCH(H180,referentes!E:E,0),1))","v":""}]
[null,null,{"$f":"IF(B181=\"\",\"\",INDEX(referentes!J:K,MATCH(B181,referentes!K:K,0),1))","v":""},null,null,null,null,null,null,{"$f":"IF(I181=\"\",\"\",INDEX(referentes!G:H,MATCH(I181,referentes!H:H,0),1))","v":""},null,null,null,{"$f":"IF(O181=\"\",\"\",INDEX(referentes!AE:AF,MATCH(O181,referentes!AF:AF,0),1))","v":""},null,{"$f":"IF(Q181=\"\",\"\",INDEX(referentes!V:W,MATCH(Q181,referentes!W:W,0),1))","v":""},null,{"$f":"IF(S181=\"\",\"\",INDEX(referentes!S:T,MATCH(S181,referentes!T:T,0),1))","v":""},null,null,null,"","","","",177,"","","","",{"$f":"IF(A181=\"\",\"\",INDEX(ACTIVIDADES!D:G,MATCH(A181,ACTIVIDADES!G:G,0),1))","v":""},"","","",{"$f":"IF(A181=\"\",\"\",INDEX(ACTIVIDADES!D:I,MATCH(A181,ACTIVIDADES!G:G,0),4))","v":""},{"$f":"IF(E181=\"\",\"\",INDEX(referentes!AN:AQ,MATCH(E181,referentes!AQ:AQ,0),1))","v":""},{"$f":"IF(F181=\"\",\"\",INDEX(referentes!A:B,MATCH(F181,referentes!B:B,0),1))","v":""},{"$f":"IF(H181=\"\",\"\",INDEX(referentes!D:E,MATCH(H181,referentes!E:E,0),1))","v":""}]
[null,null,{"$f":"IF(B182=\"\",\"\",INDEX(referentes!J:K,MATCH(B182,referentes!K:K,0),1))","v":""},null,null,null,null,null,null,{"$f":"IF(I182=\"\",\"\",INDEX(referentes!G:H,MATCH(I182,referentes!H:H,0),1))","v":""},null,null,null,{"$f":"IF(O182=\"\",\"\",INDEX(referentes!AE:AF,MATCH(O182,referentes!AF:AF,0),1))","v":""},null,{"$f":"IF(Q182=\"\",\"\",INDEX(referentes!V:W,MATCH(Q182,referentes!W:W,0),1))","v":""},null,{"$f":"IF(S182=\"\",\"\",INDEX(referentes!S:T,MATCH(S182,referentes!T:T,0),1))","v":""},null,null,null,"","","","",178,"","","","",{"$f":"IF(A182=\"\",\"\",INDEX(ACTIVIDADES!D:G,MATCH(A182,ACTIVIDADES!G:G,0),1))","v":""},"","","",{"$f":"IF(A182=\"\",\"\",INDEX(ACTIVIDADES!D:I,MATCH(A182,ACTIVIDADES!G:G,0),4))","v":""},{"$f":"IF(E182=\"\",\"\",INDEX(referentes!AN:AQ,MATCH(E182,referentes!AQ:AQ,0),1))","v":""},{"$f":"IF(F182=\"\",\"\",INDEX(referentes!A:B,MATCH(F182,referentes!B:B,0),1))","v":""},{"$f":"IF(H182=\"\",\"\",INDEX(referentes!D:E,MATCH(H182,referentes!E:E,0),1))","v":""}]
[null,null,{"$f":"IF(B183=\"\",\"\",INDEX(referentes!J:K,MATCH(B183,referentes!K:K,0),1))","v":""},null,null,null,null,null,null,{"$f":"IF(I183=\"\",\"\",INDEX(referentes!G:H,MATCH(I183,referentes!H:H,0),1))","v":""},null,null,null,{"$f":"IF(O183=\"\",\"\",INDEX(referentes!AE:AF,MATCH(O183,referentes!AF:AF,0),1))","v":""},null,{"$f":"IF(Q183=\"\",\"\",INDEX(referentes!V:W,MATCH(Q183,referentes!W:W,0),1))","v":""},null,{"$f":"IF(S183=\"\",\"\",INDEX(referentes!S:T,MATCH(S183,referentes!T:T,0),1))","v":""},null,null,null,"","","","",179,"","","","",{"$f":"IF(A183=\"\",\"\",INDEX(ACTIVIDADES!D:G,MATCH(A183,ACTIVIDADES!G:G,0),1))","v":""},"","","",{"$f":"IF(A183=\"\",\"\",INDEX(ACTIVIDADES!D:I,MATCH(A183,ACTIVIDADES!G:G,0),4))","v":""},{"$f":"IF(E183=\"\",\"\",INDEX(referentes!AN:AQ,MATCH(E183,referentes!AQ:AQ,0),1))","v":""},{"$f":"IF(F183=\"\",\"\",INDEX(referentes!A:B,MATCH(F183,referentes!B:B,0),1))","v":""},{"$f":"IF(H183=\"\",\"\",INDEX(referentes!D:E,MATCH(H183,referentes!E:E,0),1))","v":""}]
[null,null,{"$f":"IF(B184=\"\",\"\",INDEX(referentes!J:K,MATCH(B184,referentes!K:K,0),1))","v":""},null,null,null,null,null,null,{"$f":"IF(I184=\"\",\"\",INDEX(referentes!G:H,MATCH(I184,referentes!H:H,0),1))","v":""},null,null,null,{"$f":"IF(O184=\"\",\"\",INDEX(referentes!AE:AF,MATCH(O184,referentes!AF:AF,0),1))","v":""},null,{"$f":"IF(Q184=\"\",\"\",INDEX(referentes!V:W,MATCH(Q184,referentes!W:W,0),1))","v":""},null,{"$f":"IF(S184=\"\",\"\",INDEX(referentes!S:T,MATCH(S184,referentes!T:T,0),1))","v":""},null,null,null,"","","","",180,"","","","",{"$f":"IF(A184=\"\",\"\",INDEX(ACTIVIDADES!D:G,MATCH(A184,ACTIVIDADES!G:G,0),1))","v":""},"","","",{"$f":"IF(A184=\"\",\"\",INDEX(ACTIVIDADES!D:I,MATCH(A184,ACTIVIDADES!G:G,0),4))","v":""},{"$f":"IF(E184=\"\",\"\",INDEX(referentes!AN:AQ,MATCH(E184,referentes!AQ:AQ,0),1))","v":""},{"$f":"IF(F184=\"\",\"\",INDEX(referentes!A:B,MATCH(F184,referentes!B:B,0),1))","v":""},{"$f":"IF(H184=\"\",\"\",INDEX(referentes!D:E,MATCH(H184,referentes!E:E,0),1))","v":""}]
[null,null,{"$f":"IF(B185=\"\",\"\",INDEX(referentes!J:K,MATCH(B185,referentes!K:K,0),1))","v":""},null,null,null,null,null,null,{"$f":"IF(I185=\"\",\"\",INDEX(referentes!G:H,MATCH(I185,referentes!H:H,0),1))","v":""},null,null,null,{"$f":"IF(O185=\"\",\"\",INDEX(referentes!AE:AF,MATCH(O185,referentes!AF:AF,0),1))","v":""},null,{"$f":"IF(Q185=\"\",\"\",INDEX(referentes!V:W,MATCH(Q185,referentes!W:W,0),1))","v":""},null,{"$f":"IF(S185=\"\",\"\",INDEX(referentes!S:T,MATCH(S185,referentes!T:T,0),1))","v":""},null,null,null,"","","","",181,"","","","",{"$f":"IF(A185=\"\",\"\",INDEX(ACTIVIDADES!D:G,MATCH(A185,ACTIVIDADES!G:G,0),1))","v":""},"","","",{"$f":"IF(A185=\"\",\"\",INDEX(ACTIVIDADES!D:I,MATCH(A185,ACTIVIDADES!G:G,0),4))","v":""},{"$f":"IF(E185=\"\",\"\",INDEX(referentes!AN:AQ,MATCH(E185,referentes!AQ:AQ,0),1))","v":""},{"$f":"IF(F185=\"\",\"\",INDEX(referentes!A:B,MATCH(F185,referentes!B:B,0),1))","v":""},{"$f":"IF(H185=\"\",\"\",INDEX(referentes!D:E,MATCH(H185,referentes!E:E,0),1))","v":""}]
[null,null,{"$f":"IF(B186=\"\",\"\",INDEX(referentes!J:K,MATCH(B186,referentes!K:K,0),1))","v":""},null,null,null,null,null,null,{"$f":"IF(I186=\"\",\"\",INDEX(referentes!G:H,MATCH(I186,referentes!H:H,0),1))","v":""},null,null,null,{"$f":"IF(O186=\"\",\"\",INDEX(referentes!AE:AF,MATCH(O186,referentes!AF:AF,0),1))","v":""},null,{"$f":"IF(Q186=\"\",\"\",INDEX(referentes!V:W,MATCH(Q186,referentes!W:W,0),1))","v":""},null,{"$f":"IF(S186=\"\",\"\",INDEX(referentes!S:T,MATCH(S186,referentes!T:T,0),1))","v":""},null,null,null,"","","","",182,"","","","",{"$f":"IF(A186=\"\",\"\",INDEX(ACTIVIDADES!D:G,MATCH(A186,ACTIVIDADES!G:G,0),1))","v":""},"","","",{"$f":"IF(A186=\"\",\"\",INDEX(ACTIVIDADES!D:I,MATCH(A186,ACTIVIDADES!G:G,0),4))","v":""},{"$f":"IF(E186=\"\",\"\",INDEX(referentes!AN:AQ,MATCH(E186,referentes!AQ:AQ,0),1))","v":""},{"$f":"IF(F186=\"\",\"\",INDEX(referentes!A:B,MATCH(F186,referentes!B:B,0),1))","v":""},{"$f":"IF(H186=\"\",\"\",INDEX(referentes!D:E,MATCH(H186,referentes!E:E,0),1))","v":""}]
[null,null,{"$f":"IF(B187=\"\",\"\",INDEX(referentes!J:K,MATCH(B187,referentes!K:K,0),1))","v":""},null,null,null,null,null,null,{"$f":"IF(I187=\"\",\"\",INDEX(referentes!G:H,MATCH(I187,referentes!H:H,0),1))","v":""},null,null,null,{"$f":"IF(O187=\"\",\"\",INDEX(referentes!AE:AF,MATCH(O187,referentes!AF:AF,0),1))","v":""},null,{"$f":"IF(Q187=\"\",\"\",INDEX(referentes!V:W,MATCH(Q187,referentes!W:W,0),1))","v":""},null,{"$f":"IF(S187=\"\",\"\",INDEX(referentes!S:T,MATCH(S187,referentes!T:T,0),1))","v":""},null,null,null,"","","","",183,"","","","",{"$f":"IF(A187=\"\",\"\",INDEX(ACTIVIDADES!D:G,MATCH(A187,ACTIVIDADES!G:G,0),1))","v":""},"","","",{"$f":"IF(A187=\"\",\"\",INDEX(ACTIVIDADES!D:I,MATCH(A187,ACTIVIDADES!G:G,0),4))","v":""},{"$f":"IF(E187=\"\",\"\",INDEX(referentes!AN:AQ,MATCH(E187,referentes!AQ:AQ,0),1))","v":""},{"$f":"IF(F187=\"\",\"\",INDEX(referentes!A:B,MATCH(F187,referentes!B:B,0),1))","v":""},{"$f":"IF(H187=\"\",\"\",INDEX(referentes!D:E,MATCH(H187,referentes!E:E,0),1))","v":""}]
[null,null,{"$f":"IF(B188=\"\",\"\",INDEX(referentes!J:K,MATCH(B188,referentes!K:K,0),1))","v":""},null,null,null,null,null,null,{"$f":"IF(I188=\"\",\"\",INDEX(referentes!G:H,MATCH(I188,referentes!H:H,0),1))","v":""},null,null,null,{"$f":"IF(O188=\"\",\"\",INDEX(referentes!AE:AF,MATCH(O188,referentes!AF:AF,0),1))","v":""},null,{"$f":"IF(Q188=\"\",\"\",INDEX(referentes!V:W,MATCH(Q188,referentes!W:W,0),1))","v":""},null,{"$f":"IF(S188=\"\",\"\",INDEX(referentes!S:T,MATCH(S188,referentes!T:T,0),1))","v":""},null,null,null,"","","","",184,"","","","",{"$f":"IF(A188=\"\",\"\",INDEX(ACTIVIDADES!D:G,MATCH(A188,ACTIVIDADES!G:G,0),1))","v":""},"","","",{"$f":"IF(A188=\"\",\"\",INDEX(ACTIVIDADES!D:I,MATCH(A188,ACTIVIDADES!G:G,0),4))","v":""},{"$f":"IF(E188=\"\",\"\",INDEX(referentes!AN:AQ,MATCH(E188,referentes!AQ:AQ,0),1))","v":""},{"$f":"IF(F188=\"\",\"\",INDEX(referentes!A:B,MATCH(F188,referentes!B:B,0),1))","v":""},{"$f":"IF(H188=\"\",\"\",INDEX(referentes!D:E,MATCH(H188,referentes!E:E,0),1))","v":""}]
[null,null,{"$f":"IF(B189=\"\",\"\",INDEX(referentes!J:K,MATCH(B189,referentes!K:K,0),1))","v":""},null,null,null,null,null,null,{"$f":"IF(I189=\"\",\"\",INDEX(referentes!G:H,MATCH(I189,referentes!H:H,0),1))","v":""},null,null,null,{"$f":"IF(O189=\"\",\"\",INDEX(referentes!AE:AF,MATCH(O189,referentes!AF:AF,0),1))","v":""},null,{"$f":"IF(Q189=\"\",\"\",INDEX(referentes!V:W,MATCH(Q189,referentes!W:W,0),1))","v":""},null,{"$f":"IF(S189=\"\",\"\",INDEX(referentes!S:T,MATCH(S189,referentes!T:T,0),1))","v":""},null,null,null,"","","","",185,"","","","",{"$f":"IF(A189=\"\",\"\",INDEX(ACTIVIDADES!D:G,MATCH(A189,ACTIVIDADES!G:G,0),1))","v":""},"","","",{"$f":"IF(A189=\"\",\"\",INDEX(ACTIVIDADES!D:I,MATCH(A189,ACTIVIDADES!G:G,0),4))","v":""},{"$f":"IF(E189=\"\",\"\",INDEX(referentes!AN:AQ,MATCH(E189,referentes!AQ:AQ,0),1))","v":""},{"$f":"IF(F189=\"\",\"\",INDEX(referentes!A:B,MATCH(F189,referentes!B:B,0),1))","v":""},{"$f":"IF(H189=\"\",\"\",INDEX(referentes!D:E,MATCH(H189,referentes!E:E,0),1))","v":""}]
[null,null,{"$f":"IF(B190=\"\",\"\",INDEX(referentes!J:K,MATCH(B190,referentes!K:K,0),1))","v":""},null,null,null,null,null,null,{"$f":"IF(I190=\"\",\"\",INDEX(referentes!G:H,MATCH(I190,referentes!H:H,0),1))","v":""},null,null,null,{"$f":"IF(O190=\"\",\"\",INDEX(referentes!AE:AF,MATCH(O190,referentes!AF:AF,0),1))","v":""},null,{"$f":"IF(Q190=\"\",\"\",INDEX(referentes!V:W,MATCH(Q190,referentes!W:W,0),1))","v":""},null,{"$f":"IF(S190=\"\",\"\",INDEX(referentes!S:T,MATCH(S190,referentes!T:T,0),1))","v":""},null,null,null,"","","","",186,"","","","",{"$f":"IF(A190=\"\",\"\",INDEX(ACTIVIDADES!D:G,MATCH(A190,ACTIVIDADES!G:G,0),1))","v":""},"","","",{"$f":"IF(A190=\"\",\"\",INDEX(ACTIVIDADES!D:I,MATCH(A190,ACTIVIDADES!G:G,0),4))","v":""},{"$f":"IF(E190=\"\",\"\",INDEX(referentes!AN:AQ,MATCH(E190,referentes!AQ:AQ,0),1))","v":""},{"$f":"IF(F190=\"\",\"\",INDEX(referentes!A:B,MATCH(F190,referentes!B:B,0),1))","v":""},{"$f":"IF(H190=\"\",\"\",INDEX(referentes!D:E,MATCH(H190,referentes!E:E,0),1))","v":""}]
[null,null,{"$f":"IF(B191=\"\",\"\",INDEX(referentes!J:K,MATCH(B191,referentes!K:K,0),1))","v":""},null,null,null,null,null,null,{"$f":"IF(I191=\"\",\"\",INDEX(referentes!G:H,MATCH(I191,referentes!H:H,0),1))","v":""},null,null,null,{"$f":"IF(O191=\"\",\"\",INDEX(referentes!AE:AF,MATCH(O191,referentes!AF:AF,0),1))","v":""},null,{"$f":"IF(Q191=\"\",\"\",INDEX(referentes!V:W,MATCH(Q191,referentes!W:W,0),1))","v":""},null,{"$f":"IF(S191=\"\",\"\",INDEX(referentes!S:T,MATCH(S191,referentes!T:T,0),1))","v":""},null,null,null,"","","","",187,"","","","",{"$f":"IF(A191=\"\",\"\",INDEX(ACTIVIDADES!D:G,MATCH(A191,ACTIVIDADES!G:G,0),1))","v":""},"","","",{"$f":"IF(A191=\"\",\"\",INDEX(ACTIVIDADES!D:I,MATCH(A191,ACTIVIDADES!G:G,0),4))","v":""},{"$f":"IF(E191=\"\",\"\",INDEX(referentes!AN:AQ,MATCH(E191,referentes!AQ:AQ,0),1))","v":""},{"$f":"IF(F191=\"\",\"\",INDEX(referentes!A:B,MATCH(F191,referentes!B:B,0),1))","v":""},{"$f":"IF(H191=\"\",\"\",INDEX(referentes!D:E,MATCH(H191,referentes!E:E,0),1))","v":""}]
[null,null,{"$f":"IF(B192=\"\",\"\",INDEX(referentes!J:K,MATCH(B192,referentes!K:K,0),1))","v":""},null,null,null,null,null,null,{"$f":"IF(I192=\"\",\"\",INDEX(referentes!G:H,MATCH(I192,referentes!H:H,0),1))","v":""},null,null,null,{"$f":"IF(O192=\"\",\"\",INDEX(referentes!AE:AF,MATCH(O192,referentes!AF:AF,0),1))","v":""},null,{"$f":"IF(Q192=\"\",\"\",INDEX(referentes!V:W,MATCH(Q192,referentes!W:W,0),1))","v":""},null,{"$f":"IF(S192=\"\",\"\",INDEX(referentes!S:T,MATCH(S192,referentes!T:T,0),1))","v":""},null,null,null,"","","","",188,"","","","",{"$f":"IF(A192=\"\",\"\",INDEX(ACTIVIDADES!D:G,MATCH(A192,ACTIVIDADES!G:G,0),1))","v":""},"","","",{"$f":"IF(A192=\"\",\"\",INDEX(ACTIVIDADES!D:I,MATCH(A192,ACTIVIDADES!G:G,0),4))","v":""},{"$f":"IF(E192=\"\",\"\",INDEX(referentes!AN:AQ,MATCH(E192,referentes!AQ:AQ,0),1))","v":""},{"$f":"IF(F192=\"\",\"\",INDEX(referentes!A:B,MATCH(F192,referentes!B:B,0),1))","v":""},{"$f":"IF(H192=\"\",\"\",INDEX(referentes!D:E,MATCH(H192,referentes!E:E,0),1))","v":""}]
[null,null,{"$f":"IF(B193=\"\",\"\",INDEX(referentes!J:K,MATCH(B193,referentes!K:K,0),1))","v":""},null,null,null,null,null,null,{"$f":"IF(I193=\"\",\"\",INDEX(referentes!G:H,MATCH(I193,referentes!H:H,0),1))","v":""},null,null,null,{"$f":"IF(O193=\"\",\"\",INDEX(referentes!AE:AF,MATCH(O193,referentes!AF:AF,0),1))","v":""},null,{"$f":"IF(Q193=\"\",\"\",INDEX(referentes!V:W,MATCH(Q193,referentes!W:W,0),1))","v":""},null,{"$f":"IF(S193=\"\",\"\",INDEX(referentes!S:T,MATCH(S193,referentes!T:T,0),1))","v":""},null,null,null,"","","","",189,"","","","",{"$f":"IF(A193=\"\",\"\",INDEX(ACTIVIDADES!D:G,MATCH(A193,ACTIVIDADES!G:G,0),1))","v":""},"","","",{"$f":"IF(A193=\"\",\"\",INDEX(ACTIVIDADES!D:I,MATCH(A193,ACTIVIDADES!G:G,0),4))","v":""},{"$f":"IF(E193=\"\",\"\",INDEX(referentes!AN:AQ,MATCH(E193,referentes!AQ:AQ,0),1))","v":""},{"$f":"IF(F193=\"\",\"\",INDEX(referentes!A:B,MATCH(F193,referentes!B:B,0),1))","v":""},{"$f":"IF(H193=\"\",\"\",INDEX(referentes!D:E,MATCH(H193,referentes!E:E,0),1))","v":""}]
[null,null,{"$f":"IF(B194=\"\",\"\",INDEX(referentes!J:K,MATCH(B194,referentes!K:K,0),1))","v":""},null,null,null,null,null,null,{"$f":"IF(I194=\"\",\"\",INDEX(referentes!G:H,MATCH(I194,referentes!H:H,0),1))","v":""},null,null,null,{"$f":"IF(O194=\"\",\"\",INDEX(referentes!AE:AF,MATCH(O194,referentes!AF:AF,0),1))","v":""},null,{"$f":"IF(Q194=\"\",\"\",INDEX(referentes!V:W,MATCH(Q194,referentes!W:W,0),1))","v":""},null,{"$f":"IF(S194=\"\",\"\",INDEX(referentes!S:T,MATCH(S194,referentes!T:T,0),1))","v":""},null,null,null,"","","","",190,"","","","",{"$f":"IF(A194=\"\",\"\",INDEX(ACTIVIDADES!D:G,MATCH(A194,ACTIVIDADES!G:G,0),1))","v":""},"","","",{"$f":"IF(A194=\"\",\"\",INDEX(ACTIVIDADES!D:I,MATCH(A194,ACTIVIDADES!G:G,0),4))","v":""},{"$f":"IF(E194=\"\",\"\",INDEX(referentes!AN:AQ,MATCH(E194,referentes!AQ:AQ,0),1))","v":""},{"$f":"IF(F194=\"\",\"\",INDEX(referentes!A:B,MATCH(F194,referentes!B:B,0),1))","v":""},{"$f":"IF(H194=\"\",\"\",INDEX(referentes!D:E,MATCH(H194,referentes!E:E,0),1))","v":""}]
[null,null,{"$f":"IF(B195=\"\",\"\",INDEX(referentes!J:K,MATCH(B195,referentes!K:K,0),1))","v":""},null,null,null,null,null,null,{"$f":"IF(I195=\"\",\"\",INDEX(referentes!G:H,MATCH(I195,referentes!H:H,0),1))","v":""},null,null,null,{"$f":"IF(O195=\"\",\"\",INDEX(referentes!AE:AF,MATCH(O195,referentes!AF:AF,0),1))","v":""},null,{"$f":"IF(Q195=\"\",\"\",INDEX(referentes!V:W,MATCH(Q195,referentes!W:W,0),1))","v":""},null,{"$f":"IF(S195=\"\",\"\",INDEX(referentes!S:T,MATCH(S195,referentes!T:T,0),1))","v":""},null,null,null,"","","","",191,"","","","",{"$f":"IF(A195=\"\",\"\",INDEX(ACTIVIDADES!D:G,MATCH(A195,ACTIVIDADES!G:G,0),1))","v":""},"","","",{"$f":"IF(A195=\"\",\"\",INDEX(ACTIVIDADES!D:I,MATCH(A195,ACTIVIDADES!G:G,0),4))","v":""},{"$f":"IF(E195=\"\",\"\",INDEX(referentes!AN:AQ,MATCH(E195,referentes!AQ:AQ,0),1))","v":""},{"$f":"IF(F195=\"\",\"\",INDEX(referentes!A:B,MATCH(F195,referentes!B:B,0),1))","v":""},{"$f":"IF(H195=\"\",\"\",INDEX(referentes!D:E,MATCH(H195,referentes!E:E,0),1))","v":""}]
[null,null,{"$f":"IF(B196=\"\",\"\",INDEX(referentes!J:K,MATCH(B196,referentes!K:K,0),1))","v":""},null,null,null,null,null,null,{"$f":"IF(I196=\"\",\"\",INDEX(referentes!G:H,MATCH(I196,referentes!H:H,0),1))","v":""},null,null,null,{"$f":"IF(O196=\"\",\"\",INDEX(referentes!AE:AF,MATCH(O196,referentes!AF:AF,0),1))","v":""},null,{"$f":"IF(Q196=\"\",\"\",INDEX(referentes!V:W,MATCH(Q196,referentes!W:W,0),1))","v":""},null,{"$f":"IF(S196=\"\",\"\",INDEX(referentes!S:T,MATCH(S196,referentes!T:T,0),1))","v":""},null,null,null,"","","","",192,"","","","",{"$f":"IF(A196=\"\",\"\",INDEX(ACTIVIDADES!D:G,MATCH(A196,ACTIVIDADES!G:G,0),1))","v":""},"","","",{"$f":"IF(A196=\"\",\"\",INDEX(ACTIVIDADES!D:I,MATCH(A196,ACTIVIDADES!G:G,0),4))","v":""},{"$f":"IF(E196=\"\",\"\",INDEX(referentes!AN:AQ,MATCH(E196,referentes!AQ:AQ,0),1))","v":""},{"$f":"IF(F196=\"\",\"\",INDEX(referentes!A:B,MATCH(F196,referentes!B:B,0),1))","v":""},{"$f":"IF(H196=\"\",\"\",INDEX(referentes!D:E,MATCH(H196,referentes!E:E,0),1))","v":""}]
[null,null,{"$f":"IF(B197=\"\",\"\",INDEX(referentes!J:K,MATCH(B197,referentes!K:K,0),1))","v":""},null,null,null,null,null,null,{"$f":"IF(I197=\"\",\"\",INDEX(referentes!G:H,MATCH(I197,referentes!H:H,0),1))","v":""},null,null,null,{"$f":"IF(O197=\"\",\"\",INDEX(referentes!AE:AF,MATCH(O197,referentes!AF:AF,0),1))","v":""},null,{"$f":"IF(Q197=\"\",\"\",INDEX(referentes!V:W,MATCH(Q197,referentes!W:W,0),1))","v":""},null,{"$f":"IF(S197=\"\",\"\",INDEX(referentes!S:T,MATCH(S197,referentes!T:T,0),1))","v":""},null,null,null,{"$f":"IF(A197=\"\",\"\",CONCATENATE(AE197,Z197))","v":""},{"$f":"IF(A197=\"\",\"\",CONCATENATE(V197,$W$4))","v":""},{"$f":"IF(A197=\"\",\"\",CONCATENATE(V197,$X$4))","v":""},{"$f":"IF(A197=\"\",\"\",CONCATENATE(V197,$Y$4))","v":""},193,"","","","",{"$f":"IF(A197=\"\",\"\",INDEX(ACTIVIDADES!D:G,MATCH(A197,ACTIVIDADES!G:G,0),1))","v":""},{"$f":"IF(A197=\"\",\"\",CONCATENATE(AE197,$AF$4))","v":""},{"$f":"IF(A197=\"\",\"\",CONCATENATE(AE197,$AG$4))","v":""},{"$f":"IF(A197=\"\",\"\",CONCATENATE(AE197,$AH$4))","v":""},{"$f":"IF(A197=\"\",\"\",INDEX(ACTIVIDADES!D:I,MATCH(A197,ACTIVIDADES!G:G,0),4))","v":""},{"$f":"IF(E197=\"\",\"\",INDEX(referentes!AN:AQ,MATCH(E197,referentes!AQ:AQ,0),1))","v":""},{"$f":"IF(F197=\"\",\"\",INDEX(referentes!A:B,MATCH(F197,referentes!B:B,0),1))","v":""},{"$f":"IF(H197=\"\",\"\",INDEX(referentes!D:E,MATCH(H197,referentes!E:E,0),1))","v":""}]
[null,null,{"$f":"IF(B198=\"\",\"\",INDEX(referentes!J:K,MATCH(B198,referentes!K:K,0),1))","v":""},null,null,null,null,null,null,{"$f":"IF(I198=\"\",\"\",INDEX(referentes!G:H,MATCH(I198,referentes!H:H,0),1))","v":""},null,null,null,{"$f":"IF(O198=\"\",\"\",INDEX(referentes!AE:AF,MATCH(O198,referentes!AF:AF,0),1))","v":""},null,{"$f":"IF(Q198=\"\",\"\",INDEX(referentes!V:W,MATCH(Q198,referentes!W:W,0),1))","v":""},null,{"$f":"IF(S198=\"\",\"\",INDEX(referentes!S:T,MATCH(S198,referentes!T:T,0),1))","v":""},null,null,null,"","","","",194,{"$f":"IF(A198=\"\",\"\",IF(A198=A197,\"\",AE198))","v":""},{"$f":"IF(AA198=\"\",\"\",CONCATENATE(AA198,$AB$4))","v":""},{"$f":"IF(AB198=\"\",\"\",CONCATENATE(AA198,$AC$4))","v":""},{"$f":"IF(AC198=\"\",\"\",CONCATENATE(AA198,$AD$4))","v":""},{"$f":"IF(A198=\"\",\"\",INDEX(ACTIVIDADES!D:G,MATCH(A198,ACTIVIDADES!G:G,0),1))","v":""},"","","",{"$f":"IF(A198=\"\",\"\",INDEX(ACTIVIDADES!D:I,MATCH(A198,ACTIVIDADES!G:G,0),4))","v":""},{"$f":"IF(E198=\"\",\"\",INDEX(referentes!AN:AQ,MATCH(E198,referentes!AQ:AQ,0),1))","v":""},{"$f":"IF(F198=\"\",\"\",INDEX(referentes!A:B,MATCH(F198,referentes!B:B,0),1))","v":""},{"$f":"IF(H198=\"\",\"\",INDEX(referentes!D:E,MATCH(H198,referentes!E:E,0),1))","v":""}]
[null,null,{"$f":"IF(B199=\"\",\"\",INDEX(referentes!J:K,MATCH(B199,referentes!K:K,0),1))","v":""},null,null,null,null,null,null,{"$f":"IF(I199=\"\",\"\",INDEX(referentes!G:H,MATCH(I199,referentes!H:H,0),1))","v":""},null,null,null,{"$f":"IF(O199=\"\",\"\",INDEX(referentes!AE:AF,MATCH(O199,referentes!AF:AF,0),1))","v":""},null,{"$f":"IF(Q199=\"\",\"\",INDEX(referentes!V:W,MATCH(Q199,referentes!W:W,0),1))","v":""},null,{"$f":"IF(S199=\"\",\"\",INDEX(referentes!S:T,MATCH(S199,referentes!T:T,0),1))","v":""},null,null,null,"","","","",195,"","","","",{"$f":"IF(A199=\"\",\"\",INDEX(ACTIVIDADES!D:G,MATCH(A199,ACTIVIDADES!G:G,0),1))","v":""},"","","",{"$f":"IF(A199=\"\",\"\",INDEX(ACTIVIDADES!D:I,MATCH(A199,ACTIVIDADES!G:G,0),4))","v":""},{"$f":"IF(E199=\"\",\"\",INDEX(referentes!AN:AQ,MATCH(E199,referentes!AQ:AQ,0),1))","v":""},{"$f":"IF(F199=\"\",\"\",INDEX(referentes!A:B,MATCH(F199,referentes!B:B,0),1))","v":""},{"$f":"IF(H199=\"\",\"\",INDEX(referentes!D:E,MATCH(H199,referentes!E:E,0),1))","v":""}]
[null,null,{"$f":"IF(B200=\"\",\"\",INDEX(referentes!J:K,MATCH(B200,referentes!K:K,0),1))","v":""},null,null,null,null,null,null,{"$f":"IF(I200=\"\",\"\",INDEX(referentes!G:H,MATCH(I200,referentes!H:H,0),1))","v":""},null,null,null,{"$f":"IF(O200=\"\",\"\",INDEX(referentes!AE:AF,MATCH(O200,referentes!AF:AF,0),1))","v":""},null,{"$f":"IF(Q200=\"\",\"\",INDEX(referentes!V:W,MATCH(Q200,referentes!W:W,0),1))","v":""},null,{"$f":"IF(S200=\"\",\"\",INDEX(referentes!S:T,MATCH(S200,referentes!T:T,0),1))","v":""},null,null,null,"","","","",196,"","","","",{"$f":"IF(A200=\"\",\"\",INDEX(ACTIVIDADES!D:G,MATCH(A200,ACTIVIDADES!G:G,0),1))","v":""},"","","",{"$f":"IF(A200=\"\",\"\",INDEX(ACTIVIDADES!D:I,MATCH(A200,ACTIVIDADES!G:G,0),4))","v":""},{"$f":"IF(E200=\"\",\"\",INDEX(referentes!AN:AQ,MATCH(E200,referentes!AQ:AQ,0),1))","v":""},{"$f":"IF(F200=\"\",\"\",INDEX(referentes!A:B,MATCH(F200,referentes!B:B,0),1))","v":""},{"$f":"IF(H200=\"\",\"\",INDEX(referentes!D:E,MATCH(H200,referentes!E:E,0),1))","v":""}]
[null,null,{"$f":"IF(B201=\"\",\"\",INDEX(referentes!J:K,MATCH(B201,referentes!K:K,0),1))","v":""},null,null,null,null,null,null,{"$f":"IF(I201=\"\",\"\",INDEX(referentes!G:H,MATCH(I201,referentes!H:H,0),1))","v":""},null,null,null,{"$f":"IF(O201=\"\",\"\",INDEX(referentes!AE:AF,MATCH(O201,referentes!AF:AF,0),1))","v":""},null,{"$f":"IF(Q201=\"\",\"\",INDEX(referentes!V:W,MATCH(Q201,referentes!W:W,0),1))","v":""},null,{"$f":"IF(S201=\"\",\"\",INDEX(referentes!S:T,MATCH(S201,referentes!T:T,0),1))","v":""},null,null,null,"","","","",197,"","","","",{"$f":"IF(A201=\"\",\"\",INDEX(ACTIVIDADES!D:G,MATCH(A201,ACTIVIDADES!G:G,0),1))","v":""},"","","",{"$f":"IF(A201=\"\",\"\",INDEX(ACTIVIDADES!D:I,MATCH(A201,ACTIVIDADES!G:G,0),4))","v":""},{"$f":"IF(E201=\"\",\"\",INDEX(referentes!AN:AQ,MATCH(E201,referentes!AQ:AQ,0),1))","v":""},{"$f":"IF(F201=\"\",\"\",INDEX(referentes!A:B,MATCH(F201,referentes!B:B,0),1))","v":""},{"$f":"IF(H201=\"\",\"\",INDEX(referentes!D:E,MATCH(H201,referentes!E:E,0),1))","v":""}]
[null,null,{"$f":"IF(B202=\"\",\"\",INDEX(referentes!J:K,MATCH(B202,referentes!K:K,0),1))","v":""},null,null,null,null,null,null,{"$f":"IF(I202=\"\",\"\",INDEX(referentes!G:H,MATCH(I202,referentes!H:H,0),1))","v":""},null,null,null,{"$f":"IF(O202=\"\",\"\",INDEX(referentes!AE:AF,MATCH(O202,referentes!AF:AF,0),1))","v":""},null,{"$f":"IF(Q202=\"\",\"\",INDEX(referentes!V:W,MATCH(Q202,referentes!W:W,0),1))","v":""},null,{"$f":"IF(S202=\"\",\"\",INDEX(referentes!S:T,MATCH(S202,referentes!T:T,0),1))","v":""},null,null,null,"","","","",198,"","","","",{"$f":"IF(A202=\"\",\"\",INDEX(ACTIVIDADES!D:G,MATCH(A202,ACTIVIDADES!G:G,0),1))","v":""},"","","",{"$f":"IF(A202=\"\",\"\",INDEX(ACTIVIDADES!D:I,MATCH(A202,ACTIVIDADES!G:G,0),4))","v":""},{"$f":"IF(E202=\"\",\"\",INDEX(referentes!AN:AQ,MATCH(E202,referentes!AQ:AQ,0),1))","v":""},{"$f":"IF(F202=\"\",\"\",INDEX(referentes!A:B,MATCH(F202,referentes!B:B,0),1))","v":""},{"$f":"IF(H202=\"\",\"\",INDEX(referentes!D:E,MATCH(H202,referentes!E:E,0),1))","v":""}]
[null,null,{"$f":"IF(B203=\"\",\"\",INDEX(referentes!J:K,MATCH(B203,referentes!K:K,0),1))","v":""},null,null,null,null,null,null,{"$f":"IF(I203=\"\",\"\",INDEX(referentes!G:H,MATCH(I203,referentes!H:H,0),1))","v":""},null,null,null,{"$f":"IF(O203=\"\",\"\",INDEX(referentes!AE:AF,MATCH(O203,referentes!AF:AF,0),1))","v":""},null,{"$f":"IF(Q203=\"\",\"\",INDEX(referentes!V:W,MATCH(Q203,referentes!W:W,0),1))","v":""},null,{"$f":"IF(S203=\"\",\"\",INDEX(referentes!S:T,MATCH(S203,referentes!T:T,0),1))","v":""},null,null,null,"","","","",199,"","","","",{"$f":"IF(A203=\"\",\"\",INDEX(ACTIVIDADES!D:G,MATCH(A203,ACTIVIDADES!G:G,0),1))","v":""},"","","",{"$f":"IF(A203=\"\",\"\",INDEX(ACTIVIDADES!D:I,MATCH(A203,ACTIVIDADES!G:G,0),4))","v":""},{"$f":"IF(E203=\"\",\"\",INDEX(referentes!AN:AQ,MATCH(E203,referentes!AQ:AQ,0),1))","v":""},{"$f":"IF(F203=\"\",\"\",INDEX(referentes!A:B,MATCH(F203,referentes!B:B,0),1))","v":""},{"$f":"IF(H203=\"\",\"\",INDEX(referentes!D:E,MATCH(H203,referentes!E:E,0),1))","v":""}]
[null,null,{"$f":"IF(B204=\"\",\"\",INDEX(referentes!J:K,MATCH(B204,referentes!K:K,0),1))","v":""},null,null,null,null,null,null,{"$f":"IF(I204=\"\",\"\",INDEX(referentes!G:H,MATCH(I204,referentes!H:H,0),1))","v":""},null,null,null,{"$f":"IF(O204=\"\",\"\",INDEX(referentes!AE:AF,MATCH(O204,referentes!AF:AF,0),1))","v":""},null,{"$f":"IF(Q204=\"\",\"\",INDEX(referentes!V:W,MATCH(Q204,referentes!W:W,0),1))","v":""},null,{"$f":"IF(S204=\"\",\"\",INDEX(referentes!S:T,MATCH(S204,referentes!T:T,0),1))","v":""},null,null,null,"","","","",200,"","","","",{"$f":"IF(A204=\"\",\"\",INDEX(ACTIVIDADES!D:G,MATCH(A204,ACTIVIDADES!G:G,0),1))","v":""},"","","",{"$f":"IF(A204=\"\",\"\",INDEX(ACTIVIDADES!D:I,MATCH(A204,ACTIVIDADES!G:G,0),4))","v":""},{"$f":"IF(E204=\"\",\"\",INDEX(referentes!AN:AQ,MATCH(E204,referentes!AQ:AQ,0),1))","v":""},{"$f":"IF(F204=\"\",\"\",INDEX(referentes!A:B,MATCH(F204,referentes!B:B,0),1))","v":""},{"$f":"IF(H204=\"\",\"\",INDEX(referentes!D:E,MATCH(H204,referentes!E:E,0),1))","v":""}]
[null,null,{"$f":"IF(B205=\"\",\"\",INDEX(referentes!J:K,MATCH(B205,referentes!K:K,0),1))","v":""},null,null,null,null,null,null,{"$f":"IF(I205=\"\",\"\",INDEX(referentes!G:H,MATCH(I205,referentes!H:H,0),1))","v":""},null,null,null,{"$f":"IF(O205=\"\",\"\",INDEX(referentes!AE:AF,MATCH(O205,referentes!AF:AF,0),1))","v":""},null,{"$f":"IF(Q205=\"\",\"\",INDEX(referentes!V:W,MATCH(Q205,referentes!W:W,0),1))","v":""},null,{"$f":"IF(S205=\"\",\"\",INDEX(referentes!S:T,MATCH(S205,referentes!T:T,0),1))","v":""},null,null,null,"","","","",201,"","","","",{"$f":"IF(A205=\"\",\"\",INDEX(ACTIVIDADES!D:G,MATCH(A205,ACTIVIDADES!G:G,0),1))","v":""},"","","",{"$f":"IF(A205=\"\",\"\",INDEX(ACTIVIDADES!D:I,MATCH(A205,ACTIVIDADES!G:G,0),4))","v":""},{"$f":"IF(E205=\"\",\"\",INDEX(referentes!AN:AQ,MATCH(E205,referentes!AQ:AQ,0),1))","v":""},{"$f":"IF(F205=\"\",\"\",INDEX(referentes!A:B,MATCH(F205,referentes!B:B,0),1))","v":""},{"$f":"IF(H205=\"\",\"\",INDEX(referentes!D:E,MATCH(H205,referentes!E:E,0),1))","v":""}]
[null,null,{"$f":"IF(B206=\"\",\"\",INDEX(referentes!J:K,MATCH(B206,referentes!K:K,0),1))","v":""},null,null,null,null,null,null,{"$f":"IF(I206=\"\",\"\",INDEX(referentes!G:H,MATCH(I206,referentes!H:H,0),1))","v":""},null,null,null,{"$f":"IF(O206=\"\",\"\",INDEX(referentes!AE:AF,MATCH(O206,referentes!AF:AF,0),1))","v":""},null,{"$f":"IF(Q206=\"\",\"\",INDEX(referentes!V:W,MATCH(Q206,referentes!W:W,0),1))","v":""},null,{"$f":"IF(S206=\"\",\"\",INDEX(referentes!S:T,MATCH(S206,referentes!T:T,0),1))","v":""},null,null,null,"","","","",202,"","","","",{"$f":"IF(A206=\"\",\"\",INDEX(ACTIVIDADES!D:G,MATCH(A206,ACTIVIDADES!G:G,0),1))","v":""},"","","",{"$f":"IF(A206=\"\",\"\",INDEX(ACTIVIDADES!D:I,MATCH(A206,ACTIVIDADES!G:G,0),4))","v":""},{"$f":"IF(E206=\"\",\"\",INDEX(referentes!AN:AQ,MATCH(E206,referentes!AQ:AQ,0),1))","v":""},{"$f":"IF(F206=\"\",\"\",INDEX(referentes!A:B,MATCH(F206,referentes!B:B,0),1))","v":""},{"$f":"IF(H206=\"\",\"\",INDEX(referentes!D:E,MATCH(H206,referentes!E:E,0),1))","v":""}]
[null,null,{"$f":"IF(B207=\"\",\"\",INDEX(referentes!J:K,MATCH(B207,referentes!K:K,0),1))","v":""},null,null,null,null,null,null,{"$f":"IF(I207=\"\",\"\",INDEX(referentes!G:H,MATCH(I207,referentes!H:H,0),1))","v":""},null,null,null,{"$f":"IF(O207=\"\",\"\",INDEX(referentes!AE:AF,MATCH(O207,referentes!AF:AF,0),1))","v":""},null,{"$f":"IF(Q207=\"\",\"\",INDEX(referentes!V:W,MATCH(Q207,referentes!W:W,0),1))","v":""},null,{"$f":"IF(S207=\"\",\"\",INDEX(referentes!S:T,MATCH(S207,referentes!T:T,0),1))","v":""},null,null,null,"","","","",203,"","","","",{"$f":"IF(A207=\"\",\"\",INDEX(ACTIVIDADES!D:G,MATCH(A207,ACTIVIDADES!G:G,0),1))","v":""},"","","",{"$f":"IF(A207=\"\",\"\",INDEX(ACTIVIDADES!D:I,MATCH(A207,ACTIVIDADES!G:G,0),4))","v":""},{"$f":"IF(E207=\"\",\"\",INDEX(referentes!AN:AQ,MATCH(E207,referentes!AQ:AQ,0),1))","v":""},{"$f":"IF(F207=\"\",\"\",INDEX(referentes!A:B,MATCH(F207,referentes!B:B,0),1))","v":""},{"$f":"IF(H207=\"\",\"\",INDEX(referentes!D:E,MATCH(H207,referentes!E:E,0),1))","v":""}]
[null,null,{"$f":"IF(B208=\"\",\"\",INDEX(referentes!J:K,MATCH(B208,referentes!K:K,0),1))","v":""},null,null,null,null,null,null,{"$f":"IF(I208=\"\",\"\",INDEX(referentes!G:H,MATCH(I208,referentes!H:H,0),1))","v":""},null,null,null,{"$f":"IF(O208=\"\",\"\",INDEX(referentes!AE:AF,MATCH(O208,referentes!AF:AF,0),1))","v":""},null,{"$f":"IF(Q208=\"\",\"\",INDEX(referentes!V:W,MATCH(Q208,referentes!W:W,0),1))","v":""},null,{"$f":"IF(S208=\"\",\"\",INDEX(referentes!S:T,MATCH(S208,referentes!T:T,0),1))","v":""},null,null,null,"","","","",204,"","","","",{"$f":"IF(A208=\"\",\"\",INDEX(ACTIVIDADES!D:G,MATCH(A208,ACTIVIDADES!G:G,0),1))","v":""},"","","",{"$f":"IF(A208=\"\",\"\",INDEX(ACTIVIDADES!D:I,MATCH(A208,ACTIVIDADES!G:G,0),4))","v":""},{"$f":"IF(E208=\"\",\"\",INDEX(referentes!AN:AQ,MATCH(E208,referentes!AQ:AQ,0),1))","v":""},{"$f":"IF(F208=\"\",\"\",INDEX(referentes!A:B,MATCH(F208,referentes!B:B,0),1))","v":""},{"$f":"IF(H208=\"\",\"\",INDEX(referentes!D:E,MATCH(H208,referentes!E:E,0),1))","v":""}]
[null,null,{"$f":"IF(B209=\"\",\"\",INDEX(referentes!J:K,MATCH(B209,referentes!K:K,0),1))","v":""},null,null,null,null,null,null,{"$f":"IF(I209=\"\",\"\",INDEX(referentes!G:H,MATCH(I209,referentes!H:H,0),1))","v":""},null,null,null,{"$f":"IF(O209=\"\",\"\",INDEX(referentes!AE:AF,MATCH(O209,referentes!AF:AF,0),1))","v":""},null,{"$f":"IF(Q209=\"\",\"\",INDEX(referentes!V:W,MATCH(Q209,referentes!W:W,0),1))","v":""},null,{"$f":"IF(S209=\"\",\"\",INDEX(referentes!S:T,MATCH(S209,referentes!T:T,0),1))","v":""},null,null,null,"","","","",205,"","","","",{"$f":"IF(A209=\"\",\"\",INDEX(ACTIVIDADES!D:G,MATCH(A209,ACTIVIDADES!G:G,0),1))","v":""},"","","",{"$f":"IF(A209=\"\",\"\",INDEX(ACTIVIDADES!D:I,MATCH(A209,ACTIVIDADES!G:G,0),4))","v":""},{"$f":"IF(E209=\"\",\"\",INDEX(referentes!AN:AQ,MATCH(E209,referentes!AQ:AQ,0),1))","v":""},{"$f":"IF(F209=\"\",\"\",INDEX(referentes!A:B,MATCH(F209,referentes!B:B,0),1))","v":""},{"$f":"IF(H209=\"\",\"\",INDEX(referentes!D:E,MATCH(H209,referentes!E:E,0),1))","v":""}]
[null,null,{"$f":"IF(B210=\"\",\"\",INDEX(referentes!J:K,MATCH(B210,referentes!K:K,0),1))","v":""},null,null,null,null,null,null,{"$f":"IF(I210=\"\",\"\",INDEX(referentes!G:H,MATCH(I210,referentes!H:H,0),1))","v":""},null,null,null,{"$f":"IF(O210=\"\",\"\",INDEX(referentes!AE:AF,MATCH(O210,referentes!AF:AF,0),1))","v":""},null,{"$f":"IF(Q210=\"\",\"\",INDEX(referentes!V:W,MATCH(Q210,referentes!W:W,0),1))","v":""},null,{"$f":"IF(S210=\"\",\"\",INDEX(referentes!S:T,MATCH(S210,referentes!T:T,0),1))","v":""},null,null,null,"","","","",206,"","","","",{"$f":"IF(A210=\"\",\"\",INDEX(ACTIVIDADES!D:G,MATCH(A210,ACTIVIDADES!G:G,0),1))","v":""},"","","",{"$f":"IF(A210=\"\",\"\",INDEX(ACTIVIDADES!D:I,MATCH(A210,ACTIVIDADES!G:G,0),4))","v":""},{"$f":"IF(E210=\"\",\"\",INDEX(referentes!AN:AQ,MATCH(E210,referentes!AQ:AQ,0),1))","v":""},{"$f":"IF(F210=\"\",\"\",INDEX(referentes!A:B,MATCH(F210,referentes!B:B,0),1))","v":""},{"$f":"IF(H210=\"\",\"\",INDEX(referentes!D:E,MATCH(H210,referentes!E:E,0),1))","v":""}]
[null,null,{"$f":"IF(B211=\"\",\"\",INDEX(referentes!J:K,MATCH(B211,referentes!K:K,0),1))","v":""},null,null,null,null,null,null,{"$f":"IF(I211=\"\",\"\",INDEX(referentes!G:H,MATCH(I211,referentes!H:H,0),1))","v":""},null,null,null,{"$f":"IF(O211=\"\",\"\",INDEX(referentes!AE:AF,MATCH(O211,referentes!AF:AF,0),1))","v":""},null,{"$f":"IF(Q211=\"\",\"\",INDEX(referentes!V:W,MATCH(Q211,referentes!W:W,0),1))","v":""},null,{"$f":"IF(S211=\"\",\"\",INDEX(referentes!S:T,MATCH(S211,referentes!T:T,0),1))","v":""},null,null,null,"","","","",207,"","","","",{"$f":"IF(A211=\"\",\"\",INDEX(ACTIVIDADES!D:G,MATCH(A211,ACTIVIDADES!G:G,0),1))","v":""},"","","",{"$f":"IF(A211=\"\",\"\",INDEX(ACTIVIDADES!D:I,MATCH(A211,ACTIVIDADES!G:G,0),4))","v":""},{"$f":"IF(E211=\"\",\"\",INDEX(referentes!AN:AQ,MATCH(E211,referentes!AQ:AQ,0),1))","v":""},{"$f":"IF(F211=\"\",\"\",INDEX(referentes!A:B,MATCH(F211,referentes!B:B,0),1))","v":""},{"$f":"IF(H211=\"\",\"\",INDEX(referentes!D:E,MATCH(H211,referentes!E:E,0),1))","v":""}]
[null,null,{"$f":"IF(B212=\"\",\"\",INDEX(referentes!J:K,MATCH(B212,referentes!K:K,0),1))","v":""},null,null,null,null,null,null,{"$f":"IF(I212=\"\",\"\",INDEX(referentes!G:H,MATCH(I212,referentes!H:H,0),1))","v":""},null,null,null,{"$f":"IF(O212=\"\",\"\",INDEX(referentes!AE:AF,MATCH(O212,referentes!AF:AF,0),1))","v":""},null,{"$f":"IF(Q212=\"\",\"\",INDEX(referentes!V:W,MATCH(Q212,referentes!W:W,0),1))","v":""},null,{"$f":"IF(S212=\"\",\"\",INDEX(referentes!S:T,MATCH(S212,referentes!T:T,0),1))","v":""},null,null,null,"","","","",208,"","","","",{"$f":"IF(A212=\"\",\"\",INDEX(ACTIVIDADES!D:G,MATCH(A212,ACTIVIDADES!G:G,0),1))","v":""},"","","",{"$f":"IF(A212=\"\",\"\",INDEX(ACTIVIDADES!D:I,MATCH(A212,ACTIVIDADES!G:G,0),4))","v":""},{"$f":"IF(E212=\"\",\"\",INDEX(referentes!AN:AQ,MATCH(E212,referentes!AQ:AQ,0),1))","v":""},{"$f":"IF(F212=\"\",\"\",INDEX(referentes!A:B,MATCH(F212,referentes!B:B,0),1))","v":""},{"$f":"IF(H212=\"\",\"\",INDEX(referentes!D:E,MATCH(H212,referentes!E:E,0),1))","v":""}]
[null,null,{"$f":"IF(B213=\"\",\"\",INDEX(referentes!J:K,MATCH(B213,referentes!K:K,0),1))","v":""},null,null,null,null,null,null,{"$f":"IF(I213=\"\",\"\",INDEX(referentes!G:H,MATCH(I213,referentes!H:H,0),1))","v":""},null,null,null,{"$f":"IF(O213=\"\",\"\",INDEX(referentes!AE:AF,MATCH(O213,referentes!AF:AF,0),1))","v":""},null,{"$f":"IF(Q213=\"\",\"\",INDEX(referentes!V:W,MATCH(Q213,referentes!W:W,0),1))","v":""},null,{"$f":"IF(S213=\"\",\"\",INDEX(referentes!S:T,MATCH(S213,referentes!T:T,0),1))","v":""},null,null,null,"","","","",209,"","","","",{"$f":"IF(A213=\"\",\"\",INDEX(ACTIVIDADES!D:G,MATCH(A213,ACTIVIDADES!G:G,0),1))","v":""},"","","",{"$f":"IF(A213=\"\",\"\",INDEX(ACTIVIDADES!D:I,MATCH(A213,ACTIVIDADES!G:G,0),4))","v":""},{"$f":"IF(E213=\"\",\"\",INDEX(referentes!AN:AQ,MATCH(E213,referentes!AQ:AQ,0),1))","v":""},{"$f":"IF(F213=\"\",\"\",INDEX(referentes!A:B,MATCH(F213,referentes!B:B,0),1))","v":""},{"$f":"IF(H213=\"\",\"\",INDEX(referentes!D:E,MATCH(H213,referentes!E:E,0),1))","v":""}]
[null,null,{"$f":"IF(B214=\"\",\"\",INDEX(referentes!J:K,MATCH(B214,referentes!K:K,0),1))","v":""},null,null,null,null,null,null,{"$f":"IF(I214=\"\",\"\",INDEX(referentes!G:H,MATCH(I214,referentes!H:H,0),1))","v":""},null,null,null,{"$f":"IF(O214=\"\",\"\",INDEX(referentes!AE:AF,MATCH(O214,referentes!AF:AF,0),1))","v":""},null,{"$f":"IF(Q214=\"\",\"\",INDEX(referentes!V:W,MATCH(Q214,referentes!W:W,0),1))","v":""},null,{"$f":"IF(S214=\"\",\"\",INDEX(referentes!S:T,MATCH(S214,referentes!T:T,0),1))","v":""},null,null,null,"","","","",210,"","","","",{"$f":"IF(A214=\"\",\"\",INDEX(ACTIVIDADES!D:G,MATCH(A214,ACTIVIDADES!G:G,0),1))","v":""},"","","",{"$f":"IF(A214=\"\",\"\",INDEX(ACTIVIDADES!D:I,MATCH(A214,ACTIVIDADES!G:G,0),4))","v":""},{"$f":"IF(E214=\"\",\"\",INDEX(referentes!AN:AQ,MATCH(E214,referentes!AQ:AQ,0),1))","v":""},{"$f":"IF(F214=\"\",\"\",INDEX(referentes!A:B,MATCH(F214,referentes!B:B,0),1))","v":""},{"$f":"IF(H214=\"\",\"\",INDEX(referentes!D:E,MATCH(H214,referentes!E:E,0),1))","v":""}]
[null,null,{"$f":"IF(B215=\"\",\"\",INDEX(referentes!J:K,MATCH(B215,referentes!K:K,0),1))","v":""},null,null,null,null,null,null,{"$f":"IF(I215=\"\",\"\",INDEX(referentes!G:H,MATCH(I215,referentes!H:H,0),1))","v":""},null,null,null,{"$f":"IF(O215=\"\",\"\",INDEX(referentes!AE:AF,MATCH(O215,referentes!AF:AF,0),1))","v":""},null,{"$f":"IF(Q215=\"\",\"\",INDEX(referentes!V:W,MATCH(Q215,referentes!W:W,0),1))","v":""},null,{"$f":"IF(S215=\"\",\"\",INDEX(referentes!S:T,MATCH(S215,referentes!T:T,0),1))","v":""},null,null,null,"","","","",211,"","","","",{"$f":"IF(A215=\"\",\"\",INDEX(ACTIVIDADES!D:G,MATCH(A215,ACTIVIDADES!G:G,0),1))","v":""},"","","",{"$f":"IF(A215=\"\",\"\",INDEX(ACTIVIDADES!D:I,MATCH(A215,ACTIVIDADES!G:G,0),4))","v":""},{"$f":"IF(E215=\"\",\"\",INDEX(referentes!AN:AQ,MATCH(E215,referentes!AQ:AQ,0),1))","v":""},{"$f":"IF(F215=\"\",\"\",INDEX(referentes!A:B,MATCH(F215,referentes!B:B,0),1))","v":""},{"$f":"IF(H215=\"\",\"\",INDEX(referentes!D:E,MATCH(H215,referentes!E:E,0),1))","v":""}]
[null,null,{"$f":"IF(B216=\"\",\"\",INDEX(referentes!J:K,MATCH(B216,referentes!K:K,0),1))","v":""},null,null,null,null,null,null,{"$f":"IF(I216=\"\",\"\",INDEX(referentes!G:H,MATCH(I216,referentes!H:H,0),1))","v":""},null,null,null,{"$f":"IF(O216=\"\",\"\",INDEX(referentes!AE:AF,MATCH(O216,referentes!AF:AF,0),1))","v":""},null,{"$f":"IF(Q216=\"\",\"\",INDEX(referentes!V:W,MATCH(Q216,referentes!W:W,0),1))","v":""},null,{"$f":"IF(S216=\"\",\"\",INDEX(referentes!S:T,MATCH(S216,referentes!T:T,0),1))","v":""},null,null,null,"","","","",212,"","","","",{"$f":"IF(A216=\"\",\"\",INDEX(ACTIVIDADES!D:G,MATCH(A216,ACTIVIDADES!G:G,0),1))","v":""},"","","",{"$f":"IF(A216=\"\",\"\",INDEX(ACTIVIDADES!D:I,MATCH(A216,ACTIVIDADES!G:G,0),4))","v":""},{"$f":"IF(E216=\"\",\"\",INDEX(referentes!AN:AQ,MATCH(E216,referentes!AQ:AQ,0),1))","v":""},{"$f":"IF(F216=\"\",\"\",INDEX(referentes!A:B,MATCH(F216,referentes!B:B,0),1))","v":""},{"$f":"IF(H216=\"\",\"\",INDEX(referentes!D:E,MATCH(H216,referentes!E:E,0),1))","v":""}]
[null,null,{"$f":"IF(B217=\"\",\"\",INDEX(referentes!J:K,MATCH(B217,referentes!K:K,0),1))","v":""},null,null,null,null,null,null,{"$f":"IF(I217=\"\",\"\",INDEX(referentes!G:H,MATCH(I217,referentes!H:H,0),1))","v":""},null,null,null,{"$f":"IF(O217=\"\",\"\",INDEX(referentes!AE:AF,MATCH(O217,referentes!AF:AF,0),1))","v":""},null,{"$f":"IF(Q217=\"\",\"\",INDEX(referentes!V:W,MATCH(Q217,referentes!W:W,0),1))","v":""},null,{"$f":"IF(S217=\"\",\"\",INDEX(referentes!S:T,MATCH(S217,referentes!T:T,0),1))","v":""},null,null,null,"","","","",213,"","","","",{"$f":"IF(A217=\"\",\"\",INDEX(ACTIVIDADES!D:G,MATCH(A217,ACTIVIDADES!G:G,0),1))","v":""},"","","",{"$f":"IF(A217=\"\",\"\",INDEX(ACTIVIDADES!D:I,MATCH(A217,ACTIVIDADES!G:G,0),4))","v":""},{"$f":"IF(E217=\"\",\"\",INDEX(referentes!AN:AQ,MATCH(E217,referentes!AQ:AQ,0),1))","v":""},{"$f":"IF(F217=\"\",\"\",INDEX(referentes!A:B,MATCH(F217,referentes!B:B,0),1))","v":""},{"$f":"IF(H217=\"\",\"\",INDEX(referentes!D:E,MATCH(H217,referentes!E:E,0),1))","v":""}]
[null,null,{"$f":"IF(B218=\"\",\"\",INDEX(referentes!J:K,MATCH(B218,referentes!K:K,0),1))","v":""},null,null,null,null,null,null,{"$f":"IF(I218=\"\",\"\",INDEX(referentes!G:H,MATCH(I218,referentes!H:H,0),1))","v":""},null,null,null,{"$f":"IF(O218=\"\",\"\",INDEX(referentes!AE:AF,MATCH(O218,referentes!AF:AF,0),1))","v":""},null,{"$f":"IF(Q218=\"\",\"\",INDEX(referentes!V:W,MATCH(Q218,referentes!W:W,0),1))","v":""},null,{"$f":"IF(S218=\"\",\"\",INDEX(referentes!S:T,MATCH(S218,referentes!T:T,0),1))","v":""},null,null,null,"","","","",214,"","","","",{"$f":"IF(A218=\"\",\"\",INDEX(ACTIVIDADES!D:G,MATCH(A218,ACTIVIDADES!G:G,0),1))","v":""},"","","",{"$f":"IF(A218=\"\",\"\",INDEX(ACTIVIDADES!D:I,MATCH(A218,ACTIVIDADES!G:G,0),4))","v":""},{"$f":"IF(E218=\"\",\"\",INDEX(referentes!AN:AQ,MATCH(E218,referentes!AQ:AQ,0),1))","v":""},{"$f":"IF(F218=\"\",\"\",INDEX(referentes!A:B,MATCH(F218,referentes!B:B,0),1))","v":""},{"$f":"IF(H218=\"\",\"\",INDEX(referentes!D:E,MATCH(H218,referentes!E:E,0),1))","v":""}]
[null,null,{"$f":"IF(B219=\"\",\"\",INDEX(referentes!J:K,MATCH(B219,referentes!K:K,0),1))","v":""},null,null,null,null,null,null,{"$f":"IF(I219=\"\",\"\",INDEX(referentes!G:H,MATCH(I219,referentes!H:H,0),1))","v":""},null,null,null,{"$f":"IF(O219=\"\",\"\",INDEX(referentes!AE:AF,MATCH(O219,referentes!AF:AF,0),1))","v":""},null,{"$f":"IF(Q219=\"\",\"\",INDEX(referentes!V:W,MATCH(Q219,referentes!W:W,0),1))","v":""},null,{"$f":"IF(S219=\"\",\"\",INDEX(referentes!S:T,MATCH(S219,referentes!T:T,0),1))","v":""},null,null,null,"","","","",215,"","","","",{"$f":"IF(A219=\"\",\"\",INDEX(ACTIVIDADES!D:G,MATCH(A219,ACTIVIDADES!G:G,0),1))","v":""},"","","",{"$f":"IF(A219=\"\",\"\",INDEX(ACTIVIDADES!D:I,MATCH(A219,ACTIVIDADES!G:G,0),4))","v":""},{"$f":"IF(E219=\"\",\"\",INDEX(referentes!AN:AQ,MATCH(E219,referentes!AQ:AQ,0),1))","v":""},{"$f":"IF(F219=\"\",\"\",INDEX(referentes!A:B,MATCH(F219,referentes!B:B,0),1))","v":""},{"$f":"IF(H219=\"\",\"\",INDEX(referentes!D:E,MATCH(H219,referentes!E:E,0),1))","v":""}]
[null,null,{"$f":"IF(B220=\"\",\"\",INDEX(referentes!J:K,MATCH(B220,referentes!K:K,0),1))","v":""},null,null,null,null,null,null,{"$f":"IF(I220=\"\",\"\",INDEX(referentes!G:H,MATCH(I220,referentes!H:H,0),1))","v":""},null,null,null,{"$f":"IF(O220=\"\",\"\",INDEX(referentes!AE:AF,MATCH(O220,referentes!AF:AF,0),1))","v":""},null,{"$f":"IF(Q220=\"\",\"\",INDEX(referentes!V:W,MATCH(Q220,referentes!W:W,0),1))","v":""},null,{"$f":"IF(S220=\"\",\"\",INDEX(referentes!S:T,MATCH(S220,referentes!T:T,0),1))","v":""},null,null,null,"","","","",216,"","","","",{"$f":"IF(A220=\"\",\"\",INDEX(ACTIVIDADES!D:G,MATCH(A220,ACTIVIDADES!G:G,0),1))","v":""},"","","",{"$f":"IF(A220=\"\",\"\",INDEX(ACTIVIDADES!D:I,MATCH(A220,ACTIVIDADES!G:G,0),4))","v":""},{"$f":"IF(E220=\"\",\"\",INDEX(referentes!AN:AQ,MATCH(E220,referentes!AQ:AQ,0),1))","v":""},{"$f":"IF(F220=\"\",\"\",INDEX(referentes!A:B,MATCH(F220,referentes!B:B,0),1))","v":""},{"$f":"IF(H220=\"\",\"\",INDEX(referentes!D:E,MATCH(H220,referentes!E:E,0),1))","v":""}]
[null,null,{"$f":"IF(B221=\"\",\"\",INDEX(referentes!J:K,MATCH(B221,referentes!K:K,0),1))","v":""},null,null,null,null,null,null,{"$f":"IF(I221=\"\",\"\",INDEX(referentes!G:H,MATCH(I221,referentes!H:H,0),1))","v":""},null,null,null,{"$f":"IF(O221=\"\",\"\",INDEX(referentes!AE:AF,MATCH(O221,referentes!AF:AF,0),1))","v":""},null,{"$f":"IF(Q221=\"\",\"\",INDEX(referentes!V:W,MATCH(Q221,referentes!W:W,0),1))","v":""},null,{"$f":"IF(S221=\"\",\"\",INDEX(referentes!S:T,MATCH(S221,referentes!T:T,0),1))","v":""},null,null,null,"","","","",217,"","","","",{"$f":"IF(A221=\"\",\"\",INDEX(ACTIVIDADES!D:G,MATCH(A221,ACTIVIDADES!G:G,0),1))","v":""},"","","",{"$f":"IF(A221=\"\",\"\",INDEX(ACTIVIDADES!D:I,MATCH(A221,ACTIVIDADES!G:G,0),4))","v":""},{"$f":"IF(E221=\"\",\"\",INDEX(referentes!AN:AQ,MATCH(E221,referentes!AQ:AQ,0),1))","v":""},{"$f":"IF(F221=\"\",\"\",INDEX(referentes!A:B,MATCH(F221,referentes!B:B,0),1))","v":""},{"$f":"IF(H221=\"\",\"\",INDEX(referentes!D:E,MATCH(H221,referentes!E:E,0),1))","v":""}]
[null,null,{"$f":"IF(B222=\"\",\"\",INDEX(referentes!J:K,MATCH(B222,referentes!K:K,0),1))","v":""},null,null,null,null,null,null,{"$f":"IF(I222=\"\",\"\",INDEX(referentes!G:H,MATCH(I222,referentes!H:H,0),1))","v":""},null,null,null,{"$f":"IF(O222=\"\",\"\",INDEX(referentes!AE:AF,MATCH(O222,referentes!AF:AF,0),1))","v":""},null,{"$f":"IF(Q222=\"\",\"\",INDEX(referentes!V:W,MATCH(Q222,referentes!W:W,0),1))","v":""},null,{"$f":"IF(S222=\"\",\"\",INDEX(referentes!S:T,MATCH(S222,referentes!T:T,0),1))","v":""},null,null,null,"","","","",218,"","","","",{"$f":"IF(A222=\"\",\"\",INDEX(ACTIVIDADES!D:G,MATCH(A222,ACTIVIDADES!G:G,0),1))","v":""},"","","",{"$f":"IF(A222=\"\",\"\",INDEX(ACTIVIDADES!D:I,MATCH(A222,ACTIVIDADES!G:G,0),4))","v":""},{"$f":"IF(E222=\"\",\"\",INDEX(referentes!AN:AQ,MATCH(E222,referentes!AQ:AQ,0),1))","v":""},{"$f":"IF(F222=\"\",\"\",INDEX(referentes!A:B,MATCH(F222,referentes!B:B,0),1))","v":""},{"$f":"IF(H222=\"\",\"\",INDEX(referentes!D:E,MATCH(H222,referentes!E:E,0),1))","v":""}]
[null,null,{"$f":"IF(B223=\"\",\"\",INDEX(referentes!J:K,MATCH(B223,referentes!K:K,0),1))","v":""},null,null,null,null,null,null,{"$f":"IF(I223=\"\",\"\",INDEX(referentes!G:H,MATCH(I223,referentes!H:H,0),1))","v":""},null,null,null,{"$f":"IF(O223=\"\",\"\",INDEX(referentes!AE:AF,MATCH(O223,referentes!AF:AF,0),1))","v":""},null,{"$f":"IF(Q223=\"\",\"\",INDEX(referentes!V:W,MATCH(Q223,referentes!W:W,0),1))","v":""},null,{"$f":"IF(S223=\"\",\"\",INDEX(referentes!S:T,MATCH(S223,referentes!T:T,0),1))","v":""},null,null,null,"","","","",219,"","","","",{"$f":"IF(A223=\"\",\"\",INDEX(ACTIVIDADES!D:G,MATCH(A223,ACTIVIDADES!G:G,0),1))","v":""},"","","",{"$f":"IF(A223=\"\",\"\",INDEX(ACTIVIDADES!D:I,MATCH(A223,ACTIVIDADES!G:G,0),4))","v":""},{"$f":"IF(E223=\"\",\"\",INDEX(referentes!AN:AQ,MATCH(E223,referentes!AQ:AQ,0),1))","v":""},{"$f":"IF(F223=\"\",\"\",INDEX(referentes!A:B,MATCH(F223,referentes!B:B,0),1))","v":""},{"$f":"IF(H223=\"\",\"\",INDEX(referentes!D:E,MATCH(H223,referentes!E:E,0),1))","v":""}]
[null,null,{"$f":"IF(B224=\"\",\"\",INDEX(referentes!J:K,MATCH(B224,referentes!K:K,0),1))","v":""},null,null,null,null,null,null,{"$f":"IF(I224=\"\",\"\",INDEX(referentes!G:H,MATCH(I224,referentes!H:H,0),1))","v":""},null,null,null,{"$f":"IF(O224=\"\",\"\",INDEX(referentes!AE:AF,MATCH(O224,referentes!AF:AF,0),1))","v":""},null,{"$f":"IF(Q224=\"\",\"\",INDEX(referentes!V:W,MATCH(Q224,referentes!W:W,0),1))","v":""},null,{"$f":"IF(S224=\"\",\"\",INDEX(referentes!S:T,MATCH(S224,referentes!T:T,0),1))","v":""},null,null,null,"","","","",220,"","","","",{"$f":"IF(A224=\"\",\"\",INDEX(ACTIVIDADES!D:G,MATCH(A224,ACTIVIDADES!G:G,0),1))","v":""},"","","",{"$f":"IF(A224=\"\",\"\",INDEX(ACTIVIDADES!D:I,MATCH(A224,ACTIVIDADES!G:G,0),4))","v":""},{"$f":"IF(E224=\"\",\"\",INDEX(referentes!AN:AQ,MATCH(E224,referentes!AQ:AQ,0),1))","v":""},{"$f":"IF(F224=\"\",\"\",INDEX(referentes!A:B,MATCH(F224,referentes!B:B,0),1))","v":""},{"$f":"IF(H224=\"\",\"\",INDEX(referentes!D:E,MATCH(H224,referentes!E:E,0),1))","v":""}]
[null,null,{"$f":"IF(B225=\"\",\"\",INDEX(referentes!J:K,MATCH(B225,referentes!K:K,0),1))","v":""},null,null,null,null,null,null,{"$f":"IF(I225=\"\",\"\",INDEX(referentes!G:H,MATCH(I225,referentes!H:H,0),1))","v":""},null,null,null,{"$f":"IF(O225=\"\",\"\",INDEX(referentes!AE:AF,MATCH(O225,referentes!AF:AF,0),1))","v":""},null,{"$f":"IF(Q225=\"\",\"\",INDEX(referentes!V:W,MATCH(Q225,referentes!W:W,0),1))","v":""},null,{"$f":"IF(S225=\"\",\"\",INDEX(referentes!S:T,MATCH(S225,referentes!T:T,0),1))","v":""},null,null,null,"","","","",221,"","","","",{"$f":"IF(A225=\"\",\"\",INDEX(ACTIVIDADES!D:G,MATCH(A225,ACTIVIDADES!G:G,0),1))","v":""},"","","",{"$f":"IF(A225=\"\",\"\",INDEX(ACTIVIDADES!D:I,MATCH(A225,ACTIVIDADES!G:G,0),4))","v":""},{"$f":"IF(E225=\"\",\"\",INDEX(referentes!AN:AQ,MATCH(E225,referentes!AQ:AQ,0),1))","v":""},{"$f":"IF(F225=\"\",\"\",INDEX(referentes!A:B,MATCH(F225,referentes!B:B,0),1))","v":""},{"$f":"IF(H225=\"\",\"\",INDEX(referentes!D:E,MATCH(H225,referentes!E:E,0),1))","v":""}]
[null,null,{"$f":"IF(B226=\"\",\"\",INDEX(referentes!J:K,MATCH(B226,referentes!K:K,0),1))","v":""},null,null,null,null,null,null,{"$f":"IF(I226=\"\",\"\",INDEX(referentes!G:H,MATCH(I226,referentes!H:H,0),1))","v":""},null,null,null,{"$f":"IF(O226=\"\",\"\",INDEX(referentes!AE:AF,MATCH(O226,referentes!AF:AF,0),1))","v":""},null,{"$f":"IF(Q226=\"\",\"\",INDEX(referentes!V:W,MATCH(Q226,referentes!W:W,0),1))","v":""},null,{"$f":"IF(S226=\"\",\"\",INDEX(referentes!S:T,MATCH(S226,referentes!T:T,0),1))","v":""},null,null,null,"","","","",222,"","","","",{"$f":"IF(A226=\"\",\"\",INDEX(ACTIVIDADES!D:G,MATCH(A226,ACTIVIDADES!G:G,0),1))","v":""},"","","",{"$f":"IF(A226=\"\",\"\",INDEX(ACTIVIDADES!D:I,MATCH(A226,ACTIVIDADES!G:G,0),4))","v":""},{"$f":"IF(E226=\"\",\"\",INDEX(referentes!AN:AQ,MATCH(E226,referentes!AQ:AQ,0),1))","v":""},{"$f":"IF(F226=\"\",\"\",INDEX(referentes!A:B,MATCH(F226,referentes!B:B,0),1))","v":""},{"$f":"IF(H226=\"\",\"\",INDEX(referentes!D:E,MATCH(H226,referentes!E:E,0),1))","v":""}]
[null,null,{"$f":"IF(B227=\"\",\"\",INDEX(referentes!J:K,MATCH(B227,referentes!K:K,0),1))","v":""},null,null,null,null,null,null,{"$f":"IF(I227=\"\",\"\",INDEX(referentes!G:H,MATCH(I227,referentes!H:H,0),1))","v":""},null,null,null,{"$f":"IF(O227=\"\",\"\",INDEX(referentes!AE:AF,MATCH(O227,referentes!AF:AF,0),1))","v":""},null,{"$f":"IF(Q227=\"\",\"\",INDEX(referentes!V:W,MATCH(Q227,referentes!W:W,0),1))","v":""},null,{"$f":"IF(S227=\"\",\"\",INDEX(referentes!S:T,MATCH(S227,referentes!T:T,0),1))","v":""},null,null,null,"","","","",223,"","","","",{"$f":"IF(A227=\"\",\"\",INDEX(ACTIVIDADES!D:G,MATCH(A227,ACTIVIDADES!G:G,0),1))","v":""},"","","",{"$f":"IF(A227=\"\",\"\",INDEX(ACTIVIDADES!D:I,MATCH(A227,ACTIVIDADES!G:G,0),4))","v":""},{"$f":"IF(E227=\"\",\"\",INDEX(referentes!AN:AQ,MATCH(E227,referentes!AQ:AQ,0),1))","v":""},{"$f":"IF(F227=\"\",\"\",INDEX(referentes!A:B,MATCH(F227,referentes!B:B,0),1))","v":""},{"$f":"IF(H227=\"\",\"\",INDEX(referentes!D:E,MATCH(H227,referentes!E:E,0),1))","v":""}]
[null,null,{"$f":"IF(B228=\"\",\"\",INDEX(referentes!J:K,MATCH(B228,referentes!K:K,0),1))","v":""},null,null,null,null,null,null,{"$f":"IF(I228=\"\",\"\",INDEX(referentes!G:H,MATCH(I228,referentes!H:H,0),1))","v":""},null,null,null,{"$f":"IF(O228=\"\",\"\",INDEX(referentes!AE:AF,MATCH(O228,referentes!AF:AF,0),1))","v":""},null,{"$f":"IF(Q228=\"\",\"\",INDEX(referentes!V:W,MATCH(Q228,referentes!W:W,0),1))","v":""},null,{"$f":"IF(S228=\"\",\"\",INDEX(referentes!S:T,MATCH(S228,referentes!T:T,0),1))","v":""},null,null,null,"","","","",224,"","","","",{"$f":"IF(A228=\"\",\"\",INDEX(ACTIVIDADES!D:G,MATCH(A228,ACTIVIDADES!G:G,0),1))","v":""},"","","",{"$f":"IF(A228=\"\",\"\",INDEX(ACTIVIDADES!D:I,MATCH(A228,ACTIVIDADES!G:G,0),4))","v":""},{"$f":"IF(E228=\"\",\"\",INDEX(referentes!AN:AQ,MATCH(E228,referentes!AQ:AQ,0),1))","v":""},{"$f":"IF(F228=\"\",\"\",INDEX(referentes!A:B,MATCH(F228,referentes!B:B,0),1))","v":""},{"$f":"IF(H228=\"\",\"\",INDEX(referentes!D:E,MATCH(H228,referentes!E:E,0),1))","v":""}]
[null,null,{"$f":"IF(B229=\"\",\"\",INDEX(referentes!J:K,MATCH(B229,referentes!K:K,0),1))","v":""},null,null,null,null,null,null,{"$f":"IF(I229=\"\",\"\",INDEX(referentes!G:H,MATCH(I229,referentes!H:H,0),1))","v":""},null,null,null,{"$f":"IF(O229=\"\",\"\",INDEX(referentes!AE:AF,MATCH(O229,referentes!AF:AF,0),1))","v":""},null,{"$f":"IF(Q229=\"\",\"\",INDEX(referentes!V:W,MATCH(Q229,referentes!W:W,0),1))","v":""},null,{"$f":"IF(S229=\"\",\"\",INDEX(referentes!S:T,MATCH(S229,referentes!T:T,0),1))","v":""},null,null,null,"","","","",225,"","","","",{"$f":"IF(A229=\"\",\"\",INDEX(ACTIVIDADES!D:G,MATCH(A229,ACTIVIDADES!G:G,0),1))","v":""},"","","",{"$f":"IF(A229=\"\",\"\",INDEX(ACTIVIDADES!D:I,MATCH(A229,ACTIVIDADES!G:G,0),4))","v":""},{"$f":"IF(E229=\"\",\"\",INDEX(referentes!AN:AQ,MATCH(E229,referentes!AQ:AQ,0),1))","v":""},{"$f":"IF(F229=\"\",\"\",INDEX(referentes!A:B,MATCH(F229,referentes!B:B,0),1))","v":""},{"$f":"IF(H229=\"\",\"\",INDEX(referentes!D:E,MATCH(H229,referentes!E:E,0),1))","v":""}]
[null,null,{"$f":"IF(B230=\"\",\"\",INDEX(referentes!J:K,MATCH(B230,referentes!K:K,0),1))","v":""},null,null,null,null,null,null,{"$f":"IF(I230=\"\",\"\",INDEX(referentes!G:H,MATCH(I230,referentes!H:H,0),1))","v":""},null,null,null,{"$f":"IF(O230=\"\",\"\",INDEX(referentes!AE:AF,MATCH(O230,referentes!AF:AF,0),1))","v":""},null,{"$f":"IF(Q230=\"\",\"\",INDEX(referentes!V:W,MATCH(Q230,referentes!W:W,0),1))","v":""},null,{"$f":"IF(S230=\"\",\"\",INDEX(referentes!S:T,MATCH(S230,referentes!T:T,0),1))","v":""},null,null,null,"","","","",226,"","","","",{"$f":"IF(A230=\"\",\"\",INDEX(ACTIVIDADES!D:G,MATCH(A230,ACTIVIDADES!G:G,0),1))","v":""},"","","",{"$f":"IF(A230=\"\",\"\",INDEX(ACTIVIDADES!D:I,MATCH(A230,ACTIVIDADES!G:G,0),4))","v":""},{"$f":"IF(E230=\"\",\"\",INDEX(referentes!AN:AQ,MATCH(E230,referentes!AQ:AQ,0),1))","v":""},{"$f":"IF(F230=\"\",\"\",INDEX(referentes!A:B,MATCH(F230,referentes!B:B,0),1))","v":""},{"$f":"IF(H230=\"\",\"\",INDEX(referentes!D:E,MATCH(H230,referentes!E:E,0),1))","v":""}]
[null,null,{"$f":"IF(B231=\"\",\"\",INDEX(referentes!J:K,MATCH(B231,referentes!K:K,0),1))","v":""},null,null,null,null,null,null,{"$f":"IF(I231=\"\",\"\",INDEX(referentes!G:H,MATCH(I231,referentes!H:H,0),1))","v":""},null,null,null,{"$f":"IF(O231=\"\",\"\",INDEX(referentes!AE:AF,MATCH(O231,referentes!AF:AF,0),1))","v":""},null,{"$f":"IF(Q231=\"\",\"\",INDEX(referentes!V:W,MATCH(Q231,referentes!W:W,0),1))","v":""},null,{"$f":"IF(S231=\"\",\"\",INDEX(referentes!S:T,MATCH(S231,referentes!T:T,0),1))","v":""},null,null,null,"","","","",227,"","","","",{"$f":"IF(A231=\"\",\"\",INDEX(ACTIVIDADES!D:G,MATCH(A231,ACTIVIDADES!G:G,0),1))","v":""},"","","",{"$f":"IF(A231=\"\",\"\",INDEX(ACTIVIDADES!D:I,MATCH(A231,ACTIVIDADES!G:G,0),4))","v":""},{"$f":"IF(E231=\"\",\"\",INDEX(referentes!AN:AQ,MATCH(E231,referentes!AQ:AQ,0),1))","v":""},{"$f":"IF(F231=\"\",\"\",INDEX(referentes!A:B,MATCH(F231,referentes!B:B,0),1))","v":""},{"$f":"IF(H231=\"\",\"\",INDEX(referentes!D:E,MATCH(H231,referentes!E:E,0),1))","v":""}]
[null,null,{"$f":"IF(B232=\"\",\"\",INDEX(referentes!J:K,MATCH(B232,referentes!K:K,0),1))","v":""},null,null,null,null,null,null,{"$f":"IF(I232=\"\",\"\",INDEX(referentes!G:H,MATCH(I232,referentes!H:H,0),1))","v":""},null,null,null,{"$f":"IF(O232=\"\",\"\",INDEX(referentes!AE:AF,MATCH(O232,referentes!AF:AF,0),1))","v":""},null,{"$f":"IF(Q232=\"\",\"\",INDEX(referentes!V:W,MATCH(Q232,referentes!W:W,0),1))","v":""},null,{"$f":"IF(S232=\"\",\"\",INDEX(referentes!S:T,MATCH(S232,referentes!T:T,0),1))","v":""},null,null,null,"","","","",228,"","","","",{"$f":"IF(A232=\"\",\"\",INDEX(ACTIVIDADES!D:G,MATCH(A232,ACTIVIDADES!G:G,0),1))","v":""},"","","",{"$f":"IF(A232=\"\",\"\",INDEX(ACTIVIDADES!D:I,MATCH(A232,ACTIVIDADES!G:G,0),4))","v":""},{"$f":"IF(E232=\"\",\"\",INDEX(referentes!AN:AQ,MATCH(E232,referentes!AQ:AQ,0),1))","v":""},{"$f":"IF(F232=\"\",\"\",INDEX(referentes!A:B,MATCH(F232,referentes!B:B,0),1))","v":""},{"$f":"IF(H232=\"\",\"\",INDEX(referentes!D:E,MATCH(H232,referentes!E:E,0),1))","v":""}]
[null,null,{"$f":"IF(B233=\"\",\"\",INDEX(referentes!J:K,MATCH(B233,referentes!K:K,0),1))","v":""},null,null,null,null,null,null,{"$f":"IF(I233=\"\",\"\",INDEX(referentes!G:H,MATCH(I233,referentes!H:H,0),1))","v":""},null,null,null,{"$f":"IF(O233=\"\",\"\",INDEX(referentes!AE:AF,MATCH(O233,referentes!AF:AF,0),1))","v":""},null,{"$f":"IF(Q233=\"\",\"\",INDEX(referentes!V:W,MATCH(Q233,referentes!W:W,0),1))","v":""},null,{"$f":"IF(S233=\"\",\"\",INDEX(referentes!S:T,MATCH(S233,referentes!T:T,0),1))","v":""},null,null,null,"","","","",229,"","","","",{"$f":"IF(A233=\"\",\"\",INDEX(ACTIVIDADES!D:G,MATCH(A233,ACTIVIDADES!G:G,0),1))","v":""},"","","",{"$f":"IF(A233=\"\",\"\",INDEX(ACTIVIDADES!D:I,MATCH(A233,ACTIVIDADES!G:G,0),4))","v":""},{"$f":"IF(E233=\"\",\"\",INDEX(referentes!AN:AQ,MATCH(E233,referentes!AQ:AQ,0),1))","v":""},{"$f":"IF(F233=\"\",\"\",INDEX(referentes!A:B,MATCH(F233,referentes!B:B,0),1))","v":""},{"$f":"IF(H233=\"\",\"\",INDEX(referentes!D:E,MATCH(H233,referentes!E:E,0),1))","v":""}]
[null,null,{"$f":"IF(B234=\"\",\"\",INDEX(referentes!J:K,MATCH(B234,referentes!K:K,0),1))","v":""},null,null,null,null,null,null,{"$f":"IF(I234=\"\",\"\",INDEX(referentes!G:H,MATCH(I234,referentes!H:H,0),1))","v":""},null,null,null,{"$f":"IF(O234=\"\",\"\",INDEX(referentes!AE:AF,MATCH(O234,referentes!AF:AF,0),1))","v":""},null,{"$f":"IF(Q234=\"\",\"\",INDEX(referentes!V:W,MATCH(Q234,referentes!W:W,0),1))","v":""},null,{"$f":"IF(S234=\"\",\"\",INDEX(referentes!S:T,MATCH(S234,referentes!T:T,0),1))","v":""},null,null,null,"","","","",230,"","","","",{"$f":"IF(A234=\"\",\"\",INDEX(ACTIVIDADES!D:G,MATCH(A234,ACTIVIDADES!G:G,0),1))","v":""},"","","",{"$f":"IF(A234=\"\",\"\",INDEX(ACTIVIDADES!D:I,MATCH(A234,ACTIVIDADES!G:G,0),4))","v":""},{"$f":"IF(E234=\"\",\"\",INDEX(referentes!AN:AQ,MATCH(E234,referentes!AQ:AQ,0),1))","v":""},{"$f":"IF(F234=\"\",\"\",INDEX(referentes!A:B,MATCH(F234,referentes!B:B,0),1))","v":""},{"$f":"IF(H234=\"\",\"\",INDEX(referentes!D:E,MATCH(H234,referentes!E:E,0),1))","v":""}]
[null,null,{"$f":"IF(B235=\"\",\"\",INDEX(referentes!J:K,MATCH(B235,referentes!K:K,0),1))","v":""},null,null,null,null,null,null,{"$f":"IF(I235=\"\",\"\",INDEX(referentes!G:H,MATCH(I235,referentes!H:H,0),1))","v":""},null,null,null,{"$f":"IF(O235=\"\",\"\",INDEX(referentes!AE:AF,MATCH(O235,referentes!AF:AF,0),1))","v":""},null,{"$f":"IF(Q235=\"\",\"\",INDEX(referentes!V:W,MATCH(Q235,referentes!W:W,0),1))","v":""},null,{"$f":"IF(S235=\"\",\"\",INDEX(referentes!S:T,MATCH(S235,referentes!T:T,0),1))","v":""},null,null,null,"","","","",231,"","","","",{"$f":"IF(A235=\"\",\"\",INDEX(ACTIVIDADES!D:G,MATCH(A235,ACTIVIDADES!G:G,0),1))","v":""},"","","",{"$f":"IF(A235=\"\",\"\",INDEX(ACTIVIDADES!D:I,MATCH(A235,ACTIVIDADES!G:G,0),4))","v":""},{"$f":"IF(E235=\"\",\"\",INDEX(referentes!AN:AQ,MATCH(E235,referentes!AQ:AQ,0),1))","v":""},{"$f":"IF(F235=\"\",\"\",INDEX(referentes!A:B,MATCH(F235,referentes!B:B,0),1))","v":""},{"$f":"IF(H235=\"\",\"\",INDEX(referentes!D:E,MATCH(H235,referentes!E:E,0),1))","v":""}]
[null,null,{"$f":"IF(B236=\"\",\"\",INDEX(referentes!J:K,MATCH(B236,referentes!K:K,0),1))","v":""},null,null,null,null,null,null,{"$f":"IF(I236=\"\",\"\",INDEX(referentes!G:H,MATCH(I236,referentes!H:H,0),1))","v":""},null,null,null,{"$f":"IF(O236=\"\",\"\",INDEX(referentes!AE:AF,MATCH(O236,referentes!AF:AF,0),1))","v":""},null,{"$f":"IF(Q236=\"\",\"\",INDEX(referentes!V:W,MATCH(Q236,referentes!W:W,0),1))","v":""},null,{"$f":"IF(S236=\"\",\"\",INDEX(referentes!S:T,MATCH(S236,referentes!T:T,0),1))","v":""},null,null,null,"","","","",232,"","","","",{"$f":"IF(A236=\"\",\"\",INDEX(ACTIVIDADES!D:G,MATCH(A236,ACTIVIDADES!G:G,0),1))","v":""},"","","",{"$f":"IF(A236=\"\",\"\",INDEX(ACTIVIDADES!D:I,MATCH(A236,ACTIVIDADES!G:G,0),4))","v":""},{"$f":"IF(E236=\"\",\"\",INDEX(referentes!AN:AQ,MATCH(E236,referentes!AQ:AQ,0),1))","v":""},{"$f":"IF(F236=\"\",\"\",INDEX(referentes!A:B,MATCH(F236,referentes!B:B,0),1))","v":""},{"$f":"IF(H236=\"\",\"\",INDEX(referentes!D:E,MATCH(H236,referentes!E:E,0),1))","v":""}]
[null,null,{"$f":"IF(B237=\"\",\"\",INDEX(referentes!J:K,MATCH(B237,referentes!K:K,0),1))","v":""},null,null,null,null,null,null,{"$f":"IF(I237=\"\",\"\",INDEX(referentes!G:H,MATCH(I237,referentes!H:H,0),1))","v":""},null,null,null,{"$f":"IF(O237=\"\",\"\",INDEX(referentes!AE:AF,MATCH(O237,referentes!AF:AF,0),1))","v":""},null,{"$f":"IF(Q237=\"\",\"\",INDEX(referentes!V:W,MATCH(Q237,referentes!W:W,0),1))","v":""},null,{"$f":"IF(S237=\"\",\"\",INDEX(referentes!S:T,MATCH(S237,referentes!T:T,0),1))","v":""},null,null,null,"","","","",233,"","","","",{"$f":"IF(A237=\"\",\"\",INDEX(ACTIVIDADES!D:G,MATCH(A237,ACTIVIDADES!G:G,0),1))","v":""},"","","",{"$f":"IF(A237=\"\",\"\",INDEX(ACTIVIDADES!D:I,MATCH(A237,ACTIVIDADES!G:G,0),4))","v":""},{"$f":"IF(E237=\"\",\"\",INDEX(referentes!AN:AQ,MATCH(E237,referentes!AQ:AQ,0),1))","v":""},{"$f":"IF(F237=\"\",\"\",INDEX(referentes!A:B,MATCH(F237,referentes!B:B,0),1))","v":""},{"$f":"IF(H237=\"\",\"\",INDEX(referentes!D:E,MATCH(H237,referentes!E:E,0),1))","v":""}]
[null,null,{"$f":"IF(B238=\"\",\"\",INDEX(referentes!J:K,MATCH(B238,referentes!K:K,0),1))","v":""},null,null,null,null,null,null,{"$f":"IF(I238=\"\",\"\",INDEX(referentes!G:H,MATCH(I238,referentes!H:H,0),1))","v":""},null,null,null,{"$f":"IF(O238=\"\",\"\",INDEX(referentes!AE:AF,MATCH(O238,referentes!AF:AF,0),1))","v":""},null,{"$f":"IF(Q238=\"\",\"\",INDEX(referentes!V:W,MATCH(Q238,referentes!W:W,0),1))","v":""},null,{"$f":"IF(S238=\"\",\"\",INDEX(referentes!S:T,MATCH(S238,referentes!T:T,0),1))","v":""},null,null,null,"","","","",234,"","","","",{"$f":"IF(A238=\"\",\"\",INDEX(ACTIVIDADES!D:G,MATCH(A238,ACTIVIDADES!G:G,0),1))","v":""},"","","",{"$f":"IF(A238=\"\",\"\",INDEX(ACTIVIDADES!D:I,MATCH(A238,ACTIVIDADES!G:G,0),4))","v":""},{"$f":"IF(E238=\"\",\"\",INDEX(referentes!AN:AQ,MATCH(E238,referentes!AQ:AQ,0),1))","v":""},{"$f":"IF(F238=\"\",\"\",INDEX(referentes!A:B,MATCH(F238,referentes!B:B,0),1))","v":""},{"$f":"IF(H238=\"\",\"\",INDEX(referentes!D:E,MATCH(H238,referentes!E:E,0),1))","v":""}]
[null,null,{"$f":"IF(B239=\"\",\"\",INDEX(referentes!J:K,MATCH(B239,referentes!K:K,0),1))","v":""},null,null,null,null,null,null,{"$f":"IF(I239=\"\",\"\",INDEX(referentes!G:H,MATCH(I239,referentes!H:H,0),1))","v":""},null,null,null,{"$f":"IF(O239=\"\",\"\",INDEX(referentes!AE:AF,MATCH(O239,referentes!AF:AF,0),1))","v":""},null,{"$f":"IF(Q239=\"\",\"\",INDEX(referentes!V:W,MATCH(Q239,referentes!W:W,0),1))","v":""},null,{"$f":"IF(S239=\"\",\"\",INDEX(referentes!S:T,MATCH(S239,referentes!T:T,0),1))","v":""},null,null,null,"","","","",235,"","","","",{"$f":"IF(A239=\"\",\"\",INDEX(ACTIVIDADES!D:G,MATCH(A239,ACTIVIDADES!G:G,0),1))","v":""},"","","",{"$f":"IF(A239=\"\",\"\",INDEX(ACTIVIDADES!D:I,MATCH(A239,ACTIVIDADES!G:G,0),4))","v":""},{"$f":"IF(E239=\"\",\"\",INDEX(referentes!AN:AQ,MATCH(E239,referentes!AQ:AQ,0),1))","v":""},{"$f":"IF(F239=\"\",\"\",INDEX(referentes!A:B,MATCH(F239,referentes!B:B,0),1))","v":""},{"$f":"IF(H239=\"\",\"\",INDEX(referentes!D:E,MATCH(H239,referentes!E:E,0),1))","v":""}]
[null,null,{"$f":"IF(B240=\"\",\"\",INDEX(referentes!J:K,MATCH(B240,referentes!K:K,0),1))","v":""},null,null,null,null,null,null,{"$f":"IF(I240=\"\",\"\",INDEX(referentes!G:H,MATCH(I240,referentes!H:H,0),1))","v":""},null,null,null,{"$f":"IF(O240=\"\",\"\",INDEX(referentes!AE:AF,MATCH(O240,referentes!AF:AF,0),1))","v":""},null,{"$f":"IF(Q240=\"\",\"\",INDEX(referentes!V:W,MATCH(Q240,referentes!W:W,0),1))","v":""},null,{"$f":"IF(S240=\"\",\"\",INDEX(referentes!S:T,MATCH(S240,referentes!T:T,0),1))","v":""},null,null,null,"","","","",236,"","","","",{"$f":"IF(A240=\"\",\"\",INDEX(ACTIVIDADES!D:G,MATCH(A240,ACTIVIDADES!G:G,0),1))","v":""},"","","",{"$f":"IF(A240=\"\",\"\",INDEX(ACTIVIDADES!D:I,MATCH(A240,ACTIVIDADES!G:G,0),4))","v":""},{"$f":"IF(E240=\"\",\"\",INDEX(referentes!AN:AQ,MATCH(E240,referentes!AQ:AQ,0),1))","v":""},{"$f":"IF(F240=\"\",\"\",INDEX(referentes!A:B,MATCH(F240,referentes!B:B,0),1))","v":""},{"$f":"IF(H240=\"\",\"\",INDEX(referentes!D:E,MATCH(H240,referentes!E:E,0),1))","v":""}]
[null,null,{"$f":"IF(B241=\"\",\"\",INDEX(referentes!J:K,MATCH(B241,referentes!K:K,0),1))","v":""},null,null,null,null,null,null,{"$f":"IF(I241=\"\",\"\",INDEX(referentes!G:H,MATCH(I241,referentes!H:H,0),1))","v":""},null,null,null,{"$f":"IF(O241=\"\",\"\",INDEX(referentes!AE:AF,MATCH(O241,referentes!AF:AF,0),1))","v":""},null,{"$f":"IF(Q241=\"\",\"\",INDEX(referentes!V:W,MATCH(Q241,referentes!W:W,0),1))","v":""},null,{"$f":"IF(S241=\"\",\"\",INDEX(referentes!S:T,MATCH(S241,referentes!T:T,0),1))","v":""},null,null,null,"","","","",237,"","","","",{"$f":"IF(A241=\"\",\"\",INDEX(ACTIVIDADES!D:G,MATCH(A241,ACTIVIDADES!G:G,0),1))","v":""},"","","",{"$f":"IF(A241=\"\",\"\",INDEX(ACTIVIDADES!D:I,MATCH(A241,ACTIVIDADES!G:G,0),4))","v":""},{"$f":"IF(E241=\"\",\"\",INDEX(referentes!AN:AQ,MATCH(E241,referentes!AQ:AQ,0),1))","v":""},{"$f":"IF(F241=\"\",\"\",INDEX(referentes!A:B,MATCH(F241,referentes!B:B,0),1))","v":""},{"$f":"IF(H241=\"\",\"\",INDEX(referentes!D:E,MATCH(H241,referentes!E:E,0),1))","v":""}]
[null,null,{"$f":"IF(B242=\"\",\"\",INDEX(referentes!J:K,MATCH(B242,referentes!K:K,0),1))","v":""},null,null,null,null,null,null,{"$f":"IF(I242=\"\",\"\",INDEX(referentes!G:H,MATCH(I242,referentes!H:H,0),1))","v":""},null,null,null,{"$f":"IF(O242=\"\",\"\",INDEX(referentes!AE:AF,MATCH(O242,referentes!AF:AF,0),1))","v":""},null,{"$f":"IF(Q242=\"\",\"\",INDEX(referentes!V:W,MATCH(Q242,referentes!W:W,0),1))","v":""},null,{"$f":"IF(S242=\"\",\"\",INDEX(referentes!S:T,MATCH(S242,referentes!T:T,0),1))","v":""},null,null,null,"","","","",238,"","","","",{"$f":"IF(A242=\"\",\"\",INDEX(ACTIVIDADES!D:G,MATCH(A242,ACTIVIDADES!G:G,0),1))","v":""},"","","",{"$f":"IF(A242=\"\",\"\",INDEX(ACTIVIDADES!D:I,MATCH(A242,ACTIVIDADES!G:G,0),4))","v":""},{"$f":"IF(E242=\"\",\"\",INDEX(referentes!AN:AQ,MATCH(E242,referentes!AQ:AQ,0),1))","v":""},{"$f":"IF(F242=\"\",\"\",INDEX(referentes!A:B,MATCH(F242,referentes!B:B,0),1))","v":""},{"$f":"IF(H242=\"\",\"\",INDEX(referentes!D:E,MATCH(H242,referentes!E:E,0),1))","v":""}]
[null,null,{"$f":"IF(B243=\"\",\"\",INDEX(referentes!J:K,MATCH(B243,referentes!K:K,0),1))","v":""},null,null,null,null,null,null,{"$f":"IF(I243=\"\",\"\",INDEX(referentes!G:H,MATCH(I243,referentes!H:H,0),1))","v":""},null,null,null,{"$f":"IF(O243=\"\",\"\",INDEX(referentes!AE:AF,MATCH(O243,referentes!AF:AF,0),1))","v":""},null,{"$f":"IF(Q243=\"\",\"\",INDEX(referentes!V:W,MATCH(Q243,referentes!W:W,0),1))","v":""},null,{"$f":"IF(S243=\"\",\"\",INDEX(referentes!S:T,MATCH(S243,referentes!T:T,0),1))","v":""},null,null,null,"","","","",239,"","","","",{"$f":"IF(A243=\"\",\"\",INDEX(ACTIVIDADES!D:G,MATCH(A243,ACTIVIDADES!G:G,0),1))","v":""},"","","",{"$f":"IF(A243=\"\",\"\",INDEX(ACTIVIDADES!D:I,MATCH(A243,ACTIVIDADES!G:G,0),4))","v":""},{"$f":"IF(E243=\"\",\"\",INDEX(referentes!AN:AQ,MATCH(E243,referentes!AQ:AQ,0),1))","v":""},{"$f":"IF(F243=\"\",\"\",INDEX(referentes!A:B,MATCH(F243,referentes!B:B,0),1))","v":""},{"$f":"IF(H243=\"\",\"\",INDEX(referentes!D:E,MATCH(H243,referentes!E:E,0),1))","v":""}]
[null,null,{"$f":"IF(B244=\"\",\"\",INDEX(referentes!J:K,MATCH(B244,referentes!K:K,0),1))","v":""},null,null,null,null,null,null,{"$f":"IF(I244=\"\",\"\",INDEX(referentes!G:H,MATCH(I244,referentes!H:H,0),1))","v":""},null,null,null,{"$f":"IF(O244=\"\",\"\",INDEX(referentes!AE:AF,MATCH(O244,referentes!AF:AF,0),1))","v":""},null,{"$f":"IF(Q244=\"\",\"\",INDEX(referentes!V:W,MATCH(Q244,referentes!W:W,0),1))","v":""},null,{"$f":"IF(S244=\"\",\"\",INDEX(referentes!S:T,MATCH(S244,referentes!T:T,0),1))","v":""},null,null,null,"","","","",240,"","","","",{"$f":"IF(A244=\"\",\"\",INDEX(ACTIVIDADES!D:G,MATCH(A244,ACTIVIDADES!G:G,0),1))","v":""},"","","",{"$f":"IF(A244=\"\",\"\",INDEX(ACTIVIDADES!D:I,MATCH(A244,ACTIVIDADES!G:G,0),4))","v":""},{"$f":"IF(E244=\"\",\"\",INDEX(referentes!AN:AQ,MATCH(E244,referentes!AQ:AQ,0),1))","v":""},{"$f":"IF(F244=\"\",\"\",INDEX(referentes!A:B,MATCH(F244,referentes!B:B,0),1))","v":""},{"$f":"IF(H244=\"\",\"\",INDEX(referentes!D:E,MATCH(H244,referentes!E:E,0),1))","v":""}]
[null,null,{"$f":"IF(B245=\"\",\"\",INDEX(referentes!J:K,MATCH(B245,referentes!K:K,0),1))","v":""},null,null,null,null,null,null,{"$f":"IF(I245=\"\",\"\",INDEX(referentes!G:H,MATCH(I245,referentes!H:H,0),1))","v":""},null,null,null,{"$f":"IF(O245=\"\",\"\",INDEX(referentes!AE:AF,MATCH(O245,referentes!AF:AF,0),1))","v":""},null,{"$f":"IF(Q245=\"\",\"\",INDEX(referentes!V:W,MATCH(Q245,referentes!W:W,0),1))","v":""},null,{"$f":"IF(S245=\"\",\"\",INDEX(referentes!S:T,MATCH(S245,referentes!T:T,0),1))","v":""},null,null,null,"","","","",241,"","","","",{"$f":"IF(A245=\"\",\"\",INDEX(ACTIVIDADES!D:G,MATCH(A245,ACTIVIDADES!G:G,0),1))","v":""},"","","",{"$f":"IF(A245=\"\",\"\",INDEX(ACTIVIDADES!D:I,MATCH(A245,ACTIVIDADES!G:G,0),4))","v":""},{"$f":"IF(E245=\"\",\"\",INDEX(referentes!AN:AQ,MATCH(E245,referentes!AQ:AQ,0),1))","v":""},{"$f":"IF(F245=\"\",\"\",INDEX(referentes!A:B,MATCH(F245,referentes!B:B,0),1))","v":""},{"$f":"IF(H245=\"\",\"\",INDEX(referentes!D:E,MATCH(H245,referentes!E:E,0),1))","v":""}]
[null,null,{"$f":"IF(B246=\"\",\"\",INDEX(referentes!J:K,MATCH(B246,referentes!K:K,0),1))","v":""},null,null,null,null,null,null,{"$f":"IF(I246=\"\",\"\",INDEX(referentes!G:H,MATCH(I246,referentes!H:H,0),1))","v":""},null,null,null,{"$f":"IF(O246=\"\",\"\",INDEX(referentes!AE:AF,MATCH(O246,referentes!AF:AF,0),1))","v":""},null,{"$f":"IF(Q246=\"\",\"\",INDEX(referentes!V:W,MATCH(Q246,referentes!W:W,0),1))","v":""},null,{"$f":"IF(S246=\"\",\"\",INDEX(referentes!S:T,MATCH(S246,referentes!T:T,0),1))","v":""},null,null,null,"","","","",242,"","","","",{"$f":"IF(A246=\"\",\"\",INDEX(ACTIVIDADES!D:G,MATCH(A246,ACTIVIDADES!G:G,0),1))","v":""},"","","",{"$f":"IF(A246=\"\",\"\",INDEX(ACTIVIDADES!D:I,MATCH(A246,ACTIVIDADES!G:G,0),4))","v":""},{"$f":"IF(E246=\"\",\"\",INDEX(referentes!AN:AQ,MATCH(E246,referentes!AQ:AQ,0),1))","v":""},{"$f":"IF(F246=\"\",\"\",INDEX(referentes!A:B,MATCH(F246,referentes!B:B,0),1))","v":""},{"$f":"IF(H246=\"\",\"\",INDEX(referentes!D:E,MATCH(H246,referentes!E:E,0),1))","v":""}]
[null,null,{"$f":"IF(B247=\"\",\"\",INDEX(referentes!J:K,MATCH(B247,referentes!K:K,0),1))","v":""},null,null,null,null,null,null,{"$f":"IF(I247=\"\",\"\",INDEX(referentes!G:H,MATCH(I247,referentes!H:H,0),1))","v":""},null,null,null,{"$f":"IF(O247=\"\",\"\",INDEX(referentes!AE:AF,MATCH(O247,referentes!AF:AF,0),1))","v":""},null,{"$f":"IF(Q247=\"\",\"\",INDEX(referentes!V:W,MATCH(Q247,referentes!W:W,0),1))","v":""},null,{"$f":"IF(S247=\"\",\"\",INDEX(referentes!S:T,MATCH(S247,referentes!T:T,0),1))","v":""},null,null,null,"","","","",243,"","","","",{"$f":"IF(A247=\"\",\"\",INDEX(ACTIVIDADES!D:G,MATCH(A247,ACTIVIDADES!G:G,0),1))","v":""},"","","",{"$f":"IF(A247=\"\",\"\",INDEX(ACTIVIDADES!D:I,MATCH(A247,ACTIVIDADES!G:G,0),4))","v":""},{"$f":"IF(E247=\"\",\"\",INDEX(referentes!AN:AQ,MATCH(E247,referentes!AQ:AQ,0),1))","v":""},{"$f":"IF(F247=\"\",\"\",INDEX(referentes!A:B,MATCH(F247,referentes!B:B,0),1))","v":""},{"$f":"IF(H247=\"\",\"\",INDEX(referentes!D:E,MATCH(H247,referentes!E:E,0),1))","v":""}]
[null,null,{"$f":"IF(B248=\"\",\"\",INDEX(referentes!J:K,MATCH(B248,referentes!K:K,0),1))","v":""},null,null,null,null,null,null,{"$f":"IF(I248=\"\",\"\",INDEX(referentes!G:H,MATCH(I248,referentes!H:H,0),1))","v":""},null,null,null,{"$f":"IF(O248=\"\",\"\",INDEX(referentes!AE:AF,MATCH(O248,referentes!AF:AF,0),1))","v":""},null,{"$f":"IF(Q248=\"\",\"\",INDEX(referentes!V:W,MATCH(Q248,referentes!W:W,0),1))","v":""},null,{"$f":"IF(S248=\"\",\"\",INDEX(referentes!S:T,MATCH(S248,referentes!T:T,0),1))","v":""},null,null,null,"","","","",244,"","","","",{"$f":"IF(A248=\"\",\"\",INDEX(ACTIVIDADES!D:G,MATCH(A248,ACTIVIDADES!G:G,0),1))","v":""},"","","",{"$f":"IF(A248=\"\",\"\",INDEX(ACTIVIDADES!D:I,MATCH(A248,ACTIVIDADES!G:G,0),4))","v":""},{"$f":"IF(E248=\"\",\"\",INDEX(referentes!AN:AQ,MATCH(E248,referentes!AQ:AQ,0),1))","v":""},{"$f":"IF(F248=\"\",\"\",INDEX(referentes!A:B,MATCH(F248,referentes!B:B,0),1))","v":""},{"$f":"IF(H248=\"\",\"\",INDEX(referentes!D:E,MATCH(H248,referentes!E:E,0),1))","v":""}]
[null,null,{"$f":"IF(B249=\"\",\"\",INDEX(referentes!J:K,MATCH(B249,referentes!K:K,0),1))","v":""},null,null,null,null,null,null,{"$f":"IF(I249=\"\",\"\",INDEX(referentes!G:H,MATCH(I249,referentes!H:H,0),1))","v":""},null,null,null,{"$f":"IF(O249=\"\",\"\",INDEX(referentes!AE:AF,MATCH(O249,referentes!AF:AF,0),1))","v":""},null,{"$f":"IF(Q249=\"\",\"\",INDEX(referentes!V:W,MATCH(Q249,referentes!W:W,0),1))","v":""},null,{"$f":"IF(S249=\"\",\"\",INDEX(referentes!S:T,MATCH(S249,referentes!T:T,0),1))","v":""},null,null,null,"","","","",245,"","","","",{"$f":"IF(A249=\"\",\"\",INDEX(ACTIVIDADES!D:G,MATCH(A249,ACTIVIDADES!G:G,0),1))","v":""},"","","",{"$f":"IF(A249=\"\",\"\",INDEX(ACTIVIDADES!D:I,MATCH(A249,ACTIVIDADES!G:G,0),4))","v":""},{"$f":"IF(E249=\"\",\"\",INDEX(referentes!AN:AQ,MATCH(E249,referentes!AQ:AQ,0),1))","v":""},{"$f":"IF(F249=\"\",\"\",INDEX(referentes!A:B,MATCH(F249,referentes!B:B,0),1))","v":""},{"$f":"IF(H249=\"\",\"\",INDEX(referentes!D:E,MATCH(H249,referentes!E:E,0),1))","v":""}]
[null,null,{"$f":"IF(B250=\"\",\"\",INDEX(referentes!J:K,MATCH(B250,referentes!K:K,0),1))","v":""},null,null,null,null,null,null,{"$f":"IF(I250=\"\",\"\",INDEX(referentes!G:H,MATCH(I250,referentes!H:H,0),1))","v":""},null,null,null,{"$f":"IF(O250=\"\",\"\",INDEX(referentes!AE:AF,MATCH(O250,referentes!AF:AF,0),1))","v":""},null,{"$f":"IF(Q250=\"\",\"\",INDEX(referentes!V:W,MATCH(Q250,referentes!W:W,0),1))","v":""},null,{"$f":"IF(S250=\"\",\"\",INDEX(referentes!S:T,MATCH(S250,referentes!T:T,0),1))","v":""},null,null,null,"","","","",246,"","","","",{"$f":"IF(A250=\"\",\"\",INDEX(ACTIVIDADES!D:G,MATCH(A250,ACTIVIDADES!G:G,0),1))","v":""},"","","",{"$f":"IF(A250=\"\",\"\",INDEX(ACTIVIDADES!D:I,MATCH(A250,ACTIVIDADES!G:G,0),4))","v":""},{"$f":"IF(E250=\"\",\"\",INDEX(referentes!AN:AQ,MATCH(E250,referentes!AQ:AQ,0),1))","v":""},{"$f":"IF(F250=\"\",\"\",INDEX(referentes!A:B,MATCH(F250,referentes!B:B,0),1))","v":""},{"$f":"IF(H250=\"\",\"\",INDEX(referentes!D:E,MATCH(H250,referentes!E:E,0),1))","v":""}]
[null,null,{"$f":"IF(B251=\"\",\"\",INDEX(referentes!J:K,MATCH(B251,referentes!K:K,0),1))","v":""},null,null,null,null,null,null,{"$f":"IF(I251=\"\",\"\",INDEX(referentes!G:H,MATCH(I251,referentes!H:H,0),1))","v":""},null,null,null,{"$f":"IF(O251=\"\",\"\",INDEX(referentes!AE:AF,MATCH(O251,referentes!AF:AF,0),1))","v":""},null,{"$f":"IF(Q251=\"\",\"\",INDEX(referentes!V:W,MATCH(Q251,referentes!W:W,0),1))","v":""},null,{"$f":"IF(S251=\"\",\"\",INDEX(referentes!S:T,MATCH(S251,referentes!T:T,0),1))","v":""},null,null,null,"","","","",247,"","","","",{"$f":"IF(A251=\"\",\"\",INDEX(ACTIVIDADES!D:G,MATCH(A251,ACTIVIDADES!G:G,0),1))","v":""},"","","",{"$f":"IF(A251=\"\",\"\",INDEX(ACTIVIDADES!D:I,MATCH(A251,ACTIVIDADES!G:G,0),4))","v":""},{"$f":"IF(E251=\"\",\"\",INDEX(referentes!AN:AQ,MATCH(E251,referentes!AQ:AQ,0),1))","v":""},{"$f":"IF(F251=\"\",\"\",INDEX(referentes!A:B,MATCH(F251,referentes!B:B,0),1))","v":""},{"$f":"IF(H251=\"\",\"\",INDEX(referentes!D:E,MATCH(H251,referentes!E:E,0),1))","v":""}]
[null,null,{"$f":"IF(B252=\"\",\"\",INDEX(referentes!J:K,MATCH(B252,referentes!K:K,0),1))","v":""},null,null,null,null,null,null,{"$f":"IF(I252=\"\",\"\",INDEX(referentes!G:H,MATCH(I252,referentes!H:H,0),1))","v":""},null,null,null,{"$f":"IF(O252=\"\",\"\",INDEX(referentes!AE:AF,MATCH(O252,referentes!AF:AF,0),1))","v":""},null,{"$f":"IF(Q252=\"\",\"\",INDEX(referentes!V:W,MATCH(Q252,referentes!W:W,0),1))","v":""},null,{"$f":"IF(S252=\"\",\"\",INDEX(referentes!S:T,MATCH(S252,referentes!T:T,0),1))","v":""},null,null,null,"","","","",248,"","","","",{"$f":"IF(A252=\"\",\"\",INDEX(ACTIVIDADES!D:G,MATCH(A252,ACTIVIDADES!G:G,0),1))","v":""},"","","",{"$f":"IF(A252=\"\",\"\",INDEX(ACTIVIDADES!D:I,MATCH(A252,ACTIVIDADES!G:G,0),4))","v":""},{"$f":"IF(E252=\"\",\"\",INDEX(referentes!AN:AQ,MATCH(E252,referentes!AQ:AQ,0),1))","v":""},{"$f":"IF(F252=\"\",\"\",INDEX(referentes!A:B,MATCH(F252,referentes!B:B,0),1))","v":""},{"$f":"IF(H252=\"\",\"\",INDEX(referentes!D:E,MATCH(H252,referentes!E:E,0),1))","v":""}]
[null,null,{"$f":"IF(B253=\"\",\"\",INDEX(referentes!J:K,MATCH(B253,referentes!K:K,0),1))","v":""},null,null,null,null,null,null,{"$f":"IF(I253=\"\",\"\",INDEX(referentes!G:H,MATCH(I253,referentes!H:H,0),1))","v":""},null,null,null,{"$f":"IF(O253=\"\",\"\",INDEX(referentes!AE:AF,MATCH(O253,referentes!AF:AF,0),1))","v":""},null,{"$f":"IF(Q253=\"\",\"\",INDEX(referentes!V:W,MATCH(Q253,referentes!W:W,0),1))","v":""},null,{"$f":"IF(S253=\"\",\"\",INDEX(referentes!S:T,MATCH(S253,referentes!T:T,0),1))","v":""},null,null,null,"","","","",249,"","","","",{"$f":"IF(A253=\"\",\"\",INDEX(ACTIVIDADES!D:G,MATCH(A253,ACTIVIDADES!G:G,0),1))","v":""},"","","",{"$f":"IF(A253=\"\",\"\",INDEX(ACTIVIDADES!D:I,MATCH(A253,ACTIVIDADES!G:G,0),4))","v":""},{"$f":"IF(E253=\"\",\"\",INDEX(referentes!AN:AQ,MATCH(E253,referentes!AQ:AQ,0),1))","v":""},{"$f":"IF(F253=\"\",\"\",INDEX(referentes!A:B,MATCH(F253,referentes!B:B,0),1))","v":""},{"$f":"IF(H253=\"\",\"\",INDEX(referentes!D:E,MATCH(H253,referentes!E:E,0),1))","v":""}]
[null,null,{"$f":"IF(B254=\"\",\"\",INDEX(referentes!J:K,MATCH(B254,referentes!K:K,0),1))","v":""},null,null,null,null,null,null,{"$f":"IF(I254=\"\",\"\",INDEX(referentes!G:H,MATCH(I254,referentes!H:H,0),1))","v":""},null,null,null,{"$f":"IF(O254=\"\",\"\",INDEX(referentes!AE:AF,MATCH(O254,referentes!AF:AF,0),1))","v":""},null,{"$f":"IF(Q254=\"\",\"\",INDEX(referentes!V:W,MATCH(Q254,referentes!W:W,0),1))","v":""},null,{"$f":"IF(S254=\"\",\"\",INDEX(referentes!S:T,MATCH(S254,referentes!T:T,0),1))","v":""},null,null,null,"","","","",250,"","","","",{"$f":"IF(A254=\"\",\"\",INDEX(ACTIVIDADES!D:G,MATCH(A254,ACTIVIDADES!G:G,0),1))","v":""},"","","",{"$f":"IF(A254=\"\",\"\",INDEX(ACTIVIDADES!D:I,MATCH(A254,ACTIVIDADES!G:G,0),4))","v":""},{"$f":"IF(E254=\"\",\"\",INDEX(referentes!AN:AQ,MATCH(E254,referentes!AQ:AQ,0),1))","v":""},{"$f":"IF(F254=\"\",\"\",INDEX(referentes!A:B,MATCH(F254,referentes!B:B,0),1))","v":""},{"$f":"IF(H254=\"\",\"\",INDEX(referentes!D:E,MATCH(H254,referentes!E:E,0),1))","v":""}]
[null,null,{"$f":"IF(B255=\"\",\"\",INDEX(referentes!J:K,MATCH(B255,referentes!K:K,0),1))","v":""},null,null,null,null,null,null,{"$f":"IF(I255=\"\",\"\",INDEX(referentes!G:H,MATCH(I255,referentes!H:H,0),1))","v":""},null,null,null,{"$f":"IF(O255=\"\",\"\",INDEX(referentes!AE:AF,MATCH(O255,referentes!AF:AF,0),1))","v":""},null,{"$f":"IF(Q255=\"\",\"\",INDEX(referentes!V:W,MATCH(Q255,referentes!W:W,0),1))","v":""},null,{"$f":"IF(S255=\"\",\"\",INDEX(referentes!S:T,MATCH(S255,referentes!T:T,0),1))","v":""},null,null,null,"","","","",251,"","","","",{"$f":"IF(A255=\"\",\"\",INDEX(ACTIVIDADES!D:G,MATCH(A255,ACTIVIDADES!G:G,0),1))","v":""},"","","",{"$f":"IF(A255=\"\",\"\",INDEX(ACTIVIDADES!D:I,MATCH(A255,ACTIVIDADES!G:G,0),4))","v":""},{"$f":"IF(E255=\"\",\"\",INDEX(referentes!AN:AQ,MATCH(E255,referentes!AQ:AQ,0),1))","v":""},{"$f":"IF(F255=\"\",\"\",INDEX(referentes!A:B,MATCH(F255,referentes!B:B,0),1))","v":""},{"$f":"IF(H255=\"\",\"\",INDEX(referentes!D:E,MATCH(H255,referentes!E:E,0),1))","v":""}]
[null,null,{"$f":"IF(B256=\"\",\"\",INDEX(referentes!J:K,MATCH(B256,referentes!K:K,0),1))","v":""},null,null,null,null,null,null,{"$f":"IF(I256=\"\",\"\",INDEX(referentes!G:H,MATCH(I256,referentes!H:H,0),1))","v":""},null,null,null,{"$f":"IF(O256=\"\",\"\",INDEX(referentes!AE:AF,MATCH(O256,referentes!AF:AF,0),1))","v":""},null,{"$f":"IF(Q256=\"\",\"\",INDEX(referentes!V:W,MATCH(Q256,referentes!W:W,0),1))","v":""},null,{"$f":"IF(S256=\"\",\"\",INDEX(referentes!S:T,MATCH(S256,referentes!T:T,0),1))","v":""},null,null,null,"","","","",252,"","","","",{"$f":"IF(A256=\"\",\"\",INDEX(ACTIVIDADES!D:G,MATCH(A256,ACTIVIDADES!G:G,0),1))","v":""},"","","",{"$f":"IF(A256=\"\",\"\",INDEX(ACTIVIDADES!D:I,MATCH(A256,ACTIVIDADES!G:G,0),4))","v":""},{"$f":"IF(E256=\"\",\"\",INDEX(referentes!AN:AQ,MATCH(E256,referentes!AQ:AQ,0),1))","v":""},{"$f":"IF(F256=\"\",\"\",INDEX(referentes!A:B,MATCH(F256,referentes!B:B,0),1))","v":""},{"$f":"IF(H256=\"\",\"\",INDEX(referentes!D:E,MATCH(H256,referentes!E:E,0),1))","v":""}]
[null,null,{"$f":"IF(B257=\"\",\"\",INDEX(referentes!J:K,MATCH(B257,referentes!K:K,0),1))","v":""},null,null,null,null,null,null,{"$f":"IF(I257=\"\",\"\",INDEX(referentes!G:H,MATCH(I257,referentes!H:H,0),1))","v":""},null,null,null,{"$f":"IF(O257=\"\",\"\",INDEX(referentes!AE:AF,MATCH(O257,referentes!AF:AF,0),1))","v":""},null,{"$f":"IF(Q257=\"\",\"\",INDEX(referentes!V:W,MATCH(Q257,referentes!W:W,0),1))","v":""},null,{"$f":"IF(S257=\"\",\"\",INDEX(referentes!S:T,MATCH(S257,referentes!T:T,0),1))","v":""},null,null,null,"","","","",253,"","","","",{"$f":"IF(A257=\"\",\"\",INDEX(ACTIVIDADES!D:G,MATCH(A257,ACTIVIDADES!G:G,0),1))","v":""},"","","",{"$f":"IF(A257=\"\",\"\",INDEX(ACTIVIDADES!D:I,MATCH(A257,ACTIVIDADES!G:G,0),4))","v":""},{"$f":"IF(E257=\"\",\"\",INDEX(referentes!AN:AQ,MATCH(E257,referentes!AQ:AQ,0),1))","v":""},{"$f":"IF(F257=\"\",\"\",INDEX(referentes!A:B,MATCH(F257,referentes!B:B,0),1))","v":""},{"$f":"IF(H257=\"\",\"\",INDEX(referentes!D:E,MATCH(H257,referentes!E:E,0),1))","v":""}]
[null,null,{"$f":"IF(B258=\"\",\"\",INDEX(referentes!J:K,MATCH(B258,referentes!K:K,0),1))","v":""},null,null,null,null,null,null,{"$f":"IF(I258=\"\",\"\",INDEX(referentes!G:H,MATCH(I258,referentes!H:H,0),1))","v":""},null,null,null,{"$f":"IF(O258=\"\",\"\",INDEX(referentes!AE:AF,MATCH(O258,referentes!AF:AF,0),1))","v":""},null,{"$f":"IF(Q258=\"\",\"\",INDEX(referentes!V:W,MATCH(Q258,referentes!W:W,0),1))","v":""},null,{"$f":"IF(S258=\"\",\"\",INDEX(referentes!S:T,MATCH(S258,referentes!T:T,0),1))","v":""},null,null,null,"","","","",254,"","","","",{"$f":"IF(A258=\"\",\"\",INDEX(ACTIVIDADES!D:G,MATCH(A258,ACTIVIDADES!G:G,0),1))","v":""},"","","",{"$f":"IF(A258=\"\",\"\",INDEX(ACTIVIDADES!D:I,MATCH(A258,ACTIVIDADES!G:G,0),4))","v":""},{"$f":"IF(E258=\"\",\"\",INDEX(referentes!AN:AQ,MATCH(E258,referentes!AQ:AQ,0),1))","v":""},{"$f":"IF(F258=\"\",\"\",INDEX(referentes!A:B,MATCH(F258,referentes!B:B,0),1))","v":""},{"$f":"IF(H258=\"\",\"\",INDEX(referentes!D:E,MATCH(H258,referentes!E:E,0),1))","v":""}]
[null,null,{"$f":"IF(B259=\"\",\"\",INDEX(referentes!J:K,MATCH(B259,referentes!K:K,0),1))","v":""},null,null,null,null,null,null,{"$f":"IF(I259=\"\",\"\",INDEX(referentes!G:H,MATCH(I259,referentes!H:H,0),1))","v":""},null,null,null,{"$f":"IF(O259=\"\",\"\",INDEX(referentes!AE:AF,MATCH(O259,referentes!AF:AF,0),1))","v":""},null,{"$f":"IF(Q259=\"\",\"\",INDEX(referentes!V:W,MATCH(Q259,referentes!W:W,0),1))","v":""},null,{"$f":"IF(S259=\"\",\"\",INDEX(referentes!S:T,MATCH(S259,referentes!T:T,0),1))","v":""},null,null,null,"","","","",255,"","","","",{"$f":"IF(A259=\"\",\"\",INDEX(ACTIVIDADES!D:G,MATCH(A259,ACTIVIDADES!G:G,0),1))","v":""},"","","",{"$f":"IF(A259=\"\",\"\",INDEX(ACTIVIDADES!D:I,MATCH(A259,ACTIVIDADES!G:G,0),4))","v":""},{"$f":"IF(E259=\"\",\"\",INDEX(referentes!AN:AQ,MATCH(E259,referentes!AQ:AQ,0),1))","v":""},{"$f":"IF(F259=\"\",\"\",INDEX(referentes!A:B,MATCH(F259,referentes!B:B,0),1))","v":""},{"$f":"IF(H259=\"\",\"\",INDEX(referentes!D:E,MATCH(H259,referentes!E:E,0),1))","v":""}]
[null,null,{"$f":"IF(B260=\"\",\"\",INDEX(referentes!J:K,MATCH(B260,referentes!K:K,0),1))","v":""},null,null,null,null,null,null,{"$f":"IF(I260=\"\",\"\",INDEX(referentes!G:H,MATCH(I260,referentes!H:H,0),1))","v":""},null,null,null,{"$f":"IF(O260=\"\",\"\",INDEX(referentes!AE:AF,MATCH(O260,referentes!AF:AF,0),1))","v":""},null,{"$f":"IF(Q260=\"\",\"\",INDEX(referentes!V:W,MATCH(Q260,referentes!W:W,0),1))","v":""},null,{"$f":"IF(S260=\"\",\"\",INDEX(referentes!S:T,MATCH(S260,referentes!T:T,0),1))","v":""},null,null,null,"","","","",256,"","","","",{"$f":"IF(A260=\"\",\"\",INDEX(ACTIVIDADES!D:G,MATCH(A260,ACTIVIDADES!G:G,0),1))","v":""},"","","",{"$f":"IF(A260=\"\",\"\",INDEX(ACTIVIDADES!D:I,MATCH(A260,ACTIVIDADES!G:G,0),4))","v":""},{"$f":"IF(E260=\"\",\"\",INDEX(referentes!AN:AQ,MATCH(E260,referentes!AQ:AQ,0),1))","v":""},{"$f":"IF(F260=\"\",\"\",INDEX(referentes!A:B,MATCH(F260,referentes!B:B,0),1))","v":""},{"$f":"IF(H260=\"\",\"\",INDEX(referentes!D:E,MATCH(H260,referentes!E:E,0),1))","v":""}]
[null,null,{"$f":"IF(B261=\"\",\"\",INDEX(referentes!J:K,MATCH(B261,referentes!K:K,0),1))","v":""},null,null,null,null,null,null,{"$f":"IF(I261=\"\",\"\",INDEX(referentes!G:H,MATCH(I261,referentes!H:H,0),1))","v":""},null,null,null,{"$f":"IF(O261=\"\",\"\",INDEX(referentes!AE:AF,MATCH(O261,referentes!AF:AF,0),1))","v":""},null,{"$f":"IF(Q261=\"\",\"\",INDEX(referentes!V:W,MATCH(Q261,referentes!W:W,0),1))","v":""},null,{"$f":"IF(S261=\"\",\"\",INDEX(referentes!S:T,MATCH(S261,referentes!T:T,0),1))","v":""},null,null,null,{"$f":"IF(A261=\"\",\"\",CONCATENATE(AE261,Z261))","v":""},{"$f":"IF(A261=\"\",\"\",CONCATENATE(V261,$W$4))","v":""},{"$f":"IF(A261=\"\",\"\",CONCATENATE(V261,$X$4))","v":""},{"$f":"IF(A261=\"\",\"\",CONCATENATE(V261,$Y$4))","v":""},257,"","","","",{"$f":"IF(A261=\"\",\"\",INDEX(ACTIVIDADES!D:G,MATCH(A261,ACTIVIDADES!G:G,0),1))","v":""},{"$f":"IF(A261=\"\",\"\",CONCATENATE(AE261,$AF$4))","v":""},{"$f":"IF(A261=\"\",\"\",CONCATENATE(AE261,$AG$4))","v":""},{"$f":"IF(A261=\"\",\"\",CONCATENATE(AE261,$AH$4))","v":""},{"$f":"IF(A261=\"\",\"\",INDEX(ACTIVIDADES!D:I,MATCH(A261,ACTIVIDADES!G:G,0),4))","v":""},{"$f":"IF(E261=\"\",\"\",INDEX(referentes!AN:AQ,MATCH(E261,referentes!AQ:AQ,0),1))","v":""},{"$f":"IF(F261=\"\",\"\",INDEX(referentes!A:B,MATCH(F261,referentes!B:B,0),1))","v":""},{"$f":"IF(H261=\"\",\"\",INDEX(referentes!D:E,MATCH(H261,referentes!E:E,0),1))","v":""}]
[null,null,{"$f":"IF(B262=\"\",\"\",INDEX(referentes!J:K,MATCH(B262,referentes!K:K,0),1))","v":""},null,null,null,null,null,null,{"$f":"IF(I262=\"\",\"\",INDEX(referentes!G:H,MATCH(I262,referentes!H:H,0),1))","v":""},null,null,null,{"$f":"IF(O262=\"\",\"\",INDEX(referentes!AE:AF,MATCH(O262,referentes!AF:AF,0),1))","v":""},null,{"$f":"IF(Q262=\"\",\"\",INDEX(referentes!V:W,MATCH(Q262,referentes!W:W,0),1))","v":""},null,{"$f":"IF(S262=\"\",\"\",INDEX(referentes!S:T,MATCH(S262,referentes!T:T,0),1))","v":""},null,null,null,"","","","",258,{"$f":"IF(A262=\"\",\"\",IF(A262=A261,\"\",AE262))","v":""},{"$f":"IF(AA262=\"\",\"\",CONCATENATE(AA262,$AB$4))","v":""},{"$f":"IF(AB262=\"\",\"\",CONCATENATE(AA262,$AC$4))","v":""},{"$f":"IF(AC262=\"\",\"\",CONCATENATE(AA262,$AD$4))","v":""},{"$f":"IF(A262=\"\",\"\",INDEX(ACTIVIDADES!D:G,MATCH(A262,ACTIVIDADES!G:G,0),1))","v":""},"","","",{"$f":"IF(A262=\"\",\"\",INDEX(ACTIVIDADES!D:I,MATCH(A262,ACTIVIDADES!G:G,0),4))","v":""},{"$f":"IF(E262=\"\",\"\",INDEX(referentes!AN:AQ,MATCH(E262,referentes!AQ:AQ,0),1))","v":""},{"$f":"IF(F262=\"\",\"\",INDEX(referentes!A:B,MATCH(F262,referentes!B:B,0),1))","v":""},{"$f":"IF(H262=\"\",\"\",INDEX(referentes!D:E,MATCH(H262,referentes!E:E,0),1))","v":""}]
[null,null,{"$f":"IF(B263=\"\",\"\",INDEX(referentes!J:K,MATCH(B263,referentes!K:K,0),1))","v":""},null,null,null,null,null,null,{"$f":"IF(I263=\"\",\"\",INDEX(referentes!G:H,MATCH(I263,referentes!H:H,0),1))","v":""},null,null,null,{"$f":"IF(O263=\"\",\"\",INDEX(referentes!AE:AF,MATCH(O263,referentes!AF:AF,0),1))","v":""},null,{"$f":"IF(Q263=\"\",\"\",INDEX(referentes!V:W,MATCH(Q263,referentes!W:W,0),1))","v":""},null,{"$f":"IF(S263=\"\",\"\",INDEX(referentes!S:T,MATCH(S263,referentes!T:T,0),1))","v":""},null,null,null,"","","","",259,"","","","",{"$f":"IF(A263=\"\",\"\",INDEX(ACTIVIDADES!D:G,MATCH(A263,ACTIVIDADES!G:G,0),1))","v":""},"","","",{"$f":"IF(A263=\"\",\"\",INDEX(ACTIVIDADES!D:I,MATCH(A263,ACTIVIDADES!G:G,0),4))","v":""},{"$f":"IF(E263=\"\",\"\",INDEX(referentes!AN:AQ,MATCH(E263,referentes!AQ:AQ,0),1))","v":""},{"$f":"IF(F263=\"\",\"\",INDEX(referentes!A:B,MATCH(F263,referentes!B:B,0),1))","v":""},{"$f":"IF(H263=\"\",\"\",INDEX(referentes!D:E,MATCH(H263,referentes!E:E,0),1))","v":""}]
[null,null,{"$f":"IF(B264=\"\",\"\",INDEX(referentes!J:K,MATCH(B264,referentes!K:K,0),1))","v":""},null,null,null,null,null,null,{"$f":"IF(I264=\"\",\"\",INDEX(referentes!G:H,MATCH(I264,referentes!H:H,0),1))","v":""},null,null,null,{"$f":"IF(O264=\"\",\"\",INDEX(referentes!AE:AF,MATCH(O264,referentes!AF:AF,0),1))","v":""},null,{"$f":"IF(Q264=\"\",\"\",INDEX(referentes!V:W,MATCH(Q264,referentes!W:W,0),1))","v":""},null,{"$f":"IF(S264=\"\",\"\",INDEX(referentes!S:T,MATCH(S264,referentes!T:T,0),1))","v":""},null,null,null,"","","","",260,"","","","",{"$f":"IF(A264=\"\",\"\",INDEX(ACTIVIDADES!D:G,MATCH(A264,ACTIVIDADES!G:G,0),1))","v":""},"","","",{"$f":"IF(A264=\"\",\"\",INDEX(ACTIVIDADES!D:I,MATCH(A264,ACTIVIDADES!G:G,0),4))","v":""},{"$f":"IF(E264=\"\",\"\",INDEX(referentes!AN:AQ,MATCH(E264,referentes!AQ:AQ,0),1))","v":""},{"$f":"IF(F264=\"\",\"\",INDEX(referentes!A:B,MATCH(F264,referentes!B:B,0),1))","v":""},{"$f":"IF(H264=\"\",\"\",INDEX(referentes!D:E,MATCH(H264,referentes!E:E,0),1))","v":""}]
[null,null,{"$f":"IF(B265=\"\",\"\",INDEX(referentes!J:K,MATCH(B265,referentes!K:K,0),1))","v":""},null,null,null,null,null,null,{"$f":"IF(I265=\"\",\"\",INDEX(referentes!G:H,MATCH(I265,referentes!H:H,0),1))","v":""},null,null,null,{"$f":"IF(O265=\"\",\"\",INDEX(referentes!AE:AF,MATCH(O265,referentes!AF:AF,0),1))","v":""},null,{"$f":"IF(Q265=\"\",\"\",INDEX(referentes!V:W,MATCH(Q265,referentes!W:W,0),1))","v":""},null,{"$f":"IF(S265=\"\",\"\",INDEX(referentes!S:T,MATCH(S265,referentes!T:T,0),1))","v":""},null,null,null,"","","","",261,"","","","",{"$f":"IF(A265=\"\",\"\",INDEX(ACTIVIDADES!D:G,MATCH(A265,ACTIVIDADES!G:G,0),1))","v":""},"","","",{"$f":"IF(A265=\"\",\"\",INDEX(ACTIVIDADES!D:I,MATCH(A265,ACTIVIDADES!G:G,0),4))","v":""},{"$f":"IF(E265=\"\",\"\",INDEX(referentes!AN:AQ,MATCH(E265,referentes!AQ:AQ,0),1))","v":""},{"$f":"IF(F265=\"\",\"\",INDEX(referentes!A:B,MATCH(F265,referentes!B:B,0),1))","v":""},{"$f":"IF(H265=\"\",\"\",INDEX(referentes!D:E,MATCH(H265,referentes!E:E,0),1))","v":""}]
[null,null,{"$f":"IF(B266=\"\",\"\",INDEX(referentes!J:K,MATCH(B266,referentes!K:K,0),1))","v":""},null,null,null,null,null,null,{"$f":"IF(I266=\"\",\"\",INDEX(referentes!G:H,MATCH(I266,referentes!H:H,0),1))","v":""},null,null,null,{"$f":"IF(O266=\"\",\"\",INDEX(referentes!AE:AF,MATCH(O266,referentes!AF:AF,0),1))","v":""},null,{"$f":"IF(Q266=\"\",\"\",INDEX(referentes!V:W,MATCH(Q266,referentes!W:W,0),1))","v":""},null,{"$f":"IF(S266=\"\",\"\",INDEX(referentes!S:T,MATCH(S266,referentes!T:T,0),1))","v":""},null,null,null,"","","","",262,"","","","",{"$f":"IF(A266=\"\",\"\",INDEX(ACTIVIDADES!D:G,MATCH(A266,ACTIVIDADES!G:G,0),1))","v":""},"","","",{"$f":"IF(A266=\"\",\"\",INDEX(ACTIVIDADES!D:I,MATCH(A266,ACTIVIDADES!G:G,0),4))","v":""},{"$f":"IF(E266=\"\",\"\",INDEX(referentes!AN:AQ,MATCH(E266,referentes!AQ:AQ,0),1))","v":""},{"$f":"IF(F266=\"\",\"\",INDEX(referentes!A:B,MATCH(F266,referentes!B:B,0),1))","v":""},{"$f":"IF(H266=\"\",\"\",INDEX(referentes!D:E,MATCH(H266,referentes!E:E,0),1))","v":""}]
[null,null,{"$f":"IF(B267=\"\",\"\",INDEX(referentes!J:K,MATCH(B267,referentes!K:K,0),1))","v":""},null,null,null,null,null,null,{"$f":"IF(I267=\"\",\"\",INDEX(referentes!G:H,MATCH(I267,referentes!H:H,0),1))","v":""},null,null,null,{"$f":"IF(O267=\"\",\"\",INDEX(referentes!AE:AF,MATCH(O267,referentes!AF:AF,0),1))","v":""},null,{"$f":"IF(Q267=\"\",\"\",INDEX(referentes!V:W,MATCH(Q267,referentes!W:W,0),1))","v":""},null,{"$f":"IF(S267=\"\",\"\",INDEX(referentes!S:T,MATCH(S267,referentes!T:T,0),1))","v":""},null,null,null,"","","","",263,"","","","",{"$f":"IF(A267=\"\",\"\",INDEX(ACTIVIDADES!D:G,MATCH(A267,ACTIVIDADES!G:G,0),1))","v":""},"","","",{"$f":"IF(A267=\"\",\"\",INDEX(ACTIVIDADES!D:I,MATCH(A267,ACTIVIDADES!G:G,0),4))","v":""},{"$f":"IF(E267=\"\",\"\",INDEX(referentes!AN:AQ,MATCH(E267,referentes!AQ:AQ,0),1))","v":""},{"$f":"IF(F267=\"\",\"\",INDEX(referentes!A:B,MATCH(F267,referentes!B:B,0),1))","v":""},{"$f":"IF(H267=\"\",\"\",INDEX(referentes!D:E,MATCH(H267,referentes!E:E,0),1))","v":""}]
[null,null,{"$f":"IF(B268=\"\",\"\",INDEX(referentes!J:K,MATCH(B268,referentes!K:K,0),1))","v":""},null,null,null,null,null,null,{"$f":"IF(I268=\"\",\"\",INDEX(referentes!G:H,MATCH(I268,referentes!H:H,0),1))","v":""},null,null,null,{"$f":"IF(O268=\"\",\"\",INDEX(referentes!AE:AF,MATCH(O268,referentes!AF:AF,0),1))","v":""},null,{"$f":"IF(Q268=\"\",\"\",INDEX(referentes!V:W,MATCH(Q268,referentes!W:W,0),1))","v":""},null,{"$f":"IF(S268=\"\",\"\",INDEX(referentes!S:T,MATCH(S268,referentes!T:T,0),1))","v":""},null,null,null,"","","","",264,"","","","",{"$f":"IF(A268=\"\",\"\",INDEX(ACTIVIDADES!D:G,MATCH(A268,ACTIVIDADES!G:G,0),1))","v":""},"","","",{"$f":"IF(A268=\"\",\"\",INDEX(ACTIVIDADES!D:I,MATCH(A268,ACTIVIDADES!G:G,0),4))","v":""},{"$f":"IF(E268=\"\",\"\",INDEX(referentes!AN:AQ,MATCH(E268,referentes!AQ:AQ,0),1))","v":""},{"$f":"IF(F268=\"\",\"\",INDEX(referentes!A:B,MATCH(F268,referentes!B:B,0),1))","v":""},{"$f":"IF(H268=\"\",\"\",INDEX(referentes!D:E,MATCH(H268,referentes!E:E,0),1))","v":""}]
[null,null,{"$f":"IF(B269=\"\",\"\",INDEX(referentes!J:K,MATCH(B269,referentes!K:K,0),1))","v":""},null,null,null,null,null,null,{"$f":"IF(I269=\"\",\"\",INDEX(referentes!G:H,MATCH(I269,referentes!H:H,0),1))","v":""},null,null,null,{"$f":"IF(O269=\"\",\"\",INDEX(referentes!AE:AF,MATCH(O269,referentes!AF:AF,0),1))","v":""},null,{"$f":"IF(Q269=\"\",\"\",INDEX(referentes!V:W,MATCH(Q269,referentes!W:W,0),1))","v":""},null,{"$f":"IF(S269=\"\",\"\",INDEX(referentes!S:T,MATCH(S269,referentes!T:T,0),1))","v":""},null,null,null,"","","","",265,"","","","",{"$f":"IF(A269=\"\",\"\",INDEX(ACTIVIDADES!D:G,MATCH(A269,ACTIVIDADES!G:G,0),1))","v":""},"","","",{"$f":"IF(A269=\"\",\"\",INDEX(ACTIVIDADES!D:I,MATCH(A269,ACTIVIDADES!G:G,0),4))","v":""},{"$f":"IF(E269=\"\",\"\",INDEX(referentes!AN:AQ,MATCH(E269,referentes!AQ:AQ,0),1))","v":""},{"$f":"IF(F269=\"\",\"\",INDEX(referentes!A:B,MATCH(F269,referentes!B:B,0),1))","v":""},{"$f":"IF(H269=\"\",\"\",INDEX(referentes!D:E,MATCH(H269,referentes!E:E,0),1))","v":""}]
[null,null,{"$f":"IF(B270=\"\",\"\",INDEX(referentes!J:K,MATCH(B270,referentes!K:K,0),1))","v":""},null,null,null,null,null,null,{"$f":"IF(I270=\"\",\"\",INDEX(referentes!G:H,MATCH(I270,referentes!H:H,0),1))","v":""},null,null,null,{"$f":"IF(O270=\"\",\"\",INDEX(referentes!AE:AF,MATCH(O270,referentes!AF:AF,0),1))","v":""},null,{"$f":"IF(Q270=\"\",\"\",INDEX(referentes!V:W,MATCH(Q270,referentes!W:W,0),1))","v":""},null,{"$f":"IF(S270=\"\",\"\",INDEX(referentes!S:T,MATCH(S270,referentes!T:T,0),1))","v":""},null,null,null,"","","","",266,"","","","",{"$f":"IF(A270=\"\",\"\",INDEX(ACTIVIDADES!D:G,MATCH(A270,ACTIVIDADES!G:G,0),1))","v":""},"","","",{"$f":"IF(A270=\"\",\"\",INDEX(ACTIVIDADES!D:I,MATCH(A270,ACTIVIDADES!G:G,0),4))","v":""},{"$f":"IF(E270=\"\",\"\",INDEX(referentes!AN:AQ,MATCH(E270,referentes!AQ:AQ,0),1))","v":""},{"$f":"IF(F270=\"\",\"\",INDEX(referentes!A:B,MATCH(F270,referentes!B:B,0),1))","v":""},{"$f":"IF(H270=\"\",\"\",INDEX(referentes!D:E,MATCH(H270,referentes!E:E,0),1))","v":""}]
[null,null,{"$f":"IF(B271=\"\",\"\",INDEX(referentes!J:K,MATCH(B271,referentes!K:K,0),1))","v":""},null,null,null,null,null,null,{"$f":"IF(I271=\"\",\"\",INDEX(referentes!G:H,MATCH(I271,referentes!H:H,0),1))","v":""},null,null,null,{"$f":"IF(O271=\"\",\"\",INDEX(referentes!AE:AF,MATCH(O271,referentes!AF:AF,0),1))","v":""},null,{"$f":"IF(Q271=\"\",\"\",INDEX(referentes!V:W,MATCH(Q271,referentes!W:W,0),1))","v":""},null,{"$f":"IF(S271=\"\",\"\",INDEX(referentes!S:T,MATCH(S271,referentes!T:T,0),1))","v":""},null,null,null,"","","","",267,"","","","",{"$f":"IF(A271=\"\",\"\",INDEX(ACTIVIDADES!D:G,MATCH(A271,ACTIVIDADES!G:G,0),1))","v":""},"","","",{"$f":"IF(A271=\"\",\"\",INDEX(ACTIVIDADES!D:I,MATCH(A271,ACTIVIDADES!G:G,0),4))","v":""},{"$f":"IF(E271=\"\",\"\",INDEX(referentes!AN:AQ,MATCH(E271,referentes!AQ:AQ,0),1))","v":""},{"$f":"IF(F271=\"\",\"\",INDEX(referentes!A:B,MATCH(F271,referentes!B:B,0),1))","v":""},{"$f":"IF(H271=\"\",\"\",INDEX(referentes!D:E,MATCH(H271,referentes!E:E,0),1))","v":""}]
[null,null,{"$f":"IF(B272=\"\",\"\",INDEX(referentes!J:K,MATCH(B272,referentes!K:K,0),1))","v":""},null,null,null,null,null,null,{"$f":"IF(I272=\"\",\"\",INDEX(referentes!G:H,MATCH(I272,referentes!H:H,0),1))","v":""},null,null,null,{"$f":"IF(O272=\"\",\"\",INDEX(referentes!AE:AF,MATCH(O272,referentes!AF:AF,0),1))","v":""},null,{"$f":"IF(Q272=\"\",\"\",INDEX(referentes!V:W,MATCH(Q272,referentes!W:W,0),1))","v":""},null,{"$f":"IF(S272=\"\",\"\",INDEX(referentes!S:T,MATCH(S272,referentes!T:T,0),1))","v":""},null,null,null,"","","","",268,"","","","",{"$f":"IF(A272=\"\",\"\",INDEX(ACTIVIDADES!D:G,MATCH(A272,ACTIVIDADES!G:G,0),1))","v":""},"","","",{"$f":"IF(A272=\"\",\"\",INDEX(ACTIVIDADES!D:I,MATCH(A272,ACTIVIDADES!G:G,0),4))","v":""},{"$f":"IF(E272=\"\",\"\",INDEX(referentes!AN:AQ,MATCH(E272,referentes!AQ:AQ,0),1))","v":""},{"$f":"IF(F272=\"\",\"\",INDEX(referentes!A:B,MATCH(F272,referentes!B:B,0),1))","v":""},{"$f":"IF(H272=\"\",\"\",INDEX(referentes!D:E,MATCH(H272,referentes!E:E,0),1))","v":""}]
[null,null,{"$f":"IF(B273=\"\",\"\",INDEX(referentes!J:K,MATCH(B273,referentes!K:K,0),1))","v":""},null,null,null,null,null,null,{"$f":"IF(I273=\"\",\"\",INDEX(referentes!G:H,MATCH(I273,referentes!H:H,0),1))","v":""},null,null,null,{"$f":"IF(O273=\"\",\"\",INDEX(referentes!AE:AF,MATCH(O273,referentes!AF:AF,0),1))","v":""},null,{"$f":"IF(Q273=\"\",\"\",INDEX(referentes!V:W,MATCH(Q273,referentes!W:W,0),1))","v":""},null,{"$f":"IF(S273=\"\",\"\",INDEX(referentes!S:T,MATCH(S273,referentes!T:T,0),1))","v":""},null,null,null,"","","","",269,"","","","",{"$f":"IF(A273=\"\",\"\",INDEX(ACTIVIDADES!D:G,MATCH(A273,ACTIVIDADES!G:G,0),1))","v":""},"","","",{"$f":"IF(A273=\"\",\"\",INDEX(ACTIVIDADES!D:I,MATCH(A273,ACTIVIDADES!G:G,0),4))","v":""},{"$f":"IF(E273=\"\",\"\",INDEX(referentes!AN:AQ,MATCH(E273,referentes!AQ:AQ,0),1))","v":""},{"$f":"IF(F273=\"\",\"\",INDEX(referentes!A:B,MATCH(F273,referentes!B:B,0),1))","v":""},{"$f":"IF(H273=\"\",\"\",INDEX(referentes!D:E,MATCH(H273,referentes!E:E,0),1))","v":""}]
[null,null,{"$f":"IF(B274=\"\",\"\",INDEX(referentes!J:K,MATCH(B274,referentes!K:K,0),1))","v":""},null,null,null,null,null,null,{"$f":"IF(I274=\"\",\"\",INDEX(referentes!G:H,MATCH(I274,referentes!H:H,0),1))","v":""},null,null,null,{"$f":"IF(O274=\"\",\"\",INDEX(referentes!AE:AF,MATCH(O274,referentes!AF:AF,0),1))","v":""},null,{"$f":"IF(Q274=\"\",\"\",INDEX(referentes!V:W,MATCH(Q274,referentes!W:W,0),1))","v":""},null,{"$f":"IF(S274=\"\",\"\",INDEX(referentes!S:T,MATCH(S274,referentes!T:T,0),1))","v":""},null,null,null,"","","","",270,"","","","",{"$f":"IF(A274=\"\",\"\",INDEX(ACTIVIDADES!D:G,MATCH(A274,ACTIVIDADES!G:G,0),1))","v":""},"","","",{"$f":"IF(A274=\"\",\"\",INDEX(ACTIVIDADES!D:I,MATCH(A274,ACTIVIDADES!G:G,0),4))","v":""},{"$f":"IF(E274=\"\",\"\",INDEX(referentes!AN:AQ,MATCH(E274,referentes!AQ:AQ,0),1))","v":""},{"$f":"IF(F274=\"\",\"\",INDEX(referentes!A:B,MATCH(F274,referentes!B:B,0),1))","v":""},{"$f":"IF(H274=\"\",\"\",INDEX(referentes!D:E,MATCH(H274,referentes!E:E,0),1))","v":""}]
[null,null,{"$f":"IF(B275=\"\",\"\",INDEX(referentes!J:K,MATCH(B275,referentes!K:K,0),1))","v":""},null,null,null,null,null,null,{"$f":"IF(I275=\"\",\"\",INDEX(referentes!G:H,MATCH(I275,referentes!H:H,0),1))","v":""},null,null,null,{"$f":"IF(O275=\"\",\"\",INDEX(referentes!AE:AF,MATCH(O275,referentes!AF:AF,0),1))","v":""},null,{"$f":"IF(Q275=\"\",\"\",INDEX(referentes!V:W,MATCH(Q275,referentes!W:W,0),1))","v":""},null,{"$f":"IF(S275=\"\",\"\",INDEX(referentes!S:T,MATCH(S275,referentes!T:T,0),1))","v":""},null,null,null,"","","","",271,"","","","",{"$f":"IF(A275=\"\",\"\",INDEX(ACTIVIDADES!D:G,MATCH(A275,ACTIVIDADES!G:G,0),1))","v":""},"","","",{"$f":"IF(A275=\"\",\"\",INDEX(ACTIVIDADES!D:I,MATCH(A275,ACTIVIDADES!G:G,0),4))","v":""},{"$f":"IF(E275=\"\",\"\",INDEX(referentes!AN:AQ,MATCH(E275,referentes!AQ:AQ,0),1))","v":""},{"$f":"IF(F275=\"\",\"\",INDEX(referentes!A:B,MATCH(F275,referentes!B:B,0),1))","v":""},{"$f":"IF(H275=\"\",\"\",INDEX(referentes!D:E,MATCH(H275,referentes!E:E,0),1))","v":""}]
[null,null,{"$f":"IF(B276=\"\",\"\",INDEX(referentes!J:K,MATCH(B276,referentes!K:K,0),1))","v":""},null,null,null,null,null,null,{"$f":"IF(I276=\"\",\"\",INDEX(referentes!G:H,MATCH(I276,referentes!H:H,0),1))","v":""},null,null,null,{"$f":"IF(O276=\"\",\"\",INDEX(referentes!AE:AF,MATCH(O276,referentes!AF:AF,0),1))","v":""},null,{"$f":"IF(Q276=\"\",\"\",INDEX(referentes!V:W,MATCH(Q276,referentes!W:W,0),1))","v":""},null,{"$f":"IF(S276=\"\",\"\",INDEX(referentes!S:T,MATCH(S276,referentes!T:T,0),1))","v":""},null,null,null,"","","","",272,"","","","",{"$f":"IF(A276=\"\",\"\",INDEX(ACTIVIDADES!D:G,MATCH(A276,ACTIVIDADES!G:G,0),1))","v":""},"","","",{"$f":"IF(A276=\"\",\"\",INDEX(ACTIVIDADES!D:I,MATCH(A276,ACTIVIDADES!G:G,0),4))","v":""},{"$f":"IF(E276=\"\",\"\",INDEX(referentes!AN:AQ,MATCH(E276,referentes!AQ:AQ,0),1))","v":""},{"$f":"IF(F276=\"\",\"\",INDEX(referentes!A:B,MATCH(F276,referentes!B:B,0),1))","v":""},{"$f":"IF(H276=\"\",\"\",INDEX(referentes!D:E,MATCH(H276,referentes!E:E,0),1))","v":""}]
[null,null,{"$f":"IF(B277=\"\",\"\",INDEX(referentes!J:K,MATCH(B277,referentes!K:K,0),1))","v":""},null,null,null,null,null,null,{"$f":"IF(I277=\"\",\"\",INDEX(referentes!G:H,MATCH(I277,referentes!H:H,0),1))","v":""},null,null,null,{"$f":"IF(O277=\"\",\"\",INDEX(referentes!AE:AF,MATCH(O277,referentes!AF:AF,0),1))","v":""},null,{"$f":"IF(Q277=\"\",\"\",INDEX(referentes!V:W,MATCH(Q277,referentes!W:W,0),1))","v":""},null,{"$f":"IF(S277=\"\",\"\",INDEX(referentes!S:T,MATCH(S277,referentes!T:T,0),1))","v":""},null,null,null,"","","","",273,"","","","",{"$f":"IF(A277=\"\",\"\",INDEX(ACTIVIDADES!D:G,MATCH(A277,ACTIVIDADES!G:G,0),1))","v":""},"","","",{"$f":"IF(A277=\"\",\"\",INDEX(ACTIVIDADES!D:I,MATCH(A277,ACTIVIDADES!G:G,0),4))","v":""},{"$f":"IF(E277=\"\",\"\",INDEX(referentes!AN:AQ,MATCH(E277,referentes!AQ:AQ,0),1))","v":""},{"$f":"IF(F277=\"\",\"\",INDEX(referentes!A:B,MATCH(F277,referentes!B:B,0),1))","v":""},{"$f":"IF(H277=\"\",\"\",INDEX(referentes!D:E,MATCH(H277,referentes!E:E,0),1))","v":""}]
[null,null,{"$f":"IF(B278=\"\",\"\",INDEX(referentes!J:K,MATCH(B278,referentes!K:K,0),1))","v":""},null,null,null,null,null,null,{"$f":"IF(I278=\"\",\"\",INDEX(referentes!G:H,MATCH(I278,referentes!H:H,0),1))","v":""},null,null,null,{"$f":"IF(O278=\"\",\"\",INDEX(referentes!AE:AF,MATCH(O278,referentes!AF:AF,0),1))","v":""},null,{"$f":"IF(Q278=\"\",\"\",INDEX(referentes!V:W,MATCH(Q278,referentes!W:W,0),1))","v":""},null,{"$f":"IF(S278=\"\",\"\",INDEX(referentes!S:T,MATCH(S278,referentes!T:T,0),1))","v":""},null,null,null,"","","","",274,"","","","",{"$f":"IF(A278=\"\",\"\",INDEX(ACTIVIDADES!D:G,MATCH(A278,ACTIVIDADES!G:G,0),1))","v":""},"","","",{"$f":"IF(A278=\"\",\"\",INDEX(ACTIVIDADES!D:I,MATCH(A278,ACTIVIDADES!G:G,0),4))","v":""},{"$f":"IF(E278=\"\",\"\",INDEX(referentes!AN:AQ,MATCH(E278,referentes!AQ:AQ,0),1))","v":""},{"$f":"IF(F278=\"\",\"\",INDEX(referentes!A:B,MATCH(F278,referentes!B:B,0),1))","v":""},{"$f":"IF(H278=\"\",\"\",INDEX(referentes!D:E,MATCH(H278,referentes!E:E,0),1))","v":""}]
[null,null,{"$f":"IF(B279=\"\",\"\",INDEX(referentes!J:K,MATCH(B279,referentes!K:K,0),1))","v":""},null,null,null,null,null,null,{"$f":"IF(I279=\"\",\"\",INDEX(referentes!G:H,MATCH(I279,referentes!H:H,0),1))","v":""},null,null,null,{"$f":"IF(O279=\"\",\"\",INDEX(referentes!AE:AF,MATCH(O279,referentes!AF:AF,0),1))","v":""},null,{"$f":"IF(Q279=\"\",\"\",INDEX(referentes!V:W,MATCH(Q279,referentes!W:W,0),1))","v":""},null,{"$f":"IF(S279=\"\",\"\",INDEX(referentes!S:T,MATCH(S279,referentes!T:T,0),1))","v":""},null,null,null,"","","","",275,"","","","",{"$f":"IF(A279=\"\",\"\",INDEX(ACTIVIDADES!D:G,MATCH(A279,ACTIVIDADES!G:G,0),1))","v":""},"","","",{"$f":"IF(A279=\"\",\"\",INDEX(ACTIVIDADES!D:I,MATCH(A279,ACTIVIDADES!G:G,0),4))","v":""},{"$f":"IF(E279=\"\",\"\",INDEX(referentes!AN:AQ,MATCH(E279,referentes!AQ:AQ,0),1))","v":""},{"$f":"IF(F279=\"\",\"\",INDEX(referentes!A:B,MATCH(F279,referentes!B:B,0),1))","v":""},{"$f":"IF(H279=\"\",\"\",INDEX(referentes!D:E,MATCH(H279,referentes!E:E,0),1))","v":""}]
[null,null,{"$f":"IF(B280=\"\",\"\",INDEX(referentes!J:K,MATCH(B280,referentes!K:K,0),1))","v":""},null,null,null,null,null,null,{"$f":"IF(I280=\"\",\"\",INDEX(referentes!G:H,MATCH(I280,referentes!H:H,0),1))","v":""},null,null,null,{"$f":"IF(O280=\"\",\"\",INDEX(referentes!AE:AF,MATCH(O280,referentes!AF:AF,0),1))","v":""},null,{"$f":"IF(Q280=\"\",\"\",INDEX(referentes!V:W,MATCH(Q280,referentes!W:W,0),1))","v":""},null,{"$f":"IF(S280=\"\",\"\",INDEX(referentes!S:T,MATCH(S280,referentes!T:T,0),1))","v":""},null,null,null,"","","","",276,"","","","",{"$f":"IF(A280=\"\",\"\",INDEX(ACTIVIDADES!D:G,MATCH(A280,ACTIVIDADES!G:G,0),1))","v":""},"","","",{"$f":"IF(A280=\"\",\"\",INDEX(ACTIVIDADES!D:I,MATCH(A280,ACTIVIDADES!G:G,0),4))","v":""},{"$f":"IF(E280=\"\",\"\",INDEX(referentes!AN:AQ,MATCH(E280,referentes!AQ:AQ,0),1))","v":""},{"$f":"IF(F280=\"\",\"\",INDEX(referentes!A:B,MATCH(F280,referentes!B:B,0),1))","v":""},{"$f":"IF(H280=\"\",\"\",INDEX(referentes!D:E,MATCH(H280,referentes!E:E,0),1))","v":""}]
[null,null,{"$f":"IF(B281=\"\",\"\",INDEX(referentes!J:K,MATCH(B281,referentes!K:K,0),1))","v":""},null,null,null,null,null,null,{"$f":"IF(I281=\"\",\"\",INDEX(referentes!G:H,MATCH(I281,referentes!H:H,0),1))","v":""},null,null,null,{"$f":"IF(O281=\"\",\"\",INDEX(referentes!AE:AF,MATCH(O281,referentes!AF:AF,0),1))","v":""},null,{"$f":"IF(Q281=\"\",\"\",INDEX(referentes!V:W,MATCH(Q281,referentes!W:W,0),1))","v":""},null,{"$f":"IF(S281=\"\",\"\",INDEX(referentes!S:T,MATCH(S281,referentes!T:T,0),1))","v":""},null,null,null,"","","","",277,"","","","",{"$f":"IF(A281=\"\",\"\",INDEX(ACTIVIDADES!D:G,MATCH(A281,ACTIVIDADES!G:G,0),1))","v":""},"","","",{"$f":"IF(A281=\"\",\"\",INDEX(ACTIVIDADES!D:I,MATCH(A281,ACTIVIDADES!G:G,0),4))","v":""},{"$f":"IF(E281=\"\",\"\",INDEX(referentes!AN:AQ,MATCH(E281,referentes!AQ:AQ,0),1))","v":""},{"$f":"IF(F281=\"\",\"\",INDEX(referentes!A:B,MATCH(F281,referentes!B:B,0),1))","v":""},{"$f":"IF(H281=\"\",\"\",INDEX(referentes!D:E,MATCH(H281,referentes!E:E,0),1))","v":""}]
[null,null,{"$f":"IF(B282=\"\",\"\",INDEX(referentes!J:K,MATCH(B282,referentes!K:K,0),1))","v":""},null,null,null,null,null,null,{"$f":"IF(I282=\"\",\"\",INDEX(referentes!G:H,MATCH(I282,referentes!H:H,0),1))","v":""},null,null,null,{"$f":"IF(O282=\"\",\"\",INDEX(referentes!AE:AF,MATCH(O282,referentes!AF:AF,0),1))","v":""},null,{"$f":"IF(Q282=\"\",\"\",INDEX(referentes!V:W,MATCH(Q282,referentes!W:W,0),1))","v":""},null,{"$f":"IF(S282=\"\",\"\",INDEX(referentes!S:T,MATCH(S282,referentes!T:T,0),1))","v":""},null,null,null,"","","","",278,"","","","",{"$f":"IF(A282=\"\",\"\",INDEX(ACTIVIDADES!D:G,MATCH(A282,ACTIVIDADES!G:G,0),1))","v":""},"","","",{"$f":"IF(A282=\"\",\"\",INDEX(ACTIVIDADES!D:I,MATCH(A282,ACTIVIDADES!G:G,0),4))","v":""},{"$f":"IF(E282=\"\",\"\",INDEX(referentes!AN:AQ,MATCH(E282,referentes!AQ:AQ,0),1))","v":""},{"$f":"IF(F282=\"\",\"\",INDEX(referentes!A:B,MATCH(F282,referentes!B:B,0),1))","v":""},{"$f":"IF(H282=\"\",\"\",INDEX(referentes!D:E,MATCH(H282,referentes!E:E,0),1))","v":""}]
[null,null,{"$f":"IF(B283=\"\",\"\",INDEX(referentes!J:K,MATCH(B283,referentes!K:K,0),1))","v":""},null,null,null,null,null,null,{"$f":"IF(I283=\"\",\"\",INDEX(referentes!G:H,MATCH(I283,referentes!H:H,0),1))","v":""},null,null,null,{"$f":"IF(O283=\"\",\"\",INDEX(referentes!AE:AF,MATCH(O283,referentes!AF:AF,0),1))","v":""},null,{"$f":"IF(Q283=\"\",\"\",INDEX(referentes!V:W,MATCH(Q283,referentes!W:W,0),1))","v":""},null,{"$f":"IF(S283=\"\",\"\",INDEX(referentes!S:T,MATCH(S283,referentes!T:T,0),1))","v":""},null,null,null,"","","","",279,"","","","",{"$f":"IF(A283=\"\",\"\",INDEX(ACTIVIDADES!D:G,MATCH(A283,ACTIVIDADES!G:G,0),1))","v":""},"","","",{"$f":"IF(A283=\"\",\"\",INDEX(ACTIVIDADES!D:I,MATCH(A283,ACTIVIDADES!G:G,0),4))","v":""},{"$f":"IF(E283=\"\",\"\",INDEX(referentes!AN:AQ,MATCH(E283,referentes!AQ:AQ,0),1))","v":""},{"$f":"IF(F283=\"\",\"\",INDEX(referentes!A:B,MATCH(F283,referentes!B:B,0),1))","v":""},{"$f":"IF(H283=\"\",\"\",INDEX(referentes!D:E,MATCH(H283,referentes!E:E,0),1))","v":""}]
[null,null,{"$f":"IF(B284=\"\",\"\",INDEX(referentes!J:K,MATCH(B284,referentes!K:K,0),1))","v":""},null,null,null,null,null,null,{"$f":"IF(I284=\"\",\"\",INDEX(referentes!G:H,MATCH(I284,referentes!H:H,0),1))","v":""},null,null,null,{"$f":"IF(O284=\"\",\"\",INDEX(referentes!AE:AF,MATCH(O284,referentes!AF:AF,0),1))","v":""},null,{"$f":"IF(Q284=\"\",\"\",INDEX(referentes!V:W,MATCH(Q284,referentes!W:W,0),1))","v":""},null,{"$f":"IF(S284=\"\",\"\",INDEX(referentes!S:T,MATCH(S284,referentes!T:T,0),1))","v":""},null,null,null,"","","","",280,"","","","",{"$f":"IF(A284=\"\",\"\",INDEX(ACTIVIDADES!D:G,MATCH(A284,ACTIVIDADES!G:G,0),1))","v":""},"","","",{"$f":"IF(A284=\"\",\"\",INDEX(ACTIVIDADES!D:I,MATCH(A284,ACTIVIDADES!G:G,0),4))","v":""},{"$f":"IF(E284=\"\",\"\",INDEX(referentes!AN:AQ,MATCH(E284,referentes!AQ:AQ,0),1))","v":""},{"$f":"IF(F284=\"\",\"\",INDEX(referentes!A:B,MATCH(F284,referentes!B:B,0),1))","v":""},{"$f":"IF(H284=\"\",\"\",INDEX(referentes!D:E,MATCH(H284,referentes!E:E,0),1))","v":""}]
[null,null,{"$f":"IF(B285=\"\",\"\",INDEX(referentes!J:K,MATCH(B285,referentes!K:K,0),1))","v":""},null,null,null,null,null,null,{"$f":"IF(I285=\"\",\"\",INDEX(referentes!G:H,MATCH(I285,referentes!H:H,0),1))","v":""},null,null,null,{"$f":"IF(O285=\"\",\"\",INDEX(referentes!AE:AF,MATCH(O285,referentes!AF:AF,0),1))","v":""},null,{"$f":"IF(Q285=\"\",\"\",INDEX(referentes!V:W,MATCH(Q285,referentes!W:W,0),1))","v":""},null,{"$f":"IF(S285=\"\",\"\",INDEX(referentes!S:T,MATCH(S285,referentes!T:T,0),1))","v":""},null,null,null,"","","","",281,"","","","",{"$f":"IF(A285=\"\",\"\",INDEX(ACTIVIDADES!D:G,MATCH(A285,ACTIVIDADES!G:G,0),1))","v":""},"","","",{"$f":"IF(A285=\"\",\"\",INDEX(ACTIVIDADES!D:I,MATCH(A285,ACTIVIDADES!G:G,0),4))","v":""},{"$f":"IF(E285=\"\",\"\",INDEX(referentes!AN:AQ,MATCH(E285,referentes!AQ:AQ,0),1))","v":""},{"$f":"IF(F285=\"\",\"\",INDEX(referentes!A:B,MATCH(F285,referentes!B:B,0),1))","v":""},{"$f":"IF(H285=\"\",\"\",INDEX(referentes!D:E,MATCH(H285,referentes!E:E,0),1))","v":""}]
[null,null,{"$f":"IF(B286=\"\",\"\",INDEX(referentes!J:K,MATCH(B286,referentes!K:K,0),1))","v":""},null,null,null,null,null,null,{"$f":"IF(I286=\"\",\"\",INDEX(referentes!G:H,MATCH(I286,referentes!H:H,0),1))","v":""},null,null,null,{"$f":"IF(O286=\"\",\"\",INDEX(referentes!AE:AF,MATCH(O286,referentes!AF:AF,0),1))","v":""},null,{"$f":"IF(Q286=\"\",\"\",INDEX(referentes!V:W,MATCH(Q286,referentes!W:W,0),1))","v":""},null,{"$f":"IF(S286=\"\",\"\",INDEX(referentes!S:T,MATCH(S286,referentes!T:T,0),1))","v":""},null,null,null,"","","","",282,"","","","",{"$f":"IF(A286=\"\",\"\",INDEX(ACTIVIDADES!D:G,MATCH(A286,ACTIVIDADES!G:G,0),1))","v":""},"","","",{"$f":"IF(A286=\"\",\"\",INDEX(ACTIVIDADES!D:I,MATCH(A286,ACTIVIDADES!G:G,0),4))","v":""},{"$f":"IF(E286=\"\",\"\",INDEX(referentes!AN:AQ,MATCH(E286,referentes!AQ:AQ,0),1))","v":""},{"$f":"IF(F286=\"\",\"\",INDEX(referentes!A:B,MATCH(F286,referentes!B:B,0),1))","v":""},{"$f":"IF(H286=\"\",\"\",INDEX(referentes!D:E,MATCH(H286,referentes!E:E,0),1))","v":""}]
[null,null,{"$f":"IF(B287=\"\",\"\",INDEX(referentes!J:K,MATCH(B287,referentes!K:K,0),1))","v":""},null,null,null,null,null,null,{"$f":"IF(I287=\"\",\"\",INDEX(referentes!G:H,MATCH(I287,referentes!H:H,0),1))","v":""},null,null,null,{"$f":"IF(O287=\"\",\"\",INDEX(referentes!AE:AF,MATCH(O287,referentes!AF:AF,0),1))","v":""},null,{"$f":"IF(Q287=\"\",\"\",INDEX(referentes!V:W,MATCH(Q287,referentes!W:W,0),1))","v":""},null,{"$f":"IF(S287=\"\",\"\",INDEX(referentes!S:T,MATCH(S287,referentes!T:T,0),1))","v":""},null,null,null,"","","","",283,"","","","",{"$f":"IF(A287=\"\",\"\",INDEX(ACTIVIDADES!D:G,MATCH(A287,ACTIVIDADES!G:G,0),1))","v":""},"","","",{"$f":"IF(A287=\"\",\"\",INDEX(ACTIVIDADES!D:I,MATCH(A287,ACTIVIDADES!G:G,0),4))","v":""},{"$f":"IF(E287=\"\",\"\",INDEX(referentes!AN:AQ,MATCH(E287,referentes!AQ:AQ,0),1))","v":""},{"$f":"IF(F287=\"\",\"\",INDEX(referentes!A:B,MATCH(F287,referentes!B:B,0),1))","v":""},{"$f":"IF(H287=\"\",\"\",INDEX(referentes!D:E,MATCH(H287,referentes!E:E,0),1))","v":""}]
[null,null,{"$f":"IF(B288=\"\",\"\",INDEX(referentes!J:K,MATCH(B288,referentes!K:K,0),1))","v":""},null,null,null,null,null,null,{"$f":"IF(I288=\"\",\"\",INDEX(referentes!G:H,MATCH(I288,referentes!H:H,0),1))","v":""},null,null,null,{"$f":"IF(O288=\"\",\"\",INDEX(referentes!AE:AF,MATCH(O288,referentes!AF:AF,0),1))","v":""},null,{"$f":"IF(Q288=\"\",\"\",INDEX(referentes!V:W,MATCH(Q288,referentes!W:W,0),1))","v":""},null,{"$f":"IF(S288=\"\",\"\",INDEX(referentes!S:T,MATCH(S288,referentes!T:T,0),1))","v":""},null,null,null,"","","","",284,"","","","",{"$f":"IF(A288=\"\",\"\",INDEX(ACTIVIDADES!D:G,MATCH(A288,ACTIVIDADES!G:G,0),1))","v":""},"","","",{"$f":"IF(A288=\"\",\"\",INDEX(ACTIVIDADES!D:I,MATCH(A288,ACTIVIDADES!G:G,0),4))","v":""},{"$f":"IF(E288=\"\",\"\",INDEX(referentes!AN:AQ,MATCH(E288,referentes!AQ:AQ,0),1))","v":""},{"$f":"IF(F288=\"\",\"\",INDEX(referentes!A:B,MATCH(F288,referentes!B:B,0),1))","v":""},{"$f":"IF(H288=\"\",\"\",INDEX(referentes!D:E,MATCH(H288,referentes!E:E,0),1))","v":""}]
[null,null,{"$f":"IF(B289=\"\",\"\",INDEX(referentes!J:K,MATCH(B289,referentes!K:K,0),1))","v":""},null,null,null,null,null,null,{"$f":"IF(I289=\"\",\"\",INDEX(referentes!G:H,MATCH(I289,referentes!H:H,0),1))","v":""},null,null,null,{"$f":"IF(O289=\"\",\"\",INDEX(referentes!AE:AF,MATCH(O289,referentes!AF:AF,0),1))","v":""},null,{"$f":"IF(Q289=\"\",\"\",INDEX(referentes!V:W,MATCH(Q289,referentes!W:W,0),1))","v":""},null,{"$f":"IF(S289=\"\",\"\",INDEX(referentes!S:T,MATCH(S289,referentes!T:T,0),1))","v":""},null,null,null,"","","","",285,"","","","",{"$f":"IF(A289=\"\",\"\",INDEX(ACTIVIDADES!D:G,MATCH(A289,ACTIVIDADES!G:G,0),1))","v":""},"","","",{"$f":"IF(A289=\"\",\"\",INDEX(ACTIVIDADES!D:I,MATCH(A289,ACTIVIDADES!G:G,0),4))","v":""},{"$f":"IF(E289=\"\",\"\",INDEX(referentes!AN:AQ,MATCH(E289,referentes!AQ:AQ,0),1))","v":""},{"$f":"IF(F289=\"\",\"\",INDEX(referentes!A:B,MATCH(F289,referentes!B:B,0),1))","v":""},{"$f":"IF(H289=\"\",\"\",INDEX(referentes!D:E,MATCH(H289,referentes!E:E,0),1))","v":""}]
[null,null,{"$f":"IF(B290=\"\",\"\",INDEX(referentes!J:K,MATCH(B290,referentes!K:K,0),1))","v":""},null,null,null,null,null,null,{"$f":"IF(I290=\"\",\"\",INDEX(referentes!G:H,MATCH(I290,referentes!H:H,0),1))","v":""},null,null,null,{"$f":"IF(O290=\"\",\"\",INDEX(referentes!AE:AF,MATCH(O290,referentes!AF:AF,0),1))","v":""},null,{"$f":"IF(Q290=\"\",\"\",INDEX(referentes!V:W,MATCH(Q290,referentes!W:W,0),1))","v":""},null,{"$f":"IF(S290=\"\",\"\",INDEX(referentes!S:T,MATCH(S290,referentes!T:T,0),1))","v":""},null,null,null,"","","","",286,"","","","",{"$f":"IF(A290=\"\",\"\",INDEX(ACTIVIDADES!D:G,MATCH(A290,ACTIVIDADES!G:G,0),1))","v":""},"","","",{"$f":"IF(A290=\"\",\"\",INDEX(ACTIVIDADES!D:I,MATCH(A290,ACTIVIDADES!G:G,0),4))","v":""},{"$f":"IF(E290=\"\",\"\",INDEX(referentes!AN:AQ,MATCH(E290,referentes!AQ:AQ,0),1))","v":""},{"$f":"IF(F290=\"\",\"\",INDEX(referentes!A:B,MATCH(F290,referentes!B:B,0),1))","v":""},{"$f":"IF(H290=\"\",\"\",INDEX(referentes!D:E,MATCH(H290,referentes!E:E,0),1))","v":""}]
[null,null,{"$f":"IF(B291=\"\",\"\",INDEX(referentes!J:K,MATCH(B291,referentes!K:K,0),1))","v":""},null,null,null,null,null,null,{"$f":"IF(I291=\"\",\"\",INDEX(referentes!G:H,MATCH(I291,referentes!H:H,0),1))","v":""},null,null,null,{"$f":"IF(O291=\"\",\"\",INDEX(referentes!AE:AF,MATCH(O291,referentes!AF:AF,0),1))","v":""},null,{"$f":"IF(Q291=\"\",\"\",INDEX(referentes!V:W,MATCH(Q291,referentes!W:W,0),1))","v":""},null,{"$f":"IF(S291=\"\",\"\",INDEX(referentes!S:T,MATCH(S291,referentes!T:T,0),1))","v":""},null,null,null,"","","","",287,"","","","",{"$f":"IF(A291=\"\",\"\",INDEX(ACTIVIDADES!D:G,MATCH(A291,ACTIVIDADES!G:G,0),1))","v":""},"","","",{"$f":"IF(A291=\"\",\"\",INDEX(ACTIVIDADES!D:I,MATCH(A291,ACTIVIDADES!G:G,0),4))","v":""},{"$f":"IF(E291=\"\",\"\",INDEX(referentes!AN:AQ,MATCH(E291,referentes!AQ:AQ,0),1))","v":""},{"$f":"IF(F291=\"\",\"\",INDEX(referentes!A:B,MATCH(F291,referentes!B:B,0),1))","v":""},{"$f":"IF(H291=\"\",\"\",INDEX(referentes!D:E,MATCH(H291,referentes!E:E,0),1))","v":""}]
[null,null,{"$f":"IF(B292=\"\",\"\",INDEX(referentes!J:K,MATCH(B292,referentes!K:K,0),1))","v":""},null,null,null,null,null,null,{"$f":"IF(I292=\"\",\"\",INDEX(referentes!G:H,MATCH(I292,referentes!H:H,0),1))","v":""},null,null,null,{"$f":"IF(O292=\"\",\"\",INDEX(referentes!AE:AF,MATCH(O292,referentes!AF:AF,0),1))","v":""},null,{"$f":"IF(Q292=\"\",\"\",INDEX(referentes!V:W,MATCH(Q292,referentes!W:W,0),1))","v":""},null,{"$f":"IF(S292=\"\",\"\",INDEX(referentes!S:T,MATCH(S292,referentes!T:T,0),1))","v":""},null,null,null,"","","","",288,"","","","",{"$f":"IF(A292=\"\",\"\",INDEX(ACTIVIDADES!D:G,MATCH(A292,ACTIVIDADES!G:G,0),1))","v":""},"","","",{"$f":"IF(A292=\"\",\"\",INDEX(ACTIVIDADES!D:I,MATCH(A292,ACTIVIDADES!G:G,0),4))","v":""},{"$f":"IF(E292=\"\",\"\",INDEX(referentes!AN:AQ,MATCH(E292,referentes!AQ:AQ,0),1))","v":""},{"$f":"IF(F292=\"\",\"\",INDEX(referentes!A:B,MATCH(F292,referentes!B:B,0),1))","v":""},{"$f":"IF(H292=\"\",\"\",INDEX(referentes!D:E,MATCH(H292,referentes!E:E,0),1))","v":""}]
[null,null,{"$f":"IF(B293=\"\",\"\",INDEX(referentes!J:K,MATCH(B293,referentes!K:K,0),1))","v":""},null,null,null,null,null,null,{"$f":"IF(I293=\"\",\"\",INDEX(referentes!G:H,MATCH(I293,referentes!H:H,0),1))","v":""},null,null,null,{"$f":"IF(O293=\"\",\"\",INDEX(referentes!AE:AF,MATCH(O293,referentes!AF:AF,0),1))","v":""},null,{"$f":"IF(Q293=\"\",\"\",INDEX(referentes!V:W,MATCH(Q293,referentes!W:W,0),1))","v":""},null,{"$f":"IF(S293=\"\",\"\",INDEX(referentes!S:T,MATCH(S293,referentes!T:T,0),1))","v":""},null,null,null,"","","","",289,"","","","",{"$f":"IF(A293=\"\",\"\",INDEX(ACTIVIDADES!D:G,MATCH(A293,ACTIVIDADES!G:G,0),1))","v":""},"","","",{"$f":"IF(A293=\"\",\"\",INDEX(ACTIVIDADES!D:I,MATCH(A293,ACTIVIDADES!G:G,0),4))","v":""},{"$f":"IF(E293=\"\",\"\",INDEX(referentes!AN:AQ,MATCH(E293,referentes!AQ:AQ,0),1))","v":""},{"$f":"IF(F293=\"\",\"\",INDEX(referentes!A:B,MATCH(F293,referentes!B:B,0),1))","v":""},{"$f":"IF(H293=\"\",\"\",INDEX(referentes!D:E,MATCH(H293,referentes!E:E,0),1))","v":""}]
[null,null,{"$f":"IF(B294=\"\",\"\",INDEX(referentes!J:K,MATCH(B294,referentes!K:K,0),1))","v":""},null,null,null,null,null,null,{"$f":"IF(I294=\"\",\"\",INDEX(referentes!G:H,MATCH(I294,referentes!H:H,0),1))","v":""},null,null,null,{"$f":"IF(O294=\"\",\"\",INDEX(referentes!AE:AF,MATCH(O294,referentes!AF:AF,0),1))","v":""},null,{"$f":"IF(Q294=\"\",\"\",INDEX(referentes!V:W,MATCH(Q294,referentes!W:W,0),1))","v":""},null,{"$f":"IF(S294=\"\",\"\",INDEX(referentes!S:T,MATCH(S294,referentes!T:T,0),1))","v":""},null,null,null,"","","","",290,"","","","",{"$f":"IF(A294=\"\",\"\",INDEX(ACTIVIDADES!D:G,MATCH(A294,ACTIVIDADES!G:G,0),1))","v":""},"","","",{"$f":"IF(A294=\"\",\"\",INDEX(ACTIVIDADES!D:I,MATCH(A294,ACTIVIDADES!G:G,0),4))","v":""},{"$f":"IF(E294=\"\",\"\",INDEX(referentes!AN:AQ,MATCH(E294,referentes!AQ:AQ,0),1))","v":""},{"$f":"IF(F294=\"\",\"\",INDEX(referentes!A:B,MATCH(F294,referentes!B:B,0),1))","v":""},{"$f":"IF(H294=\"\",\"\",INDEX(referentes!D:E,MATCH(H294,referentes!E:E,0),1))","v":""}]
[null,null,{"$f":"IF(B295=\"\",\"\",INDEX(referentes!J:K,MATCH(B295,referentes!K:K,0),1))","v":""},null,null,null,null,null,null,{"$f":"IF(I295=\"\",\"\",INDEX(referentes!G:H,MATCH(I295,referentes!H:H,0),1))","v":""},null,null,null,{"$f":"IF(O295=\"\",\"\",INDEX(referentes!AE:AF,MATCH(O295,referentes!AF:AF,0),1))","v":""},null,{"$f":"IF(Q295=\"\",\"\",INDEX(referentes!V:W,MATCH(Q295,referentes!W:W,0),1))","v":""},null,{"$f":"IF(S295=\"\",\"\",INDEX(referentes!S:T,MATCH(S295,referentes!T:T,0),1))","v":""},null,null,null,"","","","",291,"","","","",{"$f":"IF(A295=\"\",\"\",INDEX(ACTIVIDADES!D:G,MATCH(A295,ACTIVIDADES!G:G,0),1))","v":""},"","","",{"$f":"IF(A295=\"\",\"\",INDEX(ACTIVIDADES!D:I,MATCH(A295,ACTIVIDADES!G:G,0),4))","v":""},{"$f":"IF(E295=\"\",\"\",INDEX(referentes!AN:AQ,MATCH(E295,referentes!AQ:AQ,0),1))","v":""},{"$f":"IF(F295=\"\",\"\",INDEX(referentes!A:B,MATCH(F295,referentes!B:B,0),1))","v":""},{"$f":"IF(H295=\"\",\"\",INDEX(referentes!D:E,MATCH(H295,referentes!E:E,0),1))","v":""}]
[null,null,{"$f":"IF(B296=\"\",\"\",INDEX(referentes!J:K,MATCH(B296,referentes!K:K,0),1))","v":""},null,null,null,null,null,null,{"$f":"IF(I296=\"\",\"\",INDEX(referentes!G:H,MATCH(I296,referentes!H:H,0),1))","v":""},null,null,null,{"$f":"IF(O296=\"\",\"\",INDEX(referentes!AE:AF,MATCH(O296,referentes!AF:AF,0),1))","v":""},null,{"$f":"IF(Q296=\"\",\"\",INDEX(referentes!V:W,MATCH(Q296,referentes!W:W,0),1))","v":""},null,{"$f":"IF(S296=\"\",\"\",INDEX(referentes!S:T,MATCH(S296,referentes!T:T,0),1))","v":""},null,null,null,"","","","",292,"","","","",{"$f":"IF(A296=\"\",\"\",INDEX(ACTIVIDADES!D:G,MATCH(A296,ACTIVIDADES!G:G,0),1))","v":""},"","","",{"$f":"IF(A296=\"\",\"\",INDEX(ACTIVIDADES!D:I,MATCH(A296,ACTIVIDADES!G:G,0),4))","v":""},{"$f":"IF(E296=\"\",\"\",INDEX(referentes!AN:AQ,MATCH(E296,referentes!AQ:AQ,0),1))","v":""},{"$f":"IF(F296=\"\",\"\",INDEX(referentes!A:B,MATCH(F296,referentes!B:B,0),1))","v":""},{"$f":"IF(H296=\"\",\"\",INDEX(referentes!D:E,MATCH(H296,referentes!E:E,0),1))","v":""}]
[null,null,{"$f":"IF(B297=\"\",\"\",INDEX(referentes!J:K,MATCH(B297,referentes!K:K,0),1))","v":""},null,null,null,null,null,null,{"$f":"IF(I297=\"\",\"\",INDEX(referentes!G:H,MATCH(I297,referentes!H:H,0),1))","v":""},null,null,null,{"$f":"IF(O297=\"\",\"\",INDEX(referentes!AE:AF,MATCH(O297,referentes!AF:AF,0),1))","v":""},null,{"$f":"IF(Q297=\"\",\"\",INDEX(referentes!V:W,MATCH(Q297,referentes!W:W,0),1))","v":""},null,{"$f":"IF(S297=\"\",\"\",INDEX(referentes!S:T,MATCH(S297,referentes!T:T,0),1))","v":""},null,null,null,"","","","",293,"","","","",{"$f":"IF(A297=\"\",\"\",INDEX(ACTIVIDADES!D:G,MATCH(A297,ACTIVIDADES!G:G,0),1))","v":""},"","","",{"$f":"IF(A297=\"\",\"\",INDEX(ACTIVIDADES!D:I,MATCH(A297,ACTIVIDADES!G:G,0),4))","v":""},{"$f":"IF(E297=\"\",\"\",INDEX(referentes!AN:AQ,MATCH(E297,referentes!AQ:AQ,0),1))","v":""},{"$f":"IF(F297=\"\",\"\",INDEX(referentes!A:B,MATCH(F297,referentes!B:B,0),1))","v":""},{"$f":"IF(H297=\"\",\"\",INDEX(referentes!D:E,MATCH(H297,referentes!E:E,0),1))","v":""}]
[null,null,{"$f":"IF(B298=\"\",\"\",INDEX(referentes!J:K,MATCH(B298,referentes!K:K,0),1))","v":""},null,null,null,null,null,null,{"$f":"IF(I298=\"\",\"\",INDEX(referentes!G:H,MATCH(I298,referentes!H:H,0),1))","v":""},null,null,null,{"$f":"IF(O298=\"\",\"\",INDEX(referentes!AE:AF,MATCH(O298,referentes!AF:AF,0),1))","v":""},null,{"$f":"IF(Q298=\"\",\"\",INDEX(referentes!V:W,MATCH(Q298,referentes!W:W,0),1))","v":""},null,{"$f":"IF(S298=\"\",\"\",INDEX(referentes!S:T,MATCH(S298,referentes!T:T,0),1))","v":""},null,null,null,"","","","",294,"","","","",{"$f":"IF(A298=\"\",\"\",INDEX(ACTIVIDADES!D:G,MATCH(A298,ACTIVIDADES!G:G,0),1))","v":""},"","","",{"$f":"IF(A298=\"\",\"\",INDEX(ACTIVIDADES!D:I,MATCH(A298,ACTIVIDADES!G:G,0),4))","v":""},{"$f":"IF(E298=\"\",\"\",INDEX(referentes!AN:AQ,MATCH(E298,referentes!AQ:AQ,0),1))","v":""},{"$f":"IF(F298=\"\",\"\",INDEX(referentes!A:B,MATCH(F298,referentes!B:B,0),1))","v":""},{"$f":"IF(H298=\"\",\"\",INDEX(referentes!D:E,MATCH(H298,referentes!E:E,0),1))","v":""}]
[null,null,{"$f":"IF(B299=\"\",\"\",INDEX(referentes!J:K,MATCH(B299,referentes!K:K,0),1))","v":""},null,null,null,null,null,null,{"$f":"IF(I299=\"\",\"\",INDEX(referentes!G:H,MATCH(I299,referentes!H:H,0),1))","v":""},null,null,null,{"$f":"IF(O299=\"\",\"\",INDEX(referentes!AE:AF,MATCH(O299,referentes!AF:AF,0),1))","v":""},null,{"$f":"IF(Q299=\"\",\"\",INDEX(referentes!V:W,MATCH(Q299,referentes!W:W,0),1))","v":""},null,{"$f":"IF(S299=\"\",\"\",INDEX(referentes!S:T,MATCH(S299,referentes!T:T,0),1))","v":""},null,null,null,"","","","",295,"","","","",{"$f":"IF(A299=\"\",\"\",INDEX(ACTIVIDADES!D:G,MATCH(A299,ACTIVIDADES!G:G,0),1))","v":""},"","","",{"$f":"IF(A299=\"\",\"\",INDEX(ACTIVIDADES!D:I,MATCH(A299,ACTIVIDADES!G:G,0),4))","v":""},{"$f":"IF(E299=\"\",\"\",INDEX(referentes!AN:AQ,MATCH(E299,referentes!AQ:AQ,0),1))","v":""},{"$f":"IF(F299=\"\",\"\",INDEX(referentes!A:B,MATCH(F299,referentes!B:B,0),1))","v":""},{"$f":"IF(H299=\"\",\"\",INDEX(referentes!D:E,MATCH(H299,referentes!E:E,0),1))","v":""}]
[null,null,{"$f":"IF(B300=\"\",\"\",INDEX(referentes!J:K,MATCH(B300,referentes!K:K,0),1))","v":""},null,null,null,null,null,null,{"$f":"IF(I300=\"\",\"\",INDEX(referentes!G:H,MATCH(I300,referentes!H:H,0),1))","v":""},null,null,null,{"$f":"IF(O300=\"\",\"\",INDEX(referentes!AE:AF,MATCH(O300,referentes!AF:AF,0),1))","v":""},null,{"$f":"IF(Q300=\"\",\"\",INDEX(referentes!V:W,MATCH(Q300,referentes!W:W,0),1))","v":""},null,{"$f":"IF(S300=\"\",\"\",INDEX(referentes!S:T,MATCH(S300,referentes!T:T,0),1))","v":""},null,null,null,"","","","",296,"","","","",{"$f":"IF(A300=\"\",\"\",INDEX(ACTIVIDADES!D:G,MATCH(A300,ACTIVIDADES!G:G,0),1))","v":""},"","","",{"$f":"IF(A300=\"\",\"\",INDEX(ACTIVIDADES!D:I,MATCH(A300,ACTIVIDADES!G:G,0),4))","v":""},{"$f":"IF(E300=\"\",\"\",INDEX(referentes!AN:AQ,MATCH(E300,referentes!AQ:AQ,0),1))","v":""},{"$f":"IF(F300=\"\",\"\",INDEX(referentes!A:B,MATCH(F300,referentes!B:B,0),1))","v":""},{"$f":"IF(H300=\"\",\"\",INDEX(referentes!D:E,MATCH(H300,referentes!E:E,0),1))","v":""}]
[null,null,{"$f":"IF(B301=\"\",\"\",INDEX(referentes!J:K,MATCH(B301,referentes!K:K,0),1))","v":""},null,null,null,null,null,null,{"$f":"IF(I301=\"\",\"\",INDEX(referentes!G:H,MATCH(I301,referentes!H:H,0),1))","v":""},null,null,null,{"$f":"IF(O301=\"\",\"\",INDEX(referentes!AE:AF,MATCH(O301,referentes!AF:AF,0),1))","v":""},null,{"$f":"IF(Q301=\"\",\"\",INDEX(referentes!V:W,MATCH(Q301,referentes!W:W,0),1))","v":""},null,{"$f":"IF(S301=\"\",\"\",INDEX(referentes!S:T,MATCH(S301,referentes!T:T,0),1))","v":""},null,null,null,"","","","",297,"","","","",{"$f":"IF(A301=\"\",\"\",INDEX(ACTIVIDADES!D:G,MATCH(A301,ACTIVIDADES!G:G,0),1))","v":""},"","","",{"$f":"IF(A301=\"\",\"\",INDEX(ACTIVIDADES!D:I,MATCH(A301,ACTIVIDADES!G:G,0),4))","v":""},{"$f":"IF(E301=\"\",\"\",INDEX(referentes!AN:AQ,MATCH(E301,referentes!AQ:AQ,0),1))","v":""},{"$f":"IF(F301=\"\",\"\",INDEX(referentes!A:B,MATCH(F301,referentes!B:B,0),1))","v":""},{"$f":"IF(H301=\"\",\"\",INDEX(referentes!D:E,MATCH(H301,referentes!E:E,0),1))","v":""}]
[null,null,{"$f":"IF(B302=\"\",\"\",INDEX(referentes!J:K,MATCH(B302,referentes!K:K,0),1))","v":""},null,null,null,null,null,null,{"$f":"IF(I302=\"\",\"\",INDEX(referentes!G:H,MATCH(I302,referentes!H:H,0),1))","v":""},null,null,null,{"$f":"IF(O302=\"\",\"\",INDEX(referentes!AE:AF,MATCH(O302,referentes!AF:AF,0),1))","v":""},null,{"$f":"IF(Q302=\"\",\"\",INDEX(referentes!V:W,MATCH(Q302,referentes!W:W,0),1))","v":""},null,{"$f":"IF(S302=\"\",\"\",INDEX(referentes!S:T,MATCH(S302,referentes!T:T,0),1))","v":""},null,null,null,"","","","",298,"","","","",{"$f":"IF(A302=\"\",\"\",INDEX(ACTIVIDADES!D:G,MATCH(A302,ACTIVIDADES!G:G,0),1))","v":""},"","","",{"$f":"IF(A302=\"\",\"\",INDEX(ACTIVIDADES!D:I,MATCH(A302,ACTIVIDADES!G:G,0),4))","v":""},{"$f":"IF(E302=\"\",\"\",INDEX(referentes!AN:AQ,MATCH(E302,referentes!AQ:AQ,0),1))","v":""},{"$f":"IF(F302=\"\",\"\",INDEX(referentes!A:B,MATCH(F302,referentes!B:B,0),1))","v":""},{"$f":"IF(H302=\"\",\"\",INDEX(referentes!D:E,MATCH(H302,referentes!E:E,0),1))","v":""}]
[null,null,{"$f":"IF(B303=\"\",\"\",INDEX(referentes!J:K,MATCH(B303,referentes!K:K,0),1))","v":""},null,null,null,null,null,null,{"$f":"IF(I303=\"\",\"\",INDEX(referentes!G:H,MATCH(I303,referentes!H:H,0),1))","v":""},null,null,null,{"$f":"IF(O303=\"\",\"\",INDEX(referentes!AE:AF,MATCH(O303,referentes!AF:AF,0),1))","v":""},null,{"$f":"IF(Q303=\"\",\"\",INDEX(referentes!V:W,MATCH(Q303,referentes!W:W,0),1))","v":""},null,{"$f":"IF(S303=\"\",\"\",INDEX(referentes!S:T,MATCH(S303,referentes!T:T,0),1))","v":""},null,null,null,"","","","",299,"","","","",{"$f":"IF(A303=\"\",\"\",INDEX(ACTIVIDADES!D:G,MATCH(A303,ACTIVIDADES!G:G,0),1))","v":""},"","","",{"$f":"IF(A303=\"\",\"\",INDEX(ACTIVIDADES!D:I,MATCH(A303,ACTIVIDADES!G:G,0),4))","v":""},{"$f":"IF(E303=\"\",\"\",INDEX(referentes!AN:AQ,MATCH(E303,referentes!AQ:AQ,0),1))","v":""},{"$f":"IF(F303=\"\",\"\",INDEX(referentes!A:B,MATCH(F303,referentes!B:B,0),1))","v":""},{"$f":"IF(H303=\"\",\"\",INDEX(referentes!D:E,MATCH(H303,referentes!E:E,0),1))","v":""}]
[null,null,{"$f":"IF(B304=\"\",\"\",INDEX(referentes!J:K,MATCH(B304,referentes!K:K,0),1))","v":""},null,null,null,null,null,null,{"$f":"IF(I304=\"\",\"\",INDEX(referentes!G:H,MATCH(I304,referentes!H:H,0),1))","v":""},null,null,null,{"$f":"IF(O304=\"\",\"\",INDEX(referentes!AE:AF,MATCH(O304,referentes!AF:AF,0),1))","v":""},null,{"$f":"IF(Q304=\"\",\"\",INDEX(referentes!V:W,MATCH(Q304,referentes!W:W,0),1))","v":""},null,{"$f":"IF(S304=\"\",\"\",INDEX(referentes!S:T,MATCH(S304,referentes!T:T,0),1))","v":""},null,null,null,"","","","",300,"","","","",{"$f":"IF(A304=\"\",\"\",INDEX(ACTIVIDADES!D:G,MATCH(A304,ACTIVIDADES!G:G,0),1))","v":""},"","","",{"$f":"IF(A304=\"\",\"\",INDEX(ACTIVIDADES!D:I,MATCH(A304,ACTIVIDADES!G:G,0),4))","v":""},{"$f":"IF(E304=\"\",\"\",INDEX(referentes!AN:AQ,MATCH(E304,referentes!AQ:AQ,0),1))","v":""},{"$f":"IF(F304=\"\",\"\",INDEX(referentes!A:B,MATCH(F304,referentes!B:B,0),1))","v":""},{"$f":"IF(H304=\"\",\"\",INDEX(referentes!D:E,MATCH(H304,referentes!E:E,0),1))","v":""}]

{"sheet":"COSTOS","index":5,"n_rows":304,"n_cols":13,"rows_kept":304,"cut":false,"hidden":false,"merged":[[0,0,2,6]]}
["COSTOS DE TOTALES"]
[]
[]
["REGISTRO","DESCRIPCION","COD COSTO","VALOR TOTAL($)","FECHA ZARPE","SITIO DE DESEMBARQUE","CODMUESTREO","IDMUESTREO 829","IDMUESTREOS (AGD_MUESTREOS)","CODCAPTURA","CODMUESTRA","CONSECUTIVO",829]
[null,null,{"$f":"IF(B5=\"\",\"\",VLOOKUP(B5,'Otras referencias'!$A$32:$B$55,2,FALSE))","v":""},null,{"$f":"IF(A5=\"\",\"\",INDEX(ACTIVIDADES!G:L,MATCH(A5,ACTIVIDADES!G:G,0),5))","v":""},{"$f":"IF(A5=\"\",\"\",INDEX(ACTIVIDADES!G:P,MATCH(A5,ACTIVIDADES!G:G,0),8))","v":""},{"$f":"IF(A5=\"\",\"\",INDEX(ACTIVIDADES!D:G,MATCH(A5,ACTIVIDADES!G:G,0),1))","v":""},{"$f":"IF(A5=\"\",\"\",CONCATENATE(INDEX(ACTIVIDADES!D:G,MATCH(A5,ACTIVIDADES!G:G,0),1),$M$4))","v":""},{"$f":"IF(A5=\"\",\"\",H5)","v":""},{"$f":"IF(A5=\"\",\"\",INDEX(ACTIVIDADES!D:I,MATCH(A5,ACTIVIDADES!G:G,0),4))","v":""},{"$f":"IF(A5=\"\",\"\",CONCATENATE(G5,L5))","v":""},1]
[null,null,{"$f":"IF(B6=\"\",\"\",VLOOKUP(B6,'Otras referencias'!$A$32:$B$55,2,FALSE))","v":""},null,{"$f":"IF(A6=\"\",\"\",INDEX(ACTIVIDADES!G:L,MATCH(A6,ACTIVIDADES!G:G,0),5))","v":""},{"$f":"IF(A6=\"\",\"\",INDEX(ACTIVIDADES!G:P,MATCH(A6,ACTIVIDADES!G:G,0),8))","v":""},{"$f":"IF(A6=\"\",\"\",INDEX(ACTIVIDADES!D:G,MATCH(A6,ACTIVIDADES!G:G,0),1))","v":""},{"$f":"IF(A6=\"\",\"\",CONCATENATE(INDEX(ACTIVIDADES!D:G,MATCH(A6,ACTIVIDADES!G:G,0),1),$M$4))","v":""},{"$f":"IF(A6=\"\",\"\",IF(A6=A5,\"\",CONCATENATE(INDEX(ACTIVIDADES!D:G,MATCH(A6,ACTIVIDADES!G:G,0),1),$M$4)))","v":""},{"$f":"IF(A6=\"\",\"\",INDEX(ACTIVIDADES!D:I,MATCH(A6,ACTIVIDADES!G:G,0),4))","v":""},"",2]
[null,null,{"$f":"IF(B7=\"\",\"\",VLOOKUP(B7,'Otras referencias'!$A$32:$B$55,2,FALSE))","v":""},null,{"$f":"IF(A7=\"\",\"\",INDEX(ACTIVIDADES!G:L,MATCH(A7,ACTIVIDADES!G:G,0),5))","v":""},{"$f":"IF(A7=\"\",\"\",INDEX(ACTIVIDADES!G:P,MATCH(A7,ACTIVIDADES!G:G,0),8))","v":""},{"$f":"IF(A7=\"\",\"\",INDEX(ACTIVIDADES!D:G,MATCH(A7,ACTIVIDADES!G:G,0),1))","v":""},{"$f":"IF(A7=\"\",\"\",CONCATENATE(INDEX(ACTIVIDADES!D:G,MATCH(A7,ACTIVIDADES!G:G,0),1),$M$4))","v":""},{"$f":"IF(A7=\"\",\"\",IF(A7=A6,\"\",CONCATENATE(INDEX(ACTIVIDADES!D:G,MATCH(A7,ACTIVIDADES!G:G,0),1),$M$4)))","v":""},{"$f":"IF(A7=\"\",\"\",INDEX(ACTIVIDADES!D:I,MATCH(A7,ACTIVIDADES!G:G,0),4))","v":""},"",3]
[null,null,{"$f":"IF(B8=\"\",\"\",VLOOKUP(B8,'Otras referencias'!$A$32:$B$55,2,FALSE))","v":""},null,{"$f":"IF(A8=\"\",\"\",INDEX(ACTIVIDADES!G:L,MATCH(A8,ACTIVIDADES!G:G,0),5))","v":""},{"$f":"IF(A8=\"\",\"\",INDEX(ACTIVIDADES!G:P,MATCH(A8,ACTIVIDADES!G:G,0),8))","v":""},{"$f":"IF(A8=\"\",\"\",INDEX(ACTIVIDADES!D:G,MATCH(A8,ACTIVIDADES!G:G,0),1))","v":""},{"$f":"IF(A8=\"\",\"\",CONCATENATE(INDEX(ACTIVIDADES!D:G,MATCH(A8,ACTIVIDADES!G:G,0),1),$M$4))","v":""},{"$f":"IF(A8=\"\",\"\",IF(A8=A7,\"\",CONCATENATE(INDEX(ACTIVIDADES!D:G,MATCH(A8,ACTIVIDADES!G:G,0),1),$M$4)))","v":""},{"$f":"IF(A8=\"\",\"\",INDEX(ACTIVIDADES!D:I,MATCH(A8,ACTIVIDADES!G:G,0),4))","v":""},"",4]
[null,null,{"$f":"IF(B9=\"\",\"\",VLOOKUP(B9,'Otras referencias'!$A$32:$B$55,2,FALSE))","v":""},null,{"$f":"IF(A9=\"\",\"\",INDEX(ACTIVIDADES!G:L,MATCH(A9,ACTIVIDADES!G:G,0),5))","v":""},{"$f":"IF(A9=\"\",\"\",INDEX(ACTIVIDADES!G:P,MATCH(A9,ACTIVIDADES!G:G,0),8))","v":""},{"$f":"IF(A9=\"\",\"\",INDEX(ACTIVIDADES!D:G,MATCH(A9,ACTIVIDADES!G:G,0),1))","v":""},{"$f":"IF(A9=\"\",\"\",CONCATENATE(INDEX(ACTIVIDADES!D:G,MATCH(A9,ACTIVIDADES!G:G,0),1),$M$4))","v":""},{"$f":"IF(A9=\"\",\"\",IF(A9=A8,\"\",CONCATENATE(INDEX(ACTIVIDADES!D:G,MATCH(A9,ACTIVIDADES!G:G,0),1),$M$4)))","v":""},{"$f":"IF(A9=\"\",\"\",INDEX(ACTIVIDADES!D:I,MATCH(A9,ACTIVIDADES!G:G,0),4))","v":""},"",5]
[null,null,{"$f":"IF(B10=\"\",\"\",VLOOKUP(B10,'Otras referencias'!$A$32:$B$55,2,FALSE))","v":""},null,{"$f":"IF(A10=\"\",\"\",INDEX(ACTIVIDADES!G:L,MATCH(A10,ACTIVIDADES!G:G,0),5))","v":""},{"$f":"IF(A10=\"\",\"\",INDEX(ACTIVIDADES!G:P,MATCH(A10,ACTIVIDADES!G:G,0),8))","v":""},{"$f":"IF(A10=\"\",\"\",INDEX(ACTIVIDADES!D:G,MATCH(A10,ACTIVIDADES!G:G,0),1))","v":""},{"$f":"IF(A10=\"\",\"\",CONCATENATE(INDEX(ACTIVIDADES!D:G,MATCH(A10,ACTIVIDADES!G:G,0),1),$M$4))","v":""},{"$f":"IF(A10=\"\",\"\",IF(A10=A9,\"\",CONCATENATE(INDEX(ACTIVIDADES!D:G,MATCH(A10,ACTIVIDADES!G:G,0),1),$M$4)))","v":""},{"$f":"IF(A10=\"\",\"\",INDEX(ACTIVIDADES!D:I,MATCH(A10,ACTIVIDADES!G:G,0),4))","v":""},"",6]
[null,null,{"$f":"IF(B11=\"\",\"\",VLOOKUP(B11,'Otras referencias'!$A$32:$B$55,2,FALSE))","v":""},null,{"$f":"IF(A11=\"\",\"\",INDEX(ACTIVIDADES!G:L,MATCH(A11,ACTIVIDADES!G:G,0),5))","v":""},{"$f":"IF(A11=\"\",\"\",INDEX(ACTIVIDADES!G:P,MATCH(A11,ACTIVIDADES!G:G,0),8))","v":""},{"$f":"IF(A11=\"\",\"\",INDEX(ACTIVIDADES!D:G,MATCH(A11,ACTIVIDADES!G:G,0),1))","v":""},{"$f":"IF(A11=\"\",\"\",CONCATENATE(INDEX(ACTIVIDADES!D:G,MATCH(A11,ACTIVIDADES!G:G,0),1),$M$4))","v":""},{"$f":"IF(A11=\"\",\"\",IF(A11=A10,\"\",CONCATENATE(INDEX(ACTIVIDADES!D:G,MATCH(A11,ACTIVIDADES!G:G,0),1),$M$4)))","v":""},{"$f":"IF(A11=\"\",\"\",INDEX(ACTIVIDADES!D:I,MATCH(A11,ACTIVIDADES!G:G,0),4))","v":""},"",7]
[null,null,{"$f":"IF(B12=\"\",\"\",VLOOKUP(B12,'Otras referencias'!$A$32:$B$55,2,FALSE))","v":""},null,{"$f":"IF(A12=\"\",\"\",INDEX(ACTIVIDADES!G:L,MATCH(A12,ACTIVIDADES!G:G,0),5))","v":""},{"$f":"IF(A12=\"\",\"\",INDEX(ACTIVIDADES!G:P,MATCH(A12,ACTIVIDADES!G:G,0),8))","v":""},{"$f":"IF(A12=\"\",\"\",INDEX(ACTIVIDADES!D:G,MATCH(A12,ACTIVIDADES!G:G,0),1))","v":""},{"$f":"IF(A12=\"\",\"\",CONCATENATE(INDEX(ACTIVIDADES!D:G,MATCH(A12,ACTIVIDADES!G:G,0),1),$M$4))","v":""},{"$f":"IF(A12=\"\",\"\",IF(A12=A11,\"\",CONCATENATE(INDEX(ACTIVIDADES!D:G,MATCH(A12,ACTIVIDADES!G:G,0),1),$M$4)))","v":""},{"$f":"IF(A12=\"\",\"\",INDEX(ACTIVIDADES!D:I,MATCH(A12,ACTIVIDADES!G:G,0),4))","v":""},"",8]
[null,null,{"$f":"IF(B13=\"\",\"\",VLOOKUP(B13,'Otras referencias'!$A$32:$B$55,2,FALSE))","v":""},null,{"$f":"IF(A13=\"\",\"\",INDEX(ACTIVIDADES!G:L,MATCH(A13,ACTIVIDADES!G:G,0),5))","v":""},{"$f":"IF(A13=\"\",\"\",INDEX(ACTIVIDADES!G:P,MATCH(A13,ACTIVIDADES!G:G,0),8))","v":""},{"$f":"IF(A13=\"\",\"\",INDEX(ACTIVIDADES!D:G,MATCH(A13,ACTIVIDADES!G:G,0),1))","v":""},{"$f":"IF(A13=\"\",\"\",CONCATENATE(INDEX(ACTIVIDADES!D:G,MATCH(A13,ACTIVIDADES!G:G,0),1),$M$4))","v":""},{"$f":"IF(A13=\"\",\"\",IF(A13=A12,\"\",CONCATENATE(INDEX(ACTIVIDADES!D:G,MATCH(A13,ACTIVIDADES!G:G,0),1),$M$4)))","v":""},{"$f":"IF(A13=\"\",\"\",INDEX(ACTIVIDADES!D:I,MATCH(A13,ACTIVIDADES!G:G,0),4))","v":""},"",9]
[null,null,{"$f":"IF(B14=\"\",\"\",VLOOKUP(B14,'Otras referencias'!$A$32:$B$55,2,FALSE))","v":""},null,{"$f":"IF(A14=\"\",\"\",INDEX(ACTIVIDADES!G:L,MATCH(A14,ACTIVIDADES!G:G,0),5))","v":""},{"$f":"IF(A14=\"\",\"\",INDEX(ACTIVIDADES!G:P,MATCH(A14,ACTIVIDADES!G:G,0),8))","v":""},{"$f":"IF(A14=\"\",\"\",INDEX(ACTIVIDADES!D:G,MATCH(A14,ACTIVIDADES!G:G,0),1))","v":""},{"$f":"IF(A14=\"\",\"\",CONCATENATE(INDEX(ACTIVIDADES!D:G,MATCH(A14,ACTIVIDADES!G:G,0),1),$M$4))","v":""},{"$f":"IF(A14=\"\",\"\",IF(A14=A13,\"\",CONCATENATE(INDEX(ACTIVIDADES!D:G,MATCH(A14,ACTIVIDADES!G:G,0),1),$M$4)))","v":""},{"$f":"IF(A14=\"\",\"\",INDEX(ACTIVIDADES!D:I,MATCH(A14,ACTIVIDADES!G:G,0),4))","v":""},"",10]
[null,null,{"$f":"IF(B15=\"\",\"\",VLOOKUP(B15,'Otras referencias'!$A$32:$B$55,2,FALSE))","v":""},null,{"$f":"IF(A15=\"\",\"\",INDEX(ACTIVIDADES!G:L,MATCH(A15,ACTIVIDADES!G:G,0),5))","v":""},{"$f":"IF(A15=\"\",\"\",INDEX(ACTIVIDADES!G:P,MATCH(A15,ACTIVIDADES!G:G,0),8))","v":""},{"$f":"IF(A15=\"\",\"\",INDEX(ACTIVIDADES!D:G,MATCH(A15,ACTIVIDADES!G:G,0),1))","v":""},{"$f":"IF(A15=\"\",\"\",CONCATENATE(INDEX(ACTIVIDADES!D:G,MATCH(A15,ACTIVIDADES!G:G,0),1),$M$4))","v":""},{"$f":"IF(A15=\"\",\"\",IF(A15=A14,\"\",CONCATENATE(INDEX(ACTIVIDADES!D:G,MATCH(A15,ACTIVIDADES!G:G,0),1),$M$4)))","v":""},{"$f":"IF(A15=\"\",\"\",INDEX(ACTIVIDADES!D:I,MATCH(A15,ACTIVIDADES!G:G,0),4))","v":""},"",11]
[null,null,{"$f":"IF(B16=\"\",\"\",VLOOKUP(B16,'Otras referencias'!$A$32:$B$55,2,FALSE))","v":""},null,{"$f":"IF(A16=\"\",\"\",INDEX(ACTIVIDADES!G:L,MATCH(A16,ACTIVIDADES!G:G,0),5))","v":""},{"$f":"IF(A16=\"\",\"\",INDEX(ACTIVIDADES!G:P,MATCH(A16,ACTIVIDADES!G:G,0),8))","v":""},{"$f":"IF(A16=\"\",\"\",INDEX(ACTIVIDADES!D:G,MATCH(A16,ACTIVIDADES!G:G,0),1))","v":""},{"$f":"IF(A16=\"\",\"\",CONCATENATE(INDEX(ACTIVIDADES!D:G,MATCH(A16,ACTIVIDADES!G:G,0),1),$M$4))","v":""},{"$f":"IF(A16=\"\",\"\",IF(A16=A15,\"\",CONCATENATE(INDEX(ACTIVIDADES!D:G,MATCH(A16,ACTIVIDADES!G:G,0),1),$M$4)))","v":""},{"$f":"IF(A16=\"\",\"\",INDEX(ACTIVIDADES!D:I,MATCH(A16,ACTIVIDADES!G:G,0),4))","v":""},"",12]
[null,null,{"$f":"IF(B17=\"\",\"\",VLOOKUP(B17,'Otras referencias'!$A$32:$B$55,2,FALSE))","v":""},null,{"$f":"IF(A17=\"\",\"\",INDEX(ACTIVIDADES!G:L,MATCH(A17,ACTIVIDADES!G:G,0),5))","v":""},{"$f":"IF(A17=\"\",\"\",INDEX(ACTIVIDADES!G:P,MATCH(A17,ACTIVIDADES!G:G,0),8))","v":""},{"$f":"IF(A17=\"\",\"\",INDEX(ACTIVIDADES!D:G,MATCH(A17,ACTIVIDADES!G:G,0),1))","v":""},{"$f":"IF(A17=\"\",\"\",CONCATENATE(INDEX(ACTIVIDADES!D:G,MATCH(A17,ACTIVIDADES!G:G,0),1),$M$4))","v":""},{"$f":"IF(A17=\"\",\"\",IF(A17=A16,\"\",CONCATENATE(INDEX(ACTIVIDADES!D:G,MATCH(A17,ACTIVIDADES!G:G,0),1),$M$4)))","v":""},{"$f":"IF(A17=\"\",\"\",INDEX(ACTIVIDADES!D:I,MATCH(A17,ACTIVIDADES!G:G,0),4))","v":""},"",13]
[null,null,{"$f":"IF(B18=\"\",\"\",VLOOKUP(B18,'Otras referencias'!$A$32:$B$55,2,FALSE))","v":""},null,{"$f":"IF(A18=\"\",\"\",INDEX(ACTIVIDADES!G:L,MATCH(A18,ACTIVIDADES!G:G,0),5))","v":""},{"$f":"IF(A18=\"\",\"\",INDEX(ACTIVIDADES!G:P,MATCH(A18,ACTIVIDADES!G:G,0),8))","v":""},{"$f":"IF(A18=\"\",\"\",INDEX(ACTIVIDADES!D:G,MATCH(A18,ACTIVIDADES!G:G,0),1))","v":""},{"$f":"IF(A18=\"\",\"\",CONCATENATE(INDEX(ACTIVIDADES!D:G,MATCH(A18,ACTIVIDADES!G:G,0),1),$M$4))","v":""},{"$f":"IF(A18=\"\",\"\",IF(A18=A17,\"\",CONCATENATE(INDEX(ACTIVIDADES!D:G,MATCH(A18,ACTIVIDADES!G:G,0),1),$M$4)))","v":""},{"$f":"IF(A18=\"\",\"\",INDEX(ACTIVIDADES!D:I,MATCH(A18,ACTIVIDADES!G:G,0),4))","v":""},"",14]
[null,null,{"$f":"IF(B19=\"\",\"\",VLOOKUP(B19,'Otras referencias'!$A$32:$B$55,2,FALSE))","v":""},null,{"$f":"IF(A19=\"\",\"\",INDEX(ACTIVIDADES!G:L,MATCH(A19,ACTIVIDADES!G:G,0),5))","v":""},{"$f":"IF(A19=\"\",\"\",INDEX(ACTIVIDADES!G:P,MATCH(A19,ACTIVIDADES!G:G,0),8))","v":""},{"$f":"IF(A19=\"\",\"\",INDEX(ACTIVIDADES!D:G,MATCH(A19,ACTIVIDADES!G:G,0),1))","v":""},{"$f":"IF(A19=\"\",\"\",CONCATENATE(INDEX(ACTIVIDADES!D:G,MATCH(A19,ACTIVIDADES!G:G,0),1),$M$4))","v":""},{"$f":"IF(A19=\"\",\"\",IF(A19=A18,\"\",CONCATENATE(INDEX(ACTIVIDADES!D:G,MATCH(A19,ACTIVIDADES!G:G,0),1),$M$4)))","v":""},{"$f":"IF(A19=\"\",\"\",INDEX(ACTIVIDADES!D:I,MATCH(A19,ACTIVIDADES!G:G,0),4))","v":""},"",15]
[null,null,{"$f":"IF(B20=\"\",\"\",VLOOKUP(B20,'Otras referencias'!$A$32:$B$55,2,FALSE))","v":""},null,{"$f":"IF(A20=\"\",\"\",INDEX(ACTIVIDADES!G:L,MATCH(A20,ACTIVIDADES!G:G,0),5))","v":""},{"$f":"IF(A20=\"\",\"\",INDEX(ACTIVIDADES!G:P,MATCH(A20,ACTIVIDADES!G:G,0),8))","v":""},{"$f":"IF(A20=\"\",\"\",INDEX(ACTIVIDADES!D:G,MATCH(A20,ACTIVIDADES!G:G,0),1))","v":""},{"$f":"IF(A20=\"\",\"\",CONCATENATE(INDEX(ACTIVIDADES!D:G,MATCH(A20,ACTIVIDADES!G:G,0),1),$M$4))","v":""},{"$f":"IF(A20=\"\",\"\",IF(A20=A19,\"\",CONCATENATE(INDEX(ACTIVIDADES!D:G,MATCH(A20,ACTIVIDADES!G:G,0),1),$M$4)))","v":""},{"$f":"IF(A20=\"\",\"\",INDEX(ACTIVIDADES!D:I,MATCH(A20,ACTIVIDADES!G:G,0),4))","v":""},"",16]
[null,null,{"$f":"IF(B21=\"\",\"\",VLOOKUP(B21,'Otras referencias'!$A$32:$B$55,2,FALSE))","v":""},null,{"$f":"IF(A21=\"\",\"\",INDEX(ACTIVIDADES!G:L,MATCH(A21,ACTIVIDADES!G:G,0),5))","v":""},{"$f":"IF(A21=\"\",\"\",INDEX(ACTIVIDADES!G:P,MATCH(A21,ACTIVIDADES!G:G,0),8))","v":""},{"$f":"IF(A21=\"\",\"\",INDEX(ACTIVIDADES!D:G,MATCH(A21,ACTIVIDADES!G:G,0),1))","v":""},{"$f":"IF(A21=\"\",\"\",CONCATENATE(INDEX(ACTIVIDADES!D:G,MATCH(A21,ACTIVIDADES!G:G,0),1),$M$4))","v":""},{"$f":"IF(A21=\"\",\"\",IF(A21=A20,\"\",CONCATENATE(INDEX(ACTIVIDADES!D:G,MATCH(A21,ACTIVIDADES!G:G,0),1),$M$4)))","v":""},{"$f":"IF(A21=\"\",\"\",INDEX(ACTIVIDADES!D:I,MATCH(A21,ACTIVIDADES!G:G,0),4))","v":""},"",17]
[null,null,{"$f":"IF(B22=\"\",\"\",VLOOKUP(B22,'Otras referencias'!$A$32:$B$55,2,FALSE))","v":""},null,{"$f":"IF(A22=\"\",\"\",INDEX(ACTIVIDADES!G:L,MATCH(A22,ACTIVIDADES!G:G,0),5))","v":""},{"$f":"IF(A22=\"\",\"\",INDEX(ACTIVIDADES!G:P,MATCH(A22,ACTIVIDADES!G:G,0),8))","v":""},{"$f":"IF(A22=\"\",\"\",INDEX(ACTIVIDADES!D:G,MATCH(A22,ACTIVIDADES!G:G,0),1))","v":""},{"$f":"IF(A22=\"\",\"\",CONCATENATE(INDEX(ACTIVIDADES!D:G,MATCH(A22,ACTIVIDADES!G:G,0),1),$M$4))","v":""},{"$f":"IF(A22=\"\",\"\",IF(A22=A21,\"\",CONCATENATE(INDEX(ACTIVIDADES!D:G,MATCH(A22,ACTIVIDADES!G:G,0),1),$M$4)))","v":""},{"$f":"IF(A22=\"\",\"\",INDEX(ACTIVIDADES!D:I,MATCH(A22,ACTIVIDADES!G:G,0),4))","v":""},"",18]
[null,null,{"$f":"IF(B23=\"\",\"\",VLOOKUP(B23,'Otras referencias'!$A$32:$B$55,2,FALSE))","v":""},null,{"$f":"IF(A23=\"\",\"\",INDEX(ACTIVIDADES!G:L,MATCH(A23,ACTIVIDADES!G:G,0),5))","v":""},{"$f":"IF(A23=\"\",\"\",INDEX(ACTIVIDADES!G:P,MATCH(A23,ACTIVIDADES!G:G,0),8))","v":""},{"$f":"IF(A23=\"\",\"\",INDEX(ACTIVIDADES!D:G,MATCH(A23,ACTIVIDADES!G:G,0),1))","v":""},{"$f":"IF(A23=\"\",\"\",CONCATENATE(INDEX(ACTIVIDADES!D:G,MATCH(A23,ACTIVIDADES!G:G,0),1),$M$4))","v":""},{"$f":"IF(A23=\"\",\"\",IF(A23=A22,\"\",CONCATENATE(INDEX(ACTIVIDADES!D:G,MATCH(A23,ACTIVIDADES!G:G,0),1),$M$4)))","v":""},{"$f":"IF(A23=\"\",\"\",INDEX(ACTIVIDADES!D:I,MATCH(A23,ACTIVIDADES!G:G,0),4))","v":""},"",19]
[null,null,{"$f":"IF(B24=\"\",\"\",VLOOKUP(B24,'Otras referencias'!$A$32:$B$55,2,FALSE))","v":""},null,{"$f":"IF(A24=\"\",\"\",INDEX(ACTIVIDADES!G:L,MATCH(A24,ACTIVIDADES!G:G,0),5))","v":""},{"$f":"IF(A24=\"\",\"\",INDEX(ACTIVIDADES!G:P,MATCH(A24,ACTIVIDADES!G:G,0),8))","v":""},{"$f":"IF(A24=\"\",\"\",INDEX(ACTIVIDADES!D:G,MATCH(A24,ACTIVIDADES!G:G,0),1))","v":""},{"$f":"IF(A24=\"\",\"\",CONCATENATE(INDEX(ACTIVIDADES!D:G,MATCH(A24,ACTIVIDADES!G:G,0),1),$M$4))","v":""},{"$f":"IF(A24=\"\",\"\",IF(A24=A23,\"\",CONCATENATE(INDEX(ACTIVIDADES!D:G,MATCH(A24,ACTIVIDADES!G:G,0),1),$M$4)))","v":""},{"$f":"IF(A24=\"\",\"\",INDEX(ACTIVIDADES!D:I,MATCH(A24,ACTIVIDADES!G:G,0),4))","v":""},"",20]
[null,null,{"$f":"IF(B25=\"\",\"\",VLOOKUP(B25,'Otras referencias'!$A$32:$B$55,2,FALSE))","v":""},null,{"$f":"IF(A25=\"\",\"\",INDEX(ACTIVIDADES!G:L,MATCH(A25,ACTIVIDADES!G:G,0),5))","v":""},{"$f":"IF(A25=\"\",\"\",INDEX(ACTIVIDADES!G:P,MATCH(A25,ACTIVIDADES!G:G,0),8))","v":""},{"$f":"IF(A25=\"\",\"\",INDEX(ACTIVIDADES!D:G,MATCH(A25,ACTIVIDADES!G:G,0),1))","v":""},{"$f":"IF(A25=\"\",\"\",CONCATENATE(INDEX(ACTIVIDADES!D:G,MATCH(A25,ACTIVIDADES!G:G,0),1),$M$4))","v":""},{"$f":"IF(A25=\"\",\"\",IF(A25=A24,\"\",CONCATENATE(INDEX(ACTIVIDADES!D:G,MATCH(A25,ACTIVIDADES!G:G,0),1),$M$4)))","v":""},{"$f":"IF(A25=\"\",\"\",INDEX(ACTIVIDADES!D:I,MATCH(A25,ACTIVIDADES!G:G,0),4))","v":""},"",21]
[null,null,{"$f":"IF(B26=\"\",\"\",VLOOKUP(B26,'Otras referencias'!$A$32:$B$55,2,FALSE))","v":""},null,{"$f":"IF(A26=\"\",\"\",INDEX(ACTIVIDADES!G:L,MATCH(A26,ACTIVIDADES!G:G,0),5))","v":""},{"$f":"IF(A26=\"\",\"\",INDEX(ACTIVIDADES!G:P,MATCH(A26,ACTIVIDADES!G:G,0),8))","v":""},{"$f":"IF(A26=\"\",\"\",INDEX(ACTIVIDADES!D:G,MATCH(A26,ACTIVIDADES!G:G,0),1))","v":""},{"$f":"IF(A26=\"\",\"\",CONCATENATE(INDEX(ACTIVIDADES!D:G,MATCH(A26,ACTIVIDADES!G:G,0),1),$M$4))","v":""},{"$f":"IF(A26=\"\",\"\",IF(A26=A25,\"\",CONCATENATE(INDEX(ACTIVIDADES!D:G,MATCH(A26,ACTIVIDADES!G:G,0),1),$M$4)))","v":""},{"$f":"IF(A26=\"\",\"\",INDEX(ACTIVIDADES!D:I,MATCH(A26,ACTIVIDADES!G:G,0),4))","v":""},"",22]
[null,null,{"$f":"IF(B27=\"\",\"\",VLOOKUP(B27,'Otras referencias'!$A$32:$B$55,2,FALSE))","v":""},null,{"$f":"IF(A27=\"\",\"\",INDEX(ACTIVIDADES!G:L,MATCH(A27,ACTIVIDADES!G:G,0),5))","v":""},{"$f":"IF(A27=\"\",\"\",INDEX(ACTIVIDADES!G:P,MATCH(A27,ACTIVIDADES!G:G,0),8))","v":""},{"$f":"IF(A27=\"\",\"\",INDEX(ACTIVIDADES!D:G,MATCH(A27,ACTIVIDADES!G:G,0),1))","v":""},{"$f":"IF(A27=\"\",\"\",CONCATENATE(INDEX(ACTIVIDADES!D:G,MATCH(A27,ACTIVIDADES!G:G,0),1),$M$4))","v":""},{"$f":"IF(A27=\"\",\"\",IF(A27=A26,\"\",CONCATENATE(INDEX(ACTIVIDADES!D:G,MATCH(A27,ACTIVIDADES!G:G,0),1),$M$4)))","v":""},{"$f":"IF(A27=\"\",\"\",INDEX(ACTIVIDADES!D:I,MATCH(A27,ACTIVIDADES!G:G,0),4))","v":""},"",23]
[null,null,{"$f":"IF(B28=\"\",\"\",VLOOKUP(B28,'Otras referencias'!$A$32:$B$55,2,FALSE))","v":""},null,{"$f":"IF(A28=\"\",\"\",INDEX(ACTIVIDADES!G:L,MATCH(A28,ACTIVIDADES!G:G,0),5))","v":""},{"$f":"IF(A28=\"\",\"\",INDEX(ACTIVIDADES!G:P,MATCH(A28,ACTIVIDADES!G:G,0),8))","v":""},{"$f":"IF(A28=\"\",\"\",INDEX(ACTIVIDADES!D:G,MATCH(A28,ACTIVIDADES!G:G,0),1))","v":""},{"$f":"IF(A28=\"\",\"\",CONCATENATE(INDEX(ACTIVIDADES!D:G,MATCH(A28,ACTIVIDADES!G:G,0),1),$M$4))","v":""},{"$f":"IF(A28=\"\",\"\",IF(A28=A27,\"\",CONCATENATE(INDEX(ACTIVIDADES!D:G,MATCH(A28,ACTIVIDADES!G:G,0),1),$M$4)))","v":""},{"$f":"IF(A28=\"\",\"\",INDEX(ACTIVIDADES!D:I,MATCH(A28,ACTIVIDADES!G:G,0),4))","v":""},"",24]
[null,null,{"$f":"IF(B29=\"\",\"\",VLOOKUP(B29,'Otras referencias'!$A$32:$B$55,2,FALSE))","v":""},null,{"$f":"IF(A29=\"\",\"\",INDEX(ACTIVIDADES!G:L,MATCH(A29,ACTIVIDADES!G:G,0),5))","v":""},{"$f":"IF(A29=\"\",\"\",INDEX(ACTIVIDADES!G:P,MATCH(A29,ACTIVIDADES!G:G,0),8))","v":""},{"$f":"IF(A29=\"\",\"\",INDEX(ACTIVIDADES!D:G,MATCH(A29,ACTIVIDADES!G:G,0),1))","v":""},{"$f":"IF(A29=\"\",\"\",CONCATENATE(INDEX(ACTIVIDADES!D:G,MATCH(A29,ACTIVIDADES!G:G,0),1),$M$4))","v":""},{"$f":"IF(A29=\"\",\"\",IF(A29=A28,\"\",CONCATENATE(INDEX(ACTIVIDADES!D:G,MATCH(A29,ACTIVIDADES!G:G,0),1),$M$4)))","v":""},{"$f":"IF(A29=\"\",\"\",INDEX(ACTIVIDADES!D:I,MATCH(A29,ACTIVIDADES!G:G,0),4))","v":""},"",25]
[null,null,{"$f":"IF(B30=\"\",\"\",VLOOKUP(B30,'Otras referencias'!$A$32:$B$55,2,FALSE))","v":""},null,{"$f":"IF(A30=\"\",\"\",INDEX(ACTIVIDADES!G:L,MATCH(A30,ACTIVIDADES!G:G,0),5))","v":""},{"$f":"IF(A30=\"\",\"\",INDEX(ACTIVIDADES!G:P,MATCH(A30,ACTIVIDADES!G:G,0),8))","v":""},{"$f":"IF(A30=\"\",\"\",INDEX(ACTIVIDADES!D:G,MATCH(A30,ACTIVIDADES!G:G,0),1))","v":""},{"$f":"IF(A30=\"\",\"\",CONCATENATE(INDEX(ACTIVIDADES!D:G,MATCH(A30,ACTIVIDADES!G:G,0),1),$M$4))","v":""},{"$f":"IF(A30=\"\",\"\",IF(A30=A29,\"\",CONCATENATE(INDEX(ACTIVIDADES!D:G,MATCH(A30,ACTIVIDADES!G:G,0),1),$M$4)))","v":""},{"$f":"IF(A30=\"\",\"\",INDEX(ACTIVIDADES!D:I,MATCH(A30,ACTIVIDADES!G:G,0),4))","v":""},"",26]
[null,null,{"$f":"IF(B31=\"\",\"\",VLOOKUP(B31,'Otras referencias'!$A$32:$B$55,2,FALSE))","v":""},null,{"$f":"IF(A31=\"\",\"\",INDEX(ACTIVIDADES!G:L,MATCH(A31,ACTIVIDADES!G:G,0),5))","v":""},{"$f":"IF(A31=\"\",\"\",INDEX(ACTIVIDADES!G:P,MATCH(A31,ACTIVIDADES!G:G,0),8))","v":""},{"$f":"IF(A31=\"\",\"\",INDEX(ACTIVIDADES!D:G,MATCH(A31,ACTIVIDADES!G:G,0),1))","v":""},{"$f":"IF(A31=\"\",\"\",CONCATENATE(INDEX(ACTIVIDADES!D:G,MATCH(A31,ACTIVIDADES!G:G,0),1),$M$4))","v":""},{"$f":"IF(A31=\"\",\"\",IF(A31=A30,\"\",CONCATENATE(INDEX(ACTIVIDADES!D:G,MATCH(A31,ACTIVIDADES!G:G,0),1),$M$4)))","v":""},{"$f":"IF(A31=\"\",\"\",INDEX(ACTIVIDADES!D:I,MATCH(A31,ACTIVIDADES!G:G,0),4))","v":""},"",27]
[null,null,{"$f":"IF(B32=\"\",\"\",VLOOKUP(B32,'Otras referencias'!$A$32:$B$55,2,FALSE))","v":""},null,{"$f":"IF(A32=\"\",\"\",INDEX(ACTIVIDADES!G:L,MATCH(A32,ACTIVIDADES!G:G,0),5))","v":""},{"$f":"IF(A32=\"\",\"\",INDEX(ACTIVIDADES!G:P,MATCH(A32,ACTIVIDADES!G:G,0),8))","v":""},{"$f":"IF(A32=\"\",\"\",INDEX(ACTIVIDADES!D:G,MATCH(A32,ACTIVIDADES!G:G,0),1))","v":""},{"$f":"IF(A32=\"\",\"\",CONCATENATE(INDEX(ACTIVIDADES!D:G,MATCH(A32,ACTIVIDADES!G:G,0),1),$M$4))","v":""},{"$f":"IF(A32=\"\",\"\",IF(A32=A31,\"\",CONCATENATE(INDEX(ACTIVIDADES!D:G,MATCH(A32,ACTIVIDADES!G:G,0),1),$M$4)))","v":""},{"$f":"IF(A32=\"\",\"\",INDEX(ACTIVIDADES!D:I,MATCH(A32,ACTIVIDADES!G:G,0),4))","v":""},"",28]
[null,null,{"$f":"IF(B33=\"\",\"\",VLOOKUP(B33,'Otras referencias'!$A$32:$B$55,2,FALSE))","v":""},null,{"$f":"IF(A33=\"\",\"\",INDEX(ACTIVIDADES!G:L,MATCH(A33,ACTIVIDADES!G:G,0),5))","v":""},{"$f":"IF(A33=\"\",\"\",INDEX(ACTIVIDADES!G:P,MATCH(A33,ACTIVIDADES!G:G,0),8))","v":""},{"$f":"IF(A33=\"\",\"\",INDEX(ACTIVIDADES!D:G,MATCH(A33,ACTIVIDADES!G:G,0),1))","v":""},{"$f":"IF(A33=\"\",\"\",CONCATENATE(INDEX(ACTIVIDADES!D:G,MATCH(A33,ACTIVIDADES!G:G,0),1),$M$4))","v":""},{"$f":"IF(A33=\"\",\"\",IF(A33=A32,\"\",CONCATENATE(INDEX(ACTIVIDADES!D:G,MATCH(A33,ACTIVIDADES!G:G,0),1),$M$4)))","v":""},{"$f":"IF(A33=\"\",\"\",INDEX(ACTIVIDADES!D:I,MATCH(A33,ACTIVIDADES!G:G,0),4))","v":""},"",29]
[null,null,{"$f":"IF(B34=\"\",\"\",VLOOKUP(B34,'Otras referencias'!$A$32:$B$55,2,FALSE))","v":""},null,{"$f":"IF(A34=\"\",\"\",INDEX(ACTIVIDADES!G:L,MATCH(A34,ACTIVIDADES!G:G,0),5))","v":""},{"$f":"IF(A34=\"\",\"\",INDEX(ACTIVIDADES!G:P,MATCH(A34,ACTIVIDADES!G:G,0),8))","v":""},{"$f":"IF(A34=\"\",\"\",INDEX(ACTIVIDADES!D:G,MATCH(A34,ACTIVIDADES!G:G,0),1))","v":""},{"$f":"IF(A34=\"\",\"\",CONCATENATE(INDEX(ACTIVIDADES!D:G,MATCH(A34,ACTIVIDADES!G:G,0),1),$M$4))","v":""},{"$f":"IF(A34=\"\",\"\",IF(A34=A33,\"\",CONCATENATE(INDEX(ACTIVIDADES!D:G,MATCH(A34,ACTIVIDADES!G:G,0),1),$M$4)))","v":""},{"$f":"IF(A34=\"\",\"\",INDEX(ACTIVIDADES!D:I,MATCH(A34,ACTIVIDADES!G:G,0),4))","v":""},"",30]
[null,null,{"$f":"IF(B35=\"\",\"\",VLOOKUP(B35,'Otras referencias'!$A$32:$B$55,2,FALSE))","v":""},null,{"$f":"IF(A35=\"\",\"\",INDEX(ACTIVIDADES!G:L,MATCH(A35,ACTIVIDADES!G:G,0),5))","v":""},{"$f":"IF(A35=\"\",\"\",INDEX(ACTIVIDADES!G:P,MATCH(A35,ACTIVIDADES!G:G,0),8))","v":""},{"$f":"IF(A35=\"\",\"\",INDEX(ACTIVIDADES!D:G,MATCH(A35,ACTIVIDADES!G:G,0),1))","v":""},{"$f":"IF(A35=\"\",\"\",CONCATENATE(INDEX(ACTIVIDADES!D:G,MATCH(A35,ACTIVIDADES!G:G,0),1),$M$4))","v":""},{"$f":"IF(A35=\"\",\"\",IF(A35=A34,\"\",CONCATENATE(INDEX(ACTIVIDADES!D:G,MATCH(A35,ACTIVIDADES!G:G,0),1),$M$4)))","v":""},{"$f":"IF(A35=\"\",\"\",INDEX(ACTIVIDADES!D:I,MATCH(A35,ACTIVIDADES!G:G,0),4))","v":""},"",31]
[null,null,{"$f":"IF(B36=\"\",\"\",VLOOKUP(B36,'Otras referencias'!$A$32:$B$55,2,FALSE))","v":""},null,{"$f":"IF(A36=\"\",\"\",INDEX(ACTIVIDADES!G:L,MATCH(A36,ACTIVIDADES!G:G,0),5))","v":""},{"$f":"IF(A36=\"\",\"\",INDEX(ACTIVIDADES!G:P,MATCH(A36,ACTIVIDADES!G:G,0),8))","v":""},{"$f":"IF(A36=\"\",\"\",INDEX(ACTIVIDADES!D:G,MATCH(A36,ACTIVIDADES!G:G,0),1))","v":""},{"$f":"IF(A36=\"\",\"\",CONCATENATE(INDEX(ACTIVIDADES!D:G,MATCH(A36,ACTIVIDADES!G:G,0),1),$M$4))","v":""},{"$f":"IF(A36=\"\",\"\",IF(A36=A35,\"\",CONCATENATE(INDEX(ACTIVIDADES!D:G,MATCH(A36,ACTIVIDADES!G:G,0),1),$M$4)))","v":""},{"$f":"IF(A36=\"\",\"\",INDEX(ACTIVIDADES!D:I,MATCH(A36,ACTIVIDADES!G:G,0),4))","v":""},"",32]
[null,null,{"$f":"IF(B37=\"\",\"\",VLOOKUP(B37,'Otras referencias'!$A$32:$B$55,2,FALSE))","v":""},null,{"$f":"IF(A37=\"\",\"\",INDEX(ACTIVIDADES!G:L,MATCH(A37,ACTIVIDADES!G:G,0),5))","v":""},{"$f":"IF(A37=\"\",\"\",INDEX(ACTIVIDADES!G:P,MATCH(A37,ACTIVIDADES!G:G,0),8))","v":""},{"$f":"IF(A37=\"\",\"\",INDEX(ACTIVIDADES!D:G,MATCH(A37,ACTIVIDADES!G:G,0),1))","v":""},{"$f":"IF(A37=\"\",\"\",CONCATENATE(INDEX(ACTIVIDADES!D:G,MATCH(A37,ACTIVIDADES!G:G,0),1),$M$4))","v":""},{"$f":"IF(A37=\"\",\"\",IF(A37=A36,\"\",CONCATENATE(INDEX(ACTIVIDADES!D:G,MATCH(A37,ACTIVIDADES!G:G,0),1),$M$4)))","v":""},{"$f":"IF(A37=\"\",\"\",INDEX(ACTIVIDADES!D:I,MATCH(A37,ACTIVIDADES!G:G,0),4))","v":""},"",33]
[null,null,{"$f":"IF(B38=\"\",\"\",VLOOKUP(B38,'Otras referencias'!$A$32:$B$55,2,FALSE))","v":""},null,{"$f":"IF(A38=\"\",\"\",INDEX(ACTIVIDADES!G:L,MATCH(A38,ACTIVIDADES!G:G,0),5))","v":""},{"$f":"IF(A38=\"\",\"\",INDEX(ACTIVIDADES!G:P,MATCH(A38,ACTIVIDADES!G:G,0),8))","v":""},{"$f":"IF(A38=\"\",\"\",INDEX(ACTIVIDADES!D:G,MATCH(A38,ACTIVIDADES!G:G,0),1))","v":""},{"$f":"IF(A38=\"\",\"\",CONCATENATE(INDEX(ACTIVIDADES!D:G,MATCH(A38,ACTIVIDADES!G:G,0),1),$M$4))","v":""},{"$f":"IF(A38=\"\",\"\",IF(A38=A37,\"\",CONCATENATE(INDEX(ACTIVIDADES!D:G,MATCH(A38,ACTIVIDADES!G:G,0),1),$M$4)))","v":""},{"$f":"IF(A38=\"\",\"\",INDEX(ACTIVIDADES!D:I,MATCH(A38,ACTIVIDADES!G:G,0),4))","v":""},"",34]
[null,null,{"$f":"IF(B39=\"\",\"\",VLOOKUP(B39,'Otras referencias'!$A$32:$B$55,2,FALSE))","v":""},null,{"$f":"IF(A39=\"\",\"\",INDEX(ACTIVIDADES!G:L,MATCH(A39,ACTIVIDADES!G:G,0),5))","v":""},{"$f":"IF(A39=\"\",\"\",INDEX(ACTIVIDADES!G:P,MATCH(A39,ACTIVIDADES!G:G,0),8))","v":""},{"$f":"IF(A39=\"\",\"\",INDEX(ACTIVIDADES!D:G,MATCH(A39,ACTIVIDADES!G:G,0),1))","v":""},{"$f":"IF(A39=\"\",\"\",CONCATENATE(INDEX(ACTIVIDADES!D:G,MATCH(A39,ACTIVIDADES!G:G,0),1),$M$4))","v":""},{"$f":"IF(A39=\"\",\"\",IF(A39=A38,\"\",CONCATENATE(INDEX(ACTIVIDADES!D:G,MATCH(A39,ACTIVIDADES!G:G,0),1),$M$4)))","v":""},{"$f":"IF(A39=\"\",\"\",INDEX(ACTIVIDADES!D:I,MATCH(A39,ACTIVIDADES!G:G,0),4))","v":""},"",35]
[null,null,{"$f":"IF(B40=\"\",\"\",VLOOKUP(B40,'Otras referencias'!$A$32:$B$55,2,FALSE))","v":""},null,{"$f":"IF(A40=\"\",\"\",INDEX(ACTIVIDADES!G:L,MATCH(A40,ACTIVIDADES!G:G,0),5))","v":""},{"$f":"IF(A40=\"\",\"\",INDEX(ACTIVIDADES!G:P,MATCH(A40,ACTIVIDADES!G:G,0),8))","v":""},{"$f":"IF(A40=\"\",\"\",INDEX(ACTIVIDADES!D:G,MATCH(A40,ACTIVIDADES!G:G,0),1))","v":""},{"$f":"IF(A40=\"\",\"\",CONCATENATE(INDEX(ACTIVIDADES!D:G,MATCH(A40,ACTIVIDADES!G:G,0),1),$M$4))","v":""},{"$f":"IF(A40=\"\",\"\",IF(A40=A39,\"\",CONCATENATE(INDEX(ACTIVIDADES!D:G,MATCH(A40,ACTIVIDADES!G:G,0),1),$M$4)))","v":""},{"$f":"IF(A40=\"\",\"\",INDEX(ACTIVIDADES!D:I,MATCH(A40,ACTIVIDADES!G:G,0),4))","v":""},"",36]
[null,null,{"$f":"IF(B41=\"\",\"\",VLOOKUP(B41,'Otras referencias'!$A$32:$B$55,2,FALSE))","v":""},null,{"$f":"IF(A41=\"\",\"\",INDEX(ACTIVIDADES!G:L,MATCH(A41,ACTIVIDADES!G:G,0),5))","v":""},{"$f":"IF(A41=\"\",\"\",INDEX(ACTIVIDADES!G:P,MATCH(A41,ACTIVIDADES!G:G,0),8))","v":""},{"$f":"IF(A41=\"\",\"\",INDEX(ACTIVIDADES!D:G,MATCH(A41,ACTIVIDADES!G:G,0),1))","v":""},{"$f":"IF(A41=\"\",\"\",CONCATENATE(INDEX(ACTIVIDADES!D:G,MATCH(A41,ACTIVIDADES!G:G,0),1),$M$4))","v":""},{"$f":"IF(A41=\"\",\"\",IF(A41=A40,\"\",CONCATENATE(INDEX(ACTIVIDADES!D:G,MATCH(A41,ACTIVIDADES!G:G,0),1),$M$4)))","v":""},{"$f":"IF(A41=\"\",\"\",INDEX(ACTIVIDADES!D:I,MATCH(A41,ACTIVIDADES!G:G,0),4))","v":""},"",37]
[null,null,{"$f":"IF(B42=\"\",\"\",VLOOKUP(B42,'Otras referencias'!$A$32:$B$55,2,FALSE))","v":""},null,{"$f":"IF(A42=\"\",\"\",INDEX(ACTIVIDADES!G:L,MATCH(A42,ACTIVIDADES!G:G,0),5))","v":""},{"$f":"IF(A42=\"\",\"\",INDEX(ACTIVIDADES!G:P,MATCH(A42,ACTIVIDADES!G:G,0),8))","v":""},{"$f":"IF(A42=\"\",\"\",INDEX(ACTIVIDADES!D:G,MATCH(A42,ACTIVIDADES!G:G,0),1))","v":""},{"$f":"IF(A42=\"\",\"\",CONCATENATE(INDEX(ACTIVIDADES!D:G,MATCH(A42,ACTIVIDADES!G:G,0),1),$M$4))","v":""},{"$f":"IF(A42=\"\",\"\",IF(A42=A41,\"\",CONCATENATE(INDEX(ACTIVIDADES!D:G,MATCH(A42,ACTIVIDADES!G:G,0),1),$M$4)))","v":""},{"$f":"IF(A42=\"\",\"\",INDEX(ACTIVIDADES!D:I,MATCH(A42,ACTIVIDADES!G:G,0),4))","v":""},"",38]
[null,null,{"$f":"IF(B43=\"\",\"\",VLOOKUP(B43,'Otras referencias'!$A$32:$B$55,2,FALSE))","v":""},null,{"$f":"IF(A43=\"\",\"\",INDEX(ACTIVIDADES!G:L,MATCH(A43,ACTIVIDADES!G:G,0),5))","v":""},{"$f":"IF(A43=\"\",\"\",INDEX(ACTIVIDADES!G:P,MATCH(A43,ACTIVIDADES!G:G,0),8))","v":""},{"$f":"IF(A43=\"\",\"\",INDEX(ACTIVIDADES!D:G,MATCH(A43,ACTIVIDADES!G:G,0),1))","v":""},{"$f":"IF(A43=\"\",\"\",CONCATENATE(INDEX(ACTIVIDADES!D:G,MATCH(A43,ACTIVIDADES!G:G,0),1),$M$4))","v":""},{"$f":"IF(A43=\"\",\"\",IF(A43=A42,\"\",CONCATENATE(INDEX(ACTIVIDADES!D:G,MATCH(A43,ACTIVIDADES!G:G,0),1),$M$4)))","v":""},{"$f":"IF(A43=\"\",\"\",INDEX(ACTIVIDADES!D:I,MATCH(A43,ACTIVIDADES!G:G,0),4))","v":""},"",39]
[null,null,{"$f":"IF(B44=\"\",\"\",VLOOKUP(B44,'Otras referencias'!$A$32:$B$55,2,FALSE))","v":""},null,{"$f":"IF(A44=\"\",\"\",INDEX(ACTIVIDADES!G:L,MATCH(A44,ACTIVIDADES!G:G,0),5))","v":""},{"$f":"IF(A44=\"\",\"\",INDEX(ACTIVIDADES!G:P,MATCH(A44,ACTIVIDADES!G:G,0),8))","v":""},{"$f":"IF(A44=\"\",\"\",INDEX(ACTIVIDADES!D:G,MATCH(A44,ACTIVIDADES!G:G,0),1))","v":""},{"$f":"IF(A44=\"\",\"\",CONCATENATE(INDEX(ACTIVIDADES!D:G,MATCH(A44,ACTIVIDADES!G:G,0),1),$M$4))","v":""},{"$f":"IF(A44=\"\",\"\",IF(A44=A43,\"\",CONCATENATE(INDEX(ACTIVIDADES!D:G,MATCH(A44,ACTIVIDADES!G:G,0),1),$M$4)))","v":""},{"$f":"IF(A44=\"\",\"\",INDEX(ACTIVIDADES!D:I,MATCH(A44,ACTIVIDADES!G:G,0),4))","v":""},"",40]
[null,null,{"$f":"IF(B45=\"\",\"\",VLOOKUP(B45,'Otras referencias'!$A$32:$B$55,2,FALSE))","v":""},null,{"$f":"IF(A45=\"\",\"\",INDEX(ACTIVIDADES!G:L,MATCH(A45,ACTIVIDADES!G:G,0),5))","v":""},{"$f":"IF(A45=\"\",\"\",INDEX(ACTIVIDADES!G:P,MATCH(A45,ACTIVIDADES!G:G,0),8))","v":""},{"$f":"IF(A45=\"\",\"\",INDEX(ACTIVIDADES!D:G,MATCH(A45,ACTIVIDADES!G:G,0),1))","v":""},{"$f":"IF(A45=\"\",\"\",CONCATENATE(INDEX(ACTIVIDADES!D:G,MATCH(A45,ACTIVIDADES!G:G,0),1),$M$4))","v":""},{"$f":"IF(A45=\"\",\"\",IF(A45=A44,\"\",CONCATENATE(INDEX(ACTIVIDADES!D:G,MATCH(A45,ACTIVIDADES!G:G,0),1),$M$4)))","v":""},{"$f":"IF(A45=\"\",\"\",INDEX(ACTIVIDADES!D:I,MATCH(A45,ACTIVIDADES!G:G,0),4))","v":""},"",41]
[null,null,{"$f":"IF(B46=\"\",\"\",VLOOKUP(B46,'Otras referencias'!$A$32:$B$55,2,FALSE))","v":""},null,{"$f":"IF(A46=\"\",\"\",INDEX(ACTIVIDADES!G:L,MATCH(A46,ACTIVIDADES!G:G,0),5))","v":""},{"$f":"IF(A46=\"\",\"\",INDEX(ACTIVIDADES!G:P,MATCH(A46,ACTIVIDADES!G:G,0),8))","v":""},{"$f":"IF(A46=\"\",\"\",INDEX(ACTIVIDADES!D:G,MATCH(A46,ACTIVIDADES!G:G,0),1))","v":""},{"$f":"IF(A46=\"\",\"\",CONCATENATE(INDEX(ACTIVIDADES!D:G,MATCH(A46,ACTIVIDADES!G:G,0),1),$M$4))","v":""},{"$f":"IF(A46=\"\",\"\",IF(A46=A45,\"\",CONCATENATE(INDEX(ACTIVIDADES!D:G,MATCH(A46,ACTIVIDADES!G:G,0),1),$M$4)))","v":""},{"$f":"IF(A46=\"\",\"\",INDEX(ACTIVIDADES!D:I,MATCH(A46,ACTIVIDADES!G:G,0),4))","v":""},"",42]
[null,null,{"$f":"IF(B47=\"\",\"\",VLOOKUP(B47,'Otras referencias'!$A$32:$B$55,2,FALSE))","v":""},null,{"$f":"IF(A47=\"\",\"\",INDEX(ACTIVIDADES!G:L,MATCH(A47,ACTIVIDADES!G:G,0),5))","v":""},{"$f":"IF(A47=\"\",\"\",INDEX(ACTIVIDADES!G:P,MATCH(A47,ACTIVIDADES!G:G,0),8))","v":""},{"$f":"IF(A47=\"\",\"\",INDEX(ACTIVIDADES!D:G,MATCH(A47,ACTIVIDADES!G:G,0),1))","v":""},{"$f":"IF(A47=\"\",\"\",CONCATENATE(INDEX(ACTIVIDADES!D:G,MATCH(A47,ACTIVIDADES!G:G,0),1),$M$4))","v":""},{"$f":"IF(A47=\"\",\"\",IF(A47=A46,\"\",CONCATENATE(INDEX(ACTIVIDADES!D:G,MATCH(A47,ACTIVIDADES!G:G,0),1),$M$4)))","v":""},{"$f":"IF(A47=\"\",\"\",INDEX(ACTIVIDADES!D:I,MATCH(A47,ACTIVIDADES!G:G,0),4))","v":""},"",43]
[null,null,{"$f":"IF(B48=\"\",\"\",VLOOKUP(B48,'Otras referencias'!$A$32:$B$55,2,FALSE))","v":""},null,{"$f":"IF(A48=\"\",\"\",INDEX(ACTIVIDADES!G:L,MATCH(A48,ACTIVIDADES!G:G,0),5))","v":""},{"$f":"IF(A48=\"\",\"\",INDEX(ACTIVIDADES!G:P,MATCH(A48,ACTIVIDADES!G:G,0),8))","v":""},{"$f":"IF(A48=\"\",\"\",INDEX(ACTIVIDADES!D:G,MATCH(A48,ACTIVIDADES!G:G,0),1))","v":""},{"$f":"IF(A48=\"\",\"\",CONCATENATE(INDEX(ACTIVIDADES!D:G,MATCH(A48,ACTIVIDADES!G:G,0),1),$M$4))","v":""},{"$f":"IF(A48=\"\",\"\",IF(A48=A47,\"\",CONCATENATE(INDEX(ACTIVIDADES!D:G,MATCH(A48,ACTIVIDADES!G:G,0),1),$M$4)))","v":""},{"$f":"IF(A48=\"\",\"\",INDEX(ACTIVIDADES!D:I,MATCH(A48,ACTIVIDADES!G:G,0),4))","v":""},"",44]
[null,null,{"$f":"IF(B49=\"\",\"\",VLOOKUP(B49,'Otras referencias'!$A$32:$B$55,2,FALSE))","v":""},null,{"$f":"IF(A49=\"\",\"\",INDEX(ACTIVIDADES!G:L,MATCH(A49,ACTIVIDADES!G:G,0),5))","v":""},{"$f":"IF(A49=\"\",\"\",INDEX(ACTIVIDADES!G:P,MATCH(A49,ACTIVIDADES!G:G,0),8))","v":""},{"$f":"IF(A49=\"\",\"\",INDEX(ACTIVIDADES!D:G,MATCH(A49,ACTIVIDADES!G:G,0),1))","v":""},{"$f":"IF(A49=\"\",\"\",CONCATENATE(INDEX(ACTIVIDADES!D:G,MATCH(A49,ACTIVIDADES!G:G,0),1),$M$4))","v":""},{"$f":"IF(A49=\"\",\"\",IF(A49=A48,\"\",CONCATENATE(INDEX(ACTIVIDADES!D:G,MATCH(A49,ACTIVIDADES!G:G,0),1),$M$4)))","v":""},{"$f":"IF(A49=\"\",\"\",INDEX(ACTIVIDADES!D:I,MATCH(A49,ACTIVIDADES!G:G,0),4))","v":""},"",45]
[null,null,{"$f":"IF(B50=\"\",\"\",VLOOKUP(B50,'Otras referencias'!$A$32:$B$55,2,FALSE))","v":""},null,{"$f":"IF(A50=\"\",\"\",INDEX(ACTIVIDADES!G:L,MATCH(A50,ACTIVIDADES!G:G,0),5))","v":""},{"$f":"IF(A50=\"\",\"\",INDEX(ACTIVIDADES!G:P,MATCH(A50,ACTIVIDADES!G:G,0),8))","v":""},{"$f":"IF(A50=\"\",\"\",INDEX(ACTIVIDADES!D:G,MATCH(A50,ACTIVIDADES!G:G,0),1))","v":""},{"$f":"IF(A50=\"\",\"\",CONCATENATE(INDEX(ACTIVIDADES!D:G,MATCH(A50,ACTIVIDADES!G:G,0),1),$M$4))","v":""},{"$f":"IF(A50=\"\",\"\",IF(A50=A49,\"\",CONCATENATE(INDEX(ACTIVIDADES!D:G,MATCH(A50,ACTIVIDADES!G:G,0),1),$M$4)))","v":""},{"$f":"IF(A50=\"\",\"\",INDEX(ACTIVIDADES!D:I,MATCH(A50,ACTIVIDADES!G:G,0),4))","v":""},"",46]
[null,null,{"$f":"IF(B51=\"\",\"\",VLOOKUP(B51,'Otras referencias'!$A$32:$B$55,2,FALSE))","v":""},null,{"$f":"IF(A51=\"\",\"\",INDEX(ACTIVIDADES!G:L,MATCH(A51,ACTIVIDADES!G:G,0),5))","v":""},{"$f":"IF(A51=\"\",\"\",INDEX(ACTIVIDADES!G:P,MATCH(A51,ACTIVIDADES!G:G,0),8))","v":""},{"$f":"IF(A51=\"\",\"\",INDEX(ACTIVIDADES!D:G,MATCH(A51,ACTIVIDADES!G:G,0),1))","v":""},{"$f":"IF(A51=\"\",\"\",CONCATENATE(INDEX(ACTIVIDADES!D:G,MATCH(A51,ACTIVIDADES!G:G,0),1),$M$4))","v":""},{"$f":"IF(A51=\"\",\"\",IF(A51=A50,\"\",CONCATENATE(INDEX(ACTIVIDADES!D:G,MATCH(A51,ACTIVIDADES!G:G,0),1),$M$4)))","v":""},{"$f":"IF(A51=\"\",\"\",INDEX(ACTIVIDADES!D:I,MATCH(A51,ACTIVIDADES!G:G,0),4))","v":""},"",47]
[null,null,{"$f":"IF(B52=\"\",\"\",VLOOKUP(B52,'Otras referencias'!$A$32:$B$55,2,FALSE))","v":""},null,{"$f":"IF(A52=\"\",\"\",INDEX(ACTIVIDADES!G:L,MATCH(A52,ACTIVIDADES!G:G,0),5))","v":""},{"$f":"IF(A52=\"\",\"\",INDEX(ACTIVIDADES!G:P,MATCH(A52,ACTIVIDADES!G:G,0),8))","v":""},{"$f":"IF(A52=\"\",\"\",INDEX(ACTIVIDADES!D:G,MATCH(A52,ACTIVIDADES!G:G,0),1))","v":""},{"$f":"IF(A52=\"\",\"\",CONCATENATE(INDEX(ACTIVIDADES!D:G,MATCH(A52,ACTIVIDADES!G:G,0),1),$M$4))","v":""},{"$f":"IF(A52=\"\",\"\",IF(A52=A51,\"\",CONCATENATE(INDEX(ACTIVIDADES!D:G,MATCH(A52,ACTIVIDADES!G:G,0),1),$M$4)))","v":""},{"$f":"IF(A52=\"\",\"\",INDEX(ACTIVIDADES!D:I,MATCH(A52,ACTIVIDADES!G:G,0),4))","v":""},"",48]
[null,null,{"$f":"IF(B53=\"\",\"\",VLOOKUP(B53,'Otras referencias'!$A$32:$B$55,2,FALSE))","v":""},null,{"$f":"IF(A53=\"\",\"\",INDEX(ACTIVIDADES!G:L,MATCH(A53,ACTIVIDADES!G:G,0),5))","v":""},{"$f":"IF(A53=\"\",\"\",INDEX(ACTIVIDADES!G:P,MATCH(A53,ACTIVIDADES!G:G,0),8))","v":""},{"$f":"IF(A53=\"\",\"\",INDEX(ACTIVIDADES!D:G,MATCH(A53,ACTIVIDADES!G:G,0),1))","v":""},{"$f":"IF(A53=\"\",\"\",CONCATENATE(INDEX(ACTIVIDADES!D:G,MATCH(A53,ACTIVIDADES!G:G,0),1),$M$4))","v":""},{"$f":"IF(A53=\"\",\"\",IF(A53=A52,\"\",CONCATENATE(INDEX(ACTIVIDADES!D:G,MATCH(A53,ACTIVIDADES!G:G,0),1),$M$4)))","v":""},{"$f":"IF(A53=\"\",\"\",INDEX(ACTIVIDADES!D:I,MATCH(A53,ACTIVIDADES!G:G,0),4))","v":""},"",49]
[null,null,{"$f":"IF(B54=\"\",\"\",VLOOKUP(B54,'Otras referencias'!$A$32:$B$55,2,FALSE))","v":""},null,{"$f":"IF(A54=\"\",\"\",INDEX(ACTIVIDADES!G:L,MATCH(A54,ACTIVIDADES!G:G,0),5))","v":""},{"$f":"IF(A54=\"\",\"\",INDEX(ACTIVIDADES!G:P,MATCH(A54,ACTIVIDADES!G:G,0),8))","v":""},{"$f":"IF(A54=\"\",\"\",INDEX(ACTIVIDADES!D:G,MATCH(A54,ACTIVIDADES!G:G,0),1))","v":""},{"$f":"IF(A54=\"\",\"\",CONCATENATE(INDEX(ACTIVIDADES!D:G,MATCH(A54,ACTIVIDADES!G:G,0),1),$M$4))","v":""},{"$f":"IF(A54=\"\",\"\",IF(A54=A53,\"\",CONCATENATE(INDEX(ACTIVIDADES!D:G,MATCH(A54,ACTIVIDADES!G:G,0),1),$M$4)))","v":""},{"$f":"IF(A54=\"\",\"\",INDEX(ACTIVIDADES!D:I,MATCH(A54,ACTIVIDADES!G:G,0),4))","v":""},"",50]
[null,null,{"$f":"IF(B55=\"\",\"\",VLOOKUP(B55,'Otras referencias'!$A$32:$B$55,2,FALSE))","v":""},null,{"$f":"IF(A55=\"\",\"\",INDEX(ACTIVIDADES!G:L,MATCH(A55,ACTIVIDADES!G:G,0),5))","v":""},{"$f":"IF(A55=\"\",\"\",INDEX(ACTIVIDADES!G:P,MATCH(A55,ACTIVIDADES!G:G,0),8))","v":""},{"$f":"IF(A55=\"\",\"\",INDEX(ACTIVIDADES!D:G,MATCH(A55,ACTIVIDADES!G:G,0),1))","v":""},{"$f":"IF(A55=\"\",\"\",CONCATENATE(INDEX(ACTIVIDADES!D:G,MATCH(A55,ACTIVIDADES!G:G,0),1),$M$4))","v":""},{"$f":"IF(A55=\"\",\"\",IF(A55=A54,\"\",CONCATENATE(INDEX(ACTIVIDADES!D:G,MATCH(A55,ACTIVIDADES!G:G,0),1),$M$4)))","v":""},{"$f":"IF(A55=\"\",\"\",INDEX(ACTIVIDADES!D:I,MATCH(A55,ACTIVIDADES!G:G,0),4))","v":""},"",51]
[null,null,{"$f":"IF(B56=\"\",\"\",VLOOKUP(B56,'Otras referencias'!$A$32:$B$55,2,FALSE))","v":""},null,{"$f":"IF(A56=\"\",\"\",INDEX(ACTIVIDADES!G:L,MATCH(A56,ACTIVIDADES!G:G,0),5))","v":""},{"$f":"IF(A56=\"\",\"\",INDEX(ACTIVIDADES!G:P,MATCH(A56,ACTIVIDADES!G:G,0),8))","v":""},{"$f":"IF(A56=\"\",\"\",INDEX(ACTIVIDADES!D:G,MATCH(A56,ACTIVIDADES!G:G,0),1))","v":""},{"$f":"IF(A56=\"\",\"\",CONCATENATE(INDEX(ACTIVIDADES!D:G,MATCH(A56,ACTIVIDADES!G:G,0),1),$M$4))","v":""},{"$f":"IF(A56=\"\",\"\",IF(A56=A55,\"\",CONCATENATE(INDEX(ACTIVIDADES!D:G,MATCH(A56,ACTIVIDADES!G:G,0),1),$M$4)))","v":""},{"$f":"IF(A56=\"\",\"\",INDEX(ACTIVIDADES!D:I,MATCH(A56,ACTIVIDADES!G:G,0),4))","v":""},"",52]
[null,null,{"$f":"IF(B57=\"\",\"\",VLOOKUP(B57,'Otras referencias'!$A$32:$B$55,2,FALSE))","v":""},null,{"$f":"IF(A57=\"\",\"\",INDEX(ACTIVIDADES!G:L,MATCH(A57,ACTIVIDADES!G:G,0),5))","v":""},{"$f":"IF(A57=\"\",\"\",INDEX(ACTIVIDADES!G:P,MATCH(A57,ACTIVIDADES!G:G,0),8))","v":""},{"$f":"IF(A57=\"\",\"\",INDEX(ACTIVIDADES!D:G,MATCH(A57,ACTIVIDADES!G:G,0),1))","v":""},{"$f":"IF(A57=\"\",\"\",CONCATENATE(INDEX(ACTIVIDADES!D:G,MATCH(A57,ACTIVIDADES!G:G,0),1),$M$4))","v":""},{"$f":"IF(A57=\"\",\"\",IF(A57=A56,\"\",CONCATENATE(INDEX(ACTIVIDADES!D:G,MATCH(A57,ACTIVIDADES!G:G,0),1),$M$4)))","v":""},{"$f":"IF(A57=\"\",\"\",INDEX(ACTIVIDADES!D:I,MATCH(A57,ACTIVIDADES!G:G,0),4))","v":""},"",53]
[null,null,{"$f":"IF(B58=\"\",\"\",VLOOKUP(B58,'Otras referencias'!$A$32:$B$55,2,FALSE))","v":""},null,{"$f":"IF(A58=\"\",\"\",INDEX(ACTIVIDADES!G:L,MATCH(A58,ACTIVIDADES!G:G,0),5))","v":""},{"$f":"IF(A58=\"\",\"\",INDEX(ACTIVIDADES!G:P,MATCH(A58,ACTIVIDADES!G:G,0),8))","v":""},{"$f":"IF(A58=\"\",\"\",INDEX(ACTIVIDADES!D:G,MATCH(A58,ACTIVIDADES!G:G,0),1))","v":""},{"$f":"IF(A58=\"\",\"\",CONCATENATE(INDEX(ACTIVIDADES!D:G,MATCH(A58,ACTIVIDADES!G:G,0),1),$M$4))","v":""},{"$f":"IF(A58=\"\",\"\",IF(A58=A57,\"\",CONCATENATE(INDEX(ACTIVIDADES!D:G,MATCH(A58,ACTIVIDADES!G:G,0),1),$M$4)))","v":""},{"$f":"IF(A58=\"\",\"\",INDEX(ACTIVIDADES!D:I,MATCH(A58,ACTIVIDADES!G:G,0),4))","v":""},"",54]
[null,null,{"$f":"IF(B59=\"\",\"\",VLOOKUP(B59,'Otras referencias'!$A$32:$B$55,2,FALSE))","v":""},null,{"$f":"IF(A59=\"\",\"\",INDEX(ACTIVIDADES!G:L,MATCH(A59,ACTIVIDADES!G:G,0),5))","v":""},{"$f":"IF(A59=\"\",\"\",INDEX(ACTIVIDADES!G:P,MATCH(A59,ACTIVIDADES!G:G,0),8))","v":""},{"$f":"IF(A59=\"\",\"\",INDEX(ACTIVIDADES!D:G,MATCH(A59,ACTIVIDADES!G:G,0),1))","v":""},{"$f":"IF(A59=\"\",\"\",CONCATENATE(INDEX(ACTIVIDADES!D:G,MATCH(A59,ACTIVIDADES!G:G,0),1),$M$4))","v":""},{"$f":"IF(A59=\"\",\"\",IF(A59=A58,\"\",CONCATENATE(INDEX(ACTIVIDADES!D:G,MATCH(A59,ACTIVIDADES!G:G,0),1),$M$4)))","v":""},{"$f":"IF(A59=\"\",\"\",INDEX(ACTIVIDADES!D:I,MATCH(A59,ACTIVIDADES!G:G,0),4))","v":""},"",55]
[null,null,{"$f":"IF(B60=\"\",\"\",VLOOKUP(B60,'Otras referencias'!$A$32:$B$55,2,FALSE))","v":""},null,{"$f":"IF(A60=\"\",\"\",INDEX(ACTIVIDADES!G:L,MATCH(A60,ACTIVIDADES!G:G,0),5))","v":""},{"$f":"IF(A60=\"\",\"\",INDEX(ACTIVIDADES!G:P,MATCH(A60,ACTIVIDADES!G:G,0),8))","v":""},{"$f":"IF(A60=\"\",\"\",INDEX(ACTIVIDADES!D:G,MATCH(A60,ACTIVIDADES!G:G,0),1))","v":""},{"$f":"IF(A60=\"\",\"\",CONCATENATE(INDEX(ACTIVIDADES!D:G,MATCH(A60,ACTIVIDADES!G:G,0),1),$M$4))","v":""},{"$f":"IF(A60=\"\",\"\",IF(A60=A59,\"\",CONCATENATE(INDEX(ACTIVIDADES!D:G,MATCH(A60,ACTIVIDADES!G:G,0),1),$M$4)))","v":""},{"$f":"IF(A60=\"\",\"\",INDEX(ACTIVIDADES!D:I,MATCH(A60,ACTIVIDADES!G:G,0),4))","v":""},"",56]
[null,null,{"$f":"IF(B61=\"\",\"\",VLOOKUP(B61,'Otras referencias'!$A$32:$B$55,2,FALSE))","v":""},null,{"$f":"IF(A61=\"\",\"\",INDEX(ACTIVIDADES!G:L,MATCH(A61,ACTIVIDADES!G:G,0),5))","v":""},{"$f":"IF(A61=\"\",\"\",INDEX(ACTIVIDADES!G:P,MATCH(A61,ACTIVIDADES!G:G,0),8))","v":""},{"$f":"IF(A61=\"\",\"\",INDEX(ACTIVIDADES!D:G,MATCH(A61,ACTIVIDADES!G:G,0),1))","v":""},{"$f":"IF(A61=\"\",\"\",CONCATENATE(INDEX(ACTIVIDADES!D:G,MATCH(A61,ACTIVIDADES!G:G,0),1),$M$4))","v":""},{"$f":"IF(A61=\"\",\"\",IF(A61=A60,\"\",CONCATENATE(INDEX(ACTIVIDADES!D:G,MATCH(A61,ACTIVIDADES!G:G,0),1),$M$4)))","v":""},{"$f":"IF(A61=\"\",\"\",INDEX(ACTIVIDADES!D:I,MATCH(A61,ACTIVIDADES!G:G,0),4))","v":""},"",57]
[null,null,{"$f":"IF(B62=\"\",\"\",VLOOKUP(B62,'Otras referencias'!$A$32:$B$55,2,FALSE))","v":""},null,{"$f":"IF(A62=\"\",\"\",INDEX(ACTIVIDADES!G:L,MATCH(A62,ACTIVIDADES!G:G,0),5))","v":""},{"$f":"IF(A62=\"\",\"\",INDEX(ACTIVIDADES!G:P,MATCH(A62,ACTIVIDADES!G:G,0),8))","v":""},{"$f":"IF(A62=\"\",\"\",INDEX(ACTIVIDADES!D:G,MATCH(A62,ACTIVIDADES!G:G,0),1))","v":""},{"$f":"IF(A62=\"\",\"\",CONCATENATE(INDEX(ACTIVIDADES!D:G,MATCH(A62,ACTIVIDADES!G:G,0),1),$M$4))","v":""},{"$f":"IF(A62=\"\",\"\",IF(A62=A61,\"\",CONCATENATE(INDEX(ACTIVIDADES!D:G,MATCH(A62,ACTIVIDADES!G:G,0),1),$M$4)))","v":""},{"$f":"IF(A62=\"\",\"\",INDEX(ACTIVIDADES!D:I,MATCH(A62,ACTIVIDADES!G:G,0),4))","v":""},"",58]
[null,null,{"$f":"IF(B63=\"\",\"\",VLOOKUP(B63,'Otras referencias'!$A$32:$B$55,2,FALSE))","v":""},null,{"$f":"IF(A63=\"\",\"\",INDEX(ACTIVIDADES!G:L,MATCH(A63,ACTIVIDADES!G:G,0),5))","v":""},{"$f":"IF(A63=\"\",\"\",INDEX(ACTIVIDADES!G:P,MATCH(A63,ACTIVIDADES!G:G,0),8))","v":""},{"$f":"IF(A63=\"\",\"\",INDEX(ACTIVIDADES!D:G,MATCH(A63,ACTIVIDADES!G:G,0),1))","v":""},{"$f":"IF(A63=\"\",\"\",CONCATENATE(INDEX(ACTIVIDADES!D:G,MATCH(A63,ACTIVIDADES!G:G,0),1),$M$4))","v":""},{"$f":"IF(A63=\"\",\"\",IF(A63=A62,\"\",CONCATENATE(INDEX(ACTIVIDADES!D:G,MATCH(A63,ACTIVIDADES!G:G,0),1),$M$4)))","v":""},{"$f":"IF(A63=\"\",\"\",INDEX(ACTIVIDADES!D:I,MATCH(A63,ACTIVIDADES!G:G,0),4))","v":""},"",59]
[null,null,{"$f":"IF(B64=\"\",\"\",VLOOKUP(B64,'Otras referencias'!$A$32:$B$55,2,FALSE))","v":""},null,{"$f":"IF(A64=\"\",\"\",INDEX(ACTIVIDADES!G:L,MATCH(A64,ACTIVIDADES!G:G,0),5))","v":""},{"$f":"IF(A64=\"\",\"\",INDEX(ACTIVIDADES!G:P,MATCH(A64,ACTIVIDADES!G:G,0),8))","v":""},{"$f":"IF(A64=\"\",\"\",INDEX(ACTIVIDADES!D:G,MATCH(A64,ACTIVIDADES!G:G,0),1))","v":""},{"$f":"IF(A64=\"\",\"\",CONCATENATE(INDEX(ACTIVIDADES!D:G,MATCH(A64,ACTIVIDADES!G:G,0),1),$M$4))","v":""},{"$f":"IF(A64=\"\",\"\",IF(A64=A63,\"\",CONCATENATE(INDEX(ACTIVIDADES!D:G,MATCH(A64,ACTIVIDADES!G:G,0),1),$M$4)))","v":""},{"$f":"IF(A64=\"\",\"\",INDEX(ACTIVIDADES!D:I,MATCH(A64,ACTIVIDADES!G:G,0),4))","v":""},"",60]
[null,null,{"$f":"IF(B65=\"\",\"\",VLOOKUP(B65,'Otras referencias'!$A$32:$B$55,2,FALSE))","v":""},null,{"$f":"IF(A65=\"\",\"\",INDEX(ACTIVIDADES!G:L,MATCH(A65,ACTIVIDADES!G:G,0),5))","v":""},{"$f":"IF(A65=\"\",\"\",INDEX(ACTIVIDADES!G:P,MATCH(A65,ACTIVIDADES!G:G,0),8))","v":""},{"$f":"IF(A65=\"\",\"\",INDEX(ACTIVIDADES!D:G,MATCH(A65,ACTIVIDADES!G:G,0),1))","v":""},{"$f":"IF(A65=\"\",\"\",CONCATENATE(INDEX(ACTIVIDADES!D:G,MATCH(A65,ACTIVIDADES!G:G,0),1),$M$4))","v":""},{"$f":"IF(A65=\"\",\"\",IF(A65=A64,\"\",CONCATENATE(INDEX(ACTIVIDADES!D:G,MATCH(A65,ACTIVIDADES!G:G,0),1),$M$4)))","v":""},{"$f":"IF(A65=\"\",\"\",INDEX(ACTIVIDADES!D:I,MATCH(A65,ACTIVIDADES!G:G,0),4))","v":""},"",61]
[null,null,{"$f":"IF(B66=\"\",\"\",VLOOKUP(B66,'Otras referencias'!$A$32:$B$55,2,FALSE))","v":""},null,{"$f":"IF(A66=\"\",\"\",INDEX(ACTIVIDADES!G:L,MATCH(A66,ACTIVIDADES!G:G,0),5))","v":""},{"$f":"IF(A66=\"\",\"\",INDEX(ACTIVIDADES!G:P,MATCH(A66,ACTIVIDADES!G:G,0),8))","v":""},{"$f":"IF(A66=\"\",\"\",INDEX(ACTIVIDADES!D:G,MATCH(A66,ACTIVIDADES!G:G,0),1))","v":""},{"$f":"IF(A66=\"\",\"\",CONCATENATE(INDEX(ACTIVIDADES!D:G,MATCH(A66,ACTIVIDADES!G:G,0),1),$M$4))","v":""},{"$f":"IF(A66=\"\",\"\",IF(A66=A65,\"\",CONCATENATE(INDEX(ACTIVIDADES!D:G,MATCH(A66,ACTIVIDADES!G:G,0),1),$M$4)))","v":""},{"$f":"IF(A66=\"\",\"\",INDEX(ACTIVIDADES!D:I,MATCH(A66,ACTIVIDADES!G:G,0),4))","v":""},"",62]
[null,null,{"$f":"IF(B67=\"\",\"\",VLOOKUP(B67,'Otras referencias'!$A$32:$B$55,2,FALSE))","v":""},null,{"$f":"IF(A67=\"\",\"\",INDEX(ACTIVIDADES!G:L,MATCH(A67,ACTIVIDADES!G:G,0),5))","v":""},{"$f":"IF(A67=\"\",\"\",INDEX(ACTIVIDADES!G:P,MATCH(A67,ACTIVIDADES!G:G,0),8))","v":""},{"$f":"IF(A67=\"\",\"\",INDEX(ACTIVIDADES!D:G,MATCH(A67,ACTIVIDADES!G:G,0),1))","v":""},{"$f":"IF(A67=\"\",\"\",CONCATENATE(INDEX(ACTIVIDADES!D:G,MATCH(A67,ACTIVIDADES!G:G,0),1),$M$4))","v":""},{"$f":"IF(A67=\"\",\"\",IF(A67=A66,\"\",CONCATENATE(INDEX(ACTIVIDADES!D:G,MATCH(A67,ACTIVIDADES!G:G,0),1),$M$4)))","v":""},{"$f":"IF(A67=\"\",\"\",INDEX(ACTIVIDADES!D:I,MATCH(A67,ACTIVIDADES!G:G,0),4))","v":""},"",63]
[null,null,{"$f":"IF(B68=\"\",\"\",VLOOKUP(B68,'Otras referencias'!$A$32:$B$55,2,FALSE))","v":""},null,{"$f":"IF(A68=\"\",\"\",INDEX(ACTIVIDADES!G:L,MATCH(A68,ACTIVIDADES!G:G,0),5))","v":""},{"$f":"IF(A68=\"\",\"\",INDEX(ACTIVIDADES!G:P,MATCH(A68,ACTIVIDADES!G:G,0),8))","v":""},{"$f":"IF(A68=\"\",\"\",INDEX(ACTIVIDADES!D:G,MATCH(A68,ACTIVIDADES!G:G,0),1))","v":""},{"$f":"IF(A68=\"\",\"\",CONCATENATE(INDEX(ACTIVIDADES!D:G,MATCH(A68,ACTIVIDADES!G:G,0),1),$M$4))","v":""},{"$f":"IF(A68=\"\",\"\",IF(A68=A67,\"\",CONCATENATE(INDEX(ACTIVIDADES!D:G,MATCH(A68,ACTIVIDADES!G:G,0),1),$M$4)))","v":""},{"$f":"IF(A68=\"\",\"\",INDEX(ACTIVIDADES!D:I,MATCH(A68,ACTIVIDADES!G:G,0),4))","v":""},"",64]
[null,null,{"$f":"IF(B69=\"\",\"\",VLOOKUP(B69,'Otras referencias'!$A$32:$B$55,2,FALSE))","v":""},null,{"$f":"IF(A69=\"\",\"\",INDEX(ACTIVIDADES!G:L,MATCH(A69,ACTIVIDADES!G:G,0),5))","v":""},{"$f":"IF(A69=\"\",\"\",INDEX(ACTIVIDADES!G:P,MATCH(A69,ACTIVIDADES!G:G,0),8))","v":""},{"$f":"IF(A69=\"\",\"\",INDEX(ACTIVIDADES!D:G,MATCH(A69,ACTIVIDADES!G:G,0),1))","v":""},{"$f":"IF(A69=\"\",\"\",CONCATENATE(INDEX(ACTIVIDADES!D:G,MATCH(A69,ACTIVIDADES!G:G,0),1),$M$4))","v":""},{"$f":"IF(A69=\"\",\"\",IF(A69=A68,\"\",CONCATENATE(INDEX(ACTIVIDADES!D:G,MATCH(A69,ACTIVIDADES!G:G,0),1),$M$4)))","v":""},{"$f":"IF(A69=\"\",\"\",INDEX(ACTIVIDADES!D:I,MATCH(A69,ACTIVIDADES!G:G,0),4))","v":""},{"$f":"IF(A69=\"\",\"\",CONCATENATE(G69,L69))","v":""},65]
[null,null,{"$f":"IF(B70=\"\",\"\",VLOOKUP(B70,'Otras referencias'!$A$32:$B$55,2,FALSE))","v":""},null,{"$f":"IF(A70=\"\",\"\",INDEX(ACTIVIDADES!G:L,MATCH(A70,ACTIVIDADES!G:G,0),5))","v":""},{"$f":"IF(A70=\"\",\"\",INDEX(ACTIVIDADES!G:P,MATCH(A70,ACTIVIDADES!G:G,0),8))","v":""},{"$f":"IF(A70=\"\",\"\",INDEX(ACTIVIDADES!D:G,MATCH(A70,ACTIVIDADES!G:G,0),1))","v":""},{"$f":"IF(A70=\"\",\"\",CONCATENATE(INDEX(ACTIVIDADES!D:G,MATCH(A70,ACTIVIDADES!G:G,0),1),$M$4))","v":""},{"$f":"IF(A70=\"\",\"\",IF(A70=A69,\"\",CONCATENATE(INDEX(ACTIVIDADES!D:G,MATCH(A70,ACTIVIDADES!G:G,0),1),$M$4)))","v":""},{"$f":"IF(A70=\"\",\"\",INDEX(ACTIVIDADES!D:I,MATCH(A70,ACTIVIDADES!G:G,0),4))","v":""},"",66]
[null,null,{"$f":"IF(B71=\"\",\"\",VLOOKUP(B71,'Otras referencias'!$A$32:$B$55,2,FALSE))","v":""},null,{"$f":"IF(A71=\"\",\"\",INDEX(ACTIVIDADES!G:L,MATCH(A71,ACTIVIDADES!G:G,0),5))","v":""},{"$f":"IF(A71=\"\",\"\",INDEX(ACTIVIDADES!G:P,MATCH(A71,ACTIVIDADES!G:G,0),8))","v":""},{"$f":"IF(A71=\"\",\"\",INDEX(ACTIVIDADES!D:G,MATCH(A71,ACTIVIDADES!G:G,0),1))","v":""},{"$f":"IF(A71=\"\",\"\",CONCATENATE(INDEX(ACTIVIDADES!D:G,MATCH(A71,ACTIVIDADES!G:G,0),1),$M$4))","v":""},{"$f":"IF(A71=\"\",\"\",IF(A71=A70,\"\",CONCATENATE(INDEX(ACTIVIDADES!D:G,MATCH(A71,ACTIVIDADES!G:G,0),1),$M$4)))","v":""},{"$f":"IF(A71=\"\",\"\",INDEX(ACTIVIDADES!D:I,MATCH(A71,ACTIVIDADES!G:G,0),4))","v":""},"",67]
[null,null,{"$f":"IF(B72=\"\",\"\",VLOOKUP(B72,'Otras referencias'!$A$32:$B$55,2,FALSE))","v":""},null,{"$f":"IF(A72=\"\",\"\",INDEX(ACTIVIDADES!G:L,MATCH(A72,ACTIVIDADES!G:G,0),5))","v":""},{"$f":"IF(A72=\"\",\"\",INDEX(ACTIVIDADES!G:P,MATCH(A72,ACTIVIDADES!G:G,0),8))","v":""},{"$f":"IF(A72=\"\",\"\",INDEX(ACTIVIDADES!D:G,MATCH(A72,ACTIVIDADES!G:G,0),1))","v":""},{"$f":"IF(A72=\"\",\"\",CONCATENATE(INDEX(ACTIVIDADES!D:G,MATCH(A72,ACTIVIDADES!G:G,0),1),$M$4))","v":""},{"$f":"IF(A72=\"\",\"\",IF(A72=A71,\"\",CONCATENATE(INDEX(ACTIVIDADES!D:G,MATCH(A72,ACTIVIDADES!G:G,0),1),$M$4)))","v":""},{"$f":"IF(A72=\"\",\"\",INDEX(ACTIVIDADES!D:I,MATCH(A72,ACTIVIDADES!G:G,0),4))","v":""},"",68]
[null,null,{"$f":"IF(B73=\"\",\"\",VLOOKUP(B73,'Otras referencias'!$A$32:$B$55,2,FALSE))","v":""},null,{"$f":"IF(A73=\"\",\"\",INDEX(ACTIVIDADES!G:L,MATCH(A73,ACTIVIDADES!G:G,0),5))","v":""},{"$f":"IF(A73=\"\",\"\",INDEX(ACTIVIDADES!G:P,MATCH(A73,ACTIVIDADES!G:G,0),8))","v":""},{"$f":"IF(A73=\"\",\"\",INDEX(ACTIVIDADES!D:G,MATCH(A73,ACTIVIDADES!G:G,0),1))","v":""},{"$f":"IF(A73=\"\",\"\",CONCATENATE(INDEX(ACTIVIDADES!D:G,MATCH(A73,ACTIVIDADES!G:G,0),1),$M$4))","v":""},{"$f":"IF(A73=\"\",\"\",IF(A73=A72,\"\",CONCATENATE(INDEX(ACTIVIDADES!D:G,MATCH(A73,ACTIVIDADES!G:G,0),1),$M$4)))","v":""},{"$f":"IF(A73=\"\",\"\",INDEX(ACTIVIDADES!D:I,MATCH(A73,ACTIVIDADES!G:G,0),4))","v":""},"",69]
[null,null,{"$f":"IF(B74=\"\",\"\",VLOOKUP(B74,'Otras referencias'!$A$32:$B$55,2,FALSE))","v":""},null,{"$f":"IF(A74=\"\",\"\",INDEX(ACTIVIDADES!G:L,MATCH(A74,ACTIVIDADES!G:G,0),5))","v":""},{"$f":"IF(A74=\"\",\"\",INDEX(ACTIVIDADES!G:P,MATCH(A74,ACTIVIDADES!G:G,0),8))","v":""},{"$f":"IF(A74=\"\",\"\",INDEX(ACTIVIDADES!D:G,MATCH(A74,ACTIVIDADES!G:G,0),1))","v":""},{"$f":"IF(A74=\"\",\"\",CONCATENATE(INDEX(ACTIVIDADES!D:G,MATCH(A74,ACTIVIDADES!G:G,0),1),$M$4))","v":""},{"$f":"IF(A74=\"\",\"\",IF(A74=A73,\"\",CONCATENATE(INDEX(ACTIVIDADES!D:G,MATCH(A74,ACTIVIDADES!G:G,0),1),$M$4)))","v":""},{"$f":"IF(A74=\"\",\"\",INDEX(ACTIVIDADES!D:I,MATCH(A74,ACTIVIDADES!G:G,0),4))","v":""},"",70]
[null,null,{"$f":"IF(B75=\"\",\"\",VLOOKUP(B75,'Otras referencias'!$A$32:$B$55,2,FALSE))","v":""},null,{"$f":"IF(A75=\"\",\"\",INDEX(ACTIVIDADES!G:L,MATCH(A75,ACTIVIDADES!G:G,0),5))","v":""},{"$f":"IF(A75=\"\",\"\",INDEX(ACTIVIDADES!G:P,MATCH(A75,ACTIVIDADES!G:G,0),8))","v":""},{"$f":"IF(A75=\"\",\"\",INDEX(ACTIVIDADES!D:G,MATCH(A75,ACTIVIDADES!G:G,0),1))","v":""},{"$f":"IF(A75=\"\",\"\",CONCATENATE(INDEX(ACTIVIDADES!D:G,MATCH(A75,ACTIVIDADES!G:G,0),1),$M$4))","v":""},{"$f":"IF(A75=\"\",\"\",IF(A75=A74,\"\",CONCATENATE(INDEX(ACTIVIDADES!D:G,MATCH(A75,ACTIVIDADES!G:G,0),1),$M$4)))","v":""},{"$f":"IF(A75=\"\",\"\",INDEX(ACTIVIDADES!D:I,MATCH(A75,ACTIVIDADES!G:G,0),4))","v":""},"",71]
[null,null,{"$f":"IF(B76=\"\",\"\",VLOOKUP(B76,'Otras referencias'!$A$32:$B$55,2,FALSE))","v":""},null,{"$f":"IF(A76=\"\",\"\",INDEX(ACTIVIDADES!G:L,MATCH(A76,ACTIVIDADES!G:G,0),5))","v":""},{"$f":"IF(A76=\"\",\"\",INDEX(ACTIVIDADES!G:P,MATCH(A76,ACTIVIDADES!G:G,0),8))","v":""},{"$f":"IF(A76=\"\",\"\",INDEX(ACTIVIDADES!D:G,MATCH(A76,ACTIVIDADES!G:G,0),1))","v":""},{"$f":"IF(A76=\"\",\"\",CONCATENATE(INDEX(ACTIVIDADES!D:G,MATCH(A76,ACTIVIDADES!G:G,0),1),$M$4))","v":""},{"$f":"IF(A76=\"\",\"\",IF(A76=A75,\"\",CONCATENATE(INDEX(ACTIVIDADES!D:G,MATCH(A76,ACTIVIDADES!G:G,0),1),$M$4)))","v":""},{"$f":"IF(A76=\"\",\"\",INDEX(ACTIVIDADES!D:I,MATCH(A76,ACTIVIDADES!G:G,0),4))","v":""},"",72]
[null,null,{"$f":"IF(B77=\"\",\"\",VLOOKUP(B77,'Otras referencias'!$A$32:$B$55,2,FALSE))","v":""},null,{"$f":"IF(A77=\"\",\"\",INDEX(ACTIVIDADES!G:L,MATCH(A77,ACTIVIDADES!G:G,0),5))","v":""},{"$f":"IF(A77=\"\",\"\",INDEX(ACTIVIDADES!G:P,MATCH(A77,ACTIVIDADES!G:G,0),8))","v":""},{"$f":"IF(A77=\"\",\"\",INDEX(ACTIVIDADES!D:G,MATCH(A77,ACTIVIDADES!G:G,0),1))","v":""},{"$f":"IF(A77=\"\",\"\",CONCATENATE(INDEX(ACTIVIDADES!D:G,MATCH(A77,ACTIVIDADES!G:G,0),1),$M$4))","v":""},{"$f":"IF(A77=\"\",\"\",IF(A77=A76,\"\",CONCATENATE(INDEX(ACTIVIDADES!D:G,MATCH(A77,ACTIVIDADES!G:G,0),1),$M$4)))","v":""},{"$f":"IF(A77=\"\",\"\",INDEX(ACTIVIDADES!D:I,MATCH(A77,ACTIVIDADES!G:G,0),4))","v":""},"",73]
[null,null,{"$f":"IF(B78=\"\",\"\",VLOOKUP(B78,'Otras referencias'!$A$32:$B$55,2,FALSE))","v":""},null,{"$f":"IF(A78=\"\",\"\",INDEX(ACTIVIDADES!G:L,MATCH(A78,ACTIVIDADES!G:G,0),5))","v":""},{"$f":"IF(A78=\"\",\"\",INDEX(ACTIVIDADES!G:P,MATCH(A78,ACTIVIDADES!G:G,0),8))","v":""},{"$f":"IF(A78=\"\",\"\",INDEX(ACTIVIDADES!D:G,MATCH(A78,ACTIVIDADES!G:G,0),1))","v":""},{"$f":"IF(A78=\"\",\"\",CONCATENATE(INDEX(ACTIVIDADES!D:G,MATCH(A78,ACTIVIDADES!G:G,0),1),$M$4))","v":""},{"$f":"IF(A78=\"\",\"\",IF(A78=A77,\"\",CONCATENATE(INDEX(ACTIVIDADES!D:G,MATCH(A78,ACTIVIDADES!G:G,0),1),$M$4)))","v":""},{"$f":"IF(A78=\"\",\"\",INDEX(ACTIVIDADES!D:I,MATCH(A78,ACTIVIDADES!G:G,0),4))","v":""},"",74]
[null,null,{"$f":"IF(B79=\"\",\"\",VLOOKUP(B79,'Otras referencias'!$A$32:$B$55,2,FALSE))","v":""},null,{"$f":"IF(A79=\"\",\"\",INDEX(ACTIVIDADES!G:L,MATCH(A79,ACTIVIDADES!G:G,0),5))","v":""},{"$f":"IF(A79=\"\",\"\",INDEX(ACTIVIDADES!G:P,MATCH(A79,ACTIVIDADES!G:G,0),8))","v":""},{"$f":"IF(A79=\"\",\"\",INDEX(ACTIVIDADES!D:G,MATCH(A79,ACTIVIDADES!G:G,0),1))","v":""},{"$f":"IF(A79=\"\",\"\",CONCATENATE(INDEX(ACTIVIDADES!D:G,MATCH(A79,ACTIVIDADES!G:G,0),1),$M$4))","v":""},{"$f":"IF(A79=\"\",\"\",IF(A79=A78,\"\",CONCATENATE(INDEX(ACTIVIDADES!D:G,MATCH(A79,ACTIVIDADES!G:G,0),1),$M$4)))","v":""},{"$f":"IF(A79=\"\",\"\",INDEX(ACTIVIDADES!D:I,MATCH(A79,ACTIVIDADES!G:G,0),4))","v":""},"",75]
[null,null,{"$f":"IF(B80=\"\",\"\",VLOOKUP(B80,'Otras referencias'!$A$32:$B$55,2,FALSE))","v":""},null,{"$f":"IF(A80=\"\",\"\",INDEX(ACTIVIDADES!G:L,MATCH(A80,ACTIVIDADES!G:G,0),5))","v":""},{"$f":"IF(A80=\"\",\"\",INDEX(ACTIVIDADES!G:P,MATCH(A80,ACTIVIDADES!G:G,0),8))","v":""},{"$f":"IF(A80=\"\",\"\",INDEX(ACTIVIDADES!D:G,MATCH(A80,ACTIVIDADES!G:G,0),1))","v":""},{"$f":"IF(A80=\"\",\"\",CONCATENATE(INDEX(ACTIVIDADES!D:G,MATCH(A80,ACTIVIDADES!G:G,0),1),$M$4))","v":""},{"$f":"IF(A80=\"\",\"\",IF(A80=A79,\"\",CONCATENATE(INDEX(ACTIVIDADES!D:G,MATCH(A80,ACTIVIDADES!G:G,0),1),$M$4)))","v":""},{"$f":"IF(A80=\"\",\"\",INDEX(ACTIVIDADES!D:I,MATCH(A80,ACTIVIDADES!G:G,0),4))","v":""},"",76]
[null,null,{"$f":"IF(B81=\"\",\"\",VLOOKUP(B81,'Otras referencias'!$A$32:$B$55,2,FALSE))","v":""},null,{"$f":"IF(A81=\"\",\"\",INDEX(ACTIVIDADES!G:L,MATCH(A81,ACTIVIDADES!G:G,0),5))","v":""},{"$f":"IF(A81=\"\",\"\",INDEX(ACTIVIDADES!G:P,MATCH(A81,ACTIVIDADES!G:G,0),8))","v":""},{"$f":"IF(A81=\"\",\"\",INDEX(ACTIVIDADES!D:G,MATCH(A81,ACTIVIDADES!G:G,0),1))","v":""},{"$f":"IF(A81=\"\",\"\",CONCATENATE(INDEX(ACTIVIDADES!D:G,MATCH(A81,ACTIVIDADES!G:G,0),1),$M$4))","v":""},{"$f":"IF(A81=\"\",\"\",IF(A81=A80,\"\",CONCATENATE(INDEX(ACTIVIDADES!D:G,MATCH(A81,ACTIVIDADES!G:G,0),1),$M$4)))","v":""},{"$f":"IF(A81=\"\",\"\",INDEX(ACTIVIDADES!D:I,MATCH(A81,ACTIVIDADES!G:G,0),4))","v":""},"",77]
[null,null,{"$f":"IF(B82=\"\",\"\",VLOOKUP(B82,'Otras referencias'!$A$32:$B$55,2,FALSE))","v":""},null,{"$f":"IF(A82=\"\",\"\",INDEX(ACTIVIDADES!G:L,MATCH(A82,ACTIVIDADES!G:G,0),5))","v":""},{"$f":"IF(A82=\"\",\"\",INDEX(ACTIVIDADES!G:P,MATCH(A82,ACTIVIDADES!G:G,0),8))","v":""},{"$f":"IF(A82=\"\",\"\",INDEX(ACTIVIDADES!D:G,MATCH(A82,ACTIVIDADES!G:G,0),1))","v":""},{"$f":"IF(A82=\"\",\"\",CONCATENATE(INDEX(ACTIVIDADES!D:G,MATCH(A82,ACTIVIDADES!G:G,0),1),$M$4))","v":""},{"$f":"IF(A82=\"\",\"\",IF(A82=A81,\"\",CONCATENATE(INDEX(ACTIVIDADES!D:G,MATCH(A82,ACTIVIDADES!G:G,0),1),$M$4)))","v":""},{"$f":"IF(A82=\"\",\"\",INDEX(ACTIVIDADES!D:I,MATCH(A82,ACTIVIDADES!G:G,0),4))","v":""},"",78]
[null,null,{"$f":"IF(B83=\"\",\"\",VLOOKUP(B83,'Otras referencias'!$A$32:$B$55,2,FALSE))","v":""},null,{"$f":"IF(A83=\"\",\"\",INDEX(ACTIVIDADES!G:L,MATCH(A83,ACTIVIDADES!G:G,0),5))","v":""},{"$f":"IF(A83=\"\",\"\",INDEX(ACTIVIDADES!G:P,MATCH(A83,ACTIVIDADES!G:G,0),8))","v":""},{"$f":"IF(A83=\"\",\"\",INDEX(ACTIVIDADES!D:G,MATCH(A83,ACTIVIDADES!G:G,0),1))","v":""},{"$f":"IF(A83=\"\",\"\",CONCATENATE(INDEX(ACTIVIDADES!D:G,MATCH(A83,ACTIVIDADES!G:G,0),1),$M$4))","v":""},{"$f":"IF(A83=\"\",\"\",IF(A83=A82,\"\",CONCATENATE(INDEX(ACTIVIDADES!D:G,MATCH(A83,ACTIVIDADES!G:G,0),1),$M$4)))","v":""},{"$f":"IF(A83=\"\",\"\",INDEX(ACTIVIDADES!D:I,MATCH(A83,ACTIVIDADES!G:G,0),4))","v":""},"",79]
[null,null,{"$f":"IF(B84=\"\",\"\",VLOOKUP(B84,'Otras referencias'!$A$32:$B$55,2,FALSE))","v":""},null,{"$f":"IF(A84=\"\",\"\",INDEX(ACTIVIDADES!G:L,MATCH(A84,ACTIVIDADES!G:G,0),5))","v":""},{"$f":"IF(A84=\"\",\"\",INDEX(ACTIVIDADES!G:P,MATCH(A84,ACTIVIDADES!G:G,0),8))","v":""},{"$f":"IF(A84=\"\",\"\",INDEX(ACTIVIDADES!D:G,MATCH(A84,ACTIVIDADES!G:G,0),1))","v":""},{"$f":"IF(A84=\"\",\"\",CONCATENATE(INDEX(ACTIVIDADES!D:G,MATCH(A84,ACTIVIDADES!G:G,0),1),$M$4))","v":""},{"$f":"IF(A84=\"\",\"\",IF(A84=A83,\"\",CONCATENATE(INDEX(ACTIVIDADES!D:G,MATCH(A84,ACTIVIDADES!G:G,0),1),$M$4)))","v":""},{"$f":"IF(A84=\"\",\"\",INDEX(ACTIVIDADES!D:I,MATCH(A84,ACTIVIDADES!G:G,0),4))","v":""},"",80]
[null,null,{"$f":"IF(B85=\"\",\"\",VLOOKUP(B85,'Otras referencias'!$A$32:$B$55,2,FALSE))","v":""},null,{"$f":"IF(A85=\"\",\"\",INDEX(ACTIVIDADES!G:L,MATCH(A85,ACTIVIDADES!G:G,0),5))","v":""},{"$f":"IF(A85=\"\",\"\",INDEX(ACTIVIDADES!G:P,MATCH(A85,ACTIVIDADES!G:G,0),8))","v":""},{"$f":"IF(A85=\"\",\"\",INDEX(ACTIVIDADES!D:G,MATCH(A85,ACTIVIDADES!G:G,0),1))","v":""},{"$f":"IF(A85=\"\",\"\",CONCATENATE(INDEX(ACTIVIDADES!D:G,MATCH(A85,ACTIVIDADES!G:G,0),1),$M$4))","v":""},{"$f":"IF(A85=\"\",\"\",IF(A85=A84,\"\",CONCATENATE(INDEX(ACTIVIDADES!D:G,MATCH(A85,ACTIVIDADES!G:G,0),1),$M$4)))","v":""},{"$f":"IF(A85=\"\",\"\",INDEX(ACTIVIDADES!D:I,MATCH(A85,ACTIVIDADES!G:G,0),4))","v":""},"",81]
[null,null,{"$f":"IF(B86=\"\",\"\",VLOOKUP(B86,'Otras referencias'!$A$32:$B$55,2,FALSE))","v":""},null,{"$f":"IF(A86=\"\",\"\",INDEX(ACTIVIDADES!G:L,MATCH(A86,ACTIVIDADES!G:G,0),5))","v":""},{"$f":"IF(A86=\"\",\"\",INDEX(ACTIVIDADES!G:P,MATCH(A86,ACTIVIDADES!G:G,0),8))","v":""},{"$f":"IF(A86=\"\",\"\",INDEX(ACTIVIDADES!D:G,MATCH(A86,ACTIVIDADES!G:G,0),1))","v":""},{"$f":"IF(A86=\"\",\"\",CONCATENATE(INDEX(ACTIVIDADES!D:G,MATCH(A86,ACTIVIDADES!G:G,0),1),$M$4))","v":""},{"$f":"IF(A86=\"\",\"\",IF(A86=A85,\"\",CONCATENATE(INDEX(ACTIVIDADES!D:G,MATCH(A86,ACTIVIDADES!G:G,0),1),$M$4)))","v":""},{"$f":"IF(A86=\"\",\"\",INDEX(ACTIVIDADES!D:I,MATCH(A86,ACTIVIDADES!G:G,0),4))","v":""},"",82]
[null,null,{"$f":"IF(B87=\"\",\"\",VLOOKUP(B87,'Otras referencias'!$A$32:$B$55,2,FALSE))","v":""},null,{"$f":"IF(A87=\"\",\"\",INDEX(ACTIVIDADES!G:L,MATCH(A87,ACTIVIDADES!G:G,0),5))","v":""},{"$f":"IF(A87=\"\",\"\",INDEX(ACTIVIDADES!G:P,MATCH(A87,ACTIVIDADES!G:G,0),8))","v":""},{"$f":"IF(A87=\"\",\"\",INDEX(ACTIVIDADES!D:G,MATCH(A87,ACTIVIDADES!G:G,0),1))","v":""},{"$f":"IF(A87=\"\",\"\",CONCATENATE(INDEX(ACTIVIDADES!D:G,MATCH(A87,ACTIVIDADES!G:G,0),1),$M$4))","v":""},{"$f":"IF(A87=\"\",\"\",IF(A87=A86,\"\",CONCATENATE(INDEX(ACTIVIDADES!D:G,MATCH(A87,ACTIVIDADES!G:G,0),1),$M$4)))","v":""},{"$f":"IF(A87=\"\",\"\",INDEX(ACTIVIDADES!D:I,MATCH(A87,ACTIVIDADES!G:G,0),4))","v":""},"",83]
[null,null,{"$f":"IF(B88=\"\",\"\",VLOOKUP(B88,'Otras referencias'!$A$32:$B$55,2,FALSE))","v":""},null,{"$f":"IF(A88=\"\",\"\",INDEX(ACTIVIDADES!G:L,MATCH(A88,ACTIVIDADES!G:G,0),5))","v":""},{"$f":"IF(A88=\"\",\"\",INDEX(ACTIVIDADES!G:P,MATCH(A88,ACTIVIDADES!G:G,0),8))","v":""},{"$f":"IF(A88=\"\",\"\",INDEX(ACTIVIDADES!D:G,MATCH(A88,ACTIVIDADES!G:G,0),1))","v":""},{"$f":"IF(A88=\"\",\"\",CONCATENATE(INDEX(ACTIVIDADES!D:G,MATCH(A88,ACTIVIDADES!G:G,0),1),$M$4))","v":""},{"$f":"IF(A88=\"\",\"\",IF(A88=A87,\"\",CONCATENATE(INDEX(ACTIVIDADES!D:G,MATCH(A88,ACTIVIDADES!G:G,0),1),$M$4)))","v":""},{"$f":"IF(A88=\"\",\"\",INDEX(ACTIVIDADES!D:I,MATCH(A88,ACTIVIDADES!G:G,0),4))","v":""},"",84]
[null,null,{"$f":"IF(B89=\"\",\"\",VLOOKUP(B89,'Otras referencias'!$A$32:$B$55,2,FALSE))","v":""},null,{"$f":"IF(A89=\"\",\"\",INDEX(ACTIVIDADES!G:L,MATCH(A89,ACTIVIDADES!G:G,0),5))","v":""},{"$f":"IF(A89=\"\",\"\",INDEX(ACTIVIDADES!G:P,MATCH(A89,ACTIVIDADES!G:G,0),8))","v":""},{"$f":"IF(A89=\"\",\"\",INDEX(ACTIVIDADES!D:G,MATCH(A89,ACTIVIDADES!G:G,0),1))","v":""},{"$f":"IF(A89=\"\",\"\",CONCATENATE(INDEX(ACTIVIDADES!D:G,MATCH(A89,ACTIVIDADES!G:G,0),1),$M$4))","v":""},{"$f":"IF(A89=\"\",\"\",IF(A89=A88,\"\",CONCATENATE(INDEX(ACTIVIDADES!D:G,MATCH(A89,ACTIVIDADES!G:G,0),1),$M$4)))","v":""},{"$f":"IF(A89=\"\",\"\",INDEX(ACTIVIDADES!D:I,MATCH(A89,ACTIVIDADES!G:G,0),4))","v":""},"",85]
[null,null,{"$f":"IF(B90=\"\",\"\",VLOOKUP(B90,'Otras referencias'!$A$32:$B$55,2,FALSE))","v":""},null,{"$f":"IF(A90=\"\",\"\",INDEX(ACTIVIDADES!G:L,MATCH(A90,ACTIVIDADES!G:G,0),5))","v":""},{"$f":"IF(A90=\"\",\"\",INDEX(ACTIVIDADES!G:P,MATCH(A90,ACTIVIDADES!G:G,0),8))","v":""},{"$f":"IF(A90=\"\",\"\",INDEX(ACTIVIDADES!D:G,MATCH(A90,ACTIVIDADES!G:G,0),1))","v":""},{"$f":"IF(A90=\"\",\"\",CONCATENATE(INDEX(ACTIVIDADES!D:G,MATCH(A90,ACTIVIDADES!G:G,0),1),$M$4))","v":""},{"$f":"IF(A90=\"\",\"\",IF(A90=A89,\"\",CONCATENATE(INDEX(ACTIVIDADES!D:G,MATCH(A90,ACTIVIDADES!G:G,0),1),$M$4)))","v":""},{"$f":"IF(A90=\"\",\"\",INDEX(ACTIVIDADES!D:I,MATCH(A90,ACTIVIDADES!G:G,0),4))","v":""},"",86]
[null,null,{"$f":"IF(B91=\"\",\"\",VLOOKUP(B91,'Otras referencias'!$A$32:$B$55,2,FALSE))","v":""},null,{"$f":"IF(A91=\"\",\"\",INDEX(ACTIVIDADES!G:L,MATCH(A91,ACTIVIDADES!G:G,0),5))","v":""},{"$f":"IF(A91=\"\",\"\",INDEX(ACTIVIDADES!G:P,MATCH(A91,ACTIVIDADES!G:G,0),8))","v":""},{"$f":"IF(A91=\"\",\"\",INDEX(ACTIVIDADES!D:G,MATCH(A91,ACTIVIDADES!G:G,0),1))","v":""},{"$f":"IF(A91=\"\",\"\",CONCATENATE(INDEX(ACTIVIDADES!D:G,MATCH(A91,ACTIVIDADES!G:G,0),1),$M$4))","v":""},{"$f":"IF(A91=\"\",\"\",IF(A91=A90,\"\",CONCATENATE(INDEX(ACTIVIDADES!D:G,MATCH(A91,ACTIVIDADES!G:G,0),1),$M$4)))","v":""},{"$f":"IF(A91=\"\",\"\",INDEX(ACTIVIDADES!D:I,MATCH(A91,ACTIVIDADES!G:G,0),4))","v":""},"",87]
[null,null,{"$f":"IF(B92=\"\",\"\",VLOOKUP(B92,'Otras referencias'!$A$32:$B$55,2,FALSE))","v":""},null,{"$f":"IF(A92=\"\",\"\",INDEX(ACTIVIDADES!G:L,MATCH(A92,ACTIVIDADES!G:G,0),5))","v":""},{"$f":"IF(A92=\"\",\"\",INDEX(ACTIVIDADES!G:P,MATCH(A92,ACTIVIDADES!G:G,0),8))","v":""},{"$f":"IF(A92=\"\",\"\",INDEX(ACTIVIDADES!D:G,MATCH(A92,ACTIVIDADES!G:G,0),1))","v":""},{"$f":"IF(A92=\"\",\"\",CONCATENATE(INDEX(ACTIVIDADES!D:G,MATCH(A92,ACTIVIDADES!G:G,0),1),$M$4))","v":""},{"$f":"IF(A92=\"\",\"\",IF(A92=A91,\"\",CONCATENATE(INDEX(ACTIVIDADES!D:G,MATCH(A92,ACTIVIDADES!G:G,0),1),$M$4)))","v":""},{"$f":"IF(A92=\"\",\"\",INDEX(ACTIVIDADES!D:I,MATCH(A92,ACTIVIDADES!G:G,0),4))","v":""},"",88]
[null,null,{"$f":"IF(B93=\"\",\"\",VLOOKUP(B93,'Otras referencias'!$A$32:$B$55,2,FALSE))","v":""},null,{"$f":"IF(A93=\"\",\"\",INDEX(ACTIVIDADES!G:L,MATCH(A93,ACTIVIDADES!G:G,0),5))","v":""},{"$f":"IF(A93=\"\",\"\",INDEX(ACTIVIDADES!G:P,MATCH(A93,ACTIVIDADES!G:G,0),8))","v":""},{"$f":"IF(A93=\"\",\"\",INDEX(ACTIVIDADES!D:G,MATCH(A93,ACTIVIDADES!G:G,0),1))","v":""},{"$f":"IF(A93=\"\",\"\",CONCATENATE(INDEX(ACTIVIDADES!D:G,MATCH(A93,ACTIVIDADES!G:G,0),1),$M$4))","v":""},{"$f":"IF(A93=\"\",\"\",IF(A93=A92,\"\",CONCATENATE(INDEX(ACTIVIDADES!D:G,MATCH(A93,ACTIVIDADES!G:G,0),1),$M$4)))","v":""},{"$f":"IF(A93=\"\",\"\",INDEX(ACTIVIDADES!D:I,MATCH(A93,ACTIVIDADES!G:G,0),4))","v":""},"",89]
[null,null,{"$f":"IF(B94=\"\",\"\",VLOOKUP(B94,'Otras referencias'!$A$32:$B$55,2,FALSE))","v":""},null,{"$f":"IF(A94=\"\",\"\",INDEX(ACTIVIDADES!G:L,MATCH(A94,ACTIVIDADES!G:G,0),5))","v":""},{"$f":"IF(A94=\"\",\"\",INDEX(ACTIVIDADES!G:P,MATCH(A94,ACTIVIDADES!G:G,0),8))","v":""},{"$f":"IF(A94=\"\",\"\",INDEX(ACTIVIDADES!D:G,MATCH(A94,ACTIVIDADES!G:G,0),1))","v":""},{"$f":"IF(A94=\"\",\"\",CONCATENATE(INDEX(ACTIVIDADES!D:G,MATCH(A94,ACTIVIDADES!G:G,0),1),$M$4))","v":""},{"$f":"IF(A94=\"\",\"\",IF(A94=A93,\"\",CONCATENATE(INDEX(ACTIVIDADES!D:G,MATCH(A94,ACTIVIDADES!G:G,0),1),$M$4)))","v":""},{"$f":"IF(A94=\"\",\"\",INDEX(ACTIVIDADES!D:I,MATCH(A94,ACTIVIDADES!G:G,0),4))","v":""},"",90]
[null,null,{"$f":"IF(B95=\"\",\"\",VLOOKUP(B95,'Otras referencias'!$A$32:$B$55,2,FALSE))","v":""},null,{"$f":"IF(A95=\"\",\"\",INDEX(ACTIVIDADES!G:L,MATCH(A95,ACTIVIDADES!G:G,0),5))","v":""},{"$f":"IF(A95=\"\",\"\",INDEX(ACTIVIDADES!G:P,MATCH(A95,ACTIVIDADES!G:G,0),8))","v":""},{"$f":"IF(A95=\"\",\"\",INDEX(ACTIVIDADES!D:G,MATCH(A95,ACTIVIDADES!G:G,0),1))","v":""},{"$f":"IF(A95=\"\",\"\",CONCATENATE(INDEX(ACTIVIDADES!D:G,MATCH(A95,ACTIVIDADES!G:G,0),1),$M$4))","v":""},{"$f":"IF(A95=\"\",\"\",IF(A95=A94,\"\",CONCATENATE(INDEX(ACTIVIDADES!D:G,MATCH(A95,ACTIVIDADES!G:G,0),1),$M$4)))","v":""},{"$f":"IF(A95=\"\",\"\",INDEX(ACTIVIDADES!D:I,MATCH(A95,ACTIVIDADES!G:G,0),4))","v":""},"",91]
[null,null,{"$f":"IF(B96=\"\",\"\",VLOOKUP(B96,'Otras referencias'!$A$32:$B$55,2,FALSE))","v":""},null,{"$f":"IF(A96=\"\",\"\",INDEX(ACTIVIDADES!G:L,MATCH(A96,ACTIVIDADES!G:G,0),5))","v":""},{"$f":"IF(A96=\"\",\"\",INDEX(ACTIVIDADES!G:P,MATCH(A96,ACTIVIDADES!G:G,0),8))","v":""},{"$f":"IF(A96=\"\",\"\",INDEX(ACTIVIDADES!D:G,MATCH(A96,ACTIVIDADES!G:G,0),1))","v":""},{"$f":"IF(A96=\"\",\"\",CONCATENATE(INDEX(ACTIVIDADES!D:G,MATCH(A96,ACTIVIDADES!G:G,0),1),$M$4))","v":""},{"$f":"IF(A96=\"\",\"\",IF(A96=A95,\"\",CONCATENATE(INDEX(ACTIVIDADES!D:G,MATCH(A96,ACTIVIDADES!G:G,0),1),$M$4)))","v":""},{"$f":"IF(A96=\"\",\"\",INDEX(ACTIVIDADES!D:I,MATCH(A96,ACTIVIDADES!G:G,0),4))","v":""},"",92]
[null,null,{"$f":"IF(B97=\"\",\"\",VLOOKUP(B97,'Otras referencias'!$A$32:$B$55,2,FALSE))","v":""},null,{"$f":"IF(A97=\"\",\"\",INDEX(ACTIVIDADES!G:L,MATCH(A97,ACTIVIDADES!G:G,0),5))","v":""},{"$f":"IF(A97=\"\",\"\",INDEX(ACTIVIDADES!G:P,MATCH(A97,ACTIVIDADES!G:G,0),8))","v":""},{"$f":"IF(A97=\"\",\"\",INDEX(ACTIVIDADES!D:G,MATCH(A97,ACTIVIDADES!G:G,0),1))","v":""},{"$f":"IF(A97=\"\",\"\",CONCATENATE(INDEX(ACTIVIDADES!D:G,MATCH(A97,ACTIVIDADES!G:G,0),1),$M$4))","v":""},{"$f":"IF(A97=\"\",\"\",IF(A97=A96,\"\",CONCATENATE(INDEX(ACTIVIDADES!D:G,MATCH(A97,ACTIVIDADES!G:G,0),1),$M$4)))","v":""},{"$f":"IF(A97=\"\",\"\",INDEX(ACTIVIDADES!D:I,MATCH(A97,ACTIVIDADES!G:G,0),4))","v":""},"",93]
[null,null,{"$f":"IF(B98=\"\",\"\",VLOOKUP(B98,'Otras referencias'!$A$32:$B$55,2,FALSE))","v":""},null,{"$f":"IF(A98=\"\",\"\",INDEX(ACTIVIDADES!G:L,MATCH(A98,ACTIVIDADES!G:G,0),5))","v":""},{"$f":"IF(A98=\"\",\"\",INDEX(ACTIVIDADES!G:P,MATCH(A98,ACTIVIDADES!G:G,0),8))","v":""},{"$f":"IF(A98=\"\",\"\",INDEX(ACTIVIDADES!D:G,MATCH(A98,ACTIVIDADES!G:G,0),1))","v":""},{"$f":"IF(A98=\"\",\"\",CONCATENATE(INDEX(ACTIVIDADES!D:G,MATCH(A98,ACTIVIDADES!G:G,0),1),$M$4))","v":""},{"$f":"IF(A98=\"\",\"\",IF(A98=A97,\"\",CONCATENATE(INDEX(ACTIVIDADES!D:G,MATCH(A98,ACTIVIDADES!G:G,0),1),$M$4)))","v":""},{"$f":"IF(A98=\"\",\"\",INDEX(ACTIVIDADES!D:I,MATCH(A98,ACTIVIDADES!G:G,0),4))","v":""},"",94]
[null,null,{"$f":"IF(B99=\"\",\"\",VLOOKUP(B99,'Otras referencias'!$A$32:$B$55,2,FALSE))","v":""},null,{"$f":"IF(A99=\"\",\"\",INDEX(ACTIVIDADES!G:L,MATCH(A99,ACTIVIDADES!G:G,0),5))","v":""},{"$f":"IF(A99=\"\",\"\",INDEX(ACTIVIDADES!G:P,MATCH(A99,ACTIVIDADES!G:G,0),8))","v":""},{"$f":"IF(A99=\"\",\"\",INDEX(ACTIVIDADES!D:G,MATCH(A99,ACTIVIDADES!G:G,0),1))","v":""},{"$f":"IF(A99=\"\",\"\",CONCATENATE(INDEX(ACTIVIDADES!D:G,MATCH(A99,ACTIVIDADES!G:G,0),1),$M$4))","v":""},{"$f":"IF(A99=\"\",\"\",IF(A99=A98,\"\",CONCATENATE(INDEX(ACTIVIDADES!D:G,MATCH(A99,ACTIVIDADES!G:G,0),1),$M$4)))","v":""},{"$f":"IF(A99=\"\",\"\",INDEX(ACTIVIDADES!D:I,MATCH(A99,ACTIVIDADES!G:G,0),4))","v":""},"",95]
[null,null,{"$f":"IF(B100=\"\",\"\",VLOOKUP(B100,'Otras referencias'!$A$32:$B$55,2,FALSE))","v":""},null,{"$f":"IF(A100=\"\",\"\",INDEX(ACTIVIDADES!G:L,MATCH(A100,ACTIVIDADES!G:G,0),5))","v":""},{"$f":"IF(A100=\"\",\"\",INDEX(ACTIVIDADES!G:P,MATCH(A100,ACTIVIDADES!G:G,0),8))","v":""},{"$f":"IF(A100=\"\",\"\",INDEX(ACTIVIDADES!D:G,MATCH(A100,ACTIVIDADES!G:G,0),1))","v":""},{"$f":"IF(A100=\"\",\"\",CONCATENATE(INDEX(ACTIVIDADES!D:G,MATCH(A100,ACTIVIDADES!G:G,0),1),$M$4))","v":""},{"$f":"IF(A100=\"\",\"\",IF(A100=A99,\"\",CONCATENATE(INDEX(ACTIVIDADES!D:G,MATCH(A100,ACTIVIDADES!G:G,0),1),$M$4)))","v":""},{"$f":"IF(A100=\"\",\"\",INDEX(ACTIVIDADES!D:I,MATCH(A100,ACTIVIDADES!G:G,0),4))","v":""},"",96]
[null,null,{"$f":"IF(B101=\"\",\"\",VLOOKUP(B101,'Otras referencias'!$A$32:$B$55,2,FALSE))","v":""},null,{"$f":"IF(A101=\"\",\"\",INDEX(ACTIVIDADES!G:L,MATCH(A101,ACTIVIDADES!G:G,0),5))","v":""},{"$f":"IF(A101=\"\",\"\",INDEX(ACTIVIDADES!G:P,MATCH(A101,ACTIVIDADES!G:G,0),8))","v":""},{"$f":"IF(A101=\"\",\"\",INDEX(ACTIVIDADES!D:G,MATCH(A101,ACTIVIDADES!G:G,0),1))","v":""},{"$f":"IF(A101=\"\",\"\",CONCATENATE(INDEX(ACTIVIDADES!D:G,MATCH(A101,ACTIVIDADES!G:G,0),1),$M$4))","v":""},{"$f":"IF(A101=\"\",\"\",IF(A101=A100,\"\",CONCATENATE(INDEX(ACTIVIDADES!D:G,MATCH(A101,ACTIVIDADES!G:G,0),1),$M$4)))","v":""},{"$f":"IF(A101=\"\",\"\",INDEX(ACTIVIDADES!D:I,MATCH(A101,ACTIVIDADES!G:G,0),4))","v":""},"",97]
[null,null,{"$f":"IF(B102=\"\",\"\",VLOOKUP(B102,'Otras referencias'!$A$32:$B$55,2,FALSE))","v":""},null,{"$f":"IF(A102=\"\",\"\",INDEX(ACTIVIDADES!G:L,MATCH(A102,ACTIVIDADES!G:G,0),5))","v":""},{"$f":"IF(A102=\"\",\"\",INDEX(ACTIVIDADES!G:P,MATCH(A102,ACTIVIDADES!G:G,0),8))","v":""},{"$f":"IF(A102=\"\",\"\",INDEX(ACTIVIDADES!D:G,MATCH(A102,ACTIVIDADES!G:G,0),1))","v":""},{"$f":"IF(A102=\"\",\"\",CONCATENATE(INDEX(ACTIVIDADES!D:G,MATCH(A102,ACTIVIDADES!G:G,0),1),$M$4))","v":""},{"$f":"IF(A102=\"\",\"\",IF(A102=A101,\"\",CONCATENATE(INDEX(ACTIVIDADES!D:G,MATCH(A102,ACTIVIDADES!G:G,0),1),$M$4)))","v":""},{"$f":"IF(A102=\"\",\"\",INDEX(ACTIVIDADES!D:I,MATCH(A102,ACTIVIDADES!G:G,0),4))","v":""},"",98]
[null,null,{"$f":"IF(B103=\"\",\"\",VLOOKUP(B103,'Otras referencias'!$A$32:$B$55,2,FALSE))","v":""},null,{"$f":"IF(A103=\"\",\"\",INDEX(ACTIVIDADES!G:L,MATCH(A103,ACTIVIDADES!G:G,0),5))","v":""},{"$f":"IF(A103=\"\",\"\",INDEX(ACTIVIDADES!G:P,MATCH(A103,ACTIVIDADES!G:G,0),8))","v":""},{"$f":"IF(A103=\"\",\"\",INDEX(ACTIVIDADES!D:G,MATCH(A103,ACTIVIDADES!G:G,0),1))","v":""},{"$f":"IF(A103=\"\",\"\",CONCATENATE(INDEX(ACTIVIDADES!D:G,MATCH(A103,ACTIVIDADES!G:G,0),1),$M$4))","v":""},{"$f":"IF(A103=\"\",\"\",IF(A103=A102,\"\",CONCATENATE(INDEX(ACTIVIDADES!D:G,MATCH(A103,ACTIVIDADES!G:G,0),1),$M$4)))","v":""},{"$f":"IF(A103=\"\",\"\",INDEX(ACTIVIDADES!D:I,MATCH(A103,ACTIVIDADES!G:G,0),4))","v":""},"",99]
[null,null,{"$f":"IF(B104=\"\",\"\",VLOOKUP(B104,'Otras referencias'!$A$32:$B$55,2,FALSE))","v":""},null,{"$f":"IF(A104=\"\",\"\",INDEX(ACTIVIDADES!G:L,MATCH(A104,ACTIVIDADES!G:G,0),5))","v":""},{"$f":"IF(A104=\"\",\"\",INDEX(ACTIVIDADES!G:P,MATCH(A104,ACTIVIDADES!G:G,0),8))","v":""},{"$f":"IF(A104=\"\",\"\",INDEX(ACTIVIDADES!D:G,MATCH(A104,ACTIVIDADES!G:G,0),1))","v":""},{"$f":"IF(A104=\"\",\"\",CONCATENATE(INDEX(ACTIVIDADES!D:G,MATCH(A104,ACTIVIDADES!G:G,0),1),$M$4))","v":""},{"$f":"IF(A104=\"\",\"\",IF(A104=A103,\"\",CONCATENATE(INDEX(ACTIVIDADES!D:G,MATCH(A104,ACTIVIDADES!G:G,0),1),$M$4)))","v":""},{"$f":"IF(A104=\"\",\"\",INDEX(ACTIVIDADES!D:I,MATCH(A104,ACTIVIDADES!G:G,0),4))","v":""},"",100]
[null,null,{"$f":"IF(B105=\"\",\"\",VLOOKUP(B105,'Otras referencias'!$A$32:$B$55,2,FALSE))","v":""},null,{"$f":"IF(A105=\"\",\"\",INDEX(ACTIVIDADES!G:L,MATCH(A105,ACTIVIDADES!G:G,0),5))","v":""},{"$f":"IF(A105=\"\",\"\",INDEX(ACTIVIDADES!G:P,MATCH(A105,ACTIVIDADES!G:G,0),8))","v":""},{"$f":"IF(A105=\"\",\"\",INDEX(ACTIVIDADES!D:G,MATCH(A105,ACTIVIDADES!G:G,0),1))","v":""},{"$f":"IF(A105=\"\",\"\",CONCATENATE(INDEX(ACTIVIDADES!D:G,MATCH(A105,ACTIVIDADES!G:G,0),1),$M$4))","v":""},{"$f":"IF(A105=\"\",\"\",IF(A105=A104,\"\",CONCATENATE(INDEX(ACTIVIDADES!D:G,MATCH(A105,ACTIVIDADES!G:G,0),1),$M$4)))","v":""},{"$f":"IF(A105=\"\",\"\",INDEX(ACTIVIDADES!D:I,MATCH(A105,ACTIVIDADES!G:G,0),4))","v":""},"",101]
[null,null,{"$f":"IF(B106=\"\",\"\",VLOOKUP(B106,'Otras referencias'!$A$32:$B$55,2,FALSE))","v":""},null,{"$f":"IF(A106=\"\",\"\",INDEX(ACTIVIDADES!G:L,MATCH(A106,ACTIVIDADES!G:G,0),5))","v":""},{"$f":"IF(A106=\"\",\"\",INDEX(ACTIVIDADES!G:P,MATCH(A106,ACTIVIDADES!G:G,0),8))","v":""},{"$f":"IF(A106=\"\",\"\",INDEX(ACTIVIDADES!D:G,MATCH(A106,ACTIVIDADES!G:G,0),1))","v":""},{"$f":"IF(A106=\"\",\"\",CONCATENATE(INDEX(ACTIVIDADES!D:G,MATCH(A106,ACTIVIDADES!G:G,0),1),$M$4))","v":""},{"$f":"IF(A106=\"\",\"\",IF(A106=A105,\"\",CONCATENATE(INDEX(ACTIVIDADES!D:G,MATCH(A106,ACTIVIDADES!G:G,0),1),$M$4)))","v":""},{"$f":"IF(A106=\"\",\"\",INDEX(ACTIVIDADES!D:I,MATCH(A106,ACTIVIDADES!G:G,0),4))","v":""},"",102]
[null,null,{"$f":"IF(B107=\"\",\"\",VLOOKUP(B107,'Otras referencias'!$A$32:$B$55,2,FALSE))","v":""},null,{"$f":"IF(A107=\"\",\"\",INDEX(ACTIVIDADES!G:L,MATCH(A107,ACTIVIDADES!G:G,0),5))","v":""},{"$f":"IF(A107=\"\",\"\",INDEX(ACTIVIDADES!G:P,MATCH(A107,ACTIVIDADES!G:G,0),8))","v":""},{"$f":"IF(A107=\"\",\"\",INDEX(ACTIVIDADES!D:G,MATCH(A107,ACTIVIDADES!G:G,0),1))","v":""},{"$f":"IF(A107=\"\",\"\",CONCATENATE(INDEX(ACTIVIDADES!D:G,MATCH(A107,ACTIVIDADES!G:G,0),1),$M$4))","v":""},{"$f":"IF(A107=\"\",\"\",IF(A107=A106,\"\",CONCATENATE(INDEX(ACTIVIDADES!D:G,MATCH(A107,ACTIVIDADES!G:G,0),1),$M$4)))","v":""},{"$f":"IF(A107=\"\",\"\",INDEX(ACTIVIDADES!D:I,MATCH(A107,ACTIVIDADES!G:G,0),4))","v":""},"",103]
[null,null,{"$f":"IF(B108=\"\",\"\",VLOOKUP(B108,'Otras referencias'!$A$32:$B$55,2,FALSE))","v":""},null,{"$f":"IF(A108=\"\",\"\",INDEX(ACTIVIDADES!G:L,MATCH(A108,ACTIVIDADES!G:G,0),5))","v":""},{"$f":"IF(A108=\"\",\"\",INDEX(ACTIVIDADES!G:P,MATCH(A108,ACTIVIDADES!G:G,0),8))","v":""},{"$f":"IF(A108=\"\",\"\",INDEX(ACTIVIDADES!D:G,MATCH(A108,ACTIVIDADES!G:G,0),1))","v":""},{"$f":"IF(A108=\"\",\"\",CONCATENATE(INDEX(ACTIVIDADES!D:G,MATCH(A108,ACTIVIDADES!G:G,0),1),$M$4))","v":""},{"$f":"IF(A108=\"\",\"\",IF(A108=A107,\"\",CONCATENATE(INDEX(ACTIVIDADES!D:G,MATCH(A108,ACTIVIDADES!G:G,0),1),$M$4)))","v":""},{"$f":"IF(A108=\"\",\"\",INDEX(ACTIVIDADES!D:I,MATCH(A108,ACTIVIDADES!G:G,0),4))","v":""},"",104]
[null,null,{"$f":"IF(B109=\"\",\"\",VLOOKUP(B109,'Otras referencias'!$A$32:$B$55,2,FALSE))","v":""},null,{"$f":"IF(A109=\"\",\"\",INDEX(ACTIVIDADES!G:L,MATCH(A109,ACTIVIDADES!G:G,0),5))","v":""},{"$f":"IF(A109=\"\",\"\",INDEX(ACTIVIDADES!G:P,MATCH(A109,ACTIVIDADES!G:G,0),8))","v":""},{"$f":"IF(A109=\"\",\"\",INDEX(ACTIVIDADES!D:G,MATCH(A109,ACTIVIDADES!G:G,0),1))","v":""},{"$f":"IF(A109=\"\",\"\",CONCATENATE(INDEX(ACTIVIDADES!D:G,MATCH(A109,ACTIVIDADES!G:G,0),1),$M$4))","v":""},{"$f":"IF(A109=\"\",\"\",IF(A109=A108,\"\",CONCATENATE(INDEX(ACTIVIDADES!D:G,MATCH(A109,ACTIVIDADES!G:G,0),1),$M$4)))","v":""},{"$f":"IF(A109=\"\",\"\",INDEX(ACTIVIDADES!D:I,MATCH(A109,ACTIVIDADES!G:G,0),4))","v":""},"",105]
[null,null,{"$f":"IF(B110=\"\",\"\",VLOOKUP(B110,'Otras referencias'!$A$32:$B$55,2,FALSE))","v":""},null,{"$f":"IF(A110=\"\",\"\",INDEX(ACTIVIDADES!G:L,MATCH(A110,ACTIVIDADES!G:G,0),5))","v":""},{"$f":"IF(A110=\"\",\"\",INDEX(ACTIVIDADES!G:P,MATCH(A110,ACTIVIDADES!G:G,0),8))","v":""},{"$f":"IF(A110=\"\",\"\",INDEX(ACTIVIDADES!D:G,MATCH(A110,ACTIVIDADES!G:G,0),1))","v":""},{"$f":"IF(A110=\"\",\"\",CONCATENATE(INDEX(ACTIVIDADES!D:G,MATCH(A110,ACTIVIDADES!G:G,0),1),$M$4))","v":""},{"$f":"IF(A110=\"\",\"\",IF(A110=A109,\"\",CONCATENATE(INDEX(ACTIVIDADES!D:G,MATCH(A110,ACTIVIDADES!G:G,0),1),$M$4)))","v":""},{"$f":"IF(A110=\"\",\"\",INDEX(ACTIVIDADES!D:I,MATCH(A110,ACTIVIDADES!G:G,0),4))","v":""},"",106]
[null,null,{"$f":"IF(B111=\"\",\"\",VLOOKUP(B111,'Otras referencias'!$A$32:$B$55,2,FALSE))","v":""},null,{"$f":"IF(A111=\"\",\"\",INDEX(ACTIVIDADES!G:L,MATCH(A111,ACTIVIDADES!G:G,0),5))","v":""},{"$f":"IF(A111=\"\",\"\",INDEX(ACTIVIDADES!G:P,MATCH(A111,ACTIVIDADES!G:G,0),8))","v":""},{"$f":"IF(A111=\"\",\"\",INDEX(ACTIVIDADES!D:G,MATCH(A111,ACTIVIDADES!G:G,0),1))","v":""},{"$f":"IF(A111=\"\",\"\",CONCATENATE(INDEX(ACTIVIDADES!D:G,MATCH(A111,ACTIVIDADES!G:G,0),1),$M$4))","v":""},{"$f":"IF(A111=\"\",\"\",IF(A111=A110,\"\",CONCATENATE(INDEX(ACTIVIDADES!D:G,MATCH(A111,ACTIVIDADES!G:G,0),1),$M$4)))","v":""},{"$f":"IF(A111=\"\",\"\",INDEX(ACTIVIDADES!D:I,MATCH(A111,ACTIVIDADES!G:G,0),4))","v":""},"",107]
[null,null,{"$f":"IF(B112=\"\",\"\",VLOOKUP(B112,'Otras referencias'!$A$32:$B$55,2,FALSE))","v":""},null,{"$f":"IF(A112=\"\",\"\",INDEX(ACTIVIDADES!G:L,MATCH(A112,ACTIVIDADES!G:G,0),5))","v":""},{"$f":"IF(A112=\"\",\"\",INDEX(ACTIVIDADES!G:P,MATCH(A112,ACTIVIDADES!G:G,0),8))","v":""},{"$f":"IF(A112=\"\",\"\",INDEX(ACTIVIDADES!D:G,MATCH(A112,ACTIVIDADES!G:G,0),1))","v":""},{"$f":"IF(A112=\"\",\"\",CONCATENATE(INDEX(ACTIVIDADES!D:G,MATCH(A112,ACTIVIDADES!G:G,0),1),$M$4))","v":""},{"$f":"IF(A112=\"\",\"\",IF(A112=A111,\"\",CONCATENATE(INDEX(ACTIVIDADES!D:G,MATCH(A112,ACTIVIDADES!G:G,0),1),$M$4)))","v":""},{"$f":"IF(A112=\"\",\"\",INDEX(ACTIVIDADES!D:I,MATCH(A112,ACTIVIDADES!G:G,0),4))","v":""},"",108]
[null,null,{"$f":"IF(B113=\"\",\"\",VLOOKUP(B113,'Otras referencias'!$A$32:$B$55,2,FALSE))","v":""},null,{"$f":"IF(A113=\"\",\"\",INDEX(ACTIVIDADES!G:L,MATCH(A113,ACTIVIDADES!G:G,0),5))","v":""},{"$f":"IF(A113=\"\",\"\",INDEX(ACTIVIDADES!G:P,MATCH(A113,ACTIVIDADES!G:G,0),8))","v":""},{"$f":"IF(A113=\"\",\"\",INDEX(ACTIVIDADES!D:G,MATCH(A113,ACTIVIDADES!G:G,0),1))","v":""},{"$f":"IF(A113=\"\",\"\",CONCATENATE(INDEX(ACTIVIDADES!D:G,MATCH(A113,ACTIVIDADES!G:G,0),1),$M$4))","v":""},{"$f":"IF(A113=\"\",\"\",IF(A113=A112,\"\",CONCATENATE(INDEX(ACTIVIDADES!D:G,MATCH(A113,ACTIVIDADES!G:G,0),1),$M$4)))","v":""},{"$f":"IF(A113=\"\",\"\",INDEX(ACTIVIDADES!D:I,MATCH(A113,ACTIVIDADES!G:G,0),4))","v":""},"",109]
[null,null,{"$f":"IF(B114=\"\",\"\",VLOOKUP(B114,'Otras referencias'!$A$32:$B$55,2,FALSE))","v":""},null,{"$f":"IF(A114=\"\",\"\",INDEX(ACTIVIDADES!G:L,MATCH(A114,ACTIVIDADES!G:G,0),5))","v":""},{"$f":"IF(A114=\"\",\"\",INDEX(ACTIVIDADES!G:P,MATCH(A114,ACTIVIDADES!G:G,0),8))","v":""},{"$f":"IF(A114=\"\",\"\",INDEX(ACTIVIDADES!D:G,MATCH(A114,ACTIVIDADES!G:G,0),1))","v":""},{"$f":"IF(A114=\"\",\"\",CONCATENATE(INDEX(ACTIVIDADES!D:G,MATCH(A114,ACTIVIDADES!G:G,0),1),$M$4))","v":""},{"$f":"IF(A114=\"\",\"\",IF(A114=A113,\"\",CONCATENATE(INDEX(ACTIVIDADES!D:G,MATCH(A114,ACTIVIDADES!G:G,0),1),$M$4)))","v":""},{"$f":"IF(A114=\"\",\"\",INDEX(ACTIVIDADES!D:I,MATCH(A114,ACTIVIDADES!G:G,0),4))","v":""},"",110]
[null,null,{"$f":"IF(B115=\"\",\"\",VLOOKUP(B115,'Otras referencias'!$A$32:$B$55,2,FALSE))","v":""},null,{"$f":"IF(A115=\"\",\"\",INDEX(ACTIVIDADES!G:L,MATCH(A115,ACTIVIDADES!G:G,0),5))","v":""},{"$f":"IF(A115=\"\",\"\",INDEX(ACTIVIDADES!G:P,MATCH(A115,ACTIVIDADES!G:G,0),8))","v":""},{"$f":"IF(A115=\"\",\"\",INDEX(ACTIVIDADES!D:G,MATCH(A115,ACTIVIDADES!G:G,0),1))","v":""},{"$f":"IF(A115=\"\",\"\",CONCATENATE(INDEX(ACTIVIDADES!D:G,MATCH(A115,ACTIVIDADES!G:G,0),1),$M$4))","v":""},{"$f":"IF(A115=\"\",\"\",IF(A115=A114,\"\",CONCATENATE(INDEX(ACTIVIDADES!D:G,MATCH(A115,ACTIVIDADES!G:G,0),1),$M$4)))","v":""},{"$f":"IF(A115=\"\",\"\",INDEX(ACTIVIDADES!D:I,MATCH(A115,ACTIVIDADES!G:G,0),4))","v":""},"",111]
[null,null,{"$f":"IF(B116=\"\",\"\",VLOOKUP(B116,'Otras referencias'!$A$32:$B$55,2,FALSE))","v":""},null,{"$f":"IF(A116=\"\",\"\",INDEX(ACTIVIDADES!G:L,MATCH(A116,ACTIVIDADES!G:G,0),5))","v":""},{"$f":"IF(A116=\"\",\"\",INDEX(ACTIVIDADES!G:P,MATCH(A116,ACTIVIDADES!G:G,0),8))","v":""},{"$f":"IF(A116=\"\",\"\",INDEX(ACTIVIDADES!D:G,MATCH(A116,ACTIVIDADES!G:G,0),1))","v":""},{"$f":"IF(A116=\"\",\"\",CONCATENATE(INDEX(ACTIVIDADES!D:G,MATCH(A116,ACTIVIDADES!G:G,0),1),$M$4))","v":""},{"$f":"IF(A116=\"\",\"\",IF(A116=A115,\"\",CONCATENATE(INDEX(ACTIVIDADES!D:G,MATCH(A116,ACTIVIDADES!G:G,0),1),$M$4)))","v":""},{"$f":"IF(A116=\"\",\"\",INDEX(ACTIVIDADES!D:I,MATCH(A116,ACTIVIDADES!G:G,0),4))","v":""},"",112]
[null,null,{"$f":"IF(B117=\"\",\"\",VLOOKUP(B117,'Otras referencias'!$A$32:$B$55,2,FALSE))","v":""},null,{"$f":"IF(A117=\"\",\"\",INDEX(ACTIVIDADES!G:L,MATCH(A117,ACTIVIDADES!G:G,0),5))","v":""},{"$f":"IF(A117=\"\",\"\",INDEX(ACTIVIDADES!G:P,MATCH(A117,ACTIVIDADES!G:G,0),8))","v":""},{"$f":"IF(A117=\"\",\"\",INDEX(ACTIVIDADES!D:G,MATCH(A117,ACTIVIDADES!G:G,0),1))","v":""},{"$f":"IF(A117=\"\",\"\",CONCATENATE(INDEX(ACTIVIDADES!D:G,MATCH(A117,ACTIVIDADES!G:G,0),1),$M$4))","v":""},{"$f":"IF(A117=\"\",\"\",IF(A117=A116,\"\",CONCATENATE(INDEX(ACTIVIDADES!D:G,MATCH(A117,ACTIVIDADES!G:G,0),1),$M$4)))","v":""},{"$f":"IF(A117=\"\",\"\",INDEX(ACTIVIDADES!D:I,MATCH(A117,ACTIVIDADES!G:G,0),4))","v":""},"",113]
[null,null,{"$f":"IF(B118=\"\",\"\",VLOOKUP(B118,'Otras referencias'!$A$32:$B$55,2,FALSE))","v":""},null,{"$f":"IF(A118=\"\",\"\",INDEX(ACTIVIDADES!G:L,MATCH(A118,ACTIVIDADES!G:G,0),5))","v":""},{"$f":"IF(A118=\"\",\"\",INDEX(ACTIVIDADES!G:P,MATCH(A118,ACTIVIDADES!G:G,0),8))","v":""},{"$f":"IF(A118=\"\",\"\",INDEX(ACTIVIDADES!D:G,MATCH(A118,ACTIVIDADES!G:G,0),1))","v":""},{"$f":"IF(A118=\"\",\"\",CONCATENATE(INDEX(ACTIVIDADES!D:G,MATCH(A118,ACTIVIDADES!G:G,0),1),$M$4))","v":""},{"$f":"IF(A118=\"\",\"\",IF(A118=A117,\"\",CONCATENATE(INDEX(ACTIVIDADES!D:G,MATCH(A118,ACTIVIDADES!G:G,0),1),$M$4)))","v":""},{"$f":"IF(A118=\"\",\"\",INDEX(ACTIVIDADES!D:I,MATCH(A118,ACTIVIDADES!G:G,0),4))","v":""},"",114]
[null,null,{"$f":"IF(B119=\"\",\"\",VLOOKUP(B119,'Otras referencias'!$A$32:$B$55,2,FALSE))","v":""},null,{"$f":"IF(A119=\"\",\"\",INDEX(ACTIVIDADES!G:L,MATCH(A119,ACTIVIDADES!G:G,0),5))","v":""},{"$f":"IF(A119=\"\",\"\",INDEX(ACTIVIDADES!G:P,MATCH(A119,ACTIVIDADES!G:G,0),8))","v":""},{"$f":"IF(A119=\"\",\"\",INDEX(ACTIVIDADES!D:G,MATCH(A119,ACTIVIDADES!G:G,0),1))","v":""},{"$f":"IF(A119=\"\",\"\",CONCATENATE(INDEX(ACTIVIDADES!D:G,MATCH(A119,ACTIVIDADES!G:G,0),1),$M$4))","v":""},{"$f":"IF(A119=\"\",\"\",IF(A119=A118,\"\",CONCATENATE(INDEX(ACTIVIDADES!D:G,MATCH(A119,ACTIVIDADES!G:G,0),1),$M$4)))","v":""},{"$f":"IF(A119=\"\",\"\",INDEX(ACTIVIDADES!D:I,MATCH(A119,ACTIVIDADES!G:G,0),4))","v":""},"",115]
[null,null,{"$f":"IF(B120=\"\",\"\",VLOOKUP(B120,'Otras referencias'!$A$32:$B$55,2,FALSE))","v":""},null,{"$f":"IF(A120=\"\",\"\",INDEX(ACTIVIDADES!G:L,MATCH(A120,ACTIVIDADES!G:G,0),5))","v":""},{"$f":"IF(A120=\"\",\"\",INDEX(ACTIVIDADES!G:P,MATCH(A120,ACTIVIDADES!G:G,0),8))","v":""},{"$f":"IF(A120=\"\",\"\",INDEX(ACTIVIDADES!D:G,MATCH(A120,ACTIVIDADES!G:G,0),1))","v":""},{"$f":"IF(A120=\"\",\"\",CONCATENATE(INDEX(ACTIVIDADES!D:G,MATCH(A120,ACTIVIDADES!G:G,0),1),$M$4))","v":""},{"$f":"IF(A120=\"\",\"\",IF(A120=A119,\"\",CONCATENATE(INDEX(ACTIVIDADES!D:G,MATCH(A120,ACTIVIDADES!G:G,0),1),$M$4)))","v":""},{"$f":"IF(A120=\"\",\"\",INDEX(ACTIVIDADES!D:I,MATCH(A120,ACTIVIDADES!G:G,0),4))","v":""},"",116]
[null,null,{"$f":"IF(B121=\"\",\"\",VLOOKUP(B121,'Otras referencias'!$A$32:$B$55,2,FALSE))","v":""},null,{"$f":"IF(A121=\"\",\"\",INDEX(ACTIVIDADES!G:L,MATCH(A121,ACTIVIDADES!G:G,0),5))","v":""},{"$f":"IF(A121=\"\",\"\",INDEX(ACTIVIDADES!G:P,MATCH(A121,ACTIVIDADES!G:G,0),8))","v":""},{"$f":"IF(A121=\"\",\"\",INDEX(ACTIVIDADES!D:G,MATCH(A121,ACTIVIDADES!G:G,0),1))","v":""},{"$f":"IF(A121=\"\",\"\",CONCATENATE(INDEX(ACTIVIDADES!D:G,MATCH(A121,ACTIVIDADES!G:G,0),1),$M$4))","v":""},{"$f":"IF(A121=\"\",\"\",IF(A121=A120,\"\",CONCATENATE(INDEX(ACTIVIDADES!D:G,MATCH(A121,ACTIVIDADES!G:G,0),1),$M$4)))","v":""},{"$f":"IF(A121=\"\",\"\",INDEX(ACTIVIDADES!D:I,MATCH(A121,ACTIVIDADES!G:G,0),4))","v":""},"",117]
[null,null,{"$f":"IF(B122=\"\",\"\",VLOOKUP(B122,'Otras referencias'!$A$32:$B$55,2,FALSE))","v":""},null,{"$f":"IF(A122=\"\",\"\",INDEX(ACTIVIDADES!G:L,MATCH(A122,ACTIVIDADES!G:G,0),5))","v":""},{"$f":"IF(A122=\"\",\"\",INDEX(ACTIVIDADES!G:P,MATCH(A122,ACTIVIDADES!G:G,0),8))","v":""},{"$f":"IF(A122=\"\",\"\",INDEX(ACTIVIDADES!D:G,MATCH(A122,ACTIVIDADES!G:G,0),1))","v":""},{"$f":"IF(A122=\"\",\"\",CONCATENATE(INDEX(ACTIVIDADES!D:G,MATCH(A122,ACTIVIDADES!G:G,0),1),$M$4))","v":""},{"$f":"IF(A122=\"\",\"\",IF(A122=A121,\"\",CONCATENATE(INDEX(ACTIVIDADES!D:G,MATCH(A122,ACTIVIDADES!G:G,0),1),$M$4)))","v":""},{"$f":"IF(A122=\"\",\"\",INDEX(ACTIVIDADES!D:I,MATCH(A122,ACTIVIDADES!G:G,0),4))","v":""},"",118]
[null,null,{"$f":"IF(B123=\"\",\"\",VLOOKUP(B123,'Otras referencias'!$A$32:$B$55,2,FALSE))","v":""},null,{"$f":"IF(A123=\"\",\"\",INDEX(ACTIVIDADES!G:L,MATCH(A123,ACTIVIDADES!G:G,0),5))","v":""},{"$f":"IF(A123=\"\",\"\",INDEX(ACTIVIDADES!G:P,MATCH(A123,ACTIVIDADES!G:G,0),8))","v":""},{"$f":"IF(A123=\"\",\"\",INDEX(ACTIVIDADES!D:G,MATCH(A123,ACTIVIDADES!G:G,0),1))","v":""},{"$f":"IF(A123=\"\",\"\",CONCATENATE(INDEX(ACTIVIDADES!D:G,MATCH(A123,ACTIVIDADES!G:G,0),1),$M$4))","v":""},{"$f":"IF(A123=\"\",\"\",IF(A123=A122,\"\",CONCATENATE(INDEX(ACTIVIDADES!D:G,MATCH(A123,ACTIVIDADES!G:G,0),1),$M$4)))","v":""},{"$f":"IF(A123=\"\",\"\",INDEX(ACTIVIDADES!D:I,MATCH(A123,ACTIVIDADES!G:G,0),4))","v":""},"",119]
[null,null,{"$f":"IF(B124=\"\",\"\",VLOOKUP(B124,'Otras referencias'!$A$32:$B$55,2,FALSE))","v":""},null,{"$f":"IF(A124=\"\",\"\",INDEX(ACTIVIDADES!G:L,MATCH(A124,ACTIVIDADES!G:G,0),5))","v":""},{"$f":"IF(A124=\"\",\"\",INDEX(ACTIVIDADES!G:P,MATCH(A124,ACTIVIDADES!G:G,0),8))","v":""},{"$f":"IF(A124=\"\",\"\",INDEX(ACTIVIDADES!D:G,MATCH(A124,ACTIVIDADES!G:G,0),1))","v":""},{"$f":"IF(A124=\"\",\"\",CONCATENATE(INDEX(ACTIVIDADES!D:G,MATCH(A124,ACTIVIDADES!G:G,0),1),$M$4))","v":""},{"$f":"IF(A124=\"\",\"\",IF(A124=A123,\"\",CONCATENATE(INDEX(ACTIVIDADES!D:G,MATCH(A124,ACTIVIDADES!G:G,0),1),$M$4)))","v":""},{"$f":"IF(A124=\"\",\"\",INDEX(ACTIVIDADES!D:I,MATCH(A124,ACTIVIDADES!G:G,0),4))","v":""},"",120]
[null,null,{"$f":"IF(B125=\"\",\"\",VLOOKUP(B125,'Otras referencias'!$A$32:$B$55,2,FALSE))","v":""},null,{"$f":"IF(A125=\"\",\"\",INDEX(ACTIVIDADES!G:L,MATCH(A125,ACTIVIDADES!G:G,0),5))","v":""},{"$f":"IF(A125=\"\",\"\",INDEX(ACTIVIDADES!G:P,MATCH(A125,ACTIVIDADES!G:G,0),8))","v":""},{"$f":"IF(A125=\"\",\"\",INDEX(ACTIVIDADES!D:G,MATCH(A125,ACTIVIDADES!G:G,0),1))","v":""},{"$f":"IF(A125=\"\",\"\",CONCATENATE(INDEX(ACTIVIDADES!D:G,MATCH(A125,ACTIVIDADES!G:G,0),1),$M$4))","v":""},{"$f":"IF(A125=\"\",\"\",IF(A125=A124,\"\",CONCATENATE(INDEX(ACTIVIDADES!D:G,MATCH(A125,ACTIVIDADES!G:G,0),1),$M$4)))","v":""},{"$f":"IF(A125=\"\",\"\",INDEX(ACTIVIDADES!D:I,MATCH(A125,ACTIVIDADES!G:G,0),4))","v":""},"",121]
[null,null,{"$f":"IF(B126=\"\",\"\",VLOOKUP(B126,'Otras referencias'!$A$32:$B$55,2,FALSE))","v":""},null,{"$f":"IF(A126=\"\",\"\",INDEX(ACTIVIDADES!G:L,MATCH(A126,ACTIVIDADES!G:G,0),5))","v":""},{"$f":"IF(A126=\"\",\"\",INDEX(ACTIVIDADES!G:P,MATCH(A126,ACTIVIDADES!G:G,0),8))","v":""},{"$f":"IF(A126=\"\",\"\",INDEX(ACTIVIDADES!D:G,MATCH(A126,ACTIVIDADES!G:G,0),1))","v":""},{"$f":"IF(A126=\"\",\"\",CONCATENATE(INDEX(ACTIVIDADES!D:G,MATCH(A126,ACTIVIDADES!G:G,0),1),$M$4))","v":""},{"$f":"IF(A126=\"\",\"\",IF(A126=A125,\"\",CONCATENATE(INDEX(ACTIVIDADES!D:G,MATCH(A126,ACTIVIDADES!G:G,0),1),$M$4)))","v":""},{"$f":"IF(A126=\"\",\"\",INDEX(ACTIVIDADES!D:I,MATCH(A126,ACTIVIDADES!G:G,0),4))","v":""},"",122]
[null,null,{"$f":"IF(B127=\"\",\"\",VLOOKUP(B127,'Otras referencias'!$A$32:$B$55,2,FALSE))","v":""},null,{"$f":"IF(A127=\"\",\"\",INDEX(ACTIVIDADES!G:L,MATCH(A127,ACTIVIDADES!G:G,0),5))","v":""},{"$f":"IF(A127=\"\",\"\",INDEX(ACTIVIDADES!G:P,MATCH(A127,ACTIVIDADES!G:G,0),8))","v":""},{"$f":"IF(A127=\"\",\"\",INDEX(ACTIVIDADES!D:G,MATCH(A127,ACTIVIDADES!G:G,0),1))","v":""},{"$f":"IF(A127=\"\",\"\",CONCATENATE(INDEX(ACTIVIDADES!D:G,MATCH(A127,ACTIVIDADES!G:G,0),1),$M$4))","v":""},{"$f":"IF(A127=\"\",\"\",IF(A127=A126,\"\",CONCATENATE(INDEX(ACTIVIDADES!D:G,MATCH(A127,ACTIVIDADES!G:G,0),1),$M$4)))","v":""},{"$f":"IF(A127=\"\",\"\",INDEX(ACTIVIDADES!D:I,MATCH(A127,ACTIVIDADES!G:G,0),4))","v":""},"",123]
[null,null,{"$f":"IF(B128=\"\",\"\",VLOOKUP(B128,'Otras referencias'!$A$32:$B$55,2,FALSE))","v":""},null,{"$f":"IF(A128=\"\",\"\",INDEX(ACTIVIDADES!G:L,MATCH(A128,ACTIVIDADES!G:G,0),5))","v":""},{"$f":"IF(A128=\"\",\"\",INDEX(ACTIVIDADES!G:P,MATCH(A128,ACTIVIDADES!G:G,0),8))","v":""},{"$f":"IF(A128=\"\",\"\",INDEX(ACTIVIDADES!D:G,MATCH(A128,ACTIVIDADES!G:G,0),1))","v":""},{"$f":"IF(A128=\"\",\"\",CONCATENATE(INDEX(ACTIVIDADES!D:G,MATCH(A128,ACTIVIDADES!G:G,0),1),$M$4))","v":""},{"$f":"IF(A128=\"\",\"\",IF(A128=A127,\"\",CONCATENATE(INDEX(ACTIVIDADES!D:G,MATCH(A128,ACTIVIDADES!G:G,0),1),$M$4)))","v":""},{"$f":"IF(A128=\"\",\"\",INDEX(ACTIVIDADES!D:I,MATCH(A128,ACTIVIDADES!G:G,0),4))","v":""},"",124]
[null,null,{"$f":"IF(B129=\"\",\"\",VLOOKUP(B129,'Otras referencias'!$A$32:$B$55,2,FALSE))","v":""},null,{"$f":"IF(A129=\"\",\"\",INDEX(ACTIVIDADES!G:L,MATCH(A129,ACTIVIDADES!G:G,0),5))","v":""},{"$f":"IF(A129=\"\",\"\",INDEX(ACTIVIDADES!G:P,MATCH(A129,ACTIVIDADES!G:G,0),8))","v":""},{"$f":"IF(A129=\"\",\"\",INDEX(ACTIVIDADES!D:G,MATCH(A129,ACTIVIDADES!G:G,0),1))","v":""},{"$f":"IF(A129=\"\",\"\",CONCATENATE(INDEX(ACTIVIDADES!D:G,MATCH(A129,ACTIVIDADES!G:G,0),1),$M$4))","v":""},{"$f":"IF(A129=\"\",\"\",IF(A129=A128,\"\",CONCATENATE(INDEX(ACTIVIDADES!D:G,MATCH(A129,ACTIVIDADES!G:G,0),1),$M$4)))","v":""},{"$f":"IF(A129=\"\",\"\",INDEX(ACTIVIDADES!D:I,MATCH(A129,ACTIVIDADES!G:G,0),4))","v":""},"",125]
[null,null,{"$f":"IF(B130=\"\",\"\",VLOOKUP(B130,'Otras referencias'!$A$32:$B$55,2,FALSE))","v":""},null,{"$f":"IF(A130=\"\",\"\",INDEX(ACTIVIDADES!G:L,MATCH(A130,ACTIVIDADES!G:G,0),5))","v":""},{"$f":"IF(A130=\"\",\"\",INDEX(ACTIVIDADES!G:P,MATCH(A130,ACTIVIDADES!G:G,0),8))","v":""},{"$f":"IF(A130=\"\",\"\",INDEX(ACTIVIDADES!D:G,MATCH(A130,ACTIVIDADES!G:G,0),1))","v":""},{"$f":"IF(A130=\"\",\"\",CONCATENATE(INDEX(ACTIVIDADES!D:G,MATCH(A130,ACTIVIDADES!G:G,0),1),$M$4))","v":""},{"$f":"IF(A130=\"\",\"\",IF(A130=A129,\"\",CONCATENATE(INDEX(ACTIVIDADES!D:G,MATCH(A130,ACTIVIDADES!G:G,0),1),$M$4)))","v":""},{"$f":"IF(A130=\"\",\"\",INDEX(ACTIVIDADES!D:I,MATCH(A130,ACTIVIDADES!G:G,0),4))","v":""},"",126]
[null,null,{"$f":"IF(B131=\"\",\"\",VLOOKUP(B131,'Otras referencias'!$A$32:$B$55,2,FALSE))","v":""},null,{"$f":"IF(A131=\"\",\"\",INDEX(ACTIVIDADES!G:L,MATCH(A131,ACTIVIDADES!G:G,0),5))","v":""},{"$f":"IF(A131=\"\",\"\",INDEX(ACTIVIDADES!G:P,MATCH(A131,ACTIVIDADES!G:G,0),8))","v":""},{"$f":"IF(A131=\"\",\"\",INDEX(ACTIVIDADES!D:G,MATCH(A131,ACTIVIDADES!G:G,0),1))","v":""},{"$f":"IF(A131=\"\",\"\",CONCATENATE(INDEX(ACTIVIDADES!D:G,MATCH(A131,ACTIVIDADES!G:G,0),1),$M$4))","v":""},{"$f":"IF(A131=\"\",\"\",IF(A131=A130,\"\",CONCATENATE(INDEX(ACTIVIDADES!D:G,MATCH(A131,ACTIVIDADES!G:G,0),1),$M$4)))","v":""},{"$f":"IF(A131=\"\",\"\",INDEX(ACTIVIDADES!D:I,MATCH(A131,ACTIVIDADES!G:G,0),4))","v":""},"",127]
[null,null,{"$f":"IF(B132=\"\",\"\",VLOOKUP(B132,'Otras referencias'!$A$32:$B$55,2,FALSE))","v":""},null,{"$f":"IF(A132=\"\",\"\",INDEX(ACTIVIDADES!G:L,MATCH(A132,ACTIVIDADES!G:G,0),5))","v":""},{"$f":"IF(A132=\"\",\"\",INDEX(ACTIVIDADES!G:P,MATCH(A132,ACTIVIDADES!G:G,0),8))","v":""},{"$f":"IF(A132=\"\",\"\",INDEX(ACTIVIDADES!D:G,MATCH(A132,ACTIVIDADES!G:G,0),1))","v":""},{"$f":"IF(A132=\"\",\"\",CONCATENATE(INDEX(ACTIVIDADES!D:G,MATCH(A132,ACTIVIDADES!G:G,0),1),$M$4))","v":""},{"$f":"IF(A132=\"\",\"\",IF(A132=A131,\"\",CONCATENATE(INDEX(ACTIVIDADES!D:G,MATCH(A132,ACTIVIDADES!G:G,0),1),$M$4)))","v":""},{"$f":"IF(A132=\"\",\"\",INDEX(ACTIVIDADES!D:I,MATCH(A132,ACTIVIDADES!G:G,0),4))","v":""},"",128]
[null,null,{"$f":"IF(B133=\"\",\"\",VLOOKUP(B133,'Otras referencias'!$A$32:$B$55,2,FALSE))","v":""},null,{"$f":"IF(A133=\"\",\"\",INDEX(ACTIVIDADES!G:L,MATCH(A133,ACTIVIDADES!G:G,0),5))","v":""},{"$f":"IF(A133=\"\",\"\",INDEX(ACTIVIDADES!G:P,MATCH(A133,ACTIVIDADES!G:G,0),8))","v":""},{"$f":"IF(A133=\"\",\"\",INDEX(ACTIVIDADES!D:G,MATCH(A133,ACTIVIDADES!G:G,0),1))","v":""},{"$f":"IF(A133=\"\",\"\",CONCATENATE(INDEX(ACTIVIDADES!D:G,MATCH(A133,ACTIVIDADES!G:G,0),1),$M$4))","v":""},{"$f":"IF(A133=\"\",\"\",IF(A133=A132,\"\",CONCATENATE(INDEX(ACTIVIDADES!D:G,MATCH(A133,ACTIVIDADES!G:G,0),1),$M$4)))","v":""},{"$f":"IF(A133=\"\",\"\",INDEX(ACTIVIDADES!D:I,MATCH(A133,ACTIVIDADES!G:G,0),4))","v":""},{"$f":"IF(A133=\"\",\"\",CONCATENATE(G133,L133))","v":""},129]
[null,null,{"$f":"IF(B134=\"\",\"\",VLOOKUP(B134,'Otras referencias'!$A$32:$B$55,2,FALSE))","v":""},null,{"$f":"IF(A134=\"\",\"\",INDEX(ACTIVIDADES!G:L,MATCH(A134,ACTIVIDADES!G:G,0),5))","v":""},{"$f":"IF(A134=\"\",\"\",INDEX(ACTIVIDADES!G:P,MATCH(A134,ACTIVIDADES!G:G,0),8))","v":""},{"$f":"IF(A134=\"\",\"\",INDEX(ACTIVIDADES!D:G,MATCH(A134,ACTIVIDADES!G:G,0),1))","v":""},{"$f":"IF(A134=\"\",\"\",CONCATENATE(INDEX(ACTIVIDADES!D:G,MATCH(A134,ACTIVIDADES!G:G,0),1),$M$4))","v":""},{"$f":"IF(A134=\"\",\"\",IF(A134=A133,\"\",CONCATENATE(INDEX(ACTIVIDADES!D:G,MATCH(A134,ACTIVIDADES!G:G,0),1),$M$4)))","v":""},{"$f":"IF(A134=\"\",\"\",INDEX(ACTIVIDADES!D:I,MATCH(A134,ACTIVIDADES!G:G,0),4))","v":""},"",130]
[null,null,{"$f":"IF(B135=\"\",\"\",VLOOKUP(B135,'Otras referencias'!$A$32:$B$55,2,FALSE))","v":""},null,{"$f":"IF(A135=\"\",\"\",INDEX(ACTIVIDADES!G:L,MATCH(A135,ACTIVIDADES!G:G,0),5))","v":""},{"$f":"IF(A135=\"\",\"\",INDEX(ACTIVIDADES!G:P,MATCH(A135,ACTIVIDADES!G:G,0),8))","v":""},{"$f":"IF(A135=\"\",\"\",INDEX(ACTIVIDADES!D:G,MATCH(A135,ACTIVIDADES!G:G,0),1))","v":""},{"$f":"IF(A135=\"\",\"\",CONCATENATE(INDEX(ACTIVIDADES!D:G,MATCH(A135,ACTIVIDADES!G:G,0),1),$M$4))","v":""},{"$f":"IF(A135=\"\",\"\",IF(A135=A134,\"\",CONCATENATE(INDEX(ACTIVIDADES!D:G,MATCH(A135,ACTIVIDADES!G:G,0),1),$M$4)))","v":""},{"$f":"IF(A135=\"\",\"\",INDEX(ACTIVIDADES!D:I,MATCH(A135,ACTIVIDADES!G:G,0),4))","v":""},"",131]
[null,null,{"$f":"IF(B136=\"\",\"\",VLOOKUP(B136,'Otras referencias'!$A$32:$B$55,2,FALSE))","v":""},null,{"$f":"IF(A136=\"\",\"\",INDEX(ACTIVIDADES!G:L,MATCH(A136,ACTIVIDADES!G:G,0),5))","v":""},{"$f":"IF(A136=\"\",\"\",INDEX(ACTIVIDADES!G:P,MATCH(A136,ACTIVIDADES!G:G,0),8))","v":""},{"$f":"IF(A136=\"\",\"\",INDEX(ACTIVIDADES!D:G,MATCH(A136,ACTIVIDADES!G:G,0),1))","v":""},{"$f":"IF(A136=\"\",\"\",CONCATENATE(INDEX(ACTIVIDADES!D:G,MATCH(A136,ACTIVIDADES!G:G,0),1),$M$4))","v":""},{"$f":"IF(A136=\"\",\"\",IF(A136=A135,\"\",CONCATENATE(INDEX(ACTIVIDADES!D:G,MATCH(A136,ACTIVIDADES!G:G,0),1),$M$4)))","v":""},{"$f":"IF(A136=\"\",\"\",INDEX(ACTIVIDADES!D:I,MATCH(A136,ACTIVIDADES!G:G,0),4))","v":""},"",132]
[null,null,{"$f":"IF(B137=\"\",\"\",VLOOKUP(B137,'Otras referencias'!$A$32:$B$55,2,FALSE))","v":""},null,{"$f":"IF(A137=\"\",\"\",INDEX(ACTIVIDADES!G:L,MATCH(A137,ACTIVIDADES!G:G,0),5))","v":""},{"$f":"IF(A137=\"\",\"\",INDEX(ACTIVIDADES!G:P,MATCH(A137,ACTIVIDADES!G:G,0),8))","v":""},{"$f":"IF(A137=\"\",\"\",INDEX(ACTIVIDADES!D:G,MATCH(A137,ACTIVIDADES!G:G,0),1))","v":""},{"$f":"IF(A137=\"\",\"\",CONCATENATE(INDEX(ACTIVIDADES!D:G,MATCH(A137,ACTIVIDADES!G:G,0),1),$M$4))","v":""},{"$f":"IF(A137=\"\",\"\",IF(A137=A136,\"\",CONCATENATE(INDEX(ACTIVIDADES!D:G,MATCH(A137,ACTIVIDADES!G:G,0),1),$M$4)))","v":""},{"$f":"IF(A137=\"\",\"\",INDEX(ACTIVIDADES!D:I,MATCH(A137,ACTIVIDADES!G:G,0),4))","v":""},"",133]
[null,null,{"$f":"IF(B138=\"\",\"\",VLOOKUP(B138,'Otras referencias'!$A$32:$B$55,2,FALSE))","v":""},null,{"$f":"IF(A138=\"\",\"\",INDEX(ACTIVIDADES!G:L,MATCH(A138,ACTIVIDADES!G:G,0),5))","v":""},{"$f":"IF(A138=\"\",\"\",INDEX(ACTIVIDADES!G:P,MATCH(A138,ACTIVIDADES!G:G,0),8))","v":""},{"$f":"IF(A138=\"\",\"\",INDEX(ACTIVIDADES!D:G,MATCH(A138,ACTIVIDADES!G:G,0),1))","v":""},{"$f":"IF(A138=\"\",\"\",CONCATENATE(INDEX(ACTIVIDADES!D:G,MATCH(A138,ACTIVIDADES!G:G,0),1),$M$4))","v":""},{"$f":"IF(A138=\"\",\"\",IF(A138=A137,\"\",CONCATENATE(INDEX(ACTIVIDADES!D:G,MATCH(A138,ACTIVIDADES!G:G,0),1),$M$4)))","v":""},{"$f":"IF(A138=\"\",\"\",INDEX(ACTIVIDADES!D:I,MATCH(A138,ACTIVIDADES!G:G,0),4))","v":""},"",134]
[null,null,{"$f":"IF(B139=\"\",\"\",VLOOKUP(B139,'Otras referencias'!$A$32:$B$55,2,FALSE))","v":""},null,{"$f":"IF(A139=\"\",\"\",INDEX(ACTIVIDADES!G:L,MATCH(A139,ACTIVIDADES!G:G,0),5))","v":""},{"$f":"IF(A139=\"\",\"\",INDEX(ACTIVIDADES!G:P,MATCH(A139,ACTIVIDADES!G:G,0),8))","v":""},{"$f":"IF(A139=\"\",\"\",INDEX(ACTIVIDADES!D:G,MATCH(A139,ACTIVIDADES!G:G,0),1))","v":""},{"$f":"IF(A139=\"\",\"\",CONCATENATE(INDEX(ACTIVIDADES!D:G,MATCH(A139,ACTIVIDADES!G:G,0),1),$M$4))","v":""},{"$f":"IF(A139=\"\",\"\",IF(A139=A138,\"\",CONCATENATE(INDEX(ACTIVIDADES!D:G,MATCH(A139,ACTIVIDADES!G:G,0),1),$M$4)))","v":""},{"$f":"IF(A139=\"\",\"\",INDEX(ACTIVIDADES!D:I,MATCH(A139,ACTIVIDADES!G:G,0),4))","v":""},"",135]
[null,null,{"$f":"IF(B140=\"\",\"\",VLOOKUP(B140,'Otras referencias'!$A$32:$B$55,2,FALSE))","v":""},null,{"$f":"IF(A140=\"\",\"\",INDEX(ACTIVIDADES!G:L,MATCH(A140,ACTIVIDADES!G:G,0),5))","v":""},{"$f":"IF(A140=\"\",\"\",INDEX(ACTIVIDADES!G:P,MATCH(A140,ACTIVIDADES!G:G,0),8))","v":""},{"$f":"IF(A140=\"\",\"\",INDEX(ACTIVIDADES!D:G,MATCH(A140,ACTIVIDADES!G:G,0),1))","v":""},{"$f":"IF(A140=\"\",\"\",CONCATENATE(INDEX(ACTIVIDADES!D:G,MATCH(A140,ACTIVIDADES!G:G,0),1),$M$4))","v":""},{"$f":"IF(A140=\"\",\"\",IF(A140=A139,\"\",CONCATENATE(INDEX(ACTIVIDADES!D:G,MATCH(A140,ACTIVIDADES!G:G,0),1),$M$4)))","v":""},{"$f":"IF(A140=\"\",\"\",INDEX(ACTIVIDADES!D:I,MATCH(A140,ACTIVIDADES!G:G,0),4))","v":""},"",136]
[null,null,{"$f":"IF(B141=\"\",\"\",VLOOKUP(B141,'Otras referencias'!$A$32:$B$55,2,FALSE))","v":""},null,{"$f":"IF(A141=\"\",\"\",INDEX(ACTIVIDADES!G:L,MATCH(A141,ACTIVIDADES!G:G,0),5))","v":""},{"$f":"IF(A141=\"\",\"\",INDEX(ACTIVIDADES!G:P,MATCH(A141,ACTIVIDADES!G:G,0),8))","v":""},{"$f":"IF(A141=\"\",\"\",INDEX(ACTIVIDADES!D:G,MATCH(A141,ACTIVIDADES!G:G,0),1))","v":""},{"$f":"IF(A141=\"\",\"\",CONCATENATE(INDEX(ACTIVIDADES!D:G,MATCH(A141,ACTIVIDADES!G:G,0),1),$M$4))","v":""},{"$f":"IF(A141=\"\",\"\",IF(A141=A140,\"\",CONCATENATE(INDEX(ACTIVIDADES!D:G,MATCH(A141,ACTIVIDADES!G:G,0),1),$M$4)))","v":""},{"$f":"IF(A141=\"\",\"\",INDEX(ACTIVIDADES!D:I,MATCH(A141,ACTIVIDADES!G:G,0),4))","v":""},"",137]
[null,null,{"$f":"IF(B142=\"\",\"\",VLOOKUP(B142,'Otras referencias'!$A$32:$B$55,2,FALSE))","v":""},null,{"$f":"IF(A142=\"\",\"\",INDEX(ACTIVIDADES!G:L,MATCH(A142,ACTIVIDADES!G:G,0),5))","v":""},{"$f":"IF(A142=\"\",\"\",INDEX(ACTIVIDADES!G:P,MATCH(A142,ACTIVIDADES!G:G,0),8))","v":""},{"$f":"IF(A142=\"\",\"\",INDEX(ACTIVIDADES!D:G,MATCH(A142,ACTIVIDADES!G:G,0),1))","v":""},{"$f":"IF(A142=\"\",\"\",CONCATENATE(INDEX(ACTIVIDADES!D:G,MATCH(A142,ACTIVIDADES!G:G,0),1),$M$4))","v":""},{"$f":"IF(A142=\"\",\"\",IF(A142=A141,\"\",CONCATENATE(INDEX(ACTIVIDADES!D:G,MATCH(A142,ACTIVIDADES!G:G,0),1),$M$4)))","v":""},{"$f":"IF(A142=\"\",\"\",INDEX(ACTIVIDADES!D:I,MATCH(A142,ACTIVIDADES!G:G,0),4))","v":""},"",138]
[null,null,{"$f":"IF(B143=\"\",\"\",VLOOKUP(B143,'Otras referencias'!$A$32:$B$55,2,FALSE))","v":""},null,{"$f":"IF(A143=\"\",\"\",INDEX(ACTIVIDADES!G:L,MATCH(A143,ACTIVIDADES!G:G,0),5))","v":""},{"$f":"IF(A143=\"\",\"\",INDEX(ACTIVIDADES!G:P,MATCH(A143,ACTIVIDADES!G:G,0),8))","v":""},{"$f":"IF(A143=\"\",\"\",INDEX(ACTIVIDADES!D:G,MATCH(A143,ACTIVIDADES!G:G,0),1))","v":""},{"$f":"IF(A143=\"\",\"\",CONCATENATE(INDEX(ACTIVIDADES!D:G,MATCH(A143,ACTIVIDADES!G:G,0),1),$M$4))","v":""},{"$f":"IF(A143=\"\",\"\",IF(A143=A142,\"\",CONCATENATE(INDEX(ACTIVIDADES!D:G,MATCH(A143,ACTIVIDADES!G:G,0),1),$M$4)))","v":""},{"$f":"IF(A143=\"\",\"\",INDEX(ACTIVIDADES!D:I,MATCH(A143,ACTIVIDADES!G:G,0),4))","v":""},"",139]
[null,null,{"$f":"IF(B144=\"\",\"\",VLOOKUP(B144,'Otras referencias'!$A$32:$B$55,2,FALSE))","v":""},null,{"$f":"IF(A144=\"\",\"\",INDEX(ACTIVIDADES!G:L,MATCH(A144,ACTIVIDADES!G:G,0),5))","v":""},{"$f":"IF(A144=\"\",\"\",INDEX(ACTIVIDADES!G:P,MATCH(A144,ACTIVIDADES!G:G,0),8))","v":""},{"$f":"IF(A144=\"\",\"\",INDEX(ACTIVIDADES!D:G,MATCH(A144,ACTIVIDADES!G:G,0),1))","v":""},{"$f":"IF(A144=\"\",\"\",CONCATENATE(INDEX(ACTIVIDADES!D:G,MATCH(A144,ACTIVIDADES!G:G,0),1),$M$4))","v":""},{"$f":"IF(A144=\"\",\"\",IF(A144=A143,\"\",CONCATENATE(INDEX(ACTIVIDADES!D:G,MATCH(A144,ACTIVIDADES!G:G,0),1),$M$4)))","v":""},{"$f":"IF(A144=\"\",\"\",INDEX(ACTIVIDADES!D:I,MATCH(A144,ACTIVIDADES!G:G,0),4))","v":""},"",140]
[null,null,{"$f":"IF(B145=\"\",\"\",VLOOKUP(B145,'Otras referencias'!$A$32:$B$55,2,FALSE))","v":""},null,{"$f":"IF(A145=\"\",\"\",INDEX(ACTIVIDADES!G:L,MATCH(A145,ACTIVIDADES!G:G,0),5))","v":""},{"$f":"IF(A145=\"\",\"\",INDEX(ACTIVIDADES!G:P,MATCH(A145,ACTIVIDADES!G:G,0),8))","v":""},{"$f":"IF(A145=\"\",\"\",INDEX(ACTIVIDADES!D:G,MATCH(A145,ACTIVIDADES!G:G,0),1))","v":""},{"$f":"IF(A145=\"\",\"\",CONCATENATE(INDEX(ACTIVIDADES!D:G,MATCH(A145,ACTIVIDADES!G:G,0),1),$M$4))","v":""},{"$f":"IF(A145=\"\",\"\",IF(A145=A144,\"\",CONCATENATE(INDEX(ACTIVIDADES!D:G,MATCH(A145,ACTIVIDADES!G:G,0),1),$M$4)))","v":""},{"$f":"IF(A145=\"\",\"\",INDEX(ACTIVIDADES!D:I,MATCH(A145,ACTIVIDADES!G:G,0),4))","v":""},"",141]
[null,null,{"$f":"IF(B146=\"\",\"\",VLOOKUP(B146,'Otras referencias'!$A$32:$B$55,2,FALSE))","v":""},null,{"$f":"IF(A146=\"\",\"\",INDEX(ACTIVIDADES!G:L,MATCH(A146,ACTIVIDADES!G:G,0),5))","v":""},{"$f":"IF(A146=\"\",\"\",INDEX(ACTIVIDADES!G:P,MATCH(A146,ACTIVIDADES!G:G,0),8))","v":""},{"$f":"IF(A146=\"\",\"\",INDEX(ACTIVIDADES!D:G,MATCH(A146,ACTIVIDADES!G:G,0),1))","v":""},{"$f":"IF(A146=\"\",\"\",CONCATENATE(INDEX(ACTIVIDADES!D:G,MATCH(A146,ACTIVIDADES!G:G,0),1),$M$4))","v":""},{"$f":"IF(A146=\"\",\"\",IF(A146=A145,\"\",CONCATENATE(INDEX(ACTIVIDADES!D:G,MATCH(A146,ACTIVIDADES!G:G,0),1),$M$4)))","v":""},{"$f":"IF(A146=\"\",\"\",INDEX(ACTIVIDADES!D:I,MATCH(A146,ACTIVIDADES!G:G,0),4))","v":""},"",142]
[null,null,{"$f":"IF(B147=\"\",\"\",VLOOKUP(B147,'Otras referencias'!$A$32:$B$55,2,FALSE))","v":""},null,{"$f":"IF(A147=\"\",\"\",INDEX(ACTIVIDADES!G:L,MATCH(A147,ACTIVIDADES!G:G,0),5))","v":""},{"$f":"IF(A147=\"\",\"\",INDEX(ACTIVIDADES!G:P,MATCH(A147,ACTIVIDADES!G:G,0),8))","v":""},{"$f":"IF(A147=\"\",\"\",INDEX(ACTIVIDADES!D:G,MATCH(A147,ACTIVIDADES!G:G,0),1))","v":""},{"$f":"IF(A147=\"\",\"\",CONCATENATE(INDEX(ACTIVIDADES!D:G,MATCH(A147,ACTIVIDADES!G:G,0),1),$M$4))","v":""},{"$f":"IF(A147=\"\",\"\",IF(A147=A146,\"\",CONCATENATE(INDEX(ACTIVIDADES!D:G,MATCH(A147,ACTIVIDADES!G:G,0),1),$M$4)))","v":""},{"$f":"IF(A147=\"\",\"\",INDEX(ACTIVIDADES!D:I,MATCH(A147,ACTIVIDADES!G:G,0),4))","v":""},"",143]
[null,null,{"$f":"IF(B148=\"\",\"\",VLOOKUP(B148,'Otras referencias'!$A$32:$B$55,2,FALSE))","v":""},null,{"$f":"IF(A148=\"\",\"\",INDEX(ACTIVIDADES!G:L,MATCH(A148,ACTIVIDADES!G:G,0),5))","v":""},{"$f":"IF(A148=\"\",\"\",INDEX(ACTIVIDADES!G:P,MATCH(A148,ACTIVIDADES!G:G,0),8))","v":""},{"$f":"IF(A148=\"\",\"\",INDEX(ACTIVIDADES!D:G,MATCH(A148,ACTIVIDADES!G:G,0),1))","v":""},{"$f":"IF(A148=\"\",\"\",CONCATENATE(INDEX(ACTIVIDADES!D:G,MATCH(A148,ACTIVIDADES!G:G,0),1),$M$4))","v":""},{"$f":"IF(A148=\"\",\"\",IF(A148=A147,\"\",CONCATENATE(INDEX(ACTIVIDADES!D:G,MATCH(A148,ACTIVIDADES!G:G,0),1),$M$4)))","v":""},{"$f":"IF(A148=\"\",\"\",INDEX(ACTIVIDADES!D:I,MATCH(A148,ACTIVIDADES!G:G,0),4))","v":""},"",144]
[null,null,{"$f":"IF(B149=\"\",\"\",VLOOKUP(B149,'Otras referencias'!$A$32:$B$55,2,FALSE))","v":""},null,{"$f":"IF(A149=\"\",\"\",INDEX(ACTIVIDADES!G:L,MATCH(A149,ACTIVIDADES!G:G,0),5))","v":""},{"$f":"IF(A149=\"\",\"\",INDEX(ACTIVIDADES!G:P,MATCH(A149,ACTIVIDADES!G:G,0),8))","v":""},{"$f":"IF(A149=\"\",\"\",INDEX(ACTIVIDADES!D:G,MATCH(A149,ACTIVIDADES!G:G,0),1))","v":""},{"$f":"IF(A149=\"\",\"\",CONCATENATE(INDEX(ACTIVIDADES!D:G,MATCH(A149,ACTIVIDADES!G:G,0),1),$M$4))","v":""},{"$f":"IF(A149=\"\",\"\",IF(A149=A148,\"\",CONCATENATE(INDEX(ACTIVIDADES!D:G,MATCH(A149,ACTIVIDADES!G:G,0),1),$M$4)))","v":""},{"$f":"IF(A149=\"\",\"\",INDEX(ACTIVIDADES!D:I,MATCH(A149,ACTIVIDADES!G:G,0),4))","v":""},"",145]
[null,null,{"$f":"IF(B150=\"\",\"\",VLOOKUP(B150,'Otras referencias'!$A$32:$B$55,2,FALSE))","v":""},null,{"$f":"IF(A150=\"\",\"\",INDEX(ACTIVIDADES!G:L,MATCH(A150,ACTIVIDADES!G:G,0),5))","v":""},{"$f":"IF(A150=\"\",\"\",INDEX(ACTIVIDADES!G:P,MATCH(A150,ACTIVIDADES!G:G,0),8))","v":""},{"$f":"IF(A150=\"\",\"\",INDEX(ACTIVIDADES!D:G,MATCH(A150,ACTIVIDADES!G:G,0),1))","v":""},{"$f":"IF(A150=\"\",\"\",CONCATENATE(INDEX(ACTIVIDADES!D:G,MATCH(A150,ACTIVIDADES!G:G,0),1),$M$4))","v":""},{"$f":"IF(A150=\"\",\"\",IF(A150=A149,\"\",CONCATENATE(INDEX(ACTIVIDADES!D:G,MATCH(A150,ACTIVIDADES!G:G,0),1),$M$4)))","v":""},{"$f":"IF(A150=\"\",\"\",INDEX(ACTIVIDADES!D:I,MATCH(A150,ACTIVIDADES!G:G,0),4))","v":""},"",146]
[null,null,{"$f":"IF(B151=\"\",\"\",VLOOKUP(B151,'Otras referencias'!$A$32:$B$55,2,FALSE))","v":""},null,{"$f":"IF(A151=\"\",\"\",INDEX(ACTIVIDADES!G:L,MATCH(A151,ACTIVIDADES!G:G,0),5))","v":""},{"$f":"IF(A151=\"\",\"\",INDEX(ACTIVIDADES!G:P,MATCH(A151,ACTIVIDADES!G:G,0),8))","v":""},{"$f":"IF(A151=\"\",\"\",INDEX(ACTIVIDADES!D:G,MATCH(A151,ACTIVIDADES!G:G,0),1))","v":""},{"$f":"IF(A151=\"\",\"\",CONCATENATE(INDEX(ACTIVIDADES!D:G,MATCH(A151,ACTIVIDADES!G:G,0),1),$M$4))","v":""},{"$f":"IF(A151=\"\",\"\",IF(A151=A150,\"\",CONCATENATE(INDEX(ACTIVIDADES!D:G,MATCH(A151,ACTIVIDADES!G:G,0),1),$M$4)))","v":""},{"$f":"IF(A151=\"\",\"\",INDEX(ACTIVIDADES!D:I,MATCH(A151,ACTIVIDADES!G:G,0),4))","v":""},"",147]
[null,null,{"$f":"IF(B152=\"\",\"\",VLOOKUP(B152,'Otras referencias'!$A$32:$B$55,2,FALSE))","v":""},null,{"$f":"IF(A152=\"\",\"\",INDEX(ACTIVIDADES!G:L,MATCH(A152,ACTIVIDADES!G:G,0),5))","v":""},{"$f":"IF(A152=\"\",\"\",INDEX(ACTIVIDADES!G:P,MATCH(A152,ACTIVIDADES!G:G,0),8))","v":""},{"$f":"IF(A152=\"\",\"\",INDEX(ACTIVIDADES!D:G,MATCH(A152,ACTIVIDADES!G:G,0),1))","v":""},{"$f":"IF(A152=\"\",\"\",CONCATENATE(INDEX(ACTIVIDADES!D:G,MATCH(A152,ACTIVIDADES!G:G,0),1),$M$4))","v":""},{"$f":"IF(A152=\"\",\"\",IF(A152=A151,\"\",CONCATENATE(INDEX(ACTIVIDADES!D:G,MATCH(A152,ACTIVIDADES!G:G,0),1),$M$4)))","v":""},{"$f":"IF(A152=\"\",\"\",INDEX(ACTIVIDADES!D:I,MATCH(A152,ACTIVIDADES!G:G,0),4))","v":""},"",148]
[null,null,{"$f":"IF(B153=\"\",\"\",VLOOKUP(B153,'Otras referencias'!$A$32:$B$55,2,FALSE))","v":""},null,{"$f":"IF(A153=\"\",\"\",INDEX(ACTIVIDADES!G:L,MATCH(A153,ACTIVIDADES!G:G,0),5))","v":""},{"$f":"IF(A153=\"\",\"\",INDEX(ACTIVIDADES!G:P,MATCH(A153,ACTIVIDADES!G:G,0),8))","v":""},{"$f":"IF(A153=\"\",\"\",INDEX(ACTIVIDADES!D:G,MATCH(A153,ACTIVIDADES!G:G,0),1))","v":""},{"$f":"IF(A153=\"\",\"\",CONCATENATE(INDEX(ACTIVIDADES!D:G,MATCH(A153,ACTIVIDADES!G:G,0),1),$M$4))","v":""},{"$f":"IF(A153=\"\",\"\",IF(A153=A152,\"\",CONCATENATE(INDEX(ACTIVIDADES!D:G,MATCH(A153,ACTIVIDADES!G:G,0),1),$M$4)))","v":""},{"$f":"IF(A153=\"\",\"\",INDEX(ACTIVIDADES!D:I,MATCH(A153,ACTIVIDADES!G:G,0),4))","v":""},"",149]
[null,null,{"$f":"IF(B154=\"\",\"\",VLOOKUP(B154,'Otras referencias'!$A$32:$B$55,2,FALSE))","v":""},null,{"$f":"IF(A154=\"\",\"\",INDEX(ACTIVIDADES!G:L,MATCH(A154,ACTIVIDADES!G:G,0),5))","v":""},{"$f":"IF(A154=\"\",\"\",INDEX(ACTIVIDADES!G:P,MATCH(A154,ACTIVIDADES!G:G,0),8))","v":""},{"$f":"IF(A154=\"\",\"\",INDEX(ACTIVIDADES!D:G,MATCH(A154,ACTIVIDADES!G:G,0),1))","v":""},{"$f":"IF(A154=\"\",\"\",CONCATENATE(INDEX(ACTIVIDADES!D:G,MATCH(A154,ACTIVIDADES!G:G,0),1),$M$4))","v":""},{"$f":"IF(A154=\"\",\"\",IF(A154=A153,\"\",CONCATENATE(INDEX(ACTIVIDADES!D:G,MATCH(A154,ACTIVIDADES!G:G,0),1),$M$4)))","v":""},{"$f":"IF(A154=\"\",\"\",INDEX(ACTIVIDADES!D:I,MATCH(A154,ACTIVIDADES!G:G,0),4))","v":""},"",150]
[null,null,{"$f":"IF(B155=\"\",\"\",VLOOKUP(B155,'Otras referencias'!$A$32:$B$55,2,FALSE))","v":""},null,{"$f":"IF(A155=\"\",\"\",INDEX(ACTIVIDADES!G:L,MATCH(A155,ACTIVIDADES!G:G,0),5))","v":""},{"$f":"IF(A155=\"\",\"\",INDEX(ACTIVIDADES!G:P,MATCH(A155,ACTIVIDADES!G:G,0),8))","v":""},{"$f":"IF(A155=\"\",\"\",INDEX(ACTIVIDADES!D:G,MATCH(A155,ACTIVIDADES!G:G,0),1))","v":""},{"$f":"IF(A155=\"\",\"\",CONCATENATE(INDEX(ACTIVIDADES!D:G,MATCH(A155,ACTIVIDADES!G:G,0),1),$M$4))","v":""},{"$f":"IF(A155=\"\",\"\",IF(A155=A154,\"\",CONCATENATE(INDEX(ACTIVIDADES!D:G,MATCH(A155,ACTIVIDADES!G:G,0),1),$M$4)))","v":""},{"$f":"IF(A155=\"\",\"\",INDEX(ACTIVIDADES!D:I,MATCH(A155,ACTIVIDADES!G:G,0),4))","v":""},"",151]
[null,null,{"$f":"IF(B156=\"\",\"\",VLOOKUP(B156,'Otras referencias'!$A$32:$B$55,2,FALSE))","v":""},null,{"$f":"IF(A156=\"\",\"\",INDEX(ACTIVIDADES!G:L,MATCH(A156,ACTIVIDADES!G:G,0),5))","v":""},{"$f":"IF(A156=\"\",\"\",INDEX(ACTIVIDADES!G:P,MATCH(A156,ACTIVIDADES!G:G,0),8))","v":""},{"$f":"IF(A156=\"\",\"\",INDEX(ACTIVIDADES!D:G,MATCH(A156,ACTIVIDADES!G:G,0),1))","v":""},{"$f":"IF(A156=\"\",\"\",CONCATENATE(INDEX(ACTIVIDADES!D:G,MATCH(A156,ACTIVIDADES!G:G,0),1),$M$4))","v":""},{"$f":"IF(A156=\"\",\"\",IF(A156=A155,\"\",CONCATENATE(INDEX(ACTIVIDADES!D:G,MATCH(A156,ACTIVIDADES!G:G,0),1),$M$4)))","v":""},{"$f":"IF(A156=\"\",\"\",INDEX(ACTIVIDADES!D:I,MATCH(A156,ACTIVIDADES!G:G,0),4))","v":""},"",152]
[null,null,{"$f":"IF(B157=\"\",\"\",VLOOKUP(B157,'Otras referencias'!$A$32:$B$55,2,FALSE))","v":""},null,{"$f":"IF(A157=\"\",\"\",INDEX(ACTIVIDADES!G:L,MATCH(A157,ACTIVIDADES!G:G,0),5))","v":""},{"$f":"IF(A157=\"\",\"\",INDEX(ACTIVIDADES!G:P,MATCH(A157,ACTIVIDADES!G:G,0),8))","v":""},{"$f":"IF(A157=\"\",\"\",INDEX(ACTIVIDADES!D:G,MATCH(A157,ACTIVIDADES!G:G,0),1))","v":""},{"$f":"IF(A157=\"\",\"\",CONCATENATE(INDEX(ACTIVIDADES!D:G,MATCH(A157,ACTIVIDADES!G:G,0),1),$M$4))","v":""},{"$f":"IF(A157=\"\",\"\",IF(A157=A156,\"\",CONCATENATE(INDEX(ACTIVIDADES!D:G,MATCH(A157,ACTIVIDADES!G:G,0),1),$M$4)))","v":""},{"$f":"IF(A157=\"\",\"\",INDEX(ACTIVIDADES!D:I,MATCH(A157,ACTIVIDADES!G:G,0),4))","v":""},"",153]
[null,null,{"$f":"IF(B158=\"\",\"\",VLOOKUP(B158,'Otras referencias'!$A$32:$B$55,2,FALSE))","v":""},null,{"$f":"IF(A158=\"\",\"\",INDEX(ACTIVIDADES!G:L,MATCH(A158,ACTIVIDADES!G:G,0),5))","v":""},{"$f":"IF(A158=\"\",\"\",INDEX(ACTIVIDADES!G:P,MATCH(A158,ACTIVIDADES!G:G,0),8))","v":""},{"$f":"IF(A158=\"\",\"\",INDEX(ACTIVIDADES!D:G,MATCH(A158,ACTIVIDADES!G:G,0),1))","v":""},{"$f":"IF(A158=\"\",\"\",CONCATENATE(INDEX(ACTIVIDADES!D:G,MATCH(A158,ACTIVIDADES!G:G,0),1),$M$4))","v":""},{"$f":"IF(A158=\"\",\"\",IF(A158=A157,\"\",CONCATENATE(INDEX(ACTIVIDADES!D:G,MATCH(A158,ACTIVIDADES!G:G,0),1),$M$4)))","v":""},{"$f":"IF(A158=\"\",\"\",INDEX(ACTIVIDADES!D:I,MATCH(A158,ACTIVIDADES!G:G,0),4))","v":""},"",154]
[null,null,{"$f":"IF(B159=\"\",\"\",VLOOKUP(B159,'Otras referencias'!$A$32:$B$55,2,FALSE))","v":""},null,{"$f":"IF(A159=\"\",\"\",INDEX(ACTIVIDADES!G:L,MATCH(A159,ACTIVIDADES!G:G,0),5))","v":""},{"$f":"IF(A159=\"\",\"\",INDEX(ACTIVIDADES!G:P,MATCH(A159,ACTIVIDADES!G:G,0),8))","v":""},{"$f":"IF(A159=\"\",\"\",INDEX(ACTIVIDADES!D:G,MATCH(A159,ACTIVIDADES!G:G,0),1))","v":""},{"$f":"IF(A159=\"\",\"\",CONCATENATE(INDEX(ACTIVIDADES!D:G,MATCH(A159,ACTIVIDADES!G:G,0),1),$M$4))","v":""},{"$f":"IF(A159=\"\",\"\",IF(A159=A158,\"\",CONCATENATE(INDEX(ACTIVIDADES!D:G,MATCH(A159,ACTIVIDADES!G:G,0),1),$M$4)))","v":""},{"$f":"IF(A159=\"\",\"\",INDEX(ACTIVIDADES!D:I,MATCH(A159,ACTIVIDADES!G:G,0),4))","v":""},"",155]
[null,null,{"$f":"IF(B160=\"\",\"\",VLOOKUP(B160,'Otras referencias'!$A$32:$B$55,2,FALSE))","v":""},null,{"$f":"IF(A160=\"\",\"\",INDEX(ACTIVIDADES!G:L,MATCH(A160,ACTIVIDADES!G:G,0),5))","v":""},{"$f":"IF(A160=\"\",\"\",INDEX(ACTIVIDADES!G:P,MATCH(A160,ACTIVIDADES!G:G,0),8))","v":""},{"$f":"IF(A160=\"\",\"\",INDEX(ACTIVIDADES!D:G,MATCH(A160,ACTIVIDADES!G:G,0),1))","v":""},{"$f":"IF(A160=\"\",\"\",CONCATENATE(INDEX(ACTIVIDADES!D:G,MATCH(A160,ACTIVIDADES!G:G,0),1),$M$4))","v":""},{"$f":"IF(A160=\"\",\"\",IF(A160=A159,\"\",CONCATENATE(INDEX(ACTIVIDADES!D:G,MATCH(A160,ACTIVIDADES!G:G,0),1),$M$4)))","v":""},{"$f":"IF(A160=\"\",\"\",INDEX(ACTIVIDADES!D:I,MATCH(A160,ACTIVIDADES!G:G,0),4))","v":""},"",156]
[null,null,{"$f":"IF(B161=\"\",\"\",VLOOKUP(B161,'Otras referencias'!$A$32:$B$55,2,FALSE))","v":""},null,{"$f":"IF(A161=\"\",\"\",INDEX(ACTIVIDADES!G:L,MATCH(A161,ACTIVIDADES!G:G,0),5))","v":""},{"$f":"IF(A161=\"\",\"\",INDEX(ACTIVIDADES!G:P,MATCH(A161,ACTIVIDADES!G:G,0),8))","v":""},{"$f":"IF(A161=\"\",\"\",INDEX(ACTIVIDADES!D:G,MATCH(A161,ACTIVIDADES!G:G,0),1))","v":""},{"$f":"IF(A161=\"\",\"\",CONCATENATE(INDEX(ACTIVIDADES!D:G,MATCH(A161,ACTIVIDADES!G:G,0),1),$M$4))","v":""},{"$f":"IF(A161=\"\",\"\",IF(A161=A160,\"\",CONCATENATE(INDEX(ACTIVIDADES!D:G,MATCH(A161,ACTIVIDADES!G:G,0),1),$M$4)))","v":""},{"$f":"IF(A161=\"\",\"\",INDEX(ACTIVIDADES!D:I,MATCH(A161,ACTIVIDADES!G:G,0),4))","v":""},"",157]
[null,null,{"$f":"IF(B162=\"\",\"\",VLOOKUP(B162,'Otras referencias'!$A$32:$B$55,2,FALSE))","v":""},null,{"$f":"IF(A162=\"\",\"\",INDEX(ACTIVIDADES!G:L,MATCH(A162,ACTIVIDADES!G:G,0),5))","v":""},{"$f":"IF(A162=\"\",\"\",INDEX(ACTIVIDADES!G:P,MATCH(A162,ACTIVIDADES!G:G,0),8))","v":""},{"$f":"IF(A162=\"\",\"\",INDEX(ACTIVIDADES!D:G,MATCH(A162,ACTIVIDADES!G:G,0),1))","v":""},{"$f":"IF(A162=\"\",\"\",CONCATENATE(INDEX(ACTIVIDADES!D:G,MATCH(A162,ACTIVIDADES!G:G,0),1),$M$4))","v":""},{"$f":"IF(A162=\"\",\"\",IF(A162=A161,\"\",CONCATENATE(INDEX(ACTIVIDADES!D:G,MATCH(A162,ACTIVIDADES!G:G,0),1),$M$4)))","v":""},{"$f":"IF(A162=\"\",\"\",INDEX(ACTIVIDADES!D:I,MATCH(A162,ACTIVIDADES!G:G,0),4))","v":""},"",158]
[null,null,{"$f":"IF(B163=\"\",\"\",VLOOKUP(B163,'Otras referencias'!$A$32:$B$55,2,FALSE))","v":""},null,{"$f":"IF(A163=\"\",\"\",INDEX(ACTIVIDADES!G:L,MATCH(A163,ACTIVIDADES!G:G,0),5))","v":""},{"$f":"IF(A163=\"\",\"\",INDEX(ACTIVIDADES!G:P,MATCH(A163,ACTIVIDADES!G:G,0),8))","v":""},{"$f":"IF(A163=\"\",\"\",INDEX(ACTIVIDADES!D:G,MATCH(A163,ACTIVIDADES!G:G,0),1))","v":""},{"$f":"IF(A163=\"\",\"\",CONCATENATE(INDEX(ACTIVIDADES!D:G,MATCH(A163,ACTIVIDADES!G:G,0),1),$M$4))","v":""},{"$f":"IF(A163=\"\",\"\",IF(A163=A162,\"\",CONCATENATE(INDEX(ACTIVIDADES!D:G,MATCH(A163,ACTIVIDADES!G:G,0),1),$M$4)))","v":""},{"$f":"IF(A163=\"\",\"\",INDEX(ACTIVIDADES!D:I,MATCH(A163,ACTIVIDADES!G:G,0),4))","v":""},"",159]
[null,null,{"$f":"IF(B164=\"\",\"\",VLOOKUP(B164,'Otras referencias'!$A$32:$B$55,2,FALSE))","v":""},null,{"$f":"IF(A164=\"\",\"\",INDEX(ACTIVIDADES!G:L,MATCH(A164,ACTIVIDADES!G:G,0),5))","v":""},{"$f":"IF(A164=\"\",\"\",INDEX(ACTIVIDADES!G:P,MATCH(A164,ACTIVIDADES!G:G,0),8))","v":""},{"$f":"IF(A164=\"\",\"\",INDEX(ACTIVIDADES!D:G,MATCH(A164,ACTIVIDADES!G:G,0),1))","v":""},{"$f":"IF(A164=\"\",\"\",CONCATENATE(INDEX(ACTIVIDADES!D:G,MATCH(A164,ACTIVIDADES!G:G,0),1),$M$4))","v":""},{"$f":"IF(A164=\"\",\"\",IF(A164=A163,\"\",CONCATENATE(INDEX(ACTIVIDADES!D:G,MATCH(A164,ACTIVIDADES!G:G,0),1),$M$4)))","v":""},{"$f":"IF(A164=\"\",\"\",INDEX(ACTIVIDADES!D:I,MATCH(A164,ACTIVIDADES!G:G,0),4))","v":""},"",160]
[null,null,{"$f":"IF(B165=\"\",\"\",VLOOKUP(B165,'Otras referencias'!$A$32:$B$55,2,FALSE))","v":""},null,{"$f":"IF(A165=\"\",\"\",INDEX(ACTIVIDADES!G:L,MATCH(A165,ACTIVIDADES!G:G,0),5))","v":""},{"$f":"IF(A165=\"\",\"\",INDEX(ACTIVIDADES!G:P,MATCH(A165,ACTIVIDADES!G:G,0),8))","v":""},{"$f":"IF(A165=\"\",\"\",INDEX(ACTIVIDADES!D:G,MATCH(A165,ACTIVIDADES!G:G,0),1))","v":""},{"$f":"IF(A165=\"\",\"\",CONCATENATE(INDEX(ACTIVIDADES!D:G,MATCH(A165,ACTIVIDADES!G:G,0),1),$M$4))","v":""},{"$f":"IF(A165=\"\",\"\",IF(A165=A164,\"\",CONCATENATE(INDEX(ACTIVIDADES!D:G,MATCH(A165,ACTIVIDADES!G:G,0),1),$M$4)))","v":""},{"$f":"IF(A165=\"\",\"\",INDEX(ACTIVIDADES!D:I,MATCH(A165,ACTIVIDADES!G:G,0),4))","v":""},"",161]
[null,null,{"$f":"IF(B166=\"\",\"\",VLOOKUP(B166,'Otras referencias'!$A$32:$B$55,2,FALSE))","v":""},null,{"$f":"IF(A166=\"\",\"\",INDEX(ACTIVIDADES!G:L,MATCH(A166,ACTIVIDADES!G:G,0),5))","v":""},{"$f":"IF(A166=\"\",\"\",INDEX(ACTIVIDADES!G:P,MATCH(A166,ACTIVIDADES!G:G,0),8))","v":""},{"$f":"IF(A166=\"\",\"\",INDEX(ACTIVIDADES!D:G,MATCH(A166,ACTIVIDADES!G:G,0),1))","v":""},{"$f":"IF(A166=\"\",\"\",CONCATENATE(INDEX(ACTIVIDADES!D:G,MATCH(A166,ACTIVIDADES!G:G,0),1),$M$4))","v":""},{"$f":"IF(A166=\"\",\"\",IF(A166=A165,\"\",CONCATENATE(INDEX(ACTIVIDADES!D:G,MATCH(A166,ACTIVIDADES!G:G,0),1),$M$4)))","v":""},{"$f":"IF(A166=\"\",\"\",INDEX(ACTIVIDADES!D:I,MATCH(A166,ACTIVIDADES!G:G,0),4))","v":""},"",162]
[null,null,{"$f":"IF(B167=\"\",\"\",VLOOKUP(B167,'Otras referencias'!$A$32:$B$55,2,FALSE))","v":""},null,{"$f":"IF(A167=\"\",\"\",INDEX(ACTIVIDADES!G:L,MATCH(A167,ACTIVIDADES!G:G,0),5))","v":""},{"$f":"IF(A167=\"\",\"\",INDEX(ACTIVIDADES!G:P,MATCH(A167,ACTIVIDADES!G:G,0),8))","v":""},{"$f":"IF(A167=\"\",\"\",INDEX(ACTIVIDADES!D:G,MATCH(A167,ACTIVIDADES!G:G,0),1))","v":""},{"$f":"IF(A167=\"\",\"\",CONCATENATE(INDEX(ACTIVIDADES!D:G,MATCH(A167,ACTIVIDADES!G:G,0),1),$M$4))","v":""},{"$f":"IF(A167=\"\",\"\",IF(A167=A166,\"\",CONCATENATE(INDEX(ACTIVIDADES!D:G,MATCH(A167,ACTIVIDADES!G:G,0),1),$M$4)))","v":""},{"$f":"IF(A167=\"\",\"\",INDEX(ACTIVIDADES!D:I,MATCH(A167,ACTIVIDADES!G:G,0),4))","v":""},"",163]
[null,null,{"$f":"IF(B168=\"\",\"\",VLOOKUP(B168,'Otras referencias'!$A$32:$B$55,2,FALSE))","v":""},null,{"$f":"IF(A168=\"\",\"\",INDEX(ACTIVIDADES!G:L,MATCH(A168,ACTIVIDADES!G:G,0),5))","v":""},{"$f":"IF(A168=\"\",\"\",INDEX(ACTIVIDADES!G:P,MATCH(A168,ACTIVIDADES!G:G,0),8))","v":""},{"$f":"IF(A168=\"\",\"\",INDEX(ACTIVIDADES!D:G,MATCH(A168,ACTIVIDADES!G:G,0),1))","v":""},{"$f":"IF(A168=\"\",\"\",CONCATENATE(INDEX(ACTIVIDADES!D:G,MATCH(A168,ACTIVIDADES!G:G,0),1),$M$4))","v":""},{"$f":"IF(A168=\"\",\"\",IF(A168=A167,\"\",CONCATENATE(INDEX(ACTIVIDADES!D:G,MATCH(A168,ACTIVIDADES!G:G,0),1),$M$4)))","v":""},{"$f":"IF(A168=\"\",\"\",INDEX(ACTIVIDADES!D:I,MATCH(A168,ACTIVIDADES!G:G,0),4))","v":""},"",164]
[null,null,{"$f":"IF(B169=\"\",\"\",VLOOKUP(B169,'Otras referencias'!$A$32:$B$55,2,FALSE))","v":""},null,{"$f":"IF(A169=\"\",\"\",INDEX(ACTIVIDADES!G:L,MATCH(A169,ACTIVIDADES!G:G,0),5))","v":""},{"$f":"IF(A169=\"\",\"\",INDEX(ACTIVIDADES!G:P,MATCH(A169,ACTIVIDADES!G:G,0),8))","v":""},{"$f":"IF(A169=\"\",\"\",INDEX(ACTIVIDADES!D:G,MATCH(A169,ACTIVIDADES!G:G,0),1))","v":""},{"$f":"IF(A169=\"\",\"\",CONCATENATE(INDEX(ACTIVIDADES!D:G,MATCH(A169,ACTIVIDADES!G:G,0),1),$M$4))","v":""},{"$f":"IF(A169=\"\",\"\",IF(A169=A168,\"\",CONCATENATE(INDEX(ACTIVIDADES!D:G,MATCH(A169,ACTIVIDADES!G:G,0),1),$M$4)))","v":""},{"$f":"IF(A169=\"\",\"\",INDEX(ACTIVIDADES!D:I,MATCH(A169,ACTIVIDADES!G:G,0),4))","v":""},"",165]
[null,null,{"$f":"IF(B170=\"\",\"\",VLOOKUP(B170,'Otras referencias'!$A$32:$B$55,2,FALSE))","v":""},null,{"$f":"IF(A170=\"\",\"\",INDEX(ACTIVIDADES!G:L,MATCH(A170,ACTIVIDADES!G:G,0),5))","v":""},{"$f":"IF(A170=\"\",\"\",INDEX(ACTIVIDADES!G:P,MATCH(A170,ACTIVIDADES!G:G,0),8))","v":""},{"$f":"IF(A170=\"\",\"\",INDEX(ACTIVIDADES!D:G,MATCH(A170,ACTIVIDADES!G:G,0),1))","v":""},{"$f":"IF(A170=\"\",\"\",CONCATENATE(INDEX(ACTIVIDADES!D:G,MATCH(A170,ACTIVIDADES!G:G,0),1),$M$4))","v":""},{"$f":"IF(A170=\"\",\"\",IF(A170=A169,\"\",CONCATENATE(INDEX(ACTIVIDADES!D:G,MATCH(A170,ACTIVIDADES!G:G,0),1),$M$4)))","v":""},{"$f":"IF(A170=\"\",\"\",INDEX(ACTIVIDADES!D:I,MATCH(A170,ACTIVIDADES!G:G,0),4))","v":""},"",166]
[null,null,{"$f":"IF(B171=\"\",\"\",VLOOKUP(B171,'Otras referencias'!$A$32:$B$55,2,FALSE))","v":""},null,{"$f":"IF(A171=\"\",\"\",INDEX(ACTIVIDADES!G:L,MATCH(A171,ACTIVIDADES!G:G,0),5))","v":""},{"$f":"IF(A171=\"\",\"\",INDEX(ACTIVIDADES!G:P,MATCH(A171,ACTIVIDADES!G:G,0),8))","v":""},{"$f":"IF(A171=\"\",\"\",INDEX(ACTIVIDADES!D:G,MATCH(A171,ACTIVIDADES!G:G,0),1))","v":""},{"$f":"IF(A171=\"\",\"\",CONCATENATE(INDEX(ACTIVIDADES!D:G,MATCH(A171,ACTIVIDADES!G:G,0),1),$M$4))","v":""},{"$f":"IF(A171=\"\",\"\",IF(A171=A170,\"\",CONCATENATE(INDEX(ACTIVIDADES!D:G,MATCH(A171,ACTIVIDADES!G:G,0),1),$M$4)))","v":""},{"$f":"IF(A171=\"\",\"\",INDEX(ACTIVIDADES!D:I,MATCH(A171,ACTIVIDADES!G:G,0),4))","v":""},"",167]
[null,null,{"$f":"IF(B172=\"\",\"\",VLOOKUP(B172,'Otras referencias'!$A$32:$B$55,2,FALSE))","v":""},null,{"$f":"IF(A172=\"\",\"\",INDEX(ACTIVIDADES!G:L,MATCH(A172,ACTIVIDADES!G:G,0),5))","v":""},{"$f":"IF(A172=\"\",\"\",INDEX(ACTIVIDADES!G:P,MATCH(A172,ACTIVIDADES!G:G,0),8))","v":""},{"$f":"IF(A172=\"\",\"\",INDEX(ACTIVIDADES!D:G,MATCH(A172,ACTIVIDADES!G:G,0),1))","v":""},{"$f":"IF(A172=\"\",\"\",CONCATENATE(INDEX(ACTIVIDADES!D:G,MATCH(A172,ACTIVIDADES!G:G,0),1),$M$4))","v":""},{"$f":"IF(A172=\"\",\"\",IF(A172=A171,\"\",CONCATENATE(INDEX(ACTIVIDADES!D:G,MATCH(A172,ACTIVIDADES!G:G,0),1),$M$4)))","v":""},{"$f":"IF(A172=\"\",\"\",INDEX(ACTIVIDADES!D:I,MATCH(A172,ACTIVIDADES!G:G,0),4))","v":""},"",168]
[null,null,{"$f":"IF(B173=\"\",\"\",VLOOKUP(B173,'Otras referencias'!$A$32:$B$55,2,FALSE))","v":""},null,{"$f":"IF(A173=\"\",\"\",INDEX(ACTIVIDADES!G:L,MATCH(A173,ACTIVIDADES!G:G,0),5))","v":""},{"$f":"IF(A173=\"\",\"\",INDEX(ACTIVIDADES!G:P,MATCH(A173,ACTIVIDADES!G:G,0),8))","v":""},{"$f":"IF(A173=\"\",\"\",INDEX(ACTIVIDADES!D:G,MATCH(A173,ACTIVIDADES!G:G,0),1))","v":""},{"$f":"IF(A173=\"\",\"\",CONCATENATE(INDEX(ACTIVIDADES!D:G,MATCH(A173,ACTIVIDADES!G:G,0),1),$M$4))","v":""},{"$f":"IF(A173=\"\",\"\",IF(A173=A172,\"\",CONCATENATE(INDEX(ACTIVIDADES!D:G,MATCH(A173,ACTIVIDADES!G:G,0),1),$M$4)))","v":""},{"$f":"IF(A173=\"\",\"\",INDEX(ACTIVIDADES!D:I,MATCH(A173,ACTIVIDADES!G:G,0),4))","v":""},"",169]
[null,null,{"$f":"IF(B174=\"\",\"\",VLOOKUP(B174,'Otras referencias'!$A$32:$B$55,2,FALSE))","v":""},null,{"$f":"IF(A174=\"\",\"\",INDEX(ACTIVIDADES!G:L,MATCH(A174,ACTIVIDADES!G:G,0),5))","v":""},{"$f":"IF(A174=\"\",\"\",INDEX(ACTIVIDADES!G:P,MATCH(A174,ACTIVIDADES!G:G,0),8))","v":""},{"$f":"IF(A174=\"\",\"\",INDEX(ACTIVIDADES!D:G,MATCH(A174,ACTIVIDADES!G:G,0),1))","v":""},{"$f":"IF(A174=\"\",\"\",CONCATENATE(INDEX(ACTIVIDADES!D:G,MATCH(A174,ACTIVIDADES!G:G,0),1),$M$4))","v":""},{"$f":"IF(A174=\"\",\"\",IF(A174=A173,\"\",CONCATENATE(INDEX(ACTIVIDADES!D:G,MATCH(A174,ACTIVIDADES!G:G,0),1),$M$4)))","v":""},{"$f":"IF(A174=\"\",\"\",INDEX(ACTIVIDADES!D:I,MATCH(A174,ACTIVIDADES!G:G,0),4))","v":""},"",170]
[null,null,{"$f":"IF(B175=\"\",\"\",VLOOKUP(B175,'Otras referencias'!$A$32:$B$55,2,FALSE))","v":""},null,{"$f":"IF(A175=\"\",\"\",INDEX(ACTIVIDADES!G:L,MATCH(A175,ACTIVIDADES!G:G,0),5))","v":""},{"$f":"IF(A175=\"\",\"\",INDEX(ACTIVIDADES!G:P,MATCH(A175,ACTIVIDADES!G:G,0),8))","v":""},{"$f":"IF(A175=\"\",\"\",INDEX(ACTIVIDADES!D:G,MATCH(A175,ACTIVIDADES!G:G,0),1))","v":""},{"$f":"IF(A175=\"\",\"\",CONCATENATE(INDEX(ACTIVIDADES!D:G,MATCH(A175,ACTIVIDADES!G:G,0),1),$M$4))","v":""},{"$f":"IF(A175=\"\",\"\",IF(A175=A174,\"\",CONCATENATE(INDEX(ACTIVIDADES!D:G,MATCH(A175,ACTIVIDADES!G:G,0),1),$M$4)))","v":""},{"$f":"IF(A175=\"\",\"\",INDEX(ACTIVIDADES!D:I,MATCH(A175,ACTIVIDADES!G:G,0),4))","v":""},"",171]
[null,null,{"$f":"IF(B176=\"\",\"\",VLOOKUP(B176,'Otras referencias'!$A$32:$B$55,2,FALSE))","v":""},null,{"$f":"IF(A176=\"\",\"\",INDEX(ACTIVIDADES!G:L,MATCH(A176,ACTIVIDADES!G:G,0),5))","v":""},{"$f":"IF(A176=\"\",\"\",INDEX(ACTIVIDADES!G:P,MATCH(A176,ACTIVIDADES!G:G,0),8))","v":""},{"$f":"IF(A176=\"\",\"\",INDEX(ACTIVIDADES!D:G,MATCH(A176,ACTIVIDADES!G:G,0),1))","v":""},{"$f":"IF(A176=\"\",\"\",CONCATENATE(INDEX(ACTIVIDADES!D:G,MATCH(A176,ACTIVIDADES!G:G,0),1),$M$4))","v":""},{"$f":"IF(A176=\"\",\"\",IF(A176=A175,\"\",CONCATENATE(INDEX(ACTIVIDADES!D:G,MATCH(A176,ACTIVIDADES!G:G,0),1),$M$4)))","v":""},{"$f":"IF(A176=\"\",\"\",INDEX(ACTIVIDADES!D:I,MATCH(A176,ACTIVIDADES!G:G,0),4))","v":""},"",172]
[null,null,{"$f":"IF(B177=\"\",\"\",VLOOKUP(B177,'Otras referencias'!$A$32:$B$55,2,FALSE))","v":""},null,{"$f":"IF(A177=\"\",\"\",INDEX(ACTIVIDADES!G:L,MATCH(A177,ACTIVIDADES!G:G,0),5))","v":""},{"$f":"IF(A177=\"\",\"\",INDEX(ACTIVIDADES!G:P,MATCH(A177,ACTIVIDADES!G:G,0),8))","v":""},{"$f":"IF(A177=\"\",\"\",INDEX(ACTIVIDADES!D:G,MATCH(A177,ACTIVIDADES!G:G,0),1))","v":""},{"$f":"IF(A177=\"\",\"\",CONCATENATE(INDEX(ACTIVIDADES!D:G,MATCH(A177,ACTIVIDADES!G:G,0),1),$M$4))","v":""},{"$f":"IF(A177=\"\",\"\",IF(A177=A176,\"\",CONCATENATE(INDEX(ACTIVIDADES!D:G,MATCH(A177,ACTIVIDADES!G:G,0),1),$M$4)))","v":""},{"$f":"IF(A177=\"\",\"\",INDEX(ACTIVIDADES!D:I,MATCH(A177,ACTIVIDADES!G:G,0),4))","v":""},"",173]
[null,null,{"$f":"IF(B178=\"\",\"\",VLOOKUP(B178,'Otras referencias'!$A$32:$B$55,2,FALSE))","v":""},null,{"$f":"IF(A178=\"\",\"\",INDEX(ACTIVIDADES!G:L,MATCH(A178,ACTIVIDADES!G:G,0),5))","v":""},{"$f":"IF(A178=\"\",\"\",INDEX(ACTIVIDADES!G:P,MATCH(A178,ACTIVIDADES!G:G,0),8))","v":""},{"$f":"IF(A178=\"\",\"\",INDEX(ACTIVIDADES!D:G,MATCH(A178,ACTIVIDADES!G:G,0),1))","v":""},{"$f":"IF(A178=\"\",\"\",CONCATENATE(INDEX(ACTIVIDADES!D:G,MATCH(A178,ACTIVIDADES!G:G,0),1),$M$4))","v":""},{"$f":"IF(A178=\"\",\"\",IF(A178=A177,\"\",CONCATENATE(INDEX(ACTIVIDADES!D:G,MATCH(A178,ACTIVIDADES!G:G,0),1),$M$4)))","v":""},{"$f":"IF(A178=\"\",\"\",INDEX(ACTIVIDADES!D:I,MATCH(A178,ACTIVIDADES!G:G,0),4))","v":""},"",174]
[null,null,{"$f":"IF(B179=\"\",\"\",VLOOKUP(B179,'Otras referencias'!$A$32:$B$55,2,FALSE))","v":""},null,{"$f":"IF(A179=\"\",\"\",INDEX(ACTIVIDADES!G:L,MATCH(A179,ACTIVIDADES!G:G,0),5))","v":""},{"$f":"IF(A179=\"\",\"\",INDEX(ACTIVIDADES!G:P,MATCH(A179,ACTIVIDADES!G:G,0),8))","v":""},{"$f":"IF(A179=\"\",\"\",INDEX(ACTIVIDADES!D:G,MATCH(A179,ACTIVIDADES!G:G,0),1))","v":""},{"$f":"IF(A179=\"\",\"\",CONCATENATE(INDEX(ACTIVIDADES!D:G,MATCH(A179,ACTIVIDADES!G:G,0),1),$M$4))","v":""},{"$f":"IF(A179=\"\",\"\",IF(A179=A178,\"\",CONCATENATE(INDEX(ACTIVIDADES!D:G,MATCH(A179,ACTIVIDADES!G:G,0),1),$M$4)))","v":""},{"$f":"IF(A179=\"\",\"\",INDEX(ACTIVIDADES!D:I,MATCH(A179,ACTIVIDADES!G:G,0),4))","v":""},"",175]
[null,null,{"$f":"IF(B180=\"\",\"\",VLOOKUP(B180,'Otras referencias'!$A$32:$B$55,2,FALSE))","v":""},null,{"$f":"IF(A180=\"\",\"\",INDEX(ACTIVIDADES!G:L,MATCH(A180,ACTIVIDADES!G:G,0),5))","v":""},{"$f":"IF(A180=\"\",\"\",INDEX(ACTIVIDADES!G:P,MATCH(A180,ACTIVIDADES!G:G,0),8))","v":""},{"$f":"IF(A180=\"\",\"\",INDEX(ACTIVIDADES!D:G,MATCH(A180,ACTIVIDADES!G:G,0),1))","v":""},{"$f":"IF(A180=\"\",\"\",CONCATENATE(INDEX(ACTIVIDADES!D:G,MATCH(A180,ACTIVIDADES!G:G,0),1),$M$4))","v":""},{"$f":"IF(A180=\"\",\"\",IF(A180=A179,\"\",CONCATENATE(INDEX(ACTIVIDADES!D:G,MATCH(A180,ACTIVIDADES!G:G,0),1),$M$4)))","v":""},{"$f":"IF(A180=\"\",\"\",INDEX(ACTIVIDADES!D:I,MATCH(A180,ACTIVIDADES!G:G,0),4))","v":""},"",176]
[null,null,{"$f":"IF(B181=\"\",\"\",VLOOKUP(B181,'Otras referencias'!$A$32:$B$55,2,FALSE))","v":""},null,{"$f":"IF(A181=\"\",\"\",INDEX(ACTIVIDADES!G:L,MATCH(A181,ACTIVIDADES!G:G,0),5))","v":""},{"$f":"IF(A181=\"\",\"\",INDEX(ACTIVIDADES!G:P,MATCH(A181,ACTIVIDADES!G:G,0),8))","v":""},{"$f":"IF(A181=\"\",\"\",INDEX(ACTIVIDADES!D:G,MATCH(A181,ACTIVIDADES!G:G,0),1))","v":""},{"$f":"IF(A181=\"\",\"\",CONCATENATE(INDEX(ACTIVIDADES!D:G,MATCH(A181,ACTIVIDADES!G:G,0),1),$M$4))","v":""},{"$f":"IF(A181=\"\",\"\",IF(A181=A180,\"\",CONCATENATE(INDEX(ACTIVIDADES!D:G,MATCH(A181,ACTIVIDADES!G:G,0),1),$M$4)))","v":""},{"$f":"IF(A181=\"\",\"\",INDEX(ACTIVIDADES!D:I,MATCH(A181,ACTIVIDADES!G:G,0),4))","v":""},"",177]
[null,null,{"$f":"IF(B182=\"\",\"\",VLOOKUP(B182,'Otras referencias'!$A$32:$B$55,2,FALSE))","v":""},null,{"$f":"IF(A182=\"\",\"\",INDEX(ACTIVIDADES!G:L,MATCH(A182,ACTIVIDADES!G:G,0),5))","v":""},{"$f":"IF(A182=\"\",\"\",INDEX(ACTIVIDADES!G:P,MATCH(A182,ACTIVIDADES!G:G,0),8))","v":""},{"$f":"IF(A182=\"\",\"\",INDEX(ACTIVIDADES!D:G,MATCH(A182,ACTIVIDADES!G:G,0),1))","v":""},{"$f":"IF(A182=\"\",\"\",CONCATENATE(INDEX(ACTIVIDADES!D:G,MATCH(A182,ACTIVIDADES!G:G,0),1),$M$4))","v":""},{"$f":"IF(A182=\"\",\"\",IF(A182=A181,\"\",CONCATENATE(INDEX(ACTIVIDADES!D:G,MATCH(A182,ACTIVIDADES!G:G,0),1),$M$4)))","v":""},{"$f":"IF(A182=\"\",\"\",INDEX(ACTIVIDADES!D:I,MATCH(A182,ACTIVIDADES!G:G,0),4))","v":""},"",178]
[null,null,{"$f":"IF(B183=\"\",\"\",VLOOKUP(B183,'Otras referencias'!$A$32:$B$55,2,FALSE))","v":""},null,{"$f":"IF(A183=\"\",\"\",INDEX(ACTIVIDADES!G:L,MATCH(A183,ACTIVIDADES!G:G,0),5))","v":""},{"$f":"IF(A183=\"\",\"\",INDEX(ACTIVIDADES!G:P,MATCH(A183,ACTIVIDADES!G:G,0),8))","v":""},{"$f":"IF(A183=\"\",\"\",INDEX(ACTIVIDADES!D:G,MATCH(A183,ACTIVIDADES!G:G,0),1))","v":""},{"$f":"IF(A183=\"\",\"\",CONCATENATE(INDEX(ACTIVIDADES!D:G,MATCH(A183,ACTIVIDADES!G:G,0),1),$M$4))","v":""},{"$f":"IF(A183=\"\",\"\",IF(A183=A182,\"\",CONCATENATE(INDEX(ACTIVIDADES!D:G,MATCH(A183,ACTIVIDADES!G:G,0),1),$M$4)))","v":""},{"$f":"IF(A183=\"\",\"\",INDEX(ACTIVIDADES!D:I,MATCH(A183,ACTIVIDADES!G:G,0),4))","v":""},"",179]
[null,null,{"$f":"IF(B184=\"\",\"\",VLOOKUP(B184,'Otras referencias'!$A$32:$B$55,2,FALSE))","v":""},null,{"$f":"IF(A184=\"\",\"\",INDEX(ACTIVIDADES!G:L,MATCH(A184,ACTIVIDADES!G:G,0),5))","v":""},{"$f":"IF(A184=\"\",\"\",INDEX(ACTIVIDADES!G:P,MATCH(A184,ACTIVIDADES!G:G,0),8))","v":""},{"$f":"IF(A184=\"\",\"\",INDEX(ACTIVIDADES!D:G,MATCH(A184,ACTIVIDADES!G:G,0),1))","v":""},{"$f":"IF(A184=\"\",\"\",CONCATENATE(INDEX(ACTIVIDADES!D:G,MATCH(A184,ACTIVIDADES!G:G,0),1),$M$4))","v":""},{"$f":"IF(A184=\"\",\"\",IF(A184=A183,\"\",CONCATENATE(INDEX(ACTIVIDADES!D:G,MATCH(A184,ACTIVIDADES!G:G,0),1),$M$4)))","v":""},{"$f":"IF(A184=\"\",\"\",INDEX(ACTIVIDADES!D:I,MATCH(A184,ACTIVIDADES!G:G,0),4))","v":""},"",180]
[null,null,{"$f":"IF(B185=\"\",\"\",VLOOKUP(B185,'Otras referencias'!$A$32:$B$55,2,FALSE))","v":""},null,{"$f":"IF(A185=\"\",\"\",INDEX(ACTIVIDADES!G:L,MATCH(A185,ACTIVIDADES!G:G,0),5))","v":""},{"$f":"IF(A185=\"\",\"\",INDEX(ACTIVIDADES!G:P,MATCH(A185,ACTIVIDADES!G:G,0),8))","v":""},{"$f":"IF(A185=\"\",\"\",INDEX(ACTIVIDADES!D:G,MATCH(A185,ACTIVIDADES!G:G,0),1))","v":""},{"$f":"IF(A185=\"\",\"\",CONCATENATE(INDEX(ACTIVIDADES!D:G,MATCH(A185,ACTIVIDADES!G:G,0),1),$M$4))","v":""},{"$f":"IF(A185=\"\",\"\",IF(A185=A184,\"\",CONCATENATE(INDEX(ACTIVIDADES!D:G,MATCH(A185,ACTIVIDADES!G:G,0),1),$M$4)))","v":""},{"$f":"IF(A185=\"\",\"\",INDEX(ACTIVIDADES!D:I,MATCH(A185,ACTIVIDADES!G:G,0),4))","v":""},"",181]
[null,null,{"$f":"IF(B186=\"\",\"\",VLOOKUP(B186,'Otras referencias'!$A$32:$B$55,2,FALSE))","v":""},null,{"$f":"IF(A186=\"\",\"\",INDEX(ACTIVIDADES!G:L,MATCH(A186,ACTIVIDADES!G:G,0),5))","v":""},{"$f":"IF(A186=\"\",\"\",INDEX(ACTIVIDADES!G:P,MATCH(A186,ACTIVIDADES!G:G,0),8))","v":""},{"$f":"IF(A186=\"\",\"\",INDEX(ACTIVIDADES!D:G,MATCH(A186,ACTIVIDADES!G:G,0),1))","v":""},{"$f":"IF(A186=\"\",\"\",CONCATENATE(INDEX(ACTIVIDADES!D:G,MATCH(A186,ACTIVIDADES!G:G,0),1),$M$4))","v":""},{"$f":"IF(A186=\"\",\"\",IF(A186=A185,\"\",CONCATENATE(INDEX(ACTIVIDADES!D:G,MATCH(A186,ACTIVIDADES!G:G,0),1),$M$4)))","v":""},{"$f":"IF(A186=\"\",\"\",INDEX(ACTIVIDADES!D:I,MATCH(A186,ACTIVIDADES!G:G,0),4))","v":""},"",182]
[null,null,{"$f":"IF(B187=\"\",\"\",VLOOKUP(B187,'Otras referencias'!$A$32:$B$55,2,FALSE))","v":""},null,{"$f":"IF(A187=\"\",\"\",INDEX(ACTIVIDADES!G:L,MATCH(A187,ACTIVIDADES!G:G,0),5))","v":""},{"$f":"IF(A187=\"\",\"\",INDEX(ACTIVIDADES!G:P,MATCH(A187,ACTIVIDADES!G:G,0),8))","v":""},{"$f":"IF(A187=\"\",\"\",INDEX(ACTIVIDADES!D:G,MATCH(A187,ACTIVIDADES!G:G,0),1))","v":""},{"$f":"IF(A187=\"\",\"\",CONCATENATE(INDEX(ACTIVIDADES!D:G,MATCH(A187,ACTIVIDADES!G:G,0),1),$M$4))","v":""},{"$f":"IF(A187=\"\",\"\",IF(A187=A186,\"\",CONCATENATE(INDEX(ACTIVIDADES!D:G,MATCH(A187,ACTIVIDADES!G:G,0),1),$M$4)))","v":""},{"$f":"IF(A187=\"\",\"\",INDEX(ACTIVIDADES!D:I,MATCH(A187,ACTIVIDADES!G:G,0),4))","v":""},"",183]
[null,null,{"$f":"IF(B188=\"\",\"\",VLOOKUP(B188,'Otras referencias'!$A$32:$B$55,2,FALSE))","v":""},null,{"$f":"IF(A188=\"\",\"\",INDEX(ACTIVIDADES!G:L,MATCH(A188,ACTIVIDADES!G:G,0),5))","v":""},{"$f":"IF(A188=\"\",\"\",INDEX(ACTIVIDADES!G:P,MATCH(A188,ACTIVIDADES!G:G,0),8))","v":""},{"$f":"IF(A188=\"\",\"\",INDEX(ACTIVIDADES!D:G,MATCH(A188,ACTIVIDADES!G:G,0),1))","v":""},{"$f":"IF(A188=\"\",\"\",CONCATENATE(INDEX(ACTIVIDADES!D:G,MATCH(A188,ACTIVIDADES!G:G,0),1),$M$4))","v":""},{"$f":"IF(A188=\"\",\"\",IF(A188=A187,\"\",CONCATENATE(INDEX(ACTIVIDADES!D:G,MATCH(A188,ACTIVIDADES!G:G,0),1),$M$4)))","v":""},{"$f":"IF(A188=\"\",\"\",INDEX(ACTIVIDADES!D:I,MATCH(A188,ACTIVIDADES!G:G,0),4))","v":""},"",184]
[null,null,{"$f":"IF(B189=\"\",\"\",VLOOKUP(B189,'Otras referencias'!$A$32:$B$55,2,FALSE))","v":""},null,{"$f":"IF(A189=\"\",\"\",INDEX(ACTIVIDADES!G:L,MATCH(A189,ACTIVIDADES!G:G,0),5))","v":""},{"$f":"IF(A189=\"\",\"\",INDEX(ACTIVIDADES!G:P,MATCH(A189,ACTIVIDADES!G:G,0),8))","v":""},{"$f":"IF(A189=\"\",\"\",INDEX(ACTIVIDADES!D:G,MATCH(A189,ACTIVIDADES!G:G,0),1))","v":""},{"$f":"IF(A189=\"\",\"\",CONCATENATE(INDEX(ACTIVIDADES!D:G,MATCH(A189,ACTIVIDADES!G:G,0),1),$M$4))","v":""},{"$f":"IF(A189=\"\",\"\",IF(A189=A188,\"\",CONCATENATE(INDEX(ACTIVIDADES!D:G,MATCH(A189,ACTIVIDADES!G:G,0),1),$M$4)))","v":""},{"$f":"IF(A189=\"\",\"\",INDEX(ACTIVIDADES!D:I,MATCH(A189,ACTIVIDADES!G:G,0),4))","v":""},"",185]
[null,null,{"$f":"IF(B190=\"\",\"\",VLOOKUP(B190,'Otras referencias'!$A$32:$B$55,2,FALSE))","v":""},null,{"$f":"IF(A190=\"\",\"\",INDEX(ACTIVIDADES!G:L,MATCH(A190,ACTIVIDADES!G:G,0),5))","v":""},{"$f":"IF(A190=\"\",\"\",INDEX(ACTIVIDADES!G:P,MATCH(A190,ACTIVIDADES!G:G,0),8))","v":""},{"$f":"IF(A190=\"\",\"\",INDEX(ACTIVIDADES!D:G,MATCH(A190,ACTIVIDADES!G:G,0),1))","v":""},{"$f":"IF(A190=\"\",\"\",CONCATENATE(INDEX(ACTIVIDADES!D:G,MATCH(A190,ACTIVIDADES!G:G,0),1),$M$4))","v":""},{"$f":"IF(A190=\"\",\"\",IF(A190=A189,\"\",CONCATENATE(INDEX(ACTIVIDADES!D:G,MATCH(A190,ACTIVIDADES!G:G,0),1),$M$4)))","v":""},{"$f":"IF(A190=\"\",\"\",INDEX(ACTIVIDADES!D:I,MATCH(A190,ACTIVIDADES!G:G,0),4))","v":""},"",186]
[null,null,{"$f":"IF(B191=\"\",\"\",VLOOKUP(B191,'Otras referencias'!$A$32:$B$55,2,FALSE))","v":""},null,{"$f":"IF(A191=\"\",\"\",INDEX(ACTIVIDADES!G:L,MATCH(A191,ACTIVIDADES!G:G,0),5))","v":""},{"$f":"IF(A191=\"\",\"\",INDEX(ACTIVIDADES!G:P,MATCH(A191,ACTIVIDADES!G:G,0),8))","v":""},{"$f":"IF(A191=\"\",\"\",INDEX(ACTIVIDADES!D:G,MATCH(A191,ACTIVIDADES!G:G,0),1))","v":""},{"$f":"IF(A191=\"\",\"\",CONCATENATE(INDEX(ACTIVIDADES!D:G,MATCH(A191,ACTIVIDADES!G:G,0),1),$M$4))","v":""},{"$f":"IF(A191=\"\",\"\",IF(A191=A190,\"\",CONCATENATE(INDEX(ACTIVIDADES!D:G,MATCH(A191,ACTIVIDADES!G:G,0),1),$M$4)))","v":""},{"$f":"IF(A191=\"\",\"\",INDEX(ACTIVIDADES!D:I,MATCH(A191,ACTIVIDADES!G:G,0),4))","v":""},"",187]
[null,null,{"$f":"IF(B192=\"\",\"\",VLOOKUP(B192,'Otras referencias'!$A$32:$B$55,2,FALSE))","v":""},null,{"$f":"IF(A192=\"\",\"\",INDEX(ACTIVIDADES!G:L,MATCH(A192,ACTIVIDADES!G:G,0),5))","v":""},{"$f":"IF(A192=\"\",\"\",INDEX(ACTIVIDADES!G:P,MATCH(A192,ACTIVIDADES!G:G,0),8))","v":""},{"$f":"IF(A192=\"\",\"\",INDEX(ACTIVIDADES!D:G,MATCH(A192,ACTIVIDADES!G:G,0),1))","v":""},{"$f":"IF(A192=\"\",\"\",CONCATENATE(INDEX(ACTIVIDADES!D:G,MATCH(A192,ACTIVIDADES!G:G,0),1),$M$4))","v":""},{"$f":"IF(A192=\"\",\"\",IF(A192=A191,\"\",CONCATENATE(INDEX(ACTIVIDADES!D:G,MATCH(A192,ACTIVIDADES!G:G,0),1),$M$4)))","v":""},{"$f":"IF(A192=\"\",\"\",INDEX(ACTIVIDADES!D:I,MATCH(A192,ACTIVIDADES!G:G,0),4))","v":""},"",188]
[null,null,{"$f":"IF(B193=\"\",\"\",VLOOKUP(B193,'Otras referencias'!$A$32:$B$55,2,FALSE))","v":""},null,{"$f":"IF(A193=\"\",\"\",INDEX(ACTIVIDADES!G:L,MATCH(A193,ACTIVIDADES!G:G,0),5))","v":""},{"$f":"IF(A193=\"\",\"\",INDEX(ACTIVIDADES!G:P,MATCH(A193,ACTIVIDADES!G:G,0),8))","v":""},{"$f":"IF(A193=\"\",\"\",INDEX(ACTIVIDADES!D:G,MATCH(A193,ACTIVIDADES!G:G,0),1))","v":""},{"$f":"IF(A193=\"\",\"\",CONCATENATE(INDEX(ACTIVIDADES!D:G,MATCH(A193,ACTIVIDADES!G:G,0),1),$M$4))","v":""},{"$f":"IF(A193=\"\",\"\",IF(A193=A192,\"\",CONCATENATE(INDEX(ACTIVIDADES!D:G,MATCH(A193,ACTIVIDADES!G:G,0),1),$M$4)))","v":""},{"$f":"IF(A193=\"\",\"\",INDEX(ACTIVIDADES!D:I,MATCH(A193,ACTIVIDADES!G:G,0),4))","v":""},"",189]
[null,null,{"$f":"IF(B194=\"\",\"\",VLOOKUP(B194,'Otras referencias'!$A$32:$B$55,2,FALSE))","v":""},null,{"$f":"IF(A194=\"\",\"\",INDEX(ACTIVIDADES!G:L,MATCH(A194,ACTIVIDADES!G:G,0),5))","v":""},{"$f":"IF(A194=\"\",\"\",INDEX(ACTIVIDADES!G:P,MATCH(A194,ACTIVIDADES!G:G,0),8))","v":""},{"$f":"IF(A194=\"\",\"\",INDEX(ACTIVIDADES!D:G,MATCH(A194,ACTIVIDADES!G:G,0),1))","v":""},{"$f":"IF(A194=\"\",\"\",CONCATENATE(INDEX(ACTIVIDADES!D:G,MATCH(A194,ACTIVIDADES!G:G,0),1),$M$4))","v":""},{"$f":"IF(A194=\"\",\"\",IF(A194=A193,\"\",CONCATENATE(INDEX(ACTIVIDADES!D:G,MATCH(A194,ACTIVIDADES!G:G,0),1),$M$4)))","v":""},{"$f":"IF(A194=\"\",\"\",INDEX(ACTIVIDADES!D:I,MATCH(A194,ACTIVIDADES!G:G,0),4))","v":""},"",190]
[null,null,{"$f":"IF(B195=\"\",\"\",VLOOKUP(B195,'Otras referencias'!$A$32:$B$55,2,FALSE))","v":""},null,{"$f":"IF(A195=\"\",\"\",INDEX(ACTIVIDADES!G:L,MATCH(A195,ACTIVIDADES!G:G,0),5))","v":""},{"$f":"IF(A195=\"\",\"\",INDEX(ACTIVIDADES!G:P,MATCH(A195,ACTIVIDADES!G:G,0),8))","v":""},{"$f":"IF(A195=\"\",\"\",INDEX(ACTIVIDADES!D:G,MATCH(A195,ACTIVIDADES!G:G,0),1))","v":""},{"$f":"IF(A195=\"\",\"\",CONCATENATE(INDEX(ACTIVIDADES!D:G,MATCH(A195,ACTIVIDADES!G:G,0),1),$M$4))","v":""},{"$f":"IF(A195=\"\",\"\",IF(A195=A194,\"\",CONCATENATE(INDEX(ACTIVIDADES!D:G,MATCH(A195,ACTIVIDADES!G:G,0),1),$M$4)))","v":""},{"$f":"IF(A195=\"\",\"\",INDEX(ACTIVIDADES!D:I,MATCH(A195,ACTIVIDADES!G:G,0),4))","v":""},"",191]
[null,null,{"$f":"IF(B196=\"\",\"\",VLOOKUP(B196,'Otras referencias'!$A$32:$B$55,2,FALSE))","v":""},null,{"$f":"IF(A196=\"\",\"\",INDEX(ACTIVIDADES!G:L,MATCH(A196,ACTIVIDADES!G:G,0),5))","v":""},{"$f":"IF(A196=\"\",\"\",INDEX(ACTIVIDADES!G:P,MATCH(A196,ACTIVIDADES!G:G,0),8))","v":""},{"$f":"IF(A196=\"\",\"\",INDEX(ACTIVIDADES!D:G,MATCH(A196,ACTIVIDADES!G:G,0),1))","v":""},{"$f":"IF(A196=\"\",\"\",CONCATENATE(INDEX(ACTIVIDADES!D:G,MATCH(A196,ACTIVIDADES!G:G,0),1),$M$4))","v":""},{"$f":"IF(A196=\"\",\"\",IF(A196=A195,\"\",CONCATENATE(INDEX(ACTIVIDADES!D:G,MATCH(A196,ACTIVIDADES!G:G,0),1),$M$4)))","v":""},{"$f":"IF(A196=\"\",\"\",INDEX(ACTIVIDADES!D:I,MATCH(A196,ACTIVIDADES!G:G,0),4))","v":""},"",192]
[null,null,{"$f":"IF(B197=\"\",\"\",VLOOKUP(B197,'Otras referencias'!$A$32:$B$55,2,FALSE))","v":""},null,{"$f":"IF(A197=\"\",\"\",INDEX(ACTIVIDADES!G:L,MATCH(A197,ACTIVIDADES!G:G,0),5))","v":""},{"$f":"IF(A197=\"\",\"\",INDEX(ACTIVIDADES!G:P,MATCH(A197,ACTIVIDADES!G:G,0),8))","v":""},{"$f":"IF(A197=\"\",\"\",INDEX(ACTIVIDADES!D:G,MATCH(A197,ACTIVIDADES!G:G,0),1))","v":""},{"$f":"IF(A197=\"\",\"\",CONCATENATE(INDEX(ACTIVIDADES!D:G,MATCH(A197,ACTIVIDADES!G:G,0),1),$M$4))","v":""},{"$f":"IF(A197=\"\",\"\",IF(A197=A196,\"\",CONCATENATE(INDEX(ACTIVIDADES!D:G,MATCH(A197,ACTIVIDADES!G:G,0),1),$M$4)))","v":""},{"$f":"IF(A197=\"\",\"\",INDEX(ACTIVIDADES!D:I,MATCH(A197,ACTIVIDADES!G:G,0),4))","v":""},{"$f":"IF(A197=\"\",\"\",CONCATENATE(G197,L197))","v":""},193]
[null,null,{"$f":"IF(B198=\"\",\"\",VLOOKUP(B198,'Otras referencias'!$A$32:$B$55,2,FALSE))","v":""},null,{"$f":"IF(A198=\"\",\"\",INDEX(ACTIVIDADES!G:L,MATCH(A198,ACTIVIDADES!G:G,0),5))","v":""},{"$f":"IF(A198=\"\",\"\",INDEX(ACTIVIDADES!G:P,MATCH(A198,ACTIVIDADES!G:G,0),8))","v":""},{"$f":"IF(A198=\"\",\"\",INDEX(ACTIVIDADES!D:G,MATCH(A198,ACTIVIDADES!G:G,0),1))","v":""},{"$f":"IF(A198=\"\",\"\",CONCATENATE(INDEX(ACTIVIDADES!D:G,MATCH(A198,ACTIVIDADES!G:G,0),1),$M$4))","v":""},{"$f":"IF(A198=\"\",\"\",IF(A198=A197,\"\",CONCATENATE(INDEX(ACTIVIDADES!D:G,MATCH(A198,ACTIVIDADES!G:G,0),1),$M$4)))","v":""},{"$f":"IF(A198=\"\",\"\",INDEX(ACTIVIDADES!D:I,MATCH(A198,ACTIVIDADES!G:G,0),4))","v":""},"",194]
[null,null,{"$f":"IF(B199=\"\",\"\",VLOOKUP(B199,'Otras referencias'!$A$32:$B$55,2,FALSE))","v":""},null,{"$f":"IF(A199=\"\",\"\",INDEX(ACTIVIDADES!G:L,MATCH(A199,ACTIVIDADES!G:G,0),5))","v":""},{"$f":"IF(A199=\"\",\"\",INDEX(ACTIVIDADES!G:P,MATCH(A199,ACTIVIDADES!G:G,0),8))","v":""},{"$f":"IF(A199=\"\",\"\",INDEX(ACTIVIDADES!D:G,MATCH(A199,ACTIVIDADES!G:G,0),1))","v":""},{"$f":"IF(A199=\"\",\"\",CONCATENATE(INDEX(ACTIVIDADES!D:G,MATCH(A199,ACTIVIDADES!G:G,0),1),$M$4))","v":""},{"$f":"IF(A199=\"\",\"\",IF(A199=A198,\"\",CONCATENATE(INDEX(ACTIVIDADES!D:G,MATCH(A199,ACTIVIDADES!G:G,0),1),$M$4)))","v":""},{"$f":"IF(A199=\"\",\"\",INDEX(ACTIVIDADES!D:I,MATCH(A199,ACTIVIDADES!G:G,0),4))","v":""},"",195]
[null,null,{"$f":"IF(B200=\"\",\"\",VLOOKUP(B200,'Otras referencias'!$A$32:$B$55,2,FALSE))","v":""},null,{"$f":"IF(A200=\"\",\"\",INDEX(ACTIVIDADES!G:L,MATCH(A200,ACTIVIDADES!G:G,0),5))","v":""},{"$f":"IF(A200=\"\",\"\",INDEX(ACTIVIDADES!G:P,MATCH(A200,ACTIVIDADES!G:G,0),8))","v":""},{"$f":"IF(A200=\"\",\"\",INDEX(ACTIVIDADES!D:G,MATCH(A200,ACTIVIDADES!G:G,0),1))","v":""},{"$f":"IF(A200=\"\",\"\",CONCATENATE(INDEX(ACTIVIDADES!D:G,MATCH(A200,ACTIVIDADES!G:G,0),1),$M$4))","v":""},{"$f":"IF(A200=\"\",\"\",IF(A200=A199,\"\",CONCATENATE(INDEX(ACTIVIDADES!D:G,MATCH(A200,ACTIVIDADES!G:G,0),1),$M$4)))","v":""},{"$f":"IF(A200=\"\",\"\",INDEX(ACTIVIDADES!D:I,MATCH(A200,ACTIVIDADES!G:G,0),4))","v":""},"",196]
[null,null,{"$f":"IF(B201=\"\",\"\",VLOOKUP(B201,'Otras referencias'!$A$32:$B$55,2,FALSE))","v":""},null,{"$f":"IF(A201=\"\",\"\",INDEX(ACTIVIDADES!G:L,MATCH(A201,ACTIVIDADES!G:G,0),5))","v":""},{"$f":"IF(A201=\"\",\"\",INDEX(ACTIVIDADES!G:P,MATCH(A201,ACTIVIDADES!G:G,0),8))","v":""},{"$f":"IF(A201=\"\",\"\",INDEX(ACTIVIDADES!D:G,MATCH(A201,ACTIVIDADES!G:G,0),1))","v":""},{"$f":"IF(A201=\"\",\"\",CONCATENATE(INDEX(ACTIVIDADES!D:G,MATCH(A201,ACTIVIDADES!G:G,0),1),$M$4))","v":""},{"$f":"IF(A201=\"\",\"\",IF(A201=A200,\"\",CONCATENATE(INDEX(ACTIVIDADES!D:G,MATCH(A201,ACTIVIDADES!G:G,0),1),$M$4)))","v":""},{"$f":"IF(A201=\"\",\"\",INDEX(ACTIVIDADES!D:I,MATCH(A201,ACTIVIDADES!G:G,0),4))","v":""},"",197]
[null,null,{"$f":"IF(B202=\"\",\"\",VLOOKUP(B202,'Otras referencias'!$A$32:$B$55,2,FALSE))","v":""},null,{"$f":"IF(A202=\"\",\"\",INDEX(ACTIVIDADES!G:L,MATCH(A202,ACTIVIDADES!G:G,0),5))","v":""},{"$f":"IF(A202=\"\",\"\",INDEX(ACTIVIDADES!G:P,MATCH(A202,ACTIVIDADES!G:G,0),8))","v":""},{"$f":"IF(A202=\"\",\"\",INDEX(ACTIVIDADES!D:G,MATCH(A202,ACTIVIDADES!G:G,0),1))","v":""},{"$f":"IF(A202=\"\",\"\",CONCATENATE(INDEX(ACTIVIDADES!D:G,MATCH(A202,ACTIVIDADES!G:G,0),1),$M$4))","v":""},{"$f":"IF(A202=\"\",\"\",IF(A202=A201,\"\",CONCATENATE(INDEX(ACTIVIDADES!D:G,MATCH(A202,ACTIVIDADES!G:G,0),1),$M$4)))","v":""},{"$f":"IF(A202=\"\",\"\",INDEX(ACTIVIDADES!D:I,MATCH(A202,ACTIVIDADES!G:G,0),4))","v":""},"",198]
[null,null,{"$f":"IF(B203=\"\",\"\",VLOOKUP(B203,'Otras referencias'!$A$32:$B$55,2,FALSE))","v":""},null,{"$f":"IF(A203=\"\",\"\",INDEX(ACTIVIDADES!G:L,MATCH(A203,ACTIVIDADES!G:G,0),5))","v":""},{"$f":"IF(A203=\"\",\"\",INDEX(ACTIVIDADES!G:P,MATCH(A203,ACTIVIDADES!G:G,0),8))","v":""},{"$f":"IF(A203=\"\",\"\",INDEX(ACTIVIDADES!D:G,MATCH(A203,ACTIVIDADES!G:G,0),1))","v":""},{"$f":"IF(A203=\"\",\"\",CONCATENATE(INDEX(ACTIVIDADES!D:G,MATCH(A203,ACTIVIDADES!G:G,0),1),$M$4))","v":""},{"$f":"IF(A203=\"\",\"\",IF(A203=A202,\"\",CONCATENATE(INDEX(ACTIVIDADES!D:G,MATCH(A203,ACTIVIDADES!G:G,0),1),$M$4)))","v":""},{"$f":"IF(A203=\"\",\"\",INDEX(ACTIVIDADES!D:I,MATCH(A203,ACTIVIDADES!G:G,0),4))","v":""},"",199]
[null,null,{"$f":"IF(B204=\"\",\"\",VLOOKUP(B204,'Otras referencias'!$A$32:$B$55,2,FALSE))","v":""},null,{"$f":"IF(A204=\"\",\"\",INDEX(ACTIVIDADES!G:L,MATCH(A204,ACTIVIDADES!G:G,0),5))","v":""},{"$f":"IF(A204=\"\",\"\",INDEX(ACTIVIDADES!G:P,MATCH(A204,ACTIVIDADES!G:G,0),8))","v":""},{"$f":"IF(A204=\"\",\"\",INDEX(ACTIVIDADES!D:G,MATCH(A204,ACTIVIDADES!G:G,0),1))","v":""},{"$f":"IF(A204=\"\",\"\",CONCATENATE(INDEX(ACTIVIDADES!D:G,MATCH(A204,ACTIVIDADES!G:G,0),1),$M$4))","v":""},{"$f":"IF(A204=\"\",\"\",IF(A204=A203,\"\",CONCATENATE(INDEX(ACTIVIDADES!D:G,MATCH(A204,ACTIVIDADES!G:G,0),1),$M$4)))","v":""},{"$f":"IF(A204=\"\",\"\",INDEX(ACTIVIDADES!D:I,MATCH(A204,ACTIVIDADES!G:G,0),4))","v":""},"",200]
[null,null,{"$f":"IF(B205=\"\",\"\",VLOOKUP(B205,'Otras referencias'!$A$32:$B$55,2,FALSE))","v":""},null,{"$f":"IF(A205=\"\",\"\",INDEX(ACTIVIDADES!G:L,MATCH(A205,ACTIVIDADES!G:G,0),5))","v":""},{"$f":"IF(A205=\"\",\"\",INDEX(ACTIVIDADES!G:P,MATCH(A205,ACTIVIDADES!G:G,0),8))","v":""},{"$f":"IF(A205=\"\",\"\",INDEX(ACTIVIDADES!D:G,MATCH(A205,ACTIVIDADES!G:G,0),1))","v":""},{"$f":"IF(A205=\"\",\"\",CONCATENATE(INDEX(ACTIVIDADES!D:G,MATCH(A205,ACTIVIDADES!G:G,0),1),$M$4))","v":""},{"$f":"IF(A205=\"\",\"\",IF(A205=A204,\"\",CONCATENATE(INDEX(ACTIVIDADES!D:G,MATCH(A205,ACTIVIDADES!G:G,0),1),$M$4)))","v":""},{"$f":"IF(A205=\"\",\"\",INDEX(ACTIVIDADES!D:I,MATCH(A205,ACTIVIDADES!G:G,0),4))","v":""},"",201]
[null,null,{"$f":"IF(B206=\"\",\"\",VLOOKUP(B206,'Otras referencias'!$A$32:$B$55,2,FALSE))","v":""},null,{"$f":"IF(A206=\"\",\"\",INDEX(ACTIVIDADES!G:L,MATCH(A206,ACTIVIDADES!G:G,0),5))","v":""},{"$f":"IF(A206=\"\",\"\",INDEX(ACTIVIDADES!G:P,MATCH(A206,ACTIVIDADES!G:G,0),8))","v":""},{"$f":"IF(A206=\"\",\"\",INDEX(ACTIVIDADES!D:G,MATCH(A206,ACTIVIDADES!G:G,0),1))","v":""},{"$f":"IF(A206=\"\",\"\",CONCATENATE(INDEX(ACTIVIDADES!D:G,MATCH(A206,ACTIVIDADES!G:G,0),1),$M$4))","v":""},{"$f":"IF(A206=\"\",\"\",IF(A206=A205,\"\",CONCATENATE(INDEX(ACTIVIDADES!D:G,MATCH(A206,ACTIVIDADES!G:G,0),1),$M$4)))","v":""},{"$f":"IF(A206=\"\",\"\",INDEX(ACTIVIDADES!D:I,MATCH(A206,ACTIVIDADES!G:G,0),4))","v":""},"",202]
[null,null,{"$f":"IF(B207=\"\",\"\",VLOOKUP(B207,'Otras referencias'!$A$32:$B$55,2,FALSE))","v":""},null,{"$f":"IF(A207=\"\",\"\",INDEX(ACTIVIDADES!G:L,MATCH(A207,ACTIVIDADES!G:G,0),5))","v":""},{"$f":"IF(A207=\"\",\"\",INDEX(ACTIVIDADES!G:P,MATCH(A207,ACTIVIDADES!G:G,0),8))","v":""},{"$f":"IF(A207=\"\",\"\",INDEX(ACTIVIDADES!D:G,MATCH(A207,ACTIVIDADES!G:G,0),1))","v":""},{"$f":"IF(A207=\"\",\"\",CONCATENATE(INDEX(ACTIVIDADES!D:G,MATCH(A207,ACTIVIDADES!G:G,0),1),$M$4))","v":""},{"$f":"IF(A207=\"\",\"\",IF(A207=A206,\"\",CONCATENATE(INDEX(ACTIVIDADES!D:G,MATCH(A207,ACTIVIDADES!G:G,0),1),$M$4)))","v":""},{"$f":"IF(A207=\"\",\"\",INDEX(ACTIVIDADES!D:I,MATCH(A207,ACTIVIDADES!G:G,0),4))","v":""},"",203]
[null,null,{"$f":"IF(B208=\"\",\"\",VLOOKUP(B208,'Otras referencias'!$A$32:$B$55,2,FALSE))","v":""},null,{"$f":"IF(A208=\"\",\"\",INDEX(ACTIVIDADES!G:L,MATCH(A208,ACTIVIDADES!G:G,0),5))","v":""},{"$f":"IF(A208=\"\",\"\",INDEX(ACTIVIDADES!G:P,MATCH(A208,ACTIVIDADES!G:G,0),8))","v":""},{"$f":"IF(A208=\"\",\"\",INDEX(ACTIVIDADES!D:G,MATCH(A208,ACTIVIDADES!G:G,0),1))","v":""},{"$f":"IF(A208=\"\",\"\",CONCATENATE(INDEX(ACTIVIDADES!D:G,MATCH(A208,ACTIVIDADES!G:G,0),1),$M$4))","v":""},{"$f":"IF(A208=\"\",\"\",IF(A208=A207,\"\",CONCATENATE(INDEX(ACTIVIDADES!D:G,MATCH(A208,ACTIVIDADES!G:G,0),1),$M$4)))","v":""},{"$f":"IF(A208=\"\",\"\",INDEX(ACTIVIDADES!D:I,MATCH(A208,ACTIVIDADES!G:G,0),4))","v":""},"",204]
[null,null,{"$f":"IF(B209=\"\",\"\",VLOOKUP(B209,'Otras referencias'!$A$32:$B$55,2,FALSE))","v":""},null,{"$f":"IF(A209=\"\",\"\",INDEX(ACTIVIDADES!G:L,MATCH(A209,ACTIVIDADES!G:G,0),5))","v":""},{"$f":"IF(A209=\"\",\"\",INDEX(ACTIVIDADES!G:P,MATCH(A209,ACTIVIDADES!G:G,0),8))","v":""},{"$f":"IF(A209=\"\",\"\",INDEX(ACTIVIDADES!D:G,MATCH(A209,ACTIVIDADES!G:G,0),1))","v":""},{"$f":"IF(A209=\"\",\"\",CONCATENATE(INDEX(ACTIVIDADES!D:G,MATCH(A209,ACTIVIDADES!G:G,0),1),$M$4))","v":""},{"$f":"IF(A209=\"\",\"\",IF(A209=A208,\"\",CONCATENATE(INDEX(ACTIVIDADES!D:G,MATCH(A209,ACTIVIDADES!G:G,0),1),$M$4)))","v":""},{"$f":"IF(A209=\"\",\"\",INDEX(ACTIVIDADES!D:I,MATCH(A209,ACTIVIDADES!G:G,0),4))","v":""},"",205]
[null,null,{"$f":"IF(B210=\"\",\"\",VLOOKUP(B210,'Otras referencias'!$A$32:$B$55,2,FALSE))","v":""},null,{"$f":"IF(A210=\"\",\"\",INDEX(ACTIVIDADES!G:L,MATCH(A210,ACTIVIDADES!G:G,0),5))","v":""},{"$f":"IF(A210=\"\",\"\",INDEX(ACTIVIDADES!G:P,MATCH(A210,ACTIVIDADES!G:G,0),8))","v":""},{"$f":"IF(A210=\"\",\"\",INDEX(ACTIVIDADES!D:G,MATCH(A210,ACTIVIDADES!G:G,0),1))","v":""},{"$f":"IF(A210=\"\",\"\",CONCATENATE(INDEX(ACTIVIDADES!D:G,MATCH(A210,ACTIVIDADES!G:G,0),1),$M$4))","v":""},{"$f":"IF(A210=\"\",\"\",IF(A210=A209,\"\",CONCATENATE(INDEX(ACTIVIDADES!D:G,MATCH(A210,ACTIVIDADES!G:G,0),1),$M$4)))","v":""},{"$f":"IF(A210=\"\",\"\",INDEX(ACTIVIDADES!D:I,MATCH(A210,ACTIVIDADES!G:G,0),4))","v":""},"",206]
[null,null,{"$f":"IF(B211=\"\",\"\",VLOOKUP(B211,'Otras referencias'!$A$32:$B$55,2,FALSE))","v":""},null,{"$f":"IF(A211=\"\",\"\",INDEX(ACTIVIDADES!G:L,MATCH(A211,ACTIVIDADES!G:G,0),5))","v":""},{"$f":"IF(A211=\"\",\"\",INDEX(ACTIVIDADES!G:P,MATCH(A211,ACTIVIDADES!G:G,0),8))","v":""},{"$f":"IF(A211=\"\",\"\",INDEX(ACTIVIDADES!D:G,MATCH(A211,ACTIVIDADES!G:G,0),1))","v":""},{"$f":"IF(A211=\"\",\"\",CONCATENATE(INDEX(ACTIVIDADES!D:G,MATCH(A211,ACTIVIDADES!G:G,0),1),$M$4))","v":""},{"$f":"IF(A211=\"\",\"\",IF(A211=A210,\"\",CONCATENATE(INDEX(ACTIVIDADES!D:G,MATCH(A211,ACTIVIDADES!G:G,0),1),$M$4)))","v":""},{"$f":"IF(A211=\"\",\"\",INDEX(ACTIVIDADES!D:I,MATCH(A211,ACTIVIDADES!G:G,0),4))","v":""},"",207]
[null,null,{"$f":"IF(B212=\"\",\"\",VLOOKUP(B212,'Otras referencias'!$A$32:$B$55,2,FALSE))","v":""},null,{"$f":"IF(A212=\"\",\"\",INDEX(ACTIVIDADES!G:L,MATCH(A212,ACTIVIDADES!G:G,0),5))","v":""},{"$f":"IF(A212=\"\",\"\",INDEX(ACTIVIDADES!G:P,MATCH(A212,ACTIVIDADES!G:G,0),8))","v":""},{"$f":"IF(A212=\"\",\"\",INDEX(ACTIVIDADES!D:G,MATCH(A212,ACTIVIDADES!G:G,0),1))","v":""},{"$f":"IF(A212=\"\",\"\",CONCATENATE(INDEX(ACTIVIDADES!D:G,MATCH(A212,ACTIVIDADES!G:G,0),1),$M$4))","v":""},{"$f":"IF(A212=\"\",\"\",IF(A212=A211,\"\",CONCATENATE(INDEX(ACTIVIDADES!D:G,MATCH(A212,ACTIVIDADES!G:G,0),1),$M$4)))","v":""},{"$f":"IF(A212=\"\",\"\",INDEX(ACTIVIDADES!D:I,MATCH(A212,ACTIVIDADES!G:G,0),4))","v":""},"",208]
[null,null,{"$f":"IF(B213=\"\",\"\",VLOOKUP(B213,'Otras referencias'!$A$32:$B$55,2,FALSE))","v":""},null,{"$f":"IF(A213=\"\",\"\",INDEX(ACTIVIDADES!G:L,MATCH(A213,ACTIVIDADES!G:G,0),5))","v":""},{"$f":"IF(A213=\"\",\"\",INDEX(ACTIVIDADES!G:P,MATCH(A213,ACTIVIDADES!G:G,0),8))","v":""},{"$f":"IF(A213=\"\",\"\",INDEX(ACTIVIDADES!D:G,MATCH(A213,ACTIVIDADES!G:G,0),1))","v":""},{"$f":"IF(A213=\"\",\"\",CONCATENATE(INDEX(ACTIVIDADES!D:G,MATCH(A213,ACTIVIDADES!G:G,0),1),$M$4))","v":""},{"$f":"IF(A213=\"\",\"\",IF(A213=A212,\"\",CONCATENATE(INDEX(ACTIVIDADES!D:G,MATCH(A213,ACTIVIDADES!G:G,0),1),$M$4)))","v":""},{"$f":"IF(A213=\"\",\"\",INDEX(ACTIVIDADES!D:I,MATCH(A213,ACTIVIDADES!G:G,0),4))","v":""},"",209]
[null,null,{"$f":"IF(B214=\"\",\"\",VLOOKUP(B214,'Otras referencias'!$A$32:$B$55,2,FALSE))","v":""},null,{"$f":"IF(A214=\"\",\"\",INDEX(ACTIVIDADES!G:L,MATCH(A214,ACTIVIDADES!G:G,0),5))","v":""},{"$f":"IF(A214=\"\",\"\",INDEX(ACTIVIDADES!G:P,MATCH(A214,ACTIVIDADES!G:G,0),8))","v":""},{"$f":"IF(A214=\"\",\"\",INDEX(ACTIVIDADES!D:G,MATCH(A214,ACTIVIDADES!G:G,0),1))","v":""},{"$f":"IF(A214=\"\",\"\",CONCATENATE(INDEX(ACTIVIDADES!D:G,MATCH(A214,ACTIVIDADES!G:G,0),1),$M$4))","v":""},{"$f":"IF(A214=\"\",\"\",IF(A214=A213,\"\",CONCATENATE(INDEX(ACTIVIDADES!D:G,MATCH(A214,ACTIVIDADES!G:G,0),1),$M$4)))","v":""},{"$f":"IF(A214=\"\",\"\",INDEX(ACTIVIDADES!D:I,MATCH(A214,ACTIVIDADES!G:G,0),4))","v":""},"",210]
[null,null,{"$f":"IF(B215=\"\",\"\",VLOOKUP(B215,'Otras referencias'!$A$32:$B$55,2,FALSE))","v":""},null,{"$f":"IF(A215=\"\",\"\",INDEX(ACTIVIDADES!G:L,MATCH(A215,ACTIVIDADES!G:G,0),5))","v":""},{"$f":"IF(A215=\"\",\"\",INDEX(ACTIVIDADES!G:P,MATCH(A215,ACTIVIDADES!G:G,0),8))","v":""},{"$f":"IF(A215=\"\",\"\",INDEX(ACTIVIDADES!D:G,MATCH(A215,ACTIVIDADES!G:G,0),1))","v":""},{"$f":"IF(A215=\"\",\"\",CONCATENATE(INDEX(ACTIVIDADES!D:G,MATCH(A215,ACTIVIDADES!G:G,0),1),$M$4))","v":""},{"$f":"IF(A215=\"\",\"\",IF(A215=A214,\"\",CONCATENATE(INDEX(ACTIVIDADES!D:G,MATCH(A215,ACTIVIDADES!G:G,0),1),$M$4)))","v":""},{"$f":"IF(A215=\"\",\"\",INDEX(ACTIVIDADES!D:I,MATCH(A215,ACTIVIDADES!G:G,0),4))","v":""},"",211]
[null,null,{"$f":"IF(B216=\"\",\"\",VLOOKUP(B216,'Otras referencias'!$A$32:$B$55,2,FALSE))","v":""},null,{"$f":"IF(A216=\"\",\"\",INDEX(ACTIVIDADES!G:L,MATCH(A216,ACTIVIDADES!G:G,0),5))","v":""},{"$f":"IF(A216=\"\",\"\",INDEX(ACTIVIDADES!G:P,MATCH(A216,ACTIVIDADES!G:G,0),8))","v":""},{"$f":"IF(A216=\"\",\"\",INDEX(ACTIVIDADES!D:G,MATCH(A216,ACTIVIDADES!G:G,0),1))","v":""},{"$f":"IF(A216=\"\",\"\",CONCATENATE(INDEX(ACTIVIDADES!D:G,MATCH(A216,ACTIVIDADES!G:G,0),1),$M$4))","v":""},{"$f":"IF(A216=\"\",\"\",IF(A216=A215,\"\",CONCATENATE(INDEX(ACTIVIDADES!D:G,MATCH(A216,ACTIVIDADES!G:G,0),1),$M$4)))","v":""},{"$f":"IF(A216=\"\",\"\",INDEX(ACTIVIDADES!D:I,MATCH(A216,ACTIVIDADES!G:G,0),4))","v":""},"",212]
[null,null,{"$f":"IF(B217=\"\",\"\",VLOOKUP(B217,'Otras referencias'!$A$32:$B$55,2,FALSE))","v":""},null,{"$f":"IF(A217=\"\",\"\",INDEX(ACTIVIDADES!G:L,MATCH(A217,ACTIVIDADES!G:G,0),5))","v":""},{"$f":"IF(A217=\"\",\"\",INDEX(ACTIVIDADES!G:P,MATCH(A217,ACTIVIDADES!G:G,0),8))","v":""},{"$f":"IF(A217=\"\",\"\",INDEX(ACTIVIDADES!D:G,MATCH(A217,ACTIVIDADES!G:G,0),1))","v":""},{"$f":"IF(A217=\"\",\"\",CONCATENATE(INDEX(ACTIVIDADES!D:G,MATCH(A217,ACTIVIDADES!G:G,0),1),$M$4))","v":""},{"$f":"IF(A217=\"\",\"\",IF(A217=A216,\"\",CONCATENATE(INDEX(ACTIVIDADES!D:G,MATCH(A217,ACTIVIDADES!G:G,0),1),$M$4)))","v":""},{"$f":"IF(A217=\"\",\"\",INDEX(ACTIVIDADES!D:I,MATCH(A217,ACTIVIDADES!G:G,0),4))","v":""},"",213]
[null,null,{"$f":"IF(B218=\"\",\"\",VLOOKUP(B218,'Otras referencias'!$A$32:$B$55,2,FALSE))","v":""},null,{"$f":"IF(A218=\"\",\"\",INDEX(ACTIVIDADES!G:L,MATCH(A218,ACTIVIDADES!G:G,0),5))","v":""},{"$f":"IF(A218=\"\",\"\",INDEX(ACTIVIDADES!G:P,MATCH(A218,ACTIVIDADES!G:G,0),8))","v":""},{"$f":"IF(A218=\"\",\"\",INDEX(ACTIVIDADES!D:G,MATCH(A218,ACTIVIDADES!G:G,0),1))","v":""},{"$f":"IF(A218=\"\",\"\",CONCATENATE(INDEX(ACTIVIDADES!D:G,MATCH(A218,ACTIVIDADES!G:G,0),1),$M$4))","v":""},{"$f":"IF(A218=\"\",\"\",IF(A218=A217,\"\",CONCATENATE(INDEX(ACTIVIDADES!D:G,MATCH(A218,ACTIVIDADES!G:G,0),1),$M$4)))","v":""},{"$f":"IF(A218=\"\",\"\",INDEX(ACTIVIDADES!D:I,MATCH(A218,ACTIVIDADES!G:G,0),4))","v":""},"",214]
[null,null,{"$f":"IF(B219=\"\",\"\",VLOOKUP(B219,'Otras referencias'!$A$32:$B$55,2,FALSE))","v":""},null,{"$f":"IF(A219=\"\",\"\",INDEX(ACTIVIDADES!G:L,MATCH(A219,ACTIVIDADES!G:G,0),5))","v":""},{"$f":"IF(A219=\"\",\"\",INDEX(ACTIVIDADES!G:P,MATCH(A219,ACTIVIDADES!G:G,0),8))","v":""},{"$f":"IF(A219=\"\",\"\",INDEX(ACTIVIDADES!D:G,MATCH(A219,ACTIVIDADES!G:G,0),1))","v":""},{"$f":"IF(A219=\"\",\"\",CONCATENATE(INDEX(ACTIVIDADES!D:G,MATCH(A219,ACTIVIDADES!G:G,0),1),$M$4))","v":""},{"$f":"IF(A219=\"\",\"\",IF(A219=A218,\"\",CONCATENATE(INDEX(ACTIVIDADES!D:G,MATCH(A219,ACTIVIDADES!G:G,0),1),$M$4)))","v":""},{"$f":"IF(A219=\"\",\"\",INDEX(ACTIVIDADES!D:I,MATCH(A219,ACTIVIDADES!G:G,0),4))","v":""},"",215]
[null,null,{"$f":"IF(B220=\"\",\"\",VLOOKUP(B220,'Otras referencias'!$A$32:$B$55,2,FALSE))","v":""},null,{"$f":"IF(A220=\"\",\"\",INDEX(ACTIVIDADES!G:L,MATCH(A220,ACTIVIDADES!G:G,0),5))","v":""},{"$f":"IF(A220=\"\",\"\",INDEX(ACTIVIDADES!G:P,MATCH(A220,ACTIVIDADES!G:G,0),8))","v":""},{"$f":"IF(A220=\"\",\"\",INDEX(ACTIVIDADES!D:G,MATCH(A220,ACTIVIDADES!G:G,0),1))","v":""},{"$f":"IF(A220=\"\",\"\",CONCATENATE(INDEX(ACTIVIDADES!D:G,MATCH(A220,ACTIVIDADES!G:G,0),1),$M$4))","v":""},{"$f":"IF(A220=\"\",\"\",IF(A220=A219,\"\",CONCATENATE(INDEX(ACTIVIDADES!D:G,MATCH(A220,ACTIVIDADES!G:G,0),1),$M$4)))","v":""},{"$f":"IF(A220=\"\",\"\",INDEX(ACTIVIDADES!D:I,MATCH(A220,ACTIVIDADES!G:G,0),4))","v":""},"",216]
[null,null,{"$f":"IF(B221=\"\",\"\",VLOOKUP(B221,'Otras referencias'!$A$32:$B$55,2,FALSE))","v":""},null,{"$f":"IF(A221=\"\",\"\",INDEX(ACTIVIDADES!G:L,MATCH(A221,ACTIVIDADES!G:G,0),5))","v":""},{"$f":"IF(A221=\"\",\"\",INDEX(ACTIVIDADES!G:P,MATCH(A221,ACTIVIDADES!G:G,0),8))","v":""},{"$f":"IF(A221=\"\",\"\",INDEX(ACTIVIDADES!D:G,MATCH(A221,ACTIVIDADES!G:G,0),1))","v":""},{"$f":"IF(A221=\"\",\"\",CONCATENATE(INDEX(ACTIVIDADES!D:G,MATCH(A221,ACTIVIDADES!G:G,0),1),$M$4))","v":""},{"$f":"IF(A221=\"\",\"\",IF(A221=A220,\"\",CONCATENATE(INDEX(ACTIVIDADES!D:G,MATCH(A221,ACTIVIDADES!G:G,0),1),$M$4)))","v":""},{"$f":"IF(A221=\"\",\"\",INDEX(ACTIVIDADES!D:I,MATCH(A221,ACTIVIDADES!G:G,0),4))","v":""},"",217]
[null,null,{"$f":"IF(B222=\"\",\"\",VLOOKUP(B222,'Otras referencias'!$A$32:$B$55,2,FALSE))","v":""},null,{"$f":"IF(A222=\"\",\"\",INDEX(ACTIVIDADES!G:L,MATCH(A222,ACTIVIDADES!G:G,0),5))","v":""},{"$f":"IF(A222=\"\",\"\",INDEX(ACTIVIDADES!G:P,MATCH(A222,ACTIVIDADES!G:G,0),8))","v":""},{"$f":"IF(A222=\"\",\"\",INDEX(ACTIVIDADES!D:G,MATCH(A222,ACTIVIDADES!G:G,0),1))","v":""},{"$f":"IF(A222=\"\",\"\",CONCATENATE(INDEX(ACTIVIDADES!D:G,MATCH(A222,ACTIVIDADES!G:G,0),1),$M$4))","v":""},{"$f":"IF(A222=\"\",\"\",IF(A222=A221,\"\",CONCATENATE(INDEX(ACTIVIDADES!D:G,MATCH(A222,ACTIVIDADES!G:G,0),1),$M$4)))","v":""},{"$f":"IF(A222=\"\",\"\",INDEX(ACTIVIDADES!D:I,MATCH(A222,ACTIVIDADES!G:G,0),4))","v":""},"",218]
[null,null,{"$f":"IF(B223=\"\",\"\",VLOOKUP(B223,'Otras referencias'!$A$32:$B$55,2,FALSE))","v":""},null,{"$f":"IF(A223=\"\",\"\",INDEX(ACTIVIDADES!G:L,MATCH(A223,ACTIVIDADES!G:G,0),5))","v":""},{"$f":"IF(A223=\"\",\"\",INDEX(ACTIVIDADES!G:P,MATCH(A223,ACTIVIDADES!G:G,0),8))","v":""},{"$f":"IF(A223=\"\",\"\",INDEX(ACTIVIDADES!D:G,MATCH(A223,ACTIVIDADES!G:G,0),1))","v":""},{"$f":"IF(A223=\"\",\"\",CONCATENATE(INDEX(ACTIVIDADES!D:G,MATCH(A223,ACTIVIDADES!G:G,0),1),$M$4))","v":""},{"$f":"IF(A223=\"\",\"\",IF(A223=A222,\"\",CONCATENATE(INDEX(ACTIVIDADES!D:G,MATCH(A223,ACTIVIDADES!G:G,0),1),$M$4)))","v":""},{"$f":"IF(A223=\"\",\"\",INDEX(ACTIVIDADES!D:I,MATCH(A223,ACTIVIDADES!G:G,0),4))","v":""},"",219]
[null,null,{"$f":"IF(B224=\"\",\"\",VLOOKUP(B224,'Otras referencias'!$A$32:$B$55,2,FALSE))","v":""},null,{"$f":"IF(A224=\"\",\"\",INDEX(ACTIVIDADES!G:L,MATCH(A224,ACTIVIDADES!G:G,0),5))","v":""},{"$f":"IF(A224=\"\",\"\",INDEX(ACTIVIDADES!G:P,MATCH(A224,ACTIVIDADES!G:G,0),8))","v":""},{"$f":"IF(A224=\"\",\"\",INDEX(ACTIVIDADES!D:G,MATCH(A224,ACTIVIDADES!G:G,0),1))","v":""},{"$f":"IF(A224=\"\",\"\",CONCATENATE(INDEX(ACTIVIDADES!D:G,MATCH(A224,ACTIVIDADES!G:G,0),1),$M$4))","v":""},{"$f":"IF(A224=\"\",\"\",IF(A224=A223,\"\",CONCATENATE(INDEX(ACTIVIDADES!D:G,MATCH(A224,ACTIVIDADES!G:G,0),1),$M$4)))","v":""},{"$f":"IF(A224=\"\",\"\",INDEX(ACTIVIDADES!D:I,MATCH(A224,ACTIVIDADES!G:G,0),4))","v":""},"",220]
[null,null,{"$f":"IF(B225=\"\",\"\",VLOOKUP(B225,'Otras referencias'!$A$32:$B$55,2,FALSE))","v":""},null,{"$f":"IF(A225=\"\",\"\",INDEX(ACTIVIDADES!G:L,MATCH(A225,ACTIVIDADES!G:G,0),5))","v":""},{"$f":"IF(A225=\"\",\"\",INDEX(ACTIVIDADES!G:P,MATCH(A225,ACTIVIDADES!G:G,0),8))","v":""},{"$f":"IF(A225=\"\",\"\",INDEX(ACTIVIDADES!D:G,MATCH(A225,ACTIVIDADES!G:G,0),1))","v":""},{"$f":"IF(A225=\"\",\"\",CONCATENATE(INDEX(ACTIVIDADES!D:G,MATCH(A225,ACTIVIDADES!G:G,0),1),$M$4))","v":""},{"$f":"IF(A225=\"\",\"\",IF(A225=A224,\"\",CONCATENATE(INDEX(ACTIVIDADES!D:G,MATCH(A225,ACTIVIDADES!G:G,0),1),$M$4)))","v":""},{"$f":"IF(A225=\"\",\"\",INDEX(ACTIVIDADES!D:I,MATCH(A225,ACTIVIDADES!G:G,0),4))","v":""},"",221]
[null,null,{"$f":"IF(B226=\"\",\"\",VLOOKUP(B226,'Otras referencias'!$A$32:$B$55,2,FALSE))","v":""},null,{"$f":"IF(A226=\"\",\"\",INDEX(ACTIVIDADES!G:L,MATCH(A226,ACTIVIDADES!G:G,0),5))","v":""},{"$f":"IF(A226=\"\",\"\",INDEX(ACTIVIDADES!G:P,MATCH(A226,ACTIVIDADES!G:G,0),8))","v":""},{"$f":"IF(A226=\"\",\"\",INDEX(ACTIVIDADES!D:G,MATCH(A226,ACTIVIDADES!G:G,0),1))","v":""},{"$f":"IF(A226=\"\",\"\",CONCATENATE(INDEX(ACTIVIDADES!D:G,MATCH(A226,ACTIVIDADES!G:G,0),1),$M$4))","v":""},{"$f":"IF(A226=\"\",\"\",IF(A226=A225,\"\",CONCATENATE(INDEX(ACTIVIDADES!D:G,MATCH(A226,ACTIVIDADES!G:G,0),1),$M$4)))","v":""},{"$f":"IF(A226=\"\",\"\",INDEX(ACTIVIDADES!D:I,MATCH(A226,ACTIVIDADES!G:G,0),4))","v":""},"",222]
[null,null,{"$f":"IF(B227=\"\",\"\",VLOOKUP(B227,'Otras referencias'!$A$32:$B$55,2,FALSE))","v":""},null,{"$f":"IF(A227=\"\",\"\",INDEX(ACTIVIDADES!G:L,MATCH(A227,ACTIVIDADES!G:G,0),5))","v":""},{"$f":"IF(A227=\"\",\"\",INDEX(ACTIVIDADES!G:P,MATCH(A227,ACTIVIDADES!G:G,0),8))","v":""},{"$f":"IF(A227=\"\",\"\",INDEX(ACTIVIDADES!D:G,MATCH(A227,ACTIVIDADES!G:G,0),1))","v":""},{"$f":"IF(A227=\"\",\"\",CONCATENATE(INDEX(ACTIVIDADES!D:G,MATCH(A227,ACTIVIDADES!G:G,0),1),$M$4))","v":""},{"$f":"IF(A227=\"\",\"\",IF(A227=A226,\"\",CONCATENATE(INDEX(ACTIVIDADES!D:G,MATCH(A227,ACTIVIDADES!G:G,0),1),$M$4)))","v":""},{"$f":"IF(A227=\"\",\"\",INDEX(ACTIVIDADES!D:I,MATCH(A227,ACTIVIDADES!G:G,0),4))","v":""},"",223]
[null,null,{"$f":"IF(B228=\"\",\"\",VLOOKUP(B228,'Otras referencias'!$A$32:$B$55,2,FALSE))","v":""},null,{"$f":"IF(A228=\"\",\"\",INDEX(ACTIVIDADES!G:L,MATCH(A228,ACTIVIDADES!G:G,0),5))","v":""},{"$f":"IF(A228=\"\",\"\",INDEX(ACTIVIDADES!G:P,MATCH(A228,ACTIVIDADES!G:G,0),8))","v":""},{"$f":"IF(A228=\"\",\"\",INDEX(ACTIVIDADES!D:G,MATCH(A228,ACTIVIDADES!G:G,0),1))","v":""},{"$f":"IF(A228=\"\",\"\",CONCATENATE(INDEX(ACTIVIDADES!D:G,MATCH(A228,ACTIVIDADES!G:G,0),1),$M$4))","v":""},{"$f":"IF(A228=\"\",\"\",IF(A228=A227,\"\",CONCATENATE(INDEX(ACTIVIDADES!D:G,MATCH(A228,ACTIVIDADES!G:G,0),1),$M$4)))","v":""},{"$f":"IF(A228=\"\",\"\",INDEX(ACTIVIDADES!D:I,MATCH(A228,ACTIVIDADES!G:G,0),4))","v":""},"",224]
[null,null,{"$f":"IF(B229=\"\",\"\",VLOOKUP(B229,'Otras referencias'!$A$32:$B$55,2,FALSE))","v":""},null,{"$f":"IF(A229=\"\",\"\",INDEX(ACTIVIDADES!G:L,MATCH(A229,ACTIVIDADES!G:G,0),5))","v":""},{"$f":"IF(A229=\"\",\"\",INDEX(ACTIVIDADES!G:P,MATCH(A229,ACTIVIDADES!G:G,0),8))","v":""},{"$f":"IF(A229=\"\",\"\",INDEX(ACTIVIDADES!D:G,MATCH(A229,ACTIVIDADES!G:G,0),1))","v":""},{"$f":"IF(A229=\"\",\"\",CONCATENATE(INDEX(ACTIVIDADES!D:G,MATCH(A229,ACTIVIDADES!G:G,0),1),$M$4))","v":""},{"$f":"IF(A229=\"\",\"\",IF(A229=A228,\"\",CONCATENATE(INDEX(ACTIVIDADES!D:G,MATCH(A229,ACTIVIDADES!G:G,0),1),$M$4)))","v":""},{"$f":"IF(A229=\"\",\"\",INDEX(ACTIVIDADES!D:I,MATCH(A229,ACTIVIDADES!G:G,0),4))","v":""},"",225]
[null,null,{"$f":"IF(B230=\"\",\"\",VLOOKUP(B230,'Otras referencias'!$A$32:$B$55,2,FALSE))","v":""},null,{"$f":"IF(A230=\"\",\"\",INDEX(ACTIVIDADES!G:L,MATCH(A230,ACTIVIDADES!G:G,0),5))","v":""},{"$f":"IF(A230=\"\",\"\",INDEX(ACTIVIDADES!G:P,MATCH(A230,ACTIVIDADES!G:G,0),8))","v":""},{"$f":"IF(A230=\"\",\"\",INDEX(ACTIVIDADES!D:G,MATCH(A230,ACTIVIDADES!G:G,0),1))","v":""},{"$f":"IF(A230=\"\",\"\",CONCATENATE(INDEX(ACTIVIDADES!D:G,MATCH(A230,ACTIVIDADES!G:G,0),1),$M$4))","v":""},{"$f":"IF(A230=\"\",\"\",IF(A230=A229,\"\",CONCATENATE(INDEX(ACTIVIDADES!D:G,MATCH(A230,ACTIVIDADES!G:G,0),1),$M$4)))","v":""},{"$f":"IF(A230=\"\",\"\",INDEX(ACTIVIDADES!D:I,MATCH(A230,ACTIVIDADES!G:G,0),4))","v":""},"",226]
[null,null,{"$f":"IF(B231=\"\",\"\",VLOOKUP(B231,'Otras referencias'!$A$32:$B$55,2,FALSE))","v":""},null,{"$f":"IF(A231=\"\",\"\",INDEX(ACTIVIDADES!G:L,MATCH(A231,ACTIVIDADES!G:G,0),5))","v":""},{"$f":"IF(A231=\"\",\"\",INDEX(ACTIVIDADES!G:P,MATCH(A231,ACTIVIDADES!G:G,0),8))","v":""},{"$f":"IF(A231=\"\",\"\",INDEX(ACTIVIDADES!D:G,MATCH(A231,ACTIVIDADES!G:G,0),1))","v":""},{"$f":"IF(A231=\"\",\"\",CONCATENATE(INDEX(ACTIVIDADES!D:G,MATCH(A231,ACTIVIDADES!G:G,0),1),$M$4))","v":""},{"$f":"IF(A231=\"\",\"\",IF(A231=A230,\"\",CONCATENATE(INDEX(ACTIVIDADES!D:G,MATCH(A231,ACTIVIDADES!G:G,0),1),$M$4)))","v":""},{"$f":"IF(A231=\"\",\"\",INDEX(ACTIVIDADES!D:I,MATCH(A231,ACTIVIDADES!G:G,0),4))","v":""},"",227]
[null,null,{"$f":"IF(B232=\"\",\"\",VLOOKUP(B232,'Otras referencias'!$A$32:$B$55,2,FALSE))","v":""},null,{"$f":"IF(A232=\"\",\"\",INDEX(ACTIVIDADES!G:L,MATCH(A232,ACTIVIDADES!G:G,0),5))","v":""},{"$f":"IF(A232=\"\",\"\",INDEX(ACTIVIDADES!G:P,MATCH(A232,ACTIVIDADES!G:G,0),8))","v":""},{"$f":"IF(A232=\"\",\"\",INDEX(ACTIVIDADES!D:G,MATCH(A232,ACTIVIDADES!G:G,0),1))","v":""},{"$f":"IF(A232=\"\",\"\",CONCATENATE(INDEX(ACTIVIDADES!D:G,MATCH(A232,ACTIVIDADES!G:G,0),1),$M$4))","v":""},{"$f":"IF(A232=\"\",\"\",IF(A232=A231,\"\",CONCATENATE(INDEX(ACTIVIDADES!D:G,MATCH(A232,ACTIVIDADES!G:G,0),1),$M$4)))","v":""},{"$f":"IF(A232=\"\",\"\",INDEX(ACTIVIDADES!D:I,MATCH(A232,ACTIVIDADES!G:G,0),4))","v":""},"",228]
[null,null,{"$f":"IF(B233=\"\",\"\",VLOOKUP(B233,'Otras referencias'!$A$32:$B$55,2,FALSE))","v":""},null,{"$f":"IF(A233=\"\",\"\",INDEX(ACTIVIDADES!G:L,MATCH(A233,ACTIVIDADES!G:G,0),5))","v":""},{"$f":"IF(A233=\"\",\"\",INDEX(ACTIVIDADES!G:P,MATCH(A233,ACTIVIDADES!G:G,0),8))","v":""},{"$f":"IF(A233=\"\",\"\",INDEX(ACTIVIDADES!D:G,MATCH(A233,ACTIVIDADES!G:G,0),1))","v":""},{"$f":"IF(A233=\"\",\"\",CONCATENATE(INDEX(ACTIVIDADES!D:G,MATCH(A233,ACTIVIDADES!G:G,0),1),$M$4))","v":""},{"$f":"IF(A233=\"\",\"\",IF(A233=A232,\"\",CONCATENATE(INDEX(ACTIVIDADES!D:G,MATCH(A233,ACTIVIDADES!G:G,0),1),$M$4)))","v":""},{"$f":"IF(A233=\"\",\"\",INDEX(ACTIVIDADES!D:I,MATCH(A233,ACTIVIDADES!G:G,0),4))","v":""},"",229]
[null,null,{"$f":"IF(B234=\"\",\"\",VLOOKUP(B234,'Otras referencias'!$A$32:$B$55,2,FALSE))","v":""},null,{"$f":"IF(A234=\"\",\"\",INDEX(ACTIVIDADES!G:L,MATCH(A234,ACTIVIDADES!G:G,0),5))","v":""},{"$f":"IF(A234=\"\",\"\",INDEX(ACTIVIDADES!G:P,MATCH(A234,ACTIVIDADES!G:G,0),8))","v":""},{"$f":"IF(A234=\"\",\"\",INDEX(ACTIVIDADES!D:G,MATCH(A234,ACTIVIDADES!G:G,0),1))","v":""},{"$f":"IF(A234=\"\",\"\",CONCATENATE(INDEX(ACTIVIDADES!D:G,MATCH(A234,ACTIVIDADES!G:G,0),1),$M$4))","v":""},{"$f":"IF(A234=\"\",\"\",IF(A234=A233,\"\",CONCATENATE(INDEX(ACTIVIDADES!D:G,MATCH(A234,ACTIVIDADES!G:G,0),1),$M$4)))","v":""},{"$f":"IF(A234=\"\",\"\",INDEX(ACTIVIDADES!D:I,MATCH(A234,ACTIVIDADES!G:G,0),4))","v":""},"",230]
[null,null,{"$f":"IF(B235=\"\",\"\",VLOOKUP(B235,'Otras referencias'!$A$32:$B$55,2,FALSE))","v":""},null,{"$f":"IF(A235=\"\",\"\",INDEX(ACTIVIDADES!G:L,MATCH(A235,ACTIVIDADES!G:G,0),5))","v":""},{"$f":"IF(A235=\"\",\"\",INDEX(ACTIVIDADES!G:P,MATCH(A235,ACTIVIDADES!G:G,0),8))","v":""},{"$f":"IF(A235=\"\",\"\",INDEX(ACTIVIDADES!D:G,MATCH(A235,ACTIVIDADES!G:G,0),1))","v":""},{"$f":"IF(A235=\"\",\"\",CONCATENATE(INDEX(ACTIVIDADES!D:G,MATCH(A235,ACTIVIDADES!G:G,0),1),$M$4))","v":""},{"$f":"IF(A235=\"\",\"\",IF(A235=A234,\"\",CONCATENATE(INDEX(ACTIVIDADES!D:G,MATCH(A235,ACTIVIDADES!G:G,0),1),$M$4)))","v":""},{"$f":"IF(A235=\"\",\"\",INDEX(ACTIVIDADES!D:I,MATCH(A235,ACTIVIDADES!G:G,0),4))","v":""},"",231]
[null,null,{"$f":"IF(B236=\"\",\"\",VLOOKUP(B236,'Otras referencias'!$A$32:$B$55,2,FALSE))","v":""},null,{"$f":"IF(A236=\"\",\"\",INDEX(ACTIVIDADES!G:L,MATCH(A236,ACTIVIDADES!G:G,0),5))","v":""},{"$f":"IF(A236=\"\",\"\",INDEX(ACTIVIDADES!G:P,MATCH(A236,ACTIVIDADES!G:G,0),8))","v":""},{"$f":"IF(A236=\"\",\"\",INDEX(ACTIVIDADES!D:G,MATCH(A236,ACTIVIDADES!G:G,0),1))","v":""},{"$f":"IF(A236=\"\",\"\",CONCATENATE(INDEX(ACTIVIDADES!D:G,MATCH(A236,ACTIVIDADES!G:G,0),1),$M$4))","v":""},{"$f":"IF(A236=\"\",\"\",IF(A236=A235,\"\",CONCATENATE(INDEX(ACTIVIDADES!D:G,MATCH(A236,ACTIVIDADES!G:G,0),1),$M$4)))","v":""},{"$f":"IF(A236=\"\",\"\",INDEX(ACTIVIDADES!D:I,MATCH(A236,ACTIVIDADES!G:G,0),4))","v":""},"",232]
[null,null,{"$f":"IF(B237=\"\",\"\",VLOOKUP(B237,'Otras referencias'!$A$32:$B$55,2,FALSE))","v":""},null,{"$f":"IF(A237=\"\",\"\",INDEX(ACTIVIDADES!G:L,MATCH(A237,ACTIVIDADES!G:G,0),5))","v":""},{"$f":"IF(A237=\"\",\"\",INDEX(ACTIVIDADES!G:P,MATCH(A237,ACTIVIDADES!G:G,0),8))","v":""},{"$f":"IF(A237=\"\",\"\",INDEX(ACTIVIDADES!D:G,MATCH(A237,ACTIVIDADES!G:G,0),1))","v":""},{"$f":"IF(A237=\"\",\"\",CONCATENATE(INDEX(ACTIVIDADES!D:G,MATCH(A237,ACTIVIDADES!G:G,0),1),$M$4))","v":""},{"$f":"IF(A237=\"\",\"\",IF(A237=A236,\"\",CONCATENATE(INDEX(ACTIVIDADES!D:G,MATCH(A237,ACTIVIDADES!G:G,0),1),$M$4)))","v":""},{"$f":"IF(A237=\"\",\"\",INDEX(ACTIVIDADES!D:I,MATCH(A237,ACTIVIDADES!G:G,0),4))","v":""},"",233]
[null,null,{"$f":"IF(B238=\"\",\"\",VLOOKUP(B238,'Otras referencias'!$A$32:$B$55,2,FALSE))","v":""},null,{"$f":"IF(A238=\"\",\"\",INDEX(ACTIVIDADES!G:L,MATCH(A238,ACTIVIDADES!G:G,0),5))","v":""},{"$f":"IF(A238=\"\",\"\",INDEX(ACTIVIDADES!G:P,MATCH(A238,ACTIVIDADES!G:G,0),8))","v":""},{"$f":"IF(A238=\"\",\"\",INDEX(ACTIVIDADES!D:G,MATCH(A238,ACTIVIDADES!G:G,0),1))","v":""},{"$f":"IF(A238=\"\",\"\",CONCATENATE(INDEX(ACTIVIDADES!D:G,MATCH(A238,ACTIVIDADES!G:G,0),1),$M$4))","v":""},{"$f":"IF(A238=\"\",\"\",IF(A238=A237,\"\",CONCATENATE(INDEX(ACTIVIDADES!D:G,MATCH(A238,ACTIVIDADES!G:G,0),1),$M$4)))","v":""},{"$f":"IF(A238=\"\",\"\",INDEX(ACTIVIDADES!D:I,MATCH(A238,ACTIVIDADES!G:G,0),4))","v":""},"",234]
[null,null,{"$f":"IF(B239=\"\",\"\",VLOOKUP(B239,'Otras referencias'!$A$32:$B$55,2,FALSE))","v":""},null,{"$f":"IF(A239=\"\",\"\",INDEX(ACTIVIDADES!G:L,MATCH(A239,ACTIVIDADES!G:G,0),5))","v":""},{"$f":"IF(A239=\"\",\"\",INDEX(ACTIVIDADES!G:P,MATCH(A239,ACTIVIDADES!G:G,0),8))","v":""},{"$f":"IF(A239=\"\",\"\",INDEX(ACTIVIDADES!D:G,MATCH(A239,ACTIVIDADES!G:G,0),1))","v":""},{"$f":"IF(A239=\"\",\"\",CONCATENATE(INDEX(ACTIVIDADES!D:G,MATCH(A239,ACTIVIDADES!G:G,0),1),$M$4))","v":""},{"$f":"IF(A239=\"\",\"\",IF(A239=A238,\"\",CONCATENATE(INDEX(ACTIVIDADES!D:G,MATCH(A239,ACTIVIDADES!G:G,0),1),$M$4)))","v":""},{"$f":"IF(A239=\"\",\"\",INDEX(ACTIVIDADES!D:I,MATCH(A239,ACTIVIDADES!G:G,0),4))","v":""},"",235]
[null,null,{"$f":"IF(B240=\"\",\"\",VLOOKUP(B240,'Otras referencias'!$A$32:$B$55,2,FALSE))","v":""},null,{"$f":"IF(A240=\"\",\"\",INDEX(ACTIVIDADES!G:L,MATCH(A240,ACTIVIDADES!G:G,0),5))","v":""},{"$f":"IF(A240=\"\",\"\",INDEX(ACTIVIDADES!G:P,MATCH(A240,ACTIVIDADES!G:G,0),8))","v":""},{"$f":"IF(A240=\"\",\"\",INDEX(ACTIVIDADES!D:G,MATCH(A240,ACTIVIDADES!G:G,0),1))","v":""},{"$f":"IF(A240=\"\",\"\",CONCATENATE(INDEX(ACTIVIDADES!D:G,MATCH(A240,ACTIVIDADES!G:G,0),1),$M$4))","v":""},{"$f":"IF(A240=\"\",\"\",IF(A240=A239,\"\",CONCATENATE(INDEX(ACTIVIDADES!D:G,MATCH(A240,ACTIVIDADES!G:G,0),1),$M$4)))","v":""},{"$f":"IF(A240=\"\",\"\",INDEX(ACTIVIDADES!D:I,MATCH(A240,ACTIVIDADES!G:G,0),4))","v":""},"",236]
[null,null,{"$f":"IF(B241=\"\",\"\",VLOOKUP(B241,'Otras referencias'!$A$32:$B$55,2,FALSE))","v":""},null,{"$f":"IF(A241=\"\",\"\",INDEX(ACTIVIDADES!G:L,MATCH(A241,ACTIVIDADES!G:G,0),5))","v":""},{"$f":"IF(A241=\"\",\"\",INDEX(ACTIVIDADES!G:P,MATCH(A241,ACTIVIDADES!G:G,0),8))","v":""},{"$f":"IF(A241=\"\",\"\",INDEX(ACTIVIDADES!D:G,MATCH(A241,ACTIVIDADES!G:G,0),1))","v":""},{"$f":"IF(A241=\"\",\"\",CONCATENATE(INDEX(ACTIVIDADES!D:G,MATCH(A241,ACTIVIDADES!G:G,0),1),$M$4))","v":""},{"$f":"IF(A241=\"\",\"\",IF(A241=A240,\"\",CONCATENATE(INDEX(ACTIVIDADES!D:G,MATCH(A241,ACTIVIDADES!G:G,0),1),$M$4)))","v":""},{"$f":"IF(A241=\"\",\"\",INDEX(ACTIVIDADES!D:I,MATCH(A241,ACTIVIDADES!G:G,0),4))","v":""},"",237]
[null,null,{"$f":"IF(B242=\"\",\"\",VLOOKUP(B242,'Otras referencias'!$A$32:$B$55,2,FALSE))","v":""},null,{"$f":"IF(A242=\"\",\"\",INDEX(ACTIVIDADES!G:L,MATCH(A242,ACTIVIDADES!G:G,0),5))","v":""},{"$f":"IF(A242=\"\",\"\",INDEX(ACTIVIDADES!G:P,MATCH(A242,ACTIVIDADES!G:G,0),8))","v":""},{"$f":"IF(A242=\"\",\"\",INDEX(ACTIVIDADES!D:G,MATCH(A242,ACTIVIDADES!G:G,0),1))","v":""},{"$f":"IF(A242=\"\",\"\",CONCATENATE(INDEX(ACTIVIDADES!D:G,MATCH(A242,ACTIVIDADES!G:G,0),1),$M$4))","v":""},{"$f":"IF(A242=\"\",\"\",IF(A242=A241,\"\",CONCATENATE(INDEX(ACTIVIDADES!D:G,MATCH(A242,ACTIVIDADES!G:G,0),1),$M$4)))","v":""},{"$f":"IF(A242=\"\",\"\",INDEX(ACTIVIDADES!D:I,MATCH(A242,ACTIVIDADES!G:G,0),4))","v":""},"",238]
[null,null,{"$f":"IF(B243=\"\",\"\",VLOOKUP(B243,'Otras referencias'!$A$32:$B$55,2,FALSE))","v":""},null,{"$f":"IF(A243=\"\",\"\",INDEX(ACTIVIDADES!G:L,MATCH(A243,ACTIVIDADES!G:G,0),5))","v":""},{"$f":"IF(A243=\"\",\"\",INDEX(ACTIVIDADES!G:P,MATCH(A243,ACTIVIDADES!G:G,0),8))","v":""},{"$f":"IF(A243=\"\",\"\",INDEX(ACTIVIDADES!D:G,MATCH(A243,ACTIVIDADES!G:G,0),1))","v":""},{"$f":"IF(A243=\"\",\"\",CONCATENATE(INDEX(ACTIVIDADES!D:G,MATCH(A243,ACTIVIDADES!G:G,0),1),$M$4))","v":""},{"$f":"IF(A243=\"\",\"\",IF(A243=A242,\"\",CONCATENATE(INDEX(ACTIVIDADES!D:G,MATCH(A243,ACTIVIDADES!G:G,0),1),$M$4)))","v":""},{"$f":"IF(A243=\"\",\"\",INDEX(ACTIVIDADES!D:I,MATCH(A243,ACTIVIDADES!G:G,0),4))","v":""},"",239]
[null,null,{"$f":"IF(B244=\"\",\"\",VLOOKUP(B244,'Otras referencias'!$A$32:$B$55,2,FALSE))","v":""},null,{"$f":"IF(A244=\"\",\"\",INDEX(ACTIVIDADES!G:L,MATCH(A244,ACTIVIDADES!G:G,0),5))","v":""},{"$f":"IF(A244=\"\",\"\",INDEX(ACTIVIDADES!G:P,MATCH(A244,ACTIVIDADES!G:G,0),8))","v":""},{"$f":"IF(A244=\"\",\"\",INDEX(ACTIVIDADES!D:G,MATCH(A244,ACTIVIDADES!G:G,0),1))","v":""},{"$f":"IF(A244=\"\",\"\",CONCATENATE(INDEX(ACTIVIDADES!D:G,MATCH(A244,ACTIVIDADES!G:G,0),1),$M$4))","v":""},{"$f":"IF(A244=\"\",\"\",IF(A244=A243,\"\",CONCATENATE(INDEX(ACTIVIDADES!D:G,MATCH(A244,ACTIVIDADES!G:G,0),1),$M$4)))","v":""},{"$f":"IF(A244=\"\",\"\",INDEX(ACTIVIDADES!D:I,MATCH(A244,ACTIVIDADES!G:G,0),4))","v":""},"",240]
[null,null,{"$f":"IF(B245=\"\",\"\",VLOOKUP(B245,'Otras referencias'!$A$32:$B$55,2,FALSE))","v":""},null,{"$f":"IF(A245=\"\",\"\",INDEX(ACTIVIDADES!G:L,MATCH(A245,ACTIVIDADES!G:G,0),5))","v":""},{"$f":"IF(A245=\"\",\"\",INDEX(ACTIVIDADES!G:P,MATCH(A245,ACTIVIDADES!G:G,0),8))","v":""},{"$f":"IF(A245=\"\",\"\",INDEX(ACTIVIDADES!D:G,MATCH(A245,ACTIVIDADES!G:G,0),1))","v":""},{"$f":"IF(A245=\"\",\"\",CONCATENATE(INDEX(ACTIVIDADES!D:G,MATCH(A245,ACTIVIDADES!G:G,0),1),$M$4))","v":""},{"$f":"IF(A245=\"\",\"\",IF(A245=A244,\"\",CONCATENATE(INDEX(ACTIVIDADES!D:G,MATCH(A245,ACTIVIDADES!G:G,0),1),$M$4)))","v":""},{"$f":"IF(A245=\"\",\"\",INDEX(ACTIVIDADES!D:I,MATCH(A245,ACTIVIDADES!G:G,0),4))","v":""},"",241]
[null,null,{"$f":"IF(B246=\"\",\"\",VLOOKUP(B246,'Otras referencias'!$A$32:$B$55,2,FALSE))","v":""},null,{"$f":"IF(A246=\"\",\"\",INDEX(ACTIVIDADES!G:L,MATCH(A246,ACTIVIDADES!G:G,0),5))","v":""},{"$f":"IF(A246=\"\",\"\",INDEX(ACTIVIDADES!G:P,MATCH(A246,ACTIVIDADES!G:G,0),8))","v":""},{"$f":"IF(A246=\"\",\"\",INDEX(ACTIVIDADES!D:G,MATCH(A246,ACTIVIDADES!G:G,0),1))","v":""},{"$f":"IF(A246=\"\",\"\",CONCATENATE(INDEX(ACTIVIDADES!D:G,MATCH(A246,ACTIVIDADES!G:G,0),1),$M$4))","v":""},{"$f":"IF(A246=\"\",\"\",IF(A246=A245,\"\",CONCATENATE(INDEX(ACTIVIDADES!D:G,MATCH(A246,ACTIVIDADES!G:G,0),1),$M$4)))","v":""},{"$f":"IF(A246=\"\",\"\",INDEX(ACTIVIDADES!D:I,MATCH(A246,ACTIVIDADES!G:G,0),4))","v":""},"",242]
[null,null,{"$f":"IF(B247=\"\",\"\",VLOOKUP(B247,'Otras referencias'!$A$32:$B$55,2,FALSE))","v":""},null,{"$f":"IF(A247=\"\",\"\",INDEX(ACTIVIDADES!G:L,MATCH(A247,ACTIVIDADES!G:G,0),5))","v":""},{"$f":"IF(A247=\"\",\"\",INDEX(ACTIVIDADES!G:P,MATCH(A247,ACTIVIDADES!G:G,0),8))","v":""},{"$f":"IF(A247=\"\",\"\",INDEX(ACTIVIDADES!D:G,MATCH(A247,ACTIVIDADES!G:G,0),1))","v":""},{"$f":"IF(A247=\"\",\"\",CONCATENATE(INDEX(ACTIVIDADES!D:G,MATCH(A247,ACTIVIDADES!G:G,0),1),$M$4))","v":""},{"$f":"IF(A247=\"\",\"\",IF(A247=A246,\"\",CONCATENATE(INDEX(ACTIVIDADES!D:G,MATCH(A247,ACTIVIDADES!G:G,0),1),$M$4)))","v":""},{"$f":"IF(A247=\"\",\"\",INDEX(ACTIVIDADES!D:I,MATCH(A247,ACTIVIDADES!G:G,0),4))","v":""},"",243]
[null,null,{"$f":"IF(B248=\"\",\"\",VLOOKUP(B248,'Otras referencias'!$A$32:$B$55,2,FALSE))","v":""},null,{"$f":"IF(A248=\"\",\"\",INDEX(ACTIVIDADES!G:L,MATCH(A248,ACTIVIDADES!G:G,0),5))","v":""},{"$f":"IF(A248=\"\",\"\",INDEX(ACTIVIDADES!G:P,MATCH(A248,ACTIVIDADES!G:G,0),8))","v":""},{"$f":"IF(A248=\"\",\"\",INDEX(ACTIVIDADES!D:G,MATCH(A248,ACTIVIDADES!G:G,0),1))","v":""},{"$f":"IF(A248=\"\",\"\",CONCATENATE(INDEX(ACTIVIDADES!D:G,MATCH(A248,ACTIVIDADES!G:G,0),1),$M$4))","v":""},{"$f":"IF(A248=\"\",\"\",IF(A248=A247,\"\",CONCATENATE(INDEX(ACTIVIDADES!D:G,MATCH(A248,ACTIVIDADES!G:G,0),1),$M$4)))","v":""},{"$f":"IF(A248=\"\",\"\",INDEX(ACTIVIDADES!D:I,MATCH(A248,ACTIVIDADES!G:G,0),4))","v":""},"",244]
[null,null,{"$f":"IF(B249=\"\",\"\",VLOOKUP(B249,'Otras referencias'!$A$32:$B$55,2,FALSE))","v":""},null,{"$f":"IF(A249=\"\",\"\",INDEX(ACTIVIDADES!G:L,MATCH(A249,ACTIVIDADES!G:G,0),5))","v":""},{"$f":"IF(A249=\"\",\"\",INDEX(ACTIVIDADES!G:P,MATCH(A249,ACTIVIDADES!G:G,0),8))","v":""},{"$f":"IF(A249=\"\",\"\",INDEX(ACTIVIDADES!D:G,MATCH(A249,ACTIVIDADES!G:G,0),1))","v":""},{"$f":"IF(A249=\"\",\"\",CONCATENATE(INDEX(ACTIVIDADES!D:G,MATCH(A249,ACTIVIDADES!G:G,0),1),$M$4))","v":""},{"$f":"IF(A249=\"\",\"\",IF(A249=A248,\"\",CONCATENATE(INDEX(ACTIVIDADES!D:G,MATCH(A249,ACTIVIDADES!G:G,0),1),$M$4)))","v":""},{"$f":"IF(A249=\"\",\"\",INDEX(ACTIVIDADES!D:I,MATCH(A249,ACTIVIDADES!G:G,0),4))","v":""},"",245]
[null,null,{"$f":"IF(B250=\"\",\"\",VLOOKUP(B250,'Otras referencias'!$A$32:$B$55,2,FALSE))","v":""},null,{"$f":"IF(A250=\"\",\"\",INDEX(ACTIVIDADES!G:L,MATCH(A250,ACTIVIDADES!G:G,0),5))","v":""},{"$f":"IF(A250=\"\",\"\",INDEX(ACTIVIDADES!G:P,MATCH(A250,ACTIVIDADES!G:G,0),8))","v":""},{"$f":"IF(A250=\"\",\"\",INDEX(ACTIVIDADES!D:G,MATCH(A250,ACTIVIDADES!G:G,0),1))","v":""},{"$f":"IF(A250=\"\",\"\",CONCATENATE(INDEX(ACTIVIDADES!D:G,MATCH(A250,ACTIVIDADES!G:G,0),1),$M$4))","v":""},{"$f":"IF(A250=\"\",\"\",IF(A250=A249,\"\",CONCATENATE(INDEX(ACTIVIDADES!D:G,MATCH(A250,ACTIVIDADES!G:G,0),1),$M$4)))","v":""},{"$f":"IF(A250=\"\",\"\",INDEX(ACTIVIDADES!D:I,MATCH(A250,ACTIVIDADES!G:G,0),4))","v":""},"",246]
[null,null,{"$f":"IF(B251=\"\",\"\",VLOOKUP(B251,'Otras referencias'!$A$32:$B$55,2,FALSE))","v":""},null,{"$f":"IF(A251=\"\",\"\",INDEX(ACTIVIDADES!G:L,MATCH(A251,ACTIVIDADES!G:G,0),5))","v":""},{"$f":"IF(A251=\"\",\"\",INDEX(ACTIVIDADES!G:P,MATCH(A251,ACTIVIDADES!G:G,0),8))","v":""},{"$f":"IF(A251=\"\",\"\",INDEX(ACTIVIDADES!D:G,MATCH(A251,ACTIVIDADES!G:G,0),1))","v":""},{"$f":"IF(A251=\"\",\"\",CONCATENATE(INDEX(ACTIVIDADES!D:G,MATCH(A251,ACTIVIDADES!G:G,0),1),$M$4))","v":""},{"$f":"IF(A251=\"\",\"\",IF(A251=A250,\"\",CONCATENATE(INDEX(ACTIVIDADES!D:G,MATCH(A251,ACTIVIDADES!G:G,0),1),$M$4)))","v":""},{"$f":"IF(A251=\"\",\"\",INDEX(ACTIVIDADES!D:I,MATCH(A251,ACTIVIDADES!G:G,0),4))","v":""},"",247]
[null,null,{"$f":"IF(B252=\"\",\"\",VLOOKUP(B252,'Otras referencias'!$A$32:$B$55,2,FALSE))","v":""},null,{"$f":"IF(A252=\"\",\"\",INDEX(ACTIVIDADES!G:L,MATCH(A252,ACTIVIDADES!G:G,0),5))","v":""},{"$f":"IF(A252=\"\",\"\",INDEX(ACTIVIDADES!G:P,MATCH(A252,ACTIVIDADES!G:G,0),8))","v":""},{"$f":"IF(A252=\"\",\"\",INDEX(ACTIVIDADES!D:G,MATCH(A252,ACTIVIDADES!G:G,0),1))","v":""},{"$f":"IF(A252=\"\",\"\",CONCATENATE(INDEX(ACTIVIDADES!D:G,MATCH(A252,ACTIVIDADES!G:G,0),1),$M$4))","v":""},{"$f":"IF(A252=\"\",\"\",IF(A252=A251,\"\",CONCATENATE(INDEX(ACTIVIDADES!D:G,MATCH(A252,ACTIVIDADES!G:G,0),1),$M$4)))","v":""},{"$f":"IF(A252=\"\",\"\",INDEX(ACTIVIDADES!D:I,MATCH(A252,ACTIVIDADES!G:G,0),4))","v":""},"",248]
[null,null,{"$f":"IF(B253=\"\",\"\",VLOOKUP(B253,'Otras referencias'!$A$32:$B$55,2,FALSE))","v":""},null,{"$f":"IF(A253=\"\",\"\",INDEX(ACTIVIDADES!G:L,MATCH(A253,ACTIVIDADES!G:G,0),5))","v":""},{"$f":"IF(A253=\"\",\"\",INDEX(ACTIVIDADES!G:P,MATCH(A253,ACTIVIDADES!G:G,0),8))","v":""},{"$f":"IF(A253=\"\",\"\",INDEX(ACTIVIDADES!D:G,MATCH(A253,ACTIVIDADES!G:G,0),1))","v":""},{"$f":"IF(A253=\"\",\"\",CONCATENATE(INDEX(ACTIVIDADES!D:G,MATCH(A253,ACTIVIDADES!G:G,0),1),$M$4))","v":""},{"$f":"IF(A253=\"\",\"\",IF(A253=A252,\"\",CONCATENATE(INDEX(ACTIVIDADES!D:G,MATCH(A253,ACTIVIDADES!G:G,0),1),$M$4)))","v":""},{"$f":"IF(A253=\"\",\"\",INDEX(ACTIVIDADES!D:I,MATCH(A253,ACTIVIDADES!G:G,0),4))","v":""},"",249]
[null,null,{"$f":"IF(B254=\"\",\"\",VLOOKUP(B254,'Otras referencias'!$A$32:$B$55,2,FALSE))","v":""},null,{"$f":"IF(A254=\"\",\"\",INDEX(ACTIVIDADES!G:L,MATCH(A254,ACTIVIDADES!G:G,0),5))","v":""},{"$f":"IF(A254=\"\",\"\",INDEX(ACTIVIDADES!G:P,MATCH(A254,ACTIVIDADES!G:G,0),8))","v":""},{"$f":"IF(A254=\"\",\"\",INDEX(ACTIVIDADES!D:G,MATCH(A254,ACTIVIDADES!G:G,0),1))","v":""},{"$f":"IF(A254=\"\",\"\",CONCATENATE(INDEX(ACTIVIDADES!D:G,MATCH(A254,ACTIVIDADES!G:G,0),1),$M$4))","v":""},{"$f":"IF(A254=\"\",\"\",IF(A254=A253,\"\",CONCATENATE(INDEX(ACTIVIDADES!D:G,MATCH(A254,ACTIVIDADES!G:G,0),1),$M$4)))","v":""},{"$f":"IF(A254=\"\",\"\",INDEX(ACTIVIDADES!D:I,MATCH(A254,ACTIVIDADES!G:G,0),4))","v":""},"",250]
[null,null,{"$f":"IF(B255=\"\",\"\",VLOOKUP(B255,'Otras referencias'!$A$32:$B$55,2,FALSE))","v":""},null,{"$f":"IF(A255=\"\",\"\",INDEX(ACTIVIDADES!G:L,MATCH(A255,ACTIVIDADES!G:G,0),5))","v":""},{"$f":"IF(A255=\"\",\"\",INDEX(ACTIVIDADES!G:P,MATCH(A255,ACTIVIDADES!G:G,0),8))","v":""},{"$f":"IF(A255=\"\",\"\",INDEX(ACTIVIDADES!D:G,MATCH(A255,ACTIVIDADES!G:G,0),1))","v":""},{"$f":"IF(A255=\"\",\"\",CONCATENATE(INDEX(ACTIVIDADES!D:G,MATCH(A255,ACTIVIDADES!G:G,0),1),$M$4))","v":""},{"$f":"IF(A255=\"\",\"\",IF(A255=A254,\"\",CONCATENATE(INDEX(ACTIVIDADES!D:G,MATCH(A255,ACTIVIDADES!G:G,0),1),$M$4)))","v":""},{"$f":"IF(A255=\"\",\"\",INDEX(ACTIVIDADES!D:I,MATCH(A255,ACTIVIDADES!G:G,0),4))","v":""},"",251]
[null,null,{"$f":"IF(B256=\"\",\"\",VLOOKUP(B256,'Otras referencias'!$A$32:$B$55,2,FALSE))","v":""},null,{"$f":"IF(A256=\"\",\"\",INDEX(ACTIVIDADES!G:L,MATCH(A256,ACTIVIDADES!G:G,0),5))","v":""},{"$f":"IF(A256=\"\",\"\",INDEX(ACTIVIDADES!G:P,MATCH(A256,ACTIVIDADES!G:G,0),8))","v":""},{"$f":"IF(A256=\"\",\"\",INDEX(ACTIVIDADES!D:G,MATCH(A256,ACTIVIDADES!G:G,0),1))","v":""},{"$f":"IF(A256=\"\",\"\",CONCATENATE(INDEX(ACTIVIDADES!D:G,MATCH(A256,ACTIVIDADES!G:G,0),1),$M$4))","v":""},{"$f":"IF(A256=\"\",\"\",IF(A256=A255,\"\",CONCATENATE(INDEX(ACTIVIDADES!D:G,MATCH(A256,ACTIVIDADES!G:G,0),1),$M$4)))","v":""},{"$f":"IF(A256=\"\",\"\",INDEX(ACTIVIDADES!D:I,MATCH(A256,ACTIVIDADES!G:G,0),4))","v":""},"",252]
[null,null,{"$f":"IF(B257=\"\",\"\",VLOOKUP(B257,'Otras referencias'!$A$32:$B$55,2,FALSE))","v":""},null,{"$f":"IF(A257=\"\",\"\",INDEX(ACTIVIDADES!G:L,MATCH(A257,ACTIVIDADES!G:G,0),5))","v":""},{"$f":"IF(A257=\"\",\"\",INDEX(ACTIVIDADES!G:P,MATCH(A257,ACTIVIDADES!G:G,0),8))","v":""},{"$f":"IF(A257=\"\",\"\",INDEX(ACTIVIDADES!D:G,MATCH(A257,ACTIVIDADES!G:G,0),1))","v":""},{"$f":"IF(A257=\"\",\"\",CONCATENATE(INDEX(ACTIVIDADES!D:G,MATCH(A257,ACTIVIDADES!G:G,0),1),$M$4))","v":""},{"$f":"IF(A257=\"\",\"\",IF(A257=A256,\"\",CONCATENATE(INDEX(ACTIVIDADES!D:G,MATCH(A257,ACTIVIDADES!G:G,0),1),$M$4)))","v":""},{"$f":"IF(A257=\"\",\"\",INDEX(ACTIVIDADES!D:I,MATCH(A257,ACTIVIDADES!G:G,0),4))","v":""},"",253]
[null,null,{"$f":"IF(B258=\"\",\"\",VLOOKUP(B258,'Otras referencias'!$A$32:$B$55,2,FALSE))","v":""},null,{"$f":"IF(A258=\"\",\"\",INDEX(ACTIVIDADES!G:L,MATCH(A258,ACTIVIDADES!G:G,0),5))","v":""},{"$f":"IF(A258=\"\",\"\",INDEX(ACTIVIDADES!G:P,MATCH(A258,ACTIVIDADES!G:G,0),8))","v":""},{"$f":"IF(A258=\"\",\"\",INDEX(ACTIVIDADES!D:G,MATCH(A258,ACTIVIDADES!G:G,0),1))","v":""},{"$f":"IF(A258=\"\",\"\",CONCATENATE(INDEX(ACTIVIDADES!D:G,MATCH(A258,ACTIVIDADES!G:G,0),1),$M$4))","v":""},{"$f":"IF(A258=\"\",\"\",IF(A258=A257,\"\",CONCATENATE(INDEX(ACTIVIDADES!D:G,MATCH(A258,ACTIVIDADES!G:G,0),1),$M$4)))","v":""},{"$f":"IF(A258=\"\",\"\",INDEX(ACTIVIDADES!D:I,MATCH(A258,ACTIVIDADES!G:G,0),4))","v":""},"",254]
[null,null,{"$f":"IF(B259=\"\",\"\",VLOOKUP(B259,'Otras referencias'!$A$32:$B$55,2,FALSE))","v":""},null,{"$f":"IF(A259=\"\",\"\",INDEX(ACTIVIDADES!G:L,MATCH(A259,ACTIVIDADES!G:G,0),5))","v":""},{"$f":"IF(A259=\"\",\"\",INDEX(ACTIVIDADES!G:P,MATCH(A259,ACTIVIDADES!G:G,0),8))","v":""},{"$f":"IF(A259=\"\",\"\",INDEX(ACTIVIDADES!D:G,MATCH(A259,ACTIVIDADES!G:G,0),1))","v":""},{"$f":"IF(A259=\"\",\"\",CONCATENATE(INDEX(ACTIVIDADES!D:G,MATCH(A259,ACTIVIDADES!G:G,0),1),$M$4))","v":""},{"$f":"IF(A259=\"\",\"\",IF(A259=A258,\"\",CONCATENATE(INDEX(ACTIVIDADES!D:G,MATCH(A259,ACTIVIDADES!G:G,0),1),$M$4)))","v":""},{"$f":"IF(A259=\"\",\"\",INDEX(ACTIVIDADES!D:I,MATCH(A259,ACTIVIDADES!G:G,0),4))","v":""},"",255]
[null,null,{"$f":"IF(B260=\"\",\"\",VLOOKUP(B260,'Otras referencias'!$A$32:$B$55,2,FALSE))","v":""},null,{"$f":"IF(A260=\"\",\"\",INDEX(ACTIVIDADES!G:L,MATCH(A260,ACTIVIDADES!G:G,0),5))","v":""},{"$f":"IF(A260=\"\",\"\",INDEX(ACTIVIDADES!G:P,MATCH(A260,ACTIVIDADES!G:G,0),8))","v":""},{"$f":"IF(A260=\"\",\"\",INDEX(ACTIVIDADES!D:G,MATCH(A260,ACTIVIDADES!G:G,0),1))","v":""},{"$f":"IF(A260=\"\",\"\",CONCATENATE(INDEX(ACTIVIDADES!D:G,MATCH(A260,ACTIVIDADES!G:G,0),1),$M$4))","v":""},{"$f":"IF(A260=\"\",\"\",IF(A260=A259,\"\",CONCATENATE(INDEX(ACTIVIDADES!D:G,MATCH(A260,ACTIVIDADES!G:G,0),1),$M$4)))","v":""},{"$f":"IF(A260=\"\",\"\",INDEX(ACTIVIDADES!D:I,MATCH(A260,ACTIVIDADES!G:G,0),4))","v":""},"",256]
[null,null,{"$f":"IF(B261=\"\",\"\",VLOOKUP(B261,'Otras referencias'!$A$32:$B$55,2,FALSE))","v":""},null,{"$f":"IF(A261=\"\",\"\",INDEX(ACTIVIDADES!G:L,MATCH(A261,ACTIVIDADES!G:G,0),5))","v":""},{"$f":"IF(A261=\"\",\"\",INDEX(ACTIVIDADES!G:P,MATCH(A261,ACTIVIDADES!G:G,0),8))","v":""},{"$f":"IF(A261=\"\",\"\",INDEX(ACTIVIDADES!D:G,MATCH(A261,ACTIVIDADES!G:G,0),1))","v":""},{"$f":"IF(A261=\"\",\"\",CONCATENATE(INDEX(ACTIVIDADES!D:G,MATCH(A261,ACTIVIDADES!G:G,0),1),$M$4))","v":""},{"$f":"IF(A261=\"\",\"\",IF(A261=A260,\"\",CONCATENATE(INDEX(ACTIVIDADES!D:G,MATCH(A261,ACTIVIDADES!G:G,0),1),$M$4)))","v":""},{"$f":"IF(A261=\"\",\"\",INDEX(ACTIVIDADES!D:I,MATCH(A261,ACTIVIDADES!G:G,0),4))","v":""},{"$f":"IF(A261=\"\",\"\",CONCATENATE(G261,L261))","v":""},257]
[null,null,{"$f":"IF(B262=\"\",\"\",VLOOKUP(B262,'Otras referencias'!$A$32:$B$55,2,FALSE))","v":""},null,{"$f":"IF(A262=\"\",\"\",INDEX(ACTIVIDADES!G:L,MATCH(A262,ACTIVIDADES!G:G,0),5))","v":""},{"$f":"IF(A262=\"\",\"\",INDEX(ACTIVIDADES!G:P,MATCH(A262,ACTIVIDADES!G:G,0),8))","v":""},{"$f":"IF(A262=\"\",\"\",INDEX(ACTIVIDADES!D:G,MATCH(A262,ACTIVIDADES!G:G,0),1))","v":""},{"$f":"IF(A262=\"\",\"\",CONCATENATE(INDEX(ACTIVIDADES!D:G,MATCH(A262,ACTIVIDADES!G:G,0),1),$M$4))","v":""},{"$f":"IF(A262=\"\",\"\",IF(A262=A261,\"\",CONCATENATE(INDEX(ACTIVIDADES!D:G,MATCH(A262,ACTIVIDADES!G:G,0),1),$M$4)))","v":""},{"$f":"IF(A262=\"\",\"\",INDEX(ACTIVIDADES!D:I,MATCH(A262,ACTIVIDADES!G:G,0),4))","v":""},"",258]
[null,null,{"$f":"IF(B263=\"\",\"\",VLOOKUP(B263,'Otras referencias'!$A$32:$B$55,2,FALSE))","v":""},null,{"$f":"IF(A263=\"\",\"\",INDEX(ACTIVIDADES!G:L,MATCH(A263,ACTIVIDADES!G:G,0),5))","v":""},{"$f":"IF(A263=\"\",\"\",INDEX(ACTIVIDADES!G:P,MATCH(A263,ACTIVIDADES!G:G,0),8))","v":""},{"$f":"IF(A263=\"\",\"\",INDEX(ACTIVIDADES!D:G,MATCH(A263,ACTIVIDADES!G:G,0),1))","v":""},{"$f":"IF(A263=\"\",\"\",CONCATENATE(INDEX(ACTIVIDADES!D:G,MATCH(A263,ACTIVIDADES!G:G,0),1),$M$4))","v":""},{"$f":"IF(A263=\"\",\"\",IF(A263=A262,\"\",CONCATENATE(INDEX(ACTIVIDADES!D:G,MATCH(A263,ACTIVIDADES!G:G,0),1),$M$4)))","v":""},{"$f":"IF(A263=\"\",\"\",INDEX(ACTIVIDADES!D:I,MATCH(A263,ACTIVIDADES!G:G,0),4))","v":""},"",259]
[null,null,{"$f":"IF(B264=\"\",\"\",VLOOKUP(B264,'Otras referencias'!$A$32:$B$55,2,FALSE))","v":""},null,{"$f":"IF(A264=\"\",\"\",INDEX(ACTIVIDADES!G:L,MATCH(A264,ACTIVIDADES!G:G,0),5))","v":""},{"$f":"IF(A264=\"\",\"\",INDEX(ACTIVIDADES!G:P,MATCH(A264,ACTIVIDADES!G:G,0),8))","v":""},{"$f":"IF(A264=\"\",\"\",INDEX(ACTIVIDADES!D:G,MATCH(A264,ACTIVIDADES!G:G,0),1))","v":""},{"$f":"IF(A264=\"\",\"\",CONCATENATE(INDEX(ACTIVIDADES!D:G,MATCH(A264,ACTIVIDADES!G:G,0),1),$M$4))","v":""},{"$f":"IF(A264=\"\",\"\",IF(A264=A263,\"\",CONCATENATE(INDEX(ACTIVIDADES!D:G,MATCH(A264,ACTIVIDADES!G:G,0),1),$M$4)))","v":""},{"$f":"IF(A264=\"\",\"\",INDEX(ACTIVIDADES!D:I,MATCH(A264,ACTIVIDADES!G:G,0),4))","v":""},"",260]
[null,null,{"$f":"IF(B265=\"\",\"\",VLOOKUP(B265,'Otras referencias'!$A$32:$B$55,2,FALSE))","v":""},null,{"$f":"IF(A265=\"\",\"\",INDEX(ACTIVIDADES!G:L,MATCH(A265,ACTIVIDADES!G:G,0),5))","v":""},{"$f":"IF(A265=\"\",\"\",INDEX(ACTIVIDADES!G:P,MATCH(A265,ACTIVIDADES!G:G,0),8))","v":""},{"$f":"IF(A265=\"\",\"\",INDEX(ACTIVIDADES!D:G,MATCH(A265,ACTIVIDADES!G:G,0),1))","v":""},{"$f":"IF(A265=\"\",\"\",CONCATENATE(INDEX(ACTIVIDADES!D:G,MATCH(A265,ACTIVIDADES!G:G,0),1),$M$4))","v":""},{"$f":"IF(A265=\"\",\"\",IF(A265=A264,\"\",CONCATENATE(INDEX(ACTIVIDADES!D:G,MATCH(A265,ACTIVIDADES!G:G,0),1),$M$4)))","v":""},{"$f":"IF(A265=\"\",\"\",INDEX(ACTIVIDADES!D:I,MATCH(A265,ACTIVIDADES!G:G,0),4))","v":""},"",261]
[null,null,{"$f":"IF(B266=\"\",\"\",VLOOKUP(B266,'Otras referencias'!$A$32:$B$55,2,FALSE))","v":""},null,{"$f":"IF(A266=\"\",\"\",INDEX(ACTIVIDADES!G:L,MATCH(A266,ACTIVIDADES!G:G,0),5))","v":""},{"$f":"IF(A266=\"\",\"\",INDEX(ACTIVIDADES!G:P,MATCH(A266,ACTIVIDADES!G:G,0),8))","v":""},{"$f":"IF(A266=\"\",\"\",INDEX(ACTIVIDADES!D:G,MATCH(A266,ACTIVIDADES!G:G,0),1))","v":""},{"$f":"IF(A266=\"\",\"\",CONCATENATE(INDEX(ACTIVIDADES!D:G,MATCH(A266,ACTIVIDADES!G:G,0),1),$M$4))","v":""},{"$f":"IF(A266=\"\",\"\",IF(A266=A265,\"\",CONCATENATE(INDEX(ACTIVIDADES!D:G,MATCH(A266,ACTIVIDADES!G:G,0),1),$M$4)))","v":""},{"$f":"IF(A266=\"\",\"\",INDEX(ACTIVIDADES!D:I,MATCH(A266,ACTIVIDADES!G:G,0),4))","v":""},"",262]
[null,null,{"$f":"IF(B267=\"\",\"\",VLOOKUP(B267,'Otras referencias'!$A$32:$B$55,2,FALSE))","v":""},null,{"$f":"IF(A267=\"\",\"\",INDEX(ACTIVIDADES!G:L,MATCH(A267,ACTIVIDADES!G:G,0),5))","v":""},{"$f":"IF(A267=\"\",\"\",INDEX(ACTIVIDADES!G:P,MATCH(A267,ACTIVIDADES!G:G,0),8))","v":""},{"$f":"IF(A267=\"\",\"\",INDEX(ACTIVIDADES!D:G,MATCH(A267,ACTIVIDADES!G:G,0),1))","v":""},{"$f":"IF(A267=\"\",\"\",CONCATENATE(INDEX(ACTIVIDADES!D:G,MATCH(A267,ACTIVIDADES!G:G,0),1),$M$4))","v":""},{"$f":"IF(A267=\"\",\"\",IF(A267=A266,\"\",CONCATENATE(INDEX(ACTIVIDADES!D:G,MATCH(A267,ACTIVIDADES!G:G,0),1),$M$4)))","v":""},{"$f":"IF(A267=\"\",\"\",INDEX(ACTIVIDADES!D:I,MATCH(A267,ACTIVIDADES!G:G,0),4))","v":""},"",263]
[null,null,{"$f":"IF(B268=\"\",\"\",VLOOKUP(B268,'Otras referencias'!$A$32:$B$55,2,FALSE))","v":""},null,{"$f":"IF(A268=\"\",\"\",INDEX(ACTIVIDADES!G:L,MATCH(A268,ACTIVIDADES!G:G,0),5))","v":""},{"$f":"IF(A268=\"\",\"\",INDEX(ACTIVIDADES!G:P,MATCH(A268,ACTIVIDADES!G:G,0),8))","v":""},{"$f":"IF(A268=\"\",\"\",INDEX(ACTIVIDADES!D:G,MATCH(A268,ACTIVIDADES!G:G,0),1))","v":""},{"$f":"IF(A268=\"\",\"\",CONCATENATE(INDEX(ACTIVIDADES!D:G,MATCH(A268,ACTIVIDADES!G:G,0),1),$M$4))","v":""},{"$f":"IF(A268=\"\",\"\",IF(A268=A267,\"\",CONCATENATE(INDEX(ACTIVIDADES!D:G,MATCH(A268,ACTIVIDADES!G:G,0),1),$M$4)))","v":""},{"$f":"IF(A268=\"\",\"\",INDEX(ACTIVIDADES!D:I,MATCH(A268,ACTIVIDADES!G:G,0),4))","v":""},"",264]
[null,null,{"$f":"IF(B269=\"\",\"\",VLOOKUP(B269,'Otras referencias'!$A$32:$B$55,2,FALSE))","v":""},null,{"$f":"IF(A269=\"\",\"\",INDEX(ACTIVIDADES!G:L,MATCH(A269,ACTIVIDADES!G:G,0),5))","v":""},{"$f":"IF(A269=\"\",\"\",INDEX(ACTIVIDADES!G:P,MATCH(A269,ACTIVIDADES!G:G,0),8))","v":""},{"$f":"IF(A269=\"\",\"\",INDEX(ACTIVIDADES!D:G,MATCH(A269,ACTIVIDADES!G:G,0),1))","v":""},{"$f":"IF(A269=\"\",\"\",CONCATENATE(INDEX(ACTIVIDADES!D:G,MATCH(A269,ACTIVIDADES!G:G,0),1),$M$4))","v":""},{"$f":"IF(A269=\"\",\"\",IF(A269=A268,\"\",CONCATENATE(INDEX(ACTIVIDADES!D:G,MATCH(A269,ACTIVIDADES!G:G,0),1),$M$4)))","v":""},{"$f":"IF(A269=\"\",\"\",INDEX(ACTIVIDADES!D:I,MATCH(A269,ACTIVIDADES!G:G,0),4))","v":""},"",265]
[null,null,{"$f":"IF(B270=\"\",\"\",VLOOKUP(B270,'Otras referencias'!$A$32:$B$55,2,FALSE))","v":""},null,{"$f":"IF(A270=\"\",\"\",INDEX(ACTIVIDADES!G:L,MATCH(A270,ACTIVIDADES!G:G,0),5))","v":""},{"$f":"IF(A270=\"\",\"\",INDEX(ACTIVIDADES!G:P,MATCH(A270,ACTIVIDADES!G:G,0),8))","v":""},{"$f":"IF(A270=\"\",\"\",INDEX(ACTIVIDADES!D:G,MATCH(A270,ACTIVIDADES!G:G,0),1))","v":""},{"$f":"IF(A270=\"\",\"\",CONCATENATE(INDEX(ACTIVIDADES!D:G,MATCH(A270,ACTIVIDADES!G:G,0),1),$M$4))","v":""},{"$f":"IF(A270=\"\",\"\",IF(A270=A269,\"\",CONCATENATE(INDEX(ACTIVIDADES!D:G,MATCH(A270,ACTIVIDADES!G:G,0),1),$M$4)))","v":""},{"$f":"IF(A270=\"\",\"\",INDEX(ACTIVIDADES!D:I,MATCH(A270,ACTIVIDADES!G:G,0),4))","v":""},"",266]
[null,null,{"$f":"IF(B271=\"\",\"\",VLOOKUP(B271,'Otras referencias'!$A$32:$B$55,2,FALSE))","v":""},null,{"$f":"IF(A271=\"\",\"\",INDEX(ACTIVIDADES!G:L,MATCH(A271,ACTIVIDADES!G:G,0),5))","v":""},{"$f":"IF(A271=\"\",\"\",INDEX(ACTIVIDADES!G:P,MATCH(A271,ACTIVIDADES!G:G,0),8))","v":""},{"$f":"IF(A271=\"\",\"\",INDEX(ACTIVIDADES!D:G,MATCH(A271,ACTIVIDADES!G:G,0),1))","v":""},{"$f":"IF(A271=\"\",\"\",CONCATENATE(INDEX(ACTIVIDADES!D:G,MATCH(A271,ACTIVIDADES!G:G,0),1),$M$4))","v":""},{"$f":"IF(A271=\"\",\"\",IF(A271=A270,\"\",CONCATENATE(INDEX(ACTIVIDADES!D:G,MATCH(A271,ACTIVIDADES!G:G,0),1),$M$4)))","v":""},{"$f":"IF(A271=\"\",\"\",INDEX(ACTIVIDADES!D:I,MATCH(A271,ACTIVIDADES!G:G,0),4))","v":""},"",267]
[null,null,{"$f":"IF(B272=\"\",\"\",VLOOKUP(B272,'Otras referencias'!$A$32:$B$55,2,FALSE))","v":""},null,{"$f":"IF(A272=\"\",\"\",INDEX(ACTIVIDADES!G:L,MATCH(A272,ACTIVIDADES!G:G,0),5))","v":""},{"$f":"IF(A272=\"\",\"\",INDEX(ACTIVIDADES!G:P,MATCH(A272,ACTIVIDADES!G:G,0),8))","v":""},{"$f":"IF(A272=\"\",\"\",INDEX(ACTIVIDADES!D:G,MATCH(A272,ACTIVIDADES!G:G,0),1))","v":""},{"$f":"IF(A272=\"\",\"\",CONCATENATE(INDEX(ACTIVIDADES!D:G,MATCH(A272,ACTIVIDADES!G:G,0),1),$M$4))","v":""},{"$f":"IF(A272=\"\",\"\",IF(A272=A271,\"\",CONCATENATE(INDEX(ACTIVIDADES!D:G,MATCH(A272,ACTIVIDADES!G:G,0),1),$M$4)))","v":""},{"$f":"IF(A272=\"\",\"\",INDEX(ACTIVIDADES!D:I,MATCH(A272,ACTIVIDADES!G:G,0),4))","v":""},"",268]
[null,null,{"$f":"IF(B273=\"\",\"\",VLOOKUP(B273,'Otras referencias'!$A$32:$B$55,2,FALSE))","v":""},null,{"$f":"IF(A273=\"\",\"\",INDEX(ACTIVIDADES!G:L,MATCH(A273,ACTIVIDADES!G:G,0),5))","v":""},{"$f":"IF(A273=\"\",\"\",INDEX(ACTIVIDADES!G:P,MATCH(A273,ACTIVIDADES!G:G,0),8))","v":""},{"$f":"IF(A273=\"\",\"\",INDEX(ACTIVIDADES!D:G,MATCH(A273,ACTIVIDADES!G:G,0),1))","v":""},{"$f":"IF(A273=\"\",\"\",CONCATENATE(INDEX(ACTIVIDADES!D:G,MATCH(A273,ACTIVIDADES!G:G,0),1),$M$4))","v":""},{"$f":"IF(A273=\"\",\"\",IF(A273=A272,\"\",CONCATENATE(INDEX(ACTIVIDADES!D:G,MATCH(A273,ACTIVIDADES!G:G,0),1),$M$4)))","v":""},{"$f":"IF(A273=\"\",\"\",INDEX(ACTIVIDADES!D:I,MATCH(A273,ACTIVIDADES!G:G,0),4))","v":""},"",269]
[null,null,{"$f":"IF(B274=\"\",\"\",VLOOKUP(B274,'Otras referencias'!$A$32:$B$55,2,FALSE))","v":""},null,{"$f":"IF(A274=\"\",\"\",INDEX(ACTIVIDADES!G:L,MATCH(A274,ACTIVIDADES!G:G,0),5))","v":""},{"$f":"IF(A274=\"\",\"\",INDEX(ACTIVIDADES!G:P,MATCH(A274,ACTIVIDADES!G:G,0),8))","v":""},{"$f":"IF(A274=\"\",\"\",INDEX(ACTIVIDADES!D:G,MATCH(A274,ACTIVIDADES!G:G,0),1))","v":""},{"$f":"IF(A274=\"\",\"\",CONCATENATE(INDEX(ACTIVIDADES!D:G,MATCH(A274,ACTIVIDADES!G:G,0),1),$M$4))","v":""},{"$f":"IF(A274=\"\",\"\",IF(A274=A273,\"\",CONCATENATE(INDEX(ACTIVIDADES!D:G,MATCH(A274,ACTIVIDADES!G:G,0),1),$M$4)))","v":""},{"$f":"IF(A274=\"\",\"\",INDEX(ACTIVIDADES!D:I,MATCH(A274,ACTIVIDADES!G:G,0),4))","v":""},"",270]
[null,null,{"$f":"IF(B275=\"\",\"\",VLOOKUP(B275,'Otras referencias'!$A$32:$B$55,2,FALSE))","v":""},null,{"$f":"IF(A275=\"\",\"\",INDEX(ACTIVIDADES!G:L,MATCH(A275,ACTIVIDADES!G:G,0),5))","v":""},{"$f":"IF(A275=\"\",\"\",INDEX(ACTIVIDADES!G:P,MATCH(A275,ACTIVIDADES!G:G,0),8))","v":""},{"$f":"IF(A275=\"\",\"\",INDEX(ACTIVIDADES!D:G,MATCH(A275,ACTIVIDADES!G:G,0),1))","v":""},{"$f":"IF(A275=\"\",\"\",CONCATENATE(INDEX(ACTIVIDADES!D:G,MATCH(A275,ACTIVIDADES!G:G,0),1),$M$4))","v":""},{"$f":"IF(A275=\"\",\"\",IF(A275=A274,\"\",CONCATENATE(INDEX(ACTIVIDADES!D:G,MATCH(A275,ACTIVIDADES!G:G,0),1),$M$4)))","v":""},{"$f":"IF(A275=\"\",\"\",INDEX(ACTIVIDADES!D:I,MATCH(A275,ACTIVIDADES!G:G,0),4))","v":""},"",271]
[null,null,{"$f":"IF(B276=\"\",\"\",VLOOKUP(B276,'Otras referencias'!$A$32:$B$55,2,FALSE))","v":""},null,{"$f":"IF(A276=\"\",\"\",INDEX(ACTIVIDADES!G:L,MATCH(A276,ACTIVIDADES!G:G,0),5))","v":""},{"$f":"IF(A276=\"\",\"\",INDEX(ACTIVIDADES!G:P,MATCH(A276,ACTIVIDADES!G:G,0),8))","v":""},{"$f":"IF(A276=\"\",\"\",INDEX(ACTIVIDADES!D:G,MATCH(A276,ACTIVIDADES!G:G,0),1))","v":""},{"$f":"IF(A276=\"\",\"\",CONCATENATE(INDEX(ACTIVIDADES!D:G,MATCH(A276,ACTIVIDADES!G:G,0),1),$M$4))","v":""},{"$f":"IF(A276=\"\",\"\",IF(A276=A275,\"\",CONCATENATE(INDEX(ACTIVIDADES!D:G,MATCH(A276,ACTIVIDADES!G:G,0),1),$M$4)))","v":""},{"$f":"IF(A276=\"\",\"\",INDEX(ACTIVIDADES!D:I,MATCH(A276,ACTIVIDADES!G:G,0),4))","v":""},"",272]
[null,null,{"$f":"IF(B277=\"\",\"\",VLOOKUP(B277,'Otras referencias'!$A$32:$B$55,2,FALSE))","v":""},null,{"$f":"IF(A277=\"\",\"\",INDEX(ACTIVIDADES!G:L,MATCH(A277,ACTIVIDADES!G:G,0),5))","v":""},{"$f":"IF(A277=\"\",\"\",INDEX(ACTIVIDADES!G:P,MATCH(A277,ACTIVIDADES!G:G,0),8))","v":""},{"$f":"IF(A277=\"\",\"\",INDEX(ACTIVIDADES!D:G,MATCH(A277,ACTIVIDADES!G:G,0),1))","v":""},{"$f":"IF(A277=\"\",\"\",CONCATENATE(INDEX(ACTIVIDADES!D:G,MATCH(A277,ACTIVIDADES!G:G,0),1),$M$4))","v":""},{"$f":"IF(A277=\"\",\"\",IF(A277=A276,\"\",CONCATENATE(INDEX(ACTIVIDADES!D:G,MATCH(A277,ACTIVIDADES!G:G,0),1),$M$4)))","v":""},{"$f":"IF(A277=\"\",\"\",INDEX(ACTIVIDADES!D:I,MATCH(A277,ACTIVIDADES!G:G,0),4))","v":""},"",273]
[null,null,{"$f":"IF(B278=\"\",\"\",VLOOKUP(B278,'Otras referencias'!$A$32:$B$55,2,FALSE))","v":""},null,{"$f":"IF(A278=\"\",\"\",INDEX(ACTIVIDADES!G:L,MATCH(A278,ACTIVIDADES!G:G,0),5))","v":""},{"$f":"IF(A278=\"\",\"\",INDEX(ACTIVIDADES!G:P,MATCH(A278,ACTIVIDADES!G:G,0),8))","v":""},{"$f":"IF(A278=\"\",\"\",INDEX(ACTIVIDADES!D:G,MATCH(A278,ACTIVIDADES!G:G,0),1))","v":""},{"$f":"IF(A278=\"\",\"\",CONCATENATE(INDEX(ACTIVIDADES!D:G,MATCH(A278,ACTIVIDADES!G:G,0),1),$M$4))","v":""},{"$f":"IF(A278=\"\",\"\",IF(A278=A277,\"\",CONCATENATE(INDEX(ACTIVIDADES!D:G,MATCH(A278,ACTIVIDADES!G:G,0),1),$M$4)))","v":""},{"$f":"IF(A278=\"\",\"\",INDEX(ACTIVIDADES!D:I,MATCH(A278,ACTIVIDADES!G:G,0),4))","v":""},"",274]
[null,null,{"$f":"IF(B279=\"\",\"\",VLOOKUP(B279,'Otras referencias'!$A$32:$B$55,2,FALSE))","v":""},null,{"$f":"IF(A279=\"\",\"\",INDEX(ACTIVIDADES!G:L,MATCH(A279,ACTIVIDADES!G:G,0),5))","v":""},{"$f":"IF(A279=\"\",\"\",INDEX(ACTIVIDADES!G:P,MATCH(A279,ACTIVIDADES!G:G,0),8))","v":""},{"$f":"IF(A279=\"\",\"\",INDEX(ACTIVIDADES!D:G,MATCH(A279,ACTIVIDADES!G:G,0),1))","v":""},{"$f":"IF(A279=\"\",\"\",CONCATENATE(INDEX(ACTIVIDADES!D:G,MATCH(A279,ACTIVIDADES!G:G,0),1),$M$4))","v":""},{"$f":"IF(A279=\"\",\"\",IF(A279=A278,\"\",CONCATENATE(INDEX(ACTIVIDADES!D:G,MATCH(A279,ACTIVIDADES!G:G,0),1),$M$4)))","v":""},{"$f":"IF(A279=\"\",\"\",INDEX(ACTIVIDADES!D:I,MATCH(A279,ACTIVIDADES!G:G,0),4))","v":""},"",275]
[null,null,{"$f":"IF(B280=\"\",\"\",VLOOKUP(B280,'Otras referencias'!$A$32:$B$55,2,FALSE))","v":""},null,{"$f":"IF(A280=\"\",\"\",INDEX(ACTIVIDADES!G:L,MATCH(A280,ACTIVIDADES!G:G,0),5))","v":""},{"$f":"IF(A280=\"\",\"\",INDEX(ACTIVIDADES!G:P,MATCH(A280,ACTIVIDADES!G:G,0),8))","v":""},{"$f":"IF(A280=\"\",\"\",INDEX(ACTIVIDADES!D:G,MATCH(A280,ACTIVIDADES!G:G,0),1))","v":""},{"$f":"IF(A280=\"\",\"\",CONCATENATE(INDEX(ACTIVIDADES!D:G,MATCH(A280,ACTIVIDADES!G:G,0),1),$M$4))","v":""},{"$f":"IF(A280=\"\",\"\",IF(A280=A279,\"\",CONCATENATE(INDEX(ACTIVIDADES!D:G,MATCH(A280,ACTIVIDADES!G:G,0),1),$M$4)))","v":""},{"$f":"IF(A280=\"\",\"\",INDEX(ACTIVIDADES!D:I,MATCH(A280,ACTIVIDADES!G:G,0),4))","v":""},"",276]
[null,null,{"$f":"IF(B281=\"\",\"\",VLOOKUP(B281,'Otras referencias'!$A$32:$B$55,2,FALSE))","v":""},null,{"$f":"IF(A281=\"\",\"\",INDEX(ACTIVIDADES!G:L,MATCH(A281,ACTIVIDADES!G:G,0),5))","v":""},{"$f":"IF(A281=\"\",\"\",INDEX(ACTIVIDADES!G:P,MATCH(A281,ACTIVIDADES!G:G,0),8))","v":""},{"$f":"IF(A281=\"\",\"\",INDEX(ACTIVIDADES!D:G,MATCH(A281,ACTIVIDADES!G:G,0),1))","v":""},{"$f":"IF(A281=\"\",\"\",CONCATENATE(INDEX(ACTIVIDADES!D:G,MATCH(A281,ACTIVIDADES!G:G,0),1),$M$4))","v":""},{"$f":"IF(A281=\"\",\"\",IF(A281=A280,\"\",CONCATENATE(INDEX(ACTIVIDADES!D:G,MATCH(A281,ACTIVIDADES!G:G,0),1),$M$4)))","v":""},{"$f":"IF(A281=\"\",\"\",INDEX(ACTIVIDADES!D:I,MATCH(A281,ACTIVIDADES!G:G,0),4))","v":""},"",277]
[null,null,{"$f":"IF(B282=\"\",\"\",VLOOKUP(B282,'Otras referencias'!$A$32:$B$55,2,FALSE))","v":""},null,{"$f":"IF(A282=\"\",\"\",INDEX(ACTIVIDADES!G:L,MATCH(A282,ACTIVIDADES!G:G,0),5))","v":""},{"$f":"IF(A282=\"\",\"\",INDEX(ACTIVIDADES!G:P,MATCH(A282,ACTIVIDADES!G:G,0),8))","v":""},{"$f":"IF(A282=\"\",\"\",INDEX(ACTIVIDADES!D:G,MATCH(A282,ACTIVIDADES!G:G,0),1))","v":""},{"$f":"IF(A282=\"\",\"\",CONCATENATE(INDEX(ACTIVIDADES!D:G,MATCH(A282,ACTIVIDADES!G:G,0),1),$M$4))","v":""},{"$f":"IF(A282=\"\",\"\",IF(A282=A281,\"\",CONCATENATE(INDEX(ACTIVIDADES!D:G,MATCH(A282,ACTIVIDADES!G:G,0),1),$M$4)))","v":""},{"$f":"IF(A282=\"\",\"\",INDEX(ACTIVIDADES!D:I,MATCH(A282,ACTIVIDADES!G:G,0),4))","v":""},"",278]
[null,null,{"$f":"IF(B283=\"\",\"\",VLOOKUP(B283,'Otras referencias'!$A$32:$B$55,2,FALSE))","v":""},null,{"$f":"IF(A283=\"\",\"\",INDEX(ACTIVIDADES!G:L,MATCH(A283,ACTIVIDADES!G:G,0),5))","v":""},{"$f":"IF(A283=\"\",\"\",INDEX(ACTIVIDADES!G:P,MATCH(A283,ACTIVIDADES!G:G,0),8))","v":""},{"$f":"IF(A283=\"\",\"\",INDEX(ACTIVIDADES!D:G,MATCH(A283,ACTIVIDADES!G:G,0),1))","v":""},{"$f":"IF(A283=\"\",\"\",CONCATENATE(INDEX(ACTIVIDADES!D:G,MATCH(A283,ACTIVIDADES!G:G,0),1),$M$4))","v":""},{"$f":"IF(A283=\"\",\"\",IF(A283=A282,\"\",CONCATENATE(INDEX(ACTIVIDADES!D:G,MATCH(A283,ACTIVIDADES!G:G,0),1),$M$4)))","v":""},{"$f":"IF(A283=\"\",\"\",INDEX(ACTIVIDADES!D:I,MATCH(A283,ACTIVIDADES!G:G,0),4))","v":""},"",279]
[null,null,{"$f":"IF(B284=\"\",\"\",VLOOKUP(B284,'Otras referencias'!$A$32:$B$55,2,FALSE))","v":""},null,{"$f":"IF(A284=\"\",\"\",INDEX(ACTIVIDADES!G:L,MATCH(A284,ACTIVIDADES!G:G,0),5))","v":""},{"$f":"IF(A284=\"\",\"\",INDEX(ACTIVIDADES!G:P,MATCH(A284,ACTIVIDADES!G:G,0),8))","v":""},{"$f":"IF(A284=\"\",\"\",INDEX(ACTIVIDADES!D:G,MATCH(A284,ACTIVIDADES!G:G,0),1))","v":""},{"$f":"IF(A284=\"\",\"\",CONCATENATE(INDEX(ACTIVIDADES!D:G,MATCH(A284,ACTIVIDADES!G:G,0),1),$M$4))","v":""},{"$f":"IF(A284=\"\",\"\",IF(A284=A283,\"\",CONCATENATE(INDEX(ACTIVIDADES!D:G,MATCH(A284,ACTIVIDADES!G:G,0),1),$M$4)))","v":""},{"$f":"IF(A284=\"\",\"\",INDEX(ACTIVIDADES!D:I,MATCH(A284,ACTIVIDADES!G:G,0),4))","v":""},"",280]
[null,null,{"$f":"IF(B285=\"\",\"\",VLOOKUP(B285,'Otras referencias'!$A$32:$B$55,2,FALSE))","v":""},null,{"$f":"IF(A285=\"\",\"\",INDEX(ACTIVIDADES!G:L,MATCH(A285,ACTIVIDADES!G:G,0),5))","v":""},{"$f":"IF(A285=\"\",\"\",INDEX(ACTIVIDADES!G:P,MATCH(A285,ACTIVIDADES!G:G,0),8))","v":""},{"$f":"IF(A285=\"\",\"\",INDEX(ACTIVIDADES!D:G,MATCH(A285,ACTIVIDADES!G:G,0),1))","v":""},{"$f":"IF(A285=\"\",\"\",CONCATENATE(INDEX(ACTIVIDADES!D:G,MATCH(A285,ACTIVIDADES!G:G,0),1),$M$4))","v":""},{"$f":"IF(A285=\"\",\"\",IF(A285=A284,\"\",CONCATENATE(INDEX(ACTIVIDADES!D:G,MATCH(A285,ACTIVIDADES!G:G,0),1),$M$4)))","v":""},{"$f":"IF(A285=\"\",\"\",INDEX(ACTIVIDADES!D:I,MATCH(A285,ACTIVIDADES!G:G,0),4))","v":""},"",281]
[null,null,{"$f":"IF(B286=\"\",\"\",VLOOKUP(B286,'Otras referencias'!$A$32:$B$55,2,FALSE))","v":""},null,{"$f":"IF(A286=\"\",\"\",INDEX(ACTIVIDADES!G:L,MATCH(A286,ACTIVIDADES!G:G,0),5))","v":""},{"$f":"IF(A286=\"\",\"\",INDEX(ACTIVIDADES!G:P,MATCH(A286,ACTIVIDADES!G:G,0),8))","v":""},{"$f":"IF(A286=\"\",\"\",INDEX(ACTIVIDADES!D:G,MATCH(A286,ACTIVIDADES!G:G,0),1))","v":""},{"$f":"IF(A286=\"\",\"\",CONCATENATE(INDEX(ACTIVIDADES!D:G,MATCH(A286,ACTIVIDADES!G:G,0),1),$M$4))","v":""},{"$f":"IF(A286=\"\",\"\",IF(A286=A285,\"\",CONCATENATE(INDEX(ACTIVIDADES!D:G,MATCH(A286,ACTIVIDADES!G:G,0),1),$M$4)))","v":""},{"$f":"IF(A286=\"\",\"\",INDEX(ACTIVIDADES!D:I,MATCH(A286,ACTIVIDADES!G:G,0),4))","v":""},"",282]
[null,null,{"$f":"IF(B287=\"\",\"\",VLOOKUP(B287,'Otras referencias'!$A$32:$B$55,2,FALSE))","v":""},null,{"$f":"IF(A287=\"\",\"\",INDEX(ACTIVIDADES!G:L,MATCH(A287,ACTIVIDADES!G:G,0),5))","v":""},{"$f":"IF(A287=\"\",\"\",INDEX(ACTIVIDADES!G:P,MATCH(A287,ACTIVIDADES!G:G,0),8))","v":""},{"$f":"IF(A287=\"\",\"\",INDEX(ACTIVIDADES!D:G,MATCH(A287,ACTIVIDADES!G:G,0),1))","v":""},{"$f":"IF(A287=\"\",\"\",CONCATENATE(INDEX(ACTIVIDADES!D:G,MATCH(A287,ACTIVIDADES!G:G,0),1),$M$4))","v":""},{"$f":"IF(A287=\"\",\"\",IF(A287=A286,\"\",CONCATENATE(INDEX(ACTIVIDADES!D:G,MATCH(A287,ACTIVIDADES!G:G,0),1),$M$4)))","v":""},{"$f":"IF(A287=\"\",\"\",INDEX(ACTIVIDADES!D:I,MATCH(A287,ACTIVIDADES!G:G,0),4))","v":""},"",283]
[null,null,{"$f":"IF(B288=\"\",\"\",VLOOKUP(B288,'Otras referencias'!$A$32:$B$55,2,FALSE))","v":""},null,{"$f":"IF(A288=\"\",\"\",INDEX(ACTIVIDADES!G:L,MATCH(A288,ACTIVIDADES!G:G,0),5))","v":""},{"$f":"IF(A288=\"\",\"\",INDEX(ACTIVIDADES!G:P,MATCH(A288,ACTIVIDADES!G:G,0),8))","v":""},{"$f":"IF(A288=\"\",\"\",INDEX(ACTIVIDADES!D:G,MATCH(A288,ACTIVIDADES!G:G,0),1))","v":""},{"$f":"IF(A288=\"\",\"\",CONCATENATE(INDEX(ACTIVIDADES!D:G,MATCH(A288,ACTIVIDADES!G:G,0),1),$M$4))","v":""},{"$f":"IF(A288=\"\",\"\",IF(A288=A287,\"\",CONCATENATE(INDEX(ACTIVIDADES!D:G,MATCH(A288,ACTIVIDADES!G:G,0),1),$M$4)))","v":""},{"$f":"IF(A288=\"\",\"\",INDEX(ACTIVIDADES!D:I,MATCH(A288,ACTIVIDADES!G:G,0),4))","v":""},"",284]
[null,null,{"$f":"IF(B289=\"\",\"\",VLOOKUP(B289,'Otras referencias'!$A$32:$B$55,2,FALSE))","v":""},null,{"$f":"IF(A289=\"\",\"\",INDEX(ACTIVIDADES!G:L,MATCH(A289,ACTIVIDADES!G:G,0),5))","v":""},{"$f":"IF(A289=\"\",\"\",INDEX(ACTIVIDADES!G:P,MATCH(A289,ACTIVIDADES!G:G,0),8))","v":""},{"$f":"IF(A289=\"\",\"\",INDEX(ACTIVIDADES!D:G,MATCH(A289,ACTIVIDADES!G:G,0),1))","v":""},{"$f":"IF(A289=\"\",\"\",CONCATENATE(INDEX(ACTIVIDADES!D:G,MATCH(A289,ACTIVIDADES!G:G,0),1),$M$4))","v":""},{"$f":"IF(A289=\"\",\"\",IF(A289=A288,\"\",CONCATENATE(INDEX(ACTIVIDADES!D:G,MATCH(A289,ACTIVIDADES!G:G,0),1),$M$4)))","v":""},{"$f":"IF(A289=\"\",\"\",INDEX(ACTIVIDADES!D:I,MATCH(A289,ACTIVIDADES!G:G,0),4))","v":""},"",285]
[null,null,{"$f":"IF(B290=\"\",\"\",VLOOKUP(B290,'Otras referencias'!$A$32:$B$55,2,FALSE))","v":""},null,{"$f":"IF(A290=\"\",\"\",INDEX(ACTIVIDADES!G:L,MATCH(A290,ACTIVIDADES!G:G,0),5))","v":""},{"$f":"IF(A290=\"\",\"\",INDEX(ACTIVIDADES!G:P,MATCH(A290,ACTIVIDADES!G:G,0),8))","v":""},{"$f":"IF(A290=\"\",\"\",INDEX(ACTIVIDADES!D:G,MATCH(A290,ACTIVIDADES!G:G,0),1))","v":""},{"$f":"IF(A290=\"\",\"\",CONCATENATE(INDEX(ACTIVIDADES!D:G,MATCH(A290,ACTIVIDADES!G:G,0),1),$M$4))","v":""},{"$f":"IF(A290=\"\",\"\",IF(A290=A289,\"\",CONCATENATE(INDEX(ACTIVIDADES!D:G,MATCH(A290,ACTIVIDADES!G:G,0),1),$M$4)))","v":""},{"$f":"IF(A290=\"\",\"\",INDEX(ACTIVIDADES!D:I,MATCH(A290,ACTIVIDADES!G:G,0),4))","v":""},"",286]
[null,null,{"$f":"IF(B291=\"\",\"\",VLOOKUP(B291,'Otras referencias'!$A$32:$B$55,2,FALSE))","v":""},null,{"$f":"IF(A291=\"\",\"\",INDEX(ACTIVIDADES!G:L,MATCH(A291,ACTIVIDADES!G:G,0),5))","v":""},{"$f":"IF(A291=\"\",\"\",INDEX(ACTIVIDADES!G:P,MATCH(A291,ACTIVIDADES!G:G,0),8))","v":""},{"$f":"IF(A291=\"\",\"\",INDEX(ACTIVIDADES!D:G,MATCH(A291,ACTIVIDADES!G:G,0),1))","v":""},{"$f":"IF(A291=\"\",\"\",CONCATENATE(INDEX(ACTIVIDADES!D:G,MATCH(A291,ACTIVIDADES!G:G,0),1),$M$4))","v":""},{"$f":"IF(A291=\"\",\"\",IF(A291=A290,\"\",CONCATENATE(INDEX(ACTIVIDADES!D:G,MATCH(A291,ACTIVIDADES!G:G,0),1),$M$4)))","v":""},{"$f":"IF(A291=\"\",\"\",INDEX(ACTIVIDADES!D:I,MATCH(A291,ACTIVIDADES!G:G,0),4))","v":""},"",287]
[null,null,{"$f":"IF(B292=\"\",\"\",VLOOKUP(B292,'Otras referencias'!$A$32:$B$55,2,FALSE))","v":""},null,{"$f":"IF(A292=\"\",\"\",INDEX(ACTIVIDADES!G:L,MATCH(A292,ACTIVIDADES!G:G,0),5))","v":""},{"$f":"IF(A292=\"\",\"\",INDEX(ACTIVIDADES!G:P,MATCH(A292,ACTIVIDADES!G:G,0),8))","v":""},{"$f":"IF(A292=\"\",\"\",INDEX(ACTIVIDADES!D:G,MATCH(A292,ACTIVIDADES!G:G,0),1))","v":""},{"$f":"IF(A292=\"\",\"\",CONCATENATE(INDEX(ACTIVIDADES!D:G,MATCH(A292,ACTIVIDADES!G:G,0),1),$M$4))","v":""},{"$f":"IF(A292=\"\",\"\",IF(A292=A291,\"\",CONCATENATE(INDEX(ACTIVIDADES!D:G,MATCH(A292,ACTIVIDADES!G:G,0),1),$M$4)))","v":""},{"$f":"IF(A292=\"\",\"\",INDEX(ACTIVIDADES!D:I,MATCH(A292,ACTIVIDADES!G:G,0),4))","v":""},"",288]
[null,null,{"$f":"IF(B293=\"\",\"\",VLOOKUP(B293,'Otras referencias'!$A$32:$B$55,2,FALSE))","v":""},null,{"$f":"IF(A293=\"\",\"\",INDEX(ACTIVIDADES!G:L,MATCH(A293,ACTIVIDADES!G:G,0),5))","v":""},{"$f":"IF(A293=\"\",\"\",INDEX(ACTIVIDADES!G:P,MATCH(A293,ACTIVIDADES!G:G,0),8))","v":""},{"$f":"IF(A293=\"\",\"\",INDEX(ACTIVIDADES!D:G,MATCH(A293,ACTIVIDADES!G:G,0),1))","v":""},{"$f":"IF(A293=\"\",\"\",CONCATENATE(INDEX(ACTIVIDADES!D:G,MATCH(A293,ACTIVIDADES!G:G,0),1),$M$4))","v":""},{"$f":"IF(A293=\"\",\"\",IF(A293=A292,\"\",CONCATENATE(INDEX(ACTIVIDADES!D:G,MATCH(A293,ACTIVIDADES!G:G,0),1),$M$4)))","v":""},{"$f":"IF(A293=\"\",\"\",INDEX(ACTIVIDADES!D:I,MATCH(A293,ACTIVIDADES!G:G,0),4))","v":""},"",289]
[null,null,{"$f":"IF(B294=\"\",\"\",VLOOKUP(B294,'Otras referencias'!$A$32:$B$55,2,FALSE))","v":""},null,{"$f":"IF(A294=\"\",\"\",INDEX(ACTIVIDADES!G:L,MATCH(A294,ACTIVIDADES!G:G,0),5))","v":""},{"$f":"IF(A294=\"\",\"\",INDEX(ACTIVIDADES!G:P,MATCH(A294,ACTIVIDADES!G:G,0),8))","v":""},{"$f":"IF(A294=\"\",\"\",INDEX(ACTIVIDADES!D:G,MATCH(A294,ACTIVIDADES!G:G,0),1))","v":""},{"$f":"IF(A294=\"\",\"\",CONCATENATE(INDEX(ACTIVIDADES!D:G,MATCH(A294,ACTIVIDADES!G:G,0),1),$M$4))","v":""},{"$f":"IF(A294=\"\",\"\",IF(A294=A293,\"\",CONCATENATE(INDEX(ACTIVIDADES!D:G,MATCH(A294,ACTIVIDADES!G:G,0),1),$M$4)))","v":""},{"$f":"IF(A294=\"\",\"\",INDEX(ACTIVIDADES!D:I,MATCH(A294,ACTIVIDADES!G:G,0),4))","v":""},"",290]
[null,null,{"$f":"IF(B295=\"\",\"\",VLOOKUP(B295,'Otras referencias'!$A$32:$B$55,2,FALSE))","v":""},null,{"$f":"IF(A295=\"\",\"\",INDEX(ACTIVIDADES!G:L,MATCH(A295,ACTIVIDADES!G:G,0),5))","v":""},{"$f":"IF(A295=\"\",\"\",INDEX(ACTIVIDADES!G:P,MATCH(A295,ACTIVIDADES!G:G,0),8))","v":""},{"$f":"IF(A295=\"\",\"\",INDEX(ACTIVIDADES!D:G,MATCH(A295,ACTIVIDADES!G:G,0),1))","v":""},{"$f":"IF(A295=\"\",\"\",CONCATENATE(INDEX(ACTIVIDADES!D:G,MATCH(A295,ACTIVIDADES!G:G,0),1),$M$4))","v":""},{"$f":"IF(A295=\"\",\"\",IF(A295=A294,\"\",CONCATENATE(INDEX(ACTIVIDADES!D:G,MATCH(A295,ACTIVIDADES!G:G,0),1),$M$4)))","v":""},{"$f":"IF(A295=\"\",\"\",INDEX(ACTIVIDADES!D:I,MATCH(A295,ACTIVIDADES!G:G,0),4))","v":""},"",291]
[null,null,{"$f":"IF(B296=\"\",\"\",VLOOKUP(B296,'Otras referencias'!$A$32:$B$55,2,FALSE))","v":""},null,{"$f":"IF(A296=\"\",\"\",INDEX(ACTIVIDADES!G:L,MATCH(A296,ACTIVIDADES!G:G,0),5))","v":""},{"$f":"IF(A296=\"\",\"\",INDEX(ACTIVIDADES!G:P,MATCH(A296,ACTIVIDADES!G:G,0),8))","v":""},{"$f":"IF(A296=\"\",\"\",INDEX(ACTIVIDADES!D:G,MATCH(A296,ACTIVIDADES!G:G,0),1))","v":""},{"$f":"IF(A296=\"\",\"\",CONCATENATE(INDEX(ACTIVIDADES!D:G,MATCH(A296,ACTIVIDADES!G:G,0),1),$M$4))","v":""},{"$f":"IF(A296=\"\",\"\",IF(A296=A295,\"\",CONCATENATE(INDEX(ACTIVIDADES!D:G,MATCH(A296,ACTIVIDADES!G:G,0),1),$M$4)))","v":""},{"$f":"IF(A296=\"\",\"\",INDEX(ACTIVIDADES!D:I,MATCH(A296,ACTIVIDADES!G:G,0),4))","v":""},"",292]
[null,null,{"$f":"IF(B297=\"\",\"\",VLOOKUP(B297,'Otras referencias'!$A$32:$B$55,2,FALSE))","v":""},null,{"$f":"IF(A297=\"\",\"\",INDEX(ACTIVIDADES!G:L,MATCH(A297,ACTIVIDADES!G:G,0),5))","v":""},{"$f":"IF(A297=\"\",\"\",INDEX(ACTIVIDADES!G:P,MATCH(A297,ACTIVIDADES!G:G,0),8))","v":""},{"$f":"IF(A297=\"\",\"\",INDEX(ACTIVIDADES!D:G,MATCH(A297,ACTIVIDADES!G:G,0),1))","v":""},{"$f":"IF(A297=\"\",\"\",CONCATENATE(INDEX(ACTIVIDADES!D:G,MATCH(A297,ACTIVIDADES!G:G,0),1),$M$4))","v":""},{"$f":"IF(A297=\"\",\"\",IF(A297=A296,\"\",CONCATENATE(INDEX(ACTIVIDADES!D:G,MATCH(A297,ACTIVIDADES!G:G,0),1),$M$4)))","v":""},{"$f":"IF(A297=\"\",\"\",INDEX(ACTIVIDADES!D:I,MATCH(A297,ACTIVIDADES!G:G,0),4))","v":""},"",293]
[null,null,{"$f":"IF(B298=\"\",\"\",VLOOKUP(B298,'Otras referencias'!$A$32:$B$55,2,FALSE))","v":""},null,{"$f":"IF(A298=\"\",\"\",INDEX(ACTIVIDADES!G:L,MATCH(A298,ACTIVIDADES!G:G,0),5))","v":""},{"$f":"IF(A298=\"\",\"\",INDEX(ACTIVIDADES!G:P,MATCH(A298,ACTIVIDADES!G:G,0),8))","v":""},{"$f":"IF(A298=\"\",\"\",INDEX(ACTIVIDADES!D:G,MATCH(A298,ACTIVIDADES!G:G,0),1))","v":""},{"$f":"IF(A298=\"\",\"\",CONCATENATE(INDEX(ACTIVIDADES!D:G,MATCH(A298,ACTIVIDADES!G:G,0),1),$M$4))","v":""},{"$f":"IF(A298=\"\",\"\",IF(A298=A297,\"\",CONCATENATE(INDEX(ACTIVIDADES!D:G,MATCH(A298,ACTIVIDADES!G:G,0),1),$M$4)))","v":""},{"$f":"IF(A298=\"\",\"\",INDEX(ACTIVIDADES!D:I,MATCH(A298,ACTIVIDADES!G:G,0),4))","v":""},"",294]
[null,null,{"$f":"IF(B299=\"\",\"\",VLOOKUP(B299,'Otras referencias'!$A$32:$B$55,2,FALSE))","v":""},null,{"$f":"IF(A299=\"\",\"\",INDEX(ACTIVIDADES!G:L,MATCH(A299,ACTIVIDADES!G:G,0),5))","v":""},{"$f":"IF(A299=\"\",\"\",INDEX(ACTIVIDADES!G:P,MATCH(A299,ACTIVIDADES!G:G,0),8))","v":""},{"$f":"IF(A299=\"\",\"\",INDEX(ACTIVIDADES!D:G,MATCH(A299,ACTIVIDADES!G:G,0),1))","v":""},{"$f":"IF(A299=\"\",\"\",CONCATENATE(INDEX(ACTIVIDADES!D:G,MATCH(A299,ACTIVIDADES!G:G,0),1),$M$4))","v":""},{"$f":"IF(A299=\"\",\"\",IF(A299=A298,\"\",CONCATENATE(INDEX(ACTIVIDADES!D:G,MATCH(A299,ACTIVIDADES!G:G,0),1),$M$4)))","v":""},{"$f":"IF(A299=\"\",\"\",INDEX(ACTIVIDADES!D:I,MATCH(A299,ACTIVIDADES!G:G,0),4))","v":""},"",295]
[null,null,{"$f":"IF(B300=\"\",\"\",VLOOKUP(B300,'Otras referencias'!$A$32:$B$55,2,FALSE))","v":""},null,{"$f":"IF(A300=\"\",\"\",INDEX(ACTIVIDADES!G:L,MATCH(A300,ACTIVIDADES!G:G,0),5))","v":""},{"$f":"IF(A300=\"\",\"\",INDEX(ACTIVIDADES!G:P,MATCH(A300,ACTIVIDADES!G:G,0),8))","v":""},{"$f":"IF(A300=\"\",\"\",INDEX(ACTIVIDADES!D:G,MATCH(A300,ACTIVIDADES!G:G,0),1))","v":""},{"$f":"IF(A300=\"\",\"\",CONCATENATE(INDEX(ACTIVIDADES!D:G,MATCH(A300,ACTIVIDADES!G:G,0),1),$M$4))","v":""},{"$f":"IF(A300=\"\",\"\",IF(A300=A299,\"\",CONCATENATE(INDEX(ACTIVIDADES!D:G,MATCH(A300,ACTIVIDADES!G:G,0),1),$M$4)))","v":""},{"$f":"IF(A300=\"\",\"\",INDEX(ACTIVIDADES!D:I,MATCH(A300,ACTIVIDADES!G:G,0),4))","v":""},"",296]
[null,null,{"$f":"IF(B301=\"\",\"\",VLOOKUP(B301,'Otras referencias'!$A$32:$B$55,2,FALSE))","v":""},null,{"$f":"IF(A301=\"\",\"\",INDEX(ACTIVIDADES!G:L,MATCH(A301,ACTIVIDADES!G:G,0),5))","v":""},{"$f":"IF(A301=\"\",\"\",INDEX(ACTIVIDADES!G:P,MATCH(A301,ACTIVIDADES!G:G,0),8))","v":""},{"$f":"IF(A301=\"\",\"\",INDEX(ACTIVIDADES!D:G,MATCH(A301,ACTIVIDADES!G:G,0),1))","v":""},{"$f":"IF(A301=\"\",\"\",CONCATENATE(INDEX(ACTIVIDADES!D:G,MATCH(A301,ACTIVIDADES!G:G,0),1),$M$4))","v":""},{"$f":"IF(A301=\"\",\"\",IF(A301=A300,\"\",CONCATENATE(INDEX(ACTIVIDADES!D:G,MATCH(A301,ACTIVIDADES!G:G,0),1),$M$4)))","v":""},{"$f":"IF(A301=\"\",\"\",INDEX(ACTIVIDADES!D:I,MATCH(A301,ACTIVIDADES!G:G,0),4))","v":""},"",297]
[null,null,{"$f":"IF(B302=\"\",\"\",VLOOKUP(B302,'Otras referencias'!$A$32:$B$55,2,FALSE))","v":""},null,{"$f":"IF(A302=\"\",\"\",INDEX(ACTIVIDADES!G:L,MATCH(A302,ACTIVIDADES!G:G,0),5))","v":""},{"$f":"IF(A302=\"\",\"\",INDEX(ACTIVIDADES!G:P,MATCH(A302,ACTIVIDADES!G:G,0),8))","v":""},{"$f":"IF(A302=\"\",\"\",INDEX(ACTIVIDADES!D:G,MATCH(A302,ACTIVIDADES!G:G,0),1))","v":""},{"$f":"IF(A302=\"\",\"\",CONCATENATE(INDEX(ACTIVIDADES!D:G,MATCH(A302,ACTIVIDADES!G:G,0),1),$M$4))","v":""},{"$f":"IF(A302=\"\",\"\",IF(A302=A301,\"\",CONCATENATE(INDEX(ACTIVIDADES!D:G,MATCH(A302,ACTIVIDADES!G:G,0),1),$M$4)))","v":""},{"$f":"IF(A302=\"\",\"\",INDEX(ACTIVIDADES!D:I,MATCH(A302,ACTIVIDADES!G:G,0),4))","v":""},"",298]
[null,null,{"$f":"IF(B303=\"\",\"\",VLOOKUP(B303,'Otras referencias'!$A$32:$B$55,2,FALSE))","v":""},null,{"$f":"IF(A303=\"\",\"\",INDEX(ACTIVIDADES!G:L,MATCH(A303,ACTIVIDADES!G:G,0),5))","v":""},{"$f":"IF(A303=\"\",\"\",INDEX(ACTIVIDADES!G:P,MATCH(A303,ACTIVIDADES!G:G,0),8))","v":""},{"$f":"IF(A303=\"\",\"\",INDEX(ACTIVIDADES!D:G,MATCH(A303,ACTIVIDADES!G:G,0),1))","v":""},{"$f":"IF(A303=\"\",\"\",CONCATENATE(INDEX(ACTIVIDADES!D:G,MATCH(A303,ACTIVIDADES!G:G,0),1),$M$4))","v":""},{"$f":"IF(A303=\"\",\"\",IF(A303=A302,\"\",CONCATENATE(INDEX(ACTIVIDADES!D:G,MATCH(A303,ACTIVIDADES!G:G,0),1),$M$4)))","v":""},{"$f":"IF(A303=\"\",\"\",INDEX(ACTIVIDADES!D:I,MATCH(A303,ACTIVIDADES!G:G,0),4))","v":""},"",299]
[null,null,{"$f":"IF(B304=\"\",\"\",VLOOKUP(B304,'Otras referencias'!$A$32:$B$55,2,FALSE))","v":""},null,{"$f":"IF(A304=\"\",\"\",INDEX(ACTIVIDADES!G:L,MATCH(A304,ACTIVIDADES!G:G,0),5))","v":""},{"$f":"IF(A304=\"\",\"\",INDEX(ACTIVIDADES!G:P,MATCH(A304,ACTIVIDADES!G:G,0),8))","v":""},{"$f":"IF(A304=\"\",\"\",INDEX(ACTIVIDADES!D:G,MATCH(A304,ACTIVIDADES!G:G,0),1))","v":""},{"$f":"IF(A304=\"\",\"\",CONCATENATE(INDEX(ACTIVIDADES!D:G,MATCH(A304,ACTIVIDADES!G:G,0),1),$M$4))","v":""},{"$f":"IF(A304=\"\",\"\",IF(A304=A303,\"\",CONCATENATE(INDEX(ACTIVIDADES!D:G,MATCH(A304,ACTIVIDADES!G:G,0),1),$M$4)))","v":""},{"$f":"IF(A304=\"\",\"\",INDEX(ACTIVIDADES!D:I,MATCH(A304,ACTIVIDADES!G:G,0),4))","v":""},"",300]

{"sheet":"referentes","index":6,"n_rows":433,"n_cols":44,"rows_kept":433,"cut":false,"hidden":false,"merged":[]}
["AG_LOV",1049,null,"AG_LOV",1050,null,"AG_LOV",1051,null,"AG_LOV",1052,null,"AG_LOV",1053,null,"AG_ESPECIES",3453828,null,"AG_LOV",1055,null,"AG_LOV",1054,null,"AG_LOV",1058,null,"AG_LOV",1056,null,"cod_letras","descripcion","clave_sibm","phylum","clase","orden","familia","genero",null,"secuencia_loc","prefijo_cdg_est_loc","codigo_estacion_loc","descripcion_estacion_loc","lugar"]
["Camaron de Aguas Someras","Camaron de Aguas Someras",null,50,"VALLE",null,0,"(DESCONOCIDO)",null,1645,"ALEXANDER GIRON",null,"CO","Captura Objetivo",null,362,"PARGO ROQUERO",null,1,"ENTERO",null,1,"10./20",null,1645,"Alexander Girón",null,null,"ACEITE",null,1,"Acanthaxius caespitosa",null,"CHORDATA",null,null,null,null,null,49105,"C",96321]
["Camaron de Aguas Profundas","Camaron de Aguas Profundas",null,51,"VERDE LUNA",null,1,"ALEXANDER CAICEDO",null,5556,"GERMAN ANGULO",null,"CI","Captura Incidencial",null,370,"PICUDA",null,2,"COLA PINK",null,2,"20/30",null,5556,"German Angulo",null,null,"COMBUSTIBLE",null,10,"ERMITAÑO",null,"Xilopagurus cancellarius.",null,null,null,null,null,51562,"P"]
[null,null,null,52,"ZITA IVONNE",null,2,"CARLOS JOSE PALACIOS MARTINEZ",null,5557,"NELSON MARTINEZ",null,"D","Descarte",null,371,"SARDINA",null,3,"EVISCERADO",null,3,"30/40",null,8265,"Kevin Samuel Moreno",null,null,"COSTOS FIJOS",null,100,"ÑATO",null,"Sciadeops troscheli"]
[null,null,null,53,"SAN FERNANDO",null,3,"LUIS ARTURO MARSIGLIA AGAMEZ",null,null,null,null,null,null,null,372,"SARDINA",null,4,"NO EVISCERADO",null,4,"40/60",null,5557,"Nelson Martinez",null,null,"EMPAQUES",null,101,"PELADA",null,"Cynosción spp."]
[null,null,null,57,"ASLY YURANI",null,4,"MIGUEL BOLIVAR VALENCIA AGUIRRE",null,null,null,null,null,null,null,373,"SARDINAS",null,5,"TRONCO",null,5,"60/80",null,null,null,null,null,"MANTENIMIENTO Y REPARACIONES",null,102,"SIERRA",null,"Scomberomuros sierra"]
[null,null,null,58,"BONNY",null,5,"JUAN JOMAR BERMUDES",null,null,null,null,null,null,null,374,"TAMBORERO",null,6,"COLA COLIFLOR",null,6,"80/100",null,null,null,null,null,"OTROS INSUMOS",null,103,"SIERRILLA",null,"Scomberomorus sierra"]
[null,null,null,59,"DON FELIPE",null,6,"OMAR MUÑOZ RENGIFO",null,null,null,null,null,null,null,375,"MOJARRA",null,7,"COLA BLANCO",null,7,"100/120",null,null,null,null,null,"PERITAJE COMBUSTIBLE",null,104,"TITI",null,"Xiphopenaeus riveti"]
[null,null,null,60,"EL TORITO",null,7,"PROSPERO NEBARDO PUENTES SALAZAR",null,null,null,null,null,null,null,376,"LENGUADO",null,8,"COLA TITI",null,8,"120/150",null,null,null,null,null,"PRESTACIONES SOCIALES",null,105,"BARBINCHE",null,"Bagre panamensis"]
[null,null,null,61,"IMAR",null,8,"LUIS CARLOS SEPULVEDA MARTINEZ",null,null,null,null,null,null,null,377,"JUREL",null,9,"COLA CHOCOLATE",null,9,"30/50",null,null,null,null,null,"RASTREO SATELITAL",null,106,"LOCA",null,"Chloroscombrus orqueta"]
[null,null,null,62,"MARIELA",null,9,"MILTON RIVAS MOSQUERA",null,null,null,null,null,null,null,378,"MERO",null,10,"DESCONCHADO",null,10,"50/70",null,null,null,null,null,"SALARIOS",null,107,"Anchoa spp.",null,"CHORDATA"]
[null,null,null,63,"GULF SULF",null,10,"LUIS ARBOLEDA GRUESO",null,null,null,null,null,null,null,379,"JAIBA",null,11,"COLA TIGRE",null,11,"70/90",null,null,null,null,null,"VIVERES",null,108,"PLUMUDA",null,"Opisthonema libertate"]
[null,null,null,65,"PERLA VERDE",null,11,"JULIO GUIZAMANO SANCHEZ",null,null,null,null,null,null,null,380,"TAMBORERO",null,12,"COLA POMADILLA",null,12,"90/120",null,null,null,null,null,"SEGUROS",null,109,"PALOMETA",null,"Eucinostomus argenteus"]
[null,null,null,66,"CONDESA DEL MAR",null,12,"DAGOBERTO ROSALES ANGULO",null,null,null,null,null,null,null,381,"RAYA ELECTRICA",null,null,null,null,13,"NACIONAL",null,null,null,null,null,"DEPRECIACIÓN",null,11,"CAMARON",null,"Palaemon spp."]
[null,null,null,67,"DON DANIEL",null,13,"ESTEBAN QUIÑONES VALOIS",null,null,null,null,null,null,null,382,"LENGUADO",null,null,null,null,14,"GRANEL",null,null,null,null,null,"ZARPE",null,111,"LENGUADO",null,"Monolene maculipinna"]
[null,null,null,68,"VESPUCCI",null,14,"JAMES VIVEROS PALACIOS",null,null,null,null,null,null,null,383,"COLIFLOR",null,null,null,null,15,"RE",null,null,null,null,null,"APORTES PARAFISCALES",null,112,"MERLUZA PANAMEÑA",null,"Merluccius angustimanus"]
[null,null,null,69,"CASILDA",null,15,"NARGEL DESIDERIO MARTINEZ CORTES",null,null,null,null,null,null,null,384,"CARACOL",null,null,null,null,16,"PE",null,null,null,null,null,"COSTOS DE PROCESAMIENTO",null,113,"CAGUA",null,"Serranus eaguidens"]
[null,null,null,70,"DON PABLO",null,16,"FRANCISCO CAMPAZ GARCIA",null,null,null,null,null,null,null,385,"MOJARRA",null,null,null,null,17,"PP",null,null,null,null,null,"INSUMOS Y EMPAQUES",null,114,"GUSANO DE FUEGO",null,"Poliqueto spp."]
[null,null,null,71,"CAROLYN",null,17,"HENRY LEOPOLDO BANGUERA PAYAN",null,null,null,null,null,null,null,386,"RAYA GUITARRA",null,null,null,null,18,"RA",null,null,null,null,null,"INSUMOS          ",null,115,"OJIVERDES",null,"Chlorosphthalmus sp."]
[null,null,null,73,"DOÑA MAYRA",null,18,"MILTON CASTILLO",null,null,null,null,null,null,null,387,"LOCA",null,null,null,null,19,"PG",null,null,null,null,null,"ADMINISTRACIÓN",null,117,"PEJEREY",null,"Prionotus horrens"]
[null,null,null,74,"MARÍA SOLEDAD",null,19,"LUIS ARTURO CASTILLO",null,null,null,null,null,null,null,388,"PARGO LUNAREJO PEQUEÑO",null,null,null,null,20,"PM",null,null,null,null,null,"MUELLAJE Y/O ARRENDAMIENTO",null,119,"GUITARRILLA",null,"Rhyinobatus planiceps"]
[null,null,null,75,"SALAQUI",null,20,"GUMERCINDO GOMEZ BALANTA",null,null,null,null,null,null,null,389,"GUITARRILLA",null,null,null,null,21,"IC",null,null,null,null,null,"PATENTE",null,12,"CANGREJO",null,"Palicus spp."]
[null,null,null,76,"MARIELA",null,21,"GUILLERMO MORENO PORTOCARRERO",null,null,null,null,null,null,null,390,"CARACOL",null,null,null,null,22,"OD",null,null,null,null,null,"TASA RESOLUTIVA",null,120,"CARECABALLO",null,"Selene brevoortii"]
[null,null,null,77,"HIFER",null,22,"JORGE ISAAC OCORO SANCHEZ",null,null,null,null,null,null,null,391,"CACHUDA",null,null,null,null,23,"OTROS RESTOS",null,null,null,null,null,"INSPECCIÓN OCULAR",null,121,"PALOMETA",null,"Diapterus peruvianus"]
[null,null,null,78,"SEÑOR DE LOS MILAGROS",null,23,"FRANKLIN NARCILO ANGULO",null,null,null,null,null,null,null,392,"MACHETAJO",null,null,null,null,24,"RESTOS VEGETALES",null,null,null,null,null,"PERITAJE CERTIFICADOS",null,123,"PICUDA",null,"Sphyraena ensi"]
[null,null,null,80,"PORTO SANTOS",null,24,"JOSE FELIZ ARIZALA SINISTERRA",null,null,null,null,null,null,null,393,"PARGO",null,null,null,null,25,"TODAS",null,null,null,null,null,null,null,124,"TOLLO",null,"Mustelus spp."]
[null,null,null,81,"DRAKKAR",null,25,"MANUEL AGUILAR MURILLO",null,null,null,null,null,null,null,394,"TORPEDO",null,null,null,null,26,"PEQUEÑO",null,null,null,null,null,null,null,125,"MERO",null,"Epinephelus niphobles"]
[null,null,null,82,"JOLLY ROGER",null,26,"NELSON URIBE HERRERA",null,null,null,null,null,null,null,395,"LISON",null,null,null,null,27,"PEDAZOS",null,null,null,null,null,null,null,126,"PARGO",null,"Lutjanus spp."]
[null,null,null,83,"DRAKKAR VI",null,27,"RENE VIRGILIO MARTINEZ .A.",null,null,null,null,null,null,null,396,"PARGO AMARILLO",null,null,null,null,28,"MEDIANO",null,null,null,null,null,null,null,127,"PARGO NYLON",null,"Dasyatis longus"]
[null,null,null,84,"CARLOS FELIPE",null,28,"SEGUNDO CAICEDO",null,null,null,null,null,null,null,397,"CARBONERO DE FANGO",null,null,null,null,29,"EXPORTACIÓN",null,null,null,null,null,null,null,129,"LAPIZ DE MAR",null,"Hemanthias peruanus"]
[null,null,null,49,"PATIA",null,29,"LIBARDO BOLIVAR BENAVIDES",null,null,null,null,null,null,null,398,"GUEREGUERE",null,null,null,null,30,"CLASE A",null,null,null,null,null,null,null,13,"CAMARON CABEZUDO",null,"Heterocarpus vicarius"]
[null,null,null,1,"ADA PIEDAD",null,30,"ERNESTO EUDELIO CASANOVA",null,null,null,null,null,null,null,399,"OJON",null,null,null,null,31,"U/10",null,null,null,null,null,null,null,130,"BLANCO",null,"Farfantepenaeus californiensis"]
[null,null,null,2,"ALEXANDER",null,31,"MANUEL TORRES NAVIA",null,null,null,null,null,null,null,400,"BURIQUE",null,null,null,null,32,"U/8",null,null,null,null,null,null,null,131,"CURRUCA",null,"Lutjanus spp."]
[null,null,null,3,"ANTARES I",null,32,"INOCENCIO MARTINEZ OLIVEROS",null,null,null,null,null,null,null,401,"PEZ JABON",null,null,null,null,33,"U/12",null,null,null,null,null,null,null,132,"JAIBA",null,"Lutjanus spp."]
[null,null,null,4,"CAPITAN APPLETON",null,33,"NN",null,null,null,null,null,null,null,402,"MERO GRANDE",null,null,null,null,34,"U/15",null,null,null,null,null,null,null,135,"RAYA",null,"Sciadeops troscheli"]
[null,null,null,5,"CARIBBEAN STAR NO. 20",null,34,"TOMAS CASTILLO",null,null,null,null,null,null,null,403,"BAGRE PEQUEÑO",null,null,null,null,35,"16/20",null,null,null,null,null,null,null,136,"CHOCOLATE",null,"Varias"]
[null,null,null,6,"CARIBBEAN STAR NO. 8",null,35,"GALO MARTINEZ",null,null,null,null,null,null,null,404,"PAMPANO PEQUEÑO",null,null,null,null,36,"21/25",null,null,null,null,null,null,null,137,"PARGO MEDIANO",null,"Varias"]
[null,null,null,7,"DON BANGUE",null,36,"FRANCISCO ANGULO",null,null,null,null,null,null,null,405,"ANGUILLA",null,null,null,null,37,"50/60",null,null,null,null,null,null,null,138,"PARGO PLATERO",null,"Varias"]
[null,null,null,8,"DON PONCHO",null,37,"LUIS MARSIGLIA",null,null,null,null,null,null,null,406,"HERMINTAÑO DE PALITO",null,null,null,null,38,"26/30",null,null,null,null,null,null,null,139,"ÑATICO",null,"Varias"]
[null,null,null,9,"DON TED",null,38,"LUIS CASTILLO",null,null,null,null,null,null,null,407,"MADURITO",null,null,null,null,39,"ALG",null,null,null,null,null,null,null,14,"CAMARON BRAVO",null,"Parasquilla spp."]
[null,null,null,10,"DOÑA MAYRA",null,39,"ANGEL TENORIO",null,null,null,null,null,null,null,408,"LENGUDITO",null,null,null,null,null,null,null,null,null,null,null,null,null,140,"PESCADO ESPECIAL",null,"Varias"]
[null,null,null,11,"DOÑA ROSARIO",null,40,"ALEJANDRO PALACIO BANGUERA",null,null,null,null,null,null,null,409,"PEZ COLINEGRO",null,null,null,null,null,null,null,null,null,null,null,null,null,141,"PESCADO GRUESO",null,"Varias"]
[null,null,null,12,"ENSENADA",null,41,"PENDIENTE",null,null,null,null,null,null,null,410,"CONCHUDO",null,null,null,null,null,null,null,null,null,null,null,null,null,142,"PESCADO MENUDO",null,"Varias"]
[null,null,null,13,"FALCON IV",null,42,"AGUSTIN MARTINEZ",null,null,null,null,null,null,null,411,"PEZ NEGRO",null,null,null,null,null,null,null,null,null,null,null,null,null,143,"PESCADO GRUESO",null,"Torpedo tremens"]
[null,null,null,14,"GLADIATOR",null,43,"JUAN DASILVA",null,null,null,null,null,null,null,412,"PEZ ESCAOSO",null,null,null,null,null,null,null,null,null,null,null,null,null,144,"PESCADO MENUDO",null,"Maiopsis panamensis"]
[null,null,null,15,"LATIN MARU",null,44,"CARLOS SEPULVEDA",null,null,null,null,null,null,null,413,"CANGREJO",null,null,null,null,null,null,null,null,null,null,null,null,null,145,"PESCADO GRUESO",null,"Parthenopidae spp."]
[null,null,null,16,"LATIN MARU NO. 10",null,45,"MANUEL CAMISA POR DENTRO",null,null,null,null,null,null,null,414,"PESCADO DE OJOS VERDES",null,null,null,null,null,null,null,null,null,null,null,null,null,146,"Antennarius avolonis",null,"CHORDATA"]
[null,null,null,17,"LATIN MARU NO. 5",null,46,"HOMAR MUÑOS",null,null,null,null,null,null,null,415,"CAMARÓN ROSADO",null,null,null,null,null,null,null,null,null,null,null,null,null,147,"Astropecten spp.",null,"CHORDATA"]
[null,null,null,18,"MISS GRETTA",null,47,"MARCELIANO CAICEDO",null,null,null,null,null,null,null,416,"LENGUADO CON LUNARES",null,null,null,null,null,null,null,null,null,null,null,null,null,148,"CENTOLLA",null,"Brachiura spp"]
[null,null,null,19,"MUSTANG",null,48,"LAERCIO ESTUPIÑAN",null,null,null,null,null,null,null,417,"CANGREJO",null,null,null,null,null,null,null,null,null,null,null,null,null,149,"CANGREJO",null,"Leucossidae spp."]
[null,null,null,20,"NAIYAD",null,49,"MILTON ESTUPIÑAN",null,null,null,null,null,null,null,418,"PARGO PLATERO PEQUEÑO",null,null,null,null,null,null,null,null,null,null,null,null,null,15,"CANGREJO",null,"Leiolambrus spp."]
[null,null,null,21,"PANGUI",null,50,"JOHN RIVAS",null,null,null,null,null,null,null,419,"PANPANO PLATIADO",null,null,null,null,null,null,null,null,null,null,null,null,null,150,"PESCADOR",null,"Luidia spp."]
[null,null,null,22,"SAGRES",null,51,"FRANKLIN VELEZ",null,null,null,null,null,null,null,420,"SAFIRO",null,null,null,null,null,null,null,null,null,null,null,null,null,151,"ESTRELLA DE MAR",null,"Solenosteira gatesi"]
[null,null,null,23,"SEA WOLF  II",null,52,"JUAQUIN CHANG",null,null,null,null,null,null,null,421,"BLANQUILLO",null,null,null,null,null,null,null,null,null,null,null,null,null,152,"CANGREJO",null,"Foliator rostratus"]
[null,null,null,24,"SINU",null,53,"UBER VALLECILLA",null,null,null,null,null,null,null,422,"LENGUADO",null,null,null,null,null,null,null,null,null,null,null,null,null,153,"CANGREJO",null,"Tonnidae spp."]
[null,null,null,25,"SUN RISE III",null,null,null,null,null,null,null,null,null,null,423,"LENGUADO RIBETE",null,null,null,null,null,null,null,null,null,null,null,null,null,154,"ESTRELLA DE MAR",null,"Bollmannia spp."]
[null,null,null,26,"TAURUS",null,null,null,null,null,null,null,null,null,null,424,"ANCHOA OJITOS",null,null,null,null,null,null,null,null,null,null,null,null,null,155,"CARACOL",null,"Engyophrys sanctilaurenti"]
[null,null,null,27,"TOLU",null,null,null,null,null,null,null,null,null,null,425,"LENGUADO",null,null,null,null,null,null,null,null,null,null,null,null,null,156,"PEZ VOLADOR",null,"Conus spp."]
[null,null,null,28,"LATIN MARU NO. 2",null,null,null,null,null,null,null,null,null,null,426,"LENGUADO",null,null,null,null,null,null,null,null,null,null,null,null,null,158,"SAPITO",null,"Squatina californica"]
[null,null,null,29,"ANA MARIA I",null,null,null,null,null,null,null,null,null,null,427,"SARDINA",null,null,null,null,null,null,null,null,null,null,null,null,null,159,"LENGUADO",null,"Paguridae spp."]
[null,null,null,30,"LUSITANO",null,null,null,null,null,null,null,null,null,null,428,"GOBIO BACON",null,null,null,null,null,null,null,null,null,null,null,null,null,16,"CAMARON",null,"Pasiphaea spp."]
[null,null,null,31,"ARRAIJAN",null,null,null,null,null,null,null,null,null,null,429,"SAPO",null,null,null,null,null,null,null,null,null,null,null,null,null,160,"CARACOL",null,"Natica broderipiana"]
[null,null,null,32,"BARLOVENTO TRES",null,null,null,null,null,null,null,null,null,null,430,"GUALAJILLO",null,null,null,null,null,null,null,null,null,null,null,null,null,161,"ANGELOTE",null,"Turridae ssp."]
[null,null,null,33,"BETTY",null,null,null,null,null,null,null,null,null,null,431,"PELADA AMARILLA",null,null,null,null,null,null,null,null,null,null,null,null,null,162,"ERMITAÑO",null,"Majidae sp2."]
[null,null,null,34,"CALAMAR",null,null,null,null,null,null,null,null,null,null,432,"PELADA BLANCA MEDIANA",null,null,null,null,null,null,null,null,null,null,null,null,null,163,"CARACOL",null,"Decodon melasma"]
[null,null,null,35,"COPESVAL DOS",null,null,null,null,null,null,null,null,null,null,433,"PELADA DE ALTURA",null,null,null,null,null,null,null,null,null,null,null,null,null,164,"CARACOL",null,"Bellator gymnostethus"]
[null,null,null,36,"COQUI",null,null,null,null,null,null,null,null,null,null,434,"SIERRILLA PEQUEÑA",null,null,null,null,null,null,null,null,null,null,null,null,null,165,"CANGREJO ARAÑA",null,"Scomber japonicus"]
[null,null,null,37,"CRISTO REY",null,null,null,null,null,null,null,null,null,null,435,"FLOTADOR",null,null,null,null,null,null,null,null,null,null,null,null,null,166,"LORITO MARCADO",null,"Mustelus henlei"]
[null,null,null,38,"DOÑA ISABEL",null,null,null,null,null,null,null,null,null,null,436,"MERO PEQUEÑO",null,null,null,null,null,null,null,null,null,null,null,null,null,167,"PEJEREY",null,"Buccinidae sp1."]
[null,null,null,39,"FLAMENCO",null,null,null,null,null,null,null,null,null,null,437,"PEZ AGUJA",null,null,null,null,null,null,null,null,null,null,null,null,null,168,"CABALLA",null,"Prionotus birostratus"]
[null,null,null,40,"HOLLY",null,null,null,null,null,null,null,null,null,null,438,"CORNETA",null,null,null,null,null,null,null,null,null,null,null,null,null,169,"TOLLO VIEJA",null,"Majidae spp."]
[null,null,null,41,"IRENE",null,null,null,null,null,null,null,null,null,null,439,"ESTELIFER",null,null,null,null,null,null,null,null,null,null,null,null,null,17,"PINK",null,"Farfantepenaeus brevirostris"]
[null,null,null,42,"ISABELA",null,null,null,null,null,null,null,null,null,null,440,"RAYA MALA",null,null,null,null,null,null,null,null,null,null,null,null,null,170,"CARACOL",null,"Sicyonia spp."]
[null,null,null,43,"JULIE ROSSE",null,null,null,null,null,null,null,null,null,null,441,"CURROCO CABEZA DE PIEDRA",null,null,null,null,null,null,null,null,null,null,null,null,null,171,"PEJEREY",null,"Holoturido spp."]
[null,null,null,44,"LURUACO",null,null,null,null,null,null,null,null,null,null,442,"CURRUCO CABESA DE PIEDRA",null,null,null,null,null,null,null,null,null,null,null,null,null,172,"CANGREJO ARAÑA",null,"Brachiura sp1."]
[null,null,null,45,"MARTHA LUZ",null,null,null,null,null,null,null,null,null,null,443,"PESCADO NEGRO",null,null,null,null,null,null,null,null,null,null,null,null,null,173,"CAMARÓN PEÑERO",null,"Prionotus albirostris"]
[null,null,null,46,"META",null,null,null,null,null,null,null,null,null,null,445,"ALGUACIL PEQUEÑO",null,null,null,null,null,null,null,null,null,null,null,null,null,174,"PEPINO DE MAR",null,"Urotrygon rogersi"]
[null,null,null,47,"MIREYA",null,null,null,null,null,null,null,null,null,null,446,"CAMARON ROCA",null,null,null,null,null,null,null,null,null,null,null,null,null,175,"CANGREJO",null,"Epinephelus cifuentesi"]
[null,null,null,48,"NARIÑENSE",null,null,null,null,null,null,null,null,null,null,447,"JAIBA MORA",null,null,null,null,null,null,null,null,null,null,null,null,null,176,"PEJEREY",null,"Ophichthus frontalis"]
[null,null,null,null,null,null,null,null,null,null,null,null,null,null,null,448,"PEJEREY",null,null,null,null,null,null,null,null,null,null,null,null,null,177,"RAYA",null,"Dosidiscus gigas"]
[null,null,null,null,null,null,null,null,null,null,null,null,null,null,null,449,"PEJEREY",null,null,null,null,null,null,null,null,null,null,null,null,null,178,"CHERNA",null,"Pomadasys panamensis"]
[null,null,null,null,null,null,null,null,null,null,null,null,null,null,null,450,"LENGUADO",null,null,null,null,null,null,null,null,null,null,null,null,null,179,"Argentina aliceae",null,"CHORDATA"]
[null,null,null,null,null,null,null,null,null,null,null,null,null,null,null,451,"RAYA",null,null,null,null,null,null,null,null,null,null,null,null,null,180,"POTA",null,"Seriola rivoliana"]
[null,null,null,null,null,null,null,null,null,null,null,null,null,null,null,452,"CORVINA PEQUEÑA",null,null,null,null,null,null,null,null,null,null,null,null,null,181,"CURRUCA",null,"Dasyatis brevis"]
[null,null,null,null,null,null,null,null,null,null,null,null,null,null,null,453,"MACHATAJO PEQUEÑO",null,null,null,null,null,null,null,null,null,null,null,null,null,182,"ARGENTINA",null,"Trachypenaeus spp."]
[null,null,null,null,null,null,null,null,null,null,null,null,null,null,null,454,"PAMPANO GRANDE",null,null,null,null,null,null,null,null,null,null,null,null,null,183,"BRAVO",null,"Bagre pinnimaculatus"]
[null,null,null,null,null,null,null,null,null,null,null,null,null,null,null,455,"BERRUGATE PEQUEÑO",null,null,null,null,null,null,null,null,null,null,null,null,null,184,"RAYA",null,"Lobotes pacificus"]
[null,null,null,null,null,null,null,null,null,null,null,null,null,null,null,456,"PARGO NEGRO",null,null,null,null,null,null,null,null,null,null,null,null,null,185,"LANGOSTA",null,"Lobotes pacificus"]
[null,null,null,null,null,null,null,null,null,null,null,null,null,null,null,457,"SIERRA PEQUEÑA",null,null,null,null,null,null,null,null,null,null,null,null,null,186,"TIGRE",null,"Lobotes pacificus"]
[null,null,null,null,null,null,null,null,null,null,null,null,null,null,null,458,"BOTELLONA PEQUEÑA",null,null,null,null,null,null,null,null,null,null,null,null,null,187,"ALGUACILILLO",null,"Centropomus spp."]
[null,null,null,null,null,null,null,null,null,null,null,null,null,null,null,17,"PINK",null,null,null,null,null,null,null,null,null,null,null,null,null,188,"BERRUGATE MEDIANO",null,"Centropomus spp."]
[null,null,null,null,null,null,null,null,null,null,null,null,null,null,null,21,"JAIBA",null,null,null,null,null,null,null,null,null,null,null,null,null,189,"BERRUGATILLO",null,"Bagre pinnimaculatus"]
[null,null,null,null,null,null,null,null,null,null,null,null,null,null,null,24,"CAMARON BRAVO",null,null,null,null,null,null,null,null,null,null,null,null,null,19,"JAIBA",null,"Portunus asper"]
[null,null,null,null,null,null,null,null,null,null,null,null,null,null,null,26,"ESTRELLA DE MAR",null,null,null,null,null,null,null,null,null,null,null,null,null,190,"BERRUGATE VERDE",null,"Cynosción spp."]
[null,null,null,null,null,null,null,null,null,null,null,null,null,null,null,29,"CALAMAR",null,null,null,null,null,null,null,null,null,null,null,null,null,191,"ROBALO",null,"Melongena patula"]
[null,null,null,null,null,null,null,null,null,null,null,null,null,null,null,32,"LIEBRE DE MAR",null,null,null,null,null,null,null,null,null,null,null,null,null,192,"GUALAJO",null,"Nebris occidentalis"]
[null,null,null,null,null,null,null,null,null,null,null,null,null,null,null,35,"TOLLO",null,null,null,null,null,null,null,null,null,null,null,null,null,194,"MACHETAJO",null,"Caranx spp."]
[null,null,null,null,null,null,null,null,null,null,null,null,null,null,null,38,"LENGUETA",null,null,null,null,null,null,null,null,null,null,null,null,null,195,"ALGUACIL MEDIANO",null,"Parapsettus panamensis"]
[null,null,null,null,null,null,null,null,null,null,null,null,null,null,null,40,"CARDUMA",null,null,null,null,null,null,null,null,null,null,null,null,null,196,"PELADA BLANCA",null,"Larimus argenteus"]
[null,null,null,null,null,null,null,null,null,null,null,null,null,null,null,43,"CURRUCA",null,null,null,null,null,null,null,null,null,null,null,null,null,197,"PATEBURRO",null,"Centropomus armatus"]
[null,null,null,null,null,null,null,null,null,null,null,null,null,null,null,46,"BOCON",null,null,null,null,null,null,null,null,null,null,null,null,null,198,"PELADA BOCONA",null,"Polydactylus opercularis"]
[null,null,null,null,null,null,null,null,null,null,null,null,null,null,null,49,"COLA DE RATON",null,null,null,null,null,null,null,null,null,null,null,null,null,2,"Acanthocarpus spp.",null,"CHORDATA"]
[null,null,null,null,null,null,null,null,null,null,null,null,null,null,null,52,"CAMOTILLO",null,null,null,null,null,null,null,null,null,null,null,null,null,20,"JAIBA",null,"Portunus iridescens"]
[null,null,null,null,null,null,null,null,null,null,null,null,null,null,null,54,"ANGUILA",null,null,null,null,null,null,null,null,null,null,null,null,null,200,"JUREL",null,"Squilla mantoidea"]
[null,null,null,null,null,null,null,null,null,null,null,null,null,null,null,57,"MERLUZA",null,null,null,null,null,null,null,null,null,null,null,null,null,201,"PALMA",null,"Opisthopterus spp."]
[null,null,null,null,null,null,null,null,null,null,null,null,null,null,null,60,"PERLA",null,null,null,null,null,null,null,null,null,null,null,null,null,202,"CAJERO",null,"Sphoeroides trichocephalus"]
[null,null,null,null,null,null,null,null,null,null,null,null,null,null,null,63,"LENGUADO",null,null,null,null,null,null,null,null,null,null,null,null,null,203,"GUALAJO",null,"Selar crumenophthalmus"]
[null,null,null,null,null,null,null,null,null,null,null,null,null,null,null,83,"LAGARTO",null,null,null,null,null,null,null,null,null,null,null,null,null,204,"BARBETA AMARILLA",null,"Lolliguncula panamensis"]
[null,null,null,null,null,null,null,null,null,null,null,null,null,null,null,86,"PEJEREY",null,null,null,null,null,null,null,null,null,null,null,null,null,205,"CAMARÓN BRAVO",null,"Diapterus aureolus"]
[null,null,null,null,null,null,null,null,null,null,null,null,null,null,null,89,"Aluterus monocerus",null,null,null,null,null,null,null,null,null,null,null,null,null,206,"MACHETE",null,"Daector dowi"]
[null,null,null,null,null,null,null,null,null,null,null,null,null,null,null,91,"PARGO PEQUEÑO",null,null,null,null,null,null,null,null,null,null,null,null,null,207,"TAMBORERO",null,"Stellifer mancorensis"]
[null,null,null,null,null,null,null,null,null,null,null,null,null,null,null,94,"ZAFIRILLO",null,null,null,null,null,null,null,null,null,null,null,null,null,208,"OJOGORDO",null,"Hepatus kossmanni"]
[null,null,null,null,null,null,null,null,null,null,null,null,null,null,null,98,"PARGO GRANDE",null,null,null,null,null,null,null,null,null,null,null,null,null,209,"Achirus mazatlanus",null,"CHORDATA"]
[null,null,null,null,null,null,null,null,null,null,null,null,null,null,null,101,"PELADA",null,null,null,null,null,null,null,null,null,null,null,null,null,21,"JAIBA",null,"Portunus xantusii"]
[null,null,null,null,null,null,null,null,null,null,null,null,null,null,null,104,"TITI",null,null,null,null,null,null,null,null,null,null,null,null,null,210,"MOJARRA",null,"Urotrygon aspidura"]
[null,null,null,null,null,null,null,null,null,null,null,null,null,null,null,106,"LOCA",null,null,null,null,null,null,null,null,null,null,null,null,null,211,"PEJESAPO",null,"Narcine spp."]
[null,null,null,null,null,null,null,null,null,null,null,null,null,null,null,109,"PALOMETA",null,null,null,null,null,null,null,null,null,null,null,null,null,212,"CORVINA",null,"Macrodon mordax"]
[null,null,null,null,null,null,null,null,null,null,null,null,null,null,null,1,"Acanthaxius caespitosa",null,null,null,null,null,null,null,null,null,null,null,null,null,213,"CANGREJO",null,"Cynoscion squamipinnis"]
[null,null,null,null,null,null,null,null,null,null,null,null,null,null,null,2,"Acanthocarpus spp.",null,null,null,null,null,null,null,null,null,null,null,null,null,214,"LENGUADO DERECHO"]
[null,null,null,null,null,null,null,null,null,null,null,null,null,null,null,3,"CANGREJO",null,null,null,null,null,null,null,null,null,null,null,null,null,215,"RAYA"]
[null,null,null,null,null,null,null,null,null,null,null,null,null,null,null,4,"CANGREJO",null,null,null,null,null,null,null,null,null,null,null,null,null,216,"RAYA"]
[null,null,null,null,null,null,null,null,null,null,null,null,null,null,null,5,"LANGOSTILLA",null,null,null,null,null,null,null,null,null,null,null,null,null,217,"PELADA DIENTONA"]
[null,null,null,null,null,null,null,null,null,null,null,null,null,null,null,6,"LANGOSTILLA",null,null,null,null,null,null,null,null,null,null,null,null,null,218,"PELADA"]
[null,null,null,null,null,null,null,null,null,null,null,null,null,null,null,7,"CAMARON BRAVO",null,null,null,null,null,null,null,null,null,null,null,null,null,219,"PESCADO PESA"]
[null,null,null,null,null,null,null,null,null,null,null,null,null,null,null,8,"CANGREJO ARAÑA",null,null,null,null,null,null,null,null,null,null,null,null,null,22,"COLIFLOR",null,"Solenocera agassizii"]
[null,null,null,null,null,null,null,null,null,null,null,null,null,null,null,9,"CANGREJO ARAÑA",null,null,null,null,null,null,null,null,null,null,null,null,null,220,"BOTELLONA"]
[null,null,null,null,null,null,null,null,null,null,null,null,null,null,null,10,"ERMITAÑO",null,null,null,null,null,null,null,null,null,null,null,null,null,221,"PELADA"]
[null,null,null,null,null,null,null,null,null,null,null,null,null,null,null,11,"CAMARON",null,null,null,null,null,null,null,null,null,null,null,null,null,222,"CAMARÓN POMADA"]
[null,null,null,null,null,null,null,null,null,null,null,null,null,null,null,12,"CANGREJO",null,null,null,null,null,null,null,null,null,null,null,null,null,223,"PENSAMIENTO DE MAR"]
[null,null,null,null,null,null,null,null,null,null,null,null,null,null,null,13,"CAMARON CABEZUDO",null,null,null,null,null,null,null,null,null,null,null,null,null,224,"CORVINA"]
[null,null,null,null,null,null,null,null,null,null,null,null,null,null,null,14,"CAMARON BRAVO",null,null,null,null,null,null,null,null,null,null,null,null,null,225,"CORVINA"]
[null,null,null,null,null,null,null,null,null,null,null,null,null,null,null,15,"CANGREJO",null,null,null,null,null,null,null,null,null,null,null,null,null,226,"PELADA"]
[null,null,null,null,null,null,null,null,null,null,null,null,null,null,null,16,"CAMARON",null,null,null,null,null,null,null,null,null,null,null,null,null,227,"PLUMUDA"]
[null,null,null,null,null,null,null,null,null,null,null,null,null,null,null,19,"JAIBA",null,null,null,null,null,null,null,null,null,null,null,null,null,228,"CAJERO"]
[null,null,null,null,null,null,null,null,null,null,null,null,null,null,null,20,"JAIBA",null,null,null,null,null,null,null,null,null,null,null,null,null,229,"CORVINA"]
[null,null,null,null,null,null,null,null,null,null,null,null,null,null,null,22,"COLIFLOR",null,null,null,null,null,null,null,null,null,null,null,null,null,23,"CAMARON BRAVO",null,"Squilla biformis"]
[null,null,null,null,null,null,null,null,null,null,null,null,null,null,null,23,"CAMARON BRAVO",null,null,null,null,null,null,null,null,null,null,null,null,null,230,"RASCAPALO"]
[null,null,null,null,null,null,null,null,null,null,null,null,null,null,null,25,"CAMARON PEÑERO",null,null,null,null,null,null,null,null,null,null,null,null,null,231,"MOJARRA"]
[null,null,null,null,null,null,null,null,null,null,null,null,null,null,null,27,"CALAMAR",null,null,null,null,null,null,null,null,null,null,null,null,null,232,"BOTELLONA"]
[null,null,null,null,null,null,null,null,null,null,null,null,null,null,null,28,"PULPO",null,null,null,null,null,null,null,null,null,null,null,null,null,233,"JAIBA"]
[null,null,null,null,null,null,null,null,null,null,null,null,null,null,null,30,"CARACOL",null,null,null,null,null,null,null,null,null,null,null,null,null,234,"ANCHOA"]
[null,null,null,null,null,null,null,null,null,null,null,null,null,null,null,31,"CARACOL",null,null,null,null,null,null,null,null,null,null,null,null,null,235,"LENGUADO DERECHO"]
[null,null,null,null,null,null,null,null,null,null,null,null,null,null,null,33,"PEJESAPO",null,null,null,null,null,null,null,null,null,null,null,null,null,236,"BOTELLONA"]
[null,null,null,null,null,null,null,null,null,null,null,null,null,null,null,34,"ESPEJUELO",null,null,null,null,null,null,null,null,null,null,null,null,null,237,"CACHUDA"]
[null,null,null,null,null,null,null,null,null,null,null,null,null,null,null,36,"COJINOBA",null,null,null,null,null,null,null,null,null,null,null,null,null,238,"CANCHIMALO"]
[null,null,null,null,null,null,null,null,null,null,null,null,null,null,null,37,"TIESO",null,null,null,null,null,null,null,null,null,null,null,null,null,239,"CORVINA"]
[null,null,null,null,null,null,null,null,null,null,null,null,null,null,null,39,"MALENCARADO",null,null,null,null,null,null,null,null,null,null,null,null,null,24,"CAMARON BRAVO",null,"Squilla panamensis"]
[null,null,null,null,null,null,null,null,null,null,null,null,null,null,null,41,"SAPITO",null,null,null,null,null,null,null,null,null,null,null,null,null,240,"CACHUDA"]
[null,null,null,null,null,null,null,null,null,null,null,null,null,null,null,42,"PEZ HACHA",null,null,null,null,null,null,null,null,null,null,null,null,null,241,"MACHETAJO"]
[null,null,null,null,null,null,null,null,null,null,null,null,null,null,null,44,"HOLOSAURO",null,null,null,null,null,null,null,null,null,null,null,null,null,242,"CAJERO"]
[null,null,null,null,null,null,null,null,null,null,null,null,null,null,null,45,"BOCON",null,null,null,null,null,null,null,null,null,null,null,null,null,243,"CURRUCA"]
[null,null,null,null,null,null,null,null,null,null,null,null,null,null,null,47,"PARGO LUNAREJO",null,null,null,null,null,null,null,null,null,null,null,null,null,244,"BOTELLONA"]
[null,null,null,null,null,null,null,null,null,null,null,null,null,null,null,48,"PARGO ROJO",null,null,null,null,null,null,null,null,null,null,null,null,null,245,"RASCAPALO"]
[null,null,null,null,null,null,null,null,null,null,null,null,null,null,null,50,"CABEZUDO",null,null,null,null,null,null,null,null,null,null,null,null,null,246,"CORVINA"]
[null,null,null,null,null,null,null,null,null,null,null,null,null,null,null,51,"CARBONERO DE FANGO",null,null,null,null,null,null,null,null,null,null,null,null,null,247,"CANCHIMALO"]
[null,null,null,null,null,null,null,null,null,null,null,null,null,null,null,53,"ZAFIRO",null,null,null,null,null,null,null,null,null,null,null,null,null,248,"CANCHIMALO"]
[null,null,null,null,null,null,null,null,null,null,null,null,null,null,null,55,"PEZ MURCIELAGO",null,null,null,null,null,null,null,null,null,null,null,null,null,249,"CANCHIMALO"]
[null,null,null,null,null,null,null,null,null,null,null,null,null,null,null,56,"CONGRIO",null,null,null,null,null,null,null,null,null,null,null,null,null,25,"CAMARON PEÑERO",null,"Sicyonia picta"]
[null,null,null,null,null,null,null,null,null,null,null,null,null,null,null,58,"PERLA",null,null,null,null,null,null,null,null,null,null,null,null,null,250,"INVERTEBRADO COMERCIAL"]
[null,null,null,null,null,null,null,null,null,null,null,null,null,null,null,59,"PERLA",null,null,null,null,null,null,null,null,null,null,null,null,null,252,"TOLLO"]
[null,null,null,null,null,null,null,null,null,null,null,null,null,null,null,61,"LENGUADO",null,null,null,null,null,null,null,null,null,null,null,null,null,253,"JUREL"]
[null,null,null,null,null,null,null,null,null,null,null,null,null,null,null,62,"LENGUADO",null,null,null,null,null,null,null,null,null,null,null,null,null,254,"BOTELLONA"]
[null,null,null,null,null,null,null,null,null,null,null,null,null,null,null,64,"LENGUADO",null,null,null,null,null,null,null,null,null,null,null,null,null,255,"TORTUGA GOLFINA",null,"Lepidochelys olivacea    "]
[null,null,null,null,null,null,null,null,null,null,null,null,null,null,null,65,"LENGUADO DE PUNTOS",null,null,null,null,null,null,null,null,null,null,null,null,null,256,"PARGO MUELON"]
[null,null,null,null,null,null,null,null,null,null,null,null,null,null,null,66,"MALARMADO",null,null,null,null,null,null,null,null,null,null,null,null,null,257,"MEDUSA"]
[null,null,null,null,null,null,null,null,null,null,null,null,null,null,null,67,"BARBETA BLANCA",null,null,null,null,null,null,null,null,null,null,null,null,null,258,"CORVINA"]
[null,null,null,null,null,null,null,null,null,null,null,null,null,null,null,68,"OJON",null,null,null,null,null,null,null,null,null,null,null,null,null,259,"MERO"]
[null,null,null,null,null,null,null,null,null,null,null,null,null,null,null,69,"GUITARRILLA",null,null,null,null,null,null,null,null,null,null,null,null,null,26,"ESTRELLA DE MAR",null,"Equinodermos"]
[null,null,null,null,null,null,null,null,null,null,null,null,null,null,null,70,"PELADILLA",null,null,null,null,null,null,null,null,null,null,null,null,null,260,"RAYA"]
[null,null,null,null,null,null,null,null,null,null,null,null,null,null,null,71,"CAJERO",null,null,null,null,null,null,null,null,null,null,null,null,null,261,"MEDUZA"]
[null,null,null,null,null,null,null,null,null,null,null,null,null,null,null,72,"BOTELLONA",null,null,null,null,null,null,null,null,null,null,null,null,null,262,"CAMARÓN BRAVO"]
[null,null,null,null,null,null,null,null,null,null,null,null,null,null,null,74,"PEJEDIABLO",null,null,null,null,null,null,null,null,null,null,null,null,null,263,"CANGREJO SP2"]
[null,null,null,null,null,null,null,null,null,null,null,null,null,null,null,75,"CAGUA",null,null,null,null,null,null,null,null,null,null,null,null,null,264,"CANGREJO SP3"]
[null,null,null,null,null,null,null,null,null,null,null,null,null,null,null,76,"CHERNA",null,null,null,null,null,null,null,null,null,null,null,null,null,265,"LISA"]
[null,null,null,null,null,null,null,null,null,null,null,null,null,null,null,77,"MERO",null,null,null,null,null,null,null,null,null,null,null,null,null,266,"PAMPANO"]
[null,null,null,null,null,null,null,null,null,null,null,null,null,null,null,78,"PARGO NYLON",null,null,null,null,null,null,null,null,null,null,null,null,null,267,"CAJERO"]
[null,null,null,null,null,null,null,null,null,null,null,null,null,null,null,79,"SERRANO OJON",null,null,null,null,null,null,null,null,null,null,null,null,null,268,"TOLLO"]
[null,null,null,null,null,null,null,null,null,null,null,null,null,null,null,80,"MANTECO",null,null,null,null,null,null,null,null,null,null,null,null,null,269,"PARGO COLIAMARILLO"]
[null,null,null,null,null,null,null,null,null,null,null,null,null,null,null,81,"MANTECO",null,null,null,null,null,null,null,null,null,null,null,null,null,27,"CALAMAR",null,"Loliolopsis diomedeae"]
[null,null,null,null,null,null,null,null,null,null,null,null,null,null,null,82,"LAGARTO",null,null,null,null,null,null,null,null,null,null,null,null,null,270,"PAMPANO"]
[null,null,null,null,null,null,null,null,null,null,null,null,null,null,null,84,"SABLE",null,null,null,null,null,null,null,null,null,null,null,null,null,271,"RASCAPALO"]
[null,null,null,null,null,null,null,null,null,null,null,null,null,null,null,85,"PEJEREY",null,null,null,null,null,null,null,null,null,null,null,null,null,272,"COMEGARGAJO"]
[null,null,null,null,null,null,null,null,null,null,null,null,null,null,null,87,"BULDOG",null,null,null,null,null,null,null,null,null,null,null,null,null,273,"LENGUADO DERECHO"]
[null,null,null,null,null,null,null,null,null,null,null,null,null,null,null,88,"BLANCO",null,null,null,null,null,null,null,null,null,null,null,null,null,274,"TAMBORERO"]
[null,null,null,null,null,null,null,null,null,null,null,null,null,null,null,90,"MERITO",null,null,null,null,null,null,null,null,null,null,null,null,null,275,"ÑATO"]
[null,null,null,null,null,null,null,null,null,null,null,null,null,null,null,92,"PARGO REVUELTO",null,null,null,null,null,null,null,null,null,null,null,null,null,276,"MACHETE"]
[null,null,null,null,null,null,null,null,null,null,null,null,null,null,null,93,"TOLLO Y RAYA",null,null,null,null,null,null,null,null,null,null,null,null,null,277,"CORVINA"]
[null,null,null,null,null,null,null,null,null,null,null,null,null,null,null,95,"ALGUACIL",null,null,null,null,null,null,null,null,null,null,null,null,null,278,"CARACOL"]
[null,null,null,null,null,null,null,null,null,null,null,null,null,null,null,96,"BERRUGATE",null,null,null,null,null,null,null,null,null,null,null,null,null,279,"PELADA"]
[null,null,null,null,null,null,null,null,null,null,null,null,null,null,null,99,"CORVINA",null,null,null,null,null,null,null,null,null,null,null,null,null,28,"PULPO",null,"Octopus spp."]
[null,null,null,null,null,null,null,null,null,null,null,null,null,null,null,100,"ÑATO",null,null,null,null,null,null,null,null,null,null,null,null,null,280,"COMEGARGAJO"]
[null,null,null,null,null,null,null,null,null,null,null,null,null,null,null,102,"SIERRA",null,null,null,null,null,null,null,null,null,null,null,null,null,281,"CURRUCA"]
[null,null,null,null,null,null,null,null,null,null,null,null,null,null,null,103,"SIERRILLA",null,null,null,null,null,null,null,null,null,null,null,null,null,282,"PEJEREY"]
[null,null,null,null,null,null,null,null,null,null,null,null,null,null,null,105,"BARBINCHE",null,null,null,null,null,null,null,null,null,null,null,null,null,283,"RAYA"]
[null,null,null,null,null,null,null,null,null,null,null,null,null,null,null,107,"Anchoa spp.",null,null,null,null,null,null,null,null,null,null,null,null,null,284,"RANFAÑA"]
[null,null,null,null,null,null,null,null,null,null,null,null,null,null,null,108,"PLUMUDA",null,null,null,null,null,null,null,null,null,null,null,null,null,285,"CURRUCA"]
[null,null,null,null,null,null,null,null,null,null,null,null,null,null,null,111,"LENGUADO",null,null,null,null,null,null,null,null,null,null,null,null,null,287,"TAMBORERO"]
[null,null,null,null,null,null,null,null,null,null,null,null,null,null,null,112,"MERLUZA PANAMEÑA",null,null,null,null,null,null,null,null,null,null,null,null,null,289,"RAYA"]
[null,null,null,null,null,null,null,null,null,null,null,null,null,null,null,114,"GUSANO DE FUEGO",null,null,null,null,null,null,null,null,null,null,null,null,null,29,"CALAMAR",null,"Sthenoteuthis oualaniensis"]
[null,null,null,null,null,null,null,null,null,null,null,null,null,null,null,115,"OJIVERDES",null,null,null,null,null,null,null,null,null,null,null,null,null,290,"JAIBA"]
[null,null,null,null,null,null,null,null,null,null,null,null,null,null,null,119,"GUITARRILLA",null,null,null,null,null,null,null,null,null,null,null,null,null,291,"BOTELLONA"]
[null,null,null,null,null,null,null,null,null,null,null,null,null,null,null,120,"CARECABALLO",null,null,null,null,null,null,null,null,null,null,null,null,null,292,"PELADA PEQUEÑA"]
[null,null,null,null,null,null,null,null,null,null,null,null,null,null,null,123,"PICUDA",null,null,null,null,null,null,null,null,null,null,null,null,null,293,"CHERNILLA"]
[null,null,null,null,null,null,null,null,null,null,null,null,null,null,null,125,"MERO",null,null,null,null,null,null,null,null,null,null,null,null,null,294,"BELLATOR        "]
[null,null,null,null,null,null,null,null,null,null,null,null,null,null,null,126,"PARGO",null,null,null,null,null,null,null,null,null,null,null,null,null,297,"AGUJA"]
[null,null,null,null,null,null,null,null,null,null,null,null,null,null,null,135,"RAYA",null,null,null,null,null,null,null,null,null,null,null,null,null,298,"PELADA"]
[null,null,null,null,null,null,null,null,null,null,null,null,null,null,null,136,"CHOCOLATE",null,null,null,null,null,null,null,null,null,null,null,null,null,299,"LENGUADO PEQUEÑO"]
[null,null,null,null,null,null,null,null,null,null,null,null,null,null,null,138,"PARGO PLATERO",null,null,null,null,null,null,null,null,null,null,null,null,null,3,"CANGREJO",null,"Cancer spp."]
[null,null,null,null,null,null,null,null,null,null,null,null,null,null,null,139,"ÑATICO",null,null,null,null,null,null,null,null,null,null,null,null,null,30,"CARACOL",null,"Cochlespira cedonulli"]
[null,null,null,null,null,null,null,null,null,null,null,null,null,null,null,141,"PESCADO GRUESO",null,null,null,null,null,null,null,null,null,null,null,null,null,300,"MERLUCILLA"]
[null,null,null,null,null,null,null,null,null,null,null,null,null,null,null,142,"PESCADO MENUDO",null,null,null,null,null,null,null,null,null,null,null,null,null,301,"BOTALLONA"]
[null,null,null,null,null,null,null,null,null,null,null,null,null,null,null,144,"PESCADO MENUDO",null,null,null,null,null,null,null,null,null,null,null,null,null,302,"CURRUCA"]
[null,null,null,null,null,null,null,null,null,null,null,null,null,null,null,145,"PESCADO GRUESO",null,null,null,null,null,null,null,null,null,null,null,null,null,303,"BAGRE"]
[null,null,null,null,null,null,null,null,null,null,null,null,null,null,null,146,"Antennarius avolonis",null,null,null,null,null,null,null,null,null,null,null,null,null,304,"PALMA"]
[null,null,null,null,null,null,null,null,null,null,null,null,null,null,null,147,"Astropecten spp.",null,null,null,null,null,null,null,null,null,null,null,null,null,305,"PAMPANO"]
[null,null,null,null,null,null,null,null,null,null,null,null,null,null,null,148,"CENTOLLA",null,null,null,null,null,null,null,null,null,null,null,null,null,306,"PAMPANO"]
[null,null,null,null,null,null,null,null,null,null,null,null,null,null,null,149,"CANGREJO",null,null,null,null,null,null,null,null,null,null,null,null,null,307,"ANGULA"]
[null,null,null,null,null,null,null,null,null,null,null,null,null,null,null,150,"PESCADOR",null,null,null,null,null,null,null,null,null,null,null,null,null,308,"CARACOL"]
[null,null,null,null,null,null,null,null,null,null,null,null,null,null,null,151,"ESTRELLA DE MAR",null,null,null,null,null,null,null,null,null,null,null,null,null,309,"RAYA"]
[null,null,null,null,null,null,null,null,null,null,null,null,null,null,null,152,"CANGREJO",null,null,null,null,null,null,null,null,null,null,null,null,null,31,"CARACOL",null,"Hindsiclava resina"]
[null,null,null,null,null,null,null,null,null,null,null,null,null,null,null,153,"CANGREJO",null,null,null,null,null,null,null,null,null,null,null,null,null,310,"CACHUDA"]
[null,null,null,null,null,null,null,null,null,null,null,null,null,null,null,154,"ESTRELLA DE MAR",null,null,null,null,null,null,null,null,null,null,null,null,null,311,"GUITARRILLA"]
[null,null,null,null,null,null,null,null,null,null,null,null,null,null,null,155,"CARACOL",null,null,null,null,null,null,null,null,null,null,null,null,null,312,"PAMPANO"]
[null,null,null,null,null,null,null,null,null,null,null,null,null,null,null,156,"PEZ VOLADOR",null,null,null,null,null,null,null,null,null,null,null,null,null,313,"RAYA MARIPOSA"]
[null,null,null,null,null,null,null,null,null,null,null,null,null,null,null,308,"CARACOL",null,null,null,null,null,null,null,null,null,null,null,null,null,314,"RAYA"]
[null,null,null,null,null,null,null,null,null,null,null,null,null,null,null,158,"SAPITO",null,null,null,null,null,null,null,null,null,null,null,null,null,315,"CURRUCA"]
[null,null,null,null,null,null,null,null,null,null,null,null,null,null,null,159,"LENGUADO",null,null,null,null,null,null,null,null,null,null,null,null,null,316,"PEZ JABÓN"]
[null,null,null,null,null,null,null,null,null,null,null,null,null,null,null,160,"CARACOL",null,null,null,null,null,null,null,null,null,null,null,null,null,317,"TAMBORERO"]
[null,null,null,null,null,null,null,null,null,null,null,null,null,null,null,161,"ANGELOTE",null,null,null,null,null,null,null,null,null,null,null,null,null,318,"BOTELLONA"]
[null,null,null,null,null,null,null,null,null,null,null,null,null,null,null,162,"ERMITAÑO",null,null,null,null,null,null,null,null,null,null,null,null,null,319,"LANGOSTA ZAPATERA"]
[null,null,null,null,null,null,null,null,null,null,null,null,null,null,null,164,"CARACOL",null,null,null,null,null,null,null,null,null,null,null,null,null,32,"LIEBRE DE MAR",null,"Opistobranchia spp."]
[null,null,null,null,null,null,null,null,null,null,null,null,null,null,null,165,"CANGREJO ARAÑA",null,null,null,null,null,null,null,null,null,null,null,null,null,320,"PARGO"]
[null,null,null,null,null,null,null,null,null,null,null,null,null,null,null,167,"PEJEREY",null,null,null,null,null,null,null,null,null,null,null,null,null,321,"PAMPANO"]
[null,null,null,null,null,null,null,null,null,null,null,null,null,null,null,168,"CABALLA",null,null,null,null,null,null,null,null,null,null,null,null,null,322,"PEJEPUERCO"]
[null,null,null,null,null,null,null,null,null,null,null,null,null,null,null,170,"CARACOL",null,null,null,null,null,null,null,null,null,null,null,null,null,323,"PEZ TRONPETA"]
[null,null,null,null,null,null,null,null,null,null,null,null,null,null,null,171,"PEJEREY",null,null,null,null,null,null,null,null,null,null,null,null,null,324,"LENGUADO"]
[null,null,null,null,null,null,null,null,null,null,null,null,null,null,null,173,"CAMARÓN PEÑERO",null,null,null,null,null,null,null,null,null,null,null,null,null,325,"CAMARON PEÑERO"]
[null,null,null,null,null,null,null,null,null,null,null,null,null,null,null,174,"PEPINO DE MAR",null,null,null,null,null,null,null,null,null,null,null,null,null,326,"PEJESAPO"]
[null,null,null,null,null,null,null,null,null,null,null,null,null,null,null,176,"PEJEREY",null,null,null,null,null,null,null,null,null,null,null,null,null,327,"TANBORERO"]
[null,null,null,null,null,null,null,null,null,null,null,null,null,null,null,178,"CHERNA",null,null,null,null,null,null,null,null,null,null,null,null,null,328,"ALMEJA ROSADA"]
[null,null,null,null,null,null,null,null,null,null,null,null,null,null,null,179,"Argentina aliceae",null,null,null,null,null,null,null,null,null,null,null,null,null,329,"ANCHOA"]
[null,null,null,null,null,null,null,null,null,null,null,null,null,null,null,181,"CURRUCA",null,null,null,null,null,null,null,null,null,null,null,null,null,33,"PEJESAPO",null,"Porichthys margaritatus"]
[null,null,null,null,null,null,null,null,null,null,null,null,null,null,null,182,"ARGENTINA",null,null,null,null,null,null,null,null,null,null,null,null,null,330,"LENGUADO DERECHO"]
[null,null,null,null,null,null,null,null,null,null,null,null,null,null,null,184,"RAYA",null,null,null,null,null,null,null,null,null,null,null,null,null,331,"CONCHA ROSADA"]
[null,null,null,null,null,null,null,null,null,null,null,null,null,null,null,186,"TIGRE",null,null,null,null,null,null,null,null,null,null,null,null,null,332,"CONCHA"]
[null,null,null,null,null,null,null,null,null,null,null,null,null,null,null,188,"BERRUGATE MEDIANO",null,null,null,null,null,null,null,null,null,null,null,null,null,333,"TANBORERO"]
[null,null,null,null,null,null,null,null,null,null,null,null,null,null,null,189,"BERRUGATILLO",null,null,null,null,null,null,null,null,null,null,null,null,null,334,"BOCON COLA LARGA"]
[null,null,null,null,null,null,null,null,null,null,null,null,null,null,null,191,"ROBALO",null,null,null,null,null,null,null,null,null,null,null,null,null,335,"GUALLAIPE"]
[null,null,null,null,null,null,null,null,null,null,null,null,null,null,null,195,"ALGUACIL MEDIANO",null,null,null,null,null,null,null,null,null,null,null,null,null,336,"MORENA"]
[null,null,null,null,null,null,null,null,null,null,null,null,null,null,null,196,"PELADA BLANCA",null,null,null,null,null,null,null,null,null,null,null,null,null,337,"TORTUGA DE MAR"]
[null,null,null,null,null,null,null,null,null,null,null,null,null,null,null,198,"PELADA BOCONA",null,null,null,null,null,null,null,null,null,null,null,null,null,338,"LENGUADO"]
[null,null,null,null,null,null,null,null,null,null,null,null,null,null,null,200,"JUREL",null,null,null,null,null,null,null,null,null,null,null,null,null,339,"LENGUADO"]
[null,null,null,null,null,null,null,null,null,null,null,null,null,null,null,202,"CAJERO",null,null,null,null,null,null,null,null,null,null,null,null,null,34,"ESPEJUELO",null,"Selene peruviana"]
[null,null,null,null,null,null,null,null,null,null,null,null,null,null,null,203,"GUALAJO",null,null,null,null,null,null,null,null,null,null,null,null,null,340,"PEJEREY"]
[null,null,null,null,null,null,null,null,null,null,null,null,null,null,null,205,"CAMARÓN BRAVO",null,null,null,null,null,null,null,null,null,null,null,null,null,341,"GOBIO","70.55.2016"]
[null,null,null,null,null,null,null,null,null,null,null,null,null,null,null,206,"MACHETE",null,null,null,null,null,null,null,null,null,null,null,null,null,342,"PALOMETA"]
[null,null,null,null,null,null,null,null,null,null,null,null,null,null,null,208,"OJOGORDO",null,null,null,null,null,null,null,null,null,null,null,null,null,343,"CANGREJO"]
[null,null,null,null,null,null,null,null,null,null,null,null,null,null,null,210,"MOJARRA",null,null,null,null,null,null,null,null,null,null,null,null,null,344,"CANGREJO"]
[null,null,null,null,null,null,null,null,null,null,null,null,null,null,null,211,"PEJESAPO",null,null,null,null,null,null,null,null,null,null,null,null,null,345,"LENGUETA"]
[null,null,null,null,null,null,null,null,null,null,null,null,null,null,null,213,"CANGREJO",null,null,null,null,null,null,null,null,null,null,null,null,null,346,"TRAGON"]
[null,null,null,null,null,null,null,null,null,null,null,null,null,null,null,214,"LENGUADO DERECHO",null,null,null,null,null,null,null,null,null,null,null,null,null,347,"LANGOSTILLA"]
[null,null,null,null,null,null,null,null,null,null,null,null,null,null,null,215,"RAYA",null,null,null,null,null,null,null,null,null,null,null,null,null,348,"TIESO AMARILLO"]
[null,null,null,null,null,null,null,null,null,null,null,null,null,null,null,216,"RAYA",null,null,null,null,null,null,null,null,null,null,null,null,null,349,"TIESO"]
[null,null,null,null,null,null,null,null,null,null,null,null,null,null,null,217,"PELADA DIENTONA",null,null,null,null,null,null,null,null,null,null,null,null,null,35,"TOLLO",null,"Carcharhinus spp."]
[null,null,null,null,null,null,null,null,null,null,null,null,null,null,null,218,"PELADA",null,null,null,null,null,null,null,null,null,null,null,null,null,350,"BAGRE MEDIANO"]
[null,null,null,null,null,null,null,null,null,null,null,null,null,null,null,219,"PESCADO PESA",null,null,null,null,null,null,null,null,null,null,null,null,null,351,"PARGO DIENTON"]
[null,null,null,null,null,null,null,null,null,null,null,null,null,null,null,220,"BOTELLONA",null,null,null,null,null,null,null,null,null,null,null,null,null,352,"PEZ HUEVO"]
[null,null,null,null,null,null,null,null,null,null,null,null,null,null,null,221,"PELADA",null,null,null,null,null,null,null,null,null,null,null,null,null,353,"JURELILLO"]
[null,null,null,null,null,null,null,null,null,null,null,null,null,null,null,222,"CAMARÓN POMADA",null,null,null,null,null,null,null,null,null,null,null,null,null,354,"JUREL DORADO"]
[null,null,null,null,null,null,null,null,null,null,null,null,null,null,null,223,"PENSAMIENTO DE MAR",null,null,null,null,null,null,null,null,null,null,null,null,null,355,"MACHETE"]
[null,null,null,null,null,null,null,null,null,null,null,null,null,null,null,224,"CORVINA",null,null,null,null,null,null,null,null,null,null,null,null,null,356,"PEZ PLATA"]
[null,null,null,null,null,null,null,null,null,null,null,null,null,null,null,225,"CORVINA",null,null,null,null,null,null,null,null,null,null,null,null,null,357,"PELADILLA DE PROFUNDIDAD"]
[null,null,null,null,null,null,null,null,null,null,null,null,null,null,null,226,"PELADA",null,null,null,null,null,null,null,null,null,null,null,null,null,358,"CAMARÓN PEÑERO"]
[null,null,null,null,null,null,null,null,null,null,null,null,null,null,null,227,"PLUMUDA",null,null,null,null,null,null,null,null,null,null,null,null,null,359,"COLA DE RATÓN"]
[null,null,null,null,null,null,null,null,null,null,null,null,null,null,null,228,"CAJERO",null,null,null,null,null,null,null,null,null,null,null,null,null,36,"COJINOBA",null,"Schedophilus haedrichi"]
[null,null,null,null,null,null,null,null,null,null,null,null,null,null,null,229,"CORVINA",null,null,null,null,null,null,null,null,null,null,null,null,null,360,"LENGUETA"]
[null,null,null,null,null,null,null,null,null,null,null,null,null,null,null,230,"RASCAPALO",null,null,null,null,null,null,null,null,null,null,null,null,null,361,"CAMARÓN PEÑERO"]
[null,null,null,null,null,null,null,null,null,null,null,null,null,null,null,231,"MOJARRA",null,null,null,null,null,null,null,null,null,null,null,null,null,362,"PARGO ROQUERO"]
[null,null,null,null,null,null,null,null,null,null,null,null,null,null,null,232,"BOTELLONA",null,null,null,null,null,null,null,null,null,null,null,null,null,37,"TIESO",null,"Rhynchoconger nitens"]
[null,null,null,null,null,null,null,null,null,null,null,null,null,null,null,233,"JAIBA",null,null,null,null,null,null,null,null,null,null,null,null,null,370,"PICUDA"]
[null,null,null,null,null,null,null,null,null,null,null,null,null,null,null,234,"ANCHOA",null,null,null,null,null,null,null,null,null,null,null,null,null,371,"SARDINA"]
[null,null,null,null,null,null,null,null,null,null,null,null,null,null,null,235,"LENGUADO DERECHO",null,null,null,null,null,null,null,null,null,null,null,null,null,372,"SARDINA"]
[null,null,null,null,null,null,null,null,null,null,null,null,null,null,null,236,"BOTELLONA",null,null,null,null,null,null,null,null,null,null,null,null,null,373,"SARDINAS"]
[null,null,null,null,null,null,null,null,null,null,null,null,null,null,null,237,"CACHUDA",null,null,null,null,null,null,null,null,null,null,null,null,null,374,"TAMBORERO"]
[null,null,null,null,null,null,null,null,null,null,null,null,null,null,null,238,"CANCHIMALO",null,null,null,null,null,null,null,null,null,null,null,null,null,375,"MOJARRA"]
[null,null,null,null,null,null,null,null,null,null,null,null,null,null,null,239,"CORVINA",null,null,null,null,null,null,null,null,null,null,null,null,null,376,"LENGUADO"]
[null,null,null,null,null,null,null,null,null,null,null,null,null,null,null,240,"CACHUDA",null,null,null,null,null,null,null,null,null,null,null,null,null,377,"JUREL"]
[null,null,null,null,null,null,null,null,null,null,null,null,null,null,null,241,"MACHETAJO",null,null,null,null,null,null,null,null,null,null,null,null,null,378,"MERO"]
[null,null,null,null,null,null,null,null,null,null,null,null,null,null,null,242,"CAJERO",null,null,null,null,null,null,null,null,null,null,null,null,null,379,"JAIBA"]
[null,null,null,null,null,null,null,null,null,null,null,null,null,null,null,243,"CURRUCA",null,null,null,null,null,null,null,null,null,null,null,null,null,38,"LENGUETA",null,"Symphurus spp."]
[null,null,null,null,null,null,null,null,null,null,null,null,null,null,null,244,"BOTELLONA",null,null,null,null,null,null,null,null,null,null,null,null,null,380,"TAMBORERO"]
[null,null,null,null,null,null,null,null,null,null,null,null,null,null,null,245,"RASCAPALO",null,null,null,null,null,null,null,null,null,null,null,null,null,381,"RAYA ELECTRICA"]
[null,null,null,null,null,null,null,null,null,null,null,null,null,null,null,246,"CORVINA",null,null,null,null,null,null,null,null,null,null,null,null,null,382,"LENGUADO"]
[null,null,null,null,null,null,null,null,null,null,null,null,null,null,null,247,"CANCHIMALO",null,null,null,null,null,null,null,null,null,null,null,null,null,383,"COLIFLOR"]
[null,null,null,null,null,null,null,null,null,null,null,null,null,null,null,248,"CANCHIMALO",null,null,null,null,null,null,null,null,null,null,null,null,null,384,"CARACOL"]
[null,null,null,null,null,null,null,null,null,null,null,null,null,null,null,249,"CANCHIMALO",null,null,null,null,null,null,null,null,null,null,null,null,null,385,"MOJARRA"]
[null,null,null,null,null,null,null,null,null,null,null,null,null,null,null,250,"INVERTEBRADO COMERCIAL",null,null,null,null,null,null,null,null,null,null,null,null,null,386,"RAYA GUITARRA"]
[null,null,null,null,null,null,null,null,null,null,null,null,null,null,null,252,"TOLLO",null,null,null,null,null,null,null,null,null,null,null,null,null,387,"LOCA"]
[null,null,null,null,null,null,null,null,null,null,null,null,null,null,null,253,"JUREL",null,null,null,null,null,null,null,null,null,null,null,null,null,388,"PARGO LUNAREJO PEQUEÑO"]
[null,null,null,null,null,null,null,null,null,null,null,null,null,null,null,254,"BOTELLONA",null,null,null,null,null,null,null,null,null,null,null,null,null,389,"GUITARRILLA"]
[null,null,null,null,null,null,null,null,null,null,null,null,null,null,null,255,"TORTUGA GOLFINA",null,null,null,null,null,null,null,null,null,null,null,null,null,39,"MALENCARADO",null,"Diretmoides spp."]
[null,null,null,null,null,null,null,null,null,null,null,null,null,null,null,256,"PARGO MUELON",null,null,null,null,null,null,null,null,null,null,null,null,null,390,"CARACOL"]
[null,null,null,null,null,null,null,null,null,null,null,null,null,null,null,257,"MEDUSA",null,null,null,null,null,null,null,null,null,null,null,null,null,391,"CACHUDA"]
[null,null,null,null,null,null,null,null,null,null,null,null,null,null,null,258,"CORVINA",null,null,null,null,null,null,null,null,null,null,null,null,null,392,"MACHETAJO"]
[null,null,null,null,null,null,null,null,null,null,null,null,null,null,null,259,"MERO",null,null,null,null,null,null,null,null,null,null,null,null,null,393,"PARGO"]
[null,null,null,null,null,null,null,null,null,null,null,null,null,null,null,260,"RAYA",null,null,null,null,null,null,null,null,null,null,null,null,null,394,"TORPEDO"]
[null,null,null,null,null,null,null,null,null,null,null,null,null,null,null,261,"MEDUZA",null,null,null,null,null,null,null,null,null,null,null,null,null,395,"LISON"]
[null,null,null,null,null,null,null,null,null,null,null,null,null,null,null,262,"CAMARÓN BRAVO",null,null,null,null,null,null,null,null,null,null,null,null,null,396,"PARGO AMARILLO"]
[null,null,null,null,null,null,null,null,null,null,null,null,null,null,null,263,"CANGREJO SP2",null,null,null,null,null,null,null,null,null,null,null,null,null,397,"CARBONERO DE FANGO"]
[null,null,null,null,null,null,null,null,null,null,null,null,null,null,null,264,"CANGREJO SP3",null,null,null,null,null,null,null,null,null,null,null,null,null,398,"GUEREGUERE"]
[null,null,null,null,null,null,null,null,null,null,null,null,null,null,null,265,"LISA",null,null,null,null,null,null,null,null,null,null,null,null,null,399,"OJON"]
[null,null,null,null,null,null,null,null,null,null,null,null,null,null,null,266,"PAMPANO",null,null,null,null,null,null,null,null,null,null,null,null,null,4,"CANGREJO",null,"Ethusa ciliatifrons"]
[null,null,null,null,null,null,null,null,null,null,null,null,null,null,null,267,"CAJERO",null,null,null,null,null,null,null,null,null,null,null,null,null,40,"CARDUMA",null,"Cetengraulis mysticetus"]
[null,null,null,null,null,null,null,null,null,null,null,null,null,null,null,268,"TOLLO",null,null,null,null,null,null,null,null,null,null,null,null,null,400,"BURIQUE"]
[null,null,null,null,null,null,null,null,null,null,null,null,null,null,null,269,"PARGO COLIAMARILLO",null,null,null,null,null,null,null,null,null,null,null,null,null,401,"PEZ JABON"]
[null,null,null,null,null,null,null,null,null,null,null,null,null,null,null,270,"PAMPANO",null,null,null,null,null,null,null,null,null,null,null,null,null,402,"MERO GRANDE"]
[null,null,null,null,null,null,null,null,null,null,null,null,null,null,null,271,"RASCAPALO",null,null,null,null,null,null,null,null,null,null,null,null,null,403,"BAGRE PEQUEÑO"]
[null,null,null,null,null,null,null,null,null,null,null,null,null,null,null,272,"COMEGARGAJO",null,null,null,null,null,null,null,null,null,null,null,null,null,404,"PAMPANO PEQUEÑO"]
[null,null,null,null,null,null,null,null,null,null,null,null,null,null,null,273,"LENGUADO DERECHO",null,null,null,null,null,null,null,null,null,null,null,null,null,405,"ANGUILLA"]
[null,null,null,null,null,null,null,null,null,null,null,null,null,null,null,274,"TAMBORERO",null,null,null,null,null,null,null,null,null,null,null,null,null,406,"HERMINTAÑO DE PALITO"]
[null,null,null,null,null,null,null,null,null,null,null,null,null,null,null,275,"ÑATO",null,null,null,null,null,null,null,null,null,null,null,null,null,407,"MADURITO"]
[null,null,null,null,null,null,null,null,null,null,null,null,null,null,null,276,"MACHETE",null,null,null,null,null,null,null,null,null,null,null,null,null,408,"LENGUDITO"]
[null,null,null,null,null,null,null,null,null,null,null,null,null,null,null,277,"CORVINA",null,null,null,null,null,null,null,null,null,null,null,null,null,409,"PEZ COLINEGRO"]
[null,null,null,null,null,null,null,null,null,null,null,null,null,null,null,278,"CARACOL",null,null,null,null,null,null,null,null,null,null,null,null,null,41,"SAPITO",null,"Gobiidae spp."]
[null,null,null,null,null,null,null,null,null,null,null,null,null,null,null,279,"PELADA",null,null,null,null,null,null,null,null,null,null,null,null,null,410,"CONCHUDO"]
[null,null,null,null,null,null,null,null,null,null,null,null,null,null,null,280,"COMEGARGAJO",null,null,null,null,null,null,null,null,null,null,null,null,null,411,"PEZ NEGRO"]
[null,null,null,null,null,null,null,null,null,null,null,null,null,null,null,281,"CURRUCA",null,null,null,null,null,null,null,null,null,null,null,null,null,412,"PEZ ESCAOSO"]
[null,null,null,null,null,null,null,null,null,null,null,null,null,null,null,282,"PEJEREY",null,null,null,null,null,null,null,null,null,null,null,null,null,413,"CANGREJO"]
[null,null,null,null,null,null,null,null,null,null,null,null,null,null,null,283,"RAYA",null,null,null,null,null,null,null,null,null,null,null,null,null,414,"PESCADO DE OJOS VERDES"]
[null,null,null,null,null,null,null,null,null,null,null,null,null,null,null,294,"BELLATOR        ",null,null,null,null,null,null,null,null,null,null,null,null,null,415,"CAMARÓN ROSADO"]
[null,null,null,null,null,null,null,null,null,null,null,null,null,null,null,284,"RANFAÑA",null,null,null,null,null,null,null,null,null,null,null,null,null,416,"LENGUADO CON LUNARES"]
[null,null,null,null,null,null,null,null,null,null,null,null,null,null,null,285,"CURRUCA",null,null,null,null,null,null,null,null,null,null,null,null,null,417,"CANGREJO"]
[null,null,null,null,null,null,null,null,null,null,null,null,null,null,null,287,"TAMBORERO",null,null,null,null,null,null,null,null,null,null,null,null,null,418,"PARGO PLATERO PEQUEÑO"]
[null,null,null,null,null,null,null,null,null,null,null,null,null,null,null,289,"RAYA",null,null,null,null,null,null,null,null,null,null,null,null,null,419,"PANPANO PLATIADO"]
[null,null,null,null,null,null,null,null,null,null,null,null,null,null,null,290,"JAIBA",null,null,null,null,null,null,null,null,null,null,null,null,null,42,"PEZ HACHA",null,"Yarrella spp."]
[null,null,null,null,null,null,null,null,null,null,null,null,null,null,null,291,"BOTELLONA",null,null,null,null,null,null,null,null,null,null,null,null,null,420,"SAFIRO"]
[null,null,null,null,null,null,null,null,null,null,null,null,null,null,null,292,"PELADA PEQUEÑA",null,null,null,null,null,null,null,null,null,null,null,null,null,421,"BLANQUILLO"]
[null,null,null,null,null,null,null,null,null,null,null,null,null,null,null,361,"CAMARÓN PEÑERO",null,null,null,null,null,null,null,null,null,null,null,null,null,422,"LENGUADO"]
[null,null,null,null,null,null,null,null,null,null,null,null,null,null,null,293,"CHERNILLA",null,null,null,null,null,null,null,null,null,null,null,null,null,423,"LENGUADO RIBETE"]
[null,null,null,null,null,null,null,null,null,null,null,null,null,null,null,298,"PELADA",null,null,null,null,null,null,null,null,null,null,null,null,null,424,"ANCHOA OJITOS"]
[null,null,null,null,null,null,null,null,null,null,null,null,null,null,null,129,"LAPIZ DE MAR",null,null,null,null,null,null,null,null,null,null,null,null,null,425,"LENGUADO"]
[null,null,null,null,null,null,null,null,null,null,null,null,null,null,null,130,"BLANCO",null,null,null,null,null,null,null,null,null,null,null,null,null,426,"LENGUADO"]
[null,null,null,null,null,null,null,null,null,null,null,null,null,null,null,131,"CURRUCA",null,null,null,null,null,null,null,null,null,null,null,null,null,427,"SARDINA"]
[null,null,null,null,null,null,null,null,null,null,null,null,null,null,null,132,"JAIBA",null,null,null,null,null,null,null,null,null,null,null,null,null,428,"GOBIO BACON"]
[null,null,null,null,null,null,null,null,null,null,null,null,null,null,null,185,"LANGOSTA",null,null,null,null,null,null,null,null,null,null,null,null,null,429,"SAPO"]
[null,null,null,null,null,null,null,null,null,null,null,null,null,null,null,192,"GUALAJO",null,null,null,null,null,null,null,null,null,null,null,null,null,43,"CURRUCA",null,"Haemulopsis elongatus"]
[null,null,null,null,null,null,null,null,null,null,null,null,null,null,null,297,"AGUJA",null,null,null,null,null,null,null,null,null,null,null,null,null,430,"GUALAJILLO"]
[null,null,null,null,null,null,null,null,null,null,null,null,null,null,null,299,"LENGUADO PEQUEÑO",null,null,null,null,null,null,null,null,null,null,null,null,null,431,"PELADA AMARILLA"]
[null,null,null,null,null,null,null,null,null,null,null,null,null,null,null,300,"MERLUCILLA",null,null,null,null,null,null,null,null,null,null,null,null,null,432,"PELADA BLANCA MEDIANA"]
[null,null,null,null,null,null,null,null,null,null,null,null,null,null,null,301,"BOTALLONA",null,null,null,null,null,null,null,null,null,null,null,null,null,433,"PELADA DE ALTURA"]
[null,null,null,null,null,null,null,null,null,null,null,null,null,null,null,302,"CURRUCA",null,null,null,null,null,null,null,null,null,null,null,null,null,434,"SIERRILLA PEQUEÑA"]
[null,null,null,null,null,null,null,null,null,null,null,null,null,null,null,303,"BAGRE",null,null,null,null,null,null,null,null,null,null,null,null,null,435,"FLOTADOR"]
[null,null,null,null,null,null,null,null,null,null,null,null,null,null,null,304,"PALMA",null,null,null,null,null,null,null,null,null,null,null,null,null,436,"MERO PEQUEÑO"]
[null,null,null,null,null,null,null,null,null,null,null,null,null,null,null,305,"PAMPANO",null,null,null,null,null,null,null,null,null,null,null,null,null,437,"PEZ AGUJA"]
[null,null,null,null,null,null,null,null,null,null,null,null,null,null,null,306,"PAMPANO",null,null,null,null,null,null,null,null,null,null,null,null,null,438,"CORNETA"]
[null,null,null,null,null,null,null,null,null,null,null,null,null,null,null,307,"ANGULA",null,null,null,null,null,null,null,null,null,null,null,null,null,439,"ESTELIFER"]
[null,null,null,null,null,null,null,null,null,null,null,null,null,null,null,309,"RAYA",null,null,null,null,null,null,null,null,null,null,null,null,null,44,"HOLOSAURO",null,"Halosaurus spp."]
[null,null,null,null,null,null,null,null,null,null,null,null,null,null,null,310,"CACHUDA",null,null,null,null,null,null,null,null,null,null,null,null,null,440,"RAYA MALA"]
[null,null,null,null,null,null,null,null,null,null,null,null,null,null,null,311,"GUITARRILLA",null,null,null,null,null,null,null,null,null,null,null,null,null,441,"CURROCO CABEZA DE PIEDRA"]
[null,null,null,null,null,null,null,null,null,null,null,null,null,null,null,312,"PAMPANO",null,null,null,null,null,null,null,null,null,null,null,null,null,442,"CURRUCO CABESA DE PIEDRA"]
[null,null,null,null,null,null,null,null,null,null,null,null,null,null,null,313,"RAYA MARIPOSA",null,null,null,null,null,null,null,null,null,null,null,null,null,443,"PESCADO NEGRO"]
[null,null,null,null,null,null,null,null,null,null,null,null,null,null,null,314,"RAYA",null,null,null,null,null,null,null,null,null,null,null,null,null,445,"ALGUACIL PEQUEÑO"]
[null,null,null,null,null,null,null,null,null,null,null,null,null,null,null,315,"CURRUCA",null,null,null,null,null,null,null,null,null,null,null,null,null,446,"CAMARON ROCA"]
[null,null,null,null,null,null,null,null,null,null,null,null,null,null,null,316,"PEZ JABÓN",null,null,null,null,null,null,null,null,null,null,null,null,null,447,"JAIBA MORA"]
[null,null,null,null,null,null,null,null,null,null,null,null,null,null,null,317,"TAMBORERO",null,null,null,null,null,null,null,null,null,null,null,null,null,448,"PEJEREY"]
[null,null,null,null,null,null,null,null,null,null,null,null,null,null,null,318,"BOTELLONA",null,null,null,null,null,null,null,null,null,null,null,null,null,449,"PEJEREY"]
[null,null,null,null,null,null,null,null,null,null,null,null,null,null,null,319,"LANGOSTA ZAPATERA",null,null,null,null,null,null,null,null,null,null,null,null,null,45,"BOCON",null,"Lophiodes caulinaris"]
[null,null,null,null,null,null,null,null,null,null,null,null,null,null,null,320,"PARGO",null,null,null,null,null,null,null,null,null,null,null,null,null,450,"LENGUADO"]
[null,null,null,null,null,null,null,null,null,null,null,null,null,null,null,321,"PAMPANO",null,null,null,null,null,null,null,null,null,null,null,null,null,451,"RAYA"]
[null,null,null,null,null,null,null,null,null,null,null,null,null,null,null,322,"PEJEPUERCO",null,null,null,null,null,null,null,null,null,null,null,null,null,452,"CORVINA PEQUEÑA"]
[null,null,null,null,null,null,null,null,null,null,null,null,null,null,null,323,"PEZ TRONPETA",null,null,null,null,null,null,null,null,null,null,null,null,null,453,"MACHATAJO PEQUEÑO"]
[null,null,null,null,null,null,null,null,null,null,null,null,null,null,null,324,"LENGUADO",null,null,null,null,null,null,null,null,null,null,null,null,null,454,"PAMPANO GRANDE"]
[null,null,null,null,null,null,null,null,null,null,null,null,null,null,null,325,"CAMARON PEÑERO",null,null,null,null,null,null,null,null,null,null,null,null,null,455,"BERRUGATE PEQUEÑO"]
[null,null,null,null,null,null,null,null,null,null,null,null,null,null,null,326,"PEJESAPO",null,null,null,null,null,null,null,null,null,null,null,null,null,456,"PARGO NEGRO"]
[null,null,null,null,null,null,null,null,null,null,null,null,null,null,null,327,"TANBORERO",null,null,null,null,null,null,null,null,null,null,null,null,null,457,"SIERRA PEQUEÑA"]
[null,null,null,null,null,null,null,null,null,null,null,null,null,null,null,328,"ALMEJA ROSADA",null,null,null,null,null,null,null,null,null,null,null,null,null,458,"BOTELLONA PEQUEÑA"]
[null,null,null,null,null,null,null,null,null,null,null,null,null,null,null,329,"ANCHOA",null,null,null,null,null,null,null,null,null,null,null,null,null,46,"BOCON",null,"Lophiodes spilurus"]
[null,null,null,null,null,null,null,null,null,null,null,null,null,null,null,330,"LENGUADO DERECHO",null,null,null,null,null,null,null,null,null,null,null,null,null,47,"PARGO LUNAREJO",null,"Lutjanus guttatus"]
[null,null,null,null,null,null,null,null,null,null,null,null,null,null,null,331,"CONCHA ROSADA",null,null,null,null,null,null,null,null,null,null,null,null,null,48,"PARGO ROJO",null,"Lutjanus peru"]
[null,null,null,null,null,null,null,null,null,null,null,null,null,null,null,332,"CONCHA",null,null,null,null,null,null,null,null,null,null,null,null,null,49,"COLA DE RATON",null,"Coelorhincus canus"]
[null,null,null,null,null,null,null,null,null,null,null,null,null,null,null,333,"TANBORERO",null,null,null,null,null,null,null,null,null,null,null,null,null,5,"LANGOSTILLA",null,"Munida gracilipes"]
[null,null,null,null,null,null,null,null,null,null,null,null,null,null,null,334,"BOCON COLA LARGA",null,null,null,null,null,null,null,null,null,null,null,null,null,50,"CABEZUDO",null,"Caulolatilus affinis"]
[null,null,null,null,null,null,null,null,null,null,null,null,null,null,null,335,"GUALLAIPE",null,null,null,null,null,null,null,null,null,null,null,null,null,51,"CARBONERO DE FANGO",null,"Physiculus nematopus"]
[null,null,null,null,null,null,null,null,null,null,null,null,null,null,null,336,"MORENA",null,null,null,null,null,null,null,null,null,null,null,null,null,52,"CAMOTILLO",null,"Pseudupeneus grandisquamis"]
[null,null,null,null,null,null,null,null,null,null,null,null,null,null,null,337,"TORTUGA DE MAR",null,null,null,null,null,null,null,null,null,null,null,null,null,53,"ZAFIRO",null,"Cynoponticus coniceps"]
[null,null,null,null,null,null,null,null,null,null,null,null,null,null,null,338,"LENGUADO",null,null,null,null,null,null,null,null,null,null,null,null,null,54,"ANGUILA",null,"Gymnothorax equatorialis"]
[null,null,null,null,null,null,null,null,null,null,null,null,null,null,null,339,"LENGUADO",null,null,null,null,null,null,null,null,null,null,null,null,null,55,"PEZ MURCIELAGO",null,"Zalieutes elater"]
[null,null,null,null,null,null,null,null,null,null,null,null,null,null,null,340,"PEJEREY",null,null,null,null,null,null,null,null,null,null,null,null,null,56,"CONGRIO",null,"Ophichthus remiger"]
[null,null,null,null,null,null,null,null,null,null,null,null,null,null,null,341,"GOBIO",null,null,null,null,null,null,null,null,null,null,null,null,null,57,"MERLUZA",null,"Brotula clarkae"]
[null,null,null,null,null,null,null,null,null,null,null,null,null,null,null,342,"PALOMETA",null,null,null,null,null,null,null,null,null,null,null,null,null,58,"PERLA",null,"Lepophidium negropinna"]
[null,null,null,null,null,null,null,null,null,null,null,null,null,null,null,343,"CANGREJO",null,null,null,null,null,null,null,null,null,null,null,null,null,59,"PERLA",null,"Lepophidium prorates"]
[null,null,null,null,null,null,null,null,null,null,null,null,null,null,null,344,"CANGREJO",null,null,null,null,null,null,null,null,null,null,null,null,null,6,"LANGOSTILLA",null,"Munida refulgens"]
[null,null,null,null,null,null,null,null,null,null,null,null,null,null,null,345,"LENGUETA",null,null,null,null,null,null,null,null,null,null,null,null,null,60,"PERLA",null,"Ophidium spp."]
[null,null,null,null,null,null,null,null,null,null,null,null,null,null,null,346,"TRAGON",null,null,null,null,null,null,null,null,null,null,null,null,null,61,"LENGUADO",null,"Citharichthys gilberti"]
[null,null,null,null,null,null,null,null,null,null,null,null,null,null,null,347,"LANGOSTILLA",null,null,null,null,null,null,null,null,null,null,null,null,null,62,"LENGUADO",null,"Citharichthys spp."]
[null,null,null,null,null,null,null,null,null,null,null,null,null,null,null,348,"TIESO AMARILLO",null,null,null,null,null,null,null,null,null,null,null,null,null,63,"LENGUADO",null,"Cyclopsetta querna"]
[null,null,null,null,null,null,null,null,null,null,null,null,null,null,null,349,"TIESO",null,null,null,null,null,null,null,null,null,null,null,null,null,64,"LENGUADO",null,"Etropus spp."]
[null,null,null,null,null,null,null,null,null,null,null,null,null,null,null,350,"BAGRE MEDIANO",null,null,null,null,null,null,null,null,null,null,null,null,null,65,"LENGUADO DE PUNTOS",null,"Hippoglossina tetrophthalmus"]
[null,null,null,null,null,null,null,null,null,null,null,null,null,null,null,351,"PARGO DIENTON",null,null,null,null,null,null,null,null,null,null,null,null,null,66,"MALARMADO",null,"Peristedion spp."]
[null,null,null,null,null,null,null,null,null,null,null,null,null,null,null,352,"PEZ HUEVO",null,null,null,null,null,null,null,null,null,null,null,null,null,67,"BARBETA BLANCA",null,"Polydactylus approximans"]
[null,null,null,null,null,null,null,null,null,null,null,null,null,null,null,353,"JURELILLO",null,null,null,null,null,null,null,null,null,null,null,null,null,68,"OJON",null,"Pristigenys serrula"]
[null,null,null,null,null,null,null,null,null,null,null,null,null,null,null,354,"JUREL DORADO",null,null,null,null,null,null,null,null,null,null,null,null,null,69,"GUITARRILLA",null,"Zapteryx exasperata"]
[null,null,null,null,null,null,null,null,null,null,null,null,null,null,null,355,"MACHETE",null,null,null,null,null,null,null,null,null,null,null,null,null,7,"CAMARON BRAVO",null,"Hemisquilla spp."]
[null,null,null,null,null,null,null,null,null,null,null,null,null,null,null,356,"PEZ PLATA",null,null,null,null,null,null,null,null,null,null,null,null,null,70,"PELADILLA",null,"Cynosción spp."]
[null,null,null,null,null,null,null,null,null,null,null,null,null,null,null,357,"PELADILLA DE PROFUNDIDAD",null,null,null,null,null,null,null,null,null,null,null,null,null,71,"CAJERO",null,"Larimus pacificus"]
[null,null,null,null,null,null,null,null,null,null,null,null,null,null,null,358,"CAMARÓN PEÑERO",null,null,null,null,null,null,null,null,null,null,null,null,null,72,"BOTELLONA",null,"Umbrina bussingi"]
[null,null,null,null,null,null,null,null,null,null,null,null,null,null,null,359,"COLA DE RATÓN",null,null,null,null,null,null,null,null,null,null,null,null,null,74,"PEJEDIABLO",null,"Scorpaena spp."]
[null,null,null,null,null,null,null,null,null,null,null,null,null,null,null,360,"LENGUETA",null,null,null,null,null,null,null,null,null,null,null,null,null,75,"CAGUA",null,"Diplectrum spp."]
[null,null,null,null,null,null,null,null,null,null,null,null,null,null,null,113,"CAGUA",null,null,null,null,null,null,null,null,null,null,null,null,null,76,"CHERNA",null,"Epinephelus acanthistius"]
[null,null,null,null,null,null,null,null,null,null,null,null,null,null,null,117,"PEJEREY",null,null,null,null,null,null,null,null,null,null,null,null,null,77,"MERO",null,"Epinephelus analogus"]
[null,null,null,null,null,null,null,null,null,null,null,null,null,null,null,121,"PALOMETA",null,null,null,null,null,null,null,null,null,null,null,null,null,78,"PARGO NYLON",null,"Hemanthias signifer"]
[null,null,null,null,null,null,null,null,null,null,null,null,null,null,null,124,"TOLLO",null,null,null,null,null,null,null,null,null,null,null,null,null,79,"SERRANO OJON",null,"Pronotogrammus eos"]
[null,null,null,null,null,null,null,null,null,null,null,null,null,null,null,127,"PARGO NYLON",null,null,null,null,null,null,null,null,null,null,null,null,null,8,"CANGREJO ARAÑA",null,"Dasygyus depressus"]
[null,null,null,null,null,null,null,null,null,null,null,null,null,null,null,137,"PARGO MEDIANO",null,null,null,null,null,null,null,null,null,null,null,null,null,80,"MANTECO",null,"Peprilus medius"]
[null,null,null,null,null,null,null,null,null,null,null,null,null,null,null,140,"PESCADO ESPECIAL",null,null,null,null,null,null,null,null,null,null,null,null,null,81,"MANTECO",null,"Peprilus snyderi"]
[null,null,null,null,null,null,null,null,null,null,null,null,null,null,null,143,"PESCADO GRUESO",null,null,null,null,null,null,null,null,null,null,null,null,null,82,"LAGARTO",null,"Synodus evermanni"]
[null,null,null,null,null,null,null,null,null,null,null,null,null,null,null,163,"CARACOL",null,null,null,null,null,null,null,null,null,null,null,null,null,83,"LAGARTO",null,"Synodus scituliceps"]
[null,null,null,null,null,null,null,null,null,null,null,null,null,null,null,166,"LORITO MARCADO",null,null,null,null,null,null,null,null,null,null,null,null,null,84,"SABLE",null,"Trichiurus lepturus"]
[null,null,null,null,null,null,null,null,null,null,null,null,null,null,null,169,"TOLLO VIEJA",null,null,null,null,null,null,null,null,null,null,null,null,null,85,"PEJEREY",null,"Bellator xenisma"]
[null,null,null,null,null,null,null,null,null,null,null,null,null,null,null,172,"CANGREJO ARAÑA",null,null,null,null,null,null,null,null,null,null,null,null,null,86,"PEJEREY",null,"Prionotus stephanophrys"]
[null,null,null,null,null,null,null,null,null,null,null,null,null,null,null,175,"CANGREJO",null,null,null,null,null,null,null,null,null,null,null,null,null,87,"BULDOG",null,"Kathetostoma averruncus"]
[null,null,null,null,null,null,null,null,null,null,null,null,null,null,null,177,"RAYA",null,null,null,null,null,null,null,null,null,null,null,null,null,88,"BLANCO",null,"Litopenaeus occidentalis"]
[null,null,null,null,null,null,null,null,null,null,null,null,null,null,null,180,"POTA",null,null,null,null,null,null,null,null,null,null,null,null,null,89,"Aluterus monocerus",null,"CHORDATA"]
[null,null,null,null,null,null,null,null,null,null,null,null,null,null,null,183,"BRAVO",null,null,null,null,null,null,null,null,null,null,null,null,null,9,"CANGREJO ARAÑA",null,"Majidae sp1."]
[null,null,null,null,null,null,null,null,null,null,null,null,null,null,null,187,"ALGUACILILLO",null,null,null,null,null,null,null,null,null,null,null,null,null,90,"MERITO",null,"Sphoeroides annulatus"]
[null,null,null,null,null,null,null,null,null,null,null,null,null,null,null,190,"BERRUGATE VERDE",null,null,null,null,null,null,null,null,null,null,null,null,null,91,"PARGO PEQUEÑO",null,"Lutjanus spp."]
[null,null,null,null,null,null,null,null,null,null,null,null,null,null,null,194,"MACHETAJO",null,null,null,null,null,null,null,null,null,null,null,null,null,92,"PARGO REVUELTO",null,"Lutjanus spp."]
[null,null,null,null,null,null,null,null,null,null,null,null,null,null,null,197,"PATEBURRO",null,null,null,null,null,null,null,null,null,null,null,null,null,93,"TOLLO Y RAYA",null,"Varias"]
[null,null,null,null,null,null,null,null,null,null,null,null,null,null,null,201,"PALMA",null,null,null,null,null,null,null,null,null,null,null,null,null,94,"ZAFIRILLO",null,"Cynoponticus coniceps"]
[null,null,null,null,null,null,null,null,null,null,null,null,null,null,null,204,"BARBETA AMARILLA",null,null,null,null,null,null,null,null,null,null,null,null,null,95,"ALGUACIL",null,"Bagre pinnimaculatus"]
[null,null,null,null,null,null,null,null,null,null,null,null,null,null,null,207,"TAMBORERO",null,null,null,null,null,null,null,null,null,null,null,null,null,96,"BERRUGATE",null,"Lobotes pacificus"]
[null,null,null,null,null,null,null,null,null,null,null,null,null,null,null,209,"Achirus mazatlanus",null,null,null,null,null,null,null,null,null,null,null,null,null,98,"PARGO GRANDE",null,"Lutjanus spp."]
[null,null,null,null,null,null,null,null,null,null,null,null,null,null,null,212,"CORVINA",null,null,null,null,null,null,null,null,null,null,null,null,null,99,"CORVINA",null,"Cynosción spp."]

{"sheet":"Otras referencias","index":7,"n_rows":55,"n_cols":25,"rows_kept":55,"cut":false,"hidden":false,"merged":[[4,23,4,24],[0,0,2,10],[4,0,4,1],[4,5,4,6],[4,8,4,9],[4,11,4,12],[29,0,29,1],[14,0,14,2],[4,14,4,15],[4,17,4,18],[4,20,4,21]]}
["Estas son listas para variables con valores que no se encuentran codificados, pero que deben manejarse de manera estandarizada. \nSi se requiere agregar un valor nuevo hagalo debajo de la lista correspondiente"]
[]
[]
[]
["PROFUNDIDAD",null,null,"METODOS",null,"EMBARCACIONES",null,null,"CAPITANES",null,null,"TIPO_CAPTURA",null,null,"PRODUCTO",null,null,"Categoria_Comercial",null,null,"Estado",null,null,"COSTOS"]
["Descripcion","Codigo",null,"NOMBRE_MT","CODIGO","Descripcion","Codigo",null,"Descripcion","Codigo",null,"Descripcion","Codigo",null,"Descripcion","Codigo",null,"Descripcion","Codigo",null,"Descripcion","Codigo",null,"Descripcion","Codigo"]
["Aguas Someras","S",null,"Manual de métodos de SIMAC: Cadena rotulada cada diez eslabones","Car","BARLOVENTO TRES",123,null,"AGUSTIN MARTINEZ",123,null,"CO",123,null,"Aguja",123,null,"10,/20",123,null,"COLA BLANCO",123,null,"ACEITE",123]
["Aguas profundas","P",null,null,null,"ADA PIEDAD",124,null,"ALEXANDER CAICEDO",124,null,"CI",124,null,"Alguacil",124,null,"100/120",124,null,"COLA COLIFROR",124,null,"ADMINISTRACION",124]
[null,null,null,null,null,"ALEXANDER",125,null,"ANGEL TENORIO",125,null,"D",125,null,"Anchoa",125,null,"16,/20",125,null,"COLA PINK",125,null,"APORTE PARAFISCALES",125]
[null,null,null,null,null,"ARRAIJAN",126,null,"CARLOS SEPULVEDA",126,null,null,null,null,"Anguila",126,null,"21,/25",126,null,"COLA TITI",126,null,"COMBUSTIBLE",126]
[null,null,null,null,null,"ASLY YURANI",127,null,"FRANCISCO ANGULO",127]
[]
[]
[]
["CODIGOS LOV"]
["DESCRIPCIÓN","CÓDIGO","GRUPO"]
["Departamento",10,2]
["Sector",20,2]
["Punto",30,2]
["Parcela",35,2]
["Estaciones",40,2]
["Region",50,2]
["Unidad_de_Manejo",60,2]
["Unidad_Ambiental_Costera",70,2]
["Localidad",80,2]
["Bloque_Exploracion",85,2]
["Area",90,2]
[]
[]
["AG_LOV 1056"]
["DESCRIPCIÓN","CÓDIGO"]
["ACEITE",1]
["COMBUSTIBLE",2]
["COSTOS FIJOS",3]
["EMPAQUES",4]
["MANTENIMIENTO Y REPARACIONES",5]
["OTROS INSUMOS",6]
["PERITAJE COMBUSTIBLE",7]
["PRESTACIONES SOCIALES",8]
["RASTREO SATELITAL",9]
["SALARIOS",10]
["VIVERES",11]
["SEGUROS",12]
["DEPRECIACIÓN",13]
["ZARPE",14]
["APORTES PARAFISCALES",15]
["COSTOS DE PROCESAMIENTO",16]
["INSUMOS Y EMPAQUES",17]
["INSUMOS          ",18]
["ADMINISTRACIÓN",19]
["MUELLAJE Y/O ARRENDAMIENTO",20]
["PATENTE",21]
["TASA RESOLUTIVA",22]
["INSPECCIÓN OCULAR",23]
["PERITAJE CERTIFICADOS",24]

{"sheet":"AGD_MUESTREOS","index":8,"n_rows":0,"n_cols":0,"rows_kept":0,"cut":false,"hidden":true,"merged":[]}

{"sheet":"AGD_MUESTRAS_VARIABLES","index":9,"n_rows":0,"n_cols":0,"rows_kept":0,"cut":false,"hidden":true,"merged":[]}

{"sheet":"AGD_PARAMETRO","index":10,"n_rows":0,"n_cols":0,"rows_kept":0,"cut":false,"hidden":true,"merged":[]}

{"sheet":"AGD_MUESTRAS","index":11,"n_rows":0,"n_cols":0,"rows_kept":0,"cut":false,"hidden":true,"merged":[]}

{"sheet":"AGD_AUTORIAS","index":12,"n_rows":0,"n_cols":0,"rows_kept":0,"cut":false,"hidden":true,"merged":[]}