{"text_format":"1","workbook":"xlsx","n_sheets":12,"sheets":["configuracion","Registro de cambios","INSTRUCCIONES","DIGITADOR","DATOS","REFERENTES","OTRAS REFERENTES","AGD_MUESTREOS","AGD_PARAMETRO","AGD_MUESTRAS","AGD_MUESTRAS_VARIABLES","AGD_AUTORIAS"],"not_rendered":{"charts":0,"images":0,"macros":1,"external_links":1,"defined_names":19,"comments":1,"pivot_tables":0},"unopened":[],"bounds":{"document_bytes":16777216,"sheet_cells":100000,"rows_first":2000,"rows_last":500,"rows_between":2000,"halvings":0,"cell_chars":16384,"cell_head_chars":4096},"cells_cut":0,"cells_raw":0,"read":"whole","date_system":"1900"}

{"sheet":"configuracion","index":0,"n_rows":70,"n_cols":9,"rows_kept":70,"cut":false,"hidden":true,"merged":[[65,0,65,1],[60,0,60,1],[28,0,35,0],[37,0,42,0],[45,0,45,1],[23,0,26,0],[0,0,2,0],[3,0,5,0],[7,0,8,0],[9,0,15,0],[17,0,21,0]]}
["general","urlServicio","https://argos.invemar.org.co/api/"]
[null,"fila de inicio",3]
[null,"fila de fin",510]
["metodologias","Metodologias",5]
[null,"Referentes",5]
[null,"Cantidad maxima de referentes ",200]
["estaciones/investigadores","proyectos",2239]
["Lista especies","metodologias",3]
[null,"proyectos",2239]
["MUESTREOS","ID_MUESTREO","DATOS,B"]
[null,"ID_ESTACION","DATOS,L"]
[null,"ID_PROYECTO",2239]
[null,"ID_METODOLOGIA",5]
[null,"ID_TEMATICAS",224]
[null,"FECHA","DATOS,I"]
[null,"NOTAS"]
[null,"cantidad",510]
["parametro muestreo","ID_MUESTREO","DATOS,B","DATOS,B","DATOS,B","DATOS,B","DATOS,B","DATOS,B"]
[null,"ID_PARAMETRO",901,860,1055,1169,1170,127]
[null,"ID_METODOLOGIA",5,5,5,5,5,3]
[null,"ID_UNIDAD_MEDIDA",100,109,100,100,100,100]
[null,"VALOR","DIGITADOR,B,14","DIGITADOR,B,15","DIGITADOR,B,5","DIGITADOR,B,12","DIGITADOR,B,11","DIGITADOR,B,9"]
[null,"cantidad",510,510,510,510,510,510]
["muestra","ID_MUESTRA","DATOS,D"]
[null,"ID_MUESTREO","DATOS,F"]
[null,"NOTAS","DATOS,N"]
[null,"ES_REPLICA",1]
[null,"cantidad",510]
["muestra variable","ID_PARAMETRO",250,585,252,270,883,566,885]
[null,"ID_METODOLOGIA",5,5,5,5,5,5,5]
[null,"ID_UNIDAD_MEDIDA",100,100,100,10,100,10,19]
[null,"ID_MUESTRA","DATOS,D","DATOS,D","DATOS,D","DATOS,D","DATOS,D","DATOS,D","DATOS,D"]
[null,"ID_METODO",null,null,null,"DATOS,W","DATOS,W","DATOS,Z",610]
[null,"VALOR","DATOS,M","DATOS,O","DATOS,AC","DATOS,T","DATOS,V","DATOS,Y","DATOS,AB"]
[null,"QUALITY_FLAG"]
[null,"PRECISION"]
[null,"cantidad",510,510,510,510,510,510,510]
["autoria","ID_FUNCIONARIO","DIGITADOR,B,2","DIGITADOR,B,18","DIGITADOR,B,20","DIGITADOR,B,22"]
[null,"ID_TAREA",5,"DIGITADOR,A,18","DIGITADOR,A,20","DIGITADOR,A,22"]
[null,"ORDEN",1,2,3,4]
[null,"FECHA","DIGITADOR,B,7","DATOS,I","DATOS,I","DATOS,I"]
[null,"ID_MUESTREO","DATOS,B","DATOS,B","DATOS,B","DATOS,B"]
[null,"ENTIDAD","DIGITADOR,B,4","DIGITADOR,B,4","DIGITADOR,B,4","DIGITADOR,B,4"]
[null,"cantidad",510,510,510,510]
[]
[null,null,"REGISTROS CARGADOS",null,null,"ID_PARAMETRO","ID_UNIDAD_MEDIDA","NOMBRE_COLUMNA"]
["MUESTREOS",null,null,null,null,127,100,"PROYECTO_FINANCIO"]
["parametro muestreo",null,null,null,null,250,100,"PARCELA_REGENERACION"]
["muestra",null,null,null,null,252,100,"ESTADO_ARBOL"]
["muestra variable",null,null,null,null,270,10,"ALTURA_PLANTULA"]
["autoria",null,null,null,null,566,10,"DIAMETRO_PLANTULA"]
["registros correctos",null,null,null,null,585,100,"ESPECIE"]
["Fecha de carga",null,null,null,null,860,109,"AREA_SUBPARCELA"]
["json error",null,null,null,null,883,100,"CATEGORIA_PLANTULA"]
["error",null,null,null,null,885,19,"NRO_PROPAGULOS"]
[null,null,null,null,null,901,100,"NUM_SUBPARCELAS"]
[null,null,null,null,null,1055,100,"VERSION_PLANTILLA"]
[null,null,null,null,null,1169,100,"URL_METADATO"]
[null,null,null,null,null,1170,100,"ARCHIVO_FUENTE"]
[]
["CONFIGURACION REFERENTES - OTRAS REFERENCIAS"]
["URL - SERVICIO","https://argos.invemar.org.co/api/estaciones/get-entidades"]
["ATRIBUTOS DE LA API1","codigo_in","nombre_in"]
["RANGO DE LOS ATRIBUTOS DE LA API","B63:C64"]
[]
["CONFIGURACION REFERENTES"]
["URL - AGM Campo",{"$f":"CONCATENATE(\"parametros/agmcampo/\",$C$4,\"\")","v":"parametros/agmcampo/5"}]
["URL - Especies",{"$f":"CONCATENATE(\"especies/filt/\",$C$9,\",\",$C$8,\"/\")","v":"especies/filt/2239,3/"}]
["URL - Estaciones",{"$f":"CONCATENATE(\"estaciones/35/\",$C$9,\"\")","v":"estaciones/35/2239"}]
["URL - Usuarios",{"$f":"CONCATENATE(\"parametros/usersByProject/\",$C$7,\"\")","v":"parametros/usersByProject/2239"}]

{"sheet":"Registro de cambios","index":1,"n_rows":23,"n_cols":7,"rows_kept":23,"cut":false,"hidden":true,"merged":[[1,3,1,6]]}
[]
[null,null,null,"REGISTRO DE CAMBIOS"]
[null,null,null,"VERSIÓN No.","CAMBIO REALIZADO","AUTOR","VIGENTE DESDE"]
[null,null,null,"20250227m","1)Se modifica el texto de las recomendaciones generales y de algunos campos de la hoja DIGITADOR y DATOS.                                                                                                                                                                                                          2)Se agrego un mensaje emergente, al hacer uso de la plantilla, en el se agrego una serie de sugerencias a seguir.                                                                                                                                                                                                   3) Se agrego una nueva hoja \"INSTRUCCIONES\".\n3) Validación de mapeo para el COD Especie y Estado, para evitar el diligenciamiento de valores en minúsculas.","Daniel Jiménez","2025-02-27"]
[null,null,null,"20240514i","1)Se actualizo el servicio para que consuma la nueva API.                                                                                               2)Se tuvo que organizar en cada  lista el origen de los datos en la hoja DATOS.                                                               3) Se organizo la hoja REFERENTES","Daniel Jiménez","2024-05-14"]
[null,null,null,"20230316i","1)Se agrego un nuevo boton \"Ordenar \" en la hoja DATOS para ordenar los datos y no generar ID_MUESTREO distintos.                                                                                                                                                                                 2) Se modifico la regla para generar el ID_MUESTREO, antes se tenia en cuenta la fecha del monitoreo , ahora se tiene en cuenta es el COD_PARCELA del monitoreo.                                                                                                     3)Se agrego un nuevo boton \"Validar Datos\" en la hoja DIGITADOR , para asi validar que ningun campo quede vacio antes de cargar los datos.",null,"2023-03-16"]
[null,null,null,"20220927i","1) En la pestaña datos se modificaron las celdas ESTADO Y ESPECIE , agregando a COD una lista desplegable para  generar automaticamente su valor.\n2) Se modifico la formula de Subparcela muestreadas de la hoja DIGITADOR.",null,"2022-09-27"]
[null,null,null,"20220804m","Se corrigieron las formulas del campo CODMUESTREO y de otros campos de COD",null,"2022-08-04"]
[null,null,null,"20220510i","Actualizacion de estaciones/parcelas",null,"2022-05-10"]
[null,null,null,"20220502i","se ordenaron los referentes de geograficos, se mapeo el proyecto financiador, por defecto todas las plantillas de sigma guardan sus datos al 2239",null,"2022-05-02"]
[null,null,null,"20220204i","cambio en el endpoint de newreferentes devsiam->argos",null,"2022-02-04"]
[null,null,null,"20211216m","Listas de validacion en la hoja de DATOS",null,"2021-12-17"]
[null,null,null,"20210817m","Corrección de formato de hoja de DATOS",null,"2021-08-17"]
[null,null,null,"20200130i","Para trazabilididad la hoja se incluye el nombre del archivo fuente y la posibilidad de anotar el DOI principal del metadato\nPor usabilidad las pestañas que son de interes para el usuario son las verdes\nSi se define mas de un proyecto los referentes de estaciones e investigadores se descargan consecutivo en las mismas columnas\nSe controla la versión para la plantilla mediante comparación dato en AGLOV de la BD.",null,"2020-01-30"]
[null,null,null,"20191024m","Se corrige el campo CAT de la seccion altura plantula de la hoja DATOS.",null,"2019-10-24"]
[null,null,null,"20190604i","Se corrige la recomendación de como renombrar los archivos para su almacenamiento.\nSe agrega la unidad de medida a las columnas Altura (columna T) y Diametro (columna Y).",null,"2019-06-04"]
[null,null,null,"20190211m","Se modifica el texto de recomendaciones generales en la hoja de \"DIGITADOR\".",null,"2019-02-11"]
[null,null,null,"20190117i","Se agrega el botón \"Administrador\" y se ocultan los botones \"Generar tablas\" y \"Cargar datos\" en la hoja de \"DIGITADOR\". \nSe elimina la columna \"Hora\" de la hoja \"DATOS\".",null,"2019-01-25"]
[null,null,null,null,"Se modifica la información en la hoja \"Otras referencias\".",null,"2019-01-17"]
[null,null,null,"20190117m","Se agrega el título a los referentes en la hoja \"referentes\".\nSe modifica la información de contacto en la hoja de \"DIGITADOR\".",null,"2019-01-14"]
[null,null,null,"20180809m","Se modifican algunos campos a petición de los usuarios",null,"2018-08-09"]
[null,null,null,"20180801m","Modificaciones para nuevo Argos",null,"2018-08-01"]
[null,null,null,"20180413i","Se modifica la generación de los ID de muestreo y se agrega macro que genera número aleatorio en la hoja DIGITADOR.",null,"2018-04-13"]

{"sheet":"INSTRUCCIONES","index":2,"n_rows":28,"n_cols":2,"rows_kept":28,"cut":false,"hidden":false,"merged":[[0,0,0,1],[1,0,5,1],[6,0,7,1],[16,0,17,1]]}
["INSTRUCCIONES DEL DILIGENCIAMIENTO DE LOS CAMPOS DE LA PLANTILLA"]
["En la plantilla se encuentran dos hojas que deben ser diligenciadas.La primera hoja lleva el nombre de \"DIGITADOR\", en esta sección se encuentran los campos  para recolectar información básica de los actores involucrados en el monitoreo. La segunda hoja, llamada \"DATOS\", contiene los campos  para almacenar los datos obtenidos durante el levantamiento de datos en las salidas de monitoreo.  A continuacion se explica detalladamente cada uno de los campos a diligenciar:"]
[]
[]
[]
[]
["HOJA DIGITADOR"]
[]
["Nombre Digitador","Seleccionar el nombre de la persona o funcionario que diligencio la plantilla."]
["Entidad","Seleccionar la entidad que esta reportando los datos al SIGMA."]
["Plantilla (Versión)","Este valor es una variable fija e indica la version de la plantilla.                                                                                   Nota: Es importante Asegurarse de contar con la ultima versión de la plantilla."]
["Fecha en la que ingresa los datos","Diligenciar la fecha del dia que diligencia la plantilla."]
["Nombre del proyecto","Seleccionar el nombre del proyecto."]
["Nro. Subparcelas muestreadas","Este valor se llena automaticamente e indica el numero de subparcelas monitoreadas del transecto o estación."]
["Roles involucrados","Seleccionar el rol que desempeño la persona o funcionario en el levantamiento de los datos."]
["Nombre","Seleccionar el nombre de la persona o funcionario que participo en el levantamiento de datos."]
["HOJA DATOS"]
[]
["Fecha","Ingresar la fecha de cuando tomo el dato en el monitoreo."]
["Estación o Transecto","Seleccionar el nombre de la estacion o transecto donde realizo el monitoreo"]
["Subparcela","Ingresar el numero de la subparcela donde realizo el monitoreo.                                                       Ejemplo: En la estación o transecto selecciono \"X\"  y esta compuesto por 9 subparcelas : 1,2,3,4,5,6,7,8,9;  indicar la subparcela donde tomo el dato que esta reportando."]
["Observaciones ","Diligenciar las observaciones de cualquier tipo durante el muestreo. "]
["COD (Especie)","Seleccionar el código del nombre de la especie correspondiente: AG: Avicennia germinans; RM: Rhizophora mangle; LR: Laguncularia racemosa; CE: Conocarpus erectus. Si no se identifica la especie y se cuenta con datos, incluya el código SE (Sp. manglar). "]
["Estado","Seleccionar el COD del estado del individuo durante el muestreo:  CA: Caído; CO: Cortado;  VI: Vivo; MU: Muerto; PA: Partido; ME: Mal Estado; NE: No Encontrado; NA: No Asignado."]
["Altura","Diligenciar la altura (cm) del individuo muestrado."]
["Diametro","Diligenciar el diamentro (cm) del individuo muestrado."]
["Metodo","Seleccionar la herramienta utilizada para registrar el dato del individuo."]
["Propagulos","Diligenciar el numero de propagulos encontrados en cada subparcela.                                                                                                                                                        Nota: Al momento de diligenciar el numero de progagulos, debe diligenciar los datos como ha venido registrando los datos ; a excepecion que esta vez omitira el campo de altura,diametro, estado y metodo . "]

{"sheet":"DIGITADOR","index":3,"n_rows":40,"n_cols":4,"rows_kept":40,"cut":false,"hidden":false,"merged":[[0,3,5,9],[14,3,16,9],[5,0,6,0],[0,0,0,1],[15,0,15,1],[6,3,10,9],[11,3,13,9]]}
["Plantilla para la Recolección de Datos Regeneración SIGMA",null,null,"Recomendaciones generales: \n¡Precaución! No inserte Filas o Columnas.\nEn los casos en que falte un valor a ingresar que provenga de la hoja de referencias, informe para que el administrador del sistema haga las adiciones necesarias.\nEsta es una plantilla programada. Las columnas de color oscuro se llenan automaticamente, principalmente a partir de los contenidos de la hoja de referencias. \nNO UTILICE PUNTO Y COMA (;) en ningun campo, por ser el separador de variables (columnas). Las unidades de medida son las especificadas en la cabecera de la hoja.\nPara el correcto funcionamiento de la hoja debe estar activa la opcion de Excel de ejecutar macros (al abrir la hoja acepte la opcion habilitar macros, mensaje de Excel que aparece en la parte superior de la hoja en un recuadro amarillo). La extensión del archivo debe ser .xlsm.. Al finalizar, renombre el archivo de modo que su contenido sea claro, ejemplo corporacion_estacion_anocuatrodigitosmesmuestreo.xlsm. El nombre no debe tener espacios en blanco vocales tildadas o ñ."]
["CODIGO DIGITADOR",{"$f":"IF(B3=\"\",\"\",INDEX(REFERENTES!$Y$2:$Z$60,MATCH(DIGITADOR!B3,REFERENTES!$Z$2:$Z$60,0),1))","v":""}]
["NOMBRE DIGITADOR"]
["ENTIDAD"]
["PLANTILLA (VERSIÓN)",{"$f":"'Registro de cambios'!$D4","v":"20250227m"}]
["Fecha en la que ingresa los datos en esta hoja","DD/MM/AAAA"]
[null,"3000-12-12",null,"Previamente a iniciar el diligenciamiento de la plantilla, debe presionar el botón \"Descargar referentes\" para que los referentes de ésta plantilla sean actualizados. \nLuego de diligenciar  completamente la plantilla verifique que:\na. No haya celdas con valores como \"#N/A\" o \"#¡REF!\"\nb. No se esten aplicando filtros en la hoja de datos                                                                                                                                                                                           c.Una vez diligenciados los datos, en la hoja datos presionar el boton \"Ordenar\" esto con el fin para ordenar las fechas y no generar ID_MUESTREOS diferentes.                                                                                                                                                                                                                                           d.Luego presionar el botón \"Validar datos\" para corroborar que todo esté en orden.                                                                                                                            e.En caso de error de campos vacios corregir.                                                                                                                                                                                                               Si tiene dudas sobre el diligenciamiento de cada unos de los campos, puede visualizar la hoja \"INSTRUCCIONES\"."]
[]
["Nombre del proyecto","SIGMA"]
["Codigo del proyecto",{"$f":"IF($B$9=\"\",\"\",INDEX('OTRAS REFERENTES'!D7:F20,MATCH(DIGITADOR!$B$9,'OTRAS REFERENTES'!$E$7:$E$20,0),1))","v":2239}]
["Nombre del Archivo",{"$f":"MID(CELL(\"FILENAME\",N50),FIND(\"[\",CELL(\"FILENAME\",N50))+1,   FIND(\"]\",CELL(\"FILENAME\",N50))-FIND(\"[\",CELL(\"FILENAME\",N50))-1)","v":"SIGMA_Regeneracion_20250227m.xlsm"}]
["DOI Metadato",null,null,"Si requiere ayuda contacte a:\nadministrador.sigma@invemar.org.co  - Administrador SIGMA"]
["Fuente Plantilla ","http://cinto.invemar.org.co/download/Plantillas_ARGOS_Plus/"]
["Nro. Subparcelas Muestreadas",{"$f":"MAX(DATOS!AE:AE)","v":0}]
["Area Subparcela(Mt2)",1,null,"El custodio de los datos es el único autorizado para distribuir este conjunto de datos. El observador y el digitador se comprometen a tomar las medidas necesarias para salvaguardar este conjunto de datos de modo que copia de los mismos no sean obtenidas y/o usadas por terceros no relacionados con el propósito para la cual se recolectó."]
["ACTORES INVOLUCRADOS"]
["ROLES INVOLUCRADOS","NOMBRES"]
[{"$f":"IF(A19=\"\",\"\",INDEX('OTRAS REFERENTES'!$T$6:$U$8,MATCH(DIGITADOR!A19,'OTRAS REFERENTES'!$U$6:$U$8,0),1))","v":""},{"$f":"IF(B19=\"\",\"\",INDEX(REFERENTES!$Y$2:$Z$60,MATCH(DIGITADOR!B19,REFERENTES!$Z$2:$Z$60,0),1))","v":""}]
[]
[{"$f":"IF(A21=\"\",\"\",INDEX('OTRAS REFERENTES'!$T$6:$U$8,MATCH(DIGITADOR!A21,'OTRAS REFERENTES'!$U$6:$U$8,0),1))","v":""},{"$f":"IF(B21=\"\",\"\",INDEX(REFERENTES!$Y$2:$Z$60,MATCH(DIGITADOR!B21,REFERENTES!$Z$2:$Z$60,0),1))","v":""}]
[]
[{"$f":"IF(A23=\"\",\"\",INDEX('OTRAS REFERENTES'!$T$6:$U$8,MATCH(DIGITADOR!A23,'OTRAS REFERENTES'!$U$6:$U$8,0),1))","v":""},{"$f":"IF(B23=\"\",\"\",INDEX(REFERENTES!$Y$2:$Z$60,MATCH(DIGITADOR!B23,REFERENTES!$Z$2:$Z$60,0),1))","v":""}]
[]
[]
[]
[]
[]
[]
[]
[]
[]
[null,"REGISTROS GENERADOS","REGISTROS CARGADOS"]
["Muestreos",{"$f":"IF(configuracion!B47=\"\",\"\",configuracion!B47)","v":""},{"$f":"IF(configuracion!C47=\"\",\"\",configuracion!C47)","v":""}]
["Parámetros del muestreo",{"$f":"IF(configuracion!B48=\"\",\"\",configuracion!B48)","v":""},{"$f":"IF(configuracion!C48=\"\",\"\",configuracion!C48)","v":""}]
["Muestras",{"$f":"IF(configuracion!B49=\"\",\"\",configuracion!B49)","v":""},{"$f":"IF(configuracion!C49=\"\",\"\",configuracion!C49)","v":""}]
["Variables",{"$f":"IF(configuracion!B50=\"\",\"\",configuracion!B50)","v":""},{"$f":"IF(configuracion!C50=\"\",\"\",configuracion!C50)","v":""}]
["Autores",{"$f":"IF(configuracion!B51=\"\",\"\",configuracion!B51)","v":""},{"$f":"IF(configuracion!C51=\"\",\"\",configuracion!C51)","v":""}]
["Registros correctos"]
["json error"]
["error"]

{"sheet":"DATOS","index":4,"n_rows":502,"n_cols":31,"rows_kept":502,"cut":false,"hidden":false,"merged":[[0,17,0,18],[0,24,0,26],[1,25,1,26],[1,29,1,30],[0,5,1,5],[0,1,1,1],[0,12,1,12],[0,2,1,2],[0,3,1,3],[0,4,1,4],[0,6,1,6],[0,7,1,7],[0,8,1,8],[0,9,0,11],[0,27,1,27],[0,13,1,13],[1,22,1,23],[0,19,0,23],[0,15,0,16]]}
[{"$f":"IF(DIGITADOR!B7<>\"\",CONCATENATE(TEXT(DIGITADOR!B7,\"yyyy/mm/d\"),\" \",TEXT(H3,\"h:mm\")),\"\")","v":"3000/12/12 0:00"},"ID_MUESTREO (AGD_MUESTREO)","CONSECUTIVO","ID_MUESTRA","UNIQUE KEY","CODMUESTREO","FECHA\n(DD/MM/AAAA)","HORA\n(HH:MM)","DATE","ESTACIÓN O TRANSECTO",null,null,"Subparcela de regeneracion natural","OBSERVACIONES",null,"ESPECIE",null,"ESTADO",null,"Altura plántula (cm)",null,null,null,null,"Diámetro (opcional)",null,null,"Número de propágulos"]
[{"$f":"TEXT(A1,\"yyyymmddhhmm\")","v":"300012120000"},null,null,null,null,null,"DIA","HORA",null,"COD","NOMBRE","ID ESTACION",null,null,"COD ESPECIE\n(MAYÚSCULA)","COD","NOMBRE","COD","VALOR","VALOR (cm)","CAT","CAT","METODO",null,"VALOR (cm)","METODO",null,null,"COD ESTADO\n(MAYÚSCULA)","Subparcela"]
[1,{"$f":"IF(L3<>\"\", F3,\"\")","v":""},1,{"$f":"IF(L3=\"\",\"\",CONCATENATE(C3,F3))","v":""},{"$f":"CONCATENATE(I3,L3)","v":""},{"$f":"IF(L3<>\"\",CONCATENATE(DIGITADOR!$B$2,$A$2,DIGITADOR!$M$1,A3),\"\")","v":""},null,null,{"$f":"IF(G3<>\"\",G3+H3,\"\")","v":""},{"$f":"IF(K3=\"\",\"\",INDEX('OTRAS REFERENTES'!$AH$6:$AI$658,MATCH(K3,'OTRAS REFERENTES'!$AH$6:$AH$658,0),2))","v":""},null,{"$f":"IF(J3=\"\",\"\",INDEX(REFERENTES!$T:$W,MATCH(J3,REFERENTES!$V:$V,0),3))","v":""},null,null,{"$f":"IF(P3=\"\",\"\",UPPER(P3))","v":""},null,{"$f":"IF(P3=\"\",\"\",INDEX(REFERENTES!$J:$K,MATCH(P3,REFERENTES!$K:$K,0),1))","v":""},null,{"$f":"IF(R3=\"\",\"\",INDEX(REFERENTES!$D:$E,MATCH(R3,REFERENTES!$D:$D,0),2))","v":""},null,null,{"$f":"IF(U3=\"\",IF(T3=\"\",\"\",IF(AND(T3>=0,T3<=50),\"A\",IF(AND(T3>50,T3<=150),\"B\",\"C\"))),U3)","v":""},{"$f":"IF(X3=\"\",\"\",INDEX('OTRAS REFERENTES'!$H:$I,MATCH(X3,'OTRAS REFERENTES'!$I:$I,0),1))","v":""},null,null,{"$f":"IF(AA3=\"\",\"\",INDEX('OTRAS REFERENTES'!$K:$L,MATCH(AA3,'OTRAS REFERENTES'!$L:$L,0),1))","v":""},null,null,{"$f":"IF(R3=\"\",\"\",UPPER(R3))","v":""},{"$f":"IF(SUMPRODUCT(--EXACT(K3&M3,$AD$2:AD2)),\"\",K3&M3)","v":""},{"$f":"IF(SUMPRODUCT(--EXACT(K3&M3,$AE$2:AE2)),\"\",1)","v":""}]
[{"$f":"IF(L4=L3,A3,A3+1)","v":1},{"$f":"IF(F4<>F3, F4,\"\")","v":""},2,{"$f":"IF(L4=\"\",\"\",CONCATENATE(C4,F4))","v":""},{"$f":"CONCATENATE(I4,L4)","v":""},{"$f":"IF(L4<>\"\",CONCATENATE(DIGITADOR!$B$2,$A$2,DIGITADOR!$M$1,A4),\"\")","v":""},null,null,"",{"$f":"IF(K4=\"\",\"\",INDEX('OTRAS REFERENTES'!$AH$6:$AI$658,MATCH(K4,'OTRAS REFERENTES'!$AH$6:$AH$658,0),2))","v":""},null,{"$f":"IF(J4=\"\",\"\",INDEX(REFERENTES!$T:$W,MATCH(J4,REFERENTES!$V:$V,0),3))","v":""},null,null,"",null,{"$f":"IF(P4=\"\",\"\",INDEX(REFERENTES!$J:$K,MATCH(P4,REFERENTES!$K:$K,0),1))","v":""},null,{"$f":"IF(R4=\"\",\"\",INDEX(REFERENTES!$D:$E,MATCH(R4,REFERENTES!$D:$D,0),2))","v":""},null,null,"",{"$f":"IF(X4=\"\",\"\",INDEX('OTRAS REFERENTES'!$H:$I,MATCH(X4,'OTRAS REFERENTES'!$I:$I,0),1))","v":""},null,null,{"$f":"IF(AA4=\"\",\"\",INDEX('OTRAS REFERENTES'!$K:$L,MATCH(AA4,'OTRAS REFERENTES'!$L:$L,0),1))","v":""},null,null,{"$f":"IF(R4=\"\",\"\",UPPER(R4))","v":""},{"$f":"IF(SUMPRODUCT(--EXACT(K4&M4,$AD$2:AD3)),\"\",K4&M4)","v":""},{"$f":"IF(SUMPRODUCT(--EXACT(K4&M4,$AD$2:AD3)),\"\",MAX($AE$3:AE3)+1)","v":""}]
[{"$f":"IF(L5=L4,A4,A4+1)","v":1},{"$f":"IF(F5<>F4, F5,\"\")","v":""},3,"",{"$f":"CONCATENATE(I5,L5)","v":""},{"$f":"IF(L5<>\"\",CONCATENATE(DIGITADOR!$B$2,$A$2,DIGITADOR!$M$1,A5),\"\")","v":""},null,null,"",{"$f":"IF(K5=\"\",\"\",INDEX('OTRAS REFERENTES'!$AH$6:$AI$658,MATCH(K5,'OTRAS REFERENTES'!$AH$6:$AH$658,0),2))","v":""},null,{"$f":"IF(J5=\"\",\"\",INDEX(REFERENTES!$T:$W,MATCH(J5,REFERENTES!$V:$V,0),3))","v":""},null,null,"",null,{"$f":"IF(P5=\"\",\"\",INDEX(REFERENTES!$J:$K,MATCH(P5,REFERENTES!$K:$K,0),1))","v":""},null,{"$f":"IF(R5=\"\",\"\",INDEX(REFERENTES!$D:$E,MATCH(R5,REFERENTES!$D:$D,0),2))","v":""},null,null,"",{"$f":"IF(X5=\"\",\"\",INDEX('OTRAS REFERENTES'!$H:$I,MATCH(X5,'OTRAS REFERENTES'!$I:$I,0),1))","v":""},null,null,{"$f":"IF(AA5=\"\",\"\",INDEX('OTRAS REFERENTES'!$K:$L,MATCH(AA5,'OTRAS REFERENTES'!$L:$L,0),1))","v":""},null,null,"",{"$f":"IF(SUMPRODUCT(--EXACT(K5&M5,$AD$2:AD4)),\"\",K5&M5)","v":""},{"$f":"IF(SUMPRODUCT(--EXACT(K5&M5,$AD$2:AD4)),\"\",MAX($AE$3:AE4)+1)","v":""}]
[1,"",4,"","",{"$f":"IF(L6<>\"\",CONCATENATE(DIGITADOR!$B$2,$A$2,DIGITADOR!$M$1,A6),\"\")","v":""},null,null,"",{"$f":"IF(K6=\"\",\"\",INDEX('OTRAS REFERENTES'!$AH$6:$AI$658,MATCH(K6,'OTRAS REFERENTES'!$AH$6:$AH$658,0),2))","v":""},null,{"$f":"IF(J6=\"\",\"\",INDEX(REFERENTES!$T:$W,MATCH(J6,REFERENTES!$V:$V,0),3))","v":""},null,null,"",null,{"$f":"IF(P6=\"\",\"\",INDEX(REFERENTES!$J:$K,MATCH(P6,REFERENTES!$K:$K,0),1))","v":""},null,{"$f":"IF(R6=\"\",\"\",INDEX(REFERENTES!$D:$E,MATCH(R6,REFERENTES!$D:$D,0),2))","v":""},null,null,"",{"$f":"IF(X6=\"\",\"\",INDEX('OTRAS REFERENTES'!$H:$I,MATCH(X6,'OTRAS REFERENTES'!$I:$I,0),1))","v":""},null,null,{"$f":"IF(AA6=\"\",\"\",INDEX('OTRAS REFERENTES'!$K:$L,MATCH(AA6,'OTRAS REFERENTES'!$L:$L,0),1))","v":""},null,null,"",{"$f":"IF(SUMPRODUCT(--EXACT(K6&M6,$AD$2:AD5)),\"\",K6&M6)","v":""},{"$f":"IF(SUMPRODUCT(--EXACT(K6&M6,$AD$2:AD5)),\"\",MAX($AE$3:AE5)+1)","v":""}]
[1,"",5,"","",{"$f":"IF(L7<>\"\",CONCATENATE(DIGITADOR!$B$2,$A$2,DIGITADOR!$M$1,A7),\"\")","v":""},null,null,"",{"$f":"IF(K7=\"\",\"\",INDEX('OTRAS REFERENTES'!$AH$6:$AI$658,MATCH(K7,'OTRAS REFERENTES'!$AH$6:$AH$658,0),2))","v":""},null,{"$f":"IF(J7=\"\",\"\",INDEX(REFERENTES!$T:$W,MATCH(J7,REFERENTES!$V:$V,0),3))","v":""},null,null,"",null,{"$f":"IF(P7=\"\",\"\",INDEX(REFERENTES!$J:$K,MATCH(P7,REFERENTES!$K:$K,0),1))","v":""},null,{"$f":"IF(R7=\"\",\"\",INDEX(REFERENTES!$D:$E,MATCH(R7,REFERENTES!$D:$D,0),2))","v":""},null,null,"",{"$f":"IF(X7=\"\",\"\",INDEX('OTRAS REFERENTES'!$H:$I,MATCH(X7,'OTRAS REFERENTES'!$I:$I,0),1))","v":""},null,null,{"$f":"IF(AA7=\"\",\"\",INDEX('OTRAS REFERENTES'!$K:$L,MATCH(AA7,'OTRAS REFERENTES'!$L:$L,0),1))","v":""},null,null,"",{"$f":"IF(SUMPRODUCT(--EXACT(K7&M7,$AD$2:AD6)),\"\",K7&M7)","v":""},{"$f":"IF(SUMPRODUCT(--EXACT(K7&M7,$AD$2:AD6)),\"\",MAX($AE$3:AE6)+1)","v":""}]
[1,"",6,"","",{"$f":"IF(L8<>\"\",CONCATENATE(DIGITADOR!$B$2,$A$2,DIGITADOR!$M$1,A8),\"\")","v":""},null,null,"",{"$f":"IF(K8=\"\",\"\",INDEX('OTRAS REFERENTES'!$AH$6:$AI$658,MATCH(K8,'OTRAS REFERENTES'!$AH$6:$AH$658,0),2))","v":""},null,{"$f":"IF(J8=\"\",\"\",INDEX(REFERENTES!$T:$W,MATCH(J8,REFERENTES!$V:$V,0),3))","v":""},null,null,"",null,{"$f":"IF(P8=\"\",\"\",INDEX(REFERENTES!$J:$K,MATCH(P8,REFERENTES!$K:$K,0),1))","v":""},null,{"$f":"IF(R8=\"\",\"\",INDEX(REFERENTES!$D:$E,MATCH(R8,REFERENTES!$D:$D,0),2))","v":""},null,null,"",{"$f":"IF(X8=\"\",\"\",INDEX('OTRAS REFERENTES'!$H:$I,MATCH(X8,'OTRAS REFERENTES'!$I:$I,0),1))","v":""},null,null,{"$f":"IF(AA8=\"\",\"\",INDEX('OTRAS REFERENTES'!$K:$L,MATCH(AA8,'OTRAS REFERENTES'!$L:$L,0),1))","v":""},null,null,"",{"$f":"IF(SUMPRODUCT(--EXACT(K8&M8,$AD$2:AD7)),\"\",K8&M8)","v":""},{"$f":"IF(SUMPRODUCT(--EXACT(K8&M8,$AD$2:AD7)),\"\",MAX($AE$3:AE7)+1)","v":""}]
[1,"",7,"","",{"$f":"IF(L9<>\"\",CONCATENATE(DIGITADOR!$B$2,$A$2,DIGITADOR!$M$1,A9),\"\")","v":""},null,null,"",{"$f":"IF(K9=\"\",\"\",INDEX('OTRAS REFERENTES'!$AH$6:$AI$658,MATCH(K9,'OTRAS REFERENTES'!$AH$6:$AH$658,0),2))","v":""},null,{"$f":"IF(J9=\"\",\"\",INDEX(REFERENTES!$T:$W,MATCH(J9,REFERENTES!$V:$V,0),3))","v":""},null,null,"",null,{"$f":"IF(P9=\"\",\"\",INDEX(REFERENTES!$J:$K,MATCH(P9,REFERENTES!$K:$K,0),1))","v":""},null,{"$f":"IF(R9=\"\",\"\",INDEX(REFERENTES!$D:$E,MATCH(R9,REFERENTES!$D:$D,0),2))","v":""},null,null,"",{"$f":"IF(X9=\"\",\"\",INDEX('OTRAS REFERENTES'!$H:$I,MATCH(X9,'OTRAS REFERENTES'!$I:$I,0),1))","v":""},null,null,{"$f":"IF(AA9=\"\",\"\",INDEX('OTRAS REFERENTES'!$K:$L,MATCH(AA9,'OTRAS REFERENTES'!$L:$L,0),1))","v":""},null,null,"",{"$f":"IF(SUMPRODUCT(--EXACT(K9&M9,$AD$2:AD8)),\"\",K9&M9)","v":""},{"$f":"IF(SUMPRODUCT(--EXACT(K9&M9,$AD$2:AD8)),\"\",MAX($AE$3:AE8)+1)","v":""}]
[1,"",8,"","",{"$f":"IF(L10<>\"\",CONCATENATE(DIGITADOR!$B$2,$A$2,DIGITADOR!$M$1,A10),\"\")","v":""},null,null,"",{"$f":"IF(K10=\"\",\"\",INDEX('OTRAS REFERENTES'!$AH$6:$AI$658,MATCH(K10,'OTRAS REFERENTES'!$AH$6:$AH$658,0),2))","v":""},null,{"$f":"IF(J10=\"\",\"\",INDEX(REFERENTES!$T:$W,MATCH(J10,REFERENTES!$V:$V,0),3))","v":""},null,null,"",null,{"$f":"IF(P10=\"\",\"\",INDEX(REFERENTES!$J:$K,MATCH(P10,REFERENTES!$K:$K,0),1))","v":""},null,{"$f":"IF(R10=\"\",\"\",INDEX(REFERENTES!$D:$E,MATCH(R10,REFERENTES!$D:$D,0),2))","v":""},null,null,"",{"$f":"IF(X10=\"\",\"\",INDEX('OTRAS REFERENTES'!$H:$I,MATCH(X10,'OTRAS REFERENTES'!$I:$I,0),1))","v":""},null,null,{"$f":"IF(AA10=\"\",\"\",INDEX('OTRAS REFERENTES'!$K:$L,MATCH(AA10,'OTRAS REFERENTES'!$L:$L,0),1))","v":""},null,null,"",{"$f":"IF(SUMPRODUCT(--EXACT(K10&M10,$AD$2:AD9)),\"\",K10&M10)","v":""},{"$f":"IF(SUMPRODUCT(--EXACT(K10&M10,$AD$2:AD9)),\"\",MAX($AE$3:AE9)+1)","v":""}]
[1,"",9,"","",{"$f":"IF(L11<>\"\",CONCATENATE(DIGITADOR!$B$2,$A$2,DIGITADOR!$M$1,A11),\"\")","v":""},null,null,"",{"$f":"IF(K11=\"\",\"\",INDEX('OTRAS REFERENTES'!$AH$6:$AI$658,MATCH(K11,'OTRAS REFERENTES'!$AH$6:$AH$658,0),2))","v":""},null,{"$f":"IF(J11=\"\",\"\",INDEX(REFERENTES!$T:$W,MATCH(J11,REFERENTES!$V:$V,0),3))","v":""},null,null,"",null,{"$f":"IF(P11=\"\",\"\",INDEX(REFERENTES!$J:$K,MATCH(P11,REFERENTES!$K:$K,0),1))","v":""},null,{"$f":"IF(R11=\"\",\"\",INDEX(REFERENTES!$D:$E,MATCH(R11,REFERENTES!$D:$D,0),2))","v":""},null,null,"",{"$f":"IF(X11=\"\",\"\",INDEX('OTRAS REFERENTES'!$H:$I,MATCH(X11,'OTRAS REFERENTES'!$I:$I,0),1))","v":""},null,null,{"$f":"IF(AA11=\"\",\"\",INDEX('OTRAS REFERENTES'!$K:$L,MATCH(AA11,'OTRAS REFERENTES'!$L:$L,0),1))","v":""},null,null,"",{"$f":"IF(SUMPRODUCT(--EXACT(K11&M11,$AD$2:AD10)),\"\",K11&M11)","v":""},{"$f":"IF(SUMPRODUCT(--EXACT(K11&M11,$AD$2:AD10)),\"\",MAX($AE$3:AE10)+1)","v":""}]
[1,"",10,"","",{"$f":"IF(L12<>\"\",CONCATENATE(DIGITADOR!$B$2,$A$2,DIGITADOR!$M$1,A12),\"\")","v":""},null,null,"",{"$f":"IF(K12=\"\",\"\",INDEX('OTRAS REFERENTES'!$AH$6:$AI$658,MATCH(K12,'OTRAS REFERENTES'!$AH$6:$AH$658,0),2))","v":""},null,{"$f":"IF(J12=\"\",\"\",INDEX(REFERENTES!$T:$W,MATCH(J12,REFERENTES!$V:$V,0),3))","v":""},null,null,"",null,{"$f":"IF(P12=\"\",\"\",INDEX(REFERENTES!$J:$K,MATCH(P12,REFERENTES!$K:$K,0),1))","v":""},null,{"$f":"IF(R12=\"\",\"\",INDEX(REFERENTES!$D:$E,MATCH(R12,REFERENTES!$D:$D,0),2))","v":""},null,null,"",{"$f":"IF(X12=\"\",\"\",INDEX('OTRAS REFERENTES'!$H:$I,MATCH(X12,'OTRAS REFERENTES'!$I:$I,0),1))","v":""},null,null,{"$f":"IF(AA12=\"\",\"\",INDEX('OTRAS REFERENTES'!$K:$L,MATCH(AA12,'OTRAS REFERENTES'!$L:$L,0),1))","v":""},null,null,"",{"$f":"IF(SUMPRODUCT(--EXACT(K12&M12,$AD$2:AD11)),\"\",K12&M12)","v":""},{"$f":"IF(SUMPRODUCT(--EXACT(K12&M12,$AD$2:AD11)),\"\",MAX($AE$3:AE11)+1)","v":""}]
[1,"",11,"","",{"$f":"IF(L13<>\"\",CONCATENATE(DIGITADOR!$B$2,$A$2,DIGITADOR!$M$1,A13),\"\")","v":""},null,null,"",{"$f":"IF(K13=\"\",\"\",INDEX('OTRAS REFERENTES'!$AH$6:$AI$658,MATCH(K13,'OTRAS REFERENTES'!$AH$6:$AH$658,0),2))","v":""},null,{"$f":"IF(J13=\"\",\"\",INDEX(REFERENTES!$T:$W,MATCH(J13,REFERENTES!$V:$V,0),3))","v":""},null,null,"",null,{"$f":"IF(P13=\"\",\"\",INDEX(REFERENTES!$J:$K,MATCH(P13,REFERENTES!$K:$K,0),1))","v":""},null,{"$f":"IF(R13=\"\",\"\",INDEX(REFERENTES!$D:$E,MATCH(R13,REFERENTES!$D:$D,0),2))","v":""},null,null,"",{"$f":"IF(X13=\"\",\"\",INDEX('OTRAS REFERENTES'!$H:$I,MATCH(X13,'OTRAS REFERENTES'!$I:$I,0),1))","v":""},null,null,{"$f":"IF(AA13=\"\",\"\",INDEX('OTRAS REFERENTES'!$K:$L,MATCH(AA13,'OTRAS REFERENTES'!$L:$L,0),1))","v":""},null,null,"",{"$f":"IF(SUMPRODUCT(--EXACT(K13&M13,$AD$2:AD12)),\"\",K13&M13)","v":""},{"$f":"IF(SUMPRODUCT(--EXACT(K13&M13,$AD$2:AD12)),\"\",MAX($AE$3:AE12)+1)","v":""}]
[1,"",12,"","",{"$f":"IF(L14<>\"\",CONCATENATE(DIGITADOR!$B$2,$A$2,DIGITADOR!$M$1,A14),\"\")","v":""},null,null,"",{"$f":"IF(K14=\"\",\"\",INDEX('OTRAS REFERENTES'!$AH$6:$AI$658,MATCH(K14,'OTRAS REFERENTES'!$AH$6:$AH$658,0),2))","v":""},null,{"$f":"IF(J14=\"\",\"\",INDEX(REFERENTES!$T:$W,MATCH(J14,REFERENTES!$V:$V,0),3))","v":""},null,null,"",null,{"$f":"IF(P14=\"\",\"\",INDEX(REFERENTES!$J:$K,MATCH(P14,REFERENTES!$K:$K,0),1))","v":""},null,{"$f":"IF(R14=\"\",\"\",INDEX(REFERENTES!$D:$E,MATCH(R14,REFERENTES!$D:$D,0),2))","v":""},null,null,"",{"$f":"IF(X14=\"\",\"\",INDEX('OTRAS REFERENTES'!$H:$I,MATCH(X14,'OTRAS REFERENTES'!$I:$I,0),1))","v":""},null,null,{"$f":"IF(AA14=\"\",\"\",INDEX('OTRAS REFERENTES'!$K:$L,MATCH(AA14,'OTRAS REFERENTES'!$L:$L,0),1))","v":""},null,null,"",{"$f":"IF(SUMPRODUCT(--EXACT(K14&M14,$AD$2:AD13)),\"\",K14&M14)","v":""},{"$f":"IF(SUMPRODUCT(--EXACT(K14&M14,$AD$2:AD13)),\"\",MAX($AE$3:AE13)+1)","v":""}]
[1,"",13,"","",{"$f":"IF(L15<>\"\",CONCATENATE(DIGITADOR!$B$2,$A$2,DIGITADOR!$M$1,A15),\"\")","v":""},null,null,"",{"$f":"IF(K15=\"\",\"\",INDEX('OTRAS REFERENTES'!$AH$6:$AI$658,MATCH(K15,'OTRAS REFERENTES'!$AH$6:$AH$658,0),2))","v":""},null,{"$f":"IF(J15=\"\",\"\",INDEX(REFERENTES!$T:$W,MATCH(J15,REFERENTES!$V:$V,0),3))","v":""},null,null,"",null,{"$f":"IF(P15=\"\",\"\",INDEX(REFERENTES!$J:$K,MATCH(P15,REFERENTES!$K:$K,0),1))","v":""},null,{"$f":"IF(R15=\"\",\"\",INDEX(REFERENTES!$D:$E,MATCH(R15,REFERENTES!$D:$D,0),2))","v":""},null,null,"",{"$f":"IF(X15=\"\",\"\",INDEX('OTRAS REFERENTES'!$H:$I,MATCH(X15,'OTRAS REFERENTES'!$I:$I,0),1))","v":""},null,null,{"$f":"IF(AA15=\"\",\"\",INDEX('OTRAS REFERENTES'!$K:$L,MATCH(AA15,'OTRAS REFERENTES'!$L:$L,0),1))","v":""},null,null,"",{"$f":"IF(SUMPRODUCT(--EXACT(K15&M15,$AD$2:AD14)),\"\",K15&M15)","v":""},{"$f":"IF(SUMPRODUCT(--EXACT(K15&M15,$AD$2:AD14)),\"\",MAX($AE$3:AE14)+1)","v":""}]
[1,"",14,"","",{"$f":"IF(L16<>\"\",CONCATENATE(DIGITADOR!$B$2,$A$2,DIGITADOR!$M$1,A16),\"\")","v":""},null,null,"",{"$f":"IF(K16=\"\",\"\",INDEX('OTRAS REFERENTES'!$AH$6:$AI$658,MATCH(K16,'OTRAS REFERENTES'!$AH$6:$AH$658,0),2))","v":""},null,{"$f":"IF(J16=\"\",\"\",INDEX(REFERENTES!$T:$W,MATCH(J16,REFERENTES!$V:$V,0),3))","v":""},null,null,"",null,{"$f":"IF(P16=\"\",\"\",INDEX(REFERENTES!$J:$K,MATCH(P16,REFERENTES!$K:$K,0),1))","v":""},null,{"$f":"IF(R16=\"\",\"\",INDEX(REFERENTES!$D:$E,MATCH(R16,REFERENTES!$D:$D,0),2))","v":""},null,null,"",{"$f":"IF(X16=\"\",\"\",INDEX('OTRAS REFERENTES'!$H:$I,MATCH(X16,'OTRAS REFERENTES'!$I:$I,0),1))","v":""},null,null,{"$f":"IF(AA16=\"\",\"\",INDEX('OTRAS REFERENTES'!$K:$L,MATCH(AA16,'OTRAS REFERENTES'!$L:$L,0),1))","v":""},null,null,"",{"$f":"IF(SUMPRODUCT(--EXACT(K16&M16,$AD$2:AD15)),\"\",K16&M16)","v":""},{"$f":"IF(SUMPRODUCT(--EXACT(K16&M16,$AD$2:AD15)),\"\",MAX($AE$3:AE15)+1)","v":""}]
[1,"",15,"","",{"$f":"IF(L17<>\"\",CONCATENATE(DIGITADOR!$B$2,$A$2,DIGITADOR!$M$1,A17),\"\")","v":""},null,null,"",{"$f":"IF(K17=\"\",\"\",INDEX('OTRAS REFERENTES'!$AH$6:$AI$658,MATCH(K17,'OTRAS REFERENTES'!$AH$6:$AH$658,0),2))","v":""},null,{"$f":"IF(J17=\"\",\"\",INDEX(REFERENTES!$T:$W,MATCH(J17,REFERENTES!$V:$V,0),3))","v":""},null,null,"",null,{"$f":"IF(P17=\"\",\"\",INDEX(REFERENTES!$J:$K,MATCH(P17,REFERENTES!$K:$K,0),1))","v":""},null,{"$f":"IF(R17=\"\",\"\",INDEX(REFERENTES!$D:$E,MATCH(R17,REFERENTES!$D:$D,0),2))","v":""},null,null,"",{"$f":"IF(X17=\"\",\"\",INDEX('OTRAS REFERENTES'!$H:$I,MATCH(X17,'OTRAS REFERENTES'!$I:$I,0),1))","v":""},null,null,{"$f":"IF(AA17=\"\",\"\",INDEX('OTRAS REFERENTES'!$K:$L,MATCH(AA17,'OTRAS REFERENTES'!$L:$L,0),1))","v":""},null,null,"",{"$f":"IF(SUMPRODUCT(--EXACT(K17&M17,$AD$2:AD16)),\"\",K17&M17)","v":""},{"$f":"IF(SUMPRODUCT(--EXACT(K17&M17,$AD$2:AD16)),\"\",MAX($AE$3:AE16)+1)","v":""}]
[1,"",16,"","",{"$f":"IF(L18<>\"\",CONCATENATE(DIGITADOR!$B$2,$A$2,DIGITADOR!$M$1,A18),\"\")","v":""},null,null,"",{"$f":"IF(K18=\"\",\"\",INDEX('OTRAS REFERENTES'!$AH$6:$AI$658,MATCH(K18,'OTRAS REFERENTES'!$AH$6:$AH$658,0),2))","v":""},null,{"$f":"IF(J18=\"\",\"\",INDEX(REFERENTES!$T:$W,MATCH(J18,REFERENTES!$V:$V,0),3))","v":""},null,null,"",null,{"$f":"IF(P18=\"\",\"\",INDEX(REFERENTES!$J:$K,MATCH(P18,REFERENTES!$K:$K,0),1))","v":""},null,{"$f":"IF(R18=\"\",\"\",INDEX(REFERENTES!$D:$E,MATCH(R18,REFERENTES!$D:$D,0),2))","v":""},null,null,"",{"$f":"IF(X18=\"\",\"\",INDEX('OTRAS REFERENTES'!$H:$I,MATCH(X18,'OTRAS REFERENTES'!$I:$I,0),1))","v":""},null,null,{"$f":"IF(AA18=\"\",\"\",INDEX('OTRAS REFERENTES'!$K:$L,MATCH(AA18,'OTRAS REFERENTES'!$L:$L,0),1))","v":""},null,null,"",{"$f":"IF(SUMPRODUCT(--EXACT(K18&M18,$AD$2:AD17)),\"\",K18&M18)","v":""},{"$f":"IF(SUMPRODUCT(--EXACT(K18&M18,$AD$2:AD17)),\"\",MAX($AE$3:AE17)+1)","v":""}]
[1,"",17,"","",{"$f":"IF(L19<>\"\",CONCATENATE(DIGITADOR!$B$2,$A$2,DIGITADOR!$M$1,A19),\"\")","v":""},null,null,"",{"$f":"IF(K19=\"\",\"\",INDEX('OTRAS REFERENTES'!$AH$6:$AI$658,MATCH(K19,'OTRAS REFERENTES'!$AH$6:$AH$658,0),2))","v":""},null,{"$f":"IF(J19=\"\",\"\",INDEX(REFERENTES!$T:$W,MATCH(J19,REFERENTES!$V:$V,0),3))","v":""},null,null,"",null,{"$f":"IF(P19=\"\",\"\",INDEX(REFERENTES!$J:$K,MATCH(P19,REFERENTES!$K:$K,0),1))","v":""},null,{"$f":"IF(R19=\"\",\"\",INDEX(REFERENTES!$D:$E,MATCH(R19,REFERENTES!$D:$D,0),2))","v":""},null,null,"",{"$f":"IF(X19=\"\",\"\",INDEX('OTRAS REFERENTES'!$H:$I,MATCH(X19,'OTRAS REFERENTES'!$I:$I,0),1))","v":""},null,null,{"$f":"IF(AA19=\"\",\"\",INDEX('OTRAS REFERENTES'!$K:$L,MATCH(AA19,'OTRAS REFERENTES'!$L:$L,0),1))","v":""},null,null,"",{"$f":"IF(SUMPRODUCT(--EXACT(K19&M19,$AD$2:AD18)),\"\",K19&M19)","v":""},{"$f":"IF(SUMPRODUCT(--EXACT(K19&M19,$AD$2:AD18)),\"\",MAX($AE$3:AE18)+1)","v":""}]
[1,"",18,"","",{"$f":"IF(L20<>\"\",CONCATENATE(DIGITADOR!$B$2,$A$2,DIGITADOR!$M$1,A20),\"\")","v":""},null,null,"",{"$f":"IF(K20=\"\",\"\",INDEX('OTRAS REFERENTES'!$AH$6:$AI$658,MATCH(K20,'OTRAS REFERENTES'!$AH$6:$AH$658,0),2))","v":""},null,{"$f":"IF(J20=\"\",\"\",INDEX(REFERENTES!$T:$W,MATCH(J20,REFERENTES!$V:$V,0),3))","v":""},null,null,"",null,{"$f":"IF(P20=\"\",\"\",INDEX(REFERENTES!$J:$K,MATCH(P20,REFERENTES!$K:$K,0),1))","v":""},null,{"$f":"IF(R20=\"\",\"\",INDEX(REFERENTES!$D:$E,MATCH(R20,REFERENTES!$D:$D,0),2))","v":""},null,null,"",{"$f":"IF(X20=\"\",\"\",INDEX('OTRAS REFERENTES'!$H:$I,MATCH(X20,'OTRAS REFERENTES'!$I:$I,0),1))","v":""},null,null,{"$f":"IF(AA20=\"\",\"\",INDEX('OTRAS REFERENTES'!$K:$L,MATCH(AA20,'OTRAS REFERENTES'!$L:$L,0),1))","v":""},null,null,"",{"$f":"IF(SUMPRODUCT(--EXACT(K20&M20,$AD$2:AD19)),\"\",K20&M20)","v":""},{"$f":"IF(SUMPRODUCT(--EXACT(K20&M20,$AD$2:AD19)),\"\",MAX($AE$3:AE19)+1)","v":""}]
[1,"",19,"","",{"$f":"IF(L21<>\"\",CONCATENATE(DIGITADOR!$B$2,$A$2,DIGITADOR!$M$1,A21),\"\")","v":""},null,null,"",{"$f":"IF(K21=\"\",\"\",INDEX('OTRAS REFERENTES'!$AH$6:$AI$658,MATCH(K21,'OTRAS REFERENTES'!$AH$6:$AH$658,0),2))","v":""},null,{"$f":"IF(J21=\"\",\"\",INDEX(REFERENTES!$T:$W,MATCH(J21,REFERENTES!$V:$V,0),3))","v":""},null,null,"",null,{"$f":"IF(P21=\"\",\"\",INDEX(REFERENTES!$J:$K,MATCH(P21,REFERENTES!$K:$K,0),1))","v":""},null,{"$f":"IF(R21=\"\",\"\",INDEX(REFERENTES!$D:$E,MATCH(R21,REFERENTES!$D:$D,0),2))","v":""},null,null,"",{"$f":"IF(X21=\"\",\"\",INDEX('OTRAS REFERENTES'!$H:$I,MATCH(X21,'OTRAS REFERENTES'!$I:$I,0),1))","v":""},null,null,{"$f":"IF(AA21=\"\",\"\",INDEX('OTRAS REFERENTES'!$K:$L,MATCH(AA21,'OTRAS REFERENTES'!$L:$L,0),1))","v":""},null,null,"",{"$f":"IF(SUMPRODUCT(--EXACT(K21&M21,$AD$2:AD20)),\"\",K21&M21)","v":""},{"$f":"IF(SUMPRODUCT(--EXACT(K21&M21,$AD$2:AD20)),\"\",MAX($AE$3:AE20)+1)","v":""}]
[1,"",20,"","",{"$f":"IF(L22<>\"\",CONCATENATE(DIGITADOR!$B$2,$A$2,DIGITADOR!$M$1,A22),\"\")","v":""},null,null,"",{"$f":"IF(K22=\"\",\"\",INDEX('OTRAS REFERENTES'!$AH$6:$AI$658,MATCH(K22,'OTRAS REFERENTES'!$AH$6:$AH$658,0),2))","v":""},null,{"$f":"IF(J22=\"\",\"\",INDEX(REFERENTES!$T:$W,MATCH(J22,REFERENTES!$V:$V,0),3))","v":""},null,null,"",null,{"$f":"IF(P22=\"\",\"\",INDEX(REFERENTES!$J:$K,MATCH(P22,REFERENTES!$K:$K,0),1))","v":""},null,{"$f":"IF(R22=\"\",\"\",INDEX(REFERENTES!$D:$E,MATCH(R22,REFERENTES!$D:$D,0),2))","v":""},null,null,"",{"$f":"IF(X22=\"\",\"\",INDEX('OTRAS REFERENTES'!$H:$I,MATCH(X22,'OTRAS REFERENTES'!$I:$I,0),1))","v":""},null,null,{"$f":"IF(AA22=\"\",\"\",INDEX('OTRAS REFERENTES'!$K:$L,MATCH(AA22,'OTRAS REFERENTES'!$L:$L,0),1))","v":""},null,null,"",{"$f":"IF(SUMPRODUCT(--EXACT(K22&M22,$AD$2:AD21)),\"\",K22&M22)","v":""},{"$f":"IF(SUMPRODUCT(--EXACT(K22&M22,$AD$2:AD21)),\"\",MAX($AE$3:AE21)+1)","v":""}]
[1,"",21,"","",{"$f":"IF(L23<>\"\",CONCATENATE(DIGITADOR!$B$2,$A$2,DIGITADOR!$M$1,A23),\"\")","v":""},null,null,"",{"$f":"IF(K23=\"\",\"\",INDEX('OTRAS REFERENTES'!$AH$6:$AI$658,MATCH(K23,'OTRAS REFERENTES'!$AH$6:$AH$658,0),2))","v":""},null,{"$f":"IF(J23=\"\",\"\",INDEX(REFERENTES!$T:$W,MATCH(J23,REFERENTES!$V:$V,0),3))","v":""},null,null,"",null,{"$f":"IF(P23=\"\",\"\",INDEX(REFERENTES!$J:$K,MATCH(P23,REFERENTES!$K:$K,0),1))","v":""},null,{"$f":"IF(R23=\"\",\"\",INDEX(REFERENTES!$D:$E,MATCH(R23,REFERENTES!$D:$D,0),2))","v":""},null,null,"",{"$f":"IF(X23=\"\",\"\",INDEX('OTRAS REFERENTES'!$H:$I,MATCH(X23,'OTRAS REFERENTES'!$I:$I,0),1))","v":""},null,null,{"$f":"IF(AA23=\"\",\"\",INDEX('OTRAS REFERENTES'!$K:$L,MATCH(AA23,'OTRAS REFERENTES'!$L:$L,0),1))","v":""},null,null,"",{"$f":"IF(SUMPRODUCT(--EXACT(K23&M23,$AD$2:AD22)),\"\",K23&M23)","v":""},{"$f":"IF(SUMPRODUCT(--EXACT(K23&M23,$AD$2:AD22)),\"\",MAX($AE$3:AE22)+1)","v":""}]
[1,"",22,"","",{"$f":"IF(L24<>\"\",CONCATENATE(DIGITADOR!$B$2,$A$2,DIGITADOR!$M$1,A24),\"\")","v":""},null,null,"",{"$f":"IF(K24=\"\",\"\",INDEX('OTRAS REFERENTES'!$AH$6:$AI$658,MATCH(K24,'OTRAS REFERENTES'!$AH$6:$AH$658,0),2))","v":""},null,{"$f":"IF(J24=\"\",\"\",INDEX(REFERENTES!$T:$W,MATCH(J24,REFERENTES!$V:$V,0),3))","v":""},null,null,"",null,{"$f":"IF(P24=\"\",\"\",INDEX(REFERENTES!$J:$K,MATCH(P24,REFERENTES!$K:$K,0),1))","v":""},null,{"$f":"IF(R24=\"\",\"\",INDEX(REFERENTES!$D:$E,MATCH(R24,REFERENTES!$D:$D,0),2))","v":""},null,null,"",{"$f":"IF(X24=\"\",\"\",INDEX('OTRAS REFERENTES'!$H:$I,MATCH(X24,'OTRAS REFERENTES'!$I:$I,0),1))","v":""},null,null,{"$f":"IF(AA24=\"\",\"\",INDEX('OTRAS REFERENTES'!$K:$L,MATCH(AA24,'OTRAS REFERENTES'!$L:$L,0),1))","v":""},null,null,"",{"$f":"IF(SUMPRODUCT(--EXACT(K24&M24,$AD$2:AD23)),\"\",K24&M24)","v":""},{"$f":"IF(SUMPRODUCT(--EXACT(K24&M24,$AD$2:AD23)),\"\",MAX($AE$3:AE23)+1)","v":""}]
[1,"",23,"","",{"$f":"IF(L25<>\"\",CONCATENATE(DIGITADOR!$B$2,$A$2,DIGITADOR!$M$1,A25),\"\")","v":""},null,null,"",{"$f":"IF(K25=\"\",\"\",INDEX('OTRAS REFERENTES'!$AH$6:$AI$658,MATCH(K25,'OTRAS REFERENTES'!$AH$6:$AH$658,0),2))","v":""},null,{"$f":"IF(J25=\"\",\"\",INDEX(REFERENTES!$T:$W,MATCH(J25,REFERENTES!$V:$V,0),3))","v":""},null,null,"",null,{"$f":"IF(P25=\"\",\"\",INDEX(REFERENTES!$J:$K,MATCH(P25,REFERENTES!$K:$K,0),1))","v":""},null,{"$f":"IF(R25=\"\",\"\",INDEX(REFERENTES!$D:$E,MATCH(R25,REFERENTES!$D:$D,0),2))","v":""},null,null,"",{"$f":"IF(X25=\"\",\"\",INDEX('OTRAS REFERENTES'!$H:$I,MATCH(X25,'OTRAS REFERENTES'!$I:$I,0),1))","v":""},null,null,{"$f":"IF(AA25=\"\",\"\",INDEX('OTRAS REFERENTES'!$K:$L,MATCH(AA25,'OTRAS REFERENTES'!$L:$L,0),1))","v":""},null,null,"",{"$f":"IF(SUMPRODUCT(--EXACT(K25&M25,$AD$2:AD24)),\"\",K25&M25)","v":""},{"$f":"IF(SUMPRODUCT(--EXACT(K25&M25,$AD$2:AD24)),\"\",MAX($AE$3:AE24)+1)","v":""}]
[1,"",24,"","",{"$f":"IF(L26<>\"\",CONCATENATE(DIGITADOR!$B$2,$A$2,DIGITADOR!$M$1,A26),\"\")","v":""},null,null,"",{"$f":"IF(K26=\"\",\"\",INDEX('OTRAS REFERENTES'!$AH$6:$AI$658,MATCH(K26,'OTRAS REFERENTES'!$AH$6:$AH$658,0),2))","v":""},null,{"$f":"IF(J26=\"\",\"\",INDEX(REFERENTES!$T:$W,MATCH(J26,REFERENTES!$V:$V,0),3))","v":""},null,null,"",null,{"$f":"IF(P26=\"\",\"\",INDEX(REFERENTES!$J:$K,MATCH(P26,REFERENTES!$K:$K,0),1))","v":""},null,{"$f":"IF(R26=\"\",\"\",INDEX(REFERENTES!$D:$E,MATCH(R26,REFERENTES!$D:$D,0),2))","v":""},null,null,"",{"$f":"IF(X26=\"\",\"\",INDEX('OTRAS REFERENTES'!$H:$I,MATCH(X26,'OTRAS REFERENTES'!$I:$I,0),1))","v":""},null,null,{"$f":"IF(AA26=\"\",\"\",INDEX('OTRAS REFERENTES'!$K:$L,MATCH(AA26,'OTRAS REFERENTES'!$L:$L,0),1))","v":""},null,null,"",{"$f":"IF(SUMPRODUCT(--EXACT(K26&M26,$AD$2:AD25)),\"\",K26&M26)","v":""},{"$f":"IF(SUMPRODUCT(--EXACT(K26&M26,$AD$2:AD25)),\"\",MAX($AE$3:AE25)+1)","v":""}]
[1,"",25,"","",{"$f":"IF(L27<>\"\",CONCATENATE(DIGITADOR!$B$2,$A$2,DIGITADOR!$M$1,A27),\"\")","v":""},null,null,"",{"$f":"IF(K27=\"\",\"\",INDEX('OTRAS REFERENTES'!$AH$6:$AI$658,MATCH(K27,'OTRAS REFERENTES'!$AH$6:$AH$658,0),2))","v":""},null,{"$f":"IF(J27=\"\",\"\",INDEX(REFERENTES!$T:$W,MATCH(J27,REFERENTES!$V:$V,0),3))","v":""},null,null,"",null,{"$f":"IF(P27=\"\",\"\",INDEX(REFERENTES!$J:$K,MATCH(P27,REFERENTES!$K:$K,0),1))","v":""},null,{"$f":"IF(R27=\"\",\"\",INDEX(REFERENTES!$D:$E,MATCH(R27,REFERENTES!$D:$D,0),2))","v":""},null,null,"",{"$f":"IF(X27=\"\",\"\",INDEX('OTRAS REFERENTES'!$H:$I,MATCH(X27,'OTRAS REFERENTES'!$I:$I,0),1))","v":""},null,null,{"$f":"IF(AA27=\"\",\"\",INDEX('OTRAS REFERENTES'!$K:$L,MATCH(AA27,'OTRAS REFERENTES'!$L:$L,0),1))","v":""},null,null,"",{"$f":"IF(SUMPRODUCT(--EXACT(K27&M27,$AD$2:AD26)),\"\",K27&M27)","v":""},{"$f":"IF(SUMPRODUCT(--EXACT(K27&M27,$AD$2:AD26)),\"\",MAX($AE$3:AE26)+1)","v":""}]
[1,"",26,"","",{"$f":"IF(L28<>\"\",CONCATENATE(DIGITADOR!$B$2,$A$2,DIGITADOR!$M$1,A28),\"\")","v":""},null,null,"",{"$f":"IF(K28=\"\",\"\",INDEX('OTRAS REFERENTES'!$AH$6:$AI$658,MATCH(K28,'OTRAS REFERENTES'!$AH$6:$AH$658,0),2))","v":""},null,{"$f":"IF(J28=\"\",\"\",INDEX(REFERENTES!$T:$W,MATCH(J28,REFERENTES!$V:$V,0),3))","v":""},null,null,"",null,{"$f":"IF(P28=\"\",\"\",INDEX(REFERENTES!$J:$K,MATCH(P28,REFERENTES!$K:$K,0),1))","v":""},null,{"$f":"IF(R28=\"\",\"\",INDEX(REFERENTES!$D:$E,MATCH(R28,REFERENTES!$D:$D,0),2))","v":""},null,null,"",{"$f":"IF(X28=\"\",\"\",INDEX('OTRAS REFERENTES'!$H:$I,MATCH(X28,'OTRAS REFERENTES'!$I:$I,0),1))","v":""},null,null,{"$f":"IF(AA28=\"\",\"\",INDEX('OTRAS REFERENTES'!$K:$L,MATCH(AA28,'OTRAS REFERENTES'!$L:$L,0),1))","v":""},null,null,"",{"$f":"IF(SUMPRODUCT(--EXACT(K28&M28,$AD$2:AD27)),\"\",K28&M28)","v":""},{"$f":"IF(SUMPRODUCT(--EXACT(K28&M28,$AD$2:AD27)),\"\",MAX($AE$3:AE27)+1)","v":""}]
[1,"",27,"","",{"$f":"IF(L29<>\"\",CONCATENATE(DIGITADOR!$B$2,$A$2,DIGITADOR!$M$1,A29),\"\")","v":""},null,null,"",{"$f":"IF(K29=\"\",\"\",INDEX('OTRAS REFERENTES'!$AH$6:$AI$658,MATCH(K29,'OTRAS REFERENTES'!$AH$6:$AH$658,0),2))","v":""},null,{"$f":"IF(J29=\"\",\"\",INDEX(REFERENTES!$T:$W,MATCH(J29,REFERENTES!$V:$V,0),3))","v":""},null,null,"",null,{"$f":"IF(P29=\"\",\"\",INDEX(REFERENTES!$J:$K,MATCH(P29,REFERENTES!$K:$K,0),1))","v":""},null,{"$f":"IF(R29=\"\",\"\",INDEX(REFERENTES!$D:$E,MATCH(R29,REFERENTES!$D:$D,0),2))","v":""},null,null,"",{"$f":"IF(X29=\"\",\"\",INDEX('OTRAS REFERENTES'!$H:$I,MATCH(X29,'OTRAS REFERENTES'!$I:$I,0),1))","v":""},null,null,{"$f":"IF(AA29=\"\",\"\",INDEX('OTRAS REFERENTES'!$K:$L,MATCH(AA29,'OTRAS REFERENTES'!$L:$L,0),1))","v":""},null,null,"",{"$f":"IF(SUMPRODUCT(--EXACT(K29&M29,$AD$2:AD28)),\"\",K29&M29)","v":""},{"$f":"IF(SUMPRODUCT(--EXACT(K29&M29,$AD$2:AD28)),\"\",MAX($AE$3:AE28)+1)","v":""}]
[1,"",28,"","",{"$f":"IF(L30<>\"\",CONCATENATE(DIGITADOR!$B$2,$A$2,DIGITADOR!$M$1,A30),\"\")","v":""},null,null,"",{"$f":"IF(K30=\"\",\"\",INDEX('OTRAS REFERENTES'!$AH$6:$AI$658,MATCH(K30,'OTRAS REFERENTES'!$AH$6:$AH$658,0),2))","v":""},null,{"$f":"IF(J30=\"\",\"\",INDEX(REFERENTES!$T:$W,MATCH(J30,REFERENTES!$V:$V,0),3))","v":""},null,null,"",null,{"$f":"IF(P30=\"\",\"\",INDEX(REFERENTES!$J:$K,MATCH(P30,REFERENTES!$K:$K,0),1))","v":""},null,{"$f":"IF(R30=\"\",\"\",INDEX(REFERENTES!$D:$E,MATCH(R30,REFERENTES!$D:$D,0),2))","v":""},null,null,"",{"$f":"IF(X30=\"\",\"\",INDEX('OTRAS REFERENTES'!$H:$I,MATCH(X30,'OTRAS REFERENTES'!$I:$I,0),1))","v":""},null,null,{"$f":"IF(AA30=\"\",\"\",INDEX('OTRAS REFERENTES'!$K:$L,MATCH(AA30,'OTRAS REFERENTES'!$L:$L,0),1))","v":""},null,null,"",{"$f":"IF(SUMPRODUCT(--EXACT(K30&M30,$AD$2:AD29)),\"\",K30&M30)","v":""},{"$f":"IF(SUMPRODUCT(--EXACT(K30&M30,$AD$2:AD29)),\"\",MAX($AE$3:AE29)+1)","v":""}]
[1,"",29,"","",{"$f":"IF(L31<>\"\",CONCATENATE(DIGITADOR!$B$2,$A$2,DIGITADOR!$M$1,A31),\"\")","v":""},null,null,"",{"$f":"IF(K31=\"\",\"\",INDEX('OTRAS REFERENTES'!$AH$6:$AI$658,MATCH(K31,'OTRAS REFERENTES'!$AH$6:$AH$658,0),2))","v":""},null,{"$f":"IF(J31=\"\",\"\",INDEX(REFERENTES!$T:$W,MATCH(J31,REFERENTES!$V:$V,0),3))","v":""},null,null,"",null,{"$f":"IF(P31=\"\",\"\",INDEX(REFERENTES!$J:$K,MATCH(P31,REFERENTES!$K:$K,0),1))","v":""},null,{"$f":"IF(R31=\"\",\"\",INDEX(REFERENTES!$D:$E,MATCH(R31,REFERENTES!$D:$D,0),2))","v":""},null,null,"",{"$f":"IF(X31=\"\",\"\",INDEX('OTRAS REFERENTES'!$H:$I,MATCH(X31,'OTRAS REFERENTES'!$I:$I,0),1))","v":""},null,null,{"$f":"IF(AA31=\"\",\"\",INDEX('OTRAS REFERENTES'!$K:$L,MATCH(AA31,'OTRAS REFERENTES'!$L:$L,0),1))","v":""},null,null,"",{"$f":"IF(SUMPRODUCT(--EXACT(K31&M31,$AD$2:AD30)),\"\",K31&M31)","v":""},{"$f":"IF(SUMPRODUCT(--EXACT(K31&M31,$AD$2:AD30)),\"\",MAX($AE$3:AE30)+1)","v":""}]
[1,"",30,"","",{"$f":"IF(L32<>\"\",CONCATENATE(DIGITADOR!$B$2,$A$2,DIGITADOR!$M$1,A32),\"\")","v":""},null,null,"",{"$f":"IF(K32=\"\",\"\",INDEX('OTRAS REFERENTES'!$AH$6:$AI$658,MATCH(K32,'OTRAS REFERENTES'!$AH$6:$AH$658,0),2))","v":""},null,{"$f":"IF(J32=\"\",\"\",INDEX(REFERENTES!$T:$W,MATCH(J32,REFERENTES!$V:$V,0),3))","v":""},null,null,"",null,{"$f":"IF(P32=\"\",\"\",INDEX(REFERENTES!$J:$K,MATCH(P32,REFERENTES!$K:$K,0),1))","v":""},null,{"$f":"IF(R32=\"\",\"\",INDEX(REFERENTES!$D:$E,MATCH(R32,REFERENTES!$D:$D,0),2))","v":""},null,null,"",{"$f":"IF(X32=\"\",\"\",INDEX('OTRAS REFERENTES'!$H:$I,MATCH(X32,'OTRAS REFERENTES'!$I:$I,0),1))","v":""},null,null,{"$f":"IF(AA32=\"\",\"\",INDEX('OTRAS REFERENTES'!$K:$L,MATCH(AA32,'OTRAS REFERENTES'!$L:$L,0),1))","v":""},null,null,"",{"$f":"IF(SUMPRODUCT(--EXACT(K32&M32,$AD$2:AD31)),\"\",K32&M32)","v":""},{"$f":"IF(SUMPRODUCT(--EXACT(K32&M32,$AD$2:AD31)),\"\",MAX($AE$3:AE31)+1)","v":""}]
[1,"",31,"","",{"$f":"IF(L33<>\"\",CONCATENATE(DIGITADOR!$B$2,$A$2,DIGITADOR!$M$1,A33),\"\")","v":""},null,null,"",{"$f":"IF(K33=\"\",\"\",INDEX('OTRAS REFERENTES'!$AH$6:$AI$658,MATCH(K33,'OTRAS REFERENTES'!$AH$6:$AH$658,0),2))","v":""},null,{"$f":"IF(J33=\"\",\"\",INDEX(REFERENTES!$T:$W,MATCH(J33,REFERENTES!$V:$V,0),3))","v":""},null,null,"",null,{"$f":"IF(P33=\"\",\"\",INDEX(REFERENTES!$J:$K,MATCH(P33,REFERENTES!$K:$K,0),1))","v":""},null,{"$f":"IF(R33=\"\",\"\",INDEX(REFERENTES!$D:$E,MATCH(R33,REFERENTES!$D:$D,0),2))","v":""},null,null,"",{"$f":"IF(X33=\"\",\"\",INDEX('OTRAS REFERENTES'!$H:$I,MATCH(X33,'OTRAS REFERENTES'!$I:$I,0),1))","v":""},null,null,{"$f":"IF(AA33=\"\",\"\",INDEX('OTRAS REFERENTES'!$K:$L,MATCH(AA33,'OTRAS REFERENTES'!$L:$L,0),1))","v":""},null,null,"",{"$f":"IF(SUMPRODUCT(--EXACT(K33&M33,$AD$2:AD32)),\"\",K33&M33)","v":""},{"$f":"IF(SUMPRODUCT(--EXACT(K33&M33,$AD$2:AD32)),\"\",MAX($AE$3:AE32)+1)","v":""}]
[1,"",32,"","",{"$f":"IF(L34<>\"\",CONCATENATE(DIGITADOR!$B$2,$A$2,DIGITADOR!$M$1,A34),\"\")","v":""},null,null,"",{"$f":"IF(K34=\"\",\"\",INDEX('OTRAS REFERENTES'!$AH$6:$AI$658,MATCH(K34,'OTRAS REFERENTES'!$AH$6:$AH$658,0),2))","v":""},null,{"$f":"IF(J34=\"\",\"\",INDEX(REFERENTES!$T:$W,MATCH(J34,REFERENTES!$V:$V,0),3))","v":""},null,null,"",null,{"$f":"IF(P34=\"\",\"\",INDEX(REFERENTES!$J:$K,MATCH(P34,REFERENTES!$K:$K,0),1))","v":""},null,{"$f":"IF(R34=\"\",\"\",INDEX(REFERENTES!$D:$E,MATCH(R34,REFERENTES!$D:$D,0),2))","v":""},null,null,"",{"$f":"IF(X34=\"\",\"\",INDEX('OTRAS REFERENTES'!$H:$I,MATCH(X34,'OTRAS REFERENTES'!$I:$I,0),1))","v":""},null,null,{"$f":"IF(AA34=\"\",\"\",INDEX('OTRAS REFERENTES'!$K:$L,MATCH(AA34,'OTRAS REFERENTES'!$L:$L,0),1))","v":""},null,null,"",{"$f":"IF(SUMPRODUCT(--EXACT(K34&M34,$AD$2:AD33)),\"\",K34&M34)","v":""},{"$f":"IF(SUMPRODUCT(--EXACT(K34&M34,$AD$2:AD33)),\"\",MAX($AE$3:AE33)+1)","v":""}]
[1,"",33,"","",{"$f":"IF(L35<>\"\",CONCATENATE(DIGITADOR!$B$2,$A$2,DIGITADOR!$M$1,A35),\"\")","v":""},null,null,"",{"$f":"IF(K35=\"\",\"\",INDEX('OTRAS REFERENTES'!$AH$6:$AI$658,MATCH(K35,'OTRAS REFERENTES'!$AH$6:$AH$658,0),2))","v":""},null,{"$f":"IF(J35=\"\",\"\",INDEX(REFERENTES!$T:$W,MATCH(J35,REFERENTES!$V:$V,0),3))","v":""},null,null,"",null,{"$f":"IF(P35=\"\",\"\",INDEX(REFERENTES!$J:$K,MATCH(P35,REFERENTES!$K:$K,0),1))","v":""},null,{"$f":"IF(R35=\"\",\"\",INDEX(REFERENTES!$D:$E,MATCH(R35,REFERENTES!$D:$D,0),2))","v":""},null,null,"",{"$f":"IF(X35=\"\",\"\",INDEX('OTRAS REFERENTES'!$H:$I,MATCH(X35,'OTRAS REFERENTES'!$I:$I,0),1))","v":""},null,null,{"$f":"IF(AA35=\"\",\"\",INDEX('OTRAS REFERENTES'!$K:$L,MATCH(AA35,'OTRAS REFERENTES'!$L:$L,0),1))","v":""},null,null,"",{"$f":"IF(SUMPRODUCT(--EXACT(K35&M35,$AD$2:AD34)),\"\",K35&M35)","v":""},{"$f":"IF(SUMPRODUCT(--EXACT(K35&M35,$AD$2:AD34)),\"\",MAX($AE$3:AE34)+1)","v":""}]
[1,"",34,"","",{"$f":"IF(L36<>\"\",CONCATENATE(DIGITADOR!$B$2,$A$2,DIGITADOR!$M$1,A36),\"\")","v":""},null,null,"",{"$f":"IF(K36=\"\",\"\",INDEX('OTRAS REFERENTES'!$AH$6:$AI$658,MATCH(K36,'OTRAS REFERENTES'!$AH$6:$AH$658,0),2))","v":""},null,{"$f":"IF(J36=\"\",\"\",INDEX(REFERENTES!$T:$W,MATCH(J36,REFERENTES!$V:$V,0),3))","v":""},null,null,"",null,{"$f":"IF(P36=\"\",\"\",INDEX(REFERENTES!$J:$K,MATCH(P36,REFERENTES!$K:$K,0),1))","v":""},null,{"$f":"IF(R36=\"\",\"\",INDEX(REFERENTES!$D:$E,MATCH(R36,REFERENTES!$D:$D,0),2))","v":""},null,null,"",{"$f":"IF(X36=\"\",\"\",INDEX('OTRAS REFERENTES'!$H:$I,MATCH(X36,'OTRAS REFERENTES'!$I:$I,0),1))","v":""},null,null,{"$f":"IF(AA36=\"\",\"\",INDEX('OTRAS REFERENTES'!$K:$L,MATCH(AA36,'OTRAS REFERENTES'!$L:$L,0),1))","v":""},null,null,"",{"$f":"IF(SUMPRODUCT(--EXACT(K36&M36,$AD$2:AD35)),\"\",K36&M36)","v":""},{"$f":"IF(SUMPRODUCT(--EXACT(K36&M36,$AD$2:AD35)),\"\",MAX($AE$3:AE35)+1)","v":""}]
[1,"",35,"","",{"$f":"IF(L37<>\"\",CONCATENATE(DIGITADOR!$B$2,$A$2,DIGITADOR!$M$1,A37),\"\")","v":""},null,null,"",{"$f":"IF(K37=\"\",\"\",INDEX('OTRAS REFERENTES'!$AH$6:$AI$658,MATCH(K37,'OTRAS REFERENTES'!$AH$6:$AH$658,0),2))","v":""},null,{"$f":"IF(J37=\"\",\"\",INDEX(REFERENTES!$T:$W,MATCH(J37,REFERENTES!$V:$V,0),3))","v":""},null,null,"",null,{"$f":"IF(P37=\"\",\"\",INDEX(REFERENTES!$J:$K,MATCH(P37,REFERENTES!$K:$K,0),1))","v":""},null,{"$f":"IF(R37=\"\",\"\",INDEX(REFERENTES!$D:$E,MATCH(R37,REFERENTES!$D:$D,0),2))","v":""},null,null,"",{"$f":"IF(X37=\"\",\"\",INDEX('OTRAS REFERENTES'!$H:$I,MATCH(X37,'OTRAS REFERENTES'!$I:$I,0),1))","v":""},null,null,{"$f":"IF(AA37=\"\",\"\",INDEX('OTRAS REFERENTES'!$K:$L,MATCH(AA37,'OTRAS REFERENTES'!$L:$L,0),1))","v":""},null,null,"",{"$f":"IF(SUMPRODUCT(--EXACT(K37&M37,$AD$2:AD36)),\"\",K37&M37)","v":""},{"$f":"IF(SUMPRODUCT(--EXACT(K37&M37,$AD$2:AD36)),\"\",MAX($AE$3:AE36)+1)","v":""}]
[1,"",36,"","",{"$f":"IF(L38<>\"\",CONCATENATE(DIGITADOR!$B$2,$A$2,DIGITADOR!$M$1,A38),\"\")","v":""},null,null,"",{"$f":"IF(K38=\"\",\"\",INDEX('OTRAS REFERENTES'!$AH$6:$AI$658,MATCH(K38,'OTRAS REFERENTES'!$AH$6:$AH$658,0),2))","v":""},null,{"$f":"IF(J38=\"\",\"\",INDEX(REFERENTES!$T:$W,MATCH(J38,REFERENTES!$V:$V,0),3))","v":""},null,null,"",null,{"$f":"IF(P38=\"\",\"\",INDEX(REFERENTES!$J:$K,MATCH(P38,REFERENTES!$K:$K,0),1))","v":""},null,{"$f":"IF(R38=\"\",\"\",INDEX(REFERENTES!$D:$E,MATCH(R38,REFERENTES!$D:$D,0),2))","v":""},null,null,"",{"$f":"IF(X38=\"\",\"\",INDEX('OTRAS REFERENTES'!$H:$I,MATCH(X38,'OTRAS REFERENTES'!$I:$I,0),1))","v":""},null,null,{"$f":"IF(AA38=\"\",\"\",INDEX('OTRAS REFERENTES'!$K:$L,MATCH(AA38,'OTRAS REFERENTES'!$L:$L,0),1))","v":""},null,null,"",{"$f":"IF(SUMPRODUCT(--EXACT(K38&M38,$AD$2:AD37)),\"\",K38&M38)","v":""},{"$f":"IF(SUMPRODUCT(--EXACT(K38&M38,$AD$2:AD37)),\"\",MAX($AE$3:AE37)+1)","v":""}]
[1,"",37,"","",{"$f":"IF(L39<>\"\",CONCATENATE(DIGITADOR!$B$2,$A$2,DIGITADOR!$M$1,A39),\"\")","v":""},null,null,"",{"$f":"IF(K39=\"\",\"\",INDEX('OTRAS REFERENTES'!$AH$6:$AI$658,MATCH(K39,'OTRAS REFERENTES'!$AH$6:$AH$658,0),2))","v":""},null,{"$f":"IF(J39=\"\",\"\",INDEX(REFERENTES!$T:$W,MATCH(J39,REFERENTES!$V:$V,0),3))","v":""},null,null,"",null,{"$f":"IF(P39=\"\",\"\",INDEX(REFERENTES!$J:$K,MATCH(P39,REFERENTES!$K:$K,0),1))","v":""},null,{"$f":"IF(R39=\"\",\"\",INDEX(REFERENTES!$D:$E,MATCH(R39,REFERENTES!$D:$D,0),2))","v":""},null,null,"",{"$f":"IF(X39=\"\",\"\",INDEX('OTRAS REFERENTES'!$H:$I,MATCH(X39,'OTRAS REFERENTES'!$I:$I,0),1))","v":""},null,null,{"$f":"IF(AA39=\"\",\"\",INDEX('OTRAS REFERENTES'!$K:$L,MATCH(AA39,'OTRAS REFERENTES'!$L:$L,0),1))","v":""},null,null,"",{"$f":"IF(SUMPRODUCT(--EXACT(K39&M39,$AD$2:AD38)),\"\",K39&M39)","v":""},{"$f":"IF(SUMPRODUCT(--EXACT(K39&M39,$AD$2:AD38)),\"\",MAX($AE$3:AE38)+1)","v":""}]
[1,"",38,"","",{"$f":"IF(L40<>\"\",CONCATENATE(DIGITADOR!$B$2,$A$2,DIGITADOR!$M$1,A40),\"\")","v":""},null,null,"",{"$f":"IF(K40=\"\",\"\",INDEX('OTRAS REFERENTES'!$AH$6:$AI$658,MATCH(K40,'OTRAS REFERENTES'!$AH$6:$AH$658,0),2))","v":""},null,{"$f":"IF(J40=\"\",\"\",INDEX(REFERENTES!$T:$W,MATCH(J40,REFERENTES!$V:$V,0),3))","v":""},null,null,"",null,{"$f":"IF(P40=\"\",\"\",INDEX(REFERENTES!$J:$K,MATCH(P40,REFERENTES!$K:$K,0),1))","v":""},null,{"$f":"IF(R40=\"\",\"\",INDEX(REFERENTES!$D:$E,MATCH(R40,REFERENTES!$D:$D,0),2))","v":""},null,null,"",{"$f":"IF(X40=\"\",\"\",INDEX('OTRAS REFERENTES'!$H:$I,MATCH(X40,'OTRAS REFERENTES'!$I:$I,0),1))","v":""},null,null,{"$f":"IF(AA40=\"\",\"\",INDEX('OTRAS REFERENTES'!$K:$L,MATCH(AA40,'OTRAS REFERENTES'!$L:$L,0),1))","v":""},null,null,"",{"$f":"IF(SUMPRODUCT(--EXACT(K40&M40,$AD$2:AD39)),\"\",K40&M40)","v":""},{"$f":"IF(SUMPRODUCT(--EXACT(K40&M40,$AD$2:AD39)),\"\",MAX($AE$3:AE39)+1)","v":""}]
[1,"",39,"","",{"$f":"IF(L41<>\"\",CONCATENATE(DIGITADOR!$B$2,$A$2,DIGITADOR!$M$1,A41),\"\")","v":""},null,null,"",{"$f":"IF(K41=\"\",\"\",INDEX('OTRAS REFERENTES'!$AH$6:$AI$658,MATCH(K41,'OTRAS REFERENTES'!$AH$6:$AH$658,0),2))","v":""},null,{"$f":"IF(J41=\"\",\"\",INDEX(REFERENTES!$T:$W,MATCH(J41,REFERENTES!$V:$V,0),3))","v":""},null,null,"",null,{"$f":"IF(P41=\"\",\"\",INDEX(REFERENTES!$J:$K,MATCH(P41,REFERENTES!$K:$K,0),1))","v":""},null,{"$f":"IF(R41=\"\",\"\",INDEX(REFERENTES!$D:$E,MATCH(R41,REFERENTES!$D:$D,0),2))","v":""},null,null,"",{"$f":"IF(X41=\"\",\"\",INDEX('OTRAS REFERENTES'!$H:$I,MATCH(X41,'OTRAS REFERENTES'!$I:$I,0),1))","v":""},null,null,{"$f":"IF(AA41=\"\",\"\",INDEX('OTRAS REFERENTES'!$K:$L,MATCH(AA41,'OTRAS REFERENTES'!$L:$L,0),1))","v":""},null,null,"",{"$f":"IF(SUMPRODUCT(--EXACT(K41&M41,$AD$2:AD40)),\"\",K41&M41)","v":""},{"$f":"IF(SUMPRODUCT(--EXACT(K41&M41,$AD$2:AD40)),\"\",MAX($AE$3:AE40)+1)","v":""}]
[1,"",40,"","",{"$f":"IF(L42<>\"\",CONCATENATE(DIGITADOR!$B$2,$A$2,DIGITADOR!$M$1,A42),\"\")","v":""},null,null,"",{"$f":"IF(K42=\"\",\"\",INDEX('OTRAS REFERENTES'!$AH$6:$AI$658,MATCH(K42,'OTRAS REFERENTES'!$AH$6:$AH$658,0),2))","v":""},null,{"$f":"IF(J42=\"\",\"\",INDEX(REFERENTES!$T:$W,MATCH(J42,REFERENTES!$V:$V,0),3))","v":""},null,null,"",null,{"$f":"IF(P42=\"\",\"\",INDEX(REFERENTES!$J:$K,MATCH(P42,REFERENTES!$K:$K,0),1))","v":""},null,{"$f":"IF(R42=\"\",\"\",INDEX(REFERENTES!$D:$E,MATCH(R42,REFERENTES!$D:$D,0),2))","v":""},null,null,"",{"$f":"IF(X42=\"\",\"\",INDEX('OTRAS REFERENTES'!$H:$I,MATCH(X42,'OTRAS REFERENTES'!$I:$I,0),1))","v":""},null,null,{"$f":"IF(AA42=\"\",\"\",INDEX('OTRAS REFERENTES'!$K:$L,MATCH(AA42,'OTRAS REFERENTES'!$L:$L,0),1))","v":""},null,null,"",{"$f":"IF(SUMPRODUCT(--EXACT(K42&M42,$AD$2:AD41)),\"\",K42&M42)","v":""},{"$f":"IF(SUMPRODUCT(--EXACT(K42&M42,$AD$2:AD41)),\"\",MAX($AE$3:AE41)+1)","v":""}]
[1,"",41,"","",{"$f":"IF(L43<>\"\",CONCATENATE(DIGITADOR!$B$2,$A$2,DIGITADOR!$M$1,A43),\"\")","v":""},null,null,"",{"$f":"IF(K43=\"\",\"\",INDEX('OTRAS REFERENTES'!$AH$6:$AI$658,MATCH(K43,'OTRAS REFERENTES'!$AH$6:$AH$658,0),2))","v":""},null,{"$f":"IF(J43=\"\",\"\",INDEX(REFERENTES!$T:$W,MATCH(J43,REFERENTES!$V:$V,0),3))","v":""},null,null,"",null,{"$f":"IF(P43=\"\",\"\",INDEX(REFERENTES!$J:$K,MATCH(P43,REFERENTES!$K:$K,0),1))","v":""},null,{"$f":"IF(R43=\"\",\"\",INDEX(REFERENTES!$D:$E,MATCH(R43,REFERENTES!$D:$D,0),2))","v":""},null,null,"",{"$f":"IF(X43=\"\",\"\",INDEX('OTRAS REFERENTES'!$H:$I,MATCH(X43,'OTRAS REFERENTES'!$I:$I,0),1))","v":""},null,null,{"$f":"IF(AA43=\"\",\"\",INDEX('OTRAS REFERENTES'!$K:$L,MATCH(AA43,'OTRAS REFERENTES'!$L:$L,0),1))","v":""},null,null,"",{"$f":"IF(SUMPRODUCT(--EXACT(K43&M43,$AD$2:AD42)),\"\",K43&M43)","v":""},{"$f":"IF(SUMPRODUCT(--EXACT(K43&M43,$AD$2:AD42)),\"\",MAX($AE$3:AE42)+1)","v":""}]
[1,"",42,"","",{"$f":"IF(L44<>\"\",CONCATENATE(DIGITADOR!$B$2,$A$2,DIGITADOR!$M$1,A44),\"\")","v":""},null,null,"",{"$f":"IF(K44=\"\",\"\",INDEX('OTRAS REFERENTES'!$AH$6:$AI$658,MATCH(K44,'OTRAS REFERENTES'!$AH$6:$AH$658,0),2))","v":""},null,{"$f":"IF(J44=\"\",\"\",INDEX(REFERENTES!$T:$W,MATCH(J44,REFERENTES!$V:$V,0),3))","v":""},null,null,"",null,{"$f":"IF(P44=\"\",\"\",INDEX(REFERENTES!$J:$K,MATCH(P44,REFERENTES!$K:$K,0),1))","v":""},null,{"$f":"IF(R44=\"\",\"\",INDEX(REFERENTES!$D:$E,MATCH(R44,REFERENTES!$D:$D,0),2))","v":""},null,null,"",{"$f":"IF(X44=\"\",\"\",INDEX('OTRAS REFERENTES'!$H:$I,MATCH(X44,'OTRAS REFERENTES'!$I:$I,0),1))","v":""},null,null,{"$f":"IF(AA44=\"\",\"\",INDEX('OTRAS REFERENTES'!$K:$L,MATCH(AA44,'OTRAS REFERENTES'!$L:$L,0),1))","v":""},null,null,"",{"$f":"IF(SUMPRODUCT(--EXACT(K44&M44,$AD$2:AD43)),\"\",K44&M44)","v":""},{"$f":"IF(SUMPRODUCT(--EXACT(K44&M44,$AD$2:AD43)),\"\",MAX($AE$3:AE43)+1)","v":""}]
[1,"",43,"","",{"$f":"IF(L45<>\"\",CONCATENATE(DIGITADOR!$B$2,$A$2,DIGITADOR!$M$1,A45),\"\")","v":""},null,null,"",{"$f":"IF(K45=\"\",\"\",INDEX('OTRAS REFERENTES'!$AH$6:$AI$658,MATCH(K45,'OTRAS REFERENTES'!$AH$6:$AH$658,0),2))","v":""},null,{"$f":"IF(J45=\"\",\"\",INDEX(REFERENTES!$T:$W,MATCH(J45,REFERENTES!$V:$V,0),3))","v":""},null,null,"",null,{"$f":"IF(P45=\"\",\"\",INDEX(REFERENTES!$J:$K,MATCH(P45,REFERENTES!$K:$K,0),1))","v":""},null,{"$f":"IF(R45=\"\",\"\",INDEX(REFERENTES!$D:$E,MATCH(R45,REFERENTES!$D:$D,0),2))","v":""},null,null,"",{"$f":"IF(X45=\"\",\"\",INDEX('OTRAS REFERENTES'!$H:$I,MATCH(X45,'OTRAS REFERENTES'!$I:$I,0),1))","v":""},null,null,{"$f":"IF(AA45=\"\",\"\",INDEX('OTRAS REFERENTES'!$K:$L,MATCH(AA45,'OTRAS REFERENTES'!$L:$L,0),1))","v":""},null,null,"",{"$f":"IF(SUMPRODUCT(--EXACT(K45&M45,$AD$2:AD44)),\"\",K45&M45)","v":""},{"$f":"IF(SUMPRODUCT(--EXACT(K45&M45,$AD$2:AD44)),\"\",MAX($AE$3:AE44)+1)","v":""}]
[1,"",44,"","",{"$f":"IF(L46<>\"\",CONCATENATE(DIGITADOR!$B$2,$A$2,DIGITADOR!$M$1,A46),\"\")","v":""},null,null,"",{"$f":"IF(K46=\"\",\"\",INDEX('OTRAS REFERENTES'!$AH$6:$AI$658,MATCH(K46,'OTRAS REFERENTES'!$AH$6:$AH$658,0),2))","v":""},null,{"$f":"IF(J46=\"\",\"\",INDEX(REFERENTES!$T:$W,MATCH(J46,REFERENTES!$V:$V,0),3))","v":""},null,null,"",null,{"$f":"IF(P46=\"\",\"\",INDEX(REFERENTES!$J:$K,MATCH(P46,REFERENTES!$K:$K,0),1))","v":""},null,{"$f":"IF(R46=\"\",\"\",INDEX(REFERENTES!$D:$E,MATCH(R46,REFERENTES!$D:$D,0),2))","v":""},null,null,"",{"$f":"IF(X46=\"\",\"\",INDEX('OTRAS REFERENTES'!$H:$I,MATCH(X46,'OTRAS REFERENTES'!$I:$I,0),1))","v":""},null,null,{"$f":"IF(AA46=\"\",\"\",INDEX('OTRAS REFERENTES'!$K:$L,MATCH(AA46,'OTRAS REFERENTES'!$L:$L,0),1))","v":""},null,null,"",{"$f":"IF(SUMPRODUCT(--EXACT(K46&M46,$AD$2:AD45)),\"\",K46&M46)","v":""},{"$f":"IF(SUMPRODUCT(--EXACT(K46&M46,$AD$2:AD45)),\"\",MAX($AE$3:AE45)+1)","v":""}]
[1,"",45,"","",{"$f":"IF(L47<>\"\",CONCATENATE(DIGITADOR!$B$2,$A$2,DIGITADOR!$M$1,A47),\"\")","v":""},null,null,"",{"$f":"IF(K47=\"\",\"\",INDEX('OTRAS REFERENTES'!$AH$6:$AI$658,MATCH(K47,'OTRAS REFERENTES'!$AH$6:$AH$658,0),2))","v":""},null,{"$f":"IF(J47=\"\",\"\",INDEX(REFERENTES!$T:$W,MATCH(J47,REFERENTES!$V:$V,0),3))","v":""},null,null,"",null,{"$f":"IF(P47=\"\",\"\",INDEX(REFERENTES!$J:$K,MATCH(P47,REFERENTES!$K:$K,0),1))","v":""},null,{"$f":"IF(R47=\"\",\"\",INDEX(REFERENTES!$D:$E,MATCH(R47,REFERENTES!$D:$D,0),2))","v":""},null,null,"",{"$f":"IF(X47=\"\",\"\",INDEX('OTRAS REFERENTES'!$H:$I,MATCH(X47,'OTRAS REFERENTES'!$I:$I,0),1))","v":""},null,null,{"$f":"IF(AA47=\"\",\"\",INDEX('OTRAS REFERENTES'!$K:$L,MATCH(AA47,'OTRAS REFERENTES'!$L:$L,0),1))","v":""},null,null,"",{"$f":"IF(SUMPRODUCT(--EXACT(K47&M47,$AD$2:AD46)),\"\",K47&M47)","v":""},{"$f":"IF(SUMPRODUCT(--EXACT(K47&M47,$AD$2:AD46)),\"\",MAX($AE$3:AE46)+1)","v":""}]
[1,"",46,"","",{"$f":"IF(L48<>\"\",CONCATENATE(DIGITADOR!$B$2,$A$2,DIGITADOR!$M$1,A48),\"\")","v":""},null,null,"",{"$f":"IF(K48=\"\",\"\",INDEX('OTRAS REFERENTES'!$AH$6:$AI$658,MATCH(K48,'OTRAS REFERENTES'!$AH$6:$AH$658,0),2))","v":""},null,{"$f":"IF(J48=\"\",\"\",INDEX(REFERENTES!$T:$W,MATCH(J48,REFERENTES!$V:$V,0),3))","v":""},null,null,"",null,{"$f":"IF(P48=\"\",\"\",INDEX(REFERENTES!$J:$K,MATCH(P48,REFERENTES!$K:$K,0),1))","v":""},null,{"$f":"IF(R48=\"\",\"\",INDEX(REFERENTES!$D:$E,MATCH(R48,REFERENTES!$D:$D,0),2))","v":""},null,null,"",{"$f":"IF(X48=\"\",\"\",INDEX('OTRAS REFERENTES'!$H:$I,MATCH(X48,'OTRAS REFERENTES'!$I:$I,0),1))","v":""},null,null,{"$f":"IF(AA48=\"\",\"\",INDEX('OTRAS REFERENTES'!$K:$L,MATCH(AA48,'OTRAS REFERENTES'!$L:$L,0),1))","v":""},null,null,"",{"$f":"IF(SUMPRODUCT(--EXACT(K48&M48,$AD$2:AD47)),\"\",K48&M48)","v":""},{"$f":"IF(SUMPRODUCT(--EXACT(K48&M48,$AD$2:AD47)),\"\",MAX($AE$3:AE47)+1)","v":""}]
[1,"",47,"","",{"$f":"IF(L49<>\"\",CONCATENATE(DIGITADOR!$B$2,$A$2,DIGITADOR!$M$1,A49),\"\")","v":""},null,null,"",{"$f":"IF(K49=\"\",\"\",INDEX('OTRAS REFERENTES'!$AH$6:$AI$658,MATCH(K49,'OTRAS REFERENTES'!$AH$6:$AH$658,0),2))","v":""},null,{"$f":"IF(J49=\"\",\"\",INDEX(REFERENTES!$T:$W,MATCH(J49,REFERENTES!$V:$V,0),3))","v":""},null,null,"",null,{"$f":"IF(P49=\"\",\"\",INDEX(REFERENTES!$J:$K,MATCH(P49,REFERENTES!$K:$K,0),1))","v":""},null,{"$f":"IF(R49=\"\",\"\",INDEX(REFERENTES!$D:$E,MATCH(R49,REFERENTES!$D:$D,0),2))","v":""},null,null,"",{"$f":"IF(X49=\"\",\"\",INDEX('OTRAS REFERENTES'!$H:$I,MATCH(X49,'OTRAS REFERENTES'!$I:$I,0),1))","v":""},null,null,{"$f":"IF(AA49=\"\",\"\",INDEX('OTRAS REFERENTES'!$K:$L,MATCH(AA49,'OTRAS REFERENTES'!$L:$L,0),1))","v":""},null,null,"",{"$f":"IF(SUMPRODUCT(--EXACT(K49&M49,$AD$2:AD48)),\"\",K49&M49)","v":""},{"$f":"IF(SUMPRODUCT(--EXACT(K49&M49,$AD$2:AD48)),\"\",MAX($AE$3:AE48)+1)","v":""}]
[1,"",48,"","",{"$f":"IF(L50<>\"\",CONCATENATE(DIGITADOR!$B$2,$A$2,DIGITADOR!$M$1,A50),\"\")","v":""},null,null,"",{"$f":"IF(K50=\"\",\"\",INDEX('OTRAS REFERENTES'!$AH$6:$AI$658,MATCH(K50,'OTRAS REFERENTES'!$AH$6:$AH$658,0),2))","v":""},null,{"$f":"IF(J50=\"\",\"\",INDEX(REFERENTES!$T:$W,MATCH(J50,REFERENTES!$V:$V,0),3))","v":""},null,null,"",null,{"$f":"IF(P50=\"\",\"\",INDEX(REFERENTES!$J:$K,MATCH(P50,REFERENTES!$K:$K,0),1))","v":""},null,{"$f":"IF(R50=\"\",\"\",INDEX(REFERENTES!$D:$E,MATCH(R50,REFERENTES!$D:$D,0),2))","v":""},null,null,"",{"$f":"IF(X50=\"\",\"\",INDEX('OTRAS REFERENTES'!$H:$I,MATCH(X50,'OTRAS REFERENTES'!$I:$I,0),1))","v":""},null,null,{"$f":"IF(AA50=\"\",\"\",INDEX('OTRAS REFERENTES'!$K:$L,MATCH(AA50,'OTRAS REFERENTES'!$L:$L,0),1))","v":""},null,null,"",{"$f":"IF(SUMPRODUCT(--EXACT(K50&M50,$AD$2:AD49)),\"\",K50&M50)","v":""},{"$f":"IF(SUMPRODUCT(--EXACT(K50&M50,$AD$2:AD49)),\"\",MAX($AE$3:AE49)+1)","v":""}]
[1,"",49,"","",{"$f":"IF(L51<>\"\",CONCATENATE(DIGITADOR!$B$2,$A$2,DIGITADOR!$M$1,A51),\"\")","v":""},null,null,"",{"$f":"IF(K51=\"\",\"\",INDEX('OTRAS REFERENTES'!$AH$6:$AI$658,MATCH(K51,'OTRAS REFERENTES'!$AH$6:$AH$658,0),2))","v":""},null,{"$f":"IF(J51=\"\",\"\",INDEX(REFERENTES!$T:$W,MATCH(J51,REFERENTES!$V:$V,0),3))","v":""},null,null,"",null,{"$f":"IF(P51=\"\",\"\",INDEX(REFERENTES!$J:$K,MATCH(P51,REFERENTES!$K:$K,0),1))","v":""},null,{"$f":"IF(R51=\"\",\"\",INDEX(REFERENTES!$D:$E,MATCH(R51,REFERENTES!$D:$D,0),2))","v":""},null,null,"",{"$f":"IF(X51=\"\",\"\",INDEX('OTRAS REFERENTES'!$H:$I,MATCH(X51,'OTRAS REFERENTES'!$I:$I,0),1))","v":""},null,null,{"$f":"IF(AA51=\"\",\"\",INDEX('OTRAS REFERENTES'!$K:$L,MATCH(AA51,'OTRAS REFERENTES'!$L:$L,0),1))","v":""},null,null,"",{"$f":"IF(SUMPRODUCT(--EXACT(K51&M51,$AD$2:AD50)),\"\",K51&M51)","v":""},{"$f":"IF(SUMPRODUCT(--EXACT(K51&M51,$AD$2:AD50)),\"\",MAX($AE$3:AE50)+1)","v":""}]
[1,"",50,"","",{"$f":"IF(L52<>\"\",CONCATENATE(DIGITADOR!$B$2,$A$2,DIGITADOR!$M$1,A52),\"\")","v":""},null,null,"",{"$f":"IF(K52=\"\",\"\",INDEX('OTRAS REFERENTES'!$AH$6:$AI$658,MATCH(K52,'OTRAS REFERENTES'!$AH$6:$AH$658,0),2))","v":""},null,{"$f":"IF(J52=\"\",\"\",INDEX(REFERENTES!$T:$W,MATCH(J52,REFERENTES!$V:$V,0),3))","v":""},null,null,"",null,{"$f":"IF(P52=\"\",\"\",INDEX(REFERENTES!$J:$K,MATCH(P52,REFERENTES!$K:$K,0),1))","v":""},null,{"$f":"IF(R52=\"\",\"\",INDEX(REFERENTES!$D:$E,MATCH(R52,REFERENTES!$D:$D,0),2))","v":""},null,null,"",{"$f":"IF(X52=\"\",\"\",INDEX('OTRAS REFERENTES'!$H:$I,MATCH(X52,'OTRAS REFERENTES'!$I:$I,0),1))","v":""},null,null,{"$f":"IF(AA52=\"\",\"\",INDEX('OTRAS REFERENTES'!$K:$L,MATCH(AA52,'OTRAS REFERENTES'!$L:$L,0),1))","v":""},null,null,"",{"$f":"IF(SUMPRODUCT(--EXACT(K52&M52,$AD$2:AD51)),\"\",K52&M52)","v":""},{"$f":"IF(SUMPRODUCT(--EXACT(K52&M52,$AD$2:AD51)),\"\",MAX($AE$3:AE51)+1)","v":""}]
[1,"",51,"","",{"$f":"IF(L53<>\"\",CONCATENATE(DIGITADOR!$B$2,$A$2,DIGITADOR!$M$1,A53),\"\")","v":""},null,null,"",{"$f":"IF(K53=\"\",\"\",INDEX('OTRAS REFERENTES'!$AH$6:$AI$658,MATCH(K53,'OTRAS REFERENTES'!$AH$6:$AH$658,0),2))","v":""},null,{"$f":"IF(J53=\"\",\"\",INDEX(REFERENTES!$T:$W,MATCH(J53,REFERENTES!$V:$V,0),3))","v":""},null,null,"",null,{"$f":"IF(P53=\"\",\"\",INDEX(REFERENTES!$J:$K,MATCH(P53,REFERENTES!$K:$K,0),1))","v":""},null,{"$f":"IF(R53=\"\",\"\",INDEX(REFERENTES!$D:$E,MATCH(R53,REFERENTES!$D:$D,0),2))","v":""},null,null,"",{"$f":"IF(X53=\"\",\"\",INDEX('OTRAS REFERENTES'!$H:$I,MATCH(X53,'OTRAS REFERENTES'!$I:$I,0),1))","v":""},null,null,{"$f":"IF(AA53=\"\",\"\",INDEX('OTRAS REFERENTES'!$K:$L,MATCH(AA53,'OTRAS REFERENTES'!$L:$L,0),1))","v":""},null,null,"",{"$f":"IF(SUMPRODUCT(--EXACT(K53&M53,$AD$2:AD52)),\"\",K53&M53)","v":""},{"$f":"IF(SUMPRODUCT(--EXACT(K53&M53,$AD$2:AD52)),\"\",MAX($AE$3:AE52)+1)","v":""}]
[1,"",52,"","",{"$f":"IF(L54<>\"\",CONCATENATE(DIGITADOR!$B$2,$A$2,DIGITADOR!$M$1,A54),\"\")","v":""},null,null,"",{"$f":"IF(K54=\"\",\"\",INDEX('OTRAS REFERENTES'!$AH$6:$AI$658,MATCH(K54,'OTRAS REFERENTES'!$AH$6:$AH$658,0),2))","v":""},null,{"$f":"IF(J54=\"\",\"\",INDEX(REFERENTES!$T:$W,MATCH(J54,REFERENTES!$V:$V,0),3))","v":""},null,null,"",null,{"$f":"IF(P54=\"\",\"\",INDEX(REFERENTES!$J:$K,MATCH(P54,REFERENTES!$K:$K,0),1))","v":""},null,{"$f":"IF(R54=\"\",\"\",INDEX(REFERENTES!$D:$E,MATCH(R54,REFERENTES!$D:$D,0),2))","v":""},null,null,"",{"$f":"IF(X54=\"\",\"\",INDEX('OTRAS REFERENTES'!$H:$I,MATCH(X54,'OTRAS REFERENTES'!$I:$I,0),1))","v":""},null,null,{"$f":"IF(AA54=\"\",\"\",INDEX('OTRAS REFERENTES'!$K:$L,MATCH(AA54,'OTRAS REFERENTES'!$L:$L,0),1))","v":""},null,null,"",{"$f":"IF(SUMPRODUCT(--EXACT(K54&M54,$AD$2:AD53)),\"\",K54&M54)","v":""},{"$f":"IF(SUMPRODUCT(--EXACT(K54&M54,$AD$2:AD53)),\"\",MAX($AE$3:AE53)+1)","v":""}]
[1,"",53,"","",{"$f":"IF(L55<>\"\",CONCATENATE(DIGITADOR!$B$2,$A$2,DIGITADOR!$M$1,A55),\"\")","v":""},null,null,"",{"$f":"IF(K55=\"\",\"\",INDEX('OTRAS REFERENTES'!$AH$6:$AI$658,MATCH(K55,'OTRAS REFERENTES'!$AH$6:$AH$658,0),2))","v":""},null,{"$f":"IF(J55=\"\",\"\",INDEX(REFERENTES!$T:$W,MATCH(J55,REFERENTES!$V:$V,0),3))","v":""},null,null,"",null,{"$f":"IF(P55=\"\",\"\",INDEX(REFERENTES!$J:$K,MATCH(P55,REFERENTES!$K:$K,0),1))","v":""},null,{"$f":"IF(R55=\"\",\"\",INDEX(REFERENTES!$D:$E,MATCH(R55,REFERENTES!$D:$D,0),2))","v":""},null,null,"",{"$f":"IF(X55=\"\",\"\",INDEX('OTRAS REFERENTES'!$H:$I,MATCH(X55,'OTRAS REFERENTES'!$I:$I,0),1))","v":""},null,null,{"$f":"IF(AA55=\"\",\"\",INDEX('OTRAS REFERENTES'!$K:$L,MATCH(AA55,'OTRAS REFERENTES'!$L:$L,0),1))","v":""},null,null,"",{"$f":"IF(SUMPRODUCT(--EXACT(K55&M55,$AD$2:AD54)),\"\",K55&M55)","v":""},{"$f":"IF(SUMPRODUCT(--EXACT(K55&M55,$AD$2:AD54)),\"\",MAX($AE$3:AE54)+1)","v":""}]
[1,"",54,"","",{"$f":"IF(L56<>\"\",CONCATENATE(DIGITADOR!$B$2,$A$2,DIGITADOR!$M$1,A56),\"\")","v":""},null,null,"",{"$f":"IF(K56=\"\",\"\",INDEX('OTRAS REFERENTES'!$AH$6:$AI$658,MATCH(K56,'OTRAS REFERENTES'!$AH$6:$AH$658,0),2))","v":""},null,{"$f":"IF(J56=\"\",\"\",INDEX(REFERENTES!$T:$W,MATCH(J56,REFERENTES!$V:$V,0),3))","v":""},null,null,"",null,{"$f":"IF(P56=\"\",\"\",INDEX(REFERENTES!$J:$K,MATCH(P56,REFERENTES!$K:$K,0),1))","v":""},null,{"$f":"IF(R56=\"\",\"\",INDEX(REFERENTES!$D:$E,MATCH(R56,REFERENTES!$D:$D,0),2))","v":""},null,null,"",{"$f":"IF(X56=\"\",\"\",INDEX('OTRAS REFERENTES'!$H:$I,MATCH(X56,'OTRAS REFERENTES'!$I:$I,0),1))","v":""},null,null,{"$f":"IF(AA56=\"\",\"\",INDEX('OTRAS REFERENTES'!$K:$L,MATCH(AA56,'OTRAS REFERENTES'!$L:$L,0),1))","v":""},null,null,"",{"$f":"IF(SUMPRODUCT(--EXACT(K56&M56,$AD$2:AD55)),\"\",K56&M56)","v":""},{"$f":"IF(SUMPRODUCT(--EXACT(K56&M56,$AD$2:AD55)),\"\",MAX($AE$3:AE55)+1)","v":""}]
[1,"",55,"","",{"$f":"IF(L57<>\"\",CONCATENATE(DIGITADOR!$B$2,$A$2,DIGITADOR!$M$1,A57),\"\")","v":""},null,null,"",{"$f":"IF(K57=\"\",\"\",INDEX('OTRAS REFERENTES'!$AH$6:$AI$658,MATCH(K57,'OTRAS REFERENTES'!$AH$6:$AH$658,0),2))","v":""},null,{"$f":"IF(J57=\"\",\"\",INDEX(REFERENTES!$T:$W,MATCH(J57,REFERENTES!$V:$V,0),3))","v":""},null,null,"",null,{"$f":"IF(P57=\"\",\"\",INDEX(REFERENTES!$J:$K,MATCH(P57,REFERENTES!$K:$K,0),1))","v":""},null,{"$f":"IF(R57=\"\",\"\",INDEX(REFERENTES!$D:$E,MATCH(R57,REFERENTES!$D:$D,0),2))","v":""},null,null,"",{"$f":"IF(X57=\"\",\"\",INDEX('OTRAS REFERENTES'!$H:$I,MATCH(X57,'OTRAS REFERENTES'!$I:$I,0),1))","v":""},null,null,{"$f":"IF(AA57=\"\",\"\",INDEX('OTRAS REFERENTES'!$K:$L,MATCH(AA57,'OTRAS REFERENTES'!$L:$L,0),1))","v":""},null,null,"",{"$f":"IF(SUMPRODUCT(--EXACT(K57&M57,$AD$2:AD56)),\"\",K57&M57)","v":""},{"$f":"IF(SUMPRODUCT(--EXACT(K57&M57,$AD$2:AD56)),\"\",MAX($AE$3:AE56)+1)","v":""}]
[1,"",56,"","",{"$f":"IF(L58<>\"\",CONCATENATE(DIGITADOR!$B$2,$A$2,DIGITADOR!$M$1,A58),\"\")","v":""},null,null,"",{"$f":"IF(K58=\"\",\"\",INDEX('OTRAS REFERENTES'!$AH$6:$AI$658,MATCH(K58,'OTRAS REFERENTES'!$AH$6:$AH$658,0),2))","v":""},null,{"$f":"IF(J58=\"\",\"\",INDEX(REFERENTES!$T:$W,MATCH(J58,REFERENTES!$V:$V,0),3))","v":""},null,null,"",null,{"$f":"IF(P58=\"\",\"\",INDEX(REFERENTES!$J:$K,MATCH(P58,REFERENTES!$K:$K,0),1))","v":""},null,{"$f":"IF(R58=\"\",\"\",INDEX(REFERENTES!$D:$E,MATCH(R58,REFERENTES!$D:$D,0),2))","v":""},null,null,"",{"$f":"IF(X58=\"\",\"\",INDEX('OTRAS REFERENTES'!$H:$I,MATCH(X58,'OTRAS REFERENTES'!$I:$I,0),1))","v":""},null,null,{"$f":"IF(AA58=\"\",\"\",INDEX('OTRAS REFERENTES'!$K:$L,MATCH(AA58,'OTRAS REFERENTES'!$L:$L,0),1))","v":""},null,null,"",{"$f":"IF(SUMPRODUCT(--EXACT(K58&M58,$AD$2:AD57)),\"\",K58&M58)","v":""},{"$f":"IF(SUMPRODUCT(--EXACT(K58&M58,$AD$2:AD57)),\"\",MAX($AE$3:AE57)+1)","v":""}]
[1,"",57,"","",{"$f":"IF(L59<>\"\",CONCATENATE(DIGITADOR!$B$2,$A$2,DIGITADOR!$M$1,A59),\"\")","v":""},null,null,"",{"$f":"IF(K59=\"\",\"\",INDEX('OTRAS REFERENTES'!$AH$6:$AI$658,MATCH(K59,'OTRAS REFERENTES'!$AH$6:$AH$658,0),2))","v":""},null,{"$f":"IF(J59=\"\",\"\",INDEX(REFERENTES!$T:$W,MATCH(J59,REFERENTES!$V:$V,0),3))","v":""},null,null,"",null,{"$f":"IF(P59=\"\",\"\",INDEX(REFERENTES!$J:$K,MATCH(P59,REFERENTES!$K:$K,0),1))","v":""},null,{"$f":"IF(R59=\"\",\"\",INDEX(REFERENTES!$D:$E,MATCH(R59,REFERENTES!$D:$D,0),2))","v":""},null,null,"",{"$f":"IF(X59=\"\",\"\",INDEX('OTRAS REFERENTES'!$H:$I,MATCH(X59,'OTRAS REFERENTES'!$I:$I,0),1))","v":""},null,null,{"$f":"IF(AA59=\"\",\"\",INDEX('OTRAS REFERENTES'!$K:$L,MATCH(AA59,'OTRAS REFERENTES'!$L:$L,0),1))","v":""},null,null,"",{"$f":"IF(SUMPRODUCT(--EXACT(K59&M59,$AD$2:AD58)),\"\",K59&M59)","v":""},{"$f":"IF(SUMPRODUCT(--EXACT(K59&M59,$AD$2:AD58)),\"\",MAX($AE$3:AE58)+1)","v":""}]
[1,"",58,"","",{"$f":"IF(L60<>\"\",CONCATENATE(DIGITADOR!$B$2,$A$2,DIGITADOR!$M$1,A60),\"\")","v":""},null,null,"",{"$f":"IF(K60=\"\",\"\",INDEX('OTRAS REFERENTES'!$AH$6:$AI$658,MATCH(K60,'OTRAS REFERENTES'!$AH$6:$AH$658,0),2))","v":""},null,{"$f":"IF(J60=\"\",\"\",INDEX(REFERENTES!$T:$W,MATCH(J60,REFERENTES!$V:$V,0),3))","v":""},null,null,"",null,{"$f":"IF(P60=\"\",\"\",INDEX(REFERENTES!$J:$K,MATCH(P60,REFERENTES!$K:$K,0),1))","v":""},null,{"$f":"IF(R60=\"\",\"\",INDEX(REFERENTES!$D:$E,MATCH(R60,REFERENTES!$D:$D,0),2))","v":""},null,null,"",{"$f":"IF(X60=\"\",\"\",INDEX('OTRAS REFERENTES'!$H:$I,MATCH(X60,'OTRAS REFERENTES'!$I:$I,0),1))","v":""},null,null,{"$f":"IF(AA60=\"\",\"\",INDEX('OTRAS REFERENTES'!$K:$L,MATCH(AA60,'OTRAS REFERENTES'!$L:$L,0),1))","v":""},null,null,"",{"$f":"IF(SUMPRODUCT(--EXACT(K60&M60,$AD$2:AD59)),\"\",K60&M60)","v":""},{"$f":"IF(SUMPRODUCT(--EXACT(K60&M60,$AD$2:AD59)),\"\",MAX($AE$3:AE59)+1)","v":""}]
[1,"",59,"","",{"$f":"IF(L61<>\"\",CONCATENATE(DIGITADOR!$B$2,$A$2,DIGITADOR!$M$1,A61),\"\")","v":""},null,null,"",{"$f":"IF(K61=\"\",\"\",INDEX('OTRAS REFERENTES'!$AH$6:$AI$658,MATCH(K61,'OTRAS REFERENTES'!$AH$6:$AH$658,0),2))","v":""},null,{"$f":"IF(J61=\"\",\"\",INDEX(REFERENTES!$T:$W,MATCH(J61,REFERENTES!$V:$V,0),3))","v":""},null,null,"",null,{"$f":"IF(P61=\"\",\"\",INDEX(REFERENTES!$J:$K,MATCH(P61,REFERENTES!$K:$K,0),1))","v":""},null,{"$f":"IF(R61=\"\",\"\",INDEX(REFERENTES!$D:$E,MATCH(R61,REFERENTES!$D:$D,0),2))","v":""},null,null,"",{"$f":"IF(X61=\"\",\"\",INDEX('OTRAS REFERENTES'!$H:$I,MATCH(X61,'OTRAS REFERENTES'!$I:$I,0),1))","v":""},null,null,{"$f":"IF(AA61=\"\",\"\",INDEX('OTRAS REFERENTES'!$K:$L,MATCH(AA61,'OTRAS REFERENTES'!$L:$L,0),1))","v":""},null,null,"",{"$f":"IF(SUMPRODUCT(--EXACT(K61&M61,$AD$2:AD60)),\"\",K61&M61)","v":""},{"$f":"IF(SUMPRODUCT(--EXACT(K61&M61,$AD$2:AD60)),\"\",MAX($AE$3:AE60)+1)","v":""}]
[1,"",60,"","",{"$f":"IF(L62<>\"\",CONCATENATE(DIGITADOR!$B$2,$A$2,DIGITADOR!$M$1,A62),\"\")","v":""},null,null,"",{"$f":"IF(K62=\"\",\"\",INDEX('OTRAS REFERENTES'!$AH$6:$AI$658,MATCH(K62,'OTRAS REFERENTES'!$AH$6:$AH$658,0),2))","v":""},null,{"$f":"IF(J62=\"\",\"\",INDEX(REFERENTES!$T:$W,MATCH(J62,REFERENTES!$V:$V,0),3))","v":""},null,null,"",null,{"$f":"IF(P62=\"\",\"\",INDEX(REFERENTES!$J:$K,MATCH(P62,REFERENTES!$K:$K,0),1))","v":""},null,{"$f":"IF(R62=\"\",\"\",INDEX(REFERENTES!$D:$E,MATCH(R62,REFERENTES!$D:$D,0),2))","v":""},null,null,"",{"$f":"IF(X62=\"\",\"\",INDEX('OTRAS REFERENTES'!$H:$I,MATCH(X62,'OTRAS REFERENTES'!$I:$I,0),1))","v":""},null,null,{"$f":"IF(AA62=\"\",\"\",INDEX('OTRAS REFERENTES'!$K:$L,MATCH(AA62,'OTRAS REFERENTES'!$L:$L,0),1))","v":""},null,null,"",{"$f":"IF(SUMPRODUCT(--EXACT(K62&M62,$AD$2:AD61)),\"\",K62&M62)","v":""},{"$f":"IF(SUMPRODUCT(--EXACT(K62&M62,$AD$2:AD61)),\"\",MAX($AE$3:AE61)+1)","v":""}]
[1,"",61,"","",{"$f":"IF(L63<>\"\",CONCATENATE(DIGITADOR!$B$2,$A$2,DIGITADOR!$M$1,A63),\"\")","v":""},null,null,"",{"$f":"IF(K63=\"\",\"\",INDEX('OTRAS REFERENTES'!$AH$6:$AI$658,MATCH(K63,'OTRAS REFERENTES'!$AH$6:$AH$658,0),2))","v":""},null,{"$f":"IF(J63=\"\",\"\",INDEX(REFERENTES!$T:$W,MATCH(J63,REFERENTES!$V:$V,0),3))","v":""},null,null,"",null,{"$f":"IF(P63=\"\",\"\",INDEX(REFERENTES!$J:$K,MATCH(P63,REFERENTES!$K:$K,0),1))","v":""},null,{"$f":"IF(R63=\"\",\"\",INDEX(REFERENTES!$D:$E,MATCH(R63,REFERENTES!$D:$D,0),2))","v":""},null,null,"",{"$f":"IF(X63=\"\",\"\",INDEX('OTRAS REFERENTES'!$H:$I,MATCH(X63,'OTRAS REFERENTES'!$I:$I,0),1))","v":""},null,null,{"$f":"IF(AA63=\"\",\"\",INDEX('OTRAS REFERENTES'!$K:$L,MATCH(AA63,'OTRAS REFERENTES'!$L:$L,0),1))","v":""},null,null,"",{"$f":"IF(SUMPRODUCT(--EXACT(K63&M63,$AD$2:AD62)),\"\",K63&M63)","v":""},{"$f":"IF(SUMPRODUCT(--EXACT(K63&M63,$AD$2:AD62)),\"\",MAX($AE$3:AE62)+1)","v":""}]
[1,"",62,"","",{"$f":"IF(L64<>\"\",CONCATENATE(DIGITADOR!$B$2,$A$2,DIGITADOR!$M$1,A64),\"\")","v":""},null,null,"",{"$f":"IF(K64=\"\",\"\",INDEX('OTRAS REFERENTES'!$AH$6:$AI$658,MATCH(K64,'OTRAS REFERENTES'!$AH$6:$AH$658,0),2))","v":""},null,{"$f":"IF(J64=\"\",\"\",INDEX(REFERENTES!$T:$W,MATCH(J64,REFERENTES!$V:$V,0),3))","v":""},null,null,"",null,{"$f":"IF(P64=\"\",\"\",INDEX(REFERENTES!$J:$K,MATCH(P64,REFERENTES!$K:$K,0),1))","v":""},null,{"$f":"IF(R64=\"\",\"\",INDEX(REFERENTES!$D:$E,MATCH(R64,REFERENTES!$D:$D,0),2))","v":""},null,null,"",{"$f":"IF(X64=\"\",\"\",INDEX('OTRAS REFERENTES'!$H:$I,MATCH(X64,'OTRAS REFERENTES'!$I:$I,0),1))","v":""},null,null,{"$f":"IF(AA64=\"\",\"\",INDEX('OTRAS REFERENTES'!$K:$L,MATCH(AA64,'OTRAS REFERENTES'!$L:$L,0),1))","v":""},null,null,"",{"$f":"IF(SUMPRODUCT(--EXACT(K64&M64,$AD$2:AD63)),\"\",K64&M64)","v":""},{"$f":"IF(SUMPRODUCT(--EXACT(K64&M64,$AD$2:AD63)),\"\",MAX($AE$3:AE63)+1)","v":""}]
[1,"",63,"","",{"$f":"IF(L65<>\"\",CONCATENATE(DIGITADOR!$B$2,$A$2,DIGITADOR!$M$1,A65),\"\")","v":""},null,null,"",{"$f":"IF(K65=\"\",\"\",INDEX('OTRAS REFERENTES'!$AH$6:$AI$658,MATCH(K65,'OTRAS REFERENTES'!$AH$6:$AH$658,0),2))","v":""},null,{"$f":"IF(J65=\"\",\"\",INDEX(REFERENTES!$T:$W,MATCH(J65,REFERENTES!$V:$V,0),3))","v":""},null,null,"",null,{"$f":"IF(P65=\"\",\"\",INDEX(REFERENTES!$J:$K,MATCH(P65,REFERENTES!$K:$K,0),1))","v":""},null,{"$f":"IF(R65=\"\",\"\",INDEX(REFERENTES!$D:$E,MATCH(R65,REFERENTES!$D:$D,0),2))","v":""},null,null,"",{"$f":"IF(X65=\"\",\"\",INDEX('OTRAS REFERENTES'!$H:$I,MATCH(X65,'OTRAS REFERENTES'!$I:$I,0),1))","v":""},null,null,{"$f":"IF(AA65=\"\",\"\",INDEX('OTRAS REFERENTES'!$K:$L,MATCH(AA65,'OTRAS REFERENTES'!$L:$L,0),1))","v":""},null,null,"",{"$f":"IF(SUMPRODUCT(--EXACT(K65&M65,$AD$2:AD64)),\"\",K65&M65)","v":""},{"$f":"IF(SUMPRODUCT(--EXACT(K65&M65,$AD$2:AD64)),\"\",MAX($AE$3:AE64)+1)","v":""}]
[1,"",64,"","",{"$f":"IF(L66<>\"\",CONCATENATE(DIGITADOR!$B$2,$A$2,DIGITADOR!$M$1,A66),\"\")","v":""},null,null,"",{"$f":"IF(K66=\"\",\"\",INDEX('OTRAS REFERENTES'!$AH$6:$AI$658,MATCH(K66,'OTRAS REFERENTES'!$AH$6:$AH$658,0),2))","v":""},null,{"$f":"IF(J66=\"\",\"\",INDEX(REFERENTES!$T:$W,MATCH(J66,REFERENTES!$V:$V,0),3))","v":""},null,null,"",null,{"$f":"IF(P66=\"\",\"\",INDEX(REFERENTES!$J:$K,MATCH(P66,REFERENTES!$K:$K,0),1))","v":""},null,{"$f":"IF(R66=\"\",\"\",INDEX(REFERENTES!$D:$E,MATCH(R66,REFERENTES!$D:$D,0),2))","v":""},null,null,"",{"$f":"IF(X66=\"\",\"\",INDEX('OTRAS REFERENTES'!$H:$I,MATCH(X66,'OTRAS REFERENTES'!$I:$I,0),1))","v":""},null,null,{"$f":"IF(AA66=\"\",\"\",INDEX('OTRAS REFERENTES'!$K:$L,MATCH(AA66,'OTRAS REFERENTES'!$L:$L,0),1))","v":""},null,null,"",{"$f":"IF(SUMPRODUCT(--EXACT(K66&M66,$AD$2:AD65)),\"\",K66&M66)","v":""},{"$f":"IF(SUMPRODUCT(--EXACT(K66&M66,$AD$2:AD65)),\"\",MAX($AE$3:AE65)+1)","v":""}]
[1,"",65,"",{"$f":"CONCATENATE(I67,L67)","v":""},{"$f":"IF(L67<>\"\",CONCATENATE(DIGITADOR!$B$2,$A$2,DIGITADOR!$M$1,A67),\"\")","v":""},null,null,{"$f":"IF(G67<>\"\",G67+H67,\"\")","v":""},{"$f":"IF(K67=\"\",\"\",INDEX('OTRAS REFERENTES'!$AH$6:$AI$658,MATCH(K67,'OTRAS REFERENTES'!$AH$6:$AH$658,0),2))","v":""},null,{"$f":"IF(J67=\"\",\"\",INDEX(REFERENTES!$T:$W,MATCH(J67,REFERENTES!$V:$V,0),3))","v":""},null,null,{"$f":"IF(P67=\"\",\"\",UPPER(P67))","v":""},null,{"$f":"IF(P67=\"\",\"\",INDEX(REFERENTES!$J:$K,MATCH(P67,REFERENTES!$K:$K,0),1))","v":""},null,{"$f":"IF(R67=\"\",\"\",INDEX(REFERENTES!$D:$E,MATCH(R67,REFERENTES!$D:$D,0),2))","v":""},null,null,{"$f":"IF(U67=\"\",IF(T67=\"\",\"\",IF(AND(T67>=0,T67<=50),\"A\",IF(AND(T67>50,T67<=150),\"B\",\"C\"))),U67)","v":""},{"$f":"IF(X67=\"\",\"\",INDEX('OTRAS REFERENTES'!$H:$I,MATCH(X67,'OTRAS REFERENTES'!$I:$I,0),1))","v":""},null,null,{"$f":"IF(AA67=\"\",\"\",INDEX('OTRAS REFERENTES'!$K:$L,MATCH(AA67,'OTRAS REFERENTES'!$L:$L,0),1))","v":""},null,null,"",{"$f":"IF(SUMPRODUCT(--EXACT(K67&M67,$AD$2:AD66)),\"\",K67&M67)","v":""},{"$f":"IF(SUMPRODUCT(--EXACT(K67&M67,$AD$2:AD66)),\"\",MAX($AE$3:AE66)+1)","v":""}]
[1,"",66,{"$f":"IF(L68=\"\",\"\",CONCATENATE(C68,F68))","v":""},"",{"$f":"IF(L68<>\"\",CONCATENATE(DIGITADOR!$B$2,$A$2,DIGITADOR!$M$1,A68),\"\")","v":""},null,null,"",{"$f":"IF(K68=\"\",\"\",INDEX('OTRAS REFERENTES'!$AH$6:$AI$658,MATCH(K68,'OTRAS REFERENTES'!$AH$6:$AH$658,0),2))","v":""},null,{"$f":"IF(J68=\"\",\"\",INDEX(REFERENTES!$T:$W,MATCH(J68,REFERENTES!$V:$V,0),3))","v":""},null,null,"",null,{"$f":"IF(P68=\"\",\"\",INDEX(REFERENTES!$J:$K,MATCH(P68,REFERENTES!$K:$K,0),1))","v":""},null,{"$f":"IF(R68=\"\",\"\",INDEX(REFERENTES!$D:$E,MATCH(R68,REFERENTES!$D:$D,0),2))","v":""},null,null,"",{"$f":"IF(X68=\"\",\"\",INDEX('OTRAS REFERENTES'!$H:$I,MATCH(X68,'OTRAS REFERENTES'!$I:$I,0),1))","v":""},null,null,{"$f":"IF(AA68=\"\",\"\",INDEX('OTRAS REFERENTES'!$K:$L,MATCH(AA68,'OTRAS REFERENTES'!$L:$L,0),1))","v":""},null,null,{"$f":"IF(R68=\"\",\"\",UPPER(R68))","v":""},{"$f":"IF(SUMPRODUCT(--EXACT(K68&M68,$AD$2:AD67)),\"\",K68&M68)","v":""},{"$f":"IF(SUMPRODUCT(--EXACT(K68&M68,$AD$2:AD67)),\"\",MAX($AE$3:AE67)+1)","v":""}]
[{"$f":"IF(L69=L68,A68,A68+1)","v":1},{"$f":"IF(F69<>F68, F69,\"\")","v":""},67,"","",{"$f":"IF(L69<>\"\",CONCATENATE(DIGITADOR!$B$2,$A$2,DIGITADOR!$M$1,A69),\"\")","v":""},null,null,"",{"$f":"IF(K69=\"\",\"\",INDEX('OTRAS REFERENTES'!$AH$6:$AI$658,MATCH(K69,'OTRAS REFERENTES'!$AH$6:$AH$658,0),2))","v":""},null,{"$f":"IF(J69=\"\",\"\",INDEX(REFERENTES!$T:$W,MATCH(J69,REFERENTES!$V:$V,0),3))","v":""},null,null,"",null,{"$f":"IF(P69=\"\",\"\",INDEX(REFERENTES!$J:$K,MATCH(P69,REFERENTES!$K:$K,0),1))","v":""},null,{"$f":"IF(R69=\"\",\"\",INDEX(REFERENTES!$D:$E,MATCH(R69,REFERENTES!$D:$D,0),2))","v":""},null,null,"",{"$f":"IF(X69=\"\",\"\",INDEX('OTRAS REFERENTES'!$H:$I,MATCH(X69,'OTRAS REFERENTES'!$I:$I,0),1))","v":""},null,null,{"$f":"IF(AA69=\"\",\"\",INDEX('OTRAS REFERENTES'!$K:$L,MATCH(AA69,'OTRAS REFERENTES'!$L:$L,0),1))","v":""},null,null,"",{"$f":"IF(SUMPRODUCT(--EXACT(K69&M69,$AD$2:AD68)),\"\",K69&M69)","v":""},{"$f":"IF(SUMPRODUCT(--EXACT(K69&M69,$AD$2:AD68)),\"\",MAX($AE$3:AE68)+1)","v":""}]
[1,"",68,"","",{"$f":"IF(L70<>\"\",CONCATENATE(DIGITADOR!$B$2,$A$2,DIGITADOR!$M$1,A70),\"\")","v":""},null,null,"",{"$f":"IF(K70=\"\",\"\",INDEX('OTRAS REFERENTES'!$AH$6:$AI$658,MATCH(K70,'OTRAS REFERENTES'!$AH$6:$AH$658,0),2))","v":""},null,{"$f":"IF(J70=\"\",\"\",INDEX(REFERENTES!$T:$W,MATCH(J70,REFERENTES!$V:$V,0),3))","v":""},null,null,"",null,{"$f":"IF(P70=\"\",\"\",INDEX(REFERENTES!$J:$K,MATCH(P70,REFERENTES!$K:$K,0),1))","v":""},null,{"$f":"IF(R70=\"\",\"\",INDEX(REFERENTES!$D:$E,MATCH(R70,REFERENTES!$D:$D,0),2))","v":""},null,null,"",{"$f":"IF(X70=\"\",\"\",INDEX('OTRAS REFERENTES'!$H:$I,MATCH(X70,'OTRAS REFERENTES'!$I:$I,0),1))","v":""},null,null,{"$f":"IF(AA70=\"\",\"\",INDEX('OTRAS REFERENTES'!$K:$L,MATCH(AA70,'OTRAS REFERENTES'!$L:$L,0),1))","v":""},null,null,"",{"$f":"IF(SUMPRODUCT(--EXACT(K70&M70,$AD$2:AD69)),\"\",K70&M70)","v":""},{"$f":"IF(SUMPRODUCT(--EXACT(K70&M70,$AD$2:AD69)),\"\",MAX($AE$3:AE69)+1)","v":""}]
[1,"",69,"","",{"$f":"IF(L71<>\"\",CONCATENATE(DIGITADOR!$B$2,$A$2,DIGITADOR!$M$1,A71),\"\")","v":""},null,null,"",{"$f":"IF(K71=\"\",\"\",INDEX('OTRAS REFERENTES'!$AH$6:$AI$658,MATCH(K71,'OTRAS REFERENTES'!$AH$6:$AH$658,0),2))","v":""},null,{"$f":"IF(J71=\"\",\"\",INDEX(REFERENTES!$T:$W,MATCH(J71,REFERENTES!$V:$V,0),3))","v":""},null,null,"",null,{"$f":"IF(P71=\"\",\"\",INDEX(REFERENTES!$J:$K,MATCH(P71,REFERENTES!$K:$K,0),1))","v":""},null,{"$f":"IF(R71=\"\",\"\",INDEX(REFERENTES!$D:$E,MATCH(R71,REFERENTES!$D:$D,0),2))","v":""},null,null,"",{"$f":"IF(X71=\"\",\"\",INDEX('OTRAS REFERENTES'!$H:$I,MATCH(X71,'OTRAS REFERENTES'!$I:$I,0),1))","v":""},null,null,{"$f":"IF(AA71=\"\",\"\",INDEX('OTRAS REFERENTES'!$K:$L,MATCH(AA71,'OTRAS REFERENTES'!$L:$L,0),1))","v":""},null,null,"",{"$f":"IF(SUMPRODUCT(--EXACT(K71&M71,$AD$2:AD70)),\"\",K71&M71)","v":""},{"$f":"IF(SUMPRODUCT(--EXACT(K71&M71,$AD$2:AD70)),\"\",MAX($AE$3:AE70)+1)","v":""}]
[1,"",70,"","",{"$f":"IF(L72<>\"\",CONCATENATE(DIGITADOR!$B$2,$A$2,DIGITADOR!$M$1,A72),\"\")","v":""},null,null,"",{"$f":"IF(K72=\"\",\"\",INDEX('OTRAS REFERENTES'!$AH$6:$AI$658,MATCH(K72,'OTRAS REFERENTES'!$AH$6:$AH$658,0),2))","v":""},null,{"$f":"IF(J72=\"\",\"\",INDEX(REFERENTES!$T:$W,MATCH(J72,REFERENTES!$V:$V,0),3))","v":""},null,null,"",null,{"$f":"IF(P72=\"\",\"\",INDEX(REFERENTES!$J:$K,MATCH(P72,REFERENTES!$K:$K,0),1))","v":""},null,{"$f":"IF(R72=\"\",\"\",INDEX(REFERENTES!$D:$E,MATCH(R72,REFERENTES!$D:$D,0),2))","v":""},null,null,"",{"$f":"IF(X72=\"\",\"\",INDEX('OTRAS REFERENTES'!$H:$I,MATCH(X72,'OTRAS REFERENTES'!$I:$I,0),1))","v":""},null,null,{"$f":"IF(AA72=\"\",\"\",INDEX('OTRAS REFERENTES'!$K:$L,MATCH(AA72,'OTRAS REFERENTES'!$L:$L,0),1))","v":""},null,null,"",{"$f":"IF(SUMPRODUCT(--EXACT(K72&M72,$AD$2:AD71)),\"\",K72&M72)","v":""},{"$f":"IF(SUMPRODUCT(--EXACT(K72&M72,$AD$2:AD71)),\"\",MAX($AE$3:AE71)+1)","v":""}]
[1,"",71,"","",{"$f":"IF(L73<>\"\",CONCATENATE(DIGITADOR!$B$2,$A$2,DIGITADOR!$M$1,A73),\"\")","v":""},null,null,"",{"$f":"IF(K73=\"\",\"\",INDEX('OTRAS REFERENTES'!$AH$6:$AI$658,MATCH(K73,'OTRAS REFERENTES'!$AH$6:$AH$658,0),2))","v":""},null,{"$f":"IF(J73=\"\",\"\",INDEX(REFERENTES!$T:$W,MATCH(J73,REFERENTES!$V:$V,0),3))","v":""},null,null,"",null,{"$f":"IF(P73=\"\",\"\",INDEX(REFERENTES!$J:$K,MATCH(P73,REFERENTES!$K:$K,0),1))","v":""},null,{"$f":"IF(R73=\"\",\"\",INDEX(REFERENTES!$D:$E,MATCH(R73,REFERENTES!$D:$D,0),2))","v":""},null,null,"",{"$f":"IF(X73=\"\",\"\",INDEX('OTRAS REFERENTES'!$H:$I,MATCH(X73,'OTRAS REFERENTES'!$I:$I,0),1))","v":""},null,null,{"$f":"IF(AA73=\"\",\"\",INDEX('OTRAS REFERENTES'!$K:$L,MATCH(AA73,'OTRAS REFERENTES'!$L:$L,0),1))","v":""},null,null,"",{"$f":"IF(SUMPRODUCT(--EXACT(K73&M73,$AD$2:AD72)),\"\",K73&M73)","v":""},{"$f":"IF(SUMPRODUCT(--EXACT(K73&M73,$AD$2:AD72)),\"\",MAX($AE$3:AE72)+1)","v":""}]
[1,"",72,"","",{"$f":"IF(L74<>\"\",CONCATENATE(DIGITADOR!$B$2,$A$2,DIGITADOR!$M$1,A74),\"\")","v":""},null,null,"",{"$f":"IF(K74=\"\",\"\",INDEX('OTRAS REFERENTES'!$AH$6:$AI$658,MATCH(K74,'OTRAS REFERENTES'!$AH$6:$AH$658,0),2))","v":""},null,{"$f":"IF(J74=\"\",\"\",INDEX(REFERENTES!$T:$W,MATCH(J74,REFERENTES!$V:$V,0),3))","v":""},null,null,"",null,{"$f":"IF(P74=\"\",\"\",INDEX(REFERENTES!$J:$K,MATCH(P74,REFERENTES!$K:$K,0),1))","v":""},null,{"$f":"IF(R74=\"\",\"\",INDEX(REFERENTES!$D:$E,MATCH(R74,REFERENTES!$D:$D,0),2))","v":""},null,null,"",{"$f":"IF(X74=\"\",\"\",INDEX('OTRAS REFERENTES'!$H:$I,MATCH(X74,'OTRAS REFERENTES'!$I:$I,0),1))","v":""},null,null,{"$f":"IF(AA74=\"\",\"\",INDEX('OTRAS REFERENTES'!$K:$L,MATCH(AA74,'OTRAS REFERENTES'!$L:$L,0),1))","v":""},null,null,"",{"$f":"IF(SUMPRODUCT(--EXACT(K74&M74,$AD$2:AD73)),\"\",K74&M74)","v":""},{"$f":"IF(SUMPRODUCT(--EXACT(K74&M74,$AD$2:AD73)),\"\",MAX($AE$3:AE73)+1)","v":""}]
[1,"",73,"","",{"$f":"IF(L75<>\"\",CONCATENATE(DIGITADOR!$B$2,$A$2,DIGITADOR!$M$1,A75),\"\")","v":""},null,null,"",{"$f":"IF(K75=\"\",\"\",INDEX('OTRAS REFERENTES'!$AH$6:$AI$658,MATCH(K75,'OTRAS REFERENTES'!$AH$6:$AH$658,0),2))","v":""},null,{"$f":"IF(J75=\"\",\"\",INDEX(REFERENTES!$T:$W,MATCH(J75,REFERENTES!$V:$V,0),3))","v":""},null,null,"",null,{"$f":"IF(P75=\"\",\"\",INDEX(REFERENTES!$J:$K,MATCH(P75,REFERENTES!$K:$K,0),1))","v":""},null,{"$f":"IF(R75=\"\",\"\",INDEX(REFERENTES!$D:$E,MATCH(R75,REFERENTES!$D:$D,0),2))","v":""},null,null,"",{"$f":"IF(X75=\"\",\"\",INDEX('OTRAS REFERENTES'!$H:$I,MATCH(X75,'OTRAS REFERENTES'!$I:$I,0),1))","v":""},null,null,{"$f":"IF(AA75=\"\",\"\",INDEX('OTRAS REFERENTES'!$K:$L,MATCH(AA75,'OTRAS REFERENTES'!$L:$L,0),1))","v":""},null,null,"",{"$f":"IF(SUMPRODUCT(--EXACT(K75&M75,$AD$2:AD74)),\"\",K75&M75)","v":""},{"$f":"IF(SUMPRODUCT(--EXACT(K75&M75,$AD$2:AD74)),\"\",MAX($AE$3:AE74)+1)","v":""}]
[1,"",74,"","",{"$f":"IF(L76<>\"\",CONCATENATE(DIGITADOR!$B$2,$A$2,DIGITADOR!$M$1,A76),\"\")","v":""},null,null,"",{"$f":"IF(K76=\"\",\"\",INDEX('OTRAS REFERENTES'!$AH$6:$AI$658,MATCH(K76,'OTRAS REFERENTES'!$AH$6:$AH$658,0),2))","v":""},null,{"$f":"IF(J76=\"\",\"\",INDEX(REFERENTES!$T:$W,MATCH(J76,REFERENTES!$V:$V,0),3))","v":""},null,null,"",null,{"$f":"IF(P76=\"\",\"\",INDEX(REFERENTES!$J:$K,MATCH(P76,REFERENTES!$K:$K,0),1))","v":""},null,{"$f":"IF(R76=\"\",\"\",INDEX(REFERENTES!$D:$E,MATCH(R76,REFERENTES!$D:$D,0),2))","v":""},null,null,"",{"$f":"IF(X76=\"\",\"\",INDEX('OTRAS REFERENTES'!$H:$I,MATCH(X76,'OTRAS REFERENTES'!$I:$I,0),1))","v":""},null,null,{"$f":"IF(AA76=\"\",\"\",INDEX('OTRAS REFERENTES'!$K:$L,MATCH(AA76,'OTRAS REFERENTES'!$L:$L,0),1))","v":""},null,null,"",{"$f":"IF(SUMPRODUCT(--EXACT(K76&M76,$AD$2:AD75)),\"\",K76&M76)","v":""},{"$f":"IF(SUMPRODUCT(--EXACT(K76&M76,$AD$2:AD75)),\"\",MAX($AE$3:AE75)+1)","v":""}]
[1,"",75,"","",{"$f":"IF(L77<>\"\",CONCATENATE(DIGITADOR!$B$2,$A$2,DIGITADOR!$M$1,A77),\"\")","v":""},null,null,"",{"$f":"IF(K77=\"\",\"\",INDEX('OTRAS REFERENTES'!$AH$6:$AI$658,MATCH(K77,'OTRAS REFERENTES'!$AH$6:$AH$658,0),2))","v":""},null,{"$f":"IF(J77=\"\",\"\",INDEX(REFERENTES!$T:$W,MATCH(J77,REFERENTES!$V:$V,0),3))","v":""},null,null,"",null,{"$f":"IF(P77=\"\",\"\",INDEX(REFERENTES!$J:$K,MATCH(P77,REFERENTES!$K:$K,0),1))","v":""},null,{"$f":"IF(R77=\"\",\"\",INDEX(REFERENTES!$D:$E,MATCH(R77,REFERENTES!$D:$D,0),2))","v":""},null,null,"",{"$f":"IF(X77=\"\",\"\",INDEX('OTRAS REFERENTES'!$H:$I,MATCH(X77,'OTRAS REFERENTES'!$I:$I,0),1))","v":""},null,null,{"$f":"IF(AA77=\"\",\"\",INDEX('OTRAS REFERENTES'!$K:$L,MATCH(AA77,'OTRAS REFERENTES'!$L:$L,0),1))","v":""},null,null,"",{"$f":"IF(SUMPRODUCT(--EXACT(K77&M77,$AD$2:AD76)),\"\",K77&M77)","v":""},{"$f":"IF(SUMPRODUCT(--EXACT(K77&M77,$AD$2:AD76)),\"\",MAX($AE$3:AE76)+1)","v":""}]
[1,"",76,"","",{"$f":"IF(L78<>\"\",CONCATENATE(DIGITADOR!$B$2,$A$2,DIGITADOR!$M$1,A78),\"\")","v":""},null,null,"",{"$f":"IF(K78=\"\",\"\",INDEX('OTRAS REFERENTES'!$AH$6:$AI$658,MATCH(K78,'OTRAS REFERENTES'!$AH$6:$AH$658,0),2))","v":""},null,{"$f":"IF(J78=\"\",\"\",INDEX(REFERENTES!$T:$W,MATCH(J78,REFERENTES!$V:$V,0),3))","v":""},null,null,"",null,{"$f":"IF(P78=\"\",\"\",INDEX(REFERENTES!$J:$K,MATCH(P78,REFERENTES!$K:$K,0),1))","v":""},null,{"$f":"IF(R78=\"\",\"\",INDEX(REFERENTES!$D:$E,MATCH(R78,REFERENTES!$D:$D,0),2))","v":""},null,null,"",{"$f":"IF(X78=\"\",\"\",INDEX('OTRAS REFERENTES'!$H:$I,MATCH(X78,'OTRAS REFERENTES'!$I:$I,0),1))","v":""},null,null,{"$f":"IF(AA78=\"\",\"\",INDEX('OTRAS REFERENTES'!$K:$L,MATCH(AA78,'OTRAS REFERENTES'!$L:$L,0),1))","v":""},null,null,"",{"$f":"IF(SUMPRODUCT(--EXACT(K78&M78,$AD$2:AD77)),\"\",K78&M78)","v":""},{"$f":"IF(SUMPRODUCT(--EXACT(K78&M78,$AD$2:AD77)),\"\",MAX($AE$3:AE77)+1)","v":""}]
[1,"",77,"","",{"$f":"IF(L79<>\"\",CONCATENATE(DIGITADOR!$B$2,$A$2,DIGITADOR!$M$1,A79),\"\")","v":""},null,null,"",{"$f":"IF(K79=\"\",\"\",INDEX('OTRAS REFERENTES'!$AH$6:$AI$658,MATCH(K79,'OTRAS REFERENTES'!$AH$6:$AH$658,0),2))","v":""},null,{"$f":"IF(J79=\"\",\"\",INDEX(REFERENTES!$T:$W,MATCH(J79,REFERENTES!$V:$V,0),3))","v":""},null,null,"",null,{"$f":"IF(P79=\"\",\"\",INDEX(REFERENTES!$J:$K,MATCH(P79,REFERENTES!$K:$K,0),1))","v":""},null,{"$f":"IF(R79=\"\",\"\",INDEX(REFERENTES!$D:$E,MATCH(R79,REFERENTES!$D:$D,0),2))","v":""},null,null,"",{"$f":"IF(X79=\"\",\"\",INDEX('OTRAS REFERENTES'!$H:$I,MATCH(X79,'OTRAS REFERENTES'!$I:$I,0),1))","v":""},null,null,{"$f":"IF(AA79=\"\",\"\",INDEX('OTRAS REFERENTES'!$K:$L,MATCH(AA79,'OTRAS REFERENTES'!$L:$L,0),1))","v":""},null,null,"",{"$f":"IF(SUMPRODUCT(--EXACT(K79&M79,$AD$2:AD78)),\"\",K79&M79)","v":""},{"$f":"IF(SUMPRODUCT(--EXACT(K79&M79,$AD$2:AD78)),\"\",MAX($AE$3:AE78)+1)","v":""}]
[1,"",78,"","",{"$f":"IF(L80<>\"\",CONCATENATE(DIGITADOR!$B$2,$A$2,DIGITADOR!$M$1,A80),\"\")","v":""},null,null,"",{"$f":"IF(K80=\"\",\"\",INDEX('OTRAS REFERENTES'!$AH$6:$AI$658,MATCH(K80,'OTRAS REFERENTES'!$AH$6:$AH$658,0),2))","v":""},null,{"$f":"IF(J80=\"\",\"\",INDEX(REFERENTES!$T:$W,MATCH(J80,REFERENTES!$V:$V,0),3))","v":""},null,null,"",null,{"$f":"IF(P80=\"\",\"\",INDEX(REFERENTES!$J:$K,MATCH(P80,REFERENTES!$K:$K,0),1))","v":""},null,{"$f":"IF(R80=\"\",\"\",INDEX(REFERENTES!$D:$E,MATCH(R80,REFERENTES!$D:$D,0),2))","v":""},null,null,"",{"$f":"IF(X80=\"\",\"\",INDEX('OTRAS REFERENTES'!$H:$I,MATCH(X80,'OTRAS REFERENTES'!$I:$I,0),1))","v":""},null,null,{"$f":"IF(AA80=\"\",\"\",INDEX('OTRAS REFERENTES'!$K:$L,MATCH(AA80,'OTRAS REFERENTES'!$L:$L,0),1))","v":""},null,null,"",{"$f":"IF(SUMPRODUCT(--EXACT(K80&M80,$AD$2:AD79)),\"\",K80&M80)","v":""},{"$f":"IF(SUMPRODUCT(--EXACT(K80&M80,$AD$2:AD79)),\"\",MAX($AE$3:AE79)+1)","v":""}]
[1,"",79,"","",{"$f":"IF(L81<>\"\",CONCATENATE(DIGITADOR!$B$2,$A$2,DIGITADOR!$M$1,A81),\"\")","v":""},null,null,"",{"$f":"IF(K81=\"\",\"\",INDEX('OTRAS REFERENTES'!$AH$6:$AI$658,MATCH(K81,'OTRAS REFERENTES'!$AH$6:$AH$658,0),2))","v":""},null,{"$f":"IF(J81=\"\",\"\",INDEX(REFERENTES!$T:$W,MATCH(J81,REFERENTES!$V:$V,0),3))","v":""},null,null,"",null,{"$f":"IF(P81=\"\",\"\",INDEX(REFERENTES!$J:$K,MATCH(P81,REFERENTES!$K:$K,0),1))","v":""},null,{"$f":"IF(R81=\"\",\"\",INDEX(REFERENTES!$D:$E,MATCH(R81,REFERENTES!$D:$D,0),2))","v":""},null,null,"",{"$f":"IF(X81=\"\",\"\",INDEX('OTRAS REFERENTES'!$H:$I,MATCH(X81,'OTRAS REFERENTES'!$I:$I,0),1))","v":""},null,null,{"$f":"IF(AA81=\"\",\"\",INDEX('OTRAS REFERENTES'!$K:$L,MATCH(AA81,'OTRAS REFERENTES'!$L:$L,0),1))","v":""},null,null,"",{"$f":"IF(SUMPRODUCT(--EXACT(K81&M81,$AD$2:AD80)),\"\",K81&M81)","v":""},{"$f":"IF(SUMPRODUCT(--EXACT(K81&M81,$AD$2:AD80)),\"\",MAX($AE$3:AE80)+1)","v":""}]
[1,"",80,"","",{"$f":"IF(L82<>\"\",CONCATENATE(DIGITADOR!$B$2,$A$2,DIGITADOR!$M$1,A82),\"\")","v":""},null,null,"",{"$f":"IF(K82=\"\",\"\",INDEX('OTRAS REFERENTES'!$AH$6:$AI$658,MATCH(K82,'OTRAS REFERENTES'!$AH$6:$AH$658,0),2))","v":""},null,{"$f":"IF(J82=\"\",\"\",INDEX(REFERENTES!$T:$W,MATCH(J82,REFERENTES!$V:$V,0),3))","v":""},null,null,"",null,{"$f":"IF(P82=\"\",\"\",INDEX(REFERENTES!$J:$K,MATCH(P82,REFERENTES!$K:$K,0),1))","v":""},null,{"$f":"IF(R82=\"\",\"\",INDEX(REFERENTES!$D:$E,MATCH(R82,REFERENTES!$D:$D,0),2))","v":""},null,null,"",{"$f":"IF(X82=\"\",\"\",INDEX('OTRAS REFERENTES'!$H:$I,MATCH(X82,'OTRAS REFERENTES'!$I:$I,0),1))","v":""},null,null,{"$f":"IF(AA82=\"\",\"\",INDEX('OTRAS REFERENTES'!$K:$L,MATCH(AA82,'OTRAS REFERENTES'!$L:$L,0),1))","v":""},null,null,"",{"$f":"IF(SUMPRODUCT(--EXACT(K82&M82,$AD$2:AD81)),\"\",K82&M82)","v":""},{"$f":"IF(SUMPRODUCT(--EXACT(K82&M82,$AD$2:AD81)),\"\",MAX($AE$3:AE81)+1)","v":""}]
[1,"",81,"","",{"$f":"IF(L83<>\"\",CONCATENATE(DIGITADOR!$B$2,$A$2,DIGITADOR!$M$1,A83),\"\")","v":""},null,null,"",{"$f":"IF(K83=\"\",\"\",INDEX('OTRAS REFERENTES'!$AH$6:$AI$658,MATCH(K83,'OTRAS REFERENTES'!$AH$6:$AH$658,0),2))","v":""},null,{"$f":"IF(J83=\"\",\"\",INDEX(REFERENTES!$T:$W,MATCH(J83,REFERENTES!$V:$V,0),3))","v":""},null,null,"",null,{"$f":"IF(P83=\"\",\"\",INDEX(REFERENTES!$J:$K,MATCH(P83,REFERENTES!$K:$K,0),1))","v":""},null,{"$f":"IF(R83=\"\",\"\",INDEX(REFERENTES!$D:$E,MATCH(R83,REFERENTES!$D:$D,0),2))","v":""},null,null,"",{"$f":"IF(X83=\"\",\"\",INDEX('OTRAS REFERENTES'!$H:$I,MATCH(X83,'OTRAS REFERENTES'!$I:$I,0),1))","v":""},null,null,{"$f":"IF(AA83=\"\",\"\",INDEX('OTRAS REFERENTES'!$K:$L,MATCH(AA83,'OTRAS REFERENTES'!$L:$L,0),1))","v":""},null,null,"",{"$f":"IF(SUMPRODUCT(--EXACT(K83&M83,$AD$2:AD82)),\"\",K83&M83)","v":""},{"$f":"IF(SUMPRODUCT(--EXACT(K83&M83,$AD$2:AD82)),\"\",MAX($AE$3:AE82)+1)","v":""}]
[1,"",82,"","",{"$f":"IF(L84<>\"\",CONCATENATE(DIGITADOR!$B$2,$A$2,DIGITADOR!$M$1,A84),\"\")","v":""},null,null,"",{"$f":"IF(K84=\"\",\"\",INDEX('OTRAS REFERENTES'!$AH$6:$AI$658,MATCH(K84,'OTRAS REFERENTES'!$AH$6:$AH$658,0),2))","v":""},null,{"$f":"IF(J84=\"\",\"\",INDEX(REFERENTES!$T:$W,MATCH(J84,REFERENTES!$V:$V,0),3))","v":""},null,null,"",null,{"$f":"IF(P84=\"\",\"\",INDEX(REFERENTES!$J:$K,MATCH(P84,REFERENTES!$K:$K,0),1))","v":""},null,{"$f":"IF(R84=\"\",\"\",INDEX(REFERENTES!$D:$E,MATCH(R84,REFERENTES!$D:$D,0),2))","v":""},null,null,"",{"$f":"IF(X84=\"\",\"\",INDEX('OTRAS REFERENTES'!$H:$I,MATCH(X84,'OTRAS REFERENTES'!$I:$I,0),1))","v":""},null,null,{"$f":"IF(AA84=\"\",\"\",INDEX('OTRAS REFERENTES'!$K:$L,MATCH(AA84,'OTRAS REFERENTES'!$L:$L,0),1))","v":""},null,null,"",{"$f":"IF(SUMPRODUCT(--EXACT(K84&M84,$AD$2:AD83)),\"\",K84&M84)","v":""},{"$f":"IF(SUMPRODUCT(--EXACT(K84&M84,$AD$2:AD83)),\"\",MAX($AE$3:AE83)+1)","v":""}]
[1,"",83,"","",{"$f":"IF(L85<>\"\",CONCATENATE(DIGITADOR!$B$2,$A$2,DIGITADOR!$M$1,A85),\"\")","v":""},null,null,"",{"$f":"IF(K85=\"\",\"\",INDEX('OTRAS REFERENTES'!$AH$6:$AI$658,MATCH(K85,'OTRAS REFERENTES'!$AH$6:$AH$658,0),2))","v":""},null,{"$f":"IF(J85=\"\",\"\",INDEX(REFERENTES!$T:$W,MATCH(J85,REFERENTES!$V:$V,0),3))","v":""},null,null,"",null,{"$f":"IF(P85=\"\",\"\",INDEX(REFERENTES!$J:$K,MATCH(P85,REFERENTES!$K:$K,0),1))","v":""},null,{"$f":"IF(R85=\"\",\"\",INDEX(REFERENTES!$D:$E,MATCH(R85,REFERENTES!$D:$D,0),2))","v":""},null,null,"",{"$f":"IF(X85=\"\",\"\",INDEX('OTRAS REFERENTES'!$H:$I,MATCH(X85,'OTRAS REFERENTES'!$I:$I,0),1))","v":""},null,null,{"$f":"IF(AA85=\"\",\"\",INDEX('OTRAS REFERENTES'!$K:$L,MATCH(AA85,'OTRAS REFERENTES'!$L:$L,0),1))","v":""},null,null,"",{"$f":"IF(SUMPRODUCT(--EXACT(K85&M85,$AD$2:AD84)),\"\",K85&M85)","v":""},{"$f":"IF(SUMPRODUCT(--EXACT(K85&M85,$AD$2:AD84)),\"\",MAX($AE$3:AE84)+1)","v":""}]
[1,"",84,"","",{"$f":"IF(L86<>\"\",CONCATENATE(DIGITADOR!$B$2,$A$2,DIGITADOR!$M$1,A86),\"\")","v":""},null,null,"",{"$f":"IF(K86=\"\",\"\",INDEX('OTRAS REFERENTES'!$AH$6:$AI$658,MATCH(K86,'OTRAS REFERENTES'!$AH$6:$AH$658,0),2))","v":""},null,{"$f":"IF(J86=\"\",\"\",INDEX(REFERENTES!$T:$W,MATCH(J86,REFERENTES!$V:$V,0),3))","v":""},null,null,"",null,{"$f":"IF(P86=\"\",\"\",INDEX(REFERENTES!$J:$K,MATCH(P86,REFERENTES!$K:$K,0),1))","v":""},null,{"$f":"IF(R86=\"\",\"\",INDEX(REFERENTES!$D:$E,MATCH(R86,REFERENTES!$D:$D,0),2))","v":""},null,null,"",{"$f":"IF(X86=\"\",\"\",INDEX('OTRAS REFERENTES'!$H:$I,MATCH(X86,'OTRAS REFERENTES'!$I:$I,0),1))","v":""},null,null,{"$f":"IF(AA86=\"\",\"\",INDEX('OTRAS REFERENTES'!$K:$L,MATCH(AA86,'OTRAS REFERENTES'!$L:$L,0),1))","v":""},null,null,"",{"$f":"IF(SUMPRODUCT(--EXACT(K86&M86,$AD$2:AD85)),\"\",K86&M86)","v":""},{"$f":"IF(SUMPRODUCT(--EXACT(K86&M86,$AD$2:AD85)),\"\",MAX($AE$3:AE85)+1)","v":""}]
[1,"",85,"","",{"$f":"IF(L87<>\"\",CONCATENATE(DIGITADOR!$B$2,$A$2,DIGITADOR!$M$1,A87),\"\")","v":""},null,null,"",{"$f":"IF(K87=\"\",\"\",INDEX('OTRAS REFERENTES'!$AH$6:$AI$658,MATCH(K87,'OTRAS REFERENTES'!$AH$6:$AH$658,0),2))","v":""},null,{"$f":"IF(J87=\"\",\"\",INDEX(REFERENTES!$T:$W,MATCH(J87,REFERENTES!$V:$V,0),3))","v":""},null,null,"",null,{"$f":"IF(P87=\"\",\"\",INDEX(REFERENTES!$J:$K,MATCH(P87,REFERENTES!$K:$K,0),1))","v":""},null,{"$f":"IF(R87=\"\",\"\",INDEX(REFERENTES!$D:$E,MATCH(R87,REFERENTES!$D:$D,0),2))","v":""},null,null,"",{"$f":"IF(X87=\"\",\"\",INDEX('OTRAS REFERENTES'!$H:$I,MATCH(X87,'OTRAS REFERENTES'!$I:$I,0),1))","v":""},null,null,{"$f":"IF(AA87=\"\",\"\",INDEX('OTRAS REFERENTES'!$K:$L,MATCH(AA87,'OTRAS REFERENTES'!$L:$L,0),1))","v":""},null,null,"",{"$f":"IF(SUMPRODUCT(--EXACT(K87&M87,$AD$2:AD86)),\"\",K87&M87)","v":""},{"$f":"IF(SUMPRODUCT(--EXACT(K87&M87,$AD$2:AD86)),\"\",MAX($AE$3:AE86)+1)","v":""}]
[1,"",86,"","",{"$f":"IF(L88<>\"\",CONCATENATE(DIGITADOR!$B$2,$A$2,DIGITADOR!$M$1,A88),\"\")","v":""},null,null,"",{"$f":"IF(K88=\"\",\"\",INDEX('OTRAS REFERENTES'!$AH$6:$AI$658,MATCH(K88,'OTRAS REFERENTES'!$AH$6:$AH$658,0),2))","v":""},null,{"$f":"IF(J88=\"\",\"\",INDEX(REFERENTES!$T:$W,MATCH(J88,REFERENTES!$V:$V,0),3))","v":""},null,null,"",null,{"$f":"IF(P88=\"\",\"\",INDEX(REFERENTES!$J:$K,MATCH(P88,REFERENTES!$K:$K,0),1))","v":""},null,{"$f":"IF(R88=\"\",\"\",INDEX(REFERENTES!$D:$E,MATCH(R88,REFERENTES!$D:$D,0),2))","v":""},null,null,"",{"$f":"IF(X88=\"\",\"\",INDEX('OTRAS REFERENTES'!$H:$I,MATCH(X88,'OTRAS REFERENTES'!$I:$I,0),1))","v":""},null,null,{"$f":"IF(AA88=\"\",\"\",INDEX('OTRAS REFERENTES'!$K:$L,MATCH(AA88,'OTRAS REFERENTES'!$L:$L,0),1))","v":""},null,null,"",{"$f":"IF(SUMPRODUCT(--EXACT(K88&M88,$AD$2:AD87)),\"\",K88&M88)","v":""},{"$f":"IF(SUMPRODUCT(--EXACT(K88&M88,$AD$2:AD87)),\"\",MAX($AE$3:AE87)+1)","v":""}]
[1,"",87,"","",{"$f":"IF(L89<>\"\",CONCATENATE(DIGITADOR!$B$2,$A$2,DIGITADOR!$M$1,A89),\"\")","v":""},null,null,"",{"$f":"IF(K89=\"\",\"\",INDEX('OTRAS REFERENTES'!$AH$6:$AI$658,MATCH(K89,'OTRAS REFERENTES'!$AH$6:$AH$658,0),2))","v":""},null,{"$f":"IF(J89=\"\",\"\",INDEX(REFERENTES!$T:$W,MATCH(J89,REFERENTES!$V:$V,0),3))","v":""},null,null,"",null,{"$f":"IF(P89=\"\",\"\",INDEX(REFERENTES!$J:$K,MATCH(P89,REFERENTES!$K:$K,0),1))","v":""},null,{"$f":"IF(R89=\"\",\"\",INDEX(REFERENTES!$D:$E,MATCH(R89,REFERENTES!$D:$D,0),2))","v":""},null,null,"",{"$f":"IF(X89=\"\",\"\",INDEX('OTRAS REFERENTES'!$H:$I,MATCH(X89,'OTRAS REFERENTES'!$I:$I,0),1))","v":""},null,null,{"$f":"IF(AA89=\"\",\"\",INDEX('OTRAS REFERENTES'!$K:$L,MATCH(AA89,'OTRAS REFERENTES'!$L:$L,0),1))","v":""},null,null,"",{"$f":"IF(SUMPRODUCT(--EXACT(K89&M89,$AD$2:AD88)),\"\",K89&M89)","v":""},{"$f":"IF(SUMPRODUCT(--EXACT(K89&M89,$AD$2:AD88)),\"\",MAX($AE$3:AE88)+1)","v":""}]
[1,"",88,"","",{"$f":"IF(L90<>\"\",CONCATENATE(DIGITADOR!$B$2,$A$2,DIGITADOR!$M$1,A90),\"\")","v":""},null,null,"",{"$f":"IF(K90=\"\",\"\",INDEX('OTRAS REFERENTES'!$AH$6:$AI$658,MATCH(K90,'OTRAS REFERENTES'!$AH$6:$AH$658,0),2))","v":""},null,{"$f":"IF(J90=\"\",\"\",INDEX(REFERENTES!$T:$W,MATCH(J90,REFERENTES!$V:$V,0),3))","v":""},null,null,"",null,{"$f":"IF(P90=\"\",\"\",INDEX(REFERENTES!$J:$K,MATCH(P90,REFERENTES!$K:$K,0),1))","v":""},null,{"$f":"IF(R90=\"\",\"\",INDEX(REFERENTES!$D:$E,MATCH(R90,REFERENTES!$D:$D,0),2))","v":""},null,null,"",{"$f":"IF(X90=\"\",\"\",INDEX('OTRAS REFERENTES'!$H:$I,MATCH(X90,'OTRAS REFERENTES'!$I:$I,0),1))","v":""},null,null,{"$f":"IF(AA90=\"\",\"\",INDEX('OTRAS REFERENTES'!$K:$L,MATCH(AA90,'OTRAS REFERENTES'!$L:$L,0),1))","v":""},null,null,"",{"$f":"IF(SUMPRODUCT(--EXACT(K90&M90,$AD$2:AD89)),\"\",K90&M90)","v":""},{"$f":"IF(SUMPRODUCT(--EXACT(K90&M90,$AD$2:AD89)),\"\",MAX($AE$3:AE89)+1)","v":""}]
[1,"",89,"","",{"$f":"IF(L91<>\"\",CONCATENATE(DIGITADOR!$B$2,$A$2,DIGITADOR!$M$1,A91),\"\")","v":""},null,null,"",{"$f":"IF(K91=\"\",\"\",INDEX('OTRAS REFERENTES'!$AH$6:$AI$658,MATCH(K91,'OTRAS REFERENTES'!$AH$6:$AH$658,0),2))","v":""},null,{"$f":"IF(J91=\"\",\"\",INDEX(REFERENTES!$T:$W,MATCH(J91,REFERENTES!$V:$V,0),3))","v":""},null,null,"",null,{"$f":"IF(P91=\"\",\"\",INDEX(REFERENTES!$J:$K,MATCH(P91,REFERENTES!$K:$K,0),1))","v":""},null,{"$f":"IF(R91=\"\",\"\",INDEX(REFERENTES!$D:$E,MATCH(R91,REFERENTES!$D:$D,0),2))","v":""},null,null,"",{"$f":"IF(X91=\"\",\"\",INDEX('OTRAS REFERENTES'!$H:$I,MATCH(X91,'OTRAS REFERENTES'!$I:$I,0),1))","v":""},null,null,{"$f":"IF(AA91=\"\",\"\",INDEX('OTRAS REFERENTES'!$K:$L,MATCH(AA91,'OTRAS REFERENTES'!$L:$L,0),1))","v":""},null,null,"",{"$f":"IF(SUMPRODUCT(--EXACT(K91&M91,$AD$2:AD90)),\"\",K91&M91)","v":""},{"$f":"IF(SUMPRODUCT(--EXACT(K91&M91,$AD$2:AD90)),\"\",MAX($AE$3:AE90)+1)","v":""}]
[1,"",90,"","",{"$f":"IF(L92<>\"\",CONCATENATE(DIGITADOR!$B$2,$A$2,DIGITADOR!$M$1,A92),\"\")","v":""},null,null,"",{"$f":"IF(K92=\"\",\"\",INDEX('OTRAS REFERENTES'!$AH$6:$AI$658,MATCH(K92,'OTRAS REFERENTES'!$AH$6:$AH$658,0),2))","v":""},null,{"$f":"IF(J92=\"\",\"\",INDEX(REFERENTES!$T:$W,MATCH(J92,REFERENTES!$V:$V,0),3))","v":""},null,null,"",null,{"$f":"IF(P92=\"\",\"\",INDEX(REFERENTES!$J:$K,MATCH(P92,REFERENTES!$K:$K,0),1))","v":""},null,{"$f":"IF(R92=\"\",\"\",INDEX(REFERENTES!$D:$E,MATCH(R92,REFERENTES!$D:$D,0),2))","v":""},null,null,"",{"$f":"IF(X92=\"\",\"\",INDEX('OTRAS REFERENTES'!$H:$I,MATCH(X92,'OTRAS REFERENTES'!$I:$I,0),1))","v":""},null,null,{"$f":"IF(AA92=\"\",\"\",INDEX('OTRAS REFERENTES'!$K:$L,MATCH(AA92,'OTRAS REFERENTES'!$L:$L,0),1))","v":""},null,null,"",{"$f":"IF(SUMPRODUCT(--EXACT(K92&M92,$AD$2:AD91)),\"\",K92&M92)","v":""},{"$f":"IF(SUMPRODUCT(--EXACT(K92&M92,$AD$2:AD91)),\"\",MAX($AE$3:AE91)+1)","v":""}]
[1,"",91,"","",{"$f":"IF(L93<>\"\",CONCATENATE(DIGITADOR!$B$2,$A$2,DIGITADOR!$M$1,A93),\"\")","v":""},null,null,"",{"$f":"IF(K93=\"\",\"\",INDEX('OTRAS REFERENTES'!$AH$6:$AI$658,MATCH(K93,'OTRAS REFERENTES'!$AH$6:$AH$658,0),2))","v":""},null,{"$f":"IF(J93=\"\",\"\",INDEX(REFERENTES!$T:$W,MATCH(J93,REFERENTES!$V:$V,0),3))","v":""},null,null,"",null,{"$f":"IF(P93=\"\",\"\",INDEX(REFERENTES!$J:$K,MATCH(P93,REFERENTES!$K:$K,0),1))","v":""},null,{"$f":"IF(R93=\"\",\"\",INDEX(REFERENTES!$D:$E,MATCH(R93,REFERENTES!$D:$D,0),2))","v":""},null,null,"",{"$f":"IF(X93=\"\",\"\",INDEX('OTRAS REFERENTES'!$H:$I,MATCH(X93,'OTRAS REFERENTES'!$I:$I,0),1))","v":""},null,null,{"$f":"IF(AA93=\"\",\"\",INDEX('OTRAS REFERENTES'!$K:$L,MATCH(AA93,'OTRAS REFERENTES'!$L:$L,0),1))","v":""},null,null,"",{"$f":"IF(SUMPRODUCT(--EXACT(K93&M93,$AD$2:AD92)),\"\",K93&M93)","v":""},{"$f":"IF(SUMPRODUCT(--EXACT(K93&M93,$AD$2:AD92)),\"\",MAX($AE$3:AE92)+1)","v":""}]
[1,"",92,"","",{"$f":"IF(L94<>\"\",CONCATENATE(DIGITADOR!$B$2,$A$2,DIGITADOR!$M$1,A94),\"\")","v":""},null,null,"",{"$f":"IF(K94=\"\",\"\",INDEX('OTRAS REFERENTES'!$AH$6:$AI$658,MATCH(K94,'OTRAS REFERENTES'!$AH$6:$AH$658,0),2))","v":""},null,{"$f":"IF(J94=\"\",\"\",INDEX(REFERENTES!$T:$W,MATCH(J94,REFERENTES!$V:$V,0),3))","v":""},null,null,"",null,{"$f":"IF(P94=\"\",\"\",INDEX(REFERENTES!$J:$K,MATCH(P94,REFERENTES!$K:$K,0),1))","v":""},null,{"$f":"IF(R94=\"\",\"\",INDEX(REFERENTES!$D:$E,MATCH(R94,REFERENTES!$D:$D,0),2))","v":""},null,null,"",{"$f":"IF(X94=\"\",\"\",INDEX('OTRAS REFERENTES'!$H:$I,MATCH(X94,'OTRAS REFERENTES'!$I:$I,0),1))","v":""},null,null,{"$f":"IF(AA94=\"\",\"\",INDEX('OTRAS REFERENTES'!$K:$L,MATCH(AA94,'OTRAS REFERENTES'!$L:$L,0),1))","v":""},null,null,"",{"$f":"IF(SUMPRODUCT(--EXACT(K94&M94,$AD$2:AD93)),\"\",K94&M94)","v":""},{"$f":"IF(SUMPRODUCT(--EXACT(K94&M94,$AD$2:AD93)),\"\",MAX($AE$3:AE93)+1)","v":""}]
[1,"",93,"","",{"$f":"IF(L95<>\"\",CONCATENATE(DIGITADOR!$B$2,$A$2,DIGITADOR!$M$1,A95),\"\")","v":""},null,null,"",{"$f":"IF(K95=\"\",\"\",INDEX('OTRAS REFERENTES'!$AH$6:$AI$658,MATCH(K95,'OTRAS REFERENTES'!$AH$6:$AH$658,0),2))","v":""},null,{"$f":"IF(J95=\"\",\"\",INDEX(REFERENTES!$T:$W,MATCH(J95,REFERENTES!$V:$V,0),3))","v":""},null,null,"",null,{"$f":"IF(P95=\"\",\"\",INDEX(REFERENTES!$J:$K,MATCH(P95,REFERENTES!$K:$K,0),1))","v":""},null,{"$f":"IF(R95=\"\",\"\",INDEX(REFERENTES!$D:$E,MATCH(R95,REFERENTES!$D:$D,0),2))","v":""},null,null,"",{"$f":"IF(X95=\"\",\"\",INDEX('OTRAS REFERENTES'!$H:$I,MATCH(X95,'OTRAS REFERENTES'!$I:$I,0),1))","v":""},null,null,{"$f":"IF(AA95=\"\",\"\",INDEX('OTRAS REFERENTES'!$K:$L,MATCH(AA95,'OTRAS REFERENTES'!$L:$L,0),1))","v":""},null,null,"",{"$f":"IF(SUMPRODUCT(--EXACT(K95&M95,$AD$2:AD94)),\"\",K95&M95)","v":""},{"$f":"IF(SUMPRODUCT(--EXACT(K95&M95,$AD$2:AD94)),\"\",MAX($AE$3:AE94)+1)","v":""}]
[1,"",94,"","",{"$f":"IF(L96<>\"\",CONCATENATE(DIGITADOR!$B$2,$A$2,DIGITADOR!$M$1,A96),\"\")","v":""},null,null,"",{"$f":"IF(K96=\"\",\"\",INDEX('OTRAS REFERENTES'!$AH$6:$AI$658,MATCH(K96,'OTRAS REFERENTES'!$AH$6:$AH$658,0),2))","v":""},null,{"$f":"IF(J96=\"\",\"\",INDEX(REFERENTES!$T:$W,MATCH(J96,REFERENTES!$V:$V,0),3))","v":""},null,null,"",null,{"$f":"IF(P96=\"\",\"\",INDEX(REFERENTES!$J:$K,MATCH(P96,REFERENTES!$K:$K,0),1))","v":""},null,{"$f":"IF(R96=\"\",\"\",INDEX(REFERENTES!$D:$E,MATCH(R96,REFERENTES!$D:$D,0),2))","v":""},null,null,"",{"$f":"IF(X96=\"\",\"\",INDEX('OTRAS REFERENTES'!$H:$I,MATCH(X96,'OTRAS REFERENTES'!$I:$I,0),1))","v":""},null,null,{"$f":"IF(AA96=\"\",\"\",INDEX('OTRAS REFERENTES'!$K:$L,MATCH(AA96,'OTRAS REFERENTES'!$L:$L,0),1))","v":""},null,null,"",{"$f":"IF(SUMPRODUCT(--EXACT(K96&M96,$AD$2:AD95)),\"\",K96&M96)","v":""},{"$f":"IF(SUMPRODUCT(--EXACT(K96&M96,$AD$2:AD95)),\"\",MAX($AE$3:AE95)+1)","v":""}]
[1,"",95,"","",{"$f":"IF(L97<>\"\",CONCATENATE(DIGITADOR!$B$2,$A$2,DIGITADOR!$M$1,A97),\"\")","v":""},null,null,"",{"$f":"IF(K97=\"\",\"\",INDEX('OTRAS REFERENTES'!$AH$6:$AI$658,MATCH(K97,'OTRAS REFERENTES'!$AH$6:$AH$658,0),2))","v":""},null,{"$f":"IF(J97=\"\",\"\",INDEX(REFERENTES!$T:$W,MATCH(J97,REFERENTES!$V:$V,0),3))","v":""},null,null,"",null,{"$f":"IF(P97=\"\",\"\",INDEX(REFERENTES!$J:$K,MATCH(P97,REFERENTES!$K:$K,0),1))","v":""},null,{"$f":"IF(R97=\"\",\"\",INDEX(REFERENTES!$D:$E,MATCH(R97,REFERENTES!$D:$D,0),2))","v":""},null,null,"",{"$f":"IF(X97=\"\",\"\",INDEX('OTRAS REFERENTES'!$H:$I,MATCH(X97,'OTRAS REFERENTES'!$I:$I,0),1))","v":""},null,null,{"$f":"IF(AA97=\"\",\"\",INDEX('OTRAS REFERENTES'!$K:$L,MATCH(AA97,'OTRAS REFERENTES'!$L:$L,0),1))","v":""},null,null,"",{"$f":"IF(SUMPRODUCT(--EXACT(K97&M97,$AD$2:AD96)),\"\",K97&M97)","v":""},{"$f":"IF(SUMPRODUCT(--EXACT(K97&M97,$AD$2:AD96)),\"\",MAX($AE$3:AE96)+1)","v":""}]
[1,"",96,"","",{"$f":"IF(L98<>\"\",CONCATENATE(DIGITADOR!$B$2,$A$2,DIGITADOR!$M$1,A98),\"\")","v":""},null,null,"",{"$f":"IF(K98=\"\",\"\",INDEX('OTRAS REFERENTES'!$AH$6:$AI$658,MATCH(K98,'OTRAS REFERENTES'!$AH$6:$AH$658,0),2))","v":""},null,{"$f":"IF(J98=\"\",\"\",INDEX(REFERENTES!$T:$W,MATCH(J98,REFERENTES!$V:$V,0),3))","v":""},null,null,"",null,{"$f":"IF(P98=\"\",\"\",INDEX(REFERENTES!$J:$K,MATCH(P98,REFERENTES!$K:$K,0),1))","v":""},null,{"$f":"IF(R98=\"\",\"\",INDEX(REFERENTES!$D:$E,MATCH(R98,REFERENTES!$D:$D,0),2))","v":""},null,null,"",{"$f":"IF(X98=\"\",\"\",INDEX('OTRAS REFERENTES'!$H:$I,MATCH(X98,'OTRAS REFERENTES'!$I:$I,0),1))","v":""},null,null,{"$f":"IF(AA98=\"\",\"\",INDEX('OTRAS REFERENTES'!$K:$L,MATCH(AA98,'OTRAS REFERENTES'!$L:$L,0),1))","v":""},null,null,"",{"$f":"IF(SUMPRODUCT(--EXACT(K98&M98,$AD$2:AD97)),\"\",K98&M98)","v":""},{"$f":"IF(SUMPRODUCT(--EXACT(K98&M98,$AD$2:AD97)),\"\",MAX($AE$3:AE97)+1)","v":""}]
[1,"",97,"","",{"$f":"IF(L99<>\"\",CONCATENATE(DIGITADOR!$B$2,$A$2,DIGITADOR!$M$1,A99),\"\")","v":""},null,null,"",{"$f":"IF(K99=\"\",\"\",INDEX('OTRAS REFERENTES'!$AH$6:$AI$658,MATCH(K99,'OTRAS REFERENTES'!$AH$6:$AH$658,0),2))","v":""},null,{"$f":"IF(J99=\"\",\"\",INDEX(REFERENTES!$T:$W,MATCH(J99,REFERENTES!$V:$V,0),3))","v":""},null,null,"",null,{"$f":"IF(P99=\"\",\"\",INDEX(REFERENTES!$J:$K,MATCH(P99,REFERENTES!$K:$K,0),1))","v":""},null,{"$f":"IF(R99=\"\",\"\",INDEX(REFERENTES!$D:$E,MATCH(R99,REFERENTES!$D:$D,0),2))","v":""},null,null,"",{"$f":"IF(X99=\"\",\"\",INDEX('OTRAS REFERENTES'!$H:$I,MATCH(X99,'OTRAS REFERENTES'!$I:$I,0),1))","v":""},null,null,{"$f":"IF(AA99=\"\",\"\",INDEX('OTRAS REFERENTES'!$K:$L,MATCH(AA99,'OTRAS REFERENTES'!$L:$L,0),1))","v":""},null,null,"",{"$f":"IF(SUMPRODUCT(--EXACT(K99&M99,$AD$2:AD98)),\"\",K99&M99)","v":""},{"$f":"IF(SUMPRODUCT(--EXACT(K99&M99,$AD$2:AD98)),\"\",MAX($AE$3:AE98)+1)","v":""}]
[1,"",98,"","",{"$f":"IF(L100<>\"\",CONCATENATE(DIGITADOR!$B$2,$A$2,DIGITADOR!$M$1,A100),\"\")","v":""},null,null,"",{"$f":"IF(K100=\"\",\"\",INDEX('OTRAS REFERENTES'!$AH$6:$AI$658,MATCH(K100,'OTRAS REFERENTES'!$AH$6:$AH$658,0),2))","v":""},null,{"$f":"IF(J100=\"\",\"\",INDEX(REFERENTES!$T:$W,MATCH(J100,REFERENTES!$V:$V,0),3))","v":""},null,null,"",null,{"$f":"IF(P100=\"\",\"\",INDEX(REFERENTES!$J:$K,MATCH(P100,REFERENTES!$K:$K,0),1))","v":""},null,{"$f":"IF(R100=\"\",\"\",INDEX(REFERENTES!$D:$E,MATCH(R100,REFERENTES!$D:$D,0),2))","v":""},null,null,"",{"$f":"IF(X100=\"\",\"\",INDEX('OTRAS REFERENTES'!$H:$I,MATCH(X100,'OTRAS REFERENTES'!$I:$I,0),1))","v":""},null,null,{"$f":"IF(AA100=\"\",\"\",INDEX('OTRAS REFERENTES'!$K:$L,MATCH(AA100,'OTRAS REFERENTES'!$L:$L,0),1))","v":""},null,null,"",{"$f":"IF(SUMPRODUCT(--EXACT(K100&M100,$AD$2:AD99)),\"\",K100&M100)","v":""},{"$f":"IF(SUMPRODUCT(--EXACT(K100&M100,$AD$2:AD99)),\"\",MAX($AE$3:AE99)+1)","v":""}]
[1,"",99,"","",{"$f":"IF(L101<>\"\",CONCATENATE(DIGITADOR!$B$2,$A$2,DIGITADOR!$M$1,A101),\"\")","v":""},null,null,"",{"$f":"IF(K101=\"\",\"\",INDEX('OTRAS REFERENTES'!$AH$6:$AI$658,MATCH(K101,'OTRAS REFERENTES'!$AH$6:$AH$658,0),2))","v":""},null,{"$f":"IF(J101=\"\",\"\",INDEX(REFERENTES!$T:$W,MATCH(J101,REFERENTES!$V:$V,0),3))","v":""},null,null,"",null,{"$f":"IF(P101=\"\",\"\",INDEX(REFERENTES!$J:$K,MATCH(P101,REFERENTES!$K:$K,0),1))","v":""},null,{"$f":"IF(R101=\"\",\"\",INDEX(REFERENTES!$D:$E,MATCH(R101,REFERENTES!$D:$D,0),2))","v":""},null,null,"",{"$f":"IF(X101=\"\",\"\",INDEX('OTRAS REFERENTES'!$H:$I,MATCH(X101,'OTRAS REFERENTES'!$I:$I,0),1))","v":""},null,null,{"$f":"IF(AA101=\"\",\"\",INDEX('OTRAS REFERENTES'!$K:$L,MATCH(AA101,'OTRAS REFERENTES'!$L:$L,0),1))","v":""},null,null,"",{"$f":"IF(SUMPRODUCT(--EXACT(K101&M101,$AD$2:AD100)),\"\",K101&M101)","v":""},{"$f":"IF(SUMPRODUCT(--EXACT(K101&M101,$AD$2:AD100)),\"\",MAX($AE$3:AE100)+1)","v":""}]
[1,"",100,"","",{"$f":"IF(L102<>\"\",CONCATENATE(DIGITADOR!$B$2,$A$2,DIGITADOR!$M$1,A102),\"\")","v":""},null,null,"",{"$f":"IF(K102=\"\",\"\",INDEX('OTRAS REFERENTES'!$AH$6:$AI$658,MATCH(K102,'OTRAS REFERENTES'!$AH$6:$AH$658,0),2))","v":""},null,{"$f":"IF(J102=\"\",\"\",INDEX(REFERENTES!$T:$W,MATCH(J102,REFERENTES!$V:$V,0),3))","v":""},null,null,"",null,{"$f":"IF(P102=\"\",\"\",INDEX(REFERENTES!$J:$K,MATCH(P102,REFERENTES!$K:$K,0),1))","v":""},null,{"$f":"IF(R102=\"\",\"\",INDEX(REFERENTES!$D:$E,MATCH(R102,REFERENTES!$D:$D,0),2))","v":""},null,null,"",{"$f":"IF(X102=\"\",\"\",INDEX('OTRAS REFERENTES'!$H:$I,MATCH(X102,'OTRAS REFERENTES'!$I:$I,0),1))","v":""},null,null,{"$f":"IF(AA102=\"\",\"\",INDEX('OTRAS REFERENTES'!$K:$L,MATCH(AA102,'OTRAS REFERENTES'!$L:$L,0),1))","v":""},null,null,"",{"$f":"IF(SUMPRODUCT(--EXACT(K102&M102,$AD$2:AD101)),\"\",K102&M102)","v":""},{"$f":"IF(SUMPRODUCT(--EXACT(K102&M102,$AD$2:AD101)),\"\",MAX($AE$3:AE101)+1)","v":""}]
[1,"",101,"","",{"$f":"IF(L103<>\"\",CONCATENATE(DIGITADOR!$B$2,$A$2,DIGITADOR!$M$1,A103),\"\")","v":""},null,null,"",{"$f":"IF(K103=\"\",\"\",INDEX('OTRAS REFERENTES'!$AH$6:$AI$658,MATCH(K103,'OTRAS REFERENTES'!$AH$6:$AH$658,0),2))","v":""},null,{"$f":"IF(J103=\"\",\"\",INDEX(REFERENTES!$T:$W,MATCH(J103,REFERENTES!$V:$V,0),3))","v":""},null,null,"",null,{"$f":"IF(P103=\"\",\"\",INDEX(REFERENTES!$J:$K,MATCH(P103,REFERENTES!$K:$K,0),1))","v":""},null,{"$f":"IF(R103=\"\",\"\",INDEX(REFERENTES!$D:$E,MATCH(R103,REFERENTES!$D:$D,0),2))","v":""},null,null,"",{"$f":"IF(X103=\"\",\"\",INDEX('OTRAS REFERENTES'!$H:$I,MATCH(X103,'OTRAS REFERENTES'!$I:$I,0),1))","v":""},null,null,{"$f":"IF(AA103=\"\",\"\",INDEX('OTRAS REFERENTES'!$K:$L,MATCH(AA103,'OTRAS REFERENTES'!$L:$L,0),1))","v":""},null,null,"",{"$f":"IF(SUMPRODUCT(--EXACT(K103&M103,$AD$2:AD102)),\"\",K103&M103)","v":""},{"$f":"IF(SUMPRODUCT(--EXACT(K103&M103,$AD$2:AD102)),\"\",MAX($AE$3:AE102)+1)","v":""}]
[1,"",102,"","",{"$f":"IF(L104<>\"\",CONCATENATE(DIGITADOR!$B$2,$A$2,DIGITADOR!$M$1,A104),\"\")","v":""},null,null,"",{"$f":"IF(K104=\"\",\"\",INDEX('OTRAS REFERENTES'!$AH$6:$AI$658,MATCH(K104,'OTRAS REFERENTES'!$AH$6:$AH$658,0),2))","v":""},null,{"$f":"IF(J104=\"\",\"\",INDEX(REFERENTES!$T:$W,MATCH(J104,REFERENTES!$V:$V,0),3))","v":""},null,null,"",null,{"$f":"IF(P104=\"\",\"\",INDEX(REFERENTES!$J:$K,MATCH(P104,REFERENTES!$K:$K,0),1))","v":""},null,{"$f":"IF(R104=\"\",\"\",INDEX(REFERENTES!$D:$E,MATCH(R104,REFERENTES!$D:$D,0),2))","v":""},null,null,"",{"$f":"IF(X104=\"\",\"\",INDEX('OTRAS REFERENTES'!$H:$I,MATCH(X104,'OTRAS REFERENTES'!$I:$I,0),1))","v":""},null,null,{"$f":"IF(AA104=\"\",\"\",INDEX('OTRAS REFERENTES'!$K:$L,MATCH(AA104,'OTRAS REFERENTES'!$L:$L,0),1))","v":""},null,null,"",{"$f":"IF(SUMPRODUCT(--EXACT(K104&M104,$AD$2:AD103)),\"\",K104&M104)","v":""},{"$f":"IF(SUMPRODUCT(--EXACT(K104&M104,$AD$2:AD103)),\"\",MAX($AE$3:AE103)+1)","v":""}]
[1,"",103,"","",{"$f":"IF(L105<>\"\",CONCATENATE(DIGITADOR!$B$2,$A$2,DIGITADOR!$M$1,A105),\"\")","v":""},null,null,"",{"$f":"IF(K105=\"\",\"\",INDEX('OTRAS REFERENTES'!$AH$6:$AI$658,MATCH(K105,'OTRAS REFERENTES'!$AH$6:$AH$658,0),2))","v":""},null,{"$f":"IF(J105=\"\",\"\",INDEX(REFERENTES!$T:$W,MATCH(J105,REFERENTES!$V:$V,0),3))","v":""},null,null,"",null,{"$f":"IF(P105=\"\",\"\",INDEX(REFERENTES!$J:$K,MATCH(P105,REFERENTES!$K:$K,0),1))","v":""},null,{"$f":"IF(R105=\"\",\"\",INDEX(REFERENTES!$D:$E,MATCH(R105,REFERENTES!$D:$D,0),2))","v":""},null,null,"",{"$f":"IF(X105=\"\",\"\",INDEX('OTRAS REFERENTES'!$H:$I,MATCH(X105,'OTRAS REFERENTES'!$I:$I,0),1))","v":""},null,null,{"$f":"IF(AA105=\"\",\"\",INDEX('OTRAS REFERENTES'!$K:$L,MATCH(AA105,'OTRAS REFERENTES'!$L:$L,0),1))","v":""},null,null,"",{"$f":"IF(SUMPRODUCT(--EXACT(K105&M105,$AD$2:AD104)),\"\",K105&M105)","v":""},{"$f":"IF(SUMPRODUCT(--EXACT(K105&M105,$AD$2:AD104)),\"\",MAX($AE$3:AE104)+1)","v":""}]
[1,"",104,"","",{"$f":"IF(L106<>\"\",CONCATENATE(DIGITADOR!$B$2,$A$2,DIGITADOR!$M$1,A106),\"\")","v":""},null,null,"",{"$f":"IF(K106=\"\",\"\",INDEX('OTRAS REFERENTES'!$AH$6:$AI$658,MATCH(K106,'OTRAS REFERENTES'!$AH$6:$AH$658,0),2))","v":""},null,{"$f":"IF(J106=\"\",\"\",INDEX(REFERENTES!$T:$W,MATCH(J106,REFERENTES!$V:$V,0),3))","v":""},null,null,"",null,{"$f":"IF(P106=\"\",\"\",INDEX(REFERENTES!$J:$K,MATCH(P106,REFERENTES!$K:$K,0),1))","v":""},null,{"$f":"IF(R106=\"\",\"\",INDEX(REFERENTES!$D:$E,MATCH(R106,REFERENTES!$D:$D,0),2))","v":""},null,null,"",{"$f":"IF(X106=\"\",\"\",INDEX('OTRAS REFERENTES'!$H:$I,MATCH(X106,'OTRAS REFERENTES'!$I:$I,0),1))","v":""},null,null,{"$f":"IF(AA106=\"\",\"\",INDEX('OTRAS REFERENTES'!$K:$L,MATCH(AA106,'OTRAS REFERENTES'!$L:$L,0),1))","v":""},null,null,"",{"$f":"IF(SUMPRODUCT(--EXACT(K106&M106,$AD$2:AD105)),\"\",K106&M106)","v":""},{"$f":"IF(SUMPRODUCT(--EXACT(K106&M106,$AD$2:AD105)),\"\",MAX($AE$3:AE105)+1)","v":""}]
[1,"",105,"","",{"$f":"IF(L107<>\"\",CONCATENATE(DIGITADOR!$B$2,$A$2,DIGITADOR!$M$1,A107),\"\")","v":""},null,null,"",{"$f":"IF(K107=\"\",\"\",INDEX('OTRAS REFERENTES'!$AH$6:$AI$658,MATCH(K107,'OTRAS REFERENTES'!$AH$6:$AH$658,0),2))","v":""},null,{"$f":"IF(J107=\"\",\"\",INDEX(REFERENTES!$T:$W,MATCH(J107,REFERENTES!$V:$V,0),3))","v":""},null,null,"",null,{"$f":"IF(P107=\"\",\"\",INDEX(REFERENTES!$J:$K,MATCH(P107,REFERENTES!$K:$K,0),1))","v":""},null,{"$f":"IF(R107=\"\",\"\",INDEX(REFERENTES!$D:$E,MATCH(R107,REFERENTES!$D:$D,0),2))","v":""},null,null,"",{"$f":"IF(X107=\"\",\"\",INDEX('OTRAS REFERENTES'!$H:$I,MATCH(X107,'OTRAS REFERENTES'!$I:$I,0),1))","v":""},null,null,{"$f":"IF(AA107=\"\",\"\",INDEX('OTRAS REFERENTES'!$K:$L,MATCH(AA107,'OTRAS REFERENTES'!$L:$L,0),1))","v":""},null,null,"",{"$f":"IF(SUMPRODUCT(--EXACT(K107&M107,$AD$2:AD106)),\"\",K107&M107)","v":""},{"$f":"IF(SUMPRODUCT(--EXACT(K107&M107,$AD$2:AD106)),\"\",MAX($AE$3:AE106)+1)","v":""}]
[1,"",106,"","",{"$f":"IF(L108<>\"\",CONCATENATE(DIGITADOR!$B$2,$A$2,DIGITADOR!$M$1,A108),\"\")","v":""},null,null,"",{"$f":"IF(K108=\"\",\"\",INDEX('OTRAS REFERENTES'!$AH$6:$AI$658,MATCH(K108,'OTRAS REFERENTES'!$AH$6:$AH$658,0),2))","v":""},null,{"$f":"IF(J108=\"\",\"\",INDEX(REFERENTES!$T:$W,MATCH(J108,REFERENTES!$V:$V,0),3))","v":""},null,null,"",null,{"$f":"IF(P108=\"\",\"\",INDEX(REFERENTES!$J:$K,MATCH(P108,REFERENTES!$K:$K,0),1))","v":""},null,{"$f":"IF(R108=\"\",\"\",INDEX(REFERENTES!$D:$E,MATCH(R108,REFERENTES!$D:$D,0),2))","v":""},null,null,"",{"$f":"IF(X108=\"\",\"\",INDEX('OTRAS REFERENTES'!$H:$I,MATCH(X108,'OTRAS REFERENTES'!$I:$I,0),1))","v":""},null,null,{"$f":"IF(AA108=\"\",\"\",INDEX('OTRAS REFERENTES'!$K:$L,MATCH(AA108,'OTRAS REFERENTES'!$L:$L,0),1))","v":""},null,null,"",{"$f":"IF(SUMPRODUCT(--EXACT(K108&M108,$AD$2:AD107)),\"\",K108&M108)","v":""},{"$f":"IF(SUMPRODUCT(--EXACT(K108&M108,$AD$2:AD107)),\"\",MAX($AE$3:AE107)+1)","v":""}]
[1,"",107,"","",{"$f":"IF(L109<>\"\",CONCATENATE(DIGITADOR!$B$2,$A$2,DIGITADOR!$M$1,A109),\"\")","v":""},null,null,"",{"$f":"IF(K109=\"\",\"\",INDEX('OTRAS REFERENTES'!$AH$6:$AI$658,MATCH(K109,'OTRAS REFERENTES'!$AH$6:$AH$658,0),2))","v":""},null,{"$f":"IF(J109=\"\",\"\",INDEX(REFERENTES!$T:$W,MATCH(J109,REFERENTES!$V:$V,0),3))","v":""},null,null,"",null,{"$f":"IF(P109=\"\",\"\",INDEX(REFERENTES!$J:$K,MATCH(P109,REFERENTES!$K:$K,0),1))","v":""},null,{"$f":"IF(R109=\"\",\"\",INDEX(REFERENTES!$D:$E,MATCH(R109,REFERENTES!$D:$D,0),2))","v":""},null,null,"",{"$f":"IF(X109=\"\",\"\",INDEX('OTRAS REFERENTES'!$H:$I,MATCH(X109,'OTRAS REFERENTES'!$I:$I,0),1))","v":""},null,null,{"$f":"IF(AA109=\"\",\"\",INDEX('OTRAS REFERENTES'!$K:$L,MATCH(AA109,'OTRAS REFERENTES'!$L:$L,0),1))","v":""},null,null,"",{"$f":"IF(SUMPRODUCT(--EXACT(K109&M109,$AD$2:AD108)),\"\",K109&M109)","v":""},{"$f":"IF(SUMPRODUCT(--EXACT(K109&M109,$AD$2:AD108)),\"\",MAX($AE$3:AE108)+1)","v":""}]
[1,"",108,"","",{"$f":"IF(L110<>\"\",CONCATENATE(DIGITADOR!$B$2,$A$2,DIGITADOR!$M$1,A110),\"\")","v":""},null,null,"",{"$f":"IF(K110=\"\",\"\",INDEX('OTRAS REFERENTES'!$AH$6:$AI$658,MATCH(K110,'OTRAS REFERENTES'!$AH$6:$AH$658,0),2))","v":""},null,{"$f":"IF(J110=\"\",\"\",INDEX(REFERENTES!$T:$W,MATCH(J110,REFERENTES!$V:$V,0),3))","v":""},null,null,"",null,{"$f":"IF(P110=\"\",\"\",INDEX(REFERENTES!$J:$K,MATCH(P110,REFERENTES!$K:$K,0),1))","v":""},null,{"$f":"IF(R110=\"\",\"\",INDEX(REFERENTES!$D:$E,MATCH(R110,REFERENTES!$D:$D,0),2))","v":""},null,null,"",{"$f":"IF(X110=\"\",\"\",INDEX('OTRAS REFERENTES'!$H:$I,MATCH(X110,'OTRAS REFERENTES'!$I:$I,0),1))","v":""},null,null,{"$f":"IF(AA110=\"\",\"\",INDEX('OTRAS REFERENTES'!$K:$L,MATCH(AA110,'OTRAS REFERENTES'!$L:$L,0),1))","v":""},null,null,"",{"$f":"IF(SUMPRODUCT(--EXACT(K110&M110,$AD$2:AD109)),\"\",K110&M110)","v":""},{"$f":"IF(SUMPRODUCT(--EXACT(K110&M110,$AD$2:AD109)),\"\",MAX($AE$3:AE109)+1)","v":""}]
[1,"",109,"","",{"$f":"IF(L111<>\"\",CONCATENATE(DIGITADOR!$B$2,$A$2,DIGITADOR!$M$1,A111),\"\")","v":""},null,null,"",{"$f":"IF(K111=\"\",\"\",INDEX('OTRAS REFERENTES'!$AH$6:$AI$658,MATCH(K111,'OTRAS REFERENTES'!$AH$6:$AH$658,0),2))","v":""},null,{"$f":"IF(J111=\"\",\"\",INDEX(REFERENTES!$T:$W,MATCH(J111,REFERENTES!$V:$V,0),3))","v":""},null,null,"",null,{"$f":"IF(P111=\"\",\"\",INDEX(REFERENTES!$J:$K,MATCH(P111,REFERENTES!$K:$K,0),1))","v":""},null,{"$f":"IF(R111=\"\",\"\",INDEX(REFERENTES!$D:$E,MATCH(R111,REFERENTES!$D:$D,0),2))","v":""},null,null,"",{"$f":"IF(X111=\"\",\"\",INDEX('OTRAS REFERENTES'!$H:$I,MATCH(X111,'OTRAS REFERENTES'!$I:$I,0),1))","v":""},null,null,{"$f":"IF(AA111=\"\",\"\",INDEX('OTRAS REFERENTES'!$K:$L,MATCH(AA111,'OTRAS REFERENTES'!$L:$L,0),1))","v":""},null,null,"",{"$f":"IF(SUMPRODUCT(--EXACT(K111&M111,$AD$2:AD110)),\"\",K111&M111)","v":""},{"$f":"IF(SUMPRODUCT(--EXACT(K111&M111,$AD$2:AD110)),\"\",MAX($AE$3:AE110)+1)","v":""}]
[1,"",110,"","",{"$f":"IF(L112<>\"\",CONCATENATE(DIGITADOR!$B$2,$A$2,DIGITADOR!$M$1,A112),\"\")","v":""},null,null,"",{"$f":"IF(K112=\"\",\"\",INDEX('OTRAS REFERENTES'!$AH$6:$AI$658,MATCH(K112,'OTRAS REFERENTES'!$AH$6:$AH$658,0),2))","v":""},null,{"$f":"IF(J112=\"\",\"\",INDEX(REFERENTES!$T:$W,MATCH(J112,REFERENTES!$V:$V,0),3))","v":""},null,null,"",null,{"$f":"IF(P112=\"\",\"\",INDEX(REFERENTES!$J:$K,MATCH(P112,REFERENTES!$K:$K,0),1))","v":""},null,{"$f":"IF(R112=\"\",\"\",INDEX(REFERENTES!$D:$E,MATCH(R112,REFERENTES!$D:$D,0),2))","v":""},null,null,"",{"$f":"IF(X112=\"\",\"\",INDEX('OTRAS REFERENTES'!$H:$I,MATCH(X112,'OTRAS REFERENTES'!$I:$I,0),1))","v":""},null,null,{"$f":"IF(AA112=\"\",\"\",INDEX('OTRAS REFERENTES'!$K:$L,MATCH(AA112,'OTRAS REFERENTES'!$L:$L,0),1))","v":""},null,null,"",{"$f":"IF(SUMPRODUCT(--EXACT(K112&M112,$AD$2:AD111)),\"\",K112&M112)","v":""},{"$f":"IF(SUMPRODUCT(--EXACT(K112&M112,$AD$2:AD111)),\"\",MAX($AE$3:AE111)+1)","v":""}]
[1,"",111,"","",{"$f":"IF(L113<>\"\",CONCATENATE(DIGITADOR!$B$2,$A$2,DIGITADOR!$M$1,A113),\"\")","v":""},null,null,"",{"$f":"IF(K113=\"\",\"\",INDEX('OTRAS REFERENTES'!$AH$6:$AI$658,MATCH(K113,'OTRAS REFERENTES'!$AH$6:$AH$658,0),2))","v":""},null,{"$f":"IF(J113=\"\",\"\",INDEX(REFERENTES!$T:$W,MATCH(J113,REFERENTES!$V:$V,0),3))","v":""},null,null,"",null,{"$f":"IF(P113=\"\",\"\",INDEX(REFERENTES!$J:$K,MATCH(P113,REFERENTES!$K:$K,0),1))","v":""},null,{"$f":"IF(R113=\"\",\"\",INDEX(REFERENTES!$D:$E,MATCH(R113,REFERENTES!$D:$D,0),2))","v":""},null,null,"",{"$f":"IF(X113=\"\",\"\",INDEX('OTRAS REFERENTES'!$H:$I,MATCH(X113,'OTRAS REFERENTES'!$I:$I,0),1))","v":""},null,null,{"$f":"IF(AA113=\"\",\"\",INDEX('OTRAS REFERENTES'!$K:$L,MATCH(AA113,'OTRAS REFERENTES'!$L:$L,0),1))","v":""},null,null,"",{"$f":"IF(SUMPRODUCT(--EXACT(K113&M113,$AD$2:AD112)),\"\",K113&M113)","v":""},{"$f":"IF(SUMPRODUCT(--EXACT(K113&M113,$AD$2:AD112)),\"\",MAX($AE$3:AE112)+1)","v":""}]
[1,"",112,"","",{"$f":"IF(L114<>\"\",CONCATENATE(DIGITADOR!$B$2,$A$2,DIGITADOR!$M$1,A114),\"\")","v":""},null,null,"",{"$f":"IF(K114=\"\",\"\",INDEX('OTRAS REFERENTES'!$AH$6:$AI$658,MATCH(K114,'OTRAS REFERENTES'!$AH$6:$AH$658,0),2))","v":""},null,{"$f":"IF(J114=\"\",\"\",INDEX(REFERENTES!$T:$W,MATCH(J114,REFERENTES!$V:$V,0),3))","v":""},null,null,"",null,{"$f":"IF(P114=\"\",\"\",INDEX(REFERENTES!$J:$K,MATCH(P114,REFERENTES!$K:$K,0),1))","v":""},null,{"$f":"IF(R114=\"\",\"\",INDEX(REFERENTES!$D:$E,MATCH(R114,REFERENTES!$D:$D,0),2))","v":""},null,null,"",{"$f":"IF(X114=\"\",\"\",INDEX('OTRAS REFERENTES'!$H:$I,MATCH(X114,'OTRAS REFERENTES'!$I:$I,0),1))","v":""},null,null,{"$f":"IF(AA114=\"\",\"\",INDEX('OTRAS REFERENTES'!$K:$L,MATCH(AA114,'OTRAS REFERENTES'!$L:$L,0),1))","v":""},null,null,"",{"$f":"IF(SUMPRODUCT(--EXACT(K114&M114,$AD$2:AD113)),\"\",K114&M114)","v":""},{"$f":"IF(SUMPRODUCT(--EXACT(K114&M114,$AD$2:AD113)),\"\",MAX($AE$3:AE113)+1)","v":""}]
[1,"",113,"","",{"$f":"IF(L115<>\"\",CONCATENATE(DIGITADOR!$B$2,$A$2,DIGITADOR!$M$1,A115),\"\")","v":""},null,null,"",{"$f":"IF(K115=\"\",\"\",INDEX('OTRAS REFERENTES'!$AH$6:$AI$658,MATCH(K115,'OTRAS REFERENTES'!$AH$6:$AH$658,0),2))","v":""},null,{"$f":"IF(J115=\"\",\"\",INDEX(REFERENTES!$T:$W,MATCH(J115,REFERENTES!$V:$V,0),3))","v":""},null,null,"",null,{"$f":"IF(P115=\"\",\"\",INDEX(REFERENTES!$J:$K,MATCH(P115,REFERENTES!$K:$K,0),1))","v":""},null,{"$f":"IF(R115=\"\",\"\",INDEX(REFERENTES!$D:$E,MATCH(R115,REFERENTES!$D:$D,0),2))","v":""},null,null,"",{"$f":"IF(X115=\"\",\"\",INDEX('OTRAS REFERENTES'!$H:$I,MATCH(X115,'OTRAS REFERENTES'!$I:$I,0),1))","v":""},null,null,{"$f":"IF(AA115=\"\",\"\",INDEX('OTRAS REFERENTES'!$K:$L,MATCH(AA115,'OTRAS REFERENTES'!$L:$L,0),1))","v":""},null,null,"",{"$f":"IF(SUMPRODUCT(--EXACT(K115&M115,$AD$2:AD114)),\"\",K115&M115)","v":""},{"$f":"IF(SUMPRODUCT(--EXACT(K115&M115,$AD$2:AD114)),\"\",MAX($AE$3:AE114)+1)","v":""}]
[1,"",114,"","",{"$f":"IF(L116<>\"\",CONCATENATE(DIGITADOR!$B$2,$A$2,DIGITADOR!$M$1,A116),\"\")","v":""},null,null,"",{"$f":"IF(K116=\"\",\"\",INDEX('OTRAS REFERENTES'!$AH$6:$AI$658,MATCH(K116,'OTRAS REFERENTES'!$AH$6:$AH$658,0),2))","v":""},null,{"$f":"IF(J116=\"\",\"\",INDEX(REFERENTES!$T:$W,MATCH(J116,REFERENTES!$V:$V,0),3))","v":""},null,null,"",null,{"$f":"IF(P116=\"\",\"\",INDEX(REFERENTES!$J:$K,MATCH(P116,REFERENTES!$K:$K,0),1))","v":""},null,{"$f":"IF(R116=\"\",\"\",INDEX(REFERENTES!$D:$E,MATCH(R116,REFERENTES!$D:$D,0),2))","v":""},null,null,"",{"$f":"IF(X116=\"\",\"\",INDEX('OTRAS REFERENTES'!$H:$I,MATCH(X116,'OTRAS REFERENTES'!$I:$I,0),1))","v":""},null,null,{"$f":"IF(AA116=\"\",\"\",INDEX('OTRAS REFERENTES'!$K:$L,MATCH(AA116,'OTRAS REFERENTES'!$L:$L,0),1))","v":""},null,null,"",{"$f":"IF(SUMPRODUCT(--EXACT(K116&M116,$AD$2:AD115)),\"\",K116&M116)","v":""},{"$f":"IF(SUMPRODUCT(--EXACT(K116&M116,$AD$2:AD115)),\"\",MAX($AE$3:AE115)+1)","v":""}]
[1,"",115,"","",{"$f":"IF(L117<>\"\",CONCATENATE(DIGITADOR!$B$2,$A$2,DIGITADOR!$M$1,A117),\"\")","v":""},null,null,"",{"$f":"IF(K117=\"\",\"\",INDEX('OTRAS REFERENTES'!$AH$6:$AI$658,MATCH(K117,'OTRAS REFERENTES'!$AH$6:$AH$658,0),2))","v":""},null,{"$f":"IF(J117=\"\",\"\",INDEX(REFERENTES!$T:$W,MATCH(J117,REFERENTES!$V:$V,0),3))","v":""},null,null,"",null,{"$f":"IF(P117=\"\",\"\",INDEX(REFERENTES!$J:$K,MATCH(P117,REFERENTES!$K:$K,0),1))","v":""},null,{"$f":"IF(R117=\"\",\"\",INDEX(REFERENTES!$D:$E,MATCH(R117,REFERENTES!$D:$D,0),2))","v":""},null,null,"",{"$f":"IF(X117=\"\",\"\",INDEX('OTRAS REFERENTES'!$H:$I,MATCH(X117,'OTRAS REFERENTES'!$I:$I,0),1))","v":""},null,null,{"$f":"IF(AA117=\"\",\"\",INDEX('OTRAS REFERENTES'!$K:$L,MATCH(AA117,'OTRAS REFERENTES'!$L:$L,0),1))","v":""},null,null,"",{"$f":"IF(SUMPRODUCT(--EXACT(K117&M117,$AD$2:AD116)),\"\",K117&M117)","v":""},{"$f":"IF(SUMPRODUCT(--EXACT(K117&M117,$AD$2:AD116)),\"\",MAX($AE$3:AE116)+1)","v":""}]
[1,"",116,"","",{"$f":"IF(L118<>\"\",CONCATENATE(DIGITADOR!$B$2,$A$2,DIGITADOR!$M$1,A118),\"\")","v":""},null,null,"",{"$f":"IF(K118=\"\",\"\",INDEX('OTRAS REFERENTES'!$AH$6:$AI$658,MATCH(K118,'OTRAS REFERENTES'!$AH$6:$AH$658,0),2))","v":""},null,{"$f":"IF(J118=\"\",\"\",INDEX(REFERENTES!$T:$W,MATCH(J118,REFERENTES!$V:$V,0),3))","v":""},null,null,"",null,{"$f":"IF(P118=\"\",\"\",INDEX(REFERENTES!$J:$K,MATCH(P118,REFERENTES!$K:$K,0),1))","v":""},null,{"$f":"IF(R118=\"\",\"\",INDEX(REFERENTES!$D:$E,MATCH(R118,REFERENTES!$D:$D,0),2))","v":""},null,null,"",{"$f":"IF(X118=\"\",\"\",INDEX('OTRAS REFERENTES'!$H:$I,MATCH(X118,'OTRAS REFERENTES'!$I:$I,0),1))","v":""},null,null,{"$f":"IF(AA118=\"\",\"\",INDEX('OTRAS REFERENTES'!$K:$L,MATCH(AA118,'OTRAS REFERENTES'!$L:$L,0),1))","v":""},null,null,"",{"$f":"IF(SUMPRODUCT(--EXACT(K118&M118,$AD$2:AD117)),\"\",K118&M118)","v":""},{"$f":"IF(SUMPRODUCT(--EXACT(K118&M118,$AD$2:AD117)),\"\",MAX($AE$3:AE117)+1)","v":""}]
[1,"",117,"","",{"$f":"IF(L119<>\"\",CONCATENATE(DIGITADOR!$B$2,$A$2,DIGITADOR!$M$1,A119),\"\")","v":""},null,null,"",{"$f":"IF(K119=\"\",\"\",INDEX('OTRAS REFERENTES'!$AH$6:$AI$658,MATCH(K119,'OTRAS REFERENTES'!$AH$6:$AH$658,0),2))","v":""},null,{"$f":"IF(J119=\"\",\"\",INDEX(REFERENTES!$T:$W,MATCH(J119,REFERENTES!$V:$V,0),3))","v":""},null,null,"",null,{"$f":"IF(P119=\"\",\"\",INDEX(REFERENTES!$J:$K,MATCH(P119,REFERENTES!$K:$K,0),1))","v":""},null,{"$f":"IF(R119=\"\",\"\",INDEX(REFERENTES!$D:$E,MATCH(R119,REFERENTES!$D:$D,0),2))","v":""},null,null,"",{"$f":"IF(X119=\"\",\"\",INDEX('OTRAS REFERENTES'!$H:$I,MATCH(X119,'OTRAS REFERENTES'!$I:$I,0),1))","v":""},null,null,{"$f":"IF(AA119=\"\",\"\",INDEX('OTRAS REFERENTES'!$K:$L,MATCH(AA119,'OTRAS REFERENTES'!$L:$L,0),1))","v":""},null,null,"",{"$f":"IF(SUMPRODUCT(--EXACT(K119&M119,$AD$2:AD118)),\"\",K119&M119)","v":""},{"$f":"IF(SUMPRODUCT(--EXACT(K119&M119,$AD$2:AD118)),\"\",MAX($AE$3:AE118)+1)","v":""}]
[1,"",118,"","",{"$f":"IF(L120<>\"\",CONCATENATE(DIGITADOR!$B$2,$A$2,DIGITADOR!$M$1,A120),\"\")","v":""},null,null,"",{"$f":"IF(K120=\"\",\"\",INDEX('OTRAS REFERENTES'!$AH$6:$AI$658,MATCH(K120,'OTRAS REFERENTES'!$AH$6:$AH$658,0),2))","v":""},null,{"$f":"IF(J120=\"\",\"\",INDEX(REFERENTES!$T:$W,MATCH(J120,REFERENTES!$V:$V,0),3))","v":""},null,null,"",null,{"$f":"IF(P120=\"\",\"\",INDEX(REFERENTES!$J:$K,MATCH(P120,REFERENTES!$K:$K,0),1))","v":""},null,{"$f":"IF(R120=\"\",\"\",INDEX(REFERENTES!$D:$E,MATCH(R120,REFERENTES!$D:$D,0),2))","v":""},null,null,"",{"$f":"IF(X120=\"\",\"\",INDEX('OTRAS REFERENTES'!$H:$I,MATCH(X120,'OTRAS REFERENTES'!$I:$I,0),1))","v":""},null,null,{"$f":"IF(AA120=\"\",\"\",INDEX('OTRAS REFERENTES'!$K:$L,MATCH(AA120,'OTRAS REFERENTES'!$L:$L,0),1))","v":""},null,null,"",{"$f":"IF(SUMPRODUCT(--EXACT(K120&M120,$AD$2:AD119)),\"\",K120&M120)","v":""},{"$f":"IF(SUMPRODUCT(--EXACT(K120&M120,$AD$2:AD119)),\"\",MAX($AE$3:AE119)+1)","v":""}]
[1,"",119,"","",{"$f":"IF(L121<>\"\",CONCATENATE(DIGITADOR!$B$2,$A$2,DIGITADOR!$M$1,A121),\"\")","v":""},null,null,"",{"$f":"IF(K121=\"\",\"\",INDEX('OTRAS REFERENTES'!$AH$6:$AI$658,MATCH(K121,'OTRAS REFERENTES'!$AH$6:$AH$658,0),2))","v":""},null,{"$f":"IF(J121=\"\",\"\",INDEX(REFERENTES!$T:$W,MATCH(J121,REFERENTES!$V:$V,0),3))","v":""},null,null,"",null,{"$f":"IF(P121=\"\",\"\",INDEX(REFERENTES!$J:$K,MATCH(P121,REFERENTES!$K:$K,0),1))","v":""},null,{"$f":"IF(R121=\"\",\"\",INDEX(REFERENTES!$D:$E,MATCH(R121,REFERENTES!$D:$D,0),2))","v":""},null,null,"",{"$f":"IF(X121=\"\",\"\",INDEX('OTRAS REFERENTES'!$H:$I,MATCH(X121,'OTRAS REFERENTES'!$I:$I,0),1))","v":""},null,null,{"$f":"IF(AA121=\"\",\"\",INDEX('OTRAS REFERENTES'!$K:$L,MATCH(AA121,'OTRAS REFERENTES'!$L:$L,0),1))","v":""},null,null,"",{"$f":"IF(SUMPRODUCT(--EXACT(K121&M121,$AD$2:AD120)),\"\",K121&M121)","v":""},{"$f":"IF(SUMPRODUCT(--EXACT(K121&M121,$AD$2:AD120)),\"\",MAX($AE$3:AE120)+1)","v":""}]
[1,"",120,"","",{"$f":"IF(L122<>\"\",CONCATENATE(DIGITADOR!$B$2,$A$2,DIGITADOR!$M$1,A122),\"\")","v":""},null,null,"",{"$f":"IF(K122=\"\",\"\",INDEX('OTRAS REFERENTES'!$AH$6:$AI$658,MATCH(K122,'OTRAS REFERENTES'!$AH$6:$AH$658,0),2))","v":""},null,{"$f":"IF(J122=\"\",\"\",INDEX(REFERENTES!$T:$W,MATCH(J122,REFERENTES!$V:$V,0),3))","v":""},null,null,"",null,{"$f":"IF(P122=\"\",\"\",INDEX(REFERENTES!$J:$K,MATCH(P122,REFERENTES!$K:$K,0),1))","v":""},null,{"$f":"IF(R122=\"\",\"\",INDEX(REFERENTES!$D:$E,MATCH(R122,REFERENTES!$D:$D,0),2))","v":""},null,null,"",{"$f":"IF(X122=\"\",\"\",INDEX('OTRAS REFERENTES'!$H:$I,MATCH(X122,'OTRAS REFERENTES'!$I:$I,0),1))","v":""},null,null,{"$f":"IF(AA122=\"\",\"\",INDEX('OTRAS REFERENTES'!$K:$L,MATCH(AA122,'OTRAS REFERENTES'!$L:$L,0),1))","v":""},null,null,"",{"$f":"IF(SUMPRODUCT(--EXACT(K122&M122,$AD$2:AD121)),\"\",K122&M122)","v":""},{"$f":"IF(SUMPRODUCT(--EXACT(K122&M122,$AD$2:AD121)),\"\",MAX($AE$3:AE121)+1)","v":""}]
[1,"",121,"","",{"$f":"IF(L123<>\"\",CONCATENATE(DIGITADOR!$B$2,$A$2,DIGITADOR!$M$1,A123),\"\")","v":""},null,null,"",{"$f":"IF(K123=\"\",\"\",INDEX('OTRAS REFERENTES'!$AH$6:$AI$658,MATCH(K123,'OTRAS REFERENTES'!$AH$6:$AH$658,0),2))","v":""},null,{"$f":"IF(J123=\"\",\"\",INDEX(REFERENTES!$T:$W,MATCH(J123,REFERENTES!$V:$V,0),3))","v":""},null,null,"",null,{"$f":"IF(P123=\"\",\"\",INDEX(REFERENTES!$J:$K,MATCH(P123,REFERENTES!$K:$K,0),1))","v":""},null,{"$f":"IF(R123=\"\",\"\",INDEX(REFERENTES!$D:$E,MATCH(R123,REFERENTES!$D:$D,0),2))","v":""},null,null,"",{"$f":"IF(X123=\"\",\"\",INDEX('OTRAS REFERENTES'!$H:$I,MATCH(X123,'OTRAS REFERENTES'!$I:$I,0),1))","v":""},null,null,{"$f":"IF(AA123=\"\",\"\",INDEX('OTRAS REFERENTES'!$K:$L,MATCH(AA123,'OTRAS REFERENTES'!$L:$L,0),1))","v":""},null,null,"",{"$f":"IF(SUMPRODUCT(--EXACT(K123&M123,$AD$2:AD122)),\"\",K123&M123)","v":""},{"$f":"IF(SUMPRODUCT(--EXACT(K123&M123,$AD$2:AD122)),\"\",MAX($AE$3:AE122)+1)","v":""}]
[1,"",122,"","",{"$f":"IF(L124<>\"\",CONCATENATE(DIGITADOR!$B$2,$A$2,DIGITADOR!$M$1,A124),\"\")","v":""},null,null,"",{"$f":"IF(K124=\"\",\"\",INDEX('OTRAS REFERENTES'!$AH$6:$AI$658,MATCH(K124,'OTRAS REFERENTES'!$AH$6:$AH$658,0),2))","v":""},null,{"$f":"IF(J124=\"\",\"\",INDEX(REFERENTES!$T:$W,MATCH(J124,REFERENTES!$V:$V,0),3))","v":""},null,null,"",null,{"$f":"IF(P124=\"\",\"\",INDEX(REFERENTES!$J:$K,MATCH(P124,REFERENTES!$K:$K,0),1))","v":""},null,{"$f":"IF(R124=\"\",\"\",INDEX(REFERENTES!$D:$E,MATCH(R124,REFERENTES!$D:$D,0),2))","v":""},null,null,"",{"$f":"IF(X124=\"\",\"\",INDEX('OTRAS REFERENTES'!$H:$I,MATCH(X124,'OTRAS REFERENTES'!$I:$I,0),1))","v":""},null,null,{"$f":"IF(AA124=\"\",\"\",INDEX('OTRAS REFERENTES'!$K:$L,MATCH(AA124,'OTRAS REFERENTES'!$L:$L,0),1))","v":""},null,null,"",{"$f":"IF(SUMPRODUCT(--EXACT(K124&M124,$AD$2:AD123)),\"\",K124&M124)","v":""},{"$f":"IF(SUMPRODUCT(--EXACT(K124&M124,$AD$2:AD123)),\"\",MAX($AE$3:AE123)+1)","v":""}]
[1,"",123,"","",{"$f":"IF(L125<>\"\",CONCATENATE(DIGITADOR!$B$2,$A$2,DIGITADOR!$M$1,A125),\"\")","v":""},null,null,"",{"$f":"IF(K125=\"\",\"\",INDEX('OTRAS REFERENTES'!$AH$6:$AI$658,MATCH(K125,'OTRAS REFERENTES'!$AH$6:$AH$658,0),2))","v":""},null,{"$f":"IF(J125=\"\",\"\",INDEX(REFERENTES!$T:$W,MATCH(J125,REFERENTES!$V:$V,0),3))","v":""},null,null,"",null,{"$f":"IF(P125=\"\",\"\",INDEX(REFERENTES!$J:$K,MATCH(P125,REFERENTES!$K:$K,0),1))","v":""},null,{"$f":"IF(R125=\"\",\"\",INDEX(REFERENTES!$D:$E,MATCH(R125,REFERENTES!$D:$D,0),2))","v":""},null,null,"",{"$f":"IF(X125=\"\",\"\",INDEX('OTRAS REFERENTES'!$H:$I,MATCH(X125,'OTRAS REFERENTES'!$I:$I,0),1))","v":""},null,null,{"$f":"IF(AA125=\"\",\"\",INDEX('OTRAS REFERENTES'!$K:$L,MATCH(AA125,'OTRAS REFERENTES'!$L:$L,0),1))","v":""},null,null,"",{"$f":"IF(SUMPRODUCT(--EXACT(K125&M125,$AD$2:AD124)),\"\",K125&M125)","v":""},{"$f":"IF(SUMPRODUCT(--EXACT(K125&M125,$AD$2:AD124)),\"\",MAX($AE$3:AE124)+1)","v":""}]
[1,"",124,"","",{"$f":"IF(L126<>\"\",CONCATENATE(DIGITADOR!$B$2,$A$2,DIGITADOR!$M$1,A126),\"\")","v":""},null,null,"",{"$f":"IF(K126=\"\",\"\",INDEX('OTRAS REFERENTES'!$AH$6:$AI$658,MATCH(K126,'OTRAS REFERENTES'!$AH$6:$AH$658,0),2))","v":""},null,{"$f":"IF(J126=\"\",\"\",INDEX(REFERENTES!$T:$W,MATCH(J126,REFERENTES!$V:$V,0),3))","v":""},null,null,"",null,{"$f":"IF(P126=\"\",\"\",INDEX(REFERENTES!$J:$K,MATCH(P126,REFERENTES!$K:$K,0),1))","v":""},null,{"$f":"IF(R126=\"\",\"\",INDEX(REFERENTES!$D:$E,MATCH(R126,REFERENTES!$D:$D,0),2))","v":""},null,null,"",{"$f":"IF(X126=\"\",\"\",INDEX('OTRAS REFERENTES'!$H:$I,MATCH(X126,'OTRAS REFERENTES'!$I:$I,0),1))","v":""},null,null,{"$f":"IF(AA126=\"\",\"\",INDEX('OTRAS REFERENTES'!$K:$L,MATCH(AA126,'OTRAS REFERENTES'!$L:$L,0),1))","v":""},null,null,"",{"$f":"IF(SUMPRODUCT(--EXACT(K126&M126,$AD$2:AD125)),\"\",K126&M126)","v":""},{"$f":"IF(SUMPRODUCT(--EXACT(K126&M126,$AD$2:AD125)),\"\",MAX($AE$3:AE125)+1)","v":""}]
[1,"",125,"","",{"$f":"IF(L127<>\"\",CONCATENATE(DIGITADOR!$B$2,$A$2,DIGITADOR!$M$1,A127),\"\")","v":""},null,null,"",{"$f":"IF(K127=\"\",\"\",INDEX('OTRAS REFERENTES'!$AH$6:$AI$658,MATCH(K127,'OTRAS REFERENTES'!$AH$6:$AH$658,0),2))","v":""},null,{"$f":"IF(J127=\"\",\"\",INDEX(REFERENTES!$T:$W,MATCH(J127,REFERENTES!$V:$V,0),3))","v":""},null,null,"",null,{"$f":"IF(P127=\"\",\"\",INDEX(REFERENTES!$J:$K,MATCH(P127,REFERENTES!$K:$K,0),1))","v":""},null,{"$f":"IF(R127=\"\",\"\",INDEX(REFERENTES!$D:$E,MATCH(R127,REFERENTES!$D:$D,0),2))","v":""},null,null,"",{"$f":"IF(X127=\"\",\"\",INDEX('OTRAS REFERENTES'!$H:$I,MATCH(X127,'OTRAS REFERENTES'!$I:$I,0),1))","v":""},null,null,{"$f":"IF(AA127=\"\",\"\",INDEX('OTRAS REFERENTES'!$K:$L,MATCH(AA127,'OTRAS REFERENTES'!$L:$L,0),1))","v":""},null,null,"",{"$f":"IF(SUMPRODUCT(--EXACT(K127&M127,$AD$2:AD126)),\"\",K127&M127)","v":""},{"$f":"IF(SUMPRODUCT(--EXACT(K127&M127,$AD$2:AD126)),\"\",MAX($AE$3:AE126)+1)","v":""}]
[1,"",126,"","",{"$f":"IF(L128<>\"\",CONCATENATE(DIGITADOR!$B$2,$A$2,DIGITADOR!$M$1,A128),\"\")","v":""},null,null,"",{"$f":"IF(K128=\"\",\"\",INDEX('OTRAS REFERENTES'!$AH$6:$AI$658,MATCH(K128,'OTRAS REFERENTES'!$AH$6:$AH$658,0),2))","v":""},null,{"$f":"IF(J128=\"\",\"\",INDEX(REFERENTES!$T:$W,MATCH(J128,REFERENTES!$V:$V,0),3))","v":""},null,null,"",null,{"$f":"IF(P128=\"\",\"\",INDEX(REFERENTES!$J:$K,MATCH(P128,REFERENTES!$K:$K,0),1))","v":""},null,{"$f":"IF(R128=\"\",\"\",INDEX(REFERENTES!$D:$E,MATCH(R128,REFERENTES!$D:$D,0),2))","v":""},null,null,"",{"$f":"IF(X128=\"\",\"\",INDEX('OTRAS REFERENTES'!$H:$I,MATCH(X128,'OTRAS REFERENTES'!$I:$I,0),1))","v":""},null,null,{"$f":"IF(AA128=\"\",\"\",INDEX('OTRAS REFERENTES'!$K:$L,MATCH(AA128,'OTRAS REFERENTES'!$L:$L,0),1))","v":""},null,null,"",{"$f":"IF(SUMPRODUCT(--EXACT(K128&M128,$AD$2:AD127)),\"\",K128&M128)","v":""},{"$f":"IF(SUMPRODUCT(--EXACT(K128&M128,$AD$2:AD127)),\"\",MAX($AE$3:AE127)+1)","v":""}]
[1,"",127,"","",{"$f":"IF(L129<>\"\",CONCATENATE(DIGITADOR!$B$2,$A$2,DIGITADOR!$M$1,A129),\"\")","v":""},null,null,"",{"$f":"IF(K129=\"\",\"\",INDEX('OTRAS REFERENTES'!$AH$6:$AI$658,MATCH(K129,'OTRAS REFERENTES'!$AH$6:$AH$658,0),2))","v":""},null,{"$f":"IF(J129=\"\",\"\",INDEX(REFERENTES!$T:$W,MATCH(J129,REFERENTES!$V:$V,0),3))","v":""},null,null,"",null,{"$f":"IF(P129=\"\",\"\",INDEX(REFERENTES!$J:$K,MATCH(P129,REFERENTES!$K:$K,0),1))","v":""},null,{"$f":"IF(R129=\"\",\"\",INDEX(REFERENTES!$D:$E,MATCH(R129,REFERENTES!$D:$D,0),2))","v":""},null,null,"",{"$f":"IF(X129=\"\",\"\",INDEX('OTRAS REFERENTES'!$H:$I,MATCH(X129,'OTRAS REFERENTES'!$I:$I,0),1))","v":""},null,null,{"$f":"IF(AA129=\"\",\"\",INDEX('OTRAS REFERENTES'!$K:$L,MATCH(AA129,'OTRAS REFERENTES'!$L:$L,0),1))","v":""},null,null,"",{"$f":"IF(SUMPRODUCT(--EXACT(K129&M129,$AD$2:AD128)),\"\",K129&M129)","v":""},{"$f":"IF(SUMPRODUCT(--EXACT(K129&M129,$AD$2:AD128)),\"\",MAX($AE$3:AE128)+1)","v":""}]
[1,"",128,"","",{"$f":"IF(L130<>\"\",CONCATENATE(DIGITADOR!$B$2,$A$2,DIGITADOR!$M$1,A130),\"\")","v":""},null,null,"",{"$f":"IF(K130=\"\",\"\",INDEX('OTRAS REFERENTES'!$AH$6:$AI$658,MATCH(K130,'OTRAS REFERENTES'!$AH$6:$AH$658,0),2))","v":""},null,{"$f":"IF(J130=\"\",\"\",INDEX(REFERENTES!$T:$W,MATCH(J130,REFERENTES!$V:$V,0),3))","v":""},null,null,"",null,{"$f":"IF(P130=\"\",\"\",INDEX(REFERENTES!$J:$K,MATCH(P130,REFERENTES!$K:$K,0),1))","v":""},null,{"$f":"IF(R130=\"\",\"\",INDEX(REFERENTES!$D:$E,MATCH(R130,REFERENTES!$D:$D,0),2))","v":""},null,null,"",{"$f":"IF(X130=\"\",\"\",INDEX('OTRAS REFERENTES'!$H:$I,MATCH(X130,'OTRAS REFERENTES'!$I:$I,0),1))","v":""},null,null,{"$f":"IF(AA130=\"\",\"\",INDEX('OTRAS REFERENTES'!$K:$L,MATCH(AA130,'OTRAS REFERENTES'!$L:$L,0),1))","v":""},null,null,"",{"$f":"IF(SUMPRODUCT(--EXACT(K130&M130,$AD$2:AD129)),\"\",K130&M130)","v":""},{"$f":"IF(SUMPRODUCT(--EXACT(K130&M130,$AD$2:AD129)),\"\",MAX($AE$3:AE129)+1)","v":""}]
[1,"",129,"",{"$f":"CONCATENATE(I131,L131)","v":""},{"$f":"IF(L131<>\"\",CONCATENATE(DIGITADOR!$B$2,$A$2,DIGITADOR!$M$1,A131),\"\")","v":""},null,null,{"$f":"IF(G131<>\"\",G131+H131,\"\")","v":""},{"$f":"IF(K131=\"\",\"\",INDEX('OTRAS REFERENTES'!$AH$6:$AI$658,MATCH(K131,'OTRAS REFERENTES'!$AH$6:$AH$658,0),2))","v":""},null,{"$f":"IF(J131=\"\",\"\",INDEX(REFERENTES!$T:$W,MATCH(J131,REFERENTES!$V:$V,0),3))","v":""},null,null,{"$f":"IF(P131=\"\",\"\",UPPER(P131))","v":""},null,{"$f":"IF(P131=\"\",\"\",INDEX(REFERENTES!$J:$K,MATCH(P131,REFERENTES!$K:$K,0),1))","v":""},null,{"$f":"IF(R131=\"\",\"\",INDEX(REFERENTES!$D:$E,MATCH(R131,REFERENTES!$D:$D,0),2))","v":""},null,null,{"$f":"IF(U131=\"\",IF(T131=\"\",\"\",IF(AND(T131>=0,T131<=50),\"A\",IF(AND(T131>50,T131<=150),\"B\",\"C\"))),U131)","v":""},{"$f":"IF(X131=\"\",\"\",INDEX('OTRAS REFERENTES'!$H:$I,MATCH(X131,'OTRAS REFERENTES'!$I:$I,0),1))","v":""},null,null,{"$f":"IF(AA131=\"\",\"\",INDEX('OTRAS REFERENTES'!$K:$L,MATCH(AA131,'OTRAS REFERENTES'!$L:$L,0),1))","v":""},null,null,"",{"$f":"IF(SUMPRODUCT(--EXACT(K131&M131,$AD$2:AD130)),\"\",K131&M131)","v":""},{"$f":"IF(SUMPRODUCT(--EXACT(K131&M131,$AD$2:AD130)),\"\",MAX($AE$3:AE130)+1)","v":""}]
[1,"",130,{"$f":"IF(L132=\"\",\"\",CONCATENATE(C132,F132))","v":""},"",{"$f":"IF(L132<>\"\",CONCATENATE(DIGITADOR!$B$2,$A$2,DIGITADOR!$M$1,A132),\"\")","v":""},null,null,"",{"$f":"IF(K132=\"\",\"\",INDEX('OTRAS REFERENTES'!$AH$6:$AI$658,MATCH(K132,'OTRAS REFERENTES'!$AH$6:$AH$658,0),2))","v":""},null,{"$f":"IF(J132=\"\",\"\",INDEX(REFERENTES!$T:$W,MATCH(J132,REFERENTES!$V:$V,0),3))","v":""},null,null,"",null,{"$f":"IF(P132=\"\",\"\",INDEX(REFERENTES!$J:$K,MATCH(P132,REFERENTES!$K:$K,0),1))","v":""},null,{"$f":"IF(R132=\"\",\"\",INDEX(REFERENTES!$D:$E,MATCH(R132,REFERENTES!$D:$D,0),2))","v":""},null,null,"",{"$f":"IF(X132=\"\",\"\",INDEX('OTRAS REFERENTES'!$H:$I,MATCH(X132,'OTRAS REFERENTES'!$I:$I,0),1))","v":""},null,null,{"$f":"IF(AA132=\"\",\"\",INDEX('OTRAS REFERENTES'!$K:$L,MATCH(AA132,'OTRAS REFERENTES'!$L:$L,0),1))","v":""},null,null,{"$f":"IF(R132=\"\",\"\",UPPER(R132))","v":""},{"$f":"IF(SUMPRODUCT(--EXACT(K132&M132,$AD$2:AD131)),\"\",K132&M132)","v":""},{"$f":"IF(SUMPRODUCT(--EXACT(K132&M132,$AD$2:AD131)),\"\",MAX($AE$3:AE131)+1)","v":""}]
[{"$f":"IF(L133=L132,A132,A132+1)","v":1},{"$f":"IF(F133<>F132, F133,\"\")","v":""},131,"","",{"$f":"IF(L133<>\"\",CONCATENATE(DIGITADOR!$B$2,$A$2,DIGITADOR!$M$1,A133),\"\")","v":""},null,null,"",{"$f":"IF(K133=\"\",\"\",INDEX('OTRAS REFERENTES'!$AH$6:$AI$658,MATCH(K133,'OTRAS REFERENTES'!$AH$6:$AH$658,0),2))","v":""},null,{"$f":"IF(J133=\"\",\"\",INDEX(REFERENTES!$T:$W,MATCH(J133,REFERENTES!$V:$V,0),3))","v":""},null,null,"",null,{"$f":"IF(P133=\"\",\"\",INDEX(REFERENTES!$J:$K,MATCH(P133,REFERENTES!$K:$K,0),1))","v":""},null,{"$f":"IF(R133=\"\",\"\",INDEX(REFERENTES!$D:$E,MATCH(R133,REFERENTES!$D:$D,0),2))","v":""},null,null,"",{"$f":"IF(X133=\"\",\"\",INDEX('OTRAS REFERENTES'!$H:$I,MATCH(X133,'OTRAS REFERENTES'!$I:$I,0),1))","v":""},null,null,{"$f":"IF(AA133=\"\",\"\",INDEX('OTRAS REFERENTES'!$K:$L,MATCH(AA133,'OTRAS REFERENTES'!$L:$L,0),1))","v":""},null,null,"",{"$f":"IF(SUMPRODUCT(--EXACT(K133&M133,$AD$2:AD132)),\"\",K133&M133)","v":""},{"$f":"IF(SUMPRODUCT(--EXACT(K133&M133,$AD$2:AD132)),\"\",MAX($AE$3:AE132)+1)","v":""}]
[1,"",132,"","",{"$f":"IF(L134<>\"\",CONCATENATE(DIGITADOR!$B$2,$A$2,DIGITADOR!$M$1,A134),\"\")","v":""},null,null,"",{"$f":"IF(K134=\"\",\"\",INDEX('OTRAS REFERENTES'!$AH$6:$AI$658,MATCH(K134,'OTRAS REFERENTES'!$AH$6:$AH$658,0),2))","v":""},null,{"$f":"IF(J134=\"\",\"\",INDEX(REFERENTES!$T:$W,MATCH(J134,REFERENTES!$V:$V,0),3))","v":""},null,null,"",null,{"$f":"IF(P134=\"\",\"\",INDEX(REFERENTES!$J:$K,MATCH(P134,REFERENTES!$K:$K,0),1))","v":""},null,{"$f":"IF(R134=\"\",\"\",INDEX(REFERENTES!$D:$E,MATCH(R134,REFERENTES!$D:$D,0),2))","v":""},null,null,"",{"$f":"IF(X134=\"\",\"\",INDEX('OTRAS REFERENTES'!$H:$I,MATCH(X134,'OTRAS REFERENTES'!$I:$I,0),1))","v":""},null,null,{"$f":"IF(AA134=\"\",\"\",INDEX('OTRAS REFERENTES'!$K:$L,MATCH(AA134,'OTRAS REFERENTES'!$L:$L,0),1))","v":""},null,null,"",{"$f":"IF(SUMPRODUCT(--EXACT(K134&M134,$AD$2:AD133)),\"\",K134&M134)","v":""},{"$f":"IF(SUMPRODUCT(--EXACT(K134&M134,$AD$2:AD133)),\"\",MAX($AE$3:AE133)+1)","v":""}]
[1,"",133,"","",{"$f":"IF(L135<>\"\",CONCATENATE(DIGITADOR!$B$2,$A$2,DIGITADOR!$M$1,A135),\"\")","v":""},null,null,"",{"$f":"IF(K135=\"\",\"\",INDEX('OTRAS REFERENTES'!$AH$6:$AI$658,MATCH(K135,'OTRAS REFERENTES'!$AH$6:$AH$658,0),2))","v":""},null,{"$f":"IF(J135=\"\",\"\",INDEX(REFERENTES!$T:$W,MATCH(J135,REFERENTES!$V:$V,0),3))","v":""},null,null,"",null,{"$f":"IF(P135=\"\",\"\",INDEX(REFERENTES!$J:$K,MATCH(P135,REFERENTES!$K:$K,0),1))","v":""},null,{"$f":"IF(R135=\"\",\"\",INDEX(REFERENTES!$D:$E,MATCH(R135,REFERENTES!$D:$D,0),2))","v":""},null,null,"",{"$f":"IF(X135=\"\",\"\",INDEX('OTRAS REFERENTES'!$H:$I,MATCH(X135,'OTRAS REFERENTES'!$I:$I,0),1))","v":""},null,null,{"$f":"IF(AA135=\"\",\"\",INDEX('OTRAS REFERENTES'!$K:$L,MATCH(AA135,'OTRAS REFERENTES'!$L:$L,0),1))","v":""},null,null,"",{"$f":"IF(SUMPRODUCT(--EXACT(K135&M135,$AD$2:AD134)),\"\",K135&M135)","v":""},{"$f":"IF(SUMPRODUCT(--EXACT(K135&M135,$AD$2:AD134)),\"\",MAX($AE$3:AE134)+1)","v":""}]
[1,"",134,"","",{"$f":"IF(L136<>\"\",CONCATENATE(DIGITADOR!$B$2,$A$2,DIGITADOR!$M$1,A136),\"\")","v":""},null,null,"",{"$f":"IF(K136=\"\",\"\",INDEX('OTRAS REFERENTES'!$AH$6:$AI$658,MATCH(K136,'OTRAS REFERENTES'!$AH$6:$AH$658,0),2))","v":""},null,{"$f":"IF(J136=\"\",\"\",INDEX(REFERENTES!$T:$W,MATCH(J136,REFERENTES!$V:$V,0),3))","v":""},null,null,"",null,{"$f":"IF(P136=\"\",\"\",INDEX(REFERENTES!$J:$K,MATCH(P136,REFERENTES!$K:$K,0),1))","v":""},null,{"$f":"IF(R136=\"\",\"\",INDEX(REFERENTES!$D:$E,MATCH(R136,REFERENTES!$D:$D,0),2))","v":""},null,null,"",{"$f":"IF(X136=\"\",\"\",INDEX('OTRAS REFERENTES'!$H:$I,MATCH(X136,'OTRAS REFERENTES'!$I:$I,0),1))","v":""},null,null,{"$f":"IF(AA136=\"\",\"\",INDEX('OTRAS REFERENTES'!$K:$L,MATCH(AA136,'OTRAS REFERENTES'!$L:$L,0),1))","v":""},null,null,"",{"$f":"IF(SUMPRODUCT(--EXACT(K136&M136,$AD$2:AD135)),\"\",K136&M136)","v":""},{"$f":"IF(SUMPRODUCT(--EXACT(K136&M136,$AD$2:AD135)),\"\",MAX($AE$3:AE135)+1)","v":""}]
[1,"",135,"","",{"$f":"IF(L137<>\"\",CONCATENATE(DIGITADOR!$B$2,$A$2,DIGITADOR!$M$1,A137),\"\")","v":""},null,null,"",{"$f":"IF(K137=\"\",\"\",INDEX('OTRAS REFERENTES'!$AH$6:$AI$658,MATCH(K137,'OTRAS REFERENTES'!$AH$6:$AH$658,0),2))","v":""},null,{"$f":"IF(J137=\"\",\"\",INDEX(REFERENTES!$T:$W,MATCH(J137,REFERENTES!$V:$V,0),3))","v":""},null,null,"",null,{"$f":"IF(P137=\"\",\"\",INDEX(REFERENTES!$J:$K,MATCH(P137,REFERENTES!$K:$K,0),1))","v":""},null,{"$f":"IF(R137=\"\",\"\",INDEX(REFERENTES!$D:$E,MATCH(R137,REFERENTES!$D:$D,0),2))","v":""},null,null,"",{"$f":"IF(X137=\"\",\"\",INDEX('OTRAS REFERENTES'!$H:$I,MATCH(X137,'OTRAS REFERENTES'!$I:$I,0),1))","v":""},null,null,{"$f":"IF(AA137=\"\",\"\",INDEX('OTRAS REFERENTES'!$K:$L,MATCH(AA137,'OTRAS REFERENTES'!$L:$L,0),1))","v":""},null,null,"",{"$f":"IF(SUMPRODUCT(--EXACT(K137&M137,$AD$2:AD136)),\"\",K137&M137)","v":""},{"$f":"IF(SUMPRODUCT(--EXACT(K137&M137,$AD$2:AD136)),\"\",MAX($AE$3:AE136)+1)","v":""}]
[1,"",136,"","",{"$f":"IF(L138<>\"\",CONCATENATE(DIGITADOR!$B$2,$A$2,DIGITADOR!$M$1,A138),\"\")","v":""},null,null,"",{"$f":"IF(K138=\"\",\"\",INDEX('OTRAS REFERENTES'!$AH$6:$AI$658,MATCH(K138,'OTRAS REFERENTES'!$AH$6:$AH$658,0),2))","v":""},null,{"$f":"IF(J138=\"\",\"\",INDEX(REFERENTES!$T:$W,MATCH(J138,REFERENTES!$V:$V,0),3))","v":""},null,null,"",null,{"$f":"IF(P138=\"\",\"\",INDEX(REFERENTES!$J:$K,MATCH(P138,REFERENTES!$K:$K,0),1))","v":""},null,{"$f":"IF(R138=\"\",\"\",INDEX(REFERENTES!$D:$E,MATCH(R138,REFERENTES!$D:$D,0),2))","v":""},null,null,"",{"$f":"IF(X138=\"\",\"\",INDEX('OTRAS REFERENTES'!$H:$I,MATCH(X138,'OTRAS REFERENTES'!$I:$I,0),1))","v":""},null,null,{"$f":"IF(AA138=\"\",\"\",INDEX('OTRAS REFERENTES'!$K:$L,MATCH(AA138,'OTRAS REFERENTES'!$L:$L,0),1))","v":""},null,null,"",{"$f":"IF(SUMPRODUCT(--EXACT(K138&M138,$AD$2:AD137)),\"\",K138&M138)","v":""},{"$f":"IF(SUMPRODUCT(--EXACT(K138&M138,$AD$2:AD137)),\"\",MAX($AE$3:AE137)+1)","v":""}]
[1,"",137,"","",{"$f":"IF(L139<>\"\",CONCATENATE(DIGITADOR!$B$2,$A$2,DIGITADOR!$M$1,A139),\"\")","v":""},null,null,"",{"$f":"IF(K139=\"\",\"\",INDEX('OTRAS REFERENTES'!$AH$6:$AI$658,MATCH(K139,'OTRAS REFERENTES'!$AH$6:$AH$658,0),2))","v":""},null,{"$f":"IF(J139=\"\",\"\",INDEX(REFERENTES!$T:$W,MATCH(J139,REFERENTES!$V:$V,0),3))","v":""},null,null,"",null,{"$f":"IF(P139=\"\",\"\",INDEX(REFERENTES!$J:$K,MATCH(P139,REFERENTES!$K:$K,0),1))","v":""},null,{"$f":"IF(R139=\"\",\"\",INDEX(REFERENTES!$D:$E,MATCH(R139,REFERENTES!$D:$D,0),2))","v":""},null,null,"",{"$f":"IF(X139=\"\",\"\",INDEX('OTRAS REFERENTES'!$H:$I,MATCH(X139,'OTRAS REFERENTES'!$I:$I,0),1))","v":""},null,null,{"$f":"IF(AA139=\"\",\"\",INDEX('OTRAS REFERENTES'!$K:$L,MATCH(AA139,'OTRAS REFERENTES'!$L:$L,0),1))","v":""},null,null,"",{"$f":"IF(SUMPRODUCT(--EXACT(K139&M139,$AD$2:AD138)),\"\",K139&M139)","v":""},{"$f":"IF(SUMPRODUCT(--EXACT(K139&M139,$AD$2:AD138)),\"\",MAX($AE$3:AE138)+1)","v":""}]
[1,"",138,"","",{"$f":"IF(L140<>\"\",CONCATENATE(DIGITADOR!$B$2,$A$2,DIGITADOR!$M$1,A140),\"\")","v":""},null,null,"",{"$f":"IF(K140=\"\",\"\",INDEX('OTRAS REFERENTES'!$AH$6:$AI$658,MATCH(K140,'OTRAS REFERENTES'!$AH$6:$AH$658,0),2))","v":""},null,{"$f":"IF(J140=\"\",\"\",INDEX(REFERENTES!$T:$W,MATCH(J140,REFERENTES!$V:$V,0),3))","v":""},null,null,"",null,{"$f":"IF(P140=\"\",\"\",INDEX(REFERENTES!$J:$K,MATCH(P140,REFERENTES!$K:$K,0),1))","v":""},null,{"$f":"IF(R140=\"\",\"\",INDEX(REFERENTES!$D:$E,MATCH(R140,REFERENTES!$D:$D,0),2))","v":""},null,null,"",{"$f":"IF(X140=\"\",\"\",INDEX('OTRAS REFERENTES'!$H:$I,MATCH(X140,'OTRAS REFERENTES'!$I:$I,0),1))","v":""},null,null,{"$f":"IF(AA140=\"\",\"\",INDEX('OTRAS REFERENTES'!$K:$L,MATCH(AA140,'OTRAS REFERENTES'!$L:$L,0),1))","v":""},null,null,"",{"$f":"IF(SUMPRODUCT(--EXACT(K140&M140,$AD$2:AD139)),\"\",K140&M140)","v":""},{"$f":"IF(SUMPRODUCT(--EXACT(K140&M140,$AD$2:AD139)),\"\",MAX($AE$3:AE139)+1)","v":""}]
[1,"",139,"","",{"$f":"IF(L141<>\"\",CONCATENATE(DIGITADOR!$B$2,$A$2,DIGITADOR!$M$1,A141),\"\")","v":""},null,null,"",{"$f":"IF(K141=\"\",\"\",INDEX('OTRAS REFERENTES'!$AH$6:$AI$658,MATCH(K141,'OTRAS REFERENTES'!$AH$6:$AH$658,0),2))","v":""},null,{"$f":"IF(J141=\"\",\"\",INDEX(REFERENTES!$T:$W,MATCH(J141,REFERENTES!$V:$V,0),3))","v":""},null,null,"",null,{"$f":"IF(P141=\"\",\"\",INDEX(REFERENTES!$J:$K,MATCH(P141,REFERENTES!$K:$K,0),1))","v":""},null,{"$f":"IF(R141=\"\",\"\",INDEX(REFERENTES!$D:$E,MATCH(R141,REFERENTES!$D:$D,0),2))","v":""},null,null,"",{"$f":"IF(X141=\"\",\"\",INDEX('OTRAS REFERENTES'!$H:$I,MATCH(X141,'OTRAS REFERENTES'!$I:$I,0),1))","v":""},null,null,{"$f":"IF(AA141=\"\",\"\",INDEX('OTRAS REFERENTES'!$K:$L,MATCH(AA141,'OTRAS REFERENTES'!$L:$L,0),1))","v":""},null,null,"",{"$f":"IF(SUMPRODUCT(--EXACT(K141&M141,$AD$2:AD140)),\"\",K141&M141)","v":""},{"$f":"IF(SUMPRODUCT(--EXACT(K141&M141,$AD$2:AD140)),\"\",MAX($AE$3:AE140)+1)","v":""}]
[1,"",140,"","",{"$f":"IF(L142<>\"\",CONCATENATE(DIGITADOR!$B$2,$A$2,DIGITADOR!$M$1,A142),\"\")","v":""},null,null,"",{"$f":"IF(K142=\"\",\"\",INDEX('OTRAS REFERENTES'!$AH$6:$AI$658,MATCH(K142,'OTRAS REFERENTES'!$AH$6:$AH$658,0),2))","v":""},null,{"$f":"IF(J142=\"\",\"\",INDEX(REFERENTES!$T:$W,MATCH(J142,REFERENTES!$V:$V,0),3))","v":""},null,null,"",null,{"$f":"IF(P142=\"\",\"\",INDEX(REFERENTES!$J:$K,MATCH(P142,REFERENTES!$K:$K,0),1))","v":""},null,{"$f":"IF(R142=\"\",\"\",INDEX(REFERENTES!$D:$E,MATCH(R142,REFERENTES!$D:$D,0),2))","v":""},null,null,"",{"$f":"IF(X142=\"\",\"\",INDEX('OTRAS REFERENTES'!$H:$I,MATCH(X142,'OTRAS REFERENTES'!$I:$I,0),1))","v":""},null,null,{"$f":"IF(AA142=\"\",\"\",INDEX('OTRAS REFERENTES'!$K:$L,MATCH(AA142,'OTRAS REFERENTES'!$L:$L,0),1))","v":""},null,null,"",{"$f":"IF(SUMPRODUCT(--EXACT(K142&M142,$AD$2:AD141)),\"\",K142&M142)","v":""},{"$f":"IF(SUMPRODUCT(--EXACT(K142&M142,$AD$2:AD141)),\"\",MAX($AE$3:AE141)+1)","v":""}]
[1,"",141,"","",{"$f":"IF(L143<>\"\",CONCATENATE(DIGITADOR!$B$2,$A$2,DIGITADOR!$M$1,A143),\"\")","v":""},null,null,"",{"$f":"IF(K143=\"\",\"\",INDEX('OTRAS REFERENTES'!$AH$6:$AI$658,MATCH(K143,'OTRAS REFERENTES'!$AH$6:$AH$658,0),2))","v":""},null,{"$f":"IF(J143=\"\",\"\",INDEX(REFERENTES!$T:$W,MATCH(J143,REFERENTES!$V:$V,0),3))","v":""},null,null,"",null,{"$f":"IF(P143=\"\",\"\",INDEX(REFERENTES!$J:$K,MATCH(P143,REFERENTES!$K:$K,0),1))","v":""},null,{"$f":"IF(R143=\"\",\"\",INDEX(REFERENTES!$D:$E,MATCH(R143,REFERENTES!$D:$D,0),2))","v":""},null,null,"",{"$f":"IF(X143=\"\",\"\",INDEX('OTRAS REFERENTES'!$H:$I,MATCH(X143,'OTRAS REFERENTES'!$I:$I,0),1))","v":""},null,null,{"$f":"IF(AA143=\"\",\"\",INDEX('OTRAS REFERENTES'!$K:$L,MATCH(AA143,'OTRAS REFERENTES'!$L:$L,0),1))","v":""},null,null,"",{"$f":"IF(SUMPRODUCT(--EXACT(K143&M143,$AD$2:AD142)),\"\",K143&M143)","v":""},{"$f":"IF(SUMPRODUCT(--EXACT(K143&M143,$AD$2:AD142)),\"\",MAX($AE$3:AE142)+1)","v":""}]
[1,"",142,"","",{"$f":"IF(L144<>\"\",CONCATENATE(DIGITADOR!$B$2,$A$2,DIGITADOR!$M$1,A144),\"\")","v":""},null,null,"",{"$f":"IF(K144=\"\",\"\",INDEX('OTRAS REFERENTES'!$AH$6:$AI$658,MATCH(K144,'OTRAS REFERENTES'!$AH$6:$AH$658,0),2))","v":""},null,{"$f":"IF(J144=\"\",\"\",INDEX(REFERENTES!$T:$W,MATCH(J144,REFERENTES!$V:$V,0),3))","v":""},null,null,"",null,{"$f":"IF(P144=\"\",\"\",INDEX(REFERENTES!$J:$K,MATCH(P144,REFERENTES!$K:$K,0),1))","v":""},null,{"$f":"IF(R144=\"\",\"\",INDEX(REFERENTES!$D:$E,MATCH(R144,REFERENTES!$D:$D,0),2))","v":""},null,null,"",{"$f":"IF(X144=\"\",\"\",INDEX('OTRAS REFERENTES'!$H:$I,MATCH(X144,'OTRAS REFERENTES'!$I:$I,0),1))","v":""},null,null,{"$f":"IF(AA144=\"\",\"\",INDEX('OTRAS REFERENTES'!$K:$L,MATCH(AA144,'OTRAS REFERENTES'!$L:$L,0),1))","v":""},null,null,"",{"$f":"IF(SUMPRODUCT(--EXACT(K144&M144,$AD$2:AD143)),\"\",K144&M144)","v":""},{"$f":"IF(SUMPRODUCT(--EXACT(K144&M144,$AD$2:AD143)),\"\",MAX($AE$3:AE143)+1)","v":""}]
[1,"",143,"","",{"$f":"IF(L145<>\"\",CONCATENATE(DIGITADOR!$B$2,$A$2,DIGITADOR!$M$1,A145),\"\")","v":""},null,null,"",{"$f":"IF(K145=\"\",\"\",INDEX('OTRAS REFERENTES'!$AH$6:$AI$658,MATCH(K145,'OTRAS REFERENTES'!$AH$6:$AH$658,0),2))","v":""},null,{"$f":"IF(J145=\"\",\"\",INDEX(REFERENTES!$T:$W,MATCH(J145,REFERENTES!$V:$V,0),3))","v":""},null,null,"",null,{"$f":"IF(P145=\"\",\"\",INDEX(REFERENTES!$J:$K,MATCH(P145,REFERENTES!$K:$K,0),1))","v":""},null,{"$f":"IF(R145=\"\",\"\",INDEX(REFERENTES!$D:$E,MATCH(R145,REFERENTES!$D:$D,0),2))","v":""},null,null,"",{"$f":"IF(X145=\"\",\"\",INDEX('OTRAS REFERENTES'!$H:$I,MATCH(X145,'OTRAS REFERENTES'!$I:$I,0),1))","v":""},null,null,{"$f":"IF(AA145=\"\",\"\",INDEX('OTRAS REFERENTES'!$K:$L,MATCH(AA145,'OTRAS REFERENTES'!$L:$L,0),1))","v":""},null,null,"",{"$f":"IF(SUMPRODUCT(--EXACT(K145&M145,$AD$2:AD144)),\"\",K145&M145)","v":""},{"$f":"IF(SUMPRODUCT(--EXACT(K145&M145,$AD$2:AD144)),\"\",MAX($AE$3:AE144)+1)","v":""}]
[1,"",144,"","",{"$f":"IF(L146<>\"\",CONCATENATE(DIGITADOR!$B$2,$A$2,DIGITADOR!$M$1,A146),\"\")","v":""},null,null,"",{"$f":"IF(K146=\"\",\"\",INDEX('OTRAS REFERENTES'!$AH$6:$AI$658,MATCH(K146,'OTRAS REFERENTES'!$AH$6:$AH$658,0),2))","v":""},null,{"$f":"IF(J146=\"\",\"\",INDEX(REFERENTES!$T:$W,MATCH(J146,REFERENTES!$V:$V,0),3))","v":""},null,null,"",null,{"$f":"IF(P146=\"\",\"\",INDEX(REFERENTES!$J:$K,MATCH(P146,REFERENTES!$K:$K,0),1))","v":""},null,{"$f":"IF(R146=\"\",\"\",INDEX(REFERENTES!$D:$E,MATCH(R146,REFERENTES!$D:$D,0),2))","v":""},null,null,"",{"$f":"IF(X146=\"\",\"\",INDEX('OTRAS REFERENTES'!$H:$I,MATCH(X146,'OTRAS REFERENTES'!$I:$I,0),1))","v":""},null,null,{"$f":"IF(AA146=\"\",\"\",INDEX('OTRAS REFERENTES'!$K:$L,MATCH(AA146,'OTRAS REFERENTES'!$L:$L,0),1))","v":""},null,null,"",{"$f":"IF(SUMPRODUCT(--EXACT(K146&M146,$AD$2:AD145)),\"\",K146&M146)","v":""},{"$f":"IF(SUMPRODUCT(--EXACT(K146&M146,$AD$2:AD145)),\"\",MAX($AE$3:AE145)+1)","v":""}]
[1,"",145,"","",{"$f":"IF(L147<>\"\",CONCATENATE(DIGITADOR!$B$2,$A$2,DIGITADOR!$M$1,A147),\"\")","v":""},null,null,"",{"$f":"IF(K147=\"\",\"\",INDEX('OTRAS REFERENTES'!$AH$6:$AI$658,MATCH(K147,'OTRAS REFERENTES'!$AH$6:$AH$658,0),2))","v":""},null,{"$f":"IF(J147=\"\",\"\",INDEX(REFERENTES!$T:$W,MATCH(J147,REFERENTES!$V:$V,0),3))","v":""},null,null,"",null,{"$f":"IF(P147=\"\",\"\",INDEX(REFERENTES!$J:$K,MATCH(P147,REFERENTES!$K:$K,0),1))","v":""},null,{"$f":"IF(R147=\"\",\"\",INDEX(REFERENTES!$D:$E,MATCH(R147,REFERENTES!$D:$D,0),2))","v":""},null,null,"",{"$f":"IF(X147=\"\",\"\",INDEX('OTRAS REFERENTES'!$H:$I,MATCH(X147,'OTRAS REFERENTES'!$I:$I,0),1))","v":""},null,null,{"$f":"IF(AA147=\"\",\"\",INDEX('OTRAS REFERENTES'!$K:$L,MATCH(AA147,'OTRAS REFERENTES'!$L:$L,0),1))","v":""},null,null,"",{"$f":"IF(SUMPRODUCT(--EXACT(K147&M147,$AD$2:AD146)),\"\",K147&M147)","v":""},{"$f":"IF(SUMPRODUCT(--EXACT(K147&M147,$AD$2:AD146)),\"\",MAX($AE$3:AE146)+1)","v":""}]
[1,"",146,"","",{"$f":"IF(L148<>\"\",CONCATENATE(DIGITADOR!$B$2,$A$2,DIGITADOR!$M$1,A148),\"\")","v":""},null,null,"",{"$f":"IF(K148=\"\",\"\",INDEX('OTRAS REFERENTES'!$AH$6:$AI$658,MATCH(K148,'OTRAS REFERENTES'!$AH$6:$AH$658,0),2))","v":""},null,{"$f":"IF(J148=\"\",\"\",INDEX(REFERENTES!$T:$W,MATCH(J148,REFERENTES!$V:$V,0),3))","v":""},null,null,"",null,{"$f":"IF(P148=\"\",\"\",INDEX(REFERENTES!$J:$K,MATCH(P148,REFERENTES!$K:$K,0),1))","v":""},null,{"$f":"IF(R148=\"\",\"\",INDEX(REFERENTES!$D:$E,MATCH(R148,REFERENTES!$D:$D,0),2))","v":""},null,null,"",{"$f":"IF(X148=\"\",\"\",INDEX('OTRAS REFERENTES'!$H:$I,MATCH(X148,'OTRAS REFERENTES'!$I:$I,0),1))","v":""},null,null,{"$f":"IF(AA148=\"\",\"\",INDEX('OTRAS REFERENTES'!$K:$L,MATCH(AA148,'OTRAS REFERENTES'!$L:$L,0),1))","v":""},null,null,"",{"$f":"IF(SUMPRODUCT(--EXACT(K148&M148,$AD$2:AD147)),\"\",K148&M148)","v":""},{"$f":"IF(SUMPRODUCT(--EXACT(K148&M148,$AD$2:AD147)),\"\",MAX($AE$3:AE147)+1)","v":""}]
[1,"",147,"","",{"$f":"IF(L149<>\"\",CONCATENATE(DIGITADOR!$B$2,$A$2,DIGITADOR!$M$1,A149),\"\")","v":""},null,null,"",{"$f":"IF(K149=\"\",\"\",INDEX('OTRAS REFERENTES'!$AH$6:$AI$658,MATCH(K149,'OTRAS REFERENTES'!$AH$6:$AH$658,0),2))","v":""},null,{"$f":"IF(J149=\"\",\"\",INDEX(REFERENTES!$T:$W,MATCH(J149,REFERENTES!$V:$V,0),3))","v":""},null,null,"",null,{"$f":"IF(P149=\"\",\"\",INDEX(REFERENTES!$J:$K,MATCH(P149,REFERENTES!$K:$K,0),1))","v":""},null,{"$f":"IF(R149=\"\",\"\",INDEX(REFERENTES!$D:$E,MATCH(R149,REFERENTES!$D:$D,0),2))","v":""},null,null,"",{"$f":"IF(X149=\"\",\"\",INDEX('OTRAS REFERENTES'!$H:$I,MATCH(X149,'OTRAS REFERENTES'!$I:$I,0),1))","v":""},null,null,{"$f":"IF(AA149=\"\",\"\",INDEX('OTRAS REFERENTES'!$K:$L,MATCH(AA149,'OTRAS REFERENTES'!$L:$L,0),1))","v":""},null,null,"",{"$f":"IF(SUMPRODUCT(--EXACT(K149&M149,$AD$2:AD148)),\"\",K149&M149)","v":""},{"$f":"IF(SUMPRODUCT(--EXACT(K149&M149,$AD$2:AD148)),\"\",MAX($AE$3:AE148)+1)","v":""}]
[1,"",148,"","",{"$f":"IF(L150<>\"\",CONCATENATE(DIGITADOR!$B$2,$A$2,DIGITADOR!$M$1,A150),\"\")","v":""},null,null,"",{"$f":"IF(K150=\"\",\"\",INDEX('OTRAS REFERENTES'!$AH$6:$AI$658,MATCH(K150,'OTRAS REFERENTES'!$AH$6:$AH$658,0),2))","v":""},null,{"$f":"IF(J150=\"\",\"\",INDEX(REFERENTES!$T:$W,MATCH(J150,REFERENTES!$V:$V,0),3))","v":""},null,null,"",null,{"$f":"IF(P150=\"\",\"\",INDEX(REFERENTES!$J:$K,MATCH(P150,REFERENTES!$K:$K,0),1))","v":""},null,{"$f":"IF(R150=\"\",\"\",INDEX(REFERENTES!$D:$E,MATCH(R150,REFERENTES!$D:$D,0),2))","v":""},null,null,"",{"$f":"IF(X150=\"\",\"\",INDEX('OTRAS REFERENTES'!$H:$I,MATCH(X150,'OTRAS REFERENTES'!$I:$I,0),1))","v":""},null,null,{"$f":"IF(AA150=\"\",\"\",INDEX('OTRAS REFERENTES'!$K:$L,MATCH(AA150,'OTRAS REFERENTES'!$L:$L,0),1))","v":""},null,null,"",{"$f":"IF(SUMPRODUCT(--EXACT(K150&M150,$AD$2:AD149)),\"\",K150&M150)","v":""},{"$f":"IF(SUMPRODUCT(--EXACT(K150&M150,$AD$2:AD149)),\"\",MAX($AE$3:AE149)+1)","v":""}]
[1,"",149,"","",{"$f":"IF(L151<>\"\",CONCATENATE(DIGITADOR!$B$2,$A$2,DIGITADOR!$M$1,A151),\"\")","v":""},null,null,"",{"$f":"IF(K151=\"\",\"\",INDEX('OTRAS REFERENTES'!$AH$6:$AI$658,MATCH(K151,'OTRAS REFERENTES'!$AH$6:$AH$658,0),2))","v":""},null,{"$f":"IF(J151=\"\",\"\",INDEX(REFERENTES!$T:$W,MATCH(J151,REFERENTES!$V:$V,0),3))","v":""},null,null,"",null,{"$f":"IF(P151=\"\",\"\",INDEX(REFERENTES!$J:$K,MATCH(P151,REFERENTES!$K:$K,0),1))","v":""},null,{"$f":"IF(R151=\"\",\"\",INDEX(REFERENTES!$D:$E,MATCH(R151,REFERENTES!$D:$D,0),2))","v":""},null,null,"",{"$f":"IF(X151=\"\",\"\",INDEX('OTRAS REFERENTES'!$H:$I,MATCH(X151,'OTRAS REFERENTES'!$I:$I,0),1))","v":""},null,null,{"$f":"IF(AA151=\"\",\"\",INDEX('OTRAS REFERENTES'!$K:$L,MATCH(AA151,'OTRAS REFERENTES'!$L:$L,0),1))","v":""},null,null,"",{"$f":"IF(SUMPRODUCT(--EXACT(K151&M151,$AD$2:AD150)),\"\",K151&M151)","v":""},{"$f":"IF(SUMPRODUCT(--EXACT(K151&M151,$AD$2:AD150)),\"\",MAX($AE$3:AE150)+1)","v":""}]
[1,"",150,"","",{"$f":"IF(L152<>\"\",CONCATENATE(DIGITADOR!$B$2,$A$2,DIGITADOR!$M$1,A152),\"\")","v":""},null,null,"",{"$f":"IF(K152=\"\",\"\",INDEX('OTRAS REFERENTES'!$AH$6:$AI$658,MATCH(K152,'OTRAS REFERENTES'!$AH$6:$AH$658,0),2))","v":""},null,{"$f":"IF(J152=\"\",\"\",INDEX(REFERENTES!$T:$W,MATCH(J152,REFERENTES!$V:$V,0),3))","v":""},null,null,"",null,{"$f":"IF(P152=\"\",\"\",INDEX(REFERENTES!$J:$K,MATCH(P152,REFERENTES!$K:$K,0),1))","v":""},null,{"$f":"IF(R152=\"\",\"\",INDEX(REFERENTES!$D:$E,MATCH(R152,REFERENTES!$D:$D,0),2))","v":""},null,null,"",{"$f":"IF(X152=\"\",\"\",INDEX('OTRAS REFERENTES'!$H:$I,MATCH(X152,'OTRAS REFERENTES'!$I:$I,0),1))","v":""},null,null,{"$f":"IF(AA152=\"\",\"\",INDEX('OTRAS REFERENTES'!$K:$L,MATCH(AA152,'OTRAS REFERENTES'!$L:$L,0),1))","v":""},null,null,"",{"$f":"IF(SUMPRODUCT(--EXACT(K152&M152,$AD$2:AD151)),\"\",K152&M152)","v":""},{"$f":"IF(SUMPRODUCT(--EXACT(K152&M152,$AD$2:AD151)),\"\",MAX($AE$3:AE151)+1)","v":""}]
[1,"",151,"","",{"$f":"IF(L153<>\"\",CONCATENATE(DIGITADOR!$B$2,$A$2,DIGITADOR!$M$1,A153),\"\")","v":""},null,null,"",{"$f":"IF(K153=\"\",\"\",INDEX('OTRAS REFERENTES'!$AH$6:$AI$658,MATCH(K153,'OTRAS REFERENTES'!$AH$6:$AH$658,0),2))","v":""},null,{"$f":"IF(J153=\"\",\"\",INDEX(REFERENTES!$T:$W,MATCH(J153,REFERENTES!$V:$V,0),3))","v":""},null,null,"",null,{"$f":"IF(P153=\"\",\"\",INDEX(REFERENTES!$J:$K,MATCH(P153,REFERENTES!$K:$K,0),1))","v":""},null,{"$f":"IF(R153=\"\",\"\",INDEX(REFERENTES!$D:$E,MATCH(R153,REFERENTES!$D:$D,0),2))","v":""},null,null,"",{"$f":"IF(X153=\"\",\"\",INDEX('OTRAS REFERENTES'!$H:$I,MATCH(X153,'OTRAS REFERENTES'!$I:$I,0),1))","v":""},null,null,{"$f":"IF(AA153=\"\",\"\",INDEX('OTRAS REFERENTES'!$K:$L,MATCH(AA153,'OTRAS REFERENTES'!$L:$L,0),1))","v":""},null,null,"",{"$f":"IF(SUMPRODUCT(--EXACT(K153&M153,$AD$2:AD152)),\"\",K153&M153)","v":""},{"$f":"IF(SUMPRODUCT(--EXACT(K153&M153,$AD$2:AD152)),\"\",MAX($AE$3:AE152)+1)","v":""}]
[1,"",152,"","",{"$f":"IF(L154<>\"\",CONCATENATE(DIGITADOR!$B$2,$A$2,DIGITADOR!$M$1,A154),\"\")","v":""},null,null,"",{"$f":"IF(K154=\"\",\"\",INDEX('OTRAS REFERENTES'!$AH$6:$AI$658,MATCH(K154,'OTRAS REFERENTES'!$AH$6:$AH$658,0),2))","v":""},null,{"$f":"IF(J154=\"\",\"\",INDEX(REFERENTES!$T:$W,MATCH(J154,REFERENTES!$V:$V,0),3))","v":""},null,null,"",null,{"$f":"IF(P154=\"\",\"\",INDEX(REFERENTES!$J:$K,MATCH(P154,REFERENTES!$K:$K,0),1))","v":""},null,{"$f":"IF(R154=\"\",\"\",INDEX(REFERENTES!$D:$E,MATCH(R154,REFERENTES!$D:$D,0),2))","v":""},null,null,"",{"$f":"IF(X154=\"\",\"\",INDEX('OTRAS REFERENTES'!$H:$I,MATCH(X154,'OTRAS REFERENTES'!$I:$I,0),1))","v":""},null,null,{"$f":"IF(AA154=\"\",\"\",INDEX('OTRAS REFERENTES'!$K:$L,MATCH(AA154,'OTRAS REFERENTES'!$L:$L,0),1))","v":""},null,null,"",{"$f":"IF(SUMPRODUCT(--EXACT(K154&M154,$AD$2:AD153)),\"\",K154&M154)","v":""},{"$f":"IF(SUMPRODUCT(--EXACT(K154&M154,$AD$2:AD153)),\"\",MAX($AE$3:AE153)+1)","v":""}]
[1,"",153,"","",{"$f":"IF(L155<>\"\",CONCATENATE(DIGITADOR!$B$2,$A$2,DIGITADOR!$M$1,A155),\"\")","v":""},null,null,"",{"$f":"IF(K155=\"\",\"\",INDEX('OTRAS REFERENTES'!$AH$6:$AI$658,MATCH(K155,'OTRAS REFERENTES'!$AH$6:$AH$658,0),2))","v":""},null,{"$f":"IF(J155=\"\",\"\",INDEX(REFERENTES!$T:$W,MATCH(J155,REFERENTES!$V:$V,0),3))","v":""},null,null,"",null,{"$f":"IF(P155=\"\",\"\",INDEX(REFERENTES!$J:$K,MATCH(P155,REFERENTES!$K:$K,0),1))","v":""},null,{"$f":"IF(R155=\"\",\"\",INDEX(REFERENTES!$D:$E,MATCH(R155,REFERENTES!$D:$D,0),2))","v":""},null,null,"",{"$f":"IF(X155=\"\",\"\",INDEX('OTRAS REFERENTES'!$H:$I,MATCH(X155,'OTRAS REFERENTES'!$I:$I,0),1))","v":""},null,null,{"$f":"IF(AA155=\"\",\"\",INDEX('OTRAS REFERENTES'!$K:$L,MATCH(AA155,'OTRAS REFERENTES'!$L:$L,0),1))","v":""},null,null,"",{"$f":"IF(SUMPRODUCT(--EXACT(K155&M155,$AD$2:AD154)),\"\",K155&M155)","v":""},{"$f":"IF(SUMPRODUCT(--EXACT(K155&M155,$AD$2:AD154)),\"\",MAX($AE$3:AE154)+1)","v":""}]
[1,"",154,"","",{"$f":"IF(L156<>\"\",CONCATENATE(DIGITADOR!$B$2,$A$2,DIGITADOR!$M$1,A156),\"\")","v":""},null,null,"",{"$f":"IF(K156=\"\",\"\",INDEX('OTRAS REFERENTES'!$AH$6:$AI$658,MATCH(K156,'OTRAS REFERENTES'!$AH$6:$AH$658,0),2))","v":""},null,{"$f":"IF(J156=\"\",\"\",INDEX(REFERENTES!$T:$W,MATCH(J156,REFERENTES!$V:$V,0),3))","v":""},null,null,"",null,{"$f":"IF(P156=\"\",\"\",INDEX(REFERENTES!$J:$K,MATCH(P156,REFERENTES!$K:$K,0),1))","v":""},null,{"$f":"IF(R156=\"\",\"\",INDEX(REFERENTES!$D:$E,MATCH(R156,REFERENTES!$D:$D,0),2))","v":""},null,null,"",{"$f":"IF(X156=\"\",\"\",INDEX('OTRAS REFERENTES'!$H:$I,MATCH(X156,'OTRAS REFERENTES'!$I:$I,0),1))","v":""},null,null,{"$f":"IF(AA156=\"\",\"\",INDEX('OTRAS REFERENTES'!$K:$L,MATCH(AA156,'OTRAS REFERENTES'!$L:$L,0),1))","v":""},null,null,"",{"$f":"IF(SUMPRODUCT(--EXACT(K156&M156,$AD$2:AD155)),\"\",K156&M156)","v":""},{"$f":"IF(SUMPRODUCT(--EXACT(K156&M156,$AD$2:AD155)),\"\",MAX($AE$3:AE155)+1)","v":""}]
[1,"",155,"","",{"$f":"IF(L157<>\"\",CONCATENATE(DIGITADOR!$B$2,$A$2,DIGITADOR!$M$1,A157),\"\")","v":""},null,null,"",{"$f":"IF(K157=\"\",\"\",INDEX('OTRAS REFERENTES'!$AH$6:$AI$658,MATCH(K157,'OTRAS REFERENTES'!$AH$6:$AH$658,0),2))","v":""},null,{"$f":"IF(J157=\"\",\"\",INDEX(REFERENTES!$T:$W,MATCH(J157,REFERENTES!$V:$V,0),3))","v":""},null,null,"",null,{"$f":"IF(P157=\"\",\"\",INDEX(REFERENTES!$J:$K,MATCH(P157,REFERENTES!$K:$K,0),1))","v":""},null,{"$f":"IF(R157=\"\",\"\",INDEX(REFERENTES!$D:$E,MATCH(R157,REFERENTES!$D:$D,0),2))","v":""},null,null,"",{"$f":"IF(X157=\"\",\"\",INDEX('OTRAS REFERENTES'!$H:$I,MATCH(X157,'OTRAS REFERENTES'!$I:$I,0),1))","v":""},null,null,{"$f":"IF(AA157=\"\",\"\",INDEX('OTRAS REFERENTES'!$K:$L,MATCH(AA157,'OTRAS REFERENTES'!$L:$L,0),1))","v":""},null,null,"",{"$f":"IF(SUMPRODUCT(--EXACT(K157&M157,$AD$2:AD156)),\"\",K157&M157)","v":""},{"$f":"IF(SUMPRODUCT(--EXACT(K157&M157,$AD$2:AD156)),\"\",MAX($AE$3:AE156)+1)","v":""}]
[1,"",156,"","",{"$f":"IF(L158<>\"\",CONCATENATE(DIGITADOR!$B$2,$A$2,DIGITADOR!$M$1,A158),\"\")","v":""},null,null,"",{"$f":"IF(K158=\"\",\"\",INDEX('OTRAS REFERENTES'!$AH$6:$AI$658,MATCH(K158,'OTRAS REFERENTES'!$AH$6:$AH$658,0),2))","v":""},null,{"$f":"IF(J158=\"\",\"\",INDEX(REFERENTES!$T:$W,MATCH(J158,REFERENTES!$V:$V,0),3))","v":""},null,null,"",null,{"$f":"IF(P158=\"\",\"\",INDEX(REFERENTES!$J:$K,MATCH(P158,REFERENTES!$K:$K,0),1))","v":""},null,{"$f":"IF(R158=\"\",\"\",INDEX(REFERENTES!$D:$E,MATCH(R158,REFERENTES!$D:$D,0),2))","v":""},null,null,"",{"$f":"IF(X158=\"\",\"\",INDEX('OTRAS REFERENTES'!$H:$I,MATCH(X158,'OTRAS REFERENTES'!$I:$I,0),1))","v":""},null,null,{"$f":"IF(AA158=\"\",\"\",INDEX('OTRAS REFERENTES'!$K:$L,MATCH(AA158,'OTRAS REFERENTES'!$L:$L,0),1))","v":""},null,null,"",{"$f":"IF(SUMPRODUCT(--EXACT(K158&M158,$AD$2:AD157)),\"\",K158&M158)","v":""},{"$f":"IF(SUMPRODUCT(--EXACT(K158&M158,$AD$2:AD157)),\"\",MAX($AE$3:AE157)+1)","v":""}]
[1,"",157,"","",{"$f":"IF(L159<>\"\",CONCATENATE(DIGITADOR!$B$2,$A$2,DIGITADOR!$M$1,A159),\"\")","v":""},null,null,"",{"$f":"IF(K159=\"\",\"\",INDEX('OTRAS REFERENTES'!$AH$6:$AI$658,MATCH(K159,'OTRAS REFERENTES'!$AH$6:$AH$658,0),2))","v":""},null,{"$f":"IF(J159=\"\",\"\",INDEX(REFERENTES!$T:$W,MATCH(J159,REFERENTES!$V:$V,0),3))","v":""},null,null,"",null,{"$f":"IF(P159=\"\",\"\",INDEX(REFERENTES!$J:$K,MATCH(P159,REFERENTES!$K:$K,0),1))","v":""},null,{"$f":"IF(R159=\"\",\"\",INDEX(REFERENTES!$D:$E,MATCH(R159,REFERENTES!$D:$D,0),2))","v":""},null,null,"",{"$f":"IF(X159=\"\",\"\",INDEX('OTRAS REFERENTES'!$H:$I,MATCH(X159,'OTRAS REFERENTES'!$I:$I,0),1))","v":""},null,null,{"$f":"IF(AA159=\"\",\"\",INDEX('OTRAS REFERENTES'!$K:$L,MATCH(AA159,'OTRAS REFERENTES'!$L:$L,0),1))","v":""},null,null,"",{"$f":"IF(SUMPRODUCT(--EXACT(K159&M159,$AD$2:AD158)),\"\",K159&M159)","v":""},{"$f":"IF(SUMPRODUCT(--EXACT(K159&M159,$AD$2:AD158)),\"\",MAX($AE$3:AE158)+1)","v":""}]
[1,"",158,"","",{"$f":"IF(L160<>\"\",CONCATENATE(DIGITADOR!$B$2,$A$2,DIGITADOR!$M$1,A160),\"\")","v":""},null,null,"",{"$f":"IF(K160=\"\",\"\",INDEX('OTRAS REFERENTES'!$AH$6:$AI$658,MATCH(K160,'OTRAS REFERENTES'!$AH$6:$AH$658,0),2))","v":""},null,{"$f":"IF(J160=\"\",\"\",INDEX(REFERENTES!$T:$W,MATCH(J160,REFERENTES!$V:$V,0),3))","v":""},null,null,"",null,{"$f":"IF(P160=\"\",\"\",INDEX(REFERENTES!$J:$K,MATCH(P160,REFERENTES!$K:$K,0),1))","v":""},null,{"$f":"IF(R160=\"\",\"\",INDEX(REFERENTES!$D:$E,MATCH(R160,REFERENTES!$D:$D,0),2))","v":""},null,null,"",{"$f":"IF(X160=\"\",\"\",INDEX('OTRAS REFERENTES'!$H:$I,MATCH(X160,'OTRAS REFERENTES'!$I:$I,0),1))","v":""},null,null,{"$f":"IF(AA160=\"\",\"\",INDEX('OTRAS REFERENTES'!$K:$L,MATCH(AA160,'OTRAS REFERENTES'!$L:$L,0),1))","v":""},null,null,"",{"$f":"IF(SUMPRODUCT(--EXACT(K160&M160,$AD$2:AD159)),\"\",K160&M160)","v":""},{"$f":"IF(SUMPRODUCT(--EXACT(K160&M160,$AD$2:AD159)),\"\",MAX($AE$3:AE159)+1)","v":""}]
[1,"",159,"","",{"$f":"IF(L161<>\"\",CONCATENATE(DIGITADOR!$B$2,$A$2,DIGITADOR!$M$1,A161),\"\")","v":""},null,null,"",{"$f":"IF(K161=\"\",\"\",INDEX('OTRAS REFERENTES'!$AH$6:$AI$658,MATCH(K161,'OTRAS REFERENTES'!$AH$6:$AH$658,0),2))","v":""},null,{"$f":"IF(J161=\"\",\"\",INDEX(REFERENTES!$T:$W,MATCH(J161,REFERENTES!$V:$V,0),3))","v":""},null,null,"",null,{"$f":"IF(P161=\"\",\"\",INDEX(REFERENTES!$J:$K,MATCH(P161,REFERENTES!$K:$K,0),1))","v":""},null,{"$f":"IF(R161=\"\",\"\",INDEX(REFERENTES!$D:$E,MATCH(R161,REFERENTES!$D:$D,0),2))","v":""},null,null,"",{"$f":"IF(X161=\"\",\"\",INDEX('OTRAS REFERENTES'!$H:$I,MATCH(X161,'OTRAS REFERENTES'!$I:$I,0),1))","v":""},null,null,{"$f":"IF(AA161=\"\",\"\",INDEX('OTRAS REFERENTES'!$K:$L,MATCH(AA161,'OTRAS REFERENTES'!$L:$L,0),1))","v":""},null,null,"",{"$f":"IF(SUMPRODUCT(--EXACT(K161&M161,$AD$2:AD160)),\"\",K161&M161)","v":""},{"$f":"IF(SUMPRODUCT(--EXACT(K161&M161,$AD$2:AD160)),\"\",MAX($AE$3:AE160)+1)","v":""}]
[1,"",160,"","",{"$f":"IF(L162<>\"\",CONCATENATE(DIGITADOR!$B$2,$A$2,DIGITADOR!$M$1,A162),\"\")","v":""},null,null,"",{"$f":"IF(K162=\"\",\"\",INDEX('OTRAS REFERENTES'!$AH$6:$AI$658,MATCH(K162,'OTRAS REFERENTES'!$AH$6:$AH$658,0),2))","v":""},null,{"$f":"IF(J162=\"\",\"\",INDEX(REFERENTES!$T:$W,MATCH(J162,REFERENTES!$V:$V,0),3))","v":""},null,null,"",null,{"$f":"IF(P162=\"\",\"\",INDEX(REFERENTES!$J:$K,MATCH(P162,REFERENTES!$K:$K,0),1))","v":""},null,{"$f":"IF(R162=\"\",\"\",INDEX(REFERENTES!$D:$E,MATCH(R162,REFERENTES!$D:$D,0),2))","v":""},null,null,"",{"$f":"IF(X162=\"\",\"\",INDEX('OTRAS REFERENTES'!$H:$I,MATCH(X162,'OTRAS REFERENTES'!$I:$I,0),1))","v":""},null,null,{"$f":"IF(AA162=\"\",\"\",INDEX('OTRAS REFERENTES'!$K:$L,MATCH(AA162,'OTRAS REFERENTES'!$L:$L,0),1))","v":""},null,null,"",{"$f":"IF(SUMPRODUCT(--EXACT(K162&M162,$AD$2:AD161)),\"\",K162&M162)","v":""},{"$f":"IF(SUMPRODUCT(--EXACT(K162&M162,$AD$2:AD161)),\"\",MAX($AE$3:AE161)+1)","v":""}]
[1,"",161,"","",{"$f":"IF(L163<>\"\",CONCATENATE(DIGITADOR!$B$2,$A$2,DIGITADOR!$M$1,A163),\"\")","v":""},null,null,"",{"$f":"IF(K163=\"\",\"\",INDEX('OTRAS REFERENTES'!$AH$6:$AI$658,MATCH(K163,'OTRAS REFERENTES'!$AH$6:$AH$658,0),2))","v":""},null,{"$f":"IF(J163=\"\",\"\",INDEX(REFERENTES!$T:$W,MATCH(J163,REFERENTES!$V:$V,0),3))","v":""},null,null,"",null,{"$f":"IF(P163=\"\",\"\",INDEX(REFERENTES!$J:$K,MATCH(P163,REFERENTES!$K:$K,0),1))","v":""},null,{"$f":"IF(R163=\"\",\"\",INDEX(REFERENTES!$D:$E,MATCH(R163,REFERENTES!$D:$D,0),2))","v":""},null,null,"",{"$f":"IF(X163=\"\",\"\",INDEX('OTRAS REFERENTES'!$H:$I,MATCH(X163,'OTRAS REFERENTES'!$I:$I,0),1))","v":""},null,null,{"$f":"IF(AA163=\"\",\"\",INDEX('OTRAS REFERENTES'!$K:$L,MATCH(AA163,'OTRAS REFERENTES'!$L:$L,0),1))","v":""},null,null,"",{"$f":"IF(SUMPRODUCT(--EXACT(K163&M163,$AD$2:AD162)),\"\",K163&M163)","v":""},{"$f":"IF(SUMPRODUCT(--EXACT(K163&M163,$AD$2:AD162)),\"\",MAX($AE$3:AE162)+1)","v":""}]
[1,"",162,"","",{"$f":"IF(L164<>\"\",CONCATENATE(DIGITADOR!$B$2,$A$2,DIGITADOR!$M$1,A164),\"\")","v":""},null,null,"",{"$f":"IF(K164=\"\",\"\",INDEX('OTRAS REFERENTES'!$AH$6:$AI$658,MATCH(K164,'OTRAS REFERENTES'!$AH$6:$AH$658,0),2))","v":""},null,{"$f":"IF(J164=\"\",\"\",INDEX(REFERENTES!$T:$W,MATCH(J164,REFERENTES!$V:$V,0),3))","v":""},null,null,"",null,{"$f":"IF(P164=\"\",\"\",INDEX(REFERENTES!$J:$K,MATCH(P164,REFERENTES!$K:$K,0),1))","v":""},null,{"$f":"IF(R164=\"\",\"\",INDEX(REFERENTES!$D:$E,MATCH(R164,REFERENTES!$D:$D,0),2))","v":""},null,null,"",{"$f":"IF(X164=\"\",\"\",INDEX('OTRAS REFERENTES'!$H:$I,MATCH(X164,'OTRAS REFERENTES'!$I:$I,0),1))","v":""},null,null,{"$f":"IF(AA164=\"\",\"\",INDEX('OTRAS REFERENTES'!$K:$L,MATCH(AA164,'OTRAS REFERENTES'!$L:$L,0),1))","v":""},null,null,"",{"$f":"IF(SUMPRODUCT(--EXACT(K164&M164,$AD$2:AD163)),\"\",K164&M164)","v":""},{"$f":"IF(SUMPRODUCT(--EXACT(K164&M164,$AD$2:AD163)),\"\",MAX($AE$3:AE163)+1)","v":""}]
[1,"",163,"","",{"$f":"IF(L165<>\"\",CONCATENATE(DIGITADOR!$B$2,$A$2,DIGITADOR!$M$1,A165),\"\")","v":""},null,null,"",{"$f":"IF(K165=\"\",\"\",INDEX('OTRAS REFERENTES'!$AH$6:$AI$658,MATCH(K165,'OTRAS REFERENTES'!$AH$6:$AH$658,0),2))","v":""},null,{"$f":"IF(J165=\"\",\"\",INDEX(REFERENTES!$T:$W,MATCH(J165,REFERENTES!$V:$V,0),3))","v":""},null,null,"",null,{"$f":"IF(P165=\"\",\"\",INDEX(REFERENTES!$J:$K,MATCH(P165,REFERENTES!$K:$K,0),1))","v":""},null,{"$f":"IF(R165=\"\",\"\",INDEX(REFERENTES!$D:$E,MATCH(R165,REFERENTES!$D:$D,0),2))","v":""},null,null,"",{"$f":"IF(X165=\"\",\"\",INDEX('OTRAS REFERENTES'!$H:$I,MATCH(X165,'OTRAS REFERENTES'!$I:$I,0),1))","v":""},null,null,{"$f":"IF(AA165=\"\",\"\",INDEX('OTRAS REFERENTES'!$K:$L,MATCH(AA165,'OTRAS REFERENTES'!$L:$L,0),1))","v":""},null,null,"",{"$f":"IF(SUMPRODUCT(--EXACT(K165&M165,$AD$2:AD164)),\"\",K165&M165)","v":""},{"$f":"IF(SUMPRODUCT(--EXACT(K165&M165,$AD$2:AD164)),\"\",MAX($AE$3:AE164)+1)","v":""}]
[1,"",164,"","",{"$f":"IF(L166<>\"\",CONCATENATE(DIGITADOR!$B$2,$A$2,DIGITADOR!$M$1,A166),\"\")","v":""},null,null,"",{"$f":"IF(K166=\"\",\"\",INDEX('OTRAS REFERENTES'!$AH$6:$AI$658,MATCH(K166,'OTRAS REFERENTES'!$AH$6:$AH$658,0),2))","v":""},null,{"$f":"IF(J166=\"\",\"\",INDEX(REFERENTES!$T:$W,MATCH(J166,REFERENTES!$V:$V,0),3))","v":""},null,null,"",null,{"$f":"IF(P166=\"\",\"\",INDEX(REFERENTES!$J:$K,MATCH(P166,REFERENTES!$K:$K,0),1))","v":""},null,{"$f":"IF(R166=\"\",\"\",INDEX(REFERENTES!$D:$E,MATCH(R166,REFERENTES!$D:$D,0),2))","v":""},null,null,"",{"$f":"IF(X166=\"\",\"\",INDEX('OTRAS REFERENTES'!$H:$I,MATCH(X166,'OTRAS REFERENTES'!$I:$I,0),1))","v":""},null,null,{"$f":"IF(AA166=\"\",\"\",INDEX('OTRAS REFERENTES'!$K:$L,MATCH(AA166,'OTRAS REFERENTES'!$L:$L,0),1))","v":""},null,null,"",{"$f":"IF(SUMPRODUCT(--EXACT(K166&M166,$AD$2:AD165)),\"\",K166&M166)","v":""},{"$f":"IF(SUMPRODUCT(--EXACT(K166&M166,$AD$2:AD165)),\"\",MAX($AE$3:AE165)+1)","v":""}]
[1,"",165,"","",{"$f":"IF(L167<>\"\",CONCATENATE(DIGITADOR!$B$2,$A$2,DIGITADOR!$M$1,A167),\"\")","v":""},null,null,"",{"$f":"IF(K167=\"\",\"\",INDEX('OTRAS REFERENTES'!$AH$6:$AI$658,MATCH(K167,'OTRAS REFERENTES'!$AH$6:$AH$658,0),2))","v":""},null,{"$f":"IF(J167=\"\",\"\",INDEX(REFERENTES!$T:$W,MATCH(J167,REFERENTES!$V:$V,0),3))","v":""},null,null,"",null,{"$f":"IF(P167=\"\",\"\",INDEX(REFERENTES!$J:$K,MATCH(P167,REFERENTES!$K:$K,0),1))","v":""},null,{"$f":"IF(R167=\"\",\"\",INDEX(REFERENTES!$D:$E,MATCH(R167,REFERENTES!$D:$D,0),2))","v":""},null,null,"",{"$f":"IF(X167=\"\",\"\",INDEX('OTRAS REFERENTES'!$H:$I,MATCH(X167,'OTRAS REFERENTES'!$I:$I,0),1))","v":""},null,null,{"$f":"IF(AA167=\"\",\"\",INDEX('OTRAS REFERENTES'!$K:$L,MATCH(AA167,'OTRAS REFERENTES'!$L:$L,0),1))","v":""},null,null,"",{"$f":"IF(SUMPRODUCT(--EXACT(K167&M167,$AD$2:AD166)),\"\",K167&M167)","v":""},{"$f":"IF(SUMPRODUCT(--EXACT(K167&M167,$AD$2:AD166)),\"\",MAX($AE$3:AE166)+1)","v":""}]
[1,"",166,"","",{"$f":"IF(L168<>\"\",CONCATENATE(DIGITADOR!$B$2,$A$2,DIGITADOR!$M$1,A168),\"\")","v":""},null,null,"",{"$f":"IF(K168=\"\",\"\",INDEX('OTRAS REFERENTES'!$AH$6:$AI$658,MATCH(K168,'OTRAS REFERENTES'!$AH$6:$AH$658,0),2))","v":""},null,{"$f":"IF(J168=\"\",\"\",INDEX(REFERENTES!$T:$W,MATCH(J168,REFERENTES!$V:$V,0),3))","v":""},null,null,"",null,{"$f":"IF(P168=\"\",\"\",INDEX(REFERENTES!$J:$K,MATCH(P168,REFERENTES!$K:$K,0),1))","v":""},null,{"$f":"IF(R168=\"\",\"\",INDEX(REFERENTES!$D:$E,MATCH(R168,REFERENTES!$D:$D,0),2))","v":""},null,null,"",{"$f":"IF(X168=\"\",\"\",INDEX('OTRAS REFERENTES'!$H:$I,MATCH(X168,'OTRAS REFERENTES'!$I:$I,0),1))","v":""},null,null,{"$f":"IF(AA168=\"\",\"\",INDEX('OTRAS REFERENTES'!$K:$L,MATCH(AA168,'OTRAS REFERENTES'!$L:$L,0),1))","v":""},null,null,"",{"$f":"IF(SUMPRODUCT(--EXACT(K168&M168,$AD$2:AD167)),\"\",K168&M168)","v":""},{"$f":"IF(SUMPRODUCT(--EXACT(K168&M168,$AD$2:AD167)),\"\",MAX($AE$3:AE167)+1)","v":""}]
[1,"",167,"","",{"$f":"IF(L169<>\"\",CONCATENATE(DIGITADOR!$B$2,$A$2,DIGITADOR!$M$1,A169),\"\")","v":""},null,null,"",{"$f":"IF(K169=\"\",\"\",INDEX('OTRAS REFERENTES'!$AH$6:$AI$658,MATCH(K169,'OTRAS REFERENTES'!$AH$6:$AH$658,0),2))","v":""},null,{"$f":"IF(J169=\"\",\"\",INDEX(REFERENTES!$T:$W,MATCH(J169,REFERENTES!$V:$V,0),3))","v":""},null,null,"",null,{"$f":"IF(P169=\"\",\"\",INDEX(REFERENTES!$J:$K,MATCH(P169,REFERENTES!$K:$K,0),1))","v":""},null,{"$f":"IF(R169=\"\",\"\",INDEX(REFERENTES!$D:$E,MATCH(R169,REFERENTES!$D:$D,0),2))","v":""},null,null,"",{"$f":"IF(X169=\"\",\"\",INDEX('OTRAS REFERENTES'!$H:$I,MATCH(X169,'OTRAS REFERENTES'!$I:$I,0),1))","v":""},null,null,{"$f":"IF(AA169=\"\",\"\",INDEX('OTRAS REFERENTES'!$K:$L,MATCH(AA169,'OTRAS REFERENTES'!$L:$L,0),1))","v":""},null,null,"",{"$f":"IF(SUMPRODUCT(--EXACT(K169&M169,$AD$2:AD168)),\"\",K169&M169)","v":""},{"$f":"IF(SUMPRODUCT(--EXACT(K169&M169,$AD$2:AD168)),\"\",MAX($AE$3:AE168)+1)","v":""}]
[1,"",168,"","",{"$f":"IF(L170<>\"\",CONCATENATE(DIGITADOR!$B$2,$A$2,DIGITADOR!$M$1,A170),\"\")","v":""},null,null,"",{"$f":"IF(K170=\"\",\"\",INDEX('OTRAS REFERENTES'!$AH$6:$AI$658,MATCH(K170,'OTRAS REFERENTES'!$AH$6:$AH$658,0),2))","v":""},null,{"$f":"IF(J170=\"\",\"\",INDEX(REFERENTES!$T:$W,MATCH(J170,REFERENTES!$V:$V,0),3))","v":""},null,null,"",null,{"$f":"IF(P170=\"\",\"\",INDEX(REFERENTES!$J:$K,MATCH(P170,REFERENTES!$K:$K,0),1))","v":""},null,{"$f":"IF(R170=\"\",\"\",INDEX(REFERENTES!$D:$E,MATCH(R170,REFERENTES!$D:$D,0),2))","v":""},null,null,"",{"$f":"IF(X170=\"\",\"\",INDEX('OTRAS REFERENTES'!$H:$I,MATCH(X170,'OTRAS REFERENTES'!$I:$I,0),1))","v":""},null,null,{"$f":"IF(AA170=\"\",\"\",INDEX('OTRAS REFERENTES'!$K:$L,MATCH(AA170,'OTRAS REFERENTES'!$L:$L,0),1))","v":""},null,null,"",{"$f":"IF(SUMPRODUCT(--EXACT(K170&M170,$AD$2:AD169)),\"\",K170&M170)","v":""},{"$f":"IF(SUMPRODUCT(--EXACT(K170&M170,$AD$2:AD169)),\"\",MAX($AE$3:AE169)+1)","v":""}]
[1,"",169,"","",{"$f":"IF(L171<>\"\",CONCATENATE(DIGITADOR!$B$2,$A$2,DIGITADOR!$M$1,A171),\"\")","v":""},null,null,"",{"$f":"IF(K171=\"\",\"\",INDEX('OTRAS REFERENTES'!$AH$6:$AI$658,MATCH(K171,'OTRAS REFERENTES'!$AH$6:$AH$658,0),2))","v":""},null,{"$f":"IF(J171=\"\",\"\",INDEX(REFERENTES!$T:$W,MATCH(J171,REFERENTES!$V:$V,0),3))","v":""},null,null,"",null,{"$f":"IF(P171=\"\",\"\",INDEX(REFERENTES!$J:$K,MATCH(P171,REFERENTES!$K:$K,0),1))","v":""},null,{"$f":"IF(R171=\"\",\"\",INDEX(REFERENTES!$D:$E,MATCH(R171,REFERENTES!$D:$D,0),2))","v":""},null,null,"",{"$f":"IF(X171=\"\",\"\",INDEX('OTRAS REFERENTES'!$H:$I,MATCH(X171,'OTRAS REFERENTES'!$I:$I,0),1))","v":""},null,null,{"$f":"IF(AA171=\"\",\"\",INDEX('OTRAS REFERENTES'!$K:$L,MATCH(AA171,'OTRAS REFERENTES'!$L:$L,0),1))","v":""},null,null,"",{"$f":"IF(SUMPRODUCT(--EXACT(K171&M171,$AD$2:AD170)),\"\",K171&M171)","v":""},{"$f":"IF(SUMPRODUCT(--EXACT(K171&M171,$AD$2:AD170)),\"\",MAX($AE$3:AE170)+1)","v":""}]
[1,"",170,"","",{"$f":"IF(L172<>\"\",CONCATENATE(DIGITADOR!$B$2,$A$2,DIGITADOR!$M$1,A172),\"\")","v":""},null,null,"",{"$f":"IF(K172=\"\",\"\",INDEX('OTRAS REFERENTES'!$AH$6:$AI$658,MATCH(K172,'OTRAS REFERENTES'!$AH$6:$AH$658,0),2))","v":""},null,{"$f":"IF(J172=\"\",\"\",INDEX(REFERENTES!$T:$W,MATCH(J172,REFERENTES!$V:$V,0),3))","v":""},null,null,"",null,{"$f":"IF(P172=\"\",\"\",INDEX(REFERENTES!$J:$K,MATCH(P172,REFERENTES!$K:$K,0),1))","v":""},null,{"$f":"IF(R172=\"\",\"\",INDEX(REFERENTES!$D:$E,MATCH(R172,REFERENTES!$D:$D,0),2))","v":""},null,null,"",{"$f":"IF(X172=\"\",\"\",INDEX('OTRAS REFERENTES'!$H:$I,MATCH(X172,'OTRAS REFERENTES'!$I:$I,0),1))","v":""},null,null,{"$f":"IF(AA172=\"\",\"\",INDEX('OTRAS REFERENTES'!$K:$L,MATCH(AA172,'OTRAS REFERENTES'!$L:$L,0),1))","v":""},null,null,"",{"$f":"IF(SUMPRODUCT(--EXACT(K172&M172,$AD$2:AD171)),\"\",K172&M172)","v":""},{"$f":"IF(SUMPRODUCT(--EXACT(K172&M172,$AD$2:AD171)),\"\",MAX($AE$3:AE171)+1)","v":""}]
[1,"",171,"","",{"$f":"IF(L173<>\"\",CONCATENATE(DIGITADOR!$B$2,$A$2,DIGITADOR!$M$1,A173),\"\")","v":""},null,null,"",{"$f":"IF(K173=\"\",\"\",INDEX('OTRAS REFERENTES'!$AH$6:$AI$658,MATCH(K173,'OTRAS REFERENTES'!$AH$6:$AH$658,0),2))","v":""},null,{"$f":"IF(J173=\"\",\"\",INDEX(REFERENTES!$T:$W,MATCH(J173,REFERENTES!$V:$V,0),3))","v":""},null,null,"",null,{"$f":"IF(P173=\"\",\"\",INDEX(REFERENTES!$J:$K,MATCH(P173,REFERENTES!$K:$K,0),1))","v":""},null,{"$f":"IF(R173=\"\",\"\",INDEX(REFERENTES!$D:$E,MATCH(R173,REFERENTES!$D:$D,0),2))","v":""},null,null,"",{"$f":"IF(X173=\"\",\"\",INDEX('OTRAS REFERENTES'!$H:$I,MATCH(X173,'OTRAS REFERENTES'!$I:$I,0),1))","v":""},null,null,{"$f":"IF(AA173=\"\",\"\",INDEX('OTRAS REFERENTES'!$K:$L,MATCH(AA173,'OTRAS REFERENTES'!$L:$L,0),1))","v":""},null,null,"",{"$f":"IF(SUMPRODUCT(--EXACT(K173&M173,$AD$2:AD172)),\"\",K173&M173)","v":""},{"$f":"IF(SUMPRODUCT(--EXACT(K173&M173,$AD$2:AD172)),\"\",MAX($AE$3:AE172)+1)","v":""}]
[1,"",172,"","",{"$f":"IF(L174<>\"\",CONCATENATE(DIGITADOR!$B$2,$A$2,DIGITADOR!$M$1,A174),\"\")","v":""},null,null,"",{"$f":"IF(K174=\"\",\"\",INDEX('OTRAS REFERENTES'!$AH$6:$AI$658,MATCH(K174,'OTRAS REFERENTES'!$AH$6:$AH$658,0),2))","v":""},null,{"$f":"IF(J174=\"\",\"\",INDEX(REFERENTES!$T:$W,MATCH(J174,REFERENTES!$V:$V,0),3))","v":""},null,null,"",null,{"$f":"IF(P174=\"\",\"\",INDEX(REFERENTES!$J:$K,MATCH(P174,REFERENTES!$K:$K,0),1))","v":""},null,{"$f":"IF(R174=\"\",\"\",INDEX(REFERENTES!$D:$E,MATCH(R174,REFERENTES!$D:$D,0),2))","v":""},null,null,"",{"$f":"IF(X174=\"\",\"\",INDEX('OTRAS REFERENTES'!$H:$I,MATCH(X174,'OTRAS REFERENTES'!$I:$I,0),1))","v":""},null,null,{"$f":"IF(AA174=\"\",\"\",INDEX('OTRAS REFERENTES'!$K:$L,MATCH(AA174,'OTRAS REFERENTES'!$L:$L,0),1))","v":""},null,null,"",{"$f":"IF(SUMPRODUCT(--EXACT(K174&M174,$AD$2:AD173)),\"\",K174&M174)","v":""},{"$f":"IF(SUMPRODUCT(--EXACT(K174&M174,$AD$2:AD173)),\"\",MAX($AE$3:AE173)+1)","v":""}]
[1,"",173,"","",{"$f":"IF(L175<>\"\",CONCATENATE(DIGITADOR!$B$2,$A$2,DIGITADOR!$M$1,A175),\"\")","v":""},null,null,"",{"$f":"IF(K175=\"\",\"\",INDEX('OTRAS REFERENTES'!$AH$6:$AI$658,MATCH(K175,'OTRAS REFERENTES'!$AH$6:$AH$658,0),2))","v":""},null,{"$f":"IF(J175=\"\",\"\",INDEX(REFERENTES!$T:$W,MATCH(J175,REFERENTES!$V:$V,0),3))","v":""},null,null,"",null,{"$f":"IF(P175=\"\",\"\",INDEX(REFERENTES!$J:$K,MATCH(P175,REFERENTES!$K:$K,0),1))","v":""},null,{"$f":"IF(R175=\"\",\"\",INDEX(REFERENTES!$D:$E,MATCH(R175,REFERENTES!$D:$D,0),2))","v":""},null,null,"",{"$f":"IF(X175=\"\",\"\",INDEX('OTRAS REFERENTES'!$H:$I,MATCH(X175,'OTRAS REFERENTES'!$I:$I,0),1))","v":""},null,null,{"$f":"IF(AA175=\"\",\"\",INDEX('OTRAS REFERENTES'!$K:$L,MATCH(AA175,'OTRAS REFERENTES'!$L:$L,0),1))","v":""},null,null,"",{"$f":"IF(SUMPRODUCT(--EXACT(K175&M175,$AD$2:AD174)),\"\",K175&M175)","v":""},{"$f":"IF(SUMPRODUCT(--EXACT(K175&M175,$AD$2:AD174)),\"\",MAX($AE$3:AE174)+1)","v":""}]
[1,"",174,"","",{"$f":"IF(L176<>\"\",CONCATENATE(DIGITADOR!$B$2,$A$2,DIGITADOR!$M$1,A176),\"\")","v":""},null,null,"",{"$f":"IF(K176=\"\",\"\",INDEX('OTRAS REFERENTES'!$AH$6:$AI$658,MATCH(K176,'OTRAS REFERENTES'!$AH$6:$AH$658,0),2))","v":""},null,{"$f":"IF(J176=\"\",\"\",INDEX(REFERENTES!$T:$W,MATCH(J176,REFERENTES!$V:$V,0),3))","v":""},null,null,"",null,{"$f":"IF(P176=\"\",\"\",INDEX(REFERENTES!$J:$K,MATCH(P176,REFERENTES!$K:$K,0),1))","v":""},null,{"$f":"IF(R176=\"\",\"\",INDEX(REFERENTES!$D:$E,MATCH(R176,REFERENTES!$D:$D,0),2))","v":""},null,null,"",{"$f":"IF(X176=\"\",\"\",INDEX('OTRAS REFERENTES'!$H:$I,MATCH(X176,'OTRAS REFERENTES'!$I:$I,0),1))","v":""},null,null,{"$f":"IF(AA176=\"\",\"\",INDEX('OTRAS REFERENTES'!$K:$L,MATCH(AA176,'OTRAS REFERENTES'!$L:$L,0),1))","v":""},null,null,"",{"$f":"IF(SUMPRODUCT(--EXACT(K176&M176,$AD$2:AD175)),\"\",K176&M176)","v":""},{"$f":"IF(SUMPRODUCT(--EXACT(K176&M176,$AD$2:AD175)),\"\",MAX($AE$3:AE175)+1)","v":""}]
[1,"",175,"","",{"$f":"IF(L177<>\"\",CONCATENATE(DIGITADOR!$B$2,$A$2,DIGITADOR!$M$1,A177),\"\")","v":""},null,null,"",{"$f":"IF(K177=\"\",\"\",INDEX('OTRAS REFERENTES'!$AH$6:$AI$658,MATCH(K177,'OTRAS REFERENTES'!$AH$6:$AH$658,0),2))","v":""},null,{"$f":"IF(J177=\"\",\"\",INDEX(REFERENTES!$T:$W,MATCH(J177,REFERENTES!$V:$V,0),3))","v":""},null,null,"",null,{"$f":"IF(P177=\"\",\"\",INDEX(REFERENTES!$J:$K,MATCH(P177,REFERENTES!$K:$K,0),1))","v":""},null,{"$f":"IF(R177=\"\",\"\",INDEX(REFERENTES!$D:$E,MATCH(R177,REFERENTES!$D:$D,0),2))","v":""},null,null,"",{"$f":"IF(X177=\"\",\"\",INDEX('OTRAS REFERENTES'!$H:$I,MATCH(X177,'OTRAS REFERENTES'!$I:$I,0),1))","v":""},null,null,{"$f":"IF(AA177=\"\",\"\",INDEX('OTRAS REFERENTES'!$K:$L,MATCH(AA177,'OTRAS REFERENTES'!$L:$L,0),1))","v":""},null,null,"",{"$f":"IF(SUMPRODUCT(--EXACT(K177&M177,$AD$2:AD176)),\"\",K177&M177)","v":""},{"$f":"IF(SUMPRODUCT(--EXACT(K177&M177,$AD$2:AD176)),\"\",MAX($AE$3:AE176)+1)","v":""}]
[1,"",176,"","",{"$f":"IF(L178<>\"\",CONCATENATE(DIGITADOR!$B$2,$A$2,DIGITADOR!$M$1,A178),\"\")","v":""},null,null,"",{"$f":"IF(K178=\"\",\"\",INDEX('OTRAS REFERENTES'!$AH$6:$AI$658,MATCH(K178,'OTRAS REFERENTES'!$AH$6:$AH$658,0),2))","v":""},null,{"$f":"IF(J178=\"\",\"\",INDEX(REFERENTES!$T:$W,MATCH(J178,REFERENTES!$V:$V,0),3))","v":""},null,null,"",null,{"$f":"IF(P178=\"\",\"\",INDEX(REFERENTES!$J:$K,MATCH(P178,REFERENTES!$K:$K,0),1))","v":""},null,{"$f":"IF(R178=\"\",\"\",INDEX(REFERENTES!$D:$E,MATCH(R178,REFERENTES!$D:$D,0),2))","v":""},null,null,"",{"$f":"IF(X178=\"\",\"\",INDEX('OTRAS REFERENTES'!$H:$I,MATCH(X178,'OTRAS REFERENTES'!$I:$I,0),1))","v":""},null,null,{"$f":"IF(AA178=\"\",\"\",INDEX('OTRAS REFERENTES'!$K:$L,MATCH(AA178,'OTRAS REFERENTES'!$L:$L,0),1))","v":""},null,null,"",{"$f":"IF(SUMPRODUCT(--EXACT(K178&M178,$AD$2:AD177)),\"\",K178&M178)","v":""},{"$f":"IF(SUMPRODUCT(--EXACT(K178&M178,$AD$2:AD177)),\"\",MAX($AE$3:AE177)+1)","v":""}]
[1,"",177,"","",{"$f":"IF(L179<>\"\",CONCATENATE(DIGITADOR!$B$2,$A$2,DIGITADOR!$M$1,A179),\"\")","v":""},null,null,"",{"$f":"IF(K179=\"\",\"\",INDEX('OTRAS REFERENTES'!$AH$6:$AI$658,MATCH(K179,'OTRAS REFERENTES'!$AH$6:$AH$658,0),2))","v":""},null,{"$f":"IF(J179=\"\",\"\",INDEX(REFERENTES!$T:$W,MATCH(J179,REFERENTES!$V:$V,0),3))","v":""},null,null,"",null,{"$f":"IF(P179=\"\",\"\",INDEX(REFERENTES!$J:$K,MATCH(P179,REFERENTES!$K:$K,0),1))","v":""},null,{"$f":"IF(R179=\"\",\"\",INDEX(REFERENTES!$D:$E,MATCH(R179,REFERENTES!$D:$D,0),2))","v":""},null,null,"",{"$f":"IF(X179=\"\",\"\",INDEX('OTRAS REFERENTES'!$H:$I,MATCH(X179,'OTRAS REFERENTES'!$I:$I,0),1))","v":""},null,null,{"$f":"IF(AA179=\"\",\"\",INDEX('OTRAS REFERENTES'!$K:$L,MATCH(AA179,'OTRAS REFERENTES'!$L:$L,0),1))","v":""},null,null,"",{"$f":"IF(SUMPRODUCT(--EXACT(K179&M179,$AD$2:AD178)),\"\",K179&M179)","v":""},{"$f":"IF(SUMPRODUCT(--EXACT(K179&M179,$AD$2:AD178)),\"\",MAX($AE$3:AE178)+1)","v":""}]
[1,"",178,"","",{"$f":"IF(L180<>\"\",CONCATENATE(DIGITADOR!$B$2,$A$2,DIGITADOR!$M$1,A180),\"\")","v":""},null,null,"",{"$f":"IF(K180=\"\",\"\",INDEX('OTRAS REFERENTES'!$AH$6:$AI$658,MATCH(K180,'OTRAS REFERENTES'!$AH$6:$AH$658,0),2))","v":""},null,{"$f":"IF(J180=\"\",\"\",INDEX(REFERENTES!$T:$W,MATCH(J180,REFERENTES!$V:$V,0),3))","v":""},null,null,"",null,{"$f":"IF(P180=\"\",\"\",INDEX(REFERENTES!$J:$K,MATCH(P180,REFERENTES!$K:$K,0),1))","v":""},null,{"$f":"IF(R180=\"\",\"\",INDEX(REFERENTES!$D:$E,MATCH(R180,REFERENTES!$D:$D,0),2))","v":""},null,null,"",{"$f":"IF(X180=\"\",\"\",INDEX('OTRAS REFERENTES'!$H:$I,MATCH(X180,'OTRAS REFERENTES'!$I:$I,0),1))","v":""},null,null,{"$f":"IF(AA180=\"\",\"\",INDEX('OTRAS REFERENTES'!$K:$L,MATCH(AA180,'OTRAS REFERENTES'!$L:$L,0),1))","v":""},null,null,"",{"$f":"IF(SUMPRODUCT(--EXACT(K180&M180,$AD$2:AD179)),\"\",K180&M180)","v":""},{"$f":"IF(SUMPRODUCT(--EXACT(K180&M180,$AD$2:AD179)),\"\",MAX($AE$3:AE179)+1)","v":""}]
[1,"",179,"","",{"$f":"IF(L181<>\"\",CONCATENATE(DIGITADOR!$B$2,$A$2,DIGITADOR!$M$1,A181),\"\")","v":""},null,null,"",{"$f":"IF(K181=\"\",\"\",INDEX('OTRAS REFERENTES'!$AH$6:$AI$658,MATCH(K181,'OTRAS REFERENTES'!$AH$6:$AH$658,0),2))","v":""},null,{"$f":"IF(J181=\"\",\"\",INDEX(REFERENTES!$T:$W,MATCH(J181,REFERENTES!$V:$V,0),3))","v":""},null,null,"",null,{"$f":"IF(P181=\"\",\"\",INDEX(REFERENTES!$J:$K,MATCH(P181,REFERENTES!$K:$K,0),1))","v":""},null,{"$f":"IF(R181=\"\",\"\",INDEX(REFERENTES!$D:$E,MATCH(R181,REFERENTES!$D:$D,0),2))","v":""},null,null,"",{"$f":"IF(X181=\"\",\"\",INDEX('OTRAS REFERENTES'!$H:$I,MATCH(X181,'OTRAS REFERENTES'!$I:$I,0),1))","v":""},null,null,{"$f":"IF(AA181=\"\",\"\",INDEX('OTRAS REFERENTES'!$K:$L,MATCH(AA181,'OTRAS REFERENTES'!$L:$L,0),1))","v":""},null,null,"",{"$f":"IF(SUMPRODUCT(--EXACT(K181&M181,$AD$2:AD180)),\"\",K181&M181)","v":""},{"$f":"IF(SUMPRODUCT(--EXACT(K181&M181,$AD$2:AD180)),\"\",MAX($AE$3:AE180)+1)","v":""}]
[1,"",180,"","",{"$f":"IF(L182<>\"\",CONCATENATE(DIGITADOR!$B$2,$A$2,DIGITADOR!$M$1,A182),\"\")","v":""},null,null,"",{"$f":"IF(K182=\"\",\"\",INDEX('OTRAS REFERENTES'!$AH$6:$AI$658,MATCH(K182,'OTRAS REFERENTES'!$AH$6:$AH$658,0),2))","v":""},null,{"$f":"IF(J182=\"\",\"\",INDEX(REFERENTES!$T:$W,MATCH(J182,REFERENTES!$V:$V,0),3))","v":""},null,null,"",null,{"$f":"IF(P182=\"\",\"\",INDEX(REFERENTES!$J:$K,MATCH(P182,REFERENTES!$K:$K,0),1))","v":""},null,{"$f":"IF(R182=\"\",\"\",INDEX(REFERENTES!$D:$E,MATCH(R182,REFERENTES!$D:$D,0),2))","v":""},null,null,"",{"$f":"IF(X182=\"\",\"\",INDEX('OTRAS REFERENTES'!$H:$I,MATCH(X182,'OTRAS REFERENTES'!$I:$I,0),1))","v":""},null,null,{"$f":"IF(AA182=\"\",\"\",INDEX('OTRAS REFERENTES'!$K:$L,MATCH(AA182,'OTRAS REFERENTES'!$L:$L,0),1))","v":""},null,null,"",{"$f":"IF(SUMPRODUCT(--EXACT(K182&M182,$AD$2:AD181)),\"\",K182&M182)","v":""},{"$f":"IF(SUMPRODUCT(--EXACT(K182&M182,$AD$2:AD181)),\"\",MAX($AE$3:AE181)+1)","v":""}]
[1,"",181,"","",{"$f":"IF(L183<>\"\",CONCATENATE(DIGITADOR!$B$2,$A$2,DIGITADOR!$M$1,A183),\"\")","v":""},null,null,"",{"$f":"IF(K183=\"\",\"\",INDEX('OTRAS REFERENTES'!$AH$6:$AI$658,MATCH(K183,'OTRAS REFERENTES'!$AH$6:$AH$658,0),2))","v":""},null,{"$f":"IF(J183=\"\",\"\",INDEX(REFERENTES!$T:$W,MATCH(J183,REFERENTES!$V:$V,0),3))","v":""},null,null,"",null,{"$f":"IF(P183=\"\",\"\",INDEX(REFERENTES!$J:$K,MATCH(P183,REFERENTES!$K:$K,0),1))","v":""},null,{"$f":"IF(R183=\"\",\"\",INDEX(REFERENTES!$D:$E,MATCH(R183,REFERENTES!$D:$D,0),2))","v":""},null,null,"",{"$f":"IF(X183=\"\",\"\",INDEX('OTRAS REFERENTES'!$H:$I,MATCH(X183,'OTRAS REFERENTES'!$I:$I,0),1))","v":""},null,null,{"$f":"IF(AA183=\"\",\"\",INDEX('OTRAS REFERENTES'!$K:$L,MATCH(AA183,'OTRAS REFERENTES'!$L:$L,0),1))","v":""},null,null,"",{"$f":"IF(SUMPRODUCT(--EXACT(K183&M183,$AD$2:AD182)),\"\",K183&M183)","v":""},{"$f":"IF(SUMPRODUCT(--EXACT(K183&M183,$AD$2:AD182)),\"\",MAX($AE$3:AE182)+1)","v":""}]
[1,"",182,"","",{"$f":"IF(L184<>\"\",CONCATENATE(DIGITADOR!$B$2,$A$2,DIGITADOR!$M$1,A184),\"\")","v":""},null,null,"",{"$f":"IF(K184=\"\",\"\",INDEX('OTRAS REFERENTES'!$AH$6:$AI$658,MATCH(K184,'OTRAS REFERENTES'!$AH$6:$AH$658,0),2))","v":""},null,{"$f":"IF(J184=\"\",\"\",INDEX(REFERENTES!$T:$W,MATCH(J184,REFERENTES!$V:$V,0),3))","v":""},null,null,"",null,{"$f":"IF(P184=\"\",\"\",INDEX(REFERENTES!$J:$K,MATCH(P184,REFERENTES!$K:$K,0),1))","v":""},null,{"$f":"IF(R184=\"\",\"\",INDEX(REFERENTES!$D:$E,MATCH(R184,REFERENTES!$D:$D,0),2))","v":""},null,null,"",{"$f":"IF(X184=\"\",\"\",INDEX('OTRAS REFERENTES'!$H:$I,MATCH(X184,'OTRAS REFERENTES'!$I:$I,0),1))","v":""},null,null,{"$f":"IF(AA184=\"\",\"\",INDEX('OTRAS REFERENTES'!$K:$L,MATCH(AA184,'OTRAS REFERENTES'!$L:$L,0),1))","v":""},null,null,"",{"$f":"IF(SUMPRODUCT(--EXACT(K184&M184,$AD$2:AD183)),\"\",K184&M184)","v":""},{"$f":"IF(SUMPRODUCT(--EXACT(K184&M184,$AD$2:AD183)),\"\",MAX($AE$3:AE183)+1)","v":""}]
[1,"",183,"","",{"$f":"IF(L185<>\"\",CONCATENATE(DIGITADOR!$B$2,$A$2,DIGITADOR!$M$1,A185),\"\")","v":""},null,null,"",{"$f":"IF(K185=\"\",\"\",INDEX('OTRAS REFERENTES'!$AH$6:$AI$658,MATCH(K185,'OTRAS REFERENTES'!$AH$6:$AH$658,0),2))","v":""},null,{"$f":"IF(J185=\"\",\"\",INDEX(REFERENTES!$T:$W,MATCH(J185,REFERENTES!$V:$V,0),3))","v":""},null,null,"",null,{"$f":"IF(P185=\"\",\"\",INDEX(REFERENTES!$J:$K,MATCH(P185,REFERENTES!$K:$K,0),1))","v":""},null,{"$f":"IF(R185=\"\",\"\",INDEX(REFERENTES!$D:$E,MATCH(R185,REFERENTES!$D:$D,0),2))","v":""},null,null,"",{"$f":"IF(X185=\"\",\"\",INDEX('OTRAS REFERENTES'!$H:$I,MATCH(X185,'OTRAS REFERENTES'!$I:$I,0),1))","v":""},null,null,{"$f":"IF(AA185=\"\",\"\",INDEX('OTRAS REFERENTES'!$K:$L,MATCH(AA185,'OTRAS REFERENTES'!$L:$L,0),1))","v":""},null,null,"",{"$f":"IF(SUMPRODUCT(--EXACT(K185&M185,$AD$2:AD184)),\"\",K185&M185)","v":""},{"$f":"IF(SUMPRODUCT(--EXACT(K185&M185,$AD$2:AD184)),\"\",MAX($AE$3:AE184)+1)","v":""}]
[1,"",184,"","",{"$f":"IF(L186<>\"\",CONCATENATE(DIGITADOR!$B$2,$A$2,DIGITADOR!$M$1,A186),\"\")","v":""},null,null,"",{"$f":"IF(K186=\"\",\"\",INDEX('OTRAS REFERENTES'!$AH$6:$AI$658,MATCH(K186,'OTRAS REFERENTES'!$AH$6:$AH$658,0),2))","v":""},null,{"$f":"IF(J186=\"\",\"\",INDEX(REFERENTES!$T:$W,MATCH(J186,REFERENTES!$V:$V,0),3))","v":""},null,null,"",null,{"$f":"IF(P186=\"\",\"\",INDEX(REFERENTES!$J:$K,MATCH(P186,REFERENTES!$K:$K,0),1))","v":""},null,{"$f":"IF(R186=\"\",\"\",INDEX(REFERENTES!$D:$E,MATCH(R186,REFERENTES!$D:$D,0),2))","v":""},null,null,"",{"$f":"IF(X186=\"\",\"\",INDEX('OTRAS REFERENTES'!$H:$I,MATCH(X186,'OTRAS REFERENTES'!$I:$I,0),1))","v":""},null,null,{"$f":"IF(AA186=\"\",\"\",INDEX('OTRAS REFERENTES'!$K:$L,MATCH(AA186,'OTRAS REFERENTES'!$L:$L,0),1))","v":""},null,null,"",{"$f":"IF(SUMPRODUCT(--EXACT(K186&M186,$AD$2:AD185)),\"\",K186&M186)","v":""},{"$f":"IF(SUMPRODUCT(--EXACT(K186&M186,$AD$2:AD185)),\"\",MAX($AE$3:AE185)+1)","v":""}]
[1,"",185,"","",{"$f":"IF(L187<>\"\",CONCATENATE(DIGITADOR!$B$2,$A$2,DIGITADOR!$M$1,A187),\"\")","v":""},null,null,"",{"$f":"IF(K187=\"\",\"\",INDEX('OTRAS REFERENTES'!$AH$6:$AI$658,MATCH(K187,'OTRAS REFERENTES'!$AH$6:$AH$658,0),2))","v":""},null,{"$f":"IF(J187=\"\",\"\",INDEX(REFERENTES!$T:$W,MATCH(J187,REFERENTES!$V:$V,0),3))","v":""},null,null,"",null,{"$f":"IF(P187=\"\",\"\",INDEX(REFERENTES!$J:$K,MATCH(P187,REFERENTES!$K:$K,0),1))","v":""},null,{"$f":"IF(R187=\"\",\"\",INDEX(REFERENTES!$D:$E,MATCH(R187,REFERENTES!$D:$D,0),2))","v":""},null,null,"",{"$f":"IF(X187=\"\",\"\",INDEX('OTRAS REFERENTES'!$H:$I,MATCH(X187,'OTRAS REFERENTES'!$I:$I,0),1))","v":""},null,null,{"$f":"IF(AA187=\"\",\"\",INDEX('OTRAS REFERENTES'!$K:$L,MATCH(AA187,'OTRAS REFERENTES'!$L:$L,0),1))","v":""},null,null,"",{"$f":"IF(SUMPRODUCT(--EXACT(K187&M187,$AD$2:AD186)),\"\",K187&M187)","v":""},{"$f":"IF(SUMPRODUCT(--EXACT(K187&M187,$AD$2:AD186)),\"\",MAX($AE$3:AE186)+1)","v":""}]
[1,"",186,"","",{"$f":"IF(L188<>\"\",CONCATENATE(DIGITADOR!$B$2,$A$2,DIGITADOR!$M$1,A188),\"\")","v":""},null,null,"",{"$f":"IF(K188=\"\",\"\",INDEX('OTRAS REFERENTES'!$AH$6:$AI$658,MATCH(K188,'OTRAS REFERENTES'!$AH$6:$AH$658,0),2))","v":""},null,{"$f":"IF(J188=\"\",\"\",INDEX(REFERENTES!$T:$W,MATCH(J188,REFERENTES!$V:$V,0),3))","v":""},null,null,"",null,{"$f":"IF(P188=\"\",\"\",INDEX(REFERENTES!$J:$K,MATCH(P188,REFERENTES!$K:$K,0),1))","v":""},null,{"$f":"IF(R188=\"\",\"\",INDEX(REFERENTES!$D:$E,MATCH(R188,REFERENTES!$D:$D,0),2))","v":""},null,null,"",{"$f":"IF(X188=\"\",\"\",INDEX('OTRAS REFERENTES'!$H:$I,MATCH(X188,'OTRAS REFERENTES'!$I:$I,0),1))","v":""},null,null,{"$f":"IF(AA188=\"\",\"\",INDEX('OTRAS REFERENTES'!$K:$L,MATCH(AA188,'OTRAS REFERENTES'!$L:$L,0),1))","v":""},null,null,"",{"$f":"IF(SUMPRODUCT(--EXACT(K188&M188,$AD$2:AD187)),\"\",K188&M188)","v":""},{"$f":"IF(SUMPRODUCT(--EXACT(K188&M188,$AD$2:AD187)),\"\",MAX($AE$3:AE187)+1)","v":""}]
[1,"",187,"","",{"$f":"IF(L189<>\"\",CONCATENATE(DIGITADOR!$B$2,$A$2,DIGITADOR!$M$1,A189),\"\")","v":""},null,null,"",{"$f":"IF(K189=\"\",\"\",INDEX('OTRAS REFERENTES'!$AH$6:$AI$658,MATCH(K189,'OTRAS REFERENTES'!$AH$6:$AH$658,0),2))","v":""},null,{"$f":"IF(J189=\"\",\"\",INDEX(REFERENTES!$T:$W,MATCH(J189,REFERENTES!$V:$V,0),3))","v":""},null,null,"",null,{"$f":"IF(P189=\"\",\"\",INDEX(REFERENTES!$J:$K,MATCH(P189,REFERENTES!$K:$K,0),1))","v":""},null,{"$f":"IF(R189=\"\",\"\",INDEX(REFERENTES!$D:$E,MATCH(R189,REFERENTES!$D:$D,0),2))","v":""},null,null,"",{"$f":"IF(X189=\"\",\"\",INDEX('OTRAS REFERENTES'!$H:$I,MATCH(X189,'OTRAS REFERENTES'!$I:$I,0),1))","v":""},null,null,{"$f":"IF(AA189=\"\",\"\",INDEX('OTRAS REFERENTES'!$K:$L,MATCH(AA189,'OTRAS REFERENTES'!$L:$L,0),1))","v":""},null,null,"",{"$f":"IF(SUMPRODUCT(--EXACT(K189&M189,$AD$2:AD188)),\"\",K189&M189)","v":""},{"$f":"IF(SUMPRODUCT(--EXACT(K189&M189,$AD$2:AD188)),\"\",MAX($AE$3:AE188)+1)","v":""}]
[1,"",188,"","",{"$f":"IF(L190<>\"\",CONCATENATE(DIGITADOR!$B$2,$A$2,DIGITADOR!$M$1,A190),\"\")","v":""},null,null,"",{"$f":"IF(K190=\"\",\"\",INDEX('OTRAS REFERENTES'!$AH$6:$AI$658,MATCH(K190,'OTRAS REFERENTES'!$AH$6:$AH$658,0),2))","v":""},null,{"$f":"IF(J190=\"\",\"\",INDEX(REFERENTES!$T:$W,MATCH(J190,REFERENTES!$V:$V,0),3))","v":""},null,null,"",null,{"$f":"IF(P190=\"\",\"\",INDEX(REFERENTES!$J:$K,MATCH(P190,REFERENTES!$K:$K,0),1))","v":""},null,{"$f":"IF(R190=\"\",\"\",INDEX(REFERENTES!$D:$E,MATCH(R190,REFERENTES!$D:$D,0),2))","v":""},null,null,"",{"$f":"IF(X190=\"\",\"\",INDEX('OTRAS REFERENTES'!$H:$I,MATCH(X190,'OTRAS REFERENTES'!$I:$I,0),1))","v":""},null,null,{"$f":"IF(AA190=\"\",\"\",INDEX('OTRAS REFERENTES'!$K:$L,MATCH(AA190,'OTRAS REFERENTES'!$L:$L,0),1))","v":""},null,null,"",{"$f":"IF(SUMPRODUCT(--EXACT(K190&M190,$AD$2:AD189)),\"\",K190&M190)","v":""},{"$f":"IF(SUMPRODUCT(--EXACT(K190&M190,$AD$2:AD189)),\"\",MAX($AE$3:AE189)+1)","v":""}]
[1,"",189,"","",{"$f":"IF(L191<>\"\",CONCATENATE(DIGITADOR!$B$2,$A$2,DIGITADOR!$M$1,A191),\"\")","v":""},null,null,"",{"$f":"IF(K191=\"\",\"\",INDEX('OTRAS REFERENTES'!$AH$6:$AI$658,MATCH(K191,'OTRAS REFERENTES'!$AH$6:$AH$658,0),2))","v":""},null,{"$f":"IF(J191=\"\",\"\",INDEX(REFERENTES!$T:$W,MATCH(J191,REFERENTES!$V:$V,0),3))","v":""},null,null,"",null,{"$f":"IF(P191=\"\",\"\",INDEX(REFERENTES!$J:$K,MATCH(P191,REFERENTES!$K:$K,0),1))","v":""},null,{"$f":"IF(R191=\"\",\"\",INDEX(REFERENTES!$D:$E,MATCH(R191,REFERENTES!$D:$D,0),2))","v":""},null,null,"",{"$f":"IF(X191=\"\",\"\",INDEX('OTRAS REFERENTES'!$H:$I,MATCH(X191,'OTRAS REFERENTES'!$I:$I,0),1))","v":""},null,null,{"$f":"IF(AA191=\"\",\"\",INDEX('OTRAS REFERENTES'!$K:$L,MATCH(AA191,'OTRAS REFERENTES'!$L:$L,0),1))","v":""},null,null,"",{"$f":"IF(SUMPRODUCT(--EXACT(K191&M191,$AD$2:AD190)),\"\",K191&M191)","v":""},{"$f":"IF(SUMPRODUCT(--EXACT(K191&M191,$AD$2:AD190)),\"\",MAX($AE$3:AE190)+1)","v":""}]
[1,"",190,"","",{"$f":"IF(L192<>\"\",CONCATENATE(DIGITADOR!$B$2,$A$2,DIGITADOR!$M$1,A192),\"\")","v":""},null,null,"",{"$f":"IF(K192=\"\",\"\",INDEX('OTRAS REFERENTES'!$AH$6:$AI$658,MATCH(K192,'OTRAS REFERENTES'!$AH$6:$AH$658,0),2))","v":""},null,{"$f":"IF(J192=\"\",\"\",INDEX(REFERENTES!$T:$W,MATCH(J192,REFERENTES!$V:$V,0),3))","v":""},null,null,"",null,{"$f":"IF(P192=\"\",\"\",INDEX(REFERENTES!$J:$K,MATCH(P192,REFERENTES!$K:$K,0),1))","v":""},null,{"$f":"IF(R192=\"\",\"\",INDEX(REFERENTES!$D:$E,MATCH(R192,REFERENTES!$D:$D,0),2))","v":""},null,null,"",{"$f":"IF(X192=\"\",\"\",INDEX('OTRAS REFERENTES'!$H:$I,MATCH(X192,'OTRAS REFERENTES'!$I:$I,0),1))","v":""},null,null,{"$f":"IF(AA192=\"\",\"\",INDEX('OTRAS REFERENTES'!$K:$L,MATCH(AA192,'OTRAS REFERENTES'!$L:$L,0),1))","v":""},null,null,"",{"$f":"IF(SUMPRODUCT(--EXACT(K192&M192,$AD$2:AD191)),\"\",K192&M192)","v":""},{"$f":"IF(SUMPRODUCT(--EXACT(K192&M192,$AD$2:AD191)),\"\",MAX($AE$3:AE191)+1)","v":""}]
[1,"",191,"","",{"$f":"IF(L193<>\"\",CONCATENATE(DIGITADOR!$B$2,$A$2,DIGITADOR!$M$1,A193),\"\")","v":""},null,null,"",{"$f":"IF(K193=\"\",\"\",INDEX('OTRAS REFERENTES'!$AH$6:$AI$658,MATCH(K193,'OTRAS REFERENTES'!$AH$6:$AH$658,0),2))","v":""},null,{"$f":"IF(J193=\"\",\"\",INDEX(REFERENTES!$T:$W,MATCH(J193,REFERENTES!$V:$V,0),3))","v":""},null,null,"",null,{"$f":"IF(P193=\"\",\"\",INDEX(REFERENTES!$J:$K,MATCH(P193,REFERENTES!$K:$K,0),1))","v":""},null,{"$f":"IF(R193=\"\",\"\",INDEX(REFERENTES!$D:$E,MATCH(R193,REFERENTES!$D:$D,0),2))","v":""},null,null,"",{"$f":"IF(X193=\"\",\"\",INDEX('OTRAS REFERENTES'!$H:$I,MATCH(X193,'OTRAS REFERENTES'!$I:$I,0),1))","v":""},null,null,{"$f":"IF(AA193=\"\",\"\",INDEX('OTRAS REFERENTES'!$K:$L,MATCH(AA193,'OTRAS REFERENTES'!$L:$L,0),1))","v":""},null,null,"",{"$f":"IF(SUMPRODUCT(--EXACT(K193&M193,$AD$2:AD192)),\"\",K193&M193)","v":""},{"$f":"IF(SUMPRODUCT(--EXACT(K193&M193,$AD$2:AD192)),\"\",MAX($AE$3:AE192)+1)","v":""}]
[1,"",192,"","",{"$f":"IF(L194<>\"\",CONCATENATE(DIGITADOR!$B$2,$A$2,DIGITADOR!$M$1,A194),\"\")","v":""},null,null,"",{"$f":"IF(K194=\"\",\"\",INDEX('OTRAS REFERENTES'!$AH$6:$AI$658,MATCH(K194,'OTRAS REFERENTES'!$AH$6:$AH$658,0),2))","v":""},null,{"$f":"IF(J194=\"\",\"\",INDEX(REFERENTES!$T:$W,MATCH(J194,REFERENTES!$V:$V,0),3))","v":""},null,null,"",null,{"$f":"IF(P194=\"\",\"\",INDEX(REFERENTES!$J:$K,MATCH(P194,REFERENTES!$K:$K,0),1))","v":""},null,{"$f":"IF(R194=\"\",\"\",INDEX(REFERENTES!$D:$E,MATCH(R194,REFERENTES!$D:$D,0),2))","v":""},null,null,"",{"$f":"IF(X194=\"\",\"\",INDEX('OTRAS REFERENTES'!$H:$I,MATCH(X194,'OTRAS REFERENTES'!$I:$I,0),1))","v":""},null,null,{"$f":"IF(AA194=\"\",\"\",INDEX('OTRAS REFERENTES'!$K:$L,MATCH(AA194,'OTRAS REFERENTES'!$L:$L,0),1))","v":""},null,null,"",{"$f":"IF(SUMPRODUCT(--EXACT(K194&M194,$AD$2:AD193)),\"\",K194&M194)","v":""},{"$f":"IF(SUMPRODUCT(--EXACT(K194&M194,$AD$2:AD193)),\"\",MAX($AE$3:AE193)+1)","v":""}]
[1,"",193,"",{"$f":"CONCATENATE(I195,L195)","v":""},{"$f":"IF(L195<>\"\",CONCATENATE(DIGITADOR!$B$2,$A$2,DIGITADOR!$M$1,A195),\"\")","v":""},null,null,{"$f":"IF(G195<>\"\",G195+H195,\"\")","v":""},{"$f":"IF(K195=\"\",\"\",INDEX('OTRAS REFERENTES'!$AH$6:$AI$658,MATCH(K195,'OTRAS REFERENTES'!$AH$6:$AH$658,0),2))","v":""},null,{"$f":"IF(J195=\"\",\"\",INDEX(REFERENTES!$T:$W,MATCH(J195,REFERENTES!$V:$V,0),3))","v":""},null,null,{"$f":"IF(P195=\"\",\"\",UPPER(P195))","v":""},null,{"$f":"IF(P195=\"\",\"\",INDEX(REFERENTES!$J:$K,MATCH(P195,REFERENTES!$K:$K,0),1))","v":""},null,{"$f":"IF(R195=\"\",\"\",INDEX(REFERENTES!$D:$E,MATCH(R195,REFERENTES!$D:$D,0),2))","v":""},null,null,{"$f":"IF(U195=\"\",IF(T195=\"\",\"\",IF(AND(T195>=0,T195<=50),\"A\",IF(AND(T195>50,T195<=150),\"B\",\"C\"))),U195)","v":""},{"$f":"IF(X195=\"\",\"\",INDEX('OTRAS REFERENTES'!$H:$I,MATCH(X195,'OTRAS REFERENTES'!$I:$I,0),1))","v":""},null,null,{"$f":"IF(AA195=\"\",\"\",INDEX('OTRAS REFERENTES'!$K:$L,MATCH(AA195,'OTRAS REFERENTES'!$L:$L,0),1))","v":""},null,null,"",{"$f":"IF(SUMPRODUCT(--EXACT(K195&M195,$AD$2:AD194)),\"\",K195&M195)","v":""},{"$f":"IF(SUMPRODUCT(--EXACT(K195&M195,$AD$2:AD194)),\"\",MAX($AE$3:AE194)+1)","v":""}]
[1,"",194,{"$f":"IF(L196=\"\",\"\",CONCATENATE(C196,F196))","v":""},"",{"$f":"IF(L196<>\"\",CONCATENATE(DIGITADOR!$B$2,$A$2,DIGITADOR!$M$1,A196),\"\")","v":""},null,null,"",{"$f":"IF(K196=\"\",\"\",INDEX('OTRAS REFERENTES'!$AH$6:$AI$658,MATCH(K196,'OTRAS REFERENTES'!$AH$6:$AH$658,0),2))","v":""},null,{"$f":"IF(J196=\"\",\"\",INDEX(REFERENTES!$T:$W,MATCH(J196,REFERENTES!$V:$V,0),3))","v":""},null,null,"",null,{"$f":"IF(P196=\"\",\"\",INDEX(REFERENTES!$J:$K,MATCH(P196,REFERENTES!$K:$K,0),1))","v":""},null,{"$f":"IF(R196=\"\",\"\",INDEX(REFERENTES!$D:$E,MATCH(R196,REFERENTES!$D:$D,0),2))","v":""},null,null,"",{"$f":"IF(X196=\"\",\"\",INDEX('OTRAS REFERENTES'!$H:$I,MATCH(X196,'OTRAS REFERENTES'!$I:$I,0),1))","v":""},null,null,{"$f":"IF(AA196=\"\",\"\",INDEX('OTRAS REFERENTES'!$K:$L,MATCH(AA196,'OTRAS REFERENTES'!$L:$L,0),1))","v":""},null,null,{"$f":"IF(R196=\"\",\"\",UPPER(R196))","v":""},{"$f":"IF(SUMPRODUCT(--EXACT(K196&M196,$AD$2:AD195)),\"\",K196&M196)","v":""},{"$f":"IF(SUMPRODUCT(--EXACT(K196&M196,$AD$2:AD195)),\"\",MAX($AE$3:AE195)+1)","v":""}]
[{"$f":"IF(L197=L196,A196,A196+1)","v":1},{"$f":"IF(F197<>F196, F197,\"\")","v":""},195,"","",{"$f":"IF(L197<>\"\",CONCATENATE(DIGITADOR!$B$2,$A$2,DIGITADOR!$M$1,A197),\"\")","v":""},null,null,"",{"$f":"IF(K197=\"\",\"\",INDEX('OTRAS REFERENTES'!$AH$6:$AI$658,MATCH(K197,'OTRAS REFERENTES'!$AH$6:$AH$658,0),2))","v":""},null,{"$f":"IF(J197=\"\",\"\",INDEX(REFERENTES!$T:$W,MATCH(J197,REFERENTES!$V:$V,0),3))","v":""},null,null,"",null,{"$f":"IF(P197=\"\",\"\",INDEX(REFERENTES!$J:$K,MATCH(P197,REFERENTES!$K:$K,0),1))","v":""},null,{"$f":"IF(R197=\"\",\"\",INDEX(REFERENTES!$D:$E,MATCH(R197,REFERENTES!$D:$D,0),2))","v":""},null,null,"",{"$f":"IF(X197=\"\",\"\",INDEX('OTRAS REFERENTES'!$H:$I,MATCH(X197,'OTRAS REFERENTES'!$I:$I,0),1))","v":""},null,null,{"$f":"IF(AA197=\"\",\"\",INDEX('OTRAS REFERENTES'!$K:$L,MATCH(AA197,'OTRAS REFERENTES'!$L:$L,0),1))","v":""},null,null,"",{"$f":"IF(SUMPRODUCT(--EXACT(K197&M197,$AD$2:AD196)),\"\",K197&M197)","v":""},{"$f":"IF(SUMPRODUCT(--EXACT(K197&M197,$AD$2:AD196)),\"\",MAX($AE$3:AE196)+1)","v":""}]
[1,"",196,"","",{"$f":"IF(L198<>\"\",CONCATENATE(DIGITADOR!$B$2,$A$2,DIGITADOR!$M$1,A198),\"\")","v":""},null,null,"",{"$f":"IF(K198=\"\",\"\",INDEX('OTRAS REFERENTES'!$AH$6:$AI$658,MATCH(K198,'OTRAS REFERENTES'!$AH$6:$AH$658,0),2))","v":""},null,{"$f":"IF(J198=\"\",\"\",INDEX(REFERENTES!$T:$W,MATCH(J198,REFERENTES!$V:$V,0),3))","v":""},null,null,"",null,{"$f":"IF(P198=\"\",\"\",INDEX(REFERENTES!$J:$K,MATCH(P198,REFERENTES!$K:$K,0),1))","v":""},null,{"$f":"IF(R198=\"\",\"\",INDEX(REFERENTES!$D:$E,MATCH(R198,REFERENTES!$D:$D,0),2))","v":""},null,null,"",{"$f":"IF(X198=\"\",\"\",INDEX('OTRAS REFERENTES'!$H:$I,MATCH(X198,'OTRAS REFERENTES'!$I:$I,0),1))","v":""},null,null,{"$f":"IF(AA198=\"\",\"\",INDEX('OTRAS REFERENTES'!$K:$L,MATCH(AA198,'OTRAS REFERENTES'!$L:$L,0),1))","v":""},null,null,"",{"$f":"IF(SUMPRODUCT(--EXACT(K198&M198,$AD$2:AD197)),\"\",K198&M198)","v":""},{"$f":"IF(SUMPRODUCT(--EXACT(K198&M198,$AD$2:AD197)),\"\",MAX($AE$3:AE197)+1)","v":""}]
[1,"",197,"","",{"$f":"IF(L199<>\"\",CONCATENATE(DIGITADOR!$B$2,$A$2,DIGITADOR!$M$1,A199),\"\")","v":""},null,null,"",{"$f":"IF(K199=\"\",\"\",INDEX('OTRAS REFERENTES'!$AH$6:$AI$658,MATCH(K199,'OTRAS REFERENTES'!$AH$6:$AH$658,0),2))","v":""},null,{"$f":"IF(J199=\"\",\"\",INDEX(REFERENTES!$T:$W,MATCH(J199,REFERENTES!$V:$V,0),3))","v":""},null,null,"",null,{"$f":"IF(P199=\"\",\"\",INDEX(REFERENTES!$J:$K,MATCH(P199,REFERENTES!$K:$K,0),1))","v":""},null,{"$f":"IF(R199=\"\",\"\",INDEX(REFERENTES!$D:$E,MATCH(R199,REFERENTES!$D:$D,0),2))","v":""},null,null,"",{"$f":"IF(X199=\"\",\"\",INDEX('OTRAS REFERENTES'!$H:$I,MATCH(X199,'OTRAS REFERENTES'!$I:$I,0),1))","v":""},null,null,{"$f":"IF(AA199=\"\",\"\",INDEX('OTRAS REFERENTES'!$K:$L,MATCH(AA199,'OTRAS REFERENTES'!$L:$L,0),1))","v":""},null,null,"",{"$f":"IF(SUMPRODUCT(--EXACT(K199&M199,$AD$2:AD198)),\"\",K199&M199)","v":""},{"$f":"IF(SUMPRODUCT(--EXACT(K199&M199,$AD$2:AD198)),\"\",MAX($AE$3:AE198)+1)","v":""}]
[1,"",198,"","",{"$f":"IF(L200<>\"\",CONCATENATE(DIGITADOR!$B$2,$A$2,DIGITADOR!$M$1,A200),\"\")","v":""},null,null,"",{"$f":"IF(K200=\"\",\"\",INDEX('OTRAS REFERENTES'!$AH$6:$AI$658,MATCH(K200,'OTRAS REFERENTES'!$AH$6:$AH$658,0),2))","v":""},null,{"$f":"IF(J200=\"\",\"\",INDEX(REFERENTES!$T:$W,MATCH(J200,REFERENTES!$V:$V,0),3))","v":""},null,null,"",null,{"$f":"IF(P200=\"\",\"\",INDEX(REFERENTES!$J:$K,MATCH(P200,REFERENTES!$K:$K,0),1))","v":""},null,{"$f":"IF(R200=\"\",\"\",INDEX(REFERENTES!$D:$E,MATCH(R200,REFERENTES!$D:$D,0),2))","v":""},null,null,"",{"$f":"IF(X200=\"\",\"\",INDEX('OTRAS REFERENTES'!$H:$I,MATCH(X200,'OTRAS REFERENTES'!$I:$I,0),1))","v":""},null,null,{"$f":"IF(AA200=\"\",\"\",INDEX('OTRAS REFERENTES'!$K:$L,MATCH(AA200,'OTRAS REFERENTES'!$L:$L,0),1))","v":""},null,null,"",{"$f":"IF(SUMPRODUCT(--EXACT(K200&M200,$AD$2:AD199)),\"\",K200&M200)","v":""},{"$f":"IF(SUMPRODUCT(--EXACT(K200&M200,$AD$2:AD199)),\"\",MAX($AE$3:AE199)+1)","v":""}]
[1,"",199,"","",{"$f":"IF(L201<>\"\",CONCATENATE(DIGITADOR!$B$2,$A$2,DIGITADOR!$M$1,A201),\"\")","v":""},null,null,"",{"$f":"IF(K201=\"\",\"\",INDEX('OTRAS REFERENTES'!$AH$6:$AI$658,MATCH(K201,'OTRAS REFERENTES'!$AH$6:$AH$658,0),2))","v":""},null,{"$f":"IF(J201=\"\",\"\",INDEX(REFERENTES!$T:$W,MATCH(J201,REFERENTES!$V:$V,0),3))","v":""},null,null,"",null,{"$f":"IF(P201=\"\",\"\",INDEX(REFERENTES!$J:$K,MATCH(P201,REFERENTES!$K:$K,0),1))","v":""},null,{"$f":"IF(R201=\"\",\"\",INDEX(REFERENTES!$D:$E,MATCH(R201,REFERENTES!$D:$D,0),2))","v":""},null,null,"",{"$f":"IF(X201=\"\",\"\",INDEX('OTRAS REFERENTES'!$H:$I,MATCH(X201,'OTRAS REFERENTES'!$I:$I,0),1))","v":""},null,null,{"$f":"IF(AA201=\"\",\"\",INDEX('OTRAS REFERENTES'!$K:$L,MATCH(AA201,'OTRAS REFERENTES'!$L:$L,0),1))","v":""},null,null,"",{"$f":"IF(SUMPRODUCT(--EXACT(K201&M201,$AD$2:AD200)),\"\",K201&M201)","v":""},{"$f":"IF(SUMPRODUCT(--EXACT(K201&M201,$AD$2:AD200)),\"\",MAX($AE$3:AE200)+1)","v":""}]
[1,"",200,"","",{"$f":"IF(L202<>\"\",CONCATENATE(DIGITADOR!$B$2,$A$2,DIGITADOR!$M$1,A202),\"\")","v":""},null,null,"",{"$f":"IF(K202=\"\",\"\",INDEX('OTRAS REFERENTES'!$AH$6:$AI$658,MATCH(K202,'OTRAS REFERENTES'!$AH$6:$AH$658,0),2))","v":""},null,{"$f":"IF(J202=\"\",\"\",INDEX(REFERENTES!$T:$W,MATCH(J202,REFERENTES!$V:$V,0),3))","v":""},null,null,"",null,{"$f":"IF(P202=\"\",\"\",INDEX(REFERENTES!$J:$K,MATCH(P202,REFERENTES!$K:$K,0),1))","v":""},null,{"$f":"IF(R202=\"\",\"\",INDEX(REFERENTES!$D:$E,MATCH(R202,REFERENTES!$D:$D,0),2))","v":""},null,null,"",{"$f":"IF(X202=\"\",\"\",INDEX('OTRAS REFERENTES'!$H:$I,MATCH(X202,'OTRAS REFERENTES'!$I:$I,0),1))","v":""},null,null,{"$f":"IF(AA202=\"\",\"\",INDEX('OTRAS REFERENTES'!$K:$L,MATCH(AA202,'OTRAS REFERENTES'!$L:$L,0),1))","v":""},null,null,"",{"$f":"IF(SUMPRODUCT(--EXACT(K202&M202,$AD$2:AD201)),\"\",K202&M202)","v":""},{"$f":"IF(SUMPRODUCT(--EXACT(K202&M202,$AD$2:AD201)),\"\",MAX($AE$3:AE201)+1)","v":""}]
[1,"",201,"","",{"$f":"IF(L203<>\"\",CONCATENATE(DIGITADOR!$B$2,$A$2,DIGITADOR!$M$1,A203),\"\")","v":""},null,null,"",{"$f":"IF(K203=\"\",\"\",INDEX('OTRAS REFERENTES'!$AH$6:$AI$658,MATCH(K203,'OTRAS REFERENTES'!$AH$6:$AH$658,0),2))","v":""},null,{"$f":"IF(J203=\"\",\"\",INDEX(REFERENTES!$T:$W,MATCH(J203,REFERENTES!$V:$V,0),3))","v":""},null,null,"",null,{"$f":"IF(P203=\"\",\"\",INDEX(REFERENTES!$J:$K,MATCH(P203,REFERENTES!$K:$K,0),1))","v":""},null,{"$f":"IF(R203=\"\",\"\",INDEX(REFERENTES!$D:$E,MATCH(R203,REFERENTES!$D:$D,0),2))","v":""},null,null,"",{"$f":"IF(X203=\"\",\"\",INDEX('OTRAS REFERENTES'!$H:$I,MATCH(X203,'OTRAS REFERENTES'!$I:$I,0),1))","v":""},null,null,{"$f":"IF(AA203=\"\",\"\",INDEX('OTRAS REFERENTES'!$K:$L,MATCH(AA203,'OTRAS REFERENTES'!$L:$L,0),1))","v":""},null,null,"",{"$f":"IF(SUMPRODUCT(--EXACT(K203&M203,$AD$2:AD202)),\"\",K203&M203)","v":""},{"$f":"IF(SUMPRODUCT(--EXACT(K203&M203,$AD$2:AD202)),\"\",MAX($AE$3:AE202)+1)","v":""}]
[1,"",202,"","",{"$f":"IF(L204<>\"\",CONCATENATE(DIGITADOR!$B$2,$A$2,DIGITADOR!$M$1,A204),\"\")","v":""},null,null,"",{"$f":"IF(K204=\"\",\"\",INDEX('OTRAS REFERENTES'!$AH$6:$AI$658,MATCH(K204,'OTRAS REFERENTES'!$AH$6:$AH$658,0),2))","v":""},null,{"$f":"IF(J204=\"\",\"\",INDEX(REFERENTES!$T:$W,MATCH(J204,REFERENTES!$V:$V,0),3))","v":""},null,null,"",null,{"$f":"IF(P204=\"\",\"\",INDEX(REFERENTES!$J:$K,MATCH(P204,REFERENTES!$K:$K,0),1))","v":""},null,{"$f":"IF(R204=\"\",\"\",INDEX(REFERENTES!$D:$E,MATCH(R204,REFERENTES!$D:$D,0),2))","v":""},null,null,"",{"$f":"IF(X204=\"\",\"\",INDEX('OTRAS REFERENTES'!$H:$I,MATCH(X204,'OTRAS REFERENTES'!$I:$I,0),1))","v":""},null,null,{"$f":"IF(AA204=\"\",\"\",INDEX('OTRAS REFERENTES'!$K:$L,MATCH(AA204,'OTRAS REFERENTES'!$L:$L,0),1))","v":""},null,null,"",{"$f":"IF(SUMPRODUCT(--EXACT(K204&M204,$AD$2:AD203)),\"\",K204&M204)","v":""},{"$f":"IF(SUMPRODUCT(--EXACT(K204&M204,$AD$2:AD203)),\"\",MAX($AE$3:AE203)+1)","v":""}]
[1,"",203,"","",{"$f":"IF(L205<>\"\",CONCATENATE(DIGITADOR!$B$2,$A$2,DIGITADOR!$M$1,A205),\"\")","v":""},null,null,"",{"$f":"IF(K205=\"\",\"\",INDEX('OTRAS REFERENTES'!$AH$6:$AI$658,MATCH(K205,'OTRAS REFERENTES'!$AH$6:$AH$658,0),2))","v":""},null,{"$f":"IF(J205=\"\",\"\",INDEX(REFERENTES!$T:$W,MATCH(J205,REFERENTES!$V:$V,0),3))","v":""},null,null,"",null,{"$f":"IF(P205=\"\",\"\",INDEX(REFERENTES!$J:$K,MATCH(P205,REFERENTES!$K:$K,0),1))","v":""},null,{"$f":"IF(R205=\"\",\"\",INDEX(REFERENTES!$D:$E,MATCH(R205,REFERENTES!$D:$D,0),2))","v":""},null,null,"",{"$f":"IF(X205=\"\",\"\",INDEX('OTRAS REFERENTES'!$H:$I,MATCH(X205,'OTRAS REFERENTES'!$I:$I,0),1))","v":""},null,null,{"$f":"IF(AA205=\"\",\"\",INDEX('OTRAS REFERENTES'!$K:$L,MATCH(AA205,'OTRAS REFERENTES'!$L:$L,0),1))","v":""},null,null,"",{"$f":"IF(SUMPRODUCT(--EXACT(K205&M205,$AD$2:AD204)),\"\",K205&M205)","v":""},{"$f":"IF(SUMPRODUCT(--EXACT(K205&M205,$AD$2:AD204)),\"\",MAX($AE$3:AE204)+1)","v":""}]
[1,"",204,"","",{"$f":"IF(L206<>\"\",CONCATENATE(DIGITADOR!$B$2,$A$2,DIGITADOR!$M$1,A206),\"\")","v":""},null,null,"",{"$f":"IF(K206=\"\",\"\",INDEX('OTRAS REFERENTES'!$AH$6:$AI$658,MATCH(K206,'OTRAS REFERENTES'!$AH$6:$AH$658,0),2))","v":""},null,{"$f":"IF(J206=\"\",\"\",INDEX(REFERENTES!$T:$W,MATCH(J206,REFERENTES!$V:$V,0),3))","v":""},null,null,"",null,{"$f":"IF(P206=\"\",\"\",INDEX(REFERENTES!$J:$K,MATCH(P206,REFERENTES!$K:$K,0),1))","v":""},null,{"$f":"IF(R206=\"\",\"\",INDEX(REFERENTES!$D:$E,MATCH(R206,REFERENTES!$D:$D,0),2))","v":""},null,null,"",{"$f":"IF(X206=\"\",\"\",INDEX('OTRAS REFERENTES'!$H:$I,MATCH(X206,'OTRAS REFERENTES'!$I:$I,0),1))","v":""},null,null,{"$f":"IF(AA206=\"\",\"\",INDEX('OTRAS REFERENTES'!$K:$L,MATCH(AA206,'OTRAS REFERENTES'!$L:$L,0),1))","v":""},null,null,"",{"$f":"IF(SUMPRODUCT(--EXACT(K206&M206,$AD$2:AD205)),\"\",K206&M206)","v":""},{"$f":"IF(SUMPRODUCT(--EXACT(K206&M206,$AD$2:AD205)),\"\",MAX($AE$3:AE205)+1)","v":""}]
[1,"",205,"","",{"$f":"IF(L207<>\"\",CONCATENATE(DIGITADOR!$B$2,$A$2,DIGITADOR!$M$1,A207),\"\")","v":""},null,null,"",{"$f":"IF(K207=\"\",\"\",INDEX('OTRAS REFERENTES'!$AH$6:$AI$658,MATCH(K207,'OTRAS REFERENTES'!$AH$6:$AH$658,0),2))","v":""},null,{"$f":"IF(J207=\"\",\"\",INDEX(REFERENTES!$T:$W,MATCH(J207,REFERENTES!$V:$V,0),3))","v":""},null,null,"",null,{"$f":"IF(P207=\"\",\"\",INDEX(REFERENTES!$J:$K,MATCH(P207,REFERENTES!$K:$K,0),1))","v":""},null,{"$f":"IF(R207=\"\",\"\",INDEX(REFERENTES!$D:$E,MATCH(R207,REFERENTES!$D:$D,0),2))","v":""},null,null,"",{"$f":"IF(X207=\"\",\"\",INDEX('OTRAS REFERENTES'!$H:$I,MATCH(X207,'OTRAS REFERENTES'!$I:$I,0),1))","v":""},null,null,{"$f":"IF(AA207=\"\",\"\",INDEX('OTRAS REFERENTES'!$K:$L,MATCH(AA207,'OTRAS REFERENTES'!$L:$L,0),1))","v":""},null,null,"",{"$f":"IF(SUMPRODUCT(--EXACT(K207&M207,$AD$2:AD206)),\"\",K207&M207)","v":""},{"$f":"IF(SUMPRODUCT(--EXACT(K207&M207,$AD$2:AD206)),\"\",MAX($AE$3:AE206)+1)","v":""}]
[1,"",206,"","",{"$f":"IF(L208<>\"\",CONCATENATE(DIGITADOR!$B$2,$A$2,DIGITADOR!$M$1,A208),\"\")","v":""},null,null,"",{"$f":"IF(K208=\"\",\"\",INDEX('OTRAS REFERENTES'!$AH$6:$AI$658,MATCH(K208,'OTRAS REFERENTES'!$AH$6:$AH$658,0),2))","v":""},null,{"$f":"IF(J208=\"\",\"\",INDEX(REFERENTES!$T:$W,MATCH(J208,REFERENTES!$V:$V,0),3))","v":""},null,null,"",null,{"$f":"IF(P208=\"\",\"\",INDEX(REFERENTES!$J:$K,MATCH(P208,REFERENTES!$K:$K,0),1))","v":""},null,{"$f":"IF(R208=\"\",\"\",INDEX(REFERENTES!$D:$E,MATCH(R208,REFERENTES!$D:$D,0),2))","v":""},null,null,"",{"$f":"IF(X208=\"\",\"\",INDEX('OTRAS REFERENTES'!$H:$I,MATCH(X208,'OTRAS REFERENTES'!$I:$I,0),1))","v":""},null,null,{"$f":"IF(AA208=\"\",\"\",INDEX('OTRAS REFERENTES'!$K:$L,MATCH(AA208,'OTRAS REFERENTES'!$L:$L,0),1))","v":""},null,null,"",{"$f":"IF(SUMPRODUCT(--EXACT(K208&M208,$AD$2:AD207)),\"\",K208&M208)","v":""},{"$f":"IF(SUMPRODUCT(--EXACT(K208&M208,$AD$2:AD207)),\"\",MAX($AE$3:AE207)+1)","v":""}]
[1,"",207,"","",{"$f":"IF(L209<>\"\",CONCATENATE(DIGITADOR!$B$2,$A$2,DIGITADOR!$M$1,A209),\"\")","v":""},null,null,"",{"$f":"IF(K209=\"\",\"\",INDEX('OTRAS REFERENTES'!$AH$6:$AI$658,MATCH(K209,'OTRAS REFERENTES'!$AH$6:$AH$658,0),2))","v":""},null,{"$f":"IF(J209=\"\",\"\",INDEX(REFERENTES!$T:$W,MATCH(J209,REFERENTES!$V:$V,0),3))","v":""},null,null,"",null,{"$f":"IF(P209=\"\",\"\",INDEX(REFERENTES!$J:$K,MATCH(P209,REFERENTES!$K:$K,0),1))","v":""},null,{"$f":"IF(R209=\"\",\"\",INDEX(REFERENTES!$D:$E,MATCH(R209,REFERENTES!$D:$D,0),2))","v":""},null,null,"",{"$f":"IF(X209=\"\",\"\",INDEX('OTRAS REFERENTES'!$H:$I,MATCH(X209,'OTRAS REFERENTES'!$I:$I,0),1))","v":""},null,null,{"$f":"IF(AA209=\"\",\"\",INDEX('OTRAS REFERENTES'!$K:$L,MATCH(AA209,'OTRAS REFERENTES'!$L:$L,0),1))","v":""},null,null,"",{"$f":"IF(SUMPRODUCT(--EXACT(K209&M209,$AD$2:AD208)),\"\",K209&M209)","v":""},{"$f":"IF(SUMPRODUCT(--EXACT(K209&M209,$AD$2:AD208)),\"\",MAX($AE$3:AE208)+1)","v":""}]
[1,"",208,"","",{"$f":"IF(L210<>\"\",CONCATENATE(DIGITADOR!$B$2,$A$2,DIGITADOR!$M$1,A210),\"\")","v":""},null,null,"",{"$f":"IF(K210=\"\",\"\",INDEX('OTRAS REFERENTES'!$AH$6:$AI$658,MATCH(K210,'OTRAS REFERENTES'!$AH$6:$AH$658,0),2))","v":""},null,{"$f":"IF(J210=\"\",\"\",INDEX(REFERENTES!$T:$W,MATCH(J210,REFERENTES!$V:$V,0),3))","v":""},null,null,"",null,{"$f":"IF(P210=\"\",\"\",INDEX(REFERENTES!$J:$K,MATCH(P210,REFERENTES!$K:$K,0),1))","v":""},null,{"$f":"IF(R210=\"\",\"\",INDEX(REFERENTES!$D:$E,MATCH(R210,REFERENTES!$D:$D,0),2))","v":""},null,null,"",{"$f":"IF(X210=\"\",\"\",INDEX('OTRAS REFERENTES'!$H:$I,MATCH(X210,'OTRAS REFERENTES'!$I:$I,0),1))","v":""},null,null,{"$f":"IF(AA210=\"\",\"\",INDEX('OTRAS REFERENTES'!$K:$L,MATCH(AA210,'OTRAS REFERENTES'!$L:$L,0),1))","v":""},null,null,"",{"$f":"IF(SUMPRODUCT(--EXACT(K210&M210,$AD$2:AD209)),\"\",K210&M210)","v":""},{"$f":"IF(SUMPRODUCT(--EXACT(K210&M210,$AD$2:AD209)),\"\",MAX($AE$3:AE209)+1)","v":""}]
[1,"",209,"","",{"$f":"IF(L211<>\"\",CONCATENATE(DIGITADOR!$B$2,$A$2,DIGITADOR!$M$1,A211),\"\")","v":""},null,null,"",{"$f":"IF(K211=\"\",\"\",INDEX('OTRAS REFERENTES'!$AH$6:$AI$658,MATCH(K211,'OTRAS REFERENTES'!$AH$6:$AH$658,0),2))","v":""},null,{"$f":"IF(J211=\"\",\"\",INDEX(REFERENTES!$T:$W,MATCH(J211,REFERENTES!$V:$V,0),3))","v":""},null,null,"",null,{"$f":"IF(P211=\"\",\"\",INDEX(REFERENTES!$J:$K,MATCH(P211,REFERENTES!$K:$K,0),1))","v":""},null,{"$f":"IF(R211=\"\",\"\",INDEX(REFERENTES!$D:$E,MATCH(R211,REFERENTES!$D:$D,0),2))","v":""},null,null,"",{"$f":"IF(X211=\"\",\"\",INDEX('OTRAS REFERENTES'!$H:$I,MATCH(X211,'OTRAS REFERENTES'!$I:$I,0),1))","v":""},null,null,{"$f":"IF(AA211=\"\",\"\",INDEX('OTRAS REFERENTES'!$K:$L,MATCH(AA211,'OTRAS REFERENTES'!$L:$L,0),1))","v":""},null,null,"",{"$f":"IF(SUMPRODUCT(--EXACT(K211&M211,$AD$2:AD210)),\"\",K211&M211)","v":""},{"$f":"IF(SUMPRODUCT(--EXACT(K211&M211,$AD$2:AD210)),\"\",MAX($AE$3:AE210)+1)","v":""}]
[1,"",210,"","",{"$f":"IF(L212<>\"\",CONCATENATE(DIGITADOR!$B$2,$A$2,DIGITADOR!$M$1,A212),\"\")","v":""},null,null,"",{"$f":"IF(K212=\"\",\"\",INDEX('OTRAS REFERENTES'!$AH$6:$AI$658,MATCH(K212,'OTRAS REFERENTES'!$AH$6:$AH$658,0),2))","v":""},null,{"$f":"IF(J212=\"\",\"\",INDEX(REFERENTES!$T:$W,MATCH(J212,REFERENTES!$V:$V,0),3))","v":""},null,null,"",null,{"$f":"IF(P212=\"\",\"\",INDEX(REFERENTES!$J:$K,MATCH(P212,REFERENTES!$K:$K,0),1))","v":""},null,{"$f":"IF(R212=\"\",\"\",INDEX(REFERENTES!$D:$E,MATCH(R212,REFERENTES!$D:$D,0),2))","v":""},null,null,"",{"$f":"IF(X212=\"\",\"\",INDEX('OTRAS REFERENTES'!$H:$I,MATCH(X212,'OTRAS REFERENTES'!$I:$I,0),1))","v":""},null,null,{"$f":"IF(AA212=\"\",\"\",INDEX('OTRAS REFERENTES'!$K:$L,MATCH(AA212,'OTRAS REFERENTES'!$L:$L,0),1))","v":""},null,null,"",{"$f":"IF(SUMPRODUCT(--EXACT(K212&M212,$AD$2:AD211)),\"\",K212&M212)","v":""},{"$f":"IF(SUMPRODUCT(--EXACT(K212&M212,$AD$2:AD211)),\"\",MAX($AE$3:AE211)+1)","v":""}]
[1,"",211,"","",{"$f":"IF(L213<>\"\",CONCATENATE(DIGITADOR!$B$2,$A$2,DIGITADOR!$M$1,A213),\"\")","v":""},null,null,"",{"$f":"IF(K213=\"\",\"\",INDEX('OTRAS REFERENTES'!$AH$6:$AI$658,MATCH(K213,'OTRAS REFERENTES'!$AH$6:$AH$658,0),2))","v":""},null,{"$f":"IF(J213=\"\",\"\",INDEX(REFERENTES!$T:$W,MATCH(J213,REFERENTES!$V:$V,0),3))","v":""},null,null,"",null,{"$f":"IF(P213=\"\",\"\",INDEX(REFERENTES!$J:$K,MATCH(P213,REFERENTES!$K:$K,0),1))","v":""},null,{"$f":"IF(R213=\"\",\"\",INDEX(REFERENTES!$D:$E,MATCH(R213,REFERENTES!$D:$D,0),2))","v":""},null,null,"",{"$f":"IF(X213=\"\",\"\",INDEX('OTRAS REFERENTES'!$H:$I,MATCH(X213,'OTRAS REFERENTES'!$I:$I,0),1))","v":""},null,null,{"$f":"IF(AA213=\"\",\"\",INDEX('OTRAS REFERENTES'!$K:$L,MATCH(AA213,'OTRAS REFERENTES'!$L:$L,0),1))","v":""},null,null,"",{"$f":"IF(SUMPRODUCT(--EXACT(K213&M213,$AD$2:AD212)),\"\",K213&M213)","v":""},{"$f":"IF(SUMPRODUCT(--EXACT(K213&M213,$AD$2:AD212)),\"\",MAX($AE$3:AE212)+1)","v":""}]
[1,"",212,"","",{"$f":"IF(L214<>\"\",CONCATENATE(DIGITADOR!$B$2,$A$2,DIGITADOR!$M$1,A214),\"\")","v":""},null,null,"",{"$f":"IF(K214=\"\",\"\",INDEX('OTRAS REFERENTES'!$AH$6:$AI$658,MATCH(K214,'OTRAS REFERENTES'!$AH$6:$AH$658,0),2))","v":""},null,{"$f":"IF(J214=\"\",\"\",INDEX(REFERENTES!$T:$W,MATCH(J214,REFERENTES!$V:$V,0),3))","v":""},null,null,"",null,{"$f":"IF(P214=\"\",\"\",INDEX(REFERENTES!$J:$K,MATCH(P214,REFERENTES!$K:$K,0),1))","v":""},null,{"$f":"IF(R214=\"\",\"\",INDEX(REFERENTES!$D:$E,MATCH(R214,REFERENTES!$D:$D,0),2))","v":""},null,null,"",{"$f":"IF(X214=\"\",\"\",INDEX('OTRAS REFERENTES'!$H:$I,MATCH(X214,'OTRAS REFERENTES'!$I:$I,0),1))","v":""},null,null,{"$f":"IF(AA214=\"\",\"\",INDEX('OTRAS REFERENTES'!$K:$L,MATCH(AA214,'OTRAS REFERENTES'!$L:$L,0),1))","v":""},null,null,"",{"$f":"IF(SUMPRODUCT(--EXACT(K214&M214,$AD$2:AD213)),\"\",K214&M214)","v":""},{"$f":"IF(SUMPRODUCT(--EXACT(K214&M214,$AD$2:AD213)),\"\",MAX($AE$3:AE213)+1)","v":""}]
[1,"",213,"","",{"$f":"IF(L215<>\"\",CONCATENATE(DIGITADOR!$B$2,$A$2,DIGITADOR!$M$1,A215),\"\")","v":""},null,null,"",{"$f":"IF(K215=\"\",\"\",INDEX('OTRAS REFERENTES'!$AH$6:$AI$658,MATCH(K215,'OTRAS REFERENTES'!$AH$6:$AH$658,0),2))","v":""},null,{"$f":"IF(J215=\"\",\"\",INDEX(REFERENTES!$T:$W,MATCH(J215,REFERENTES!$V:$V,0),3))","v":""},null,null,"",null,{"$f":"IF(P215=\"\",\"\",INDEX(REFERENTES!$J:$K,MATCH(P215,REFERENTES!$K:$K,0),1))","v":""},null,{"$f":"IF(R215=\"\",\"\",INDEX(REFERENTES!$D:$E,MATCH(R215,REFERENTES!$D:$D,0),2))","v":""},null,null,"",{"$f":"IF(X215=\"\",\"\",INDEX('OTRAS REFERENTES'!$H:$I,MATCH(X215,'OTRAS REFERENTES'!$I:$I,0),1))","v":""},null,null,{"$f":"IF(AA215=\"\",\"\",INDEX('OTRAS REFERENTES'!$K:$L,MATCH(AA215,'OTRAS REFERENTES'!$L:$L,0),1))","v":""},null,null,"",{"$f":"IF(SUMPRODUCT(--EXACT(K215&M215,$AD$2:AD214)),\"\",K215&M215)","v":""},{"$f":"IF(SUMPRODUCT(--EXACT(K215&M215,$AD$2:AD214)),\"\",MAX($AE$3:AE214)+1)","v":""}]
[1,"",214,"","",{"$f":"IF(L216<>\"\",CONCATENATE(DIGITADOR!$B$2,$A$2,DIGITADOR!$M$1,A216),\"\")","v":""},null,null,"",{"$f":"IF(K216=\"\",\"\",INDEX('OTRAS REFERENTES'!$AH$6:$AI$658,MATCH(K216,'OTRAS REFERENTES'!$AH$6:$AH$658,0),2))","v":""},null,{"$f":"IF(J216=\"\",\"\",INDEX(REFERENTES!$T:$W,MATCH(J216,REFERENTES!$V:$V,0),3))","v":""},null,null,"",null,{"$f":"IF(P216=\"\",\"\",INDEX(REFERENTES!$J:$K,MATCH(P216,REFERENTES!$K:$K,0),1))","v":""},null,{"$f":"IF(R216=\"\",\"\",INDEX(REFERENTES!$D:$E,MATCH(R216,REFERENTES!$D:$D,0),2))","v":""},null,null,"",{"$f":"IF(X216=\"\",\"\",INDEX('OTRAS REFERENTES'!$H:$I,MATCH(X216,'OTRAS REFERENTES'!$I:$I,0),1))","v":""},null,null,{"$f":"IF(AA216=\"\",\"\",INDEX('OTRAS REFERENTES'!$K:$L,MATCH(AA216,'OTRAS REFERENTES'!$L:$L,0),1))","v":""},null,null,"",{"$f":"IF(SUMPRODUCT(--EXACT(K216&M216,$AD$2:AD215)),\"\",K216&M216)","v":""},{"$f":"IF(SUMPRODUCT(--EXACT(K216&M216,$AD$2:AD215)),\"\",MAX($AE$3:AE215)+1)","v":""}]
[1,"",215,"","",{"$f":"IF(L217<>\"\",CONCATENATE(DIGITADOR!$B$2,$A$2,DIGITADOR!$M$1,A217),\"\")","v":""},null,null,"",{"$f":"IF(K217=\"\",\"\",INDEX('OTRAS REFERENTES'!$AH$6:$AI$658,MATCH(K217,'OTRAS REFERENTES'!$AH$6:$AH$658,0),2))","v":""},null,{"$f":"IF(J217=\"\",\"\",INDEX(REFERENTES!$T:$W,MATCH(J217,REFERENTES!$V:$V,0),3))","v":""},null,null,"",null,{"$f":"IF(P217=\"\",\"\",INDEX(REFERENTES!$J:$K,MATCH(P217,REFERENTES!$K:$K,0),1))","v":""},null,{"$f":"IF(R217=\"\",\"\",INDEX(REFERENTES!$D:$E,MATCH(R217,REFERENTES!$D:$D,0),2))","v":""},null,null,"",{"$f":"IF(X217=\"\",\"\",INDEX('OTRAS REFERENTES'!$H:$I,MATCH(X217,'OTRAS REFERENTES'!$I:$I,0),1))","v":""},null,null,{"$f":"IF(AA217=\"\",\"\",INDEX('OTRAS REFERENTES'!$K:$L,MATCH(AA217,'OTRAS REFERENTES'!$L:$L,0),1))","v":""},null,null,"",{"$f":"IF(SUMPRODUCT(--EXACT(K217&M217,$AD$2:AD216)),\"\",K217&M217)","v":""},{"$f":"IF(SUMPRODUCT(--EXACT(K217&M217,$AD$2:AD216)),\"\",MAX($AE$3:AE216)+1)","v":""}]
[1,"",216,"","",{"$f":"IF(L218<>\"\",CONCATENATE(DIGITADOR!$B$2,$A$2,DIGITADOR!$M$1,A218),\"\")","v":""},null,null,"",{"$f":"IF(K218=\"\",\"\",INDEX('OTRAS REFERENTES'!$AH$6:$AI$658,MATCH(K218,'OTRAS REFERENTES'!$AH$6:$AH$658,0),2))","v":""},null,{"$f":"IF(J218=\"\",\"\",INDEX(REFERENTES!$T:$W,MATCH(J218,REFERENTES!$V:$V,0),3))","v":""},null,null,"",null,{"$f":"IF(P218=\"\",\"\",INDEX(REFERENTES!$J:$K,MATCH(P218,REFERENTES!$K:$K,0),1))","v":""},null,{"$f":"IF(R218=\"\",\"\",INDEX(REFERENTES!$D:$E,MATCH(R218,REFERENTES!$D:$D,0),2))","v":""},null,null,"",{"$f":"IF(X218=\"\",\"\",INDEX('OTRAS REFERENTES'!$H:$I,MATCH(X218,'OTRAS REFERENTES'!$I:$I,0),1))","v":""},null,null,{"$f":"IF(AA218=\"\",\"\",INDEX('OTRAS REFERENTES'!$K:$L,MATCH(AA218,'OTRAS REFERENTES'!$L:$L,0),1))","v":""},null,null,"",{"$f":"IF(SUMPRODUCT(--EXACT(K218&M218,$AD$2:AD217)),\"\",K218&M218)","v":""},{"$f":"IF(SUMPRODUCT(--EXACT(K218&M218,$AD$2:AD217)),\"\",MAX($AE$3:AE217)+1)","v":""}]
[1,"",217,{"$f":"IF(L219=\"\",\"\",CONCATENATE(C219,F219))","v":""},"",{"$f":"IF(L219<>\"\",CONCATENATE(DIGITADOR!$B$2,$A$2,DIGITADOR!$M$1,A219),\"\")","v":""},null,null,"",{"$f":"IF(K219=\"\",\"\",INDEX('OTRAS REFERENTES'!$AH$6:$AI$658,MATCH(K219,'OTRAS REFERENTES'!$AH$6:$AH$658,0),2))","v":""},null,{"$f":"IF(J219=\"\",\"\",INDEX(REFERENTES!$T:$W,MATCH(J219,REFERENTES!$V:$V,0),3))","v":""},null,null,"",null,{"$f":"IF(P219=\"\",\"\",INDEX(REFERENTES!$J:$K,MATCH(P219,REFERENTES!$K:$K,0),1))","v":""},null,{"$f":"IF(R219=\"\",\"\",INDEX(REFERENTES!$D:$E,MATCH(R219,REFERENTES!$D:$D,0),2))","v":""},null,null,"",{"$f":"IF(X219=\"\",\"\",INDEX('OTRAS REFERENTES'!$H:$I,MATCH(X219,'OTRAS REFERENTES'!$I:$I,0),1))","v":""},null,null,{"$f":"IF(AA219=\"\",\"\",INDEX('OTRAS REFERENTES'!$K:$L,MATCH(AA219,'OTRAS REFERENTES'!$L:$L,0),1))","v":""},null,null,"",{"$f":"IF(SUMPRODUCT(--EXACT(K219&M219,$AD$2:AD218)),\"\",K219&M219)","v":""},{"$f":"IF(SUMPRODUCT(--EXACT(K219&M219,$AD$2:AD218)),\"\",MAX($AE$3:AE218)+1)","v":""}]
[1,"",218,{"$f":"IF(L220=\"\",\"\",CONCATENATE(C220,F220))","v":""},"",{"$f":"IF(L220<>\"\",CONCATENATE(DIGITADOR!$B$2,$A$2,DIGITADOR!$M$1,A220),\"\")","v":""},null,null,"",{"$f":"IF(K220=\"\",\"\",INDEX('OTRAS REFERENTES'!$AH$6:$AI$658,MATCH(K220,'OTRAS REFERENTES'!$AH$6:$AH$658,0),2))","v":""},null,{"$f":"IF(J220=\"\",\"\",INDEX(REFERENTES!$T:$W,MATCH(J220,REFERENTES!$V:$V,0),3))","v":""},null,null,"",null,{"$f":"IF(P220=\"\",\"\",INDEX(REFERENTES!$J:$K,MATCH(P220,REFERENTES!$K:$K,0),1))","v":""},null,{"$f":"IF(R220=\"\",\"\",INDEX(REFERENTES!$D:$E,MATCH(R220,REFERENTES!$D:$D,0),2))","v":""},null,null,"",{"$f":"IF(X220=\"\",\"\",INDEX('OTRAS REFERENTES'!$H:$I,MATCH(X220,'OTRAS REFERENTES'!$I:$I,0),1))","v":""},null,null,{"$f":"IF(AA220=\"\",\"\",INDEX('OTRAS REFERENTES'!$K:$L,MATCH(AA220,'OTRAS REFERENTES'!$L:$L,0),1))","v":""},null,null,"",{"$f":"IF(SUMPRODUCT(--EXACT(K220&M220,$AD$2:AD219)),\"\",K220&M220)","v":""},{"$f":"IF(SUMPRODUCT(--EXACT(K220&M220,$AD$2:AD219)),\"\",MAX($AE$3:AE219)+1)","v":""}]
[1,"",219,"","",{"$f":"IF(L221<>\"\",CONCATENATE(DIGITADOR!$B$2,$A$2,DIGITADOR!$M$1,A221),\"\")","v":""},null,null,"",{"$f":"IF(K221=\"\",\"\",INDEX('OTRAS REFERENTES'!$AH$6:$AI$658,MATCH(K221,'OTRAS REFERENTES'!$AH$6:$AH$658,0),2))","v":""},null,{"$f":"IF(J221=\"\",\"\",INDEX(REFERENTES!$T:$W,MATCH(J221,REFERENTES!$V:$V,0),3))","v":""},null,null,"",null,{"$f":"IF(P221=\"\",\"\",INDEX(REFERENTES!$J:$K,MATCH(P221,REFERENTES!$K:$K,0),1))","v":""},null,{"$f":"IF(R221=\"\",\"\",INDEX(REFERENTES!$D:$E,MATCH(R221,REFERENTES!$D:$D,0),2))","v":""},null,null,"",{"$f":"IF(X221=\"\",\"\",INDEX('OTRAS REFERENTES'!$H:$I,MATCH(X221,'OTRAS REFERENTES'!$I:$I,0),1))","v":""},null,null,{"$f":"IF(AA221=\"\",\"\",INDEX('OTRAS REFERENTES'!$K:$L,MATCH(AA221,'OTRAS REFERENTES'!$L:$L,0),1))","v":""},null,null,"",{"$f":"IF(SUMPRODUCT(--EXACT(K221&M221,$AD$2:AD220)),\"\",K221&M221)","v":""},{"$f":"IF(SUMPRODUCT(--EXACT(K221&M221,$AD$2:AD220)),\"\",MAX($AE$3:AE220)+1)","v":""}]
[1,"",220,"","",{"$f":"IF(L222<>\"\",CONCATENATE(DIGITADOR!$B$2,$A$2,DIGITADOR!$M$1,A222),\"\")","v":""},null,null,"",{"$f":"IF(K222=\"\",\"\",INDEX('OTRAS REFERENTES'!$AH$6:$AI$658,MATCH(K222,'OTRAS REFERENTES'!$AH$6:$AH$658,0),2))","v":""},null,{"$f":"IF(J222=\"\",\"\",INDEX(REFERENTES!$T:$W,MATCH(J222,REFERENTES!$V:$V,0),3))","v":""},null,null,"",null,{"$f":"IF(P222=\"\",\"\",INDEX(REFERENTES!$J:$K,MATCH(P222,REFERENTES!$K:$K,0),1))","v":""},null,{"$f":"IF(R222=\"\",\"\",INDEX(REFERENTES!$D:$E,MATCH(R222,REFERENTES!$D:$D,0),2))","v":""},null,null,"",{"$f":"IF(X222=\"\",\"\",INDEX('OTRAS REFERENTES'!$H:$I,MATCH(X222,'OTRAS REFERENTES'!$I:$I,0),1))","v":""},null,null,{"$f":"IF(AA222=\"\",\"\",INDEX('OTRAS REFERENTES'!$K:$L,MATCH(AA222,'OTRAS REFERENTES'!$L:$L,0),1))","v":""},null,null,"",{"$f":"IF(SUMPRODUCT(--EXACT(K222&M222,$AD$2:AD221)),\"\",K222&M222)","v":""},{"$f":"IF(SUMPRODUCT(--EXACT(K222&M222,$AD$2:AD221)),\"\",MAX($AE$3:AE221)+1)","v":""}]
[1,"",221,"","",{"$f":"IF(L223<>\"\",CONCATENATE(DIGITADOR!$B$2,$A$2,DIGITADOR!$M$1,A223),\"\")","v":""},null,null,"",{"$f":"IF(K223=\"\",\"\",INDEX('OTRAS REFERENTES'!$AH$6:$AI$658,MATCH(K223,'OTRAS REFERENTES'!$AH$6:$AH$658,0),2))","v":""},null,{"$f":"IF(J223=\"\",\"\",INDEX(REFERENTES!$T:$W,MATCH(J223,REFERENTES!$V:$V,0),3))","v":""},null,null,"",null,{"$f":"IF(P223=\"\",\"\",INDEX(REFERENTES!$J:$K,MATCH(P223,REFERENTES!$K:$K,0),1))","v":""},null,{"$f":"IF(R223=\"\",\"\",INDEX(REFERENTES!$D:$E,MATCH(R223,REFERENTES!$D:$D,0),2))","v":""},null,null,"",{"$f":"IF(X223=\"\",\"\",INDEX('OTRAS REFERENTES'!$H:$I,MATCH(X223,'OTRAS REFERENTES'!$I:$I,0),1))","v":""},null,null,{"$f":"IF(AA223=\"\",\"\",INDEX('OTRAS REFERENTES'!$K:$L,MATCH(AA223,'OTRAS REFERENTES'!$L:$L,0),1))","v":""},null,null,"",{"$f":"IF(SUMPRODUCT(--EXACT(K223&M223,$AD$2:AD222)),\"\",K223&M223)","v":""},{"$f":"IF(SUMPRODUCT(--EXACT(K223&M223,$AD$2:AD222)),\"\",MAX($AE$3:AE222)+1)","v":""}]
[1,"",222,"","",{"$f":"IF(L224<>\"\",CONCATENATE(DIGITADOR!$B$2,$A$2,DIGITADOR!$M$1,A224),\"\")","v":""},null,null,"",{"$f":"IF(K224=\"\",\"\",INDEX('OTRAS REFERENTES'!$AH$6:$AI$658,MATCH(K224,'OTRAS REFERENTES'!$AH$6:$AH$658,0),2))","v":""},null,{"$f":"IF(J224=\"\",\"\",INDEX(REFERENTES!$T:$W,MATCH(J224,REFERENTES!$V:$V,0),3))","v":""},null,null,"",null,{"$f":"IF(P224=\"\",\"\",INDEX(REFERENTES!$J:$K,MATCH(P224,REFERENTES!$K:$K,0),1))","v":""},null,{"$f":"IF(R224=\"\",\"\",INDEX(REFERENTES!$D:$E,MATCH(R224,REFERENTES!$D:$D,0),2))","v":""},null,null,"",{"$f":"IF(X224=\"\",\"\",INDEX('OTRAS REFERENTES'!$H:$I,MATCH(X224,'OTRAS REFERENTES'!$I:$I,0),1))","v":""},null,null,{"$f":"IF(AA224=\"\",\"\",INDEX('OTRAS REFERENTES'!$K:$L,MATCH(AA224,'OTRAS REFERENTES'!$L:$L,0),1))","v":""},null,null,"",{"$f":"IF(SUMPRODUCT(--EXACT(K224&M224,$AD$2:AD223)),\"\",K224&M224)","v":""},{"$f":"IF(SUMPRODUCT(--EXACT(K224&M224,$AD$2:AD223)),\"\",MAX($AE$3:AE223)+1)","v":""}]
[1,"",223,"","",{"$f":"IF(L225<>\"\",CONCATENATE(DIGITADOR!$B$2,$A$2,DIGITADOR!$M$1,A225),\"\")","v":""},null,null,"",{"$f":"IF(K225=\"\",\"\",INDEX('OTRAS REFERENTES'!$AH$6:$AI$658,MATCH(K225,'OTRAS REFERENTES'!$AH$6:$AH$658,0),2))","v":""},null,{"$f":"IF(J225=\"\",\"\",INDEX(REFERENTES!$T:$W,MATCH(J225,REFERENTES!$V:$V,0),3))","v":""},null,null,"",null,{"$f":"IF(P225=\"\",\"\",INDEX(REFERENTES!$J:$K,MATCH(P225,REFERENTES!$K:$K,0),1))","v":""},null,{"$f":"IF(R225=\"\",\"\",INDEX(REFERENTES!$D:$E,MATCH(R225,REFERENTES!$D:$D,0),2))","v":""},null,null,"",{"$f":"IF(X225=\"\",\"\",INDEX('OTRAS REFERENTES'!$H:$I,MATCH(X225,'OTRAS REFERENTES'!$I:$I,0),1))","v":""},null,null,{"$f":"IF(AA225=\"\",\"\",INDEX('OTRAS REFERENTES'!$K:$L,MATCH(AA225,'OTRAS REFERENTES'!$L:$L,0),1))","v":""},null,null,"",{"$f":"IF(SUMPRODUCT(--EXACT(K225&M225,$AD$2:AD224)),\"\",K225&M225)","v":""},{"$f":"IF(SUMPRODUCT(--EXACT(K225&M225,$AD$2:AD224)),\"\",MAX($AE$3:AE224)+1)","v":""}]
[1,"",224,"","",{"$f":"IF(L226<>\"\",CONCATENATE(DIGITADOR!$B$2,$A$2,DIGITADOR!$M$1,A226),\"\")","v":""},null,null,"",{"$f":"IF(K226=\"\",\"\",INDEX('OTRAS REFERENTES'!$AH$6:$AI$658,MATCH(K226,'OTRAS REFERENTES'!$AH$6:$AH$658,0),2))","v":""},null,{"$f":"IF(J226=\"\",\"\",INDEX(REFERENTES!$T:$W,MATCH(J226,REFERENTES!$V:$V,0),3))","v":""},null,null,"",null,{"$f":"IF(P226=\"\",\"\",INDEX(REFERENTES!$J:$K,MATCH(P226,REFERENTES!$K:$K,0),1))","v":""},null,{"$f":"IF(R226=\"\",\"\",INDEX(REFERENTES!$D:$E,MATCH(R226,REFERENTES!$D:$D,0),2))","v":""},null,null,"",{"$f":"IF(X226=\"\",\"\",INDEX('OTRAS REFERENTES'!$H:$I,MATCH(X226,'OTRAS REFERENTES'!$I:$I,0),1))","v":""},null,null,{"$f":"IF(AA226=\"\",\"\",INDEX('OTRAS REFERENTES'!$K:$L,MATCH(AA226,'OTRAS REFERENTES'!$L:$L,0),1))","v":""},null,null,"",{"$f":"IF(SUMPRODUCT(--EXACT(K226&M226,$AD$2:AD225)),\"\",K226&M226)","v":""},{"$f":"IF(SUMPRODUCT(--EXACT(K226&M226,$AD$2:AD225)),\"\",MAX($AE$3:AE225)+1)","v":""}]
[1,"",225,"","",{"$f":"IF(L227<>\"\",CONCATENATE(DIGITADOR!$B$2,$A$2,DIGITADOR!$M$1,A227),\"\")","v":""},null,null,"",{"$f":"IF(K227=\"\",\"\",INDEX('OTRAS REFERENTES'!$AH$6:$AI$658,MATCH(K227,'OTRAS REFERENTES'!$AH$6:$AH$658,0),2))","v":""},null,{"$f":"IF(J227=\"\",\"\",INDEX(REFERENTES!$T:$W,MATCH(J227,REFERENTES!$V:$V,0),3))","v":""},null,null,"",null,{"$f":"IF(P227=\"\",\"\",INDEX(REFERENTES!$J:$K,MATCH(P227,REFERENTES!$K:$K,0),1))","v":""},null,{"$f":"IF(R227=\"\",\"\",INDEX(REFERENTES!$D:$E,MATCH(R227,REFERENTES!$D:$D,0),2))","v":""},null,null,"",{"$f":"IF(X227=\"\",\"\",INDEX('OTRAS REFERENTES'!$H:$I,MATCH(X227,'OTRAS REFERENTES'!$I:$I,0),1))","v":""},null,null,{"$f":"IF(AA227=\"\",\"\",INDEX('OTRAS REFERENTES'!$K:$L,MATCH(AA227,'OTRAS REFERENTES'!$L:$L,0),1))","v":""},null,null,"",{"$f":"IF(SUMPRODUCT(--EXACT(K227&M227,$AD$2:AD226)),\"\",K227&M227)","v":""},{"$f":"IF(SUMPRODUCT(--EXACT(K227&M227,$AD$2:AD226)),\"\",MAX($AE$3:AE226)+1)","v":""}]
[1,"",226,"","",{"$f":"IF(L228<>\"\",CONCATENATE(DIGITADOR!$B$2,$A$2,DIGITADOR!$M$1,A228),\"\")","v":""},null,null,"",{"$f":"IF(K228=\"\",\"\",INDEX('OTRAS REFERENTES'!$AH$6:$AI$658,MATCH(K228,'OTRAS REFERENTES'!$AH$6:$AH$658,0),2))","v":""},null,{"$f":"IF(J228=\"\",\"\",INDEX(REFERENTES!$T:$W,MATCH(J228,REFERENTES!$V:$V,0),3))","v":""},null,null,"",null,{"$f":"IF(P228=\"\",\"\",INDEX(REFERENTES!$J:$K,MATCH(P228,REFERENTES!$K:$K,0),1))","v":""},null,{"$f":"IF(R228=\"\",\"\",INDEX(REFERENTES!$D:$E,MATCH(R228,REFERENTES!$D:$D,0),2))","v":""},null,null,"",{"$f":"IF(X228=\"\",\"\",INDEX('OTRAS REFERENTES'!$H:$I,MATCH(X228,'OTRAS REFERENTES'!$I:$I,0),1))","v":""},null,null,{"$f":"IF(AA228=\"\",\"\",INDEX('OTRAS REFERENTES'!$K:$L,MATCH(AA228,'OTRAS REFERENTES'!$L:$L,0),1))","v":""},null,null,"",{"$f":"IF(SUMPRODUCT(--EXACT(K228&M228,$AD$2:AD227)),\"\",K228&M228)","v":""},{"$f":"IF(SUMPRODUCT(--EXACT(K228&M228,$AD$2:AD227)),\"\",MAX($AE$3:AE227)+1)","v":""}]
[1,"",227,"","",{"$f":"IF(L229<>\"\",CONCATENATE(DIGITADOR!$B$2,$A$2,DIGITADOR!$M$1,A229),\"\")","v":""},null,null,"",{"$f":"IF(K229=\"\",\"\",INDEX('OTRAS REFERENTES'!$AH$6:$AI$658,MATCH(K229,'OTRAS REFERENTES'!$AH$6:$AH$658,0),2))","v":""},null,{"$f":"IF(J229=\"\",\"\",INDEX(REFERENTES!$T:$W,MATCH(J229,REFERENTES!$V:$V,0),3))","v":""},null,null,"",null,{"$f":"IF(P229=\"\",\"\",INDEX(REFERENTES!$J:$K,MATCH(P229,REFERENTES!$K:$K,0),1))","v":""},null,{"$f":"IF(R229=\"\",\"\",INDEX(REFERENTES!$D:$E,MATCH(R229,REFERENTES!$D:$D,0),2))","v":""},null,null,"",{"$f":"IF(X229=\"\",\"\",INDEX('OTRAS REFERENTES'!$H:$I,MATCH(X229,'OTRAS REFERENTES'!$I:$I,0),1))","v":""},null,null,{"$f":"IF(AA229=\"\",\"\",INDEX('OTRAS REFERENTES'!$K:$L,MATCH(AA229,'OTRAS REFERENTES'!$L:$L,0),1))","v":""},null,null,"",{"$f":"IF(SUMPRODUCT(--EXACT(K229&M229,$AD$2:AD228)),\"\",K229&M229)","v":""},{"$f":"IF(SUMPRODUCT(--EXACT(K229&M229,$AD$2:AD228)),\"\",MAX($AE$3:AE228)+1)","v":""}]
[1,"",228,"","",{"$f":"IF(L230<>\"\",CONCATENATE(DIGITADOR!$B$2,$A$2,DIGITADOR!$M$1,A230),\"\")","v":""},null,null,"",{"$f":"IF(K230=\"\",\"\",INDEX('OTRAS REFERENTES'!$AH$6:$AI$658,MATCH(K230,'OTRAS REFERENTES'!$AH$6:$AH$658,0),2))","v":""},null,{"$f":"IF(J230=\"\",\"\",INDEX(REFERENTES!$T:$W,MATCH(J230,REFERENTES!$V:$V,0),3))","v":""},null,null,"",null,{"$f":"IF(P230=\"\",\"\",INDEX(REFERENTES!$J:$K,MATCH(P230,REFERENTES!$K:$K,0),1))","v":""},null,{"$f":"IF(R230=\"\",\"\",INDEX(REFERENTES!$D:$E,MATCH(R230,REFERENTES!$D:$D,0),2))","v":""},null,null,"",{"$f":"IF(X230=\"\",\"\",INDEX('OTRAS REFERENTES'!$H:$I,MATCH(X230,'OTRAS REFERENTES'!$I:$I,0),1))","v":""},null,null,{"$f":"IF(AA230=\"\",\"\",INDEX('OTRAS REFERENTES'!$K:$L,MATCH(AA230,'OTRAS REFERENTES'!$L:$L,0),1))","v":""},null,null,"",{"$f":"IF(SUMPRODUCT(--EXACT(K230&M230,$AD$2:AD229)),\"\",K230&M230)","v":""},{"$f":"IF(SUMPRODUCT(--EXACT(K230&M230,$AD$2:AD229)),\"\",MAX($AE$3:AE229)+1)","v":""}]
[1,"",229,"","",{"$f":"IF(L231<>\"\",CONCATENATE(DIGITADOR!$B$2,$A$2,DIGITADOR!$M$1,A231),\"\")","v":""},null,null,"",{"$f":"IF(K231=\"\",\"\",INDEX('OTRAS REFERENTES'!$AH$6:$AI$658,MATCH(K231,'OTRAS REFERENTES'!$AH$6:$AH$658,0),2))","v":""},null,{"$f":"IF(J231=\"\",\"\",INDEX(REFERENTES!$T:$W,MATCH(J231,REFERENTES!$V:$V,0),3))","v":""},null,null,"",null,{"$f":"IF(P231=\"\",\"\",INDEX(REFERENTES!$J:$K,MATCH(P231,REFERENTES!$K:$K,0),1))","v":""},null,{"$f":"IF(R231=\"\",\"\",INDEX(REFERENTES!$D:$E,MATCH(R231,REFERENTES!$D:$D,0),2))","v":""},null,null,"",{"$f":"IF(X231=\"\",\"\",INDEX('OTRAS REFERENTES'!$H:$I,MATCH(X231,'OTRAS REFERENTES'!$I:$I,0),1))","v":""},null,null,{"$f":"IF(AA231=\"\",\"\",INDEX('OTRAS REFERENTES'!$K:$L,MATCH(AA231,'OTRAS REFERENTES'!$L:$L,0),1))","v":""},null,null,"",{"$f":"IF(SUMPRODUCT(--EXACT(K231&M231,$AD$2:AD230)),\"\",K231&M231)","v":""},{"$f":"IF(SUMPRODUCT(--EXACT(K231&M231,$AD$2:AD230)),\"\",MAX($AE$3:AE230)+1)","v":""}]
[1,"",230,"","",{"$f":"IF(L232<>\"\",CONCATENATE(DIGITADOR!$B$2,$A$2,DIGITADOR!$M$1,A232),\"\")","v":""},null,null,"",{"$f":"IF(K232=\"\",\"\",INDEX('OTRAS REFERENTES'!$AH$6:$AI$658,MATCH(K232,'OTRAS REFERENTES'!$AH$6:$AH$658,0),2))","v":""},null,{"$f":"IF(J232=\"\",\"\",INDEX(REFERENTES!$T:$W,MATCH(J232,REFERENTES!$V:$V,0),3))","v":""},null,null,"",null,{"$f":"IF(P232=\"\",\"\",INDEX(REFERENTES!$J:$K,MATCH(P232,REFERENTES!$K:$K,0),1))","v":""},null,{"$f":"IF(R232=\"\",\"\",INDEX(REFERENTES!$D:$E,MATCH(R232,REFERENTES!$D:$D,0),2))","v":""},null,null,"",{"$f":"IF(X232=\"\",\"\",INDEX('OTRAS REFERENTES'!$H:$I,MATCH(X232,'OTRAS REFERENTES'!$I:$I,0),1))","v":""},null,null,{"$f":"IF(AA232=\"\",\"\",INDEX('OTRAS REFERENTES'!$K:$L,MATCH(AA232,'OTRAS REFERENTES'!$L:$L,0),1))","v":""},null,null,"",{"$f":"IF(SUMPRODUCT(--EXACT(K232&M232,$AD$2:AD231)),\"\",K232&M232)","v":""},{"$f":"IF(SUMPRODUCT(--EXACT(K232&M232,$AD$2:AD231)),\"\",MAX($AE$3:AE231)+1)","v":""}]
[1,"",231,"","",{"$f":"IF(L233<>\"\",CONCATENATE(DIGITADOR!$B$2,$A$2,DIGITADOR!$M$1,A233),\"\")","v":""},null,null,"",{"$f":"IF(K233=\"\",\"\",INDEX('OTRAS REFERENTES'!$AH$6:$AI$658,MATCH(K233,'OTRAS REFERENTES'!$AH$6:$AH$658,0),2))","v":""},null,{"$f":"IF(J233=\"\",\"\",INDEX(REFERENTES!$T:$W,MATCH(J233,REFERENTES!$V:$V,0),3))","v":""},null,null,"",null,{"$f":"IF(P233=\"\",\"\",INDEX(REFERENTES!$J:$K,MATCH(P233,REFERENTES!$K:$K,0),1))","v":""},null,{"$f":"IF(R233=\"\",\"\",INDEX(REFERENTES!$D:$E,MATCH(R233,REFERENTES!$D:$D,0),2))","v":""},null,null,"",{"$f":"IF(X233=\"\",\"\",INDEX('OTRAS REFERENTES'!$H:$I,MATCH(X233,'OTRAS REFERENTES'!$I:$I,0),1))","v":""},null,null,{"$f":"IF(AA233=\"\",\"\",INDEX('OTRAS REFERENTES'!$K:$L,MATCH(AA233,'OTRAS REFERENTES'!$L:$L,0),1))","v":""},null,null,"",{"$f":"IF(SUMPRODUCT(--EXACT(K233&M233,$AD$2:AD232)),\"\",K233&M233)","v":""},{"$f":"IF(SUMPRODUCT(--EXACT(K233&M233,$AD$2:AD232)),\"\",MAX($AE$3:AE232)+1)","v":""}]
[1,"",232,"","",{"$f":"IF(L234<>\"\",CONCATENATE(DIGITADOR!$B$2,$A$2,DIGITADOR!$M$1,A234),\"\")","v":""},null,null,"",{"$f":"IF(K234=\"\",\"\",INDEX('OTRAS REFERENTES'!$AH$6:$AI$658,MATCH(K234,'OTRAS REFERENTES'!$AH$6:$AH$658,0),2))","v":""},null,{"$f":"IF(J234=\"\",\"\",INDEX(REFERENTES!$T:$W,MATCH(J234,REFERENTES!$V:$V,0),3))","v":""},null,null,"",null,{"$f":"IF(P234=\"\",\"\",INDEX(REFERENTES!$J:$K,MATCH(P234,REFERENTES!$K:$K,0),1))","v":""},null,{"$f":"IF(R234=\"\",\"\",INDEX(REFERENTES!$D:$E,MATCH(R234,REFERENTES!$D:$D,0),2))","v":""},null,null,"",{"$f":"IF(X234=\"\",\"\",INDEX('OTRAS REFERENTES'!$H:$I,MATCH(X234,'OTRAS REFERENTES'!$I:$I,0),1))","v":""},null,null,{"$f":"IF(AA234=\"\",\"\",INDEX('OTRAS REFERENTES'!$K:$L,MATCH(AA234,'OTRAS REFERENTES'!$L:$L,0),1))","v":""},null,null,"",{"$f":"IF(SUMPRODUCT(--EXACT(K234&M234,$AD$2:AD233)),\"\",K234&M234)","v":""},{"$f":"IF(SUMPRODUCT(--EXACT(K234&M234,$AD$2:AD233)),\"\",MAX($AE$3:AE233)+1)","v":""}]
[1,"",233,"","",{"$f":"IF(L235<>\"\",CONCATENATE(DIGITADOR!$B$2,$A$2,DIGITADOR!$M$1,A235),\"\")","v":""},null,null,"",{"$f":"IF(K235=\"\",\"\",INDEX('OTRAS REFERENTES'!$AH$6:$AI$658,MATCH(K235,'OTRAS REFERENTES'!$AH$6:$AH$658,0),2))","v":""},null,{"$f":"IF(J235=\"\",\"\",INDEX(REFERENTES!$T:$W,MATCH(J235,REFERENTES!$V:$V,0),3))","v":""},null,null,"",null,{"$f":"IF(P235=\"\",\"\",INDEX(REFERENTES!$J:$K,MATCH(P235,REFERENTES!$K:$K,0),1))","v":""},null,{"$f":"IF(R235=\"\",\"\",INDEX(REFERENTES!$D:$E,MATCH(R235,REFERENTES!$D:$D,0),2))","v":""},null,null,"",{"$f":"IF(X235=\"\",\"\",INDEX('OTRAS REFERENTES'!$H:$I,MATCH(X235,'OTRAS REFERENTES'!$I:$I,0),1))","v":""},null,null,{"$f":"IF(AA235=\"\",\"\",INDEX('OTRAS REFERENTES'!$K:$L,MATCH(AA235,'OTRAS REFERENTES'!$L:$L,0),1))","v":""},null,null,"",{"$f":"IF(SUMPRODUCT(--EXACT(K235&M235,$AD$2:AD234)),\"\",K235&M235)","v":""},{"$f":"IF(SUMPRODUCT(--EXACT(K235&M235,$AD$2:AD234)),\"\",MAX($AE$3:AE234)+1)","v":""}]
[1,"",234,"","",{"$f":"IF(L236<>\"\",CONCATENATE(DIGITADOR!$B$2,$A$2,DIGITADOR!$M$1,A236),\"\")","v":""},null,null,"",{"$f":"IF(K236=\"\",\"\",INDEX('OTRAS REFERENTES'!$AH$6:$AI$658,MATCH(K236,'OTRAS REFERENTES'!$AH$6:$AH$658,0),2))","v":""},null,{"$f":"IF(J236=\"\",\"\",INDEX(REFERENTES!$T:$W,MATCH(J236,REFERENTES!$V:$V,0),3))","v":""},null,null,"",null,{"$f":"IF(P236=\"\",\"\",INDEX(REFERENTES!$J:$K,MATCH(P236,REFERENTES!$K:$K,0),1))","v":""},null,{"$f":"IF(R236=\"\",\"\",INDEX(REFERENTES!$D:$E,MATCH(R236,REFERENTES!$D:$D,0),2))","v":""},null,null,"",{"$f":"IF(X236=\"\",\"\",INDEX('OTRAS REFERENTES'!$H:$I,MATCH(X236,'OTRAS REFERENTES'!$I:$I,0),1))","v":""},null,null,{"$f":"IF(AA236=\"\",\"\",INDEX('OTRAS REFERENTES'!$K:$L,MATCH(AA236,'OTRAS REFERENTES'!$L:$L,0),1))","v":""},null,null,"",{"$f":"IF(SUMPRODUCT(--EXACT(K236&M236,$AD$2:AD235)),\"\",K236&M236)","v":""},{"$f":"IF(SUMPRODUCT(--EXACT(K236&M236,$AD$2:AD235)),\"\",MAX($AE$3:AE235)+1)","v":""}]
[1,"",235,"","",{"$f":"IF(L237<>\"\",CONCATENATE(DIGITADOR!$B$2,$A$2,DIGITADOR!$M$1,A237),\"\")","v":""},null,null,"",{"$f":"IF(K237=\"\",\"\",INDEX('OTRAS REFERENTES'!$AH$6:$AI$658,MATCH(K237,'OTRAS REFERENTES'!$AH$6:$AH$658,0),2))","v":""},null,{"$f":"IF(J237=\"\",\"\",INDEX(REFERENTES!$T:$W,MATCH(J237,REFERENTES!$V:$V,0),3))","v":""},null,null,"",null,{"$f":"IF(P237=\"\",\"\",INDEX(REFERENTES!$J:$K,MATCH(P237,REFERENTES!$K:$K,0),1))","v":""},null,{"$f":"IF(R237=\"\",\"\",INDEX(REFERENTES!$D:$E,MATCH(R237,REFERENTES!$D:$D,0),2))","v":""},null,null,"",{"$f":"IF(X237=\"\",\"\",INDEX('OTRAS REFERENTES'!$H:$I,MATCH(X237,'OTRAS REFERENTES'!$I:$I,0),1))","v":""},null,null,{"$f":"IF(AA237=\"\",\"\",INDEX('OTRAS REFERENTES'!$K:$L,MATCH(AA237,'OTRAS REFERENTES'!$L:$L,0),1))","v":""},null,null,"",{"$f":"IF(SUMPRODUCT(--EXACT(K237&M237,$AD$2:AD236)),\"\",K237&M237)","v":""},{"$f":"IF(SUMPRODUCT(--EXACT(K237&M237,$AD$2:AD236)),\"\",MAX($AE$3:AE236)+1)","v":""}]
[1,"",236,"","",{"$f":"IF(L238<>\"\",CONCATENATE(DIGITADOR!$B$2,$A$2,DIGITADOR!$M$1,A238),\"\")","v":""},null,null,"",{"$f":"IF(K238=\"\",\"\",INDEX('OTRAS REFERENTES'!$AH$6:$AI$658,MATCH(K238,'OTRAS REFERENTES'!$AH$6:$AH$658,0),2))","v":""},null,{"$f":"IF(J238=\"\",\"\",INDEX(REFERENTES!$T:$W,MATCH(J238,REFERENTES!$V:$V,0),3))","v":""},null,null,"",null,{"$f":"IF(P238=\"\",\"\",INDEX(REFERENTES!$J:$K,MATCH(P238,REFERENTES!$K:$K,0),1))","v":""},null,{"$f":"IF(R238=\"\",\"\",INDEX(REFERENTES!$D:$E,MATCH(R238,REFERENTES!$D:$D,0),2))","v":""},null,null,"",{"$f":"IF(X238=\"\",\"\",INDEX('OTRAS REFERENTES'!$H:$I,MATCH(X238,'OTRAS REFERENTES'!$I:$I,0),1))","v":""},null,null,{"$f":"IF(AA238=\"\",\"\",INDEX('OTRAS REFERENTES'!$K:$L,MATCH(AA238,'OTRAS REFERENTES'!$L:$L,0),1))","v":""},null,null,"",{"$f":"IF(SUMPRODUCT(--EXACT(K238&M238,$AD$2:AD237)),\"\",K238&M238)","v":""},{"$f":"IF(SUMPRODUCT(--EXACT(K238&M238,$AD$2:AD237)),\"\",MAX($AE$3:AE237)+1)","v":""}]
[1,"",237,"","",{"$f":"IF(L239<>\"\",CONCATENATE(DIGITADOR!$B$2,$A$2,DIGITADOR!$M$1,A239),\"\")","v":""},null,null,"",{"$f":"IF(K239=\"\",\"\",INDEX('OTRAS REFERENTES'!$AH$6:$AI$658,MATCH(K239,'OTRAS REFERENTES'!$AH$6:$AH$658,0),2))","v":""},null,{"$f":"IF(J239=\"\",\"\",INDEX(REFERENTES!$T:$W,MATCH(J239,REFERENTES!$V:$V,0),3))","v":""},null,null,"",null,{"$f":"IF(P239=\"\",\"\",INDEX(REFERENTES!$J:$K,MATCH(P239,REFERENTES!$K:$K,0),1))","v":""},null,{"$f":"IF(R239=\"\",\"\",INDEX(REFERENTES!$D:$E,MATCH(R239,REFERENTES!$D:$D,0),2))","v":""},null,null,"",{"$f":"IF(X239=\"\",\"\",INDEX('OTRAS REFERENTES'!$H:$I,MATCH(X239,'OTRAS REFERENTES'!$I:$I,0),1))","v":""},null,null,{"$f":"IF(AA239=\"\",\"\",INDEX('OTRAS REFERENTES'!$K:$L,MATCH(AA239,'OTRAS REFERENTES'!$L:$L,0),1))","v":""},null,null,"",{"$f":"IF(SUMPRODUCT(--EXACT(K239&M239,$AD$2:AD238)),\"\",K239&M239)","v":""},{"$f":"IF(SUMPRODUCT(--EXACT(K239&M239,$AD$2:AD238)),\"\",MAX($AE$3:AE238)+1)","v":""}]
[1,"",238,"","",{"$f":"IF(L240<>\"\",CONCATENATE(DIGITADOR!$B$2,$A$2,DIGITADOR!$M$1,A240),\"\")","v":""},null,null,"",{"$f":"IF(K240=\"\",\"\",INDEX('OTRAS REFERENTES'!$AH$6:$AI$658,MATCH(K240,'OTRAS REFERENTES'!$AH$6:$AH$658,0),2))","v":""},null,{"$f":"IF(J240=\"\",\"\",INDEX(REFERENTES!$T:$W,MATCH(J240,REFERENTES!$V:$V,0),3))","v":""},null,null,"",null,{"$f":"IF(P240=\"\",\"\",INDEX(REFERENTES!$J:$K,MATCH(P240,REFERENTES!$K:$K,0),1))","v":""},null,{"$f":"IF(R240=\"\",\"\",INDEX(REFERENTES!$D:$E,MATCH(R240,REFERENTES!$D:$D,0),2))","v":""},null,null,"",{"$f":"IF(X240=\"\",\"\",INDEX('OTRAS REFERENTES'!$H:$I,MATCH(X240,'OTRAS REFERENTES'!$I:$I,0),1))","v":""},null,null,{"$f":"IF(AA240=\"\",\"\",INDEX('OTRAS REFERENTES'!$K:$L,MATCH(AA240,'OTRAS REFERENTES'!$L:$L,0),1))","v":""},null,null,"",{"$f":"IF(SUMPRODUCT(--EXACT(K240&M240,$AD$2:AD239)),\"\",K240&M240)","v":""},{"$f":"IF(SUMPRODUCT(--EXACT(K240&M240,$AD$2:AD239)),\"\",MAX($AE$3:AE239)+1)","v":""}]
[1,"",239,"","",{"$f":"IF(L241<>\"\",CONCATENATE(DIGITADOR!$B$2,$A$2,DIGITADOR!$M$1,A241),\"\")","v":""},null,null,"",{"$f":"IF(K241=\"\",\"\",INDEX('OTRAS REFERENTES'!$AH$6:$AI$658,MATCH(K241,'OTRAS REFERENTES'!$AH$6:$AH$658,0),2))","v":""},null,{"$f":"IF(J241=\"\",\"\",INDEX(REFERENTES!$T:$W,MATCH(J241,REFERENTES!$V:$V,0),3))","v":""},null,null,"",null,{"$f":"IF(P241=\"\",\"\",INDEX(REFERENTES!$J:$K,MATCH(P241,REFERENTES!$K:$K,0),1))","v":""},null,{"$f":"IF(R241=\"\",\"\",INDEX(REFERENTES!$D:$E,MATCH(R241,REFERENTES!$D:$D,0),2))","v":""},null,null,"",{"$f":"IF(X241=\"\",\"\",INDEX('OTRAS REFERENTES'!$H:$I,MATCH(X241,'OTRAS REFERENTES'!$I:$I,0),1))","v":""},null,null,{"$f":"IF(AA241=\"\",\"\",INDEX('OTRAS REFERENTES'!$K:$L,MATCH(AA241,'OTRAS REFERENTES'!$L:$L,0),1))","v":""},null,null,"",{"$f":"IF(SUMPRODUCT(--EXACT(K241&M241,$AD$2:AD240)),\"\",K241&M241)","v":""},{"$f":"IF(SUMPRODUCT(--EXACT(K241&M241,$AD$2:AD240)),\"\",MAX($AE$3:AE240)+1)","v":""}]
[1,"",240,"","",{"$f":"IF(L242<>\"\",CONCATENATE(DIGITADOR!$B$2,$A$2,DIGITADOR!$M$1,A242),\"\")","v":""},null,null,"",{"$f":"IF(K242=\"\",\"\",INDEX('OTRAS REFERENTES'!$AH$6:$AI$658,MATCH(K242,'OTRAS REFERENTES'!$AH$6:$AH$658,0),2))","v":""},null,{"$f":"IF(J242=\"\",\"\",INDEX(REFERENTES!$T:$W,MATCH(J242,REFERENTES!$V:$V,0),3))","v":""},null,null,"",null,{"$f":"IF(P242=\"\",\"\",INDEX(REFERENTES!$J:$K,MATCH(P242,REFERENTES!$K:$K,0),1))","v":""},null,{"$f":"IF(R242=\"\",\"\",INDEX(REFERENTES!$D:$E,MATCH(R242,REFERENTES!$D:$D,0),2))","v":""},null,null,"",{"$f":"IF(X242=\"\",\"\",INDEX('OTRAS REFERENTES'!$H:$I,MATCH(X242,'OTRAS REFERENTES'!$I:$I,0),1))","v":""},null,null,{"$f":"IF(AA242=\"\",\"\",INDEX('OTRAS REFERENTES'!$K:$L,MATCH(AA242,'OTRAS REFERENTES'!$L:$L,0),1))","v":""},null,null,"",{"$f":"IF(SUMPRODUCT(--EXACT(K242&M242,$AD$2:AD241)),\"\",K242&M242)","v":""},{"$f":"IF(SUMPRODUCT(--EXACT(K242&M242,$AD$2:AD241)),\"\",MAX($AE$3:AE241)+1)","v":""}]
[1,"",241,"","",{"$f":"IF(L243<>\"\",CONCATENATE(DIGITADOR!$B$2,$A$2,DIGITADOR!$M$1,A243),\"\")","v":""},null,null,"",{"$f":"IF(K243=\"\",\"\",INDEX('OTRAS REFERENTES'!$AH$6:$AI$658,MATCH(K243,'OTRAS REFERENTES'!$AH$6:$AH$658,0),2))","v":""},null,{"$f":"IF(J243=\"\",\"\",INDEX(REFERENTES!$T:$W,MATCH(J243,REFERENTES!$V:$V,0),3))","v":""},null,null,"",null,{"$f":"IF(P243=\"\",\"\",INDEX(REFERENTES!$J:$K,MATCH(P243,REFERENTES!$K:$K,0),1))","v":""},null,{"$f":"IF(R243=\"\",\"\",INDEX(REFERENTES!$D:$E,MATCH(R243,REFERENTES!$D:$D,0),2))","v":""},null,null,"",{"$f":"IF(X243=\"\",\"\",INDEX('OTRAS REFERENTES'!$H:$I,MATCH(X243,'OTRAS REFERENTES'!$I:$I,0),1))","v":""},null,null,{"$f":"IF(AA243=\"\",\"\",INDEX('OTRAS REFERENTES'!$K:$L,MATCH(AA243,'OTRAS REFERENTES'!$L:$L,0),1))","v":""},null,null,"",{"$f":"IF(SUMPRODUCT(--EXACT(K243&M243,$AD$2:AD242)),\"\",K243&M243)","v":""},{"$f":"IF(SUMPRODUCT(--EXACT(K243&M243,$AD$2:AD242)),\"\",MAX($AE$3:AE242)+1)","v":""}]
[1,"",242,"","",{"$f":"IF(L244<>\"\",CONCATENATE(DIGITADOR!$B$2,$A$2,DIGITADOR!$M$1,A244),\"\")","v":""},null,null,"",{"$f":"IF(K244=\"\",\"\",INDEX('OTRAS REFERENTES'!$AH$6:$AI$658,MATCH(K244,'OTRAS REFERENTES'!$AH$6:$AH$658,0),2))","v":""},null,{"$f":"IF(J244=\"\",\"\",INDEX(REFERENTES!$T:$W,MATCH(J244,REFERENTES!$V:$V,0),3))","v":""},null,null,"",null,{"$f":"IF(P244=\"\",\"\",INDEX(REFERENTES!$J:$K,MATCH(P244,REFERENTES!$K:$K,0),1))","v":""},null,{"$f":"IF(R244=\"\",\"\",INDEX(REFERENTES!$D:$E,MATCH(R244,REFERENTES!$D:$D,0),2))","v":""},null,null,"",{"$f":"IF(X244=\"\",\"\",INDEX('OTRAS REFERENTES'!$H:$I,MATCH(X244,'OTRAS REFERENTES'!$I:$I,0),1))","v":""},null,null,{"$f":"IF(AA244=\"\",\"\",INDEX('OTRAS REFERENTES'!$K:$L,MATCH(AA244,'OTRAS REFERENTES'!$L:$L,0),1))","v":""},null,null,"",{"$f":"IF(SUMPRODUCT(--EXACT(K244&M244,$AD$2:AD243)),\"\",K244&M244)","v":""},{"$f":"IF(SUMPRODUCT(--EXACT(K244&M244,$AD$2:AD243)),\"\",MAX($AE$3:AE243)+1)","v":""}]
[1,"",243,"","",{"$f":"IF(L245<>\"\",CONCATENATE(DIGITADOR!$B$2,$A$2,DIGITADOR!$M$1,A245),\"\")","v":""},null,null,"",{"$f":"IF(K245=\"\",\"\",INDEX('OTRAS REFERENTES'!$AH$6:$AI$658,MATCH(K245,'OTRAS REFERENTES'!$AH$6:$AH$658,0),2))","v":""},null,{"$f":"IF(J245=\"\",\"\",INDEX(REFERENTES!$T:$W,MATCH(J245,REFERENTES!$V:$V,0),3))","v":""},null,null,"",null,{"$f":"IF(P245=\"\",\"\",INDEX(REFERENTES!$J:$K,MATCH(P245,REFERENTES!$K:$K,0),1))","v":""},null,{"$f":"IF(R245=\"\",\"\",INDEX(REFERENTES!$D:$E,MATCH(R245,REFERENTES!$D:$D,0),2))","v":""},null,null,"",{"$f":"IF(X245=\"\",\"\",INDEX('OTRAS REFERENTES'!$H:$I,MATCH(X245,'OTRAS REFERENTES'!$I:$I,0),1))","v":""},null,null,{"$f":"IF(AA245=\"\",\"\",INDEX('OTRAS REFERENTES'!$K:$L,MATCH(AA245,'OTRAS REFERENTES'!$L:$L,0),1))","v":""},null,null,"",{"$f":"IF(SUMPRODUCT(--EXACT(K245&M245,$AD$2:AD244)),\"\",K245&M245)","v":""},{"$f":"IF(SUMPRODUCT(--EXACT(K245&M245,$AD$2:AD244)),\"\",MAX($AE$3:AE244)+1)","v":""}]
[1,"",244,"","",{"$f":"IF(L246<>\"\",CONCATENATE(DIGITADOR!$B$2,$A$2,DIGITADOR!$M$1,A246),\"\")","v":""},null,null,"",{"$f":"IF(K246=\"\",\"\",INDEX('OTRAS REFERENTES'!$AH$6:$AI$658,MATCH(K246,'OTRAS REFERENTES'!$AH$6:$AH$658,0),2))","v":""},null,{"$f":"IF(J246=\"\",\"\",INDEX(REFERENTES!$T:$W,MATCH(J246,REFERENTES!$V:$V,0),3))","v":""},null,null,"",null,{"$f":"IF(P246=\"\",\"\",INDEX(REFERENTES!$J:$K,MATCH(P246,REFERENTES!$K:$K,0),1))","v":""},null,{"$f":"IF(R246=\"\",\"\",INDEX(REFERENTES!$D:$E,MATCH(R246,REFERENTES!$D:$D,0),2))","v":""},null,null,"",{"$f":"IF(X246=\"\",\"\",INDEX('OTRAS REFERENTES'!$H:$I,MATCH(X246,'OTRAS REFERENTES'!$I:$I,0),1))","v":""},null,null,{"$f":"IF(AA246=\"\",\"\",INDEX('OTRAS REFERENTES'!$K:$L,MATCH(AA246,'OTRAS REFERENTES'!$L:$L,0),1))","v":""},null,null,"",{"$f":"IF(SUMPRODUCT(--EXACT(K246&M246,$AD$2:AD245)),\"\",K246&M246)","v":""},{"$f":"IF(SUMPRODUCT(--EXACT(K246&M246,$AD$2:AD245)),\"\",MAX($AE$3:AE245)+1)","v":""}]
[1,"",245,"","",{"$f":"IF(L247<>\"\",CONCATENATE(DIGITADOR!$B$2,$A$2,DIGITADOR!$M$1,A247),\"\")","v":""},null,null,"",{"$f":"IF(K247=\"\",\"\",INDEX('OTRAS REFERENTES'!$AH$6:$AI$658,MATCH(K247,'OTRAS REFERENTES'!$AH$6:$AH$658,0),2))","v":""},null,{"$f":"IF(J247=\"\",\"\",INDEX(REFERENTES!$T:$W,MATCH(J247,REFERENTES!$V:$V,0),3))","v":""},null,null,"",null,{"$f":"IF(P247=\"\",\"\",INDEX(REFERENTES!$J:$K,MATCH(P247,REFERENTES!$K:$K,0),1))","v":""},null,{"$f":"IF(R247=\"\",\"\",INDEX(REFERENTES!$D:$E,MATCH(R247,REFERENTES!$D:$D,0),2))","v":""},null,null,"",{"$f":"IF(X247=\"\",\"\",INDEX('OTRAS REFERENTES'!$H:$I,MATCH(X247,'OTRAS REFERENTES'!$I:$I,0),1))","v":""},null,null,{"$f":"IF(AA247=\"\",\"\",INDEX('OTRAS REFERENTES'!$K:$L,MATCH(AA247,'OTRAS REFERENTES'!$L:$L,0),1))","v":""},null,null,"",{"$f":"IF(SUMPRODUCT(--EXACT(K247&M247,$AD$2:AD246)),\"\",K247&M247)","v":""},{"$f":"IF(SUMPRODUCT(--EXACT(K247&M247,$AD$2:AD246)),\"\",MAX($AE$3:AE246)+1)","v":""}]
[1,"",246,"","",{"$f":"IF(L248<>\"\",CONCATENATE(DIGITADOR!$B$2,$A$2,DIGITADOR!$M$1,A248),\"\")","v":""},null,null,"",{"$f":"IF(K248=\"\",\"\",INDEX('OTRAS REFERENTES'!$AH$6:$AI$658,MATCH(K248,'OTRAS REFERENTES'!$AH$6:$AH$658,0),2))","v":""},null,{"$f":"IF(J248=\"\",\"\",INDEX(REFERENTES!$T:$W,MATCH(J248,REFERENTES!$V:$V,0),3))","v":""},null,null,"",null,{"$f":"IF(P248=\"\",\"\",INDEX(REFERENTES!$J:$K,MATCH(P248,REFERENTES!$K:$K,0),1))","v":""},null,{"$f":"IF(R248=\"\",\"\",INDEX(REFERENTES!$D:$E,MATCH(R248,REFERENTES!$D:$D,0),2))","v":""},null,null,"",{"$f":"IF(X248=\"\",\"\",INDEX('OTRAS REFERENTES'!$H:$I,MATCH(X248,'OTRAS REFERENTES'!$I:$I,0),1))","v":""},null,null,{"$f":"IF(AA248=\"\",\"\",INDEX('OTRAS REFERENTES'!$K:$L,MATCH(AA248,'OTRAS REFERENTES'!$L:$L,0),1))","v":""},null,null,"",{"$f":"IF(SUMPRODUCT(--EXACT(K248&M248,$AD$2:AD247)),\"\",K248&M248)","v":""},{"$f":"IF(SUMPRODUCT(--EXACT(K248&M248,$AD$2:AD247)),\"\",MAX($AE$3:AE247)+1)","v":""}]
[1,"",247,"","",{"$f":"IF(L249<>\"\",CONCATENATE(DIGITADOR!$B$2,$A$2,DIGITADOR!$M$1,A249),\"\")","v":""},null,null,"",{"$f":"IF(K249=\"\",\"\",INDEX('OTRAS REFERENTES'!$AH$6:$AI$658,MATCH(K249,'OTRAS REFERENTES'!$AH$6:$AH$658,0),2))","v":""},null,{"$f":"IF(J249=\"\",\"\",INDEX(REFERENTES!$T:$W,MATCH(J249,REFERENTES!$V:$V,0),3))","v":""},null,null,"",null,{"$f":"IF(P249=\"\",\"\",INDEX(REFERENTES!$J:$K,MATCH(P249,REFERENTES!$K:$K,0),1))","v":""},null,{"$f":"IF(R249=\"\",\"\",INDEX(REFERENTES!$D:$E,MATCH(R249,REFERENTES!$D:$D,0),2))","v":""},null,null,"",{"$f":"IF(X249=\"\",\"\",INDEX('OTRAS REFERENTES'!$H:$I,MATCH(X249,'OTRAS REFERENTES'!$I:$I,0),1))","v":""},null,null,{"$f":"IF(AA249=\"\",\"\",INDEX('OTRAS REFERENTES'!$K:$L,MATCH(AA249,'OTRAS REFERENTES'!$L:$L,0),1))","v":""},null,null,"",{"$f":"IF(SUMPRODUCT(--EXACT(K249&M249,$AD$2:AD248)),\"\",K249&M249)","v":""},{"$f":"IF(SUMPRODUCT(--EXACT(K249&M249,$AD$2:AD248)),\"\",MAX($AE$3:AE248)+1)","v":""}]
[1,"",248,"","",{"$f":"IF(L250<>\"\",CONCATENATE(DIGITADOR!$B$2,$A$2,DIGITADOR!$M$1,A250),\"\")","v":""},null,null,"",{"$f":"IF(K250=\"\",\"\",INDEX('OTRAS REFERENTES'!$AH$6:$AI$658,MATCH(K250,'OTRAS REFERENTES'!$AH$6:$AH$658,0),2))","v":""},null,{"$f":"IF(J250=\"\",\"\",INDEX(REFERENTES!$T:$W,MATCH(J250,REFERENTES!$V:$V,0),3))","v":""},null,null,"",null,{"$f":"IF(P250=\"\",\"\",INDEX(REFERENTES!$J:$K,MATCH(P250,REFERENTES!$K:$K,0),1))","v":""},null,{"$f":"IF(R250=\"\",\"\",INDEX(REFERENTES!$D:$E,MATCH(R250,REFERENTES!$D:$D,0),2))","v":""},null,null,"",{"$f":"IF(X250=\"\",\"\",INDEX('OTRAS REFERENTES'!$H:$I,MATCH(X250,'OTRAS REFERENTES'!$I:$I,0),1))","v":""},null,null,{"$f":"IF(AA250=\"\",\"\",INDEX('OTRAS REFERENTES'!$K:$L,MATCH(AA250,'OTRAS REFERENTES'!$L:$L,0),1))","v":""},null,null,"",{"$f":"IF(SUMPRODUCT(--EXACT(K250&M250,$AD$2:AD249)),\"\",K250&M250)","v":""},{"$f":"IF(SUMPRODUCT(--EXACT(K250&M250,$AD$2:AD249)),\"\",MAX($AE$3:AE249)+1)","v":""}]
[1,"",249,"","",{"$f":"IF(L251<>\"\",CONCATENATE(DIGITADOR!$B$2,$A$2,DIGITADOR!$M$1,A251),\"\")","v":""},null,null,"",{"$f":"IF(K251=\"\",\"\",INDEX('OTRAS REFERENTES'!$AH$6:$AI$658,MATCH(K251,'OTRAS REFERENTES'!$AH$6:$AH$658,0),2))","v":""},null,{"$f":"IF(J251=\"\",\"\",INDEX(REFERENTES!$T:$W,MATCH(J251,REFERENTES!$V:$V,0),3))","v":""},null,null,"",null,{"$f":"IF(P251=\"\",\"\",INDEX(REFERENTES!$J:$K,MATCH(P251,REFERENTES!$K:$K,0),1))","v":""},null,{"$f":"IF(R251=\"\",\"\",INDEX(REFERENTES!$D:$E,MATCH(R251,REFERENTES!$D:$D,0),2))","v":""},null,null,"",{"$f":"IF(X251=\"\",\"\",INDEX('OTRAS REFERENTES'!$H:$I,MATCH(X251,'OTRAS REFERENTES'!$I:$I,0),1))","v":""},null,null,{"$f":"IF(AA251=\"\",\"\",INDEX('OTRAS REFERENTES'!$K:$L,MATCH(AA251,'OTRAS REFERENTES'!$L:$L,0),1))","v":""},null,null,"",{"$f":"IF(SUMPRODUCT(--EXACT(K251&M251,$AD$2:AD250)),\"\",K251&M251)","v":""},{"$f":"IF(SUMPRODUCT(--EXACT(K251&M251,$AD$2:AD250)),\"\",MAX($AE$3:AE250)+1)","v":""}]
[1,"",250,"","",{"$f":"IF(L252<>\"\",CONCATENATE(DIGITADOR!$B$2,$A$2,DIGITADOR!$M$1,A252),\"\")","v":""},null,null,"",{"$f":"IF(K252=\"\",\"\",INDEX('OTRAS REFERENTES'!$AH$6:$AI$658,MATCH(K252,'OTRAS REFERENTES'!$AH$6:$AH$658,0),2))","v":""},null,{"$f":"IF(J252=\"\",\"\",INDEX(REFERENTES!$T:$W,MATCH(J252,REFERENTES!$V:$V,0),3))","v":""},null,null,"",null,{"$f":"IF(P252=\"\",\"\",INDEX(REFERENTES!$J:$K,MATCH(P252,REFERENTES!$K:$K,0),1))","v":""},null,{"$f":"IF(R252=\"\",\"\",INDEX(REFERENTES!$D:$E,MATCH(R252,REFERENTES!$D:$D,0),2))","v":""},null,null,"",{"$f":"IF(X252=\"\",\"\",INDEX('OTRAS REFERENTES'!$H:$I,MATCH(X252,'OTRAS REFERENTES'!$I:$I,0),1))","v":""},null,null,{"$f":"IF(AA252=\"\",\"\",INDEX('OTRAS REFERENTES'!$K:$L,MATCH(AA252,'OTRAS REFERENTES'!$L:$L,0),1))","v":""},null,null,"",{"$f":"IF(SUMPRODUCT(--EXACT(K252&M252,$AD$2:AD251)),\"\",K252&M252)","v":""},{"$f":"IF(SUMPRODUCT(--EXACT(K252&M252,$AD$2:AD251)),\"\",MAX($AE$3:AE251)+1)","v":""}]
[1,"",251,"","",{"$f":"IF(L253<>\"\",CONCATENATE(DIGITADOR!$B$2,$A$2,DIGITADOR!$M$1,A253),\"\")","v":""},null,null,"",{"$f":"IF(K253=\"\",\"\",INDEX('OTRAS REFERENTES'!$AH$6:$AI$658,MATCH(K253,'OTRAS REFERENTES'!$AH$6:$AH$658,0),2))","v":""},null,{"$f":"IF(J253=\"\",\"\",INDEX(REFERENTES!$T:$W,MATCH(J253,REFERENTES!$V:$V,0),3))","v":""},null,null,"",null,{"$f":"IF(P253=\"\",\"\",INDEX(REFERENTES!$J:$K,MATCH(P253,REFERENTES!$K:$K,0),1))","v":""},null,{"$f":"IF(R253=\"\",\"\",INDEX(REFERENTES!$D:$E,MATCH(R253,REFERENTES!$D:$D,0),2))","v":""},null,null,"",{"$f":"IF(X253=\"\",\"\",INDEX('OTRAS REFERENTES'!$H:$I,MATCH(X253,'OTRAS REFERENTES'!$I:$I,0),1))","v":""},null,null,{"$f":"IF(AA253=\"\",\"\",INDEX('OTRAS REFERENTES'!$K:$L,MATCH(AA253,'OTRAS REFERENTES'!$L:$L,0),1))","v":""},null,null,"",{"$f":"IF(SUMPRODUCT(--EXACT(K253&M253,$AD$2:AD252)),\"\",K253&M253)","v":""},{"$f":"IF(SUMPRODUCT(--EXACT(K253&M253,$AD$2:AD252)),\"\",MAX($AE$3:AE252)+1)","v":""}]
[1,"",252,"","",{"$f":"IF(L254<>\"\",CONCATENATE(DIGITADOR!$B$2,$A$2,DIGITADOR!$M$1,A254),\"\")","v":""},null,null,"",{"$f":"IF(K254=\"\",\"\",INDEX('OTRAS REFERENTES'!$AH$6:$AI$658,MATCH(K254,'OTRAS REFERENTES'!$AH$6:$AH$658,0),2))","v":""},null,{"$f":"IF(J254=\"\",\"\",INDEX(REFERENTES!$T:$W,MATCH(J254,REFERENTES!$V:$V,0),3))","v":""},null,null,"",null,{"$f":"IF(P254=\"\",\"\",INDEX(REFERENTES!$J:$K,MATCH(P254,REFERENTES!$K:$K,0),1))","v":""},null,{"$f":"IF(R254=\"\",\"\",INDEX(REFERENTES!$D:$E,MATCH(R254,REFERENTES!$D:$D,0),2))","v":""},null,null,"",{"$f":"IF(X254=\"\",\"\",INDEX('OTRAS REFERENTES'!$H:$I,MATCH(X254,'OTRAS REFERENTES'!$I:$I,0),1))","v":""},null,null,{"$f":"IF(AA254=\"\",\"\",INDEX('OTRAS REFERENTES'!$K:$L,MATCH(AA254,'OTRAS REFERENTES'!$L:$L,0),1))","v":""},null,null,"",{"$f":"IF(SUMPRODUCT(--EXACT(K254&M254,$AD$2:AD253)),\"\",K254&M254)","v":""},{"$f":"IF(SUMPRODUCT(--EXACT(K254&M254,$AD$2:AD253)),\"\",MAX($AE$3:AE253)+1)","v":""}]
[1,"",253,"","",{"$f":"IF(L255<>\"\",CONCATENATE(DIGITADOR!$B$2,$A$2,DIGITADOR!$M$1,A255),\"\")","v":""},null,null,"",{"$f":"IF(K255=\"\",\"\",INDEX('OTRAS REFERENTES'!$AH$6:$AI$658,MATCH(K255,'OTRAS REFERENTES'!$AH$6:$AH$658,0),2))","v":""},null,{"$f":"IF(J255=\"\",\"\",INDEX(REFERENTES!$T:$W,MATCH(J255,REFERENTES!$V:$V,0),3))","v":""},null,null,"",null,{"$f":"IF(P255=\"\",\"\",INDEX(REFERENTES!$J:$K,MATCH(P255,REFERENTES!$K:$K,0),1))","v":""},null,{"$f":"IF(R255=\"\",\"\",INDEX(REFERENTES!$D:$E,MATCH(R255,REFERENTES!$D:$D,0),2))","v":""},null,null,"",{"$f":"IF(X255=\"\",\"\",INDEX('OTRAS REFERENTES'!$H:$I,MATCH(X255,'OTRAS REFERENTES'!$I:$I,0),1))","v":""},null,null,{"$f":"IF(AA255=\"\",\"\",INDEX('OTRAS REFERENTES'!$K:$L,MATCH(AA255,'OTRAS REFERENTES'!$L:$L,0),1))","v":""},null,null,"",{"$f":"IF(SUMPRODUCT(--EXACT(K255&M255,$AD$2:AD254)),\"\",K255&M255)","v":""},{"$f":"IF(SUMPRODUCT(--EXACT(K255&M255,$AD$2:AD254)),\"\",MAX($AE$3:AE254)+1)","v":""}]
[1,"",254,"","",{"$f":"IF(L256<>\"\",CONCATENATE(DIGITADOR!$B$2,$A$2,DIGITADOR!$M$1,A256),\"\")","v":""},null,null,"",{"$f":"IF(K256=\"\",\"\",INDEX('OTRAS REFERENTES'!$AH$6:$AI$658,MATCH(K256,'OTRAS REFERENTES'!$AH$6:$AH$658,0),2))","v":""},null,{"$f":"IF(J256=\"\",\"\",INDEX(REFERENTES!$T:$W,MATCH(J256,REFERENTES!$V:$V,0),3))","v":""},null,null,"",null,{"$f":"IF(P256=\"\",\"\",INDEX(REFERENTES!$J:$K,MATCH(P256,REFERENTES!$K:$K,0),1))","v":""},null,{"$f":"IF(R256=\"\",\"\",INDEX(REFERENTES!$D:$E,MATCH(R256,REFERENTES!$D:$D,0),2))","v":""},null,null,"",{"$f":"IF(X256=\"\",\"\",INDEX('OTRAS REFERENTES'!$H:$I,MATCH(X256,'OTRAS REFERENTES'!$I:$I,0),1))","v":""},null,null,{"$f":"IF(AA256=\"\",\"\",INDEX('OTRAS REFERENTES'!$K:$L,MATCH(AA256,'OTRAS REFERENTES'!$L:$L,0),1))","v":""},null,null,"",{"$f":"IF(SUMPRODUCT(--EXACT(K256&M256,$AD$2:AD255)),\"\",K256&M256)","v":""},{"$f":"IF(SUMPRODUCT(--EXACT(K256&M256,$AD$2:AD255)),\"\",MAX($AE$3:AE255)+1)","v":""}]
[1,"",255,"","",{"$f":"IF(L257<>\"\",CONCATENATE(DIGITADOR!$B$2,$A$2,DIGITADOR!$M$1,A257),\"\")","v":""},null,null,"",{"$f":"IF(K257=\"\",\"\",INDEX('OTRAS REFERENTES'!$AH$6:$AI$658,MATCH(K257,'OTRAS REFERENTES'!$AH$6:$AH$658,0),2))","v":""},null,{"$f":"IF(J257=\"\",\"\",INDEX(REFERENTES!$T:$W,MATCH(J257,REFERENTES!$V:$V,0),3))","v":""},null,null,"",null,{"$f":"IF(P257=\"\",\"\",INDEX(REFERENTES!$J:$K,MATCH(P257,REFERENTES!$K:$K,0),1))","v":""},null,{"$f":"IF(R257=\"\",\"\",INDEX(REFERENTES!$D:$E,MATCH(R257,REFERENTES!$D:$D,0),2))","v":""},null,null,"",{"$f":"IF(X257=\"\",\"\",INDEX('OTRAS REFERENTES'!$H:$I,MATCH(X257,'OTRAS REFERENTES'!$I:$I,0),1))","v":""},null,null,{"$f":"IF(AA257=\"\",\"\",INDEX('OTRAS REFERENTES'!$K:$L,MATCH(AA257,'OTRAS REFERENTES'!$L:$L,0),1))","v":""},null,null,"",{"$f":"IF(SUMPRODUCT(--EXACT(K257&M257,$AD$2:AD256)),\"\",K257&M257)","v":""},{"$f":"IF(SUMPRODUCT(--EXACT(K257&M257,$AD$2:AD256)),\"\",MAX($AE$3:AE256)+1)","v":""}]
[1,"",256,"","",{"$f":"IF(L258<>\"\",CONCATENATE(DIGITADOR!$B$2,$A$2,DIGITADOR!$M$1,A258),\"\")","v":""},null,null,"",{"$f":"IF(K258=\"\",\"\",INDEX('OTRAS REFERENTES'!$AH$6:$AI$658,MATCH(K258,'OTRAS REFERENTES'!$AH$6:$AH$658,0),2))","v":""},null,{"$f":"IF(J258=\"\",\"\",INDEX(REFERENTES!$T:$W,MATCH(J258,REFERENTES!$V:$V,0),3))","v":""},null,null,"",null,{"$f":"IF(P258=\"\",\"\",INDEX(REFERENTES!$J:$K,MATCH(P258,REFERENTES!$K:$K,0),1))","v":""},null,{"$f":"IF(R258=\"\",\"\",INDEX(REFERENTES!$D:$E,MATCH(R258,REFERENTES!$D:$D,0),2))","v":""},null,null,"",{"$f":"IF(X258=\"\",\"\",INDEX('OTRAS REFERENTES'!$H:$I,MATCH(X258,'OTRAS REFERENTES'!$I:$I,0),1))","v":""},null,null,{"$f":"IF(AA258=\"\",\"\",INDEX('OTRAS REFERENTES'!$K:$L,MATCH(AA258,'OTRAS REFERENTES'!$L:$L,0),1))","v":""},null,null,"",{"$f":"IF(SUMPRODUCT(--EXACT(K258&M258,$AD$2:AD257)),\"\",K258&M258)","v":""},{"$f":"IF(SUMPRODUCT(--EXACT(K258&M258,$AD$2:AD257)),\"\",MAX($AE$3:AE257)+1)","v":""}]
[1,"",257,"",{"$f":"CONCATENATE(I259,L259)","v":""},{"$f":"IF(L259<>\"\",CONCATENATE(DIGITADOR!$B$2,$A$2,DIGITADOR!$M$1,A259),\"\")","v":""},null,null,{"$f":"IF(G259<>\"\",G259+H259,\"\")","v":""},{"$f":"IF(K259=\"\",\"\",INDEX('OTRAS REFERENTES'!$AH$6:$AI$658,MATCH(K259,'OTRAS REFERENTES'!$AH$6:$AH$658,0),2))","v":""},null,{"$f":"IF(J259=\"\",\"\",INDEX(REFERENTES!$T:$W,MATCH(J259,REFERENTES!$V:$V,0),3))","v":""},null,null,{"$f":"IF(P259=\"\",\"\",UPPER(P259))","v":""},null,{"$f":"IF(P259=\"\",\"\",INDEX(REFERENTES!$J:$K,MATCH(P259,REFERENTES!$K:$K,0),1))","v":""},null,{"$f":"IF(R259=\"\",\"\",INDEX(REFERENTES!$D:$E,MATCH(R259,REFERENTES!$D:$D,0),2))","v":""},null,null,{"$f":"IF(U259=\"\",IF(T259=\"\",\"\",IF(AND(T259>=0,T259<=50),\"A\",IF(AND(T259>50,T259<=150),\"B\",\"C\"))),U259)","v":""},{"$f":"IF(X259=\"\",\"\",INDEX('OTRAS REFERENTES'!$H:$I,MATCH(X259,'OTRAS REFERENTES'!$I:$I,0),1))","v":""},null,null,{"$f":"IF(AA259=\"\",\"\",INDEX('OTRAS REFERENTES'!$K:$L,MATCH(AA259,'OTRAS REFERENTES'!$L:$L,0),1))","v":""},null,null,"",{"$f":"IF(SUMPRODUCT(--EXACT(K259&M259,$AD$2:AD258)),\"\",K259&M259)","v":""},{"$f":"IF(SUMPRODUCT(--EXACT(K259&M259,$AD$2:AD258)),\"\",MAX($AE$3:AE258)+1)","v":""}]
[1,"",258,"","",{"$f":"IF(L260<>\"\",CONCATENATE(DIGITADOR!$B$2,$A$2,DIGITADOR!$M$1,A260),\"\")","v":""},null,null,"",{"$f":"IF(K260=\"\",\"\",INDEX('OTRAS REFERENTES'!$AH$6:$AI$658,MATCH(K260,'OTRAS REFERENTES'!$AH$6:$AH$658,0),2))","v":""},null,{"$f":"IF(J260=\"\",\"\",INDEX(REFERENTES!$T:$W,MATCH(J260,REFERENTES!$V:$V,0),3))","v":""},null,null,"",null,{"$f":"IF(P260=\"\",\"\",INDEX(REFERENTES!$J:$K,MATCH(P260,REFERENTES!$K:$K,0),1))","v":""},null,{"$f":"IF(R260=\"\",\"\",INDEX(REFERENTES!$D:$E,MATCH(R260,REFERENTES!$D:$D,0),2))","v":""},null,null,"",{"$f":"IF(X260=\"\",\"\",INDEX('OTRAS REFERENTES'!$H:$I,MATCH(X260,'OTRAS REFERENTES'!$I:$I,0),1))","v":""},null,null,{"$f":"IF(AA260=\"\",\"\",INDEX('OTRAS REFERENTES'!$K:$L,MATCH(AA260,'OTRAS REFERENTES'!$L:$L,0),1))","v":""},null,null,{"$f":"IF(R260=\"\",\"\",UPPER(R260))","v":""},{"$f":"IF(SUMPRODUCT(--EXACT(K260&M260,$AD$2:AD259)),\"\",K260&M260)","v":""},{"$f":"IF(SUMPRODUCT(--EXACT(K260&M260,$AD$2:AD259)),\"\",MAX($AE$3:AE259)+1)","v":""}]
[{"$f":"IF(L261=L260,A260,A260+1)","v":1},{"$f":"IF(F261<>F260, F261,\"\")","v":""},259,"","",{"$f":"IF(L261<>\"\",CONCATENATE(DIGITADOR!$B$2,$A$2,DIGITADOR!$M$1,A261),\"\")","v":""},null,null,"",{"$f":"IF(K261=\"\",\"\",INDEX('OTRAS REFERENTES'!$AH$6:$AI$658,MATCH(K261,'OTRAS REFERENTES'!$AH$6:$AH$658,0),2))","v":""},null,{"$f":"IF(J261=\"\",\"\",INDEX(REFERENTES!$T:$W,MATCH(J261,REFERENTES!$V:$V,0),3))","v":""},null,null,"",null,{"$f":"IF(P261=\"\",\"\",INDEX(REFERENTES!$J:$K,MATCH(P261,REFERENTES!$K:$K,0),1))","v":""},null,{"$f":"IF(R261=\"\",\"\",INDEX(REFERENTES!$D:$E,MATCH(R261,REFERENTES!$D:$D,0),2))","v":""},null,null,"",{"$f":"IF(X261=\"\",\"\",INDEX('OTRAS REFERENTES'!$H:$I,MATCH(X261,'OTRAS REFERENTES'!$I:$I,0),1))","v":""},null,null,{"$f":"IF(AA261=\"\",\"\",INDEX('OTRAS REFERENTES'!$K:$L,MATCH(AA261,'OTRAS REFERENTES'!$L:$L,0),1))","v":""},null,null,"",{"$f":"IF(SUMPRODUCT(--EXACT(K261&M261,$AD$2:AD260)),\"\",K261&M261)","v":""},{"$f":"IF(SUMPRODUCT(--EXACT(K261&M261,$AD$2:AD260)),\"\",MAX($AE$3:AE260)+1)","v":""}]
[1,"",260,"","",{"$f":"IF(L262<>\"\",CONCATENATE(DIGITADOR!$B$2,$A$2,DIGITADOR!$M$1,A262),\"\")","v":""},null,null,"",{"$f":"IF(K262=\"\",\"\",INDEX('OTRAS REFERENTES'!$AH$6:$AI$658,MATCH(K262,'OTRAS REFERENTES'!$AH$6:$AH$658,0),2))","v":""},null,{"$f":"IF(J262=\"\",\"\",INDEX(REFERENTES!$T:$W,MATCH(J262,REFERENTES!$V:$V,0),3))","v":""},null,null,"",null,{"$f":"IF(P262=\"\",\"\",INDEX(REFERENTES!$J:$K,MATCH(P262,REFERENTES!$K:$K,0),1))","v":""},null,{"$f":"IF(R262=\"\",\"\",INDEX(REFERENTES!$D:$E,MATCH(R262,REFERENTES!$D:$D,0),2))","v":""},null,null,"",{"$f":"IF(X262=\"\",\"\",INDEX('OTRAS REFERENTES'!$H:$I,MATCH(X262,'OTRAS REFERENTES'!$I:$I,0),1))","v":""},null,null,{"$f":"IF(AA262=\"\",\"\",INDEX('OTRAS REFERENTES'!$K:$L,MATCH(AA262,'OTRAS REFERENTES'!$L:$L,0),1))","v":""},null,null,"",{"$f":"IF(SUMPRODUCT(--EXACT(K262&M262,$AD$2:AD261)),\"\",K262&M262)","v":""},{"$f":"IF(SUMPRODUCT(--EXACT(K262&M262,$AD$2:AD261)),\"\",MAX($AE$3:AE261)+1)","v":""}]
[1,"",261,"","",{"$f":"IF(L263<>\"\",CONCATENATE(DIGITADOR!$B$2,$A$2,DIGITADOR!$M$1,A263),\"\")","v":""},null,null,"",{"$f":"IF(K263=\"\",\"\",INDEX('OTRAS REFERENTES'!$AH$6:$AI$658,MATCH(K263,'OTRAS REFERENTES'!$AH$6:$AH$658,0),2))","v":""},null,{"$f":"IF(J263=\"\",\"\",INDEX(REFERENTES!$T:$W,MATCH(J263,REFERENTES!$V:$V,0),3))","v":""},null,null,"",null,{"$f":"IF(P263=\"\",\"\",INDEX(REFERENTES!$J:$K,MATCH(P263,REFERENTES!$K:$K,0),1))","v":""},null,{"$f":"IF(R263=\"\",\"\",INDEX(REFERENTES!$D:$E,MATCH(R263,REFERENTES!$D:$D,0),2))","v":""},null,null,"",{"$f":"IF(X263=\"\",\"\",INDEX('OTRAS REFERENTES'!$H:$I,MATCH(X263,'OTRAS REFERENTES'!$I:$I,0),1))","v":""},null,null,{"$f":"IF(AA263=\"\",\"\",INDEX('OTRAS REFERENTES'!$K:$L,MATCH(AA263,'OTRAS REFERENTES'!$L:$L,0),1))","v":""},null,null,"",{"$f":"IF(SUMPRODUCT(--EXACT(K263&M263,$AD$2:AD262)),\"\",K263&M263)","v":""},{"$f":"IF(SUMPRODUCT(--EXACT(K263&M263,$AD$2:AD262)),\"\",MAX($AE$3:AE262)+1)","v":""}]
[1,"",262,"","",{"$f":"IF(L264<>\"\",CONCATENATE(DIGITADOR!$B$2,$A$2,DIGITADOR!$M$1,A264),\"\")","v":""},null,null,"",{"$f":"IF(K264=\"\",\"\",INDEX('OTRAS REFERENTES'!$AH$6:$AI$658,MATCH(K264,'OTRAS REFERENTES'!$AH$6:$AH$658,0),2))","v":""},null,{"$f":"IF(J264=\"\",\"\",INDEX(REFERENTES!$T:$W,MATCH(J264,REFERENTES!$V:$V,0),3))","v":""},null,null,"",null,{"$f":"IF(P264=\"\",\"\",INDEX(REFERENTES!$J:$K,MATCH(P264,REFERENTES!$K:$K,0),1))","v":""},null,{"$f":"IF(R264=\"\",\"\",INDEX(REFERENTES!$D:$E,MATCH(R264,REFERENTES!$D:$D,0),2))","v":""},null,null,"",{"$f":"IF(X264=\"\",\"\",INDEX('OTRAS REFERENTES'!$H:$I,MATCH(X264,'OTRAS REFERENTES'!$I:$I,0),1))","v":""},null,null,{"$f":"IF(AA264=\"\",\"\",INDEX('OTRAS REFERENTES'!$K:$L,MATCH(AA264,'OTRAS REFERENTES'!$L:$L,0),1))","v":""},null,null,"",{"$f":"IF(SUMPRODUCT(--EXACT(K264&M264,$AD$2:AD263)),\"\",K264&M264)","v":""},{"$f":"IF(SUMPRODUCT(--EXACT(K264&M264,$AD$2:AD263)),\"\",MAX($AE$3:AE263)+1)","v":""}]
[1,"",263,"","",{"$f":"IF(L265<>\"\",CONCATENATE(DIGITADOR!$B$2,$A$2,DIGITADOR!$M$1,A265),\"\")","v":""},null,null,"",{"$f":"IF(K265=\"\",\"\",INDEX('OTRAS REFERENTES'!$AH$6:$AI$658,MATCH(K265,'OTRAS REFERENTES'!$AH$6:$AH$658,0),2))","v":""},null,{"$f":"IF(J265=\"\",\"\",INDEX(REFERENTES!$T:$W,MATCH(J265,REFERENTES!$V:$V,0),3))","v":""},null,null,"",null,{"$f":"IF(P265=\"\",\"\",INDEX(REFERENTES!$J:$K,MATCH(P265,REFERENTES!$K:$K,0),1))","v":""},null,{"$f":"IF(R265=\"\",\"\",INDEX(REFERENTES!$D:$E,MATCH(R265,REFERENTES!$D:$D,0),2))","v":""},null,null,"",{"$f":"IF(X265=\"\",\"\",INDEX('OTRAS REFERENTES'!$H:$I,MATCH(X265,'OTRAS REFERENTES'!$I:$I,0),1))","v":""},null,null,{"$f":"IF(AA265=\"\",\"\",INDEX('OTRAS REFERENTES'!$K:$L,MATCH(AA265,'OTRAS REFERENTES'!$L:$L,0),1))","v":""},null,null,"",{"$f":"IF(SUMPRODUCT(--EXACT(K265&M265,$AD$2:AD264)),\"\",K265&M265)","v":""},{"$f":"IF(SUMPRODUCT(--EXACT(K265&M265,$AD$2:AD264)),\"\",MAX($AE$3:AE264)+1)","v":""}]
[1,"",264,"","",{"$f":"IF(L266<>\"\",CONCATENATE(DIGITADOR!$B$2,$A$2,DIGITADOR!$M$1,A266),\"\")","v":""},null,null,"",{"$f":"IF(K266=\"\",\"\",INDEX('OTRAS REFERENTES'!$AH$6:$AI$658,MATCH(K266,'OTRAS REFERENTES'!$AH$6:$AH$658,0),2))","v":""},null,{"$f":"IF(J266=\"\",\"\",INDEX(REFERENTES!$T:$W,MATCH(J266,REFERENTES!$V:$V,0),3))","v":""},null,null,"",null,{"$f":"IF(P266=\"\",\"\",INDEX(REFERENTES!$J:$K,MATCH(P266,REFERENTES!$K:$K,0),1))","v":""},null,{"$f":"IF(R266=\"\",\"\",INDEX(REFERENTES!$D:$E,MATCH(R266,REFERENTES!$D:$D,0),2))","v":""},null,null,"",{"$f":"IF(X266=\"\",\"\",INDEX('OTRAS REFERENTES'!$H:$I,MATCH(X266,'OTRAS REFERENTES'!$I:$I,0),1))","v":""},null,null,{"$f":"IF(AA266=\"\",\"\",INDEX('OTRAS REFERENTES'!$K:$L,MATCH(AA266,'OTRAS REFERENTES'!$L:$L,0),1))","v":""},null,null,"",{"$f":"IF(SUMPRODUCT(--EXACT(K266&M266,$AD$2:AD265)),\"\",K266&M266)","v":""},{"$f":"IF(SUMPRODUCT(--EXACT(K266&M266,$AD$2:AD265)),\"\",MAX($AE$3:AE265)+1)","v":""}]
[1,"",265,"","",{"$f":"IF(L267<>\"\",CONCATENATE(DIGITADOR!$B$2,$A$2,DIGITADOR!$M$1,A267),\"\")","v":""},null,null,"",{"$f":"IF(K267=\"\",\"\",INDEX('OTRAS REFERENTES'!$AH$6:$AI$658,MATCH(K267,'OTRAS REFERENTES'!$AH$6:$AH$658,0),2))","v":""},null,{"$f":"IF(J267=\"\",\"\",INDEX(REFERENTES!$T:$W,MATCH(J267,REFERENTES!$V:$V,0),3))","v":""},null,null,"",null,{"$f":"IF(P267=\"\",\"\",INDEX(REFERENTES!$J:$K,MATCH(P267,REFERENTES!$K:$K,0),1))","v":""},null,{"$f":"IF(R267=\"\",\"\",INDEX(REFERENTES!$D:$E,MATCH(R267,REFERENTES!$D:$D,0),2))","v":""},null,null,"",{"$f":"IF(X267=\"\",\"\",INDEX('OTRAS REFERENTES'!$H:$I,MATCH(X267,'OTRAS REFERENTES'!$I:$I,0),1))","v":""},null,null,{"$f":"IF(AA267=\"\",\"\",INDEX('OTRAS REFERENTES'!$K:$L,MATCH(AA267,'OTRAS REFERENTES'!$L:$L,0),1))","v":""},null,null,"",{"$f":"IF(SUMPRODUCT(--EXACT(K267&M267,$AD$2:AD266)),\"\",K267&M267)","v":""},{"$f":"IF(SUMPRODUCT(--EXACT(K267&M267,$AD$2:AD266)),\"\",MAX($AE$3:AE266)+1)","v":""}]
[1,"",266,"","",{"$f":"IF(L268<>\"\",CONCATENATE(DIGITADOR!$B$2,$A$2,DIGITADOR!$M$1,A268),\"\")","v":""},null,null,"",{"$f":"IF(K268=\"\",\"\",INDEX('OTRAS REFERENTES'!$AH$6:$AI$658,MATCH(K268,'OTRAS REFERENTES'!$AH$6:$AH$658,0),2))","v":""},null,{"$f":"IF(J268=\"\",\"\",INDEX(REFERENTES!$T:$W,MATCH(J268,REFERENTES!$V:$V,0),3))","v":""},null,null,"",null,{"$f":"IF(P268=\"\",\"\",INDEX(REFERENTES!$J:$K,MATCH(P268,REFERENTES!$K:$K,0),1))","v":""},null,{"$f":"IF(R268=\"\",\"\",INDEX(REFERENTES!$D:$E,MATCH(R268,REFERENTES!$D:$D,0),2))","v":""},null,null,"",{"$f":"IF(X268=\"\",\"\",INDEX('OTRAS REFERENTES'!$H:$I,MATCH(X268,'OTRAS REFERENTES'!$I:$I,0),1))","v":""},null,null,{"$f":"IF(AA268=\"\",\"\",INDEX('OTRAS REFERENTES'!$K:$L,MATCH(AA268,'OTRAS REFERENTES'!$L:$L,0),1))","v":""},null,null,"",{"$f":"IF(SUMPRODUCT(--EXACT(K268&M268,$AD$2:AD267)),\"\",K268&M268)","v":""},{"$f":"IF(SUMPRODUCT(--EXACT(K268&M268,$AD$2:AD267)),\"\",MAX($AE$3:AE267)+1)","v":""}]
[1,"",267,"","",{"$f":"IF(L269<>\"\",CONCATENATE(DIGITADOR!$B$2,$A$2,DIGITADOR!$M$1,A269),\"\")","v":""},null,null,"",{"$f":"IF(K269=\"\",\"\",INDEX('OTRAS REFERENTES'!$AH$6:$AI$658,MATCH(K269,'OTRAS REFERENTES'!$AH$6:$AH$658,0),2))","v":""},null,{"$f":"IF(J269=\"\",\"\",INDEX(REFERENTES!$T:$W,MATCH(J269,REFERENTES!$V:$V,0),3))","v":""},null,null,"",null,{"$f":"IF(P269=\"\",\"\",INDEX(REFERENTES!$J:$K,MATCH(P269,REFERENTES!$K:$K,0),1))","v":""},null,{"$f":"IF(R269=\"\",\"\",INDEX(REFERENTES!$D:$E,MATCH(R269,REFERENTES!$D:$D,0),2))","v":""},null,null,"",{"$f":"IF(X269=\"\",\"\",INDEX('OTRAS REFERENTES'!$H:$I,MATCH(X269,'OTRAS REFERENTES'!$I:$I,0),1))","v":""},null,null,{"$f":"IF(AA269=\"\",\"\",INDEX('OTRAS REFERENTES'!$K:$L,MATCH(AA269,'OTRAS REFERENTES'!$L:$L,0),1))","v":""},null,null,"",{"$f":"IF(SUMPRODUCT(--EXACT(K269&M269,$AD$2:AD268)),\"\",K269&M269)","v":""},{"$f":"IF(SUMPRODUCT(--EXACT(K269&M269,$AD$2:AD268)),\"\",MAX($AE$3:AE268)+1)","v":""}]
[1,"",268,"","",{"$f":"IF(L270<>\"\",CONCATENATE(DIGITADOR!$B$2,$A$2,DIGITADOR!$M$1,A270),\"\")","v":""},null,null,"",{"$f":"IF(K270=\"\",\"\",INDEX('OTRAS REFERENTES'!$AH$6:$AI$658,MATCH(K270,'OTRAS REFERENTES'!$AH$6:$AH$658,0),2))","v":""},null,{"$f":"IF(J270=\"\",\"\",INDEX(REFERENTES!$T:$W,MATCH(J270,REFERENTES!$V:$V,0),3))","v":""},null,null,"",null,{"$f":"IF(P270=\"\",\"\",INDEX(REFERENTES!$J:$K,MATCH(P270,REFERENTES!$K:$K,0),1))","v":""},null,{"$f":"IF(R270=\"\",\"\",INDEX(REFERENTES!$D:$E,MATCH(R270,REFERENTES!$D:$D,0),2))","v":""},null,null,"",{"$f":"IF(X270=\"\",\"\",INDEX('OTRAS REFERENTES'!$H:$I,MATCH(X270,'OTRAS REFERENTES'!$I:$I,0),1))","v":""},null,null,{"$f":"IF(AA270=\"\",\"\",INDEX('OTRAS REFERENTES'!$K:$L,MATCH(AA270,'OTRAS REFERENTES'!$L:$L,0),1))","v":""},null,null,"",{"$f":"IF(SUMPRODUCT(--EXACT(K270&M270,$AD$2:AD269)),\"\",K270&M270)","v":""},{"$f":"IF(SUMPRODUCT(--EXACT(K270&M270,$AD$2:AD269)),\"\",MAX($AE$3:AE269)+1)","v":""}]
[1,"",269,"","",{"$f":"IF(L271<>\"\",CONCATENATE(DIGITADOR!$B$2,$A$2,DIGITADOR!$M$1,A271),\"\")","v":""},null,null,"",{"$f":"IF(K271=\"\",\"\",INDEX('OTRAS REFERENTES'!$AH$6:$AI$658,MATCH(K271,'OTRAS REFERENTES'!$AH$6:$AH$658,0),2))","v":""},null,{"$f":"IF(J271=\"\",\"\",INDEX(REFERENTES!$T:$W,MATCH(J271,REFERENTES!$V:$V,0),3))","v":""},null,null,"",null,{"$f":"IF(P271=\"\",\"\",INDEX(REFERENTES!$J:$K,MATCH(P271,REFERENTES!$K:$K,0),1))","v":""},null,{"$f":"IF(R271=\"\",\"\",INDEX(REFERENTES!$D:$E,MATCH(R271,REFERENTES!$D:$D,0),2))","v":""},null,null,"",{"$f":"IF(X271=\"\",\"\",INDEX('OTRAS REFERENTES'!$H:$I,MATCH(X271,'OTRAS REFERENTES'!$I:$I,0),1))","v":""},null,null,{"$f":"IF(AA271=\"\",\"\",INDEX('OTRAS REFERENTES'!$K:$L,MATCH(AA271,'OTRAS REFERENTES'!$L:$L,0),1))","v":""},null,null,"",{"$f":"IF(SUMPRODUCT(--EXACT(K271&M271,$AD$2:AD270)),\"\",K271&M271)","v":""},{"$f":"IF(SUMPRODUCT(--EXACT(K271&M271,$AD$2:AD270)),\"\",MAX($AE$3:AE270)+1)","v":""}]
[1,"",270,"","",{"$f":"IF(L272<>\"\",CONCATENATE(DIGITADOR!$B$2,$A$2,DIGITADOR!$M$1,A272),\"\")","v":""},null,null,"",{"$f":"IF(K272=\"\",\"\",INDEX('OTRAS REFERENTES'!$AH$6:$AI$658,MATCH(K272,'OTRAS REFERENTES'!$AH$6:$AH$658,0),2))","v":""},null,{"$f":"IF(J272=\"\",\"\",INDEX(REFERENTES!$T:$W,MATCH(J272,REFERENTES!$V:$V,0),3))","v":""},null,null,"",null,{"$f":"IF(P272=\"\",\"\",INDEX(REFERENTES!$J:$K,MATCH(P272,REFERENTES!$K:$K,0),1))","v":""},null,{"$f":"IF(R272=\"\",\"\",INDEX(REFERENTES!$D:$E,MATCH(R272,REFERENTES!$D:$D,0),2))","v":""},null,null,"",{"$f":"IF(X272=\"\",\"\",INDEX('OTRAS REFERENTES'!$H:$I,MATCH(X272,'OTRAS REFERENTES'!$I:$I,0),1))","v":""},null,null,{"$f":"IF(AA272=\"\",\"\",INDEX('OTRAS REFERENTES'!$K:$L,MATCH(AA272,'OTRAS REFERENTES'!$L:$L,0),1))","v":""},null,null,"",{"$f":"IF(SUMPRODUCT(--EXACT(K272&M272,$AD$2:AD271)),\"\",K272&M272)","v":""},{"$f":"IF(SUMPRODUCT(--EXACT(K272&M272,$AD$2:AD271)),\"\",MAX($AE$3:AE271)+1)","v":""}]
[1,"",271,"","",{"$f":"IF(L273<>\"\",CONCATENATE(DIGITADOR!$B$2,$A$2,DIGITADOR!$M$1,A273),\"\")","v":""},null,null,"",{"$f":"IF(K273=\"\",\"\",INDEX('OTRAS REFERENTES'!$AH$6:$AI$658,MATCH(K273,'OTRAS REFERENTES'!$AH$6:$AH$658,0),2))","v":""},null,{"$f":"IF(J273=\"\",\"\",INDEX(REFERENTES!$T:$W,MATCH(J273,REFERENTES!$V:$V,0),3))","v":""},null,null,"",null,{"$f":"IF(P273=\"\",\"\",INDEX(REFERENTES!$J:$K,MATCH(P273,REFERENTES!$K:$K,0),1))","v":""},null,{"$f":"IF(R273=\"\",\"\",INDEX(REFERENTES!$D:$E,MATCH(R273,REFERENTES!$D:$D,0),2))","v":""},null,null,"",{"$f":"IF(X273=\"\",\"\",INDEX('OTRAS REFERENTES'!$H:$I,MATCH(X273,'OTRAS REFERENTES'!$I:$I,0),1))","v":""},null,null,{"$f":"IF(AA273=\"\",\"\",INDEX('OTRAS REFERENTES'!$K:$L,MATCH(AA273,'OTRAS REFERENTES'!$L:$L,0),1))","v":""},null,null,"",{"$f":"IF(SUMPRODUCT(--EXACT(K273&M273,$AD$2:AD272)),\"\",K273&M273)","v":""},{"$f":"IF(SUMPRODUCT(--EXACT(K273&M273,$AD$2:AD272)),\"\",MAX($AE$3:AE272)+1)","v":""}]
[1,"",272,"","",{"$f":"IF(L274<>\"\",CONCATENATE(DIGITADOR!$B$2,$A$2,DIGITADOR!$M$1,A274),\"\")","v":""},null,null,"",{"$f":"IF(K274=\"\",\"\",INDEX('OTRAS REFERENTES'!$AH$6:$AI$658,MATCH(K274,'OTRAS REFERENTES'!$AH$6:$AH$658,0),2))","v":""},null,{"$f":"IF(J274=\"\",\"\",INDEX(REFERENTES!$T:$W,MATCH(J274,REFERENTES!$V:$V,0),3))","v":""},null,null,"",null,{"$f":"IF(P274=\"\",\"\",INDEX(REFERENTES!$J:$K,MATCH(P274,REFERENTES!$K:$K,0),1))","v":""},null,{"$f":"IF(R274=\"\",\"\",INDEX(REFERENTES!$D:$E,MATCH(R274,REFERENTES!$D:$D,0),2))","v":""},null,null,"",{"$f":"IF(X274=\"\",\"\",INDEX('OTRAS REFERENTES'!$H:$I,MATCH(X274,'OTRAS REFERENTES'!$I:$I,0),1))","v":""},null,null,{"$f":"IF(AA274=\"\",\"\",INDEX('OTRAS REFERENTES'!$K:$L,MATCH(AA274,'OTRAS REFERENTES'!$L:$L,0),1))","v":""},null,null,"",{"$f":"IF(SUMPRODUCT(--EXACT(K274&M274,$AD$2:AD273)),\"\",K274&M274)","v":""},{"$f":"IF(SUMPRODUCT(--EXACT(K274&M274,$AD$2:AD273)),\"\",MAX($AE$3:AE273)+1)","v":""}]
[1,"",273,"","",{"$f":"IF(L275<>\"\",CONCATENATE(DIGITADOR!$B$2,$A$2,DIGITADOR!$M$1,A275),\"\")","v":""},null,null,"",{"$f":"IF(K275=\"\",\"\",INDEX('OTRAS REFERENTES'!$AH$6:$AI$658,MATCH(K275,'OTRAS REFERENTES'!$AH$6:$AH$658,0),2))","v":""},null,{"$f":"IF(J275=\"\",\"\",INDEX(REFERENTES!$T:$W,MATCH(J275,REFERENTES!$V:$V,0),3))","v":""},null,null,"",null,{"$f":"IF(P275=\"\",\"\",INDEX(REFERENTES!$J:$K,MATCH(P275,REFERENTES!$K:$K,0),1))","v":""},null,{"$f":"IF(R275=\"\",\"\",INDEX(REFERENTES!$D:$E,MATCH(R275,REFERENTES!$D:$D,0),2))","v":""},null,null,"",{"$f":"IF(X275=\"\",\"\",INDEX('OTRAS REFERENTES'!$H:$I,MATCH(X275,'OTRAS REFERENTES'!$I:$I,0),1))","v":""},null,null,{"$f":"IF(AA275=\"\",\"\",INDEX('OTRAS REFERENTES'!$K:$L,MATCH(AA275,'OTRAS REFERENTES'!$L:$L,0),1))","v":""},null,null,"",{"$f":"IF(SUMPRODUCT(--EXACT(K275&M275,$AD$2:AD274)),\"\",K275&M275)","v":""},{"$f":"IF(SUMPRODUCT(--EXACT(K275&M275,$AD$2:AD274)),\"\",MAX($AE$3:AE274)+1)","v":""}]
[1,"",274,"","",{"$f":"IF(L276<>\"\",CONCATENATE(DIGITADOR!$B$2,$A$2,DIGITADOR!$M$1,A276),\"\")","v":""},null,null,"",{"$f":"IF(K276=\"\",\"\",INDEX('OTRAS REFERENTES'!$AH$6:$AI$658,MATCH(K276,'OTRAS REFERENTES'!$AH$6:$AH$658,0),2))","v":""},null,{"$f":"IF(J276=\"\",\"\",INDEX(REFERENTES!$T:$W,MATCH(J276,REFERENTES!$V:$V,0),3))","v":""},null,null,"",null,{"$f":"IF(P276=\"\",\"\",INDEX(REFERENTES!$J:$K,MATCH(P276,REFERENTES!$K:$K,0),1))","v":""},null,{"$f":"IF(R276=\"\",\"\",INDEX(REFERENTES!$D:$E,MATCH(R276,REFERENTES!$D:$D,0),2))","v":""},null,null,"",{"$f":"IF(X276=\"\",\"\",INDEX('OTRAS REFERENTES'!$H:$I,MATCH(X276,'OTRAS REFERENTES'!$I:$I,0),1))","v":""},null,null,{"$f":"IF(AA276=\"\",\"\",INDEX('OTRAS REFERENTES'!$K:$L,MATCH(AA276,'OTRAS REFERENTES'!$L:$L,0),1))","v":""},null,null,"",{"$f":"IF(SUMPRODUCT(--EXACT(K276&M276,$AD$2:AD275)),\"\",K276&M276)","v":""},{"$f":"IF(SUMPRODUCT(--EXACT(K276&M276,$AD$2:AD275)),\"\",MAX($AE$3:AE275)+1)","v":""}]
[1,"",275,"","",{"$f":"IF(L277<>\"\",CONCATENATE(DIGITADOR!$B$2,$A$2,DIGITADOR!$M$1,A277),\"\")","v":""},null,null,"",{"$f":"IF(K277=\"\",\"\",INDEX('OTRAS REFERENTES'!$AH$6:$AI$658,MATCH(K277,'OTRAS REFERENTES'!$AH$6:$AH$658,0),2))","v":""},null,{"$f":"IF(J277=\"\",\"\",INDEX(REFERENTES!$T:$W,MATCH(J277,REFERENTES!$V:$V,0),3))","v":""},null,null,"",null,{"$f":"IF(P277=\"\",\"\",INDEX(REFERENTES!$J:$K,MATCH(P277,REFERENTES!$K:$K,0),1))","v":""},null,{"$f":"IF(R277=\"\",\"\",INDEX(REFERENTES!$D:$E,MATCH(R277,REFERENTES!$D:$D,0),2))","v":""},null,null,"",{"$f":"IF(X277=\"\",\"\",INDEX('OTRAS REFERENTES'!$H:$I,MATCH(X277,'OTRAS REFERENTES'!$I:$I,0),1))","v":""},null,null,{"$f":"IF(AA277=\"\",\"\",INDEX('OTRAS REFERENTES'!$K:$L,MATCH(AA277,'OTRAS REFERENTES'!$L:$L,0),1))","v":""},null,null,"",{"$f":"IF(SUMPRODUCT(--EXACT(K277&M277,$AD$2:AD276)),\"\",K277&M277)","v":""},{"$f":"IF(SUMPRODUCT(--EXACT(K277&M277,$AD$2:AD276)),\"\",MAX($AE$3:AE276)+1)","v":""}]
[1,"",276,"","",{"$f":"IF(L278<>\"\",CONCATENATE(DIGITADOR!$B$2,$A$2,DIGITADOR!$M$1,A278),\"\")","v":""},null,null,"",{"$f":"IF(K278=\"\",\"\",INDEX('OTRAS REFERENTES'!$AH$6:$AI$658,MATCH(K278,'OTRAS REFERENTES'!$AH$6:$AH$658,0),2))","v":""},null,{"$f":"IF(J278=\"\",\"\",INDEX(REFERENTES!$T:$W,MATCH(J278,REFERENTES!$V:$V,0),3))","v":""},null,null,"",null,{"$f":"IF(P278=\"\",\"\",INDEX(REFERENTES!$J:$K,MATCH(P278,REFERENTES!$K:$K,0),1))","v":""},null,{"$f":"IF(R278=\"\",\"\",INDEX(REFERENTES!$D:$E,MATCH(R278,REFERENTES!$D:$D,0),2))","v":""},null,null,"",{"$f":"IF(X278=\"\",\"\",INDEX('OTRAS REFERENTES'!$H:$I,MATCH(X278,'OTRAS REFERENTES'!$I:$I,0),1))","v":""},null,null,{"$f":"IF(AA278=\"\",\"\",INDEX('OTRAS REFERENTES'!$K:$L,MATCH(AA278,'OTRAS REFERENTES'!$L:$L,0),1))","v":""},null,null,"",{"$f":"IF(SUMPRODUCT(--EXACT(K278&M278,$AD$2:AD277)),\"\",K278&M278)","v":""},{"$f":"IF(SUMPRODUCT(--EXACT(K278&M278,$AD$2:AD277)),\"\",MAX($AE$3:AE277)+1)","v":""}]
[1,"",277,"","",{"$f":"IF(L279<>\"\",CONCATENATE(DIGITADOR!$B$2,$A$2,DIGITADOR!$M$1,A279),\"\")","v":""},null,null,"",{"$f":"IF(K279=\"\",\"\",INDEX('OTRAS REFERENTES'!$AH$6:$AI$658,MATCH(K279,'OTRAS REFERENTES'!$AH$6:$AH$658,0),2))","v":""},null,{"$f":"IF(J279=\"\",\"\",INDEX(REFERENTES!$T:$W,MATCH(J279,REFERENTES!$V:$V,0),3))","v":""},null,null,"",null,{"$f":"IF(P279=\"\",\"\",INDEX(REFERENTES!$J:$K,MATCH(P279,REFERENTES!$K:$K,0),1))","v":""},null,{"$f":"IF(R279=\"\",\"\",INDEX(REFERENTES!$D:$E,MATCH(R279,REFERENTES!$D:$D,0),2))","v":""},null,null,"",{"$f":"IF(X279=\"\",\"\",INDEX('OTRAS REFERENTES'!$H:$I,MATCH(X279,'OTRAS REFERENTES'!$I:$I,0),1))","v":""},null,null,{"$f":"IF(AA279=\"\",\"\",INDEX('OTRAS REFERENTES'!$K:$L,MATCH(AA279,'OTRAS REFERENTES'!$L:$L,0),1))","v":""},null,null,"",{"$f":"IF(SUMPRODUCT(--EXACT(K279&M279,$AD$2:AD278)),\"\",K279&M279)","v":""},{"$f":"IF(SUMPRODUCT(--EXACT(K279&M279,$AD$2:AD278)),\"\",MAX($AE$3:AE278)+1)","v":""}]
[1,"",278,"","",{"$f":"IF(L280<>\"\",CONCATENATE(DIGITADOR!$B$2,$A$2,DIGITADOR!$M$1,A280),\"\")","v":""},null,null,"",{"$f":"IF(K280=\"\",\"\",INDEX('OTRAS REFERENTES'!$AH$6:$AI$658,MATCH(K280,'OTRAS REFERENTES'!$AH$6:$AH$658,0),2))","v":""},null,{"$f":"IF(J280=\"\",\"\",INDEX(REFERENTES!$T:$W,MATCH(J280,REFERENTES!$V:$V,0),3))","v":""},null,null,"",null,{"$f":"IF(P280=\"\",\"\",INDEX(REFERENTES!$J:$K,MATCH(P280,REFERENTES!$K:$K,0),1))","v":""},null,{"$f":"IF(R280=\"\",\"\",INDEX(REFERENTES!$D:$E,MATCH(R280,REFERENTES!$D:$D,0),2))","v":""},null,null,"",{"$f":"IF(X280=\"\",\"\",INDEX('OTRAS REFERENTES'!$H:$I,MATCH(X280,'OTRAS REFERENTES'!$I:$I,0),1))","v":""},null,null,{"$f":"IF(AA280=\"\",\"\",INDEX('OTRAS REFERENTES'!$K:$L,MATCH(AA280,'OTRAS REFERENTES'!$L:$L,0),1))","v":""},null,null,"",{"$f":"IF(SUMPRODUCT(--EXACT(K280&M280,$AD$2:AD279)),\"\",K280&M280)","v":""},{"$f":"IF(SUMPRODUCT(--EXACT(K280&M280,$AD$2:AD279)),\"\",MAX($AE$3:AE279)+1)","v":""}]
[1,"",279,"","",{"$f":"IF(L281<>\"\",CONCATENATE(DIGITADOR!$B$2,$A$2,DIGITADOR!$M$1,A281),\"\")","v":""},null,null,"",{"$f":"IF(K281=\"\",\"\",INDEX('OTRAS REFERENTES'!$AH$6:$AI$658,MATCH(K281,'OTRAS REFERENTES'!$AH$6:$AH$658,0),2))","v":""},null,{"$f":"IF(J281=\"\",\"\",INDEX(REFERENTES!$T:$W,MATCH(J281,REFERENTES!$V:$V,0),3))","v":""},null,null,"",null,{"$f":"IF(P281=\"\",\"\",INDEX(REFERENTES!$J:$K,MATCH(P281,REFERENTES!$K:$K,0),1))","v":""},null,{"$f":"IF(R281=\"\",\"\",INDEX(REFERENTES!$D:$E,MATCH(R281,REFERENTES!$D:$D,0),2))","v":""},null,null,"",{"$f":"IF(X281=\"\",\"\",INDEX('OTRAS REFERENTES'!$H:$I,MATCH(X281,'OTRAS REFERENTES'!$I:$I,0),1))","v":""},null,null,{"$f":"IF(AA281=\"\",\"\",INDEX('OTRAS REFERENTES'!$K:$L,MATCH(AA281,'OTRAS REFERENTES'!$L:$L,0),1))","v":""},null,null,"",{"$f":"IF(SUMPRODUCT(--EXACT(K281&M281,$AD$2:AD280)),\"\",K281&M281)","v":""},{"$f":"IF(SUMPRODUCT(--EXACT(K281&M281,$AD$2:AD280)),\"\",MAX($AE$3:AE280)+1)","v":""}]
[1,"",280,"","",{"$f":"IF(L282<>\"\",CONCATENATE(DIGITADOR!$B$2,$A$2,DIGITADOR!$M$1,A282),\"\")","v":""},null,null,"",{"$f":"IF(K282=\"\",\"\",INDEX('OTRAS REFERENTES'!$AH$6:$AI$658,MATCH(K282,'OTRAS REFERENTES'!$AH$6:$AH$658,0),2))","v":""},null,{"$f":"IF(J282=\"\",\"\",INDEX(REFERENTES!$T:$W,MATCH(J282,REFERENTES!$V:$V,0),3))","v":""},null,null,"",null,{"$f":"IF(P282=\"\",\"\",INDEX(REFERENTES!$J:$K,MATCH(P282,REFERENTES!$K:$K,0),1))","v":""},null,{"$f":"IF(R282=\"\",\"\",INDEX(REFERENTES!$D:$E,MATCH(R282,REFERENTES!$D:$D,0),2))","v":""},null,null,"",{"$f":"IF(X282=\"\",\"\",INDEX('OTRAS REFERENTES'!$H:$I,MATCH(X282,'OTRAS REFERENTES'!$I:$I,0),1))","v":""},null,null,{"$f":"IF(AA282=\"\",\"\",INDEX('OTRAS REFERENTES'!$K:$L,MATCH(AA282,'OTRAS REFERENTES'!$L:$L,0),1))","v":""},null,null,"",{"$f":"IF(SUMPRODUCT(--EXACT(K282&M282,$AD$2:AD281)),\"\",K282&M282)","v":""},{"$f":"IF(SUMPRODUCT(--EXACT(K282&M282,$AD$2:AD281)),\"\",MAX($AE$3:AE281)+1)","v":""}]
[1,"",281,"","",{"$f":"IF(L283<>\"\",CONCATENATE(DIGITADOR!$B$2,$A$2,DIGITADOR!$M$1,A283),\"\")","v":""},null,null,"",{"$f":"IF(K283=\"\",\"\",INDEX('OTRAS REFERENTES'!$AH$6:$AI$658,MATCH(K283,'OTRAS REFERENTES'!$AH$6:$AH$658,0),2))","v":""},null,{"$f":"IF(J283=\"\",\"\",INDEX(REFERENTES!$T:$W,MATCH(J283,REFERENTES!$V:$V,0),3))","v":""},null,null,"",null,{"$f":"IF(P283=\"\",\"\",INDEX(REFERENTES!$J:$K,MATCH(P283,REFERENTES!$K:$K,0),1))","v":""},null,{"$f":"IF(R283=\"\",\"\",INDEX(REFERENTES!$D:$E,MATCH(R283,REFERENTES!$D:$D,0),2))","v":""},null,null,"",{"$f":"IF(X283=\"\",\"\",INDEX('OTRAS REFERENTES'!$H:$I,MATCH(X283,'OTRAS REFERENTES'!$I:$I,0),1))","v":""},null,null,{"$f":"IF(AA283=\"\",\"\",INDEX('OTRAS REFERENTES'!$K:$L,MATCH(AA283,'OTRAS REFERENTES'!$L:$L,0),1))","v":""},null,null,"",{"$f":"IF(SUMPRODUCT(--EXACT(K283&M283,$AD$2:AD282)),\"\",K283&M283)","v":""},{"$f":"IF(SUMPRODUCT(--EXACT(K283&M283,$AD$2:AD282)),\"\",MAX($AE$3:AE282)+1)","v":""}]
[1,"",282,{"$f":"IF(L284=\"\",\"\",CONCATENATE(C284,F284))","v":""},"",{"$f":"IF(L284<>\"\",CONCATENATE(DIGITADOR!$B$2,$A$2,DIGITADOR!$M$1,A284),\"\")","v":""},null,null,"",{"$f":"IF(K284=\"\",\"\",INDEX('OTRAS REFERENTES'!$AH$6:$AI$658,MATCH(K284,'OTRAS REFERENTES'!$AH$6:$AH$658,0),2))","v":""},null,{"$f":"IF(J284=\"\",\"\",INDEX(REFERENTES!$T:$W,MATCH(J284,REFERENTES!$V:$V,0),3))","v":""},null,null,"",null,{"$f":"IF(P284=\"\",\"\",INDEX(REFERENTES!$J:$K,MATCH(P284,REFERENTES!$K:$K,0),1))","v":""},null,{"$f":"IF(R284=\"\",\"\",INDEX(REFERENTES!$D:$E,MATCH(R284,REFERENTES!$D:$D,0),2))","v":""},null,null,"",{"$f":"IF(X284=\"\",\"\",INDEX('OTRAS REFERENTES'!$H:$I,MATCH(X284,'OTRAS REFERENTES'!$I:$I,0),1))","v":""},null,null,{"$f":"IF(AA284=\"\",\"\",INDEX('OTRAS REFERENTES'!$K:$L,MATCH(AA284,'OTRAS REFERENTES'!$L:$L,0),1))","v":""},null,null,"",{"$f":"IF(SUMPRODUCT(--EXACT(K284&M284,$AD$2:AD283)),\"\",K284&M284)","v":""},{"$f":"IF(SUMPRODUCT(--EXACT(K284&M284,$AD$2:AD283)),\"\",MAX($AE$3:AE283)+1)","v":""}]
[1,"",283,"","",{"$f":"IF(L285<>\"\",CONCATENATE(DIGITADOR!$B$2,$A$2,DIGITADOR!$M$1,A285),\"\")","v":""},null,null,"",{"$f":"IF(K285=\"\",\"\",INDEX('OTRAS REFERENTES'!$AH$6:$AI$658,MATCH(K285,'OTRAS REFERENTES'!$AH$6:$AH$658,0),2))","v":""},null,{"$f":"IF(J285=\"\",\"\",INDEX(REFERENTES!$T:$W,MATCH(J285,REFERENTES!$V:$V,0),3))","v":""},null,null,"",null,{"$f":"IF(P285=\"\",\"\",INDEX(REFERENTES!$J:$K,MATCH(P285,REFERENTES!$K:$K,0),1))","v":""},null,{"$f":"IF(R285=\"\",\"\",INDEX(REFERENTES!$D:$E,MATCH(R285,REFERENTES!$D:$D,0),2))","v":""},null,null,"",{"$f":"IF(X285=\"\",\"\",INDEX('OTRAS REFERENTES'!$H:$I,MATCH(X285,'OTRAS REFERENTES'!$I:$I,0),1))","v":""},null,null,{"$f":"IF(AA285=\"\",\"\",INDEX('OTRAS REFERENTES'!$K:$L,MATCH(AA285,'OTRAS REFERENTES'!$L:$L,0),1))","v":""},null,null,"",{"$f":"IF(SUMPRODUCT(--EXACT(K285&M285,$AD$2:AD284)),\"\",K285&M285)","v":""},{"$f":"IF(SUMPRODUCT(--EXACT(K285&M285,$AD$2:AD284)),\"\",MAX($AE$3:AE284)+1)","v":""}]
[1,"",284,"","",{"$f":"IF(L286<>\"\",CONCATENATE(DIGITADOR!$B$2,$A$2,DIGITADOR!$M$1,A286),\"\")","v":""},null,null,"",{"$f":"IF(K286=\"\",\"\",INDEX('OTRAS REFERENTES'!$AH$6:$AI$658,MATCH(K286,'OTRAS REFERENTES'!$AH$6:$AH$658,0),2))","v":""},null,{"$f":"IF(J286=\"\",\"\",INDEX(REFERENTES!$T:$W,MATCH(J286,REFERENTES!$V:$V,0),3))","v":""},null,null,"",null,{"$f":"IF(P286=\"\",\"\",INDEX(REFERENTES!$J:$K,MATCH(P286,REFERENTES!$K:$K,0),1))","v":""},null,{"$f":"IF(R286=\"\",\"\",INDEX(REFERENTES!$D:$E,MATCH(R286,REFERENTES!$D:$D,0),2))","v":""},null,null,"",{"$f":"IF(X286=\"\",\"\",INDEX('OTRAS REFERENTES'!$H:$I,MATCH(X286,'OTRAS REFERENTES'!$I:$I,0),1))","v":""},null,null,{"$f":"IF(AA286=\"\",\"\",INDEX('OTRAS REFERENTES'!$K:$L,MATCH(AA286,'OTRAS REFERENTES'!$L:$L,0),1))","v":""},null,null,"",{"$f":"IF(SUMPRODUCT(--EXACT(K286&M286,$AD$2:AD285)),\"\",K286&M286)","v":""},{"$f":"IF(SUMPRODUCT(--EXACT(K286&M286,$AD$2:AD285)),\"\",MAX($AE$3:AE285)+1)","v":""}]
[1,"",285,"","",{"$f":"IF(L287<>\"\",CONCATENATE(DIGITADOR!$B$2,$A$2,DIGITADOR!$M$1,A287),\"\")","v":""},null,null,"",{"$f":"IF(K287=\"\",\"\",INDEX('OTRAS REFERENTES'!$AH$6:$AI$658,MATCH(K287,'OTRAS REFERENTES'!$AH$6:$AH$658,0),2))","v":""},null,{"$f":"IF(J287=\"\",\"\",INDEX(REFERENTES!$T:$W,MATCH(J287,REFERENTES!$V:$V,0),3))","v":""},null,null,"",null,{"$f":"IF(P287=\"\",\"\",INDEX(REFERENTES!$J:$K,MATCH(P287,REFERENTES!$K:$K,0),1))","v":""},null,{"$f":"IF(R287=\"\",\"\",INDEX(REFERENTES!$D:$E,MATCH(R287,REFERENTES!$D:$D,0),2))","v":""},null,null,"",{"$f":"IF(X287=\"\",\"\",INDEX('OTRAS REFERENTES'!$H:$I,MATCH(X287,'OTRAS REFERENTES'!$I:$I,0),1))","v":""},null,null,{"$f":"IF(AA287=\"\",\"\",INDEX('OTRAS REFERENTES'!$K:$L,MATCH(AA287,'OTRAS REFERENTES'!$L:$L,0),1))","v":""},null,null,"",{"$f":"IF(SUMPRODUCT(--EXACT(K287&M287,$AD$2:AD286)),\"\",K287&M287)","v":""},{"$f":"IF(SUMPRODUCT(--EXACT(K287&M287,$AD$2:AD286)),\"\",MAX($AE$3:AE286)+1)","v":""}]
[1,"",286,"","",{"$f":"IF(L288<>\"\",CONCATENATE(DIGITADOR!$B$2,$A$2,DIGITADOR!$M$1,A288),\"\")","v":""},null,null,"",{"$f":"IF(K288=\"\",\"\",INDEX('OTRAS REFERENTES'!$AH$6:$AI$658,MATCH(K288,'OTRAS REFERENTES'!$AH$6:$AH$658,0),2))","v":""},null,{"$f":"IF(J288=\"\",\"\",INDEX(REFERENTES!$T:$W,MATCH(J288,REFERENTES!$V:$V,0),3))","v":""},null,null,"",null,{"$f":"IF(P288=\"\",\"\",INDEX(REFERENTES!$J:$K,MATCH(P288,REFERENTES!$K:$K,0),1))","v":""},null,{"$f":"IF(R288=\"\",\"\",INDEX(REFERENTES!$D:$E,MATCH(R288,REFERENTES!$D:$D,0),2))","v":""},null,null,"",{"$f":"IF(X288=\"\",\"\",INDEX('OTRAS REFERENTES'!$H:$I,MATCH(X288,'OTRAS REFERENTES'!$I:$I,0),1))","v":""},null,null,{"$f":"IF(AA288=\"\",\"\",INDEX('OTRAS REFERENTES'!$K:$L,MATCH(AA288,'OTRAS REFERENTES'!$L:$L,0),1))","v":""},null,null,"",{"$f":"IF(SUMPRODUCT(--EXACT(K288&M288,$AD$2:AD287)),\"\",K288&M288)","v":""},{"$f":"IF(SUMPRODUCT(--EXACT(K288&M288,$AD$2:AD287)),\"\",MAX($AE$3:AE287)+1)","v":""}]
[1,"",287,"","",{"$f":"IF(L289<>\"\",CONCATENATE(DIGITADOR!$B$2,$A$2,DIGITADOR!$M$1,A289),\"\")","v":""},null,null,"",{"$f":"IF(K289=\"\",\"\",INDEX('OTRAS REFERENTES'!$AH$6:$AI$658,MATCH(K289,'OTRAS REFERENTES'!$AH$6:$AH$658,0),2))","v":""},null,{"$f":"IF(J289=\"\",\"\",INDEX(REFERENTES!$T:$W,MATCH(J289,REFERENTES!$V:$V,0),3))","v":""},null,null,"",null,{"$f":"IF(P289=\"\",\"\",INDEX(REFERENTES!$J:$K,MATCH(P289,REFERENTES!$K:$K,0),1))","v":""},null,{"$f":"IF(R289=\"\",\"\",INDEX(REFERENTES!$D:$E,MATCH(R289,REFERENTES!$D:$D,0),2))","v":""},null,null,"",{"$f":"IF(X289=\"\",\"\",INDEX('OTRAS REFERENTES'!$H:$I,MATCH(X289,'OTRAS REFERENTES'!$I:$I,0),1))","v":""},null,null,{"$f":"IF(AA289=\"\",\"\",INDEX('OTRAS REFERENTES'!$K:$L,MATCH(AA289,'OTRAS REFERENTES'!$L:$L,0),1))","v":""},null,null,"",{"$f":"IF(SUMPRODUCT(--EXACT(K289&M289,$AD$2:AD288)),\"\",K289&M289)","v":""},{"$f":"IF(SUMPRODUCT(--EXACT(K289&M289,$AD$2:AD288)),\"\",MAX($AE$3:AE288)+1)","v":""}]
[1,"",288,"","",{"$f":"IF(L290<>\"\",CONCATENATE(DIGITADOR!$B$2,$A$2,DIGITADOR!$M$1,A290),\"\")","v":""},null,null,"",{"$f":"IF(K290=\"\",\"\",INDEX('OTRAS REFERENTES'!$AH$6:$AI$658,MATCH(K290,'OTRAS REFERENTES'!$AH$6:$AH$658,0),2))","v":""},null,{"$f":"IF(J290=\"\",\"\",INDEX(REFERENTES!$T:$W,MATCH(J290,REFERENTES!$V:$V,0),3))","v":""},null,null,"",null,{"$f":"IF(P290=\"\",\"\",INDEX(REFERENTES!$J:$K,MATCH(P290,REFERENTES!$K:$K,0),1))","v":""},null,{"$f":"IF(R290=\"\",\"\",INDEX(REFERENTES!$D:$E,MATCH(R290,REFERENTES!$D:$D,0),2))","v":""},null,null,"",{"$f":"IF(X290=\"\",\"\",INDEX('OTRAS REFERENTES'!$H:$I,MATCH(X290,'OTRAS REFERENTES'!$I:$I,0),1))","v":""},null,null,{"$f":"IF(AA290=\"\",\"\",INDEX('OTRAS REFERENTES'!$K:$L,MATCH(AA290,'OTRAS REFERENTES'!$L:$L,0),1))","v":""},null,null,"",{"$f":"IF(SUMPRODUCT(--EXACT(K290&M290,$AD$2:AD289)),\"\",K290&M290)","v":""},{"$f":"IF(SUMPRODUCT(--EXACT(K290&M290,$AD$2:AD289)),\"\",MAX($AE$3:AE289)+1)","v":""}]
[1,"",289,"","",{"$f":"IF(L291<>\"\",CONCATENATE(DIGITADOR!$B$2,$A$2,DIGITADOR!$M$1,A291),\"\")","v":""},null,null,"",{"$f":"IF(K291=\"\",\"\",INDEX('OTRAS REFERENTES'!$AH$6:$AI$658,MATCH(K291,'OTRAS REFERENTES'!$AH$6:$AH$658,0),2))","v":""},null,{"$f":"IF(J291=\"\",\"\",INDEX(REFERENTES!$T:$W,MATCH(J291,REFERENTES!$V:$V,0),3))","v":""},null,null,"",null,{"$f":"IF(P291=\"\",\"\",INDEX(REFERENTES!$J:$K,MATCH(P291,REFERENTES!$K:$K,0),1))","v":""},null,{"$f":"IF(R291=\"\",\"\",INDEX(REFERENTES!$D:$E,MATCH(R291,REFERENTES!$D:$D,0),2))","v":""},null,null,"",{"$f":"IF(X291=\"\",\"\",INDEX('OTRAS REFERENTES'!$H:$I,MATCH(X291,'OTRAS REFERENTES'!$I:$I,0),1))","v":""},null,null,{"$f":"IF(AA291=\"\",\"\",INDEX('OTRAS REFERENTES'!$K:$L,MATCH(AA291,'OTRAS REFERENTES'!$L:$L,0),1))","v":""},null,null,"",{"$f":"IF(SUMPRODUCT(--EXACT(K291&M291,$AD$2:AD290)),\"\",K291&M291)","v":""},{"$f":"IF(SUMPRODUCT(--EXACT(K291&M291,$AD$2:AD290)),\"\",MAX($AE$3:AE290)+1)","v":""}]
[1,"",290,"","",{"$f":"IF(L292<>\"\",CONCATENATE(DIGITADOR!$B$2,$A$2,DIGITADOR!$M$1,A292),\"\")","v":""},null,null,"",{"$f":"IF(K292=\"\",\"\",INDEX('OTRAS REFERENTES'!$AH$6:$AI$658,MATCH(K292,'OTRAS REFERENTES'!$AH$6:$AH$658,0),2))","v":""},null,{"$f":"IF(J292=\"\",\"\",INDEX(REFERENTES!$T:$W,MATCH(J292,REFERENTES!$V:$V,0),3))","v":""},null,null,"",null,{"$f":"IF(P292=\"\",\"\",INDEX(REFERENTES!$J:$K,MATCH(P292,REFERENTES!$K:$K,0),1))","v":""},null,{"$f":"IF(R292=\"\",\"\",INDEX(REFERENTES!$D:$E,MATCH(R292,REFERENTES!$D:$D,0),2))","v":""},null,null,"",{"$f":"IF(X292=\"\",\"\",INDEX('OTRAS REFERENTES'!$H:$I,MATCH(X292,'OTRAS REFERENTES'!$I:$I,0),1))","v":""},null,null,{"$f":"IF(AA292=\"\",\"\",INDEX('OTRAS REFERENTES'!$K:$L,MATCH(AA292,'OTRAS REFERENTES'!$L:$L,0),1))","v":""},null,null,"",{"$f":"IF(SUMPRODUCT(--EXACT(K292&M292,$AD$2:AD291)),\"\",K292&M292)","v":""},{"$f":"IF(SUMPRODUCT(--EXACT(K292&M292,$AD$2:AD291)),\"\",MAX($AE$3:AE291)+1)","v":""}]
[1,"",291,"","",{"$f":"IF(L293<>\"\",CONCATENATE(DIGITADOR!$B$2,$A$2,DIGITADOR!$M$1,A293),\"\")","v":""},null,null,"",{"$f":"IF(K293=\"\",\"\",INDEX('OTRAS REFERENTES'!$AH$6:$AI$658,MATCH(K293,'OTRAS REFERENTES'!$AH$6:$AH$658,0),2))","v":""},null,{"$f":"IF(J293=\"\",\"\",INDEX(REFERENTES!$T:$W,MATCH(J293,REFERENTES!$V:$V,0),3))","v":""},null,null,"",null,{"$f":"IF(P293=\"\",\"\",INDEX(REFERENTES!$J:$K,MATCH(P293,REFERENTES!$K:$K,0),1))","v":""},null,{"$f":"IF(R293=\"\",\"\",INDEX(REFERENTES!$D:$E,MATCH(R293,REFERENTES!$D:$D,0),2))","v":""},null,null,"",{"$f":"IF(X293=\"\",\"\",INDEX('OTRAS REFERENTES'!$H:$I,MATCH(X293,'OTRAS REFERENTES'!$I:$I,0),1))","v":""},null,null,{"$f":"IF(AA293=\"\",\"\",INDEX('OTRAS REFERENTES'!$K:$L,MATCH(AA293,'OTRAS REFERENTES'!$L:$L,0),1))","v":""},null,null,"",{"$f":"IF(SUMPRODUCT(--EXACT(K293&M293,$AD$2:AD292)),\"\",K293&M293)","v":""},{"$f":"IF(SUMPRODUCT(--EXACT(K293&M293,$AD$2:AD292)),\"\",MAX($AE$3:AE292)+1)","v":""}]
[1,"",292,"","",{"$f":"IF(L294<>\"\",CONCATENATE(DIGITADOR!$B$2,$A$2,DIGITADOR!$M$1,A294),\"\")","v":""},null,null,"",{"$f":"IF(K294=\"\",\"\",INDEX('OTRAS REFERENTES'!$AH$6:$AI$658,MATCH(K294,'OTRAS REFERENTES'!$AH$6:$AH$658,0),2))","v":""},null,{"$f":"IF(J294=\"\",\"\",INDEX(REFERENTES!$T:$W,MATCH(J294,REFERENTES!$V:$V,0),3))","v":""},null,null,"",null,{"$f":"IF(P294=\"\",\"\",INDEX(REFERENTES!$J:$K,MATCH(P294,REFERENTES!$K:$K,0),1))","v":""},null,{"$f":"IF(R294=\"\",\"\",INDEX(REFERENTES!$D:$E,MATCH(R294,REFERENTES!$D:$D,0),2))","v":""},null,null,"",{"$f":"IF(X294=\"\",\"\",INDEX('OTRAS REFERENTES'!$H:$I,MATCH(X294,'OTRAS REFERENTES'!$I:$I,0),1))","v":""},null,null,{"$f":"IF(AA294=\"\",\"\",INDEX('OTRAS REFERENTES'!$K:$L,MATCH(AA294,'OTRAS REFERENTES'!$L:$L,0),1))","v":""},null,null,"",{"$f":"IF(SUMPRODUCT(--EXACT(K294&M294,$AD$2:AD293)),\"\",K294&M294)","v":""},{"$f":"IF(SUMPRODUCT(--EXACT(K294&M294,$AD$2:AD293)),\"\",MAX($AE$3:AE293)+1)","v":""}]
[1,"",293,"","",{"$f":"IF(L295<>\"\",CONCATENATE(DIGITADOR!$B$2,$A$2,DIGITADOR!$M$1,A295),\"\")","v":""},null,null,"",{"$f":"IF(K295=\"\",\"\",INDEX('OTRAS REFERENTES'!$AH$6:$AI$658,MATCH(K295,'OTRAS REFERENTES'!$AH$6:$AH$658,0),2))","v":""},null,{"$f":"IF(J295=\"\",\"\",INDEX(REFERENTES!$T:$W,MATCH(J295,REFERENTES!$V:$V,0),3))","v":""},null,null,"",null,{"$f":"IF(P295=\"\",\"\",INDEX(REFERENTES!$J:$K,MATCH(P295,REFERENTES!$K:$K,0),1))","v":""},null,{"$f":"IF(R295=\"\",\"\",INDEX(REFERENTES!$D:$E,MATCH(R295,REFERENTES!$D:$D,0),2))","v":""},null,null,"",{"$f":"IF(X295=\"\",\"\",INDEX('OTRAS REFERENTES'!$H:$I,MATCH(X295,'OTRAS REFERENTES'!$I:$I,0),1))","v":""},null,null,{"$f":"IF(AA295=\"\",\"\",INDEX('OTRAS REFERENTES'!$K:$L,MATCH(AA295,'OTRAS REFERENTES'!$L:$L,0),1))","v":""},null,null,"",{"$f":"IF(SUMPRODUCT(--EXACT(K295&M295,$AD$2:AD294)),\"\",K295&M295)","v":""},{"$f":"IF(SUMPRODUCT(--EXACT(K295&M295,$AD$2:AD294)),\"\",MAX($AE$3:AE294)+1)","v":""}]
[1,"",294,"","",{"$f":"IF(L296<>\"\",CONCATENATE(DIGITADOR!$B$2,$A$2,DIGITADOR!$M$1,A296),\"\")","v":""},null,null,"",{"$f":"IF(K296=\"\",\"\",INDEX('OTRAS REFERENTES'!$AH$6:$AI$658,MATCH(K296,'OTRAS REFERENTES'!$AH$6:$AH$658,0),2))","v":""},null,{"$f":"IF(J296=\"\",\"\",INDEX(REFERENTES!$T:$W,MATCH(J296,REFERENTES!$V:$V,0),3))","v":""},null,null,"",null,{"$f":"IF(P296=\"\",\"\",INDEX(REFERENTES!$J:$K,MATCH(P296,REFERENTES!$K:$K,0),1))","v":""},null,{"$f":"IF(R296=\"\",\"\",INDEX(REFERENTES!$D:$E,MATCH(R296,REFERENTES!$D:$D,0),2))","v":""},null,null,"",{"$f":"IF(X296=\"\",\"\",INDEX('OTRAS REFERENTES'!$H:$I,MATCH(X296,'OTRAS REFERENTES'!$I:$I,0),1))","v":""},null,null,{"$f":"IF(AA296=\"\",\"\",INDEX('OTRAS REFERENTES'!$K:$L,MATCH(AA296,'OTRAS REFERENTES'!$L:$L,0),1))","v":""},null,null,"",{"$f":"IF(SUMPRODUCT(--EXACT(K296&M296,$AD$2:AD295)),\"\",K296&M296)","v":""},{"$f":"IF(SUMPRODUCT(--EXACT(K296&M296,$AD$2:AD295)),\"\",MAX($AE$3:AE295)+1)","v":""}]
[1,"",295,"","",{"$f":"IF(L297<>\"\",CONCATENATE(DIGITADOR!$B$2,$A$2,DIGITADOR!$M$1,A297),\"\")","v":""},null,null,"",{"$f":"IF(K297=\"\",\"\",INDEX('OTRAS REFERENTES'!$AH$6:$AI$658,MATCH(K297,'OTRAS REFERENTES'!$AH$6:$AH$658,0),2))","v":""},null,{"$f":"IF(J297=\"\",\"\",INDEX(REFERENTES!$T:$W,MATCH(J297,REFERENTES!$V:$V,0),3))","v":""},null,null,"",null,{"$f":"IF(P297=\"\",\"\",INDEX(REFERENTES!$J:$K,MATCH(P297,REFERENTES!$K:$K,0),1))","v":""},null,{"$f":"IF(R297=\"\",\"\",INDEX(REFERENTES!$D:$E,MATCH(R297,REFERENTES!$D:$D,0),2))","v":""},null,null,"",{"$f":"IF(X297=\"\",\"\",INDEX('OTRAS REFERENTES'!$H:$I,MATCH(X297,'OTRAS REFERENTES'!$I:$I,0),1))","v":""},null,null,{"$f":"IF(AA297=\"\",\"\",INDEX('OTRAS REFERENTES'!$K:$L,MATCH(AA297,'OTRAS REFERENTES'!$L:$L,0),1))","v":""},null,null,"",{"$f":"IF(SUMPRODUCT(--EXACT(K297&M297,$AD$2:AD296)),\"\",K297&M297)","v":""},{"$f":"IF(SUMPRODUCT(--EXACT(K297&M297,$AD$2:AD296)),\"\",MAX($AE$3:AE296)+1)","v":""}]
[1,"",296,"","",{"$f":"IF(L298<>\"\",CONCATENATE(DIGITADOR!$B$2,$A$2,DIGITADOR!$M$1,A298),\"\")","v":""},null,null,"",{"$f":"IF(K298=\"\",\"\",INDEX('OTRAS REFERENTES'!$AH$6:$AI$658,MATCH(K298,'OTRAS REFERENTES'!$AH$6:$AH$658,0),2))","v":""},null,{"$f":"IF(J298=\"\",\"\",INDEX(REFERENTES!$T:$W,MATCH(J298,REFERENTES!$V:$V,0),3))","v":""},null,null,"",null,{"$f":"IF(P298=\"\",\"\",INDEX(REFERENTES!$J:$K,MATCH(P298,REFERENTES!$K:$K,0),1))","v":""},null,{"$f":"IF(R298=\"\",\"\",INDEX(REFERENTES!$D:$E,MATCH(R298,REFERENTES!$D:$D,0),2))","v":""},null,null,"",{"$f":"IF(X298=\"\",\"\",INDEX('OTRAS REFERENTES'!$H:$I,MATCH(X298,'OTRAS REFERENTES'!$I:$I,0),1))","v":""},null,null,{"$f":"IF(AA298=\"\",\"\",INDEX('OTRAS REFERENTES'!$K:$L,MATCH(AA298,'OTRAS REFERENTES'!$L:$L,0),1))","v":""},null,null,"",{"$f":"IF(SUMPRODUCT(--EXACT(K298&M298,$AD$2:AD297)),\"\",K298&M298)","v":""},{"$f":"IF(SUMPRODUCT(--EXACT(K298&M298,$AD$2:AD297)),\"\",MAX($AE$3:AE297)+1)","v":""}]
[1,"",297,"","",{"$f":"IF(L299<>\"\",CONCATENATE(DIGITADOR!$B$2,$A$2,DIGITADOR!$M$1,A299),\"\")","v":""},null,null,"",{"$f":"IF(K299=\"\",\"\",INDEX('OTRAS REFERENTES'!$AH$6:$AI$658,MATCH(K299,'OTRAS REFERENTES'!$AH$6:$AH$658,0),2))","v":""},null,{"$f":"IF(J299=\"\",\"\",INDEX(REFERENTES!$T:$W,MATCH(J299,REFERENTES!$V:$V,0),3))","v":""},null,null,"",null,{"$f":"IF(P299=\"\",\"\",INDEX(REFERENTES!$J:$K,MATCH(P299,REFERENTES!$K:$K,0),1))","v":""},null,{"$f":"IF(R299=\"\",\"\",INDEX(REFERENTES!$D:$E,MATCH(R299,REFERENTES!$D:$D,0),2))","v":""},null,null,"",{"$f":"IF(X299=\"\",\"\",INDEX('OTRAS REFERENTES'!$H:$I,MATCH(X299,'OTRAS REFERENTES'!$I:$I,0),1))","v":""},null,null,{"$f":"IF(AA299=\"\",\"\",INDEX('OTRAS REFERENTES'!$K:$L,MATCH(AA299,'OTRAS REFERENTES'!$L:$L,0),1))","v":""},null,null,"",{"$f":"IF(SUMPRODUCT(--EXACT(K299&M299,$AD$2:AD298)),\"\",K299&M299)","v":""},{"$f":"IF(SUMPRODUCT(--EXACT(K299&M299,$AD$2:AD298)),\"\",MAX($AE$3:AE298)+1)","v":""}]
[1,"",298,"","",{"$f":"IF(L300<>\"\",CONCATENATE(DIGITADOR!$B$2,$A$2,DIGITADOR!$M$1,A300),\"\")","v":""},null,null,"",{"$f":"IF(K300=\"\",\"\",INDEX('OTRAS REFERENTES'!$AH$6:$AI$658,MATCH(K300,'OTRAS REFERENTES'!$AH$6:$AH$658,0),2))","v":""},null,{"$f":"IF(J300=\"\",\"\",INDEX(REFERENTES!$T:$W,MATCH(J300,REFERENTES!$V:$V,0),3))","v":""},null,null,"",null,{"$f":"IF(P300=\"\",\"\",INDEX(REFERENTES!$J:$K,MATCH(P300,REFERENTES!$K:$K,0),1))","v":""},null,{"$f":"IF(R300=\"\",\"\",INDEX(REFERENTES!$D:$E,MATCH(R300,REFERENTES!$D:$D,0),2))","v":""},null,null,"",{"$f":"IF(X300=\"\",\"\",INDEX('OTRAS REFERENTES'!$H:$I,MATCH(X300,'OTRAS REFERENTES'!$I:$I,0),1))","v":""},null,null,{"$f":"IF(AA300=\"\",\"\",INDEX('OTRAS REFERENTES'!$K:$L,MATCH(AA300,'OTRAS REFERENTES'!$L:$L,0),1))","v":""},null,null,"",{"$f":"IF(SUMPRODUCT(--EXACT(K300&M300,$AD$2:AD299)),\"\",K300&M300)","v":""},{"$f":"IF(SUMPRODUCT(--EXACT(K300&M300,$AD$2:AD299)),\"\",MAX($AE$3:AE299)+1)","v":""}]
[1,"",299,"","",{"$f":"IF(L301<>\"\",CONCATENATE(DIGITADOR!$B$2,$A$2,DIGITADOR!$M$1,A301),\"\")","v":""},null,null,"",{"$f":"IF(K301=\"\",\"\",INDEX('OTRAS REFERENTES'!$AH$6:$AI$658,MATCH(K301,'OTRAS REFERENTES'!$AH$6:$AH$658,0),2))","v":""},null,{"$f":"IF(J301=\"\",\"\",INDEX(REFERENTES!$T:$W,MATCH(J301,REFERENTES!$V:$V,0),3))","v":""},null,null,"",null,{"$f":"IF(P301=\"\",\"\",INDEX(REFERENTES!$J:$K,MATCH(P301,REFERENTES!$K:$K,0),1))","v":""},null,{"$f":"IF(R301=\"\",\"\",INDEX(REFERENTES!$D:$E,MATCH(R301,REFERENTES!$D:$D,0),2))","v":""},null,null,"",{"$f":"IF(X301=\"\",\"\",INDEX('OTRAS REFERENTES'!$H:$I,MATCH(X301,'OTRAS REFERENTES'!$I:$I,0),1))","v":""},null,null,{"$f":"IF(AA301=\"\",\"\",INDEX('OTRAS REFERENTES'!$K:$L,MATCH(AA301,'OTRAS REFERENTES'!$L:$L,0),1))","v":""},null,null,"",{"$f":"IF(SUMPRODUCT(--EXACT(K301&M301,$AD$2:AD300)),\"\",K301&M301)","v":""},{"$f":"IF(SUMPRODUCT(--EXACT(K301&M301,$AD$2:AD300)),\"\",MAX($AE$3:AE300)+1)","v":""}]
[1,"",300,"","",{"$f":"IF(L302<>\"\",CONCATENATE(DIGITADOR!$B$2,$A$2,DIGITADOR!$M$1,A302),\"\")","v":""},null,null,"",{"$f":"IF(K302=\"\",\"\",INDEX('OTRAS REFERENTES'!$AH$6:$AI$658,MATCH(K302,'OTRAS REFERENTES'!$AH$6:$AH$658,0),2))","v":""},null,{"$f":"IF(J302=\"\",\"\",INDEX(REFERENTES!$T:$W,MATCH(J302,REFERENTES!$V:$V,0),3))","v":""},null,null,"",null,{"$f":"IF(P302=\"\",\"\",INDEX(REFERENTES!$J:$K,MATCH(P302,REFERENTES!$K:$K,0),1))","v":""},null,{"$f":"IF(R302=\"\",\"\",INDEX(REFERENTES!$D:$E,MATCH(R302,REFERENTES!$D:$D,0),2))","v":""},null,null,"",{"$f":"IF(X302=\"\",\"\",INDEX('OTRAS REFERENTES'!$H:$I,MATCH(X302,'OTRAS REFERENTES'!$I:$I,0),1))","v":""},null,null,{"$f":"IF(AA302=\"\",\"\",INDEX('OTRAS REFERENTES'!$K:$L,MATCH(AA302,'OTRAS REFERENTES'!$L:$L,0),1))","v":""},null,null,"",{"$f":"IF(SUMPRODUCT(--EXACT(K302&M302,$AD$2:AD301)),\"\",K302&M302)","v":""},{"$f":"IF(SUMPRODUCT(--EXACT(K302&M302,$AD$2:AD301)),\"\",MAX($AE$3:AE301)+1)","v":""}]
[1,"",301,"","",{"$f":"IF(L303<>\"\",CONCATENATE(DIGITADOR!$B$2,$A$2,DIGITADOR!$M$1,A303),\"\")","v":""},null,null,"",{"$f":"IF(K303=\"\",\"\",INDEX('OTRAS REFERENTES'!$AH$6:$AI$658,MATCH(K303,'OTRAS REFERENTES'!$AH$6:$AH$658,0),2))","v":""},null,{"$f":"IF(J303=\"\",\"\",INDEX(REFERENTES!$T:$W,MATCH(J303,REFERENTES!$V:$V,0),3))","v":""},null,null,"",null,{"$f":"IF(P303=\"\",\"\",INDEX(REFERENTES!$J:$K,MATCH(P303,REFERENTES!$K:$K,0),1))","v":""},null,{"$f":"IF(R303=\"\",\"\",INDEX(REFERENTES!$D:$E,MATCH(R303,REFERENTES!$D:$D,0),2))","v":""},null,null,"",{"$f":"IF(X303=\"\",\"\",INDEX('OTRAS REFERENTES'!$H:$I,MATCH(X303,'OTRAS REFERENTES'!$I:$I,0),1))","v":""},null,null,{"$f":"IF(AA303=\"\",\"\",INDEX('OTRAS REFERENTES'!$K:$L,MATCH(AA303,'OTRAS REFERENTES'!$L:$L,0),1))","v":""},null,null,"",{"$f":"IF(SUMPRODUCT(--EXACT(K303&M303,$AD$2:AD302)),\"\",K303&M303)","v":""},{"$f":"IF(SUMPRODUCT(--EXACT(K303&M303,$AD$2:AD302)),\"\",MAX($AE$3:AE302)+1)","v":""}]
[1,"",302,"","",{"$f":"IF(L304<>\"\",CONCATENATE(DIGITADOR!$B$2,$A$2,DIGITADOR!$M$1,A304),\"\")","v":""},null,null,"",{"$f":"IF(K304=\"\",\"\",INDEX('OTRAS REFERENTES'!$AH$6:$AI$658,MATCH(K304,'OTRAS REFERENTES'!$AH$6:$AH$658,0),2))","v":""},null,{"$f":"IF(J304=\"\",\"\",INDEX(REFERENTES!$T:$W,MATCH(J304,REFERENTES!$V:$V,0),3))","v":""},null,null,"",null,{"$f":"IF(P304=\"\",\"\",INDEX(REFERENTES!$J:$K,MATCH(P304,REFERENTES!$K:$K,0),1))","v":""},null,{"$f":"IF(R304=\"\",\"\",INDEX(REFERENTES!$D:$E,MATCH(R304,REFERENTES!$D:$D,0),2))","v":""},null,null,"",{"$f":"IF(X304=\"\",\"\",INDEX('OTRAS REFERENTES'!$H:$I,MATCH(X304,'OTRAS REFERENTES'!$I:$I,0),1))","v":""},null,null,{"$f":"IF(AA304=\"\",\"\",INDEX('OTRAS REFERENTES'!$K:$L,MATCH(AA304,'OTRAS REFERENTES'!$L:$L,0),1))","v":""},null,null,"",{"$f":"IF(SUMPRODUCT(--EXACT(K304&M304,$AD$2:AD303)),\"\",K304&M304)","v":""},{"$f":"IF(SUMPRODUCT(--EXACT(K304&M304,$AD$2:AD303)),\"\",MAX($AE$3:AE303)+1)","v":""}]
[1,"",303,"","",{"$f":"IF(L305<>\"\",CONCATENATE(DIGITADOR!$B$2,$A$2,DIGITADOR!$M$1,A305),\"\")","v":""},null,null,"",{"$f":"IF(K305=\"\",\"\",INDEX('OTRAS REFERENTES'!$AH$6:$AI$658,MATCH(K305,'OTRAS REFERENTES'!$AH$6:$AH$658,0),2))","v":""},null,{"$f":"IF(J305=\"\",\"\",INDEX(REFERENTES!$T:$W,MATCH(J305,REFERENTES!$V:$V,0),3))","v":""},null,null,"",null,{"$f":"IF(P305=\"\",\"\",INDEX(REFERENTES!$J:$K,MATCH(P305,REFERENTES!$K:$K,0),1))","v":""},null,{"$f":"IF(R305=\"\",\"\",INDEX(REFERENTES!$D:$E,MATCH(R305,REFERENTES!$D:$D,0),2))","v":""},null,null,"",{"$f":"IF(X305=\"\",\"\",INDEX('OTRAS REFERENTES'!$H:$I,MATCH(X305,'OTRAS REFERENTES'!$I:$I,0),1))","v":""},null,null,{"$f":"IF(AA305=\"\",\"\",INDEX('OTRAS REFERENTES'!$K:$L,MATCH(AA305,'OTRAS REFERENTES'!$L:$L,0),1))","v":""},null,null,"",{"$f":"IF(SUMPRODUCT(--EXACT(K305&M305,$AD$2:AD304)),\"\",K305&M305)","v":""},{"$f":"IF(SUMPRODUCT(--EXACT(K305&M305,$AD$2:AD304)),\"\",MAX($AE$3:AE304)+1)","v":""}]
[1,"",304,"","",{"$f":"IF(L306<>\"\",CONCATENATE(DIGITADOR!$B$2,$A$2,DIGITADOR!$M$1,A306),\"\")","v":""},null,null,"",{"$f":"IF(K306=\"\",\"\",INDEX('OTRAS REFERENTES'!$AH$6:$AI$658,MATCH(K306,'OTRAS REFERENTES'!$AH$6:$AH$658,0),2))","v":""},null,{"$f":"IF(J306=\"\",\"\",INDEX(REFERENTES!$T:$W,MATCH(J306,REFERENTES!$V:$V,0),3))","v":""},null,null,"",null,{"$f":"IF(P306=\"\",\"\",INDEX(REFERENTES!$J:$K,MATCH(P306,REFERENTES!$K:$K,0),1))","v":""},null,{"$f":"IF(R306=\"\",\"\",INDEX(REFERENTES!$D:$E,MATCH(R306,REFERENTES!$D:$D,0),2))","v":""},null,null,"",{"$f":"IF(X306=\"\",\"\",INDEX('OTRAS REFERENTES'!$H:$I,MATCH(X306,'OTRAS REFERENTES'!$I:$I,0),1))","v":""},null,null,{"$f":"IF(AA306=\"\",\"\",INDEX('OTRAS REFERENTES'!$K:$L,MATCH(AA306,'OTRAS REFERENTES'!$L:$L,0),1))","v":""},null,null,"",{"$f":"IF(SUMPRODUCT(--EXACT(K306&M306,$AD$2:AD305)),\"\",K306&M306)","v":""},{"$f":"IF(SUMPRODUCT(--EXACT(K306&M306,$AD$2:AD305)),\"\",MAX($AE$3:AE305)+1)","v":""}]
[1,"",305,"","",{"$f":"IF(L307<>\"\",CONCATENATE(DIGITADOR!$B$2,$A$2,DIGITADOR!$M$1,A307),\"\")","v":""},null,null,"",{"$f":"IF(K307=\"\",\"\",INDEX('OTRAS REFERENTES'!$AH$6:$AI$658,MATCH(K307,'OTRAS REFERENTES'!$AH$6:$AH$658,0),2))","v":""},null,{"$f":"IF(J307=\"\",\"\",INDEX(REFERENTES!$T:$W,MATCH(J307,REFERENTES!$V:$V,0),3))","v":""},null,null,"",null,{"$f":"IF(P307=\"\",\"\",INDEX(REFERENTES!$J:$K,MATCH(P307,REFERENTES!$K:$K,0),1))","v":""},null,{"$f":"IF(R307=\"\",\"\",INDEX(REFERENTES!$D:$E,MATCH(R307,REFERENTES!$D:$D,0),2))","v":""},null,null,"",{"$f":"IF(X307=\"\",\"\",INDEX('OTRAS REFERENTES'!$H:$I,MATCH(X307,'OTRAS REFERENTES'!$I:$I,0),1))","v":""},null,null,{"$f":"IF(AA307=\"\",\"\",INDEX('OTRAS REFERENTES'!$K:$L,MATCH(AA307,'OTRAS REFERENTES'!$L:$L,0),1))","v":""},null,null,"",{"$f":"IF(SUMPRODUCT(--EXACT(K307&M307,$AD$2:AD306)),\"\",K307&M307)","v":""},{"$f":"IF(SUMPRODUCT(--EXACT(K307&M307,$AD$2:AD306)),\"\",MAX($AE$3:AE306)+1)","v":""}]
[1,"",306,"","",{"$f":"IF(L308<>\"\",CONCATENATE(DIGITADOR!$B$2,$A$2,DIGITADOR!$M$1,A308),\"\")","v":""},null,null,"",{"$f":"IF(K308=\"\",\"\",INDEX('OTRAS REFERENTES'!$AH$6:$AI$658,MATCH(K308,'OTRAS REFERENTES'!$AH$6:$AH$658,0),2))","v":""},null,{"$f":"IF(J308=\"\",\"\",INDEX(REFERENTES!$T:$W,MATCH(J308,REFERENTES!$V:$V,0),3))","v":""},null,null,"",null,{"$f":"IF(P308=\"\",\"\",INDEX(REFERENTES!$J:$K,MATCH(P308,REFERENTES!$K:$K,0),1))","v":""},null,{"$f":"IF(R308=\"\",\"\",INDEX(REFERENTES!$D:$E,MATCH(R308,REFERENTES!$D:$D,0),2))","v":""},null,null,"",{"$f":"IF(X308=\"\",\"\",INDEX('OTRAS REFERENTES'!$H:$I,MATCH(X308,'OTRAS REFERENTES'!$I:$I,0),1))","v":""},null,null,{"$f":"IF(AA308=\"\",\"\",INDEX('OTRAS REFERENTES'!$K:$L,MATCH(AA308,'OTRAS REFERENTES'!$L:$L,0),1))","v":""},null,null,"",{"$f":"IF(SUMPRODUCT(--EXACT(K308&M308,$AD$2:AD307)),\"\",K308&M308)","v":""},{"$f":"IF(SUMPRODUCT(--EXACT(K308&M308,$AD$2:AD307)),\"\",MAX($AE$3:AE307)+1)","v":""}]
[1,"",307,"","",{"$f":"IF(L309<>\"\",CONCATENATE(DIGITADOR!$B$2,$A$2,DIGITADOR!$M$1,A309),\"\")","v":""},null,null,"",{"$f":"IF(K309=\"\",\"\",INDEX('OTRAS REFERENTES'!$AH$6:$AI$658,MATCH(K309,'OTRAS REFERENTES'!$AH$6:$AH$658,0),2))","v":""},null,{"$f":"IF(J309=\"\",\"\",INDEX(REFERENTES!$T:$W,MATCH(J309,REFERENTES!$V:$V,0),3))","v":""},null,null,"",null,{"$f":"IF(P309=\"\",\"\",INDEX(REFERENTES!$J:$K,MATCH(P309,REFERENTES!$K:$K,0),1))","v":""},null,{"$f":"IF(R309=\"\",\"\",INDEX(REFERENTES!$D:$E,MATCH(R309,REFERENTES!$D:$D,0),2))","v":""},null,null,"",{"$f":"IF(X309=\"\",\"\",INDEX('OTRAS REFERENTES'!$H:$I,MATCH(X309,'OTRAS REFERENTES'!$I:$I,0),1))","v":""},null,null,{"$f":"IF(AA309=\"\",\"\",INDEX('OTRAS REFERENTES'!$K:$L,MATCH(AA309,'OTRAS REFERENTES'!$L:$L,0),1))","v":""},null,null,"",{"$f":"IF(SUMPRODUCT(--EXACT(K309&M309,$AD$2:AD308)),\"\",K309&M309)","v":""},{"$f":"IF(SUMPRODUCT(--EXACT(K309&M309,$AD$2:AD308)),\"\",MAX($AE$3:AE308)+1)","v":""}]
[1,"",308,"","",{"$f":"IF(L310<>\"\",CONCATENATE(DIGITADOR!$B$2,$A$2,DIGITADOR!$M$1,A310),\"\")","v":""},null,null,"",{"$f":"IF(K310=\"\",\"\",INDEX('OTRAS REFERENTES'!$AH$6:$AI$658,MATCH(K310,'OTRAS REFERENTES'!$AH$6:$AH$658,0),2))","v":""},null,{"$f":"IF(J310=\"\",\"\",INDEX(REFERENTES!$T:$W,MATCH(J310,REFERENTES!$V:$V,0),3))","v":""},null,null,"",null,{"$f":"IF(P310=\"\",\"\",INDEX(REFERENTES!$J:$K,MATCH(P310,REFERENTES!$K:$K,0),1))","v":""},null,{"$f":"IF(R310=\"\",\"\",INDEX(REFERENTES!$D:$E,MATCH(R310,REFERENTES!$D:$D,0),2))","v":""},null,null,"",{"$f":"IF(X310=\"\",\"\",INDEX('OTRAS REFERENTES'!$H:$I,MATCH(X310,'OTRAS REFERENTES'!$I:$I,0),1))","v":""},null,null,{"$f":"IF(AA310=\"\",\"\",INDEX('OTRAS REFERENTES'!$K:$L,MATCH(AA310,'OTRAS REFERENTES'!$L:$L,0),1))","v":""},null,null,"",{"$f":"IF(SUMPRODUCT(--EXACT(K310&M310,$AD$2:AD309)),\"\",K310&M310)","v":""},{"$f":"IF(SUMPRODUCT(--EXACT(K310&M310,$AD$2:AD309)),\"\",MAX($AE$3:AE309)+1)","v":""}]
[1,"",309,"","",{"$f":"IF(L311<>\"\",CONCATENATE(DIGITADOR!$B$2,$A$2,DIGITADOR!$M$1,A311),\"\")","v":""},null,null,"",{"$f":"IF(K311=\"\",\"\",INDEX('OTRAS REFERENTES'!$AH$6:$AI$658,MATCH(K311,'OTRAS REFERENTES'!$AH$6:$AH$658,0),2))","v":""},null,{"$f":"IF(J311=\"\",\"\",INDEX(REFERENTES!$T:$W,MATCH(J311,REFERENTES!$V:$V,0),3))","v":""},null,null,"",null,{"$f":"IF(P311=\"\",\"\",INDEX(REFERENTES!$J:$K,MATCH(P311,REFERENTES!$K:$K,0),1))","v":""},null,{"$f":"IF(R311=\"\",\"\",INDEX(REFERENTES!$D:$E,MATCH(R311,REFERENTES!$D:$D,0),2))","v":""},null,null,"",{"$f":"IF(X311=\"\",\"\",INDEX('OTRAS REFERENTES'!$H:$I,MATCH(X311,'OTRAS REFERENTES'!$I:$I,0),1))","v":""},null,null,{"$f":"IF(AA311=\"\",\"\",INDEX('OTRAS REFERENTES'!$K:$L,MATCH(AA311,'OTRAS REFERENTES'!$L:$L,0),1))","v":""},null,null,"",{"$f":"IF(SUMPRODUCT(--EXACT(K311&M311,$AD$2:AD310)),\"\",K311&M311)","v":""},{"$f":"IF(SUMPRODUCT(--EXACT(K311&M311,$AD$2:AD310)),\"\",MAX($AE$3:AE310)+1)","v":""}]
[1,"",310,"","",{"$f":"IF(L312<>\"\",CONCATENATE(DIGITADOR!$B$2,$A$2,DIGITADOR!$M$1,A312),\"\")","v":""},null,null,"",{"$f":"IF(K312=\"\",\"\",INDEX('OTRAS REFERENTES'!$AH$6:$AI$658,MATCH(K312,'OTRAS REFERENTES'!$AH$6:$AH$658,0),2))","v":""},null,{"$f":"IF(J312=\"\",\"\",INDEX(REFERENTES!$T:$W,MATCH(J312,REFERENTES!$V:$V,0),3))","v":""},null,null,"",null,{"$f":"IF(P312=\"\",\"\",INDEX(REFERENTES!$J:$K,MATCH(P312,REFERENTES!$K:$K,0),1))","v":""},null,{"$f":"IF(R312=\"\",\"\",INDEX(REFERENTES!$D:$E,MATCH(R312,REFERENTES!$D:$D,0),2))","v":""},null,null,"",{"$f":"IF(X312=\"\",\"\",INDEX('OTRAS REFERENTES'!$H:$I,MATCH(X312,'OTRAS REFERENTES'!$I:$I,0),1))","v":""},null,null,{"$f":"IF(AA312=\"\",\"\",INDEX('OTRAS REFERENTES'!$K:$L,MATCH(AA312,'OTRAS REFERENTES'!$L:$L,0),1))","v":""},null,null,"",{"$f":"IF(SUMPRODUCT(--EXACT(K312&M312,$AD$2:AD311)),\"\",K312&M312)","v":""},{"$f":"IF(SUMPRODUCT(--EXACT(K312&M312,$AD$2:AD311)),\"\",MAX($AE$3:AE311)+1)","v":""}]
[1,"",311,"","",{"$f":"IF(L313<>\"\",CONCATENATE(DIGITADOR!$B$2,$A$2,DIGITADOR!$M$1,A313),\"\")","v":""},null,null,"",{"$f":"IF(K313=\"\",\"\",INDEX('OTRAS REFERENTES'!$AH$6:$AI$658,MATCH(K313,'OTRAS REFERENTES'!$AH$6:$AH$658,0),2))","v":""},null,{"$f":"IF(J313=\"\",\"\",INDEX(REFERENTES!$T:$W,MATCH(J313,REFERENTES!$V:$V,0),3))","v":""},null,null,"",null,{"$f":"IF(P313=\"\",\"\",INDEX(REFERENTES!$J:$K,MATCH(P313,REFERENTES!$K:$K,0),1))","v":""},null,{"$f":"IF(R313=\"\",\"\",INDEX(REFERENTES!$D:$E,MATCH(R313,REFERENTES!$D:$D,0),2))","v":""},null,null,"",{"$f":"IF(X313=\"\",\"\",INDEX('OTRAS REFERENTES'!$H:$I,MATCH(X313,'OTRAS REFERENTES'!$I:$I,0),1))","v":""},null,null,{"$f":"IF(AA313=\"\",\"\",INDEX('OTRAS REFERENTES'!$K:$L,MATCH(AA313,'OTRAS REFERENTES'!$L:$L,0),1))","v":""},null,null,"",{"$f":"IF(SUMPRODUCT(--EXACT(K313&M313,$AD$2:AD312)),\"\",K313&M313)","v":""},{"$f":"IF(SUMPRODUCT(--EXACT(K313&M313,$AD$2:AD312)),\"\",MAX($AE$3:AE312)+1)","v":""}]
[1,"",312,"","",{"$f":"IF(L314<>\"\",CONCATENATE(DIGITADOR!$B$2,$A$2,DIGITADOR!$M$1,A314),\"\")","v":""},null,null,"",{"$f":"IF(K314=\"\",\"\",INDEX('OTRAS REFERENTES'!$AH$6:$AI$658,MATCH(K314,'OTRAS REFERENTES'!$AH$6:$AH$658,0),2))","v":""},null,{"$f":"IF(J314=\"\",\"\",INDEX(REFERENTES!$T:$W,MATCH(J314,REFERENTES!$V:$V,0),3))","v":""},null,null,"",null,{"$f":"IF(P314=\"\",\"\",INDEX(REFERENTES!$J:$K,MATCH(P314,REFERENTES!$K:$K,0),1))","v":""},null,{"$f":"IF(R314=\"\",\"\",INDEX(REFERENTES!$D:$E,MATCH(R314,REFERENTES!$D:$D,0),2))","v":""},null,null,"",{"$f":"IF(X314=\"\",\"\",INDEX('OTRAS REFERENTES'!$H:$I,MATCH(X314,'OTRAS REFERENTES'!$I:$I,0),1))","v":""},null,null,{"$f":"IF(AA314=\"\",\"\",INDEX('OTRAS REFERENTES'!$K:$L,MATCH(AA314,'OTRAS REFERENTES'!$L:$L,0),1))","v":""},null,null,"",{"$f":"IF(SUMPRODUCT(--EXACT(K314&M314,$AD$2:AD313)),\"\",K314&M314)","v":""},{"$f":"IF(SUMPRODUCT(--EXACT(K314&M314,$AD$2:AD313)),\"\",MAX($AE$3:AE313)+1)","v":""}]
[1,"",313,"","",{"$f":"IF(L315<>\"\",CONCATENATE(DIGITADOR!$B$2,$A$2,DIGITADOR!$M$1,A315),\"\")","v":""},null,null,"",{"$f":"IF(K315=\"\",\"\",INDEX('OTRAS REFERENTES'!$AH$6:$AI$658,MATCH(K315,'OTRAS REFERENTES'!$AH$6:$AH$658,0),2))","v":""},null,{"$f":"IF(J315=\"\",\"\",INDEX(REFERENTES!$T:$W,MATCH(J315,REFERENTES!$V:$V,0),3))","v":""},null,null,"",null,{"$f":"IF(P315=\"\",\"\",INDEX(REFERENTES!$J:$K,MATCH(P315,REFERENTES!$K:$K,0),1))","v":""},null,{"$f":"IF(R315=\"\",\"\",INDEX(REFERENTES!$D:$E,MATCH(R315,REFERENTES!$D:$D,0),2))","v":""},null,null,"",{"$f":"IF(X315=\"\",\"\",INDEX('OTRAS REFERENTES'!$H:$I,MATCH(X315,'OTRAS REFERENTES'!$I:$I,0),1))","v":""},null,null,{"$f":"IF(AA315=\"\",\"\",INDEX('OTRAS REFERENTES'!$K:$L,MATCH(AA315,'OTRAS REFERENTES'!$L:$L,0),1))","v":""},null,null,"",{"$f":"IF(SUMPRODUCT(--EXACT(K315&M315,$AD$2:AD314)),\"\",K315&M315)","v":""},{"$f":"IF(SUMPRODUCT(--EXACT(K315&M315,$AD$2:AD314)),\"\",MAX($AE$3:AE314)+1)","v":""}]
[1,"",314,"","",{"$f":"IF(L316<>\"\",CONCATENATE(DIGITADOR!$B$2,$A$2,DIGITADOR!$M$1,A316),\"\")","v":""},null,null,"",{"$f":"IF(K316=\"\",\"\",INDEX('OTRAS REFERENTES'!$AH$6:$AI$658,MATCH(K316,'OTRAS REFERENTES'!$AH$6:$AH$658,0),2))","v":""},null,{"$f":"IF(J316=\"\",\"\",INDEX(REFERENTES!$T:$W,MATCH(J316,REFERENTES!$V:$V,0),3))","v":""},null,null,"",null,{"$f":"IF(P316=\"\",\"\",INDEX(REFERENTES!$J:$K,MATCH(P316,REFERENTES!$K:$K,0),1))","v":""},null,{"$f":"IF(R316=\"\",\"\",INDEX(REFERENTES!$D:$E,MATCH(R316,REFERENTES!$D:$D,0),2))","v":""},null,null,"",{"$f":"IF(X316=\"\",\"\",INDEX('OTRAS REFERENTES'!$H:$I,MATCH(X316,'OTRAS REFERENTES'!$I:$I,0),1))","v":""},null,null,{"$f":"IF(AA316=\"\",\"\",INDEX('OTRAS REFERENTES'!$K:$L,MATCH(AA316,'OTRAS REFERENTES'!$L:$L,0),1))","v":""},null,null,"",{"$f":"IF(SUMPRODUCT(--EXACT(K316&M316,$AD$2:AD315)),\"\",K316&M316)","v":""},{"$f":"IF(SUMPRODUCT(--EXACT(K316&M316,$AD$2:AD315)),\"\",MAX($AE$3:AE315)+1)","v":""}]
[1,"",315,"","",{"$f":"IF(L317<>\"\",CONCATENATE(DIGITADOR!$B$2,$A$2,DIGITADOR!$M$1,A317),\"\")","v":""},null,null,"",{"$f":"IF(K317=\"\",\"\",INDEX('OTRAS REFERENTES'!$AH$6:$AI$658,MATCH(K317,'OTRAS REFERENTES'!$AH$6:$AH$658,0),2))","v":""},null,{"$f":"IF(J317=\"\",\"\",INDEX(REFERENTES!$T:$W,MATCH(J317,REFERENTES!$V:$V,0),3))","v":""},null,null,"",null,{"$f":"IF(P317=\"\",\"\",INDEX(REFERENTES!$J:$K,MATCH(P317,REFERENTES!$K:$K,0),1))","v":""},null,{"$f":"IF(R317=\"\",\"\",INDEX(REFERENTES!$D:$E,MATCH(R317,REFERENTES!$D:$D,0),2))","v":""},null,null,"",{"$f":"IF(X317=\"\",\"\",INDEX('OTRAS REFERENTES'!$H:$I,MATCH(X317,'OTRAS REFERENTES'!$I:$I,0),1))","v":""},null,null,{"$f":"IF(AA317=\"\",\"\",INDEX('OTRAS REFERENTES'!$K:$L,MATCH(AA317,'OTRAS REFERENTES'!$L:$L,0),1))","v":""},null,null,"",{"$f":"IF(SUMPRODUCT(--EXACT(K317&M317,$AD$2:AD316)),\"\",K317&M317)","v":""},{"$f":"IF(SUMPRODUCT(--EXACT(K317&M317,$AD$2:AD316)),\"\",MAX($AE$3:AE316)+1)","v":""}]
[1,"",316,"","",{"$f":"IF(L318<>\"\",CONCATENATE(DIGITADOR!$B$2,$A$2,DIGITADOR!$M$1,A318),\"\")","v":""},null,null,"",{"$f":"IF(K318=\"\",\"\",INDEX('OTRAS REFERENTES'!$AH$6:$AI$658,MATCH(K318,'OTRAS REFERENTES'!$AH$6:$AH$658,0),2))","v":""},null,{"$f":"IF(J318=\"\",\"\",INDEX(REFERENTES!$T:$W,MATCH(J318,REFERENTES!$V:$V,0),3))","v":""},null,null,"",null,{"$f":"IF(P318=\"\",\"\",INDEX(REFERENTES!$J:$K,MATCH(P318,REFERENTES!$K:$K,0),1))","v":""},null,{"$f":"IF(R318=\"\",\"\",INDEX(REFERENTES!$D:$E,MATCH(R318,REFERENTES!$D:$D,0),2))","v":""},null,null,"",{"$f":"IF(X318=\"\",\"\",INDEX('OTRAS REFERENTES'!$H:$I,MATCH(X318,'OTRAS REFERENTES'!$I:$I,0),1))","v":""},null,null,{"$f":"IF(AA318=\"\",\"\",INDEX('OTRAS REFERENTES'!$K:$L,MATCH(AA318,'OTRAS REFERENTES'!$L:$L,0),1))","v":""},null,null,"",{"$f":"IF(SUMPRODUCT(--EXACT(K318&M318,$AD$2:AD317)),\"\",K318&M318)","v":""},{"$f":"IF(SUMPRODUCT(--EXACT(K318&M318,$AD$2:AD317)),\"\",MAX($AE$3:AE317)+1)","v":""}]
[1,"",317,"","",{"$f":"IF(L319<>\"\",CONCATENATE(DIGITADOR!$B$2,$A$2,DIGITADOR!$M$1,A319),\"\")","v":""},null,null,"",{"$f":"IF(K319=\"\",\"\",INDEX('OTRAS REFERENTES'!$AH$6:$AI$658,MATCH(K319,'OTRAS REFERENTES'!$AH$6:$AH$658,0),2))","v":""},null,{"$f":"IF(J319=\"\",\"\",INDEX(REFERENTES!$T:$W,MATCH(J319,REFERENTES!$V:$V,0),3))","v":""},null,null,"",null,{"$f":"IF(P319=\"\",\"\",INDEX(REFERENTES!$J:$K,MATCH(P319,REFERENTES!$K:$K,0),1))","v":""},null,{"$f":"IF(R319=\"\",\"\",INDEX(REFERENTES!$D:$E,MATCH(R319,REFERENTES!$D:$D,0),2))","v":""},null,null,"",{"$f":"IF(X319=\"\",\"\",INDEX('OTRAS REFERENTES'!$H:$I,MATCH(X319,'OTRAS REFERENTES'!$I:$I,0),1))","v":""},null,null,{"$f":"IF(AA319=\"\",\"\",INDEX('OTRAS REFERENTES'!$K:$L,MATCH(AA319,'OTRAS REFERENTES'!$L:$L,0),1))","v":""},null,null,"",{"$f":"IF(SUMPRODUCT(--EXACT(K319&M319,$AD$2:AD318)),\"\",K319&M319)","v":""},{"$f":"IF(SUMPRODUCT(--EXACT(K319&M319,$AD$2:AD318)),\"\",MAX($AE$3:AE318)+1)","v":""}]
[1,"",318,"","",{"$f":"IF(L320<>\"\",CONCATENATE(DIGITADOR!$B$2,$A$2,DIGITADOR!$M$1,A320),\"\")","v":""},null,null,"",{"$f":"IF(K320=\"\",\"\",INDEX('OTRAS REFERENTES'!$AH$6:$AI$658,MATCH(K320,'OTRAS REFERENTES'!$AH$6:$AH$658,0),2))","v":""},null,{"$f":"IF(J320=\"\",\"\",INDEX(REFERENTES!$T:$W,MATCH(J320,REFERENTES!$V:$V,0),3))","v":""},null,null,"",null,{"$f":"IF(P320=\"\",\"\",INDEX(REFERENTES!$J:$K,MATCH(P320,REFERENTES!$K:$K,0),1))","v":""},null,{"$f":"IF(R320=\"\",\"\",INDEX(REFERENTES!$D:$E,MATCH(R320,REFERENTES!$D:$D,0),2))","v":""},null,null,"",{"$f":"IF(X320=\"\",\"\",INDEX('OTRAS REFERENTES'!$H:$I,MATCH(X320,'OTRAS REFERENTES'!$I:$I,0),1))","v":""},null,null,{"$f":"IF(AA320=\"\",\"\",INDEX('OTRAS REFERENTES'!$K:$L,MATCH(AA320,'OTRAS REFERENTES'!$L:$L,0),1))","v":""},null,null,"",{"$f":"IF(SUMPRODUCT(--EXACT(K320&M320,$AD$2:AD319)),\"\",K320&M320)","v":""},{"$f":"IF(SUMPRODUCT(--EXACT(K320&M320,$AD$2:AD319)),\"\",MAX($AE$3:AE319)+1)","v":""}]
[1,"",319,"","",{"$f":"IF(L321<>\"\",CONCATENATE(DIGITADOR!$B$2,$A$2,DIGITADOR!$M$1,A321),\"\")","v":""},null,null,"",{"$f":"IF(K321=\"\",\"\",INDEX('OTRAS REFERENTES'!$AH$6:$AI$658,MATCH(K321,'OTRAS REFERENTES'!$AH$6:$AH$658,0),2))","v":""},null,{"$f":"IF(J321=\"\",\"\",INDEX(REFERENTES!$T:$W,MATCH(J321,REFERENTES!$V:$V,0),3))","v":""},null,null,"",null,{"$f":"IF(P321=\"\",\"\",INDEX(REFERENTES!$J:$K,MATCH(P321,REFERENTES!$K:$K,0),1))","v":""},null,{"$f":"IF(R321=\"\",\"\",INDEX(REFERENTES!$D:$E,MATCH(R321,REFERENTES!$D:$D,0),2))","v":""},null,null,"",{"$f":"IF(X321=\"\",\"\",INDEX('OTRAS REFERENTES'!$H:$I,MATCH(X321,'OTRAS REFERENTES'!$I:$I,0),1))","v":""},null,null,{"$f":"IF(AA321=\"\",\"\",INDEX('OTRAS REFERENTES'!$K:$L,MATCH(AA321,'OTRAS REFERENTES'!$L:$L,0),1))","v":""},null,null,"",{"$f":"IF(SUMPRODUCT(--EXACT(K321&M321,$AD$2:AD320)),\"\",K321&M321)","v":""},{"$f":"IF(SUMPRODUCT(--EXACT(K321&M321,$AD$2:AD320)),\"\",MAX($AE$3:AE320)+1)","v":""}]
[1,"",320,"","",{"$f":"IF(L322<>\"\",CONCATENATE(DIGITADOR!$B$2,$A$2,DIGITADOR!$M$1,A322),\"\")","v":""},null,null,"",{"$f":"IF(K322=\"\",\"\",INDEX('OTRAS REFERENTES'!$AH$6:$AI$658,MATCH(K322,'OTRAS REFERENTES'!$AH$6:$AH$658,0),2))","v":""},null,{"$f":"IF(J322=\"\",\"\",INDEX(REFERENTES!$T:$W,MATCH(J322,REFERENTES!$V:$V,0),3))","v":""},null,null,"",null,{"$f":"IF(P322=\"\",\"\",INDEX(REFERENTES!$J:$K,MATCH(P322,REFERENTES!$K:$K,0),1))","v":""},null,{"$f":"IF(R322=\"\",\"\",INDEX(REFERENTES!$D:$E,MATCH(R322,REFERENTES!$D:$D,0),2))","v":""},null,null,"",{"$f":"IF(X322=\"\",\"\",INDEX('OTRAS REFERENTES'!$H:$I,MATCH(X322,'OTRAS REFERENTES'!$I:$I,0),1))","v":""},null,null,{"$f":"IF(AA322=\"\",\"\",INDEX('OTRAS REFERENTES'!$K:$L,MATCH(AA322,'OTRAS REFERENTES'!$L:$L,0),1))","v":""},null,null,"",{"$f":"IF(SUMPRODUCT(--EXACT(K322&M322,$AD$2:AD321)),\"\",K322&M322)","v":""},{"$f":"IF(SUMPRODUCT(--EXACT(K322&M322,$AD$2:AD321)),\"\",MAX($AE$3:AE321)+1)","v":""}]
[1,"",321,"",{"$f":"CONCATENATE(I323,L323)","v":""},{"$f":"IF(L323<>\"\",CONCATENATE(DIGITADOR!$B$2,$A$2,DIGITADOR!$M$1,A323),\"\")","v":""},null,null,{"$f":"IF(G323<>\"\",G323+H323,\"\")","v":""},{"$f":"IF(K323=\"\",\"\",INDEX('OTRAS REFERENTES'!$AH$6:$AI$658,MATCH(K323,'OTRAS REFERENTES'!$AH$6:$AH$658,0),2))","v":""},null,{"$f":"IF(J323=\"\",\"\",INDEX(REFERENTES!$T:$W,MATCH(J323,REFERENTES!$V:$V,0),3))","v":""},null,null,{"$f":"IF(P323=\"\",\"\",UPPER(P323))","v":""},null,{"$f":"IF(P323=\"\",\"\",INDEX(REFERENTES!$J:$K,MATCH(P323,REFERENTES!$K:$K,0),1))","v":""},null,{"$f":"IF(R323=\"\",\"\",INDEX(REFERENTES!$D:$E,MATCH(R323,REFERENTES!$D:$D,0),2))","v":""},null,null,{"$f":"IF(U323=\"\",IF(T323=\"\",\"\",IF(AND(T323>=0,T323<=50),\"A\",IF(AND(T323>50,T323<=150),\"B\",\"C\"))),U323)","v":""},{"$f":"IF(X323=\"\",\"\",INDEX('OTRAS REFERENTES'!$H:$I,MATCH(X323,'OTRAS REFERENTES'!$I:$I,0),1))","v":""},null,null,{"$f":"IF(AA323=\"\",\"\",INDEX('OTRAS REFERENTES'!$K:$L,MATCH(AA323,'OTRAS REFERENTES'!$L:$L,0),1))","v":""},null,null,"",{"$f":"IF(SUMPRODUCT(--EXACT(K323&M323,$AD$2:AD322)),\"\",K323&M323)","v":""},{"$f":"IF(SUMPRODUCT(--EXACT(K323&M323,$AD$2:AD322)),\"\",MAX($AE$3:AE322)+1)","v":""}]
[1,"",322,"","",{"$f":"IF(L324<>\"\",CONCATENATE(DIGITADOR!$B$2,$A$2,DIGITADOR!$M$1,A324),\"\")","v":""},null,null,"",{"$f":"IF(K324=\"\",\"\",INDEX('OTRAS REFERENTES'!$AH$6:$AI$658,MATCH(K324,'OTRAS REFERENTES'!$AH$6:$AH$658,0),2))","v":""},null,{"$f":"IF(J324=\"\",\"\",INDEX(REFERENTES!$T:$W,MATCH(J324,REFERENTES!$V:$V,0),3))","v":""},null,null,"",null,{"$f":"IF(P324=\"\",\"\",INDEX(REFERENTES!$J:$K,MATCH(P324,REFERENTES!$K:$K,0),1))","v":""},null,{"$f":"IF(R324=\"\",\"\",INDEX(REFERENTES!$D:$E,MATCH(R324,REFERENTES!$D:$D,0),2))","v":""},null,null,"",{"$f":"IF(X324=\"\",\"\",INDEX('OTRAS REFERENTES'!$H:$I,MATCH(X324,'OTRAS REFERENTES'!$I:$I,0),1))","v":""},null,null,{"$f":"IF(AA324=\"\",\"\",INDEX('OTRAS REFERENTES'!$K:$L,MATCH(AA324,'OTRAS REFERENTES'!$L:$L,0),1))","v":""},null,null,{"$f":"IF(R324=\"\",\"\",UPPER(R324))","v":""},{"$f":"IF(SUMPRODUCT(--EXACT(K324&M324,$AD$2:AD323)),\"\",K324&M324)","v":""},{"$f":"IF(SUMPRODUCT(--EXACT(K324&M324,$AD$2:AD323)),\"\",MAX($AE$3:AE323)+1)","v":""}]
[{"$f":"IF(L325=L324,A324,A324+1)","v":1},{"$f":"IF(F325<>F324, F325,\"\")","v":""},323,"","",{"$f":"IF(L325<>\"\",CONCATENATE(DIGITADOR!$B$2,$A$2,DIGITADOR!$M$1,A325),\"\")","v":""},null,null,"",{"$f":"IF(K325=\"\",\"\",INDEX('OTRAS REFERENTES'!$AH$6:$AI$658,MATCH(K325,'OTRAS REFERENTES'!$AH$6:$AH$658,0),2))","v":""},null,{"$f":"IF(J325=\"\",\"\",INDEX(REFERENTES!$T:$W,MATCH(J325,REFERENTES!$V:$V,0),3))","v":""},null,null,"",null,{"$f":"IF(P325=\"\",\"\",INDEX(REFERENTES!$J:$K,MATCH(P325,REFERENTES!$K:$K,0),1))","v":""},null,{"$f":"IF(R325=\"\",\"\",INDEX(REFERENTES!$D:$E,MATCH(R325,REFERENTES!$D:$D,0),2))","v":""},null,null,"",{"$f":"IF(X325=\"\",\"\",INDEX('OTRAS REFERENTES'!$H:$I,MATCH(X325,'OTRAS REFERENTES'!$I:$I,0),1))","v":""},null,null,{"$f":"IF(AA325=\"\",\"\",INDEX('OTRAS REFERENTES'!$K:$L,MATCH(AA325,'OTRAS REFERENTES'!$L:$L,0),1))","v":""},null,null,"",{"$f":"IF(SUMPRODUCT(--EXACT(K325&M325,$AD$2:AD324)),\"\",K325&M325)","v":""},{"$f":"IF(SUMPRODUCT(--EXACT(K325&M325,$AD$2:AD324)),\"\",MAX($AE$3:AE324)+1)","v":""}]
[1,"",324,"","",{"$f":"IF(L326<>\"\",CONCATENATE(DIGITADOR!$B$2,$A$2,DIGITADOR!$M$1,A326),\"\")","v":""},null,null,"",{"$f":"IF(K326=\"\",\"\",INDEX('OTRAS REFERENTES'!$AH$6:$AI$658,MATCH(K326,'OTRAS REFERENTES'!$AH$6:$AH$658,0),2))","v":""},null,{"$f":"IF(J326=\"\",\"\",INDEX(REFERENTES!$T:$W,MATCH(J326,REFERENTES!$V:$V,0),3))","v":""},null,null,"",null,{"$f":"IF(P326=\"\",\"\",INDEX(REFERENTES!$J:$K,MATCH(P326,REFERENTES!$K:$K,0),1))","v":""},null,{"$f":"IF(R326=\"\",\"\",INDEX(REFERENTES!$D:$E,MATCH(R326,REFERENTES!$D:$D,0),2))","v":""},null,null,"",{"$f":"IF(X326=\"\",\"\",INDEX('OTRAS REFERENTES'!$H:$I,MATCH(X326,'OTRAS REFERENTES'!$I:$I,0),1))","v":""},null,null,{"$f":"IF(AA326=\"\",\"\",INDEX('OTRAS REFERENTES'!$K:$L,MATCH(AA326,'OTRAS REFERENTES'!$L:$L,0),1))","v":""},null,null,"",{"$f":"IF(SUMPRODUCT(--EXACT(K326&M326,$AD$2:AD325)),\"\",K326&M326)","v":""},{"$f":"IF(SUMPRODUCT(--EXACT(K326&M326,$AD$2:AD325)),\"\",MAX($AE$3:AE325)+1)","v":""}]
[1,"",325,"","",{"$f":"IF(L327<>\"\",CONCATENATE(DIGITADOR!$B$2,$A$2,DIGITADOR!$M$1,A327),\"\")","v":""},null,null,"",{"$f":"IF(K327=\"\",\"\",INDEX('OTRAS REFERENTES'!$AH$6:$AI$658,MATCH(K327,'OTRAS REFERENTES'!$AH$6:$AH$658,0),2))","v":""},null,{"$f":"IF(J327=\"\",\"\",INDEX(REFERENTES!$T:$W,MATCH(J327,REFERENTES!$V:$V,0),3))","v":""},null,null,"",null,{"$f":"IF(P327=\"\",\"\",INDEX(REFERENTES!$J:$K,MATCH(P327,REFERENTES!$K:$K,0),1))","v":""},null,{"$f":"IF(R327=\"\",\"\",INDEX(REFERENTES!$D:$E,MATCH(R327,REFERENTES!$D:$D,0),2))","v":""},null,null,"",{"$f":"IF(X327=\"\",\"\",INDEX('OTRAS REFERENTES'!$H:$I,MATCH(X327,'OTRAS REFERENTES'!$I:$I,0),1))","v":""},null,null,{"$f":"IF(AA327=\"\",\"\",INDEX('OTRAS REFERENTES'!$K:$L,MATCH(AA327,'OTRAS REFERENTES'!$L:$L,0),1))","v":""},null,null,"",{"$f":"IF(SUMPRODUCT(--EXACT(K327&M327,$AD$2:AD326)),\"\",K327&M327)","v":""},{"$f":"IF(SUMPRODUCT(--EXACT(K327&M327,$AD$2:AD326)),\"\",MAX($AE$3:AE326)+1)","v":""}]
[1,"",326,"","",{"$f":"IF(L328<>\"\",CONCATENATE(DIGITADOR!$B$2,$A$2,DIGITADOR!$M$1,A328),\"\")","v":""},null,null,"",{"$f":"IF(K328=\"\",\"\",INDEX('OTRAS REFERENTES'!$AH$6:$AI$658,MATCH(K328,'OTRAS REFERENTES'!$AH$6:$AH$658,0),2))","v":""},null,{"$f":"IF(J328=\"\",\"\",INDEX(REFERENTES!$T:$W,MATCH(J328,REFERENTES!$V:$V,0),3))","v":""},null,null,"",null,{"$f":"IF(P328=\"\",\"\",INDEX(REFERENTES!$J:$K,MATCH(P328,REFERENTES!$K:$K,0),1))","v":""},null,{"$f":"IF(R328=\"\",\"\",INDEX(REFERENTES!$D:$E,MATCH(R328,REFERENTES!$D:$D,0),2))","v":""},null,null,"",{"$f":"IF(X328=\"\",\"\",INDEX('OTRAS REFERENTES'!$H:$I,MATCH(X328,'OTRAS REFERENTES'!$I:$I,0),1))","v":""},null,null,{"$f":"IF(AA328=\"\",\"\",INDEX('OTRAS REFERENTES'!$K:$L,MATCH(AA328,'OTRAS REFERENTES'!$L:$L,0),1))","v":""},null,null,"",{"$f":"IF(SUMPRODUCT(--EXACT(K328&M328,$AD$2:AD327)),\"\",K328&M328)","v":""},{"$f":"IF(SUMPRODUCT(--EXACT(K328&M328,$AD$2:AD327)),\"\",MAX($AE$3:AE327)+1)","v":""}]
[1,"",327,"","",{"$f":"IF(L329<>\"\",CONCATENATE(DIGITADOR!$B$2,$A$2,DIGITADOR!$M$1,A329),\"\")","v":""},null,null,"",{"$f":"IF(K329=\"\",\"\",INDEX('OTRAS REFERENTES'!$AH$6:$AI$658,MATCH(K329,'OTRAS REFERENTES'!$AH$6:$AH$658,0),2))","v":""},null,{"$f":"IF(J329=\"\",\"\",INDEX(REFERENTES!$T:$W,MATCH(J329,REFERENTES!$V:$V,0),3))","v":""},null,null,"",null,{"$f":"IF(P329=\"\",\"\",INDEX(REFERENTES!$J:$K,MATCH(P329,REFERENTES!$K:$K,0),1))","v":""},null,{"$f":"IF(R329=\"\",\"\",INDEX(REFERENTES!$D:$E,MATCH(R329,REFERENTES!$D:$D,0),2))","v":""},null,null,"",{"$f":"IF(X329=\"\",\"\",INDEX('OTRAS REFERENTES'!$H:$I,MATCH(X329,'OTRAS REFERENTES'!$I:$I,0),1))","v":""},null,null,{"$f":"IF(AA329=\"\",\"\",INDEX('OTRAS REFERENTES'!$K:$L,MATCH(AA329,'OTRAS REFERENTES'!$L:$L,0),1))","v":""},null,null,"",{"$f":"IF(SUMPRODUCT(--EXACT(K329&M329,$AD$2:AD328)),\"\",K329&M329)","v":""},{"$f":"IF(SUMPRODUCT(--EXACT(K329&M329,$AD$2:AD328)),\"\",MAX($AE$3:AE328)+1)","v":""}]
[1,"",328,"","",{"$f":"IF(L330<>\"\",CONCATENATE(DIGITADOR!$B$2,$A$2,DIGITADOR!$M$1,A330),\"\")","v":""},null,null,"",{"$f":"IF(K330=\"\",\"\",INDEX('OTRAS REFERENTES'!$AH$6:$AI$658,MATCH(K330,'OTRAS REFERENTES'!$AH$6:$AH$658,0),2))","v":""},null,{"$f":"IF(J330=\"\",\"\",INDEX(REFERENTES!$T:$W,MATCH(J330,REFERENTES!$V:$V,0),3))","v":""},null,null,"",null,{"$f":"IF(P330=\"\",\"\",INDEX(REFERENTES!$J:$K,MATCH(P330,REFERENTES!$K:$K,0),1))","v":""},null,{"$f":"IF(R330=\"\",\"\",INDEX(REFERENTES!$D:$E,MATCH(R330,REFERENTES!$D:$D,0),2))","v":""},null,null,"",{"$f":"IF(X330=\"\",\"\",INDEX('OTRAS REFERENTES'!$H:$I,MATCH(X330,'OTRAS REFERENTES'!$I:$I,0),1))","v":""},null,null,{"$f":"IF(AA330=\"\",\"\",INDEX('OTRAS REFERENTES'!$K:$L,MATCH(AA330,'OTRAS REFERENTES'!$L:$L,0),1))","v":""},null,null,"",{"$f":"IF(SUMPRODUCT(--EXACT(K330&M330,$AD$2:AD329)),\"\",K330&M330)","v":""},{"$f":"IF(SUMPRODUCT(--EXACT(K330&M330,$AD$2:AD329)),\"\",MAX($AE$3:AE329)+1)","v":""}]
[1,"",329,"","",{"$f":"IF(L331<>\"\",CONCATENATE(DIGITADOR!$B$2,$A$2,DIGITADOR!$M$1,A331),\"\")","v":""},null,null,"",{"$f":"IF(K331=\"\",\"\",INDEX('OTRAS REFERENTES'!$AH$6:$AI$658,MATCH(K331,'OTRAS REFERENTES'!$AH$6:$AH$658,0),2))","v":""},null,{"$f":"IF(J331=\"\",\"\",INDEX(REFERENTES!$T:$W,MATCH(J331,REFERENTES!$V:$V,0),3))","v":""},null,null,"",null,{"$f":"IF(P331=\"\",\"\",INDEX(REFERENTES!$J:$K,MATCH(P331,REFERENTES!$K:$K,0),1))","v":""},null,{"$f":"IF(R331=\"\",\"\",INDEX(REFERENTES!$D:$E,MATCH(R331,REFERENTES!$D:$D,0),2))","v":""},null,null,"",{"$f":"IF(X331=\"\",\"\",INDEX('OTRAS REFERENTES'!$H:$I,MATCH(X331,'OTRAS REFERENTES'!$I:$I,0),1))","v":""},null,null,{"$f":"IF(AA331=\"\",\"\",INDEX('OTRAS REFERENTES'!$K:$L,MATCH(AA331,'OTRAS REFERENTES'!$L:$L,0),1))","v":""},null,null,"",{"$f":"IF(SUMPRODUCT(--EXACT(K331&M331,$AD$2:AD330)),\"\",K331&M331)","v":""},{"$f":"IF(SUMPRODUCT(--EXACT(K331&M331,$AD$2:AD330)),\"\",MAX($AE$3:AE330)+1)","v":""}]
[1,"",330,"","",{"$f":"IF(L332<>\"\",CONCATENATE(DIGITADOR!$B$2,$A$2,DIGITADOR!$M$1,A332),\"\")","v":""},null,null,"",{"$f":"IF(K332=\"\",\"\",INDEX('OTRAS REFERENTES'!$AH$6:$AI$658,MATCH(K332,'OTRAS REFERENTES'!$AH$6:$AH$658,0),2))","v":""},null,{"$f":"IF(J332=\"\",\"\",INDEX(REFERENTES!$T:$W,MATCH(J332,REFERENTES!$V:$V,0),3))","v":""},null,null,"",null,{"$f":"IF(P332=\"\",\"\",INDEX(REFERENTES!$J:$K,MATCH(P332,REFERENTES!$K:$K,0),1))","v":""},null,{"$f":"IF(R332=\"\",\"\",INDEX(REFERENTES!$D:$E,MATCH(R332,REFERENTES!$D:$D,0),2))","v":""},null,null,"",{"$f":"IF(X332=\"\",\"\",INDEX('OTRAS REFERENTES'!$H:$I,MATCH(X332,'OTRAS REFERENTES'!$I:$I,0),1))","v":""},null,null,{"$f":"IF(AA332=\"\",\"\",INDEX('OTRAS REFERENTES'!$K:$L,MATCH(AA332,'OTRAS REFERENTES'!$L:$L,0),1))","v":""},null,null,"",{"$f":"IF(SUMPRODUCT(--EXACT(K332&M332,$AD$2:AD331)),\"\",K332&M332)","v":""},{"$f":"IF(SUMPRODUCT(--EXACT(K332&M332,$AD$2:AD331)),\"\",MAX($AE$3:AE331)+1)","v":""}]
[1,"",331,"","",{"$f":"IF(L333<>\"\",CONCATENATE(DIGITADOR!$B$2,$A$2,DIGITADOR!$M$1,A333),\"\")","v":""},null,null,"",{"$f":"IF(K333=\"\",\"\",INDEX('OTRAS REFERENTES'!$AH$6:$AI$658,MATCH(K333,'OTRAS REFERENTES'!$AH$6:$AH$658,0),2))","v":""},null,{"$f":"IF(J333=\"\",\"\",INDEX(REFERENTES!$T:$W,MATCH(J333,REFERENTES!$V:$V,0),3))","v":""},null,null,"",null,{"$f":"IF(P333=\"\",\"\",INDEX(REFERENTES!$J:$K,MATCH(P333,REFERENTES!$K:$K,0),1))","v":""},null,{"$f":"IF(R333=\"\",\"\",INDEX(REFERENTES!$D:$E,MATCH(R333,REFERENTES!$D:$D,0),2))","v":""},null,null,"",{"$f":"IF(X333=\"\",\"\",INDEX('OTRAS REFERENTES'!$H:$I,MATCH(X333,'OTRAS REFERENTES'!$I:$I,0),1))","v":""},null,null,{"$f":"IF(AA333=\"\",\"\",INDEX('OTRAS REFERENTES'!$K:$L,MATCH(AA333,'OTRAS REFERENTES'!$L:$L,0),1))","v":""},null,null,"",{"$f":"IF(SUMPRODUCT(--EXACT(K333&M333,$AD$2:AD332)),\"\",K333&M333)","v":""},{"$f":"IF(SUMPRODUCT(--EXACT(K333&M333,$AD$2:AD332)),\"\",MAX($AE$3:AE332)+1)","v":""}]
[1,"",332,"","",{"$f":"IF(L334<>\"\",CONCATENATE(DIGITADOR!$B$2,$A$2,DIGITADOR!$M$1,A334),\"\")","v":""},null,null,"",{"$f":"IF(K334=\"\",\"\",INDEX('OTRAS REFERENTES'!$AH$6:$AI$658,MATCH(K334,'OTRAS REFERENTES'!$AH$6:$AH$658,0),2))","v":""},null,{"$f":"IF(J334=\"\",\"\",INDEX(REFERENTES!$T:$W,MATCH(J334,REFERENTES!$V:$V,0),3))","v":""},null,null,"",null,{"$f":"IF(P334=\"\",\"\",INDEX(REFERENTES!$J:$K,MATCH(P334,REFERENTES!$K:$K,0),1))","v":""},null,{"$f":"IF(R334=\"\",\"\",INDEX(REFERENTES!$D:$E,MATCH(R334,REFERENTES!$D:$D,0),2))","v":""},null,null,"",{"$f":"IF(X334=\"\",\"\",INDEX('OTRAS REFERENTES'!$H:$I,MATCH(X334,'OTRAS REFERENTES'!$I:$I,0),1))","v":""},null,null,{"$f":"IF(AA334=\"\",\"\",INDEX('OTRAS REFERENTES'!$K:$L,MATCH(AA334,'OTRAS REFERENTES'!$L:$L,0),1))","v":""},null,null,"",{"$f":"IF(SUMPRODUCT(--EXACT(K334&M334,$AD$2:AD333)),\"\",K334&M334)","v":""},{"$f":"IF(SUMPRODUCT(--EXACT(K334&M334,$AD$2:AD333)),\"\",MAX($AE$3:AE333)+1)","v":""}]
[1,"",333,"","",{"$f":"IF(L335<>\"\",CONCATENATE(DIGITADOR!$B$2,$A$2,DIGITADOR!$M$1,A335),\"\")","v":""},null,null,"",{"$f":"IF(K335=\"\",\"\",INDEX('OTRAS REFERENTES'!$AH$6:$AI$658,MATCH(K335,'OTRAS REFERENTES'!$AH$6:$AH$658,0),2))","v":""},null,{"$f":"IF(J335=\"\",\"\",INDEX(REFERENTES!$T:$W,MATCH(J335,REFERENTES!$V:$V,0),3))","v":""},null,null,"",null,{"$f":"IF(P335=\"\",\"\",INDEX(REFERENTES!$J:$K,MATCH(P335,REFERENTES!$K:$K,0),1))","v":""},null,{"$f":"IF(R335=\"\",\"\",INDEX(REFERENTES!$D:$E,MATCH(R335,REFERENTES!$D:$D,0),2))","v":""},null,null,"",{"$f":"IF(X335=\"\",\"\",INDEX('OTRAS REFERENTES'!$H:$I,MATCH(X335,'OTRAS REFERENTES'!$I:$I,0),1))","v":""},null,null,{"$f":"IF(AA335=\"\",\"\",INDEX('OTRAS REFERENTES'!$K:$L,MATCH(AA335,'OTRAS REFERENTES'!$L:$L,0),1))","v":""},null,null,"",{"$f":"IF(SUMPRODUCT(--EXACT(K335&M335,$AD$2:AD334)),\"\",K335&M335)","v":""},{"$f":"IF(SUMPRODUCT(--EXACT(K335&M335,$AD$2:AD334)),\"\",MAX($AE$3:AE334)+1)","v":""}]
[1,"",334,"","",{"$f":"IF(L336<>\"\",CONCATENATE(DIGITADOR!$B$2,$A$2,DIGITADOR!$M$1,A336),\"\")","v":""},null,null,"",{"$f":"IF(K336=\"\",\"\",INDEX('OTRAS REFERENTES'!$AH$6:$AI$658,MATCH(K336,'OTRAS REFERENTES'!$AH$6:$AH$658,0),2))","v":""},null,{"$f":"IF(J336=\"\",\"\",INDEX(REFERENTES!$T:$W,MATCH(J336,REFERENTES!$V:$V,0),3))","v":""},null,null,"",null,{"$f":"IF(P336=\"\",\"\",INDEX(REFERENTES!$J:$K,MATCH(P336,REFERENTES!$K:$K,0),1))","v":""},null,{"$f":"IF(R336=\"\",\"\",INDEX(REFERENTES!$D:$E,MATCH(R336,REFERENTES!$D:$D,0),2))","v":""},null,null,"",{"$f":"IF(X336=\"\",\"\",INDEX('OTRAS REFERENTES'!$H:$I,MATCH(X336,'OTRAS REFERENTES'!$I:$I,0),1))","v":""},null,null,{"$f":"IF(AA336=\"\",\"\",INDEX('OTRAS REFERENTES'!$K:$L,MATCH(AA336,'OTRAS REFERENTES'!$L:$L,0),1))","v":""},null,null,"",{"$f":"IF(SUMPRODUCT(--EXACT(K336&M336,$AD$2:AD335)),\"\",K336&M336)","v":""},{"$f":"IF(SUMPRODUCT(--EXACT(K336&M336,$AD$2:AD335)),\"\",MAX($AE$3:AE335)+1)","v":""}]
[1,"",335,"","",{"$f":"IF(L337<>\"\",CONCATENATE(DIGITADOR!$B$2,$A$2,DIGITADOR!$M$1,A337),\"\")","v":""},null,null,"",{"$f":"IF(K337=\"\",\"\",INDEX('OTRAS REFERENTES'!$AH$6:$AI$658,MATCH(K337,'OTRAS REFERENTES'!$AH$6:$AH$658,0),2))","v":""},null,{"$f":"IF(J337=\"\",\"\",INDEX(REFERENTES!$T:$W,MATCH(J337,REFERENTES!$V:$V,0),3))","v":""},null,null,"",null,{"$f":"IF(P337=\"\",\"\",INDEX(REFERENTES!$J:$K,MATCH(P337,REFERENTES!$K:$K,0),1))","v":""},null,{"$f":"IF(R337=\"\",\"\",INDEX(REFERENTES!$D:$E,MATCH(R337,REFERENTES!$D:$D,0),2))","v":""},null,null,"",{"$f":"IF(X337=\"\",\"\",INDEX('OTRAS REFERENTES'!$H:$I,MATCH(X337,'OTRAS REFERENTES'!$I:$I,0),1))","v":""},null,null,{"$f":"IF(AA337=\"\",\"\",INDEX('OTRAS REFERENTES'!$K:$L,MATCH(AA337,'OTRAS REFERENTES'!$L:$L,0),1))","v":""},null,null,"",{"$f":"IF(SUMPRODUCT(--EXACT(K337&M337,$AD$2:AD336)),\"\",K337&M337)","v":""},{"$f":"IF(SUMPRODUCT(--EXACT(K337&M337,$AD$2:AD336)),\"\",MAX($AE$3:AE336)+1)","v":""}]
[1,"",336,"","",{"$f":"IF(L338<>\"\",CONCATENATE(DIGITADOR!$B$2,$A$2,DIGITADOR!$M$1,A338),\"\")","v":""},null,null,"",{"$f":"IF(K338=\"\",\"\",INDEX('OTRAS REFERENTES'!$AH$6:$AI$658,MATCH(K338,'OTRAS REFERENTES'!$AH$6:$AH$658,0),2))","v":""},null,{"$f":"IF(J338=\"\",\"\",INDEX(REFERENTES!$T:$W,MATCH(J338,REFERENTES!$V:$V,0),3))","v":""},null,null,"",null,{"$f":"IF(P338=\"\",\"\",INDEX(REFERENTES!$J:$K,MATCH(P338,REFERENTES!$K:$K,0),1))","v":""},null,{"$f":"IF(R338=\"\",\"\",INDEX(REFERENTES!$D:$E,MATCH(R338,REFERENTES!$D:$D,0),2))","v":""},null,null,"",{"$f":"IF(X338=\"\",\"\",INDEX('OTRAS REFERENTES'!$H:$I,MATCH(X338,'OTRAS REFERENTES'!$I:$I,0),1))","v":""},null,null,{"$f":"IF(AA338=\"\",\"\",INDEX('OTRAS REFERENTES'!$K:$L,MATCH(AA338,'OTRAS REFERENTES'!$L:$L,0),1))","v":""},null,null,"",{"$f":"IF(SUMPRODUCT(--EXACT(K338&M338,$AD$2:AD337)),\"\",K338&M338)","v":""},{"$f":"IF(SUMPRODUCT(--EXACT(K338&M338,$AD$2:AD337)),\"\",MAX($AE$3:AE337)+1)","v":""}]
[1,"",337,"","",{"$f":"IF(L339<>\"\",CONCATENATE(DIGITADOR!$B$2,$A$2,DIGITADOR!$M$1,A339),\"\")","v":""},null,null,"",{"$f":"IF(K339=\"\",\"\",INDEX('OTRAS REFERENTES'!$AH$6:$AI$658,MATCH(K339,'OTRAS REFERENTES'!$AH$6:$AH$658,0),2))","v":""},null,{"$f":"IF(J339=\"\",\"\",INDEX(REFERENTES!$T:$W,MATCH(J339,REFERENTES!$V:$V,0),3))","v":""},null,null,"",null,{"$f":"IF(P339=\"\",\"\",INDEX(REFERENTES!$J:$K,MATCH(P339,REFERENTES!$K:$K,0),1))","v":""},null,{"$f":"IF(R339=\"\",\"\",INDEX(REFERENTES!$D:$E,MATCH(R339,REFERENTES!$D:$D,0),2))","v":""},null,null,"",{"$f":"IF(X339=\"\",\"\",INDEX('OTRAS REFERENTES'!$H:$I,MATCH(X339,'OTRAS REFERENTES'!$I:$I,0),1))","v":""},null,null,{"$f":"IF(AA339=\"\",\"\",INDEX('OTRAS REFERENTES'!$K:$L,MATCH(AA339,'OTRAS REFERENTES'!$L:$L,0),1))","v":""},null,null,"",{"$f":"IF(SUMPRODUCT(--EXACT(K339&M339,$AD$2:AD338)),\"\",K339&M339)","v":""},{"$f":"IF(SUMPRODUCT(--EXACT(K339&M339,$AD$2:AD338)),\"\",MAX($AE$3:AE338)+1)","v":""}]
[1,"",338,"","",{"$f":"IF(L340<>\"\",CONCATENATE(DIGITADOR!$B$2,$A$2,DIGITADOR!$M$1,A340),\"\")","v":""},null,null,"",{"$f":"IF(K340=\"\",\"\",INDEX('OTRAS REFERENTES'!$AH$6:$AI$658,MATCH(K340,'OTRAS REFERENTES'!$AH$6:$AH$658,0),2))","v":""},null,{"$f":"IF(J340=\"\",\"\",INDEX(REFERENTES!$T:$W,MATCH(J340,REFERENTES!$V:$V,0),3))","v":""},null,null,"",null,{"$f":"IF(P340=\"\",\"\",INDEX(REFERENTES!$J:$K,MATCH(P340,REFERENTES!$K:$K,0),1))","v":""},null,{"$f":"IF(R340=\"\",\"\",INDEX(REFERENTES!$D:$E,MATCH(R340,REFERENTES!$D:$D,0),2))","v":""},null,null,"",{"$f":"IF(X340=\"\",\"\",INDEX('OTRAS REFERENTES'!$H:$I,MATCH(X340,'OTRAS REFERENTES'!$I:$I,0),1))","v":""},null,null,{"$f":"IF(AA340=\"\",\"\",INDEX('OTRAS REFERENTES'!$K:$L,MATCH(AA340,'OTRAS REFERENTES'!$L:$L,0),1))","v":""},null,null,"",{"$f":"IF(SUMPRODUCT(--EXACT(K340&M340,$AD$2:AD339)),\"\",K340&M340)","v":""},{"$f":"IF(SUMPRODUCT(--EXACT(K340&M340,$AD$2:AD339)),\"\",MAX($AE$3:AE339)+1)","v":""}]
[1,"",339,"","",{"$f":"IF(L341<>\"\",CONCATENATE(DIGITADOR!$B$2,$A$2,DIGITADOR!$M$1,A341),\"\")","v":""},null,null,"",{"$f":"IF(K341=\"\",\"\",INDEX('OTRAS REFERENTES'!$AH$6:$AI$658,MATCH(K341,'OTRAS REFERENTES'!$AH$6:$AH$658,0),2))","v":""},null,{"$f":"IF(J341=\"\",\"\",INDEX(REFERENTES!$T:$W,MATCH(J341,REFERENTES!$V:$V,0),3))","v":""},null,null,"",null,{"$f":"IF(P341=\"\",\"\",INDEX(REFERENTES!$J:$K,MATCH(P341,REFERENTES!$K:$K,0),1))","v":""},null,{"$f":"IF(R341=\"\",\"\",INDEX(REFERENTES!$D:$E,MATCH(R341,REFERENTES!$D:$D,0),2))","v":""},null,null,"",{"$f":"IF(X341=\"\",\"\",INDEX('OTRAS REFERENTES'!$H:$I,MATCH(X341,'OTRAS REFERENTES'!$I:$I,0),1))","v":""},null,null,{"$f":"IF(AA341=\"\",\"\",INDEX('OTRAS REFERENTES'!$K:$L,MATCH(AA341,'OTRAS REFERENTES'!$L:$L,0),1))","v":""},null,null,"",{"$f":"IF(SUMPRODUCT(--EXACT(K341&M341,$AD$2:AD340)),\"\",K341&M341)","v":""},{"$f":"IF(SUMPRODUCT(--EXACT(K341&M341,$AD$2:AD340)),\"\",MAX($AE$3:AE340)+1)","v":""}]
[1,"",340,"","",{"$f":"IF(L342<>\"\",CONCATENATE(DIGITADOR!$B$2,$A$2,DIGITADOR!$M$1,A342),\"\")","v":""},null,null,"",{"$f":"IF(K342=\"\",\"\",INDEX('OTRAS REFERENTES'!$AH$6:$AI$658,MATCH(K342,'OTRAS REFERENTES'!$AH$6:$AH$658,0),2))","v":""},null,{"$f":"IF(J342=\"\",\"\",INDEX(REFERENTES!$T:$W,MATCH(J342,REFERENTES!$V:$V,0),3))","v":""},null,null,"",null,{"$f":"IF(P342=\"\",\"\",INDEX(REFERENTES!$J:$K,MATCH(P342,REFERENTES!$K:$K,0),1))","v":""},null,{"$f":"IF(R342=\"\",\"\",INDEX(REFERENTES!$D:$E,MATCH(R342,REFERENTES!$D:$D,0),2))","v":""},null,null,"",{"$f":"IF(X342=\"\",\"\",INDEX('OTRAS REFERENTES'!$H:$I,MATCH(X342,'OTRAS REFERENTES'!$I:$I,0),1))","v":""},null,null,{"$f":"IF(AA342=\"\",\"\",INDEX('OTRAS REFERENTES'!$K:$L,MATCH(AA342,'OTRAS REFERENTES'!$L:$L,0),1))","v":""},null,null,"",{"$f":"IF(SUMPRODUCT(--EXACT(K342&M342,$AD$2:AD341)),\"\",K342&M342)","v":""},{"$f":"IF(SUMPRODUCT(--EXACT(K342&M342,$AD$2:AD341)),\"\",MAX($AE$3:AE341)+1)","v":""}]
[1,"",341,"","",{"$f":"IF(L343<>\"\",CONCATENATE(DIGITADOR!$B$2,$A$2,DIGITADOR!$M$1,A343),\"\")","v":""},null,null,"",{"$f":"IF(K343=\"\",\"\",INDEX('OTRAS REFERENTES'!$AH$6:$AI$658,MATCH(K343,'OTRAS REFERENTES'!$AH$6:$AH$658,0),2))","v":""},null,{"$f":"IF(J343=\"\",\"\",INDEX(REFERENTES!$T:$W,MATCH(J343,REFERENTES!$V:$V,0),3))","v":""},null,null,"",null,{"$f":"IF(P343=\"\",\"\",INDEX(REFERENTES!$J:$K,MATCH(P343,REFERENTES!$K:$K,0),1))","v":""},null,{"$f":"IF(R343=\"\",\"\",INDEX(REFERENTES!$D:$E,MATCH(R343,REFERENTES!$D:$D,0),2))","v":""},null,null,"",{"$f":"IF(X343=\"\",\"\",INDEX('OTRAS REFERENTES'!$H:$I,MATCH(X343,'OTRAS REFERENTES'!$I:$I,0),1))","v":""},null,null,{"$f":"IF(AA343=\"\",\"\",INDEX('OTRAS REFERENTES'!$K:$L,MATCH(AA343,'OTRAS REFERENTES'!$L:$L,0),1))","v":""},null,null,"",{"$f":"IF(SUMPRODUCT(--EXACT(K343&M343,$AD$2:AD342)),\"\",K343&M343)","v":""},{"$f":"IF(SUMPRODUCT(--EXACT(K343&M343,$AD$2:AD342)),\"\",MAX($AE$3:AE342)+1)","v":""}]
[1,"",342,"","",{"$f":"IF(L344<>\"\",CONCATENATE(DIGITADOR!$B$2,$A$2,DIGITADOR!$M$1,A344),\"\")","v":""},null,null,"",{"$f":"IF(K344=\"\",\"\",INDEX('OTRAS REFERENTES'!$AH$6:$AI$658,MATCH(K344,'OTRAS REFERENTES'!$AH$6:$AH$658,0),2))","v":""},null,{"$f":"IF(J344=\"\",\"\",INDEX(REFERENTES!$T:$W,MATCH(J344,REFERENTES!$V:$V,0),3))","v":""},null,null,"",null,{"$f":"IF(P344=\"\",\"\",INDEX(REFERENTES!$J:$K,MATCH(P344,REFERENTES!$K:$K,0),1))","v":""},null,{"$f":"IF(R344=\"\",\"\",INDEX(REFERENTES!$D:$E,MATCH(R344,REFERENTES!$D:$D,0),2))","v":""},null,null,"",{"$f":"IF(X344=\"\",\"\",INDEX('OTRAS REFERENTES'!$H:$I,MATCH(X344,'OTRAS REFERENTES'!$I:$I,0),1))","v":""},null,null,{"$f":"IF(AA344=\"\",\"\",INDEX('OTRAS REFERENTES'!$K:$L,MATCH(AA344,'OTRAS REFERENTES'!$L:$L,0),1))","v":""},null,null,"",{"$f":"IF(SUMPRODUCT(--EXACT(K344&M344,$AD$2:AD343)),\"\",K344&M344)","v":""},{"$f":"IF(SUMPRODUCT(--EXACT(K344&M344,$AD$2:AD343)),\"\",MAX($AE$3:AE343)+1)","v":""}]
[1,"",343,"","",{"$f":"IF(L345<>\"\",CONCATENATE(DIGITADOR!$B$2,$A$2,DIGITADOR!$M$1,A345),\"\")","v":""},null,null,"",{"$f":"IF(K345=\"\",\"\",INDEX('OTRAS REFERENTES'!$AH$6:$AI$658,MATCH(K345,'OTRAS REFERENTES'!$AH$6:$AH$658,0),2))","v":""},null,{"$f":"IF(J345=\"\",\"\",INDEX(REFERENTES!$T:$W,MATCH(J345,REFERENTES!$V:$V,0),3))","v":""},null,null,"",null,{"$f":"IF(P345=\"\",\"\",INDEX(REFERENTES!$J:$K,MATCH(P345,REFERENTES!$K:$K,0),1))","v":""},null,{"$f":"IF(R345=\"\",\"\",INDEX(REFERENTES!$D:$E,MATCH(R345,REFERENTES!$D:$D,0),2))","v":""},null,null,"",{"$f":"IF(X345=\"\",\"\",INDEX('OTRAS REFERENTES'!$H:$I,MATCH(X345,'OTRAS REFERENTES'!$I:$I,0),1))","v":""},null,null,{"$f":"IF(AA345=\"\",\"\",INDEX('OTRAS REFERENTES'!$K:$L,MATCH(AA345,'OTRAS REFERENTES'!$L:$L,0),1))","v":""},null,null,"",{"$f":"IF(SUMPRODUCT(--EXACT(K345&M345,$AD$2:AD344)),\"\",K345&M345)","v":""},{"$f":"IF(SUMPRODUCT(--EXACT(K345&M345,$AD$2:AD344)),\"\",MAX($AE$3:AE344)+1)","v":""}]
[1,"",344,"","",{"$f":"IF(L346<>\"\",CONCATENATE(DIGITADOR!$B$2,$A$2,DIGITADOR!$M$1,A346),\"\")","v":""},null,null,"",{"$f":"IF(K346=\"\",\"\",INDEX('OTRAS REFERENTES'!$AH$6:$AI$658,MATCH(K346,'OTRAS REFERENTES'!$AH$6:$AH$658,0),2))","v":""},null,{"$f":"IF(J346=\"\",\"\",INDEX(REFERENTES!$T:$W,MATCH(J346,REFERENTES!$V:$V,0),3))","v":""},null,null,"",null,{"$f":"IF(P346=\"\",\"\",INDEX(REFERENTES!$J:$K,MATCH(P346,REFERENTES!$K:$K,0),1))","v":""},null,{"$f":"IF(R346=\"\",\"\",INDEX(REFERENTES!$D:$E,MATCH(R346,REFERENTES!$D:$D,0),2))","v":""},null,null,"",{"$f":"IF(X346=\"\",\"\",INDEX('OTRAS REFERENTES'!$H:$I,MATCH(X346,'OTRAS REFERENTES'!$I:$I,0),1))","v":""},null,null,{"$f":"IF(AA346=\"\",\"\",INDEX('OTRAS REFERENTES'!$K:$L,MATCH(AA346,'OTRAS REFERENTES'!$L:$L,0),1))","v":""},null,null,"",{"$f":"IF(SUMPRODUCT(--EXACT(K346&M346,$AD$2:AD345)),\"\",K346&M346)","v":""},{"$f":"IF(SUMPRODUCT(--EXACT(K346&M346,$AD$2:AD345)),\"\",MAX($AE$3:AE345)+1)","v":""}]
[1,"",345,"","",{"$f":"IF(L347<>\"\",CONCATENATE(DIGITADOR!$B$2,$A$2,DIGITADOR!$M$1,A347),\"\")","v":""},null,null,"",{"$f":"IF(K347=\"\",\"\",INDEX('OTRAS REFERENTES'!$AH$6:$AI$658,MATCH(K347,'OTRAS REFERENTES'!$AH$6:$AH$658,0),2))","v":""},null,{"$f":"IF(J347=\"\",\"\",INDEX(REFERENTES!$T:$W,MATCH(J347,REFERENTES!$V:$V,0),3))","v":""},null,null,"",null,{"$f":"IF(P347=\"\",\"\",INDEX(REFERENTES!$J:$K,MATCH(P347,REFERENTES!$K:$K,0),1))","v":""},null,{"$f":"IF(R347=\"\",\"\",INDEX(REFERENTES!$D:$E,MATCH(R347,REFERENTES!$D:$D,0),2))","v":""},null,null,"",{"$f":"IF(X347=\"\",\"\",INDEX('OTRAS REFERENTES'!$H:$I,MATCH(X347,'OTRAS REFERENTES'!$I:$I,0),1))","v":""},null,null,{"$f":"IF(AA347=\"\",\"\",INDEX('OTRAS REFERENTES'!$K:$L,MATCH(AA347,'OTRAS REFERENTES'!$L:$L,0),1))","v":""},null,null,"",{"$f":"IF(SUMPRODUCT(--EXACT(K347&M347,$AD$2:AD346)),\"\",K347&M347)","v":""},{"$f":"IF(SUMPRODUCT(--EXACT(K347&M347,$AD$2:AD346)),\"\",MAX($AE$3:AE346)+1)","v":""}]
[1,"",346,{"$f":"IF(L348=\"\",\"\",CONCATENATE(C348,F348))","v":""},"",{"$f":"IF(L348<>\"\",CONCATENATE(DIGITADOR!$B$2,$A$2,DIGITADOR!$M$1,A348),\"\")","v":""},null,null,"",{"$f":"IF(K348=\"\",\"\",INDEX('OTRAS REFERENTES'!$AH$6:$AI$658,MATCH(K348,'OTRAS REFERENTES'!$AH$6:$AH$658,0),2))","v":""},null,{"$f":"IF(J348=\"\",\"\",INDEX(REFERENTES!$T:$W,MATCH(J348,REFERENTES!$V:$V,0),3))","v":""},null,null,"",null,{"$f":"IF(P348=\"\",\"\",INDEX(REFERENTES!$J:$K,MATCH(P348,REFERENTES!$K:$K,0),1))","v":""},null,{"$f":"IF(R348=\"\",\"\",INDEX(REFERENTES!$D:$E,MATCH(R348,REFERENTES!$D:$D,0),2))","v":""},null,null,"",{"$f":"IF(X348=\"\",\"\",INDEX('OTRAS REFERENTES'!$H:$I,MATCH(X348,'OTRAS REFERENTES'!$I:$I,0),1))","v":""},null,null,{"$f":"IF(AA348=\"\",\"\",INDEX('OTRAS REFERENTES'!$K:$L,MATCH(AA348,'OTRAS REFERENTES'!$L:$L,0),1))","v":""},null,null,"",{"$f":"IF(SUMPRODUCT(--EXACT(K348&M348,$AD$2:AD347)),\"\",K348&M348)","v":""},{"$f":"IF(SUMPRODUCT(--EXACT(K348&M348,$AD$2:AD347)),\"\",MAX($AE$3:AE347)+1)","v":""}]
[1,"",347,"","",{"$f":"IF(L349<>\"\",CONCATENATE(DIGITADOR!$B$2,$A$2,DIGITADOR!$M$1,A349),\"\")","v":""},null,null,"",{"$f":"IF(K349=\"\",\"\",INDEX('OTRAS REFERENTES'!$AH$6:$AI$658,MATCH(K349,'OTRAS REFERENTES'!$AH$6:$AH$658,0),2))","v":""},null,{"$f":"IF(J349=\"\",\"\",INDEX(REFERENTES!$T:$W,MATCH(J349,REFERENTES!$V:$V,0),3))","v":""},null,null,"",null,{"$f":"IF(P349=\"\",\"\",INDEX(REFERENTES!$J:$K,MATCH(P349,REFERENTES!$K:$K,0),1))","v":""},null,{"$f":"IF(R349=\"\",\"\",INDEX(REFERENTES!$D:$E,MATCH(R349,REFERENTES!$D:$D,0),2))","v":""},null,null,"",{"$f":"IF(X349=\"\",\"\",INDEX('OTRAS REFERENTES'!$H:$I,MATCH(X349,'OTRAS REFERENTES'!$I:$I,0),1))","v":""},null,null,{"$f":"IF(AA349=\"\",\"\",INDEX('OTRAS REFERENTES'!$K:$L,MATCH(AA349,'OTRAS REFERENTES'!$L:$L,0),1))","v":""},null,null,"",{"$f":"IF(SUMPRODUCT(--EXACT(K349&M349,$AD$2:AD348)),\"\",K349&M349)","v":""},{"$f":"IF(SUMPRODUCT(--EXACT(K349&M349,$AD$2:AD348)),\"\",MAX($AE$3:AE348)+1)","v":""}]
[1,"",348,"","",{"$f":"IF(L350<>\"\",CONCATENATE(DIGITADOR!$B$2,$A$2,DIGITADOR!$M$1,A350),\"\")","v":""},null,null,"",{"$f":"IF(K350=\"\",\"\",INDEX('OTRAS REFERENTES'!$AH$6:$AI$658,MATCH(K350,'OTRAS REFERENTES'!$AH$6:$AH$658,0),2))","v":""},null,{"$f":"IF(J350=\"\",\"\",INDEX(REFERENTES!$T:$W,MATCH(J350,REFERENTES!$V:$V,0),3))","v":""},null,null,"",null,{"$f":"IF(P350=\"\",\"\",INDEX(REFERENTES!$J:$K,MATCH(P350,REFERENTES!$K:$K,0),1))","v":""},null,{"$f":"IF(R350=\"\",\"\",INDEX(REFERENTES!$D:$E,MATCH(R350,REFERENTES!$D:$D,0),2))","v":""},null,null,"",{"$f":"IF(X350=\"\",\"\",INDEX('OTRAS REFERENTES'!$H:$I,MATCH(X350,'OTRAS REFERENTES'!$I:$I,0),1))","v":""},null,null,{"$f":"IF(AA350=\"\",\"\",INDEX('OTRAS REFERENTES'!$K:$L,MATCH(AA350,'OTRAS REFERENTES'!$L:$L,0),1))","v":""},null,null,"",{"$f":"IF(SUMPRODUCT(--EXACT(K350&M350,$AD$2:AD349)),\"\",K350&M350)","v":""},{"$f":"IF(SUMPRODUCT(--EXACT(K350&M350,$AD$2:AD349)),\"\",MAX($AE$3:AE349)+1)","v":""}]
[1,"",349,"","",{"$f":"IF(L351<>\"\",CONCATENATE(DIGITADOR!$B$2,$A$2,DIGITADOR!$M$1,A351),\"\")","v":""},null,null,"",{"$f":"IF(K351=\"\",\"\",INDEX('OTRAS REFERENTES'!$AH$6:$AI$658,MATCH(K351,'OTRAS REFERENTES'!$AH$6:$AH$658,0),2))","v":""},null,{"$f":"IF(J351=\"\",\"\",INDEX(REFERENTES!$T:$W,MATCH(J351,REFERENTES!$V:$V,0),3))","v":""},null,null,"",null,{"$f":"IF(P351=\"\",\"\",INDEX(REFERENTES!$J:$K,MATCH(P351,REFERENTES!$K:$K,0),1))","v":""},null,{"$f":"IF(R351=\"\",\"\",INDEX(REFERENTES!$D:$E,MATCH(R351,REFERENTES!$D:$D,0),2))","v":""},null,null,"",{"$f":"IF(X351=\"\",\"\",INDEX('OTRAS REFERENTES'!$H:$I,MATCH(X351,'OTRAS REFERENTES'!$I:$I,0),1))","v":""},null,null,{"$f":"IF(AA351=\"\",\"\",INDEX('OTRAS REFERENTES'!$K:$L,MATCH(AA351,'OTRAS REFERENTES'!$L:$L,0),1))","v":""},null,null,"",{"$f":"IF(SUMPRODUCT(--EXACT(K351&M351,$AD$2:AD350)),\"\",K351&M351)","v":""},{"$f":"IF(SUMPRODUCT(--EXACT(K351&M351,$AD$2:AD350)),\"\",MAX($AE$3:AE350)+1)","v":""}]
[1,"",350,"","",{"$f":"IF(L352<>\"\",CONCATENATE(DIGITADOR!$B$2,$A$2,DIGITADOR!$M$1,A352),\"\")","v":""},null,null,"",{"$f":"IF(K352=\"\",\"\",INDEX('OTRAS REFERENTES'!$AH$6:$AI$658,MATCH(K352,'OTRAS REFERENTES'!$AH$6:$AH$658,0),2))","v":""},null,{"$f":"IF(J352=\"\",\"\",INDEX(REFERENTES!$T:$W,MATCH(J352,REFERENTES!$V:$V,0),3))","v":""},null,null,"",null,{"$f":"IF(P352=\"\",\"\",INDEX(REFERENTES!$J:$K,MATCH(P352,REFERENTES!$K:$K,0),1))","v":""},null,{"$f":"IF(R352=\"\",\"\",INDEX(REFERENTES!$D:$E,MATCH(R352,REFERENTES!$D:$D,0),2))","v":""},null,null,"",{"$f":"IF(X352=\"\",\"\",INDEX('OTRAS REFERENTES'!$H:$I,MATCH(X352,'OTRAS REFERENTES'!$I:$I,0),1))","v":""},null,null,{"$f":"IF(AA352=\"\",\"\",INDEX('OTRAS REFERENTES'!$K:$L,MATCH(AA352,'OTRAS REFERENTES'!$L:$L,0),1))","v":""},null,null,"",{"$f":"IF(SUMPRODUCT(--EXACT(K352&M352,$AD$2:AD351)),\"\",K352&M352)","v":""},{"$f":"IF(SUMPRODUCT(--EXACT(K352&M352,$AD$2:AD351)),\"\",MAX($AE$3:AE351)+1)","v":""}]
[1,"",351,"","",{"$f":"IF(L353<>\"\",CONCATENATE(DIGITADOR!$B$2,$A$2,DIGITADOR!$M$1,A353),\"\")","v":""},null,null,"",{"$f":"IF(K353=\"\",\"\",INDEX('OTRAS REFERENTES'!$AH$6:$AI$658,MATCH(K353,'OTRAS REFERENTES'!$AH$6:$AH$658,0),2))","v":""},null,{"$f":"IF(J353=\"\",\"\",INDEX(REFERENTES!$T:$W,MATCH(J353,REFERENTES!$V:$V,0),3))","v":""},null,null,"",null,{"$f":"IF(P353=\"\",\"\",INDEX(REFERENTES!$J:$K,MATCH(P353,REFERENTES!$K:$K,0),1))","v":""},null,{"$f":"IF(R353=\"\",\"\",INDEX(REFERENTES!$D:$E,MATCH(R353,REFERENTES!$D:$D,0),2))","v":""},null,null,"",{"$f":"IF(X353=\"\",\"\",INDEX('OTRAS REFERENTES'!$H:$I,MATCH(X353,'OTRAS REFERENTES'!$I:$I,0),1))","v":""},null,null,{"$f":"IF(AA353=\"\",\"\",INDEX('OTRAS REFERENTES'!$K:$L,MATCH(AA353,'OTRAS REFERENTES'!$L:$L,0),1))","v":""},null,null,"",{"$f":"IF(SUMPRODUCT(--EXACT(K353&M353,$AD$2:AD352)),\"\",K353&M353)","v":""},{"$f":"IF(SUMPRODUCT(--EXACT(K353&M353,$AD$2:AD352)),\"\",MAX($AE$3:AE352)+1)","v":""}]
[1,"",352,"","",{"$f":"IF(L354<>\"\",CONCATENATE(DIGITADOR!$B$2,$A$2,DIGITADOR!$M$1,A354),\"\")","v":""},null,null,"",{"$f":"IF(K354=\"\",\"\",INDEX('OTRAS REFERENTES'!$AH$6:$AI$658,MATCH(K354,'OTRAS REFERENTES'!$AH$6:$AH$658,0),2))","v":""},null,{"$f":"IF(J354=\"\",\"\",INDEX(REFERENTES!$T:$W,MATCH(J354,REFERENTES!$V:$V,0),3))","v":""},null,null,"",null,{"$f":"IF(P354=\"\",\"\",INDEX(REFERENTES!$J:$K,MATCH(P354,REFERENTES!$K:$K,0),1))","v":""},null,{"$f":"IF(R354=\"\",\"\",INDEX(REFERENTES!$D:$E,MATCH(R354,REFERENTES!$D:$D,0),2))","v":""},null,null,"",{"$f":"IF(X354=\"\",\"\",INDEX('OTRAS REFERENTES'!$H:$I,MATCH(X354,'OTRAS REFERENTES'!$I:$I,0),1))","v":""},null,null,{"$f":"IF(AA354=\"\",\"\",INDEX('OTRAS REFERENTES'!$K:$L,MATCH(AA354,'OTRAS REFERENTES'!$L:$L,0),1))","v":""},null,null,"",{"$f":"IF(SUMPRODUCT(--EXACT(K354&M354,$AD$2:AD353)),\"\",K354&M354)","v":""},{"$f":"IF(SUMPRODUCT(--EXACT(K354&M354,$AD$2:AD353)),\"\",MAX($AE$3:AE353)+1)","v":""}]
[1,"",353,"","",{"$f":"IF(L355<>\"\",CONCATENATE(DIGITADOR!$B$2,$A$2,DIGITADOR!$M$1,A355),\"\")","v":""},null,null,"",{"$f":"IF(K355=\"\",\"\",INDEX('OTRAS REFERENTES'!$AH$6:$AI$658,MATCH(K355,'OTRAS REFERENTES'!$AH$6:$AH$658,0),2))","v":""},null,{"$f":"IF(J355=\"\",\"\",INDEX(REFERENTES!$T:$W,MATCH(J355,REFERENTES!$V:$V,0),3))","v":""},null,null,"",null,{"$f":"IF(P355=\"\",\"\",INDEX(REFERENTES!$J:$K,MATCH(P355,REFERENTES!$K:$K,0),1))","v":""},null,{"$f":"IF(R355=\"\",\"\",INDEX(REFERENTES!$D:$E,MATCH(R355,REFERENTES!$D:$D,0),2))","v":""},null,null,"",{"$f":"IF(X355=\"\",\"\",INDEX('OTRAS REFERENTES'!$H:$I,MATCH(X355,'OTRAS REFERENTES'!$I:$I,0),1))","v":""},null,null,{"$f":"IF(AA355=\"\",\"\",INDEX('OTRAS REFERENTES'!$K:$L,MATCH(AA355,'OTRAS REFERENTES'!$L:$L,0),1))","v":""},null,null,"",{"$f":"IF(SUMPRODUCT(--EXACT(K355&M355,$AD$2:AD354)),\"\",K355&M355)","v":""},{"$f":"IF(SUMPRODUCT(--EXACT(K355&M355,$AD$2:AD354)),\"\",MAX($AE$3:AE354)+1)","v":""}]
[1,"",354,"","",{"$f":"IF(L356<>\"\",CONCATENATE(DIGITADOR!$B$2,$A$2,DIGITADOR!$M$1,A356),\"\")","v":""},null,null,"",{"$f":"IF(K356=\"\",\"\",INDEX('OTRAS REFERENTES'!$AH$6:$AI$658,MATCH(K356,'OTRAS REFERENTES'!$AH$6:$AH$658,0),2))","v":""},null,{"$f":"IF(J356=\"\",\"\",INDEX(REFERENTES!$T:$W,MATCH(J356,REFERENTES!$V:$V,0),3))","v":""},null,null,"",null,{"$f":"IF(P356=\"\",\"\",INDEX(REFERENTES!$J:$K,MATCH(P356,REFERENTES!$K:$K,0),1))","v":""},null,{"$f":"IF(R356=\"\",\"\",INDEX(REFERENTES!$D:$E,MATCH(R356,REFERENTES!$D:$D,0),2))","v":""},null,null,"",{"$f":"IF(X356=\"\",\"\",INDEX('OTRAS REFERENTES'!$H:$I,MATCH(X356,'OTRAS REFERENTES'!$I:$I,0),1))","v":""},null,null,{"$f":"IF(AA356=\"\",\"\",INDEX('OTRAS REFERENTES'!$K:$L,MATCH(AA356,'OTRAS REFERENTES'!$L:$L,0),1))","v":""},null,null,"",{"$f":"IF(SUMPRODUCT(--EXACT(K356&M356,$AD$2:AD355)),\"\",K356&M356)","v":""},{"$f":"IF(SUMPRODUCT(--EXACT(K356&M356,$AD$2:AD355)),\"\",MAX($AE$3:AE355)+1)","v":""}]
[1,"",355,"","",{"$f":"IF(L357<>\"\",CONCATENATE(DIGITADOR!$B$2,$A$2,DIGITADOR!$M$1,A357),\"\")","v":""},null,null,"",{"$f":"IF(K357=\"\",\"\",INDEX('OTRAS REFERENTES'!$AH$6:$AI$658,MATCH(K357,'OTRAS REFERENTES'!$AH$6:$AH$658,0),2))","v":""},null,{"$f":"IF(J357=\"\",\"\",INDEX(REFERENTES!$T:$W,MATCH(J357,REFERENTES!$V:$V,0),3))","v":""},null,null,"",null,{"$f":"IF(P357=\"\",\"\",INDEX(REFERENTES!$J:$K,MATCH(P357,REFERENTES!$K:$K,0),1))","v":""},null,{"$f":"IF(R357=\"\",\"\",INDEX(REFERENTES!$D:$E,MATCH(R357,REFERENTES!$D:$D,0),2))","v":""},null,null,"",{"$f":"IF(X357=\"\",\"\",INDEX('OTRAS REFERENTES'!$H:$I,MATCH(X357,'OTRAS REFERENTES'!$I:$I,0),1))","v":""},null,null,{"$f":"IF(AA357=\"\",\"\",INDEX('OTRAS REFERENTES'!$K:$L,MATCH(AA357,'OTRAS REFERENTES'!$L:$L,0),1))","v":""},null,null,"",{"$f":"IF(SUMPRODUCT(--EXACT(K357&M357,$AD$2:AD356)),\"\",K357&M357)","v":""},{"$f":"IF(SUMPRODUCT(--EXACT(K357&M357,$AD$2:AD356)),\"\",MAX($AE$3:AE356)+1)","v":""}]
[1,"",356,"","",{"$f":"IF(L358<>\"\",CONCATENATE(DIGITADOR!$B$2,$A$2,DIGITADOR!$M$1,A358),\"\")","v":""},null,null,"",{"$f":"IF(K358=\"\",\"\",INDEX('OTRAS REFERENTES'!$AH$6:$AI$658,MATCH(K358,'OTRAS REFERENTES'!$AH$6:$AH$658,0),2))","v":""},null,{"$f":"IF(J358=\"\",\"\",INDEX(REFERENTES!$T:$W,MATCH(J358,REFERENTES!$V:$V,0),3))","v":""},null,null,"",null,{"$f":"IF(P358=\"\",\"\",INDEX(REFERENTES!$J:$K,MATCH(P358,REFERENTES!$K:$K,0),1))","v":""},null,{"$f":"IF(R358=\"\",\"\",INDEX(REFERENTES!$D:$E,MATCH(R358,REFERENTES!$D:$D,0),2))","v":""},null,null,"",{"$f":"IF(X358=\"\",\"\",INDEX('OTRAS REFERENTES'!$H:$I,MATCH(X358,'OTRAS REFERENTES'!$I:$I,0),1))","v":""},null,null,{"$f":"IF(AA358=\"\",\"\",INDEX('OTRAS REFERENTES'!$K:$L,MATCH(AA358,'OTRAS REFERENTES'!$L:$L,0),1))","v":""},null,null,"",{"$f":"IF(SUMPRODUCT(--EXACT(K358&M358,$AD$2:AD357)),\"\",K358&M358)","v":""},{"$f":"IF(SUMPRODUCT(--EXACT(K358&M358,$AD$2:AD357)),\"\",MAX($AE$3:AE357)+1)","v":""}]
[1,"",357,"","",{"$f":"IF(L359<>\"\",CONCATENATE(DIGITADOR!$B$2,$A$2,DIGITADOR!$M$1,A359),\"\")","v":""},null,null,"",{"$f":"IF(K359=\"\",\"\",INDEX('OTRAS REFERENTES'!$AH$6:$AI$658,MATCH(K359,'OTRAS REFERENTES'!$AH$6:$AH$658,0),2))","v":""},null,{"$f":"IF(J359=\"\",\"\",INDEX(REFERENTES!$T:$W,MATCH(J359,REFERENTES!$V:$V,0),3))","v":""},null,null,"",null,{"$f":"IF(P359=\"\",\"\",INDEX(REFERENTES!$J:$K,MATCH(P359,REFERENTES!$K:$K,0),1))","v":""},null,{"$f":"IF(R359=\"\",\"\",INDEX(REFERENTES!$D:$E,MATCH(R359,REFERENTES!$D:$D,0),2))","v":""},null,null,"",{"$f":"IF(X359=\"\",\"\",INDEX('OTRAS REFERENTES'!$H:$I,MATCH(X359,'OTRAS REFERENTES'!$I:$I,0),1))","v":""},null,null,{"$f":"IF(AA359=\"\",\"\",INDEX('OTRAS REFERENTES'!$K:$L,MATCH(AA359,'OTRAS REFERENTES'!$L:$L,0),1))","v":""},null,null,"",{"$f":"IF(SUMPRODUCT(--EXACT(K359&M359,$AD$2:AD358)),\"\",K359&M359)","v":""},{"$f":"IF(SUMPRODUCT(--EXACT(K359&M359,$AD$2:AD358)),\"\",MAX($AE$3:AE358)+1)","v":""}]
[1,"",358,"","",{"$f":"IF(L360<>\"\",CONCATENATE(DIGITADOR!$B$2,$A$2,DIGITADOR!$M$1,A360),\"\")","v":""},null,null,"",{"$f":"IF(K360=\"\",\"\",INDEX('OTRAS REFERENTES'!$AH$6:$AI$658,MATCH(K360,'OTRAS REFERENTES'!$AH$6:$AH$658,0),2))","v":""},null,{"$f":"IF(J360=\"\",\"\",INDEX(REFERENTES!$T:$W,MATCH(J360,REFERENTES!$V:$V,0),3))","v":""},null,null,"",null,{"$f":"IF(P360=\"\",\"\",INDEX(REFERENTES!$J:$K,MATCH(P360,REFERENTES!$K:$K,0),1))","v":""},null,{"$f":"IF(R360=\"\",\"\",INDEX(REFERENTES!$D:$E,MATCH(R360,REFERENTES!$D:$D,0),2))","v":""},null,null,"",{"$f":"IF(X360=\"\",\"\",INDEX('OTRAS REFERENTES'!$H:$I,MATCH(X360,'OTRAS REFERENTES'!$I:$I,0),1))","v":""},null,null,{"$f":"IF(AA360=\"\",\"\",INDEX('OTRAS REFERENTES'!$K:$L,MATCH(AA360,'OTRAS REFERENTES'!$L:$L,0),1))","v":""},null,null,"",{"$f":"IF(SUMPRODUCT(--EXACT(K360&M360,$AD$2:AD359)),\"\",K360&M360)","v":""},{"$f":"IF(SUMPRODUCT(--EXACT(K360&M360,$AD$2:AD359)),\"\",MAX($AE$3:AE359)+1)","v":""}]
[1,"",359,"","",{"$f":"IF(L361<>\"\",CONCATENATE(DIGITADOR!$B$2,$A$2,DIGITADOR!$M$1,A361),\"\")","v":""},null,null,"",{"$f":"IF(K361=\"\",\"\",INDEX('OTRAS REFERENTES'!$AH$6:$AI$658,MATCH(K361,'OTRAS REFERENTES'!$AH$6:$AH$658,0),2))","v":""},null,{"$f":"IF(J361=\"\",\"\",INDEX(REFERENTES!$T:$W,MATCH(J361,REFERENTES!$V:$V,0),3))","v":""},null,null,"",null,{"$f":"IF(P361=\"\",\"\",INDEX(REFERENTES!$J:$K,MATCH(P361,REFERENTES!$K:$K,0),1))","v":""},null,{"$f":"IF(R361=\"\",\"\",INDEX(REFERENTES!$D:$E,MATCH(R361,REFERENTES!$D:$D,0),2))","v":""},null,null,"",{"$f":"IF(X361=\"\",\"\",INDEX('OTRAS REFERENTES'!$H:$I,MATCH(X361,'OTRAS REFERENTES'!$I:$I,0),1))","v":""},null,null,{"$f":"IF(AA361=\"\",\"\",INDEX('OTRAS REFERENTES'!$K:$L,MATCH(AA361,'OTRAS REFERENTES'!$L:$L,0),1))","v":""},null,null,"",{"$f":"IF(SUMPRODUCT(--EXACT(K361&M361,$AD$2:AD360)),\"\",K361&M361)","v":""},{"$f":"IF(SUMPRODUCT(--EXACT(K361&M361,$AD$2:AD360)),\"\",MAX($AE$3:AE360)+1)","v":""}]
[1,"",360,"","",{"$f":"IF(L362<>\"\",CONCATENATE(DIGITADOR!$B$2,$A$2,DIGITADOR!$M$1,A362),\"\")","v":""},null,null,"",{"$f":"IF(K362=\"\",\"\",INDEX('OTRAS REFERENTES'!$AH$6:$AI$658,MATCH(K362,'OTRAS REFERENTES'!$AH$6:$AH$658,0),2))","v":""},null,{"$f":"IF(J362=\"\",\"\",INDEX(REFERENTES!$T:$W,MATCH(J362,REFERENTES!$V:$V,0),3))","v":""},null,null,"",null,{"$f":"IF(P362=\"\",\"\",INDEX(REFERENTES!$J:$K,MATCH(P362,REFERENTES!$K:$K,0),1))","v":""},null,{"$f":"IF(R362=\"\",\"\",INDEX(REFERENTES!$D:$E,MATCH(R362,REFERENTES!$D:$D,0),2))","v":""},null,null,"",{"$f":"IF(X362=\"\",\"\",INDEX('OTRAS REFERENTES'!$H:$I,MATCH(X362,'OTRAS REFERENTES'!$I:$I,0),1))","v":""},null,null,{"$f":"IF(AA362=\"\",\"\",INDEX('OTRAS REFERENTES'!$K:$L,MATCH(AA362,'OTRAS REFERENTES'!$L:$L,0),1))","v":""},null,null,"",{"$f":"IF(SUMPRODUCT(--EXACT(K362&M362,$AD$2:AD361)),\"\",K362&M362)","v":""},{"$f":"IF(SUMPRODUCT(--EXACT(K362&M362,$AD$2:AD361)),\"\",MAX($AE$3:AE361)+1)","v":""}]
[1,"",361,"","",{"$f":"IF(L363<>\"\",CONCATENATE(DIGITADOR!$B$2,$A$2,DIGITADOR!$M$1,A363),\"\")","v":""},null,null,"",{"$f":"IF(K363=\"\",\"\",INDEX('OTRAS REFERENTES'!$AH$6:$AI$658,MATCH(K363,'OTRAS REFERENTES'!$AH$6:$AH$658,0),2))","v":""},null,{"$f":"IF(J363=\"\",\"\",INDEX(REFERENTES!$T:$W,MATCH(J363,REFERENTES!$V:$V,0),3))","v":""},null,null,"",null,{"$f":"IF(P363=\"\",\"\",INDEX(REFERENTES!$J:$K,MATCH(P363,REFERENTES!$K:$K,0),1))","v":""},null,{"$f":"IF(R363=\"\",\"\",INDEX(REFERENTES!$D:$E,MATCH(R363,REFERENTES!$D:$D,0),2))","v":""},null,null,"",{"$f":"IF(X363=\"\",\"\",INDEX('OTRAS REFERENTES'!$H:$I,MATCH(X363,'OTRAS REFERENTES'!$I:$I,0),1))","v":""},null,null,{"$f":"IF(AA363=\"\",\"\",INDEX('OTRAS REFERENTES'!$K:$L,MATCH(AA363,'OTRAS REFERENTES'!$L:$L,0),1))","v":""},null,null,"",{"$f":"IF(SUMPRODUCT(--EXACT(K363&M363,$AD$2:AD362)),\"\",K363&M363)","v":""},{"$f":"IF(SUMPRODUCT(--EXACT(K363&M363,$AD$2:AD362)),\"\",MAX($AE$3:AE362)+1)","v":""}]
[1,"",362,"","",{"$f":"IF(L364<>\"\",CONCATENATE(DIGITADOR!$B$2,$A$2,DIGITADOR!$M$1,A364),\"\")","v":""},null,null,"",{"$f":"IF(K364=\"\",\"\",INDEX('OTRAS REFERENTES'!$AH$6:$AI$658,MATCH(K364,'OTRAS REFERENTES'!$AH$6:$AH$658,0),2))","v":""},null,{"$f":"IF(J364=\"\",\"\",INDEX(REFERENTES!$T:$W,MATCH(J364,REFERENTES!$V:$V,0),3))","v":""},null,null,"",null,{"$f":"IF(P364=\"\",\"\",INDEX(REFERENTES!$J:$K,MATCH(P364,REFERENTES!$K:$K,0),1))","v":""},null,{"$f":"IF(R364=\"\",\"\",INDEX(REFERENTES!$D:$E,MATCH(R364,REFERENTES!$D:$D,0),2))","v":""},null,null,"",{"$f":"IF(X364=\"\",\"\",INDEX('OTRAS REFERENTES'!$H:$I,MATCH(X364,'OTRAS REFERENTES'!$I:$I,0),1))","v":""},null,null,{"$f":"IF(AA364=\"\",\"\",INDEX('OTRAS REFERENTES'!$K:$L,MATCH(AA364,'OTRAS REFERENTES'!$L:$L,0),1))","v":""},null,null,"",{"$f":"IF(SUMPRODUCT(--EXACT(K364&M364,$AD$2:AD363)),\"\",K364&M364)","v":""},{"$f":"IF(SUMPRODUCT(--EXACT(K364&M364,$AD$2:AD363)),\"\",MAX($AE$3:AE363)+1)","v":""}]
[1,"",363,"","",{"$f":"IF(L365<>\"\",CONCATENATE(DIGITADOR!$B$2,$A$2,DIGITADOR!$M$1,A365),\"\")","v":""},null,null,"",{"$f":"IF(K365=\"\",\"\",INDEX('OTRAS REFERENTES'!$AH$6:$AI$658,MATCH(K365,'OTRAS REFERENTES'!$AH$6:$AH$658,0),2))","v":""},null,{"$f":"IF(J365=\"\",\"\",INDEX(REFERENTES!$T:$W,MATCH(J365,REFERENTES!$V:$V,0),3))","v":""},null,null,"",null,{"$f":"IF(P365=\"\",\"\",INDEX(REFERENTES!$J:$K,MATCH(P365,REFERENTES!$K:$K,0),1))","v":""},null,{"$f":"IF(R365=\"\",\"\",INDEX(REFERENTES!$D:$E,MATCH(R365,REFERENTES!$D:$D,0),2))","v":""},null,null,"",{"$f":"IF(X365=\"\",\"\",INDEX('OTRAS REFERENTES'!$H:$I,MATCH(X365,'OTRAS REFERENTES'!$I:$I,0),1))","v":""},null,null,{"$f":"IF(AA365=\"\",\"\",INDEX('OTRAS REFERENTES'!$K:$L,MATCH(AA365,'OTRAS REFERENTES'!$L:$L,0),1))","v":""},null,null,"",{"$f":"IF(SUMPRODUCT(--EXACT(K365&M365,$AD$2:AD364)),\"\",K365&M365)","v":""},{"$f":"IF(SUMPRODUCT(--EXACT(K365&M365,$AD$2:AD364)),\"\",MAX($AE$3:AE364)+1)","v":""}]
[1,"",364,"","",{"$f":"IF(L366<>\"\",CONCATENATE(DIGITADOR!$B$2,$A$2,DIGITADOR!$M$1,A366),\"\")","v":""},null,null,"",{"$f":"IF(K366=\"\",\"\",INDEX('OTRAS REFERENTES'!$AH$6:$AI$658,MATCH(K366,'OTRAS REFERENTES'!$AH$6:$AH$658,0),2))","v":""},null,{"$f":"IF(J366=\"\",\"\",INDEX(REFERENTES!$T:$W,MATCH(J366,REFERENTES!$V:$V,0),3))","v":""},null,null,"",null,{"$f":"IF(P366=\"\",\"\",INDEX(REFERENTES!$J:$K,MATCH(P366,REFERENTES!$K:$K,0),1))","v":""},null,{"$f":"IF(R366=\"\",\"\",INDEX(REFERENTES!$D:$E,MATCH(R366,REFERENTES!$D:$D,0),2))","v":""},null,null,"",{"$f":"IF(X366=\"\",\"\",INDEX('OTRAS REFERENTES'!$H:$I,MATCH(X366,'OTRAS REFERENTES'!$I:$I,0),1))","v":""},null,null,{"$f":"IF(AA366=\"\",\"\",INDEX('OTRAS REFERENTES'!$K:$L,MATCH(AA366,'OTRAS REFERENTES'!$L:$L,0),1))","v":""},null,null,"",{"$f":"IF(SUMPRODUCT(--EXACT(K366&M366,$AD$2:AD365)),\"\",K366&M366)","v":""},{"$f":"IF(SUMPRODUCT(--EXACT(K366&M366,$AD$2:AD365)),\"\",MAX($AE$3:AE365)+1)","v":""}]
[1,"",365,"","",{"$f":"IF(L367<>\"\",CONCATENATE(DIGITADOR!$B$2,$A$2,DIGITADOR!$M$1,A367),\"\")","v":""},null,null,"",{"$f":"IF(K367=\"\",\"\",INDEX('OTRAS REFERENTES'!$AH$6:$AI$658,MATCH(K367,'OTRAS REFERENTES'!$AH$6:$AH$658,0),2))","v":""},null,{"$f":"IF(J367=\"\",\"\",INDEX(REFERENTES!$T:$W,MATCH(J367,REFERENTES!$V:$V,0),3))","v":""},null,null,"",null,{"$f":"IF(P367=\"\",\"\",INDEX(REFERENTES!$J:$K,MATCH(P367,REFERENTES!$K:$K,0),1))","v":""},null,{"$f":"IF(R367=\"\",\"\",INDEX(REFERENTES!$D:$E,MATCH(R367,REFERENTES!$D:$D,0),2))","v":""},null,null,"",{"$f":"IF(X367=\"\",\"\",INDEX('OTRAS REFERENTES'!$H:$I,MATCH(X367,'OTRAS REFERENTES'!$I:$I,0),1))","v":""},null,null,{"$f":"IF(AA367=\"\",\"\",INDEX('OTRAS REFERENTES'!$K:$L,MATCH(AA367,'OTRAS REFERENTES'!$L:$L,0),1))","v":""},null,null,"",{"$f":"IF(SUMPRODUCT(--EXACT(K367&M367,$AD$2:AD366)),\"\",K367&M367)","v":""},{"$f":"IF(SUMPRODUCT(--EXACT(K367&M367,$AD$2:AD366)),\"\",MAX($AE$3:AE366)+1)","v":""}]
[1,"",366,"","",{"$f":"IF(L368<>\"\",CONCATENATE(DIGITADOR!$B$2,$A$2,DIGITADOR!$M$1,A368),\"\")","v":""},null,null,"",{"$f":"IF(K368=\"\",\"\",INDEX('OTRAS REFERENTES'!$AH$6:$AI$658,MATCH(K368,'OTRAS REFERENTES'!$AH$6:$AH$658,0),2))","v":""},null,{"$f":"IF(J368=\"\",\"\",INDEX(REFERENTES!$T:$W,MATCH(J368,REFERENTES!$V:$V,0),3))","v":""},null,null,"",null,{"$f":"IF(P368=\"\",\"\",INDEX(REFERENTES!$J:$K,MATCH(P368,REFERENTES!$K:$K,0),1))","v":""},null,{"$f":"IF(R368=\"\",\"\",INDEX(REFERENTES!$D:$E,MATCH(R368,REFERENTES!$D:$D,0),2))","v":""},null,null,"",{"$f":"IF(X368=\"\",\"\",INDEX('OTRAS REFERENTES'!$H:$I,MATCH(X368,'OTRAS REFERENTES'!$I:$I,0),1))","v":""},null,null,{"$f":"IF(AA368=\"\",\"\",INDEX('OTRAS REFERENTES'!$K:$L,MATCH(AA368,'OTRAS REFERENTES'!$L:$L,0),1))","v":""},null,null,"",{"$f":"IF(SUMPRODUCT(--EXACT(K368&M368,$AD$2:AD367)),\"\",K368&M368)","v":""},{"$f":"IF(SUMPRODUCT(--EXACT(K368&M368,$AD$2:AD367)),\"\",MAX($AE$3:AE367)+1)","v":""}]
[1,"",367,"","",{"$f":"IF(L369<>\"\",CONCATENATE(DIGITADOR!$B$2,$A$2,DIGITADOR!$M$1,A369),\"\")","v":""},null,null,"",{"$f":"IF(K369=\"\",\"\",INDEX('OTRAS REFERENTES'!$AH$6:$AI$658,MATCH(K369,'OTRAS REFERENTES'!$AH$6:$AH$658,0),2))","v":""},null,{"$f":"IF(J369=\"\",\"\",INDEX(REFERENTES!$T:$W,MATCH(J369,REFERENTES!$V:$V,0),3))","v":""},null,null,"",null,{"$f":"IF(P369=\"\",\"\",INDEX(REFERENTES!$J:$K,MATCH(P369,REFERENTES!$K:$K,0),1))","v":""},null,{"$f":"IF(R369=\"\",\"\",INDEX(REFERENTES!$D:$E,MATCH(R369,REFERENTES!$D:$D,0),2))","v":""},null,null,"",{"$f":"IF(X369=\"\",\"\",INDEX('OTRAS REFERENTES'!$H:$I,MATCH(X369,'OTRAS REFERENTES'!$I:$I,0),1))","v":""},null,null,{"$f":"IF(AA369=\"\",\"\",INDEX('OTRAS REFERENTES'!$K:$L,MATCH(AA369,'OTRAS REFERENTES'!$L:$L,0),1))","v":""},null,null,"",{"$f":"IF(SUMPRODUCT(--EXACT(K369&M369,$AD$2:AD368)),\"\",K369&M369)","v":""},{"$f":"IF(SUMPRODUCT(--EXACT(K369&M369,$AD$2:AD368)),\"\",MAX($AE$3:AE368)+1)","v":""}]
[1,"",368,"","",{"$f":"IF(L370<>\"\",CONCATENATE(DIGITADOR!$B$2,$A$2,DIGITADOR!$M$1,A370),\"\")","v":""},null,null,"",{"$f":"IF(K370=\"\",\"\",INDEX('OTRAS REFERENTES'!$AH$6:$AI$658,MATCH(K370,'OTRAS REFERENTES'!$AH$6:$AH$658,0),2))","v":""},null,{"$f":"IF(J370=\"\",\"\",INDEX(REFERENTES!$T:$W,MATCH(J370,REFERENTES!$V:$V,0),3))","v":""},null,null,"",null,{"$f":"IF(P370=\"\",\"\",INDEX(REFERENTES!$J:$K,MATCH(P370,REFERENTES!$K:$K,0),1))","v":""},null,{"$f":"IF(R370=\"\",\"\",INDEX(REFERENTES!$D:$E,MATCH(R370,REFERENTES!$D:$D,0),2))","v":""},null,null,"",{"$f":"IF(X370=\"\",\"\",INDEX('OTRAS REFERENTES'!$H:$I,MATCH(X370,'OTRAS REFERENTES'!$I:$I,0),1))","v":""},null,null,{"$f":"IF(AA370=\"\",\"\",INDEX('OTRAS REFERENTES'!$K:$L,MATCH(AA370,'OTRAS REFERENTES'!$L:$L,0),1))","v":""},null,null,"",{"$f":"IF(SUMPRODUCT(--EXACT(K370&M370,$AD$2:AD369)),\"\",K370&M370)","v":""},{"$f":"IF(SUMPRODUCT(--EXACT(K370&M370,$AD$2:AD369)),\"\",MAX($AE$3:AE369)+1)","v":""}]
[1,"",369,"","",{"$f":"IF(L371<>\"\",CONCATENATE(DIGITADOR!$B$2,$A$2,DIGITADOR!$M$1,A371),\"\")","v":""},null,null,"",{"$f":"IF(K371=\"\",\"\",INDEX('OTRAS REFERENTES'!$AH$6:$AI$658,MATCH(K371,'OTRAS REFERENTES'!$AH$6:$AH$658,0),2))","v":""},null,{"$f":"IF(J371=\"\",\"\",INDEX(REFERENTES!$T:$W,MATCH(J371,REFERENTES!$V:$V,0),3))","v":""},null,null,"",null,{"$f":"IF(P371=\"\",\"\",INDEX(REFERENTES!$J:$K,MATCH(P371,REFERENTES!$K:$K,0),1))","v":""},null,{"$f":"IF(R371=\"\",\"\",INDEX(REFERENTES!$D:$E,MATCH(R371,REFERENTES!$D:$D,0),2))","v":""},null,null,"",{"$f":"IF(X371=\"\",\"\",INDEX('OTRAS REFERENTES'!$H:$I,MATCH(X371,'OTRAS REFERENTES'!$I:$I,0),1))","v":""},null,null,{"$f":"IF(AA371=\"\",\"\",INDEX('OTRAS REFERENTES'!$K:$L,MATCH(AA371,'OTRAS REFERENTES'!$L:$L,0),1))","v":""},null,null,"",{"$f":"IF(SUMPRODUCT(--EXACT(K371&M371,$AD$2:AD370)),\"\",K371&M371)","v":""},{"$f":"IF(SUMPRODUCT(--EXACT(K371&M371,$AD$2:AD370)),\"\",MAX($AE$3:AE370)+1)","v":""}]
[1,"",370,"","",{"$f":"IF(L372<>\"\",CONCATENATE(DIGITADOR!$B$2,$A$2,DIGITADOR!$M$1,A372),\"\")","v":""},null,null,"",{"$f":"IF(K372=\"\",\"\",INDEX('OTRAS REFERENTES'!$AH$6:$AI$658,MATCH(K372,'OTRAS REFERENTES'!$AH$6:$AH$658,0),2))","v":""},null,{"$f":"IF(J372=\"\",\"\",INDEX(REFERENTES!$T:$W,MATCH(J372,REFERENTES!$V:$V,0),3))","v":""},null,null,"",null,{"$f":"IF(P372=\"\",\"\",INDEX(REFERENTES!$J:$K,MATCH(P372,REFERENTES!$K:$K,0),1))","v":""},null,{"$f":"IF(R372=\"\",\"\",INDEX(REFERENTES!$D:$E,MATCH(R372,REFERENTES!$D:$D,0),2))","v":""},null,null,"",{"$f":"IF(X372=\"\",\"\",INDEX('OTRAS REFERENTES'!$H:$I,MATCH(X372,'OTRAS REFERENTES'!$I:$I,0),1))","v":""},null,null,{"$f":"IF(AA372=\"\",\"\",INDEX('OTRAS REFERENTES'!$K:$L,MATCH(AA372,'OTRAS REFERENTES'!$L:$L,0),1))","v":""},null,null,"",{"$f":"IF(SUMPRODUCT(--EXACT(K372&M372,$AD$2:AD371)),\"\",K372&M372)","v":""},{"$f":"IF(SUMPRODUCT(--EXACT(K372&M372,$AD$2:AD371)),\"\",MAX($AE$3:AE371)+1)","v":""}]
[1,"",371,"","",{"$f":"IF(L373<>\"\",CONCATENATE(DIGITADOR!$B$2,$A$2,DIGITADOR!$M$1,A373),\"\")","v":""},null,null,"",{"$f":"IF(K373=\"\",\"\",INDEX('OTRAS REFERENTES'!$AH$6:$AI$658,MATCH(K373,'OTRAS REFERENTES'!$AH$6:$AH$658,0),2))","v":""},null,{"$f":"IF(J373=\"\",\"\",INDEX(REFERENTES!$T:$W,MATCH(J373,REFERENTES!$V:$V,0),3))","v":""},null,null,"",null,{"$f":"IF(P373=\"\",\"\",INDEX(REFERENTES!$J:$K,MATCH(P373,REFERENTES!$K:$K,0),1))","v":""},null,{"$f":"IF(R373=\"\",\"\",INDEX(REFERENTES!$D:$E,MATCH(R373,REFERENTES!$D:$D,0),2))","v":""},null,null,"",{"$f":"IF(X373=\"\",\"\",INDEX('OTRAS REFERENTES'!$H:$I,MATCH(X373,'OTRAS REFERENTES'!$I:$I,0),1))","v":""},null,null,{"$f":"IF(AA373=\"\",\"\",INDEX('OTRAS REFERENTES'!$K:$L,MATCH(AA373,'OTRAS REFERENTES'!$L:$L,0),1))","v":""},null,null,"",{"$f":"IF(SUMPRODUCT(--EXACT(K373&M373,$AD$2:AD372)),\"\",K373&M373)","v":""},{"$f":"IF(SUMPRODUCT(--EXACT(K373&M373,$AD$2:AD372)),\"\",MAX($AE$3:AE372)+1)","v":""}]
[1,"",372,"","",{"$f":"IF(L374<>\"\",CONCATENATE(DIGITADOR!$B$2,$A$2,DIGITADOR!$M$1,A374),\"\")","v":""},null,null,"",{"$f":"IF(K374=\"\",\"\",INDEX('OTRAS REFERENTES'!$AH$6:$AI$658,MATCH(K374,'OTRAS REFERENTES'!$AH$6:$AH$658,0),2))","v":""},null,{"$f":"IF(J374=\"\",\"\",INDEX(REFERENTES!$T:$W,MATCH(J374,REFERENTES!$V:$V,0),3))","v":""},null,null,"",null,{"$f":"IF(P374=\"\",\"\",INDEX(REFERENTES!$J:$K,MATCH(P374,REFERENTES!$K:$K,0),1))","v":""},null,{"$f":"IF(R374=\"\",\"\",INDEX(REFERENTES!$D:$E,MATCH(R374,REFERENTES!$D:$D,0),2))","v":""},null,null,"",{"$f":"IF(X374=\"\",\"\",INDEX('OTRAS REFERENTES'!$H:$I,MATCH(X374,'OTRAS REFERENTES'!$I:$I,0),1))","v":""},null,null,{"$f":"IF(AA374=\"\",\"\",INDEX('OTRAS REFERENTES'!$K:$L,MATCH(AA374,'OTRAS REFERENTES'!$L:$L,0),1))","v":""},null,null,"",{"$f":"IF(SUMPRODUCT(--EXACT(K374&M374,$AD$2:AD373)),\"\",K374&M374)","v":""},{"$f":"IF(SUMPRODUCT(--EXACT(K374&M374,$AD$2:AD373)),\"\",MAX($AE$3:AE373)+1)","v":""}]
[1,"",373,"","",{"$f":"IF(L375<>\"\",CONCATENATE(DIGITADOR!$B$2,$A$2,DIGITADOR!$M$1,A375),\"\")","v":""},null,null,"",{"$f":"IF(K375=\"\",\"\",INDEX('OTRAS REFERENTES'!$AH$6:$AI$658,MATCH(K375,'OTRAS REFERENTES'!$AH$6:$AH$658,0),2))","v":""},null,{"$f":"IF(J375=\"\",\"\",INDEX(REFERENTES!$T:$W,MATCH(J375,REFERENTES!$V:$V,0),3))","v":""},null,null,"",null,{"$f":"IF(P375=\"\",\"\",INDEX(REFERENTES!$J:$K,MATCH(P375,REFERENTES!$K:$K,0),1))","v":""},null,{"$f":"IF(R375=\"\",\"\",INDEX(REFERENTES!$D:$E,MATCH(R375,REFERENTES!$D:$D,0),2))","v":""},null,null,"",{"$f":"IF(X375=\"\",\"\",INDEX('OTRAS REFERENTES'!$H:$I,MATCH(X375,'OTRAS REFERENTES'!$I:$I,0),1))","v":""},null,null,{"$f":"IF(AA375=\"\",\"\",INDEX('OTRAS REFERENTES'!$K:$L,MATCH(AA375,'OTRAS REFERENTES'!$L:$L,0),1))","v":""},null,null,"",{"$f":"IF(SUMPRODUCT(--EXACT(K375&M375,$AD$2:AD374)),\"\",K375&M375)","v":""},{"$f":"IF(SUMPRODUCT(--EXACT(K375&M375,$AD$2:AD374)),\"\",MAX($AE$3:AE374)+1)","v":""}]
[1,"",374,"","",{"$f":"IF(L376<>\"\",CONCATENATE(DIGITADOR!$B$2,$A$2,DIGITADOR!$M$1,A376),\"\")","v":""},null,null,"",{"$f":"IF(K376=\"\",\"\",INDEX('OTRAS REFERENTES'!$AH$6:$AI$658,MATCH(K376,'OTRAS REFERENTES'!$AH$6:$AH$658,0),2))","v":""},null,{"$f":"IF(J376=\"\",\"\",INDEX(REFERENTES!$T:$W,MATCH(J376,REFERENTES!$V:$V,0),3))","v":""},null,null,"",null,{"$f":"IF(P376=\"\",\"\",INDEX(REFERENTES!$J:$K,MATCH(P376,REFERENTES!$K:$K,0),1))","v":""},null,{"$f":"IF(R376=\"\",\"\",INDEX(REFERENTES!$D:$E,MATCH(R376,REFERENTES!$D:$D,0),2))","v":""},null,null,"",{"$f":"IF(X376=\"\",\"\",INDEX('OTRAS REFERENTES'!$H:$I,MATCH(X376,'OTRAS REFERENTES'!$I:$I,0),1))","v":""},null,null,{"$f":"IF(AA376=\"\",\"\",INDEX('OTRAS REFERENTES'!$K:$L,MATCH(AA376,'OTRAS REFERENTES'!$L:$L,0),1))","v":""},null,null,"",{"$f":"IF(SUMPRODUCT(--EXACT(K376&M376,$AD$2:AD375)),\"\",K376&M376)","v":""},{"$f":"IF(SUMPRODUCT(--EXACT(K376&M376,$AD$2:AD375)),\"\",MAX($AE$3:AE375)+1)","v":""}]
[1,"",375,"","",{"$f":"IF(L377<>\"\",CONCATENATE(DIGITADOR!$B$2,$A$2,DIGITADOR!$M$1,A377),\"\")","v":""},null,null,"",{"$f":"IF(K377=\"\",\"\",INDEX('OTRAS REFERENTES'!$AH$6:$AI$658,MATCH(K377,'OTRAS REFERENTES'!$AH$6:$AH$658,0),2))","v":""},null,{"$f":"IF(J377=\"\",\"\",INDEX(REFERENTES!$T:$W,MATCH(J377,REFERENTES!$V:$V,0),3))","v":""},null,null,"",null,{"$f":"IF(P377=\"\",\"\",INDEX(REFERENTES!$J:$K,MATCH(P377,REFERENTES!$K:$K,0),1))","v":""},null,{"$f":"IF(R377=\"\",\"\",INDEX(REFERENTES!$D:$E,MATCH(R377,REFERENTES!$D:$D,0),2))","v":""},null,null,"",{"$f":"IF(X377=\"\",\"\",INDEX('OTRAS REFERENTES'!$H:$I,MATCH(X377,'OTRAS REFERENTES'!$I:$I,0),1))","v":""},null,null,{"$f":"IF(AA377=\"\",\"\",INDEX('OTRAS REFERENTES'!$K:$L,MATCH(AA377,'OTRAS REFERENTES'!$L:$L,0),1))","v":""},null,null,"",{"$f":"IF(SUMPRODUCT(--EXACT(K377&M377,$AD$2:AD376)),\"\",K377&M377)","v":""},{"$f":"IF(SUMPRODUCT(--EXACT(K377&M377,$AD$2:AD376)),\"\",MAX($AE$3:AE376)+1)","v":""}]
[1,"",376,"","",{"$f":"IF(L378<>\"\",CONCATENATE(DIGITADOR!$B$2,$A$2,DIGITADOR!$M$1,A378),\"\")","v":""},null,null,"",{"$f":"IF(K378=\"\",\"\",INDEX('OTRAS REFERENTES'!$AH$6:$AI$658,MATCH(K378,'OTRAS REFERENTES'!$AH$6:$AH$658,0),2))","v":""},null,{"$f":"IF(J378=\"\",\"\",INDEX(REFERENTES!$T:$W,MATCH(J378,REFERENTES!$V:$V,0),3))","v":""},null,null,"",null,{"$f":"IF(P378=\"\",\"\",INDEX(REFERENTES!$J:$K,MATCH(P378,REFERENTES!$K:$K,0),1))","v":""},null,{"$f":"IF(R378=\"\",\"\",INDEX(REFERENTES!$D:$E,MATCH(R378,REFERENTES!$D:$D,0),2))","v":""},null,null,"",{"$f":"IF(X378=\"\",\"\",INDEX('OTRAS REFERENTES'!$H:$I,MATCH(X378,'OTRAS REFERENTES'!$I:$I,0),1))","v":""},null,null,{"$f":"IF(AA378=\"\",\"\",INDEX('OTRAS REFERENTES'!$K:$L,MATCH(AA378,'OTRAS REFERENTES'!$L:$L,0),1))","v":""},null,null,"",{"$f":"IF(SUMPRODUCT(--EXACT(K378&M378,$AD$2:AD377)),\"\",K378&M378)","v":""},{"$f":"IF(SUMPRODUCT(--EXACT(K378&M378,$AD$2:AD377)),\"\",MAX($AE$3:AE377)+1)","v":""}]
[1,"",377,"","",{"$f":"IF(L379<>\"\",CONCATENATE(DIGITADOR!$B$2,$A$2,DIGITADOR!$M$1,A379),\"\")","v":""},null,null,"",{"$f":"IF(K379=\"\",\"\",INDEX('OTRAS REFERENTES'!$AH$6:$AI$658,MATCH(K379,'OTRAS REFERENTES'!$AH$6:$AH$658,0),2))","v":""},null,{"$f":"IF(J379=\"\",\"\",INDEX(REFERENTES!$T:$W,MATCH(J379,REFERENTES!$V:$V,0),3))","v":""},null,null,"",null,{"$f":"IF(P379=\"\",\"\",INDEX(REFERENTES!$J:$K,MATCH(P379,REFERENTES!$K:$K,0),1))","v":""},null,{"$f":"IF(R379=\"\",\"\",INDEX(REFERENTES!$D:$E,MATCH(R379,REFERENTES!$D:$D,0),2))","v":""},null,null,"",{"$f":"IF(X379=\"\",\"\",INDEX('OTRAS REFERENTES'!$H:$I,MATCH(X379,'OTRAS REFERENTES'!$I:$I,0),1))","v":""},null,null,{"$f":"IF(AA379=\"\",\"\",INDEX('OTRAS REFERENTES'!$K:$L,MATCH(AA379,'OTRAS REFERENTES'!$L:$L,0),1))","v":""},null,null,"",{"$f":"IF(SUMPRODUCT(--EXACT(K379&M379,$AD$2:AD378)),\"\",K379&M379)","v":""},{"$f":"IF(SUMPRODUCT(--EXACT(K379&M379,$AD$2:AD378)),\"\",MAX($AE$3:AE378)+1)","v":""}]
[1,"",378,"","",{"$f":"IF(L380<>\"\",CONCATENATE(DIGITADOR!$B$2,$A$2,DIGITADOR!$M$1,A380),\"\")","v":""},null,null,"",{"$f":"IF(K380=\"\",\"\",INDEX('OTRAS REFERENTES'!$AH$6:$AI$658,MATCH(K380,'OTRAS REFERENTES'!$AH$6:$AH$658,0),2))","v":""},null,{"$f":"IF(J380=\"\",\"\",INDEX(REFERENTES!$T:$W,MATCH(J380,REFERENTES!$V:$V,0),3))","v":""},null,null,"",null,{"$f":"IF(P380=\"\",\"\",INDEX(REFERENTES!$J:$K,MATCH(P380,REFERENTES!$K:$K,0),1))","v":""},null,{"$f":"IF(R380=\"\",\"\",INDEX(REFERENTES!$D:$E,MATCH(R380,REFERENTES!$D:$D,0),2))","v":""},null,null,"",{"$f":"IF(X380=\"\",\"\",INDEX('OTRAS REFERENTES'!$H:$I,MATCH(X380,'OTRAS REFERENTES'!$I:$I,0),1))","v":""},null,null,{"$f":"IF(AA380=\"\",\"\",INDEX('OTRAS REFERENTES'!$K:$L,MATCH(AA380,'OTRAS REFERENTES'!$L:$L,0),1))","v":""},null,null,"",{"$f":"IF(SUMPRODUCT(--EXACT(K380&M380,$AD$2:AD379)),\"\",K380&M380)","v":""},{"$f":"IF(SUMPRODUCT(--EXACT(K380&M380,$AD$2:AD379)),\"\",MAX($AE$3:AE379)+1)","v":""}]
[1,"",379,"","",{"$f":"IF(L381<>\"\",CONCATENATE(DIGITADOR!$B$2,$A$2,DIGITADOR!$M$1,A381),\"\")","v":""},null,null,"",{"$f":"IF(K381=\"\",\"\",INDEX('OTRAS REFERENTES'!$AH$6:$AI$658,MATCH(K381,'OTRAS REFERENTES'!$AH$6:$AH$658,0),2))","v":""},null,{"$f":"IF(J381=\"\",\"\",INDEX(REFERENTES!$T:$W,MATCH(J381,REFERENTES!$V:$V,0),3))","v":""},null,null,"",null,{"$f":"IF(P381=\"\",\"\",INDEX(REFERENTES!$J:$K,MATCH(P381,REFERENTES!$K:$K,0),1))","v":""},null,{"$f":"IF(R381=\"\",\"\",INDEX(REFERENTES!$D:$E,MATCH(R381,REFERENTES!$D:$D,0),2))","v":""},null,null,"",{"$f":"IF(X381=\"\",\"\",INDEX('OTRAS REFERENTES'!$H:$I,MATCH(X381,'OTRAS REFERENTES'!$I:$I,0),1))","v":""},null,null,{"$f":"IF(AA381=\"\",\"\",INDEX('OTRAS REFERENTES'!$K:$L,MATCH(AA381,'OTRAS REFERENTES'!$L:$L,0),1))","v":""},null,null,"",{"$f":"IF(SUMPRODUCT(--EXACT(K381&M381,$AD$2:AD380)),\"\",K381&M381)","v":""},{"$f":"IF(SUMPRODUCT(--EXACT(K381&M381,$AD$2:AD380)),\"\",MAX($AE$3:AE380)+1)","v":""}]
[1,"",380,"","",{"$f":"IF(L382<>\"\",CONCATENATE(DIGITADOR!$B$2,$A$2,DIGITADOR!$M$1,A382),\"\")","v":""},null,null,"",{"$f":"IF(K382=\"\",\"\",INDEX('OTRAS REFERENTES'!$AH$6:$AI$658,MATCH(K382,'OTRAS REFERENTES'!$AH$6:$AH$658,0),2))","v":""},null,{"$f":"IF(J382=\"\",\"\",INDEX(REFERENTES!$T:$W,MATCH(J382,REFERENTES!$V:$V,0),3))","v":""},null,null,"",null,{"$f":"IF(P382=\"\",\"\",INDEX(REFERENTES!$J:$K,MATCH(P382,REFERENTES!$K:$K,0),1))","v":""},null,{"$f":"IF(R382=\"\",\"\",INDEX(REFERENTES!$D:$E,MATCH(R382,REFERENTES!$D:$D,0),2))","v":""},null,null,"",{"$f":"IF(X382=\"\",\"\",INDEX('OTRAS REFERENTES'!$H:$I,MATCH(X382,'OTRAS REFERENTES'!$I:$I,0),1))","v":""},null,null,{"$f":"IF(AA382=\"\",\"\",INDEX('OTRAS REFERENTES'!$K:$L,MATCH(AA382,'OTRAS REFERENTES'!$L:$L,0),1))","v":""},null,null,"",{"$f":"IF(SUMPRODUCT(--EXACT(K382&M382,$AD$2:AD381)),\"\",K382&M382)","v":""},{"$f":"IF(SUMPRODUCT(--EXACT(K382&M382,$AD$2:AD381)),\"\",MAX($AE$3:AE381)+1)","v":""}]
[1,"",381,"","",{"$f":"IF(L383<>\"\",CONCATENATE(DIGITADOR!$B$2,$A$2,DIGITADOR!$M$1,A383),\"\")","v":""},null,null,"",{"$f":"IF(K383=\"\",\"\",INDEX('OTRAS REFERENTES'!$AH$6:$AI$658,MATCH(K383,'OTRAS REFERENTES'!$AH$6:$AH$658,0),2))","v":""},null,{"$f":"IF(J383=\"\",\"\",INDEX(REFERENTES!$T:$W,MATCH(J383,REFERENTES!$V:$V,0),3))","v":""},null,null,"",null,{"$f":"IF(P383=\"\",\"\",INDEX(REFERENTES!$J:$K,MATCH(P383,REFERENTES!$K:$K,0),1))","v":""},null,{"$f":"IF(R383=\"\",\"\",INDEX(REFERENTES!$D:$E,MATCH(R383,REFERENTES!$D:$D,0),2))","v":""},null,null,"",{"$f":"IF(X383=\"\",\"\",INDEX('OTRAS REFERENTES'!$H:$I,MATCH(X383,'OTRAS REFERENTES'!$I:$I,0),1))","v":""},null,null,{"$f":"IF(AA383=\"\",\"\",INDEX('OTRAS REFERENTES'!$K:$L,MATCH(AA383,'OTRAS REFERENTES'!$L:$L,0),1))","v":""},null,null,"",{"$f":"IF(SUMPRODUCT(--EXACT(K383&M383,$AD$2:AD382)),\"\",K383&M383)","v":""},{"$f":"IF(SUMPRODUCT(--EXACT(K383&M383,$AD$2:AD382)),\"\",MAX($AE$3:AE382)+1)","v":""}]
[1,"",382,"","",{"$f":"IF(L384<>\"\",CONCATENATE(DIGITADOR!$B$2,$A$2,DIGITADOR!$M$1,A384),\"\")","v":""},null,null,"",{"$f":"IF(K384=\"\",\"\",INDEX('OTRAS REFERENTES'!$AH$6:$AI$658,MATCH(K384,'OTRAS REFERENTES'!$AH$6:$AH$658,0),2))","v":""},null,{"$f":"IF(J384=\"\",\"\",INDEX(REFERENTES!$T:$W,MATCH(J384,REFERENTES!$V:$V,0),3))","v":""},null,null,"",null,{"$f":"IF(P384=\"\",\"\",INDEX(REFERENTES!$J:$K,MATCH(P384,REFERENTES!$K:$K,0),1))","v":""},null,{"$f":"IF(R384=\"\",\"\",INDEX(REFERENTES!$D:$E,MATCH(R384,REFERENTES!$D:$D,0),2))","v":""},null,null,"",{"$f":"IF(X384=\"\",\"\",INDEX('OTRAS REFERENTES'!$H:$I,MATCH(X384,'OTRAS REFERENTES'!$I:$I,0),1))","v":""},null,null,{"$f":"IF(AA384=\"\",\"\",INDEX('OTRAS REFERENTES'!$K:$L,MATCH(AA384,'OTRAS REFERENTES'!$L:$L,0),1))","v":""},null,null,"",{"$f":"IF(SUMPRODUCT(--EXACT(K384&M384,$AD$2:AD383)),\"\",K384&M384)","v":""},{"$f":"IF(SUMPRODUCT(--EXACT(K384&M384,$AD$2:AD383)),\"\",MAX($AE$3:AE383)+1)","v":""}]
[1,"",383,"","",{"$f":"IF(L385<>\"\",CONCATENATE(DIGITADOR!$B$2,$A$2,DIGITADOR!$M$1,A385),\"\")","v":""},null,null,"",{"$f":"IF(K385=\"\",\"\",INDEX('OTRAS REFERENTES'!$AH$6:$AI$658,MATCH(K385,'OTRAS REFERENTES'!$AH$6:$AH$658,0),2))","v":""},null,{"$f":"IF(J385=\"\",\"\",INDEX(REFERENTES!$T:$W,MATCH(J385,REFERENTES!$V:$V,0),3))","v":""},null,null,"",null,{"$f":"IF(P385=\"\",\"\",INDEX(REFERENTES!$J:$K,MATCH(P385,REFERENTES!$K:$K,0),1))","v":""},null,{"$f":"IF(R385=\"\",\"\",INDEX(REFERENTES!$D:$E,MATCH(R385,REFERENTES!$D:$D,0),2))","v":""},null,null,"",{"$f":"IF(X385=\"\",\"\",INDEX('OTRAS REFERENTES'!$H:$I,MATCH(X385,'OTRAS REFERENTES'!$I:$I,0),1))","v":""},null,null,{"$f":"IF(AA385=\"\",\"\",INDEX('OTRAS REFERENTES'!$K:$L,MATCH(AA385,'OTRAS REFERENTES'!$L:$L,0),1))","v":""},null,null,"",{"$f":"IF(SUMPRODUCT(--EXACT(K385&M385,$AD$2:AD384)),\"\",K385&M385)","v":""},{"$f":"IF(SUMPRODUCT(--EXACT(K385&M385,$AD$2:AD384)),\"\",MAX($AE$3:AE384)+1)","v":""}]
[1,"",384,"","",{"$f":"IF(L386<>\"\",CONCATENATE(DIGITADOR!$B$2,$A$2,DIGITADOR!$M$1,A386),\"\")","v":""},null,null,"",{"$f":"IF(K386=\"\",\"\",INDEX('OTRAS REFERENTES'!$AH$6:$AI$658,MATCH(K386,'OTRAS REFERENTES'!$AH$6:$AH$658,0),2))","v":""},null,{"$f":"IF(J386=\"\",\"\",INDEX(REFERENTES!$T:$W,MATCH(J386,REFERENTES!$V:$V,0),3))","v":""},null,null,"",null,{"$f":"IF(P386=\"\",\"\",INDEX(REFERENTES!$J:$K,MATCH(P386,REFERENTES!$K:$K,0),1))","v":""},null,{"$f":"IF(R386=\"\",\"\",INDEX(REFERENTES!$D:$E,MATCH(R386,REFERENTES!$D:$D,0),2))","v":""},null,null,"",{"$f":"IF(X386=\"\",\"\",INDEX('OTRAS REFERENTES'!$H:$I,MATCH(X386,'OTRAS REFERENTES'!$I:$I,0),1))","v":""},null,null,{"$f":"IF(AA386=\"\",\"\",INDEX('OTRAS REFERENTES'!$K:$L,MATCH(AA386,'OTRAS REFERENTES'!$L:$L,0),1))","v":""},null,null,"",{"$f":"IF(SUMPRODUCT(--EXACT(K386&M386,$AD$2:AD385)),\"\",K386&M386)","v":""},{"$f":"IF(SUMPRODUCT(--EXACT(K386&M386,$AD$2:AD385)),\"\",MAX($AE$3:AE385)+1)","v":""}]
[1,"",385,"",{"$f":"CONCATENATE(I387,L387)","v":""},{"$f":"IF(L387<>\"\",CONCATENATE(DIGITADOR!$B$2,$A$2,DIGITADOR!$M$1,A387),\"\")","v":""},null,null,{"$f":"IF(G387<>\"\",G387+H387,\"\")","v":""},{"$f":"IF(K387=\"\",\"\",INDEX('OTRAS REFERENTES'!$AH$6:$AI$658,MATCH(K387,'OTRAS REFERENTES'!$AH$6:$AH$658,0),2))","v":""},null,{"$f":"IF(J387=\"\",\"\",INDEX(REFERENTES!$T:$W,MATCH(J387,REFERENTES!$V:$V,0),3))","v":""},null,null,{"$f":"IF(P387=\"\",\"\",UPPER(P387))","v":""},null,{"$f":"IF(P387=\"\",\"\",INDEX(REFERENTES!$J:$K,MATCH(P387,REFERENTES!$K:$K,0),1))","v":""},null,{"$f":"IF(R387=\"\",\"\",INDEX(REFERENTES!$D:$E,MATCH(R387,REFERENTES!$D:$D,0),2))","v":""},null,null,{"$f":"IF(U387=\"\",IF(T387=\"\",\"\",IF(AND(T387>=0,T387<=50),\"A\",IF(AND(T387>50,T387<=150),\"B\",\"C\"))),U387)","v":""},{"$f":"IF(X387=\"\",\"\",INDEX('OTRAS REFERENTES'!$H:$I,MATCH(X387,'OTRAS REFERENTES'!$I:$I,0),1))","v":""},null,null,{"$f":"IF(AA387=\"\",\"\",INDEX('OTRAS REFERENTES'!$K:$L,MATCH(AA387,'OTRAS REFERENTES'!$L:$L,0),1))","v":""},null,null,"",{"$f":"IF(SUMPRODUCT(--EXACT(K387&M387,$AD$2:AD386)),\"\",K387&M387)","v":""},{"$f":"IF(SUMPRODUCT(--EXACT(K387&M387,$AD$2:AD386)),\"\",MAX($AE$3:AE386)+1)","v":""}]
[1,"",386,"","",{"$f":"IF(L388<>\"\",CONCATENATE(DIGITADOR!$B$2,$A$2,DIGITADOR!$M$1,A388),\"\")","v":""},null,null,"",{"$f":"IF(K388=\"\",\"\",INDEX('OTRAS REFERENTES'!$AH$6:$AI$658,MATCH(K388,'OTRAS REFERENTES'!$AH$6:$AH$658,0),2))","v":""},null,{"$f":"IF(J388=\"\",\"\",INDEX(REFERENTES!$T:$W,MATCH(J388,REFERENTES!$V:$V,0),3))","v":""},null,null,"",null,{"$f":"IF(P388=\"\",\"\",INDEX(REFERENTES!$J:$K,MATCH(P388,REFERENTES!$K:$K,0),1))","v":""},null,{"$f":"IF(R388=\"\",\"\",INDEX(REFERENTES!$D:$E,MATCH(R388,REFERENTES!$D:$D,0),2))","v":""},null,null,"",{"$f":"IF(X388=\"\",\"\",INDEX('OTRAS REFERENTES'!$H:$I,MATCH(X388,'OTRAS REFERENTES'!$I:$I,0),1))","v":""},null,null,{"$f":"IF(AA388=\"\",\"\",INDEX('OTRAS REFERENTES'!$K:$L,MATCH(AA388,'OTRAS REFERENTES'!$L:$L,0),1))","v":""},null,null,{"$f":"IF(R388=\"\",\"\",UPPER(R388))","v":""},{"$f":"IF(SUMPRODUCT(--EXACT(K388&M388,$AD$2:AD387)),\"\",K388&M388)","v":""},{"$f":"IF(SUMPRODUCT(--EXACT(K388&M388,$AD$2:AD387)),\"\",MAX($AE$3:AE387)+1)","v":""}]
[{"$f":"IF(L389=L388,A388,A388+1)","v":1},{"$f":"IF(F389<>F388, F389,\"\")","v":""},387,"","",{"$f":"IF(L389<>\"\",CONCATENATE(DIGITADOR!$B$2,$A$2,DIGITADOR!$M$1,A389),\"\")","v":""},null,null,"",{"$f":"IF(K389=\"\",\"\",INDEX('OTRAS REFERENTES'!$AH$6:$AI$658,MATCH(K389,'OTRAS REFERENTES'!$AH$6:$AH$658,0),2))","v":""},null,{"$f":"IF(J389=\"\",\"\",INDEX(REFERENTES!$T:$W,MATCH(J389,REFERENTES!$V:$V,0),3))","v":""},null,null,"",null,{"$f":"IF(P389=\"\",\"\",INDEX(REFERENTES!$J:$K,MATCH(P389,REFERENTES!$K:$K,0),1))","v":""},null,{"$f":"IF(R389=\"\",\"\",INDEX(REFERENTES!$D:$E,MATCH(R389,REFERENTES!$D:$D,0),2))","v":""},null,null,"",{"$f":"IF(X389=\"\",\"\",INDEX('OTRAS REFERENTES'!$H:$I,MATCH(X389,'OTRAS REFERENTES'!$I:$I,0),1))","v":""},null,null,{"$f":"IF(AA389=\"\",\"\",INDEX('OTRAS REFERENTES'!$K:$L,MATCH(AA389,'OTRAS REFERENTES'!$L:$L,0),1))","v":""},null,null,"",{"$f":"IF(SUMPRODUCT(--EXACT(K389&M389,$AD$2:AD388)),\"\",K389&M389)","v":""},{"$f":"IF(SUMPRODUCT(--EXACT(K389&M389,$AD$2:AD388)),\"\",MAX($AE$3:AE388)+1)","v":""}]
[1,"",388,"","",{"$f":"IF(L390<>\"\",CONCATENATE(DIGITADOR!$B$2,$A$2,DIGITADOR!$M$1,A390),\"\")","v":""},null,null,"",{"$f":"IF(K390=\"\",\"\",INDEX('OTRAS REFERENTES'!$AH$6:$AI$658,MATCH(K390,'OTRAS REFERENTES'!$AH$6:$AH$658,0),2))","v":""},null,{"$f":"IF(J390=\"\",\"\",INDEX(REFERENTES!$T:$W,MATCH(J390,REFERENTES!$V:$V,0),3))","v":""},null,null,"",null,{"$f":"IF(P390=\"\",\"\",INDEX(REFERENTES!$J:$K,MATCH(P390,REFERENTES!$K:$K,0),1))","v":""},null,{"$f":"IF(R390=\"\",\"\",INDEX(REFERENTES!$D:$E,MATCH(R390,REFERENTES!$D:$D,0),2))","v":""},null,null,"",{"$f":"IF(X390=\"\",\"\",INDEX('OTRAS REFERENTES'!$H:$I,MATCH(X390,'OTRAS REFERENTES'!$I:$I,0),1))","v":""},null,null,{"$f":"IF(AA390=\"\",\"\",INDEX('OTRAS REFERENTES'!$K:$L,MATCH(AA390,'OTRAS REFERENTES'!$L:$L,0),1))","v":""},null,null,"",{"$f":"IF(SUMPRODUCT(--EXACT(K390&M390,$AD$2:AD389)),\"\",K390&M390)","v":""},{"$f":"IF(SUMPRODUCT(--EXACT(K390&M390,$AD$2:AD389)),\"\",MAX($AE$3:AE389)+1)","v":""}]
[1,"",389,"","",{"$f":"IF(L391<>\"\",CONCATENATE(DIGITADOR!$B$2,$A$2,DIGITADOR!$M$1,A391),\"\")","v":""},null,null,"",{"$f":"IF(K391=\"\",\"\",INDEX('OTRAS REFERENTES'!$AH$6:$AI$658,MATCH(K391,'OTRAS REFERENTES'!$AH$6:$AH$658,0),2))","v":""},null,{"$f":"IF(J391=\"\",\"\",INDEX(REFERENTES!$T:$W,MATCH(J391,REFERENTES!$V:$V,0),3))","v":""},null,null,"",null,{"$f":"IF(P391=\"\",\"\",INDEX(REFERENTES!$J:$K,MATCH(P391,REFERENTES!$K:$K,0),1))","v":""},null,{"$f":"IF(R391=\"\",\"\",INDEX(REFERENTES!$D:$E,MATCH(R391,REFERENTES!$D:$D,0),2))","v":""},null,null,"",{"$f":"IF(X391=\"\",\"\",INDEX('OTRAS REFERENTES'!$H:$I,MATCH(X391,'OTRAS REFERENTES'!$I:$I,0),1))","v":""},null,null,{"$f":"IF(AA391=\"\",\"\",INDEX('OTRAS REFERENTES'!$K:$L,MATCH(AA391,'OTRAS REFERENTES'!$L:$L,0),1))","v":""},null,null,"",{"$f":"IF(SUMPRODUCT(--EXACT(K391&M391,$AD$2:AD390)),\"\",K391&M391)","v":""},{"$f":"IF(SUMPRODUCT(--EXACT(K391&M391,$AD$2:AD390)),\"\",MAX($AE$3:AE390)+1)","v":""}]
[1,"",390,"","",{"$f":"IF(L392<>\"\",CONCATENATE(DIGITADOR!$B$2,$A$2,DIGITADOR!$M$1,A392),\"\")","v":""},null,null,"",{"$f":"IF(K392=\"\",\"\",INDEX('OTRAS REFERENTES'!$AH$6:$AI$658,MATCH(K392,'OTRAS REFERENTES'!$AH$6:$AH$658,0),2))","v":""},null,{"$f":"IF(J392=\"\",\"\",INDEX(REFERENTES!$T:$W,MATCH(J392,REFERENTES!$V:$V,0),3))","v":""},null,null,"",null,{"$f":"IF(P392=\"\",\"\",INDEX(REFERENTES!$J:$K,MATCH(P392,REFERENTES!$K:$K,0),1))","v":""},null,{"$f":"IF(R392=\"\",\"\",INDEX(REFERENTES!$D:$E,MATCH(R392,REFERENTES!$D:$D,0),2))","v":""},null,null,"",{"$f":"IF(X392=\"\",\"\",INDEX('OTRAS REFERENTES'!$H:$I,MATCH(X392,'OTRAS REFERENTES'!$I:$I,0),1))","v":""},null,null,{"$f":"IF(AA392=\"\",\"\",INDEX('OTRAS REFERENTES'!$K:$L,MATCH(AA392,'OTRAS REFERENTES'!$L:$L,0),1))","v":""},null,null,"",{"$f":"IF(SUMPRODUCT(--EXACT(K392&M392,$AD$2:AD391)),\"\",K392&M392)","v":""},{"$f":"IF(SUMPRODUCT(--EXACT(K392&M392,$AD$2:AD391)),\"\",MAX($AE$3:AE391)+1)","v":""}]
[1,"",391,"","",{"$f":"IF(L393<>\"\",CONCATENATE(DIGITADOR!$B$2,$A$2,DIGITADOR!$M$1,A393),\"\")","v":""},null,null,"",{"$f":"IF(K393=\"\",\"\",INDEX('OTRAS REFERENTES'!$AH$6:$AI$658,MATCH(K393,'OTRAS REFERENTES'!$AH$6:$AH$658,0),2))","v":""},null,{"$f":"IF(J393=\"\",\"\",INDEX(REFERENTES!$T:$W,MATCH(J393,REFERENTES!$V:$V,0),3))","v":""},null,null,"",null,{"$f":"IF(P393=\"\",\"\",INDEX(REFERENTES!$J:$K,MATCH(P393,REFERENTES!$K:$K,0),1))","v":""},null,{"$f":"IF(R393=\"\",\"\",INDEX(REFERENTES!$D:$E,MATCH(R393,REFERENTES!$D:$D,0),2))","v":""},null,null,"",{"$f":"IF(X393=\"\",\"\",INDEX('OTRAS REFERENTES'!$H:$I,MATCH(X393,'OTRAS REFERENTES'!$I:$I,0),1))","v":""},null,null,{"$f":"IF(AA393=\"\",\"\",INDEX('OTRAS REFERENTES'!$K:$L,MATCH(AA393,'OTRAS REFERENTES'!$L:$L,0),1))","v":""},null,null,"",{"$f":"IF(SUMPRODUCT(--EXACT(K393&M393,$AD$2:AD392)),\"\",K393&M393)","v":""},{"$f":"IF(SUMPRODUCT(--EXACT(K393&M393,$AD$2:AD392)),\"\",MAX($AE$3:AE392)+1)","v":""}]
[1,"",392,"","",{"$f":"IF(L394<>\"\",CONCATENATE(DIGITADOR!$B$2,$A$2,DIGITADOR!$M$1,A394),\"\")","v":""},null,null,"",{"$f":"IF(K394=\"\",\"\",INDEX('OTRAS REFERENTES'!$AH$6:$AI$658,MATCH(K394,'OTRAS REFERENTES'!$AH$6:$AH$658,0),2))","v":""},null,{"$f":"IF(J394=\"\",\"\",INDEX(REFERENTES!$T:$W,MATCH(J394,REFERENTES!$V:$V,0),3))","v":""},null,null,"",null,{"$f":"IF(P394=\"\",\"\",INDEX(REFERENTES!$J:$K,MATCH(P394,REFERENTES!$K:$K,0),1))","v":""},null,{"$f":"IF(R394=\"\",\"\",INDEX(REFERENTES!$D:$E,MATCH(R394,REFERENTES!$D:$D,0),2))","v":""},null,null,"",{"$f":"IF(X394=\"\",\"\",INDEX('OTRAS REFERENTES'!$H:$I,MATCH(X394,'OTRAS REFERENTES'!$I:$I,0),1))","v":""},null,null,{"$f":"IF(AA394=\"\",\"\",INDEX('OTRAS REFERENTES'!$K:$L,MATCH(AA394,'OTRAS REFERENTES'!$L:$L,0),1))","v":""},null,null,"",{"$f":"IF(SUMPRODUCT(--EXACT(K394&M394,$AD$2:AD393)),\"\",K394&M394)","v":""},{"$f":"IF(SUMPRODUCT(--EXACT(K394&M394,$AD$2:AD393)),\"\",MAX($AE$3:AE393)+1)","v":""}]
[1,"",393,"","",{"$f":"IF(L395<>\"\",CONCATENATE(DIGITADOR!$B$2,$A$2,DIGITADOR!$M$1,A395),\"\")","v":""},null,null,"",{"$f":"IF(K395=\"\",\"\",INDEX('OTRAS REFERENTES'!$AH$6:$AI$658,MATCH(K395,'OTRAS REFERENTES'!$AH$6:$AH$658,0),2))","v":""},null,{"$f":"IF(J395=\"\",\"\",INDEX(REFERENTES!$T:$W,MATCH(J395,REFERENTES!$V:$V,0),3))","v":""},null,null,"",null,{"$f":"IF(P395=\"\",\"\",INDEX(REFERENTES!$J:$K,MATCH(P395,REFERENTES!$K:$K,0),1))","v":""},null,{"$f":"IF(R395=\"\",\"\",INDEX(REFERENTES!$D:$E,MATCH(R395,REFERENTES!$D:$D,0),2))","v":""},null,null,"",{"$f":"IF(X395=\"\",\"\",INDEX('OTRAS REFERENTES'!$H:$I,MATCH(X395,'OTRAS REFERENTES'!$I:$I,0),1))","v":""},null,null,{"$f":"IF(AA395=\"\",\"\",INDEX('OTRAS REFERENTES'!$K:$L,MATCH(AA395,'OTRAS REFERENTES'!$L:$L,0),1))","v":""},null,null,"",{"$f":"IF(SUMPRODUCT(--EXACT(K395&M395,$AD$2:AD394)),\"\",K395&M395)","v":""},{"$f":"IF(SUMPRODUCT(--EXACT(K395&M395,$AD$2:AD394)),\"\",MAX($AE$3:AE394)+1)","v":""}]
[1,"",394,"","",{"$f":"IF(L396<>\"\",CONCATENATE(DIGITADOR!$B$2,$A$2,DIGITADOR!$M$1,A396),\"\")","v":""},null,null,"",{"$f":"IF(K396=\"\",\"\",INDEX('OTRAS REFERENTES'!$AH$6:$AI$658,MATCH(K396,'OTRAS REFERENTES'!$AH$6:$AH$658,0),2))","v":""},null,{"$f":"IF(J396=\"\",\"\",INDEX(REFERENTES!$T:$W,MATCH(J396,REFERENTES!$V:$V,0),3))","v":""},null,null,"",null,{"$f":"IF(P396=\"\",\"\",INDEX(REFERENTES!$J:$K,MATCH(P396,REFERENTES!$K:$K,0),1))","v":""},null,{"$f":"IF(R396=\"\",\"\",INDEX(REFERENTES!$D:$E,MATCH(R396,REFERENTES!$D:$D,0),2))","v":""},null,null,"",{"$f":"IF(X396=\"\",\"\",INDEX('OTRAS REFERENTES'!$H:$I,MATCH(X396,'OTRAS REFERENTES'!$I:$I,0),1))","v":""},null,null,{"$f":"IF(AA396=\"\",\"\",INDEX('OTRAS REFERENTES'!$K:$L,MATCH(AA396,'OTRAS REFERENTES'!$L:$L,0),1))","v":""},null,null,"",{"$f":"IF(SUMPRODUCT(--EXACT(K396&M396,$AD$2:AD395)),\"\",K396&M396)","v":""},{"$f":"IF(SUMPRODUCT(--EXACT(K396&M396,$AD$2:AD395)),\"\",MAX($AE$3:AE395)+1)","v":""}]
[1,"",395,"","",{"$f":"IF(L397<>\"\",CONCATENATE(DIGITADOR!$B$2,$A$2,DIGITADOR!$M$1,A397),\"\")","v":""},null,null,"",{"$f":"IF(K397=\"\",\"\",INDEX('OTRAS REFERENTES'!$AH$6:$AI$658,MATCH(K397,'OTRAS REFERENTES'!$AH$6:$AH$658,0),2))","v":""},null,{"$f":"IF(J397=\"\",\"\",INDEX(REFERENTES!$T:$W,MATCH(J397,REFERENTES!$V:$V,0),3))","v":""},null,null,"",null,{"$f":"IF(P397=\"\",\"\",INDEX(REFERENTES!$J:$K,MATCH(P397,REFERENTES!$K:$K,0),1))","v":""},null,{"$f":"IF(R397=\"\",\"\",INDEX(REFERENTES!$D:$E,MATCH(R397,REFERENTES!$D:$D,0),2))","v":""},null,null,"",{"$f":"IF(X397=\"\",\"\",INDEX('OTRAS REFERENTES'!$H:$I,MATCH(X397,'OTRAS REFERENTES'!$I:$I,0),1))","v":""},null,null,{"$f":"IF(AA397=\"\",\"\",INDEX('OTRAS REFERENTES'!$K:$L,MATCH(AA397,'OTRAS REFERENTES'!$L:$L,0),1))","v":""},null,null,"",{"$f":"IF(SUMPRODUCT(--EXACT(K397&M397,$AD$2:AD396)),\"\",K397&M397)","v":""},{"$f":"IF(SUMPRODUCT(--EXACT(K397&M397,$AD$2:AD396)),\"\",MAX($AE$3:AE396)+1)","v":""}]
[1,"",396,"","",{"$f":"IF(L398<>\"\",CONCATENATE(DIGITADOR!$B$2,$A$2,DIGITADOR!$M$1,A398),\"\")","v":""},null,null,"",{"$f":"IF(K398=\"\",\"\",INDEX('OTRAS REFERENTES'!$AH$6:$AI$658,MATCH(K398,'OTRAS REFERENTES'!$AH$6:$AH$658,0),2))","v":""},null,{"$f":"IF(J398=\"\",\"\",INDEX(REFERENTES!$T:$W,MATCH(J398,REFERENTES!$V:$V,0),3))","v":""},null,null,"",null,{"$f":"IF(P398=\"\",\"\",INDEX(REFERENTES!$J:$K,MATCH(P398,REFERENTES!$K:$K,0),1))","v":""},null,{"$f":"IF(R398=\"\",\"\",INDEX(REFERENTES!$D:$E,MATCH(R398,REFERENTES!$D:$D,0),2))","v":""},null,null,"",{"$f":"IF(X398=\"\",\"\",INDEX('OTRAS REFERENTES'!$H:$I,MATCH(X398,'OTRAS REFERENTES'!$I:$I,0),1))","v":""},null,null,{"$f":"IF(AA398=\"\",\"\",INDEX('OTRAS REFERENTES'!$K:$L,MATCH(AA398,'OTRAS REFERENTES'!$L:$L,0),1))","v":""},null,null,"",{"$f":"IF(SUMPRODUCT(--EXACT(K398&M398,$AD$2:AD397)),\"\",K398&M398)","v":""},{"$f":"IF(SUMPRODUCT(--EXACT(K398&M398,$AD$2:AD397)),\"\",MAX($AE$3:AE397)+1)","v":""}]
[1,"",397,"","",{"$f":"IF(L399<>\"\",CONCATENATE(DIGITADOR!$B$2,$A$2,DIGITADOR!$M$1,A399),\"\")","v":""},null,null,"",{"$f":"IF(K399=\"\",\"\",INDEX('OTRAS REFERENTES'!$AH$6:$AI$658,MATCH(K399,'OTRAS REFERENTES'!$AH$6:$AH$658,0),2))","v":""},null,{"$f":"IF(J399=\"\",\"\",INDEX(REFERENTES!$T:$W,MATCH(J399,REFERENTES!$V:$V,0),3))","v":""},null,null,"",null,{"$f":"IF(P399=\"\",\"\",INDEX(REFERENTES!$J:$K,MATCH(P399,REFERENTES!$K:$K,0),1))","v":""},null,{"$f":"IF(R399=\"\",\"\",INDEX(REFERENTES!$D:$E,MATCH(R399,REFERENTES!$D:$D,0),2))","v":""},null,null,"",{"$f":"IF(X399=\"\",\"\",INDEX('OTRAS REFERENTES'!$H:$I,MATCH(X399,'OTRAS REFERENTES'!$I:$I,0),1))","v":""},null,null,{"$f":"IF(AA399=\"\",\"\",INDEX('OTRAS REFERENTES'!$K:$L,MATCH(AA399,'OTRAS REFERENTES'!$L:$L,0),1))","v":""},null,null,"",{"$f":"IF(SUMPRODUCT(--EXACT(K399&M399,$AD$2:AD398)),\"\",K399&M399)","v":""},{"$f":"IF(SUMPRODUCT(--EXACT(K399&M399,$AD$2:AD398)),\"\",MAX($AE$3:AE398)+1)","v":""}]
[1,"",398,"","",{"$f":"IF(L400<>\"\",CONCATENATE(DIGITADOR!$B$2,$A$2,DIGITADOR!$M$1,A400),\"\")","v":""},null,null,"",{"$f":"IF(K400=\"\",\"\",INDEX('OTRAS REFERENTES'!$AH$6:$AI$658,MATCH(K400,'OTRAS REFERENTES'!$AH$6:$AH$658,0),2))","v":""},null,{"$f":"IF(J400=\"\",\"\",INDEX(REFERENTES!$T:$W,MATCH(J400,REFERENTES!$V:$V,0),3))","v":""},null,null,"",null,{"$f":"IF(P400=\"\",\"\",INDEX(REFERENTES!$J:$K,MATCH(P400,REFERENTES!$K:$K,0),1))","v":""},null,{"$f":"IF(R400=\"\",\"\",INDEX(REFERENTES!$D:$E,MATCH(R400,REFERENTES!$D:$D,0),2))","v":""},null,null,"",{"$f":"IF(X400=\"\",\"\",INDEX('OTRAS REFERENTES'!$H:$I,MATCH(X400,'OTRAS REFERENTES'!$I:$I,0),1))","v":""},null,null,{"$f":"IF(AA400=\"\",\"\",INDEX('OTRAS REFERENTES'!$K:$L,MATCH(AA400,'OTRAS REFERENTES'!$L:$L,0),1))","v":""},null,null,"",{"$f":"IF(SUMPRODUCT(--EXACT(K400&M400,$AD$2:AD399)),\"\",K400&M400)","v":""},{"$f":"IF(SUMPRODUCT(--EXACT(K400&M400,$AD$2:AD399)),\"\",MAX($AE$3:AE399)+1)","v":""}]
[1,"",399,"","",{"$f":"IF(L401<>\"\",CONCATENATE(DIGITADOR!$B$2,$A$2,DIGITADOR!$M$1,A401),\"\")","v":""},null,null,"",{"$f":"IF(K401=\"\",\"\",INDEX('OTRAS REFERENTES'!$AH$6:$AI$658,MATCH(K401,'OTRAS REFERENTES'!$AH$6:$AH$658,0),2))","v":""},null,{"$f":"IF(J401=\"\",\"\",INDEX(REFERENTES!$T:$W,MATCH(J401,REFERENTES!$V:$V,0),3))","v":""},null,null,"",null,{"$f":"IF(P401=\"\",\"\",INDEX(REFERENTES!$J:$K,MATCH(P401,REFERENTES!$K:$K,0),1))","v":""},null,{"$f":"IF(R401=\"\",\"\",INDEX(REFERENTES!$D:$E,MATCH(R401,REFERENTES!$D:$D,0),2))","v":""},null,null,"",{"$f":"IF(X401=\"\",\"\",INDEX('OTRAS REFERENTES'!$H:$I,MATCH(X401,'OTRAS REFERENTES'!$I:$I,0),1))","v":""},null,null,{"$f":"IF(AA401=\"\",\"\",INDEX('OTRAS REFERENTES'!$K:$L,MATCH(AA401,'OTRAS REFERENTES'!$L:$L,0),1))","v":""},null,null,"",{"$f":"IF(SUMPRODUCT(--EXACT(K401&M401,$AD$2:AD400)),\"\",K401&M401)","v":""},{"$f":"IF(SUMPRODUCT(--EXACT(K401&M401,$AD$2:AD400)),\"\",MAX($AE$3:AE400)+1)","v":""}]
[1,"",400,"","",{"$f":"IF(L402<>\"\",CONCATENATE(DIGITADOR!$B$2,$A$2,DIGITADOR!$M$1,A402),\"\")","v":""},null,null,"",{"$f":"IF(K402=\"\",\"\",INDEX('OTRAS REFERENTES'!$AH$6:$AI$658,MATCH(K402,'OTRAS REFERENTES'!$AH$6:$AH$658,0),2))","v":""},null,{"$f":"IF(J402=\"\",\"\",INDEX(REFERENTES!$T:$W,MATCH(J402,REFERENTES!$V:$V,0),3))","v":""},null,null,"",null,{"$f":"IF(P402=\"\",\"\",INDEX(REFERENTES!$J:$K,MATCH(P402,REFERENTES!$K:$K,0),1))","v":""},null,{"$f":"IF(R402=\"\",\"\",INDEX(REFERENTES!$D:$E,MATCH(R402,REFERENTES!$D:$D,0),2))","v":""},null,null,"",{"$f":"IF(X402=\"\",\"\",INDEX('OTRAS REFERENTES'!$H:$I,MATCH(X402,'OTRAS REFERENTES'!$I:$I,0),1))","v":""},null,null,{"$f":"IF(AA402=\"\",\"\",INDEX('OTRAS REFERENTES'!$K:$L,MATCH(AA402,'OTRAS REFERENTES'!$L:$L,0),1))","v":""},null,null,"",{"$f":"IF(SUMPRODUCT(--EXACT(K402&M402,$AD$2:AD401)),\"\",K402&M402)","v":""},{"$f":"IF(SUMPRODUCT(--EXACT(K402&M402,$AD$2:AD401)),\"\",MAX($AE$3:AE401)+1)","v":""}]
[1,"",401,"","",{"$f":"IF(L403<>\"\",CONCATENATE(DIGITADOR!$B$2,$A$2,DIGITADOR!$M$1,A403),\"\")","v":""},null,null,"",{"$f":"IF(K403=\"\",\"\",INDEX('OTRAS REFERENTES'!$AH$6:$AI$658,MATCH(K403,'OTRAS REFERENTES'!$AH$6:$AH$658,0),2))","v":""},null,{"$f":"IF(J403=\"\",\"\",INDEX(REFERENTES!$T:$W,MATCH(J403,REFERENTES!$V:$V,0),3))","v":""},null,null,"",null,{"$f":"IF(P403=\"\",\"\",INDEX(REFERENTES!$J:$K,MATCH(P403,REFERENTES!$K:$K,0),1))","v":""},null,{"$f":"IF(R403=\"\",\"\",INDEX(REFERENTES!$D:$E,MATCH(R403,REFERENTES!$D:$D,0),2))","v":""},null,null,"",{"$f":"IF(X403=\"\",\"\",INDEX('OTRAS REFERENTES'!$H:$I,MATCH(X403,'OTRAS REFERENTES'!$I:$I,0),1))","v":""},null,null,{"$f":"IF(AA403=\"\",\"\",INDEX('OTRAS REFERENTES'!$K:$L,MATCH(AA403,'OTRAS REFERENTES'!$L:$L,0),1))","v":""},null,null,"",{"$f":"IF(SUMPRODUCT(--EXACT(K403&M403,$AD$2:AD402)),\"\",K403&M403)","v":""},{"$f":"IF(SUMPRODUCT(--EXACT(K403&M403,$AD$2:AD402)),\"\",MAX($AE$3:AE402)+1)","v":""}]
[1,"",402,"","",{"$f":"IF(L404<>\"\",CONCATENATE(DIGITADOR!$B$2,$A$2,DIGITADOR!$M$1,A404),\"\")","v":""},null,null,"",{"$f":"IF(K404=\"\",\"\",INDEX('OTRAS REFERENTES'!$AH$6:$AI$658,MATCH(K404,'OTRAS REFERENTES'!$AH$6:$AH$658,0),2))","v":""},null,{"$f":"IF(J404=\"\",\"\",INDEX(REFERENTES!$T:$W,MATCH(J404,REFERENTES!$V:$V,0),3))","v":""},null,null,"",null,{"$f":"IF(P404=\"\",\"\",INDEX(REFERENTES!$J:$K,MATCH(P404,REFERENTES!$K:$K,0),1))","v":""},null,{"$f":"IF(R404=\"\",\"\",INDEX(REFERENTES!$D:$E,MATCH(R404,REFERENTES!$D:$D,0),2))","v":""},null,null,"",{"$f":"IF(X404=\"\",\"\",INDEX('OTRAS REFERENTES'!$H:$I,MATCH(X404,'OTRAS REFERENTES'!$I:$I,0),1))","v":""},null,null,{"$f":"IF(AA404=\"\",\"\",INDEX('OTRAS REFERENTES'!$K:$L,MATCH(AA404,'OTRAS REFERENTES'!$L:$L,0),1))","v":""},null,null,"",{"$f":"IF(SUMPRODUCT(--EXACT(K404&M404,$AD$2:AD403)),\"\",K404&M404)","v":""},{"$f":"IF(SUMPRODUCT(--EXACT(K404&M404,$AD$2:AD403)),\"\",MAX($AE$3:AE403)+1)","v":""}]
[1,"",403,"","",{"$f":"IF(L405<>\"\",CONCATENATE(DIGITADOR!$B$2,$A$2,DIGITADOR!$M$1,A405),\"\")","v":""},null,null,"",{"$f":"IF(K405=\"\",\"\",INDEX('OTRAS REFERENTES'!$AH$6:$AI$658,MATCH(K405,'OTRAS REFERENTES'!$AH$6:$AH$658,0),2))","v":""},null,{"$f":"IF(J405=\"\",\"\",INDEX(REFERENTES!$T:$W,MATCH(J405,REFERENTES!$V:$V,0),3))","v":""},null,null,"",null,{"$f":"IF(P405=\"\",\"\",INDEX(REFERENTES!$J:$K,MATCH(P405,REFERENTES!$K:$K,0),1))","v":""},null,{"$f":"IF(R405=\"\",\"\",INDEX(REFERENTES!$D:$E,MATCH(R405,REFERENTES!$D:$D,0),2))","v":""},null,null,"",{"$f":"IF(X405=\"\",\"\",INDEX('OTRAS REFERENTES'!$H:$I,MATCH(X405,'OTRAS REFERENTES'!$I:$I,0),1))","v":""},null,null,{"$f":"IF(AA405=\"\",\"\",INDEX('OTRAS REFERENTES'!$K:$L,MATCH(AA405,'OTRAS REFERENTES'!$L:$L,0),1))","v":""},null,null,"",{"$f":"IF(SUMPRODUCT(--EXACT(K405&M405,$AD$2:AD404)),\"\",K405&M405)","v":""},{"$f":"IF(SUMPRODUCT(--EXACT(K405&M405,$AD$2:AD404)),\"\",MAX($AE$3:AE404)+1)","v":""}]
[1,"",404,"","",{"$f":"IF(L406<>\"\",CONCATENATE(DIGITADOR!$B$2,$A$2,DIGITADOR!$M$1,A406),\"\")","v":""},null,null,"",{"$f":"IF(K406=\"\",\"\",INDEX('OTRAS REFERENTES'!$AH$6:$AI$658,MATCH(K406,'OTRAS REFERENTES'!$AH$6:$AH$658,0),2))","v":""},null,{"$f":"IF(J406=\"\",\"\",INDEX(REFERENTES!$T:$W,MATCH(J406,REFERENTES!$V:$V,0),3))","v":""},null,null,"",null,{"$f":"IF(P406=\"\",\"\",INDEX(REFERENTES!$J:$K,MATCH(P406,REFERENTES!$K:$K,0),1))","v":""},null,{"$f":"IF(R406=\"\",\"\",INDEX(REFERENTES!$D:$E,MATCH(R406,REFERENTES!$D:$D,0),2))","v":""},null,null,"",{"$f":"IF(X406=\"\",\"\",INDEX('OTRAS REFERENTES'!$H:$I,MATCH(X406,'OTRAS REFERENTES'!$I:$I,0),1))","v":""},null,null,{"$f":"IF(AA406=\"\",\"\",INDEX('OTRAS REFERENTES'!$K:$L,MATCH(AA406,'OTRAS REFERENTES'!$L:$L,0),1))","v":""},null,null,"",{"$f":"IF(SUMPRODUCT(--EXACT(K406&M406,$AD$2:AD405)),\"\",K406&M406)","v":""},{"$f":"IF(SUMPRODUCT(--EXACT(K406&M406,$AD$2:AD405)),\"\",MAX($AE$3:AE405)+1)","v":""}]
[1,"",405,"","",{"$f":"IF(L407<>\"\",CONCATENATE(DIGITADOR!$B$2,$A$2,DIGITADOR!$M$1,A407),\"\")","v":""},null,null,"",{"$f":"IF(K407=\"\",\"\",INDEX('OTRAS REFERENTES'!$AH$6:$AI$658,MATCH(K407,'OTRAS REFERENTES'!$AH$6:$AH$658,0),2))","v":""},null,{"$f":"IF(J407=\"\",\"\",INDEX(REFERENTES!$T:$W,MATCH(J407,REFERENTES!$V:$V,0),3))","v":""},null,null,"",null,{"$f":"IF(P407=\"\",\"\",INDEX(REFERENTES!$J:$K,MATCH(P407,REFERENTES!$K:$K,0),1))","v":""},null,{"$f":"IF(R407=\"\",\"\",INDEX(REFERENTES!$D:$E,MATCH(R407,REFERENTES!$D:$D,0),2))","v":""},null,null,"",{"$f":"IF(X407=\"\",\"\",INDEX('OTRAS REFERENTES'!$H:$I,MATCH(X407,'OTRAS REFERENTES'!$I:$I,0),1))","v":""},null,null,{"$f":"IF(AA407=\"\",\"\",INDEX('OTRAS REFERENTES'!$K:$L,MATCH(AA407,'OTRAS REFERENTES'!$L:$L,0),1))","v":""},null,null,"",{"$f":"IF(SUMPRODUCT(--EXACT(K407&M407,$AD$2:AD406)),\"\",K407&M407)","v":""},{"$f":"IF(SUMPRODUCT(--EXACT(K407&M407,$AD$2:AD406)),\"\",MAX($AE$3:AE406)+1)","v":""}]
[1,"",406,"","",{"$f":"IF(L408<>\"\",CONCATENATE(DIGITADOR!$B$2,$A$2,DIGITADOR!$M$1,A408),\"\")","v":""},null,null,"",{"$f":"IF(K408=\"\",\"\",INDEX('OTRAS REFERENTES'!$AH$6:$AI$658,MATCH(K408,'OTRAS REFERENTES'!$AH$6:$AH$658,0),2))","v":""},null,{"$f":"IF(J408=\"\",\"\",INDEX(REFERENTES!$T:$W,MATCH(J408,REFERENTES!$V:$V,0),3))","v":""},null,null,"",null,{"$f":"IF(P408=\"\",\"\",INDEX(REFERENTES!$J:$K,MATCH(P408,REFERENTES!$K:$K,0),1))","v":""},null,{"$f":"IF(R408=\"\",\"\",INDEX(REFERENTES!$D:$E,MATCH(R408,REFERENTES!$D:$D,0),2))","v":""},null,null,"",{"$f":"IF(X408=\"\",\"\",INDEX('OTRAS REFERENTES'!$H:$I,MATCH(X408,'OTRAS REFERENTES'!$I:$I,0),1))","v":""},null,null,{"$f":"IF(AA408=\"\",\"\",INDEX('OTRAS REFERENTES'!$K:$L,MATCH(AA408,'OTRAS REFERENTES'!$L:$L,0),1))","v":""},null,null,"",{"$f":"IF(SUMPRODUCT(--EXACT(K408&M408,$AD$2:AD407)),\"\",K408&M408)","v":""},{"$f":"IF(SUMPRODUCT(--EXACT(K408&M408,$AD$2:AD407)),\"\",MAX($AE$3:AE407)+1)","v":""}]
[1,"",407,"","",{"$f":"IF(L409<>\"\",CONCATENATE(DIGITADOR!$B$2,$A$2,DIGITADOR!$M$1,A409),\"\")","v":""},null,null,"",{"$f":"IF(K409=\"\",\"\",INDEX('OTRAS REFERENTES'!$AH$6:$AI$658,MATCH(K409,'OTRAS REFERENTES'!$AH$6:$AH$658,0),2))","v":""},null,{"$f":"IF(J409=\"\",\"\",INDEX(REFERENTES!$T:$W,MATCH(J409,REFERENTES!$V:$V,0),3))","v":""},null,null,"",null,{"$f":"IF(P409=\"\",\"\",INDEX(REFERENTES!$J:$K,MATCH(P409,REFERENTES!$K:$K,0),1))","v":""},null,{"$f":"IF(R409=\"\",\"\",INDEX(REFERENTES!$D:$E,MATCH(R409,REFERENTES!$D:$D,0),2))","v":""},null,null,"",{"$f":"IF(X409=\"\",\"\",INDEX('OTRAS REFERENTES'!$H:$I,MATCH(X409,'OTRAS REFERENTES'!$I:$I,0),1))","v":""},null,null,{"$f":"IF(AA409=\"\",\"\",INDEX('OTRAS REFERENTES'!$K:$L,MATCH(AA409,'OTRAS REFERENTES'!$L:$L,0),1))","v":""},null,null,"",{"$f":"IF(SUMPRODUCT(--EXACT(K409&M409,$AD$2:AD408)),\"\",K409&M409)","v":""},{"$f":"IF(SUMPRODUCT(--EXACT(K409&M409,$AD$2:AD408)),\"\",MAX($AE$3:AE408)+1)","v":""}]
[1,"",408,"","",{"$f":"IF(L410<>\"\",CONCATENATE(DIGITADOR!$B$2,$A$2,DIGITADOR!$M$1,A410),\"\")","v":""},null,null,"",{"$f":"IF(K410=\"\",\"\",INDEX('OTRAS REFERENTES'!$AH$6:$AI$658,MATCH(K410,'OTRAS REFERENTES'!$AH$6:$AH$658,0),2))","v":""},null,{"$f":"IF(J410=\"\",\"\",INDEX(REFERENTES!$T:$W,MATCH(J410,REFERENTES!$V:$V,0),3))","v":""},null,null,"",null,{"$f":"IF(P410=\"\",\"\",INDEX(REFERENTES!$J:$K,MATCH(P410,REFERENTES!$K:$K,0),1))","v":""},null,{"$f":"IF(R410=\"\",\"\",INDEX(REFERENTES!$D:$E,MATCH(R410,REFERENTES!$D:$D,0),2))","v":""},null,null,"",{"$f":"IF(X410=\"\",\"\",INDEX('OTRAS REFERENTES'!$H:$I,MATCH(X410,'OTRAS REFERENTES'!$I:$I,0),1))","v":""},null,null,{"$f":"IF(AA410=\"\",\"\",INDEX('OTRAS REFERENTES'!$K:$L,MATCH(AA410,'OTRAS REFERENTES'!$L:$L,0),1))","v":""},null,null,"",{"$f":"IF(SUMPRODUCT(--EXACT(K410&M410,$AD$2:AD409)),\"\",K410&M410)","v":""},{"$f":"IF(SUMPRODUCT(--EXACT(K410&M410,$AD$2:AD409)),\"\",MAX($AE$3:AE409)+1)","v":""}]
[1,"",409,"","",{"$f":"IF(L411<>\"\",CONCATENATE(DIGITADOR!$B$2,$A$2,DIGITADOR!$M$1,A411),\"\")","v":""},null,null,"",{"$f":"IF(K411=\"\",\"\",INDEX('OTRAS REFERENTES'!$AH$6:$AI$658,MATCH(K411,'OTRAS REFERENTES'!$AH$6:$AH$658,0),2))","v":""},null,{"$f":"IF(J411=\"\",\"\",INDEX(REFERENTES!$T:$W,MATCH(J411,REFERENTES!$V:$V,0),3))","v":""},null,null,"",null,{"$f":"IF(P411=\"\",\"\",INDEX(REFERENTES!$J:$K,MATCH(P411,REFERENTES!$K:$K,0),1))","v":""},null,{"$f":"IF(R411=\"\",\"\",INDEX(REFERENTES!$D:$E,MATCH(R411,REFERENTES!$D:$D,0),2))","v":""},null,null,"",{"$f":"IF(X411=\"\",\"\",INDEX('OTRAS REFERENTES'!$H:$I,MATCH(X411,'OTRAS REFERENTES'!$I:$I,0),1))","v":""},null,null,{"$f":"IF(AA411=\"\",\"\",INDEX('OTRAS REFERENTES'!$K:$L,MATCH(AA411,'OTRAS REFERENTES'!$L:$L,0),1))","v":""},null,null,"",{"$f":"IF(SUMPRODUCT(--EXACT(K411&M411,$AD$2:AD410)),\"\",K411&M411)","v":""},{"$f":"IF(SUMPRODUCT(--EXACT(K411&M411,$AD$2:AD410)),\"\",MAX($AE$3:AE410)+1)","v":""}]
[1,"",410,{"$f":"IF(L412=\"\",\"\",CONCATENATE(C412,F412))","v":""},"",{"$f":"IF(L412<>\"\",CONCATENATE(DIGITADOR!$B$2,$A$2,DIGITADOR!$M$1,A412),\"\")","v":""},null,null,"",{"$f":"IF(K412=\"\",\"\",INDEX('OTRAS REFERENTES'!$AH$6:$AI$658,MATCH(K412,'OTRAS REFERENTES'!$AH$6:$AH$658,0),2))","v":""},null,{"$f":"IF(J412=\"\",\"\",INDEX(REFERENTES!$T:$W,MATCH(J412,REFERENTES!$V:$V,0),3))","v":""},null,null,"",null,{"$f":"IF(P412=\"\",\"\",INDEX(REFERENTES!$J:$K,MATCH(P412,REFERENTES!$K:$K,0),1))","v":""},null,{"$f":"IF(R412=\"\",\"\",INDEX(REFERENTES!$D:$E,MATCH(R412,REFERENTES!$D:$D,0),2))","v":""},null,null,"",{"$f":"IF(X412=\"\",\"\",INDEX('OTRAS REFERENTES'!$H:$I,MATCH(X412,'OTRAS REFERENTES'!$I:$I,0),1))","v":""},null,null,{"$f":"IF(AA412=\"\",\"\",INDEX('OTRAS REFERENTES'!$K:$L,MATCH(AA412,'OTRAS REFERENTES'!$L:$L,0),1))","v":""},null,null,"",{"$f":"IF(SUMPRODUCT(--EXACT(K412&M412,$AD$2:AD411)),\"\",K412&M412)","v":""},{"$f":"IF(SUMPRODUCT(--EXACT(K412&M412,$AD$2:AD411)),\"\",MAX($AE$3:AE411)+1)","v":""}]
[1,"",411,"","",{"$f":"IF(L413<>\"\",CONCATENATE(DIGITADOR!$B$2,$A$2,DIGITADOR!$M$1,A413),\"\")","v":""},null,null,"",{"$f":"IF(K413=\"\",\"\",INDEX('OTRAS REFERENTES'!$AH$6:$AI$658,MATCH(K413,'OTRAS REFERENTES'!$AH$6:$AH$658,0),2))","v":""},null,{"$f":"IF(J413=\"\",\"\",INDEX(REFERENTES!$T:$W,MATCH(J413,REFERENTES!$V:$V,0),3))","v":""},null,null,"",null,{"$f":"IF(P413=\"\",\"\",INDEX(REFERENTES!$J:$K,MATCH(P413,REFERENTES!$K:$K,0),1))","v":""},null,{"$f":"IF(R413=\"\",\"\",INDEX(REFERENTES!$D:$E,MATCH(R413,REFERENTES!$D:$D,0),2))","v":""},null,null,"",{"$f":"IF(X413=\"\",\"\",INDEX('OTRAS REFERENTES'!$H:$I,MATCH(X413,'OTRAS REFERENTES'!$I:$I,0),1))","v":""},null,null,{"$f":"IF(AA413=\"\",\"\",INDEX('OTRAS REFERENTES'!$K:$L,MATCH(AA413,'OTRAS REFERENTES'!$L:$L,0),1))","v":""},null,null,"",{"$f":"IF(SUMPRODUCT(--EXACT(K413&M413,$AD$2:AD412)),\"\",K413&M413)","v":""},{"$f":"IF(SUMPRODUCT(--EXACT(K413&M413,$AD$2:AD412)),\"\",MAX($AE$3:AE412)+1)","v":""}]
[1,"",412,"","",{"$f":"IF(L414<>\"\",CONCATENATE(DIGITADOR!$B$2,$A$2,DIGITADOR!$M$1,A414),\"\")","v":""},null,null,"",{"$f":"IF(K414=\"\",\"\",INDEX('OTRAS REFERENTES'!$AH$6:$AI$658,MATCH(K414,'OTRAS REFERENTES'!$AH$6:$AH$658,0),2))","v":""},null,{"$f":"IF(J414=\"\",\"\",INDEX(REFERENTES!$T:$W,MATCH(J414,REFERENTES!$V:$V,0),3))","v":""},null,null,"",null,{"$f":"IF(P414=\"\",\"\",INDEX(REFERENTES!$J:$K,MATCH(P414,REFERENTES!$K:$K,0),1))","v":""},null,{"$f":"IF(R414=\"\",\"\",INDEX(REFERENTES!$D:$E,MATCH(R414,REFERENTES!$D:$D,0),2))","v":""},null,null,"",{"$f":"IF(X414=\"\",\"\",INDEX('OTRAS REFERENTES'!$H:$I,MATCH(X414,'OTRAS REFERENTES'!$I:$I,0),1))","v":""},null,null,{"$f":"IF(AA414=\"\",\"\",INDEX('OTRAS REFERENTES'!$K:$L,MATCH(AA414,'OTRAS REFERENTES'!$L:$L,0),1))","v":""},null,null,"",{"$f":"IF(SUMPRODUCT(--EXACT(K414&M414,$AD$2:AD413)),\"\",K414&M414)","v":""},{"$f":"IF(SUMPRODUCT(--EXACT(K414&M414,$AD$2:AD413)),\"\",MAX($AE$3:AE413)+1)","v":""}]
[1,"",413,"","",{"$f":"IF(L415<>\"\",CONCATENATE(DIGITADOR!$B$2,$A$2,DIGITADOR!$M$1,A415),\"\")","v":""},null,null,"",{"$f":"IF(K415=\"\",\"\",INDEX('OTRAS REFERENTES'!$AH$6:$AI$658,MATCH(K415,'OTRAS REFERENTES'!$AH$6:$AH$658,0),2))","v":""},null,{"$f":"IF(J415=\"\",\"\",INDEX(REFERENTES!$T:$W,MATCH(J415,REFERENTES!$V:$V,0),3))","v":""},null,null,"",null,{"$f":"IF(P415=\"\",\"\",INDEX(REFERENTES!$J:$K,MATCH(P415,REFERENTES!$K:$K,0),1))","v":""},null,{"$f":"IF(R415=\"\",\"\",INDEX(REFERENTES!$D:$E,MATCH(R415,REFERENTES!$D:$D,0),2))","v":""},null,null,"",{"$f":"IF(X415=\"\",\"\",INDEX('OTRAS REFERENTES'!$H:$I,MATCH(X415,'OTRAS REFERENTES'!$I:$I,0),1))","v":""},null,null,{"$f":"IF(AA415=\"\",\"\",INDEX('OTRAS REFERENTES'!$K:$L,MATCH(AA415,'OTRAS REFERENTES'!$L:$L,0),1))","v":""},null,null,"",{"$f":"IF(SUMPRODUCT(--EXACT(K415&M415,$AD$2:AD414)),\"\",K415&M415)","v":""},{"$f":"IF(SUMPRODUCT(--EXACT(K415&M415,$AD$2:AD414)),\"\",MAX($AE$3:AE414)+1)","v":""}]
[1,"",414,"","",{"$f":"IF(L416<>\"\",CONCATENATE(DIGITADOR!$B$2,$A$2,DIGITADOR!$M$1,A416),\"\")","v":""},null,null,"",{"$f":"IF(K416=\"\",\"\",INDEX('OTRAS REFERENTES'!$AH$6:$AI$658,MATCH(K416,'OTRAS REFERENTES'!$AH$6:$AH$658,0),2))","v":""},null,{"$f":"IF(J416=\"\",\"\",INDEX(REFERENTES!$T:$W,MATCH(J416,REFERENTES!$V:$V,0),3))","v":""},null,null,"",null,{"$f":"IF(P416=\"\",\"\",INDEX(REFERENTES!$J:$K,MATCH(P416,REFERENTES!$K:$K,0),1))","v":""},null,{"$f":"IF(R416=\"\",\"\",INDEX(REFERENTES!$D:$E,MATCH(R416,REFERENTES!$D:$D,0),2))","v":""},null,null,"",{"$f":"IF(X416=\"\",\"\",INDEX('OTRAS REFERENTES'!$H:$I,MATCH(X416,'OTRAS REFERENTES'!$I:$I,0),1))","v":""},null,null,{"$f":"IF(AA416=\"\",\"\",INDEX('OTRAS REFERENTES'!$K:$L,MATCH(AA416,'OTRAS REFERENTES'!$L:$L,0),1))","v":""},null,null,"",{"$f":"IF(SUMPRODUCT(--EXACT(K416&M416,$AD$2:AD415)),\"\",K416&M416)","v":""},{"$f":"IF(SUMPRODUCT(--EXACT(K416&M416,$AD$2:AD415)),\"\",MAX($AE$3:AE415)+1)","v":""}]
[1,"",415,"","",{"$f":"IF(L417<>\"\",CONCATENATE(DIGITADOR!$B$2,$A$2,DIGITADOR!$M$1,A417),\"\")","v":""},null,null,"",{"$f":"IF(K417=\"\",\"\",INDEX('OTRAS REFERENTES'!$AH$6:$AI$658,MATCH(K417,'OTRAS REFERENTES'!$AH$6:$AH$658,0),2))","v":""},null,{"$f":"IF(J417=\"\",\"\",INDEX(REFERENTES!$T:$W,MATCH(J417,REFERENTES!$V:$V,0),3))","v":""},null,null,"",null,{"$f":"IF(P417=\"\",\"\",INDEX(REFERENTES!$J:$K,MATCH(P417,REFERENTES!$K:$K,0),1))","v":""},null,{"$f":"IF(R417=\"\",\"\",INDEX(REFERENTES!$D:$E,MATCH(R417,REFERENTES!$D:$D,0),2))","v":""},null,null,"",{"$f":"IF(X417=\"\",\"\",INDEX('OTRAS REFERENTES'!$H:$I,MATCH(X417,'OTRAS REFERENTES'!$I:$I,0),1))","v":""},null,null,{"$f":"IF(AA417=\"\",\"\",INDEX('OTRAS REFERENTES'!$K:$L,MATCH(AA417,'OTRAS REFERENTES'!$L:$L,0),1))","v":""},null,null,"",{"$f":"IF(SUMPRODUCT(--EXACT(K417&M417,$AD$2:AD416)),\"\",K417&M417)","v":""},{"$f":"IF(SUMPRODUCT(--EXACT(K417&M417,$AD$2:AD416)),\"\",MAX($AE$3:AE416)+1)","v":""}]
[1,"",416,"","",{"$f":"IF(L418<>\"\",CONCATENATE(DIGITADOR!$B$2,$A$2,DIGITADOR!$M$1,A418),\"\")","v":""},null,null,"",{"$f":"IF(K418=\"\",\"\",INDEX('OTRAS REFERENTES'!$AH$6:$AI$658,MATCH(K418,'OTRAS REFERENTES'!$AH$6:$AH$658,0),2))","v":""},null,{"$f":"IF(J418=\"\",\"\",INDEX(REFERENTES!$T:$W,MATCH(J418,REFERENTES!$V:$V,0),3))","v":""},null,null,"",null,{"$f":"IF(P418=\"\",\"\",INDEX(REFERENTES!$J:$K,MATCH(P418,REFERENTES!$K:$K,0),1))","v":""},null,{"$f":"IF(R418=\"\",\"\",INDEX(REFERENTES!$D:$E,MATCH(R418,REFERENTES!$D:$D,0),2))","v":""},null,null,"",{"$f":"IF(X418=\"\",\"\",INDEX('OTRAS REFERENTES'!$H:$I,MATCH(X418,'OTRAS REFERENTES'!$I:$I,0),1))","v":""},null,null,{"$f":"IF(AA418=\"\",\"\",INDEX('OTRAS REFERENTES'!$K:$L,MATCH(AA418,'OTRAS REFERENTES'!$L:$L,0),1))","v":""},null,null,"",{"$f":"IF(SUMPRODUCT(--EXACT(K418&M418,$AD$2:AD417)),\"\",K418&M418)","v":""},{"$f":"IF(SUMPRODUCT(--EXACT(K418&M418,$AD$2:AD417)),\"\",MAX($AE$3:AE417)+1)","v":""}]
[1,"",417,"","",{"$f":"IF(L419<>\"\",CONCATENATE(DIGITADOR!$B$2,$A$2,DIGITADOR!$M$1,A419),\"\")","v":""},null,null,"",{"$f":"IF(K419=\"\",\"\",INDEX('OTRAS REFERENTES'!$AH$6:$AI$658,MATCH(K419,'OTRAS REFERENTES'!$AH$6:$AH$658,0),2))","v":""},null,{"$f":"IF(J419=\"\",\"\",INDEX(REFERENTES!$T:$W,MATCH(J419,REFERENTES!$V:$V,0),3))","v":""},null,null,"",null,{"$f":"IF(P419=\"\",\"\",INDEX(REFERENTES!$J:$K,MATCH(P419,REFERENTES!$K:$K,0),1))","v":""},null,{"$f":"IF(R419=\"\",\"\",INDEX(REFERENTES!$D:$E,MATCH(R419,REFERENTES!$D:$D,0),2))","v":""},null,null,"",{"$f":"IF(X419=\"\",\"\",INDEX('OTRAS REFERENTES'!$H:$I,MATCH(X419,'OTRAS REFERENTES'!$I:$I,0),1))","v":""},null,null,{"$f":"IF(AA419=\"\",\"\",INDEX('OTRAS REFERENTES'!$K:$L,MATCH(AA419,'OTRAS REFERENTES'!$L:$L,0),1))","v":""},null,null,"",{"$f":"IF(SUMPRODUCT(--EXACT(K419&M419,$AD$2:AD418)),\"\",K419&M419)","v":""},{"$f":"IF(SUMPRODUCT(--EXACT(K419&M419,$AD$2:AD418)),\"\",MAX($AE$3:AE418)+1)","v":""}]
[1,"",418,"","",{"$f":"IF(L420<>\"\",CONCATENATE(DIGITADOR!$B$2,$A$2,DIGITADOR!$M$1,A420),\"\")","v":""},null,null,"",{"$f":"IF(K420=\"\",\"\",INDEX('OTRAS REFERENTES'!$AH$6:$AI$658,MATCH(K420,'OTRAS REFERENTES'!$AH$6:$AH$658,0),2))","v":""},null,{"$f":"IF(J420=\"\",\"\",INDEX(REFERENTES!$T:$W,MATCH(J420,REFERENTES!$V:$V,0),3))","v":""},null,null,"",null,{"$f":"IF(P420=\"\",\"\",INDEX(REFERENTES!$J:$K,MATCH(P420,REFERENTES!$K:$K,0),1))","v":""},null,{"$f":"IF(R420=\"\",\"\",INDEX(REFERENTES!$D:$E,MATCH(R420,REFERENTES!$D:$D,0),2))","v":""},null,null,"",{"$f":"IF(X420=\"\",\"\",INDEX('OTRAS REFERENTES'!$H:$I,MATCH(X420,'OTRAS REFERENTES'!$I:$I,0),1))","v":""},null,null,{"$f":"IF(AA420=\"\",\"\",INDEX('OTRAS REFERENTES'!$K:$L,MATCH(AA420,'OTRAS REFERENTES'!$L:$L,0),1))","v":""},null,null,"",{"$f":"IF(SUMPRODUCT(--EXACT(K420&M420,$AD$2:AD419)),\"\",K420&M420)","v":""},{"$f":"IF(SUMPRODUCT(--EXACT(K420&M420,$AD$2:AD419)),\"\",MAX($AE$3:AE419)+1)","v":""}]
[1,"",419,"","",{"$f":"IF(L421<>\"\",CONCATENATE(DIGITADOR!$B$2,$A$2,DIGITADOR!$M$1,A421),\"\")","v":""},null,null,"",{"$f":"IF(K421=\"\",\"\",INDEX('OTRAS REFERENTES'!$AH$6:$AI$658,MATCH(K421,'OTRAS REFERENTES'!$AH$6:$AH$658,0),2))","v":""},null,{"$f":"IF(J421=\"\",\"\",INDEX(REFERENTES!$T:$W,MATCH(J421,REFERENTES!$V:$V,0),3))","v":""},null,null,"",null,{"$f":"IF(P421=\"\",\"\",INDEX(REFERENTES!$J:$K,MATCH(P421,REFERENTES!$K:$K,0),1))","v":""},null,{"$f":"IF(R421=\"\",\"\",INDEX(REFERENTES!$D:$E,MATCH(R421,REFERENTES!$D:$D,0),2))","v":""},null,null,"",{"$f":"IF(X421=\"\",\"\",INDEX('OTRAS REFERENTES'!$H:$I,MATCH(X421,'OTRAS REFERENTES'!$I:$I,0),1))","v":""},null,null,{"$f":"IF(AA421=\"\",\"\",INDEX('OTRAS REFERENTES'!$K:$L,MATCH(AA421,'OTRAS REFERENTES'!$L:$L,0),1))","v":""},null,null,"",{"$f":"IF(SUMPRODUCT(--EXACT(K421&M421,$AD$2:AD420)),\"\",K421&M421)","v":""},{"$f":"IF(SUMPRODUCT(--EXACT(K421&M421,$AD$2:AD420)),\"\",MAX($AE$3:AE420)+1)","v":""}]
[1,"",420,"","",{"$f":"IF(L422<>\"\",CONCATENATE(DIGITADOR!$B$2,$A$2,DIGITADOR!$M$1,A422),\"\")","v":""},null,null,"",{"$f":"IF(K422=\"\",\"\",INDEX('OTRAS REFERENTES'!$AH$6:$AI$658,MATCH(K422,'OTRAS REFERENTES'!$AH$6:$AH$658,0),2))","v":""},null,{"$f":"IF(J422=\"\",\"\",INDEX(REFERENTES!$T:$W,MATCH(J422,REFERENTES!$V:$V,0),3))","v":""},null,null,"",null,{"$f":"IF(P422=\"\",\"\",INDEX(REFERENTES!$J:$K,MATCH(P422,REFERENTES!$K:$K,0),1))","v":""},null,{"$f":"IF(R422=\"\",\"\",INDEX(REFERENTES!$D:$E,MATCH(R422,REFERENTES!$D:$D,0),2))","v":""},null,null,"",{"$f":"IF(X422=\"\",\"\",INDEX('OTRAS REFERENTES'!$H:$I,MATCH(X422,'OTRAS REFERENTES'!$I:$I,0),1))","v":""},null,null,{"$f":"IF(AA422=\"\",\"\",INDEX('OTRAS REFERENTES'!$K:$L,MATCH(AA422,'OTRAS REFERENTES'!$L:$L,0),1))","v":""},null,null,"",{"$f":"IF(SUMPRODUCT(--EXACT(K422&M422,$AD$2:AD421)),\"\",K422&M422)","v":""},{"$f":"IF(SUMPRODUCT(--EXACT(K422&M422,$AD$2:AD421)),\"\",MAX($AE$3:AE421)+1)","v":""}]
[1,"",421,"","",{"$f":"IF(L423<>\"\",CONCATENATE(DIGITADOR!$B$2,$A$2,DIGITADOR!$M$1,A423),\"\")","v":""},null,null,"",{"$f":"IF(K423=\"\",\"\",INDEX('OTRAS REFERENTES'!$AH$6:$AI$658,MATCH(K423,'OTRAS REFERENTES'!$AH$6:$AH$658,0),2))","v":""},null,{"$f":"IF(J423=\"\",\"\",INDEX(REFERENTES!$T:$W,MATCH(J423,REFERENTES!$V:$V,0),3))","v":""},null,null,"",null,{"$f":"IF(P423=\"\",\"\",INDEX(REFERENTES!$J:$K,MATCH(P423,REFERENTES!$K:$K,0),1))","v":""},null,{"$f":"IF(R423=\"\",\"\",INDEX(REFERENTES!$D:$E,MATCH(R423,REFERENTES!$D:$D,0),2))","v":""},null,null,"",{"$f":"IF(X423=\"\",\"\",INDEX('OTRAS REFERENTES'!$H:$I,MATCH(X423,'OTRAS REFERENTES'!$I:$I,0),1))","v":""},null,null,{"$f":"IF(AA423=\"\",\"\",INDEX('OTRAS REFERENTES'!$K:$L,MATCH(AA423,'OTRAS REFERENTES'!$L:$L,0),1))","v":""},null,null,"",{"$f":"IF(SUMPRODUCT(--EXACT(K423&M423,$AD$2:AD422)),\"\",K423&M423)","v":""},{"$f":"IF(SUMPRODUCT(--EXACT(K423&M423,$AD$2:AD422)),\"\",MAX($AE$3:AE422)+1)","v":""}]
[1,"",422,"","",{"$f":"IF(L424<>\"\",CONCATENATE(DIGITADOR!$B$2,$A$2,DIGITADOR!$M$1,A424),\"\")","v":""},null,null,"",{"$f":"IF(K424=\"\",\"\",INDEX('OTRAS REFERENTES'!$AH$6:$AI$658,MATCH(K424,'OTRAS REFERENTES'!$AH$6:$AH$658,0),2))","v":""},null,{"$f":"IF(J424=\"\",\"\",INDEX(REFERENTES!$T:$W,MATCH(J424,REFERENTES!$V:$V,0),3))","v":""},null,null,"",null,{"$f":"IF(P424=\"\",\"\",INDEX(REFERENTES!$J:$K,MATCH(P424,REFERENTES!$K:$K,0),1))","v":""},null,{"$f":"IF(R424=\"\",\"\",INDEX(REFERENTES!$D:$E,MATCH(R424,REFERENTES!$D:$D,0),2))","v":""},null,null,"",{"$f":"IF(X424=\"\",\"\",INDEX('OTRAS REFERENTES'!$H:$I,MATCH(X424,'OTRAS REFERENTES'!$I:$I,0),1))","v":""},null,null,{"$f":"IF(AA424=\"\",\"\",INDEX('OTRAS REFERENTES'!$K:$L,MATCH(AA424,'OTRAS REFERENTES'!$L:$L,0),1))","v":""},null,null,"",{"$f":"IF(SUMPRODUCT(--EXACT(K424&M424,$AD$2:AD423)),\"\",K424&M424)","v":""},{"$f":"IF(SUMPRODUCT(--EXACT(K424&M424,$AD$2:AD423)),\"\",MAX($AE$3:AE423)+1)","v":""}]
[1,"",423,"","",{"$f":"IF(L425<>\"\",CONCATENATE(DIGITADOR!$B$2,$A$2,DIGITADOR!$M$1,A425),\"\")","v":""},null,null,"",{"$f":"IF(K425=\"\",\"\",INDEX('OTRAS REFERENTES'!$AH$6:$AI$658,MATCH(K425,'OTRAS REFERENTES'!$AH$6:$AH$658,0),2))","v":""},null,{"$f":"IF(J425=\"\",\"\",INDEX(REFERENTES!$T:$W,MATCH(J425,REFERENTES!$V:$V,0),3))","v":""},null,null,"",null,{"$f":"IF(P425=\"\",\"\",INDEX(REFERENTES!$J:$K,MATCH(P425,REFERENTES!$K:$K,0),1))","v":""},null,{"$f":"IF(R425=\"\",\"\",INDEX(REFERENTES!$D:$E,MATCH(R425,REFERENTES!$D:$D,0),2))","v":""},null,null,"",{"$f":"IF(X425=\"\",\"\",INDEX('OTRAS REFERENTES'!$H:$I,MATCH(X425,'OTRAS REFERENTES'!$I:$I,0),1))","v":""},null,null,{"$f":"IF(AA425=\"\",\"\",INDEX('OTRAS REFERENTES'!$K:$L,MATCH(AA425,'OTRAS REFERENTES'!$L:$L,0),1))","v":""},null,null,"",{"$f":"IF(SUMPRODUCT(--EXACT(K425&M425,$AD$2:AD424)),\"\",K425&M425)","v":""},{"$f":"IF(SUMPRODUCT(--EXACT(K425&M425,$AD$2:AD424)),\"\",MAX($AE$3:AE424)+1)","v":""}]
[1,"",424,"","",{"$f":"IF(L426<>\"\",CONCATENATE(DIGITADOR!$B$2,$A$2,DIGITADOR!$M$1,A426),\"\")","v":""},null,null,"",{"$f":"IF(K426=\"\",\"\",INDEX('OTRAS REFERENTES'!$AH$6:$AI$658,MATCH(K426,'OTRAS REFERENTES'!$AH$6:$AH$658,0),2))","v":""},null,{"$f":"IF(J426=\"\",\"\",INDEX(REFERENTES!$T:$W,MATCH(J426,REFERENTES!$V:$V,0),3))","v":""},null,null,"",null,{"$f":"IF(P426=\"\",\"\",INDEX(REFERENTES!$J:$K,MATCH(P426,REFERENTES!$K:$K,0),1))","v":""},null,{"$f":"IF(R426=\"\",\"\",INDEX(REFERENTES!$D:$E,MATCH(R426,REFERENTES!$D:$D,0),2))","v":""},null,null,"",{"$f":"IF(X426=\"\",\"\",INDEX('OTRAS REFERENTES'!$H:$I,MATCH(X426,'OTRAS REFERENTES'!$I:$I,0),1))","v":""},null,null,{"$f":"IF(AA426=\"\",\"\",INDEX('OTRAS REFERENTES'!$K:$L,MATCH(AA426,'OTRAS REFERENTES'!$L:$L,0),1))","v":""},null,null,"",{"$f":"IF(SUMPRODUCT(--EXACT(K426&M426,$AD$2:AD425)),\"\",K426&M426)","v":""},{"$f":"IF(SUMPRODUCT(--EXACT(K426&M426,$AD$2:AD425)),\"\",MAX($AE$3:AE425)+1)","v":""}]
[1,"",425,"","",{"$f":"IF(L427<>\"\",CONCATENATE(DIGITADOR!$B$2,$A$2,DIGITADOR!$M$1,A427),\"\")","v":""},null,null,"",{"$f":"IF(K427=\"\",\"\",INDEX('OTRAS REFERENTES'!$AH$6:$AI$658,MATCH(K427,'OTRAS REFERENTES'!$AH$6:$AH$658,0),2))","v":""},null,{"$f":"IF(J427=\"\",\"\",INDEX(REFERENTES!$T:$W,MATCH(J427,REFERENTES!$V:$V,0),3))","v":""},null,null,"",null,{"$f":"IF(P427=\"\",\"\",INDEX(REFERENTES!$J:$K,MATCH(P427,REFERENTES!$K:$K,0),1))","v":""},null,{"$f":"IF(R427=\"\",\"\",INDEX(REFERENTES!$D:$E,MATCH(R427,REFERENTES!$D:$D,0),2))","v":""},null,null,"",{"$f":"IF(X427=\"\",\"\",INDEX('OTRAS REFERENTES'!$H:$I,MATCH(X427,'OTRAS REFERENTES'!$I:$I,0),1))","v":""},null,null,{"$f":"IF(AA427=\"\",\"\",INDEX('OTRAS REFERENTES'!$K:$L,MATCH(AA427,'OTRAS REFERENTES'!$L:$L,0),1))","v":""},null,null,"",{"$f":"IF(SUMPRODUCT(--EXACT(K427&M427,$AD$2:AD426)),\"\",K427&M427)","v":""},{"$f":"IF(SUMPRODUCT(--EXACT(K427&M427,$AD$2:AD426)),\"\",MAX($AE$3:AE426)+1)","v":""}]
[1,"",426,"","",{"$f":"IF(L428<>\"\",CONCATENATE(DIGITADOR!$B$2,$A$2,DIGITADOR!$M$1,A428),\"\")","v":""},null,null,"",{"$f":"IF(K428=\"\",\"\",INDEX('OTRAS REFERENTES'!$AH$6:$AI$658,MATCH(K428,'OTRAS REFERENTES'!$AH$6:$AH$658,0),2))","v":""},null,{"$f":"IF(J428=\"\",\"\",INDEX(REFERENTES!$T:$W,MATCH(J428,REFERENTES!$V:$V,0),3))","v":""},null,null,"",null,{"$f":"IF(P428=\"\",\"\",INDEX(REFERENTES!$J:$K,MATCH(P428,REFERENTES!$K:$K,0),1))","v":""},null,{"$f":"IF(R428=\"\",\"\",INDEX(REFERENTES!$D:$E,MATCH(R428,REFERENTES!$D:$D,0),2))","v":""},null,null,"",{"$f":"IF(X428=\"\",\"\",INDEX('OTRAS REFERENTES'!$H:$I,MATCH(X428,'OTRAS REFERENTES'!$I:$I,0),1))","v":""},null,null,{"$f":"IF(AA428=\"\",\"\",INDEX('OTRAS REFERENTES'!$K:$L,MATCH(AA428,'OTRAS REFERENTES'!$L:$L,0),1))","v":""},null,null,"",{"$f":"IF(SUMPRODUCT(--EXACT(K428&M428,$AD$2:AD427)),\"\",K428&M428)","v":""},{"$f":"IF(SUMPRODUCT(--EXACT(K428&M428,$AD$2:AD427)),\"\",MAX($AE$3:AE427)+1)","v":""}]
[1,"",427,"","",{"$f":"IF(L429<>\"\",CONCATENATE(DIGITADOR!$B$2,$A$2,DIGITADOR!$M$1,A429),\"\")","v":""},null,null,"",{"$f":"IF(K429=\"\",\"\",INDEX('OTRAS REFERENTES'!$AH$6:$AI$658,MATCH(K429,'OTRAS REFERENTES'!$AH$6:$AH$658,0),2))","v":""},null,{"$f":"IF(J429=\"\",\"\",INDEX(REFERENTES!$T:$W,MATCH(J429,REFERENTES!$V:$V,0),3))","v":""},null,null,"",null,{"$f":"IF(P429=\"\",\"\",INDEX(REFERENTES!$J:$K,MATCH(P429,REFERENTES!$K:$K,0),1))","v":""},null,{"$f":"IF(R429=\"\",\"\",INDEX(REFERENTES!$D:$E,MATCH(R429,REFERENTES!$D:$D,0),2))","v":""},null,null,"",{"$f":"IF(X429=\"\",\"\",INDEX('OTRAS REFERENTES'!$H:$I,MATCH(X429,'OTRAS REFERENTES'!$I:$I,0),1))","v":""},null,null,{"$f":"IF(AA429=\"\",\"\",INDEX('OTRAS REFERENTES'!$K:$L,MATCH(AA429,'OTRAS REFERENTES'!$L:$L,0),1))","v":""},null,null,"",{"$f":"IF(SUMPRODUCT(--EXACT(K429&M429,$AD$2:AD428)),\"\",K429&M429)","v":""},{"$f":"IF(SUMPRODUCT(--EXACT(K429&M429,$AD$2:AD428)),\"\",MAX($AE$3:AE428)+1)","v":""}]
[1,"",428,"","",{"$f":"IF(L430<>\"\",CONCATENATE(DIGITADOR!$B$2,$A$2,DIGITADOR!$M$1,A430),\"\")","v":""},null,null,"",{"$f":"IF(K430=\"\",\"\",INDEX('OTRAS REFERENTES'!$AH$6:$AI$658,MATCH(K430,'OTRAS REFERENTES'!$AH$6:$AH$658,0),2))","v":""},null,{"$f":"IF(J430=\"\",\"\",INDEX(REFERENTES!$T:$W,MATCH(J430,REFERENTES!$V:$V,0),3))","v":""},null,null,"",null,{"$f":"IF(P430=\"\",\"\",INDEX(REFERENTES!$J:$K,MATCH(P430,REFERENTES!$K:$K,0),1))","v":""},null,{"$f":"IF(R430=\"\",\"\",INDEX(REFERENTES!$D:$E,MATCH(R430,REFERENTES!$D:$D,0),2))","v":""},null,null,"",{"$f":"IF(X430=\"\",\"\",INDEX('OTRAS REFERENTES'!$H:$I,MATCH(X430,'OTRAS REFERENTES'!$I:$I,0),1))","v":""},null,null,{"$f":"IF(AA430=\"\",\"\",INDEX('OTRAS REFERENTES'!$K:$L,MATCH(AA430,'OTRAS REFERENTES'!$L:$L,0),1))","v":""},null,null,"",{"$f":"IF(SUMPRODUCT(--EXACT(K430&M430,$AD$2:AD429)),\"\",K430&M430)","v":""},{"$f":"IF(SUMPRODUCT(--EXACT(K430&M430,$AD$2:AD429)),\"\",MAX($AE$3:AE429)+1)","v":""}]
[1,"",429,"","",{"$f":"IF(L431<>\"\",CONCATENATE(DIGITADOR!$B$2,$A$2,DIGITADOR!$M$1,A431),\"\")","v":""},null,null,"",{"$f":"IF(K431=\"\",\"\",INDEX('OTRAS REFERENTES'!$AH$6:$AI$658,MATCH(K431,'OTRAS REFERENTES'!$AH$6:$AH$658,0),2))","v":""},null,{"$f":"IF(J431=\"\",\"\",INDEX(REFERENTES!$T:$W,MATCH(J431,REFERENTES!$V:$V,0),3))","v":""},null,null,"",null,{"$f":"IF(P431=\"\",\"\",INDEX(REFERENTES!$J:$K,MATCH(P431,REFERENTES!$K:$K,0),1))","v":""},null,{"$f":"IF(R431=\"\",\"\",INDEX(REFERENTES!$D:$E,MATCH(R431,REFERENTES!$D:$D,0),2))","v":""},null,null,"",{"$f":"IF(X431=\"\",\"\",INDEX('OTRAS REFERENTES'!$H:$I,MATCH(X431,'OTRAS REFERENTES'!$I:$I,0),1))","v":""},null,null,{"$f":"IF(AA431=\"\",\"\",INDEX('OTRAS REFERENTES'!$K:$L,MATCH(AA431,'OTRAS REFERENTES'!$L:$L,0),1))","v":""},null,null,"",{"$f":"IF(SUMPRODUCT(--EXACT(K431&M431,$AD$2:AD430)),\"\",K431&M431)","v":""},{"$f":"IF(SUMPRODUCT(--EXACT(K431&M431,$AD$2:AD430)),\"\",MAX($AE$3:AE430)+1)","v":""}]
[1,"",430,"","",{"$f":"IF(L432<>\"\",CONCATENATE(DIGITADOR!$B$2,$A$2,DIGITADOR!$M$1,A432),\"\")","v":""},null,null,"",{"$f":"IF(K432=\"\",\"\",INDEX('OTRAS REFERENTES'!$AH$6:$AI$658,MATCH(K432,'OTRAS REFERENTES'!$AH$6:$AH$658,0),2))","v":""},null,{"$f":"IF(J432=\"\",\"\",INDEX(REFERENTES!$T:$W,MATCH(J432,REFERENTES!$V:$V,0),3))","v":""},null,null,"",null,{"$f":"IF(P432=\"\",\"\",INDEX(REFERENTES!$J:$K,MATCH(P432,REFERENTES!$K:$K,0),1))","v":""},null,{"$f":"IF(R432=\"\",\"\",INDEX(REFERENTES!$D:$E,MATCH(R432,REFERENTES!$D:$D,0),2))","v":""},null,null,"",{"$f":"IF(X432=\"\",\"\",INDEX('OTRAS REFERENTES'!$H:$I,MATCH(X432,'OTRAS REFERENTES'!$I:$I,0),1))","v":""},null,null,{"$f":"IF(AA432=\"\",\"\",INDEX('OTRAS REFERENTES'!$K:$L,MATCH(AA432,'OTRAS REFERENTES'!$L:$L,0),1))","v":""},null,null,"",{"$f":"IF(SUMPRODUCT(--EXACT(K432&M432,$AD$2:AD431)),\"\",K432&M432)","v":""},{"$f":"IF(SUMPRODUCT(--EXACT(K432&M432,$AD$2:AD431)),\"\",MAX($AE$3:AE431)+1)","v":""}]
[1,"",431,"","",{"$f":"IF(L433<>\"\",CONCATENATE(DIGITADOR!$B$2,$A$2,DIGITADOR!$M$1,A433),\"\")","v":""},null,null,"",{"$f":"IF(K433=\"\",\"\",INDEX('OTRAS REFERENTES'!$AH$6:$AI$658,MATCH(K433,'OTRAS REFERENTES'!$AH$6:$AH$658,0),2))","v":""},null,{"$f":"IF(J433=\"\",\"\",INDEX(REFERENTES!$T:$W,MATCH(J433,REFERENTES!$V:$V,0),3))","v":""},null,null,"",null,{"$f":"IF(P433=\"\",\"\",INDEX(REFERENTES!$J:$K,MATCH(P433,REFERENTES!$K:$K,0),1))","v":""},null,{"$f":"IF(R433=\"\",\"\",INDEX(REFERENTES!$D:$E,MATCH(R433,REFERENTES!$D:$D,0),2))","v":""},null,null,"",{"$f":"IF(X433=\"\",\"\",INDEX('OTRAS REFERENTES'!$H:$I,MATCH(X433,'OTRAS REFERENTES'!$I:$I,0),1))","v":""},null,null,{"$f":"IF(AA433=\"\",\"\",INDEX('OTRAS REFERENTES'!$K:$L,MATCH(AA433,'OTRAS REFERENTES'!$L:$L,0),1))","v":""},null,null,"",{"$f":"IF(SUMPRODUCT(--EXACT(K433&M433,$AD$2:AD432)),\"\",K433&M433)","v":""},{"$f":"IF(SUMPRODUCT(--EXACT(K433&M433,$AD$2:AD432)),\"\",MAX($AE$3:AE432)+1)","v":""}]
[1,"",432,"","",{"$f":"IF(L434<>\"\",CONCATENATE(DIGITADOR!$B$2,$A$2,DIGITADOR!$M$1,A434),\"\")","v":""},null,null,"",{"$f":"IF(K434=\"\",\"\",INDEX('OTRAS REFERENTES'!$AH$6:$AI$658,MATCH(K434,'OTRAS REFERENTES'!$AH$6:$AH$658,0),2))","v":""},null,{"$f":"IF(J434=\"\",\"\",INDEX(REFERENTES!$T:$W,MATCH(J434,REFERENTES!$V:$V,0),3))","v":""},null,null,"",null,{"$f":"IF(P434=\"\",\"\",INDEX(REFERENTES!$J:$K,MATCH(P434,REFERENTES!$K:$K,0),1))","v":""},null,{"$f":"IF(R434=\"\",\"\",INDEX(REFERENTES!$D:$E,MATCH(R434,REFERENTES!$D:$D,0),2))","v":""},null,null,"",{"$f":"IF(X434=\"\",\"\",INDEX('OTRAS REFERENTES'!$H:$I,MATCH(X434,'OTRAS REFERENTES'!$I:$I,0),1))","v":""},null,null,{"$f":"IF(AA434=\"\",\"\",INDEX('OTRAS REFERENTES'!$K:$L,MATCH(AA434,'OTRAS REFERENTES'!$L:$L,0),1))","v":""},null,null,"",{"$f":"IF(SUMPRODUCT(--EXACT(K434&M434,$AD$2:AD433)),\"\",K434&M434)","v":""},{"$f":"IF(SUMPRODUCT(--EXACT(K434&M434,$AD$2:AD433)),\"\",MAX($AE$3:AE433)+1)","v":""}]
[1,"",433,"","",{"$f":"IF(L435<>\"\",CONCATENATE(DIGITADOR!$B$2,$A$2,DIGITADOR!$M$1,A435),\"\")","v":""},null,null,"",{"$f":"IF(K435=\"\",\"\",INDEX('OTRAS REFERENTES'!$AH$6:$AI$658,MATCH(K435,'OTRAS REFERENTES'!$AH$6:$AH$658,0),2))","v":""},null,{"$f":"IF(J435=\"\",\"\",INDEX(REFERENTES!$T:$W,MATCH(J435,REFERENTES!$V:$V,0),3))","v":""},null,null,"",null,{"$f":"IF(P435=\"\",\"\",INDEX(REFERENTES!$J:$K,MATCH(P435,REFERENTES!$K:$K,0),1))","v":""},null,{"$f":"IF(R435=\"\",\"\",INDEX(REFERENTES!$D:$E,MATCH(R435,REFERENTES!$D:$D,0),2))","v":""},null,null,"",{"$f":"IF(X435=\"\",\"\",INDEX('OTRAS REFERENTES'!$H:$I,MATCH(X435,'OTRAS REFERENTES'!$I:$I,0),1))","v":""},null,null,{"$f":"IF(AA435=\"\",\"\",INDEX('OTRAS REFERENTES'!$K:$L,MATCH(AA435,'OTRAS REFERENTES'!$L:$L,0),1))","v":""},null,null,"",{"$f":"IF(SUMPRODUCT(--EXACT(K435&M435,$AD$2:AD434)),\"\",K435&M435)","v":""},{"$f":"IF(SUMPRODUCT(--EXACT(K435&M435,$AD$2:AD434)),\"\",MAX($AE$3:AE434)+1)","v":""}]
[1,"",434,"","",{"$f":"IF(L436<>\"\",CONCATENATE(DIGITADOR!$B$2,$A$2,DIGITADOR!$M$1,A436),\"\")","v":""},null,null,"",{"$f":"IF(K436=\"\",\"\",INDEX('OTRAS REFERENTES'!$AH$6:$AI$658,MATCH(K436,'OTRAS REFERENTES'!$AH$6:$AH$658,0),2))","v":""},null,{"$f":"IF(J436=\"\",\"\",INDEX(REFERENTES!$T:$W,MATCH(J436,REFERENTES!$V:$V,0),3))","v":""},null,null,"",null,{"$f":"IF(P436=\"\",\"\",INDEX(REFERENTES!$J:$K,MATCH(P436,REFERENTES!$K:$K,0),1))","v":""},null,{"$f":"IF(R436=\"\",\"\",INDEX(REFERENTES!$D:$E,MATCH(R436,REFERENTES!$D:$D,0),2))","v":""},null,null,"",{"$f":"IF(X436=\"\",\"\",INDEX('OTRAS REFERENTES'!$H:$I,MATCH(X436,'OTRAS REFERENTES'!$I:$I,0),1))","v":""},null,null,{"$f":"IF(AA436=\"\",\"\",INDEX('OTRAS REFERENTES'!$K:$L,MATCH(AA436,'OTRAS REFERENTES'!$L:$L,0),1))","v":""},null,null,"",{"$f":"IF(SUMPRODUCT(--EXACT(K436&M436,$AD$2:AD435)),\"\",K436&M436)","v":""},{"$f":"IF(SUMPRODUCT(--EXACT(K436&M436,$AD$2:AD435)),\"\",MAX($AE$3:AE435)+1)","v":""}]
[1,"",435,"","",{"$f":"IF(L437<>\"\",CONCATENATE(DIGITADOR!$B$2,$A$2,DIGITADOR!$M$1,A437),\"\")","v":""},null,null,"",{"$f":"IF(K437=\"\",\"\",INDEX('OTRAS REFERENTES'!$AH$6:$AI$658,MATCH(K437,'OTRAS REFERENTES'!$AH$6:$AH$658,0),2))","v":""},null,{"$f":"IF(J437=\"\",\"\",INDEX(REFERENTES!$T:$W,MATCH(J437,REFERENTES!$V:$V,0),3))","v":""},null,null,"",null,{"$f":"IF(P437=\"\",\"\",INDEX(REFERENTES!$J:$K,MATCH(P437,REFERENTES!$K:$K,0),1))","v":""},null,{"$f":"IF(R437=\"\",\"\",INDEX(REFERENTES!$D:$E,MATCH(R437,REFERENTES!$D:$D,0),2))","v":""},null,null,"",{"$f":"IF(X437=\"\",\"\",INDEX('OTRAS REFERENTES'!$H:$I,MATCH(X437,'OTRAS REFERENTES'!$I:$I,0),1))","v":""},null,null,{"$f":"IF(AA437=\"\",\"\",INDEX('OTRAS REFERENTES'!$K:$L,MATCH(AA437,'OTRAS REFERENTES'!$L:$L,0),1))","v":""},null,null,"",{"$f":"IF(SUMPRODUCT(--EXACT(K437&M437,$AD$2:AD436)),\"\",K437&M437)","v":""},{"$f":"IF(SUMPRODUCT(--EXACT(K437&M437,$AD$2:AD436)),\"\",MAX($AE$3:AE436)+1)","v":""}]
[1,"",436,"","",{"$f":"IF(L438<>\"\",CONCATENATE(DIGITADOR!$B$2,$A$2,DIGITADOR!$M$1,A438),\"\")","v":""},null,null,"",{"$f":"IF(K438=\"\",\"\",INDEX('OTRAS REFERENTES'!$AH$6:$AI$658,MATCH(K438,'OTRAS REFERENTES'!$AH$6:$AH$658,0),2))","v":""},null,{"$f":"IF(J438=\"\",\"\",INDEX(REFERENTES!$T:$W,MATCH(J438,REFERENTES!$V:$V,0),3))","v":""},null,null,"",null,{"$f":"IF(P438=\"\",\"\",INDEX(REFERENTES!$J:$K,MATCH(P438,REFERENTES!$K:$K,0),1))","v":""},null,{"$f":"IF(R438=\"\",\"\",INDEX(REFERENTES!$D:$E,MATCH(R438,REFERENTES!$D:$D,0),2))","v":""},null,null,"",{"$f":"IF(X438=\"\",\"\",INDEX('OTRAS REFERENTES'!$H:$I,MATCH(X438,'OTRAS REFERENTES'!$I:$I,0),1))","v":""},null,null,{"$f":"IF(AA438=\"\",\"\",INDEX('OTRAS REFERENTES'!$K:$L,MATCH(AA438,'OTRAS REFERENTES'!$L:$L,0),1))","v":""},null,null,"",{"$f":"IF(SUMPRODUCT(--EXACT(K438&M438,$AD$2:AD437)),\"\",K438&M438)","v":""},{"$f":"IF(SUMPRODUCT(--EXACT(K438&M438,$AD$2:AD437)),\"\",MAX($AE$3:AE437)+1)","v":""}]
[1,"",437,"","",{"$f":"IF(L439<>\"\",CONCATENATE(DIGITADOR!$B$2,$A$2,DIGITADOR!$M$1,A439),\"\")","v":""},null,null,"",{"$f":"IF(K439=\"\",\"\",INDEX('OTRAS REFERENTES'!$AH$6:$AI$658,MATCH(K439,'OTRAS REFERENTES'!$AH$6:$AH$658,0),2))","v":""},null,{"$f":"IF(J439=\"\",\"\",INDEX(REFERENTES!$T:$W,MATCH(J439,REFERENTES!$V:$V,0),3))","v":""},null,null,"",null,{"$f":"IF(P439=\"\",\"\",INDEX(REFERENTES!$J:$K,MATCH(P439,REFERENTES!$K:$K,0),1))","v":""},null,{"$f":"IF(R439=\"\",\"\",INDEX(REFERENTES!$D:$E,MATCH(R439,REFERENTES!$D:$D,0),2))","v":""},null,null,"",{"$f":"IF(X439=\"\",\"\",INDEX('OTRAS REFERENTES'!$H:$I,MATCH(X439,'OTRAS REFERENTES'!$I:$I,0),1))","v":""},null,null,{"$f":"IF(AA439=\"\",\"\",INDEX('OTRAS REFERENTES'!$K:$L,MATCH(AA439,'OTRAS REFERENTES'!$L:$L,0),1))","v":""},null,null,"",{"$f":"IF(SUMPRODUCT(--EXACT(K439&M439,$AD$2:AD438)),\"\",K439&M439)","v":""},{"$f":"IF(SUMPRODUCT(--EXACT(K439&M439,$AD$2:AD438)),\"\",MAX($AE$3:AE438)+1)","v":""}]
[1,"",438,"","",{"$f":"IF(L440<>\"\",CONCATENATE(DIGITADOR!$B$2,$A$2,DIGITADOR!$M$1,A440),\"\")","v":""},null,null,"",{"$f":"IF(K440=\"\",\"\",INDEX('OTRAS REFERENTES'!$AH$6:$AI$658,MATCH(K440,'OTRAS REFERENTES'!$AH$6:$AH$658,0),2))","v":""},null,{"$f":"IF(J440=\"\",\"\",INDEX(REFERENTES!$T:$W,MATCH(J440,REFERENTES!$V:$V,0),3))","v":""},null,null,"",null,{"$f":"IF(P440=\"\",\"\",INDEX(REFERENTES!$J:$K,MATCH(P440,REFERENTES!$K:$K,0),1))","v":""},null,{"$f":"IF(R440=\"\",\"\",INDEX(REFERENTES!$D:$E,MATCH(R440,REFERENTES!$D:$D,0),2))","v":""},null,null,"",{"$f":"IF(X440=\"\",\"\",INDEX('OTRAS REFERENTES'!$H:$I,MATCH(X440,'OTRAS REFERENTES'!$I:$I,0),1))","v":""},null,null,{"$f":"IF(AA440=\"\",\"\",INDEX('OTRAS REFERENTES'!$K:$L,MATCH(AA440,'OTRAS REFERENTES'!$L:$L,0),1))","v":""},null,null,"",{"$f":"IF(SUMPRODUCT(--EXACT(K440&M440,$AD$2:AD439)),\"\",K440&M440)","v":""},{"$f":"IF(SUMPRODUCT(--EXACT(K440&M440,$AD$2:AD439)),\"\",MAX($AE$3:AE439)+1)","v":""}]
[1,"",439,"","",{"$f":"IF(L441<>\"\",CONCATENATE(DIGITADOR!$B$2,$A$2,DIGITADOR!$M$1,A441),\"\")","v":""},null,null,"",{"$f":"IF(K441=\"\",\"\",INDEX('OTRAS REFERENTES'!$AH$6:$AI$658,MATCH(K441,'OTRAS REFERENTES'!$AH$6:$AH$658,0),2))","v":""},null,{"$f":"IF(J441=\"\",\"\",INDEX(REFERENTES!$T:$W,MATCH(J441,REFERENTES!$V:$V,0),3))","v":""},null,null,"",null,{"$f":"IF(P441=\"\",\"\",INDEX(REFERENTES!$J:$K,MATCH(P441,REFERENTES!$K:$K,0),1))","v":""},null,{"$f":"IF(R441=\"\",\"\",INDEX(REFERENTES!$D:$E,MATCH(R441,REFERENTES!$D:$D,0),2))","v":""},null,null,"",{"$f":"IF(X441=\"\",\"\",INDEX('OTRAS REFERENTES'!$H:$I,MATCH(X441,'OTRAS REFERENTES'!$I:$I,0),1))","v":""},null,null,{"$f":"IF(AA441=\"\",\"\",INDEX('OTRAS REFERENTES'!$K:$L,MATCH(AA441,'OTRAS REFERENTES'!$L:$L,0),1))","v":""},null,null,"",{"$f":"IF(SUMPRODUCT(--EXACT(K441&M441,$AD$2:AD440)),\"\",K441&M441)","v":""},{"$f":"IF(SUMPRODUCT(--EXACT(K441&M441,$AD$2:AD440)),\"\",MAX($AE$3:AE440)+1)","v":""}]
[1,"",440,"","",{"$f":"IF(L442<>\"\",CONCATENATE(DIGITADOR!$B$2,$A$2,DIGITADOR!$M$1,A442),\"\")","v":""},null,null,"",{"$f":"IF(K442=\"\",\"\",INDEX('OTRAS REFERENTES'!$AH$6:$AI$658,MATCH(K442,'OTRAS REFERENTES'!$AH$6:$AH$658,0),2))","v":""},null,{"$f":"IF(J442=\"\",\"\",INDEX(REFERENTES!$T:$W,MATCH(J442,REFERENTES!$V:$V,0),3))","v":""},null,null,"",null,{"$f":"IF(P442=\"\",\"\",INDEX(REFERENTES!$J:$K,MATCH(P442,REFERENTES!$K:$K,0),1))","v":""},null,{"$f":"IF(R442=\"\",\"\",INDEX(REFERENTES!$D:$E,MATCH(R442,REFERENTES!$D:$D,0),2))","v":""},null,null,"",{"$f":"IF(X442=\"\",\"\",INDEX('OTRAS REFERENTES'!$H:$I,MATCH(X442,'OTRAS REFERENTES'!$I:$I,0),1))","v":""},null,null,{"$f":"IF(AA442=\"\",\"\",INDEX('OTRAS REFERENTES'!$K:$L,MATCH(AA442,'OTRAS REFERENTES'!$L:$L,0),1))","v":""},null,null,"",{"$f":"IF(SUMPRODUCT(--EXACT(K442&M442,$AD$2:AD441)),\"\",K442&M442)","v":""},{"$f":"IF(SUMPRODUCT(--EXACT(K442&M442,$AD$2:AD441)),\"\",MAX($AE$3:AE441)+1)","v":""}]
[1,"",441,"","",{"$f":"IF(L443<>\"\",CONCATENATE(DIGITADOR!$B$2,$A$2,DIGITADOR!$M$1,A443),\"\")","v":""},null,null,"",{"$f":"IF(K443=\"\",\"\",INDEX('OTRAS REFERENTES'!$AH$6:$AI$658,MATCH(K443,'OTRAS REFERENTES'!$AH$6:$AH$658,0),2))","v":""},null,{"$f":"IF(J443=\"\",\"\",INDEX(REFERENTES!$T:$W,MATCH(J443,REFERENTES!$V:$V,0),3))","v":""},null,null,"",null,{"$f":"IF(P443=\"\",\"\",INDEX(REFERENTES!$J:$K,MATCH(P443,REFERENTES!$K:$K,0),1))","v":""},null,{"$f":"IF(R443=\"\",\"\",INDEX(REFERENTES!$D:$E,MATCH(R443,REFERENTES!$D:$D,0),2))","v":""},null,null,"",{"$f":"IF(X443=\"\",\"\",INDEX('OTRAS REFERENTES'!$H:$I,MATCH(X443,'OTRAS REFERENTES'!$I:$I,0),1))","v":""},null,null,{"$f":"IF(AA443=\"\",\"\",INDEX('OTRAS REFERENTES'!$K:$L,MATCH(AA443,'OTRAS REFERENTES'!$L:$L,0),1))","v":""},null,null,"",{"$f":"IF(SUMPRODUCT(--EXACT(K443&M443,$AD$2:AD442)),\"\",K443&M443)","v":""},{"$f":"IF(SUMPRODUCT(--EXACT(K443&M443,$AD$2:AD442)),\"\",MAX($AE$3:AE442)+1)","v":""}]
[1,"",442,"","",{"$f":"IF(L444<>\"\",CONCATENATE(DIGITADOR!$B$2,$A$2,DIGITADOR!$M$1,A444),\"\")","v":""},null,null,"",{"$f":"IF(K444=\"\",\"\",INDEX('OTRAS REFERENTES'!$AH$6:$AI$658,MATCH(K444,'OTRAS REFERENTES'!$AH$6:$AH$658,0),2))","v":""},null,{"$f":"IF(J444=\"\",\"\",INDEX(REFERENTES!$T:$W,MATCH(J444,REFERENTES!$V:$V,0),3))","v":""},null,null,"",null,{"$f":"IF(P444=\"\",\"\",INDEX(REFERENTES!$J:$K,MATCH(P444,REFERENTES!$K:$K,0),1))","v":""},null,{"$f":"IF(R444=\"\",\"\",INDEX(REFERENTES!$D:$E,MATCH(R444,REFERENTES!$D:$D,0),2))","v":""},null,null,"",{"$f":"IF(X444=\"\",\"\",INDEX('OTRAS REFERENTES'!$H:$I,MATCH(X444,'OTRAS REFERENTES'!$I:$I,0),1))","v":""},null,null,{"$f":"IF(AA444=\"\",\"\",INDEX('OTRAS REFERENTES'!$K:$L,MATCH(AA444,'OTRAS REFERENTES'!$L:$L,0),1))","v":""},null,null,"",{"$f":"IF(SUMPRODUCT(--EXACT(K444&M444,$AD$2:AD443)),\"\",K444&M444)","v":""},{"$f":"IF(SUMPRODUCT(--EXACT(K444&M444,$AD$2:AD443)),\"\",MAX($AE$3:AE443)+1)","v":""}]
[1,"",443,"","",{"$f":"IF(L445<>\"\",CONCATENATE(DIGITADOR!$B$2,$A$2,DIGITADOR!$M$1,A445),\"\")","v":""},null,null,"",{"$f":"IF(K445=\"\",\"\",INDEX('OTRAS REFERENTES'!$AH$6:$AI$658,MATCH(K445,'OTRAS REFERENTES'!$AH$6:$AH$658,0),2))","v":""},null,{"$f":"IF(J445=\"\",\"\",INDEX(REFERENTES!$T:$W,MATCH(J445,REFERENTES!$V:$V,0),3))","v":""},null,null,"",null,{"$f":"IF(P445=\"\",\"\",INDEX(REFERENTES!$J:$K,MATCH(P445,REFERENTES!$K:$K,0),1))","v":""},null,{"$f":"IF(R445=\"\",\"\",INDEX(REFERENTES!$D:$E,MATCH(R445,REFERENTES!$D:$D,0),2))","v":""},null,null,"",{"$f":"IF(X445=\"\",\"\",INDEX('OTRAS REFERENTES'!$H:$I,MATCH(X445,'OTRAS REFERENTES'!$I:$I,0),1))","v":""},null,null,{"$f":"IF(AA445=\"\",\"\",INDEX('OTRAS REFERENTES'!$K:$L,MATCH(AA445,'OTRAS REFERENTES'!$L:$L,0),1))","v":""},null,null,"",{"$f":"IF(SUMPRODUCT(--EXACT(K445&M445,$AD$2:AD444)),\"\",K445&M445)","v":""},{"$f":"IF(SUMPRODUCT(--EXACT(K445&M445,$AD$2:AD444)),\"\",MAX($AE$3:AE444)+1)","v":""}]
[1,"",444,"","",{"$f":"IF(L446<>\"\",CONCATENATE(DIGITADOR!$B$2,$A$2,DIGITADOR!$M$1,A446),\"\")","v":""},null,null,"",{"$f":"IF(K446=\"\",\"\",INDEX('OTRAS REFERENTES'!$AH$6:$AI$658,MATCH(K446,'OTRAS REFERENTES'!$AH$6:$AH$658,0),2))","v":""},null,{"$f":"IF(J446=\"\",\"\",INDEX(REFERENTES!$T:$W,MATCH(J446,REFERENTES!$V:$V,0),3))","v":""},null,null,"",null,{"$f":"IF(P446=\"\",\"\",INDEX(REFERENTES!$J:$K,MATCH(P446,REFERENTES!$K:$K,0),1))","v":""},null,{"$f":"IF(R446=\"\",\"\",INDEX(REFERENTES!$D:$E,MATCH(R446,REFERENTES!$D:$D,0),2))","v":""},null,null,"",{"$f":"IF(X446=\"\",\"\",INDEX('OTRAS REFERENTES'!$H:$I,MATCH(X446,'OTRAS REFERENTES'!$I:$I,0),1))","v":""},null,null,{"$f":"IF(AA446=\"\",\"\",INDEX('OTRAS REFERENTES'!$K:$L,MATCH(AA446,'OTRAS REFERENTES'!$L:$L,0),1))","v":""},null,null,"",{"$f":"IF(SUMPRODUCT(--EXACT(K446&M446,$AD$2:AD445)),\"\",K446&M446)","v":""},{"$f":"IF(SUMPRODUCT(--EXACT(K446&M446,$AD$2:AD445)),\"\",MAX($AE$3:AE445)+1)","v":""}]
[1,"",445,"","",{"$f":"IF(L447<>\"\",CONCATENATE(DIGITADOR!$B$2,$A$2,DIGITADOR!$M$1,A447),\"\")","v":""},null,null,"",{"$f":"IF(K447=\"\",\"\",INDEX('OTRAS REFERENTES'!$AH$6:$AI$658,MATCH(K447,'OTRAS REFERENTES'!$AH$6:$AH$658,0),2))","v":""},null,{"$f":"IF(J447=\"\",\"\",INDEX(REFERENTES!$T:$W,MATCH(J447,REFERENTES!$V:$V,0),3))","v":""},null,null,"",null,{"$f":"IF(P447=\"\",\"\",INDEX(REFERENTES!$J:$K,MATCH(P447,REFERENTES!$K:$K,0),1))","v":""},null,{"$f":"IF(R447=\"\",\"\",INDEX(REFERENTES!$D:$E,MATCH(R447,REFERENTES!$D:$D,0),2))","v":""},null,null,"",{"$f":"IF(X447=\"\",\"\",INDEX('OTRAS REFERENTES'!$H:$I,MATCH(X447,'OTRAS REFERENTES'!$I:$I,0),1))","v":""},null,null,{"$f":"IF(AA447=\"\",\"\",INDEX('OTRAS REFERENTES'!$K:$L,MATCH(AA447,'OTRAS REFERENTES'!$L:$L,0),1))","v":""},null,null,"",{"$f":"IF(SUMPRODUCT(--EXACT(K447&M447,$AD$2:AD446)),\"\",K447&M447)","v":""},{"$f":"IF(SUMPRODUCT(--EXACT(K447&M447,$AD$2:AD446)),\"\",MAX($AE$3:AE446)+1)","v":""}]
[1,"",446,"","",{"$f":"IF(L448<>\"\",CONCATENATE(DIGITADOR!$B$2,$A$2,DIGITADOR!$M$1,A448),\"\")","v":""},null,null,"",{"$f":"IF(K448=\"\",\"\",INDEX('OTRAS REFERENTES'!$AH$6:$AI$658,MATCH(K448,'OTRAS REFERENTES'!$AH$6:$AH$658,0),2))","v":""},null,{"$f":"IF(J448=\"\",\"\",INDEX(REFERENTES!$T:$W,MATCH(J448,REFERENTES!$V:$V,0),3))","v":""},null,null,"",null,{"$f":"IF(P448=\"\",\"\",INDEX(REFERENTES!$J:$K,MATCH(P448,REFERENTES!$K:$K,0),1))","v":""},null,{"$f":"IF(R448=\"\",\"\",INDEX(REFERENTES!$D:$E,MATCH(R448,REFERENTES!$D:$D,0),2))","v":""},null,null,"",{"$f":"IF(X448=\"\",\"\",INDEX('OTRAS REFERENTES'!$H:$I,MATCH(X448,'OTRAS REFERENTES'!$I:$I,0),1))","v":""},null,null,{"$f":"IF(AA448=\"\",\"\",INDEX('OTRAS REFERENTES'!$K:$L,MATCH(AA448,'OTRAS REFERENTES'!$L:$L,0),1))","v":""},null,null,"",{"$f":"IF(SUMPRODUCT(--EXACT(K448&M448,$AD$2:AD447)),\"\",K448&M448)","v":""},{"$f":"IF(SUMPRODUCT(--EXACT(K448&M448,$AD$2:AD447)),\"\",MAX($AE$3:AE447)+1)","v":""}]
[1,"",447,"","",{"$f":"IF(L449<>\"\",CONCATENATE(DIGITADOR!$B$2,$A$2,DIGITADOR!$M$1,A449),\"\")","v":""},null,null,"",{"$f":"IF(K449=\"\",\"\",INDEX('OTRAS REFERENTES'!$AH$6:$AI$658,MATCH(K449,'OTRAS REFERENTES'!$AH$6:$AH$658,0),2))","v":""},null,{"$f":"IF(J449=\"\",\"\",INDEX(REFERENTES!$T:$W,MATCH(J449,REFERENTES!$V:$V,0),3))","v":""},null,null,"",null,{"$f":"IF(P449=\"\",\"\",INDEX(REFERENTES!$J:$K,MATCH(P449,REFERENTES!$K:$K,0),1))","v":""},null,{"$f":"IF(R449=\"\",\"\",INDEX(REFERENTES!$D:$E,MATCH(R449,REFERENTES!$D:$D,0),2))","v":""},null,null,"",{"$f":"IF(X449=\"\",\"\",INDEX('OTRAS REFERENTES'!$H:$I,MATCH(X449,'OTRAS REFERENTES'!$I:$I,0),1))","v":""},null,null,{"$f":"IF(AA449=\"\",\"\",INDEX('OTRAS REFERENTES'!$K:$L,MATCH(AA449,'OTRAS REFERENTES'!$L:$L,0),1))","v":""},null,null,"",{"$f":"IF(SUMPRODUCT(--EXACT(K449&M449,$AD$2:AD448)),\"\",K449&M449)","v":""},{"$f":"IF(SUMPRODUCT(--EXACT(K449&M449,$AD$2:AD448)),\"\",MAX($AE$3:AE448)+1)","v":""}]
[1,"",448,"","",{"$f":"IF(L450<>\"\",CONCATENATE(DIGITADOR!$B$2,$A$2,DIGITADOR!$M$1,A450),\"\")","v":""},null,null,"",{"$f":"IF(K450=\"\",\"\",INDEX('OTRAS REFERENTES'!$AH$6:$AI$658,MATCH(K450,'OTRAS REFERENTES'!$AH$6:$AH$658,0),2))","v":""},null,{"$f":"IF(J450=\"\",\"\",INDEX(REFERENTES!$T:$W,MATCH(J450,REFERENTES!$V:$V,0),3))","v":""},null,null,"",null,{"$f":"IF(P450=\"\",\"\",INDEX(REFERENTES!$J:$K,MATCH(P450,REFERENTES!$K:$K,0),1))","v":""},null,{"$f":"IF(R450=\"\",\"\",INDEX(REFERENTES!$D:$E,MATCH(R450,REFERENTES!$D:$D,0),2))","v":""},null,null,"",{"$f":"IF(X450=\"\",\"\",INDEX('OTRAS REFERENTES'!$H:$I,MATCH(X450,'OTRAS REFERENTES'!$I:$I,0),1))","v":""},null,null,{"$f":"IF(AA450=\"\",\"\",INDEX('OTRAS REFERENTES'!$K:$L,MATCH(AA450,'OTRAS REFERENTES'!$L:$L,0),1))","v":""},null,null,"",{"$f":"IF(SUMPRODUCT(--EXACT(K450&M450,$AD$2:AD449)),\"\",K450&M450)","v":""},{"$f":"IF(SUMPRODUCT(--EXACT(K450&M450,$AD$2:AD449)),\"\",MAX($AE$3:AE449)+1)","v":""}]
[1,"",449,"",{"$f":"CONCATENATE(I451,L451)","v":""},{"$f":"IF(L451<>\"\",CONCATENATE(DIGITADOR!$B$2,$A$2,DIGITADOR!$M$1,A451),\"\")","v":""},null,null,{"$f":"IF(G451<>\"\",G451+H451,\"\")","v":""},{"$f":"IF(K451=\"\",\"\",INDEX('OTRAS REFERENTES'!$AH$6:$AI$658,MATCH(K451,'OTRAS REFERENTES'!$AH$6:$AH$658,0),2))","v":""},null,{"$f":"IF(J451=\"\",\"\",INDEX(REFERENTES!$T:$W,MATCH(J451,REFERENTES!$V:$V,0),3))","v":""},null,null,{"$f":"IF(P451=\"\",\"\",UPPER(P451))","v":""},null,{"$f":"IF(P451=\"\",\"\",INDEX(REFERENTES!$J:$K,MATCH(P451,REFERENTES!$K:$K,0),1))","v":""},null,{"$f":"IF(R451=\"\",\"\",INDEX(REFERENTES!$D:$E,MATCH(R451,REFERENTES!$D:$D,0),2))","v":""},null,null,{"$f":"IF(U451=\"\",IF(T451=\"\",\"\",IF(AND(T451>=0,T451<=50),\"A\",IF(AND(T451>50,T451<=150),\"B\",\"C\"))),U451)","v":""},{"$f":"IF(X451=\"\",\"\",INDEX('OTRAS REFERENTES'!$H:$I,MATCH(X451,'OTRAS REFERENTES'!$I:$I,0),1))","v":""},null,null,{"$f":"IF(AA451=\"\",\"\",INDEX('OTRAS REFERENTES'!$K:$L,MATCH(AA451,'OTRAS REFERENTES'!$L:$L,0),1))","v":""},null,null,"",{"$f":"IF(SUMPRODUCT(--EXACT(K451&M451,$AD$2:AD450)),\"\",K451&M451)","v":""},{"$f":"IF(SUMPRODUCT(--EXACT(K451&M451,$AD$2:AD450)),\"\",MAX($AE$3:AE450)+1)","v":""}]
[1,"",450,"","",{"$f":"IF(L452<>\"\",CONCATENATE(DIGITADOR!$B$2,$A$2,DIGITADOR!$M$1,A452),\"\")","v":""},null,null,"",{"$f":"IF(K452=\"\",\"\",INDEX('OTRAS REFERENTES'!$AH$6:$AI$658,MATCH(K452,'OTRAS REFERENTES'!$AH$6:$AH$658,0),2))","v":""},null,{"$f":"IF(J452=\"\",\"\",INDEX(REFERENTES!$T:$W,MATCH(J452,REFERENTES!$V:$V,0),3))","v":""},null,null,"",null,{"$f":"IF(P452=\"\",\"\",INDEX(REFERENTES!$J:$K,MATCH(P452,REFERENTES!$K:$K,0),1))","v":""},null,{"$f":"IF(R452=\"\",\"\",INDEX(REFERENTES!$D:$E,MATCH(R452,REFERENTES!$D:$D,0),2))","v":""},null,null,"",{"$f":"IF(X452=\"\",\"\",INDEX('OTRAS REFERENTES'!$H:$I,MATCH(X452,'OTRAS REFERENTES'!$I:$I,0),1))","v":""},null,null,{"$f":"IF(AA452=\"\",\"\",INDEX('OTRAS REFERENTES'!$K:$L,MATCH(AA452,'OTRAS REFERENTES'!$L:$L,0),1))","v":""},null,null,{"$f":"IF(R452=\"\",\"\",UPPER(R452))","v":""},{"$f":"IF(SUMPRODUCT(--EXACT(K452&M452,$AD$2:AD451)),\"\",K452&M452)","v":""},{"$f":"IF(SUMPRODUCT(--EXACT(K452&M452,$AD$2:AD451)),\"\",MAX($AE$3:AE451)+1)","v":""}]
[{"$f":"IF(L453=L452,A452,A452+1)","v":1},{"$f":"IF(F453<>F452, F453,\"\")","v":""},451,"","",{"$f":"IF(L453<>\"\",CONCATENATE(DIGITADOR!$B$2,$A$2,DIGITADOR!$M$1,A453),\"\")","v":""},null,null,"",{"$f":"IF(K453=\"\",\"\",INDEX('OTRAS REFERENTES'!$AH$6:$AI$658,MATCH(K453,'OTRAS REFERENTES'!$AH$6:$AH$658,0),2))","v":""},null,{"$f":"IF(J453=\"\",\"\",INDEX(REFERENTES!$T:$W,MATCH(J453,REFERENTES!$V:$V,0),3))","v":""},null,null,"",null,{"$f":"IF(P453=\"\",\"\",INDEX(REFERENTES!$J:$K,MATCH(P453,REFERENTES!$K:$K,0),1))","v":""},null,{"$f":"IF(R453=\"\",\"\",INDEX(REFERENTES!$D:$E,MATCH(R453,REFERENTES!$D:$D,0),2))","v":""},null,null,"",{"$f":"IF(X453=\"\",\"\",INDEX('OTRAS REFERENTES'!$H:$I,MATCH(X453,'OTRAS REFERENTES'!$I:$I,0),1))","v":""},null,null,{"$f":"IF(AA453=\"\",\"\",INDEX('OTRAS REFERENTES'!$K:$L,MATCH(AA453,'OTRAS REFERENTES'!$L:$L,0),1))","v":""},null,null,"",{"$f":"IF(SUMPRODUCT(--EXACT(K453&M453,$AD$2:AD452)),\"\",K453&M453)","v":""},{"$f":"IF(SUMPRODUCT(--EXACT(K453&M453,$AD$2:AD452)),\"\",MAX($AE$3:AE452)+1)","v":""}]
[1,"",452,"","",{"$f":"IF(L454<>\"\",CONCATENATE(DIGITADOR!$B$2,$A$2,DIGITADOR!$M$1,A454),\"\")","v":""},null,null,"",{"$f":"IF(K454=\"\",\"\",INDEX('OTRAS REFERENTES'!$AH$6:$AI$658,MATCH(K454,'OTRAS REFERENTES'!$AH$6:$AH$658,0),2))","v":""},null,{"$f":"IF(J454=\"\",\"\",INDEX(REFERENTES!$T:$W,MATCH(J454,REFERENTES!$V:$V,0),3))","v":""},null,null,"",null,{"$f":"IF(P454=\"\",\"\",INDEX(REFERENTES!$J:$K,MATCH(P454,REFERENTES!$K:$K,0),1))","v":""},null,{"$f":"IF(R454=\"\",\"\",INDEX(REFERENTES!$D:$E,MATCH(R454,REFERENTES!$D:$D,0),2))","v":""},null,null,"",{"$f":"IF(X454=\"\",\"\",INDEX('OTRAS REFERENTES'!$H:$I,MATCH(X454,'OTRAS REFERENTES'!$I:$I,0),1))","v":""},null,null,{"$f":"IF(AA454=\"\",\"\",INDEX('OTRAS REFERENTES'!$K:$L,MATCH(AA454,'OTRAS REFERENTES'!$L:$L,0),1))","v":""},null,null,"",{"$f":"IF(SUMPRODUCT(--EXACT(K454&M454,$AD$2:AD453)),\"\",K454&M454)","v":""},{"$f":"IF(SUMPRODUCT(--EXACT(K454&M454,$AD$2:AD453)),\"\",MAX($AE$3:AE453)+1)","v":""}]
[1,"",453,"","",{"$f":"IF(L455<>\"\",CONCATENATE(DIGITADOR!$B$2,$A$2,DIGITADOR!$M$1,A455),\"\")","v":""},null,null,"",{"$f":"IF(K455=\"\",\"\",INDEX('OTRAS REFERENTES'!$AH$6:$AI$658,MATCH(K455,'OTRAS REFERENTES'!$AH$6:$AH$658,0),2))","v":""},null,{"$f":"IF(J455=\"\",\"\",INDEX(REFERENTES!$T:$W,MATCH(J455,REFERENTES!$V:$V,0),3))","v":""},null,null,"",null,{"$f":"IF(P455=\"\",\"\",INDEX(REFERENTES!$J:$K,MATCH(P455,REFERENTES!$K:$K,0),1))","v":""},null,{"$f":"IF(R455=\"\",\"\",INDEX(REFERENTES!$D:$E,MATCH(R455,REFERENTES!$D:$D,0),2))","v":""},null,null,"",{"$f":"IF(X455=\"\",\"\",INDEX('OTRAS REFERENTES'!$H:$I,MATCH(X455,'OTRAS REFERENTES'!$I:$I,0),1))","v":""},null,null,{"$f":"IF(AA455=\"\",\"\",INDEX('OTRAS REFERENTES'!$K:$L,MATCH(AA455,'OTRAS REFERENTES'!$L:$L,0),1))","v":""},null,null,"",{"$f":"IF(SUMPRODUCT(--EXACT(K455&M455,$AD$2:AD454)),\"\",K455&M455)","v":""},{"$f":"IF(SUMPRODUCT(--EXACT(K455&M455,$AD$2:AD454)),\"\",MAX($AE$3:AE454)+1)","v":""}]
[1,"",454,"","",{"$f":"IF(L456<>\"\",CONCATENATE(DIGITADOR!$B$2,$A$2,DIGITADOR!$M$1,A456),\"\")","v":""},null,null,"",{"$f":"IF(K456=\"\",\"\",INDEX('OTRAS REFERENTES'!$AH$6:$AI$658,MATCH(K456,'OTRAS REFERENTES'!$AH$6:$AH$658,0),2))","v":""},null,{"$f":"IF(J456=\"\",\"\",INDEX(REFERENTES!$T:$W,MATCH(J456,REFERENTES!$V:$V,0),3))","v":""},null,null,"",null,{"$f":"IF(P456=\"\",\"\",INDEX(REFERENTES!$J:$K,MATCH(P456,REFERENTES!$K:$K,0),1))","v":""},null,{"$f":"IF(R456=\"\",\"\",INDEX(REFERENTES!$D:$E,MATCH(R456,REFERENTES!$D:$D,0),2))","v":""},null,null,"",{"$f":"IF(X456=\"\",\"\",INDEX('OTRAS REFERENTES'!$H:$I,MATCH(X456,'OTRAS REFERENTES'!$I:$I,0),1))","v":""},null,null,{"$f":"IF(AA456=\"\",\"\",INDEX('OTRAS REFERENTES'!$K:$L,MATCH(AA456,'OTRAS REFERENTES'!$L:$L,0),1))","v":""},null,null,"",{"$f":"IF(SUMPRODUCT(--EXACT(K456&M456,$AD$2:AD455)),\"\",K456&M456)","v":""},{"$f":"IF(SUMPRODUCT(--EXACT(K456&M456,$AD$2:AD455)),\"\",MAX($AE$3:AE455)+1)","v":""}]
[1,"",455,"","",{"$f":"IF(L457<>\"\",CONCATENATE(DIGITADOR!$B$2,$A$2,DIGITADOR!$M$1,A457),\"\")","v":""},null,null,"",{"$f":"IF(K457=\"\",\"\",INDEX('OTRAS REFERENTES'!$AH$6:$AI$658,MATCH(K457,'OTRAS REFERENTES'!$AH$6:$AH$658,0),2))","v":""},null,{"$f":"IF(J457=\"\",\"\",INDEX(REFERENTES!$T:$W,MATCH(J457,REFERENTES!$V:$V,0),3))","v":""},null,null,"",null,{"$f":"IF(P457=\"\",\"\",INDEX(REFERENTES!$J:$K,MATCH(P457,REFERENTES!$K:$K,0),1))","v":""},null,{"$f":"IF(R457=\"\",\"\",INDEX(REFERENTES!$D:$E,MATCH(R457,REFERENTES!$D:$D,0),2))","v":""},null,null,"",{"$f":"IF(X457=\"\",\"\",INDEX('OTRAS REFERENTES'!$H:$I,MATCH(X457,'OTRAS REFERENTES'!$I:$I,0),1))","v":""},null,null,{"$f":"IF(AA457=\"\",\"\",INDEX('OTRAS REFERENTES'!$K:$L,MATCH(AA457,'OTRAS REFERENTES'!$L:$L,0),1))","v":""},null,null,"",{"$f":"IF(SUMPRODUCT(--EXACT(K457&M457,$AD$2:AD456)),\"\",K457&M457)","v":""},{"$f":"IF(SUMPRODUCT(--EXACT(K457&M457,$AD$2:AD456)),\"\",MAX($AE$3:AE456)+1)","v":""}]
[1,"",456,"","",{"$f":"IF(L458<>\"\",CONCATENATE(DIGITADOR!$B$2,$A$2,DIGITADOR!$M$1,A458),\"\")","v":""},null,null,"",{"$f":"IF(K458=\"\",\"\",INDEX('OTRAS REFERENTES'!$AH$6:$AI$658,MATCH(K458,'OTRAS REFERENTES'!$AH$6:$AH$658,0),2))","v":""},null,{"$f":"IF(J458=\"\",\"\",INDEX(REFERENTES!$T:$W,MATCH(J458,REFERENTES!$V:$V,0),3))","v":""},null,null,"",null,{"$f":"IF(P458=\"\",\"\",INDEX(REFERENTES!$J:$K,MATCH(P458,REFERENTES!$K:$K,0),1))","v":""},null,{"$f":"IF(R458=\"\",\"\",INDEX(REFERENTES!$D:$E,MATCH(R458,REFERENTES!$D:$D,0),2))","v":""},null,null,"",{"$f":"IF(X458=\"\",\"\",INDEX('OTRAS REFERENTES'!$H:$I,MATCH(X458,'OTRAS REFERENTES'!$I:$I,0),1))","v":""},null,null,{"$f":"IF(AA458=\"\",\"\",INDEX('OTRAS REFERENTES'!$K:$L,MATCH(AA458,'OTRAS REFERENTES'!$L:$L,0),1))","v":""},null,null,"",{"$f":"IF(SUMPRODUCT(--EXACT(K458&M458,$AD$2:AD457)),\"\",K458&M458)","v":""},{"$f":"IF(SUMPRODUCT(--EXACT(K458&M458,$AD$2:AD457)),\"\",MAX($AE$3:AE457)+1)","v":""}]
[1,"",457,"","",{"$f":"IF(L459<>\"\",CONCATENATE(DIGITADOR!$B$2,$A$2,DIGITADOR!$M$1,A459),\"\")","v":""},null,null,"",{"$f":"IF(K459=\"\",\"\",INDEX('OTRAS REFERENTES'!$AH$6:$AI$658,MATCH(K459,'OTRAS REFERENTES'!$AH$6:$AH$658,0),2))","v":""},null,{"$f":"IF(J459=\"\",\"\",INDEX(REFERENTES!$T:$W,MATCH(J459,REFERENTES!$V:$V,0),3))","v":""},null,null,"",null,{"$f":"IF(P459=\"\",\"\",INDEX(REFERENTES!$J:$K,MATCH(P459,REFERENTES!$K:$K,0),1))","v":""},null,{"$f":"IF(R459=\"\",\"\",INDEX(REFERENTES!$D:$E,MATCH(R459,REFERENTES!$D:$D,0),2))","v":""},null,null,"",{"$f":"IF(X459=\"\",\"\",INDEX('OTRAS REFERENTES'!$H:$I,MATCH(X459,'OTRAS REFERENTES'!$I:$I,0),1))","v":""},null,null,{"$f":"IF(AA459=\"\",\"\",INDEX('OTRAS REFERENTES'!$K:$L,MATCH(AA459,'OTRAS REFERENTES'!$L:$L,0),1))","v":""},null,null,"",{"$f":"IF(SUMPRODUCT(--EXACT(K459&M459,$AD$2:AD458)),\"\",K459&M459)","v":""},{"$f":"IF(SUMPRODUCT(--EXACT(K459&M459,$AD$2:AD458)),\"\",MAX($AE$3:AE458)+1)","v":""}]
[1,"",458,"","",{"$f":"IF(L460<>\"\",CONCATENATE(DIGITADOR!$B$2,$A$2,DIGITADOR!$M$1,A460),\"\")","v":""},null,null,"",{"$f":"IF(K460=\"\",\"\",INDEX('OTRAS REFERENTES'!$AH$6:$AI$658,MATCH(K460,'OTRAS REFERENTES'!$AH$6:$AH$658,0),2))","v":""},null,{"$f":"IF(J460=\"\",\"\",INDEX(REFERENTES!$T:$W,MATCH(J460,REFERENTES!$V:$V,0),3))","v":""},null,null,"",null,{"$f":"IF(P460=\"\",\"\",INDEX(REFERENTES!$J:$K,MATCH(P460,REFERENTES!$K:$K,0),1))","v":""},null,{"$f":"IF(R460=\"\",\"\",INDEX(REFERENTES!$D:$E,MATCH(R460,REFERENTES!$D:$D,0),2))","v":""},null,null,"",{"$f":"IF(X460=\"\",\"\",INDEX('OTRAS REFERENTES'!$H:$I,MATCH(X460,'OTRAS REFERENTES'!$I:$I,0),1))","v":""},null,null,{"$f":"IF(AA460=\"\",\"\",INDEX('OTRAS REFERENTES'!$K:$L,MATCH(AA460,'OTRAS REFERENTES'!$L:$L,0),1))","v":""},null,null,"",{"$f":"IF(SUMPRODUCT(--EXACT(K460&M460,$AD$2:AD459)),\"\",K460&M460)","v":""},{"$f":"IF(SUMPRODUCT(--EXACT(K460&M460,$AD$2:AD459)),\"\",MAX($AE$3:AE459)+1)","v":""}]
[1,"",459,"","",{"$f":"IF(L461<>\"\",CONCATENATE(DIGITADOR!$B$2,$A$2,DIGITADOR!$M$1,A461),\"\")","v":""},null,null,"",{"$f":"IF(K461=\"\",\"\",INDEX('OTRAS REFERENTES'!$AH$6:$AI$658,MATCH(K461,'OTRAS REFERENTES'!$AH$6:$AH$658,0),2))","v":""},null,{"$f":"IF(J461=\"\",\"\",INDEX(REFERENTES!$T:$W,MATCH(J461,REFERENTES!$V:$V,0),3))","v":""},null,null,"",null,{"$f":"IF(P461=\"\",\"\",INDEX(REFERENTES!$J:$K,MATCH(P461,REFERENTES!$K:$K,0),1))","v":""},null,{"$f":"IF(R461=\"\",\"\",INDEX(REFERENTES!$D:$E,MATCH(R461,REFERENTES!$D:$D,0),2))","v":""},null,null,"",{"$f":"IF(X461=\"\",\"\",INDEX('OTRAS REFERENTES'!$H:$I,MATCH(X461,'OTRAS REFERENTES'!$I:$I,0),1))","v":""},null,null,{"$f":"IF(AA461=\"\",\"\",INDEX('OTRAS REFERENTES'!$K:$L,MATCH(AA461,'OTRAS REFERENTES'!$L:$L,0),1))","v":""},null,null,"",{"$f":"IF(SUMPRODUCT(--EXACT(K461&M461,$AD$2:AD460)),\"\",K461&M461)","v":""},{"$f":"IF(SUMPRODUCT(--EXACT(K461&M461,$AD$2:AD460)),\"\",MAX($AE$3:AE460)+1)","v":""}]
[1,"",460,"","",{"$f":"IF(L462<>\"\",CONCATENATE(DIGITADOR!$B$2,$A$2,DIGITADOR!$M$1,A462),\"\")","v":""},null,null,"",{"$f":"IF(K462=\"\",\"\",INDEX('OTRAS REFERENTES'!$AH$6:$AI$658,MATCH(K462,'OTRAS REFERENTES'!$AH$6:$AH$658,0),2))","v":""},null,{"$f":"IF(J462=\"\",\"\",INDEX(REFERENTES!$T:$W,MATCH(J462,REFERENTES!$V:$V,0),3))","v":""},null,null,"",null,{"$f":"IF(P462=\"\",\"\",INDEX(REFERENTES!$J:$K,MATCH(P462,REFERENTES!$K:$K,0),1))","v":""},null,{"$f":"IF(R462=\"\",\"\",INDEX(REFERENTES!$D:$E,MATCH(R462,REFERENTES!$D:$D,0),2))","v":""},null,null,"",{"$f":"IF(X462=\"\",\"\",INDEX('OTRAS REFERENTES'!$H:$I,MATCH(X462,'OTRAS REFERENTES'!$I:$I,0),1))","v":""},null,null,{"$f":"IF(AA462=\"\",\"\",INDEX('OTRAS REFERENTES'!$K:$L,MATCH(AA462,'OTRAS REFERENTES'!$L:$L,0),1))","v":""},null,null,"",{"$f":"IF(SUMPRODUCT(--EXACT(K462&M462,$AD$2:AD461)),\"\",K462&M462)","v":""},{"$f":"IF(SUMPRODUCT(--EXACT(K462&M462,$AD$2:AD461)),\"\",MAX($AE$3:AE461)+1)","v":""}]
[1,"",461,"","",{"$f":"IF(L463<>\"\",CONCATENATE(DIGITADOR!$B$2,$A$2,DIGITADOR!$M$1,A463),\"\")","v":""},null,null,"",{"$f":"IF(K463=\"\",\"\",INDEX('OTRAS REFERENTES'!$AH$6:$AI$658,MATCH(K463,'OTRAS REFERENTES'!$AH$6:$AH$658,0),2))","v":""},null,{"$f":"IF(J463=\"\",\"\",INDEX(REFERENTES!$T:$W,MATCH(J463,REFERENTES!$V:$V,0),3))","v":""},null,null,"",null,{"$f":"IF(P463=\"\",\"\",INDEX(REFERENTES!$J:$K,MATCH(P463,REFERENTES!$K:$K,0),1))","v":""},null,{"$f":"IF(R463=\"\",\"\",INDEX(REFERENTES!$D:$E,MATCH(R463,REFERENTES!$D:$D,0),2))","v":""},null,null,"",{"$f":"IF(X463=\"\",\"\",INDEX('OTRAS REFERENTES'!$H:$I,MATCH(X463,'OTRAS REFERENTES'!$I:$I,0),1))","v":""},null,null,{"$f":"IF(AA463=\"\",\"\",INDEX('OTRAS REFERENTES'!$K:$L,MATCH(AA463,'OTRAS REFERENTES'!$L:$L,0),1))","v":""},null,null,"",{"$f":"IF(SUMPRODUCT(--EXACT(K463&M463,$AD$2:AD462)),\"\",K463&M463)","v":""},{"$f":"IF(SUMPRODUCT(--EXACT(K463&M463,$AD$2:AD462)),\"\",MAX($AE$3:AE462)+1)","v":""}]
[1,"",462,"","",{"$f":"IF(L464<>\"\",CONCATENATE(DIGITADOR!$B$2,$A$2,DIGITADOR!$M$1,A464),\"\")","v":""},null,null,"",{"$f":"IF(K464=\"\",\"\",INDEX('OTRAS REFERENTES'!$AH$6:$AI$658,MATCH(K464,'OTRAS REFERENTES'!$AH$6:$AH$658,0),2))","v":""},null,{"$f":"IF(J464=\"\",\"\",INDEX(REFERENTES!$T:$W,MATCH(J464,REFERENTES!$V:$V,0),3))","v":""},null,null,"",null,{"$f":"IF(P464=\"\",\"\",INDEX(REFERENTES!$J:$K,MATCH(P464,REFERENTES!$K:$K,0),1))","v":""},null,{"$f":"IF(R464=\"\",\"\",INDEX(REFERENTES!$D:$E,MATCH(R464,REFERENTES!$D:$D,0),2))","v":""},null,null,"",{"$f":"IF(X464=\"\",\"\",INDEX('OTRAS REFERENTES'!$H:$I,MATCH(X464,'OTRAS REFERENTES'!$I:$I,0),1))","v":""},null,null,{"$f":"IF(AA464=\"\",\"\",INDEX('OTRAS REFERENTES'!$K:$L,MATCH(AA464,'OTRAS REFERENTES'!$L:$L,0),1))","v":""},null,null,"",{"$f":"IF(SUMPRODUCT(--EXACT(K464&M464,$AD$2:AD463)),\"\",K464&M464)","v":""},{"$f":"IF(SUMPRODUCT(--EXACT(K464&M464,$AD$2:AD463)),\"\",MAX($AE$3:AE463)+1)","v":""}]
[1,"",463,"","",{"$f":"IF(L465<>\"\",CONCATENATE(DIGITADOR!$B$2,$A$2,DIGITADOR!$M$1,A465),\"\")","v":""},null,null,"",{"$f":"IF(K465=\"\",\"\",INDEX('OTRAS REFERENTES'!$AH$6:$AI$658,MATCH(K465,'OTRAS REFERENTES'!$AH$6:$AH$658,0),2))","v":""},null,{"$f":"IF(J465=\"\",\"\",INDEX(REFERENTES!$T:$W,MATCH(J465,REFERENTES!$V:$V,0),3))","v":""},null,null,"",null,{"$f":"IF(P465=\"\",\"\",INDEX(REFERENTES!$J:$K,MATCH(P465,REFERENTES!$K:$K,0),1))","v":""},null,{"$f":"IF(R465=\"\",\"\",INDEX(REFERENTES!$D:$E,MATCH(R465,REFERENTES!$D:$D,0),2))","v":""},null,null,"",{"$f":"IF(X465=\"\",\"\",INDEX('OTRAS REFERENTES'!$H:$I,MATCH(X465,'OTRAS REFERENTES'!$I:$I,0),1))","v":""},null,null,{"$f":"IF(AA465=\"\",\"\",INDEX('OTRAS REFERENTES'!$K:$L,MATCH(AA465,'OTRAS REFERENTES'!$L:$L,0),1))","v":""},null,null,"",{"$f":"IF(SUMPRODUCT(--EXACT(K465&M465,$AD$2:AD464)),\"\",K465&M465)","v":""},{"$f":"IF(SUMPRODUCT(--EXACT(K465&M465,$AD$2:AD464)),\"\",MAX($AE$3:AE464)+1)","v":""}]
[1,"",464,"","",{"$f":"IF(L466<>\"\",CONCATENATE(DIGITADOR!$B$2,$A$2,DIGITADOR!$M$1,A466),\"\")","v":""},null,null,"",{"$f":"IF(K466=\"\",\"\",INDEX('OTRAS REFERENTES'!$AH$6:$AI$658,MATCH(K466,'OTRAS REFERENTES'!$AH$6:$AH$658,0),2))","v":""},null,{"$f":"IF(J466=\"\",\"\",INDEX(REFERENTES!$T:$W,MATCH(J466,REFERENTES!$V:$V,0),3))","v":""},null,null,"",null,{"$f":"IF(P466=\"\",\"\",INDEX(REFERENTES!$J:$K,MATCH(P466,REFERENTES!$K:$K,0),1))","v":""},null,{"$f":"IF(R466=\"\",\"\",INDEX(REFERENTES!$D:$E,MATCH(R466,REFERENTES!$D:$D,0),2))","v":""},null,null,"",{"$f":"IF(X466=\"\",\"\",INDEX('OTRAS REFERENTES'!$H:$I,MATCH(X466,'OTRAS REFERENTES'!$I:$I,0),1))","v":""},null,null,{"$f":"IF(AA466=\"\",\"\",INDEX('OTRAS REFERENTES'!$K:$L,MATCH(AA466,'OTRAS REFERENTES'!$L:$L,0),1))","v":""},null,null,"",{"$f":"IF(SUMPRODUCT(--EXACT(K466&M466,$AD$2:AD465)),\"\",K466&M466)","v":""},{"$f":"IF(SUMPRODUCT(--EXACT(K466&M466,$AD$2:AD465)),\"\",MAX($AE$3:AE465)+1)","v":""}]
[1,"",465,"","",{"$f":"IF(L467<>\"\",CONCATENATE(DIGITADOR!$B$2,$A$2,DIGITADOR!$M$1,A467),\"\")","v":""},null,null,"",{"$f":"IF(K467=\"\",\"\",INDEX('OTRAS REFERENTES'!$AH$6:$AI$658,MATCH(K467,'OTRAS REFERENTES'!$AH$6:$AH$658,0),2))","v":""},null,{"$f":"IF(J467=\"\",\"\",INDEX(REFERENTES!$T:$W,MATCH(J467,REFERENTES!$V:$V,0),3))","v":""},null,null,"",null,{"$f":"IF(P467=\"\",\"\",INDEX(REFERENTES!$J:$K,MATCH(P467,REFERENTES!$K:$K,0),1))","v":""},null,{"$f":"IF(R467=\"\",\"\",INDEX(REFERENTES!$D:$E,MATCH(R467,REFERENTES!$D:$D,0),2))","v":""},null,null,"",{"$f":"IF(X467=\"\",\"\",INDEX('OTRAS REFERENTES'!$H:$I,MATCH(X467,'OTRAS REFERENTES'!$I:$I,0),1))","v":""},null,null,{"$f":"IF(AA467=\"\",\"\",INDEX('OTRAS REFERENTES'!$K:$L,MATCH(AA467,'OTRAS REFERENTES'!$L:$L,0),1))","v":""},null,null,"",{"$f":"IF(SUMPRODUCT(--EXACT(K467&M467,$AD$2:AD466)),\"\",K467&M467)","v":""},{"$f":"IF(SUMPRODUCT(--EXACT(K467&M467,$AD$2:AD466)),\"\",MAX($AE$3:AE466)+1)","v":""}]
[1,"",466,"","",{"$f":"IF(L468<>\"\",CONCATENATE(DIGITADOR!$B$2,$A$2,DIGITADOR!$M$1,A468),\"\")","v":""},null,null,"",{"$f":"IF(K468=\"\",\"\",INDEX('OTRAS REFERENTES'!$AH$6:$AI$658,MATCH(K468,'OTRAS REFERENTES'!$AH$6:$AH$658,0),2))","v":""},null,{"$f":"IF(J468=\"\",\"\",INDEX(REFERENTES!$T:$W,MATCH(J468,REFERENTES!$V:$V,0),3))","v":""},null,null,"",null,{"$f":"IF(P468=\"\",\"\",INDEX(REFERENTES!$J:$K,MATCH(P468,REFERENTES!$K:$K,0),1))","v":""},null,{"$f":"IF(R468=\"\",\"\",INDEX(REFERENTES!$D:$E,MATCH(R468,REFERENTES!$D:$D,0),2))","v":""},null,null,"",{"$f":"IF(X468=\"\",\"\",INDEX('OTRAS REFERENTES'!$H:$I,MATCH(X468,'OTRAS REFERENTES'!$I:$I,0),1))","v":""},null,null,{"$f":"IF(AA468=\"\",\"\",INDEX('OTRAS REFERENTES'!$K:$L,MATCH(AA468,'OTRAS REFERENTES'!$L:$L,0),1))","v":""},null,null,"",{"$f":"IF(SUMPRODUCT(--EXACT(K468&M468,$AD$2:AD467)),\"\",K468&M468)","v":""},{"$f":"IF(SUMPRODUCT(--EXACT(K468&M468,$AD$2:AD467)),\"\",MAX($AE$3:AE467)+1)","v":""}]
[1,"",467,"","",{"$f":"IF(L469<>\"\",CONCATENATE(DIGITADOR!$B$2,$A$2,DIGITADOR!$M$1,A469),\"\")","v":""},null,null,"",{"$f":"IF(K469=\"\",\"\",INDEX('OTRAS REFERENTES'!$AH$6:$AI$658,MATCH(K469,'OTRAS REFERENTES'!$AH$6:$AH$658,0),2))","v":""},null,{"$f":"IF(J469=\"\",\"\",INDEX(REFERENTES!$T:$W,MATCH(J469,REFERENTES!$V:$V,0),3))","v":""},null,null,"",null,{"$f":"IF(P469=\"\",\"\",INDEX(REFERENTES!$J:$K,MATCH(P469,REFERENTES!$K:$K,0),1))","v":""},null,{"$f":"IF(R469=\"\",\"\",INDEX(REFERENTES!$D:$E,MATCH(R469,REFERENTES!$D:$D,0),2))","v":""},null,null,"",{"$f":"IF(X469=\"\",\"\",INDEX('OTRAS REFERENTES'!$H:$I,MATCH(X469,'OTRAS REFERENTES'!$I:$I,0),1))","v":""},null,null,{"$f":"IF(AA469=\"\",\"\",INDEX('OTRAS REFERENTES'!$K:$L,MATCH(AA469,'OTRAS REFERENTES'!$L:$L,0),1))","v":""},null,null,"",{"$f":"IF(SUMPRODUCT(--EXACT(K469&M469,$AD$2:AD468)),\"\",K469&M469)","v":""},{"$f":"IF(SUMPRODUCT(--EXACT(K469&M469,$AD$2:AD468)),\"\",MAX($AE$3:AE468)+1)","v":""}]
[1,"",468,"","",{"$f":"IF(L470<>\"\",CONCATENATE(DIGITADOR!$B$2,$A$2,DIGITADOR!$M$1,A470),\"\")","v":""},null,null,"",{"$f":"IF(K470=\"\",\"\",INDEX('OTRAS REFERENTES'!$AH$6:$AI$658,MATCH(K470,'OTRAS REFERENTES'!$AH$6:$AH$658,0),2))","v":""},null,{"$f":"IF(J470=\"\",\"\",INDEX(REFERENTES!$T:$W,MATCH(J470,REFERENTES!$V:$V,0),3))","v":""},null,null,"",null,{"$f":"IF(P470=\"\",\"\",INDEX(REFERENTES!$J:$K,MATCH(P470,REFERENTES!$K:$K,0),1))","v":""},null,{"$f":"IF(R470=\"\",\"\",INDEX(REFERENTES!$D:$E,MATCH(R470,REFERENTES!$D:$D,0),2))","v":""},null,null,"",{"$f":"IF(X470=\"\",\"\",INDEX('OTRAS REFERENTES'!$H:$I,MATCH(X470,'OTRAS REFERENTES'!$I:$I,0),1))","v":""},null,null,{"$f":"IF(AA470=\"\",\"\",INDEX('OTRAS REFERENTES'!$K:$L,MATCH(AA470,'OTRAS REFERENTES'!$L:$L,0),1))","v":""},null,null,"",{"$f":"IF(SUMPRODUCT(--EXACT(K470&M470,$AD$2:AD469)),\"\",K470&M470)","v":""},{"$f":"IF(SUMPRODUCT(--EXACT(K470&M470,$AD$2:AD469)),\"\",MAX($AE$3:AE469)+1)","v":""}]
[1,"",469,"","",{"$f":"IF(L471<>\"\",CONCATENATE(DIGITADOR!$B$2,$A$2,DIGITADOR!$M$1,A471),\"\")","v":""},null,null,"",{"$f":"IF(K471=\"\",\"\",INDEX('OTRAS REFERENTES'!$AH$6:$AI$658,MATCH(K471,'OTRAS REFERENTES'!$AH$6:$AH$658,0),2))","v":""},null,{"$f":"IF(J471=\"\",\"\",INDEX(REFERENTES!$T:$W,MATCH(J471,REFERENTES!$V:$V,0),3))","v":""},null,null,"",null,{"$f":"IF(P471=\"\",\"\",INDEX(REFERENTES!$J:$K,MATCH(P471,REFERENTES!$K:$K,0),1))","v":""},null,{"$f":"IF(R471=\"\",\"\",INDEX(REFERENTES!$D:$E,MATCH(R471,REFERENTES!$D:$D,0),2))","v":""},null,null,"",{"$f":"IF(X471=\"\",\"\",INDEX('OTRAS REFERENTES'!$H:$I,MATCH(X471,'OTRAS REFERENTES'!$I:$I,0),1))","v":""},null,null,{"$f":"IF(AA471=\"\",\"\",INDEX('OTRAS REFERENTES'!$K:$L,MATCH(AA471,'OTRAS REFERENTES'!$L:$L,0),1))","v":""},null,null,"",{"$f":"IF(SUMPRODUCT(--EXACT(K471&M471,$AD$2:AD470)),\"\",K471&M471)","v":""},{"$f":"IF(SUMPRODUCT(--EXACT(K471&M471,$AD$2:AD470)),\"\",MAX($AE$3:AE470)+1)","v":""}]
[1,"",470,"","",{"$f":"IF(L472<>\"\",CONCATENATE(DIGITADOR!$B$2,$A$2,DIGITADOR!$M$1,A472),\"\")","v":""},null,null,"",{"$f":"IF(K472=\"\",\"\",INDEX('OTRAS REFERENTES'!$AH$6:$AI$658,MATCH(K472,'OTRAS REFERENTES'!$AH$6:$AH$658,0),2))","v":""},null,{"$f":"IF(J472=\"\",\"\",INDEX(REFERENTES!$T:$W,MATCH(J472,REFERENTES!$V:$V,0),3))","v":""},null,null,"",null,{"$f":"IF(P472=\"\",\"\",INDEX(REFERENTES!$J:$K,MATCH(P472,REFERENTES!$K:$K,0),1))","v":""},null,{"$f":"IF(R472=\"\",\"\",INDEX(REFERENTES!$D:$E,MATCH(R472,REFERENTES!$D:$D,0),2))","v":""},null,null,"",{"$f":"IF(X472=\"\",\"\",INDEX('OTRAS REFERENTES'!$H:$I,MATCH(X472,'OTRAS REFERENTES'!$I:$I,0),1))","v":""},null,null,{"$f":"IF(AA472=\"\",\"\",INDEX('OTRAS REFERENTES'!$K:$L,MATCH(AA472,'OTRAS REFERENTES'!$L:$L,0),1))","v":""},null,null,"",{"$f":"IF(SUMPRODUCT(--EXACT(K472&M472,$AD$2:AD471)),\"\",K472&M472)","v":""},{"$f":"IF(SUMPRODUCT(--EXACT(K472&M472,$AD$2:AD471)),\"\",MAX($AE$3:AE471)+1)","v":""}]
[1,"",471,"","",{"$f":"IF(L473<>\"\",CONCATENATE(DIGITADOR!$B$2,$A$2,DIGITADOR!$M$1,A473),\"\")","v":""},null,null,"",{"$f":"IF(K473=\"\",\"\",INDEX('OTRAS REFERENTES'!$AH$6:$AI$658,MATCH(K473,'OTRAS REFERENTES'!$AH$6:$AH$658,0),2))","v":""},null,{"$f":"IF(J473=\"\",\"\",INDEX(REFERENTES!$T:$W,MATCH(J473,REFERENTES!$V:$V,0),3))","v":""},null,null,"",null,{"$f":"IF(P473=\"\",\"\",INDEX(REFERENTES!$J:$K,MATCH(P473,REFERENTES!$K:$K,0),1))","v":""},null,{"$f":"IF(R473=\"\",\"\",INDEX(REFERENTES!$D:$E,MATCH(R473,REFERENTES!$D:$D,0),2))","v":""},null,null,"",{"$f":"IF(X473=\"\",\"\",INDEX('OTRAS REFERENTES'!$H:$I,MATCH(X473,'OTRAS REFERENTES'!$I:$I,0),1))","v":""},null,null,{"$f":"IF(AA473=\"\",\"\",INDEX('OTRAS REFERENTES'!$K:$L,MATCH(AA473,'OTRAS REFERENTES'!$L:$L,0),1))","v":""},null,null,"",{"$f":"IF(SUMPRODUCT(--EXACT(K473&M473,$AD$2:AD472)),\"\",K473&M473)","v":""},{"$f":"IF(SUMPRODUCT(--EXACT(K473&M473,$AD$2:AD472)),\"\",MAX($AE$3:AE472)+1)","v":""}]
[1,"",472,"","",{"$f":"IF(L474<>\"\",CONCATENATE(DIGITADOR!$B$2,$A$2,DIGITADOR!$M$1,A474),\"\")","v":""},null,null,"",{"$f":"IF(K474=\"\",\"\",INDEX('OTRAS REFERENTES'!$AH$6:$AI$658,MATCH(K474,'OTRAS REFERENTES'!$AH$6:$AH$658,0),2))","v":""},null,{"$f":"IF(J474=\"\",\"\",INDEX(REFERENTES!$T:$W,MATCH(J474,REFERENTES!$V:$V,0),3))","v":""},null,null,"",null,{"$f":"IF(P474=\"\",\"\",INDEX(REFERENTES!$J:$K,MATCH(P474,REFERENTES!$K:$K,0),1))","v":""},null,{"$f":"IF(R474=\"\",\"\",INDEX(REFERENTES!$D:$E,MATCH(R474,REFERENTES!$D:$D,0),2))","v":""},null,null,"",{"$f":"IF(X474=\"\",\"\",INDEX('OTRAS REFERENTES'!$H:$I,MATCH(X474,'OTRAS REFERENTES'!$I:$I,0),1))","v":""},null,null,{"$f":"IF(AA474=\"\",\"\",INDEX('OTRAS REFERENTES'!$K:$L,MATCH(AA474,'OTRAS REFERENTES'!$L:$L,0),1))","v":""},null,null,"",{"$f":"IF(SUMPRODUCT(--EXACT(K474&M474,$AD$2:AD473)),\"\",K474&M474)","v":""},{"$f":"IF(SUMPRODUCT(--EXACT(K474&M474,$AD$2:AD473)),\"\",MAX($AE$3:AE473)+1)","v":""}]
[1,"",473,"","",{"$f":"IF(L475<>\"\",CONCATENATE(DIGITADOR!$B$2,$A$2,DIGITADOR!$M$1,A475),\"\")","v":""},null,null,"",{"$f":"IF(K475=\"\",\"\",INDEX('OTRAS REFERENTES'!$AH$6:$AI$658,MATCH(K475,'OTRAS REFERENTES'!$AH$6:$AH$658,0),2))","v":""},null,{"$f":"IF(J475=\"\",\"\",INDEX(REFERENTES!$T:$W,MATCH(J475,REFERENTES!$V:$V,0),3))","v":""},null,null,"",null,{"$f":"IF(P475=\"\",\"\",INDEX(REFERENTES!$J:$K,MATCH(P475,REFERENTES!$K:$K,0),1))","v":""},null,{"$f":"IF(R475=\"\",\"\",INDEX(REFERENTES!$D:$E,MATCH(R475,REFERENTES!$D:$D,0),2))","v":""},null,null,"",{"$f":"IF(X475=\"\",\"\",INDEX('OTRAS REFERENTES'!$H:$I,MATCH(X475,'OTRAS REFERENTES'!$I:$I,0),1))","v":""},null,null,{"$f":"IF(AA475=\"\",\"\",INDEX('OTRAS REFERENTES'!$K:$L,MATCH(AA475,'OTRAS REFERENTES'!$L:$L,0),1))","v":""},null,null,"",{"$f":"IF(SUMPRODUCT(--EXACT(K475&M475,$AD$2:AD474)),\"\",K475&M475)","v":""},{"$f":"IF(SUMPRODUCT(--EXACT(K475&M475,$AD$2:AD474)),\"\",MAX($AE$3:AE474)+1)","v":""}]
[1,"",474,{"$f":"IF(L476=\"\",\"\",CONCATENATE(C476,F476))","v":""},"",{"$f":"IF(L476<>\"\",CONCATENATE(DIGITADOR!$B$2,$A$2,DIGITADOR!$M$1,A476),\"\")","v":""},null,null,"",{"$f":"IF(K476=\"\",\"\",INDEX('OTRAS REFERENTES'!$AH$6:$AI$658,MATCH(K476,'OTRAS REFERENTES'!$AH$6:$AH$658,0),2))","v":""},null,{"$f":"IF(J476=\"\",\"\",INDEX(REFERENTES!$T:$W,MATCH(J476,REFERENTES!$V:$V,0),3))","v":""},null,null,"",null,{"$f":"IF(P476=\"\",\"\",INDEX(REFERENTES!$J:$K,MATCH(P476,REFERENTES!$K:$K,0),1))","v":""},null,{"$f":"IF(R476=\"\",\"\",INDEX(REFERENTES!$D:$E,MATCH(R476,REFERENTES!$D:$D,0),2))","v":""},null,null,"",{"$f":"IF(X476=\"\",\"\",INDEX('OTRAS REFERENTES'!$H:$I,MATCH(X476,'OTRAS REFERENTES'!$I:$I,0),1))","v":""},null,null,{"$f":"IF(AA476=\"\",\"\",INDEX('OTRAS REFERENTES'!$K:$L,MATCH(AA476,'OTRAS REFERENTES'!$L:$L,0),1))","v":""},null,null,"",{"$f":"IF(SUMPRODUCT(--EXACT(K476&M476,$AD$2:AD475)),\"\",K476&M476)","v":""},{"$f":"IF(SUMPRODUCT(--EXACT(K476&M476,$AD$2:AD475)),\"\",MAX($AE$3:AE475)+1)","v":""}]
[1,"",475,"","",{"$f":"IF(L477<>\"\",CONCATENATE(DIGITADOR!$B$2,$A$2,DIGITADOR!$M$1,A477),\"\")","v":""},null,null,"",{"$f":"IF(K477=\"\",\"\",INDEX('OTRAS REFERENTES'!$AH$6:$AI$658,MATCH(K477,'OTRAS REFERENTES'!$AH$6:$AH$658,0),2))","v":""},null,{"$f":"IF(J477=\"\",\"\",INDEX(REFERENTES!$T:$W,MATCH(J477,REFERENTES!$V:$V,0),3))","v":""},null,null,"",null,{"$f":"IF(P477=\"\",\"\",INDEX(REFERENTES!$J:$K,MATCH(P477,REFERENTES!$K:$K,0),1))","v":""},null,{"$f":"IF(R477=\"\",\"\",INDEX(REFERENTES!$D:$E,MATCH(R477,REFERENTES!$D:$D,0),2))","v":""},null,null,"",{"$f":"IF(X477=\"\",\"\",INDEX('OTRAS REFERENTES'!$H:$I,MATCH(X477,'OTRAS REFERENTES'!$I:$I,0),1))","v":""},null,null,{"$f":"IF(AA477=\"\",\"\",INDEX('OTRAS REFERENTES'!$K:$L,MATCH(AA477,'OTRAS REFERENTES'!$L:$L,0),1))","v":""},null,null,"",{"$f":"IF(SUMPRODUCT(--EXACT(K477&M477,$AD$2:AD476)),\"\",K477&M477)","v":""},{"$f":"IF(SUMPRODUCT(--EXACT(K477&M477,$AD$2:AD476)),\"\",MAX($AE$3:AE476)+1)","v":""}]
[1,"",476,"","",{"$f":"IF(L478<>\"\",CONCATENATE(DIGITADOR!$B$2,$A$2,DIGITADOR!$M$1,A478),\"\")","v":""},null,null,"",{"$f":"IF(K478=\"\",\"\",INDEX('OTRAS REFERENTES'!$AH$6:$AI$658,MATCH(K478,'OTRAS REFERENTES'!$AH$6:$AH$658,0),2))","v":""},null,{"$f":"IF(J478=\"\",\"\",INDEX(REFERENTES!$T:$W,MATCH(J478,REFERENTES!$V:$V,0),3))","v":""},null,null,"",null,{"$f":"IF(P478=\"\",\"\",INDEX(REFERENTES!$J:$K,MATCH(P478,REFERENTES!$K:$K,0),1))","v":""},null,{"$f":"IF(R478=\"\",\"\",INDEX(REFERENTES!$D:$E,MATCH(R478,REFERENTES!$D:$D,0),2))","v":""},null,null,"",{"$f":"IF(X478=\"\",\"\",INDEX('OTRAS REFERENTES'!$H:$I,MATCH(X478,'OTRAS REFERENTES'!$I:$I,0),1))","v":""},null,null,{"$f":"IF(AA478=\"\",\"\",INDEX('OTRAS REFERENTES'!$K:$L,MATCH(AA478,'OTRAS REFERENTES'!$L:$L,0),1))","v":""},null,null,"",{"$f":"IF(SUMPRODUCT(--EXACT(K478&M478,$AD$2:AD477)),\"\",K478&M478)","v":""},{"$f":"IF(SUMPRODUCT(--EXACT(K478&M478,$AD$2:AD477)),\"\",MAX($AE$3:AE477)+1)","v":""}]
[1,"",477,"","",{"$f":"IF(L479<>\"\",CONCATENATE(DIGITADOR!$B$2,$A$2,DIGITADOR!$M$1,A479),\"\")","v":""},null,null,"",{"$f":"IF(K479=\"\",\"\",INDEX('OTRAS REFERENTES'!$AH$6:$AI$658,MATCH(K479,'OTRAS REFERENTES'!$AH$6:$AH$658,0),2))","v":""},null,{"$f":"IF(J479=\"\",\"\",INDEX(REFERENTES!$T:$W,MATCH(J479,REFERENTES!$V:$V,0),3))","v":""},null,null,"",null,{"$f":"IF(P479=\"\",\"\",INDEX(REFERENTES!$J:$K,MATCH(P479,REFERENTES!$K:$K,0),1))","v":""},null,{"$f":"IF(R479=\"\",\"\",INDEX(REFERENTES!$D:$E,MATCH(R479,REFERENTES!$D:$D,0),2))","v":""},null,null,"",{"$f":"IF(X479=\"\",\"\",INDEX('OTRAS REFERENTES'!$H:$I,MATCH(X479,'OTRAS REFERENTES'!$I:$I,0),1))","v":""},null,null,{"$f":"IF(AA479=\"\",\"\",INDEX('OTRAS REFERENTES'!$K:$L,MATCH(AA479,'OTRAS REFERENTES'!$L:$L,0),1))","v":""},null,null,"",{"$f":"IF(SUMPRODUCT(--EXACT(K479&M479,$AD$2:AD478)),\"\",K479&M479)","v":""},{"$f":"IF(SUMPRODUCT(--EXACT(K479&M479,$AD$2:AD478)),\"\",MAX($AE$3:AE478)+1)","v":""}]
[1,"",478,"","",{"$f":"IF(L480<>\"\",CONCATENATE(DIGITADOR!$B$2,$A$2,DIGITADOR!$M$1,A480),\"\")","v":""},null,null,"",{"$f":"IF(K480=\"\",\"\",INDEX('OTRAS REFERENTES'!$AH$6:$AI$658,MATCH(K480,'OTRAS REFERENTES'!$AH$6:$AH$658,0),2))","v":""},null,{"$f":"IF(J480=\"\",\"\",INDEX(REFERENTES!$T:$W,MATCH(J480,REFERENTES!$V:$V,0),3))","v":""},null,null,"",null,{"$f":"IF(P480=\"\",\"\",INDEX(REFERENTES!$J:$K,MATCH(P480,REFERENTES!$K:$K,0),1))","v":""},null,{"$f":"IF(R480=\"\",\"\",INDEX(REFERENTES!$D:$E,MATCH(R480,REFERENTES!$D:$D,0),2))","v":""},null,null,"",{"$f":"IF(X480=\"\",\"\",INDEX('OTRAS REFERENTES'!$H:$I,MATCH(X480,'OTRAS REFERENTES'!$I:$I,0),1))","v":""},null,null,{"$f":"IF(AA480=\"\",\"\",INDEX('OTRAS REFERENTES'!$K:$L,MATCH(AA480,'OTRAS REFERENTES'!$L:$L,0),1))","v":""},null,null,"",{"$f":"IF(SUMPRODUCT(--EXACT(K480&M480,$AD$2:AD479)),\"\",K480&M480)","v":""},{"$f":"IF(SUMPRODUCT(--EXACT(K480&M480,$AD$2:AD479)),\"\",MAX($AE$3:AE479)+1)","v":""}]
[1,"",479,"","",{"$f":"IF(L481<>\"\",CONCATENATE(DIGITADOR!$B$2,$A$2,DIGITADOR!$M$1,A481),\"\")","v":""},null,null,"",{"$f":"IF(K481=\"\",\"\",INDEX('OTRAS REFERENTES'!$AH$6:$AI$658,MATCH(K481,'OTRAS REFERENTES'!$AH$6:$AH$658,0),2))","v":""},null,{"$f":"IF(J481=\"\",\"\",INDEX(REFERENTES!$T:$W,MATCH(J481,REFERENTES!$V:$V,0),3))","v":""},null,null,"",null,{"$f":"IF(P481=\"\",\"\",INDEX(REFERENTES!$J:$K,MATCH(P481,REFERENTES!$K:$K,0),1))","v":""},null,{"$f":"IF(R481=\"\",\"\",INDEX(REFERENTES!$D:$E,MATCH(R481,REFERENTES!$D:$D,0),2))","v":""},null,null,"",{"$f":"IF(X481=\"\",\"\",INDEX('OTRAS REFERENTES'!$H:$I,MATCH(X481,'OTRAS REFERENTES'!$I:$I,0),1))","v":""},null,null,{"$f":"IF(AA481=\"\",\"\",INDEX('OTRAS REFERENTES'!$K:$L,MATCH(AA481,'OTRAS REFERENTES'!$L:$L,0),1))","v":""},null,null,"",{"$f":"IF(SUMPRODUCT(--EXACT(K481&M481,$AD$2:AD480)),\"\",K481&M481)","v":""},{"$f":"IF(SUMPRODUCT(--EXACT(K481&M481,$AD$2:AD480)),\"\",MAX($AE$3:AE480)+1)","v":""}]
[1,"",480,"","",{"$f":"IF(L482<>\"\",CONCATENATE(DIGITADOR!$B$2,$A$2,DIGITADOR!$M$1,A482),\"\")","v":""},null,null,"",{"$f":"IF(K482=\"\",\"\",INDEX('OTRAS REFERENTES'!$AH$6:$AI$658,MATCH(K482,'OTRAS REFERENTES'!$AH$6:$AH$658,0),2))","v":""},null,{"$f":"IF(J482=\"\",\"\",INDEX(REFERENTES!$T:$W,MATCH(J482,REFERENTES!$V:$V,0),3))","v":""},null,null,"",null,{"$f":"IF(P482=\"\",\"\",INDEX(REFERENTES!$J:$K,MATCH(P482,REFERENTES!$K:$K,0),1))","v":""},null,{"$f":"IF(R482=\"\",\"\",INDEX(REFERENTES!$D:$E,MATCH(R482,REFERENTES!$D:$D,0),2))","v":""},null,null,"",{"$f":"IF(X482=\"\",\"\",INDEX('OTRAS REFERENTES'!$H:$I,MATCH(X482,'OTRAS REFERENTES'!$I:$I,0),1))","v":""},null,null,{"$f":"IF(AA482=\"\",\"\",INDEX('OTRAS REFERENTES'!$K:$L,MATCH(AA482,'OTRAS REFERENTES'!$L:$L,0),1))","v":""},null,null,"",{"$f":"IF(SUMPRODUCT(--EXACT(K482&M482,$AD$2:AD481)),\"\",K482&M482)","v":""},{"$f":"IF(SUMPRODUCT(--EXACT(K482&M482,$AD$2:AD481)),\"\",MAX($AE$3:AE481)+1)","v":""}]
[1,"",481,"","",{"$f":"IF(L483<>\"\",CONCATENATE(DIGITADOR!$B$2,$A$2,DIGITADOR!$M$1,A483),\"\")","v":""},null,null,"",{"$f":"IF(K483=\"\",\"\",INDEX('OTRAS REFERENTES'!$AH$6:$AI$658,MATCH(K483,'OTRAS REFERENTES'!$AH$6:$AH$658,0),2))","v":""},null,{"$f":"IF(J483=\"\",\"\",INDEX(REFERENTES!$T:$W,MATCH(J483,REFERENTES!$V:$V,0),3))","v":""},null,null,"",null,{"$f":"IF(P483=\"\",\"\",INDEX(REFERENTES!$J:$K,MATCH(P483,REFERENTES!$K:$K,0),1))","v":""},null,{"$f":"IF(R483=\"\",\"\",INDEX(REFERENTES!$D:$E,MATCH(R483,REFERENTES!$D:$D,0),2))","v":""},null,null,"",{"$f":"IF(X483=\"\",\"\",INDEX('OTRAS REFERENTES'!$H:$I,MATCH(X483,'OTRAS REFERENTES'!$I:$I,0),1))","v":""},null,null,{"$f":"IF(AA483=\"\",\"\",INDEX('OTRAS REFERENTES'!$K:$L,MATCH(AA483,'OTRAS REFERENTES'!$L:$L,0),1))","v":""},null,null,"",{"$f":"IF(SUMPRODUCT(--EXACT(K483&M483,$AD$2:AD482)),\"\",K483&M483)","v":""},{"$f":"IF(SUMPRODUCT(--EXACT(K483&M483,$AD$2:AD482)),\"\",MAX($AE$3:AE482)+1)","v":""}]
[1,"",482,"","",{"$f":"IF(L484<>\"\",CONCATENATE(DIGITADOR!$B$2,$A$2,DIGITADOR!$M$1,A484),\"\")","v":""},null,null,"",{"$f":"IF(K484=\"\",\"\",INDEX('OTRAS REFERENTES'!$AH$6:$AI$658,MATCH(K484,'OTRAS REFERENTES'!$AH$6:$AH$658,0),2))","v":""},null,{"$f":"IF(J484=\"\",\"\",INDEX(REFERENTES!$T:$W,MATCH(J484,REFERENTES!$V:$V,0),3))","v":""},null,null,"",null,{"$f":"IF(P484=\"\",\"\",INDEX(REFERENTES!$J:$K,MATCH(P484,REFERENTES!$K:$K,0),1))","v":""},null,{"$f":"IF(R484=\"\",\"\",INDEX(REFERENTES!$D:$E,MATCH(R484,REFERENTES!$D:$D,0),2))","v":""},null,null,"",{"$f":"IF(X484=\"\",\"\",INDEX('OTRAS REFERENTES'!$H:$I,MATCH(X484,'OTRAS REFERENTES'!$I:$I,0),1))","v":""},null,null,{"$f":"IF(AA484=\"\",\"\",INDEX('OTRAS REFERENTES'!$K:$L,MATCH(AA484,'OTRAS REFERENTES'!$L:$L,0),1))","v":""},null,null,"",{"$f":"IF(SUMPRODUCT(--EXACT(K484&M484,$AD$2:AD483)),\"\",K484&M484)","v":""},{"$f":"IF(SUMPRODUCT(--EXACT(K484&M484,$AD$2:AD483)),\"\",MAX($AE$3:AE483)+1)","v":""}]
[1,"",483,"","",{"$f":"IF(L485<>\"\",CONCATENATE(DIGITADOR!$B$2,$A$2,DIGITADOR!$M$1,A485),\"\")","v":""},null,null,"",{"$f":"IF(K485=\"\",\"\",INDEX('OTRAS REFERENTES'!$AH$6:$AI$658,MATCH(K485,'OTRAS REFERENTES'!$AH$6:$AH$658,0),2))","v":""},null,{"$f":"IF(J485=\"\",\"\",INDEX(REFERENTES!$T:$W,MATCH(J485,REFERENTES!$V:$V,0),3))","v":""},null,null,"",null,{"$f":"IF(P485=\"\",\"\",INDEX(REFERENTES!$J:$K,MATCH(P485,REFERENTES!$K:$K,0),1))","v":""},null,{"$f":"IF(R485=\"\",\"\",INDEX(REFERENTES!$D:$E,MATCH(R485,REFERENTES!$D:$D,0),2))","v":""},null,null,"",{"$f":"IF(X485=\"\",\"\",INDEX('OTRAS REFERENTES'!$H:$I,MATCH(X485,'OTRAS REFERENTES'!$I:$I,0),1))","v":""},null,null,{"$f":"IF(AA485=\"\",\"\",INDEX('OTRAS REFERENTES'!$K:$L,MATCH(AA485,'OTRAS REFERENTES'!$L:$L,0),1))","v":""},null,null,"",{"$f":"IF(SUMPRODUCT(--EXACT(K485&M485,$AD$2:AD484)),\"\",K485&M485)","v":""},{"$f":"IF(SUMPRODUCT(--EXACT(K485&M485,$AD$2:AD484)),\"\",MAX($AE$3:AE484)+1)","v":""}]
[1,"",484,"","",{"$f":"IF(L486<>\"\",CONCATENATE(DIGITADOR!$B$2,$A$2,DIGITADOR!$M$1,A486),\"\")","v":""},null,null,"",{"$f":"IF(K486=\"\",\"\",INDEX('OTRAS REFERENTES'!$AH$6:$AI$658,MATCH(K486,'OTRAS REFERENTES'!$AH$6:$AH$658,0),2))","v":""},null,{"$f":"IF(J486=\"\",\"\",INDEX(REFERENTES!$T:$W,MATCH(J486,REFERENTES!$V:$V,0),3))","v":""},null,null,"",null,{"$f":"IF(P486=\"\",\"\",INDEX(REFERENTES!$J:$K,MATCH(P486,REFERENTES!$K:$K,0),1))","v":""},null,{"$f":"IF(R486=\"\",\"\",INDEX(REFERENTES!$D:$E,MATCH(R486,REFERENTES!$D:$D,0),2))","v":""},null,null,"",{"$f":"IF(X486=\"\",\"\",INDEX('OTRAS REFERENTES'!$H:$I,MATCH(X486,'OTRAS REFERENTES'!$I:$I,0),1))","v":""},null,null,{"$f":"IF(AA486=\"\",\"\",INDEX('OTRAS REFERENTES'!$K:$L,MATCH(AA486,'OTRAS REFERENTES'!$L:$L,0),1))","v":""},null,null,"",{"$f":"IF(SUMPRODUCT(--EXACT(K486&M486,$AD$2:AD485)),\"\",K486&M486)","v":""},{"$f":"IF(SUMPRODUCT(--EXACT(K486&M486,$AD$2:AD485)),\"\",MAX($AE$3:AE485)+1)","v":""}]
[1,"",485,"","",{"$f":"IF(L487<>\"\",CONCATENATE(DIGITADOR!$B$2,$A$2,DIGITADOR!$M$1,A487),\"\")","v":""},null,null,"",{"$f":"IF(K487=\"\",\"\",INDEX('OTRAS REFERENTES'!$AH$6:$AI$658,MATCH(K487,'OTRAS REFERENTES'!$AH$6:$AH$658,0),2))","v":""},null,{"$f":"IF(J487=\"\",\"\",INDEX(REFERENTES!$T:$W,MATCH(J487,REFERENTES!$V:$V,0),3))","v":""},null,null,"",null,{"$f":"IF(P487=\"\",\"\",INDEX(REFERENTES!$J:$K,MATCH(P487,REFERENTES!$K:$K,0),1))","v":""},null,{"$f":"IF(R487=\"\",\"\",INDEX(REFERENTES!$D:$E,MATCH(R487,REFERENTES!$D:$D,0),2))","v":""},null,null,"",{"$f":"IF(X487=\"\",\"\",INDEX('OTRAS REFERENTES'!$H:$I,MATCH(X487,'OTRAS REFERENTES'!$I:$I,0),1))","v":""},null,null,{"$f":"IF(AA487=\"\",\"\",INDEX('OTRAS REFERENTES'!$K:$L,MATCH(AA487,'OTRAS REFERENTES'!$L:$L,0),1))","v":""},null,null,"",{"$f":"IF(SUMPRODUCT(--EXACT(K487&M487,$AD$2:AD486)),\"\",K487&M487)","v":""},{"$f":"IF(SUMPRODUCT(--EXACT(K487&M487,$AD$2:AD486)),\"\",MAX($AE$3:AE486)+1)","v":""}]
[1,"",486,"","",{"$f":"IF(L488<>\"\",CONCATENATE(DIGITADOR!$B$2,$A$2,DIGITADOR!$M$1,A488),\"\")","v":""},null,null,"",{"$f":"IF(K488=\"\",\"\",INDEX('OTRAS REFERENTES'!$AH$6:$AI$658,MATCH(K488,'OTRAS REFERENTES'!$AH$6:$AH$658,0),2))","v":""},null,{"$f":"IF(J488=\"\",\"\",INDEX(REFERENTES!$T:$W,MATCH(J488,REFERENTES!$V:$V,0),3))","v":""},null,null,"",null,{"$f":"IF(P488=\"\",\"\",INDEX(REFERENTES!$J:$K,MATCH(P488,REFERENTES!$K:$K,0),1))","v":""},null,{"$f":"IF(R488=\"\",\"\",INDEX(REFERENTES!$D:$E,MATCH(R488,REFERENTES!$D:$D,0),2))","v":""},null,null,"",{"$f":"IF(X488=\"\",\"\",INDEX('OTRAS REFERENTES'!$H:$I,MATCH(X488,'OTRAS REFERENTES'!$I:$I,0),1))","v":""},null,null,{"$f":"IF(AA488=\"\",\"\",INDEX('OTRAS REFERENTES'!$K:$L,MATCH(AA488,'OTRAS REFERENTES'!$L:$L,0),1))","v":""},null,null,"",{"$f":"IF(SUMPRODUCT(--EXACT(K488&M488,$AD$2:AD487)),\"\",K488&M488)","v":""},{"$f":"IF(SUMPRODUCT(--EXACT(K488&M488,$AD$2:AD487)),\"\",MAX($AE$3:AE487)+1)","v":""}]
[1,"",487,"","",{"$f":"IF(L489<>\"\",CONCATENATE(DIGITADOR!$B$2,$A$2,DIGITADOR!$M$1,A489),\"\")","v":""},null,null,"",{"$f":"IF(K489=\"\",\"\",INDEX('OTRAS REFERENTES'!$AH$6:$AI$658,MATCH(K489,'OTRAS REFERENTES'!$AH$6:$AH$658,0),2))","v":""},null,{"$f":"IF(J489=\"\",\"\",INDEX(REFERENTES!$T:$W,MATCH(J489,REFERENTES!$V:$V,0),3))","v":""},null,null,"",null,{"$f":"IF(P489=\"\",\"\",INDEX(REFERENTES!$J:$K,MATCH(P489,REFERENTES!$K:$K,0),1))","v":""},null,{"$f":"IF(R489=\"\",\"\",INDEX(REFERENTES!$D:$E,MATCH(R489,REFERENTES!$D:$D,0),2))","v":""},null,null,"",{"$f":"IF(X489=\"\",\"\",INDEX('OTRAS REFERENTES'!$H:$I,MATCH(X489,'OTRAS REFERENTES'!$I:$I,0),1))","v":""},null,null,{"$f":"IF(AA489=\"\",\"\",INDEX('OTRAS REFERENTES'!$K:$L,MATCH(AA489,'OTRAS REFERENTES'!$L:$L,0),1))","v":""},null,null,"",{"$f":"IF(SUMPRODUCT(--EXACT(K489&M489,$AD$2:AD488)),\"\",K489&M489)","v":""},{"$f":"IF(SUMPRODUCT(--EXACT(K489&M489,$AD$2:AD488)),\"\",MAX($AE$3:AE488)+1)","v":""}]
[1,"",488,"","",{"$f":"IF(L490<>\"\",CONCATENATE(DIGITADOR!$B$2,$A$2,DIGITADOR!$M$1,A490),\"\")","v":""},null,null,"",{"$f":"IF(K490=\"\",\"\",INDEX('OTRAS REFERENTES'!$AH$6:$AI$658,MATCH(K490,'OTRAS REFERENTES'!$AH$6:$AH$658,0),2))","v":""},null,{"$f":"IF(J490=\"\",\"\",INDEX(REFERENTES!$T:$W,MATCH(J490,REFERENTES!$V:$V,0),3))","v":""},null,null,"",null,{"$f":"IF(P490=\"\",\"\",INDEX(REFERENTES!$J:$K,MATCH(P490,REFERENTES!$K:$K,0),1))","v":""},null,{"$f":"IF(R490=\"\",\"\",INDEX(REFERENTES!$D:$E,MATCH(R490,REFERENTES!$D:$D,0),2))","v":""},null,null,"",{"$f":"IF(X490=\"\",\"\",INDEX('OTRAS REFERENTES'!$H:$I,MATCH(X490,'OTRAS REFERENTES'!$I:$I,0),1))","v":""},null,null,{"$f":"IF(AA490=\"\",\"\",INDEX('OTRAS REFERENTES'!$K:$L,MATCH(AA490,'OTRAS REFERENTES'!$L:$L,0),1))","v":""},null,null,"",{"$f":"IF(SUMPRODUCT(--EXACT(K490&M490,$AD$2:AD489)),\"\",K490&M490)","v":""},{"$f":"IF(SUMPRODUCT(--EXACT(K490&M490,$AD$2:AD489)),\"\",MAX($AE$3:AE489)+1)","v":""}]
[1,"",489,"","",{"$f":"IF(L491<>\"\",CONCATENATE(DIGITADOR!$B$2,$A$2,DIGITADOR!$M$1,A491),\"\")","v":""},null,null,"",{"$f":"IF(K491=\"\",\"\",INDEX('OTRAS REFERENTES'!$AH$6:$AI$658,MATCH(K491,'OTRAS REFERENTES'!$AH$6:$AH$658,0),2))","v":""},null,{"$f":"IF(J491=\"\",\"\",INDEX(REFERENTES!$T:$W,MATCH(J491,REFERENTES!$V:$V,0),3))","v":""},null,null,"",null,{"$f":"IF(P491=\"\",\"\",INDEX(REFERENTES!$J:$K,MATCH(P491,REFERENTES!$K:$K,0),1))","v":""},null,{"$f":"IF(R491=\"\",\"\",INDEX(REFERENTES!$D:$E,MATCH(R491,REFERENTES!$D:$D,0),2))","v":""},null,null,"",{"$f":"IF(X491=\"\",\"\",INDEX('OTRAS REFERENTES'!$H:$I,MATCH(X491,'OTRAS REFERENTES'!$I:$I,0),1))","v":""},null,null,{"$f":"IF(AA491=\"\",\"\",INDEX('OTRAS REFERENTES'!$K:$L,MATCH(AA491,'OTRAS REFERENTES'!$L:$L,0),1))","v":""},null,null,"",{"$f":"IF(SUMPRODUCT(--EXACT(K491&M491,$AD$2:AD490)),\"\",K491&M491)","v":""},{"$f":"IF(SUMPRODUCT(--EXACT(K491&M491,$AD$2:AD490)),\"\",MAX($AE$3:AE490)+1)","v":""}]
[1,"",490,"","",{"$f":"IF(L492<>\"\",CONCATENATE(DIGITADOR!$B$2,$A$2,DIGITADOR!$M$1,A492),\"\")","v":""},null,null,"",{"$f":"IF(K492=\"\",\"\",INDEX('OTRAS REFERENTES'!$AH$6:$AI$658,MATCH(K492,'OTRAS REFERENTES'!$AH$6:$AH$658,0),2))","v":""},null,{"$f":"IF(J492=\"\",\"\",INDEX(REFERENTES!$T:$W,MATCH(J492,REFERENTES!$V:$V,0),3))","v":""},null,null,"",null,{"$f":"IF(P492=\"\",\"\",INDEX(REFERENTES!$J:$K,MATCH(P492,REFERENTES!$K:$K,0),1))","v":""},null,{"$f":"IF(R492=\"\",\"\",INDEX(REFERENTES!$D:$E,MATCH(R492,REFERENTES!$D:$D,0),2))","v":""},null,null,"",{"$f":"IF(X492=\"\",\"\",INDEX('OTRAS REFERENTES'!$H:$I,MATCH(X492,'OTRAS REFERENTES'!$I:$I,0),1))","v":""},null,null,{"$f":"IF(AA492=\"\",\"\",INDEX('OTRAS REFERENTES'!$K:$L,MATCH(AA492,'OTRAS REFERENTES'!$L:$L,0),1))","v":""},null,null,"",{"$f":"IF(SUMPRODUCT(--EXACT(K492&M492,$AD$2:AD491)),\"\",K492&M492)","v":""},{"$f":"IF(SUMPRODUCT(--EXACT(K492&M492,$AD$2:AD491)),\"\",MAX($AE$3:AE491)+1)","v":""}]
[1,"",491,"","",{"$f":"IF(L493<>\"\",CONCATENATE(DIGITADOR!$B$2,$A$2,DIGITADOR!$M$1,A493),\"\")","v":""},null,null,"",{"$f":"IF(K493=\"\",\"\",INDEX('OTRAS REFERENTES'!$AH$6:$AI$658,MATCH(K493,'OTRAS REFERENTES'!$AH$6:$AH$658,0),2))","v":""},null,{"$f":"IF(J493=\"\",\"\",INDEX(REFERENTES!$T:$W,MATCH(J493,REFERENTES!$V:$V,0),3))","v":""},null,null,"",null,{"$f":"IF(P493=\"\",\"\",INDEX(REFERENTES!$J:$K,MATCH(P493,REFERENTES!$K:$K,0),1))","v":""},null,{"$f":"IF(R493=\"\",\"\",INDEX(REFERENTES!$D:$E,MATCH(R493,REFERENTES!$D:$D,0),2))","v":""},null,null,"",{"$f":"IF(X493=\"\",\"\",INDEX('OTRAS REFERENTES'!$H:$I,MATCH(X493,'OTRAS REFERENTES'!$I:$I,0),1))","v":""},null,null,{"$f":"IF(AA493=\"\",\"\",INDEX('OTRAS REFERENTES'!$K:$L,MATCH(AA493,'OTRAS REFERENTES'!$L:$L,0),1))","v":""},null,null,"",{"$f":"IF(SUMPRODUCT(--EXACT(K493&M493,$AD$2:AD492)),\"\",K493&M493)","v":""},{"$f":"IF(SUMPRODUCT(--EXACT(K493&M493,$AD$2:AD492)),\"\",MAX($AE$3:AE492)+1)","v":""}]
[1,"",492,"","",{"$f":"IF(L494<>\"\",CONCATENATE(DIGITADOR!$B$2,$A$2,DIGITADOR!$M$1,A494),\"\")","v":""},null,null,"",{"$f":"IF(K494=\"\",\"\",INDEX('OTRAS REFERENTES'!$AH$6:$AI$658,MATCH(K494,'OTRAS REFERENTES'!$AH$6:$AH$658,0),2))","v":""},null,{"$f":"IF(J494=\"\",\"\",INDEX(REFERENTES!$T:$W,MATCH(J494,REFERENTES!$V:$V,0),3))","v":""},null,null,"",null,{"$f":"IF(P494=\"\",\"\",INDEX(REFERENTES!$J:$K,MATCH(P494,REFERENTES!$K:$K,0),1))","v":""},null,{"$f":"IF(R494=\"\",\"\",INDEX(REFERENTES!$D:$E,MATCH(R494,REFERENTES!$D:$D,0),2))","v":""},null,null,"",{"$f":"IF(X494=\"\",\"\",INDEX('OTRAS REFERENTES'!$H:$I,MATCH(X494,'OTRAS REFERENTES'!$I:$I,0),1))","v":""},null,null,{"$f":"IF(AA494=\"\",\"\",INDEX('OTRAS REFERENTES'!$K:$L,MATCH(AA494,'OTRAS REFERENTES'!$L:$L,0),1))","v":""},null,null,"",{"$f":"IF(SUMPRODUCT(--EXACT(K494&M494,$AD$2:AD493)),\"\",K494&M494)","v":""},{"$f":"IF(SUMPRODUCT(--EXACT(K494&M494,$AD$2:AD493)),\"\",MAX($AE$3:AE493)+1)","v":""}]
[1,"",493,{"$f":"IF(L495=\"\",\"\",CONCATENATE(C495,F495))","v":""},"",{"$f":"IF(L495<>\"\",CONCATENATE(DIGITADOR!$B$2,$A$2,DIGITADOR!$M$1,A495),\"\")","v":""},null,null,"",{"$f":"IF(K495=\"\",\"\",INDEX('OTRAS REFERENTES'!$AH$6:$AI$658,MATCH(K495,'OTRAS REFERENTES'!$AH$6:$AH$658,0),2))","v":""},null,{"$f":"IF(J495=\"\",\"\",INDEX(REFERENTES!$T:$W,MATCH(J495,REFERENTES!$V:$V,0),3))","v":""},null,null,"",null,{"$f":"IF(P495=\"\",\"\",INDEX(REFERENTES!$J:$K,MATCH(P495,REFERENTES!$K:$K,0),1))","v":""},null,{"$f":"IF(R495=\"\",\"\",INDEX(REFERENTES!$D:$E,MATCH(R495,REFERENTES!$D:$D,0),2))","v":""},null,null,"",{"$f":"IF(X495=\"\",\"\",INDEX('OTRAS REFERENTES'!$H:$I,MATCH(X495,'OTRAS REFERENTES'!$I:$I,0),1))","v":""},null,null,{"$f":"IF(AA495=\"\",\"\",INDEX('OTRAS REFERENTES'!$K:$L,MATCH(AA495,'OTRAS REFERENTES'!$L:$L,0),1))","v":""},null,null,"",{"$f":"IF(SUMPRODUCT(--EXACT(K495&M495,$AD$2:AD494)),\"\",K495&M495)","v":""},{"$f":"IF(SUMPRODUCT(--EXACT(K495&M495,$AD$2:AD494)),\"\",MAX($AE$3:AE494)+1)","v":""}]
[1,"",494,{"$f":"IF(L496=\"\",\"\",CONCATENATE(C496,F496))","v":""},"",{"$f":"IF(L496<>\"\",CONCATENATE(DIGITADOR!$B$2,$A$2,DIGITADOR!$M$1,A496),\"\")","v":""},null,null,"",{"$f":"IF(K496=\"\",\"\",INDEX('OTRAS REFERENTES'!$AH$6:$AI$658,MATCH(K496,'OTRAS REFERENTES'!$AH$6:$AH$658,0),2))","v":""},null,{"$f":"IF(J496=\"\",\"\",INDEX(REFERENTES!$T:$W,MATCH(J496,REFERENTES!$V:$V,0),3))","v":""},null,null,"",null,{"$f":"IF(P496=\"\",\"\",INDEX(REFERENTES!$J:$K,MATCH(P496,REFERENTES!$K:$K,0),1))","v":""},null,{"$f":"IF(R496=\"\",\"\",INDEX(REFERENTES!$D:$E,MATCH(R496,REFERENTES!$D:$D,0),2))","v":""},null,null,"",{"$f":"IF(X496=\"\",\"\",INDEX('OTRAS REFERENTES'!$H:$I,MATCH(X496,'OTRAS REFERENTES'!$I:$I,0),1))","v":""},null,null,{"$f":"IF(AA496=\"\",\"\",INDEX('OTRAS REFERENTES'!$K:$L,MATCH(AA496,'OTRAS REFERENTES'!$L:$L,0),1))","v":""},null,null,"",{"$f":"IF(SUMPRODUCT(--EXACT(K496&M496,$AD$2:AD495)),\"\",K496&M496)","v":""},{"$f":"IF(SUMPRODUCT(--EXACT(K496&M496,$AD$2:AD495)),\"\",MAX($AE$3:AE495)+1)","v":""}]
[1,"",495,"","",{"$f":"IF(L497<>\"\",CONCATENATE(DIGITADOR!$B$2,$A$2,DIGITADOR!$M$1,A497),\"\")","v":""},null,null,"",{"$f":"IF(K497=\"\",\"\",INDEX('OTRAS REFERENTES'!$AH$6:$AI$658,MATCH(K497,'OTRAS REFERENTES'!$AH$6:$AH$658,0),2))","v":""},null,{"$f":"IF(J497=\"\",\"\",INDEX(REFERENTES!$T:$W,MATCH(J497,REFERENTES!$V:$V,0),3))","v":""},null,null,"",null,{"$f":"IF(P497=\"\",\"\",INDEX(REFERENTES!$J:$K,MATCH(P497,REFERENTES!$K:$K,0),1))","v":""},null,{"$f":"IF(R497=\"\",\"\",INDEX(REFERENTES!$D:$E,MATCH(R497,REFERENTES!$D:$D,0),2))","v":""},null,null,"",{"$f":"IF(X497=\"\",\"\",INDEX('OTRAS REFERENTES'!$H:$I,MATCH(X497,'OTRAS REFERENTES'!$I:$I,0),1))","v":""},null,null,{"$f":"IF(AA497=\"\",\"\",INDEX('OTRAS REFERENTES'!$K:$L,MATCH(AA497,'OTRAS REFERENTES'!$L:$L,0),1))","v":""},null,null,"",{"$f":"IF(SUMPRODUCT(--EXACT(K497&M497,$AD$2:AD496)),\"\",K497&M497)","v":""},{"$f":"IF(SUMPRODUCT(--EXACT(K497&M497,$AD$2:AD496)),\"\",MAX($AE$3:AE496)+1)","v":""}]
[1,"",496,"","",{"$f":"IF(L498<>\"\",CONCATENATE(DIGITADOR!$B$2,$A$2,DIGITADOR!$M$1,A498),\"\")","v":""},null,null,"",{"$f":"IF(K498=\"\",\"\",INDEX('OTRAS REFERENTES'!$AH$6:$AI$658,MATCH(K498,'OTRAS REFERENTES'!$AH$6:$AH$658,0),2))","v":""},null,{"$f":"IF(J498=\"\",\"\",INDEX(REFERENTES!$T:$W,MATCH(J498,REFERENTES!$V:$V,0),3))","v":""},null,null,"",null,{"$f":"IF(P498=\"\",\"\",INDEX(REFERENTES!$J:$K,MATCH(P498,REFERENTES!$K:$K,0),1))","v":""},null,{"$f":"IF(R498=\"\",\"\",INDEX(REFERENTES!$D:$E,MATCH(R498,REFERENTES!$D:$D,0),2))","v":""},null,null,"",{"$f":"IF(X498=\"\",\"\",INDEX('OTRAS REFERENTES'!$H:$I,MATCH(X498,'OTRAS REFERENTES'!$I:$I,0),1))","v":""},null,null,{"$f":"IF(AA498=\"\",\"\",INDEX('OTRAS REFERENTES'!$K:$L,MATCH(AA498,'OTRAS REFERENTES'!$L:$L,0),1))","v":""},null,null,"",{"$f":"IF(SUMPRODUCT(--EXACT(K498&M498,$AD$2:AD497)),\"\",K498&M498)","v":""},{"$f":"IF(SUMPRODUCT(--EXACT(K498&M498,$AD$2:AD497)),\"\",MAX($AE$3:AE497)+1)","v":""}]
[1,"",497,"","",{"$f":"IF(L499<>\"\",CONCATENATE(DIGITADOR!$B$2,$A$2,DIGITADOR!$M$1,A499),\"\")","v":""},null,null,"",{"$f":"IF(K499=\"\",\"\",INDEX('OTRAS REFERENTES'!$AH$6:$AI$658,MATCH(K499,'OTRAS REFERENTES'!$AH$6:$AH$658,0),2))","v":""},null,{"$f":"IF(J499=\"\",\"\",INDEX(REFERENTES!$T:$W,MATCH(J499,REFERENTES!$V:$V,0),3))","v":""},null,null,"",null,{"$f":"IF(P499=\"\",\"\",INDEX(REFERENTES!$J:$K,MATCH(P499,REFERENTES!$K:$K,0),1))","v":""},null,{"$f":"IF(R499=\"\",\"\",INDEX(REFERENTES!$D:$E,MATCH(R499,REFERENTES!$D:$D,0),2))","v":""},null,null,"",{"$f":"IF(X499=\"\",\"\",INDEX('OTRAS REFERENTES'!$H:$I,MATCH(X499,'OTRAS REFERENTES'!$I:$I,0),1))","v":""},null,null,{"$f":"IF(AA499=\"\",\"\",INDEX('OTRAS REFERENTES'!$K:$L,MATCH(AA499,'OTRAS REFERENTES'!$L:$L,0),1))","v":""},null,null,"",{"$f":"IF(SUMPRODUCT(--EXACT(K499&M499,$AD$2:AD498)),\"\",K499&M499)","v":""},{"$f":"IF(SUMPRODUCT(--EXACT(K499&M499,$AD$2:AD498)),\"\",MAX($AE$3:AE498)+1)","v":""}]
[1,"",498,"","",{"$f":"IF(L500<>\"\",CONCATENATE(DIGITADOR!$B$2,$A$2,DIGITADOR!$M$1,A500),\"\")","v":""},null,null,"",{"$f":"IF(K500=\"\",\"\",INDEX('OTRAS REFERENTES'!$AH$6:$AI$658,MATCH(K500,'OTRAS REFERENTES'!$AH$6:$AH$658,0),2))","v":""},null,{"$f":"IF(J500=\"\",\"\",INDEX(REFERENTES!$T:$W,MATCH(J500,REFERENTES!$V:$V,0),3))","v":""},null,null,"",null,{"$f":"IF(P500=\"\",\"\",INDEX(REFERENTES!$J:$K,MATCH(P500,REFERENTES!$K:$K,0),1))","v":""},null,{"$f":"IF(R500=\"\",\"\",INDEX(REFERENTES!$D:$E,MATCH(R500,REFERENTES!$D:$D,0),2))","v":""},null,null,"",{"$f":"IF(X500=\"\",\"\",INDEX('OTRAS REFERENTES'!$H:$I,MATCH(X500,'OTRAS REFERENTES'!$I:$I,0),1))","v":""},null,null,{"$f":"IF(AA500=\"\",\"\",INDEX('OTRAS REFERENTES'!$K:$L,MATCH(AA500,'OTRAS REFERENTES'!$L:$L,0),1))","v":""},null,null,"",{"$f":"IF(SUMPRODUCT(--EXACT(K500&M500,$AD$2:AD499)),\"\",K500&M500)","v":""},{"$f":"IF(SUMPRODUCT(--EXACT(K500&M500,$AD$2:AD499)),\"\",MAX($AE$3:AE499)+1)","v":""}]
[1,"",499,"","",{"$f":"IF(L501<>\"\",CONCATENATE(DIGITADOR!$B$2,$A$2,DIGITADOR!$M$1,A501),\"\")","v":""},null,null,"",{"$f":"IF(K501=\"\",\"\",INDEX('OTRAS REFERENTES'!$AH$6:$AI$658,MATCH(K501,'OTRAS REFERENTES'!$AH$6:$AH$658,0),2))","v":""},null,{"$f":"IF(J501=\"\",\"\",INDEX(REFERENTES!$T:$W,MATCH(J501,REFERENTES!$V:$V,0),3))","v":""},null,null,"",null,{"$f":"IF(P501=\"\",\"\",INDEX(REFERENTES!$J:$K,MATCH(P501,REFERENTES!$K:$K,0),1))","v":""},null,{"$f":"IF(R501=\"\",\"\",INDEX(REFERENTES!$D:$E,MATCH(R501,REFERENTES!$D:$D,0),2))","v":""},null,null,"",{"$f":"IF(X501=\"\",\"\",INDEX('OTRAS REFERENTES'!$H:$I,MATCH(X501,'OTRAS REFERENTES'!$I:$I,0),1))","v":""},null,null,{"$f":"IF(AA501=\"\",\"\",INDEX('OTRAS REFERENTES'!$K:$L,MATCH(AA501,'OTRAS REFERENTES'!$L:$L,0),1))","v":""},null,null,"",{"$f":"IF(SUMPRODUCT(--EXACT(K501&M501,$AD$2:AD500)),\"\",K501&M501)","v":""},{"$f":"IF(SUMPRODUCT(--EXACT(K501&M501,$AD$2:AD500)),\"\",MAX($AE$3:AE500)+1)","v":""}]
[1,"",500,{"$f":"IF(L502=\"\",\"\",CONCATENATE(C502,F502))","v":""},"",{"$f":"IF(L502<>\"\",CONCATENATE(DIGITADOR!$B$2,$A$2,DIGITADOR!$M$1,A502),\"\")","v":""},null,null,"",{"$f":"IF(K502=\"\",\"\",INDEX('OTRAS REFERENTES'!$AH$6:$AI$658,MATCH(K502,'OTRAS REFERENTES'!$AH$6:$AH$658,0),2))","v":""},null,{"$f":"IF(J502=\"\",\"\",INDEX(REFERENTES!$T:$W,MATCH(J502,REFERENTES!$V:$V,0),3))","v":""},null,null,"",null,{"$f":"IF(P502=\"\",\"\",INDEX(REFERENTES!$J:$K,MATCH(P502,REFERENTES!$K:$K,0),1))","v":""},null,{"$f":"IF(R502=\"\",\"\",INDEX(REFERENTES!$D:$E,MATCH(R502,REFERENTES!$D:$D,0),2))","v":""},null,null,"",{"$f":"IF(X502=\"\",\"\",INDEX('OTRAS REFERENTES'!$H:$I,MATCH(X502,'OTRAS REFERENTES'!$I:$I,0),1))","v":""},null,null,{"$f":"IF(AA502=\"\",\"\",INDEX('OTRAS REFERENTES'!$K:$L,MATCH(AA502,'OTRAS REFERENTES'!$L:$L,0),1))","v":""},null,null,"",{"$f":"IF(SUMPRODUCT(--EXACT(K502&M502,$AD$2:AD501)),\"\",K502&M502)","v":""},{"$f":"IF(SUMPRODUCT(--EXACT(K502&M502,$AD$2:AD501)),\"\",MAX($AE$3:AE501)+1)","v":""}]

{"sheet":"REFERENTES","index":5,"n_rows":345,"n_cols":30,"rows_kept":345,"cut":false,"hidden":false,"merged":[[0,28,0,29],[0,32,0,33]]}
["AG_ESPECIES",null,null,"AG_LOV",null,null,"AG_LOV",null,null,"descripcion","cod_letras"]
["AB","Avicennia bicolor",null,"CA","Caido",null,"A","A: de 0 cm a 50 cm",null,"Avicennia bicolor","AB","2040.55.687",null,null,null,"VERBENACEAE",null,null,null,"Agrosoledad - 1","CSISPIE-ZR1-Agrosole-1",48733,2414,null,3546,"Administrador SIGMA"]
["CE","Conocarpus erectus",null,"CO","Cortado",null,"B","B: de 50 cm a 150 cm",null,"Avicennia germinans","AG","2040.55.685",null,null,null,"VERBENACEAE",null,null,null,"Aguas Negras -1","SFFOCC-SZ1-ANE-1",45924,2154,"Parcela 1 monitoreada por el INVEMAR en el marco del ¨Monitoreo de las condiciones ambientales y los cambios estructurales y funcionales de las comunidades vegetales y de los recursos pesqueros durante la rehabilitación de la Ciénaga Grande de Santa Marta¨",8902,"Alejandra Robles Sanchez",null,null,"AD Pto. Moin C.R.","Administración Desarrollo Complejo Portuario  Limón Moin Costa Rica"]
["LR","Laguncularia racemosa",null,"ME","Mal Estado",null,"C","C: mayor a 150 cm",null,"Conocarpus erectus","CE","2040.55.293",null,null,null,"VERBENACEAE",null,null,null,"Aguas Negras -2","SFFOCC-SZ1-ANE-2",45926,2155,"Parcela 2 monitoreada por el INVEMAR en el marco del ¨Monitoreo de las condiciones ambientales y los cambios estructurales y funcionales de las comunidades vegetales y de los recursos pesqueros durante la rehabilitación de la Ciénaga Grande de Santa Marta¨",7381,"Alejandro Paz",null,null,"ANADARKO","Anadarko Colombia Company"]
["MM","Mora oleifera ",null,"MU","Muerto",null,null,null,null,"Eugenia Acapulcensis","EA","2040.55.1534",null,"ROSOPSIDA","MYRTALES","MYRTACEAE","EUGENIA",null,null,"Aguas Negras -3","SFFOCC-SZ1-ANE-3",45928,2156,"Parcela 3 monitoreada por el INVEMAR en el marco del ¨Monitoreo de las condiciones ambientales y los cambios estructurales y funcionales de las comunidades vegetales y de los recursos pesqueros durante la rehabilitación de la Ciénaga Grande de Santa Marta¨",3444,"Alexandra Rodríguez",null,null,"AQUABIOSFERA","Aquabiosfera SAS"]
["PR","Pelliciera rhizophorae",null,"PA","Partido",null,null,null,null,"Ficus","FS","2040.46.20406",null,"ROSOPSIDA","ROSALES","MORACEAE","FICUS",null,null,"Ancachi","NUQUI-ZR-ANCACHI",58565,2881,null,5658,"Amanda Selene Rojas Aguirre",null,null,"CALIDRIS","Asociación Calidris"]
["RM","Rhizophora mangle",null,"VI","Vivo",null,null,null,null,"Ficus Tonduzii   ","FT","2040.55.1536",null,"ROSOPSIDA","ROSALES","MORACEAE","FICUS",null,null,"Angostura","BCISEST-ZUS1-angostura-1",45589,2124,"esta parcela se encuentra ubicada en el sector de caño grande en la zona de uso sostenible, en el subsector de aprovechamiento, con predominancia de la especie Rhizophora mangle, esta parcela tiene gran cantidad de arboles muertos, y otros con condiciones de raquitismo, baja densidad de arboles en la parcela.",4415,"Ana Sánchez",null,null,"ASOCARS","Asociación de Corporaciones Autónomas Regionales"]
["RR","Rhizophora racemosa",null,"NE","No Encontrado",null,null,null,null,"Laguncularia racemosa","LR","2040.55.290",null,null,null,"COMBRETACEAE",null,null,null,"Ararca-1","BARU-ZR1-Ararca-1",44509,1764,"Parcela que coincide con punto de muestreo de PNN, se encontraron dos mojones instalados por ellos.  Bosque en sus primeros 25 m con abundante presencia de R. mangle con numerosas raíces fúlcreas, inundación de 5 cm en promedio, Bosque en buen estado no se evidencia tala",8660,"Angie Daniela Enriquez Fernandez",null,null,"ANLA","Autoridad Nacional de Licencias Ambientales"]
["SE","Sp. manglar",null,"NA","No Asignado",null,null,null,null,"Mora oleifera ","MM","2040.55.507",null,null,null,"Caesalpiniaceae",null,null,null,"Arroyo Astilleros -1","ASTI1-ZP-ARRO_ASTI",58608,2888,"Zona Pantanosa",8258,"Daniel Fernando Jiménez Rincón",null,null,"ARAP","Autoridad de Recursos Acuáticos de Panamá"]
["FS","Ficus",null,null,null,null,null,null,null,"Pelliciera benthamii ","PB",null,null,"Equisetopsida","Ericales Bercht","Tetrameristaceae","Pelliciera",null,null,"Arroyo Astilleros -2","ASTI2-ZP-ARRO_ASTI",58609,2889,"Bosque monoespecifico de mangle negro",7664,"Danny Santana Rosero",null,null,"CWOP","Caribbean-Wide Orca Project"]
["FT","Ficus Tonduzii   ",null,null,null,null,null,null,null,"Pelliciera rhizophorae","PR","2040.55.532",null,null,null,"Rhizophoraceae",null,null,null,"Arroyo Bocatocino","ARROBOCA-SZ-ARROBOCA",40908,684,"Manglares en Zonas Privadas",7298,"David Alejandro Sanchez Nuñez",null,null,"CEAC","Centro de Estudios Ambientales de Cienfuegos"]
["EA","Eugenia Acapulcensis",null,null,null,null,null,null,null,"Rhizophora harrisonii ","RH","2040.55.1509",null,null,null,"Rhizophoraceae",null,null,null,"Arroyo Juan de Acosta","ARROACOS-SZ-ARRO_ACOS",58619,2892,"Desembocadura del arroyo Juan de Acosta",3570,"Docente unal",null,null,"CECIMAR","Centro de Estudios en Ciencias del Mar - Universidad Nacional"]
["AG","Avicennia germinans",null,null,null,null,null,null,null,"Rhizophora mangle","RM","2040.55.325",null,null,null,"RIZOPHORACEAE",null,null,null,"Arroyo Plata-1","BARB-ZR1-Ay-Plata-1",44493,1759,"Parcela dominada por P. rhizophorae, inundación promedio de 15 cm. presencia abundante de propágulos de R. mangle.  Bosque en buen estado no se evidencia tala.",4814,"EPA Buenaventura",null,null,"CIEMAT","Centro de Investigaciones Energéticas, Medioambientales y Tecnológicas"]
["RH","Rhizophora harrisonii ",null,null,null,null,null,null,null,"Rhizophora racemosa","RR","2040.55.326",null,null,null,"Rhizophoraceae",null,null,null,"Bahia Barbacoas-1","BARB-ZR1-Barba-1",42000,1076,null,7840,"Fair Fernando Dager Osorio",null,null,"CIOH","Centro de Investigaciones Oceanográficas e Hidrográficas"]
["TC","Terminalia catappa",null,null,null,null,null,null,null,"Rhizophora sp.","RS","2040.46.710",null,"Rosopsida","Rhizophorales","Rhizophoraceae",null,null,null,"Bahia Barbacoas-1-1","BARB-ZR1-BARB01-1",44490,1758,"Estación con sustrato duro, los primeros 20 m dominados por L. racemosa, abundante regeneración natural de R. mangle hasta los 45 m.  Nivel de inundación promedio de 10 cm.",4422,"Fernando López",null,null,"C.C.C.P.","Centro de Investigaciones Oceanográficas e Hidrográficas del Pacífico"]
["SA","Otras Especies asociadas",null,null,null,null,null,null,null,"Otras Especies asociadas","SA",null,null,null,null,null,null,null,null,"Bahia Honda -1","OPOI-ZP1-BahíaHonda-1",49005,2506,"Parcela aleatoria #2 2016",3550,"Funcionario CARDIQUE",null,null,"CEINER","Centro de Investigación Educación y Recreación Islas del Rosario"]
["RS","Rhizophora sp.",null,null,null,null,null,null,null,"Sp. manglar","SE","2040.5.2040",null,null,null,"Sin especificiar",null,null,null,"Bahía Burrera -1","DRATR-ZUS1-Bburr-1",48492,2381,"Bosque ralo con mayor presencia de R. mangle, no se observa vegetación baja diferente del manglar.  Presión antrópica relacionada por Corta de Varas.  Presencia de agallas en todas las estructuras del manglar, especialmente en el R. mangle.",3554,"Funcionario CORALINA",null,null,"CIRA","Centro de Investigación de los Recursos Acuáticos de Nicaragua (CIRA)"]
["PB","Pelliciera benthamii ",null,null,null,null,null,null,null,"Terminalia catappa","TC",null,null,"Equisetopsida","MYRTALES","COMBRETACEAE","Terminalia",null,null,"Bahía Coco Grande-1","DRATR-ZR1-Bcog-1",48520,2385,"Bosque Ralo. Con un manglar entrelazado con mayor presencia de R. mangle seguido de L. racemosa..  Presión antrópica relacionada por Corta de Varas y presencia de agallas en todas las estructuras del manglar, especialmente en el R. mangle.",3553,"Funcionario CORPOURABA",null,null,"CICA","Centro de Investigación en Contaminación Ambiental"]
[null,null,null,null,null,null,null,null,null,null,null,null,null,null,null,null,null,null,null,"Bahía El Roto -1","DRATR-ZR1-Brot-1",48526,2387,"Bosque de porte alto.Presencia de R. mangle, L. racemosa y A. germinans.  Se observó corta de mangle.",3549,"Funcionario CRA",null,null,"CRBMUV","Colección de Referencia Biología Marina Universidad del Valle"]
[null,null,null,null,null,null,null,null,null,null,null,null,null,null,null,null,null,null,null,"Bahía Honda -2","BahíaHondaPPC-2",55547,null,"Estación Manglar Bahía Honda (formada por 3 parcelas circulares): Manglar que hace parte del Parque Regional Old Point Regional Mangrove Park, localizado al nororiente de la isla de San Andrés, con una extensión de manglar de 60,62 ha (INVEMAR-CORALINA, 2016). Es un manglar de borde, con árboles con una altura promedio de 7,2 m, influenciado por las mareas y el continuo lavado de sus suelos. Conformado por Rhizophora mangle (especie dominante), Avicennia germinans, Laguncularia racemosa y Conocarpus erectus. Evidencia de residuos sólidos (botellas, latas, plásticos) traídos por el mar durante las mareas altas y árboles talados en el interior del manglar. Actualmente, bajo la figura de Parque Regional se ha logrado su recuperación y es un enclave ambiental que sirve de hábitat a numerosas especies faunísticas residentes y migratorias.",3558,"Funcionario CRC",null,null,"Coleccion_Personal","Colección personal"]
[null,null,null,null,null,null,null,null,null,null,null,null,null,null,null,null,null,null,null,"Bahía Honda -3","BahíaHondaPPC-3",55548,null,"Estación Manglar Bahía Honda (formada por 3 parcelas circulares): Manglar que hace parte del Parque Regional Old Point Regional Mangrove Park, localizado al nororiente de la isla de San Andrés, con una extensión de manglar de 60,62 ha (INVEMAR-CORALINA, 2016). Es un manglar de borde, con árboles con una altura promedio de 7,2 m, influenciado por las mareas y el continuo lavado de sus suelos. Conformado por Rhizophora mangle (especie dominante), Avicennia germinans, Laguncularia racemosa y Conocarpus erectus. Evidencia de residuos sólidos (botellas, latas, plásticos) traídos por el mar durante las mareas altas y árboles talados en el interior del manglar. Actualmente, bajo la figura de Parque Regional se ha logrado su recuperación y es un enclave ambiental que sirve de hábitat a numerosas especies faunísticas residentes y migratorias.",3556,"Funcionario CVC",null,null,"CPPS","Comisión Permanente del Pacífico Sur"]
[null,null,null,null,null,null,null,null,null,null,null,null,null,null,null,null,null,null,null,"Bahía Honda -4","OPOI-ZP1-Bahía Honda-4",49047,2522,"Parcela aleatoria #3: 2016",3552,"Funcionario CVS",null,null,"CI","Conservación Internacional Colombia "]
[null,null,null,null,null,null,null,null,null,null,null,null,null,null,null,null,null,null,null,"Bahía Hooker -1","OPOI-ZP1-BahíaHooker-1",49002,2505,"Estación Manglar Bahía Hooker (formada por 3 parcelas circulares): Manglar que hace parte del Parque Regional Old Point Regional Mangrove Park, localizado al nororiente de la isla de San Andrés, con una extensión de manglar de 60,62 ha (INVEMAR-CORALINA, 2016). Es un manglar de borde con árboles de 5,4 m de altura promedio, conformado por Rhizophora mangle, Avicennia germinans, Laguncularia racemosa y Conocarpus erectus. Evidencia de afectación por lodos aceitosos presentes en el sustrato y presencia de residuos sólidos (botellas, latas, plásticos). Actualmente, bajo la figura de Parque Regional se ha logrado su recuperación y es un enclave ambiental que sirve de hábitat a numerosas especies faunísticas residentes y migratorias.",3555,"Funcionario Codechoco",null,null,"CONSULTOR","Consultor independiente "]
[null,null,null,null,null,null,null,null,null,null,null,null,null,null,null,null,null,null,null,"Bahía Hooker -2","BahíaHookerPPC-2",55549,null,"Estación Manglar Bahía Hooker (formada por 3 parcelas circulares): Manglar que hace parte del Parque Regional Old Point Regional Mangrove Park, localizado al nororiente de la isla de San Andrés, con una extensión de manglar de 60,62 ha (INVEMAR-CORALINA, 2016). Es un manglar de borde con árboles de 5,4 m de altura promedio, conformado por Rhizophora mangle, Avicennia germinans, Laguncularia racemosa y Conocarpus erectus. Evidencia de afectación por lodos aceitosos presentes en el sustrato y presencia de residuos sólidos (botellas, latas, plásticos). Actualmente, bajo la figura de Parque Regional se ha logrado su recuperación y es un enclave ambiental que sirve de hábitat a numerosas especies faunísticas residentes y migratorias.",3548,"Funcionario Corpamag",null,null,"CMS","Consultoria y Monitoreo Ambiental"]
[null,null,null,null,null,null,null,null,null,null,null,null,null,null,null,null,null,null,null,"Bahía Hooker -3","BahíaHookerPPC-3",55550,null,"Estación Manglar Bahía Hooker (formada por 3 parcelas circulares): Manglar que hace parte del Parque Regional Old Point Regional Mangrove Park, localizado al nororiente de la isla de San Andrés, con una extensión de manglar de 60,62 ha (INVEMAR-CORALINA, 2016). Es un manglar de borde con árboles de 5,4 m de altura promedio, conformado por Rhizophora mangle, Avicennia germinans, Laguncularia racemosa y Conocarpus erectus. Evidencia de afectación por lodos aceitosos presentes en el sustrato y presencia de residuos sólidos (botellas, latas, plásticos). Actualmente, bajo la figura de Parque Regional se ha logrado su recuperación y es un enclave ambiental que sirve de hábitat a numerosas especies faunísticas residentes y migratorias.",3547,"Funcionario Corpoguajira",null,null,"CVC","Corporacion  Autonoma Regional del Valle del Cauca"]
[null,null,null,null,null,null,null,null,null,null,null,null,null,null,null,null,null,null,null,"Bahía Hooker -4","BahíaHookerPPC-4",55551,null,"Estación Manglar Bahía Hooker (formada por 3 parcelas circulares): Manglar que hace parte del Parque Regional Old Point Regional Mangrove Park, localizado al nororiente de la isla de San Andrés, con una extensión de manglar de 60,62 ha (INVEMAR-CORALINA, 2016). Es un manglar de borde con árboles de 5,4 m de altura promedio, conformado por Rhizophora mangle, Avicennia germinans, Laguncularia racemosa y Conocarpus erectus. Evidencia de afectación por lodos aceitosos presentes en el sustrato y presencia de residuos sólidos (botellas, latas, plásticos). Actualmente, bajo la figura de Parque Regional se ha logrado su recuperación y es un enclave ambiental que sirve de hábitat a numerosas especies faunísticas residentes y migratorias.",3557,"Funcionario corponarino",null,null,"CORPONARIÑO","Corporacion Autonoma Regional de Nariño"]
[null,null,null,null,null,null,null,null,null,null,null,null,null,null,null,null,null,null,null,"Bahía La Paila-1","DRATR-ZUS1-Bpai-1",48497,2383,"Costado sur de la bahía, en el cual se observa una franja externa con árboles de porte alto precedida, por una pequeña franja de arracacho y abundante sedimentación que dificulta el acceso. Al interior _x000D_\r\r\n se encontró un bosque medianamente denso con presencia de R. mangle, L. racemosa y Nectandra sp ( sp asociada al ecosistema panganal).",8559,"Geraldine Salcedo",null,null,"CARSUCRE","Corporacion Autonoma Regional de Sucre"]
[null,null,null,null,null,null,null,null,null,null,null,null,null,null,null,null,null,null,null,"Bahía Marirrio -2","DRATR-ZP1-Bmari-2",48489,2380,"Bosque ralo al interior.  Se evidenciaron árboles cortados inclusive de los incluidos en la parcela, quitaron números de árboles marcados, por lo tanto se debió remarcar. Presencia de R. mangle y, L. racemosa.  Presión antrópica relacionada por Corta de Varas.",7380,"INGRID CATALINA CORTES ZAMBRANO",null,null,"CRA","Corporacion Autonoma Regional del Atlàntico"]
[null,null,null,null,null,null,null,null,null,null,null,null,null,null,null,null,null,null,null,"Bahía Marirrio -3","DRATR-ZP1-Bmari-3",48539,2393,"Bosque denso hacia afuera pero ralo al interior.Presencia de R. mangle, L. racemosa y P. rhizophorae.Presencia de orquídeas y helecho A. aureum.  Presión antrópica relacionada por Corta de Varas.",4127,"Investigador INVEMAR",null,null,"CARDIQUE","Corporacion Autonoma Regional del Canal del Dique"]
[null,null,null,null,null,null,null,null,null,null,null,null,null,null,null,null,null,null,null,"Balboa -1","CNGBAL-ZP3-Balboa-1",45097,2003,"La parcela se localiza tierra adentro de la ciénaga a 170 m  de la línea de agua y a 215 m de la carretera. El bosque de mangle es denso en el área de la parcela,  en los últimos metros se observa B. marítima  y se encuentra un arroyo, otro arroyo a  5 metros antes del inicio de la parcela.",7141,"Juan Camilo Rodríguez Atara",null,null,"CRC","Corporacion Autonoma Regional del Cauca"]
[null,null,null,null,null,null,null,null,null,null,null,null,null,null,null,null,null,null,null,"Barrial","VIRU-SZ1-BARR-1",42119,1107,null,8217,"Juan Lazarus",null,null,"CODECHOCO","Corporacion para el Desarrollo Sostenible del Choco"]
[null,null,null,null,null,null,null,null,null,null,null,null,null,null,null,null,null,null,null,"Baru1","BARU-ZR1-Barú-1",44580,1785,"Estación con presencia de R. mangle, A. germinans y L. racemosa, abundante regeneración, neumatóforos con tamaños superiores a 15 cm.  Nivel de inundación promedio de 10 cm, bosque con árboles secos. Ubicada en la costa de la ciénaga de los cansados.",7337,"Julian David Beltran Pedraza",null,null,"CORPOGUAJIRA","Corporación Autónoma Regional de la Guajira"]
[null,null,null,null,null,null,null,null,null,null,null,null,null,null,null,null,null,null,null,"Bazo Matuntugo -1","DRATR-ZR1-Bmat-1",48517,2384,"Bosque medianamente denso, presencia de R. mangle, L. racemosa y Nectandra sp ( sp asociada al ecosistema panganal).  Presión antrópica relacionada por Corta de Varas así mismo se observan agallas en todas las estructuras del manglar. Arboles mal formados.",8265,"Kevin Samuel Moreno",null,null,"CORALINA","Corporación Autónoma Regional de las Islas de San Andrés, Providencia y Santa Catalina"]
[null,null,null,null,null,null,null,null,null,null,null,null,null,null,null,null,null,null,null,"Berrugas","BERR-ZR1-BERR-1",42202,1139,null,3281,"Leonardo José Arias Alemán (2022)",null,null,"CORPAMAG","Corporación Autónoma Regional del Magdalena"]
[null,null,null,null,null,null,null,null,null,null,null,null,null,null,null,null,null,null,null,"Black Sand Bay","BSAND_BAY1",58105,2851,null,8617,"Lina Gabriela Melo Flórez",null,null,"CORPOURABA","Corporación Autónoma Regional del Uraba"]
[null,null,null,null,null,null,null,null,null,null,null,null,null,null,null,null,null,null,null,"Boca Cerrada","BCER-ZUS1-BCER-1",44387,1723,"Esta parcela ubica da cerca de la población de boca cerrada, presenta abundancia de Rhizophora mangle",8658,"Lina Marcela Escobar Vergara",null,null,"CVC-UNPA","Corporación Autónoma Regional del Valle del Cauca-Universidad del Pacifico"]
[null,null,null,null,null,null,null,null,null,null,null,null,null,null,null,null,null,null,null,"Boca Iscuande","ISCUANDE-ZR1-GUABA-1",45918,2151,"BOSQUE NATAL MIXTO CON ESPECIES DE NATO, PALMA NAIDI, SUELA, SAPOTOLONGO. EL SUELO PRESENTA CONSISTENCIA DURA . PRESENCIA DE REGENERACIÓN NATURAL DE PIÑUELO EN ALGUNOS CLAROS. NATO POCO INTERVENIDO.",3562,"Lucia V Licero Villanueva",null,null,"CORALINA OMACHA","Corporación Coralina - Fundación Omacha"]
[null,null,null,null,null,null,null,null,null,null,null,null,null,null,null,null,null,null,null,"Boca de Rio Capira","IJU-SZ-RIO_CAPIRA",58502,2865,null,6302,"Luisa Francisca Cardona Acuña",null,null,"CORPOURABA - OMACHA","Corporación Corpouraba - Fundación Omacha"]
[null,null,null,null,null,null,null,null,null,null,null,null,null,null,null,null,null,null,null,"Boca de Rio Virudo","VIRU-ZUS-BOCA_VIRUDO",58512,2869,null,7377,"MARGARITA ROSA DUSSAN ARQUEZ",null,null,"CVS","Corporación Regional de Valle del Sinu y San Jorge"]
[null,null,null,null,null,null,null,null,null,null,null,null,null,null,null,null,null,null,null,"Bocana","AST-ZP1-BOCA-1",41967,1065,"Dificil acceso por cercas de alambres puas, Suelo anegadocon vegetacion brinzal",8340,"María Alejandra Camargo Vargas",null,null,"DADSA","DEPARTAMENT0 ADMiNISTRATIVO DISTRITAL DE SOSTENIBILIDAD AMBIENTAL"]
[null,null,null,null,null,null,null,null,null,null,null,null,null,null,null,null,null,null,null,"Bocana Asocars -1","BVENT-ZR3-BA-1",45883,2139,"Es importante destacar que estos bosques reciben una fuerte descarga de residuos sólidos provenientes de la ciudad de Bueventura que tiene una población de aproximadamente 400.000 habitantes.   En este sector predomina el Rhizophora mangle y en algunas parcelas la regeneración natural es nula.",8880,"Natalia Del Pilar Peña Gonzalez",null,null,"DAMARENA","Departamento Administrativo del Medio Ambiente de Cartagena -  EPA Cartagena"]
[null,null,null,null,null,null,null,null,null,null,null,null,null,null,null,null,null,null,null,"Bocana CVC","BVENT-ZR3-BCVC-1",45862,2136,"En términos generales este bosque a pesar de presentar un distribución diamétrica en forma de J invertida, es característico de un bosque altamente intervenido en concordancia con la zonificación de 2007 y se aprecia claramente en el valor del área basal de 10 m2 Ha, diámetro promedio de 10 cms con alturas que no superan los 24 metros y una baja densidad de árboles en las clases diamétricas superiores.",4521,"Sebastian Herrera Fajardo",null,null,"DAMAB","Departamento Técnico Administrativo del Medio Ambiente Barranquilla"]
[null,null,null,null,null,null,null,null,null,null,null,null,null,null,null,null,null,null,null,"Bocas Tapage -1","TAPAGE-ZR2-BOTAPAJE-1",45900,2144,"BOSQUE DE MANGLE ROJO BIEN DESARROLLADO CON ALTA DENSIDAD DE RAÍCES AÉREAS, SE OBSERVA PRESENCIA DE TALAS DE INDIVIDUOS DE MAYOR PORTE.",7382,"Valentina Piñeros",null,null,"DIMAR","Dirección General Maritima"]
[null,null,null,null,null,null,null,null,null,null,null,null,null,null,null,null,null,null,null,"Bocas de Sequihonda -1","TAPAGE-ZR1-SEQUIHONDA-1",45896,2143,"BOSQUE DE MANGLE MIXTO. SU COMPOSICIÓN FLORISTICA DE MANGLE PIÑUELO, NATO E IGUANERO. ALTA REGENERACIÓN NATURAL. CONSISTENCIA DEL SUELO ALTAMENTE BLANDA",9260,"Wilder Jose Borrero Avellaneda",null,null,"ECOREEF","ECOREEF Colombia LTDA"]
[null,null,null,null,null,null,null,null,null,null,null,null,null,null,null,null,null,null,null,"Bocas del Atrato P1","BCATRATO_P1",56791,2810,null,8266,"Zulay Saudith González Herrera",null,null,"ETH Zurich","EIDGENÖSSISCHE TECHNISCHE HOCHSCHULE ZÜRICH (Politécnico)\r\r\nEIDGENÖSSISCHE TECHNISCHE HOCHSCHULE ZÜRICH"]
[null,null,null,null,null,null,null,null,null,null,null,null,null,null,null,null,null,null,null,"Bocon","VIRU-SZ1-BOCO-1",42113,1104,null,null,null,null,null,"ECOMAR","Ecomar Consultoría  Ambiental S.A.S."]
[null,null,null,null,null,null,null,null,null,null,null,null,null,null,null,null,null,null,null,"Bodegas","ANCHI-ZR1-AB-1",45891,2142,"Bosque medianamente intervenido con dominancia de mangle rojo.  Suelos más estables que en las otras parcelas donde predomina el mangle rojo.",null,null,null,null,"EPA BARRANQUILLA","Establecimiento Publico Ambiental Barranquilla"]
[null,null,null,null,null,null,null,null,null,null,null,null,null,null,null,null,null,null,null,"Boquilla-1","JPVI-ZR1-BOQ-1",42007,1078,null,null,null,null,null,"EPA BUENAVENTURA","Establecimiento Publico Ambiental Buenaventura"]
[null,null,null,null,null,null,null,null,null,null,null,null,null,null,null,null,null,null,null,"Buno-1","CORI-ZUS1-Buno-1",48444,2372,"Desde fuera se observa una franja rala del ecosistema con árboles de porte bajo.  Mayor presencia de R, mangle y menor de A. germinans y L. racemosa. Al inferior se reportan las mismas especies. El sotobosque dominado por  helecho matatigre (A, aureum),  Se observan tocones por la corta de varas.  Presencia de comején, bolsas plásticas, tarros y basuras en general.",null,null,null,null,"EPA CARTAGENA","Establecimiento Publico Ambiental Cartagena"]
[null,null,null,null,null,null,null,null,null,null,null,null,null,null,null,null,null,null,null,"Buritaca 2","BUR-ZR1-Buritac2-1",45320,2046,"La parcela está ubicada a una distancia de 700 m al oriente de la desembocadura del Río Buritaca, 50 m del borde de la cobertura vegetal. Es un relicto de mangle constituido por L. racemos, en los últimos metros de la Parcela se observa una ligera depresión en la que se acumula agua, y es alimentada por las crecidas del rio. También se observa mangle inclinados y volcados además de zonas taladas.",null,null,null,null,"ZOOCALI","FUNDACIÓN ZOOLÓGICA DE CALI"]
[null,null,null,null,null,null,null,null,null,null,null,null,null,null,null,null,null,null,null,"Buritaca 2-1","BUR-ZP1-Buritac2-1",45308,2043,"Se localiza en el costado oriental del río Buritaca a 1 km de la desembocadura, a  60 m del borde de la cobertura vegetal y a pocos metros del final del manglar. En las inmediaciones hay palmas de coco, matorrales y pastos. Dentro de la parcela entre 15 a 20 m el suelo esta encharcado con presencia de ranconcha y arboles inclinados.",null,null,null,null,"Fundabas","Fundacion Para El Desarrollo De La Biologia Aplicada"]
[null,null,null,null,null,null,null,null,null,null,null,null,null,null,null,null,null,null,null,"Buritaca ZP 1-1","BUR-ZP1-Buritac1-1",45305,2042,"Se ubica a 400 m de la desembocadura del río Buritaca,  y  a una distancia de 17 m  del borde de la cobertura vegetal que da a la playa turística que da a una madre vieja y esta a su vez está protegida del mar por una barra de arena. En esta área la franja de manglar es más ancha.",null,null,null,null,"F. Bucea Colombia","Fundación Bucea Colombia"]
[null,null,null,null,null,null,null,null,null,null,null,null,null,null,null,null,null,null,null,"Buritaca ZR 1","BUR-ZR1-Buritc1-1",45315,2044,"Se localiza a 800 m de la desembocadura del río Buritaca, en el extremo más al occidental del manglar, limita con zonas de potrero,  a una distancia de 18 m  del borde de la línea de cobertura vegetal. La parcela está constituida por mangla  L. racemosa y vegetación de playa. La franja de cobertura de mangla es reducida.",null,null,null,null,"F.CORALES","Fundación Corales de Paz"]
[null,null,null,null,null,null,null,null,null,null,null,null,null,null,null,null,null,null,null,"Caimanero","VIRU-SZ1-CAIM-1",42117,1106,null,null,null,null,null,"F. Malpelo","Fundación Malpelo / Marviva"]
[null,null,null,null,null,null,null,null,null,null,null,null,null,null,null,null,null,null,null,"Camino Real","CAMREAL-ZUS1-CAMREAL-1",45387,2060,"VEGETACIÓN DE MANGLE ROJO ADULTO  BIEN DESARROLLADO CON INTERVENCIONES ESPORADICAS",null,null,null,null,"OMACHA","Fundación Omacha"]
[null,null,null,null,null,null,null,null,null,null,null,null,null,null,null,null,null,null,null,"Cangrejo","MAYO-ZUS1-Can-1",46010,2215,null,null,null,null,null,"OMACHA - OFM","Fundación Omacha - Observadores Fauna Marina"]
[null,null,null,null,null,null,null,null,null,null,null,null,null,null,null,null,null,null,null,"Caño Arteaga","BCISEST-ZUS1-CñArteaga-1",48750,2435,null,null,null,null,null,"OMACHA - OFM - AQUAB","Fundación Omacha - Observadores Fauna Marina - Aquabiosfera"]
[null,null,null,null,null,null,null,null,null,null,null,null,null,null,null,null,null,null,null,"Caño Camaronera -1","BARC-ZUS1-CCAM-1",44380,1721,"La parcela se encuentra  paralela al caño la Camaronera, presenta intervención por parte del hombre",null,null,null,null,"Sila Kangama","Fundación Sila Kangama"]
[null,null,null,null,null,null,null,null,null,null,null,null,null,null,null,null,null,null,null,"Caño Carmelina","MARRI-SZ-CARME",58472,2859,"Se ubica a 6,5 km aproximadamente al Noroeste de la comunidad de Marriaga, en forma perpendicular a la margen izquierda del Caño carmelina,posee un area de 1000m2, configurada por un rectangulo de 20m x 50m.",null,null,null,null,"CIAA-UJTL","Fundación Universidad Jorge Tadeo Lozano - Centro de Investigaciones y Asesorías Agroindustriales,"]
[null,null,null,null,null,null,null,null,null,null,null,null,null,null,null,null,null,null,null,"Caño Corea -1","TIN-ZR1-EC-1",42093,1099,"ESTACION COREA",null,null,null,null,"UJTL","Fundación Universidad de Bogotá Jorge Tadeo Lozano"]
[null,null,null,null,null,null,null,null,null,null,null,null,null,null,null,null,null,null,null,"Caño Dulce -1","CÑDULC-SZ1-CÑDULC-1",45264,2027,"Se ubica a 55 m al sur de la vía a la playa de Caño Dulce y a 16 m de la línea de vegetación, entre dos casas.  El crecimiento del mangle es ramificado, se observa intervención de la parcela para evitar el crecimiento de brinzales, para el fácil tránsito. Presenta suelos firmes y arcillosos. Se encontraron residuos sólidos.",null,null,null,null,"CERG","Geochemical & Environmental Research Group"]
[null,null,null,null,null,null,null,null,null,null,null,null,null,null,null,null,null,null,null,"Caño Grande E-1","CGSM-SZ1-CGE-1",45930,2157,"Parcela 1 monitoreada por el INVEMAR en el marco del ¨Monitoreo de las condiciones ambientales y los cambios estructurales y funcionales de las comunidades vegetales y de los recursos pesqueros durante la rehabilitación de la Ciénaga Grande de Santa Marta¨",null,null,null,null,"IED_San José","INSTITUCIÓN EDUCATIVA DEPARTAMENTAL SAN JOSÉ"]
[null,null,null,null,null,null,null,null,null,null,null,null,null,null,null,null,null,null,null,"Caño Grande E-2","CGSM-SZ1-CGE-2",45932,2158,"Parcela 2 monitoreada por el INVEMAR en el marco del ¨Monitoreo de las condiciones ambientales y los cambios estructurales y funcionales de las comunidades vegetales y de los recursos pesqueros durante la rehabilitación de la Ciénaga Grande de Santa Marta¨",null,null,null,null,"IRD","Institut de Recherche pour le Developpement"]
[null,null,null,null,null,null,null,null,null,null,null,null,null,null,null,null,null,null,null,"Caño Grande E-3","CGSM-SZ1-CGE-3",45934,2159,"Parcela 3 monitoreada por el INVEMAR en el marco del ¨Monitoreo de las condiciones ambientales y los cambios estructurales y funcionales de las comunidades vegetales y de los recursos pesqueros durante la rehabilitación de la Ciénaga Grande de Santa Marta¨",null,null,null,null,"COLCIENCIAS","Instituto Colombiano para el Desarrollo de la Ciencia y la Tecnología"]
[null,null,null,null,null,null,null,null,null,null,null,null,null,null,null,null,null,null,null,"Caño Grande-1","BCISEST-ZUS2-cañogrande-1",45072,1997,"la paralela se encuentra ubicada en la zona de uso sostenible de caño grande en la ciénaga mangoneas, con bajos niveles de inundación y con predominancia de la especia Rhizophora mangle, se observaba intervención de por actividades antro picas",null,null,null,null,"ICAL","Instituto Colombo Alemán de Investigaciones Científicas de Punta de Betín"]
[null,null,null,null,null,null,null,null,null,null,null,null,null,null,null,null,null,null,null,"Caño Guacamayas -1","GUAC-ZP1-CGUA-1",44410,1729,"la parcela se encuentra paralela al caño de Guacamayas",null,null,null,null,"INVEMAR - OMACHA","Instituto INVEMAR - Fundación Omacha"]
[null,null,null,null,null,null,null,null,null,null,null,null,null,null,null,null,null,null,null,"Caño La Balsa","LBAL-ZUS1-clb-1",42074,1094,"parcela caño la balsa",null,null,null,null,"INDERENA","Instituto Nacional de los Recursos Naturales Renovables y del Ambiente"]
[null,null,null,null,null,null,null,null,null,null,null,null,null,null,null,null,null,null,null,"Caño Lequerica","BARB-ZR1-Lequerica-1",44504,1762,"Parcela con árboles de R, mangle de gran altura, en algunos casos 30 metros, inundación en toda la parcela y   abundante regeneración natural de R. mangle.  árboles secos y caídos.",null,null,null,null,"ICML","Instituto de Ciencias del Mar y Limnología (ICML)"]
[null,null,null,null,null,null,null,null,null,null,null,null,null,null,null,null,null,null,null,"Caño Matuna-1","BARC-ZUS1-CMAT-1",44378,1720,"la parcela se encuentra a 30 metros de la boca del caño Matuna",null,null,null,null,"IIAP","Instituto de Investigaciones Ambientales del Pacifico"]
[null,null,null,null,null,null,null,null,null,null,null,null,null,null,null,null,null,null,null,"Caño Palermo-1","BCISEST-ZUS4-palermo-1",45100,2004,"la parcela esta ubicada en la zona de uso sostenible del sector caño palermo , con predominancia de la especie Rhizopohora mangle",null,null,null,null,"INVEMAR","Instituto de Investigaciones Marinas y Costeras"]
[null,null,null,null,null,null,null,null,null,null,null,null,null,null,null,null,null,null,null,"Caño Salado","BCISEST-ZP1-CñSalado-1",48758,2438,null,null,null,null,null,"INVEMAR-AGR","Instituto de Investigaciones Marinas y Costeras - AGR"]
[null,null,null,null,null,null,null,null,null,null,null,null,null,null,null,null,null,null,null,"Caño Salado -2","BCISEST-ZP1-cañosalado2-1",45351,2053,"parcela ubicada en el sector de caño salado, con predominancia de las especies Rhizophora mangle,Pelliciera rhizophorae,Avicennia germinans, los arboles presenta condición de raquitismo, los niveles de inundación son bajos, por el sedimentos debido al material de arastre que trae el rio",null,null,null,null,"INVEMAR-BVT","Instituto de Investigaciones Marinas y Costeras - BVT"]
[null,null,null,null,null,null,null,null,null,null,null,null,null,null,null,null,null,null,null,"Caño Salado-1","BCISESTSAL-ZP1-CS-1",42083,1096,null,null,null,null,null,"INVEMAR-CPT","Instituto de Investigaciones Marinas y Costeras - CPT"]
[null,null,null,null,null,null,null,null,null,null,null,null,null,null,null,null,null,null,null,"Caño Tarena","TARE-ZP-CATA",58468,2858,"Se ubica a 14,8 km aproximadamente al Noroeste de la comunidad de Marriaga, en forma perpendicular a la margen izquierda del Caño Tarena,posee un area de 1000m2, configurada por un rectangulo de 20m x 50m.",null,null,null,null,"IAvH","Instituto de Investigación Recursos Biológicos Alexander von Humboldt"]
[null,null,null,null,null,null,null,null,null,null,null,null,null,null,null,null,null,null,null,"Caño Tijo-1","BCISLIT-ZUS1-TIJO-1",45008,1993,"La PPC se ubica en la ZUS de la Bahía de Cispatá, con influencia directa del Caño Tijó y con alta inundación. Presenta dominancia de A. germinans, con alta regeneración natural. Se presentan en menor proporción R. mangle.",null,null,null,null,"IDO_Cuba","Instituto de Oceanologia Cuba"]
[null,null,null,null,null,null,null,null,null,null,null,null,null,null,null,null,null,null,null,"Caño Tijo-1","CSISPIE-ZUS1-CñTijo-1",48755,2437,null,null,null,null,null,"IATTC","Inter-American Tropical Tuna Commission"]
[null,null,null,null,null,null,null,null,null,null,null,null,null,null,null,null,null,null,null,"Caño Tijo-2","BCISEST-ZR1-eltijo2-1",45095,2002,"la parcela esta ubicada en en la zona de recuperación del DMI,con predominancia de la especie Avicennia germinans",null,null,null,null,"LABORMAR","Laboratorio Microbiológico Ortiz Martinez "]
[null,null,null,null,null,null,null,null,null,null,null,null,null,null,null,null,null,null,null,"Caño Tijó","BCISEST-ZR1-Tijó-1",42103,1102,null,null,null,null,null,"Literature report","Literature report"]
[null,null,null,null,null,null,null,null,null,null,null,null,null,null,null,null,null,null,null,"Caño Urabalito -1","CORI-ZR1-Cura-1",48429,2367,"Pequeño relicto monoespecífico de R. mangle, sin evidencias de presión antrópica.",null,null,null,null,"MCS Consultoría","MCS Consultoría y Monitoreo ambiental S.A.S"]
[null,null,null,null,null,null,null,null,null,null,null,null,null,null,null,null,null,null,null,"Caño el Frances -1","FRAN-ZR1-BCFRA-1",44414,1730,"La parcela se encuentra paralela al coño el Frances",null,null,null,null,"MAKARELA","Makarela S.A.S"]
[null,null,null,null,null,null,null,null,null,null,null,null,null,null,null,null,null,null,null,"Caño el Nene -1","CCISinu-ZUS1-elnene-1",45040,1995,"la parcela ubicada en el sector caño el nene, con predominancia de la especie Rhizophora mangle, la cual esta sometida a una constante presión, por aprovechamiento forestal en el sector.",null,null,null,null,"MHNMC","Makuriwa - Museo de Historia Natural Marina de Colombia"]
[null,null,null,null,null,null,null,null,null,null,null,null,null,null,null,null,null,null,null,"CañoTubo","CNGMLLQ-ZP1-CATO-1",41954,1062,"Parcela dominada por A. germinans",null,null,null,null,"MMU","Manchester Metropolitan University"]
[null,null,null,null,null,null,null,null,null,null,null,null,null,null,null,null,null,null,null,"Cementerio","NUQUI-ZR-CEMENTERIO",58561,2879,null,null,null,null,null,"M_P","Marine & Port Consultants"]
[null,null,null,null,null,null,null,null,null,null,null,null,null,null,null,null,null,null,null,"Centro","CENTRO_JON",58102,2849,null,null,null,null,null,"IAEA-MEL","Marine Environment Laboratories"]
[null,null,null,null,null,null,null,null,null,null,null,null,null,null,null,null,null,null,null,"Centro","CENTRO_SAN",58126,2846,null,null,null,null,null,"MINCIENCIAS","Ministerio de Ciencia, Tecnología e Innovación"]
[null,null,null,null,null,null,null,null,null,null,null,null,null,null,null,null,null,null,null,"Cerro Punta Piedra - Fray Domingo","CERROPI-ZP-CERRO_PIEDRA",58611,2890,"Zona de manglar y predios privados",null,null,null,null,"MA","Ministerio del Ambiente Haiti"]
[null,null,null,null,null,null,null,null,null,null,null,null,null,null,null,null,null,null,null,"Chamuscado","BNAY-ZUS3-NC-1",45821,2128,"El manglar de la estación naya presenta una condiciones regulares de conservación con una  área basal  y una cantidad de árboles aceptables  que permiten su recuperación si se garantizan estrategias de conservación como el aislamiento del bosque articuladas a un fuerte trabajo de empoderamiento por parte de las comunidades de base.",null,null,null,null,"MADS","Ministerio del Ambiente y Desarrollo Sostenible"]
[null,null,null,null,null,null,null,null,null,null,null,null,null,null,null,null,null,null,null,"Chichiman -1","PCOM-ZR1-Chichi-1",42181,1132,"franja que se encuentra en un estado de intervención alterado bajo, con sitios de anidacion de la tortuga Carey",null,null,null,null,"MINAMBIENTE","Ministerio del Ambiente y Desarrollo Sostenible"]
[null,null,null,null,null,null,null,null,null,null,null,null,null,null,null,null,null,null,null,"Cholon-1","BARU-ZR1-Cholón-1",44585,1787,"Dominada por R. mangle con numerosas raíces fúlcreas, sustrato duro.  Al final de la estación comienza vegetación de bosque seco.",null,null,null,null,"MHN-UC","Museo Historia Natural Universidad del Cauca"]
[null,null,null,null,null,null,null,null,null,null,null,null,null,null,null,null,null,null,null,"Chuza Chuza","SI-SZ-CHUZA",58497,2863,null,null,null,null,null,"MZUSP","Museu de Zoologia da Universidade de São Paulo"]
[null,null,null,null,null,null,null,null,null,null,null,null,null,null,null,null,null,null,null,"Cienaga El Picon-1","TBOM-ZP1-Picón-1",44598,1791,"Sitio con mucha basura al ingreso de la estación, don dominancia de R. mangle, se observaron pequeños parches de tala",null,null,null,null,"NOAA FISHERIES","NOAA Southwest Fisheries Science Center"]
[null,null,null,null,null,null,null,null,null,null,null,null,null,null,null,null,null,null,null,"Ciénaga Ana Gomez-2","CANG-ZR1-CANG-2",44407,1728,"La parcela esta ubicada al costado derecho de la Boca de la Ciénaga, presenta abundante arbolado de Mangle Negro de pequeño tamaño.",null,null,null,null,"NEPA","National Environment and Planning Agency"]
[null,null,null,null,null,null,null,null,null,null,null,null,null,null,null,null,null,null,null,"Ciénaga Benitez-1","CBEN-ZR1-CBEN-1",44369,1718,"La parcela se ubica  entre caño Rico y Ciénaga Ana Gómez,  a 30 metros del cuerpo de agua",null,null,null,null,"NOAA","National Oceanic and Atmospheric Administration"]
[null,null,null,null,null,null,null,null,null,null,null,null,null,null,null,null,null,null,null,"Ciénaga Caimanera -1","CCAIM-ZUS1-CCAIM-1",44422,1732,null,null,null,null,null,"OBIMAR","OBIMAR. Empresa Portuaria Quetzal"]
[null,null,null,null,null,null,null,null,null,null,null,null,null,null,null,null,null,null,null,"Ciénaga El Garzal -1","BCISEST-ZR1-elgarzal-1",45054,1996,"la parcela esta ubicada en el sector de aprovechamiento de la ciénaga el garzal, con predominancia de la especie Rhizophora mangle, en una zona de bajos novales de inundación.",null,null,null,null,"OBIS-SEAMAP","OBIS-SEAMAP"]
[null,null,null,null,null,null,null,null,null,null,null,null,null,null,null,null,null,null,null,"Ciénaga El Garzal -2","BCISEST-ZR1-elgarzal-2",45078,1998,"la parcela se encuentra ubicada en el sector caño el grazal en la zona de uso sostenible de la bahía de cispata, con predominancia de la especie Avicenia gerninans, con arboles de gran tamaño y sanos.",null,null,null,null,"OBIS","Ocean Biogeographic Information System"]
[null,null,null,null,null,null,null,null,null,null,null,null,null,null,null,null,null,null,null,"Ciénaga El Garzal-3","BCISEST-ZUS1-elgarzal3-1",45145,2016,"parcela ubicada en la zona de uso sostenible del sub sector de aprovechamiento de la ciénaga el garzal, con predominancia de especie Rhizophora mangle, en esta parcela se observan gran cantidad de arboles muertos, huellas de aprovechamiento forestal de la especie,",null,null,null,null,"OIR","Oceanario de las Islas del Rosario - CEINER"]
[null,null,null,null,null,null,null,null,null,null,null,null,null,null,null,null,null,null,null,"Ciénaga Galo","BCISEST-ZR1-golo-1",45118,2008,"ubicada en el sector de la ciénaga galo en la zona de uso sostenible de la bahía de cispata, con predominancia de la especie Rhizophora mangle, con arboles de gran tamaño, sanos y con bajos niveles de inundación.",null,null,null,null,"OIEA","Orgánismo Internacional de Energía Atómica"]
[null,null,null,null,null,null,null,null,null,null,null,null,null,null,null,null,null,null,null,"Ciénaga Galo","BCISEST-ZUS1-CgGalo-1",48753,2436,null,null,null,null,null,"PNN_GORGONA","Parque Nacional Natural Gorgona"]
[null,null,null,null,null,null,null,null,null,null,null,null,null,null,null,null,null,null,null,"Ciénaga Mestizos-1","BCISLIT-ZP1-CgMestizo-1",48766,2440,null,null,null,null,null,"UAESPNN","Parques Nacionales Naturales de Colombia"]
[null,null,null,null,null,null,null,null,null,null,null,null,null,null,null,null,null,null,null,"Ciénaga Ostional-1","BCISEST-ZUS2-ostional-1",45121,2009,"la parcela cuenta con un gran numero de arboles de la especie Rhizophora mangle, de gran tamaño, y con un gran porcentaje de regeneración natural en un estado sano.",null,null,null,null,"PNN","Parques Nacionales Naturales de Colombia "]
[null,null,null,null,null,null,null,null,null,null,null,null,null,null,null,null,null,null,null,"Ciénaga Remedia Pobre-1","BCISEST-ZUS1-remediapobre-1",45136,2013,"la parcela esta ubicada en la ciénaga remedia pobre que esta situada en el subsector de aprovechamiento del DMI con una baja densidad de arboles por parcela y con predominancia de la especia Rhiphora mangle",null,null,null,null,"PARTICULAR","Particular"]
[null,null,null,null,null,null,null,null,null,null,null,null,null,null,null,null,null,null,null,"Ciénaga Rincon Grillo-1","BCISEST-ZUS4-elgrillo-1",45125,2010,"la parcela esta ubicada en el sector el rincón del grillo en la zona de uso sostenible de la bahía de cispata, con predominancia de la especie Rhizopora mangle, con arboles de gran tamaño, se encuentran algunas lianas y elechales",null,null,null,null,"PUJ","Pontificia Universidad Javeriana"]
[null,null,null,null,null,null,null,null,null,null,null,null,null,null,null,null,null,null,null,"Ciénaga Soledad","BCISEST-ZR1-soledad-1",45142,2015,"esta parcela esta predominada por la especie Rhizopora mangle, se presenta muerte descendente en algunos arboles y muchos presentan una condición de raquitismo, también  existen algunas lianas",null,null,null,null,"RAC-CIMAB","RAC-CIMAB"]
[null,null,null,null,null,null,null,null,null,null,null,null,null,null,null,null,null,null,null,"Ciénaga de Balboa","CIEBALBO_ZP_CIE_BALBO",45517,2092,"Zona inundable del arroyo sobre la ciénaga de balboa",null,null,null,null,"REPSOL","Repsol Exploración Colombia S.A."]
[null,null,null,null,null,null,null,null,null,null,null,null,null,null,null,null,null,null,null,"Ciénaga de Mallorquin","CIEMALLOR-ZP-CIE_MALLOR",45523,2095,"Zona inundable cerca al aula ambiental de pescadores",null,null,null,null,"SERNA","Secretaría de Recursos Naturales y Ambiente (SERNA)/Centro de Estudios y Control de Contaminantes (CESCCO)"]
[null,null,null,null,null,null,null,null,null,null,null,null,null,null,null,null,null,null,null,"Ciénaga del Totumo","CIETOTUMO-ZP-CIE_TOTU",58616,2891,"Predios privados y agricultura",null,null,null,null,"SERAMBIENTE","Servicios de Ingeniería Ambiental"]
[null,null,null,null,null,null,null,null,null,null,null,null,null,null,null,null,null,null,null,"Ciénaga la Balsa-1","BCISLIT-ZUS1-CñBalsa-1",48769,2441,null,null,null,null,null,"SEPC","Shell Exploration & Production Colombia GMBH"]
[null,null,null,null,null,null,null,null,null,null,null,null,null,null,null,null,null,null,null,"Ciénaga los Manatíes","CIEMANATIES-ZP-CIE_MANATIES",40907,683,"Parcela en predio privado",null,null,null,null,"NMHN Smithsonian","Smithsonian Institution"]
[null,null,null,null,null,null,null,null,null,null,null,null,null,null,null,null,null,null,null,"Cocoplum -1","COCO-ZR1-CO-1",49196,2574,"Parcela aleatoria #3: 2016",null,null,null,null,"SPRC - CNR","Sociedad Portuaria Rio Cordoba - Colombian Natural Resources S.A.S."]
[null,null,null,null,null,null,null,null,null,null,null,null,null,null,null,null,null,null,null,"Cocoplum -2","CocoplumPPC-2",55552,null,"Estación Manglar Cocoplum (formada por 3 parcelas circulares):Manglar de cuenca o interior, localizado en el costado oriental de la Isla, en la zona media. Se encuentra separado del mar por la carretera y se desarrolla detrás de formaciones vegetales distintas al manglar, en las que algunas de ellas son de tipo xerófila que crecen sobre arenas formando matorrales. Este manglar está conformado por Rhizophora mangle, Laguncularia racemosa, Avicennia germinans y baja frecuencia de Conocarpus erectus. Altura promedio de los árboles de 8,1 m. Presenta contaminación proveniente del asentamiento vecino conocido como Nueva Guinea, causante del vertimiento de aguas residuales y mala disposición de residuos sólidos, así como de una porqueriza localizada muy cerca del manglar. Hay evidencia de actividades de tala en su interior y de rellenos. Tiene una extensión de manglar de 38,53 ha (INVEMAR-CORALINA, 2016).",null,null,null,null,"SPSM","Sociedad Portuaria de Santa Marta"]
[null,null,null,null,null,null,null,null,null,null,null,null,null,null,null,null,null,null,null,"Cocoplum -3","CocoplumPPC-3",55553,null,"Estación Manglar Cocoplum (formada por 3 parcelas circulares):Manglar de cuenca o interior, localizado en el costado oriental de la Isla, en la zona media. Se encuentra separado del mar por la carretera y se desarrolla detrás de formaciones vegetales distintas al manglar, en las que algunas de ellas son de tipo xerófila que crecen sobre arenas formando matorrales. Este manglar está conformado por Rhizophora mangle, Laguncularia racemosa, Avicennia germinans y baja frecuencia de Conocarpus erectus. Altura promedio de los árboles de 8,1 m. Presenta contaminación proveniente del asentamiento vecino conocido como Nueva Guinea, causante del vertimiento de aguas residuales y mala disposición de residuos sólidos, así como de una porqueriza localizada muy cerca del manglar. Hay evidencia de actividades de tala en su interior y de rellenos. Tiene una extensión de manglar de 38,53 ha (INVEMAR-CORALINA, 2016).",null,null,null,null,"UPR Humacao","UNIVERSIDAD DE PUERTO RICO EN HUMACAO"]
[null,null,null,null,null,null,null,null,null,null,null,null,null,null,null,null,null,null,null,"Cocoplum -4","COCO-ZP1-CO-4",49192,2573,"Parcela aleatoria #2 2016",null,null,null,null,"UR Camelia, IRD","UR Camelia, IRD"]
[null,null,null,null,null,null,null,null,null,null,null,null,null,null,null,null,null,null,null,"Costa Verde P-1","COR-ZP1-CtaVerde-1",45301,2041,"La parcela se encuentra en el sur del parche de manglar de mayor extensión ubicado al sur del sector. Se localiza 40 m al norte del espolón, a 14 m de la playa, el inicio de la parcela da a pocos metros un camino y la parte final a una pequeña cuneta de agua. Constituida por las 4 especies de mangle reportadas para el Dpto. con predominio de A. germinans.",null,null,null,null,"UNEP CAR/RCU","United Nations Environment Programme - Caribbean Regional Coordinating Unit"]
[null,null,null,null,null,null,null,null,null,null,null,null,null,null,null,null,null,null,null,"Costa Verde R-1","COR-ZR1-CtaVerde-1",45297,2040,"La parcela se encuentra en el norte del parche de manglar de mayor extensión ubicado al sur del sector. Se localiza a  600 m al sur de la desembocadura del rio Córdoba, a 20 m la playa. Dentro de la parcela predomina L. racemosa, R. mangle y presencia de C. erectus,  los suelos que dan a la playa son arenosos y firmes.",null,null,null,null,"UASD","Universidad Autónoma de Santo Domingo"]
[null,null,null,null,null,null,null,null,null,null,null,null,null,null,null,null,null,null,null,"Cuerval","CUER-ZP2-CUERVAL-1",45489,2085,"Parcela sencilla de 20 m de ancho x 50 m de largo",null,null,null,null,"UFB","Universidad Federal de Bahía"]
[null,null,null,null,null,null,null,null,null,null,null,null,null,null,null,null,null,null,null,"Cuerval de Antoliano","DOCAM-SZ-ANTOLIANO",58507,2867,null,null,null,null,null,"UJTL-MM","Universidad Jorje Tadeo Lozano-Museo del Mar"]
[null,null,null,null,null,null,null,null,null,null,null,null,null,null,null,null,null,null,null,"DCI Clarin Parcela1","DCI_P1",58076,2828,null,null,null,null,null,"UNMSM","Universidad Nacional Mayor de San Marcos"]
[null,null,null,null,null,null,null,null,null,null,null,null,null,null,null,null,null,null,null,"DCI Clarin Parcela2","DCI_P2",58077,2829,null,null,null,null,null,"UNal","Universidad Nacional de Colombia"]
[null,null,null,null,null,null,null,null,null,null,null,null,null,null,null,null,null,null,null,"DCI Clarin Parcela3","DCI_P3",58078,2830,null,null,null,null,null,"USB","Universidad Simón Bolivar"]
[null,null,null,null,null,null,null,null,null,null,null,null,null,null,null,null,null,null,null,"DCI Cuerval Parcela1","DCI_P1",58060,2817,null,null,null,null,null,"UDEA","Universidad de Antioquia"]
[null,null,null,null,null,null,null,null,null,null,null,null,null,null,null,null,null,null,null,"DCI Cuerval Parcela2","DCI_P2",58061,2818,null,null,null,null,null,"UJTL-FCM","Universidad de Bogotá Jorge Tadeo Lozano, Fac. de Ciencias Naturales e Ingenieria"]
[null,null,null,null,null,null,null,null,null,null,null,null,null,null,null,null,null,null,null,"DCI Cuerval Parcela3","DCI_P3",58062,2819,null,null,null,null,null,"UCartagena","Universidad de Cartagena"]
[null,null,null,null,null,null,null,null,null,null,null,null,null,null,null,null,null,null,null,"DSI Clarin Parcela1","DSI_P1",58072,2825,null,null,null,null,null,"UCO","Universidad de Córdoba"]
[null,null,null,null,null,null,null,null,null,null,null,null,null,null,null,null,null,null,null,"DSI Clarin Parcela2","DSI_P2",58073,2826,null,null,null,null,null,"UF","Universidad de Florida"]
[null,null,null,null,null,null,null,null,null,null,null,null,null,null,null,null,null,null,null,"DSI Clarin Parcela3","DSI_P3",58074,2827,null,null,null,null,null,"UniGie","Universidad de Giessen"]
[null,null,null,null,null,null,null,null,null,null,null,null,null,null,null,null,null,null,null,"DSI Parcela1","DSI_P1",58064,2820,null,null,null,null,null,"UNIBAGUE","Universidad de Ibague"]
[null,null,null,null,null,null,null,null,null,null,null,null,null,null,null,null,null,null,null,"DSI Parcela2","DSI_P2",58065,2821,null,null,null,null,null,"UDES","Universidad de La Sabana"]
[null,null,null,null,null,null,null,null,null,null,null,null,null,null,null,null,null,null,null,"DSI Parcela3","DSI_P3",58066,2822,null,null,null,null,null,"UDO - NS","Universidad de Oriente - Núcleo de Sucre"]
[null,null,null,null,null,null,null,null,null,null,null,null,null,null,null,null,null,null,null,"Don Diego -1","DDGO-ZR1-DnDieg-1",45330,2048,"Ubicadas a 150 m al Oriente de la cabaña de pescador, en el orilla Norte de la madre vieja. Es una parcela compuesta constituida con 2 parcelas distanciadas 16 m una de la otra, cada una con área de 100 m², ubicadas una al lado de la otra, paralelas a la línea de agua.",null,null,null,null,"UNIGUAJIRA","Universidad de la Guajira"]
[null,null,null,null,null,null,null,null,null,null,null,null,null,null,null,null,null,null,null,"Don Diego-1","DDGO-ZP2-DnDieg-1",45326,"1905-08-08","En la costa queda un pequeño relicto denso mejor conservado localizado a lo largo de un canal de aguas, y que desemboca en una cuneta donde se acumula el agua. Se encuentra la especie de mangle L. racemosa,  Este relicto se encuentra rodeado de vegetación secundaria por el borde costero.",null,null,null,null,"UniMagdalena","Universidad del Magdalena"]
[null,null,null,null,null,null,null,null,null,null,null,null,null,null,null,null,null,null,null,"Don Diego-2","DDGO-ZR1-DnDieg-2",45332,2049,"Ubicada a 120 m al Oriente de la cabaña de pescador, sobre la orilla sur de la madre vieja  a pocos metros del lindero. Suelos pantanosos y encharcados.",null,null,null,null,"UNINORTE","Universidad del Norte"]
[null,null,null,null,null,null,null,null,null,null,null,null,null,null,null,null,null,null,null,"Dotenedo","DOTE-SZ-DOTE",58492,2861,null,null,null,null,null,"UPacifico","Universidad del Pacífico"]
[null,null,null,null,null,null,null,null,null,null,null,null,null,null,null,null,null,null,null,"E La Virgen","JPVI-ZR1-VirgenOriente-1",44635,1804,"A lo largo de toda la parcela se encuentran islotes de R. mangle con raíces de más de dos metros de alto y A. germinans en el sector final.., inundación a lo largo de toda la estación.  poca regeneración natural, se evidencia tala.",null,null,null,null,"UT","Universidad del Tolima"]
[null,null,null,null,null,null,null,null,null,null,null,null,null,null,null,null,null,null,null,"El Claval","CCISinu-ZUS1-CLAVAL-1",45012,1994,"Ubicada en la antigua Camaronera, con fuerte influencia antrópica, principalmente por aprovechamiento forestal de mangle con evidencia de huellas de aprovechamiento. La especie predominante es A. germinans. Bajos niveles de inundación.",null,null,null,null,"UNIVALLE","Universidad del Valle"]
[null,null,null,null,null,null,null,null,null,null,null,null,null,null,null,null,null,null,null,"El Cove -1","ElCove-ZP1-Elcove-1",48990,2501,"Parcela Caricomp (2 circulares): 2016",null,null,null,null,"UC","Universidae do Cerá, Estaçao de Biologia Marinha"]
[null,null,null,null,null,null,null,null,null,null,null,null,null,null,null,null,null,null,null,"El Cove -2","ElCovePPC-2",55556,null,"Estación Manglar El Cove (formada por 2 parcelas circulares): Es un manglar de borde, ubicado en el costado oriental en la parte media de la Isla, que presenta una cobertura de 2,20 ha (INVEMAR-CORALINA, 2016).",null,null,null,null,"UNH","University of New Hampshire"]
[null,null,null,null,null,null,null,null,null,null,null,null,null,null,null,null,null,null,null,"El Cove -3","El Cove-ZP1-El cove-3",49055,2526,"Parcela aleatoria #2 de 2016",null,null,null,null,"UM Francia","Université de Montpellier"]
[null,null,null,null,null,null,null,null,null,null,null,null,null,null,null,null,null,null,null,"El Mohan-1","BARU-ZR1-Mohán-1",44592,1789,"Franja delgada de mangle distribuidos en una franja conformada hacia el extremo derecho por árboles adultos, y el extremo izquierdo solo plántulas con tamaños entre 1,60 y 2 metros de altura.",null,null,null,null,"VIMS-SI","Virginia Institute of Marine Science / Smithsonian Institution"]
[null,null,null,null,null,null,null,null,null,null,null,null,null,null,null,null,null,null,null,"El Muerto","ISCUANDE-ZR1-ELMUERTO-1",45905,2145,"SE PUEDE CONSIDERAR UNO DE LOS MANGLARES MAS DESARROLLADOS EN DIÁMETRO Y ALTURA DE NARIÑO. CON DOMINANCIA DEL MANGLE ROJO. ALTA DENSIDAD DE RAÍCES Y PRESENCIA DEL HELECHO RANCONCHA. AFECTADO POR TALAS.",null,null,null,null,"WCS","Wildlife Conservation Society"]
[null,null,null,null,null,null,null,null,null,null,null,null,null,null,null,null,null,null,null,"El Natico","TRIBUGA-ZUS-NATICO",58589,2883]
[null,null,null,null,null,null,null,null,null,null,null,null,null,null,null,null,null,null,null,"Ensenada Miquitos","ENSENADA-ZP2-MIQUITOS-1MIQUITOSCURAY",45404,2064,"BOSQUE DE MANGLE ROJO BIEN DESARROLLADO CON SU ESTRUCTURA VERTICAL Y HORIZONTAL INTERVENIDAS. POCA REGENERACIÓN NATURAL"]
[null,null,null,null,null,null,null,null,null,null,null,null,null,null,null,null,null,null,null,"Ensenada Tribuga -1","Tribugá-ZP1-Enstrib-1",45318,2045,"Parcela rectangular de 0.1 ha, ubicada a 730 m aproximadamente al Norte de Tribugá, en la margen izquierda del Estero Puerquera. Su cobertura forestal corresponde a un bosque monoespecífico de Rhizophora mangle."]
[null,null,null,null,null,null,null,null,null,null,null,null,null,null,null,null,null,null,null,"Ensenada de Rionegro -4","ERIO-ZP8-Errio-4",48578,2412,"Costado oriental de la ensenada con bosque denso y presencia de R.mangle, L. racemosa  y algunos E. germinans.  Se muestreo como especie predominante el R. mangle acompañada de L. racemosa.  Bosque denso con buena altura en algunos árboles se observó ataque de Teredo al igual que la presencia de agallas."]
[null,null,null,null,null,null,null,null,null,null,null,null,null,null,null,null,null,null,null,"Ensenada de Rionegro -5","ERIO-ZP8-Errio-5",50305,2680,"Parcela de prueba perdidas Antioquia 2015"]
[null,null,null,null,null,null,null,null,null,null,null,null,null,null,null,null,null,null,null,"Estero Aguacate-1","BB-ZR2-EAg-1",47534,2285,"Manglar altamente intervenido con predominio de mangle.Ubicada en el estero aguacate frente TC buen"]
[null,null,null,null,null,null,null,null,null,null,null,null,null,null,null,null,null,null,null,"Estero Encima","IJU-SZ-ENCIMA",58504,2866]
[null,null,null,null,null,null,null,null,null,null,null,null,null,null,null,null,null,null,null,"Estero Jose Chiquito","NUQUI-ZUS-ESTE_CHIQUI",58559,2878]
[null,null,null,null,null,null,null,null,null,null,null,null,null,null,null,null,null,null,null,"Estero Pasadero","YURU-ZP2-YEP-1",45832,2130,"En síntesis se esperaba que este sector se encontrara en mejores condiciones,  pero por la gran cantidad de árboles pequeños a pesar de tener el mayor área basal, se puede considerar que este es un bosque altamente intervenido en contraposición con la zonificación 2007 que lo cataloga como poco intervenido."]
[null,null,null,null,null,null,null,null,null,null,null,null,null,null,null,null,null,null,null,"Estero Piñal","BB-ZR2-EAg-2",47536,2286,"Manglar altamente intervenido con predominio de mangle.Ubicada en el estero piñal frente al muelle de Sociedad portuaria"]
[null,null,null,null,null,null,null,null,null,null,null,null,null,null,null,null,null,null,null,"Estero San Antonio -1","Piñtcb-ZR1-EA-1",47510,2273,"Manglar altamente intervenido, con presencia de residuos solidos en descomposición. Ubicada en el estero san antonio frente al puente al sena"]
[null,null,null,null,null,null,null,null,null,null,null,null,null,null,null,null,null,null,null,"Estero San Antonio -2","Piñtcb-ZR1-EA-2",47512,2274,"Manglar altamente intervenido, con presencia de residuos sólidos en descomposición. Ubicada en el estero san antonio frente al puente del piñal"]
[null,null,null,null,null,null,null,null,null,null,null,null,null,null,null,null,null,null,null,"Estero San Miguel","RAPO-ZR1-ESaM-1",46022,2219,"manglar altamente intervenido con buena asociacion de especies de manglar"]
[null,null,null,null,null,null,null,null,null,null,null,null,null,null,null,null,null,null,null,"Estero Saturio - Boca Vieja","Coquí-ZUS1-Bovi-1",45418,2068,"Parcela 0.1 ha, ubicada de manera perpendicular al borde del Estero Saturio, a 1,45 km aproximadamente de la comunidad de Coquí. Su bosque está compuesto por: Rhizophora mangle, Pelliciera rhizophorae y Mora oleifera."]
[null,null,null,null,null,null,null,null,null,null,null,null,null,null,null,null,null,null,null,"Firme Bonito","ANCHI-ZR1-AFB-1",45888,2141]
[null,null,null,null,null,null,null,null,null,null,null,null,null,null,null,null,null,null,null,"Frente Togoroma","PICHI-SZ-FREN_TOGO",58538,2870]
[null,null,null,null,null,null,null,null,null,null,null,null,null,null,null,null,null,null,null,"Guacamayas","GUAC-ZP1-GUACA-1",42211,1141]
[null,null,null,null,null,null,null,null,null,null,null,null,null,null,null,null,null,null,null,"Guachaca-1","GUA-ZP4-Guachc-1",45339,2050,"Se localiza en el costado Oriental  a 500 m de la desembocadura del río Guachaca, la parcela  va desde la playa, atraviesa un cuerpo de agua llegando a un potrero en el patio de una vivienda. Con suelos firmes a encharcados."]
[null,null,null,null,null,null,null,null,null,null,null,null,null,null,null,null,null,null,null,"Guadualito","DGUA-ZR3-DG-1",45858,2135,"El bosque de manglar de Dagua presenta características muy especiales.  Por un lado tiene una distribución diamétrica del número de árboles en forma de J invertida que permite garantizar la dinámica sucesional bosque. Por otro lado el análisis de la estructura vertical del bosque permite visualizar la fragmentación del bosque que concuerda con la zonificación de bosque altamente intervenido."]
[null,null,null,null,null,null,null,null,null,null,null,null,null,null,null,null,null,null,null,"Herradura de las Peñitas","VIRU-ZUS-HERRA_PEÑITAS",58510,2868]
[null,null,null,null,null,null,null,null,null,null,null,null,null,null,null,null,null,null,null,"Hojas Blancas","esza-ZUS1-Hoblan-1",44561,1771]
[null,null,null,null,null,null,null,null,null,null,null,null,null,null,null,null,null,null,null,"Humanes Mar","ANCHI-ZR1-AHM-1",45852,2134,"En términos generales se puede considerar que por el área basal,  el número de árboles, la estructura vertical y la cobertura de copas, este bosque corresponde a un manglar Medianamente Intervenido,  lo que hace evidente la importancia de actualizar la zonificación ya que este sitio se encuentra clasificado actualmente  en la categoría de altamente intervenido."]
[null,null,null,null,null,null,null,null,null,null,null,null,null,null,null,null,null,null,null,"Ingesa","BCAR-ZP1-Ingesa-1",44609,1795,"Ubicado en un islote, con el sustrato del borde de material calcáreo, R. mangle como especie dominante con raíces fulcreas abundantes.  Bosque en buen estado, algunos troncos secos y muertos."]
[null,null,null,null,null,null,null,null,null,null,null,null,null,null,null,null,null,null,null,"Inicio","INICIO_SAN",58125,2845]
[null,null,null,null,null,null,null,null,null,null,null,null,null,null,null,null,null,null,null,"Inicio","INICIO_JON",58101,2848]
[null,null,null,null,null,null,null,null,null,null,null,null,null,null,null,null,null,null,null,"Isla Boqueron -1","CGSM-SZ1-IBoqrn-1",45281,2034,"Localizada  en el extremo Noroccidental de la isla al frente al islote Boquerón pequeño.  Es una parcela compuesta por 5 parcelas y cada una tiene un área de 100 m². Es un bosque joven y en buen estado constituido por las especie R. mangle y A. germinans,"]
[null,null,null,null,null,null,null,null,null,null,null,null,null,null,null,null,null,null,null,"Isla Boqueron -2","CGSM-SZ1-IBoqrn-2",45283,"1905-07-27","Se ubica al centro norte del Islote. Es una parcela compuesta por 5 parcelas y cada una tiene un área de 100 m²."]
[null,null,null,null,null,null,null,null,null,null,null,null,null,null,null,null,null,null,null,"Isla Boqueron -3","CGSM-SZ1-IBoqrn-3",45285,2036,"Se localiza en el costado nororiental del islote, la parcela presenta una densidad que se incrementa a medida que se introduce a tierra firme, conformada por A. germinanas y R. mangle. Es una parcela compuesta, constituida con 5 parcelas y cada una tiene un área de 100 m²."]
[null,null,null,null,null,null,null,null,null,null,null,null,null,null,null,null,null,null,null,"Jesus Primera","BCISEST-ZUS1-Jesúsprimera-1",45151,2018,"esta esta ubicada en la sector de aprovechamiento ciénaga el vertel, con predominancia de la especie Avicenia gerninans, este es uno de los sitios que se mantienen sus condiciones naturales casi intactas,"]
[null,null,null,null,null,null,null,null,null,null,null,null,null,null,null,null,null,null,null,"Jhon Mangrove parcela circular-3","JhonMangrovePPC-1",55572,null,"Estación Manglar Jhon Mangrove (formada por 1 parcela circular): Es un manglar de cuenca, ubicado en el costado noroeste de la Isla, que presenta una cobertura de 3,7 ha (INVEMAR-CORALINA, 2016)."]
[null,null,null,null,null,null,null,null,null,null,null,null,null,null,null,null,null,null,null,"Jurubira - Chori -1","JURU-ZP-JURU_CHORI01",58556,2877]
[null,null,null,null,null,null,null,null,null,null,null,null,null,null,null,null,null,null,null,"Jurubira - Chori -2","JURU-ZUS-JURU_CHORI02",58554,2876]
[null,null,null,null,null,null,null,null,null,null,null,null,null,null,null,null,null,null,null,"Jurubira -1","JURU-ZP-JURUBIRA01",58549,2874]
[null,null,null,null,null,null,null,null,null,null,null,null,null,null,null,null,null,null,null,"Jurubira -2","JURU-ZR-JURUBIRA02",58552,2875]
[null,null,null,null,null,null,null,null,null,null,null,null,null,null,null,null,null,null,null,"Kilómetro 22 -1","VIPIS-SZ1-KM22-1",45907,2146,"Parcela 1 monitoreada por el INVEMAR en el marco del ¨Monitoreo de las condiciones ambientales y los cambios estructurales y funcionales de las comunidades vegetales y de los recursos pesqueros durante la rehabilitación de la Ciénaga Grande de Santa Marta¨"]
[null,null,null,null,null,null,null,null,null,null,null,null,null,null,null,null,null,null,null,"Kilómetro 22 -2","VIPIS-SZ1-KM22-2",45910,2147,"Parcela 2 monitoreada por el INVEMAR en el marco del ¨Monitoreo de las condiciones ambientales y los cambios estructurales y funcionales de las comunidades vegetales y de los recursos pesqueros durante la rehabilitación de la Ciénaga Grande de Santa Marta¨"]
[null,null,null,null,null,null,null,null,null,null,null,null,null,null,null,null,null,null,null,"Kilómetro 22 -3","VIPIS-SZ1-KM22-3",45912,2148,"Parcela 3 monitoreada por el INVEMAR en el marco del ¨Monitoreo de las condiciones ambientales y los cambios estructurales y funcionales de las comunidades vegetales y de los recursos pesqueros durante la rehabilitación de la Ciénaga Grande de Santa Marta¨"]
[null,null,null,null,null,null,null,null,null,null,null,null,null,null,null,null,null,null,null,"La Alberca","BCISEST-ZUS1-laalberca-1",45139,2014,"esta parcela permanente de crecimiento, con predominancia de especie Avicenia germinans"]
[null,null,null,null,null,null,null,null,null,null,null,null,null,null,null,null,null,null,null,"La Boquilla","CBOQ-ZR1-BOQU-1",42198,1138]
[null,null,null,null,null,null,null,null,null,null,null,null,null,null,null,null,null,null,null,"La Camaronera","BCISEST-ZR1-camaronera-1",45133,2012,"parcela ubicada en la zona de recuperación del la bahía de cispata, con predominancia de la especie Avicenia  germinans, con bajos niveles de inundación, con gran cantidad de arboles de gran tamaño y en buen estado."]
[null,null,null,null,null,null,null,null,null,null,null,null,null,null,null,null,null,null,null,"La Cuenca","BCISEST-ZUS6-lacuenca-1",45347,2052,"esta ubicada en el sub sector de aprovechamiento, remedia pobre, en la zona de uso sostenible del DMI, esta parcela tiene predominancia de la especie Avicemia gerninans, Rhizophora mangle entre otras, los arboles presentan unas condiciones de raquitismo y se encuentran gran cantidad de arboles y ramas muertas, hay huellas de aprovechamiento forestal en esta parcela."]
[null,null,null,null,null,null,null,null,null,null,null,null,null,null,null,null,null,null,null,"La Flotante","BCISEST-ZUS1-laflotante-1",45586,2123,"la parcela esta ubicada en la zona de uso sostenible del DMI en el sector la flotante en caño nisperal, con predominancia de la especie Rhizophora mangle, con arboles de gran tamaño, las condiciones del bosque son muy buenas existe abundante fauna silvestre benéfica para el sistema manglarico"]
[null,null,null,null,null,null,null,null,null,null,null,null,null,null,null,null,null,null,null,"La Gualajera","IJU-SZ-GUJERA",58500,2864]
[null,null,null,null,null,null,null,null,null,null,null,null,null,null,null,null,null,null,null,"La Honda","TRIBUGA-ZR-HONDA",58596,2886]
[null,null,null,null,null,null,null,null,null,null,null,null,null,null,null,null,null,null,null,"La Paila","CHARA-SZ-PAILA",58541,2871]
[null,null,null,null,null,null,null,null,null,null,null,null,null,null,null,null,null,null,null,"La Playa","COQUI-ZUS-PLAYA",58543,2872]
[null,null,null,null,null,null,null,null,null,null,null,null,null,null,null,null,null,null,null,"La Raya-1","LRAY-ZR1-LRA-1",41384,886,"La parcela se ubica perpendicular a la línea de costa, aproximadamente a un Kilómetro de la comunidad indigena Wayuú asentada en el lugar. En sus aproximaciones se encuentra La Laguna de Buena Vista, que es alimetada por el Río Ranchería y tiene conexión con el mar que permanece abierta prácticamente todo el año (Gil-Torres et al., 2009). Dentro del bosque de manglar, se encuentran suelos fangososo sin compactar altamente inundados; en las zonas exteriores y circundantes al mismo se observan suelos que corresponden a depósitos de materiales calcáreos gruesos y conchas apartadas por el mar. Se observa que la especie dominante es A. germinans (Vidal-Hernández, 2013)_x000D_"]
[null,null,null,null,null,null,null,null,null,null,null,null,null,null,null,null,null,null,null,"La Raya-2","LRAY-ZR1-LRA-2",41386,887,"La parcela se ubica perpendicular a la línea de costa, aproximadamente a un Kilómetro de la comunidad indigena Wayuú asentada en el lugar. En sus aproximaciones se encuentra La Laguna de Buena Vista, que es alimetada por el Río Ranchería y tiene conexión con el mar que permanece abierta prácticamente todo el año (Gil-Torres et al., 2009). Dentro del bosque de manglar, se encuentran suelos fangososo sin compactar altamente inundados; en las zonas exteriores y circundantes al mismo se observan suelos que corresponden a depósitos de materiales calcáreos gruesos y conchas apartadas por el mar. Se observa que la especie dominante es A. germinans (Vidal-Hernández, 2013)_x000D_"]
[null,null,null,null,null,null,null,null,null,null,null,null,null,null,null,null,null,null,null,"La Raya-3","LRAY-ZR1-LRA-3",41388,888,"La parcela se ubica perpendicular a la línea de costa, aproximadamente a un Kilómetro de la comunidad indigena Wayuú asentada en el lugar. En sus aproximaciones se encuentra La Laguna de Buena Vista, que es alimetada por el Río Ranchería y tiene conexión con el mar que permanece abierta prácticamente todo el año (Gil-Torres et al., 2009). Dentro del bosque de manglar, se encuentran suelos fangososo sin compactar altamente inundados; en las zonas exteriores y circundantes al mismo se observan suelos que corresponden a depósitos de materiales calcáreos gruesos y conchas apartadas por el mar. Se observa que la especie dominante es A. germinans (Vidal-Hernández, 2013)_x000D_"]
[null,null,null,null,null,null,null,null,null,null,null,null,null,null,null,null,null,null,null,"La Zona","BCISESTSAL-ZUS1-ZON-1",42099,1101]
[null,null,null,null,null,null,null,null,null,null,null,null,null,null,null,null,null,null,null,"Lagartero","TIMB-ZUS1-LARGAR-1",45484,2084,"Ubicada en la bocana de Saija, Parcela sencilla de 20 m de ancho x 50 m de largo"]
[null,null,null,null,null,null,null,null,null,null,null,null,null,null,null,null,null,null,null,"Lago","OBRE;CHA-SZ1-LAGO-1",49587,2640,"Parcela de Manglar CRC"]
[null,null,null,null,null,null,null,null,null,null,null,null,null,null,null,null,null,null,null,"Laguna Salada","LSAL-ZR1-LSA-1",41396,892,"Para llegar a esta parcela se toma la troncal del Caribe en la vía Riohacha – Maicao que corresponde a la carrera 1C frente a la entrada de la circunvalar. Se llega al parque del sendero ecológico de la laguna y se ingresa al manglar por el costado suroccidental a unos 30 m aproximadamente.  La parcela de monitoreo está localizada en el bosque de cuenca dominado por L. racemosa con alturas máximas de 16 m, de gran porte, junto a árboles de A. germinans muy ramificados desde el tronco y algunos defoliados, con alturas de 6 a 9 m. El suelo es areno fangoso cubierto de una capa gruesa de hojarasca en descomposición, con pocos neumatóforos y abundante regeneración natural de L. racemosa.  (INVEMAR, 20014) _x000D_"]
[null,null,null,null,null,null,null,null,null,null,null,null,null,null,null,null,null,null,null,"Las Piedras-1","BARB-ZR1-Piedras-1",44496,1760,"Estación dominada por A. germinans, con presencia de árboles secos, caídos y algunos troncos partidos"]
[null,null,null,null,null,null,null,null,null,null,null,null,null,null,null,null,null,null,null,"Las Quintas -1","CQUINTAS-ZUS1-Quintas-1",44616,1797,"Al ingreso de la estación y sobre el borde de los 20 metros de ancho de la parcela, el exceso de basura es evidente, acompañado de malos olores.  Parcela dominada por A. germinans, sustrato duro e inundación de 10 cm en promedio.  Algunos árboles secos y muertos, pero no se evidencia tala."]
[null,null,null,null,null,null,null,null,null,null,null,null,null,null,null,null,null,null,null,"Los Chingos","COQUI-ZP-CHINGOS",58546,2873]
[null,null,null,null,null,null,null,null,null,null,null,null,null,null,null,null,null,null,null,"Lucho Guerra-1","CaiRinH-ZP1-LUCHO-1",41972,"1902-12-01","Suelo inundable con vegetación latizal, agua dulce y salada, estado fitosanitario en buen estado."]
[null,null,null,null,null,null,null,null,null,null,null,null,null,null,null,null,null,null,null,"Luna -1","SFFOCC-SZ1-LUN-1",45922,2153,"Parcela 3 monitoreada por el INVEMAR en el marco del ¨Monitoreo de las condiciones ambientales y los cambios estructurales y funcionales de las comunidades vegetales y de los recursos pesqueros durante la rehabilitación de la Ciénaga Grande de Santa Marta¨"]
[null,null,null,null,null,null,null,null,null,null,null,null,null,null,null,null,null,null,null,"Luna -2","SFFOCC-SZ1-LUN-2",47837,2319,"Parcela 3 monitoreada por el INVEMAR en el marco del ¨Monitoreo de las condiciones ambientales y los cambios estructurales y funcionales de las comunidades vegetales y de los recursos pesqueros durante la rehabilitación de la Ciénaga Grande de Santa Marta¨"]
[null,null,null,null,null,null,null,null,null,null,null,null,null,null,null,null,null,null,null,"Luna -3","SFFOCC-SZ1-LUN-3",47839,2320,"Parcela 3 monitoreada por el INVEMAR en el marco del ¨Monitoreo de las condiciones ambientales y los cambios estructurales y funcionales de las comunidades vegetales y de los recursos pesqueros durante la rehabilitación de la Ciénaga Grande de Santa Marta¨"]
[null,null,null,null,null,null,null,null,null,null,null,null,null,null,null,null,null,null,null,"Mallorquin","CNGMLLQ-ZR1-Mr-1",45168,2020,"Localiza 15  m del mar. El manglar tiene unl nivel de desarrollo bajo. Esta zona presenta erosión costera y es azotada por los fuertes vientos. Se encuentra llena de residuos sólidos provenientes del mar. En las inmediaciones de la parcela se encuentra un potrero."]
[null,null,null,null,null,null,null,null,null,null,null,null,null,null,null,null,null,null,null,"Mallorquin -1","MALLOR01-ZP-MALLOR_01",58621,2893,"Bosque de manglar mixto"]
[null,null,null,null,null,null,null,null,null,null,null,null,null,null,null,null,null,null,null,"Mallorquín -2","CNGMLLQ-ZP1-Mallorq-1",45242,2021,"Se ubica a 58 m de la ciénaga y a 560 m de  la casa más cercana. La parcela presenta mangles de gran talla, característica que va disminuyendo hasta llegar a juveniles hacia el final del bosque. Presenta crecimiento arbustivo y con distribución densa, además están inclinados por los fuertes vientos.  Se observan huecos de cangrejos y neumatóforos. Los suelos son firmes, presenta residuos sólidos provenientes del mar y de la ciénaga."]
[null,null,null,null,null,null,null,null,null,null,null,null,null,null,null,null,null,null,null,"Manaties A","CNGMNT-ZR1-MANA-1",41959,1063,"La parcela tine arboles en estado Fustal, infectados por fitoforos algunas arboles de Laguncularia agua estancada"]
[null,null,null,null,null,null,null,null,null,null,null,null,null,null,null,null,null,null,null,"Manaties B","CNGMNT-ZP1-MANB-1",41963,1064,"Dominancia de Avicennia g, con poco de Laguncularia y brinzales de ambas especies."]
[null,null,null,null,null,null,null,null,null,null,null,null,null,null,null,null,null,null,null,"Manaties Playa -1","CNGMNT-ZR1-Manat-1",45253,2024,"Se localiza a 25 m del mar, al lado de un playón, a 200 m de un camino que pasa por una pequeña ciénaga. Dentro de la parcela  la especie predominante es A. germinans con copas pobres, presentan suelos encharcados y neumatóforos."]
[null,null,null,null,null,null,null,null,null,null,null,null,null,null,null,null,null,null,null,"Manzanillo","MANZANILLO",58095,2844]
[null,null,null,null,null,null,null,null,null,null,null,null,null,null,null,null,null,null,null,"Manzanillo -1","ManzanilloPPC-1",55561,null,"Estación Manglar Manzanillo (formada por 2 parcelas circulares): Manglar localizado al sur de la isla, constituido principalmente por Rhizophora mangle, como especie dominante y por Laguncularia racemosa. Se encuentra detrás de una barra arenosa y en su interior tiene un pequeño canal central en el que se acumulan aguas derivadas de la escorrentía y de un arroyo que se forma en época de lluvias, proveniente de Murray Hills. Tiene una cobertura de manglar de 1,59 ha (INVEMAR-CORALINA, 2016)."]
[null,null,null,null,null,null,null,null,null,null,null,null,null,null,null,null,null,null,null,"Manzanillo -2","ManzanilloPPC-2",55562,null,"Estación Manglar Manzanillo (formada por 2 parcelas circulares): Manglar localizado al sur de la isla, constituido principalmente por Rhizophora mangle, como especie dominante y por Laguncularia racemosa. Se encuentra detrás de una barra arenosa y en su interior tiene un pequeño canal central en el que se acumulan aguas derivadas de la escorrentía y de un arroyo que se forma en época de lluvias, proveniente de Murray Hills. Tiene una cobertura de manglar de 1,59 ha (INVEMAR-CORALINA, 2016)."]
[null,null,null,null,null,null,null,null,null,null,null,null,null,null,null,null,null,null,null,"Manzanillo-1","JPVI-ZUS1-JPManzanillo-1",44640,1806,"Parcela ubicada en el extremo norte de la Ciénaga de Juan Polo, bordeada por un canal, los primeros 15 metros son de R. mangle en sustrato fangoso y desde allí comienza una franja de A. germinans en terreno duro, al finalizar la parcela se encuentra sustrato duro y limita con el comienzo de vegetación de bosque seco."]
[null,null,null,null,null,null,null,null,null,null,null,null,null,null,null,null,null,null,null,"Matunilla","BARB-ZR1-MATU-1",42003,1077,"Sobre al  caño Matunilla, a 40 metros de la orilla, zona heterogénea, manglar caído, zonas inundadas, arboles secos"]
[null,null,null,null,null,null,null,null,null,null,null,null,null,null,null,null,null,null,null,"Mayapo-1","MAYA-ZR1-MA-1",41378,883,"La parcela se encuentra paralela a la línea de costa, en una franja de manglar de borde, alargada y de poca anchura, la cual se encuentra interrumpida y separa del mar; en sus aproximaciones se encuentra una laguna costera, a una distancia aproximada de 35m. La zona está atravesada transversalmente por dos caminos, los cuales probablemente son frecuentados por los pescadores del lugar. Dentro de los bosques de manglar se encuentran suelos principalmente arenosos con alto contenido de carbonato de calcio y que pueden ser compactos. Se observa gran cantidad de arena, que en algunos casa llega a cubrir hasta 30cm del punto de anclaje del manglar, probablemente acumulados por erosión costera y la acción de los fuertes vientos (Vidal-Hernández, 2013)_x000D_"]
[null,null,null,null,null,null,null,null,null,null,null,null,null,null,null,null,null,null,null,"Mayapo-2","MAYA-ZR1-MA-2",41380,884,"La parcela se encuentra paralela a la línea de costa, en una franja de manglar de borde, alargada y de poca anchura, la cual se encuentra interrumpida y separa del mar; en sus aproximaciones se encuentra una laguna costera, a una distancia aproximada de 35m. La zona está atravesada transversalmente por dos caminos, los cuales probablemente son frecuentados por los pescadores del lugar. Dentro de los bosques de manglar se encuentran suelos principalmente arenosos con alto contenido de carbonato de calcio y que pueden ser compactos. Se observa gran cantidad de arena, que en algunos casa llega a cubrir hasta 30cm del punto de anclaje del manglar, probablemente acumulados por erosión costera y la acción de los fuertes vientos (Vidal-Hernández, 2013)_x000D_"]
[null,null,null,null,null,null,null,null,null,null,null,null,null,null,null,null,null,null,null,"Mayapo-3","MAYA-ZR1-MA-3",41382,885,"La parcela se encuentra paralela a la línea de costa, en una franja de manglar de borde, alargada y de poca anchura, la cual se encuentra interrumpida y separa del mar; en sus aproximaciones se encuentra una laguna costera, a una distancia aproximada de 35m. La zona está atravesada transversalmente por dos caminos, los cuales probablemente son frecuentados por los pescadores del lugar. Dentro de los bosques de manglar se encuentran suelos principalmente arenosos con alto contenido de carbonato de calcio y que pueden ser compactos. Se observa gran cantidad de arena, que en algunos casa llega a cubrir hasta 30cm del punto de anclaje del manglar, probablemente acumulados por erosión costera y la acción de los fuertes vientos (Vidal-Hernández, 2013)_x000D_"]
[null,null,null,null,null,null,null,null,null,null,null,null,null,null,null,null,null,null,null,"Mc Bean parcela circular-1","McBeanLagoonPPC-1",55569,null,"Estación Manglar McBean Lagoon (formada por 2 parcelas circulares): El manglar se encuentra localizado en el borde noreste de la Isla, declarado como Parque Nacional Natural del mismo nombre. Esta conformado por manglares de borde y cuenca, de las especies de Rizophora mangle y Avicennia germinans  con una cobertura de 37,1 ha (INVEMAR-CORALINA, 2016)."]
[null,null,null,null,null,null,null,null,null,null,null,null,null,null,null,null,null,null,null,"Mc Bean parcela circular-2","McBeanLagoonPPC-2",55570,null,"Estación Manglar McBean Lagoon (formada por 2 parcelas circulares): El manglar se encuentra localizado en el borde noreste de la Isla, declarado como Parque Nacional Natural del mismo nombre. Esta conformado por manglares de borde y cuenca, de las especies de Rizophora mangle y Avicennia germinans  con una cobertura de 37,1 ha (INVEMAR-CORALINA, 2016)."]
[null,null,null,null,null,null,null,null,null,null,null,null,null,null,null,null,null,null,null,"Mc Bean parcela circular-3","McBeanLagoonPPC-3",55571,null,"Estación Manglar McBean Lagoon (formada por 2 parcelas circulares): El manglar se encuentra localizado en el borde noreste de la Isla, declarado como Parque Nacional Natural del mismo nombre. Esta conformado por manglares de borde y cuenca, de las especies de Rizophora mangle y Avicennia germinans  con una cobertura de 37,1 ha (INVEMAR-CORALINA, 2016)."]
[null,null,null,null,null,null,null,null,null,null,null,null,null,null,null,null,null,null,null,"Málaga","BMAL-ZP9-MV-1",45874,2137,"Este sector  a pesar de tener un bajo valor de área basal y pocos árboles, el diámetro y la altura promedio es mayor que en las otras cuencas conformando un bosque en mayor estado de recuperación.  Así mismo el área basal nos permite visualizar un pequeño pero muy significativo aumento de la cobertura del bosque."]
[null,null,null,null,null,null,null,null,null,null,null,null,null,null,null,null,null,null,null,"Norte","NORTE_SAN",58127,2847]
[null,null,null,null,null,null,null,null,null,null,null,null,null,null,null,null,null,null,null,"Norte","NORTE_JON",58103,2850]
[null,null,null,null,null,null,null,null,null,null,null,null,null,null,null,null,null,null,null,"Old Point -1","OPOI-ZUS2-OP-1",41463,915]
[null,null,null,null,null,null,null,null,null,null,null,null,null,null,null,null,null,null,null,"Old Town -1","OldTownPPC-1",55563,null,"Estación Manglar Old Town (formada por 2 parcelas circulares): Este manglar está localizado en el costado noroccidental de la Isla, ubicado detrás de una barra de arena de poca elevación. Hacia el norte se extiende detrás de la Capitanía de Puerto de la Dirección General Marítima (DIMAR) y de un centro de acopio de embarcaciones menores. En la parte sur occidental un corto camino separa una pequeña parte del bosque del resto, allí el bosque se extiende detrás de algunas viviendas ubicadas después de una barra. El manglar tiene una extensión de 6,91 ha (INVEMAR-CORALINA, 2016) y es el segundo más representativo de la Isla, después del bosque de manglar de Mc Bean Lagoon (38,8 ha) (INVEMAR-CORALINA, 2016). El bosque está dominado por Avicennia germinans, y hay presencia de R. mangle, que se distribuye principalmente hacia el costado occidental en el borde de la playa, mientras que hacia el sur se evidencian algunos individuos de L. racemosa y C. erectus."]
[null,null,null,null,null,null,null,null,null,null,null,null,null,null,null,null,null,null,null,"Old Town -2","OldTownPPC2",55564,null,"Estación Manglar Old Town (formada por 2 parcelas circulares): Este manglar está localizado en el costado noroccidental de la Isla, ubicado detrás de una barra de arena de poca elevación. Hacia el norte se extiende detrás de la Capitanía de Puerto de la Dirección General Marítima (DIMAR) y de un centro de acopio de embarcaciones menores. En la parte sur occidental un corto camino separa una pequeña parte del bosque del resto, allí el bosque se extiende detrás de algunas viviendas ubicadas después de una barra. El manglar tiene una extensión de 6,91 ha (INVEMAR-CORALINA, 2016) y es el segundo más representativo de la Isla, después del bosque de manglar de Mc Bean Lagoon (38,8 ha) (INVEMAR-CORALINA, 2016). El bosque está dominado por Avicennia germinans, y hay presencia de R. mangle, que se distribuye principalmente hacia el costado occidental en el borde de la playa, mientras que hacia el sur se evidencian algunos individuos de L. racemosa y C. erectus."]
[null,null,null,null,null,null,null,null,null,null,null,null,null,null,null,null,null,null,null,"Ostion","BCISEST-ZUS1-Ostion-1",48747,2434]
[null,null,null,null,null,null,null,null,null,null,null,null,null,null,null,null,null,null,null,"PNN McBean Parcela1","PNNMCBEAN_P1",58085,2834]
[null,null,null,null,null,null,null,null,null,null,null,null,null,null,null,null,null,null,null,"PNN McBean Parcela10","PNNMCBEAN_P10",58094,2843]
[null,null,null,null,null,null,null,null,null,null,null,null,null,null,null,null,null,null,null,"PNN McBean Parcela2","PNNMCBEAN_P2",58086,2835]
[null,null,null,null,null,null,null,null,null,null,null,null,null,null,null,null,null,null,null,"PNN McBean Parcela3","PNNMCBEAN_P3",58087,2836]
[null,null,null,null,null,null,null,null,null,null,null,null,null,null,null,null,null,null,null,"PNN McBean Parcela4","PNNMCBEAN_P4",58088,2837]
[null,null,null,null,null,null,null,null,null,null,null,null,null,null,null,null,null,null,null,"PNN McBean Parcela5","PNNMCBEAN_P5",58089,2838]
[null,null,null,null,null,null,null,null,null,null,null,null,null,null,null,null,null,null,null,"PNN McBean Parcela6","PNNMCBEAN_P6",58090,2839]
[null,null,null,null,null,null,null,null,null,null,null,null,null,null,null,null,null,null,null,"PNN McBean Parcela7","PNNMCBEAN_P7",58091,2840]
[null,null,null,null,null,null,null,null,null,null,null,null,null,null,null,null,null,null,null,"PNN McBean Parcela8","PNNMCBEAN_P8",58092,2841]
[null,null,null,null,null,null,null,null,null,null,null,null,null,null,null,null,null,null,null,"PNN McBean Parcela9","PNNMCBEAN_P9",58093,2842]
[null,null,null,null,null,null,null,null,null,null,null,null,null,null,null,null,null,null,null,"Palosecal","VIRU-SZ1-PALOS-1",42123,1109]
[null,null,null,null,null,null,null,null,null,null,null,null,null,null,null,null,null,null,null,"Pangui -1","Panguí-ZR1-Pangui-1",45411,2066]
[null,null,null,null,null,null,null,null,null,null,null,null,null,null,null,null,null,null,null,"Pangui -2","Panguí-ZR1-Pangui-2",45413,2067,"Parcela de 0.1 ha, instalada en la margen izquierda del Estero Muertero, cuya composición floirística está dada por las especies: Rhizophora mangle, Pelliciera Rhizophorae y Mora oleifera."]
[null,null,null,null,null,null,null,null,null,null,null,null,null,null,null,null,null,null,null,"Parcela Esteh","CAJA-ZR1-Esteh-1",46020,2218,"manglar altamente intervenido con muchos claros en la estructura del bosque"]
[null,null,null,null,null,null,null,null,null,null,null,null,null,null,null,null,null,null,null,"Parcela Play","CAJA-ZUS1-Ply-1",46002,2213,"parcela medianamente intervenida con predominancia de Rizhophora mangle"]
[null,null,null,null,null,null,null,null,null,null,null,null,null,null,null,null,null,null,null,"Pasacaballos","CAMREAL-ZUS2-CABALLOS-1",45391,2061,"MANGLAR DE ESTRUCTURA VERTICAL Y HORIZONTAL BIEN DESARROLLADA CON DOMINANCIA DEL MANGLE ROJO. PRESENCIA DE ARBOLES MUERTOS AL PARECER POR EFECTO DE DESCARGA ELÉCTRICA."]
[null,null,null,null,null,null,null,null,null,null,null,null,null,null,null,null,null,null,null,"Peñitas","VIRU-SZ1-PEÑI-1",42127,1110]
[null,null,null,null,null,null,null,null,null,null,null,null,null,null,null,null,null,null,null,"Playa Dormida1 P1","PDORMIDA1_1",58148,2852]
[null,null,null,null,null,null,null,null,null,null,null,null,null,null,null,null,null,null,null,"Playa Dormida1 P2","PDORMIDA1_2",58149,2853]
[null,null,null,null,null,null,null,null,null,null,null,null,null,null,null,null,null,null,null,"Playa Dormida1 P3","PDORMIDA1_3",58150,2854]
[null,null,null,null,null,null,null,null,null,null,null,null,null,null,null,null,null,null,null,"Playa Dormida2 P1","PDORMIDA2_1",58152,2855]
[null,null,null,null,null,null,null,null,null,null,null,null,null,null,null,null,null,null,null,"Playa Dormida2 P2","PDORMIDA2_2",58153,2856]
[null,null,null,null,null,null,null,null,null,null,null,null,null,null,null,null,null,null,null,"Playa Dormida2 P3","PDORMIDA2_3",58154,2857]
[null,null,null,null,null,null,null,null,null,null,null,null,null,null,null,null,null,null,null,"Playa Mallorquin","PLAMALLOR_ZP-PLAYA_MALLOR",58623,2894,"Bosque de manglar mixto"]
[null,null,null,null,null,null,null,null,null,null,null,null,null,null,null,null,null,null,null,"Playa Mendoza","PLAMENDOZA-ZP-PLAYA_MENDOZA",40909,685,"Ubicado en la desembocadura del rio y cerca a playa Mendoza"]
[null,null,null,null,null,null,null,null,null,null,null,null,null,null,null,null,null,null,null,"Puerto Caiman -1","PUERCAIMAN01_ZP-PUERTO_CAIMAN",58626,2895,"Limita en la ciénaga Caiman y predios privados"]
[null,null,null,null,null,null,null,null,null,null,null,null,null,null,null,null,null,null,null,"Puerto Caiman -2","PUERCAIMAN02_ZP-PUERTO_CAIMAN",58627,2896,"Predio privado , colinda con la ciénaga de Caiman"]
[null,null,null,null,null,null,null,null,null,null,null,null,null,null,null,null,null,null,null,"Puerto Cesar-1","CORI-ZP1-Pces-1",48471,2378,"Bosque de porte alto.Presencia de R. mangle, L. racemosa y A. germinans.  La sp más abundante y dominante es A. germinans, Presión antrópica relacionada con el aprovechamiento del cangrejo azul, antes utilizaban barbasco, en la actualidad palas hasta sacar los pocos y de pequeñas tallas que quedan."]
[null,null,null,null,null,null,null,null,null,null,null,null,null,null,null,null,null,null,null,"Puerto España","BSJU-ZR3-SJPE-1",45880,2138,"Este bosque presenta características propias de un manglar medianamente intervenido en proceso de recuperación. Se observa una mayor área basal  en el 2015 con respecto al 2007 aunque el análisis comparativo no tiene relación  directa puesto que se trata de dos sitios diferentes aunque muy cercanos"]
[null,null,null,null,null,null,null,null,null,null,null,null,null,null,null,null,null,null,null,"Puerto Velero","PUVELERO-SZ-PUERTO_VELERO",45519,2093,"Inicio de la espiga de puerto velero"]
[null,null,null,null,null,null,null,null,null,null,null,null,null,null,null,null,null,null,null,"Punta Arenas","TBOM-ZP1-PtaArenas-1",44603,1793,"En los 10 primeros metros se encuentran Botellas Pet, resultado de un campamento militar que se ubicó en el sector tiempo atrás, Estación dominada por L. racemosa, al final el terreno se va volviendo duro y seco"]
[null,null,null,null,null,null,null,null,null,null,null,null,null,null,null,null,null,null,null,"Punta Boqueron","JPVI-ZR1-Boquerón-1",44621,1799,"Parcela con presencia de L. racemosa, A. germinans y R. mangle, bosque tupido con numeras raíces fúlcreas .regeneración natural abundante, sustrato duro."]
[null,null,null,null,null,null,null,null,null,null,null,null,null,null,null,null,null,null,null,"Punta Cerro -1","CGSM-SZ1-PtaCerro-1",45288,2037,"Es la parcela más lejana de este sector se ubica a 1.7 km al sur del caño San Luis .Esta parcela  presenta la mayor densidad en comparación a las restante de la estación. Conformada por A. germinans y R. mangle. Es una parcela compuesta con 5 y cada una tiene un área de 100 m²."]
[null,null,null,null,null,null,null,null,null,null,null,null,null,null,null,null,null,null,null,"Punta Cerro -2","CGSM-SZ1-PtaCerro-2",45290,2038,"Se localiza a 1.4 km al sur del caño San Luis. Es una parcela compuesta por 5 parcelas y cada una tiene un área de 100 m². Esta Parcela presenta la menor densidad de la estación conformada por  A. germinans y R. mangle."]
[null,null,null,null,null,null,null,null,null,null,null,null,null,null,null,null,null,null,null,"Punta Cerro -3","CGSM-SZ1-PtaCerro-3",45292,2039,"Es la parcela más cercana al caño San Luis ubicarse a una distancia de 1 km  en dirección sur, entre áreas inundadas. Es una parcela compuesta, constituida con 5 y cada una tiene un área de 100 m². Conformada con  A. germinans y R. mangle. Se observó tala."]
[null,null,null,null,null,null,null,null,null,null,null,null,null,null,null,null,null,null,null,"Punta Chino -1","CGSM-SZ1-PtaChino-1",45274,2031,"Se localiza aproximadamente 5 km al norte de desembocadura del río Sevilla,  en el sector llamado Punta Chino. El bosque está constituido por A. germinans, L. racemosa y  R mangle la cual se encuentra hasta 80 metros desde la línea de agua. Es una parcela compuesta, constituida por 5 parcelas y cada una tiene un área de 100 m²."]
[null,null,null,null,null,null,null,null,null,null,null,null,null,null,null,null,null,null,null,"Punta Chino -2","CGSM-SZ1-PtaChino-2",45276,2032,"Se localiza a  400 m al norte de Punta Chino. El bosque se encuentra en buen estado. Presencia de R. mangle a lo largo del transecto y predominio de A. germinans, en menor proporción L. racemosa. Es una parcela compuesta, constituida por 5 parcelas y cada una tiene un área de 100 m²"]
[null,null,null,null,null,null,null,null,null,null,null,null,null,null,null,null,null,null,null,"Punta Chino -3","CGSM-SZ1-PtaChino-3",45278,2033,"Se ubica a  900 m al norte de Punta Chino,  Con predominio de A. germinans, presencia de R. mangla a lo largo del transecto,  y L. racemosa solo aparece en la parcela 5. Es una parcela compuesta, constituida por 5 parcelas y cada una tiene un área de 100 m²"]
[null,null,null,null,null,null,null,null,null,null,null,null,null,null,null,null,null,null,null,"Punta Coquito -1","BCOL-ZP1-Pcoq-1",48403,2362,"Pequeña franja con residuos o basuras, con predominio de arboles de baja altura y baja densidad de R. mangle.  Presión antrópica por corta de varas y aumento de la frontera agrícola."]
[null,null,null,null,null,null,null,null,null,null,null,null,null,null,null,null,null,null,null,"Punta Seca -1","PSEC-ZR1-PSEC-1",44400,1726]
[null,null,null,null,null,null,null,null,null,null,null,null,null,null,null,null,null,null,null,"Punta de las Vacas-1","CORI-ZP1-Pvac-1",48432,2368,"Bosque ralo al interior.  Predomina casi en su totalidad el  R. mangle, y escasa presencia de  L. racemosa y A. germinans.  Fuera de la parcela se observó un juvenil de P. rhizophorae.  Intervención Antrópica, representada en corta de varas.  Presencia de tarros, bolsas y desechos en general."]
[null,null,null,null,null,null,null,null,null,null,null,null,null,null,null,null,null,null,null,"Quebrada Balsadito","MAYO-ZR3-QB-1",46006,2214]
[null,null,null,null,null,null,null,null,null,null,null,null,null,null,null,null,null,null,null,"REF Parcela1","REF_P1",58068,2823]
[null,null,null,null,null,null,null,null,null,null,null,null,null,null,null,null,null,null,null,"REF Parcela2","REF_P2",58069,2824]
[null,null,null,null,null,null,null,null,null,null,null,null,null,null,null,null,null,null,null,"REF Parcela3","REF_P3",58070,2824]
[null,null,null,null,null,null,null,null,null,null,null,null,null,null,null,null,null,null,null,"REF RIN Parcela1","REF_P1",58080,2831]
[null,null,null,null,null,null,null,null,null,null,null,null,null,null,null,null,null,null,null,"REF RIN Parcela2","REF_P2",58081,2832]
[null,null,null,null,null,null,null,null,null,null,null,null,null,null,null,null,null,null,null,"REF RIN Parcela3","REF_P3",58082,2833]
[null,null,null,null,null,null,null,null,null,null,null,null,null,null,null,null,null,null,null,"Rincon Norte -1","RINC-ZP1-RNOR-1",44392,1724,"La parcela se encuentra  paralela a linea de costa en una franja de mangle"]
[null,null,null,null,null,null,null,null,null,null,null,null,null,null,null,null,null,null,null,"Rincon Sur -1","RINC-ZR1-RSUR-1",44395,1725,"La parcela se encuentra paralela a la linea de costa."]
[null,null,null,null,null,null,null,null,null,null,null,null,null,null,null,null,null,null,null,"Rinconada -1","VIPIS-SZ1-RIN-1",45914,2149,"Parcela 1 monitoreada por el INVEMAR en el marco del ¨Monitoreo de las condiciones ambientales y los cambios estructurales y funcionales de las comunidades vegetales y de los recursos pesqueros durante la rehabilitación de la Ciénaga Grande de Santa Marta¨"]
[null,null,null,null,null,null,null,null,null,null,null,null,null,null,null,null,null,null,null,"Rinconada -2","VIPIS-SZ1-RIN-2",45916,2150,"Parcela 2 monitoreada por el INVEMAR en el marco del ¨Monitoreo de las condiciones ambientales y los cambios estructurales y funcionales de las comunidades vegetales y de los recursos pesqueros durante la rehabilitación de la Ciénaga Grande de Santa Marta¨"]
[null,null,null,null,null,null,null,null,null,null,null,null,null,null,null,null,null,null,null,"Rinconada -3","VIPIS-SZ1-RIN-3",45920,2152,"Parcela 3 monitoreada por el INVEMAR en el marco del ¨Monitoreo de las condiciones ambientales y los cambios estructurales y funcionales de las comunidades vegetales y de los recursos pesqueros durante la rehabilitación de la Ciénaga Grande de Santa Marta¨"]
[null,null,null,null,null,null,null,null,null,null,null,null,null,null,null,null,null,null,null,"Rio Caimán Viejo -1","CORI-ZUS1-Cviej-1",48440,2370,"Relicto de manglar de porte alto con pequeña extensión al costado sur de la desembocadura del río Caimán viejo. Se reporta R, mangle, L. racemosa y algunos A. germinans,de bajo porte y malformados, bosque poco denso. Presión antrópica por aumento de la frontera agrícola."]
[null,null,null,null,null,null,null,null,null,null,null,null,null,null,null,null,null,null,null,"Rio Chorí","Jurub-ZUS1-Pabarc-1",45248,2022,"Parcela rectangular de 0.1 ha, ubicada a 1.25 km aproximadamente de la comunidad de Jurubirá, en la margen derecha del Estero La Vuelta, cuya flora está compuesta por Rhizophora mangle y Rhizophora racemosa."]
[null,null,null,null,null,null,null,null,null,null,null,null,null,null,null,null,null,null,null,"Rio Necocli -2","CORI-ZR1-Rnec-2",48574,2410,"La parcela se ubicó al costado norte de la boca, encontrando un manglar con predominio de L. racemosa y R. mangle.  No se evidenció afectación por basuras o influencia antrópica.  Bosque limpio."]
[null,null,null,null,null,null,null,null,null,null,null,null,null,null,null,null,null,null,null,"Rio Ordo","SI-SZ-RIO_ORDO",58495,2862]
[null,null,null,null,null,null,null,null,null,null,null,null,null,null,null,null,null,null,null,"Rio Saija 3-1","CANT-SZ1-SAIJA3-1",49591,2641]
[null,null,null,null,null,null,null,null,null,null,null,null,null,null,null,null,null,null,null,"Rio Sevilla -1","CGSM-SZ1-Sevillla-1",45267,2028,"Es la más cercana a la desembocadura del Rio Sevilla a unos 600 m  El manglar presenta un nivel de desarrollo bajo, en suelos pantanosos.  La regeneración natural es media. Es una parcela compuesta, constituida por 5 parcelas y cada una tiene un área de 100 m²."]
[null,null,null,null,null,null,null,null,null,null,null,null,null,null,null,null,null,null,null,"Rio Sevilla -2","CGSM-SZ1-Sevillla-2",45269,2029,"Se localiza a 800 m de la desembocadura del Rio Sevilla,  El mangle presenta un nivel de desarrollo Medio bajo, en suelos pantanosos. La regeneración natural es baja.  Es una parcela compuesta, constituida por 5 parcelas y cada una tiene un área de 100 m²"]
[null,null,null,null,null,null,null,null,null,null,null,null,null,null,null,null,null,null,null,"Rio Sevilla -3","CGSM-SZ1-Sevillla-3",45271,2030,"Se localiza a 900 m de la desembocadura del Rio Sevilla,  El mangle presenta un nivel de desarrollo Medio bajo. Es una parcela compuesta, constituida por 5 parcelas y cada una tiene un área de 100 m²"]
[null,null,null,null,null,null,null,null,null,null,null,null,null,null,null,null,null,null,null,"Rio Toribio - MI","Toribio_1",57505,2811]
[null,null,null,null,null,null,null,null,null,null,null,null,null,null,null,null,null,null,null,"Rio Toribio - MII","Toribio_2",57506,2812]
[null,null,null,null,null,null,null,null,null,null,null,null,null,null,null,null,null,null,null,"Rio Toribio - MIII ","Toribio_3",57507,2813]
[null,null,null,null,null,null,null,null,null,null,null,null,null,null,null,null,null,null,null,"Rio Toribio - MIV","Toribio_4",57508,2814]
[null,null,null,null,null,null,null,null,null,null,null,null,null,null,null,null,null,null,null,"Rio Toribio - MV","Toribio_5",57509,2815]
[null,null,null,null,null,null,null,null,null,null,null,null,null,null,null,null,null,null,null,"Rio Toribio - MVI","Toribio_6",57510,2816]
[null,null,null,null,null,null,null,null,null,null,null,null,null,null,null,null,null,null,null,"Rio Toribio-1","TOR-SZ1-Toribio-1",48867,2454]
[null,null,null,null,null,null,null,null,null,null,null,null,null,null,null,null,null,null,null,"Rio Toribio-2","TOR-SZ1-Toribio-2",48869,2455]
[null,null,null,null,null,null,null,null,null,null,null,null,null,null,null,null,null,null,null,"Rio Toribio-3","TOR-SZ1-Toribio-3",48871,2456]
[null,null,null,null,null,null,null,null,null,null,null,null,null,null,null,null,null,null,null,"Rio Toribio-4","TOR-SZ1-Toribio-4",48873,2457]
[null,null,null,null,null,null,null,null,null,null,null,null,null,null,null,null,null,null,null,"Rio Toribio-5","TOR-SZ1-Toribio-5",48875,2458]
[null,null,null,null,null,null,null,null,null,null,null,null,null,null,null,null,null,null,null,"Rio Usagara","USA-SZ-RIO_USA",58488,2860]
[null,null,null,null,null,null,null,null,null,null,null,null,null,null,null,null,null,null,null,"Rio Virudo","VIRU-SZ1-RVIR-1",42129,1111]
[null,null,null,null,null,null,null,null,null,null,null,null,null,null,null,null,null,null,null,"Río Damaquiel-1","CNTE-ZR1-Rdmq-1",48464,2376,"Bosque muy Ralo.Presencia de R. mangle, y A. germinans.  Presión antrópica relacionada por la ampliación de áreas ganaderas.  Presencia de cercas de alambre en el manglar."]
[null,null,null,null,null,null,null,null,null,null,null,null,null,null,null,null,null,null,null,"S La Virgen-1","JPVI-ZR1-SurVirgen-1",44630,1802,"Parcela que inicia con una franja de regeneración natural de R. mangle muy abundante, casi impenetrable, seguida de 10 metros de franja de agua para luego comenzar sustrato duro en su mayoría de A. germinans , baja regeneración natural"]
[null,null,null,null,null,null,null,null,null,null,null,null,null,null,null,null,null,null,null,"Salahonda -1","FRAPIZ-ZUS1-Salho-1",44531,1765,"Compuesta por una vegetación de manglar mixto, con dominancia de la especie piñuelo en cuanto abundancia. hace presencia las especies de mangle piñuelo, Nato y rojo. ademas el helecho ranconcha."]
[null,null,null,null,null,null,null,null,null,null,null,null,null,null,null,null,null,null,null,"Salahonda P-1","FRAPIZ-ZP1-Salho-1",44546,1766,"Manglar adulto bien desarrollado con dominancia de la especie Mangle rojo. presencia de talas de los arboles mas desarrollados en diámetro y altura."]
[null,null,null,null,null,null,null,null,null,null,null,null,null,null,null,null,null,null,null,"Salahonda R-2-1","FRAPIZ-ZR2-Salho-1",44557,1770,"Bosque denso de mangle Piñuelo intervenido para uso domestico. Alta regeneración Natural. Suelo de consistencia blanda y encharcada."]
[null,null,null,null,null,null,null,null,null,null,null,null,null,null,null,null,null,null,null,"Salitral el Garzal -1","CCAIM-ZR1-SGAR-1",44419,1731]
[null,null,null,null,null,null,null,null,null,null,null,null,null,null,null,null,null,null,null,"Salt Creek -1","SCRE-ZP1-SCRE-1",41492,922]
[null,null,null,null,null,null,null,null,null,null,null,null,null,null,null,null,null,null,null,"Salt Creek -2","SaltCreekPPC-2",55554,null,"Estación Manglar Salt Creek (formada por 3 parcelas circulares): Es un manglar de cuenca o interior, ubicado en el costado oriental en la parte media de la Isla, que presenta una cobertura de 4,45 ha (INVEMAR-CORALINA, 2016) y se desarrolla separado del mar por la carretera. Está constituido por el complejo Dorna Pond, el humedal de Ground Road y humedales internos. Presenta una composición florística mixta, dominada por Laguncularia racemosa y presencia de Rhizophora mangle; los árboles tienen una altura promedio de 11,7 m. Este manglar se encuentra impactado por los residuos sólidos de las familias aledañas del sector y existe evidencia de actividades de tala y rellenos en su interior."]
[null,null,null,null,null,null,null,null,null,null,null,null,null,null,null,null,null,null,null,"Salt Creek -3","SaltCreekPPC-3",55555,null,"Estación Manglar Salt Creek (formada por 3 parcelas circulares): Es un manglar de cuenca o interior, ubicado en el costado oriental en la parte media de la Isla, que presenta una cobertura de 4,45 ha (INVEMAR-CORALINA, 2016) y se desarrolla separado del mar por la carretera. Está constituido por el complejo Dorna Pond, el humedal de Ground Road y humedales internos. Presenta una composición florística mixta, dominada por Laguncularia racemosa y presencia de Rhizophora mangle; los árboles tienen una altura promedio de 11,7 m. Este manglar se encuentra impactado por los residuos sólidos de las familias aledañas del sector y existe evidencia de actividades de tala y rellenos en su interior."]
[null,null,null,null,null,null,null,null,null,null,null,null,null,null,null,null,null,null,null,"San Rafael","Nuquí-ZR1-RIAN-1",45086,1999,"Parcela rectangular de 20 m x 50 m, dispuesta en la margen derecha del Río Ancachí, cuya composición florística está dada por las especies Rhizophora mangle, Avicennia germinans y Mora oleifera."]
[null,null,null,null,null,null,null,null,null,null,null,null,null,null,null,null,null,null,null,"Santa Ana -2","RAPO-ZUS4-RSA-2",45848,2133,"En conclusión para la estación Raposo se debe actualizar la zonificación por cuanto en los últimos años el manglar ha sido sometido a una fuerte presión antrópica lo cual ha cambiado de forma negativa la estructura del bosque."]
[null,null,null,null,null,null,null,null,null,null,null,null,null,null,null,null,null,null,null,"Santa Ana-1","BARU-ZR1-Sta-Ana-1",44500,1761,"Parcela con inundación en toda el área, nivel promedio: 25 cm, está atravesada por un pequeño canal.  Se evidencia tala y acumulación de madera para recolección."]
[null,null,null,null,null,null,null,null,null,null,null,null,null,null,null,null,null,null,null,"Santa Catalina -1","SantaCatalinaPPC-1",55567,null,"Estación Manglar Santa Catalina (formada por 2 parcelas circulares): El manglar se encuentra localizado en el borde sur oriental de la Isla, bordeando el malecón. Está distribuido en una serie de parches aislados, separados entre sí por construcciones, muelles, el puente de los Enamorados que une a la isla de Providencia con Santa Catalina y una cancha de fútbol. El manglar tiene una extensión total de 3,79 ha (INVEMAR-CORALINA, 2016). El sustrato presentó diferentes niveles de inundación, hubo parches cuyo sustrato estaba seco, otros con sustrato lodoso y otras zonas que se encontraron inundadas. El manglar de una de las parcelas de monitoreo se encuentra conformado principalmente por R. mangle, entremezclado con algunos ejemplares de L. racemosa y A. germinans. El manglar de la otra parcela de monitoreo, que colinda con la cancha deportiva, se encuentra conformado exclusivamente por A. germinans, donde el sustrato es bastante estable. Es un bosque de cuenca de desarrollo diamétrico intermedio y cuyos árboles tienen una altura promedio de 5,5 m."]
[null,null,null,null,null,null,null,null,null,null,null,null,null,null,null,null,null,null,null,"Santa Catalina -2","SantaCatalinaPPC-2",55568,null,"Estación Manglar Santa Catalina (formada por 2 parcelas circulares): El manglar se encuentra localizado en el borde sur oriental de la Isla, bordeando el malecón. Está distribuido en una serie de parches aislados, separados entre sí por construcciones, muelles, el puente de los Enamorados que une a la isla de Providencia con Santa Catalina y una cancha de fútbol. El manglar tiene una extensión total de 3,79 ha (INVEMAR-CORALINA, 2016). El sustrato presentó diferentes niveles de inundación, hubo parches cuyo sustrato estaba seco, otros con sustrato lodoso y otras zonas que se encontraron inundadas. El manglar de una de las parcelas de monitoreo se encuentra conformado principalmente por R. mangle, entremezclado con algunos ejemplares de L. racemosa y A. germinans. El manglar de la otra parcela de monitoreo, que colinda con la cancha deportiva, se encuentra conformado exclusivamente por A. germinans, donde el sustrato es bastante estable. Es un bosque de cuenca de desarrollo diamétrico intermedio y cuyos árboles tienen una altura promedio de 5,5 m."]
[null,null,null,null,null,null,null,null,null,null,null,null,null,null,null,null,null,null,null,"Segundo Estero","NUQUI-ZUS-SEG_ESTERO",58563,2880]
[null,null,null,null,null,null,null,null,null,null,null,null,null,null,null,null,null,null,null,"Sevillano -1","CGSM-SZ1-SEVI-1",50089,2660]
[null,null,null,null,null,null,null,null,null,null,null,null,null,null,null,null,null,null,null,"Sevillano -2","CGSM-SZ1-SEVI-2",50091,2661,"Transecto B"]
[null,null,null,null,null,null,null,null,null,null,null,null,null,null,null,null,null,null,null,"Sevillano -3","CGSM-SZ1-SEVI-3",50093,2662,"Transecto C"]
[null,null,null,null,null,null,null,null,null,null,null,null,null,null,null,null,null,null,null,"Smith Channel -1","SmithChannelPPC-1",55546,null,"Estación Manglar Smith Channel (formada por 3 parcelas circulares): Manglar catalogado como de tierra adentro (Medina, 2016), porque se encuentra aislado del mar, sin una conexión directa y por lo tanto no presenta inundación por mareas en ninguna época del año, pero sí por agua dulce proveniente de las precipitaciones. Está ubicado en el extremo suroriental de la Isla, con presencia de Rhizophora mangle y Laguncularia racemosa. Ocupa un área de manglar de 19,30 ha de extensión (INVEMAR-CORALINA, 2016), tiene abundante presencia de helecho de manglar Acrostichum aureum y es uno de los manglares menos intervenido en la Isla, no obstante, hay evidencia de actividades de tala y presencia de residuos sólidos."]
[null,null,null,null,null,null,null,null,null,null,null,null,null,null,null,null,null,null,null,"Smith Channel -2","SCHA-ZP1-SCH-2",47758,2299,"Se localiza al extremo sureste, entre la vía Tom Hooker y Punta Sur. Tiene una distribución en forma de media luna y ocupa un área de 19,30 ha.  Se identificó por ser considerado como un manglar de cuenca y una altura promedio de 10,8 m; aproximadamente el 30% de la estación se hayo cubierta por Achrostichum aureum  o helecho mata tigre. Por otro lado, se destacó por tener presencia de hojarasca, señales de tala y poca basura._x000D_"]
[null,null,null,null,null,null,null,null,null,null,null,null,null,null,null,null,null,null,null,"Smith Channel -3","SCHA-ZP1-SCH-3",47901,2334]
[null,null,null,null,null,null,null,null,null,null,null,null,null,null,null,null,null,null,null,"Smith Channel -4","SCHA-ZP1-SMCH-4",49216,2583,"Parcela aleatoria #3 2016"]
[null,null,null,null,null,null,null,null,null,null,null,null,null,null,null,null,null,null,null,"Sound Bay -1","SoundBayPPC-1",55558,null,"Estación Manglar Sound Bay (formada por 3 parcelas circulares): Manglar de cuenca o interior de 15,29 ha de cobertura (INVEMAR-CORALINA, 2016), separado del mar por la carretera, por formaciones vegetales distintas al manglar y por la presencia de lotes con viviendas. Tiene una composición florística mixta de Rhizophora mangle, Laguncularia racemosa y Avicennia germinans. El rodal tiene una altura promedio de 10,8 m. En el pasado se encontraba fuertemente impactado por el vertimiento directo de aguas residuales, no obstante, en la actualidad, CORALINA ha regulado dicho impacto. Presenta una elevada influencia de basuras producto de los desechos depositados por parte de la comunidad vecina. Hay evidencia de árboles talados y presencia de helecho de manglar Acrostichum aureum."]
[null,null,null,null,null,null,null,null,null,null,null,null,null,null,null,null,null,null,null,"Sound Bay -2","SoundBayPPC-2",55559,null,"Estación Manglar Sound Bay (formada por 3 parcelas circulares): Manglar de cuenca o interior de 15,29 ha de cobertura (INVEMAR-CORALINA, 2016), separado del mar por la carretera, por formaciones vegetales distintas al manglar y por la presencia de lotes con viviendas. Tiene una composición florística mixta de Rhizophora mangle, Laguncularia racemosa y Avicennia germinans. El rodal tiene una altura promedio de 10,8 m. En el pasado se encontraba fuertemente impactado por el vertimiento directo de aguas residuales, no obstante, en la actualidad, CORALINA ha regulado dicho impacto. Presenta una elevada influencia de basuras producto de los desechos depositados por parte de la comunidad vecina. Hay evidencia de árboles talados y presencia de helecho de manglar Acrostichum aureum."]
[null,null,null,null,null,null,null,null,null,null,null,null,null,null,null,null,null,null,null,"Sound Bay -3","SoundBayPPC-3",55560,null,"Estación Manglar Sound Bay (formada por 3 parcelas circulares): Manglar de cuenca o interior de 15,29 ha de cobertura (INVEMAR-CORALINA, 2016), separado del mar por la carretera, por formaciones vegetales distintas al manglar y por la presencia de lotes con viviendas. Tiene una composición florística mixta de Rhizophora mangle, Laguncularia racemosa y Avicennia germinans. El rodal tiene una altura promedio de 10,8 m. En el pasado se encontraba fuertemente impactado por el vertimiento directo de aguas residuales, no obstante, en la actualidad, CORALINA ha regulado dicho impacto. Presenta una elevada influencia de basuras producto de los desechos depositados por parte de la comunidad vecina. Hay evidencia de árboles talados y presencia de helecho de manglar Acrostichum aureum."]
[null,null,null,null,null,null,null,null,null,null,null,null,null,null,null,null,null,null,null,"Suroeste -1","SuroestePPC-1",55565,null,"Estación Manglar Suroeste (formada por 2 parcelas circulares): Ubicado en el suroeste de la isla, conformado por Rhizophora mangle, como especie dominante y por Laguncularia racemosa. Presenta una barra arenosa en frente, poco elevada y posee una laguna interior de alrededor de 300 m de largo y 30 m de ancho, que permanece total o parcialmente inundada durante el año, debido a las fuertes lluvias y la escorrentía, pero disminuye su espejo de agua en época seca por evaporación e infiltración del agua. Tiene una extensión de manglar de 5,25 ha (INVEMAR-CORALINA, 2016). Existe evidencia de actividades de tala en su interior, así como la construcción de restaurantes muy cerca del mismo y presencia de cables de electricidad sobre los árboles de mangle."]
[null,null,null,null,null,null,null,null,null,null,null,null,null,null,null,null,null,null,null,"Suroeste -2","SuroestePPC-2",55566,null,"Estación Manglar Suroeste (formada por 2 parcelas circulares): Ubicado en el suroeste de la isla, conformado por Rhizophora mangle, como especie dominante y por Laguncularia racemosa. Presenta una barra arenosa en frente, poco elevada y posee una laguna interior de alrededor de 300 m de largo y 30 m de ancho, que permanece total o parcialmente inundada durante el año, debido a las fuertes lluvias y la escorrentía, pero disminuye su espejo de agua en época seca por evaporación e infiltración del agua. Tiene una extensión de manglar de 5,25 ha (INVEMAR-CORALINA, 2016). Existe evidencia de actividades de tala en su interior, así como la construcción de restaurantes muy cerca del mismo y presencia de cables de electricidad sobre los árboles de mangle."]
[null,null,null,null,null,null,null,null,null,null,null,null,null,null,null,null,null,null,null,"Timba","CAJA-ZUS2-CT-1",45830,2129,"En términos generales el sector de Cajambre es el que presenta mayor nivel de intervención antrópica   producto de la tala del mangle con fines comerciales.  Existe un alto contraste en la zonificación de 2007 que lo cataloga como un manglar poco intervenido en contraposición al alto grado de degradación que se registró en el monitoreo actual."]
[null,null,null,null,null,null,null,null,null,null,null,null,null,null,null,null,null,null,null,"Totumo Oriental -1","CNGTOT-ZP1-Totum-1",45257,"1905-07-17","Es un relicto denso en forma de islote  que se encuentra varios centímetros por encima del suelo, y está constituido por la especie  L. racemosa. Algunos crecen retorcidos disponiendo sus ramas hacia el cuerpo de agua de la ciénaga. No se observa regeneración natural"]
[null,null,null,null,null,null,null,null,null,null,null,null,null,null,null,null,null,null,null,"Totumo Oriental -2","CNGTOT-ZP1-Totum-2",45259,2026,"Forma una franja de 15 m tierra dentro, la línea de agua está a 1 m dentro de  la parcela, algunos individuos de L. racemosa  son maduros, de crecimiento arbustivo, con ramas que crecen hacia el cuerpo de agua."]
[null,null,null,null,null,null,null,null,null,null,null,null,null,null,null,null,null,null,null,"Tribuga - Las Peñitas PPC3","TRIBUGA-ZUS-BUGA03",58593,2885]
[null,null,null,null,null,null,null,null,null,null,null,null,null,null,null,null,null,null,null,"Tribuga - Las Peñitas PPC4","TRIBUGA-ZUS-BUGA04",58591,2884]
[null,null,null,null,null,null,null,null,null,null,null,null,null,null,null,null,null,null,null,"Tribuga PPC1","TRIBUGA-ZUS-BUGA01",58587,2882]
[null,null,null,null,null,null,null,null,null,null,null,null,null,null,null,null,null,null,null,"Tribuga PPC2","TRIBUGA-ZUS-BUGA02",58598,2887]
[null,null,null,null,null,null,null,null,null,null,null,null,null,null,null,null,null,null,null,"Trujillo","ENSENADA-ZP1-TRUJI-1",45400,2063,"MANGLAR ADULTO BIEN DESARROLLADO E INTERVENIDO CON DOMINANCIA DEL MANGLE ROJO. PRESENCIA DE REGENERACIÓN EN LOS CLAROS DEJADOS POR LAS CORTAS DE INDIVIDUOS."]
[null,null,null,null,null,null,null,null,null,null,null,null,null,null,null,null,null,null,null,"Tumaco","TCO-ZR2-Tuma-1",44506,1763,"ESTA ÁREA  PRESENTA UNA VEGETACIÓN DE MANGLAR MIXTO, HACE PRESENCIA LAS ESPECIES DE MANGLE ROJO, PIÑUELO Y NATO, ADEMAS EL HELECHO RANCONCHA. ES UNA ÁREA INTERVENIDA,"]
[null,null,null,null,null,null,null,null,null,null,null,null,null,null,null,null,null,null,null,"Tumaco -1","TCO-ZUS1-SANAND-1",45395,2062,"BOSQUE DE MANGLE ROJO INTERVENIDO, ALTA DENSIDAD DE INDIVIDUOS CON ALTO PORCENTAJE DE FUSTES RETORCIDOS, ARQUEADOS E INCLINADOS."]
[null,null,null,null,null,null,null,null,null,null,null,null,null,null,null,null,null,null,null,"Ultima Boca","BCISLIT-ZR1-UltBoca-1",48762,2439]
[null,null,null,null,null,null,null,null,null,null,null,null,null,null,null,null,null,null,null,"Valle de los Cangrejos -1","VCAN-ZR1-CANG-1",41390,889,"La parcela se encuentra en una franja de manglar tipo borde, continua y de considerable anchura, perpendicular a la línea de costa y a su vez paralela al brazo Calcancala del Río Rancheria. _x000D_"]
[null,null,null,null,null,null,null,null,null,null,null,null,null,null,null,null,null,null,null,"Valle de los Cangrejos -2","VCAN-ZR1-CANG-2",41392,890,"La parcela se encuentra en una franja de manglar tipo borde, continua y de considerable anchura, perpendicular a la línea de costa y a su vez paralela al brazo Calcancala del Río Rancheria. _x000D_"]
[null,null,null,null,null,null,null,null,null,null,null,null,null,null,null,null,null,null,null,"Valle de los Cangrejos -3","VCAN-ZR1-CANG-3",41394,891,"La parcela se encuentra en una franja de manglar tipo borde, continua y de considerable anchura, perpendicular a la línea de costa y a su vez paralela al brazo Calcancala del Río Rancheria. _x000D_"]
[null,null,null,null,null,null,null,null,null,null,null,null,null,null,null,null,null,null,null,"Velero -1","PVEL-ZP2-VelP-1",45157,2019,"La parcela se ubica detrás de una cabaña de pescadores, a 18 m de esta y a 34 m de la línea de vegetación, se encuentra una cerca. En la zona predomina la C. erectus muy ramificado, en los primeros metros del transecto se encuentra B marítima y suelos firmes y arenosos. Se encontraron residuos sólidos."]
[null,null,null,null,null,null,null,null,null,null,null,null,null,null,null,null,null,null,null,"Velodia Road parcela circular-1","VelodiaRoadPPC-1",55557,null,"Estación Manglar Velodia Road (formada por 1 parcela circular): Es un manglar de tierra adentro, ubicado en el costado sur de la Isla, que presenta una cobertura de 1,0 ha (INVEMAR-CORALINA, 2016)."]
[null,null,null,null,null,null,null,null,null,null,null,null,null,null,null,null,null,null,null,"Vía al Mar","JPVI-ZUS1-VíaMar-1",44627,1801,"Estación bordeada por un canal, con sustrato fangoso, Bosque en buen estado con abundante regeneración natural."]
[null,null,null,null,null,null,null,null,null,null,null,null,null,null,null,null,null,null,null,"Waipare","MAYO-ZR3-MWA-1",45839,2131,"En términos generales este bosque no se ha podido recuperar desde la última zonificación y por el contrario la tendencia es a disminuir su área basal  y por reacción y como estrategia de resiliencia el bosque genera más regeneración natural que se observa en el aumento de más del 300% en  el número de árboles."]
[null,null,null,null,null,null,null,null,null,null,null,null,null,null,null,null,null,null,null,"Yarumal -1","CORI-ZUS1-Yaru-1",48442,2371,"Bosque Ralo Presencia de R. mangle, L. racemosa y A. germinans.  Vegetación inferior del helecho A. aureum y majagua.  Escasos árboles pero de porte alto.  Presión antrópica relacionada por la ampliación de áreas ganaderas.  Presencia de cercas de alambre en el manglar."]
[null,null,null,null,null,null,null,null,null,null,null,null,null,null,null,null,null,null,null,"Yerbasal -1","DRATR-ZR1-Yerb-1",48523,2386,"Bosque Ralo al interior.  La sp más abundante es el R. mangle seguido de L.racemosa Presencia de helecho A. aureum.  Presión antrópica relacionada por Corta de Varas y presencia de agallas en todas las estructuras del manglar, especialmente en el R. mangle."]

{"sheet":"OTRAS REFERENTES","index":6,"n_rows":1277,"n_cols":35,"rows_kept":1277,"cut":false,"hidden":false,"merged":[[4,19,4,20],[0,0,2,10],[4,0,4,1],[4,3,4,4],[4,7,4,8],[4,10,4,11],[4,14,4,15]]}
["Estas son listas para variables con valores que no se encuentran codificados, pero que deben manejarse de manera estandarizada. \nSi se requiere agregar un valor nuevo hagalo debajo de la lista correspondiente"]
[]
[]
[]
["UNIDADES DE MEDIDA",null,null,"PROYECTO",null,null,null,"METODOS ALTURA",null,null,"METODOS_DAP_CAP",null,null,null,"CAT",null,null,null,null,"ROLES"]
["CODIGO","DESCRIPCION",null,"COD","PROYECTO","PROYECTO DESC",null,"COD","VALOR",null,"COD","VALOR",null,null,"A",null,null,null,null,4,"Captura en campo",null,null,null,{"$f":"IF(AND(REFERENTES!U2<>\"\",          REFERENTES!U2<>96321,    REFERENTES!U2<>96222            ),(REFERENTES!W2),\"\")","v":2414},{"$f":"REFERENTES!S2","v":0},null,"ORDEN","COPIAS COD","REORDENAR","LISTADO",null,null,"ESTACIONES","ID"]
[10,"cm",null,1513,"Monitoreo_CGSM","Monitoreo CGSM",null,663,"Regla",null,614,"Cinta diamétrica",null,null,"B",null,null,null,null,6,"Revisar datos",null,null,null,{"$f":"IF(AND(REFERENTES!U3<>\"\",          REFERENTES!U3<>96321,    REFERENTES!U3<>96222            ),(REFERENTES!W3),\"\")","v":2154},{"$f":"REFERENTES!S3","v":0},null,1,{"$f":"IF(Y6=\"\",0,Y6)","v":2414},{"$f":"IF(AC7=0,MAX($AB$7:$AB$1135)+1,AB7)","v":1},{"$f":"IFERROR(VLOOKUP(SMALL($AD$7:$AD$1135,AB7),$AB$7:$AD$1135,2,FALSE),\"X\")","v":2414},null,null,"                         *****ESTACIÓN O TRANSECTO*****                            ","NO VALIDO"]
[11,"m",null,2187,"INVEMAR - EPA Cartagena","INVEMAR - EPA Cartagena",null,633,"Estimación visual directa",null,615,"Cinta métrica",null,null,"C",null,null,null,null,3497,"Coordinador actividad de campo",null,null,null,{"$f":"IF(AND(REFERENTES!U4<>\"\",          REFERENTES!U4<>96321,    REFERENTES!U4<>96222            ),(REFERENTES!W4),\"\")","v":2155},{"$f":"REFERENTES!S4","v":0},null,2,{"$f":"IF(Y7=\"\",0,Y7)","v":2154},{"$f":"IF(AC8=0,MAX($AB$7:$AB$1135)+1,AB8)","v":2},{"$f":"IFERROR(VLOOKUP(SMALL($AD$7:$AD$1135,AB8),$AB$7:$AD$1135,2,FALSE),\"X\")","v":2154},null,null,{"$f":"CONCATENATE(REFERENTES!T2,\"(\",REFERENTES!U2,\")\")","v":"Agrosoledad - 1(CSISPIE-ZR1-Agrosole-1)"},{"$f":"REFERENTES!V2","v":48733}]
[null,null,null,2486,"CVS_URRA_MANGLARES","CVS.URRA",null,null,null,null,744,"Forcipula",null,null,null,null,null,null,null,null,null,null,null,null,{"$f":"IF(AND(REFERENTES!U5<>\"\",          REFERENTES!U5<>96321,    REFERENTES!U5<>96222            ),(REFERENTES!W5),\"\")","v":2156},{"$f":"REFERENTES!S5","v":0},null,3,2155,3,2155,null,null,{"$f":"CONCATENATE(REFERENTES!T3,\"(\",REFERENTES!U3,\")\")","v":"Aguas Negras -1(SFFOCC-SZ1-ANE-1)"},{"$f":"REFERENTES!V3","v":45924}]
[null,null,null,3287,"Restauracion Petrobras","Restauración De Ecosistemas De Manglar En La Guajira. Casos De Estudio Piloto: Musichi y Santuario de Fauna y Flora Los Flamencos",null,null,null,null,605,"Calibrador",null,null,null,null,null,null,null,null,null,null,null,null,{"$f":"IF(AND(REFERENTES!U6<>\"\",          REFERENTES!U6<>96321,    REFERENTES!U6<>96222            ),(REFERENTES!W6),\"\")","v":2881},{"$f":"REFERENTES!S6","v":0},null,4,2156,4,2156,null,null,{"$f":"CONCATENATE(REFERENTES!T4,\"(\",REFERENTES!U4,\")\")","v":"Aguas Negras -2(SFFOCC-SZ1-ANE-2)"},{"$f":"REFERENTES!V4","v":45926}]
[null,null,null,3360,"Restauracion Rio Toribio","LINEAMIENTOS PARA LA RESTAURACIÓN DEL ECOSISTEMA DE MANGLAR EN LA DESEMBOCADURA DEL RIO TORIBIO",null,null,null,null,null,null,null,null,null,null,null,null,null,null,null,null,null,null,{"$f":"IF(AND(REFERENTES!U7<>\"\",          REFERENTES!U7<>96321,    REFERENTES!U7<>96222            ),(REFERENTES!W7),\"\")","v":2124},{"$f":"REFERENTES!S7","v":0},null,5,2881,5,2881,null,null,{"$f":"CONCATENATE(REFERENTES!T5,\"(\",REFERENTES!U5,\")\")","v":"Aguas Negras -3(SFFOCC-SZ1-ANE-3)"},{"$f":"REFERENTES!V5","v":45928}]
[null,null,null,3460,"Piloto restauración CORPAMAG","Implementación de un piloto de restauración activa de manglar en el sector noroccidental de la Ciénaga Grande de Santa Marta.",null,null,null,null,null,null,null,null,null,null,null,null,null,null,null,null,null,null,{"$f":"IF(AND(REFERENTES!U8<>\"\",          REFERENTES!U8<>96321,    REFERENTES!U8<>96222            ),(REFERENTES!W8),\"\")","v":1764},{"$f":"REFERENTES!S8","v":0},null,6,2124,6,2124,null,null,{"$f":"CONCATENATE(REFERENTES!T6,\"(\",REFERENTES!U6,\")\")","v":"Ancachi(NUQUI-ZR-ANCACHI)"},{"$f":"REFERENTES!V6","v":58565}]
[null,null,null,3498,"VIVO_TORIBIO_2019","VIVO_TORIBIO_2019",null,null,null,null,null,null,null,null,null,null,null,null,null,null,null,null,null,null,{"$f":"IF(AND(REFERENTES!U9<>\"\",          REFERENTES!U9<>96321,    REFERENTES!U9<>96222            ),(REFERENTES!W9),\"\")","v":2888},{"$f":"REFERENTES!S9","v":0},null,7,1764,7,1764,null,null,{"$f":"CONCATENATE(REFERENTES!T7,\"(\",REFERENTES!U7,\")\")","v":"Angostura(BCISEST-ZUS1-angostura-1)"},{"$f":"REFERENTES!V7","v":45589}]
[null,null,null,3499,"RESTAURACION_CORPAMAG_2020","RESTAURACION_CORPAMAG_2020",null,null,null,null,null,null,null,null,null,null,null,null,null,null,null,null,null,null,{"$f":"IF(AND(REFERENTES!U10<>\"\",          REFERENTES!U10<>96321,    REFERENTES!U10<>96222            ),(REFERENTES!W10),\"\")","v":2889},{"$f":"REFERENTES!S10","v":0},null,8,2888,8,2888,null,null,{"$f":"CONCATENATE(REFERENTES!T8,\"(\",REFERENTES!U8,\")\")","v":"Ararca-1(BARU-ZR1-Ararca-1)"},{"$f":"REFERENTES!V8","v":44509}]
[null,null,null,3528,"FORTALECIMIENTO_MANGLARES","BPIN 2017011000113 - RES 0176 del 26 de febrero 2021",null,null,null,null,null,null,null,null,null,null,null,null,null,null,null,null,null,null,{"$f":"IF(AND(REFERENTES!U11<>\"\",          REFERENTES!U11<>96321,    REFERENTES!U11<>96222            ),(REFERENTES!W11),\"\")","v":684},{"$f":"REFERENTES!S11","v":0},null,9,2889,9,2889,null,null,{"$f":"CONCATENATE(REFERENTES!T9,\"(\",REFERENTES!U9,\")\")","v":"Arroyo Astilleros -1(ASTI1-ZP-ARRO_ASTI)"},{"$f":"REFERENTES!V9","v":58608}]
[null,null,null,3620,"RestauracionManglares","Restauracion Manglares",null,null,null,null,null,null,null,null,null,null,null,null,null,null,null,null,null,null,{"$f":"IF(AND(REFERENTES!U12<>\"\",          REFERENTES!U12<>96321,    REFERENTES!U12<>96222            ),(REFERENTES!W12),\"\")","v":2892},{"$f":"REFERENTES!S12","v":0},null,10,684,10,684,null,null,{"$f":"CONCATENATE(REFERENTES!T10,\"(\",REFERENTES!U10,\")\")","v":"Arroyo Astilleros -2(ASTI2-ZP-ARRO_ASTI)"},{"$f":"REFERENTES!V10","v":58609}]
[null,null,null,3637,"PILOTOS-RES_CORPAMAG_2019","Piloto restauración CGSM CORPAMAG",null,null,null,null,null,null,null,null,null,null,null,null,null,null,null,null,null,null,{"$f":"IF(AND(REFERENTES!U13<>\"\",          REFERENTES!U13<>96321,    REFERENTES!U13<>96222            ),(REFERENTES!W13),\"\")","v":1759},{"$f":"REFERENTES!S13","v":0},null,11,2892,11,2892,null,null,{"$f":"CONCATENATE(REFERENTES!T11,\"(\",REFERENTES!U11,\")\")","v":"Arroyo Bocatocino(ARROBOCA-SZ-ARROBOCA)"},{"$f":"REFERENTES!V11","v":40908}]
[null,null,null,2239,"SIGMA","Sistema de Información para la Gestión de los Manglares",null,null,null,null,null,null,null,null,null,null,null,null,null,null,null,null,null,null,{"$f":"IF(AND(REFERENTES!U14<>\"\",          REFERENTES!U14<>96321,    REFERENTES!U14<>96222            ),(REFERENTES!W14),\"\")","v":1076},{"$f":"REFERENTES!S14","v":0},null,12,1759,12,1759,null,null,{"$f":"CONCATENATE(REFERENTES!T12,\"(\",REFERENTES!U12,\")\")","v":"Arroyo Juan de Acosta(ARROACOS-SZ-ARRO_ACOS)"},{"$f":"REFERENTES!V12","v":58619}]
[null,null,null,3622,"CONVENIO CORALINA - INVEMAR (PRY-BEM-017-2023)","Monitoreo del estado de los ecosistemas de manglar y pastos marinos y calidad del agua en jurisdicción de la Corporación para el Desarrollo Sostenible del Archipiélago de San Andrés, Providencia y Santa Catalina (Coralina).",null,null,null,null,null,null,null,null,null,null,null,null,null,null,null,null,null,null,{"$f":"IF(AND(REFERENTES!U15<>\"\",          REFERENTES!U15<>96321,    REFERENTES!U15<>96222            ),(REFERENTES!W15),\"\")","v":1758},{"$f":"REFERENTES!S15","v":0},null,13,1076,13,1076,null,null,{"$f":"CONCATENATE(REFERENTES!T13,\"(\",REFERENTES!U13,\")\")","v":"Arroyo Plata-1(BARB-ZR1-Ay-Plata-1)"},{"$f":"REFERENTES!V13","v":44493}]
[null,null,null,3614,"DAMCRA 924-2023","Fortalecer condiciones para implementar programas o proyectos sostenibles a largo plazo de restauración y carbono azul en Colombia.",null,null,null,null,null,null,null,null,null,null,null,null,null,null,null,null,null,null,{"$f":"IF(AND(REFERENTES!U16<>\"\",          REFERENTES!U16<>96321,    REFERENTES!U16<>96222            ),(REFERENTES!W16),\"\")","v":2506},{"$f":"REFERENTES!S16","v":0},null,14,1758,14,1758,null,null,{"$f":"CONCATENATE(REFERENTES!T14,\"(\",REFERENTES!U14,\")\")","v":"Bahia Barbacoas-1(BARB-ZR1-Barba-1)"},{"$f":"REFERENTES!V14","v":42000}]
[null,null,null,null,null,null,null,null,null,null,null,null,null,null,null,null,null,null,null,null,null,null,null,null,{"$f":"IF(AND(REFERENTES!U17<>\"\",          REFERENTES!U17<>96321,    REFERENTES!U17<>96222            ),(REFERENTES!W17),\"\")","v":2381},{"$f":"REFERENTES!S17","v":0},null,15,2506,15,2506,null,null,{"$f":"CONCATENATE(REFERENTES!T15,\"(\",REFERENTES!U15,\")\")","v":"Bahia Barbacoas-1-1(BARB-ZR1-BARB01-1)"},{"$f":"REFERENTES!V15","v":44490}]
[null,null,null,null,null,null,null,null,null,null,null,null,null,null,null,null,null,null,null,null,null,null,null,null,{"$f":"IF(AND(REFERENTES!U18<>\"\",          REFERENTES!U18<>96321,    REFERENTES!U18<>96222            ),(REFERENTES!W18),\"\")","v":2385},{"$f":"REFERENTES!S18","v":0},null,16,2381,16,2381,null,null,{"$f":"CONCATENATE(REFERENTES!T16,\"(\",REFERENTES!U16,\")\")","v":"Bahia Honda -1(OPOI-ZP1-BahíaHonda-1)"},{"$f":"REFERENTES!V16","v":49005}]
[null,null,null,null,null,null,null,null,null,null,null,null,null,null,null,null,null,null,null,null,null,null,null,null,{"$f":"IF(AND(REFERENTES!U19<>\"\",          REFERENTES!U19<>96321,    REFERENTES!U19<>96222            ),(REFERENTES!W19),\"\")","v":2387},{"$f":"REFERENTES!S19","v":0},null,17,2385,17,2385,null,null,{"$f":"CONCATENATE(REFERENTES!T17,\"(\",REFERENTES!U17,\")\")","v":"Bahía Burrera -1(DRATR-ZUS1-Bburr-1)"},{"$f":"REFERENTES!V17","v":48492}]
[null,null,null,null,null,null,null,null,null,null,null,null,null,null,null,null,null,null,null,null,null,null,null,null,{"$f":"IF(AND(REFERENTES!U20<>\"\",          REFERENTES!U20<>96321,    REFERENTES!U20<>96222            ),(REFERENTES!W20),\"\")","v":0},{"$f":"REFERENTES!S20","v":0},null,18,2387,18,2387,null,null,{"$f":"CONCATENATE(REFERENTES!T18,\"(\",REFERENTES!U18,\")\")","v":"Bahía Coco Grande-1(DRATR-ZR1-Bcog-1)"},{"$f":"REFERENTES!V18","v":48520}]
[null,null,null,null,null,null,null,null,null,null,null,null,null,null,null,null,null,null,null,null,null,null,null,null,{"$f":"IF(AND(REFERENTES!U21<>\"\",          REFERENTES!U21<>96321,    REFERENTES!U21<>96222            ),(REFERENTES!W21),\"\")","v":0},{"$f":"REFERENTES!S21","v":0},null,19,0,1130,2522,null,null,{"$f":"CONCATENATE(REFERENTES!T19,\"(\",REFERENTES!U19,\")\")","v":"Bahía El Roto -1(DRATR-ZR1-Brot-1)"},{"$f":"REFERENTES!V19","v":48526}]
[null,null,null,null,null,null,null,null,null,null,null,null,null,null,null,null,null,null,null,null,null,null,null,null,{"$f":"IF(AND(REFERENTES!U22<>\"\",          REFERENTES!U22<>96321,    REFERENTES!U22<>96222            ),(REFERENTES!W22),\"\")","v":2522},{"$f":"REFERENTES!S22","v":0},null,20,0,1130,2505,null,null,{"$f":"CONCATENATE(REFERENTES!T20,\"(\",REFERENTES!U20,\")\")","v":"Bahía Honda -2(BahíaHondaPPC-2)"},{"$f":"REFERENTES!V20","v":55547}]
[null,null,null,null,null,null,null,null,null,null,null,null,null,null,null,null,null,null,null,null,null,null,null,null,{"$f":"IF(AND(REFERENTES!U23<>\"\",          REFERENTES!U23<>96321,    REFERENTES!U23<>96222            ),(REFERENTES!W23),\"\")","v":2505},{"$f":"REFERENTES!S23","v":0},null,21,2522,21,2383,null,null,{"$f":"CONCATENATE(REFERENTES!T21,\"(\",REFERENTES!U21,\")\")","v":"Bahía Honda -3(BahíaHondaPPC-3)"},{"$f":"REFERENTES!V21","v":55548}]
[null,null,null,null,null,null,null,null,null,null,null,null,null,null,null,null,null,null,null,null,null,null,null,null,{"$f":"IF(AND(REFERENTES!U24<>\"\",          REFERENTES!U24<>96321,    REFERENTES!U24<>96222            ),(REFERENTES!W24),\"\")","v":0},{"$f":"REFERENTES!S24","v":0},null,22,2505,22,2380,null,null,{"$f":"CONCATENATE(REFERENTES!T22,\"(\",REFERENTES!U22,\")\")","v":"Bahía Honda -4(OPOI-ZP1-Bahía Honda-4)"},{"$f":"REFERENTES!V22","v":49047}]
[null,null,null,null,null,null,null,null,null,null,null,null,null,null,null,null,null,null,null,null,null,null,null,null,{"$f":"IF(AND(REFERENTES!U25<>\"\",          REFERENTES!U25<>96321,    REFERENTES!U25<>96222            ),(REFERENTES!W25),\"\")","v":0},{"$f":"REFERENTES!S25","v":0},null,23,0,1130,2393,null,null,{"$f":"CONCATENATE(REFERENTES!T23,\"(\",REFERENTES!U23,\")\")","v":"Bahía Hooker -1(OPOI-ZP1-BahíaHooker-1)"},{"$f":"REFERENTES!V23","v":49002}]
[null,null,null,null,null,null,null,null,null,null,null,null,null,null,null,null,null,null,null,null,null,null,null,null,{"$f":"IF(AND(REFERENTES!U26<>\"\",          REFERENTES!U26<>96321,    REFERENTES!U26<>96222            ),(REFERENTES!W26),\"\")","v":0},{"$f":"REFERENTES!S26","v":0},null,24,0,1130,2003,null,null,{"$f":"CONCATENATE(REFERENTES!T24,\"(\",REFERENTES!U24,\")\")","v":"Bahía Hooker -2(BahíaHookerPPC-2)"},{"$f":"REFERENTES!V24","v":55549}]
[null,null,null,null,null,null,null,null,null,null,null,null,null,null,null,null,null,null,null,null,null,null,null,null,{"$f":"IF(AND(REFERENTES!U27<>\"\",          REFERENTES!U27<>96321,    REFERENTES!U27<>96222            ),(REFERENTES!W27),\"\")","v":2383},{"$f":"REFERENTES!S27","v":0},null,25,0,1130,1107,null,null,{"$f":"CONCATENATE(REFERENTES!T25,\"(\",REFERENTES!U25,\")\")","v":"Bahía Hooker -3(BahíaHookerPPC-3)"},{"$f":"REFERENTES!V25","v":55550}]
[null,null,null,null,null,null,null,null,null,null,null,null,null,null,null,null,null,null,null,null,null,null,null,null,{"$f":"IF(AND(REFERENTES!U28<>\"\",          REFERENTES!U28<>96321,    REFERENTES!U28<>96222            ),(REFERENTES!W28),\"\")","v":2380},{"$f":"REFERENTES!S28","v":0},null,26,2383,26,1785,null,null,{"$f":"CONCATENATE(REFERENTES!T26,\"(\",REFERENTES!U26,\")\")","v":"Bahía Hooker -4(BahíaHookerPPC-4)"},{"$f":"REFERENTES!V26","v":55551}]
[null,null,null,null,null,null,null,null,null,null,null,null,null,null,null,null,null,null,null,null,null,null,null,null,{"$f":"IF(AND(REFERENTES!U29<>\"\",          REFERENTES!U29<>96321,    REFERENTES!U29<>96222            ),(REFERENTES!W29),\"\")","v":2393},{"$f":"REFERENTES!S29","v":0},null,27,2380,27,2384,null,null,{"$f":"CONCATENATE(REFERENTES!T27,\"(\",REFERENTES!U27,\")\")","v":"Bahía La Paila-1(DRATR-ZUS1-Bpai-1)"},{"$f":"REFERENTES!V27","v":48497}]
[null,null,null,null,null,null,null,null,null,null,null,null,null,null,null,null,null,null,null,null,null,null,null,null,{"$f":"IF(AND(REFERENTES!U30<>\"\",          REFERENTES!U30<>96321,    REFERENTES!U30<>96222            ),(REFERENTES!W30),\"\")","v":2003},{"$f":"REFERENTES!S30","v":0},null,28,2393,28,1139,null,null,{"$f":"CONCATENATE(REFERENTES!T28,\"(\",REFERENTES!U28,\")\")","v":"Bahía Marirrio -2(DRATR-ZP1-Bmari-2)"},{"$f":"REFERENTES!V28","v":48489}]
[null,null,null,null,null,null,null,null,null,null,null,null,null,null,null,null,null,null,null,null,null,null,null,null,{"$f":"IF(AND(REFERENTES!U31<>\"\",          REFERENTES!U31<>96321,    REFERENTES!U31<>96222            ),(REFERENTES!W31),\"\")","v":1107},{"$f":"REFERENTES!S31","v":0},null,29,2003,29,2851,null,null,{"$f":"CONCATENATE(REFERENTES!T29,\"(\",REFERENTES!U29,\")\")","v":"Bahía Marirrio -3(DRATR-ZP1-Bmari-3)"},{"$f":"REFERENTES!V29","v":48539}]
[null,null,null,null,null,null,null,null,null,null,null,null,null,null,null,null,null,null,null,null,null,null,null,null,{"$f":"IF(AND(REFERENTES!U32<>\"\",          REFERENTES!U32<>96321,    REFERENTES!U32<>96222            ),(REFERENTES!W32),\"\")","v":1785},{"$f":"REFERENTES!S32","v":0},null,30,1107,30,1723,null,null,{"$f":"CONCATENATE(REFERENTES!T30,\"(\",REFERENTES!U30,\")\")","v":"Balboa -1(CNGBAL-ZP3-Balboa-1)"},{"$f":"REFERENTES!V30","v":45097}]
[null,null,null,null,null,null,null,null,null,null,null,null,null,null,null,null,null,null,null,null,null,null,null,null,{"$f":"IF(AND(REFERENTES!U33<>\"\",          REFERENTES!U33<>96321,    REFERENTES!U33<>96222            ),(REFERENTES!W33),\"\")","v":2384},{"$f":"REFERENTES!S33","v":0},null,31,1785,31,2151,null,null,{"$f":"CONCATENATE(REFERENTES!T31,\"(\",REFERENTES!U31,\")\")","v":"Barrial(VIRU-SZ1-BARR-1)"},{"$f":"REFERENTES!V31","v":42119}]
[null,null,null,null,null,null,null,null,null,null,null,null,null,null,null,null,null,null,null,null,null,null,null,null,{"$f":"IF(AND(REFERENTES!U34<>\"\",          REFERENTES!U34<>96321,    REFERENTES!U34<>96222            ),(REFERENTES!W34),\"\")","v":1139},{"$f":"REFERENTES!S34","v":0},null,32,2384,32,2865,null,null,{"$f":"CONCATENATE(REFERENTES!T32,\"(\",REFERENTES!U32,\")\")","v":"Baru1(BARU-ZR1-Barú-1)"},{"$f":"REFERENTES!V32","v":44580}]
[null,null,null,null,null,null,null,null,null,null,null,null,null,null,null,null,null,null,null,null,null,null,null,null,{"$f":"IF(AND(REFERENTES!U35<>\"\",          REFERENTES!U35<>96321,    REFERENTES!U35<>96222            ),(REFERENTES!W35),\"\")","v":2851},{"$f":"REFERENTES!S35","v":0},null,33,1139,33,2869,null,null,{"$f":"CONCATENATE(REFERENTES!T33,\"(\",REFERENTES!U33,\")\")","v":"Bazo Matuntugo -1(DRATR-ZR1-Bmat-1)"},{"$f":"REFERENTES!V33","v":48517}]
[null,null,null,null,null,null,null,null,null,null,null,null,null,null,null,null,null,null,null,null,null,null,null,null,{"$f":"IF(AND(REFERENTES!U36<>\"\",          REFERENTES!U36<>96321,    REFERENTES!U36<>96222            ),(REFERENTES!W36),\"\")","v":1723},{"$f":"REFERENTES!S36","v":0},null,34,2851,34,1065,null,null,{"$f":"CONCATENATE(REFERENTES!T34,\"(\",REFERENTES!U34,\")\")","v":"Berrugas(BERR-ZR1-BERR-1)"},{"$f":"REFERENTES!V34","v":42202}]
[null,null,null,null,null,null,null,null,null,null,null,null,null,null,null,null,null,null,null,null,null,null,null,null,{"$f":"IF(AND(REFERENTES!U37<>\"\",          REFERENTES!U37<>96321,    REFERENTES!U37<>96222            ),(REFERENTES!W37),\"\")","v":2151},{"$f":"REFERENTES!S37","v":0},null,35,1723,35,2139,null,null,{"$f":"CONCATENATE(REFERENTES!T35,\"(\",REFERENTES!U35,\")\")","v":"Black Sand Bay(BSAND_BAY1)"},{"$f":"REFERENTES!V35","v":58105}]
[null,null,null,null,null,null,null,null,null,null,null,null,null,null,null,null,null,null,null,null,null,null,null,null,{"$f":"IF(AND(REFERENTES!U38<>\"\",          REFERENTES!U38<>96321,    REFERENTES!U38<>96222            ),(REFERENTES!W38),\"\")","v":2865},{"$f":"REFERENTES!S38","v":0},null,36,2151,36,2136,null,null,{"$f":"CONCATENATE(REFERENTES!T36,\"(\",REFERENTES!U36,\")\")","v":"Boca Cerrada(BCER-ZUS1-BCER-1)"},{"$f":"REFERENTES!V36","v":44387}]
[null,null,null,null,null,null,null,null,null,null,null,null,null,null,null,null,null,null,null,null,null,null,null,null,{"$f":"IF(AND(REFERENTES!U39<>\"\",          REFERENTES!U39<>96321,    REFERENTES!U39<>96222            ),(REFERENTES!W39),\"\")","v":2869},{"$f":"REFERENTES!S39","v":0},null,37,2865,37,2144,null,null,{"$f":"CONCATENATE(REFERENTES!T37,\"(\",REFERENTES!U37,\")\")","v":"Boca Iscuande(ISCUANDE-ZR1-GUABA-1)"},{"$f":"REFERENTES!V37","v":45918}]
[null,null,null,null,null,null,null,null,null,null,null,null,null,null,null,null,null,null,null,null,null,null,null,null,{"$f":"IF(AND(REFERENTES!U40<>\"\",          REFERENTES!U40<>96321,    REFERENTES!U40<>96222            ),(REFERENTES!W40),\"\")","v":1065},{"$f":"REFERENTES!S40","v":0},null,38,2869,38,2143,null,null,{"$f":"CONCATENATE(REFERENTES!T38,\"(\",REFERENTES!U38,\")\")","v":"Boca de Rio Capira(IJU-SZ-RIO_CAPIRA)"},{"$f":"REFERENTES!V38","v":58502}]
[null,null,null,null,null,null,null,null,null,null,null,null,null,null,null,null,null,null,null,null,null,null,null,null,{"$f":"IF(AND(REFERENTES!U41<>\"\",          REFERENTES!U41<>96321,    REFERENTES!U41<>96222            ),(REFERENTES!W41),\"\")","v":2139},{"$f":"REFERENTES!S41","v":0},null,39,1065,39,2810,null,null,{"$f":"CONCATENATE(REFERENTES!T39,\"(\",REFERENTES!U39,\")\")","v":"Boca de Rio Virudo(VIRU-ZUS-BOCA_VIRUDO)"},{"$f":"REFERENTES!V39","v":58512}]
[null,null,null,null,null,null,null,null,null,null,null,null,null,null,null,null,null,null,null,null,null,null,null,null,{"$f":"IF(AND(REFERENTES!U42<>\"\",          REFERENTES!U42<>96321,    REFERENTES!U42<>96222            ),(REFERENTES!W42),\"\")","v":2136},{"$f":"REFERENTES!S42","v":0},null,40,2139,40,1104,null,null,{"$f":"CONCATENATE(REFERENTES!T40,\"(\",REFERENTES!U40,\")\")","v":"Bocana(AST-ZP1-BOCA-1)"},{"$f":"REFERENTES!V40","v":41967}]
[null,null,null,null,null,null,null,null,null,null,null,null,null,null,null,null,null,null,null,null,null,null,null,null,{"$f":"IF(AND(REFERENTES!U43<>\"\",          REFERENTES!U43<>96321,    REFERENTES!U43<>96222            ),(REFERENTES!W43),\"\")","v":2144},{"$f":"REFERENTES!S43","v":0},null,41,2136,41,2142,null,null,{"$f":"CONCATENATE(REFERENTES!T41,\"(\",REFERENTES!U41,\")\")","v":"Bocana Asocars -1(BVENT-ZR3-BA-1)"},{"$f":"REFERENTES!V41","v":45883}]
[null,null,null,null,null,null,null,null,null,null,null,null,null,null,null,null,null,null,null,null,null,null,null,null,{"$f":"IF(AND(REFERENTES!U44<>\"\",          REFERENTES!U44<>96321,    REFERENTES!U44<>96222            ),(REFERENTES!W44),\"\")","v":2143},{"$f":"REFERENTES!S44","v":0},null,42,2144,42,1078,null,null,{"$f":"CONCATENATE(REFERENTES!T42,\"(\",REFERENTES!U42,\")\")","v":"Bocana CVC(BVENT-ZR3-BCVC-1)"},{"$f":"REFERENTES!V42","v":45862}]
[null,null,null,null,null,null,null,null,null,null,null,null,null,null,null,null,null,null,null,null,null,null,null,null,{"$f":"IF(AND(REFERENTES!U45<>\"\",          REFERENTES!U45<>96321,    REFERENTES!U45<>96222            ),(REFERENTES!W45),\"\")","v":2810},{"$f":"REFERENTES!S45","v":0},null,43,2143,43,2372,null,null,{"$f":"CONCATENATE(REFERENTES!T43,\"(\",REFERENTES!U43,\")\")","v":"Bocas Tapage -1(TAPAGE-ZR2-BOTAPAJE-1)"},{"$f":"REFERENTES!V43","v":45900}]
[null,null,null,null,null,null,null,null,null,null,null,null,null,null,null,null,null,null,null,null,null,null,null,null,{"$f":"IF(AND(REFERENTES!U46<>\"\",          REFERENTES!U46<>96321,    REFERENTES!U46<>96222            ),(REFERENTES!W46),\"\")","v":1104},{"$f":"REFERENTES!S46","v":0},null,44,2810,44,2046,null,null,{"$f":"CONCATENATE(REFERENTES!T44,\"(\",REFERENTES!U44,\")\")","v":"Bocas de Sequihonda -1(TAPAGE-ZR1-SEQUIHONDA-1)"},{"$f":"REFERENTES!V44","v":45896}]
[null,null,null,null,null,null,null,null,null,null,null,null,null,null,null,null,null,null,null,null,null,null,null,null,{"$f":"IF(AND(REFERENTES!U47<>\"\",          REFERENTES!U47<>96321,    REFERENTES!U47<>96222            ),(REFERENTES!W47),\"\")","v":2142},{"$f":"REFERENTES!S47","v":0},null,45,1104,45,2043,null,null,{"$f":"CONCATENATE(REFERENTES!T45,\"(\",REFERENTES!U45,\")\")","v":"Bocas del Atrato P1(BCATRATO_P1)"},{"$f":"REFERENTES!V45","v":56791}]
[null,null,null,null,null,null,null,null,null,null,null,null,null,null,null,null,null,null,null,null,null,null,null,null,{"$f":"IF(AND(REFERENTES!U48<>\"\",          REFERENTES!U48<>96321,    REFERENTES!U48<>96222            ),(REFERENTES!W48),\"\")","v":1078},{"$f":"REFERENTES!S48","v":0},null,46,2142,46,2042,null,null,{"$f":"CONCATENATE(REFERENTES!T46,\"(\",REFERENTES!U46,\")\")","v":"Bocon(VIRU-SZ1-BOCO-1)"},{"$f":"REFERENTES!V46","v":42113}]
[null,null,null,null,null,null,null,null,null,null,null,null,null,null,null,null,null,null,null,null,null,null,null,null,{"$f":"IF(AND(REFERENTES!U49<>\"\",          REFERENTES!U49<>96321,    REFERENTES!U49<>96222            ),(REFERENTES!W49),\"\")","v":2372},{"$f":"REFERENTES!S49","v":0},null,47,1078,47,2044,null,null,{"$f":"CONCATENATE(REFERENTES!T47,\"(\",REFERENTES!U47,\")\")","v":"Bodegas(ANCHI-ZR1-AB-1)"},{"$f":"REFERENTES!V47","v":45891}]
[null,null,null,null,null,null,null,null,null,null,null,null,null,null,null,null,null,null,null,null,null,null,null,null,{"$f":"IF(AND(REFERENTES!U50<>\"\",          REFERENTES!U50<>96321,    REFERENTES!U50<>96222            ),(REFERENTES!W50),\"\")","v":2046},{"$f":"REFERENTES!S50","v":0},null,48,2372,48,1106,null,null,{"$f":"CONCATENATE(REFERENTES!T48,\"(\",REFERENTES!U48,\")\")","v":"Boquilla-1(JPVI-ZR1-BOQ-1)"},{"$f":"REFERENTES!V48","v":42007}]
[null,null,null,null,null,null,null,null,null,null,null,null,null,null,null,null,null,null,null,null,null,null,null,null,{"$f":"IF(AND(REFERENTES!U51<>\"\",          REFERENTES!U51<>96321,    REFERENTES!U51<>96222            ),(REFERENTES!W51),\"\")","v":2043},{"$f":"REFERENTES!S51","v":0},null,49,2046,49,2060,null,null,{"$f":"CONCATENATE(REFERENTES!T49,\"(\",REFERENTES!U49,\")\")","v":"Buno-1(CORI-ZUS1-Buno-1)"},{"$f":"REFERENTES!V49","v":48444}]
[null,null,null,null,null,null,null,null,null,null,null,null,null,null,null,null,null,null,null,null,null,null,null,null,{"$f":"IF(AND(REFERENTES!U52<>\"\",          REFERENTES!U52<>96321,    REFERENTES!U52<>96222            ),(REFERENTES!W52),\"\")","v":2042},{"$f":"REFERENTES!S52","v":0},null,50,2043,50,2215,null,null,{"$f":"CONCATENATE(REFERENTES!T50,\"(\",REFERENTES!U50,\")\")","v":"Buritaca 2(BUR-ZR1-Buritac2-1)"},{"$f":"REFERENTES!V50","v":45320}]
[null,null,null,null,null,null,null,null,null,null,null,null,null,null,null,null,null,null,null,null,null,null,null,null,{"$f":"IF(AND(REFERENTES!U53<>\"\",          REFERENTES!U53<>96321,    REFERENTES!U53<>96222            ),(REFERENTES!W53),\"\")","v":2044},{"$f":"REFERENTES!S53","v":0},null,51,2042,51,2435,null,null,{"$f":"CONCATENATE(REFERENTES!T51,\"(\",REFERENTES!U51,\")\")","v":"Buritaca 2-1(BUR-ZP1-Buritac2-1)"},{"$f":"REFERENTES!V51","v":45308}]
[null,null,null,null,null,null,null,null,null,null,null,null,null,null,null,null,null,null,null,null,null,null,null,null,{"$f":"IF(AND(REFERENTES!U54<>\"\",          REFERENTES!U54<>96321,    REFERENTES!U54<>96222            ),(REFERENTES!W54),\"\")","v":1106},{"$f":"REFERENTES!S54","v":0},null,52,2044,52,1721,null,null,{"$f":"CONCATENATE(REFERENTES!T52,\"(\",REFERENTES!U52,\")\")","v":"Buritaca ZP 1-1(BUR-ZP1-Buritac1-1)"},{"$f":"REFERENTES!V52","v":45305}]
[null,null,null,null,null,null,null,null,null,null,null,null,null,null,null,null,null,null,null,null,null,null,null,null,{"$f":"IF(AND(REFERENTES!U55<>\"\",          REFERENTES!U55<>96321,    REFERENTES!U55<>96222            ),(REFERENTES!W55),\"\")","v":2060},{"$f":"REFERENTES!S55","v":0},null,53,1106,53,2859,null,null,{"$f":"CONCATENATE(REFERENTES!T53,\"(\",REFERENTES!U53,\")\")","v":"Buritaca ZR 1(BUR-ZR1-Buritc1-1)"},{"$f":"REFERENTES!V53","v":45315}]
[null,null,null,null,null,null,null,null,null,null,null,null,null,null,null,null,null,null,null,null,null,null,null,null,{"$f":"IF(AND(REFERENTES!U56<>\"\",          REFERENTES!U56<>96321,    REFERENTES!U56<>96222            ),(REFERENTES!W56),\"\")","v":2215},{"$f":"REFERENTES!S56","v":0},null,54,2060,54,1099,null,null,{"$f":"CONCATENATE(REFERENTES!T54,\"(\",REFERENTES!U54,\")\")","v":"Caimanero(VIRU-SZ1-CAIM-1)"},{"$f":"REFERENTES!V54","v":42117}]
[null,null,null,null,null,null,null,null,null,null,null,null,null,null,null,null,null,null,null,null,null,null,null,null,{"$f":"IF(AND(REFERENTES!U57<>\"\",          REFERENTES!U57<>96321,    REFERENTES!U57<>96222            ),(REFERENTES!W57),\"\")","v":2435},{"$f":"REFERENTES!S57","v":0},null,55,2215,55,2027,null,null,{"$f":"CONCATENATE(REFERENTES!T55,\"(\",REFERENTES!U55,\")\")","v":"Camino Real(CAMREAL-ZUS1-CAMREAL-1)"},{"$f":"REFERENTES!V55","v":45387}]
[null,null,null,null,null,null,null,null,null,null,null,null,null,null,null,null,null,null,null,null,null,null,null,null,{"$f":"IF(AND(REFERENTES!U58<>\"\",          REFERENTES!U58<>96321,    REFERENTES!U58<>96222            ),(REFERENTES!W58),\"\")","v":1721},{"$f":"REFERENTES!S58","v":0},null,56,2435,56,2157,null,null,{"$f":"CONCATENATE(REFERENTES!T56,\"(\",REFERENTES!U56,\")\")","v":"Cangrejo(MAYO-ZUS1-Can-1)"},{"$f":"REFERENTES!V56","v":46010}]
[null,null,null,null,null,null,null,null,null,null,null,null,null,null,null,null,null,null,null,null,null,null,null,null,{"$f":"IF(AND(REFERENTES!U59<>\"\",          REFERENTES!U59<>96321,    REFERENTES!U59<>96222            ),(REFERENTES!W59),\"\")","v":2859},{"$f":"REFERENTES!S59","v":0},null,57,1721,57,2158,null,null,{"$f":"CONCATENATE(REFERENTES!T57,\"(\",REFERENTES!U57,\")\")","v":"Caño Arteaga(BCISEST-ZUS1-CñArteaga-1)"},{"$f":"REFERENTES!V57","v":48750}]
[null,null,null,null,null,null,null,null,null,null,null,null,null,null,null,null,null,null,null,null,null,null,null,null,{"$f":"IF(AND(REFERENTES!U60<>\"\",          REFERENTES!U60<>96321,    REFERENTES!U60<>96222            ),(REFERENTES!W60),\"\")","v":1099},{"$f":"REFERENTES!S60","v":0},null,58,2859,58,2159,null,null,{"$f":"CONCATENATE(REFERENTES!T58,\"(\",REFERENTES!U58,\")\")","v":"Caño Camaronera -1(BARC-ZUS1-CCAM-1)"},{"$f":"REFERENTES!V58","v":44380}]
[null,null,null,null,null,null,null,null,null,null,null,null,null,null,null,null,null,null,null,null,null,null,null,null,{"$f":"IF(AND(REFERENTES!U61<>\"\",          REFERENTES!U61<>96321,    REFERENTES!U61<>96222            ),(REFERENTES!W61),\"\")","v":2027},{"$f":"REFERENTES!S61","v":0},null,59,1099,59,1997,null,null,{"$f":"CONCATENATE(REFERENTES!T59,\"(\",REFERENTES!U59,\")\")","v":"Caño Carmelina(MARRI-SZ-CARME)"},{"$f":"REFERENTES!V59","v":58472}]
[null,null,null,null,null,null,null,null,null,null,null,null,null,null,null,null,null,null,null,null,null,null,null,null,{"$f":"IF(AND(REFERENTES!U62<>\"\",          REFERENTES!U62<>96321,    REFERENTES!U62<>96222            ),(REFERENTES!W62),\"\")","v":2157},{"$f":"REFERENTES!S62","v":0},null,60,2027,60,1729,null,null,{"$f":"CONCATENATE(REFERENTES!T60,\"(\",REFERENTES!U60,\")\")","v":"Caño Corea -1(TIN-ZR1-EC-1)"},{"$f":"REFERENTES!V60","v":42093}]
[null,null,null,null,null,null,null,null,null,null,null,null,null,null,null,null,null,null,null,null,null,null,null,null,{"$f":"IF(AND(REFERENTES!U63<>\"\",          REFERENTES!U63<>96321,    REFERENTES!U63<>96222            ),(REFERENTES!W63),\"\")","v":2158},{"$f":"REFERENTES!S63","v":0},null,61,2157,61,1094,null,null,{"$f":"CONCATENATE(REFERENTES!T61,\"(\",REFERENTES!U61,\")\")","v":"Caño Dulce -1(CÑDULC-SZ1-CÑDULC-1)"},{"$f":"REFERENTES!V61","v":45264}]
[null,null,null,null,null,null,null,null,null,null,null,null,null,null,null,null,null,null,null,null,null,null,null,null,{"$f":"IF(AND(REFERENTES!U64<>\"\",          REFERENTES!U64<>96321,    REFERENTES!U64<>96222            ),(REFERENTES!W64),\"\")","v":2159},{"$f":"REFERENTES!S64","v":0},null,62,2158,62,1762,null,null,{"$f":"CONCATENATE(REFERENTES!T62,\"(\",REFERENTES!U62,\")\")","v":"Caño Grande E-1(CGSM-SZ1-CGE-1)"},{"$f":"REFERENTES!V62","v":45930}]
[null,null,null,null,null,null,null,null,null,null,null,null,null,null,null,null,null,null,null,null,null,null,null,null,{"$f":"IF(AND(REFERENTES!U65<>\"\",          REFERENTES!U65<>96321,    REFERENTES!U65<>96222            ),(REFERENTES!W65),\"\")","v":1997},{"$f":"REFERENTES!S65","v":0},null,63,2159,63,1720,null,null,{"$f":"CONCATENATE(REFERENTES!T63,\"(\",REFERENTES!U63,\")\")","v":"Caño Grande E-2(CGSM-SZ1-CGE-2)"},{"$f":"REFERENTES!V63","v":45932}]
[null,null,null,null,null,null,null,null,null,null,null,null,null,null,null,null,null,null,null,null,null,null,null,null,{"$f":"IF(AND(REFERENTES!U66<>\"\",          REFERENTES!U66<>96321,    REFERENTES!U66<>96222            ),(REFERENTES!W66),\"\")","v":1729},{"$f":"REFERENTES!S66","v":0},null,64,1997,64,2004,null,null,{"$f":"CONCATENATE(REFERENTES!T64,\"(\",REFERENTES!U64,\")\")","v":"Caño Grande E-3(CGSM-SZ1-CGE-3)"},{"$f":"REFERENTES!V64","v":45934}]
[null,null,null,null,null,null,null,null,null,null,null,null,null,null,null,null,null,null,null,null,null,null,null,null,{"$f":"IF(AND(REFERENTES!U67<>\"\",          REFERENTES!U67<>96321,    REFERENTES!U67<>96222            ),(REFERENTES!W67),\"\")","v":1094},{"$f":"REFERENTES!S67","v":0},null,65,1729,65,2438,null,null,{"$f":"CONCATENATE(REFERENTES!T65,\"(\",REFERENTES!U65,\")\")","v":"Caño Grande-1(BCISEST-ZUS2-cañogrande-1)"},{"$f":"REFERENTES!V65","v":45072}]
[null,null,null,null,null,null,null,null,null,null,null,null,null,null,null,null,null,null,null,null,null,null,null,null,{"$f":"IF(AND(REFERENTES!U68<>\"\",          REFERENTES!U68<>96321,    REFERENTES!U68<>96222            ),(REFERENTES!W68),\"\")","v":1762},{"$f":"REFERENTES!S68","v":0},null,66,{"$f":"IF(Y71=\"\",0,Y71)","v":1094},{"$f":"IF(AC72=0,MAX($AB$7:$AB$1135)+1,AB72)","v":66},{"$f":"IFERROR(VLOOKUP(SMALL($AD$7:$AD$1135,AB72),$AB$7:$AD$1135,2,FALSE),\"X\")","v":2053},null,null,{"$f":"CONCATENATE(REFERENTES!T66,\"(\",REFERENTES!U66,\")\")","v":"Caño Guacamayas -1(GUAC-ZP1-CGUA-1)"},{"$f":"REFERENTES!V66","v":44410}]
[null,null,null,null,null,null,null,null,null,null,null,null,null,null,null,null,null,null,null,null,null,null,null,null,{"$f":"IF(AND(REFERENTES!U69<>\"\",          REFERENTES!U69<>96321,    REFERENTES!U69<>96222            ),(REFERENTES!W69),\"\")","v":1720},{"$f":"REFERENTES!S69","v":0},null,67,1762,67,1096,null,null,{"$f":"CONCATENATE(REFERENTES!T67,\"(\",REFERENTES!U67,\")\")","v":"Caño La Balsa(LBAL-ZUS1-clb-1)"},{"$f":"REFERENTES!V67","v":42074}]
[null,null,null,null,null,null,null,null,null,null,null,null,null,null,null,null,null,null,null,null,null,null,null,null,{"$f":"IF(AND(REFERENTES!U70<>\"\",          REFERENTES!U70<>96321,    REFERENTES!U70<>96222            ),(REFERENTES!W70),\"\")","v":2004},{"$f":"REFERENTES!S70","v":0},null,68,1720,68,2858,null,null,{"$f":"CONCATENATE(REFERENTES!T68,\"(\",REFERENTES!U68,\")\")","v":"Caño Lequerica(BARB-ZR1-Lequerica-1)"},{"$f":"REFERENTES!V68","v":44504}]
[null,null,null,null,null,null,null,null,null,null,null,null,null,null,null,null,null,null,null,null,null,null,null,null,{"$f":"IF(AND(REFERENTES!U71<>\"\",          REFERENTES!U71<>96321,    REFERENTES!U71<>96222            ),(REFERENTES!W71),\"\")","v":2438},{"$f":"REFERENTES!S71","v":0},null,69,2004,69,1993,null,null,{"$f":"CONCATENATE(REFERENTES!T69,\"(\",REFERENTES!U69,\")\")","v":"Caño Matuna-1(BARC-ZUS1-CMAT-1)"},{"$f":"REFERENTES!V69","v":44378}]
[null,null,null,null,null,null,null,null,null,null,null,null,null,null,null,null,null,null,null,null,null,null,null,null,{"$f":"IF(AND(REFERENTES!U72<>\"\",          REFERENTES!U72<>96321,    REFERENTES!U72<>96222            ),(REFERENTES!W72),\"\")","v":2053},{"$f":"REFERENTES!S72","v":0},null,70,2438,70,2437,null,null,{"$f":"CONCATENATE(REFERENTES!T70,\"(\",REFERENTES!U70,\")\")","v":"Caño Palermo-1(BCISEST-ZUS4-palermo-1)"},{"$f":"REFERENTES!V70","v":45100}]
[null,null,null,null,null,null,null,null,null,null,null,null,null,null,null,null,null,null,null,null,null,null,null,null,{"$f":"IF(AND(REFERENTES!U73<>\"\",          REFERENTES!U73<>96321,    REFERENTES!U73<>96222            ),(REFERENTES!W73),\"\")","v":1096},{"$f":"REFERENTES!S73","v":0},null,71,2053,71,2002,null,null,{"$f":"CONCATENATE(REFERENTES!T71,\"(\",REFERENTES!U71,\")\")","v":"Caño Salado(BCISEST-ZP1-CñSalado-1)"},{"$f":"REFERENTES!V71","v":48758}]
[null,null,null,null,null,null,null,null,null,null,null,null,null,null,null,null,null,null,null,null,null,null,null,null,{"$f":"IF(AND(REFERENTES!U74<>\"\",          REFERENTES!U74<>96321,    REFERENTES!U74<>96222            ),(REFERENTES!W74),\"\")","v":2858},{"$f":"REFERENTES!S74","v":0},null,72,1096,72,1102,null,null,{"$f":"CONCATENATE(REFERENTES!T72,\"(\",REFERENTES!U72,\")\")","v":"Caño Salado -2(BCISEST-ZP1-cañosalado2-1)"},{"$f":"REFERENTES!V72","v":45351}]
[null,null,null,null,null,null,null,null,null,null,null,null,null,null,null,null,null,null,null,null,null,null,null,null,{"$f":"IF(AND(REFERENTES!U75<>\"\",          REFERENTES!U75<>96321,    REFERENTES!U75<>96222            ),(REFERENTES!W75),\"\")","v":1993},{"$f":"REFERENTES!S75","v":0},null,73,2858,73,2367,null,null,{"$f":"CONCATENATE(REFERENTES!T73,\"(\",REFERENTES!U73,\")\")","v":"Caño Salado-1(BCISESTSAL-ZP1-CS-1)"},{"$f":"REFERENTES!V73","v":42083}]
[null,null,null,null,null,null,null,null,null,null,null,null,null,null,null,null,null,null,null,null,null,null,null,null,{"$f":"IF(AND(REFERENTES!U76<>\"\",          REFERENTES!U76<>96321,    REFERENTES!U76<>96222            ),(REFERENTES!W76),\"\")","v":2437},{"$f":"REFERENTES!S76","v":0},null,74,1993,74,1730,null,null,{"$f":"CONCATENATE(REFERENTES!T74,\"(\",REFERENTES!U74,\")\")","v":"Caño Tarena(TARE-ZP-CATA)"},{"$f":"REFERENTES!V74","v":58468}]
[null,null,null,null,null,null,null,null,null,null,null,null,null,null,null,null,null,null,null,null,null,null,null,null,{"$f":"IF(AND(REFERENTES!U77<>\"\",          REFERENTES!U77<>96321,    REFERENTES!U77<>96222            ),(REFERENTES!W77),\"\")","v":2002},{"$f":"REFERENTES!S77","v":0},null,75,2437,75,1995,null,null,{"$f":"CONCATENATE(REFERENTES!T75,\"(\",REFERENTES!U75,\")\")","v":"Caño Tijo-1(BCISLIT-ZUS1-TIJO-1)"},{"$f":"REFERENTES!V75","v":45008}]
[null,null,null,null,null,null,null,null,null,null,null,null,null,null,null,null,null,null,null,null,null,null,null,null,{"$f":"IF(AND(REFERENTES!U78<>\"\",          REFERENTES!U78<>96321,    REFERENTES!U78<>96222            ),(REFERENTES!W78),\"\")","v":1102},{"$f":"REFERENTES!S78","v":0},null,76,2002,76,1062,null,null,{"$f":"CONCATENATE(REFERENTES!T76,\"(\",REFERENTES!U76,\")\")","v":"Caño Tijo-1(CSISPIE-ZUS1-CñTijo-1)"},{"$f":"REFERENTES!V76","v":48755}]
[null,null,null,null,null,null,null,null,null,null,null,null,null,null,null,null,null,null,null,null,null,null,null,null,{"$f":"IF(AND(REFERENTES!U79<>\"\",          REFERENTES!U79<>96321,    REFERENTES!U79<>96222            ),(REFERENTES!W79),\"\")","v":2367},{"$f":"REFERENTES!S79","v":0},null,77,1102,77,2879,null,null,{"$f":"CONCATENATE(REFERENTES!T77,\"(\",REFERENTES!U77,\")\")","v":"Caño Tijo-2(BCISEST-ZR1-eltijo2-1)"},{"$f":"REFERENTES!V77","v":45095}]
[null,null,null,null,null,null,null,null,null,null,null,null,null,null,null,null,null,null,null,null,null,null,null,null,{"$f":"IF(AND(REFERENTES!U80<>\"\",          REFERENTES!U80<>96321,    REFERENTES!U80<>96222            ),(REFERENTES!W80),\"\")","v":1730},{"$f":"REFERENTES!S80","v":0},null,78,2367,78,2849,null,null,{"$f":"CONCATENATE(REFERENTES!T78,\"(\",REFERENTES!U78,\")\")","v":"Caño Tijó(BCISEST-ZR1-Tijó-1)"},{"$f":"REFERENTES!V78","v":42103}]
[null,null,null,null,null,null,null,null,null,null,null,null,null,null,null,null,null,null,null,null,null,null,null,null,{"$f":"IF(AND(REFERENTES!U81<>\"\",          REFERENTES!U81<>96321,    REFERENTES!U81<>96222            ),(REFERENTES!W81),\"\")","v":1995},{"$f":"REFERENTES!S81","v":0},null,79,1730,79,2846,null,null,{"$f":"CONCATENATE(REFERENTES!T79,\"(\",REFERENTES!U79,\")\")","v":"Caño Urabalito -1(CORI-ZR1-Cura-1)"},{"$f":"REFERENTES!V79","v":48429}]
[null,null,null,null,null,null,null,null,null,null,null,null,null,null,null,null,null,null,null,null,null,null,null,null,{"$f":"IF(AND(REFERENTES!U82<>\"\",          REFERENTES!U82<>96321,    REFERENTES!U82<>96222            ),(REFERENTES!W82),\"\")","v":1062},{"$f":"REFERENTES!S82","v":0},null,80,1995,80,2890,null,null,{"$f":"CONCATENATE(REFERENTES!T80,\"(\",REFERENTES!U80,\")\")","v":"Caño el Frances -1(FRAN-ZR1-BCFRA-1)"},{"$f":"REFERENTES!V80","v":44414}]
[null,null,null,null,null,null,null,null,null,null,null,null,null,null,null,null,null,null,null,null,null,null,null,null,{"$f":"IF(AND(REFERENTES!U83<>\"\",          REFERENTES!U83<>96321,    REFERENTES!U83<>96222            ),(REFERENTES!W83),\"\")","v":2879},{"$f":"REFERENTES!S83","v":0},null,81,1062,81,2128,null,null,{"$f":"CONCATENATE(REFERENTES!T81,\"(\",REFERENTES!U81,\")\")","v":"Caño el Nene -1(CCISinu-ZUS1-elnene-1)"},{"$f":"REFERENTES!V81","v":45040}]
[null,null,null,null,null,null,null,null,null,null,null,null,null,null,null,null,null,null,null,null,null,null,null,null,{"$f":"IF(AND(REFERENTES!U84<>\"\",          REFERENTES!U84<>96321,    REFERENTES!U84<>96222            ),(REFERENTES!W84),\"\")","v":2849},{"$f":"REFERENTES!S84","v":0},null,82,2879,82,1132,null,null,{"$f":"CONCATENATE(REFERENTES!T82,\"(\",REFERENTES!U82,\")\")","v":"CañoTubo(CNGMLLQ-ZP1-CATO-1)"},{"$f":"REFERENTES!V82","v":41954}]
[null,null,null,null,null,null,null,null,null,null,null,null,null,null,null,null,null,null,null,null,null,null,null,null,{"$f":"IF(AND(REFERENTES!U85<>\"\",          REFERENTES!U85<>96321,    REFERENTES!U85<>96222            ),(REFERENTES!W85),\"\")","v":2846},{"$f":"REFERENTES!S85","v":0},null,83,2849,83,1787,null,null,{"$f":"CONCATENATE(REFERENTES!T83,\"(\",REFERENTES!U83,\")\")","v":"Cementerio(NUQUI-ZR-CEMENTERIO)"},{"$f":"REFERENTES!V83","v":58561}]
[null,null,null,null,null,null,null,null,null,null,null,null,null,null,null,null,null,null,null,null,null,null,null,null,{"$f":"IF(AND(REFERENTES!U86<>\"\",          REFERENTES!U86<>96321,    REFERENTES!U86<>96222            ),(REFERENTES!W86),\"\")","v":2890},{"$f":"REFERENTES!S86","v":0},null,84,2846,84,2863,null,null,{"$f":"CONCATENATE(REFERENTES!T84,\"(\",REFERENTES!U84,\")\")","v":"Centro(CENTRO_JON)"},{"$f":"REFERENTES!V84","v":58102}]
[null,null,null,null,null,null,null,null,null,null,null,null,null,null,null,null,null,null,null,null,null,null,null,null,{"$f":"IF(AND(REFERENTES!U87<>\"\",          REFERENTES!U87<>96321,    REFERENTES!U87<>96222            ),(REFERENTES!W87),\"\")","v":2128},{"$f":"REFERENTES!S87","v":0},null,85,2890,85,1791,null,null,{"$f":"CONCATENATE(REFERENTES!T85,\"(\",REFERENTES!U85,\")\")","v":"Centro(CENTRO_SAN)"},{"$f":"REFERENTES!V85","v":58126}]
[null,null,null,null,null,null,null,null,null,null,null,null,null,null,null,null,null,null,null,null,null,null,null,null,{"$f":"IF(AND(REFERENTES!U88<>\"\",          REFERENTES!U88<>96321,    REFERENTES!U88<>96222            ),(REFERENTES!W88),\"\")","v":1132},{"$f":"REFERENTES!S88","v":0},null,86,2128,86,1728,null,null,{"$f":"CONCATENATE(REFERENTES!T86,\"(\",REFERENTES!U86,\")\")","v":"Cerro Punta Piedra - Fray Domingo(CERROPI-ZP-CERRO_PIEDRA)"},{"$f":"REFERENTES!V86","v":58611}]
[null,null,null,null,null,null,null,null,null,null,null,null,null,null,null,null,null,null,null,null,null,null,null,null,{"$f":"IF(AND(REFERENTES!U89<>\"\",          REFERENTES!U89<>96321,    REFERENTES!U89<>96222            ),(REFERENTES!W89),\"\")","v":1787},{"$f":"REFERENTES!S89","v":0},null,87,1132,87,1718,null,null,{"$f":"CONCATENATE(REFERENTES!T87,\"(\",REFERENTES!U87,\")\")","v":"Chamuscado(BNAY-ZUS3-NC-1)"},{"$f":"REFERENTES!V87","v":45821}]
[null,null,null,null,null,null,null,null,null,null,null,null,null,null,null,null,null,null,null,null,null,null,null,null,{"$f":"IF(AND(REFERENTES!U90<>\"\",          REFERENTES!U90<>96321,    REFERENTES!U90<>96222            ),(REFERENTES!W90),\"\")","v":2863},{"$f":"REFERENTES!S90","v":0},null,88,1787,88,1732,null,null,{"$f":"CONCATENATE(REFERENTES!T88,\"(\",REFERENTES!U88,\")\")","v":"Chichiman -1(PCOM-ZR1-Chichi-1)"},{"$f":"REFERENTES!V88","v":42181}]
[null,null,null,null,null,null,null,null,null,null,null,null,null,null,null,null,null,null,null,null,null,null,null,null,{"$f":"IF(AND(REFERENTES!U91<>\"\",          REFERENTES!U91<>96321,    REFERENTES!U91<>96222            ),(REFERENTES!W91),\"\")","v":1791},{"$f":"REFERENTES!S91","v":0},null,89,2863,89,1996,null,null,{"$f":"CONCATENATE(REFERENTES!T89,\"(\",REFERENTES!U89,\")\")","v":"Cholon-1(BARU-ZR1-Cholón-1)"},{"$f":"REFERENTES!V89","v":44585}]
[null,null,null,null,null,null,null,null,null,null,null,null,null,null,null,null,null,null,null,null,null,null,null,null,{"$f":"IF(AND(REFERENTES!U92<>\"\",          REFERENTES!U92<>96321,    REFERENTES!U92<>96222            ),(REFERENTES!W92),\"\")","v":1728},{"$f":"REFERENTES!S92","v":0},null,90,1791,90,1998,null,null,{"$f":"CONCATENATE(REFERENTES!T90,\"(\",REFERENTES!U90,\")\")","v":"Chuza Chuza(SI-SZ-CHUZA)"},{"$f":"REFERENTES!V90","v":58497}]
[null,null,null,null,null,null,null,null,null,null,null,null,null,null,null,null,null,null,null,null,null,null,null,null,{"$f":"IF(AND(REFERENTES!U93<>\"\",          REFERENTES!U93<>96321,    REFERENTES!U93<>96222            ),(REFERENTES!W93),\"\")","v":1718},{"$f":"REFERENTES!S93","v":0},null,91,1728,91,2016,null,null,{"$f":"CONCATENATE(REFERENTES!T91,\"(\",REFERENTES!U91,\")\")","v":"Cienaga El Picon-1(TBOM-ZP1-Picón-1)"},{"$f":"REFERENTES!V91","v":44598}]
[null,null,null,null,null,null,null,null,null,null,null,null,null,null,null,null,null,null,null,null,null,null,null,null,{"$f":"IF(AND(REFERENTES!U94<>\"\",          REFERENTES!U94<>96321,    REFERENTES!U94<>96222            ),(REFERENTES!W94),\"\")","v":1732},{"$f":"REFERENTES!S94","v":0},null,92,1718,92,2008,null,null,{"$f":"CONCATENATE(REFERENTES!T92,\"(\",REFERENTES!U92,\")\")","v":"Ciénaga Ana Gomez-2(CANG-ZR1-CANG-2)"},{"$f":"REFERENTES!V92","v":44407}]
[null,null,null,null,null,null,null,null,null,null,null,null,null,null,null,null,null,null,null,null,null,null,null,null,{"$f":"IF(AND(REFERENTES!U95<>\"\",          REFERENTES!U95<>96321,    REFERENTES!U95<>96222            ),(REFERENTES!W95),\"\")","v":1996},{"$f":"REFERENTES!S95","v":0},null,93,1732,93,2436,null,null,{"$f":"CONCATENATE(REFERENTES!T93,\"(\",REFERENTES!U93,\")\")","v":"Ciénaga Benitez-1(CBEN-ZR1-CBEN-1)"},{"$f":"REFERENTES!V93","v":44369}]
[null,null,null,null,null,null,null,null,null,null,null,null,null,null,null,null,null,null,null,null,null,null,null,null,{"$f":"IF(AND(REFERENTES!U96<>\"\",          REFERENTES!U96<>96321,    REFERENTES!U96<>96222            ),(REFERENTES!W96),\"\")","v":1998},{"$f":"REFERENTES!S96","v":0},null,94,1996,94,2440,null,null,{"$f":"CONCATENATE(REFERENTES!T94,\"(\",REFERENTES!U94,\")\")","v":"Ciénaga Caimanera -1(CCAIM-ZUS1-CCAIM-1)"},{"$f":"REFERENTES!V94","v":44422}]
[null,null,null,null,null,null,null,null,null,null,null,null,null,null,null,null,null,null,null,null,null,null,null,null,{"$f":"IF(AND(REFERENTES!U97<>\"\",          REFERENTES!U97<>96321,    REFERENTES!U97<>96222            ),(REFERENTES!W97),\"\")","v":2016},{"$f":"REFERENTES!S97","v":0},null,95,1998,95,2009,null,null,{"$f":"CONCATENATE(REFERENTES!T95,\"(\",REFERENTES!U95,\")\")","v":"Ciénaga El Garzal -1(BCISEST-ZR1-elgarzal-1)"},{"$f":"REFERENTES!V95","v":45054}]
[null,null,null,null,null,null,null,null,null,null,null,null,null,null,null,null,null,null,null,null,null,null,null,null,{"$f":"IF(AND(REFERENTES!U98<>\"\",          REFERENTES!U98<>96321,    REFERENTES!U98<>96222            ),(REFERENTES!W98),\"\")","v":2008},{"$f":"REFERENTES!S98","v":0},null,96,2016,96,2013,null,null,{"$f":"CONCATENATE(REFERENTES!T96,\"(\",REFERENTES!U96,\")\")","v":"Ciénaga El Garzal -2(BCISEST-ZR1-elgarzal-2)"},{"$f":"REFERENTES!V96","v":45078}]
[null,null,null,null,null,null,null,null,null,null,null,null,null,null,null,null,null,null,null,null,null,null,null,null,{"$f":"IF(AND(REFERENTES!U99<>\"\",          REFERENTES!U99<>96321,    REFERENTES!U99<>96222            ),(REFERENTES!W99),\"\")","v":2436},{"$f":"REFERENTES!S99","v":0},null,97,2008,97,2010,null,null,{"$f":"CONCATENATE(REFERENTES!T97,\"(\",REFERENTES!U97,\")\")","v":"Ciénaga El Garzal-3(BCISEST-ZUS1-elgarzal3-1)"},{"$f":"REFERENTES!V97","v":45145}]
[null,null,null,null,null,null,null,null,null,null,null,null,null,null,null,null,null,null,null,null,null,null,null,null,{"$f":"IF(AND(REFERENTES!U100<>\"\",          REFERENTES!U100<>96321,    REFERENTES!U100<>96222            ),(REFERENTES!W100),\"\")","v":2440},{"$f":"REFERENTES!S100","v":0},null,98,2436,98,2015,null,null,{"$f":"CONCATENATE(REFERENTES!T98,\"(\",REFERENTES!U98,\")\")","v":"Ciénaga Galo(BCISEST-ZR1-golo-1)"},{"$f":"REFERENTES!V98","v":45118}]
[null,null,null,null,null,null,null,null,null,null,null,null,null,null,null,null,null,null,null,null,null,null,null,null,{"$f":"IF(AND(REFERENTES!U101<>\"\",          REFERENTES!U101<>96321,    REFERENTES!U101<>96222            ),(REFERENTES!W101),\"\")","v":2009},{"$f":"REFERENTES!S101","v":0},null,99,2440,99,2092,null,null,{"$f":"CONCATENATE(REFERENTES!T99,\"(\",REFERENTES!U99,\")\")","v":"Ciénaga Galo(BCISEST-ZUS1-CgGalo-1)"},{"$f":"REFERENTES!V99","v":48753}]
[null,null,null,null,null,null,null,null,null,null,null,null,null,null,null,null,null,null,null,null,null,null,null,null,{"$f":"IF(AND(REFERENTES!U102<>\"\",          REFERENTES!U102<>96321,    REFERENTES!U102<>96222            ),(REFERENTES!W102),\"\")","v":2013},{"$f":"REFERENTES!S102","v":0},null,100,2009,100,2095,null,null,{"$f":"CONCATENATE(REFERENTES!T100,\"(\",REFERENTES!U100,\")\")","v":"Ciénaga Mestizos-1(BCISLIT-ZP1-CgMestizo-1)"},{"$f":"REFERENTES!V100","v":48766}]
[null,null,null,null,null,null,null,null,null,null,null,null,null,null,null,null,null,null,null,null,null,null,null,null,{"$f":"IF(AND(REFERENTES!U103<>\"\",          REFERENTES!U103<>96321,    REFERENTES!U103<>96222            ),(REFERENTES!W103),\"\")","v":2010},{"$f":"REFERENTES!S103","v":0},null,101,2013,101,2891,null,null,{"$f":"CONCATENATE(REFERENTES!T101,\"(\",REFERENTES!U101,\")\")","v":"Ciénaga Ostional-1(BCISEST-ZUS2-ostional-1)"},{"$f":"REFERENTES!V101","v":45121}]
[null,null,null,null,null,null,null,null,null,null,null,null,null,null,null,null,null,null,null,null,null,null,null,null,{"$f":"IF(AND(REFERENTES!U104<>\"\",          REFERENTES!U104<>96321,    REFERENTES!U104<>96222            ),(REFERENTES!W104),\"\")","v":2015},{"$f":"REFERENTES!S104","v":0},null,102,2010,102,2441,null,null,{"$f":"CONCATENATE(REFERENTES!T102,\"(\",REFERENTES!U102,\")\")","v":"Ciénaga Remedia Pobre-1(BCISEST-ZUS1-remediapobre-1)"},{"$f":"REFERENTES!V102","v":45136}]
[null,null,null,null,null,null,null,null,null,null,null,null,null,null,null,null,null,null,null,null,null,null,null,null,{"$f":"IF(AND(REFERENTES!U105<>\"\",          REFERENTES!U105<>96321,    REFERENTES!U105<>96222            ),(REFERENTES!W105),\"\")","v":2092},{"$f":"REFERENTES!S105","v":0},null,103,2015,103,683,null,null,{"$f":"CONCATENATE(REFERENTES!T103,\"(\",REFERENTES!U103,\")\")","v":"Ciénaga Rincon Grillo-1(BCISEST-ZUS4-elgrillo-1)"},{"$f":"REFERENTES!V103","v":45125}]
[null,null,null,null,null,null,null,null,null,null,null,null,null,null,null,null,null,null,null,null,null,null,null,null,{"$f":"IF(AND(REFERENTES!U106<>\"\",          REFERENTES!U106<>96321,    REFERENTES!U106<>96222            ),(REFERENTES!W106),\"\")","v":2095},{"$f":"REFERENTES!S106","v":0},null,104,2092,104,2574,null,null,{"$f":"CONCATENATE(REFERENTES!T104,\"(\",REFERENTES!U104,\")\")","v":"Ciénaga Soledad(BCISEST-ZR1-soledad-1)"},{"$f":"REFERENTES!V104","v":45142}]
[null,null,null,null,null,null,null,null,null,null,null,null,null,null,null,null,null,null,null,null,null,null,null,null,{"$f":"IF(AND(REFERENTES!U107<>\"\",          REFERENTES!U107<>96321,    REFERENTES!U107<>96222            ),(REFERENTES!W107),\"\")","v":2891},{"$f":"REFERENTES!S107","v":0},null,105,2095,105,2573,null,null,{"$f":"CONCATENATE(REFERENTES!T105,\"(\",REFERENTES!U105,\")\")","v":"Ciénaga de Balboa(CIEBALBO_ZP_CIE_BALBO)"},{"$f":"REFERENTES!V105","v":45517}]
[null,null,null,null,null,null,null,null,null,null,null,null,null,null,null,null,null,null,null,null,null,null,null,null,{"$f":"IF(AND(REFERENTES!U108<>\"\",          REFERENTES!U108<>96321,    REFERENTES!U108<>96222            ),(REFERENTES!W108),\"\")","v":2441},{"$f":"REFERENTES!S108","v":0},null,106,2891,106,2041,null,null,{"$f":"CONCATENATE(REFERENTES!T106,\"(\",REFERENTES!U106,\")\")","v":"Ciénaga de Mallorquin(CIEMALLOR-ZP-CIE_MALLOR)"},{"$f":"REFERENTES!V106","v":45523}]
[null,null,null,null,null,null,null,null,null,null,null,null,null,null,null,null,null,null,null,null,null,null,null,null,{"$f":"IF(AND(REFERENTES!U109<>\"\",          REFERENTES!U109<>96321,    REFERENTES!U109<>96222            ),(REFERENTES!W109),\"\")","v":683},{"$f":"REFERENTES!S109","v":0},null,107,2441,107,2040,null,null,{"$f":"CONCATENATE(REFERENTES!T107,\"(\",REFERENTES!U107,\")\")","v":"Ciénaga del Totumo(CIETOTUMO-ZP-CIE_TOTU)"},{"$f":"REFERENTES!V107","v":58616}]
[null,null,null,null,null,null,null,null,null,null,null,null,null,null,null,null,null,null,null,null,null,null,null,null,{"$f":"IF(AND(REFERENTES!U110<>\"\",          REFERENTES!U110<>96321,    REFERENTES!U110<>96222            ),(REFERENTES!W110),\"\")","v":2574},{"$f":"REFERENTES!S110","v":0},null,108,683,108,2085,null,null,{"$f":"CONCATENATE(REFERENTES!T108,\"(\",REFERENTES!U108,\")\")","v":"Ciénaga la Balsa-1(BCISLIT-ZUS1-CñBalsa-1)"},{"$f":"REFERENTES!V108","v":48769}]
[null,null,null,null,null,null,null,null,null,null,null,null,null,null,null,null,null,null,null,null,null,null,null,null,{"$f":"IF(AND(REFERENTES!U111<>\"\",          REFERENTES!U111<>96321,    REFERENTES!U111<>96222            ),(REFERENTES!W111),\"\")","v":0},{"$f":"REFERENTES!S111","v":0},null,109,2574,109,2867,null,null,{"$f":"CONCATENATE(REFERENTES!T109,\"(\",REFERENTES!U109,\")\")","v":"Ciénaga los Manatíes(CIEMANATIES-ZP-CIE_MANATIES)"},{"$f":"REFERENTES!V109","v":40907}]
[null,null,null,null,null,null,null,null,null,null,null,null,null,null,null,null,null,null,null,null,null,null,null,null,{"$f":"IF(AND(REFERENTES!U112<>\"\",          REFERENTES!U112<>96321,    REFERENTES!U112<>96222            ),(REFERENTES!W112),\"\")","v":0},{"$f":"REFERENTES!S112","v":0},null,110,0,1130,2828,null,null,{"$f":"CONCATENATE(REFERENTES!T110,\"(\",REFERENTES!U110,\")\")","v":"Cocoplum -1(COCO-ZR1-CO-1)"},{"$f":"REFERENTES!V110","v":49196}]
[null,null,null,null,null,null,null,null,null,null,null,null,null,null,null,null,null,null,null,null,null,null,null,null,{"$f":"IF(AND(REFERENTES!U113<>\"\",          REFERENTES!U113<>96321,    REFERENTES!U113<>96222            ),(REFERENTES!W113),\"\")","v":2573},{"$f":"REFERENTES!S113","v":0},null,111,0,1130,2829,null,null,{"$f":"CONCATENATE(REFERENTES!T111,\"(\",REFERENTES!U111,\")\")","v":"Cocoplum -2(CocoplumPPC-2)"},{"$f":"REFERENTES!V111","v":55552}]
[null,null,null,null,null,null,null,null,null,null,null,null,null,null,null,null,null,null,null,null,null,null,null,null,{"$f":"IF(AND(REFERENTES!U114<>\"\",          REFERENTES!U114<>96321,    REFERENTES!U114<>96222            ),(REFERENTES!W114),\"\")","v":2041},{"$f":"REFERENTES!S114","v":0},null,112,2573,112,2830,null,null,{"$f":"CONCATENATE(REFERENTES!T112,\"(\",REFERENTES!U112,\")\")","v":"Cocoplum -3(CocoplumPPC-3)"},{"$f":"REFERENTES!V112","v":55553}]
[null,null,null,null,null,null,null,null,null,null,null,null,null,null,null,null,null,null,null,null,null,null,null,null,{"$f":"IF(AND(REFERENTES!U115<>\"\",          REFERENTES!U115<>96321,    REFERENTES!U115<>96222            ),(REFERENTES!W115),\"\")","v":2040},{"$f":"REFERENTES!S115","v":0},null,113,2041,113,2817,null,null,{"$f":"CONCATENATE(REFERENTES!T113,\"(\",REFERENTES!U113,\")\")","v":"Cocoplum -4(COCO-ZP1-CO-4)"},{"$f":"REFERENTES!V113","v":49192}]
[null,null,null,null,null,null,null,null,null,null,null,null,null,null,null,null,null,null,null,null,null,null,null,null,{"$f":"IF(AND(REFERENTES!U116<>\"\",          REFERENTES!U116<>96321,    REFERENTES!U116<>96222            ),(REFERENTES!W116),\"\")","v":2085},{"$f":"REFERENTES!S116","v":0},null,114,2040,114,2818,null,null,{"$f":"CONCATENATE(REFERENTES!T114,\"(\",REFERENTES!U114,\")\")","v":"Costa Verde P-1(COR-ZP1-CtaVerde-1)"},{"$f":"REFERENTES!V114","v":45301}]
[null,null,null,null,null,null,null,null,null,null,null,null,null,null,null,null,null,null,null,null,null,null,null,null,{"$f":"IF(AND(REFERENTES!U117<>\"\",          REFERENTES!U117<>96321,    REFERENTES!U117<>96222            ),(REFERENTES!W117),\"\")","v":2867},{"$f":"REFERENTES!S117","v":0},null,115,2085,115,2819,null,null,{"$f":"CONCATENATE(REFERENTES!T115,\"(\",REFERENTES!U115,\")\")","v":"Costa Verde R-1(COR-ZR1-CtaVerde-1)"},{"$f":"REFERENTES!V115","v":45297}]
[null,null,null,null,null,null,null,null,null,null,null,null,null,null,null,null,null,null,null,null,null,null,null,null,{"$f":"IF(AND(REFERENTES!U118<>\"\",          REFERENTES!U118<>96321,    REFERENTES!U118<>96222            ),(REFERENTES!W118),\"\")","v":2828},{"$f":"REFERENTES!S118","v":0},null,116,2867,116,2825,null,null,{"$f":"CONCATENATE(REFERENTES!T116,\"(\",REFERENTES!U116,\")\")","v":"Cuerval(CUER-ZP2-CUERVAL-1)"},{"$f":"REFERENTES!V116","v":45489}]
[null,null,null,null,null,null,null,null,null,null,null,null,null,null,null,null,null,null,null,null,null,null,null,null,{"$f":"IF(AND(REFERENTES!U119<>\"\",          REFERENTES!U119<>96321,    REFERENTES!U119<>96222            ),(REFERENTES!W119),\"\")","v":2829},{"$f":"REFERENTES!S119","v":0},null,117,2828,117,2826,null,null,{"$f":"CONCATENATE(REFERENTES!T117,\"(\",REFERENTES!U117,\")\")","v":"Cuerval de Antoliano(DOCAM-SZ-ANTOLIANO)"},{"$f":"REFERENTES!V117","v":58507}]
[null,null,null,null,null,null,null,null,null,null,null,null,null,null,null,null,null,null,null,null,null,null,null,null,{"$f":"IF(AND(REFERENTES!U120<>\"\",          REFERENTES!U120<>96321,    REFERENTES!U120<>96222            ),(REFERENTES!W120),\"\")","v":2830},{"$f":"REFERENTES!S120","v":0},null,118,2829,118,2827,null,null,{"$f":"CONCATENATE(REFERENTES!T118,\"(\",REFERENTES!U118,\")\")","v":"DCI Clarin Parcela1(DCI_P1)"},{"$f":"REFERENTES!V118","v":58076}]
[null,null,null,null,null,null,null,null,null,null,null,null,null,null,null,null,null,null,null,null,null,null,null,null,{"$f":"IF(AND(REFERENTES!U121<>\"\",          REFERENTES!U121<>96321,    REFERENTES!U121<>96222            ),(REFERENTES!W121),\"\")","v":2817},{"$f":"REFERENTES!S121","v":0},null,119,2830,119,2820,null,null,{"$f":"CONCATENATE(REFERENTES!T119,\"(\",REFERENTES!U119,\")\")","v":"DCI Clarin Parcela2(DCI_P2)"},{"$f":"REFERENTES!V119","v":58077}]
[null,null,null,null,null,null,null,null,null,null,null,null,null,null,null,null,null,null,null,null,null,null,null,null,{"$f":"IF(AND(REFERENTES!U122<>\"\",          REFERENTES!U122<>96321,    REFERENTES!U122<>96222            ),(REFERENTES!W122),\"\")","v":2818},{"$f":"REFERENTES!S122","v":0},null,120,2817,120,2821,null,null,{"$f":"CONCATENATE(REFERENTES!T120,\"(\",REFERENTES!U120,\")\")","v":"DCI Clarin Parcela3(DCI_P3)"},{"$f":"REFERENTES!V120","v":58078}]
[null,null,null,null,null,null,null,null,null,null,null,null,null,null,null,null,null,null,null,null,null,null,null,null,{"$f":"IF(AND(REFERENTES!U123<>\"\",          REFERENTES!U123<>96321,    REFERENTES!U123<>96222            ),(REFERENTES!W123),\"\")","v":2819},{"$f":"REFERENTES!S123","v":0},null,121,2818,121,2822,null,null,{"$f":"CONCATENATE(REFERENTES!T121,\"(\",REFERENTES!U121,\")\")","v":"DCI Cuerval Parcela1(DCI_P1)"},{"$f":"REFERENTES!V121","v":58060}]
[null,null,null,null,null,null,null,null,null,null,null,null,null,null,null,null,null,null,null,null,null,null,null,null,{"$f":"IF(AND(REFERENTES!U124<>\"\",          REFERENTES!U124<>96321,    REFERENTES!U124<>96222            ),(REFERENTES!W124),\"\")","v":2825},{"$f":"REFERENTES!S124","v":0},null,122,2819,122,2048,null,null,{"$f":"CONCATENATE(REFERENTES!T122,\"(\",REFERENTES!U122,\")\")","v":"DCI Cuerval Parcela2(DCI_P2)"},{"$f":"REFERENTES!V122","v":58061}]
[null,null,null,null,null,null,null,null,null,null,null,null,null,null,null,null,null,null,null,null,null,null,null,null,{"$f":"IF(AND(REFERENTES!U125<>\"\",          REFERENTES!U125<>96321,    REFERENTES!U125<>96222            ),(REFERENTES!W125),\"\")","v":2826},{"$f":"REFERENTES!S125","v":0},null,123,2825,123,2047,null,null,{"$f":"CONCATENATE(REFERENTES!T123,\"(\",REFERENTES!U123,\")\")","v":"DCI Cuerval Parcela3(DCI_P3)"},{"$f":"REFERENTES!V123","v":58062}]
[null,null,null,null,null,null,null,null,null,null,null,null,null,null,null,null,null,null,null,null,null,null,null,null,{"$f":"IF(AND(REFERENTES!U126<>\"\",          REFERENTES!U126<>96321,    REFERENTES!U126<>96222            ),(REFERENTES!W126),\"\")","v":2827},{"$f":"REFERENTES!S126","v":0},null,124,2826,124,2049,null,null,{"$f":"CONCATENATE(REFERENTES!T124,\"(\",REFERENTES!U124,\")\")","v":"DSI Clarin Parcela1(DSI_P1)"},{"$f":"REFERENTES!V124","v":58072}]
[null,null,null,null,null,null,null,null,null,null,null,null,null,null,null,null,null,null,null,null,null,null,null,null,{"$f":"IF(AND(REFERENTES!U127<>\"\",          REFERENTES!U127<>96321,    REFERENTES!U127<>96222            ),(REFERENTES!W127),\"\")","v":2820},{"$f":"REFERENTES!S127","v":0},null,125,2827,125,2861,null,null,{"$f":"CONCATENATE(REFERENTES!T125,\"(\",REFERENTES!U125,\")\")","v":"DSI Clarin Parcela2(DSI_P2)"},{"$f":"REFERENTES!V125","v":58073}]
[null,null,null,null,null,null,null,null,null,null,null,null,null,null,null,null,null,null,null,null,null,null,null,null,{"$f":"IF(AND(REFERENTES!U128<>\"\",          REFERENTES!U128<>96321,    REFERENTES!U128<>96222            ),(REFERENTES!W128),\"\")","v":2821},{"$f":"REFERENTES!S128","v":0},null,126,2820,126,1804,null,null,{"$f":"CONCATENATE(REFERENTES!T126,\"(\",REFERENTES!U126,\")\")","v":"DSI Clarin Parcela3(DSI_P3)"},{"$f":"REFERENTES!V126","v":58074}]
[null,null,null,null,null,null,null,null,null,null,null,null,null,null,null,null,null,null,null,null,null,null,null,null,{"$f":"IF(AND(REFERENTES!U129<>\"\",          REFERENTES!U129<>96321,    REFERENTES!U129<>96222            ),(REFERENTES!W129),\"\")","v":2822},{"$f":"REFERENTES!S129","v":0},null,127,2821,127,1994,null,null,{"$f":"CONCATENATE(REFERENTES!T127,\"(\",REFERENTES!U127,\")\")","v":"DSI Parcela1(DSI_P1)"},{"$f":"REFERENTES!V127","v":58064}]
[null,null,null,null,null,null,null,null,null,null,null,null,null,null,null,null,null,null,null,null,null,null,null,null,{"$f":"IF(AND(REFERENTES!U130<>\"\",          REFERENTES!U130<>96321,    REFERENTES!U130<>96222            ),(REFERENTES!W130),\"\")","v":2048},{"$f":"REFERENTES!S130","v":0},null,128,2822,128,2501,null,null,{"$f":"CONCATENATE(REFERENTES!T128,\"(\",REFERENTES!U128,\")\")","v":"DSI Parcela2(DSI_P2)"},{"$f":"REFERENTES!V128","v":58065}]
[null,null,null,null,null,null,null,null,null,null,null,null,null,null,null,null,null,null,null,null,null,null,null,null,{"$f":"IF(AND(REFERENTES!U131<>\"\",          REFERENTES!U131<>96321,    REFERENTES!U131<>96222            ),(REFERENTES!W131),\"\")","v":2047},{"$f":"REFERENTES!S131","v":0},null,129,2048,129,2526,null,null,{"$f":"CONCATENATE(REFERENTES!T129,\"(\",REFERENTES!U129,\")\")","v":"DSI Parcela3(DSI_P3)"},{"$f":"REFERENTES!V129","v":58066}]
[null,null,null,null,null,null,null,null,null,null,null,null,null,null,null,null,null,null,null,null,null,null,null,null,{"$f":"IF(AND(REFERENTES!U132<>\"\",          REFERENTES!U132<>96321,    REFERENTES!U132<>96222            ),(REFERENTES!W132),\"\")","v":2049},{"$f":"REFERENTES!S132","v":0},null,130,{"$f":"IF(Y135=\"\",0,Y135)","v":2047},{"$f":"IF(AC136=0,MAX($AB$7:$AB$1135)+1,AB136)","v":130},{"$f":"IFERROR(VLOOKUP(SMALL($AD$7:$AD$1135,AB136),$AB$7:$AD$1135,2,FALSE),\"X\")","v":1789},null,null,{"$f":"CONCATENATE(REFERENTES!T130,\"(\",REFERENTES!U130,\")\")","v":"Don Diego -1(DDGO-ZR1-DnDieg-1)"},{"$f":"REFERENTES!V130","v":45330}]
[null,null,null,null,null,null,null,null,null,null,null,null,null,null,null,null,null,null,null,null,null,null,null,null,{"$f":"IF(AND(REFERENTES!U133<>\"\",          REFERENTES!U133<>96321,    REFERENTES!U133<>96222            ),(REFERENTES!W133),\"\")","v":2861},{"$f":"REFERENTES!S133","v":0},null,131,2049,131,2145,null,null,{"$f":"CONCATENATE(REFERENTES!T131,\"(\",REFERENTES!U131,\")\")","v":"Don Diego-1(DDGO-ZP2-DnDieg-1)"},{"$f":"REFERENTES!V131","v":45326}]
[null,null,null,null,null,null,null,null,null,null,null,null,null,null,null,null,null,null,null,null,null,null,null,null,{"$f":"IF(AND(REFERENTES!U134<>\"\",          REFERENTES!U134<>96321,    REFERENTES!U134<>96222            ),(REFERENTES!W134),\"\")","v":1804},{"$f":"REFERENTES!S134","v":0},null,132,2861,132,2883,null,null,{"$f":"CONCATENATE(REFERENTES!T132,\"(\",REFERENTES!U132,\")\")","v":"Don Diego-2(DDGO-ZR1-DnDieg-2)"},{"$f":"REFERENTES!V132","v":45332}]
[null,null,null,null,null,null,null,null,null,null,null,null,null,null,null,null,null,null,null,null,null,null,null,null,{"$f":"IF(AND(REFERENTES!U135<>\"\",          REFERENTES!U135<>96321,    REFERENTES!U135<>96222            ),(REFERENTES!W135),\"\")","v":1994},{"$f":"REFERENTES!S135","v":0},null,133,1804,133,2064,null,null,{"$f":"CONCATENATE(REFERENTES!T133,\"(\",REFERENTES!U133,\")\")","v":"Dotenedo(DOTE-SZ-DOTE)"},{"$f":"REFERENTES!V133","v":58492}]
[null,null,null,null,null,null,null,null,null,null,null,null,null,null,null,null,null,null,null,null,null,null,null,null,{"$f":"IF(AND(REFERENTES!U136<>\"\",          REFERENTES!U136<>96321,    REFERENTES!U136<>96222            ),(REFERENTES!W136),\"\")","v":2501},{"$f":"REFERENTES!S136","v":0},null,134,1994,134,2045,null,null,{"$f":"CONCATENATE(REFERENTES!T134,\"(\",REFERENTES!U134,\")\")","v":"E La Virgen(JPVI-ZR1-VirgenOriente-1)"},{"$f":"REFERENTES!V134","v":44635}]
[null,null,null,null,null,null,null,null,null,null,null,null,null,null,null,null,null,null,null,null,null,null,null,null,{"$f":"IF(AND(REFERENTES!U137<>\"\",          REFERENTES!U137<>96321,    REFERENTES!U137<>96222            ),(REFERENTES!W137),\"\")","v":0},{"$f":"REFERENTES!S137","v":0},null,135,2501,135,2412,null,null,{"$f":"CONCATENATE(REFERENTES!T135,\"(\",REFERENTES!U135,\")\")","v":"El Claval(CCISinu-ZUS1-CLAVAL-1)"},{"$f":"REFERENTES!V135","v":45012}]
[null,null,null,null,null,null,null,null,null,null,null,null,null,null,null,null,null,null,null,null,null,null,null,null,{"$f":"IF(AND(REFERENTES!U138<>\"\",          REFERENTES!U138<>96321,    REFERENTES!U138<>96222            ),(REFERENTES!W138),\"\")","v":2526},{"$f":"REFERENTES!S138","v":0},null,136,0,1130,2680,null,null,{"$f":"CONCATENATE(REFERENTES!T136,\"(\",REFERENTES!U136,\")\")","v":"El Cove -1(ElCove-ZP1-Elcove-1)"},{"$f":"REFERENTES!V136","v":48990}]
[null,null,null,null,null,null,null,null,null,null,null,null,null,null,null,null,null,null,null,null,null,null,null,null,{"$f":"IF(AND(REFERENTES!U139<>\"\",          REFERENTES!U139<>96321,    REFERENTES!U139<>96222            ),(REFERENTES!W139),\"\")","v":1789},{"$f":"REFERENTES!S139","v":0},null,137,2526,137,2285,null,null,{"$f":"CONCATENATE(REFERENTES!T137,\"(\",REFERENTES!U137,\")\")","v":"El Cove -2(ElCovePPC-2)"},{"$f":"REFERENTES!V137","v":55556}]
[null,null,null,null,null,null,null,null,null,null,null,null,null,null,null,null,null,null,null,null,null,null,null,null,{"$f":"IF(AND(REFERENTES!U140<>\"\",          REFERENTES!U140<>96321,    REFERENTES!U140<>96222            ),(REFERENTES!W140),\"\")","v":2145},{"$f":"REFERENTES!S140","v":0},null,138,1789,138,2866,null,null,{"$f":"CONCATENATE(REFERENTES!T138,\"(\",REFERENTES!U138,\")\")","v":"El Cove -3(El Cove-ZP1-El cove-3)"},{"$f":"REFERENTES!V138","v":49055}]
[null,null,null,null,null,null,null,null,null,null,null,null,null,null,null,null,null,null,null,null,null,null,null,null,{"$f":"IF(AND(REFERENTES!U141<>\"\",          REFERENTES!U141<>96321,    REFERENTES!U141<>96222            ),(REFERENTES!W141),\"\")","v":2883},{"$f":"REFERENTES!S141","v":0},null,139,2145,139,2878,null,null,{"$f":"CONCATENATE(REFERENTES!T139,\"(\",REFERENTES!U139,\")\")","v":"El Mohan-1(BARU-ZR1-Mohán-1)"},{"$f":"REFERENTES!V139","v":44592}]
[null,null,null,null,null,null,null,null,null,null,null,null,null,null,null,null,null,null,null,null,null,null,null,null,{"$f":"IF(AND(REFERENTES!U142<>\"\",          REFERENTES!U142<>96321,    REFERENTES!U142<>96222            ),(REFERENTES!W142),\"\")","v":2064},{"$f":"REFERENTES!S142","v":0},null,140,2883,140,2130,null,null,{"$f":"CONCATENATE(REFERENTES!T140,\"(\",REFERENTES!U140,\")\")","v":"El Muerto(ISCUANDE-ZR1-ELMUERTO-1)"},{"$f":"REFERENTES!V140","v":45905}]
[null,null,null,null,null,null,null,null,null,null,null,null,null,null,null,null,null,null,null,null,null,null,null,null,{"$f":"IF(AND(REFERENTES!U143<>\"\",          REFERENTES!U143<>96321,    REFERENTES!U143<>96222            ),(REFERENTES!W143),\"\")","v":2045},{"$f":"REFERENTES!S143","v":0},null,141,2064,141,2286,null,null,{"$f":"CONCATENATE(REFERENTES!T141,\"(\",REFERENTES!U141,\")\")","v":"El Natico(TRIBUGA-ZUS-NATICO)"},{"$f":"REFERENTES!V141","v":58589}]
[null,null,null,null,null,null,null,null,null,null,null,null,null,null,null,null,null,null,null,null,null,null,null,null,{"$f":"IF(AND(REFERENTES!U144<>\"\",          REFERENTES!U144<>96321,    REFERENTES!U144<>96222            ),(REFERENTES!W144),\"\")","v":2412},{"$f":"REFERENTES!S144","v":0},null,142,2045,142,2273,null,null,{"$f":"CONCATENATE(REFERENTES!T142,\"(\",REFERENTES!U142,\")\")","v":"Ensenada Miquitos(ENSENADA-ZP2-MIQUITOS-1MIQUITOSCURAY)"},{"$f":"REFERENTES!V142","v":45404}]
[null,null,null,null,null,null,null,null,null,null,null,null,null,null,null,null,null,null,null,null,null,null,null,null,{"$f":"IF(AND(REFERENTES!U145<>\"\",          REFERENTES!U145<>96321,    REFERENTES!U145<>96222            ),(REFERENTES!W145),\"\")","v":2680},{"$f":"REFERENTES!S145","v":0},null,143,2412,143,2274,null,null,{"$f":"CONCATENATE(REFERENTES!T143,\"(\",REFERENTES!U143,\")\")","v":"Ensenada Tribuga -1(Tribugá-ZP1-Enstrib-1)"},{"$f":"REFERENTES!V143","v":45318}]
[null,null,null,null,null,null,null,null,null,null,null,null,null,null,null,null,null,null,null,null,null,null,null,null,{"$f":"IF(AND(REFERENTES!U146<>\"\",          REFERENTES!U146<>96321,    REFERENTES!U146<>96222            ),(REFERENTES!W146),\"\")","v":2285},{"$f":"REFERENTES!S146","v":0},null,144,2680,144,2219,null,null,{"$f":"CONCATENATE(REFERENTES!T144,\"(\",REFERENTES!U144,\")\")","v":"Ensenada de Rionegro -4(ERIO-ZP8-Errio-4)"},{"$f":"REFERENTES!V144","v":48578}]
[null,null,null,null,null,null,null,null,null,null,null,null,null,null,null,null,null,null,null,null,null,null,null,null,{"$f":"IF(AND(REFERENTES!U147<>\"\",          REFERENTES!U147<>96321,    REFERENTES!U147<>96222            ),(REFERENTES!W147),\"\")","v":2866},{"$f":"REFERENTES!S147","v":0},null,145,2285,145,2068,null,null,{"$f":"CONCATENATE(REFERENTES!T145,\"(\",REFERENTES!U145,\")\")","v":"Ensenada de Rionegro -5(ERIO-ZP8-Errio-5)"},{"$f":"REFERENTES!V145","v":50305}]
[null,null,null,null,null,null,null,null,null,null,null,null,null,null,null,null,null,null,null,null,null,null,null,null,{"$f":"IF(AND(REFERENTES!U148<>\"\",          REFERENTES!U148<>96321,    REFERENTES!U148<>96222            ),(REFERENTES!W148),\"\")","v":2878},{"$f":"REFERENTES!S148","v":0},null,146,2866,146,2141,null,null,{"$f":"CONCATENATE(REFERENTES!T146,\"(\",REFERENTES!U146,\")\")","v":"Estero Aguacate-1(BB-ZR2-EAg-1)"},{"$f":"REFERENTES!V146","v":47534}]
[null,null,null,null,null,null,null,null,null,null,null,null,null,null,null,null,null,null,null,null,null,null,null,null,{"$f":"IF(AND(REFERENTES!U149<>\"\",          REFERENTES!U149<>96321,    REFERENTES!U149<>96222            ),(REFERENTES!W149),\"\")","v":2130},{"$f":"REFERENTES!S149","v":0},null,147,2878,147,2870,null,null,{"$f":"CONCATENATE(REFERENTES!T147,\"(\",REFERENTES!U147,\")\")","v":"Estero Encima(IJU-SZ-ENCIMA)"},{"$f":"REFERENTES!V147","v":58504}]
[null,null,null,null,null,null,null,null,null,null,null,null,null,null,null,null,null,null,null,null,null,null,null,null,{"$f":"IF(AND(REFERENTES!U150<>\"\",          REFERENTES!U150<>96321,    REFERENTES!U150<>96222            ),(REFERENTES!W150),\"\")","v":2286},{"$f":"REFERENTES!S150","v":0},null,148,2130,148,1141,null,null,{"$f":"CONCATENATE(REFERENTES!T148,\"(\",REFERENTES!U148,\")\")","v":"Estero Jose Chiquito(NUQUI-ZUS-ESTE_CHIQUI)"},{"$f":"REFERENTES!V148","v":58559}]
[null,null,null,null,null,null,null,null,null,null,null,null,null,null,null,null,null,null,null,null,null,null,null,null,{"$f":"IF(AND(REFERENTES!U151<>\"\",          REFERENTES!U151<>96321,    REFERENTES!U151<>96222            ),(REFERENTES!W151),\"\")","v":2273},{"$f":"REFERENTES!S151","v":0},null,149,2286,149,2050,null,null,{"$f":"CONCATENATE(REFERENTES!T149,\"(\",REFERENTES!U149,\")\")","v":"Estero Pasadero(YURU-ZP2-YEP-1)"},{"$f":"REFERENTES!V149","v":45832}]
[null,null,null,null,null,null,null,null,null,null,null,null,null,null,null,null,null,null,null,null,null,null,null,null,{"$f":"IF(AND(REFERENTES!U152<>\"\",          REFERENTES!U152<>96321,    REFERENTES!U152<>96222            ),(REFERENTES!W152),\"\")","v":2274},{"$f":"REFERENTES!S152","v":0},null,150,2273,150,2135,null,null,{"$f":"CONCATENATE(REFERENTES!T150,\"(\",REFERENTES!U150,\")\")","v":"Estero Piñal(BB-ZR2-EAg-2)"},{"$f":"REFERENTES!V150","v":47536}]
[null,null,null,null,null,null,null,null,null,null,null,null,null,null,null,null,null,null,null,null,null,null,null,null,{"$f":"IF(AND(REFERENTES!U153<>\"\",          REFERENTES!U153<>96321,    REFERENTES!U153<>96222            ),(REFERENTES!W153),\"\")","v":2219},{"$f":"REFERENTES!S153","v":0},null,151,2274,151,2868,null,null,{"$f":"CONCATENATE(REFERENTES!T151,\"(\",REFERENTES!U151,\")\")","v":"Estero San Antonio -1(Piñtcb-ZR1-EA-1)"},{"$f":"REFERENTES!V151","v":47510}]
[null,null,null,null,null,null,null,null,null,null,null,null,null,null,null,null,null,null,null,null,null,null,null,null,{"$f":"IF(AND(REFERENTES!U154<>\"\",          REFERENTES!U154<>96321,    REFERENTES!U154<>96222            ),(REFERENTES!W154),\"\")","v":2068},{"$f":"REFERENTES!S154","v":0},null,152,2219,152,1771,null,null,{"$f":"CONCATENATE(REFERENTES!T152,\"(\",REFERENTES!U152,\")\")","v":"Estero San Antonio -2(Piñtcb-ZR1-EA-2)"},{"$f":"REFERENTES!V152","v":47512}]
[null,null,null,null,null,null,null,null,null,null,null,null,null,null,null,null,null,null,null,null,null,null,null,null,{"$f":"IF(AND(REFERENTES!U155<>\"\",          REFERENTES!U155<>96321,    REFERENTES!U155<>96222            ),(REFERENTES!W155),\"\")","v":2141},{"$f":"REFERENTES!S155","v":0},null,153,2068,153,2134,null,null,{"$f":"CONCATENATE(REFERENTES!T153,\"(\",REFERENTES!U153,\")\")","v":"Estero San Miguel(RAPO-ZR1-ESaM-1)"},{"$f":"REFERENTES!V153","v":46022}]
[null,null,null,null,null,null,null,null,null,null,null,null,null,null,null,null,null,null,null,null,null,null,null,null,{"$f":"IF(AND(REFERENTES!U156<>\"\",          REFERENTES!U156<>96321,    REFERENTES!U156<>96222            ),(REFERENTES!W156),\"\")","v":2870},{"$f":"REFERENTES!S156","v":0},null,154,2141,154,1795,null,null,{"$f":"CONCATENATE(REFERENTES!T154,\"(\",REFERENTES!U154,\")\")","v":"Estero Saturio - Boca Vieja(Coquí-ZUS1-Bovi-1)"},{"$f":"REFERENTES!V154","v":45418}]
[null,null,null,null,null,null,null,null,null,null,null,null,null,null,null,null,null,null,null,null,null,null,null,null,{"$f":"IF(AND(REFERENTES!U157<>\"\",          REFERENTES!U157<>96321,    REFERENTES!U157<>96222            ),(REFERENTES!W157),\"\")","v":1141},{"$f":"REFERENTES!S157","v":0},null,155,2870,155,2845,null,null,{"$f":"CONCATENATE(REFERENTES!T155,\"(\",REFERENTES!U155,\")\")","v":"Firme Bonito(ANCHI-ZR1-AFB-1)"},{"$f":"REFERENTES!V155","v":45888}]
[null,null,null,null,null,null,null,null,null,null,null,null,null,null,null,null,null,null,null,null,null,null,null,null,{"$f":"IF(AND(REFERENTES!U158<>\"\",          REFERENTES!U158<>96321,    REFERENTES!U158<>96222            ),(REFERENTES!W158),\"\")","v":2050},{"$f":"REFERENTES!S158","v":0},null,156,1141,156,2848,null,null,{"$f":"CONCATENATE(REFERENTES!T156,\"(\",REFERENTES!U156,\")\")","v":"Frente Togoroma(PICHI-SZ-FREN_TOGO)"},{"$f":"REFERENTES!V156","v":58538}]
[null,null,null,null,null,null,null,null,null,null,null,null,null,null,null,null,null,null,null,null,null,null,null,null,{"$f":"IF(AND(REFERENTES!U159<>\"\",          REFERENTES!U159<>96321,    REFERENTES!U159<>96222            ),(REFERENTES!W159),\"\")","v":2135},{"$f":"REFERENTES!S159","v":0},null,157,2050,157,2034,null,null,{"$f":"CONCATENATE(REFERENTES!T157,\"(\",REFERENTES!U157,\")\")","v":"Guacamayas(GUAC-ZP1-GUACA-1)"},{"$f":"REFERENTES!V157","v":42211}]
[null,null,null,null,null,null,null,null,null,null,null,null,null,null,null,null,null,null,null,null,null,null,null,null,{"$f":"IF(AND(REFERENTES!U160<>\"\",          REFERENTES!U160<>96321,    REFERENTES!U160<>96222            ),(REFERENTES!W160),\"\")","v":2868},{"$f":"REFERENTES!S160","v":0},null,158,2135,158,2035,null,null,{"$f":"CONCATENATE(REFERENTES!T158,\"(\",REFERENTES!U158,\")\")","v":"Guachaca-1(GUA-ZP4-Guachc-1)"},{"$f":"REFERENTES!V158","v":45339}]
[null,null,null,null,null,null,null,null,null,null,null,null,null,null,null,null,null,null,null,null,null,null,null,null,{"$f":"IF(AND(REFERENTES!U161<>\"\",          REFERENTES!U161<>96321,    REFERENTES!U161<>96222            ),(REFERENTES!W161),\"\")","v":1771},{"$f":"REFERENTES!S161","v":0},null,159,2868,159,2036,null,null,{"$f":"CONCATENATE(REFERENTES!T159,\"(\",REFERENTES!U159,\")\")","v":"Guadualito(DGUA-ZR3-DG-1)"},{"$f":"REFERENTES!V159","v":45858}]
[null,null,null,null,null,null,null,null,null,null,null,null,null,null,null,null,null,null,null,null,null,null,null,null,{"$f":"IF(AND(REFERENTES!U162<>\"\",          REFERENTES!U162<>96321,    REFERENTES!U162<>96222            ),(REFERENTES!W162),\"\")","v":2134},{"$f":"REFERENTES!S162","v":0},null,160,1771,160,2018,null,null,{"$f":"CONCATENATE(REFERENTES!T160,\"(\",REFERENTES!U160,\")\")","v":"Herradura de las Peñitas(VIRU-ZUS-HERRA_PEÑITAS)"},{"$f":"REFERENTES!V160","v":58510}]
[null,null,null,null,null,null,null,null,null,null,null,null,null,null,null,null,null,null,null,null,null,null,null,null,{"$f":"IF(AND(REFERENTES!U163<>\"\",          REFERENTES!U163<>96321,    REFERENTES!U163<>96222            ),(REFERENTES!W163),\"\")","v":1795},{"$f":"REFERENTES!S163","v":0},null,161,2134,161,2877,null,null,{"$f":"CONCATENATE(REFERENTES!T161,\"(\",REFERENTES!U161,\")\")","v":"Hojas Blancas(esza-ZUS1-Hoblan-1)"},{"$f":"REFERENTES!V161","v":44561}]
[null,null,null,null,null,null,null,null,null,null,null,null,null,null,null,null,null,null,null,null,null,null,null,null,{"$f":"IF(AND(REFERENTES!U164<>\"\",          REFERENTES!U164<>96321,    REFERENTES!U164<>96222            ),(REFERENTES!W164),\"\")","v":2845},{"$f":"REFERENTES!S164","v":0},null,162,1795,162,2876,null,null,{"$f":"CONCATENATE(REFERENTES!T162,\"(\",REFERENTES!U162,\")\")","v":"Humanes Mar(ANCHI-ZR1-AHM-1)"},{"$f":"REFERENTES!V162","v":45852}]
[null,null,null,null,null,null,null,null,null,null,null,null,null,null,null,null,null,null,null,null,null,null,null,null,{"$f":"IF(AND(REFERENTES!U165<>\"\",          REFERENTES!U165<>96321,    REFERENTES!U165<>96222            ),(REFERENTES!W165),\"\")","v":2848},{"$f":"REFERENTES!S165","v":0},null,163,2845,163,2874,null,null,{"$f":"CONCATENATE(REFERENTES!T163,\"(\",REFERENTES!U163,\")\")","v":"Ingesa(BCAR-ZP1-Ingesa-1)"},{"$f":"REFERENTES!V163","v":44609}]
[null,null,null,null,null,null,null,null,null,null,null,null,null,null,null,null,null,null,null,null,null,null,null,null,{"$f":"IF(AND(REFERENTES!U166<>\"\",          REFERENTES!U166<>96321,    REFERENTES!U166<>96222            ),(REFERENTES!W166),\"\")","v":2034},{"$f":"REFERENTES!S166","v":0},null,164,2848,164,2875,null,null,{"$f":"CONCATENATE(REFERENTES!T164,\"(\",REFERENTES!U164,\")\")","v":"Inicio(INICIO_SAN)"},{"$f":"REFERENTES!V164","v":58125}]
[null,null,null,null,null,null,null,null,null,null,null,null,null,null,null,null,null,null,null,null,null,null,null,null,{"$f":"IF(AND(REFERENTES!U167<>\"\",          REFERENTES!U167<>96321,    REFERENTES!U167<>96222            ),(REFERENTES!W167),\"\")","v":2035},{"$f":"REFERENTES!S167","v":0},null,165,2034,165,2146,null,null,{"$f":"CONCATENATE(REFERENTES!T165,\"(\",REFERENTES!U165,\")\")","v":"Inicio(INICIO_JON)"},{"$f":"REFERENTES!V165","v":58101}]
[null,null,null,null,null,null,null,null,null,null,null,null,null,null,null,null,null,null,null,null,null,null,null,null,{"$f":"IF(AND(REFERENTES!U168<>\"\",          REFERENTES!U168<>96321,    REFERENTES!U168<>96222            ),(REFERENTES!W168),\"\")","v":2036},{"$f":"REFERENTES!S168","v":0},null,166,2035,166,2147,null,null,{"$f":"CONCATENATE(REFERENTES!T166,\"(\",REFERENTES!U166,\")\")","v":"Isla Boqueron -1(CGSM-SZ1-IBoqrn-1)"},{"$f":"REFERENTES!V166","v":45281}]
[null,null,null,null,null,null,null,null,null,null,null,null,null,null,null,null,null,null,null,null,null,null,null,null,{"$f":"IF(AND(REFERENTES!U169<>\"\",          REFERENTES!U169<>96321,    REFERENTES!U169<>96222            ),(REFERENTES!W169),\"\")","v":2018},{"$f":"REFERENTES!S169","v":0},null,167,2036,167,2148,null,null,{"$f":"CONCATENATE(REFERENTES!T167,\"(\",REFERENTES!U167,\")\")","v":"Isla Boqueron -2(CGSM-SZ1-IBoqrn-2)"},{"$f":"REFERENTES!V167","v":45283}]
[null,null,null,null,null,null,null,null,null,null,null,null,null,null,null,null,null,null,null,null,null,null,null,null,{"$f":"IF(AND(REFERENTES!U170<>\"\",          REFERENTES!U170<>96321,    REFERENTES!U170<>96222            ),(REFERENTES!W170),\"\")","v":0},{"$f":"REFERENTES!S170","v":0},null,168,2018,168,2014,null,null,{"$f":"CONCATENATE(REFERENTES!T168,\"(\",REFERENTES!U168,\")\")","v":"Isla Boqueron -3(CGSM-SZ1-IBoqrn-3)"},{"$f":"REFERENTES!V168","v":45285}]
[null,null,null,null,null,null,null,null,null,null,null,null,null,null,null,null,null,null,null,null,null,null,null,null,{"$f":"IF(AND(REFERENTES!U171<>\"\",          REFERENTES!U171<>96321,    REFERENTES!U171<>96222            ),(REFERENTES!W171),\"\")","v":2877},{"$f":"REFERENTES!S171","v":0},null,169,0,1130,1138,null,null,{"$f":"CONCATENATE(REFERENTES!T169,\"(\",REFERENTES!U169,\")\")","v":"Jesus Primera(BCISEST-ZUS1-Jesúsprimera-1)"},{"$f":"REFERENTES!V169","v":45151}]
[null,null,null,null,null,null,null,null,null,null,null,null,null,null,null,null,null,null,null,null,null,null,null,null,{"$f":"IF(AND(REFERENTES!U172<>\"\",          REFERENTES!U172<>96321,    REFERENTES!U172<>96222            ),(REFERENTES!W172),\"\")","v":2876},{"$f":"REFERENTES!S172","v":0},null,170,2877,170,2012,null,null,{"$f":"CONCATENATE(REFERENTES!T170,\"(\",REFERENTES!U170,\")\")","v":"Jhon Mangrove parcela circular-3(JhonMangrovePPC-1)"},{"$f":"REFERENTES!V170","v":55572}]
[null,null,null,null,null,null,null,null,null,null,null,null,null,null,null,null,null,null,null,null,null,null,null,null,{"$f":"IF(AND(REFERENTES!U173<>\"\",          REFERENTES!U173<>96321,    REFERENTES!U173<>96222            ),(REFERENTES!W173),\"\")","v":2874},{"$f":"REFERENTES!S173","v":0},null,171,2876,171,2052,null,null,{"$f":"CONCATENATE(REFERENTES!T171,\"(\",REFERENTES!U171,\")\")","v":"Jurubira - Chori -1(JURU-ZP-JURU_CHORI01)"},{"$f":"REFERENTES!V171","v":58556}]
[null,null,null,null,null,null,null,null,null,null,null,null,null,null,null,null,null,null,null,null,null,null,null,null,{"$f":"IF(AND(REFERENTES!U174<>\"\",          REFERENTES!U174<>96321,    REFERENTES!U174<>96222            ),(REFERENTES!W174),\"\")","v":2875},{"$f":"REFERENTES!S174","v":0},null,172,2874,172,2123,null,null,{"$f":"CONCATENATE(REFERENTES!T172,\"(\",REFERENTES!U172,\")\")","v":"Jurubira - Chori -2(JURU-ZUS-JURU_CHORI02)"},{"$f":"REFERENTES!V172","v":58554}]
[null,null,null,null,null,null,null,null,null,null,null,null,null,null,null,null,null,null,null,null,null,null,null,null,{"$f":"IF(AND(REFERENTES!U175<>\"\",          REFERENTES!U175<>96321,    REFERENTES!U175<>96222            ),(REFERENTES!W175),\"\")","v":2146},{"$f":"REFERENTES!S175","v":0},null,173,2875,173,2864,null,null,{"$f":"CONCATENATE(REFERENTES!T173,\"(\",REFERENTES!U173,\")\")","v":"Jurubira -1(JURU-ZP-JURUBIRA01)"},{"$f":"REFERENTES!V173","v":58549}]
[null,null,null,null,null,null,null,null,null,null,null,null,null,null,null,null,null,null,null,null,null,null,null,null,{"$f":"IF(AND(REFERENTES!U176<>\"\",          REFERENTES!U176<>96321,    REFERENTES!U176<>96222            ),(REFERENTES!W176),\"\")","v":2147},{"$f":"REFERENTES!S176","v":0},null,174,2146,174,2886,null,null,{"$f":"CONCATENATE(REFERENTES!T174,\"(\",REFERENTES!U174,\")\")","v":"Jurubira -2(JURU-ZR-JURUBIRA02)"},{"$f":"REFERENTES!V174","v":58552}]
[null,null,null,null,null,null,null,null,null,null,null,null,null,null,null,null,null,null,null,null,null,null,null,null,{"$f":"IF(AND(REFERENTES!U177<>\"\",          REFERENTES!U177<>96321,    REFERENTES!U177<>96222            ),(REFERENTES!W177),\"\")","v":2148},{"$f":"REFERENTES!S177","v":0},null,175,2147,175,2871,null,null,{"$f":"CONCATENATE(REFERENTES!T175,\"(\",REFERENTES!U175,\")\")","v":"Kilómetro 22 -1(VIPIS-SZ1-KM22-1)"},{"$f":"REFERENTES!V175","v":45907}]
[null,null,null,null,null,null,null,null,null,null,null,null,null,null,null,null,null,null,null,null,null,null,null,null,{"$f":"IF(AND(REFERENTES!U178<>\"\",          REFERENTES!U178<>96321,    REFERENTES!U178<>96222            ),(REFERENTES!W178),\"\")","v":2014},{"$f":"REFERENTES!S178","v":0},null,176,2148,176,2872,null,null,{"$f":"CONCATENATE(REFERENTES!T176,\"(\",REFERENTES!U176,\")\")","v":"Kilómetro 22 -2(VIPIS-SZ1-KM22-2)"},{"$f":"REFERENTES!V176","v":45910}]
[null,null,null,null,null,null,null,null,null,null,null,null,null,null,null,null,null,null,null,null,null,null,null,null,{"$f":"IF(AND(REFERENTES!U179<>\"\",          REFERENTES!U179<>96321,    REFERENTES!U179<>96222            ),(REFERENTES!W179),\"\")","v":1138},{"$f":"REFERENTES!S179","v":0},null,177,2014,177,886,null,null,{"$f":"CONCATENATE(REFERENTES!T177,\"(\",REFERENTES!U177,\")\")","v":"Kilómetro 22 -3(VIPIS-SZ1-KM22-3)"},{"$f":"REFERENTES!V177","v":45912}]
[null,null,null,null,null,null,null,null,null,null,null,null,null,null,null,null,null,null,null,null,null,null,null,null,{"$f":"IF(AND(REFERENTES!U180<>\"\",          REFERENTES!U180<>96321,    REFERENTES!U180<>96222            ),(REFERENTES!W180),\"\")","v":2012},{"$f":"REFERENTES!S180","v":0},null,178,1138,178,887,null,null,{"$f":"CONCATENATE(REFERENTES!T178,\"(\",REFERENTES!U178,\")\")","v":"La Alberca(BCISEST-ZUS1-laalberca-1)"},{"$f":"REFERENTES!V178","v":45139}]
[null,null,null,null,null,null,null,null,null,null,null,null,null,null,null,null,null,null,null,null,null,null,null,null,{"$f":"IF(AND(REFERENTES!U181<>\"\",          REFERENTES!U181<>96321,    REFERENTES!U181<>96222            ),(REFERENTES!W181),\"\")","v":2052},{"$f":"REFERENTES!S181","v":0},null,179,2012,179,888,null,null,{"$f":"CONCATENATE(REFERENTES!T179,\"(\",REFERENTES!U179,\")\")","v":"La Boquilla(CBOQ-ZR1-BOQU-1)"},{"$f":"REFERENTES!V179","v":42198}]
[null,null,null,null,null,null,null,null,null,null,null,null,null,null,null,null,null,null,null,null,null,null,null,null,{"$f":"IF(AND(REFERENTES!U182<>\"\",          REFERENTES!U182<>96321,    REFERENTES!U182<>96222            ),(REFERENTES!W182),\"\")","v":2123},{"$f":"REFERENTES!S182","v":0},null,180,2052,180,1101,null,null,{"$f":"CONCATENATE(REFERENTES!T180,\"(\",REFERENTES!U180,\")\")","v":"La Camaronera(BCISEST-ZR1-camaronera-1)"},{"$f":"REFERENTES!V180","v":45133}]
[null,null,null,null,null,null,null,null,null,null,null,null,null,null,null,null,null,null,null,null,null,null,null,null,{"$f":"IF(AND(REFERENTES!U183<>\"\",          REFERENTES!U183<>96321,    REFERENTES!U183<>96222            ),(REFERENTES!W183),\"\")","v":2864},{"$f":"REFERENTES!S183","v":0},null,181,2123,181,2084,null,null,{"$f":"CONCATENATE(REFERENTES!T181,\"(\",REFERENTES!U181,\")\")","v":"La Cuenca(BCISEST-ZUS6-lacuenca-1)"},{"$f":"REFERENTES!V181","v":45347}]
[null,null,null,null,null,null,null,null,null,null,null,null,null,null,null,null,null,null,null,null,null,null,null,null,{"$f":"IF(AND(REFERENTES!U184<>\"\",          REFERENTES!U184<>96321,    REFERENTES!U184<>96222            ),(REFERENTES!W184),\"\")","v":2886},{"$f":"REFERENTES!S184","v":0},null,182,2864,182,2640,null,null,{"$f":"CONCATENATE(REFERENTES!T182,\"(\",REFERENTES!U182,\")\")","v":"La Flotante(BCISEST-ZUS1-laflotante-1)"},{"$f":"REFERENTES!V182","v":45586}]
[null,null,null,null,null,null,null,null,null,null,null,null,null,null,null,null,null,null,null,null,null,null,null,null,{"$f":"IF(AND(REFERENTES!U185<>\"\",          REFERENTES!U185<>96321,    REFERENTES!U185<>96222            ),(REFERENTES!W185),\"\")","v":2871},{"$f":"REFERENTES!S185","v":0},null,183,2886,183,892,null,null,{"$f":"CONCATENATE(REFERENTES!T183,\"(\",REFERENTES!U183,\")\")","v":"La Gualajera(IJU-SZ-GUJERA)"},{"$f":"REFERENTES!V183","v":58500}]
[null,null,null,null,null,null,null,null,null,null,null,null,null,null,null,null,null,null,null,null,null,null,null,null,{"$f":"IF(AND(REFERENTES!U186<>\"\",          REFERENTES!U186<>96321,    REFERENTES!U186<>96222            ),(REFERENTES!W186),\"\")","v":2872},{"$f":"REFERENTES!S186","v":0},null,184,2871,184,1760,null,null,{"$f":"CONCATENATE(REFERENTES!T184,\"(\",REFERENTES!U184,\")\")","v":"La Honda(TRIBUGA-ZR-HONDA)"},{"$f":"REFERENTES!V184","v":58596}]
[null,null,null,null,null,null,null,null,null,null,null,null,null,null,null,null,null,null,null,null,null,null,null,null,{"$f":"IF(AND(REFERENTES!U187<>\"\",          REFERENTES!U187<>96321,    REFERENTES!U187<>96222            ),(REFERENTES!W187),\"\")","v":886},{"$f":"REFERENTES!S187","v":0},null,185,2872,185,1797,null,null,{"$f":"CONCATENATE(REFERENTES!T185,\"(\",REFERENTES!U185,\")\")","v":"La Paila(CHARA-SZ-PAILA)"},{"$f":"REFERENTES!V185","v":58541}]
[null,null,null,null,null,null,null,null,null,null,null,null,null,null,null,null,null,null,null,null,null,null,null,null,{"$f":"IF(AND(REFERENTES!U188<>\"\",          REFERENTES!U188<>96321,    REFERENTES!U188<>96222            ),(REFERENTES!W188),\"\")","v":887},{"$f":"REFERENTES!S188","v":0},null,186,886,186,2873,null,null,{"$f":"CONCATENATE(REFERENTES!T186,\"(\",REFERENTES!U186,\")\")","v":"La Playa(COQUI-ZUS-PLAYA)"},{"$f":"REFERENTES!V186","v":58543}]
[null,null,null,null,null,null,null,null,null,null,null,null,null,null,null,null,null,null,null,null,null,null,null,null,{"$f":"IF(AND(REFERENTES!U189<>\"\",          REFERENTES!U189<>96321,    REFERENTES!U189<>96222            ),(REFERENTES!W189),\"\")","v":888},{"$f":"REFERENTES!S189","v":0},null,187,887,187,1066,null,null,{"$f":"CONCATENATE(REFERENTES!T187,\"(\",REFERENTES!U187,\")\")","v":"La Raya-1(LRAY-ZR1-LRA-1)"},{"$f":"REFERENTES!V187","v":41384}]
[null,null,null,null,null,null,null,null,null,null,null,null,null,null,null,null,null,null,null,null,null,null,null,null,{"$f":"IF(AND(REFERENTES!U190<>\"\",          REFERENTES!U190<>96321,    REFERENTES!U190<>96222            ),(REFERENTES!W190),\"\")","v":1101},{"$f":"REFERENTES!S190","v":0},null,188,888,188,2153,null,null,{"$f":"CONCATENATE(REFERENTES!T188,\"(\",REFERENTES!U188,\")\")","v":"La Raya-2(LRAY-ZR1-LRA-2)"},{"$f":"REFERENTES!V188","v":41386}]
[null,null,null,null,null,null,null,null,null,null,null,null,null,null,null,null,null,null,null,null,null,null,null,null,{"$f":"IF(AND(REFERENTES!U191<>\"\",          REFERENTES!U191<>96321,    REFERENTES!U191<>96222            ),(REFERENTES!W191),\"\")","v":2084},{"$f":"REFERENTES!S191","v":0},null,189,1101,189,2319,null,null,{"$f":"CONCATENATE(REFERENTES!T189,\"(\",REFERENTES!U189,\")\")","v":"La Raya-3(LRAY-ZR1-LRA-3)"},{"$f":"REFERENTES!V189","v":41388}]
[null,null,null,null,null,null,null,null,null,null,null,null,null,null,null,null,null,null,null,null,null,null,null,null,{"$f":"IF(AND(REFERENTES!U192<>\"\",          REFERENTES!U192<>96321,    REFERENTES!U192<>96222            ),(REFERENTES!W192),\"\")","v":2640},{"$f":"REFERENTES!S192","v":0},null,190,2084,190,2320,null,null,{"$f":"CONCATENATE(REFERENTES!T190,\"(\",REFERENTES!U190,\")\")","v":"La Zona(BCISESTSAL-ZUS1-ZON-1)"},{"$f":"REFERENTES!V190","v":42099}]
[null,null,null,null,null,null,null,null,null,null,null,null,null,null,null,null,null,null,null,null,null,null,null,null,{"$f":"IF(AND(REFERENTES!U193<>\"\",          REFERENTES!U193<>96321,    REFERENTES!U193<>96222            ),(REFERENTES!W193),\"\")","v":892},{"$f":"REFERENTES!S193","v":0},null,191,2640,191,2020,null,null,{"$f":"CONCATENATE(REFERENTES!T191,\"(\",REFERENTES!U191,\")\")","v":"Lagartero(TIMB-ZUS1-LARGAR-1)"},{"$f":"REFERENTES!V191","v":45484}]
[null,null,null,null,null,null,null,null,null,null,null,null,null,null,null,null,null,null,null,null,null,null,null,null,{"$f":"IF(AND(REFERENTES!U194<>\"\",          REFERENTES!U194<>96321,    REFERENTES!U194<>96222            ),(REFERENTES!W194),\"\")","v":1760},{"$f":"REFERENTES!S194","v":0},null,192,892,192,2893,null,null,{"$f":"CONCATENATE(REFERENTES!T192,\"(\",REFERENTES!U192,\")\")","v":"Lago(OBRE;CHA-SZ1-LAGO-1)"},{"$f":"REFERENTES!V192","v":49587}]
[null,null,null,null,null,null,null,null,null,null,null,null,null,null,null,null,null,null,null,null,null,null,null,null,{"$f":"IF(AND(REFERENTES!U195<>\"\",          REFERENTES!U195<>96321,    REFERENTES!U195<>96222            ),(REFERENTES!W195),\"\")","v":1797},{"$f":"REFERENTES!S195","v":0},null,193,1760,193,2021,null,null,{"$f":"CONCATENATE(REFERENTES!T193,\"(\",REFERENTES!U193,\")\")","v":"Laguna Salada(LSAL-ZR1-LSA-1)"},{"$f":"REFERENTES!V193","v":41396}]
[null,null,null,null,null,null,null,null,null,null,null,null,null,null,null,null,null,null,null,null,null,null,null,null,{"$f":"IF(AND(REFERENTES!U196<>\"\",          REFERENTES!U196<>96321,    REFERENTES!U196<>96222            ),(REFERENTES!W196),\"\")","v":2873},{"$f":"REFERENTES!S196","v":0},null,194,{"$f":"IF(Y199=\"\",0,Y199)","v":1797},{"$f":"IF(AC200=0,MAX($AB$7:$AB$1135)+1,AB200)","v":194},{"$f":"IFERROR(VLOOKUP(SMALL($AD$7:$AD$1135,AB200),$AB$7:$AD$1135,2,FALSE),\"X\")","v":1063},null,null,{"$f":"CONCATENATE(REFERENTES!T194,\"(\",REFERENTES!U194,\")\")","v":"Las Piedras-1(BARB-ZR1-Piedras-1)"},{"$f":"REFERENTES!V194","v":44496}]
[null,null,null,null,null,null,null,null,null,null,null,null,null,null,null,null,null,null,null,null,null,null,null,null,{"$f":"IF(AND(REFERENTES!U197<>\"\",          REFERENTES!U197<>96321,    REFERENTES!U197<>96222            ),(REFERENTES!W197),\"\")","v":1066},{"$f":"REFERENTES!S197","v":0},null,195,2873,195,1064,null,null,{"$f":"CONCATENATE(REFERENTES!T195,\"(\",REFERENTES!U195,\")\")","v":"Las Quintas -1(CQUINTAS-ZUS1-Quintas-1)"},{"$f":"REFERENTES!V195","v":44616}]
[null,null,null,null,null,null,null,null,null,null,null,null,null,null,null,null,null,null,null,null,null,null,null,null,{"$f":"IF(AND(REFERENTES!U198<>\"\",          REFERENTES!U198<>96321,    REFERENTES!U198<>96222            ),(REFERENTES!W198),\"\")","v":2153},{"$f":"REFERENTES!S198","v":0},null,196,1066,196,2024,null,null,{"$f":"CONCATENATE(REFERENTES!T196,\"(\",REFERENTES!U196,\")\")","v":"Los Chingos(COQUI-ZP-CHINGOS)"},{"$f":"REFERENTES!V196","v":58546}]
[null,null,null,null,null,null,null,null,null,null,null,null,null,null,null,null,null,null,null,null,null,null,null,null,{"$f":"IF(AND(REFERENTES!U199<>\"\",          REFERENTES!U199<>96321,    REFERENTES!U199<>96222            ),(REFERENTES!W199),\"\")","v":2319},{"$f":"REFERENTES!S199","v":0},null,197,2153,197,2844,null,null,{"$f":"CONCATENATE(REFERENTES!T197,\"(\",REFERENTES!U197,\")\")","v":"Lucho Guerra-1(CaiRinH-ZP1-LUCHO-1)"},{"$f":"REFERENTES!V197","v":41972}]
[null,null,null,null,null,null,null,null,null,null,null,null,null,null,null,null,null,null,null,null,null,null,null,null,{"$f":"IF(AND(REFERENTES!U200<>\"\",          REFERENTES!U200<>96321,    REFERENTES!U200<>96222            ),(REFERENTES!W200),\"\")","v":2320},{"$f":"REFERENTES!S200","v":0},null,198,2319,198,1806,null,null,{"$f":"CONCATENATE(REFERENTES!T198,\"(\",REFERENTES!U198,\")\")","v":"Luna -1(SFFOCC-SZ1-LUN-1)"},{"$f":"REFERENTES!V198","v":45922}]
[null,null,null,null,null,null,null,null,null,null,null,null,null,null,null,null,null,null,null,null,null,null,null,null,{"$f":"IF(AND(REFERENTES!U201<>\"\",          REFERENTES!U201<>96321,    REFERENTES!U201<>96222            ),(REFERENTES!W201),\"\")","v":2020},{"$f":"REFERENTES!S201","v":0},null,199,2320,199,1077,null,null,{"$f":"CONCATENATE(REFERENTES!T199,\"(\",REFERENTES!U199,\")\")","v":"Luna -2(SFFOCC-SZ1-LUN-2)"},{"$f":"REFERENTES!V199","v":47837}]
[null,null,null,null,null,null,null,null,null,null,null,null,null,null,null,null,null,null,null,null,null,null,null,null,{"$f":"IF(AND(REFERENTES!U202<>\"\",          REFERENTES!U202<>96321,    REFERENTES!U202<>96222            ),(REFERENTES!W202),\"\")","v":2893},{"$f":"REFERENTES!S202","v":0},null,200,2020,200,883,null,null,{"$f":"CONCATENATE(REFERENTES!T200,\"(\",REFERENTES!U200,\")\")","v":"Luna -3(SFFOCC-SZ1-LUN-3)"},{"$f":"REFERENTES!V200","v":47839}]
[null,null,null,null,null,null,null,null,null,null,null,null,null,null,null,null,null,null,null,null,null,null,null,null,{"$f":"IF(AND(REFERENTES!U203<>\"\",          REFERENTES!U203<>96321,    REFERENTES!U203<>96222            ),(REFERENTES!W203),\"\")","v":2021},{"$f":"REFERENTES!S203","v":0},null,201,2893,201,884,null,null,{"$f":"CONCATENATE(REFERENTES!T201,\"(\",REFERENTES!U201,\")\")","v":"Mallorquin(CNGMLLQ-ZR1-Mr-1)"},{"$f":"REFERENTES!V201","v":45168}]
[null,null,null,null,null,null,null,null,null,null,null,null,null,null,null,null,null,null,null,null,null,null,null,null,{"$f":"IF(AND(REFERENTES!U204<>\"\",          REFERENTES!U204<>96321,    REFERENTES!U204<>96222            ),(REFERENTES!W204),\"\")","v":1063},{"$f":"REFERENTES!S204","v":0},null,202,2021,202,885,null,null,{"$f":"CONCATENATE(REFERENTES!T202,\"(\",REFERENTES!U202,\")\")","v":"Mallorquin -1(MALLOR01-ZP-MALLOR_01)"},{"$f":"REFERENTES!V202","v":58621}]
[null,null,null,null,null,null,null,null,null,null,null,null,null,null,null,null,null,null,null,null,null,null,null,null,{"$f":"IF(AND(REFERENTES!U205<>\"\",          REFERENTES!U205<>96321,    REFERENTES!U205<>96222            ),(REFERENTES!W205),\"\")","v":1064},{"$f":"REFERENTES!S205","v":0},null,203,1063,203,2137,null,null,{"$f":"CONCATENATE(REFERENTES!T203,\"(\",REFERENTES!U203,\")\")","v":"Mallorquín -2(CNGMLLQ-ZP1-Mallorq-1)"},{"$f":"REFERENTES!V203","v":45242}]
[null,null,null,null,null,null,null,null,null,null,null,null,null,null,null,null,null,null,null,null,null,null,null,null,{"$f":"IF(AND(REFERENTES!U206<>\"\",          REFERENTES!U206<>96321,    REFERENTES!U206<>96222            ),(REFERENTES!W206),\"\")","v":2024},{"$f":"REFERENTES!S206","v":0},null,204,1064,204,2847,null,null,{"$f":"CONCATENATE(REFERENTES!T204,\"(\",REFERENTES!U204,\")\")","v":"Manaties A(CNGMNT-ZR1-MANA-1)"},{"$f":"REFERENTES!V204","v":41959}]
[null,null,null,null,null,null,null,null,null,null,null,null,null,null,null,null,null,null,null,null,null,null,null,null,{"$f":"IF(AND(REFERENTES!U207<>\"\",          REFERENTES!U207<>96321,    REFERENTES!U207<>96222            ),(REFERENTES!W207),\"\")","v":2844},{"$f":"REFERENTES!S207","v":0},null,205,2024,205,2850,null,null,{"$f":"CONCATENATE(REFERENTES!T205,\"(\",REFERENTES!U205,\")\")","v":"Manaties B(CNGMNT-ZP1-MANB-1)"},{"$f":"REFERENTES!V205","v":41963}]
[null,null,null,null,null,null,null,null,null,null,null,null,null,null,null,null,null,null,null,null,null,null,null,null,{"$f":"IF(AND(REFERENTES!U208<>\"\",          REFERENTES!U208<>96321,    REFERENTES!U208<>96222            ),(REFERENTES!W208),\"\")","v":0},{"$f":"REFERENTES!S208","v":0},null,206,2844,206,915,null,null,{"$f":"CONCATENATE(REFERENTES!T206,\"(\",REFERENTES!U206,\")\")","v":"Manaties Playa -1(CNGMNT-ZR1-Manat-1)"},{"$f":"REFERENTES!V206","v":45253}]
[null,null,null,null,null,null,null,null,null,null,null,null,null,null,null,null,null,null,null,null,null,null,null,null,{"$f":"IF(AND(REFERENTES!U209<>\"\",          REFERENTES!U209<>96321,    REFERENTES!U209<>96222            ),(REFERENTES!W209),\"\")","v":0},{"$f":"REFERENTES!S209","v":0},null,207,0,1130,2434,null,null,{"$f":"CONCATENATE(REFERENTES!T207,\"(\",REFERENTES!U207,\")\")","v":"Manzanillo(MANZANILLO)"},{"$f":"REFERENTES!V207","v":58095}]
[null,null,null,null,null,null,null,null,null,null,null,null,null,null,null,null,null,null,null,null,null,null,null,null,{"$f":"IF(AND(REFERENTES!U210<>\"\",          REFERENTES!U210<>96321,    REFERENTES!U210<>96222            ),(REFERENTES!W210),\"\")","v":1806},{"$f":"REFERENTES!S210","v":0},null,208,0,1130,2834,null,null,{"$f":"CONCATENATE(REFERENTES!T208,\"(\",REFERENTES!U208,\")\")","v":"Manzanillo -1(ManzanilloPPC-1)"},{"$f":"REFERENTES!V208","v":55561}]
[null,null,null,null,null,null,null,null,null,null,null,null,null,null,null,null,null,null,null,null,null,null,null,null,{"$f":"IF(AND(REFERENTES!U211<>\"\",          REFERENTES!U211<>96321,    REFERENTES!U211<>96222            ),(REFERENTES!W211),\"\")","v":1077},{"$f":"REFERENTES!S211","v":0},null,209,1806,209,2843,null,null,{"$f":"CONCATENATE(REFERENTES!T209,\"(\",REFERENTES!U209,\")\")","v":"Manzanillo -2(ManzanilloPPC-2)"},{"$f":"REFERENTES!V209","v":55562}]
[null,null,null,null,null,null,null,null,null,null,null,null,null,null,null,null,null,null,null,null,null,null,null,null,{"$f":"IF(AND(REFERENTES!U212<>\"\",          REFERENTES!U212<>96321,    REFERENTES!U212<>96222            ),(REFERENTES!W212),\"\")","v":883},{"$f":"REFERENTES!S212","v":0},null,210,1077,210,2835,null,null,{"$f":"CONCATENATE(REFERENTES!T210,\"(\",REFERENTES!U210,\")\")","v":"Manzanillo-1(JPVI-ZUS1-JPManzanillo-1)"},{"$f":"REFERENTES!V210","v":44640}]
[null,null,null,null,null,null,null,null,null,null,null,null,null,null,null,null,null,null,null,null,null,null,null,null,{"$f":"IF(AND(REFERENTES!U213<>\"\",          REFERENTES!U213<>96321,    REFERENTES!U213<>96222            ),(REFERENTES!W213),\"\")","v":884},{"$f":"REFERENTES!S213","v":0},null,211,883,211,2836,null,null,{"$f":"CONCATENATE(REFERENTES!T211,\"(\",REFERENTES!U211,\")\")","v":"Matunilla(BARB-ZR1-MATU-1)"},{"$f":"REFERENTES!V211","v":42003}]
[null,null,null,null,null,null,null,null,null,null,null,null,null,null,null,null,null,null,null,null,null,null,null,null,{"$f":"IF(AND(REFERENTES!U214<>\"\",          REFERENTES!U214<>96321,    REFERENTES!U214<>96222            ),(REFERENTES!W214),\"\")","v":885},{"$f":"REFERENTES!S214","v":0},null,212,884,212,2837,null,null,{"$f":"CONCATENATE(REFERENTES!T212,\"(\",REFERENTES!U212,\")\")","v":"Mayapo-1(MAYA-ZR1-MA-1)"},{"$f":"REFERENTES!V212","v":41378}]
[null,null,null,null,null,null,null,null,null,null,null,null,null,null,null,null,null,null,null,null,null,null,null,null,{"$f":"IF(AND(REFERENTES!U215<>\"\",          REFERENTES!U215<>96321,    REFERENTES!U215<>96222            ),(REFERENTES!W215),\"\")","v":0},{"$f":"REFERENTES!S215","v":0},null,213,885,213,2838,null,null,{"$f":"CONCATENATE(REFERENTES!T213,\"(\",REFERENTES!U213,\")\")","v":"Mayapo-2(MAYA-ZR1-MA-2)"},{"$f":"REFERENTES!V213","v":41380}]
[null,null,null,null,null,null,null,null,null,null,null,null,null,null,null,null,null,null,null,null,null,null,null,null,{"$f":"IF(AND(REFERENTES!U216<>\"\",          REFERENTES!U216<>96321,    REFERENTES!U216<>96222            ),(REFERENTES!W216),\"\")","v":0},{"$f":"REFERENTES!S216","v":0},null,214,0,1130,2839,null,null,{"$f":"CONCATENATE(REFERENTES!T214,\"(\",REFERENTES!U214,\")\")","v":"Mayapo-3(MAYA-ZR1-MA-3)"},{"$f":"REFERENTES!V214","v":41382}]
[null,null,null,null,null,null,null,null,null,null,null,null,null,null,null,null,null,null,null,null,null,null,null,null,{"$f":"IF(AND(REFERENTES!U217<>\"\",          REFERENTES!U217<>96321,    REFERENTES!U217<>96222            ),(REFERENTES!W217),\"\")","v":0},{"$f":"REFERENTES!S217","v":0},null,215,0,1130,2840,null,null,{"$f":"CONCATENATE(REFERENTES!T215,\"(\",REFERENTES!U215,\")\")","v":"Mc Bean parcela circular-1(McBeanLagoonPPC-1)"},{"$f":"REFERENTES!V215","v":55569}]
[null,null,null,null,null,null,null,null,null,null,null,null,null,null,null,null,null,null,null,null,null,null,null,null,{"$f":"IF(AND(REFERENTES!U218<>\"\",          REFERENTES!U218<>96321,    REFERENTES!U218<>96222            ),(REFERENTES!W218),\"\")","v":2137},{"$f":"REFERENTES!S218","v":0},null,216,0,1130,2841,null,null,{"$f":"CONCATENATE(REFERENTES!T216,\"(\",REFERENTES!U216,\")\")","v":"Mc Bean parcela circular-2(McBeanLagoonPPC-2)"},{"$f":"REFERENTES!V216","v":55570}]
[null,null,null,null,null,null,null,null,null,null,null,null,null,null,null,null,null,null,null,null,null,null,null,null,{"$f":"IF(AND(REFERENTES!U219<>\"\",          REFERENTES!U219<>96321,    REFERENTES!U219<>96222            ),(REFERENTES!W219),\"\")","v":2847},{"$f":"REFERENTES!S219","v":0},null,217,2137,217,2842,null,null,{"$f":"CONCATENATE(REFERENTES!T217,\"(\",REFERENTES!U217,\")\")","v":"Mc Bean parcela circular-3(McBeanLagoonPPC-3)"},{"$f":"REFERENTES!V217","v":55571}]
[null,null,null,null,null,null,null,null,null,null,null,null,null,null,null,null,null,null,null,null,null,null,null,null,{"$f":"IF(AND(REFERENTES!U220<>\"\",          REFERENTES!U220<>96321,    REFERENTES!U220<>96222            ),(REFERENTES!W220),\"\")","v":2850},{"$f":"REFERENTES!S220","v":0},null,218,2847,218,1109,null,null,{"$f":"CONCATENATE(REFERENTES!T218,\"(\",REFERENTES!U218,\")\")","v":"Málaga(BMAL-ZP9-MV-1)"},{"$f":"REFERENTES!V218","v":45874}]
[null,null,null,null,null,null,null,null,null,null,null,null,null,null,null,null,null,null,null,null,null,null,null,null,{"$f":"IF(AND(REFERENTES!U221<>\"\",          REFERENTES!U221<>96321,    REFERENTES!U221<>96222            ),(REFERENTES!W221),\"\")","v":915},{"$f":"REFERENTES!S221","v":0},null,219,2850,219,2066,null,null,{"$f":"CONCATENATE(REFERENTES!T219,\"(\",REFERENTES!U219,\")\")","v":"Norte(NORTE_SAN)"},{"$f":"REFERENTES!V219","v":58127}]
[null,null,null,null,null,null,null,null,null,null,null,null,null,null,null,null,null,null,null,null,null,null,null,null,{"$f":"IF(AND(REFERENTES!U222<>\"\",          REFERENTES!U222<>96321,    REFERENTES!U222<>96222            ),(REFERENTES!W222),\"\")","v":0},{"$f":"REFERENTES!S222","v":0},null,220,915,220,2067,null,null,{"$f":"CONCATENATE(REFERENTES!T220,\"(\",REFERENTES!U220,\")\")","v":"Norte(NORTE_JON)"},{"$f":"REFERENTES!V220","v":58103}]
[null,null,null,null,null,null,null,null,null,null,null,null,null,null,null,null,null,null,null,null,null,null,null,null,{"$f":"IF(AND(REFERENTES!U223<>\"\",          REFERENTES!U223<>96321,    REFERENTES!U223<>96222            ),(REFERENTES!W223),\"\")","v":0},{"$f":"REFERENTES!S223","v":0},null,221,0,1130,2218,null,null,{"$f":"CONCATENATE(REFERENTES!T221,\"(\",REFERENTES!U221,\")\")","v":"Old Point -1(OPOI-ZUS2-OP-1)"},{"$f":"REFERENTES!V221","v":41463}]
[null,null,null,null,null,null,null,null,null,null,null,null,null,null,null,null,null,null,null,null,null,null,null,null,{"$f":"IF(AND(REFERENTES!U224<>\"\",          REFERENTES!U224<>96321,    REFERENTES!U224<>96222            ),(REFERENTES!W224),\"\")","v":2434},{"$f":"REFERENTES!S224","v":0},null,222,0,1130,2213,null,null,{"$f":"CONCATENATE(REFERENTES!T222,\"(\",REFERENTES!U222,\")\")","v":"Old Town -1(OldTownPPC-1)"},{"$f":"REFERENTES!V222","v":55563}]
[null,null,null,null,null,null,null,null,null,null,null,null,null,null,null,null,null,null,null,null,null,null,null,null,{"$f":"IF(AND(REFERENTES!U225<>\"\",          REFERENTES!U225<>96321,    REFERENTES!U225<>96222            ),(REFERENTES!W225),\"\")","v":2834},{"$f":"REFERENTES!S225","v":0},null,223,2434,223,2061,null,null,{"$f":"CONCATENATE(REFERENTES!T223,\"(\",REFERENTES!U223,\")\")","v":"Old Town -2(OldTownPPC2)"},{"$f":"REFERENTES!V223","v":55564}]
[null,null,null,null,null,null,null,null,null,null,null,null,null,null,null,null,null,null,null,null,null,null,null,null,{"$f":"IF(AND(REFERENTES!U226<>\"\",          REFERENTES!U226<>96321,    REFERENTES!U226<>96222            ),(REFERENTES!W226),\"\")","v":2843},{"$f":"REFERENTES!S226","v":0},null,224,2834,224,1110,null,null,{"$f":"CONCATENATE(REFERENTES!T224,\"(\",REFERENTES!U224,\")\")","v":"Ostion(BCISEST-ZUS1-Ostion-1)"},{"$f":"REFERENTES!V224","v":48747}]
[null,null,null,null,null,null,null,null,null,null,null,null,null,null,null,null,null,null,null,null,null,null,null,null,{"$f":"IF(AND(REFERENTES!U227<>\"\",          REFERENTES!U227<>96321,    REFERENTES!U227<>96222            ),(REFERENTES!W227),\"\")","v":2835},{"$f":"REFERENTES!S227","v":0},null,225,2843,225,2852,null,null,{"$f":"CONCATENATE(REFERENTES!T225,\"(\",REFERENTES!U225,\")\")","v":"PNN McBean Parcela1(PNNMCBEAN_P1)"},{"$f":"REFERENTES!V225","v":58085}]
[null,null,null,null,null,null,null,null,null,null,null,null,null,null,null,null,null,null,null,null,null,null,null,null,{"$f":"IF(AND(REFERENTES!U228<>\"\",          REFERENTES!U228<>96321,    REFERENTES!U228<>96222            ),(REFERENTES!W228),\"\")","v":2836},{"$f":"REFERENTES!S228","v":0},null,226,2835,226,2853,null,null,{"$f":"CONCATENATE(REFERENTES!T226,\"(\",REFERENTES!U226,\")\")","v":"PNN McBean Parcela10(PNNMCBEAN_P10)"},{"$f":"REFERENTES!V226","v":58094}]
[null,null,null,null,null,null,null,null,null,null,null,null,null,null,null,null,null,null,null,null,null,null,null,null,{"$f":"IF(AND(REFERENTES!U229<>\"\",          REFERENTES!U229<>96321,    REFERENTES!U229<>96222            ),(REFERENTES!W229),\"\")","v":2837},{"$f":"REFERENTES!S229","v":0},null,227,2836,227,2854,null,null,{"$f":"CONCATENATE(REFERENTES!T227,\"(\",REFERENTES!U227,\")\")","v":"PNN McBean Parcela2(PNNMCBEAN_P2)"},{"$f":"REFERENTES!V227","v":58086}]
[null,null,null,null,null,null,null,null,null,null,null,null,null,null,null,null,null,null,null,null,null,null,null,null,{"$f":"IF(AND(REFERENTES!U230<>\"\",          REFERENTES!U230<>96321,    REFERENTES!U230<>96222            ),(REFERENTES!W230),\"\")","v":2838},{"$f":"REFERENTES!S230","v":0},null,228,2837,228,2855,null,null,{"$f":"CONCATENATE(REFERENTES!T228,\"(\",REFERENTES!U228,\")\")","v":"PNN McBean Parcela3(PNNMCBEAN_P3)"},{"$f":"REFERENTES!V228","v":58087}]
[null,null,null,null,null,null,null,null,null,null,null,null,null,null,null,null,null,null,null,null,null,null,null,null,{"$f":"IF(AND(REFERENTES!U231<>\"\",          REFERENTES!U231<>96321,    REFERENTES!U231<>96222            ),(REFERENTES!W231),\"\")","v":2839},{"$f":"REFERENTES!S231","v":0},null,229,2838,229,2856,null,null,{"$f":"CONCATENATE(REFERENTES!T229,\"(\",REFERENTES!U229,\")\")","v":"PNN McBean Parcela4(PNNMCBEAN_P4)"},{"$f":"REFERENTES!V229","v":58088}]
[null,null,null,null,null,null,null,null,null,null,null,null,null,null,null,null,null,null,null,null,null,null,null,null,{"$f":"IF(AND(REFERENTES!U232<>\"\",          REFERENTES!U232<>96321,    REFERENTES!U232<>96222            ),(REFERENTES!W232),\"\")","v":2840},{"$f":"REFERENTES!S232","v":0},null,230,2839,230,2857,null,null,{"$f":"CONCATENATE(REFERENTES!T230,\"(\",REFERENTES!U230,\")\")","v":"PNN McBean Parcela5(PNNMCBEAN_P5)"},{"$f":"REFERENTES!V230","v":58089}]
[null,null,null,null,null,null,null,null,null,null,null,null,null,null,null,null,null,null,null,null,null,null,null,null,{"$f":"IF(AND(REFERENTES!U233<>\"\",          REFERENTES!U233<>96321,    REFERENTES!U233<>96222            ),(REFERENTES!W233),\"\")","v":2841},{"$f":"REFERENTES!S233","v":0},null,231,2840,231,2894,null,null,{"$f":"CONCATENATE(REFERENTES!T231,\"(\",REFERENTES!U231,\")\")","v":"PNN McBean Parcela6(PNNMCBEAN_P6)"},{"$f":"REFERENTES!V231","v":58090}]
[null,null,null,null,null,null,null,null,null,null,null,null,null,null,null,null,null,null,null,null,null,null,null,null,{"$f":"IF(AND(REFERENTES!U234<>\"\",          REFERENTES!U234<>96321,    REFERENTES!U234<>96222            ),(REFERENTES!W234),\"\")","v":2842},{"$f":"REFERENTES!S234","v":0},null,232,2841,232,685,null,null,{"$f":"CONCATENATE(REFERENTES!T232,\"(\",REFERENTES!U232,\")\")","v":"PNN McBean Parcela7(PNNMCBEAN_P7)"},{"$f":"REFERENTES!V232","v":58091}]
[null,null,null,null,null,null,null,null,null,null,null,null,null,null,null,null,null,null,null,null,null,null,null,null,{"$f":"IF(AND(REFERENTES!U235<>\"\",          REFERENTES!U235<>96321,    REFERENTES!U235<>96222            ),(REFERENTES!W235),\"\")","v":1109},{"$f":"REFERENTES!S235","v":0},null,233,2842,233,2895,null,null,{"$f":"CONCATENATE(REFERENTES!T233,\"(\",REFERENTES!U233,\")\")","v":"PNN McBean Parcela8(PNNMCBEAN_P8)"},{"$f":"REFERENTES!V233","v":58092}]
[null,null,null,null,null,null,null,null,null,null,null,null,null,null,null,null,null,null,null,null,null,null,null,null,{"$f":"IF(AND(REFERENTES!U236<>\"\",          REFERENTES!U236<>96321,    REFERENTES!U236<>96222            ),(REFERENTES!W236),\"\")","v":2066},{"$f":"REFERENTES!S236","v":0},null,234,1109,234,2896,null,null,{"$f":"CONCATENATE(REFERENTES!T234,\"(\",REFERENTES!U234,\")\")","v":"PNN McBean Parcela9(PNNMCBEAN_P9)"},{"$f":"REFERENTES!V234","v":58093}]
[null,null,null,null,null,null,null,null,null,null,null,null,null,null,null,null,null,null,null,null,null,null,null,null,{"$f":"IF(AND(REFERENTES!U237<>\"\",          REFERENTES!U237<>96321,    REFERENTES!U237<>96222            ),(REFERENTES!W237),\"\")","v":2067},{"$f":"REFERENTES!S237","v":0},null,235,2066,235,2378,null,null,{"$f":"CONCATENATE(REFERENTES!T235,\"(\",REFERENTES!U235,\")\")","v":"Palosecal(VIRU-SZ1-PALOS-1)"},{"$f":"REFERENTES!V235","v":42123}]
[null,null,null,null,null,null,null,null,null,null,null,null,null,null,null,null,null,null,null,null,null,null,null,null,{"$f":"IF(AND(REFERENTES!U238<>\"\",          REFERENTES!U238<>96321,    REFERENTES!U238<>96222            ),(REFERENTES!W238),\"\")","v":2218},{"$f":"REFERENTES!S238","v":0},null,236,2067,236,2138,null,null,{"$f":"CONCATENATE(REFERENTES!T236,\"(\",REFERENTES!U236,\")\")","v":"Pangui -1(Panguí-ZR1-Pangui-1)"},{"$f":"REFERENTES!V236","v":45411}]
[null,null,null,null,null,null,null,null,null,null,null,null,null,null,null,null,null,null,null,null,null,null,null,null,{"$f":"IF(AND(REFERENTES!U239<>\"\",          REFERENTES!U239<>96321,    REFERENTES!U239<>96222            ),(REFERENTES!W239),\"\")","v":2213},{"$f":"REFERENTES!S239","v":0},null,237,2218,237,2093,null,null,{"$f":"CONCATENATE(REFERENTES!T237,\"(\",REFERENTES!U237,\")\")","v":"Pangui -2(Panguí-ZR1-Pangui-2)"},{"$f":"REFERENTES!V237","v":45413}]
[null,null,null,null,null,null,null,null,null,null,null,null,null,null,null,null,null,null,null,null,null,null,null,null,{"$f":"IF(AND(REFERENTES!U240<>\"\",          REFERENTES!U240<>96321,    REFERENTES!U240<>96222            ),(REFERENTES!W240),\"\")","v":2061},{"$f":"REFERENTES!S240","v":0},null,238,2213,238,1793,null,null,{"$f":"CONCATENATE(REFERENTES!T238,\"(\",REFERENTES!U238,\")\")","v":"Parcela Esteh(CAJA-ZR1-Esteh-1)"},{"$f":"REFERENTES!V238","v":46020}]
[null,null,null,null,null,null,null,null,null,null,null,null,null,null,null,null,null,null,null,null,null,null,null,null,{"$f":"IF(AND(REFERENTES!U241<>\"\",          REFERENTES!U241<>96321,    REFERENTES!U241<>96222            ),(REFERENTES!W241),\"\")","v":1110},{"$f":"REFERENTES!S241","v":0},null,239,2061,239,1799,null,null,{"$f":"CONCATENATE(REFERENTES!T239,\"(\",REFERENTES!U239,\")\")","v":"Parcela Play(CAJA-ZUS1-Ply-1)"},{"$f":"REFERENTES!V239","v":46002}]
[null,null,null,null,null,null,null,null,null,null,null,null,null,null,null,null,null,null,null,null,null,null,null,null,{"$f":"IF(AND(REFERENTES!U242<>\"\",          REFERENTES!U242<>96321,    REFERENTES!U242<>96222            ),(REFERENTES!W242),\"\")","v":2852},{"$f":"REFERENTES!S242","v":0},null,240,1110,240,2037,null,null,{"$f":"CONCATENATE(REFERENTES!T240,\"(\",REFERENTES!U240,\")\")","v":"Pasacaballos(CAMREAL-ZUS2-CABALLOS-1)"},{"$f":"REFERENTES!V240","v":45391}]
[null,null,null,null,null,null,null,null,null,null,null,null,null,null,null,null,null,null,null,null,null,null,null,null,{"$f":"IF(AND(REFERENTES!U243<>\"\",          REFERENTES!U243<>96321,    REFERENTES!U243<>96222            ),(REFERENTES!W243),\"\")","v":2853},{"$f":"REFERENTES!S243","v":0},null,241,2852,241,2038,null,null,{"$f":"CONCATENATE(REFERENTES!T241,\"(\",REFERENTES!U241,\")\")","v":"Peñitas(VIRU-SZ1-PEÑI-1)"},{"$f":"REFERENTES!V241","v":42127}]
[null,null,null,null,null,null,null,null,null,null,null,null,null,null,null,null,null,null,null,null,null,null,null,null,{"$f":"IF(AND(REFERENTES!U244<>\"\",          REFERENTES!U244<>96321,    REFERENTES!U244<>96222            ),(REFERENTES!W244),\"\")","v":2854},{"$f":"REFERENTES!S244","v":0},null,242,2853,242,2039,null,null,{"$f":"CONCATENATE(REFERENTES!T242,\"(\",REFERENTES!U242,\")\")","v":"Playa Dormida1 P1(PDORMIDA1_1)"},{"$f":"REFERENTES!V242","v":58148}]
[null,null,null,null,null,null,null,null,null,null,null,null,null,null,null,null,null,null,null,null,null,null,null,null,{"$f":"IF(AND(REFERENTES!U245<>\"\",          REFERENTES!U245<>96321,    REFERENTES!U245<>96222            ),(REFERENTES!W245),\"\")","v":2855},{"$f":"REFERENTES!S245","v":0},null,243,2854,243,2031,null,null,{"$f":"CONCATENATE(REFERENTES!T243,\"(\",REFERENTES!U243,\")\")","v":"Playa Dormida1 P2(PDORMIDA1_2)"},{"$f":"REFERENTES!V243","v":58149}]
[null,null,null,null,null,null,null,null,null,null,null,null,null,null,null,null,null,null,null,null,null,null,null,null,{"$f":"IF(AND(REFERENTES!U246<>\"\",          REFERENTES!U246<>96321,    REFERENTES!U246<>96222            ),(REFERENTES!W246),\"\")","v":2856},{"$f":"REFERENTES!S246","v":0},null,244,2855,244,2032,null,null,{"$f":"CONCATENATE(REFERENTES!T244,\"(\",REFERENTES!U244,\")\")","v":"Playa Dormida1 P3(PDORMIDA1_3)"},{"$f":"REFERENTES!V244","v":58150}]
[null,null,null,null,null,null,null,null,null,null,null,null,null,null,null,null,null,null,null,null,null,null,null,null,{"$f":"IF(AND(REFERENTES!U247<>\"\",          REFERENTES!U247<>96321,    REFERENTES!U247<>96222            ),(REFERENTES!W247),\"\")","v":2857},{"$f":"REFERENTES!S247","v":0},null,245,2856,245,2033,null,null,{"$f":"CONCATENATE(REFERENTES!T245,\"(\",REFERENTES!U245,\")\")","v":"Playa Dormida2 P1(PDORMIDA2_1)"},{"$f":"REFERENTES!V245","v":58152}]
[null,null,null,null,null,null,null,null,null,null,null,null,null,null,null,null,null,null,null,null,null,null,null,null,{"$f":"IF(AND(REFERENTES!U248<>\"\",          REFERENTES!U248<>96321,    REFERENTES!U248<>96222            ),(REFERENTES!W248),\"\")","v":2894},{"$f":"REFERENTES!S248","v":0},null,246,2857,246,2362,null,null,{"$f":"CONCATENATE(REFERENTES!T246,\"(\",REFERENTES!U246,\")\")","v":"Playa Dormida2 P2(PDORMIDA2_2)"},{"$f":"REFERENTES!V246","v":58153}]
[null,null,null,null,null,null,null,null,null,null,null,null,null,null,null,null,null,null,null,null,null,null,null,null,{"$f":"IF(AND(REFERENTES!U249<>\"\",          REFERENTES!U249<>96321,    REFERENTES!U249<>96222            ),(REFERENTES!W249),\"\")","v":685},{"$f":"REFERENTES!S249","v":0},null,247,2894,247,1726,null,null,{"$f":"CONCATENATE(REFERENTES!T247,\"(\",REFERENTES!U247,\")\")","v":"Playa Dormida2 P3(PDORMIDA2_3)"},{"$f":"REFERENTES!V247","v":58154}]
[null,null,null,null,null,null,null,null,null,null,null,null,null,null,null,null,null,null,null,null,null,null,null,null,{"$f":"IF(AND(REFERENTES!U250<>\"\",          REFERENTES!U250<>96321,    REFERENTES!U250<>96222            ),(REFERENTES!W250),\"\")","v":2895},{"$f":"REFERENTES!S250","v":0},null,248,685,248,2368,null,null,{"$f":"CONCATENATE(REFERENTES!T248,\"(\",REFERENTES!U248,\")\")","v":"Playa Mallorquin(PLAMALLOR_ZP-PLAYA_MALLOR)"},{"$f":"REFERENTES!V248","v":58623}]
[null,null,null,null,null,null,null,null,null,null,null,null,null,null,null,null,null,null,null,null,null,null,null,null,{"$f":"IF(AND(REFERENTES!U251<>\"\",          REFERENTES!U251<>96321,    REFERENTES!U251<>96222            ),(REFERENTES!W251),\"\")","v":2896},{"$f":"REFERENTES!S251","v":0},null,249,2895,249,2214,null,null,{"$f":"CONCATENATE(REFERENTES!T249,\"(\",REFERENTES!U249,\")\")","v":"Playa Mendoza(PLAMENDOZA-ZP-PLAYA_MENDOZA)"},{"$f":"REFERENTES!V249","v":40909}]
[null,null,null,null,null,null,null,null,null,null,null,null,null,null,null,null,null,null,null,null,null,null,null,null,{"$f":"IF(AND(REFERENTES!U252<>\"\",          REFERENTES!U252<>96321,    REFERENTES!U252<>96222            ),(REFERENTES!W252),\"\")","v":2378},{"$f":"REFERENTES!S252","v":0},null,250,2896,250,2823,null,null,{"$f":"CONCATENATE(REFERENTES!T250,\"(\",REFERENTES!U250,\")\")","v":"Puerto Caiman -1(PUERCAIMAN01_ZP-PUERTO_CAIMAN)"},{"$f":"REFERENTES!V250","v":58626}]
[null,null,null,null,null,null,null,null,null,null,null,null,null,null,null,null,null,null,null,null,null,null,null,null,{"$f":"IF(AND(REFERENTES!U253<>\"\",          REFERENTES!U253<>96321,    REFERENTES!U253<>96222            ),(REFERENTES!W253),\"\")","v":2138},{"$f":"REFERENTES!S253","v":0},null,251,2378,251,2824,null,null,{"$f":"CONCATENATE(REFERENTES!T251,\"(\",REFERENTES!U251,\")\")","v":"Puerto Caiman -2(PUERCAIMAN02_ZP-PUERTO_CAIMAN)"},{"$f":"REFERENTES!V251","v":58627}]
[null,null,null,null,null,null,null,null,null,null,null,null,null,null,null,null,null,null,null,null,null,null,null,null,{"$f":"IF(AND(REFERENTES!U254<>\"\",          REFERENTES!U254<>96321,    REFERENTES!U254<>96222            ),(REFERENTES!W254),\"\")","v":2093},{"$f":"REFERENTES!S254","v":0},null,252,2138,252,2824,null,null,{"$f":"CONCATENATE(REFERENTES!T252,\"(\",REFERENTES!U252,\")\")","v":"Puerto Cesar-1(CORI-ZP1-Pces-1)"},{"$f":"REFERENTES!V252","v":48471}]
[null,null,null,null,null,null,null,null,null,null,null,null,null,null,null,null,null,null,null,null,null,null,null,null,{"$f":"IF(AND(REFERENTES!U255<>\"\",          REFERENTES!U255<>96321,    REFERENTES!U255<>96222            ),(REFERENTES!W255),\"\")","v":1793},{"$f":"REFERENTES!S255","v":0},null,253,2093,253,2831,null,null,{"$f":"CONCATENATE(REFERENTES!T253,\"(\",REFERENTES!U253,\")\")","v":"Puerto España(BSJU-ZR3-SJPE-1)"},{"$f":"REFERENTES!V253","v":45880}]
[null,null,null,null,null,null,null,null,null,null,null,null,null,null,null,null,null,null,null,null,null,null,null,null,{"$f":"IF(AND(REFERENTES!U256<>\"\",          REFERENTES!U256<>96321,    REFERENTES!U256<>96222            ),(REFERENTES!W256),\"\")","v":1799},{"$f":"REFERENTES!S256","v":0},null,254,1793,254,2832,null,null,{"$f":"CONCATENATE(REFERENTES!T254,\"(\",REFERENTES!U254,\")\")","v":"Puerto Velero(PUVELERO-SZ-PUERTO_VELERO)"},{"$f":"REFERENTES!V254","v":45519}]
[null,null,null,null,null,null,null,null,null,null,null,null,null,null,null,null,null,null,null,null,null,null,null,null,{"$f":"IF(AND(REFERENTES!U257<>\"\",          REFERENTES!U257<>96321,    REFERENTES!U257<>96222            ),(REFERENTES!W257),\"\")","v":2037},{"$f":"REFERENTES!S257","v":0},null,255,1799,255,2833,null,null,{"$f":"CONCATENATE(REFERENTES!T255,\"(\",REFERENTES!U255,\")\")","v":"Punta Arenas(TBOM-ZP1-PtaArenas-1)"},{"$f":"REFERENTES!V255","v":44603}]
[null,null,null,null,null,null,null,null,null,null,null,null,null,null,null,null,null,null,null,null,null,null,null,null,{"$f":"IF(AND(REFERENTES!U258<>\"\",          REFERENTES!U258<>96321,    REFERENTES!U258<>96222            ),(REFERENTES!W258),\"\")","v":2038},{"$f":"REFERENTES!S258","v":0},null,256,2037,256,1724,null,null,{"$f":"CONCATENATE(REFERENTES!T256,\"(\",REFERENTES!U256,\")\")","v":"Punta Boqueron(JPVI-ZR1-Boquerón-1)"},{"$f":"REFERENTES!V256","v":44621}]
[null,null,null,null,null,null,null,null,null,null,null,null,null,null,null,null,null,null,null,null,null,null,null,null,{"$f":"IF(AND(REFERENTES!U259<>\"\",          REFERENTES!U259<>96321,    REFERENTES!U259<>96222            ),(REFERENTES!W259),\"\")","v":2039},{"$f":"REFERENTES!S259","v":0},null,257,2038,257,1725,null,null,{"$f":"CONCATENATE(REFERENTES!T257,\"(\",REFERENTES!U257,\")\")","v":"Punta Cerro -1(CGSM-SZ1-PtaCerro-1)"},{"$f":"REFERENTES!V257","v":45288}]
[null,null,null,null,null,null,null,null,null,null,null,null,null,null,null,null,null,null,null,null,null,null,null,null,{"$f":"IF(AND(REFERENTES!U260<>\"\",          REFERENTES!U260<>96321,    REFERENTES!U260<>96222            ),(REFERENTES!W260),\"\")","v":2031},{"$f":"REFERENTES!S260","v":0},null,258,{"$f":"IF(Y263=\"\",0,Y263)","v":2039},{"$f":"IF(AC264=0,MAX($AB$7:$AB$1135)+1,AB264)","v":258},{"$f":"IFERROR(VLOOKUP(SMALL($AD$7:$AD$1135,AB264),$AB$7:$AD$1135,2,FALSE),\"X\")","v":2149},null,null,{"$f":"CONCATENATE(REFERENTES!T258,\"(\",REFERENTES!U258,\")\")","v":"Punta Cerro -2(CGSM-SZ1-PtaCerro-2)"},{"$f":"REFERENTES!V258","v":45290}]
[null,null,null,null,null,null,null,null,null,null,null,null,null,null,null,null,null,null,null,null,null,null,null,null,{"$f":"IF(AND(REFERENTES!U261<>\"\",          REFERENTES!U261<>96321,    REFERENTES!U261<>96222            ),(REFERENTES!W261),\"\")","v":2032},{"$f":"REFERENTES!S261","v":0},null,259,2031,259,2150,null,null,{"$f":"CONCATENATE(REFERENTES!T259,\"(\",REFERENTES!U259,\")\")","v":"Punta Cerro -3(CGSM-SZ1-PtaCerro-3)"},{"$f":"REFERENTES!V259","v":45292}]
[null,null,null,null,null,null,null,null,null,null,null,null,null,null,null,null,null,null,null,null,null,null,null,null,{"$f":"IF(AND(REFERENTES!U262<>\"\",          REFERENTES!U262<>96321,    REFERENTES!U262<>96222            ),(REFERENTES!W262),\"\")","v":2033},{"$f":"REFERENTES!S262","v":0},null,260,2032,260,2152,null,null,{"$f":"CONCATENATE(REFERENTES!T260,\"(\",REFERENTES!U260,\")\")","v":"Punta Chino -1(CGSM-SZ1-PtaChino-1)"},{"$f":"REFERENTES!V260","v":45274}]
[null,null,null,null,null,null,null,null,null,null,null,null,null,null,null,null,null,null,null,null,null,null,null,null,{"$f":"IF(AND(REFERENTES!U263<>\"\",          REFERENTES!U263<>96321,    REFERENTES!U263<>96222            ),(REFERENTES!W263),\"\")","v":2362},{"$f":"REFERENTES!S263","v":0},null,261,2033,261,2370,null,null,{"$f":"CONCATENATE(REFERENTES!T261,\"(\",REFERENTES!U261,\")\")","v":"Punta Chino -2(CGSM-SZ1-PtaChino-2)"},{"$f":"REFERENTES!V261","v":45276}]
[null,null,null,null,null,null,null,null,null,null,null,null,null,null,null,null,null,null,null,null,null,null,null,null,{"$f":"IF(AND(REFERENTES!U264<>\"\",          REFERENTES!U264<>96321,    REFERENTES!U264<>96222            ),(REFERENTES!W264),\"\")","v":1726},{"$f":"REFERENTES!S264","v":0},null,262,2362,262,2022,null,null,{"$f":"CONCATENATE(REFERENTES!T262,\"(\",REFERENTES!U262,\")\")","v":"Punta Chino -3(CGSM-SZ1-PtaChino-3)"},{"$f":"REFERENTES!V262","v":45278}]
[null,null,null,null,null,null,null,null,null,null,null,null,null,null,null,null,null,null,null,null,null,null,null,null,{"$f":"IF(AND(REFERENTES!U265<>\"\",          REFERENTES!U265<>96321,    REFERENTES!U265<>96222            ),(REFERENTES!W265),\"\")","v":2368},{"$f":"REFERENTES!S265","v":0},null,263,1726,263,2410,null,null,{"$f":"CONCATENATE(REFERENTES!T263,\"(\",REFERENTES!U263,\")\")","v":"Punta Coquito -1(BCOL-ZP1-Pcoq-1)"},{"$f":"REFERENTES!V263","v":48403}]
[null,null,null,null,null,null,null,null,null,null,null,null,null,null,null,null,null,null,null,null,null,null,null,null,{"$f":"IF(AND(REFERENTES!U266<>\"\",          REFERENTES!U266<>96321,    REFERENTES!U266<>96222            ),(REFERENTES!W266),\"\")","v":2214},{"$f":"REFERENTES!S266","v":0},null,264,2368,264,2862,null,null,{"$f":"CONCATENATE(REFERENTES!T264,\"(\",REFERENTES!U264,\")\")","v":"Punta Seca -1(PSEC-ZR1-PSEC-1)"},{"$f":"REFERENTES!V264","v":44400}]
[null,null,null,null,null,null,null,null,null,null,null,null,null,null,null,null,null,null,null,null,null,null,null,null,{"$f":"IF(AND(REFERENTES!U267<>\"\",          REFERENTES!U267<>96321,    REFERENTES!U267<>96222            ),(REFERENTES!W267),\"\")","v":2823},{"$f":"REFERENTES!S267","v":0},null,265,2214,265,2641,null,null,{"$f":"CONCATENATE(REFERENTES!T265,\"(\",REFERENTES!U265,\")\")","v":"Punta de las Vacas-1(CORI-ZP1-Pvac-1)"},{"$f":"REFERENTES!V265","v":48432}]
[null,null,null,null,null,null,null,null,null,null,null,null,null,null,null,null,null,null,null,null,null,null,null,null,{"$f":"IF(AND(REFERENTES!U268<>\"\",          REFERENTES!U268<>96321,    REFERENTES!U268<>96222            ),(REFERENTES!W268),\"\")","v":2824},{"$f":"REFERENTES!S268","v":0},null,266,2823,266,2028,null,null,{"$f":"CONCATENATE(REFERENTES!T266,\"(\",REFERENTES!U266,\")\")","v":"Quebrada Balsadito(MAYO-ZR3-QB-1)"},{"$f":"REFERENTES!V266","v":46006}]
[null,null,null,null,null,null,null,null,null,null,null,null,null,null,null,null,null,null,null,null,null,null,null,null,{"$f":"IF(AND(REFERENTES!U269<>\"\",          REFERENTES!U269<>96321,    REFERENTES!U269<>96222            ),(REFERENTES!W269),\"\")","v":2824},{"$f":"REFERENTES!S269","v":0},null,267,2824,267,2029,null,null,{"$f":"CONCATENATE(REFERENTES!T267,\"(\",REFERENTES!U267,\")\")","v":"REF Parcela1(REF_P1)"},{"$f":"REFERENTES!V267","v":58068}]
[null,null,null,null,null,null,null,null,null,null,null,null,null,null,null,null,null,null,null,null,null,null,null,null,{"$f":"IF(AND(REFERENTES!U270<>\"\",          REFERENTES!U270<>96321,    REFERENTES!U270<>96222            ),(REFERENTES!W270),\"\")","v":2831},{"$f":"REFERENTES!S270","v":0},null,268,2824,268,2030,null,null,{"$f":"CONCATENATE(REFERENTES!T268,\"(\",REFERENTES!U268,\")\")","v":"REF Parcela2(REF_P2)"},{"$f":"REFERENTES!V268","v":58069}]
[null,null,null,null,null,null,null,null,null,null,null,null,null,null,null,null,null,null,null,null,null,null,null,null,{"$f":"IF(AND(REFERENTES!U271<>\"\",          REFERENTES!U271<>96321,    REFERENTES!U271<>96222            ),(REFERENTES!W271),\"\")","v":2832},{"$f":"REFERENTES!S271","v":0},null,269,2831,269,2811,null,null,{"$f":"CONCATENATE(REFERENTES!T269,\"(\",REFERENTES!U269,\")\")","v":"REF Parcela3(REF_P3)"},{"$f":"REFERENTES!V269","v":58070}]
[null,null,null,null,null,null,null,null,null,null,null,null,null,null,null,null,null,null,null,null,null,null,null,null,{"$f":"IF(AND(REFERENTES!U272<>\"\",          REFERENTES!U272<>96321,    REFERENTES!U272<>96222            ),(REFERENTES!W272),\"\")","v":2833},{"$f":"REFERENTES!S272","v":0},null,270,2832,270,2812,null,null,{"$f":"CONCATENATE(REFERENTES!T270,\"(\",REFERENTES!U270,\")\")","v":"REF RIN Parcela1(REF_P1)"},{"$f":"REFERENTES!V270","v":58080}]
[null,null,null,null,null,null,null,null,null,null,null,null,null,null,null,null,null,null,null,null,null,null,null,null,{"$f":"IF(AND(REFERENTES!U273<>\"\",          REFERENTES!U273<>96321,    REFERENTES!U273<>96222            ),(REFERENTES!W273),\"\")","v":1724},{"$f":"REFERENTES!S273","v":0},null,271,2833,271,2813,null,null,{"$f":"CONCATENATE(REFERENTES!T271,\"(\",REFERENTES!U271,\")\")","v":"REF RIN Parcela2(REF_P2)"},{"$f":"REFERENTES!V271","v":58081}]
[null,null,null,null,null,null,null,null,null,null,null,null,null,null,null,null,null,null,null,null,null,null,null,null,{"$f":"IF(AND(REFERENTES!U274<>\"\",          REFERENTES!U274<>96321,    REFERENTES!U274<>96222            ),(REFERENTES!W274),\"\")","v":1725},{"$f":"REFERENTES!S274","v":0},null,272,1724,272,2814,null,null,{"$f":"CONCATENATE(REFERENTES!T272,\"(\",REFERENTES!U272,\")\")","v":"REF RIN Parcela3(REF_P3)"},{"$f":"REFERENTES!V272","v":58082}]
[null,null,null,null,null,null,null,null,null,null,null,null,null,null,null,null,null,null,null,null,null,null,null,null,{"$f":"IF(AND(REFERENTES!U275<>\"\",          REFERENTES!U275<>96321,    REFERENTES!U275<>96222            ),(REFERENTES!W275),\"\")","v":2149},{"$f":"REFERENTES!S275","v":0},null,273,1725,273,2815,null,null,{"$f":"CONCATENATE(REFERENTES!T273,\"(\",REFERENTES!U273,\")\")","v":"Rincon Norte -1(RINC-ZP1-RNOR-1)"},{"$f":"REFERENTES!V273","v":44392}]
[null,null,null,null,null,null,null,null,null,null,null,null,null,null,null,null,null,null,null,null,null,null,null,null,{"$f":"IF(AND(REFERENTES!U276<>\"\",          REFERENTES!U276<>96321,    REFERENTES!U276<>96222            ),(REFERENTES!W276),\"\")","v":2150},{"$f":"REFERENTES!S276","v":0},null,274,2149,274,2816,null,null,{"$f":"CONCATENATE(REFERENTES!T274,\"(\",REFERENTES!U274,\")\")","v":"Rincon Sur -1(RINC-ZR1-RSUR-1)"},{"$f":"REFERENTES!V274","v":44395}]
[null,null,null,null,null,null,null,null,null,null,null,null,null,null,null,null,null,null,null,null,null,null,null,null,{"$f":"IF(AND(REFERENTES!U277<>\"\",          REFERENTES!U277<>96321,    REFERENTES!U277<>96222            ),(REFERENTES!W277),\"\")","v":2152},{"$f":"REFERENTES!S277","v":0},null,275,2150,275,2454,null,null,{"$f":"CONCATENATE(REFERENTES!T275,\"(\",REFERENTES!U275,\")\")","v":"Rinconada -1(VIPIS-SZ1-RIN-1)"},{"$f":"REFERENTES!V275","v":45914}]
[null,null,null,null,null,null,null,null,null,null,null,null,null,null,null,null,null,null,null,null,null,null,null,null,{"$f":"IF(AND(REFERENTES!U278<>\"\",          REFERENTES!U278<>96321,    REFERENTES!U278<>96222            ),(REFERENTES!W278),\"\")","v":2370},{"$f":"REFERENTES!S278","v":0},null,276,2152,276,2455,null,null,{"$f":"CONCATENATE(REFERENTES!T276,\"(\",REFERENTES!U276,\")\")","v":"Rinconada -2(VIPIS-SZ1-RIN-2)"},{"$f":"REFERENTES!V276","v":45916}]
[null,null,null,null,null,null,null,null,null,null,null,null,null,null,null,null,null,null,null,null,null,null,null,null,{"$f":"IF(AND(REFERENTES!U279<>\"\",          REFERENTES!U279<>96321,    REFERENTES!U279<>96222            ),(REFERENTES!W279),\"\")","v":2022},{"$f":"REFERENTES!S279","v":0},null,277,2370,277,2456,null,null,{"$f":"CONCATENATE(REFERENTES!T277,\"(\",REFERENTES!U277,\")\")","v":"Rinconada -3(VIPIS-SZ1-RIN-3)"},{"$f":"REFERENTES!V277","v":45920}]
[null,null,null,null,null,null,null,null,null,null,null,null,null,null,null,null,null,null,null,null,null,null,null,null,{"$f":"IF(AND(REFERENTES!U280<>\"\",          REFERENTES!U280<>96321,    REFERENTES!U280<>96222            ),(REFERENTES!W280),\"\")","v":2410},{"$f":"REFERENTES!S280","v":0},null,278,2022,278,2457,null,null,{"$f":"CONCATENATE(REFERENTES!T278,\"(\",REFERENTES!U278,\")\")","v":"Rio Caimán Viejo -1(CORI-ZUS1-Cviej-1)"},{"$f":"REFERENTES!V278","v":48440}]
[null,null,null,null,null,null,null,null,null,null,null,null,null,null,null,null,null,null,null,null,null,null,null,null,{"$f":"IF(AND(REFERENTES!U281<>\"\",          REFERENTES!U281<>96321,    REFERENTES!U281<>96222            ),(REFERENTES!W281),\"\")","v":2862},{"$f":"REFERENTES!S281","v":0},null,279,2410,279,2458,null,null,{"$f":"CONCATENATE(REFERENTES!T279,\"(\",REFERENTES!U279,\")\")","v":"Rio Chorí(Jurub-ZUS1-Pabarc-1)"},{"$f":"REFERENTES!V279","v":45248}]
[null,null,null,null,null,null,null,null,null,null,null,null,null,null,null,null,null,null,null,null,null,null,null,null,{"$f":"IF(AND(REFERENTES!U282<>\"\",          REFERENTES!U282<>96321,    REFERENTES!U282<>96222            ),(REFERENTES!W282),\"\")","v":2641},{"$f":"REFERENTES!S282","v":0},null,280,2862,280,2860,null,null,{"$f":"CONCATENATE(REFERENTES!T280,\"(\",REFERENTES!U280,\")\")","v":"Rio Necocli -2(CORI-ZR1-Rnec-2)"},{"$f":"REFERENTES!V280","v":48574}]
[null,null,null,null,null,null,null,null,null,null,null,null,null,null,null,null,null,null,null,null,null,null,null,null,{"$f":"IF(AND(REFERENTES!U283<>\"\",          REFERENTES!U283<>96321,    REFERENTES!U283<>96222            ),(REFERENTES!W283),\"\")","v":2028},{"$f":"REFERENTES!S283","v":0},null,281,2641,281,1111,null,null,{"$f":"CONCATENATE(REFERENTES!T281,\"(\",REFERENTES!U281,\")\")","v":"Rio Ordo(SI-SZ-RIO_ORDO)"},{"$f":"REFERENTES!V281","v":58495}]
[null,null,null,null,null,null,null,null,null,null,null,null,null,null,null,null,null,null,null,null,null,null,null,null,{"$f":"IF(AND(REFERENTES!U284<>\"\",          REFERENTES!U284<>96321,    REFERENTES!U284<>96222            ),(REFERENTES!W284),\"\")","v":2029},{"$f":"REFERENTES!S284","v":0},null,282,2028,282,2376,null,null,{"$f":"CONCATENATE(REFERENTES!T282,\"(\",REFERENTES!U282,\")\")","v":"Rio Saija 3-1(CANT-SZ1-SAIJA3-1)"},{"$f":"REFERENTES!V282","v":49591}]
[null,null,null,null,null,null,null,null,null,null,null,null,null,null,null,null,null,null,null,null,null,null,null,null,{"$f":"IF(AND(REFERENTES!U285<>\"\",          REFERENTES!U285<>96321,    REFERENTES!U285<>96222            ),(REFERENTES!W285),\"\")","v":2030},{"$f":"REFERENTES!S285","v":0},null,283,2029,283,1802,null,null,{"$f":"CONCATENATE(REFERENTES!T283,\"(\",REFERENTES!U283,\")\")","v":"Rio Sevilla -1(CGSM-SZ1-Sevillla-1)"},{"$f":"REFERENTES!V283","v":45267}]
[null,null,null,null,null,null,null,null,null,null,null,null,null,null,null,null,null,null,null,null,null,null,null,null,{"$f":"IF(AND(REFERENTES!U286<>\"\",          REFERENTES!U286<>96321,    REFERENTES!U286<>96222            ),(REFERENTES!W286),\"\")","v":2811},{"$f":"REFERENTES!S286","v":0},null,284,2030,284,1765,null,null,{"$f":"CONCATENATE(REFERENTES!T284,\"(\",REFERENTES!U284,\")\")","v":"Rio Sevilla -2(CGSM-SZ1-Sevillla-2)"},{"$f":"REFERENTES!V284","v":45269}]
[null,null,null,null,null,null,null,null,null,null,null,null,null,null,null,null,null,null,null,null,null,null,null,null,{"$f":"IF(AND(REFERENTES!U287<>\"\",          REFERENTES!U287<>96321,    REFERENTES!U287<>96222            ),(REFERENTES!W287),\"\")","v":2812},{"$f":"REFERENTES!S287","v":0},null,285,2811,285,1766,null,null,{"$f":"CONCATENATE(REFERENTES!T285,\"(\",REFERENTES!U285,\")\")","v":"Rio Sevilla -3(CGSM-SZ1-Sevillla-3)"},{"$f":"REFERENTES!V285","v":45271}]
[null,null,null,null,null,null,null,null,null,null,null,null,null,null,null,null,null,null,null,null,null,null,null,null,{"$f":"IF(AND(REFERENTES!U288<>\"\",          REFERENTES!U288<>96321,    REFERENTES!U288<>96222            ),(REFERENTES!W288),\"\")","v":2813},{"$f":"REFERENTES!S288","v":0},null,286,2812,286,1770,null,null,{"$f":"CONCATENATE(REFERENTES!T286,\"(\",REFERENTES!U286,\")\")","v":"Rio Toribio - MI(Toribio_1)"},{"$f":"REFERENTES!V286","v":57505}]
[null,null,null,null,null,null,null,null,null,null,null,null,null,null,null,null,null,null,null,null,null,null,null,null,{"$f":"IF(AND(REFERENTES!U289<>\"\",          REFERENTES!U289<>96321,    REFERENTES!U289<>96222            ),(REFERENTES!W289),\"\")","v":2814},{"$f":"REFERENTES!S289","v":0},null,287,2813,287,1731,null,null,{"$f":"CONCATENATE(REFERENTES!T287,\"(\",REFERENTES!U287,\")\")","v":"Rio Toribio - MII(Toribio_2)"},{"$f":"REFERENTES!V287","v":57506}]
[null,null,null,null,null,null,null,null,null,null,null,null,null,null,null,null,null,null,null,null,null,null,null,null,{"$f":"IF(AND(REFERENTES!U290<>\"\",          REFERENTES!U290<>96321,    REFERENTES!U290<>96222            ),(REFERENTES!W290),\"\")","v":2815},{"$f":"REFERENTES!S290","v":0},null,288,2814,288,922,null,null,{"$f":"CONCATENATE(REFERENTES!T288,\"(\",REFERENTES!U288,\")\")","v":"Rio Toribio - MIII (Toribio_3)"},{"$f":"REFERENTES!V288","v":57507}]
[null,null,null,null,null,null,null,null,null,null,null,null,null,null,null,null,null,null,null,null,null,null,null,null,{"$f":"IF(AND(REFERENTES!U291<>\"\",          REFERENTES!U291<>96321,    REFERENTES!U291<>96222            ),(REFERENTES!W291),\"\")","v":2816},{"$f":"REFERENTES!S291","v":0},null,289,2815,289,1999,null,null,{"$f":"CONCATENATE(REFERENTES!T289,\"(\",REFERENTES!U289,\")\")","v":"Rio Toribio - MIV(Toribio_4)"},{"$f":"REFERENTES!V289","v":57508}]
[null,null,null,null,null,null,null,null,null,null,null,null,null,null,null,null,null,null,null,null,null,null,null,null,{"$f":"IF(AND(REFERENTES!U292<>\"\",          REFERENTES!U292<>96321,    REFERENTES!U292<>96222            ),(REFERENTES!W292),\"\")","v":2454},{"$f":"REFERENTES!S292","v":0},null,290,2816,290,2133,null,null,{"$f":"CONCATENATE(REFERENTES!T290,\"(\",REFERENTES!U290,\")\")","v":"Rio Toribio - MV(Toribio_5)"},{"$f":"REFERENTES!V290","v":57509}]
[null,null,null,null,null,null,null,null,null,null,null,null,null,null,null,null,null,null,null,null,null,null,null,null,{"$f":"IF(AND(REFERENTES!U293<>\"\",          REFERENTES!U293<>96321,    REFERENTES!U293<>96222            ),(REFERENTES!W293),\"\")","v":2455},{"$f":"REFERENTES!S293","v":0},null,291,2454,291,1761,null,null,{"$f":"CONCATENATE(REFERENTES!T291,\"(\",REFERENTES!U291,\")\")","v":"Rio Toribio - MVI(Toribio_6)"},{"$f":"REFERENTES!V291","v":57510}]
[null,null,null,null,null,null,null,null,null,null,null,null,null,null,null,null,null,null,null,null,null,null,null,null,{"$f":"IF(AND(REFERENTES!U294<>\"\",          REFERENTES!U294<>96321,    REFERENTES!U294<>96222            ),(REFERENTES!W294),\"\")","v":2456},{"$f":"REFERENTES!S294","v":0},null,292,2455,292,2880,null,null,{"$f":"CONCATENATE(REFERENTES!T292,\"(\",REFERENTES!U292,\")\")","v":"Rio Toribio-1(TOR-SZ1-Toribio-1)"},{"$f":"REFERENTES!V292","v":48867}]
[null,null,null,null,null,null,null,null,null,null,null,null,null,null,null,null,null,null,null,null,null,null,null,null,{"$f":"IF(AND(REFERENTES!U295<>\"\",          REFERENTES!U295<>96321,    REFERENTES!U295<>96222            ),(REFERENTES!W295),\"\")","v":2457},{"$f":"REFERENTES!S295","v":0},null,293,2456,293,2660,null,null,{"$f":"CONCATENATE(REFERENTES!T293,\"(\",REFERENTES!U293,\")\")","v":"Rio Toribio-2(TOR-SZ1-Toribio-2)"},{"$f":"REFERENTES!V293","v":48869}]
[null,null,null,null,null,null,null,null,null,null,null,null,null,null,null,null,null,null,null,null,null,null,null,null,{"$f":"IF(AND(REFERENTES!U296<>\"\",          REFERENTES!U296<>96321,    REFERENTES!U296<>96222            ),(REFERENTES!W296),\"\")","v":2458},{"$f":"REFERENTES!S296","v":0},null,294,2457,294,2661,null,null,{"$f":"CONCATENATE(REFERENTES!T294,\"(\",REFERENTES!U294,\")\")","v":"Rio Toribio-3(TOR-SZ1-Toribio-3)"},{"$f":"REFERENTES!V294","v":48871}]
[null,null,null,null,null,null,null,null,null,null,null,null,null,null,null,null,null,null,null,null,null,null,null,null,{"$f":"IF(AND(REFERENTES!U297<>\"\",          REFERENTES!U297<>96321,    REFERENTES!U297<>96222            ),(REFERENTES!W297),\"\")","v":2860},{"$f":"REFERENTES!S297","v":0},null,295,2458,295,2662,null,null,{"$f":"CONCATENATE(REFERENTES!T295,\"(\",REFERENTES!U295,\")\")","v":"Rio Toribio-4(TOR-SZ1-Toribio-4)"},{"$f":"REFERENTES!V295","v":48873}]
[null,null,null,null,null,null,null,null,null,null,null,null,null,null,null,null,null,null,null,null,null,null,null,null,{"$f":"IF(AND(REFERENTES!U298<>\"\",          REFERENTES!U298<>96321,    REFERENTES!U298<>96222            ),(REFERENTES!W298),\"\")","v":1111},{"$f":"REFERENTES!S298","v":0},null,296,2860,296,2299,null,null,{"$f":"CONCATENATE(REFERENTES!T296,\"(\",REFERENTES!U296,\")\")","v":"Rio Toribio-5(TOR-SZ1-Toribio-5)"},{"$f":"REFERENTES!V296","v":48875}]
[null,null,null,null,null,null,null,null,null,null,null,null,null,null,null,null,null,null,null,null,null,null,null,null,{"$f":"IF(AND(REFERENTES!U299<>\"\",          REFERENTES!U299<>96321,    REFERENTES!U299<>96222            ),(REFERENTES!W299),\"\")","v":2376},{"$f":"REFERENTES!S299","v":0},null,297,1111,297,2334,null,null,{"$f":"CONCATENATE(REFERENTES!T297,\"(\",REFERENTES!U297,\")\")","v":"Rio Usagara(USA-SZ-RIO_USA)"},{"$f":"REFERENTES!V297","v":58488}]
[null,null,null,null,null,null,null,null,null,null,null,null,null,null,null,null,null,null,null,null,null,null,null,null,{"$f":"IF(AND(REFERENTES!U300<>\"\",          REFERENTES!U300<>96321,    REFERENTES!U300<>96222            ),(REFERENTES!W300),\"\")","v":1802},{"$f":"REFERENTES!S300","v":0},null,298,2376,298,2583,null,null,{"$f":"CONCATENATE(REFERENTES!T298,\"(\",REFERENTES!U298,\")\")","v":"Rio Virudo(VIRU-SZ1-RVIR-1)"},{"$f":"REFERENTES!V298","v":42129}]
[null,null,null,null,null,null,null,null,null,null,null,null,null,null,null,null,null,null,null,null,null,null,null,null,{"$f":"IF(AND(REFERENTES!U301<>\"\",          REFERENTES!U301<>96321,    REFERENTES!U301<>96222            ),(REFERENTES!W301),\"\")","v":1765},{"$f":"REFERENTES!S301","v":0},null,299,1802,299,2129,null,null,{"$f":"CONCATENATE(REFERENTES!T299,\"(\",REFERENTES!U299,\")\")","v":"Río Damaquiel-1(CNTE-ZR1-Rdmq-1)"},{"$f":"REFERENTES!V299","v":48464}]
[null,null,null,null,null,null,null,null,null,null,null,null,null,null,null,null,null,null,null,null,null,null,null,null,{"$f":"IF(AND(REFERENTES!U302<>\"\",          REFERENTES!U302<>96321,    REFERENTES!U302<>96222            ),(REFERENTES!W302),\"\")","v":1766},{"$f":"REFERENTES!S302","v":0},null,300,1765,300,2025,null,null,{"$f":"CONCATENATE(REFERENTES!T300,\"(\",REFERENTES!U300,\")\")","v":"S La Virgen-1(JPVI-ZR1-SurVirgen-1)"},{"$f":"REFERENTES!V300","v":44630}]
[null,null,null,null,null,null,null,null,null,null,null,null,null,null,null,null,null,null,null,null,null,null,null,null,{"$f":"IF(AND(REFERENTES!U303<>\"\",          REFERENTES!U303<>96321,    REFERENTES!U303<>96222            ),(REFERENTES!W303),\"\")","v":1770},{"$f":"REFERENTES!S303","v":0},null,301,1766,301,2026,null,null,{"$f":"CONCATENATE(REFERENTES!T301,\"(\",REFERENTES!U301,\")\")","v":"Salahonda -1(FRAPIZ-ZUS1-Salho-1)"},{"$f":"REFERENTES!V301","v":44531}]
[null,null,null,null,null,null,null,null,null,null,null,null,null,null,null,null,null,null,null,null,null,null,null,null,{"$f":"IF(AND(REFERENTES!U304<>\"\",          REFERENTES!U304<>96321,    REFERENTES!U304<>96222            ),(REFERENTES!W304),\"\")","v":1731},{"$f":"REFERENTES!S304","v":0},null,302,1770,302,2885,null,null,{"$f":"CONCATENATE(REFERENTES!T302,\"(\",REFERENTES!U302,\")\")","v":"Salahonda P-1(FRAPIZ-ZP1-Salho-1)"},{"$f":"REFERENTES!V302","v":44546}]
[null,null,null,null,null,null,null,null,null,null,null,null,null,null,null,null,null,null,null,null,null,null,null,null,{"$f":"IF(AND(REFERENTES!U305<>\"\",          REFERENTES!U305<>96321,    REFERENTES!U305<>96222            ),(REFERENTES!W305),\"\")","v":922},{"$f":"REFERENTES!S305","v":0},null,303,1731,303,2884,null,null,{"$f":"CONCATENATE(REFERENTES!T303,\"(\",REFERENTES!U303,\")\")","v":"Salahonda R-2-1(FRAPIZ-ZR2-Salho-1)"},{"$f":"REFERENTES!V303","v":44557}]
[null,null,null,null,null,null,null,null,null,null,null,null,null,null,null,null,null,null,null,null,null,null,null,null,{"$f":"IF(AND(REFERENTES!U306<>\"\",          REFERENTES!U306<>96321,    REFERENTES!U306<>96222            ),(REFERENTES!W306),\"\")","v":0},{"$f":"REFERENTES!S306","v":0},null,304,922,304,2882,null,null,{"$f":"CONCATENATE(REFERENTES!T304,\"(\",REFERENTES!U304,\")\")","v":"Salitral el Garzal -1(CCAIM-ZR1-SGAR-1)"},{"$f":"REFERENTES!V304","v":44419}]
[null,null,null,null,null,null,null,null,null,null,null,null,null,null,null,null,null,null,null,null,null,null,null,null,{"$f":"IF(AND(REFERENTES!U307<>\"\",          REFERENTES!U307<>96321,    REFERENTES!U307<>96222            ),(REFERENTES!W307),\"\")","v":0},{"$f":"REFERENTES!S307","v":0},null,305,0,1130,2887,null,null,{"$f":"CONCATENATE(REFERENTES!T305,\"(\",REFERENTES!U305,\")\")","v":"Salt Creek -1(SCRE-ZP1-SCRE-1)"},{"$f":"REFERENTES!V305","v":41492}]
[null,null,null,null,null,null,null,null,null,null,null,null,null,null,null,null,null,null,null,null,null,null,null,null,{"$f":"IF(AND(REFERENTES!U308<>\"\",          REFERENTES!U308<>96321,    REFERENTES!U308<>96222            ),(REFERENTES!W308),\"\")","v":1999},{"$f":"REFERENTES!S308","v":0},null,306,0,1130,2063,null,null,{"$f":"CONCATENATE(REFERENTES!T306,\"(\",REFERENTES!U306,\")\")","v":"Salt Creek -2(SaltCreekPPC-2)"},{"$f":"REFERENTES!V306","v":55554}]
[null,null,null,null,null,null,null,null,null,null,null,null,null,null,null,null,null,null,null,null,null,null,null,null,{"$f":"IF(AND(REFERENTES!U309<>\"\",          REFERENTES!U309<>96321,    REFERENTES!U309<>96222            ),(REFERENTES!W309),\"\")","v":2133},{"$f":"REFERENTES!S309","v":0},null,307,1999,307,1763,null,null,{"$f":"CONCATENATE(REFERENTES!T307,\"(\",REFERENTES!U307,\")\")","v":"Salt Creek -3(SaltCreekPPC-3)"},{"$f":"REFERENTES!V307","v":55555}]
[null,null,null,null,null,null,null,null,null,null,null,null,null,null,null,null,null,null,null,null,null,null,null,null,{"$f":"IF(AND(REFERENTES!U310<>\"\",          REFERENTES!U310<>96321,    REFERENTES!U310<>96222            ),(REFERENTES!W310),\"\")","v":1761},{"$f":"REFERENTES!S310","v":0},null,308,2133,308,2062,null,null,{"$f":"CONCATENATE(REFERENTES!T308,\"(\",REFERENTES!U308,\")\")","v":"San Rafael(Nuquí-ZR1-RIAN-1)"},{"$f":"REFERENTES!V308","v":45086}]
[null,null,null,null,null,null,null,null,null,null,null,null,null,null,null,null,null,null,null,null,null,null,null,null,{"$f":"IF(AND(REFERENTES!U311<>\"\",          REFERENTES!U311<>96321,    REFERENTES!U311<>96222            ),(REFERENTES!W311),\"\")","v":0},{"$f":"REFERENTES!S311","v":0},null,309,1761,309,2439,null,null,{"$f":"CONCATENATE(REFERENTES!T309,\"(\",REFERENTES!U309,\")\")","v":"Santa Ana -2(RAPO-ZUS4-RSA-2)"},{"$f":"REFERENTES!V309","v":45848}]
[null,null,null,null,null,null,null,null,null,null,null,null,null,null,null,null,null,null,null,null,null,null,null,null,{"$f":"IF(AND(REFERENTES!U312<>\"\",          REFERENTES!U312<>96321,    REFERENTES!U312<>96222            ),(REFERENTES!W312),\"\")","v":0},{"$f":"REFERENTES!S312","v":0},null,310,0,1130,889,null,null,{"$f":"CONCATENATE(REFERENTES!T310,\"(\",REFERENTES!U310,\")\")","v":"Santa Ana-1(BARU-ZR1-Sta-Ana-1)"},{"$f":"REFERENTES!V310","v":44500}]
[null,null,null,null,null,null,null,null,null,null,null,null,null,null,null,null,null,null,null,null,null,null,null,null,{"$f":"IF(AND(REFERENTES!U313<>\"\",          REFERENTES!U313<>96321,    REFERENTES!U313<>96222            ),(REFERENTES!W313),\"\")","v":2880},{"$f":"REFERENTES!S313","v":0},null,311,0,1130,890,null,null,{"$f":"CONCATENATE(REFERENTES!T311,\"(\",REFERENTES!U311,\")\")","v":"Santa Catalina -1(SantaCatalinaPPC-1)"},{"$f":"REFERENTES!V311","v":55567}]
[null,null,null,null,null,null,null,null,null,null,null,null,null,null,null,null,null,null,null,null,null,null,null,null,{"$f":"IF(AND(REFERENTES!U314<>\"\",          REFERENTES!U314<>96321,    REFERENTES!U314<>96222            ),(REFERENTES!W314),\"\")","v":2660},{"$f":"REFERENTES!S314","v":0},null,312,2880,312,891,null,null,{"$f":"CONCATENATE(REFERENTES!T312,\"(\",REFERENTES!U312,\")\")","v":"Santa Catalina -2(SantaCatalinaPPC-2)"},{"$f":"REFERENTES!V312","v":55568}]
[null,null,null,null,null,null,null,null,null,null,null,null,null,null,null,null,null,null,null,null,null,null,null,null,{"$f":"IF(AND(REFERENTES!U315<>\"\",          REFERENTES!U315<>96321,    REFERENTES!U315<>96222            ),(REFERENTES!W315),\"\")","v":2661},{"$f":"REFERENTES!S315","v":0},null,313,2660,313,2019,null,null,{"$f":"CONCATENATE(REFERENTES!T313,\"(\",REFERENTES!U313,\")\")","v":"Segundo Estero(NUQUI-ZUS-SEG_ESTERO)"},{"$f":"REFERENTES!V313","v":58563}]
[null,null,null,null,null,null,null,null,null,null,null,null,null,null,null,null,null,null,null,null,null,null,null,null,{"$f":"IF(AND(REFERENTES!U316<>\"\",          REFERENTES!U316<>96321,    REFERENTES!U316<>96222            ),(REFERENTES!W316),\"\")","v":2662},{"$f":"REFERENTES!S316","v":0},null,314,2661,314,1801,null,null,{"$f":"CONCATENATE(REFERENTES!T314,\"(\",REFERENTES!U314,\")\")","v":"Sevillano -1(CGSM-SZ1-SEVI-1)"},{"$f":"REFERENTES!V314","v":50089}]
[null,null,null,null,null,null,null,null,null,null,null,null,null,null,null,null,null,null,null,null,null,null,null,null,{"$f":"IF(AND(REFERENTES!U317<>\"\",          REFERENTES!U317<>96321,    REFERENTES!U317<>96222            ),(REFERENTES!W317),\"\")","v":0},{"$f":"REFERENTES!S317","v":0},null,315,2662,315,2131,null,null,{"$f":"CONCATENATE(REFERENTES!T315,\"(\",REFERENTES!U315,\")\")","v":"Sevillano -2(CGSM-SZ1-SEVI-2)"},{"$f":"REFERENTES!V315","v":50091}]
[null,null,null,null,null,null,null,null,null,null,null,null,null,null,null,null,null,null,null,null,null,null,null,null,{"$f":"IF(AND(REFERENTES!U318<>\"\",          REFERENTES!U318<>96321,    REFERENTES!U318<>96222            ),(REFERENTES!W318),\"\")","v":2299},{"$f":"REFERENTES!S318","v":0},null,316,0,1130,2371,null,null,{"$f":"CONCATENATE(REFERENTES!T316,\"(\",REFERENTES!U316,\")\")","v":"Sevillano -3(CGSM-SZ1-SEVI-3)"},{"$f":"REFERENTES!V316","v":50093}]
[null,null,null,null,null,null,null,null,null,null,null,null,null,null,null,null,null,null,null,null,null,null,null,null,{"$f":"IF(AND(REFERENTES!U319<>\"\",          REFERENTES!U319<>96321,    REFERENTES!U319<>96222            ),(REFERENTES!W319),\"\")","v":2334},{"$f":"REFERENTES!S319","v":0},null,317,2299,317,2386,null,null,{"$f":"CONCATENATE(REFERENTES!T317,\"(\",REFERENTES!U317,\")\")","v":"Smith Channel -1(SmithChannelPPC-1)"},{"$f":"REFERENTES!V317","v":55546}]
[null,null,null,null,null,null,null,null,null,null,null,null,null,null,null,null,null,null,null,null,null,null,null,null,{"$f":"IF(AND(REFERENTES!U320<>\"\",          REFERENTES!U320<>96321,    REFERENTES!U320<>96222            ),(REFERENTES!W320),\"\")","v":2583},{"$f":"REFERENTES!S320","v":0},null,318,2334,318,"X",null,null,{"$f":"CONCATENATE(REFERENTES!T318,\"(\",REFERENTES!U318,\")\")","v":"Smith Channel -2(SCHA-ZP1-SCH-2)"},{"$f":"REFERENTES!V318","v":47758}]
[null,null,null,null,null,null,null,null,null,null,null,null,null,null,null,null,null,null,null,null,null,null,null,null,{"$f":"IF(AND(REFERENTES!U321<>\"\",          REFERENTES!U321<>96321,    REFERENTES!U321<>96222            ),(REFERENTES!W321),\"\")","v":0},{"$f":"REFERENTES!S321","v":0},null,319,2583,319,"X",null,null,{"$f":"CONCATENATE(REFERENTES!T319,\"(\",REFERENTES!U319,\")\")","v":"Smith Channel -3(SCHA-ZP1-SCH-3)"},{"$f":"REFERENTES!V319","v":47901}]
[null,null,null,null,null,null,null,null,null,null,null,null,null,null,null,null,null,null,null,null,null,null,null,null,{"$f":"IF(AND(REFERENTES!U322<>\"\",          REFERENTES!U322<>96321,    REFERENTES!U322<>96222            ),(REFERENTES!W322),\"\")","v":0},{"$f":"REFERENTES!S322","v":0},null,320,0,1130,"X",null,null,{"$f":"CONCATENATE(REFERENTES!T320,\"(\",REFERENTES!U320,\")\")","v":"Smith Channel -4(SCHA-ZP1-SMCH-4)"},{"$f":"REFERENTES!V320","v":49216}]
[null,null,null,null,null,null,null,null,null,null,null,null,null,null,null,null,null,null,null,null,null,null,null,null,{"$f":"IF(AND(REFERENTES!U323<>\"\",          REFERENTES!U323<>96321,    REFERENTES!U323<>96222            ),(REFERENTES!W323),\"\")","v":0},{"$f":"REFERENTES!S323","v":0},null,321,0,1130,"X",null,null,{"$f":"CONCATENATE(REFERENTES!T321,\"(\",REFERENTES!U321,\")\")","v":"Sound Bay -1(SoundBayPPC-1)"},{"$f":"REFERENTES!V321","v":55558}]
[null,null,null,null,null,null,null,null,null,null,null,null,null,null,null,null,null,null,null,null,null,null,null,null,{"$f":"IF(AND(REFERENTES!U324<>\"\",          REFERENTES!U324<>96321,    REFERENTES!U324<>96222            ),(REFERENTES!W324),\"\")","v":0},{"$f":"REFERENTES!S324","v":0},null,322,{"$f":"IF(Y327=\"\",0,Y327)","v":0},{"$f":"IF(AC328=0,MAX($AB$7:$AB$1135)+1,AB328)","v":1130},{"$f":"IFERROR(VLOOKUP(SMALL($AD$7:$AD$1135,AB328),$AB$7:$AD$1135,2,FALSE),\"X\")","v":"X"},null,null,{"$f":"CONCATENATE(REFERENTES!T322,\"(\",REFERENTES!U322,\")\")","v":"Sound Bay -2(SoundBayPPC-2)"},{"$f":"REFERENTES!V322","v":55559}]
[null,null,null,null,null,null,null,null,null,null,null,null,null,null,null,null,null,null,null,null,null,null,null,null,{"$f":"IF(AND(REFERENTES!U325<>\"\",          REFERENTES!U325<>96321,    REFERENTES!U325<>96222            ),(REFERENTES!W325),\"\")","v":0},{"$f":"REFERENTES!S325","v":0},null,323,0,1130,"X",null,null,{"$f":"CONCATENATE(REFERENTES!T323,\"(\",REFERENTES!U323,\")\")","v":"Sound Bay -3(SoundBayPPC-3)"},{"$f":"REFERENTES!V323","v":55560}]
[null,null,null,null,null,null,null,null,null,null,null,null,null,null,null,null,null,null,null,null,null,null,null,null,{"$f":"IF(AND(REFERENTES!U326<>\"\",          REFERENTES!U326<>96321,    REFERENTES!U326<>96222            ),(REFERENTES!W326),\"\")","v":2129},{"$f":"REFERENTES!S326","v":0},null,324,0,1130,"X",null,null,{"$f":"CONCATENATE(REFERENTES!T324,\"(\",REFERENTES!U324,\")\")","v":"Suroeste -1(SuroestePPC-1)"},{"$f":"REFERENTES!V324","v":55565}]
[null,null,null,null,null,null,null,null,null,null,null,null,null,null,null,null,null,null,null,null,null,null,null,null,{"$f":"IF(AND(REFERENTES!U327<>\"\",          REFERENTES!U327<>96321,    REFERENTES!U327<>96222            ),(REFERENTES!W327),\"\")","v":2025},{"$f":"REFERENTES!S327","v":0},null,325,2129,325,"X",null,null,{"$f":"CONCATENATE(REFERENTES!T325,\"(\",REFERENTES!U325,\")\")","v":"Suroeste -2(SuroestePPC-2)"},{"$f":"REFERENTES!V325","v":55566}]
[null,null,null,null,null,null,null,null,null,null,null,null,null,null,null,null,null,null,null,null,null,null,null,null,{"$f":"IF(AND(REFERENTES!U328<>\"\",          REFERENTES!U328<>96321,    REFERENTES!U328<>96222            ),(REFERENTES!W328),\"\")","v":2026},{"$f":"REFERENTES!S328","v":0},null,326,2025,326,"X",null,null,{"$f":"CONCATENATE(REFERENTES!T326,\"(\",REFERENTES!U326,\")\")","v":"Timba(CAJA-ZUS2-CT-1)"},{"$f":"REFERENTES!V326","v":45830}]
[null,null,null,null,null,null,null,null,null,null,null,null,null,null,null,null,null,null,null,null,null,null,null,null,{"$f":"IF(AND(REFERENTES!U329<>\"\",          REFERENTES!U329<>96321,    REFERENTES!U329<>96222            ),(REFERENTES!W329),\"\")","v":2885},{"$f":"REFERENTES!S329","v":0},null,327,2026,327,"X",null,null,{"$f":"CONCATENATE(REFERENTES!T327,\"(\",REFERENTES!U327,\")\")","v":"Totumo Oriental -1(CNGTOT-ZP1-Totum-1)"},{"$f":"REFERENTES!V327","v":45257}]
[null,null,null,null,null,null,null,null,null,null,null,null,null,null,null,null,null,null,null,null,null,null,null,null,{"$f":"IF(AND(REFERENTES!U330<>\"\",          REFERENTES!U330<>96321,    REFERENTES!U330<>96222            ),(REFERENTES!W330),\"\")","v":2884},{"$f":"REFERENTES!S330","v":0},null,328,2885,328,"X",null,null,{"$f":"CONCATENATE(REFERENTES!T328,\"(\",REFERENTES!U328,\")\")","v":"Totumo Oriental -2(CNGTOT-ZP1-Totum-2)"},{"$f":"REFERENTES!V328","v":45259}]
[null,null,null,null,null,null,null,null,null,null,null,null,null,null,null,null,null,null,null,null,null,null,null,null,{"$f":"IF(AND(REFERENTES!U331<>\"\",          REFERENTES!U331<>96321,    REFERENTES!U331<>96222            ),(REFERENTES!W331),\"\")","v":2882},{"$f":"REFERENTES!S331","v":0},null,329,2884,329,"X",null,null,{"$f":"CONCATENATE(REFERENTES!T329,\"(\",REFERENTES!U329,\")\")","v":"Tribuga - Las Peñitas PPC3(TRIBUGA-ZUS-BUGA03)"},{"$f":"REFERENTES!V329","v":58593}]
[null,null,null,null,null,null,null,null,null,null,null,null,null,null,null,null,null,null,null,null,null,null,null,null,{"$f":"IF(AND(REFERENTES!U332<>\"\",          REFERENTES!U332<>96321,    REFERENTES!U332<>96222            ),(REFERENTES!W332),\"\")","v":2887},{"$f":"REFERENTES!S332","v":0},null,330,2882,330,"X",null,null,{"$f":"CONCATENATE(REFERENTES!T330,\"(\",REFERENTES!U330,\")\")","v":"Tribuga - Las Peñitas PPC4(TRIBUGA-ZUS-BUGA04)"},{"$f":"REFERENTES!V330","v":58591}]
[null,null,null,null,null,null,null,null,null,null,null,null,null,null,null,null,null,null,null,null,null,null,null,null,{"$f":"IF(AND(REFERENTES!U333<>\"\",          REFERENTES!U333<>96321,    REFERENTES!U333<>96222            ),(REFERENTES!W333),\"\")","v":2063},{"$f":"REFERENTES!S333","v":0},null,331,2887,331,"X",null,null,{"$f":"CONCATENATE(REFERENTES!T331,\"(\",REFERENTES!U331,\")\")","v":"Tribuga PPC1(TRIBUGA-ZUS-BUGA01)"},{"$f":"REFERENTES!V331","v":58587}]
[null,null,null,null,null,null,null,null,null,null,null,null,null,null,null,null,null,null,null,null,null,null,null,null,{"$f":"IF(AND(REFERENTES!U334<>\"\",          REFERENTES!U334<>96321,    REFERENTES!U334<>96222            ),(REFERENTES!W334),\"\")","v":1763},{"$f":"REFERENTES!S334","v":0},null,332,2063,332,"X",null,null,{"$f":"CONCATENATE(REFERENTES!T332,\"(\",REFERENTES!U332,\")\")","v":"Tribuga PPC2(TRIBUGA-ZUS-BUGA02)"},{"$f":"REFERENTES!V332","v":58598}]
[null,null,null,null,null,null,null,null,null,null,null,null,null,null,null,null,null,null,null,null,null,null,null,null,{"$f":"IF(AND(REFERENTES!U335<>\"\",          REFERENTES!U335<>96321,    REFERENTES!U335<>96222            ),(REFERENTES!W335),\"\")","v":2062},{"$f":"REFERENTES!S335","v":0},null,333,1763,333,"X",null,null,{"$f":"CONCATENATE(REFERENTES!T333,\"(\",REFERENTES!U333,\")\")","v":"Trujillo(ENSENADA-ZP1-TRUJI-1)"},{"$f":"REFERENTES!V333","v":45400}]
[null,null,null,null,null,null,null,null,null,null,null,null,null,null,null,null,null,null,null,null,null,null,null,null,{"$f":"IF(AND(REFERENTES!U336<>\"\",          REFERENTES!U336<>96321,    REFERENTES!U336<>96222            ),(REFERENTES!W336),\"\")","v":2439},{"$f":"REFERENTES!S336","v":0},null,334,2062,334,"X",null,null,{"$f":"CONCATENATE(REFERENTES!T334,\"(\",REFERENTES!U334,\")\")","v":"Tumaco(TCO-ZR2-Tuma-1)"},{"$f":"REFERENTES!V334","v":44506}]
[null,null,null,null,null,null,null,null,null,null,null,null,null,null,null,null,null,null,null,null,null,null,null,null,{"$f":"IF(AND(REFERENTES!U337<>\"\",          REFERENTES!U337<>96321,    REFERENTES!U337<>96222            ),(REFERENTES!W337),\"\")","v":889},{"$f":"REFERENTES!S337","v":0},null,335,2439,335,"X",null,null,{"$f":"CONCATENATE(REFERENTES!T335,\"(\",REFERENTES!U335,\")\")","v":"Tumaco -1(TCO-ZUS1-SANAND-1)"},{"$f":"REFERENTES!V335","v":45395}]
[null,null,null,null,null,null,null,null,null,null,null,null,null,null,null,null,null,null,null,null,null,null,null,null,{"$f":"IF(AND(REFERENTES!U338<>\"\",          REFERENTES!U338<>96321,    REFERENTES!U338<>96222            ),(REFERENTES!W338),\"\")","v":890},{"$f":"REFERENTES!S338","v":0},null,336,889,336,"X",null,null,{"$f":"CONCATENATE(REFERENTES!T336,\"(\",REFERENTES!U336,\")\")","v":"Ultima Boca(BCISLIT-ZR1-UltBoca-1)"},{"$f":"REFERENTES!V336","v":48762}]
[null,null,null,null,null,null,null,null,null,null,null,null,null,null,null,null,null,null,null,null,null,null,null,null,{"$f":"IF(AND(REFERENTES!U339<>\"\",          REFERENTES!U339<>96321,    REFERENTES!U339<>96222            ),(REFERENTES!W339),\"\")","v":891},{"$f":"REFERENTES!S339","v":0},null,337,890,337,"X",null,null,{"$f":"CONCATENATE(REFERENTES!T337,\"(\",REFERENTES!U337,\")\")","v":"Valle de los Cangrejos -1(VCAN-ZR1-CANG-1)"},{"$f":"REFERENTES!V337","v":41390}]
[null,null,null,null,null,null,null,null,null,null,null,null,null,null,null,null,null,null,null,null,null,null,null,null,{"$f":"IF(AND(REFERENTES!U340<>\"\",          REFERENTES!U340<>96321,    REFERENTES!U340<>96222            ),(REFERENTES!W340),\"\")","v":2019},{"$f":"REFERENTES!S340","v":0},null,338,891,338,"X",null,null,{"$f":"CONCATENATE(REFERENTES!T338,\"(\",REFERENTES!U338,\")\")","v":"Valle de los Cangrejos -2(VCAN-ZR1-CANG-2)"},{"$f":"REFERENTES!V338","v":41392}]
[null,null,null,null,null,null,null,null,null,null,null,null,null,null,null,null,null,null,null,null,null,null,null,null,{"$f":"IF(AND(REFERENTES!U341<>\"\",          REFERENTES!U341<>96321,    REFERENTES!U341<>96222            ),(REFERENTES!W341),\"\")","v":0},{"$f":"REFERENTES!S341","v":0},null,339,2019,339,"X",null,null,{"$f":"CONCATENATE(REFERENTES!T339,\"(\",REFERENTES!U339,\")\")","v":"Valle de los Cangrejos -3(VCAN-ZR1-CANG-3)"},{"$f":"REFERENTES!V339","v":41394}]
[null,null,null,null,null,null,null,null,null,null,null,null,null,null,null,null,null,null,null,null,null,null,null,null,{"$f":"IF(AND(REFERENTES!U342<>\"\",          REFERENTES!U342<>96321,    REFERENTES!U342<>96222            ),(REFERENTES!W342),\"\")","v":1801},{"$f":"REFERENTES!S342","v":0},null,340,0,1130,"X",null,null,{"$f":"CONCATENATE(REFERENTES!T340,\"(\",REFERENTES!U340,\")\")","v":"Velero -1(PVEL-ZP2-VelP-1)"},{"$f":"REFERENTES!V340","v":45157}]
[null,null,null,null,null,null,null,null,null,null,null,null,null,null,null,null,null,null,null,null,null,null,null,null,{"$f":"IF(AND(REFERENTES!U343<>\"\",          REFERENTES!U343<>96321,    REFERENTES!U343<>96222            ),(REFERENTES!W343),\"\")","v":2131},{"$f":"REFERENTES!S343","v":0},null,341,1801,341,"X",null,null,{"$f":"CONCATENATE(REFERENTES!T341,\"(\",REFERENTES!U341,\")\")","v":"Velodia Road parcela circular-1(VelodiaRoadPPC-1)"},{"$f":"REFERENTES!V341","v":55557}]
[null,null,null,null,null,null,null,null,null,null,null,null,null,null,null,null,null,null,null,null,null,null,null,null,{"$f":"IF(AND(REFERENTES!U344<>\"\",          REFERENTES!U344<>96321,    REFERENTES!U344<>96222            ),(REFERENTES!W344),\"\")","v":2371},{"$f":"REFERENTES!S344","v":0},null,342,2131,342,"X",null,null,{"$f":"CONCATENATE(REFERENTES!T342,\"(\",REFERENTES!U342,\")\")","v":"Vía al Mar(JPVI-ZUS1-VíaMar-1)"},{"$f":"REFERENTES!V342","v":44627}]
[null,null,null,null,null,null,null,null,null,null,null,null,null,null,null,null,null,null,null,null,null,null,null,null,{"$f":"IF(AND(REFERENTES!U345<>\"\",          REFERENTES!U345<>96321,    REFERENTES!U345<>96222            ),(REFERENTES!W345),\"\")","v":2386},{"$f":"REFERENTES!S345","v":0},null,343,2371,343,"X",null,null,{"$f":"CONCATENATE(REFERENTES!T343,\"(\",REFERENTES!U343,\")\")","v":"Waipare(MAYO-ZR3-MWA-1)"},{"$f":"REFERENTES!V343","v":45839}]
[null,null,null,null,null,null,null,null,null,null,null,null,null,null,null,null,null,null,null,null,null,null,null,null,{"$f":"IF(AND(REFERENTES!U346<>\"\",          REFERENTES!U346<>96321,    REFERENTES!U346<>96222            ),(REFERENTES!W346),\"\")","v":""},{"$f":"REFERENTES!S346","v":0},null,344,2386,344,"X",null,null,{"$f":"CONCATENATE(REFERENTES!T344,\"(\",REFERENTES!U344,\")\")","v":"Yarumal -1(CORI-ZUS1-Yaru-1)"},{"$f":"REFERENTES!V344","v":48442}]
[null,null,null,null,null,null,null,null,null,null,null,null,null,null,null,null,null,null,null,null,null,null,null,null,{"$f":"IF(AND(REFERENTES!U347<>\"\",          REFERENTES!U347<>96321,    REFERENTES!U347<>96222            ),(REFERENTES!W347),\"\")","v":""},{"$f":"REFERENTES!S347","v":0},null,345,0,1130,"X",null,null,{"$f":"CONCATENATE(REFERENTES!T345,\"(\",REFERENTES!U345,\")\")","v":"Yerbasal -1(DRATR-ZR1-Yerb-1)"},{"$f":"REFERENTES!V345","v":48523}]
[null,null,null,null,null,null,null,null,null,null,null,null,null,null,null,null,null,null,null,null,null,null,null,null,{"$f":"IF(AND(REFERENTES!U348<>\"\",          REFERENTES!U348<>96321,    REFERENTES!U348<>96222            ),(REFERENTES!W348),\"\")","v":""},{"$f":"REFERENTES!S348","v":0},null,346,0,1130,"X",null,null,{"$f":"CONCATENATE(REFERENTES!T346,\"(\",REFERENTES!U346,\")\")","v":"()"},{"$f":"REFERENTES!V346","v":0}]
[null,null,null,null,null,null,null,null,null,null,null,null,null,null,null,null,null,null,null,null,null,null,null,null,{"$f":"IF(AND(REFERENTES!U349<>\"\",          REFERENTES!U349<>96321,    REFERENTES!U349<>96222            ),(REFERENTES!W349),\"\")","v":""},{"$f":"REFERENTES!S349","v":0},null,347,0,1130,"X",null,null,{"$f":"CONCATENATE(REFERENTES!T347,\"(\",REFERENTES!U347,\")\")","v":"()"},{"$f":"REFERENTES!V347","v":0}]
[null,null,null,null,null,null,null,null,null,null,null,null,null,null,null,null,null,null,null,null,null,null,null,null,{"$f":"IF(AND(REFERENTES!U350<>\"\",          REFERENTES!U350<>96321,    REFERENTES!U350<>96222            ),(REFERENTES!W350),\"\")","v":""},{"$f":"REFERENTES!S350","v":0},null,348,0,1130,"X",null,null,{"$f":"CONCATENATE(REFERENTES!T348,\"(\",REFERENTES!U348,\")\")","v":"()"},{"$f":"REFERENTES!V348","v":0}]
[null,null,null,null,null,null,null,null,null,null,null,null,null,null,null,null,null,null,null,null,null,null,null,null,{"$f":"IF(AND(REFERENTES!U351<>\"\",          REFERENTES!U351<>96321,    REFERENTES!U351<>96222            ),(REFERENTES!W351),\"\")","v":""},{"$f":"REFERENTES!S351","v":0},null,349,0,1130,"X",null,null,{"$f":"CONCATENATE(REFERENTES!T349,\"(\",REFERENTES!U349,\")\")","v":"()"},{"$f":"REFERENTES!V349","v":0}]
[null,null,null,null,null,null,null,null,null,null,null,null,null,null,null,null,null,null,null,null,null,null,null,null,{"$f":"IF(AND(REFERENTES!U352<>\"\",          REFERENTES!U352<>96321,    REFERENTES!U352<>96222            ),(REFERENTES!W352),\"\")","v":""},{"$f":"REFERENTES!S352","v":0},null,350,0,1130,"X",null,null,{"$f":"CONCATENATE(REFERENTES!T350,\"(\",REFERENTES!U350,\")\")","v":"()"},{"$f":"REFERENTES!V350","v":0}]
[null,null,null,null,null,null,null,null,null,null,null,null,null,null,null,null,null,null,null,null,null,null,null,null,{"$f":"IF(AND(REFERENTES!U353<>\"\",          REFERENTES!U353<>96321,    REFERENTES!U353<>96222            ),(REFERENTES!W353),\"\")","v":""},{"$f":"REFERENTES!S353","v":0},null,351,0,1130,"X",null,null,{"$f":"CONCATENATE(REFERENTES!T351,\"(\",REFERENTES!U351,\")\")","v":"()"},{"$f":"REFERENTES!V351","v":0}]
[null,null,null,null,null,null,null,null,null,null,null,null,null,null,null,null,null,null,null,null,null,null,null,null,{"$f":"IF(AND(REFERENTES!U354<>\"\",          REFERENTES!U354<>96321,    REFERENTES!U354<>96222            ),(REFERENTES!W354),\"\")","v":""},{"$f":"REFERENTES!S354","v":0},null,352,0,1130,"X",null,null,{"$f":"CONCATENATE(REFERENTES!T352,\"(\",REFERENTES!U352,\")\")","v":"()"},{"$f":"REFERENTES!V352","v":0}]
[null,null,null,null,null,null,null,null,null,null,null,null,null,null,null,null,null,null,null,null,null,null,null,null,{"$f":"IF(AND(REFERENTES!U355<>\"\",          REFERENTES!U355<>96321,    REFERENTES!U355<>96222            ),(REFERENTES!W355),\"\")","v":""},{"$f":"REFERENTES!S355","v":0},null,353,0,1130,"X",null,null,{"$f":"CONCATENATE(REFERENTES!T353,\"(\",REFERENTES!U353,\")\")","v":"()"},{"$f":"REFERENTES!V353","v":0}]
[null,null,null,null,null,null,null,null,null,null,null,null,null,null,null,null,null,null,null,null,null,null,null,null,{"$f":"IF(AND(REFERENTES!U356<>\"\",          REFERENTES!U356<>96321,    REFERENTES!U356<>96222            ),(REFERENTES!W356),\"\")","v":""},{"$f":"REFERENTES!S356","v":0},null,354,0,1130,"X",null,null,{"$f":"CONCATENATE(REFERENTES!T354,\"(\",REFERENTES!U354,\")\")","v":"()"},{"$f":"REFERENTES!V354","v":0}]
[null,null,null,null,null,null,null,null,null,null,null,null,null,null,null,null,null,null,null,null,null,null,null,null,{"$f":"IF(AND(REFERENTES!U357<>\"\",          REFERENTES!U357<>96321,    REFERENTES!U357<>96222            ),(REFERENTES!W357),\"\")","v":""},{"$f":"REFERENTES!S357","v":0},null,355,0,1130,"X",null,null,{"$f":"CONCATENATE(REFERENTES!T355,\"(\",REFERENTES!U355,\")\")","v":"()"},{"$f":"REFERENTES!V355","v":0}]
[null,null,null,null,null,null,null,null,null,null,null,null,null,null,null,null,null,null,null,null,null,null,null,null,{"$f":"IF(AND(REFERENTES!U358<>\"\",          REFERENTES!U358<>96321,    REFERENTES!U358<>96222            ),(REFERENTES!W358),\"\")","v":""},{"$f":"REFERENTES!S358","v":0},null,356,0,1130,"X",null,null,{"$f":"CONCATENATE(REFERENTES!T356,\"(\",REFERENTES!U356,\")\")","v":"()"},{"$f":"REFERENTES!V356","v":0}]
[null,null,null,null,null,null,null,null,null,null,null,null,null,null,null,null,null,null,null,null,null,null,null,null,{"$f":"IF(AND(REFERENTES!U359<>\"\",          REFERENTES!U359<>96321,    REFERENTES!U359<>96222            ),(REFERENTES!W359),\"\")","v":""},{"$f":"REFERENTES!S359","v":0},null,357,0,1130,"X",null,null,{"$f":"CONCATENATE(REFERENTES!T357,\"(\",REFERENTES!U357,\")\")","v":"()"},{"$f":"REFERENTES!V357","v":0}]
[null,null,null,null,null,null,null,null,null,null,null,null,null,null,null,null,null,null,null,null,null,null,null,null,{"$f":"IF(AND(REFERENTES!U360<>\"\",          REFERENTES!U360<>96321,    REFERENTES!U360<>96222            ),(REFERENTES!W360),\"\")","v":""},{"$f":"REFERENTES!S360","v":0},null,358,0,1130,"X",null,null,{"$f":"CONCATENATE(REFERENTES!T358,\"(\",REFERENTES!U358,\")\")","v":"()"},{"$f":"REFERENTES!V358","v":0}]
[null,null,null,null,null,null,null,null,null,null,null,null,null,null,null,null,null,null,null,null,null,null,null,null,{"$f":"IF(AND(REFERENTES!U361<>\"\",          REFERENTES!U361<>96321,    REFERENTES!U361<>96222            ),(REFERENTES!W361),\"\")","v":""},{"$f":"REFERENTES!S361","v":0},null,359,0,1130,"X",null,null,{"$f":"CONCATENATE(REFERENTES!T359,\"(\",REFERENTES!U359,\")\")","v":"()"},{"$f":"REFERENTES!V359","v":0}]
[null,null,null,null,null,null,null,null,null,null,null,null,null,null,null,null,null,null,null,null,null,null,null,null,{"$f":"IF(AND(REFERENTES!U362<>\"\",          REFERENTES!U362<>96321,    REFERENTES!U362<>96222            ),(REFERENTES!W362),\"\")","v":""},{"$f":"REFERENTES!S362","v":0},null,360,0,1130,"X",null,null,{"$f":"CONCATENATE(REFERENTES!T360,\"(\",REFERENTES!U360,\")\")","v":"()"},{"$f":"REFERENTES!V360","v":0}]
[null,null,null,null,null,null,null,null,null,null,null,null,null,null,null,null,null,null,null,null,null,null,null,null,{"$f":"IF(AND(REFERENTES!U363<>\"\",          REFERENTES!U363<>96321,    REFERENTES!U363<>96222            ),(REFERENTES!W363),\"\")","v":""},{"$f":"REFERENTES!S363","v":0},null,361,0,1130,"X",null,null,{"$f":"CONCATENATE(REFERENTES!T361,\"(\",REFERENTES!U361,\")\")","v":"()"},{"$f":"REFERENTES!V361","v":0}]
[null,null,null,null,null,null,null,null,null,null,null,null,null,null,null,null,null,null,null,null,null,null,null,null,{"$f":"IF(AND(REFERENTES!U364<>\"\",          REFERENTES!U364<>96321,    REFERENTES!U364<>96222            ),(REFERENTES!W364),\"\")","v":""},{"$f":"REFERENTES!S364","v":0},null,362,0,1130,"X",null,null,{"$f":"CONCATENATE(REFERENTES!T362,\"(\",REFERENTES!U362,\")\")","v":"()"},{"$f":"REFERENTES!V362","v":0}]
[null,null,null,null,null,null,null,null,null,null,null,null,null,null,null,null,null,null,null,null,null,null,null,null,{"$f":"IF(AND(REFERENTES!U365<>\"\",          REFERENTES!U365<>96321,    REFERENTES!U365<>96222            ),(REFERENTES!W365),\"\")","v":""},{"$f":"REFERENTES!S365","v":0},null,363,0,1130,"X",null,null,{"$f":"CONCATENATE(REFERENTES!T363,\"(\",REFERENTES!U363,\")\")","v":"()"},{"$f":"REFERENTES!V363","v":0}]
[null,null,null,null,null,null,null,null,null,null,null,null,null,null,null,null,null,null,null,null,null,null,null,null,{"$f":"IF(AND(REFERENTES!U366<>\"\",          REFERENTES!U366<>96321,    REFERENTES!U366<>96222            ),(REFERENTES!W366),\"\")","v":""},{"$f":"REFERENTES!S366","v":0},null,364,0,1130,"X",null,null,{"$f":"CONCATENATE(REFERENTES!T364,\"(\",REFERENTES!U364,\")\")","v":"()"},{"$f":"REFERENTES!V364","v":0}]
[null,null,null,null,null,null,null,null,null,null,null,null,null,null,null,null,null,null,null,null,null,null,null,null,{"$f":"IF(AND(REFERENTES!U367<>\"\",          REFERENTES!U367<>96321,    REFERENTES!U367<>96222            ),(REFERENTES!W367),\"\")","v":""},{"$f":"REFERENTES!S367","v":0},null,365,0,1130,"X",null,null,{"$f":"CONCATENATE(REFERENTES!T365,\"(\",REFERENTES!U365,\")\")","v":"()"},{"$f":"REFERENTES!V365","v":0}]
[null,null,null,null,null,null,null,null,null,null,null,null,null,null,null,null,null,null,null,null,null,null,null,null,{"$f":"IF(AND(REFERENTES!U368<>\"\",          REFERENTES!U368<>96321,    REFERENTES!U368<>96222            ),(REFERENTES!W368),\"\")","v":""},{"$f":"REFERENTES!S368","v":0},null,366,0,1130,"X",null,null,{"$f":"CONCATENATE(REFERENTES!T366,\"(\",REFERENTES!U366,\")\")","v":"()"},{"$f":"REFERENTES!V366","v":0}]
[null,null,null,null,null,null,null,null,null,null,null,null,null,null,null,null,null,null,null,null,null,null,null,null,{"$f":"IF(AND(REFERENTES!U369<>\"\",          REFERENTES!U369<>96321,    REFERENTES!U369<>96222            ),(REFERENTES!W369),\"\")","v":""},{"$f":"REFERENTES!S369","v":0},null,367,0,1130,"X",null,null,{"$f":"CONCATENATE(REFERENTES!T367,\"(\",REFERENTES!U367,\")\")","v":"()"},{"$f":"REFERENTES!V367","v":0}]
[null,null,null,null,null,null,null,null,null,null,null,null,null,null,null,null,null,null,null,null,null,null,null,null,{"$f":"IF(AND(REFERENTES!U370<>\"\",          REFERENTES!U370<>96321,    REFERENTES!U370<>96222            ),(REFERENTES!W370),\"\")","v":""},{"$f":"REFERENTES!S370","v":0},null,368,0,1130,"X",null,null,{"$f":"CONCATENATE(REFERENTES!T368,\"(\",REFERENTES!U368,\")\")","v":"()"},{"$f":"REFERENTES!V368","v":0}]
[null,null,null,null,null,null,null,null,null,null,null,null,null,null,null,null,null,null,null,null,null,null,null,null,{"$f":"IF(AND(REFERENTES!U371<>\"\",          REFERENTES!U371<>96321,    REFERENTES!U371<>96222            ),(REFERENTES!W371),\"\")","v":""},{"$f":"REFERENTES!S371","v":0},null,369,0,1130,"X",null,null,{"$f":"CONCATENATE(REFERENTES!T369,\"(\",REFERENTES!U369,\")\")","v":"()"},{"$f":"REFERENTES!V369","v":0}]
[null,null,null,null,null,null,null,null,null,null,null,null,null,null,null,null,null,null,null,null,null,null,null,null,{"$f":"IF(AND(REFERENTES!U372<>\"\",          REFERENTES!U372<>96321,    REFERENTES!U372<>96222            ),(REFERENTES!W372),\"\")","v":""},{"$f":"REFERENTES!S372","v":0},null,370,0,1130,"X",null,null,{"$f":"CONCATENATE(REFERENTES!T370,\"(\",REFERENTES!U370,\")\")","v":"()"},{"$f":"REFERENTES!V370","v":0}]
[null,null,null,null,null,null,null,null,null,null,null,null,null,null,null,null,null,null,null,null,null,null,null,null,{"$f":"IF(AND(REFERENTES!U373<>\"\",          REFERENTES!U373<>96321,    REFERENTES!U373<>96222            ),(REFERENTES!W373),\"\")","v":""},{"$f":"REFERENTES!S373","v":0},null,371,0,1130,"X",null,null,{"$f":"CONCATENATE(REFERENTES!T371,\"(\",REFERENTES!U371,\")\")","v":"()"},{"$f":"REFERENTES!V371","v":0}]
[null,null,null,null,null,null,null,null,null,null,null,null,null,null,null,null,null,null,null,null,null,null,null,null,{"$f":"IF(AND(REFERENTES!U374<>\"\",          REFERENTES!U374<>96321,    REFERENTES!U374<>96222            ),(REFERENTES!W374),\"\")","v":""},{"$f":"REFERENTES!S374","v":0},null,372,0,1130,"X",null,null,{"$f":"CONCATENATE(REFERENTES!T372,\"(\",REFERENTES!U372,\")\")","v":"()"},{"$f":"REFERENTES!V372","v":0}]
[null,null,null,null,null,null,null,null,null,null,null,null,null,null,null,null,null,null,null,null,null,null,null,null,{"$f":"IF(AND(REFERENTES!U375<>\"\",          REFERENTES!U375<>96321,    REFERENTES!U375<>96222            ),(REFERENTES!W375),\"\")","v":""},{"$f":"REFERENTES!S375","v":0},null,373,0,1130,"X",null,null,{"$f":"CONCATENATE(REFERENTES!T373,\"(\",REFERENTES!U373,\")\")","v":"()"},{"$f":"REFERENTES!V373","v":0}]
[null,null,null,null,null,null,null,null,null,null,null,null,null,null,null,null,null,null,null,null,null,null,null,null,{"$f":"IF(AND(REFERENTES!U376<>\"\",          REFERENTES!U376<>96321,    REFERENTES!U376<>96222            ),(REFERENTES!W376),\"\")","v":""},{"$f":"REFERENTES!S376","v":0},null,374,0,1130,"X",null,null,{"$f":"CONCATENATE(REFERENTES!T374,\"(\",REFERENTES!U374,\")\")","v":"()"},{"$f":"REFERENTES!V374","v":0}]
[null,null,null,null,null,null,null,null,null,null,null,null,null,null,null,null,null,null,null,null,null,null,null,null,{"$f":"IF(AND(REFERENTES!U377<>\"\",          REFERENTES!U377<>96321,    REFERENTES!U377<>96222            ),(REFERENTES!W377),\"\")","v":""},{"$f":"REFERENTES!S377","v":0},null,375,0,1130,"X",null,null,{"$f":"CONCATENATE(REFERENTES!T375,\"(\",REFERENTES!U375,\")\")","v":"()"},{"$f":"REFERENTES!V375","v":0}]
[null,null,null,null,null,null,null,null,null,null,null,null,null,null,null,null,null,null,null,null,null,null,null,null,{"$f":"IF(AND(REFERENTES!U378<>\"\",          REFERENTES!U378<>96321,    REFERENTES!U378<>96222            ),(REFERENTES!W378),\"\")","v":""},{"$f":"REFERENTES!S378","v":0},null,376,0,1130,"X",null,null,{"$f":"CONCATENATE(REFERENTES!T376,\"(\",REFERENTES!U376,\")\")","v":"()"},{"$f":"REFERENTES!V376","v":0}]
[null,null,null,null,null,null,null,null,null,null,null,null,null,null,null,null,null,null,null,null,null,null,null,null,{"$f":"IF(AND(REFERENTES!U379<>\"\",          REFERENTES!U379<>96321,    REFERENTES!U379<>96222            ),(REFERENTES!W379),\"\")","v":""},{"$f":"REFERENTES!S379","v":0},null,377,0,1130,"X",null,null,{"$f":"CONCATENATE(REFERENTES!T377,\"(\",REFERENTES!U377,\")\")","v":"()"},{"$f":"REFERENTES!V377","v":0}]
[null,null,null,null,null,null,null,null,null,null,null,null,null,null,null,null,null,null,null,null,null,null,null,null,{"$f":"IF(AND(REFERENTES!U380<>\"\",          REFERENTES!U380<>96321,    REFERENTES!U380<>96222            ),(REFERENTES!W380),\"\")","v":""},{"$f":"REFERENTES!S380","v":0},null,378,0,1130,"X",null,null,{"$f":"CONCATENATE(REFERENTES!T378,\"(\",REFERENTES!U378,\")\")","v":"()"},{"$f":"REFERENTES!V378","v":0}]
[null,null,null,null,null,null,null,null,null,null,null,null,null,null,null,null,null,null,null,null,null,null,null,null,{"$f":"IF(AND(REFERENTES!U381<>\"\",          REFERENTES!U381<>96321,    REFERENTES!U381<>96222            ),(REFERENTES!W381),\"\")","v":""},{"$f":"REFERENTES!S381","v":0},null,379,0,1130,"X",null,null,{"$f":"CONCATENATE(REFERENTES!T379,\"(\",REFERENTES!U379,\")\")","v":"()"},{"$f":"REFERENTES!V379","v":0}]
[null,null,null,null,null,null,null,null,null,null,null,null,null,null,null,null,null,null,null,null,null,null,null,null,{"$f":"IF(AND(REFERENTES!U382<>\"\",          REFERENTES!U382<>96321,    REFERENTES!U382<>96222            ),(REFERENTES!W382),\"\")","v":""},{"$f":"REFERENTES!S382","v":0},null,380,0,1130,"X",null,null,{"$f":"CONCATENATE(REFERENTES!T380,\"(\",REFERENTES!U380,\")\")","v":"()"},{"$f":"REFERENTES!V380","v":0}]
[null,null,null,null,null,null,null,null,null,null,null,null,null,null,null,null,null,null,null,null,null,null,null,null,{"$f":"IF(AND(REFERENTES!U383<>\"\",          REFERENTES!U383<>96321,    REFERENTES!U383<>96222            ),(REFERENTES!W383),\"\")","v":""},{"$f":"REFERENTES!S383","v":0},null,381,0,1130,"X",null,null,{"$f":"CONCATENATE(REFERENTES!T381,\"(\",REFERENTES!U381,\")\")","v":"()"},{"$f":"REFERENTES!V381","v":0}]
[null,null,null,null,null,null,null,null,null,null,null,null,null,null,null,null,null,null,null,null,null,null,null,null,{"$f":"IF(AND(REFERENTES!U384<>\"\",          REFERENTES!U384<>96321,    REFERENTES!U384<>96222            ),(REFERENTES!W384),\"\")","v":""},{"$f":"REFERENTES!S384","v":0},null,382,0,1130,"X",null,null,{"$f":"CONCATENATE(REFERENTES!T382,\"(\",REFERENTES!U382,\")\")","v":"()"},{"$f":"REFERENTES!V382","v":0}]
[null,null,null,null,null,null,null,null,null,null,null,null,null,null,null,null,null,null,null,null,null,null,null,null,{"$f":"IF(AND(REFERENTES!U385<>\"\",          REFERENTES!U385<>96321,    REFERENTES!U385<>96222            ),(REFERENTES!W385),\"\")","v":""},{"$f":"REFERENTES!S385","v":0},null,383,0,1130,"X",null,null,{"$f":"CONCATENATE(REFERENTES!T383,\"(\",REFERENTES!U383,\")\")","v":"()"},{"$f":"REFERENTES!V383","v":0}]
[null,null,null,null,null,null,null,null,null,null,null,null,null,null,null,null,null,null,null,null,null,null,null,null,{"$f":"IF(AND(REFERENTES!U386<>\"\",          REFERENTES!U386<>96321,    REFERENTES!U386<>96222            ),(REFERENTES!W386),\"\")","v":""},{"$f":"REFERENTES!S386","v":0},null,384,0,1130,"X",null,null,{"$f":"CONCATENATE(REFERENTES!T384,\"(\",REFERENTES!U384,\")\")","v":"()"},{"$f":"REFERENTES!V384","v":0}]
[null,null,null,null,null,null,null,null,null,null,null,null,null,null,null,null,null,null,null,null,null,null,null,null,{"$f":"IF(AND(REFERENTES!U387<>\"\",          REFERENTES!U387<>96321,    REFERENTES!U387<>96222            ),(REFERENTES!W387),\"\")","v":""},{"$f":"REFERENTES!S387","v":0},null,385,0,1130,"X",null,null,{"$f":"CONCATENATE(REFERENTES!T385,\"(\",REFERENTES!U385,\")\")","v":"()"},{"$f":"REFERENTES!V385","v":0}]
[null,null,null,null,null,null,null,null,null,null,null,null,null,null,null,null,null,null,null,null,null,null,null,null,{"$f":"IF(AND(REFERENTES!U388<>\"\",          REFERENTES!U388<>96321,    REFERENTES!U388<>96222            ),(REFERENTES!W388),\"\")","v":""},{"$f":"REFERENTES!S388","v":0},null,386,{"$f":"IF(Y391=\"\",0,Y391)","v":0},{"$f":"IF(AC392=0,MAX($AB$7:$AB$1135)+1,AB392)","v":1130},{"$f":"IFERROR(VLOOKUP(SMALL($AD$7:$AD$1135,AB392),$AB$7:$AD$1135,2,FALSE),\"X\")","v":"X"},null,null,{"$f":"CONCATENATE(REFERENTES!T386,\"(\",REFERENTES!U386,\")\")","v":"()"},{"$f":"REFERENTES!V386","v":0}]
[null,null,null,null,null,null,null,null,null,null,null,null,null,null,null,null,null,null,null,null,null,null,null,null,{"$f":"IF(AND(REFERENTES!U389<>\"\",          REFERENTES!U389<>96321,    REFERENTES!U389<>96222            ),(REFERENTES!W389),\"\")","v":""},{"$f":"REFERENTES!S389","v":0},null,387,0,1130,"X",null,null,{"$f":"CONCATENATE(REFERENTES!T387,\"(\",REFERENTES!U387,\")\")","v":"()"},{"$f":"REFERENTES!V387","v":0}]
[null,null,null,null,null,null,null,null,null,null,null,null,null,null,null,null,null,null,null,null,null,null,null,null,{"$f":"IF(AND(REFERENTES!U390<>\"\",          REFERENTES!U390<>96321,    REFERENTES!U390<>96222            ),(REFERENTES!W390),\"\")","v":""},{"$f":"REFERENTES!S390","v":0},null,388,0,1130,"X",null,null,{"$f":"CONCATENATE(REFERENTES!T388,\"(\",REFERENTES!U388,\")\")","v":"()"},{"$f":"REFERENTES!V388","v":0}]
[null,null,null,null,null,null,null,null,null,null,null,null,null,null,null,null,null,null,null,null,null,null,null,null,{"$f":"IF(AND(REFERENTES!U391<>\"\",          REFERENTES!U391<>96321,    REFERENTES!U391<>96222            ),(REFERENTES!W391),\"\")","v":""},{"$f":"REFERENTES!S391","v":0},null,389,0,1130,"X",null,null,{"$f":"CONCATENATE(REFERENTES!T389,\"(\",REFERENTES!U389,\")\")","v":"()"},{"$f":"REFERENTES!V389","v":0}]
[null,null,null,null,null,null,null,null,null,null,null,null,null,null,null,null,null,null,null,null,null,null,null,null,{"$f":"IF(AND(REFERENTES!U392<>\"\",          REFERENTES!U392<>96321,    REFERENTES!U392<>96222            ),(REFERENTES!W392),\"\")","v":""},{"$f":"REFERENTES!S392","v":0},null,390,0,1130,"X",null,null,{"$f":"CONCATENATE(REFERENTES!T390,\"(\",REFERENTES!U390,\")\")","v":"()"},{"$f":"REFERENTES!V390","v":0}]
[null,null,null,null,null,null,null,null,null,null,null,null,null,null,null,null,null,null,null,null,null,null,null,null,{"$f":"IF(AND(REFERENTES!U393<>\"\",          REFERENTES!U393<>96321,    REFERENTES!U393<>96222            ),(REFERENTES!W393),\"\")","v":""},{"$f":"REFERENTES!S393","v":0},null,391,0,1130,"X",null,null,{"$f":"CONCATENATE(REFERENTES!T391,\"(\",REFERENTES!U391,\")\")","v":"()"},{"$f":"REFERENTES!V391","v":0}]
[null,null,null,null,null,null,null,null,null,null,null,null,null,null,null,null,null,null,null,null,null,null,null,null,{"$f":"IF(AND(REFERENTES!U394<>\"\",          REFERENTES!U394<>96321,    REFERENTES!U394<>96222            ),(REFERENTES!W394),\"\")","v":""},{"$f":"REFERENTES!S394","v":0},null,392,0,1130,"X",null,null,{"$f":"CONCATENATE(REFERENTES!T392,\"(\",REFERENTES!U392,\")\")","v":"()"},{"$f":"REFERENTES!V392","v":0}]
[null,null,null,null,null,null,null,null,null,null,null,null,null,null,null,null,null,null,null,null,null,null,null,null,{"$f":"IF(AND(REFERENTES!U395<>\"\",          REFERENTES!U395<>96321,    REFERENTES!U395<>96222            ),(REFERENTES!W395),\"\")","v":""},{"$f":"REFERENTES!S395","v":0},null,393,0,1130,"X",null,null,{"$f":"CONCATENATE(REFERENTES!T393,\"(\",REFERENTES!U393,\")\")","v":"()"},{"$f":"REFERENTES!V393","v":0}]
[null,null,null,null,null,null,null,null,null,null,null,null,null,null,null,null,null,null,null,null,null,null,null,null,{"$f":"IF(AND(REFERENTES!U396<>\"\",          REFERENTES!U396<>96321,    REFERENTES!U396<>96222            ),(REFERENTES!W396),\"\")","v":""},{"$f":"REFERENTES!S396","v":0},null,394,0,1130,"X",null,null,{"$f":"CONCATENATE(REFERENTES!T394,\"(\",REFERENTES!U394,\")\")","v":"()"},{"$f":"REFERENTES!V394","v":0}]
[null,null,null,null,null,null,null,null,null,null,null,null,null,null,null,null,null,null,null,null,null,null,null,null,{"$f":"IF(AND(REFERENTES!U397<>\"\",          REFERENTES!U397<>96321,    REFERENTES!U397<>96222            ),(REFERENTES!W397),\"\")","v":""},{"$f":"REFERENTES!S397","v":0},null,395,0,1130,"X",null,null,{"$f":"CONCATENATE(REFERENTES!T395,\"(\",REFERENTES!U395,\")\")","v":"()"},{"$f":"REFERENTES!V395","v":0}]
[null,null,null,null,null,null,null,null,null,null,null,null,null,null,null,null,null,null,null,null,null,null,null,null,{"$f":"IF(AND(REFERENTES!U398<>\"\",          REFERENTES!U398<>96321,    REFERENTES!U398<>96222            ),(REFERENTES!W398),\"\")","v":""},{"$f":"REFERENTES!S398","v":0},null,396,0,1130,"X",null,null,{"$f":"CONCATENATE(REFERENTES!T396,\"(\",REFERENTES!U396,\")\")","v":"()"},{"$f":"REFERENTES!V396","v":0}]
[null,null,null,null,null,null,null,null,null,null,null,null,null,null,null,null,null,null,null,null,null,null,null,null,{"$f":"IF(AND(REFERENTES!U399<>\"\",          REFERENTES!U399<>96321,    REFERENTES!U399<>96222            ),(REFERENTES!W399),\"\")","v":""},{"$f":"REFERENTES!S399","v":0},null,397,0,1130,"X",null,null,{"$f":"CONCATENATE(REFERENTES!T397,\"(\",REFERENTES!U397,\")\")","v":"()"},{"$f":"REFERENTES!V397","v":0}]
[null,null,null,null,null,null,null,null,null,null,null,null,null,null,null,null,null,null,null,null,null,null,null,null,{"$f":"IF(AND(REFERENTES!U400<>\"\",          REFERENTES!U400<>96321,    REFERENTES!U400<>96222            ),(REFERENTES!W400),\"\")","v":""},{"$f":"REFERENTES!S400","v":0},null,398,0,1130,"X",null,null,{"$f":"CONCATENATE(REFERENTES!T398,\"(\",REFERENTES!U398,\")\")","v":"()"},{"$f":"REFERENTES!V398","v":0}]
[null,null,null,null,null,null,null,null,null,null,null,null,null,null,null,null,null,null,null,null,null,null,null,null,{"$f":"IF(AND(REFERENTES!U401<>\"\",          REFERENTES!U401<>96321,    REFERENTES!U401<>96222            ),(REFERENTES!W401),\"\")","v":""},{"$f":"REFERENTES!S401","v":0},null,399,0,1130,"X",null,null,{"$f":"CONCATENATE(REFERENTES!T399,\"(\",REFERENTES!U399,\")\")","v":"()"},{"$f":"REFERENTES!V399","v":0}]
[null,null,null,null,null,null,null,null,null,null,null,null,null,null,null,null,null,null,null,null,null,null,null,null,{"$f":"IF(AND(REFERENTES!U402<>\"\",          REFERENTES!U402<>96321,    REFERENTES!U402<>96222            ),(REFERENTES!W402),\"\")","v":""},{"$f":"REFERENTES!S402","v":0},null,400,0,1130,"X",null,null,{"$f":"CONCATENATE(REFERENTES!T400,\"(\",REFERENTES!U400,\")\")","v":"()"},{"$f":"REFERENTES!V400","v":0}]
[null,null,null,null,null,null,null,null,null,null,null,null,null,null,null,null,null,null,null,null,null,null,null,null,{"$f":"IF(AND(REFERENTES!U403<>\"\",          REFERENTES!U403<>96321,    REFERENTES!U403<>96222            ),(REFERENTES!W403),\"\")","v":""},{"$f":"REFERENTES!S403","v":0},null,401,0,1130,"X",null,null,{"$f":"CONCATENATE(REFERENTES!T401,\"(\",REFERENTES!U401,\")\")","v":"()"},{"$f":"REFERENTES!V401","v":0}]
[null,null,null,null,null,null,null,null,null,null,null,null,null,null,null,null,null,null,null,null,null,null,null,null,{"$f":"IF(AND(REFERENTES!U404<>\"\",          REFERENTES!U404<>96321,    REFERENTES!U404<>96222            ),(REFERENTES!W404),\"\")","v":""},{"$f":"REFERENTES!S404","v":0},null,402,0,1130,"X",null,null,{"$f":"CONCATENATE(REFERENTES!T402,\"(\",REFERENTES!U402,\")\")","v":"()"},{"$f":"REFERENTES!V402","v":0}]
[null,null,null,null,null,null,null,null,null,null,null,null,null,null,null,null,null,null,null,null,null,null,null,null,{"$f":"IF(AND(REFERENTES!U405<>\"\",          REFERENTES!U405<>96321,    REFERENTES!U405<>96222            ),(REFERENTES!W405),\"\")","v":""},{"$f":"REFERENTES!S405","v":0},null,403,0,1130,"X",null,null,{"$f":"CONCATENATE(REFERENTES!T403,\"(\",REFERENTES!U403,\")\")","v":"()"},{"$f":"REFERENTES!V403","v":0}]
[null,null,null,null,null,null,null,null,null,null,null,null,null,null,null,null,null,null,null,null,null,null,null,null,{"$f":"IF(AND(REFERENTES!U406<>\"\",          REFERENTES!U406<>96321,    REFERENTES!U406<>96222            ),(REFERENTES!W406),\"\")","v":""},{"$f":"REFERENTES!S406","v":0},null,404,0,1130,"X",null,null,{"$f":"CONCATENATE(REFERENTES!T404,\"(\",REFERENTES!U404,\")\")","v":"()"},{"$f":"REFERENTES!V404","v":0}]
[null,null,null,null,null,null,null,null,null,null,null,null,null,null,null,null,null,null,null,null,null,null,null,null,{"$f":"IF(AND(REFERENTES!U407<>\"\",          REFERENTES!U407<>96321,    REFERENTES!U407<>96222            ),(REFERENTES!W407),\"\")","v":""},{"$f":"REFERENTES!S407","v":0},null,405,0,1130,"X",null,null,{"$f":"CONCATENATE(REFERENTES!T405,\"(\",REFERENTES!U405,\")\")","v":"()"},{"$f":"REFERENTES!V405","v":0}]
[null,null,null,null,null,null,null,null,null,null,null,null,null,null,null,null,null,null,null,null,null,null,null,null,{"$f":"IF(AND(REFERENTES!U408<>\"\",          REFERENTES!U408<>96321,    REFERENTES!U408<>96222            ),(REFERENTES!W408),\"\")","v":""},{"$f":"REFERENTES!S408","v":0},null,406,0,1130,"X",null,null,{"$f":"CONCATENATE(REFERENTES!T406,\"(\",REFERENTES!U406,\")\")","v":"()"},{"$f":"REFERENTES!V406","v":0}]
[null,null,null,null,null,null,null,null,null,null,null,null,null,null,null,null,null,null,null,null,null,null,null,null,{"$f":"IF(AND(REFERENTES!U409<>\"\",          REFERENTES!U409<>96321,    REFERENTES!U409<>96222            ),(REFERENTES!W409),\"\")","v":""},{"$f":"REFERENTES!S409","v":0},null,407,0,1130,"X",null,null,{"$f":"CONCATENATE(REFERENTES!T407,\"(\",REFERENTES!U407,\")\")","v":"()"},{"$f":"REFERENTES!V407","v":0}]
[null,null,null,null,null,null,null,null,null,null,null,null,null,null,null,null,null,null,null,null,null,null,null,null,{"$f":"IF(AND(REFERENTES!U410<>\"\",          REFERENTES!U410<>96321,    REFERENTES!U410<>96222            ),(REFERENTES!W410),\"\")","v":""},{"$f":"REFERENTES!S410","v":0},null,408,0,1130,"X",null,null,{"$f":"CONCATENATE(REFERENTES!T408,\"(\",REFERENTES!U408,\")\")","v":"()"},{"$f":"REFERENTES!V408","v":0}]
[null,null,null,null,null,null,null,null,null,null,null,null,null,null,null,null,null,null,null,null,null,null,null,null,{"$f":"IF(AND(REFERENTES!U411<>\"\",          REFERENTES!U411<>96321,    REFERENTES!U411<>96222            ),(REFERENTES!W411),\"\")","v":""},{"$f":"REFERENTES!S411","v":0},null,409,0,1130,"X",null,null,{"$f":"CONCATENATE(REFERENTES!T409,\"(\",REFERENTES!U409,\")\")","v":"()"},{"$f":"REFERENTES!V409","v":0}]
[null,null,null,null,null,null,null,null,null,null,null,null,null,null,null,null,null,null,null,null,null,null,null,null,{"$f":"IF(AND(REFERENTES!U412<>\"\",          REFERENTES!U412<>96321,    REFERENTES!U412<>96222            ),(REFERENTES!W412),\"\")","v":""},{"$f":"REFERENTES!S412","v":0},null,410,0,1130,"X",null,null,{"$f":"CONCATENATE(REFERENTES!T410,\"(\",REFERENTES!U410,\")\")","v":"()"},{"$f":"REFERENTES!V410","v":0}]
[null,null,null,null,null,null,null,null,null,null,null,null,null,null,null,null,null,null,null,null,null,null,null,null,{"$f":"IF(AND(REFERENTES!U413<>\"\",          REFERENTES!U413<>96321,    REFERENTES!U413<>96222            ),(REFERENTES!W413),\"\")","v":""},{"$f":"REFERENTES!S413","v":0},null,411,0,1130,"X",null,null,{"$f":"CONCATENATE(REFERENTES!T411,\"(\",REFERENTES!U411,\")\")","v":"()"},{"$f":"REFERENTES!V411","v":0}]
[null,null,null,null,null,null,null,null,null,null,null,null,null,null,null,null,null,null,null,null,null,null,null,null,{"$f":"IF(AND(REFERENTES!U414<>\"\",          REFERENTES!U414<>96321,    REFERENTES!U414<>96222            ),(REFERENTES!W414),\"\")","v":""},{"$f":"REFERENTES!S414","v":0},null,412,0,1130,"X",null,null,{"$f":"CONCATENATE(REFERENTES!T412,\"(\",REFERENTES!U412,\")\")","v":"()"},{"$f":"REFERENTES!V412","v":0}]
[null,null,null,null,null,null,null,null,null,null,null,null,null,null,null,null,null,null,null,null,null,null,null,null,{"$f":"IF(AND(REFERENTES!U415<>\"\",          REFERENTES!U415<>96321,    REFERENTES!U415<>96222            ),(REFERENTES!W415),\"\")","v":""},{"$f":"REFERENTES!S415","v":0},null,413,0,1130,"X",null,null,{"$f":"CONCATENATE(REFERENTES!T413,\"(\",REFERENTES!U413,\")\")","v":"()"},{"$f":"REFERENTES!V413","v":0}]
[null,null,null,null,null,null,null,null,null,null,null,null,null,null,null,null,null,null,null,null,null,null,null,null,{"$f":"IF(AND(REFERENTES!U416<>\"\",          REFERENTES!U416<>96321,    REFERENTES!U416<>96222            ),(REFERENTES!W416),\"\")","v":""},{"$f":"REFERENTES!S416","v":0},null,414,0,1130,"X",null,null,{"$f":"CONCATENATE(REFERENTES!T414,\"(\",REFERENTES!U414,\")\")","v":"()"},{"$f":"REFERENTES!V414","v":0}]
[null,null,null,null,null,null,null,null,null,null,null,null,null,null,null,null,null,null,null,null,null,null,null,null,{"$f":"IF(AND(REFERENTES!U417<>\"\",          REFERENTES!U417<>96321,    REFERENTES!U417<>96222            ),(REFERENTES!W417),\"\")","v":""},{"$f":"REFERENTES!S417","v":0},null,415,0,1130,"X",null,null,{"$f":"CONCATENATE(REFERENTES!T415,\"(\",REFERENTES!U415,\")\")","v":"()"},{"$f":"REFERENTES!V415","v":0}]
[null,null,null,null,null,null,null,null,null,null,null,null,null,null,null,null,null,null,null,null,null,null,null,null,{"$f":"IF(AND(REFERENTES!U418<>\"\",          REFERENTES!U418<>96321,    REFERENTES!U418<>96222            ),(REFERENTES!W418),\"\")","v":""},{"$f":"REFERENTES!S418","v":0},null,416,0,1130,"X",null,null,{"$f":"CONCATENATE(REFERENTES!T416,\"(\",REFERENTES!U416,\")\")","v":"()"},{"$f":"REFERENTES!V416","v":0}]
[null,null,null,null,null,null,null,null,null,null,null,null,null,null,null,null,null,null,null,null,null,null,null,null,{"$f":"IF(AND(REFERENTES!U419<>\"\",          REFERENTES!U419<>96321,    REFERENTES!U419<>96222            ),(REFERENTES!W419),\"\")","v":""},{"$f":"REFERENTES!S419","v":0},null,417,0,1130,"X",null,null,{"$f":"CONCATENATE(REFERENTES!T417,\"(\",REFERENTES!U417,\")\")","v":"()"},{"$f":"REFERENTES!V417","v":0}]
[null,null,null,null,null,null,null,null,null,null,null,null,null,null,null,null,null,null,null,null,null,null,null,null,{"$f":"IF(AND(REFERENTES!U420<>\"\",          REFERENTES!U420<>96321,    REFERENTES!U420<>96222            ),(REFERENTES!W420),\"\")","v":""},{"$f":"REFERENTES!S420","v":0},null,418,0,1130,"X",null,null,{"$f":"CONCATENATE(REFERENTES!T418,\"(\",REFERENTES!U418,\")\")","v":"()"},{"$f":"REFERENTES!V418","v":0}]
[null,null,null,null,null,null,null,null,null,null,null,null,null,null,null,null,null,null,null,null,null,null,null,null,{"$f":"IF(AND(REFERENTES!U421<>\"\",          REFERENTES!U421<>96321,    REFERENTES!U421<>96222            ),(REFERENTES!W421),\"\")","v":""},{"$f":"REFERENTES!S421","v":0},null,419,0,1130,"X",null,null,{"$f":"CONCATENATE(REFERENTES!T419,\"(\",REFERENTES!U419,\")\")","v":"()"},{"$f":"REFERENTES!V419","v":0}]
[null,null,null,null,null,null,null,null,null,null,null,null,null,null,null,null,null,null,null,null,null,null,null,null,{"$f":"IF(AND(REFERENTES!U422<>\"\",          REFERENTES!U422<>96321,    REFERENTES!U422<>96222            ),(REFERENTES!W422),\"\")","v":""},{"$f":"REFERENTES!S422","v":0},null,420,0,1130,"X",null,null,{"$f":"CONCATENATE(REFERENTES!T420,\"(\",REFERENTES!U420,\")\")","v":"()"},{"$f":"REFERENTES!V420","v":0}]
[null,null,null,null,null,null,null,null,null,null,null,null,null,null,null,null,null,null,null,null,null,null,null,null,{"$f":"IF(AND(REFERENTES!U423<>\"\",          REFERENTES!U423<>96321,    REFERENTES!U423<>96222            ),(REFERENTES!W423),\"\")","v":""},{"$f":"REFERENTES!S423","v":0},null,421,0,1130,"X",null,null,{"$f":"CONCATENATE(REFERENTES!T421,\"(\",REFERENTES!U421,\")\")","v":"()"},{"$f":"REFERENTES!V421","v":0}]
[null,null,null,null,null,null,null,null,null,null,null,null,null,null,null,null,null,null,null,null,null,null,null,null,{"$f":"IF(AND(REFERENTES!U424<>\"\",          REFERENTES!U424<>96321,    REFERENTES!U424<>96222            ),(REFERENTES!W424),\"\")","v":""},{"$f":"REFERENTES!S424","v":0},null,422,0,1130,"X",null,null,{"$f":"CONCATENATE(REFERENTES!T422,\"(\",REFERENTES!U422,\")\")","v":"()"},{"$f":"REFERENTES!V422","v":0}]
[null,null,null,null,null,null,null,null,null,null,null,null,null,null,null,null,null,null,null,null,null,null,null,null,{"$f":"IF(AND(REFERENTES!U425<>\"\",          REFERENTES!U425<>96321,    REFERENTES!U425<>96222            ),(REFERENTES!W425),\"\")","v":""},{"$f":"REFERENTES!S425","v":0},null,423,0,1130,"X",null,null,{"$f":"CONCATENATE(REFERENTES!T423,\"(\",REFERENTES!U423,\")\")","v":"()"},{"$f":"REFERENTES!V423","v":0}]
[null,null,null,null,null,null,null,null,null,null,null,null,null,null,null,null,null,null,null,null,null,null,null,null,{"$f":"IF(AND(REFERENTES!U426<>\"\",          REFERENTES!U426<>96321,    REFERENTES!U426<>96222            ),(REFERENTES!W426),\"\")","v":""},{"$f":"REFERENTES!S426","v":0},null,424,0,1130,"X",null,null,{"$f":"CONCATENATE(REFERENTES!T424,\"(\",REFERENTES!U424,\")\")","v":"()"},{"$f":"REFERENTES!V424","v":0}]
[null,null,null,null,null,null,null,null,null,null,null,null,null,null,null,null,null,null,null,null,null,null,null,null,{"$f":"IF(AND(REFERENTES!U427<>\"\",          REFERENTES!U427<>96321,    REFERENTES!U427<>96222            ),(REFERENTES!W427),\"\")","v":""},{"$f":"REFERENTES!S427","v":0},null,425,0,1130,"X",null,null,{"$f":"CONCATENATE(REFERENTES!T425,\"(\",REFERENTES!U425,\")\")","v":"()"},{"$f":"REFERENTES!V425","v":0}]
[null,null,null,null,null,null,null,null,null,null,null,null,null,null,null,null,null,null,null,null,null,null,null,null,{"$f":"IF(AND(REFERENTES!U428<>\"\",          REFERENTES!U428<>96321,    REFERENTES!U428<>96222            ),(REFERENTES!W428),\"\")","v":""},{"$f":"REFERENTES!S428","v":0},null,426,0,1130,"X",null,null,{"$f":"CONCATENATE(REFERENTES!T426,\"(\",REFERENTES!U426,\")\")","v":"()"},{"$f":"REFERENTES!V426","v":0}]
[null,null,null,null,null,null,null,null,null,null,null,null,null,null,null,null,null,null,null,null,null,null,null,null,{"$f":"IF(AND(REFERENTES!U429<>\"\",          REFERENTES!U429<>96321,    REFERENTES!U429<>96222            ),(REFERENTES!W429),\"\")","v":""},{"$f":"REFERENTES!S429","v":0},null,427,0,1130,"X",null,null,{"$f":"CONCATENATE(REFERENTES!T427,\"(\",REFERENTES!U427,\")\")","v":"()"},{"$f":"REFERENTES!V427","v":0}]
[null,null,null,null,null,null,null,null,null,null,null,null,null,null,null,null,null,null,null,null,null,null,null,null,{"$f":"IF(AND(REFERENTES!U430<>\"\",          REFERENTES!U430<>96321,    REFERENTES!U430<>96222            ),(REFERENTES!W430),\"\")","v":""},{"$f":"REFERENTES!S430","v":0},null,428,0,1130,"X",null,null,{"$f":"CONCATENATE(REFERENTES!T428,\"(\",REFERENTES!U428,\")\")","v":"()"},{"$f":"REFERENTES!V428","v":0}]
[null,null,null,null,null,null,null,null,null,null,null,null,null,null,null,null,null,null,null,null,null,null,null,null,{"$f":"IF(AND(REFERENTES!U431<>\"\",          REFERENTES!U431<>96321,    REFERENTES!U431<>96222            ),(REFERENTES!W431),\"\")","v":""},{"$f":"REFERENTES!S431","v":0},null,429,0,1130,"X",null,null,{"$f":"CONCATENATE(REFERENTES!T429,\"(\",REFERENTES!U429,\")\")","v":"()"},{"$f":"REFERENTES!V429","v":0}]
[null,null,null,null,null,null,null,null,null,null,null,null,null,null,null,null,null,null,null,null,null,null,null,null,{"$f":"IF(AND(REFERENTES!U432<>\"\",          REFERENTES!U432<>96321,    REFERENTES!U432<>96222            ),(REFERENTES!W432),\"\")","v":""},{"$f":"REFERENTES!S432","v":0},null,430,0,1130,"X",null,null,{"$f":"CONCATENATE(REFERENTES!T430,\"(\",REFERENTES!U430,\")\")","v":"()"},{"$f":"REFERENTES!V430","v":0}]
[null,null,null,null,null,null,null,null,null,null,null,null,null,null,null,null,null,null,null,null,null,null,null,null,{"$f":"IF(AND(REFERENTES!U433<>\"\",          REFERENTES!U433<>96321,    REFERENTES!U433<>96222            ),(REFERENTES!W433),\"\")","v":""},{"$f":"REFERENTES!S433","v":0},null,431,0,1130,"X",null,null,{"$f":"CONCATENATE(REFERENTES!T431,\"(\",REFERENTES!U431,\")\")","v":"()"},{"$f":"REFERENTES!V431","v":0}]
[null,null,null,null,null,null,null,null,null,null,null,null,null,null,null,null,null,null,null,null,null,null,null,null,{"$f":"IF(AND(REFERENTES!U434<>\"\",          REFERENTES!U434<>96321,    REFERENTES!U434<>96222            ),(REFERENTES!W434),\"\")","v":""},{"$f":"REFERENTES!S434","v":0},null,432,0,1130,"X",null,null,{"$f":"CONCATENATE(REFERENTES!T432,\"(\",REFERENTES!U432,\")\")","v":"()"},{"$f":"REFERENTES!V432","v":0}]
[null,null,null,null,null,null,null,null,null,null,null,null,null,null,null,null,null,null,null,null,null,null,null,null,{"$f":"IF(AND(REFERENTES!U435<>\"\",          REFERENTES!U435<>96321,    REFERENTES!U435<>96222            ),(REFERENTES!W435),\"\")","v":""},{"$f":"REFERENTES!S435","v":0},null,433,0,1130,"X",null,null,{"$f":"CONCATENATE(REFERENTES!T433,\"(\",REFERENTES!U433,\")\")","v":"()"},{"$f":"REFERENTES!V433","v":0}]
[null,null,null,null,null,null,null,null,null,null,null,null,null,null,null,null,null,null,null,null,null,null,null,null,{"$f":"IF(AND(REFERENTES!U436<>\"\",          REFERENTES!U436<>96321,    REFERENTES!U436<>96222            ),(REFERENTES!W436),\"\")","v":""},{"$f":"REFERENTES!S436","v":0},null,434,0,1130,"X",null,null,{"$f":"CONCATENATE(REFERENTES!T434,\"(\",REFERENTES!U434,\")\")","v":"()"},{"$f":"REFERENTES!V434","v":0}]
[null,null,null,null,null,null,null,null,null,null,null,null,null,null,null,null,null,null,null,null,null,null,null,null,{"$f":"IF(AND(REFERENTES!U437<>\"\",          REFERENTES!U437<>96321,    REFERENTES!U437<>96222            ),(REFERENTES!W437),\"\")","v":""},{"$f":"REFERENTES!S437","v":0},null,435,0,1130,"X",null,null,{"$f":"CONCATENATE(REFERENTES!T435,\"(\",REFERENTES!U435,\")\")","v":"()"},{"$f":"REFERENTES!V435","v":0}]
[null,null,null,null,null,null,null,null,null,null,null,null,null,null,null,null,null,null,null,null,null,null,null,null,{"$f":"IF(AND(REFERENTES!U438<>\"\",          REFERENTES!U438<>96321,    REFERENTES!U438<>96222            ),(REFERENTES!W438),\"\")","v":""},{"$f":"REFERENTES!S438","v":0},null,436,0,1130,"X",null,null,{"$f":"CONCATENATE(REFERENTES!T436,\"(\",REFERENTES!U436,\")\")","v":"()"},{"$f":"REFERENTES!V436","v":0}]
[null,null,null,null,null,null,null,null,null,null,null,null,null,null,null,null,null,null,null,null,null,null,null,null,{"$f":"IF(AND(REFERENTES!U439<>\"\",          REFERENTES!U439<>96321,    REFERENTES!U439<>96222            ),(REFERENTES!W439),\"\")","v":""},{"$f":"REFERENTES!S439","v":0},null,437,0,1130,"X",null,null,{"$f":"CONCATENATE(REFERENTES!T437,\"(\",REFERENTES!U437,\")\")","v":"()"},{"$f":"REFERENTES!V437","v":0}]
[null,null,null,null,null,null,null,null,null,null,null,null,null,null,null,null,null,null,null,null,null,null,null,null,{"$f":"IF(AND(REFERENTES!U440<>\"\",          REFERENTES!U440<>96321,    REFERENTES!U440<>96222            ),(REFERENTES!W440),\"\")","v":""},{"$f":"REFERENTES!S440","v":0},null,438,0,1130,"X",null,null,{"$f":"CONCATENATE(REFERENTES!T438,\"(\",REFERENTES!U438,\")\")","v":"()"},{"$f":"REFERENTES!V438","v":0}]
[null,null,null,null,null,null,null,null,null,null,null,null,null,null,null,null,null,null,null,null,null,null,null,null,{"$f":"IF(AND(REFERENTES!U441<>\"\",          REFERENTES!U441<>96321,    REFERENTES!U441<>96222            ),(REFERENTES!W441),\"\")","v":""},{"$f":"REFERENTES!S441","v":0},null,439,0,1130,"X",null,null,{"$f":"CONCATENATE(REFERENTES!T439,\"(\",REFERENTES!U439,\")\")","v":"()"},{"$f":"REFERENTES!V439","v":0}]
[null,null,null,null,null,null,null,null,null,null,null,null,null,null,null,null,null,null,null,null,null,null,null,null,{"$f":"IF(AND(REFERENTES!U442<>\"\",          REFERENTES!U442<>96321,    REFERENTES!U442<>96222            ),(REFERENTES!W442),\"\")","v":""},{"$f":"REFERENTES!S442","v":0},null,440,0,1130,"X",null,null,{"$f":"CONCATENATE(REFERENTES!T440,\"(\",REFERENTES!U440,\")\")","v":"()"},{"$f":"REFERENTES!V440","v":0}]
[null,null,null,null,null,null,null,null,null,null,null,null,null,null,null,null,null,null,null,null,null,null,null,null,{"$f":"IF(AND(REFERENTES!U443<>\"\",          REFERENTES!U443<>96321,    REFERENTES!U443<>96222            ),(REFERENTES!W443),\"\")","v":""},{"$f":"REFERENTES!S443","v":0},null,441,0,1130,"X",null,null,{"$f":"CONCATENATE(REFERENTES!T441,\"(\",REFERENTES!U441,\")\")","v":"()"},{"$f":"REFERENTES!V441","v":0}]
[null,null,null,null,null,null,null,null,null,null,null,null,null,null,null,null,null,null,null,null,null,null,null,null,{"$f":"IF(AND(REFERENTES!U444<>\"\",          REFERENTES!U444<>96321,    REFERENTES!U444<>96222            ),(REFERENTES!W444),\"\")","v":""},{"$f":"REFERENTES!S444","v":0},null,442,0,1130,"X",null,null,{"$f":"CONCATENATE(REFERENTES!T442,\"(\",REFERENTES!U442,\")\")","v":"()"},{"$f":"REFERENTES!V442","v":0}]
[null,null,null,null,null,null,null,null,null,null,null,null,null,null,null,null,null,null,null,null,null,null,null,null,{"$f":"IF(AND(REFERENTES!U445<>\"\",          REFERENTES!U445<>96321,    REFERENTES!U445<>96222            ),(REFERENTES!W445),\"\")","v":""},{"$f":"REFERENTES!S445","v":0},null,443,0,1130,"X",null,null,{"$f":"CONCATENATE(REFERENTES!T443,\"(\",REFERENTES!U443,\")\")","v":"()"},{"$f":"REFERENTES!V443","v":0}]
[null,null,null,null,null,null,null,null,null,null,null,null,null,null,null,null,null,null,null,null,null,null,null,null,{"$f":"IF(AND(REFERENTES!U446<>\"\",          REFERENTES!U446<>96321,    REFERENTES!U446<>96222            ),(REFERENTES!W446),\"\")","v":""},{"$f":"REFERENTES!S446","v":0},null,444,0,1130,"X",null,null,{"$f":"CONCATENATE(REFERENTES!T444,\"(\",REFERENTES!U444,\")\")","v":"()"},{"$f":"REFERENTES!V444","v":0}]
[null,null,null,null,null,null,null,null,null,null,null,null,null,null,null,null,null,null,null,null,null,null,null,null,{"$f":"IF(AND(REFERENTES!U447<>\"\",          REFERENTES!U447<>96321,    REFERENTES!U447<>96222            ),(REFERENTES!W447),\"\")","v":""},{"$f":"REFERENTES!S447","v":0},null,445,0,1130,"X",null,null,{"$f":"CONCATENATE(REFERENTES!T445,\"(\",REFERENTES!U445,\")\")","v":"()"},{"$f":"REFERENTES!V445","v":0}]
[null,null,null,null,null,null,null,null,null,null,null,null,null,null,null,null,null,null,null,null,null,null,null,null,{"$f":"IF(AND(REFERENTES!U448<>\"\",          REFERENTES!U448<>96321,    REFERENTES!U448<>96222            ),(REFERENTES!W448),\"\")","v":""},{"$f":"REFERENTES!S448","v":0},null,446,0,1130,"X",null,null,{"$f":"CONCATENATE(REFERENTES!T446,\"(\",REFERENTES!U446,\")\")","v":"()"},{"$f":"REFERENTES!V446","v":0}]
[null,null,null,null,null,null,null,null,null,null,null,null,null,null,null,null,null,null,null,null,null,null,null,null,{"$f":"IF(AND(REFERENTES!U449<>\"\",          REFERENTES!U449<>96321,    REFERENTES!U449<>96222            ),(REFERENTES!W449),\"\")","v":""},{"$f":"REFERENTES!S449","v":0},null,447,0,1130,"X",null,null,{"$f":"CONCATENATE(REFERENTES!T447,\"(\",REFERENTES!U447,\")\")","v":"()"},{"$f":"REFERENTES!V447","v":0}]
[null,null,null,null,null,null,null,null,null,null,null,null,null,null,null,null,null,null,null,null,null,null,null,null,{"$f":"IF(AND(REFERENTES!U450<>\"\",          REFERENTES!U450<>96321,    REFERENTES!U450<>96222            ),(REFERENTES!W450),\"\")","v":""},{"$f":"REFERENTES!S450","v":0},null,448,0,1130,"X",null,null,{"$f":"CONCATENATE(REFERENTES!T448,\"(\",REFERENTES!U448,\")\")","v":"()"},{"$f":"REFERENTES!V448","v":0}]
[null,null,null,null,null,null,null,null,null,null,null,null,null,null,null,null,null,null,null,null,null,null,null,null,{"$f":"IF(AND(REFERENTES!U451<>\"\",          REFERENTES!U451<>96321,    REFERENTES!U451<>96222            ),(REFERENTES!W451),\"\")","v":""},{"$f":"REFERENTES!S451","v":0},null,449,0,1130,"X",null,null,{"$f":"CONCATENATE(REFERENTES!T449,\"(\",REFERENTES!U449,\")\")","v":"()"},{"$f":"REFERENTES!V449","v":0}]
[null,null,null,null,null,null,null,null,null,null,null,null,null,null,null,null,null,null,null,null,null,null,null,null,{"$f":"IF(AND(REFERENTES!U452<>\"\",          REFERENTES!U452<>96321,    REFERENTES!U452<>96222            ),(REFERENTES!W452),\"\")","v":""},{"$f":"REFERENTES!S452","v":0},null,450,{"$f":"IF(Y455=\"\",0,Y455)","v":0},{"$f":"IF(AC456=0,MAX($AB$7:$AB$1135)+1,AB456)","v":1130},{"$f":"IFERROR(VLOOKUP(SMALL($AD$7:$AD$1135,AB456),$AB$7:$AD$1135,2,FALSE),\"X\")","v":"X"},null,null,{"$f":"CONCATENATE(REFERENTES!T450,\"(\",REFERENTES!U450,\")\")","v":"()"},{"$f":"REFERENTES!V450","v":0}]
[null,null,null,null,null,null,null,null,null,null,null,null,null,null,null,null,null,null,null,null,null,null,null,null,{"$f":"IF(AND(REFERENTES!U453<>\"\",          REFERENTES!U453<>96321,    REFERENTES!U453<>96222            ),(REFERENTES!W453),\"\")","v":""},{"$f":"REFERENTES!S453","v":0},null,451,0,1130,"X",null,null,{"$f":"CONCATENATE(REFERENTES!T451,\"(\",REFERENTES!U451,\")\")","v":"()"},{"$f":"REFERENTES!V451","v":0}]
[null,null,null,null,null,null,null,null,null,null,null,null,null,null,null,null,null,null,null,null,null,null,null,null,{"$f":"IF(AND(REFERENTES!U454<>\"\",          REFERENTES!U454<>96321,    REFERENTES!U454<>96222            ),(REFERENTES!W454),\"\")","v":""},{"$f":"REFERENTES!S454","v":0},null,452,0,1130,"X",null,null,{"$f":"CONCATENATE(REFERENTES!T452,\"(\",REFERENTES!U452,\")\")","v":"()"},{"$f":"REFERENTES!V452","v":0}]
[null,null,null,null,null,null,null,null,null,null,null,null,null,null,null,null,null,null,null,null,null,null,null,null,{"$f":"IF(AND(REFERENTES!U455<>\"\",          REFERENTES!U455<>96321,    REFERENTES!U455<>96222            ),(REFERENTES!W455),\"\")","v":""},{"$f":"REFERENTES!S455","v":0},null,453,0,1130,"X",null,null,{"$f":"CONCATENATE(REFERENTES!T453,\"(\",REFERENTES!U453,\")\")","v":"()"},{"$f":"REFERENTES!V453","v":0}]
[null,null,null,null,null,null,null,null,null,null,null,null,null,null,null,null,null,null,null,null,null,null,null,null,{"$f":"IF(AND(REFERENTES!U456<>\"\",          REFERENTES!U456<>96321,    REFERENTES!U456<>96222            ),(REFERENTES!W456),\"\")","v":""},{"$f":"REFERENTES!S456","v":0},null,454,0,1130,"X",null,null,{"$f":"CONCATENATE(REFERENTES!T454,\"(\",REFERENTES!U454,\")\")","v":"()"},{"$f":"REFERENTES!V454","v":0}]
[null,null,null,null,null,null,null,null,null,null,null,null,null,null,null,null,null,null,null,null,null,null,null,null,{"$f":"IF(AND(REFERENTES!U457<>\"\",          REFERENTES!U457<>96321,    REFERENTES!U457<>96222            ),(REFERENTES!W457),\"\")","v":""},{"$f":"REFERENTES!S457","v":0},null,455,0,1130,"X",null,null,{"$f":"CONCATENATE(REFERENTES!T455,\"(\",REFERENTES!U455,\")\")","v":"()"},{"$f":"REFERENTES!V455","v":0}]
[null,null,null,null,null,null,null,null,null,null,null,null,null,null,null,null,null,null,null,null,null,null,null,null,{"$f":"IF(AND(REFERENTES!U458<>\"\",          REFERENTES!U458<>96321,    REFERENTES!U458<>96222            ),(REFERENTES!W458),\"\")","v":""},{"$f":"REFERENTES!S458","v":0},null,456,0,1130,"X",null,null,{"$f":"CONCATENATE(REFERENTES!T456,\"(\",REFERENTES!U456,\")\")","v":"()"},{"$f":"REFERENTES!V456","v":0}]
[null,null,null,null,null,null,null,null,null,null,null,null,null,null,null,null,null,null,null,null,null,null,null,null,{"$f":"IF(AND(REFERENTES!U459<>\"\",          REFERENTES!U459<>96321,    REFERENTES!U459<>96222            ),(REFERENTES!W459),\"\")","v":""},{"$f":"REFERENTES!S459","v":0},null,457,0,1130,"X",null,null,{"$f":"CONCATENATE(REFERENTES!T457,\"(\",REFERENTES!U457,\")\")","v":"()"},{"$f":"REFERENTES!V457","v":0}]
[null,null,null,null,null,null,null,null,null,null,null,null,null,null,null,null,null,null,null,null,null,null,null,null,{"$f":"IF(AND(REFERENTES!U460<>\"\",          REFERENTES!U460<>96321,    REFERENTES!U460<>96222            ),(REFERENTES!W460),\"\")","v":""},{"$f":"REFERENTES!S460","v":0},null,458,0,1130,"X",null,null,{"$f":"CONCATENATE(REFERENTES!T458,\"(\",REFERENTES!U458,\")\")","v":"()"},{"$f":"REFERENTES!V458","v":0}]
[null,null,null,null,null,null,null,null,null,null,null,null,null,null,null,null,null,null,null,null,null,null,null,null,{"$f":"IF(AND(REFERENTES!U461<>\"\",          REFERENTES!U461<>96321,    REFERENTES!U461<>96222            ),(REFERENTES!W461),\"\")","v":""},{"$f":"REFERENTES!S461","v":0},null,459,0,1130,"X",null,null,{"$f":"CONCATENATE(REFERENTES!T459,\"(\",REFERENTES!U459,\")\")","v":"()"},{"$f":"REFERENTES!V459","v":0}]
[null,null,null,null,null,null,null,null,null,null,null,null,null,null,null,null,null,null,null,null,null,null,null,null,{"$f":"IF(AND(REFERENTES!U462<>\"\",          REFERENTES!U462<>96321,    REFERENTES!U462<>96222            ),(REFERENTES!W462),\"\")","v":""},{"$f":"REFERENTES!S462","v":0},null,460,0,1130,"X",null,null,{"$f":"CONCATENATE(REFERENTES!T460,\"(\",REFERENTES!U460,\")\")","v":"()"},{"$f":"REFERENTES!V460","v":0}]
[null,null,null,null,null,null,null,null,null,null,null,null,null,null,null,null,null,null,null,null,null,null,null,null,{"$f":"IF(AND(REFERENTES!U463<>\"\",          REFERENTES!U463<>96321,    REFERENTES!U463<>96222            ),(REFERENTES!W463),\"\")","v":""},{"$f":"REFERENTES!S463","v":0},null,461,0,1130,"X",null,null,{"$f":"CONCATENATE(REFERENTES!T461,\"(\",REFERENTES!U461,\")\")","v":"()"},{"$f":"REFERENTES!V461","v":0}]
[null,null,null,null,null,null,null,null,null,null,null,null,null,null,null,null,null,null,null,null,null,null,null,null,{"$f":"IF(AND(REFERENTES!U464<>\"\",          REFERENTES!U464<>96321,    REFERENTES!U464<>96222            ),(REFERENTES!W464),\"\")","v":""},{"$f":"REFERENTES!S464","v":0},null,462,0,1130,"X",null,null,{"$f":"CONCATENATE(REFERENTES!T462,\"(\",REFERENTES!U462,\")\")","v":"()"},{"$f":"REFERENTES!V462","v":0}]
[null,null,null,null,null,null,null,null,null,null,null,null,null,null,null,null,null,null,null,null,null,null,null,null,{"$f":"IF(AND(REFERENTES!U465<>\"\",          REFERENTES!U465<>96321,    REFERENTES!U465<>96222            ),(REFERENTES!W465),\"\")","v":""},{"$f":"REFERENTES!S465","v":0},null,463,0,1130,"X",null,null,{"$f":"CONCATENATE(REFERENTES!T463,\"(\",REFERENTES!U463,\")\")","v":"()"},{"$f":"REFERENTES!V463","v":0}]
[null,null,null,null,null,null,null,null,null,null,null,null,null,null,null,null,null,null,null,null,null,null,null,null,{"$f":"IF(AND(REFERENTES!U466<>\"\",          REFERENTES!U466<>96321,    REFERENTES!U466<>96222            ),(REFERENTES!W466),\"\")","v":""},{"$f":"REFERENTES!S466","v":0},null,464,0,1130,"X",null,null,{"$f":"CONCATENATE(REFERENTES!T464,\"(\",REFERENTES!U464,\")\")","v":"()"},{"$f":"REFERENTES!V464","v":0}]
[null,null,null,null,null,null,null,null,null,null,null,null,null,null,null,null,null,null,null,null,null,null,null,null,{"$f":"IF(AND(REFERENTES!U467<>\"\",          REFERENTES!U467<>96321,    REFERENTES!U467<>96222            ),(REFERENTES!W467),\"\")","v":""},{"$f":"REFERENTES!S467","v":0},null,465,0,1130,"X",null,null,{"$f":"CONCATENATE(REFERENTES!T465,\"(\",REFERENTES!U465,\")\")","v":"()"},{"$f":"REFERENTES!V465","v":0}]
[null,null,null,null,null,null,null,null,null,null,null,null,null,null,null,null,null,null,null,null,null,null,null,null,{"$f":"IF(AND(REFERENTES!U468<>\"\",          REFERENTES!U468<>96321,    REFERENTES!U468<>96222            ),(REFERENTES!W468),\"\")","v":""},{"$f":"REFERENTES!S468","v":0},null,466,0,1130,"X",null,null,{"$f":"CONCATENATE(REFERENTES!T466,\"(\",REFERENTES!U466,\")\")","v":"()"},{"$f":"REFERENTES!V466","v":0}]
[null,null,null,null,null,null,null,null,null,null,null,null,null,null,null,null,null,null,null,null,null,null,null,null,{"$f":"IF(AND(REFERENTES!U469<>\"\",          REFERENTES!U469<>96321,    REFERENTES!U469<>96222            ),(REFERENTES!W469),\"\")","v":""},{"$f":"REFERENTES!S469","v":0},null,467,0,1130,"X",null,null,{"$f":"CONCATENATE(REFERENTES!T467,\"(\",REFERENTES!U467,\")\")","v":"()"},{"$f":"REFERENTES!V467","v":0}]
[null,null,null,null,null,null,null,null,null,null,null,null,null,null,null,null,null,null,null,null,null,null,null,null,{"$f":"IF(AND(REFERENTES!U470<>\"\",          REFERENTES!U470<>96321,    REFERENTES!U470<>96222            ),(REFERENTES!W470),\"\")","v":""},{"$f":"REFERENTES!S470","v":0},null,468,0,1130,"X",null,null,{"$f":"CONCATENATE(REFERENTES!T468,\"(\",REFERENTES!U468,\")\")","v":"()"},{"$f":"REFERENTES!V468","v":0}]
[null,null,null,null,null,null,null,null,null,null,null,null,null,null,null,null,null,null,null,null,null,null,null,null,{"$f":"IF(AND(REFERENTES!U471<>\"\",          REFERENTES!U471<>96321,    REFERENTES!U471<>96222            ),(REFERENTES!W471),\"\")","v":""},{"$f":"REFERENTES!S471","v":0},null,469,0,1130,"X",null,null,{"$f":"CONCATENATE(REFERENTES!T469,\"(\",REFERENTES!U469,\")\")","v":"()"},{"$f":"REFERENTES!V469","v":0}]
[null,null,null,null,null,null,null,null,null,null,null,null,null,null,null,null,null,null,null,null,null,null,null,null,{"$f":"IF(AND(REFERENTES!U472<>\"\",          REFERENTES!U472<>96321,    REFERENTES!U472<>96222            ),(REFERENTES!W472),\"\")","v":""},{"$f":"REFERENTES!S472","v":0},null,470,0,1130,"X",null,null,{"$f":"CONCATENATE(REFERENTES!T470,\"(\",REFERENTES!U470,\")\")","v":"()"},{"$f":"REFERENTES!V470","v":0}]
[null,null,null,null,null,null,null,null,null,null,null,null,null,null,null,null,null,null,null,null,null,null,null,null,{"$f":"IF(AND(REFERENTES!U473<>\"\",          REFERENTES!U473<>96321,    REFERENTES!U473<>96222            ),(REFERENTES!W473),\"\")","v":""},{"$f":"REFERENTES!S473","v":0},null,471,0,1130,"X",null,null,{"$f":"CONCATENATE(REFERENTES!T471,\"(\",REFERENTES!U471,\")\")","v":"()"},{"$f":"REFERENTES!V471","v":0}]
[null,null,null,null,null,null,null,null,null,null,null,null,null,null,null,null,null,null,null,null,null,null,null,null,{"$f":"IF(AND(REFERENTES!U474<>\"\",          REFERENTES!U474<>96321,    REFERENTES!U474<>96222            ),(REFERENTES!W474),\"\")","v":""},{"$f":"REFERENTES!S474","v":0},null,472,0,1130,"X",null,null,{"$f":"CONCATENATE(REFERENTES!T472,\"(\",REFERENTES!U472,\")\")","v":"()"},{"$f":"REFERENTES!V472","v":0}]
[null,null,null,null,null,null,null,null,null,null,null,null,null,null,null,null,null,null,null,null,null,null,null,null,{"$f":"IF(AND(REFERENTES!U475<>\"\",          REFERENTES!U475<>96321,    REFERENTES!U475<>96222            ),(REFERENTES!W475),\"\")","v":""},{"$f":"REFERENTES!S475","v":0},null,473,0,1130,"X",null,null,{"$f":"CONCATENATE(REFERENTES!T473,\"(\",REFERENTES!U473,\")\")","v":"()"},{"$f":"REFERENTES!V473","v":0}]
[null,null,null,null,null,null,null,null,null,null,null,null,null,null,null,null,null,null,null,null,null,null,null,null,{"$f":"IF(AND(REFERENTES!U476<>\"\",          REFERENTES!U476<>96321,    REFERENTES!U476<>96222            ),(REFERENTES!W476),\"\")","v":""},{"$f":"REFERENTES!S476","v":0},null,474,0,1130,"X",null,null,{"$f":"CONCATENATE(REFERENTES!T474,\"(\",REFERENTES!U474,\")\")","v":"()"},{"$f":"REFERENTES!V474","v":0}]
[null,null,null,null,null,null,null,null,null,null,null,null,null,null,null,null,null,null,null,null,null,null,null,null,{"$f":"IF(AND(REFERENTES!U477<>\"\",          REFERENTES!U477<>96321,    REFERENTES!U477<>96222            ),(REFERENTES!W477),\"\")","v":""},{"$f":"REFERENTES!S477","v":0},null,475,0,1130,"X",null,null,{"$f":"CONCATENATE(REFERENTES!T475,\"(\",REFERENTES!U475,\")\")","v":"()"},{"$f":"REFERENTES!V475","v":0}]
[null,null,null,null,null,null,null,null,null,null,null,null,null,null,null,null,null,null,null,null,null,null,null,null,{"$f":"IF(AND(REFERENTES!U478<>\"\",          REFERENTES!U478<>96321,    REFERENTES!U478<>96222            ),(REFERENTES!W478),\"\")","v":""},{"$f":"REFERENTES!S478","v":0},null,476,0,1130,"X",null,null,{"$f":"CONCATENATE(REFERENTES!T476,\"(\",REFERENTES!U476,\")\")","v":"()"},{"$f":"REFERENTES!V476","v":0}]
[null,null,null,null,null,null,null,null,null,null,null,null,null,null,null,null,null,null,null,null,null,null,null,null,{"$f":"IF(AND(REFERENTES!U479<>\"\",          REFERENTES!U479<>96321,    REFERENTES!U479<>96222            ),(REFERENTES!W479),\"\")","v":""},{"$f":"REFERENTES!S479","v":0},null,477,0,1130,"X",null,null,{"$f":"CONCATENATE(REFERENTES!T477,\"(\",REFERENTES!U477,\")\")","v":"()"},{"$f":"REFERENTES!V477","v":0}]
[null,null,null,null,null,null,null,null,null,null,null,null,null,null,null,null,null,null,null,null,null,null,null,null,{"$f":"IF(AND(REFERENTES!U480<>\"\",          REFERENTES!U480<>96321,    REFERENTES!U480<>96222            ),(REFERENTES!W480),\"\")","v":""},{"$f":"REFERENTES!S480","v":0},null,478,0,1130,"X",null,null,{"$f":"CONCATENATE(REFERENTES!T478,\"(\",REFERENTES!U478,\")\")","v":"()"},{"$f":"REFERENTES!V478","v":0}]
[null,null,null,null,null,null,null,null,null,null,null,null,null,null,null,null,null,null,null,null,null,null,null,null,{"$f":"IF(AND(REFERENTES!U481<>\"\",          REFERENTES!U481<>96321,    REFERENTES!U481<>96222            ),(REFERENTES!W481),\"\")","v":""},{"$f":"REFERENTES!S481","v":0},null,479,0,1130,"X",null,null,{"$f":"CONCATENATE(REFERENTES!T479,\"(\",REFERENTES!U479,\")\")","v":"()"},{"$f":"REFERENTES!V479","v":0}]
[null,null,null,null,null,null,null,null,null,null,null,null,null,null,null,null,null,null,null,null,null,null,null,null,{"$f":"IF(AND(REFERENTES!U482<>\"\",          REFERENTES!U482<>96321,    REFERENTES!U482<>96222            ),(REFERENTES!W482),\"\")","v":""},{"$f":"REFERENTES!S482","v":0},null,480,0,1130,"X",null,null,{"$f":"CONCATENATE(REFERENTES!T480,\"(\",REFERENTES!U480,\")\")","v":"()"},{"$f":"REFERENTES!V480","v":0}]
[null,null,null,null,null,null,null,null,null,null,null,null,null,null,null,null,null,null,null,null,null,null,null,null,{"$f":"IF(AND(REFERENTES!U483<>\"\",          REFERENTES!U483<>96321,    REFERENTES!U483<>96222            ),(REFERENTES!W483),\"\")","v":""},{"$f":"REFERENTES!S483","v":0},null,481,0,1130,"X",null,null,{"$f":"CONCATENATE(REFERENTES!T481,\"(\",REFERENTES!U481,\")\")","v":"()"},{"$f":"REFERENTES!V481","v":0}]
[null,null,null,null,null,null,null,null,null,null,null,null,null,null,null,null,null,null,null,null,null,null,null,null,{"$f":"IF(AND(REFERENTES!U484<>\"\",          REFERENTES!U484<>96321,    REFERENTES!U484<>96222            ),(REFERENTES!W484),\"\")","v":""},{"$f":"REFERENTES!S484","v":0},null,482,0,1130,"X",null,null,{"$f":"CONCATENATE(REFERENTES!T482,\"(\",REFERENTES!U482,\")\")","v":"()"},{"$f":"REFERENTES!V482","v":0}]
[null,null,null,null,null,null,null,null,null,null,null,null,null,null,null,null,null,null,null,null,null,null,null,null,{"$f":"IF(AND(REFERENTES!U485<>\"\",          REFERENTES!U485<>96321,    REFERENTES!U485<>96222            ),(REFERENTES!W485),\"\")","v":""},{"$f":"REFERENTES!S485","v":0},null,483,0,1130,"X",null,null,{"$f":"CONCATENATE(REFERENTES!T483,\"(\",REFERENTES!U483,\")\")","v":"()"},{"$f":"REFERENTES!V483","v":0}]
[null,null,null,null,null,null,null,null,null,null,null,null,null,null,null,null,null,null,null,null,null,null,null,null,{"$f":"IF(AND(REFERENTES!U486<>\"\",          REFERENTES!U486<>96321,    REFERENTES!U486<>96222            ),(REFERENTES!W486),\"\")","v":""},{"$f":"REFERENTES!S486","v":0},null,484,0,1130,"X",null,null,{"$f":"CONCATENATE(REFERENTES!T484,\"(\",REFERENTES!U484,\")\")","v":"()"},{"$f":"REFERENTES!V484","v":0}]
[null,null,null,null,null,null,null,null,null,null,null,null,null,null,null,null,null,null,null,null,null,null,null,null,{"$f":"IF(AND(REFERENTES!U487<>\"\",          REFERENTES!U487<>96321,    REFERENTES!U487<>96222            ),(REFERENTES!W487),\"\")","v":""},{"$f":"REFERENTES!S487","v":0},null,485,0,1130,"X",null,null,{"$f":"CONCATENATE(REFERENTES!T485,\"(\",REFERENTES!U485,\")\")","v":"()"},{"$f":"REFERENTES!V485","v":0}]
[null,null,null,null,null,null,null,null,null,null,null,null,null,null,null,null,null,null,null,null,null,null,null,null,{"$f":"IF(AND(REFERENTES!U488<>\"\",          REFERENTES!U488<>96321,    REFERENTES!U488<>96222            ),(REFERENTES!W488),\"\")","v":""},{"$f":"REFERENTES!S488","v":0},null,486,0,1130,"X",null,null,{"$f":"CONCATENATE(REFERENTES!T486,\"(\",REFERENTES!U486,\")\")","v":"()"},{"$f":"REFERENTES!V486","v":0}]
[null,null,null,null,null,null,null,null,null,null,null,null,null,null,null,null,null,null,null,null,null,null,null,null,{"$f":"IF(AND(REFERENTES!U489<>\"\",          REFERENTES!U489<>96321,    REFERENTES!U489<>96222            ),(REFERENTES!W489),\"\")","v":""},{"$f":"REFERENTES!S489","v":0},null,487,0,1130,"X",null,null,{"$f":"CONCATENATE(REFERENTES!T487,\"(\",REFERENTES!U487,\")\")","v":"()"},{"$f":"REFERENTES!V487","v":0}]
[null,null,null,null,null,null,null,null,null,null,null,null,null,null,null,null,null,null,null,null,null,null,null,null,{"$f":"IF(AND(REFERENTES!U490<>\"\",          REFERENTES!U490<>96321,    REFERENTES!U490<>96222            ),(REFERENTES!W490),\"\")","v":""},{"$f":"REFERENTES!S490","v":0},null,488,0,1130,"X",null,null,{"$f":"CONCATENATE(REFERENTES!T488,\"(\",REFERENTES!U488,\")\")","v":"()"},{"$f":"REFERENTES!V488","v":0}]
[null,null,null,null,null,null,null,null,null,null,null,null,null,null,null,null,null,null,null,null,null,null,null,null,{"$f":"IF(AND(REFERENTES!U491<>\"\",          REFERENTES!U491<>96321,    REFERENTES!U491<>96222            ),(REFERENTES!W491),\"\")","v":""},{"$f":"REFERENTES!S491","v":0},null,489,0,1130,"X",null,null,{"$f":"CONCATENATE(REFERENTES!T489,\"(\",REFERENTES!U489,\")\")","v":"()"},{"$f":"REFERENTES!V489","v":0}]
[null,null,null,null,null,null,null,null,null,null,null,null,null,null,null,null,null,null,null,null,null,null,null,null,{"$f":"IF(AND(REFERENTES!U492<>\"\",          REFERENTES!U492<>96321,    REFERENTES!U492<>96222            ),(REFERENTES!W492),\"\")","v":""},{"$f":"REFERENTES!S492","v":0},null,490,0,1130,"X",null,null,{"$f":"CONCATENATE(REFERENTES!T490,\"(\",REFERENTES!U490,\")\")","v":"()"},{"$f":"REFERENTES!V490","v":0}]
[null,null,null,null,null,null,null,null,null,null,null,null,null,null,null,null,null,null,null,null,null,null,null,null,{"$f":"IF(AND(REFERENTES!U493<>\"\",          REFERENTES!U493<>96321,    REFERENTES!U493<>96222            ),(REFERENTES!W493),\"\")","v":""},{"$f":"REFERENTES!S493","v":0},null,491,0,1130,"X",null,null,{"$f":"CONCATENATE(REFERENTES!T491,\"(\",REFERENTES!U491,\")\")","v":"()"},{"$f":"REFERENTES!V491","v":0}]
[null,null,null,null,null,null,null,null,null,null,null,null,null,null,null,null,null,null,null,null,null,null,null,null,{"$f":"IF(AND(REFERENTES!U494<>\"\",          REFERENTES!U494<>96321,    REFERENTES!U494<>96222            ),(REFERENTES!W494),\"\")","v":""},{"$f":"REFERENTES!S494","v":0},null,492,0,1130,"X",null,null,{"$f":"CONCATENATE(REFERENTES!T492,\"(\",REFERENTES!U492,\")\")","v":"()"},{"$f":"REFERENTES!V492","v":0}]
[null,null,null,null,null,null,null,null,null,null,null,null,null,null,null,null,null,null,null,null,null,null,null,null,{"$f":"IF(AND(REFERENTES!U495<>\"\",          REFERENTES!U495<>96321,    REFERENTES!U495<>96222            ),(REFERENTES!W495),\"\")","v":""},{"$f":"REFERENTES!S495","v":0},null,493,0,1130,"X",null,null,{"$f":"CONCATENATE(REFERENTES!T493,\"(\",REFERENTES!U493,\")\")","v":"()"},{"$f":"REFERENTES!V493","v":0}]
[null,null,null,null,null,null,null,null,null,null,null,null,null,null,null,null,null,null,null,null,null,null,null,null,{"$f":"IF(AND(REFERENTES!U496<>\"\",          REFERENTES!U496<>96321,    REFERENTES!U496<>96222            ),(REFERENTES!W496),\"\")","v":""},{"$f":"REFERENTES!S496","v":0},null,494,0,1130,"X",null,null,{"$f":"CONCATENATE(REFERENTES!T494,\"(\",REFERENTES!U494,\")\")","v":"()"},{"$f":"REFERENTES!V494","v":0}]
[null,null,null,null,null,null,null,null,null,null,null,null,null,null,null,null,null,null,null,null,null,null,null,null,{"$f":"IF(AND(REFERENTES!U497<>\"\",          REFERENTES!U497<>96321,    REFERENTES!U497<>96222            ),(REFERENTES!W497),\"\")","v":""},{"$f":"REFERENTES!S497","v":0},null,495,0,1130,"X",null,null,{"$f":"CONCATENATE(REFERENTES!T495,\"(\",REFERENTES!U495,\")\")","v":"()"},{"$f":"REFERENTES!V495","v":0}]
[null,null,null,null,null,null,null,null,null,null,null,null,null,null,null,null,null,null,null,null,null,null,null,null,{"$f":"IF(AND(REFERENTES!U498<>\"\",          REFERENTES!U498<>96321,    REFERENTES!U498<>96222            ),(REFERENTES!W498),\"\")","v":""},{"$f":"REFERENTES!S498","v":0},null,496,0,1130,"X",null,null,{"$f":"CONCATENATE(REFERENTES!T496,\"(\",REFERENTES!U496,\")\")","v":"()"},{"$f":"REFERENTES!V496","v":0}]
[null,null,null,null,null,null,null,null,null,null,null,null,null,null,null,null,null,null,null,null,null,null,null,null,{"$f":"IF(AND(REFERENTES!U499<>\"\",          REFERENTES!U499<>96321,    REFERENTES!U499<>96222            ),(REFERENTES!W499),\"\")","v":""},{"$f":"REFERENTES!S499","v":0},null,497,0,1130,"X",null,null,{"$f":"CONCATENATE(REFERENTES!T497,\"(\",REFERENTES!U497,\")\")","v":"()"},{"$f":"REFERENTES!V497","v":0}]
[null,null,null,null,null,null,null,null,null,null,null,null,null,null,null,null,null,null,null,null,null,null,null,null,{"$f":"IF(AND(REFERENTES!U500<>\"\",          REFERENTES!U500<>96321,    REFERENTES!U500<>96222            ),(REFERENTES!W500),\"\")","v":""},{"$f":"REFERENTES!S500","v":0},null,498,0,1130,"X",null,null,{"$f":"CONCATENATE(REFERENTES!T498,\"(\",REFERENTES!U498,\")\")","v":"()"},{"$f":"REFERENTES!V498","v":0}]
[null,null,null,null,null,null,null,null,null,null,null,null,null,null,null,null,null,null,null,null,null,null,null,null,{"$f":"IF(AND(REFERENTES!U501<>\"\",          REFERENTES!U501<>96321,    REFERENTES!U501<>96222            ),(REFERENTES!W501),\"\")","v":""},{"$f":"REFERENTES!S501","v":0},null,499,0,1130,"X",null,null,{"$f":"CONCATENATE(REFERENTES!T499,\"(\",REFERENTES!U499,\")\")","v":"()"},{"$f":"REFERENTES!V499","v":0}]
[null,null,null,null,null,null,null,null,null,null,null,null,null,null,null,null,null,null,null,null,null,null,null,null,{"$f":"IF(AND(REFERENTES!U502<>\"\",          REFERENTES!U502<>96321,    REFERENTES!U502<>96222            ),(REFERENTES!W502),\"\")","v":""},{"$f":"REFERENTES!S502","v":0},null,500,0,1130,"X",null,null,{"$f":"CONCATENATE(REFERENTES!T500,\"(\",REFERENTES!U500,\")\")","v":"()"},{"$f":"REFERENTES!V500","v":0}]
[null,null,null,null,null,null,null,null,null,null,null,null,null,null,null,null,null,null,null,null,null,null,null,null,{"$f":"IF(AND(REFERENTES!U503<>\"\",          REFERENTES!U503<>96321,    REFERENTES!U503<>96222            ),(REFERENTES!W503),\"\")","v":""},{"$f":"REFERENTES!S503","v":0},null,501,0,1130,"X",null,null,{"$f":"CONCATENATE(REFERENTES!T501,\"(\",REFERENTES!U501,\")\")","v":"()"},{"$f":"REFERENTES!V501","v":0}]
[null,null,null,null,null,null,null,null,null,null,null,null,null,null,null,null,null,null,null,null,null,null,null,null,{"$f":"IF(AND(REFERENTES!U504<>\"\",          REFERENTES!U504<>96321,    REFERENTES!U504<>96222            ),(REFERENTES!W504),\"\")","v":""},{"$f":"REFERENTES!S504","v":0},null,502,0,1130,"X",null,null,{"$f":"CONCATENATE(REFERENTES!T502,\"(\",REFERENTES!U502,\")\")","v":"()"},{"$f":"REFERENTES!V502","v":0}]
[null,null,null,null,null,null,null,null,null,null,null,null,null,null,null,null,null,null,null,null,null,null,null,null,{"$f":"IF(AND(REFERENTES!U505<>\"\",          REFERENTES!U505<>96321,    REFERENTES!U505<>96222            ),(REFERENTES!W505),\"\")","v":""},{"$f":"REFERENTES!S505","v":0},null,503,0,1130,"X",null,null,{"$f":"CONCATENATE(REFERENTES!T503,\"(\",REFERENTES!U503,\")\")","v":"()"},{"$f":"REFERENTES!V503","v":0}]
[null,null,null,null,null,null,null,null,null,null,null,null,null,null,null,null,null,null,null,null,null,null,null,null,{"$f":"IF(AND(REFERENTES!U506<>\"\",          REFERENTES!U506<>96321,    REFERENTES!U506<>96222            ),(REFERENTES!W506),\"\")","v":""},{"$f":"REFERENTES!S506","v":0},null,504,0,1130,"X",null,null,{"$f":"CONCATENATE(REFERENTES!T504,\"(\",REFERENTES!U504,\")\")","v":"()"},{"$f":"REFERENTES!V504","v":0}]
[null,null,null,null,null,null,null,null,null,null,null,null,null,null,null,null,null,null,null,null,null,null,null,null,{"$f":"IF(AND(REFERENTES!U507<>\"\",          REFERENTES!U507<>96321,    REFERENTES!U507<>96222            ),(REFERENTES!W507),\"\")","v":""},{"$f":"REFERENTES!S507","v":0},null,505,0,1130,"X",null,null,{"$f":"CONCATENATE(REFERENTES!T505,\"(\",REFERENTES!U505,\")\")","v":"()"},{"$f":"REFERENTES!V505","v":0}]
[null,null,null,null,null,null,null,null,null,null,null,null,null,null,null,null,null,null,null,null,null,null,null,null,{"$f":"IF(AND(REFERENTES!U508<>\"\",          REFERENTES!U508<>96321,    REFERENTES!U508<>96222            ),(REFERENTES!W508),\"\")","v":""},{"$f":"REFERENTES!S508","v":0},null,506,0,1130,"X",null,null,{"$f":"CONCATENATE(REFERENTES!T506,\"(\",REFERENTES!U506,\")\")","v":"()"},{"$f":"REFERENTES!V506","v":0}]
[null,null,null,null,null,null,null,null,null,null,null,null,null,null,null,null,null,null,null,null,null,null,null,null,{"$f":"IF(AND(REFERENTES!U509<>\"\",          REFERENTES!U509<>96321,    REFERENTES!U509<>96222            ),(REFERENTES!W509),\"\")","v":""},{"$f":"REFERENTES!S509","v":0},null,507,0,1130,"X",null,null,{"$f":"CONCATENATE(REFERENTES!T507,\"(\",REFERENTES!U507,\")\")","v":"()"},{"$f":"REFERENTES!V507","v":0}]
[null,null,null,null,null,null,null,null,null,null,null,null,null,null,null,null,null,null,null,null,null,null,null,null,{"$f":"IF(AND(REFERENTES!U510<>\"\",          REFERENTES!U510<>96321,    REFERENTES!U510<>96222            ),(REFERENTES!W510),\"\")","v":""},{"$f":"REFERENTES!S510","v":0},null,508,0,1130,"X",null,null,{"$f":"CONCATENATE(REFERENTES!T508,\"(\",REFERENTES!U508,\")\")","v":"()"},{"$f":"REFERENTES!V508","v":0}]
[null,null,null,null,null,null,null,null,null,null,null,null,null,null,null,null,null,null,null,null,null,null,null,null,{"$f":"IF(AND(REFERENTES!U511<>\"\",          REFERENTES!U511<>96321,    REFERENTES!U511<>96222            ),(REFERENTES!W511),\"\")","v":""},{"$f":"REFERENTES!S511","v":0},null,509,0,1130,"X",null,null,{"$f":"CONCATENATE(REFERENTES!T509,\"(\",REFERENTES!U509,\")\")","v":"()"},{"$f":"REFERENTES!V509","v":0}]
[null,null,null,null,null,null,null,null,null,null,null,null,null,null,null,null,null,null,null,null,null,null,null,null,{"$f":"IF(AND(REFERENTES!U512<>\"\",          REFERENTES!U512<>96321,    REFERENTES!U512<>96222            ),(REFERENTES!W512),\"\")","v":""},{"$f":"REFERENTES!S512","v":0},null,510,0,1130,"X",null,null,{"$f":"CONCATENATE(REFERENTES!T510,\"(\",REFERENTES!U510,\")\")","v":"()"},{"$f":"REFERENTES!V510","v":0}]
[null,null,null,null,null,null,null,null,null,null,null,null,null,null,null,null,null,null,null,null,null,null,null,null,{"$f":"IF(AND(REFERENTES!U513<>\"\",          REFERENTES!U513<>96321,    REFERENTES!U513<>96222            ),(REFERENTES!W513),\"\")","v":""},{"$f":"REFERENTES!S513","v":0},null,511,0,1130,"X",null,null,{"$f":"CONCATENATE(REFERENTES!T511,\"(\",REFERENTES!U511,\")\")","v":"()"},{"$f":"REFERENTES!V511","v":0}]
[null,null,null,null,null,null,null,null,null,null,null,null,null,null,null,null,null,null,null,null,null,null,null,null,{"$f":"IF(AND(REFERENTES!U514<>\"\",          REFERENTES!U514<>96321,    REFERENTES!U514<>96222            ),(REFERENTES!W514),\"\")","v":""},{"$f":"REFERENTES!S514","v":0},null,512,0,1130,"X",null,null,{"$f":"CONCATENATE(REFERENTES!T512,\"(\",REFERENTES!U512,\")\")","v":"()"},{"$f":"REFERENTES!V512","v":0}]
[null,null,null,null,null,null,null,null,null,null,null,null,null,null,null,null,null,null,null,null,null,null,null,null,{"$f":"IF(AND(REFERENTES!U515<>\"\",          REFERENTES!U515<>96321,    REFERENTES!U515<>96222            ),(REFERENTES!W515),\"\")","v":""},{"$f":"REFERENTES!S515","v":0},null,513,0,1130,"X",null,null,{"$f":"CONCATENATE(REFERENTES!T513,\"(\",REFERENTES!U513,\")\")","v":"()"},{"$f":"REFERENTES!V513","v":0}]
[null,null,null,null,null,null,null,null,null,null,null,null,null,null,null,null,null,null,null,null,null,null,null,null,{"$f":"IF(AND(REFERENTES!U516<>\"\",          REFERENTES!U516<>96321,    REFERENTES!U516<>96222            ),(REFERENTES!W516),\"\")","v":""},{"$f":"REFERENTES!S516","v":0},null,514,{"$f":"IF(Y519=\"\",0,Y519)","v":0},{"$f":"IF(AC520=0,MAX($AB$7:$AB$1135)+1,AB520)","v":1130},{"$f":"IFERROR(VLOOKUP(SMALL($AD$7:$AD$1135,AB520),$AB$7:$AD$1135,2,FALSE),\"X\")","v":"X"},null,null,{"$f":"CONCATENATE(REFERENTES!T514,\"(\",REFERENTES!U514,\")\")","v":"()"},{"$f":"REFERENTES!V514","v":0}]
[null,null,null,null,null,null,null,null,null,null,null,null,null,null,null,null,null,null,null,null,null,null,null,null,{"$f":"IF(AND(REFERENTES!U517<>\"\",          REFERENTES!U517<>96321,    REFERENTES!U517<>96222            ),(REFERENTES!W517),\"\")","v":""},{"$f":"REFERENTES!S517","v":0},null,515,0,1130,"X",null,null,{"$f":"CONCATENATE(REFERENTES!T515,\"(\",REFERENTES!U515,\")\")","v":"()"},{"$f":"REFERENTES!V515","v":0}]
[null,null,null,null,null,null,null,null,null,null,null,null,null,null,null,null,null,null,null,null,null,null,null,null,{"$f":"IF(AND(REFERENTES!U518<>\"\",          REFERENTES!U518<>96321,    REFERENTES!U518<>96222            ),(REFERENTES!W518),\"\")","v":""},{"$f":"REFERENTES!S518","v":0},null,516,0,1130,"X",null,null,{"$f":"CONCATENATE(REFERENTES!T516,\"(\",REFERENTES!U516,\")\")","v":"()"},{"$f":"REFERENTES!V516","v":0}]
[null,null,null,null,null,null,null,null,null,null,null,null,null,null,null,null,null,null,null,null,null,null,null,null,{"$f":"IF(AND(REFERENTES!U519<>\"\",          REFERENTES!U519<>96321,    REFERENTES!U519<>96222            ),(REFERENTES!W519),\"\")","v":""},{"$f":"REFERENTES!S519","v":0},null,517,0,1130,"X",null,null,{"$f":"CONCATENATE(REFERENTES!T517,\"(\",REFERENTES!U517,\")\")","v":"()"},{"$f":"REFERENTES!V517","v":0}]
[null,null,null,null,null,null,null,null,null,null,null,null,null,null,null,null,null,null,null,null,null,null,null,null,{"$f":"IF(AND(REFERENTES!U520<>\"\",          REFERENTES!U520<>96321,    REFERENTES!U520<>96222            ),(REFERENTES!W520),\"\")","v":""},{"$f":"REFERENTES!S520","v":0},null,518,0,1130,"X",null,null,{"$f":"CONCATENATE(REFERENTES!T518,\"(\",REFERENTES!U518,\")\")","v":"()"},{"$f":"REFERENTES!V518","v":0}]
[null,null,null,null,null,null,null,null,null,null,null,null,null,null,null,null,null,null,null,null,null,null,null,null,{"$f":"IF(AND(REFERENTES!U521<>\"\",          REFERENTES!U521<>96321,    REFERENTES!U521<>96222            ),(REFERENTES!W521),\"\")","v":""},{"$f":"REFERENTES!S521","v":0},null,519,0,1130,"X",null,null,{"$f":"CONCATENATE(REFERENTES!T519,\"(\",REFERENTES!U519,\")\")","v":"()"},{"$f":"REFERENTES!V519","v":0}]
[null,null,null,null,null,null,null,null,null,null,null,null,null,null,null,null,null,null,null,null,null,null,null,null,{"$f":"IF(AND(REFERENTES!U522<>\"\",          REFERENTES!U522<>96321,    REFERENTES!U522<>96222            ),(REFERENTES!W522),\"\")","v":""},{"$f":"REFERENTES!S522","v":0},null,520,0,1130,"X",null,null,{"$f":"CONCATENATE(REFERENTES!T520,\"(\",REFERENTES!U520,\")\")","v":"()"},{"$f":"REFERENTES!V520","v":0}]
[null,null,null,null,null,null,null,null,null,null,null,null,null,null,null,null,null,null,null,null,null,null,null,null,{"$f":"IF(AND(REFERENTES!U523<>\"\",          REFERENTES!U523<>96321,    REFERENTES!U523<>96222            ),(REFERENTES!W523),\"\")","v":""},{"$f":"REFERENTES!S523","v":0},null,521,0,1130,"X",null,null,{"$f":"CONCATENATE(REFERENTES!T521,\"(\",REFERENTES!U521,\")\")","v":"()"},{"$f":"REFERENTES!V521","v":0}]
[null,null,null,null,null,null,null,null,null,null,null,null,null,null,null,null,null,null,null,null,null,null,null,null,{"$f":"IF(AND(REFERENTES!U524<>\"\",          REFERENTES!U524<>96321,    REFERENTES!U524<>96222            ),(REFERENTES!W524),\"\")","v":""},{"$f":"REFERENTES!S524","v":0},null,522,0,1130,"X",null,null,{"$f":"CONCATENATE(REFERENTES!T522,\"(\",REFERENTES!U522,\")\")","v":"()"},{"$f":"REFERENTES!V522","v":0}]
[null,null,null,null,null,null,null,null,null,null,null,null,null,null,null,null,null,null,null,null,null,null,null,null,{"$f":"IF(AND(REFERENTES!U525<>\"\",          REFERENTES!U525<>96321,    REFERENTES!U525<>96222            ),(REFERENTES!W525),\"\")","v":""},{"$f":"REFERENTES!S525","v":0},null,523,0,1130,"X",null,null,{"$f":"CONCATENATE(REFERENTES!T523,\"(\",REFERENTES!U523,\")\")","v":"()"},{"$f":"REFERENTES!V523","v":0}]
[null,null,null,null,null,null,null,null,null,null,null,null,null,null,null,null,null,null,null,null,null,null,null,null,{"$f":"IF(AND(REFERENTES!U526<>\"\",          REFERENTES!U526<>96321,    REFERENTES!U526<>96222            ),(REFERENTES!W526),\"\")","v":""},{"$f":"REFERENTES!S526","v":0},null,524,0,1130,"X",null,null,{"$f":"CONCATENATE(REFERENTES!T524,\"(\",REFERENTES!U524,\")\")","v":"()"},{"$f":"REFERENTES!V524","v":0}]
[null,null,null,null,null,null,null,null,null,null,null,null,null,null,null,null,null,null,null,null,null,null,null,null,{"$f":"IF(AND(REFERENTES!U527<>\"\",          REFERENTES!U527<>96321,    REFERENTES!U527<>96222            ),(REFERENTES!W527),\"\")","v":""},{"$f":"REFERENTES!S527","v":0},null,525,0,1130,"X",null,null,{"$f":"CONCATENATE(REFERENTES!T525,\"(\",REFERENTES!U525,\")\")","v":"()"},{"$f":"REFERENTES!V525","v":0}]
[null,null,null,null,null,null,null,null,null,null,null,null,null,null,null,null,null,null,null,null,null,null,null,null,{"$f":"IF(AND(REFERENTES!U528<>\"\",          REFERENTES!U528<>96321,    REFERENTES!U528<>96222            ),(REFERENTES!W528),\"\")","v":""},{"$f":"REFERENTES!S528","v":0},null,526,0,1130,"X",null,null,{"$f":"CONCATENATE(REFERENTES!T526,\"(\",REFERENTES!U526,\")\")","v":"()"},{"$f":"REFERENTES!V526","v":0}]
[null,null,null,null,null,null,null,null,null,null,null,null,null,null,null,null,null,null,null,null,null,null,null,null,{"$f":"IF(AND(REFERENTES!U529<>\"\",          REFERENTES!U529<>96321,    REFERENTES!U529<>96222            ),(REFERENTES!W529),\"\")","v":""},{"$f":"REFERENTES!S529","v":0},null,527,0,1130,"X",null,null,{"$f":"CONCATENATE(REFERENTES!T527,\"(\",REFERENTES!U527,\")\")","v":"()"},{"$f":"REFERENTES!V527","v":0}]
[null,null,null,null,null,null,null,null,null,null,null,null,null,null,null,null,null,null,null,null,null,null,null,null,{"$f":"IF(AND(REFERENTES!U530<>\"\",          REFERENTES!U530<>96321,    REFERENTES!U530<>96222            ),(REFERENTES!W530),\"\")","v":""},{"$f":"REFERENTES!S530","v":0},null,528,0,1130,"X",null,null,{"$f":"CONCATENATE(REFERENTES!T528,\"(\",REFERENTES!U528,\")\")","v":"()"},{"$f":"REFERENTES!V528","v":0}]
[null,null,null,null,null,null,null,null,null,null,null,null,null,null,null,null,null,null,null,null,null,null,null,null,{"$f":"IF(AND(REFERENTES!U531<>\"\",          REFERENTES!U531<>96321,    REFERENTES!U531<>96222            ),(REFERENTES!W531),\"\")","v":""},{"$f":"REFERENTES!S531","v":0},null,529,0,1130,"X",null,null,{"$f":"CONCATENATE(REFERENTES!T529,\"(\",REFERENTES!U529,\")\")","v":"()"},{"$f":"REFERENTES!V529","v":0}]
[null,null,null,null,null,null,null,null,null,null,null,null,null,null,null,null,null,null,null,null,null,null,null,null,{"$f":"IF(AND(REFERENTES!U532<>\"\",          REFERENTES!U532<>96321,    REFERENTES!U532<>96222            ),(REFERENTES!W532),\"\")","v":""},{"$f":"REFERENTES!S532","v":0},null,530,0,1130,"X",null,null,{"$f":"CONCATENATE(REFERENTES!T530,\"(\",REFERENTES!U530,\")\")","v":"()"},{"$f":"REFERENTES!V530","v":0}]
[null,null,null,null,null,null,null,null,null,null,null,null,null,null,null,null,null,null,null,null,null,null,null,null,{"$f":"IF(AND(REFERENTES!U533<>\"\",          REFERENTES!U533<>96321,    REFERENTES!U533<>96222            ),(REFERENTES!W533),\"\")","v":""},{"$f":"REFERENTES!S533","v":0},null,531,0,1130,"X",null,null,{"$f":"CONCATENATE(REFERENTES!T531,\"(\",REFERENTES!U531,\")\")","v":"()"},{"$f":"REFERENTES!V531","v":0}]
[null,null,null,null,null,null,null,null,null,null,null,null,null,null,null,null,null,null,null,null,null,null,null,null,{"$f":"IF(AND(REFERENTES!U534<>\"\",          REFERENTES!U534<>96321,    REFERENTES!U534<>96222            ),(REFERENTES!W534),\"\")","v":""},{"$f":"REFERENTES!S534","v":0},null,532,0,1130,"X",null,null,{"$f":"CONCATENATE(REFERENTES!T532,\"(\",REFERENTES!U532,\")\")","v":"()"},{"$f":"REFERENTES!V532","v":0}]
[null,null,null,null,null,null,null,null,null,null,null,null,null,null,null,null,null,null,null,null,null,null,null,null,{"$f":"IF(AND(REFERENTES!U535<>\"\",          REFERENTES!U535<>96321,    REFERENTES!U535<>96222            ),(REFERENTES!W535),\"\")","v":""},{"$f":"REFERENTES!S535","v":0},null,533,0,1130,"X",null,null,{"$f":"CONCATENATE(REFERENTES!T533,\"(\",REFERENTES!U533,\")\")","v":"()"},{"$f":"REFERENTES!V533","v":0}]
[null,null,null,null,null,null,null,null,null,null,null,null,null,null,null,null,null,null,null,null,null,null,null,null,{"$f":"IF(AND(REFERENTES!U536<>\"\",          REFERENTES!U536<>96321,    REFERENTES!U536<>96222            ),(REFERENTES!W536),\"\")","v":""},{"$f":"REFERENTES!S536","v":0},null,534,0,1130,"X",null,null,{"$f":"CONCATENATE(REFERENTES!T534,\"(\",REFERENTES!U534,\")\")","v":"()"},{"$f":"REFERENTES!V534","v":0}]
[null,null,null,null,null,null,null,null,null,null,null,null,null,null,null,null,null,null,null,null,null,null,null,null,{"$f":"IF(AND(REFERENTES!U537<>\"\",          REFERENTES!U537<>96321,    REFERENTES!U537<>96222            ),(REFERENTES!W537),\"\")","v":""},{"$f":"REFERENTES!S537","v":0},null,535,0,1130,"X",null,null,{"$f":"CONCATENATE(REFERENTES!T535,\"(\",REFERENTES!U535,\")\")","v":"()"},{"$f":"REFERENTES!V535","v":0}]
[null,null,null,null,null,null,null,null,null,null,null,null,null,null,null,null,null,null,null,null,null,null,null,null,{"$f":"IF(AND(REFERENTES!U538<>\"\",          REFERENTES!U538<>96321,    REFERENTES!U538<>96222            ),(REFERENTES!W538),\"\")","v":""},{"$f":"REFERENTES!S538","v":0},null,536,0,1130,"X",null,null,{"$f":"CONCATENATE(REFERENTES!T536,\"(\",REFERENTES!U536,\")\")","v":"()"},{"$f":"REFERENTES!V536","v":0}]
[null,null,null,null,null,null,null,null,null,null,null,null,null,null,null,null,null,null,null,null,null,null,null,null,{"$f":"IF(AND(REFERENTES!U539<>\"\",          REFERENTES!U539<>96321,    REFERENTES!U539<>96222            ),(REFERENTES!W539),\"\")","v":""},{"$f":"REFERENTES!S539","v":0},null,537,0,1130,"X",null,null,{"$f":"CONCATENATE(REFERENTES!T537,\"(\",REFERENTES!U537,\")\")","v":"()"},{"$f":"REFERENTES!V537","v":0}]
[null,null,null,null,null,null,null,null,null,null,null,null,null,null,null,null,null,null,null,null,null,null,null,null,{"$f":"IF(AND(REFERENTES!U540<>\"\",          REFERENTES!U540<>96321,    REFERENTES!U540<>96222            ),(REFERENTES!W540),\"\")","v":""},{"$f":"REFERENTES!S540","v":0},null,538,0,1130,"X",null,null,{"$f":"CONCATENATE(REFERENTES!T538,\"(\",REFERENTES!U538,\")\")","v":"()"},{"$f":"REFERENTES!V538","v":0}]
[null,null,null,null,null,null,null,null,null,null,null,null,null,null,null,null,null,null,null,null,null,null,null,null,{"$f":"IF(AND(REFERENTES!U541<>\"\",          REFERENTES!U541<>96321,    REFERENTES!U541<>96222            ),(REFERENTES!W541),\"\")","v":""},{"$f":"REFERENTES!S541","v":0},null,539,0,1130,"X",null,null,{"$f":"CONCATENATE(REFERENTES!T539,\"(\",REFERENTES!U539,\")\")","v":"()"},{"$f":"REFERENTES!V539","v":0}]
[null,null,null,null,null,null,null,null,null,null,null,null,null,null,null,null,null,null,null,null,null,null,null,null,{"$f":"IF(AND(REFERENTES!U542<>\"\",          REFERENTES!U542<>96321,    REFERENTES!U542<>96222            ),(REFERENTES!W542),\"\")","v":""},{"$f":"REFERENTES!S542","v":0},null,540,0,1130,"X",null,null,{"$f":"CONCATENATE(REFERENTES!T540,\"(\",REFERENTES!U540,\")\")","v":"()"},{"$f":"REFERENTES!V540","v":0}]
[null,null,null,null,null,null,null,null,null,null,null,null,null,null,null,null,null,null,null,null,null,null,null,null,{"$f":"IF(AND(REFERENTES!U543<>\"\",          REFERENTES!U543<>96321,    REFERENTES!U543<>96222            ),(REFERENTES!W543),\"\")","v":""},{"$f":"REFERENTES!S543","v":0},null,541,0,1130,"X",null,null,{"$f":"CONCATENATE(REFERENTES!T541,\"(\",REFERENTES!U541,\")\")","v":"()"},{"$f":"REFERENTES!V541","v":0}]
[null,null,null,null,null,null,null,null,null,null,null,null,null,null,null,null,null,null,null,null,null,null,null,null,{"$f":"IF(AND(REFERENTES!U544<>\"\",          REFERENTES!U544<>96321,    REFERENTES!U544<>96222            ),(REFERENTES!W544),\"\")","v":""},{"$f":"REFERENTES!S544","v":0},null,542,0,1130,"X",null,null,{"$f":"CONCATENATE(REFERENTES!T542,\"(\",REFERENTES!U542,\")\")","v":"()"},{"$f":"REFERENTES!V542","v":0}]
[null,null,null,null,null,null,null,null,null,null,null,null,null,null,null,null,null,null,null,null,null,null,null,null,{"$f":"IF(AND(REFERENTES!U545<>\"\",          REFERENTES!U545<>96321,    REFERENTES!U545<>96222            ),(REFERENTES!W545),\"\")","v":""},{"$f":"REFERENTES!S545","v":0},null,543,0,1130,"X",null,null,{"$f":"CONCATENATE(REFERENTES!T543,\"(\",REFERENTES!U543,\")\")","v":"()"},{"$f":"REFERENTES!V543","v":0}]
[null,null,null,null,null,null,null,null,null,null,null,null,null,null,null,null,null,null,null,null,null,null,null,null,{"$f":"IF(AND(REFERENTES!U546<>\"\",          REFERENTES!U546<>96321,    REFERENTES!U546<>96222            ),(REFERENTES!W546),\"\")","v":""},{"$f":"REFERENTES!S546","v":0},null,544,0,1130,"X",null,null,{"$f":"CONCATENATE(REFERENTES!T544,\"(\",REFERENTES!U544,\")\")","v":"()"},{"$f":"REFERENTES!V544","v":0}]
[null,null,null,null,null,null,null,null,null,null,null,null,null,null,null,null,null,null,null,null,null,null,null,null,{"$f":"IF(AND(REFERENTES!U547<>\"\",          REFERENTES!U547<>96321,    REFERENTES!U547<>96222            ),(REFERENTES!W547),\"\")","v":""},{"$f":"REFERENTES!S547","v":0},null,545,0,1130,"X",null,null,{"$f":"CONCATENATE(REFERENTES!T545,\"(\",REFERENTES!U545,\")\")","v":"()"},{"$f":"REFERENTES!V545","v":0}]
[null,null,null,null,null,null,null,null,null,null,null,null,null,null,null,null,null,null,null,null,null,null,null,null,{"$f":"IF(AND(REFERENTES!U548<>\"\",          REFERENTES!U548<>96321,    REFERENTES!U548<>96222            ),(REFERENTES!W548),\"\")","v":""},{"$f":"REFERENTES!S548","v":0},null,546,0,1130,"X",null,null,{"$f":"CONCATENATE(REFERENTES!T546,\"(\",REFERENTES!U546,\")\")","v":"()"},{"$f":"REFERENTES!V546","v":0}]
[null,null,null,null,null,null,null,null,null,null,null,null,null,null,null,null,null,null,null,null,null,null,null,null,{"$f":"IF(AND(REFERENTES!U549<>\"\",          REFERENTES!U549<>96321,    REFERENTES!U549<>96222            ),(REFERENTES!W549),\"\")","v":""},{"$f":"REFERENTES!S549","v":0},null,547,0,1130,"X",null,null,{"$f":"CONCATENATE(REFERENTES!T547,\"(\",REFERENTES!U547,\")\")","v":"()"},{"$f":"REFERENTES!V547","v":0}]
[null,null,null,null,null,null,null,null,null,null,null,null,null,null,null,null,null,null,null,null,null,null,null,null,{"$f":"IF(AND(REFERENTES!U550<>\"\",          REFERENTES!U550<>96321,    REFERENTES!U550<>96222            ),(REFERENTES!W550),\"\")","v":""},{"$f":"REFERENTES!S550","v":0},null,548,0,1130,"X",null,null,{"$f":"CONCATENATE(REFERENTES!T548,\"(\",REFERENTES!U548,\")\")","v":"()"},{"$f":"REFERENTES!V548","v":0}]
[null,null,null,null,null,null,null,null,null,null,null,null,null,null,null,null,null,null,null,null,null,null,null,null,{"$f":"IF(AND(REFERENTES!U551<>\"\",          REFERENTES!U551<>96321,    REFERENTES!U551<>96222            ),(REFERENTES!W551),\"\")","v":""},{"$f":"REFERENTES!S551","v":0},null,549,0,1130,"X",null,null,{"$f":"CONCATENATE(REFERENTES!T549,\"(\",REFERENTES!U549,\")\")","v":"()"},{"$f":"REFERENTES!V549","v":0}]
[null,null,null,null,null,null,null,null,null,null,null,null,null,null,null,null,null,null,null,null,null,null,null,null,{"$f":"IF(AND(REFERENTES!U552<>\"\",          REFERENTES!U552<>96321,    REFERENTES!U552<>96222            ),(REFERENTES!W552),\"\")","v":""},{"$f":"REFERENTES!S552","v":0},null,550,0,1130,"X",null,null,{"$f":"CONCATENATE(REFERENTES!T550,\"(\",REFERENTES!U550,\")\")","v":"()"},{"$f":"REFERENTES!V550","v":0}]
[null,null,null,null,null,null,null,null,null,null,null,null,null,null,null,null,null,null,null,null,null,null,null,null,{"$f":"IF(AND(REFERENTES!U553<>\"\",          REFERENTES!U553<>96321,    REFERENTES!U553<>96222            ),(REFERENTES!W553),\"\")","v":""},{"$f":"REFERENTES!S553","v":0},null,551,0,1130,"X",null,null,{"$f":"CONCATENATE(REFERENTES!T551,\"(\",REFERENTES!U551,\")\")","v":"()"},{"$f":"REFERENTES!V551","v":0}]
[null,null,null,null,null,null,null,null,null,null,null,null,null,null,null,null,null,null,null,null,null,null,null,null,{"$f":"IF(AND(REFERENTES!U554<>\"\",          REFERENTES!U554<>96321,    REFERENTES!U554<>96222            ),(REFERENTES!W554),\"\")","v":""},{"$f":"REFERENTES!S554","v":0},null,552,0,1130,"X",null,null,{"$f":"CONCATENATE(REFERENTES!T552,\"(\",REFERENTES!U552,\")\")","v":"()"},{"$f":"REFERENTES!V552","v":0}]
[null,null,null,null,null,null,null,null,null,null,null,null,null,null,null,null,null,null,null,null,null,null,null,null,{"$f":"IF(AND(REFERENTES!U555<>\"\",          REFERENTES!U555<>96321,    REFERENTES!U555<>96222            ),(REFERENTES!W555),\"\")","v":""},{"$f":"REFERENTES!S555","v":0},null,553,0,1130,"X",null,null,{"$f":"CONCATENATE(REFERENTES!T553,\"(\",REFERENTES!U553,\")\")","v":"()"},{"$f":"REFERENTES!V553","v":0}]
[null,null,null,null,null,null,null,null,null,null,null,null,null,null,null,null,null,null,null,null,null,null,null,null,{"$f":"IF(AND(REFERENTES!U556<>\"\",          REFERENTES!U556<>96321,    REFERENTES!U556<>96222            ),(REFERENTES!W556),\"\")","v":""},{"$f":"REFERENTES!S556","v":0},null,554,0,1130,"X",null,null,{"$f":"CONCATENATE(REFERENTES!T554,\"(\",REFERENTES!U554,\")\")","v":"()"},{"$f":"REFERENTES!V554","v":0}]
[null,null,null,null,null,null,null,null,null,null,null,null,null,null,null,null,null,null,null,null,null,null,null,null,{"$f":"IF(AND(REFERENTES!U557<>\"\",          REFERENTES!U557<>96321,    REFERENTES!U557<>96222            ),(REFERENTES!W557),\"\")","v":""},{"$f":"REFERENTES!S557","v":0},null,555,0,1130,"X",null,null,{"$f":"CONCATENATE(REFERENTES!T555,\"(\",REFERENTES!U555,\")\")","v":"()"},{"$f":"REFERENTES!V555","v":0}]
[null,null,null,null,null,null,null,null,null,null,null,null,null,null,null,null,null,null,null,null,null,null,null,null,{"$f":"IF(AND(REFERENTES!U558<>\"\",          REFERENTES!U558<>96321,    REFERENTES!U558<>96222            ),(REFERENTES!W558),\"\")","v":""},{"$f":"REFERENTES!S558","v":0},null,556,0,1130,"X",null,null,{"$f":"CONCATENATE(REFERENTES!T556,\"(\",REFERENTES!U556,\")\")","v":"()"},{"$f":"REFERENTES!V556","v":0}]
[null,null,null,null,null,null,null,null,null,null,null,null,null,null,null,null,null,null,null,null,null,null,null,null,{"$f":"IF(AND(REFERENTES!U559<>\"\",          REFERENTES!U559<>96321,    REFERENTES!U559<>96222            ),(REFERENTES!W559),\"\")","v":""},{"$f":"REFERENTES!S559","v":0},null,557,0,1130,"X",null,null,{"$f":"CONCATENATE(REFERENTES!T557,\"(\",REFERENTES!U557,\")\")","v":"()"},{"$f":"REFERENTES!V557","v":0}]
[null,null,null,null,null,null,null,null,null,null,null,null,null,null,null,null,null,null,null,null,null,null,null,null,{"$f":"IF(AND(REFERENTES!U560<>\"\",          REFERENTES!U560<>96321,    REFERENTES!U560<>96222            ),(REFERENTES!W560),\"\")","v":""},{"$f":"REFERENTES!S560","v":0},null,558,0,1130,"X",null,null,{"$f":"CONCATENATE(REFERENTES!T558,\"(\",REFERENTES!U558,\")\")","v":"()"},{"$f":"REFERENTES!V558","v":0}]
[null,null,null,null,null,null,null,null,null,null,null,null,null,null,null,null,null,null,null,null,null,null,null,null,{"$f":"IF(AND(REFERENTES!U561<>\"\",          REFERENTES!U561<>96321,    REFERENTES!U561<>96222            ),(REFERENTES!W561),\"\")","v":""},{"$f":"REFERENTES!S561","v":0},null,559,0,1130,"X",null,null,{"$f":"CONCATENATE(REFERENTES!T559,\"(\",REFERENTES!U559,\")\")","v":"()"},{"$f":"REFERENTES!V559","v":0}]
[null,null,null,null,null,null,null,null,null,null,null,null,null,null,null,null,null,null,null,null,null,null,null,null,{"$f":"IF(AND(REFERENTES!U562<>\"\",          REFERENTES!U562<>96321,    REFERENTES!U562<>96222            ),(REFERENTES!W562),\"\")","v":""},{"$f":"REFERENTES!S562","v":0},null,560,0,1130,"X",null,null,{"$f":"CONCATENATE(REFERENTES!T560,\"(\",REFERENTES!U560,\")\")","v":"()"},{"$f":"REFERENTES!V560","v":0}]
[null,null,null,null,null,null,null,null,null,null,null,null,null,null,null,null,null,null,null,null,null,null,null,null,{"$f":"IF(AND(REFERENTES!U563<>\"\",          REFERENTES!U563<>96321,    REFERENTES!U563<>96222            ),(REFERENTES!W563),\"\")","v":""},{"$f":"REFERENTES!S563","v":0},null,561,0,1130,"X",null,null,{"$f":"CONCATENATE(REFERENTES!T561,\"(\",REFERENTES!U561,\")\")","v":"()"},{"$f":"REFERENTES!V561","v":0}]
[null,null,null,null,null,null,null,null,null,null,null,null,null,null,null,null,null,null,null,null,null,null,null,null,{"$f":"IF(AND(REFERENTES!U564<>\"\",          REFERENTES!U564<>96321,    REFERENTES!U564<>96222            ),(REFERENTES!W564),\"\")","v":""},{"$f":"REFERENTES!S564","v":0},null,562,0,1130,"X",null,null,{"$f":"CONCATENATE(REFERENTES!T562,\"(\",REFERENTES!U562,\")\")","v":"()"},{"$f":"REFERENTES!V562","v":0}]
[null,null,null,null,null,null,null,null,null,null,null,null,null,null,null,null,null,null,null,null,null,null,null,null,{"$f":"IF(AND(REFERENTES!U565<>\"\",          REFERENTES!U565<>96321,    REFERENTES!U565<>96222            ),(REFERENTES!W565),\"\")","v":""},{"$f":"REFERENTES!S565","v":0},null,563,0,1130,"X",null,null,{"$f":"CONCATENATE(REFERENTES!T563,\"(\",REFERENTES!U563,\")\")","v":"()"},{"$f":"REFERENTES!V563","v":0}]
[null,null,null,null,null,null,null,null,null,null,null,null,null,null,null,null,null,null,null,null,null,null,null,null,{"$f":"IF(AND(REFERENTES!U566<>\"\",          REFERENTES!U566<>96321,    REFERENTES!U566<>96222            ),(REFERENTES!W566),\"\")","v":""},{"$f":"REFERENTES!S566","v":0},null,564,0,1130,"X",null,null,{"$f":"CONCATENATE(REFERENTES!T564,\"(\",REFERENTES!U564,\")\")","v":"()"},{"$f":"REFERENTES!V564","v":0}]
[null,null,null,null,null,null,null,null,null,null,null,null,null,null,null,null,null,null,null,null,null,null,null,null,{"$f":"IF(AND(REFERENTES!U567<>\"\",          REFERENTES!U567<>96321,    REFERENTES!U567<>96222            ),(REFERENTES!W567),\"\")","v":""},{"$f":"REFERENTES!S567","v":0},null,565,0,1130,"X",null,null,{"$f":"CONCATENATE(REFERENTES!T565,\"(\",REFERENTES!U565,\")\")","v":"()"},{"$f":"REFERENTES!V565","v":0}]
[null,null,null,null,null,null,null,null,null,null,null,null,null,null,null,null,null,null,null,null,null,null,null,null,{"$f":"IF(AND(REFERENTES!U568<>\"\",          REFERENTES!U568<>96321,    REFERENTES!U568<>96222            ),(REFERENTES!W568),\"\")","v":""},{"$f":"REFERENTES!S568","v":0},null,566,0,1130,"X",null,null,{"$f":"CONCATENATE(REFERENTES!T566,\"(\",REFERENTES!U566,\")\")","v":"()"},{"$f":"REFERENTES!V566","v":0}]
[null,null,null,null,null,null,null,null,null,null,null,null,null,null,null,null,null,null,null,null,null,null,null,null,{"$f":"IF(AND(REFERENTES!U569<>\"\",          REFERENTES!U569<>96321,    REFERENTES!U569<>96222            ),(REFERENTES!W569),\"\")","v":""},{"$f":"REFERENTES!S569","v":0},null,567,0,1130,"X",null,null,{"$f":"CONCATENATE(REFERENTES!T567,\"(\",REFERENTES!U567,\")\")","v":"()"},{"$f":"REFERENTES!V567","v":0}]
[null,null,null,null,null,null,null,null,null,null,null,null,null,null,null,null,null,null,null,null,null,null,null,null,{"$f":"IF(AND(REFERENTES!U570<>\"\",          REFERENTES!U570<>96321,    REFERENTES!U570<>96222            ),(REFERENTES!W570),\"\")","v":""},{"$f":"REFERENTES!S570","v":0},null,568,0,1130,"X",null,null,{"$f":"CONCATENATE(REFERENTES!T568,\"(\",REFERENTES!U568,\")\")","v":"()"},{"$f":"REFERENTES!V568","v":0}]
[null,null,null,null,null,null,null,null,null,null,null,null,null,null,null,null,null,null,null,null,null,null,null,null,{"$f":"IF(AND(REFERENTES!U571<>\"\",          REFERENTES!U571<>96321,    REFERENTES!U571<>96222            ),(REFERENTES!W571),\"\")","v":""},{"$f":"REFERENTES!S571","v":0},null,569,0,1130,"X",null,null,{"$f":"CONCATENATE(REFERENTES!T569,\"(\",REFERENTES!U569,\")\")","v":"()"},{"$f":"REFERENTES!V569","v":0}]
[null,null,null,null,null,null,null,null,null,null,null,null,null,null,null,null,null,null,null,null,null,null,null,null,{"$f":"IF(AND(REFERENTES!U572<>\"\",          REFERENTES!U572<>96321,    REFERENTES!U572<>96222            ),(REFERENTES!W572),\"\")","v":""},{"$f":"REFERENTES!S572","v":0},null,570,0,1130,"X",null,null,{"$f":"CONCATENATE(REFERENTES!T570,\"(\",REFERENTES!U570,\")\")","v":"()"},{"$f":"REFERENTES!V570","v":0}]
[null,null,null,null,null,null,null,null,null,null,null,null,null,null,null,null,null,null,null,null,null,null,null,null,{"$f":"IF(AND(REFERENTES!U573<>\"\",          REFERENTES!U573<>96321,    REFERENTES!U573<>96222            ),(REFERENTES!W573),\"\")","v":""},{"$f":"REFERENTES!S573","v":0},null,571,0,1130,"X",null,null,{"$f":"CONCATENATE(REFERENTES!T571,\"(\",REFERENTES!U571,\")\")","v":"()"},{"$f":"REFERENTES!V571","v":0}]
[null,null,null,null,null,null,null,null,null,null,null,null,null,null,null,null,null,null,null,null,null,null,null,null,{"$f":"IF(AND(REFERENTES!U574<>\"\",          REFERENTES!U574<>96321,    REFERENTES!U574<>96222            ),(REFERENTES!W574),\"\")","v":""},{"$f":"REFERENTES!S574","v":0},null,572,0,1130,"X",null,null,{"$f":"CONCATENATE(REFERENTES!T572,\"(\",REFERENTES!U572,\")\")","v":"()"},{"$f":"REFERENTES!V572","v":0}]
[null,null,null,null,null,null,null,null,null,null,null,null,null,null,null,null,null,null,null,null,null,null,null,null,{"$f":"IF(AND(REFERENTES!U575<>\"\",          REFERENTES!U575<>96321,    REFERENTES!U575<>96222            ),(REFERENTES!W575),\"\")","v":""},{"$f":"REFERENTES!S575","v":0},null,573,0,1130,"X",null,null,{"$f":"CONCATENATE(REFERENTES!T573,\"(\",REFERENTES!U573,\")\")","v":"()"},{"$f":"REFERENTES!V573","v":0}]
[null,null,null,null,null,null,null,null,null,null,null,null,null,null,null,null,null,null,null,null,null,null,null,null,{"$f":"IF(AND(REFERENTES!U576<>\"\",          REFERENTES!U576<>96321,    REFERENTES!U576<>96222            ),(REFERENTES!W576),\"\")","v":""},{"$f":"REFERENTES!S576","v":0},null,574,0,1130,"X",null,null,{"$f":"CONCATENATE(REFERENTES!T574,\"(\",REFERENTES!U574,\")\")","v":"()"},{"$f":"REFERENTES!V574","v":0}]
[null,null,null,null,null,null,null,null,null,null,null,null,null,null,null,null,null,null,null,null,null,null,null,null,{"$f":"IF(AND(REFERENTES!U577<>\"\",          REFERENTES!U577<>96321,    REFERENTES!U577<>96222            ),(REFERENTES!W577),\"\")","v":""},{"$f":"REFERENTES!S577","v":0},null,575,0,1130,"X",null,null,{"$f":"CONCATENATE(REFERENTES!T575,\"(\",REFERENTES!U575,\")\")","v":"()"},{"$f":"REFERENTES!V575","v":0}]
[null,null,null,null,null,null,null,null,null,null,null,null,null,null,null,null,null,null,null,null,null,null,null,null,{"$f":"IF(AND(REFERENTES!U578<>\"\",          REFERENTES!U578<>96321,    REFERENTES!U578<>96222            ),(REFERENTES!W578),\"\")","v":""},{"$f":"REFERENTES!S578","v":0},null,576,0,1130,"X",null,null,{"$f":"CONCATENATE(REFERENTES!T576,\"(\",REFERENTES!U576,\")\")","v":"()"},{"$f":"REFERENTES!V576","v":0}]
[null,null,null,null,null,null,null,null,null,null,null,null,null,null,null,null,null,null,null,null,null,null,null,null,{"$f":"IF(AND(REFERENTES!U579<>\"\",          REFERENTES!U579<>96321,    REFERENTES!U579<>96222            ),(REFERENTES!W579),\"\")","v":""},{"$f":"REFERENTES!S579","v":0},null,577,0,1130,"X",null,null,{"$f":"CONCATENATE(REFERENTES!T577,\"(\",REFERENTES!U577,\")\")","v":"()"},{"$f":"REFERENTES!V577","v":0}]
[null,null,null,null,null,null,null,null,null,null,null,null,null,null,null,null,null,null,null,null,null,null,null,null,{"$f":"IF(AND(REFERENTES!U580<>\"\",          REFERENTES!U580<>96321,    REFERENTES!U580<>96222            ),(REFERENTES!W580),\"\")","v":""},{"$f":"REFERENTES!S580","v":0},null,578,{"$f":"IF(Y583=\"\",0,Y583)","v":0},{"$f":"IF(AC584=0,MAX($AB$7:$AB$1135)+1,AB584)","v":1130},{"$f":"IFERROR(VLOOKUP(SMALL($AD$7:$AD$1135,AB584),$AB$7:$AD$1135,2,FALSE),\"X\")","v":"X"},null,null,{"$f":"CONCATENATE(REFERENTES!T578,\"(\",REFERENTES!U578,\")\")","v":"()"},{"$f":"REFERENTES!V578","v":0}]
[null,null,null,null,null,null,null,null,null,null,null,null,null,null,null,null,null,null,null,null,null,null,null,null,{"$f":"IF(AND(REFERENTES!U581<>\"\",          REFERENTES!U581<>96321,    REFERENTES!U581<>96222            ),(REFERENTES!W581),\"\")","v":""},{"$f":"REFERENTES!S581","v":0},null,579,0,1130,"X",null,null,{"$f":"CONCATENATE(REFERENTES!T579,\"(\",REFERENTES!U579,\")\")","v":"()"},{"$f":"REFERENTES!V579","v":0}]
[null,null,null,null,null,null,null,null,null,null,null,null,null,null,null,null,null,null,null,null,null,null,null,null,{"$f":"IF(AND(REFERENTES!U582<>\"\",          REFERENTES!U582<>96321,    REFERENTES!U582<>96222            ),(REFERENTES!W582),\"\")","v":""},{"$f":"REFERENTES!S582","v":0},null,580,0,1130,"X",null,null,{"$f":"CONCATENATE(REFERENTES!T580,\"(\",REFERENTES!U580,\")\")","v":"()"},{"$f":"REFERENTES!V580","v":0}]
[null,null,null,null,null,null,null,null,null,null,null,null,null,null,null,null,null,null,null,null,null,null,null,null,{"$f":"IF(AND(REFERENTES!U583<>\"\",          REFERENTES!U583<>96321,    REFERENTES!U583<>96222            ),(REFERENTES!W583),\"\")","v":""},{"$f":"REFERENTES!S583","v":0},null,581,0,1130,"X",null,null,{"$f":"CONCATENATE(REFERENTES!T581,\"(\",REFERENTES!U581,\")\")","v":"()"},{"$f":"REFERENTES!V581","v":0}]
[null,null,null,null,null,null,null,null,null,null,null,null,null,null,null,null,null,null,null,null,null,null,null,null,{"$f":"IF(AND(REFERENTES!U584<>\"\",          REFERENTES!U584<>96321,    REFERENTES!U584<>96222            ),(REFERENTES!W584),\"\")","v":""},{"$f":"REFERENTES!S584","v":0},null,582,0,1130,"X",null,null,{"$f":"CONCATENATE(REFERENTES!T582,\"(\",REFERENTES!U582,\")\")","v":"()"},{"$f":"REFERENTES!V582","v":0}]
[null,null,null,null,null,null,null,null,null,null,null,null,null,null,null,null,null,null,null,null,null,null,null,null,{"$f":"IF(AND(REFERENTES!U585<>\"\",          REFERENTES!U585<>96321,    REFERENTES!U585<>96222            ),(REFERENTES!W585),\"\")","v":""},{"$f":"REFERENTES!S585","v":0},null,583,0,1130,"X",null,null,{"$f":"CONCATENATE(REFERENTES!T583,\"(\",REFERENTES!U583,\")\")","v":"()"},{"$f":"REFERENTES!V583","v":0}]
[null,null,null,null,null,null,null,null,null,null,null,null,null,null,null,null,null,null,null,null,null,null,null,null,{"$f":"IF(AND(REFERENTES!U586<>\"\",          REFERENTES!U586<>96321,    REFERENTES!U586<>96222            ),(REFERENTES!W586),\"\")","v":""},{"$f":"REFERENTES!S586","v":0},null,584,0,1130,"X",null,null,{"$f":"CONCATENATE(REFERENTES!T584,\"(\",REFERENTES!U584,\")\")","v":"()"},{"$f":"REFERENTES!V584","v":0}]
[null,null,null,null,null,null,null,null,null,null,null,null,null,null,null,null,null,null,null,null,null,null,null,null,{"$f":"IF(AND(REFERENTES!U587<>\"\",          REFERENTES!U587<>96321,    REFERENTES!U587<>96222            ),(REFERENTES!W587),\"\")","v":""},{"$f":"REFERENTES!S587","v":0},null,585,0,1130,"X",null,null,{"$f":"CONCATENATE(REFERENTES!T585,\"(\",REFERENTES!U585,\")\")","v":"()"},{"$f":"REFERENTES!V585","v":0}]
[null,null,null,null,null,null,null,null,null,null,null,null,null,null,null,null,null,null,null,null,null,null,null,null,{"$f":"IF(AND(REFERENTES!U588<>\"\",          REFERENTES!U588<>96321,    REFERENTES!U588<>96222            ),(REFERENTES!W588),\"\")","v":""},{"$f":"REFERENTES!S588","v":0},null,586,0,1130,"X",null,null,{"$f":"CONCATENATE(REFERENTES!T586,\"(\",REFERENTES!U586,\")\")","v":"()"},{"$f":"REFERENTES!V586","v":0}]
[null,null,null,null,null,null,null,null,null,null,null,null,null,null,null,null,null,null,null,null,null,null,null,null,{"$f":"IF(AND(REFERENTES!U589<>\"\",          REFERENTES!U589<>96321,    REFERENTES!U589<>96222            ),(REFERENTES!W589),\"\")","v":""},{"$f":"REFERENTES!S589","v":0},null,587,0,1130,"X",null,null,{"$f":"CONCATENATE(REFERENTES!T587,\"(\",REFERENTES!U587,\")\")","v":"()"},{"$f":"REFERENTES!V587","v":0}]
[null,null,null,null,null,null,null,null,null,null,null,null,null,null,null,null,null,null,null,null,null,null,null,null,{"$f":"IF(AND(REFERENTES!U590<>\"\",          REFERENTES!U590<>96321,    REFERENTES!U590<>96222            ),(REFERENTES!W590),\"\")","v":""},{"$f":"REFERENTES!S590","v":0},null,588,0,1130,"X",null,null,{"$f":"CONCATENATE(REFERENTES!T588,\"(\",REFERENTES!U588,\")\")","v":"()"},{"$f":"REFERENTES!V588","v":0}]
[null,null,null,null,null,null,null,null,null,null,null,null,null,null,null,null,null,null,null,null,null,null,null,null,{"$f":"IF(AND(REFERENTES!U591<>\"\",          REFERENTES!U591<>96321,    REFERENTES!U591<>96222            ),(REFERENTES!W591),\"\")","v":""},{"$f":"REFERENTES!S591","v":0},null,589,0,1130,"X",null,null,{"$f":"CONCATENATE(REFERENTES!T589,\"(\",REFERENTES!U589,\")\")","v":"()"},{"$f":"REFERENTES!V589","v":0}]
[null,null,null,null,null,null,null,null,null,null,null,null,null,null,null,null,null,null,null,null,null,null,null,null,{"$f":"IF(AND(REFERENTES!U592<>\"\",          REFERENTES!U592<>96321,    REFERENTES!U592<>96222            ),(REFERENTES!W592),\"\")","v":""},{"$f":"REFERENTES!S592","v":0},null,590,0,1130,"X",null,null,{"$f":"CONCATENATE(REFERENTES!T590,\"(\",REFERENTES!U590,\")\")","v":"()"},{"$f":"REFERENTES!V590","v":0}]
[null,null,null,null,null,null,null,null,null,null,null,null,null,null,null,null,null,null,null,null,null,null,null,null,{"$f":"IF(AND(REFERENTES!U593<>\"\",          REFERENTES!U593<>96321,    REFERENTES!U593<>96222            ),(REFERENTES!W593),\"\")","v":""},{"$f":"REFERENTES!S593","v":0},null,591,0,1130,"X",null,null,{"$f":"CONCATENATE(REFERENTES!T591,\"(\",REFERENTES!U591,\")\")","v":"()"},{"$f":"REFERENTES!V591","v":0}]
[null,null,null,null,null,null,null,null,null,null,null,null,null,null,null,null,null,null,null,null,null,null,null,null,{"$f":"IF(AND(REFERENTES!U594<>\"\",          REFERENTES!U594<>96321,    REFERENTES!U594<>96222            ),(REFERENTES!W594),\"\")","v":""},{"$f":"REFERENTES!S594","v":0},null,592,0,1130,"X",null,null,{"$f":"CONCATENATE(REFERENTES!T592,\"(\",REFERENTES!U592,\")\")","v":"()"},{"$f":"REFERENTES!V592","v":0}]
[null,null,null,null,null,null,null,null,null,null,null,null,null,null,null,null,null,null,null,null,null,null,null,null,{"$f":"IF(AND(REFERENTES!U595<>\"\",          REFERENTES!U595<>96321,    REFERENTES!U595<>96222            ),(REFERENTES!W595),\"\")","v":""},{"$f":"REFERENTES!S595","v":0},null,593,0,1130,"X",null,null,{"$f":"CONCATENATE(REFERENTES!T593,\"(\",REFERENTES!U593,\")\")","v":"()"},{"$f":"REFERENTES!V593","v":0}]
[null,null,null,null,null,null,null,null,null,null,null,null,null,null,null,null,null,null,null,null,null,null,null,null,{"$f":"IF(AND(REFERENTES!U596<>\"\",          REFERENTES!U596<>96321,    REFERENTES!U596<>96222            ),(REFERENTES!W596),\"\")","v":""},{"$f":"REFERENTES!S596","v":0},null,594,0,1130,"X",null,null,{"$f":"CONCATENATE(REFERENTES!T594,\"(\",REFERENTES!U594,\")\")","v":"()"},{"$f":"REFERENTES!V594","v":0}]
[null,null,null,null,null,null,null,null,null,null,null,null,null,null,null,null,null,null,null,null,null,null,null,null,{"$f":"IF(AND(REFERENTES!U597<>\"\",          REFERENTES!U597<>96321,    REFERENTES!U597<>96222            ),(REFERENTES!W597),\"\")","v":""},{"$f":"REFERENTES!S597","v":0},null,595,0,1130,"X",null,null,{"$f":"CONCATENATE(REFERENTES!T595,\"(\",REFERENTES!U595,\")\")","v":"()"},{"$f":"REFERENTES!V595","v":0}]
[null,null,null,null,null,null,null,null,null,null,null,null,null,null,null,null,null,null,null,null,null,null,null,null,{"$f":"IF(AND(REFERENTES!U598<>\"\",          REFERENTES!U598<>96321,    REFERENTES!U598<>96222            ),(REFERENTES!W598),\"\")","v":""},{"$f":"REFERENTES!S598","v":0},null,596,0,1130,"X",null,null,{"$f":"CONCATENATE(REFERENTES!T596,\"(\",REFERENTES!U596,\")\")","v":"()"},{"$f":"REFERENTES!V596","v":0}]
[null,null,null,null,null,null,null,null,null,null,null,null,null,null,null,null,null,null,null,null,null,null,null,null,{"$f":"IF(AND(REFERENTES!U599<>\"\",          REFERENTES!U599<>96321,    REFERENTES!U599<>96222            ),(REFERENTES!W599),\"\")","v":""},{"$f":"REFERENTES!S599","v":0},null,597,0,1130,"X",null,null,{"$f":"CONCATENATE(REFERENTES!T597,\"(\",REFERENTES!U597,\")\")","v":"()"},{"$f":"REFERENTES!V597","v":0}]
[null,null,null,null,null,null,null,null,null,null,null,null,null,null,null,null,null,null,null,null,null,null,null,null,{"$f":"IF(AND(REFERENTES!U600<>\"\",          REFERENTES!U600<>96321,    REFERENTES!U600<>96222            ),(REFERENTES!W600),\"\")","v":""},{"$f":"REFERENTES!S600","v":0},null,598,0,1130,"X",null,null,{"$f":"CONCATENATE(REFERENTES!T598,\"(\",REFERENTES!U598,\")\")","v":"()"},{"$f":"REFERENTES!V598","v":0}]
[null,null,null,null,null,null,null,null,null,null,null,null,null,null,null,null,null,null,null,null,null,null,null,null,{"$f":"IF(AND(REFERENTES!U601<>\"\",          REFERENTES!U601<>96321,    REFERENTES!U601<>96222            ),(REFERENTES!W601),\"\")","v":""},{"$f":"REFERENTES!S601","v":0},null,599,0,1130,"X",null,null,{"$f":"CONCATENATE(REFERENTES!T599,\"(\",REFERENTES!U599,\")\")","v":"()"},{"$f":"REFERENTES!V599","v":0}]
[null,null,null,null,null,null,null,null,null,null,null,null,null,null,null,null,null,null,null,null,null,null,null,null,{"$f":"IF(AND(REFERENTES!U602<>\"\",          REFERENTES!U602<>96321,    REFERENTES!U602<>96222            ),(REFERENTES!W602),\"\")","v":""},{"$f":"REFERENTES!S602","v":0},null,600,0,1130,"X",null,null,{"$f":"CONCATENATE(REFERENTES!T600,\"(\",REFERENTES!U600,\")\")","v":"()"},{"$f":"REFERENTES!V600","v":0}]
[null,null,null,null,null,null,null,null,null,null,null,null,null,null,null,null,null,null,null,null,null,null,null,null,{"$f":"IF(AND(REFERENTES!U603<>\"\",          REFERENTES!U603<>96321,    REFERENTES!U603<>96222            ),(REFERENTES!W603),\"\")","v":""},{"$f":"REFERENTES!S603","v":0},null,601,0,1130,"X",null,null,{"$f":"CONCATENATE(REFERENTES!T601,\"(\",REFERENTES!U601,\")\")","v":"()"},{"$f":"REFERENTES!V601","v":0}]
[null,null,null,null,null,null,null,null,null,null,null,null,null,null,null,null,null,null,null,null,null,null,null,null,{"$f":"IF(AND(REFERENTES!U604<>\"\",          REFERENTES!U604<>96321,    REFERENTES!U604<>96222            ),(REFERENTES!W604),\"\")","v":""},{"$f":"REFERENTES!S604","v":0},null,602,0,1130,"X",null,null,{"$f":"CONCATENATE(REFERENTES!T602,\"(\",REFERENTES!U602,\")\")","v":"()"},{"$f":"REFERENTES!V602","v":0}]
[null,null,null,null,null,null,null,null,null,null,null,null,null,null,null,null,null,null,null,null,null,null,null,null,{"$f":"IF(AND(REFERENTES!U605<>\"\",          REFERENTES!U605<>96321,    REFERENTES!U605<>96222            ),(REFERENTES!W605),\"\")","v":""},{"$f":"REFERENTES!S605","v":0},null,603,0,1130,"X",null,null,{"$f":"CONCATENATE(REFERENTES!T603,\"(\",REFERENTES!U603,\")\")","v":"()"},{"$f":"REFERENTES!V603","v":0}]
[null,null,null,null,null,null,null,null,null,null,null,null,null,null,null,null,null,null,null,null,null,null,null,null,{"$f":"IF(AND(REFERENTES!U606<>\"\",          REFERENTES!U606<>96321,    REFERENTES!U606<>96222            ),(REFERENTES!W606),\"\")","v":""},{"$f":"REFERENTES!S606","v":0},null,604,0,1130,"X",null,null,{"$f":"CONCATENATE(REFERENTES!T604,\"(\",REFERENTES!U604,\")\")","v":"()"},{"$f":"REFERENTES!V604","v":0}]
[null,null,null,null,null,null,null,null,null,null,null,null,null,null,null,null,null,null,null,null,null,null,null,null,{"$f":"IF(AND(REFERENTES!U607<>\"\",          REFERENTES!U607<>96321,    REFERENTES!U607<>96222            ),(REFERENTES!W607),\"\")","v":""},{"$f":"REFERENTES!S607","v":0},null,605,0,1130,"X",null,null,{"$f":"CONCATENATE(REFERENTES!T605,\"(\",REFERENTES!U605,\")\")","v":"()"},{"$f":"REFERENTES!V605","v":0}]
[null,null,null,null,null,null,null,null,null,null,null,null,null,null,null,null,null,null,null,null,null,null,null,null,{"$f":"IF(AND(REFERENTES!U608<>\"\",          REFERENTES!U608<>96321,    REFERENTES!U608<>96222            ),(REFERENTES!W608),\"\")","v":""},{"$f":"REFERENTES!S608","v":0},null,606,0,1130,"X",null,null,{"$f":"CONCATENATE(REFERENTES!T606,\"(\",REFERENTES!U606,\")\")","v":"()"},{"$f":"REFERENTES!V606","v":0}]
[null,null,null,null,null,null,null,null,null,null,null,null,null,null,null,null,null,null,null,null,null,null,null,null,{"$f":"IF(AND(REFERENTES!U609<>\"\",          REFERENTES!U609<>96321,    REFERENTES!U609<>96222            ),(REFERENTES!W609),\"\")","v":""},{"$f":"REFERENTES!S609","v":0},null,607,0,1130,"X",null,null,{"$f":"CONCATENATE(REFERENTES!T607,\"(\",REFERENTES!U607,\")\")","v":"()"},{"$f":"REFERENTES!V607","v":0}]
[null,null,null,null,null,null,null,null,null,null,null,null,null,null,null,null,null,null,null,null,null,null,null,null,{"$f":"IF(AND(REFERENTES!U610<>\"\",          REFERENTES!U610<>96321,    REFERENTES!U610<>96222            ),(REFERENTES!W610),\"\")","v":""},{"$f":"REFERENTES!S610","v":0},null,608,0,1130,"X",null,null,{"$f":"CONCATENATE(REFERENTES!T608,\"(\",REFERENTES!U608,\")\")","v":"()"},{"$f":"REFERENTES!V608","v":0}]
[null,null,null,null,null,null,null,null,null,null,null,null,null,null,null,null,null,null,null,null,null,null,null,null,{"$f":"IF(AND(REFERENTES!U611<>\"\",          REFERENTES!U611<>96321,    REFERENTES!U611<>96222            ),(REFERENTES!W611),\"\")","v":""},{"$f":"REFERENTES!S611","v":0},null,609,0,1130,"X",null,null,{"$f":"CONCATENATE(REFERENTES!T609,\"(\",REFERENTES!U609,\")\")","v":"()"},{"$f":"REFERENTES!V609","v":0}]
[null,null,null,null,null,null,null,null,null,null,null,null,null,null,null,null,null,null,null,null,null,null,null,null,{"$f":"IF(AND(REFERENTES!U612<>\"\",          REFERENTES!U612<>96321,    REFERENTES!U612<>96222            ),(REFERENTES!W612),\"\")","v":""},{"$f":"REFERENTES!S612","v":0},null,610,0,1130,"X",null,null,{"$f":"CONCATENATE(REFERENTES!T610,\"(\",REFERENTES!U610,\")\")","v":"()"},{"$f":"REFERENTES!V610","v":0}]
[null,null,null,null,null,null,null,null,null,null,null,null,null,null,null,null,null,null,null,null,null,null,null,null,{"$f":"IF(AND(REFERENTES!U613<>\"\",          REFERENTES!U613<>96321,    REFERENTES!U613<>96222            ),(REFERENTES!W613),\"\")","v":""},{"$f":"REFERENTES!S613","v":0},null,611,0,1130,"X",null,null,{"$f":"CONCATENATE(REFERENTES!T611,\"(\",REFERENTES!U611,\")\")","v":"()"},{"$f":"REFERENTES!V611","v":0}]
[null,null,null,null,null,null,null,null,null,null,null,null,null,null,null,null,null,null,null,null,null,null,null,null,{"$f":"IF(AND(REFERENTES!U614<>\"\",          REFERENTES!U614<>96321,    REFERENTES!U614<>96222            ),(REFERENTES!W614),\"\")","v":""},{"$f":"REFERENTES!S614","v":0},null,612,0,1130,"X",null,null,{"$f":"CONCATENATE(REFERENTES!T612,\"(\",REFERENTES!U612,\")\")","v":"()"},{"$f":"REFERENTES!V612","v":0}]
[null,null,null,null,null,null,null,null,null,null,null,null,null,null,null,null,null,null,null,null,null,null,null,null,{"$f":"IF(AND(REFERENTES!U615<>\"\",          REFERENTES!U615<>96321,    REFERENTES!U615<>96222            ),(REFERENTES!W615),\"\")","v":""},{"$f":"REFERENTES!S615","v":0},null,613,0,1130,"X",null,null,{"$f":"CONCATENATE(REFERENTES!T613,\"(\",REFERENTES!U613,\")\")","v":"()"},{"$f":"REFERENTES!V613","v":0}]
[null,null,null,null,null,null,null,null,null,null,null,null,null,null,null,null,null,null,null,null,null,null,null,null,{"$f":"IF(AND(REFERENTES!U616<>\"\",          REFERENTES!U616<>96321,    REFERENTES!U616<>96222            ),(REFERENTES!W616),\"\")","v":""},{"$f":"REFERENTES!S616","v":0},null,614,0,1130,"X",null,null,{"$f":"CONCATENATE(REFERENTES!T614,\"(\",REFERENTES!U614,\")\")","v":"()"},{"$f":"REFERENTES!V614","v":0}]
[null,null,null,null,null,null,null,null,null,null,null,null,null,null,null,null,null,null,null,null,null,null,null,null,{"$f":"IF(AND(REFERENTES!U617<>\"\",          REFERENTES!U617<>96321,    REFERENTES!U617<>96222            ),(REFERENTES!W617),\"\")","v":""},{"$f":"REFERENTES!S617","v":0},null,615,0,1130,"X",null,null,{"$f":"CONCATENATE(REFERENTES!T615,\"(\",REFERENTES!U615,\")\")","v":"()"},{"$f":"REFERENTES!V615","v":0}]
[null,null,null,null,null,null,null,null,null,null,null,null,null,null,null,null,null,null,null,null,null,null,null,null,{"$f":"IF(AND(REFERENTES!U618<>\"\",          REFERENTES!U618<>96321,    REFERENTES!U618<>96222            ),(REFERENTES!W618),\"\")","v":""},{"$f":"REFERENTES!S618","v":0},null,616,0,1130,"X",null,null,{"$f":"CONCATENATE(REFERENTES!T616,\"(\",REFERENTES!U616,\")\")","v":"()"},{"$f":"REFERENTES!V616","v":0}]
[null,null,null,null,null,null,null,null,null,null,null,null,null,null,null,null,null,null,null,null,null,null,null,null,{"$f":"IF(AND(REFERENTES!U619<>\"\",          REFERENTES!U619<>96321,    REFERENTES!U619<>96222            ),(REFERENTES!W619),\"\")","v":""},{"$f":"REFERENTES!S619","v":0},null,617,0,1130,"X",null,null,{"$f":"CONCATENATE(REFERENTES!T617,\"(\",REFERENTES!U617,\")\")","v":"()"},{"$f":"REFERENTES!V617","v":0}]
[null,null,null,null,null,null,null,null,null,null,null,null,null,null,null,null,null,null,null,null,null,null,null,null,{"$f":"IF(AND(REFERENTES!U620<>\"\",          REFERENTES!U620<>96321,    REFERENTES!U620<>96222            ),(REFERENTES!W620),\"\")","v":""},{"$f":"REFERENTES!S620","v":0},null,618,0,1130,"X",null,null,{"$f":"CONCATENATE(REFERENTES!T618,\"(\",REFERENTES!U618,\")\")","v":"()"},{"$f":"REFERENTES!V618","v":0}]
[null,null,null,null,null,null,null,null,null,null,null,null,null,null,null,null,null,null,null,null,null,null,null,null,{"$f":"IF(AND(REFERENTES!U621<>\"\",          REFERENTES!U621<>96321,    REFERENTES!U621<>96222            ),(REFERENTES!W621),\"\")","v":""},{"$f":"REFERENTES!S621","v":0},null,619,0,1130,"X",null,null,{"$f":"CONCATENATE(REFERENTES!T619,\"(\",REFERENTES!U619,\")\")","v":"()"},{"$f":"REFERENTES!V619","v":0}]
[null,null,null,null,null,null,null,null,null,null,null,null,null,null,null,null,null,null,null,null,null,null,null,null,{"$f":"IF(AND(REFERENTES!U622<>\"\",          REFERENTES!U622<>96321,    REFERENTES!U622<>96222            ),(REFERENTES!W622),\"\")","v":""},{"$f":"REFERENTES!S622","v":0},null,620,0,1130,"X",null,null,{"$f":"CONCATENATE(REFERENTES!T620,\"(\",REFERENTES!U620,\")\")","v":"()"},{"$f":"REFERENTES!V620","v":0}]
[null,null,null,null,null,null,null,null,null,null,null,null,null,null,null,null,null,null,null,null,null,null,null,null,{"$f":"IF(AND(REFERENTES!U623<>\"\",          REFERENTES!U623<>96321,    REFERENTES!U623<>96222            ),(REFERENTES!W623),\"\")","v":""},{"$f":"REFERENTES!S623","v":0},null,621,0,1130,"X",null,null,{"$f":"CONCATENATE(REFERENTES!T621,\"(\",REFERENTES!U621,\")\")","v":"()"},{"$f":"REFERENTES!V621","v":0}]
[null,null,null,null,null,null,null,null,null,null,null,null,null,null,null,null,null,null,null,null,null,null,null,null,{"$f":"IF(AND(REFERENTES!U624<>\"\",          REFERENTES!U624<>96321,    REFERENTES!U624<>96222            ),(REFERENTES!W624),\"\")","v":""},{"$f":"REFERENTES!S624","v":0},null,622,0,1130,"X",null,null,{"$f":"CONCATENATE(REFERENTES!T622,\"(\",REFERENTES!U622,\")\")","v":"()"},{"$f":"REFERENTES!V622","v":0}]
[null,null,null,null,null,null,null,null,null,null,null,null,null,null,null,null,null,null,null,null,null,null,null,null,{"$f":"IF(AND(REFERENTES!U625<>\"\",          REFERENTES!U625<>96321,    REFERENTES!U625<>96222            ),(REFERENTES!W625),\"\")","v":""},{"$f":"REFERENTES!S625","v":0},null,623,0,1130,"X",null,null,{"$f":"CONCATENATE(REFERENTES!T623,\"(\",REFERENTES!U623,\")\")","v":"()"},{"$f":"REFERENTES!V623","v":0}]
[null,null,null,null,null,null,null,null,null,null,null,null,null,null,null,null,null,null,null,null,null,null,null,null,{"$f":"IF(AND(REFERENTES!U626<>\"\",          REFERENTES!U626<>96321,    REFERENTES!U626<>96222            ),(REFERENTES!W626),\"\")","v":""},{"$f":"REFERENTES!S626","v":0},null,624,0,1130,"X",null,null,{"$f":"CONCATENATE(REFERENTES!T624,\"(\",REFERENTES!U624,\")\")","v":"()"},{"$f":"REFERENTES!V624","v":0}]
[null,null,null,null,null,null,null,null,null,null,null,null,null,null,null,null,null,null,null,null,null,null,null,null,{"$f":"IF(AND(REFERENTES!U627<>\"\",          REFERENTES!U627<>96321,    REFERENTES!U627<>96222            ),(REFERENTES!W627),\"\")","v":""},{"$f":"REFERENTES!S627","v":0},null,625,0,1130,"X",null,null,{"$f":"CONCATENATE(REFERENTES!T625,\"(\",REFERENTES!U625,\")\")","v":"()"},{"$f":"REFERENTES!V625","v":0}]
[null,null,null,null,null,null,null,null,null,null,null,null,null,null,null,null,null,null,null,null,null,null,null,null,{"$f":"IF(AND(REFERENTES!U628<>\"\",          REFERENTES!U628<>96321,    REFERENTES!U628<>96222            ),(REFERENTES!W628),\"\")","v":""},{"$f":"REFERENTES!S628","v":0},null,626,0,1130,"X",null,null,{"$f":"CONCATENATE(REFERENTES!T626,\"(\",REFERENTES!U626,\")\")","v":"()"},{"$f":"REFERENTES!V626","v":0}]
[null,null,null,null,null,null,null,null,null,null,null,null,null,null,null,null,null,null,null,null,null,null,null,null,{"$f":"IF(AND(REFERENTES!U629<>\"\",          REFERENTES!U629<>96321,    REFERENTES!U629<>96222            ),(REFERENTES!W629),\"\")","v":""},{"$f":"REFERENTES!S629","v":0},null,627,0,1130,"X",null,null,{"$f":"CONCATENATE(REFERENTES!T627,\"(\",REFERENTES!U627,\")\")","v":"()"},{"$f":"REFERENTES!V627","v":0}]
[null,null,null,null,null,null,null,null,null,null,null,null,null,null,null,null,null,null,null,null,null,null,null,null,{"$f":"IF(AND(REFERENTES!U630<>\"\",          REFERENTES!U630<>96321,    REFERENTES!U630<>96222            ),(REFERENTES!W630),\"\")","v":""},{"$f":"REFERENTES!S630","v":0},null,628,0,1130,"X",null,null,{"$f":"CONCATENATE(REFERENTES!T628,\"(\",REFERENTES!U628,\")\")","v":"()"},{"$f":"REFERENTES!V628","v":0}]
[null,null,null,null,null,null,null,null,null,null,null,null,null,null,null,null,null,null,null,null,null,null,null,null,{"$f":"IF(AND(REFERENTES!U631<>\"\",          REFERENTES!U631<>96321,    REFERENTES!U631<>96222            ),(REFERENTES!W631),\"\")","v":""},{"$f":"REFERENTES!S631","v":0},null,629,0,1130,"X",null,null,{"$f":"CONCATENATE(REFERENTES!T629,\"(\",REFERENTES!U629,\")\")","v":"()"},{"$f":"REFERENTES!V629","v":0}]
[null,null,null,null,null,null,null,null,null,null,null,null,null,null,null,null,null,null,null,null,null,null,null,null,{"$f":"IF(AND(REFERENTES!U632<>\"\",          REFERENTES!U632<>96321,    REFERENTES!U632<>96222            ),(REFERENTES!W632),\"\")","v":""},{"$f":"REFERENTES!S632","v":0},null,630,0,1130,"X",null,null,{"$f":"CONCATENATE(REFERENTES!T630,\"(\",REFERENTES!U630,\")\")","v":"()"},{"$f":"REFERENTES!V630","v":0}]
[null,null,null,null,null,null,null,null,null,null,null,null,null,null,null,null,null,null,null,null,null,null,null,null,{"$f":"IF(AND(REFERENTES!U633<>\"\",          REFERENTES!U633<>96321,    REFERENTES!U633<>96222            ),(REFERENTES!W633),\"\")","v":""},{"$f":"REFERENTES!S633","v":0},null,631,0,1130,"X",null,null,{"$f":"CONCATENATE(REFERENTES!T631,\"(\",REFERENTES!U631,\")\")","v":"()"},{"$f":"REFERENTES!V631","v":0}]
[null,null,null,null,null,null,null,null,null,null,null,null,null,null,null,null,null,null,null,null,null,null,null,null,{"$f":"IF(AND(REFERENTES!U634<>\"\",          REFERENTES!U634<>96321,    REFERENTES!U634<>96222            ),(REFERENTES!W634),\"\")","v":""},{"$f":"REFERENTES!S634","v":0},null,632,0,1130,"X",null,null,{"$f":"CONCATENATE(REFERENTES!T632,\"(\",REFERENTES!U632,\")\")","v":"()"},{"$f":"REFERENTES!V632","v":0}]
[null,null,null,null,null,null,null,null,null,null,null,null,null,null,null,null,null,null,null,null,null,null,null,null,{"$f":"IF(AND(REFERENTES!U635<>\"\",          REFERENTES!U635<>96321,    REFERENTES!U635<>96222            ),(REFERENTES!W635),\"\")","v":""},{"$f":"REFERENTES!S635","v":0},null,633,0,1130,"X",null,null,{"$f":"CONCATENATE(REFERENTES!T633,\"(\",REFERENTES!U633,\")\")","v":"()"},{"$f":"REFERENTES!V633","v":0}]
[null,null,null,null,null,null,null,null,null,null,null,null,null,null,null,null,null,null,null,null,null,null,null,null,{"$f":"IF(AND(REFERENTES!U636<>\"\",          REFERENTES!U636<>96321,    REFERENTES!U636<>96222            ),(REFERENTES!W636),\"\")","v":""},{"$f":"REFERENTES!S636","v":0},null,634,0,1130,"X",null,null,{"$f":"CONCATENATE(REFERENTES!T634,\"(\",REFERENTES!U634,\")\")","v":"()"},{"$f":"REFERENTES!V634","v":0}]
[null,null,null,null,null,null,null,null,null,null,null,null,null,null,null,null,null,null,null,null,null,null,null,null,{"$f":"IF(AND(REFERENTES!U637<>\"\",          REFERENTES!U637<>96321,    REFERENTES!U637<>96222            ),(REFERENTES!W637),\"\")","v":""},{"$f":"REFERENTES!S637","v":0},null,635,0,1130,"X",null,null,{"$f":"CONCATENATE(REFERENTES!T635,\"(\",REFERENTES!U635,\")\")","v":"()"},{"$f":"REFERENTES!V635","v":0}]
[null,null,null,null,null,null,null,null,null,null,null,null,null,null,null,null,null,null,null,null,null,null,null,null,{"$f":"IF(AND(REFERENTES!U638<>\"\",          REFERENTES!U638<>96321,    REFERENTES!U638<>96222            ),(REFERENTES!W638),\"\")","v":""},{"$f":"REFERENTES!S638","v":0},null,636,0,1130,"X",null,null,{"$f":"CONCATENATE(REFERENTES!T636,\"(\",REFERENTES!U636,\")\")","v":"()"},{"$f":"REFERENTES!V636","v":0}]
[null,null,null,null,null,null,null,null,null,null,null,null,null,null,null,null,null,null,null,null,null,null,null,null,{"$f":"IF(AND(REFERENTES!U639<>\"\",          REFERENTES!U639<>96321,    REFERENTES!U639<>96222            ),(REFERENTES!W639),\"\")","v":""},{"$f":"REFERENTES!S639","v":0},null,637,0,1130,"X",null,null,{"$f":"CONCATENATE(REFERENTES!T637,\"(\",REFERENTES!U637,\")\")","v":"()"},{"$f":"REFERENTES!V637","v":0}]
[null,null,null,null,null,null,null,null,null,null,null,null,null,null,null,null,null,null,null,null,null,null,null,null,{"$f":"IF(AND(REFERENTES!U640<>\"\",          REFERENTES!U640<>96321,    REFERENTES!U640<>96222            ),(REFERENTES!W640),\"\")","v":""},{"$f":"REFERENTES!S640","v":0},null,638,0,1130,"X",null,null,{"$f":"CONCATENATE(REFERENTES!T638,\"(\",REFERENTES!U638,\")\")","v":"()"},{"$f":"REFERENTES!V638","v":0}]
[null,null,null,null,null,null,null,null,null,null,null,null,null,null,null,null,null,null,null,null,null,null,null,null,{"$f":"IF(AND(REFERENTES!U641<>\"\",          REFERENTES!U641<>96321,    REFERENTES!U641<>96222            ),(REFERENTES!W641),\"\")","v":""},{"$f":"REFERENTES!S641","v":0},null,639,0,1130,"X",null,null,{"$f":"CONCATENATE(REFERENTES!T639,\"(\",REFERENTES!U639,\")\")","v":"()"},{"$f":"REFERENTES!V639","v":0}]
[null,null,null,null,null,null,null,null,null,null,null,null,null,null,null,null,null,null,null,null,null,null,null,null,{"$f":"IF(AND(REFERENTES!U642<>\"\",          REFERENTES!U642<>96321,    REFERENTES!U642<>96222            ),(REFERENTES!W642),\"\")","v":""},{"$f":"REFERENTES!S642","v":0},null,640,0,1130,"X",null,null,{"$f":"CONCATENATE(REFERENTES!T640,\"(\",REFERENTES!U640,\")\")","v":"()"},{"$f":"REFERENTES!V640","v":0}]
[null,null,null,null,null,null,null,null,null,null,null,null,null,null,null,null,null,null,null,null,null,null,null,null,{"$f":"IF(AND(REFERENTES!U643<>\"\",          REFERENTES!U643<>96321,    REFERENTES!U643<>96222            ),(REFERENTES!W643),\"\")","v":""},{"$f":"REFERENTES!S643","v":0},null,641,0,1130,"X",null,null,{"$f":"CONCATENATE(REFERENTES!T641,\"(\",REFERENTES!U641,\")\")","v":"()"},{"$f":"REFERENTES!V641","v":0}]
[null,null,null,null,null,null,null,null,null,null,null,null,null,null,null,null,null,null,null,null,null,null,null,null,{"$f":"IF(AND(REFERENTES!U644<>\"\",          REFERENTES!U644<>96321,    REFERENTES!U644<>96222            ),(REFERENTES!W644),\"\")","v":""},{"$f":"REFERENTES!S644","v":0},null,642,{"$f":"IF(Y647=\"\",0,Y647)","v":0},{"$f":"IF(AC648=0,MAX($AB$7:$AB$1135)+1,AB648)","v":1130},{"$f":"IFERROR(VLOOKUP(SMALL($AD$7:$AD$1135,AB648),$AB$7:$AD$1135,2,FALSE),\"X\")","v":"X"},null,null,{"$f":"CONCATENATE(REFERENTES!T642,\"(\",REFERENTES!U642,\")\")","v":"()"},{"$f":"REFERENTES!V642","v":0}]
[null,null,null,null,null,null,null,null,null,null,null,null,null,null,null,null,null,null,null,null,null,null,null,null,{"$f":"IF(AND(REFERENTES!U645<>\"\",          REFERENTES!U645<>96321,    REFERENTES!U645<>96222            ),(REFERENTES!W645),\"\")","v":""},{"$f":"REFERENTES!S645","v":0},null,643,0,1130,"X",null,null,{"$f":"CONCATENATE(REFERENTES!T643,\"(\",REFERENTES!U643,\")\")","v":"()"},{"$f":"REFERENTES!V643","v":0}]
[null,null,null,null,null,null,null,null,null,null,null,null,null,null,null,null,null,null,null,null,null,null,null,null,{"$f":"IF(AND(REFERENTES!U646<>\"\",          REFERENTES!U646<>96321,    REFERENTES!U646<>96222            ),(REFERENTES!W646),\"\")","v":""},{"$f":"REFERENTES!S646","v":0},null,644,0,1130,"X",null,null,{"$f":"CONCATENATE(REFERENTES!T644,\"(\",REFERENTES!U644,\")\")","v":"()"},{"$f":"REFERENTES!V644","v":0}]
[null,null,null,null,null,null,null,null,null,null,null,null,null,null,null,null,null,null,null,null,null,null,null,null,{"$f":"IF(AND(REFERENTES!U647<>\"\",          REFERENTES!U647<>96321,    REFERENTES!U647<>96222            ),(REFERENTES!W647),\"\")","v":""},{"$f":"REFERENTES!S647","v":0},null,645,0,1130,"X",null,null,{"$f":"CONCATENATE(REFERENTES!T645,\"(\",REFERENTES!U645,\")\")","v":"()"},{"$f":"REFERENTES!V645","v":0}]
[null,null,null,null,null,null,null,null,null,null,null,null,null,null,null,null,null,null,null,null,null,null,null,null,{"$f":"IF(AND(REFERENTES!U648<>\"\",          REFERENTES!U648<>96321,    REFERENTES!U648<>96222            ),(REFERENTES!W648),\"\")","v":""},{"$f":"REFERENTES!S648","v":0},null,646,0,1130,"X",null,null,{"$f":"CONCATENATE(REFERENTES!T646,\"(\",REFERENTES!U646,\")\")","v":"()"},{"$f":"REFERENTES!V646","v":0}]
[null,null,null,null,null,null,null,null,null,null,null,null,null,null,null,null,null,null,null,null,null,null,null,null,{"$f":"IF(AND(REFERENTES!U649<>\"\",          REFERENTES!U649<>96321,    REFERENTES!U649<>96222            ),(REFERENTES!W649),\"\")","v":""},{"$f":"REFERENTES!S649","v":0},null,647,0,1130,"X",null,null,{"$f":"CONCATENATE(REFERENTES!T647,\"(\",REFERENTES!U647,\")\")","v":"()"},{"$f":"REFERENTES!V647","v":0}]
[null,null,null,null,null,null,null,null,null,null,null,null,null,null,null,null,null,null,null,null,null,null,null,null,{"$f":"IF(AND(REFERENTES!U650<>\"\",          REFERENTES!U650<>96321,    REFERENTES!U650<>96222            ),(REFERENTES!W650),\"\")","v":""},{"$f":"REFERENTES!S650","v":0},null,648,0,1130,"X",null,null,{"$f":"CONCATENATE(REFERENTES!T648,\"(\",REFERENTES!U648,\")\")","v":"()"},{"$f":"REFERENTES!V648","v":0}]
[null,null,null,null,null,null,null,null,null,null,null,null,null,null,null,null,null,null,null,null,null,null,null,null,{"$f":"IF(AND(REFERENTES!U651<>\"\",          REFERENTES!U651<>96321,    REFERENTES!U651<>96222            ),(REFERENTES!W651),\"\")","v":""},{"$f":"REFERENTES!S651","v":0},null,649,0,1130,"X",null,null,{"$f":"CONCATENATE(REFERENTES!T649,\"(\",REFERENTES!U649,\")\")","v":"()"},{"$f":"REFERENTES!V649","v":0}]
[null,null,null,null,null,null,null,null,null,null,null,null,null,null,null,null,null,null,null,null,null,null,null,null,{"$f":"IF(AND(REFERENTES!U652<>\"\",          REFERENTES!U652<>96321,    REFERENTES!U652<>96222            ),(REFERENTES!W652),\"\")","v":""},{"$f":"REFERENTES!S652","v":0},null,650,0,1130,"X",null,null,{"$f":"CONCATENATE(REFERENTES!T650,\"(\",REFERENTES!U650,\")\")","v":"()"},{"$f":"REFERENTES!V650","v":0}]
[null,null,null,null,null,null,null,null,null,null,null,null,null,null,null,null,null,null,null,null,null,null,null,null,{"$f":"IF(AND(REFERENTES!U653<>\"\",          REFERENTES!U653<>96321,    REFERENTES!U653<>96222            ),(REFERENTES!W653),\"\")","v":""},{"$f":"REFERENTES!S653","v":0},null,651,0,1130,"X",null,null,{"$f":"CONCATENATE(REFERENTES!T651,\"(\",REFERENTES!U651,\")\")","v":"()"},{"$f":"REFERENTES!V651","v":0}]
[null,null,null,null,null,null,null,null,null,null,null,null,null,null,null,null,null,null,null,null,null,null,null,null,{"$f":"IF(AND(REFERENTES!U654<>\"\",          REFERENTES!U654<>96321,    REFERENTES!U654<>96222            ),(REFERENTES!W654),\"\")","v":""},{"$f":"REFERENTES!S654","v":0},null,652,0,1130,"X",null,null,{"$f":"CONCATENATE(REFERENTES!T652,\"(\",REFERENTES!U652,\")\")","v":"()"},{"$f":"REFERENTES!V652","v":0}]
[null,null,null,null,null,null,null,null,null,null,null,null,null,null,null,null,null,null,null,null,null,null,null,null,{"$f":"IF(AND(REFERENTES!U655<>\"\",          REFERENTES!U655<>96321,    REFERENTES!U655<>96222            ),(REFERENTES!W655),\"\")","v":""},{"$f":"REFERENTES!S655","v":0},null,653,0,1130,"X"]
[null,null,null,null,null,null,null,null,null,null,null,null,null,null,null,null,null,null,null,null,null,null,null,null,{"$f":"IF(AND(REFERENTES!U656<>\"\",          REFERENTES!U656<>96321,    REFERENTES!U656<>96222            ),(REFERENTES!W656),\"\")","v":""},{"$f":"REFERENTES!S656","v":0},null,654,0,1130,"X"]
[null,null,null,null,null,null,null,null,null,null,null,null,null,null,null,null,null,null,null,null,null,null,null,null,{"$f":"IF(AND(REFERENTES!U657<>\"\",          REFERENTES!U657<>96321,    REFERENTES!U657<>96222            ),(REFERENTES!W657),\"\")","v":""},{"$f":"REFERENTES!S657","v":0},null,655,0,1130,"X"]
[null,null,null,null,null,null,null,null,null,null,null,null,null,null,null,null,null,null,null,null,null,null,null,null,{"$f":"IF(AND(REFERENTES!U658<>\"\",          REFERENTES!U658<>96321,    REFERENTES!U658<>96222            ),(REFERENTES!W658),\"\")","v":""},{"$f":"REFERENTES!S658","v":0},null,656,0,1130,"X"]
[null,null,null,null,null,null,null,null,null,null,null,null,null,null,null,null,null,null,null,null,null,null,null,null,{"$f":"IF(AND(REFERENTES!U659<>\"\",          REFERENTES!U659<>96321,    REFERENTES!U659<>96222            ),(REFERENTES!W659),\"\")","v":""},{"$f":"REFERENTES!S659","v":0},null,657,0,1130,"X"]
[null,null,null,null,null,null,null,null,null,null,null,null,null,null,null,null,null,null,null,null,null,null,null,null,{"$f":"IF(AND(REFERENTES!U660<>\"\",          REFERENTES!U660<>96321,    REFERENTES!U660<>96222            ),(REFERENTES!W660),\"\")","v":""},{"$f":"REFERENTES!S660","v":0},null,658,0,1130,"X"]
[null,null,null,null,null,null,null,null,null,null,null,null,null,null,null,null,null,null,null,null,null,null,null,null,{"$f":"IF(AND(REFERENTES!U661<>\"\",          REFERENTES!U661<>96321,    REFERENTES!U661<>96222            ),(REFERENTES!W661),\"\")","v":""},{"$f":"REFERENTES!S661","v":0},null,659,0,1130,"X"]
[null,null,null,null,null,null,null,null,null,null,null,null,null,null,null,null,null,null,null,null,null,null,null,null,{"$f":"IF(AND(REFERENTES!U662<>\"\",          REFERENTES!U662<>96321,    REFERENTES!U662<>96222            ),(REFERENTES!W662),\"\")","v":""},{"$f":"REFERENTES!S662","v":0},null,660,0,1130,"X"]
[null,null,null,null,null,null,null,null,null,null,null,null,null,null,null,null,null,null,null,null,null,null,null,null,{"$f":"IF(AND(REFERENTES!U663<>\"\",          REFERENTES!U663<>96321,    REFERENTES!U663<>96222            ),(REFERENTES!W663),\"\")","v":""},{"$f":"REFERENTES!S663","v":0},null,661,0,1130,"X"]
[null,null,null,null,null,null,null,null,null,null,null,null,null,null,null,null,null,null,null,null,null,null,null,null,{"$f":"IF(AND(REFERENTES!U664<>\"\",          REFERENTES!U664<>96321,    REFERENTES!U664<>96222            ),(REFERENTES!W664),\"\")","v":""},{"$f":"REFERENTES!S664","v":0},null,662,0,1130,"X"]
[null,null,null,null,null,null,null,null,null,null,null,null,null,null,null,null,null,null,null,null,null,null,null,null,{"$f":"IF(AND(REFERENTES!U665<>\"\",          REFERENTES!U665<>96321,    REFERENTES!U665<>96222            ),(REFERENTES!W665),\"\")","v":""},{"$f":"REFERENTES!S665","v":0},null,663,0,1130,"X"]
[null,null,null,null,null,null,null,null,null,null,null,null,null,null,null,null,null,null,null,null,null,null,null,null,{"$f":"IF(AND(REFERENTES!U666<>\"\",          REFERENTES!U666<>96321,    REFERENTES!U666<>96222            ),(REFERENTES!W666),\"\")","v":""},{"$f":"REFERENTES!S666","v":0},null,664,0,1130,"X"]
[null,null,null,null,null,null,null,null,null,null,null,null,null,null,null,null,null,null,null,null,null,null,null,null,{"$f":"IF(AND(REFERENTES!U667<>\"\",          REFERENTES!U667<>96321,    REFERENTES!U667<>96222            ),(REFERENTES!W667),\"\")","v":""},{"$f":"REFERENTES!S667","v":0},null,665,0,1130,"X"]
[null,null,null,null,null,null,null,null,null,null,null,null,null,null,null,null,null,null,null,null,null,null,null,null,{"$f":"IF(AND(REFERENTES!U668<>\"\",          REFERENTES!U668<>96321,    REFERENTES!U668<>96222            ),(REFERENTES!W668),\"\")","v":""},{"$f":"REFERENTES!S668","v":0},null,666,0,1130,"X"]
[null,null,null,null,null,null,null,null,null,null,null,null,null,null,null,null,null,null,null,null,null,null,null,null,{"$f":"IF(AND(REFERENTES!U669<>\"\",          REFERENTES!U669<>96321,    REFERENTES!U669<>96222            ),(REFERENTES!W669),\"\")","v":""},{"$f":"REFERENTES!S669","v":0},null,667,0,1130,"X"]
[null,null,null,null,null,null,null,null,null,null,null,null,null,null,null,null,null,null,null,null,null,null,null,null,{"$f":"IF(AND(REFERENTES!U670<>\"\",          REFERENTES!U670<>96321,    REFERENTES!U670<>96222            ),(REFERENTES!W670),\"\")","v":""},{"$f":"REFERENTES!S670","v":0},null,668,0,1130,"X"]
[null,null,null,null,null,null,null,null,null,null,null,null,null,null,null,null,null,null,null,null,null,null,null,null,{"$f":"IF(AND(REFERENTES!U671<>\"\",          REFERENTES!U671<>96321,    REFERENTES!U671<>96222            ),(REFERENTES!W671),\"\")","v":""},{"$f":"REFERENTES!S671","v":0},null,669,0,1130,"X"]
[null,null,null,null,null,null,null,null,null,null,null,null,null,null,null,null,null,null,null,null,null,null,null,null,{"$f":"IF(AND(REFERENTES!U672<>\"\",          REFERENTES!U672<>96321,    REFERENTES!U672<>96222            ),(REFERENTES!W672),\"\")","v":""},{"$f":"REFERENTES!S672","v":0},null,670,0,1130,"X"]
[null,null,null,null,null,null,null,null,null,null,null,null,null,null,null,null,null,null,null,null,null,null,null,null,{"$f":"IF(AND(REFERENTES!U673<>\"\",          REFERENTES!U673<>96321,    REFERENTES!U673<>96222            ),(REFERENTES!W673),\"\")","v":""},{"$f":"REFERENTES!S673","v":0},null,671,0,1130,"X"]
[null,null,null,null,null,null,null,null,null,null,null,null,null,null,null,null,null,null,null,null,null,null,null,null,{"$f":"IF(AND(REFERENTES!U674<>\"\",          REFERENTES!U674<>96321,    REFERENTES!U674<>96222            ),(REFERENTES!W674),\"\")","v":""},{"$f":"REFERENTES!S674","v":0},null,672,0,1130,"X"]
[null,null,null,null,null,null,null,null,null,null,null,null,null,null,null,null,null,null,null,null,null,null,null,null,{"$f":"IF(AND(REFERENTES!U675<>\"\",          REFERENTES!U675<>96321,    REFERENTES!U675<>96222            ),(REFERENTES!W675),\"\")","v":""},{"$f":"REFERENTES!S675","v":0},null,673,0,1130,"X"]
[null,null,null,null,null,null,null,null,null,null,null,null,null,null,null,null,null,null,null,null,null,null,null,null,{"$f":"IF(AND(REFERENTES!U676<>\"\",          REFERENTES!U676<>96321,    REFERENTES!U676<>96222            ),(REFERENTES!W676),\"\")","v":""},{"$f":"REFERENTES!S676","v":0},null,674,0,1130,"X"]
[null,null,null,null,null,null,null,null,null,null,null,null,null,null,null,null,null,null,null,null,null,null,null,null,{"$f":"IF(AND(REFERENTES!U677<>\"\",          REFERENTES!U677<>96321,    REFERENTES!U677<>96222            ),(REFERENTES!W677),\"\")","v":""},{"$f":"REFERENTES!S677","v":0},null,675,0,1130,"X"]
[null,null,null,null,null,null,null,null,null,null,null,null,null,null,null,null,null,null,null,null,null,null,null,null,{"$f":"IF(AND(REFERENTES!U678<>\"\",          REFERENTES!U678<>96321,    REFERENTES!U678<>96222            ),(REFERENTES!W678),\"\")","v":""},{"$f":"REFERENTES!S678","v":0},null,676,0,1130,"X"]
[null,null,null,null,null,null,null,null,null,null,null,null,null,null,null,null,null,null,null,null,null,null,null,null,{"$f":"IF(AND(REFERENTES!U679<>\"\",          REFERENTES!U679<>96321,    REFERENTES!U679<>96222            ),(REFERENTES!W679),\"\")","v":""},{"$f":"REFERENTES!S679","v":0},null,677,0,1130,"X"]
[null,null,null,null,null,null,null,null,null,null,null,null,null,null,null,null,null,null,null,null,null,null,null,null,{"$f":"IF(AND(REFERENTES!U680<>\"\",          REFERENTES!U680<>96321,    REFERENTES!U680<>96222            ),(REFERENTES!W680),\"\")","v":""},{"$f":"REFERENTES!S680","v":0},null,678,0,1130,"X"]
[null,null,null,null,null,null,null,null,null,null,null,null,null,null,null,null,null,null,null,null,null,null,null,null,{"$f":"IF(AND(REFERENTES!U681<>\"\",          REFERENTES!U681<>96321,    REFERENTES!U681<>96222            ),(REFERENTES!W681),\"\")","v":""},{"$f":"REFERENTES!S681","v":0},null,679,0,1130,"X"]
[null,null,null,null,null,null,null,null,null,null,null,null,null,null,null,null,null,null,null,null,null,null,null,null,{"$f":"IF(AND(REFERENTES!U682<>\"\",          REFERENTES!U682<>96321,    REFERENTES!U682<>96222            ),(REFERENTES!W682),\"\")","v":""},{"$f":"REFERENTES!S682","v":0},null,680,0,1130,"X"]
[null,null,null,null,null,null,null,null,null,null,null,null,null,null,null,null,null,null,null,null,null,null,null,null,{"$f":"IF(AND(REFERENTES!U683<>\"\",          REFERENTES!U683<>96321,    REFERENTES!U683<>96222            ),(REFERENTES!W683),\"\")","v":""},{"$f":"REFERENTES!S683","v":0},null,681,0,1130,"X"]
[null,null,null,null,null,null,null,null,null,null,null,null,null,null,null,null,null,null,null,null,null,null,null,null,{"$f":"IF(AND(REFERENTES!U684<>\"\",          REFERENTES!U684<>96321,    REFERENTES!U684<>96222            ),(REFERENTES!W684),\"\")","v":""},{"$f":"REFERENTES!S684","v":0},null,682,0,1130,"X"]
[null,null,null,null,null,null,null,null,null,null,null,null,null,null,null,null,null,null,null,null,null,null,null,null,{"$f":"IF(AND(REFERENTES!U685<>\"\",          REFERENTES!U685<>96321,    REFERENTES!U685<>96222            ),(REFERENTES!W685),\"\")","v":""},{"$f":"REFERENTES!S685","v":0},null,683,0,1130,"X"]
[null,null,null,null,null,null,null,null,null,null,null,null,null,null,null,null,null,null,null,null,null,null,null,null,{"$f":"IF(AND(REFERENTES!U686<>\"\",          REFERENTES!U686<>96321,    REFERENTES!U686<>96222            ),(REFERENTES!W686),\"\")","v":""},{"$f":"REFERENTES!S686","v":0},null,684,0,1130,"X"]
[null,null,null,null,null,null,null,null,null,null,null,null,null,null,null,null,null,null,null,null,null,null,null,null,{"$f":"IF(AND(REFERENTES!U687<>\"\",          REFERENTES!U687<>96321,    REFERENTES!U687<>96222            ),(REFERENTES!W687),\"\")","v":""},{"$f":"REFERENTES!S687","v":0},null,685,0,1130,"X"]
[null,null,null,null,null,null,null,null,null,null,null,null,null,null,null,null,null,null,null,null,null,null,null,null,{"$f":"IF(AND(REFERENTES!U688<>\"\",          REFERENTES!U688<>96321,    REFERENTES!U688<>96222            ),(REFERENTES!W688),\"\")","v":""},{"$f":"REFERENTES!S688","v":0},null,686,0,1130,"X"]
[null,null,null,null,null,null,null,null,null,null,null,null,null,null,null,null,null,null,null,null,null,null,null,null,{"$f":"IF(AND(REFERENTES!U689<>\"\",          REFERENTES!U689<>96321,    REFERENTES!U689<>96222            ),(REFERENTES!W689),\"\")","v":""},{"$f":"REFERENTES!S689","v":0},null,687,0,1130,"X"]
[null,null,null,null,null,null,null,null,null,null,null,null,null,null,null,null,null,null,null,null,null,null,null,null,{"$f":"IF(AND(REFERENTES!U690<>\"\",          REFERENTES!U690<>96321,    REFERENTES!U690<>96222            ),(REFERENTES!W690),\"\")","v":""},{"$f":"REFERENTES!S690","v":0},null,688,0,1130,"X"]
[null,null,null,null,null,null,null,null,null,null,null,null,null,null,null,null,null,null,null,null,null,null,null,null,{"$f":"IF(AND(REFERENTES!U691<>\"\",          REFERENTES!U691<>96321,    REFERENTES!U691<>96222            ),(REFERENTES!W691),\"\")","v":""},{"$f":"REFERENTES!S691","v":0},null,689,0,1130,"X"]
[null,null,null,null,null,null,null,null,null,null,null,null,null,null,null,null,null,null,null,null,null,null,null,null,{"$f":"IF(AND(REFERENTES!U692<>\"\",          REFERENTES!U692<>96321,    REFERENTES!U692<>96222            ),(REFERENTES!W692),\"\")","v":""},{"$f":"REFERENTES!S692","v":0},null,690,0,1130,"X"]
[null,null,null,null,null,null,null,null,null,null,null,null,null,null,null,null,null,null,null,null,null,null,null,null,{"$f":"IF(AND(REFERENTES!U693<>\"\",          REFERENTES!U693<>96321,    REFERENTES!U693<>96222            ),(REFERENTES!W693),\"\")","v":""},{"$f":"REFERENTES!S693","v":0},null,691,0,1130,"X"]
[null,null,null,null,null,null,null,null,null,null,null,null,null,null,null,null,null,null,null,null,null,null,null,null,{"$f":"IF(AND(REFERENTES!U694<>\"\",          REFERENTES!U694<>96321,    REFERENTES!U694<>96222            ),(REFERENTES!W694),\"\")","v":""},{"$f":"REFERENTES!S694","v":0},null,692,0,1130,"X"]
[null,null,null,null,null,null,null,null,null,null,null,null,null,null,null,null,null,null,null,null,null,null,null,null,{"$f":"IF(AND(REFERENTES!U695<>\"\",          REFERENTES!U695<>96321,    REFERENTES!U695<>96222            ),(REFERENTES!W695),\"\")","v":""},{"$f":"REFERENTES!S695","v":0},null,693,0,1130,"X"]
[null,null,null,null,null,null,null,null,null,null,null,null,null,null,null,null,null,null,null,null,null,null,null,null,{"$f":"IF(AND(REFERENTES!U696<>\"\",          REFERENTES!U696<>96321,    REFERENTES!U696<>96222            ),(REFERENTES!W696),\"\")","v":""},{"$f":"REFERENTES!S696","v":0},null,694,0,1130,"X"]
[null,null,null,null,null,null,null,null,null,null,null,null,null,null,null,null,null,null,null,null,null,null,null,null,{"$f":"IF(AND(REFERENTES!U697<>\"\",          REFERENTES!U697<>96321,    REFERENTES!U697<>96222            ),(REFERENTES!W697),\"\")","v":""},{"$f":"REFERENTES!S697","v":0},null,695,0,1130,"X"]
[null,null,null,null,null,null,null,null,null,null,null,null,null,null,null,null,null,null,null,null,null,null,null,null,{"$f":"IF(AND(REFERENTES!U698<>\"\",          REFERENTES!U698<>96321,    REFERENTES!U698<>96222            ),(REFERENTES!W698),\"\")","v":""},{"$f":"REFERENTES!S698","v":0},null,696,0,1130,"X"]
[null,null,null,null,null,null,null,null,null,null,null,null,null,null,null,null,null,null,null,null,null,null,null,null,{"$f":"IF(AND(REFERENTES!U699<>\"\",          REFERENTES!U699<>96321,    REFERENTES!U699<>96222            ),(REFERENTES!W699),\"\")","v":""},{"$f":"REFERENTES!S699","v":0},null,697,0,1130,"X"]
[null,null,null,null,null,null,null,null,null,null,null,null,null,null,null,null,null,null,null,null,null,null,null,null,{"$f":"IF(AND(REFERENTES!U700<>\"\",          REFERENTES!U700<>96321,    REFERENTES!U700<>96222            ),(REFERENTES!W700),\"\")","v":""},{"$f":"REFERENTES!S700","v":0},null,698,0,1130,"X"]
[null,null,null,null,null,null,null,null,null,null,null,null,null,null,null,null,null,null,null,null,null,null,null,null,{"$f":"IF(AND(REFERENTES!U701<>\"\",          REFERENTES!U701<>96321,    REFERENTES!U701<>96222            ),(REFERENTES!W701),\"\")","v":""},{"$f":"REFERENTES!S701","v":0},null,699,0,1130,"X"]
[null,null,null,null,null,null,null,null,null,null,null,null,null,null,null,null,null,null,null,null,null,null,null,null,{"$f":"IF(AND(REFERENTES!U702<>\"\",          REFERENTES!U702<>96321,    REFERENTES!U702<>96222            ),(REFERENTES!W702),\"\")","v":""},{"$f":"REFERENTES!S702","v":0},null,700,0,1130,"X"]
[null,null,null,null,null,null,null,null,null,null,null,null,null,null,null,null,null,null,null,null,null,null,null,null,{"$f":"IF(AND(REFERENTES!U703<>\"\",          REFERENTES!U703<>96321,    REFERENTES!U703<>96222            ),(REFERENTES!W703),\"\")","v":""},{"$f":"REFERENTES!S703","v":0},null,701,0,1130,"X"]
[null,null,null,null,null,null,null,null,null,null,null,null,null,null,null,null,null,null,null,null,null,null,null,null,{"$f":"IF(AND(REFERENTES!U704<>\"\",          REFERENTES!U704<>96321,    REFERENTES!U704<>96222            ),(REFERENTES!W704),\"\")","v":""},{"$f":"REFERENTES!S704","v":0},null,702,0,1130,"X"]
[null,null,null,null,null,null,null,null,null,null,null,null,null,null,null,null,null,null,null,null,null,null,null,null,{"$f":"IF(AND(REFERENTES!U705<>\"\",          REFERENTES!U705<>96321,    REFERENTES!U705<>96222            ),(REFERENTES!W705),\"\")","v":""},{"$f":"REFERENTES!S705","v":0},null,703,0,1130,"X"]
[null,null,null,null,null,null,null,null,null,null,null,null,null,null,null,null,null,null,null,null,null,null,null,null,{"$f":"IF(AND(REFERENTES!U706<>\"\",          REFERENTES!U706<>96321,    REFERENTES!U706<>96222            ),(REFERENTES!W706),\"\")","v":""},{"$f":"REFERENTES!S706","v":0},null,704,0,1130,"X"]
[null,null,null,null,null,null,null,null,null,null,null,null,null,null,null,null,null,null,null,null,null,null,null,null,{"$f":"IF(AND(REFERENTES!U707<>\"\",          REFERENTES!U707<>96321,    REFERENTES!U707<>96222            ),(REFERENTES!W707),\"\")","v":""},{"$f":"REFERENTES!S707","v":0},null,705,0,1130,"X"]
[null,null,null,null,null,null,null,null,null,null,null,null,null,null,null,null,null,null,null,null,null,null,null,null,{"$f":"IF(AND(REFERENTES!U708<>\"\",          REFERENTES!U708<>96321,    REFERENTES!U708<>96222            ),(REFERENTES!W708),\"\")","v":""},{"$f":"REFERENTES!S708","v":0},null,706,{"$f":"IF(Y711=\"\",0,Y711)","v":0},{"$f":"IF(AC712=0,MAX($AB$7:$AB$1135)+1,AB712)","v":1130},{"$f":"IFERROR(VLOOKUP(SMALL($AD$7:$AD$1135,AB712),$AB$7:$AD$1135,2,FALSE),\"X\")","v":"X"}]
[null,null,null,null,null,null,null,null,null,null,null,null,null,null,null,null,null,null,null,null,null,null,null,null,{"$f":"IF(AND(REFERENTES!U709<>\"\",          REFERENTES!U709<>96321,    REFERENTES!U709<>96222            ),(REFERENTES!W709),\"\")","v":""},{"$f":"REFERENTES!S709","v":0},null,707,0,1130,"X"]
[null,null,null,null,null,null,null,null,null,null,null,null,null,null,null,null,null,null,null,null,null,null,null,null,{"$f":"IF(AND(REFERENTES!U710<>\"\",          REFERENTES!U710<>96321,    REFERENTES!U710<>96222            ),(REFERENTES!W710),\"\")","v":""},{"$f":"REFERENTES!S710","v":0},null,708,0,1130,"X"]
[null,null,null,null,null,null,null,null,null,null,null,null,null,null,null,null,null,null,null,null,null,null,null,null,{"$f":"IF(AND(REFERENTES!U711<>\"\",          REFERENTES!U711<>96321,    REFERENTES!U711<>96222            ),(REFERENTES!W711),\"\")","v":""},{"$f":"REFERENTES!S711","v":0},null,709,0,1130,"X"]
[null,null,null,null,null,null,null,null,null,null,null,null,null,null,null,null,null,null,null,null,null,null,null,null,{"$f":"IF(AND(REFERENTES!U712<>\"\",          REFERENTES!U712<>96321,    REFERENTES!U712<>96222            ),(REFERENTES!W712),\"\")","v":""},{"$f":"REFERENTES!S712","v":0},null,710,0,1130,"X"]
[null,null,null,null,null,null,null,null,null,null,null,null,null,null,null,null,null,null,null,null,null,null,null,null,{"$f":"IF(AND(REFERENTES!U713<>\"\",          REFERENTES!U713<>96321,    REFERENTES!U713<>96222            ),(REFERENTES!W713),\"\")","v":""},{"$f":"REFERENTES!S713","v":0},null,711,0,1130,"X"]
[null,null,null,null,null,null,null,null,null,null,null,null,null,null,null,null,null,null,null,null,null,null,null,null,{"$f":"IF(AND(REFERENTES!U714<>\"\",          REFERENTES!U714<>96321,    REFERENTES!U714<>96222            ),(REFERENTES!W714),\"\")","v":""},{"$f":"REFERENTES!S714","v":0},null,712,0,1130,"X"]
[null,null,null,null,null,null,null,null,null,null,null,null,null,null,null,null,null,null,null,null,null,null,null,null,{"$f":"IF(AND(REFERENTES!U715<>\"\",          REFERENTES!U715<>96321,    REFERENTES!U715<>96222            ),(REFERENTES!W715),\"\")","v":""},{"$f":"REFERENTES!S715","v":0},null,713,0,1130,"X"]
[null,null,null,null,null,null,null,null,null,null,null,null,null,null,null,null,null,null,null,null,null,null,null,null,{"$f":"IF(AND(REFERENTES!U716<>\"\",          REFERENTES!U716<>96321,    REFERENTES!U716<>96222            ),(REFERENTES!W716),\"\")","v":""},{"$f":"REFERENTES!S716","v":0},null,714,0,1130,"X"]
[null,null,null,null,null,null,null,null,null,null,null,null,null,null,null,null,null,null,null,null,null,null,null,null,{"$f":"IF(AND(REFERENTES!U717<>\"\",          REFERENTES!U717<>96321,    REFERENTES!U717<>96222            ),(REFERENTES!W717),\"\")","v":""},{"$f":"REFERENTES!S717","v":0},null,715,0,1130,"X"]
[null,null,null,null,null,null,null,null,null,null,null,null,null,null,null,null,null,null,null,null,null,null,null,null,{"$f":"IF(AND(REFERENTES!U718<>\"\",          REFERENTES!U718<>96321,    REFERENTES!U718<>96222            ),(REFERENTES!W718),\"\")","v":""},{"$f":"REFERENTES!S718","v":0},null,716,0,1130,"X"]
[null,null,null,null,null,null,null,null,null,null,null,null,null,null,null,null,null,null,null,null,null,null,null,null,{"$f":"IF(AND(REFERENTES!U719<>\"\",          REFERENTES!U719<>96321,    REFERENTES!U719<>96222            ),(REFERENTES!W719),\"\")","v":""},{"$f":"REFERENTES!S719","v":0},null,717,0,1130,"X"]
[null,null,null,null,null,null,null,null,null,null,null,null,null,null,null,null,null,null,null,null,null,null,null,null,{"$f":"IF(AND(REFERENTES!U720<>\"\",          REFERENTES!U720<>96321,    REFERENTES!U720<>96222            ),(REFERENTES!W720),\"\")","v":""},{"$f":"REFERENTES!S720","v":0},null,718,0,1130,"X"]
[null,null,null,null,null,null,null,null,null,null,null,null,null,null,null,null,null,null,null,null,null,null,null,null,{"$f":"IF(AND(REFERENTES!U721<>\"\",          REFERENTES!U721<>96321,    REFERENTES!U721<>96222            ),(REFERENTES!W721),\"\")","v":""},{"$f":"REFERENTES!S721","v":0},null,719,0,1130,"X"]
[null,null,null,null,null,null,null,null,null,null,null,null,null,null,null,null,null,null,null,null,null,null,null,null,{"$f":"IF(AND(REFERENTES!U722<>\"\",          REFERENTES!U722<>96321,    REFERENTES!U722<>96222            ),(REFERENTES!W722),\"\")","v":""},{"$f":"REFERENTES!S722","v":0},null,720,0,1130,"X"]
[null,null,null,null,null,null,null,null,null,null,null,null,null,null,null,null,null,null,null,null,null,null,null,null,{"$f":"IF(AND(REFERENTES!U723<>\"\",          REFERENTES!U723<>96321,    REFERENTES!U723<>96222            ),(REFERENTES!W723),\"\")","v":""},{"$f":"REFERENTES!S723","v":0},null,721,0,1130,"X"]
[null,null,null,null,null,null,null,null,null,null,null,null,null,null,null,null,null,null,null,null,null,null,null,null,{"$f":"IF(AND(REFERENTES!U724<>\"\",          REFERENTES!U724<>96321,    REFERENTES!U724<>96222            ),(REFERENTES!W724),\"\")","v":""},{"$f":"REFERENTES!S724","v":0},null,722,0,1130,"X"]
[null,null,null,null,null,null,null,null,null,null,null,null,null,null,null,null,null,null,null,null,null,null,null,null,{"$f":"IF(AND(REFERENTES!U725<>\"\",          REFERENTES!U725<>96321,    REFERENTES!U725<>96222            ),(REFERENTES!W725),\"\")","v":""},{"$f":"REFERENTES!S725","v":0},null,723,0,1130,"X"]
[null,null,null,null,null,null,null,null,null,null,null,null,null,null,null,null,null,null,null,null,null,null,null,null,{"$f":"IF(AND(REFERENTES!U726<>\"\",          REFERENTES!U726<>96321,    REFERENTES!U726<>96222            ),(REFERENTES!W726),\"\")","v":""},{"$f":"REFERENTES!S726","v":0},null,724,0,1130,"X"]
[null,null,null,null,null,null,null,null,null,null,null,null,null,null,null,null,null,null,null,null,null,null,null,null,{"$f":"IF(AND(REFERENTES!U727<>\"\",          REFERENTES!U727<>96321,    REFERENTES!U727<>96222            ),(REFERENTES!W727),\"\")","v":""},{"$f":"REFERENTES!S727","v":0},null,725,0,1130,"X"]
[null,null,null,null,null,null,null,null,null,null,null,null,null,null,null,null,null,null,null,null,null,null,null,null,{"$f":"IF(AND(REFERENTES!U728<>\"\",          REFERENTES!U728<>96321,    REFERENTES!U728<>96222            ),(REFERENTES!W728),\"\")","v":""},{"$f":"REFERENTES!S728","v":0},null,726,0,1130,"X"]
[null,null,null,null,null,null,null,null,null,null,null,null,null,null,null,null,null,null,null,null,null,null,null,null,{"$f":"IF(AND(REFERENTES!U729<>\"\",          REFERENTES!U729<>96321,    REFERENTES!U729<>96222            ),(REFERENTES!W729),\"\")","v":""},{"$f":"REFERENTES!S729","v":0},null,727,0,1130,"X"]
[null,null,null,null,null,null,null,null,null,null,null,null,null,null,null,null,null,null,null,null,null,null,null,null,{"$f":"IF(AND(REFERENTES!U730<>\"\",          REFERENTES!U730<>96321,    REFERENTES!U730<>96222            ),(REFERENTES!W730),\"\")","v":""},{"$f":"REFERENTES!S730","v":0},null,728,0,1130,"X"]
[null,null,null,null,null,null,null,null,null,null,null,null,null,null,null,null,null,null,null,null,null,null,null,null,{"$f":"IF(AND(REFERENTES!U731<>\"\",          REFERENTES!U731<>96321,    REFERENTES!U731<>96222            ),(REFERENTES!W731),\"\")","v":""},{"$f":"REFERENTES!S731","v":0},null,729,0,1130,"X"]
[null,null,null,null,null,null,null,null,null,null,null,null,null,null,null,null,null,null,null,null,null,null,null,null,{"$f":"IF(AND(REFERENTES!U732<>\"\",          REFERENTES!U732<>96321,    REFERENTES!U732<>96222            ),(REFERENTES!W732),\"\")","v":""},{"$f":"REFERENTES!S732","v":0},null,730,0,1130,"X"]
[null,null,null,null,null,null,null,null,null,null,null,null,null,null,null,null,null,null,null,null,null,null,null,null,{"$f":"IF(AND(REFERENTES!U733<>\"\",          REFERENTES!U733<>96321,    REFERENTES!U733<>96222            ),(REFERENTES!W733),\"\")","v":""},{"$f":"REFERENTES!S733","v":0},null,731,0,1130,"X"]
[null,null,null,null,null,null,null,null,null,null,null,null,null,null,null,null,null,null,null,null,null,null,null,null,{"$f":"IF(AND(REFERENTES!U734<>\"\",          REFERENTES!U734<>96321,    REFERENTES!U734<>96222            ),(REFERENTES!W734),\"\")","v":""},{"$f":"REFERENTES!S734","v":0},null,732,0,1130,"X"]
[null,null,null,null,null,null,null,null,null,null,null,null,null,null,null,null,null,null,null,null,null,null,null,null,{"$f":"IF(AND(REFERENTES!U735<>\"\",          REFERENTES!U735<>96321,    REFERENTES!U735<>96222            ),(REFERENTES!W735),\"\")","v":""},{"$f":"REFERENTES!S735","v":0},null,733,0,1130,"X"]
[null,null,null,null,null,null,null,null,null,null,null,null,null,null,null,null,null,null,null,null,null,null,null,null,{"$f":"IF(AND(REFERENTES!U736<>\"\",          REFERENTES!U736<>96321,    REFERENTES!U736<>96222            ),(REFERENTES!W736),\"\")","v":""},{"$f":"REFERENTES!S736","v":0},null,734,0,1130,"X"]
[null,null,null,null,null,null,null,null,null,null,null,null,null,null,null,null,null,null,null,null,null,null,null,null,{"$f":"IF(AND(REFERENTES!U737<>\"\",          REFERENTES!U737<>96321,    REFERENTES!U737<>96222            ),(REFERENTES!W737),\"\")","v":""},{"$f":"REFERENTES!S737","v":0},null,735,0,1130,"X"]
[null,null,null,null,null,null,null,null,null,null,null,null,null,null,null,null,null,null,null,null,null,null,null,null,{"$f":"IF(AND(REFERENTES!U738<>\"\",          REFERENTES!U738<>96321,    REFERENTES!U738<>96222            ),(REFERENTES!W738),\"\")","v":""},{"$f":"REFERENTES!S738","v":0},null,736,0,1130,"X"]
[null,null,null,null,null,null,null,null,null,null,null,null,null,null,null,null,null,null,null,null,null,null,null,null,{"$f":"IF(AND(REFERENTES!U739<>\"\",          REFERENTES!U739<>96321,    REFERENTES!U739<>96222            ),(REFERENTES!W739),\"\")","v":""},{"$f":"REFERENTES!S739","v":0},null,737,0,1130,"X"]
[null,null,null,null,null,null,null,null,null,null,null,null,null,null,null,null,null,null,null,null,null,null,null,null,{"$f":"IF(AND(REFERENTES!U740<>\"\",          REFERENTES!U740<>96321,    REFERENTES!U740<>96222            ),(REFERENTES!W740),\"\")","v":""},{"$f":"REFERENTES!S740","v":0},null,738,0,1130,"X"]
[null,null,null,null,null,null,null,null,null,null,null,null,null,null,null,null,null,null,null,null,null,null,null,null,{"$f":"IF(AND(REFERENTES!U741<>\"\",          REFERENTES!U741<>96321,    REFERENTES!U741<>96222            ),(REFERENTES!W741),\"\")","v":""},{"$f":"REFERENTES!S741","v":0},null,739,0,1130,"X"]
[null,null,null,null,null,null,null,null,null,null,null,null,null,null,null,null,null,null,null,null,null,null,null,null,{"$f":"IF(AND(REFERENTES!U742<>\"\",          REFERENTES!U742<>96321,    REFERENTES!U742<>96222            ),(REFERENTES!W742),\"\")","v":""},{"$f":"REFERENTES!S742","v":0},null,740,0,1130,"X"]
[null,null,null,null,null,null,null,null,null,null,null,null,null,null,null,null,null,null,null,null,null,null,null,null,{"$f":"IF(AND(REFERENTES!U743<>\"\",          REFERENTES!U743<>96321,    REFERENTES!U743<>96222            ),(REFERENTES!W743),\"\")","v":""},{"$f":"REFERENTES!S743","v":0},null,741,0,1130,"X"]
[null,null,null,null,null,null,null,null,null,null,null,null,null,null,null,null,null,null,null,null,null,null,null,null,{"$f":"IF(AND(REFERENTES!U744<>\"\",          REFERENTES!U744<>96321,    REFERENTES!U744<>96222            ),(REFERENTES!W744),\"\")","v":""},{"$f":"REFERENTES!S744","v":0},null,742,0,1130,"X"]
[null,null,null,null,null,null,null,null,null,null,null,null,null,null,null,null,null,null,null,null,null,null,null,null,{"$f":"IF(AND(REFERENTES!U745<>\"\",          REFERENTES!U745<>96321,    REFERENTES!U745<>96222            ),(REFERENTES!W745),\"\")","v":""},{"$f":"REFERENTES!S745","v":0},null,743,0,1130,"X"]
[null,null,null,null,null,null,null,null,null,null,null,null,null,null,null,null,null,null,null,null,null,null,null,null,{"$f":"IF(AND(REFERENTES!U746<>\"\",          REFERENTES!U746<>96321,    REFERENTES!U746<>96222            ),(REFERENTES!W746),\"\")","v":""},{"$f":"REFERENTES!S746","v":0},null,744,0,1130,"X"]
[null,null,null,null,null,null,null,null,null,null,null,null,null,null,null,null,null,null,null,null,null,null,null,null,{"$f":"IF(AND(REFERENTES!U747<>\"\",          REFERENTES!U747<>96321,    REFERENTES!U747<>96222            ),(REFERENTES!W747),\"\")","v":""},{"$f":"REFERENTES!S747","v":0},null,745,0,1130,"X"]
[null,null,null,null,null,null,null,null,null,null,null,null,null,null,null,null,null,null,null,null,null,null,null,null,{"$f":"IF(AND(REFERENTES!U748<>\"\",          REFERENTES!U748<>96321,    REFERENTES!U748<>96222            ),(REFERENTES!W748),\"\")","v":""},{"$f":"REFERENTES!S748","v":0},null,746,0,1130,"X"]
[null,null,null,null,null,null,null,null,null,null,null,null,null,null,null,null,null,null,null,null,null,null,null,null,{"$f":"IF(AND(REFERENTES!U749<>\"\",          REFERENTES!U749<>96321,    REFERENTES!U749<>96222            ),(REFERENTES!W749),\"\")","v":""},{"$f":"REFERENTES!S749","v":0},null,747,0,1130,"X"]
[null,null,null,null,null,null,null,null,null,null,null,null,null,null,null,null,null,null,null,null,null,null,null,null,{"$f":"IF(AND(REFERENTES!U750<>\"\",          REFERENTES!U750<>96321,    REFERENTES!U750<>96222            ),(REFERENTES!W750),\"\")","v":""},{"$f":"REFERENTES!S750","v":0},null,748,0,1130,"X"]
[null,null,null,null,null,null,null,null,null,null,null,null,null,null,null,null,null,null,null,null,null,null,null,null,{"$f":"IF(AND(REFERENTES!U751<>\"\",          REFERENTES!U751<>96321,    REFERENTES!U751<>96222            ),(REFERENTES!W751),\"\")","v":""},{"$f":"REFERENTES!S751","v":0},null,749,0,1130,"X"]
[null,null,null,null,null,null,null,null,null,null,null,null,null,null,null,null,null,null,null,null,null,null,null,null,{"$f":"IF(AND(REFERENTES!U752<>\"\",          REFERENTES!U752<>96321,    REFERENTES!U752<>96222            ),(REFERENTES!W752),\"\")","v":""},{"$f":"REFERENTES!S752","v":0},null,750,0,1130,"X"]
[null,null,null,null,null,null,null,null,null,null,null,null,null,null,null,null,null,null,null,null,null,null,null,null,{"$f":"IF(AND(REFERENTES!U753<>\"\",          REFERENTES!U753<>96321,    REFERENTES!U753<>96222            ),(REFERENTES!W753),\"\")","v":""},{"$f":"REFERENTES!S753","v":0},null,751,0,1130,"X"]
[null,null,null,null,null,null,null,null,null,null,null,null,null,null,null,null,null,null,null,null,null,null,null,null,{"$f":"IF(AND(REFERENTES!U754<>\"\",          REFERENTES!U754<>96321,    REFERENTES!U754<>96222            ),(REFERENTES!W754),\"\")","v":""},{"$f":"REFERENTES!S754","v":0},null,752,0,1130,"X"]
[null,null,null,null,null,null,null,null,null,null,null,null,null,null,null,null,null,null,null,null,null,null,null,null,{"$f":"IF(AND(REFERENTES!U755<>\"\",          REFERENTES!U755<>96321,    REFERENTES!U755<>96222            ),(REFERENTES!W755),\"\")","v":""},{"$f":"REFERENTES!S755","v":0},null,753,0,1130,"X"]
[null,null,null,null,null,null,null,null,null,null,null,null,null,null,null,null,null,null,null,null,null,null,null,null,{"$f":"IF(AND(REFERENTES!U756<>\"\",          REFERENTES!U756<>96321,    REFERENTES!U756<>96222            ),(REFERENTES!W756),\"\")","v":""},{"$f":"REFERENTES!S756","v":0},null,754,0,1130,"X"]
[null,null,null,null,null,null,null,null,null,null,null,null,null,null,null,null,null,null,null,null,null,null,null,null,{"$f":"IF(AND(REFERENTES!U757<>\"\",          REFERENTES!U757<>96321,    REFERENTES!U757<>96222            ),(REFERENTES!W757),\"\")","v":""},{"$f":"REFERENTES!S757","v":0},null,755,0,1130,"X"]
[null,null,null,null,null,null,null,null,null,null,null,null,null,null,null,null,null,null,null,null,null,null,null,null,{"$f":"IF(AND(REFERENTES!U758<>\"\",          REFERENTES!U758<>96321,    REFERENTES!U758<>96222            ),(REFERENTES!W758),\"\")","v":""},{"$f":"REFERENTES!S758","v":0},null,756,0,1130,"X"]
[null,null,null,null,null,null,null,null,null,null,null,null,null,null,null,null,null,null,null,null,null,null,null,null,{"$f":"IF(AND(REFERENTES!U759<>\"\",          REFERENTES!U759<>96321,    REFERENTES!U759<>96222            ),(REFERENTES!W759),\"\")","v":""},{"$f":"REFERENTES!S759","v":0},null,757,0,1130,"X"]
[null,null,null,null,null,null,null,null,null,null,null,null,null,null,null,null,null,null,null,null,null,null,null,null,{"$f":"IF(AND(REFERENTES!U760<>\"\",          REFERENTES!U760<>96321,    REFERENTES!U760<>96222            ),(REFERENTES!W760),\"\")","v":""},{"$f":"REFERENTES!S760","v":0},null,758,0,1130,"X"]
[null,null,null,null,null,null,null,null,null,null,null,null,null,null,null,null,null,null,null,null,null,null,null,null,{"$f":"IF(AND(REFERENTES!U761<>\"\",          REFERENTES!U761<>96321,    REFERENTES!U761<>96222            ),(REFERENTES!W761),\"\")","v":""},{"$f":"REFERENTES!S761","v":0},null,759,0,1130,"X"]
[null,null,null,null,null,null,null,null,null,null,null,null,null,null,null,null,null,null,null,null,null,null,null,null,{"$f":"IF(AND(REFERENTES!U762<>\"\",          REFERENTES!U762<>96321,    REFERENTES!U762<>96222            ),(REFERENTES!W762),\"\")","v":""},{"$f":"REFERENTES!S762","v":0},null,760,0,1130,"X"]
[null,null,null,null,null,null,null,null,null,null,null,null,null,null,null,null,null,null,null,null,null,null,null,null,{"$f":"IF(AND(REFERENTES!U763<>\"\",          REFERENTES!U763<>96321,    REFERENTES!U763<>96222            ),(REFERENTES!W763),\"\")","v":""},{"$f":"REFERENTES!S763","v":0},null,761,0,1130,"X"]
[null,null,null,null,null,null,null,null,null,null,null,null,null,null,null,null,null,null,null,null,null,null,null,null,{"$f":"IF(AND(REFERENTES!U764<>\"\",          REFERENTES!U764<>96321,    REFERENTES!U764<>96222            ),(REFERENTES!W764),\"\")","v":""},{"$f":"REFERENTES!S764","v":0},null,762,0,1130,"X"]
[null,null,null,null,null,null,null,null,null,null,null,null,null,null,null,null,null,null,null,null,null,null,null,null,{"$f":"IF(AND(REFERENTES!U765<>\"\",          REFERENTES!U765<>96321,    REFERENTES!U765<>96222            ),(REFERENTES!W765),\"\")","v":""},{"$f":"REFERENTES!S765","v":0},null,763,0,1130,"X"]
[null,null,null,null,null,null,null,null,null,null,null,null,null,null,null,null,null,null,null,null,null,null,null,null,{"$f":"IF(AND(REFERENTES!U766<>\"\",          REFERENTES!U766<>96321,    REFERENTES!U766<>96222            ),(REFERENTES!W766),\"\")","v":""},{"$f":"REFERENTES!S766","v":0},null,764,0,1130,"X"]
[null,null,null,null,null,null,null,null,null,null,null,null,null,null,null,null,null,null,null,null,null,null,null,null,{"$f":"IF(AND(REFERENTES!U767<>\"\",          REFERENTES!U767<>96321,    REFERENTES!U767<>96222            ),(REFERENTES!W767),\"\")","v":""},{"$f":"REFERENTES!S767","v":0},null,765,0,1130,"X"]
[null,null,null,null,null,null,null,null,null,null,null,null,null,null,null,null,null,null,null,null,null,null,null,null,{"$f":"IF(AND(REFERENTES!U768<>\"\",          REFERENTES!U768<>96321,    REFERENTES!U768<>96222            ),(REFERENTES!W768),\"\")","v":""},{"$f":"REFERENTES!S768","v":0},null,766,0,1130,"X"]
[null,null,null,null,null,null,null,null,null,null,null,null,null,null,null,null,null,null,null,null,null,null,null,null,{"$f":"IF(AND(REFERENTES!U769<>\"\",          REFERENTES!U769<>96321,    REFERENTES!U769<>96222            ),(REFERENTES!W769),\"\")","v":""},{"$f":"REFERENTES!S769","v":0},null,767,0,1130,"X"]
[null,null,null,null,null,null,null,null,null,null,null,null,null,null,null,null,null,null,null,null,null,null,null,null,{"$f":"IF(AND(REFERENTES!U770<>\"\",          REFERENTES!U770<>96321,    REFERENTES!U770<>96222            ),(REFERENTES!W770),\"\")","v":""},{"$f":"REFERENTES!S770","v":0},null,768,0,1130,"X"]
[null,null,null,null,null,null,null,null,null,null,null,null,null,null,null,null,null,null,null,null,null,null,null,null,{"$f":"IF(AND(REFERENTES!U771<>\"\",          REFERENTES!U771<>96321,    REFERENTES!U771<>96222            ),(REFERENTES!W771),\"\")","v":""},{"$f":"REFERENTES!S771","v":0},null,769,0,1130,"X"]
[null,null,null,null,null,null,null,null,null,null,null,null,null,null,null,null,null,null,null,null,null,null,null,null,{"$f":"IF(AND(REFERENTES!U772<>\"\",          REFERENTES!U772<>96321,    REFERENTES!U772<>96222            ),(REFERENTES!W772),\"\")","v":""},{"$f":"REFERENTES!S772","v":0},null,770,{"$f":"IF(Y775=\"\",0,Y775)","v":0},{"$f":"IF(AC776=0,MAX($AB$7:$AB$1135)+1,AB776)","v":1130},{"$f":"IFERROR(VLOOKUP(SMALL($AD$7:$AD$1135,AB776),$AB$7:$AD$1135,2,FALSE),\"X\")","v":"X"}]
[null,null,null,null,null,null,null,null,null,null,null,null,null,null,null,null,null,null,null,null,null,null,null,null,{"$f":"IF(AND(REFERENTES!U773<>\"\",          REFERENTES!U773<>96321,    REFERENTES!U773<>96222            ),(REFERENTES!W773),\"\")","v":""},{"$f":"REFERENTES!S773","v":0},null,771,0,1130,"X"]
[null,null,null,null,null,null,null,null,null,null,null,null,null,null,null,null,null,null,null,null,null,null,null,null,{"$f":"IF(AND(REFERENTES!U774<>\"\",          REFERENTES!U774<>96321,    REFERENTES!U774<>96222            ),(REFERENTES!W774),\"\")","v":""},{"$f":"REFERENTES!S774","v":0},null,772,0,1130,"X"]
[null,null,null,null,null,null,null,null,null,null,null,null,null,null,null,null,null,null,null,null,null,null,null,null,{"$f":"IF(AND(REFERENTES!U775<>\"\",          REFERENTES!U775<>96321,    REFERENTES!U775<>96222            ),(REFERENTES!W775),\"\")","v":""},{"$f":"REFERENTES!S775","v":0},null,773,0,1130,"X"]
[null,null,null,null,null,null,null,null,null,null,null,null,null,null,null,null,null,null,null,null,null,null,null,null,{"$f":"IF(AND(REFERENTES!U776<>\"\",          REFERENTES!U776<>96321,    REFERENTES!U776<>96222            ),(REFERENTES!W776),\"\")","v":""},{"$f":"REFERENTES!S776","v":0},null,774,0,1130,"X"]
[null,null,null,null,null,null,null,null,null,null,null,null,null,null,null,null,null,null,null,null,null,null,null,null,{"$f":"IF(AND(REFERENTES!U777<>\"\",          REFERENTES!U777<>96321,    REFERENTES!U777<>96222            ),(REFERENTES!W777),\"\")","v":""},{"$f":"REFERENTES!S777","v":0},null,775,0,1130,"X"]
[null,null,null,null,null,null,null,null,null,null,null,null,null,null,null,null,null,null,null,null,null,null,null,null,{"$f":"IF(AND(REFERENTES!U778<>\"\",          REFERENTES!U778<>96321,    REFERENTES!U778<>96222            ),(REFERENTES!W778),\"\")","v":""},{"$f":"REFERENTES!S778","v":0},null,776,0,1130,"X"]
[null,null,null,null,null,null,null,null,null,null,null,null,null,null,null,null,null,null,null,null,null,null,null,null,{"$f":"IF(AND(REFERENTES!U779<>\"\",          REFERENTES!U779<>96321,    REFERENTES!U779<>96222            ),(REFERENTES!W779),\"\")","v":""},{"$f":"REFERENTES!S779","v":0},null,777,0,1130,"X"]
[null,null,null,null,null,null,null,null,null,null,null,null,null,null,null,null,null,null,null,null,null,null,null,null,{"$f":"IF(AND(REFERENTES!U780<>\"\",          REFERENTES!U780<>96321,    REFERENTES!U780<>96222            ),(REFERENTES!W780),\"\")","v":""},{"$f":"REFERENTES!S780","v":0},null,778,0,1130,"X"]
[null,null,null,null,null,null,null,null,null,null,null,null,null,null,null,null,null,null,null,null,null,null,null,null,{"$f":"IF(AND(REFERENTES!U781<>\"\",          REFERENTES!U781<>96321,    REFERENTES!U781<>96222            ),(REFERENTES!W781),\"\")","v":""},{"$f":"REFERENTES!S781","v":0},null,779,0,1130,"X"]
[null,null,null,null,null,null,null,null,null,null,null,null,null,null,null,null,null,null,null,null,null,null,null,null,{"$f":"IF(AND(REFERENTES!U782<>\"\",          REFERENTES!U782<>96321,    REFERENTES!U782<>96222            ),(REFERENTES!W782),\"\")","v":""},{"$f":"REFERENTES!S782","v":0},null,780,0,1130,"X"]
[null,null,null,null,null,null,null,null,null,null,null,null,null,null,null,null,null,null,null,null,null,null,null,null,{"$f":"IF(AND(REFERENTES!U783<>\"\",          REFERENTES!U783<>96321,    REFERENTES!U783<>96222            ),(REFERENTES!W783),\"\")","v":""},{"$f":"REFERENTES!S783","v":0},null,781,0,1130,"X"]
[null,null,null,null,null,null,null,null,null,null,null,null,null,null,null,null,null,null,null,null,null,null,null,null,{"$f":"IF(AND(REFERENTES!U784<>\"\",          REFERENTES!U784<>96321,    REFERENTES!U784<>96222            ),(REFERENTES!W784),\"\")","v":""},{"$f":"REFERENTES!S784","v":0},null,782,0,1130,"X"]
[null,null,null,null,null,null,null,null,null,null,null,null,null,null,null,null,null,null,null,null,null,null,null,null,{"$f":"IF(AND(REFERENTES!U785<>\"\",          REFERENTES!U785<>96321,    REFERENTES!U785<>96222            ),(REFERENTES!W785),\"\")","v":""},{"$f":"REFERENTES!S785","v":0},null,783,0,1130,"X"]
[null,null,null,null,null,null,null,null,null,null,null,null,null,null,null,null,null,null,null,null,null,null,null,null,{"$f":"IF(AND(REFERENTES!U786<>\"\",          REFERENTES!U786<>96321,    REFERENTES!U786<>96222            ),(REFERENTES!W786),\"\")","v":""},{"$f":"REFERENTES!S786","v":0},null,784,0,1130,"X"]
[null,null,null,null,null,null,null,null,null,null,null,null,null,null,null,null,null,null,null,null,null,null,null,null,{"$f":"IF(AND(REFERENTES!U787<>\"\",          REFERENTES!U787<>96321,    REFERENTES!U787<>96222            ),(REFERENTES!W787),\"\")","v":""},{"$f":"REFERENTES!S787","v":0},null,785,0,1130,"X"]
[null,null,null,null,null,null,null,null,null,null,null,null,null,null,null,null,null,null,null,null,null,null,null,null,{"$f":"IF(AND(REFERENTES!U788<>\"\",          REFERENTES!U788<>96321,    REFERENTES!U788<>96222            ),(REFERENTES!W788),\"\")","v":""},{"$f":"REFERENTES!S788","v":0},null,786,0,1130,"X"]
[null,null,null,null,null,null,null,null,null,null,null,null,null,null,null,null,null,null,null,null,null,null,null,null,{"$f":"IF(AND(REFERENTES!U789<>\"\",          REFERENTES!U789<>96321,    REFERENTES!U789<>96222            ),(REFERENTES!W789),\"\")","v":""},{"$f":"REFERENTES!S789","v":0},null,787,0,1130,"X"]
[null,null,null,null,null,null,null,null,null,null,null,null,null,null,null,null,null,null,null,null,null,null,null,null,{"$f":"IF(AND(REFERENTES!U790<>\"\",          REFERENTES!U790<>96321,    REFERENTES!U790<>96222            ),(REFERENTES!W790),\"\")","v":""},{"$f":"REFERENTES!S790","v":0},null,788,0,1130,"X"]
[null,null,null,null,null,null,null,null,null,null,null,null,null,null,null,null,null,null,null,null,null,null,null,null,{"$f":"IF(AND(REFERENTES!U791<>\"\",          REFERENTES!U791<>96321,    REFERENTES!U791<>96222            ),(REFERENTES!W791),\"\")","v":""},{"$f":"REFERENTES!S791","v":0},null,789,0,1130,"X"]
[null,null,null,null,null,null,null,null,null,null,null,null,null,null,null,null,null,null,null,null,null,null,null,null,{"$f":"IF(AND(REFERENTES!U792<>\"\",          REFERENTES!U792<>96321,    REFERENTES!U792<>96222            ),(REFERENTES!W792),\"\")","v":""},{"$f":"REFERENTES!S792","v":0},null,790,0,1130,"X"]
[null,null,null,null,null,null,null,null,null,null,null,null,null,null,null,null,null,null,null,null,null,null,null,null,{"$f":"IF(AND(REFERENTES!U793<>\"\",          REFERENTES!U793<>96321,    REFERENTES!U793<>96222            ),(REFERENTES!W793),\"\")","v":""},{"$f":"REFERENTES!S793","v":0},null,791,0,1130,"X"]
[null,null,null,null,null,null,null,null,null,null,null,null,null,null,null,null,null,null,null,null,null,null,null,null,{"$f":"IF(AND(REFERENTES!U794<>\"\",          REFERENTES!U794<>96321,    REFERENTES!U794<>96222            ),(REFERENTES!W794),\"\")","v":""},{"$f":"REFERENTES!S794","v":0},null,792,0,1130,"X"]
[null,null,null,null,null,null,null,null,null,null,null,null,null,null,null,null,null,null,null,null,null,null,null,null,{"$f":"IF(AND(REFERENTES!U795<>\"\",          REFERENTES!U795<>96321,    REFERENTES!U795<>96222            ),(REFERENTES!W795),\"\")","v":""},{"$f":"REFERENTES!S795","v":0},null,793,0,1130,"X"]
[null,null,null,null,null,null,null,null,null,null,null,null,null,null,null,null,null,null,null,null,null,null,null,null,{"$f":"IF(AND(REFERENTES!U796<>\"\",          REFERENTES!U796<>96321,    REFERENTES!U796<>96222            ),(REFERENTES!W796),\"\")","v":""},{"$f":"REFERENTES!S796","v":0},null,794,0,1130,"X"]
[null,null,null,null,null,null,null,null,null,null,null,null,null,null,null,null,null,null,null,null,null,null,null,null,{"$f":"IF(AND(REFERENTES!U797<>\"\",          REFERENTES!U797<>96321,    REFERENTES!U797<>96222            ),(REFERENTES!W797),\"\")","v":""},{"$f":"REFERENTES!S797","v":0},null,795,0,1130,"X"]
[null,null,null,null,null,null,null,null,null,null,null,null,null,null,null,null,null,null,null,null,null,null,null,null,{"$f":"IF(AND(REFERENTES!U798<>\"\",          REFERENTES!U798<>96321,    REFERENTES!U798<>96222            ),(REFERENTES!W798),\"\")","v":""},{"$f":"REFERENTES!S798","v":0},null,796,0,1130,"X"]
[null,null,null,null,null,null,null,null,null,null,null,null,null,null,null,null,null,null,null,null,null,null,null,null,{"$f":"IF(AND(REFERENTES!U799<>\"\",          REFERENTES!U799<>96321,    REFERENTES!U799<>96222            ),(REFERENTES!W799),\"\")","v":""},{"$f":"REFERENTES!S799","v":0},null,797,0,1130,"X"]
[null,null,null,null,null,null,null,null,null,null,null,null,null,null,null,null,null,null,null,null,null,null,null,null,{"$f":"IF(AND(REFERENTES!U800<>\"\",          REFERENTES!U800<>96321,    REFERENTES!U800<>96222            ),(REFERENTES!W800),\"\")","v":""},{"$f":"REFERENTES!S800","v":0},null,798,0,1130,"X"]
[null,null,null,null,null,null,null,null,null,null,null,null,null,null,null,null,null,null,null,null,null,null,null,null,{"$f":"IF(AND(REFERENTES!U801<>\"\",          REFERENTES!U801<>96321,    REFERENTES!U801<>96222            ),(REFERENTES!W801),\"\")","v":""},{"$f":"REFERENTES!S801","v":0},null,799,0,1130,"X"]
[null,null,null,null,null,null,null,null,null,null,null,null,null,null,null,null,null,null,null,null,null,null,null,null,{"$f":"IF(AND(REFERENTES!U802<>\"\",          REFERENTES!U802<>96321,    REFERENTES!U802<>96222            ),(REFERENTES!W802),\"\")","v":""},{"$f":"REFERENTES!S802","v":0},null,800,0,1130,"X"]
[null,null,null,null,null,null,null,null,null,null,null,null,null,null,null,null,null,null,null,null,null,null,null,null,{"$f":"IF(AND(REFERENTES!U803<>\"\",          REFERENTES!U803<>96321,    REFERENTES!U803<>96222            ),(REFERENTES!W803),\"\")","v":""},{"$f":"REFERENTES!S803","v":0},null,801,0,1130,"X"]
[null,null,null,null,null,null,null,null,null,null,null,null,null,null,null,null,null,null,null,null,null,null,null,null,{"$f":"IF(AND(REFERENTES!U804<>\"\",          REFERENTES!U804<>96321,    REFERENTES!U804<>96222            ),(REFERENTES!W804),\"\")","v":""},{"$f":"REFERENTES!S804","v":0},null,802,0,1130,"X"]
[null,null,null,null,null,null,null,null,null,null,null,null,null,null,null,null,null,null,null,null,null,null,null,null,{"$f":"IF(AND(REFERENTES!U805<>\"\",          REFERENTES!U805<>96321,    REFERENTES!U805<>96222            ),(REFERENTES!W805),\"\")","v":""},{"$f":"REFERENTES!S805","v":0},null,803,0,1130,"X"]
[null,null,null,null,null,null,null,null,null,null,null,null,null,null,null,null,null,null,null,null,null,null,null,null,{"$f":"IF(AND(REFERENTES!U806<>\"\",          REFERENTES!U806<>96321,    REFERENTES!U806<>96222            ),(REFERENTES!W806),\"\")","v":""},{"$f":"REFERENTES!S806","v":0},null,804,0,1130,"X"]
[null,null,null,null,null,null,null,null,null,null,null,null,null,null,null,null,null,null,null,null,null,null,null,null,{"$f":"IF(AND(REFERENTES!U807<>\"\",          REFERENTES!U807<>96321,    REFERENTES!U807<>96222            ),(REFERENTES!W807),\"\")","v":""},{"$f":"REFERENTES!S807","v":0},null,805,0,1130,"X"]
[null,null,null,null,null,null,null,null,null,null,null,null,null,null,null,null,null,null,null,null,null,null,null,null,{"$f":"IF(AND(REFERENTES!U808<>\"\",          REFERENTES!U808<>96321,    REFERENTES!U808<>96222            ),(REFERENTES!W808),\"\")","v":""},{"$f":"REFERENTES!S808","v":0},null,806,0,1130,"X"]
[null,null,null,null,null,null,null,null,null,null,null,null,null,null,null,null,null,null,null,null,null,null,null,null,{"$f":"IF(AND(REFERENTES!U809<>\"\",          REFERENTES!U809<>96321,    REFERENTES!U809<>96222            ),(REFERENTES!W809),\"\")","v":""},{"$f":"REFERENTES!S809","v":0},null,807,0,1130,"X"]
[null,null,null,null,null,null,null,null,null,null,null,null,null,null,null,null,null,null,null,null,null,null,null,null,{"$f":"IF(AND(REFERENTES!U810<>\"\",          REFERENTES!U810<>96321,    REFERENTES!U810<>96222            ),(REFERENTES!W810),\"\")","v":""},{"$f":"REFERENTES!S810","v":0},null,808,0,1130,"X"]
[null,null,null,null,null,null,null,null,null,null,null,null,null,null,null,null,null,null,null,null,null,null,null,null,{"$f":"IF(AND(REFERENTES!U811<>\"\",          REFERENTES!U811<>96321,    REFERENTES!U811<>96222            ),(REFERENTES!W811),\"\")","v":""},{"$f":"REFERENTES!S811","v":0},null,809,0,1130,"X"]
[null,null,null,null,null,null,null,null,null,null,null,null,null,null,null,null,null,null,null,null,null,null,null,null,{"$f":"IF(AND(REFERENTES!U812<>\"\",          REFERENTES!U812<>96321,    REFERENTES!U812<>96222            ),(REFERENTES!W812),\"\")","v":""},{"$f":"REFERENTES!S812","v":0},null,810,0,1130,"X"]
[null,null,null,null,null,null,null,null,null,null,null,null,null,null,null,null,null,null,null,null,null,null,null,null,{"$f":"IF(AND(REFERENTES!U813<>\"\",          REFERENTES!U813<>96321,    REFERENTES!U813<>96222            ),(REFERENTES!W813),\"\")","v":""},{"$f":"REFERENTES!S813","v":0},null,811,0,1130,"X"]
[null,null,null,null,null,null,null,null,null,null,null,null,null,null,null,null,null,null,null,null,null,null,null,null,{"$f":"IF(AND(REFERENTES!U814<>\"\",          REFERENTES!U814<>96321,    REFERENTES!U814<>96222            ),(REFERENTES!W814),\"\")","v":""},{"$f":"REFERENTES!S814","v":0},null,812,0,1130,"X"]
[null,null,null,null,null,null,null,null,null,null,null,null,null,null,null,null,null,null,null,null,null,null,null,null,{"$f":"IF(AND(REFERENTES!U815<>\"\",          REFERENTES!U815<>96321,    REFERENTES!U815<>96222            ),(REFERENTES!W815),\"\")","v":""},{"$f":"REFERENTES!S815","v":0},null,813,0,1130,"X"]
[null,null,null,null,null,null,null,null,null,null,null,null,null,null,null,null,null,null,null,null,null,null,null,null,{"$f":"IF(AND(REFERENTES!U816<>\"\",          REFERENTES!U816<>96321,    REFERENTES!U816<>96222            ),(REFERENTES!W816),\"\")","v":""},{"$f":"REFERENTES!S816","v":0},null,814,0,1130,"X"]
[null,null,null,null,null,null,null,null,null,null,null,null,null,null,null,null,null,null,null,null,null,null,null,null,{"$f":"IF(AND(REFERENTES!U817<>\"\",          REFERENTES!U817<>96321,    REFERENTES!U817<>96222            ),(REFERENTES!W817),\"\")","v":""},{"$f":"REFERENTES!S817","v":0},null,815,0,1130,"X"]
[null,null,null,null,null,null,null,null,null,null,null,null,null,null,null,null,null,null,null,null,null,null,null,null,{"$f":"IF(AND(REFERENTES!U818<>\"\",          REFERENTES!U818<>96321,    REFERENTES!U818<>96222            ),(REFERENTES!W818),\"\")","v":""},{"$f":"REFERENTES!S818","v":0},null,816,0,1130,"X"]
[null,null,null,null,null,null,null,null,null,null,null,null,null,null,null,null,null,null,null,null,null,null,null,null,{"$f":"IF(AND(REFERENTES!U819<>\"\",          REFERENTES!U819<>96321,    REFERENTES!U819<>96222            ),(REFERENTES!W819),\"\")","v":""},{"$f":"REFERENTES!S819","v":0},null,817,0,1130,"X"]
[null,null,null,null,null,null,null,null,null,null,null,null,null,null,null,null,null,null,null,null,null,null,null,null,{"$f":"IF(AND(REFERENTES!U820<>\"\",          REFERENTES!U820<>96321,    REFERENTES!U820<>96222            ),(REFERENTES!W820),\"\")","v":""},{"$f":"REFERENTES!S820","v":0},null,818,0,1130,"X"]
[null,null,null,null,null,null,null,null,null,null,null,null,null,null,null,null,null,null,null,null,null,null,null,null,{"$f":"IF(AND(REFERENTES!U821<>\"\",          REFERENTES!U821<>96321,    REFERENTES!U821<>96222            ),(REFERENTES!W821),\"\")","v":""},{"$f":"REFERENTES!S821","v":0},null,819,0,1130,"X"]
[null,null,null,null,null,null,null,null,null,null,null,null,null,null,null,null,null,null,null,null,null,null,null,null,{"$f":"IF(AND(REFERENTES!U822<>\"\",          REFERENTES!U822<>96321,    REFERENTES!U822<>96222            ),(REFERENTES!W822),\"\")","v":""},{"$f":"REFERENTES!S822","v":0},null,820,0,1130,"X"]
[null,null,null,null,null,null,null,null,null,null,null,null,null,null,null,null,null,null,null,null,null,null,null,null,{"$f":"IF(AND(REFERENTES!U823<>\"\",          REFERENTES!U823<>96321,    REFERENTES!U823<>96222            ),(REFERENTES!W823),\"\")","v":""},{"$f":"REFERENTES!S823","v":0},null,821,0,1130,"X"]
[null,null,null,null,null,null,null,null,null,null,null,null,null,null,null,null,null,null,null,null,null,null,null,null,{"$f":"IF(AND(REFERENTES!U824<>\"\",          REFERENTES!U824<>96321,    REFERENTES!U824<>96222            ),(REFERENTES!W824),\"\")","v":""},{"$f":"REFERENTES!S824","v":0},null,822,0,1130,"X"]
[null,null,null,null,null,null,null,null,null,null,null,null,null,null,null,null,null,null,null,null,null,null,null,null,{"$f":"IF(AND(REFERENTES!U825<>\"\",          REFERENTES!U825<>96321,    REFERENTES!U825<>96222            ),(REFERENTES!W825),\"\")","v":""},{"$f":"REFERENTES!S825","v":0},null,823,0,1130,"X"]
[null,null,null,null,null,null,null,null,null,null,null,null,null,null,null,null,null,null,null,null,null,null,null,null,{"$f":"IF(AND(REFERENTES!U826<>\"\",          REFERENTES!U826<>96321,    REFERENTES!U826<>96222            ),(REFERENTES!W826),\"\")","v":""},{"$f":"REFERENTES!S826","v":0},null,824,0,1130,"X"]
[null,null,null,null,null,null,null,null,null,null,null,null,null,null,null,null,null,null,null,null,null,null,null,null,{"$f":"IF(AND(REFERENTES!U827<>\"\",          REFERENTES!U827<>96321,    REFERENTES!U827<>96222            ),(REFERENTES!W827),\"\")","v":""},{"$f":"REFERENTES!S827","v":0},null,825,0,1130,"X"]
[null,null,null,null,null,null,null,null,null,null,null,null,null,null,null,null,null,null,null,null,null,null,null,null,{"$f":"IF(AND(REFERENTES!U828<>\"\",          REFERENTES!U828<>96321,    REFERENTES!U828<>96222            ),(REFERENTES!W828),\"\")","v":""},{"$f":"REFERENTES!S828","v":0},null,826,0,1130,"X"]
[null,null,null,null,null,null,null,null,null,null,null,null,null,null,null,null,null,null,null,null,null,null,null,null,{"$f":"IF(AND(REFERENTES!U829<>\"\",          REFERENTES!U829<>96321,    REFERENTES!U829<>96222            ),(REFERENTES!W829),\"\")","v":""},{"$f":"REFERENTES!S829","v":0},null,827,0,1130,"X"]
[null,null,null,null,null,null,null,null,null,null,null,null,null,null,null,null,null,null,null,null,null,null,null,null,{"$f":"IF(AND(REFERENTES!U830<>\"\",          REFERENTES!U830<>96321,    REFERENTES!U830<>96222            ),(REFERENTES!W830),\"\")","v":""},{"$f":"REFERENTES!S830","v":0},null,828,0,1130,"X"]
[null,null,null,null,null,null,null,null,null,null,null,null,null,null,null,null,null,null,null,null,null,null,null,null,{"$f":"IF(AND(REFERENTES!U831<>\"\",          REFERENTES!U831<>96321,    REFERENTES!U831<>96222            ),(REFERENTES!W831),\"\")","v":""},{"$f":"REFERENTES!S831","v":0},null,829,0,1130,"X"]
[null,null,null,null,null,null,null,null,null,null,null,null,null,null,null,null,null,null,null,null,null,null,null,null,{"$f":"IF(AND(REFERENTES!U832<>\"\",          REFERENTES!U832<>96321,    REFERENTES!U832<>96222            ),(REFERENTES!W832),\"\")","v":""},{"$f":"REFERENTES!S832","v":0},null,830,0,1130,"X"]
[null,null,null,null,null,null,null,null,null,null,null,null,null,null,null,null,null,null,null,null,null,null,null,null,{"$f":"IF(AND(REFERENTES!U833<>\"\",          REFERENTES!U833<>96321,    REFERENTES!U833<>96222            ),(REFERENTES!W833),\"\")","v":""},{"$f":"REFERENTES!S833","v":0},null,831,0,1130,"X"]
[null,null,null,null,null,null,null,null,null,null,null,null,null,null,null,null,null,null,null,null,null,null,null,null,{"$f":"IF(AND(REFERENTES!U834<>\"\",          REFERENTES!U834<>96321,    REFERENTES!U834<>96222            ),(REFERENTES!W834),\"\")","v":""},{"$f":"REFERENTES!S834","v":0},null,832,0,1130,"X"]
[null,null,null,null,null,null,null,null,null,null,null,null,null,null,null,null,null,null,null,null,null,null,null,null,{"$f":"IF(AND(REFERENTES!U835<>\"\",          REFERENTES!U835<>96321,    REFERENTES!U835<>96222            ),(REFERENTES!W835),\"\")","v":""},{"$f":"REFERENTES!S835","v":0},null,833,0,1130,"X"]
[null,null,null,null,null,null,null,null,null,null,null,null,null,null,null,null,null,null,null,null,null,null,null,null,{"$f":"IF(AND(REFERENTES!U836<>\"\",          REFERENTES!U836<>96321,    REFERENTES!U836<>96222            ),(REFERENTES!W836),\"\")","v":""},{"$f":"REFERENTES!S836","v":0},null,834,{"$f":"IF(Y839=\"\",0,Y839)","v":0},{"$f":"IF(AC840=0,MAX($AB$7:$AB$1135)+1,AB840)","v":1130},{"$f":"IFERROR(VLOOKUP(SMALL($AD$7:$AD$1135,AB840),$AB$7:$AD$1135,2,FALSE),\"X\")","v":"X"}]
[null,null,null,null,null,null,null,null,null,null,null,null,null,null,null,null,null,null,null,null,null,null,null,null,{"$f":"IF(AND(REFERENTES!U837<>\"\",          REFERENTES!U837<>96321,    REFERENTES!U837<>96222            ),(REFERENTES!W837),\"\")","v":""},{"$f":"REFERENTES!S837","v":0},null,835,0,1130,"X"]
[null,null,null,null,null,null,null,null,null,null,null,null,null,null,null,null,null,null,null,null,null,null,null,null,{"$f":"IF(AND(REFERENTES!U838<>\"\",          REFERENTES!U838<>96321,    REFERENTES!U838<>96222            ),(REFERENTES!W838),\"\")","v":""},{"$f":"REFERENTES!S838","v":0},null,836,0,1130,"X"]
[null,null,null,null,null,null,null,null,null,null,null,null,null,null,null,null,null,null,null,null,null,null,null,null,{"$f":"IF(AND(REFERENTES!U839<>\"\",          REFERENTES!U839<>96321,    REFERENTES!U839<>96222            ),(REFERENTES!W839),\"\")","v":""},{"$f":"REFERENTES!S839","v":0},null,837,0,1130,"X"]
[null,null,null,null,null,null,null,null,null,null,null,null,null,null,null,null,null,null,null,null,null,null,null,null,{"$f":"IF(AND(REFERENTES!U840<>\"\",          REFERENTES!U840<>96321,    REFERENTES!U840<>96222            ),(REFERENTES!W840),\"\")","v":""},{"$f":"REFERENTES!S840","v":0},null,838,0,1130,"X"]
[null,null,null,null,null,null,null,null,null,null,null,null,null,null,null,null,null,null,null,null,null,null,null,null,{"$f":"IF(AND(REFERENTES!U841<>\"\",          REFERENTES!U841<>96321,    REFERENTES!U841<>96222            ),(REFERENTES!W841),\"\")","v":""},{"$f":"REFERENTES!S841","v":0},null,839,0,1130,"X"]
[null,null,null,null,null,null,null,null,null,null,null,null,null,null,null,null,null,null,null,null,null,null,null,null,{"$f":"IF(AND(REFERENTES!U842<>\"\",          REFERENTES!U842<>96321,    REFERENTES!U842<>96222            ),(REFERENTES!W842),\"\")","v":""},{"$f":"REFERENTES!S842","v":0},null,840,0,1130,"X"]
[null,null,null,null,null,null,null,null,null,null,null,null,null,null,null,null,null,null,null,null,null,null,null,null,{"$f":"IF(AND(REFERENTES!U843<>\"\",          REFERENTES!U843<>96321,    REFERENTES!U843<>96222            ),(REFERENTES!W843),\"\")","v":""},{"$f":"REFERENTES!S843","v":0},null,841,0,1130,"X"]
[null,null,null,null,null,null,null,null,null,null,null,null,null,null,null,null,null,null,null,null,null,null,null,null,{"$f":"IF(AND(REFERENTES!U844<>\"\",          REFERENTES!U844<>96321,    REFERENTES!U844<>96222            ),(REFERENTES!W844),\"\")","v":""},{"$f":"REFERENTES!S844","v":0},null,842,0,1130,"X"]
[null,null,null,null,null,null,null,null,null,null,null,null,null,null,null,null,null,null,null,null,null,null,null,null,{"$f":"IF(AND(REFERENTES!U845<>\"\",          REFERENTES!U845<>96321,    REFERENTES!U845<>96222            ),(REFERENTES!W845),\"\")","v":""},{"$f":"REFERENTES!S845","v":0},null,843,0,1130,"X"]
[null,null,null,null,null,null,null,null,null,null,null,null,null,null,null,null,null,null,null,null,null,null,null,null,{"$f":"IF(AND(REFERENTES!U846<>\"\",          REFERENTES!U846<>96321,    REFERENTES!U846<>96222            ),(REFERENTES!W846),\"\")","v":""},{"$f":"REFERENTES!S846","v":0},null,844,0,1130,"X"]
[null,null,null,null,null,null,null,null,null,null,null,null,null,null,null,null,null,null,null,null,null,null,null,null,{"$f":"IF(AND(REFERENTES!U847<>\"\",          REFERENTES!U847<>96321,    REFERENTES!U847<>96222            ),(REFERENTES!W847),\"\")","v":""},{"$f":"REFERENTES!S847","v":0},null,845,0,1130,"X"]
[null,null,null,null,null,null,null,null,null,null,null,null,null,null,null,null,null,null,null,null,null,null,null,null,{"$f":"IF(AND(REFERENTES!U848<>\"\",          REFERENTES!U848<>96321,    REFERENTES!U848<>96222            ),(REFERENTES!W848),\"\")","v":""},{"$f":"REFERENTES!S848","v":0},null,846,0,1130,"X"]
[null,null,null,null,null,null,null,null,null,null,null,null,null,null,null,null,null,null,null,null,null,null,null,null,{"$f":"IF(AND(REFERENTES!U849<>\"\",          REFERENTES!U849<>96321,    REFERENTES!U849<>96222            ),(REFERENTES!W849),\"\")","v":""},{"$f":"REFERENTES!S849","v":0},null,847,0,1130,"X"]
[null,null,null,null,null,null,null,null,null,null,null,null,null,null,null,null,null,null,null,null,null,null,null,null,{"$f":"IF(AND(REFERENTES!U850<>\"\",          REFERENTES!U850<>96321,    REFERENTES!U850<>96222            ),(REFERENTES!W850),\"\")","v":""},{"$f":"REFERENTES!S850","v":0},null,848,0,1130,"X"]
[null,null,null,null,null,null,null,null,null,null,null,null,null,null,null,null,null,null,null,null,null,null,null,null,{"$f":"IF(AND(REFERENTES!U851<>\"\",          REFERENTES!U851<>96321,    REFERENTES!U851<>96222            ),(REFERENTES!W851),\"\")","v":""},{"$f":"REFERENTES!S851","v":0},null,849,0,1130,"X"]
[null,null,null,null,null,null,null,null,null,null,null,null,null,null,null,null,null,null,null,null,null,null,null,null,{"$f":"IF(AND(REFERENTES!U852<>\"\",          REFERENTES!U852<>96321,    REFERENTES!U852<>96222            ),(REFERENTES!W852),\"\")","v":""},{"$f":"REFERENTES!S852","v":0},null,850,0,1130,"X"]
[null,null,null,null,null,null,null,null,null,null,null,null,null,null,null,null,null,null,null,null,null,null,null,null,{"$f":"IF(AND(REFERENTES!U853<>\"\",          REFERENTES!U853<>96321,    REFERENTES!U853<>96222            ),(REFERENTES!W853),\"\")","v":""},{"$f":"REFERENTES!S853","v":0},null,851,0,1130,"X"]
[null,null,null,null,null,null,null,null,null,null,null,null,null,null,null,null,null,null,null,null,null,null,null,null,{"$f":"IF(AND(REFERENTES!U854<>\"\",          REFERENTES!U854<>96321,    REFERENTES!U854<>96222            ),(REFERENTES!W854),\"\")","v":""},{"$f":"REFERENTES!S854","v":0},null,852,0,1130,"X"]
[null,null,null,null,null,null,null,null,null,null,null,null,null,null,null,null,null,null,null,null,null,null,null,null,{"$f":"IF(AND(REFERENTES!U855<>\"\",          REFERENTES!U855<>96321,    REFERENTES!U855<>96222            ),(REFERENTES!W855),\"\")","v":""},{"$f":"REFERENTES!S855","v":0},null,853,0,1130,"X"]
[null,null,null,null,null,null,null,null,null,null,null,null,null,null,null,null,null,null,null,null,null,null,null,null,{"$f":"IF(AND(REFERENTES!U856<>\"\",          REFERENTES!U856<>96321,    REFERENTES!U856<>96222            ),(REFERENTES!W856),\"\")","v":""},{"$f":"REFERENTES!S856","v":0},null,854,0,1130,"X"]
[null,null,null,null,null,null,null,null,null,null,null,null,null,null,null,null,null,null,null,null,null,null,null,null,{"$f":"IF(AND(REFERENTES!U857<>\"\",          REFERENTES!U857<>96321,    REFERENTES!U857<>96222            ),(REFERENTES!W857),\"\")","v":""},{"$f":"REFERENTES!S857","v":0},null,855,0,1130,"X"]
[null,null,null,null,null,null,null,null,null,null,null,null,null,null,null,null,null,null,null,null,null,null,null,null,{"$f":"IF(AND(REFERENTES!U858<>\"\",          REFERENTES!U858<>96321,    REFERENTES!U858<>96222            ),(REFERENTES!W858),\"\")","v":""},{"$f":"REFERENTES!S858","v":0},null,856,0,1130,"X"]
[null,null,null,null,null,null,null,null,null,null,null,null,null,null,null,null,null,null,null,null,null,null,null,null,{"$f":"IF(AND(REFERENTES!U859<>\"\",          REFERENTES!U859<>96321,    REFERENTES!U859<>96222            ),(REFERENTES!W859),\"\")","v":""},{"$f":"REFERENTES!S859","v":0},null,857,0,1130,"X"]
[null,null,null,null,null,null,null,null,null,null,null,null,null,null,null,null,null,null,null,null,null,null,null,null,{"$f":"IF(AND(REFERENTES!U860<>\"\",          REFERENTES!U860<>96321,    REFERENTES!U860<>96222            ),(REFERENTES!W860),\"\")","v":""},{"$f":"REFERENTES!S860","v":0},null,858,0,1130,"X"]
[null,null,null,null,null,null,null,null,null,null,null,null,null,null,null,null,null,null,null,null,null,null,null,null,{"$f":"IF(AND(REFERENTES!U861<>\"\",          REFERENTES!U861<>96321,    REFERENTES!U861<>96222            ),(REFERENTES!W861),\"\")","v":""},{"$f":"REFERENTES!S861","v":0},null,859,0,1130,"X"]
[null,null,null,null,null,null,null,null,null,null,null,null,null,null,null,null,null,null,null,null,null,null,null,null,{"$f":"IF(AND(REFERENTES!U862<>\"\",          REFERENTES!U862<>96321,    REFERENTES!U862<>96222            ),(REFERENTES!W862),\"\")","v":""},{"$f":"REFERENTES!S862","v":0},null,860,0,1130,"X"]
[null,null,null,null,null,null,null,null,null,null,null,null,null,null,null,null,null,null,null,null,null,null,null,null,{"$f":"IF(AND(REFERENTES!U863<>\"\",          REFERENTES!U863<>96321,    REFERENTES!U863<>96222            ),(REFERENTES!W863),\"\")","v":""},{"$f":"REFERENTES!S863","v":0},null,861,0,1130,"X"]
[null,null,null,null,null,null,null,null,null,null,null,null,null,null,null,null,null,null,null,null,null,null,null,null,{"$f":"IF(AND(REFERENTES!U864<>\"\",          REFERENTES!U864<>96321,    REFERENTES!U864<>96222            ),(REFERENTES!W864),\"\")","v":""},{"$f":"REFERENTES!S864","v":0},null,862,0,1130,"X"]
[null,null,null,null,null,null,null,null,null,null,null,null,null,null,null,null,null,null,null,null,null,null,null,null,{"$f":"IF(AND(REFERENTES!U865<>\"\",          REFERENTES!U865<>96321,    REFERENTES!U865<>96222            ),(REFERENTES!W865),\"\")","v":""},{"$f":"REFERENTES!S865","v":0},null,863,0,1130,"X"]
[null,null,null,null,null,null,null,null,null,null,null,null,null,null,null,null,null,null,null,null,null,null,null,null,{"$f":"IF(AND(REFERENTES!U866<>\"\",          REFERENTES!U866<>96321,    REFERENTES!U866<>96222            ),(REFERENTES!W866),\"\")","v":""},{"$f":"REFERENTES!S866","v":0},null,864,0,1130,"X"]
[null,null,null,null,null,null,null,null,null,null,null,null,null,null,null,null,null,null,null,null,null,null,null,null,{"$f":"IF(AND(REFERENTES!U867<>\"\",          REFERENTES!U867<>96321,    REFERENTES!U867<>96222            ),(REFERENTES!W867),\"\")","v":""},{"$f":"REFERENTES!S867","v":0},null,865,0,1130,"X"]
[null,null,null,null,null,null,null,null,null,null,null,null,null,null,null,null,null,null,null,null,null,null,null,null,{"$f":"IF(AND(REFERENTES!U868<>\"\",          REFERENTES!U868<>96321,    REFERENTES!U868<>96222            ),(REFERENTES!W868),\"\")","v":""},{"$f":"REFERENTES!S868","v":0},null,866,0,1130,"X"]
[null,null,null,null,null,null,null,null,null,null,null,null,null,null,null,null,null,null,null,null,null,null,null,null,{"$f":"IF(AND(REFERENTES!U869<>\"\",          REFERENTES!U869<>96321,    REFERENTES!U869<>96222            ),(REFERENTES!W869),\"\")","v":""},{"$f":"REFERENTES!S869","v":0},null,867,0,1130,"X"]
[null,null,null,null,null,null,null,null,null,null,null,null,null,null,null,null,null,null,null,null,null,null,null,null,{"$f":"IF(AND(REFERENTES!U870<>\"\",          REFERENTES!U870<>96321,    REFERENTES!U870<>96222            ),(REFERENTES!W870),\"\")","v":""},{"$f":"REFERENTES!S870","v":0},null,868,0,1130,"X"]
[null,null,null,null,null,null,null,null,null,null,null,null,null,null,null,null,null,null,null,null,null,null,null,null,{"$f":"IF(AND(REFERENTES!U871<>\"\",          REFERENTES!U871<>96321,    REFERENTES!U871<>96222            ),(REFERENTES!W871),\"\")","v":""},{"$f":"REFERENTES!S871","v":0},null,869,0,1130,"X"]
[null,null,null,null,null,null,null,null,null,null,null,null,null,null,null,null,null,null,null,null,null,null,null,null,{"$f":"IF(AND(REFERENTES!U872<>\"\",          REFERENTES!U872<>96321,    REFERENTES!U872<>96222            ),(REFERENTES!W872),\"\")","v":""},{"$f":"REFERENTES!S872","v":0},null,870,0,1130,"X"]
[null,null,null,null,null,null,null,null,null,null,null,null,null,null,null,null,null,null,null,null,null,null,null,null,{"$f":"IF(AND(REFERENTES!U873<>\"\",          REFERENTES!U873<>96321,    REFERENTES!U873<>96222            ),(REFERENTES!W873),\"\")","v":""},{"$f":"REFERENTES!S873","v":0},null,871,0,1130,"X"]
[null,null,null,null,null,null,null,null,null,null,null,null,null,null,null,null,null,null,null,null,null,null,null,null,{"$f":"IF(AND(REFERENTES!U874<>\"\",          REFERENTES!U874<>96321,    REFERENTES!U874<>96222            ),(REFERENTES!W874),\"\")","v":""},{"$f":"REFERENTES!S874","v":0},null,872,0,1130,"X"]
[null,null,null,null,null,null,null,null,null,null,null,null,null,null,null,null,null,null,null,null,null,null,null,null,{"$f":"IF(AND(REFERENTES!U875<>\"\",          REFERENTES!U875<>96321,    REFERENTES!U875<>96222            ),(REFERENTES!W875),\"\")","v":""},{"$f":"REFERENTES!S875","v":0},null,873,0,1130,"X"]
[null,null,null,null,null,null,null,null,null,null,null,null,null,null,null,null,null,null,null,null,null,null,null,null,{"$f":"IF(AND(REFERENTES!U876<>\"\",          REFERENTES!U876<>96321,    REFERENTES!U876<>96222            ),(REFERENTES!W876),\"\")","v":""},{"$f":"REFERENTES!S876","v":0},null,874,0,1130,"X"]
[null,null,null,null,null,null,null,null,null,null,null,null,null,null,null,null,null,null,null,null,null,null,null,null,{"$f":"IF(AND(REFERENTES!U877<>\"\",          REFERENTES!U877<>96321,    REFERENTES!U877<>96222            ),(REFERENTES!W877),\"\")","v":""},{"$f":"REFERENTES!S877","v":0},null,875,0,1130,"X"]
[null,null,null,null,null,null,null,null,null,null,null,null,null,null,null,null,null,null,null,null,null,null,null,null,{"$f":"IF(AND(REFERENTES!U878<>\"\",          REFERENTES!U878<>96321,    REFERENTES!U878<>96222            ),(REFERENTES!W878),\"\")","v":""},{"$f":"REFERENTES!S878","v":0},null,876,0,1130,"X"]
[null,null,null,null,null,null,null,null,null,null,null,null,null,null,null,null,null,null,null,null,null,null,null,null,{"$f":"IF(AND(REFERENTES!U879<>\"\",          REFERENTES!U879<>96321,    REFERENTES!U879<>96222            ),(REFERENTES!W879),\"\")","v":""},{"$f":"REFERENTES!S879","v":0},null,877,0,1130,"X"]
[null,null,null,null,null,null,null,null,null,null,null,null,null,null,null,null,null,null,null,null,null,null,null,null,{"$f":"IF(AND(REFERENTES!U880<>\"\",          REFERENTES!U880<>96321,    REFERENTES!U880<>96222            ),(REFERENTES!W880),\"\")","v":""},{"$f":"REFERENTES!S880","v":0},null,878,0,1130,"X"]
[null,null,null,null,null,null,null,null,null,null,null,null,null,null,null,null,null,null,null,null,null,null,null,null,{"$f":"IF(AND(REFERENTES!U881<>\"\",          REFERENTES!U881<>96321,    REFERENTES!U881<>96222            ),(REFERENTES!W881),\"\")","v":""},{"$f":"REFERENTES!S881","v":0},null,879,0,1130,"X"]
[null,null,null,null,null,null,null,null,null,null,null,null,null,null,null,null,null,null,null,null,null,null,null,null,{"$f":"IF(AND(REFERENTES!U882<>\"\",          REFERENTES!U882<>96321,    REFERENTES!U882<>96222            ),(REFERENTES!W882),\"\")","v":""},{"$f":"REFERENTES!S882","v":0},null,880,0,1130,"X"]
[null,null,null,null,null,null,null,null,null,null,null,null,null,null,null,null,null,null,null,null,null,null,null,null,{"$f":"IF(AND(REFERENTES!U883<>\"\",          REFERENTES!U883<>96321,    REFERENTES!U883<>96222            ),(REFERENTES!W883),\"\")","v":""},{"$f":"REFERENTES!S883","v":0},null,881,0,1130,"X"]
[null,null,null,null,null,null,null,null,null,null,null,null,null,null,null,null,null,null,null,null,null,null,null,null,{"$f":"IF(AND(REFERENTES!U884<>\"\",          REFERENTES!U884<>96321,    REFERENTES!U884<>96222            ),(REFERENTES!W884),\"\")","v":""},{"$f":"REFERENTES!S884","v":0},null,882,0,1130,"X"]
[null,null,null,null,null,null,null,null,null,null,null,null,null,null,null,null,null,null,null,null,null,null,null,null,{"$f":"IF(AND(REFERENTES!U885<>\"\",          REFERENTES!U885<>96321,    REFERENTES!U885<>96222            ),(REFERENTES!W885),\"\")","v":""},{"$f":"REFERENTES!S885","v":0},null,883,0,1130,"X"]
[null,null,null,null,null,null,null,null,null,null,null,null,null,null,null,null,null,null,null,null,null,null,null,null,{"$f":"IF(AND(REFERENTES!U886<>\"\",          REFERENTES!U886<>96321,    REFERENTES!U886<>96222            ),(REFERENTES!W886),\"\")","v":""},{"$f":"REFERENTES!S886","v":0},null,884,0,1130,"X"]
[null,null,null,null,null,null,null,null,null,null,null,null,null,null,null,null,null,null,null,null,null,null,null,null,{"$f":"IF(AND(REFERENTES!U887<>\"\",          REFERENTES!U887<>96321,    REFERENTES!U887<>96222            ),(REFERENTES!W887),\"\")","v":""},{"$f":"REFERENTES!S887","v":0},null,885,0,1130,"X"]
[null,null,null,null,null,null,null,null,null,null,null,null,null,null,null,null,null,null,null,null,null,null,null,null,{"$f":"IF(AND(REFERENTES!U888<>\"\",          REFERENTES!U888<>96321,    REFERENTES!U888<>96222            ),(REFERENTES!W888),\"\")","v":""},{"$f":"REFERENTES!S888","v":0},null,886,0,1130,"X"]
[null,null,null,null,null,null,null,null,null,null,null,null,null,null,null,null,null,null,null,null,null,null,null,null,{"$f":"IF(AND(REFERENTES!U889<>\"\",          REFERENTES!U889<>96321,    REFERENTES!U889<>96222            ),(REFERENTES!W889),\"\")","v":""},{"$f":"REFERENTES!S889","v":0},null,887,0,1130,"X"]
[null,null,null,null,null,null,null,null,null,null,null,null,null,null,null,null,null,null,null,null,null,null,null,null,{"$f":"IF(AND(REFERENTES!U890<>\"\",          REFERENTES!U890<>96321,    REFERENTES!U890<>96222            ),(REFERENTES!W890),\"\")","v":""},{"$f":"REFERENTES!S890","v":0},null,888,0,1130,"X"]
[null,null,null,null,null,null,null,null,null,null,null,null,null,null,null,null,null,null,null,null,null,null,null,null,{"$f":"IF(AND(REFERENTES!U891<>\"\",          REFERENTES!U891<>96321,    REFERENTES!U891<>96222            ),(REFERENTES!W891),\"\")","v":""},{"$f":"REFERENTES!S891","v":0},null,889,0,1130,"X"]
[null,null,null,null,null,null,null,null,null,null,null,null,null,null,null,null,null,null,null,null,null,null,null,null,{"$f":"IF(AND(REFERENTES!U892<>\"\",          REFERENTES!U892<>96321,    REFERENTES!U892<>96222            ),(REFERENTES!W892),\"\")","v":""},{"$f":"REFERENTES!S892","v":0},null,890,0,1130,"X"]
[null,null,null,null,null,null,null,null,null,null,null,null,null,null,null,null,null,null,null,null,null,null,null,null,{"$f":"IF(AND(REFERENTES!U893<>\"\",          REFERENTES!U893<>96321,    REFERENTES!U893<>96222            ),(REFERENTES!W893),\"\")","v":""},{"$f":"REFERENTES!S893","v":0},null,891,0,1130,"X"]
[null,null,null,null,null,null,null,null,null,null,null,null,null,null,null,null,null,null,null,null,null,null,null,null,{"$f":"IF(AND(REFERENTES!U894<>\"\",          REFERENTES!U894<>96321,    REFERENTES!U894<>96222            ),(REFERENTES!W894),\"\")","v":""},{"$f":"REFERENTES!S894","v":0},null,892,0,1130,"X"]
[null,null,null,null,null,null,null,null,null,null,null,null,null,null,null,null,null,null,null,null,null,null,null,null,{"$f":"IF(AND(REFERENTES!U895<>\"\",          REFERENTES!U895<>96321,    REFERENTES!U895<>96222            ),(REFERENTES!W895),\"\")","v":""},{"$f":"REFERENTES!S895","v":0},null,893,0,1130,"X"]
[null,null,null,null,null,null,null,null,null,null,null,null,null,null,null,null,null,null,null,null,null,null,null,null,{"$f":"IF(AND(REFERENTES!U896<>\"\",          REFERENTES!U896<>96321,    REFERENTES!U896<>96222            ),(REFERENTES!W896),\"\")","v":""},{"$f":"REFERENTES!S896","v":0},null,894,0,1130,"X"]
[null,null,null,null,null,null,null,null,null,null,null,null,null,null,null,null,null,null,null,null,null,null,null,null,{"$f":"IF(AND(REFERENTES!U897<>\"\",          REFERENTES!U897<>96321,    REFERENTES!U897<>96222            ),(REFERENTES!W897),\"\")","v":""},{"$f":"REFERENTES!S897","v":0},null,895,0,1130,"X"]
[null,null,null,null,null,null,null,null,null,null,null,null,null,null,null,null,null,null,null,null,null,null,null,null,{"$f":"IF(AND(REFERENTES!U898<>\"\",          REFERENTES!U898<>96321,    REFERENTES!U898<>96222            ),(REFERENTES!W898),\"\")","v":""},{"$f":"REFERENTES!S898","v":0},null,896,0,1130,"X"]
[null,null,null,null,null,null,null,null,null,null,null,null,null,null,null,null,null,null,null,null,null,null,null,null,{"$f":"IF(AND(REFERENTES!U899<>\"\",          REFERENTES!U899<>96321,    REFERENTES!U899<>96222            ),(REFERENTES!W899),\"\")","v":""},{"$f":"REFERENTES!S899","v":0},null,897,0,1130,"X"]
[null,null,null,null,null,null,null,null,null,null,null,null,null,null,null,null,null,null,null,null,null,null,null,null,{"$f":"IF(AND(REFERENTES!U900<>\"\",          REFERENTES!U900<>96321,    REFERENTES!U900<>96222            ),(REFERENTES!W900),\"\")","v":""},{"$f":"REFERENTES!S900","v":0},null,898,{"$f":"IF(Y903=\"\",0,Y903)","v":0},{"$f":"IF(AC904=0,MAX($AB$7:$AB$1135)+1,AB904)","v":1130},{"$f":"IFERROR(VLOOKUP(SMALL($AD$7:$AD$1135,AB904),$AB$7:$AD$1135,2,FALSE),\"X\")","v":"X"}]
[null,null,null,null,null,null,null,null,null,null,null,null,null,null,null,null,null,null,null,null,null,null,null,null,{"$f":"IF(AND(REFERENTES!U901<>\"\",          REFERENTES!U901<>96321,    REFERENTES!U901<>96222            ),(REFERENTES!W901),\"\")","v":""},{"$f":"REFERENTES!S901","v":0},null,899,0,1130,"X"]
[null,null,null,null,null,null,null,null,null,null,null,null,null,null,null,null,null,null,null,null,null,null,null,null,{"$f":"IF(AND(REFERENTES!U902<>\"\",          REFERENTES!U902<>96321,    REFERENTES!U902<>96222            ),(REFERENTES!W902),\"\")","v":""},{"$f":"REFERENTES!S902","v":0},null,900,0,1130,"X"]
[null,null,null,null,null,null,null,null,null,null,null,null,null,null,null,null,null,null,null,null,null,null,null,null,{"$f":"IF(AND(REFERENTES!U903<>\"\",          REFERENTES!U903<>96321,    REFERENTES!U903<>96222            ),(REFERENTES!W903),\"\")","v":""},{"$f":"REFERENTES!S903","v":0},null,901,0,1130,"X"]
[null,null,null,null,null,null,null,null,null,null,null,null,null,null,null,null,null,null,null,null,null,null,null,null,{"$f":"IF(AND(REFERENTES!U904<>\"\",          REFERENTES!U904<>96321,    REFERENTES!U904<>96222            ),(REFERENTES!W904),\"\")","v":""},{"$f":"REFERENTES!S904","v":0},null,902,0,1130,"X"]
[null,null,null,null,null,null,null,null,null,null,null,null,null,null,null,null,null,null,null,null,null,null,null,null,{"$f":"IF(AND(REFERENTES!U905<>\"\",          REFERENTES!U905<>96321,    REFERENTES!U905<>96222            ),(REFERENTES!W905),\"\")","v":""},{"$f":"REFERENTES!S905","v":0},null,903,0,1130,"X"]
[null,null,null,null,null,null,null,null,null,null,null,null,null,null,null,null,null,null,null,null,null,null,null,null,{"$f":"IF(AND(REFERENTES!U906<>\"\",          REFERENTES!U906<>96321,    REFERENTES!U906<>96222            ),(REFERENTES!W906),\"\")","v":""},{"$f":"REFERENTES!S906","v":0},null,904,0,1130,"X"]
[null,null,null,null,null,null,null,null,null,null,null,null,null,null,null,null,null,null,null,null,null,null,null,null,{"$f":"IF(AND(REFERENTES!U907<>\"\",          REFERENTES!U907<>96321,    REFERENTES!U907<>96222            ),(REFERENTES!W907),\"\")","v":""},{"$f":"REFERENTES!S907","v":0},null,905,0,1130,"X"]
[null,null,null,null,null,null,null,null,null,null,null,null,null,null,null,null,null,null,null,null,null,null,null,null,{"$f":"IF(AND(REFERENTES!U908<>\"\",          REFERENTES!U908<>96321,    REFERENTES!U908<>96222            ),(REFERENTES!W908),\"\")","v":""},{"$f":"REFERENTES!S908","v":0},null,906,0,1130,"X"]
[null,null,null,null,null,null,null,null,null,null,null,null,null,null,null,null,null,null,null,null,null,null,null,null,{"$f":"IF(AND(REFERENTES!U909<>\"\",          REFERENTES!U909<>96321,    REFERENTES!U909<>96222            ),(REFERENTES!W909),\"\")","v":""},{"$f":"REFERENTES!S909","v":0},null,907,0,1130,"X"]
[null,null,null,null,null,null,null,null,null,null,null,null,null,null,null,null,null,null,null,null,null,null,null,null,{"$f":"IF(AND(REFERENTES!U910<>\"\",          REFERENTES!U910<>96321,    REFERENTES!U910<>96222            ),(REFERENTES!W910),\"\")","v":""},{"$f":"REFERENTES!S910","v":0},null,908,0,1130,"X"]
[null,null,null,null,null,null,null,null,null,null,null,null,null,null,null,null,null,null,null,null,null,null,null,null,{"$f":"IF(AND(REFERENTES!U911<>\"\",          REFERENTES!U911<>96321,    REFERENTES!U911<>96222            ),(REFERENTES!W911),\"\")","v":""},{"$f":"REFERENTES!S911","v":0},null,909,0,1130,"X"]
[null,null,null,null,null,null,null,null,null,null,null,null,null,null,null,null,null,null,null,null,null,null,null,null,{"$f":"IF(AND(REFERENTES!U912<>\"\",          REFERENTES!U912<>96321,    REFERENTES!U912<>96222            ),(REFERENTES!W912),\"\")","v":""},{"$f":"REFERENTES!S912","v":0},null,910,0,1130,"X"]
[null,null,null,null,null,null,null,null,null,null,null,null,null,null,null,null,null,null,null,null,null,null,null,null,{"$f":"IF(AND(REFERENTES!U913<>\"\",          REFERENTES!U913<>96321,    REFERENTES!U913<>96222            ),(REFERENTES!W913),\"\")","v":""},{"$f":"REFERENTES!S913","v":0},null,911,0,1130,"X"]
[null,null,null,null,null,null,null,null,null,null,null,null,null,null,null,null,null,null,null,null,null,null,null,null,{"$f":"IF(AND(REFERENTES!U914<>\"\",          REFERENTES!U914<>96321,    REFERENTES!U914<>96222            ),(REFERENTES!W914),\"\")","v":""},{"$f":"REFERENTES!S914","v":0},null,912,0,1130,"X"]
[null,null,null,null,null,null,null,null,null,null,null,null,null,null,null,null,null,null,null,null,null,null,null,null,{"$f":"IF(AND(REFERENTES!U915<>\"\",          REFERENTES!U915<>96321,    REFERENTES!U915<>96222            ),(REFERENTES!W915),\"\")","v":""},{"$f":"REFERENTES!S915","v":0},null,913,0,1130,"X"]
[null,null,null,null,null,null,null,null,null,null,null,null,null,null,null,null,null,null,null,null,null,null,null,null,{"$f":"IF(AND(REFERENTES!U916<>\"\",          REFERENTES!U916<>96321,    REFERENTES!U916<>96222            ),(REFERENTES!W916),\"\")","v":""},{"$f":"REFERENTES!S916","v":0},null,914,0,1130,"X"]
[null,null,null,null,null,null,null,null,null,null,null,null,null,null,null,null,null,null,null,null,null,null,null,null,{"$f":"IF(AND(REFERENTES!U917<>\"\",          REFERENTES!U917<>96321,    REFERENTES!U917<>96222            ),(REFERENTES!W917),\"\")","v":""},{"$f":"REFERENTES!S917","v":0},null,915,0,1130,"X"]
[null,null,null,null,null,null,null,null,null,null,null,null,null,null,null,null,null,null,null,null,null,null,null,null,{"$f":"IF(AND(REFERENTES!U918<>\"\",          REFERENTES!U918<>96321,    REFERENTES!U918<>96222            ),(REFERENTES!W918),\"\")","v":""},{"$f":"REFERENTES!S918","v":0},null,916,0,1130,"X"]
[null,null,null,null,null,null,null,null,null,null,null,null,null,null,null,null,null,null,null,null,null,null,null,null,{"$f":"IF(AND(REFERENTES!U919<>\"\",          REFERENTES!U919<>96321,    REFERENTES!U919<>96222            ),(REFERENTES!W919),\"\")","v":""},{"$f":"REFERENTES!S919","v":0},null,917,0,1130,"X"]
[null,null,null,null,null,null,null,null,null,null,null,null,null,null,null,null,null,null,null,null,null,null,null,null,{"$f":"IF(AND(REFERENTES!U920<>\"\",          REFERENTES!U920<>96321,    REFERENTES!U920<>96222            ),(REFERENTES!W920),\"\")","v":""},{"$f":"REFERENTES!S920","v":0},null,918,0,1130,"X"]
[null,null,null,null,null,null,null,null,null,null,null,null,null,null,null,null,null,null,null,null,null,null,null,null,{"$f":"IF(AND(REFERENTES!U921<>\"\",          REFERENTES!U921<>96321,    REFERENTES!U921<>96222            ),(REFERENTES!W921),\"\")","v":""},{"$f":"REFERENTES!S921","v":0},null,919,0,1130,"X"]
[null,null,null,null,null,null,null,null,null,null,null,null,null,null,null,null,null,null,null,null,null,null,null,null,{"$f":"IF(AND(REFERENTES!U922<>\"\",          REFERENTES!U922<>96321,    REFERENTES!U922<>96222            ),(REFERENTES!W922),\"\")","v":""},{"$f":"REFERENTES!S922","v":0},null,920,0,1130,"X"]
[null,null,null,null,null,null,null,null,null,null,null,null,null,null,null,null,null,null,null,null,null,null,null,null,{"$f":"IF(AND(REFERENTES!U923<>\"\",          REFERENTES!U923<>96321,    REFERENTES!U923<>96222            ),(REFERENTES!W923),\"\")","v":""},{"$f":"REFERENTES!S923","v":0},null,921,0,1130,"X"]
[null,null,null,null,null,null,null,null,null,null,null,null,null,null,null,null,null,null,null,null,null,null,null,null,{"$f":"IF(AND(REFERENTES!U924<>\"\",          REFERENTES!U924<>96321,    REFERENTES!U924<>96222            ),(REFERENTES!W924),\"\")","v":""},{"$f":"REFERENTES!S924","v":0},null,922,0,1130,"X"]
[null,null,null,null,null,null,null,null,null,null,null,null,null,null,null,null,null,null,null,null,null,null,null,null,{"$f":"IF(AND(REFERENTES!U925<>\"\",          REFERENTES!U925<>96321,    REFERENTES!U925<>96222            ),(REFERENTES!W925),\"\")","v":""},{"$f":"REFERENTES!S925","v":0},null,923,0,1130,"X"]
[null,null,null,null,null,null,null,null,null,null,null,null,null,null,null,null,null,null,null,null,null,null,null,null,{"$f":"IF(AND(REFERENTES!U926<>\"\",          REFERENTES!U926<>96321,    REFERENTES!U926<>96222            ),(REFERENTES!W926),\"\")","v":""},{"$f":"REFERENTES!S926","v":0},null,924,0,1130,"X"]
[null,null,null,null,null,null,null,null,null,null,null,null,null,null,null,null,null,null,null,null,null,null,null,null,{"$f":"IF(AND(REFERENTES!U927<>\"\",          REFERENTES!U927<>96321,    REFERENTES!U927<>96222            ),(REFERENTES!W927),\"\")","v":""},{"$f":"REFERENTES!S927","v":0},null,925,0,1130,"X"]
[null,null,null,null,null,null,null,null,null,null,null,null,null,null,null,null,null,null,null,null,null,null,null,null,{"$f":"IF(AND(REFERENTES!U928<>\"\",          REFERENTES!U928<>96321,    REFERENTES!U928<>96222            ),(REFERENTES!W928),\"\")","v":""},{"$f":"REFERENTES!S928","v":0},null,926,0,1130,"X"]
[null,null,null,null,null,null,null,null,null,null,null,null,null,null,null,null,null,null,null,null,null,null,null,null,{"$f":"IF(AND(REFERENTES!U929<>\"\",          REFERENTES!U929<>96321,    REFERENTES!U929<>96222            ),(REFERENTES!W929),\"\")","v":""},{"$f":"REFERENTES!S929","v":0},null,927,0,1130,"X"]
[null,null,null,null,null,null,null,null,null,null,null,null,null,null,null,null,null,null,null,null,null,null,null,null,{"$f":"IF(AND(REFERENTES!U930<>\"\",          REFERENTES!U930<>96321,    REFERENTES!U930<>96222            ),(REFERENTES!W930),\"\")","v":""},{"$f":"REFERENTES!S930","v":0},null,928,0,1130,"X"]
[null,null,null,null,null,null,null,null,null,null,null,null,null,null,null,null,null,null,null,null,null,null,null,null,{"$f":"IF(AND(REFERENTES!U931<>\"\",          REFERENTES!U931<>96321,    REFERENTES!U931<>96222            ),(REFERENTES!W931),\"\")","v":""},{"$f":"REFERENTES!S931","v":0},null,929,0,1130,"X"]
[null,null,null,null,null,null,null,null,null,null,null,null,null,null,null,null,null,null,null,null,null,null,null,null,{"$f":"IF(AND(REFERENTES!U932<>\"\",          REFERENTES!U932<>96321,    REFERENTES!U932<>96222            ),(REFERENTES!W932),\"\")","v":""},{"$f":"REFERENTES!S932","v":0},null,930,0,1130,"X"]
[null,null,null,null,null,null,null,null,null,null,null,null,null,null,null,null,null,null,null,null,null,null,null,null,{"$f":"IF(AND(REFERENTES!U933<>\"\",          REFERENTES!U933<>96321,    REFERENTES!U933<>96222            ),(REFERENTES!W933),\"\")","v":""},{"$f":"REFERENTES!S933","v":0},null,931,0,1130,"X"]
[null,null,null,null,null,null,null,null,null,null,null,null,null,null,null,null,null,null,null,null,null,null,null,null,{"$f":"IF(AND(REFERENTES!U934<>\"\",          REFERENTES!U934<>96321,    REFERENTES!U934<>96222            ),(REFERENTES!W934),\"\")","v":""},{"$f":"REFERENTES!S934","v":0},null,932,0,1130,"X"]
[null,null,null,null,null,null,null,null,null,null,null,null,null,null,null,null,null,null,null,null,null,null,null,null,{"$f":"IF(AND(REFERENTES!U935<>\"\",          REFERENTES!U935<>96321,    REFERENTES!U935<>96222            ),(REFERENTES!W935),\"\")","v":""},{"$f":"REFERENTES!S935","v":0},null,933,0,1130,"X"]
[null,null,null,null,null,null,null,null,null,null,null,null,null,null,null,null,null,null,null,null,null,null,null,null,{"$f":"IF(AND(REFERENTES!U936<>\"\",          REFERENTES!U936<>96321,    REFERENTES!U936<>96222            ),(REFERENTES!W936),\"\")","v":""},{"$f":"REFERENTES!S936","v":0},null,934,0,1130,"X"]
[null,null,null,null,null,null,null,null,null,null,null,null,null,null,null,null,null,null,null,null,null,null,null,null,{"$f":"IF(AND(REFERENTES!U937<>\"\",          REFERENTES!U937<>96321,    REFERENTES!U937<>96222            ),(REFERENTES!W937),\"\")","v":""},{"$f":"REFERENTES!S937","v":0},null,935,0,1130,"X"]
[null,null,null,null,null,null,null,null,null,null,null,null,null,null,null,null,null,null,null,null,null,null,null,null,{"$f":"IF(AND(REFERENTES!U938<>\"\",          REFERENTES!U938<>96321,    REFERENTES!U938<>96222            ),(REFERENTES!W938),\"\")","v":""},{"$f":"REFERENTES!S938","v":0},null,936,0,1130,"X"]
[null,null,null,null,null,null,null,null,null,null,null,null,null,null,null,null,null,null,null,null,null,null,null,null,{"$f":"IF(AND(REFERENTES!U939<>\"\",          REFERENTES!U939<>96321,    REFERENTES!U939<>96222            ),(REFERENTES!W939),\"\")","v":""},{"$f":"REFERENTES!S939","v":0},null,937,0,1130,"X"]
[null,null,null,null,null,null,null,null,null,null,null,null,null,null,null,null,null,null,null,null,null,null,null,null,{"$f":"IF(AND(REFERENTES!U940<>\"\",          REFERENTES!U940<>96321,    REFERENTES!U940<>96222            ),(REFERENTES!W940),\"\")","v":""},{"$f":"REFERENTES!S940","v":0},null,938,0,1130,"X"]
[null,null,null,null,null,null,null,null,null,null,null,null,null,null,null,null,null,null,null,null,null,null,null,null,{"$f":"IF(AND(REFERENTES!U941<>\"\",          REFERENTES!U941<>96321,    REFERENTES!U941<>96222            ),(REFERENTES!W941),\"\")","v":""},{"$f":"REFERENTES!S941","v":0},null,939,0,1130,"X"]
[null,null,null,null,null,null,null,null,null,null,null,null,null,null,null,null,null,null,null,null,null,null,null,null,{"$f":"IF(AND(REFERENTES!U942<>\"\",          REFERENTES!U942<>96321,    REFERENTES!U942<>96222            ),(REFERENTES!W942),\"\")","v":""},{"$f":"REFERENTES!S942","v":0},null,940,0,1130,"X"]
[null,null,null,null,null,null,null,null,null,null,null,null,null,null,null,null,null,null,null,null,null,null,null,null,{"$f":"IF(AND(REFERENTES!U943<>\"\",          REFERENTES!U943<>96321,    REFERENTES!U943<>96222            ),(REFERENTES!W943),\"\")","v":""},{"$f":"REFERENTES!S943","v":0},null,941,0,1130,"X"]
[null,null,null,null,null,null,null,null,null,null,null,null,null,null,null,null,null,null,null,null,null,null,null,null,{"$f":"IF(AND(REFERENTES!U944<>\"\",          REFERENTES!U944<>96321,    REFERENTES!U944<>96222            ),(REFERENTES!W944),\"\")","v":""},{"$f":"REFERENTES!S944","v":0},null,942,0,1130,"X"]
[null,null,null,null,null,null,null,null,null,null,null,null,null,null,null,null,null,null,null,null,null,null,null,null,{"$f":"IF(AND(REFERENTES!U945<>\"\",          REFERENTES!U945<>96321,    REFERENTES!U945<>96222            ),(REFERENTES!W945),\"\")","v":""},{"$f":"REFERENTES!S945","v":0},null,943,0,1130,"X"]
[null,null,null,null,null,null,null,null,null,null,null,null,null,null,null,null,null,null,null,null,null,null,null,null,{"$f":"IF(AND(REFERENTES!U946<>\"\",          REFERENTES!U946<>96321,    REFERENTES!U946<>96222            ),(REFERENTES!W946),\"\")","v":""},{"$f":"REFERENTES!S946","v":0},null,944,0,1130,"X"]
[null,null,null,null,null,null,null,null,null,null,null,null,null,null,null,null,null,null,null,null,null,null,null,null,{"$f":"IF(AND(REFERENTES!U947<>\"\",          REFERENTES!U947<>96321,    REFERENTES!U947<>96222            ),(REFERENTES!W947),\"\")","v":""},{"$f":"REFERENTES!S947","v":0},null,945,0,1130,"X"]
[null,null,null,null,null,null,null,null,null,null,null,null,null,null,null,null,null,null,null,null,null,null,null,null,{"$f":"IF(AND(REFERENTES!U948<>\"\",          REFERENTES!U948<>96321,    REFERENTES!U948<>96222            ),(REFERENTES!W948),\"\")","v":""},{"$f":"REFERENTES!S948","v":0},null,946,0,1130,"X"]
[null,null,null,null,null,null,null,null,null,null,null,null,null,null,null,null,null,null,null,null,null,null,null,null,{"$f":"IF(AND(REFERENTES!U949<>\"\",          REFERENTES!U949<>96321,    REFERENTES!U949<>96222            ),(REFERENTES!W949),\"\")","v":""},{"$f":"REFERENTES!S949","v":0},null,947,0,1130,"X"]
[null,null,null,null,null,null,null,null,null,null,null,null,null,null,null,null,null,null,null,null,null,null,null,null,{"$f":"IF(AND(REFERENTES!U950<>\"\",          REFERENTES!U950<>96321,    REFERENTES!U950<>96222            ),(REFERENTES!W950),\"\")","v":""},{"$f":"REFERENTES!S950","v":0},null,948,0,1130,"X"]
[null,null,null,null,null,null,null,null,null,null,null,null,null,null,null,null,null,null,null,null,null,null,null,null,{"$f":"IF(AND(REFERENTES!U951<>\"\",          REFERENTES!U951<>96321,    REFERENTES!U951<>96222            ),(REFERENTES!W951),\"\")","v":""},{"$f":"REFERENTES!S951","v":0},null,949,0,1130,"X"]
[null,null,null,null,null,null,null,null,null,null,null,null,null,null,null,null,null,null,null,null,null,null,null,null,{"$f":"IF(AND(REFERENTES!U952<>\"\",          REFERENTES!U952<>96321,    REFERENTES!U952<>96222            ),(REFERENTES!W952),\"\")","v":""},{"$f":"REFERENTES!S952","v":0},null,950,0,1130,"X"]
[null,null,null,null,null,null,null,null,null,null,null,null,null,null,null,null,null,null,null,null,null,null,null,null,{"$f":"IF(AND(REFERENTES!U953<>\"\",          REFERENTES!U953<>96321,    REFERENTES!U953<>96222            ),(REFERENTES!W953),\"\")","v":""},{"$f":"REFERENTES!S953","v":0},null,951,0,1130,"X"]
[null,null,null,null,null,null,null,null,null,null,null,null,null,null,null,null,null,null,null,null,null,null,null,null,{"$f":"IF(AND(REFERENTES!U954<>\"\",          REFERENTES!U954<>96321,    REFERENTES!U954<>96222            ),(REFERENTES!W954),\"\")","v":""},{"$f":"REFERENTES!S954","v":0},null,952,0,1130,"X"]
[null,null,null,null,null,null,null,null,null,null,null,null,null,null,null,null,null,null,null,null,null,null,null,null,{"$f":"IF(AND(REFERENTES!U955<>\"\",          REFERENTES!U955<>96321,    REFERENTES!U955<>96222            ),(REFERENTES!W955),\"\")","v":""},{"$f":"REFERENTES!S955","v":0},null,953,0,1130,"X"]
[null,null,null,null,null,null,null,null,null,null,null,null,null,null,null,null,null,null,null,null,null,null,null,null,{"$f":"IF(AND(REFERENTES!U956<>\"\",          REFERENTES!U956<>96321,    REFERENTES!U956<>96222            ),(REFERENTES!W956),\"\")","v":""},{"$f":"REFERENTES!S956","v":0},null,954,0,1130,"X"]
[null,null,null,null,null,null,null,null,null,null,null,null,null,null,null,null,null,null,null,null,null,null,null,null,{"$f":"IF(AND(REFERENTES!U957<>\"\",          REFERENTES!U957<>96321,    REFERENTES!U957<>96222            ),(REFERENTES!W957),\"\")","v":""},{"$f":"REFERENTES!S957","v":0},null,955,0,1130,"X"]
[null,null,null,null,null,null,null,null,null,null,null,null,null,null,null,null,null,null,null,null,null,null,null,null,{"$f":"IF(AND(REFERENTES!U958<>\"\",          REFERENTES!U958<>96321,    REFERENTES!U958<>96222            ),(REFERENTES!W958),\"\")","v":""},{"$f":"REFERENTES!S958","v":0},null,956,0,1130,"X"]
[null,null,null,null,null,null,null,null,null,null,null,null,null,null,null,null,null,null,null,null,null,null,null,null,{"$f":"IF(AND(REFERENTES!U959<>\"\",          REFERENTES!U959<>96321,    REFERENTES!U959<>96222            ),(REFERENTES!W959),\"\")","v":""},{"$f":"REFERENTES!S959","v":0},null,957,0,1130,"X"]
[null,null,null,null,null,null,null,null,null,null,null,null,null,null,null,null,null,null,null,null,null,null,null,null,{"$f":"IF(AND(REFERENTES!U960<>\"\",          REFERENTES!U960<>96321,    REFERENTES!U960<>96222            ),(REFERENTES!W960),\"\")","v":""},{"$f":"REFERENTES!S960","v":0},null,958,0,1130,"X"]
[null,null,null,null,null,null,null,null,null,null,null,null,null,null,null,null,null,null,null,null,null,null,null,null,{"$f":"IF(AND(REFERENTES!U961<>\"\",          REFERENTES!U961<>96321,    REFERENTES!U961<>96222            ),(REFERENTES!W961),\"\")","v":""},{"$f":"REFERENTES!S961","v":0},null,959,0,1130,"X"]
[null,null,null,null,null,null,null,null,null,null,null,null,null,null,null,null,null,null,null,null,null,null,null,null,{"$f":"IF(AND(REFERENTES!U962<>\"\",          REFERENTES!U962<>96321,    REFERENTES!U962<>96222            ),(REFERENTES!W962),\"\")","v":""},{"$f":"REFERENTES!S962","v":0},null,960,0,1130,"X"]
[null,null,null,null,null,null,null,null,null,null,null,null,null,null,null,null,null,null,null,null,null,null,null,null,{"$f":"IF(AND(REFERENTES!U963<>\"\",          REFERENTES!U963<>96321,    REFERENTES!U963<>96222            ),(REFERENTES!W963),\"\")","v":""},{"$f":"REFERENTES!S963","v":0},null,961,0,1130,"X"]
[null,null,null,null,null,null,null,null,null,null,null,null,null,null,null,null,null,null,null,null,null,null,null,null,{"$f":"IF(AND(REFERENTES!U964<>\"\",          REFERENTES!U964<>96321,    REFERENTES!U964<>96222            ),(REFERENTES!W964),\"\")","v":""},{"$f":"REFERENTES!S964","v":0},null,962,{"$f":"IF(Y967=\"\",0,Y967)","v":0},{"$f":"IF(AC968=0,MAX($AB$7:$AB$1135)+1,AB968)","v":1130},{"$f":"IFERROR(VLOOKUP(SMALL($AD$7:$AD$1135,AB968),$AB$7:$AD$1135,2,FALSE),\"X\")","v":"X"}]
[null,null,null,null,null,null,null,null,null,null,null,null,null,null,null,null,null,null,null,null,null,null,null,null,{"$f":"IF(AND(REFERENTES!U965<>\"\",          REFERENTES!U965<>96321,    REFERENTES!U965<>96222            ),(REFERENTES!W965),\"\")","v":""},{"$f":"REFERENTES!S965","v":0},null,963,0,1130,"X"]
[null,null,null,null,null,null,null,null,null,null,null,null,null,null,null,null,null,null,null,null,null,null,null,null,{"$f":"IF(AND(REFERENTES!U966<>\"\",          REFERENTES!U966<>96321,    REFERENTES!U966<>96222            ),(REFERENTES!W966),\"\")","v":""},{"$f":"REFERENTES!S966","v":0},null,964,0,1130,"X"]
[null,null,null,null,null,null,null,null,null,null,null,null,null,null,null,null,null,null,null,null,null,null,null,null,{"$f":"IF(AND(REFERENTES!U967<>\"\",          REFERENTES!U967<>96321,    REFERENTES!U967<>96222            ),(REFERENTES!W967),\"\")","v":""},{"$f":"REFERENTES!S967","v":0},null,965,0,1130,"X"]
[null,null,null,null,null,null,null,null,null,null,null,null,null,null,null,null,null,null,null,null,null,null,null,null,{"$f":"IF(AND(REFERENTES!U968<>\"\",          REFERENTES!U968<>96321,    REFERENTES!U968<>96222            ),(REFERENTES!W968),\"\")","v":""},{"$f":"REFERENTES!S968","v":0},null,966,0,1130,"X"]
[null,null,null,null,null,null,null,null,null,null,null,null,null,null,null,null,null,null,null,null,null,null,null,null,{"$f":"IF(AND(REFERENTES!U969<>\"\",          REFERENTES!U969<>96321,    REFERENTES!U969<>96222            ),(REFERENTES!W969),\"\")","v":""},{"$f":"REFERENTES!S969","v":0},null,967,0,1130,"X"]
[null,null,null,null,null,null,null,null,null,null,null,null,null,null,null,null,null,null,null,null,null,null,null,null,{"$f":"IF(AND(REFERENTES!U970<>\"\",          REFERENTES!U970<>96321,    REFERENTES!U970<>96222            ),(REFERENTES!W970),\"\")","v":""},{"$f":"REFERENTES!S970","v":0},null,968,0,1130,"X"]
[null,null,null,null,null,null,null,null,null,null,null,null,null,null,null,null,null,null,null,null,null,null,null,null,{"$f":"IF(AND(REFERENTES!U971<>\"\",          REFERENTES!U971<>96321,    REFERENTES!U971<>96222            ),(REFERENTES!W971),\"\")","v":""},{"$f":"REFERENTES!S971","v":0},null,969,0,1130,"X"]
[null,null,null,null,null,null,null,null,null,null,null,null,null,null,null,null,null,null,null,null,null,null,null,null,{"$f":"IF(AND(REFERENTES!U972<>\"\",          REFERENTES!U972<>96321,    REFERENTES!U972<>96222            ),(REFERENTES!W972),\"\")","v":""},{"$f":"REFERENTES!S972","v":0},null,970,0,1130,"X"]
[null,null,null,null,null,null,null,null,null,null,null,null,null,null,null,null,null,null,null,null,null,null,null,null,{"$f":"IF(AND(REFERENTES!U973<>\"\",          REFERENTES!U973<>96321,    REFERENTES!U973<>96222            ),(REFERENTES!W973),\"\")","v":""},{"$f":"REFERENTES!S973","v":0},null,971,0,1130,"X"]
[null,null,null,null,null,null,null,null,null,null,null,null,null,null,null,null,null,null,null,null,null,null,null,null,{"$f":"IF(AND(REFERENTES!U974<>\"\",          REFERENTES!U974<>96321,    REFERENTES!U974<>96222            ),(REFERENTES!W974),\"\")","v":""},{"$f":"REFERENTES!S974","v":0},null,972,0,1130,"X"]
[null,null,null,null,null,null,null,null,null,null,null,null,null,null,null,null,null,null,null,null,null,null,null,null,{"$f":"IF(AND(REFERENTES!U975<>\"\",          REFERENTES!U975<>96321,    REFERENTES!U975<>96222            ),(REFERENTES!W975),\"\")","v":""},{"$f":"REFERENTES!S975","v":0},null,973,0,1130,"X"]
[null,null,null,null,null,null,null,null,null,null,null,null,null,null,null,null,null,null,null,null,null,null,null,null,{"$f":"IF(AND(REFERENTES!U976<>\"\",          REFERENTES!U976<>96321,    REFERENTES!U976<>96222            ),(REFERENTES!W976),\"\")","v":""},{"$f":"REFERENTES!S976","v":0},null,974,0,1130,"X"]
[null,null,null,null,null,null,null,null,null,null,null,null,null,null,null,null,null,null,null,null,null,null,null,null,{"$f":"IF(AND(REFERENTES!U977<>\"\",          REFERENTES!U977<>96321,    REFERENTES!U977<>96222            ),(REFERENTES!W977),\"\")","v":""},{"$f":"REFERENTES!S977","v":0},null,975,0,1130,"X"]
[null,null,null,null,null,null,null,null,null,null,null,null,null,null,null,null,null,null,null,null,null,null,null,null,{"$f":"IF(AND(REFERENTES!U978<>\"\",          REFERENTES!U978<>96321,    REFERENTES!U978<>96222            ),(REFERENTES!W978),\"\")","v":""},{"$f":"REFERENTES!S978","v":0},null,976,0,1130,"X"]
[null,null,null,null,null,null,null,null,null,null,null,null,null,null,null,null,null,null,null,null,null,null,null,null,{"$f":"IF(AND(REFERENTES!U979<>\"\",          REFERENTES!U979<>96321,    REFERENTES!U979<>96222            ),(REFERENTES!W979),\"\")","v":""},{"$f":"REFERENTES!S979","v":0},null,977,0,1130,"X"]
[null,null,null,null,null,null,null,null,null,null,null,null,null,null,null,null,null,null,null,null,null,null,null,null,{"$f":"IF(AND(REFERENTES!U980<>\"\",          REFERENTES!U980<>96321,    REFERENTES!U980<>96222            ),(REFERENTES!W980),\"\")","v":""},{"$f":"REFERENTES!S980","v":0},null,978,0,1130,"X"]
[null,null,null,null,null,null,null,null,null,null,null,null,null,null,null,null,null,null,null,null,null,null,null,null,{"$f":"IF(AND(REFERENTES!U981<>\"\",          REFERENTES!U981<>96321,    REFERENTES!U981<>96222            ),(REFERENTES!W981),\"\")","v":""},{"$f":"REFERENTES!S981","v":0},null,979,0,1130,"X"]
[null,null,null,null,null,null,null,null,null,null,null,null,null,null,null,null,null,null,null,null,null,null,null,null,{"$f":"IF(AND(REFERENTES!U982<>\"\",          REFERENTES!U982<>96321,    REFERENTES!U982<>96222            ),(REFERENTES!W982),\"\")","v":""},{"$f":"REFERENTES!S982","v":0},null,980,0,1130,"X"]
[null,null,null,null,null,null,null,null,null,null,null,null,null,null,null,null,null,null,null,null,null,null,null,null,{"$f":"IF(AND(REFERENTES!U983<>\"\",          REFERENTES!U983<>96321,    REFERENTES!U983<>96222            ),(REFERENTES!W983),\"\")","v":""},{"$f":"REFERENTES!S983","v":0},null,981,0,1130,"X"]
[null,null,null,null,null,null,null,null,null,null,null,null,null,null,null,null,null,null,null,null,null,null,null,null,{"$f":"IF(AND(REFERENTES!U984<>\"\",          REFERENTES!U984<>96321,    REFERENTES!U984<>96222            ),(REFERENTES!W984),\"\")","v":""},{"$f":"REFERENTES!S984","v":0},null,982,0,1130,"X"]
[null,null,null,null,null,null,null,null,null,null,null,null,null,null,null,null,null,null,null,null,null,null,null,null,{"$f":"IF(AND(REFERENTES!U985<>\"\",          REFERENTES!U985<>96321,    REFERENTES!U985<>96222            ),(REFERENTES!W985),\"\")","v":""},{"$f":"REFERENTES!S985","v":0},null,983,0,1130,"X"]
[null,null,null,null,null,null,null,null,null,null,null,null,null,null,null,null,null,null,null,null,null,null,null,null,{"$f":"IF(AND(REFERENTES!U986<>\"\",          REFERENTES!U986<>96321,    REFERENTES!U986<>96222            ),(REFERENTES!W986),\"\")","v":""},{"$f":"REFERENTES!S986","v":0},null,984,0,1130,"X"]
[null,null,null,null,null,null,null,null,null,null,null,null,null,null,null,null,null,null,null,null,null,null,null,null,{"$f":"IF(AND(REFERENTES!U987<>\"\",          REFERENTES!U987<>96321,    REFERENTES!U987<>96222            ),(REFERENTES!W987),\"\")","v":""},{"$f":"REFERENTES!S987","v":0},null,985,0,1130,"X"]
[null,null,null,null,null,null,null,null,null,null,null,null,null,null,null,null,null,null,null,null,null,null,null,null,{"$f":"IF(AND(REFERENTES!U988<>\"\",          REFERENTES!U988<>96321,    REFERENTES!U988<>96222            ),(REFERENTES!W988),\"\")","v":""},{"$f":"REFERENTES!S988","v":0},null,986,0,1130,"X"]
[null,null,null,null,null,null,null,null,null,null,null,null,null,null,null,null,null,null,null,null,null,null,null,null,{"$f":"IF(AND(REFERENTES!U989<>\"\",          REFERENTES!U989<>96321,    REFERENTES!U989<>96222            ),(REFERENTES!W989),\"\")","v":""},{"$f":"REFERENTES!S989","v":0},null,987,0,1130,"X"]
[null,null,null,null,null,null,null,null,null,null,null,null,null,null,null,null,null,null,null,null,null,null,null,null,{"$f":"IF(AND(REFERENTES!U990<>\"\",          REFERENTES!U990<>96321,    REFERENTES!U990<>96222            ),(REFERENTES!W990),\"\")","v":""},{"$f":"REFERENTES!S990","v":0},null,988,0,1130,"X"]
[null,null,null,null,null,null,null,null,null,null,null,null,null,null,null,null,null,null,null,null,null,null,null,null,{"$f":"IF(AND(REFERENTES!U991<>\"\",          REFERENTES!U991<>96321,    REFERENTES!U991<>96222            ),(REFERENTES!W991),\"\")","v":""},{"$f":"REFERENTES!S991","v":0},null,989,0,1130,"X"]
[null,null,null,null,null,null,null,null,null,null,null,null,null,null,null,null,null,null,null,null,null,null,null,null,{"$f":"IF(AND(REFERENTES!U992<>\"\",          REFERENTES!U992<>96321,    REFERENTES!U992<>96222            ),(REFERENTES!W992),\"\")","v":""},{"$f":"REFERENTES!S992","v":0},null,990,0,1130,"X"]
[null,null,null,null,null,null,null,null,null,null,null,null,null,null,null,null,null,null,null,null,null,null,null,null,{"$f":"IF(AND(REFERENTES!U993<>\"\",          REFERENTES!U993<>96321,    REFERENTES!U993<>96222            ),(REFERENTES!W993),\"\")","v":""},{"$f":"REFERENTES!S993","v":0},null,991,0,1130,"X"]
[null,null,null,null,null,null,null,null,null,null,null,null,null,null,null,null,null,null,null,null,null,null,null,null,{"$f":"IF(AND(REFERENTES!U994<>\"\",          REFERENTES!U994<>96321,    REFERENTES!U994<>96222            ),(REFERENTES!W994),\"\")","v":""},{"$f":"REFERENTES!S994","v":0},null,992,0,1130,"X"]
[null,null,null,null,null,null,null,null,null,null,null,null,null,null,null,null,null,null,null,null,null,null,null,null,{"$f":"IF(AND(REFERENTES!U995<>\"\",          REFERENTES!U995<>96321,    REFERENTES!U995<>96222            ),(REFERENTES!W995),\"\")","v":""},{"$f":"REFERENTES!S995","v":0},null,993,0,1130,"X"]
[null,null,null,null,null,null,null,null,null,null,null,null,null,null,null,null,null,null,null,null,null,null,null,null,{"$f":"IF(AND(REFERENTES!U996<>\"\",          REFERENTES!U996<>96321,    REFERENTES!U996<>96222            ),(REFERENTES!W996),\"\")","v":""},{"$f":"REFERENTES!S996","v":0},null,994,0,1130,"X"]
[null,null,null,null,null,null,null,null,null,null,null,null,null,null,null,null,null,null,null,null,null,null,null,null,{"$f":"IF(AND(REFERENTES!U997<>\"\",          REFERENTES!U997<>96321,    REFERENTES!U997<>96222            ),(REFERENTES!W997),\"\")","v":""},{"$f":"REFERENTES!S997","v":0},null,995,0,1130,"X"]
[null,null,null,null,null,null,null,null,null,null,null,null,null,null,null,null,null,null,null,null,null,null,null,null,{"$f":"IF(AND(REFERENTES!U998<>\"\",          REFERENTES!U998<>96321,    REFERENTES!U998<>96222            ),(REFERENTES!W998),\"\")","v":""},{"$f":"REFERENTES!S998","v":0},null,996,0,1130,"X"]
[null,null,null,null,null,null,null,null,null,null,null,null,null,null,null,null,null,null,null,null,null,null,null,null,{"$f":"IF(AND(REFERENTES!U999<>\"\",          REFERENTES!U999<>96321,    REFERENTES!U999<>96222            ),(REFERENTES!W999),\"\")","v":""},{"$f":"REFERENTES!S999","v":0},null,997,0,1130,"X"]
[null,null,null,null,null,null,null,null,null,null,null,null,null,null,null,null,null,null,null,null,null,null,null,null,{"$f":"IF(AND(REFERENTES!U1000<>\"\",          REFERENTES!U1000<>96321,    REFERENTES!U1000<>96222            ),(REFERENTES!W1000),\"\")","v":""},{"$f":"REFERENTES!S1000","v":0},null,998,0,1130,"X"]
[null,null,null,null,null,null,null,null,null,null,null,null,null,null,null,null,null,null,null,null,null,null,null,null,{"$f":"IF(AND(REFERENTES!U1001<>\"\",          REFERENTES!U1001<>96321,    REFERENTES!U1001<>96222            ),(REFERENTES!W1001),\"\")","v":""},{"$f":"REFERENTES!S1001","v":0},null,999,0,1130,"X"]
[null,null,null,null,null,null,null,null,null,null,null,null,null,null,null,null,null,null,null,null,null,null,null,null,{"$f":"IF(AND(REFERENTES!U1002<>\"\",          REFERENTES!U1002<>96321,    REFERENTES!U1002<>96222            ),(REFERENTES!W1002),\"\")","v":""},{"$f":"REFERENTES!S1002","v":0},null,1000,0,1130,"X"]
[null,null,null,null,null,null,null,null,null,null,null,null,null,null,null,null,null,null,null,null,null,null,null,null,{"$f":"IF(AND(REFERENTES!U1003<>\"\",          REFERENTES!U1003<>96321,    REFERENTES!U1003<>96222            ),(REFERENTES!W1003),\"\")","v":""},{"$f":"REFERENTES!S1003","v":0},null,1001,0,1130,"X"]
[null,null,null,null,null,null,null,null,null,null,null,null,null,null,null,null,null,null,null,null,null,null,null,null,{"$f":"IF(AND(REFERENTES!U1004<>\"\",          REFERENTES!U1004<>96321,    REFERENTES!U1004<>96222            ),(REFERENTES!W1004),\"\")","v":""},{"$f":"REFERENTES!S1004","v":0},null,1002,0,1130,"X"]
[null,null,null,null,null,null,null,null,null,null,null,null,null,null,null,null,null,null,null,null,null,null,null,null,{"$f":"IF(AND(REFERENTES!U1005<>\"\",          REFERENTES!U1005<>96321,    REFERENTES!U1005<>96222            ),(REFERENTES!W1005),\"\")","v":""},{"$f":"REFERENTES!S1005","v":0},null,1003,0,1130,"X"]
[null,null,null,null,null,null,null,null,null,null,null,null,null,null,null,null,null,null,null,null,null,null,null,null,{"$f":"IF(AND(REFERENTES!U1006<>\"\",          REFERENTES!U1006<>96321,    REFERENTES!U1006<>96222            ),(REFERENTES!W1006),\"\")","v":""},{"$f":"REFERENTES!S1006","v":0},null,1004,0,1130,"X"]
[null,null,null,null,null,null,null,null,null,null,null,null,null,null,null,null,null,null,null,null,null,null,null,null,{"$f":"IF(AND(REFERENTES!U1007<>\"\",          REFERENTES!U1007<>96321,    REFERENTES!U1007<>96222            ),(REFERENTES!W1007),\"\")","v":""},{"$f":"REFERENTES!S1007","v":0},null,1005,0,1130,"X"]
[null,null,null,null,null,null,null,null,null,null,null,null,null,null,null,null,null,null,null,null,null,null,null,null,{"$f":"IF(AND(REFERENTES!U1008<>\"\",          REFERENTES!U1008<>96321,    REFERENTES!U1008<>96222            ),(REFERENTES!W1008),\"\")","v":""},{"$f":"REFERENTES!S1008","v":0},null,1006,0,1130,"X"]
[null,null,null,null,null,null,null,null,null,null,null,null,null,null,null,null,null,null,null,null,null,null,null,null,{"$f":"IF(AND(REFERENTES!U1009<>\"\",          REFERENTES!U1009<>96321,    REFERENTES!U1009<>96222            ),(REFERENTES!W1009),\"\")","v":""},{"$f":"REFERENTES!S1009","v":0},null,1007,0,1130,"X"]
[null,null,null,null,null,null,null,null,null,null,null,null,null,null,null,null,null,null,null,null,null,null,null,null,{"$f":"IF(AND(REFERENTES!U1010<>\"\",          REFERENTES!U1010<>96321,    REFERENTES!U1010<>96222            ),(REFERENTES!W1010),\"\")","v":""},{"$f":"REFERENTES!S1010","v":0},null,1008,0,1130,"X"]
[null,null,null,null,null,null,null,null,null,null,null,null,null,null,null,null,null,null,null,null,null,null,null,null,{"$f":"IF(AND(REFERENTES!U1011<>\"\",          REFERENTES!U1011<>96321,    REFERENTES!U1011<>96222            ),(REFERENTES!W1011),\"\")","v":""},{"$f":"REFERENTES!S1011","v":0},null,1009,0,1130,"X"]
[null,null,null,null,null,null,null,null,null,null,null,null,null,null,null,null,null,null,null,null,null,null,null,null,{"$f":"IF(AND(REFERENTES!U1012<>\"\",          REFERENTES!U1012<>96321,    REFERENTES!U1012<>96222            ),(REFERENTES!W1012),\"\")","v":""},{"$f":"REFERENTES!S1012","v":0},null,1010,0,1130,"X"]
[null,null,null,null,null,null,null,null,null,null,null,null,null,null,null,null,null,null,null,null,null,null,null,null,{"$f":"IF(AND(REFERENTES!U1013<>\"\",          REFERENTES!U1013<>96321,    REFERENTES!U1013<>96222            ),(REFERENTES!W1013),\"\")","v":""},{"$f":"REFERENTES!S1013","v":0},null,1011,0,1130,"X"]
[null,null,null,null,null,null,null,null,null,null,null,null,null,null,null,null,null,null,null,null,null,null,null,null,{"$f":"IF(AND(REFERENTES!U1014<>\"\",          REFERENTES!U1014<>96321,    REFERENTES!U1014<>96222            ),(REFERENTES!W1014),\"\")","v":""},{"$f":"REFERENTES!S1014","v":0},null,1012,0,1130,"X"]
[null,null,null,null,null,null,null,null,null,null,null,null,null,null,null,null,null,null,null,null,null,null,null,null,{"$f":"IF(AND(REFERENTES!U1015<>\"\",          REFERENTES!U1015<>96321,    REFERENTES!U1015<>96222            ),(REFERENTES!W1015),\"\")","v":""},{"$f":"REFERENTES!S1015","v":0},null,1013,0,1130,"X"]
[null,null,null,null,null,null,null,null,null,null,null,null,null,null,null,null,null,null,null,null,null,null,null,null,{"$f":"IF(AND(REFERENTES!U1016<>\"\",          REFERENTES!U1016<>96321,    REFERENTES!U1016<>96222            ),(REFERENTES!W1016),\"\")","v":""},{"$f":"REFERENTES!S1016","v":0},null,1014,0,1130,"X"]
[null,null,null,null,null,null,null,null,null,null,null,null,null,null,null,null,null,null,null,null,null,null,null,null,{"$f":"IF(AND(REFERENTES!U1017<>\"\",          REFERENTES!U1017<>96321,    REFERENTES!U1017<>96222            ),(REFERENTES!W1017),\"\")","v":""},{"$f":"REFERENTES!S1017","v":0},null,1015,0,1130,"X"]
[null,null,null,null,null,null,null,null,null,null,null,null,null,null,null,null,null,null,null,null,null,null,null,null,{"$f":"IF(AND(REFERENTES!U1018<>\"\",          REFERENTES!U1018<>96321,    REFERENTES!U1018<>96222            ),(REFERENTES!W1018),\"\")","v":""},{"$f":"REFERENTES!S1018","v":0},null,1016,0,1130,"X"]
[null,null,null,null,null,null,null,null,null,null,null,null,null,null,null,null,null,null,null,null,null,null,null,null,{"$f":"IF(AND(REFERENTES!U1019<>\"\",          REFERENTES!U1019<>96321,    REFERENTES!U1019<>96222            ),(REFERENTES!W1019),\"\")","v":""},{"$f":"REFERENTES!S1019","v":0},null,1017,0,1130,"X"]
[null,null,null,null,null,null,null,null,null,null,null,null,null,null,null,null,null,null,null,null,null,null,null,null,{"$f":"IF(AND(REFERENTES!U1020<>\"\",          REFERENTES!U1020<>96321,    REFERENTES!U1020<>96222            ),(REFERENTES!W1020),\"\")","v":""},{"$f":"REFERENTES!S1020","v":0},null,1018,0,1130,"X"]
[null,null,null,null,null,null,null,null,null,null,null,null,null,null,null,null,null,null,null,null,null,null,null,null,{"$f":"IF(AND(REFERENTES!U1021<>\"\",          REFERENTES!U1021<>96321,    REFERENTES!U1021<>96222            ),(REFERENTES!W1021),\"\")","v":""},{"$f":"REFERENTES!S1021","v":0},null,1019,0,1130,"X"]
[null,null,null,null,null,null,null,null,null,null,null,null,null,null,null,null,null,null,null,null,null,null,null,null,{"$f":"IF(AND(REFERENTES!U1022<>\"\",          REFERENTES!U1022<>96321,    REFERENTES!U1022<>96222            ),(REFERENTES!W1022),\"\")","v":""},{"$f":"REFERENTES!S1022","v":0},null,1020,0,1130,"X"]
[null,null,null,null,null,null,null,null,null,null,null,null,null,null,null,null,null,null,null,null,null,null,null,null,{"$f":"IF(AND(REFERENTES!U1023<>\"\",          REFERENTES!U1023<>96321,    REFERENTES!U1023<>96222            ),(REFERENTES!W1023),\"\")","v":""},{"$f":"REFERENTES!S1023","v":0},null,1021,0,1130,"X"]
[null,null,null,null,null,null,null,null,null,null,null,null,null,null,null,null,null,null,null,null,null,null,null,null,{"$f":"IF(AND(REFERENTES!U1024<>\"\",          REFERENTES!U1024<>96321,    REFERENTES!U1024<>96222            ),(REFERENTES!W1024),\"\")","v":""},{"$f":"REFERENTES!S1024","v":0},null,1022,0,1130,"X"]
[null,null,null,null,null,null,null,null,null,null,null,null,null,null,null,null,null,null,null,null,null,null,null,null,{"$f":"IF(AND(REFERENTES!U1025<>\"\",          REFERENTES!U1025<>96321,    REFERENTES!U1025<>96222            ),(REFERENTES!W1025),\"\")","v":""},{"$f":"REFERENTES!S1025","v":0},null,1023,0,1130,"X"]
[null,null,null,null,null,null,null,null,null,null,null,null,null,null,null,null,null,null,null,null,null,null,null,null,{"$f":"IF(AND(REFERENTES!U1026<>\"\",          REFERENTES!U1026<>96321,    REFERENTES!U1026<>96222            ),(REFERENTES!W1026),\"\")","v":""},{"$f":"REFERENTES!S1026","v":0},null,1024,0,1130,"X"]
[null,null,null,null,null,null,null,null,null,null,null,null,null,null,null,null,null,null,null,null,null,null,null,null,{"$f":"IF(AND(REFERENTES!U1027<>\"\",          REFERENTES!U1027<>96321,    REFERENTES!U1027<>96222            ),(REFERENTES!W1027),\"\")","v":""},{"$f":"REFERENTES!S1027","v":0},null,1025,0,1130,"X"]
[null,null,null,null,null,null,null,null,null,null,null,null,null,null,null,null,null,null,null,null,null,null,null,null,{"$f":"IF(AND(REFERENTES!U1028<>\"\",          REFERENTES!U1028<>96321,    REFERENTES!U1028<>96222            ),(REFERENTES!W1028),\"\")","v":""},{"$f":"REFERENTES!S1028","v":0},null,1026,{"$f":"IF(Y1031=\"\",0,Y1031)","v":0},{"$f":"IF(AC1032=0,MAX($AB$7:$AB$1135)+1,AB1032)","v":1130},{"$f":"IFERROR(VLOOKUP(SMALL($AD$7:$AD$1135,AB1032),$AB$7:$AD$1135,2,FALSE),\"X\")","v":"X"}]
[null,null,null,null,null,null,null,null,null,null,null,null,null,null,null,null,null,null,null,null,null,null,null,null,{"$f":"IF(AND(REFERENTES!U1029<>\"\",          REFERENTES!U1029<>96321,    REFERENTES!U1029<>96222            ),(REFERENTES!W1029),\"\")","v":""},{"$f":"REFERENTES!S1029","v":0},null,1027,0,1130,"X"]
[null,null,null,null,null,null,null,null,null,null,null,null,null,null,null,null,null,null,null,null,null,null,null,null,{"$f":"IF(AND(REFERENTES!U1030<>\"\",          REFERENTES!U1030<>96321,    REFERENTES!U1030<>96222            ),(REFERENTES!W1030),\"\")","v":""},{"$f":"REFERENTES!S1030","v":0},null,1028,0,1130,"X"]
[null,null,null,null,null,null,null,null,null,null,null,null,null,null,null,null,null,null,null,null,null,null,null,null,{"$f":"IF(AND(REFERENTES!U1031<>\"\",          REFERENTES!U1031<>96321,    REFERENTES!U1031<>96222            ),(REFERENTES!W1031),\"\")","v":""},{"$f":"REFERENTES!S1031","v":0},null,1029,0,1130,"X"]
[null,null,null,null,null,null,null,null,null,null,null,null,null,null,null,null,null,null,null,null,null,null,null,null,{"$f":"IF(AND(REFERENTES!U1032<>\"\",          REFERENTES!U1032<>96321,    REFERENTES!U1032<>96222            ),(REFERENTES!W1032),\"\")","v":""},{"$f":"REFERENTES!S1032","v":0},null,1030,0,1130,"X"]
[null,null,null,null,null,null,null,null,null,null,null,null,null,null,null,null,null,null,null,null,null,null,null,null,{"$f":"IF(AND(REFERENTES!U1033<>\"\",          REFERENTES!U1033<>96321,    REFERENTES!U1033<>96222            ),(REFERENTES!W1033),\"\")","v":""},{"$f":"REFERENTES!S1033","v":0},null,1031,0,1130,"X"]
[null,null,null,null,null,null,null,null,null,null,null,null,null,null,null,null,null,null,null,null,null,null,null,null,{"$f":"IF(AND(REFERENTES!U1034<>\"\",          REFERENTES!U1034<>96321,    REFERENTES!U1034<>96222            ),(REFERENTES!W1034),\"\")","v":""},{"$f":"REFERENTES!S1034","v":0},null,1032,0,1130,"X"]
[null,null,null,null,null,null,null,null,null,null,null,null,null,null,null,null,null,null,null,null,null,null,null,null,{"$f":"IF(AND(REFERENTES!U1035<>\"\",          REFERENTES!U1035<>96321,    REFERENTES!U1035<>96222            ),(REFERENTES!W1035),\"\")","v":""},{"$f":"REFERENTES!S1035","v":0},null,1033,0,1130,"X"]
[null,null,null,null,null,null,null,null,null,null,null,null,null,null,null,null,null,null,null,null,null,null,null,null,{"$f":"IF(AND(REFERENTES!U1036<>\"\",          REFERENTES!U1036<>96321,    REFERENTES!U1036<>96222            ),(REFERENTES!W1036),\"\")","v":""},{"$f":"REFERENTES!S1036","v":0},null,1034,0,1130,"X"]
[null,null,null,null,null,null,null,null,null,null,null,null,null,null,null,null,null,null,null,null,null,null,null,null,{"$f":"IF(AND(REFERENTES!U1037<>\"\",          REFERENTES!U1037<>96321,    REFERENTES!U1037<>96222            ),(REFERENTES!W1037),\"\")","v":""},{"$f":"REFERENTES!S1037","v":0},null,1035,0,1130,"X"]
[null,null,null,null,null,null,null,null,null,null,null,null,null,null,null,null,null,null,null,null,null,null,null,null,{"$f":"IF(AND(REFERENTES!U1038<>\"\",          REFERENTES!U1038<>96321,    REFERENTES!U1038<>96222            ),(REFERENTES!W1038),\"\")","v":""},{"$f":"REFERENTES!S1038","v":0},null,1036,0,1130,"X"]
[null,null,null,null,null,null,null,null,null,null,null,null,null,null,null,null,null,null,null,null,null,null,null,null,{"$f":"IF(AND(REFERENTES!U1039<>\"\",          REFERENTES!U1039<>96321,    REFERENTES!U1039<>96222            ),(REFERENTES!W1039),\"\")","v":""},{"$f":"REFERENTES!S1039","v":0},null,1037,0,1130,"X"]
[null,null,null,null,null,null,null,null,null,null,null,null,null,null,null,null,null,null,null,null,null,null,null,null,{"$f":"IF(AND(REFERENTES!U1040<>\"\",          REFERENTES!U1040<>96321,    REFERENTES!U1040<>96222            ),(REFERENTES!W1040),\"\")","v":""},{"$f":"REFERENTES!S1040","v":0},null,1038,0,1130,"X"]
[null,null,null,null,null,null,null,null,null,null,null,null,null,null,null,null,null,null,null,null,null,null,null,null,{"$f":"IF(AND(REFERENTES!U1041<>\"\",          REFERENTES!U1041<>96321,    REFERENTES!U1041<>96222            ),(REFERENTES!W1041),\"\")","v":""},{"$f":"REFERENTES!S1041","v":0},null,1039,0,1130,"X"]
[null,null,null,null,null,null,null,null,null,null,null,null,null,null,null,null,null,null,null,null,null,null,null,null,{"$f":"IF(AND(REFERENTES!U1042<>\"\",          REFERENTES!U1042<>96321,    REFERENTES!U1042<>96222            ),(REFERENTES!W1042),\"\")","v":""},{"$f":"REFERENTES!S1042","v":0},null,1040,0,1130,"X"]
[null,null,null,null,null,null,null,null,null,null,null,null,null,null,null,null,null,null,null,null,null,null,null,null,{"$f":"IF(AND(REFERENTES!U1043<>\"\",          REFERENTES!U1043<>96321,    REFERENTES!U1043<>96222            ),(REFERENTES!W1043),\"\")","v":""},{"$f":"REFERENTES!S1043","v":0},null,1041,0,1130,"X"]
[null,null,null,null,null,null,null,null,null,null,null,null,null,null,null,null,null,null,null,null,null,null,null,null,{"$f":"IF(AND(REFERENTES!U1044<>\"\",          REFERENTES!U1044<>96321,    REFERENTES!U1044<>96222            ),(REFERENTES!W1044),\"\")","v":""},{"$f":"REFERENTES!S1044","v":0},null,1042,0,1130,"X"]
[null,null,null,null,null,null,null,null,null,null,null,null,null,null,null,null,null,null,null,null,null,null,null,null,{"$f":"IF(AND(REFERENTES!U1045<>\"\",          REFERENTES!U1045<>96321,    REFERENTES!U1045<>96222            ),(REFERENTES!W1045),\"\")","v":""},{"$f":"REFERENTES!S1045","v":0},null,1043,0,1130,"X"]
[null,null,null,null,null,null,null,null,null,null,null,null,null,null,null,null,null,null,null,null,null,null,null,null,{"$f":"IF(AND(REFERENTES!U1046<>\"\",          REFERENTES!U1046<>96321,    REFERENTES!U1046<>96222            ),(REFERENTES!W1046),\"\")","v":""},{"$f":"REFERENTES!S1046","v":0},null,1044,0,1130,"X"]
[null,null,null,null,null,null,null,null,null,null,null,null,null,null,null,null,null,null,null,null,null,null,null,null,{"$f":"IF(AND(REFERENTES!U1047<>\"\",          REFERENTES!U1047<>96321,    REFERENTES!U1047<>96222            ),(REFERENTES!W1047),\"\")","v":""},{"$f":"REFERENTES!S1047","v":0},null,1045,0,1130,"X"]
[null,null,null,null,null,null,null,null,null,null,null,null,null,null,null,null,null,null,null,null,null,null,null,null,{"$f":"IF(AND(REFERENTES!U1048<>\"\",          REFERENTES!U1048<>96321,    REFERENTES!U1048<>96222            ),(REFERENTES!W1048),\"\")","v":""},{"$f":"REFERENTES!S1048","v":0},null,1046,0,1130,"X"]
[null,null,null,null,null,null,null,null,null,null,null,null,null,null,null,null,null,null,null,null,null,null,null,null,{"$f":"IF(AND(REFERENTES!U1049<>\"\",          REFERENTES!U1049<>96321,    REFERENTES!U1049<>96222            ),(REFERENTES!W1049),\"\")","v":""},{"$f":"REFERENTES!S1049","v":0},null,1047,0,1130,"X"]
[null,null,null,null,null,null,null,null,null,null,null,null,null,null,null,null,null,null,null,null,null,null,null,null,{"$f":"IF(AND(REFERENTES!U1050<>\"\",          REFERENTES!U1050<>96321,    REFERENTES!U1050<>96222            ),(REFERENTES!W1050),\"\")","v":""},{"$f":"REFERENTES!S1050","v":0},null,1048,0,1130,"X"]
[null,null,null,null,null,null,null,null,null,null,null,null,null,null,null,null,null,null,null,null,null,null,null,null,{"$f":"IF(AND(REFERENTES!U1051<>\"\",          REFERENTES!U1051<>96321,    REFERENTES!U1051<>96222            ),(REFERENTES!W1051),\"\")","v":""},{"$f":"REFERENTES!S1051","v":0},null,1049,0,1130,"X"]
[null,null,null,null,null,null,null,null,null,null,null,null,null,null,null,null,null,null,null,null,null,null,null,null,{"$f":"IF(AND(REFERENTES!U1052<>\"\",          REFERENTES!U1052<>96321,    REFERENTES!U1052<>96222            ),(REFERENTES!W1052),\"\")","v":""},{"$f":"REFERENTES!S1052","v":0},null,1050,0,1130,"X"]
[null,null,null,null,null,null,null,null,null,null,null,null,null,null,null,null,null,null,null,null,null,null,null,null,{"$f":"IF(AND(REFERENTES!U1053<>\"\",          REFERENTES!U1053<>96321,    REFERENTES!U1053<>96222            ),(REFERENTES!W1053),\"\")","v":""},{"$f":"REFERENTES!S1053","v":0},null,1051,0,1130,"X"]
[null,null,null,null,null,null,null,null,null,null,null,null,null,null,null,null,null,null,null,null,null,null,null,null,{"$f":"IF(AND(REFERENTES!U1054<>\"\",          REFERENTES!U1054<>96321,    REFERENTES!U1054<>96222            ),(REFERENTES!W1054),\"\")","v":""},{"$f":"REFERENTES!S1054","v":0},null,1052,0,1130,"X"]
[null,null,null,null,null,null,null,null,null,null,null,null,null,null,null,null,null,null,null,null,null,null,null,null,{"$f":"IF(AND(REFERENTES!U1055<>\"\",          REFERENTES!U1055<>96321,    REFERENTES!U1055<>96222            ),(REFERENTES!W1055),\"\")","v":""},{"$f":"REFERENTES!S1055","v":0},null,1053,0,1130,"X"]
[null,null,null,null,null,null,null,null,null,null,null,null,null,null,null,null,null,null,null,null,null,null,null,null,{"$f":"IF(AND(REFERENTES!U1056<>\"\",          REFERENTES!U1056<>96321,    REFERENTES!U1056<>96222            ),(REFERENTES!W1056),\"\")","v":""},{"$f":"REFERENTES!S1056","v":0},null,1054,0,1130,"X"]
[null,null,null,null,null,null,null,null,null,null,null,null,null,null,null,null,null,null,null,null,null,null,null,null,{"$f":"IF(AND(REFERENTES!U1057<>\"\",          REFERENTES!U1057<>96321,    REFERENTES!U1057<>96222            ),(REFERENTES!W1057),\"\")","v":""},{"$f":"REFERENTES!S1057","v":0},null,1055,0,1130,"X"]
[null,null,null,null,null,null,null,null,null,null,null,null,null,null,null,null,null,null,null,null,null,null,null,null,{"$f":"IF(AND(REFERENTES!U1058<>\"\",          REFERENTES!U1058<>96321,    REFERENTES!U1058<>96222            ),(REFERENTES!W1058),\"\")","v":""},{"$f":"REFERENTES!S1058","v":0},null,1056,0,1130,"X"]
[null,null,null,null,null,null,null,null,null,null,null,null,null,null,null,null,null,null,null,null,null,null,null,null,{"$f":"IF(AND(REFERENTES!U1059<>\"\",          REFERENTES!U1059<>96321,    REFERENTES!U1059<>96222            ),(REFERENTES!W1059),\"\")","v":""},{"$f":"REFERENTES!S1059","v":0},null,1057,0,1130,"X"]
[null,null,null,null,null,null,null,null,null,null,null,null,null,null,null,null,null,null,null,null,null,null,null,null,{"$f":"IF(AND(REFERENTES!U1060<>\"\",          REFERENTES!U1060<>96321,    REFERENTES!U1060<>96222            ),(REFERENTES!W1060),\"\")","v":""},{"$f":"REFERENTES!S1060","v":0},null,1058,0,1130,"X"]
[null,null,null,null,null,null,null,null,null,null,null,null,null,null,null,null,null,null,null,null,null,null,null,null,{"$f":"IF(AND(REFERENTES!U1061<>\"\",          REFERENTES!U1061<>96321,    REFERENTES!U1061<>96222            ),(REFERENTES!W1061),\"\")","v":""},{"$f":"REFERENTES!S1061","v":0},null,1059,0,1130,"X"]
[null,null,null,null,null,null,null,null,null,null,null,null,null,null,null,null,null,null,null,null,null,null,null,null,{"$f":"IF(AND(REFERENTES!U1062<>\"\",          REFERENTES!U1062<>96321,    REFERENTES!U1062<>96222            ),(REFERENTES!W1062),\"\")","v":""},{"$f":"REFERENTES!S1062","v":0},null,1060,0,1130,"X"]
[null,null,null,null,null,null,null,null,null,null,null,null,null,null,null,null,null,null,null,null,null,null,null,null,{"$f":"IF(AND(REFERENTES!U1063<>\"\",          REFERENTES!U1063<>96321,    REFERENTES!U1063<>96222            ),(REFERENTES!W1063),\"\")","v":""},{"$f":"REFERENTES!S1063","v":0},null,1061,0,1130,"X"]
[null,null,null,null,null,null,null,null,null,null,null,null,null,null,null,null,null,null,null,null,null,null,null,null,{"$f":"IF(AND(REFERENTES!U1064<>\"\",          REFERENTES!U1064<>96321,    REFERENTES!U1064<>96222            ),(REFERENTES!W1064),\"\")","v":""},{"$f":"REFERENTES!S1064","v":0},null,1062,0,1130,"X"]
[null,null,null,null,null,null,null,null,null,null,null,null,null,null,null,null,null,null,null,null,null,null,null,null,{"$f":"IF(AND(REFERENTES!U1065<>\"\",          REFERENTES!U1065<>96321,    REFERENTES!U1065<>96222            ),(REFERENTES!W1065),\"\")","v":""},{"$f":"REFERENTES!S1065","v":0},null,1063,0,1130,"X"]
[null,null,null,null,null,null,null,null,null,null,null,null,null,null,null,null,null,null,null,null,null,null,null,null,{"$f":"IF(AND(REFERENTES!U1066<>\"\",          REFERENTES!U1066<>96321,    REFERENTES!U1066<>96222            ),(REFERENTES!W1066),\"\")","v":""},{"$f":"REFERENTES!S1066","v":0},null,1064,0,1130,"X"]
[null,null,null,null,null,null,null,null,null,null,null,null,null,null,null,null,null,null,null,null,null,null,null,null,{"$f":"IF(AND(REFERENTES!U1067<>\"\",          REFERENTES!U1067<>96321,    REFERENTES!U1067<>96222            ),(REFERENTES!W1067),\"\")","v":""},{"$f":"REFERENTES!S1067","v":0},null,1065,0,1130,"X"]
[null,null,null,null,null,null,null,null,null,null,null,null,null,null,null,null,null,null,null,null,null,null,null,null,{"$f":"IF(AND(REFERENTES!U1068<>\"\",          REFERENTES!U1068<>96321,    REFERENTES!U1068<>96222            ),(REFERENTES!W1068),\"\")","v":""},{"$f":"REFERENTES!S1068","v":0},null,1066,0,1130,"X"]
[null,null,null,null,null,null,null,null,null,null,null,null,null,null,null,null,null,null,null,null,null,null,null,null,{"$f":"IF(AND(REFERENTES!U1069<>\"\",          REFERENTES!U1069<>96321,    REFERENTES!U1069<>96222            ),(REFERENTES!W1069),\"\")","v":""},{"$f":"REFERENTES!S1069","v":0},null,1067,0,1130,"X"]
[null,null,null,null,null,null,null,null,null,null,null,null,null,null,null,null,null,null,null,null,null,null,null,null,{"$f":"IF(AND(REFERENTES!U1070<>\"\",          REFERENTES!U1070<>96321,    REFERENTES!U1070<>96222            ),(REFERENTES!W1070),\"\")","v":""},{"$f":"REFERENTES!S1070","v":0},null,1068,0,1130,"X"]
[null,null,null,null,null,null,null,null,null,null,null,null,null,null,null,null,null,null,null,null,null,null,null,null,{"$f":"IF(AND(REFERENTES!U1071<>\"\",          REFERENTES!U1071<>96321,    REFERENTES!U1071<>96222            ),(REFERENTES!W1071),\"\")","v":""},{"$f":"REFERENTES!S1071","v":0},null,1069,0,1130,"X"]
[null,null,null,null,null,null,null,null,null,null,null,null,null,null,null,null,null,null,null,null,null,null,null,null,{"$f":"IF(AND(REFERENTES!U1072<>\"\",          REFERENTES!U1072<>96321,    REFERENTES!U1072<>96222            ),(REFERENTES!W1072),\"\")","v":""},{"$f":"REFERENTES!S1072","v":0},null,1070,0,1130,"X"]
[null,null,null,null,null,null,null,null,null,null,null,null,null,null,null,null,null,null,null,null,null,null,null,null,{"$f":"IF(AND(REFERENTES!U1073<>\"\",          REFERENTES!U1073<>96321,    REFERENTES!U1073<>96222            ),(REFERENTES!W1073),\"\")","v":""},{"$f":"REFERENTES!S1073","v":0},null,1071,0,1130,"X"]
[null,null,null,null,null,null,null,null,null,null,null,null,null,null,null,null,null,null,null,null,null,null,null,null,{"$f":"IF(AND(REFERENTES!U1074<>\"\",          REFERENTES!U1074<>96321,    REFERENTES!U1074<>96222            ),(REFERENTES!W1074),\"\")","v":""},{"$f":"REFERENTES!S1074","v":0},null,1072,0,1130,"X"]
[null,null,null,null,null,null,null,null,null,null,null,null,null,null,null,null,null,null,null,null,null,null,null,null,{"$f":"IF(AND(REFERENTES!U1075<>\"\",          REFERENTES!U1075<>96321,    REFERENTES!U1075<>96222            ),(REFERENTES!W1075),\"\")","v":""},{"$f":"REFERENTES!S1075","v":0},null,1073,0,1130,"X"]
[null,null,null,null,null,null,null,null,null,null,null,null,null,null,null,null,null,null,null,null,null,null,null,null,{"$f":"IF(AND(REFERENTES!U1076<>\"\",          REFERENTES!U1076<>96321,    REFERENTES!U1076<>96222            ),(REFERENTES!W1076),\"\")","v":""},{"$f":"REFERENTES!S1076","v":0},null,1074,0,1130,"X"]
[null,null,null,null,null,null,null,null,null,null,null,null,null,null,null,null,null,null,null,null,null,null,null,null,{"$f":"IF(AND(REFERENTES!U1077<>\"\",          REFERENTES!U1077<>96321,    REFERENTES!U1077<>96222            ),(REFERENTES!W1077),\"\")","v":""},{"$f":"REFERENTES!S1077","v":0},null,1075,0,1130,"X"]
[null,null,null,null,null,null,null,null,null,null,null,null,null,null,null,null,null,null,null,null,null,null,null,null,{"$f":"IF(AND(REFERENTES!U1078<>\"\",          REFERENTES!U1078<>96321,    REFERENTES!U1078<>96222            ),(REFERENTES!W1078),\"\")","v":""},{"$f":"REFERENTES!S1078","v":0},null,1076,0,1130,"X"]
[null,null,null,null,null,null,null,null,null,null,null,null,null,null,null,null,null,null,null,null,null,null,null,null,{"$f":"IF(AND(REFERENTES!U1079<>\"\",          REFERENTES!U1079<>96321,    REFERENTES!U1079<>96222            ),(REFERENTES!W1079),\"\")","v":""},{"$f":"REFERENTES!S1079","v":0},null,1077,0,1130,"X"]
[null,null,null,null,null,null,null,null,null,null,null,null,null,null,null,null,null,null,null,null,null,null,null,null,{"$f":"IF(AND(REFERENTES!U1080<>\"\",          REFERENTES!U1080<>96321,    REFERENTES!U1080<>96222            ),(REFERENTES!W1080),\"\")","v":""},{"$f":"REFERENTES!S1080","v":0},null,1078,0,1130,"X"]
[null,null,null,null,null,null,null,null,null,null,null,null,null,null,null,null,null,null,null,null,null,null,null,null,{"$f":"IF(AND(REFERENTES!U1081<>\"\",          REFERENTES!U1081<>96321,    REFERENTES!U1081<>96222            ),(REFERENTES!W1081),\"\")","v":""},{"$f":"REFERENTES!S1081","v":0},null,1079,0,1130,"X"]
[null,null,null,null,null,null,null,null,null,null,null,null,null,null,null,null,null,null,null,null,null,null,null,null,{"$f":"IF(AND(REFERENTES!U1082<>\"\",          REFERENTES!U1082<>96321,    REFERENTES!U1082<>96222            ),(REFERENTES!W1082),\"\")","v":""},{"$f":"REFERENTES!S1082","v":0},null,1080,0,1130,"X"]
[null,null,null,null,null,null,null,null,null,null,null,null,null,null,null,null,null,null,null,null,null,null,null,null,{"$f":"IF(AND(REFERENTES!U1083<>\"\",          REFERENTES!U1083<>96321,    REFERENTES!U1083<>96222            ),(REFERENTES!W1083),\"\")","v":""},{"$f":"REFERENTES!S1083","v":0},null,1081,0,1130,"X"]
[null,null,null,null,null,null,null,null,null,null,null,null,null,null,null,null,null,null,null,null,null,null,null,null,{"$f":"IF(AND(REFERENTES!U1084<>\"\",          REFERENTES!U1084<>96321,    REFERENTES!U1084<>96222            ),(REFERENTES!W1084),\"\")","v":""},{"$f":"REFERENTES!S1084","v":0},null,1082,0,1130,"X"]
[null,null,null,null,null,null,null,null,null,null,null,null,null,null,null,null,null,null,null,null,null,null,null,null,{"$f":"IF(AND(REFERENTES!U1085<>\"\",          REFERENTES!U1085<>96321,    REFERENTES!U1085<>96222            ),(REFERENTES!W1085),\"\")","v":""},{"$f":"REFERENTES!S1085","v":0},null,1083,0,1130,"X"]
[null,null,null,null,null,null,null,null,null,null,null,null,null,null,null,null,null,null,null,null,null,null,null,null,{"$f":"IF(AND(REFERENTES!U1086<>\"\",          REFERENTES!U1086<>96321,    REFERENTES!U1086<>96222            ),(REFERENTES!W1086),\"\")","v":""},{"$f":"REFERENTES!S1086","v":0},null,1084,0,1130,"X"]
[null,null,null,null,null,null,null,null,null,null,null,null,null,null,null,null,null,null,null,null,null,null,null,null,{"$f":"IF(AND(REFERENTES!U1087<>\"\",          REFERENTES!U1087<>96321,    REFERENTES!U1087<>96222            ),(REFERENTES!W1087),\"\")","v":""},{"$f":"REFERENTES!S1087","v":0},null,1085,0,1130,"X"]
[null,null,null,null,null,null,null,null,null,null,null,null,null,null,null,null,null,null,null,null,null,null,null,null,{"$f":"IF(AND(REFERENTES!U1088<>\"\",          REFERENTES!U1088<>96321,    REFERENTES!U1088<>96222            ),(REFERENTES!W1088),\"\")","v":""},{"$f":"REFERENTES!S1088","v":0},null,1086,0,1130,"X"]
[null,null,null,null,null,null,null,null,null,null,null,null,null,null,null,null,null,null,null,null,null,null,null,null,{"$f":"IF(AND(REFERENTES!U1089<>\"\",          REFERENTES!U1089<>96321,    REFERENTES!U1089<>96222            ),(REFERENTES!W1089),\"\")","v":""},{"$f":"REFERENTES!S1089","v":0},null,1087,0,1130,"X"]
[null,null,null,null,null,null,null,null,null,null,null,null,null,null,null,null,null,null,null,null,null,null,null,null,{"$f":"IF(AND(REFERENTES!U1090<>\"\",          REFERENTES!U1090<>96321,    REFERENTES!U1090<>96222            ),(REFERENTES!W1090),\"\")","v":""},{"$f":"REFERENTES!S1090","v":0},null,1088,0,1130,"X"]
[null,null,null,null,null,null,null,null,null,null,null,null,null,null,null,null,null,null,null,null,null,null,null,null,{"$f":"IF(AND(REFERENTES!U1091<>\"\",          REFERENTES!U1091<>96321,    REFERENTES!U1091<>96222            ),(REFERENTES!W1091),\"\")","v":""},{"$f":"REFERENTES!S1091","v":0},null,1089,0,1130,"X"]
[null,null,null,null,null,null,null,null,null,null,null,null,null,null,null,null,null,null,null,null,null,null,null,null,{"$f":"IF(AND(REFERENTES!U1092<>\"\",          REFERENTES!U1092<>96321,    REFERENTES!U1092<>96222            ),(REFERENTES!W1092),\"\")","v":""},{"$f":"REFERENTES!S1092","v":0},null,1090,{"$f":"IF(Y1095=\"\",0,Y1095)","v":0},{"$f":"IF(AC1096=0,MAX($AB$7:$AB$1135)+1,AB1096)","v":1130},{"$f":"IFERROR(VLOOKUP(SMALL($AD$7:$AD$1135,AB1096),$AB$7:$AD$1135,2,FALSE),\"X\")","v":"X"}]
[null,null,null,null,null,null,null,null,null,null,null,null,null,null,null,null,null,null,null,null,null,null,null,null,{"$f":"IF(AND(REFERENTES!U1093<>\"\",          REFERENTES!U1093<>96321,    REFERENTES!U1093<>96222            ),(REFERENTES!W1093),\"\")","v":""},{"$f":"REFERENTES!S1093","v":0},null,1091,0,1130,"X"]
[null,null,null,null,null,null,null,null,null,null,null,null,null,null,null,null,null,null,null,null,null,null,null,null,{"$f":"IF(AND(REFERENTES!U1094<>\"\",          REFERENTES!U1094<>96321,    REFERENTES!U1094<>96222            ),(REFERENTES!W1094),\"\")","v":""},{"$f":"REFERENTES!S1094","v":0},null,1092,0,1130,"X"]
[null,null,null,null,null,null,null,null,null,null,null,null,null,null,null,null,null,null,null,null,null,null,null,null,{"$f":"IF(AND(REFERENTES!U1095<>\"\",          REFERENTES!U1095<>96321,    REFERENTES!U1095<>96222            ),(REFERENTES!W1095),\"\")","v":""},{"$f":"REFERENTES!S1095","v":0},null,1093,0,1130,"X"]
[null,null,null,null,null,null,null,null,null,null,null,null,null,null,null,null,null,null,null,null,null,null,null,null,{"$f":"IF(AND(REFERENTES!U1096<>\"\",          REFERENTES!U1096<>96321,    REFERENTES!U1096<>96222            ),(REFERENTES!W1096),\"\")","v":""},{"$f":"REFERENTES!S1096","v":0},null,1094,0,1130,"X"]
[null,null,null,null,null,null,null,null,null,null,null,null,null,null,null,null,null,null,null,null,null,null,null,null,{"$f":"IF(AND(REFERENTES!U1097<>\"\",          REFERENTES!U1097<>96321,    REFERENTES!U1097<>96222            ),(REFERENTES!W1097),\"\")","v":""},{"$f":"REFERENTES!S1097","v":0},null,1095,0,1130,"X"]
[null,null,null,null,null,null,null,null,null,null,null,null,null,null,null,null,null,null,null,null,null,null,null,null,{"$f":"IF(AND(REFERENTES!U1098<>\"\",          REFERENTES!U1098<>96321,    REFERENTES!U1098<>96222            ),(REFERENTES!W1098),\"\")","v":""},{"$f":"REFERENTES!S1098","v":0},null,1096,0,1130,"X"]
[null,null,null,null,null,null,null,null,null,null,null,null,null,null,null,null,null,null,null,null,null,null,null,null,{"$f":"IF(AND(REFERENTES!U1099<>\"\",          REFERENTES!U1099<>96321,    REFERENTES!U1099<>96222            ),(REFERENTES!W1099),\"\")","v":""},{"$f":"REFERENTES!S1099","v":0},null,1097,0,1130,"X"]
[null,null,null,null,null,null,null,null,null,null,null,null,null,null,null,null,null,null,null,null,null,null,null,null,{"$f":"IF(AND(REFERENTES!U1100<>\"\",          REFERENTES!U1100<>96321,    REFERENTES!U1100<>96222            ),(REFERENTES!W1100),\"\")","v":""},{"$f":"REFERENTES!S1100","v":0},null,1098,0,1130,"X"]
[null,null,null,null,null,null,null,null,null,null,null,null,null,null,null,null,null,null,null,null,null,null,null,null,{"$f":"IF(AND(REFERENTES!U1101<>\"\",          REFERENTES!U1101<>96321,    REFERENTES!U1101<>96222            ),(REFERENTES!W1101),\"\")","v":""},{"$f":"REFERENTES!S1101","v":0},null,1099,0,1130,"X"]
[null,null,null,null,null,null,null,null,null,null,null,null,null,null,null,null,null,null,null,null,null,null,null,null,{"$f":"IF(AND(REFERENTES!U1102<>\"\",          REFERENTES!U1102<>96321,    REFERENTES!U1102<>96222            ),(REFERENTES!W1102),\"\")","v":""},{"$f":"REFERENTES!S1102","v":0},null,1100,0,1130,"X"]
[null,null,null,null,null,null,null,null,null,null,null,null,null,null,null,null,null,null,null,null,null,null,null,null,{"$f":"IF(AND(REFERENTES!U1103<>\"\",          REFERENTES!U1103<>96321,    REFERENTES!U1103<>96222            ),(REFERENTES!W1103),\"\")","v":""},{"$f":"REFERENTES!S1103","v":0},null,1101,0,1130,"X"]
[null,null,null,null,null,null,null,null,null,null,null,null,null,null,null,null,null,null,null,null,null,null,null,null,{"$f":"IF(AND(REFERENTES!U1104<>\"\",          REFERENTES!U1104<>96321,    REFERENTES!U1104<>96222            ),(REFERENTES!W1104),\"\")","v":""},{"$f":"REFERENTES!S1104","v":0},null,1102,0,1130,"X"]
[null,null,null,null,null,null,null,null,null,null,null,null,null,null,null,null,null,null,null,null,null,null,null,null,{"$f":"IF(AND(REFERENTES!U1105<>\"\",          REFERENTES!U1105<>96321,    REFERENTES!U1105<>96222            ),(REFERENTES!W1105),\"\")","v":""},{"$f":"REFERENTES!S1105","v":0},null,1103,0,1130,"X"]
[null,null,null,null,null,null,null,null,null,null,null,null,null,null,null,null,null,null,null,null,null,null,null,null,{"$f":"IF(AND(REFERENTES!U1106<>\"\",          REFERENTES!U1106<>96321,    REFERENTES!U1106<>96222            ),(REFERENTES!W1106),\"\")","v":""},{"$f":"REFERENTES!S1106","v":0},null,1104,0,1130,"X"]
[null,null,null,null,null,null,null,null,null,null,null,null,null,null,null,null,null,null,null,null,null,null,null,null,{"$f":"IF(AND(REFERENTES!U1107<>\"\",          REFERENTES!U1107<>96321,    REFERENTES!U1107<>96222            ),(REFERENTES!W1107),\"\")","v":""},{"$f":"REFERENTES!S1107","v":0},null,1105,0,1130,"X"]
[null,null,null,null,null,null,null,null,null,null,null,null,null,null,null,null,null,null,null,null,null,null,null,null,{"$f":"IF(AND(REFERENTES!U1108<>\"\",          REFERENTES!U1108<>96321,    REFERENTES!U1108<>96222            ),(REFERENTES!W1108),\"\")","v":""},{"$f":"REFERENTES!S1108","v":0},null,1106,0,1130,"X"]
[null,null,null,null,null,null,null,null,null,null,null,null,null,null,null,null,null,null,null,null,null,null,null,null,{"$f":"IF(AND(REFERENTES!U1109<>\"\",          REFERENTES!U1109<>96321,    REFERENTES!U1109<>96222            ),(REFERENTES!W1109),\"\")","v":""},{"$f":"REFERENTES!S1109","v":0},null,1107,0,1130,"X"]
[null,null,null,null,null,null,null,null,null,null,null,null,null,null,null,null,null,null,null,null,null,null,null,null,{"$f":"IF(AND(REFERENTES!U1110<>\"\",          REFERENTES!U1110<>96321,    REFERENTES!U1110<>96222            ),(REFERENTES!W1110),\"\")","v":""},{"$f":"REFERENTES!S1110","v":0},null,1108,0,1130,"X"]
[null,null,null,null,null,null,null,null,null,null,null,null,null,null,null,null,null,null,null,null,null,null,null,null,{"$f":"IF(AND(REFERENTES!U1111<>\"\",          REFERENTES!U1111<>96321,    REFERENTES!U1111<>96222            ),(REFERENTES!W1111),\"\")","v":""},{"$f":"REFERENTES!S1111","v":0},null,1109,0,1130,"X"]
[null,null,null,null,null,null,null,null,null,null,null,null,null,null,null,null,null,null,null,null,null,null,null,null,{"$f":"IF(AND(REFERENTES!U1112<>\"\",          REFERENTES!U1112<>96321,    REFERENTES!U1112<>96222            ),(REFERENTES!W1112),\"\")","v":""},{"$f":"REFERENTES!S1112","v":0},null,1110,0,1130,"X"]
[null,null,null,null,null,null,null,null,null,null,null,null,null,null,null,null,null,null,null,null,null,null,null,null,{"$f":"IF(AND(REFERENTES!U1113<>\"\",          REFERENTES!U1113<>96321,    REFERENTES!U1113<>96222            ),(REFERENTES!W1113),\"\")","v":""},{"$f":"REFERENTES!S1113","v":0},null,1111,0,1130,"X"]
[null,null,null,null,null,null,null,null,null,null,null,null,null,null,null,null,null,null,null,null,null,null,null,null,{"$f":"IF(AND(REFERENTES!U1114<>\"\",          REFERENTES!U1114<>96321,    REFERENTES!U1114<>96222            ),(REFERENTES!W1114),\"\")","v":""},{"$f":"REFERENTES!S1114","v":0},null,1112,0,1130,"X"]
[null,null,null,null,null,null,null,null,null,null,null,null,null,null,null,null,null,null,null,null,null,null,null,null,{"$f":"IF(AND(REFERENTES!U1115<>\"\",          REFERENTES!U1115<>96321,    REFERENTES!U1115<>96222            ),(REFERENTES!W1115),\"\")","v":""},{"$f":"REFERENTES!S1115","v":0},null,1113,0,1130,"X"]
[null,null,null,null,null,null,null,null,null,null,null,null,null,null,null,null,null,null,null,null,null,null,null,null,{"$f":"IF(AND(REFERENTES!U1116<>\"\",          REFERENTES!U1116<>96321,    REFERENTES!U1116<>96222            ),(REFERENTES!W1116),\"\")","v":""},{"$f":"REFERENTES!S1116","v":0},null,1114,0,1130,"X"]
[null,null,null,null,null,null,null,null,null,null,null,null,null,null,null,null,null,null,null,null,null,null,null,null,{"$f":"IF(AND(REFERENTES!U1117<>\"\",          REFERENTES!U1117<>96321,    REFERENTES!U1117<>96222            ),(REFERENTES!W1117),\"\")","v":""},{"$f":"REFERENTES!S1117","v":0},null,1115,0,1130,"X"]
[null,null,null,null,null,null,null,null,null,null,null,null,null,null,null,null,null,null,null,null,null,null,null,null,{"$f":"IF(AND(REFERENTES!U1118<>\"\",          REFERENTES!U1118<>96321,    REFERENTES!U1118<>96222            ),(REFERENTES!W1118),\"\")","v":""},{"$f":"REFERENTES!S1118","v":0},null,1116,0,1130,"X"]
[null,null,null,null,null,null,null,null,null,null,null,null,null,null,null,null,null,null,null,null,null,null,null,null,{"$f":"IF(AND(REFERENTES!U1119<>\"\",          REFERENTES!U1119<>96321,    REFERENTES!U1119<>96222            ),(REFERENTES!W1119),\"\")","v":""},{"$f":"REFERENTES!S1119","v":0},null,1117,0,1130,"X"]
[null,null,null,null,null,null,null,null,null,null,null,null,null,null,null,null,null,null,null,null,null,null,null,null,{"$f":"IF(AND(REFERENTES!U1120<>\"\",          REFERENTES!U1120<>96321,    REFERENTES!U1120<>96222            ),(REFERENTES!W1120),\"\")","v":""},{"$f":"REFERENTES!S1120","v":0},null,1118,0,1130,"X"]
[null,null,null,null,null,null,null,null,null,null,null,null,null,null,null,null,null,null,null,null,null,null,null,null,{"$f":"IF(AND(REFERENTES!U1121<>\"\",          REFERENTES!U1121<>96321,    REFERENTES!U1121<>96222            ),(REFERENTES!W1121),\"\")","v":""},{"$f":"REFERENTES!S1121","v":0},null,1119,0,1130,"X"]
[null,null,null,null,null,null,null,null,null,null,null,null,null,null,null,null,null,null,null,null,null,null,null,null,{"$f":"IF(AND(REFERENTES!U1122<>\"\",          REFERENTES!U1122<>96321,    REFERENTES!U1122<>96222            ),(REFERENTES!W1122),\"\")","v":""},{"$f":"REFERENTES!S1122","v":0},null,1120,0,1130,"X"]
[null,null,null,null,null,null,null,null,null,null,null,null,null,null,null,null,null,null,null,null,null,null,null,null,{"$f":"IF(AND(REFERENTES!U1123<>\"\",          REFERENTES!U1123<>96321,    REFERENTES!U1123<>96222            ),(REFERENTES!W1123),\"\")","v":""},{"$f":"REFERENTES!S1123","v":0},null,1121,0,1130,"X"]
[null,null,null,null,null,null,null,null,null,null,null,null,null,null,null,null,null,null,null,null,null,null,null,null,{"$f":"IF(AND(REFERENTES!U1124<>\"\",          REFERENTES!U1124<>96321,    REFERENTES!U1124<>96222            ),(REFERENTES!W1124),\"\")","v":""},{"$f":"REFERENTES!S1124","v":0},null,1122,0,1130,"X"]
[null,null,null,null,null,null,null,null,null,null,null,null,null,null,null,null,null,null,null,null,null,null,null,null,{"$f":"IF(AND(REFERENTES!U1125<>\"\",          REFERENTES!U1125<>96321,    REFERENTES!U1125<>96222            ),(REFERENTES!W1125),\"\")","v":""},{"$f":"REFERENTES!S1125","v":0},null,1123,0,1130,"X"]
[null,null,null,null,null,null,null,null,null,null,null,null,null,null,null,null,null,null,null,null,null,null,null,null,{"$f":"IF(AND(REFERENTES!U1126<>\"\",          REFERENTES!U1126<>96321,    REFERENTES!U1126<>96222            ),(REFERENTES!W1126),\"\")","v":""},{"$f":"REFERENTES!S1126","v":0},null,1124,0,1130,"X"]
[null,null,null,null,null,null,null,null,null,null,null,null,null,null,null,null,null,null,null,null,null,null,null,null,{"$f":"IF(AND(REFERENTES!U1127<>\"\",          REFERENTES!U1127<>96321,    REFERENTES!U1127<>96222            ),(REFERENTES!W1127),\"\")","v":""},{"$f":"REFERENTES!S1127","v":0},null,1125,0,1130,"X"]
[null,null,null,null,null,null,null,null,null,null,null,null,null,null,null,null,null,null,null,null,null,null,null,null,{"$f":"IF(AND(REFERENTES!U1128<>\"\",          REFERENTES!U1128<>96321,    REFERENTES!U1128<>96222            ),(REFERENTES!W1128),\"\")","v":""},{"$f":"REFERENTES!S1128","v":0},null,1126,0,1130,"X"]
[null,null,null,null,null,null,null,null,null,null,null,null,null,null,null,null,null,null,null,null,null,null,null,null,{"$f":"IF(AND(REFERENTES!U1129<>\"\",          REFERENTES!U1129<>96321,    REFERENTES!U1129<>96222            ),(REFERENTES!W1129),\"\")","v":""},{"$f":"REFERENTES!S1129","v":0},null,1127,0,1130,"X"]
[null,null,null,null,null,null,null,null,null,null,null,null,null,null,null,null,null,null,null,null,null,null,null,null,{"$f":"IF(AND(REFERENTES!U1130<>\"\",          REFERENTES!U1130<>96321,    REFERENTES!U1130<>96222            ),(REFERENTES!W1130),\"\")","v":""},{"$f":"REFERENTES!S1130","v":0},null,1128,0,1130,"X"]
[null,null,null,null,null,null,null,null,null,null,null,null,null,null,null,null,null,null,null,null,null,null,null,null,{"$f":"IF(AND(REFERENTES!U1131<>\"\",          REFERENTES!U1131<>96321,    REFERENTES!U1131<>96222            ),(REFERENTES!W1131),\"\")","v":""},{"$f":"REFERENTES!S1131","v":0},null,1129,0,1130,"X"]
[null,null,null,null,null,null,null,null,null,null,null,null,null,null,null,null,null,null,null,null,null,null,null,null,{"$f":"IF(AND(REFERENTES!U1132<>\"\",          REFERENTES!U1132<>96321,    REFERENTES!U1132<>96222            ),(REFERENTES!W1132),\"\")","v":""},{"$f":"REFERENTES!S1132","v":0},null,1130,0,1130,"X"]
[null,null,null,null,null,null,null,null,null,null,null,null,null,null,null,null,null,null,null,null,null,null,null,null,{"$f":"IF(AND(REFERENTES!U1133<>\"\",          REFERENTES!U1133<>96321,    REFERENTES!U1133<>96222            ),(REFERENTES!W1133),\"\")","v":""},{"$f":"REFERENTES!S1133","v":0},null,1131,0,1130,"X"]
[null,null,null,null,null,null,null,null,null,null,null,null,null,null,null,null,null,null,null,null,null,null,null,null,{"$f":"IF(AND(REFERENTES!U1134<>\"\",          REFERENTES!U1134<>96321,    REFERENTES!U1134<>96222            ),(REFERENTES!W1134),\"\")","v":""},{"$f":"REFERENTES!S1134","v":0},null,1132,0,1130,"X"]
[null,null,null,null,null,null,null,null,null,null,null,null,null,null,null,null,null,null,null,null,null,null,null,null,{"$f":"IF(AND(REFERENTES!U1135<>\"\",          REFERENTES!U1135<>96321,    REFERENTES!U1135<>96222            ),(REFERENTES!W1135),\"\")","v":""},{"$f":"REFERENTES!S1135","v":0},null,1133,0,1130,"X"]
[null,null,null,null,null,null,null,null,null,null,null,null,null,null,null,null,null,null,null,null,null,null,null,null,{"$f":"IF(AND(REFERENTES!U1136<>\"\",          REFERENTES!U1136<>96321,    REFERENTES!U1136<>96222            ),(REFERENTES!W1136),\"\")","v":""},{"$f":"REFERENTES!S1136","v":0},null,1134,0,1130,"X"]
[null,null,null,null,null,null,null,null,null,null,null,null,null,null,null,null,null,null,null,null,null,null,null,null,{"$f":"IF(AND(REFERENTES!U1137<>\"\",          REFERENTES!U1137<>96321,    REFERENTES!U1137<>96222            ),(REFERENTES!W1137),\"\")","v":""},{"$f":"REFERENTES!S1137","v":0},null,1135,0,1130,"X"]
[null,null,null,null,null,null,null,null,null,null,null,null,null,null,null,null,null,null,null,null,null,null,null,null,{"$f":"IF(AND(REFERENTES!U1138<>\"\",          REFERENTES!U1138<>96321,    REFERENTES!U1138<>96222            ),(REFERENTES!W1138),\"\")","v":""},{"$f":"REFERENTES!S1138","v":0},null,1136,0,1130,"X"]
[null,null,null,null,null,null,null,null,null,null,null,null,null,null,null,null,null,null,null,null,null,null,null,null,{"$f":"IF(AND(REFERENTES!U1139<>\"\",          REFERENTES!U1139<>96321,    REFERENTES!U1139<>96222            ),(REFERENTES!W1139),\"\")","v":""},{"$f":"REFERENTES!S1139","v":0},null,1137,0,1130,"X"]
[null,null,null,null,null,null,null,null,null,null,null,null,null,null,null,null,null,null,null,null,null,null,null,null,{"$f":"IF(AND(REFERENTES!U1140<>\"\",          REFERENTES!U1140<>96321,    REFERENTES!U1140<>96222            ),(REFERENTES!W1140),\"\")","v":""},{"$f":"REFERENTES!S1140","v":0},null,1138,0,1130,"X"]
[null,null,null,null,null,null,null,null,null,null,null,null,null,null,null,null,null,null,null,null,null,null,null,null,{"$f":"IF(AND(REFERENTES!U1141<>\"\",          REFERENTES!U1141<>96321,    REFERENTES!U1141<>96222            ),(REFERENTES!W1141),\"\")","v":""},{"$f":"REFERENTES!S1141","v":0},null,1139,0,1130,"X"]
[null,null,null,null,null,null,null,null,null,null,null,null,null,null,null,null,null,null,null,null,null,null,null,null,{"$f":"IF(AND(REFERENTES!U1142<>\"\",          REFERENTES!U1142<>96321,    REFERENTES!U1142<>96222            ),(REFERENTES!W1142),\"\")","v":""},{"$f":"REFERENTES!S1142","v":0},null,1140,0,1130,"X"]
[null,null,null,null,null,null,null,null,null,null,null,null,null,null,null,null,null,null,null,null,null,null,null,null,{"$f":"IF(AND(REFERENTES!U1143<>\"\",          REFERENTES!U1143<>96321,    REFERENTES!U1143<>96222            ),(REFERENTES!W1143),\"\")","v":""},{"$f":"REFERENTES!S1143","v":0},null,1141,0,1130,"X"]
[null,null,null,null,null,null,null,null,null,null,null,null,null,null,null,null,null,null,null,null,null,null,null,null,{"$f":"IF(AND(REFERENTES!U1144<>\"\",          REFERENTES!U1144<>96321,    REFERENTES!U1144<>96222            ),(REFERENTES!W1144),\"\")","v":""},{"$f":"REFERENTES!S1144","v":0},null,1142,0,1130,"X"]
[null,null,null,null,null,null,null,null,null,null,null,null,null,null,null,null,null,null,null,null,null,null,null,null,{"$f":"IF(AND(REFERENTES!U1145<>\"\",          REFERENTES!U1145<>96321,    REFERENTES!U1145<>96222            ),(REFERENTES!W1145),\"\")","v":""},{"$f":"REFERENTES!S1145","v":0},null,1143,0,1130,"X"]
[null,null,null,null,null,null,null,null,null,null,null,null,null,null,null,null,null,null,null,null,null,null,null,null,{"$f":"IF(AND(REFERENTES!U1146<>\"\",          REFERENTES!U1146<>96321,    REFERENTES!U1146<>96222            ),(REFERENTES!W1146),\"\")","v":""},{"$f":"REFERENTES!S1146","v":0},null,1144,0,1130,"X"]
[null,null,null,null,null,null,null,null,null,null,null,null,null,null,null,null,null,null,null,null,null,null,null,null,{"$f":"IF(AND(REFERENTES!U1147<>\"\",          REFERENTES!U1147<>96321,    REFERENTES!U1147<>96222            ),(REFERENTES!W1147),\"\")","v":""},{"$f":"REFERENTES!S1147","v":0},null,1145,0,1130,"X"]
[null,null,null,null,null,null,null,null,null,null,null,null,null,null,null,null,null,null,null,null,null,null,null,null,{"$f":"IF(AND(REFERENTES!U1148<>\"\",          REFERENTES!U1148<>96321,    REFERENTES!U1148<>96222            ),(REFERENTES!W1148),\"\")","v":""},{"$f":"REFERENTES!S1148","v":0},null,1146,0,1130,"X"]
[null,null,null,null,null,null,null,null,null,null,null,null,null,null,null,null,null,null,null,null,null,null,null,null,{"$f":"IF(AND(REFERENTES!U1149<>\"\",          REFERENTES!U1149<>96321,    REFERENTES!U1149<>96222            ),(REFERENTES!W1149),\"\")","v":""},{"$f":"REFERENTES!S1149","v":0},null,1147,0,1130,"X"]
[null,null,null,null,null,null,null,null,null,null,null,null,null,null,null,null,null,null,null,null,null,null,null,null,{"$f":"IF(AND(REFERENTES!U1150<>\"\",          REFERENTES!U1150<>96321,    REFERENTES!U1150<>96222            ),(REFERENTES!W1150),\"\")","v":""},{"$f":"REFERENTES!S1150","v":0},null,1148,0,1130,"X"]
[null,null,null,null,null,null,null,null,null,null,null,null,null,null,null,null,null,null,null,null,null,null,null,null,{"$f":"IF(AND(REFERENTES!U1151<>\"\",          REFERENTES!U1151<>96321,    REFERENTES!U1151<>96222            ),(REFERENTES!W1151),\"\")","v":""},{"$f":"REFERENTES!S1151","v":0},null,1149,0,1130,"X"]
[null,null,null,null,null,null,null,null,null,null,null,null,null,null,null,null,null,null,null,null,null,null,null,null,{"$f":"IF(AND(REFERENTES!U1152<>\"\",          REFERENTES!U1152<>96321,    REFERENTES!U1152<>96222            ),(REFERENTES!W1152),\"\")","v":""},{"$f":"REFERENTES!S1152","v":0},null,1150,0,1130,"X"]
[null,null,null,null,null,null,null,null,null,null,null,null,null,null,null,null,null,null,null,null,null,null,null,null,{"$f":"IF(AND(REFERENTES!U1153<>\"\",          REFERENTES!U1153<>96321,    REFERENTES!U1153<>96222            ),(REFERENTES!W1153),\"\")","v":""},{"$f":"REFERENTES!S1153","v":0},null,1151,0,1130,"X"]
[null,null,null,null,null,null,null,null,null,null,null,null,null,null,null,null,null,null,null,null,null,null,null,null,{"$f":"IF(AND(REFERENTES!U1154<>\"\",          REFERENTES!U1154<>96321,    REFERENTES!U1154<>96222            ),(REFERENTES!W1154),\"\")","v":""},{"$f":"REFERENTES!S1154","v":0},null,1152,0,1130,"X"]
[null,null,null,null,null,null,null,null,null,null,null,null,null,null,null,null,null,null,null,null,null,null,null,null,{"$f":"IF(AND(REFERENTES!U1155<>\"\",          REFERENTES!U1155<>96321,    REFERENTES!U1155<>96222            ),(REFERENTES!W1155),\"\")","v":""},{"$f":"REFERENTES!S1155","v":0},null,1153,0,1130,"X"]
[null,null,null,null,null,null,null,null,null,null,null,null,null,null,null,null,null,null,null,null,null,null,null,null,{"$f":"IF(AND(REFERENTES!U1156<>\"\",          REFERENTES!U1156<>96321,    REFERENTES!U1156<>96222            ),(REFERENTES!W1156),\"\")","v":""},{"$f":"REFERENTES!S1156","v":0},null,1154,{"$f":"IF(Y1159=\"\",0,Y1159)","v":0},{"$f":"IF(AC1160=0,MAX($AB$7:$AB$1135)+1,AB1160)","v":1130},{"$f":"IFERROR(VLOOKUP(SMALL($AD$7:$AD$1135,AB1160),$AB$7:$AD$1135,2,FALSE),\"X\")","v":"X"}]
[null,null,null,null,null,null,null,null,null,null,null,null,null,null,null,null,null,null,null,null,null,null,null,null,{"$f":"IF(AND(REFERENTES!U1157<>\"\",          REFERENTES!U1157<>96321,    REFERENTES!U1157<>96222            ),(REFERENTES!W1157),\"\")","v":""},{"$f":"REFERENTES!S1157","v":0},null,1155,0,1130,"X"]
[null,null,null,null,null,null,null,null,null,null,null,null,null,null,null,null,null,null,null,null,null,null,null,null,{"$f":"IF(AND(REFERENTES!U1158<>\"\",          REFERENTES!U1158<>96321,    REFERENTES!U1158<>96222            ),(REFERENTES!W1158),\"\")","v":""},{"$f":"REFERENTES!S1158","v":0},null,1156,0,1130,"X"]
[null,null,null,null,null,null,null,null,null,null,null,null,null,null,null,null,null,null,null,null,null,null,null,null,{"$f":"IF(AND(REFERENTES!U1159<>\"\",          REFERENTES!U1159<>96321,    REFERENTES!U1159<>96222            ),(REFERENTES!W1159),\"\")","v":""},{"$f":"REFERENTES!S1159","v":0},null,1157,0,1130,"X"]
[null,null,null,null,null,null,null,null,null,null,null,null,null,null,null,null,null,null,null,null,null,null,null,null,{"$f":"IF(AND(REFERENTES!U1160<>\"\",          REFERENTES!U1160<>96321,    REFERENTES!U1160<>96222            ),(REFERENTES!W1160),\"\")","v":""},{"$f":"REFERENTES!S1160","v":0},null,1158,0,1130,"X"]
[null,null,null,null,null,null,null,null,null,null,null,null,null,null,null,null,null,null,null,null,null,null,null,null,{"$f":"IF(AND(REFERENTES!U1161<>\"\",          REFERENTES!U1161<>96321,    REFERENTES!U1161<>96222            ),(REFERENTES!W1161),\"\")","v":""},{"$f":"REFERENTES!S1161","v":0},null,1159,0,1130,"X"]
[null,null,null,null,null,null,null,null,null,null,null,null,null,null,null,null,null,null,null,null,null,null,null,null,{"$f":"IF(AND(REFERENTES!U1162<>\"\",          REFERENTES!U1162<>96321,    REFERENTES!U1162<>96222            ),(REFERENTES!W1162),\"\")","v":""},{"$f":"REFERENTES!S1162","v":0},null,1160,0,1130,"X"]
[null,null,null,null,null,null,null,null,null,null,null,null,null,null,null,null,null,null,null,null,null,null,null,null,{"$f":"IF(AND(REFERENTES!U1163<>\"\",          REFERENTES!U1163<>96321,    REFERENTES!U1163<>96222            ),(REFERENTES!W1163),\"\")","v":""},{"$f":"REFERENTES!S1163","v":0},null,1161,0,1130,"X"]
[null,null,null,null,null,null,null,null,null,null,null,null,null,null,null,null,null,null,null,null,null,null,null,null,{"$f":"IF(AND(REFERENTES!U1164<>\"\",          REFERENTES!U1164<>96321,    REFERENTES!U1164<>96222            ),(REFERENTES!W1164),\"\")","v":""},{"$f":"REFERENTES!S1164","v":0},null,1162,0,1130,"X"]
[null,null,null,null,null,null,null,null,null,null,null,null,null,null,null,null,null,null,null,null,null,null,null,null,{"$f":"IF(AND(REFERENTES!U1165<>\"\",          REFERENTES!U1165<>96321,    REFERENTES!U1165<>96222            ),(REFERENTES!W1165),\"\")","v":""},{"$f":"REFERENTES!S1165","v":0},null,1163,0,1130,"X"]
[null,null,null,null,null,null,null,null,null,null,null,null,null,null,null,null,null,null,null,null,null,null,null,null,{"$f":"IF(AND(REFERENTES!U1166<>\"\",          REFERENTES!U1166<>96321,    REFERENTES!U1166<>96222            ),(REFERENTES!W1166),\"\")","v":""},{"$f":"REFERENTES!S1166","v":0},null,1164,0,1130,"X"]
[null,null,null,null,null,null,null,null,null,null,null,null,null,null,null,null,null,null,null,null,null,null,null,null,{"$f":"IF(AND(REFERENTES!U1167<>\"\",          REFERENTES!U1167<>96321,    REFERENTES!U1167<>96222            ),(REFERENTES!W1167),\"\")","v":""},{"$f":"REFERENTES!S1167","v":0},null,1165,0,1130,"X"]
[null,null,null,null,null,null,null,null,null,null,null,null,null,null,null,null,null,null,null,null,null,null,null,null,{"$f":"IF(AND(REFERENTES!U1168<>\"\",          REFERENTES!U1168<>96321,    REFERENTES!U1168<>96222            ),(REFERENTES!W1168),\"\")","v":""},{"$f":"REFERENTES!S1168","v":0},null,1166,0,1130,"X"]
[null,null,null,null,null,null,null,null,null,null,null,null,null,null,null,null,null,null,null,null,null,null,null,null,{"$f":"IF(AND(REFERENTES!U1169<>\"\",          REFERENTES!U1169<>96321,    REFERENTES!U1169<>96222            ),(REFERENTES!W1169),\"\")","v":""},{"$f":"REFERENTES!S1169","v":0},null,1167,0,1130,"X"]
[null,null,null,null,null,null,null,null,null,null,null,null,null,null,null,null,null,null,null,null,null,null,null,null,{"$f":"IF(AND(REFERENTES!U1170<>\"\",          REFERENTES!U1170<>96321,    REFERENTES!U1170<>96222            ),(REFERENTES!W1170),\"\")","v":""},{"$f":"REFERENTES!S1170","v":0},null,1168,0,1130,"X"]
[null,null,null,null,null,null,null,null,null,null,null,null,null,null,null,null,null,null,null,null,null,null,null,null,{"$f":"IF(AND(REFERENTES!U1171<>\"\",          REFERENTES!U1171<>96321,    REFERENTES!U1171<>96222            ),(REFERENTES!W1171),\"\")","v":""},{"$f":"REFERENTES!S1171","v":0},null,1169,0,1130,"X"]
[null,null,null,null,null,null,null,null,null,null,null,null,null,null,null,null,null,null,null,null,null,null,null,null,{"$f":"IF(AND(REFERENTES!U1172<>\"\",          REFERENTES!U1172<>96321,    REFERENTES!U1172<>96222            ),(REFERENTES!W1172),\"\")","v":""},{"$f":"REFERENTES!S1172","v":0},null,1170,0,1130,"X"]
[null,null,null,null,null,null,null,null,null,null,null,null,null,null,null,null,null,null,null,null,null,null,null,null,{"$f":"IF(AND(REFERENTES!U1173<>\"\",          REFERENTES!U1173<>96321,    REFERENTES!U1173<>96222            ),(REFERENTES!W1173),\"\")","v":""},{"$f":"REFERENTES!S1173","v":0},null,1171,0,1130,"X"]
[null,null,null,null,null,null,null,null,null,null,null,null,null,null,null,null,null,null,null,null,null,null,null,null,{"$f":"IF(AND(REFERENTES!U1174<>\"\",          REFERENTES!U1174<>96321,    REFERENTES!U1174<>96222            ),(REFERENTES!W1174),\"\")","v":""},{"$f":"REFERENTES!S1174","v":0},null,1172,0,1130,"X"]
[null,null,null,null,null,null,null,null,null,null,null,null,null,null,null,null,null,null,null,null,null,null,null,null,{"$f":"IF(AND(REFERENTES!U1175<>\"\",          REFERENTES!U1175<>96321,    REFERENTES!U1175<>96222            ),(REFERENTES!W1175),\"\")","v":""},{"$f":"REFERENTES!S1175","v":0},null,1173,0,1130,"X"]
[null,null,null,null,null,null,null,null,null,null,null,null,null,null,null,null,null,null,null,null,null,null,null,null,{"$f":"IF(AND(REFERENTES!U1176<>\"\",          REFERENTES!U1176<>96321,    REFERENTES!U1176<>96222            ),(REFERENTES!W1176),\"\")","v":""},{"$f":"REFERENTES!S1176","v":0},null,1174,0,1130,"X"]
[null,null,null,null,null,null,null,null,null,null,null,null,null,null,null,null,null,null,null,null,null,null,null,null,{"$f":"IF(AND(REFERENTES!U1177<>\"\",          REFERENTES!U1177<>96321,    REFERENTES!U1177<>96222            ),(REFERENTES!W1177),\"\")","v":""},{"$f":"REFERENTES!S1177","v":0},null,1175,0,1130,"X"]
[null,null,null,null,null,null,null,null,null,null,null,null,null,null,null,null,null,null,null,null,null,null,null,null,{"$f":"IF(AND(REFERENTES!U1178<>\"\",          REFERENTES!U1178<>96321,    REFERENTES!U1178<>96222            ),(REFERENTES!W1178),\"\")","v":""},{"$f":"REFERENTES!S1178","v":0},null,1176,0,1130,"X"]
[null,null,null,null,null,null,null,null,null,null,null,null,null,null,null,null,null,null,null,null,null,null,null,null,{"$f":"IF(AND(REFERENTES!U1179<>\"\",          REFERENTES!U1179<>96321,    REFERENTES!U1179<>96222            ),(REFERENTES!W1179),\"\")","v":""},{"$f":"REFERENTES!S1179","v":0},null,1177,0,1130,"X"]
[null,null,null,null,null,null,null,null,null,null,null,null,null,null,null,null,null,null,null,null,null,null,null,null,{"$f":"IF(AND(REFERENTES!U1180<>\"\",          REFERENTES!U1180<>96321,    REFERENTES!U1180<>96222            ),(REFERENTES!W1180),\"\")","v":""},{"$f":"REFERENTES!S1180","v":0},null,1178,0,1130,"X"]
[null,null,null,null,null,null,null,null,null,null,null,null,null,null,null,null,null,null,null,null,null,null,null,null,{"$f":"IF(AND(REFERENTES!U1181<>\"\",          REFERENTES!U1181<>96321,    REFERENTES!U1181<>96222            ),(REFERENTES!W1181),\"\")","v":""},{"$f":"REFERENTES!S1181","v":0},null,1179,0,1130,"X"]
[null,null,null,null,null,null,null,null,null,null,null,null,null,null,null,null,null,null,null,null,null,null,null,null,{"$f":"IF(AND(REFERENTES!U1182<>\"\",          REFERENTES!U1182<>96321,    REFERENTES!U1182<>96222            ),(REFERENTES!W1182),\"\")","v":""},{"$f":"REFERENTES!S1182","v":0},null,1180,0,1130,"X"]
[null,null,null,null,null,null,null,null,null,null,null,null,null,null,null,null,null,null,null,null,null,null,null,null,{"$f":"IF(AND(REFERENTES!U1183<>\"\",          REFERENTES!U1183<>96321,    REFERENTES!U1183<>96222            ),(REFERENTES!W1183),\"\")","v":""},{"$f":"REFERENTES!S1183","v":0},null,1181,0,1130,"X"]
[null,null,null,null,null,null,null,null,null,null,null,null,null,null,null,null,null,null,null,null,null,null,null,null,{"$f":"IF(AND(REFERENTES!U1184<>\"\",          REFERENTES!U1184<>96321,    REFERENTES!U1184<>96222            ),(REFERENTES!W1184),\"\")","v":""},{"$f":"REFERENTES!S1184","v":0},null,1182,0,1130,"X"]
[null,null,null,null,null,null,null,null,null,null,null,null,null,null,null,null,null,null,null,null,null,null,null,null,{"$f":"IF(AND(REFERENTES!U1185<>\"\",          REFERENTES!U1185<>96321,    REFERENTES!U1185<>96222            ),(REFERENTES!W1185),\"\")","v":""},{"$f":"REFERENTES!S1185","v":0},null,1183,0,1130,"X"]
[null,null,null,null,null,null,null,null,null,null,null,null,null,null,null,null,null,null,null,null,null,null,null,null,{"$f":"IF(AND(REFERENTES!U1186<>\"\",          REFERENTES!U1186<>96321,    REFERENTES!U1186<>96222            ),(REFERENTES!W1186),\"\")","v":""},{"$f":"REFERENTES!S1186","v":0},null,1184,0,1130,"X"]
[null,null,null,null,null,null,null,null,null,null,null,null,null,null,null,null,null,null,null,null,null,null,null,null,{"$f":"IF(AND(REFERENTES!U1187<>\"\",          REFERENTES!U1187<>96321,    REFERENTES!U1187<>96222            ),(REFERENTES!W1187),\"\")","v":""},{"$f":"REFERENTES!S1187","v":0},null,1185,0,1130,"X"]
[null,null,null,null,null,null,null,null,null,null,null,null,null,null,null,null,null,null,null,null,null,null,null,null,{"$f":"IF(AND(REFERENTES!U1188<>\"\",          REFERENTES!U1188<>96321,    REFERENTES!U1188<>96222            ),(REFERENTES!W1188),\"\")","v":""},{"$f":"REFERENTES!S1188","v":0},null,1186,0,1130,"X"]
[null,null,null,null,null,null,null,null,null,null,null,null,null,null,null,null,null,null,null,null,null,null,null,null,{"$f":"IF(AND(REFERENTES!U1189<>\"\",          REFERENTES!U1189<>96321,    REFERENTES!U1189<>96222            ),(REFERENTES!W1189),\"\")","v":""},{"$f":"REFERENTES!S1189","v":0},null,1187,0,1130,"X"]
[null,null,null,null,null,null,null,null,null,null,null,null,null,null,null,null,null,null,null,null,null,null,null,null,{"$f":"IF(AND(REFERENTES!U1190<>\"\",          REFERENTES!U1190<>96321,    REFERENTES!U1190<>96222            ),(REFERENTES!W1190),\"\")","v":""},{"$f":"REFERENTES!S1190","v":0},null,1188,0,1130,"X"]
[null,null,null,null,null,null,null,null,null,null,null,null,null,null,null,null,null,null,null,null,null,null,null,null,{"$f":"IF(AND(REFERENTES!U1191<>\"\",          REFERENTES!U1191<>96321,    REFERENTES!U1191<>96222            ),(REFERENTES!W1191),\"\")","v":""},{"$f":"REFERENTES!S1191","v":0},null,1189,0,1130,"X"]
[null,null,null,null,null,null,null,null,null,null,null,null,null,null,null,null,null,null,null,null,null,null,null,null,{"$f":"IF(AND(REFERENTES!U1192<>\"\",          REFERENTES!U1192<>96321,    REFERENTES!U1192<>96222            ),(REFERENTES!W1192),\"\")","v":""},{"$f":"REFERENTES!S1192","v":0},null,1190,0,1130,"X"]
[null,null,null,null,null,null,null,null,null,null,null,null,null,null,null,null,null,null,null,null,null,null,null,null,{"$f":"IF(AND(REFERENTES!U1193<>\"\",          REFERENTES!U1193<>96321,    REFERENTES!U1193<>96222            ),(REFERENTES!W1193),\"\")","v":""},{"$f":"REFERENTES!S1193","v":0},null,1191,0,1130,"X"]
[null,null,null,null,null,null,null,null,null,null,null,null,null,null,null,null,null,null,null,null,null,null,null,null,{"$f":"IF(AND(REFERENTES!U1194<>\"\",          REFERENTES!U1194<>96321,    REFERENTES!U1194<>96222            ),(REFERENTES!W1194),\"\")","v":""},{"$f":"REFERENTES!S1194","v":0},null,1192,0,1130,"X"]
[null,null,null,null,null,null,null,null,null,null,null,null,null,null,null,null,null,null,null,null,null,null,null,null,{"$f":"IF(AND(REFERENTES!U1195<>\"\",          REFERENTES!U1195<>96321,    REFERENTES!U1195<>96222            ),(REFERENTES!W1195),\"\")","v":""},{"$f":"REFERENTES!S1195","v":0},null,1193,0,1130,"X"]
[null,null,null,null,null,null,null,null,null,null,null,null,null,null,null,null,null,null,null,null,null,null,null,null,{"$f":"IF(AND(REFERENTES!U1196<>\"\",          REFERENTES!U1196<>96321,    REFERENTES!U1196<>96222            ),(REFERENTES!W1196),\"\")","v":""},{"$f":"REFERENTES!S1196","v":0},null,1194,0,1130,"X"]
[null,null,null,null,null,null,null,null,null,null,null,null,null,null,null,null,null,null,null,null,null,null,null,null,{"$f":"IF(AND(REFERENTES!U1197<>\"\",          REFERENTES!U1197<>96321,    REFERENTES!U1197<>96222            ),(REFERENTES!W1197),\"\")","v":""},{"$f":"REFERENTES!S1197","v":0},null,1195,0,1130,"X"]
[null,null,null,null,null,null,null,null,null,null,null,null,null,null,null,null,null,null,null,null,null,null,null,null,{"$f":"IF(AND(REFERENTES!U1198<>\"\",          REFERENTES!U1198<>96321,    REFERENTES!U1198<>96222            ),(REFERENTES!W1198),\"\")","v":""},{"$f":"REFERENTES!S1198","v":0},null,1196,0,1130,"X"]
[null,null,null,null,null,null,null,null,null,null,null,null,null,null,null,null,null,null,null,null,null,null,null,null,{"$f":"IF(AND(REFERENTES!U1199<>\"\",          REFERENTES!U1199<>96321,    REFERENTES!U1199<>96222            ),(REFERENTES!W1199),\"\")","v":""},{"$f":"REFERENTES!S1199","v":0},null,1197,0,1130,"X"]
[null,null,null,null,null,null,null,null,null,null,null,null,null,null,null,null,null,null,null,null,null,null,null,null,{"$f":"IF(AND(REFERENTES!U1200<>\"\",          REFERENTES!U1200<>96321,    REFERENTES!U1200<>96222            ),(REFERENTES!W1200),\"\")","v":""},{"$f":"REFERENTES!S1200","v":0},null,1198,0,1130,"X"]
[null,null,null,null,null,null,null,null,null,null,null,null,null,null,null,null,null,null,null,null,null,null,null,null,{"$f":"IF(AND(REFERENTES!U1201<>\"\",          REFERENTES!U1201<>96321,    REFERENTES!U1201<>96222            ),(REFERENTES!W1201),\"\")","v":""},{"$f":"REFERENTES!S1201","v":0},null,1199,0,1130,"X"]
[null,null,null,null,null,null,null,null,null,null,null,null,null,null,null,null,null,null,null,null,null,null,null,null,{"$f":"IF(AND(REFERENTES!U1202<>\"\",          REFERENTES!U1202<>96321,    REFERENTES!U1202<>96222            ),(REFERENTES!W1202),\"\")","v":""},{"$f":"REFERENTES!S1202","v":0},null,1200,0,1130,"X"]
[null,null,null,null,null,null,null,null,null,null,null,null,null,null,null,null,null,null,null,null,null,null,null,null,{"$f":"IF(AND(REFERENTES!U1203<>\"\",          REFERENTES!U1203<>96321,    REFERENTES!U1203<>96222            ),(REFERENTES!W1203),\"\")","v":""},{"$f":"REFERENTES!S1203","v":0},null,1201,0,1130,"X"]
[null,null,null,null,null,null,null,null,null,null,null,null,null,null,null,null,null,null,null,null,null,null,null,null,{"$f":"IF(AND(REFERENTES!U1204<>\"\",          REFERENTES!U1204<>96321,    REFERENTES!U1204<>96222            ),(REFERENTES!W1204),\"\")","v":""},{"$f":"REFERENTES!S1204","v":0},null,1202,0,1130,"X"]
[null,null,null,null,null,null,null,null,null,null,null,null,null,null,null,null,null,null,null,null,null,null,null,null,{"$f":"IF(AND(REFERENTES!U1205<>\"\",          REFERENTES!U1205<>96321,    REFERENTES!U1205<>96222            ),(REFERENTES!W1205),\"\")","v":""},{"$f":"REFERENTES!S1205","v":0},null,1203,0,1130,"X"]
[null,null,null,null,null,null,null,null,null,null,null,null,null,null,null,null,null,null,null,null,null,null,null,null,{"$f":"IF(AND(REFERENTES!U1206<>\"\",          REFERENTES!U1206<>96321,    REFERENTES!U1206<>96222            ),(REFERENTES!W1206),\"\")","v":""},{"$f":"REFERENTES!S1206","v":0},null,1204,0,1130,"X"]
[null,null,null,null,null,null,null,null,null,null,null,null,null,null,null,null,null,null,null,null,null,null,null,null,{"$f":"IF(AND(REFERENTES!U1207<>\"\",          REFERENTES!U1207<>96321,    REFERENTES!U1207<>96222            ),(REFERENTES!W1207),\"\")","v":""},{"$f":"REFERENTES!S1207","v":0},null,1205,0,1130,"X"]
[null,null,null,null,null,null,null,null,null,null,null,null,null,null,null,null,null,null,null,null,null,null,null,null,{"$f":"IF(AND(REFERENTES!U1208<>\"\",          REFERENTES!U1208<>96321,    REFERENTES!U1208<>96222            ),(REFERENTES!W1208),\"\")","v":""},{"$f":"REFERENTES!S1208","v":0},null,1206,0,1130,"X"]
[null,null,null,null,null,null,null,null,null,null,null,null,null,null,null,null,null,null,null,null,null,null,null,null,{"$f":"IF(AND(REFERENTES!U1209<>\"\",          REFERENTES!U1209<>96321,    REFERENTES!U1209<>96222            ),(REFERENTES!W1209),\"\")","v":""},{"$f":"REFERENTES!S1209","v":0},null,1207,0,1130,"X"]
[null,null,null,null,null,null,null,null,null,null,null,null,null,null,null,null,null,null,null,null,null,null,null,null,{"$f":"IF(AND(REFERENTES!U1210<>\"\",          REFERENTES!U1210<>96321,    REFERENTES!U1210<>96222            ),(REFERENTES!W1210),\"\")","v":""},{"$f":"REFERENTES!S1210","v":0},null,1208,0,1130,"X"]
[null,null,null,null,null,null,null,null,null,null,null,null,null,null,null,null,null,null,null,null,null,null,null,null,{"$f":"IF(AND(REFERENTES!U1211<>\"\",          REFERENTES!U1211<>96321,    REFERENTES!U1211<>96222            ),(REFERENTES!W1211),\"\")","v":""},{"$f":"REFERENTES!S1211","v":0},null,1209,0,1130,"X"]
[null,null,null,null,null,null,null,null,null,null,null,null,null,null,null,null,null,null,null,null,null,null,null,null,{"$f":"IF(AND(REFERENTES!U1212<>\"\",          REFERENTES!U1212<>96321,    REFERENTES!U1212<>96222            ),(REFERENTES!W1212),\"\")","v":""},{"$f":"REFERENTES!S1212","v":0},null,1210,0,1130,"X"]
[null,null,null,null,null,null,null,null,null,null,null,null,null,null,null,null,null,null,null,null,null,null,null,null,{"$f":"IF(AND(REFERENTES!U1213<>\"\",          REFERENTES!U1213<>96321,    REFERENTES!U1213<>96222            ),(REFERENTES!W1213),\"\")","v":""},{"$f":"REFERENTES!S1213","v":0},null,1211,0,1130,"X"]
[null,null,null,null,null,null,null,null,null,null,null,null,null,null,null,null,null,null,null,null,null,null,null,null,{"$f":"IF(AND(REFERENTES!U1214<>\"\",          REFERENTES!U1214<>96321,    REFERENTES!U1214<>96222            ),(REFERENTES!W1214),\"\")","v":""},{"$f":"REFERENTES!S1214","v":0},null,1212,0,1130,"X"]
[null,null,null,null,null,null,null,null,null,null,null,null,null,null,null,null,null,null,null,null,null,null,null,null,{"$f":"IF(AND(REFERENTES!U1215<>\"\",          REFERENTES!U1215<>96321,    REFERENTES!U1215<>96222            ),(REFERENTES!W1215),\"\")","v":""},{"$f":"REFERENTES!S1215","v":0},null,1213,0,1130,"X"]
[null,null,null,null,null,null,null,null,null,null,null,null,null,null,null,null,null,null,null,null,null,null,null,null,{"$f":"IF(AND(REFERENTES!U1216<>\"\",          REFERENTES!U1216<>96321,    REFERENTES!U1216<>96222            ),(REFERENTES!W1216),\"\")","v":""},{"$f":"REFERENTES!S1216","v":0},null,1214,0,1130,"X"]
[null,null,null,null,null,null,null,null,null,null,null,null,null,null,null,null,null,null,null,null,null,null,null,null,{"$f":"IF(AND(REFERENTES!U1217<>\"\",          REFERENTES!U1217<>96321,    REFERENTES!U1217<>96222            ),(REFERENTES!W1217),\"\")","v":""},{"$f":"REFERENTES!S1217","v":0},null,1215,0,1130,"X"]
[null,null,null,null,null,null,null,null,null,null,null,null,null,null,null,null,null,null,null,null,null,null,null,null,{"$f":"IF(AND(REFERENTES!U1218<>\"\",          REFERENTES!U1218<>96321,    REFERENTES!U1218<>96222            ),(REFERENTES!W1218),\"\")","v":""},{"$f":"REFERENTES!S1218","v":0},null,1216,0,1130,"X"]
[null,null,null,null,null,null,null,null,null,null,null,null,null,null,null,null,null,null,null,null,null,null,null,null,{"$f":"IF(AND(REFERENTES!U1219<>\"\",          REFERENTES!U1219<>96321,    REFERENTES!U1219<>96222            ),(REFERENTES!W1219),\"\")","v":""},{"$f":"REFERENTES!S1219","v":0},null,1217,0,1130,"X"]
[null,null,null,null,null,null,null,null,null,null,null,null,null,null,null,null,null,null,null,null,null,null,null,null,{"$f":"IF(AND(REFERENTES!U1220<>\"\",          REFERENTES!U1220<>96321,    REFERENTES!U1220<>96222            ),(REFERENTES!W1220),\"\")","v":""},{"$f":"REFERENTES!S1220","v":0},null,1218,{"$f":"IF(Y1223=\"\",0,Y1223)","v":0},{"$f":"IF(AC1224=0,MAX($AB$7:$AB$1135)+1,AB1224)","v":1130},{"$f":"IFERROR(VLOOKUP(SMALL($AD$7:$AD$1135,AB1224),$AB$7:$AD$1135,2,FALSE),\"X\")","v":"X"}]
[null,null,null,null,null,null,null,null,null,null,null,null,null,null,null,null,null,null,null,null,null,null,null,null,{"$f":"IF(AND(REFERENTES!U1221<>\"\",          REFERENTES!U1221<>96321,    REFERENTES!U1221<>96222            ),(REFERENTES!W1221),\"\")","v":""},{"$f":"REFERENTES!S1221","v":0},null,1219,0,1130,"X"]
[null,null,null,null,null,null,null,null,null,null,null,null,null,null,null,null,null,null,null,null,null,null,null,null,{"$f":"IF(AND(REFERENTES!U1222<>\"\",          REFERENTES!U1222<>96321,    REFERENTES!U1222<>96222            ),(REFERENTES!W1222),\"\")","v":""},{"$f":"REFERENTES!S1222","v":0},null,1220,0,1130,"X"]
[null,null,null,null,null,null,null,null,null,null,null,null,null,null,null,null,null,null,null,null,null,null,null,null,{"$f":"IF(AND(REFERENTES!U1223<>\"\",          REFERENTES!U1223<>96321,    REFERENTES!U1223<>96222            ),(REFERENTES!W1223),\"\")","v":""},{"$f":"REFERENTES!S1223","v":0},null,1221,0,1130,"X"]
[null,null,null,null,null,null,null,null,null,null,null,null,null,null,null,null,null,null,null,null,null,null,null,null,{"$f":"IF(AND(REFERENTES!U1224<>\"\",          REFERENTES!U1224<>96321,    REFERENTES!U1224<>96222            ),(REFERENTES!W1224),\"\")","v":""},{"$f":"REFERENTES!S1224","v":0},null,1222,0,1130,"X"]
[null,null,null,null,null,null,null,null,null,null,null,null,null,null,null,null,null,null,null,null,null,null,null,null,{"$f":"IF(AND(REFERENTES!U1225<>\"\",          REFERENTES!U1225<>96321,    REFERENTES!U1225<>96222            ),(REFERENTES!W1225),\"\")","v":""},{"$f":"REFERENTES!S1225","v":0},null,1223,0,1130,"X"]
[null,null,null,null,null,null,null,null,null,null,null,null,null,null,null,null,null,null,null,null,null,null,null,null,{"$f":"IF(AND(REFERENTES!U1226<>\"\",          REFERENTES!U1226<>96321,    REFERENTES!U1226<>96222            ),(REFERENTES!W1226),\"\")","v":""},{"$f":"REFERENTES!S1226","v":0},null,1224,0,1130,"X"]
[null,null,null,null,null,null,null,null,null,null,null,null,null,null,null,null,null,null,null,null,null,null,null,null,{"$f":"IF(AND(REFERENTES!U1227<>\"\",          REFERENTES!U1227<>96321,    REFERENTES!U1227<>96222            ),(REFERENTES!W1227),\"\")","v":""},{"$f":"REFERENTES!S1227","v":0},null,1225,0,1130,"X"]
[null,null,null,null,null,null,null,null,null,null,null,null,null,null,null,null,null,null,null,null,null,null,null,null,{"$f":"IF(AND(REFERENTES!U1228<>\"\",          REFERENTES!U1228<>96321,    REFERENTES!U1228<>96222            ),(REFERENTES!W1228),\"\")","v":""},{"$f":"REFERENTES!S1228","v":0},null,1226,0,1130,"X"]
[null,null,null,null,null,null,null,null,null,null,null,null,null,null,null,null,null,null,null,null,null,null,null,null,{"$f":"IF(AND(REFERENTES!U1229<>\"\",          REFERENTES!U1229<>96321,    REFERENTES!U1229<>96222            ),(REFERENTES!W1229),\"\")","v":""},{"$f":"REFERENTES!S1229","v":0},null,1227,0,1130,"X"]
[null,null,null,null,null,null,null,null,null,null,null,null,null,null,null,null,null,null,null,null,null,null,null,null,{"$f":"IF(AND(REFERENTES!U1230<>\"\",          REFERENTES!U1230<>96321,    REFERENTES!U1230<>96222            ),(REFERENTES!W1230),\"\")","v":""},{"$f":"REFERENTES!S1230","v":0},null,1228,0,1130,"X"]
[null,null,null,null,null,null,null,null,null,null,null,null,null,null,null,null,null,null,null,null,null,null,null,null,{"$f":"IF(AND(REFERENTES!U1231<>\"\",          REFERENTES!U1231<>96321,    REFERENTES!U1231<>96222            ),(REFERENTES!W1231),\"\")","v":""},{"$f":"REFERENTES!S1231","v":0},null,1229,0,1130,"X"]
[null,null,null,null,null,null,null,null,null,null,null,null,null,null,null,null,null,null,null,null,null,null,null,null,{"$f":"IF(AND(REFERENTES!U1232<>\"\",          REFERENTES!U1232<>96321,    REFERENTES!U1232<>96222            ),(REFERENTES!W1232),\"\")","v":""},{"$f":"REFERENTES!S1232","v":0},null,1230,0,1130,"X"]
[null,null,null,null,null,null,null,null,null,null,null,null,null,null,null,null,null,null,null,null,null,null,null,null,{"$f":"IF(AND(REFERENTES!U1233<>\"\",          REFERENTES!U1233<>96321,    REFERENTES!U1233<>96222            ),(REFERENTES!W1233),\"\")","v":""},{"$f":"REFERENTES!S1233","v":0},null,1231,0,1130,"X"]
[null,null,null,null,null,null,null,null,null,null,null,null,null,null,null,null,null,null,null,null,null,null,null,null,{"$f":"IF(AND(REFERENTES!U1234<>\"\",          REFERENTES!U1234<>96321,    REFERENTES!U1234<>96222            ),(REFERENTES!W1234),\"\")","v":""},{"$f":"REFERENTES!S1234","v":0},null,1232,0,1130,"X"]
[null,null,null,null,null,null,null,null,null,null,null,null,null,null,null,null,null,null,null,null,null,null,null,null,{"$f":"IF(AND(REFERENTES!U1235<>\"\",          REFERENTES!U1235<>96321,    REFERENTES!U1235<>96222            ),(REFERENTES!W1235),\"\")","v":""},{"$f":"REFERENTES!S1235","v":0},null,1233,0,1130,"X"]
[null,null,null,null,null,null,null,null,null,null,null,null,null,null,null,null,null,null,null,null,null,null,null,null,{"$f":"IF(AND(REFERENTES!U1236<>\"\",          REFERENTES!U1236<>96321,    REFERENTES!U1236<>96222            ),(REFERENTES!W1236),\"\")","v":""},{"$f":"REFERENTES!S1236","v":0},null,1234,0,1130,"X"]
[null,null,null,null,null,null,null,null,null,null,null,null,null,null,null,null,null,null,null,null,null,null,null,null,{"$f":"IF(AND(REFERENTES!U1237<>\"\",          REFERENTES!U1237<>96321,    REFERENTES!U1237<>96222            ),(REFERENTES!W1237),\"\")","v":""},{"$f":"REFERENTES!S1237","v":0},null,1235,0,1130,"X"]
[null,null,null,null,null,null,null,null,null,null,null,null,null,null,null,null,null,null,null,null,null,null,null,null,{"$f":"IF(AND(REFERENTES!U1238<>\"\",          REFERENTES!U1238<>96321,    REFERENTES!U1238<>96222            ),(REFERENTES!W1238),\"\")","v":""},{"$f":"REFERENTES!S1238","v":0},null,1236,0,1130,"X"]
[null,null,null,null,null,null,null,null,null,null,null,null,null,null,null,null,null,null,null,null,null,null,null,null,{"$f":"IF(AND(REFERENTES!U1239<>\"\",          REFERENTES!U1239<>96321,    REFERENTES!U1239<>96222            ),(REFERENTES!W1239),\"\")","v":""},{"$f":"REFERENTES!S1239","v":0},null,1237,0,1130,"X"]
[null,null,null,null,null,null,null,null,null,null,null,null,null,null,null,null,null,null,null,null,null,null,null,null,{"$f":"IF(AND(REFERENTES!U1240<>\"\",          REFERENTES!U1240<>96321,    REFERENTES!U1240<>96222            ),(REFERENTES!W1240),\"\")","v":""},{"$f":"REFERENTES!S1240","v":0},null,1238,0,1130,"X"]
[null,null,null,null,null,null,null,null,null,null,null,null,null,null,null,null,null,null,null,null,null,null,null,null,{"$f":"IF(AND(REFERENTES!U1241<>\"\",          REFERENTES!U1241<>96321,    REFERENTES!U1241<>96222            ),(REFERENTES!W1241),\"\")","v":""},{"$f":"REFERENTES!S1241","v":0},null,1239,0,1130,"X"]
[null,null,null,null,null,null,null,null,null,null,null,null,null,null,null,null,null,null,null,null,null,null,null,null,{"$f":"IF(AND(REFERENTES!U1242<>\"\",          REFERENTES!U1242<>96321,    REFERENTES!U1242<>96222            ),(REFERENTES!W1242),\"\")","v":""},{"$f":"REFERENTES!S1242","v":0},null,1240,0,1130,"X"]
[null,null,null,null,null,null,null,null,null,null,null,null,null,null,null,null,null,null,null,null,null,null,null,null,{"$f":"IF(AND(REFERENTES!U1243<>\"\",          REFERENTES!U1243<>96321,    REFERENTES!U1243<>96222            ),(REFERENTES!W1243),\"\")","v":""},{"$f":"REFERENTES!S1243","v":0},null,1241,0,1130,"X"]
[null,null,null,null,null,null,null,null,null,null,null,null,null,null,null,null,null,null,null,null,null,null,null,null,{"$f":"IF(AND(REFERENTES!U1244<>\"\",          REFERENTES!U1244<>96321,    REFERENTES!U1244<>96222            ),(REFERENTES!W1244),\"\")","v":""},{"$f":"REFERENTES!S1244","v":0},null,1242,0,1130,"X"]
[null,null,null,null,null,null,null,null,null,null,null,null,null,null,null,null,null,null,null,null,null,null,null,null,{"$f":"IF(AND(REFERENTES!U1245<>\"\",          REFERENTES!U1245<>96321,    REFERENTES!U1245<>96222            ),(REFERENTES!W1245),\"\")","v":""},{"$f":"REFERENTES!S1245","v":0},null,1243,0,1130,"X"]
[null,null,null,null,null,null,null,null,null,null,null,null,null,null,null,null,null,null,null,null,null,null,null,null,{"$f":"IF(AND(REFERENTES!U1246<>\"\",          REFERENTES!U1246<>96321,    REFERENTES!U1246<>96222            ),(REFERENTES!W1246),\"\")","v":""},{"$f":"REFERENTES!S1246","v":0},null,1244,0,1130,"X"]
[null,null,null,null,null,null,null,null,null,null,null,null,null,null,null,null,null,null,null,null,null,null,null,null,{"$f":"IF(AND(REFERENTES!U1247<>\"\",          REFERENTES!U1247<>96321,    REFERENTES!U1247<>96222            ),(REFERENTES!W1247),\"\")","v":""},{"$f":"REFERENTES!S1247","v":0},null,1245,0,1130,"X"]
[null,null,null,null,null,null,null,null,null,null,null,null,null,null,null,null,null,null,null,null,null,null,null,null,{"$f":"IF(AND(REFERENTES!U1248<>\"\",          REFERENTES!U1248<>96321,    REFERENTES!U1248<>96222            ),(REFERENTES!W1248),\"\")","v":""},{"$f":"REFERENTES!S1248","v":0},null,1246,0,1130,"X"]
[null,null,null,null,null,null,null,null,null,null,null,null,null,null,null,null,null,null,null,null,null,null,null,null,{"$f":"IF(AND(REFERENTES!U1249<>\"\",          REFERENTES!U1249<>96321,    REFERENTES!U1249<>96222            ),(REFERENTES!W1249),\"\")","v":""},{"$f":"REFERENTES!S1249","v":0},null,1247,0,1130,"X"]
[null,null,null,null,null,null,null,null,null,null,null,null,null,null,null,null,null,null,null,null,null,null,null,null,{"$f":"IF(AND(REFERENTES!U1250<>\"\",          REFERENTES!U1250<>96321,    REFERENTES!U1250<>96222            ),(REFERENTES!W1250),\"\")","v":""},{"$f":"REFERENTES!S1250","v":0},null,1248,0,1130,"X"]
[null,null,null,null,null,null,null,null,null,null,null,null,null,null,null,null,null,null,null,null,null,null,null,null,{"$f":"IF(AND(REFERENTES!U1251<>\"\",          REFERENTES!U1251<>96321,    REFERENTES!U1251<>96222            ),(REFERENTES!W1251),\"\")","v":""},{"$f":"REFERENTES!S1251","v":0},null,1249,0,1130,"X"]
[null,null,null,null,null,null,null,null,null,null,null,null,null,null,null,null,null,null,null,null,null,null,null,null,{"$f":"IF(AND(REFERENTES!U1252<>\"\",          REFERENTES!U1252<>96321,    REFERENTES!U1252<>96222            ),(REFERENTES!W1252),\"\")","v":""},{"$f":"REFERENTES!S1252","v":0},null,1250,0,1130,"X"]
[null,null,null,null,null,null,null,null,null,null,null,null,null,null,null,null,null,null,null,null,null,null,null,null,{"$f":"IF(AND(REFERENTES!U1253<>\"\",          REFERENTES!U1253<>96321,    REFERENTES!U1253<>96222            ),(REFERENTES!W1253),\"\")","v":""},{"$f":"REFERENTES!S1253","v":0},null,1251,0,1130,"X"]
[null,null,null,null,null,null,null,null,null,null,null,null,null,null,null,null,null,null,null,null,null,null,null,null,{"$f":"IF(AND(REFERENTES!U1254<>\"\",          REFERENTES!U1254<>96321,    REFERENTES!U1254<>96222            ),(REFERENTES!W1254),\"\")","v":""},{"$f":"REFERENTES!S1254","v":0},null,1252,0,1130,"X"]
[null,null,null,null,null,null,null,null,null,null,null,null,null,null,null,null,null,null,null,null,null,null,null,null,{"$f":"IF(AND(REFERENTES!U1255<>\"\",          REFERENTES!U1255<>96321,    REFERENTES!U1255<>96222            ),(REFERENTES!W1255),\"\")","v":""},{"$f":"REFERENTES!S1255","v":0},null,1253,0,1130,"X"]
[null,null,null,null,null,null,null,null,null,null,null,null,null,null,null,null,null,null,null,null,null,null,null,null,{"$f":"IF(AND(REFERENTES!U1256<>\"\",          REFERENTES!U1256<>96321,    REFERENTES!U1256<>96222            ),(REFERENTES!W1256),\"\")","v":""},{"$f":"REFERENTES!S1256","v":0},null,1254,0,1130,"X"]
[null,null,null,null,null,null,null,null,null,null,null,null,null,null,null,null,null,null,null,null,null,null,null,null,{"$f":"IF(AND(REFERENTES!U1257<>\"\",          REFERENTES!U1257<>96321,    REFERENTES!U1257<>96222            ),(REFERENTES!W1257),\"\")","v":""},{"$f":"REFERENTES!S1257","v":0},null,1255,0,1130,"X"]
[null,null,null,null,null,null,null,null,null,null,null,null,null,null,null,null,null,null,null,null,null,null,null,null,{"$f":"IF(AND(REFERENTES!U1258<>\"\",          REFERENTES!U1258<>96321,    REFERENTES!U1258<>96222            ),(REFERENTES!W1258),\"\")","v":""},{"$f":"REFERENTES!S1258","v":0},null,1256,0,1130,"X"]
[null,null,null,null,null,null,null,null,null,null,null,null,null,null,null,null,null,null,null,null,null,null,null,null,{"$f":"IF(AND(REFERENTES!U1259<>\"\",          REFERENTES!U1259<>96321,    REFERENTES!U1259<>96222            ),(REFERENTES!W1259),\"\")","v":""},{"$f":"REFERENTES!S1259","v":0},null,1257,0,1130,"X"]
[null,null,null,null,null,null,null,null,null,null,null,null,null,null,null,null,null,null,null,null,null,null,null,null,{"$f":"IF(AND(REFERENTES!U1260<>\"\",          REFERENTES!U1260<>96321,    REFERENTES!U1260<>96222            ),(REFERENTES!W1260),\"\")","v":""},{"$f":"REFERENTES!S1260","v":0},null,1258,0,1130,"X"]
[null,null,null,null,null,null,null,null,null,null,null,null,null,null,null,null,null,null,null,null,null,null,null,null,{"$f":"IF(AND(REFERENTES!U1261<>\"\",          REFERENTES!U1261<>96321,    REFERENTES!U1261<>96222            ),(REFERENTES!W1261),\"\")","v":""},{"$f":"REFERENTES!S1261","v":0},null,1259,0,1130,"X"]
[null,null,null,null,null,null,null,null,null,null,null,null,null,null,null,null,null,null,null,null,null,null,null,null,{"$f":"IF(AND(REFERENTES!U1262<>\"\",          REFERENTES!U1262<>96321,    REFERENTES!U1262<>96222            ),(REFERENTES!W1262),\"\")","v":""},{"$f":"REFERENTES!S1262","v":0},null,1260,0,1130,"X"]
[null,null,null,null,null,null,null,null,null,null,null,null,null,null,null,null,null,null,null,null,null,null,null,null,{"$f":"IF(AND(REFERENTES!U1263<>\"\",          REFERENTES!U1263<>96321,    REFERENTES!U1263<>96222            ),(REFERENTES!W1263),\"\")","v":""},{"$f":"REFERENTES!S1263","v":0},null,1261,0,1130,"X"]
[null,null,null,null,null,null,null,null,null,null,null,null,null,null,null,null,null,null,null,null,null,null,null,null,{"$f":"IF(AND(REFERENTES!U1264<>\"\",          REFERENTES!U1264<>96321,    REFERENTES!U1264<>96222            ),(REFERENTES!W1264),\"\")","v":""},{"$f":"REFERENTES!S1264","v":0},null,1262,0,1130,"X"]
[null,null,null,null,null,null,null,null,null,null,null,null,null,null,null,null,null,null,null,null,null,null,null,null,{"$f":"IF(AND(REFERENTES!U1265<>\"\",          REFERENTES!U1265<>96321,    REFERENTES!U1265<>96222            ),(REFERENTES!W1265),\"\")","v":""},{"$f":"REFERENTES!S1265","v":0},null,1263,0,1130,"X"]
[null,null,null,null,null,null,null,null,null,null,null,null,null,null,null,null,null,null,null,null,null,null,null,null,{"$f":"IF(AND(REFERENTES!U1266<>\"\",          REFERENTES!U1266<>96321,    REFERENTES!U1266<>96222            ),(REFERENTES!W1266),\"\")","v":""},{"$f":"REFERENTES!S1266","v":0},null,1264,0,1130,"X"]
[null,null,null,null,null,null,null,null,null,null,null,null,null,null,null,null,null,null,null,null,null,null,null,null,{"$f":"IF(AND(REFERENTES!U1267<>\"\",          REFERENTES!U1267<>96321,    REFERENTES!U1267<>96222            ),(REFERENTES!W1267),\"\")","v":""},{"$f":"REFERENTES!S1267","v":0},null,1265,0,1130,"X"]
[null,null,null,null,null,null,null,null,null,null,null,null,null,null,null,null,null,null,null,null,null,null,null,null,{"$f":"IF(AND(REFERENTES!U1268<>\"\",          REFERENTES!U1268<>96321,    REFERENTES!U1268<>96222            ),(REFERENTES!W1268),\"\")","v":""},{"$f":"REFERENTES!S1268","v":0},null,1266,0,1130,"X"]
[null,null,null,null,null,null,null,null,null,null,null,null,null,null,null,null,null,null,null,null,null,null,null,null,null,{"$f":"REFERENTES!S1269","v":0}]
[null,null,null,null,null,null,null,null,null,null,null,null,null,null,null,null,null,null,null,null,null,null,null,null,null,{"$f":"REFERENTES!S1270","v":0}]
[null,null,null,null,null,null,null,null,null,null,null,null,null,null,null,null,null,null,null,null,null,null,null,null,null,{"$f":"REFERENTES!S1271","v":0}]
[null,null,null,null,null,null,null,null,null,null,null,null,null,null,null,null,null,null,null,null,null,null,null,null,null,{"$f":"REFERENTES!S1272","v":0}]
[null,null,null,null,null,null,null,null,null,null,null,null,null,null,null,null,null,null,null,null,null,null,null,null,null,{"$f":"REFERENTES!S1273","v":0}]

{"sheet":"AGD_MUESTREOS","index":7,"n_rows":0,"n_cols":0,"rows_kept":0,"cut":false,"hidden":true,"merged":[]}

{"sheet":"AGD_PARAMETRO","index":8,"n_rows":0,"n_cols":0,"rows_kept":0,"cut":false,"hidden":true,"merged":[]}

{"sheet":"AGD_MUESTRAS","index":9,"n_rows":0,"n_cols":0,"rows_kept":0,"cut":false,"hidden":true,"merged":[]}

{"sheet":"AGD_MUESTRAS_VARIABLES","index":10,"n_rows":0,"n_cols":0,"rows_kept":0,"cut":false,"hidden":true,"merged":[]}

{"sheet":"AGD_AUTORIAS","index":11,"n_rows":0,"n_cols":0,"rows_kept":0,"cut":false,"hidden":true,"merged":[]}