{"text_format":"1","workbook":"xlsx","n_sheets":6,"sheets":["configuracion","Registro de cambios","DIGITADOR","DATOS","REFERENTES","OTRAS REFERENCIAS"],"not_rendered":{"charts":0,"images":0,"macros":1,"external_links":1,"defined_names":19,"comments":1,"pivot_tables":0},"unopened":[],"bounds":{"document_bytes":16777216,"sheet_cells":100000,"rows_first":2000,"rows_last":500,"rows_between":2000,"halvings":0,"cell_chars":16384,"cell_head_chars":4096},"cells_cut":0,"cells_raw":0,"read":"whole","date_system":"1900"}

{"sheet":"configuracion","index":0,"n_rows":71,"n_cols":18,"rows_kept":71,"cut":false,"hidden":true,"merged":[[67,0,67,1],[60,0,60,1],[28,0,35,0],[37,0,42,0],[45,0,45,1],[23,0,26,0],[0,0,2,0],[3,0,5,0],[7,0,8,0],[9,0,15,0],[17,0,21,0]]}
["general","urlServicio","https://argos.invemar.org.co/api/"]
[null,"fila de inicio",3]
[null,"fila de fin",510]
["metodologias","Metodologias",821]
[null,"Referentes",821]
[null,"Cantidad maxima de referentes ",200]
["estaciones/investigadores","proyectos",2239]
["Lista especies","metodologias"]
[null,"proyectos",2239]
["MUESTREOS","ID_MUESTREO","DATOS,B"]
[null,"ID_ESTACION","DATOS,L"]
[null,"ID_PROYECTO",2239]
[null,"ID_METODOLOGIA",821]
[null,"ID_TEMATICAS",225]
[null,"FECHA","DATOS,I"]
[null,"NOTAS"]
[null,"cantidad",510]
["parametro muestreo","ID_MUESTREO","DATOS,B","DATOS,B","DATOS,B","DATOS,B"]
[null,"ID_PARAMETRO",1055,1169,1170,127]
[null,"ID_METODOLOGIA",821,821,821,3]
[null,"ID_UNIDAD_MEDIDA",100,100,100,100]
[null,"VALOR","DIGITADOR,B,5","DIGITADOR,B,12","DIGITADOR,B,11","DIGITADOR,B, 9"]
[null,"cantidad",510,510,510,150]
["muestra","ID_MUESTRA","DATOS,D"]
[null,"ID_MUESTREO","DATOS,F"]
[null,"NOTAS","DATOS,N"]
[null,"ES_REPLICA",1]
[null,"cantidad",510]
["muestra variable","ID_PARAMETRO",865,866,352,867,868,350,869,870,347,871,872,873,874,875,1143,1144]
[null,"ID_METODOLOGIA",821,821,821,821,821,821,821,821,821,821,821,821,821,821,821,821]
[null,"ID_UNIDAD_MEDIDA",100,10,5,5,5,19,19,19,19,19,19,7,7,7,51,51]
[null,"ID_MUESTRA","DATOS,D","DATOS,D","DATOS,D","DATOS,D","DATOS,D","DATOS,D","DATOS,D","DATOS,D","DATOS,D","DATOS,D","DATOS,D","DATOS,D","DATOS,D","DATOS,D","DATOS,D","DATOS,D"]
[null,"ID_METODO",null,663,"DATOS,T","DATOS,T","DATOS,T","DATOS,Y","DATOS,Y","DATOS,Y","DATOS,AD","DATOS,AD","DATOS,AD","DATOS,AI","DATOS,AI","DATOS,AI","DATOS,AM","DATOS,AM"]
[null,"VALOR","DATOS,M","DATOS,P","DATOS,Q","DATOS,R","DATOS,S","DATOS,V","DATOS,W","DATOS,X","DATOS,AA","DATOS,AB","DATOS,AC","DATOS,AF","DATOS,AG","DATOS,AH","DATOS,AK","DATOS,AL"]
[null,"QUALITY_FLAG"]
[null,"PRECISION"]
[null,"cantidad",510,510,510,510,510,510,510,510,510,510,510,510,510,510,510,510]
["autoria","ID_FUNCIONARIO","DIGITADOR,B,2","DIGITADOR,B,16","DIGITADOR,B,18","DIGITADOR,B,20"]
[null,"ID_TAREA",5,"DIGITADOR,A,16","DIGITADOR,A,18","DIGITADOR,A,20"]
[null,"ORDEN",1,2,3,4]
[null,"FECHA","DIGITADOR,B,7","DATOS,I","DATOS,I","DATOS,I"]
[null,"ID_MUESTREO","DATOS,B","DATOS,B","DATOS,B","DATOS,B"]
[null,"ENTIDAD","DIGITADOR,B,4","DIGITADOR,B,4","DIGITADOR,B,4","DIGITADOR,B,4"]
[null,"cantidad",510,510,510,510]
[]
["REGISTROS GENERADOS",null,"REGISTROS CARGADOS"]
["MUESTREOS"]
["parametro muestreo"]
["muestra"]
["muestra variable"]
["autoria"]
["registros correctos"]
["Fecha de carga"]
["json error"]
["error"]
[]
[]
[]
[]
[]
["CONFIGURACION REFERENTES - OTRAS REFERENCIAS"]
["URL - SERVICIO","https://argos.invemar.org.co/api/estaciones/get-entidades"]
["ATRIBUTOS DE LA API1","codigo_in","nombre_in"]
["RANGO DE LOS ATRIBUTOS DE LA API","B63:C64"]
["ATRIBUTOS DE LA API2","id_metodologia","nombre"]
["RANGO DE LOS ATRIBUTOS DE LA API","B65:C66"]
[]
["CONFIGURACION REFERENTES"]
["URL - AGM Campo",{"$f":"CONCATENATE(\"parametros/agmcampo/\",$C$4,\"\")","v":"parametros/agmcampo/821"}]
["URL - Estaciones",{"$f":"CONCATENATE(\"estaciones/35/\",$C$9,\"\")","v":"estaciones/35/2239"}]
["URL - Usuarios",{"$f":"CONCATENATE(\"parametros/usersByProject/\",$C$7,\"\")","v":"parametros/usersByProject/2239"}]

{"sheet":"Registro de cambios","index":1,"n_rows":23,"n_cols":6,"rows_kept":23,"cut":false,"hidden":true,"merged":[[1,3,1,5]]}
[]
[null,null,null,"REGISTRO DE CAMBIOS"]
[null,null,null,"VERSIÓN No.","CAMBIO REALIZADO","VIGENTE DESDE"]
[null,null,null,"20240514i","1) Se actualizo el servicio para que consuma la nueva API.                                                                2)Se tuvo que organizar en cada  lista el origen de los datos en la hoja DATOS y DIGITADOR.                                                                          3) Se organizo la hoja REFERENTES.","2024-05-14"]
[null,null,null,"20230316i","                                                                                                        1)Se agrego un nuevo boton \"Ordenar \" en la hoja DATOS para ordenar los datos y no generar ID_MUESTREO distintos.                                                                                               2) Se modifico la regla para generar el ID_MUESTREO, antes se tenia en cuenta la fecha del monitoreo , ahora se tiene en cuenta es el COD_PARCELA del monitoreo.                           3)Se agrego un nuevo boton \"Validar Datos\" en la hoja DIGITADOR , para asi validar que ningun campo quede vacio antes de cargar los datos.","2023-03-16"]
[null,null,null,"20220927m","Se agregaron nuevos referentes a los diferentes metodos de medida.","2022-09-27"]
[null,null,null,"20220804i","Se modifico que algunos campos fueran obligatorio.","2022-08-04"]
[null,null,null,"20220510i","Actualizacion del listado de estaciones/parcelas","2022-05-10"]
[null,null,null,"20220502i","se ordenaron los referentes de geograficos, se mapeo el proyecto financiador, por defecto todas las plantillas de sigma guardan sus datos al 2239","2022-05-02"]
[null,null,null,"20220204i","cambio en el endpoint de newreferentes devsiam->argos","2022-02-04"]
[null,null,null,"20211210m","Listas de validacion en la hoja de datos","2021-12-10"]
[null,null,null,"20210817m","Corrección de formato de hoja de DATOS","2021-08-17"]
[null,null,null,"20200130i","Para trazabilididad la hoja se incluye el nombre del archivo fuente y la posibilidad de anotar el DOI principal del metadato\nPor usabilidad las pestañas que son de interes para el usuario son las verdes\nSi se define mas de un proyecto los referentes de estaciones e investigadores se descargan consecutivo en las mismas columnas\nSe controla la versión para la plantilla mediante comparación dato en AGLOV de la BD.","2020-01-30"]
[null,null,null,"20190821m","Se agregan columnas para la medición de ORP en la hoja de DATOS.","2019-08-21"]
[null,null,null,"20190604m","Se corrige la recomendación de como renombrar los archivos para su almacenamiento.","2019-06-04"]
[null,null,null,"20190211i","Se modifica el texto de recomendaciones generales en la hoja de \"DIGITADOR\".","2019-02-11"]
[null,null,null,null,"Se corrige el error en la generación de AGD_MUESTREOS debido al bloqueo del libro"]
[null,null,null,"20190117i","Se modifica la información en la hoja \"Otras referencias\".","2019-01-25"]
[null,null,null,null,"Se agrega el botón \"Administrador\" y se ocultan los botones \"Generar tablas\" y \"Cargar datos\" en la hoja de \"DIGITADOR\".","2019-01-17"]
[null,null,null,"20190114m","Se agrega el título a los referentes en la hoja \"referentes\".\nSe modifica la información de contacto en la hoja de \"DIGITADOR\".","2019-01-14"]
[null,null,null,"20180809m","Se modifican algunos campos a petición del usuario","2018-08-09"]
[null,null,null,"20180801i","Modificaciones para nuevo Argos","2018-08-01"]
[null,null,null,"20180413m","Se modifica la generación de los ID de muestreo y se agrega macro que genera número aleatorio en la hoja DIGITADOR.","2018-04-13"]

{"sheet":"DIGITADOR","index":2,"n_rows":41,"n_cols":4,"rows_kept":41,"cut":false,"hidden":false,"merged":[[31,0,31,1],[0,3,5,9],[6,3,8,9],[9,3,10,9],[11,3,14,9],[5,0,6,0],[0,0,0,1]]}
["Plantilla para la Recolección de Datos Fisico Quimicos SIGMA",null,null,"Recomendaciones generales: \n¡Precaución! No inserte Filas o Columnas.\nEn los casos en que falte un valor a ingresar que provenga de la hoja de referencias, informe para que el administrador del sistema haga las adiciones necesarias.\nEsta es una plantilla programada. Las columnas de color oscuro se llenan automaticamente, principalmente a partir de los contenidos de la hoja de referencias. \nNO UTILICE PUNTO Y COMA (;) en ningun campo, por ser el separador de variables (columnas). Tampoco escriba las unidades de medida, no son necesarias.\nPara el correcto funcionamiento de la hoja debe estar activa la opcion de Excel de ejecutar macros (al abrir la hoja acepte la opcion habilitar macros, mensaje de Excel que aparece en la parte superior de la hoja en un recuadro amarillo). La extensión del archivo debe ser .xlsm\nSe recomienda renombrar el archivo de la siguiente manera: SIGMA_Fisicoquimicos_NombreEstacion_FechaMonitoreo.xlsm. Al finalizar, renombre el archivo de modo que su contenido sea claro, ejemplo corporacion)_estacion_anocuatrodigitosmesmuestreo.xlsm. El nombre no debe tener espacios en blanco vocales tildadas o ñ."]
["CODIGO DIGITADOR",{"$f":"IF(B3=\"\",\"\",INDEX(REFERENTES!F:G,MATCH(B3,REFERENTES!G:G,0),1))","v":""}]
["NOMBRE DIGITADOR"]
["ENTIDAD"]
["PLANTILLA",{"$f":"'Registro de cambios'!D4","v":"20240514i"}]
["Fecha en la que ingresa los datos en esta hoja","DD/MM/AAAA"]
[null,"3000-01-01",null,"Previamente a iniciar el llenado de la plantilla, debe presionar el botón \"Descargar referentes\" para que los referentes de ésta plantilla sean actualizados. \nLuego de llenar completamente la plantilla verifique que:\na. No haya celdas con valores como \"#N/A\" o \"#¡REF!\"\nb. No se esten aplicando filtros en la hoja de datos                                                                                                                                                                                                    c.Una vez diligenciados los datos, en la hoja datos presionar el boton \"Ordenar\" esto con el fin para ordenar las fechas y no generar ID_MUESTREOS diferentes.                                                                                                                                                                                                                                                       d.Luego presionar el botón \"Validar datos\" para corroborar que todo esté en orden.                                                                                                                                e.En caso de error de campos vacios corregir."]
[]
["Nombre del proyecto"]
["Codigo del proyecto",{"$f":"IF($B$9=\"\",\"\",INDEX('OTRAS REFERENCIAS'!D7:F20,MATCH($B$9,'OTRAS REFERENCIAS'!E7:E20,0),1))","v":""},null,"Si requiere ayuda contacte a:\nadministrador.sigma@invemar.org.co  - Administrador SIGMA"]
["Nombre del Archivo",{"$f":"MID(CELL(\"FILENAME\",N50),FIND(\"[\",CELL(\"FILENAME\",N50))+1,   FIND(\"]\",CELL(\"FILENAME\",N50))-FIND(\"[\",CELL(\"FILENAME\",N50))-1)","v":"SIGMA_Fisicoquimicos_20240514i.xlsm"}]
["DOI Metadato",null,null,"El custodio de los datos es el único autorizado para distribuir este conjunto de datos. El observador y el digitador se comprometen a tomar las medidas necesarias para salvaguardar este conjunto de datos de modo que copia de los mismos no sean obtenidas y/o usadas por terceros no relacionados con el propósito para la cual se recolectó."]
["Fuente Plantilla ","http://cinto.invemar.org.co/download/Plantillas_ARGOS_Plus/"]
[]
["ROLES INVOLUCRADOS","NOMBRE"]
[{"$f":"IF(A17=\"\",\"\",INDEX('OTRAS REFERENCIAS'!$X$6:$Y$8,MATCH(DIGITADOR!A17,'OTRAS REFERENCIAS'!$Y$6:$Y$8,0),1))","v":""},{"$f":"IF(B17=\"\",\"\",INDEX(REFERENTES!$F$2:$G$64,MATCH(DIGITADOR!B17,REFERENTES!$G$2:$G$64,0),1))","v":""}]
[]
[{"$f":"IF(A19=\"\",\"\",INDEX('OTRAS REFERENCIAS'!$X$6:$Y$8,MATCH(DIGITADOR!A19,'OTRAS REFERENCIAS'!$Y$6:$Y$8,0),1))","v":""},{"$f":"IF(B19=\"\",\"\",INDEX(REFERENTES!$F$2:$G$64,MATCH(DIGITADOR!B19,REFERENTES!$G$2:$G$64,0),1))","v":""}]
[]
[{"$f":"IF(A21=\"\",\"\",INDEX('OTRAS REFERENCIAS'!$X$6:$Y$8,MATCH(DIGITADOR!A21,'OTRAS REFERENCIAS'!$Y$6:$Y$8,0),1))","v":""},{"$f":"IF(B21=\"\",\"\",INDEX(REFERENTES!$F$2:$G$64,MATCH(DIGITADOR!B21,REFERENTES!$G$2:$G$64,0),1))","v":""}]
[]
[]
[]
[]
[]
[]
[]
[]
[]
[]
[]
["REGISTROS GENERADOS",null,"REGISTROS CARGADOS"]
["MUESTREOS",{"$f":"IF(configuracion!B47=\"\",\"\",configuracion!B47)","v":""},{"$f":"IF(configuracion!C47=\"\",\"\",configuracion!C47)","v":""}]
["parametro muestreo",{"$f":"IF(configuracion!B48=\"\",\"\",configuracion!B48)","v":""},{"$f":"IF(configuracion!C48=\"\",\"\",configuracion!C48)","v":""}]
["muestra",{"$f":"IF(configuracion!B49=\"\",\"\",configuracion!B49)","v":""},{"$f":"IF(configuracion!C49=\"\",\"\",configuracion!C49)","v":""}]
["muestra variable",{"$f":"IF(configuracion!B50=\"\",\"\",configuracion!B50)","v":""},{"$f":"IF(configuracion!C50=\"\",\"\",configuracion!C50)","v":""}]
["autoria",{"$f":"IF(configuracion!B51=\"\",\"\",configuracion!B51)","v":""},{"$f":"IF(configuracion!C51=\"\",\"\",configuracion!C51)","v":""}]
["registros correctos",{"$f":"IF(configuracion!B52=\"\",\"\",configuracion!B52)","v":""},{"$f":"IF(configuracion!C52=\"\",\"\",configuracion!C52)","v":""}]
["Fecha de carga",{"$f":"IF(configuracion!B53=\"\",\"\",configuracion!B53)","v":""},{"$f":"IF(configuracion!C53=\"\",\"\",configuracion!C53)","v":""}]
["json error",{"$f":"IF(configuracion!B54=\"\",\"\",configuracion!B54)","v":""},{"$f":"IF(configuracion!C54=\"\",\"\",configuracion!C54)","v":""}]
["error",{"$f":"IF(configuracion!B55=\"\",\"\",configuracion!B55)","v":""},{"$f":"IF(configuracion!C55=\"\",\"\",configuracion!C55)","v":""}]

{"sheet":"DATOS","index":3,"n_rows":502,"n_cols":41,"rows_kept":502,"cut":false,"hidden":false,"merged":[[0,27,1,27],[0,28,1,28],[0,29,1,30],[0,34,1,35],[0,31,1,31],[0,32,1,32],[0,33,1,33],[0,1,1,1],[0,12,1,12],[0,2,1,2],[0,3,1,3],[0,4,1,4],[0,6,1,6],[0,7,1,7],[0,8,1,8],[0,9,0,10],[0,40,1,40],[0,13,1,13],[0,5,1,5],[0,15,1,15],[0,16,1,16],[0,17,1,17],[0,18,1,18],[0,19,1,20],[0,24,1,25],[0,21,1,21],[0,22,1,22],[0,23,1,23],[0,36,1,36],[0,37,1,37],[0,38,1,39],[0,26,1,26]]}
[{"$f":"IF(DIGITADOR!B7<>\"\",CONCATENATE(TEXT(DIGITADOR!B7,\" dd/mm/yyyy \"),\" \",TEXT(H3,\" hh:mm:ss \")),\"\")","v":" 01/01/3000   00:00:00 "},"ID_MUESTREO (AGD_MUESTREO)","CONSECUTIVO","ID_MUESTRA",null,"CODMUESTREO","FECHA\n(DD/MM/AAAA)","HORA\n(HH:MM)","DATE","Parcela de estructura relacionada",null,null,"Punto de medición (#)","OBSERVACIONES",null,"Nivel Agua (cm)","Temp Superficial (°C)","Temp Instersticial 0,5m (°C)","Temp Instersticial 1m (°C)","Metodo",null,"Sal superficial (unidades)","Sal Intersticial 0,5m (unidades)","Sal Intersticial 1m (unidades)","Metodo",null,"pH superficial (unidades)","pH Intersticial 0,5m (unidades)","pH Intersticial 1m (unidades)","Metodo",null,"Conductividad superficial (mS/cm)","Conductividad Intersticial 0,5m  (mS/cm)","Conductividad Intersticial 1m  (mS/cm)","Metodo",null,"ORP Superficial","ORP Intersticial 0,5 m","Metodo",null,"Replica"]
[{"$f":"TEXT(DIGITADOR!$B$7,\"yyyymmddhhmm\")","v":"300001010000"},null,null,null,null,null,"DIA","HORA",null,"COD","NOMBRE","CODBDD"]
[1,{"$f":"IF(L3<>\"\", F3,\"\")","v":""},1,{"$f":"IF(L3=\"\",\"\",CONCATENATE(C3,F3))","v":""},{"$f":"CONCATENATE(I3,L3)","v":""},{"$f":"IF(L3<>\"\",CONCATENATE(DIGITADOR!$B$2,$A$2,DIGITADOR!$M$1,A3),\"\")","v":""},null,null,{"$f":"IF(G3<>\"\",G3+H3,\"\")","v":""},{"$f":"IF(K3=\"\",\"\",INDEX('OTRAS REFERENCIAS'!$AL:$AM,MATCH(K3,'OTRAS REFERENCIAS'!$AL:$AL,0),2))","v":""},null,{"$f":"IF(J3=\"\",\"\",INDEX(REFERENTES!$A:$D,MATCH(J3,REFERENTES!$C:$C,0),3))","v":""},null,null,null,null,null,null,null,{"$f":"IF(U3=\"\",\"\",INDEX('OTRAS REFERENCIAS'!$H$6:$I$11,MATCH(U3,'OTRAS REFERENCIAS'!$I$6:$I$11,0),1))","v":""},null,null,null,null,{"$f":"IF(Z3=\"\",\"\",INDEX('OTRAS REFERENCIAS'!$K$6:$L$11,MATCH(Z3,'OTRAS REFERENCIAS'!$L$6:$L$11,0),1))","v":""},null,null,null,null,{"$f":"IF(AE3=\"\",\"\",INDEX('OTRAS REFERENCIAS'!$N$6:$O$11,MATCH(AE3,'OTRAS REFERENCIAS'!$O$6:$O$11,0),1))","v":""},null,null,null,null,{"$f":"IF(AJ3=\"\",\"\",INDEX('OTRAS REFERENCIAS'!$Q$6:$R$11,MATCH(AJ3,'OTRAS REFERENCIAS'!$R$6:$R$11,0),1))","v":""},null,null,null,{"$f":"IF(AN3=\"\",\"\",INDEX('OTRAS REFERENCIAS'!$T$6:$U$11,MATCH(AN3,'OTRAS REFERENCIAS'!$U$6:$U$11,0),1))","v":""}]
[{"$f":"IF(L4=L3,A3,A3+1)","v":1},{"$f":"IF(F4<>F3, F4,\"\")","v":""},2,{"$f":"IF(L4=\"\",\"\",CONCATENATE(C4,F4))","v":""},{"$f":"CONCATENATE(I4,L4)","v":""},{"$f":"IF(L4<>\"\",CONCATENATE(DIGITADOR!$B$2,$A$2,DIGITADOR!$M$1,A4),\"\")","v":""},null,null,"",{"$f":"IF(K4=\"\",\"\",INDEX('OTRAS REFERENCIAS'!$AL:$AM,MATCH(K4,'OTRAS REFERENCIAS'!$AL:$AL,0),2))","v":""},null,{"$f":"IF(J4=\"\",\"\",INDEX(REFERENTES!$A:$D,MATCH(J4,REFERENTES!$C:$C,0),3))","v":""},null,null,null,null,null,null,null,{"$f":"IF(U4=\"\",\"\",INDEX('OTRAS REFERENCIAS'!$H$6:$I$11,MATCH(U4,'OTRAS REFERENCIAS'!$I$6:$I$11,0),1))","v":""},null,null,null,null,{"$f":"IF(Z4=\"\",\"\",INDEX('OTRAS REFERENCIAS'!$K$6:$L$11,MATCH(Z4,'OTRAS REFERENCIAS'!$L$6:$L$11,0),1))","v":""},null,null,null,null,{"$f":"IF(AE4=\"\",\"\",INDEX('OTRAS REFERENCIAS'!$N$6:$O$11,MATCH(AE4,'OTRAS REFERENCIAS'!$O$6:$O$11,0),1))","v":""},null,null,null,null,{"$f":"IF(AJ4=\"\",\"\",INDEX('OTRAS REFERENCIAS'!$Q$6:$R$11,MATCH(AJ4,'OTRAS REFERENCIAS'!$R$6:$R$11,0),1))","v":""},null,null,null,{"$f":"IF(AN4=\"\",\"\",INDEX('OTRAS REFERENCIAS'!$T$6:$U$11,MATCH(AN4,'OTRAS REFERENCIAS'!$U$6:$U$11,0),1))","v":""}]
[{"$f":"IF(L5=L4,A4,A4+1)","v":1},{"$f":"IF(F5<>F4, F5,\"\")","v":""},3,"","",{"$f":"IF(L5<>\"\",CONCATENATE(DIGITADOR!$B$2,$A$2,DIGITADOR!$M$1,A5),\"\")","v":""},null,null,"",{"$f":"IF(K5=\"\",\"\",INDEX('OTRAS REFERENCIAS'!$AL:$AM,MATCH(K5,'OTRAS REFERENCIAS'!$AL:$AL,0),2))","v":""},null,{"$f":"IF(J5=\"\",\"\",INDEX(REFERENTES!$A:$D,MATCH(J5,REFERENTES!$C:$C,0),3))","v":""},null,null,null,null,null,null,null,{"$f":"IF(U5=\"\",\"\",INDEX('OTRAS REFERENCIAS'!$H$6:$I$11,MATCH(U5,'OTRAS REFERENCIAS'!$I$6:$I$11,0),1))","v":""},null,null,null,null,{"$f":"IF(Z5=\"\",\"\",INDEX('OTRAS REFERENCIAS'!$K$6:$L$11,MATCH(Z5,'OTRAS REFERENCIAS'!$L$6:$L$11,0),1))","v":""},null,null,null,null,{"$f":"IF(AE5=\"\",\"\",INDEX('OTRAS REFERENCIAS'!$N$6:$O$11,MATCH(AE5,'OTRAS REFERENCIAS'!$O$6:$O$11,0),1))","v":""},null,null,null,null,{"$f":"IF(AJ5=\"\",\"\",INDEX('OTRAS REFERENCIAS'!$Q$6:$R$11,MATCH(AJ5,'OTRAS REFERENCIAS'!$R$6:$R$11,0),1))","v":""},null,null,null,{"$f":"IF(AN5=\"\",\"\",INDEX('OTRAS REFERENCIAS'!$T$6:$U$11,MATCH(AN5,'OTRAS REFERENCIAS'!$U$6:$U$11,0),1))","v":""}]
[1,"",4,"","",{"$f":"IF(L6<>\"\",CONCATENATE(DIGITADOR!$B$2,$A$2,DIGITADOR!$M$1,A6),\"\")","v":""},null,null,"",{"$f":"IF(K6=\"\",\"\",INDEX('OTRAS REFERENCIAS'!$AL:$AM,MATCH(K6,'OTRAS REFERENCIAS'!$AL:$AL,0),2))","v":""},null,{"$f":"IF(J6=\"\",\"\",INDEX(REFERENTES!$A:$D,MATCH(J6,REFERENTES!$C:$C,0),3))","v":""},null,null,null,null,null,null,null,{"$f":"IF(U6=\"\",\"\",INDEX('OTRAS REFERENCIAS'!$H$6:$I$11,MATCH(U6,'OTRAS REFERENCIAS'!$I$6:$I$11,0),1))","v":""},null,null,null,null,{"$f":"IF(Z6=\"\",\"\",INDEX('OTRAS REFERENCIAS'!$K$6:$L$11,MATCH(Z6,'OTRAS REFERENCIAS'!$L$6:$L$11,0),1))","v":""},null,null,null,null,{"$f":"IF(AE6=\"\",\"\",INDEX('OTRAS REFERENCIAS'!$N$6:$O$11,MATCH(AE6,'OTRAS REFERENCIAS'!$O$6:$O$11,0),1))","v":""},null,null,null,null,{"$f":"IF(AJ6=\"\",\"\",INDEX('OTRAS REFERENCIAS'!$Q$6:$R$11,MATCH(AJ6,'OTRAS REFERENCIAS'!$R$6:$R$11,0),1))","v":""},null,null,null,{"$f":"IF(AN6=\"\",\"\",INDEX('OTRAS REFERENCIAS'!$T$6:$U$11,MATCH(AN6,'OTRAS REFERENCIAS'!$U$6:$U$11,0),1))","v":""}]
[1,"",5,"","",{"$f":"IF(L7<>\"\",CONCATENATE(DIGITADOR!$B$2,$A$2,DIGITADOR!$M$1,A7),\"\")","v":""},null,null,"",{"$f":"IF(K7=\"\",\"\",INDEX('OTRAS REFERENCIAS'!$AL:$AM,MATCH(K7,'OTRAS REFERENCIAS'!$AL:$AL,0),2))","v":""},null,{"$f":"IF(J7=\"\",\"\",INDEX(REFERENTES!$A:$D,MATCH(J7,REFERENTES!$C:$C,0),3))","v":""},null,null,null,null,null,null,null,{"$f":"IF(U7=\"\",\"\",INDEX('OTRAS REFERENCIAS'!$H$6:$I$11,MATCH(U7,'OTRAS REFERENCIAS'!$I$6:$I$11,0),1))","v":""},null,null,null,null,{"$f":"IF(Z7=\"\",\"\",INDEX('OTRAS REFERENCIAS'!$K$6:$L$11,MATCH(Z7,'OTRAS REFERENCIAS'!$L$6:$L$11,0),1))","v":""},null,null,null,null,{"$f":"IF(AE7=\"\",\"\",INDEX('OTRAS REFERENCIAS'!$N$6:$O$11,MATCH(AE7,'OTRAS REFERENCIAS'!$O$6:$O$11,0),1))","v":""},null,null,null,null,{"$f":"IF(AJ7=\"\",\"\",INDEX('OTRAS REFERENCIAS'!$Q$6:$R$11,MATCH(AJ7,'OTRAS REFERENCIAS'!$R$6:$R$11,0),1))","v":""},null,null,null,{"$f":"IF(AN7=\"\",\"\",INDEX('OTRAS REFERENCIAS'!$T$6:$U$11,MATCH(AN7,'OTRAS REFERENCIAS'!$U$6:$U$11,0),1))","v":""}]
[1,"",6,"","",{"$f":"IF(L8<>\"\",CONCATENATE(DIGITADOR!$B$2,$A$2,DIGITADOR!$M$1,A8),\"\")","v":""},null,null,"",{"$f":"IF(K8=\"\",\"\",INDEX('OTRAS REFERENCIAS'!$AL:$AM,MATCH(K8,'OTRAS REFERENCIAS'!$AL:$AL,0),2))","v":""},null,{"$f":"IF(J8=\"\",\"\",INDEX(REFERENTES!$A:$D,MATCH(J8,REFERENTES!$C:$C,0),3))","v":""},null,null,null,null,null,null,null,{"$f":"IF(U8=\"\",\"\",INDEX('OTRAS REFERENCIAS'!$H$6:$I$11,MATCH(U8,'OTRAS REFERENCIAS'!$I$6:$I$11,0),1))","v":""},null,null,null,null,{"$f":"IF(Z8=\"\",\"\",INDEX('OTRAS REFERENCIAS'!$K$6:$L$11,MATCH(Z8,'OTRAS REFERENCIAS'!$L$6:$L$11,0),1))","v":""},null,null,null,null,{"$f":"IF(AE8=\"\",\"\",INDEX('OTRAS REFERENCIAS'!$N$6:$O$11,MATCH(AE8,'OTRAS REFERENCIAS'!$O$6:$O$11,0),1))","v":""},null,null,null,null,{"$f":"IF(AJ8=\"\",\"\",INDEX('OTRAS REFERENCIAS'!$Q$6:$R$11,MATCH(AJ8,'OTRAS REFERENCIAS'!$R$6:$R$11,0),1))","v":""},null,null,null,{"$f":"IF(AN8=\"\",\"\",INDEX('OTRAS REFERENCIAS'!$T$6:$U$11,MATCH(AN8,'OTRAS REFERENCIAS'!$U$6:$U$11,0),1))","v":""}]
[1,"",7,"","",{"$f":"IF(L9<>\"\",CONCATENATE(DIGITADOR!$B$2,$A$2,DIGITADOR!$M$1,A9),\"\")","v":""},null,null,"",{"$f":"IF(K9=\"\",\"\",INDEX('OTRAS REFERENCIAS'!$AL:$AM,MATCH(K9,'OTRAS REFERENCIAS'!$AL:$AL,0),2))","v":""},null,{"$f":"IF(J9=\"\",\"\",INDEX(REFERENTES!$A:$D,MATCH(J9,REFERENTES!$C:$C,0),3))","v":""},null,null,null,null,null,null,null,{"$f":"IF(U9=\"\",\"\",INDEX('OTRAS REFERENCIAS'!$H$6:$I$11,MATCH(U9,'OTRAS REFERENCIAS'!$I$6:$I$11,0),1))","v":""},null,null,null,null,{"$f":"IF(Z9=\"\",\"\",INDEX('OTRAS REFERENCIAS'!$K$6:$L$11,MATCH(Z9,'OTRAS REFERENCIAS'!$L$6:$L$11,0),1))","v":""},null,null,null,null,{"$f":"IF(AE9=\"\",\"\",INDEX('OTRAS REFERENCIAS'!$N$6:$O$11,MATCH(AE9,'OTRAS REFERENCIAS'!$O$6:$O$11,0),1))","v":""},null,null,null,null,{"$f":"IF(AJ9=\"\",\"\",INDEX('OTRAS REFERENCIAS'!$Q$6:$R$11,MATCH(AJ9,'OTRAS REFERENCIAS'!$R$6:$R$11,0),1))","v":""},null,null,null,{"$f":"IF(AN9=\"\",\"\",INDEX('OTRAS REFERENCIAS'!$T$6:$U$11,MATCH(AN9,'OTRAS REFERENCIAS'!$U$6:$U$11,0),1))","v":""}]
[1,{"$f":"IF(F10<>F9, F10,\"\")","v":""},8,"","",{"$f":"IF(L10<>\"\",CONCATENATE(DIGITADOR!$B$2,$A$2,DIGITADOR!$M$1,A10),\"\")","v":""},null,null,"",{"$f":"IF(K10=\"\",\"\",INDEX('OTRAS REFERENCIAS'!$AL:$AM,MATCH(K10,'OTRAS REFERENCIAS'!$AL:$AL,0),2))","v":""},null,{"$f":"IF(J10=\"\",\"\",INDEX(REFERENTES!$A:$D,MATCH(J10,REFERENTES!$C:$C,0),3))","v":""},null,null,null,null,null,null,null,{"$f":"IF(U10=\"\",\"\",INDEX('OTRAS REFERENCIAS'!$H$6:$I$11,MATCH(U10,'OTRAS REFERENCIAS'!$I$6:$I$11,0),1))","v":""},null,null,null,null,{"$f":"IF(Z10=\"\",\"\",INDEX('OTRAS REFERENCIAS'!$K$6:$L$11,MATCH(Z10,'OTRAS REFERENCIAS'!$L$6:$L$11,0),1))","v":""},null,null,null,null,{"$f":"IF(AE10=\"\",\"\",INDEX('OTRAS REFERENCIAS'!$N$6:$O$11,MATCH(AE10,'OTRAS REFERENCIAS'!$O$6:$O$11,0),1))","v":""},null,null,null,null,{"$f":"IF(AJ10=\"\",\"\",INDEX('OTRAS REFERENCIAS'!$Q$6:$R$11,MATCH(AJ10,'OTRAS REFERENCIAS'!$R$6:$R$11,0),1))","v":""},null,null,null,{"$f":"IF(AN10=\"\",\"\",INDEX('OTRAS REFERENCIAS'!$T$6:$U$11,MATCH(AN10,'OTRAS REFERENCIAS'!$U$6:$U$11,0),1))","v":""}]
[1,"",9,"","",{"$f":"IF(L11<>\"\",CONCATENATE(DIGITADOR!$B$2,$A$2,DIGITADOR!$M$1,A11),\"\")","v":""},null,null,"",{"$f":"IF(K11=\"\",\"\",INDEX('OTRAS REFERENCIAS'!$AL:$AM,MATCH(K11,'OTRAS REFERENCIAS'!$AL:$AL,0),2))","v":""},null,{"$f":"IF(J11=\"\",\"\",INDEX(REFERENTES!$A:$D,MATCH(J11,REFERENTES!$C:$C,0),3))","v":""},null,null,null,null,null,null,null,{"$f":"IF(U11=\"\",\"\",INDEX('OTRAS REFERENCIAS'!$H$6:$I$11,MATCH(U11,'OTRAS REFERENCIAS'!$I$6:$I$11,0),1))","v":""},null,null,null,null,{"$f":"IF(Z11=\"\",\"\",INDEX('OTRAS REFERENCIAS'!$K$6:$L$11,MATCH(Z11,'OTRAS REFERENCIAS'!$L$6:$L$11,0),1))","v":""},null,null,null,null,{"$f":"IF(AE11=\"\",\"\",INDEX('OTRAS REFERENCIAS'!$N$6:$O$11,MATCH(AE11,'OTRAS REFERENCIAS'!$O$6:$O$11,0),1))","v":""},null,null,null,null,{"$f":"IF(AJ11=\"\",\"\",INDEX('OTRAS REFERENCIAS'!$Q$6:$R$11,MATCH(AJ11,'OTRAS REFERENCIAS'!$R$6:$R$11,0),1))","v":""},null,null,null,{"$f":"IF(AN11=\"\",\"\",INDEX('OTRAS REFERENCIAS'!$T$6:$U$11,MATCH(AN11,'OTRAS REFERENCIAS'!$U$6:$U$11,0),1))","v":""}]
[1,"",10,"","",{"$f":"IF(L12<>\"\",CONCATENATE(DIGITADOR!$B$2,$A$2,DIGITADOR!$M$1,A12),\"\")","v":""},null,null,"",{"$f":"IF(K12=\"\",\"\",INDEX('OTRAS REFERENCIAS'!$AL:$AM,MATCH(K12,'OTRAS REFERENCIAS'!$AL:$AL,0),2))","v":""},null,{"$f":"IF(J12=\"\",\"\",INDEX(REFERENTES!$A:$D,MATCH(J12,REFERENTES!$C:$C,0),3))","v":""},null,null,null,null,null,null,null,{"$f":"IF(U12=\"\",\"\",INDEX('OTRAS REFERENCIAS'!$H$6:$I$11,MATCH(U12,'OTRAS REFERENCIAS'!$I$6:$I$11,0),1))","v":""},null,null,null,null,{"$f":"IF(Z12=\"\",\"\",INDEX('OTRAS REFERENCIAS'!$K$6:$L$11,MATCH(Z12,'OTRAS REFERENCIAS'!$L$6:$L$11,0),1))","v":""},null,null,null,null,{"$f":"IF(AE12=\"\",\"\",INDEX('OTRAS REFERENCIAS'!$N$6:$O$11,MATCH(AE12,'OTRAS REFERENCIAS'!$O$6:$O$11,0),1))","v":""},null,null,null,null,{"$f":"IF(AJ12=\"\",\"\",INDEX('OTRAS REFERENCIAS'!$Q$6:$R$11,MATCH(AJ12,'OTRAS REFERENCIAS'!$R$6:$R$11,0),1))","v":""},null,null,null,{"$f":"IF(AN12=\"\",\"\",INDEX('OTRAS REFERENCIAS'!$T$6:$U$11,MATCH(AN12,'OTRAS REFERENCIAS'!$U$6:$U$11,0),1))","v":""}]
[1,"",11,"","",{"$f":"IF(L13<>\"\",CONCATENATE(DIGITADOR!$B$2,$A$2,DIGITADOR!$M$1,A13),\"\")","v":""},null,null,"",{"$f":"IF(K13=\"\",\"\",INDEX('OTRAS REFERENCIAS'!$AL:$AM,MATCH(K13,'OTRAS REFERENCIAS'!$AL:$AL,0),2))","v":""},null,{"$f":"IF(J13=\"\",\"\",INDEX(REFERENTES!$A:$D,MATCH(J13,REFERENTES!$C:$C,0),3))","v":""},null,null,null,null,null,null,null,{"$f":"IF(U13=\"\",\"\",INDEX('OTRAS REFERENCIAS'!$H$6:$I$11,MATCH(U13,'OTRAS REFERENCIAS'!$I$6:$I$11,0),1))","v":""},null,null,null,null,{"$f":"IF(Z13=\"\",\"\",INDEX('OTRAS REFERENCIAS'!$K$6:$L$11,MATCH(Z13,'OTRAS REFERENCIAS'!$L$6:$L$11,0),1))","v":""},null,null,null,null,{"$f":"IF(AE13=\"\",\"\",INDEX('OTRAS REFERENCIAS'!$N$6:$O$11,MATCH(AE13,'OTRAS REFERENCIAS'!$O$6:$O$11,0),1))","v":""},null,null,null,null,{"$f":"IF(AJ13=\"\",\"\",INDEX('OTRAS REFERENCIAS'!$Q$6:$R$11,MATCH(AJ13,'OTRAS REFERENCIAS'!$R$6:$R$11,0),1))","v":""},null,null,null,{"$f":"IF(AN13=\"\",\"\",INDEX('OTRAS REFERENCIAS'!$T$6:$U$11,MATCH(AN13,'OTRAS REFERENCIAS'!$U$6:$U$11,0),1))","v":""}]
[1,"",12,"","",{"$f":"IF(L14<>\"\",CONCATENATE(DIGITADOR!$B$2,$A$2,DIGITADOR!$M$1,A14),\"\")","v":""},null,null,"",{"$f":"IF(K14=\"\",\"\",INDEX('OTRAS REFERENCIAS'!$AL:$AM,MATCH(K14,'OTRAS REFERENCIAS'!$AL:$AL,0),2))","v":""},null,{"$f":"IF(J14=\"\",\"\",INDEX(REFERENTES!$A:$D,MATCH(J14,REFERENTES!$C:$C,0),3))","v":""},null,null,null,null,null,null,null,{"$f":"IF(U14=\"\",\"\",INDEX('OTRAS REFERENCIAS'!$H$6:$I$11,MATCH(U14,'OTRAS REFERENCIAS'!$I$6:$I$11,0),1))","v":""},null,null,null,null,{"$f":"IF(Z14=\"\",\"\",INDEX('OTRAS REFERENCIAS'!$K$6:$L$11,MATCH(Z14,'OTRAS REFERENCIAS'!$L$6:$L$11,0),1))","v":""},null,null,null,null,{"$f":"IF(AE14=\"\",\"\",INDEX('OTRAS REFERENCIAS'!$N$6:$O$11,MATCH(AE14,'OTRAS REFERENCIAS'!$O$6:$O$11,0),1))","v":""},null,null,null,null,{"$f":"IF(AJ14=\"\",\"\",INDEX('OTRAS REFERENCIAS'!$Q$6:$R$11,MATCH(AJ14,'OTRAS REFERENCIAS'!$R$6:$R$11,0),1))","v":""},null,null,null,{"$f":"IF(AN14=\"\",\"\",INDEX('OTRAS REFERENCIAS'!$T$6:$U$11,MATCH(AN14,'OTRAS REFERENCIAS'!$U$6:$U$11,0),1))","v":""}]
[1,"",13,"","",{"$f":"IF(L15<>\"\",CONCATENATE(DIGITADOR!$B$2,$A$2,DIGITADOR!$M$1,A15),\"\")","v":""},null,null,"",{"$f":"IF(K15=\"\",\"\",INDEX('OTRAS REFERENCIAS'!$AL:$AM,MATCH(K15,'OTRAS REFERENCIAS'!$AL:$AL,0),2))","v":""},null,{"$f":"IF(J15=\"\",\"\",INDEX(REFERENTES!$A:$D,MATCH(J15,REFERENTES!$C:$C,0),3))","v":""},null,null,null,null,null,null,null,{"$f":"IF(U15=\"\",\"\",INDEX('OTRAS REFERENCIAS'!$H$6:$I$11,MATCH(U15,'OTRAS REFERENCIAS'!$I$6:$I$11,0),1))","v":""},null,null,null,null,{"$f":"IF(Z15=\"\",\"\",INDEX('OTRAS REFERENCIAS'!$K$6:$L$11,MATCH(Z15,'OTRAS REFERENCIAS'!$L$6:$L$11,0),1))","v":""},null,null,null,null,{"$f":"IF(AE15=\"\",\"\",INDEX('OTRAS REFERENCIAS'!$N$6:$O$11,MATCH(AE15,'OTRAS REFERENCIAS'!$O$6:$O$11,0),1))","v":""},null,null,null,null,{"$f":"IF(AJ15=\"\",\"\",INDEX('OTRAS REFERENCIAS'!$Q$6:$R$11,MATCH(AJ15,'OTRAS REFERENCIAS'!$R$6:$R$11,0),1))","v":""},null,null,null,{"$f":"IF(AN15=\"\",\"\",INDEX('OTRAS REFERENCIAS'!$T$6:$U$11,MATCH(AN15,'OTRAS REFERENCIAS'!$U$6:$U$11,0),1))","v":""}]
[1,"",14,"","",{"$f":"IF(L16<>\"\",CONCATENATE(DIGITADOR!$B$2,$A$2,DIGITADOR!$M$1,A16),\"\")","v":""},null,null,"",{"$f":"IF(K16=\"\",\"\",INDEX('OTRAS REFERENCIAS'!$AL:$AM,MATCH(K16,'OTRAS REFERENCIAS'!$AL:$AL,0),2))","v":""},null,{"$f":"IF(J16=\"\",\"\",INDEX(REFERENTES!$A:$D,MATCH(J16,REFERENTES!$C:$C,0),3))","v":""},null,null,null,null,null,null,null,{"$f":"IF(U16=\"\",\"\",INDEX('OTRAS REFERENCIAS'!$H$6:$I$11,MATCH(U16,'OTRAS REFERENCIAS'!$I$6:$I$11,0),1))","v":""},null,null,null,null,{"$f":"IF(Z16=\"\",\"\",INDEX('OTRAS REFERENCIAS'!$K$6:$L$11,MATCH(Z16,'OTRAS REFERENCIAS'!$L$6:$L$11,0),1))","v":""},null,null,null,null,{"$f":"IF(AE16=\"\",\"\",INDEX('OTRAS REFERENCIAS'!$N$6:$O$11,MATCH(AE16,'OTRAS REFERENCIAS'!$O$6:$O$11,0),1))","v":""},null,null,null,null,{"$f":"IF(AJ16=\"\",\"\",INDEX('OTRAS REFERENCIAS'!$Q$6:$R$11,MATCH(AJ16,'OTRAS REFERENCIAS'!$R$6:$R$11,0),1))","v":""},null,null,null,{"$f":"IF(AN16=\"\",\"\",INDEX('OTRAS REFERENCIAS'!$T$6:$U$11,MATCH(AN16,'OTRAS REFERENCIAS'!$U$6:$U$11,0),1))","v":""}]
[1,"",15,"","",{"$f":"IF(L17<>\"\",CONCATENATE(DIGITADOR!$B$2,$A$2,DIGITADOR!$M$1,A17),\"\")","v":""},null,null,"",{"$f":"IF(K17=\"\",\"\",INDEX('OTRAS REFERENCIAS'!$AL:$AM,MATCH(K17,'OTRAS REFERENCIAS'!$AL:$AL,0),2))","v":""},null,{"$f":"IF(J17=\"\",\"\",INDEX(REFERENTES!$A:$D,MATCH(J17,REFERENTES!$C:$C,0),3))","v":""},null,null,null,null,null,null,null,{"$f":"IF(U17=\"\",\"\",INDEX('OTRAS REFERENCIAS'!$H$6:$I$11,MATCH(U17,'OTRAS REFERENCIAS'!$I$6:$I$11,0),1))","v":""},null,null,null,null,{"$f":"IF(Z17=\"\",\"\",INDEX('OTRAS REFERENCIAS'!$K$6:$L$11,MATCH(Z17,'OTRAS REFERENCIAS'!$L$6:$L$11,0),1))","v":""},null,null,null,null,{"$f":"IF(AE17=\"\",\"\",INDEX('OTRAS REFERENCIAS'!$N$6:$O$11,MATCH(AE17,'OTRAS REFERENCIAS'!$O$6:$O$11,0),1))","v":""},null,null,null,null,{"$f":"IF(AJ17=\"\",\"\",INDEX('OTRAS REFERENCIAS'!$Q$6:$R$11,MATCH(AJ17,'OTRAS REFERENCIAS'!$R$6:$R$11,0),1))","v":""},null,null,null,{"$f":"IF(AN17=\"\",\"\",INDEX('OTRAS REFERENCIAS'!$T$6:$U$11,MATCH(AN17,'OTRAS REFERENCIAS'!$U$6:$U$11,0),1))","v":""}]
[1,"",16,"","",{"$f":"IF(L18<>\"\",CONCATENATE(DIGITADOR!$B$2,$A$2,DIGITADOR!$M$1,A18),\"\")","v":""},null,null,"",{"$f":"IF(K18=\"\",\"\",INDEX('OTRAS REFERENCIAS'!$AL:$AM,MATCH(K18,'OTRAS REFERENCIAS'!$AL:$AL,0),2))","v":""},null,{"$f":"IF(J18=\"\",\"\",INDEX(REFERENTES!$A:$D,MATCH(J18,REFERENTES!$C:$C,0),3))","v":""},null,null,null,null,null,null,null,{"$f":"IF(U18=\"\",\"\",INDEX('OTRAS REFERENCIAS'!$H$6:$I$11,MATCH(U18,'OTRAS REFERENCIAS'!$I$6:$I$11,0),1))","v":""},null,null,null,null,{"$f":"IF(Z18=\"\",\"\",INDEX('OTRAS REFERENCIAS'!$K$6:$L$11,MATCH(Z18,'OTRAS REFERENCIAS'!$L$6:$L$11,0),1))","v":""},null,null,null,null,{"$f":"IF(AE18=\"\",\"\",INDEX('OTRAS REFERENCIAS'!$N$6:$O$11,MATCH(AE18,'OTRAS REFERENCIAS'!$O$6:$O$11,0),1))","v":""},null,null,null,null,{"$f":"IF(AJ18=\"\",\"\",INDEX('OTRAS REFERENCIAS'!$Q$6:$R$11,MATCH(AJ18,'OTRAS REFERENCIAS'!$R$6:$R$11,0),1))","v":""},null,null,null,{"$f":"IF(AN18=\"\",\"\",INDEX('OTRAS REFERENCIAS'!$T$6:$U$11,MATCH(AN18,'OTRAS REFERENCIAS'!$U$6:$U$11,0),1))","v":""}]
[1,"",17,"","",{"$f":"IF(L19<>\"\",CONCATENATE(DIGITADOR!$B$2,$A$2,DIGITADOR!$M$1,A19),\"\")","v":""},null,null,"",{"$f":"IF(K19=\"\",\"\",INDEX('OTRAS REFERENCIAS'!$AL:$AM,MATCH(K19,'OTRAS REFERENCIAS'!$AL:$AL,0),2))","v":""},null,{"$f":"IF(J19=\"\",\"\",INDEX(REFERENTES!$A:$D,MATCH(J19,REFERENTES!$C:$C,0),3))","v":""},null,null,null,null,null,null,null,{"$f":"IF(U19=\"\",\"\",INDEX('OTRAS REFERENCIAS'!$H$6:$I$11,MATCH(U19,'OTRAS REFERENCIAS'!$I$6:$I$11,0),1))","v":""},null,null,null,null,{"$f":"IF(Z19=\"\",\"\",INDEX('OTRAS REFERENCIAS'!$K$6:$L$11,MATCH(Z19,'OTRAS REFERENCIAS'!$L$6:$L$11,0),1))","v":""},null,null,null,null,{"$f":"IF(AE19=\"\",\"\",INDEX('OTRAS REFERENCIAS'!$N$6:$O$11,MATCH(AE19,'OTRAS REFERENCIAS'!$O$6:$O$11,0),1))","v":""},null,null,null,null,{"$f":"IF(AJ19=\"\",\"\",INDEX('OTRAS REFERENCIAS'!$Q$6:$R$11,MATCH(AJ19,'OTRAS REFERENCIAS'!$R$6:$R$11,0),1))","v":""},null,null,null,{"$f":"IF(AN19=\"\",\"\",INDEX('OTRAS REFERENCIAS'!$T$6:$U$11,MATCH(AN19,'OTRAS REFERENCIAS'!$U$6:$U$11,0),1))","v":""}]
[1,"",18,"","",{"$f":"IF(L20<>\"\",CONCATENATE(DIGITADOR!$B$2,$A$2,DIGITADOR!$M$1,A20),\"\")","v":""},null,null,"",{"$f":"IF(K20=\"\",\"\",INDEX('OTRAS REFERENCIAS'!$AL:$AM,MATCH(K20,'OTRAS REFERENCIAS'!$AL:$AL,0),2))","v":""},null,{"$f":"IF(J20=\"\",\"\",INDEX(REFERENTES!$A:$D,MATCH(J20,REFERENTES!$C:$C,0),3))","v":""},null,null,null,null,null,null,null,{"$f":"IF(U20=\"\",\"\",INDEX('OTRAS REFERENCIAS'!$H$6:$I$11,MATCH(U20,'OTRAS REFERENCIAS'!$I$6:$I$11,0),1))","v":""},null,null,null,null,{"$f":"IF(Z20=\"\",\"\",INDEX('OTRAS REFERENCIAS'!$K$6:$L$11,MATCH(Z20,'OTRAS REFERENCIAS'!$L$6:$L$11,0),1))","v":""},null,null,null,null,{"$f":"IF(AE20=\"\",\"\",INDEX('OTRAS REFERENCIAS'!$N$6:$O$11,MATCH(AE20,'OTRAS REFERENCIAS'!$O$6:$O$11,0),1))","v":""},null,null,null,null,{"$f":"IF(AJ20=\"\",\"\",INDEX('OTRAS REFERENCIAS'!$Q$6:$R$11,MATCH(AJ20,'OTRAS REFERENCIAS'!$R$6:$R$11,0),1))","v":""},null,null,null,{"$f":"IF(AN20=\"\",\"\",INDEX('OTRAS REFERENCIAS'!$T$6:$U$11,MATCH(AN20,'OTRAS REFERENCIAS'!$U$6:$U$11,0),1))","v":""}]
[1,"",19,"","",{"$f":"IF(L21<>\"\",CONCATENATE(DIGITADOR!$B$2,$A$2,DIGITADOR!$M$1,A21),\"\")","v":""},null,null,"",{"$f":"IF(K21=\"\",\"\",INDEX('OTRAS REFERENCIAS'!$AL:$AM,MATCH(K21,'OTRAS REFERENCIAS'!$AL:$AL,0),2))","v":""},null,{"$f":"IF(J21=\"\",\"\",INDEX(REFERENTES!$A:$D,MATCH(J21,REFERENTES!$C:$C,0),3))","v":""},null,null,null,null,null,null,null,{"$f":"IF(U21=\"\",\"\",INDEX('OTRAS REFERENCIAS'!$H$6:$I$11,MATCH(U21,'OTRAS REFERENCIAS'!$I$6:$I$11,0),1))","v":""},null,null,null,null,{"$f":"IF(Z21=\"\",\"\",INDEX('OTRAS REFERENCIAS'!$K$6:$L$11,MATCH(Z21,'OTRAS REFERENCIAS'!$L$6:$L$11,0),1))","v":""},null,null,null,null,{"$f":"IF(AE21=\"\",\"\",INDEX('OTRAS REFERENCIAS'!$N$6:$O$11,MATCH(AE21,'OTRAS REFERENCIAS'!$O$6:$O$11,0),1))","v":""},null,null,null,null,{"$f":"IF(AJ21=\"\",\"\",INDEX('OTRAS REFERENCIAS'!$Q$6:$R$11,MATCH(AJ21,'OTRAS REFERENCIAS'!$R$6:$R$11,0),1))","v":""},null,null,null,{"$f":"IF(AN21=\"\",\"\",INDEX('OTRAS REFERENCIAS'!$T$6:$U$11,MATCH(AN21,'OTRAS REFERENCIAS'!$U$6:$U$11,0),1))","v":""}]
[1,"",20,"","",{"$f":"IF(L22<>\"\",CONCATENATE(DIGITADOR!$B$2,$A$2,DIGITADOR!$M$1,A22),\"\")","v":""},null,null,"",{"$f":"IF(K22=\"\",\"\",INDEX('OTRAS REFERENCIAS'!$AL:$AM,MATCH(K22,'OTRAS REFERENCIAS'!$AL:$AL,0),2))","v":""},null,{"$f":"IF(J22=\"\",\"\",INDEX(REFERENTES!$A:$D,MATCH(J22,REFERENTES!$C:$C,0),3))","v":""},null,null,null,null,null,null,null,{"$f":"IF(U22=\"\",\"\",INDEX('OTRAS REFERENCIAS'!$H$6:$I$11,MATCH(U22,'OTRAS REFERENCIAS'!$I$6:$I$11,0),1))","v":""},null,null,null,null,{"$f":"IF(Z22=\"\",\"\",INDEX('OTRAS REFERENCIAS'!$K$6:$L$11,MATCH(Z22,'OTRAS REFERENCIAS'!$L$6:$L$11,0),1))","v":""},null,null,null,null,{"$f":"IF(AE22=\"\",\"\",INDEX('OTRAS REFERENCIAS'!$N$6:$O$11,MATCH(AE22,'OTRAS REFERENCIAS'!$O$6:$O$11,0),1))","v":""},null,null,null,null,{"$f":"IF(AJ22=\"\",\"\",INDEX('OTRAS REFERENCIAS'!$Q$6:$R$11,MATCH(AJ22,'OTRAS REFERENCIAS'!$R$6:$R$11,0),1))","v":""},null,null,null,{"$f":"IF(AN22=\"\",\"\",INDEX('OTRAS REFERENCIAS'!$T$6:$U$11,MATCH(AN22,'OTRAS REFERENCIAS'!$U$6:$U$11,0),1))","v":""}]
[1,"",21,"","",{"$f":"IF(L23<>\"\",CONCATENATE(DIGITADOR!$B$2,$A$2,DIGITADOR!$M$1,A23),\"\")","v":""},null,null,"",{"$f":"IF(K23=\"\",\"\",INDEX('OTRAS REFERENCIAS'!$AL:$AM,MATCH(K23,'OTRAS REFERENCIAS'!$AL:$AL,0),2))","v":""},null,{"$f":"IF(J23=\"\",\"\",INDEX(REFERENTES!$A:$D,MATCH(J23,REFERENTES!$C:$C,0),3))","v":""},null,null,null,null,null,null,null,{"$f":"IF(U23=\"\",\"\",INDEX('OTRAS REFERENCIAS'!$H$6:$I$11,MATCH(U23,'OTRAS REFERENCIAS'!$I$6:$I$11,0),1))","v":""},null,null,null,null,{"$f":"IF(Z23=\"\",\"\",INDEX('OTRAS REFERENCIAS'!$K$6:$L$11,MATCH(Z23,'OTRAS REFERENCIAS'!$L$6:$L$11,0),1))","v":""},null,null,null,null,{"$f":"IF(AE23=\"\",\"\",INDEX('OTRAS REFERENCIAS'!$N$6:$O$11,MATCH(AE23,'OTRAS REFERENCIAS'!$O$6:$O$11,0),1))","v":""},null,null,null,null,{"$f":"IF(AJ23=\"\",\"\",INDEX('OTRAS REFERENCIAS'!$Q$6:$R$11,MATCH(AJ23,'OTRAS REFERENCIAS'!$R$6:$R$11,0),1))","v":""},null,null,null,{"$f":"IF(AN23=\"\",\"\",INDEX('OTRAS REFERENCIAS'!$T$6:$U$11,MATCH(AN23,'OTRAS REFERENCIAS'!$U$6:$U$11,0),1))","v":""}]
[1,"",22,"","",{"$f":"IF(L24<>\"\",CONCATENATE(DIGITADOR!$B$2,$A$2,DIGITADOR!$M$1,A24),\"\")","v":""},null,null,"",{"$f":"IF(K24=\"\",\"\",INDEX('OTRAS REFERENCIAS'!$AL:$AM,MATCH(K24,'OTRAS REFERENCIAS'!$AL:$AL,0),2))","v":""},null,{"$f":"IF(J24=\"\",\"\",INDEX(REFERENTES!$A:$D,MATCH(J24,REFERENTES!$C:$C,0),3))","v":""},null,null,null,null,null,null,null,{"$f":"IF(U24=\"\",\"\",INDEX('OTRAS REFERENCIAS'!$H$6:$I$11,MATCH(U24,'OTRAS REFERENCIAS'!$I$6:$I$11,0),1))","v":""},null,null,null,null,{"$f":"IF(Z24=\"\",\"\",INDEX('OTRAS REFERENCIAS'!$K$6:$L$11,MATCH(Z24,'OTRAS REFERENCIAS'!$L$6:$L$11,0),1))","v":""},null,null,null,null,{"$f":"IF(AE24=\"\",\"\",INDEX('OTRAS REFERENCIAS'!$N$6:$O$11,MATCH(AE24,'OTRAS REFERENCIAS'!$O$6:$O$11,0),1))","v":""},null,null,null,null,{"$f":"IF(AJ24=\"\",\"\",INDEX('OTRAS REFERENCIAS'!$Q$6:$R$11,MATCH(AJ24,'OTRAS REFERENCIAS'!$R$6:$R$11,0),1))","v":""},null,null,null,{"$f":"IF(AN24=\"\",\"\",INDEX('OTRAS REFERENCIAS'!$T$6:$U$11,MATCH(AN24,'OTRAS REFERENCIAS'!$U$6:$U$11,0),1))","v":""}]
[1,"",23,"","",{"$f":"IF(L25<>\"\",CONCATENATE(DIGITADOR!$B$2,$A$2,DIGITADOR!$M$1,A25),\"\")","v":""},null,null,"",{"$f":"IF(K25=\"\",\"\",INDEX('OTRAS REFERENCIAS'!$AL:$AM,MATCH(K25,'OTRAS REFERENCIAS'!$AL:$AL,0),2))","v":""},null,{"$f":"IF(J25=\"\",\"\",INDEX(REFERENTES!$A:$D,MATCH(J25,REFERENTES!$C:$C,0),3))","v":""},null,null,null,null,null,null,null,{"$f":"IF(U25=\"\",\"\",INDEX('OTRAS REFERENCIAS'!$H$6:$I$11,MATCH(U25,'OTRAS REFERENCIAS'!$I$6:$I$11,0),1))","v":""},null,null,null,null,{"$f":"IF(Z25=\"\",\"\",INDEX('OTRAS REFERENCIAS'!$K$6:$L$11,MATCH(Z25,'OTRAS REFERENCIAS'!$L$6:$L$11,0),1))","v":""},null,null,null,null,{"$f":"IF(AE25=\"\",\"\",INDEX('OTRAS REFERENCIAS'!$N$6:$O$11,MATCH(AE25,'OTRAS REFERENCIAS'!$O$6:$O$11,0),1))","v":""},null,null,null,null,{"$f":"IF(AJ25=\"\",\"\",INDEX('OTRAS REFERENCIAS'!$Q$6:$R$11,MATCH(AJ25,'OTRAS REFERENCIAS'!$R$6:$R$11,0),1))","v":""},null,null,null,{"$f":"IF(AN25=\"\",\"\",INDEX('OTRAS REFERENCIAS'!$T$6:$U$11,MATCH(AN25,'OTRAS REFERENCIAS'!$U$6:$U$11,0),1))","v":""}]
[1,"",24,"","",{"$f":"IF(L26<>\"\",CONCATENATE(DIGITADOR!$B$2,$A$2,DIGITADOR!$M$1,A26),\"\")","v":""},null,null,"",{"$f":"IF(K26=\"\",\"\",INDEX('OTRAS REFERENCIAS'!$AL:$AM,MATCH(K26,'OTRAS REFERENCIAS'!$AL:$AL,0),2))","v":""},null,{"$f":"IF(J26=\"\",\"\",INDEX(REFERENTES!$A:$D,MATCH(J26,REFERENTES!$C:$C,0),3))","v":""},null,null,null,null,null,null,null,{"$f":"IF(U26=\"\",\"\",INDEX('OTRAS REFERENCIAS'!$H$6:$I$11,MATCH(U26,'OTRAS REFERENCIAS'!$I$6:$I$11,0),1))","v":""},null,null,null,null,{"$f":"IF(Z26=\"\",\"\",INDEX('OTRAS REFERENCIAS'!$K$6:$L$11,MATCH(Z26,'OTRAS REFERENCIAS'!$L$6:$L$11,0),1))","v":""},null,null,null,null,{"$f":"IF(AE26=\"\",\"\",INDEX('OTRAS REFERENCIAS'!$N$6:$O$11,MATCH(AE26,'OTRAS REFERENCIAS'!$O$6:$O$11,0),1))","v":""},null,null,null,null,{"$f":"IF(AJ26=\"\",\"\",INDEX('OTRAS REFERENCIAS'!$Q$6:$R$11,MATCH(AJ26,'OTRAS REFERENCIAS'!$R$6:$R$11,0),1))","v":""},null,null,null,{"$f":"IF(AN26=\"\",\"\",INDEX('OTRAS REFERENCIAS'!$T$6:$U$11,MATCH(AN26,'OTRAS REFERENCIAS'!$U$6:$U$11,0),1))","v":""}]
[1,"",25,"","",{"$f":"IF(L27<>\"\",CONCATENATE(DIGITADOR!$B$2,$A$2,DIGITADOR!$M$1,A27),\"\")","v":""},null,null,"",{"$f":"IF(K27=\"\",\"\",INDEX('OTRAS REFERENCIAS'!$AL:$AM,MATCH(K27,'OTRAS REFERENCIAS'!$AL:$AL,0),2))","v":""},null,{"$f":"IF(J27=\"\",\"\",INDEX(REFERENTES!$A:$D,MATCH(J27,REFERENTES!$C:$C,0),3))","v":""},null,null,null,null,null,null,null,{"$f":"IF(U27=\"\",\"\",INDEX('OTRAS REFERENCIAS'!$H$6:$I$11,MATCH(U27,'OTRAS REFERENCIAS'!$I$6:$I$11,0),1))","v":""},null,null,null,null,{"$f":"IF(Z27=\"\",\"\",INDEX('OTRAS REFERENCIAS'!$K$6:$L$11,MATCH(Z27,'OTRAS REFERENCIAS'!$L$6:$L$11,0),1))","v":""},null,null,null,null,{"$f":"IF(AE27=\"\",\"\",INDEX('OTRAS REFERENCIAS'!$N$6:$O$11,MATCH(AE27,'OTRAS REFERENCIAS'!$O$6:$O$11,0),1))","v":""},null,null,null,null,{"$f":"IF(AJ27=\"\",\"\",INDEX('OTRAS REFERENCIAS'!$Q$6:$R$11,MATCH(AJ27,'OTRAS REFERENCIAS'!$R$6:$R$11,0),1))","v":""},null,null,null,{"$f":"IF(AN27=\"\",\"\",INDEX('OTRAS REFERENCIAS'!$T$6:$U$11,MATCH(AN27,'OTRAS REFERENCIAS'!$U$6:$U$11,0),1))","v":""}]
[1,"",26,"","",{"$f":"IF(L28<>\"\",CONCATENATE(DIGITADOR!$B$2,$A$2,DIGITADOR!$M$1,A28),\"\")","v":""},null,null,"",{"$f":"IF(K28=\"\",\"\",INDEX('OTRAS REFERENCIAS'!$AL:$AM,MATCH(K28,'OTRAS REFERENCIAS'!$AL:$AL,0),2))","v":""},null,{"$f":"IF(J28=\"\",\"\",INDEX(REFERENTES!$A:$D,MATCH(J28,REFERENTES!$C:$C,0),3))","v":""},null,null,null,null,null,null,null,{"$f":"IF(U28=\"\",\"\",INDEX('OTRAS REFERENCIAS'!$H$6:$I$11,MATCH(U28,'OTRAS REFERENCIAS'!$I$6:$I$11,0),1))","v":""},null,null,null,null,{"$f":"IF(Z28=\"\",\"\",INDEX('OTRAS REFERENCIAS'!$K$6:$L$11,MATCH(Z28,'OTRAS REFERENCIAS'!$L$6:$L$11,0),1))","v":""},null,null,null,null,{"$f":"IF(AE28=\"\",\"\",INDEX('OTRAS REFERENCIAS'!$N$6:$O$11,MATCH(AE28,'OTRAS REFERENCIAS'!$O$6:$O$11,0),1))","v":""},null,null,null,null,{"$f":"IF(AJ28=\"\",\"\",INDEX('OTRAS REFERENCIAS'!$Q$6:$R$11,MATCH(AJ28,'OTRAS REFERENCIAS'!$R$6:$R$11,0),1))","v":""},null,null,null,{"$f":"IF(AN28=\"\",\"\",INDEX('OTRAS REFERENCIAS'!$T$6:$U$11,MATCH(AN28,'OTRAS REFERENCIAS'!$U$6:$U$11,0),1))","v":""}]
[1,"",27,"","",{"$f":"IF(L29<>\"\",CONCATENATE(DIGITADOR!$B$2,$A$2,DIGITADOR!$M$1,A29),\"\")","v":""},null,null,"",{"$f":"IF(K29=\"\",\"\",INDEX('OTRAS REFERENCIAS'!$AL:$AM,MATCH(K29,'OTRAS REFERENCIAS'!$AL:$AL,0),2))","v":""},null,{"$f":"IF(J29=\"\",\"\",INDEX(REFERENTES!$A:$D,MATCH(J29,REFERENTES!$C:$C,0),3))","v":""},null,null,null,null,null,null,null,{"$f":"IF(U29=\"\",\"\",INDEX('OTRAS REFERENCIAS'!$H$6:$I$11,MATCH(U29,'OTRAS REFERENCIAS'!$I$6:$I$11,0),1))","v":""},null,null,null,null,{"$f":"IF(Z29=\"\",\"\",INDEX('OTRAS REFERENCIAS'!$K$6:$L$11,MATCH(Z29,'OTRAS REFERENCIAS'!$L$6:$L$11,0),1))","v":""},null,null,null,null,{"$f":"IF(AE29=\"\",\"\",INDEX('OTRAS REFERENCIAS'!$N$6:$O$11,MATCH(AE29,'OTRAS REFERENCIAS'!$O$6:$O$11,0),1))","v":""},null,null,null,null,{"$f":"IF(AJ29=\"\",\"\",INDEX('OTRAS REFERENCIAS'!$Q$6:$R$11,MATCH(AJ29,'OTRAS REFERENCIAS'!$R$6:$R$11,0),1))","v":""},null,null,null,{"$f":"IF(AN29=\"\",\"\",INDEX('OTRAS REFERENCIAS'!$T$6:$U$11,MATCH(AN29,'OTRAS REFERENCIAS'!$U$6:$U$11,0),1))","v":""}]
[1,"",28,"","",{"$f":"IF(L30<>\"\",CONCATENATE(DIGITADOR!$B$2,$A$2,DIGITADOR!$M$1,A30),\"\")","v":""},null,null,"",{"$f":"IF(K30=\"\",\"\",INDEX('OTRAS REFERENCIAS'!$AL:$AM,MATCH(K30,'OTRAS REFERENCIAS'!$AL:$AL,0),2))","v":""},null,{"$f":"IF(J30=\"\",\"\",INDEX(REFERENTES!$A:$D,MATCH(J30,REFERENTES!$C:$C,0),3))","v":""},null,null,null,null,null,null,null,{"$f":"IF(U30=\"\",\"\",INDEX('OTRAS REFERENCIAS'!$H$6:$I$11,MATCH(U30,'OTRAS REFERENCIAS'!$I$6:$I$11,0),1))","v":""},null,null,null,null,{"$f":"IF(Z30=\"\",\"\",INDEX('OTRAS REFERENCIAS'!$K$6:$L$11,MATCH(Z30,'OTRAS REFERENCIAS'!$L$6:$L$11,0),1))","v":""},null,null,null,null,{"$f":"IF(AE30=\"\",\"\",INDEX('OTRAS REFERENCIAS'!$N$6:$O$11,MATCH(AE30,'OTRAS REFERENCIAS'!$O$6:$O$11,0),1))","v":""},null,null,null,null,{"$f":"IF(AJ30=\"\",\"\",INDEX('OTRAS REFERENCIAS'!$Q$6:$R$11,MATCH(AJ30,'OTRAS REFERENCIAS'!$R$6:$R$11,0),1))","v":""},null,null,null,{"$f":"IF(AN30=\"\",\"\",INDEX('OTRAS REFERENCIAS'!$T$6:$U$11,MATCH(AN30,'OTRAS REFERENCIAS'!$U$6:$U$11,0),1))","v":""}]
[1,"",29,"","",{"$f":"IF(L31<>\"\",CONCATENATE(DIGITADOR!$B$2,$A$2,DIGITADOR!$M$1,A31),\"\")","v":""},null,null,"",{"$f":"IF(K31=\"\",\"\",INDEX('OTRAS REFERENCIAS'!$AL:$AM,MATCH(K31,'OTRAS REFERENCIAS'!$AL:$AL,0),2))","v":""},null,{"$f":"IF(J31=\"\",\"\",INDEX(REFERENTES!$A:$D,MATCH(J31,REFERENTES!$C:$C,0),3))","v":""},null,null,null,null,null,null,null,{"$f":"IF(U31=\"\",\"\",INDEX('OTRAS REFERENCIAS'!$H$6:$I$11,MATCH(U31,'OTRAS REFERENCIAS'!$I$6:$I$11,0),1))","v":""},null,null,null,null,{"$f":"IF(Z31=\"\",\"\",INDEX('OTRAS REFERENCIAS'!$K$6:$L$11,MATCH(Z31,'OTRAS REFERENCIAS'!$L$6:$L$11,0),1))","v":""},null,null,null,null,{"$f":"IF(AE31=\"\",\"\",INDEX('OTRAS REFERENCIAS'!$N$6:$O$11,MATCH(AE31,'OTRAS REFERENCIAS'!$O$6:$O$11,0),1))","v":""},null,null,null,null,{"$f":"IF(AJ31=\"\",\"\",INDEX('OTRAS REFERENCIAS'!$Q$6:$R$11,MATCH(AJ31,'OTRAS REFERENCIAS'!$R$6:$R$11,0),1))","v":""},null,null,null,{"$f":"IF(AN31=\"\",\"\",INDEX('OTRAS REFERENCIAS'!$T$6:$U$11,MATCH(AN31,'OTRAS REFERENCIAS'!$U$6:$U$11,0),1))","v":""}]
[1,"",30,"","",{"$f":"IF(L32<>\"\",CONCATENATE(DIGITADOR!$B$2,$A$2,DIGITADOR!$M$1,A32),\"\")","v":""},null,null,"",{"$f":"IF(K32=\"\",\"\",INDEX('OTRAS REFERENCIAS'!$AL:$AM,MATCH(K32,'OTRAS REFERENCIAS'!$AL:$AL,0),2))","v":""},null,{"$f":"IF(J32=\"\",\"\",INDEX(REFERENTES!$A:$D,MATCH(J32,REFERENTES!$C:$C,0),3))","v":""},null,null,null,null,null,null,null,{"$f":"IF(U32=\"\",\"\",INDEX('OTRAS REFERENCIAS'!$H$6:$I$11,MATCH(U32,'OTRAS REFERENCIAS'!$I$6:$I$11,0),1))","v":""},null,null,null,null,{"$f":"IF(Z32=\"\",\"\",INDEX('OTRAS REFERENCIAS'!$K$6:$L$11,MATCH(Z32,'OTRAS REFERENCIAS'!$L$6:$L$11,0),1))","v":""},null,null,null,null,{"$f":"IF(AE32=\"\",\"\",INDEX('OTRAS REFERENCIAS'!$N$6:$O$11,MATCH(AE32,'OTRAS REFERENCIAS'!$O$6:$O$11,0),1))","v":""},null,null,null,null,{"$f":"IF(AJ32=\"\",\"\",INDEX('OTRAS REFERENCIAS'!$Q$6:$R$11,MATCH(AJ32,'OTRAS REFERENCIAS'!$R$6:$R$11,0),1))","v":""},null,null,null,{"$f":"IF(AN32=\"\",\"\",INDEX('OTRAS REFERENCIAS'!$T$6:$U$11,MATCH(AN32,'OTRAS REFERENCIAS'!$U$6:$U$11,0),1))","v":""}]
[1,"",31,"","",{"$f":"IF(L33<>\"\",CONCATENATE(DIGITADOR!$B$2,$A$2,DIGITADOR!$M$1,A33),\"\")","v":""},null,null,"",{"$f":"IF(K33=\"\",\"\",INDEX('OTRAS REFERENCIAS'!$AL:$AM,MATCH(K33,'OTRAS REFERENCIAS'!$AL:$AL,0),2))","v":""},null,{"$f":"IF(J33=\"\",\"\",INDEX(REFERENTES!$A:$D,MATCH(J33,REFERENTES!$C:$C,0),3))","v":""},null,null,null,null,null,null,null,{"$f":"IF(U33=\"\",\"\",INDEX('OTRAS REFERENCIAS'!$H$6:$I$11,MATCH(U33,'OTRAS REFERENCIAS'!$I$6:$I$11,0),1))","v":""},null,null,null,null,{"$f":"IF(Z33=\"\",\"\",INDEX('OTRAS REFERENCIAS'!$K$6:$L$11,MATCH(Z33,'OTRAS REFERENCIAS'!$L$6:$L$11,0),1))","v":""},null,null,null,null,{"$f":"IF(AE33=\"\",\"\",INDEX('OTRAS REFERENCIAS'!$N$6:$O$11,MATCH(AE33,'OTRAS REFERENCIAS'!$O$6:$O$11,0),1))","v":""},null,null,null,null,{"$f":"IF(AJ33=\"\",\"\",INDEX('OTRAS REFERENCIAS'!$Q$6:$R$11,MATCH(AJ33,'OTRAS REFERENCIAS'!$R$6:$R$11,0),1))","v":""},null,null,null,{"$f":"IF(AN33=\"\",\"\",INDEX('OTRAS REFERENCIAS'!$T$6:$U$11,MATCH(AN33,'OTRAS REFERENCIAS'!$U$6:$U$11,0),1))","v":""}]
[1,"",32,"","",{"$f":"IF(L34<>\"\",CONCATENATE(DIGITADOR!$B$2,$A$2,DIGITADOR!$M$1,A34),\"\")","v":""},null,null,"",{"$f":"IF(K34=\"\",\"\",INDEX('OTRAS REFERENCIAS'!$AL:$AM,MATCH(K34,'OTRAS REFERENCIAS'!$AL:$AL,0),2))","v":""},null,{"$f":"IF(J34=\"\",\"\",INDEX(REFERENTES!$A:$D,MATCH(J34,REFERENTES!$C:$C,0),3))","v":""},null,null,null,null,null,null,null,{"$f":"IF(U34=\"\",\"\",INDEX('OTRAS REFERENCIAS'!$H$6:$I$11,MATCH(U34,'OTRAS REFERENCIAS'!$I$6:$I$11,0),1))","v":""},null,null,null,null,{"$f":"IF(Z34=\"\",\"\",INDEX('OTRAS REFERENCIAS'!$K$6:$L$11,MATCH(Z34,'OTRAS REFERENCIAS'!$L$6:$L$11,0),1))","v":""},null,null,null,null,{"$f":"IF(AE34=\"\",\"\",INDEX('OTRAS REFERENCIAS'!$N$6:$O$11,MATCH(AE34,'OTRAS REFERENCIAS'!$O$6:$O$11,0),1))","v":""},null,null,null,null,{"$f":"IF(AJ34=\"\",\"\",INDEX('OTRAS REFERENCIAS'!$Q$6:$R$11,MATCH(AJ34,'OTRAS REFERENCIAS'!$R$6:$R$11,0),1))","v":""},null,null,null,{"$f":"IF(AN34=\"\",\"\",INDEX('OTRAS REFERENCIAS'!$T$6:$U$11,MATCH(AN34,'OTRAS REFERENCIAS'!$U$6:$U$11,0),1))","v":""}]
[1,"",33,"","",{"$f":"IF(L35<>\"\",CONCATENATE(DIGITADOR!$B$2,$A$2,DIGITADOR!$M$1,A35),\"\")","v":""},null,null,"",{"$f":"IF(K35=\"\",\"\",INDEX('OTRAS REFERENCIAS'!$AL:$AM,MATCH(K35,'OTRAS REFERENCIAS'!$AL:$AL,0),2))","v":""},null,{"$f":"IF(J35=\"\",\"\",INDEX(REFERENTES!$A:$D,MATCH(J35,REFERENTES!$C:$C,0),3))","v":""},null,null,null,null,null,null,null,{"$f":"IF(U35=\"\",\"\",INDEX('OTRAS REFERENCIAS'!$H$6:$I$11,MATCH(U35,'OTRAS REFERENCIAS'!$I$6:$I$11,0),1))","v":""},null,null,null,null,{"$f":"IF(Z35=\"\",\"\",INDEX('OTRAS REFERENCIAS'!$K$6:$L$11,MATCH(Z35,'OTRAS REFERENCIAS'!$L$6:$L$11,0),1))","v":""},null,null,null,null,{"$f":"IF(AE35=\"\",\"\",INDEX('OTRAS REFERENCIAS'!$N$6:$O$11,MATCH(AE35,'OTRAS REFERENCIAS'!$O$6:$O$11,0),1))","v":""},null,null,null,null,{"$f":"IF(AJ35=\"\",\"\",INDEX('OTRAS REFERENCIAS'!$Q$6:$R$11,MATCH(AJ35,'OTRAS REFERENCIAS'!$R$6:$R$11,0),1))","v":""},null,null,null,{"$f":"IF(AN35=\"\",\"\",INDEX('OTRAS REFERENCIAS'!$T$6:$U$11,MATCH(AN35,'OTRAS REFERENCIAS'!$U$6:$U$11,0),1))","v":""}]
[1,"",34,"","",{"$f":"IF(L36<>\"\",CONCATENATE(DIGITADOR!$B$2,$A$2,DIGITADOR!$M$1,A36),\"\")","v":""},null,null,"",{"$f":"IF(K36=\"\",\"\",INDEX('OTRAS REFERENCIAS'!$AL:$AM,MATCH(K36,'OTRAS REFERENCIAS'!$AL:$AL,0),2))","v":""},null,{"$f":"IF(J36=\"\",\"\",INDEX(REFERENTES!$A:$D,MATCH(J36,REFERENTES!$C:$C,0),3))","v":""},null,null,null,null,null,null,null,{"$f":"IF(U36=\"\",\"\",INDEX('OTRAS REFERENCIAS'!$H$6:$I$11,MATCH(U36,'OTRAS REFERENCIAS'!$I$6:$I$11,0),1))","v":""},null,null,null,null,{"$f":"IF(Z36=\"\",\"\",INDEX('OTRAS REFERENCIAS'!$K$6:$L$11,MATCH(Z36,'OTRAS REFERENCIAS'!$L$6:$L$11,0),1))","v":""},null,null,null,null,{"$f":"IF(AE36=\"\",\"\",INDEX('OTRAS REFERENCIAS'!$N$6:$O$11,MATCH(AE36,'OTRAS REFERENCIAS'!$O$6:$O$11,0),1))","v":""},null,null,null,null,{"$f":"IF(AJ36=\"\",\"\",INDEX('OTRAS REFERENCIAS'!$Q$6:$R$11,MATCH(AJ36,'OTRAS REFERENCIAS'!$R$6:$R$11,0),1))","v":""},null,null,null,{"$f":"IF(AN36=\"\",\"\",INDEX('OTRAS REFERENCIAS'!$T$6:$U$11,MATCH(AN36,'OTRAS REFERENCIAS'!$U$6:$U$11,0),1))","v":""}]
[1,"",35,"","",{"$f":"IF(L37<>\"\",CONCATENATE(DIGITADOR!$B$2,$A$2,DIGITADOR!$M$1,A37),\"\")","v":""},null,null,"",{"$f":"IF(K37=\"\",\"\",INDEX('OTRAS REFERENCIAS'!$AL:$AM,MATCH(K37,'OTRAS REFERENCIAS'!$AL:$AL,0),2))","v":""},null,{"$f":"IF(J37=\"\",\"\",INDEX(REFERENTES!$A:$D,MATCH(J37,REFERENTES!$C:$C,0),3))","v":""},null,null,null,null,null,null,null,{"$f":"IF(U37=\"\",\"\",INDEX('OTRAS REFERENCIAS'!$H$6:$I$11,MATCH(U37,'OTRAS REFERENCIAS'!$I$6:$I$11,0),1))","v":""},null,null,null,null,{"$f":"IF(Z37=\"\",\"\",INDEX('OTRAS REFERENCIAS'!$K$6:$L$11,MATCH(Z37,'OTRAS REFERENCIAS'!$L$6:$L$11,0),1))","v":""},null,null,null,null,{"$f":"IF(AE37=\"\",\"\",INDEX('OTRAS REFERENCIAS'!$N$6:$O$11,MATCH(AE37,'OTRAS REFERENCIAS'!$O$6:$O$11,0),1))","v":""},null,null,null,null,{"$f":"IF(AJ37=\"\",\"\",INDEX('OTRAS REFERENCIAS'!$Q$6:$R$11,MATCH(AJ37,'OTRAS REFERENCIAS'!$R$6:$R$11,0),1))","v":""},null,null,null,{"$f":"IF(AN37=\"\",\"\",INDEX('OTRAS REFERENCIAS'!$T$6:$U$11,MATCH(AN37,'OTRAS REFERENCIAS'!$U$6:$U$11,0),1))","v":""}]
[1,"",36,"","",{"$f":"IF(L38<>\"\",CONCATENATE(DIGITADOR!$B$2,$A$2,DIGITADOR!$M$1,A38),\"\")","v":""},null,null,"",{"$f":"IF(K38=\"\",\"\",INDEX('OTRAS REFERENCIAS'!$AL:$AM,MATCH(K38,'OTRAS REFERENCIAS'!$AL:$AL,0),2))","v":""},null,{"$f":"IF(J38=\"\",\"\",INDEX(REFERENTES!$A:$D,MATCH(J38,REFERENTES!$C:$C,0),3))","v":""},null,null,null,null,null,null,null,{"$f":"IF(U38=\"\",\"\",INDEX('OTRAS REFERENCIAS'!$H$6:$I$11,MATCH(U38,'OTRAS REFERENCIAS'!$I$6:$I$11,0),1))","v":""},null,null,null,null,{"$f":"IF(Z38=\"\",\"\",INDEX('OTRAS REFERENCIAS'!$K$6:$L$11,MATCH(Z38,'OTRAS REFERENCIAS'!$L$6:$L$11,0),1))","v":""},null,null,null,null,{"$f":"IF(AE38=\"\",\"\",INDEX('OTRAS REFERENCIAS'!$N$6:$O$11,MATCH(AE38,'OTRAS REFERENCIAS'!$O$6:$O$11,0),1))","v":""},null,null,null,null,{"$f":"IF(AJ38=\"\",\"\",INDEX('OTRAS REFERENCIAS'!$Q$6:$R$11,MATCH(AJ38,'OTRAS REFERENCIAS'!$R$6:$R$11,0),1))","v":""},null,null,null,{"$f":"IF(AN38=\"\",\"\",INDEX('OTRAS REFERENCIAS'!$T$6:$U$11,MATCH(AN38,'OTRAS REFERENCIAS'!$U$6:$U$11,0),1))","v":""}]
[1,"",37,"","",{"$f":"IF(L39<>\"\",CONCATENATE(DIGITADOR!$B$2,$A$2,DIGITADOR!$M$1,A39),\"\")","v":""},null,null,"",{"$f":"IF(K39=\"\",\"\",INDEX('OTRAS REFERENCIAS'!$AL:$AM,MATCH(K39,'OTRAS REFERENCIAS'!$AL:$AL,0),2))","v":""},null,{"$f":"IF(J39=\"\",\"\",INDEX(REFERENTES!$A:$D,MATCH(J39,REFERENTES!$C:$C,0),3))","v":""},null,null,null,null,null,null,null,{"$f":"IF(U39=\"\",\"\",INDEX('OTRAS REFERENCIAS'!$H$6:$I$11,MATCH(U39,'OTRAS REFERENCIAS'!$I$6:$I$11,0),1))","v":""},null,null,null,null,{"$f":"IF(Z39=\"\",\"\",INDEX('OTRAS REFERENCIAS'!$K$6:$L$11,MATCH(Z39,'OTRAS REFERENCIAS'!$L$6:$L$11,0),1))","v":""},null,null,null,null,{"$f":"IF(AE39=\"\",\"\",INDEX('OTRAS REFERENCIAS'!$N$6:$O$11,MATCH(AE39,'OTRAS REFERENCIAS'!$O$6:$O$11,0),1))","v":""},null,null,null,null,{"$f":"IF(AJ39=\"\",\"\",INDEX('OTRAS REFERENCIAS'!$Q$6:$R$11,MATCH(AJ39,'OTRAS REFERENCIAS'!$R$6:$R$11,0),1))","v":""},null,null,null,{"$f":"IF(AN39=\"\",\"\",INDEX('OTRAS REFERENCIAS'!$T$6:$U$11,MATCH(AN39,'OTRAS REFERENCIAS'!$U$6:$U$11,0),1))","v":""}]
[1,"",38,"","",{"$f":"IF(L40<>\"\",CONCATENATE(DIGITADOR!$B$2,$A$2,DIGITADOR!$M$1,A40),\"\")","v":""},null,null,"",{"$f":"IF(K40=\"\",\"\",INDEX('OTRAS REFERENCIAS'!$AL:$AM,MATCH(K40,'OTRAS REFERENCIAS'!$AL:$AL,0),2))","v":""},null,{"$f":"IF(J40=\"\",\"\",INDEX(REFERENTES!$A:$D,MATCH(J40,REFERENTES!$C:$C,0),3))","v":""},null,null,null,null,null,null,null,{"$f":"IF(U40=\"\",\"\",INDEX('OTRAS REFERENCIAS'!$H$6:$I$11,MATCH(U40,'OTRAS REFERENCIAS'!$I$6:$I$11,0),1))","v":""},null,null,null,null,{"$f":"IF(Z40=\"\",\"\",INDEX('OTRAS REFERENCIAS'!$K$6:$L$11,MATCH(Z40,'OTRAS REFERENCIAS'!$L$6:$L$11,0),1))","v":""},null,null,null,null,{"$f":"IF(AE40=\"\",\"\",INDEX('OTRAS REFERENCIAS'!$N$6:$O$11,MATCH(AE40,'OTRAS REFERENCIAS'!$O$6:$O$11,0),1))","v":""},null,null,null,null,{"$f":"IF(AJ40=\"\",\"\",INDEX('OTRAS REFERENCIAS'!$Q$6:$R$11,MATCH(AJ40,'OTRAS REFERENCIAS'!$R$6:$R$11,0),1))","v":""},null,null,null,{"$f":"IF(AN40=\"\",\"\",INDEX('OTRAS REFERENCIAS'!$T$6:$U$11,MATCH(AN40,'OTRAS REFERENCIAS'!$U$6:$U$11,0),1))","v":""}]
[1,"",39,"","",{"$f":"IF(L41<>\"\",CONCATENATE(DIGITADOR!$B$2,$A$2,DIGITADOR!$M$1,A41),\"\")","v":""},null,null,"",{"$f":"IF(K41=\"\",\"\",INDEX('OTRAS REFERENCIAS'!$AL:$AM,MATCH(K41,'OTRAS REFERENCIAS'!$AL:$AL,0),2))","v":""},null,{"$f":"IF(J41=\"\",\"\",INDEX(REFERENTES!$A:$D,MATCH(J41,REFERENTES!$C:$C,0),3))","v":""},null,null,null,null,null,null,null,{"$f":"IF(U41=\"\",\"\",INDEX('OTRAS REFERENCIAS'!$H$6:$I$11,MATCH(U41,'OTRAS REFERENCIAS'!$I$6:$I$11,0),1))","v":""},null,null,null,null,{"$f":"IF(Z41=\"\",\"\",INDEX('OTRAS REFERENCIAS'!$K$6:$L$11,MATCH(Z41,'OTRAS REFERENCIAS'!$L$6:$L$11,0),1))","v":""},null,null,null,null,{"$f":"IF(AE41=\"\",\"\",INDEX('OTRAS REFERENCIAS'!$N$6:$O$11,MATCH(AE41,'OTRAS REFERENCIAS'!$O$6:$O$11,0),1))","v":""},null,null,null,null,{"$f":"IF(AJ41=\"\",\"\",INDEX('OTRAS REFERENCIAS'!$Q$6:$R$11,MATCH(AJ41,'OTRAS REFERENCIAS'!$R$6:$R$11,0),1))","v":""},null,null,null,{"$f":"IF(AN41=\"\",\"\",INDEX('OTRAS REFERENCIAS'!$T$6:$U$11,MATCH(AN41,'OTRAS REFERENCIAS'!$U$6:$U$11,0),1))","v":""}]
[1,"",40,"","",{"$f":"IF(L42<>\"\",CONCATENATE(DIGITADOR!$B$2,$A$2,DIGITADOR!$M$1,A42),\"\")","v":""},null,null,"",{"$f":"IF(K42=\"\",\"\",INDEX('OTRAS REFERENCIAS'!$AL:$AM,MATCH(K42,'OTRAS REFERENCIAS'!$AL:$AL,0),2))","v":""},null,{"$f":"IF(J42=\"\",\"\",INDEX(REFERENTES!$A:$D,MATCH(J42,REFERENTES!$C:$C,0),3))","v":""},null,null,null,null,null,null,null,{"$f":"IF(U42=\"\",\"\",INDEX('OTRAS REFERENCIAS'!$H$6:$I$11,MATCH(U42,'OTRAS REFERENCIAS'!$I$6:$I$11,0),1))","v":""},null,null,null,null,{"$f":"IF(Z42=\"\",\"\",INDEX('OTRAS REFERENCIAS'!$K$6:$L$11,MATCH(Z42,'OTRAS REFERENCIAS'!$L$6:$L$11,0),1))","v":""},null,null,null,null,{"$f":"IF(AE42=\"\",\"\",INDEX('OTRAS REFERENCIAS'!$N$6:$O$11,MATCH(AE42,'OTRAS REFERENCIAS'!$O$6:$O$11,0),1))","v":""},null,null,null,null,{"$f":"IF(AJ42=\"\",\"\",INDEX('OTRAS REFERENCIAS'!$Q$6:$R$11,MATCH(AJ42,'OTRAS REFERENCIAS'!$R$6:$R$11,0),1))","v":""},null,null,null,{"$f":"IF(AN42=\"\",\"\",INDEX('OTRAS REFERENCIAS'!$T$6:$U$11,MATCH(AN42,'OTRAS REFERENCIAS'!$U$6:$U$11,0),1))","v":""}]
[1,"",41,"","",{"$f":"IF(L43<>\"\",CONCATENATE(DIGITADOR!$B$2,$A$2,DIGITADOR!$M$1,A43),\"\")","v":""},null,null,"",{"$f":"IF(K43=\"\",\"\",INDEX('OTRAS REFERENCIAS'!$AL:$AM,MATCH(K43,'OTRAS REFERENCIAS'!$AL:$AL,0),2))","v":""},null,{"$f":"IF(J43=\"\",\"\",INDEX(REFERENTES!$A:$D,MATCH(J43,REFERENTES!$C:$C,0),3))","v":""},null,null,null,null,null,null,null,{"$f":"IF(U43=\"\",\"\",INDEX('OTRAS REFERENCIAS'!$H$6:$I$11,MATCH(U43,'OTRAS REFERENCIAS'!$I$6:$I$11,0),1))","v":""},null,null,null,null,{"$f":"IF(Z43=\"\",\"\",INDEX('OTRAS REFERENCIAS'!$K$6:$L$11,MATCH(Z43,'OTRAS REFERENCIAS'!$L$6:$L$11,0),1))","v":""},null,null,null,null,{"$f":"IF(AE43=\"\",\"\",INDEX('OTRAS REFERENCIAS'!$N$6:$O$11,MATCH(AE43,'OTRAS REFERENCIAS'!$O$6:$O$11,0),1))","v":""},null,null,null,null,{"$f":"IF(AJ43=\"\",\"\",INDEX('OTRAS REFERENCIAS'!$Q$6:$R$11,MATCH(AJ43,'OTRAS REFERENCIAS'!$R$6:$R$11,0),1))","v":""},null,null,null,{"$f":"IF(AN43=\"\",\"\",INDEX('OTRAS REFERENCIAS'!$T$6:$U$11,MATCH(AN43,'OTRAS REFERENCIAS'!$U$6:$U$11,0),1))","v":""}]
[1,"",42,"","",{"$f":"IF(L44<>\"\",CONCATENATE(DIGITADOR!$B$2,$A$2,DIGITADOR!$M$1,A44),\"\")","v":""},null,null,"",{"$f":"IF(K44=\"\",\"\",INDEX('OTRAS REFERENCIAS'!$AL:$AM,MATCH(K44,'OTRAS REFERENCIAS'!$AL:$AL,0),2))","v":""},null,{"$f":"IF(J44=\"\",\"\",INDEX(REFERENTES!$A:$D,MATCH(J44,REFERENTES!$C:$C,0),3))","v":""},null,null,null,null,null,null,null,{"$f":"IF(U44=\"\",\"\",INDEX('OTRAS REFERENCIAS'!$H$6:$I$11,MATCH(U44,'OTRAS REFERENCIAS'!$I$6:$I$11,0),1))","v":""},null,null,null,null,{"$f":"IF(Z44=\"\",\"\",INDEX('OTRAS REFERENCIAS'!$K$6:$L$11,MATCH(Z44,'OTRAS REFERENCIAS'!$L$6:$L$11,0),1))","v":""},null,null,null,null,{"$f":"IF(AE44=\"\",\"\",INDEX('OTRAS REFERENCIAS'!$N$6:$O$11,MATCH(AE44,'OTRAS REFERENCIAS'!$O$6:$O$11,0),1))","v":""},null,null,null,null,{"$f":"IF(AJ44=\"\",\"\",INDEX('OTRAS REFERENCIAS'!$Q$6:$R$11,MATCH(AJ44,'OTRAS REFERENCIAS'!$R$6:$R$11,0),1))","v":""},null,null,null,{"$f":"IF(AN44=\"\",\"\",INDEX('OTRAS REFERENCIAS'!$T$6:$U$11,MATCH(AN44,'OTRAS REFERENCIAS'!$U$6:$U$11,0),1))","v":""}]
[1,"",43,"","",{"$f":"IF(L45<>\"\",CONCATENATE(DIGITADOR!$B$2,$A$2,DIGITADOR!$M$1,A45),\"\")","v":""},null,null,"",{"$f":"IF(K45=\"\",\"\",INDEX('OTRAS REFERENCIAS'!$AL:$AM,MATCH(K45,'OTRAS REFERENCIAS'!$AL:$AL,0),2))","v":""},null,{"$f":"IF(J45=\"\",\"\",INDEX(REFERENTES!$A:$D,MATCH(J45,REFERENTES!$C:$C,0),3))","v":""},null,null,null,null,null,null,null,{"$f":"IF(U45=\"\",\"\",INDEX('OTRAS REFERENCIAS'!$H$6:$I$11,MATCH(U45,'OTRAS REFERENCIAS'!$I$6:$I$11,0),1))","v":""},null,null,null,null,{"$f":"IF(Z45=\"\",\"\",INDEX('OTRAS REFERENCIAS'!$K$6:$L$11,MATCH(Z45,'OTRAS REFERENCIAS'!$L$6:$L$11,0),1))","v":""},null,null,null,null,{"$f":"IF(AE45=\"\",\"\",INDEX('OTRAS REFERENCIAS'!$N$6:$O$11,MATCH(AE45,'OTRAS REFERENCIAS'!$O$6:$O$11,0),1))","v":""},null,null,null,null,{"$f":"IF(AJ45=\"\",\"\",INDEX('OTRAS REFERENCIAS'!$Q$6:$R$11,MATCH(AJ45,'OTRAS REFERENCIAS'!$R$6:$R$11,0),1))","v":""},null,null,null,{"$f":"IF(AN45=\"\",\"\",INDEX('OTRAS REFERENCIAS'!$T$6:$U$11,MATCH(AN45,'OTRAS REFERENCIAS'!$U$6:$U$11,0),1))","v":""}]
[1,"",44,"","",{"$f":"IF(L46<>\"\",CONCATENATE(DIGITADOR!$B$2,$A$2,DIGITADOR!$M$1,A46),\"\")","v":""},null,null,"",{"$f":"IF(K46=\"\",\"\",INDEX('OTRAS REFERENCIAS'!$AL:$AM,MATCH(K46,'OTRAS REFERENCIAS'!$AL:$AL,0),2))","v":""},null,{"$f":"IF(J46=\"\",\"\",INDEX(REFERENTES!$A:$D,MATCH(J46,REFERENTES!$C:$C,0),3))","v":""},null,null,null,null,null,null,null,{"$f":"IF(U46=\"\",\"\",INDEX('OTRAS REFERENCIAS'!$H$6:$I$11,MATCH(U46,'OTRAS REFERENCIAS'!$I$6:$I$11,0),1))","v":""},null,null,null,null,{"$f":"IF(Z46=\"\",\"\",INDEX('OTRAS REFERENCIAS'!$K$6:$L$11,MATCH(Z46,'OTRAS REFERENCIAS'!$L$6:$L$11,0),1))","v":""},null,null,null,null,{"$f":"IF(AE46=\"\",\"\",INDEX('OTRAS REFERENCIAS'!$N$6:$O$11,MATCH(AE46,'OTRAS REFERENCIAS'!$O$6:$O$11,0),1))","v":""},null,null,null,null,{"$f":"IF(AJ46=\"\",\"\",INDEX('OTRAS REFERENCIAS'!$Q$6:$R$11,MATCH(AJ46,'OTRAS REFERENCIAS'!$R$6:$R$11,0),1))","v":""},null,null,null,{"$f":"IF(AN46=\"\",\"\",INDEX('OTRAS REFERENCIAS'!$T$6:$U$11,MATCH(AN46,'OTRAS REFERENCIAS'!$U$6:$U$11,0),1))","v":""}]
[1,"",45,"","",{"$f":"IF(L47<>\"\",CONCATENATE(DIGITADOR!$B$2,$A$2,DIGITADOR!$M$1,A47),\"\")","v":""},null,null,"",{"$f":"IF(K47=\"\",\"\",INDEX('OTRAS REFERENCIAS'!$AL:$AM,MATCH(K47,'OTRAS REFERENCIAS'!$AL:$AL,0),2))","v":""},null,{"$f":"IF(J47=\"\",\"\",INDEX(REFERENTES!$A:$D,MATCH(J47,REFERENTES!$C:$C,0),3))","v":""},null,null,null,null,null,null,null,{"$f":"IF(U47=\"\",\"\",INDEX('OTRAS REFERENCIAS'!$H$6:$I$11,MATCH(U47,'OTRAS REFERENCIAS'!$I$6:$I$11,0),1))","v":""},null,null,null,null,{"$f":"IF(Z47=\"\",\"\",INDEX('OTRAS REFERENCIAS'!$K$6:$L$11,MATCH(Z47,'OTRAS REFERENCIAS'!$L$6:$L$11,0),1))","v":""},null,null,null,null,{"$f":"IF(AE47=\"\",\"\",INDEX('OTRAS REFERENCIAS'!$N$6:$O$11,MATCH(AE47,'OTRAS REFERENCIAS'!$O$6:$O$11,0),1))","v":""},null,null,null,null,{"$f":"IF(AJ47=\"\",\"\",INDEX('OTRAS REFERENCIAS'!$Q$6:$R$11,MATCH(AJ47,'OTRAS REFERENCIAS'!$R$6:$R$11,0),1))","v":""},null,null,null,{"$f":"IF(AN47=\"\",\"\",INDEX('OTRAS REFERENCIAS'!$T$6:$U$11,MATCH(AN47,'OTRAS REFERENCIAS'!$U$6:$U$11,0),1))","v":""}]
[1,"",46,"","",{"$f":"IF(L48<>\"\",CONCATENATE(DIGITADOR!$B$2,$A$2,DIGITADOR!$M$1,A48),\"\")","v":""},null,null,"",{"$f":"IF(K48=\"\",\"\",INDEX('OTRAS REFERENCIAS'!$AL:$AM,MATCH(K48,'OTRAS REFERENCIAS'!$AL:$AL,0),2))","v":""},null,{"$f":"IF(J48=\"\",\"\",INDEX(REFERENTES!$A:$D,MATCH(J48,REFERENTES!$C:$C,0),3))","v":""},null,null,null,null,null,null,null,{"$f":"IF(U48=\"\",\"\",INDEX('OTRAS REFERENCIAS'!$H$6:$I$11,MATCH(U48,'OTRAS REFERENCIAS'!$I$6:$I$11,0),1))","v":""},null,null,null,null,{"$f":"IF(Z48=\"\",\"\",INDEX('OTRAS REFERENCIAS'!$K$6:$L$11,MATCH(Z48,'OTRAS REFERENCIAS'!$L$6:$L$11,0),1))","v":""},null,null,null,null,{"$f":"IF(AE48=\"\",\"\",INDEX('OTRAS REFERENCIAS'!$N$6:$O$11,MATCH(AE48,'OTRAS REFERENCIAS'!$O$6:$O$11,0),1))","v":""},null,null,null,null,{"$f":"IF(AJ48=\"\",\"\",INDEX('OTRAS REFERENCIAS'!$Q$6:$R$11,MATCH(AJ48,'OTRAS REFERENCIAS'!$R$6:$R$11,0),1))","v":""},null,null,null,{"$f":"IF(AN48=\"\",\"\",INDEX('OTRAS REFERENCIAS'!$T$6:$U$11,MATCH(AN48,'OTRAS REFERENCIAS'!$U$6:$U$11,0),1))","v":""}]
[1,"",47,"","",{"$f":"IF(L49<>\"\",CONCATENATE(DIGITADOR!$B$2,$A$2,DIGITADOR!$M$1,A49),\"\")","v":""},null,null,"",{"$f":"IF(K49=\"\",\"\",INDEX('OTRAS REFERENCIAS'!$AL:$AM,MATCH(K49,'OTRAS REFERENCIAS'!$AL:$AL,0),2))","v":""},null,{"$f":"IF(J49=\"\",\"\",INDEX(REFERENTES!$A:$D,MATCH(J49,REFERENTES!$C:$C,0),3))","v":""},null,null,null,null,null,null,null,{"$f":"IF(U49=\"\",\"\",INDEX('OTRAS REFERENCIAS'!$H$6:$I$11,MATCH(U49,'OTRAS REFERENCIAS'!$I$6:$I$11,0),1))","v":""},null,null,null,null,{"$f":"IF(Z49=\"\",\"\",INDEX('OTRAS REFERENCIAS'!$K$6:$L$11,MATCH(Z49,'OTRAS REFERENCIAS'!$L$6:$L$11,0),1))","v":""},null,null,null,null,{"$f":"IF(AE49=\"\",\"\",INDEX('OTRAS REFERENCIAS'!$N$6:$O$11,MATCH(AE49,'OTRAS REFERENCIAS'!$O$6:$O$11,0),1))","v":""},null,null,null,null,{"$f":"IF(AJ49=\"\",\"\",INDEX('OTRAS REFERENCIAS'!$Q$6:$R$11,MATCH(AJ49,'OTRAS REFERENCIAS'!$R$6:$R$11,0),1))","v":""},null,null,null,{"$f":"IF(AN49=\"\",\"\",INDEX('OTRAS REFERENCIAS'!$T$6:$U$11,MATCH(AN49,'OTRAS REFERENCIAS'!$U$6:$U$11,0),1))","v":""}]
[1,"",48,"","",{"$f":"IF(L50<>\"\",CONCATENATE(DIGITADOR!$B$2,$A$2,DIGITADOR!$M$1,A50),\"\")","v":""},null,null,"",{"$f":"IF(K50=\"\",\"\",INDEX('OTRAS REFERENCIAS'!$AL:$AM,MATCH(K50,'OTRAS REFERENCIAS'!$AL:$AL,0),2))","v":""},null,{"$f":"IF(J50=\"\",\"\",INDEX(REFERENTES!$A:$D,MATCH(J50,REFERENTES!$C:$C,0),3))","v":""},null,null,null,null,null,null,null,{"$f":"IF(U50=\"\",\"\",INDEX('OTRAS REFERENCIAS'!$H$6:$I$11,MATCH(U50,'OTRAS REFERENCIAS'!$I$6:$I$11,0),1))","v":""},null,null,null,null,{"$f":"IF(Z50=\"\",\"\",INDEX('OTRAS REFERENCIAS'!$K$6:$L$11,MATCH(Z50,'OTRAS REFERENCIAS'!$L$6:$L$11,0),1))","v":""},null,null,null,null,{"$f":"IF(AE50=\"\",\"\",INDEX('OTRAS REFERENCIAS'!$N$6:$O$11,MATCH(AE50,'OTRAS REFERENCIAS'!$O$6:$O$11,0),1))","v":""},null,null,null,null,{"$f":"IF(AJ50=\"\",\"\",INDEX('OTRAS REFERENCIAS'!$Q$6:$R$11,MATCH(AJ50,'OTRAS REFERENCIAS'!$R$6:$R$11,0),1))","v":""},null,null,null,{"$f":"IF(AN50=\"\",\"\",INDEX('OTRAS REFERENCIAS'!$T$6:$U$11,MATCH(AN50,'OTRAS REFERENCIAS'!$U$6:$U$11,0),1))","v":""}]
[1,"",49,"","",{"$f":"IF(L51<>\"\",CONCATENATE(DIGITADOR!$B$2,$A$2,DIGITADOR!$M$1,A51),\"\")","v":""},null,null,"",{"$f":"IF(K51=\"\",\"\",INDEX('OTRAS REFERENCIAS'!$AL:$AM,MATCH(K51,'OTRAS REFERENCIAS'!$AL:$AL,0),2))","v":""},null,{"$f":"IF(J51=\"\",\"\",INDEX(REFERENTES!$A:$D,MATCH(J51,REFERENTES!$C:$C,0),3))","v":""},null,null,null,null,null,null,null,{"$f":"IF(U51=\"\",\"\",INDEX('OTRAS REFERENCIAS'!$H$6:$I$11,MATCH(U51,'OTRAS REFERENCIAS'!$I$6:$I$11,0),1))","v":""},null,null,null,null,{"$f":"IF(Z51=\"\",\"\",INDEX('OTRAS REFERENCIAS'!$K$6:$L$11,MATCH(Z51,'OTRAS REFERENCIAS'!$L$6:$L$11,0),1))","v":""},null,null,null,null,{"$f":"IF(AE51=\"\",\"\",INDEX('OTRAS REFERENCIAS'!$N$6:$O$11,MATCH(AE51,'OTRAS REFERENCIAS'!$O$6:$O$11,0),1))","v":""},null,null,null,null,{"$f":"IF(AJ51=\"\",\"\",INDEX('OTRAS REFERENCIAS'!$Q$6:$R$11,MATCH(AJ51,'OTRAS REFERENCIAS'!$R$6:$R$11,0),1))","v":""},null,null,null,{"$f":"IF(AN51=\"\",\"\",INDEX('OTRAS REFERENCIAS'!$T$6:$U$11,MATCH(AN51,'OTRAS REFERENCIAS'!$U$6:$U$11,0),1))","v":""}]
[1,"",50,"","",{"$f":"IF(L52<>\"\",CONCATENATE(DIGITADOR!$B$2,$A$2,DIGITADOR!$M$1,A52),\"\")","v":""},null,null,"",{"$f":"IF(K52=\"\",\"\",INDEX('OTRAS REFERENCIAS'!$AL:$AM,MATCH(K52,'OTRAS REFERENCIAS'!$AL:$AL,0),2))","v":""},null,{"$f":"IF(J52=\"\",\"\",INDEX(REFERENTES!$A:$D,MATCH(J52,REFERENTES!$C:$C,0),3))","v":""},null,null,null,null,null,null,null,{"$f":"IF(U52=\"\",\"\",INDEX('OTRAS REFERENCIAS'!$H$6:$I$11,MATCH(U52,'OTRAS REFERENCIAS'!$I$6:$I$11,0),1))","v":""},null,null,null,null,{"$f":"IF(Z52=\"\",\"\",INDEX('OTRAS REFERENCIAS'!$K$6:$L$11,MATCH(Z52,'OTRAS REFERENCIAS'!$L$6:$L$11,0),1))","v":""},null,null,null,null,{"$f":"IF(AE52=\"\",\"\",INDEX('OTRAS REFERENCIAS'!$N$6:$O$11,MATCH(AE52,'OTRAS REFERENCIAS'!$O$6:$O$11,0),1))","v":""},null,null,null,null,{"$f":"IF(AJ52=\"\",\"\",INDEX('OTRAS REFERENCIAS'!$Q$6:$R$11,MATCH(AJ52,'OTRAS REFERENCIAS'!$R$6:$R$11,0),1))","v":""},null,null,null,{"$f":"IF(AN52=\"\",\"\",INDEX('OTRAS REFERENCIAS'!$T$6:$U$11,MATCH(AN52,'OTRAS REFERENCIAS'!$U$6:$U$11,0),1))","v":""}]
[1,"",51,"","",{"$f":"IF(L53<>\"\",CONCATENATE(DIGITADOR!$B$2,$A$2,DIGITADOR!$M$1,A53),\"\")","v":""},null,null,"",{"$f":"IF(K53=\"\",\"\",INDEX('OTRAS REFERENCIAS'!$AL:$AM,MATCH(K53,'OTRAS REFERENCIAS'!$AL:$AL,0),2))","v":""},null,{"$f":"IF(J53=\"\",\"\",INDEX(REFERENTES!$A:$D,MATCH(J53,REFERENTES!$C:$C,0),3))","v":""},null,null,null,null,null,null,null,{"$f":"IF(U53=\"\",\"\",INDEX('OTRAS REFERENCIAS'!$H$6:$I$11,MATCH(U53,'OTRAS REFERENCIAS'!$I$6:$I$11,0),1))","v":""},null,null,null,null,{"$f":"IF(Z53=\"\",\"\",INDEX('OTRAS REFERENCIAS'!$K$6:$L$11,MATCH(Z53,'OTRAS REFERENCIAS'!$L$6:$L$11,0),1))","v":""},null,null,null,null,{"$f":"IF(AE53=\"\",\"\",INDEX('OTRAS REFERENCIAS'!$N$6:$O$11,MATCH(AE53,'OTRAS REFERENCIAS'!$O$6:$O$11,0),1))","v":""},null,null,null,null,{"$f":"IF(AJ53=\"\",\"\",INDEX('OTRAS REFERENCIAS'!$Q$6:$R$11,MATCH(AJ53,'OTRAS REFERENCIAS'!$R$6:$R$11,0),1))","v":""},null,null,null,{"$f":"IF(AN53=\"\",\"\",INDEX('OTRAS REFERENCIAS'!$T$6:$U$11,MATCH(AN53,'OTRAS REFERENCIAS'!$U$6:$U$11,0),1))","v":""}]
[1,"",52,"","",{"$f":"IF(L54<>\"\",CONCATENATE(DIGITADOR!$B$2,$A$2,DIGITADOR!$M$1,A54),\"\")","v":""},null,null,"",{"$f":"IF(K54=\"\",\"\",INDEX('OTRAS REFERENCIAS'!$AL:$AM,MATCH(K54,'OTRAS REFERENCIAS'!$AL:$AL,0),2))","v":""},null,{"$f":"IF(J54=\"\",\"\",INDEX(REFERENTES!$A:$D,MATCH(J54,REFERENTES!$C:$C,0),3))","v":""},null,null,null,null,null,null,null,{"$f":"IF(U54=\"\",\"\",INDEX('OTRAS REFERENCIAS'!$H$6:$I$11,MATCH(U54,'OTRAS REFERENCIAS'!$I$6:$I$11,0),1))","v":""},null,null,null,null,{"$f":"IF(Z54=\"\",\"\",INDEX('OTRAS REFERENCIAS'!$K$6:$L$11,MATCH(Z54,'OTRAS REFERENCIAS'!$L$6:$L$11,0),1))","v":""},null,null,null,null,{"$f":"IF(AE54=\"\",\"\",INDEX('OTRAS REFERENCIAS'!$N$6:$O$11,MATCH(AE54,'OTRAS REFERENCIAS'!$O$6:$O$11,0),1))","v":""},null,null,null,null,{"$f":"IF(AJ54=\"\",\"\",INDEX('OTRAS REFERENCIAS'!$Q$6:$R$11,MATCH(AJ54,'OTRAS REFERENCIAS'!$R$6:$R$11,0),1))","v":""},null,null,null,{"$f":"IF(AN54=\"\",\"\",INDEX('OTRAS REFERENCIAS'!$T$6:$U$11,MATCH(AN54,'OTRAS REFERENCIAS'!$U$6:$U$11,0),1))","v":""}]
[1,"",53,"","",{"$f":"IF(L55<>\"\",CONCATENATE(DIGITADOR!$B$2,$A$2,DIGITADOR!$M$1,A55),\"\")","v":""},null,null,"",{"$f":"IF(K55=\"\",\"\",INDEX('OTRAS REFERENCIAS'!$AL:$AM,MATCH(K55,'OTRAS REFERENCIAS'!$AL:$AL,0),2))","v":""},null,{"$f":"IF(J55=\"\",\"\",INDEX(REFERENTES!$A:$D,MATCH(J55,REFERENTES!$C:$C,0),3))","v":""},null,null,null,null,null,null,null,{"$f":"IF(U55=\"\",\"\",INDEX('OTRAS REFERENCIAS'!$H$6:$I$11,MATCH(U55,'OTRAS REFERENCIAS'!$I$6:$I$11,0),1))","v":""},null,null,null,null,{"$f":"IF(Z55=\"\",\"\",INDEX('OTRAS REFERENCIAS'!$K$6:$L$11,MATCH(Z55,'OTRAS REFERENCIAS'!$L$6:$L$11,0),1))","v":""},null,null,null,null,{"$f":"IF(AE55=\"\",\"\",INDEX('OTRAS REFERENCIAS'!$N$6:$O$11,MATCH(AE55,'OTRAS REFERENCIAS'!$O$6:$O$11,0),1))","v":""},null,null,null,null,{"$f":"IF(AJ55=\"\",\"\",INDEX('OTRAS REFERENCIAS'!$Q$6:$R$11,MATCH(AJ55,'OTRAS REFERENCIAS'!$R$6:$R$11,0),1))","v":""},null,null,null,{"$f":"IF(AN55=\"\",\"\",INDEX('OTRAS REFERENCIAS'!$T$6:$U$11,MATCH(AN55,'OTRAS REFERENCIAS'!$U$6:$U$11,0),1))","v":""}]
[1,"",54,"","",{"$f":"IF(L56<>\"\",CONCATENATE(DIGITADOR!$B$2,$A$2,DIGITADOR!$M$1,A56),\"\")","v":""},null,null,"",{"$f":"IF(K56=\"\",\"\",INDEX('OTRAS REFERENCIAS'!$AL:$AM,MATCH(K56,'OTRAS REFERENCIAS'!$AL:$AL,0),2))","v":""},null,{"$f":"IF(J56=\"\",\"\",INDEX(REFERENTES!$A:$D,MATCH(J56,REFERENTES!$C:$C,0),3))","v":""},null,null,null,null,null,null,null,{"$f":"IF(U56=\"\",\"\",INDEX('OTRAS REFERENCIAS'!$H$6:$I$11,MATCH(U56,'OTRAS REFERENCIAS'!$I$6:$I$11,0),1))","v":""},null,null,null,null,{"$f":"IF(Z56=\"\",\"\",INDEX('OTRAS REFERENCIAS'!$K$6:$L$11,MATCH(Z56,'OTRAS REFERENCIAS'!$L$6:$L$11,0),1))","v":""},null,null,null,null,{"$f":"IF(AE56=\"\",\"\",INDEX('OTRAS REFERENCIAS'!$N$6:$O$11,MATCH(AE56,'OTRAS REFERENCIAS'!$O$6:$O$11,0),1))","v":""},null,null,null,null,{"$f":"IF(AJ56=\"\",\"\",INDEX('OTRAS REFERENCIAS'!$Q$6:$R$11,MATCH(AJ56,'OTRAS REFERENCIAS'!$R$6:$R$11,0),1))","v":""},null,null,null,{"$f":"IF(AN56=\"\",\"\",INDEX('OTRAS REFERENCIAS'!$T$6:$U$11,MATCH(AN56,'OTRAS REFERENCIAS'!$U$6:$U$11,0),1))","v":""}]
[1,"",55,"","",{"$f":"IF(L57<>\"\",CONCATENATE(DIGITADOR!$B$2,$A$2,DIGITADOR!$M$1,A57),\"\")","v":""},null,null,"",{"$f":"IF(K57=\"\",\"\",INDEX('OTRAS REFERENCIAS'!$AL:$AM,MATCH(K57,'OTRAS REFERENCIAS'!$AL:$AL,0),2))","v":""},null,{"$f":"IF(J57=\"\",\"\",INDEX(REFERENTES!$A:$D,MATCH(J57,REFERENTES!$C:$C,0),3))","v":""},null,null,null,null,null,null,null,{"$f":"IF(U57=\"\",\"\",INDEX('OTRAS REFERENCIAS'!$H$6:$I$11,MATCH(U57,'OTRAS REFERENCIAS'!$I$6:$I$11,0),1))","v":""},null,null,null,null,{"$f":"IF(Z57=\"\",\"\",INDEX('OTRAS REFERENCIAS'!$K$6:$L$11,MATCH(Z57,'OTRAS REFERENCIAS'!$L$6:$L$11,0),1))","v":""},null,null,null,null,{"$f":"IF(AE57=\"\",\"\",INDEX('OTRAS REFERENCIAS'!$N$6:$O$11,MATCH(AE57,'OTRAS REFERENCIAS'!$O$6:$O$11,0),1))","v":""},null,null,null,null,{"$f":"IF(AJ57=\"\",\"\",INDEX('OTRAS REFERENCIAS'!$Q$6:$R$11,MATCH(AJ57,'OTRAS REFERENCIAS'!$R$6:$R$11,0),1))","v":""},null,null,null,{"$f":"IF(AN57=\"\",\"\",INDEX('OTRAS REFERENCIAS'!$T$6:$U$11,MATCH(AN57,'OTRAS REFERENCIAS'!$U$6:$U$11,0),1))","v":""}]
[1,"",56,"","",{"$f":"IF(L58<>\"\",CONCATENATE(DIGITADOR!$B$2,$A$2,DIGITADOR!$M$1,A58),\"\")","v":""},null,null,"",{"$f":"IF(K58=\"\",\"\",INDEX('OTRAS REFERENCIAS'!$AL:$AM,MATCH(K58,'OTRAS REFERENCIAS'!$AL:$AL,0),2))","v":""},null,{"$f":"IF(J58=\"\",\"\",INDEX(REFERENTES!$A:$D,MATCH(J58,REFERENTES!$C:$C,0),3))","v":""},null,null,null,null,null,null,null,{"$f":"IF(U58=\"\",\"\",INDEX('OTRAS REFERENCIAS'!$H$6:$I$11,MATCH(U58,'OTRAS REFERENCIAS'!$I$6:$I$11,0),1))","v":""},null,null,null,null,{"$f":"IF(Z58=\"\",\"\",INDEX('OTRAS REFERENCIAS'!$K$6:$L$11,MATCH(Z58,'OTRAS REFERENCIAS'!$L$6:$L$11,0),1))","v":""},null,null,null,null,{"$f":"IF(AE58=\"\",\"\",INDEX('OTRAS REFERENCIAS'!$N$6:$O$11,MATCH(AE58,'OTRAS REFERENCIAS'!$O$6:$O$11,0),1))","v":""},null,null,null,null,{"$f":"IF(AJ58=\"\",\"\",INDEX('OTRAS REFERENCIAS'!$Q$6:$R$11,MATCH(AJ58,'OTRAS REFERENCIAS'!$R$6:$R$11,0),1))","v":""},null,null,null,{"$f":"IF(AN58=\"\",\"\",INDEX('OTRAS REFERENCIAS'!$T$6:$U$11,MATCH(AN58,'OTRAS REFERENCIAS'!$U$6:$U$11,0),1))","v":""}]
[1,"",57,"","",{"$f":"IF(L59<>\"\",CONCATENATE(DIGITADOR!$B$2,$A$2,DIGITADOR!$M$1,A59),\"\")","v":""},null,null,"",{"$f":"IF(K59=\"\",\"\",INDEX('OTRAS REFERENCIAS'!$AL:$AM,MATCH(K59,'OTRAS REFERENCIAS'!$AL:$AL,0),2))","v":""},null,{"$f":"IF(J59=\"\",\"\",INDEX(REFERENTES!$A:$D,MATCH(J59,REFERENTES!$C:$C,0),3))","v":""},null,null,null,null,null,null,null,{"$f":"IF(U59=\"\",\"\",INDEX('OTRAS REFERENCIAS'!$H$6:$I$11,MATCH(U59,'OTRAS REFERENCIAS'!$I$6:$I$11,0),1))","v":""},null,null,null,null,{"$f":"IF(Z59=\"\",\"\",INDEX('OTRAS REFERENCIAS'!$K$6:$L$11,MATCH(Z59,'OTRAS REFERENCIAS'!$L$6:$L$11,0),1))","v":""},null,null,null,null,{"$f":"IF(AE59=\"\",\"\",INDEX('OTRAS REFERENCIAS'!$N$6:$O$11,MATCH(AE59,'OTRAS REFERENCIAS'!$O$6:$O$11,0),1))","v":""},null,null,null,null,{"$f":"IF(AJ59=\"\",\"\",INDEX('OTRAS REFERENCIAS'!$Q$6:$R$11,MATCH(AJ59,'OTRAS REFERENCIAS'!$R$6:$R$11,0),1))","v":""},null,null,null,{"$f":"IF(AN59=\"\",\"\",INDEX('OTRAS REFERENCIAS'!$T$6:$U$11,MATCH(AN59,'OTRAS REFERENCIAS'!$U$6:$U$11,0),1))","v":""}]
[1,"",58,"","",{"$f":"IF(L60<>\"\",CONCATENATE(DIGITADOR!$B$2,$A$2,DIGITADOR!$M$1,A60),\"\")","v":""},null,null,"",{"$f":"IF(K60=\"\",\"\",INDEX('OTRAS REFERENCIAS'!$AL:$AM,MATCH(K60,'OTRAS REFERENCIAS'!$AL:$AL,0),2))","v":""},null,{"$f":"IF(J60=\"\",\"\",INDEX(REFERENTES!$A:$D,MATCH(J60,REFERENTES!$C:$C,0),3))","v":""},null,null,null,null,null,null,null,{"$f":"IF(U60=\"\",\"\",INDEX('OTRAS REFERENCIAS'!$H$6:$I$11,MATCH(U60,'OTRAS REFERENCIAS'!$I$6:$I$11,0),1))","v":""},null,null,null,null,{"$f":"IF(Z60=\"\",\"\",INDEX('OTRAS REFERENCIAS'!$K$6:$L$11,MATCH(Z60,'OTRAS REFERENCIAS'!$L$6:$L$11,0),1))","v":""},null,null,null,null,{"$f":"IF(AE60=\"\",\"\",INDEX('OTRAS REFERENCIAS'!$N$6:$O$11,MATCH(AE60,'OTRAS REFERENCIAS'!$O$6:$O$11,0),1))","v":""},null,null,null,null,{"$f":"IF(AJ60=\"\",\"\",INDEX('OTRAS REFERENCIAS'!$Q$6:$R$11,MATCH(AJ60,'OTRAS REFERENCIAS'!$R$6:$R$11,0),1))","v":""},null,null,null,{"$f":"IF(AN60=\"\",\"\",INDEX('OTRAS REFERENCIAS'!$T$6:$U$11,MATCH(AN60,'OTRAS REFERENCIAS'!$U$6:$U$11,0),1))","v":""}]
[1,"",59,"","",{"$f":"IF(L61<>\"\",CONCATENATE(DIGITADOR!$B$2,$A$2,DIGITADOR!$M$1,A61),\"\")","v":""},null,null,"",{"$f":"IF(K61=\"\",\"\",INDEX('OTRAS REFERENCIAS'!$AL:$AM,MATCH(K61,'OTRAS REFERENCIAS'!$AL:$AL,0),2))","v":""},null,{"$f":"IF(J61=\"\",\"\",INDEX(REFERENTES!$A:$D,MATCH(J61,REFERENTES!$C:$C,0),3))","v":""},null,null,null,null,null,null,null,{"$f":"IF(U61=\"\",\"\",INDEX('OTRAS REFERENCIAS'!$H$6:$I$11,MATCH(U61,'OTRAS REFERENCIAS'!$I$6:$I$11,0),1))","v":""},null,null,null,null,{"$f":"IF(Z61=\"\",\"\",INDEX('OTRAS REFERENCIAS'!$K$6:$L$11,MATCH(Z61,'OTRAS REFERENCIAS'!$L$6:$L$11,0),1))","v":""},null,null,null,null,{"$f":"IF(AE61=\"\",\"\",INDEX('OTRAS REFERENCIAS'!$N$6:$O$11,MATCH(AE61,'OTRAS REFERENCIAS'!$O$6:$O$11,0),1))","v":""},null,null,null,null,{"$f":"IF(AJ61=\"\",\"\",INDEX('OTRAS REFERENCIAS'!$Q$6:$R$11,MATCH(AJ61,'OTRAS REFERENCIAS'!$R$6:$R$11,0),1))","v":""},null,null,null,{"$f":"IF(AN61=\"\",\"\",INDEX('OTRAS REFERENCIAS'!$T$6:$U$11,MATCH(AN61,'OTRAS REFERENCIAS'!$U$6:$U$11,0),1))","v":""}]
[1,"",60,"","",{"$f":"IF(L62<>\"\",CONCATENATE(DIGITADOR!$B$2,$A$2,DIGITADOR!$M$1,A62),\"\")","v":""},null,null,"",{"$f":"IF(K62=\"\",\"\",INDEX('OTRAS REFERENCIAS'!$AL:$AM,MATCH(K62,'OTRAS REFERENCIAS'!$AL:$AL,0),2))","v":""},null,{"$f":"IF(J62=\"\",\"\",INDEX(REFERENTES!$A:$D,MATCH(J62,REFERENTES!$C:$C,0),3))","v":""},null,null,null,null,null,null,null,{"$f":"IF(U62=\"\",\"\",INDEX('OTRAS REFERENCIAS'!$H$6:$I$11,MATCH(U62,'OTRAS REFERENCIAS'!$I$6:$I$11,0),1))","v":""},null,null,null,null,{"$f":"IF(Z62=\"\",\"\",INDEX('OTRAS REFERENCIAS'!$K$6:$L$11,MATCH(Z62,'OTRAS REFERENCIAS'!$L$6:$L$11,0),1))","v":""},null,null,null,null,{"$f":"IF(AE62=\"\",\"\",INDEX('OTRAS REFERENCIAS'!$N$6:$O$11,MATCH(AE62,'OTRAS REFERENCIAS'!$O$6:$O$11,0),1))","v":""},null,null,null,null,{"$f":"IF(AJ62=\"\",\"\",INDEX('OTRAS REFERENCIAS'!$Q$6:$R$11,MATCH(AJ62,'OTRAS REFERENCIAS'!$R$6:$R$11,0),1))","v":""},null,null,null,{"$f":"IF(AN62=\"\",\"\",INDEX('OTRAS REFERENCIAS'!$T$6:$U$11,MATCH(AN62,'OTRAS REFERENCIAS'!$U$6:$U$11,0),1))","v":""}]
[1,"",61,"","",{"$f":"IF(L63<>\"\",CONCATENATE(DIGITADOR!$B$2,$A$2,DIGITADOR!$M$1,A63),\"\")","v":""},null,null,"",{"$f":"IF(K63=\"\",\"\",INDEX('OTRAS REFERENCIAS'!$AL:$AM,MATCH(K63,'OTRAS REFERENCIAS'!$AL:$AL,0),2))","v":""},null,{"$f":"IF(J63=\"\",\"\",INDEX(REFERENTES!$A:$D,MATCH(J63,REFERENTES!$C:$C,0),3))","v":""},null,null,null,null,null,null,null,{"$f":"IF(U63=\"\",\"\",INDEX('OTRAS REFERENCIAS'!$H$6:$I$11,MATCH(U63,'OTRAS REFERENCIAS'!$I$6:$I$11,0),1))","v":""},null,null,null,null,{"$f":"IF(Z63=\"\",\"\",INDEX('OTRAS REFERENCIAS'!$K$6:$L$11,MATCH(Z63,'OTRAS REFERENCIAS'!$L$6:$L$11,0),1))","v":""},null,null,null,null,{"$f":"IF(AE63=\"\",\"\",INDEX('OTRAS REFERENCIAS'!$N$6:$O$11,MATCH(AE63,'OTRAS REFERENCIAS'!$O$6:$O$11,0),1))","v":""},null,null,null,null,{"$f":"IF(AJ63=\"\",\"\",INDEX('OTRAS REFERENCIAS'!$Q$6:$R$11,MATCH(AJ63,'OTRAS REFERENCIAS'!$R$6:$R$11,0),1))","v":""},null,null,null,{"$f":"IF(AN63=\"\",\"\",INDEX('OTRAS REFERENCIAS'!$T$6:$U$11,MATCH(AN63,'OTRAS REFERENCIAS'!$U$6:$U$11,0),1))","v":""}]
[1,"",62,"","",{"$f":"IF(L64<>\"\",CONCATENATE(DIGITADOR!$B$2,$A$2,DIGITADOR!$M$1,A64),\"\")","v":""},null,null,"",{"$f":"IF(K64=\"\",\"\",INDEX('OTRAS REFERENCIAS'!$AL:$AM,MATCH(K64,'OTRAS REFERENCIAS'!$AL:$AL,0),2))","v":""},null,{"$f":"IF(J64=\"\",\"\",INDEX(REFERENTES!$A:$D,MATCH(J64,REFERENTES!$C:$C,0),3))","v":""},null,null,null,null,null,null,null,{"$f":"IF(U64=\"\",\"\",INDEX('OTRAS REFERENCIAS'!$H$6:$I$11,MATCH(U64,'OTRAS REFERENCIAS'!$I$6:$I$11,0),1))","v":""},null,null,null,null,{"$f":"IF(Z64=\"\",\"\",INDEX('OTRAS REFERENCIAS'!$K$6:$L$11,MATCH(Z64,'OTRAS REFERENCIAS'!$L$6:$L$11,0),1))","v":""},null,null,null,null,{"$f":"IF(AE64=\"\",\"\",INDEX('OTRAS REFERENCIAS'!$N$6:$O$11,MATCH(AE64,'OTRAS REFERENCIAS'!$O$6:$O$11,0),1))","v":""},null,null,null,null,{"$f":"IF(AJ64=\"\",\"\",INDEX('OTRAS REFERENCIAS'!$Q$6:$R$11,MATCH(AJ64,'OTRAS REFERENCIAS'!$R$6:$R$11,0),1))","v":""},null,null,null,{"$f":"IF(AN64=\"\",\"\",INDEX('OTRAS REFERENCIAS'!$T$6:$U$11,MATCH(AN64,'OTRAS REFERENCIAS'!$U$6:$U$11,0),1))","v":""}]
[1,"",63,"","",{"$f":"IF(L65<>\"\",CONCATENATE(DIGITADOR!$B$2,$A$2,DIGITADOR!$M$1,A65),\"\")","v":""},null,null,"",{"$f":"IF(K65=\"\",\"\",INDEX('OTRAS REFERENCIAS'!$AL:$AM,MATCH(K65,'OTRAS REFERENCIAS'!$AL:$AL,0),2))","v":""},null,{"$f":"IF(J65=\"\",\"\",INDEX(REFERENTES!$A:$D,MATCH(J65,REFERENTES!$C:$C,0),3))","v":""},null,null,null,null,null,null,null,{"$f":"IF(U65=\"\",\"\",INDEX('OTRAS REFERENCIAS'!$H$6:$I$11,MATCH(U65,'OTRAS REFERENCIAS'!$I$6:$I$11,0),1))","v":""},null,null,null,null,{"$f":"IF(Z65=\"\",\"\",INDEX('OTRAS REFERENCIAS'!$K$6:$L$11,MATCH(Z65,'OTRAS REFERENCIAS'!$L$6:$L$11,0),1))","v":""},null,null,null,null,{"$f":"IF(AE65=\"\",\"\",INDEX('OTRAS REFERENCIAS'!$N$6:$O$11,MATCH(AE65,'OTRAS REFERENCIAS'!$O$6:$O$11,0),1))","v":""},null,null,null,null,{"$f":"IF(AJ65=\"\",\"\",INDEX('OTRAS REFERENCIAS'!$Q$6:$R$11,MATCH(AJ65,'OTRAS REFERENCIAS'!$R$6:$R$11,0),1))","v":""},null,null,null,{"$f":"IF(AN65=\"\",\"\",INDEX('OTRAS REFERENCIAS'!$T$6:$U$11,MATCH(AN65,'OTRAS REFERENCIAS'!$U$6:$U$11,0),1))","v":""}]
[1,"",64,"","",{"$f":"IF(L66<>\"\",CONCATENATE(DIGITADOR!$B$2,$A$2,DIGITADOR!$M$1,A66),\"\")","v":""},null,null,"",{"$f":"IF(K66=\"\",\"\",INDEX('OTRAS REFERENCIAS'!$AL:$AM,MATCH(K66,'OTRAS REFERENCIAS'!$AL:$AL,0),2))","v":""},null,{"$f":"IF(J66=\"\",\"\",INDEX(REFERENTES!$A:$D,MATCH(J66,REFERENTES!$C:$C,0),3))","v":""},null,null,null,null,null,null,null,{"$f":"IF(U66=\"\",\"\",INDEX('OTRAS REFERENCIAS'!$H$6:$I$11,MATCH(U66,'OTRAS REFERENCIAS'!$I$6:$I$11,0),1))","v":""},null,null,null,null,{"$f":"IF(Z66=\"\",\"\",INDEX('OTRAS REFERENCIAS'!$K$6:$L$11,MATCH(Z66,'OTRAS REFERENCIAS'!$L$6:$L$11,0),1))","v":""},null,null,null,null,{"$f":"IF(AE66=\"\",\"\",INDEX('OTRAS REFERENCIAS'!$N$6:$O$11,MATCH(AE66,'OTRAS REFERENCIAS'!$O$6:$O$11,0),1))","v":""},null,null,null,null,{"$f":"IF(AJ66=\"\",\"\",INDEX('OTRAS REFERENCIAS'!$Q$6:$R$11,MATCH(AJ66,'OTRAS REFERENCIAS'!$R$6:$R$11,0),1))","v":""},null,null,null,{"$f":"IF(AN66=\"\",\"\",INDEX('OTRAS REFERENCIAS'!$T$6:$U$11,MATCH(AN66,'OTRAS REFERENCIAS'!$U$6:$U$11,0),1))","v":""}]
[1,"",65,"",{"$f":"CONCATENATE(I67,L67)","v":""},{"$f":"IF(L67<>\"\",CONCATENATE(DIGITADOR!$B$2,$A$2,DIGITADOR!$M$1,A67),\"\")","v":""},null,null,{"$f":"IF(G67<>\"\",G67+H67,\"\")","v":""},{"$f":"IF(K67=\"\",\"\",INDEX('OTRAS REFERENCIAS'!$AL:$AM,MATCH(K67,'OTRAS REFERENCIAS'!$AL:$AL,0),2))","v":""},null,{"$f":"IF(J67=\"\",\"\",INDEX(REFERENTES!$A:$D,MATCH(J67,REFERENTES!$C:$C,0),3))","v":""},null,null,null,null,null,null,null,{"$f":"IF(U67=\"\",\"\",INDEX('OTRAS REFERENCIAS'!$H$6:$I$11,MATCH(U67,'OTRAS REFERENCIAS'!$I$6:$I$11,0),1))","v":""},null,null,null,null,{"$f":"IF(Z67=\"\",\"\",INDEX('OTRAS REFERENCIAS'!$K$6:$L$11,MATCH(Z67,'OTRAS REFERENCIAS'!$L$6:$L$11,0),1))","v":""},null,null,null,null,{"$f":"IF(AE67=\"\",\"\",INDEX('OTRAS REFERENCIAS'!$N$6:$O$11,MATCH(AE67,'OTRAS REFERENCIAS'!$O$6:$O$11,0),1))","v":""},null,null,null,null,{"$f":"IF(AJ67=\"\",\"\",INDEX('OTRAS REFERENCIAS'!$Q$6:$R$11,MATCH(AJ67,'OTRAS REFERENCIAS'!$R$6:$R$11,0),1))","v":""},null,null,null,{"$f":"IF(AN67=\"\",\"\",INDEX('OTRAS REFERENCIAS'!$T$6:$U$11,MATCH(AN67,'OTRAS REFERENCIAS'!$U$6:$U$11,0),1))","v":""}]
[1,"",66,{"$f":"IF(L68=\"\",\"\",CONCATENATE(C68,F68))","v":""},"",{"$f":"IF(L68<>\"\",CONCATENATE(DIGITADOR!$B$2,$A$2,DIGITADOR!$M$1,A68),\"\")","v":""},null,null,"",{"$f":"IF(K68=\"\",\"\",INDEX('OTRAS REFERENCIAS'!$AL:$AM,MATCH(K68,'OTRAS REFERENCIAS'!$AL:$AL,0),2))","v":""},null,{"$f":"IF(J68=\"\",\"\",INDEX(REFERENTES!$A:$D,MATCH(J68,REFERENTES!$C:$C,0),3))","v":""},null,null,null,null,null,null,null,{"$f":"IF(U68=\"\",\"\",INDEX('OTRAS REFERENCIAS'!$H$6:$I$11,MATCH(U68,'OTRAS REFERENCIAS'!$I$6:$I$11,0),1))","v":""},null,null,null,null,{"$f":"IF(Z68=\"\",\"\",INDEX('OTRAS REFERENCIAS'!$K$6:$L$11,MATCH(Z68,'OTRAS REFERENCIAS'!$L$6:$L$11,0),1))","v":""},null,null,null,null,{"$f":"IF(AE68=\"\",\"\",INDEX('OTRAS REFERENCIAS'!$N$6:$O$11,MATCH(AE68,'OTRAS REFERENCIAS'!$O$6:$O$11,0),1))","v":""},null,null,null,null,{"$f":"IF(AJ68=\"\",\"\",INDEX('OTRAS REFERENCIAS'!$Q$6:$R$11,MATCH(AJ68,'OTRAS REFERENCIAS'!$R$6:$R$11,0),1))","v":""},null,null,null,{"$f":"IF(AN68=\"\",\"\",INDEX('OTRAS REFERENCIAS'!$T$6:$U$11,MATCH(AN68,'OTRAS REFERENCIAS'!$U$6:$U$11,0),1))","v":""}]
[{"$f":"IF(L69=L68,A68,A68+1)","v":1},{"$f":"IF(F69<>F68, F69,\"\")","v":""},67,"","",{"$f":"IF(L69<>\"\",CONCATENATE(DIGITADOR!$B$2,$A$2,DIGITADOR!$M$1,A69),\"\")","v":""},null,null,"",{"$f":"IF(K69=\"\",\"\",INDEX('OTRAS REFERENCIAS'!$AL:$AM,MATCH(K69,'OTRAS REFERENCIAS'!$AL:$AL,0),2))","v":""},null,{"$f":"IF(J69=\"\",\"\",INDEX(REFERENTES!$A:$D,MATCH(J69,REFERENTES!$C:$C,0),3))","v":""},null,null,null,null,null,null,null,{"$f":"IF(U69=\"\",\"\",INDEX('OTRAS REFERENCIAS'!$H$6:$I$11,MATCH(U69,'OTRAS REFERENCIAS'!$I$6:$I$11,0),1))","v":""},null,null,null,null,{"$f":"IF(Z69=\"\",\"\",INDEX('OTRAS REFERENCIAS'!$K$6:$L$11,MATCH(Z69,'OTRAS REFERENCIAS'!$L$6:$L$11,0),1))","v":""},null,null,null,null,{"$f":"IF(AE69=\"\",\"\",INDEX('OTRAS REFERENCIAS'!$N$6:$O$11,MATCH(AE69,'OTRAS REFERENCIAS'!$O$6:$O$11,0),1))","v":""},null,null,null,null,{"$f":"IF(AJ69=\"\",\"\",INDEX('OTRAS REFERENCIAS'!$Q$6:$R$11,MATCH(AJ69,'OTRAS REFERENCIAS'!$R$6:$R$11,0),1))","v":""},null,null,null,{"$f":"IF(AN69=\"\",\"\",INDEX('OTRAS REFERENCIAS'!$T$6:$U$11,MATCH(AN69,'OTRAS REFERENCIAS'!$U$6:$U$11,0),1))","v":""}]
[1,"",68,"","",{"$f":"IF(L70<>\"\",CONCATENATE(DIGITADOR!$B$2,$A$2,DIGITADOR!$M$1,A70),\"\")","v":""},null,null,"",{"$f":"IF(K70=\"\",\"\",INDEX('OTRAS REFERENCIAS'!$AL:$AM,MATCH(K70,'OTRAS REFERENCIAS'!$AL:$AL,0),2))","v":""},null,{"$f":"IF(J70=\"\",\"\",INDEX(REFERENTES!$A:$D,MATCH(J70,REFERENTES!$C:$C,0),3))","v":""},null,null,null,null,null,null,null,{"$f":"IF(U70=\"\",\"\",INDEX('OTRAS REFERENCIAS'!$H$6:$I$11,MATCH(U70,'OTRAS REFERENCIAS'!$I$6:$I$11,0),1))","v":""},null,null,null,null,{"$f":"IF(Z70=\"\",\"\",INDEX('OTRAS REFERENCIAS'!$K$6:$L$11,MATCH(Z70,'OTRAS REFERENCIAS'!$L$6:$L$11,0),1))","v":""},null,null,null,null,{"$f":"IF(AE70=\"\",\"\",INDEX('OTRAS REFERENCIAS'!$N$6:$O$11,MATCH(AE70,'OTRAS REFERENCIAS'!$O$6:$O$11,0),1))","v":""},null,null,null,null,{"$f":"IF(AJ70=\"\",\"\",INDEX('OTRAS REFERENCIAS'!$Q$6:$R$11,MATCH(AJ70,'OTRAS REFERENCIAS'!$R$6:$R$11,0),1))","v":""},null,null,null,{"$f":"IF(AN70=\"\",\"\",INDEX('OTRAS REFERENCIAS'!$T$6:$U$11,MATCH(AN70,'OTRAS REFERENCIAS'!$U$6:$U$11,0),1))","v":""}]
[1,"",69,"","",{"$f":"IF(L71<>\"\",CONCATENATE(DIGITADOR!$B$2,$A$2,DIGITADOR!$M$1,A71),\"\")","v":""},null,null,"",{"$f":"IF(K71=\"\",\"\",INDEX('OTRAS REFERENCIAS'!$AL:$AM,MATCH(K71,'OTRAS REFERENCIAS'!$AL:$AL,0),2))","v":""},null,{"$f":"IF(J71=\"\",\"\",INDEX(REFERENTES!$A:$D,MATCH(J71,REFERENTES!$C:$C,0),3))","v":""},null,null,null,null,null,null,null,{"$f":"IF(U71=\"\",\"\",INDEX('OTRAS REFERENCIAS'!$H$6:$I$11,MATCH(U71,'OTRAS REFERENCIAS'!$I$6:$I$11,0),1))","v":""},null,null,null,null,{"$f":"IF(Z71=\"\",\"\",INDEX('OTRAS REFERENCIAS'!$K$6:$L$11,MATCH(Z71,'OTRAS REFERENCIAS'!$L$6:$L$11,0),1))","v":""},null,null,null,null,{"$f":"IF(AE71=\"\",\"\",INDEX('OTRAS REFERENCIAS'!$N$6:$O$11,MATCH(AE71,'OTRAS REFERENCIAS'!$O$6:$O$11,0),1))","v":""},null,null,null,null,{"$f":"IF(AJ71=\"\",\"\",INDEX('OTRAS REFERENCIAS'!$Q$6:$R$11,MATCH(AJ71,'OTRAS REFERENCIAS'!$R$6:$R$11,0),1))","v":""},null,null,null,{"$f":"IF(AN71=\"\",\"\",INDEX('OTRAS REFERENCIAS'!$T$6:$U$11,MATCH(AN71,'OTRAS REFERENCIAS'!$U$6:$U$11,0),1))","v":""}]
[1,"",70,"","",{"$f":"IF(L72<>\"\",CONCATENATE(DIGITADOR!$B$2,$A$2,DIGITADOR!$M$1,A72),\"\")","v":""},null,null,"",{"$f":"IF(K72=\"\",\"\",INDEX('OTRAS REFERENCIAS'!$AL:$AM,MATCH(K72,'OTRAS REFERENCIAS'!$AL:$AL,0),2))","v":""},null,{"$f":"IF(J72=\"\",\"\",INDEX(REFERENTES!$A:$D,MATCH(J72,REFERENTES!$C:$C,0),3))","v":""},null,null,null,null,null,null,null,{"$f":"IF(U72=\"\",\"\",INDEX('OTRAS REFERENCIAS'!$H$6:$I$11,MATCH(U72,'OTRAS REFERENCIAS'!$I$6:$I$11,0),1))","v":""},null,null,null,null,{"$f":"IF(Z72=\"\",\"\",INDEX('OTRAS REFERENCIAS'!$K$6:$L$11,MATCH(Z72,'OTRAS REFERENCIAS'!$L$6:$L$11,0),1))","v":""},null,null,null,null,{"$f":"IF(AE72=\"\",\"\",INDEX('OTRAS REFERENCIAS'!$N$6:$O$11,MATCH(AE72,'OTRAS REFERENCIAS'!$O$6:$O$11,0),1))","v":""},null,null,null,null,{"$f":"IF(AJ72=\"\",\"\",INDEX('OTRAS REFERENCIAS'!$Q$6:$R$11,MATCH(AJ72,'OTRAS REFERENCIAS'!$R$6:$R$11,0),1))","v":""},null,null,null,{"$f":"IF(AN72=\"\",\"\",INDEX('OTRAS REFERENCIAS'!$T$6:$U$11,MATCH(AN72,'OTRAS REFERENCIAS'!$U$6:$U$11,0),1))","v":""}]
[1,"",71,"","",{"$f":"IF(L73<>\"\",CONCATENATE(DIGITADOR!$B$2,$A$2,DIGITADOR!$M$1,A73),\"\")","v":""},null,null,"",{"$f":"IF(K73=\"\",\"\",INDEX('OTRAS REFERENCIAS'!$AL:$AM,MATCH(K73,'OTRAS REFERENCIAS'!$AL:$AL,0),2))","v":""},null,{"$f":"IF(J73=\"\",\"\",INDEX(REFERENTES!$A:$D,MATCH(J73,REFERENTES!$C:$C,0),3))","v":""},null,null,null,null,null,null,null,{"$f":"IF(U73=\"\",\"\",INDEX('OTRAS REFERENCIAS'!$H$6:$I$11,MATCH(U73,'OTRAS REFERENCIAS'!$I$6:$I$11,0),1))","v":""},null,null,null,null,{"$f":"IF(Z73=\"\",\"\",INDEX('OTRAS REFERENCIAS'!$K$6:$L$11,MATCH(Z73,'OTRAS REFERENCIAS'!$L$6:$L$11,0),1))","v":""},null,null,null,null,{"$f":"IF(AE73=\"\",\"\",INDEX('OTRAS REFERENCIAS'!$N$6:$O$11,MATCH(AE73,'OTRAS REFERENCIAS'!$O$6:$O$11,0),1))","v":""},null,null,null,null,{"$f":"IF(AJ73=\"\",\"\",INDEX('OTRAS REFERENCIAS'!$Q$6:$R$11,MATCH(AJ73,'OTRAS REFERENCIAS'!$R$6:$R$11,0),1))","v":""},null,null,null,{"$f":"IF(AN73=\"\",\"\",INDEX('OTRAS REFERENCIAS'!$T$6:$U$11,MATCH(AN73,'OTRAS REFERENCIAS'!$U$6:$U$11,0),1))","v":""}]
[1,"",72,"","",{"$f":"IF(L74<>\"\",CONCATENATE(DIGITADOR!$B$2,$A$2,DIGITADOR!$M$1,A74),\"\")","v":""},null,null,"",{"$f":"IF(K74=\"\",\"\",INDEX('OTRAS REFERENCIAS'!$AL:$AM,MATCH(K74,'OTRAS REFERENCIAS'!$AL:$AL,0),2))","v":""},null,{"$f":"IF(J74=\"\",\"\",INDEX(REFERENTES!$A:$D,MATCH(J74,REFERENTES!$C:$C,0),3))","v":""},null,null,null,null,null,null,null,{"$f":"IF(U74=\"\",\"\",INDEX('OTRAS REFERENCIAS'!$H$6:$I$11,MATCH(U74,'OTRAS REFERENCIAS'!$I$6:$I$11,0),1))","v":""},null,null,null,null,{"$f":"IF(Z74=\"\",\"\",INDEX('OTRAS REFERENCIAS'!$K$6:$L$11,MATCH(Z74,'OTRAS REFERENCIAS'!$L$6:$L$11,0),1))","v":""},null,null,null,null,{"$f":"IF(AE74=\"\",\"\",INDEX('OTRAS REFERENCIAS'!$N$6:$O$11,MATCH(AE74,'OTRAS REFERENCIAS'!$O$6:$O$11,0),1))","v":""},null,null,null,null,{"$f":"IF(AJ74=\"\",\"\",INDEX('OTRAS REFERENCIAS'!$Q$6:$R$11,MATCH(AJ74,'OTRAS REFERENCIAS'!$R$6:$R$11,0),1))","v":""},null,null,null,{"$f":"IF(AN74=\"\",\"\",INDEX('OTRAS REFERENCIAS'!$T$6:$U$11,MATCH(AN74,'OTRAS REFERENCIAS'!$U$6:$U$11,0),1))","v":""}]
[1,"",73,"","",{"$f":"IF(L75<>\"\",CONCATENATE(DIGITADOR!$B$2,$A$2,DIGITADOR!$M$1,A75),\"\")","v":""},null,null,"",{"$f":"IF(K75=\"\",\"\",INDEX('OTRAS REFERENCIAS'!$AL:$AM,MATCH(K75,'OTRAS REFERENCIAS'!$AL:$AL,0),2))","v":""},null,{"$f":"IF(J75=\"\",\"\",INDEX(REFERENTES!$A:$D,MATCH(J75,REFERENTES!$C:$C,0),3))","v":""},null,null,null,null,null,null,null,{"$f":"IF(U75=\"\",\"\",INDEX('OTRAS REFERENCIAS'!$H$6:$I$11,MATCH(U75,'OTRAS REFERENCIAS'!$I$6:$I$11,0),1))","v":""},null,null,null,null,{"$f":"IF(Z75=\"\",\"\",INDEX('OTRAS REFERENCIAS'!$K$6:$L$11,MATCH(Z75,'OTRAS REFERENCIAS'!$L$6:$L$11,0),1))","v":""},null,null,null,null,{"$f":"IF(AE75=\"\",\"\",INDEX('OTRAS REFERENCIAS'!$N$6:$O$11,MATCH(AE75,'OTRAS REFERENCIAS'!$O$6:$O$11,0),1))","v":""},null,null,null,null,{"$f":"IF(AJ75=\"\",\"\",INDEX('OTRAS REFERENCIAS'!$Q$6:$R$11,MATCH(AJ75,'OTRAS REFERENCIAS'!$R$6:$R$11,0),1))","v":""},null,null,null,{"$f":"IF(AN75=\"\",\"\",INDEX('OTRAS REFERENCIAS'!$T$6:$U$11,MATCH(AN75,'OTRAS REFERENCIAS'!$U$6:$U$11,0),1))","v":""}]
[1,"",74,"","",{"$f":"IF(L76<>\"\",CONCATENATE(DIGITADOR!$B$2,$A$2,DIGITADOR!$M$1,A76),\"\")","v":""},null,null,"",{"$f":"IF(K76=\"\",\"\",INDEX('OTRAS REFERENCIAS'!$AL:$AM,MATCH(K76,'OTRAS REFERENCIAS'!$AL:$AL,0),2))","v":""},null,{"$f":"IF(J76=\"\",\"\",INDEX(REFERENTES!$A:$D,MATCH(J76,REFERENTES!$C:$C,0),3))","v":""},null,null,null,null,null,null,null,{"$f":"IF(U76=\"\",\"\",INDEX('OTRAS REFERENCIAS'!$H$6:$I$11,MATCH(U76,'OTRAS REFERENCIAS'!$I$6:$I$11,0),1))","v":""},null,null,null,null,{"$f":"IF(Z76=\"\",\"\",INDEX('OTRAS REFERENCIAS'!$K$6:$L$11,MATCH(Z76,'OTRAS REFERENCIAS'!$L$6:$L$11,0),1))","v":""},null,null,null,null,{"$f":"IF(AE76=\"\",\"\",INDEX('OTRAS REFERENCIAS'!$N$6:$O$11,MATCH(AE76,'OTRAS REFERENCIAS'!$O$6:$O$11,0),1))","v":""},null,null,null,null,{"$f":"IF(AJ76=\"\",\"\",INDEX('OTRAS REFERENCIAS'!$Q$6:$R$11,MATCH(AJ76,'OTRAS REFERENCIAS'!$R$6:$R$11,0),1))","v":""},null,null,null,{"$f":"IF(AN76=\"\",\"\",INDEX('OTRAS REFERENCIAS'!$T$6:$U$11,MATCH(AN76,'OTRAS REFERENCIAS'!$U$6:$U$11,0),1))","v":""}]
[1,"",75,"","",{"$f":"IF(L77<>\"\",CONCATENATE(DIGITADOR!$B$2,$A$2,DIGITADOR!$M$1,A77),\"\")","v":""},null,null,"",{"$f":"IF(K77=\"\",\"\",INDEX('OTRAS REFERENCIAS'!$AL:$AM,MATCH(K77,'OTRAS REFERENCIAS'!$AL:$AL,0),2))","v":""},null,{"$f":"IF(J77=\"\",\"\",INDEX(REFERENTES!$A:$D,MATCH(J77,REFERENTES!$C:$C,0),3))","v":""},null,null,null,null,null,null,null,{"$f":"IF(U77=\"\",\"\",INDEX('OTRAS REFERENCIAS'!$H$6:$I$11,MATCH(U77,'OTRAS REFERENCIAS'!$I$6:$I$11,0),1))","v":""},null,null,null,null,{"$f":"IF(Z77=\"\",\"\",INDEX('OTRAS REFERENCIAS'!$K$6:$L$11,MATCH(Z77,'OTRAS REFERENCIAS'!$L$6:$L$11,0),1))","v":""},null,null,null,null,{"$f":"IF(AE77=\"\",\"\",INDEX('OTRAS REFERENCIAS'!$N$6:$O$11,MATCH(AE77,'OTRAS REFERENCIAS'!$O$6:$O$11,0),1))","v":""},null,null,null,null,{"$f":"IF(AJ77=\"\",\"\",INDEX('OTRAS REFERENCIAS'!$Q$6:$R$11,MATCH(AJ77,'OTRAS REFERENCIAS'!$R$6:$R$11,0),1))","v":""},null,null,null,{"$f":"IF(AN77=\"\",\"\",INDEX('OTRAS REFERENCIAS'!$T$6:$U$11,MATCH(AN77,'OTRAS REFERENCIAS'!$U$6:$U$11,0),1))","v":""}]
[1,"",76,"","",{"$f":"IF(L78<>\"\",CONCATENATE(DIGITADOR!$B$2,$A$2,DIGITADOR!$M$1,A78),\"\")","v":""},null,null,"",{"$f":"IF(K78=\"\",\"\",INDEX('OTRAS REFERENCIAS'!$AL:$AM,MATCH(K78,'OTRAS REFERENCIAS'!$AL:$AL,0),2))","v":""},null,{"$f":"IF(J78=\"\",\"\",INDEX(REFERENTES!$A:$D,MATCH(J78,REFERENTES!$C:$C,0),3))","v":""},null,null,null,null,null,null,null,{"$f":"IF(U78=\"\",\"\",INDEX('OTRAS REFERENCIAS'!$H$6:$I$11,MATCH(U78,'OTRAS REFERENCIAS'!$I$6:$I$11,0),1))","v":""},null,null,null,null,{"$f":"IF(Z78=\"\",\"\",INDEX('OTRAS REFERENCIAS'!$K$6:$L$11,MATCH(Z78,'OTRAS REFERENCIAS'!$L$6:$L$11,0),1))","v":""},null,null,null,null,{"$f":"IF(AE78=\"\",\"\",INDEX('OTRAS REFERENCIAS'!$N$6:$O$11,MATCH(AE78,'OTRAS REFERENCIAS'!$O$6:$O$11,0),1))","v":""},null,null,null,null,{"$f":"IF(AJ78=\"\",\"\",INDEX('OTRAS REFERENCIAS'!$Q$6:$R$11,MATCH(AJ78,'OTRAS REFERENCIAS'!$R$6:$R$11,0),1))","v":""},null,null,null,{"$f":"IF(AN78=\"\",\"\",INDEX('OTRAS REFERENCIAS'!$T$6:$U$11,MATCH(AN78,'OTRAS REFERENCIAS'!$U$6:$U$11,0),1))","v":""}]
[1,"",77,"","",{"$f":"IF(L79<>\"\",CONCATENATE(DIGITADOR!$B$2,$A$2,DIGITADOR!$M$1,A79),\"\")","v":""},null,null,"",{"$f":"IF(K79=\"\",\"\",INDEX('OTRAS REFERENCIAS'!$AL:$AM,MATCH(K79,'OTRAS REFERENCIAS'!$AL:$AL,0),2))","v":""},null,{"$f":"IF(J79=\"\",\"\",INDEX(REFERENTES!$A:$D,MATCH(J79,REFERENTES!$C:$C,0),3))","v":""},null,null,null,null,null,null,null,{"$f":"IF(U79=\"\",\"\",INDEX('OTRAS REFERENCIAS'!$H$6:$I$11,MATCH(U79,'OTRAS REFERENCIAS'!$I$6:$I$11,0),1))","v":""},null,null,null,null,{"$f":"IF(Z79=\"\",\"\",INDEX('OTRAS REFERENCIAS'!$K$6:$L$11,MATCH(Z79,'OTRAS REFERENCIAS'!$L$6:$L$11,0),1))","v":""},null,null,null,null,{"$f":"IF(AE79=\"\",\"\",INDEX('OTRAS REFERENCIAS'!$N$6:$O$11,MATCH(AE79,'OTRAS REFERENCIAS'!$O$6:$O$11,0),1))","v":""},null,null,null,null,{"$f":"IF(AJ79=\"\",\"\",INDEX('OTRAS REFERENCIAS'!$Q$6:$R$11,MATCH(AJ79,'OTRAS REFERENCIAS'!$R$6:$R$11,0),1))","v":""},null,null,null,{"$f":"IF(AN79=\"\",\"\",INDEX('OTRAS REFERENCIAS'!$T$6:$U$11,MATCH(AN79,'OTRAS REFERENCIAS'!$U$6:$U$11,0),1))","v":""}]
[1,"",78,"","",{"$f":"IF(L80<>\"\",CONCATENATE(DIGITADOR!$B$2,$A$2,DIGITADOR!$M$1,A80),\"\")","v":""},null,null,"",{"$f":"IF(K80=\"\",\"\",INDEX('OTRAS REFERENCIAS'!$AL:$AM,MATCH(K80,'OTRAS REFERENCIAS'!$AL:$AL,0),2))","v":""},null,{"$f":"IF(J80=\"\",\"\",INDEX(REFERENTES!$A:$D,MATCH(J80,REFERENTES!$C:$C,0),3))","v":""},null,null,null,null,null,null,null,{"$f":"IF(U80=\"\",\"\",INDEX('OTRAS REFERENCIAS'!$H$6:$I$11,MATCH(U80,'OTRAS REFERENCIAS'!$I$6:$I$11,0),1))","v":""},null,null,null,null,{"$f":"IF(Z80=\"\",\"\",INDEX('OTRAS REFERENCIAS'!$K$6:$L$11,MATCH(Z80,'OTRAS REFERENCIAS'!$L$6:$L$11,0),1))","v":""},null,null,null,null,{"$f":"IF(AE80=\"\",\"\",INDEX('OTRAS REFERENCIAS'!$N$6:$O$11,MATCH(AE80,'OTRAS REFERENCIAS'!$O$6:$O$11,0),1))","v":""},null,null,null,null,{"$f":"IF(AJ80=\"\",\"\",INDEX('OTRAS REFERENCIAS'!$Q$6:$R$11,MATCH(AJ80,'OTRAS REFERENCIAS'!$R$6:$R$11,0),1))","v":""},null,null,null,{"$f":"IF(AN80=\"\",\"\",INDEX('OTRAS REFERENCIAS'!$T$6:$U$11,MATCH(AN80,'OTRAS REFERENCIAS'!$U$6:$U$11,0),1))","v":""}]
[1,"",79,"","",{"$f":"IF(L81<>\"\",CONCATENATE(DIGITADOR!$B$2,$A$2,DIGITADOR!$M$1,A81),\"\")","v":""},null,null,"",{"$f":"IF(K81=\"\",\"\",INDEX('OTRAS REFERENCIAS'!$AL:$AM,MATCH(K81,'OTRAS REFERENCIAS'!$AL:$AL,0),2))","v":""},null,{"$f":"IF(J81=\"\",\"\",INDEX(REFERENTES!$A:$D,MATCH(J81,REFERENTES!$C:$C,0),3))","v":""},null,null,null,null,null,null,null,{"$f":"IF(U81=\"\",\"\",INDEX('OTRAS REFERENCIAS'!$H$6:$I$11,MATCH(U81,'OTRAS REFERENCIAS'!$I$6:$I$11,0),1))","v":""},null,null,null,null,{"$f":"IF(Z81=\"\",\"\",INDEX('OTRAS REFERENCIAS'!$K$6:$L$11,MATCH(Z81,'OTRAS REFERENCIAS'!$L$6:$L$11,0),1))","v":""},null,null,null,null,{"$f":"IF(AE81=\"\",\"\",INDEX('OTRAS REFERENCIAS'!$N$6:$O$11,MATCH(AE81,'OTRAS REFERENCIAS'!$O$6:$O$11,0),1))","v":""},null,null,null,null,{"$f":"IF(AJ81=\"\",\"\",INDEX('OTRAS REFERENCIAS'!$Q$6:$R$11,MATCH(AJ81,'OTRAS REFERENCIAS'!$R$6:$R$11,0),1))","v":""},null,null,null,{"$f":"IF(AN81=\"\",\"\",INDEX('OTRAS REFERENCIAS'!$T$6:$U$11,MATCH(AN81,'OTRAS REFERENCIAS'!$U$6:$U$11,0),1))","v":""}]
[1,"",80,"","",{"$f":"IF(L82<>\"\",CONCATENATE(DIGITADOR!$B$2,$A$2,DIGITADOR!$M$1,A82),\"\")","v":""},null,null,"",{"$f":"IF(K82=\"\",\"\",INDEX('OTRAS REFERENCIAS'!$AL:$AM,MATCH(K82,'OTRAS REFERENCIAS'!$AL:$AL,0),2))","v":""},null,{"$f":"IF(J82=\"\",\"\",INDEX(REFERENTES!$A:$D,MATCH(J82,REFERENTES!$C:$C,0),3))","v":""},null,null,null,null,null,null,null,{"$f":"IF(U82=\"\",\"\",INDEX('OTRAS REFERENCIAS'!$H$6:$I$11,MATCH(U82,'OTRAS REFERENCIAS'!$I$6:$I$11,0),1))","v":""},null,null,null,null,{"$f":"IF(Z82=\"\",\"\",INDEX('OTRAS REFERENCIAS'!$K$6:$L$11,MATCH(Z82,'OTRAS REFERENCIAS'!$L$6:$L$11,0),1))","v":""},null,null,null,null,{"$f":"IF(AE82=\"\",\"\",INDEX('OTRAS REFERENCIAS'!$N$6:$O$11,MATCH(AE82,'OTRAS REFERENCIAS'!$O$6:$O$11,0),1))","v":""},null,null,null,null,{"$f":"IF(AJ82=\"\",\"\",INDEX('OTRAS REFERENCIAS'!$Q$6:$R$11,MATCH(AJ82,'OTRAS REFERENCIAS'!$R$6:$R$11,0),1))","v":""},null,null,null,{"$f":"IF(AN82=\"\",\"\",INDEX('OTRAS REFERENCIAS'!$T$6:$U$11,MATCH(AN82,'OTRAS REFERENCIAS'!$U$6:$U$11,0),1))","v":""}]
[1,"",81,"","",{"$f":"IF(L83<>\"\",CONCATENATE(DIGITADOR!$B$2,$A$2,DIGITADOR!$M$1,A83),\"\")","v":""},null,null,"",{"$f":"IF(K83=\"\",\"\",INDEX('OTRAS REFERENCIAS'!$AL:$AM,MATCH(K83,'OTRAS REFERENCIAS'!$AL:$AL,0),2))","v":""},null,{"$f":"IF(J83=\"\",\"\",INDEX(REFERENTES!$A:$D,MATCH(J83,REFERENTES!$C:$C,0),3))","v":""},null,null,null,null,null,null,null,{"$f":"IF(U83=\"\",\"\",INDEX('OTRAS REFERENCIAS'!$H$6:$I$11,MATCH(U83,'OTRAS REFERENCIAS'!$I$6:$I$11,0),1))","v":""},null,null,null,null,{"$f":"IF(Z83=\"\",\"\",INDEX('OTRAS REFERENCIAS'!$K$6:$L$11,MATCH(Z83,'OTRAS REFERENCIAS'!$L$6:$L$11,0),1))","v":""},null,null,null,null,{"$f":"IF(AE83=\"\",\"\",INDEX('OTRAS REFERENCIAS'!$N$6:$O$11,MATCH(AE83,'OTRAS REFERENCIAS'!$O$6:$O$11,0),1))","v":""},null,null,null,null,{"$f":"IF(AJ83=\"\",\"\",INDEX('OTRAS REFERENCIAS'!$Q$6:$R$11,MATCH(AJ83,'OTRAS REFERENCIAS'!$R$6:$R$11,0),1))","v":""},null,null,null,{"$f":"IF(AN83=\"\",\"\",INDEX('OTRAS REFERENCIAS'!$T$6:$U$11,MATCH(AN83,'OTRAS REFERENCIAS'!$U$6:$U$11,0),1))","v":""}]
[1,"",82,"","",{"$f":"IF(L84<>\"\",CONCATENATE(DIGITADOR!$B$2,$A$2,DIGITADOR!$M$1,A84),\"\")","v":""},null,null,"",{"$f":"IF(K84=\"\",\"\",INDEX('OTRAS REFERENCIAS'!$AL:$AM,MATCH(K84,'OTRAS REFERENCIAS'!$AL:$AL,0),2))","v":""},null,{"$f":"IF(J84=\"\",\"\",INDEX(REFERENTES!$A:$D,MATCH(J84,REFERENTES!$C:$C,0),3))","v":""},null,null,null,null,null,null,null,{"$f":"IF(U84=\"\",\"\",INDEX('OTRAS REFERENCIAS'!$H$6:$I$11,MATCH(U84,'OTRAS REFERENCIAS'!$I$6:$I$11,0),1))","v":""},null,null,null,null,{"$f":"IF(Z84=\"\",\"\",INDEX('OTRAS REFERENCIAS'!$K$6:$L$11,MATCH(Z84,'OTRAS REFERENCIAS'!$L$6:$L$11,0),1))","v":""},null,null,null,null,{"$f":"IF(AE84=\"\",\"\",INDEX('OTRAS REFERENCIAS'!$N$6:$O$11,MATCH(AE84,'OTRAS REFERENCIAS'!$O$6:$O$11,0),1))","v":""},null,null,null,null,{"$f":"IF(AJ84=\"\",\"\",INDEX('OTRAS REFERENCIAS'!$Q$6:$R$11,MATCH(AJ84,'OTRAS REFERENCIAS'!$R$6:$R$11,0),1))","v":""},null,null,null,{"$f":"IF(AN84=\"\",\"\",INDEX('OTRAS REFERENCIAS'!$T$6:$U$11,MATCH(AN84,'OTRAS REFERENCIAS'!$U$6:$U$11,0),1))","v":""}]
[1,"",83,"","",{"$f":"IF(L85<>\"\",CONCATENATE(DIGITADOR!$B$2,$A$2,DIGITADOR!$M$1,A85),\"\")","v":""},null,null,"",{"$f":"IF(K85=\"\",\"\",INDEX('OTRAS REFERENCIAS'!$AL:$AM,MATCH(K85,'OTRAS REFERENCIAS'!$AL:$AL,0),2))","v":""},null,{"$f":"IF(J85=\"\",\"\",INDEX(REFERENTES!$A:$D,MATCH(J85,REFERENTES!$C:$C,0),3))","v":""},null,null,null,null,null,null,null,{"$f":"IF(U85=\"\",\"\",INDEX('OTRAS REFERENCIAS'!$H$6:$I$11,MATCH(U85,'OTRAS REFERENCIAS'!$I$6:$I$11,0),1))","v":""},null,null,null,null,{"$f":"IF(Z85=\"\",\"\",INDEX('OTRAS REFERENCIAS'!$K$6:$L$11,MATCH(Z85,'OTRAS REFERENCIAS'!$L$6:$L$11,0),1))","v":""},null,null,null,null,{"$f":"IF(AE85=\"\",\"\",INDEX('OTRAS REFERENCIAS'!$N$6:$O$11,MATCH(AE85,'OTRAS REFERENCIAS'!$O$6:$O$11,0),1))","v":""},null,null,null,null,{"$f":"IF(AJ85=\"\",\"\",INDEX('OTRAS REFERENCIAS'!$Q$6:$R$11,MATCH(AJ85,'OTRAS REFERENCIAS'!$R$6:$R$11,0),1))","v":""},null,null,null,{"$f":"IF(AN85=\"\",\"\",INDEX('OTRAS REFERENCIAS'!$T$6:$U$11,MATCH(AN85,'OTRAS REFERENCIAS'!$U$6:$U$11,0),1))","v":""}]
[1,"",84,"","",{"$f":"IF(L86<>\"\",CONCATENATE(DIGITADOR!$B$2,$A$2,DIGITADOR!$M$1,A86),\"\")","v":""},null,null,"",{"$f":"IF(K86=\"\",\"\",INDEX('OTRAS REFERENCIAS'!$AL:$AM,MATCH(K86,'OTRAS REFERENCIAS'!$AL:$AL,0),2))","v":""},null,{"$f":"IF(J86=\"\",\"\",INDEX(REFERENTES!$A:$D,MATCH(J86,REFERENTES!$C:$C,0),3))","v":""},null,null,null,null,null,null,null,{"$f":"IF(U86=\"\",\"\",INDEX('OTRAS REFERENCIAS'!$H$6:$I$11,MATCH(U86,'OTRAS REFERENCIAS'!$I$6:$I$11,0),1))","v":""},null,null,null,null,{"$f":"IF(Z86=\"\",\"\",INDEX('OTRAS REFERENCIAS'!$K$6:$L$11,MATCH(Z86,'OTRAS REFERENCIAS'!$L$6:$L$11,0),1))","v":""},null,null,null,null,{"$f":"IF(AE86=\"\",\"\",INDEX('OTRAS REFERENCIAS'!$N$6:$O$11,MATCH(AE86,'OTRAS REFERENCIAS'!$O$6:$O$11,0),1))","v":""},null,null,null,null,{"$f":"IF(AJ86=\"\",\"\",INDEX('OTRAS REFERENCIAS'!$Q$6:$R$11,MATCH(AJ86,'OTRAS REFERENCIAS'!$R$6:$R$11,0),1))","v":""},null,null,null,{"$f":"IF(AN86=\"\",\"\",INDEX('OTRAS REFERENCIAS'!$T$6:$U$11,MATCH(AN86,'OTRAS REFERENCIAS'!$U$6:$U$11,0),1))","v":""}]
[1,"",85,"","",{"$f":"IF(L87<>\"\",CONCATENATE(DIGITADOR!$B$2,$A$2,DIGITADOR!$M$1,A87),\"\")","v":""},null,null,"",{"$f":"IF(K87=\"\",\"\",INDEX('OTRAS REFERENCIAS'!$AL:$AM,MATCH(K87,'OTRAS REFERENCIAS'!$AL:$AL,0),2))","v":""},null,{"$f":"IF(J87=\"\",\"\",INDEX(REFERENTES!$A:$D,MATCH(J87,REFERENTES!$C:$C,0),3))","v":""},null,null,null,null,null,null,null,{"$f":"IF(U87=\"\",\"\",INDEX('OTRAS REFERENCIAS'!$H$6:$I$11,MATCH(U87,'OTRAS REFERENCIAS'!$I$6:$I$11,0),1))","v":""},null,null,null,null,{"$f":"IF(Z87=\"\",\"\",INDEX('OTRAS REFERENCIAS'!$K$6:$L$11,MATCH(Z87,'OTRAS REFERENCIAS'!$L$6:$L$11,0),1))","v":""},null,null,null,null,{"$f":"IF(AE87=\"\",\"\",INDEX('OTRAS REFERENCIAS'!$N$6:$O$11,MATCH(AE87,'OTRAS REFERENCIAS'!$O$6:$O$11,0),1))","v":""},null,null,null,null,{"$f":"IF(AJ87=\"\",\"\",INDEX('OTRAS REFERENCIAS'!$Q$6:$R$11,MATCH(AJ87,'OTRAS REFERENCIAS'!$R$6:$R$11,0),1))","v":""},null,null,null,{"$f":"IF(AN87=\"\",\"\",INDEX('OTRAS REFERENCIAS'!$T$6:$U$11,MATCH(AN87,'OTRAS REFERENCIAS'!$U$6:$U$11,0),1))","v":""}]
[1,"",86,"","",{"$f":"IF(L88<>\"\",CONCATENATE(DIGITADOR!$B$2,$A$2,DIGITADOR!$M$1,A88),\"\")","v":""},null,null,"",{"$f":"IF(K88=\"\",\"\",INDEX('OTRAS REFERENCIAS'!$AL:$AM,MATCH(K88,'OTRAS REFERENCIAS'!$AL:$AL,0),2))","v":""},null,{"$f":"IF(J88=\"\",\"\",INDEX(REFERENTES!$A:$D,MATCH(J88,REFERENTES!$C:$C,0),3))","v":""},null,null,null,null,null,null,null,{"$f":"IF(U88=\"\",\"\",INDEX('OTRAS REFERENCIAS'!$H$6:$I$11,MATCH(U88,'OTRAS REFERENCIAS'!$I$6:$I$11,0),1))","v":""},null,null,null,null,{"$f":"IF(Z88=\"\",\"\",INDEX('OTRAS REFERENCIAS'!$K$6:$L$11,MATCH(Z88,'OTRAS REFERENCIAS'!$L$6:$L$11,0),1))","v":""},null,null,null,null,{"$f":"IF(AE88=\"\",\"\",INDEX('OTRAS REFERENCIAS'!$N$6:$O$11,MATCH(AE88,'OTRAS REFERENCIAS'!$O$6:$O$11,0),1))","v":""},null,null,null,null,{"$f":"IF(AJ88=\"\",\"\",INDEX('OTRAS REFERENCIAS'!$Q$6:$R$11,MATCH(AJ88,'OTRAS REFERENCIAS'!$R$6:$R$11,0),1))","v":""},null,null,null,{"$f":"IF(AN88=\"\",\"\",INDEX('OTRAS REFERENCIAS'!$T$6:$U$11,MATCH(AN88,'OTRAS REFERENCIAS'!$U$6:$U$11,0),1))","v":""}]
[1,"",87,"","",{"$f":"IF(L89<>\"\",CONCATENATE(DIGITADOR!$B$2,$A$2,DIGITADOR!$M$1,A89),\"\")","v":""},null,null,"",{"$f":"IF(K89=\"\",\"\",INDEX('OTRAS REFERENCIAS'!$AL:$AM,MATCH(K89,'OTRAS REFERENCIAS'!$AL:$AL,0),2))","v":""},null,{"$f":"IF(J89=\"\",\"\",INDEX(REFERENTES!$A:$D,MATCH(J89,REFERENTES!$C:$C,0),3))","v":""},null,null,null,null,null,null,null,{"$f":"IF(U89=\"\",\"\",INDEX('OTRAS REFERENCIAS'!$H$6:$I$11,MATCH(U89,'OTRAS REFERENCIAS'!$I$6:$I$11,0),1))","v":""},null,null,null,null,{"$f":"IF(Z89=\"\",\"\",INDEX('OTRAS REFERENCIAS'!$K$6:$L$11,MATCH(Z89,'OTRAS REFERENCIAS'!$L$6:$L$11,0),1))","v":""},null,null,null,null,{"$f":"IF(AE89=\"\",\"\",INDEX('OTRAS REFERENCIAS'!$N$6:$O$11,MATCH(AE89,'OTRAS REFERENCIAS'!$O$6:$O$11,0),1))","v":""},null,null,null,null,{"$f":"IF(AJ89=\"\",\"\",INDEX('OTRAS REFERENCIAS'!$Q$6:$R$11,MATCH(AJ89,'OTRAS REFERENCIAS'!$R$6:$R$11,0),1))","v":""},null,null,null,{"$f":"IF(AN89=\"\",\"\",INDEX('OTRAS REFERENCIAS'!$T$6:$U$11,MATCH(AN89,'OTRAS REFERENCIAS'!$U$6:$U$11,0),1))","v":""}]
[1,"",88,"","",{"$f":"IF(L90<>\"\",CONCATENATE(DIGITADOR!$B$2,$A$2,DIGITADOR!$M$1,A90),\"\")","v":""},null,null,"",{"$f":"IF(K90=\"\",\"\",INDEX('OTRAS REFERENCIAS'!$AL:$AM,MATCH(K90,'OTRAS REFERENCIAS'!$AL:$AL,0),2))","v":""},null,{"$f":"IF(J90=\"\",\"\",INDEX(REFERENTES!$A:$D,MATCH(J90,REFERENTES!$C:$C,0),3))","v":""},null,null,null,null,null,null,null,{"$f":"IF(U90=\"\",\"\",INDEX('OTRAS REFERENCIAS'!$H$6:$I$11,MATCH(U90,'OTRAS REFERENCIAS'!$I$6:$I$11,0),1))","v":""},null,null,null,null,{"$f":"IF(Z90=\"\",\"\",INDEX('OTRAS REFERENCIAS'!$K$6:$L$11,MATCH(Z90,'OTRAS REFERENCIAS'!$L$6:$L$11,0),1))","v":""},null,null,null,null,{"$f":"IF(AE90=\"\",\"\",INDEX('OTRAS REFERENCIAS'!$N$6:$O$11,MATCH(AE90,'OTRAS REFERENCIAS'!$O$6:$O$11,0),1))","v":""},null,null,null,null,{"$f":"IF(AJ90=\"\",\"\",INDEX('OTRAS REFERENCIAS'!$Q$6:$R$11,MATCH(AJ90,'OTRAS REFERENCIAS'!$R$6:$R$11,0),1))","v":""},null,null,null,{"$f":"IF(AN90=\"\",\"\",INDEX('OTRAS REFERENCIAS'!$T$6:$U$11,MATCH(AN90,'OTRAS REFERENCIAS'!$U$6:$U$11,0),1))","v":""}]
[1,"",89,"","",{"$f":"IF(L91<>\"\",CONCATENATE(DIGITADOR!$B$2,$A$2,DIGITADOR!$M$1,A91),\"\")","v":""},null,null,"",{"$f":"IF(K91=\"\",\"\",INDEX('OTRAS REFERENCIAS'!$AL:$AM,MATCH(K91,'OTRAS REFERENCIAS'!$AL:$AL,0),2))","v":""},null,{"$f":"IF(J91=\"\",\"\",INDEX(REFERENTES!$A:$D,MATCH(J91,REFERENTES!$C:$C,0),3))","v":""},null,null,null,null,null,null,null,{"$f":"IF(U91=\"\",\"\",INDEX('OTRAS REFERENCIAS'!$H$6:$I$11,MATCH(U91,'OTRAS REFERENCIAS'!$I$6:$I$11,0),1))","v":""},null,null,null,null,{"$f":"IF(Z91=\"\",\"\",INDEX('OTRAS REFERENCIAS'!$K$6:$L$11,MATCH(Z91,'OTRAS REFERENCIAS'!$L$6:$L$11,0),1))","v":""},null,null,null,null,{"$f":"IF(AE91=\"\",\"\",INDEX('OTRAS REFERENCIAS'!$N$6:$O$11,MATCH(AE91,'OTRAS REFERENCIAS'!$O$6:$O$11,0),1))","v":""},null,null,null,null,{"$f":"IF(AJ91=\"\",\"\",INDEX('OTRAS REFERENCIAS'!$Q$6:$R$11,MATCH(AJ91,'OTRAS REFERENCIAS'!$R$6:$R$11,0),1))","v":""},null,null,null,{"$f":"IF(AN91=\"\",\"\",INDEX('OTRAS REFERENCIAS'!$T$6:$U$11,MATCH(AN91,'OTRAS REFERENCIAS'!$U$6:$U$11,0),1))","v":""}]
[1,"",90,"","",{"$f":"IF(L92<>\"\",CONCATENATE(DIGITADOR!$B$2,$A$2,DIGITADOR!$M$1,A92),\"\")","v":""},null,null,"",{"$f":"IF(K92=\"\",\"\",INDEX('OTRAS REFERENCIAS'!$AL:$AM,MATCH(K92,'OTRAS REFERENCIAS'!$AL:$AL,0),2))","v":""},null,{"$f":"IF(J92=\"\",\"\",INDEX(REFERENTES!$A:$D,MATCH(J92,REFERENTES!$C:$C,0),3))","v":""},null,null,null,null,null,null,null,{"$f":"IF(U92=\"\",\"\",INDEX('OTRAS REFERENCIAS'!$H$6:$I$11,MATCH(U92,'OTRAS REFERENCIAS'!$I$6:$I$11,0),1))","v":""},null,null,null,null,{"$f":"IF(Z92=\"\",\"\",INDEX('OTRAS REFERENCIAS'!$K$6:$L$11,MATCH(Z92,'OTRAS REFERENCIAS'!$L$6:$L$11,0),1))","v":""},null,null,null,null,{"$f":"IF(AE92=\"\",\"\",INDEX('OTRAS REFERENCIAS'!$N$6:$O$11,MATCH(AE92,'OTRAS REFERENCIAS'!$O$6:$O$11,0),1))","v":""},null,null,null,null,{"$f":"IF(AJ92=\"\",\"\",INDEX('OTRAS REFERENCIAS'!$Q$6:$R$11,MATCH(AJ92,'OTRAS REFERENCIAS'!$R$6:$R$11,0),1))","v":""},null,null,null,{"$f":"IF(AN92=\"\",\"\",INDEX('OTRAS REFERENCIAS'!$T$6:$U$11,MATCH(AN92,'OTRAS REFERENCIAS'!$U$6:$U$11,0),1))","v":""}]
[1,"",91,"","",{"$f":"IF(L93<>\"\",CONCATENATE(DIGITADOR!$B$2,$A$2,DIGITADOR!$M$1,A93),\"\")","v":""},null,null,"",{"$f":"IF(K93=\"\",\"\",INDEX('OTRAS REFERENCIAS'!$AL:$AM,MATCH(K93,'OTRAS REFERENCIAS'!$AL:$AL,0),2))","v":""},null,{"$f":"IF(J93=\"\",\"\",INDEX(REFERENTES!$A:$D,MATCH(J93,REFERENTES!$C:$C,0),3))","v":""},null,null,null,null,null,null,null,{"$f":"IF(U93=\"\",\"\",INDEX('OTRAS REFERENCIAS'!$H$6:$I$11,MATCH(U93,'OTRAS REFERENCIAS'!$I$6:$I$11,0),1))","v":""},null,null,null,null,{"$f":"IF(Z93=\"\",\"\",INDEX('OTRAS REFERENCIAS'!$K$6:$L$11,MATCH(Z93,'OTRAS REFERENCIAS'!$L$6:$L$11,0),1))","v":""},null,null,null,null,{"$f":"IF(AE93=\"\",\"\",INDEX('OTRAS REFERENCIAS'!$N$6:$O$11,MATCH(AE93,'OTRAS REFERENCIAS'!$O$6:$O$11,0),1))","v":""},null,null,null,null,{"$f":"IF(AJ93=\"\",\"\",INDEX('OTRAS REFERENCIAS'!$Q$6:$R$11,MATCH(AJ93,'OTRAS REFERENCIAS'!$R$6:$R$11,0),1))","v":""},null,null,null,{"$f":"IF(AN93=\"\",\"\",INDEX('OTRAS REFERENCIAS'!$T$6:$U$11,MATCH(AN93,'OTRAS REFERENCIAS'!$U$6:$U$11,0),1))","v":""}]
[1,"",92,"","",{"$f":"IF(L94<>\"\",CONCATENATE(DIGITADOR!$B$2,$A$2,DIGITADOR!$M$1,A94),\"\")","v":""},null,null,"",{"$f":"IF(K94=\"\",\"\",INDEX('OTRAS REFERENCIAS'!$AL:$AM,MATCH(K94,'OTRAS REFERENCIAS'!$AL:$AL,0),2))","v":""},null,{"$f":"IF(J94=\"\",\"\",INDEX(REFERENTES!$A:$D,MATCH(J94,REFERENTES!$C:$C,0),3))","v":""},null,null,null,null,null,null,null,{"$f":"IF(U94=\"\",\"\",INDEX('OTRAS REFERENCIAS'!$H$6:$I$11,MATCH(U94,'OTRAS REFERENCIAS'!$I$6:$I$11,0),1))","v":""},null,null,null,null,{"$f":"IF(Z94=\"\",\"\",INDEX('OTRAS REFERENCIAS'!$K$6:$L$11,MATCH(Z94,'OTRAS REFERENCIAS'!$L$6:$L$11,0),1))","v":""},null,null,null,null,{"$f":"IF(AE94=\"\",\"\",INDEX('OTRAS REFERENCIAS'!$N$6:$O$11,MATCH(AE94,'OTRAS REFERENCIAS'!$O$6:$O$11,0),1))","v":""},null,null,null,null,{"$f":"IF(AJ94=\"\",\"\",INDEX('OTRAS REFERENCIAS'!$Q$6:$R$11,MATCH(AJ94,'OTRAS REFERENCIAS'!$R$6:$R$11,0),1))","v":""},null,null,null,{"$f":"IF(AN94=\"\",\"\",INDEX('OTRAS REFERENCIAS'!$T$6:$U$11,MATCH(AN94,'OTRAS REFERENCIAS'!$U$6:$U$11,0),1))","v":""}]
[1,"",93,"","",{"$f":"IF(L95<>\"\",CONCATENATE(DIGITADOR!$B$2,$A$2,DIGITADOR!$M$1,A95),\"\")","v":""},null,null,"",{"$f":"IF(K95=\"\",\"\",INDEX('OTRAS REFERENCIAS'!$AL:$AM,MATCH(K95,'OTRAS REFERENCIAS'!$AL:$AL,0),2))","v":""},null,{"$f":"IF(J95=\"\",\"\",INDEX(REFERENTES!$A:$D,MATCH(J95,REFERENTES!$C:$C,0),3))","v":""},null,null,null,null,null,null,null,{"$f":"IF(U95=\"\",\"\",INDEX('OTRAS REFERENCIAS'!$H$6:$I$11,MATCH(U95,'OTRAS REFERENCIAS'!$I$6:$I$11,0),1))","v":""},null,null,null,null,{"$f":"IF(Z95=\"\",\"\",INDEX('OTRAS REFERENCIAS'!$K$6:$L$11,MATCH(Z95,'OTRAS REFERENCIAS'!$L$6:$L$11,0),1))","v":""},null,null,null,null,{"$f":"IF(AE95=\"\",\"\",INDEX('OTRAS REFERENCIAS'!$N$6:$O$11,MATCH(AE95,'OTRAS REFERENCIAS'!$O$6:$O$11,0),1))","v":""},null,null,null,null,{"$f":"IF(AJ95=\"\",\"\",INDEX('OTRAS REFERENCIAS'!$Q$6:$R$11,MATCH(AJ95,'OTRAS REFERENCIAS'!$R$6:$R$11,0),1))","v":""},null,null,null,{"$f":"IF(AN95=\"\",\"\",INDEX('OTRAS REFERENCIAS'!$T$6:$U$11,MATCH(AN95,'OTRAS REFERENCIAS'!$U$6:$U$11,0),1))","v":""}]
[1,"",94,"","",{"$f":"IF(L96<>\"\",CONCATENATE(DIGITADOR!$B$2,$A$2,DIGITADOR!$M$1,A96),\"\")","v":""},null,null,"",{"$f":"IF(K96=\"\",\"\",INDEX('OTRAS REFERENCIAS'!$AL:$AM,MATCH(K96,'OTRAS REFERENCIAS'!$AL:$AL,0),2))","v":""},null,{"$f":"IF(J96=\"\",\"\",INDEX(REFERENTES!$A:$D,MATCH(J96,REFERENTES!$C:$C,0),3))","v":""},null,null,null,null,null,null,null,{"$f":"IF(U96=\"\",\"\",INDEX('OTRAS REFERENCIAS'!$H$6:$I$11,MATCH(U96,'OTRAS REFERENCIAS'!$I$6:$I$11,0),1))","v":""},null,null,null,null,{"$f":"IF(Z96=\"\",\"\",INDEX('OTRAS REFERENCIAS'!$K$6:$L$11,MATCH(Z96,'OTRAS REFERENCIAS'!$L$6:$L$11,0),1))","v":""},null,null,null,null,{"$f":"IF(AE96=\"\",\"\",INDEX('OTRAS REFERENCIAS'!$N$6:$O$11,MATCH(AE96,'OTRAS REFERENCIAS'!$O$6:$O$11,0),1))","v":""},null,null,null,null,{"$f":"IF(AJ96=\"\",\"\",INDEX('OTRAS REFERENCIAS'!$Q$6:$R$11,MATCH(AJ96,'OTRAS REFERENCIAS'!$R$6:$R$11,0),1))","v":""},null,null,null,{"$f":"IF(AN96=\"\",\"\",INDEX('OTRAS REFERENCIAS'!$T$6:$U$11,MATCH(AN96,'OTRAS REFERENCIAS'!$U$6:$U$11,0),1))","v":""}]
[1,"",95,"","",{"$f":"IF(L97<>\"\",CONCATENATE(DIGITADOR!$B$2,$A$2,DIGITADOR!$M$1,A97),\"\")","v":""},null,null,"",{"$f":"IF(K97=\"\",\"\",INDEX('OTRAS REFERENCIAS'!$AL:$AM,MATCH(K97,'OTRAS REFERENCIAS'!$AL:$AL,0),2))","v":""},null,{"$f":"IF(J97=\"\",\"\",INDEX(REFERENTES!$A:$D,MATCH(J97,REFERENTES!$C:$C,0),3))","v":""},null,null,null,null,null,null,null,{"$f":"IF(U97=\"\",\"\",INDEX('OTRAS REFERENCIAS'!$H$6:$I$11,MATCH(U97,'OTRAS REFERENCIAS'!$I$6:$I$11,0),1))","v":""},null,null,null,null,{"$f":"IF(Z97=\"\",\"\",INDEX('OTRAS REFERENCIAS'!$K$6:$L$11,MATCH(Z97,'OTRAS REFERENCIAS'!$L$6:$L$11,0),1))","v":""},null,null,null,null,{"$f":"IF(AE97=\"\",\"\",INDEX('OTRAS REFERENCIAS'!$N$6:$O$11,MATCH(AE97,'OTRAS REFERENCIAS'!$O$6:$O$11,0),1))","v":""},null,null,null,null,{"$f":"IF(AJ97=\"\",\"\",INDEX('OTRAS REFERENCIAS'!$Q$6:$R$11,MATCH(AJ97,'OTRAS REFERENCIAS'!$R$6:$R$11,0),1))","v":""},null,null,null,{"$f":"IF(AN97=\"\",\"\",INDEX('OTRAS REFERENCIAS'!$T$6:$U$11,MATCH(AN97,'OTRAS REFERENCIAS'!$U$6:$U$11,0),1))","v":""}]
[1,"",96,"","",{"$f":"IF(L98<>\"\",CONCATENATE(DIGITADOR!$B$2,$A$2,DIGITADOR!$M$1,A98),\"\")","v":""},null,null,"",{"$f":"IF(K98=\"\",\"\",INDEX('OTRAS REFERENCIAS'!$AL:$AM,MATCH(K98,'OTRAS REFERENCIAS'!$AL:$AL,0),2))","v":""},null,{"$f":"IF(J98=\"\",\"\",INDEX(REFERENTES!$A:$D,MATCH(J98,REFERENTES!$C:$C,0),3))","v":""},null,null,null,null,null,null,null,{"$f":"IF(U98=\"\",\"\",INDEX('OTRAS REFERENCIAS'!$H$6:$I$11,MATCH(U98,'OTRAS REFERENCIAS'!$I$6:$I$11,0),1))","v":""},null,null,null,null,{"$f":"IF(Z98=\"\",\"\",INDEX('OTRAS REFERENCIAS'!$K$6:$L$11,MATCH(Z98,'OTRAS REFERENCIAS'!$L$6:$L$11,0),1))","v":""},null,null,null,null,{"$f":"IF(AE98=\"\",\"\",INDEX('OTRAS REFERENCIAS'!$N$6:$O$11,MATCH(AE98,'OTRAS REFERENCIAS'!$O$6:$O$11,0),1))","v":""},null,null,null,null,{"$f":"IF(AJ98=\"\",\"\",INDEX('OTRAS REFERENCIAS'!$Q$6:$R$11,MATCH(AJ98,'OTRAS REFERENCIAS'!$R$6:$R$11,0),1))","v":""},null,null,null,{"$f":"IF(AN98=\"\",\"\",INDEX('OTRAS REFERENCIAS'!$T$6:$U$11,MATCH(AN98,'OTRAS REFERENCIAS'!$U$6:$U$11,0),1))","v":""}]
[1,"",97,"","",{"$f":"IF(L99<>\"\",CONCATENATE(DIGITADOR!$B$2,$A$2,DIGITADOR!$M$1,A99),\"\")","v":""},null,null,"",{"$f":"IF(K99=\"\",\"\",INDEX('OTRAS REFERENCIAS'!$AL:$AM,MATCH(K99,'OTRAS REFERENCIAS'!$AL:$AL,0),2))","v":""},null,{"$f":"IF(J99=\"\",\"\",INDEX(REFERENTES!$A:$D,MATCH(J99,REFERENTES!$C:$C,0),3))","v":""},null,null,null,null,null,null,null,{"$f":"IF(U99=\"\",\"\",INDEX('OTRAS REFERENCIAS'!$H$6:$I$11,MATCH(U99,'OTRAS REFERENCIAS'!$I$6:$I$11,0),1))","v":""},null,null,null,null,{"$f":"IF(Z99=\"\",\"\",INDEX('OTRAS REFERENCIAS'!$K$6:$L$11,MATCH(Z99,'OTRAS REFERENCIAS'!$L$6:$L$11,0),1))","v":""},null,null,null,null,{"$f":"IF(AE99=\"\",\"\",INDEX('OTRAS REFERENCIAS'!$N$6:$O$11,MATCH(AE99,'OTRAS REFERENCIAS'!$O$6:$O$11,0),1))","v":""},null,null,null,null,{"$f":"IF(AJ99=\"\",\"\",INDEX('OTRAS REFERENCIAS'!$Q$6:$R$11,MATCH(AJ99,'OTRAS REFERENCIAS'!$R$6:$R$11,0),1))","v":""},null,null,null,{"$f":"IF(AN99=\"\",\"\",INDEX('OTRAS REFERENCIAS'!$T$6:$U$11,MATCH(AN99,'OTRAS REFERENCIAS'!$U$6:$U$11,0),1))","v":""}]
[1,"",98,"","",{"$f":"IF(L100<>\"\",CONCATENATE(DIGITADOR!$B$2,$A$2,DIGITADOR!$M$1,A100),\"\")","v":""},null,null,"",{"$f":"IF(K100=\"\",\"\",INDEX('OTRAS REFERENCIAS'!$AL:$AM,MATCH(K100,'OTRAS REFERENCIAS'!$AL:$AL,0),2))","v":""},null,{"$f":"IF(J100=\"\",\"\",INDEX(REFERENTES!$A:$D,MATCH(J100,REFERENTES!$C:$C,0),3))","v":""},null,null,null,null,null,null,null,{"$f":"IF(U100=\"\",\"\",INDEX('OTRAS REFERENCIAS'!$H$6:$I$11,MATCH(U100,'OTRAS REFERENCIAS'!$I$6:$I$11,0),1))","v":""},null,null,null,null,{"$f":"IF(Z100=\"\",\"\",INDEX('OTRAS REFERENCIAS'!$K$6:$L$11,MATCH(Z100,'OTRAS REFERENCIAS'!$L$6:$L$11,0),1))","v":""},null,null,null,null,{"$f":"IF(AE100=\"\",\"\",INDEX('OTRAS REFERENCIAS'!$N$6:$O$11,MATCH(AE100,'OTRAS REFERENCIAS'!$O$6:$O$11,0),1))","v":""},null,null,null,null,{"$f":"IF(AJ100=\"\",\"\",INDEX('OTRAS REFERENCIAS'!$Q$6:$R$11,MATCH(AJ100,'OTRAS REFERENCIAS'!$R$6:$R$11,0),1))","v":""},null,null,null,{"$f":"IF(AN100=\"\",\"\",INDEX('OTRAS REFERENCIAS'!$T$6:$U$11,MATCH(AN100,'OTRAS REFERENCIAS'!$U$6:$U$11,0),1))","v":""}]
[1,"",99,"","",{"$f":"IF(L101<>\"\",CONCATENATE(DIGITADOR!$B$2,$A$2,DIGITADOR!$M$1,A101),\"\")","v":""},null,null,"",{"$f":"IF(K101=\"\",\"\",INDEX('OTRAS REFERENCIAS'!$AL:$AM,MATCH(K101,'OTRAS REFERENCIAS'!$AL:$AL,0),2))","v":""},null,{"$f":"IF(J101=\"\",\"\",INDEX(REFERENTES!$A:$D,MATCH(J101,REFERENTES!$C:$C,0),3))","v":""},null,null,null,null,null,null,null,{"$f":"IF(U101=\"\",\"\",INDEX('OTRAS REFERENCIAS'!$H$6:$I$11,MATCH(U101,'OTRAS REFERENCIAS'!$I$6:$I$11,0),1))","v":""},null,null,null,null,{"$f":"IF(Z101=\"\",\"\",INDEX('OTRAS REFERENCIAS'!$K$6:$L$11,MATCH(Z101,'OTRAS REFERENCIAS'!$L$6:$L$11,0),1))","v":""},null,null,null,null,{"$f":"IF(AE101=\"\",\"\",INDEX('OTRAS REFERENCIAS'!$N$6:$O$11,MATCH(AE101,'OTRAS REFERENCIAS'!$O$6:$O$11,0),1))","v":""},null,null,null,null,{"$f":"IF(AJ101=\"\",\"\",INDEX('OTRAS REFERENCIAS'!$Q$6:$R$11,MATCH(AJ101,'OTRAS REFERENCIAS'!$R$6:$R$11,0),1))","v":""},null,null,null,{"$f":"IF(AN101=\"\",\"\",INDEX('OTRAS REFERENCIAS'!$T$6:$U$11,MATCH(AN101,'OTRAS REFERENCIAS'!$U$6:$U$11,0),1))","v":""}]
[1,"",100,"","",{"$f":"IF(L102<>\"\",CONCATENATE(DIGITADOR!$B$2,$A$2,DIGITADOR!$M$1,A102),\"\")","v":""},null,null,"",{"$f":"IF(K102=\"\",\"\",INDEX('OTRAS REFERENCIAS'!$AL:$AM,MATCH(K102,'OTRAS REFERENCIAS'!$AL:$AL,0),2))","v":""},null,{"$f":"IF(J102=\"\",\"\",INDEX(REFERENTES!$A:$D,MATCH(J102,REFERENTES!$C:$C,0),3))","v":""},null,null,null,null,null,null,null,{"$f":"IF(U102=\"\",\"\",INDEX('OTRAS REFERENCIAS'!$H$6:$I$11,MATCH(U102,'OTRAS REFERENCIAS'!$I$6:$I$11,0),1))","v":""},null,null,null,null,{"$f":"IF(Z102=\"\",\"\",INDEX('OTRAS REFERENCIAS'!$K$6:$L$11,MATCH(Z102,'OTRAS REFERENCIAS'!$L$6:$L$11,0),1))","v":""},null,null,null,null,{"$f":"IF(AE102=\"\",\"\",INDEX('OTRAS REFERENCIAS'!$N$6:$O$11,MATCH(AE102,'OTRAS REFERENCIAS'!$O$6:$O$11,0),1))","v":""},null,null,null,null,{"$f":"IF(AJ102=\"\",\"\",INDEX('OTRAS REFERENCIAS'!$Q$6:$R$11,MATCH(AJ102,'OTRAS REFERENCIAS'!$R$6:$R$11,0),1))","v":""},null,null,null,{"$f":"IF(AN102=\"\",\"\",INDEX('OTRAS REFERENCIAS'!$T$6:$U$11,MATCH(AN102,'OTRAS REFERENCIAS'!$U$6:$U$11,0),1))","v":""}]
[1,"",101,"","",{"$f":"IF(L103<>\"\",CONCATENATE(DIGITADOR!$B$2,$A$2,DIGITADOR!$M$1,A103),\"\")","v":""},null,null,"",{"$f":"IF(K103=\"\",\"\",INDEX('OTRAS REFERENCIAS'!$AL:$AM,MATCH(K103,'OTRAS REFERENCIAS'!$AL:$AL,0),2))","v":""},null,{"$f":"IF(J103=\"\",\"\",INDEX(REFERENTES!$A:$D,MATCH(J103,REFERENTES!$C:$C,0),3))","v":""},null,null,null,null,null,null,null,{"$f":"IF(U103=\"\",\"\",INDEX('OTRAS REFERENCIAS'!$H$6:$I$11,MATCH(U103,'OTRAS REFERENCIAS'!$I$6:$I$11,0),1))","v":""},null,null,null,null,{"$f":"IF(Z103=\"\",\"\",INDEX('OTRAS REFERENCIAS'!$K$6:$L$11,MATCH(Z103,'OTRAS REFERENCIAS'!$L$6:$L$11,0),1))","v":""},null,null,null,null,{"$f":"IF(AE103=\"\",\"\",INDEX('OTRAS REFERENCIAS'!$N$6:$O$11,MATCH(AE103,'OTRAS REFERENCIAS'!$O$6:$O$11,0),1))","v":""},null,null,null,null,{"$f":"IF(AJ103=\"\",\"\",INDEX('OTRAS REFERENCIAS'!$Q$6:$R$11,MATCH(AJ103,'OTRAS REFERENCIAS'!$R$6:$R$11,0),1))","v":""},null,null,null,{"$f":"IF(AN103=\"\",\"\",INDEX('OTRAS REFERENCIAS'!$T$6:$U$11,MATCH(AN103,'OTRAS REFERENCIAS'!$U$6:$U$11,0),1))","v":""}]
[1,"",102,"","",{"$f":"IF(L104<>\"\",CONCATENATE(DIGITADOR!$B$2,$A$2,DIGITADOR!$M$1,A104),\"\")","v":""},null,null,"",{"$f":"IF(K104=\"\",\"\",INDEX('OTRAS REFERENCIAS'!$AL:$AM,MATCH(K104,'OTRAS REFERENCIAS'!$AL:$AL,0),2))","v":""},null,{"$f":"IF(J104=\"\",\"\",INDEX(REFERENTES!$A:$D,MATCH(J104,REFERENTES!$C:$C,0),3))","v":""},null,null,null,null,null,null,null,{"$f":"IF(U104=\"\",\"\",INDEX('OTRAS REFERENCIAS'!$H$6:$I$11,MATCH(U104,'OTRAS REFERENCIAS'!$I$6:$I$11,0),1))","v":""},null,null,null,null,{"$f":"IF(Z104=\"\",\"\",INDEX('OTRAS REFERENCIAS'!$K$6:$L$11,MATCH(Z104,'OTRAS REFERENCIAS'!$L$6:$L$11,0),1))","v":""},null,null,null,null,{"$f":"IF(AE104=\"\",\"\",INDEX('OTRAS REFERENCIAS'!$N$6:$O$11,MATCH(AE104,'OTRAS REFERENCIAS'!$O$6:$O$11,0),1))","v":""},null,null,null,null,{"$f":"IF(AJ104=\"\",\"\",INDEX('OTRAS REFERENCIAS'!$Q$6:$R$11,MATCH(AJ104,'OTRAS REFERENCIAS'!$R$6:$R$11,0),1))","v":""},null,null,null,{"$f":"IF(AN104=\"\",\"\",INDEX('OTRAS REFERENCIAS'!$T$6:$U$11,MATCH(AN104,'OTRAS REFERENCIAS'!$U$6:$U$11,0),1))","v":""}]
[1,"",103,"","",{"$f":"IF(L105<>\"\",CONCATENATE(DIGITADOR!$B$2,$A$2,DIGITADOR!$M$1,A105),\"\")","v":""},null,null,"",{"$f":"IF(K105=\"\",\"\",INDEX('OTRAS REFERENCIAS'!$AL:$AM,MATCH(K105,'OTRAS REFERENCIAS'!$AL:$AL,0),2))","v":""},null,{"$f":"IF(J105=\"\",\"\",INDEX(REFERENTES!$A:$D,MATCH(J105,REFERENTES!$C:$C,0),3))","v":""},null,null,null,null,null,null,null,{"$f":"IF(U105=\"\",\"\",INDEX('OTRAS REFERENCIAS'!$H$6:$I$11,MATCH(U105,'OTRAS REFERENCIAS'!$I$6:$I$11,0),1))","v":""},null,null,null,null,{"$f":"IF(Z105=\"\",\"\",INDEX('OTRAS REFERENCIAS'!$K$6:$L$11,MATCH(Z105,'OTRAS REFERENCIAS'!$L$6:$L$11,0),1))","v":""},null,null,null,null,{"$f":"IF(AE105=\"\",\"\",INDEX('OTRAS REFERENCIAS'!$N$6:$O$11,MATCH(AE105,'OTRAS REFERENCIAS'!$O$6:$O$11,0),1))","v":""},null,null,null,null,{"$f":"IF(AJ105=\"\",\"\",INDEX('OTRAS REFERENCIAS'!$Q$6:$R$11,MATCH(AJ105,'OTRAS REFERENCIAS'!$R$6:$R$11,0),1))","v":""},null,null,null,{"$f":"IF(AN105=\"\",\"\",INDEX('OTRAS REFERENCIAS'!$T$6:$U$11,MATCH(AN105,'OTRAS REFERENCIAS'!$U$6:$U$11,0),1))","v":""}]
[1,"",104,"","",{"$f":"IF(L106<>\"\",CONCATENATE(DIGITADOR!$B$2,$A$2,DIGITADOR!$M$1,A106),\"\")","v":""},null,null,"",{"$f":"IF(K106=\"\",\"\",INDEX('OTRAS REFERENCIAS'!$AL:$AM,MATCH(K106,'OTRAS REFERENCIAS'!$AL:$AL,0),2))","v":""},null,{"$f":"IF(J106=\"\",\"\",INDEX(REFERENTES!$A:$D,MATCH(J106,REFERENTES!$C:$C,0),3))","v":""},null,null,null,null,null,null,null,{"$f":"IF(U106=\"\",\"\",INDEX('OTRAS REFERENCIAS'!$H$6:$I$11,MATCH(U106,'OTRAS REFERENCIAS'!$I$6:$I$11,0),1))","v":""},null,null,null,null,{"$f":"IF(Z106=\"\",\"\",INDEX('OTRAS REFERENCIAS'!$K$6:$L$11,MATCH(Z106,'OTRAS REFERENCIAS'!$L$6:$L$11,0),1))","v":""},null,null,null,null,{"$f":"IF(AE106=\"\",\"\",INDEX('OTRAS REFERENCIAS'!$N$6:$O$11,MATCH(AE106,'OTRAS REFERENCIAS'!$O$6:$O$11,0),1))","v":""},null,null,null,null,{"$f":"IF(AJ106=\"\",\"\",INDEX('OTRAS REFERENCIAS'!$Q$6:$R$11,MATCH(AJ106,'OTRAS REFERENCIAS'!$R$6:$R$11,0),1))","v":""},null,null,null,{"$f":"IF(AN106=\"\",\"\",INDEX('OTRAS REFERENCIAS'!$T$6:$U$11,MATCH(AN106,'OTRAS REFERENCIAS'!$U$6:$U$11,0),1))","v":""}]
[1,"",105,"","",{"$f":"IF(L107<>\"\",CONCATENATE(DIGITADOR!$B$2,$A$2,DIGITADOR!$M$1,A107),\"\")","v":""},null,null,"",{"$f":"IF(K107=\"\",\"\",INDEX('OTRAS REFERENCIAS'!$AL:$AM,MATCH(K107,'OTRAS REFERENCIAS'!$AL:$AL,0),2))","v":""},null,{"$f":"IF(J107=\"\",\"\",INDEX(REFERENTES!$A:$D,MATCH(J107,REFERENTES!$C:$C,0),3))","v":""},null,null,null,null,null,null,null,{"$f":"IF(U107=\"\",\"\",INDEX('OTRAS REFERENCIAS'!$H$6:$I$11,MATCH(U107,'OTRAS REFERENCIAS'!$I$6:$I$11,0),1))","v":""},null,null,null,null,{"$f":"IF(Z107=\"\",\"\",INDEX('OTRAS REFERENCIAS'!$K$6:$L$11,MATCH(Z107,'OTRAS REFERENCIAS'!$L$6:$L$11,0),1))","v":""},null,null,null,null,{"$f":"IF(AE107=\"\",\"\",INDEX('OTRAS REFERENCIAS'!$N$6:$O$11,MATCH(AE107,'OTRAS REFERENCIAS'!$O$6:$O$11,0),1))","v":""},null,null,null,null,{"$f":"IF(AJ107=\"\",\"\",INDEX('OTRAS REFERENCIAS'!$Q$6:$R$11,MATCH(AJ107,'OTRAS REFERENCIAS'!$R$6:$R$11,0),1))","v":""},null,null,null,{"$f":"IF(AN107=\"\",\"\",INDEX('OTRAS REFERENCIAS'!$T$6:$U$11,MATCH(AN107,'OTRAS REFERENCIAS'!$U$6:$U$11,0),1))","v":""}]
[1,"",106,"","",{"$f":"IF(L108<>\"\",CONCATENATE(DIGITADOR!$B$2,$A$2,DIGITADOR!$M$1,A108),\"\")","v":""},null,null,"",{"$f":"IF(K108=\"\",\"\",INDEX('OTRAS REFERENCIAS'!$AL:$AM,MATCH(K108,'OTRAS REFERENCIAS'!$AL:$AL,0),2))","v":""},null,{"$f":"IF(J108=\"\",\"\",INDEX(REFERENTES!$A:$D,MATCH(J108,REFERENTES!$C:$C,0),3))","v":""},null,null,null,null,null,null,null,{"$f":"IF(U108=\"\",\"\",INDEX('OTRAS REFERENCIAS'!$H$6:$I$11,MATCH(U108,'OTRAS REFERENCIAS'!$I$6:$I$11,0),1))","v":""},null,null,null,null,{"$f":"IF(Z108=\"\",\"\",INDEX('OTRAS REFERENCIAS'!$K$6:$L$11,MATCH(Z108,'OTRAS REFERENCIAS'!$L$6:$L$11,0),1))","v":""},null,null,null,null,{"$f":"IF(AE108=\"\",\"\",INDEX('OTRAS REFERENCIAS'!$N$6:$O$11,MATCH(AE108,'OTRAS REFERENCIAS'!$O$6:$O$11,0),1))","v":""},null,null,null,null,{"$f":"IF(AJ108=\"\",\"\",INDEX('OTRAS REFERENCIAS'!$Q$6:$R$11,MATCH(AJ108,'OTRAS REFERENCIAS'!$R$6:$R$11,0),1))","v":""},null,null,null,{"$f":"IF(AN108=\"\",\"\",INDEX('OTRAS REFERENCIAS'!$T$6:$U$11,MATCH(AN108,'OTRAS REFERENCIAS'!$U$6:$U$11,0),1))","v":""}]
[1,"",107,"","",{"$f":"IF(L109<>\"\",CONCATENATE(DIGITADOR!$B$2,$A$2,DIGITADOR!$M$1,A109),\"\")","v":""},null,null,"",{"$f":"IF(K109=\"\",\"\",INDEX('OTRAS REFERENCIAS'!$AL:$AM,MATCH(K109,'OTRAS REFERENCIAS'!$AL:$AL,0),2))","v":""},null,{"$f":"IF(J109=\"\",\"\",INDEX(REFERENTES!$A:$D,MATCH(J109,REFERENTES!$C:$C,0),3))","v":""},null,null,null,null,null,null,null,{"$f":"IF(U109=\"\",\"\",INDEX('OTRAS REFERENCIAS'!$H$6:$I$11,MATCH(U109,'OTRAS REFERENCIAS'!$I$6:$I$11,0),1))","v":""},null,null,null,null,{"$f":"IF(Z109=\"\",\"\",INDEX('OTRAS REFERENCIAS'!$K$6:$L$11,MATCH(Z109,'OTRAS REFERENCIAS'!$L$6:$L$11,0),1))","v":""},null,null,null,null,{"$f":"IF(AE109=\"\",\"\",INDEX('OTRAS REFERENCIAS'!$N$6:$O$11,MATCH(AE109,'OTRAS REFERENCIAS'!$O$6:$O$11,0),1))","v":""},null,null,null,null,{"$f":"IF(AJ109=\"\",\"\",INDEX('OTRAS REFERENCIAS'!$Q$6:$R$11,MATCH(AJ109,'OTRAS REFERENCIAS'!$R$6:$R$11,0),1))","v":""},null,null,null,{"$f":"IF(AN109=\"\",\"\",INDEX('OTRAS REFERENCIAS'!$T$6:$U$11,MATCH(AN109,'OTRAS REFERENCIAS'!$U$6:$U$11,0),1))","v":""}]
[1,"",108,"","",{"$f":"IF(L110<>\"\",CONCATENATE(DIGITADOR!$B$2,$A$2,DIGITADOR!$M$1,A110),\"\")","v":""},null,null,"",{"$f":"IF(K110=\"\",\"\",INDEX('OTRAS REFERENCIAS'!$AL:$AM,MATCH(K110,'OTRAS REFERENCIAS'!$AL:$AL,0),2))","v":""},null,{"$f":"IF(J110=\"\",\"\",INDEX(REFERENTES!$A:$D,MATCH(J110,REFERENTES!$C:$C,0),3))","v":""},null,null,null,null,null,null,null,{"$f":"IF(U110=\"\",\"\",INDEX('OTRAS REFERENCIAS'!$H$6:$I$11,MATCH(U110,'OTRAS REFERENCIAS'!$I$6:$I$11,0),1))","v":""},null,null,null,null,{"$f":"IF(Z110=\"\",\"\",INDEX('OTRAS REFERENCIAS'!$K$6:$L$11,MATCH(Z110,'OTRAS REFERENCIAS'!$L$6:$L$11,0),1))","v":""},null,null,null,null,{"$f":"IF(AE110=\"\",\"\",INDEX('OTRAS REFERENCIAS'!$N$6:$O$11,MATCH(AE110,'OTRAS REFERENCIAS'!$O$6:$O$11,0),1))","v":""},null,null,null,null,{"$f":"IF(AJ110=\"\",\"\",INDEX('OTRAS REFERENCIAS'!$Q$6:$R$11,MATCH(AJ110,'OTRAS REFERENCIAS'!$R$6:$R$11,0),1))","v":""},null,null,null,{"$f":"IF(AN110=\"\",\"\",INDEX('OTRAS REFERENCIAS'!$T$6:$U$11,MATCH(AN110,'OTRAS REFERENCIAS'!$U$6:$U$11,0),1))","v":""}]
[1,"",109,"","",{"$f":"IF(L111<>\"\",CONCATENATE(DIGITADOR!$B$2,$A$2,DIGITADOR!$M$1,A111),\"\")","v":""},null,null,"",{"$f":"IF(K111=\"\",\"\",INDEX('OTRAS REFERENCIAS'!$AL:$AM,MATCH(K111,'OTRAS REFERENCIAS'!$AL:$AL,0),2))","v":""},null,{"$f":"IF(J111=\"\",\"\",INDEX(REFERENTES!$A:$D,MATCH(J111,REFERENTES!$C:$C,0),3))","v":""},null,null,null,null,null,null,null,{"$f":"IF(U111=\"\",\"\",INDEX('OTRAS REFERENCIAS'!$H$6:$I$11,MATCH(U111,'OTRAS REFERENCIAS'!$I$6:$I$11,0),1))","v":""},null,null,null,null,{"$f":"IF(Z111=\"\",\"\",INDEX('OTRAS REFERENCIAS'!$K$6:$L$11,MATCH(Z111,'OTRAS REFERENCIAS'!$L$6:$L$11,0),1))","v":""},null,null,null,null,{"$f":"IF(AE111=\"\",\"\",INDEX('OTRAS REFERENCIAS'!$N$6:$O$11,MATCH(AE111,'OTRAS REFERENCIAS'!$O$6:$O$11,0),1))","v":""},null,null,null,null,{"$f":"IF(AJ111=\"\",\"\",INDEX('OTRAS REFERENCIAS'!$Q$6:$R$11,MATCH(AJ111,'OTRAS REFERENCIAS'!$R$6:$R$11,0),1))","v":""},null,null,null,{"$f":"IF(AN111=\"\",\"\",INDEX('OTRAS REFERENCIAS'!$T$6:$U$11,MATCH(AN111,'OTRAS REFERENCIAS'!$U$6:$U$11,0),1))","v":""}]
[1,"",110,"","",{"$f":"IF(L112<>\"\",CONCATENATE(DIGITADOR!$B$2,$A$2,DIGITADOR!$M$1,A112),\"\")","v":""},null,null,"",{"$f":"IF(K112=\"\",\"\",INDEX('OTRAS REFERENCIAS'!$AL:$AM,MATCH(K112,'OTRAS REFERENCIAS'!$AL:$AL,0),2))","v":""},null,{"$f":"IF(J112=\"\",\"\",INDEX(REFERENTES!$A:$D,MATCH(J112,REFERENTES!$C:$C,0),3))","v":""},null,null,null,null,null,null,null,{"$f":"IF(U112=\"\",\"\",INDEX('OTRAS REFERENCIAS'!$H$6:$I$11,MATCH(U112,'OTRAS REFERENCIAS'!$I$6:$I$11,0),1))","v":""},null,null,null,null,{"$f":"IF(Z112=\"\",\"\",INDEX('OTRAS REFERENCIAS'!$K$6:$L$11,MATCH(Z112,'OTRAS REFERENCIAS'!$L$6:$L$11,0),1))","v":""},null,null,null,null,{"$f":"IF(AE112=\"\",\"\",INDEX('OTRAS REFERENCIAS'!$N$6:$O$11,MATCH(AE112,'OTRAS REFERENCIAS'!$O$6:$O$11,0),1))","v":""},null,null,null,null,{"$f":"IF(AJ112=\"\",\"\",INDEX('OTRAS REFERENCIAS'!$Q$6:$R$11,MATCH(AJ112,'OTRAS REFERENCIAS'!$R$6:$R$11,0),1))","v":""},null,null,null,{"$f":"IF(AN112=\"\",\"\",INDEX('OTRAS REFERENCIAS'!$T$6:$U$11,MATCH(AN112,'OTRAS REFERENCIAS'!$U$6:$U$11,0),1))","v":""}]
[1,"",111,"","",{"$f":"IF(L113<>\"\",CONCATENATE(DIGITADOR!$B$2,$A$2,DIGITADOR!$M$1,A113),\"\")","v":""},null,null,"",{"$f":"IF(K113=\"\",\"\",INDEX('OTRAS REFERENCIAS'!$AL:$AM,MATCH(K113,'OTRAS REFERENCIAS'!$AL:$AL,0),2))","v":""},null,{"$f":"IF(J113=\"\",\"\",INDEX(REFERENTES!$A:$D,MATCH(J113,REFERENTES!$C:$C,0),3))","v":""},null,null,null,null,null,null,null,{"$f":"IF(U113=\"\",\"\",INDEX('OTRAS REFERENCIAS'!$H$6:$I$11,MATCH(U113,'OTRAS REFERENCIAS'!$I$6:$I$11,0),1))","v":""},null,null,null,null,{"$f":"IF(Z113=\"\",\"\",INDEX('OTRAS REFERENCIAS'!$K$6:$L$11,MATCH(Z113,'OTRAS REFERENCIAS'!$L$6:$L$11,0),1))","v":""},null,null,null,null,{"$f":"IF(AE113=\"\",\"\",INDEX('OTRAS REFERENCIAS'!$N$6:$O$11,MATCH(AE113,'OTRAS REFERENCIAS'!$O$6:$O$11,0),1))","v":""},null,null,null,null,{"$f":"IF(AJ113=\"\",\"\",INDEX('OTRAS REFERENCIAS'!$Q$6:$R$11,MATCH(AJ113,'OTRAS REFERENCIAS'!$R$6:$R$11,0),1))","v":""},null,null,null,{"$f":"IF(AN113=\"\",\"\",INDEX('OTRAS REFERENCIAS'!$T$6:$U$11,MATCH(AN113,'OTRAS REFERENCIAS'!$U$6:$U$11,0),1))","v":""}]
[1,"",112,"","",{"$f":"IF(L114<>\"\",CONCATENATE(DIGITADOR!$B$2,$A$2,DIGITADOR!$M$1,A114),\"\")","v":""},null,null,"",{"$f":"IF(K114=\"\",\"\",INDEX('OTRAS REFERENCIAS'!$AL:$AM,MATCH(K114,'OTRAS REFERENCIAS'!$AL:$AL,0),2))","v":""},null,{"$f":"IF(J114=\"\",\"\",INDEX(REFERENTES!$A:$D,MATCH(J114,REFERENTES!$C:$C,0),3))","v":""},null,null,null,null,null,null,null,{"$f":"IF(U114=\"\",\"\",INDEX('OTRAS REFERENCIAS'!$H$6:$I$11,MATCH(U114,'OTRAS REFERENCIAS'!$I$6:$I$11,0),1))","v":""},null,null,null,null,{"$f":"IF(Z114=\"\",\"\",INDEX('OTRAS REFERENCIAS'!$K$6:$L$11,MATCH(Z114,'OTRAS REFERENCIAS'!$L$6:$L$11,0),1))","v":""},null,null,null,null,{"$f":"IF(AE114=\"\",\"\",INDEX('OTRAS REFERENCIAS'!$N$6:$O$11,MATCH(AE114,'OTRAS REFERENCIAS'!$O$6:$O$11,0),1))","v":""},null,null,null,null,{"$f":"IF(AJ114=\"\",\"\",INDEX('OTRAS REFERENCIAS'!$Q$6:$R$11,MATCH(AJ114,'OTRAS REFERENCIAS'!$R$6:$R$11,0),1))","v":""},null,null,null,{"$f":"IF(AN114=\"\",\"\",INDEX('OTRAS REFERENCIAS'!$T$6:$U$11,MATCH(AN114,'OTRAS REFERENCIAS'!$U$6:$U$11,0),1))","v":""}]
[1,"",113,"","",{"$f":"IF(L115<>\"\",CONCATENATE(DIGITADOR!$B$2,$A$2,DIGITADOR!$M$1,A115),\"\")","v":""},null,null,"",{"$f":"IF(K115=\"\",\"\",INDEX('OTRAS REFERENCIAS'!$AL:$AM,MATCH(K115,'OTRAS REFERENCIAS'!$AL:$AL,0),2))","v":""},null,{"$f":"IF(J115=\"\",\"\",INDEX(REFERENTES!$A:$D,MATCH(J115,REFERENTES!$C:$C,0),3))","v":""},null,null,null,null,null,null,null,{"$f":"IF(U115=\"\",\"\",INDEX('OTRAS REFERENCIAS'!$H$6:$I$11,MATCH(U115,'OTRAS REFERENCIAS'!$I$6:$I$11,0),1))","v":""},null,null,null,null,{"$f":"IF(Z115=\"\",\"\",INDEX('OTRAS REFERENCIAS'!$K$6:$L$11,MATCH(Z115,'OTRAS REFERENCIAS'!$L$6:$L$11,0),1))","v":""},null,null,null,null,{"$f":"IF(AE115=\"\",\"\",INDEX('OTRAS REFERENCIAS'!$N$6:$O$11,MATCH(AE115,'OTRAS REFERENCIAS'!$O$6:$O$11,0),1))","v":""},null,null,null,null,{"$f":"IF(AJ115=\"\",\"\",INDEX('OTRAS REFERENCIAS'!$Q$6:$R$11,MATCH(AJ115,'OTRAS REFERENCIAS'!$R$6:$R$11,0),1))","v":""},null,null,null,{"$f":"IF(AN115=\"\",\"\",INDEX('OTRAS REFERENCIAS'!$T$6:$U$11,MATCH(AN115,'OTRAS REFERENCIAS'!$U$6:$U$11,0),1))","v":""}]
[1,"",114,"","",{"$f":"IF(L116<>\"\",CONCATENATE(DIGITADOR!$B$2,$A$2,DIGITADOR!$M$1,A116),\"\")","v":""},null,null,"",{"$f":"IF(K116=\"\",\"\",INDEX('OTRAS REFERENCIAS'!$AL:$AM,MATCH(K116,'OTRAS REFERENCIAS'!$AL:$AL,0),2))","v":""},null,{"$f":"IF(J116=\"\",\"\",INDEX(REFERENTES!$A:$D,MATCH(J116,REFERENTES!$C:$C,0),3))","v":""},null,null,null,null,null,null,null,{"$f":"IF(U116=\"\",\"\",INDEX('OTRAS REFERENCIAS'!$H$6:$I$11,MATCH(U116,'OTRAS REFERENCIAS'!$I$6:$I$11,0),1))","v":""},null,null,null,null,{"$f":"IF(Z116=\"\",\"\",INDEX('OTRAS REFERENCIAS'!$K$6:$L$11,MATCH(Z116,'OTRAS REFERENCIAS'!$L$6:$L$11,0),1))","v":""},null,null,null,null,{"$f":"IF(AE116=\"\",\"\",INDEX('OTRAS REFERENCIAS'!$N$6:$O$11,MATCH(AE116,'OTRAS REFERENCIAS'!$O$6:$O$11,0),1))","v":""},null,null,null,null,{"$f":"IF(AJ116=\"\",\"\",INDEX('OTRAS REFERENCIAS'!$Q$6:$R$11,MATCH(AJ116,'OTRAS REFERENCIAS'!$R$6:$R$11,0),1))","v":""},null,null,null,{"$f":"IF(AN116=\"\",\"\",INDEX('OTRAS REFERENCIAS'!$T$6:$U$11,MATCH(AN116,'OTRAS REFERENCIAS'!$U$6:$U$11,0),1))","v":""}]
[1,"",115,"","",{"$f":"IF(L117<>\"\",CONCATENATE(DIGITADOR!$B$2,$A$2,DIGITADOR!$M$1,A117),\"\")","v":""},null,null,"",{"$f":"IF(K117=\"\",\"\",INDEX('OTRAS REFERENCIAS'!$AL:$AM,MATCH(K117,'OTRAS REFERENCIAS'!$AL:$AL,0),2))","v":""},null,{"$f":"IF(J117=\"\",\"\",INDEX(REFERENTES!$A:$D,MATCH(J117,REFERENTES!$C:$C,0),3))","v":""},null,null,null,null,null,null,null,{"$f":"IF(U117=\"\",\"\",INDEX('OTRAS REFERENCIAS'!$H$6:$I$11,MATCH(U117,'OTRAS REFERENCIAS'!$I$6:$I$11,0),1))","v":""},null,null,null,null,{"$f":"IF(Z117=\"\",\"\",INDEX('OTRAS REFERENCIAS'!$K$6:$L$11,MATCH(Z117,'OTRAS REFERENCIAS'!$L$6:$L$11,0),1))","v":""},null,null,null,null,{"$f":"IF(AE117=\"\",\"\",INDEX('OTRAS REFERENCIAS'!$N$6:$O$11,MATCH(AE117,'OTRAS REFERENCIAS'!$O$6:$O$11,0),1))","v":""},null,null,null,null,{"$f":"IF(AJ117=\"\",\"\",INDEX('OTRAS REFERENCIAS'!$Q$6:$R$11,MATCH(AJ117,'OTRAS REFERENCIAS'!$R$6:$R$11,0),1))","v":""},null,null,null,{"$f":"IF(AN117=\"\",\"\",INDEX('OTRAS REFERENCIAS'!$T$6:$U$11,MATCH(AN117,'OTRAS REFERENCIAS'!$U$6:$U$11,0),1))","v":""}]
[1,"",116,"","",{"$f":"IF(L118<>\"\",CONCATENATE(DIGITADOR!$B$2,$A$2,DIGITADOR!$M$1,A118),\"\")","v":""},null,null,"",{"$f":"IF(K118=\"\",\"\",INDEX('OTRAS REFERENCIAS'!$AL:$AM,MATCH(K118,'OTRAS REFERENCIAS'!$AL:$AL,0),2))","v":""},null,{"$f":"IF(J118=\"\",\"\",INDEX(REFERENTES!$A:$D,MATCH(J118,REFERENTES!$C:$C,0),3))","v":""},null,null,null,null,null,null,null,{"$f":"IF(U118=\"\",\"\",INDEX('OTRAS REFERENCIAS'!$H$6:$I$11,MATCH(U118,'OTRAS REFERENCIAS'!$I$6:$I$11,0),1))","v":""},null,null,null,null,{"$f":"IF(Z118=\"\",\"\",INDEX('OTRAS REFERENCIAS'!$K$6:$L$11,MATCH(Z118,'OTRAS REFERENCIAS'!$L$6:$L$11,0),1))","v":""},null,null,null,null,{"$f":"IF(AE118=\"\",\"\",INDEX('OTRAS REFERENCIAS'!$N$6:$O$11,MATCH(AE118,'OTRAS REFERENCIAS'!$O$6:$O$11,0),1))","v":""},null,null,null,null,{"$f":"IF(AJ118=\"\",\"\",INDEX('OTRAS REFERENCIAS'!$Q$6:$R$11,MATCH(AJ118,'OTRAS REFERENCIAS'!$R$6:$R$11,0),1))","v":""},null,null,null,{"$f":"IF(AN118=\"\",\"\",INDEX('OTRAS REFERENCIAS'!$T$6:$U$11,MATCH(AN118,'OTRAS REFERENCIAS'!$U$6:$U$11,0),1))","v":""}]
[1,"",117,"","",{"$f":"IF(L119<>\"\",CONCATENATE(DIGITADOR!$B$2,$A$2,DIGITADOR!$M$1,A119),\"\")","v":""},null,null,"",{"$f":"IF(K119=\"\",\"\",INDEX('OTRAS REFERENCIAS'!$AL:$AM,MATCH(K119,'OTRAS REFERENCIAS'!$AL:$AL,0),2))","v":""},null,{"$f":"IF(J119=\"\",\"\",INDEX(REFERENTES!$A:$D,MATCH(J119,REFERENTES!$C:$C,0),3))","v":""},null,null,null,null,null,null,null,{"$f":"IF(U119=\"\",\"\",INDEX('OTRAS REFERENCIAS'!$H$6:$I$11,MATCH(U119,'OTRAS REFERENCIAS'!$I$6:$I$11,0),1))","v":""},null,null,null,null,{"$f":"IF(Z119=\"\",\"\",INDEX('OTRAS REFERENCIAS'!$K$6:$L$11,MATCH(Z119,'OTRAS REFERENCIAS'!$L$6:$L$11,0),1))","v":""},null,null,null,null,{"$f":"IF(AE119=\"\",\"\",INDEX('OTRAS REFERENCIAS'!$N$6:$O$11,MATCH(AE119,'OTRAS REFERENCIAS'!$O$6:$O$11,0),1))","v":""},null,null,null,null,{"$f":"IF(AJ119=\"\",\"\",INDEX('OTRAS REFERENCIAS'!$Q$6:$R$11,MATCH(AJ119,'OTRAS REFERENCIAS'!$R$6:$R$11,0),1))","v":""},null,null,null,{"$f":"IF(AN119=\"\",\"\",INDEX('OTRAS REFERENCIAS'!$T$6:$U$11,MATCH(AN119,'OTRAS REFERENCIAS'!$U$6:$U$11,0),1))","v":""}]
[1,"",118,"","",{"$f":"IF(L120<>\"\",CONCATENATE(DIGITADOR!$B$2,$A$2,DIGITADOR!$M$1,A120),\"\")","v":""},null,null,"",{"$f":"IF(K120=\"\",\"\",INDEX('OTRAS REFERENCIAS'!$AL:$AM,MATCH(K120,'OTRAS REFERENCIAS'!$AL:$AL,0),2))","v":""},null,{"$f":"IF(J120=\"\",\"\",INDEX(REFERENTES!$A:$D,MATCH(J120,REFERENTES!$C:$C,0),3))","v":""},null,null,null,null,null,null,null,{"$f":"IF(U120=\"\",\"\",INDEX('OTRAS REFERENCIAS'!$H$6:$I$11,MATCH(U120,'OTRAS REFERENCIAS'!$I$6:$I$11,0),1))","v":""},null,null,null,null,{"$f":"IF(Z120=\"\",\"\",INDEX('OTRAS REFERENCIAS'!$K$6:$L$11,MATCH(Z120,'OTRAS REFERENCIAS'!$L$6:$L$11,0),1))","v":""},null,null,null,null,{"$f":"IF(AE120=\"\",\"\",INDEX('OTRAS REFERENCIAS'!$N$6:$O$11,MATCH(AE120,'OTRAS REFERENCIAS'!$O$6:$O$11,0),1))","v":""},null,null,null,null,{"$f":"IF(AJ120=\"\",\"\",INDEX('OTRAS REFERENCIAS'!$Q$6:$R$11,MATCH(AJ120,'OTRAS REFERENCIAS'!$R$6:$R$11,0),1))","v":""},null,null,null,{"$f":"IF(AN120=\"\",\"\",INDEX('OTRAS REFERENCIAS'!$T$6:$U$11,MATCH(AN120,'OTRAS REFERENCIAS'!$U$6:$U$11,0),1))","v":""}]
[1,"",119,"","",{"$f":"IF(L121<>\"\",CONCATENATE(DIGITADOR!$B$2,$A$2,DIGITADOR!$M$1,A121),\"\")","v":""},null,null,"",{"$f":"IF(K121=\"\",\"\",INDEX('OTRAS REFERENCIAS'!$AL:$AM,MATCH(K121,'OTRAS REFERENCIAS'!$AL:$AL,0),2))","v":""},null,{"$f":"IF(J121=\"\",\"\",INDEX(REFERENTES!$A:$D,MATCH(J121,REFERENTES!$C:$C,0),3))","v":""},null,null,null,null,null,null,null,{"$f":"IF(U121=\"\",\"\",INDEX('OTRAS REFERENCIAS'!$H$6:$I$11,MATCH(U121,'OTRAS REFERENCIAS'!$I$6:$I$11,0),1))","v":""},null,null,null,null,{"$f":"IF(Z121=\"\",\"\",INDEX('OTRAS REFERENCIAS'!$K$6:$L$11,MATCH(Z121,'OTRAS REFERENCIAS'!$L$6:$L$11,0),1))","v":""},null,null,null,null,{"$f":"IF(AE121=\"\",\"\",INDEX('OTRAS REFERENCIAS'!$N$6:$O$11,MATCH(AE121,'OTRAS REFERENCIAS'!$O$6:$O$11,0),1))","v":""},null,null,null,null,{"$f":"IF(AJ121=\"\",\"\",INDEX('OTRAS REFERENCIAS'!$Q$6:$R$11,MATCH(AJ121,'OTRAS REFERENCIAS'!$R$6:$R$11,0),1))","v":""},null,null,null,{"$f":"IF(AN121=\"\",\"\",INDEX('OTRAS REFERENCIAS'!$T$6:$U$11,MATCH(AN121,'OTRAS REFERENCIAS'!$U$6:$U$11,0),1))","v":""}]
[1,"",120,"","",{"$f":"IF(L122<>\"\",CONCATENATE(DIGITADOR!$B$2,$A$2,DIGITADOR!$M$1,A122),\"\")","v":""},null,null,"",{"$f":"IF(K122=\"\",\"\",INDEX('OTRAS REFERENCIAS'!$AL:$AM,MATCH(K122,'OTRAS REFERENCIAS'!$AL:$AL,0),2))","v":""},null,{"$f":"IF(J122=\"\",\"\",INDEX(REFERENTES!$A:$D,MATCH(J122,REFERENTES!$C:$C,0),3))","v":""},null,null,null,null,null,null,null,{"$f":"IF(U122=\"\",\"\",INDEX('OTRAS REFERENCIAS'!$H$6:$I$11,MATCH(U122,'OTRAS REFERENCIAS'!$I$6:$I$11,0),1))","v":""},null,null,null,null,{"$f":"IF(Z122=\"\",\"\",INDEX('OTRAS REFERENCIAS'!$K$6:$L$11,MATCH(Z122,'OTRAS REFERENCIAS'!$L$6:$L$11,0),1))","v":""},null,null,null,null,{"$f":"IF(AE122=\"\",\"\",INDEX('OTRAS REFERENCIAS'!$N$6:$O$11,MATCH(AE122,'OTRAS REFERENCIAS'!$O$6:$O$11,0),1))","v":""},null,null,null,null,{"$f":"IF(AJ122=\"\",\"\",INDEX('OTRAS REFERENCIAS'!$Q$6:$R$11,MATCH(AJ122,'OTRAS REFERENCIAS'!$R$6:$R$11,0),1))","v":""},null,null,null,{"$f":"IF(AN122=\"\",\"\",INDEX('OTRAS REFERENCIAS'!$T$6:$U$11,MATCH(AN122,'OTRAS REFERENCIAS'!$U$6:$U$11,0),1))","v":""}]
[1,"",121,"","",{"$f":"IF(L123<>\"\",CONCATENATE(DIGITADOR!$B$2,$A$2,DIGITADOR!$M$1,A123),\"\")","v":""},null,null,"",{"$f":"IF(K123=\"\",\"\",INDEX('OTRAS REFERENCIAS'!$AL:$AM,MATCH(K123,'OTRAS REFERENCIAS'!$AL:$AL,0),2))","v":""},null,{"$f":"IF(J123=\"\",\"\",INDEX(REFERENTES!$A:$D,MATCH(J123,REFERENTES!$C:$C,0),3))","v":""},null,null,null,null,null,null,null,{"$f":"IF(U123=\"\",\"\",INDEX('OTRAS REFERENCIAS'!$H$6:$I$11,MATCH(U123,'OTRAS REFERENCIAS'!$I$6:$I$11,0),1))","v":""},null,null,null,null,{"$f":"IF(Z123=\"\",\"\",INDEX('OTRAS REFERENCIAS'!$K$6:$L$11,MATCH(Z123,'OTRAS REFERENCIAS'!$L$6:$L$11,0),1))","v":""},null,null,null,null,{"$f":"IF(AE123=\"\",\"\",INDEX('OTRAS REFERENCIAS'!$N$6:$O$11,MATCH(AE123,'OTRAS REFERENCIAS'!$O$6:$O$11,0),1))","v":""},null,null,null,null,{"$f":"IF(AJ123=\"\",\"\",INDEX('OTRAS REFERENCIAS'!$Q$6:$R$11,MATCH(AJ123,'OTRAS REFERENCIAS'!$R$6:$R$11,0),1))","v":""},null,null,null,{"$f":"IF(AN123=\"\",\"\",INDEX('OTRAS REFERENCIAS'!$T$6:$U$11,MATCH(AN123,'OTRAS REFERENCIAS'!$U$6:$U$11,0),1))","v":""}]
[1,"",122,"","",{"$f":"IF(L124<>\"\",CONCATENATE(DIGITADOR!$B$2,$A$2,DIGITADOR!$M$1,A124),\"\")","v":""},null,null,"",{"$f":"IF(K124=\"\",\"\",INDEX('OTRAS REFERENCIAS'!$AL:$AM,MATCH(K124,'OTRAS REFERENCIAS'!$AL:$AL,0),2))","v":""},null,{"$f":"IF(J124=\"\",\"\",INDEX(REFERENTES!$A:$D,MATCH(J124,REFERENTES!$C:$C,0),3))","v":""},null,null,null,null,null,null,null,{"$f":"IF(U124=\"\",\"\",INDEX('OTRAS REFERENCIAS'!$H$6:$I$11,MATCH(U124,'OTRAS REFERENCIAS'!$I$6:$I$11,0),1))","v":""},null,null,null,null,{"$f":"IF(Z124=\"\",\"\",INDEX('OTRAS REFERENCIAS'!$K$6:$L$11,MATCH(Z124,'OTRAS REFERENCIAS'!$L$6:$L$11,0),1))","v":""},null,null,null,null,{"$f":"IF(AE124=\"\",\"\",INDEX('OTRAS REFERENCIAS'!$N$6:$O$11,MATCH(AE124,'OTRAS REFERENCIAS'!$O$6:$O$11,0),1))","v":""},null,null,null,null,{"$f":"IF(AJ124=\"\",\"\",INDEX('OTRAS REFERENCIAS'!$Q$6:$R$11,MATCH(AJ124,'OTRAS REFERENCIAS'!$R$6:$R$11,0),1))","v":""},null,null,null,{"$f":"IF(AN124=\"\",\"\",INDEX('OTRAS REFERENCIAS'!$T$6:$U$11,MATCH(AN124,'OTRAS REFERENCIAS'!$U$6:$U$11,0),1))","v":""}]
[1,"",123,"","",{"$f":"IF(L125<>\"\",CONCATENATE(DIGITADOR!$B$2,$A$2,DIGITADOR!$M$1,A125),\"\")","v":""},null,null,"",{"$f":"IF(K125=\"\",\"\",INDEX('OTRAS REFERENCIAS'!$AL:$AM,MATCH(K125,'OTRAS REFERENCIAS'!$AL:$AL,0),2))","v":""},null,{"$f":"IF(J125=\"\",\"\",INDEX(REFERENTES!$A:$D,MATCH(J125,REFERENTES!$C:$C,0),3))","v":""},null,null,null,null,null,null,null,{"$f":"IF(U125=\"\",\"\",INDEX('OTRAS REFERENCIAS'!$H$6:$I$11,MATCH(U125,'OTRAS REFERENCIAS'!$I$6:$I$11,0),1))","v":""},null,null,null,null,{"$f":"IF(Z125=\"\",\"\",INDEX('OTRAS REFERENCIAS'!$K$6:$L$11,MATCH(Z125,'OTRAS REFERENCIAS'!$L$6:$L$11,0),1))","v":""},null,null,null,null,{"$f":"IF(AE125=\"\",\"\",INDEX('OTRAS REFERENCIAS'!$N$6:$O$11,MATCH(AE125,'OTRAS REFERENCIAS'!$O$6:$O$11,0),1))","v":""},null,null,null,null,{"$f":"IF(AJ125=\"\",\"\",INDEX('OTRAS REFERENCIAS'!$Q$6:$R$11,MATCH(AJ125,'OTRAS REFERENCIAS'!$R$6:$R$11,0),1))","v":""},null,null,null,{"$f":"IF(AN125=\"\",\"\",INDEX('OTRAS REFERENCIAS'!$T$6:$U$11,MATCH(AN125,'OTRAS REFERENCIAS'!$U$6:$U$11,0),1))","v":""}]
[1,"",124,"","",{"$f":"IF(L126<>\"\",CONCATENATE(DIGITADOR!$B$2,$A$2,DIGITADOR!$M$1,A126),\"\")","v":""},null,null,"",{"$f":"IF(K126=\"\",\"\",INDEX('OTRAS REFERENCIAS'!$AL:$AM,MATCH(K126,'OTRAS REFERENCIAS'!$AL:$AL,0),2))","v":""},null,{"$f":"IF(J126=\"\",\"\",INDEX(REFERENTES!$A:$D,MATCH(J126,REFERENTES!$C:$C,0),3))","v":""},null,null,null,null,null,null,null,{"$f":"IF(U126=\"\",\"\",INDEX('OTRAS REFERENCIAS'!$H$6:$I$11,MATCH(U126,'OTRAS REFERENCIAS'!$I$6:$I$11,0),1))","v":""},null,null,null,null,{"$f":"IF(Z126=\"\",\"\",INDEX('OTRAS REFERENCIAS'!$K$6:$L$11,MATCH(Z126,'OTRAS REFERENCIAS'!$L$6:$L$11,0),1))","v":""},null,null,null,null,{"$f":"IF(AE126=\"\",\"\",INDEX('OTRAS REFERENCIAS'!$N$6:$O$11,MATCH(AE126,'OTRAS REFERENCIAS'!$O$6:$O$11,0),1))","v":""},null,null,null,null,{"$f":"IF(AJ126=\"\",\"\",INDEX('OTRAS REFERENCIAS'!$Q$6:$R$11,MATCH(AJ126,'OTRAS REFERENCIAS'!$R$6:$R$11,0),1))","v":""},null,null,null,{"$f":"IF(AN126=\"\",\"\",INDEX('OTRAS REFERENCIAS'!$T$6:$U$11,MATCH(AN126,'OTRAS REFERENCIAS'!$U$6:$U$11,0),1))","v":""}]
[1,"",125,"","",{"$f":"IF(L127<>\"\",CONCATENATE(DIGITADOR!$B$2,$A$2,DIGITADOR!$M$1,A127),\"\")","v":""},null,null,"",{"$f":"IF(K127=\"\",\"\",INDEX('OTRAS REFERENCIAS'!$AL:$AM,MATCH(K127,'OTRAS REFERENCIAS'!$AL:$AL,0),2))","v":""},null,{"$f":"IF(J127=\"\",\"\",INDEX(REFERENTES!$A:$D,MATCH(J127,REFERENTES!$C:$C,0),3))","v":""},null,null,null,null,null,null,null,{"$f":"IF(U127=\"\",\"\",INDEX('OTRAS REFERENCIAS'!$H$6:$I$11,MATCH(U127,'OTRAS REFERENCIAS'!$I$6:$I$11,0),1))","v":""},null,null,null,null,{"$f":"IF(Z127=\"\",\"\",INDEX('OTRAS REFERENCIAS'!$K$6:$L$11,MATCH(Z127,'OTRAS REFERENCIAS'!$L$6:$L$11,0),1))","v":""},null,null,null,null,{"$f":"IF(AE127=\"\",\"\",INDEX('OTRAS REFERENCIAS'!$N$6:$O$11,MATCH(AE127,'OTRAS REFERENCIAS'!$O$6:$O$11,0),1))","v":""},null,null,null,null,{"$f":"IF(AJ127=\"\",\"\",INDEX('OTRAS REFERENCIAS'!$Q$6:$R$11,MATCH(AJ127,'OTRAS REFERENCIAS'!$R$6:$R$11,0),1))","v":""},null,null,null,{"$f":"IF(AN127=\"\",\"\",INDEX('OTRAS REFERENCIAS'!$T$6:$U$11,MATCH(AN127,'OTRAS REFERENCIAS'!$U$6:$U$11,0),1))","v":""}]
[1,"",126,"","",{"$f":"IF(L128<>\"\",CONCATENATE(DIGITADOR!$B$2,$A$2,DIGITADOR!$M$1,A128),\"\")","v":""},null,null,"",{"$f":"IF(K128=\"\",\"\",INDEX('OTRAS REFERENCIAS'!$AL:$AM,MATCH(K128,'OTRAS REFERENCIAS'!$AL:$AL,0),2))","v":""},null,{"$f":"IF(J128=\"\",\"\",INDEX(REFERENTES!$A:$D,MATCH(J128,REFERENTES!$C:$C,0),3))","v":""},null,null,null,null,null,null,null,{"$f":"IF(U128=\"\",\"\",INDEX('OTRAS REFERENCIAS'!$H$6:$I$11,MATCH(U128,'OTRAS REFERENCIAS'!$I$6:$I$11,0),1))","v":""},null,null,null,null,{"$f":"IF(Z128=\"\",\"\",INDEX('OTRAS REFERENCIAS'!$K$6:$L$11,MATCH(Z128,'OTRAS REFERENCIAS'!$L$6:$L$11,0),1))","v":""},null,null,null,null,{"$f":"IF(AE128=\"\",\"\",INDEX('OTRAS REFERENCIAS'!$N$6:$O$11,MATCH(AE128,'OTRAS REFERENCIAS'!$O$6:$O$11,0),1))","v":""},null,null,null,null,{"$f":"IF(AJ128=\"\",\"\",INDEX('OTRAS REFERENCIAS'!$Q$6:$R$11,MATCH(AJ128,'OTRAS REFERENCIAS'!$R$6:$R$11,0),1))","v":""},null,null,null,{"$f":"IF(AN128=\"\",\"\",INDEX('OTRAS REFERENCIAS'!$T$6:$U$11,MATCH(AN128,'OTRAS REFERENCIAS'!$U$6:$U$11,0),1))","v":""}]
[1,"",127,"","",{"$f":"IF(L129<>\"\",CONCATENATE(DIGITADOR!$B$2,$A$2,DIGITADOR!$M$1,A129),\"\")","v":""},null,null,"",{"$f":"IF(K129=\"\",\"\",INDEX('OTRAS REFERENCIAS'!$AL:$AM,MATCH(K129,'OTRAS REFERENCIAS'!$AL:$AL,0),2))","v":""},null,{"$f":"IF(J129=\"\",\"\",INDEX(REFERENTES!$A:$D,MATCH(J129,REFERENTES!$C:$C,0),3))","v":""},null,null,null,null,null,null,null,{"$f":"IF(U129=\"\",\"\",INDEX('OTRAS REFERENCIAS'!$H$6:$I$11,MATCH(U129,'OTRAS REFERENCIAS'!$I$6:$I$11,0),1))","v":""},null,null,null,null,{"$f":"IF(Z129=\"\",\"\",INDEX('OTRAS REFERENCIAS'!$K$6:$L$11,MATCH(Z129,'OTRAS REFERENCIAS'!$L$6:$L$11,0),1))","v":""},null,null,null,null,{"$f":"IF(AE129=\"\",\"\",INDEX('OTRAS REFERENCIAS'!$N$6:$O$11,MATCH(AE129,'OTRAS REFERENCIAS'!$O$6:$O$11,0),1))","v":""},null,null,null,null,{"$f":"IF(AJ129=\"\",\"\",INDEX('OTRAS REFERENCIAS'!$Q$6:$R$11,MATCH(AJ129,'OTRAS REFERENCIAS'!$R$6:$R$11,0),1))","v":""},null,null,null,{"$f":"IF(AN129=\"\",\"\",INDEX('OTRAS REFERENCIAS'!$T$6:$U$11,MATCH(AN129,'OTRAS REFERENCIAS'!$U$6:$U$11,0),1))","v":""}]
[1,"",128,"","",{"$f":"IF(L130<>\"\",CONCATENATE(DIGITADOR!$B$2,$A$2,DIGITADOR!$M$1,A130),\"\")","v":""},null,null,"",{"$f":"IF(K130=\"\",\"\",INDEX('OTRAS REFERENCIAS'!$AL:$AM,MATCH(K130,'OTRAS REFERENCIAS'!$AL:$AL,0),2))","v":""},null,{"$f":"IF(J130=\"\",\"\",INDEX(REFERENTES!$A:$D,MATCH(J130,REFERENTES!$C:$C,0),3))","v":""},null,null,null,null,null,null,null,{"$f":"IF(U130=\"\",\"\",INDEX('OTRAS REFERENCIAS'!$H$6:$I$11,MATCH(U130,'OTRAS REFERENCIAS'!$I$6:$I$11,0),1))","v":""},null,null,null,null,{"$f":"IF(Z130=\"\",\"\",INDEX('OTRAS REFERENCIAS'!$K$6:$L$11,MATCH(Z130,'OTRAS REFERENCIAS'!$L$6:$L$11,0),1))","v":""},null,null,null,null,{"$f":"IF(AE130=\"\",\"\",INDEX('OTRAS REFERENCIAS'!$N$6:$O$11,MATCH(AE130,'OTRAS REFERENCIAS'!$O$6:$O$11,0),1))","v":""},null,null,null,null,{"$f":"IF(AJ130=\"\",\"\",INDEX('OTRAS REFERENCIAS'!$Q$6:$R$11,MATCH(AJ130,'OTRAS REFERENCIAS'!$R$6:$R$11,0),1))","v":""},null,null,null,{"$f":"IF(AN130=\"\",\"\",INDEX('OTRAS REFERENCIAS'!$T$6:$U$11,MATCH(AN130,'OTRAS REFERENCIAS'!$U$6:$U$11,0),1))","v":""}]
[1,"",129,"",{"$f":"CONCATENATE(I131,L131)","v":""},{"$f":"IF(L131<>\"\",CONCATENATE(DIGITADOR!$B$2,$A$2,DIGITADOR!$M$1,A131),\"\")","v":""},null,null,{"$f":"IF(G131<>\"\",G131+H131,\"\")","v":""},{"$f":"IF(K131=\"\",\"\",INDEX('OTRAS REFERENCIAS'!$AL:$AM,MATCH(K131,'OTRAS REFERENCIAS'!$AL:$AL,0),2))","v":""},null,{"$f":"IF(J131=\"\",\"\",INDEX(REFERENTES!$A:$D,MATCH(J131,REFERENTES!$C:$C,0),3))","v":""},null,null,null,null,null,null,null,{"$f":"IF(U131=\"\",\"\",INDEX('OTRAS REFERENCIAS'!$H$6:$I$11,MATCH(U131,'OTRAS REFERENCIAS'!$I$6:$I$11,0),1))","v":""},null,null,null,null,{"$f":"IF(Z131=\"\",\"\",INDEX('OTRAS REFERENCIAS'!$K$6:$L$11,MATCH(Z131,'OTRAS REFERENCIAS'!$L$6:$L$11,0),1))","v":""},null,null,null,null,{"$f":"IF(AE131=\"\",\"\",INDEX('OTRAS REFERENCIAS'!$N$6:$O$11,MATCH(AE131,'OTRAS REFERENCIAS'!$O$6:$O$11,0),1))","v":""},null,null,null,null,{"$f":"IF(AJ131=\"\",\"\",INDEX('OTRAS REFERENCIAS'!$Q$6:$R$11,MATCH(AJ131,'OTRAS REFERENCIAS'!$R$6:$R$11,0),1))","v":""},null,null,null,{"$f":"IF(AN131=\"\",\"\",INDEX('OTRAS REFERENCIAS'!$T$6:$U$11,MATCH(AN131,'OTRAS REFERENCIAS'!$U$6:$U$11,0),1))","v":""}]
[1,"",130,{"$f":"IF(L132=\"\",\"\",CONCATENATE(C132,F132))","v":""},"",{"$f":"IF(L132<>\"\",CONCATENATE(DIGITADOR!$B$2,$A$2,DIGITADOR!$M$1,A132),\"\")","v":""},null,null,"",{"$f":"IF(K132=\"\",\"\",INDEX('OTRAS REFERENCIAS'!$AL:$AM,MATCH(K132,'OTRAS REFERENCIAS'!$AL:$AL,0),2))","v":""},null,{"$f":"IF(J132=\"\",\"\",INDEX(REFERENTES!$A:$D,MATCH(J132,REFERENTES!$C:$C,0),3))","v":""},null,null,null,null,null,null,null,{"$f":"IF(U132=\"\",\"\",INDEX('OTRAS REFERENCIAS'!$H$6:$I$11,MATCH(U132,'OTRAS REFERENCIAS'!$I$6:$I$11,0),1))","v":""},null,null,null,null,{"$f":"IF(Z132=\"\",\"\",INDEX('OTRAS REFERENCIAS'!$K$6:$L$11,MATCH(Z132,'OTRAS REFERENCIAS'!$L$6:$L$11,0),1))","v":""},null,null,null,null,{"$f":"IF(AE132=\"\",\"\",INDEX('OTRAS REFERENCIAS'!$N$6:$O$11,MATCH(AE132,'OTRAS REFERENCIAS'!$O$6:$O$11,0),1))","v":""},null,null,null,null,{"$f":"IF(AJ132=\"\",\"\",INDEX('OTRAS REFERENCIAS'!$Q$6:$R$11,MATCH(AJ132,'OTRAS REFERENCIAS'!$R$6:$R$11,0),1))","v":""},null,null,null,{"$f":"IF(AN132=\"\",\"\",INDEX('OTRAS REFERENCIAS'!$T$6:$U$11,MATCH(AN132,'OTRAS REFERENCIAS'!$U$6:$U$11,0),1))","v":""}]
[{"$f":"IF(L133=L132,A132,A132+1)","v":1},{"$f":"IF(F133<>F132, F133,\"\")","v":""},131,"","",{"$f":"IF(L133<>\"\",CONCATENATE(DIGITADOR!$B$2,$A$2,DIGITADOR!$M$1,A133),\"\")","v":""},null,null,"",{"$f":"IF(K133=\"\",\"\",INDEX('OTRAS REFERENCIAS'!$AL:$AM,MATCH(K133,'OTRAS REFERENCIAS'!$AL:$AL,0),2))","v":""},null,{"$f":"IF(J133=\"\",\"\",INDEX(REFERENTES!$A:$D,MATCH(J133,REFERENTES!$C:$C,0),3))","v":""},null,null,null,null,null,null,null,{"$f":"IF(U133=\"\",\"\",INDEX('OTRAS REFERENCIAS'!$H$6:$I$11,MATCH(U133,'OTRAS REFERENCIAS'!$I$6:$I$11,0),1))","v":""},null,null,null,null,{"$f":"IF(Z133=\"\",\"\",INDEX('OTRAS REFERENCIAS'!$K$6:$L$11,MATCH(Z133,'OTRAS REFERENCIAS'!$L$6:$L$11,0),1))","v":""},null,null,null,null,{"$f":"IF(AE133=\"\",\"\",INDEX('OTRAS REFERENCIAS'!$N$6:$O$11,MATCH(AE133,'OTRAS REFERENCIAS'!$O$6:$O$11,0),1))","v":""},null,null,null,null,{"$f":"IF(AJ133=\"\",\"\",INDEX('OTRAS REFERENCIAS'!$Q$6:$R$11,MATCH(AJ133,'OTRAS REFERENCIAS'!$R$6:$R$11,0),1))","v":""},null,null,null,{"$f":"IF(AN133=\"\",\"\",INDEX('OTRAS REFERENCIAS'!$T$6:$U$11,MATCH(AN133,'OTRAS REFERENCIAS'!$U$6:$U$11,0),1))","v":""}]
[1,"",132,"","",{"$f":"IF(L134<>\"\",CONCATENATE(DIGITADOR!$B$2,$A$2,DIGITADOR!$M$1,A134),\"\")","v":""},null,null,"",{"$f":"IF(K134=\"\",\"\",INDEX('OTRAS REFERENCIAS'!$AL:$AM,MATCH(K134,'OTRAS REFERENCIAS'!$AL:$AL,0),2))","v":""},null,{"$f":"IF(J134=\"\",\"\",INDEX(REFERENTES!$A:$D,MATCH(J134,REFERENTES!$C:$C,0),3))","v":""},null,null,null,null,null,null,null,{"$f":"IF(U134=\"\",\"\",INDEX('OTRAS REFERENCIAS'!$H$6:$I$11,MATCH(U134,'OTRAS REFERENCIAS'!$I$6:$I$11,0),1))","v":""},null,null,null,null,{"$f":"IF(Z134=\"\",\"\",INDEX('OTRAS REFERENCIAS'!$K$6:$L$11,MATCH(Z134,'OTRAS REFERENCIAS'!$L$6:$L$11,0),1))","v":""},null,null,null,null,{"$f":"IF(AE134=\"\",\"\",INDEX('OTRAS REFERENCIAS'!$N$6:$O$11,MATCH(AE134,'OTRAS REFERENCIAS'!$O$6:$O$11,0),1))","v":""},null,null,null,null,{"$f":"IF(AJ134=\"\",\"\",INDEX('OTRAS REFERENCIAS'!$Q$6:$R$11,MATCH(AJ134,'OTRAS REFERENCIAS'!$R$6:$R$11,0),1))","v":""},null,null,null,{"$f":"IF(AN134=\"\",\"\",INDEX('OTRAS REFERENCIAS'!$T$6:$U$11,MATCH(AN134,'OTRAS REFERENCIAS'!$U$6:$U$11,0),1))","v":""}]
[1,"",133,"","",{"$f":"IF(L135<>\"\",CONCATENATE(DIGITADOR!$B$2,$A$2,DIGITADOR!$M$1,A135),\"\")","v":""},null,null,"",{"$f":"IF(K135=\"\",\"\",INDEX('OTRAS REFERENCIAS'!$AL:$AM,MATCH(K135,'OTRAS REFERENCIAS'!$AL:$AL,0),2))","v":""},null,{"$f":"IF(J135=\"\",\"\",INDEX(REFERENTES!$A:$D,MATCH(J135,REFERENTES!$C:$C,0),3))","v":""},null,null,null,null,null,null,null,{"$f":"IF(U135=\"\",\"\",INDEX('OTRAS REFERENCIAS'!$H$6:$I$11,MATCH(U135,'OTRAS REFERENCIAS'!$I$6:$I$11,0),1))","v":""},null,null,null,null,{"$f":"IF(Z135=\"\",\"\",INDEX('OTRAS REFERENCIAS'!$K$6:$L$11,MATCH(Z135,'OTRAS REFERENCIAS'!$L$6:$L$11,0),1))","v":""},null,null,null,null,{"$f":"IF(AE135=\"\",\"\",INDEX('OTRAS REFERENCIAS'!$N$6:$O$11,MATCH(AE135,'OTRAS REFERENCIAS'!$O$6:$O$11,0),1))","v":""},null,null,null,null,{"$f":"IF(AJ135=\"\",\"\",INDEX('OTRAS REFERENCIAS'!$Q$6:$R$11,MATCH(AJ135,'OTRAS REFERENCIAS'!$R$6:$R$11,0),1))","v":""},null,null,null,{"$f":"IF(AN135=\"\",\"\",INDEX('OTRAS REFERENCIAS'!$T$6:$U$11,MATCH(AN135,'OTRAS REFERENCIAS'!$U$6:$U$11,0),1))","v":""}]
[1,"",134,"","",{"$f":"IF(L136<>\"\",CONCATENATE(DIGITADOR!$B$2,$A$2,DIGITADOR!$M$1,A136),\"\")","v":""},null,null,"",{"$f":"IF(K136=\"\",\"\",INDEX('OTRAS REFERENCIAS'!$AL:$AM,MATCH(K136,'OTRAS REFERENCIAS'!$AL:$AL,0),2))","v":""},null,{"$f":"IF(J136=\"\",\"\",INDEX(REFERENTES!$A:$D,MATCH(J136,REFERENTES!$C:$C,0),3))","v":""},null,null,null,null,null,null,null,{"$f":"IF(U136=\"\",\"\",INDEX('OTRAS REFERENCIAS'!$H$6:$I$11,MATCH(U136,'OTRAS REFERENCIAS'!$I$6:$I$11,0),1))","v":""},null,null,null,null,{"$f":"IF(Z136=\"\",\"\",INDEX('OTRAS REFERENCIAS'!$K$6:$L$11,MATCH(Z136,'OTRAS REFERENCIAS'!$L$6:$L$11,0),1))","v":""},null,null,null,null,{"$f":"IF(AE136=\"\",\"\",INDEX('OTRAS REFERENCIAS'!$N$6:$O$11,MATCH(AE136,'OTRAS REFERENCIAS'!$O$6:$O$11,0),1))","v":""},null,null,null,null,{"$f":"IF(AJ136=\"\",\"\",INDEX('OTRAS REFERENCIAS'!$Q$6:$R$11,MATCH(AJ136,'OTRAS REFERENCIAS'!$R$6:$R$11,0),1))","v":""},null,null,null,{"$f":"IF(AN136=\"\",\"\",INDEX('OTRAS REFERENCIAS'!$T$6:$U$11,MATCH(AN136,'OTRAS REFERENCIAS'!$U$6:$U$11,0),1))","v":""}]
[1,"",135,"","",{"$f":"IF(L137<>\"\",CONCATENATE(DIGITADOR!$B$2,$A$2,DIGITADOR!$M$1,A137),\"\")","v":""},null,null,"",{"$f":"IF(K137=\"\",\"\",INDEX('OTRAS REFERENCIAS'!$AL:$AM,MATCH(K137,'OTRAS REFERENCIAS'!$AL:$AL,0),2))","v":""},null,{"$f":"IF(J137=\"\",\"\",INDEX(REFERENTES!$A:$D,MATCH(J137,REFERENTES!$C:$C,0),3))","v":""},null,null,null,null,null,null,null,{"$f":"IF(U137=\"\",\"\",INDEX('OTRAS REFERENCIAS'!$H$6:$I$11,MATCH(U137,'OTRAS REFERENCIAS'!$I$6:$I$11,0),1))","v":""},null,null,null,null,{"$f":"IF(Z137=\"\",\"\",INDEX('OTRAS REFERENCIAS'!$K$6:$L$11,MATCH(Z137,'OTRAS REFERENCIAS'!$L$6:$L$11,0),1))","v":""},null,null,null,null,{"$f":"IF(AE137=\"\",\"\",INDEX('OTRAS REFERENCIAS'!$N$6:$O$11,MATCH(AE137,'OTRAS REFERENCIAS'!$O$6:$O$11,0),1))","v":""},null,null,null,null,{"$f":"IF(AJ137=\"\",\"\",INDEX('OTRAS REFERENCIAS'!$Q$6:$R$11,MATCH(AJ137,'OTRAS REFERENCIAS'!$R$6:$R$11,0),1))","v":""},null,null,null,{"$f":"IF(AN137=\"\",\"\",INDEX('OTRAS REFERENCIAS'!$T$6:$U$11,MATCH(AN137,'OTRAS REFERENCIAS'!$U$6:$U$11,0),1))","v":""}]
[1,"",136,"","",{"$f":"IF(L138<>\"\",CONCATENATE(DIGITADOR!$B$2,$A$2,DIGITADOR!$M$1,A138),\"\")","v":""},null,null,"",{"$f":"IF(K138=\"\",\"\",INDEX('OTRAS REFERENCIAS'!$AL:$AM,MATCH(K138,'OTRAS REFERENCIAS'!$AL:$AL,0),2))","v":""},null,{"$f":"IF(J138=\"\",\"\",INDEX(REFERENTES!$A:$D,MATCH(J138,REFERENTES!$C:$C,0),3))","v":""},null,null,null,null,null,null,null,{"$f":"IF(U138=\"\",\"\",INDEX('OTRAS REFERENCIAS'!$H$6:$I$11,MATCH(U138,'OTRAS REFERENCIAS'!$I$6:$I$11,0),1))","v":""},null,null,null,null,{"$f":"IF(Z138=\"\",\"\",INDEX('OTRAS REFERENCIAS'!$K$6:$L$11,MATCH(Z138,'OTRAS REFERENCIAS'!$L$6:$L$11,0),1))","v":""},null,null,null,null,{"$f":"IF(AE138=\"\",\"\",INDEX('OTRAS REFERENCIAS'!$N$6:$O$11,MATCH(AE138,'OTRAS REFERENCIAS'!$O$6:$O$11,0),1))","v":""},null,null,null,null,{"$f":"IF(AJ138=\"\",\"\",INDEX('OTRAS REFERENCIAS'!$Q$6:$R$11,MATCH(AJ138,'OTRAS REFERENCIAS'!$R$6:$R$11,0),1))","v":""},null,null,null,{"$f":"IF(AN138=\"\",\"\",INDEX('OTRAS REFERENCIAS'!$T$6:$U$11,MATCH(AN138,'OTRAS REFERENCIAS'!$U$6:$U$11,0),1))","v":""}]
[1,"",137,"","",{"$f":"IF(L139<>\"\",CONCATENATE(DIGITADOR!$B$2,$A$2,DIGITADOR!$M$1,A139),\"\")","v":""},null,null,"",{"$f":"IF(K139=\"\",\"\",INDEX('OTRAS REFERENCIAS'!$AL:$AM,MATCH(K139,'OTRAS REFERENCIAS'!$AL:$AL,0),2))","v":""},null,{"$f":"IF(J139=\"\",\"\",INDEX(REFERENTES!$A:$D,MATCH(J139,REFERENTES!$C:$C,0),3))","v":""},null,null,null,null,null,null,null,{"$f":"IF(U139=\"\",\"\",INDEX('OTRAS REFERENCIAS'!$H$6:$I$11,MATCH(U139,'OTRAS REFERENCIAS'!$I$6:$I$11,0),1))","v":""},null,null,null,null,{"$f":"IF(Z139=\"\",\"\",INDEX('OTRAS REFERENCIAS'!$K$6:$L$11,MATCH(Z139,'OTRAS REFERENCIAS'!$L$6:$L$11,0),1))","v":""},null,null,null,null,{"$f":"IF(AE139=\"\",\"\",INDEX('OTRAS REFERENCIAS'!$N$6:$O$11,MATCH(AE139,'OTRAS REFERENCIAS'!$O$6:$O$11,0),1))","v":""},null,null,null,null,{"$f":"IF(AJ139=\"\",\"\",INDEX('OTRAS REFERENCIAS'!$Q$6:$R$11,MATCH(AJ139,'OTRAS REFERENCIAS'!$R$6:$R$11,0),1))","v":""},null,null,null,{"$f":"IF(AN139=\"\",\"\",INDEX('OTRAS REFERENCIAS'!$T$6:$U$11,MATCH(AN139,'OTRAS REFERENCIAS'!$U$6:$U$11,0),1))","v":""}]
[1,"",138,"","",{"$f":"IF(L140<>\"\",CONCATENATE(DIGITADOR!$B$2,$A$2,DIGITADOR!$M$1,A140),\"\")","v":""},null,null,"",{"$f":"IF(K140=\"\",\"\",INDEX('OTRAS REFERENCIAS'!$AL:$AM,MATCH(K140,'OTRAS REFERENCIAS'!$AL:$AL,0),2))","v":""},null,{"$f":"IF(J140=\"\",\"\",INDEX(REFERENTES!$A:$D,MATCH(J140,REFERENTES!$C:$C,0),3))","v":""},null,null,null,null,null,null,null,{"$f":"IF(U140=\"\",\"\",INDEX('OTRAS REFERENCIAS'!$H$6:$I$11,MATCH(U140,'OTRAS REFERENCIAS'!$I$6:$I$11,0),1))","v":""},null,null,null,null,{"$f":"IF(Z140=\"\",\"\",INDEX('OTRAS REFERENCIAS'!$K$6:$L$11,MATCH(Z140,'OTRAS REFERENCIAS'!$L$6:$L$11,0),1))","v":""},null,null,null,null,{"$f":"IF(AE140=\"\",\"\",INDEX('OTRAS REFERENCIAS'!$N$6:$O$11,MATCH(AE140,'OTRAS REFERENCIAS'!$O$6:$O$11,0),1))","v":""},null,null,null,null,{"$f":"IF(AJ140=\"\",\"\",INDEX('OTRAS REFERENCIAS'!$Q$6:$R$11,MATCH(AJ140,'OTRAS REFERENCIAS'!$R$6:$R$11,0),1))","v":""},null,null,null,{"$f":"IF(AN140=\"\",\"\",INDEX('OTRAS REFERENCIAS'!$T$6:$U$11,MATCH(AN140,'OTRAS REFERENCIAS'!$U$6:$U$11,0),1))","v":""}]
[1,"",139,"","",{"$f":"IF(L141<>\"\",CONCATENATE(DIGITADOR!$B$2,$A$2,DIGITADOR!$M$1,A141),\"\")","v":""},null,null,"",{"$f":"IF(K141=\"\",\"\",INDEX('OTRAS REFERENCIAS'!$AL:$AM,MATCH(K141,'OTRAS REFERENCIAS'!$AL:$AL,0),2))","v":""},null,{"$f":"IF(J141=\"\",\"\",INDEX(REFERENTES!$A:$D,MATCH(J141,REFERENTES!$C:$C,0),3))","v":""},null,null,null,null,null,null,null,{"$f":"IF(U141=\"\",\"\",INDEX('OTRAS REFERENCIAS'!$H$6:$I$11,MATCH(U141,'OTRAS REFERENCIAS'!$I$6:$I$11,0),1))","v":""},null,null,null,null,{"$f":"IF(Z141=\"\",\"\",INDEX('OTRAS REFERENCIAS'!$K$6:$L$11,MATCH(Z141,'OTRAS REFERENCIAS'!$L$6:$L$11,0),1))","v":""},null,null,null,null,{"$f":"IF(AE141=\"\",\"\",INDEX('OTRAS REFERENCIAS'!$N$6:$O$11,MATCH(AE141,'OTRAS REFERENCIAS'!$O$6:$O$11,0),1))","v":""},null,null,null,null,{"$f":"IF(AJ141=\"\",\"\",INDEX('OTRAS REFERENCIAS'!$Q$6:$R$11,MATCH(AJ141,'OTRAS REFERENCIAS'!$R$6:$R$11,0),1))","v":""},null,null,null,{"$f":"IF(AN141=\"\",\"\",INDEX('OTRAS REFERENCIAS'!$T$6:$U$11,MATCH(AN141,'OTRAS REFERENCIAS'!$U$6:$U$11,0),1))","v":""}]
[1,"",140,"","",{"$f":"IF(L142<>\"\",CONCATENATE(DIGITADOR!$B$2,$A$2,DIGITADOR!$M$1,A142),\"\")","v":""},null,null,"",{"$f":"IF(K142=\"\",\"\",INDEX('OTRAS REFERENCIAS'!$AL:$AM,MATCH(K142,'OTRAS REFERENCIAS'!$AL:$AL,0),2))","v":""},null,{"$f":"IF(J142=\"\",\"\",INDEX(REFERENTES!$A:$D,MATCH(J142,REFERENTES!$C:$C,0),3))","v":""},null,null,null,null,null,null,null,{"$f":"IF(U142=\"\",\"\",INDEX('OTRAS REFERENCIAS'!$H$6:$I$11,MATCH(U142,'OTRAS REFERENCIAS'!$I$6:$I$11,0),1))","v":""},null,null,null,null,{"$f":"IF(Z142=\"\",\"\",INDEX('OTRAS REFERENCIAS'!$K$6:$L$11,MATCH(Z142,'OTRAS REFERENCIAS'!$L$6:$L$11,0),1))","v":""},null,null,null,null,{"$f":"IF(AE142=\"\",\"\",INDEX('OTRAS REFERENCIAS'!$N$6:$O$11,MATCH(AE142,'OTRAS REFERENCIAS'!$O$6:$O$11,0),1))","v":""},null,null,null,null,{"$f":"IF(AJ142=\"\",\"\",INDEX('OTRAS REFERENCIAS'!$Q$6:$R$11,MATCH(AJ142,'OTRAS REFERENCIAS'!$R$6:$R$11,0),1))","v":""},null,null,null,{"$f":"IF(AN142=\"\",\"\",INDEX('OTRAS REFERENCIAS'!$T$6:$U$11,MATCH(AN142,'OTRAS REFERENCIAS'!$U$6:$U$11,0),1))","v":""}]
[1,"",141,"","",{"$f":"IF(L143<>\"\",CONCATENATE(DIGITADOR!$B$2,$A$2,DIGITADOR!$M$1,A143),\"\")","v":""},null,null,"",{"$f":"IF(K143=\"\",\"\",INDEX('OTRAS REFERENCIAS'!$AL:$AM,MATCH(K143,'OTRAS REFERENCIAS'!$AL:$AL,0),2))","v":""},null,{"$f":"IF(J143=\"\",\"\",INDEX(REFERENTES!$A:$D,MATCH(J143,REFERENTES!$C:$C,0),3))","v":""},null,null,null,null,null,null,null,{"$f":"IF(U143=\"\",\"\",INDEX('OTRAS REFERENCIAS'!$H$6:$I$11,MATCH(U143,'OTRAS REFERENCIAS'!$I$6:$I$11,0),1))","v":""},null,null,null,null,{"$f":"IF(Z143=\"\",\"\",INDEX('OTRAS REFERENCIAS'!$K$6:$L$11,MATCH(Z143,'OTRAS REFERENCIAS'!$L$6:$L$11,0),1))","v":""},null,null,null,null,{"$f":"IF(AE143=\"\",\"\",INDEX('OTRAS REFERENCIAS'!$N$6:$O$11,MATCH(AE143,'OTRAS REFERENCIAS'!$O$6:$O$11,0),1))","v":""},null,null,null,null,{"$f":"IF(AJ143=\"\",\"\",INDEX('OTRAS REFERENCIAS'!$Q$6:$R$11,MATCH(AJ143,'OTRAS REFERENCIAS'!$R$6:$R$11,0),1))","v":""},null,null,null,{"$f":"IF(AN143=\"\",\"\",INDEX('OTRAS REFERENCIAS'!$T$6:$U$11,MATCH(AN143,'OTRAS REFERENCIAS'!$U$6:$U$11,0),1))","v":""}]
[1,"",142,"","",{"$f":"IF(L144<>\"\",CONCATENATE(DIGITADOR!$B$2,$A$2,DIGITADOR!$M$1,A144),\"\")","v":""},null,null,"",{"$f":"IF(K144=\"\",\"\",INDEX('OTRAS REFERENCIAS'!$AL:$AM,MATCH(K144,'OTRAS REFERENCIAS'!$AL:$AL,0),2))","v":""},null,{"$f":"IF(J144=\"\",\"\",INDEX(REFERENTES!$A:$D,MATCH(J144,REFERENTES!$C:$C,0),3))","v":""},null,null,null,null,null,null,null,{"$f":"IF(U144=\"\",\"\",INDEX('OTRAS REFERENCIAS'!$H$6:$I$11,MATCH(U144,'OTRAS REFERENCIAS'!$I$6:$I$11,0),1))","v":""},null,null,null,null,{"$f":"IF(Z144=\"\",\"\",INDEX('OTRAS REFERENCIAS'!$K$6:$L$11,MATCH(Z144,'OTRAS REFERENCIAS'!$L$6:$L$11,0),1))","v":""},null,null,null,null,{"$f":"IF(AE144=\"\",\"\",INDEX('OTRAS REFERENCIAS'!$N$6:$O$11,MATCH(AE144,'OTRAS REFERENCIAS'!$O$6:$O$11,0),1))","v":""},null,null,null,null,{"$f":"IF(AJ144=\"\",\"\",INDEX('OTRAS REFERENCIAS'!$Q$6:$R$11,MATCH(AJ144,'OTRAS REFERENCIAS'!$R$6:$R$11,0),1))","v":""},null,null,null,{"$f":"IF(AN144=\"\",\"\",INDEX('OTRAS REFERENCIAS'!$T$6:$U$11,MATCH(AN144,'OTRAS REFERENCIAS'!$U$6:$U$11,0),1))","v":""}]
[1,"",143,"","",{"$f":"IF(L145<>\"\",CONCATENATE(DIGITADOR!$B$2,$A$2,DIGITADOR!$M$1,A145),\"\")","v":""},null,null,"",{"$f":"IF(K145=\"\",\"\",INDEX('OTRAS REFERENCIAS'!$AL:$AM,MATCH(K145,'OTRAS REFERENCIAS'!$AL:$AL,0),2))","v":""},null,{"$f":"IF(J145=\"\",\"\",INDEX(REFERENTES!$A:$D,MATCH(J145,REFERENTES!$C:$C,0),3))","v":""},null,null,null,null,null,null,null,{"$f":"IF(U145=\"\",\"\",INDEX('OTRAS REFERENCIAS'!$H$6:$I$11,MATCH(U145,'OTRAS REFERENCIAS'!$I$6:$I$11,0),1))","v":""},null,null,null,null,{"$f":"IF(Z145=\"\",\"\",INDEX('OTRAS REFERENCIAS'!$K$6:$L$11,MATCH(Z145,'OTRAS REFERENCIAS'!$L$6:$L$11,0),1))","v":""},null,null,null,null,{"$f":"IF(AE145=\"\",\"\",INDEX('OTRAS REFERENCIAS'!$N$6:$O$11,MATCH(AE145,'OTRAS REFERENCIAS'!$O$6:$O$11,0),1))","v":""},null,null,null,null,{"$f":"IF(AJ145=\"\",\"\",INDEX('OTRAS REFERENCIAS'!$Q$6:$R$11,MATCH(AJ145,'OTRAS REFERENCIAS'!$R$6:$R$11,0),1))","v":""},null,null,null,{"$f":"IF(AN145=\"\",\"\",INDEX('OTRAS REFERENCIAS'!$T$6:$U$11,MATCH(AN145,'OTRAS REFERENCIAS'!$U$6:$U$11,0),1))","v":""}]
[1,"",144,"","",{"$f":"IF(L146<>\"\",CONCATENATE(DIGITADOR!$B$2,$A$2,DIGITADOR!$M$1,A146),\"\")","v":""},null,null,"",{"$f":"IF(K146=\"\",\"\",INDEX('OTRAS REFERENCIAS'!$AL:$AM,MATCH(K146,'OTRAS REFERENCIAS'!$AL:$AL,0),2))","v":""},null,{"$f":"IF(J146=\"\",\"\",INDEX(REFERENTES!$A:$D,MATCH(J146,REFERENTES!$C:$C,0),3))","v":""},null,null,null,null,null,null,null,{"$f":"IF(U146=\"\",\"\",INDEX('OTRAS REFERENCIAS'!$H$6:$I$11,MATCH(U146,'OTRAS REFERENCIAS'!$I$6:$I$11,0),1))","v":""},null,null,null,null,{"$f":"IF(Z146=\"\",\"\",INDEX('OTRAS REFERENCIAS'!$K$6:$L$11,MATCH(Z146,'OTRAS REFERENCIAS'!$L$6:$L$11,0),1))","v":""},null,null,null,null,{"$f":"IF(AE146=\"\",\"\",INDEX('OTRAS REFERENCIAS'!$N$6:$O$11,MATCH(AE146,'OTRAS REFERENCIAS'!$O$6:$O$11,0),1))","v":""},null,null,null,null,{"$f":"IF(AJ146=\"\",\"\",INDEX('OTRAS REFERENCIAS'!$Q$6:$R$11,MATCH(AJ146,'OTRAS REFERENCIAS'!$R$6:$R$11,0),1))","v":""},null,null,null,{"$f":"IF(AN146=\"\",\"\",INDEX('OTRAS REFERENCIAS'!$T$6:$U$11,MATCH(AN146,'OTRAS REFERENCIAS'!$U$6:$U$11,0),1))","v":""}]
[1,"",145,"","",{"$f":"IF(L147<>\"\",CONCATENATE(DIGITADOR!$B$2,$A$2,DIGITADOR!$M$1,A147),\"\")","v":""},null,null,"",{"$f":"IF(K147=\"\",\"\",INDEX('OTRAS REFERENCIAS'!$AL:$AM,MATCH(K147,'OTRAS REFERENCIAS'!$AL:$AL,0),2))","v":""},null,{"$f":"IF(J147=\"\",\"\",INDEX(REFERENTES!$A:$D,MATCH(J147,REFERENTES!$C:$C,0),3))","v":""},null,null,null,null,null,null,null,{"$f":"IF(U147=\"\",\"\",INDEX('OTRAS REFERENCIAS'!$H$6:$I$11,MATCH(U147,'OTRAS REFERENCIAS'!$I$6:$I$11,0),1))","v":""},null,null,null,null,{"$f":"IF(Z147=\"\",\"\",INDEX('OTRAS REFERENCIAS'!$K$6:$L$11,MATCH(Z147,'OTRAS REFERENCIAS'!$L$6:$L$11,0),1))","v":""},null,null,null,null,{"$f":"IF(AE147=\"\",\"\",INDEX('OTRAS REFERENCIAS'!$N$6:$O$11,MATCH(AE147,'OTRAS REFERENCIAS'!$O$6:$O$11,0),1))","v":""},null,null,null,null,{"$f":"IF(AJ147=\"\",\"\",INDEX('OTRAS REFERENCIAS'!$Q$6:$R$11,MATCH(AJ147,'OTRAS REFERENCIAS'!$R$6:$R$11,0),1))","v":""},null,null,null,{"$f":"IF(AN147=\"\",\"\",INDEX('OTRAS REFERENCIAS'!$T$6:$U$11,MATCH(AN147,'OTRAS REFERENCIAS'!$U$6:$U$11,0),1))","v":""}]
[1,"",146,"","",{"$f":"IF(L148<>\"\",CONCATENATE(DIGITADOR!$B$2,$A$2,DIGITADOR!$M$1,A148),\"\")","v":""},null,null,"",{"$f":"IF(K148=\"\",\"\",INDEX('OTRAS REFERENCIAS'!$AL:$AM,MATCH(K148,'OTRAS REFERENCIAS'!$AL:$AL,0),2))","v":""},null,{"$f":"IF(J148=\"\",\"\",INDEX(REFERENTES!$A:$D,MATCH(J148,REFERENTES!$C:$C,0),3))","v":""},null,null,null,null,null,null,null,{"$f":"IF(U148=\"\",\"\",INDEX('OTRAS REFERENCIAS'!$H$6:$I$11,MATCH(U148,'OTRAS REFERENCIAS'!$I$6:$I$11,0),1))","v":""},null,null,null,null,{"$f":"IF(Z148=\"\",\"\",INDEX('OTRAS REFERENCIAS'!$K$6:$L$11,MATCH(Z148,'OTRAS REFERENCIAS'!$L$6:$L$11,0),1))","v":""},null,null,null,null,{"$f":"IF(AE148=\"\",\"\",INDEX('OTRAS REFERENCIAS'!$N$6:$O$11,MATCH(AE148,'OTRAS REFERENCIAS'!$O$6:$O$11,0),1))","v":""},null,null,null,null,{"$f":"IF(AJ148=\"\",\"\",INDEX('OTRAS REFERENCIAS'!$Q$6:$R$11,MATCH(AJ148,'OTRAS REFERENCIAS'!$R$6:$R$11,0),1))","v":""},null,null,null,{"$f":"IF(AN148=\"\",\"\",INDEX('OTRAS REFERENCIAS'!$T$6:$U$11,MATCH(AN148,'OTRAS REFERENCIAS'!$U$6:$U$11,0),1))","v":""}]
[1,"",147,"","",{"$f":"IF(L149<>\"\",CONCATENATE(DIGITADOR!$B$2,$A$2,DIGITADOR!$M$1,A149),\"\")","v":""},null,null,"",{"$f":"IF(K149=\"\",\"\",INDEX('OTRAS REFERENCIAS'!$AL:$AM,MATCH(K149,'OTRAS REFERENCIAS'!$AL:$AL,0),2))","v":""},null,{"$f":"IF(J149=\"\",\"\",INDEX(REFERENTES!$A:$D,MATCH(J149,REFERENTES!$C:$C,0),3))","v":""},null,null,null,null,null,null,null,{"$f":"IF(U149=\"\",\"\",INDEX('OTRAS REFERENCIAS'!$H$6:$I$11,MATCH(U149,'OTRAS REFERENCIAS'!$I$6:$I$11,0),1))","v":""},null,null,null,null,{"$f":"IF(Z149=\"\",\"\",INDEX('OTRAS REFERENCIAS'!$K$6:$L$11,MATCH(Z149,'OTRAS REFERENCIAS'!$L$6:$L$11,0),1))","v":""},null,null,null,null,{"$f":"IF(AE149=\"\",\"\",INDEX('OTRAS REFERENCIAS'!$N$6:$O$11,MATCH(AE149,'OTRAS REFERENCIAS'!$O$6:$O$11,0),1))","v":""},null,null,null,null,{"$f":"IF(AJ149=\"\",\"\",INDEX('OTRAS REFERENCIAS'!$Q$6:$R$11,MATCH(AJ149,'OTRAS REFERENCIAS'!$R$6:$R$11,0),1))","v":""},null,null,null,{"$f":"IF(AN149=\"\",\"\",INDEX('OTRAS REFERENCIAS'!$T$6:$U$11,MATCH(AN149,'OTRAS REFERENCIAS'!$U$6:$U$11,0),1))","v":""}]
[1,"",148,"","",{"$f":"IF(L150<>\"\",CONCATENATE(DIGITADOR!$B$2,$A$2,DIGITADOR!$M$1,A150),\"\")","v":""},null,null,"",{"$f":"IF(K150=\"\",\"\",INDEX('OTRAS REFERENCIAS'!$AL:$AM,MATCH(K150,'OTRAS REFERENCIAS'!$AL:$AL,0),2))","v":""},null,{"$f":"IF(J150=\"\",\"\",INDEX(REFERENTES!$A:$D,MATCH(J150,REFERENTES!$C:$C,0),3))","v":""},null,null,null,null,null,null,null,{"$f":"IF(U150=\"\",\"\",INDEX('OTRAS REFERENCIAS'!$H$6:$I$11,MATCH(U150,'OTRAS REFERENCIAS'!$I$6:$I$11,0),1))","v":""},null,null,null,null,{"$f":"IF(Z150=\"\",\"\",INDEX('OTRAS REFERENCIAS'!$K$6:$L$11,MATCH(Z150,'OTRAS REFERENCIAS'!$L$6:$L$11,0),1))","v":""},null,null,null,null,{"$f":"IF(AE150=\"\",\"\",INDEX('OTRAS REFERENCIAS'!$N$6:$O$11,MATCH(AE150,'OTRAS REFERENCIAS'!$O$6:$O$11,0),1))","v":""},null,null,null,null,{"$f":"IF(AJ150=\"\",\"\",INDEX('OTRAS REFERENCIAS'!$Q$6:$R$11,MATCH(AJ150,'OTRAS REFERENCIAS'!$R$6:$R$11,0),1))","v":""},null,null,null,{"$f":"IF(AN150=\"\",\"\",INDEX('OTRAS REFERENCIAS'!$T$6:$U$11,MATCH(AN150,'OTRAS REFERENCIAS'!$U$6:$U$11,0),1))","v":""}]
[1,"",149,"","",{"$f":"IF(L151<>\"\",CONCATENATE(DIGITADOR!$B$2,$A$2,DIGITADOR!$M$1,A151),\"\")","v":""},null,null,"",{"$f":"IF(K151=\"\",\"\",INDEX('OTRAS REFERENCIAS'!$AL:$AM,MATCH(K151,'OTRAS REFERENCIAS'!$AL:$AL,0),2))","v":""},null,{"$f":"IF(J151=\"\",\"\",INDEX(REFERENTES!$A:$D,MATCH(J151,REFERENTES!$C:$C,0),3))","v":""},null,null,null,null,null,null,null,{"$f":"IF(U151=\"\",\"\",INDEX('OTRAS REFERENCIAS'!$H$6:$I$11,MATCH(U151,'OTRAS REFERENCIAS'!$I$6:$I$11,0),1))","v":""},null,null,null,null,{"$f":"IF(Z151=\"\",\"\",INDEX('OTRAS REFERENCIAS'!$K$6:$L$11,MATCH(Z151,'OTRAS REFERENCIAS'!$L$6:$L$11,0),1))","v":""},null,null,null,null,{"$f":"IF(AE151=\"\",\"\",INDEX('OTRAS REFERENCIAS'!$N$6:$O$11,MATCH(AE151,'OTRAS REFERENCIAS'!$O$6:$O$11,0),1))","v":""},null,null,null,null,{"$f":"IF(AJ151=\"\",\"\",INDEX('OTRAS REFERENCIAS'!$Q$6:$R$11,MATCH(AJ151,'OTRAS REFERENCIAS'!$R$6:$R$11,0),1))","v":""},null,null,null,{"$f":"IF(AN151=\"\",\"\",INDEX('OTRAS REFERENCIAS'!$T$6:$U$11,MATCH(AN151,'OTRAS REFERENCIAS'!$U$6:$U$11,0),1))","v":""}]
[1,"",150,"","",{"$f":"IF(L152<>\"\",CONCATENATE(DIGITADOR!$B$2,$A$2,DIGITADOR!$M$1,A152),\"\")","v":""},null,null,"",{"$f":"IF(K152=\"\",\"\",INDEX('OTRAS REFERENCIAS'!$AL:$AM,MATCH(K152,'OTRAS REFERENCIAS'!$AL:$AL,0),2))","v":""},null,{"$f":"IF(J152=\"\",\"\",INDEX(REFERENTES!$A:$D,MATCH(J152,REFERENTES!$C:$C,0),3))","v":""},null,null,null,null,null,null,null,{"$f":"IF(U152=\"\",\"\",INDEX('OTRAS REFERENCIAS'!$H$6:$I$11,MATCH(U152,'OTRAS REFERENCIAS'!$I$6:$I$11,0),1))","v":""},null,null,null,null,{"$f":"IF(Z152=\"\",\"\",INDEX('OTRAS REFERENCIAS'!$K$6:$L$11,MATCH(Z152,'OTRAS REFERENCIAS'!$L$6:$L$11,0),1))","v":""},null,null,null,null,{"$f":"IF(AE152=\"\",\"\",INDEX('OTRAS REFERENCIAS'!$N$6:$O$11,MATCH(AE152,'OTRAS REFERENCIAS'!$O$6:$O$11,0),1))","v":""},null,null,null,null,{"$f":"IF(AJ152=\"\",\"\",INDEX('OTRAS REFERENCIAS'!$Q$6:$R$11,MATCH(AJ152,'OTRAS REFERENCIAS'!$R$6:$R$11,0),1))","v":""},null,null,null,{"$f":"IF(AN152=\"\",\"\",INDEX('OTRAS REFERENCIAS'!$T$6:$U$11,MATCH(AN152,'OTRAS REFERENCIAS'!$U$6:$U$11,0),1))","v":""}]
[1,"",151,"","",{"$f":"IF(L153<>\"\",CONCATENATE(DIGITADOR!$B$2,$A$2,DIGITADOR!$M$1,A153),\"\")","v":""},null,null,"",{"$f":"IF(K153=\"\",\"\",INDEX('OTRAS REFERENCIAS'!$AL:$AM,MATCH(K153,'OTRAS REFERENCIAS'!$AL:$AL,0),2))","v":""},null,{"$f":"IF(J153=\"\",\"\",INDEX(REFERENTES!$A:$D,MATCH(J153,REFERENTES!$C:$C,0),3))","v":""},null,null,null,null,null,null,null,{"$f":"IF(U153=\"\",\"\",INDEX('OTRAS REFERENCIAS'!$H$6:$I$11,MATCH(U153,'OTRAS REFERENCIAS'!$I$6:$I$11,0),1))","v":""},null,null,null,null,{"$f":"IF(Z153=\"\",\"\",INDEX('OTRAS REFERENCIAS'!$K$6:$L$11,MATCH(Z153,'OTRAS REFERENCIAS'!$L$6:$L$11,0),1))","v":""},null,null,null,null,{"$f":"IF(AE153=\"\",\"\",INDEX('OTRAS REFERENCIAS'!$N$6:$O$11,MATCH(AE153,'OTRAS REFERENCIAS'!$O$6:$O$11,0),1))","v":""},null,null,null,null,{"$f":"IF(AJ153=\"\",\"\",INDEX('OTRAS REFERENCIAS'!$Q$6:$R$11,MATCH(AJ153,'OTRAS REFERENCIAS'!$R$6:$R$11,0),1))","v":""},null,null,null,{"$f":"IF(AN153=\"\",\"\",INDEX('OTRAS REFERENCIAS'!$T$6:$U$11,MATCH(AN153,'OTRAS REFERENCIAS'!$U$6:$U$11,0),1))","v":""}]
[1,"",152,"","",{"$f":"IF(L154<>\"\",CONCATENATE(DIGITADOR!$B$2,$A$2,DIGITADOR!$M$1,A154),\"\")","v":""},null,null,"",{"$f":"IF(K154=\"\",\"\",INDEX('OTRAS REFERENCIAS'!$AL:$AM,MATCH(K154,'OTRAS REFERENCIAS'!$AL:$AL,0),2))","v":""},null,{"$f":"IF(J154=\"\",\"\",INDEX(REFERENTES!$A:$D,MATCH(J154,REFERENTES!$C:$C,0),3))","v":""},null,null,null,null,null,null,null,{"$f":"IF(U154=\"\",\"\",INDEX('OTRAS REFERENCIAS'!$H$6:$I$11,MATCH(U154,'OTRAS REFERENCIAS'!$I$6:$I$11,0),1))","v":""},null,null,null,null,{"$f":"IF(Z154=\"\",\"\",INDEX('OTRAS REFERENCIAS'!$K$6:$L$11,MATCH(Z154,'OTRAS REFERENCIAS'!$L$6:$L$11,0),1))","v":""},null,null,null,null,{"$f":"IF(AE154=\"\",\"\",INDEX('OTRAS REFERENCIAS'!$N$6:$O$11,MATCH(AE154,'OTRAS REFERENCIAS'!$O$6:$O$11,0),1))","v":""},null,null,null,null,{"$f":"IF(AJ154=\"\",\"\",INDEX('OTRAS REFERENCIAS'!$Q$6:$R$11,MATCH(AJ154,'OTRAS REFERENCIAS'!$R$6:$R$11,0),1))","v":""},null,null,null,{"$f":"IF(AN154=\"\",\"\",INDEX('OTRAS REFERENCIAS'!$T$6:$U$11,MATCH(AN154,'OTRAS REFERENCIAS'!$U$6:$U$11,0),1))","v":""}]
[1,"",153,"","",{"$f":"IF(L155<>\"\",CONCATENATE(DIGITADOR!$B$2,$A$2,DIGITADOR!$M$1,A155),\"\")","v":""},null,null,"",{"$f":"IF(K155=\"\",\"\",INDEX('OTRAS REFERENCIAS'!$AL:$AM,MATCH(K155,'OTRAS REFERENCIAS'!$AL:$AL,0),2))","v":""},null,{"$f":"IF(J155=\"\",\"\",INDEX(REFERENTES!$A:$D,MATCH(J155,REFERENTES!$C:$C,0),3))","v":""},null,null,null,null,null,null,null,{"$f":"IF(U155=\"\",\"\",INDEX('OTRAS REFERENCIAS'!$H$6:$I$11,MATCH(U155,'OTRAS REFERENCIAS'!$I$6:$I$11,0),1))","v":""},null,null,null,null,{"$f":"IF(Z155=\"\",\"\",INDEX('OTRAS REFERENCIAS'!$K$6:$L$11,MATCH(Z155,'OTRAS REFERENCIAS'!$L$6:$L$11,0),1))","v":""},null,null,null,null,{"$f":"IF(AE155=\"\",\"\",INDEX('OTRAS REFERENCIAS'!$N$6:$O$11,MATCH(AE155,'OTRAS REFERENCIAS'!$O$6:$O$11,0),1))","v":""},null,null,null,null,{"$f":"IF(AJ155=\"\",\"\",INDEX('OTRAS REFERENCIAS'!$Q$6:$R$11,MATCH(AJ155,'OTRAS REFERENCIAS'!$R$6:$R$11,0),1))","v":""},null,null,null,{"$f":"IF(AN155=\"\",\"\",INDEX('OTRAS REFERENCIAS'!$T$6:$U$11,MATCH(AN155,'OTRAS REFERENCIAS'!$U$6:$U$11,0),1))","v":""}]
[1,"",154,"","",{"$f":"IF(L156<>\"\",CONCATENATE(DIGITADOR!$B$2,$A$2,DIGITADOR!$M$1,A156),\"\")","v":""},null,null,"",{"$f":"IF(K156=\"\",\"\",INDEX('OTRAS REFERENCIAS'!$AL:$AM,MATCH(K156,'OTRAS REFERENCIAS'!$AL:$AL,0),2))","v":""},null,{"$f":"IF(J156=\"\",\"\",INDEX(REFERENTES!$A:$D,MATCH(J156,REFERENTES!$C:$C,0),3))","v":""},null,null,null,null,null,null,null,{"$f":"IF(U156=\"\",\"\",INDEX('OTRAS REFERENCIAS'!$H$6:$I$11,MATCH(U156,'OTRAS REFERENCIAS'!$I$6:$I$11,0),1))","v":""},null,null,null,null,{"$f":"IF(Z156=\"\",\"\",INDEX('OTRAS REFERENCIAS'!$K$6:$L$11,MATCH(Z156,'OTRAS REFERENCIAS'!$L$6:$L$11,0),1))","v":""},null,null,null,null,{"$f":"IF(AE156=\"\",\"\",INDEX('OTRAS REFERENCIAS'!$N$6:$O$11,MATCH(AE156,'OTRAS REFERENCIAS'!$O$6:$O$11,0),1))","v":""},null,null,null,null,{"$f":"IF(AJ156=\"\",\"\",INDEX('OTRAS REFERENCIAS'!$Q$6:$R$11,MATCH(AJ156,'OTRAS REFERENCIAS'!$R$6:$R$11,0),1))","v":""},null,null,null,{"$f":"IF(AN156=\"\",\"\",INDEX('OTRAS REFERENCIAS'!$T$6:$U$11,MATCH(AN156,'OTRAS REFERENCIAS'!$U$6:$U$11,0),1))","v":""}]
[1,"",155,"","",{"$f":"IF(L157<>\"\",CONCATENATE(DIGITADOR!$B$2,$A$2,DIGITADOR!$M$1,A157),\"\")","v":""},null,null,"",{"$f":"IF(K157=\"\",\"\",INDEX('OTRAS REFERENCIAS'!$AL:$AM,MATCH(K157,'OTRAS REFERENCIAS'!$AL:$AL,0),2))","v":""},null,{"$f":"IF(J157=\"\",\"\",INDEX(REFERENTES!$A:$D,MATCH(J157,REFERENTES!$C:$C,0),3))","v":""},null,null,null,null,null,null,null,{"$f":"IF(U157=\"\",\"\",INDEX('OTRAS REFERENCIAS'!$H$6:$I$11,MATCH(U157,'OTRAS REFERENCIAS'!$I$6:$I$11,0),1))","v":""},null,null,null,null,{"$f":"IF(Z157=\"\",\"\",INDEX('OTRAS REFERENCIAS'!$K$6:$L$11,MATCH(Z157,'OTRAS REFERENCIAS'!$L$6:$L$11,0),1))","v":""},null,null,null,null,{"$f":"IF(AE157=\"\",\"\",INDEX('OTRAS REFERENCIAS'!$N$6:$O$11,MATCH(AE157,'OTRAS REFERENCIAS'!$O$6:$O$11,0),1))","v":""},null,null,null,null,{"$f":"IF(AJ157=\"\",\"\",INDEX('OTRAS REFERENCIAS'!$Q$6:$R$11,MATCH(AJ157,'OTRAS REFERENCIAS'!$R$6:$R$11,0),1))","v":""},null,null,null,{"$f":"IF(AN157=\"\",\"\",INDEX('OTRAS REFERENCIAS'!$T$6:$U$11,MATCH(AN157,'OTRAS REFERENCIAS'!$U$6:$U$11,0),1))","v":""}]
[1,"",156,"","",{"$f":"IF(L158<>\"\",CONCATENATE(DIGITADOR!$B$2,$A$2,DIGITADOR!$M$1,A158),\"\")","v":""},null,null,"",{"$f":"IF(K158=\"\",\"\",INDEX('OTRAS REFERENCIAS'!$AL:$AM,MATCH(K158,'OTRAS REFERENCIAS'!$AL:$AL,0),2))","v":""},null,{"$f":"IF(J158=\"\",\"\",INDEX(REFERENTES!$A:$D,MATCH(J158,REFERENTES!$C:$C,0),3))","v":""},null,null,null,null,null,null,null,{"$f":"IF(U158=\"\",\"\",INDEX('OTRAS REFERENCIAS'!$H$6:$I$11,MATCH(U158,'OTRAS REFERENCIAS'!$I$6:$I$11,0),1))","v":""},null,null,null,null,{"$f":"IF(Z158=\"\",\"\",INDEX('OTRAS REFERENCIAS'!$K$6:$L$11,MATCH(Z158,'OTRAS REFERENCIAS'!$L$6:$L$11,0),1))","v":""},null,null,null,null,{"$f":"IF(AE158=\"\",\"\",INDEX('OTRAS REFERENCIAS'!$N$6:$O$11,MATCH(AE158,'OTRAS REFERENCIAS'!$O$6:$O$11,0),1))","v":""},null,null,null,null,{"$f":"IF(AJ158=\"\",\"\",INDEX('OTRAS REFERENCIAS'!$Q$6:$R$11,MATCH(AJ158,'OTRAS REFERENCIAS'!$R$6:$R$11,0),1))","v":""},null,null,null,{"$f":"IF(AN158=\"\",\"\",INDEX('OTRAS REFERENCIAS'!$T$6:$U$11,MATCH(AN158,'OTRAS REFERENCIAS'!$U$6:$U$11,0),1))","v":""}]
[1,"",157,"","",{"$f":"IF(L159<>\"\",CONCATENATE(DIGITADOR!$B$2,$A$2,DIGITADOR!$M$1,A159),\"\")","v":""},null,null,"",{"$f":"IF(K159=\"\",\"\",INDEX('OTRAS REFERENCIAS'!$AL:$AM,MATCH(K159,'OTRAS REFERENCIAS'!$AL:$AL,0),2))","v":""},null,{"$f":"IF(J159=\"\",\"\",INDEX(REFERENTES!$A:$D,MATCH(J159,REFERENTES!$C:$C,0),3))","v":""},null,null,null,null,null,null,null,{"$f":"IF(U159=\"\",\"\",INDEX('OTRAS REFERENCIAS'!$H$6:$I$11,MATCH(U159,'OTRAS REFERENCIAS'!$I$6:$I$11,0),1))","v":""},null,null,null,null,{"$f":"IF(Z159=\"\",\"\",INDEX('OTRAS REFERENCIAS'!$K$6:$L$11,MATCH(Z159,'OTRAS REFERENCIAS'!$L$6:$L$11,0),1))","v":""},null,null,null,null,{"$f":"IF(AE159=\"\",\"\",INDEX('OTRAS REFERENCIAS'!$N$6:$O$11,MATCH(AE159,'OTRAS REFERENCIAS'!$O$6:$O$11,0),1))","v":""},null,null,null,null,{"$f":"IF(AJ159=\"\",\"\",INDEX('OTRAS REFERENCIAS'!$Q$6:$R$11,MATCH(AJ159,'OTRAS REFERENCIAS'!$R$6:$R$11,0),1))","v":""},null,null,null,{"$f":"IF(AN159=\"\",\"\",INDEX('OTRAS REFERENCIAS'!$T$6:$U$11,MATCH(AN159,'OTRAS REFERENCIAS'!$U$6:$U$11,0),1))","v":""}]
[1,"",158,"","",{"$f":"IF(L160<>\"\",CONCATENATE(DIGITADOR!$B$2,$A$2,DIGITADOR!$M$1,A160),\"\")","v":""},null,null,"",{"$f":"IF(K160=\"\",\"\",INDEX('OTRAS REFERENCIAS'!$AL:$AM,MATCH(K160,'OTRAS REFERENCIAS'!$AL:$AL,0),2))","v":""},null,{"$f":"IF(J160=\"\",\"\",INDEX(REFERENTES!$A:$D,MATCH(J160,REFERENTES!$C:$C,0),3))","v":""},null,null,null,null,null,null,null,{"$f":"IF(U160=\"\",\"\",INDEX('OTRAS REFERENCIAS'!$H$6:$I$11,MATCH(U160,'OTRAS REFERENCIAS'!$I$6:$I$11,0),1))","v":""},null,null,null,null,{"$f":"IF(Z160=\"\",\"\",INDEX('OTRAS REFERENCIAS'!$K$6:$L$11,MATCH(Z160,'OTRAS REFERENCIAS'!$L$6:$L$11,0),1))","v":""},null,null,null,null,{"$f":"IF(AE160=\"\",\"\",INDEX('OTRAS REFERENCIAS'!$N$6:$O$11,MATCH(AE160,'OTRAS REFERENCIAS'!$O$6:$O$11,0),1))","v":""},null,null,null,null,{"$f":"IF(AJ160=\"\",\"\",INDEX('OTRAS REFERENCIAS'!$Q$6:$R$11,MATCH(AJ160,'OTRAS REFERENCIAS'!$R$6:$R$11,0),1))","v":""},null,null,null,{"$f":"IF(AN160=\"\",\"\",INDEX('OTRAS REFERENCIAS'!$T$6:$U$11,MATCH(AN160,'OTRAS REFERENCIAS'!$U$6:$U$11,0),1))","v":""}]
[1,"",159,"","",{"$f":"IF(L161<>\"\",CONCATENATE(DIGITADOR!$B$2,$A$2,DIGITADOR!$M$1,A161),\"\")","v":""},null,null,"",{"$f":"IF(K161=\"\",\"\",INDEX('OTRAS REFERENCIAS'!$AL:$AM,MATCH(K161,'OTRAS REFERENCIAS'!$AL:$AL,0),2))","v":""},null,{"$f":"IF(J161=\"\",\"\",INDEX(REFERENTES!$A:$D,MATCH(J161,REFERENTES!$C:$C,0),3))","v":""},null,null,null,null,null,null,null,{"$f":"IF(U161=\"\",\"\",INDEX('OTRAS REFERENCIAS'!$H$6:$I$11,MATCH(U161,'OTRAS REFERENCIAS'!$I$6:$I$11,0),1))","v":""},null,null,null,null,{"$f":"IF(Z161=\"\",\"\",INDEX('OTRAS REFERENCIAS'!$K$6:$L$11,MATCH(Z161,'OTRAS REFERENCIAS'!$L$6:$L$11,0),1))","v":""},null,null,null,null,{"$f":"IF(AE161=\"\",\"\",INDEX('OTRAS REFERENCIAS'!$N$6:$O$11,MATCH(AE161,'OTRAS REFERENCIAS'!$O$6:$O$11,0),1))","v":""},null,null,null,null,{"$f":"IF(AJ161=\"\",\"\",INDEX('OTRAS REFERENCIAS'!$Q$6:$R$11,MATCH(AJ161,'OTRAS REFERENCIAS'!$R$6:$R$11,0),1))","v":""},null,null,null,{"$f":"IF(AN161=\"\",\"\",INDEX('OTRAS REFERENCIAS'!$T$6:$U$11,MATCH(AN161,'OTRAS REFERENCIAS'!$U$6:$U$11,0),1))","v":""}]
[1,"",160,"","",{"$f":"IF(L162<>\"\",CONCATENATE(DIGITADOR!$B$2,$A$2,DIGITADOR!$M$1,A162),\"\")","v":""},null,null,"",{"$f":"IF(K162=\"\",\"\",INDEX('OTRAS REFERENCIAS'!$AL:$AM,MATCH(K162,'OTRAS REFERENCIAS'!$AL:$AL,0),2))","v":""},null,{"$f":"IF(J162=\"\",\"\",INDEX(REFERENTES!$A:$D,MATCH(J162,REFERENTES!$C:$C,0),3))","v":""},null,null,null,null,null,null,null,{"$f":"IF(U162=\"\",\"\",INDEX('OTRAS REFERENCIAS'!$H$6:$I$11,MATCH(U162,'OTRAS REFERENCIAS'!$I$6:$I$11,0),1))","v":""},null,null,null,null,{"$f":"IF(Z162=\"\",\"\",INDEX('OTRAS REFERENCIAS'!$K$6:$L$11,MATCH(Z162,'OTRAS REFERENCIAS'!$L$6:$L$11,0),1))","v":""},null,null,null,null,{"$f":"IF(AE162=\"\",\"\",INDEX('OTRAS REFERENCIAS'!$N$6:$O$11,MATCH(AE162,'OTRAS REFERENCIAS'!$O$6:$O$11,0),1))","v":""},null,null,null,null,{"$f":"IF(AJ162=\"\",\"\",INDEX('OTRAS REFERENCIAS'!$Q$6:$R$11,MATCH(AJ162,'OTRAS REFERENCIAS'!$R$6:$R$11,0),1))","v":""},null,null,null,{"$f":"IF(AN162=\"\",\"\",INDEX('OTRAS REFERENCIAS'!$T$6:$U$11,MATCH(AN162,'OTRAS REFERENCIAS'!$U$6:$U$11,0),1))","v":""}]
[1,"",161,"","",{"$f":"IF(L163<>\"\",CONCATENATE(DIGITADOR!$B$2,$A$2,DIGITADOR!$M$1,A163),\"\")","v":""},null,null,"",{"$f":"IF(K163=\"\",\"\",INDEX('OTRAS REFERENCIAS'!$AL:$AM,MATCH(K163,'OTRAS REFERENCIAS'!$AL:$AL,0),2))","v":""},null,{"$f":"IF(J163=\"\",\"\",INDEX(REFERENTES!$A:$D,MATCH(J163,REFERENTES!$C:$C,0),3))","v":""},null,null,null,null,null,null,null,{"$f":"IF(U163=\"\",\"\",INDEX('OTRAS REFERENCIAS'!$H$6:$I$11,MATCH(U163,'OTRAS REFERENCIAS'!$I$6:$I$11,0),1))","v":""},null,null,null,null,{"$f":"IF(Z163=\"\",\"\",INDEX('OTRAS REFERENCIAS'!$K$6:$L$11,MATCH(Z163,'OTRAS REFERENCIAS'!$L$6:$L$11,0),1))","v":""},null,null,null,null,{"$f":"IF(AE163=\"\",\"\",INDEX('OTRAS REFERENCIAS'!$N$6:$O$11,MATCH(AE163,'OTRAS REFERENCIAS'!$O$6:$O$11,0),1))","v":""},null,null,null,null,{"$f":"IF(AJ163=\"\",\"\",INDEX('OTRAS REFERENCIAS'!$Q$6:$R$11,MATCH(AJ163,'OTRAS REFERENCIAS'!$R$6:$R$11,0),1))","v":""},null,null,null,{"$f":"IF(AN163=\"\",\"\",INDEX('OTRAS REFERENCIAS'!$T$6:$U$11,MATCH(AN163,'OTRAS REFERENCIAS'!$U$6:$U$11,0),1))","v":""}]
[1,"",162,"","",{"$f":"IF(L164<>\"\",CONCATENATE(DIGITADOR!$B$2,$A$2,DIGITADOR!$M$1,A164),\"\")","v":""},null,null,"",{"$f":"IF(K164=\"\",\"\",INDEX('OTRAS REFERENCIAS'!$AL:$AM,MATCH(K164,'OTRAS REFERENCIAS'!$AL:$AL,0),2))","v":""},null,{"$f":"IF(J164=\"\",\"\",INDEX(REFERENTES!$A:$D,MATCH(J164,REFERENTES!$C:$C,0),3))","v":""},null,null,null,null,null,null,null,{"$f":"IF(U164=\"\",\"\",INDEX('OTRAS REFERENCIAS'!$H$6:$I$11,MATCH(U164,'OTRAS REFERENCIAS'!$I$6:$I$11,0),1))","v":""},null,null,null,null,{"$f":"IF(Z164=\"\",\"\",INDEX('OTRAS REFERENCIAS'!$K$6:$L$11,MATCH(Z164,'OTRAS REFERENCIAS'!$L$6:$L$11,0),1))","v":""},null,null,null,null,{"$f":"IF(AE164=\"\",\"\",INDEX('OTRAS REFERENCIAS'!$N$6:$O$11,MATCH(AE164,'OTRAS REFERENCIAS'!$O$6:$O$11,0),1))","v":""},null,null,null,null,{"$f":"IF(AJ164=\"\",\"\",INDEX('OTRAS REFERENCIAS'!$Q$6:$R$11,MATCH(AJ164,'OTRAS REFERENCIAS'!$R$6:$R$11,0),1))","v":""},null,null,null,{"$f":"IF(AN164=\"\",\"\",INDEX('OTRAS REFERENCIAS'!$T$6:$U$11,MATCH(AN164,'OTRAS REFERENCIAS'!$U$6:$U$11,0),1))","v":""}]
[1,"",163,"","",{"$f":"IF(L165<>\"\",CONCATENATE(DIGITADOR!$B$2,$A$2,DIGITADOR!$M$1,A165),\"\")","v":""},null,null,"",{"$f":"IF(K165=\"\",\"\",INDEX('OTRAS REFERENCIAS'!$AL:$AM,MATCH(K165,'OTRAS REFERENCIAS'!$AL:$AL,0),2))","v":""},null,{"$f":"IF(J165=\"\",\"\",INDEX(REFERENTES!$A:$D,MATCH(J165,REFERENTES!$C:$C,0),3))","v":""},null,null,null,null,null,null,null,{"$f":"IF(U165=\"\",\"\",INDEX('OTRAS REFERENCIAS'!$H$6:$I$11,MATCH(U165,'OTRAS REFERENCIAS'!$I$6:$I$11,0),1))","v":""},null,null,null,null,{"$f":"IF(Z165=\"\",\"\",INDEX('OTRAS REFERENCIAS'!$K$6:$L$11,MATCH(Z165,'OTRAS REFERENCIAS'!$L$6:$L$11,0),1))","v":""},null,null,null,null,{"$f":"IF(AE165=\"\",\"\",INDEX('OTRAS REFERENCIAS'!$N$6:$O$11,MATCH(AE165,'OTRAS REFERENCIAS'!$O$6:$O$11,0),1))","v":""},null,null,null,null,{"$f":"IF(AJ165=\"\",\"\",INDEX('OTRAS REFERENCIAS'!$Q$6:$R$11,MATCH(AJ165,'OTRAS REFERENCIAS'!$R$6:$R$11,0),1))","v":""},null,null,null,{"$f":"IF(AN165=\"\",\"\",INDEX('OTRAS REFERENCIAS'!$T$6:$U$11,MATCH(AN165,'OTRAS REFERENCIAS'!$U$6:$U$11,0),1))","v":""}]
[1,"",164,"","",{"$f":"IF(L166<>\"\",CONCATENATE(DIGITADOR!$B$2,$A$2,DIGITADOR!$M$1,A166),\"\")","v":""},null,null,"",{"$f":"IF(K166=\"\",\"\",INDEX('OTRAS REFERENCIAS'!$AL:$AM,MATCH(K166,'OTRAS REFERENCIAS'!$AL:$AL,0),2))","v":""},null,{"$f":"IF(J166=\"\",\"\",INDEX(REFERENTES!$A:$D,MATCH(J166,REFERENTES!$C:$C,0),3))","v":""},null,null,null,null,null,null,null,{"$f":"IF(U166=\"\",\"\",INDEX('OTRAS REFERENCIAS'!$H$6:$I$11,MATCH(U166,'OTRAS REFERENCIAS'!$I$6:$I$11,0),1))","v":""},null,null,null,null,{"$f":"IF(Z166=\"\",\"\",INDEX('OTRAS REFERENCIAS'!$K$6:$L$11,MATCH(Z166,'OTRAS REFERENCIAS'!$L$6:$L$11,0),1))","v":""},null,null,null,null,{"$f":"IF(AE166=\"\",\"\",INDEX('OTRAS REFERENCIAS'!$N$6:$O$11,MATCH(AE166,'OTRAS REFERENCIAS'!$O$6:$O$11,0),1))","v":""},null,null,null,null,{"$f":"IF(AJ166=\"\",\"\",INDEX('OTRAS REFERENCIAS'!$Q$6:$R$11,MATCH(AJ166,'OTRAS REFERENCIAS'!$R$6:$R$11,0),1))","v":""},null,null,null,{"$f":"IF(AN166=\"\",\"\",INDEX('OTRAS REFERENCIAS'!$T$6:$U$11,MATCH(AN166,'OTRAS REFERENCIAS'!$U$6:$U$11,0),1))","v":""}]
[1,"",165,"","",{"$f":"IF(L167<>\"\",CONCATENATE(DIGITADOR!$B$2,$A$2,DIGITADOR!$M$1,A167),\"\")","v":""},null,null,"",{"$f":"IF(K167=\"\",\"\",INDEX('OTRAS REFERENCIAS'!$AL:$AM,MATCH(K167,'OTRAS REFERENCIAS'!$AL:$AL,0),2))","v":""},null,{"$f":"IF(J167=\"\",\"\",INDEX(REFERENTES!$A:$D,MATCH(J167,REFERENTES!$C:$C,0),3))","v":""},null,null,null,null,null,null,null,{"$f":"IF(U167=\"\",\"\",INDEX('OTRAS REFERENCIAS'!$H$6:$I$11,MATCH(U167,'OTRAS REFERENCIAS'!$I$6:$I$11,0),1))","v":""},null,null,null,null,{"$f":"IF(Z167=\"\",\"\",INDEX('OTRAS REFERENCIAS'!$K$6:$L$11,MATCH(Z167,'OTRAS REFERENCIAS'!$L$6:$L$11,0),1))","v":""},null,null,null,null,{"$f":"IF(AE167=\"\",\"\",INDEX('OTRAS REFERENCIAS'!$N$6:$O$11,MATCH(AE167,'OTRAS REFERENCIAS'!$O$6:$O$11,0),1))","v":""},null,null,null,null,{"$f":"IF(AJ167=\"\",\"\",INDEX('OTRAS REFERENCIAS'!$Q$6:$R$11,MATCH(AJ167,'OTRAS REFERENCIAS'!$R$6:$R$11,0),1))","v":""},null,null,null,{"$f":"IF(AN167=\"\",\"\",INDEX('OTRAS REFERENCIAS'!$T$6:$U$11,MATCH(AN167,'OTRAS REFERENCIAS'!$U$6:$U$11,0),1))","v":""}]
[1,"",166,"","",{"$f":"IF(L168<>\"\",CONCATENATE(DIGITADOR!$B$2,$A$2,DIGITADOR!$M$1,A168),\"\")","v":""},null,null,"",{"$f":"IF(K168=\"\",\"\",INDEX('OTRAS REFERENCIAS'!$AL:$AM,MATCH(K168,'OTRAS REFERENCIAS'!$AL:$AL,0),2))","v":""},null,{"$f":"IF(J168=\"\",\"\",INDEX(REFERENTES!$A:$D,MATCH(J168,REFERENTES!$C:$C,0),3))","v":""},null,null,null,null,null,null,null,{"$f":"IF(U168=\"\",\"\",INDEX('OTRAS REFERENCIAS'!$H$6:$I$11,MATCH(U168,'OTRAS REFERENCIAS'!$I$6:$I$11,0),1))","v":""},null,null,null,null,{"$f":"IF(Z168=\"\",\"\",INDEX('OTRAS REFERENCIAS'!$K$6:$L$11,MATCH(Z168,'OTRAS REFERENCIAS'!$L$6:$L$11,0),1))","v":""},null,null,null,null,{"$f":"IF(AE168=\"\",\"\",INDEX('OTRAS REFERENCIAS'!$N$6:$O$11,MATCH(AE168,'OTRAS REFERENCIAS'!$O$6:$O$11,0),1))","v":""},null,null,null,null,{"$f":"IF(AJ168=\"\",\"\",INDEX('OTRAS REFERENCIAS'!$Q$6:$R$11,MATCH(AJ168,'OTRAS REFERENCIAS'!$R$6:$R$11,0),1))","v":""},null,null,null,{"$f":"IF(AN168=\"\",\"\",INDEX('OTRAS REFERENCIAS'!$T$6:$U$11,MATCH(AN168,'OTRAS REFERENCIAS'!$U$6:$U$11,0),1))","v":""}]
[1,"",167,"","",{"$f":"IF(L169<>\"\",CONCATENATE(DIGITADOR!$B$2,$A$2,DIGITADOR!$M$1,A169),\"\")","v":""},null,null,"",{"$f":"IF(K169=\"\",\"\",INDEX('OTRAS REFERENCIAS'!$AL:$AM,MATCH(K169,'OTRAS REFERENCIAS'!$AL:$AL,0),2))","v":""},null,{"$f":"IF(J169=\"\",\"\",INDEX(REFERENTES!$A:$D,MATCH(J169,REFERENTES!$C:$C,0),3))","v":""},null,null,null,null,null,null,null,{"$f":"IF(U169=\"\",\"\",INDEX('OTRAS REFERENCIAS'!$H$6:$I$11,MATCH(U169,'OTRAS REFERENCIAS'!$I$6:$I$11,0),1))","v":""},null,null,null,null,{"$f":"IF(Z169=\"\",\"\",INDEX('OTRAS REFERENCIAS'!$K$6:$L$11,MATCH(Z169,'OTRAS REFERENCIAS'!$L$6:$L$11,0),1))","v":""},null,null,null,null,{"$f":"IF(AE169=\"\",\"\",INDEX('OTRAS REFERENCIAS'!$N$6:$O$11,MATCH(AE169,'OTRAS REFERENCIAS'!$O$6:$O$11,0),1))","v":""},null,null,null,null,{"$f":"IF(AJ169=\"\",\"\",INDEX('OTRAS REFERENCIAS'!$Q$6:$R$11,MATCH(AJ169,'OTRAS REFERENCIAS'!$R$6:$R$11,0),1))","v":""},null,null,null,{"$f":"IF(AN169=\"\",\"\",INDEX('OTRAS REFERENCIAS'!$T$6:$U$11,MATCH(AN169,'OTRAS REFERENCIAS'!$U$6:$U$11,0),1))","v":""}]
[1,"",168,"","",{"$f":"IF(L170<>\"\",CONCATENATE(DIGITADOR!$B$2,$A$2,DIGITADOR!$M$1,A170),\"\")","v":""},null,null,"",{"$f":"IF(K170=\"\",\"\",INDEX('OTRAS REFERENCIAS'!$AL:$AM,MATCH(K170,'OTRAS REFERENCIAS'!$AL:$AL,0),2))","v":""},null,{"$f":"IF(J170=\"\",\"\",INDEX(REFERENTES!$A:$D,MATCH(J170,REFERENTES!$C:$C,0),3))","v":""},null,null,null,null,null,null,null,{"$f":"IF(U170=\"\",\"\",INDEX('OTRAS REFERENCIAS'!$H$6:$I$11,MATCH(U170,'OTRAS REFERENCIAS'!$I$6:$I$11,0),1))","v":""},null,null,null,null,{"$f":"IF(Z170=\"\",\"\",INDEX('OTRAS REFERENCIAS'!$K$6:$L$11,MATCH(Z170,'OTRAS REFERENCIAS'!$L$6:$L$11,0),1))","v":""},null,null,null,null,{"$f":"IF(AE170=\"\",\"\",INDEX('OTRAS REFERENCIAS'!$N$6:$O$11,MATCH(AE170,'OTRAS REFERENCIAS'!$O$6:$O$11,0),1))","v":""},null,null,null,null,{"$f":"IF(AJ170=\"\",\"\",INDEX('OTRAS REFERENCIAS'!$Q$6:$R$11,MATCH(AJ170,'OTRAS REFERENCIAS'!$R$6:$R$11,0),1))","v":""},null,null,null,{"$f":"IF(AN170=\"\",\"\",INDEX('OTRAS REFERENCIAS'!$T$6:$U$11,MATCH(AN170,'OTRAS REFERENCIAS'!$U$6:$U$11,0),1))","v":""}]
[1,"",169,"","",{"$f":"IF(L171<>\"\",CONCATENATE(DIGITADOR!$B$2,$A$2,DIGITADOR!$M$1,A171),\"\")","v":""},null,null,"",{"$f":"IF(K171=\"\",\"\",INDEX('OTRAS REFERENCIAS'!$AL:$AM,MATCH(K171,'OTRAS REFERENCIAS'!$AL:$AL,0),2))","v":""},null,{"$f":"IF(J171=\"\",\"\",INDEX(REFERENTES!$A:$D,MATCH(J171,REFERENTES!$C:$C,0),3))","v":""},null,null,null,null,null,null,null,{"$f":"IF(U171=\"\",\"\",INDEX('OTRAS REFERENCIAS'!$H$6:$I$11,MATCH(U171,'OTRAS REFERENCIAS'!$I$6:$I$11,0),1))","v":""},null,null,null,null,{"$f":"IF(Z171=\"\",\"\",INDEX('OTRAS REFERENCIAS'!$K$6:$L$11,MATCH(Z171,'OTRAS REFERENCIAS'!$L$6:$L$11,0),1))","v":""},null,null,null,null,{"$f":"IF(AE171=\"\",\"\",INDEX('OTRAS REFERENCIAS'!$N$6:$O$11,MATCH(AE171,'OTRAS REFERENCIAS'!$O$6:$O$11,0),1))","v":""},null,null,null,null,{"$f":"IF(AJ171=\"\",\"\",INDEX('OTRAS REFERENCIAS'!$Q$6:$R$11,MATCH(AJ171,'OTRAS REFERENCIAS'!$R$6:$R$11,0),1))","v":""},null,null,null,{"$f":"IF(AN171=\"\",\"\",INDEX('OTRAS REFERENCIAS'!$T$6:$U$11,MATCH(AN171,'OTRAS REFERENCIAS'!$U$6:$U$11,0),1))","v":""}]
[1,"",170,"","",{"$f":"IF(L172<>\"\",CONCATENATE(DIGITADOR!$B$2,$A$2,DIGITADOR!$M$1,A172),\"\")","v":""},null,null,"",{"$f":"IF(K172=\"\",\"\",INDEX('OTRAS REFERENCIAS'!$AL:$AM,MATCH(K172,'OTRAS REFERENCIAS'!$AL:$AL,0),2))","v":""},null,{"$f":"IF(J172=\"\",\"\",INDEX(REFERENTES!$A:$D,MATCH(J172,REFERENTES!$C:$C,0),3))","v":""},null,null,null,null,null,null,null,{"$f":"IF(U172=\"\",\"\",INDEX('OTRAS REFERENCIAS'!$H$6:$I$11,MATCH(U172,'OTRAS REFERENCIAS'!$I$6:$I$11,0),1))","v":""},null,null,null,null,{"$f":"IF(Z172=\"\",\"\",INDEX('OTRAS REFERENCIAS'!$K$6:$L$11,MATCH(Z172,'OTRAS REFERENCIAS'!$L$6:$L$11,0),1))","v":""},null,null,null,null,{"$f":"IF(AE172=\"\",\"\",INDEX('OTRAS REFERENCIAS'!$N$6:$O$11,MATCH(AE172,'OTRAS REFERENCIAS'!$O$6:$O$11,0),1))","v":""},null,null,null,null,{"$f":"IF(AJ172=\"\",\"\",INDEX('OTRAS REFERENCIAS'!$Q$6:$R$11,MATCH(AJ172,'OTRAS REFERENCIAS'!$R$6:$R$11,0),1))","v":""},null,null,null,{"$f":"IF(AN172=\"\",\"\",INDEX('OTRAS REFERENCIAS'!$T$6:$U$11,MATCH(AN172,'OTRAS REFERENCIAS'!$U$6:$U$11,0),1))","v":""}]
[1,"",171,"","",{"$f":"IF(L173<>\"\",CONCATENATE(DIGITADOR!$B$2,$A$2,DIGITADOR!$M$1,A173),\"\")","v":""},null,null,"",{"$f":"IF(K173=\"\",\"\",INDEX('OTRAS REFERENCIAS'!$AL:$AM,MATCH(K173,'OTRAS REFERENCIAS'!$AL:$AL,0),2))","v":""},null,{"$f":"IF(J173=\"\",\"\",INDEX(REFERENTES!$A:$D,MATCH(J173,REFERENTES!$C:$C,0),3))","v":""},null,null,null,null,null,null,null,{"$f":"IF(U173=\"\",\"\",INDEX('OTRAS REFERENCIAS'!$H$6:$I$11,MATCH(U173,'OTRAS REFERENCIAS'!$I$6:$I$11,0),1))","v":""},null,null,null,null,{"$f":"IF(Z173=\"\",\"\",INDEX('OTRAS REFERENCIAS'!$K$6:$L$11,MATCH(Z173,'OTRAS REFERENCIAS'!$L$6:$L$11,0),1))","v":""},null,null,null,null,{"$f":"IF(AE173=\"\",\"\",INDEX('OTRAS REFERENCIAS'!$N$6:$O$11,MATCH(AE173,'OTRAS REFERENCIAS'!$O$6:$O$11,0),1))","v":""},null,null,null,null,{"$f":"IF(AJ173=\"\",\"\",INDEX('OTRAS REFERENCIAS'!$Q$6:$R$11,MATCH(AJ173,'OTRAS REFERENCIAS'!$R$6:$R$11,0),1))","v":""},null,null,null,{"$f":"IF(AN173=\"\",\"\",INDEX('OTRAS REFERENCIAS'!$T$6:$U$11,MATCH(AN173,'OTRAS REFERENCIAS'!$U$6:$U$11,0),1))","v":""}]
[1,"",172,"","",{"$f":"IF(L174<>\"\",CONCATENATE(DIGITADOR!$B$2,$A$2,DIGITADOR!$M$1,A174),\"\")","v":""},null,null,"",{"$f":"IF(K174=\"\",\"\",INDEX('OTRAS REFERENCIAS'!$AL:$AM,MATCH(K174,'OTRAS REFERENCIAS'!$AL:$AL,0),2))","v":""},null,{"$f":"IF(J174=\"\",\"\",INDEX(REFERENTES!$A:$D,MATCH(J174,REFERENTES!$C:$C,0),3))","v":""},null,null,null,null,null,null,null,{"$f":"IF(U174=\"\",\"\",INDEX('OTRAS REFERENCIAS'!$H$6:$I$11,MATCH(U174,'OTRAS REFERENCIAS'!$I$6:$I$11,0),1))","v":""},null,null,null,null,{"$f":"IF(Z174=\"\",\"\",INDEX('OTRAS REFERENCIAS'!$K$6:$L$11,MATCH(Z174,'OTRAS REFERENCIAS'!$L$6:$L$11,0),1))","v":""},null,null,null,null,{"$f":"IF(AE174=\"\",\"\",INDEX('OTRAS REFERENCIAS'!$N$6:$O$11,MATCH(AE174,'OTRAS REFERENCIAS'!$O$6:$O$11,0),1))","v":""},null,null,null,null,{"$f":"IF(AJ174=\"\",\"\",INDEX('OTRAS REFERENCIAS'!$Q$6:$R$11,MATCH(AJ174,'OTRAS REFERENCIAS'!$R$6:$R$11,0),1))","v":""},null,null,null,{"$f":"IF(AN174=\"\",\"\",INDEX('OTRAS REFERENCIAS'!$T$6:$U$11,MATCH(AN174,'OTRAS REFERENCIAS'!$U$6:$U$11,0),1))","v":""}]
[1,"",173,"","",{"$f":"IF(L175<>\"\",CONCATENATE(DIGITADOR!$B$2,$A$2,DIGITADOR!$M$1,A175),\"\")","v":""},null,null,"",{"$f":"IF(K175=\"\",\"\",INDEX('OTRAS REFERENCIAS'!$AL:$AM,MATCH(K175,'OTRAS REFERENCIAS'!$AL:$AL,0),2))","v":""},null,{"$f":"IF(J175=\"\",\"\",INDEX(REFERENTES!$A:$D,MATCH(J175,REFERENTES!$C:$C,0),3))","v":""},null,null,null,null,null,null,null,{"$f":"IF(U175=\"\",\"\",INDEX('OTRAS REFERENCIAS'!$H$6:$I$11,MATCH(U175,'OTRAS REFERENCIAS'!$I$6:$I$11,0),1))","v":""},null,null,null,null,{"$f":"IF(Z175=\"\",\"\",INDEX('OTRAS REFERENCIAS'!$K$6:$L$11,MATCH(Z175,'OTRAS REFERENCIAS'!$L$6:$L$11,0),1))","v":""},null,null,null,null,{"$f":"IF(AE175=\"\",\"\",INDEX('OTRAS REFERENCIAS'!$N$6:$O$11,MATCH(AE175,'OTRAS REFERENCIAS'!$O$6:$O$11,0),1))","v":""},null,null,null,null,{"$f":"IF(AJ175=\"\",\"\",INDEX('OTRAS REFERENCIAS'!$Q$6:$R$11,MATCH(AJ175,'OTRAS REFERENCIAS'!$R$6:$R$11,0),1))","v":""},null,null,null,{"$f":"IF(AN175=\"\",\"\",INDEX('OTRAS REFERENCIAS'!$T$6:$U$11,MATCH(AN175,'OTRAS REFERENCIAS'!$U$6:$U$11,0),1))","v":""}]
[1,"",174,"","",{"$f":"IF(L176<>\"\",CONCATENATE(DIGITADOR!$B$2,$A$2,DIGITADOR!$M$1,A176),\"\")","v":""},null,null,"",{"$f":"IF(K176=\"\",\"\",INDEX('OTRAS REFERENCIAS'!$AL:$AM,MATCH(K176,'OTRAS REFERENCIAS'!$AL:$AL,0),2))","v":""},null,{"$f":"IF(J176=\"\",\"\",INDEX(REFERENTES!$A:$D,MATCH(J176,REFERENTES!$C:$C,0),3))","v":""},null,null,null,null,null,null,null,{"$f":"IF(U176=\"\",\"\",INDEX('OTRAS REFERENCIAS'!$H$6:$I$11,MATCH(U176,'OTRAS REFERENCIAS'!$I$6:$I$11,0),1))","v":""},null,null,null,null,{"$f":"IF(Z176=\"\",\"\",INDEX('OTRAS REFERENCIAS'!$K$6:$L$11,MATCH(Z176,'OTRAS REFERENCIAS'!$L$6:$L$11,0),1))","v":""},null,null,null,null,{"$f":"IF(AE176=\"\",\"\",INDEX('OTRAS REFERENCIAS'!$N$6:$O$11,MATCH(AE176,'OTRAS REFERENCIAS'!$O$6:$O$11,0),1))","v":""},null,null,null,null,{"$f":"IF(AJ176=\"\",\"\",INDEX('OTRAS REFERENCIAS'!$Q$6:$R$11,MATCH(AJ176,'OTRAS REFERENCIAS'!$R$6:$R$11,0),1))","v":""},null,null,null,{"$f":"IF(AN176=\"\",\"\",INDEX('OTRAS REFERENCIAS'!$T$6:$U$11,MATCH(AN176,'OTRAS REFERENCIAS'!$U$6:$U$11,0),1))","v":""}]
[1,"",175,"","",{"$f":"IF(L177<>\"\",CONCATENATE(DIGITADOR!$B$2,$A$2,DIGITADOR!$M$1,A177),\"\")","v":""},null,null,"",{"$f":"IF(K177=\"\",\"\",INDEX('OTRAS REFERENCIAS'!$AL:$AM,MATCH(K177,'OTRAS REFERENCIAS'!$AL:$AL,0),2))","v":""},null,{"$f":"IF(J177=\"\",\"\",INDEX(REFERENTES!$A:$D,MATCH(J177,REFERENTES!$C:$C,0),3))","v":""},null,null,null,null,null,null,null,{"$f":"IF(U177=\"\",\"\",INDEX('OTRAS REFERENCIAS'!$H$6:$I$11,MATCH(U177,'OTRAS REFERENCIAS'!$I$6:$I$11,0),1))","v":""},null,null,null,null,{"$f":"IF(Z177=\"\",\"\",INDEX('OTRAS REFERENCIAS'!$K$6:$L$11,MATCH(Z177,'OTRAS REFERENCIAS'!$L$6:$L$11,0),1))","v":""},null,null,null,null,{"$f":"IF(AE177=\"\",\"\",INDEX('OTRAS REFERENCIAS'!$N$6:$O$11,MATCH(AE177,'OTRAS REFERENCIAS'!$O$6:$O$11,0),1))","v":""},null,null,null,null,{"$f":"IF(AJ177=\"\",\"\",INDEX('OTRAS REFERENCIAS'!$Q$6:$R$11,MATCH(AJ177,'OTRAS REFERENCIAS'!$R$6:$R$11,0),1))","v":""},null,null,null,{"$f":"IF(AN177=\"\",\"\",INDEX('OTRAS REFERENCIAS'!$T$6:$U$11,MATCH(AN177,'OTRAS REFERENCIAS'!$U$6:$U$11,0),1))","v":""}]
[1,"",176,"","",{"$f":"IF(L178<>\"\",CONCATENATE(DIGITADOR!$B$2,$A$2,DIGITADOR!$M$1,A178),\"\")","v":""},null,null,"",{"$f":"IF(K178=\"\",\"\",INDEX('OTRAS REFERENCIAS'!$AL:$AM,MATCH(K178,'OTRAS REFERENCIAS'!$AL:$AL,0),2))","v":""},null,{"$f":"IF(J178=\"\",\"\",INDEX(REFERENTES!$A:$D,MATCH(J178,REFERENTES!$C:$C,0),3))","v":""},null,null,null,null,null,null,null,{"$f":"IF(U178=\"\",\"\",INDEX('OTRAS REFERENCIAS'!$H$6:$I$11,MATCH(U178,'OTRAS REFERENCIAS'!$I$6:$I$11,0),1))","v":""},null,null,null,null,{"$f":"IF(Z178=\"\",\"\",INDEX('OTRAS REFERENCIAS'!$K$6:$L$11,MATCH(Z178,'OTRAS REFERENCIAS'!$L$6:$L$11,0),1))","v":""},null,null,null,null,{"$f":"IF(AE178=\"\",\"\",INDEX('OTRAS REFERENCIAS'!$N$6:$O$11,MATCH(AE178,'OTRAS REFERENCIAS'!$O$6:$O$11,0),1))","v":""},null,null,null,null,{"$f":"IF(AJ178=\"\",\"\",INDEX('OTRAS REFERENCIAS'!$Q$6:$R$11,MATCH(AJ178,'OTRAS REFERENCIAS'!$R$6:$R$11,0),1))","v":""},null,null,null,{"$f":"IF(AN178=\"\",\"\",INDEX('OTRAS REFERENCIAS'!$T$6:$U$11,MATCH(AN178,'OTRAS REFERENCIAS'!$U$6:$U$11,0),1))","v":""}]
[1,"",177,"","",{"$f":"IF(L179<>\"\",CONCATENATE(DIGITADOR!$B$2,$A$2,DIGITADOR!$M$1,A179),\"\")","v":""},null,null,"",{"$f":"IF(K179=\"\",\"\",INDEX('OTRAS REFERENCIAS'!$AL:$AM,MATCH(K179,'OTRAS REFERENCIAS'!$AL:$AL,0),2))","v":""},null,{"$f":"IF(J179=\"\",\"\",INDEX(REFERENTES!$A:$D,MATCH(J179,REFERENTES!$C:$C,0),3))","v":""},null,null,null,null,null,null,null,{"$f":"IF(U179=\"\",\"\",INDEX('OTRAS REFERENCIAS'!$H$6:$I$11,MATCH(U179,'OTRAS REFERENCIAS'!$I$6:$I$11,0),1))","v":""},null,null,null,null,{"$f":"IF(Z179=\"\",\"\",INDEX('OTRAS REFERENCIAS'!$K$6:$L$11,MATCH(Z179,'OTRAS REFERENCIAS'!$L$6:$L$11,0),1))","v":""},null,null,null,null,{"$f":"IF(AE179=\"\",\"\",INDEX('OTRAS REFERENCIAS'!$N$6:$O$11,MATCH(AE179,'OTRAS REFERENCIAS'!$O$6:$O$11,0),1))","v":""},null,null,null,null,{"$f":"IF(AJ179=\"\",\"\",INDEX('OTRAS REFERENCIAS'!$Q$6:$R$11,MATCH(AJ179,'OTRAS REFERENCIAS'!$R$6:$R$11,0),1))","v":""},null,null,null,{"$f":"IF(AN179=\"\",\"\",INDEX('OTRAS REFERENCIAS'!$T$6:$U$11,MATCH(AN179,'OTRAS REFERENCIAS'!$U$6:$U$11,0),1))","v":""}]
[1,"",178,"","",{"$f":"IF(L180<>\"\",CONCATENATE(DIGITADOR!$B$2,$A$2,DIGITADOR!$M$1,A180),\"\")","v":""},null,null,"",{"$f":"IF(K180=\"\",\"\",INDEX('OTRAS REFERENCIAS'!$AL:$AM,MATCH(K180,'OTRAS REFERENCIAS'!$AL:$AL,0),2))","v":""},null,{"$f":"IF(J180=\"\",\"\",INDEX(REFERENTES!$A:$D,MATCH(J180,REFERENTES!$C:$C,0),3))","v":""},null,null,null,null,null,null,null,{"$f":"IF(U180=\"\",\"\",INDEX('OTRAS REFERENCIAS'!$H$6:$I$11,MATCH(U180,'OTRAS REFERENCIAS'!$I$6:$I$11,0),1))","v":""},null,null,null,null,{"$f":"IF(Z180=\"\",\"\",INDEX('OTRAS REFERENCIAS'!$K$6:$L$11,MATCH(Z180,'OTRAS REFERENCIAS'!$L$6:$L$11,0),1))","v":""},null,null,null,null,{"$f":"IF(AE180=\"\",\"\",INDEX('OTRAS REFERENCIAS'!$N$6:$O$11,MATCH(AE180,'OTRAS REFERENCIAS'!$O$6:$O$11,0),1))","v":""},null,null,null,null,{"$f":"IF(AJ180=\"\",\"\",INDEX('OTRAS REFERENCIAS'!$Q$6:$R$11,MATCH(AJ180,'OTRAS REFERENCIAS'!$R$6:$R$11,0),1))","v":""},null,null,null,{"$f":"IF(AN180=\"\",\"\",INDEX('OTRAS REFERENCIAS'!$T$6:$U$11,MATCH(AN180,'OTRAS REFERENCIAS'!$U$6:$U$11,0),1))","v":""}]
[1,"",179,"","",{"$f":"IF(L181<>\"\",CONCATENATE(DIGITADOR!$B$2,$A$2,DIGITADOR!$M$1,A181),\"\")","v":""},null,null,"",{"$f":"IF(K181=\"\",\"\",INDEX('OTRAS REFERENCIAS'!$AL:$AM,MATCH(K181,'OTRAS REFERENCIAS'!$AL:$AL,0),2))","v":""},null,{"$f":"IF(J181=\"\",\"\",INDEX(REFERENTES!$A:$D,MATCH(J181,REFERENTES!$C:$C,0),3))","v":""},null,null,null,null,null,null,null,{"$f":"IF(U181=\"\",\"\",INDEX('OTRAS REFERENCIAS'!$H$6:$I$11,MATCH(U181,'OTRAS REFERENCIAS'!$I$6:$I$11,0),1))","v":""},null,null,null,null,{"$f":"IF(Z181=\"\",\"\",INDEX('OTRAS REFERENCIAS'!$K$6:$L$11,MATCH(Z181,'OTRAS REFERENCIAS'!$L$6:$L$11,0),1))","v":""},null,null,null,null,{"$f":"IF(AE181=\"\",\"\",INDEX('OTRAS REFERENCIAS'!$N$6:$O$11,MATCH(AE181,'OTRAS REFERENCIAS'!$O$6:$O$11,0),1))","v":""},null,null,null,null,{"$f":"IF(AJ181=\"\",\"\",INDEX('OTRAS REFERENCIAS'!$Q$6:$R$11,MATCH(AJ181,'OTRAS REFERENCIAS'!$R$6:$R$11,0),1))","v":""},null,null,null,{"$f":"IF(AN181=\"\",\"\",INDEX('OTRAS REFERENCIAS'!$T$6:$U$11,MATCH(AN181,'OTRAS REFERENCIAS'!$U$6:$U$11,0),1))","v":""}]
[1,"",180,"","",{"$f":"IF(L182<>\"\",CONCATENATE(DIGITADOR!$B$2,$A$2,DIGITADOR!$M$1,A182),\"\")","v":""},null,null,"",{"$f":"IF(K182=\"\",\"\",INDEX('OTRAS REFERENCIAS'!$AL:$AM,MATCH(K182,'OTRAS REFERENCIAS'!$AL:$AL,0),2))","v":""},null,{"$f":"IF(J182=\"\",\"\",INDEX(REFERENTES!$A:$D,MATCH(J182,REFERENTES!$C:$C,0),3))","v":""},null,null,null,null,null,null,null,{"$f":"IF(U182=\"\",\"\",INDEX('OTRAS REFERENCIAS'!$H$6:$I$11,MATCH(U182,'OTRAS REFERENCIAS'!$I$6:$I$11,0),1))","v":""},null,null,null,null,{"$f":"IF(Z182=\"\",\"\",INDEX('OTRAS REFERENCIAS'!$K$6:$L$11,MATCH(Z182,'OTRAS REFERENCIAS'!$L$6:$L$11,0),1))","v":""},null,null,null,null,{"$f":"IF(AE182=\"\",\"\",INDEX('OTRAS REFERENCIAS'!$N$6:$O$11,MATCH(AE182,'OTRAS REFERENCIAS'!$O$6:$O$11,0),1))","v":""},null,null,null,null,{"$f":"IF(AJ182=\"\",\"\",INDEX('OTRAS REFERENCIAS'!$Q$6:$R$11,MATCH(AJ182,'OTRAS REFERENCIAS'!$R$6:$R$11,0),1))","v":""},null,null,null,{"$f":"IF(AN182=\"\",\"\",INDEX('OTRAS REFERENCIAS'!$T$6:$U$11,MATCH(AN182,'OTRAS REFERENCIAS'!$U$6:$U$11,0),1))","v":""}]
[1,"",181,"","",{"$f":"IF(L183<>\"\",CONCATENATE(DIGITADOR!$B$2,$A$2,DIGITADOR!$M$1,A183),\"\")","v":""},null,null,"",{"$f":"IF(K183=\"\",\"\",INDEX('OTRAS REFERENCIAS'!$AL:$AM,MATCH(K183,'OTRAS REFERENCIAS'!$AL:$AL,0),2))","v":""},null,{"$f":"IF(J183=\"\",\"\",INDEX(REFERENTES!$A:$D,MATCH(J183,REFERENTES!$C:$C,0),3))","v":""},null,null,null,null,null,null,null,{"$f":"IF(U183=\"\",\"\",INDEX('OTRAS REFERENCIAS'!$H$6:$I$11,MATCH(U183,'OTRAS REFERENCIAS'!$I$6:$I$11,0),1))","v":""},null,null,null,null,{"$f":"IF(Z183=\"\",\"\",INDEX('OTRAS REFERENCIAS'!$K$6:$L$11,MATCH(Z183,'OTRAS REFERENCIAS'!$L$6:$L$11,0),1))","v":""},null,null,null,null,{"$f":"IF(AE183=\"\",\"\",INDEX('OTRAS REFERENCIAS'!$N$6:$O$11,MATCH(AE183,'OTRAS REFERENCIAS'!$O$6:$O$11,0),1))","v":""},null,null,null,null,{"$f":"IF(AJ183=\"\",\"\",INDEX('OTRAS REFERENCIAS'!$Q$6:$R$11,MATCH(AJ183,'OTRAS REFERENCIAS'!$R$6:$R$11,0),1))","v":""},null,null,null,{"$f":"IF(AN183=\"\",\"\",INDEX('OTRAS REFERENCIAS'!$T$6:$U$11,MATCH(AN183,'OTRAS REFERENCIAS'!$U$6:$U$11,0),1))","v":""}]
[1,"",182,"","",{"$f":"IF(L184<>\"\",CONCATENATE(DIGITADOR!$B$2,$A$2,DIGITADOR!$M$1,A184),\"\")","v":""},null,null,"",{"$f":"IF(K184=\"\",\"\",INDEX('OTRAS REFERENCIAS'!$AL:$AM,MATCH(K184,'OTRAS REFERENCIAS'!$AL:$AL,0),2))","v":""},null,{"$f":"IF(J184=\"\",\"\",INDEX(REFERENTES!$A:$D,MATCH(J184,REFERENTES!$C:$C,0),3))","v":""},null,null,null,null,null,null,null,{"$f":"IF(U184=\"\",\"\",INDEX('OTRAS REFERENCIAS'!$H$6:$I$11,MATCH(U184,'OTRAS REFERENCIAS'!$I$6:$I$11,0),1))","v":""},null,null,null,null,{"$f":"IF(Z184=\"\",\"\",INDEX('OTRAS REFERENCIAS'!$K$6:$L$11,MATCH(Z184,'OTRAS REFERENCIAS'!$L$6:$L$11,0),1))","v":""},null,null,null,null,{"$f":"IF(AE184=\"\",\"\",INDEX('OTRAS REFERENCIAS'!$N$6:$O$11,MATCH(AE184,'OTRAS REFERENCIAS'!$O$6:$O$11,0),1))","v":""},null,null,null,null,{"$f":"IF(AJ184=\"\",\"\",INDEX('OTRAS REFERENCIAS'!$Q$6:$R$11,MATCH(AJ184,'OTRAS REFERENCIAS'!$R$6:$R$11,0),1))","v":""},null,null,null,{"$f":"IF(AN184=\"\",\"\",INDEX('OTRAS REFERENCIAS'!$T$6:$U$11,MATCH(AN184,'OTRAS REFERENCIAS'!$U$6:$U$11,0),1))","v":""}]
[1,"",183,"","",{"$f":"IF(L185<>\"\",CONCATENATE(DIGITADOR!$B$2,$A$2,DIGITADOR!$M$1,A185),\"\")","v":""},null,null,"",{"$f":"IF(K185=\"\",\"\",INDEX('OTRAS REFERENCIAS'!$AL:$AM,MATCH(K185,'OTRAS REFERENCIAS'!$AL:$AL,0),2))","v":""},null,{"$f":"IF(J185=\"\",\"\",INDEX(REFERENTES!$A:$D,MATCH(J185,REFERENTES!$C:$C,0),3))","v":""},null,null,null,null,null,null,null,{"$f":"IF(U185=\"\",\"\",INDEX('OTRAS REFERENCIAS'!$H$6:$I$11,MATCH(U185,'OTRAS REFERENCIAS'!$I$6:$I$11,0),1))","v":""},null,null,null,null,{"$f":"IF(Z185=\"\",\"\",INDEX('OTRAS REFERENCIAS'!$K$6:$L$11,MATCH(Z185,'OTRAS REFERENCIAS'!$L$6:$L$11,0),1))","v":""},null,null,null,null,{"$f":"IF(AE185=\"\",\"\",INDEX('OTRAS REFERENCIAS'!$N$6:$O$11,MATCH(AE185,'OTRAS REFERENCIAS'!$O$6:$O$11,0),1))","v":""},null,null,null,null,{"$f":"IF(AJ185=\"\",\"\",INDEX('OTRAS REFERENCIAS'!$Q$6:$R$11,MATCH(AJ185,'OTRAS REFERENCIAS'!$R$6:$R$11,0),1))","v":""},null,null,null,{"$f":"IF(AN185=\"\",\"\",INDEX('OTRAS REFERENCIAS'!$T$6:$U$11,MATCH(AN185,'OTRAS REFERENCIAS'!$U$6:$U$11,0),1))","v":""}]
[1,"",184,"","",{"$f":"IF(L186<>\"\",CONCATENATE(DIGITADOR!$B$2,$A$2,DIGITADOR!$M$1,A186),\"\")","v":""},null,null,"",{"$f":"IF(K186=\"\",\"\",INDEX('OTRAS REFERENCIAS'!$AL:$AM,MATCH(K186,'OTRAS REFERENCIAS'!$AL:$AL,0),2))","v":""},null,{"$f":"IF(J186=\"\",\"\",INDEX(REFERENTES!$A:$D,MATCH(J186,REFERENTES!$C:$C,0),3))","v":""},null,null,null,null,null,null,null,{"$f":"IF(U186=\"\",\"\",INDEX('OTRAS REFERENCIAS'!$H$6:$I$11,MATCH(U186,'OTRAS REFERENCIAS'!$I$6:$I$11,0),1))","v":""},null,null,null,null,{"$f":"IF(Z186=\"\",\"\",INDEX('OTRAS REFERENCIAS'!$K$6:$L$11,MATCH(Z186,'OTRAS REFERENCIAS'!$L$6:$L$11,0),1))","v":""},null,null,null,null,{"$f":"IF(AE186=\"\",\"\",INDEX('OTRAS REFERENCIAS'!$N$6:$O$11,MATCH(AE186,'OTRAS REFERENCIAS'!$O$6:$O$11,0),1))","v":""},null,null,null,null,{"$f":"IF(AJ186=\"\",\"\",INDEX('OTRAS REFERENCIAS'!$Q$6:$R$11,MATCH(AJ186,'OTRAS REFERENCIAS'!$R$6:$R$11,0),1))","v":""},null,null,null,{"$f":"IF(AN186=\"\",\"\",INDEX('OTRAS REFERENCIAS'!$T$6:$U$11,MATCH(AN186,'OTRAS REFERENCIAS'!$U$6:$U$11,0),1))","v":""}]
[1,"",185,"","",{"$f":"IF(L187<>\"\",CONCATENATE(DIGITADOR!$B$2,$A$2,DIGITADOR!$M$1,A187),\"\")","v":""},null,null,"",{"$f":"IF(K187=\"\",\"\",INDEX('OTRAS REFERENCIAS'!$AL:$AM,MATCH(K187,'OTRAS REFERENCIAS'!$AL:$AL,0),2))","v":""},null,{"$f":"IF(J187=\"\",\"\",INDEX(REFERENTES!$A:$D,MATCH(J187,REFERENTES!$C:$C,0),3))","v":""},null,null,null,null,null,null,null,{"$f":"IF(U187=\"\",\"\",INDEX('OTRAS REFERENCIAS'!$H$6:$I$11,MATCH(U187,'OTRAS REFERENCIAS'!$I$6:$I$11,0),1))","v":""},null,null,null,null,{"$f":"IF(Z187=\"\",\"\",INDEX('OTRAS REFERENCIAS'!$K$6:$L$11,MATCH(Z187,'OTRAS REFERENCIAS'!$L$6:$L$11,0),1))","v":""},null,null,null,null,{"$f":"IF(AE187=\"\",\"\",INDEX('OTRAS REFERENCIAS'!$N$6:$O$11,MATCH(AE187,'OTRAS REFERENCIAS'!$O$6:$O$11,0),1))","v":""},null,null,null,null,{"$f":"IF(AJ187=\"\",\"\",INDEX('OTRAS REFERENCIAS'!$Q$6:$R$11,MATCH(AJ187,'OTRAS REFERENCIAS'!$R$6:$R$11,0),1))","v":""},null,null,null,{"$f":"IF(AN187=\"\",\"\",INDEX('OTRAS REFERENCIAS'!$T$6:$U$11,MATCH(AN187,'OTRAS REFERENCIAS'!$U$6:$U$11,0),1))","v":""}]
[1,"",186,"","",{"$f":"IF(L188<>\"\",CONCATENATE(DIGITADOR!$B$2,$A$2,DIGITADOR!$M$1,A188),\"\")","v":""},null,null,"",{"$f":"IF(K188=\"\",\"\",INDEX('OTRAS REFERENCIAS'!$AL:$AM,MATCH(K188,'OTRAS REFERENCIAS'!$AL:$AL,0),2))","v":""},null,{"$f":"IF(J188=\"\",\"\",INDEX(REFERENTES!$A:$D,MATCH(J188,REFERENTES!$C:$C,0),3))","v":""},null,null,null,null,null,null,null,{"$f":"IF(U188=\"\",\"\",INDEX('OTRAS REFERENCIAS'!$H$6:$I$11,MATCH(U188,'OTRAS REFERENCIAS'!$I$6:$I$11,0),1))","v":""},null,null,null,null,{"$f":"IF(Z188=\"\",\"\",INDEX('OTRAS REFERENCIAS'!$K$6:$L$11,MATCH(Z188,'OTRAS REFERENCIAS'!$L$6:$L$11,0),1))","v":""},null,null,null,null,{"$f":"IF(AE188=\"\",\"\",INDEX('OTRAS REFERENCIAS'!$N$6:$O$11,MATCH(AE188,'OTRAS REFERENCIAS'!$O$6:$O$11,0),1))","v":""},null,null,null,null,{"$f":"IF(AJ188=\"\",\"\",INDEX('OTRAS REFERENCIAS'!$Q$6:$R$11,MATCH(AJ188,'OTRAS REFERENCIAS'!$R$6:$R$11,0),1))","v":""},null,null,null,{"$f":"IF(AN188=\"\",\"\",INDEX('OTRAS REFERENCIAS'!$T$6:$U$11,MATCH(AN188,'OTRAS REFERENCIAS'!$U$6:$U$11,0),1))","v":""}]
[1,"",187,"","",{"$f":"IF(L189<>\"\",CONCATENATE(DIGITADOR!$B$2,$A$2,DIGITADOR!$M$1,A189),\"\")","v":""},null,null,"",{"$f":"IF(K189=\"\",\"\",INDEX('OTRAS REFERENCIAS'!$AL:$AM,MATCH(K189,'OTRAS REFERENCIAS'!$AL:$AL,0),2))","v":""},null,{"$f":"IF(J189=\"\",\"\",INDEX(REFERENTES!$A:$D,MATCH(J189,REFERENTES!$C:$C,0),3))","v":""},null,null,null,null,null,null,null,{"$f":"IF(U189=\"\",\"\",INDEX('OTRAS REFERENCIAS'!$H$6:$I$11,MATCH(U189,'OTRAS REFERENCIAS'!$I$6:$I$11,0),1))","v":""},null,null,null,null,{"$f":"IF(Z189=\"\",\"\",INDEX('OTRAS REFERENCIAS'!$K$6:$L$11,MATCH(Z189,'OTRAS REFERENCIAS'!$L$6:$L$11,0),1))","v":""},null,null,null,null,{"$f":"IF(AE189=\"\",\"\",INDEX('OTRAS REFERENCIAS'!$N$6:$O$11,MATCH(AE189,'OTRAS REFERENCIAS'!$O$6:$O$11,0),1))","v":""},null,null,null,null,{"$f":"IF(AJ189=\"\",\"\",INDEX('OTRAS REFERENCIAS'!$Q$6:$R$11,MATCH(AJ189,'OTRAS REFERENCIAS'!$R$6:$R$11,0),1))","v":""},null,null,null,{"$f":"IF(AN189=\"\",\"\",INDEX('OTRAS REFERENCIAS'!$T$6:$U$11,MATCH(AN189,'OTRAS REFERENCIAS'!$U$6:$U$11,0),1))","v":""}]
[1,"",188,"","",{"$f":"IF(L190<>\"\",CONCATENATE(DIGITADOR!$B$2,$A$2,DIGITADOR!$M$1,A190),\"\")","v":""},null,null,"",{"$f":"IF(K190=\"\",\"\",INDEX('OTRAS REFERENCIAS'!$AL:$AM,MATCH(K190,'OTRAS REFERENCIAS'!$AL:$AL,0),2))","v":""},null,{"$f":"IF(J190=\"\",\"\",INDEX(REFERENTES!$A:$D,MATCH(J190,REFERENTES!$C:$C,0),3))","v":""},null,null,null,null,null,null,null,{"$f":"IF(U190=\"\",\"\",INDEX('OTRAS REFERENCIAS'!$H$6:$I$11,MATCH(U190,'OTRAS REFERENCIAS'!$I$6:$I$11,0),1))","v":""},null,null,null,null,{"$f":"IF(Z190=\"\",\"\",INDEX('OTRAS REFERENCIAS'!$K$6:$L$11,MATCH(Z190,'OTRAS REFERENCIAS'!$L$6:$L$11,0),1))","v":""},null,null,null,null,{"$f":"IF(AE190=\"\",\"\",INDEX('OTRAS REFERENCIAS'!$N$6:$O$11,MATCH(AE190,'OTRAS REFERENCIAS'!$O$6:$O$11,0),1))","v":""},null,null,null,null,{"$f":"IF(AJ190=\"\",\"\",INDEX('OTRAS REFERENCIAS'!$Q$6:$R$11,MATCH(AJ190,'OTRAS REFERENCIAS'!$R$6:$R$11,0),1))","v":""},null,null,null,{"$f":"IF(AN190=\"\",\"\",INDEX('OTRAS REFERENCIAS'!$T$6:$U$11,MATCH(AN190,'OTRAS REFERENCIAS'!$U$6:$U$11,0),1))","v":""}]
[1,"",189,"","",{"$f":"IF(L191<>\"\",CONCATENATE(DIGITADOR!$B$2,$A$2,DIGITADOR!$M$1,A191),\"\")","v":""},null,null,"",{"$f":"IF(K191=\"\",\"\",INDEX('OTRAS REFERENCIAS'!$AL:$AM,MATCH(K191,'OTRAS REFERENCIAS'!$AL:$AL,0),2))","v":""},null,{"$f":"IF(J191=\"\",\"\",INDEX(REFERENTES!$A:$D,MATCH(J191,REFERENTES!$C:$C,0),3))","v":""},null,null,null,null,null,null,null,{"$f":"IF(U191=\"\",\"\",INDEX('OTRAS REFERENCIAS'!$H$6:$I$11,MATCH(U191,'OTRAS REFERENCIAS'!$I$6:$I$11,0),1))","v":""},null,null,null,null,{"$f":"IF(Z191=\"\",\"\",INDEX('OTRAS REFERENCIAS'!$K$6:$L$11,MATCH(Z191,'OTRAS REFERENCIAS'!$L$6:$L$11,0),1))","v":""},null,null,null,null,{"$f":"IF(AE191=\"\",\"\",INDEX('OTRAS REFERENCIAS'!$N$6:$O$11,MATCH(AE191,'OTRAS REFERENCIAS'!$O$6:$O$11,0),1))","v":""},null,null,null,null,{"$f":"IF(AJ191=\"\",\"\",INDEX('OTRAS REFERENCIAS'!$Q$6:$R$11,MATCH(AJ191,'OTRAS REFERENCIAS'!$R$6:$R$11,0),1))","v":""},null,null,null,{"$f":"IF(AN191=\"\",\"\",INDEX('OTRAS REFERENCIAS'!$T$6:$U$11,MATCH(AN191,'OTRAS REFERENCIAS'!$U$6:$U$11,0),1))","v":""}]
[1,"",190,"","",{"$f":"IF(L192<>\"\",CONCATENATE(DIGITADOR!$B$2,$A$2,DIGITADOR!$M$1,A192),\"\")","v":""},null,null,"",{"$f":"IF(K192=\"\",\"\",INDEX('OTRAS REFERENCIAS'!$AL:$AM,MATCH(K192,'OTRAS REFERENCIAS'!$AL:$AL,0),2))","v":""},null,{"$f":"IF(J192=\"\",\"\",INDEX(REFERENTES!$A:$D,MATCH(J192,REFERENTES!$C:$C,0),3))","v":""},null,null,null,null,null,null,null,{"$f":"IF(U192=\"\",\"\",INDEX('OTRAS REFERENCIAS'!$H$6:$I$11,MATCH(U192,'OTRAS REFERENCIAS'!$I$6:$I$11,0),1))","v":""},null,null,null,null,{"$f":"IF(Z192=\"\",\"\",INDEX('OTRAS REFERENCIAS'!$K$6:$L$11,MATCH(Z192,'OTRAS REFERENCIAS'!$L$6:$L$11,0),1))","v":""},null,null,null,null,{"$f":"IF(AE192=\"\",\"\",INDEX('OTRAS REFERENCIAS'!$N$6:$O$11,MATCH(AE192,'OTRAS REFERENCIAS'!$O$6:$O$11,0),1))","v":""},null,null,null,null,{"$f":"IF(AJ192=\"\",\"\",INDEX('OTRAS REFERENCIAS'!$Q$6:$R$11,MATCH(AJ192,'OTRAS REFERENCIAS'!$R$6:$R$11,0),1))","v":""},null,null,null,{"$f":"IF(AN192=\"\",\"\",INDEX('OTRAS REFERENCIAS'!$T$6:$U$11,MATCH(AN192,'OTRAS REFERENCIAS'!$U$6:$U$11,0),1))","v":""}]
[1,"",191,"","",{"$f":"IF(L193<>\"\",CONCATENATE(DIGITADOR!$B$2,$A$2,DIGITADOR!$M$1,A193),\"\")","v":""},null,null,"",{"$f":"IF(K193=\"\",\"\",INDEX('OTRAS REFERENCIAS'!$AL:$AM,MATCH(K193,'OTRAS REFERENCIAS'!$AL:$AL,0),2))","v":""},null,{"$f":"IF(J193=\"\",\"\",INDEX(REFERENTES!$A:$D,MATCH(J193,REFERENTES!$C:$C,0),3))","v":""},null,null,null,null,null,null,null,{"$f":"IF(U193=\"\",\"\",INDEX('OTRAS REFERENCIAS'!$H$6:$I$11,MATCH(U193,'OTRAS REFERENCIAS'!$I$6:$I$11,0),1))","v":""},null,null,null,null,{"$f":"IF(Z193=\"\",\"\",INDEX('OTRAS REFERENCIAS'!$K$6:$L$11,MATCH(Z193,'OTRAS REFERENCIAS'!$L$6:$L$11,0),1))","v":""},null,null,null,null,{"$f":"IF(AE193=\"\",\"\",INDEX('OTRAS REFERENCIAS'!$N$6:$O$11,MATCH(AE193,'OTRAS REFERENCIAS'!$O$6:$O$11,0),1))","v":""},null,null,null,null,{"$f":"IF(AJ193=\"\",\"\",INDEX('OTRAS REFERENCIAS'!$Q$6:$R$11,MATCH(AJ193,'OTRAS REFERENCIAS'!$R$6:$R$11,0),1))","v":""},null,null,null,{"$f":"IF(AN193=\"\",\"\",INDEX('OTRAS REFERENCIAS'!$T$6:$U$11,MATCH(AN193,'OTRAS REFERENCIAS'!$U$6:$U$11,0),1))","v":""}]
[1,"",192,"","",{"$f":"IF(L194<>\"\",CONCATENATE(DIGITADOR!$B$2,$A$2,DIGITADOR!$M$1,A194),\"\")","v":""},null,null,"",{"$f":"IF(K194=\"\",\"\",INDEX('OTRAS REFERENCIAS'!$AL:$AM,MATCH(K194,'OTRAS REFERENCIAS'!$AL:$AL,0),2))","v":""},null,{"$f":"IF(J194=\"\",\"\",INDEX(REFERENTES!$A:$D,MATCH(J194,REFERENTES!$C:$C,0),3))","v":""},null,null,null,null,null,null,null,{"$f":"IF(U194=\"\",\"\",INDEX('OTRAS REFERENCIAS'!$H$6:$I$11,MATCH(U194,'OTRAS REFERENCIAS'!$I$6:$I$11,0),1))","v":""},null,null,null,null,{"$f":"IF(Z194=\"\",\"\",INDEX('OTRAS REFERENCIAS'!$K$6:$L$11,MATCH(Z194,'OTRAS REFERENCIAS'!$L$6:$L$11,0),1))","v":""},null,null,null,null,{"$f":"IF(AE194=\"\",\"\",INDEX('OTRAS REFERENCIAS'!$N$6:$O$11,MATCH(AE194,'OTRAS REFERENCIAS'!$O$6:$O$11,0),1))","v":""},null,null,null,null,{"$f":"IF(AJ194=\"\",\"\",INDEX('OTRAS REFERENCIAS'!$Q$6:$R$11,MATCH(AJ194,'OTRAS REFERENCIAS'!$R$6:$R$11,0),1))","v":""},null,null,null,{"$f":"IF(AN194=\"\",\"\",INDEX('OTRAS REFERENCIAS'!$T$6:$U$11,MATCH(AN194,'OTRAS REFERENCIAS'!$U$6:$U$11,0),1))","v":""}]
[1,"",193,"",{"$f":"CONCATENATE(I195,L195)","v":""},{"$f":"IF(L195<>\"\",CONCATENATE(DIGITADOR!$B$2,$A$2,DIGITADOR!$M$1,A195),\"\")","v":""},null,null,{"$f":"IF(G195<>\"\",G195+H195,\"\")","v":""},{"$f":"IF(K195=\"\",\"\",INDEX('OTRAS REFERENCIAS'!$AL:$AM,MATCH(K195,'OTRAS REFERENCIAS'!$AL:$AL,0),2))","v":""},null,{"$f":"IF(J195=\"\",\"\",INDEX(REFERENTES!$A:$D,MATCH(J195,REFERENTES!$C:$C,0),3))","v":""},null,null,null,null,null,null,null,{"$f":"IF(U195=\"\",\"\",INDEX('OTRAS REFERENCIAS'!$H$6:$I$11,MATCH(U195,'OTRAS REFERENCIAS'!$I$6:$I$11,0),1))","v":""},null,null,null,null,{"$f":"IF(Z195=\"\",\"\",INDEX('OTRAS REFERENCIAS'!$K$6:$L$11,MATCH(Z195,'OTRAS REFERENCIAS'!$L$6:$L$11,0),1))","v":""},null,null,null,null,{"$f":"IF(AE195=\"\",\"\",INDEX('OTRAS REFERENCIAS'!$N$6:$O$11,MATCH(AE195,'OTRAS REFERENCIAS'!$O$6:$O$11,0),1))","v":""},null,null,null,null,{"$f":"IF(AJ195=\"\",\"\",INDEX('OTRAS REFERENCIAS'!$Q$6:$R$11,MATCH(AJ195,'OTRAS REFERENCIAS'!$R$6:$R$11,0),1))","v":""},null,null,null,{"$f":"IF(AN195=\"\",\"\",INDEX('OTRAS REFERENCIAS'!$T$6:$U$11,MATCH(AN195,'OTRAS REFERENCIAS'!$U$6:$U$11,0),1))","v":""}]
[1,"",194,{"$f":"IF(L196=\"\",\"\",CONCATENATE(C196,F196))","v":""},"",{"$f":"IF(L196<>\"\",CONCATENATE(DIGITADOR!$B$2,$A$2,DIGITADOR!$M$1,A196),\"\")","v":""},null,null,"",{"$f":"IF(K196=\"\",\"\",INDEX('OTRAS REFERENCIAS'!$AL:$AM,MATCH(K196,'OTRAS REFERENCIAS'!$AL:$AL,0),2))","v":""},null,{"$f":"IF(J196=\"\",\"\",INDEX(REFERENTES!$A:$D,MATCH(J196,REFERENTES!$C:$C,0),3))","v":""},null,null,null,null,null,null,null,{"$f":"IF(U196=\"\",\"\",INDEX('OTRAS REFERENCIAS'!$H$6:$I$11,MATCH(U196,'OTRAS REFERENCIAS'!$I$6:$I$11,0),1))","v":""},null,null,null,null,{"$f":"IF(Z196=\"\",\"\",INDEX('OTRAS REFERENCIAS'!$K$6:$L$11,MATCH(Z196,'OTRAS REFERENCIAS'!$L$6:$L$11,0),1))","v":""},null,null,null,null,{"$f":"IF(AE196=\"\",\"\",INDEX('OTRAS REFERENCIAS'!$N$6:$O$11,MATCH(AE196,'OTRAS REFERENCIAS'!$O$6:$O$11,0),1))","v":""},null,null,null,null,{"$f":"IF(AJ196=\"\",\"\",INDEX('OTRAS REFERENCIAS'!$Q$6:$R$11,MATCH(AJ196,'OTRAS REFERENCIAS'!$R$6:$R$11,0),1))","v":""},null,null,null,{"$f":"IF(AN196=\"\",\"\",INDEX('OTRAS REFERENCIAS'!$T$6:$U$11,MATCH(AN196,'OTRAS REFERENCIAS'!$U$6:$U$11,0),1))","v":""}]
[{"$f":"IF(L197=L196,A196,A196+1)","v":1},{"$f":"IF(F197<>F196, F197,\"\")","v":""},195,"","",{"$f":"IF(L197<>\"\",CONCATENATE(DIGITADOR!$B$2,$A$2,DIGITADOR!$M$1,A197),\"\")","v":""},null,null,"",{"$f":"IF(K197=\"\",\"\",INDEX('OTRAS REFERENCIAS'!$AL:$AM,MATCH(K197,'OTRAS REFERENCIAS'!$AL:$AL,0),2))","v":""},null,{"$f":"IF(J197=\"\",\"\",INDEX(REFERENTES!$A:$D,MATCH(J197,REFERENTES!$C:$C,0),3))","v":""},null,null,null,null,null,null,null,{"$f":"IF(U197=\"\",\"\",INDEX('OTRAS REFERENCIAS'!$H$6:$I$11,MATCH(U197,'OTRAS REFERENCIAS'!$I$6:$I$11,0),1))","v":""},null,null,null,null,{"$f":"IF(Z197=\"\",\"\",INDEX('OTRAS REFERENCIAS'!$K$6:$L$11,MATCH(Z197,'OTRAS REFERENCIAS'!$L$6:$L$11,0),1))","v":""},null,null,null,null,{"$f":"IF(AE197=\"\",\"\",INDEX('OTRAS REFERENCIAS'!$N$6:$O$11,MATCH(AE197,'OTRAS REFERENCIAS'!$O$6:$O$11,0),1))","v":""},null,null,null,null,{"$f":"IF(AJ197=\"\",\"\",INDEX('OTRAS REFERENCIAS'!$Q$6:$R$11,MATCH(AJ197,'OTRAS REFERENCIAS'!$R$6:$R$11,0),1))","v":""},null,null,null,{"$f":"IF(AN197=\"\",\"\",INDEX('OTRAS REFERENCIAS'!$T$6:$U$11,MATCH(AN197,'OTRAS REFERENCIAS'!$U$6:$U$11,0),1))","v":""}]
[1,"",196,"","",{"$f":"IF(L198<>\"\",CONCATENATE(DIGITADOR!$B$2,$A$2,DIGITADOR!$M$1,A198),\"\")","v":""},null,null,"",{"$f":"IF(K198=\"\",\"\",INDEX('OTRAS REFERENCIAS'!$AL:$AM,MATCH(K198,'OTRAS REFERENCIAS'!$AL:$AL,0),2))","v":""},null,{"$f":"IF(J198=\"\",\"\",INDEX(REFERENTES!$A:$D,MATCH(J198,REFERENTES!$C:$C,0),3))","v":""},null,null,null,null,null,null,null,{"$f":"IF(U198=\"\",\"\",INDEX('OTRAS REFERENCIAS'!$H$6:$I$11,MATCH(U198,'OTRAS REFERENCIAS'!$I$6:$I$11,0),1))","v":""},null,null,null,null,{"$f":"IF(Z198=\"\",\"\",INDEX('OTRAS REFERENCIAS'!$K$6:$L$11,MATCH(Z198,'OTRAS REFERENCIAS'!$L$6:$L$11,0),1))","v":""},null,null,null,null,{"$f":"IF(AE198=\"\",\"\",INDEX('OTRAS REFERENCIAS'!$N$6:$O$11,MATCH(AE198,'OTRAS REFERENCIAS'!$O$6:$O$11,0),1))","v":""},null,null,null,null,{"$f":"IF(AJ198=\"\",\"\",INDEX('OTRAS REFERENCIAS'!$Q$6:$R$11,MATCH(AJ198,'OTRAS REFERENCIAS'!$R$6:$R$11,0),1))","v":""},null,null,null,{"$f":"IF(AN198=\"\",\"\",INDEX('OTRAS REFERENCIAS'!$T$6:$U$11,MATCH(AN198,'OTRAS REFERENCIAS'!$U$6:$U$11,0),1))","v":""}]
[1,"",197,"","",{"$f":"IF(L199<>\"\",CONCATENATE(DIGITADOR!$B$2,$A$2,DIGITADOR!$M$1,A199),\"\")","v":""},null,null,"",{"$f":"IF(K199=\"\",\"\",INDEX('OTRAS REFERENCIAS'!$AL:$AM,MATCH(K199,'OTRAS REFERENCIAS'!$AL:$AL,0),2))","v":""},null,{"$f":"IF(J199=\"\",\"\",INDEX(REFERENTES!$A:$D,MATCH(J199,REFERENTES!$C:$C,0),3))","v":""},null,null,null,null,null,null,null,{"$f":"IF(U199=\"\",\"\",INDEX('OTRAS REFERENCIAS'!$H$6:$I$11,MATCH(U199,'OTRAS REFERENCIAS'!$I$6:$I$11,0),1))","v":""},null,null,null,null,{"$f":"IF(Z199=\"\",\"\",INDEX('OTRAS REFERENCIAS'!$K$6:$L$11,MATCH(Z199,'OTRAS REFERENCIAS'!$L$6:$L$11,0),1))","v":""},null,null,null,null,{"$f":"IF(AE199=\"\",\"\",INDEX('OTRAS REFERENCIAS'!$N$6:$O$11,MATCH(AE199,'OTRAS REFERENCIAS'!$O$6:$O$11,0),1))","v":""},null,null,null,null,{"$f":"IF(AJ199=\"\",\"\",INDEX('OTRAS REFERENCIAS'!$Q$6:$R$11,MATCH(AJ199,'OTRAS REFERENCIAS'!$R$6:$R$11,0),1))","v":""},null,null,null,{"$f":"IF(AN199=\"\",\"\",INDEX('OTRAS REFERENCIAS'!$T$6:$U$11,MATCH(AN199,'OTRAS REFERENCIAS'!$U$6:$U$11,0),1))","v":""}]
[1,"",198,"","",{"$f":"IF(L200<>\"\",CONCATENATE(DIGITADOR!$B$2,$A$2,DIGITADOR!$M$1,A200),\"\")","v":""},null,null,"",{"$f":"IF(K200=\"\",\"\",INDEX('OTRAS REFERENCIAS'!$AL:$AM,MATCH(K200,'OTRAS REFERENCIAS'!$AL:$AL,0),2))","v":""},null,{"$f":"IF(J200=\"\",\"\",INDEX(REFERENTES!$A:$D,MATCH(J200,REFERENTES!$C:$C,0),3))","v":""},null,null,null,null,null,null,null,{"$f":"IF(U200=\"\",\"\",INDEX('OTRAS REFERENCIAS'!$H$6:$I$11,MATCH(U200,'OTRAS REFERENCIAS'!$I$6:$I$11,0),1))","v":""},null,null,null,null,{"$f":"IF(Z200=\"\",\"\",INDEX('OTRAS REFERENCIAS'!$K$6:$L$11,MATCH(Z200,'OTRAS REFERENCIAS'!$L$6:$L$11,0),1))","v":""},null,null,null,null,{"$f":"IF(AE200=\"\",\"\",INDEX('OTRAS REFERENCIAS'!$N$6:$O$11,MATCH(AE200,'OTRAS REFERENCIAS'!$O$6:$O$11,0),1))","v":""},null,null,null,null,{"$f":"IF(AJ200=\"\",\"\",INDEX('OTRAS REFERENCIAS'!$Q$6:$R$11,MATCH(AJ200,'OTRAS REFERENCIAS'!$R$6:$R$11,0),1))","v":""},null,null,null,{"$f":"IF(AN200=\"\",\"\",INDEX('OTRAS REFERENCIAS'!$T$6:$U$11,MATCH(AN200,'OTRAS REFERENCIAS'!$U$6:$U$11,0),1))","v":""}]
[1,"",199,"","",{"$f":"IF(L201<>\"\",CONCATENATE(DIGITADOR!$B$2,$A$2,DIGITADOR!$M$1,A201),\"\")","v":""},null,null,"",{"$f":"IF(K201=\"\",\"\",INDEX('OTRAS REFERENCIAS'!$AL:$AM,MATCH(K201,'OTRAS REFERENCIAS'!$AL:$AL,0),2))","v":""},null,{"$f":"IF(J201=\"\",\"\",INDEX(REFERENTES!$A:$D,MATCH(J201,REFERENTES!$C:$C,0),3))","v":""},null,null,null,null,null,null,null,{"$f":"IF(U201=\"\",\"\",INDEX('OTRAS REFERENCIAS'!$H$6:$I$11,MATCH(U201,'OTRAS REFERENCIAS'!$I$6:$I$11,0),1))","v":""},null,null,null,null,{"$f":"IF(Z201=\"\",\"\",INDEX('OTRAS REFERENCIAS'!$K$6:$L$11,MATCH(Z201,'OTRAS REFERENCIAS'!$L$6:$L$11,0),1))","v":""},null,null,null,null,{"$f":"IF(AE201=\"\",\"\",INDEX('OTRAS REFERENCIAS'!$N$6:$O$11,MATCH(AE201,'OTRAS REFERENCIAS'!$O$6:$O$11,0),1))","v":""},null,null,null,null,{"$f":"IF(AJ201=\"\",\"\",INDEX('OTRAS REFERENCIAS'!$Q$6:$R$11,MATCH(AJ201,'OTRAS REFERENCIAS'!$R$6:$R$11,0),1))","v":""},null,null,null,{"$f":"IF(AN201=\"\",\"\",INDEX('OTRAS REFERENCIAS'!$T$6:$U$11,MATCH(AN201,'OTRAS REFERENCIAS'!$U$6:$U$11,0),1))","v":""}]
[1,"",200,"","",{"$f":"IF(L202<>\"\",CONCATENATE(DIGITADOR!$B$2,$A$2,DIGITADOR!$M$1,A202),\"\")","v":""},null,null,"",{"$f":"IF(K202=\"\",\"\",INDEX('OTRAS REFERENCIAS'!$AL:$AM,MATCH(K202,'OTRAS REFERENCIAS'!$AL:$AL,0),2))","v":""},null,{"$f":"IF(J202=\"\",\"\",INDEX(REFERENTES!$A:$D,MATCH(J202,REFERENTES!$C:$C,0),3))","v":""},null,null,null,null,null,null,null,{"$f":"IF(U202=\"\",\"\",INDEX('OTRAS REFERENCIAS'!$H$6:$I$11,MATCH(U202,'OTRAS REFERENCIAS'!$I$6:$I$11,0),1))","v":""},null,null,null,null,{"$f":"IF(Z202=\"\",\"\",INDEX('OTRAS REFERENCIAS'!$K$6:$L$11,MATCH(Z202,'OTRAS REFERENCIAS'!$L$6:$L$11,0),1))","v":""},null,null,null,null,{"$f":"IF(AE202=\"\",\"\",INDEX('OTRAS REFERENCIAS'!$N$6:$O$11,MATCH(AE202,'OTRAS REFERENCIAS'!$O$6:$O$11,0),1))","v":""},null,null,null,null,{"$f":"IF(AJ202=\"\",\"\",INDEX('OTRAS REFERENCIAS'!$Q$6:$R$11,MATCH(AJ202,'OTRAS REFERENCIAS'!$R$6:$R$11,0),1))","v":""},null,null,null,{"$f":"IF(AN202=\"\",\"\",INDEX('OTRAS REFERENCIAS'!$T$6:$U$11,MATCH(AN202,'OTRAS REFERENCIAS'!$U$6:$U$11,0),1))","v":""}]
[1,"",201,"","",{"$f":"IF(L203<>\"\",CONCATENATE(DIGITADOR!$B$2,$A$2,DIGITADOR!$M$1,A203),\"\")","v":""},null,null,"",{"$f":"IF(K203=\"\",\"\",INDEX('OTRAS REFERENCIAS'!$AL:$AM,MATCH(K203,'OTRAS REFERENCIAS'!$AL:$AL,0),2))","v":""},null,{"$f":"IF(J203=\"\",\"\",INDEX(REFERENTES!$A:$D,MATCH(J203,REFERENTES!$C:$C,0),3))","v":""},null,null,null,null,null,null,null,{"$f":"IF(U203=\"\",\"\",INDEX('OTRAS REFERENCIAS'!$H$6:$I$11,MATCH(U203,'OTRAS REFERENCIAS'!$I$6:$I$11,0),1))","v":""},null,null,null,null,{"$f":"IF(Z203=\"\",\"\",INDEX('OTRAS REFERENCIAS'!$K$6:$L$11,MATCH(Z203,'OTRAS REFERENCIAS'!$L$6:$L$11,0),1))","v":""},null,null,null,null,{"$f":"IF(AE203=\"\",\"\",INDEX('OTRAS REFERENCIAS'!$N$6:$O$11,MATCH(AE203,'OTRAS REFERENCIAS'!$O$6:$O$11,0),1))","v":""},null,null,null,null,{"$f":"IF(AJ203=\"\",\"\",INDEX('OTRAS REFERENCIAS'!$Q$6:$R$11,MATCH(AJ203,'OTRAS REFERENCIAS'!$R$6:$R$11,0),1))","v":""},null,null,null,{"$f":"IF(AN203=\"\",\"\",INDEX('OTRAS REFERENCIAS'!$T$6:$U$11,MATCH(AN203,'OTRAS REFERENCIAS'!$U$6:$U$11,0),1))","v":""}]
[1,"",202,"","",{"$f":"IF(L204<>\"\",CONCATENATE(DIGITADOR!$B$2,$A$2,DIGITADOR!$M$1,A204),\"\")","v":""},null,null,"",{"$f":"IF(K204=\"\",\"\",INDEX('OTRAS REFERENCIAS'!$AL:$AM,MATCH(K204,'OTRAS REFERENCIAS'!$AL:$AL,0),2))","v":""},null,{"$f":"IF(J204=\"\",\"\",INDEX(REFERENTES!$A:$D,MATCH(J204,REFERENTES!$C:$C,0),3))","v":""},null,null,null,null,null,null,null,{"$f":"IF(U204=\"\",\"\",INDEX('OTRAS REFERENCIAS'!$H$6:$I$11,MATCH(U204,'OTRAS REFERENCIAS'!$I$6:$I$11,0),1))","v":""},null,null,null,null,{"$f":"IF(Z204=\"\",\"\",INDEX('OTRAS REFERENCIAS'!$K$6:$L$11,MATCH(Z204,'OTRAS REFERENCIAS'!$L$6:$L$11,0),1))","v":""},null,null,null,null,{"$f":"IF(AE204=\"\",\"\",INDEX('OTRAS REFERENCIAS'!$N$6:$O$11,MATCH(AE204,'OTRAS REFERENCIAS'!$O$6:$O$11,0),1))","v":""},null,null,null,null,{"$f":"IF(AJ204=\"\",\"\",INDEX('OTRAS REFERENCIAS'!$Q$6:$R$11,MATCH(AJ204,'OTRAS REFERENCIAS'!$R$6:$R$11,0),1))","v":""},null,null,null,{"$f":"IF(AN204=\"\",\"\",INDEX('OTRAS REFERENCIAS'!$T$6:$U$11,MATCH(AN204,'OTRAS REFERENCIAS'!$U$6:$U$11,0),1))","v":""}]
[1,"",203,"","",{"$f":"IF(L205<>\"\",CONCATENATE(DIGITADOR!$B$2,$A$2,DIGITADOR!$M$1,A205),\"\")","v":""},null,null,"",{"$f":"IF(K205=\"\",\"\",INDEX('OTRAS REFERENCIAS'!$AL:$AM,MATCH(K205,'OTRAS REFERENCIAS'!$AL:$AL,0),2))","v":""},null,{"$f":"IF(J205=\"\",\"\",INDEX(REFERENTES!$A:$D,MATCH(J205,REFERENTES!$C:$C,0),3))","v":""},null,null,null,null,null,null,null,{"$f":"IF(U205=\"\",\"\",INDEX('OTRAS REFERENCIAS'!$H$6:$I$11,MATCH(U205,'OTRAS REFERENCIAS'!$I$6:$I$11,0),1))","v":""},null,null,null,null,{"$f":"IF(Z205=\"\",\"\",INDEX('OTRAS REFERENCIAS'!$K$6:$L$11,MATCH(Z205,'OTRAS REFERENCIAS'!$L$6:$L$11,0),1))","v":""},null,null,null,null,{"$f":"IF(AE205=\"\",\"\",INDEX('OTRAS REFERENCIAS'!$N$6:$O$11,MATCH(AE205,'OTRAS REFERENCIAS'!$O$6:$O$11,0),1))","v":""},null,null,null,null,{"$f":"IF(AJ205=\"\",\"\",INDEX('OTRAS REFERENCIAS'!$Q$6:$R$11,MATCH(AJ205,'OTRAS REFERENCIAS'!$R$6:$R$11,0),1))","v":""},null,null,null,{"$f":"IF(AN205=\"\",\"\",INDEX('OTRAS REFERENCIAS'!$T$6:$U$11,MATCH(AN205,'OTRAS REFERENCIAS'!$U$6:$U$11,0),1))","v":""}]
[1,"",204,"","",{"$f":"IF(L206<>\"\",CONCATENATE(DIGITADOR!$B$2,$A$2,DIGITADOR!$M$1,A206),\"\")","v":""},null,null,"",{"$f":"IF(K206=\"\",\"\",INDEX('OTRAS REFERENCIAS'!$AL:$AM,MATCH(K206,'OTRAS REFERENCIAS'!$AL:$AL,0),2))","v":""},null,{"$f":"IF(J206=\"\",\"\",INDEX(REFERENTES!$A:$D,MATCH(J206,REFERENTES!$C:$C,0),3))","v":""},null,null,null,null,null,null,null,{"$f":"IF(U206=\"\",\"\",INDEX('OTRAS REFERENCIAS'!$H$6:$I$11,MATCH(U206,'OTRAS REFERENCIAS'!$I$6:$I$11,0),1))","v":""},null,null,null,null,{"$f":"IF(Z206=\"\",\"\",INDEX('OTRAS REFERENCIAS'!$K$6:$L$11,MATCH(Z206,'OTRAS REFERENCIAS'!$L$6:$L$11,0),1))","v":""},null,null,null,null,{"$f":"IF(AE206=\"\",\"\",INDEX('OTRAS REFERENCIAS'!$N$6:$O$11,MATCH(AE206,'OTRAS REFERENCIAS'!$O$6:$O$11,0),1))","v":""},null,null,null,null,{"$f":"IF(AJ206=\"\",\"\",INDEX('OTRAS REFERENCIAS'!$Q$6:$R$11,MATCH(AJ206,'OTRAS REFERENCIAS'!$R$6:$R$11,0),1))","v":""},null,null,null,{"$f":"IF(AN206=\"\",\"\",INDEX('OTRAS REFERENCIAS'!$T$6:$U$11,MATCH(AN206,'OTRAS REFERENCIAS'!$U$6:$U$11,0),1))","v":""}]
[1,"",205,"","",{"$f":"IF(L207<>\"\",CONCATENATE(DIGITADOR!$B$2,$A$2,DIGITADOR!$M$1,A207),\"\")","v":""},null,null,"",{"$f":"IF(K207=\"\",\"\",INDEX('OTRAS REFERENCIAS'!$AL:$AM,MATCH(K207,'OTRAS REFERENCIAS'!$AL:$AL,0),2))","v":""},null,{"$f":"IF(J207=\"\",\"\",INDEX(REFERENTES!$A:$D,MATCH(J207,REFERENTES!$C:$C,0),3))","v":""},null,null,null,null,null,null,null,{"$f":"IF(U207=\"\",\"\",INDEX('OTRAS REFERENCIAS'!$H$6:$I$11,MATCH(U207,'OTRAS REFERENCIAS'!$I$6:$I$11,0),1))","v":""},null,null,null,null,{"$f":"IF(Z207=\"\",\"\",INDEX('OTRAS REFERENCIAS'!$K$6:$L$11,MATCH(Z207,'OTRAS REFERENCIAS'!$L$6:$L$11,0),1))","v":""},null,null,null,null,{"$f":"IF(AE207=\"\",\"\",INDEX('OTRAS REFERENCIAS'!$N$6:$O$11,MATCH(AE207,'OTRAS REFERENCIAS'!$O$6:$O$11,0),1))","v":""},null,null,null,null,{"$f":"IF(AJ207=\"\",\"\",INDEX('OTRAS REFERENCIAS'!$Q$6:$R$11,MATCH(AJ207,'OTRAS REFERENCIAS'!$R$6:$R$11,0),1))","v":""},null,null,null,{"$f":"IF(AN207=\"\",\"\",INDEX('OTRAS REFERENCIAS'!$T$6:$U$11,MATCH(AN207,'OTRAS REFERENCIAS'!$U$6:$U$11,0),1))","v":""}]
[1,"",206,"","",{"$f":"IF(L208<>\"\",CONCATENATE(DIGITADOR!$B$2,$A$2,DIGITADOR!$M$1,A208),\"\")","v":""},null,null,"",{"$f":"IF(K208=\"\",\"\",INDEX('OTRAS REFERENCIAS'!$AL:$AM,MATCH(K208,'OTRAS REFERENCIAS'!$AL:$AL,0),2))","v":""},null,{"$f":"IF(J208=\"\",\"\",INDEX(REFERENTES!$A:$D,MATCH(J208,REFERENTES!$C:$C,0),3))","v":""},null,null,null,null,null,null,null,{"$f":"IF(U208=\"\",\"\",INDEX('OTRAS REFERENCIAS'!$H$6:$I$11,MATCH(U208,'OTRAS REFERENCIAS'!$I$6:$I$11,0),1))","v":""},null,null,null,null,{"$f":"IF(Z208=\"\",\"\",INDEX('OTRAS REFERENCIAS'!$K$6:$L$11,MATCH(Z208,'OTRAS REFERENCIAS'!$L$6:$L$11,0),1))","v":""},null,null,null,null,{"$f":"IF(AE208=\"\",\"\",INDEX('OTRAS REFERENCIAS'!$N$6:$O$11,MATCH(AE208,'OTRAS REFERENCIAS'!$O$6:$O$11,0),1))","v":""},null,null,null,null,{"$f":"IF(AJ208=\"\",\"\",INDEX('OTRAS REFERENCIAS'!$Q$6:$R$11,MATCH(AJ208,'OTRAS REFERENCIAS'!$R$6:$R$11,0),1))","v":""},null,null,null,{"$f":"IF(AN208=\"\",\"\",INDEX('OTRAS REFERENCIAS'!$T$6:$U$11,MATCH(AN208,'OTRAS REFERENCIAS'!$U$6:$U$11,0),1))","v":""}]
[1,"",207,"","",{"$f":"IF(L209<>\"\",CONCATENATE(DIGITADOR!$B$2,$A$2,DIGITADOR!$M$1,A209),\"\")","v":""},null,null,"",{"$f":"IF(K209=\"\",\"\",INDEX('OTRAS REFERENCIAS'!$AL:$AM,MATCH(K209,'OTRAS REFERENCIAS'!$AL:$AL,0),2))","v":""},null,{"$f":"IF(J209=\"\",\"\",INDEX(REFERENTES!$A:$D,MATCH(J209,REFERENTES!$C:$C,0),3))","v":""},null,null,null,null,null,null,null,{"$f":"IF(U209=\"\",\"\",INDEX('OTRAS REFERENCIAS'!$H$6:$I$11,MATCH(U209,'OTRAS REFERENCIAS'!$I$6:$I$11,0),1))","v":""},null,null,null,null,{"$f":"IF(Z209=\"\",\"\",INDEX('OTRAS REFERENCIAS'!$K$6:$L$11,MATCH(Z209,'OTRAS REFERENCIAS'!$L$6:$L$11,0),1))","v":""},null,null,null,null,{"$f":"IF(AE209=\"\",\"\",INDEX('OTRAS REFERENCIAS'!$N$6:$O$11,MATCH(AE209,'OTRAS REFERENCIAS'!$O$6:$O$11,0),1))","v":""},null,null,null,null,{"$f":"IF(AJ209=\"\",\"\",INDEX('OTRAS REFERENCIAS'!$Q$6:$R$11,MATCH(AJ209,'OTRAS REFERENCIAS'!$R$6:$R$11,0),1))","v":""},null,null,null,{"$f":"IF(AN209=\"\",\"\",INDEX('OTRAS REFERENCIAS'!$T$6:$U$11,MATCH(AN209,'OTRAS REFERENCIAS'!$U$6:$U$11,0),1))","v":""}]
[1,"",208,"","",{"$f":"IF(L210<>\"\",CONCATENATE(DIGITADOR!$B$2,$A$2,DIGITADOR!$M$1,A210),\"\")","v":""},null,null,"",{"$f":"IF(K210=\"\",\"\",INDEX('OTRAS REFERENCIAS'!$AL:$AM,MATCH(K210,'OTRAS REFERENCIAS'!$AL:$AL,0),2))","v":""},null,{"$f":"IF(J210=\"\",\"\",INDEX(REFERENTES!$A:$D,MATCH(J210,REFERENTES!$C:$C,0),3))","v":""},null,null,null,null,null,null,null,{"$f":"IF(U210=\"\",\"\",INDEX('OTRAS REFERENCIAS'!$H$6:$I$11,MATCH(U210,'OTRAS REFERENCIAS'!$I$6:$I$11,0),1))","v":""},null,null,null,null,{"$f":"IF(Z210=\"\",\"\",INDEX('OTRAS REFERENCIAS'!$K$6:$L$11,MATCH(Z210,'OTRAS REFERENCIAS'!$L$6:$L$11,0),1))","v":""},null,null,null,null,{"$f":"IF(AE210=\"\",\"\",INDEX('OTRAS REFERENCIAS'!$N$6:$O$11,MATCH(AE210,'OTRAS REFERENCIAS'!$O$6:$O$11,0),1))","v":""},null,null,null,null,{"$f":"IF(AJ210=\"\",\"\",INDEX('OTRAS REFERENCIAS'!$Q$6:$R$11,MATCH(AJ210,'OTRAS REFERENCIAS'!$R$6:$R$11,0),1))","v":""},null,null,null,{"$f":"IF(AN210=\"\",\"\",INDEX('OTRAS REFERENCIAS'!$T$6:$U$11,MATCH(AN210,'OTRAS REFERENCIAS'!$U$6:$U$11,0),1))","v":""}]
[1,"",209,"","",{"$f":"IF(L211<>\"\",CONCATENATE(DIGITADOR!$B$2,$A$2,DIGITADOR!$M$1,A211),\"\")","v":""},null,null,"",{"$f":"IF(K211=\"\",\"\",INDEX('OTRAS REFERENCIAS'!$AL:$AM,MATCH(K211,'OTRAS REFERENCIAS'!$AL:$AL,0),2))","v":""},null,{"$f":"IF(J211=\"\",\"\",INDEX(REFERENTES!$A:$D,MATCH(J211,REFERENTES!$C:$C,0),3))","v":""},null,null,null,null,null,null,null,{"$f":"IF(U211=\"\",\"\",INDEX('OTRAS REFERENCIAS'!$H$6:$I$11,MATCH(U211,'OTRAS REFERENCIAS'!$I$6:$I$11,0),1))","v":""},null,null,null,null,{"$f":"IF(Z211=\"\",\"\",INDEX('OTRAS REFERENCIAS'!$K$6:$L$11,MATCH(Z211,'OTRAS REFERENCIAS'!$L$6:$L$11,0),1))","v":""},null,null,null,null,{"$f":"IF(AE211=\"\",\"\",INDEX('OTRAS REFERENCIAS'!$N$6:$O$11,MATCH(AE211,'OTRAS REFERENCIAS'!$O$6:$O$11,0),1))","v":""},null,null,null,null,{"$f":"IF(AJ211=\"\",\"\",INDEX('OTRAS REFERENCIAS'!$Q$6:$R$11,MATCH(AJ211,'OTRAS REFERENCIAS'!$R$6:$R$11,0),1))","v":""},null,null,null,{"$f":"IF(AN211=\"\",\"\",INDEX('OTRAS REFERENCIAS'!$T$6:$U$11,MATCH(AN211,'OTRAS REFERENCIAS'!$U$6:$U$11,0),1))","v":""}]
[1,"",210,"","",{"$f":"IF(L212<>\"\",CONCATENATE(DIGITADOR!$B$2,$A$2,DIGITADOR!$M$1,A212),\"\")","v":""},null,null,"",{"$f":"IF(K212=\"\",\"\",INDEX('OTRAS REFERENCIAS'!$AL:$AM,MATCH(K212,'OTRAS REFERENCIAS'!$AL:$AL,0),2))","v":""},null,{"$f":"IF(J212=\"\",\"\",INDEX(REFERENTES!$A:$D,MATCH(J212,REFERENTES!$C:$C,0),3))","v":""},null,null,null,null,null,null,null,{"$f":"IF(U212=\"\",\"\",INDEX('OTRAS REFERENCIAS'!$H$6:$I$11,MATCH(U212,'OTRAS REFERENCIAS'!$I$6:$I$11,0),1))","v":""},null,null,null,null,{"$f":"IF(Z212=\"\",\"\",INDEX('OTRAS REFERENCIAS'!$K$6:$L$11,MATCH(Z212,'OTRAS REFERENCIAS'!$L$6:$L$11,0),1))","v":""},null,null,null,null,{"$f":"IF(AE212=\"\",\"\",INDEX('OTRAS REFERENCIAS'!$N$6:$O$11,MATCH(AE212,'OTRAS REFERENCIAS'!$O$6:$O$11,0),1))","v":""},null,null,null,null,{"$f":"IF(AJ212=\"\",\"\",INDEX('OTRAS REFERENCIAS'!$Q$6:$R$11,MATCH(AJ212,'OTRAS REFERENCIAS'!$R$6:$R$11,0),1))","v":""},null,null,null,{"$f":"IF(AN212=\"\",\"\",INDEX('OTRAS REFERENCIAS'!$T$6:$U$11,MATCH(AN212,'OTRAS REFERENCIAS'!$U$6:$U$11,0),1))","v":""}]
[1,"",211,"","",{"$f":"IF(L213<>\"\",CONCATENATE(DIGITADOR!$B$2,$A$2,DIGITADOR!$M$1,A213),\"\")","v":""},null,null,"",{"$f":"IF(K213=\"\",\"\",INDEX('OTRAS REFERENCIAS'!$AL:$AM,MATCH(K213,'OTRAS REFERENCIAS'!$AL:$AL,0),2))","v":""},null,{"$f":"IF(J213=\"\",\"\",INDEX(REFERENTES!$A:$D,MATCH(J213,REFERENTES!$C:$C,0),3))","v":""},null,null,null,null,null,null,null,{"$f":"IF(U213=\"\",\"\",INDEX('OTRAS REFERENCIAS'!$H$6:$I$11,MATCH(U213,'OTRAS REFERENCIAS'!$I$6:$I$11,0),1))","v":""},null,null,null,null,{"$f":"IF(Z213=\"\",\"\",INDEX('OTRAS REFERENCIAS'!$K$6:$L$11,MATCH(Z213,'OTRAS REFERENCIAS'!$L$6:$L$11,0),1))","v":""},null,null,null,null,{"$f":"IF(AE213=\"\",\"\",INDEX('OTRAS REFERENCIAS'!$N$6:$O$11,MATCH(AE213,'OTRAS REFERENCIAS'!$O$6:$O$11,0),1))","v":""},null,null,null,null,{"$f":"IF(AJ213=\"\",\"\",INDEX('OTRAS REFERENCIAS'!$Q$6:$R$11,MATCH(AJ213,'OTRAS REFERENCIAS'!$R$6:$R$11,0),1))","v":""},null,null,null,{"$f":"IF(AN213=\"\",\"\",INDEX('OTRAS REFERENCIAS'!$T$6:$U$11,MATCH(AN213,'OTRAS REFERENCIAS'!$U$6:$U$11,0),1))","v":""}]
[1,"",212,"","",{"$f":"IF(L214<>\"\",CONCATENATE(DIGITADOR!$B$2,$A$2,DIGITADOR!$M$1,A214),\"\")","v":""},null,null,"",{"$f":"IF(K214=\"\",\"\",INDEX('OTRAS REFERENCIAS'!$AL:$AM,MATCH(K214,'OTRAS REFERENCIAS'!$AL:$AL,0),2))","v":""},null,{"$f":"IF(J214=\"\",\"\",INDEX(REFERENTES!$A:$D,MATCH(J214,REFERENTES!$C:$C,0),3))","v":""},null,null,null,null,null,null,null,{"$f":"IF(U214=\"\",\"\",INDEX('OTRAS REFERENCIAS'!$H$6:$I$11,MATCH(U214,'OTRAS REFERENCIAS'!$I$6:$I$11,0),1))","v":""},null,null,null,null,{"$f":"IF(Z214=\"\",\"\",INDEX('OTRAS REFERENCIAS'!$K$6:$L$11,MATCH(Z214,'OTRAS REFERENCIAS'!$L$6:$L$11,0),1))","v":""},null,null,null,null,{"$f":"IF(AE214=\"\",\"\",INDEX('OTRAS REFERENCIAS'!$N$6:$O$11,MATCH(AE214,'OTRAS REFERENCIAS'!$O$6:$O$11,0),1))","v":""},null,null,null,null,{"$f":"IF(AJ214=\"\",\"\",INDEX('OTRAS REFERENCIAS'!$Q$6:$R$11,MATCH(AJ214,'OTRAS REFERENCIAS'!$R$6:$R$11,0),1))","v":""},null,null,null,{"$f":"IF(AN214=\"\",\"\",INDEX('OTRAS REFERENCIAS'!$T$6:$U$11,MATCH(AN214,'OTRAS REFERENCIAS'!$U$6:$U$11,0),1))","v":""}]
[1,"",213,"","",{"$f":"IF(L215<>\"\",CONCATENATE(DIGITADOR!$B$2,$A$2,DIGITADOR!$M$1,A215),\"\")","v":""},null,null,"",{"$f":"IF(K215=\"\",\"\",INDEX('OTRAS REFERENCIAS'!$AL:$AM,MATCH(K215,'OTRAS REFERENCIAS'!$AL:$AL,0),2))","v":""},null,{"$f":"IF(J215=\"\",\"\",INDEX(REFERENTES!$A:$D,MATCH(J215,REFERENTES!$C:$C,0),3))","v":""},null,null,null,null,null,null,null,{"$f":"IF(U215=\"\",\"\",INDEX('OTRAS REFERENCIAS'!$H$6:$I$11,MATCH(U215,'OTRAS REFERENCIAS'!$I$6:$I$11,0),1))","v":""},null,null,null,null,{"$f":"IF(Z215=\"\",\"\",INDEX('OTRAS REFERENCIAS'!$K$6:$L$11,MATCH(Z215,'OTRAS REFERENCIAS'!$L$6:$L$11,0),1))","v":""},null,null,null,null,{"$f":"IF(AE215=\"\",\"\",INDEX('OTRAS REFERENCIAS'!$N$6:$O$11,MATCH(AE215,'OTRAS REFERENCIAS'!$O$6:$O$11,0),1))","v":""},null,null,null,null,{"$f":"IF(AJ215=\"\",\"\",INDEX('OTRAS REFERENCIAS'!$Q$6:$R$11,MATCH(AJ215,'OTRAS REFERENCIAS'!$R$6:$R$11,0),1))","v":""},null,null,null,{"$f":"IF(AN215=\"\",\"\",INDEX('OTRAS REFERENCIAS'!$T$6:$U$11,MATCH(AN215,'OTRAS REFERENCIAS'!$U$6:$U$11,0),1))","v":""}]
[1,"",214,"","",{"$f":"IF(L216<>\"\",CONCATENATE(DIGITADOR!$B$2,$A$2,DIGITADOR!$M$1,A216),\"\")","v":""},null,null,"",{"$f":"IF(K216=\"\",\"\",INDEX('OTRAS REFERENCIAS'!$AL:$AM,MATCH(K216,'OTRAS REFERENCIAS'!$AL:$AL,0),2))","v":""},null,{"$f":"IF(J216=\"\",\"\",INDEX(REFERENTES!$A:$D,MATCH(J216,REFERENTES!$C:$C,0),3))","v":""},null,null,null,null,null,null,null,{"$f":"IF(U216=\"\",\"\",INDEX('OTRAS REFERENCIAS'!$H$6:$I$11,MATCH(U216,'OTRAS REFERENCIAS'!$I$6:$I$11,0),1))","v":""},null,null,null,null,{"$f":"IF(Z216=\"\",\"\",INDEX('OTRAS REFERENCIAS'!$K$6:$L$11,MATCH(Z216,'OTRAS REFERENCIAS'!$L$6:$L$11,0),1))","v":""},null,null,null,null,{"$f":"IF(AE216=\"\",\"\",INDEX('OTRAS REFERENCIAS'!$N$6:$O$11,MATCH(AE216,'OTRAS REFERENCIAS'!$O$6:$O$11,0),1))","v":""},null,null,null,null,{"$f":"IF(AJ216=\"\",\"\",INDEX('OTRAS REFERENCIAS'!$Q$6:$R$11,MATCH(AJ216,'OTRAS REFERENCIAS'!$R$6:$R$11,0),1))","v":""},null,null,null,{"$f":"IF(AN216=\"\",\"\",INDEX('OTRAS REFERENCIAS'!$T$6:$U$11,MATCH(AN216,'OTRAS REFERENCIAS'!$U$6:$U$11,0),1))","v":""}]
[1,"",215,"","",{"$f":"IF(L217<>\"\",CONCATENATE(DIGITADOR!$B$2,$A$2,DIGITADOR!$M$1,A217),\"\")","v":""},null,null,"",{"$f":"IF(K217=\"\",\"\",INDEX('OTRAS REFERENCIAS'!$AL:$AM,MATCH(K217,'OTRAS REFERENCIAS'!$AL:$AL,0),2))","v":""},null,{"$f":"IF(J217=\"\",\"\",INDEX(REFERENTES!$A:$D,MATCH(J217,REFERENTES!$C:$C,0),3))","v":""},null,null,null,null,null,null,null,{"$f":"IF(U217=\"\",\"\",INDEX('OTRAS REFERENCIAS'!$H$6:$I$11,MATCH(U217,'OTRAS REFERENCIAS'!$I$6:$I$11,0),1))","v":""},null,null,null,null,{"$f":"IF(Z217=\"\",\"\",INDEX('OTRAS REFERENCIAS'!$K$6:$L$11,MATCH(Z217,'OTRAS REFERENCIAS'!$L$6:$L$11,0),1))","v":""},null,null,null,null,{"$f":"IF(AE217=\"\",\"\",INDEX('OTRAS REFERENCIAS'!$N$6:$O$11,MATCH(AE217,'OTRAS REFERENCIAS'!$O$6:$O$11,0),1))","v":""},null,null,null,null,{"$f":"IF(AJ217=\"\",\"\",INDEX('OTRAS REFERENCIAS'!$Q$6:$R$11,MATCH(AJ217,'OTRAS REFERENCIAS'!$R$6:$R$11,0),1))","v":""},null,null,null,{"$f":"IF(AN217=\"\",\"\",INDEX('OTRAS REFERENCIAS'!$T$6:$U$11,MATCH(AN217,'OTRAS REFERENCIAS'!$U$6:$U$11,0),1))","v":""}]
[1,"",216,"","",{"$f":"IF(L218<>\"\",CONCATENATE(DIGITADOR!$B$2,$A$2,DIGITADOR!$M$1,A218),\"\")","v":""},null,null,"",{"$f":"IF(K218=\"\",\"\",INDEX('OTRAS REFERENCIAS'!$AL:$AM,MATCH(K218,'OTRAS REFERENCIAS'!$AL:$AL,0),2))","v":""},null,{"$f":"IF(J218=\"\",\"\",INDEX(REFERENTES!$A:$D,MATCH(J218,REFERENTES!$C:$C,0),3))","v":""},null,null,null,null,null,null,null,{"$f":"IF(U218=\"\",\"\",INDEX('OTRAS REFERENCIAS'!$H$6:$I$11,MATCH(U218,'OTRAS REFERENCIAS'!$I$6:$I$11,0),1))","v":""},null,null,null,null,{"$f":"IF(Z218=\"\",\"\",INDEX('OTRAS REFERENCIAS'!$K$6:$L$11,MATCH(Z218,'OTRAS REFERENCIAS'!$L$6:$L$11,0),1))","v":""},null,null,null,null,{"$f":"IF(AE218=\"\",\"\",INDEX('OTRAS REFERENCIAS'!$N$6:$O$11,MATCH(AE218,'OTRAS REFERENCIAS'!$O$6:$O$11,0),1))","v":""},null,null,null,null,{"$f":"IF(AJ218=\"\",\"\",INDEX('OTRAS REFERENCIAS'!$Q$6:$R$11,MATCH(AJ218,'OTRAS REFERENCIAS'!$R$6:$R$11,0),1))","v":""},null,null,null,{"$f":"IF(AN218=\"\",\"\",INDEX('OTRAS REFERENCIAS'!$T$6:$U$11,MATCH(AN218,'OTRAS REFERENCIAS'!$U$6:$U$11,0),1))","v":""}]
[1,"",217,"","",{"$f":"IF(L219<>\"\",CONCATENATE(DIGITADOR!$B$2,$A$2,DIGITADOR!$M$1,A219),\"\")","v":""},null,null,"",{"$f":"IF(K219=\"\",\"\",INDEX('OTRAS REFERENCIAS'!$AL:$AM,MATCH(K219,'OTRAS REFERENCIAS'!$AL:$AL,0),2))","v":""},null,{"$f":"IF(J219=\"\",\"\",INDEX(REFERENTES!$A:$D,MATCH(J219,REFERENTES!$C:$C,0),3))","v":""},null,null,null,null,null,null,null,{"$f":"IF(U219=\"\",\"\",INDEX('OTRAS REFERENCIAS'!$H$6:$I$11,MATCH(U219,'OTRAS REFERENCIAS'!$I$6:$I$11,0),1))","v":""},null,null,null,null,{"$f":"IF(Z219=\"\",\"\",INDEX('OTRAS REFERENCIAS'!$K$6:$L$11,MATCH(Z219,'OTRAS REFERENCIAS'!$L$6:$L$11,0),1))","v":""},null,null,null,null,{"$f":"IF(AE219=\"\",\"\",INDEX('OTRAS REFERENCIAS'!$N$6:$O$11,MATCH(AE219,'OTRAS REFERENCIAS'!$O$6:$O$11,0),1))","v":""},null,null,null,null,{"$f":"IF(AJ219=\"\",\"\",INDEX('OTRAS REFERENCIAS'!$Q$6:$R$11,MATCH(AJ219,'OTRAS REFERENCIAS'!$R$6:$R$11,0),1))","v":""},null,null,null,{"$f":"IF(AN219=\"\",\"\",INDEX('OTRAS REFERENCIAS'!$T$6:$U$11,MATCH(AN219,'OTRAS REFERENCIAS'!$U$6:$U$11,0),1))","v":""}]
[1,"",218,"","",{"$f":"IF(L220<>\"\",CONCATENATE(DIGITADOR!$B$2,$A$2,DIGITADOR!$M$1,A220),\"\")","v":""},null,null,"",{"$f":"IF(K220=\"\",\"\",INDEX('OTRAS REFERENCIAS'!$AL:$AM,MATCH(K220,'OTRAS REFERENCIAS'!$AL:$AL,0),2))","v":""},null,{"$f":"IF(J220=\"\",\"\",INDEX(REFERENTES!$A:$D,MATCH(J220,REFERENTES!$C:$C,0),3))","v":""},null,null,null,null,null,null,null,{"$f":"IF(U220=\"\",\"\",INDEX('OTRAS REFERENCIAS'!$H$6:$I$11,MATCH(U220,'OTRAS REFERENCIAS'!$I$6:$I$11,0),1))","v":""},null,null,null,null,{"$f":"IF(Z220=\"\",\"\",INDEX('OTRAS REFERENCIAS'!$K$6:$L$11,MATCH(Z220,'OTRAS REFERENCIAS'!$L$6:$L$11,0),1))","v":""},null,null,null,null,{"$f":"IF(AE220=\"\",\"\",INDEX('OTRAS REFERENCIAS'!$N$6:$O$11,MATCH(AE220,'OTRAS REFERENCIAS'!$O$6:$O$11,0),1))","v":""},null,null,null,null,{"$f":"IF(AJ220=\"\",\"\",INDEX('OTRAS REFERENCIAS'!$Q$6:$R$11,MATCH(AJ220,'OTRAS REFERENCIAS'!$R$6:$R$11,0),1))","v":""},null,null,null,{"$f":"IF(AN220=\"\",\"\",INDEX('OTRAS REFERENCIAS'!$T$6:$U$11,MATCH(AN220,'OTRAS REFERENCIAS'!$U$6:$U$11,0),1))","v":""}]
[1,"",219,"","",{"$f":"IF(L221<>\"\",CONCATENATE(DIGITADOR!$B$2,$A$2,DIGITADOR!$M$1,A221),\"\")","v":""},null,null,"",{"$f":"IF(K221=\"\",\"\",INDEX('OTRAS REFERENCIAS'!$AL:$AM,MATCH(K221,'OTRAS REFERENCIAS'!$AL:$AL,0),2))","v":""},null,{"$f":"IF(J221=\"\",\"\",INDEX(REFERENTES!$A:$D,MATCH(J221,REFERENTES!$C:$C,0),3))","v":""},null,null,null,null,null,null,null,{"$f":"IF(U221=\"\",\"\",INDEX('OTRAS REFERENCIAS'!$H$6:$I$11,MATCH(U221,'OTRAS REFERENCIAS'!$I$6:$I$11,0),1))","v":""},null,null,null,null,{"$f":"IF(Z221=\"\",\"\",INDEX('OTRAS REFERENCIAS'!$K$6:$L$11,MATCH(Z221,'OTRAS REFERENCIAS'!$L$6:$L$11,0),1))","v":""},null,null,null,null,{"$f":"IF(AE221=\"\",\"\",INDEX('OTRAS REFERENCIAS'!$N$6:$O$11,MATCH(AE221,'OTRAS REFERENCIAS'!$O$6:$O$11,0),1))","v":""},null,null,null,null,{"$f":"IF(AJ221=\"\",\"\",INDEX('OTRAS REFERENCIAS'!$Q$6:$R$11,MATCH(AJ221,'OTRAS REFERENCIAS'!$R$6:$R$11,0),1))","v":""},null,null,null,{"$f":"IF(AN221=\"\",\"\",INDEX('OTRAS REFERENCIAS'!$T$6:$U$11,MATCH(AN221,'OTRAS REFERENCIAS'!$U$6:$U$11,0),1))","v":""}]
[1,"",220,"","",{"$f":"IF(L222<>\"\",CONCATENATE(DIGITADOR!$B$2,$A$2,DIGITADOR!$M$1,A222),\"\")","v":""},null,null,"",{"$f":"IF(K222=\"\",\"\",INDEX('OTRAS REFERENCIAS'!$AL:$AM,MATCH(K222,'OTRAS REFERENCIAS'!$AL:$AL,0),2))","v":""},null,{"$f":"IF(J222=\"\",\"\",INDEX(REFERENTES!$A:$D,MATCH(J222,REFERENTES!$C:$C,0),3))","v":""},null,null,null,null,null,null,null,{"$f":"IF(U222=\"\",\"\",INDEX('OTRAS REFERENCIAS'!$H$6:$I$11,MATCH(U222,'OTRAS REFERENCIAS'!$I$6:$I$11,0),1))","v":""},null,null,null,null,{"$f":"IF(Z222=\"\",\"\",INDEX('OTRAS REFERENCIAS'!$K$6:$L$11,MATCH(Z222,'OTRAS REFERENCIAS'!$L$6:$L$11,0),1))","v":""},null,null,null,null,{"$f":"IF(AE222=\"\",\"\",INDEX('OTRAS REFERENCIAS'!$N$6:$O$11,MATCH(AE222,'OTRAS REFERENCIAS'!$O$6:$O$11,0),1))","v":""},null,null,null,null,{"$f":"IF(AJ222=\"\",\"\",INDEX('OTRAS REFERENCIAS'!$Q$6:$R$11,MATCH(AJ222,'OTRAS REFERENCIAS'!$R$6:$R$11,0),1))","v":""},null,null,null,{"$f":"IF(AN222=\"\",\"\",INDEX('OTRAS REFERENCIAS'!$T$6:$U$11,MATCH(AN222,'OTRAS REFERENCIAS'!$U$6:$U$11,0),1))","v":""}]
[1,"",221,"","",{"$f":"IF(L223<>\"\",CONCATENATE(DIGITADOR!$B$2,$A$2,DIGITADOR!$M$1,A223),\"\")","v":""},null,null,"",{"$f":"IF(K223=\"\",\"\",INDEX('OTRAS REFERENCIAS'!$AL:$AM,MATCH(K223,'OTRAS REFERENCIAS'!$AL:$AL,0),2))","v":""},null,{"$f":"IF(J223=\"\",\"\",INDEX(REFERENTES!$A:$D,MATCH(J223,REFERENTES!$C:$C,0),3))","v":""},null,null,null,null,null,null,null,{"$f":"IF(U223=\"\",\"\",INDEX('OTRAS REFERENCIAS'!$H$6:$I$11,MATCH(U223,'OTRAS REFERENCIAS'!$I$6:$I$11,0),1))","v":""},null,null,null,null,{"$f":"IF(Z223=\"\",\"\",INDEX('OTRAS REFERENCIAS'!$K$6:$L$11,MATCH(Z223,'OTRAS REFERENCIAS'!$L$6:$L$11,0),1))","v":""},null,null,null,null,{"$f":"IF(AE223=\"\",\"\",INDEX('OTRAS REFERENCIAS'!$N$6:$O$11,MATCH(AE223,'OTRAS REFERENCIAS'!$O$6:$O$11,0),1))","v":""},null,null,null,null,{"$f":"IF(AJ223=\"\",\"\",INDEX('OTRAS REFERENCIAS'!$Q$6:$R$11,MATCH(AJ223,'OTRAS REFERENCIAS'!$R$6:$R$11,0),1))","v":""},null,null,null,{"$f":"IF(AN223=\"\",\"\",INDEX('OTRAS REFERENCIAS'!$T$6:$U$11,MATCH(AN223,'OTRAS REFERENCIAS'!$U$6:$U$11,0),1))","v":""}]
[1,"",222,"","",{"$f":"IF(L224<>\"\",CONCATENATE(DIGITADOR!$B$2,$A$2,DIGITADOR!$M$1,A224),\"\")","v":""},null,null,"",{"$f":"IF(K224=\"\",\"\",INDEX('OTRAS REFERENCIAS'!$AL:$AM,MATCH(K224,'OTRAS REFERENCIAS'!$AL:$AL,0),2))","v":""},null,{"$f":"IF(J224=\"\",\"\",INDEX(REFERENTES!$A:$D,MATCH(J224,REFERENTES!$C:$C,0),3))","v":""},null,null,null,null,null,null,null,{"$f":"IF(U224=\"\",\"\",INDEX('OTRAS REFERENCIAS'!$H$6:$I$11,MATCH(U224,'OTRAS REFERENCIAS'!$I$6:$I$11,0),1))","v":""},null,null,null,null,{"$f":"IF(Z224=\"\",\"\",INDEX('OTRAS REFERENCIAS'!$K$6:$L$11,MATCH(Z224,'OTRAS REFERENCIAS'!$L$6:$L$11,0),1))","v":""},null,null,null,null,{"$f":"IF(AE224=\"\",\"\",INDEX('OTRAS REFERENCIAS'!$N$6:$O$11,MATCH(AE224,'OTRAS REFERENCIAS'!$O$6:$O$11,0),1))","v":""},null,null,null,null,{"$f":"IF(AJ224=\"\",\"\",INDEX('OTRAS REFERENCIAS'!$Q$6:$R$11,MATCH(AJ224,'OTRAS REFERENCIAS'!$R$6:$R$11,0),1))","v":""},null,null,null,{"$f":"IF(AN224=\"\",\"\",INDEX('OTRAS REFERENCIAS'!$T$6:$U$11,MATCH(AN224,'OTRAS REFERENCIAS'!$U$6:$U$11,0),1))","v":""}]
[1,"",223,"","",{"$f":"IF(L225<>\"\",CONCATENATE(DIGITADOR!$B$2,$A$2,DIGITADOR!$M$1,A225),\"\")","v":""},null,null,"",{"$f":"IF(K225=\"\",\"\",INDEX('OTRAS REFERENCIAS'!$AL:$AM,MATCH(K225,'OTRAS REFERENCIAS'!$AL:$AL,0),2))","v":""},null,{"$f":"IF(J225=\"\",\"\",INDEX(REFERENTES!$A:$D,MATCH(J225,REFERENTES!$C:$C,0),3))","v":""},null,null,null,null,null,null,null,{"$f":"IF(U225=\"\",\"\",INDEX('OTRAS REFERENCIAS'!$H$6:$I$11,MATCH(U225,'OTRAS REFERENCIAS'!$I$6:$I$11,0),1))","v":""},null,null,null,null,{"$f":"IF(Z225=\"\",\"\",INDEX('OTRAS REFERENCIAS'!$K$6:$L$11,MATCH(Z225,'OTRAS REFERENCIAS'!$L$6:$L$11,0),1))","v":""},null,null,null,null,{"$f":"IF(AE225=\"\",\"\",INDEX('OTRAS REFERENCIAS'!$N$6:$O$11,MATCH(AE225,'OTRAS REFERENCIAS'!$O$6:$O$11,0),1))","v":""},null,null,null,null,{"$f":"IF(AJ225=\"\",\"\",INDEX('OTRAS REFERENCIAS'!$Q$6:$R$11,MATCH(AJ225,'OTRAS REFERENCIAS'!$R$6:$R$11,0),1))","v":""},null,null,null,{"$f":"IF(AN225=\"\",\"\",INDEX('OTRAS REFERENCIAS'!$T$6:$U$11,MATCH(AN225,'OTRAS REFERENCIAS'!$U$6:$U$11,0),1))","v":""}]
[1,"",224,"","",{"$f":"IF(L226<>\"\",CONCATENATE(DIGITADOR!$B$2,$A$2,DIGITADOR!$M$1,A226),\"\")","v":""},null,null,"",{"$f":"IF(K226=\"\",\"\",INDEX('OTRAS REFERENCIAS'!$AL:$AM,MATCH(K226,'OTRAS REFERENCIAS'!$AL:$AL,0),2))","v":""},null,{"$f":"IF(J226=\"\",\"\",INDEX(REFERENTES!$A:$D,MATCH(J226,REFERENTES!$C:$C,0),3))","v":""},null,null,null,null,null,null,null,{"$f":"IF(U226=\"\",\"\",INDEX('OTRAS REFERENCIAS'!$H$6:$I$11,MATCH(U226,'OTRAS REFERENCIAS'!$I$6:$I$11,0),1))","v":""},null,null,null,null,{"$f":"IF(Z226=\"\",\"\",INDEX('OTRAS REFERENCIAS'!$K$6:$L$11,MATCH(Z226,'OTRAS REFERENCIAS'!$L$6:$L$11,0),1))","v":""},null,null,null,null,{"$f":"IF(AE226=\"\",\"\",INDEX('OTRAS REFERENCIAS'!$N$6:$O$11,MATCH(AE226,'OTRAS REFERENCIAS'!$O$6:$O$11,0),1))","v":""},null,null,null,null,{"$f":"IF(AJ226=\"\",\"\",INDEX('OTRAS REFERENCIAS'!$Q$6:$R$11,MATCH(AJ226,'OTRAS REFERENCIAS'!$R$6:$R$11,0),1))","v":""},null,null,null,{"$f":"IF(AN226=\"\",\"\",INDEX('OTRAS REFERENCIAS'!$T$6:$U$11,MATCH(AN226,'OTRAS REFERENCIAS'!$U$6:$U$11,0),1))","v":""}]
[1,"",225,"","",{"$f":"IF(L227<>\"\",CONCATENATE(DIGITADOR!$B$2,$A$2,DIGITADOR!$M$1,A227),\"\")","v":""},null,null,"",{"$f":"IF(K227=\"\",\"\",INDEX('OTRAS REFERENCIAS'!$AL:$AM,MATCH(K227,'OTRAS REFERENCIAS'!$AL:$AL,0),2))","v":""},null,{"$f":"IF(J227=\"\",\"\",INDEX(REFERENTES!$A:$D,MATCH(J227,REFERENTES!$C:$C,0),3))","v":""},null,null,null,null,null,null,null,{"$f":"IF(U227=\"\",\"\",INDEX('OTRAS REFERENCIAS'!$H$6:$I$11,MATCH(U227,'OTRAS REFERENCIAS'!$I$6:$I$11,0),1))","v":""},null,null,null,null,{"$f":"IF(Z227=\"\",\"\",INDEX('OTRAS REFERENCIAS'!$K$6:$L$11,MATCH(Z227,'OTRAS REFERENCIAS'!$L$6:$L$11,0),1))","v":""},null,null,null,null,{"$f":"IF(AE227=\"\",\"\",INDEX('OTRAS REFERENCIAS'!$N$6:$O$11,MATCH(AE227,'OTRAS REFERENCIAS'!$O$6:$O$11,0),1))","v":""},null,null,null,null,{"$f":"IF(AJ227=\"\",\"\",INDEX('OTRAS REFERENCIAS'!$Q$6:$R$11,MATCH(AJ227,'OTRAS REFERENCIAS'!$R$6:$R$11,0),1))","v":""},null,null,null,{"$f":"IF(AN227=\"\",\"\",INDEX('OTRAS REFERENCIAS'!$T$6:$U$11,MATCH(AN227,'OTRAS REFERENCIAS'!$U$6:$U$11,0),1))","v":""}]
[1,"",226,"","",{"$f":"IF(L228<>\"\",CONCATENATE(DIGITADOR!$B$2,$A$2,DIGITADOR!$M$1,A228),\"\")","v":""},null,null,"",{"$f":"IF(K228=\"\",\"\",INDEX('OTRAS REFERENCIAS'!$AL:$AM,MATCH(K228,'OTRAS REFERENCIAS'!$AL:$AL,0),2))","v":""},null,{"$f":"IF(J228=\"\",\"\",INDEX(REFERENTES!$A:$D,MATCH(J228,REFERENTES!$C:$C,0),3))","v":""},null,null,null,null,null,null,null,{"$f":"IF(U228=\"\",\"\",INDEX('OTRAS REFERENCIAS'!$H$6:$I$11,MATCH(U228,'OTRAS REFERENCIAS'!$I$6:$I$11,0),1))","v":""},null,null,null,null,{"$f":"IF(Z228=\"\",\"\",INDEX('OTRAS REFERENCIAS'!$K$6:$L$11,MATCH(Z228,'OTRAS REFERENCIAS'!$L$6:$L$11,0),1))","v":""},null,null,null,null,{"$f":"IF(AE228=\"\",\"\",INDEX('OTRAS REFERENCIAS'!$N$6:$O$11,MATCH(AE228,'OTRAS REFERENCIAS'!$O$6:$O$11,0),1))","v":""},null,null,null,null,{"$f":"IF(AJ228=\"\",\"\",INDEX('OTRAS REFERENCIAS'!$Q$6:$R$11,MATCH(AJ228,'OTRAS REFERENCIAS'!$R$6:$R$11,0),1))","v":""},null,null,null,{"$f":"IF(AN228=\"\",\"\",INDEX('OTRAS REFERENCIAS'!$T$6:$U$11,MATCH(AN228,'OTRAS REFERENCIAS'!$U$6:$U$11,0),1))","v":""}]
[1,"",227,"","",{"$f":"IF(L229<>\"\",CONCATENATE(DIGITADOR!$B$2,$A$2,DIGITADOR!$M$1,A229),\"\")","v":""},null,null,"",{"$f":"IF(K229=\"\",\"\",INDEX('OTRAS REFERENCIAS'!$AL:$AM,MATCH(K229,'OTRAS REFERENCIAS'!$AL:$AL,0),2))","v":""},null,{"$f":"IF(J229=\"\",\"\",INDEX(REFERENTES!$A:$D,MATCH(J229,REFERENTES!$C:$C,0),3))","v":""},null,null,null,null,null,null,null,{"$f":"IF(U229=\"\",\"\",INDEX('OTRAS REFERENCIAS'!$H$6:$I$11,MATCH(U229,'OTRAS REFERENCIAS'!$I$6:$I$11,0),1))","v":""},null,null,null,null,{"$f":"IF(Z229=\"\",\"\",INDEX('OTRAS REFERENCIAS'!$K$6:$L$11,MATCH(Z229,'OTRAS REFERENCIAS'!$L$6:$L$11,0),1))","v":""},null,null,null,null,{"$f":"IF(AE229=\"\",\"\",INDEX('OTRAS REFERENCIAS'!$N$6:$O$11,MATCH(AE229,'OTRAS REFERENCIAS'!$O$6:$O$11,0),1))","v":""},null,null,null,null,{"$f":"IF(AJ229=\"\",\"\",INDEX('OTRAS REFERENCIAS'!$Q$6:$R$11,MATCH(AJ229,'OTRAS REFERENCIAS'!$R$6:$R$11,0),1))","v":""},null,null,null,{"$f":"IF(AN229=\"\",\"\",INDEX('OTRAS REFERENCIAS'!$T$6:$U$11,MATCH(AN229,'OTRAS REFERENCIAS'!$U$6:$U$11,0),1))","v":""}]
[1,"",228,"","",{"$f":"IF(L230<>\"\",CONCATENATE(DIGITADOR!$B$2,$A$2,DIGITADOR!$M$1,A230),\"\")","v":""},null,null,"",{"$f":"IF(K230=\"\",\"\",INDEX('OTRAS REFERENCIAS'!$AL:$AM,MATCH(K230,'OTRAS REFERENCIAS'!$AL:$AL,0),2))","v":""},null,{"$f":"IF(J230=\"\",\"\",INDEX(REFERENTES!$A:$D,MATCH(J230,REFERENTES!$C:$C,0),3))","v":""},null,null,null,null,null,null,null,{"$f":"IF(U230=\"\",\"\",INDEX('OTRAS REFERENCIAS'!$H$6:$I$11,MATCH(U230,'OTRAS REFERENCIAS'!$I$6:$I$11,0),1))","v":""},null,null,null,null,{"$f":"IF(Z230=\"\",\"\",INDEX('OTRAS REFERENCIAS'!$K$6:$L$11,MATCH(Z230,'OTRAS REFERENCIAS'!$L$6:$L$11,0),1))","v":""},null,null,null,null,{"$f":"IF(AE230=\"\",\"\",INDEX('OTRAS REFERENCIAS'!$N$6:$O$11,MATCH(AE230,'OTRAS REFERENCIAS'!$O$6:$O$11,0),1))","v":""},null,null,null,null,{"$f":"IF(AJ230=\"\",\"\",INDEX('OTRAS REFERENCIAS'!$Q$6:$R$11,MATCH(AJ230,'OTRAS REFERENCIAS'!$R$6:$R$11,0),1))","v":""},null,null,null,{"$f":"IF(AN230=\"\",\"\",INDEX('OTRAS REFERENCIAS'!$T$6:$U$11,MATCH(AN230,'OTRAS REFERENCIAS'!$U$6:$U$11,0),1))","v":""}]
[1,"",229,"","",{"$f":"IF(L231<>\"\",CONCATENATE(DIGITADOR!$B$2,$A$2,DIGITADOR!$M$1,A231),\"\")","v":""},null,null,"",{"$f":"IF(K231=\"\",\"\",INDEX('OTRAS REFERENCIAS'!$AL:$AM,MATCH(K231,'OTRAS REFERENCIAS'!$AL:$AL,0),2))","v":""},null,{"$f":"IF(J231=\"\",\"\",INDEX(REFERENTES!$A:$D,MATCH(J231,REFERENTES!$C:$C,0),3))","v":""},null,null,null,null,null,null,null,{"$f":"IF(U231=\"\",\"\",INDEX('OTRAS REFERENCIAS'!$H$6:$I$11,MATCH(U231,'OTRAS REFERENCIAS'!$I$6:$I$11,0),1))","v":""},null,null,null,null,{"$f":"IF(Z231=\"\",\"\",INDEX('OTRAS REFERENCIAS'!$K$6:$L$11,MATCH(Z231,'OTRAS REFERENCIAS'!$L$6:$L$11,0),1))","v":""},null,null,null,null,{"$f":"IF(AE231=\"\",\"\",INDEX('OTRAS REFERENCIAS'!$N$6:$O$11,MATCH(AE231,'OTRAS REFERENCIAS'!$O$6:$O$11,0),1))","v":""},null,null,null,null,{"$f":"IF(AJ231=\"\",\"\",INDEX('OTRAS REFERENCIAS'!$Q$6:$R$11,MATCH(AJ231,'OTRAS REFERENCIAS'!$R$6:$R$11,0),1))","v":""},null,null,null,{"$f":"IF(AN231=\"\",\"\",INDEX('OTRAS REFERENCIAS'!$T$6:$U$11,MATCH(AN231,'OTRAS REFERENCIAS'!$U$6:$U$11,0),1))","v":""}]
[1,"",230,"","",{"$f":"IF(L232<>\"\",CONCATENATE(DIGITADOR!$B$2,$A$2,DIGITADOR!$M$1,A232),\"\")","v":""},null,null,"",{"$f":"IF(K232=\"\",\"\",INDEX('OTRAS REFERENCIAS'!$AL:$AM,MATCH(K232,'OTRAS REFERENCIAS'!$AL:$AL,0),2))","v":""},null,{"$f":"IF(J232=\"\",\"\",INDEX(REFERENTES!$A:$D,MATCH(J232,REFERENTES!$C:$C,0),3))","v":""},null,null,null,null,null,null,null,{"$f":"IF(U232=\"\",\"\",INDEX('OTRAS REFERENCIAS'!$H$6:$I$11,MATCH(U232,'OTRAS REFERENCIAS'!$I$6:$I$11,0),1))","v":""},null,null,null,null,{"$f":"IF(Z232=\"\",\"\",INDEX('OTRAS REFERENCIAS'!$K$6:$L$11,MATCH(Z232,'OTRAS REFERENCIAS'!$L$6:$L$11,0),1))","v":""},null,null,null,null,{"$f":"IF(AE232=\"\",\"\",INDEX('OTRAS REFERENCIAS'!$N$6:$O$11,MATCH(AE232,'OTRAS REFERENCIAS'!$O$6:$O$11,0),1))","v":""},null,null,null,null,{"$f":"IF(AJ232=\"\",\"\",INDEX('OTRAS REFERENCIAS'!$Q$6:$R$11,MATCH(AJ232,'OTRAS REFERENCIAS'!$R$6:$R$11,0),1))","v":""},null,null,null,{"$f":"IF(AN232=\"\",\"\",INDEX('OTRAS REFERENCIAS'!$T$6:$U$11,MATCH(AN232,'OTRAS REFERENCIAS'!$U$6:$U$11,0),1))","v":""}]
[1,"",231,"","",{"$f":"IF(L233<>\"\",CONCATENATE(DIGITADOR!$B$2,$A$2,DIGITADOR!$M$1,A233),\"\")","v":""},null,null,"",{"$f":"IF(K233=\"\",\"\",INDEX('OTRAS REFERENCIAS'!$AL:$AM,MATCH(K233,'OTRAS REFERENCIAS'!$AL:$AL,0),2))","v":""},null,{"$f":"IF(J233=\"\",\"\",INDEX(REFERENTES!$A:$D,MATCH(J233,REFERENTES!$C:$C,0),3))","v":""},null,null,null,null,null,null,null,{"$f":"IF(U233=\"\",\"\",INDEX('OTRAS REFERENCIAS'!$H$6:$I$11,MATCH(U233,'OTRAS REFERENCIAS'!$I$6:$I$11,0),1))","v":""},null,null,null,null,{"$f":"IF(Z233=\"\",\"\",INDEX('OTRAS REFERENCIAS'!$K$6:$L$11,MATCH(Z233,'OTRAS REFERENCIAS'!$L$6:$L$11,0),1))","v":""},null,null,null,null,{"$f":"IF(AE233=\"\",\"\",INDEX('OTRAS REFERENCIAS'!$N$6:$O$11,MATCH(AE233,'OTRAS REFERENCIAS'!$O$6:$O$11,0),1))","v":""},null,null,null,null,{"$f":"IF(AJ233=\"\",\"\",INDEX('OTRAS REFERENCIAS'!$Q$6:$R$11,MATCH(AJ233,'OTRAS REFERENCIAS'!$R$6:$R$11,0),1))","v":""},null,null,null,{"$f":"IF(AN233=\"\",\"\",INDEX('OTRAS REFERENCIAS'!$T$6:$U$11,MATCH(AN233,'OTRAS REFERENCIAS'!$U$6:$U$11,0),1))","v":""}]
[1,"",232,"","",{"$f":"IF(L234<>\"\",CONCATENATE(DIGITADOR!$B$2,$A$2,DIGITADOR!$M$1,A234),\"\")","v":""},null,null,"",{"$f":"IF(K234=\"\",\"\",INDEX('OTRAS REFERENCIAS'!$AL:$AM,MATCH(K234,'OTRAS REFERENCIAS'!$AL:$AL,0),2))","v":""},null,{"$f":"IF(J234=\"\",\"\",INDEX(REFERENTES!$A:$D,MATCH(J234,REFERENTES!$C:$C,0),3))","v":""},null,null,null,null,null,null,null,{"$f":"IF(U234=\"\",\"\",INDEX('OTRAS REFERENCIAS'!$H$6:$I$11,MATCH(U234,'OTRAS REFERENCIAS'!$I$6:$I$11,0),1))","v":""},null,null,null,null,{"$f":"IF(Z234=\"\",\"\",INDEX('OTRAS REFERENCIAS'!$K$6:$L$11,MATCH(Z234,'OTRAS REFERENCIAS'!$L$6:$L$11,0),1))","v":""},null,null,null,null,{"$f":"IF(AE234=\"\",\"\",INDEX('OTRAS REFERENCIAS'!$N$6:$O$11,MATCH(AE234,'OTRAS REFERENCIAS'!$O$6:$O$11,0),1))","v":""},null,null,null,null,{"$f":"IF(AJ234=\"\",\"\",INDEX('OTRAS REFERENCIAS'!$Q$6:$R$11,MATCH(AJ234,'OTRAS REFERENCIAS'!$R$6:$R$11,0),1))","v":""},null,null,null,{"$f":"IF(AN234=\"\",\"\",INDEX('OTRAS REFERENCIAS'!$T$6:$U$11,MATCH(AN234,'OTRAS REFERENCIAS'!$U$6:$U$11,0),1))","v":""}]
[1,"",233,"","",{"$f":"IF(L235<>\"\",CONCATENATE(DIGITADOR!$B$2,$A$2,DIGITADOR!$M$1,A235),\"\")","v":""},null,null,"",{"$f":"IF(K235=\"\",\"\",INDEX('OTRAS REFERENCIAS'!$AL:$AM,MATCH(K235,'OTRAS REFERENCIAS'!$AL:$AL,0),2))","v":""},null,{"$f":"IF(J235=\"\",\"\",INDEX(REFERENTES!$A:$D,MATCH(J235,REFERENTES!$C:$C,0),3))","v":""},null,null,null,null,null,null,null,{"$f":"IF(U235=\"\",\"\",INDEX('OTRAS REFERENCIAS'!$H$6:$I$11,MATCH(U235,'OTRAS REFERENCIAS'!$I$6:$I$11,0),1))","v":""},null,null,null,null,{"$f":"IF(Z235=\"\",\"\",INDEX('OTRAS REFERENCIAS'!$K$6:$L$11,MATCH(Z235,'OTRAS REFERENCIAS'!$L$6:$L$11,0),1))","v":""},null,null,null,null,{"$f":"IF(AE235=\"\",\"\",INDEX('OTRAS REFERENCIAS'!$N$6:$O$11,MATCH(AE235,'OTRAS REFERENCIAS'!$O$6:$O$11,0),1))","v":""},null,null,null,null,{"$f":"IF(AJ235=\"\",\"\",INDEX('OTRAS REFERENCIAS'!$Q$6:$R$11,MATCH(AJ235,'OTRAS REFERENCIAS'!$R$6:$R$11,0),1))","v":""},null,null,null,{"$f":"IF(AN235=\"\",\"\",INDEX('OTRAS REFERENCIAS'!$T$6:$U$11,MATCH(AN235,'OTRAS REFERENCIAS'!$U$6:$U$11,0),1))","v":""}]
[1,"",234,"","",{"$f":"IF(L236<>\"\",CONCATENATE(DIGITADOR!$B$2,$A$2,DIGITADOR!$M$1,A236),\"\")","v":""},null,null,"",{"$f":"IF(K236=\"\",\"\",INDEX('OTRAS REFERENCIAS'!$AL:$AM,MATCH(K236,'OTRAS REFERENCIAS'!$AL:$AL,0),2))","v":""},null,{"$f":"IF(J236=\"\",\"\",INDEX(REFERENTES!$A:$D,MATCH(J236,REFERENTES!$C:$C,0),3))","v":""},null,null,null,null,null,null,null,{"$f":"IF(U236=\"\",\"\",INDEX('OTRAS REFERENCIAS'!$H$6:$I$11,MATCH(U236,'OTRAS REFERENCIAS'!$I$6:$I$11,0),1))","v":""},null,null,null,null,{"$f":"IF(Z236=\"\",\"\",INDEX('OTRAS REFERENCIAS'!$K$6:$L$11,MATCH(Z236,'OTRAS REFERENCIAS'!$L$6:$L$11,0),1))","v":""},null,null,null,null,{"$f":"IF(AE236=\"\",\"\",INDEX('OTRAS REFERENCIAS'!$N$6:$O$11,MATCH(AE236,'OTRAS REFERENCIAS'!$O$6:$O$11,0),1))","v":""},null,null,null,null,{"$f":"IF(AJ236=\"\",\"\",INDEX('OTRAS REFERENCIAS'!$Q$6:$R$11,MATCH(AJ236,'OTRAS REFERENCIAS'!$R$6:$R$11,0),1))","v":""},null,null,null,{"$f":"IF(AN236=\"\",\"\",INDEX('OTRAS REFERENCIAS'!$T$6:$U$11,MATCH(AN236,'OTRAS REFERENCIAS'!$U$6:$U$11,0),1))","v":""}]
[1,"",235,"","",{"$f":"IF(L237<>\"\",CONCATENATE(DIGITADOR!$B$2,$A$2,DIGITADOR!$M$1,A237),\"\")","v":""},null,null,"",{"$f":"IF(K237=\"\",\"\",INDEX('OTRAS REFERENCIAS'!$AL:$AM,MATCH(K237,'OTRAS REFERENCIAS'!$AL:$AL,0),2))","v":""},null,{"$f":"IF(J237=\"\",\"\",INDEX(REFERENTES!$A:$D,MATCH(J237,REFERENTES!$C:$C,0),3))","v":""},null,null,null,null,null,null,null,{"$f":"IF(U237=\"\",\"\",INDEX('OTRAS REFERENCIAS'!$H$6:$I$11,MATCH(U237,'OTRAS REFERENCIAS'!$I$6:$I$11,0),1))","v":""},null,null,null,null,{"$f":"IF(Z237=\"\",\"\",INDEX('OTRAS REFERENCIAS'!$K$6:$L$11,MATCH(Z237,'OTRAS REFERENCIAS'!$L$6:$L$11,0),1))","v":""},null,null,null,null,{"$f":"IF(AE237=\"\",\"\",INDEX('OTRAS REFERENCIAS'!$N$6:$O$11,MATCH(AE237,'OTRAS REFERENCIAS'!$O$6:$O$11,0),1))","v":""},null,null,null,null,{"$f":"IF(AJ237=\"\",\"\",INDEX('OTRAS REFERENCIAS'!$Q$6:$R$11,MATCH(AJ237,'OTRAS REFERENCIAS'!$R$6:$R$11,0),1))","v":""},null,null,null,{"$f":"IF(AN237=\"\",\"\",INDEX('OTRAS REFERENCIAS'!$T$6:$U$11,MATCH(AN237,'OTRAS REFERENCIAS'!$U$6:$U$11,0),1))","v":""}]
[1,"",236,"","",{"$f":"IF(L238<>\"\",CONCATENATE(DIGITADOR!$B$2,$A$2,DIGITADOR!$M$1,A238),\"\")","v":""},null,null,"",{"$f":"IF(K238=\"\",\"\",INDEX('OTRAS REFERENCIAS'!$AL:$AM,MATCH(K238,'OTRAS REFERENCIAS'!$AL:$AL,0),2))","v":""},null,{"$f":"IF(J238=\"\",\"\",INDEX(REFERENTES!$A:$D,MATCH(J238,REFERENTES!$C:$C,0),3))","v":""},null,null,null,null,null,null,null,{"$f":"IF(U238=\"\",\"\",INDEX('OTRAS REFERENCIAS'!$H$6:$I$11,MATCH(U238,'OTRAS REFERENCIAS'!$I$6:$I$11,0),1))","v":""},null,null,null,null,{"$f":"IF(Z238=\"\",\"\",INDEX('OTRAS REFERENCIAS'!$K$6:$L$11,MATCH(Z238,'OTRAS REFERENCIAS'!$L$6:$L$11,0),1))","v":""},null,null,null,null,{"$f":"IF(AE238=\"\",\"\",INDEX('OTRAS REFERENCIAS'!$N$6:$O$11,MATCH(AE238,'OTRAS REFERENCIAS'!$O$6:$O$11,0),1))","v":""},null,null,null,null,{"$f":"IF(AJ238=\"\",\"\",INDEX('OTRAS REFERENCIAS'!$Q$6:$R$11,MATCH(AJ238,'OTRAS REFERENCIAS'!$R$6:$R$11,0),1))","v":""},null,null,null,{"$f":"IF(AN238=\"\",\"\",INDEX('OTRAS REFERENCIAS'!$T$6:$U$11,MATCH(AN238,'OTRAS REFERENCIAS'!$U$6:$U$11,0),1))","v":""}]
[1,"",237,"","",{"$f":"IF(L239<>\"\",CONCATENATE(DIGITADOR!$B$2,$A$2,DIGITADOR!$M$1,A239),\"\")","v":""},null,null,"",{"$f":"IF(K239=\"\",\"\",INDEX('OTRAS REFERENCIAS'!$AL:$AM,MATCH(K239,'OTRAS REFERENCIAS'!$AL:$AL,0),2))","v":""},null,{"$f":"IF(J239=\"\",\"\",INDEX(REFERENTES!$A:$D,MATCH(J239,REFERENTES!$C:$C,0),3))","v":""},null,null,null,null,null,null,null,{"$f":"IF(U239=\"\",\"\",INDEX('OTRAS REFERENCIAS'!$H$6:$I$11,MATCH(U239,'OTRAS REFERENCIAS'!$I$6:$I$11,0),1))","v":""},null,null,null,null,{"$f":"IF(Z239=\"\",\"\",INDEX('OTRAS REFERENCIAS'!$K$6:$L$11,MATCH(Z239,'OTRAS REFERENCIAS'!$L$6:$L$11,0),1))","v":""},null,null,null,null,{"$f":"IF(AE239=\"\",\"\",INDEX('OTRAS REFERENCIAS'!$N$6:$O$11,MATCH(AE239,'OTRAS REFERENCIAS'!$O$6:$O$11,0),1))","v":""},null,null,null,null,{"$f":"IF(AJ239=\"\",\"\",INDEX('OTRAS REFERENCIAS'!$Q$6:$R$11,MATCH(AJ239,'OTRAS REFERENCIAS'!$R$6:$R$11,0),1))","v":""},null,null,null,{"$f":"IF(AN239=\"\",\"\",INDEX('OTRAS REFERENCIAS'!$T$6:$U$11,MATCH(AN239,'OTRAS REFERENCIAS'!$U$6:$U$11,0),1))","v":""}]
[1,"",238,"","",{"$f":"IF(L240<>\"\",CONCATENATE(DIGITADOR!$B$2,$A$2,DIGITADOR!$M$1,A240),\"\")","v":""},null,null,"",{"$f":"IF(K240=\"\",\"\",INDEX('OTRAS REFERENCIAS'!$AL:$AM,MATCH(K240,'OTRAS REFERENCIAS'!$AL:$AL,0),2))","v":""},null,{"$f":"IF(J240=\"\",\"\",INDEX(REFERENTES!$A:$D,MATCH(J240,REFERENTES!$C:$C,0),3))","v":""},null,null,null,null,null,null,null,{"$f":"IF(U240=\"\",\"\",INDEX('OTRAS REFERENCIAS'!$H$6:$I$11,MATCH(U240,'OTRAS REFERENCIAS'!$I$6:$I$11,0),1))","v":""},null,null,null,null,{"$f":"IF(Z240=\"\",\"\",INDEX('OTRAS REFERENCIAS'!$K$6:$L$11,MATCH(Z240,'OTRAS REFERENCIAS'!$L$6:$L$11,0),1))","v":""},null,null,null,null,{"$f":"IF(AE240=\"\",\"\",INDEX('OTRAS REFERENCIAS'!$N$6:$O$11,MATCH(AE240,'OTRAS REFERENCIAS'!$O$6:$O$11,0),1))","v":""},null,null,null,null,{"$f":"IF(AJ240=\"\",\"\",INDEX('OTRAS REFERENCIAS'!$Q$6:$R$11,MATCH(AJ240,'OTRAS REFERENCIAS'!$R$6:$R$11,0),1))","v":""},null,null,null,{"$f":"IF(AN240=\"\",\"\",INDEX('OTRAS REFERENCIAS'!$T$6:$U$11,MATCH(AN240,'OTRAS REFERENCIAS'!$U$6:$U$11,0),1))","v":""}]
[1,"",239,"","",{"$f":"IF(L241<>\"\",CONCATENATE(DIGITADOR!$B$2,$A$2,DIGITADOR!$M$1,A241),\"\")","v":""},null,null,"",{"$f":"IF(K241=\"\",\"\",INDEX('OTRAS REFERENCIAS'!$AL:$AM,MATCH(K241,'OTRAS REFERENCIAS'!$AL:$AL,0),2))","v":""},null,{"$f":"IF(J241=\"\",\"\",INDEX(REFERENTES!$A:$D,MATCH(J241,REFERENTES!$C:$C,0),3))","v":""},null,null,null,null,null,null,null,{"$f":"IF(U241=\"\",\"\",INDEX('OTRAS REFERENCIAS'!$H$6:$I$11,MATCH(U241,'OTRAS REFERENCIAS'!$I$6:$I$11,0),1))","v":""},null,null,null,null,{"$f":"IF(Z241=\"\",\"\",INDEX('OTRAS REFERENCIAS'!$K$6:$L$11,MATCH(Z241,'OTRAS REFERENCIAS'!$L$6:$L$11,0),1))","v":""},null,null,null,null,{"$f":"IF(AE241=\"\",\"\",INDEX('OTRAS REFERENCIAS'!$N$6:$O$11,MATCH(AE241,'OTRAS REFERENCIAS'!$O$6:$O$11,0),1))","v":""},null,null,null,null,{"$f":"IF(AJ241=\"\",\"\",INDEX('OTRAS REFERENCIAS'!$Q$6:$R$11,MATCH(AJ241,'OTRAS REFERENCIAS'!$R$6:$R$11,0),1))","v":""},null,null,null,{"$f":"IF(AN241=\"\",\"\",INDEX('OTRAS REFERENCIAS'!$T$6:$U$11,MATCH(AN241,'OTRAS REFERENCIAS'!$U$6:$U$11,0),1))","v":""}]
[1,"",240,"","",{"$f":"IF(L242<>\"\",CONCATENATE(DIGITADOR!$B$2,$A$2,DIGITADOR!$M$1,A242),\"\")","v":""},null,null,"",{"$f":"IF(K242=\"\",\"\",INDEX('OTRAS REFERENCIAS'!$AL:$AM,MATCH(K242,'OTRAS REFERENCIAS'!$AL:$AL,0),2))","v":""},null,{"$f":"IF(J242=\"\",\"\",INDEX(REFERENTES!$A:$D,MATCH(J242,REFERENTES!$C:$C,0),3))","v":""},null,null,null,null,null,null,null,{"$f":"IF(U242=\"\",\"\",INDEX('OTRAS REFERENCIAS'!$H$6:$I$11,MATCH(U242,'OTRAS REFERENCIAS'!$I$6:$I$11,0),1))","v":""},null,null,null,null,{"$f":"IF(Z242=\"\",\"\",INDEX('OTRAS REFERENCIAS'!$K$6:$L$11,MATCH(Z242,'OTRAS REFERENCIAS'!$L$6:$L$11,0),1))","v":""},null,null,null,null,{"$f":"IF(AE242=\"\",\"\",INDEX('OTRAS REFERENCIAS'!$N$6:$O$11,MATCH(AE242,'OTRAS REFERENCIAS'!$O$6:$O$11,0),1))","v":""},null,null,null,null,{"$f":"IF(AJ242=\"\",\"\",INDEX('OTRAS REFERENCIAS'!$Q$6:$R$11,MATCH(AJ242,'OTRAS REFERENCIAS'!$R$6:$R$11,0),1))","v":""},null,null,null,{"$f":"IF(AN242=\"\",\"\",INDEX('OTRAS REFERENCIAS'!$T$6:$U$11,MATCH(AN242,'OTRAS REFERENCIAS'!$U$6:$U$11,0),1))","v":""}]
[1,"",241,"","",{"$f":"IF(L243<>\"\",CONCATENATE(DIGITADOR!$B$2,$A$2,DIGITADOR!$M$1,A243),\"\")","v":""},null,null,"",{"$f":"IF(K243=\"\",\"\",INDEX('OTRAS REFERENCIAS'!$AL:$AM,MATCH(K243,'OTRAS REFERENCIAS'!$AL:$AL,0),2))","v":""},null,{"$f":"IF(J243=\"\",\"\",INDEX(REFERENTES!$A:$D,MATCH(J243,REFERENTES!$C:$C,0),3))","v":""},null,null,null,null,null,null,null,{"$f":"IF(U243=\"\",\"\",INDEX('OTRAS REFERENCIAS'!$H$6:$I$11,MATCH(U243,'OTRAS REFERENCIAS'!$I$6:$I$11,0),1))","v":""},null,null,null,null,{"$f":"IF(Z243=\"\",\"\",INDEX('OTRAS REFERENCIAS'!$K$6:$L$11,MATCH(Z243,'OTRAS REFERENCIAS'!$L$6:$L$11,0),1))","v":""},null,null,null,null,{"$f":"IF(AE243=\"\",\"\",INDEX('OTRAS REFERENCIAS'!$N$6:$O$11,MATCH(AE243,'OTRAS REFERENCIAS'!$O$6:$O$11,0),1))","v":""},null,null,null,null,{"$f":"IF(AJ243=\"\",\"\",INDEX('OTRAS REFERENCIAS'!$Q$6:$R$11,MATCH(AJ243,'OTRAS REFERENCIAS'!$R$6:$R$11,0),1))","v":""},null,null,null,{"$f":"IF(AN243=\"\",\"\",INDEX('OTRAS REFERENCIAS'!$T$6:$U$11,MATCH(AN243,'OTRAS REFERENCIAS'!$U$6:$U$11,0),1))","v":""}]
[1,"",242,"","",{"$f":"IF(L244<>\"\",CONCATENATE(DIGITADOR!$B$2,$A$2,DIGITADOR!$M$1,A244),\"\")","v":""},null,null,"",{"$f":"IF(K244=\"\",\"\",INDEX('OTRAS REFERENCIAS'!$AL:$AM,MATCH(K244,'OTRAS REFERENCIAS'!$AL:$AL,0),2))","v":""},null,{"$f":"IF(J244=\"\",\"\",INDEX(REFERENTES!$A:$D,MATCH(J244,REFERENTES!$C:$C,0),3))","v":""},null,null,null,null,null,null,null,{"$f":"IF(U244=\"\",\"\",INDEX('OTRAS REFERENCIAS'!$H$6:$I$11,MATCH(U244,'OTRAS REFERENCIAS'!$I$6:$I$11,0),1))","v":""},null,null,null,null,{"$f":"IF(Z244=\"\",\"\",INDEX('OTRAS REFERENCIAS'!$K$6:$L$11,MATCH(Z244,'OTRAS REFERENCIAS'!$L$6:$L$11,0),1))","v":""},null,null,null,null,{"$f":"IF(AE244=\"\",\"\",INDEX('OTRAS REFERENCIAS'!$N$6:$O$11,MATCH(AE244,'OTRAS REFERENCIAS'!$O$6:$O$11,0),1))","v":""},null,null,null,null,{"$f":"IF(AJ244=\"\",\"\",INDEX('OTRAS REFERENCIAS'!$Q$6:$R$11,MATCH(AJ244,'OTRAS REFERENCIAS'!$R$6:$R$11,0),1))","v":""},null,null,null,{"$f":"IF(AN244=\"\",\"\",INDEX('OTRAS REFERENCIAS'!$T$6:$U$11,MATCH(AN244,'OTRAS REFERENCIAS'!$U$6:$U$11,0),1))","v":""}]
[1,"",243,"","",{"$f":"IF(L245<>\"\",CONCATENATE(DIGITADOR!$B$2,$A$2,DIGITADOR!$M$1,A245),\"\")","v":""},null,null,"",{"$f":"IF(K245=\"\",\"\",INDEX('OTRAS REFERENCIAS'!$AL:$AM,MATCH(K245,'OTRAS REFERENCIAS'!$AL:$AL,0),2))","v":""},null,{"$f":"IF(J245=\"\",\"\",INDEX(REFERENTES!$A:$D,MATCH(J245,REFERENTES!$C:$C,0),3))","v":""},null,null,null,null,null,null,null,{"$f":"IF(U245=\"\",\"\",INDEX('OTRAS REFERENCIAS'!$H$6:$I$11,MATCH(U245,'OTRAS REFERENCIAS'!$I$6:$I$11,0),1))","v":""},null,null,null,null,{"$f":"IF(Z245=\"\",\"\",INDEX('OTRAS REFERENCIAS'!$K$6:$L$11,MATCH(Z245,'OTRAS REFERENCIAS'!$L$6:$L$11,0),1))","v":""},null,null,null,null,{"$f":"IF(AE245=\"\",\"\",INDEX('OTRAS REFERENCIAS'!$N$6:$O$11,MATCH(AE245,'OTRAS REFERENCIAS'!$O$6:$O$11,0),1))","v":""},null,null,null,null,{"$f":"IF(AJ245=\"\",\"\",INDEX('OTRAS REFERENCIAS'!$Q$6:$R$11,MATCH(AJ245,'OTRAS REFERENCIAS'!$R$6:$R$11,0),1))","v":""},null,null,null,{"$f":"IF(AN245=\"\",\"\",INDEX('OTRAS REFERENCIAS'!$T$6:$U$11,MATCH(AN245,'OTRAS REFERENCIAS'!$U$6:$U$11,0),1))","v":""}]
[1,"",244,"","",{"$f":"IF(L246<>\"\",CONCATENATE(DIGITADOR!$B$2,$A$2,DIGITADOR!$M$1,A246),\"\")","v":""},null,null,"",{"$f":"IF(K246=\"\",\"\",INDEX('OTRAS REFERENCIAS'!$AL:$AM,MATCH(K246,'OTRAS REFERENCIAS'!$AL:$AL,0),2))","v":""},null,{"$f":"IF(J246=\"\",\"\",INDEX(REFERENTES!$A:$D,MATCH(J246,REFERENTES!$C:$C,0),3))","v":""},null,null,null,null,null,null,null,{"$f":"IF(U246=\"\",\"\",INDEX('OTRAS REFERENCIAS'!$H$6:$I$11,MATCH(U246,'OTRAS REFERENCIAS'!$I$6:$I$11,0),1))","v":""},null,null,null,null,{"$f":"IF(Z246=\"\",\"\",INDEX('OTRAS REFERENCIAS'!$K$6:$L$11,MATCH(Z246,'OTRAS REFERENCIAS'!$L$6:$L$11,0),1))","v":""},null,null,null,null,{"$f":"IF(AE246=\"\",\"\",INDEX('OTRAS REFERENCIAS'!$N$6:$O$11,MATCH(AE246,'OTRAS REFERENCIAS'!$O$6:$O$11,0),1))","v":""},null,null,null,null,{"$f":"IF(AJ246=\"\",\"\",INDEX('OTRAS REFERENCIAS'!$Q$6:$R$11,MATCH(AJ246,'OTRAS REFERENCIAS'!$R$6:$R$11,0),1))","v":""},null,null,null,{"$f":"IF(AN246=\"\",\"\",INDEX('OTRAS REFERENCIAS'!$T$6:$U$11,MATCH(AN246,'OTRAS REFERENCIAS'!$U$6:$U$11,0),1))","v":""}]
[1,"",245,"","",{"$f":"IF(L247<>\"\",CONCATENATE(DIGITADOR!$B$2,$A$2,DIGITADOR!$M$1,A247),\"\")","v":""},null,null,"",{"$f":"IF(K247=\"\",\"\",INDEX('OTRAS REFERENCIAS'!$AL:$AM,MATCH(K247,'OTRAS REFERENCIAS'!$AL:$AL,0),2))","v":""},null,{"$f":"IF(J247=\"\",\"\",INDEX(REFERENTES!$A:$D,MATCH(J247,REFERENTES!$C:$C,0),3))","v":""},null,null,null,null,null,null,null,{"$f":"IF(U247=\"\",\"\",INDEX('OTRAS REFERENCIAS'!$H$6:$I$11,MATCH(U247,'OTRAS REFERENCIAS'!$I$6:$I$11,0),1))","v":""},null,null,null,null,{"$f":"IF(Z247=\"\",\"\",INDEX('OTRAS REFERENCIAS'!$K$6:$L$11,MATCH(Z247,'OTRAS REFERENCIAS'!$L$6:$L$11,0),1))","v":""},null,null,null,null,{"$f":"IF(AE247=\"\",\"\",INDEX('OTRAS REFERENCIAS'!$N$6:$O$11,MATCH(AE247,'OTRAS REFERENCIAS'!$O$6:$O$11,0),1))","v":""},null,null,null,null,{"$f":"IF(AJ247=\"\",\"\",INDEX('OTRAS REFERENCIAS'!$Q$6:$R$11,MATCH(AJ247,'OTRAS REFERENCIAS'!$R$6:$R$11,0),1))","v":""},null,null,null,{"$f":"IF(AN247=\"\",\"\",INDEX('OTRAS REFERENCIAS'!$T$6:$U$11,MATCH(AN247,'OTRAS REFERENCIAS'!$U$6:$U$11,0),1))","v":""}]
[1,"",246,"","",{"$f":"IF(L248<>\"\",CONCATENATE(DIGITADOR!$B$2,$A$2,DIGITADOR!$M$1,A248),\"\")","v":""},null,null,"",{"$f":"IF(K248=\"\",\"\",INDEX('OTRAS REFERENCIAS'!$AL:$AM,MATCH(K248,'OTRAS REFERENCIAS'!$AL:$AL,0),2))","v":""},null,{"$f":"IF(J248=\"\",\"\",INDEX(REFERENTES!$A:$D,MATCH(J248,REFERENTES!$C:$C,0),3))","v":""},null,null,null,null,null,null,null,{"$f":"IF(U248=\"\",\"\",INDEX('OTRAS REFERENCIAS'!$H$6:$I$11,MATCH(U248,'OTRAS REFERENCIAS'!$I$6:$I$11,0),1))","v":""},null,null,null,null,{"$f":"IF(Z248=\"\",\"\",INDEX('OTRAS REFERENCIAS'!$K$6:$L$11,MATCH(Z248,'OTRAS REFERENCIAS'!$L$6:$L$11,0),1))","v":""},null,null,null,null,{"$f":"IF(AE248=\"\",\"\",INDEX('OTRAS REFERENCIAS'!$N$6:$O$11,MATCH(AE248,'OTRAS REFERENCIAS'!$O$6:$O$11,0),1))","v":""},null,null,null,null,{"$f":"IF(AJ248=\"\",\"\",INDEX('OTRAS REFERENCIAS'!$Q$6:$R$11,MATCH(AJ248,'OTRAS REFERENCIAS'!$R$6:$R$11,0),1))","v":""},null,null,null,{"$f":"IF(AN248=\"\",\"\",INDEX('OTRAS REFERENCIAS'!$T$6:$U$11,MATCH(AN248,'OTRAS REFERENCIAS'!$U$6:$U$11,0),1))","v":""}]
[1,"",247,"","",{"$f":"IF(L249<>\"\",CONCATENATE(DIGITADOR!$B$2,$A$2,DIGITADOR!$M$1,A249),\"\")","v":""},null,null,"",{"$f":"IF(K249=\"\",\"\",INDEX('OTRAS REFERENCIAS'!$AL:$AM,MATCH(K249,'OTRAS REFERENCIAS'!$AL:$AL,0),2))","v":""},null,{"$f":"IF(J249=\"\",\"\",INDEX(REFERENTES!$A:$D,MATCH(J249,REFERENTES!$C:$C,0),3))","v":""},null,null,null,null,null,null,null,{"$f":"IF(U249=\"\",\"\",INDEX('OTRAS REFERENCIAS'!$H$6:$I$11,MATCH(U249,'OTRAS REFERENCIAS'!$I$6:$I$11,0),1))","v":""},null,null,null,null,{"$f":"IF(Z249=\"\",\"\",INDEX('OTRAS REFERENCIAS'!$K$6:$L$11,MATCH(Z249,'OTRAS REFERENCIAS'!$L$6:$L$11,0),1))","v":""},null,null,null,null,{"$f":"IF(AE249=\"\",\"\",INDEX('OTRAS REFERENCIAS'!$N$6:$O$11,MATCH(AE249,'OTRAS REFERENCIAS'!$O$6:$O$11,0),1))","v":""},null,null,null,null,{"$f":"IF(AJ249=\"\",\"\",INDEX('OTRAS REFERENCIAS'!$Q$6:$R$11,MATCH(AJ249,'OTRAS REFERENCIAS'!$R$6:$R$11,0),1))","v":""},null,null,null,{"$f":"IF(AN249=\"\",\"\",INDEX('OTRAS REFERENCIAS'!$T$6:$U$11,MATCH(AN249,'OTRAS REFERENCIAS'!$U$6:$U$11,0),1))","v":""}]
[1,"",248,"","",{"$f":"IF(L250<>\"\",CONCATENATE(DIGITADOR!$B$2,$A$2,DIGITADOR!$M$1,A250),\"\")","v":""},null,null,"",{"$f":"IF(K250=\"\",\"\",INDEX('OTRAS REFERENCIAS'!$AL:$AM,MATCH(K250,'OTRAS REFERENCIAS'!$AL:$AL,0),2))","v":""},null,{"$f":"IF(J250=\"\",\"\",INDEX(REFERENTES!$A:$D,MATCH(J250,REFERENTES!$C:$C,0),3))","v":""},null,null,null,null,null,null,null,{"$f":"IF(U250=\"\",\"\",INDEX('OTRAS REFERENCIAS'!$H$6:$I$11,MATCH(U250,'OTRAS REFERENCIAS'!$I$6:$I$11,0),1))","v":""},null,null,null,null,{"$f":"IF(Z250=\"\",\"\",INDEX('OTRAS REFERENCIAS'!$K$6:$L$11,MATCH(Z250,'OTRAS REFERENCIAS'!$L$6:$L$11,0),1))","v":""},null,null,null,null,{"$f":"IF(AE250=\"\",\"\",INDEX('OTRAS REFERENCIAS'!$N$6:$O$11,MATCH(AE250,'OTRAS REFERENCIAS'!$O$6:$O$11,0),1))","v":""},null,null,null,null,{"$f":"IF(AJ250=\"\",\"\",INDEX('OTRAS REFERENCIAS'!$Q$6:$R$11,MATCH(AJ250,'OTRAS REFERENCIAS'!$R$6:$R$11,0),1))","v":""},null,null,null,{"$f":"IF(AN250=\"\",\"\",INDEX('OTRAS REFERENCIAS'!$T$6:$U$11,MATCH(AN250,'OTRAS REFERENCIAS'!$U$6:$U$11,0),1))","v":""}]
[1,"",249,"","",{"$f":"IF(L251<>\"\",CONCATENATE(DIGITADOR!$B$2,$A$2,DIGITADOR!$M$1,A251),\"\")","v":""},null,null,"",{"$f":"IF(K251=\"\",\"\",INDEX('OTRAS REFERENCIAS'!$AL:$AM,MATCH(K251,'OTRAS REFERENCIAS'!$AL:$AL,0),2))","v":""},null,{"$f":"IF(J251=\"\",\"\",INDEX(REFERENTES!$A:$D,MATCH(J251,REFERENTES!$C:$C,0),3))","v":""},null,null,null,null,null,null,null,{"$f":"IF(U251=\"\",\"\",INDEX('OTRAS REFERENCIAS'!$H$6:$I$11,MATCH(U251,'OTRAS REFERENCIAS'!$I$6:$I$11,0),1))","v":""},null,null,null,null,{"$f":"IF(Z251=\"\",\"\",INDEX('OTRAS REFERENCIAS'!$K$6:$L$11,MATCH(Z251,'OTRAS REFERENCIAS'!$L$6:$L$11,0),1))","v":""},null,null,null,null,{"$f":"IF(AE251=\"\",\"\",INDEX('OTRAS REFERENCIAS'!$N$6:$O$11,MATCH(AE251,'OTRAS REFERENCIAS'!$O$6:$O$11,0),1))","v":""},null,null,null,null,{"$f":"IF(AJ251=\"\",\"\",INDEX('OTRAS REFERENCIAS'!$Q$6:$R$11,MATCH(AJ251,'OTRAS REFERENCIAS'!$R$6:$R$11,0),1))","v":""},null,null,null,{"$f":"IF(AN251=\"\",\"\",INDEX('OTRAS REFERENCIAS'!$T$6:$U$11,MATCH(AN251,'OTRAS REFERENCIAS'!$U$6:$U$11,0),1))","v":""}]
[1,"",250,"","",{"$f":"IF(L252<>\"\",CONCATENATE(DIGITADOR!$B$2,$A$2,DIGITADOR!$M$1,A252),\"\")","v":""},null,null,"",{"$f":"IF(K252=\"\",\"\",INDEX('OTRAS REFERENCIAS'!$AL:$AM,MATCH(K252,'OTRAS REFERENCIAS'!$AL:$AL,0),2))","v":""},null,{"$f":"IF(J252=\"\",\"\",INDEX(REFERENTES!$A:$D,MATCH(J252,REFERENTES!$C:$C,0),3))","v":""},null,null,null,null,null,null,null,{"$f":"IF(U252=\"\",\"\",INDEX('OTRAS REFERENCIAS'!$H$6:$I$11,MATCH(U252,'OTRAS REFERENCIAS'!$I$6:$I$11,0),1))","v":""},null,null,null,null,{"$f":"IF(Z252=\"\",\"\",INDEX('OTRAS REFERENCIAS'!$K$6:$L$11,MATCH(Z252,'OTRAS REFERENCIAS'!$L$6:$L$11,0),1))","v":""},null,null,null,null,{"$f":"IF(AE252=\"\",\"\",INDEX('OTRAS REFERENCIAS'!$N$6:$O$11,MATCH(AE252,'OTRAS REFERENCIAS'!$O$6:$O$11,0),1))","v":""},null,null,null,null,{"$f":"IF(AJ252=\"\",\"\",INDEX('OTRAS REFERENCIAS'!$Q$6:$R$11,MATCH(AJ252,'OTRAS REFERENCIAS'!$R$6:$R$11,0),1))","v":""},null,null,null,{"$f":"IF(AN252=\"\",\"\",INDEX('OTRAS REFERENCIAS'!$T$6:$U$11,MATCH(AN252,'OTRAS REFERENCIAS'!$U$6:$U$11,0),1))","v":""}]
[1,"",251,"","",{"$f":"IF(L253<>\"\",CONCATENATE(DIGITADOR!$B$2,$A$2,DIGITADOR!$M$1,A253),\"\")","v":""},null,null,"",{"$f":"IF(K253=\"\",\"\",INDEX('OTRAS REFERENCIAS'!$AL:$AM,MATCH(K253,'OTRAS REFERENCIAS'!$AL:$AL,0),2))","v":""},null,{"$f":"IF(J253=\"\",\"\",INDEX(REFERENTES!$A:$D,MATCH(J253,REFERENTES!$C:$C,0),3))","v":""},null,null,null,null,null,null,null,{"$f":"IF(U253=\"\",\"\",INDEX('OTRAS REFERENCIAS'!$H$6:$I$11,MATCH(U253,'OTRAS REFERENCIAS'!$I$6:$I$11,0),1))","v":""},null,null,null,null,{"$f":"IF(Z253=\"\",\"\",INDEX('OTRAS REFERENCIAS'!$K$6:$L$11,MATCH(Z253,'OTRAS REFERENCIAS'!$L$6:$L$11,0),1))","v":""},null,null,null,null,{"$f":"IF(AE253=\"\",\"\",INDEX('OTRAS REFERENCIAS'!$N$6:$O$11,MATCH(AE253,'OTRAS REFERENCIAS'!$O$6:$O$11,0),1))","v":""},null,null,null,null,{"$f":"IF(AJ253=\"\",\"\",INDEX('OTRAS REFERENCIAS'!$Q$6:$R$11,MATCH(AJ253,'OTRAS REFERENCIAS'!$R$6:$R$11,0),1))","v":""},null,null,null,{"$f":"IF(AN253=\"\",\"\",INDEX('OTRAS REFERENCIAS'!$T$6:$U$11,MATCH(AN253,'OTRAS REFERENCIAS'!$U$6:$U$11,0),1))","v":""}]
[1,"",252,"","",{"$f":"IF(L254<>\"\",CONCATENATE(DIGITADOR!$B$2,$A$2,DIGITADOR!$M$1,A254),\"\")","v":""},null,null,"",{"$f":"IF(K254=\"\",\"\",INDEX('OTRAS REFERENCIAS'!$AL:$AM,MATCH(K254,'OTRAS REFERENCIAS'!$AL:$AL,0),2))","v":""},null,{"$f":"IF(J254=\"\",\"\",INDEX(REFERENTES!$A:$D,MATCH(J254,REFERENTES!$C:$C,0),3))","v":""},null,null,null,null,null,null,null,{"$f":"IF(U254=\"\",\"\",INDEX('OTRAS REFERENCIAS'!$H$6:$I$11,MATCH(U254,'OTRAS REFERENCIAS'!$I$6:$I$11,0),1))","v":""},null,null,null,null,{"$f":"IF(Z254=\"\",\"\",INDEX('OTRAS REFERENCIAS'!$K$6:$L$11,MATCH(Z254,'OTRAS REFERENCIAS'!$L$6:$L$11,0),1))","v":""},null,null,null,null,{"$f":"IF(AE254=\"\",\"\",INDEX('OTRAS REFERENCIAS'!$N$6:$O$11,MATCH(AE254,'OTRAS REFERENCIAS'!$O$6:$O$11,0),1))","v":""},null,null,null,null,{"$f":"IF(AJ254=\"\",\"\",INDEX('OTRAS REFERENCIAS'!$Q$6:$R$11,MATCH(AJ254,'OTRAS REFERENCIAS'!$R$6:$R$11,0),1))","v":""},null,null,null,{"$f":"IF(AN254=\"\",\"\",INDEX('OTRAS REFERENCIAS'!$T$6:$U$11,MATCH(AN254,'OTRAS REFERENCIAS'!$U$6:$U$11,0),1))","v":""}]
[1,"",253,"","",{"$f":"IF(L255<>\"\",CONCATENATE(DIGITADOR!$B$2,$A$2,DIGITADOR!$M$1,A255),\"\")","v":""},null,null,"",{"$f":"IF(K255=\"\",\"\",INDEX('OTRAS REFERENCIAS'!$AL:$AM,MATCH(K255,'OTRAS REFERENCIAS'!$AL:$AL,0),2))","v":""},null,{"$f":"IF(J255=\"\",\"\",INDEX(REFERENTES!$A:$D,MATCH(J255,REFERENTES!$C:$C,0),3))","v":""},null,null,null,null,null,null,null,{"$f":"IF(U255=\"\",\"\",INDEX('OTRAS REFERENCIAS'!$H$6:$I$11,MATCH(U255,'OTRAS REFERENCIAS'!$I$6:$I$11,0),1))","v":""},null,null,null,null,{"$f":"IF(Z255=\"\",\"\",INDEX('OTRAS REFERENCIAS'!$K$6:$L$11,MATCH(Z255,'OTRAS REFERENCIAS'!$L$6:$L$11,0),1))","v":""},null,null,null,null,{"$f":"IF(AE255=\"\",\"\",INDEX('OTRAS REFERENCIAS'!$N$6:$O$11,MATCH(AE255,'OTRAS REFERENCIAS'!$O$6:$O$11,0),1))","v":""},null,null,null,null,{"$f":"IF(AJ255=\"\",\"\",INDEX('OTRAS REFERENCIAS'!$Q$6:$R$11,MATCH(AJ255,'OTRAS REFERENCIAS'!$R$6:$R$11,0),1))","v":""},null,null,null,{"$f":"IF(AN255=\"\",\"\",INDEX('OTRAS REFERENCIAS'!$T$6:$U$11,MATCH(AN255,'OTRAS REFERENCIAS'!$U$6:$U$11,0),1))","v":""}]
[1,"",254,"","",{"$f":"IF(L256<>\"\",CONCATENATE(DIGITADOR!$B$2,$A$2,DIGITADOR!$M$1,A256),\"\")","v":""},null,null,"",{"$f":"IF(K256=\"\",\"\",INDEX('OTRAS REFERENCIAS'!$AL:$AM,MATCH(K256,'OTRAS REFERENCIAS'!$AL:$AL,0),2))","v":""},null,{"$f":"IF(J256=\"\",\"\",INDEX(REFERENTES!$A:$D,MATCH(J256,REFERENTES!$C:$C,0),3))","v":""},null,null,null,null,null,null,null,{"$f":"IF(U256=\"\",\"\",INDEX('OTRAS REFERENCIAS'!$H$6:$I$11,MATCH(U256,'OTRAS REFERENCIAS'!$I$6:$I$11,0),1))","v":""},null,null,null,null,{"$f":"IF(Z256=\"\",\"\",INDEX('OTRAS REFERENCIAS'!$K$6:$L$11,MATCH(Z256,'OTRAS REFERENCIAS'!$L$6:$L$11,0),1))","v":""},null,null,null,null,{"$f":"IF(AE256=\"\",\"\",INDEX('OTRAS REFERENCIAS'!$N$6:$O$11,MATCH(AE256,'OTRAS REFERENCIAS'!$O$6:$O$11,0),1))","v":""},null,null,null,null,{"$f":"IF(AJ256=\"\",\"\",INDEX('OTRAS REFERENCIAS'!$Q$6:$R$11,MATCH(AJ256,'OTRAS REFERENCIAS'!$R$6:$R$11,0),1))","v":""},null,null,null,{"$f":"IF(AN256=\"\",\"\",INDEX('OTRAS REFERENCIAS'!$T$6:$U$11,MATCH(AN256,'OTRAS REFERENCIAS'!$U$6:$U$11,0),1))","v":""}]
[1,"",255,"","",{"$f":"IF(L257<>\"\",CONCATENATE(DIGITADOR!$B$2,$A$2,DIGITADOR!$M$1,A257),\"\")","v":""},null,null,"",{"$f":"IF(K257=\"\",\"\",INDEX('OTRAS REFERENCIAS'!$AL:$AM,MATCH(K257,'OTRAS REFERENCIAS'!$AL:$AL,0),2))","v":""},null,{"$f":"IF(J257=\"\",\"\",INDEX(REFERENTES!$A:$D,MATCH(J257,REFERENTES!$C:$C,0),3))","v":""},null,null,null,null,null,null,null,{"$f":"IF(U257=\"\",\"\",INDEX('OTRAS REFERENCIAS'!$H$6:$I$11,MATCH(U257,'OTRAS REFERENCIAS'!$I$6:$I$11,0),1))","v":""},null,null,null,null,{"$f":"IF(Z257=\"\",\"\",INDEX('OTRAS REFERENCIAS'!$K$6:$L$11,MATCH(Z257,'OTRAS REFERENCIAS'!$L$6:$L$11,0),1))","v":""},null,null,null,null,{"$f":"IF(AE257=\"\",\"\",INDEX('OTRAS REFERENCIAS'!$N$6:$O$11,MATCH(AE257,'OTRAS REFERENCIAS'!$O$6:$O$11,0),1))","v":""},null,null,null,null,{"$f":"IF(AJ257=\"\",\"\",INDEX('OTRAS REFERENCIAS'!$Q$6:$R$11,MATCH(AJ257,'OTRAS REFERENCIAS'!$R$6:$R$11,0),1))","v":""},null,null,null,{"$f":"IF(AN257=\"\",\"\",INDEX('OTRAS REFERENCIAS'!$T$6:$U$11,MATCH(AN257,'OTRAS REFERENCIAS'!$U$6:$U$11,0),1))","v":""}]
[1,"",256,"","",{"$f":"IF(L258<>\"\",CONCATENATE(DIGITADOR!$B$2,$A$2,DIGITADOR!$M$1,A258),\"\")","v":""},null,null,"",{"$f":"IF(K258=\"\",\"\",INDEX('OTRAS REFERENCIAS'!$AL:$AM,MATCH(K258,'OTRAS REFERENCIAS'!$AL:$AL,0),2))","v":""},null,{"$f":"IF(J258=\"\",\"\",INDEX(REFERENTES!$A:$D,MATCH(J258,REFERENTES!$C:$C,0),3))","v":""},null,null,null,null,null,null,null,{"$f":"IF(U258=\"\",\"\",INDEX('OTRAS REFERENCIAS'!$H$6:$I$11,MATCH(U258,'OTRAS REFERENCIAS'!$I$6:$I$11,0),1))","v":""},null,null,null,null,{"$f":"IF(Z258=\"\",\"\",INDEX('OTRAS REFERENCIAS'!$K$6:$L$11,MATCH(Z258,'OTRAS REFERENCIAS'!$L$6:$L$11,0),1))","v":""},null,null,null,null,{"$f":"IF(AE258=\"\",\"\",INDEX('OTRAS REFERENCIAS'!$N$6:$O$11,MATCH(AE258,'OTRAS REFERENCIAS'!$O$6:$O$11,0),1))","v":""},null,null,null,null,{"$f":"IF(AJ258=\"\",\"\",INDEX('OTRAS REFERENCIAS'!$Q$6:$R$11,MATCH(AJ258,'OTRAS REFERENCIAS'!$R$6:$R$11,0),1))","v":""},null,null,null,{"$f":"IF(AN258=\"\",\"\",INDEX('OTRAS REFERENCIAS'!$T$6:$U$11,MATCH(AN258,'OTRAS REFERENCIAS'!$U$6:$U$11,0),1))","v":""}]
[1,"",257,"",{"$f":"CONCATENATE(I259,L259)","v":""},{"$f":"IF(L259<>\"\",CONCATENATE(DIGITADOR!$B$2,$A$2,DIGITADOR!$M$1,A259),\"\")","v":""},null,null,{"$f":"IF(G259<>\"\",G259+H259,\"\")","v":""},{"$f":"IF(K259=\"\",\"\",INDEX('OTRAS REFERENCIAS'!$AL:$AM,MATCH(K259,'OTRAS REFERENCIAS'!$AL:$AL,0),2))","v":""},null,{"$f":"IF(J259=\"\",\"\",INDEX(REFERENTES!$A:$D,MATCH(J259,REFERENTES!$C:$C,0),3))","v":""},null,null,null,null,null,null,null,{"$f":"IF(U259=\"\",\"\",INDEX('OTRAS REFERENCIAS'!$H$6:$I$11,MATCH(U259,'OTRAS REFERENCIAS'!$I$6:$I$11,0),1))","v":""},null,null,null,null,{"$f":"IF(Z259=\"\",\"\",INDEX('OTRAS REFERENCIAS'!$K$6:$L$11,MATCH(Z259,'OTRAS REFERENCIAS'!$L$6:$L$11,0),1))","v":""},null,null,null,null,{"$f":"IF(AE259=\"\",\"\",INDEX('OTRAS REFERENCIAS'!$N$6:$O$11,MATCH(AE259,'OTRAS REFERENCIAS'!$O$6:$O$11,0),1))","v":""},null,null,null,null,{"$f":"IF(AJ259=\"\",\"\",INDEX('OTRAS REFERENCIAS'!$Q$6:$R$11,MATCH(AJ259,'OTRAS REFERENCIAS'!$R$6:$R$11,0),1))","v":""},null,null,null,{"$f":"IF(AN259=\"\",\"\",INDEX('OTRAS REFERENCIAS'!$T$6:$U$11,MATCH(AN259,'OTRAS REFERENCIAS'!$U$6:$U$11,0),1))","v":""}]
[1,"",258,{"$f":"IF(L260=\"\",\"\",CONCATENATE(C260,F260))","v":""},"",{"$f":"IF(L260<>\"\",CONCATENATE(DIGITADOR!$B$2,$A$2,DIGITADOR!$M$1,A260),\"\")","v":""},null,null,"",{"$f":"IF(K260=\"\",\"\",INDEX('OTRAS REFERENCIAS'!$AL:$AM,MATCH(K260,'OTRAS REFERENCIAS'!$AL:$AL,0),2))","v":""},null,{"$f":"IF(J260=\"\",\"\",INDEX(REFERENTES!$A:$D,MATCH(J260,REFERENTES!$C:$C,0),3))","v":""},null,null,null,null,null,null,null,{"$f":"IF(U260=\"\",\"\",INDEX('OTRAS REFERENCIAS'!$H$6:$I$11,MATCH(U260,'OTRAS REFERENCIAS'!$I$6:$I$11,0),1))","v":""},null,null,null,null,{"$f":"IF(Z260=\"\",\"\",INDEX('OTRAS REFERENCIAS'!$K$6:$L$11,MATCH(Z260,'OTRAS REFERENCIAS'!$L$6:$L$11,0),1))","v":""},null,null,null,null,{"$f":"IF(AE260=\"\",\"\",INDEX('OTRAS REFERENCIAS'!$N$6:$O$11,MATCH(AE260,'OTRAS REFERENCIAS'!$O$6:$O$11,0),1))","v":""},null,null,null,null,{"$f":"IF(AJ260=\"\",\"\",INDEX('OTRAS REFERENCIAS'!$Q$6:$R$11,MATCH(AJ260,'OTRAS REFERENCIAS'!$R$6:$R$11,0),1))","v":""},null,null,null,{"$f":"IF(AN260=\"\",\"\",INDEX('OTRAS REFERENCIAS'!$T$6:$U$11,MATCH(AN260,'OTRAS REFERENCIAS'!$U$6:$U$11,0),1))","v":""}]
[{"$f":"IF(L261=L260,A260,A260+1)","v":1},{"$f":"IF(F261<>F260, F261,\"\")","v":""},259,"","",{"$f":"IF(L261<>\"\",CONCATENATE(DIGITADOR!$B$2,$A$2,DIGITADOR!$M$1,A261),\"\")","v":""},null,null,"",{"$f":"IF(K261=\"\",\"\",INDEX('OTRAS REFERENCIAS'!$AL:$AM,MATCH(K261,'OTRAS REFERENCIAS'!$AL:$AL,0),2))","v":""},null,{"$f":"IF(J261=\"\",\"\",INDEX(REFERENTES!$A:$D,MATCH(J261,REFERENTES!$C:$C,0),3))","v":""},null,null,null,null,null,null,null,{"$f":"IF(U261=\"\",\"\",INDEX('OTRAS REFERENCIAS'!$H$6:$I$11,MATCH(U261,'OTRAS REFERENCIAS'!$I$6:$I$11,0),1))","v":""},null,null,null,null,{"$f":"IF(Z261=\"\",\"\",INDEX('OTRAS REFERENCIAS'!$K$6:$L$11,MATCH(Z261,'OTRAS REFERENCIAS'!$L$6:$L$11,0),1))","v":""},null,null,null,null,{"$f":"IF(AE261=\"\",\"\",INDEX('OTRAS REFERENCIAS'!$N$6:$O$11,MATCH(AE261,'OTRAS REFERENCIAS'!$O$6:$O$11,0),1))","v":""},null,null,null,null,{"$f":"IF(AJ261=\"\",\"\",INDEX('OTRAS REFERENCIAS'!$Q$6:$R$11,MATCH(AJ261,'OTRAS REFERENCIAS'!$R$6:$R$11,0),1))","v":""},null,null,null,{"$f":"IF(AN261=\"\",\"\",INDEX('OTRAS REFERENCIAS'!$T$6:$U$11,MATCH(AN261,'OTRAS REFERENCIAS'!$U$6:$U$11,0),1))","v":""}]
[1,"",260,"","",{"$f":"IF(L262<>\"\",CONCATENATE(DIGITADOR!$B$2,$A$2,DIGITADOR!$M$1,A262),\"\")","v":""},null,null,"",{"$f":"IF(K262=\"\",\"\",INDEX('OTRAS REFERENCIAS'!$AL:$AM,MATCH(K262,'OTRAS REFERENCIAS'!$AL:$AL,0),2))","v":""},null,{"$f":"IF(J262=\"\",\"\",INDEX(REFERENTES!$A:$D,MATCH(J262,REFERENTES!$C:$C,0),3))","v":""},null,null,null,null,null,null,null,{"$f":"IF(U262=\"\",\"\",INDEX('OTRAS REFERENCIAS'!$H$6:$I$11,MATCH(U262,'OTRAS REFERENCIAS'!$I$6:$I$11,0),1))","v":""},null,null,null,null,{"$f":"IF(Z262=\"\",\"\",INDEX('OTRAS REFERENCIAS'!$K$6:$L$11,MATCH(Z262,'OTRAS REFERENCIAS'!$L$6:$L$11,0),1))","v":""},null,null,null,null,{"$f":"IF(AE262=\"\",\"\",INDEX('OTRAS REFERENCIAS'!$N$6:$O$11,MATCH(AE262,'OTRAS REFERENCIAS'!$O$6:$O$11,0),1))","v":""},null,null,null,null,{"$f":"IF(AJ262=\"\",\"\",INDEX('OTRAS REFERENCIAS'!$Q$6:$R$11,MATCH(AJ262,'OTRAS REFERENCIAS'!$R$6:$R$11,0),1))","v":""},null,null,null,{"$f":"IF(AN262=\"\",\"\",INDEX('OTRAS REFERENCIAS'!$T$6:$U$11,MATCH(AN262,'OTRAS REFERENCIAS'!$U$6:$U$11,0),1))","v":""}]
[1,"",261,"","",{"$f":"IF(L263<>\"\",CONCATENATE(DIGITADOR!$B$2,$A$2,DIGITADOR!$M$1,A263),\"\")","v":""},null,null,"",{"$f":"IF(K263=\"\",\"\",INDEX('OTRAS REFERENCIAS'!$AL:$AM,MATCH(K263,'OTRAS REFERENCIAS'!$AL:$AL,0),2))","v":""},null,{"$f":"IF(J263=\"\",\"\",INDEX(REFERENTES!$A:$D,MATCH(J263,REFERENTES!$C:$C,0),3))","v":""},null,null,null,null,null,null,null,{"$f":"IF(U263=\"\",\"\",INDEX('OTRAS REFERENCIAS'!$H$6:$I$11,MATCH(U263,'OTRAS REFERENCIAS'!$I$6:$I$11,0),1))","v":""},null,null,null,null,{"$f":"IF(Z263=\"\",\"\",INDEX('OTRAS REFERENCIAS'!$K$6:$L$11,MATCH(Z263,'OTRAS REFERENCIAS'!$L$6:$L$11,0),1))","v":""},null,null,null,null,{"$f":"IF(AE263=\"\",\"\",INDEX('OTRAS REFERENCIAS'!$N$6:$O$11,MATCH(AE263,'OTRAS REFERENCIAS'!$O$6:$O$11,0),1))","v":""},null,null,null,null,{"$f":"IF(AJ263=\"\",\"\",INDEX('OTRAS REFERENCIAS'!$Q$6:$R$11,MATCH(AJ263,'OTRAS REFERENCIAS'!$R$6:$R$11,0),1))","v":""},null,null,null,{"$f":"IF(AN263=\"\",\"\",INDEX('OTRAS REFERENCIAS'!$T$6:$U$11,MATCH(AN263,'OTRAS REFERENCIAS'!$U$6:$U$11,0),1))","v":""}]
[1,"",262,"","",{"$f":"IF(L264<>\"\",CONCATENATE(DIGITADOR!$B$2,$A$2,DIGITADOR!$M$1,A264),\"\")","v":""},null,null,"",{"$f":"IF(K264=\"\",\"\",INDEX('OTRAS REFERENCIAS'!$AL:$AM,MATCH(K264,'OTRAS REFERENCIAS'!$AL:$AL,0),2))","v":""},null,{"$f":"IF(J264=\"\",\"\",INDEX(REFERENTES!$A:$D,MATCH(J264,REFERENTES!$C:$C,0),3))","v":""},null,null,null,null,null,null,null,{"$f":"IF(U264=\"\",\"\",INDEX('OTRAS REFERENCIAS'!$H$6:$I$11,MATCH(U264,'OTRAS REFERENCIAS'!$I$6:$I$11,0),1))","v":""},null,null,null,null,{"$f":"IF(Z264=\"\",\"\",INDEX('OTRAS REFERENCIAS'!$K$6:$L$11,MATCH(Z264,'OTRAS REFERENCIAS'!$L$6:$L$11,0),1))","v":""},null,null,null,null,{"$f":"IF(AE264=\"\",\"\",INDEX('OTRAS REFERENCIAS'!$N$6:$O$11,MATCH(AE264,'OTRAS REFERENCIAS'!$O$6:$O$11,0),1))","v":""},null,null,null,null,{"$f":"IF(AJ264=\"\",\"\",INDEX('OTRAS REFERENCIAS'!$Q$6:$R$11,MATCH(AJ264,'OTRAS REFERENCIAS'!$R$6:$R$11,0),1))","v":""},null,null,null,{"$f":"IF(AN264=\"\",\"\",INDEX('OTRAS REFERENCIAS'!$T$6:$U$11,MATCH(AN264,'OTRAS REFERENCIAS'!$U$6:$U$11,0),1))","v":""}]
[1,"",263,"","",{"$f":"IF(L265<>\"\",CONCATENATE(DIGITADOR!$B$2,$A$2,DIGITADOR!$M$1,A265),\"\")","v":""},null,null,"",{"$f":"IF(K265=\"\",\"\",INDEX('OTRAS REFERENCIAS'!$AL:$AM,MATCH(K265,'OTRAS REFERENCIAS'!$AL:$AL,0),2))","v":""},null,{"$f":"IF(J265=\"\",\"\",INDEX(REFERENTES!$A:$D,MATCH(J265,REFERENTES!$C:$C,0),3))","v":""},null,null,null,null,null,null,null,{"$f":"IF(U265=\"\",\"\",INDEX('OTRAS REFERENCIAS'!$H$6:$I$11,MATCH(U265,'OTRAS REFERENCIAS'!$I$6:$I$11,0),1))","v":""},null,null,null,null,{"$f":"IF(Z265=\"\",\"\",INDEX('OTRAS REFERENCIAS'!$K$6:$L$11,MATCH(Z265,'OTRAS REFERENCIAS'!$L$6:$L$11,0),1))","v":""},null,null,null,null,{"$f":"IF(AE265=\"\",\"\",INDEX('OTRAS REFERENCIAS'!$N$6:$O$11,MATCH(AE265,'OTRAS REFERENCIAS'!$O$6:$O$11,0),1))","v":""},null,null,null,null,{"$f":"IF(AJ265=\"\",\"\",INDEX('OTRAS REFERENCIAS'!$Q$6:$R$11,MATCH(AJ265,'OTRAS REFERENCIAS'!$R$6:$R$11,0),1))","v":""},null,null,null,{"$f":"IF(AN265=\"\",\"\",INDEX('OTRAS REFERENCIAS'!$T$6:$U$11,MATCH(AN265,'OTRAS REFERENCIAS'!$U$6:$U$11,0),1))","v":""}]
[1,"",264,"","",{"$f":"IF(L266<>\"\",CONCATENATE(DIGITADOR!$B$2,$A$2,DIGITADOR!$M$1,A266),\"\")","v":""},null,null,"",{"$f":"IF(K266=\"\",\"\",INDEX('OTRAS REFERENCIAS'!$AL:$AM,MATCH(K266,'OTRAS REFERENCIAS'!$AL:$AL,0),2))","v":""},null,{"$f":"IF(J266=\"\",\"\",INDEX(REFERENTES!$A:$D,MATCH(J266,REFERENTES!$C:$C,0),3))","v":""},null,null,null,null,null,null,null,{"$f":"IF(U266=\"\",\"\",INDEX('OTRAS REFERENCIAS'!$H$6:$I$11,MATCH(U266,'OTRAS REFERENCIAS'!$I$6:$I$11,0),1))","v":""},null,null,null,null,{"$f":"IF(Z266=\"\",\"\",INDEX('OTRAS REFERENCIAS'!$K$6:$L$11,MATCH(Z266,'OTRAS REFERENCIAS'!$L$6:$L$11,0),1))","v":""},null,null,null,null,{"$f":"IF(AE266=\"\",\"\",INDEX('OTRAS REFERENCIAS'!$N$6:$O$11,MATCH(AE266,'OTRAS REFERENCIAS'!$O$6:$O$11,0),1))","v":""},null,null,null,null,{"$f":"IF(AJ266=\"\",\"\",INDEX('OTRAS REFERENCIAS'!$Q$6:$R$11,MATCH(AJ266,'OTRAS REFERENCIAS'!$R$6:$R$11,0),1))","v":""},null,null,null,{"$f":"IF(AN266=\"\",\"\",INDEX('OTRAS REFERENCIAS'!$T$6:$U$11,MATCH(AN266,'OTRAS REFERENCIAS'!$U$6:$U$11,0),1))","v":""}]
[1,"",265,"","",{"$f":"IF(L267<>\"\",CONCATENATE(DIGITADOR!$B$2,$A$2,DIGITADOR!$M$1,A267),\"\")","v":""},null,null,"",{"$f":"IF(K267=\"\",\"\",INDEX('OTRAS REFERENCIAS'!$AL:$AM,MATCH(K267,'OTRAS REFERENCIAS'!$AL:$AL,0),2))","v":""},null,{"$f":"IF(J267=\"\",\"\",INDEX(REFERENTES!$A:$D,MATCH(J267,REFERENTES!$C:$C,0),3))","v":""},null,null,null,null,null,null,null,{"$f":"IF(U267=\"\",\"\",INDEX('OTRAS REFERENCIAS'!$H$6:$I$11,MATCH(U267,'OTRAS REFERENCIAS'!$I$6:$I$11,0),1))","v":""},null,null,null,null,{"$f":"IF(Z267=\"\",\"\",INDEX('OTRAS REFERENCIAS'!$K$6:$L$11,MATCH(Z267,'OTRAS REFERENCIAS'!$L$6:$L$11,0),1))","v":""},null,null,null,null,{"$f":"IF(AE267=\"\",\"\",INDEX('OTRAS REFERENCIAS'!$N$6:$O$11,MATCH(AE267,'OTRAS REFERENCIAS'!$O$6:$O$11,0),1))","v":""},null,null,null,null,{"$f":"IF(AJ267=\"\",\"\",INDEX('OTRAS REFERENCIAS'!$Q$6:$R$11,MATCH(AJ267,'OTRAS REFERENCIAS'!$R$6:$R$11,0),1))","v":""},null,null,null,{"$f":"IF(AN267=\"\",\"\",INDEX('OTRAS REFERENCIAS'!$T$6:$U$11,MATCH(AN267,'OTRAS REFERENCIAS'!$U$6:$U$11,0),1))","v":""}]
[1,"",266,"","",{"$f":"IF(L268<>\"\",CONCATENATE(DIGITADOR!$B$2,$A$2,DIGITADOR!$M$1,A268),\"\")","v":""},null,null,"",{"$f":"IF(K268=\"\",\"\",INDEX('OTRAS REFERENCIAS'!$AL:$AM,MATCH(K268,'OTRAS REFERENCIAS'!$AL:$AL,0),2))","v":""},null,{"$f":"IF(J268=\"\",\"\",INDEX(REFERENTES!$A:$D,MATCH(J268,REFERENTES!$C:$C,0),3))","v":""},null,null,null,null,null,null,null,{"$f":"IF(U268=\"\",\"\",INDEX('OTRAS REFERENCIAS'!$H$6:$I$11,MATCH(U268,'OTRAS REFERENCIAS'!$I$6:$I$11,0),1))","v":""},null,null,null,null,{"$f":"IF(Z268=\"\",\"\",INDEX('OTRAS REFERENCIAS'!$K$6:$L$11,MATCH(Z268,'OTRAS REFERENCIAS'!$L$6:$L$11,0),1))","v":""},null,null,null,null,{"$f":"IF(AE268=\"\",\"\",INDEX('OTRAS REFERENCIAS'!$N$6:$O$11,MATCH(AE268,'OTRAS REFERENCIAS'!$O$6:$O$11,0),1))","v":""},null,null,null,null,{"$f":"IF(AJ268=\"\",\"\",INDEX('OTRAS REFERENCIAS'!$Q$6:$R$11,MATCH(AJ268,'OTRAS REFERENCIAS'!$R$6:$R$11,0),1))","v":""},null,null,null,{"$f":"IF(AN268=\"\",\"\",INDEX('OTRAS REFERENCIAS'!$T$6:$U$11,MATCH(AN268,'OTRAS REFERENCIAS'!$U$6:$U$11,0),1))","v":""}]
[1,"",267,"","",{"$f":"IF(L269<>\"\",CONCATENATE(DIGITADOR!$B$2,$A$2,DIGITADOR!$M$1,A269),\"\")","v":""},null,null,"",{"$f":"IF(K269=\"\",\"\",INDEX('OTRAS REFERENCIAS'!$AL:$AM,MATCH(K269,'OTRAS REFERENCIAS'!$AL:$AL,0),2))","v":""},null,{"$f":"IF(J269=\"\",\"\",INDEX(REFERENTES!$A:$D,MATCH(J269,REFERENTES!$C:$C,0),3))","v":""},null,null,null,null,null,null,null,{"$f":"IF(U269=\"\",\"\",INDEX('OTRAS REFERENCIAS'!$H$6:$I$11,MATCH(U269,'OTRAS REFERENCIAS'!$I$6:$I$11,0),1))","v":""},null,null,null,null,{"$f":"IF(Z269=\"\",\"\",INDEX('OTRAS REFERENCIAS'!$K$6:$L$11,MATCH(Z269,'OTRAS REFERENCIAS'!$L$6:$L$11,0),1))","v":""},null,null,null,null,{"$f":"IF(AE269=\"\",\"\",INDEX('OTRAS REFERENCIAS'!$N$6:$O$11,MATCH(AE269,'OTRAS REFERENCIAS'!$O$6:$O$11,0),1))","v":""},null,null,null,null,{"$f":"IF(AJ269=\"\",\"\",INDEX('OTRAS REFERENCIAS'!$Q$6:$R$11,MATCH(AJ269,'OTRAS REFERENCIAS'!$R$6:$R$11,0),1))","v":""},null,null,null,{"$f":"IF(AN269=\"\",\"\",INDEX('OTRAS REFERENCIAS'!$T$6:$U$11,MATCH(AN269,'OTRAS REFERENCIAS'!$U$6:$U$11,0),1))","v":""}]
[1,"",268,"","",{"$f":"IF(L270<>\"\",CONCATENATE(DIGITADOR!$B$2,$A$2,DIGITADOR!$M$1,A270),\"\")","v":""},null,null,"",{"$f":"IF(K270=\"\",\"\",INDEX('OTRAS REFERENCIAS'!$AL:$AM,MATCH(K270,'OTRAS REFERENCIAS'!$AL:$AL,0),2))","v":""},null,{"$f":"IF(J270=\"\",\"\",INDEX(REFERENTES!$A:$D,MATCH(J270,REFERENTES!$C:$C,0),3))","v":""},null,null,null,null,null,null,null,{"$f":"IF(U270=\"\",\"\",INDEX('OTRAS REFERENCIAS'!$H$6:$I$11,MATCH(U270,'OTRAS REFERENCIAS'!$I$6:$I$11,0),1))","v":""},null,null,null,null,{"$f":"IF(Z270=\"\",\"\",INDEX('OTRAS REFERENCIAS'!$K$6:$L$11,MATCH(Z270,'OTRAS REFERENCIAS'!$L$6:$L$11,0),1))","v":""},null,null,null,null,{"$f":"IF(AE270=\"\",\"\",INDEX('OTRAS REFERENCIAS'!$N$6:$O$11,MATCH(AE270,'OTRAS REFERENCIAS'!$O$6:$O$11,0),1))","v":""},null,null,null,null,{"$f":"IF(AJ270=\"\",\"\",INDEX('OTRAS REFERENCIAS'!$Q$6:$R$11,MATCH(AJ270,'OTRAS REFERENCIAS'!$R$6:$R$11,0),1))","v":""},null,null,null,{"$f":"IF(AN270=\"\",\"\",INDEX('OTRAS REFERENCIAS'!$T$6:$U$11,MATCH(AN270,'OTRAS REFERENCIAS'!$U$6:$U$11,0),1))","v":""}]
[1,"",269,"","",{"$f":"IF(L271<>\"\",CONCATENATE(DIGITADOR!$B$2,$A$2,DIGITADOR!$M$1,A271),\"\")","v":""},null,null,"",{"$f":"IF(K271=\"\",\"\",INDEX('OTRAS REFERENCIAS'!$AL:$AM,MATCH(K271,'OTRAS REFERENCIAS'!$AL:$AL,0),2))","v":""},null,{"$f":"IF(J271=\"\",\"\",INDEX(REFERENTES!$A:$D,MATCH(J271,REFERENTES!$C:$C,0),3))","v":""},null,null,null,null,null,null,null,{"$f":"IF(U271=\"\",\"\",INDEX('OTRAS REFERENCIAS'!$H$6:$I$11,MATCH(U271,'OTRAS REFERENCIAS'!$I$6:$I$11,0),1))","v":""},null,null,null,null,{"$f":"IF(Z271=\"\",\"\",INDEX('OTRAS REFERENCIAS'!$K$6:$L$11,MATCH(Z271,'OTRAS REFERENCIAS'!$L$6:$L$11,0),1))","v":""},null,null,null,null,{"$f":"IF(AE271=\"\",\"\",INDEX('OTRAS REFERENCIAS'!$N$6:$O$11,MATCH(AE271,'OTRAS REFERENCIAS'!$O$6:$O$11,0),1))","v":""},null,null,null,null,{"$f":"IF(AJ271=\"\",\"\",INDEX('OTRAS REFERENCIAS'!$Q$6:$R$11,MATCH(AJ271,'OTRAS REFERENCIAS'!$R$6:$R$11,0),1))","v":""},null,null,null,{"$f":"IF(AN271=\"\",\"\",INDEX('OTRAS REFERENCIAS'!$T$6:$U$11,MATCH(AN271,'OTRAS REFERENCIAS'!$U$6:$U$11,0),1))","v":""}]
[1,"",270,"","",{"$f":"IF(L272<>\"\",CONCATENATE(DIGITADOR!$B$2,$A$2,DIGITADOR!$M$1,A272),\"\")","v":""},null,null,"",{"$f":"IF(K272=\"\",\"\",INDEX('OTRAS REFERENCIAS'!$AL:$AM,MATCH(K272,'OTRAS REFERENCIAS'!$AL:$AL,0),2))","v":""},null,{"$f":"IF(J272=\"\",\"\",INDEX(REFERENTES!$A:$D,MATCH(J272,REFERENTES!$C:$C,0),3))","v":""},null,null,null,null,null,null,null,{"$f":"IF(U272=\"\",\"\",INDEX('OTRAS REFERENCIAS'!$H$6:$I$11,MATCH(U272,'OTRAS REFERENCIAS'!$I$6:$I$11,0),1))","v":""},null,null,null,null,{"$f":"IF(Z272=\"\",\"\",INDEX('OTRAS REFERENCIAS'!$K$6:$L$11,MATCH(Z272,'OTRAS REFERENCIAS'!$L$6:$L$11,0),1))","v":""},null,null,null,null,{"$f":"IF(AE272=\"\",\"\",INDEX('OTRAS REFERENCIAS'!$N$6:$O$11,MATCH(AE272,'OTRAS REFERENCIAS'!$O$6:$O$11,0),1))","v":""},null,null,null,null,{"$f":"IF(AJ272=\"\",\"\",INDEX('OTRAS REFERENCIAS'!$Q$6:$R$11,MATCH(AJ272,'OTRAS REFERENCIAS'!$R$6:$R$11,0),1))","v":""},null,null,null,{"$f":"IF(AN272=\"\",\"\",INDEX('OTRAS REFERENCIAS'!$T$6:$U$11,MATCH(AN272,'OTRAS REFERENCIAS'!$U$6:$U$11,0),1))","v":""}]
[1,"",271,"","",{"$f":"IF(L273<>\"\",CONCATENATE(DIGITADOR!$B$2,$A$2,DIGITADOR!$M$1,A273),\"\")","v":""},null,null,"",{"$f":"IF(K273=\"\",\"\",INDEX('OTRAS REFERENCIAS'!$AL:$AM,MATCH(K273,'OTRAS REFERENCIAS'!$AL:$AL,0),2))","v":""},null,{"$f":"IF(J273=\"\",\"\",INDEX(REFERENTES!$A:$D,MATCH(J273,REFERENTES!$C:$C,0),3))","v":""},null,null,null,null,null,null,null,{"$f":"IF(U273=\"\",\"\",INDEX('OTRAS REFERENCIAS'!$H$6:$I$11,MATCH(U273,'OTRAS REFERENCIAS'!$I$6:$I$11,0),1))","v":""},null,null,null,null,{"$f":"IF(Z273=\"\",\"\",INDEX('OTRAS REFERENCIAS'!$K$6:$L$11,MATCH(Z273,'OTRAS REFERENCIAS'!$L$6:$L$11,0),1))","v":""},null,null,null,null,{"$f":"IF(AE273=\"\",\"\",INDEX('OTRAS REFERENCIAS'!$N$6:$O$11,MATCH(AE273,'OTRAS REFERENCIAS'!$O$6:$O$11,0),1))","v":""},null,null,null,null,{"$f":"IF(AJ273=\"\",\"\",INDEX('OTRAS REFERENCIAS'!$Q$6:$R$11,MATCH(AJ273,'OTRAS REFERENCIAS'!$R$6:$R$11,0),1))","v":""},null,null,null,{"$f":"IF(AN273=\"\",\"\",INDEX('OTRAS REFERENCIAS'!$T$6:$U$11,MATCH(AN273,'OTRAS REFERENCIAS'!$U$6:$U$11,0),1))","v":""}]
[1,"",272,"","",{"$f":"IF(L274<>\"\",CONCATENATE(DIGITADOR!$B$2,$A$2,DIGITADOR!$M$1,A274),\"\")","v":""},null,null,"",{"$f":"IF(K274=\"\",\"\",INDEX('OTRAS REFERENCIAS'!$AL:$AM,MATCH(K274,'OTRAS REFERENCIAS'!$AL:$AL,0),2))","v":""},null,{"$f":"IF(J274=\"\",\"\",INDEX(REFERENTES!$A:$D,MATCH(J274,REFERENTES!$C:$C,0),3))","v":""},null,null,null,null,null,null,null,{"$f":"IF(U274=\"\",\"\",INDEX('OTRAS REFERENCIAS'!$H$6:$I$11,MATCH(U274,'OTRAS REFERENCIAS'!$I$6:$I$11,0),1))","v":""},null,null,null,null,{"$f":"IF(Z274=\"\",\"\",INDEX('OTRAS REFERENCIAS'!$K$6:$L$11,MATCH(Z274,'OTRAS REFERENCIAS'!$L$6:$L$11,0),1))","v":""},null,null,null,null,{"$f":"IF(AE274=\"\",\"\",INDEX('OTRAS REFERENCIAS'!$N$6:$O$11,MATCH(AE274,'OTRAS REFERENCIAS'!$O$6:$O$11,0),1))","v":""},null,null,null,null,{"$f":"IF(AJ274=\"\",\"\",INDEX('OTRAS REFERENCIAS'!$Q$6:$R$11,MATCH(AJ274,'OTRAS REFERENCIAS'!$R$6:$R$11,0),1))","v":""},null,null,null,{"$f":"IF(AN274=\"\",\"\",INDEX('OTRAS REFERENCIAS'!$T$6:$U$11,MATCH(AN274,'OTRAS REFERENCIAS'!$U$6:$U$11,0),1))","v":""}]
[1,"",273,"","",{"$f":"IF(L275<>\"\",CONCATENATE(DIGITADOR!$B$2,$A$2,DIGITADOR!$M$1,A275),\"\")","v":""},null,null,"",{"$f":"IF(K275=\"\",\"\",INDEX('OTRAS REFERENCIAS'!$AL:$AM,MATCH(K275,'OTRAS REFERENCIAS'!$AL:$AL,0),2))","v":""},null,{"$f":"IF(J275=\"\",\"\",INDEX(REFERENTES!$A:$D,MATCH(J275,REFERENTES!$C:$C,0),3))","v":""},null,null,null,null,null,null,null,{"$f":"IF(U275=\"\",\"\",INDEX('OTRAS REFERENCIAS'!$H$6:$I$11,MATCH(U275,'OTRAS REFERENCIAS'!$I$6:$I$11,0),1))","v":""},null,null,null,null,{"$f":"IF(Z275=\"\",\"\",INDEX('OTRAS REFERENCIAS'!$K$6:$L$11,MATCH(Z275,'OTRAS REFERENCIAS'!$L$6:$L$11,0),1))","v":""},null,null,null,null,{"$f":"IF(AE275=\"\",\"\",INDEX('OTRAS REFERENCIAS'!$N$6:$O$11,MATCH(AE275,'OTRAS REFERENCIAS'!$O$6:$O$11,0),1))","v":""},null,null,null,null,{"$f":"IF(AJ275=\"\",\"\",INDEX('OTRAS REFERENCIAS'!$Q$6:$R$11,MATCH(AJ275,'OTRAS REFERENCIAS'!$R$6:$R$11,0),1))","v":""},null,null,null,{"$f":"IF(AN275=\"\",\"\",INDEX('OTRAS REFERENCIAS'!$T$6:$U$11,MATCH(AN275,'OTRAS REFERENCIAS'!$U$6:$U$11,0),1))","v":""}]
[1,"",274,"","",{"$f":"IF(L276<>\"\",CONCATENATE(DIGITADOR!$B$2,$A$2,DIGITADOR!$M$1,A276),\"\")","v":""},null,null,"",{"$f":"IF(K276=\"\",\"\",INDEX('OTRAS REFERENCIAS'!$AL:$AM,MATCH(K276,'OTRAS REFERENCIAS'!$AL:$AL,0),2))","v":""},null,{"$f":"IF(J276=\"\",\"\",INDEX(REFERENTES!$A:$D,MATCH(J276,REFERENTES!$C:$C,0),3))","v":""},null,null,null,null,null,null,null,{"$f":"IF(U276=\"\",\"\",INDEX('OTRAS REFERENCIAS'!$H$6:$I$11,MATCH(U276,'OTRAS REFERENCIAS'!$I$6:$I$11,0),1))","v":""},null,null,null,null,{"$f":"IF(Z276=\"\",\"\",INDEX('OTRAS REFERENCIAS'!$K$6:$L$11,MATCH(Z276,'OTRAS REFERENCIAS'!$L$6:$L$11,0),1))","v":""},null,null,null,null,{"$f":"IF(AE276=\"\",\"\",INDEX('OTRAS REFERENCIAS'!$N$6:$O$11,MATCH(AE276,'OTRAS REFERENCIAS'!$O$6:$O$11,0),1))","v":""},null,null,null,null,{"$f":"IF(AJ276=\"\",\"\",INDEX('OTRAS REFERENCIAS'!$Q$6:$R$11,MATCH(AJ276,'OTRAS REFERENCIAS'!$R$6:$R$11,0),1))","v":""},null,null,null,{"$f":"IF(AN276=\"\",\"\",INDEX('OTRAS REFERENCIAS'!$T$6:$U$11,MATCH(AN276,'OTRAS REFERENCIAS'!$U$6:$U$11,0),1))","v":""}]
[1,"",275,"","",{"$f":"IF(L277<>\"\",CONCATENATE(DIGITADOR!$B$2,$A$2,DIGITADOR!$M$1,A277),\"\")","v":""},null,null,"",{"$f":"IF(K277=\"\",\"\",INDEX('OTRAS REFERENCIAS'!$AL:$AM,MATCH(K277,'OTRAS REFERENCIAS'!$AL:$AL,0),2))","v":""},null,{"$f":"IF(J277=\"\",\"\",INDEX(REFERENTES!$A:$D,MATCH(J277,REFERENTES!$C:$C,0),3))","v":""},null,null,null,null,null,null,null,{"$f":"IF(U277=\"\",\"\",INDEX('OTRAS REFERENCIAS'!$H$6:$I$11,MATCH(U277,'OTRAS REFERENCIAS'!$I$6:$I$11,0),1))","v":""},null,null,null,null,{"$f":"IF(Z277=\"\",\"\",INDEX('OTRAS REFERENCIAS'!$K$6:$L$11,MATCH(Z277,'OTRAS REFERENCIAS'!$L$6:$L$11,0),1))","v":""},null,null,null,null,{"$f":"IF(AE277=\"\",\"\",INDEX('OTRAS REFERENCIAS'!$N$6:$O$11,MATCH(AE277,'OTRAS REFERENCIAS'!$O$6:$O$11,0),1))","v":""},null,null,null,null,{"$f":"IF(AJ277=\"\",\"\",INDEX('OTRAS REFERENCIAS'!$Q$6:$R$11,MATCH(AJ277,'OTRAS REFERENCIAS'!$R$6:$R$11,0),1))","v":""},null,null,null,{"$f":"IF(AN277=\"\",\"\",INDEX('OTRAS REFERENCIAS'!$T$6:$U$11,MATCH(AN277,'OTRAS REFERENCIAS'!$U$6:$U$11,0),1))","v":""}]
[1,"",276,"","",{"$f":"IF(L278<>\"\",CONCATENATE(DIGITADOR!$B$2,$A$2,DIGITADOR!$M$1,A278),\"\")","v":""},null,null,"",{"$f":"IF(K278=\"\",\"\",INDEX('OTRAS REFERENCIAS'!$AL:$AM,MATCH(K278,'OTRAS REFERENCIAS'!$AL:$AL,0),2))","v":""},null,{"$f":"IF(J278=\"\",\"\",INDEX(REFERENTES!$A:$D,MATCH(J278,REFERENTES!$C:$C,0),3))","v":""},null,null,null,null,null,null,null,{"$f":"IF(U278=\"\",\"\",INDEX('OTRAS REFERENCIAS'!$H$6:$I$11,MATCH(U278,'OTRAS REFERENCIAS'!$I$6:$I$11,0),1))","v":""},null,null,null,null,{"$f":"IF(Z278=\"\",\"\",INDEX('OTRAS REFERENCIAS'!$K$6:$L$11,MATCH(Z278,'OTRAS REFERENCIAS'!$L$6:$L$11,0),1))","v":""},null,null,null,null,{"$f":"IF(AE278=\"\",\"\",INDEX('OTRAS REFERENCIAS'!$N$6:$O$11,MATCH(AE278,'OTRAS REFERENCIAS'!$O$6:$O$11,0),1))","v":""},null,null,null,null,{"$f":"IF(AJ278=\"\",\"\",INDEX('OTRAS REFERENCIAS'!$Q$6:$R$11,MATCH(AJ278,'OTRAS REFERENCIAS'!$R$6:$R$11,0),1))","v":""},null,null,null,{"$f":"IF(AN278=\"\",\"\",INDEX('OTRAS REFERENCIAS'!$T$6:$U$11,MATCH(AN278,'OTRAS REFERENCIAS'!$U$6:$U$11,0),1))","v":""}]
[1,"",277,"","",{"$f":"IF(L279<>\"\",CONCATENATE(DIGITADOR!$B$2,$A$2,DIGITADOR!$M$1,A279),\"\")","v":""},null,null,"",{"$f":"IF(K279=\"\",\"\",INDEX('OTRAS REFERENCIAS'!$AL:$AM,MATCH(K279,'OTRAS REFERENCIAS'!$AL:$AL,0),2))","v":""},null,{"$f":"IF(J279=\"\",\"\",INDEX(REFERENTES!$A:$D,MATCH(J279,REFERENTES!$C:$C,0),3))","v":""},null,null,null,null,null,null,null,{"$f":"IF(U279=\"\",\"\",INDEX('OTRAS REFERENCIAS'!$H$6:$I$11,MATCH(U279,'OTRAS REFERENCIAS'!$I$6:$I$11,0),1))","v":""},null,null,null,null,{"$f":"IF(Z279=\"\",\"\",INDEX('OTRAS REFERENCIAS'!$K$6:$L$11,MATCH(Z279,'OTRAS REFERENCIAS'!$L$6:$L$11,0),1))","v":""},null,null,null,null,{"$f":"IF(AE279=\"\",\"\",INDEX('OTRAS REFERENCIAS'!$N$6:$O$11,MATCH(AE279,'OTRAS REFERENCIAS'!$O$6:$O$11,0),1))","v":""},null,null,null,null,{"$f":"IF(AJ279=\"\",\"\",INDEX('OTRAS REFERENCIAS'!$Q$6:$R$11,MATCH(AJ279,'OTRAS REFERENCIAS'!$R$6:$R$11,0),1))","v":""},null,null,null,{"$f":"IF(AN279=\"\",\"\",INDEX('OTRAS REFERENCIAS'!$T$6:$U$11,MATCH(AN279,'OTRAS REFERENCIAS'!$U$6:$U$11,0),1))","v":""}]
[1,"",278,"","",{"$f":"IF(L280<>\"\",CONCATENATE(DIGITADOR!$B$2,$A$2,DIGITADOR!$M$1,A280),\"\")","v":""},null,null,"",{"$f":"IF(K280=\"\",\"\",INDEX('OTRAS REFERENCIAS'!$AL:$AM,MATCH(K280,'OTRAS REFERENCIAS'!$AL:$AL,0),2))","v":""},null,{"$f":"IF(J280=\"\",\"\",INDEX(REFERENTES!$A:$D,MATCH(J280,REFERENTES!$C:$C,0),3))","v":""},null,null,null,null,null,null,null,{"$f":"IF(U280=\"\",\"\",INDEX('OTRAS REFERENCIAS'!$H$6:$I$11,MATCH(U280,'OTRAS REFERENCIAS'!$I$6:$I$11,0),1))","v":""},null,null,null,null,{"$f":"IF(Z280=\"\",\"\",INDEX('OTRAS REFERENCIAS'!$K$6:$L$11,MATCH(Z280,'OTRAS REFERENCIAS'!$L$6:$L$11,0),1))","v":""},null,null,null,null,{"$f":"IF(AE280=\"\",\"\",INDEX('OTRAS REFERENCIAS'!$N$6:$O$11,MATCH(AE280,'OTRAS REFERENCIAS'!$O$6:$O$11,0),1))","v":""},null,null,null,null,{"$f":"IF(AJ280=\"\",\"\",INDEX('OTRAS REFERENCIAS'!$Q$6:$R$11,MATCH(AJ280,'OTRAS REFERENCIAS'!$R$6:$R$11,0),1))","v":""},null,null,null,{"$f":"IF(AN280=\"\",\"\",INDEX('OTRAS REFERENCIAS'!$T$6:$U$11,MATCH(AN280,'OTRAS REFERENCIAS'!$U$6:$U$11,0),1))","v":""}]
[1,"",279,"","",{"$f":"IF(L281<>\"\",CONCATENATE(DIGITADOR!$B$2,$A$2,DIGITADOR!$M$1,A281),\"\")","v":""},null,null,"",{"$f":"IF(K281=\"\",\"\",INDEX('OTRAS REFERENCIAS'!$AL:$AM,MATCH(K281,'OTRAS REFERENCIAS'!$AL:$AL,0),2))","v":""},null,{"$f":"IF(J281=\"\",\"\",INDEX(REFERENTES!$A:$D,MATCH(J281,REFERENTES!$C:$C,0),3))","v":""},null,null,null,null,null,null,null,{"$f":"IF(U281=\"\",\"\",INDEX('OTRAS REFERENCIAS'!$H$6:$I$11,MATCH(U281,'OTRAS REFERENCIAS'!$I$6:$I$11,0),1))","v":""},null,null,null,null,{"$f":"IF(Z281=\"\",\"\",INDEX('OTRAS REFERENCIAS'!$K$6:$L$11,MATCH(Z281,'OTRAS REFERENCIAS'!$L$6:$L$11,0),1))","v":""},null,null,null,null,{"$f":"IF(AE281=\"\",\"\",INDEX('OTRAS REFERENCIAS'!$N$6:$O$11,MATCH(AE281,'OTRAS REFERENCIAS'!$O$6:$O$11,0),1))","v":""},null,null,null,null,{"$f":"IF(AJ281=\"\",\"\",INDEX('OTRAS REFERENCIAS'!$Q$6:$R$11,MATCH(AJ281,'OTRAS REFERENCIAS'!$R$6:$R$11,0),1))","v":""},null,null,null,{"$f":"IF(AN281=\"\",\"\",INDEX('OTRAS REFERENCIAS'!$T$6:$U$11,MATCH(AN281,'OTRAS REFERENCIAS'!$U$6:$U$11,0),1))","v":""}]
[1,"",280,"","",{"$f":"IF(L282<>\"\",CONCATENATE(DIGITADOR!$B$2,$A$2,DIGITADOR!$M$1,A282),\"\")","v":""},null,null,"",{"$f":"IF(K282=\"\",\"\",INDEX('OTRAS REFERENCIAS'!$AL:$AM,MATCH(K282,'OTRAS REFERENCIAS'!$AL:$AL,0),2))","v":""},null,{"$f":"IF(J282=\"\",\"\",INDEX(REFERENTES!$A:$D,MATCH(J282,REFERENTES!$C:$C,0),3))","v":""},null,null,null,null,null,null,null,{"$f":"IF(U282=\"\",\"\",INDEX('OTRAS REFERENCIAS'!$H$6:$I$11,MATCH(U282,'OTRAS REFERENCIAS'!$I$6:$I$11,0),1))","v":""},null,null,null,null,{"$f":"IF(Z282=\"\",\"\",INDEX('OTRAS REFERENCIAS'!$K$6:$L$11,MATCH(Z282,'OTRAS REFERENCIAS'!$L$6:$L$11,0),1))","v":""},null,null,null,null,{"$f":"IF(AE282=\"\",\"\",INDEX('OTRAS REFERENCIAS'!$N$6:$O$11,MATCH(AE282,'OTRAS REFERENCIAS'!$O$6:$O$11,0),1))","v":""},null,null,null,null,{"$f":"IF(AJ282=\"\",\"\",INDEX('OTRAS REFERENCIAS'!$Q$6:$R$11,MATCH(AJ282,'OTRAS REFERENCIAS'!$R$6:$R$11,0),1))","v":""},null,null,null,{"$f":"IF(AN282=\"\",\"\",INDEX('OTRAS REFERENCIAS'!$T$6:$U$11,MATCH(AN282,'OTRAS REFERENCIAS'!$U$6:$U$11,0),1))","v":""}]
[1,"",281,"","",{"$f":"IF(L283<>\"\",CONCATENATE(DIGITADOR!$B$2,$A$2,DIGITADOR!$M$1,A283),\"\")","v":""},null,null,"",{"$f":"IF(K283=\"\",\"\",INDEX('OTRAS REFERENCIAS'!$AL:$AM,MATCH(K283,'OTRAS REFERENCIAS'!$AL:$AL,0),2))","v":""},null,{"$f":"IF(J283=\"\",\"\",INDEX(REFERENTES!$A:$D,MATCH(J283,REFERENTES!$C:$C,0),3))","v":""},null,null,null,null,null,null,null,{"$f":"IF(U283=\"\",\"\",INDEX('OTRAS REFERENCIAS'!$H$6:$I$11,MATCH(U283,'OTRAS REFERENCIAS'!$I$6:$I$11,0),1))","v":""},null,null,null,null,{"$f":"IF(Z283=\"\",\"\",INDEX('OTRAS REFERENCIAS'!$K$6:$L$11,MATCH(Z283,'OTRAS REFERENCIAS'!$L$6:$L$11,0),1))","v":""},null,null,null,null,{"$f":"IF(AE283=\"\",\"\",INDEX('OTRAS REFERENCIAS'!$N$6:$O$11,MATCH(AE283,'OTRAS REFERENCIAS'!$O$6:$O$11,0),1))","v":""},null,null,null,null,{"$f":"IF(AJ283=\"\",\"\",INDEX('OTRAS REFERENCIAS'!$Q$6:$R$11,MATCH(AJ283,'OTRAS REFERENCIAS'!$R$6:$R$11,0),1))","v":""},null,null,null,{"$f":"IF(AN283=\"\",\"\",INDEX('OTRAS REFERENCIAS'!$T$6:$U$11,MATCH(AN283,'OTRAS REFERENCIAS'!$U$6:$U$11,0),1))","v":""}]
[1,"",282,"","",{"$f":"IF(L284<>\"\",CONCATENATE(DIGITADOR!$B$2,$A$2,DIGITADOR!$M$1,A284),\"\")","v":""},null,null,"",{"$f":"IF(K284=\"\",\"\",INDEX('OTRAS REFERENCIAS'!$AL:$AM,MATCH(K284,'OTRAS REFERENCIAS'!$AL:$AL,0),2))","v":""},null,{"$f":"IF(J284=\"\",\"\",INDEX(REFERENTES!$A:$D,MATCH(J284,REFERENTES!$C:$C,0),3))","v":""},null,null,null,null,null,null,null,{"$f":"IF(U284=\"\",\"\",INDEX('OTRAS REFERENCIAS'!$H$6:$I$11,MATCH(U284,'OTRAS REFERENCIAS'!$I$6:$I$11,0),1))","v":""},null,null,null,null,{"$f":"IF(Z284=\"\",\"\",INDEX('OTRAS REFERENCIAS'!$K$6:$L$11,MATCH(Z284,'OTRAS REFERENCIAS'!$L$6:$L$11,0),1))","v":""},null,null,null,null,{"$f":"IF(AE284=\"\",\"\",INDEX('OTRAS REFERENCIAS'!$N$6:$O$11,MATCH(AE284,'OTRAS REFERENCIAS'!$O$6:$O$11,0),1))","v":""},null,null,null,null,{"$f":"IF(AJ284=\"\",\"\",INDEX('OTRAS REFERENCIAS'!$Q$6:$R$11,MATCH(AJ284,'OTRAS REFERENCIAS'!$R$6:$R$11,0),1))","v":""},null,null,null,{"$f":"IF(AN284=\"\",\"\",INDEX('OTRAS REFERENCIAS'!$T$6:$U$11,MATCH(AN284,'OTRAS REFERENCIAS'!$U$6:$U$11,0),1))","v":""}]
[1,"",283,"","",{"$f":"IF(L285<>\"\",CONCATENATE(DIGITADOR!$B$2,$A$2,DIGITADOR!$M$1,A285),\"\")","v":""},null,null,"",{"$f":"IF(K285=\"\",\"\",INDEX('OTRAS REFERENCIAS'!$AL:$AM,MATCH(K285,'OTRAS REFERENCIAS'!$AL:$AL,0),2))","v":""},null,{"$f":"IF(J285=\"\",\"\",INDEX(REFERENTES!$A:$D,MATCH(J285,REFERENTES!$C:$C,0),3))","v":""},null,null,null,null,null,null,null,{"$f":"IF(U285=\"\",\"\",INDEX('OTRAS REFERENCIAS'!$H$6:$I$11,MATCH(U285,'OTRAS REFERENCIAS'!$I$6:$I$11,0),1))","v":""},null,null,null,null,{"$f":"IF(Z285=\"\",\"\",INDEX('OTRAS REFERENCIAS'!$K$6:$L$11,MATCH(Z285,'OTRAS REFERENCIAS'!$L$6:$L$11,0),1))","v":""},null,null,null,null,{"$f":"IF(AE285=\"\",\"\",INDEX('OTRAS REFERENCIAS'!$N$6:$O$11,MATCH(AE285,'OTRAS REFERENCIAS'!$O$6:$O$11,0),1))","v":""},null,null,null,null,{"$f":"IF(AJ285=\"\",\"\",INDEX('OTRAS REFERENCIAS'!$Q$6:$R$11,MATCH(AJ285,'OTRAS REFERENCIAS'!$R$6:$R$11,0),1))","v":""},null,null,null,{"$f":"IF(AN285=\"\",\"\",INDEX('OTRAS REFERENCIAS'!$T$6:$U$11,MATCH(AN285,'OTRAS REFERENCIAS'!$U$6:$U$11,0),1))","v":""}]
[1,"",284,"","",{"$f":"IF(L286<>\"\",CONCATENATE(DIGITADOR!$B$2,$A$2,DIGITADOR!$M$1,A286),\"\")","v":""},null,null,"",{"$f":"IF(K286=\"\",\"\",INDEX('OTRAS REFERENCIAS'!$AL:$AM,MATCH(K286,'OTRAS REFERENCIAS'!$AL:$AL,0),2))","v":""},null,{"$f":"IF(J286=\"\",\"\",INDEX(REFERENTES!$A:$D,MATCH(J286,REFERENTES!$C:$C,0),3))","v":""},null,null,null,null,null,null,null,{"$f":"IF(U286=\"\",\"\",INDEX('OTRAS REFERENCIAS'!$H$6:$I$11,MATCH(U286,'OTRAS REFERENCIAS'!$I$6:$I$11,0),1))","v":""},null,null,null,null,{"$f":"IF(Z286=\"\",\"\",INDEX('OTRAS REFERENCIAS'!$K$6:$L$11,MATCH(Z286,'OTRAS REFERENCIAS'!$L$6:$L$11,0),1))","v":""},null,null,null,null,{"$f":"IF(AE286=\"\",\"\",INDEX('OTRAS REFERENCIAS'!$N$6:$O$11,MATCH(AE286,'OTRAS REFERENCIAS'!$O$6:$O$11,0),1))","v":""},null,null,null,null,{"$f":"IF(AJ286=\"\",\"\",INDEX('OTRAS REFERENCIAS'!$Q$6:$R$11,MATCH(AJ286,'OTRAS REFERENCIAS'!$R$6:$R$11,0),1))","v":""},null,null,null,{"$f":"IF(AN286=\"\",\"\",INDEX('OTRAS REFERENCIAS'!$T$6:$U$11,MATCH(AN286,'OTRAS REFERENCIAS'!$U$6:$U$11,0),1))","v":""}]
[1,"",285,"","",{"$f":"IF(L287<>\"\",CONCATENATE(DIGITADOR!$B$2,$A$2,DIGITADOR!$M$1,A287),\"\")","v":""},null,null,"",{"$f":"IF(K287=\"\",\"\",INDEX('OTRAS REFERENCIAS'!$AL:$AM,MATCH(K287,'OTRAS REFERENCIAS'!$AL:$AL,0),2))","v":""},null,{"$f":"IF(J287=\"\",\"\",INDEX(REFERENTES!$A:$D,MATCH(J287,REFERENTES!$C:$C,0),3))","v":""},null,null,null,null,null,null,null,{"$f":"IF(U287=\"\",\"\",INDEX('OTRAS REFERENCIAS'!$H$6:$I$11,MATCH(U287,'OTRAS REFERENCIAS'!$I$6:$I$11,0),1))","v":""},null,null,null,null,{"$f":"IF(Z287=\"\",\"\",INDEX('OTRAS REFERENCIAS'!$K$6:$L$11,MATCH(Z287,'OTRAS REFERENCIAS'!$L$6:$L$11,0),1))","v":""},null,null,null,null,{"$f":"IF(AE287=\"\",\"\",INDEX('OTRAS REFERENCIAS'!$N$6:$O$11,MATCH(AE287,'OTRAS REFERENCIAS'!$O$6:$O$11,0),1))","v":""},null,null,null,null,{"$f":"IF(AJ287=\"\",\"\",INDEX('OTRAS REFERENCIAS'!$Q$6:$R$11,MATCH(AJ287,'OTRAS REFERENCIAS'!$R$6:$R$11,0),1))","v":""},null,null,null,{"$f":"IF(AN287=\"\",\"\",INDEX('OTRAS REFERENCIAS'!$T$6:$U$11,MATCH(AN287,'OTRAS REFERENCIAS'!$U$6:$U$11,0),1))","v":""}]
[1,"",286,"","",{"$f":"IF(L288<>\"\",CONCATENATE(DIGITADOR!$B$2,$A$2,DIGITADOR!$M$1,A288),\"\")","v":""},null,null,"",{"$f":"IF(K288=\"\",\"\",INDEX('OTRAS REFERENCIAS'!$AL:$AM,MATCH(K288,'OTRAS REFERENCIAS'!$AL:$AL,0),2))","v":""},null,{"$f":"IF(J288=\"\",\"\",INDEX(REFERENTES!$A:$D,MATCH(J288,REFERENTES!$C:$C,0),3))","v":""},null,null,null,null,null,null,null,{"$f":"IF(U288=\"\",\"\",INDEX('OTRAS REFERENCIAS'!$H$6:$I$11,MATCH(U288,'OTRAS REFERENCIAS'!$I$6:$I$11,0),1))","v":""},null,null,null,null,{"$f":"IF(Z288=\"\",\"\",INDEX('OTRAS REFERENCIAS'!$K$6:$L$11,MATCH(Z288,'OTRAS REFERENCIAS'!$L$6:$L$11,0),1))","v":""},null,null,null,null,{"$f":"IF(AE288=\"\",\"\",INDEX('OTRAS REFERENCIAS'!$N$6:$O$11,MATCH(AE288,'OTRAS REFERENCIAS'!$O$6:$O$11,0),1))","v":""},null,null,null,null,{"$f":"IF(AJ288=\"\",\"\",INDEX('OTRAS REFERENCIAS'!$Q$6:$R$11,MATCH(AJ288,'OTRAS REFERENCIAS'!$R$6:$R$11,0),1))","v":""},null,null,null,{"$f":"IF(AN288=\"\",\"\",INDEX('OTRAS REFERENCIAS'!$T$6:$U$11,MATCH(AN288,'OTRAS REFERENCIAS'!$U$6:$U$11,0),1))","v":""}]
[1,"",287,"","",{"$f":"IF(L289<>\"\",CONCATENATE(DIGITADOR!$B$2,$A$2,DIGITADOR!$M$1,A289),\"\")","v":""},null,null,"",{"$f":"IF(K289=\"\",\"\",INDEX('OTRAS REFERENCIAS'!$AL:$AM,MATCH(K289,'OTRAS REFERENCIAS'!$AL:$AL,0),2))","v":""},null,{"$f":"IF(J289=\"\",\"\",INDEX(REFERENTES!$A:$D,MATCH(J289,REFERENTES!$C:$C,0),3))","v":""},null,null,null,null,null,null,null,{"$f":"IF(U289=\"\",\"\",INDEX('OTRAS REFERENCIAS'!$H$6:$I$11,MATCH(U289,'OTRAS REFERENCIAS'!$I$6:$I$11,0),1))","v":""},null,null,null,null,{"$f":"IF(Z289=\"\",\"\",INDEX('OTRAS REFERENCIAS'!$K$6:$L$11,MATCH(Z289,'OTRAS REFERENCIAS'!$L$6:$L$11,0),1))","v":""},null,null,null,null,{"$f":"IF(AE289=\"\",\"\",INDEX('OTRAS REFERENCIAS'!$N$6:$O$11,MATCH(AE289,'OTRAS REFERENCIAS'!$O$6:$O$11,0),1))","v":""},null,null,null,null,{"$f":"IF(AJ289=\"\",\"\",INDEX('OTRAS REFERENCIAS'!$Q$6:$R$11,MATCH(AJ289,'OTRAS REFERENCIAS'!$R$6:$R$11,0),1))","v":""},null,null,null,{"$f":"IF(AN289=\"\",\"\",INDEX('OTRAS REFERENCIAS'!$T$6:$U$11,MATCH(AN289,'OTRAS REFERENCIAS'!$U$6:$U$11,0),1))","v":""}]
[1,"",288,"","",{"$f":"IF(L290<>\"\",CONCATENATE(DIGITADOR!$B$2,$A$2,DIGITADOR!$M$1,A290),\"\")","v":""},null,null,"",{"$f":"IF(K290=\"\",\"\",INDEX('OTRAS REFERENCIAS'!$AL:$AM,MATCH(K290,'OTRAS REFERENCIAS'!$AL:$AL,0),2))","v":""},null,{"$f":"IF(J290=\"\",\"\",INDEX(REFERENTES!$A:$D,MATCH(J290,REFERENTES!$C:$C,0),3))","v":""},null,null,null,null,null,null,null,{"$f":"IF(U290=\"\",\"\",INDEX('OTRAS REFERENCIAS'!$H$6:$I$11,MATCH(U290,'OTRAS REFERENCIAS'!$I$6:$I$11,0),1))","v":""},null,null,null,null,{"$f":"IF(Z290=\"\",\"\",INDEX('OTRAS REFERENCIAS'!$K$6:$L$11,MATCH(Z290,'OTRAS REFERENCIAS'!$L$6:$L$11,0),1))","v":""},null,null,null,null,{"$f":"IF(AE290=\"\",\"\",INDEX('OTRAS REFERENCIAS'!$N$6:$O$11,MATCH(AE290,'OTRAS REFERENCIAS'!$O$6:$O$11,0),1))","v":""},null,null,null,null,{"$f":"IF(AJ290=\"\",\"\",INDEX('OTRAS REFERENCIAS'!$Q$6:$R$11,MATCH(AJ290,'OTRAS REFERENCIAS'!$R$6:$R$11,0),1))","v":""},null,null,null,{"$f":"IF(AN290=\"\",\"\",INDEX('OTRAS REFERENCIAS'!$T$6:$U$11,MATCH(AN290,'OTRAS REFERENCIAS'!$U$6:$U$11,0),1))","v":""}]
[1,"",289,"","",{"$f":"IF(L291<>\"\",CONCATENATE(DIGITADOR!$B$2,$A$2,DIGITADOR!$M$1,A291),\"\")","v":""},null,null,"",{"$f":"IF(K291=\"\",\"\",INDEX('OTRAS REFERENCIAS'!$AL:$AM,MATCH(K291,'OTRAS REFERENCIAS'!$AL:$AL,0),2))","v":""},null,{"$f":"IF(J291=\"\",\"\",INDEX(REFERENTES!$A:$D,MATCH(J291,REFERENTES!$C:$C,0),3))","v":""},null,null,null,null,null,null,null,{"$f":"IF(U291=\"\",\"\",INDEX('OTRAS REFERENCIAS'!$H$6:$I$11,MATCH(U291,'OTRAS REFERENCIAS'!$I$6:$I$11,0),1))","v":""},null,null,null,null,{"$f":"IF(Z291=\"\",\"\",INDEX('OTRAS REFERENCIAS'!$K$6:$L$11,MATCH(Z291,'OTRAS REFERENCIAS'!$L$6:$L$11,0),1))","v":""},null,null,null,null,{"$f":"IF(AE291=\"\",\"\",INDEX('OTRAS REFERENCIAS'!$N$6:$O$11,MATCH(AE291,'OTRAS REFERENCIAS'!$O$6:$O$11,0),1))","v":""},null,null,null,null,{"$f":"IF(AJ291=\"\",\"\",INDEX('OTRAS REFERENCIAS'!$Q$6:$R$11,MATCH(AJ291,'OTRAS REFERENCIAS'!$R$6:$R$11,0),1))","v":""},null,null,null,{"$f":"IF(AN291=\"\",\"\",INDEX('OTRAS REFERENCIAS'!$T$6:$U$11,MATCH(AN291,'OTRAS REFERENCIAS'!$U$6:$U$11,0),1))","v":""}]
[1,"",290,"","",{"$f":"IF(L292<>\"\",CONCATENATE(DIGITADOR!$B$2,$A$2,DIGITADOR!$M$1,A292),\"\")","v":""},null,null,"",{"$f":"IF(K292=\"\",\"\",INDEX('OTRAS REFERENCIAS'!$AL:$AM,MATCH(K292,'OTRAS REFERENCIAS'!$AL:$AL,0),2))","v":""},null,{"$f":"IF(J292=\"\",\"\",INDEX(REFERENTES!$A:$D,MATCH(J292,REFERENTES!$C:$C,0),3))","v":""},null,null,null,null,null,null,null,{"$f":"IF(U292=\"\",\"\",INDEX('OTRAS REFERENCIAS'!$H$6:$I$11,MATCH(U292,'OTRAS REFERENCIAS'!$I$6:$I$11,0),1))","v":""},null,null,null,null,{"$f":"IF(Z292=\"\",\"\",INDEX('OTRAS REFERENCIAS'!$K$6:$L$11,MATCH(Z292,'OTRAS REFERENCIAS'!$L$6:$L$11,0),1))","v":""},null,null,null,null,{"$f":"IF(AE292=\"\",\"\",INDEX('OTRAS REFERENCIAS'!$N$6:$O$11,MATCH(AE292,'OTRAS REFERENCIAS'!$O$6:$O$11,0),1))","v":""},null,null,null,null,{"$f":"IF(AJ292=\"\",\"\",INDEX('OTRAS REFERENCIAS'!$Q$6:$R$11,MATCH(AJ292,'OTRAS REFERENCIAS'!$R$6:$R$11,0),1))","v":""},null,null,null,{"$f":"IF(AN292=\"\",\"\",INDEX('OTRAS REFERENCIAS'!$T$6:$U$11,MATCH(AN292,'OTRAS REFERENCIAS'!$U$6:$U$11,0),1))","v":""}]
[1,"",291,"","",{"$f":"IF(L293<>\"\",CONCATENATE(DIGITADOR!$B$2,$A$2,DIGITADOR!$M$1,A293),\"\")","v":""},null,null,"",{"$f":"IF(K293=\"\",\"\",INDEX('OTRAS REFERENCIAS'!$AL:$AM,MATCH(K293,'OTRAS REFERENCIAS'!$AL:$AL,0),2))","v":""},null,{"$f":"IF(J293=\"\",\"\",INDEX(REFERENTES!$A:$D,MATCH(J293,REFERENTES!$C:$C,0),3))","v":""},null,null,null,null,null,null,null,{"$f":"IF(U293=\"\",\"\",INDEX('OTRAS REFERENCIAS'!$H$6:$I$11,MATCH(U293,'OTRAS REFERENCIAS'!$I$6:$I$11,0),1))","v":""},null,null,null,null,{"$f":"IF(Z293=\"\",\"\",INDEX('OTRAS REFERENCIAS'!$K$6:$L$11,MATCH(Z293,'OTRAS REFERENCIAS'!$L$6:$L$11,0),1))","v":""},null,null,null,null,{"$f":"IF(AE293=\"\",\"\",INDEX('OTRAS REFERENCIAS'!$N$6:$O$11,MATCH(AE293,'OTRAS REFERENCIAS'!$O$6:$O$11,0),1))","v":""},null,null,null,null,{"$f":"IF(AJ293=\"\",\"\",INDEX('OTRAS REFERENCIAS'!$Q$6:$R$11,MATCH(AJ293,'OTRAS REFERENCIAS'!$R$6:$R$11,0),1))","v":""},null,null,null,{"$f":"IF(AN293=\"\",\"\",INDEX('OTRAS REFERENCIAS'!$T$6:$U$11,MATCH(AN293,'OTRAS REFERENCIAS'!$U$6:$U$11,0),1))","v":""}]
[1,"",292,"","",{"$f":"IF(L294<>\"\",CONCATENATE(DIGITADOR!$B$2,$A$2,DIGITADOR!$M$1,A294),\"\")","v":""},null,null,"",{"$f":"IF(K294=\"\",\"\",INDEX('OTRAS REFERENCIAS'!$AL:$AM,MATCH(K294,'OTRAS REFERENCIAS'!$AL:$AL,0),2))","v":""},null,{"$f":"IF(J294=\"\",\"\",INDEX(REFERENTES!$A:$D,MATCH(J294,REFERENTES!$C:$C,0),3))","v":""},null,null,null,null,null,null,null,{"$f":"IF(U294=\"\",\"\",INDEX('OTRAS REFERENCIAS'!$H$6:$I$11,MATCH(U294,'OTRAS REFERENCIAS'!$I$6:$I$11,0),1))","v":""},null,null,null,null,{"$f":"IF(Z294=\"\",\"\",INDEX('OTRAS REFERENCIAS'!$K$6:$L$11,MATCH(Z294,'OTRAS REFERENCIAS'!$L$6:$L$11,0),1))","v":""},null,null,null,null,{"$f":"IF(AE294=\"\",\"\",INDEX('OTRAS REFERENCIAS'!$N$6:$O$11,MATCH(AE294,'OTRAS REFERENCIAS'!$O$6:$O$11,0),1))","v":""},null,null,null,null,{"$f":"IF(AJ294=\"\",\"\",INDEX('OTRAS REFERENCIAS'!$Q$6:$R$11,MATCH(AJ294,'OTRAS REFERENCIAS'!$R$6:$R$11,0),1))","v":""},null,null,null,{"$f":"IF(AN294=\"\",\"\",INDEX('OTRAS REFERENCIAS'!$T$6:$U$11,MATCH(AN294,'OTRAS REFERENCIAS'!$U$6:$U$11,0),1))","v":""}]
[1,"",293,"","",{"$f":"IF(L295<>\"\",CONCATENATE(DIGITADOR!$B$2,$A$2,DIGITADOR!$M$1,A295),\"\")","v":""},null,null,"",{"$f":"IF(K295=\"\",\"\",INDEX('OTRAS REFERENCIAS'!$AL:$AM,MATCH(K295,'OTRAS REFERENCIAS'!$AL:$AL,0),2))","v":""},null,{"$f":"IF(J295=\"\",\"\",INDEX(REFERENTES!$A:$D,MATCH(J295,REFERENTES!$C:$C,0),3))","v":""},null,null,null,null,null,null,null,{"$f":"IF(U295=\"\",\"\",INDEX('OTRAS REFERENCIAS'!$H$6:$I$11,MATCH(U295,'OTRAS REFERENCIAS'!$I$6:$I$11,0),1))","v":""},null,null,null,null,{"$f":"IF(Z295=\"\",\"\",INDEX('OTRAS REFERENCIAS'!$K$6:$L$11,MATCH(Z295,'OTRAS REFERENCIAS'!$L$6:$L$11,0),1))","v":""},null,null,null,null,{"$f":"IF(AE295=\"\",\"\",INDEX('OTRAS REFERENCIAS'!$N$6:$O$11,MATCH(AE295,'OTRAS REFERENCIAS'!$O$6:$O$11,0),1))","v":""},null,null,null,null,{"$f":"IF(AJ295=\"\",\"\",INDEX('OTRAS REFERENCIAS'!$Q$6:$R$11,MATCH(AJ295,'OTRAS REFERENCIAS'!$R$6:$R$11,0),1))","v":""},null,null,null,{"$f":"IF(AN295=\"\",\"\",INDEX('OTRAS REFERENCIAS'!$T$6:$U$11,MATCH(AN295,'OTRAS REFERENCIAS'!$U$6:$U$11,0),1))","v":""}]
[1,"",294,"","",{"$f":"IF(L296<>\"\",CONCATENATE(DIGITADOR!$B$2,$A$2,DIGITADOR!$M$1,A296),\"\")","v":""},null,null,"",{"$f":"IF(K296=\"\",\"\",INDEX('OTRAS REFERENCIAS'!$AL:$AM,MATCH(K296,'OTRAS REFERENCIAS'!$AL:$AL,0),2))","v":""},null,{"$f":"IF(J296=\"\",\"\",INDEX(REFERENTES!$A:$D,MATCH(J296,REFERENTES!$C:$C,0),3))","v":""},null,null,null,null,null,null,null,{"$f":"IF(U296=\"\",\"\",INDEX('OTRAS REFERENCIAS'!$H$6:$I$11,MATCH(U296,'OTRAS REFERENCIAS'!$I$6:$I$11,0),1))","v":""},null,null,null,null,{"$f":"IF(Z296=\"\",\"\",INDEX('OTRAS REFERENCIAS'!$K$6:$L$11,MATCH(Z296,'OTRAS REFERENCIAS'!$L$6:$L$11,0),1))","v":""},null,null,null,null,{"$f":"IF(AE296=\"\",\"\",INDEX('OTRAS REFERENCIAS'!$N$6:$O$11,MATCH(AE296,'OTRAS REFERENCIAS'!$O$6:$O$11,0),1))","v":""},null,null,null,null,{"$f":"IF(AJ296=\"\",\"\",INDEX('OTRAS REFERENCIAS'!$Q$6:$R$11,MATCH(AJ296,'OTRAS REFERENCIAS'!$R$6:$R$11,0),1))","v":""},null,null,null,{"$f":"IF(AN296=\"\",\"\",INDEX('OTRAS REFERENCIAS'!$T$6:$U$11,MATCH(AN296,'OTRAS REFERENCIAS'!$U$6:$U$11,0),1))","v":""}]
[1,"",295,"","",{"$f":"IF(L297<>\"\",CONCATENATE(DIGITADOR!$B$2,$A$2,DIGITADOR!$M$1,A297),\"\")","v":""},null,null,"",{"$f":"IF(K297=\"\",\"\",INDEX('OTRAS REFERENCIAS'!$AL:$AM,MATCH(K297,'OTRAS REFERENCIAS'!$AL:$AL,0),2))","v":""},null,{"$f":"IF(J297=\"\",\"\",INDEX(REFERENTES!$A:$D,MATCH(J297,REFERENTES!$C:$C,0),3))","v":""},null,null,null,null,null,null,null,{"$f":"IF(U297=\"\",\"\",INDEX('OTRAS REFERENCIAS'!$H$6:$I$11,MATCH(U297,'OTRAS REFERENCIAS'!$I$6:$I$11,0),1))","v":""},null,null,null,null,{"$f":"IF(Z297=\"\",\"\",INDEX('OTRAS REFERENCIAS'!$K$6:$L$11,MATCH(Z297,'OTRAS REFERENCIAS'!$L$6:$L$11,0),1))","v":""},null,null,null,null,{"$f":"IF(AE297=\"\",\"\",INDEX('OTRAS REFERENCIAS'!$N$6:$O$11,MATCH(AE297,'OTRAS REFERENCIAS'!$O$6:$O$11,0),1))","v":""},null,null,null,null,{"$f":"IF(AJ297=\"\",\"\",INDEX('OTRAS REFERENCIAS'!$Q$6:$R$11,MATCH(AJ297,'OTRAS REFERENCIAS'!$R$6:$R$11,0),1))","v":""},null,null,null,{"$f":"IF(AN297=\"\",\"\",INDEX('OTRAS REFERENCIAS'!$T$6:$U$11,MATCH(AN297,'OTRAS REFERENCIAS'!$U$6:$U$11,0),1))","v":""}]
[1,"",296,"","",{"$f":"IF(L298<>\"\",CONCATENATE(DIGITADOR!$B$2,$A$2,DIGITADOR!$M$1,A298),\"\")","v":""},null,null,"",{"$f":"IF(K298=\"\",\"\",INDEX('OTRAS REFERENCIAS'!$AL:$AM,MATCH(K298,'OTRAS REFERENCIAS'!$AL:$AL,0),2))","v":""},null,{"$f":"IF(J298=\"\",\"\",INDEX(REFERENTES!$A:$D,MATCH(J298,REFERENTES!$C:$C,0),3))","v":""},null,null,null,null,null,null,null,{"$f":"IF(U298=\"\",\"\",INDEX('OTRAS REFERENCIAS'!$H$6:$I$11,MATCH(U298,'OTRAS REFERENCIAS'!$I$6:$I$11,0),1))","v":""},null,null,null,null,{"$f":"IF(Z298=\"\",\"\",INDEX('OTRAS REFERENCIAS'!$K$6:$L$11,MATCH(Z298,'OTRAS REFERENCIAS'!$L$6:$L$11,0),1))","v":""},null,null,null,null,{"$f":"IF(AE298=\"\",\"\",INDEX('OTRAS REFERENCIAS'!$N$6:$O$11,MATCH(AE298,'OTRAS REFERENCIAS'!$O$6:$O$11,0),1))","v":""},null,null,null,null,{"$f":"IF(AJ298=\"\",\"\",INDEX('OTRAS REFERENCIAS'!$Q$6:$R$11,MATCH(AJ298,'OTRAS REFERENCIAS'!$R$6:$R$11,0),1))","v":""},null,null,null,{"$f":"IF(AN298=\"\",\"\",INDEX('OTRAS REFERENCIAS'!$T$6:$U$11,MATCH(AN298,'OTRAS REFERENCIAS'!$U$6:$U$11,0),1))","v":""}]
[1,"",297,"","",{"$f":"IF(L299<>\"\",CONCATENATE(DIGITADOR!$B$2,$A$2,DIGITADOR!$M$1,A299),\"\")","v":""},null,null,"",{"$f":"IF(K299=\"\",\"\",INDEX('OTRAS REFERENCIAS'!$AL:$AM,MATCH(K299,'OTRAS REFERENCIAS'!$AL:$AL,0),2))","v":""},null,{"$f":"IF(J299=\"\",\"\",INDEX(REFERENTES!$A:$D,MATCH(J299,REFERENTES!$C:$C,0),3))","v":""},null,null,null,null,null,null,null,{"$f":"IF(U299=\"\",\"\",INDEX('OTRAS REFERENCIAS'!$H$6:$I$11,MATCH(U299,'OTRAS REFERENCIAS'!$I$6:$I$11,0),1))","v":""},null,null,null,null,{"$f":"IF(Z299=\"\",\"\",INDEX('OTRAS REFERENCIAS'!$K$6:$L$11,MATCH(Z299,'OTRAS REFERENCIAS'!$L$6:$L$11,0),1))","v":""},null,null,null,null,{"$f":"IF(AE299=\"\",\"\",INDEX('OTRAS REFERENCIAS'!$N$6:$O$11,MATCH(AE299,'OTRAS REFERENCIAS'!$O$6:$O$11,0),1))","v":""},null,null,null,null,{"$f":"IF(AJ299=\"\",\"\",INDEX('OTRAS REFERENCIAS'!$Q$6:$R$11,MATCH(AJ299,'OTRAS REFERENCIAS'!$R$6:$R$11,0),1))","v":""},null,null,null,{"$f":"IF(AN299=\"\",\"\",INDEX('OTRAS REFERENCIAS'!$T$6:$U$11,MATCH(AN299,'OTRAS REFERENCIAS'!$U$6:$U$11,0),1))","v":""}]
[1,"",298,"","",{"$f":"IF(L300<>\"\",CONCATENATE(DIGITADOR!$B$2,$A$2,DIGITADOR!$M$1,A300),\"\")","v":""},null,null,"",{"$f":"IF(K300=\"\",\"\",INDEX('OTRAS REFERENCIAS'!$AL:$AM,MATCH(K300,'OTRAS REFERENCIAS'!$AL:$AL,0),2))","v":""},null,{"$f":"IF(J300=\"\",\"\",INDEX(REFERENTES!$A:$D,MATCH(J300,REFERENTES!$C:$C,0),3))","v":""},null,null,null,null,null,null,null,{"$f":"IF(U300=\"\",\"\",INDEX('OTRAS REFERENCIAS'!$H$6:$I$11,MATCH(U300,'OTRAS REFERENCIAS'!$I$6:$I$11,0),1))","v":""},null,null,null,null,{"$f":"IF(Z300=\"\",\"\",INDEX('OTRAS REFERENCIAS'!$K$6:$L$11,MATCH(Z300,'OTRAS REFERENCIAS'!$L$6:$L$11,0),1))","v":""},null,null,null,null,{"$f":"IF(AE300=\"\",\"\",INDEX('OTRAS REFERENCIAS'!$N$6:$O$11,MATCH(AE300,'OTRAS REFERENCIAS'!$O$6:$O$11,0),1))","v":""},null,null,null,null,{"$f":"IF(AJ300=\"\",\"\",INDEX('OTRAS REFERENCIAS'!$Q$6:$R$11,MATCH(AJ300,'OTRAS REFERENCIAS'!$R$6:$R$11,0),1))","v":""},null,null,null,{"$f":"IF(AN300=\"\",\"\",INDEX('OTRAS REFERENCIAS'!$T$6:$U$11,MATCH(AN300,'OTRAS REFERENCIAS'!$U$6:$U$11,0),1))","v":""}]
[1,"",299,"","",{"$f":"IF(L301<>\"\",CONCATENATE(DIGITADOR!$B$2,$A$2,DIGITADOR!$M$1,A301),\"\")","v":""},null,null,"",{"$f":"IF(K301=\"\",\"\",INDEX('OTRAS REFERENCIAS'!$AL:$AM,MATCH(K301,'OTRAS REFERENCIAS'!$AL:$AL,0),2))","v":""},null,{"$f":"IF(J301=\"\",\"\",INDEX(REFERENTES!$A:$D,MATCH(J301,REFERENTES!$C:$C,0),3))","v":""},null,null,null,null,null,null,null,{"$f":"IF(U301=\"\",\"\",INDEX('OTRAS REFERENCIAS'!$H$6:$I$11,MATCH(U301,'OTRAS REFERENCIAS'!$I$6:$I$11,0),1))","v":""},null,null,null,null,{"$f":"IF(Z301=\"\",\"\",INDEX('OTRAS REFERENCIAS'!$K$6:$L$11,MATCH(Z301,'OTRAS REFERENCIAS'!$L$6:$L$11,0),1))","v":""},null,null,null,null,{"$f":"IF(AE301=\"\",\"\",INDEX('OTRAS REFERENCIAS'!$N$6:$O$11,MATCH(AE301,'OTRAS REFERENCIAS'!$O$6:$O$11,0),1))","v":""},null,null,null,null,{"$f":"IF(AJ301=\"\",\"\",INDEX('OTRAS REFERENCIAS'!$Q$6:$R$11,MATCH(AJ301,'OTRAS REFERENCIAS'!$R$6:$R$11,0),1))","v":""},null,null,null,{"$f":"IF(AN301=\"\",\"\",INDEX('OTRAS REFERENCIAS'!$T$6:$U$11,MATCH(AN301,'OTRAS REFERENCIAS'!$U$6:$U$11,0),1))","v":""}]
[1,"",300,"","",{"$f":"IF(L302<>\"\",CONCATENATE(DIGITADOR!$B$2,$A$2,DIGITADOR!$M$1,A302),\"\")","v":""},null,null,"",{"$f":"IF(K302=\"\",\"\",INDEX('OTRAS REFERENCIAS'!$AL:$AM,MATCH(K302,'OTRAS REFERENCIAS'!$AL:$AL,0),2))","v":""},null,{"$f":"IF(J302=\"\",\"\",INDEX(REFERENTES!$A:$D,MATCH(J302,REFERENTES!$C:$C,0),3))","v":""},null,null,null,null,null,null,null,{"$f":"IF(U302=\"\",\"\",INDEX('OTRAS REFERENCIAS'!$H$6:$I$11,MATCH(U302,'OTRAS REFERENCIAS'!$I$6:$I$11,0),1))","v":""},null,null,null,null,{"$f":"IF(Z302=\"\",\"\",INDEX('OTRAS REFERENCIAS'!$K$6:$L$11,MATCH(Z302,'OTRAS REFERENCIAS'!$L$6:$L$11,0),1))","v":""},null,null,null,null,{"$f":"IF(AE302=\"\",\"\",INDEX('OTRAS REFERENCIAS'!$N$6:$O$11,MATCH(AE302,'OTRAS REFERENCIAS'!$O$6:$O$11,0),1))","v":""},null,null,null,null,{"$f":"IF(AJ302=\"\",\"\",INDEX('OTRAS REFERENCIAS'!$Q$6:$R$11,MATCH(AJ302,'OTRAS REFERENCIAS'!$R$6:$R$11,0),1))","v":""},null,null,null,{"$f":"IF(AN302=\"\",\"\",INDEX('OTRAS REFERENCIAS'!$T$6:$U$11,MATCH(AN302,'OTRAS REFERENCIAS'!$U$6:$U$11,0),1))","v":""}]
[1,"",301,"","",{"$f":"IF(L303<>\"\",CONCATENATE(DIGITADOR!$B$2,$A$2,DIGITADOR!$M$1,A303),\"\")","v":""},null,null,"",{"$f":"IF(K303=\"\",\"\",INDEX('OTRAS REFERENCIAS'!$AL:$AM,MATCH(K303,'OTRAS REFERENCIAS'!$AL:$AL,0),2))","v":""},null,{"$f":"IF(J303=\"\",\"\",INDEX(REFERENTES!$A:$D,MATCH(J303,REFERENTES!$C:$C,0),3))","v":""},null,null,null,null,null,null,null,{"$f":"IF(U303=\"\",\"\",INDEX('OTRAS REFERENCIAS'!$H$6:$I$11,MATCH(U303,'OTRAS REFERENCIAS'!$I$6:$I$11,0),1))","v":""},null,null,null,null,{"$f":"IF(Z303=\"\",\"\",INDEX('OTRAS REFERENCIAS'!$K$6:$L$11,MATCH(Z303,'OTRAS REFERENCIAS'!$L$6:$L$11,0),1))","v":""},null,null,null,null,{"$f":"IF(AE303=\"\",\"\",INDEX('OTRAS REFERENCIAS'!$N$6:$O$11,MATCH(AE303,'OTRAS REFERENCIAS'!$O$6:$O$11,0),1))","v":""},null,null,null,null,{"$f":"IF(AJ303=\"\",\"\",INDEX('OTRAS REFERENCIAS'!$Q$6:$R$11,MATCH(AJ303,'OTRAS REFERENCIAS'!$R$6:$R$11,0),1))","v":""},null,null,null,{"$f":"IF(AN303=\"\",\"\",INDEX('OTRAS REFERENCIAS'!$T$6:$U$11,MATCH(AN303,'OTRAS REFERENCIAS'!$U$6:$U$11,0),1))","v":""}]
[1,"",302,"","",{"$f":"IF(L304<>\"\",CONCATENATE(DIGITADOR!$B$2,$A$2,DIGITADOR!$M$1,A304),\"\")","v":""},null,null,"",{"$f":"IF(K304=\"\",\"\",INDEX('OTRAS REFERENCIAS'!$AL:$AM,MATCH(K304,'OTRAS REFERENCIAS'!$AL:$AL,0),2))","v":""},null,{"$f":"IF(J304=\"\",\"\",INDEX(REFERENTES!$A:$D,MATCH(J304,REFERENTES!$C:$C,0),3))","v":""},null,null,null,null,null,null,null,{"$f":"IF(U304=\"\",\"\",INDEX('OTRAS REFERENCIAS'!$H$6:$I$11,MATCH(U304,'OTRAS REFERENCIAS'!$I$6:$I$11,0),1))","v":""},null,null,null,null,{"$f":"IF(Z304=\"\",\"\",INDEX('OTRAS REFERENCIAS'!$K$6:$L$11,MATCH(Z304,'OTRAS REFERENCIAS'!$L$6:$L$11,0),1))","v":""},null,null,null,null,{"$f":"IF(AE304=\"\",\"\",INDEX('OTRAS REFERENCIAS'!$N$6:$O$11,MATCH(AE304,'OTRAS REFERENCIAS'!$O$6:$O$11,0),1))","v":""},null,null,null,null,{"$f":"IF(AJ304=\"\",\"\",INDEX('OTRAS REFERENCIAS'!$Q$6:$R$11,MATCH(AJ304,'OTRAS REFERENCIAS'!$R$6:$R$11,0),1))","v":""},null,null,null,{"$f":"IF(AN304=\"\",\"\",INDEX('OTRAS REFERENCIAS'!$T$6:$U$11,MATCH(AN304,'OTRAS REFERENCIAS'!$U$6:$U$11,0),1))","v":""}]
[1,"",303,"","",{"$f":"IF(L305<>\"\",CONCATENATE(DIGITADOR!$B$2,$A$2,DIGITADOR!$M$1,A305),\"\")","v":""},null,null,"",{"$f":"IF(K305=\"\",\"\",INDEX('OTRAS REFERENCIAS'!$AL:$AM,MATCH(K305,'OTRAS REFERENCIAS'!$AL:$AL,0),2))","v":""},null,{"$f":"IF(J305=\"\",\"\",INDEX(REFERENTES!$A:$D,MATCH(J305,REFERENTES!$C:$C,0),3))","v":""},null,null,null,null,null,null,null,{"$f":"IF(U305=\"\",\"\",INDEX('OTRAS REFERENCIAS'!$H$6:$I$11,MATCH(U305,'OTRAS REFERENCIAS'!$I$6:$I$11,0),1))","v":""},null,null,null,null,{"$f":"IF(Z305=\"\",\"\",INDEX('OTRAS REFERENCIAS'!$K$6:$L$11,MATCH(Z305,'OTRAS REFERENCIAS'!$L$6:$L$11,0),1))","v":""},null,null,null,null,{"$f":"IF(AE305=\"\",\"\",INDEX('OTRAS REFERENCIAS'!$N$6:$O$11,MATCH(AE305,'OTRAS REFERENCIAS'!$O$6:$O$11,0),1))","v":""},null,null,null,null,{"$f":"IF(AJ305=\"\",\"\",INDEX('OTRAS REFERENCIAS'!$Q$6:$R$11,MATCH(AJ305,'OTRAS REFERENCIAS'!$R$6:$R$11,0),1))","v":""},null,null,null,{"$f":"IF(AN305=\"\",\"\",INDEX('OTRAS REFERENCIAS'!$T$6:$U$11,MATCH(AN305,'OTRAS REFERENCIAS'!$U$6:$U$11,0),1))","v":""}]
[1,"",304,"","",{"$f":"IF(L306<>\"\",CONCATENATE(DIGITADOR!$B$2,$A$2,DIGITADOR!$M$1,A306),\"\")","v":""},null,null,"",{"$f":"IF(K306=\"\",\"\",INDEX('OTRAS REFERENCIAS'!$AL:$AM,MATCH(K306,'OTRAS REFERENCIAS'!$AL:$AL,0),2))","v":""},null,{"$f":"IF(J306=\"\",\"\",INDEX(REFERENTES!$A:$D,MATCH(J306,REFERENTES!$C:$C,0),3))","v":""},null,null,null,null,null,null,null,{"$f":"IF(U306=\"\",\"\",INDEX('OTRAS REFERENCIAS'!$H$6:$I$11,MATCH(U306,'OTRAS REFERENCIAS'!$I$6:$I$11,0),1))","v":""},null,null,null,null,{"$f":"IF(Z306=\"\",\"\",INDEX('OTRAS REFERENCIAS'!$K$6:$L$11,MATCH(Z306,'OTRAS REFERENCIAS'!$L$6:$L$11,0),1))","v":""},null,null,null,null,{"$f":"IF(AE306=\"\",\"\",INDEX('OTRAS REFERENCIAS'!$N$6:$O$11,MATCH(AE306,'OTRAS REFERENCIAS'!$O$6:$O$11,0),1))","v":""},null,null,null,null,{"$f":"IF(AJ306=\"\",\"\",INDEX('OTRAS REFERENCIAS'!$Q$6:$R$11,MATCH(AJ306,'OTRAS REFERENCIAS'!$R$6:$R$11,0),1))","v":""},null,null,null,{"$f":"IF(AN306=\"\",\"\",INDEX('OTRAS REFERENCIAS'!$T$6:$U$11,MATCH(AN306,'OTRAS REFERENCIAS'!$U$6:$U$11,0),1))","v":""}]
[1,"",305,"","",{"$f":"IF(L307<>\"\",CONCATENATE(DIGITADOR!$B$2,$A$2,DIGITADOR!$M$1,A307),\"\")","v":""},null,null,"",{"$f":"IF(K307=\"\",\"\",INDEX('OTRAS REFERENCIAS'!$AL:$AM,MATCH(K307,'OTRAS REFERENCIAS'!$AL:$AL,0),2))","v":""},null,{"$f":"IF(J307=\"\",\"\",INDEX(REFERENTES!$A:$D,MATCH(J307,REFERENTES!$C:$C,0),3))","v":""},null,null,null,null,null,null,null,{"$f":"IF(U307=\"\",\"\",INDEX('OTRAS REFERENCIAS'!$H$6:$I$11,MATCH(U307,'OTRAS REFERENCIAS'!$I$6:$I$11,0),1))","v":""},null,null,null,null,{"$f":"IF(Z307=\"\",\"\",INDEX('OTRAS REFERENCIAS'!$K$6:$L$11,MATCH(Z307,'OTRAS REFERENCIAS'!$L$6:$L$11,0),1))","v":""},null,null,null,null,{"$f":"IF(AE307=\"\",\"\",INDEX('OTRAS REFERENCIAS'!$N$6:$O$11,MATCH(AE307,'OTRAS REFERENCIAS'!$O$6:$O$11,0),1))","v":""},null,null,null,null,{"$f":"IF(AJ307=\"\",\"\",INDEX('OTRAS REFERENCIAS'!$Q$6:$R$11,MATCH(AJ307,'OTRAS REFERENCIAS'!$R$6:$R$11,0),1))","v":""},null,null,null,{"$f":"IF(AN307=\"\",\"\",INDEX('OTRAS REFERENCIAS'!$T$6:$U$11,MATCH(AN307,'OTRAS REFERENCIAS'!$U$6:$U$11,0),1))","v":""}]
[1,"",306,"","",{"$f":"IF(L308<>\"\",CONCATENATE(DIGITADOR!$B$2,$A$2,DIGITADOR!$M$1,A308),\"\")","v":""},null,null,"",{"$f":"IF(K308=\"\",\"\",INDEX('OTRAS REFERENCIAS'!$AL:$AM,MATCH(K308,'OTRAS REFERENCIAS'!$AL:$AL,0),2))","v":""},null,{"$f":"IF(J308=\"\",\"\",INDEX(REFERENTES!$A:$D,MATCH(J308,REFERENTES!$C:$C,0),3))","v":""},null,null,null,null,null,null,null,{"$f":"IF(U308=\"\",\"\",INDEX('OTRAS REFERENCIAS'!$H$6:$I$11,MATCH(U308,'OTRAS REFERENCIAS'!$I$6:$I$11,0),1))","v":""},null,null,null,null,{"$f":"IF(Z308=\"\",\"\",INDEX('OTRAS REFERENCIAS'!$K$6:$L$11,MATCH(Z308,'OTRAS REFERENCIAS'!$L$6:$L$11,0),1))","v":""},null,null,null,null,{"$f":"IF(AE308=\"\",\"\",INDEX('OTRAS REFERENCIAS'!$N$6:$O$11,MATCH(AE308,'OTRAS REFERENCIAS'!$O$6:$O$11,0),1))","v":""},null,null,null,null,{"$f":"IF(AJ308=\"\",\"\",INDEX('OTRAS REFERENCIAS'!$Q$6:$R$11,MATCH(AJ308,'OTRAS REFERENCIAS'!$R$6:$R$11,0),1))","v":""},null,null,null,{"$f":"IF(AN308=\"\",\"\",INDEX('OTRAS REFERENCIAS'!$T$6:$U$11,MATCH(AN308,'OTRAS REFERENCIAS'!$U$6:$U$11,0),1))","v":""}]
[1,"",307,"","",{"$f":"IF(L309<>\"\",CONCATENATE(DIGITADOR!$B$2,$A$2,DIGITADOR!$M$1,A309),\"\")","v":""},null,null,"",{"$f":"IF(K309=\"\",\"\",INDEX('OTRAS REFERENCIAS'!$AL:$AM,MATCH(K309,'OTRAS REFERENCIAS'!$AL:$AL,0),2))","v":""},null,{"$f":"IF(J309=\"\",\"\",INDEX(REFERENTES!$A:$D,MATCH(J309,REFERENTES!$C:$C,0),3))","v":""},null,null,null,null,null,null,null,{"$f":"IF(U309=\"\",\"\",INDEX('OTRAS REFERENCIAS'!$H$6:$I$11,MATCH(U309,'OTRAS REFERENCIAS'!$I$6:$I$11,0),1))","v":""},null,null,null,null,{"$f":"IF(Z309=\"\",\"\",INDEX('OTRAS REFERENCIAS'!$K$6:$L$11,MATCH(Z309,'OTRAS REFERENCIAS'!$L$6:$L$11,0),1))","v":""},null,null,null,null,{"$f":"IF(AE309=\"\",\"\",INDEX('OTRAS REFERENCIAS'!$N$6:$O$11,MATCH(AE309,'OTRAS REFERENCIAS'!$O$6:$O$11,0),1))","v":""},null,null,null,null,{"$f":"IF(AJ309=\"\",\"\",INDEX('OTRAS REFERENCIAS'!$Q$6:$R$11,MATCH(AJ309,'OTRAS REFERENCIAS'!$R$6:$R$11,0),1))","v":""},null,null,null,{"$f":"IF(AN309=\"\",\"\",INDEX('OTRAS REFERENCIAS'!$T$6:$U$11,MATCH(AN309,'OTRAS REFERENCIAS'!$U$6:$U$11,0),1))","v":""}]
[1,"",308,"","",{"$f":"IF(L310<>\"\",CONCATENATE(DIGITADOR!$B$2,$A$2,DIGITADOR!$M$1,A310),\"\")","v":""},null,null,"",{"$f":"IF(K310=\"\",\"\",INDEX('OTRAS REFERENCIAS'!$AL:$AM,MATCH(K310,'OTRAS REFERENCIAS'!$AL:$AL,0),2))","v":""},null,{"$f":"IF(J310=\"\",\"\",INDEX(REFERENTES!$A:$D,MATCH(J310,REFERENTES!$C:$C,0),3))","v":""},null,null,null,null,null,null,null,{"$f":"IF(U310=\"\",\"\",INDEX('OTRAS REFERENCIAS'!$H$6:$I$11,MATCH(U310,'OTRAS REFERENCIAS'!$I$6:$I$11,0),1))","v":""},null,null,null,null,{"$f":"IF(Z310=\"\",\"\",INDEX('OTRAS REFERENCIAS'!$K$6:$L$11,MATCH(Z310,'OTRAS REFERENCIAS'!$L$6:$L$11,0),1))","v":""},null,null,null,null,{"$f":"IF(AE310=\"\",\"\",INDEX('OTRAS REFERENCIAS'!$N$6:$O$11,MATCH(AE310,'OTRAS REFERENCIAS'!$O$6:$O$11,0),1))","v":""},null,null,null,null,{"$f":"IF(AJ310=\"\",\"\",INDEX('OTRAS REFERENCIAS'!$Q$6:$R$11,MATCH(AJ310,'OTRAS REFERENCIAS'!$R$6:$R$11,0),1))","v":""},null,null,null,{"$f":"IF(AN310=\"\",\"\",INDEX('OTRAS REFERENCIAS'!$T$6:$U$11,MATCH(AN310,'OTRAS REFERENCIAS'!$U$6:$U$11,0),1))","v":""}]
[1,"",309,"","",{"$f":"IF(L311<>\"\",CONCATENATE(DIGITADOR!$B$2,$A$2,DIGITADOR!$M$1,A311),\"\")","v":""},null,null,"",{"$f":"IF(K311=\"\",\"\",INDEX('OTRAS REFERENCIAS'!$AL:$AM,MATCH(K311,'OTRAS REFERENCIAS'!$AL:$AL,0),2))","v":""},null,{"$f":"IF(J311=\"\",\"\",INDEX(REFERENTES!$A:$D,MATCH(J311,REFERENTES!$C:$C,0),3))","v":""},null,null,null,null,null,null,null,{"$f":"IF(U311=\"\",\"\",INDEX('OTRAS REFERENCIAS'!$H$6:$I$11,MATCH(U311,'OTRAS REFERENCIAS'!$I$6:$I$11,0),1))","v":""},null,null,null,null,{"$f":"IF(Z311=\"\",\"\",INDEX('OTRAS REFERENCIAS'!$K$6:$L$11,MATCH(Z311,'OTRAS REFERENCIAS'!$L$6:$L$11,0),1))","v":""},null,null,null,null,{"$f":"IF(AE311=\"\",\"\",INDEX('OTRAS REFERENCIAS'!$N$6:$O$11,MATCH(AE311,'OTRAS REFERENCIAS'!$O$6:$O$11,0),1))","v":""},null,null,null,null,{"$f":"IF(AJ311=\"\",\"\",INDEX('OTRAS REFERENCIAS'!$Q$6:$R$11,MATCH(AJ311,'OTRAS REFERENCIAS'!$R$6:$R$11,0),1))","v":""},null,null,null,{"$f":"IF(AN311=\"\",\"\",INDEX('OTRAS REFERENCIAS'!$T$6:$U$11,MATCH(AN311,'OTRAS REFERENCIAS'!$U$6:$U$11,0),1))","v":""}]
[1,"",310,"","",{"$f":"IF(L312<>\"\",CONCATENATE(DIGITADOR!$B$2,$A$2,DIGITADOR!$M$1,A312),\"\")","v":""},null,null,"",{"$f":"IF(K312=\"\",\"\",INDEX('OTRAS REFERENCIAS'!$AL:$AM,MATCH(K312,'OTRAS REFERENCIAS'!$AL:$AL,0),2))","v":""},null,{"$f":"IF(J312=\"\",\"\",INDEX(REFERENTES!$A:$D,MATCH(J312,REFERENTES!$C:$C,0),3))","v":""},null,null,null,null,null,null,null,{"$f":"IF(U312=\"\",\"\",INDEX('OTRAS REFERENCIAS'!$H$6:$I$11,MATCH(U312,'OTRAS REFERENCIAS'!$I$6:$I$11,0),1))","v":""},null,null,null,null,{"$f":"IF(Z312=\"\",\"\",INDEX('OTRAS REFERENCIAS'!$K$6:$L$11,MATCH(Z312,'OTRAS REFERENCIAS'!$L$6:$L$11,0),1))","v":""},null,null,null,null,{"$f":"IF(AE312=\"\",\"\",INDEX('OTRAS REFERENCIAS'!$N$6:$O$11,MATCH(AE312,'OTRAS REFERENCIAS'!$O$6:$O$11,0),1))","v":""},null,null,null,null,{"$f":"IF(AJ312=\"\",\"\",INDEX('OTRAS REFERENCIAS'!$Q$6:$R$11,MATCH(AJ312,'OTRAS REFERENCIAS'!$R$6:$R$11,0),1))","v":""},null,null,null,{"$f":"IF(AN312=\"\",\"\",INDEX('OTRAS REFERENCIAS'!$T$6:$U$11,MATCH(AN312,'OTRAS REFERENCIAS'!$U$6:$U$11,0),1))","v":""}]
[1,"",311,"","",{"$f":"IF(L313<>\"\",CONCATENATE(DIGITADOR!$B$2,$A$2,DIGITADOR!$M$1,A313),\"\")","v":""},null,null,"",{"$f":"IF(K313=\"\",\"\",INDEX('OTRAS REFERENCIAS'!$AL:$AM,MATCH(K313,'OTRAS REFERENCIAS'!$AL:$AL,0),2))","v":""},null,{"$f":"IF(J313=\"\",\"\",INDEX(REFERENTES!$A:$D,MATCH(J313,REFERENTES!$C:$C,0),3))","v":""},null,null,null,null,null,null,null,{"$f":"IF(U313=\"\",\"\",INDEX('OTRAS REFERENCIAS'!$H$6:$I$11,MATCH(U313,'OTRAS REFERENCIAS'!$I$6:$I$11,0),1))","v":""},null,null,null,null,{"$f":"IF(Z313=\"\",\"\",INDEX('OTRAS REFERENCIAS'!$K$6:$L$11,MATCH(Z313,'OTRAS REFERENCIAS'!$L$6:$L$11,0),1))","v":""},null,null,null,null,{"$f":"IF(AE313=\"\",\"\",INDEX('OTRAS REFERENCIAS'!$N$6:$O$11,MATCH(AE313,'OTRAS REFERENCIAS'!$O$6:$O$11,0),1))","v":""},null,null,null,null,{"$f":"IF(AJ313=\"\",\"\",INDEX('OTRAS REFERENCIAS'!$Q$6:$R$11,MATCH(AJ313,'OTRAS REFERENCIAS'!$R$6:$R$11,0),1))","v":""},null,null,null,{"$f":"IF(AN313=\"\",\"\",INDEX('OTRAS REFERENCIAS'!$T$6:$U$11,MATCH(AN313,'OTRAS REFERENCIAS'!$U$6:$U$11,0),1))","v":""}]
[1,"",312,"","",{"$f":"IF(L314<>\"\",CONCATENATE(DIGITADOR!$B$2,$A$2,DIGITADOR!$M$1,A314),\"\")","v":""},null,null,"",{"$f":"IF(K314=\"\",\"\",INDEX('OTRAS REFERENCIAS'!$AL:$AM,MATCH(K314,'OTRAS REFERENCIAS'!$AL:$AL,0),2))","v":""},null,{"$f":"IF(J314=\"\",\"\",INDEX(REFERENTES!$A:$D,MATCH(J314,REFERENTES!$C:$C,0),3))","v":""},null,null,null,null,null,null,null,{"$f":"IF(U314=\"\",\"\",INDEX('OTRAS REFERENCIAS'!$H$6:$I$11,MATCH(U314,'OTRAS REFERENCIAS'!$I$6:$I$11,0),1))","v":""},null,null,null,null,{"$f":"IF(Z314=\"\",\"\",INDEX('OTRAS REFERENCIAS'!$K$6:$L$11,MATCH(Z314,'OTRAS REFERENCIAS'!$L$6:$L$11,0),1))","v":""},null,null,null,null,{"$f":"IF(AE314=\"\",\"\",INDEX('OTRAS REFERENCIAS'!$N$6:$O$11,MATCH(AE314,'OTRAS REFERENCIAS'!$O$6:$O$11,0),1))","v":""},null,null,null,null,{"$f":"IF(AJ314=\"\",\"\",INDEX('OTRAS REFERENCIAS'!$Q$6:$R$11,MATCH(AJ314,'OTRAS REFERENCIAS'!$R$6:$R$11,0),1))","v":""},null,null,null,{"$f":"IF(AN314=\"\",\"\",INDEX('OTRAS REFERENCIAS'!$T$6:$U$11,MATCH(AN314,'OTRAS REFERENCIAS'!$U$6:$U$11,0),1))","v":""}]
[1,"",313,"","",{"$f":"IF(L315<>\"\",CONCATENATE(DIGITADOR!$B$2,$A$2,DIGITADOR!$M$1,A315),\"\")","v":""},null,null,"",{"$f":"IF(K315=\"\",\"\",INDEX('OTRAS REFERENCIAS'!$AL:$AM,MATCH(K315,'OTRAS REFERENCIAS'!$AL:$AL,0),2))","v":""},null,{"$f":"IF(J315=\"\",\"\",INDEX(REFERENTES!$A:$D,MATCH(J315,REFERENTES!$C:$C,0),3))","v":""},null,null,null,null,null,null,null,{"$f":"IF(U315=\"\",\"\",INDEX('OTRAS REFERENCIAS'!$H$6:$I$11,MATCH(U315,'OTRAS REFERENCIAS'!$I$6:$I$11,0),1))","v":""},null,null,null,null,{"$f":"IF(Z315=\"\",\"\",INDEX('OTRAS REFERENCIAS'!$K$6:$L$11,MATCH(Z315,'OTRAS REFERENCIAS'!$L$6:$L$11,0),1))","v":""},null,null,null,null,{"$f":"IF(AE315=\"\",\"\",INDEX('OTRAS REFERENCIAS'!$N$6:$O$11,MATCH(AE315,'OTRAS REFERENCIAS'!$O$6:$O$11,0),1))","v":""},null,null,null,null,{"$f":"IF(AJ315=\"\",\"\",INDEX('OTRAS REFERENCIAS'!$Q$6:$R$11,MATCH(AJ315,'OTRAS REFERENCIAS'!$R$6:$R$11,0),1))","v":""},null,null,null,{"$f":"IF(AN315=\"\",\"\",INDEX('OTRAS REFERENCIAS'!$T$6:$U$11,MATCH(AN315,'OTRAS REFERENCIAS'!$U$6:$U$11,0),1))","v":""}]
[1,"",314,"","",{"$f":"IF(L316<>\"\",CONCATENATE(DIGITADOR!$B$2,$A$2,DIGITADOR!$M$1,A316),\"\")","v":""},null,null,"",{"$f":"IF(K316=\"\",\"\",INDEX('OTRAS REFERENCIAS'!$AL:$AM,MATCH(K316,'OTRAS REFERENCIAS'!$AL:$AL,0),2))","v":""},null,{"$f":"IF(J316=\"\",\"\",INDEX(REFERENTES!$A:$D,MATCH(J316,REFERENTES!$C:$C,0),3))","v":""},null,null,null,null,null,null,null,{"$f":"IF(U316=\"\",\"\",INDEX('OTRAS REFERENCIAS'!$H$6:$I$11,MATCH(U316,'OTRAS REFERENCIAS'!$I$6:$I$11,0),1))","v":""},null,null,null,null,{"$f":"IF(Z316=\"\",\"\",INDEX('OTRAS REFERENCIAS'!$K$6:$L$11,MATCH(Z316,'OTRAS REFERENCIAS'!$L$6:$L$11,0),1))","v":""},null,null,null,null,{"$f":"IF(AE316=\"\",\"\",INDEX('OTRAS REFERENCIAS'!$N$6:$O$11,MATCH(AE316,'OTRAS REFERENCIAS'!$O$6:$O$11,0),1))","v":""},null,null,null,null,{"$f":"IF(AJ316=\"\",\"\",INDEX('OTRAS REFERENCIAS'!$Q$6:$R$11,MATCH(AJ316,'OTRAS REFERENCIAS'!$R$6:$R$11,0),1))","v":""},null,null,null,{"$f":"IF(AN316=\"\",\"\",INDEX('OTRAS REFERENCIAS'!$T$6:$U$11,MATCH(AN316,'OTRAS REFERENCIAS'!$U$6:$U$11,0),1))","v":""}]
[1,"",315,"","",{"$f":"IF(L317<>\"\",CONCATENATE(DIGITADOR!$B$2,$A$2,DIGITADOR!$M$1,A317),\"\")","v":""},null,null,"",{"$f":"IF(K317=\"\",\"\",INDEX('OTRAS REFERENCIAS'!$AL:$AM,MATCH(K317,'OTRAS REFERENCIAS'!$AL:$AL,0),2))","v":""},null,{"$f":"IF(J317=\"\",\"\",INDEX(REFERENTES!$A:$D,MATCH(J317,REFERENTES!$C:$C,0),3))","v":""},null,null,null,null,null,null,null,{"$f":"IF(U317=\"\",\"\",INDEX('OTRAS REFERENCIAS'!$H$6:$I$11,MATCH(U317,'OTRAS REFERENCIAS'!$I$6:$I$11,0),1))","v":""},null,null,null,null,{"$f":"IF(Z317=\"\",\"\",INDEX('OTRAS REFERENCIAS'!$K$6:$L$11,MATCH(Z317,'OTRAS REFERENCIAS'!$L$6:$L$11,0),1))","v":""},null,null,null,null,{"$f":"IF(AE317=\"\",\"\",INDEX('OTRAS REFERENCIAS'!$N$6:$O$11,MATCH(AE317,'OTRAS REFERENCIAS'!$O$6:$O$11,0),1))","v":""},null,null,null,null,{"$f":"IF(AJ317=\"\",\"\",INDEX('OTRAS REFERENCIAS'!$Q$6:$R$11,MATCH(AJ317,'OTRAS REFERENCIAS'!$R$6:$R$11,0),1))","v":""},null,null,null,{"$f":"IF(AN317=\"\",\"\",INDEX('OTRAS REFERENCIAS'!$T$6:$U$11,MATCH(AN317,'OTRAS REFERENCIAS'!$U$6:$U$11,0),1))","v":""}]
[1,"",316,"","",{"$f":"IF(L318<>\"\",CONCATENATE(DIGITADOR!$B$2,$A$2,DIGITADOR!$M$1,A318),\"\")","v":""},null,null,"",{"$f":"IF(K318=\"\",\"\",INDEX('OTRAS REFERENCIAS'!$AL:$AM,MATCH(K318,'OTRAS REFERENCIAS'!$AL:$AL,0),2))","v":""},null,{"$f":"IF(J318=\"\",\"\",INDEX(REFERENTES!$A:$D,MATCH(J318,REFERENTES!$C:$C,0),3))","v":""},null,null,null,null,null,null,null,{"$f":"IF(U318=\"\",\"\",INDEX('OTRAS REFERENCIAS'!$H$6:$I$11,MATCH(U318,'OTRAS REFERENCIAS'!$I$6:$I$11,0),1))","v":""},null,null,null,null,{"$f":"IF(Z318=\"\",\"\",INDEX('OTRAS REFERENCIAS'!$K$6:$L$11,MATCH(Z318,'OTRAS REFERENCIAS'!$L$6:$L$11,0),1))","v":""},null,null,null,null,{"$f":"IF(AE318=\"\",\"\",INDEX('OTRAS REFERENCIAS'!$N$6:$O$11,MATCH(AE318,'OTRAS REFERENCIAS'!$O$6:$O$11,0),1))","v":""},null,null,null,null,{"$f":"IF(AJ318=\"\",\"\",INDEX('OTRAS REFERENCIAS'!$Q$6:$R$11,MATCH(AJ318,'OTRAS REFERENCIAS'!$R$6:$R$11,0),1))","v":""},null,null,null,{"$f":"IF(AN318=\"\",\"\",INDEX('OTRAS REFERENCIAS'!$T$6:$U$11,MATCH(AN318,'OTRAS REFERENCIAS'!$U$6:$U$11,0),1))","v":""}]
[1,"",317,"","",{"$f":"IF(L319<>\"\",CONCATENATE(DIGITADOR!$B$2,$A$2,DIGITADOR!$M$1,A319),\"\")","v":""},null,null,"",{"$f":"IF(K319=\"\",\"\",INDEX('OTRAS REFERENCIAS'!$AL:$AM,MATCH(K319,'OTRAS REFERENCIAS'!$AL:$AL,0),2))","v":""},null,{"$f":"IF(J319=\"\",\"\",INDEX(REFERENTES!$A:$D,MATCH(J319,REFERENTES!$C:$C,0),3))","v":""},null,null,null,null,null,null,null,{"$f":"IF(U319=\"\",\"\",INDEX('OTRAS REFERENCIAS'!$H$6:$I$11,MATCH(U319,'OTRAS REFERENCIAS'!$I$6:$I$11,0),1))","v":""},null,null,null,null,{"$f":"IF(Z319=\"\",\"\",INDEX('OTRAS REFERENCIAS'!$K$6:$L$11,MATCH(Z319,'OTRAS REFERENCIAS'!$L$6:$L$11,0),1))","v":""},null,null,null,null,{"$f":"IF(AE319=\"\",\"\",INDEX('OTRAS REFERENCIAS'!$N$6:$O$11,MATCH(AE319,'OTRAS REFERENCIAS'!$O$6:$O$11,0),1))","v":""},null,null,null,null,{"$f":"IF(AJ319=\"\",\"\",INDEX('OTRAS REFERENCIAS'!$Q$6:$R$11,MATCH(AJ319,'OTRAS REFERENCIAS'!$R$6:$R$11,0),1))","v":""},null,null,null,{"$f":"IF(AN319=\"\",\"\",INDEX('OTRAS REFERENCIAS'!$T$6:$U$11,MATCH(AN319,'OTRAS REFERENCIAS'!$U$6:$U$11,0),1))","v":""}]
[1,"",318,"","",{"$f":"IF(L320<>\"\",CONCATENATE(DIGITADOR!$B$2,$A$2,DIGITADOR!$M$1,A320),\"\")","v":""},null,null,"",{"$f":"IF(K320=\"\",\"\",INDEX('OTRAS REFERENCIAS'!$AL:$AM,MATCH(K320,'OTRAS REFERENCIAS'!$AL:$AL,0),2))","v":""},null,{"$f":"IF(J320=\"\",\"\",INDEX(REFERENTES!$A:$D,MATCH(J320,REFERENTES!$C:$C,0),3))","v":""},null,null,null,null,null,null,null,{"$f":"IF(U320=\"\",\"\",INDEX('OTRAS REFERENCIAS'!$H$6:$I$11,MATCH(U320,'OTRAS REFERENCIAS'!$I$6:$I$11,0),1))","v":""},null,null,null,null,{"$f":"IF(Z320=\"\",\"\",INDEX('OTRAS REFERENCIAS'!$K$6:$L$11,MATCH(Z320,'OTRAS REFERENCIAS'!$L$6:$L$11,0),1))","v":""},null,null,null,null,{"$f":"IF(AE320=\"\",\"\",INDEX('OTRAS REFERENCIAS'!$N$6:$O$11,MATCH(AE320,'OTRAS REFERENCIAS'!$O$6:$O$11,0),1))","v":""},null,null,null,null,{"$f":"IF(AJ320=\"\",\"\",INDEX('OTRAS REFERENCIAS'!$Q$6:$R$11,MATCH(AJ320,'OTRAS REFERENCIAS'!$R$6:$R$11,0),1))","v":""},null,null,null,{"$f":"IF(AN320=\"\",\"\",INDEX('OTRAS REFERENCIAS'!$T$6:$U$11,MATCH(AN320,'OTRAS REFERENCIAS'!$U$6:$U$11,0),1))","v":""}]
[1,"",319,"","",{"$f":"IF(L321<>\"\",CONCATENATE(DIGITADOR!$B$2,$A$2,DIGITADOR!$M$1,A321),\"\")","v":""},null,null,"",{"$f":"IF(K321=\"\",\"\",INDEX('OTRAS REFERENCIAS'!$AL:$AM,MATCH(K321,'OTRAS REFERENCIAS'!$AL:$AL,0),2))","v":""},null,{"$f":"IF(J321=\"\",\"\",INDEX(REFERENTES!$A:$D,MATCH(J321,REFERENTES!$C:$C,0),3))","v":""},null,null,null,null,null,null,null,{"$f":"IF(U321=\"\",\"\",INDEX('OTRAS REFERENCIAS'!$H$6:$I$11,MATCH(U321,'OTRAS REFERENCIAS'!$I$6:$I$11,0),1))","v":""},null,null,null,null,{"$f":"IF(Z321=\"\",\"\",INDEX('OTRAS REFERENCIAS'!$K$6:$L$11,MATCH(Z321,'OTRAS REFERENCIAS'!$L$6:$L$11,0),1))","v":""},null,null,null,null,{"$f":"IF(AE321=\"\",\"\",INDEX('OTRAS REFERENCIAS'!$N$6:$O$11,MATCH(AE321,'OTRAS REFERENCIAS'!$O$6:$O$11,0),1))","v":""},null,null,null,null,{"$f":"IF(AJ321=\"\",\"\",INDEX('OTRAS REFERENCIAS'!$Q$6:$R$11,MATCH(AJ321,'OTRAS REFERENCIAS'!$R$6:$R$11,0),1))","v":""},null,null,null,{"$f":"IF(AN321=\"\",\"\",INDEX('OTRAS REFERENCIAS'!$T$6:$U$11,MATCH(AN321,'OTRAS REFERENCIAS'!$U$6:$U$11,0),1))","v":""}]
[1,"",320,"","",{"$f":"IF(L322<>\"\",CONCATENATE(DIGITADOR!$B$2,$A$2,DIGITADOR!$M$1,A322),\"\")","v":""},null,null,"",{"$f":"IF(K322=\"\",\"\",INDEX('OTRAS REFERENCIAS'!$AL:$AM,MATCH(K322,'OTRAS REFERENCIAS'!$AL:$AL,0),2))","v":""},null,{"$f":"IF(J322=\"\",\"\",INDEX(REFERENTES!$A:$D,MATCH(J322,REFERENTES!$C:$C,0),3))","v":""},null,null,null,null,null,null,null,{"$f":"IF(U322=\"\",\"\",INDEX('OTRAS REFERENCIAS'!$H$6:$I$11,MATCH(U322,'OTRAS REFERENCIAS'!$I$6:$I$11,0),1))","v":""},null,null,null,null,{"$f":"IF(Z322=\"\",\"\",INDEX('OTRAS REFERENCIAS'!$K$6:$L$11,MATCH(Z322,'OTRAS REFERENCIAS'!$L$6:$L$11,0),1))","v":""},null,null,null,null,{"$f":"IF(AE322=\"\",\"\",INDEX('OTRAS REFERENCIAS'!$N$6:$O$11,MATCH(AE322,'OTRAS REFERENCIAS'!$O$6:$O$11,0),1))","v":""},null,null,null,null,{"$f":"IF(AJ322=\"\",\"\",INDEX('OTRAS REFERENCIAS'!$Q$6:$R$11,MATCH(AJ322,'OTRAS REFERENCIAS'!$R$6:$R$11,0),1))","v":""},null,null,null,{"$f":"IF(AN322=\"\",\"\",INDEX('OTRAS REFERENCIAS'!$T$6:$U$11,MATCH(AN322,'OTRAS REFERENCIAS'!$U$6:$U$11,0),1))","v":""}]
[1,"",321,"",{"$f":"CONCATENATE(I323,L323)","v":""},{"$f":"IF(L323<>\"\",CONCATENATE(DIGITADOR!$B$2,$A$2,DIGITADOR!$M$1,A323),\"\")","v":""},null,null,{"$f":"IF(G323<>\"\",G323+H323,\"\")","v":""},{"$f":"IF(K323=\"\",\"\",INDEX('OTRAS REFERENCIAS'!$AL:$AM,MATCH(K323,'OTRAS REFERENCIAS'!$AL:$AL,0),2))","v":""},null,{"$f":"IF(J323=\"\",\"\",INDEX(REFERENTES!$A:$D,MATCH(J323,REFERENTES!$C:$C,0),3))","v":""},null,null,null,null,null,null,null,{"$f":"IF(U323=\"\",\"\",INDEX('OTRAS REFERENCIAS'!$H$6:$I$11,MATCH(U323,'OTRAS REFERENCIAS'!$I$6:$I$11,0),1))","v":""},null,null,null,null,{"$f":"IF(Z323=\"\",\"\",INDEX('OTRAS REFERENCIAS'!$K$6:$L$11,MATCH(Z323,'OTRAS REFERENCIAS'!$L$6:$L$11,0),1))","v":""},null,null,null,null,{"$f":"IF(AE323=\"\",\"\",INDEX('OTRAS REFERENCIAS'!$N$6:$O$11,MATCH(AE323,'OTRAS REFERENCIAS'!$O$6:$O$11,0),1))","v":""},null,null,null,null,{"$f":"IF(AJ323=\"\",\"\",INDEX('OTRAS REFERENCIAS'!$Q$6:$R$11,MATCH(AJ323,'OTRAS REFERENCIAS'!$R$6:$R$11,0),1))","v":""},null,null,null,{"$f":"IF(AN323=\"\",\"\",INDEX('OTRAS REFERENCIAS'!$T$6:$U$11,MATCH(AN323,'OTRAS REFERENCIAS'!$U$6:$U$11,0),1))","v":""}]
[1,"",322,{"$f":"IF(L324=\"\",\"\",CONCATENATE(C324,F324))","v":""},"",{"$f":"IF(L324<>\"\",CONCATENATE(DIGITADOR!$B$2,$A$2,DIGITADOR!$M$1,A324),\"\")","v":""},null,null,"",{"$f":"IF(K324=\"\",\"\",INDEX('OTRAS REFERENCIAS'!$AL:$AM,MATCH(K324,'OTRAS REFERENCIAS'!$AL:$AL,0),2))","v":""},null,{"$f":"IF(J324=\"\",\"\",INDEX(REFERENTES!$A:$D,MATCH(J324,REFERENTES!$C:$C,0),3))","v":""},null,null,null,null,null,null,null,{"$f":"IF(U324=\"\",\"\",INDEX('OTRAS REFERENCIAS'!$H$6:$I$11,MATCH(U324,'OTRAS REFERENCIAS'!$I$6:$I$11,0),1))","v":""},null,null,null,null,{"$f":"IF(Z324=\"\",\"\",INDEX('OTRAS REFERENCIAS'!$K$6:$L$11,MATCH(Z324,'OTRAS REFERENCIAS'!$L$6:$L$11,0),1))","v":""},null,null,null,null,{"$f":"IF(AE324=\"\",\"\",INDEX('OTRAS REFERENCIAS'!$N$6:$O$11,MATCH(AE324,'OTRAS REFERENCIAS'!$O$6:$O$11,0),1))","v":""},null,null,null,null,{"$f":"IF(AJ324=\"\",\"\",INDEX('OTRAS REFERENCIAS'!$Q$6:$R$11,MATCH(AJ324,'OTRAS REFERENCIAS'!$R$6:$R$11,0),1))","v":""},null,null,null,{"$f":"IF(AN324=\"\",\"\",INDEX('OTRAS REFERENCIAS'!$T$6:$U$11,MATCH(AN324,'OTRAS REFERENCIAS'!$U$6:$U$11,0),1))","v":""}]
[{"$f":"IF(L325=L324,A324,A324+1)","v":1},{"$f":"IF(F325<>F324, F325,\"\")","v":""},323,"","",{"$f":"IF(L325<>\"\",CONCATENATE(DIGITADOR!$B$2,$A$2,DIGITADOR!$M$1,A325),\"\")","v":""},null,null,"",{"$f":"IF(K325=\"\",\"\",INDEX('OTRAS REFERENCIAS'!$AL:$AM,MATCH(K325,'OTRAS REFERENCIAS'!$AL:$AL,0),2))","v":""},null,{"$f":"IF(J325=\"\",\"\",INDEX(REFERENTES!$A:$D,MATCH(J325,REFERENTES!$C:$C,0),3))","v":""},null,null,null,null,null,null,null,{"$f":"IF(U325=\"\",\"\",INDEX('OTRAS REFERENCIAS'!$H$6:$I$11,MATCH(U325,'OTRAS REFERENCIAS'!$I$6:$I$11,0),1))","v":""},null,null,null,null,{"$f":"IF(Z325=\"\",\"\",INDEX('OTRAS REFERENCIAS'!$K$6:$L$11,MATCH(Z325,'OTRAS REFERENCIAS'!$L$6:$L$11,0),1))","v":""},null,null,null,null,{"$f":"IF(AE325=\"\",\"\",INDEX('OTRAS REFERENCIAS'!$N$6:$O$11,MATCH(AE325,'OTRAS REFERENCIAS'!$O$6:$O$11,0),1))","v":""},null,null,null,null,{"$f":"IF(AJ325=\"\",\"\",INDEX('OTRAS REFERENCIAS'!$Q$6:$R$11,MATCH(AJ325,'OTRAS REFERENCIAS'!$R$6:$R$11,0),1))","v":""},null,null,null,{"$f":"IF(AN325=\"\",\"\",INDEX('OTRAS REFERENCIAS'!$T$6:$U$11,MATCH(AN325,'OTRAS REFERENCIAS'!$U$6:$U$11,0),1))","v":""}]
[1,"",324,"","",{"$f":"IF(L326<>\"\",CONCATENATE(DIGITADOR!$B$2,$A$2,DIGITADOR!$M$1,A326),\"\")","v":""},null,null,"",{"$f":"IF(K326=\"\",\"\",INDEX('OTRAS REFERENCIAS'!$AL:$AM,MATCH(K326,'OTRAS REFERENCIAS'!$AL:$AL,0),2))","v":""},null,{"$f":"IF(J326=\"\",\"\",INDEX(REFERENTES!$A:$D,MATCH(J326,REFERENTES!$C:$C,0),3))","v":""},null,null,null,null,null,null,null,{"$f":"IF(U326=\"\",\"\",INDEX('OTRAS REFERENCIAS'!$H$6:$I$11,MATCH(U326,'OTRAS REFERENCIAS'!$I$6:$I$11,0),1))","v":""},null,null,null,null,{"$f":"IF(Z326=\"\",\"\",INDEX('OTRAS REFERENCIAS'!$K$6:$L$11,MATCH(Z326,'OTRAS REFERENCIAS'!$L$6:$L$11,0),1))","v":""},null,null,null,null,{"$f":"IF(AE326=\"\",\"\",INDEX('OTRAS REFERENCIAS'!$N$6:$O$11,MATCH(AE326,'OTRAS REFERENCIAS'!$O$6:$O$11,0),1))","v":""},null,null,null,null,{"$f":"IF(AJ326=\"\",\"\",INDEX('OTRAS REFERENCIAS'!$Q$6:$R$11,MATCH(AJ326,'OTRAS REFERENCIAS'!$R$6:$R$11,0),1))","v":""},null,null,null,{"$f":"IF(AN326=\"\",\"\",INDEX('OTRAS REFERENCIAS'!$T$6:$U$11,MATCH(AN326,'OTRAS REFERENCIAS'!$U$6:$U$11,0),1))","v":""}]
[1,"",325,"","",{"$f":"IF(L327<>\"\",CONCATENATE(DIGITADOR!$B$2,$A$2,DIGITADOR!$M$1,A327),\"\")","v":""},null,null,"",{"$f":"IF(K327=\"\",\"\",INDEX('OTRAS REFERENCIAS'!$AL:$AM,MATCH(K327,'OTRAS REFERENCIAS'!$AL:$AL,0),2))","v":""},null,{"$f":"IF(J327=\"\",\"\",INDEX(REFERENTES!$A:$D,MATCH(J327,REFERENTES!$C:$C,0),3))","v":""},null,null,null,null,null,null,null,{"$f":"IF(U327=\"\",\"\",INDEX('OTRAS REFERENCIAS'!$H$6:$I$11,MATCH(U327,'OTRAS REFERENCIAS'!$I$6:$I$11,0),1))","v":""},null,null,null,null,{"$f":"IF(Z327=\"\",\"\",INDEX('OTRAS REFERENCIAS'!$K$6:$L$11,MATCH(Z327,'OTRAS REFERENCIAS'!$L$6:$L$11,0),1))","v":""},null,null,null,null,{"$f":"IF(AE327=\"\",\"\",INDEX('OTRAS REFERENCIAS'!$N$6:$O$11,MATCH(AE327,'OTRAS REFERENCIAS'!$O$6:$O$11,0),1))","v":""},null,null,null,null,{"$f":"IF(AJ327=\"\",\"\",INDEX('OTRAS REFERENCIAS'!$Q$6:$R$11,MATCH(AJ327,'OTRAS REFERENCIAS'!$R$6:$R$11,0),1))","v":""},null,null,null,{"$f":"IF(AN327=\"\",\"\",INDEX('OTRAS REFERENCIAS'!$T$6:$U$11,MATCH(AN327,'OTRAS REFERENCIAS'!$U$6:$U$11,0),1))","v":""}]
[1,"",326,"","",{"$f":"IF(L328<>\"\",CONCATENATE(DIGITADOR!$B$2,$A$2,DIGITADOR!$M$1,A328),\"\")","v":""},null,null,"",{"$f":"IF(K328=\"\",\"\",INDEX('OTRAS REFERENCIAS'!$AL:$AM,MATCH(K328,'OTRAS REFERENCIAS'!$AL:$AL,0),2))","v":""},null,{"$f":"IF(J328=\"\",\"\",INDEX(REFERENTES!$A:$D,MATCH(J328,REFERENTES!$C:$C,0),3))","v":""},null,null,null,null,null,null,null,{"$f":"IF(U328=\"\",\"\",INDEX('OTRAS REFERENCIAS'!$H$6:$I$11,MATCH(U328,'OTRAS REFERENCIAS'!$I$6:$I$11,0),1))","v":""},null,null,null,null,{"$f":"IF(Z328=\"\",\"\",INDEX('OTRAS REFERENCIAS'!$K$6:$L$11,MATCH(Z328,'OTRAS REFERENCIAS'!$L$6:$L$11,0),1))","v":""},null,null,null,null,{"$f":"IF(AE328=\"\",\"\",INDEX('OTRAS REFERENCIAS'!$N$6:$O$11,MATCH(AE328,'OTRAS REFERENCIAS'!$O$6:$O$11,0),1))","v":""},null,null,null,null,{"$f":"IF(AJ328=\"\",\"\",INDEX('OTRAS REFERENCIAS'!$Q$6:$R$11,MATCH(AJ328,'OTRAS REFERENCIAS'!$R$6:$R$11,0),1))","v":""},null,null,null,{"$f":"IF(AN328=\"\",\"\",INDEX('OTRAS REFERENCIAS'!$T$6:$U$11,MATCH(AN328,'OTRAS REFERENCIAS'!$U$6:$U$11,0),1))","v":""}]
[1,"",327,"","",{"$f":"IF(L329<>\"\",CONCATENATE(DIGITADOR!$B$2,$A$2,DIGITADOR!$M$1,A329),\"\")","v":""},null,null,"",{"$f":"IF(K329=\"\",\"\",INDEX('OTRAS REFERENCIAS'!$AL:$AM,MATCH(K329,'OTRAS REFERENCIAS'!$AL:$AL,0),2))","v":""},null,{"$f":"IF(J329=\"\",\"\",INDEX(REFERENTES!$A:$D,MATCH(J329,REFERENTES!$C:$C,0),3))","v":""},null,null,null,null,null,null,null,{"$f":"IF(U329=\"\",\"\",INDEX('OTRAS REFERENCIAS'!$H$6:$I$11,MATCH(U329,'OTRAS REFERENCIAS'!$I$6:$I$11,0),1))","v":""},null,null,null,null,{"$f":"IF(Z329=\"\",\"\",INDEX('OTRAS REFERENCIAS'!$K$6:$L$11,MATCH(Z329,'OTRAS REFERENCIAS'!$L$6:$L$11,0),1))","v":""},null,null,null,null,{"$f":"IF(AE329=\"\",\"\",INDEX('OTRAS REFERENCIAS'!$N$6:$O$11,MATCH(AE329,'OTRAS REFERENCIAS'!$O$6:$O$11,0),1))","v":""},null,null,null,null,{"$f":"IF(AJ329=\"\",\"\",INDEX('OTRAS REFERENCIAS'!$Q$6:$R$11,MATCH(AJ329,'OTRAS REFERENCIAS'!$R$6:$R$11,0),1))","v":""},null,null,null,{"$f":"IF(AN329=\"\",\"\",INDEX('OTRAS REFERENCIAS'!$T$6:$U$11,MATCH(AN329,'OTRAS REFERENCIAS'!$U$6:$U$11,0),1))","v":""}]
[1,"",328,"","",{"$f":"IF(L330<>\"\",CONCATENATE(DIGITADOR!$B$2,$A$2,DIGITADOR!$M$1,A330),\"\")","v":""},null,null,"",{"$f":"IF(K330=\"\",\"\",INDEX('OTRAS REFERENCIAS'!$AL:$AM,MATCH(K330,'OTRAS REFERENCIAS'!$AL:$AL,0),2))","v":""},null,{"$f":"IF(J330=\"\",\"\",INDEX(REFERENTES!$A:$D,MATCH(J330,REFERENTES!$C:$C,0),3))","v":""},null,null,null,null,null,null,null,{"$f":"IF(U330=\"\",\"\",INDEX('OTRAS REFERENCIAS'!$H$6:$I$11,MATCH(U330,'OTRAS REFERENCIAS'!$I$6:$I$11,0),1))","v":""},null,null,null,null,{"$f":"IF(Z330=\"\",\"\",INDEX('OTRAS REFERENCIAS'!$K$6:$L$11,MATCH(Z330,'OTRAS REFERENCIAS'!$L$6:$L$11,0),1))","v":""},null,null,null,null,{"$f":"IF(AE330=\"\",\"\",INDEX('OTRAS REFERENCIAS'!$N$6:$O$11,MATCH(AE330,'OTRAS REFERENCIAS'!$O$6:$O$11,0),1))","v":""},null,null,null,null,{"$f":"IF(AJ330=\"\",\"\",INDEX('OTRAS REFERENCIAS'!$Q$6:$R$11,MATCH(AJ330,'OTRAS REFERENCIAS'!$R$6:$R$11,0),1))","v":""},null,null,null,{"$f":"IF(AN330=\"\",\"\",INDEX('OTRAS REFERENCIAS'!$T$6:$U$11,MATCH(AN330,'OTRAS REFERENCIAS'!$U$6:$U$11,0),1))","v":""}]
[1,"",329,"","",{"$f":"IF(L331<>\"\",CONCATENATE(DIGITADOR!$B$2,$A$2,DIGITADOR!$M$1,A331),\"\")","v":""},null,null,"",{"$f":"IF(K331=\"\",\"\",INDEX('OTRAS REFERENCIAS'!$AL:$AM,MATCH(K331,'OTRAS REFERENCIAS'!$AL:$AL,0),2))","v":""},null,{"$f":"IF(J331=\"\",\"\",INDEX(REFERENTES!$A:$D,MATCH(J331,REFERENTES!$C:$C,0),3))","v":""},null,null,null,null,null,null,null,{"$f":"IF(U331=\"\",\"\",INDEX('OTRAS REFERENCIAS'!$H$6:$I$11,MATCH(U331,'OTRAS REFERENCIAS'!$I$6:$I$11,0),1))","v":""},null,null,null,null,{"$f":"IF(Z331=\"\",\"\",INDEX('OTRAS REFERENCIAS'!$K$6:$L$11,MATCH(Z331,'OTRAS REFERENCIAS'!$L$6:$L$11,0),1))","v":""},null,null,null,null,{"$f":"IF(AE331=\"\",\"\",INDEX('OTRAS REFERENCIAS'!$N$6:$O$11,MATCH(AE331,'OTRAS REFERENCIAS'!$O$6:$O$11,0),1))","v":""},null,null,null,null,{"$f":"IF(AJ331=\"\",\"\",INDEX('OTRAS REFERENCIAS'!$Q$6:$R$11,MATCH(AJ331,'OTRAS REFERENCIAS'!$R$6:$R$11,0),1))","v":""},null,null,null,{"$f":"IF(AN331=\"\",\"\",INDEX('OTRAS REFERENCIAS'!$T$6:$U$11,MATCH(AN331,'OTRAS REFERENCIAS'!$U$6:$U$11,0),1))","v":""}]
[1,"",330,"","",{"$f":"IF(L332<>\"\",CONCATENATE(DIGITADOR!$B$2,$A$2,DIGITADOR!$M$1,A332),\"\")","v":""},null,null,"",{"$f":"IF(K332=\"\",\"\",INDEX('OTRAS REFERENCIAS'!$AL:$AM,MATCH(K332,'OTRAS REFERENCIAS'!$AL:$AL,0),2))","v":""},null,{"$f":"IF(J332=\"\",\"\",INDEX(REFERENTES!$A:$D,MATCH(J332,REFERENTES!$C:$C,0),3))","v":""},null,null,null,null,null,null,null,{"$f":"IF(U332=\"\",\"\",INDEX('OTRAS REFERENCIAS'!$H$6:$I$11,MATCH(U332,'OTRAS REFERENCIAS'!$I$6:$I$11,0),1))","v":""},null,null,null,null,{"$f":"IF(Z332=\"\",\"\",INDEX('OTRAS REFERENCIAS'!$K$6:$L$11,MATCH(Z332,'OTRAS REFERENCIAS'!$L$6:$L$11,0),1))","v":""},null,null,null,null,{"$f":"IF(AE332=\"\",\"\",INDEX('OTRAS REFERENCIAS'!$N$6:$O$11,MATCH(AE332,'OTRAS REFERENCIAS'!$O$6:$O$11,0),1))","v":""},null,null,null,null,{"$f":"IF(AJ332=\"\",\"\",INDEX('OTRAS REFERENCIAS'!$Q$6:$R$11,MATCH(AJ332,'OTRAS REFERENCIAS'!$R$6:$R$11,0),1))","v":""},null,null,null,{"$f":"IF(AN332=\"\",\"\",INDEX('OTRAS REFERENCIAS'!$T$6:$U$11,MATCH(AN332,'OTRAS REFERENCIAS'!$U$6:$U$11,0),1))","v":""}]
[1,"",331,"","",{"$f":"IF(L333<>\"\",CONCATENATE(DIGITADOR!$B$2,$A$2,DIGITADOR!$M$1,A333),\"\")","v":""},null,null,"",{"$f":"IF(K333=\"\",\"\",INDEX('OTRAS REFERENCIAS'!$AL:$AM,MATCH(K333,'OTRAS REFERENCIAS'!$AL:$AL,0),2))","v":""},null,{"$f":"IF(J333=\"\",\"\",INDEX(REFERENTES!$A:$D,MATCH(J333,REFERENTES!$C:$C,0),3))","v":""},null,null,null,null,null,null,null,{"$f":"IF(U333=\"\",\"\",INDEX('OTRAS REFERENCIAS'!$H$6:$I$11,MATCH(U333,'OTRAS REFERENCIAS'!$I$6:$I$11,0),1))","v":""},null,null,null,null,{"$f":"IF(Z333=\"\",\"\",INDEX('OTRAS REFERENCIAS'!$K$6:$L$11,MATCH(Z333,'OTRAS REFERENCIAS'!$L$6:$L$11,0),1))","v":""},null,null,null,null,{"$f":"IF(AE333=\"\",\"\",INDEX('OTRAS REFERENCIAS'!$N$6:$O$11,MATCH(AE333,'OTRAS REFERENCIAS'!$O$6:$O$11,0),1))","v":""},null,null,null,null,{"$f":"IF(AJ333=\"\",\"\",INDEX('OTRAS REFERENCIAS'!$Q$6:$R$11,MATCH(AJ333,'OTRAS REFERENCIAS'!$R$6:$R$11,0),1))","v":""},null,null,null,{"$f":"IF(AN333=\"\",\"\",INDEX('OTRAS REFERENCIAS'!$T$6:$U$11,MATCH(AN333,'OTRAS REFERENCIAS'!$U$6:$U$11,0),1))","v":""}]
[1,"",332,"","",{"$f":"IF(L334<>\"\",CONCATENATE(DIGITADOR!$B$2,$A$2,DIGITADOR!$M$1,A334),\"\")","v":""},null,null,"",{"$f":"IF(K334=\"\",\"\",INDEX('OTRAS REFERENCIAS'!$AL:$AM,MATCH(K334,'OTRAS REFERENCIAS'!$AL:$AL,0),2))","v":""},null,{"$f":"IF(J334=\"\",\"\",INDEX(REFERENTES!$A:$D,MATCH(J334,REFERENTES!$C:$C,0),3))","v":""},null,null,null,null,null,null,null,{"$f":"IF(U334=\"\",\"\",INDEX('OTRAS REFERENCIAS'!$H$6:$I$11,MATCH(U334,'OTRAS REFERENCIAS'!$I$6:$I$11,0),1))","v":""},null,null,null,null,{"$f":"IF(Z334=\"\",\"\",INDEX('OTRAS REFERENCIAS'!$K$6:$L$11,MATCH(Z334,'OTRAS REFERENCIAS'!$L$6:$L$11,0),1))","v":""},null,null,null,null,{"$f":"IF(AE334=\"\",\"\",INDEX('OTRAS REFERENCIAS'!$N$6:$O$11,MATCH(AE334,'OTRAS REFERENCIAS'!$O$6:$O$11,0),1))","v":""},null,null,null,null,{"$f":"IF(AJ334=\"\",\"\",INDEX('OTRAS REFERENCIAS'!$Q$6:$R$11,MATCH(AJ334,'OTRAS REFERENCIAS'!$R$6:$R$11,0),1))","v":""},null,null,null,{"$f":"IF(AN334=\"\",\"\",INDEX('OTRAS REFERENCIAS'!$T$6:$U$11,MATCH(AN334,'OTRAS REFERENCIAS'!$U$6:$U$11,0),1))","v":""}]
[1,"",333,"","",{"$f":"IF(L335<>\"\",CONCATENATE(DIGITADOR!$B$2,$A$2,DIGITADOR!$M$1,A335),\"\")","v":""},null,null,"",{"$f":"IF(K335=\"\",\"\",INDEX('OTRAS REFERENCIAS'!$AL:$AM,MATCH(K335,'OTRAS REFERENCIAS'!$AL:$AL,0),2))","v":""},null,{"$f":"IF(J335=\"\",\"\",INDEX(REFERENTES!$A:$D,MATCH(J335,REFERENTES!$C:$C,0),3))","v":""},null,null,null,null,null,null,null,{"$f":"IF(U335=\"\",\"\",INDEX('OTRAS REFERENCIAS'!$H$6:$I$11,MATCH(U335,'OTRAS REFERENCIAS'!$I$6:$I$11,0),1))","v":""},null,null,null,null,{"$f":"IF(Z335=\"\",\"\",INDEX('OTRAS REFERENCIAS'!$K$6:$L$11,MATCH(Z335,'OTRAS REFERENCIAS'!$L$6:$L$11,0),1))","v":""},null,null,null,null,{"$f":"IF(AE335=\"\",\"\",INDEX('OTRAS REFERENCIAS'!$N$6:$O$11,MATCH(AE335,'OTRAS REFERENCIAS'!$O$6:$O$11,0),1))","v":""},null,null,null,null,{"$f":"IF(AJ335=\"\",\"\",INDEX('OTRAS REFERENCIAS'!$Q$6:$R$11,MATCH(AJ335,'OTRAS REFERENCIAS'!$R$6:$R$11,0),1))","v":""},null,null,null,{"$f":"IF(AN335=\"\",\"\",INDEX('OTRAS REFERENCIAS'!$T$6:$U$11,MATCH(AN335,'OTRAS REFERENCIAS'!$U$6:$U$11,0),1))","v":""}]
[1,"",334,"","",{"$f":"IF(L336<>\"\",CONCATENATE(DIGITADOR!$B$2,$A$2,DIGITADOR!$M$1,A336),\"\")","v":""},null,null,"",{"$f":"IF(K336=\"\",\"\",INDEX('OTRAS REFERENCIAS'!$AL:$AM,MATCH(K336,'OTRAS REFERENCIAS'!$AL:$AL,0),2))","v":""},null,{"$f":"IF(J336=\"\",\"\",INDEX(REFERENTES!$A:$D,MATCH(J336,REFERENTES!$C:$C,0),3))","v":""},null,null,null,null,null,null,null,{"$f":"IF(U336=\"\",\"\",INDEX('OTRAS REFERENCIAS'!$H$6:$I$11,MATCH(U336,'OTRAS REFERENCIAS'!$I$6:$I$11,0),1))","v":""},null,null,null,null,{"$f":"IF(Z336=\"\",\"\",INDEX('OTRAS REFERENCIAS'!$K$6:$L$11,MATCH(Z336,'OTRAS REFERENCIAS'!$L$6:$L$11,0),1))","v":""},null,null,null,null,{"$f":"IF(AE336=\"\",\"\",INDEX('OTRAS REFERENCIAS'!$N$6:$O$11,MATCH(AE336,'OTRAS REFERENCIAS'!$O$6:$O$11,0),1))","v":""},null,null,null,null,{"$f":"IF(AJ336=\"\",\"\",INDEX('OTRAS REFERENCIAS'!$Q$6:$R$11,MATCH(AJ336,'OTRAS REFERENCIAS'!$R$6:$R$11,0),1))","v":""},null,null,null,{"$f":"IF(AN336=\"\",\"\",INDEX('OTRAS REFERENCIAS'!$T$6:$U$11,MATCH(AN336,'OTRAS REFERENCIAS'!$U$6:$U$11,0),1))","v":""}]
[1,"",335,"","",{"$f":"IF(L337<>\"\",CONCATENATE(DIGITADOR!$B$2,$A$2,DIGITADOR!$M$1,A337),\"\")","v":""},null,null,"",{"$f":"IF(K337=\"\",\"\",INDEX('OTRAS REFERENCIAS'!$AL:$AM,MATCH(K337,'OTRAS REFERENCIAS'!$AL:$AL,0),2))","v":""},null,{"$f":"IF(J337=\"\",\"\",INDEX(REFERENTES!$A:$D,MATCH(J337,REFERENTES!$C:$C,0),3))","v":""},null,null,null,null,null,null,null,{"$f":"IF(U337=\"\",\"\",INDEX('OTRAS REFERENCIAS'!$H$6:$I$11,MATCH(U337,'OTRAS REFERENCIAS'!$I$6:$I$11,0),1))","v":""},null,null,null,null,{"$f":"IF(Z337=\"\",\"\",INDEX('OTRAS REFERENCIAS'!$K$6:$L$11,MATCH(Z337,'OTRAS REFERENCIAS'!$L$6:$L$11,0),1))","v":""},null,null,null,null,{"$f":"IF(AE337=\"\",\"\",INDEX('OTRAS REFERENCIAS'!$N$6:$O$11,MATCH(AE337,'OTRAS REFERENCIAS'!$O$6:$O$11,0),1))","v":""},null,null,null,null,{"$f":"IF(AJ337=\"\",\"\",INDEX('OTRAS REFERENCIAS'!$Q$6:$R$11,MATCH(AJ337,'OTRAS REFERENCIAS'!$R$6:$R$11,0),1))","v":""},null,null,null,{"$f":"IF(AN337=\"\",\"\",INDEX('OTRAS REFERENCIAS'!$T$6:$U$11,MATCH(AN337,'OTRAS REFERENCIAS'!$U$6:$U$11,0),1))","v":""}]
[1,"",336,"","",{"$f":"IF(L338<>\"\",CONCATENATE(DIGITADOR!$B$2,$A$2,DIGITADOR!$M$1,A338),\"\")","v":""},null,null,"",{"$f":"IF(K338=\"\",\"\",INDEX('OTRAS REFERENCIAS'!$AL:$AM,MATCH(K338,'OTRAS REFERENCIAS'!$AL:$AL,0),2))","v":""},null,{"$f":"IF(J338=\"\",\"\",INDEX(REFERENTES!$A:$D,MATCH(J338,REFERENTES!$C:$C,0),3))","v":""},null,null,null,null,null,null,null,{"$f":"IF(U338=\"\",\"\",INDEX('OTRAS REFERENCIAS'!$H$6:$I$11,MATCH(U338,'OTRAS REFERENCIAS'!$I$6:$I$11,0),1))","v":""},null,null,null,null,{"$f":"IF(Z338=\"\",\"\",INDEX('OTRAS REFERENCIAS'!$K$6:$L$11,MATCH(Z338,'OTRAS REFERENCIAS'!$L$6:$L$11,0),1))","v":""},null,null,null,null,{"$f":"IF(AE338=\"\",\"\",INDEX('OTRAS REFERENCIAS'!$N$6:$O$11,MATCH(AE338,'OTRAS REFERENCIAS'!$O$6:$O$11,0),1))","v":""},null,null,null,null,{"$f":"IF(AJ338=\"\",\"\",INDEX('OTRAS REFERENCIAS'!$Q$6:$R$11,MATCH(AJ338,'OTRAS REFERENCIAS'!$R$6:$R$11,0),1))","v":""},null,null,null,{"$f":"IF(AN338=\"\",\"\",INDEX('OTRAS REFERENCIAS'!$T$6:$U$11,MATCH(AN338,'OTRAS REFERENCIAS'!$U$6:$U$11,0),1))","v":""}]
[1,"",337,"","",{"$f":"IF(L339<>\"\",CONCATENATE(DIGITADOR!$B$2,$A$2,DIGITADOR!$M$1,A339),\"\")","v":""},null,null,"",{"$f":"IF(K339=\"\",\"\",INDEX('OTRAS REFERENCIAS'!$AL:$AM,MATCH(K339,'OTRAS REFERENCIAS'!$AL:$AL,0),2))","v":""},null,{"$f":"IF(J339=\"\",\"\",INDEX(REFERENTES!$A:$D,MATCH(J339,REFERENTES!$C:$C,0),3))","v":""},null,null,null,null,null,null,null,{"$f":"IF(U339=\"\",\"\",INDEX('OTRAS REFERENCIAS'!$H$6:$I$11,MATCH(U339,'OTRAS REFERENCIAS'!$I$6:$I$11,0),1))","v":""},null,null,null,null,{"$f":"IF(Z339=\"\",\"\",INDEX('OTRAS REFERENCIAS'!$K$6:$L$11,MATCH(Z339,'OTRAS REFERENCIAS'!$L$6:$L$11,0),1))","v":""},null,null,null,null,{"$f":"IF(AE339=\"\",\"\",INDEX('OTRAS REFERENCIAS'!$N$6:$O$11,MATCH(AE339,'OTRAS REFERENCIAS'!$O$6:$O$11,0),1))","v":""},null,null,null,null,{"$f":"IF(AJ339=\"\",\"\",INDEX('OTRAS REFERENCIAS'!$Q$6:$R$11,MATCH(AJ339,'OTRAS REFERENCIAS'!$R$6:$R$11,0),1))","v":""},null,null,null,{"$f":"IF(AN339=\"\",\"\",INDEX('OTRAS REFERENCIAS'!$T$6:$U$11,MATCH(AN339,'OTRAS REFERENCIAS'!$U$6:$U$11,0),1))","v":""}]
[1,"",338,"","",{"$f":"IF(L340<>\"\",CONCATENATE(DIGITADOR!$B$2,$A$2,DIGITADOR!$M$1,A340),\"\")","v":""},null,null,"",{"$f":"IF(K340=\"\",\"\",INDEX('OTRAS REFERENCIAS'!$AL:$AM,MATCH(K340,'OTRAS REFERENCIAS'!$AL:$AL,0),2))","v":""},null,{"$f":"IF(J340=\"\",\"\",INDEX(REFERENTES!$A:$D,MATCH(J340,REFERENTES!$C:$C,0),3))","v":""},null,null,null,null,null,null,null,{"$f":"IF(U340=\"\",\"\",INDEX('OTRAS REFERENCIAS'!$H$6:$I$11,MATCH(U340,'OTRAS REFERENCIAS'!$I$6:$I$11,0),1))","v":""},null,null,null,null,{"$f":"IF(Z340=\"\",\"\",INDEX('OTRAS REFERENCIAS'!$K$6:$L$11,MATCH(Z340,'OTRAS REFERENCIAS'!$L$6:$L$11,0),1))","v":""},null,null,null,null,{"$f":"IF(AE340=\"\",\"\",INDEX('OTRAS REFERENCIAS'!$N$6:$O$11,MATCH(AE340,'OTRAS REFERENCIAS'!$O$6:$O$11,0),1))","v":""},null,null,null,null,{"$f":"IF(AJ340=\"\",\"\",INDEX('OTRAS REFERENCIAS'!$Q$6:$R$11,MATCH(AJ340,'OTRAS REFERENCIAS'!$R$6:$R$11,0),1))","v":""},null,null,null,{"$f":"IF(AN340=\"\",\"\",INDEX('OTRAS REFERENCIAS'!$T$6:$U$11,MATCH(AN340,'OTRAS REFERENCIAS'!$U$6:$U$11,0),1))","v":""}]
[1,"",339,"","",{"$f":"IF(L341<>\"\",CONCATENATE(DIGITADOR!$B$2,$A$2,DIGITADOR!$M$1,A341),\"\")","v":""},null,null,"",{"$f":"IF(K341=\"\",\"\",INDEX('OTRAS REFERENCIAS'!$AL:$AM,MATCH(K341,'OTRAS REFERENCIAS'!$AL:$AL,0),2))","v":""},null,{"$f":"IF(J341=\"\",\"\",INDEX(REFERENTES!$A:$D,MATCH(J341,REFERENTES!$C:$C,0),3))","v":""},null,null,null,null,null,null,null,{"$f":"IF(U341=\"\",\"\",INDEX('OTRAS REFERENCIAS'!$H$6:$I$11,MATCH(U341,'OTRAS REFERENCIAS'!$I$6:$I$11,0),1))","v":""},null,null,null,null,{"$f":"IF(Z341=\"\",\"\",INDEX('OTRAS REFERENCIAS'!$K$6:$L$11,MATCH(Z341,'OTRAS REFERENCIAS'!$L$6:$L$11,0),1))","v":""},null,null,null,null,{"$f":"IF(AE341=\"\",\"\",INDEX('OTRAS REFERENCIAS'!$N$6:$O$11,MATCH(AE341,'OTRAS REFERENCIAS'!$O$6:$O$11,0),1))","v":""},null,null,null,null,{"$f":"IF(AJ341=\"\",\"\",INDEX('OTRAS REFERENCIAS'!$Q$6:$R$11,MATCH(AJ341,'OTRAS REFERENCIAS'!$R$6:$R$11,0),1))","v":""},null,null,null,{"$f":"IF(AN341=\"\",\"\",INDEX('OTRAS REFERENCIAS'!$T$6:$U$11,MATCH(AN341,'OTRAS REFERENCIAS'!$U$6:$U$11,0),1))","v":""}]
[1,"",340,"","",{"$f":"IF(L342<>\"\",CONCATENATE(DIGITADOR!$B$2,$A$2,DIGITADOR!$M$1,A342),\"\")","v":""},null,null,"",{"$f":"IF(K342=\"\",\"\",INDEX('OTRAS REFERENCIAS'!$AL:$AM,MATCH(K342,'OTRAS REFERENCIAS'!$AL:$AL,0),2))","v":""},null,{"$f":"IF(J342=\"\",\"\",INDEX(REFERENTES!$A:$D,MATCH(J342,REFERENTES!$C:$C,0),3))","v":""},null,null,null,null,null,null,null,{"$f":"IF(U342=\"\",\"\",INDEX('OTRAS REFERENCIAS'!$H$6:$I$11,MATCH(U342,'OTRAS REFERENCIAS'!$I$6:$I$11,0),1))","v":""},null,null,null,null,{"$f":"IF(Z342=\"\",\"\",INDEX('OTRAS REFERENCIAS'!$K$6:$L$11,MATCH(Z342,'OTRAS REFERENCIAS'!$L$6:$L$11,0),1))","v":""},null,null,null,null,{"$f":"IF(AE342=\"\",\"\",INDEX('OTRAS REFERENCIAS'!$N$6:$O$11,MATCH(AE342,'OTRAS REFERENCIAS'!$O$6:$O$11,0),1))","v":""},null,null,null,null,{"$f":"IF(AJ342=\"\",\"\",INDEX('OTRAS REFERENCIAS'!$Q$6:$R$11,MATCH(AJ342,'OTRAS REFERENCIAS'!$R$6:$R$11,0),1))","v":""},null,null,null,{"$f":"IF(AN342=\"\",\"\",INDEX('OTRAS REFERENCIAS'!$T$6:$U$11,MATCH(AN342,'OTRAS REFERENCIAS'!$U$6:$U$11,0),1))","v":""}]
[1,"",341,"","",{"$f":"IF(L343<>\"\",CONCATENATE(DIGITADOR!$B$2,$A$2,DIGITADOR!$M$1,A343),\"\")","v":""},null,null,"",{"$f":"IF(K343=\"\",\"\",INDEX('OTRAS REFERENCIAS'!$AL:$AM,MATCH(K343,'OTRAS REFERENCIAS'!$AL:$AL,0),2))","v":""},null,{"$f":"IF(J343=\"\",\"\",INDEX(REFERENTES!$A:$D,MATCH(J343,REFERENTES!$C:$C,0),3))","v":""},null,null,null,null,null,null,null,{"$f":"IF(U343=\"\",\"\",INDEX('OTRAS REFERENCIAS'!$H$6:$I$11,MATCH(U343,'OTRAS REFERENCIAS'!$I$6:$I$11,0),1))","v":""},null,null,null,null,{"$f":"IF(Z343=\"\",\"\",INDEX('OTRAS REFERENCIAS'!$K$6:$L$11,MATCH(Z343,'OTRAS REFERENCIAS'!$L$6:$L$11,0),1))","v":""},null,null,null,null,{"$f":"IF(AE343=\"\",\"\",INDEX('OTRAS REFERENCIAS'!$N$6:$O$11,MATCH(AE343,'OTRAS REFERENCIAS'!$O$6:$O$11,0),1))","v":""},null,null,null,null,{"$f":"IF(AJ343=\"\",\"\",INDEX('OTRAS REFERENCIAS'!$Q$6:$R$11,MATCH(AJ343,'OTRAS REFERENCIAS'!$R$6:$R$11,0),1))","v":""},null,null,null,{"$f":"IF(AN343=\"\",\"\",INDEX('OTRAS REFERENCIAS'!$T$6:$U$11,MATCH(AN343,'OTRAS REFERENCIAS'!$U$6:$U$11,0),1))","v":""}]
[1,"",342,"","",{"$f":"IF(L344<>\"\",CONCATENATE(DIGITADOR!$B$2,$A$2,DIGITADOR!$M$1,A344),\"\")","v":""},null,null,"",{"$f":"IF(K344=\"\",\"\",INDEX('OTRAS REFERENCIAS'!$AL:$AM,MATCH(K344,'OTRAS REFERENCIAS'!$AL:$AL,0),2))","v":""},null,{"$f":"IF(J344=\"\",\"\",INDEX(REFERENTES!$A:$D,MATCH(J344,REFERENTES!$C:$C,0),3))","v":""},null,null,null,null,null,null,null,{"$f":"IF(U344=\"\",\"\",INDEX('OTRAS REFERENCIAS'!$H$6:$I$11,MATCH(U344,'OTRAS REFERENCIAS'!$I$6:$I$11,0),1))","v":""},null,null,null,null,{"$f":"IF(Z344=\"\",\"\",INDEX('OTRAS REFERENCIAS'!$K$6:$L$11,MATCH(Z344,'OTRAS REFERENCIAS'!$L$6:$L$11,0),1))","v":""},null,null,null,null,{"$f":"IF(AE344=\"\",\"\",INDEX('OTRAS REFERENCIAS'!$N$6:$O$11,MATCH(AE344,'OTRAS REFERENCIAS'!$O$6:$O$11,0),1))","v":""},null,null,null,null,{"$f":"IF(AJ344=\"\",\"\",INDEX('OTRAS REFERENCIAS'!$Q$6:$R$11,MATCH(AJ344,'OTRAS REFERENCIAS'!$R$6:$R$11,0),1))","v":""},null,null,null,{"$f":"IF(AN344=\"\",\"\",INDEX('OTRAS REFERENCIAS'!$T$6:$U$11,MATCH(AN344,'OTRAS REFERENCIAS'!$U$6:$U$11,0),1))","v":""}]
[1,"",343,"","",{"$f":"IF(L345<>\"\",CONCATENATE(DIGITADOR!$B$2,$A$2,DIGITADOR!$M$1,A345),\"\")","v":""},null,null,"",{"$f":"IF(K345=\"\",\"\",INDEX('OTRAS REFERENCIAS'!$AL:$AM,MATCH(K345,'OTRAS REFERENCIAS'!$AL:$AL,0),2))","v":""},null,{"$f":"IF(J345=\"\",\"\",INDEX(REFERENTES!$A:$D,MATCH(J345,REFERENTES!$C:$C,0),3))","v":""},null,null,null,null,null,null,null,{"$f":"IF(U345=\"\",\"\",INDEX('OTRAS REFERENCIAS'!$H$6:$I$11,MATCH(U345,'OTRAS REFERENCIAS'!$I$6:$I$11,0),1))","v":""},null,null,null,null,{"$f":"IF(Z345=\"\",\"\",INDEX('OTRAS REFERENCIAS'!$K$6:$L$11,MATCH(Z345,'OTRAS REFERENCIAS'!$L$6:$L$11,0),1))","v":""},null,null,null,null,{"$f":"IF(AE345=\"\",\"\",INDEX('OTRAS REFERENCIAS'!$N$6:$O$11,MATCH(AE345,'OTRAS REFERENCIAS'!$O$6:$O$11,0),1))","v":""},null,null,null,null,{"$f":"IF(AJ345=\"\",\"\",INDEX('OTRAS REFERENCIAS'!$Q$6:$R$11,MATCH(AJ345,'OTRAS REFERENCIAS'!$R$6:$R$11,0),1))","v":""},null,null,null,{"$f":"IF(AN345=\"\",\"\",INDEX('OTRAS REFERENCIAS'!$T$6:$U$11,MATCH(AN345,'OTRAS REFERENCIAS'!$U$6:$U$11,0),1))","v":""}]
[1,"",344,"","",{"$f":"IF(L346<>\"\",CONCATENATE(DIGITADOR!$B$2,$A$2,DIGITADOR!$M$1,A346),\"\")","v":""},null,null,"",{"$f":"IF(K346=\"\",\"\",INDEX('OTRAS REFERENCIAS'!$AL:$AM,MATCH(K346,'OTRAS REFERENCIAS'!$AL:$AL,0),2))","v":""},null,{"$f":"IF(J346=\"\",\"\",INDEX(REFERENTES!$A:$D,MATCH(J346,REFERENTES!$C:$C,0),3))","v":""},null,null,null,null,null,null,null,{"$f":"IF(U346=\"\",\"\",INDEX('OTRAS REFERENCIAS'!$H$6:$I$11,MATCH(U346,'OTRAS REFERENCIAS'!$I$6:$I$11,0),1))","v":""},null,null,null,null,{"$f":"IF(Z346=\"\",\"\",INDEX('OTRAS REFERENCIAS'!$K$6:$L$11,MATCH(Z346,'OTRAS REFERENCIAS'!$L$6:$L$11,0),1))","v":""},null,null,null,null,{"$f":"IF(AE346=\"\",\"\",INDEX('OTRAS REFERENCIAS'!$N$6:$O$11,MATCH(AE346,'OTRAS REFERENCIAS'!$O$6:$O$11,0),1))","v":""},null,null,null,null,{"$f":"IF(AJ346=\"\",\"\",INDEX('OTRAS REFERENCIAS'!$Q$6:$R$11,MATCH(AJ346,'OTRAS REFERENCIAS'!$R$6:$R$11,0),1))","v":""},null,null,null,{"$f":"IF(AN346=\"\",\"\",INDEX('OTRAS REFERENCIAS'!$T$6:$U$11,MATCH(AN346,'OTRAS REFERENCIAS'!$U$6:$U$11,0),1))","v":""}]
[1,"",345,"","",{"$f":"IF(L347<>\"\",CONCATENATE(DIGITADOR!$B$2,$A$2,DIGITADOR!$M$1,A347),\"\")","v":""},null,null,"",{"$f":"IF(K347=\"\",\"\",INDEX('OTRAS REFERENCIAS'!$AL:$AM,MATCH(K347,'OTRAS REFERENCIAS'!$AL:$AL,0),2))","v":""},null,{"$f":"IF(J347=\"\",\"\",INDEX(REFERENTES!$A:$D,MATCH(J347,REFERENTES!$C:$C,0),3))","v":""},null,null,null,null,null,null,null,{"$f":"IF(U347=\"\",\"\",INDEX('OTRAS REFERENCIAS'!$H$6:$I$11,MATCH(U347,'OTRAS REFERENCIAS'!$I$6:$I$11,0),1))","v":""},null,null,null,null,{"$f":"IF(Z347=\"\",\"\",INDEX('OTRAS REFERENCIAS'!$K$6:$L$11,MATCH(Z347,'OTRAS REFERENCIAS'!$L$6:$L$11,0),1))","v":""},null,null,null,null,{"$f":"IF(AE347=\"\",\"\",INDEX('OTRAS REFERENCIAS'!$N$6:$O$11,MATCH(AE347,'OTRAS REFERENCIAS'!$O$6:$O$11,0),1))","v":""},null,null,null,null,{"$f":"IF(AJ347=\"\",\"\",INDEX('OTRAS REFERENCIAS'!$Q$6:$R$11,MATCH(AJ347,'OTRAS REFERENCIAS'!$R$6:$R$11,0),1))","v":""},null,null,null,{"$f":"IF(AN347=\"\",\"\",INDEX('OTRAS REFERENCIAS'!$T$6:$U$11,MATCH(AN347,'OTRAS REFERENCIAS'!$U$6:$U$11,0),1))","v":""}]
[1,"",346,"","",{"$f":"IF(L348<>\"\",CONCATENATE(DIGITADOR!$B$2,$A$2,DIGITADOR!$M$1,A348),\"\")","v":""},null,null,"",{"$f":"IF(K348=\"\",\"\",INDEX('OTRAS REFERENCIAS'!$AL:$AM,MATCH(K348,'OTRAS REFERENCIAS'!$AL:$AL,0),2))","v":""},null,{"$f":"IF(J348=\"\",\"\",INDEX(REFERENTES!$A:$D,MATCH(J348,REFERENTES!$C:$C,0),3))","v":""},null,null,null,null,null,null,null,{"$f":"IF(U348=\"\",\"\",INDEX('OTRAS REFERENCIAS'!$H$6:$I$11,MATCH(U348,'OTRAS REFERENCIAS'!$I$6:$I$11,0),1))","v":""},null,null,null,null,{"$f":"IF(Z348=\"\",\"\",INDEX('OTRAS REFERENCIAS'!$K$6:$L$11,MATCH(Z348,'OTRAS REFERENCIAS'!$L$6:$L$11,0),1))","v":""},null,null,null,null,{"$f":"IF(AE348=\"\",\"\",INDEX('OTRAS REFERENCIAS'!$N$6:$O$11,MATCH(AE348,'OTRAS REFERENCIAS'!$O$6:$O$11,0),1))","v":""},null,null,null,null,{"$f":"IF(AJ348=\"\",\"\",INDEX('OTRAS REFERENCIAS'!$Q$6:$R$11,MATCH(AJ348,'OTRAS REFERENCIAS'!$R$6:$R$11,0),1))","v":""},null,null,null,{"$f":"IF(AN348=\"\",\"\",INDEX('OTRAS REFERENCIAS'!$T$6:$U$11,MATCH(AN348,'OTRAS REFERENCIAS'!$U$6:$U$11,0),1))","v":""}]
[1,"",347,"","",{"$f":"IF(L349<>\"\",CONCATENATE(DIGITADOR!$B$2,$A$2,DIGITADOR!$M$1,A349),\"\")","v":""},null,null,"",{"$f":"IF(K349=\"\",\"\",INDEX('OTRAS REFERENCIAS'!$AL:$AM,MATCH(K349,'OTRAS REFERENCIAS'!$AL:$AL,0),2))","v":""},null,{"$f":"IF(J349=\"\",\"\",INDEX(REFERENTES!$A:$D,MATCH(J349,REFERENTES!$C:$C,0),3))","v":""},null,null,null,null,null,null,null,{"$f":"IF(U349=\"\",\"\",INDEX('OTRAS REFERENCIAS'!$H$6:$I$11,MATCH(U349,'OTRAS REFERENCIAS'!$I$6:$I$11,0),1))","v":""},null,null,null,null,{"$f":"IF(Z349=\"\",\"\",INDEX('OTRAS REFERENCIAS'!$K$6:$L$11,MATCH(Z349,'OTRAS REFERENCIAS'!$L$6:$L$11,0),1))","v":""},null,null,null,null,{"$f":"IF(AE349=\"\",\"\",INDEX('OTRAS REFERENCIAS'!$N$6:$O$11,MATCH(AE349,'OTRAS REFERENCIAS'!$O$6:$O$11,0),1))","v":""},null,null,null,null,{"$f":"IF(AJ349=\"\",\"\",INDEX('OTRAS REFERENCIAS'!$Q$6:$R$11,MATCH(AJ349,'OTRAS REFERENCIAS'!$R$6:$R$11,0),1))","v":""},null,null,null,{"$f":"IF(AN349=\"\",\"\",INDEX('OTRAS REFERENCIAS'!$T$6:$U$11,MATCH(AN349,'OTRAS REFERENCIAS'!$U$6:$U$11,0),1))","v":""}]
[1,"",348,"","",{"$f":"IF(L350<>\"\",CONCATENATE(DIGITADOR!$B$2,$A$2,DIGITADOR!$M$1,A350),\"\")","v":""},null,null,"",{"$f":"IF(K350=\"\",\"\",INDEX('OTRAS REFERENCIAS'!$AL:$AM,MATCH(K350,'OTRAS REFERENCIAS'!$AL:$AL,0),2))","v":""},null,{"$f":"IF(J350=\"\",\"\",INDEX(REFERENTES!$A:$D,MATCH(J350,REFERENTES!$C:$C,0),3))","v":""},null,null,null,null,null,null,null,{"$f":"IF(U350=\"\",\"\",INDEX('OTRAS REFERENCIAS'!$H$6:$I$11,MATCH(U350,'OTRAS REFERENCIAS'!$I$6:$I$11,0),1))","v":""},null,null,null,null,{"$f":"IF(Z350=\"\",\"\",INDEX('OTRAS REFERENCIAS'!$K$6:$L$11,MATCH(Z350,'OTRAS REFERENCIAS'!$L$6:$L$11,0),1))","v":""},null,null,null,null,{"$f":"IF(AE350=\"\",\"\",INDEX('OTRAS REFERENCIAS'!$N$6:$O$11,MATCH(AE350,'OTRAS REFERENCIAS'!$O$6:$O$11,0),1))","v":""},null,null,null,null,{"$f":"IF(AJ350=\"\",\"\",INDEX('OTRAS REFERENCIAS'!$Q$6:$R$11,MATCH(AJ350,'OTRAS REFERENCIAS'!$R$6:$R$11,0),1))","v":""},null,null,null,{"$f":"IF(AN350=\"\",\"\",INDEX('OTRAS REFERENCIAS'!$T$6:$U$11,MATCH(AN350,'OTRAS REFERENCIAS'!$U$6:$U$11,0),1))","v":""}]
[1,"",349,"","",{"$f":"IF(L351<>\"\",CONCATENATE(DIGITADOR!$B$2,$A$2,DIGITADOR!$M$1,A351),\"\")","v":""},null,null,"",{"$f":"IF(K351=\"\",\"\",INDEX('OTRAS REFERENCIAS'!$AL:$AM,MATCH(K351,'OTRAS REFERENCIAS'!$AL:$AL,0),2))","v":""},null,{"$f":"IF(J351=\"\",\"\",INDEX(REFERENTES!$A:$D,MATCH(J351,REFERENTES!$C:$C,0),3))","v":""},null,null,null,null,null,null,null,{"$f":"IF(U351=\"\",\"\",INDEX('OTRAS REFERENCIAS'!$H$6:$I$11,MATCH(U351,'OTRAS REFERENCIAS'!$I$6:$I$11,0),1))","v":""},null,null,null,null,{"$f":"IF(Z351=\"\",\"\",INDEX('OTRAS REFERENCIAS'!$K$6:$L$11,MATCH(Z351,'OTRAS REFERENCIAS'!$L$6:$L$11,0),1))","v":""},null,null,null,null,{"$f":"IF(AE351=\"\",\"\",INDEX('OTRAS REFERENCIAS'!$N$6:$O$11,MATCH(AE351,'OTRAS REFERENCIAS'!$O$6:$O$11,0),1))","v":""},null,null,null,null,{"$f":"IF(AJ351=\"\",\"\",INDEX('OTRAS REFERENCIAS'!$Q$6:$R$11,MATCH(AJ351,'OTRAS REFERENCIAS'!$R$6:$R$11,0),1))","v":""},null,null,null,{"$f":"IF(AN351=\"\",\"\",INDEX('OTRAS REFERENCIAS'!$T$6:$U$11,MATCH(AN351,'OTRAS REFERENCIAS'!$U$6:$U$11,0),1))","v":""}]
[1,"",350,"","",{"$f":"IF(L352<>\"\",CONCATENATE(DIGITADOR!$B$2,$A$2,DIGITADOR!$M$1,A352),\"\")","v":""},null,null,"",{"$f":"IF(K352=\"\",\"\",INDEX('OTRAS REFERENCIAS'!$AL:$AM,MATCH(K352,'OTRAS REFERENCIAS'!$AL:$AL,0),2))","v":""},null,{"$f":"IF(J352=\"\",\"\",INDEX(REFERENTES!$A:$D,MATCH(J352,REFERENTES!$C:$C,0),3))","v":""},null,null,null,null,null,null,null,{"$f":"IF(U352=\"\",\"\",INDEX('OTRAS REFERENCIAS'!$H$6:$I$11,MATCH(U352,'OTRAS REFERENCIAS'!$I$6:$I$11,0),1))","v":""},null,null,null,null,{"$f":"IF(Z352=\"\",\"\",INDEX('OTRAS REFERENCIAS'!$K$6:$L$11,MATCH(Z352,'OTRAS REFERENCIAS'!$L$6:$L$11,0),1))","v":""},null,null,null,null,{"$f":"IF(AE352=\"\",\"\",INDEX('OTRAS REFERENCIAS'!$N$6:$O$11,MATCH(AE352,'OTRAS REFERENCIAS'!$O$6:$O$11,0),1))","v":""},null,null,null,null,{"$f":"IF(AJ352=\"\",\"\",INDEX('OTRAS REFERENCIAS'!$Q$6:$R$11,MATCH(AJ352,'OTRAS REFERENCIAS'!$R$6:$R$11,0),1))","v":""},null,null,null,{"$f":"IF(AN352=\"\",\"\",INDEX('OTRAS REFERENCIAS'!$T$6:$U$11,MATCH(AN352,'OTRAS REFERENCIAS'!$U$6:$U$11,0),1))","v":""}]
[1,"",351,"","",{"$f":"IF(L353<>\"\",CONCATENATE(DIGITADOR!$B$2,$A$2,DIGITADOR!$M$1,A353),\"\")","v":""},null,null,"",{"$f":"IF(K353=\"\",\"\",INDEX('OTRAS REFERENCIAS'!$AL:$AM,MATCH(K353,'OTRAS REFERENCIAS'!$AL:$AL,0),2))","v":""},null,{"$f":"IF(J353=\"\",\"\",INDEX(REFERENTES!$A:$D,MATCH(J353,REFERENTES!$C:$C,0),3))","v":""},null,null,null,null,null,null,null,{"$f":"IF(U353=\"\",\"\",INDEX('OTRAS REFERENCIAS'!$H$6:$I$11,MATCH(U353,'OTRAS REFERENCIAS'!$I$6:$I$11,0),1))","v":""},null,null,null,null,{"$f":"IF(Z353=\"\",\"\",INDEX('OTRAS REFERENCIAS'!$K$6:$L$11,MATCH(Z353,'OTRAS REFERENCIAS'!$L$6:$L$11,0),1))","v":""},null,null,null,null,{"$f":"IF(AE353=\"\",\"\",INDEX('OTRAS REFERENCIAS'!$N$6:$O$11,MATCH(AE353,'OTRAS REFERENCIAS'!$O$6:$O$11,0),1))","v":""},null,null,null,null,{"$f":"IF(AJ353=\"\",\"\",INDEX('OTRAS REFERENCIAS'!$Q$6:$R$11,MATCH(AJ353,'OTRAS REFERENCIAS'!$R$6:$R$11,0),1))","v":""},null,null,null,{"$f":"IF(AN353=\"\",\"\",INDEX('OTRAS REFERENCIAS'!$T$6:$U$11,MATCH(AN353,'OTRAS REFERENCIAS'!$U$6:$U$11,0),1))","v":""}]
[1,"",352,"","",{"$f":"IF(L354<>\"\",CONCATENATE(DIGITADOR!$B$2,$A$2,DIGITADOR!$M$1,A354),\"\")","v":""},null,null,"",{"$f":"IF(K354=\"\",\"\",INDEX('OTRAS REFERENCIAS'!$AL:$AM,MATCH(K354,'OTRAS REFERENCIAS'!$AL:$AL,0),2))","v":""},null,{"$f":"IF(J354=\"\",\"\",INDEX(REFERENTES!$A:$D,MATCH(J354,REFERENTES!$C:$C,0),3))","v":""},null,null,null,null,null,null,null,{"$f":"IF(U354=\"\",\"\",INDEX('OTRAS REFERENCIAS'!$H$6:$I$11,MATCH(U354,'OTRAS REFERENCIAS'!$I$6:$I$11,0),1))","v":""},null,null,null,null,{"$f":"IF(Z354=\"\",\"\",INDEX('OTRAS REFERENCIAS'!$K$6:$L$11,MATCH(Z354,'OTRAS REFERENCIAS'!$L$6:$L$11,0),1))","v":""},null,null,null,null,{"$f":"IF(AE354=\"\",\"\",INDEX('OTRAS REFERENCIAS'!$N$6:$O$11,MATCH(AE354,'OTRAS REFERENCIAS'!$O$6:$O$11,0),1))","v":""},null,null,null,null,{"$f":"IF(AJ354=\"\",\"\",INDEX('OTRAS REFERENCIAS'!$Q$6:$R$11,MATCH(AJ354,'OTRAS REFERENCIAS'!$R$6:$R$11,0),1))","v":""},null,null,null,{"$f":"IF(AN354=\"\",\"\",INDEX('OTRAS REFERENCIAS'!$T$6:$U$11,MATCH(AN354,'OTRAS REFERENCIAS'!$U$6:$U$11,0),1))","v":""}]
[1,"",353,"","",{"$f":"IF(L355<>\"\",CONCATENATE(DIGITADOR!$B$2,$A$2,DIGITADOR!$M$1,A355),\"\")","v":""},null,null,"",{"$f":"IF(K355=\"\",\"\",INDEX('OTRAS REFERENCIAS'!$AL:$AM,MATCH(K355,'OTRAS REFERENCIAS'!$AL:$AL,0),2))","v":""},null,{"$f":"IF(J355=\"\",\"\",INDEX(REFERENTES!$A:$D,MATCH(J355,REFERENTES!$C:$C,0),3))","v":""},null,null,null,null,null,null,null,{"$f":"IF(U355=\"\",\"\",INDEX('OTRAS REFERENCIAS'!$H$6:$I$11,MATCH(U355,'OTRAS REFERENCIAS'!$I$6:$I$11,0),1))","v":""},null,null,null,null,{"$f":"IF(Z355=\"\",\"\",INDEX('OTRAS REFERENCIAS'!$K$6:$L$11,MATCH(Z355,'OTRAS REFERENCIAS'!$L$6:$L$11,0),1))","v":""},null,null,null,null,{"$f":"IF(AE355=\"\",\"\",INDEX('OTRAS REFERENCIAS'!$N$6:$O$11,MATCH(AE355,'OTRAS REFERENCIAS'!$O$6:$O$11,0),1))","v":""},null,null,null,null,{"$f":"IF(AJ355=\"\",\"\",INDEX('OTRAS REFERENCIAS'!$Q$6:$R$11,MATCH(AJ355,'OTRAS REFERENCIAS'!$R$6:$R$11,0),1))","v":""},null,null,null,{"$f":"IF(AN355=\"\",\"\",INDEX('OTRAS REFERENCIAS'!$T$6:$U$11,MATCH(AN355,'OTRAS REFERENCIAS'!$U$6:$U$11,0),1))","v":""}]
[1,"",354,"","",{"$f":"IF(L356<>\"\",CONCATENATE(DIGITADOR!$B$2,$A$2,DIGITADOR!$M$1,A356),\"\")","v":""},null,null,"",{"$f":"IF(K356=\"\",\"\",INDEX('OTRAS REFERENCIAS'!$AL:$AM,MATCH(K356,'OTRAS REFERENCIAS'!$AL:$AL,0),2))","v":""},null,{"$f":"IF(J356=\"\",\"\",INDEX(REFERENTES!$A:$D,MATCH(J356,REFERENTES!$C:$C,0),3))","v":""},null,null,null,null,null,null,null,{"$f":"IF(U356=\"\",\"\",INDEX('OTRAS REFERENCIAS'!$H$6:$I$11,MATCH(U356,'OTRAS REFERENCIAS'!$I$6:$I$11,0),1))","v":""},null,null,null,null,{"$f":"IF(Z356=\"\",\"\",INDEX('OTRAS REFERENCIAS'!$K$6:$L$11,MATCH(Z356,'OTRAS REFERENCIAS'!$L$6:$L$11,0),1))","v":""},null,null,null,null,{"$f":"IF(AE356=\"\",\"\",INDEX('OTRAS REFERENCIAS'!$N$6:$O$11,MATCH(AE356,'OTRAS REFERENCIAS'!$O$6:$O$11,0),1))","v":""},null,null,null,null,{"$f":"IF(AJ356=\"\",\"\",INDEX('OTRAS REFERENCIAS'!$Q$6:$R$11,MATCH(AJ356,'OTRAS REFERENCIAS'!$R$6:$R$11,0),1))","v":""},null,null,null,{"$f":"IF(AN356=\"\",\"\",INDEX('OTRAS REFERENCIAS'!$T$6:$U$11,MATCH(AN356,'OTRAS REFERENCIAS'!$U$6:$U$11,0),1))","v":""}]
[1,"",355,"","",{"$f":"IF(L357<>\"\",CONCATENATE(DIGITADOR!$B$2,$A$2,DIGITADOR!$M$1,A357),\"\")","v":""},null,null,"",{"$f":"IF(K357=\"\",\"\",INDEX('OTRAS REFERENCIAS'!$AL:$AM,MATCH(K357,'OTRAS REFERENCIAS'!$AL:$AL,0),2))","v":""},null,{"$f":"IF(J357=\"\",\"\",INDEX(REFERENTES!$A:$D,MATCH(J357,REFERENTES!$C:$C,0),3))","v":""},null,null,null,null,null,null,null,{"$f":"IF(U357=\"\",\"\",INDEX('OTRAS REFERENCIAS'!$H$6:$I$11,MATCH(U357,'OTRAS REFERENCIAS'!$I$6:$I$11,0),1))","v":""},null,null,null,null,{"$f":"IF(Z357=\"\",\"\",INDEX('OTRAS REFERENCIAS'!$K$6:$L$11,MATCH(Z357,'OTRAS REFERENCIAS'!$L$6:$L$11,0),1))","v":""},null,null,null,null,{"$f":"IF(AE357=\"\",\"\",INDEX('OTRAS REFERENCIAS'!$N$6:$O$11,MATCH(AE357,'OTRAS REFERENCIAS'!$O$6:$O$11,0),1))","v":""},null,null,null,null,{"$f":"IF(AJ357=\"\",\"\",INDEX('OTRAS REFERENCIAS'!$Q$6:$R$11,MATCH(AJ357,'OTRAS REFERENCIAS'!$R$6:$R$11,0),1))","v":""},null,null,null,{"$f":"IF(AN357=\"\",\"\",INDEX('OTRAS REFERENCIAS'!$T$6:$U$11,MATCH(AN357,'OTRAS REFERENCIAS'!$U$6:$U$11,0),1))","v":""}]
[1,"",356,"","",{"$f":"IF(L358<>\"\",CONCATENATE(DIGITADOR!$B$2,$A$2,DIGITADOR!$M$1,A358),\"\")","v":""},null,null,"",{"$f":"IF(K358=\"\",\"\",INDEX('OTRAS REFERENCIAS'!$AL:$AM,MATCH(K358,'OTRAS REFERENCIAS'!$AL:$AL,0),2))","v":""},null,{"$f":"IF(J358=\"\",\"\",INDEX(REFERENTES!$A:$D,MATCH(J358,REFERENTES!$C:$C,0),3))","v":""},null,null,null,null,null,null,null,{"$f":"IF(U358=\"\",\"\",INDEX('OTRAS REFERENCIAS'!$H$6:$I$11,MATCH(U358,'OTRAS REFERENCIAS'!$I$6:$I$11,0),1))","v":""},null,null,null,null,{"$f":"IF(Z358=\"\",\"\",INDEX('OTRAS REFERENCIAS'!$K$6:$L$11,MATCH(Z358,'OTRAS REFERENCIAS'!$L$6:$L$11,0),1))","v":""},null,null,null,null,{"$f":"IF(AE358=\"\",\"\",INDEX('OTRAS REFERENCIAS'!$N$6:$O$11,MATCH(AE358,'OTRAS REFERENCIAS'!$O$6:$O$11,0),1))","v":""},null,null,null,null,{"$f":"IF(AJ358=\"\",\"\",INDEX('OTRAS REFERENCIAS'!$Q$6:$R$11,MATCH(AJ358,'OTRAS REFERENCIAS'!$R$6:$R$11,0),1))","v":""},null,null,null,{"$f":"IF(AN358=\"\",\"\",INDEX('OTRAS REFERENCIAS'!$T$6:$U$11,MATCH(AN358,'OTRAS REFERENCIAS'!$U$6:$U$11,0),1))","v":""}]
[1,"",357,"","",{"$f":"IF(L359<>\"\",CONCATENATE(DIGITADOR!$B$2,$A$2,DIGITADOR!$M$1,A359),\"\")","v":""},null,null,"",{"$f":"IF(K359=\"\",\"\",INDEX('OTRAS REFERENCIAS'!$AL:$AM,MATCH(K359,'OTRAS REFERENCIAS'!$AL:$AL,0),2))","v":""},null,{"$f":"IF(J359=\"\",\"\",INDEX(REFERENTES!$A:$D,MATCH(J359,REFERENTES!$C:$C,0),3))","v":""},null,null,null,null,null,null,null,{"$f":"IF(U359=\"\",\"\",INDEX('OTRAS REFERENCIAS'!$H$6:$I$11,MATCH(U359,'OTRAS REFERENCIAS'!$I$6:$I$11,0),1))","v":""},null,null,null,null,{"$f":"IF(Z359=\"\",\"\",INDEX('OTRAS REFERENCIAS'!$K$6:$L$11,MATCH(Z359,'OTRAS REFERENCIAS'!$L$6:$L$11,0),1))","v":""},null,null,null,null,{"$f":"IF(AE359=\"\",\"\",INDEX('OTRAS REFERENCIAS'!$N$6:$O$11,MATCH(AE359,'OTRAS REFERENCIAS'!$O$6:$O$11,0),1))","v":""},null,null,null,null,{"$f":"IF(AJ359=\"\",\"\",INDEX('OTRAS REFERENCIAS'!$Q$6:$R$11,MATCH(AJ359,'OTRAS REFERENCIAS'!$R$6:$R$11,0),1))","v":""},null,null,null,{"$f":"IF(AN359=\"\",\"\",INDEX('OTRAS REFERENCIAS'!$T$6:$U$11,MATCH(AN359,'OTRAS REFERENCIAS'!$U$6:$U$11,0),1))","v":""}]
[1,"",358,"","",{"$f":"IF(L360<>\"\",CONCATENATE(DIGITADOR!$B$2,$A$2,DIGITADOR!$M$1,A360),\"\")","v":""},null,null,"",{"$f":"IF(K360=\"\",\"\",INDEX('OTRAS REFERENCIAS'!$AL:$AM,MATCH(K360,'OTRAS REFERENCIAS'!$AL:$AL,0),2))","v":""},null,{"$f":"IF(J360=\"\",\"\",INDEX(REFERENTES!$A:$D,MATCH(J360,REFERENTES!$C:$C,0),3))","v":""},null,null,null,null,null,null,null,{"$f":"IF(U360=\"\",\"\",INDEX('OTRAS REFERENCIAS'!$H$6:$I$11,MATCH(U360,'OTRAS REFERENCIAS'!$I$6:$I$11,0),1))","v":""},null,null,null,null,{"$f":"IF(Z360=\"\",\"\",INDEX('OTRAS REFERENCIAS'!$K$6:$L$11,MATCH(Z360,'OTRAS REFERENCIAS'!$L$6:$L$11,0),1))","v":""},null,null,null,null,{"$f":"IF(AE360=\"\",\"\",INDEX('OTRAS REFERENCIAS'!$N$6:$O$11,MATCH(AE360,'OTRAS REFERENCIAS'!$O$6:$O$11,0),1))","v":""},null,null,null,null,{"$f":"IF(AJ360=\"\",\"\",INDEX('OTRAS REFERENCIAS'!$Q$6:$R$11,MATCH(AJ360,'OTRAS REFERENCIAS'!$R$6:$R$11,0),1))","v":""},null,null,null,{"$f":"IF(AN360=\"\",\"\",INDEX('OTRAS REFERENCIAS'!$T$6:$U$11,MATCH(AN360,'OTRAS REFERENCIAS'!$U$6:$U$11,0),1))","v":""}]
[1,"",359,"","",{"$f":"IF(L361<>\"\",CONCATENATE(DIGITADOR!$B$2,$A$2,DIGITADOR!$M$1,A361),\"\")","v":""},null,null,"",{"$f":"IF(K361=\"\",\"\",INDEX('OTRAS REFERENCIAS'!$AL:$AM,MATCH(K361,'OTRAS REFERENCIAS'!$AL:$AL,0),2))","v":""},null,{"$f":"IF(J361=\"\",\"\",INDEX(REFERENTES!$A:$D,MATCH(J361,REFERENTES!$C:$C,0),3))","v":""},null,null,null,null,null,null,null,{"$f":"IF(U361=\"\",\"\",INDEX('OTRAS REFERENCIAS'!$H$6:$I$11,MATCH(U361,'OTRAS REFERENCIAS'!$I$6:$I$11,0),1))","v":""},null,null,null,null,{"$f":"IF(Z361=\"\",\"\",INDEX('OTRAS REFERENCIAS'!$K$6:$L$11,MATCH(Z361,'OTRAS REFERENCIAS'!$L$6:$L$11,0),1))","v":""},null,null,null,null,{"$f":"IF(AE361=\"\",\"\",INDEX('OTRAS REFERENCIAS'!$N$6:$O$11,MATCH(AE361,'OTRAS REFERENCIAS'!$O$6:$O$11,0),1))","v":""},null,null,null,null,{"$f":"IF(AJ361=\"\",\"\",INDEX('OTRAS REFERENCIAS'!$Q$6:$R$11,MATCH(AJ361,'OTRAS REFERENCIAS'!$R$6:$R$11,0),1))","v":""},null,null,null,{"$f":"IF(AN361=\"\",\"\",INDEX('OTRAS REFERENCIAS'!$T$6:$U$11,MATCH(AN361,'OTRAS REFERENCIAS'!$U$6:$U$11,0),1))","v":""}]
[1,"",360,"","",{"$f":"IF(L362<>\"\",CONCATENATE(DIGITADOR!$B$2,$A$2,DIGITADOR!$M$1,A362),\"\")","v":""},null,null,"",{"$f":"IF(K362=\"\",\"\",INDEX('OTRAS REFERENCIAS'!$AL:$AM,MATCH(K362,'OTRAS REFERENCIAS'!$AL:$AL,0),2))","v":""},null,{"$f":"IF(J362=\"\",\"\",INDEX(REFERENTES!$A:$D,MATCH(J362,REFERENTES!$C:$C,0),3))","v":""},null,null,null,null,null,null,null,{"$f":"IF(U362=\"\",\"\",INDEX('OTRAS REFERENCIAS'!$H$6:$I$11,MATCH(U362,'OTRAS REFERENCIAS'!$I$6:$I$11,0),1))","v":""},null,null,null,null,{"$f":"IF(Z362=\"\",\"\",INDEX('OTRAS REFERENCIAS'!$K$6:$L$11,MATCH(Z362,'OTRAS REFERENCIAS'!$L$6:$L$11,0),1))","v":""},null,null,null,null,{"$f":"IF(AE362=\"\",\"\",INDEX('OTRAS REFERENCIAS'!$N$6:$O$11,MATCH(AE362,'OTRAS REFERENCIAS'!$O$6:$O$11,0),1))","v":""},null,null,null,null,{"$f":"IF(AJ362=\"\",\"\",INDEX('OTRAS REFERENCIAS'!$Q$6:$R$11,MATCH(AJ362,'OTRAS REFERENCIAS'!$R$6:$R$11,0),1))","v":""},null,null,null,{"$f":"IF(AN362=\"\",\"\",INDEX('OTRAS REFERENCIAS'!$T$6:$U$11,MATCH(AN362,'OTRAS REFERENCIAS'!$U$6:$U$11,0),1))","v":""}]
[1,"",361,"","",{"$f":"IF(L363<>\"\",CONCATENATE(DIGITADOR!$B$2,$A$2,DIGITADOR!$M$1,A363),\"\")","v":""},null,null,"",{"$f":"IF(K363=\"\",\"\",INDEX('OTRAS REFERENCIAS'!$AL:$AM,MATCH(K363,'OTRAS REFERENCIAS'!$AL:$AL,0),2))","v":""},null,{"$f":"IF(J363=\"\",\"\",INDEX(REFERENTES!$A:$D,MATCH(J363,REFERENTES!$C:$C,0),3))","v":""},null,null,null,null,null,null,null,{"$f":"IF(U363=\"\",\"\",INDEX('OTRAS REFERENCIAS'!$H$6:$I$11,MATCH(U363,'OTRAS REFERENCIAS'!$I$6:$I$11,0),1))","v":""},null,null,null,null,{"$f":"IF(Z363=\"\",\"\",INDEX('OTRAS REFERENCIAS'!$K$6:$L$11,MATCH(Z363,'OTRAS REFERENCIAS'!$L$6:$L$11,0),1))","v":""},null,null,null,null,{"$f":"IF(AE363=\"\",\"\",INDEX('OTRAS REFERENCIAS'!$N$6:$O$11,MATCH(AE363,'OTRAS REFERENCIAS'!$O$6:$O$11,0),1))","v":""},null,null,null,null,{"$f":"IF(AJ363=\"\",\"\",INDEX('OTRAS REFERENCIAS'!$Q$6:$R$11,MATCH(AJ363,'OTRAS REFERENCIAS'!$R$6:$R$11,0),1))","v":""},null,null,null,{"$f":"IF(AN363=\"\",\"\",INDEX('OTRAS REFERENCIAS'!$T$6:$U$11,MATCH(AN363,'OTRAS REFERENCIAS'!$U$6:$U$11,0),1))","v":""}]
[1,"",362,"","",{"$f":"IF(L364<>\"\",CONCATENATE(DIGITADOR!$B$2,$A$2,DIGITADOR!$M$1,A364),\"\")","v":""},null,null,"",{"$f":"IF(K364=\"\",\"\",INDEX('OTRAS REFERENCIAS'!$AL:$AM,MATCH(K364,'OTRAS REFERENCIAS'!$AL:$AL,0),2))","v":""},null,{"$f":"IF(J364=\"\",\"\",INDEX(REFERENTES!$A:$D,MATCH(J364,REFERENTES!$C:$C,0),3))","v":""},null,null,null,null,null,null,null,{"$f":"IF(U364=\"\",\"\",INDEX('OTRAS REFERENCIAS'!$H$6:$I$11,MATCH(U364,'OTRAS REFERENCIAS'!$I$6:$I$11,0),1))","v":""},null,null,null,null,{"$f":"IF(Z364=\"\",\"\",INDEX('OTRAS REFERENCIAS'!$K$6:$L$11,MATCH(Z364,'OTRAS REFERENCIAS'!$L$6:$L$11,0),1))","v":""},null,null,null,null,{"$f":"IF(AE364=\"\",\"\",INDEX('OTRAS REFERENCIAS'!$N$6:$O$11,MATCH(AE364,'OTRAS REFERENCIAS'!$O$6:$O$11,0),1))","v":""},null,null,null,null,{"$f":"IF(AJ364=\"\",\"\",INDEX('OTRAS REFERENCIAS'!$Q$6:$R$11,MATCH(AJ364,'OTRAS REFERENCIAS'!$R$6:$R$11,0),1))","v":""},null,null,null,{"$f":"IF(AN364=\"\",\"\",INDEX('OTRAS REFERENCIAS'!$T$6:$U$11,MATCH(AN364,'OTRAS REFERENCIAS'!$U$6:$U$11,0),1))","v":""}]
[1,"",363,"","",{"$f":"IF(L365<>\"\",CONCATENATE(DIGITADOR!$B$2,$A$2,DIGITADOR!$M$1,A365),\"\")","v":""},null,null,"",{"$f":"IF(K365=\"\",\"\",INDEX('OTRAS REFERENCIAS'!$AL:$AM,MATCH(K365,'OTRAS REFERENCIAS'!$AL:$AL,0),2))","v":""},null,{"$f":"IF(J365=\"\",\"\",INDEX(REFERENTES!$A:$D,MATCH(J365,REFERENTES!$C:$C,0),3))","v":""},null,null,null,null,null,null,null,{"$f":"IF(U365=\"\",\"\",INDEX('OTRAS REFERENCIAS'!$H$6:$I$11,MATCH(U365,'OTRAS REFERENCIAS'!$I$6:$I$11,0),1))","v":""},null,null,null,null,{"$f":"IF(Z365=\"\",\"\",INDEX('OTRAS REFERENCIAS'!$K$6:$L$11,MATCH(Z365,'OTRAS REFERENCIAS'!$L$6:$L$11,0),1))","v":""},null,null,null,null,{"$f":"IF(AE365=\"\",\"\",INDEX('OTRAS REFERENCIAS'!$N$6:$O$11,MATCH(AE365,'OTRAS REFERENCIAS'!$O$6:$O$11,0),1))","v":""},null,null,null,null,{"$f":"IF(AJ365=\"\",\"\",INDEX('OTRAS REFERENCIAS'!$Q$6:$R$11,MATCH(AJ365,'OTRAS REFERENCIAS'!$R$6:$R$11,0),1))","v":""},null,null,null,{"$f":"IF(AN365=\"\",\"\",INDEX('OTRAS REFERENCIAS'!$T$6:$U$11,MATCH(AN365,'OTRAS REFERENCIAS'!$U$6:$U$11,0),1))","v":""}]
[1,"",364,"","",{"$f":"IF(L366<>\"\",CONCATENATE(DIGITADOR!$B$2,$A$2,DIGITADOR!$M$1,A366),\"\")","v":""},null,null,"",{"$f":"IF(K366=\"\",\"\",INDEX('OTRAS REFERENCIAS'!$AL:$AM,MATCH(K366,'OTRAS REFERENCIAS'!$AL:$AL,0),2))","v":""},null,{"$f":"IF(J366=\"\",\"\",INDEX(REFERENTES!$A:$D,MATCH(J366,REFERENTES!$C:$C,0),3))","v":""},null,null,null,null,null,null,null,{"$f":"IF(U366=\"\",\"\",INDEX('OTRAS REFERENCIAS'!$H$6:$I$11,MATCH(U366,'OTRAS REFERENCIAS'!$I$6:$I$11,0),1))","v":""},null,null,null,null,{"$f":"IF(Z366=\"\",\"\",INDEX('OTRAS REFERENCIAS'!$K$6:$L$11,MATCH(Z366,'OTRAS REFERENCIAS'!$L$6:$L$11,0),1))","v":""},null,null,null,null,{"$f":"IF(AE366=\"\",\"\",INDEX('OTRAS REFERENCIAS'!$N$6:$O$11,MATCH(AE366,'OTRAS REFERENCIAS'!$O$6:$O$11,0),1))","v":""},null,null,null,null,{"$f":"IF(AJ366=\"\",\"\",INDEX('OTRAS REFERENCIAS'!$Q$6:$R$11,MATCH(AJ366,'OTRAS REFERENCIAS'!$R$6:$R$11,0),1))","v":""},null,null,null,{"$f":"IF(AN366=\"\",\"\",INDEX('OTRAS REFERENCIAS'!$T$6:$U$11,MATCH(AN366,'OTRAS REFERENCIAS'!$U$6:$U$11,0),1))","v":""}]
[1,"",365,"","",{"$f":"IF(L367<>\"\",CONCATENATE(DIGITADOR!$B$2,$A$2,DIGITADOR!$M$1,A367),\"\")","v":""},null,null,"",{"$f":"IF(K367=\"\",\"\",INDEX('OTRAS REFERENCIAS'!$AL:$AM,MATCH(K367,'OTRAS REFERENCIAS'!$AL:$AL,0),2))","v":""},null,{"$f":"IF(J367=\"\",\"\",INDEX(REFERENTES!$A:$D,MATCH(J367,REFERENTES!$C:$C,0),3))","v":""},null,null,null,null,null,null,null,{"$f":"IF(U367=\"\",\"\",INDEX('OTRAS REFERENCIAS'!$H$6:$I$11,MATCH(U367,'OTRAS REFERENCIAS'!$I$6:$I$11,0),1))","v":""},null,null,null,null,{"$f":"IF(Z367=\"\",\"\",INDEX('OTRAS REFERENCIAS'!$K$6:$L$11,MATCH(Z367,'OTRAS REFERENCIAS'!$L$6:$L$11,0),1))","v":""},null,null,null,null,{"$f":"IF(AE367=\"\",\"\",INDEX('OTRAS REFERENCIAS'!$N$6:$O$11,MATCH(AE367,'OTRAS REFERENCIAS'!$O$6:$O$11,0),1))","v":""},null,null,null,null,{"$f":"IF(AJ367=\"\",\"\",INDEX('OTRAS REFERENCIAS'!$Q$6:$R$11,MATCH(AJ367,'OTRAS REFERENCIAS'!$R$6:$R$11,0),1))","v":""},null,null,null,{"$f":"IF(AN367=\"\",\"\",INDEX('OTRAS REFERENCIAS'!$T$6:$U$11,MATCH(AN367,'OTRAS REFERENCIAS'!$U$6:$U$11,0),1))","v":""}]
[1,"",366,"","",{"$f":"IF(L368<>\"\",CONCATENATE(DIGITADOR!$B$2,$A$2,DIGITADOR!$M$1,A368),\"\")","v":""},null,null,"",{"$f":"IF(K368=\"\",\"\",INDEX('OTRAS REFERENCIAS'!$AL:$AM,MATCH(K368,'OTRAS REFERENCIAS'!$AL:$AL,0),2))","v":""},null,{"$f":"IF(J368=\"\",\"\",INDEX(REFERENTES!$A:$D,MATCH(J368,REFERENTES!$C:$C,0),3))","v":""},null,null,null,null,null,null,null,{"$f":"IF(U368=\"\",\"\",INDEX('OTRAS REFERENCIAS'!$H$6:$I$11,MATCH(U368,'OTRAS REFERENCIAS'!$I$6:$I$11,0),1))","v":""},null,null,null,null,{"$f":"IF(Z368=\"\",\"\",INDEX('OTRAS REFERENCIAS'!$K$6:$L$11,MATCH(Z368,'OTRAS REFERENCIAS'!$L$6:$L$11,0),1))","v":""},null,null,null,null,{"$f":"IF(AE368=\"\",\"\",INDEX('OTRAS REFERENCIAS'!$N$6:$O$11,MATCH(AE368,'OTRAS REFERENCIAS'!$O$6:$O$11,0),1))","v":""},null,null,null,null,{"$f":"IF(AJ368=\"\",\"\",INDEX('OTRAS REFERENCIAS'!$Q$6:$R$11,MATCH(AJ368,'OTRAS REFERENCIAS'!$R$6:$R$11,0),1))","v":""},null,null,null,{"$f":"IF(AN368=\"\",\"\",INDEX('OTRAS REFERENCIAS'!$T$6:$U$11,MATCH(AN368,'OTRAS REFERENCIAS'!$U$6:$U$11,0),1))","v":""}]
[1,"",367,"","",{"$f":"IF(L369<>\"\",CONCATENATE(DIGITADOR!$B$2,$A$2,DIGITADOR!$M$1,A369),\"\")","v":""},null,null,"",{"$f":"IF(K369=\"\",\"\",INDEX('OTRAS REFERENCIAS'!$AL:$AM,MATCH(K369,'OTRAS REFERENCIAS'!$AL:$AL,0),2))","v":""},null,{"$f":"IF(J369=\"\",\"\",INDEX(REFERENTES!$A:$D,MATCH(J369,REFERENTES!$C:$C,0),3))","v":""},null,null,null,null,null,null,null,{"$f":"IF(U369=\"\",\"\",INDEX('OTRAS REFERENCIAS'!$H$6:$I$11,MATCH(U369,'OTRAS REFERENCIAS'!$I$6:$I$11,0),1))","v":""},null,null,null,null,{"$f":"IF(Z369=\"\",\"\",INDEX('OTRAS REFERENCIAS'!$K$6:$L$11,MATCH(Z369,'OTRAS REFERENCIAS'!$L$6:$L$11,0),1))","v":""},null,null,null,null,{"$f":"IF(AE369=\"\",\"\",INDEX('OTRAS REFERENCIAS'!$N$6:$O$11,MATCH(AE369,'OTRAS REFERENCIAS'!$O$6:$O$11,0),1))","v":""},null,null,null,null,{"$f":"IF(AJ369=\"\",\"\",INDEX('OTRAS REFERENCIAS'!$Q$6:$R$11,MATCH(AJ369,'OTRAS REFERENCIAS'!$R$6:$R$11,0),1))","v":""},null,null,null,{"$f":"IF(AN369=\"\",\"\",INDEX('OTRAS REFERENCIAS'!$T$6:$U$11,MATCH(AN369,'OTRAS REFERENCIAS'!$U$6:$U$11,0),1))","v":""}]
[1,"",368,"","",{"$f":"IF(L370<>\"\",CONCATENATE(DIGITADOR!$B$2,$A$2,DIGITADOR!$M$1,A370),\"\")","v":""},null,null,"",{"$f":"IF(K370=\"\",\"\",INDEX('OTRAS REFERENCIAS'!$AL:$AM,MATCH(K370,'OTRAS REFERENCIAS'!$AL:$AL,0),2))","v":""},null,{"$f":"IF(J370=\"\",\"\",INDEX(REFERENTES!$A:$D,MATCH(J370,REFERENTES!$C:$C,0),3))","v":""},null,null,null,null,null,null,null,{"$f":"IF(U370=\"\",\"\",INDEX('OTRAS REFERENCIAS'!$H$6:$I$11,MATCH(U370,'OTRAS REFERENCIAS'!$I$6:$I$11,0),1))","v":""},null,null,null,null,{"$f":"IF(Z370=\"\",\"\",INDEX('OTRAS REFERENCIAS'!$K$6:$L$11,MATCH(Z370,'OTRAS REFERENCIAS'!$L$6:$L$11,0),1))","v":""},null,null,null,null,{"$f":"IF(AE370=\"\",\"\",INDEX('OTRAS REFERENCIAS'!$N$6:$O$11,MATCH(AE370,'OTRAS REFERENCIAS'!$O$6:$O$11,0),1))","v":""},null,null,null,null,{"$f":"IF(AJ370=\"\",\"\",INDEX('OTRAS REFERENCIAS'!$Q$6:$R$11,MATCH(AJ370,'OTRAS REFERENCIAS'!$R$6:$R$11,0),1))","v":""},null,null,null,{"$f":"IF(AN370=\"\",\"\",INDEX('OTRAS REFERENCIAS'!$T$6:$U$11,MATCH(AN370,'OTRAS REFERENCIAS'!$U$6:$U$11,0),1))","v":""}]
[1,"",369,"","",{"$f":"IF(L371<>\"\",CONCATENATE(DIGITADOR!$B$2,$A$2,DIGITADOR!$M$1,A371),\"\")","v":""},null,null,"",{"$f":"IF(K371=\"\",\"\",INDEX('OTRAS REFERENCIAS'!$AL:$AM,MATCH(K371,'OTRAS REFERENCIAS'!$AL:$AL,0),2))","v":""},null,{"$f":"IF(J371=\"\",\"\",INDEX(REFERENTES!$A:$D,MATCH(J371,REFERENTES!$C:$C,0),3))","v":""},null,null,null,null,null,null,null,{"$f":"IF(U371=\"\",\"\",INDEX('OTRAS REFERENCIAS'!$H$6:$I$11,MATCH(U371,'OTRAS REFERENCIAS'!$I$6:$I$11,0),1))","v":""},null,null,null,null,{"$f":"IF(Z371=\"\",\"\",INDEX('OTRAS REFERENCIAS'!$K$6:$L$11,MATCH(Z371,'OTRAS REFERENCIAS'!$L$6:$L$11,0),1))","v":""},null,null,null,null,{"$f":"IF(AE371=\"\",\"\",INDEX('OTRAS REFERENCIAS'!$N$6:$O$11,MATCH(AE371,'OTRAS REFERENCIAS'!$O$6:$O$11,0),1))","v":""},null,null,null,null,{"$f":"IF(AJ371=\"\",\"\",INDEX('OTRAS REFERENCIAS'!$Q$6:$R$11,MATCH(AJ371,'OTRAS REFERENCIAS'!$R$6:$R$11,0),1))","v":""},null,null,null,{"$f":"IF(AN371=\"\",\"\",INDEX('OTRAS REFERENCIAS'!$T$6:$U$11,MATCH(AN371,'OTRAS REFERENCIAS'!$U$6:$U$11,0),1))","v":""}]
[1,"",370,"","",{"$f":"IF(L372<>\"\",CONCATENATE(DIGITADOR!$B$2,$A$2,DIGITADOR!$M$1,A372),\"\")","v":""},null,null,"",{"$f":"IF(K372=\"\",\"\",INDEX('OTRAS REFERENCIAS'!$AL:$AM,MATCH(K372,'OTRAS REFERENCIAS'!$AL:$AL,0),2))","v":""},null,{"$f":"IF(J372=\"\",\"\",INDEX(REFERENTES!$A:$D,MATCH(J372,REFERENTES!$C:$C,0),3))","v":""},null,null,null,null,null,null,null,{"$f":"IF(U372=\"\",\"\",INDEX('OTRAS REFERENCIAS'!$H$6:$I$11,MATCH(U372,'OTRAS REFERENCIAS'!$I$6:$I$11,0),1))","v":""},null,null,null,null,{"$f":"IF(Z372=\"\",\"\",INDEX('OTRAS REFERENCIAS'!$K$6:$L$11,MATCH(Z372,'OTRAS REFERENCIAS'!$L$6:$L$11,0),1))","v":""},null,null,null,null,{"$f":"IF(AE372=\"\",\"\",INDEX('OTRAS REFERENCIAS'!$N$6:$O$11,MATCH(AE372,'OTRAS REFERENCIAS'!$O$6:$O$11,0),1))","v":""},null,null,null,null,{"$f":"IF(AJ372=\"\",\"\",INDEX('OTRAS REFERENCIAS'!$Q$6:$R$11,MATCH(AJ372,'OTRAS REFERENCIAS'!$R$6:$R$11,0),1))","v":""},null,null,null,{"$f":"IF(AN372=\"\",\"\",INDEX('OTRAS REFERENCIAS'!$T$6:$U$11,MATCH(AN372,'OTRAS REFERENCIAS'!$U$6:$U$11,0),1))","v":""}]
[1,"",371,"","",{"$f":"IF(L373<>\"\",CONCATENATE(DIGITADOR!$B$2,$A$2,DIGITADOR!$M$1,A373),\"\")","v":""},null,null,"",{"$f":"IF(K373=\"\",\"\",INDEX('OTRAS REFERENCIAS'!$AL:$AM,MATCH(K373,'OTRAS REFERENCIAS'!$AL:$AL,0),2))","v":""},null,{"$f":"IF(J373=\"\",\"\",INDEX(REFERENTES!$A:$D,MATCH(J373,REFERENTES!$C:$C,0),3))","v":""},null,null,null,null,null,null,null,{"$f":"IF(U373=\"\",\"\",INDEX('OTRAS REFERENCIAS'!$H$6:$I$11,MATCH(U373,'OTRAS REFERENCIAS'!$I$6:$I$11,0),1))","v":""},null,null,null,null,{"$f":"IF(Z373=\"\",\"\",INDEX('OTRAS REFERENCIAS'!$K$6:$L$11,MATCH(Z373,'OTRAS REFERENCIAS'!$L$6:$L$11,0),1))","v":""},null,null,null,null,{"$f":"IF(AE373=\"\",\"\",INDEX('OTRAS REFERENCIAS'!$N$6:$O$11,MATCH(AE373,'OTRAS REFERENCIAS'!$O$6:$O$11,0),1))","v":""},null,null,null,null,{"$f":"IF(AJ373=\"\",\"\",INDEX('OTRAS REFERENCIAS'!$Q$6:$R$11,MATCH(AJ373,'OTRAS REFERENCIAS'!$R$6:$R$11,0),1))","v":""},null,null,null,{"$f":"IF(AN373=\"\",\"\",INDEX('OTRAS REFERENCIAS'!$T$6:$U$11,MATCH(AN373,'OTRAS REFERENCIAS'!$U$6:$U$11,0),1))","v":""}]
[1,"",372,"","",{"$f":"IF(L374<>\"\",CONCATENATE(DIGITADOR!$B$2,$A$2,DIGITADOR!$M$1,A374),\"\")","v":""},null,null,"",{"$f":"IF(K374=\"\",\"\",INDEX('OTRAS REFERENCIAS'!$AL:$AM,MATCH(K374,'OTRAS REFERENCIAS'!$AL:$AL,0),2))","v":""},null,{"$f":"IF(J374=\"\",\"\",INDEX(REFERENTES!$A:$D,MATCH(J374,REFERENTES!$C:$C,0),3))","v":""},null,null,null,null,null,null,null,{"$f":"IF(U374=\"\",\"\",INDEX('OTRAS REFERENCIAS'!$H$6:$I$11,MATCH(U374,'OTRAS REFERENCIAS'!$I$6:$I$11,0),1))","v":""},null,null,null,null,{"$f":"IF(Z374=\"\",\"\",INDEX('OTRAS REFERENCIAS'!$K$6:$L$11,MATCH(Z374,'OTRAS REFERENCIAS'!$L$6:$L$11,0),1))","v":""},null,null,null,null,{"$f":"IF(AE374=\"\",\"\",INDEX('OTRAS REFERENCIAS'!$N$6:$O$11,MATCH(AE374,'OTRAS REFERENCIAS'!$O$6:$O$11,0),1))","v":""},null,null,null,null,{"$f":"IF(AJ374=\"\",\"\",INDEX('OTRAS REFERENCIAS'!$Q$6:$R$11,MATCH(AJ374,'OTRAS REFERENCIAS'!$R$6:$R$11,0),1))","v":""},null,null,null,{"$f":"IF(AN374=\"\",\"\",INDEX('OTRAS REFERENCIAS'!$T$6:$U$11,MATCH(AN374,'OTRAS REFERENCIAS'!$U$6:$U$11,0),1))","v":""}]
[1,"",373,"","",{"$f":"IF(L375<>\"\",CONCATENATE(DIGITADOR!$B$2,$A$2,DIGITADOR!$M$1,A375),\"\")","v":""},null,null,"",{"$f":"IF(K375=\"\",\"\",INDEX('OTRAS REFERENCIAS'!$AL:$AM,MATCH(K375,'OTRAS REFERENCIAS'!$AL:$AL,0),2))","v":""},null,{"$f":"IF(J375=\"\",\"\",INDEX(REFERENTES!$A:$D,MATCH(J375,REFERENTES!$C:$C,0),3))","v":""},null,null,null,null,null,null,null,{"$f":"IF(U375=\"\",\"\",INDEX('OTRAS REFERENCIAS'!$H$6:$I$11,MATCH(U375,'OTRAS REFERENCIAS'!$I$6:$I$11,0),1))","v":""},null,null,null,null,{"$f":"IF(Z375=\"\",\"\",INDEX('OTRAS REFERENCIAS'!$K$6:$L$11,MATCH(Z375,'OTRAS REFERENCIAS'!$L$6:$L$11,0),1))","v":""},null,null,null,null,{"$f":"IF(AE375=\"\",\"\",INDEX('OTRAS REFERENCIAS'!$N$6:$O$11,MATCH(AE375,'OTRAS REFERENCIAS'!$O$6:$O$11,0),1))","v":""},null,null,null,null,{"$f":"IF(AJ375=\"\",\"\",INDEX('OTRAS REFERENCIAS'!$Q$6:$R$11,MATCH(AJ375,'OTRAS REFERENCIAS'!$R$6:$R$11,0),1))","v":""},null,null,null,{"$f":"IF(AN375=\"\",\"\",INDEX('OTRAS REFERENCIAS'!$T$6:$U$11,MATCH(AN375,'OTRAS REFERENCIAS'!$U$6:$U$11,0),1))","v":""}]
[1,"",374,"","",{"$f":"IF(L376<>\"\",CONCATENATE(DIGITADOR!$B$2,$A$2,DIGITADOR!$M$1,A376),\"\")","v":""},null,null,"",{"$f":"IF(K376=\"\",\"\",INDEX('OTRAS REFERENCIAS'!$AL:$AM,MATCH(K376,'OTRAS REFERENCIAS'!$AL:$AL,0),2))","v":""},null,{"$f":"IF(J376=\"\",\"\",INDEX(REFERENTES!$A:$D,MATCH(J376,REFERENTES!$C:$C,0),3))","v":""},null,null,null,null,null,null,null,{"$f":"IF(U376=\"\",\"\",INDEX('OTRAS REFERENCIAS'!$H$6:$I$11,MATCH(U376,'OTRAS REFERENCIAS'!$I$6:$I$11,0),1))","v":""},null,null,null,null,{"$f":"IF(Z376=\"\",\"\",INDEX('OTRAS REFERENCIAS'!$K$6:$L$11,MATCH(Z376,'OTRAS REFERENCIAS'!$L$6:$L$11,0),1))","v":""},null,null,null,null,{"$f":"IF(AE376=\"\",\"\",INDEX('OTRAS REFERENCIAS'!$N$6:$O$11,MATCH(AE376,'OTRAS REFERENCIAS'!$O$6:$O$11,0),1))","v":""},null,null,null,null,{"$f":"IF(AJ376=\"\",\"\",INDEX('OTRAS REFERENCIAS'!$Q$6:$R$11,MATCH(AJ376,'OTRAS REFERENCIAS'!$R$6:$R$11,0),1))","v":""},null,null,null,{"$f":"IF(AN376=\"\",\"\",INDEX('OTRAS REFERENCIAS'!$T$6:$U$11,MATCH(AN376,'OTRAS REFERENCIAS'!$U$6:$U$11,0),1))","v":""}]
[1,"",375,"","",{"$f":"IF(L377<>\"\",CONCATENATE(DIGITADOR!$B$2,$A$2,DIGITADOR!$M$1,A377),\"\")","v":""},null,null,"",{"$f":"IF(K377=\"\",\"\",INDEX('OTRAS REFERENCIAS'!$AL:$AM,MATCH(K377,'OTRAS REFERENCIAS'!$AL:$AL,0),2))","v":""},null,{"$f":"IF(J377=\"\",\"\",INDEX(REFERENTES!$A:$D,MATCH(J377,REFERENTES!$C:$C,0),3))","v":""},null,null,null,null,null,null,null,{"$f":"IF(U377=\"\",\"\",INDEX('OTRAS REFERENCIAS'!$H$6:$I$11,MATCH(U377,'OTRAS REFERENCIAS'!$I$6:$I$11,0),1))","v":""},null,null,null,null,{"$f":"IF(Z377=\"\",\"\",INDEX('OTRAS REFERENCIAS'!$K$6:$L$11,MATCH(Z377,'OTRAS REFERENCIAS'!$L$6:$L$11,0),1))","v":""},null,null,null,null,{"$f":"IF(AE377=\"\",\"\",INDEX('OTRAS REFERENCIAS'!$N$6:$O$11,MATCH(AE377,'OTRAS REFERENCIAS'!$O$6:$O$11,0),1))","v":""},null,null,null,null,{"$f":"IF(AJ377=\"\",\"\",INDEX('OTRAS REFERENCIAS'!$Q$6:$R$11,MATCH(AJ377,'OTRAS REFERENCIAS'!$R$6:$R$11,0),1))","v":""},null,null,null,{"$f":"IF(AN377=\"\",\"\",INDEX('OTRAS REFERENCIAS'!$T$6:$U$11,MATCH(AN377,'OTRAS REFERENCIAS'!$U$6:$U$11,0),1))","v":""}]
[1,"",376,"","",{"$f":"IF(L378<>\"\",CONCATENATE(DIGITADOR!$B$2,$A$2,DIGITADOR!$M$1,A378),\"\")","v":""},null,null,"",{"$f":"IF(K378=\"\",\"\",INDEX('OTRAS REFERENCIAS'!$AL:$AM,MATCH(K378,'OTRAS REFERENCIAS'!$AL:$AL,0),2))","v":""},null,{"$f":"IF(J378=\"\",\"\",INDEX(REFERENTES!$A:$D,MATCH(J378,REFERENTES!$C:$C,0),3))","v":""},null,null,null,null,null,null,null,{"$f":"IF(U378=\"\",\"\",INDEX('OTRAS REFERENCIAS'!$H$6:$I$11,MATCH(U378,'OTRAS REFERENCIAS'!$I$6:$I$11,0),1))","v":""},null,null,null,null,{"$f":"IF(Z378=\"\",\"\",INDEX('OTRAS REFERENCIAS'!$K$6:$L$11,MATCH(Z378,'OTRAS REFERENCIAS'!$L$6:$L$11,0),1))","v":""},null,null,null,null,{"$f":"IF(AE378=\"\",\"\",INDEX('OTRAS REFERENCIAS'!$N$6:$O$11,MATCH(AE378,'OTRAS REFERENCIAS'!$O$6:$O$11,0),1))","v":""},null,null,null,null,{"$f":"IF(AJ378=\"\",\"\",INDEX('OTRAS REFERENCIAS'!$Q$6:$R$11,MATCH(AJ378,'OTRAS REFERENCIAS'!$R$6:$R$11,0),1))","v":""},null,null,null,{"$f":"IF(AN378=\"\",\"\",INDEX('OTRAS REFERENCIAS'!$T$6:$U$11,MATCH(AN378,'OTRAS REFERENCIAS'!$U$6:$U$11,0),1))","v":""}]
[1,"",377,"","",{"$f":"IF(L379<>\"\",CONCATENATE(DIGITADOR!$B$2,$A$2,DIGITADOR!$M$1,A379),\"\")","v":""},null,null,"",{"$f":"IF(K379=\"\",\"\",INDEX('OTRAS REFERENCIAS'!$AL:$AM,MATCH(K379,'OTRAS REFERENCIAS'!$AL:$AL,0),2))","v":""},null,{"$f":"IF(J379=\"\",\"\",INDEX(REFERENTES!$A:$D,MATCH(J379,REFERENTES!$C:$C,0),3))","v":""},null,null,null,null,null,null,null,{"$f":"IF(U379=\"\",\"\",INDEX('OTRAS REFERENCIAS'!$H$6:$I$11,MATCH(U379,'OTRAS REFERENCIAS'!$I$6:$I$11,0),1))","v":""},null,null,null,null,{"$f":"IF(Z379=\"\",\"\",INDEX('OTRAS REFERENCIAS'!$K$6:$L$11,MATCH(Z379,'OTRAS REFERENCIAS'!$L$6:$L$11,0),1))","v":""},null,null,null,null,{"$f":"IF(AE379=\"\",\"\",INDEX('OTRAS REFERENCIAS'!$N$6:$O$11,MATCH(AE379,'OTRAS REFERENCIAS'!$O$6:$O$11,0),1))","v":""},null,null,null,null,{"$f":"IF(AJ379=\"\",\"\",INDEX('OTRAS REFERENCIAS'!$Q$6:$R$11,MATCH(AJ379,'OTRAS REFERENCIAS'!$R$6:$R$11,0),1))","v":""},null,null,null,{"$f":"IF(AN379=\"\",\"\",INDEX('OTRAS REFERENCIAS'!$T$6:$U$11,MATCH(AN379,'OTRAS REFERENCIAS'!$U$6:$U$11,0),1))","v":""}]
[1,"",378,"","",{"$f":"IF(L380<>\"\",CONCATENATE(DIGITADOR!$B$2,$A$2,DIGITADOR!$M$1,A380),\"\")","v":""},null,null,"",{"$f":"IF(K380=\"\",\"\",INDEX('OTRAS REFERENCIAS'!$AL:$AM,MATCH(K380,'OTRAS REFERENCIAS'!$AL:$AL,0),2))","v":""},null,{"$f":"IF(J380=\"\",\"\",INDEX(REFERENTES!$A:$D,MATCH(J380,REFERENTES!$C:$C,0),3))","v":""},null,null,null,null,null,null,null,{"$f":"IF(U380=\"\",\"\",INDEX('OTRAS REFERENCIAS'!$H$6:$I$11,MATCH(U380,'OTRAS REFERENCIAS'!$I$6:$I$11,0),1))","v":""},null,null,null,null,{"$f":"IF(Z380=\"\",\"\",INDEX('OTRAS REFERENCIAS'!$K$6:$L$11,MATCH(Z380,'OTRAS REFERENCIAS'!$L$6:$L$11,0),1))","v":""},null,null,null,null,{"$f":"IF(AE380=\"\",\"\",INDEX('OTRAS REFERENCIAS'!$N$6:$O$11,MATCH(AE380,'OTRAS REFERENCIAS'!$O$6:$O$11,0),1))","v":""},null,null,null,null,{"$f":"IF(AJ380=\"\",\"\",INDEX('OTRAS REFERENCIAS'!$Q$6:$R$11,MATCH(AJ380,'OTRAS REFERENCIAS'!$R$6:$R$11,0),1))","v":""},null,null,null,{"$f":"IF(AN380=\"\",\"\",INDEX('OTRAS REFERENCIAS'!$T$6:$U$11,MATCH(AN380,'OTRAS REFERENCIAS'!$U$6:$U$11,0),1))","v":""}]
[1,"",379,"","",{"$f":"IF(L381<>\"\",CONCATENATE(DIGITADOR!$B$2,$A$2,DIGITADOR!$M$1,A381),\"\")","v":""},null,null,"",{"$f":"IF(K381=\"\",\"\",INDEX('OTRAS REFERENCIAS'!$AL:$AM,MATCH(K381,'OTRAS REFERENCIAS'!$AL:$AL,0),2))","v":""},null,{"$f":"IF(J381=\"\",\"\",INDEX(REFERENTES!$A:$D,MATCH(J381,REFERENTES!$C:$C,0),3))","v":""},null,null,null,null,null,null,null,{"$f":"IF(U381=\"\",\"\",INDEX('OTRAS REFERENCIAS'!$H$6:$I$11,MATCH(U381,'OTRAS REFERENCIAS'!$I$6:$I$11,0),1))","v":""},null,null,null,null,{"$f":"IF(Z381=\"\",\"\",INDEX('OTRAS REFERENCIAS'!$K$6:$L$11,MATCH(Z381,'OTRAS REFERENCIAS'!$L$6:$L$11,0),1))","v":""},null,null,null,null,{"$f":"IF(AE381=\"\",\"\",INDEX('OTRAS REFERENCIAS'!$N$6:$O$11,MATCH(AE381,'OTRAS REFERENCIAS'!$O$6:$O$11,0),1))","v":""},null,null,null,null,{"$f":"IF(AJ381=\"\",\"\",INDEX('OTRAS REFERENCIAS'!$Q$6:$R$11,MATCH(AJ381,'OTRAS REFERENCIAS'!$R$6:$R$11,0),1))","v":""},null,null,null,{"$f":"IF(AN381=\"\",\"\",INDEX('OTRAS REFERENCIAS'!$T$6:$U$11,MATCH(AN381,'OTRAS REFERENCIAS'!$U$6:$U$11,0),1))","v":""}]
[1,"",380,"","",{"$f":"IF(L382<>\"\",CONCATENATE(DIGITADOR!$B$2,$A$2,DIGITADOR!$M$1,A382),\"\")","v":""},null,null,"",{"$f":"IF(K382=\"\",\"\",INDEX('OTRAS REFERENCIAS'!$AL:$AM,MATCH(K382,'OTRAS REFERENCIAS'!$AL:$AL,0),2))","v":""},null,{"$f":"IF(J382=\"\",\"\",INDEX(REFERENTES!$A:$D,MATCH(J382,REFERENTES!$C:$C,0),3))","v":""},null,null,null,null,null,null,null,{"$f":"IF(U382=\"\",\"\",INDEX('OTRAS REFERENCIAS'!$H$6:$I$11,MATCH(U382,'OTRAS REFERENCIAS'!$I$6:$I$11,0),1))","v":""},null,null,null,null,{"$f":"IF(Z382=\"\",\"\",INDEX('OTRAS REFERENCIAS'!$K$6:$L$11,MATCH(Z382,'OTRAS REFERENCIAS'!$L$6:$L$11,0),1))","v":""},null,null,null,null,{"$f":"IF(AE382=\"\",\"\",INDEX('OTRAS REFERENCIAS'!$N$6:$O$11,MATCH(AE382,'OTRAS REFERENCIAS'!$O$6:$O$11,0),1))","v":""},null,null,null,null,{"$f":"IF(AJ382=\"\",\"\",INDEX('OTRAS REFERENCIAS'!$Q$6:$R$11,MATCH(AJ382,'OTRAS REFERENCIAS'!$R$6:$R$11,0),1))","v":""},null,null,null,{"$f":"IF(AN382=\"\",\"\",INDEX('OTRAS REFERENCIAS'!$T$6:$U$11,MATCH(AN382,'OTRAS REFERENCIAS'!$U$6:$U$11,0),1))","v":""}]
[1,"",381,"","",{"$f":"IF(L383<>\"\",CONCATENATE(DIGITADOR!$B$2,$A$2,DIGITADOR!$M$1,A383),\"\")","v":""},null,null,"",{"$f":"IF(K383=\"\",\"\",INDEX('OTRAS REFERENCIAS'!$AL:$AM,MATCH(K383,'OTRAS REFERENCIAS'!$AL:$AL,0),2))","v":""},null,{"$f":"IF(J383=\"\",\"\",INDEX(REFERENTES!$A:$D,MATCH(J383,REFERENTES!$C:$C,0),3))","v":""},null,null,null,null,null,null,null,{"$f":"IF(U383=\"\",\"\",INDEX('OTRAS REFERENCIAS'!$H$6:$I$11,MATCH(U383,'OTRAS REFERENCIAS'!$I$6:$I$11,0),1))","v":""},null,null,null,null,{"$f":"IF(Z383=\"\",\"\",INDEX('OTRAS REFERENCIAS'!$K$6:$L$11,MATCH(Z383,'OTRAS REFERENCIAS'!$L$6:$L$11,0),1))","v":""},null,null,null,null,{"$f":"IF(AE383=\"\",\"\",INDEX('OTRAS REFERENCIAS'!$N$6:$O$11,MATCH(AE383,'OTRAS REFERENCIAS'!$O$6:$O$11,0),1))","v":""},null,null,null,null,{"$f":"IF(AJ383=\"\",\"\",INDEX('OTRAS REFERENCIAS'!$Q$6:$R$11,MATCH(AJ383,'OTRAS REFERENCIAS'!$R$6:$R$11,0),1))","v":""},null,null,null,{"$f":"IF(AN383=\"\",\"\",INDEX('OTRAS REFERENCIAS'!$T$6:$U$11,MATCH(AN383,'OTRAS REFERENCIAS'!$U$6:$U$11,0),1))","v":""}]
[1,"",382,"","",{"$f":"IF(L384<>\"\",CONCATENATE(DIGITADOR!$B$2,$A$2,DIGITADOR!$M$1,A384),\"\")","v":""},null,null,"",{"$f":"IF(K384=\"\",\"\",INDEX('OTRAS REFERENCIAS'!$AL:$AM,MATCH(K384,'OTRAS REFERENCIAS'!$AL:$AL,0),2))","v":""},null,{"$f":"IF(J384=\"\",\"\",INDEX(REFERENTES!$A:$D,MATCH(J384,REFERENTES!$C:$C,0),3))","v":""},null,null,null,null,null,null,null,{"$f":"IF(U384=\"\",\"\",INDEX('OTRAS REFERENCIAS'!$H$6:$I$11,MATCH(U384,'OTRAS REFERENCIAS'!$I$6:$I$11,0),1))","v":""},null,null,null,null,{"$f":"IF(Z384=\"\",\"\",INDEX('OTRAS REFERENCIAS'!$K$6:$L$11,MATCH(Z384,'OTRAS REFERENCIAS'!$L$6:$L$11,0),1))","v":""},null,null,null,null,{"$f":"IF(AE384=\"\",\"\",INDEX('OTRAS REFERENCIAS'!$N$6:$O$11,MATCH(AE384,'OTRAS REFERENCIAS'!$O$6:$O$11,0),1))","v":""},null,null,null,null,{"$f":"IF(AJ384=\"\",\"\",INDEX('OTRAS REFERENCIAS'!$Q$6:$R$11,MATCH(AJ384,'OTRAS REFERENCIAS'!$R$6:$R$11,0),1))","v":""},null,null,null,{"$f":"IF(AN384=\"\",\"\",INDEX('OTRAS REFERENCIAS'!$T$6:$U$11,MATCH(AN384,'OTRAS REFERENCIAS'!$U$6:$U$11,0),1))","v":""}]
[1,"",383,"","",{"$f":"IF(L385<>\"\",CONCATENATE(DIGITADOR!$B$2,$A$2,DIGITADOR!$M$1,A385),\"\")","v":""},null,null,"",{"$f":"IF(K385=\"\",\"\",INDEX('OTRAS REFERENCIAS'!$AL:$AM,MATCH(K385,'OTRAS REFERENCIAS'!$AL:$AL,0),2))","v":""},null,{"$f":"IF(J385=\"\",\"\",INDEX(REFERENTES!$A:$D,MATCH(J385,REFERENTES!$C:$C,0),3))","v":""},null,null,null,null,null,null,null,{"$f":"IF(U385=\"\",\"\",INDEX('OTRAS REFERENCIAS'!$H$6:$I$11,MATCH(U385,'OTRAS REFERENCIAS'!$I$6:$I$11,0),1))","v":""},null,null,null,null,{"$f":"IF(Z385=\"\",\"\",INDEX('OTRAS REFERENCIAS'!$K$6:$L$11,MATCH(Z385,'OTRAS REFERENCIAS'!$L$6:$L$11,0),1))","v":""},null,null,null,null,{"$f":"IF(AE385=\"\",\"\",INDEX('OTRAS REFERENCIAS'!$N$6:$O$11,MATCH(AE385,'OTRAS REFERENCIAS'!$O$6:$O$11,0),1))","v":""},null,null,null,null,{"$f":"IF(AJ385=\"\",\"\",INDEX('OTRAS REFERENCIAS'!$Q$6:$R$11,MATCH(AJ385,'OTRAS REFERENCIAS'!$R$6:$R$11,0),1))","v":""},null,null,null,{"$f":"IF(AN385=\"\",\"\",INDEX('OTRAS REFERENCIAS'!$T$6:$U$11,MATCH(AN385,'OTRAS REFERENCIAS'!$U$6:$U$11,0),1))","v":""}]
[1,"",384,"","",{"$f":"IF(L386<>\"\",CONCATENATE(DIGITADOR!$B$2,$A$2,DIGITADOR!$M$1,A386),\"\")","v":""},null,null,"",{"$f":"IF(K386=\"\",\"\",INDEX('OTRAS REFERENCIAS'!$AL:$AM,MATCH(K386,'OTRAS REFERENCIAS'!$AL:$AL,0),2))","v":""},null,{"$f":"IF(J386=\"\",\"\",INDEX(REFERENTES!$A:$D,MATCH(J386,REFERENTES!$C:$C,0),3))","v":""},null,null,null,null,null,null,null,{"$f":"IF(U386=\"\",\"\",INDEX('OTRAS REFERENCIAS'!$H$6:$I$11,MATCH(U386,'OTRAS REFERENCIAS'!$I$6:$I$11,0),1))","v":""},null,null,null,null,{"$f":"IF(Z386=\"\",\"\",INDEX('OTRAS REFERENCIAS'!$K$6:$L$11,MATCH(Z386,'OTRAS REFERENCIAS'!$L$6:$L$11,0),1))","v":""},null,null,null,null,{"$f":"IF(AE386=\"\",\"\",INDEX('OTRAS REFERENCIAS'!$N$6:$O$11,MATCH(AE386,'OTRAS REFERENCIAS'!$O$6:$O$11,0),1))","v":""},null,null,null,null,{"$f":"IF(AJ386=\"\",\"\",INDEX('OTRAS REFERENCIAS'!$Q$6:$R$11,MATCH(AJ386,'OTRAS REFERENCIAS'!$R$6:$R$11,0),1))","v":""},null,null,null,{"$f":"IF(AN386=\"\",\"\",INDEX('OTRAS REFERENCIAS'!$T$6:$U$11,MATCH(AN386,'OTRAS REFERENCIAS'!$U$6:$U$11,0),1))","v":""}]
[1,"",385,"",{"$f":"CONCATENATE(I387,L387)","v":""},{"$f":"IF(L387<>\"\",CONCATENATE(DIGITADOR!$B$2,$A$2,DIGITADOR!$M$1,A387),\"\")","v":""},null,null,{"$f":"IF(G387<>\"\",G387+H387,\"\")","v":""},{"$f":"IF(K387=\"\",\"\",INDEX('OTRAS REFERENCIAS'!$AL:$AM,MATCH(K387,'OTRAS REFERENCIAS'!$AL:$AL,0),2))","v":""},null,{"$f":"IF(J387=\"\",\"\",INDEX(REFERENTES!$A:$D,MATCH(J387,REFERENTES!$C:$C,0),3))","v":""},null,null,null,null,null,null,null,{"$f":"IF(U387=\"\",\"\",INDEX('OTRAS REFERENCIAS'!$H$6:$I$11,MATCH(U387,'OTRAS REFERENCIAS'!$I$6:$I$11,0),1))","v":""},null,null,null,null,{"$f":"IF(Z387=\"\",\"\",INDEX('OTRAS REFERENCIAS'!$K$6:$L$11,MATCH(Z387,'OTRAS REFERENCIAS'!$L$6:$L$11,0),1))","v":""},null,null,null,null,{"$f":"IF(AE387=\"\",\"\",INDEX('OTRAS REFERENCIAS'!$N$6:$O$11,MATCH(AE387,'OTRAS REFERENCIAS'!$O$6:$O$11,0),1))","v":""},null,null,null,null,{"$f":"IF(AJ387=\"\",\"\",INDEX('OTRAS REFERENCIAS'!$Q$6:$R$11,MATCH(AJ387,'OTRAS REFERENCIAS'!$R$6:$R$11,0),1))","v":""},null,null,null,{"$f":"IF(AN387=\"\",\"\",INDEX('OTRAS REFERENCIAS'!$T$6:$U$11,MATCH(AN387,'OTRAS REFERENCIAS'!$U$6:$U$11,0),1))","v":""}]
[1,"",386,{"$f":"IF(L388=\"\",\"\",CONCATENATE(C388,F388))","v":""},"",{"$f":"IF(L388<>\"\",CONCATENATE(DIGITADOR!$B$2,$A$2,DIGITADOR!$M$1,A388),\"\")","v":""},null,null,"",{"$f":"IF(K388=\"\",\"\",INDEX('OTRAS REFERENCIAS'!$AL:$AM,MATCH(K388,'OTRAS REFERENCIAS'!$AL:$AL,0),2))","v":""},null,{"$f":"IF(J388=\"\",\"\",INDEX(REFERENTES!$A:$D,MATCH(J388,REFERENTES!$C:$C,0),3))","v":""},null,null,null,null,null,null,null,{"$f":"IF(U388=\"\",\"\",INDEX('OTRAS REFERENCIAS'!$H$6:$I$11,MATCH(U388,'OTRAS REFERENCIAS'!$I$6:$I$11,0),1))","v":""},null,null,null,null,{"$f":"IF(Z388=\"\",\"\",INDEX('OTRAS REFERENCIAS'!$K$6:$L$11,MATCH(Z388,'OTRAS REFERENCIAS'!$L$6:$L$11,0),1))","v":""},null,null,null,null,{"$f":"IF(AE388=\"\",\"\",INDEX('OTRAS REFERENCIAS'!$N$6:$O$11,MATCH(AE388,'OTRAS REFERENCIAS'!$O$6:$O$11,0),1))","v":""},null,null,null,null,{"$f":"IF(AJ388=\"\",\"\",INDEX('OTRAS REFERENCIAS'!$Q$6:$R$11,MATCH(AJ388,'OTRAS REFERENCIAS'!$R$6:$R$11,0),1))","v":""},null,null,null,{"$f":"IF(AN388=\"\",\"\",INDEX('OTRAS REFERENCIAS'!$T$6:$U$11,MATCH(AN388,'OTRAS REFERENCIAS'!$U$6:$U$11,0),1))","v":""}]
[{"$f":"IF(L389=L388,A388,A388+1)","v":1},{"$f":"IF(F389<>F388, F389,\"\")","v":""},387,"","",{"$f":"IF(L389<>\"\",CONCATENATE(DIGITADOR!$B$2,$A$2,DIGITADOR!$M$1,A389),\"\")","v":""},null,null,"",{"$f":"IF(K389=\"\",\"\",INDEX('OTRAS REFERENCIAS'!$AL:$AM,MATCH(K389,'OTRAS REFERENCIAS'!$AL:$AL,0),2))","v":""},null,{"$f":"IF(J389=\"\",\"\",INDEX(REFERENTES!$A:$D,MATCH(J389,REFERENTES!$C:$C,0),3))","v":""},null,null,null,null,null,null,null,{"$f":"IF(U389=\"\",\"\",INDEX('OTRAS REFERENCIAS'!$H$6:$I$11,MATCH(U389,'OTRAS REFERENCIAS'!$I$6:$I$11,0),1))","v":""},null,null,null,null,{"$f":"IF(Z389=\"\",\"\",INDEX('OTRAS REFERENCIAS'!$K$6:$L$11,MATCH(Z389,'OTRAS REFERENCIAS'!$L$6:$L$11,0),1))","v":""},null,null,null,null,{"$f":"IF(AE389=\"\",\"\",INDEX('OTRAS REFERENCIAS'!$N$6:$O$11,MATCH(AE389,'OTRAS REFERENCIAS'!$O$6:$O$11,0),1))","v":""},null,null,null,null,{"$f":"IF(AJ389=\"\",\"\",INDEX('OTRAS REFERENCIAS'!$Q$6:$R$11,MATCH(AJ389,'OTRAS REFERENCIAS'!$R$6:$R$11,0),1))","v":""},null,null,null,{"$f":"IF(AN389=\"\",\"\",INDEX('OTRAS REFERENCIAS'!$T$6:$U$11,MATCH(AN389,'OTRAS REFERENCIAS'!$U$6:$U$11,0),1))","v":""}]
[1,"",388,"","",{"$f":"IF(L390<>\"\",CONCATENATE(DIGITADOR!$B$2,$A$2,DIGITADOR!$M$1,A390),\"\")","v":""},null,null,"",{"$f":"IF(K390=\"\",\"\",INDEX('OTRAS REFERENCIAS'!$AL:$AM,MATCH(K390,'OTRAS REFERENCIAS'!$AL:$AL,0),2))","v":""},null,{"$f":"IF(J390=\"\",\"\",INDEX(REFERENTES!$A:$D,MATCH(J390,REFERENTES!$C:$C,0),3))","v":""},null,null,null,null,null,null,null,{"$f":"IF(U390=\"\",\"\",INDEX('OTRAS REFERENCIAS'!$H$6:$I$11,MATCH(U390,'OTRAS REFERENCIAS'!$I$6:$I$11,0),1))","v":""},null,null,null,null,{"$f":"IF(Z390=\"\",\"\",INDEX('OTRAS REFERENCIAS'!$K$6:$L$11,MATCH(Z390,'OTRAS REFERENCIAS'!$L$6:$L$11,0),1))","v":""},null,null,null,null,{"$f":"IF(AE390=\"\",\"\",INDEX('OTRAS REFERENCIAS'!$N$6:$O$11,MATCH(AE390,'OTRAS REFERENCIAS'!$O$6:$O$11,0),1))","v":""},null,null,null,null,{"$f":"IF(AJ390=\"\",\"\",INDEX('OTRAS REFERENCIAS'!$Q$6:$R$11,MATCH(AJ390,'OTRAS REFERENCIAS'!$R$6:$R$11,0),1))","v":""},null,null,null,{"$f":"IF(AN390=\"\",\"\",INDEX('OTRAS REFERENCIAS'!$T$6:$U$11,MATCH(AN390,'OTRAS REFERENCIAS'!$U$6:$U$11,0),1))","v":""}]
[1,"",389,"","",{"$f":"IF(L391<>\"\",CONCATENATE(DIGITADOR!$B$2,$A$2,DIGITADOR!$M$1,A391),\"\")","v":""},null,null,"",{"$f":"IF(K391=\"\",\"\",INDEX('OTRAS REFERENCIAS'!$AL:$AM,MATCH(K391,'OTRAS REFERENCIAS'!$AL:$AL,0),2))","v":""},null,{"$f":"IF(J391=\"\",\"\",INDEX(REFERENTES!$A:$D,MATCH(J391,REFERENTES!$C:$C,0),3))","v":""},null,null,null,null,null,null,null,{"$f":"IF(U391=\"\",\"\",INDEX('OTRAS REFERENCIAS'!$H$6:$I$11,MATCH(U391,'OTRAS REFERENCIAS'!$I$6:$I$11,0),1))","v":""},null,null,null,null,{"$f":"IF(Z391=\"\",\"\",INDEX('OTRAS REFERENCIAS'!$K$6:$L$11,MATCH(Z391,'OTRAS REFERENCIAS'!$L$6:$L$11,0),1))","v":""},null,null,null,null,{"$f":"IF(AE391=\"\",\"\",INDEX('OTRAS REFERENCIAS'!$N$6:$O$11,MATCH(AE391,'OTRAS REFERENCIAS'!$O$6:$O$11,0),1))","v":""},null,null,null,null,{"$f":"IF(AJ391=\"\",\"\",INDEX('OTRAS REFERENCIAS'!$Q$6:$R$11,MATCH(AJ391,'OTRAS REFERENCIAS'!$R$6:$R$11,0),1))","v":""},null,null,null,{"$f":"IF(AN391=\"\",\"\",INDEX('OTRAS REFERENCIAS'!$T$6:$U$11,MATCH(AN391,'OTRAS REFERENCIAS'!$U$6:$U$11,0),1))","v":""}]
[1,"",390,"","",{"$f":"IF(L392<>\"\",CONCATENATE(DIGITADOR!$B$2,$A$2,DIGITADOR!$M$1,A392),\"\")","v":""},null,null,"",{"$f":"IF(K392=\"\",\"\",INDEX('OTRAS REFERENCIAS'!$AL:$AM,MATCH(K392,'OTRAS REFERENCIAS'!$AL:$AL,0),2))","v":""},null,{"$f":"IF(J392=\"\",\"\",INDEX(REFERENTES!$A:$D,MATCH(J392,REFERENTES!$C:$C,0),3))","v":""},null,null,null,null,null,null,null,{"$f":"IF(U392=\"\",\"\",INDEX('OTRAS REFERENCIAS'!$H$6:$I$11,MATCH(U392,'OTRAS REFERENCIAS'!$I$6:$I$11,0),1))","v":""},null,null,null,null,{"$f":"IF(Z392=\"\",\"\",INDEX('OTRAS REFERENCIAS'!$K$6:$L$11,MATCH(Z392,'OTRAS REFERENCIAS'!$L$6:$L$11,0),1))","v":""},null,null,null,null,{"$f":"IF(AE392=\"\",\"\",INDEX('OTRAS REFERENCIAS'!$N$6:$O$11,MATCH(AE392,'OTRAS REFERENCIAS'!$O$6:$O$11,0),1))","v":""},null,null,null,null,{"$f":"IF(AJ392=\"\",\"\",INDEX('OTRAS REFERENCIAS'!$Q$6:$R$11,MATCH(AJ392,'OTRAS REFERENCIAS'!$R$6:$R$11,0),1))","v":""},null,null,null,{"$f":"IF(AN392=\"\",\"\",INDEX('OTRAS REFERENCIAS'!$T$6:$U$11,MATCH(AN392,'OTRAS REFERENCIAS'!$U$6:$U$11,0),1))","v":""}]
[1,"",391,"","",{"$f":"IF(L393<>\"\",CONCATENATE(DIGITADOR!$B$2,$A$2,DIGITADOR!$M$1,A393),\"\")","v":""},null,null,"",{"$f":"IF(K393=\"\",\"\",INDEX('OTRAS REFERENCIAS'!$AL:$AM,MATCH(K393,'OTRAS REFERENCIAS'!$AL:$AL,0),2))","v":""},null,{"$f":"IF(J393=\"\",\"\",INDEX(REFERENTES!$A:$D,MATCH(J393,REFERENTES!$C:$C,0),3))","v":""},null,null,null,null,null,null,null,{"$f":"IF(U393=\"\",\"\",INDEX('OTRAS REFERENCIAS'!$H$6:$I$11,MATCH(U393,'OTRAS REFERENCIAS'!$I$6:$I$11,0),1))","v":""},null,null,null,null,{"$f":"IF(Z393=\"\",\"\",INDEX('OTRAS REFERENCIAS'!$K$6:$L$11,MATCH(Z393,'OTRAS REFERENCIAS'!$L$6:$L$11,0),1))","v":""},null,null,null,null,{"$f":"IF(AE393=\"\",\"\",INDEX('OTRAS REFERENCIAS'!$N$6:$O$11,MATCH(AE393,'OTRAS REFERENCIAS'!$O$6:$O$11,0),1))","v":""},null,null,null,null,{"$f":"IF(AJ393=\"\",\"\",INDEX('OTRAS REFERENCIAS'!$Q$6:$R$11,MATCH(AJ393,'OTRAS REFERENCIAS'!$R$6:$R$11,0),1))","v":""},null,null,null,{"$f":"IF(AN393=\"\",\"\",INDEX('OTRAS REFERENCIAS'!$T$6:$U$11,MATCH(AN393,'OTRAS REFERENCIAS'!$U$6:$U$11,0),1))","v":""}]
[1,"",392,"","",{"$f":"IF(L394<>\"\",CONCATENATE(DIGITADOR!$B$2,$A$2,DIGITADOR!$M$1,A394),\"\")","v":""},null,null,"",{"$f":"IF(K394=\"\",\"\",INDEX('OTRAS REFERENCIAS'!$AL:$AM,MATCH(K394,'OTRAS REFERENCIAS'!$AL:$AL,0),2))","v":""},null,{"$f":"IF(J394=\"\",\"\",INDEX(REFERENTES!$A:$D,MATCH(J394,REFERENTES!$C:$C,0),3))","v":""},null,null,null,null,null,null,null,{"$f":"IF(U394=\"\",\"\",INDEX('OTRAS REFERENCIAS'!$H$6:$I$11,MATCH(U394,'OTRAS REFERENCIAS'!$I$6:$I$11,0),1))","v":""},null,null,null,null,{"$f":"IF(Z394=\"\",\"\",INDEX('OTRAS REFERENCIAS'!$K$6:$L$11,MATCH(Z394,'OTRAS REFERENCIAS'!$L$6:$L$11,0),1))","v":""},null,null,null,null,{"$f":"IF(AE394=\"\",\"\",INDEX('OTRAS REFERENCIAS'!$N$6:$O$11,MATCH(AE394,'OTRAS REFERENCIAS'!$O$6:$O$11,0),1))","v":""},null,null,null,null,{"$f":"IF(AJ394=\"\",\"\",INDEX('OTRAS REFERENCIAS'!$Q$6:$R$11,MATCH(AJ394,'OTRAS REFERENCIAS'!$R$6:$R$11,0),1))","v":""},null,null,null,{"$f":"IF(AN394=\"\",\"\",INDEX('OTRAS REFERENCIAS'!$T$6:$U$11,MATCH(AN394,'OTRAS REFERENCIAS'!$U$6:$U$11,0),1))","v":""}]
[1,"",393,"","",{"$f":"IF(L395<>\"\",CONCATENATE(DIGITADOR!$B$2,$A$2,DIGITADOR!$M$1,A395),\"\")","v":""},null,null,"",{"$f":"IF(K395=\"\",\"\",INDEX('OTRAS REFERENCIAS'!$AL:$AM,MATCH(K395,'OTRAS REFERENCIAS'!$AL:$AL,0),2))","v":""},null,{"$f":"IF(J395=\"\",\"\",INDEX(REFERENTES!$A:$D,MATCH(J395,REFERENTES!$C:$C,0),3))","v":""},null,null,null,null,null,null,null,{"$f":"IF(U395=\"\",\"\",INDEX('OTRAS REFERENCIAS'!$H$6:$I$11,MATCH(U395,'OTRAS REFERENCIAS'!$I$6:$I$11,0),1))","v":""},null,null,null,null,{"$f":"IF(Z395=\"\",\"\",INDEX('OTRAS REFERENCIAS'!$K$6:$L$11,MATCH(Z395,'OTRAS REFERENCIAS'!$L$6:$L$11,0),1))","v":""},null,null,null,null,{"$f":"IF(AE395=\"\",\"\",INDEX('OTRAS REFERENCIAS'!$N$6:$O$11,MATCH(AE395,'OTRAS REFERENCIAS'!$O$6:$O$11,0),1))","v":""},null,null,null,null,{"$f":"IF(AJ395=\"\",\"\",INDEX('OTRAS REFERENCIAS'!$Q$6:$R$11,MATCH(AJ395,'OTRAS REFERENCIAS'!$R$6:$R$11,0),1))","v":""},null,null,null,{"$f":"IF(AN395=\"\",\"\",INDEX('OTRAS REFERENCIAS'!$T$6:$U$11,MATCH(AN395,'OTRAS REFERENCIAS'!$U$6:$U$11,0),1))","v":""}]
[1,"",394,"","",{"$f":"IF(L396<>\"\",CONCATENATE(DIGITADOR!$B$2,$A$2,DIGITADOR!$M$1,A396),\"\")","v":""},null,null,"",{"$f":"IF(K396=\"\",\"\",INDEX('OTRAS REFERENCIAS'!$AL:$AM,MATCH(K396,'OTRAS REFERENCIAS'!$AL:$AL,0),2))","v":""},null,{"$f":"IF(J396=\"\",\"\",INDEX(REFERENTES!$A:$D,MATCH(J396,REFERENTES!$C:$C,0),3))","v":""},null,null,null,null,null,null,null,{"$f":"IF(U396=\"\",\"\",INDEX('OTRAS REFERENCIAS'!$H$6:$I$11,MATCH(U396,'OTRAS REFERENCIAS'!$I$6:$I$11,0),1))","v":""},null,null,null,null,{"$f":"IF(Z396=\"\",\"\",INDEX('OTRAS REFERENCIAS'!$K$6:$L$11,MATCH(Z396,'OTRAS REFERENCIAS'!$L$6:$L$11,0),1))","v":""},null,null,null,null,{"$f":"IF(AE396=\"\",\"\",INDEX('OTRAS REFERENCIAS'!$N$6:$O$11,MATCH(AE396,'OTRAS REFERENCIAS'!$O$6:$O$11,0),1))","v":""},null,null,null,null,{"$f":"IF(AJ396=\"\",\"\",INDEX('OTRAS REFERENCIAS'!$Q$6:$R$11,MATCH(AJ396,'OTRAS REFERENCIAS'!$R$6:$R$11,0),1))","v":""},null,null,null,{"$f":"IF(AN396=\"\",\"\",INDEX('OTRAS REFERENCIAS'!$T$6:$U$11,MATCH(AN396,'OTRAS REFERENCIAS'!$U$6:$U$11,0),1))","v":""}]
[1,"",395,"","",{"$f":"IF(L397<>\"\",CONCATENATE(DIGITADOR!$B$2,$A$2,DIGITADOR!$M$1,A397),\"\")","v":""},null,null,"",{"$f":"IF(K397=\"\",\"\",INDEX('OTRAS REFERENCIAS'!$AL:$AM,MATCH(K397,'OTRAS REFERENCIAS'!$AL:$AL,0),2))","v":""},null,{"$f":"IF(J397=\"\",\"\",INDEX(REFERENTES!$A:$D,MATCH(J397,REFERENTES!$C:$C,0),3))","v":""},null,null,null,null,null,null,null,{"$f":"IF(U397=\"\",\"\",INDEX('OTRAS REFERENCIAS'!$H$6:$I$11,MATCH(U397,'OTRAS REFERENCIAS'!$I$6:$I$11,0),1))","v":""},null,null,null,null,{"$f":"IF(Z397=\"\",\"\",INDEX('OTRAS REFERENCIAS'!$K$6:$L$11,MATCH(Z397,'OTRAS REFERENCIAS'!$L$6:$L$11,0),1))","v":""},null,null,null,null,{"$f":"IF(AE397=\"\",\"\",INDEX('OTRAS REFERENCIAS'!$N$6:$O$11,MATCH(AE397,'OTRAS REFERENCIAS'!$O$6:$O$11,0),1))","v":""},null,null,null,null,{"$f":"IF(AJ397=\"\",\"\",INDEX('OTRAS REFERENCIAS'!$Q$6:$R$11,MATCH(AJ397,'OTRAS REFERENCIAS'!$R$6:$R$11,0),1))","v":""},null,null,null,{"$f":"IF(AN397=\"\",\"\",INDEX('OTRAS REFERENCIAS'!$T$6:$U$11,MATCH(AN397,'OTRAS REFERENCIAS'!$U$6:$U$11,0),1))","v":""}]
[1,"",396,"","",{"$f":"IF(L398<>\"\",CONCATENATE(DIGITADOR!$B$2,$A$2,DIGITADOR!$M$1,A398),\"\")","v":""},null,null,"",{"$f":"IF(K398=\"\",\"\",INDEX('OTRAS REFERENCIAS'!$AL:$AM,MATCH(K398,'OTRAS REFERENCIAS'!$AL:$AL,0),2))","v":""},null,{"$f":"IF(J398=\"\",\"\",INDEX(REFERENTES!$A:$D,MATCH(J398,REFERENTES!$C:$C,0),3))","v":""},null,null,null,null,null,null,null,{"$f":"IF(U398=\"\",\"\",INDEX('OTRAS REFERENCIAS'!$H$6:$I$11,MATCH(U398,'OTRAS REFERENCIAS'!$I$6:$I$11,0),1))","v":""},null,null,null,null,{"$f":"IF(Z398=\"\",\"\",INDEX('OTRAS REFERENCIAS'!$K$6:$L$11,MATCH(Z398,'OTRAS REFERENCIAS'!$L$6:$L$11,0),1))","v":""},null,null,null,null,{"$f":"IF(AE398=\"\",\"\",INDEX('OTRAS REFERENCIAS'!$N$6:$O$11,MATCH(AE398,'OTRAS REFERENCIAS'!$O$6:$O$11,0),1))","v":""},null,null,null,null,{"$f":"IF(AJ398=\"\",\"\",INDEX('OTRAS REFERENCIAS'!$Q$6:$R$11,MATCH(AJ398,'OTRAS REFERENCIAS'!$R$6:$R$11,0),1))","v":""},null,null,null,{"$f":"IF(AN398=\"\",\"\",INDEX('OTRAS REFERENCIAS'!$T$6:$U$11,MATCH(AN398,'OTRAS REFERENCIAS'!$U$6:$U$11,0),1))","v":""}]
[1,"",397,"","",{"$f":"IF(L399<>\"\",CONCATENATE(DIGITADOR!$B$2,$A$2,DIGITADOR!$M$1,A399),\"\")","v":""},null,null,"",{"$f":"IF(K399=\"\",\"\",INDEX('OTRAS REFERENCIAS'!$AL:$AM,MATCH(K399,'OTRAS REFERENCIAS'!$AL:$AL,0),2))","v":""},null,{"$f":"IF(J399=\"\",\"\",INDEX(REFERENTES!$A:$D,MATCH(J399,REFERENTES!$C:$C,0),3))","v":""},null,null,null,null,null,null,null,{"$f":"IF(U399=\"\",\"\",INDEX('OTRAS REFERENCIAS'!$H$6:$I$11,MATCH(U399,'OTRAS REFERENCIAS'!$I$6:$I$11,0),1))","v":""},null,null,null,null,{"$f":"IF(Z399=\"\",\"\",INDEX('OTRAS REFERENCIAS'!$K$6:$L$11,MATCH(Z399,'OTRAS REFERENCIAS'!$L$6:$L$11,0),1))","v":""},null,null,null,null,{"$f":"IF(AE399=\"\",\"\",INDEX('OTRAS REFERENCIAS'!$N$6:$O$11,MATCH(AE399,'OTRAS REFERENCIAS'!$O$6:$O$11,0),1))","v":""},null,null,null,null,{"$f":"IF(AJ399=\"\",\"\",INDEX('OTRAS REFERENCIAS'!$Q$6:$R$11,MATCH(AJ399,'OTRAS REFERENCIAS'!$R$6:$R$11,0),1))","v":""},null,null,null,{"$f":"IF(AN399=\"\",\"\",INDEX('OTRAS REFERENCIAS'!$T$6:$U$11,MATCH(AN399,'OTRAS REFERENCIAS'!$U$6:$U$11,0),1))","v":""}]
[1,"",398,"","",{"$f":"IF(L400<>\"\",CONCATENATE(DIGITADOR!$B$2,$A$2,DIGITADOR!$M$1,A400),\"\")","v":""},null,null,"",{"$f":"IF(K400=\"\",\"\",INDEX('OTRAS REFERENCIAS'!$AL:$AM,MATCH(K400,'OTRAS REFERENCIAS'!$AL:$AL,0),2))","v":""},null,{"$f":"IF(J400=\"\",\"\",INDEX(REFERENTES!$A:$D,MATCH(J400,REFERENTES!$C:$C,0),3))","v":""},null,null,null,null,null,null,null,{"$f":"IF(U400=\"\",\"\",INDEX('OTRAS REFERENCIAS'!$H$6:$I$11,MATCH(U400,'OTRAS REFERENCIAS'!$I$6:$I$11,0),1))","v":""},null,null,null,null,{"$f":"IF(Z400=\"\",\"\",INDEX('OTRAS REFERENCIAS'!$K$6:$L$11,MATCH(Z400,'OTRAS REFERENCIAS'!$L$6:$L$11,0),1))","v":""},null,null,null,null,{"$f":"IF(AE400=\"\",\"\",INDEX('OTRAS REFERENCIAS'!$N$6:$O$11,MATCH(AE400,'OTRAS REFERENCIAS'!$O$6:$O$11,0),1))","v":""},null,null,null,null,{"$f":"IF(AJ400=\"\",\"\",INDEX('OTRAS REFERENCIAS'!$Q$6:$R$11,MATCH(AJ400,'OTRAS REFERENCIAS'!$R$6:$R$11,0),1))","v":""},null,null,null,{"$f":"IF(AN400=\"\",\"\",INDEX('OTRAS REFERENCIAS'!$T$6:$U$11,MATCH(AN400,'OTRAS REFERENCIAS'!$U$6:$U$11,0),1))","v":""}]
[1,"",399,"","",{"$f":"IF(L401<>\"\",CONCATENATE(DIGITADOR!$B$2,$A$2,DIGITADOR!$M$1,A401),\"\")","v":""},null,null,"",{"$f":"IF(K401=\"\",\"\",INDEX('OTRAS REFERENCIAS'!$AL:$AM,MATCH(K401,'OTRAS REFERENCIAS'!$AL:$AL,0),2))","v":""},null,{"$f":"IF(J401=\"\",\"\",INDEX(REFERENTES!$A:$D,MATCH(J401,REFERENTES!$C:$C,0),3))","v":""},null,null,null,null,null,null,null,{"$f":"IF(U401=\"\",\"\",INDEX('OTRAS REFERENCIAS'!$H$6:$I$11,MATCH(U401,'OTRAS REFERENCIAS'!$I$6:$I$11,0),1))","v":""},null,null,null,null,{"$f":"IF(Z401=\"\",\"\",INDEX('OTRAS REFERENCIAS'!$K$6:$L$11,MATCH(Z401,'OTRAS REFERENCIAS'!$L$6:$L$11,0),1))","v":""},null,null,null,null,{"$f":"IF(AE401=\"\",\"\",INDEX('OTRAS REFERENCIAS'!$N$6:$O$11,MATCH(AE401,'OTRAS REFERENCIAS'!$O$6:$O$11,0),1))","v":""},null,null,null,null,{"$f":"IF(AJ401=\"\",\"\",INDEX('OTRAS REFERENCIAS'!$Q$6:$R$11,MATCH(AJ401,'OTRAS REFERENCIAS'!$R$6:$R$11,0),1))","v":""},null,null,null,{"$f":"IF(AN401=\"\",\"\",INDEX('OTRAS REFERENCIAS'!$T$6:$U$11,MATCH(AN401,'OTRAS REFERENCIAS'!$U$6:$U$11,0),1))","v":""}]
[1,"",400,"","",{"$f":"IF(L402<>\"\",CONCATENATE(DIGITADOR!$B$2,$A$2,DIGITADOR!$M$1,A402),\"\")","v":""},null,null,"",{"$f":"IF(K402=\"\",\"\",INDEX('OTRAS REFERENCIAS'!$AL:$AM,MATCH(K402,'OTRAS REFERENCIAS'!$AL:$AL,0),2))","v":""},null,{"$f":"IF(J402=\"\",\"\",INDEX(REFERENTES!$A:$D,MATCH(J402,REFERENTES!$C:$C,0),3))","v":""},null,null,null,null,null,null,null,{"$f":"IF(U402=\"\",\"\",INDEX('OTRAS REFERENCIAS'!$H$6:$I$11,MATCH(U402,'OTRAS REFERENCIAS'!$I$6:$I$11,0),1))","v":""},null,null,null,null,{"$f":"IF(Z402=\"\",\"\",INDEX('OTRAS REFERENCIAS'!$K$6:$L$11,MATCH(Z402,'OTRAS REFERENCIAS'!$L$6:$L$11,0),1))","v":""},null,null,null,null,{"$f":"IF(AE402=\"\",\"\",INDEX('OTRAS REFERENCIAS'!$N$6:$O$11,MATCH(AE402,'OTRAS REFERENCIAS'!$O$6:$O$11,0),1))","v":""},null,null,null,null,{"$f":"IF(AJ402=\"\",\"\",INDEX('OTRAS REFERENCIAS'!$Q$6:$R$11,MATCH(AJ402,'OTRAS REFERENCIAS'!$R$6:$R$11,0),1))","v":""},null,null,null,{"$f":"IF(AN402=\"\",\"\",INDEX('OTRAS REFERENCIAS'!$T$6:$U$11,MATCH(AN402,'OTRAS REFERENCIAS'!$U$6:$U$11,0),1))","v":""}]
[1,"",401,"","",{"$f":"IF(L403<>\"\",CONCATENATE(DIGITADOR!$B$2,$A$2,DIGITADOR!$M$1,A403),\"\")","v":""},null,null,"",{"$f":"IF(K403=\"\",\"\",INDEX('OTRAS REFERENCIAS'!$AL:$AM,MATCH(K403,'OTRAS REFERENCIAS'!$AL:$AL,0),2))","v":""},null,{"$f":"IF(J403=\"\",\"\",INDEX(REFERENTES!$A:$D,MATCH(J403,REFERENTES!$C:$C,0),3))","v":""},null,null,null,null,null,null,null,{"$f":"IF(U403=\"\",\"\",INDEX('OTRAS REFERENCIAS'!$H$6:$I$11,MATCH(U403,'OTRAS REFERENCIAS'!$I$6:$I$11,0),1))","v":""},null,null,null,null,{"$f":"IF(Z403=\"\",\"\",INDEX('OTRAS REFERENCIAS'!$K$6:$L$11,MATCH(Z403,'OTRAS REFERENCIAS'!$L$6:$L$11,0),1))","v":""},null,null,null,null,{"$f":"IF(AE403=\"\",\"\",INDEX('OTRAS REFERENCIAS'!$N$6:$O$11,MATCH(AE403,'OTRAS REFERENCIAS'!$O$6:$O$11,0),1))","v":""},null,null,null,null,{"$f":"IF(AJ403=\"\",\"\",INDEX('OTRAS REFERENCIAS'!$Q$6:$R$11,MATCH(AJ403,'OTRAS REFERENCIAS'!$R$6:$R$11,0),1))","v":""},null,null,null,{"$f":"IF(AN403=\"\",\"\",INDEX('OTRAS REFERENCIAS'!$T$6:$U$11,MATCH(AN403,'OTRAS REFERENCIAS'!$U$6:$U$11,0),1))","v":""}]
[1,"",402,"","",{"$f":"IF(L404<>\"\",CONCATENATE(DIGITADOR!$B$2,$A$2,DIGITADOR!$M$1,A404),\"\")","v":""},null,null,"",{"$f":"IF(K404=\"\",\"\",INDEX('OTRAS REFERENCIAS'!$AL:$AM,MATCH(K404,'OTRAS REFERENCIAS'!$AL:$AL,0),2))","v":""},null,{"$f":"IF(J404=\"\",\"\",INDEX(REFERENTES!$A:$D,MATCH(J404,REFERENTES!$C:$C,0),3))","v":""},null,null,null,null,null,null,null,{"$f":"IF(U404=\"\",\"\",INDEX('OTRAS REFERENCIAS'!$H$6:$I$11,MATCH(U404,'OTRAS REFERENCIAS'!$I$6:$I$11,0),1))","v":""},null,null,null,null,{"$f":"IF(Z404=\"\",\"\",INDEX('OTRAS REFERENCIAS'!$K$6:$L$11,MATCH(Z404,'OTRAS REFERENCIAS'!$L$6:$L$11,0),1))","v":""},null,null,null,null,{"$f":"IF(AE404=\"\",\"\",INDEX('OTRAS REFERENCIAS'!$N$6:$O$11,MATCH(AE404,'OTRAS REFERENCIAS'!$O$6:$O$11,0),1))","v":""},null,null,null,null,{"$f":"IF(AJ404=\"\",\"\",INDEX('OTRAS REFERENCIAS'!$Q$6:$R$11,MATCH(AJ404,'OTRAS REFERENCIAS'!$R$6:$R$11,0),1))","v":""},null,null,null,{"$f":"IF(AN404=\"\",\"\",INDEX('OTRAS REFERENCIAS'!$T$6:$U$11,MATCH(AN404,'OTRAS REFERENCIAS'!$U$6:$U$11,0),1))","v":""}]
[1,"",403,"","",{"$f":"IF(L405<>\"\",CONCATENATE(DIGITADOR!$B$2,$A$2,DIGITADOR!$M$1,A405),\"\")","v":""},null,null,"",{"$f":"IF(K405=\"\",\"\",INDEX('OTRAS REFERENCIAS'!$AL:$AM,MATCH(K405,'OTRAS REFERENCIAS'!$AL:$AL,0),2))","v":""},null,{"$f":"IF(J405=\"\",\"\",INDEX(REFERENTES!$A:$D,MATCH(J405,REFERENTES!$C:$C,0),3))","v":""},null,null,null,null,null,null,null,{"$f":"IF(U405=\"\",\"\",INDEX('OTRAS REFERENCIAS'!$H$6:$I$11,MATCH(U405,'OTRAS REFERENCIAS'!$I$6:$I$11,0),1))","v":""},null,null,null,null,{"$f":"IF(Z405=\"\",\"\",INDEX('OTRAS REFERENCIAS'!$K$6:$L$11,MATCH(Z405,'OTRAS REFERENCIAS'!$L$6:$L$11,0),1))","v":""},null,null,null,null,{"$f":"IF(AE405=\"\",\"\",INDEX('OTRAS REFERENCIAS'!$N$6:$O$11,MATCH(AE405,'OTRAS REFERENCIAS'!$O$6:$O$11,0),1))","v":""},null,null,null,null,{"$f":"IF(AJ405=\"\",\"\",INDEX('OTRAS REFERENCIAS'!$Q$6:$R$11,MATCH(AJ405,'OTRAS REFERENCIAS'!$R$6:$R$11,0),1))","v":""},null,null,null,{"$f":"IF(AN405=\"\",\"\",INDEX('OTRAS REFERENCIAS'!$T$6:$U$11,MATCH(AN405,'OTRAS REFERENCIAS'!$U$6:$U$11,0),1))","v":""}]
[1,"",404,"","",{"$f":"IF(L406<>\"\",CONCATENATE(DIGITADOR!$B$2,$A$2,DIGITADOR!$M$1,A406),\"\")","v":""},null,null,"",{"$f":"IF(K406=\"\",\"\",INDEX('OTRAS REFERENCIAS'!$AL:$AM,MATCH(K406,'OTRAS REFERENCIAS'!$AL:$AL,0),2))","v":""},null,{"$f":"IF(J406=\"\",\"\",INDEX(REFERENTES!$A:$D,MATCH(J406,REFERENTES!$C:$C,0),3))","v":""},null,null,null,null,null,null,null,{"$f":"IF(U406=\"\",\"\",INDEX('OTRAS REFERENCIAS'!$H$6:$I$11,MATCH(U406,'OTRAS REFERENCIAS'!$I$6:$I$11,0),1))","v":""},null,null,null,null,{"$f":"IF(Z406=\"\",\"\",INDEX('OTRAS REFERENCIAS'!$K$6:$L$11,MATCH(Z406,'OTRAS REFERENCIAS'!$L$6:$L$11,0),1))","v":""},null,null,null,null,{"$f":"IF(AE406=\"\",\"\",INDEX('OTRAS REFERENCIAS'!$N$6:$O$11,MATCH(AE406,'OTRAS REFERENCIAS'!$O$6:$O$11,0),1))","v":""},null,null,null,null,{"$f":"IF(AJ406=\"\",\"\",INDEX('OTRAS REFERENCIAS'!$Q$6:$R$11,MATCH(AJ406,'OTRAS REFERENCIAS'!$R$6:$R$11,0),1))","v":""},null,null,null,{"$f":"IF(AN406=\"\",\"\",INDEX('OTRAS REFERENCIAS'!$T$6:$U$11,MATCH(AN406,'OTRAS REFERENCIAS'!$U$6:$U$11,0),1))","v":""}]
[1,"",405,"","",{"$f":"IF(L407<>\"\",CONCATENATE(DIGITADOR!$B$2,$A$2,DIGITADOR!$M$1,A407),\"\")","v":""},null,null,"",{"$f":"IF(K407=\"\",\"\",INDEX('OTRAS REFERENCIAS'!$AL:$AM,MATCH(K407,'OTRAS REFERENCIAS'!$AL:$AL,0),2))","v":""},null,{"$f":"IF(J407=\"\",\"\",INDEX(REFERENTES!$A:$D,MATCH(J407,REFERENTES!$C:$C,0),3))","v":""},null,null,null,null,null,null,null,{"$f":"IF(U407=\"\",\"\",INDEX('OTRAS REFERENCIAS'!$H$6:$I$11,MATCH(U407,'OTRAS REFERENCIAS'!$I$6:$I$11,0),1))","v":""},null,null,null,null,{"$f":"IF(Z407=\"\",\"\",INDEX('OTRAS REFERENCIAS'!$K$6:$L$11,MATCH(Z407,'OTRAS REFERENCIAS'!$L$6:$L$11,0),1))","v":""},null,null,null,null,{"$f":"IF(AE407=\"\",\"\",INDEX('OTRAS REFERENCIAS'!$N$6:$O$11,MATCH(AE407,'OTRAS REFERENCIAS'!$O$6:$O$11,0),1))","v":""},null,null,null,null,{"$f":"IF(AJ407=\"\",\"\",INDEX('OTRAS REFERENCIAS'!$Q$6:$R$11,MATCH(AJ407,'OTRAS REFERENCIAS'!$R$6:$R$11,0),1))","v":""},null,null,null,{"$f":"IF(AN407=\"\",\"\",INDEX('OTRAS REFERENCIAS'!$T$6:$U$11,MATCH(AN407,'OTRAS REFERENCIAS'!$U$6:$U$11,0),1))","v":""}]
[1,"",406,"","",{"$f":"IF(L408<>\"\",CONCATENATE(DIGITADOR!$B$2,$A$2,DIGITADOR!$M$1,A408),\"\")","v":""},null,null,"",{"$f":"IF(K408=\"\",\"\",INDEX('OTRAS REFERENCIAS'!$AL:$AM,MATCH(K408,'OTRAS REFERENCIAS'!$AL:$AL,0),2))","v":""},null,{"$f":"IF(J408=\"\",\"\",INDEX(REFERENTES!$A:$D,MATCH(J408,REFERENTES!$C:$C,0),3))","v":""},null,null,null,null,null,null,null,{"$f":"IF(U408=\"\",\"\",INDEX('OTRAS REFERENCIAS'!$H$6:$I$11,MATCH(U408,'OTRAS REFERENCIAS'!$I$6:$I$11,0),1))","v":""},null,null,null,null,{"$f":"IF(Z408=\"\",\"\",INDEX('OTRAS REFERENCIAS'!$K$6:$L$11,MATCH(Z408,'OTRAS REFERENCIAS'!$L$6:$L$11,0),1))","v":""},null,null,null,null,{"$f":"IF(AE408=\"\",\"\",INDEX('OTRAS REFERENCIAS'!$N$6:$O$11,MATCH(AE408,'OTRAS REFERENCIAS'!$O$6:$O$11,0),1))","v":""},null,null,null,null,{"$f":"IF(AJ408=\"\",\"\",INDEX('OTRAS REFERENCIAS'!$Q$6:$R$11,MATCH(AJ408,'OTRAS REFERENCIAS'!$R$6:$R$11,0),1))","v":""},null,null,null,{"$f":"IF(AN408=\"\",\"\",INDEX('OTRAS REFERENCIAS'!$T$6:$U$11,MATCH(AN408,'OTRAS REFERENCIAS'!$U$6:$U$11,0),1))","v":""}]
[1,"",407,"","",{"$f":"IF(L409<>\"\",CONCATENATE(DIGITADOR!$B$2,$A$2,DIGITADOR!$M$1,A409),\"\")","v":""},null,null,"",{"$f":"IF(K409=\"\",\"\",INDEX('OTRAS REFERENCIAS'!$AL:$AM,MATCH(K409,'OTRAS REFERENCIAS'!$AL:$AL,0),2))","v":""},null,{"$f":"IF(J409=\"\",\"\",INDEX(REFERENTES!$A:$D,MATCH(J409,REFERENTES!$C:$C,0),3))","v":""},null,null,null,null,null,null,null,{"$f":"IF(U409=\"\",\"\",INDEX('OTRAS REFERENCIAS'!$H$6:$I$11,MATCH(U409,'OTRAS REFERENCIAS'!$I$6:$I$11,0),1))","v":""},null,null,null,null,{"$f":"IF(Z409=\"\",\"\",INDEX('OTRAS REFERENCIAS'!$K$6:$L$11,MATCH(Z409,'OTRAS REFERENCIAS'!$L$6:$L$11,0),1))","v":""},null,null,null,null,{"$f":"IF(AE409=\"\",\"\",INDEX('OTRAS REFERENCIAS'!$N$6:$O$11,MATCH(AE409,'OTRAS REFERENCIAS'!$O$6:$O$11,0),1))","v":""},null,null,null,null,{"$f":"IF(AJ409=\"\",\"\",INDEX('OTRAS REFERENCIAS'!$Q$6:$R$11,MATCH(AJ409,'OTRAS REFERENCIAS'!$R$6:$R$11,0),1))","v":""},null,null,null,{"$f":"IF(AN409=\"\",\"\",INDEX('OTRAS REFERENCIAS'!$T$6:$U$11,MATCH(AN409,'OTRAS REFERENCIAS'!$U$6:$U$11,0),1))","v":""}]
[1,"",408,"","",{"$f":"IF(L410<>\"\",CONCATENATE(DIGITADOR!$B$2,$A$2,DIGITADOR!$M$1,A410),\"\")","v":""},null,null,"",{"$f":"IF(K410=\"\",\"\",INDEX('OTRAS REFERENCIAS'!$AL:$AM,MATCH(K410,'OTRAS REFERENCIAS'!$AL:$AL,0),2))","v":""},null,{"$f":"IF(J410=\"\",\"\",INDEX(REFERENTES!$A:$D,MATCH(J410,REFERENTES!$C:$C,0),3))","v":""},null,null,null,null,null,null,null,{"$f":"IF(U410=\"\",\"\",INDEX('OTRAS REFERENCIAS'!$H$6:$I$11,MATCH(U410,'OTRAS REFERENCIAS'!$I$6:$I$11,0),1))","v":""},null,null,null,null,{"$f":"IF(Z410=\"\",\"\",INDEX('OTRAS REFERENCIAS'!$K$6:$L$11,MATCH(Z410,'OTRAS REFERENCIAS'!$L$6:$L$11,0),1))","v":""},null,null,null,null,{"$f":"IF(AE410=\"\",\"\",INDEX('OTRAS REFERENCIAS'!$N$6:$O$11,MATCH(AE410,'OTRAS REFERENCIAS'!$O$6:$O$11,0),1))","v":""},null,null,null,null,{"$f":"IF(AJ410=\"\",\"\",INDEX('OTRAS REFERENCIAS'!$Q$6:$R$11,MATCH(AJ410,'OTRAS REFERENCIAS'!$R$6:$R$11,0),1))","v":""},null,null,null,{"$f":"IF(AN410=\"\",\"\",INDEX('OTRAS REFERENCIAS'!$T$6:$U$11,MATCH(AN410,'OTRAS REFERENCIAS'!$U$6:$U$11,0),1))","v":""}]
[1,"",409,"","",{"$f":"IF(L411<>\"\",CONCATENATE(DIGITADOR!$B$2,$A$2,DIGITADOR!$M$1,A411),\"\")","v":""},null,null,"",{"$f":"IF(K411=\"\",\"\",INDEX('OTRAS REFERENCIAS'!$AL:$AM,MATCH(K411,'OTRAS REFERENCIAS'!$AL:$AL,0),2))","v":""},null,{"$f":"IF(J411=\"\",\"\",INDEX(REFERENTES!$A:$D,MATCH(J411,REFERENTES!$C:$C,0),3))","v":""},null,null,null,null,null,null,null,{"$f":"IF(U411=\"\",\"\",INDEX('OTRAS REFERENCIAS'!$H$6:$I$11,MATCH(U411,'OTRAS REFERENCIAS'!$I$6:$I$11,0),1))","v":""},null,null,null,null,{"$f":"IF(Z411=\"\",\"\",INDEX('OTRAS REFERENCIAS'!$K$6:$L$11,MATCH(Z411,'OTRAS REFERENCIAS'!$L$6:$L$11,0),1))","v":""},null,null,null,null,{"$f":"IF(AE411=\"\",\"\",INDEX('OTRAS REFERENCIAS'!$N$6:$O$11,MATCH(AE411,'OTRAS REFERENCIAS'!$O$6:$O$11,0),1))","v":""},null,null,null,null,{"$f":"IF(AJ411=\"\",\"\",INDEX('OTRAS REFERENCIAS'!$Q$6:$R$11,MATCH(AJ411,'OTRAS REFERENCIAS'!$R$6:$R$11,0),1))","v":""},null,null,null,{"$f":"IF(AN411=\"\",\"\",INDEX('OTRAS REFERENCIAS'!$T$6:$U$11,MATCH(AN411,'OTRAS REFERENCIAS'!$U$6:$U$11,0),1))","v":""}]
[1,"",410,"","",{"$f":"IF(L412<>\"\",CONCATENATE(DIGITADOR!$B$2,$A$2,DIGITADOR!$M$1,A412),\"\")","v":""},null,null,"",{"$f":"IF(K412=\"\",\"\",INDEX('OTRAS REFERENCIAS'!$AL:$AM,MATCH(K412,'OTRAS REFERENCIAS'!$AL:$AL,0),2))","v":""},null,{"$f":"IF(J412=\"\",\"\",INDEX(REFERENTES!$A:$D,MATCH(J412,REFERENTES!$C:$C,0),3))","v":""},null,null,null,null,null,null,null,{"$f":"IF(U412=\"\",\"\",INDEX('OTRAS REFERENCIAS'!$H$6:$I$11,MATCH(U412,'OTRAS REFERENCIAS'!$I$6:$I$11,0),1))","v":""},null,null,null,null,{"$f":"IF(Z412=\"\",\"\",INDEX('OTRAS REFERENCIAS'!$K$6:$L$11,MATCH(Z412,'OTRAS REFERENCIAS'!$L$6:$L$11,0),1))","v":""},null,null,null,null,{"$f":"IF(AE412=\"\",\"\",INDEX('OTRAS REFERENCIAS'!$N$6:$O$11,MATCH(AE412,'OTRAS REFERENCIAS'!$O$6:$O$11,0),1))","v":""},null,null,null,null,{"$f":"IF(AJ412=\"\",\"\",INDEX('OTRAS REFERENCIAS'!$Q$6:$R$11,MATCH(AJ412,'OTRAS REFERENCIAS'!$R$6:$R$11,0),1))","v":""},null,null,null,{"$f":"IF(AN412=\"\",\"\",INDEX('OTRAS REFERENCIAS'!$T$6:$U$11,MATCH(AN412,'OTRAS REFERENCIAS'!$U$6:$U$11,0),1))","v":""}]
[1,"",411,"","",{"$f":"IF(L413<>\"\",CONCATENATE(DIGITADOR!$B$2,$A$2,DIGITADOR!$M$1,A413),\"\")","v":""},null,null,"",{"$f":"IF(K413=\"\",\"\",INDEX('OTRAS REFERENCIAS'!$AL:$AM,MATCH(K413,'OTRAS REFERENCIAS'!$AL:$AL,0),2))","v":""},null,{"$f":"IF(J413=\"\",\"\",INDEX(REFERENTES!$A:$D,MATCH(J413,REFERENTES!$C:$C,0),3))","v":""},null,null,null,null,null,null,null,{"$f":"IF(U413=\"\",\"\",INDEX('OTRAS REFERENCIAS'!$H$6:$I$11,MATCH(U413,'OTRAS REFERENCIAS'!$I$6:$I$11,0),1))","v":""},null,null,null,null,{"$f":"IF(Z413=\"\",\"\",INDEX('OTRAS REFERENCIAS'!$K$6:$L$11,MATCH(Z413,'OTRAS REFERENCIAS'!$L$6:$L$11,0),1))","v":""},null,null,null,null,{"$f":"IF(AE413=\"\",\"\",INDEX('OTRAS REFERENCIAS'!$N$6:$O$11,MATCH(AE413,'OTRAS REFERENCIAS'!$O$6:$O$11,0),1))","v":""},null,null,null,null,{"$f":"IF(AJ413=\"\",\"\",INDEX('OTRAS REFERENCIAS'!$Q$6:$R$11,MATCH(AJ413,'OTRAS REFERENCIAS'!$R$6:$R$11,0),1))","v":""},null,null,null,{"$f":"IF(AN413=\"\",\"\",INDEX('OTRAS REFERENCIAS'!$T$6:$U$11,MATCH(AN413,'OTRAS REFERENCIAS'!$U$6:$U$11,0),1))","v":""}]
[1,"",412,"","",{"$f":"IF(L414<>\"\",CONCATENATE(DIGITADOR!$B$2,$A$2,DIGITADOR!$M$1,A414),\"\")","v":""},null,null,"",{"$f":"IF(K414=\"\",\"\",INDEX('OTRAS REFERENCIAS'!$AL:$AM,MATCH(K414,'OTRAS REFERENCIAS'!$AL:$AL,0),2))","v":""},null,{"$f":"IF(J414=\"\",\"\",INDEX(REFERENTES!$A:$D,MATCH(J414,REFERENTES!$C:$C,0),3))","v":""},null,null,null,null,null,null,null,{"$f":"IF(U414=\"\",\"\",INDEX('OTRAS REFERENCIAS'!$H$6:$I$11,MATCH(U414,'OTRAS REFERENCIAS'!$I$6:$I$11,0),1))","v":""},null,null,null,null,{"$f":"IF(Z414=\"\",\"\",INDEX('OTRAS REFERENCIAS'!$K$6:$L$11,MATCH(Z414,'OTRAS REFERENCIAS'!$L$6:$L$11,0),1))","v":""},null,null,null,null,{"$f":"IF(AE414=\"\",\"\",INDEX('OTRAS REFERENCIAS'!$N$6:$O$11,MATCH(AE414,'OTRAS REFERENCIAS'!$O$6:$O$11,0),1))","v":""},null,null,null,null,{"$f":"IF(AJ414=\"\",\"\",INDEX('OTRAS REFERENCIAS'!$Q$6:$R$11,MATCH(AJ414,'OTRAS REFERENCIAS'!$R$6:$R$11,0),1))","v":""},null,null,null,{"$f":"IF(AN414=\"\",\"\",INDEX('OTRAS REFERENCIAS'!$T$6:$U$11,MATCH(AN414,'OTRAS REFERENCIAS'!$U$6:$U$11,0),1))","v":""}]
[1,"",413,"","",{"$f":"IF(L415<>\"\",CONCATENATE(DIGITADOR!$B$2,$A$2,DIGITADOR!$M$1,A415),\"\")","v":""},null,null,"",{"$f":"IF(K415=\"\",\"\",INDEX('OTRAS REFERENCIAS'!$AL:$AM,MATCH(K415,'OTRAS REFERENCIAS'!$AL:$AL,0),2))","v":""},null,{"$f":"IF(J415=\"\",\"\",INDEX(REFERENTES!$A:$D,MATCH(J415,REFERENTES!$C:$C,0),3))","v":""},null,null,null,null,null,null,null,{"$f":"IF(U415=\"\",\"\",INDEX('OTRAS REFERENCIAS'!$H$6:$I$11,MATCH(U415,'OTRAS REFERENCIAS'!$I$6:$I$11,0),1))","v":""},null,null,null,null,{"$f":"IF(Z415=\"\",\"\",INDEX('OTRAS REFERENCIAS'!$K$6:$L$11,MATCH(Z415,'OTRAS REFERENCIAS'!$L$6:$L$11,0),1))","v":""},null,null,null,null,{"$f":"IF(AE415=\"\",\"\",INDEX('OTRAS REFERENCIAS'!$N$6:$O$11,MATCH(AE415,'OTRAS REFERENCIAS'!$O$6:$O$11,0),1))","v":""},null,null,null,null,{"$f":"IF(AJ415=\"\",\"\",INDEX('OTRAS REFERENCIAS'!$Q$6:$R$11,MATCH(AJ415,'OTRAS REFERENCIAS'!$R$6:$R$11,0),1))","v":""},null,null,null,{"$f":"IF(AN415=\"\",\"\",INDEX('OTRAS REFERENCIAS'!$T$6:$U$11,MATCH(AN415,'OTRAS REFERENCIAS'!$U$6:$U$11,0),1))","v":""}]
[1,"",414,"","",{"$f":"IF(L416<>\"\",CONCATENATE(DIGITADOR!$B$2,$A$2,DIGITADOR!$M$1,A416),\"\")","v":""},null,null,"",{"$f":"IF(K416=\"\",\"\",INDEX('OTRAS REFERENCIAS'!$AL:$AM,MATCH(K416,'OTRAS REFERENCIAS'!$AL:$AL,0),2))","v":""},null,{"$f":"IF(J416=\"\",\"\",INDEX(REFERENTES!$A:$D,MATCH(J416,REFERENTES!$C:$C,0),3))","v":""},null,null,null,null,null,null,null,{"$f":"IF(U416=\"\",\"\",INDEX('OTRAS REFERENCIAS'!$H$6:$I$11,MATCH(U416,'OTRAS REFERENCIAS'!$I$6:$I$11,0),1))","v":""},null,null,null,null,{"$f":"IF(Z416=\"\",\"\",INDEX('OTRAS REFERENCIAS'!$K$6:$L$11,MATCH(Z416,'OTRAS REFERENCIAS'!$L$6:$L$11,0),1))","v":""},null,null,null,null,{"$f":"IF(AE416=\"\",\"\",INDEX('OTRAS REFERENCIAS'!$N$6:$O$11,MATCH(AE416,'OTRAS REFERENCIAS'!$O$6:$O$11,0),1))","v":""},null,null,null,null,{"$f":"IF(AJ416=\"\",\"\",INDEX('OTRAS REFERENCIAS'!$Q$6:$R$11,MATCH(AJ416,'OTRAS REFERENCIAS'!$R$6:$R$11,0),1))","v":""},null,null,null,{"$f":"IF(AN416=\"\",\"\",INDEX('OTRAS REFERENCIAS'!$T$6:$U$11,MATCH(AN416,'OTRAS REFERENCIAS'!$U$6:$U$11,0),1))","v":""}]
[1,"",415,"","",{"$f":"IF(L417<>\"\",CONCATENATE(DIGITADOR!$B$2,$A$2,DIGITADOR!$M$1,A417),\"\")","v":""},null,null,"",{"$f":"IF(K417=\"\",\"\",INDEX('OTRAS REFERENCIAS'!$AL:$AM,MATCH(K417,'OTRAS REFERENCIAS'!$AL:$AL,0),2))","v":""},null,{"$f":"IF(J417=\"\",\"\",INDEX(REFERENTES!$A:$D,MATCH(J417,REFERENTES!$C:$C,0),3))","v":""},null,null,null,null,null,null,null,{"$f":"IF(U417=\"\",\"\",INDEX('OTRAS REFERENCIAS'!$H$6:$I$11,MATCH(U417,'OTRAS REFERENCIAS'!$I$6:$I$11,0),1))","v":""},null,null,null,null,{"$f":"IF(Z417=\"\",\"\",INDEX('OTRAS REFERENCIAS'!$K$6:$L$11,MATCH(Z417,'OTRAS REFERENCIAS'!$L$6:$L$11,0),1))","v":""},null,null,null,null,{"$f":"IF(AE417=\"\",\"\",INDEX('OTRAS REFERENCIAS'!$N$6:$O$11,MATCH(AE417,'OTRAS REFERENCIAS'!$O$6:$O$11,0),1))","v":""},null,null,null,null,{"$f":"IF(AJ417=\"\",\"\",INDEX('OTRAS REFERENCIAS'!$Q$6:$R$11,MATCH(AJ417,'OTRAS REFERENCIAS'!$R$6:$R$11,0),1))","v":""},null,null,null,{"$f":"IF(AN417=\"\",\"\",INDEX('OTRAS REFERENCIAS'!$T$6:$U$11,MATCH(AN417,'OTRAS REFERENCIAS'!$U$6:$U$11,0),1))","v":""}]
[1,"",416,"","",{"$f":"IF(L418<>\"\",CONCATENATE(DIGITADOR!$B$2,$A$2,DIGITADOR!$M$1,A418),\"\")","v":""},null,null,"",{"$f":"IF(K418=\"\",\"\",INDEX('OTRAS REFERENCIAS'!$AL:$AM,MATCH(K418,'OTRAS REFERENCIAS'!$AL:$AL,0),2))","v":""},null,{"$f":"IF(J418=\"\",\"\",INDEX(REFERENTES!$A:$D,MATCH(J418,REFERENTES!$C:$C,0),3))","v":""},null,null,null,null,null,null,null,{"$f":"IF(U418=\"\",\"\",INDEX('OTRAS REFERENCIAS'!$H$6:$I$11,MATCH(U418,'OTRAS REFERENCIAS'!$I$6:$I$11,0),1))","v":""},null,null,null,null,{"$f":"IF(Z418=\"\",\"\",INDEX('OTRAS REFERENCIAS'!$K$6:$L$11,MATCH(Z418,'OTRAS REFERENCIAS'!$L$6:$L$11,0),1))","v":""},null,null,null,null,{"$f":"IF(AE418=\"\",\"\",INDEX('OTRAS REFERENCIAS'!$N$6:$O$11,MATCH(AE418,'OTRAS REFERENCIAS'!$O$6:$O$11,0),1))","v":""},null,null,null,null,{"$f":"IF(AJ418=\"\",\"\",INDEX('OTRAS REFERENCIAS'!$Q$6:$R$11,MATCH(AJ418,'OTRAS REFERENCIAS'!$R$6:$R$11,0),1))","v":""},null,null,null,{"$f":"IF(AN418=\"\",\"\",INDEX('OTRAS REFERENCIAS'!$T$6:$U$11,MATCH(AN418,'OTRAS REFERENCIAS'!$U$6:$U$11,0),1))","v":""}]
[1,"",417,"","",{"$f":"IF(L419<>\"\",CONCATENATE(DIGITADOR!$B$2,$A$2,DIGITADOR!$M$1,A419),\"\")","v":""},null,null,"",{"$f":"IF(K419=\"\",\"\",INDEX('OTRAS REFERENCIAS'!$AL:$AM,MATCH(K419,'OTRAS REFERENCIAS'!$AL:$AL,0),2))","v":""},null,{"$f":"IF(J419=\"\",\"\",INDEX(REFERENTES!$A:$D,MATCH(J419,REFERENTES!$C:$C,0),3))","v":""},null,null,null,null,null,null,null,{"$f":"IF(U419=\"\",\"\",INDEX('OTRAS REFERENCIAS'!$H$6:$I$11,MATCH(U419,'OTRAS REFERENCIAS'!$I$6:$I$11,0),1))","v":""},null,null,null,null,{"$f":"IF(Z419=\"\",\"\",INDEX('OTRAS REFERENCIAS'!$K$6:$L$11,MATCH(Z419,'OTRAS REFERENCIAS'!$L$6:$L$11,0),1))","v":""},null,null,null,null,{"$f":"IF(AE419=\"\",\"\",INDEX('OTRAS REFERENCIAS'!$N$6:$O$11,MATCH(AE419,'OTRAS REFERENCIAS'!$O$6:$O$11,0),1))","v":""},null,null,null,null,{"$f":"IF(AJ419=\"\",\"\",INDEX('OTRAS REFERENCIAS'!$Q$6:$R$11,MATCH(AJ419,'OTRAS REFERENCIAS'!$R$6:$R$11,0),1))","v":""},null,null,null,{"$f":"IF(AN419=\"\",\"\",INDEX('OTRAS REFERENCIAS'!$T$6:$U$11,MATCH(AN419,'OTRAS REFERENCIAS'!$U$6:$U$11,0),1))","v":""}]
[1,"",418,"","",{"$f":"IF(L420<>\"\",CONCATENATE(DIGITADOR!$B$2,$A$2,DIGITADOR!$M$1,A420),\"\")","v":""},null,null,"",{"$f":"IF(K420=\"\",\"\",INDEX('OTRAS REFERENCIAS'!$AL:$AM,MATCH(K420,'OTRAS REFERENCIAS'!$AL:$AL,0),2))","v":""},null,{"$f":"IF(J420=\"\",\"\",INDEX(REFERENTES!$A:$D,MATCH(J420,REFERENTES!$C:$C,0),3))","v":""},null,null,null,null,null,null,null,{"$f":"IF(U420=\"\",\"\",INDEX('OTRAS REFERENCIAS'!$H$6:$I$11,MATCH(U420,'OTRAS REFERENCIAS'!$I$6:$I$11,0),1))","v":""},null,null,null,null,{"$f":"IF(Z420=\"\",\"\",INDEX('OTRAS REFERENCIAS'!$K$6:$L$11,MATCH(Z420,'OTRAS REFERENCIAS'!$L$6:$L$11,0),1))","v":""},null,null,null,null,{"$f":"IF(AE420=\"\",\"\",INDEX('OTRAS REFERENCIAS'!$N$6:$O$11,MATCH(AE420,'OTRAS REFERENCIAS'!$O$6:$O$11,0),1))","v":""},null,null,null,null,{"$f":"IF(AJ420=\"\",\"\",INDEX('OTRAS REFERENCIAS'!$Q$6:$R$11,MATCH(AJ420,'OTRAS REFERENCIAS'!$R$6:$R$11,0),1))","v":""},null,null,null,{"$f":"IF(AN420=\"\",\"\",INDEX('OTRAS REFERENCIAS'!$T$6:$U$11,MATCH(AN420,'OTRAS REFERENCIAS'!$U$6:$U$11,0),1))","v":""}]
[1,"",419,"","",{"$f":"IF(L421<>\"\",CONCATENATE(DIGITADOR!$B$2,$A$2,DIGITADOR!$M$1,A421),\"\")","v":""},null,null,"",{"$f":"IF(K421=\"\",\"\",INDEX('OTRAS REFERENCIAS'!$AL:$AM,MATCH(K421,'OTRAS REFERENCIAS'!$AL:$AL,0),2))","v":""},null,{"$f":"IF(J421=\"\",\"\",INDEX(REFERENTES!$A:$D,MATCH(J421,REFERENTES!$C:$C,0),3))","v":""},null,null,null,null,null,null,null,{"$f":"IF(U421=\"\",\"\",INDEX('OTRAS REFERENCIAS'!$H$6:$I$11,MATCH(U421,'OTRAS REFERENCIAS'!$I$6:$I$11,0),1))","v":""},null,null,null,null,{"$f":"IF(Z421=\"\",\"\",INDEX('OTRAS REFERENCIAS'!$K$6:$L$11,MATCH(Z421,'OTRAS REFERENCIAS'!$L$6:$L$11,0),1))","v":""},null,null,null,null,{"$f":"IF(AE421=\"\",\"\",INDEX('OTRAS REFERENCIAS'!$N$6:$O$11,MATCH(AE421,'OTRAS REFERENCIAS'!$O$6:$O$11,0),1))","v":""},null,null,null,null,{"$f":"IF(AJ421=\"\",\"\",INDEX('OTRAS REFERENCIAS'!$Q$6:$R$11,MATCH(AJ421,'OTRAS REFERENCIAS'!$R$6:$R$11,0),1))","v":""},null,null,null,{"$f":"IF(AN421=\"\",\"\",INDEX('OTRAS REFERENCIAS'!$T$6:$U$11,MATCH(AN421,'OTRAS REFERENCIAS'!$U$6:$U$11,0),1))","v":""}]
[1,"",420,"","",{"$f":"IF(L422<>\"\",CONCATENATE(DIGITADOR!$B$2,$A$2,DIGITADOR!$M$1,A422),\"\")","v":""},null,null,"",{"$f":"IF(K422=\"\",\"\",INDEX('OTRAS REFERENCIAS'!$AL:$AM,MATCH(K422,'OTRAS REFERENCIAS'!$AL:$AL,0),2))","v":""},null,{"$f":"IF(J422=\"\",\"\",INDEX(REFERENTES!$A:$D,MATCH(J422,REFERENTES!$C:$C,0),3))","v":""},null,null,null,null,null,null,null,{"$f":"IF(U422=\"\",\"\",INDEX('OTRAS REFERENCIAS'!$H$6:$I$11,MATCH(U422,'OTRAS REFERENCIAS'!$I$6:$I$11,0),1))","v":""},null,null,null,null,{"$f":"IF(Z422=\"\",\"\",INDEX('OTRAS REFERENCIAS'!$K$6:$L$11,MATCH(Z422,'OTRAS REFERENCIAS'!$L$6:$L$11,0),1))","v":""},null,null,null,null,{"$f":"IF(AE422=\"\",\"\",INDEX('OTRAS REFERENCIAS'!$N$6:$O$11,MATCH(AE422,'OTRAS REFERENCIAS'!$O$6:$O$11,0),1))","v":""},null,null,null,null,{"$f":"IF(AJ422=\"\",\"\",INDEX('OTRAS REFERENCIAS'!$Q$6:$R$11,MATCH(AJ422,'OTRAS REFERENCIAS'!$R$6:$R$11,0),1))","v":""},null,null,null,{"$f":"IF(AN422=\"\",\"\",INDEX('OTRAS REFERENCIAS'!$T$6:$U$11,MATCH(AN422,'OTRAS REFERENCIAS'!$U$6:$U$11,0),1))","v":""}]
[1,"",421,"","",{"$f":"IF(L423<>\"\",CONCATENATE(DIGITADOR!$B$2,$A$2,DIGITADOR!$M$1,A423),\"\")","v":""},null,null,"",{"$f":"IF(K423=\"\",\"\",INDEX('OTRAS REFERENCIAS'!$AL:$AM,MATCH(K423,'OTRAS REFERENCIAS'!$AL:$AL,0),2))","v":""},null,{"$f":"IF(J423=\"\",\"\",INDEX(REFERENTES!$A:$D,MATCH(J423,REFERENTES!$C:$C,0),3))","v":""},null,null,null,null,null,null,null,{"$f":"IF(U423=\"\",\"\",INDEX('OTRAS REFERENCIAS'!$H$6:$I$11,MATCH(U423,'OTRAS REFERENCIAS'!$I$6:$I$11,0),1))","v":""},null,null,null,null,{"$f":"IF(Z423=\"\",\"\",INDEX('OTRAS REFERENCIAS'!$K$6:$L$11,MATCH(Z423,'OTRAS REFERENCIAS'!$L$6:$L$11,0),1))","v":""},null,null,null,null,{"$f":"IF(AE423=\"\",\"\",INDEX('OTRAS REFERENCIAS'!$N$6:$O$11,MATCH(AE423,'OTRAS REFERENCIAS'!$O$6:$O$11,0),1))","v":""},null,null,null,null,{"$f":"IF(AJ423=\"\",\"\",INDEX('OTRAS REFERENCIAS'!$Q$6:$R$11,MATCH(AJ423,'OTRAS REFERENCIAS'!$R$6:$R$11,0),1))","v":""},null,null,null,{"$f":"IF(AN423=\"\",\"\",INDEX('OTRAS REFERENCIAS'!$T$6:$U$11,MATCH(AN423,'OTRAS REFERENCIAS'!$U$6:$U$11,0),1))","v":""}]
[1,"",422,"","",{"$f":"IF(L424<>\"\",CONCATENATE(DIGITADOR!$B$2,$A$2,DIGITADOR!$M$1,A424),\"\")","v":""},null,null,"",{"$f":"IF(K424=\"\",\"\",INDEX('OTRAS REFERENCIAS'!$AL:$AM,MATCH(K424,'OTRAS REFERENCIAS'!$AL:$AL,0),2))","v":""},null,{"$f":"IF(J424=\"\",\"\",INDEX(REFERENTES!$A:$D,MATCH(J424,REFERENTES!$C:$C,0),3))","v":""},null,null,null,null,null,null,null,{"$f":"IF(U424=\"\",\"\",INDEX('OTRAS REFERENCIAS'!$H$6:$I$11,MATCH(U424,'OTRAS REFERENCIAS'!$I$6:$I$11,0),1))","v":""},null,null,null,null,{"$f":"IF(Z424=\"\",\"\",INDEX('OTRAS REFERENCIAS'!$K$6:$L$11,MATCH(Z424,'OTRAS REFERENCIAS'!$L$6:$L$11,0),1))","v":""},null,null,null,null,{"$f":"IF(AE424=\"\",\"\",INDEX('OTRAS REFERENCIAS'!$N$6:$O$11,MATCH(AE424,'OTRAS REFERENCIAS'!$O$6:$O$11,0),1))","v":""},null,null,null,null,{"$f":"IF(AJ424=\"\",\"\",INDEX('OTRAS REFERENCIAS'!$Q$6:$R$11,MATCH(AJ424,'OTRAS REFERENCIAS'!$R$6:$R$11,0),1))","v":""},null,null,null,{"$f":"IF(AN424=\"\",\"\",INDEX('OTRAS REFERENCIAS'!$T$6:$U$11,MATCH(AN424,'OTRAS REFERENCIAS'!$U$6:$U$11,0),1))","v":""}]
[1,"",423,"","",{"$f":"IF(L425<>\"\",CONCATENATE(DIGITADOR!$B$2,$A$2,DIGITADOR!$M$1,A425),\"\")","v":""},null,null,"",{"$f":"IF(K425=\"\",\"\",INDEX('OTRAS REFERENCIAS'!$AL:$AM,MATCH(K425,'OTRAS REFERENCIAS'!$AL:$AL,0),2))","v":""},null,{"$f":"IF(J425=\"\",\"\",INDEX(REFERENTES!$A:$D,MATCH(J425,REFERENTES!$C:$C,0),3))","v":""},null,null,null,null,null,null,null,{"$f":"IF(U425=\"\",\"\",INDEX('OTRAS REFERENCIAS'!$H$6:$I$11,MATCH(U425,'OTRAS REFERENCIAS'!$I$6:$I$11,0),1))","v":""},null,null,null,null,{"$f":"IF(Z425=\"\",\"\",INDEX('OTRAS REFERENCIAS'!$K$6:$L$11,MATCH(Z425,'OTRAS REFERENCIAS'!$L$6:$L$11,0),1))","v":""},null,null,null,null,{"$f":"IF(AE425=\"\",\"\",INDEX('OTRAS REFERENCIAS'!$N$6:$O$11,MATCH(AE425,'OTRAS REFERENCIAS'!$O$6:$O$11,0),1))","v":""},null,null,null,null,{"$f":"IF(AJ425=\"\",\"\",INDEX('OTRAS REFERENCIAS'!$Q$6:$R$11,MATCH(AJ425,'OTRAS REFERENCIAS'!$R$6:$R$11,0),1))","v":""},null,null,null,{"$f":"IF(AN425=\"\",\"\",INDEX('OTRAS REFERENCIAS'!$T$6:$U$11,MATCH(AN425,'OTRAS REFERENCIAS'!$U$6:$U$11,0),1))","v":""}]
[1,"",424,"","",{"$f":"IF(L426<>\"\",CONCATENATE(DIGITADOR!$B$2,$A$2,DIGITADOR!$M$1,A426),\"\")","v":""},null,null,"",{"$f":"IF(K426=\"\",\"\",INDEX('OTRAS REFERENCIAS'!$AL:$AM,MATCH(K426,'OTRAS REFERENCIAS'!$AL:$AL,0),2))","v":""},null,{"$f":"IF(J426=\"\",\"\",INDEX(REFERENTES!$A:$D,MATCH(J426,REFERENTES!$C:$C,0),3))","v":""},null,null,null,null,null,null,null,{"$f":"IF(U426=\"\",\"\",INDEX('OTRAS REFERENCIAS'!$H$6:$I$11,MATCH(U426,'OTRAS REFERENCIAS'!$I$6:$I$11,0),1))","v":""},null,null,null,null,{"$f":"IF(Z426=\"\",\"\",INDEX('OTRAS REFERENCIAS'!$K$6:$L$11,MATCH(Z426,'OTRAS REFERENCIAS'!$L$6:$L$11,0),1))","v":""},null,null,null,null,{"$f":"IF(AE426=\"\",\"\",INDEX('OTRAS REFERENCIAS'!$N$6:$O$11,MATCH(AE426,'OTRAS REFERENCIAS'!$O$6:$O$11,0),1))","v":""},null,null,null,null,{"$f":"IF(AJ426=\"\",\"\",INDEX('OTRAS REFERENCIAS'!$Q$6:$R$11,MATCH(AJ426,'OTRAS REFERENCIAS'!$R$6:$R$11,0),1))","v":""},null,null,null,{"$f":"IF(AN426=\"\",\"\",INDEX('OTRAS REFERENCIAS'!$T$6:$U$11,MATCH(AN426,'OTRAS REFERENCIAS'!$U$6:$U$11,0),1))","v":""}]
[1,"",425,"","",{"$f":"IF(L427<>\"\",CONCATENATE(DIGITADOR!$B$2,$A$2,DIGITADOR!$M$1,A427),\"\")","v":""},null,null,"",{"$f":"IF(K427=\"\",\"\",INDEX('OTRAS REFERENCIAS'!$AL:$AM,MATCH(K427,'OTRAS REFERENCIAS'!$AL:$AL,0),2))","v":""},null,{"$f":"IF(J427=\"\",\"\",INDEX(REFERENTES!$A:$D,MATCH(J427,REFERENTES!$C:$C,0),3))","v":""},null,null,null,null,null,null,null,{"$f":"IF(U427=\"\",\"\",INDEX('OTRAS REFERENCIAS'!$H$6:$I$11,MATCH(U427,'OTRAS REFERENCIAS'!$I$6:$I$11,0),1))","v":""},null,null,null,null,{"$f":"IF(Z427=\"\",\"\",INDEX('OTRAS REFERENCIAS'!$K$6:$L$11,MATCH(Z427,'OTRAS REFERENCIAS'!$L$6:$L$11,0),1))","v":""},null,null,null,null,{"$f":"IF(AE427=\"\",\"\",INDEX('OTRAS REFERENCIAS'!$N$6:$O$11,MATCH(AE427,'OTRAS REFERENCIAS'!$O$6:$O$11,0),1))","v":""},null,null,null,null,{"$f":"IF(AJ427=\"\",\"\",INDEX('OTRAS REFERENCIAS'!$Q$6:$R$11,MATCH(AJ427,'OTRAS REFERENCIAS'!$R$6:$R$11,0),1))","v":""},null,null,null,{"$f":"IF(AN427=\"\",\"\",INDEX('OTRAS REFERENCIAS'!$T$6:$U$11,MATCH(AN427,'OTRAS REFERENCIAS'!$U$6:$U$11,0),1))","v":""}]
[1,"",426,"","",{"$f":"IF(L428<>\"\",CONCATENATE(DIGITADOR!$B$2,$A$2,DIGITADOR!$M$1,A428),\"\")","v":""},null,null,"",{"$f":"IF(K428=\"\",\"\",INDEX('OTRAS REFERENCIAS'!$AL:$AM,MATCH(K428,'OTRAS REFERENCIAS'!$AL:$AL,0),2))","v":""},null,{"$f":"IF(J428=\"\",\"\",INDEX(REFERENTES!$A:$D,MATCH(J428,REFERENTES!$C:$C,0),3))","v":""},null,null,null,null,null,null,null,{"$f":"IF(U428=\"\",\"\",INDEX('OTRAS REFERENCIAS'!$H$6:$I$11,MATCH(U428,'OTRAS REFERENCIAS'!$I$6:$I$11,0),1))","v":""},null,null,null,null,{"$f":"IF(Z428=\"\",\"\",INDEX('OTRAS REFERENCIAS'!$K$6:$L$11,MATCH(Z428,'OTRAS REFERENCIAS'!$L$6:$L$11,0),1))","v":""},null,null,null,null,{"$f":"IF(AE428=\"\",\"\",INDEX('OTRAS REFERENCIAS'!$N$6:$O$11,MATCH(AE428,'OTRAS REFERENCIAS'!$O$6:$O$11,0),1))","v":""},null,null,null,null,{"$f":"IF(AJ428=\"\",\"\",INDEX('OTRAS REFERENCIAS'!$Q$6:$R$11,MATCH(AJ428,'OTRAS REFERENCIAS'!$R$6:$R$11,0),1))","v":""},null,null,null,{"$f":"IF(AN428=\"\",\"\",INDEX('OTRAS REFERENCIAS'!$T$6:$U$11,MATCH(AN428,'OTRAS REFERENCIAS'!$U$6:$U$11,0),1))","v":""}]
[1,"",427,"","",{"$f":"IF(L429<>\"\",CONCATENATE(DIGITADOR!$B$2,$A$2,DIGITADOR!$M$1,A429),\"\")","v":""},null,null,"",{"$f":"IF(K429=\"\",\"\",INDEX('OTRAS REFERENCIAS'!$AL:$AM,MATCH(K429,'OTRAS REFERENCIAS'!$AL:$AL,0),2))","v":""},null,{"$f":"IF(J429=\"\",\"\",INDEX(REFERENTES!$A:$D,MATCH(J429,REFERENTES!$C:$C,0),3))","v":""},null,null,null,null,null,null,null,{"$f":"IF(U429=\"\",\"\",INDEX('OTRAS REFERENCIAS'!$H$6:$I$11,MATCH(U429,'OTRAS REFERENCIAS'!$I$6:$I$11,0),1))","v":""},null,null,null,null,{"$f":"IF(Z429=\"\",\"\",INDEX('OTRAS REFERENCIAS'!$K$6:$L$11,MATCH(Z429,'OTRAS REFERENCIAS'!$L$6:$L$11,0),1))","v":""},null,null,null,null,{"$f":"IF(AE429=\"\",\"\",INDEX('OTRAS REFERENCIAS'!$N$6:$O$11,MATCH(AE429,'OTRAS REFERENCIAS'!$O$6:$O$11,0),1))","v":""},null,null,null,null,{"$f":"IF(AJ429=\"\",\"\",INDEX('OTRAS REFERENCIAS'!$Q$6:$R$11,MATCH(AJ429,'OTRAS REFERENCIAS'!$R$6:$R$11,0),1))","v":""},null,null,null,{"$f":"IF(AN429=\"\",\"\",INDEX('OTRAS REFERENCIAS'!$T$6:$U$11,MATCH(AN429,'OTRAS REFERENCIAS'!$U$6:$U$11,0),1))","v":""}]
[1,"",428,"","",{"$f":"IF(L430<>\"\",CONCATENATE(DIGITADOR!$B$2,$A$2,DIGITADOR!$M$1,A430),\"\")","v":""},null,null,"",{"$f":"IF(K430=\"\",\"\",INDEX('OTRAS REFERENCIAS'!$AL:$AM,MATCH(K430,'OTRAS REFERENCIAS'!$AL:$AL,0),2))","v":""},null,{"$f":"IF(J430=\"\",\"\",INDEX(REFERENTES!$A:$D,MATCH(J430,REFERENTES!$C:$C,0),3))","v":""},null,null,null,null,null,null,null,{"$f":"IF(U430=\"\",\"\",INDEX('OTRAS REFERENCIAS'!$H$6:$I$11,MATCH(U430,'OTRAS REFERENCIAS'!$I$6:$I$11,0),1))","v":""},null,null,null,null,{"$f":"IF(Z430=\"\",\"\",INDEX('OTRAS REFERENCIAS'!$K$6:$L$11,MATCH(Z430,'OTRAS REFERENCIAS'!$L$6:$L$11,0),1))","v":""},null,null,null,null,{"$f":"IF(AE430=\"\",\"\",INDEX('OTRAS REFERENCIAS'!$N$6:$O$11,MATCH(AE430,'OTRAS REFERENCIAS'!$O$6:$O$11,0),1))","v":""},null,null,null,null,{"$f":"IF(AJ430=\"\",\"\",INDEX('OTRAS REFERENCIAS'!$Q$6:$R$11,MATCH(AJ430,'OTRAS REFERENCIAS'!$R$6:$R$11,0),1))","v":""},null,null,null,{"$f":"IF(AN430=\"\",\"\",INDEX('OTRAS REFERENCIAS'!$T$6:$U$11,MATCH(AN430,'OTRAS REFERENCIAS'!$U$6:$U$11,0),1))","v":""}]
[1,"",429,"","",{"$f":"IF(L431<>\"\",CONCATENATE(DIGITADOR!$B$2,$A$2,DIGITADOR!$M$1,A431),\"\")","v":""},null,null,"",{"$f":"IF(K431=\"\",\"\",INDEX('OTRAS REFERENCIAS'!$AL:$AM,MATCH(K431,'OTRAS REFERENCIAS'!$AL:$AL,0),2))","v":""},null,{"$f":"IF(J431=\"\",\"\",INDEX(REFERENTES!$A:$D,MATCH(J431,REFERENTES!$C:$C,0),3))","v":""},null,null,null,null,null,null,null,{"$f":"IF(U431=\"\",\"\",INDEX('OTRAS REFERENCIAS'!$H$6:$I$11,MATCH(U431,'OTRAS REFERENCIAS'!$I$6:$I$11,0),1))","v":""},null,null,null,null,{"$f":"IF(Z431=\"\",\"\",INDEX('OTRAS REFERENCIAS'!$K$6:$L$11,MATCH(Z431,'OTRAS REFERENCIAS'!$L$6:$L$11,0),1))","v":""},null,null,null,null,{"$f":"IF(AE431=\"\",\"\",INDEX('OTRAS REFERENCIAS'!$N$6:$O$11,MATCH(AE431,'OTRAS REFERENCIAS'!$O$6:$O$11,0),1))","v":""},null,null,null,null,{"$f":"IF(AJ431=\"\",\"\",INDEX('OTRAS REFERENCIAS'!$Q$6:$R$11,MATCH(AJ431,'OTRAS REFERENCIAS'!$R$6:$R$11,0),1))","v":""},null,null,null,{"$f":"IF(AN431=\"\",\"\",INDEX('OTRAS REFERENCIAS'!$T$6:$U$11,MATCH(AN431,'OTRAS REFERENCIAS'!$U$6:$U$11,0),1))","v":""}]
[1,"",430,"","",{"$f":"IF(L432<>\"\",CONCATENATE(DIGITADOR!$B$2,$A$2,DIGITADOR!$M$1,A432),\"\")","v":""},null,null,"",{"$f":"IF(K432=\"\",\"\",INDEX('OTRAS REFERENCIAS'!$AL:$AM,MATCH(K432,'OTRAS REFERENCIAS'!$AL:$AL,0),2))","v":""},null,{"$f":"IF(J432=\"\",\"\",INDEX(REFERENTES!$A:$D,MATCH(J432,REFERENTES!$C:$C,0),3))","v":""},null,null,null,null,null,null,null,{"$f":"IF(U432=\"\",\"\",INDEX('OTRAS REFERENCIAS'!$H$6:$I$11,MATCH(U432,'OTRAS REFERENCIAS'!$I$6:$I$11,0),1))","v":""},null,null,null,null,{"$f":"IF(Z432=\"\",\"\",INDEX('OTRAS REFERENCIAS'!$K$6:$L$11,MATCH(Z432,'OTRAS REFERENCIAS'!$L$6:$L$11,0),1))","v":""},null,null,null,null,{"$f":"IF(AE432=\"\",\"\",INDEX('OTRAS REFERENCIAS'!$N$6:$O$11,MATCH(AE432,'OTRAS REFERENCIAS'!$O$6:$O$11,0),1))","v":""},null,null,null,null,{"$f":"IF(AJ432=\"\",\"\",INDEX('OTRAS REFERENCIAS'!$Q$6:$R$11,MATCH(AJ432,'OTRAS REFERENCIAS'!$R$6:$R$11,0),1))","v":""},null,null,null,{"$f":"IF(AN432=\"\",\"\",INDEX('OTRAS REFERENCIAS'!$T$6:$U$11,MATCH(AN432,'OTRAS REFERENCIAS'!$U$6:$U$11,0),1))","v":""}]
[1,"",431,"","",{"$f":"IF(L433<>\"\",CONCATENATE(DIGITADOR!$B$2,$A$2,DIGITADOR!$M$1,A433),\"\")","v":""},null,null,"",{"$f":"IF(K433=\"\",\"\",INDEX('OTRAS REFERENCIAS'!$AL:$AM,MATCH(K433,'OTRAS REFERENCIAS'!$AL:$AL,0),2))","v":""},null,{"$f":"IF(J433=\"\",\"\",INDEX(REFERENTES!$A:$D,MATCH(J433,REFERENTES!$C:$C,0),3))","v":""},null,null,null,null,null,null,null,{"$f":"IF(U433=\"\",\"\",INDEX('OTRAS REFERENCIAS'!$H$6:$I$11,MATCH(U433,'OTRAS REFERENCIAS'!$I$6:$I$11,0),1))","v":""},null,null,null,null,{"$f":"IF(Z433=\"\",\"\",INDEX('OTRAS REFERENCIAS'!$K$6:$L$11,MATCH(Z433,'OTRAS REFERENCIAS'!$L$6:$L$11,0),1))","v":""},null,null,null,null,{"$f":"IF(AE433=\"\",\"\",INDEX('OTRAS REFERENCIAS'!$N$6:$O$11,MATCH(AE433,'OTRAS REFERENCIAS'!$O$6:$O$11,0),1))","v":""},null,null,null,null,{"$f":"IF(AJ433=\"\",\"\",INDEX('OTRAS REFERENCIAS'!$Q$6:$R$11,MATCH(AJ433,'OTRAS REFERENCIAS'!$R$6:$R$11,0),1))","v":""},null,null,null,{"$f":"IF(AN433=\"\",\"\",INDEX('OTRAS REFERENCIAS'!$T$6:$U$11,MATCH(AN433,'OTRAS REFERENCIAS'!$U$6:$U$11,0),1))","v":""}]
[1,"",432,"","",{"$f":"IF(L434<>\"\",CONCATENATE(DIGITADOR!$B$2,$A$2,DIGITADOR!$M$1,A434),\"\")","v":""},null,null,"",{"$f":"IF(K434=\"\",\"\",INDEX('OTRAS REFERENCIAS'!$AL:$AM,MATCH(K434,'OTRAS REFERENCIAS'!$AL:$AL,0),2))","v":""},null,{"$f":"IF(J434=\"\",\"\",INDEX(REFERENTES!$A:$D,MATCH(J434,REFERENTES!$C:$C,0),3))","v":""},null,null,null,null,null,null,null,{"$f":"IF(U434=\"\",\"\",INDEX('OTRAS REFERENCIAS'!$H$6:$I$11,MATCH(U434,'OTRAS REFERENCIAS'!$I$6:$I$11,0),1))","v":""},null,null,null,null,{"$f":"IF(Z434=\"\",\"\",INDEX('OTRAS REFERENCIAS'!$K$6:$L$11,MATCH(Z434,'OTRAS REFERENCIAS'!$L$6:$L$11,0),1))","v":""},null,null,null,null,{"$f":"IF(AE434=\"\",\"\",INDEX('OTRAS REFERENCIAS'!$N$6:$O$11,MATCH(AE434,'OTRAS REFERENCIAS'!$O$6:$O$11,0),1))","v":""},null,null,null,null,{"$f":"IF(AJ434=\"\",\"\",INDEX('OTRAS REFERENCIAS'!$Q$6:$R$11,MATCH(AJ434,'OTRAS REFERENCIAS'!$R$6:$R$11,0),1))","v":""},null,null,null,{"$f":"IF(AN434=\"\",\"\",INDEX('OTRAS REFERENCIAS'!$T$6:$U$11,MATCH(AN434,'OTRAS REFERENCIAS'!$U$6:$U$11,0),1))","v":""}]
[1,"",433,"","",{"$f":"IF(L435<>\"\",CONCATENATE(DIGITADOR!$B$2,$A$2,DIGITADOR!$M$1,A435),\"\")","v":""},null,null,"",{"$f":"IF(K435=\"\",\"\",INDEX('OTRAS REFERENCIAS'!$AL:$AM,MATCH(K435,'OTRAS REFERENCIAS'!$AL:$AL,0),2))","v":""},null,{"$f":"IF(J435=\"\",\"\",INDEX(REFERENTES!$A:$D,MATCH(J435,REFERENTES!$C:$C,0),3))","v":""},null,null,null,null,null,null,null,{"$f":"IF(U435=\"\",\"\",INDEX('OTRAS REFERENCIAS'!$H$6:$I$11,MATCH(U435,'OTRAS REFERENCIAS'!$I$6:$I$11,0),1))","v":""},null,null,null,null,{"$f":"IF(Z435=\"\",\"\",INDEX('OTRAS REFERENCIAS'!$K$6:$L$11,MATCH(Z435,'OTRAS REFERENCIAS'!$L$6:$L$11,0),1))","v":""},null,null,null,null,{"$f":"IF(AE435=\"\",\"\",INDEX('OTRAS REFERENCIAS'!$N$6:$O$11,MATCH(AE435,'OTRAS REFERENCIAS'!$O$6:$O$11,0),1))","v":""},null,null,null,null,{"$f":"IF(AJ435=\"\",\"\",INDEX('OTRAS REFERENCIAS'!$Q$6:$R$11,MATCH(AJ435,'OTRAS REFERENCIAS'!$R$6:$R$11,0),1))","v":""},null,null,null,{"$f":"IF(AN435=\"\",\"\",INDEX('OTRAS REFERENCIAS'!$T$6:$U$11,MATCH(AN435,'OTRAS REFERENCIAS'!$U$6:$U$11,0),1))","v":""}]
[1,"",434,"","",{"$f":"IF(L436<>\"\",CONCATENATE(DIGITADOR!$B$2,$A$2,DIGITADOR!$M$1,A436),\"\")","v":""},null,null,"",{"$f":"IF(K436=\"\",\"\",INDEX('OTRAS REFERENCIAS'!$AL:$AM,MATCH(K436,'OTRAS REFERENCIAS'!$AL:$AL,0),2))","v":""},null,{"$f":"IF(J436=\"\",\"\",INDEX(REFERENTES!$A:$D,MATCH(J436,REFERENTES!$C:$C,0),3))","v":""},null,null,null,null,null,null,null,{"$f":"IF(U436=\"\",\"\",INDEX('OTRAS REFERENCIAS'!$H$6:$I$11,MATCH(U436,'OTRAS REFERENCIAS'!$I$6:$I$11,0),1))","v":""},null,null,null,null,{"$f":"IF(Z436=\"\",\"\",INDEX('OTRAS REFERENCIAS'!$K$6:$L$11,MATCH(Z436,'OTRAS REFERENCIAS'!$L$6:$L$11,0),1))","v":""},null,null,null,null,{"$f":"IF(AE436=\"\",\"\",INDEX('OTRAS REFERENCIAS'!$N$6:$O$11,MATCH(AE436,'OTRAS REFERENCIAS'!$O$6:$O$11,0),1))","v":""},null,null,null,null,{"$f":"IF(AJ436=\"\",\"\",INDEX('OTRAS REFERENCIAS'!$Q$6:$R$11,MATCH(AJ436,'OTRAS REFERENCIAS'!$R$6:$R$11,0),1))","v":""},null,null,null,{"$f":"IF(AN436=\"\",\"\",INDEX('OTRAS REFERENCIAS'!$T$6:$U$11,MATCH(AN436,'OTRAS REFERENCIAS'!$U$6:$U$11,0),1))","v":""}]
[1,"",435,"","",{"$f":"IF(L437<>\"\",CONCATENATE(DIGITADOR!$B$2,$A$2,DIGITADOR!$M$1,A437),\"\")","v":""},null,null,"",{"$f":"IF(K437=\"\",\"\",INDEX('OTRAS REFERENCIAS'!$AL:$AM,MATCH(K437,'OTRAS REFERENCIAS'!$AL:$AL,0),2))","v":""},null,{"$f":"IF(J437=\"\",\"\",INDEX(REFERENTES!$A:$D,MATCH(J437,REFERENTES!$C:$C,0),3))","v":""},null,null,null,null,null,null,null,{"$f":"IF(U437=\"\",\"\",INDEX('OTRAS REFERENCIAS'!$H$6:$I$11,MATCH(U437,'OTRAS REFERENCIAS'!$I$6:$I$11,0),1))","v":""},null,null,null,null,{"$f":"IF(Z437=\"\",\"\",INDEX('OTRAS REFERENCIAS'!$K$6:$L$11,MATCH(Z437,'OTRAS REFERENCIAS'!$L$6:$L$11,0),1))","v":""},null,null,null,null,{"$f":"IF(AE437=\"\",\"\",INDEX('OTRAS REFERENCIAS'!$N$6:$O$11,MATCH(AE437,'OTRAS REFERENCIAS'!$O$6:$O$11,0),1))","v":""},null,null,null,null,{"$f":"IF(AJ437=\"\",\"\",INDEX('OTRAS REFERENCIAS'!$Q$6:$R$11,MATCH(AJ437,'OTRAS REFERENCIAS'!$R$6:$R$11,0),1))","v":""},null,null,null,{"$f":"IF(AN437=\"\",\"\",INDEX('OTRAS REFERENCIAS'!$T$6:$U$11,MATCH(AN437,'OTRAS REFERENCIAS'!$U$6:$U$11,0),1))","v":""}]
[1,"",436,"","",{"$f":"IF(L438<>\"\",CONCATENATE(DIGITADOR!$B$2,$A$2,DIGITADOR!$M$1,A438),\"\")","v":""},null,null,"",{"$f":"IF(K438=\"\",\"\",INDEX('OTRAS REFERENCIAS'!$AL:$AM,MATCH(K438,'OTRAS REFERENCIAS'!$AL:$AL,0),2))","v":""},null,{"$f":"IF(J438=\"\",\"\",INDEX(REFERENTES!$A:$D,MATCH(J438,REFERENTES!$C:$C,0),3))","v":""},null,null,null,null,null,null,null,{"$f":"IF(U438=\"\",\"\",INDEX('OTRAS REFERENCIAS'!$H$6:$I$11,MATCH(U438,'OTRAS REFERENCIAS'!$I$6:$I$11,0),1))","v":""},null,null,null,null,{"$f":"IF(Z438=\"\",\"\",INDEX('OTRAS REFERENCIAS'!$K$6:$L$11,MATCH(Z438,'OTRAS REFERENCIAS'!$L$6:$L$11,0),1))","v":""},null,null,null,null,{"$f":"IF(AE438=\"\",\"\",INDEX('OTRAS REFERENCIAS'!$N$6:$O$11,MATCH(AE438,'OTRAS REFERENCIAS'!$O$6:$O$11,0),1))","v":""},null,null,null,null,{"$f":"IF(AJ438=\"\",\"\",INDEX('OTRAS REFERENCIAS'!$Q$6:$R$11,MATCH(AJ438,'OTRAS REFERENCIAS'!$R$6:$R$11,0),1))","v":""},null,null,null,{"$f":"IF(AN438=\"\",\"\",INDEX('OTRAS REFERENCIAS'!$T$6:$U$11,MATCH(AN438,'OTRAS REFERENCIAS'!$U$6:$U$11,0),1))","v":""}]
[1,"",437,"","",{"$f":"IF(L439<>\"\",CONCATENATE(DIGITADOR!$B$2,$A$2,DIGITADOR!$M$1,A439),\"\")","v":""},null,null,"",{"$f":"IF(K439=\"\",\"\",INDEX('OTRAS REFERENCIAS'!$AL:$AM,MATCH(K439,'OTRAS REFERENCIAS'!$AL:$AL,0),2))","v":""},null,{"$f":"IF(J439=\"\",\"\",INDEX(REFERENTES!$A:$D,MATCH(J439,REFERENTES!$C:$C,0),3))","v":""},null,null,null,null,null,null,null,{"$f":"IF(U439=\"\",\"\",INDEX('OTRAS REFERENCIAS'!$H$6:$I$11,MATCH(U439,'OTRAS REFERENCIAS'!$I$6:$I$11,0),1))","v":""},null,null,null,null,{"$f":"IF(Z439=\"\",\"\",INDEX('OTRAS REFERENCIAS'!$K$6:$L$11,MATCH(Z439,'OTRAS REFERENCIAS'!$L$6:$L$11,0),1))","v":""},null,null,null,null,{"$f":"IF(AE439=\"\",\"\",INDEX('OTRAS REFERENCIAS'!$N$6:$O$11,MATCH(AE439,'OTRAS REFERENCIAS'!$O$6:$O$11,0),1))","v":""},null,null,null,null,{"$f":"IF(AJ439=\"\",\"\",INDEX('OTRAS REFERENCIAS'!$Q$6:$R$11,MATCH(AJ439,'OTRAS REFERENCIAS'!$R$6:$R$11,0),1))","v":""},null,null,null,{"$f":"IF(AN439=\"\",\"\",INDEX('OTRAS REFERENCIAS'!$T$6:$U$11,MATCH(AN439,'OTRAS REFERENCIAS'!$U$6:$U$11,0),1))","v":""}]
[1,"",438,"","",{"$f":"IF(L440<>\"\",CONCATENATE(DIGITADOR!$B$2,$A$2,DIGITADOR!$M$1,A440),\"\")","v":""},null,null,"",{"$f":"IF(K440=\"\",\"\",INDEX('OTRAS REFERENCIAS'!$AL:$AM,MATCH(K440,'OTRAS REFERENCIAS'!$AL:$AL,0),2))","v":""},null,{"$f":"IF(J440=\"\",\"\",INDEX(REFERENTES!$A:$D,MATCH(J440,REFERENTES!$C:$C,0),3))","v":""},null,null,null,null,null,null,null,{"$f":"IF(U440=\"\",\"\",INDEX('OTRAS REFERENCIAS'!$H$6:$I$11,MATCH(U440,'OTRAS REFERENCIAS'!$I$6:$I$11,0),1))","v":""},null,null,null,null,{"$f":"IF(Z440=\"\",\"\",INDEX('OTRAS REFERENCIAS'!$K$6:$L$11,MATCH(Z440,'OTRAS REFERENCIAS'!$L$6:$L$11,0),1))","v":""},null,null,null,null,{"$f":"IF(AE440=\"\",\"\",INDEX('OTRAS REFERENCIAS'!$N$6:$O$11,MATCH(AE440,'OTRAS REFERENCIAS'!$O$6:$O$11,0),1))","v":""},null,null,null,null,{"$f":"IF(AJ440=\"\",\"\",INDEX('OTRAS REFERENCIAS'!$Q$6:$R$11,MATCH(AJ440,'OTRAS REFERENCIAS'!$R$6:$R$11,0),1))","v":""},null,null,null,{"$f":"IF(AN440=\"\",\"\",INDEX('OTRAS REFERENCIAS'!$T$6:$U$11,MATCH(AN440,'OTRAS REFERENCIAS'!$U$6:$U$11,0),1))","v":""}]
[1,"",439,"","",{"$f":"IF(L441<>\"\",CONCATENATE(DIGITADOR!$B$2,$A$2,DIGITADOR!$M$1,A441),\"\")","v":""},null,null,"",{"$f":"IF(K441=\"\",\"\",INDEX('OTRAS REFERENCIAS'!$AL:$AM,MATCH(K441,'OTRAS REFERENCIAS'!$AL:$AL,0),2))","v":""},null,{"$f":"IF(J441=\"\",\"\",INDEX(REFERENTES!$A:$D,MATCH(J441,REFERENTES!$C:$C,0),3))","v":""},null,null,null,null,null,null,null,{"$f":"IF(U441=\"\",\"\",INDEX('OTRAS REFERENCIAS'!$H$6:$I$11,MATCH(U441,'OTRAS REFERENCIAS'!$I$6:$I$11,0),1))","v":""},null,null,null,null,{"$f":"IF(Z441=\"\",\"\",INDEX('OTRAS REFERENCIAS'!$K$6:$L$11,MATCH(Z441,'OTRAS REFERENCIAS'!$L$6:$L$11,0),1))","v":""},null,null,null,null,{"$f":"IF(AE441=\"\",\"\",INDEX('OTRAS REFERENCIAS'!$N$6:$O$11,MATCH(AE441,'OTRAS REFERENCIAS'!$O$6:$O$11,0),1))","v":""},null,null,null,null,{"$f":"IF(AJ441=\"\",\"\",INDEX('OTRAS REFERENCIAS'!$Q$6:$R$11,MATCH(AJ441,'OTRAS REFERENCIAS'!$R$6:$R$11,0),1))","v":""},null,null,null,{"$f":"IF(AN441=\"\",\"\",INDEX('OTRAS REFERENCIAS'!$T$6:$U$11,MATCH(AN441,'OTRAS REFERENCIAS'!$U$6:$U$11,0),1))","v":""}]
[1,"",440,"","",{"$f":"IF(L442<>\"\",CONCATENATE(DIGITADOR!$B$2,$A$2,DIGITADOR!$M$1,A442),\"\")","v":""},null,null,"",{"$f":"IF(K442=\"\",\"\",INDEX('OTRAS REFERENCIAS'!$AL:$AM,MATCH(K442,'OTRAS REFERENCIAS'!$AL:$AL,0),2))","v":""},null,{"$f":"IF(J442=\"\",\"\",INDEX(REFERENTES!$A:$D,MATCH(J442,REFERENTES!$C:$C,0),3))","v":""},null,null,null,null,null,null,null,{"$f":"IF(U442=\"\",\"\",INDEX('OTRAS REFERENCIAS'!$H$6:$I$11,MATCH(U442,'OTRAS REFERENCIAS'!$I$6:$I$11,0),1))","v":""},null,null,null,null,{"$f":"IF(Z442=\"\",\"\",INDEX('OTRAS REFERENCIAS'!$K$6:$L$11,MATCH(Z442,'OTRAS REFERENCIAS'!$L$6:$L$11,0),1))","v":""},null,null,null,null,{"$f":"IF(AE442=\"\",\"\",INDEX('OTRAS REFERENCIAS'!$N$6:$O$11,MATCH(AE442,'OTRAS REFERENCIAS'!$O$6:$O$11,0),1))","v":""},null,null,null,null,{"$f":"IF(AJ442=\"\",\"\",INDEX('OTRAS REFERENCIAS'!$Q$6:$R$11,MATCH(AJ442,'OTRAS REFERENCIAS'!$R$6:$R$11,0),1))","v":""},null,null,null,{"$f":"IF(AN442=\"\",\"\",INDEX('OTRAS REFERENCIAS'!$T$6:$U$11,MATCH(AN442,'OTRAS REFERENCIAS'!$U$6:$U$11,0),1))","v":""}]
[1,"",441,"","",{"$f":"IF(L443<>\"\",CONCATENATE(DIGITADOR!$B$2,$A$2,DIGITADOR!$M$1,A443),\"\")","v":""},null,null,"",{"$f":"IF(K443=\"\",\"\",INDEX('OTRAS REFERENCIAS'!$AL:$AM,MATCH(K443,'OTRAS REFERENCIAS'!$AL:$AL,0),2))","v":""},null,{"$f":"IF(J443=\"\",\"\",INDEX(REFERENTES!$A:$D,MATCH(J443,REFERENTES!$C:$C,0),3))","v":""},null,null,null,null,null,null,null,{"$f":"IF(U443=\"\",\"\",INDEX('OTRAS REFERENCIAS'!$H$6:$I$11,MATCH(U443,'OTRAS REFERENCIAS'!$I$6:$I$11,0),1))","v":""},null,null,null,null,{"$f":"IF(Z443=\"\",\"\",INDEX('OTRAS REFERENCIAS'!$K$6:$L$11,MATCH(Z443,'OTRAS REFERENCIAS'!$L$6:$L$11,0),1))","v":""},null,null,null,null,{"$f":"IF(AE443=\"\",\"\",INDEX('OTRAS REFERENCIAS'!$N$6:$O$11,MATCH(AE443,'OTRAS REFERENCIAS'!$O$6:$O$11,0),1))","v":""},null,null,null,null,{"$f":"IF(AJ443=\"\",\"\",INDEX('OTRAS REFERENCIAS'!$Q$6:$R$11,MATCH(AJ443,'OTRAS REFERENCIAS'!$R$6:$R$11,0),1))","v":""},null,null,null,{"$f":"IF(AN443=\"\",\"\",INDEX('OTRAS REFERENCIAS'!$T$6:$U$11,MATCH(AN443,'OTRAS REFERENCIAS'!$U$6:$U$11,0),1))","v":""}]
[1,"",442,"","",{"$f":"IF(L444<>\"\",CONCATENATE(DIGITADOR!$B$2,$A$2,DIGITADOR!$M$1,A444),\"\")","v":""},null,null,"",{"$f":"IF(K444=\"\",\"\",INDEX('OTRAS REFERENCIAS'!$AL:$AM,MATCH(K444,'OTRAS REFERENCIAS'!$AL:$AL,0),2))","v":""},null,{"$f":"IF(J444=\"\",\"\",INDEX(REFERENTES!$A:$D,MATCH(J444,REFERENTES!$C:$C,0),3))","v":""},null,null,null,null,null,null,null,{"$f":"IF(U444=\"\",\"\",INDEX('OTRAS REFERENCIAS'!$H$6:$I$11,MATCH(U444,'OTRAS REFERENCIAS'!$I$6:$I$11,0),1))","v":""},null,null,null,null,{"$f":"IF(Z444=\"\",\"\",INDEX('OTRAS REFERENCIAS'!$K$6:$L$11,MATCH(Z444,'OTRAS REFERENCIAS'!$L$6:$L$11,0),1))","v":""},null,null,null,null,{"$f":"IF(AE444=\"\",\"\",INDEX('OTRAS REFERENCIAS'!$N$6:$O$11,MATCH(AE444,'OTRAS REFERENCIAS'!$O$6:$O$11,0),1))","v":""},null,null,null,null,{"$f":"IF(AJ444=\"\",\"\",INDEX('OTRAS REFERENCIAS'!$Q$6:$R$11,MATCH(AJ444,'OTRAS REFERENCIAS'!$R$6:$R$11,0),1))","v":""},null,null,null,{"$f":"IF(AN444=\"\",\"\",INDEX('OTRAS REFERENCIAS'!$T$6:$U$11,MATCH(AN444,'OTRAS REFERENCIAS'!$U$6:$U$11,0),1))","v":""}]
[1,"",443,"","",{"$f":"IF(L445<>\"\",CONCATENATE(DIGITADOR!$B$2,$A$2,DIGITADOR!$M$1,A445),\"\")","v":""},null,null,"",{"$f":"IF(K445=\"\",\"\",INDEX('OTRAS REFERENCIAS'!$AL:$AM,MATCH(K445,'OTRAS REFERENCIAS'!$AL:$AL,0),2))","v":""},null,{"$f":"IF(J445=\"\",\"\",INDEX(REFERENTES!$A:$D,MATCH(J445,REFERENTES!$C:$C,0),3))","v":""},null,null,null,null,null,null,null,{"$f":"IF(U445=\"\",\"\",INDEX('OTRAS REFERENCIAS'!$H$6:$I$11,MATCH(U445,'OTRAS REFERENCIAS'!$I$6:$I$11,0),1))","v":""},null,null,null,null,{"$f":"IF(Z445=\"\",\"\",INDEX('OTRAS REFERENCIAS'!$K$6:$L$11,MATCH(Z445,'OTRAS REFERENCIAS'!$L$6:$L$11,0),1))","v":""},null,null,null,null,{"$f":"IF(AE445=\"\",\"\",INDEX('OTRAS REFERENCIAS'!$N$6:$O$11,MATCH(AE445,'OTRAS REFERENCIAS'!$O$6:$O$11,0),1))","v":""},null,null,null,null,{"$f":"IF(AJ445=\"\",\"\",INDEX('OTRAS REFERENCIAS'!$Q$6:$R$11,MATCH(AJ445,'OTRAS REFERENCIAS'!$R$6:$R$11,0),1))","v":""},null,null,null,{"$f":"IF(AN445=\"\",\"\",INDEX('OTRAS REFERENCIAS'!$T$6:$U$11,MATCH(AN445,'OTRAS REFERENCIAS'!$U$6:$U$11,0),1))","v":""}]
[1,"",444,"","",{"$f":"IF(L446<>\"\",CONCATENATE(DIGITADOR!$B$2,$A$2,DIGITADOR!$M$1,A446),\"\")","v":""},null,null,"",{"$f":"IF(K446=\"\",\"\",INDEX('OTRAS REFERENCIAS'!$AL:$AM,MATCH(K446,'OTRAS REFERENCIAS'!$AL:$AL,0),2))","v":""},null,{"$f":"IF(J446=\"\",\"\",INDEX(REFERENTES!$A:$D,MATCH(J446,REFERENTES!$C:$C,0),3))","v":""},null,null,null,null,null,null,null,{"$f":"IF(U446=\"\",\"\",INDEX('OTRAS REFERENCIAS'!$H$6:$I$11,MATCH(U446,'OTRAS REFERENCIAS'!$I$6:$I$11,0),1))","v":""},null,null,null,null,{"$f":"IF(Z446=\"\",\"\",INDEX('OTRAS REFERENCIAS'!$K$6:$L$11,MATCH(Z446,'OTRAS REFERENCIAS'!$L$6:$L$11,0),1))","v":""},null,null,null,null,{"$f":"IF(AE446=\"\",\"\",INDEX('OTRAS REFERENCIAS'!$N$6:$O$11,MATCH(AE446,'OTRAS REFERENCIAS'!$O$6:$O$11,0),1))","v":""},null,null,null,null,{"$f":"IF(AJ446=\"\",\"\",INDEX('OTRAS REFERENCIAS'!$Q$6:$R$11,MATCH(AJ446,'OTRAS REFERENCIAS'!$R$6:$R$11,0),1))","v":""},null,null,null,{"$f":"IF(AN446=\"\",\"\",INDEX('OTRAS REFERENCIAS'!$T$6:$U$11,MATCH(AN446,'OTRAS REFERENCIAS'!$U$6:$U$11,0),1))","v":""}]
[1,"",445,"","",{"$f":"IF(L447<>\"\",CONCATENATE(DIGITADOR!$B$2,$A$2,DIGITADOR!$M$1,A447),\"\")","v":""},null,null,"",{"$f":"IF(K447=\"\",\"\",INDEX('OTRAS REFERENCIAS'!$AL:$AM,MATCH(K447,'OTRAS REFERENCIAS'!$AL:$AL,0),2))","v":""},null,{"$f":"IF(J447=\"\",\"\",INDEX(REFERENTES!$A:$D,MATCH(J447,REFERENTES!$C:$C,0),3))","v":""},null,null,null,null,null,null,null,{"$f":"IF(U447=\"\",\"\",INDEX('OTRAS REFERENCIAS'!$H$6:$I$11,MATCH(U447,'OTRAS REFERENCIAS'!$I$6:$I$11,0),1))","v":""},null,null,null,null,{"$f":"IF(Z447=\"\",\"\",INDEX('OTRAS REFERENCIAS'!$K$6:$L$11,MATCH(Z447,'OTRAS REFERENCIAS'!$L$6:$L$11,0),1))","v":""},null,null,null,null,{"$f":"IF(AE447=\"\",\"\",INDEX('OTRAS REFERENCIAS'!$N$6:$O$11,MATCH(AE447,'OTRAS REFERENCIAS'!$O$6:$O$11,0),1))","v":""},null,null,null,null,{"$f":"IF(AJ447=\"\",\"\",INDEX('OTRAS REFERENCIAS'!$Q$6:$R$11,MATCH(AJ447,'OTRAS REFERENCIAS'!$R$6:$R$11,0),1))","v":""},null,null,null,{"$f":"IF(AN447=\"\",\"\",INDEX('OTRAS REFERENCIAS'!$T$6:$U$11,MATCH(AN447,'OTRAS REFERENCIAS'!$U$6:$U$11,0),1))","v":""}]
[1,"",446,"","",{"$f":"IF(L448<>\"\",CONCATENATE(DIGITADOR!$B$2,$A$2,DIGITADOR!$M$1,A448),\"\")","v":""},null,null,"",{"$f":"IF(K448=\"\",\"\",INDEX('OTRAS REFERENCIAS'!$AL:$AM,MATCH(K448,'OTRAS REFERENCIAS'!$AL:$AL,0),2))","v":""},null,{"$f":"IF(J448=\"\",\"\",INDEX(REFERENTES!$A:$D,MATCH(J448,REFERENTES!$C:$C,0),3))","v":""},null,null,null,null,null,null,null,{"$f":"IF(U448=\"\",\"\",INDEX('OTRAS REFERENCIAS'!$H$6:$I$11,MATCH(U448,'OTRAS REFERENCIAS'!$I$6:$I$11,0),1))","v":""},null,null,null,null,{"$f":"IF(Z448=\"\",\"\",INDEX('OTRAS REFERENCIAS'!$K$6:$L$11,MATCH(Z448,'OTRAS REFERENCIAS'!$L$6:$L$11,0),1))","v":""},null,null,null,null,{"$f":"IF(AE448=\"\",\"\",INDEX('OTRAS REFERENCIAS'!$N$6:$O$11,MATCH(AE448,'OTRAS REFERENCIAS'!$O$6:$O$11,0),1))","v":""},null,null,null,null,{"$f":"IF(AJ448=\"\",\"\",INDEX('OTRAS REFERENCIAS'!$Q$6:$R$11,MATCH(AJ448,'OTRAS REFERENCIAS'!$R$6:$R$11,0),1))","v":""},null,null,null,{"$f":"IF(AN448=\"\",\"\",INDEX('OTRAS REFERENCIAS'!$T$6:$U$11,MATCH(AN448,'OTRAS REFERENCIAS'!$U$6:$U$11,0),1))","v":""}]
[1,"",447,"","",{"$f":"IF(L449<>\"\",CONCATENATE(DIGITADOR!$B$2,$A$2,DIGITADOR!$M$1,A449),\"\")","v":""},null,null,"",{"$f":"IF(K449=\"\",\"\",INDEX('OTRAS REFERENCIAS'!$AL:$AM,MATCH(K449,'OTRAS REFERENCIAS'!$AL:$AL,0),2))","v":""},null,{"$f":"IF(J449=\"\",\"\",INDEX(REFERENTES!$A:$D,MATCH(J449,REFERENTES!$C:$C,0),3))","v":""},null,null,null,null,null,null,null,{"$f":"IF(U449=\"\",\"\",INDEX('OTRAS REFERENCIAS'!$H$6:$I$11,MATCH(U449,'OTRAS REFERENCIAS'!$I$6:$I$11,0),1))","v":""},null,null,null,null,{"$f":"IF(Z449=\"\",\"\",INDEX('OTRAS REFERENCIAS'!$K$6:$L$11,MATCH(Z449,'OTRAS REFERENCIAS'!$L$6:$L$11,0),1))","v":""},null,null,null,null,{"$f":"IF(AE449=\"\",\"\",INDEX('OTRAS REFERENCIAS'!$N$6:$O$11,MATCH(AE449,'OTRAS REFERENCIAS'!$O$6:$O$11,0),1))","v":""},null,null,null,null,{"$f":"IF(AJ449=\"\",\"\",INDEX('OTRAS REFERENCIAS'!$Q$6:$R$11,MATCH(AJ449,'OTRAS REFERENCIAS'!$R$6:$R$11,0),1))","v":""},null,null,null,{"$f":"IF(AN449=\"\",\"\",INDEX('OTRAS REFERENCIAS'!$T$6:$U$11,MATCH(AN449,'OTRAS REFERENCIAS'!$U$6:$U$11,0),1))","v":""}]
[1,"",448,"","",{"$f":"IF(L450<>\"\",CONCATENATE(DIGITADOR!$B$2,$A$2,DIGITADOR!$M$1,A450),\"\")","v":""},null,null,"",{"$f":"IF(K450=\"\",\"\",INDEX('OTRAS REFERENCIAS'!$AL:$AM,MATCH(K450,'OTRAS REFERENCIAS'!$AL:$AL,0),2))","v":""},null,{"$f":"IF(J450=\"\",\"\",INDEX(REFERENTES!$A:$D,MATCH(J450,REFERENTES!$C:$C,0),3))","v":""},null,null,null,null,null,null,null,{"$f":"IF(U450=\"\",\"\",INDEX('OTRAS REFERENCIAS'!$H$6:$I$11,MATCH(U450,'OTRAS REFERENCIAS'!$I$6:$I$11,0),1))","v":""},null,null,null,null,{"$f":"IF(Z450=\"\",\"\",INDEX('OTRAS REFERENCIAS'!$K$6:$L$11,MATCH(Z450,'OTRAS REFERENCIAS'!$L$6:$L$11,0),1))","v":""},null,null,null,null,{"$f":"IF(AE450=\"\",\"\",INDEX('OTRAS REFERENCIAS'!$N$6:$O$11,MATCH(AE450,'OTRAS REFERENCIAS'!$O$6:$O$11,0),1))","v":""},null,null,null,null,{"$f":"IF(AJ450=\"\",\"\",INDEX('OTRAS REFERENCIAS'!$Q$6:$R$11,MATCH(AJ450,'OTRAS REFERENCIAS'!$R$6:$R$11,0),1))","v":""},null,null,null,{"$f":"IF(AN450=\"\",\"\",INDEX('OTRAS REFERENCIAS'!$T$6:$U$11,MATCH(AN450,'OTRAS REFERENCIAS'!$U$6:$U$11,0),1))","v":""}]
[1,"",449,"",{"$f":"CONCATENATE(I451,L451)","v":""},{"$f":"IF(L451<>\"\",CONCATENATE(DIGITADOR!$B$2,$A$2,DIGITADOR!$M$1,A451),\"\")","v":""},null,null,{"$f":"IF(G451<>\"\",G451+H451,\"\")","v":""},{"$f":"IF(K451=\"\",\"\",INDEX('OTRAS REFERENCIAS'!$AL:$AM,MATCH(K451,'OTRAS REFERENCIAS'!$AL:$AL,0),2))","v":""},null,{"$f":"IF(J451=\"\",\"\",INDEX(REFERENTES!$A:$D,MATCH(J451,REFERENTES!$C:$C,0),3))","v":""},null,null,null,null,null,null,null,{"$f":"IF(U451=\"\",\"\",INDEX('OTRAS REFERENCIAS'!$H$6:$I$11,MATCH(U451,'OTRAS REFERENCIAS'!$I$6:$I$11,0),1))","v":""},null,null,null,null,{"$f":"IF(Z451=\"\",\"\",INDEX('OTRAS REFERENCIAS'!$K$6:$L$11,MATCH(Z451,'OTRAS REFERENCIAS'!$L$6:$L$11,0),1))","v":""},null,null,null,null,{"$f":"IF(AE451=\"\",\"\",INDEX('OTRAS REFERENCIAS'!$N$6:$O$11,MATCH(AE451,'OTRAS REFERENCIAS'!$O$6:$O$11,0),1))","v":""},null,null,null,null,{"$f":"IF(AJ451=\"\",\"\",INDEX('OTRAS REFERENCIAS'!$Q$6:$R$11,MATCH(AJ451,'OTRAS REFERENCIAS'!$R$6:$R$11,0),1))","v":""},null,null,null,{"$f":"IF(AN451=\"\",\"\",INDEX('OTRAS REFERENCIAS'!$T$6:$U$11,MATCH(AN451,'OTRAS REFERENCIAS'!$U$6:$U$11,0),1))","v":""}]
[1,"",450,{"$f":"IF(L452=\"\",\"\",CONCATENATE(C452,F452))","v":""},"",{"$f":"IF(L452<>\"\",CONCATENATE(DIGITADOR!$B$2,$A$2,DIGITADOR!$M$1,A452),\"\")","v":""},null,null,"",{"$f":"IF(K452=\"\",\"\",INDEX('OTRAS REFERENCIAS'!$AL:$AM,MATCH(K452,'OTRAS REFERENCIAS'!$AL:$AL,0),2))","v":""},null,{"$f":"IF(J452=\"\",\"\",INDEX(REFERENTES!$A:$D,MATCH(J452,REFERENTES!$C:$C,0),3))","v":""},null,null,null,null,null,null,null,{"$f":"IF(U452=\"\",\"\",INDEX('OTRAS REFERENCIAS'!$H$6:$I$11,MATCH(U452,'OTRAS REFERENCIAS'!$I$6:$I$11,0),1))","v":""},null,null,null,null,{"$f":"IF(Z452=\"\",\"\",INDEX('OTRAS REFERENCIAS'!$K$6:$L$11,MATCH(Z452,'OTRAS REFERENCIAS'!$L$6:$L$11,0),1))","v":""},null,null,null,null,{"$f":"IF(AE452=\"\",\"\",INDEX('OTRAS REFERENCIAS'!$N$6:$O$11,MATCH(AE452,'OTRAS REFERENCIAS'!$O$6:$O$11,0),1))","v":""},null,null,null,null,{"$f":"IF(AJ452=\"\",\"\",INDEX('OTRAS REFERENCIAS'!$Q$6:$R$11,MATCH(AJ452,'OTRAS REFERENCIAS'!$R$6:$R$11,0),1))","v":""},null,null,null,{"$f":"IF(AN452=\"\",\"\",INDEX('OTRAS REFERENCIAS'!$T$6:$U$11,MATCH(AN452,'OTRAS REFERENCIAS'!$U$6:$U$11,0),1))","v":""}]
[{"$f":"IF(L453=L452,A452,A452+1)","v":1},{"$f":"IF(F453<>F452, F453,\"\")","v":""},451,"","",{"$f":"IF(L453<>\"\",CONCATENATE(DIGITADOR!$B$2,$A$2,DIGITADOR!$M$1,A453),\"\")","v":""},null,null,"",{"$f":"IF(K453=\"\",\"\",INDEX('OTRAS REFERENCIAS'!$AL:$AM,MATCH(K453,'OTRAS REFERENCIAS'!$AL:$AL,0),2))","v":""},null,{"$f":"IF(J453=\"\",\"\",INDEX(REFERENTES!$A:$D,MATCH(J453,REFERENTES!$C:$C,0),3))","v":""},null,null,null,null,null,null,null,{"$f":"IF(U453=\"\",\"\",INDEX('OTRAS REFERENCIAS'!$H$6:$I$11,MATCH(U453,'OTRAS REFERENCIAS'!$I$6:$I$11,0),1))","v":""},null,null,null,null,{"$f":"IF(Z453=\"\",\"\",INDEX('OTRAS REFERENCIAS'!$K$6:$L$11,MATCH(Z453,'OTRAS REFERENCIAS'!$L$6:$L$11,0),1))","v":""},null,null,null,null,{"$f":"IF(AE453=\"\",\"\",INDEX('OTRAS REFERENCIAS'!$N$6:$O$11,MATCH(AE453,'OTRAS REFERENCIAS'!$O$6:$O$11,0),1))","v":""},null,null,null,null,{"$f":"IF(AJ453=\"\",\"\",INDEX('OTRAS REFERENCIAS'!$Q$6:$R$11,MATCH(AJ453,'OTRAS REFERENCIAS'!$R$6:$R$11,0),1))","v":""},null,null,null,{"$f":"IF(AN453=\"\",\"\",INDEX('OTRAS REFERENCIAS'!$T$6:$U$11,MATCH(AN453,'OTRAS REFERENCIAS'!$U$6:$U$11,0),1))","v":""}]
[1,"",452,"","",{"$f":"IF(L454<>\"\",CONCATENATE(DIGITADOR!$B$2,$A$2,DIGITADOR!$M$1,A454),\"\")","v":""},null,null,"",{"$f":"IF(K454=\"\",\"\",INDEX('OTRAS REFERENCIAS'!$AL:$AM,MATCH(K454,'OTRAS REFERENCIAS'!$AL:$AL,0),2))","v":""},null,{"$f":"IF(J454=\"\",\"\",INDEX(REFERENTES!$A:$D,MATCH(J454,REFERENTES!$C:$C,0),3))","v":""},null,null,null,null,null,null,null,{"$f":"IF(U454=\"\",\"\",INDEX('OTRAS REFERENCIAS'!$H$6:$I$11,MATCH(U454,'OTRAS REFERENCIAS'!$I$6:$I$11,0),1))","v":""},null,null,null,null,{"$f":"IF(Z454=\"\",\"\",INDEX('OTRAS REFERENCIAS'!$K$6:$L$11,MATCH(Z454,'OTRAS REFERENCIAS'!$L$6:$L$11,0),1))","v":""},null,null,null,null,{"$f":"IF(AE454=\"\",\"\",INDEX('OTRAS REFERENCIAS'!$N$6:$O$11,MATCH(AE454,'OTRAS REFERENCIAS'!$O$6:$O$11,0),1))","v":""},null,null,null,null,{"$f":"IF(AJ454=\"\",\"\",INDEX('OTRAS REFERENCIAS'!$Q$6:$R$11,MATCH(AJ454,'OTRAS REFERENCIAS'!$R$6:$R$11,0),1))","v":""},null,null,null,{"$f":"IF(AN454=\"\",\"\",INDEX('OTRAS REFERENCIAS'!$T$6:$U$11,MATCH(AN454,'OTRAS REFERENCIAS'!$U$6:$U$11,0),1))","v":""}]
[1,"",453,"","",{"$f":"IF(L455<>\"\",CONCATENATE(DIGITADOR!$B$2,$A$2,DIGITADOR!$M$1,A455),\"\")","v":""},null,null,"",{"$f":"IF(K455=\"\",\"\",INDEX('OTRAS REFERENCIAS'!$AL:$AM,MATCH(K455,'OTRAS REFERENCIAS'!$AL:$AL,0),2))","v":""},null,{"$f":"IF(J455=\"\",\"\",INDEX(REFERENTES!$A:$D,MATCH(J455,REFERENTES!$C:$C,0),3))","v":""},null,null,null,null,null,null,null,{"$f":"IF(U455=\"\",\"\",INDEX('OTRAS REFERENCIAS'!$H$6:$I$11,MATCH(U455,'OTRAS REFERENCIAS'!$I$6:$I$11,0),1))","v":""},null,null,null,null,{"$f":"IF(Z455=\"\",\"\",INDEX('OTRAS REFERENCIAS'!$K$6:$L$11,MATCH(Z455,'OTRAS REFERENCIAS'!$L$6:$L$11,0),1))","v":""},null,null,null,null,{"$f":"IF(AE455=\"\",\"\",INDEX('OTRAS REFERENCIAS'!$N$6:$O$11,MATCH(AE455,'OTRAS REFERENCIAS'!$O$6:$O$11,0),1))","v":""},null,null,null,null,{"$f":"IF(AJ455=\"\",\"\",INDEX('OTRAS REFERENCIAS'!$Q$6:$R$11,MATCH(AJ455,'OTRAS REFERENCIAS'!$R$6:$R$11,0),1))","v":""},null,null,null,{"$f":"IF(AN455=\"\",\"\",INDEX('OTRAS REFERENCIAS'!$T$6:$U$11,MATCH(AN455,'OTRAS REFERENCIAS'!$U$6:$U$11,0),1))","v":""}]
[1,"",454,"","",{"$f":"IF(L456<>\"\",CONCATENATE(DIGITADOR!$B$2,$A$2,DIGITADOR!$M$1,A456),\"\")","v":""},null,null,"",{"$f":"IF(K456=\"\",\"\",INDEX('OTRAS REFERENCIAS'!$AL:$AM,MATCH(K456,'OTRAS REFERENCIAS'!$AL:$AL,0),2))","v":""},null,{"$f":"IF(J456=\"\",\"\",INDEX(REFERENTES!$A:$D,MATCH(J456,REFERENTES!$C:$C,0),3))","v":""},null,null,null,null,null,null,null,{"$f":"IF(U456=\"\",\"\",INDEX('OTRAS REFERENCIAS'!$H$6:$I$11,MATCH(U456,'OTRAS REFERENCIAS'!$I$6:$I$11,0),1))","v":""},null,null,null,null,{"$f":"IF(Z456=\"\",\"\",INDEX('OTRAS REFERENCIAS'!$K$6:$L$11,MATCH(Z456,'OTRAS REFERENCIAS'!$L$6:$L$11,0),1))","v":""},null,null,null,null,{"$f":"IF(AE456=\"\",\"\",INDEX('OTRAS REFERENCIAS'!$N$6:$O$11,MATCH(AE456,'OTRAS REFERENCIAS'!$O$6:$O$11,0),1))","v":""},null,null,null,null,{"$f":"IF(AJ456=\"\",\"\",INDEX('OTRAS REFERENCIAS'!$Q$6:$R$11,MATCH(AJ456,'OTRAS REFERENCIAS'!$R$6:$R$11,0),1))","v":""},null,null,null,{"$f":"IF(AN456=\"\",\"\",INDEX('OTRAS REFERENCIAS'!$T$6:$U$11,MATCH(AN456,'OTRAS REFERENCIAS'!$U$6:$U$11,0),1))","v":""}]
[1,"",455,"","",{"$f":"IF(L457<>\"\",CONCATENATE(DIGITADOR!$B$2,$A$2,DIGITADOR!$M$1,A457),\"\")","v":""},null,null,"",{"$f":"IF(K457=\"\",\"\",INDEX('OTRAS REFERENCIAS'!$AL:$AM,MATCH(K457,'OTRAS REFERENCIAS'!$AL:$AL,0),2))","v":""},null,{"$f":"IF(J457=\"\",\"\",INDEX(REFERENTES!$A:$D,MATCH(J457,REFERENTES!$C:$C,0),3))","v":""},null,null,null,null,null,null,null,{"$f":"IF(U457=\"\",\"\",INDEX('OTRAS REFERENCIAS'!$H$6:$I$11,MATCH(U457,'OTRAS REFERENCIAS'!$I$6:$I$11,0),1))","v":""},null,null,null,null,{"$f":"IF(Z457=\"\",\"\",INDEX('OTRAS REFERENCIAS'!$K$6:$L$11,MATCH(Z457,'OTRAS REFERENCIAS'!$L$6:$L$11,0),1))","v":""},null,null,null,null,{"$f":"IF(AE457=\"\",\"\",INDEX('OTRAS REFERENCIAS'!$N$6:$O$11,MATCH(AE457,'OTRAS REFERENCIAS'!$O$6:$O$11,0),1))","v":""},null,null,null,null,{"$f":"IF(AJ457=\"\",\"\",INDEX('OTRAS REFERENCIAS'!$Q$6:$R$11,MATCH(AJ457,'OTRAS REFERENCIAS'!$R$6:$R$11,0),1))","v":""},null,null,null,{"$f":"IF(AN457=\"\",\"\",INDEX('OTRAS REFERENCIAS'!$T$6:$U$11,MATCH(AN457,'OTRAS REFERENCIAS'!$U$6:$U$11,0),1))","v":""}]
[1,"",456,"","",{"$f":"IF(L458<>\"\",CONCATENATE(DIGITADOR!$B$2,$A$2,DIGITADOR!$M$1,A458),\"\")","v":""},null,null,"",{"$f":"IF(K458=\"\",\"\",INDEX('OTRAS REFERENCIAS'!$AL:$AM,MATCH(K458,'OTRAS REFERENCIAS'!$AL:$AL,0),2))","v":""},null,{"$f":"IF(J458=\"\",\"\",INDEX(REFERENTES!$A:$D,MATCH(J458,REFERENTES!$C:$C,0),3))","v":""},null,null,null,null,null,null,null,{"$f":"IF(U458=\"\",\"\",INDEX('OTRAS REFERENCIAS'!$H$6:$I$11,MATCH(U458,'OTRAS REFERENCIAS'!$I$6:$I$11,0),1))","v":""},null,null,null,null,{"$f":"IF(Z458=\"\",\"\",INDEX('OTRAS REFERENCIAS'!$K$6:$L$11,MATCH(Z458,'OTRAS REFERENCIAS'!$L$6:$L$11,0),1))","v":""},null,null,null,null,{"$f":"IF(AE458=\"\",\"\",INDEX('OTRAS REFERENCIAS'!$N$6:$O$11,MATCH(AE458,'OTRAS REFERENCIAS'!$O$6:$O$11,0),1))","v":""},null,null,null,null,{"$f":"IF(AJ458=\"\",\"\",INDEX('OTRAS REFERENCIAS'!$Q$6:$R$11,MATCH(AJ458,'OTRAS REFERENCIAS'!$R$6:$R$11,0),1))","v":""},null,null,null,{"$f":"IF(AN458=\"\",\"\",INDEX('OTRAS REFERENCIAS'!$T$6:$U$11,MATCH(AN458,'OTRAS REFERENCIAS'!$U$6:$U$11,0),1))","v":""}]
[1,"",457,"","",{"$f":"IF(L459<>\"\",CONCATENATE(DIGITADOR!$B$2,$A$2,DIGITADOR!$M$1,A459),\"\")","v":""},null,null,"",{"$f":"IF(K459=\"\",\"\",INDEX('OTRAS REFERENCIAS'!$AL:$AM,MATCH(K459,'OTRAS REFERENCIAS'!$AL:$AL,0),2))","v":""},null,{"$f":"IF(J459=\"\",\"\",INDEX(REFERENTES!$A:$D,MATCH(J459,REFERENTES!$C:$C,0),3))","v":""},null,null,null,null,null,null,null,{"$f":"IF(U459=\"\",\"\",INDEX('OTRAS REFERENCIAS'!$H$6:$I$11,MATCH(U459,'OTRAS REFERENCIAS'!$I$6:$I$11,0),1))","v":""},null,null,null,null,{"$f":"IF(Z459=\"\",\"\",INDEX('OTRAS REFERENCIAS'!$K$6:$L$11,MATCH(Z459,'OTRAS REFERENCIAS'!$L$6:$L$11,0),1))","v":""},null,null,null,null,{"$f":"IF(AE459=\"\",\"\",INDEX('OTRAS REFERENCIAS'!$N$6:$O$11,MATCH(AE459,'OTRAS REFERENCIAS'!$O$6:$O$11,0),1))","v":""},null,null,null,null,{"$f":"IF(AJ459=\"\",\"\",INDEX('OTRAS REFERENCIAS'!$Q$6:$R$11,MATCH(AJ459,'OTRAS REFERENCIAS'!$R$6:$R$11,0),1))","v":""},null,null,null,{"$f":"IF(AN459=\"\",\"\",INDEX('OTRAS REFERENCIAS'!$T$6:$U$11,MATCH(AN459,'OTRAS REFERENCIAS'!$U$6:$U$11,0),1))","v":""}]
[1,"",458,"","",{"$f":"IF(L460<>\"\",CONCATENATE(DIGITADOR!$B$2,$A$2,DIGITADOR!$M$1,A460),\"\")","v":""},null,null,"",{"$f":"IF(K460=\"\",\"\",INDEX('OTRAS REFERENCIAS'!$AL:$AM,MATCH(K460,'OTRAS REFERENCIAS'!$AL:$AL,0),2))","v":""},null,{"$f":"IF(J460=\"\",\"\",INDEX(REFERENTES!$A:$D,MATCH(J460,REFERENTES!$C:$C,0),3))","v":""},null,null,null,null,null,null,null,{"$f":"IF(U460=\"\",\"\",INDEX('OTRAS REFERENCIAS'!$H$6:$I$11,MATCH(U460,'OTRAS REFERENCIAS'!$I$6:$I$11,0),1))","v":""},null,null,null,null,{"$f":"IF(Z460=\"\",\"\",INDEX('OTRAS REFERENCIAS'!$K$6:$L$11,MATCH(Z460,'OTRAS REFERENCIAS'!$L$6:$L$11,0),1))","v":""},null,null,null,null,{"$f":"IF(AE460=\"\",\"\",INDEX('OTRAS REFERENCIAS'!$N$6:$O$11,MATCH(AE460,'OTRAS REFERENCIAS'!$O$6:$O$11,0),1))","v":""},null,null,null,null,{"$f":"IF(AJ460=\"\",\"\",INDEX('OTRAS REFERENCIAS'!$Q$6:$R$11,MATCH(AJ460,'OTRAS REFERENCIAS'!$R$6:$R$11,0),1))","v":""},null,null,null,{"$f":"IF(AN460=\"\",\"\",INDEX('OTRAS REFERENCIAS'!$T$6:$U$11,MATCH(AN460,'OTRAS REFERENCIAS'!$U$6:$U$11,0),1))","v":""}]
[1,"",459,"","",{"$f":"IF(L461<>\"\",CONCATENATE(DIGITADOR!$B$2,$A$2,DIGITADOR!$M$1,A461),\"\")","v":""},null,null,"",{"$f":"IF(K461=\"\",\"\",INDEX('OTRAS REFERENCIAS'!$AL:$AM,MATCH(K461,'OTRAS REFERENCIAS'!$AL:$AL,0),2))","v":""},null,{"$f":"IF(J461=\"\",\"\",INDEX(REFERENTES!$A:$D,MATCH(J461,REFERENTES!$C:$C,0),3))","v":""},null,null,null,null,null,null,null,{"$f":"IF(U461=\"\",\"\",INDEX('OTRAS REFERENCIAS'!$H$6:$I$11,MATCH(U461,'OTRAS REFERENCIAS'!$I$6:$I$11,0),1))","v":""},null,null,null,null,{"$f":"IF(Z461=\"\",\"\",INDEX('OTRAS REFERENCIAS'!$K$6:$L$11,MATCH(Z461,'OTRAS REFERENCIAS'!$L$6:$L$11,0),1))","v":""},null,null,null,null,{"$f":"IF(AE461=\"\",\"\",INDEX('OTRAS REFERENCIAS'!$N$6:$O$11,MATCH(AE461,'OTRAS REFERENCIAS'!$O$6:$O$11,0),1))","v":""},null,null,null,null,{"$f":"IF(AJ461=\"\",\"\",INDEX('OTRAS REFERENCIAS'!$Q$6:$R$11,MATCH(AJ461,'OTRAS REFERENCIAS'!$R$6:$R$11,0),1))","v":""},null,null,null,{"$f":"IF(AN461=\"\",\"\",INDEX('OTRAS REFERENCIAS'!$T$6:$U$11,MATCH(AN461,'OTRAS REFERENCIAS'!$U$6:$U$11,0),1))","v":""}]
[1,"",460,"","",{"$f":"IF(L462<>\"\",CONCATENATE(DIGITADOR!$B$2,$A$2,DIGITADOR!$M$1,A462),\"\")","v":""},null,null,"",{"$f":"IF(K462=\"\",\"\",INDEX('OTRAS REFERENCIAS'!$AL:$AM,MATCH(K462,'OTRAS REFERENCIAS'!$AL:$AL,0),2))","v":""},null,{"$f":"IF(J462=\"\",\"\",INDEX(REFERENTES!$A:$D,MATCH(J462,REFERENTES!$C:$C,0),3))","v":""},null,null,null,null,null,null,null,{"$f":"IF(U462=\"\",\"\",INDEX('OTRAS REFERENCIAS'!$H$6:$I$11,MATCH(U462,'OTRAS REFERENCIAS'!$I$6:$I$11,0),1))","v":""},null,null,null,null,{"$f":"IF(Z462=\"\",\"\",INDEX('OTRAS REFERENCIAS'!$K$6:$L$11,MATCH(Z462,'OTRAS REFERENCIAS'!$L$6:$L$11,0),1))","v":""},null,null,null,null,{"$f":"IF(AE462=\"\",\"\",INDEX('OTRAS REFERENCIAS'!$N$6:$O$11,MATCH(AE462,'OTRAS REFERENCIAS'!$O$6:$O$11,0),1))","v":""},null,null,null,null,{"$f":"IF(AJ462=\"\",\"\",INDEX('OTRAS REFERENCIAS'!$Q$6:$R$11,MATCH(AJ462,'OTRAS REFERENCIAS'!$R$6:$R$11,0),1))","v":""},null,null,null,{"$f":"IF(AN462=\"\",\"\",INDEX('OTRAS REFERENCIAS'!$T$6:$U$11,MATCH(AN462,'OTRAS REFERENCIAS'!$U$6:$U$11,0),1))","v":""}]
[1,"",461,"","",{"$f":"IF(L463<>\"\",CONCATENATE(DIGITADOR!$B$2,$A$2,DIGITADOR!$M$1,A463),\"\")","v":""},null,null,"",{"$f":"IF(K463=\"\",\"\",INDEX('OTRAS REFERENCIAS'!$AL:$AM,MATCH(K463,'OTRAS REFERENCIAS'!$AL:$AL,0),2))","v":""},null,{"$f":"IF(J463=\"\",\"\",INDEX(REFERENTES!$A:$D,MATCH(J463,REFERENTES!$C:$C,0),3))","v":""},null,null,null,null,null,null,null,{"$f":"IF(U463=\"\",\"\",INDEX('OTRAS REFERENCIAS'!$H$6:$I$11,MATCH(U463,'OTRAS REFERENCIAS'!$I$6:$I$11,0),1))","v":""},null,null,null,null,{"$f":"IF(Z463=\"\",\"\",INDEX('OTRAS REFERENCIAS'!$K$6:$L$11,MATCH(Z463,'OTRAS REFERENCIAS'!$L$6:$L$11,0),1))","v":""},null,null,null,null,{"$f":"IF(AE463=\"\",\"\",INDEX('OTRAS REFERENCIAS'!$N$6:$O$11,MATCH(AE463,'OTRAS REFERENCIAS'!$O$6:$O$11,0),1))","v":""},null,null,null,null,{"$f":"IF(AJ463=\"\",\"\",INDEX('OTRAS REFERENCIAS'!$Q$6:$R$11,MATCH(AJ463,'OTRAS REFERENCIAS'!$R$6:$R$11,0),1))","v":""},null,null,null,{"$f":"IF(AN463=\"\",\"\",INDEX('OTRAS REFERENCIAS'!$T$6:$U$11,MATCH(AN463,'OTRAS REFERENCIAS'!$U$6:$U$11,0),1))","v":""}]
[1,"",462,"","",{"$f":"IF(L464<>\"\",CONCATENATE(DIGITADOR!$B$2,$A$2,DIGITADOR!$M$1,A464),\"\")","v":""},null,null,"",{"$f":"IF(K464=\"\",\"\",INDEX('OTRAS REFERENCIAS'!$AL:$AM,MATCH(K464,'OTRAS REFERENCIAS'!$AL:$AL,0),2))","v":""},null,{"$f":"IF(J464=\"\",\"\",INDEX(REFERENTES!$A:$D,MATCH(J464,REFERENTES!$C:$C,0),3))","v":""},null,null,null,null,null,null,null,{"$f":"IF(U464=\"\",\"\",INDEX('OTRAS REFERENCIAS'!$H$6:$I$11,MATCH(U464,'OTRAS REFERENCIAS'!$I$6:$I$11,0),1))","v":""},null,null,null,null,{"$f":"IF(Z464=\"\",\"\",INDEX('OTRAS REFERENCIAS'!$K$6:$L$11,MATCH(Z464,'OTRAS REFERENCIAS'!$L$6:$L$11,0),1))","v":""},null,null,null,null,{"$f":"IF(AE464=\"\",\"\",INDEX('OTRAS REFERENCIAS'!$N$6:$O$11,MATCH(AE464,'OTRAS REFERENCIAS'!$O$6:$O$11,0),1))","v":""},null,null,null,null,{"$f":"IF(AJ464=\"\",\"\",INDEX('OTRAS REFERENCIAS'!$Q$6:$R$11,MATCH(AJ464,'OTRAS REFERENCIAS'!$R$6:$R$11,0),1))","v":""},null,null,null,{"$f":"IF(AN464=\"\",\"\",INDEX('OTRAS REFERENCIAS'!$T$6:$U$11,MATCH(AN464,'OTRAS REFERENCIAS'!$U$6:$U$11,0),1))","v":""}]
[1,"",463,"","",{"$f":"IF(L465<>\"\",CONCATENATE(DIGITADOR!$B$2,$A$2,DIGITADOR!$M$1,A465),\"\")","v":""},null,null,"",{"$f":"IF(K465=\"\",\"\",INDEX('OTRAS REFERENCIAS'!$AL:$AM,MATCH(K465,'OTRAS REFERENCIAS'!$AL:$AL,0),2))","v":""},null,{"$f":"IF(J465=\"\",\"\",INDEX(REFERENTES!$A:$D,MATCH(J465,REFERENTES!$C:$C,0),3))","v":""},null,null,null,null,null,null,null,{"$f":"IF(U465=\"\",\"\",INDEX('OTRAS REFERENCIAS'!$H$6:$I$11,MATCH(U465,'OTRAS REFERENCIAS'!$I$6:$I$11,0),1))","v":""},null,null,null,null,{"$f":"IF(Z465=\"\",\"\",INDEX('OTRAS REFERENCIAS'!$K$6:$L$11,MATCH(Z465,'OTRAS REFERENCIAS'!$L$6:$L$11,0),1))","v":""},null,null,null,null,{"$f":"IF(AE465=\"\",\"\",INDEX('OTRAS REFERENCIAS'!$N$6:$O$11,MATCH(AE465,'OTRAS REFERENCIAS'!$O$6:$O$11,0),1))","v":""},null,null,null,null,{"$f":"IF(AJ465=\"\",\"\",INDEX('OTRAS REFERENCIAS'!$Q$6:$R$11,MATCH(AJ465,'OTRAS REFERENCIAS'!$R$6:$R$11,0),1))","v":""},null,null,null,{"$f":"IF(AN465=\"\",\"\",INDEX('OTRAS REFERENCIAS'!$T$6:$U$11,MATCH(AN465,'OTRAS REFERENCIAS'!$U$6:$U$11,0),1))","v":""}]
[1,"",464,"","",{"$f":"IF(L466<>\"\",CONCATENATE(DIGITADOR!$B$2,$A$2,DIGITADOR!$M$1,A466),\"\")","v":""},null,null,"",{"$f":"IF(K466=\"\",\"\",INDEX('OTRAS REFERENCIAS'!$AL:$AM,MATCH(K466,'OTRAS REFERENCIAS'!$AL:$AL,0),2))","v":""},null,{"$f":"IF(J466=\"\",\"\",INDEX(REFERENTES!$A:$D,MATCH(J466,REFERENTES!$C:$C,0),3))","v":""},null,null,null,null,null,null,null,{"$f":"IF(U466=\"\",\"\",INDEX('OTRAS REFERENCIAS'!$H$6:$I$11,MATCH(U466,'OTRAS REFERENCIAS'!$I$6:$I$11,0),1))","v":""},null,null,null,null,{"$f":"IF(Z466=\"\",\"\",INDEX('OTRAS REFERENCIAS'!$K$6:$L$11,MATCH(Z466,'OTRAS REFERENCIAS'!$L$6:$L$11,0),1))","v":""},null,null,null,null,{"$f":"IF(AE466=\"\",\"\",INDEX('OTRAS REFERENCIAS'!$N$6:$O$11,MATCH(AE466,'OTRAS REFERENCIAS'!$O$6:$O$11,0),1))","v":""},null,null,null,null,{"$f":"IF(AJ466=\"\",\"\",INDEX('OTRAS REFERENCIAS'!$Q$6:$R$11,MATCH(AJ466,'OTRAS REFERENCIAS'!$R$6:$R$11,0),1))","v":""},null,null,null,{"$f":"IF(AN466=\"\",\"\",INDEX('OTRAS REFERENCIAS'!$T$6:$U$11,MATCH(AN466,'OTRAS REFERENCIAS'!$U$6:$U$11,0),1))","v":""}]
[1,"",465,"","",{"$f":"IF(L467<>\"\",CONCATENATE(DIGITADOR!$B$2,$A$2,DIGITADOR!$M$1,A467),\"\")","v":""},null,null,"",{"$f":"IF(K467=\"\",\"\",INDEX('OTRAS REFERENCIAS'!$AL:$AM,MATCH(K467,'OTRAS REFERENCIAS'!$AL:$AL,0),2))","v":""},null,{"$f":"IF(J467=\"\",\"\",INDEX(REFERENTES!$A:$D,MATCH(J467,REFERENTES!$C:$C,0),3))","v":""},null,null,null,null,null,null,null,{"$f":"IF(U467=\"\",\"\",INDEX('OTRAS REFERENCIAS'!$H$6:$I$11,MATCH(U467,'OTRAS REFERENCIAS'!$I$6:$I$11,0),1))","v":""},null,null,null,null,{"$f":"IF(Z467=\"\",\"\",INDEX('OTRAS REFERENCIAS'!$K$6:$L$11,MATCH(Z467,'OTRAS REFERENCIAS'!$L$6:$L$11,0),1))","v":""},null,null,null,null,{"$f":"IF(AE467=\"\",\"\",INDEX('OTRAS REFERENCIAS'!$N$6:$O$11,MATCH(AE467,'OTRAS REFERENCIAS'!$O$6:$O$11,0),1))","v":""},null,null,null,null,{"$f":"IF(AJ467=\"\",\"\",INDEX('OTRAS REFERENCIAS'!$Q$6:$R$11,MATCH(AJ467,'OTRAS REFERENCIAS'!$R$6:$R$11,0),1))","v":""},null,null,null,{"$f":"IF(AN467=\"\",\"\",INDEX('OTRAS REFERENCIAS'!$T$6:$U$11,MATCH(AN467,'OTRAS REFERENCIAS'!$U$6:$U$11,0),1))","v":""}]
[1,"",466,"","",{"$f":"IF(L468<>\"\",CONCATENATE(DIGITADOR!$B$2,$A$2,DIGITADOR!$M$1,A468),\"\")","v":""},null,null,"",{"$f":"IF(K468=\"\",\"\",INDEX('OTRAS REFERENCIAS'!$AL:$AM,MATCH(K468,'OTRAS REFERENCIAS'!$AL:$AL,0),2))","v":""},null,{"$f":"IF(J468=\"\",\"\",INDEX(REFERENTES!$A:$D,MATCH(J468,REFERENTES!$C:$C,0),3))","v":""},null,null,null,null,null,null,null,{"$f":"IF(U468=\"\",\"\",INDEX('OTRAS REFERENCIAS'!$H$6:$I$11,MATCH(U468,'OTRAS REFERENCIAS'!$I$6:$I$11,0),1))","v":""},null,null,null,null,{"$f":"IF(Z468=\"\",\"\",INDEX('OTRAS REFERENCIAS'!$K$6:$L$11,MATCH(Z468,'OTRAS REFERENCIAS'!$L$6:$L$11,0),1))","v":""},null,null,null,null,{"$f":"IF(AE468=\"\",\"\",INDEX('OTRAS REFERENCIAS'!$N$6:$O$11,MATCH(AE468,'OTRAS REFERENCIAS'!$O$6:$O$11,0),1))","v":""},null,null,null,null,{"$f":"IF(AJ468=\"\",\"\",INDEX('OTRAS REFERENCIAS'!$Q$6:$R$11,MATCH(AJ468,'OTRAS REFERENCIAS'!$R$6:$R$11,0),1))","v":""},null,null,null,{"$f":"IF(AN468=\"\",\"\",INDEX('OTRAS REFERENCIAS'!$T$6:$U$11,MATCH(AN468,'OTRAS REFERENCIAS'!$U$6:$U$11,0),1))","v":""}]
[1,"",467,"","",{"$f":"IF(L469<>\"\",CONCATENATE(DIGITADOR!$B$2,$A$2,DIGITADOR!$M$1,A469),\"\")","v":""},null,null,"",{"$f":"IF(K469=\"\",\"\",INDEX('OTRAS REFERENCIAS'!$AL:$AM,MATCH(K469,'OTRAS REFERENCIAS'!$AL:$AL,0),2))","v":""},null,{"$f":"IF(J469=\"\",\"\",INDEX(REFERENTES!$A:$D,MATCH(J469,REFERENTES!$C:$C,0),3))","v":""},null,null,null,null,null,null,null,{"$f":"IF(U469=\"\",\"\",INDEX('OTRAS REFERENCIAS'!$H$6:$I$11,MATCH(U469,'OTRAS REFERENCIAS'!$I$6:$I$11,0),1))","v":""},null,null,null,null,{"$f":"IF(Z469=\"\",\"\",INDEX('OTRAS REFERENCIAS'!$K$6:$L$11,MATCH(Z469,'OTRAS REFERENCIAS'!$L$6:$L$11,0),1))","v":""},null,null,null,null,{"$f":"IF(AE469=\"\",\"\",INDEX('OTRAS REFERENCIAS'!$N$6:$O$11,MATCH(AE469,'OTRAS REFERENCIAS'!$O$6:$O$11,0),1))","v":""},null,null,null,null,{"$f":"IF(AJ469=\"\",\"\",INDEX('OTRAS REFERENCIAS'!$Q$6:$R$11,MATCH(AJ469,'OTRAS REFERENCIAS'!$R$6:$R$11,0),1))","v":""},null,null,null,{"$f":"IF(AN469=\"\",\"\",INDEX('OTRAS REFERENCIAS'!$T$6:$U$11,MATCH(AN469,'OTRAS REFERENCIAS'!$U$6:$U$11,0),1))","v":""}]
[1,"",468,"","",{"$f":"IF(L470<>\"\",CONCATENATE(DIGITADOR!$B$2,$A$2,DIGITADOR!$M$1,A470),\"\")","v":""},null,null,"",{"$f":"IF(K470=\"\",\"\",INDEX('OTRAS REFERENCIAS'!$AL:$AM,MATCH(K470,'OTRAS REFERENCIAS'!$AL:$AL,0),2))","v":""},null,{"$f":"IF(J470=\"\",\"\",INDEX(REFERENTES!$A:$D,MATCH(J470,REFERENTES!$C:$C,0),3))","v":""},null,null,null,null,null,null,null,{"$f":"IF(U470=\"\",\"\",INDEX('OTRAS REFERENCIAS'!$H$6:$I$11,MATCH(U470,'OTRAS REFERENCIAS'!$I$6:$I$11,0),1))","v":""},null,null,null,null,{"$f":"IF(Z470=\"\",\"\",INDEX('OTRAS REFERENCIAS'!$K$6:$L$11,MATCH(Z470,'OTRAS REFERENCIAS'!$L$6:$L$11,0),1))","v":""},null,null,null,null,{"$f":"IF(AE470=\"\",\"\",INDEX('OTRAS REFERENCIAS'!$N$6:$O$11,MATCH(AE470,'OTRAS REFERENCIAS'!$O$6:$O$11,0),1))","v":""},null,null,null,null,{"$f":"IF(AJ470=\"\",\"\",INDEX('OTRAS REFERENCIAS'!$Q$6:$R$11,MATCH(AJ470,'OTRAS REFERENCIAS'!$R$6:$R$11,0),1))","v":""},null,null,null,{"$f":"IF(AN470=\"\",\"\",INDEX('OTRAS REFERENCIAS'!$T$6:$U$11,MATCH(AN470,'OTRAS REFERENCIAS'!$U$6:$U$11,0),1))","v":""}]
[1,"",469,"","",{"$f":"IF(L471<>\"\",CONCATENATE(DIGITADOR!$B$2,$A$2,DIGITADOR!$M$1,A471),\"\")","v":""},null,null,"",{"$f":"IF(K471=\"\",\"\",INDEX('OTRAS REFERENCIAS'!$AL:$AM,MATCH(K471,'OTRAS REFERENCIAS'!$AL:$AL,0),2))","v":""},null,{"$f":"IF(J471=\"\",\"\",INDEX(REFERENTES!$A:$D,MATCH(J471,REFERENTES!$C:$C,0),3))","v":""},null,null,null,null,null,null,null,{"$f":"IF(U471=\"\",\"\",INDEX('OTRAS REFERENCIAS'!$H$6:$I$11,MATCH(U471,'OTRAS REFERENCIAS'!$I$6:$I$11,0),1))","v":""},null,null,null,null,{"$f":"IF(Z471=\"\",\"\",INDEX('OTRAS REFERENCIAS'!$K$6:$L$11,MATCH(Z471,'OTRAS REFERENCIAS'!$L$6:$L$11,0),1))","v":""},null,null,null,null,{"$f":"IF(AE471=\"\",\"\",INDEX('OTRAS REFERENCIAS'!$N$6:$O$11,MATCH(AE471,'OTRAS REFERENCIAS'!$O$6:$O$11,0),1))","v":""},null,null,null,null,{"$f":"IF(AJ471=\"\",\"\",INDEX('OTRAS REFERENCIAS'!$Q$6:$R$11,MATCH(AJ471,'OTRAS REFERENCIAS'!$R$6:$R$11,0),1))","v":""},null,null,null,{"$f":"IF(AN471=\"\",\"\",INDEX('OTRAS REFERENCIAS'!$T$6:$U$11,MATCH(AN471,'OTRAS REFERENCIAS'!$U$6:$U$11,0),1))","v":""}]
[1,"",470,"","",{"$f":"IF(L472<>\"\",CONCATENATE(DIGITADOR!$B$2,$A$2,DIGITADOR!$M$1,A472),\"\")","v":""},null,null,"",{"$f":"IF(K472=\"\",\"\",INDEX('OTRAS REFERENCIAS'!$AL:$AM,MATCH(K472,'OTRAS REFERENCIAS'!$AL:$AL,0),2))","v":""},null,{"$f":"IF(J472=\"\",\"\",INDEX(REFERENTES!$A:$D,MATCH(J472,REFERENTES!$C:$C,0),3))","v":""},null,null,null,null,null,null,null,{"$f":"IF(U472=\"\",\"\",INDEX('OTRAS REFERENCIAS'!$H$6:$I$11,MATCH(U472,'OTRAS REFERENCIAS'!$I$6:$I$11,0),1))","v":""},null,null,null,null,{"$f":"IF(Z472=\"\",\"\",INDEX('OTRAS REFERENCIAS'!$K$6:$L$11,MATCH(Z472,'OTRAS REFERENCIAS'!$L$6:$L$11,0),1))","v":""},null,null,null,null,{"$f":"IF(AE472=\"\",\"\",INDEX('OTRAS REFERENCIAS'!$N$6:$O$11,MATCH(AE472,'OTRAS REFERENCIAS'!$O$6:$O$11,0),1))","v":""},null,null,null,null,{"$f":"IF(AJ472=\"\",\"\",INDEX('OTRAS REFERENCIAS'!$Q$6:$R$11,MATCH(AJ472,'OTRAS REFERENCIAS'!$R$6:$R$11,0),1))","v":""},null,null,null,{"$f":"IF(AN472=\"\",\"\",INDEX('OTRAS REFERENCIAS'!$T$6:$U$11,MATCH(AN472,'OTRAS REFERENCIAS'!$U$6:$U$11,0),1))","v":""}]
[1,"",471,"","",{"$f":"IF(L473<>\"\",CONCATENATE(DIGITADOR!$B$2,$A$2,DIGITADOR!$M$1,A473),\"\")","v":""},null,null,"",{"$f":"IF(K473=\"\",\"\",INDEX('OTRAS REFERENCIAS'!$AL:$AM,MATCH(K473,'OTRAS REFERENCIAS'!$AL:$AL,0),2))","v":""},null,{"$f":"IF(J473=\"\",\"\",INDEX(REFERENTES!$A:$D,MATCH(J473,REFERENTES!$C:$C,0),3))","v":""},null,null,null,null,null,null,null,{"$f":"IF(U473=\"\",\"\",INDEX('OTRAS REFERENCIAS'!$H$6:$I$11,MATCH(U473,'OTRAS REFERENCIAS'!$I$6:$I$11,0),1))","v":""},null,null,null,null,{"$f":"IF(Z473=\"\",\"\",INDEX('OTRAS REFERENCIAS'!$K$6:$L$11,MATCH(Z473,'OTRAS REFERENCIAS'!$L$6:$L$11,0),1))","v":""},null,null,null,null,{"$f":"IF(AE473=\"\",\"\",INDEX('OTRAS REFERENCIAS'!$N$6:$O$11,MATCH(AE473,'OTRAS REFERENCIAS'!$O$6:$O$11,0),1))","v":""},null,null,null,null,{"$f":"IF(AJ473=\"\",\"\",INDEX('OTRAS REFERENCIAS'!$Q$6:$R$11,MATCH(AJ473,'OTRAS REFERENCIAS'!$R$6:$R$11,0),1))","v":""},null,null,null,{"$f":"IF(AN473=\"\",\"\",INDEX('OTRAS REFERENCIAS'!$T$6:$U$11,MATCH(AN473,'OTRAS REFERENCIAS'!$U$6:$U$11,0),1))","v":""}]
[1,"",472,"","",{"$f":"IF(L474<>\"\",CONCATENATE(DIGITADOR!$B$2,$A$2,DIGITADOR!$M$1,A474),\"\")","v":""},null,null,"",{"$f":"IF(K474=\"\",\"\",INDEX('OTRAS REFERENCIAS'!$AL:$AM,MATCH(K474,'OTRAS REFERENCIAS'!$AL:$AL,0),2))","v":""},null,{"$f":"IF(J474=\"\",\"\",INDEX(REFERENTES!$A:$D,MATCH(J474,REFERENTES!$C:$C,0),3))","v":""},null,null,null,null,null,null,null,{"$f":"IF(U474=\"\",\"\",INDEX('OTRAS REFERENCIAS'!$H$6:$I$11,MATCH(U474,'OTRAS REFERENCIAS'!$I$6:$I$11,0),1))","v":""},null,null,null,null,{"$f":"IF(Z474=\"\",\"\",INDEX('OTRAS REFERENCIAS'!$K$6:$L$11,MATCH(Z474,'OTRAS REFERENCIAS'!$L$6:$L$11,0),1))","v":""},null,null,null,null,{"$f":"IF(AE474=\"\",\"\",INDEX('OTRAS REFERENCIAS'!$N$6:$O$11,MATCH(AE474,'OTRAS REFERENCIAS'!$O$6:$O$11,0),1))","v":""},null,null,null,null,{"$f":"IF(AJ474=\"\",\"\",INDEX('OTRAS REFERENCIAS'!$Q$6:$R$11,MATCH(AJ474,'OTRAS REFERENCIAS'!$R$6:$R$11,0),1))","v":""},null,null,null,{"$f":"IF(AN474=\"\",\"\",INDEX('OTRAS REFERENCIAS'!$T$6:$U$11,MATCH(AN474,'OTRAS REFERENCIAS'!$U$6:$U$11,0),1))","v":""}]
[1,"",473,"","",{"$f":"IF(L475<>\"\",CONCATENATE(DIGITADOR!$B$2,$A$2,DIGITADOR!$M$1,A475),\"\")","v":""},null,null,"",{"$f":"IF(K475=\"\",\"\",INDEX('OTRAS REFERENCIAS'!$AL:$AM,MATCH(K475,'OTRAS REFERENCIAS'!$AL:$AL,0),2))","v":""},null,{"$f":"IF(J475=\"\",\"\",INDEX(REFERENTES!$A:$D,MATCH(J475,REFERENTES!$C:$C,0),3))","v":""},null,null,null,null,null,null,null,{"$f":"IF(U475=\"\",\"\",INDEX('OTRAS REFERENCIAS'!$H$6:$I$11,MATCH(U475,'OTRAS REFERENCIAS'!$I$6:$I$11,0),1))","v":""},null,null,null,null,{"$f":"IF(Z475=\"\",\"\",INDEX('OTRAS REFERENCIAS'!$K$6:$L$11,MATCH(Z475,'OTRAS REFERENCIAS'!$L$6:$L$11,0),1))","v":""},null,null,null,null,{"$f":"IF(AE475=\"\",\"\",INDEX('OTRAS REFERENCIAS'!$N$6:$O$11,MATCH(AE475,'OTRAS REFERENCIAS'!$O$6:$O$11,0),1))","v":""},null,null,null,null,{"$f":"IF(AJ475=\"\",\"\",INDEX('OTRAS REFERENCIAS'!$Q$6:$R$11,MATCH(AJ475,'OTRAS REFERENCIAS'!$R$6:$R$11,0),1))","v":""},null,null,null,{"$f":"IF(AN475=\"\",\"\",INDEX('OTRAS REFERENCIAS'!$T$6:$U$11,MATCH(AN475,'OTRAS REFERENCIAS'!$U$6:$U$11,0),1))","v":""}]
[1,"",474,"","",{"$f":"IF(L476<>\"\",CONCATENATE(DIGITADOR!$B$2,$A$2,DIGITADOR!$M$1,A476),\"\")","v":""},null,null,"",{"$f":"IF(K476=\"\",\"\",INDEX('OTRAS REFERENCIAS'!$AL:$AM,MATCH(K476,'OTRAS REFERENCIAS'!$AL:$AL,0),2))","v":""},null,{"$f":"IF(J476=\"\",\"\",INDEX(REFERENTES!$A:$D,MATCH(J476,REFERENTES!$C:$C,0),3))","v":""},null,null,null,null,null,null,null,{"$f":"IF(U476=\"\",\"\",INDEX('OTRAS REFERENCIAS'!$H$6:$I$11,MATCH(U476,'OTRAS REFERENCIAS'!$I$6:$I$11,0),1))","v":""},null,null,null,null,{"$f":"IF(Z476=\"\",\"\",INDEX('OTRAS REFERENCIAS'!$K$6:$L$11,MATCH(Z476,'OTRAS REFERENCIAS'!$L$6:$L$11,0),1))","v":""},null,null,null,null,{"$f":"IF(AE476=\"\",\"\",INDEX('OTRAS REFERENCIAS'!$N$6:$O$11,MATCH(AE476,'OTRAS REFERENCIAS'!$O$6:$O$11,0),1))","v":""},null,null,null,null,{"$f":"IF(AJ476=\"\",\"\",INDEX('OTRAS REFERENCIAS'!$Q$6:$R$11,MATCH(AJ476,'OTRAS REFERENCIAS'!$R$6:$R$11,0),1))","v":""},null,null,null,{"$f":"IF(AN476=\"\",\"\",INDEX('OTRAS REFERENCIAS'!$T$6:$U$11,MATCH(AN476,'OTRAS REFERENCIAS'!$U$6:$U$11,0),1))","v":""}]
[1,"",475,"","",{"$f":"IF(L477<>\"\",CONCATENATE(DIGITADOR!$B$2,$A$2,DIGITADOR!$M$1,A477),\"\")","v":""},null,null,"",{"$f":"IF(K477=\"\",\"\",INDEX('OTRAS REFERENCIAS'!$AL:$AM,MATCH(K477,'OTRAS REFERENCIAS'!$AL:$AL,0),2))","v":""},null,{"$f":"IF(J477=\"\",\"\",INDEX(REFERENTES!$A:$D,MATCH(J477,REFERENTES!$C:$C,0),3))","v":""},null,null,null,null,null,null,null,{"$f":"IF(U477=\"\",\"\",INDEX('OTRAS REFERENCIAS'!$H$6:$I$11,MATCH(U477,'OTRAS REFERENCIAS'!$I$6:$I$11,0),1))","v":""},null,null,null,null,{"$f":"IF(Z477=\"\",\"\",INDEX('OTRAS REFERENCIAS'!$K$6:$L$11,MATCH(Z477,'OTRAS REFERENCIAS'!$L$6:$L$11,0),1))","v":""},null,null,null,null,{"$f":"IF(AE477=\"\",\"\",INDEX('OTRAS REFERENCIAS'!$N$6:$O$11,MATCH(AE477,'OTRAS REFERENCIAS'!$O$6:$O$11,0),1))","v":""},null,null,null,null,{"$f":"IF(AJ477=\"\",\"\",INDEX('OTRAS REFERENCIAS'!$Q$6:$R$11,MATCH(AJ477,'OTRAS REFERENCIAS'!$R$6:$R$11,0),1))","v":""},null,null,null,{"$f":"IF(AN477=\"\",\"\",INDEX('OTRAS REFERENCIAS'!$T$6:$U$11,MATCH(AN477,'OTRAS REFERENCIAS'!$U$6:$U$11,0),1))","v":""}]
[1,"",476,"","",{"$f":"IF(L478<>\"\",CONCATENATE(DIGITADOR!$B$2,$A$2,DIGITADOR!$M$1,A478),\"\")","v":""},null,null,"",{"$f":"IF(K478=\"\",\"\",INDEX('OTRAS REFERENCIAS'!$AL:$AM,MATCH(K478,'OTRAS REFERENCIAS'!$AL:$AL,0),2))","v":""},null,{"$f":"IF(J478=\"\",\"\",INDEX(REFERENTES!$A:$D,MATCH(J478,REFERENTES!$C:$C,0),3))","v":""},null,null,null,null,null,null,null,{"$f":"IF(U478=\"\",\"\",INDEX('OTRAS REFERENCIAS'!$H$6:$I$11,MATCH(U478,'OTRAS REFERENCIAS'!$I$6:$I$11,0),1))","v":""},null,null,null,null,{"$f":"IF(Z478=\"\",\"\",INDEX('OTRAS REFERENCIAS'!$K$6:$L$11,MATCH(Z478,'OTRAS REFERENCIAS'!$L$6:$L$11,0),1))","v":""},null,null,null,null,{"$f":"IF(AE478=\"\",\"\",INDEX('OTRAS REFERENCIAS'!$N$6:$O$11,MATCH(AE478,'OTRAS REFERENCIAS'!$O$6:$O$11,0),1))","v":""},null,null,null,null,{"$f":"IF(AJ478=\"\",\"\",INDEX('OTRAS REFERENCIAS'!$Q$6:$R$11,MATCH(AJ478,'OTRAS REFERENCIAS'!$R$6:$R$11,0),1))","v":""},null,null,null,{"$f":"IF(AN478=\"\",\"\",INDEX('OTRAS REFERENCIAS'!$T$6:$U$11,MATCH(AN478,'OTRAS REFERENCIAS'!$U$6:$U$11,0),1))","v":""}]
[1,"",477,"","",{"$f":"IF(L479<>\"\",CONCATENATE(DIGITADOR!$B$2,$A$2,DIGITADOR!$M$1,A479),\"\")","v":""},null,null,"",{"$f":"IF(K479=\"\",\"\",INDEX('OTRAS REFERENCIAS'!$AL:$AM,MATCH(K479,'OTRAS REFERENCIAS'!$AL:$AL,0),2))","v":""},null,{"$f":"IF(J479=\"\",\"\",INDEX(REFERENTES!$A:$D,MATCH(J479,REFERENTES!$C:$C,0),3))","v":""},null,null,null,null,null,null,null,{"$f":"IF(U479=\"\",\"\",INDEX('OTRAS REFERENCIAS'!$H$6:$I$11,MATCH(U479,'OTRAS REFERENCIAS'!$I$6:$I$11,0),1))","v":""},null,null,null,null,{"$f":"IF(Z479=\"\",\"\",INDEX('OTRAS REFERENCIAS'!$K$6:$L$11,MATCH(Z479,'OTRAS REFERENCIAS'!$L$6:$L$11,0),1))","v":""},null,null,null,null,{"$f":"IF(AE479=\"\",\"\",INDEX('OTRAS REFERENCIAS'!$N$6:$O$11,MATCH(AE479,'OTRAS REFERENCIAS'!$O$6:$O$11,0),1))","v":""},null,null,null,null,{"$f":"IF(AJ479=\"\",\"\",INDEX('OTRAS REFERENCIAS'!$Q$6:$R$11,MATCH(AJ479,'OTRAS REFERENCIAS'!$R$6:$R$11,0),1))","v":""},null,null,null,{"$f":"IF(AN479=\"\",\"\",INDEX('OTRAS REFERENCIAS'!$T$6:$U$11,MATCH(AN479,'OTRAS REFERENCIAS'!$U$6:$U$11,0),1))","v":""}]
[1,"",478,"","",{"$f":"IF(L480<>\"\",CONCATENATE(DIGITADOR!$B$2,$A$2,DIGITADOR!$M$1,A480),\"\")","v":""},null,null,"",{"$f":"IF(K480=\"\",\"\",INDEX('OTRAS REFERENCIAS'!$AL:$AM,MATCH(K480,'OTRAS REFERENCIAS'!$AL:$AL,0),2))","v":""},null,{"$f":"IF(J480=\"\",\"\",INDEX(REFERENTES!$A:$D,MATCH(J480,REFERENTES!$C:$C,0),3))","v":""},null,null,null,null,null,null,null,{"$f":"IF(U480=\"\",\"\",INDEX('OTRAS REFERENCIAS'!$H$6:$I$11,MATCH(U480,'OTRAS REFERENCIAS'!$I$6:$I$11,0),1))","v":""},null,null,null,null,{"$f":"IF(Z480=\"\",\"\",INDEX('OTRAS REFERENCIAS'!$K$6:$L$11,MATCH(Z480,'OTRAS REFERENCIAS'!$L$6:$L$11,0),1))","v":""},null,null,null,null,{"$f":"IF(AE480=\"\",\"\",INDEX('OTRAS REFERENCIAS'!$N$6:$O$11,MATCH(AE480,'OTRAS REFERENCIAS'!$O$6:$O$11,0),1))","v":""},null,null,null,null,{"$f":"IF(AJ480=\"\",\"\",INDEX('OTRAS REFERENCIAS'!$Q$6:$R$11,MATCH(AJ480,'OTRAS REFERENCIAS'!$R$6:$R$11,0),1))","v":""},null,null,null,{"$f":"IF(AN480=\"\",\"\",INDEX('OTRAS REFERENCIAS'!$T$6:$U$11,MATCH(AN480,'OTRAS REFERENCIAS'!$U$6:$U$11,0),1))","v":""}]
[1,"",479,"","",{"$f":"IF(L481<>\"\",CONCATENATE(DIGITADOR!$B$2,$A$2,DIGITADOR!$M$1,A481),\"\")","v":""},null,null,"",{"$f":"IF(K481=\"\",\"\",INDEX('OTRAS REFERENCIAS'!$AL:$AM,MATCH(K481,'OTRAS REFERENCIAS'!$AL:$AL,0),2))","v":""},null,{"$f":"IF(J481=\"\",\"\",INDEX(REFERENTES!$A:$D,MATCH(J481,REFERENTES!$C:$C,0),3))","v":""},null,null,null,null,null,null,null,{"$f":"IF(U481=\"\",\"\",INDEX('OTRAS REFERENCIAS'!$H$6:$I$11,MATCH(U481,'OTRAS REFERENCIAS'!$I$6:$I$11,0),1))","v":""},null,null,null,null,{"$f":"IF(Z481=\"\",\"\",INDEX('OTRAS REFERENCIAS'!$K$6:$L$11,MATCH(Z481,'OTRAS REFERENCIAS'!$L$6:$L$11,0),1))","v":""},null,null,null,null,{"$f":"IF(AE481=\"\",\"\",INDEX('OTRAS REFERENCIAS'!$N$6:$O$11,MATCH(AE481,'OTRAS REFERENCIAS'!$O$6:$O$11,0),1))","v":""},null,null,null,null,{"$f":"IF(AJ481=\"\",\"\",INDEX('OTRAS REFERENCIAS'!$Q$6:$R$11,MATCH(AJ481,'OTRAS REFERENCIAS'!$R$6:$R$11,0),1))","v":""},null,null,null,{"$f":"IF(AN481=\"\",\"\",INDEX('OTRAS REFERENCIAS'!$T$6:$U$11,MATCH(AN481,'OTRAS REFERENCIAS'!$U$6:$U$11,0),1))","v":""}]
[1,"",480,"","",{"$f":"IF(L482<>\"\",CONCATENATE(DIGITADOR!$B$2,$A$2,DIGITADOR!$M$1,A482),\"\")","v":""},null,null,"",{"$f":"IF(K482=\"\",\"\",INDEX('OTRAS REFERENCIAS'!$AL:$AM,MATCH(K482,'OTRAS REFERENCIAS'!$AL:$AL,0),2))","v":""},null,{"$f":"IF(J482=\"\",\"\",INDEX(REFERENTES!$A:$D,MATCH(J482,REFERENTES!$C:$C,0),3))","v":""},null,null,null,null,null,null,null,{"$f":"IF(U482=\"\",\"\",INDEX('OTRAS REFERENCIAS'!$H$6:$I$11,MATCH(U482,'OTRAS REFERENCIAS'!$I$6:$I$11,0),1))","v":""},null,null,null,null,{"$f":"IF(Z482=\"\",\"\",INDEX('OTRAS REFERENCIAS'!$K$6:$L$11,MATCH(Z482,'OTRAS REFERENCIAS'!$L$6:$L$11,0),1))","v":""},null,null,null,null,{"$f":"IF(AE482=\"\",\"\",INDEX('OTRAS REFERENCIAS'!$N$6:$O$11,MATCH(AE482,'OTRAS REFERENCIAS'!$O$6:$O$11,0),1))","v":""},null,null,null,null,{"$f":"IF(AJ482=\"\",\"\",INDEX('OTRAS REFERENCIAS'!$Q$6:$R$11,MATCH(AJ482,'OTRAS REFERENCIAS'!$R$6:$R$11,0),1))","v":""},null,null,null,{"$f":"IF(AN482=\"\",\"\",INDEX('OTRAS REFERENCIAS'!$T$6:$U$11,MATCH(AN482,'OTRAS REFERENCIAS'!$U$6:$U$11,0),1))","v":""}]
[1,"",481,"","",{"$f":"IF(L483<>\"\",CONCATENATE(DIGITADOR!$B$2,$A$2,DIGITADOR!$M$1,A483),\"\")","v":""},null,null,"",{"$f":"IF(K483=\"\",\"\",INDEX('OTRAS REFERENCIAS'!$AL:$AM,MATCH(K483,'OTRAS REFERENCIAS'!$AL:$AL,0),2))","v":""},null,{"$f":"IF(J483=\"\",\"\",INDEX(REFERENTES!$A:$D,MATCH(J483,REFERENTES!$C:$C,0),3))","v":""},null,null,null,null,null,null,null,{"$f":"IF(U483=\"\",\"\",INDEX('OTRAS REFERENCIAS'!$H$6:$I$11,MATCH(U483,'OTRAS REFERENCIAS'!$I$6:$I$11,0),1))","v":""},null,null,null,null,{"$f":"IF(Z483=\"\",\"\",INDEX('OTRAS REFERENCIAS'!$K$6:$L$11,MATCH(Z483,'OTRAS REFERENCIAS'!$L$6:$L$11,0),1))","v":""},null,null,null,null,{"$f":"IF(AE483=\"\",\"\",INDEX('OTRAS REFERENCIAS'!$N$6:$O$11,MATCH(AE483,'OTRAS REFERENCIAS'!$O$6:$O$11,0),1))","v":""},null,null,null,null,{"$f":"IF(AJ483=\"\",\"\",INDEX('OTRAS REFERENCIAS'!$Q$6:$R$11,MATCH(AJ483,'OTRAS REFERENCIAS'!$R$6:$R$11,0),1))","v":""},null,null,null,{"$f":"IF(AN483=\"\",\"\",INDEX('OTRAS REFERENCIAS'!$T$6:$U$11,MATCH(AN483,'OTRAS REFERENCIAS'!$U$6:$U$11,0),1))","v":""}]
[1,"",482,"","",{"$f":"IF(L484<>\"\",CONCATENATE(DIGITADOR!$B$2,$A$2,DIGITADOR!$M$1,A484),\"\")","v":""},null,null,"",{"$f":"IF(K484=\"\",\"\",INDEX('OTRAS REFERENCIAS'!$AL:$AM,MATCH(K484,'OTRAS REFERENCIAS'!$AL:$AL,0),2))","v":""},null,{"$f":"IF(J484=\"\",\"\",INDEX(REFERENTES!$A:$D,MATCH(J484,REFERENTES!$C:$C,0),3))","v":""},null,null,null,null,null,null,null,{"$f":"IF(U484=\"\",\"\",INDEX('OTRAS REFERENCIAS'!$H$6:$I$11,MATCH(U484,'OTRAS REFERENCIAS'!$I$6:$I$11,0),1))","v":""},null,null,null,null,{"$f":"IF(Z484=\"\",\"\",INDEX('OTRAS REFERENCIAS'!$K$6:$L$11,MATCH(Z484,'OTRAS REFERENCIAS'!$L$6:$L$11,0),1))","v":""},null,null,null,null,{"$f":"IF(AE484=\"\",\"\",INDEX('OTRAS REFERENCIAS'!$N$6:$O$11,MATCH(AE484,'OTRAS REFERENCIAS'!$O$6:$O$11,0),1))","v":""},null,null,null,null,{"$f":"IF(AJ484=\"\",\"\",INDEX('OTRAS REFERENCIAS'!$Q$6:$R$11,MATCH(AJ484,'OTRAS REFERENCIAS'!$R$6:$R$11,0),1))","v":""},null,null,null,{"$f":"IF(AN484=\"\",\"\",INDEX('OTRAS REFERENCIAS'!$T$6:$U$11,MATCH(AN484,'OTRAS REFERENCIAS'!$U$6:$U$11,0),1))","v":""}]
[1,"",483,"","",{"$f":"IF(L485<>\"\",CONCATENATE(DIGITADOR!$B$2,$A$2,DIGITADOR!$M$1,A485),\"\")","v":""},null,null,"",{"$f":"IF(K485=\"\",\"\",INDEX('OTRAS REFERENCIAS'!$AL:$AM,MATCH(K485,'OTRAS REFERENCIAS'!$AL:$AL,0),2))","v":""},null,{"$f":"IF(J485=\"\",\"\",INDEX(REFERENTES!$A:$D,MATCH(J485,REFERENTES!$C:$C,0),3))","v":""},null,null,null,null,null,null,null,{"$f":"IF(U485=\"\",\"\",INDEX('OTRAS REFERENCIAS'!$H$6:$I$11,MATCH(U485,'OTRAS REFERENCIAS'!$I$6:$I$11,0),1))","v":""},null,null,null,null,{"$f":"IF(Z485=\"\",\"\",INDEX('OTRAS REFERENCIAS'!$K$6:$L$11,MATCH(Z485,'OTRAS REFERENCIAS'!$L$6:$L$11,0),1))","v":""},null,null,null,null,{"$f":"IF(AE485=\"\",\"\",INDEX('OTRAS REFERENCIAS'!$N$6:$O$11,MATCH(AE485,'OTRAS REFERENCIAS'!$O$6:$O$11,0),1))","v":""},null,null,null,null,{"$f":"IF(AJ485=\"\",\"\",INDEX('OTRAS REFERENCIAS'!$Q$6:$R$11,MATCH(AJ485,'OTRAS REFERENCIAS'!$R$6:$R$11,0),1))","v":""},null,null,null,{"$f":"IF(AN485=\"\",\"\",INDEX('OTRAS REFERENCIAS'!$T$6:$U$11,MATCH(AN485,'OTRAS REFERENCIAS'!$U$6:$U$11,0),1))","v":""}]
[1,"",484,"","",{"$f":"IF(L486<>\"\",CONCATENATE(DIGITADOR!$B$2,$A$2,DIGITADOR!$M$1,A486),\"\")","v":""},null,null,"",{"$f":"IF(K486=\"\",\"\",INDEX('OTRAS REFERENCIAS'!$AL:$AM,MATCH(K486,'OTRAS REFERENCIAS'!$AL:$AL,0),2))","v":""},null,{"$f":"IF(J486=\"\",\"\",INDEX(REFERENTES!$A:$D,MATCH(J486,REFERENTES!$C:$C,0),3))","v":""},null,null,null,null,null,null,null,{"$f":"IF(U486=\"\",\"\",INDEX('OTRAS REFERENCIAS'!$H$6:$I$11,MATCH(U486,'OTRAS REFERENCIAS'!$I$6:$I$11,0),1))","v":""},null,null,null,null,{"$f":"IF(Z486=\"\",\"\",INDEX('OTRAS REFERENCIAS'!$K$6:$L$11,MATCH(Z486,'OTRAS REFERENCIAS'!$L$6:$L$11,0),1))","v":""},null,null,null,null,{"$f":"IF(AE486=\"\",\"\",INDEX('OTRAS REFERENCIAS'!$N$6:$O$11,MATCH(AE486,'OTRAS REFERENCIAS'!$O$6:$O$11,0),1))","v":""},null,null,null,null,{"$f":"IF(AJ486=\"\",\"\",INDEX('OTRAS REFERENCIAS'!$Q$6:$R$11,MATCH(AJ486,'OTRAS REFERENCIAS'!$R$6:$R$11,0),1))","v":""},null,null,null,{"$f":"IF(AN486=\"\",\"\",INDEX('OTRAS REFERENCIAS'!$T$6:$U$11,MATCH(AN486,'OTRAS REFERENCIAS'!$U$6:$U$11,0),1))","v":""}]
[1,"",485,"","",{"$f":"IF(L487<>\"\",CONCATENATE(DIGITADOR!$B$2,$A$2,DIGITADOR!$M$1,A487),\"\")","v":""},null,null,"",{"$f":"IF(K487=\"\",\"\",INDEX('OTRAS REFERENCIAS'!$AL:$AM,MATCH(K487,'OTRAS REFERENCIAS'!$AL:$AL,0),2))","v":""},null,{"$f":"IF(J487=\"\",\"\",INDEX(REFERENTES!$A:$D,MATCH(J487,REFERENTES!$C:$C,0),3))","v":""},null,null,null,null,null,null,null,{"$f":"IF(U487=\"\",\"\",INDEX('OTRAS REFERENCIAS'!$H$6:$I$11,MATCH(U487,'OTRAS REFERENCIAS'!$I$6:$I$11,0),1))","v":""},null,null,null,null,{"$f":"IF(Z487=\"\",\"\",INDEX('OTRAS REFERENCIAS'!$K$6:$L$11,MATCH(Z487,'OTRAS REFERENCIAS'!$L$6:$L$11,0),1))","v":""},null,null,null,null,{"$f":"IF(AE487=\"\",\"\",INDEX('OTRAS REFERENCIAS'!$N$6:$O$11,MATCH(AE487,'OTRAS REFERENCIAS'!$O$6:$O$11,0),1))","v":""},null,null,null,null,{"$f":"IF(AJ487=\"\",\"\",INDEX('OTRAS REFERENCIAS'!$Q$6:$R$11,MATCH(AJ487,'OTRAS REFERENCIAS'!$R$6:$R$11,0),1))","v":""},null,null,null,{"$f":"IF(AN487=\"\",\"\",INDEX('OTRAS REFERENCIAS'!$T$6:$U$11,MATCH(AN487,'OTRAS REFERENCIAS'!$U$6:$U$11,0),1))","v":""}]
[1,"",486,"","",{"$f":"IF(L488<>\"\",CONCATENATE(DIGITADOR!$B$2,$A$2,DIGITADOR!$M$1,A488),\"\")","v":""},null,null,"",{"$f":"IF(K488=\"\",\"\",INDEX('OTRAS REFERENCIAS'!$AL:$AM,MATCH(K488,'OTRAS REFERENCIAS'!$AL:$AL,0),2))","v":""},null,{"$f":"IF(J488=\"\",\"\",INDEX(REFERENTES!$A:$D,MATCH(J488,REFERENTES!$C:$C,0),3))","v":""},null,null,null,null,null,null,null,{"$f":"IF(U488=\"\",\"\",INDEX('OTRAS REFERENCIAS'!$H$6:$I$11,MATCH(U488,'OTRAS REFERENCIAS'!$I$6:$I$11,0),1))","v":""},null,null,null,null,{"$f":"IF(Z488=\"\",\"\",INDEX('OTRAS REFERENCIAS'!$K$6:$L$11,MATCH(Z488,'OTRAS REFERENCIAS'!$L$6:$L$11,0),1))","v":""},null,null,null,null,{"$f":"IF(AE488=\"\",\"\",INDEX('OTRAS REFERENCIAS'!$N$6:$O$11,MATCH(AE488,'OTRAS REFERENCIAS'!$O$6:$O$11,0),1))","v":""},null,null,null,null,{"$f":"IF(AJ488=\"\",\"\",INDEX('OTRAS REFERENCIAS'!$Q$6:$R$11,MATCH(AJ488,'OTRAS REFERENCIAS'!$R$6:$R$11,0),1))","v":""},null,null,null,{"$f":"IF(AN488=\"\",\"\",INDEX('OTRAS REFERENCIAS'!$T$6:$U$11,MATCH(AN488,'OTRAS REFERENCIAS'!$U$6:$U$11,0),1))","v":""}]
[1,"",487,"","",{"$f":"IF(L489<>\"\",CONCATENATE(DIGITADOR!$B$2,$A$2,DIGITADOR!$M$1,A489),\"\")","v":""},null,null,"",{"$f":"IF(K489=\"\",\"\",INDEX('OTRAS REFERENCIAS'!$AL:$AM,MATCH(K489,'OTRAS REFERENCIAS'!$AL:$AL,0),2))","v":""},null,{"$f":"IF(J489=\"\",\"\",INDEX(REFERENTES!$A:$D,MATCH(J489,REFERENTES!$C:$C,0),3))","v":""},null,null,null,null,null,null,null,{"$f":"IF(U489=\"\",\"\",INDEX('OTRAS REFERENCIAS'!$H$6:$I$11,MATCH(U489,'OTRAS REFERENCIAS'!$I$6:$I$11,0),1))","v":""},null,null,null,null,{"$f":"IF(Z489=\"\",\"\",INDEX('OTRAS REFERENCIAS'!$K$6:$L$11,MATCH(Z489,'OTRAS REFERENCIAS'!$L$6:$L$11,0),1))","v":""},null,null,null,null,{"$f":"IF(AE489=\"\",\"\",INDEX('OTRAS REFERENCIAS'!$N$6:$O$11,MATCH(AE489,'OTRAS REFERENCIAS'!$O$6:$O$11,0),1))","v":""},null,null,null,null,{"$f":"IF(AJ489=\"\",\"\",INDEX('OTRAS REFERENCIAS'!$Q$6:$R$11,MATCH(AJ489,'OTRAS REFERENCIAS'!$R$6:$R$11,0),1))","v":""},null,null,null,{"$f":"IF(AN489=\"\",\"\",INDEX('OTRAS REFERENCIAS'!$T$6:$U$11,MATCH(AN489,'OTRAS REFERENCIAS'!$U$6:$U$11,0),1))","v":""}]
[1,"",488,"","",{"$f":"IF(L490<>\"\",CONCATENATE(DIGITADOR!$B$2,$A$2,DIGITADOR!$M$1,A490),\"\")","v":""},null,null,"",{"$f":"IF(K490=\"\",\"\",INDEX('OTRAS REFERENCIAS'!$AL:$AM,MATCH(K490,'OTRAS REFERENCIAS'!$AL:$AL,0),2))","v":""},null,{"$f":"IF(J490=\"\",\"\",INDEX(REFERENTES!$A:$D,MATCH(J490,REFERENTES!$C:$C,0),3))","v":""},null,null,null,null,null,null,null,{"$f":"IF(U490=\"\",\"\",INDEX('OTRAS REFERENCIAS'!$H$6:$I$11,MATCH(U490,'OTRAS REFERENCIAS'!$I$6:$I$11,0),1))","v":""},null,null,null,null,{"$f":"IF(Z490=\"\",\"\",INDEX('OTRAS REFERENCIAS'!$K$6:$L$11,MATCH(Z490,'OTRAS REFERENCIAS'!$L$6:$L$11,0),1))","v":""},null,null,null,null,{"$f":"IF(AE490=\"\",\"\",INDEX('OTRAS REFERENCIAS'!$N$6:$O$11,MATCH(AE490,'OTRAS REFERENCIAS'!$O$6:$O$11,0),1))","v":""},null,null,null,null,{"$f":"IF(AJ490=\"\",\"\",INDEX('OTRAS REFERENCIAS'!$Q$6:$R$11,MATCH(AJ490,'OTRAS REFERENCIAS'!$R$6:$R$11,0),1))","v":""},null,null,null,{"$f":"IF(AN490=\"\",\"\",INDEX('OTRAS REFERENCIAS'!$T$6:$U$11,MATCH(AN490,'OTRAS REFERENCIAS'!$U$6:$U$11,0),1))","v":""}]
[1,"",489,"","",{"$f":"IF(L491<>\"\",CONCATENATE(DIGITADOR!$B$2,$A$2,DIGITADOR!$M$1,A491),\"\")","v":""},null,null,"",{"$f":"IF(K491=\"\",\"\",INDEX('OTRAS REFERENCIAS'!$AL:$AM,MATCH(K491,'OTRAS REFERENCIAS'!$AL:$AL,0),2))","v":""},null,{"$f":"IF(J491=\"\",\"\",INDEX(REFERENTES!$A:$D,MATCH(J491,REFERENTES!$C:$C,0),3))","v":""},null,null,null,null,null,null,null,{"$f":"IF(U491=\"\",\"\",INDEX('OTRAS REFERENCIAS'!$H$6:$I$11,MATCH(U491,'OTRAS REFERENCIAS'!$I$6:$I$11,0),1))","v":""},null,null,null,null,{"$f":"IF(Z491=\"\",\"\",INDEX('OTRAS REFERENCIAS'!$K$6:$L$11,MATCH(Z491,'OTRAS REFERENCIAS'!$L$6:$L$11,0),1))","v":""},null,null,null,null,{"$f":"IF(AE491=\"\",\"\",INDEX('OTRAS REFERENCIAS'!$N$6:$O$11,MATCH(AE491,'OTRAS REFERENCIAS'!$O$6:$O$11,0),1))","v":""},null,null,null,null,{"$f":"IF(AJ491=\"\",\"\",INDEX('OTRAS REFERENCIAS'!$Q$6:$R$11,MATCH(AJ491,'OTRAS REFERENCIAS'!$R$6:$R$11,0),1))","v":""},null,null,null,{"$f":"IF(AN491=\"\",\"\",INDEX('OTRAS REFERENCIAS'!$T$6:$U$11,MATCH(AN491,'OTRAS REFERENCIAS'!$U$6:$U$11,0),1))","v":""}]
[1,"",490,"","",{"$f":"IF(L492<>\"\",CONCATENATE(DIGITADOR!$B$2,$A$2,DIGITADOR!$M$1,A492),\"\")","v":""},null,null,"",{"$f":"IF(K492=\"\",\"\",INDEX('OTRAS REFERENCIAS'!$AL:$AM,MATCH(K492,'OTRAS REFERENCIAS'!$AL:$AL,0),2))","v":""},null,{"$f":"IF(J492=\"\",\"\",INDEX(REFERENTES!$A:$D,MATCH(J492,REFERENTES!$C:$C,0),3))","v":""},null,null,null,null,null,null,null,{"$f":"IF(U492=\"\",\"\",INDEX('OTRAS REFERENCIAS'!$H$6:$I$11,MATCH(U492,'OTRAS REFERENCIAS'!$I$6:$I$11,0),1))","v":""},null,null,null,null,{"$f":"IF(Z492=\"\",\"\",INDEX('OTRAS REFERENCIAS'!$K$6:$L$11,MATCH(Z492,'OTRAS REFERENCIAS'!$L$6:$L$11,0),1))","v":""},null,null,null,null,{"$f":"IF(AE492=\"\",\"\",INDEX('OTRAS REFERENCIAS'!$N$6:$O$11,MATCH(AE492,'OTRAS REFERENCIAS'!$O$6:$O$11,0),1))","v":""},null,null,null,null,{"$f":"IF(AJ492=\"\",\"\",INDEX('OTRAS REFERENCIAS'!$Q$6:$R$11,MATCH(AJ492,'OTRAS REFERENCIAS'!$R$6:$R$11,0),1))","v":""},null,null,null,{"$f":"IF(AN492=\"\",\"\",INDEX('OTRAS REFERENCIAS'!$T$6:$U$11,MATCH(AN492,'OTRAS REFERENCIAS'!$U$6:$U$11,0),1))","v":""}]
[1,"",491,"","",{"$f":"IF(L493<>\"\",CONCATENATE(DIGITADOR!$B$2,$A$2,DIGITADOR!$M$1,A493),\"\")","v":""},null,null,"",{"$f":"IF(K493=\"\",\"\",INDEX('OTRAS REFERENCIAS'!$AL:$AM,MATCH(K493,'OTRAS REFERENCIAS'!$AL:$AL,0),2))","v":""},null,{"$f":"IF(J493=\"\",\"\",INDEX(REFERENTES!$A:$D,MATCH(J493,REFERENTES!$C:$C,0),3))","v":""},null,null,null,null,null,null,null,{"$f":"IF(U493=\"\",\"\",INDEX('OTRAS REFERENCIAS'!$H$6:$I$11,MATCH(U493,'OTRAS REFERENCIAS'!$I$6:$I$11,0),1))","v":""},null,null,null,null,{"$f":"IF(Z493=\"\",\"\",INDEX('OTRAS REFERENCIAS'!$K$6:$L$11,MATCH(Z493,'OTRAS REFERENCIAS'!$L$6:$L$11,0),1))","v":""},null,null,null,null,{"$f":"IF(AE493=\"\",\"\",INDEX('OTRAS REFERENCIAS'!$N$6:$O$11,MATCH(AE493,'OTRAS REFERENCIAS'!$O$6:$O$11,0),1))","v":""},null,null,null,null,{"$f":"IF(AJ493=\"\",\"\",INDEX('OTRAS REFERENCIAS'!$Q$6:$R$11,MATCH(AJ493,'OTRAS REFERENCIAS'!$R$6:$R$11,0),1))","v":""},null,null,null,{"$f":"IF(AN493=\"\",\"\",INDEX('OTRAS REFERENCIAS'!$T$6:$U$11,MATCH(AN493,'OTRAS REFERENCIAS'!$U$6:$U$11,0),1))","v":""}]
[1,"",492,"","",{"$f":"IF(L494<>\"\",CONCATENATE(DIGITADOR!$B$2,$A$2,DIGITADOR!$M$1,A494),\"\")","v":""},null,null,"",{"$f":"IF(K494=\"\",\"\",INDEX('OTRAS REFERENCIAS'!$AL:$AM,MATCH(K494,'OTRAS REFERENCIAS'!$AL:$AL,0),2))","v":""},null,{"$f":"IF(J494=\"\",\"\",INDEX(REFERENTES!$A:$D,MATCH(J494,REFERENTES!$C:$C,0),3))","v":""},null,null,null,null,null,null,null,{"$f":"IF(U494=\"\",\"\",INDEX('OTRAS REFERENCIAS'!$H$6:$I$11,MATCH(U494,'OTRAS REFERENCIAS'!$I$6:$I$11,0),1))","v":""},null,null,null,null,{"$f":"IF(Z494=\"\",\"\",INDEX('OTRAS REFERENCIAS'!$K$6:$L$11,MATCH(Z494,'OTRAS REFERENCIAS'!$L$6:$L$11,0),1))","v":""},null,null,null,null,{"$f":"IF(AE494=\"\",\"\",INDEX('OTRAS REFERENCIAS'!$N$6:$O$11,MATCH(AE494,'OTRAS REFERENCIAS'!$O$6:$O$11,0),1))","v":""},null,null,null,null,{"$f":"IF(AJ494=\"\",\"\",INDEX('OTRAS REFERENCIAS'!$Q$6:$R$11,MATCH(AJ494,'OTRAS REFERENCIAS'!$R$6:$R$11,0),1))","v":""},null,null,null,{"$f":"IF(AN494=\"\",\"\",INDEX('OTRAS REFERENCIAS'!$T$6:$U$11,MATCH(AN494,'OTRAS REFERENCIAS'!$U$6:$U$11,0),1))","v":""}]
[1,"",493,"","",{"$f":"IF(L495<>\"\",CONCATENATE(DIGITADOR!$B$2,$A$2,DIGITADOR!$M$1,A495),\"\")","v":""},null,null,"",{"$f":"IF(K495=\"\",\"\",INDEX('OTRAS REFERENCIAS'!$AL:$AM,MATCH(K495,'OTRAS REFERENCIAS'!$AL:$AL,0),2))","v":""},null,{"$f":"IF(J495=\"\",\"\",INDEX(REFERENTES!$A:$D,MATCH(J495,REFERENTES!$C:$C,0),3))","v":""},null,null,null,null,null,null,null,{"$f":"IF(U495=\"\",\"\",INDEX('OTRAS REFERENCIAS'!$H$6:$I$11,MATCH(U495,'OTRAS REFERENCIAS'!$I$6:$I$11,0),1))","v":""},null,null,null,null,{"$f":"IF(Z495=\"\",\"\",INDEX('OTRAS REFERENCIAS'!$K$6:$L$11,MATCH(Z495,'OTRAS REFERENCIAS'!$L$6:$L$11,0),1))","v":""},null,null,null,null,{"$f":"IF(AE495=\"\",\"\",INDEX('OTRAS REFERENCIAS'!$N$6:$O$11,MATCH(AE495,'OTRAS REFERENCIAS'!$O$6:$O$11,0),1))","v":""},null,null,null,null,{"$f":"IF(AJ495=\"\",\"\",INDEX('OTRAS REFERENCIAS'!$Q$6:$R$11,MATCH(AJ495,'OTRAS REFERENCIAS'!$R$6:$R$11,0),1))","v":""},null,null,null,{"$f":"IF(AN495=\"\",\"\",INDEX('OTRAS REFERENCIAS'!$T$6:$U$11,MATCH(AN495,'OTRAS REFERENCIAS'!$U$6:$U$11,0),1))","v":""}]
[1,"",494,"","",{"$f":"IF(L496<>\"\",CONCATENATE(DIGITADOR!$B$2,$A$2,DIGITADOR!$M$1,A496),\"\")","v":""},null,null,"",{"$f":"IF(K496=\"\",\"\",INDEX('OTRAS REFERENCIAS'!$AL:$AM,MATCH(K496,'OTRAS REFERENCIAS'!$AL:$AL,0),2))","v":""},null,{"$f":"IF(J496=\"\",\"\",INDEX(REFERENTES!$A:$D,MATCH(J496,REFERENTES!$C:$C,0),3))","v":""},null,null,null,null,null,null,null,{"$f":"IF(U496=\"\",\"\",INDEX('OTRAS REFERENCIAS'!$H$6:$I$11,MATCH(U496,'OTRAS REFERENCIAS'!$I$6:$I$11,0),1))","v":""},null,null,null,null,{"$f":"IF(Z496=\"\",\"\",INDEX('OTRAS REFERENCIAS'!$K$6:$L$11,MATCH(Z496,'OTRAS REFERENCIAS'!$L$6:$L$11,0),1))","v":""},null,null,null,null,{"$f":"IF(AE496=\"\",\"\",INDEX('OTRAS REFERENCIAS'!$N$6:$O$11,MATCH(AE496,'OTRAS REFERENCIAS'!$O$6:$O$11,0),1))","v":""},null,null,null,null,{"$f":"IF(AJ496=\"\",\"\",INDEX('OTRAS REFERENCIAS'!$Q$6:$R$11,MATCH(AJ496,'OTRAS REFERENCIAS'!$R$6:$R$11,0),1))","v":""},null,null,null,{"$f":"IF(AN496=\"\",\"\",INDEX('OTRAS REFERENCIAS'!$T$6:$U$11,MATCH(AN496,'OTRAS REFERENCIAS'!$U$6:$U$11,0),1))","v":""}]
[1,"",495,"","",{"$f":"IF(L497<>\"\",CONCATENATE(DIGITADOR!$B$2,$A$2,DIGITADOR!$M$1,A497),\"\")","v":""},null,null,"",{"$f":"IF(K497=\"\",\"\",INDEX('OTRAS REFERENCIAS'!$AL:$AM,MATCH(K497,'OTRAS REFERENCIAS'!$AL:$AL,0),2))","v":""},null,{"$f":"IF(J497=\"\",\"\",INDEX(REFERENTES!$A:$D,MATCH(J497,REFERENTES!$C:$C,0),3))","v":""},null,null,null,null,null,null,null,{"$f":"IF(U497=\"\",\"\",INDEX('OTRAS REFERENCIAS'!$H$6:$I$11,MATCH(U497,'OTRAS REFERENCIAS'!$I$6:$I$11,0),1))","v":""},null,null,null,null,{"$f":"IF(Z497=\"\",\"\",INDEX('OTRAS REFERENCIAS'!$K$6:$L$11,MATCH(Z497,'OTRAS REFERENCIAS'!$L$6:$L$11,0),1))","v":""},null,null,null,null,{"$f":"IF(AE497=\"\",\"\",INDEX('OTRAS REFERENCIAS'!$N$6:$O$11,MATCH(AE497,'OTRAS REFERENCIAS'!$O$6:$O$11,0),1))","v":""},null,null,null,null,{"$f":"IF(AJ497=\"\",\"\",INDEX('OTRAS REFERENCIAS'!$Q$6:$R$11,MATCH(AJ497,'OTRAS REFERENCIAS'!$R$6:$R$11,0),1))","v":""},null,null,null,{"$f":"IF(AN497=\"\",\"\",INDEX('OTRAS REFERENCIAS'!$T$6:$U$11,MATCH(AN497,'OTRAS REFERENCIAS'!$U$6:$U$11,0),1))","v":""}]
[1,"",496,"","",{"$f":"IF(L498<>\"\",CONCATENATE(DIGITADOR!$B$2,$A$2,DIGITADOR!$M$1,A498),\"\")","v":""},null,null,"",{"$f":"IF(K498=\"\",\"\",INDEX('OTRAS REFERENCIAS'!$AL:$AM,MATCH(K498,'OTRAS REFERENCIAS'!$AL:$AL,0),2))","v":""},null,{"$f":"IF(J498=\"\",\"\",INDEX(REFERENTES!$A:$D,MATCH(J498,REFERENTES!$C:$C,0),3))","v":""},null,null,null,null,null,null,null,{"$f":"IF(U498=\"\",\"\",INDEX('OTRAS REFERENCIAS'!$H$6:$I$11,MATCH(U498,'OTRAS REFERENCIAS'!$I$6:$I$11,0),1))","v":""},null,null,null,null,{"$f":"IF(Z498=\"\",\"\",INDEX('OTRAS REFERENCIAS'!$K$6:$L$11,MATCH(Z498,'OTRAS REFERENCIAS'!$L$6:$L$11,0),1))","v":""},null,null,null,null,{"$f":"IF(AE498=\"\",\"\",INDEX('OTRAS REFERENCIAS'!$N$6:$O$11,MATCH(AE498,'OTRAS REFERENCIAS'!$O$6:$O$11,0),1))","v":""},null,null,null,null,{"$f":"IF(AJ498=\"\",\"\",INDEX('OTRAS REFERENCIAS'!$Q$6:$R$11,MATCH(AJ498,'OTRAS REFERENCIAS'!$R$6:$R$11,0),1))","v":""},null,null,null,{"$f":"IF(AN498=\"\",\"\",INDEX('OTRAS REFERENCIAS'!$T$6:$U$11,MATCH(AN498,'OTRAS REFERENCIAS'!$U$6:$U$11,0),1))","v":""}]
[1,"",497,"","",{"$f":"IF(L499<>\"\",CONCATENATE(DIGITADOR!$B$2,$A$2,DIGITADOR!$M$1,A499),\"\")","v":""},null,null,"",{"$f":"IF(K499=\"\",\"\",INDEX('OTRAS REFERENCIAS'!$AL:$AM,MATCH(K499,'OTRAS REFERENCIAS'!$AL:$AL,0),2))","v":""},null,{"$f":"IF(J499=\"\",\"\",INDEX(REFERENTES!$A:$D,MATCH(J499,REFERENTES!$C:$C,0),3))","v":""},null,null,null,null,null,null,null,{"$f":"IF(U499=\"\",\"\",INDEX('OTRAS REFERENCIAS'!$H$6:$I$11,MATCH(U499,'OTRAS REFERENCIAS'!$I$6:$I$11,0),1))","v":""},null,null,null,null,{"$f":"IF(Z499=\"\",\"\",INDEX('OTRAS REFERENCIAS'!$K$6:$L$11,MATCH(Z499,'OTRAS REFERENCIAS'!$L$6:$L$11,0),1))","v":""},null,null,null,null,{"$f":"IF(AE499=\"\",\"\",INDEX('OTRAS REFERENCIAS'!$N$6:$O$11,MATCH(AE499,'OTRAS REFERENCIAS'!$O$6:$O$11,0),1))","v":""},null,null,null,null,{"$f":"IF(AJ499=\"\",\"\",INDEX('OTRAS REFERENCIAS'!$Q$6:$R$11,MATCH(AJ499,'OTRAS REFERENCIAS'!$R$6:$R$11,0),1))","v":""},null,null,null,{"$f":"IF(AN499=\"\",\"\",INDEX('OTRAS REFERENCIAS'!$T$6:$U$11,MATCH(AN499,'OTRAS REFERENCIAS'!$U$6:$U$11,0),1))","v":""}]
[1,"",498,"","",{"$f":"IF(L500<>\"\",CONCATENATE(DIGITADOR!$B$2,$A$2,DIGITADOR!$M$1,A500),\"\")","v":""},null,null,"",{"$f":"IF(K500=\"\",\"\",INDEX('OTRAS REFERENCIAS'!$AL:$AM,MATCH(K500,'OTRAS REFERENCIAS'!$AL:$AL,0),2))","v":""},null,{"$f":"IF(J500=\"\",\"\",INDEX(REFERENTES!$A:$D,MATCH(J500,REFERENTES!$C:$C,0),3))","v":""},null,null,null,null,null,null,null,{"$f":"IF(U500=\"\",\"\",INDEX('OTRAS REFERENCIAS'!$H$6:$I$11,MATCH(U500,'OTRAS REFERENCIAS'!$I$6:$I$11,0),1))","v":""},null,null,null,null,{"$f":"IF(Z500=\"\",\"\",INDEX('OTRAS REFERENCIAS'!$K$6:$L$11,MATCH(Z500,'OTRAS REFERENCIAS'!$L$6:$L$11,0),1))","v":""},null,null,null,null,{"$f":"IF(AE500=\"\",\"\",INDEX('OTRAS REFERENCIAS'!$N$6:$O$11,MATCH(AE500,'OTRAS REFERENCIAS'!$O$6:$O$11,0),1))","v":""},null,null,null,null,{"$f":"IF(AJ500=\"\",\"\",INDEX('OTRAS REFERENCIAS'!$Q$6:$R$11,MATCH(AJ500,'OTRAS REFERENCIAS'!$R$6:$R$11,0),1))","v":""},null,null,null,{"$f":"IF(AN500=\"\",\"\",INDEX('OTRAS REFERENCIAS'!$T$6:$U$11,MATCH(AN500,'OTRAS REFERENCIAS'!$U$6:$U$11,0),1))","v":""}]
[1,"",499,"","",{"$f":"IF(L501<>\"\",CONCATENATE(DIGITADOR!$B$2,$A$2,DIGITADOR!$M$1,A501),\"\")","v":""},null,null,"",{"$f":"IF(K501=\"\",\"\",INDEX('OTRAS REFERENCIAS'!$AL:$AM,MATCH(K501,'OTRAS REFERENCIAS'!$AL:$AL,0),2))","v":""},null,{"$f":"IF(J501=\"\",\"\",INDEX(REFERENTES!$A:$D,MATCH(J501,REFERENTES!$C:$C,0),3))","v":""},null,null,null,null,null,null,null,{"$f":"IF(U501=\"\",\"\",INDEX('OTRAS REFERENCIAS'!$H$6:$I$11,MATCH(U501,'OTRAS REFERENCIAS'!$I$6:$I$11,0),1))","v":""},null,null,null,null,{"$f":"IF(Z501=\"\",\"\",INDEX('OTRAS REFERENCIAS'!$K$6:$L$11,MATCH(Z501,'OTRAS REFERENCIAS'!$L$6:$L$11,0),1))","v":""},null,null,null,null,{"$f":"IF(AE501=\"\",\"\",INDEX('OTRAS REFERENCIAS'!$N$6:$O$11,MATCH(AE501,'OTRAS REFERENCIAS'!$O$6:$O$11,0),1))","v":""},null,null,null,null,{"$f":"IF(AJ501=\"\",\"\",INDEX('OTRAS REFERENCIAS'!$Q$6:$R$11,MATCH(AJ501,'OTRAS REFERENCIAS'!$R$6:$R$11,0),1))","v":""},null,null,null,{"$f":"IF(AN501=\"\",\"\",INDEX('OTRAS REFERENCIAS'!$T$6:$U$11,MATCH(AN501,'OTRAS REFERENCIAS'!$U$6:$U$11,0),1))","v":""}]
[1,"",500,"","",{"$f":"IF(L502<>\"\",CONCATENATE(DIGITADOR!$B$2,$A$2,DIGITADOR!$M$1,A502),\"\")","v":""},null,null,"",{"$f":"IF(K502=\"\",\"\",INDEX('OTRAS REFERENCIAS'!$AL:$AM,MATCH(K502,'OTRAS REFERENCIAS'!$AL:$AL,0),2))","v":""},null,{"$f":"IF(J502=\"\",\"\",INDEX(REFERENTES!$A:$D,MATCH(J502,REFERENTES!$C:$C,0),3))","v":""},null,null,null,null,null,null,null,{"$f":"IF(U502=\"\",\"\",INDEX('OTRAS REFERENCIAS'!$H$6:$I$11,MATCH(U502,'OTRAS REFERENCIAS'!$I$6:$I$11,0),1))","v":""},null,null,null,null,{"$f":"IF(Z502=\"\",\"\",INDEX('OTRAS REFERENCIAS'!$K$6:$L$11,MATCH(Z502,'OTRAS REFERENCIAS'!$L$6:$L$11,0),1))","v":""},null,null,null,null,{"$f":"IF(AE502=\"\",\"\",INDEX('OTRAS REFERENCIAS'!$N$6:$O$11,MATCH(AE502,'OTRAS REFERENCIAS'!$O$6:$O$11,0),1))","v":""},null,null,null,null,{"$f":"IF(AJ502=\"\",\"\",INDEX('OTRAS REFERENCIAS'!$Q$6:$R$11,MATCH(AJ502,'OTRAS REFERENCIAS'!$R$6:$R$11,0),1))","v":""},null,null,null,{"$f":"IF(AN502=\"\",\"\",INDEX('OTRAS REFERENCIAS'!$T$6:$U$11,MATCH(AN502,'OTRAS REFERENCIAS'!$U$6:$U$11,0),1))","v":""}]

{"sheet":"REFERENTES","index":4,"n_rows":299,"n_cols":12,"rows_kept":299,"cut":false,"hidden":false,"merged":[[0,10,0,11],[0,13,0,14]]}
[]
["Agrosoledad","CSISPIE-ZR1-Agrosole-1",48733,2414,null,3546,"Administrador SIGMA"]
["Aguas Negras -1","SFFOCC-SZ1-ANE-1",45924,2154,"Parcela 1 monitoreada por el INVEMAR en el marco del ¨Monitoreo de las condiciones ambientales y los cambios estructurales y funcionales de las comunidades vegetales y de los recursos pesqueros durante la rehabilitación de la Ciénaga Grande de Santa Marta¨",8902,"Alejandra Robles Sanchez",null,null,null,"AD Pto. Moin C.R.","Administración Desarrollo Complejo Portuario  Limón Moin Costa Rica"]
["Aguas Negras -2","SFFOCC-SZ1-ANE-2",45926,2155,"Parcela 2 monitoreada por el INVEMAR en el marco del ¨Monitoreo de las condiciones ambientales y los cambios estructurales y funcionales de las comunidades vegetales y de los recursos pesqueros durante la rehabilitación de la Ciénaga Grande de Santa Marta¨",7381,"Alejandro Paz",null,null,null,"ANADARKO","Anadarko Colombia Company"]
["Aguas Negras -3","SFFOCC-SZ1-ANE-3",45928,2156,"Parcela 3 monitoreada por el INVEMAR en el marco del ¨Monitoreo de las condiciones ambientales y los cambios estructurales y funcionales de las comunidades vegetales y de los recursos pesqueros durante la rehabilitación de la Ciénaga Grande de Santa Marta¨",3444,"Alexandra Rodríguez",null,null,null,"AQUABIOSFERA","Aquabiosfera SAS"]
["Angostura","BCISEST-ZUS1-angostura-1",45589,2124,"esta parcela se encuentra ubicada en el sector de caño grande en la zona de uso sostenible, en el subsector de aprovechamiento, con predominancia de la especie Rhizophora mangle, esta parcela tiene gran cantidad de arboles muertos, y otros con condiciones de raquitismo, baja densidad de arboles en la parcela.",5658,"Amanda Selene Rojas Aguirre",null,null,null,"CALIDRIS","Asociación Calidris"]
["Ararca-1","BARU-ZR1-Ararca-1",44509,1764,"Parcela que coincide con punto de muestreo de PNN, se encontraron dos mojones instalados por ellos.  Bosque en sus primeros 25 m con abundante presencia de R. mangle con numerosas raíces fúlcreas, inundación de 5 cm en promedio, Bosque en buen estado no se evidencia tala",4415,"Ana Sánchez",null,null,null,"ASOCARS","Asociación de Corporaciones Autónomas Regionales"]
["Arroyo Plata-1","BARB-ZR1-Ay-Plata-1",44493,1759,"Parcela dominada por P. rhizophorae, inundación promedio de 15 cm. presencia abundante de propágulos de R. mangle.  Bosque en buen estado no se evidencia tala.",8660,"Angie Daniela Enriquez Fernandez",null,null,null,"ANLA","Autoridad Nacional de Licencias Ambientales"]
["BLACK SAND BAY","BSAND_BAY1",58105,2851,null,8258,"Daniel Fernando Jiménez Rincón",null,null,null,"ARAP","Autoridad de Recursos Acuáticos de Panamá"]
["BOCAS DEL ATRATO P1","BCATRATO_P1",56791,2810,null,7664,"Danny Santana Rosero",null,null,null,"CWOP","Caribbean-Wide Orca Project"]
["BOQUILLA-1","JPVI-ZR1-BOQ-1",42007,1078,null,7298,"David Alejandro Sanchez Nuñez",null,null,null,"CEAC","Centro de Estudios Ambientales de Cienfuegos"]
["Bahia Barbacoas-1","BARB-ZR1-Barba-1",42000,1076,null,3570,"Docente unal",null,null,null,"CECIMAR","Centro de Estudios en Ciencias del Mar - Universidad Nacional"]
["Bahia Barbacoas-1-1","BARB-ZR1-BARB01-1",44490,1758,"Estación con sustrato duro, los primeros 20 m dominados por L. racemosa, abundante regeneración natural de R. mangle hasta los 45 m.  Nivel de inundación promedio de 10 cm.",4814,"EPA Buenaventura",null,null,null,"CIEMAT","Centro de Investigaciones Energéticas, Medioambientales y Tecnológicas"]
["Bahia Honda -1","OPOI-ZP1-BahíaHonda-1",49005,2506,"Parcela aleatoria #2 2016",7840,"Fair Fernando Dager Osorio",null,null,null,"CIOH","Centro de Investigaciones Oceanográficas e Hidrográficas"]
["Bahía Burrera-1","DRATR-ZUS1-Bburr-1",48492,2381,"Bosque ralo con mayor presencia de R. mangle, no se observa vegetación baja diferente del manglar.  Presión antrópica relacionada por Corta de Varas.  Presencia de agallas en todas las estructuras del manglar, especialmente en el R. mangle.",4422,"Fernando López",null,null,null,"C.C.C.P.","Centro de Investigaciones Oceanográficas e Hidrográficas del Pacífico"]
["Bahía Coco Grande-1","DRATR-ZR1-Bcog-1",48520,2385,"Bosque Ralo. Con un manglar entrelazado con mayor presencia de R. mangle seguido de L. racemosa..  Presión antrópica relacionada por Corta de Varas y presencia de agallas en todas las estructuras del manglar, especialmente en el R. mangle.",3550,"Funcionario CARDIQUE",null,null,null,"CEINER","Centro de Investigación Educación y Recreación Islas del Rosario"]
["Bahía El Roto","DRATR-ZR1-Brot-1",48526,2387,"Bosque de porte alto.Presencia de R. mangle, L. racemosa y A. germinans.  Se observó corta de mangle.",3554,"Funcionario CORALINA",null,null,null,"CIRA","Centro de Investigación de los Recursos Acuáticos de Nicaragua (CIRA)"]
["Bahía Honda parcela circular-2","BahíaHondaPPC-2",55547,null,"Estación Manglar Bahía Honda (formada por 3 parcelas circulares): Manglar que hace parte del Parque Regional Old Point Regional Mangrove Park, localizado al nororiente de la isla de San Andrés, con una extensión de manglar de 60,62 ha (INVEMAR-CORALINA, 2016). Es un manglar de borde, con árboles con una altura promedio de 7,2 m, influenciado por las mareas y el continuo lavado de sus suelos. Conformado por Rhizophora mangle (especie dominante), Avicennia germinans, Laguncularia racemosa y Conocarpus erectus. Evidencia de residuos sólidos (botellas, latas, plásticos) traídos por el mar durante las mareas altas y árboles talados en el interior del manglar. Actualmente, bajo la figura de Parque Regional se ha logrado su recuperación y es un enclave ambiental que sirve de hábitat a numerosas especies faunísticas residentes y migratorias.",3553,"Funcionario CORPOURABA",null,null,null,"CICA","Centro de Investigación en Contaminación Ambiental"]
["Bahía Honda parcela circular-3","BahíaHondaPPC-3",55548,null,"Estación Manglar Bahía Honda (formada por 3 parcelas circulares): Manglar que hace parte del Parque Regional Old Point Regional Mangrove Park, localizado al nororiente de la isla de San Andrés, con una extensión de manglar de 60,62 ha (INVEMAR-CORALINA, 2016). Es un manglar de borde, con árboles con una altura promedio de 7,2 m, influenciado por las mareas y el continuo lavado de sus suelos. Conformado por Rhizophora mangle (especie dominante), Avicennia germinans, Laguncularia racemosa y Conocarpus erectus. Evidencia de residuos sólidos (botellas, latas, plásticos) traídos por el mar durante las mareas altas y árboles talados en el interior del manglar. Actualmente, bajo la figura de Parque Regional se ha logrado su recuperación y es un enclave ambiental que sirve de hábitat a numerosas especies faunísticas residentes y migratorias.",3549,"Funcionario CRA",null,null,null,"CRBMUV","Colección de Referencia Biología Marina Universidad del Valle"]
["Bahía Hooker parcela circular-2","BahíaHookerPPC-2",55549,null,"Estación Manglar Bahía Hooker (formada por 3 parcelas circulares): Manglar que hace parte del Parque Regional Old Point Regional Mangrove Park, localizado al nororiente de la isla de San Andrés, con una extensión de manglar de 60,62 ha (INVEMAR-CORALINA, 2016). Es un manglar de borde con árboles de 5,4 m de altura promedio, conformado por Rhizophora mangle, Avicennia germinans, Laguncularia racemosa y Conocarpus erectus. Evidencia de afectación por lodos aceitosos presentes en el sustrato y presencia de residuos sólidos (botellas, latas, plásticos). Actualmente, bajo la figura de Parque Regional se ha logrado su recuperación y es un enclave ambiental que sirve de hábitat a numerosas especies faunísticas residentes y migratorias.",3558,"Funcionario CRC",null,null,null,"Coleccion_Personal","Colección personal"]
["Bahía Hooker parcela circular-3","BahíaHookerPPC-3",55550,null,"Estación Manglar Bahía Hooker (formada por 3 parcelas circulares): Manglar que hace parte del Parque Regional Old Point Regional Mangrove Park, localizado al nororiente de la isla de San Andrés, con una extensión de manglar de 60,62 ha (INVEMAR-CORALINA, 2016). Es un manglar de borde con árboles de 5,4 m de altura promedio, conformado por Rhizophora mangle, Avicennia germinans, Laguncularia racemosa y Conocarpus erectus. Evidencia de afectación por lodos aceitosos presentes en el sustrato y presencia de residuos sólidos (botellas, latas, plásticos). Actualmente, bajo la figura de Parque Regional se ha logrado su recuperación y es un enclave ambiental que sirve de hábitat a numerosas especies faunísticas residentes y migratorias.",3556,"Funcionario CVC",null,null,null,"CPPS","Comisión Permanente del Pacífico Sur"]
["Bahía Hooker parcela circular-4","BahíaHookerPPC-4",55551,null,"Estación Manglar Bahía Hooker (formada por 3 parcelas circulares): Manglar que hace parte del Parque Regional Old Point Regional Mangrove Park, localizado al nororiente de la isla de San Andrés, con una extensión de manglar de 60,62 ha (INVEMAR-CORALINA, 2016). Es un manglar de borde con árboles de 5,4 m de altura promedio, conformado por Rhizophora mangle, Avicennia germinans, Laguncularia racemosa y Conocarpus erectus. Evidencia de afectación por lodos aceitosos presentes en el sustrato y presencia de residuos sólidos (botellas, latas, plásticos). Actualmente, bajo la figura de Parque Regional se ha logrado su recuperación y es un enclave ambiental que sirve de hábitat a numerosas especies faunísticas residentes y migratorias.",3552,"Funcionario CVS",null,null,null,"CI","Conservación Internacional Colombia "]
["Bahía Hooker-1","OPOI-ZP1-BahíaHooker-1",49002,2505,"Estación Manglar Bahía Hooker (formada por 3 parcelas circulares): Manglar que hace parte del Parque Regional Old Point Regional Mangrove Park, localizado al nororiente de la isla de San Andrés, con una extensión de manglar de 60,62 ha (INVEMAR-CORALINA, 2016). Es un manglar de borde con árboles de 5,4 m de altura promedio, conformado por Rhizophora mangle, Avicennia germinans, Laguncularia racemosa y Conocarpus erectus. Evidencia de afectación por lodos aceitosos presentes en el sustrato y presencia de residuos sólidos (botellas, latas, plásticos). Actualmente, bajo la figura de Parque Regional se ha logrado su recuperación y es un enclave ambiental que sirve de hábitat a numerosas especies faunísticas residentes y migratorias.",3555,"Funcionario Codechoco",null,null,null,"CONSULTOR","Consultor independiente "]
["Bahía La Paila-1","DRATR-ZUS1-Bpai-1",48497,2383,"Costado sur de la bahía, en el cual se observa una franja externa con árboles de porte alto precedida, por una pequeña franja de arracacho y abundante sedimentación que dificulta el acceso. Al interior _x000D_\r\r\n se encontró un bosque medianamente denso con presencia de R. mangle, L. racemosa y Nectandra sp ( sp asociada al ecosistema panganal).",3548,"Funcionario Corpamag",null,null,null,"CMS","Consultoria y Monitoreo Ambiental"]
["Bahía Marirrio","DRATR-ZP1-Bmari-2",48489,2380,"Bosque ralo al interior.  Se evidenciaron árboles cortados inclusive de los incluidos en la parcela, quitaron números de árboles marcados, por lo tanto se debió remarcar. Presencia de R. mangle y, L. racemosa.  Presión antrópica relacionada por Corta de Varas.",3547,"Funcionario Corpoguajira",null,null,null,"CVC","Corporacion  Autonoma Regional del Valle del Cauca"]
["Bahía Marirrio","DRATR-ZP1-Bmari-3",48539,2393,"Bosque denso hacia afuera pero ralo al interior.Presencia de R. mangle, L. racemosa y P. rhizophorae.Presencia de orquídeas y helecho A. aureum.  Presión antrópica relacionada por Corta de Varas.",3557,"Funcionario corponarino",null,null,null,"CORPONARIÑO","Corporacion Autonoma Regional de Nariño"]
["Balboa-1","CNGBAL-ZP3-Balboa-1",45097,2003,"La parcela se localiza tierra adentro de la ciénaga a 170 m  de la línea de agua y a 215 m de la carretera. El bosque de mangle es denso en el área de la parcela,  en los últimos metros se observa B. marítima  y se encuentra un arroyo, otro arroyo a  5 metros antes del inicio de la parcela.",8559,"Geraldine Salcedo",null,null,null,"CARSUCRE","Corporacion Autonoma Regional de Sucre"]
["Baru1","BARU-ZR1-Barú-1",44580,1785,"Estación con presencia de R. mangle, A. germinans y L. racemosa, abundante regeneración, neumatóforos con tamaños superiores a 15 cm.  Nivel de inundación promedio de 10 cm, bosque con árboles secos. Ubicada en la costa de la ciénaga de los cansados.",7380,"INGRID CATALINA CORTES ZAMBRANO",null,null,null,"CRA","Corporacion Autonoma Regional del Atlàntico"]
["Bazo Matuntugo -1","DRATR-ZR1-Bmat-1",48517,2384,"Bosque medianamente denso, presencia de R. mangle, L. racemosa y Nectandra sp ( sp asociada al ecosistema panganal).  Presión antrópica relacionada por Corta de Varas así mismo se observan agallas en todas las estructuras del manglar. Arboles mal formados.",4127,"Investigador INVEMAR",null,null,null,"CARDIQUE","Corporacion Autonoma Regional del Canal del Dique"]
["Berrugas","BERR-ZR1-BERR-1",42202,1139,null,7141,"Juan Camilo Rodríguez Atara",null,null,null,"CRC","Corporacion Autonoma Regional del Cauca"]
["Boca Cerrada","BCER-ZUS1-BCER-1",44387,1723,"Esta parcela ubica da cerca de la población de boca cerrada, presenta abundancia de Rhizophora mangle",8217,"Juan Lazarus",null,null,null,"CODECHOCO","Corporacion para el Desarrollo Sostenible del Choco"]
["Boca ISCUANDE","ISCUANDE-ZR1-GUABA-1",45918,2151,"BOSQUE NATAL MIXTO CON ESPECIES DE NATO, PALMA NAIDI, SUELA, SAPOTOLONGO. EL SUELO PRESENTA CONSISTENCIA DURA . PRESENCIA DE REGENERACIÓN NATURAL DE PIÑUELO EN ALGUNOS CLAROS. NATO POCO INTERVENIDO.",7337,"Julian David Beltran Pedraza",null,null,null,"CORPOGUAJIRA","Corporación Autónoma Regional de la Guajira"]
["Boca Vieja","Coquí-ZUS1-Bovi-1",45418,2068,"Parcela 0.1 ha, ubicada de manera perpendicular al borde del Estero Saturio, a 1,45 km aproximadamente de la comunidad de Coquí. Su bosque está compuesto por: Rhizophora mangle, Pelliciera rhizophorae y Mora oleifera.",8265,"Kevin Samuel Moreno",null,null,null,"CORALINA","Corporación Autónoma Regional de las Islas de San Andrés, Providencia y Santa Catalina"]
["Bocana","AST-ZP1-BOCA-1",41967,1065,"Dificil acceso por cercas de alambres puas, Suelo anegadocon vegetacion brinzal",3281,"Leonardo José Arias Alemán (2022)",null,null,null,"CORPAMAG","Corporación Autónoma Regional del Magdalena"]
["Bocana Asocars","BVENT-ZR3-BA-1",45883,2139,"Es importante destacar que estos bosques reciben una fuerte descarga de residuos sólidos provenientes de la ciudad de Bueventura que tiene una población de aproximadamente 400.000 habitantes.   En este sector predomina el Rhizophora mangle y en algunas parcelas la regeneración natural es nula.",8617,"Lina Gabriela Melo Flórez",null,null,null,"CORPOURABA","Corporación Autónoma Regional del Uraba"]
["Bocana CVC","BVENT-ZR3-BCVC-1",45862,2136,"En términos generales este bosque a pesar de presentar un distribución diamétrica en forma de J invertida, es característico de un bosque altamente intervenido en concordancia con la zonificación de 2007 y se aprecia claramente en el valor del área basal de 10 m2 Ha, diámetro promedio de 10 cms con alturas que no superan los 24 metros y una baja densidad de árboles en las clases diamétricas superiores.",8658,"Lina Marcela Escobar Vergara",null,null,null,"CVC-UNPA","Corporación Autónoma Regional del Valle del Cauca-Universidad del Pacifico"]
["Bocas TAPAGE -1","TAPAGE-ZR2-BOTAPAJE-1",45900,2144,"BOSQUE DE MANGLE ROJO BIEN DESARROLLADO CON ALTA DENSIDAD DE RAÍCES AÉREAS, SE OBSERVA PRESENCIA DE TALAS DE INDIVIDUOS DE MAYOR PORTE.",3562,"Lucia V Licero Villanueva",null,null,null,"CORALINA OMACHA","Corporación Coralina - Fundación Omacha"]
["Bocas de SEQUIHONDA -1","TAPAGE-ZR1-SEQUIHONDA-1",45896,2143,"BOSQUE DE MANGLE MIXTO. SU COMPOSICIÓN FLORISTICA DE MANGLE PIÑUELO, NATO E IGUANERO. ALTA REGENERACIÓN NATURAL. CONSISTENCIA DEL SUELO ALTAMENTE BLANDA",6302,"Luisa Francisca Cardona Acuña",null,null,null,"CORPOURABA - OMACHA","Corporación Corpouraba - Fundación Omacha"]
["Bodegas","ANCHI-ZR1-AB-1",45891,2142,"Bosque medianamente intervenido con dominancia de mangle rojo.  Suelos más estables que en las otras parcelas donde predomina el mangle rojo.",7377,"MARGARITA ROSA DUSSAN ARQUEZ",null,null,null,"CVS","Corporación Regional de Valle del Sinu y San Jorge"]
["Buno-1","CORI-ZUS1-Buno-1",48444,2372,"Desde fuera se observa una franja rala del ecosistema con árboles de porte bajo.  Mayor presencia de R, mangle y menor de A. germinans y L. racemosa. Al inferior se reportan las mismas especies. El sotobosque dominado por  helecho matatigre (A, aureum),  Se observan tocones por la corta de varas.  Presencia de comején, bolsas plásticas, tarros y basuras en general.",8340,"María Alejandra Camargo Vargas",null,null,null,"DADSA","DEPARTAMENT0 ADMiNISTRATIVO DISTRITAL DE SOSTENIBILIDAD AMBIENTAL"]
["Buritaca 2","BUR-ZR1-Buritac2-1",45320,2046,"La parcela está ubicada a una distancia de 700 m al oriente de la desembocadura del Río Buritaca, 50 m del borde de la cobertura vegetal. Es un relicto de mangle constituido por L. racemos, en los últimos metros de la Parcela se observa una ligera depresión en la que se acumula agua, y es alimentada por las crecidas del rio. También se observa mangle inclinados y volcados además de zonas taladas.",8880,"Natalia Del Pilar Peña Gonzalez",null,null,null,"DAMARENA","Departamento Administrativo del Medio Ambiente de Cartagena -  EPA Cartagena"]
["Buritaca 2-1","BUR-ZP1-Buritac2-1",45308,2043,"Se localiza en el costado oriental del río Buritaca a 1 km de la desembocadura, a  60 m del borde de la cobertura vegetal y a pocos metros del final del manglar. En las inmediaciones hay palmas de coco, matorrales y pastos. Dentro de la parcela entre 15 a 20 m el suelo esta encharcado con presencia de ranconcha y arboles inclinados.",4521,"Sebastian Herrera Fajardo",null,null,null,"DAMAB","Departamento Técnico Administrativo del Medio Ambiente Barranquilla"]
["Buritaca ZP 1-1","BUR-ZP1-Buritac1-1",45305,2042,"Se ubica a 400 m de la desembocadura del río Buritaca,  y  a una distancia de 17 m  del borde de la cobertura vegetal que da a la playa turística que da a una madre vieja y esta a su vez está protegida del mar por una barra de arena. En esta área la franja de manglar es más ancha.",7382,"Valentina Piñeros",null,null,null,"DIMAR","Dirección General Maritima"]
["Buritaca ZR 1","BUR-ZR1-Buritc1-1",45315,2044,"Se localiza a 800 m de la desembocadura del río Buritaca, en el extremo más al occidental del manglar, limita con zonas de potrero,  a una distancia de 18 m  del borde de la línea de cobertura vegetal. La parcela está constituida por mangla  L. racemosa y vegetación de playa. La franja de cobertura de mangla es reducida.",8266,"Zulay Saudith González Herrera",null,null,null,"ECOREEF","ECOREEF Colombia LTDA"]
["CENTRO ","CENTRO_JON",58102,2849,null,null,null,null,null,null,"ETH Zurich","EIDGENÖSSISCHE TECHNISCHE HOCHSCHULE ZÜRICH (Politécnico)\r\r\nEIDGENÖSSISCHE TECHNISCHE HOCHSCHULE ZÜRICH"]
["CENTRO ","CENTRO_SAN",58126,2846,null,null,null,null,null,null,"ECOMAR","Ecomar Consultoría  Ambiental S.A.S."]
["Caimanero","VIRU-SZ1-CAIM-1",42117,1106,null,null,null,null,null,null,"EPA BARRANQUILLA","Establecimiento Publico Ambiental Barranquilla"]
["Camino Real","CAMREAL-ZUS1-CAMREAL-1",45387,2060,"VEGETACIÓN DE MANGLE ROJO ADULTO  BIEN DESARROLLADO CON INTERVENCIONES ESPORADICAS",null,null,null,null,null,"EPA BUENAVENTURA","Establecimiento Publico Ambiental Buenaventura"]
["Cangrejo","MAYO-ZUS1-Can-1",46010,2215,null,null,null,null,null,null,"EPA CARTAGENA","Establecimiento Publico Ambiental Cartagena"]
["Caño Arteaga","BCISEST-ZUS1-CñArteaga-1",48750,2435,null,null,null,null,null,null,"ZOOCALI","FUNDACIÓN ZOOLÓGICA DE CALI"]
["Caño Camaronera-1","BARC-ZUS1-CCAM-1",44380,1721,"La parcela se encuentra  paralela al caño la Camaronera, presenta intervención por parte del hombre",null,null,null,null,null,"Fundabas","Fundacion Para El Desarrollo De La Biologia Aplicada"]
["Caño Corea -1","TIN-ZR1-EC-1",42093,1099,"ESTACION COREA",null,null,null,null,null,"F. Bucea Colombia","Fundación Bucea Colombia"]
["Caño Dulce-1","CÑDULC-SZ1-CÑDULC-1",45264,2027,"Se ubica a 55 m al sur de la vía a la playa de Caño Dulce y a 16 m de la línea de vegetación, entre dos casas.  El crecimiento del mangle es ramificado, se observa intervención de la parcela para evitar el crecimiento de brinzales, para el fácil tránsito. Presenta suelos firmes y arcillosos. Se encontraron residuos sólidos.",null,null,null,null,null,"F.CORALES","Fundación Corales de Paz"]
["Caño Grande E-1","CGSM-SZ1-CGE-1",45930,2157,"Parcela 1 monitoreada por el INVEMAR en el marco del ¨Monitoreo de las condiciones ambientales y los cambios estructurales y funcionales de las comunidades vegetales y de los recursos pesqueros durante la rehabilitación de la Ciénaga Grande de Santa Marta¨",null,null,null,null,null,"F. Malpelo","Fundación Malpelo / Marviva"]
["Caño Grande E-2","CGSM-SZ1-CGE-2",45932,2158,"Parcela 2 monitoreada por el INVEMAR en el marco del ¨Monitoreo de las condiciones ambientales y los cambios estructurales y funcionales de las comunidades vegetales y de los recursos pesqueros durante la rehabilitación de la Ciénaga Grande de Santa Marta¨",null,null,null,null,null,"OMACHA","Fundación Omacha"]
["Caño Grande E-3","CGSM-SZ1-CGE-3",45934,2159,"Parcela 3 monitoreada por el INVEMAR en el marco del ¨Monitoreo de las condiciones ambientales y los cambios estructurales y funcionales de las comunidades vegetales y de los recursos pesqueros durante la rehabilitación de la Ciénaga Grande de Santa Marta¨",null,null,null,null,null,"OMACHA - OFM","Fundación Omacha - Observadores Fauna Marina"]
["Caño Grande-1","BCISEST-ZUS2-cañogrande-1",45072,1997,"la paralela se encuentra ubicada en la zona de uso sostenible de caño grande en la ciénaga mangoneas, con bajos niveles de inundación y con predominancia de la especia Rhizophora mangle, se observaba intervención de por actividades antro picas",null,null,null,null,null,"OMACHA - OFM - AQUAB","Fundación Omacha - Observadores Fauna Marina - Aquabiosfera"]
["Caño Guacamayas-1","GUAC-ZP1-CGUA-1",44410,1729,"la parcela se encuentra paralela al caño de Guacamayas",null,null,null,null,null,"Sila Kangama","Fundación Sila Kangama"]
["Caño La Balsa","LBAL-ZUS1-clb-1",42074,1094,"parcela caño la balsa",null,null,null,null,null,"CIAA-UJTL","Fundación Universidad Jorge Tadeo Lozano - Centro de Investigaciones y Asesorías Agroindustriales,"]
["Caño Lequerica","BARB-ZR1-Lequerica-1",44504,1762,"Parcela con árboles de R, mangle de gran altura, en algunos casos 30 metros, inundación en toda la parcela y   abundante regeneración natural de R. mangle.  árboles secos y caídos.",null,null,null,null,null,"UJTL","Fundación Universidad de Bogotá Jorge Tadeo Lozano"]
["Caño Matuna-1","BARC-ZUS1-CMAT-1",44378,1720,"la parcela se encuentra a 30 metros de la boca del caño Matuna",null,null,null,null,null,"CERG","Geochemical & Environmental Research Group"]
["Caño Palermo-1","BCISEST-ZUS4-palermo-1",45100,2004,"la parcela esta ubicada en la zona de uso sostenible del sector caño palermo , con predominancia de la especie Rhizopohora mangle",null,null,null,null,null,"IED_San José","INSTITUCIÓN EDUCATIVA DEPARTAMENTAL SAN JOSÉ"]
["Caño Salado","BCISEST-ZP1-CñSalado-1",48758,2438,null,null,null,null,null,null,"IRD","Institut de Recherche pour le Developpement"]
["Caño Salado -2","BCISEST-ZP1-cañosalado2-1",45351,2053,"parcela ubicada en el sector de caño salado, con predominancia de las especies Rhizophora mangle,Pelliciera rhizophorae,Avicennia germinans, los arboles presenta condición de raquitismo, los niveles de inundación son bajos, por el sedimentos debido al material de arastre que trae el rio",null,null,null,null,null,"COLCIENCIAS","Instituto Colombiano para el Desarrollo de la Ciencia y la Tecnología"]
["Caño Salado-11","BCISESTSAL-ZP1-CS-1",42083,1096,null,null,null,null,null,null,"ICAL","Instituto Colombo Alemán de Investigaciones Científicas de Punta de Betín"]
["Caño Tijo-1","CSISPIE-ZUS1-CñTijo-1",48755,2437,null,null,null,null,null,null,"INVEMAR - OMACHA","Instituto INVEMAR - Fundación Omacha"]
["Caño Tijo-2","BCISEST-ZR1-eltijo2-1",45095,2002,"la parcela esta ubicada en en la zona de recuperación del DMI,con predominancia de la especie Avicennia germinans",null,null,null,null,null,"INDERENA","Instituto Nacional de los Recursos Naturales Renovables y del Ambiente"]
["Caño Tijo-2","BCISLIT-ZUS1-TIJO-1",45008,1993,"La PPC se ubica en la ZUS de la Bahía de Cispatá, con influencia directa del Caño Tijó y con alta inundación. Presenta dominancia de A. germinans, con alta regeneración natural. Se presentan en menor proporción R. mangle.",null,null,null,null,null,"ICML","Instituto de Ciencias del Mar y Limnología (ICML)"]
["Caño Urabalito -1","CORI-ZR1-Cura-1",48429,2367,"Pequeño relicto monoespecífico de R. mangle, sin evidencias de presión antrópica.",null,null,null,null,null,"IIAP","Instituto de Investigaciones Ambientales del Pacifico"]
["Caño el Frances-1","FRAN-ZR1-BCFRA-1",44414,1730,"La parcela se encuentra paralela al coño el Frances",null,null,null,null,null,"INVEMAR","Instituto de Investigaciones Marinas y Costeras"]
["Caño el Nene -1","CCISinu-ZUS1-elnene-1",45040,1995,"la parcela ubicada en el sector caño el nene, con predominancia de la especie Rhizophora mangle, la cual esta sometida a una constante presión, por aprovechamiento forestal en el sector.",null,null,null,null,null,"INVEMAR-AGR","Instituto de Investigaciones Marinas y Costeras - AGR"]
["CañoTubo","CNGMLLQ-ZP1-CATO-1",41954,1062,"Parcela dominada por A. germinans",null,null,null,null,null,"INVEMAR-BVT","Instituto de Investigaciones Marinas y Costeras - BVT"]
["Chamuscado","BNAY-ZUS3-NC-1",45821,2128,"El manglar de la estación naya presenta una condiciones regulares de conservación con una  área basal  y una cantidad de árboles aceptables  que permiten su recuperación si se garantizan estrategias de conservación como el aislamiento del bosque articuladas a un fuerte trabajo de empoderamiento por parte de las comunidades de base.",null,null,null,null,null,"INVEMAR-CPT","Instituto de Investigaciones Marinas y Costeras - CPT"]
["Chichiman -1","PCOM-ZR1-Chichi-1",42181,1132,"franja que se encuentra en un estado de intervención alterado bajo, con sitios de anidacion de la tortuga Carey",null,null,null,null,null,"IAvH","Instituto de Investigación Recursos Biológicos Alexander von Humboldt"]
["Cholon-1","BARU-ZR1-Cholón-1",44585,1787,"Dominada por R. mangle con numerosas raíces fúlcreas, sustrato duro.  Al final de la estación comienza vegetación de bosque seco.",null,null,null,null,null,"IDO_Cuba","Instituto de Oceanologia Cuba"]
["Cienaga El Picon-1","TBOM-ZP1-Picón-1",44598,1791,"Sitio con mucha basura al ingreso de la estación, don dominancia de R. mangle, se observaron pequeños parches de tala",null,null,null,null,null,"IATTC","Inter-American Tropical Tuna Commission"]
["Ciénaga Ana Gomez-2","CANG-ZR1-CANG-2",44407,1728,"La parcela esta ubicada al costado derecho de la Boca de la Ciénaga, presenta abundante arbolado de Mangle Negro de pequeño tamaño.",null,null,null,null,null,"LABORMAR","Laboratorio Microbiológico Ortiz Martinez "]
["Ciénaga Benitez-1","CBEN-ZR1-CBEN-1",44369,1718,"La parcela se ubica  entre caño Rico y Ciénaga Ana Gómez,  a 30 metros del cuerpo de agua",null,null,null,null,null,"Literature report","Literature report"]
["Ciénaga Caimanera-1","CCAIM-ZUS1-CCAIM-1",44422,1732,null,null,null,null,null,null,"MCS Consultoría","MCS Consultoría y Monitoreo ambiental S.A.S"]
["Ciénaga El Garzal -2","BCISEST-ZR1-elgarzal-2",45078,1998,"la parcela se encuentra ubicada en el sector caño el grazal en la zona de uso sostenible de la bahía de cispata, con predominancia de la especie Avicenia gerninans, con arboles de gran tamaño y sanos.",null,null,null,null,null,"MAKARELA","Makarela S.A.S"]
["Ciénaga El Garzal-1","BCISEST-ZR1-elgarzal-1",45054,1996,"la parcela esta ubicada en el sector de aprovechamiento de la ciénaga el garzal, con predominancia de la especie Rhizophora mangle, en una zona de bajos novales de inundación.",null,null,null,null,null,"MHNMC","Makuriwa - Museo de Historia Natural Marina de Colombia"]
["Ciénaga El Garzal-3","BCISEST-ZUS1-elgarzal3-1",45145,2016,"parcela ubicada en la zona de uso sostenible del sub sector de aprovechamiento de la ciénaga el garzal, con predominancia de especie Rhizophora mangle, en esta parcela se observan gran cantidad de arboles muertos, huellas de aprovechamiento forestal de la especie,",null,null,null,null,null,"MMU","Manchester Metropolitan University"]
["Ciénaga Galo","BCISEST-ZR1-golo-1",45118,2008,"ubicada en el sector de la ciénaga galo en la zona de uso sostenible de la bahía de cispata, con predominancia de la especie Rhizophora mangle, con arboles de gran tamaño, sanos y con bajos niveles de inundación.",null,null,null,null,null,"M_P","Marine & Port Consultants"]
["Ciénaga Galo","BCISEST-ZUS1-CgGalo-1",48753,2436,null,null,null,null,null,null,"IAEA-MEL","Marine Environment Laboratories"]
["Ciénaga Manzanillo-1","MABA-ZP1-Manzanillo-1",49325,1,"parcela fija (2 subparcelas). Estación Manglar Manzanillo (formada por 2 parcelas circulares): Manglar localizado al sur de la isla, constituido principalmente por Rhizophora mangle, como especie dominante y por Laguncularia racemosa. Se encuentra detrás de una barra arenosa y en su interior tiene un pequeño canal central en el que se acumulan aguas derivadas de la escorrentía y de un arroyo que se forma en época de lluvias, proveniente de Murray Hills. Tiene una cobertura de manglar de 1,59 ha (INVEMAR-CORALINA, 2016).",null,null,null,null,null,"MINCIENCIAS","Ministerio de Ciencia, Tecnología e Innovación"]
["Ciénaga Mestizos-1","BCISLIT-ZP1-CgMestizo-1",48766,2440,null,null,null,null,null,null,"MA","Ministerio del Ambiente Haiti"]
["Ciénaga Ostional-1","BCISEST-ZUS2-ostional-1",45121,2009,"la parcela cuenta con un gran numero de arboles de la especie Rhizophora mangle, de gran tamaño, y con un gran porcentaje de regeneración natural en un estado sano.",null,null,null,null,null,"MADS","Ministerio del Ambiente y Desarrollo Sostenible"]
["Ciénaga Remedia Pobre-1","BCISEST-ZUS1-remediapobre-1",45136,2013,"la parcela esta ubicada en la ciénaga remedia pobre que esta situada en el subsector de aprovechamiento del DMI con una baja densidad de arboles por parcela y con predominancia de la especia Rhiphora mangle",null,null,null,null,null,"MINAMBIENTE","Ministerio del Ambiente y Desarrollo Sostenible"]
["Ciénaga Rincon Grillo-1","BCISEST-ZUS4-elgrillo-1",45125,2010,"la parcela esta ubicada en el sector el rincón del grillo en la zona de uso sostenible de la bahía de cispata, con predominancia de la especie Rhizopora mangle, con arboles de gran tamaño, se encuentran algunas lianas y elechales",null,null,null,null,null,"MHN-UC","Museo Historia Natural Universidad del Cauca"]
["Ciénaga Soledad","BCISEST-ZR1-soledad-1",45142,2015,"esta parcela esta predominada por la especie Rhizopora mangle, se presenta muerte descendente en algunos arboles y muchos presentan una condición de raquitismo, también  existen algunas lianas",null,null,null,null,null,"MZUSP","Museu de Zoologia da Universidade de São Paulo"]
["Ciénaga la Balsa-1","BCISLIT-ZUS1-CñBalsa-1",48769,2441,null,null,null,null,null,null,"NOAA FISHERIES","NOAA Southwest Fisheries Science Center"]
["Cocoplum B-1","COCO-ZP1-CO-1",41479,919,null,null,null,null,null,null,"NEPA","National Environment and Planning Agency"]
["Cocoplum parcela circular-2","CocoplumPPC-2",55552,null,"Estación Manglar Cocoplum (formada por 3 parcelas circulares):Manglar de cuenca o interior, localizado en el costado oriental de la Isla, en la zona media. Se encuentra separado del mar por la carretera y se desarrolla detrás de formaciones vegetales distintas al manglar, en las que algunas de ellas son de tipo xerófila que crecen sobre arenas formando matorrales. Este manglar está conformado por Rhizophora mangle, Laguncularia racemosa, Avicennia germinans y baja frecuencia de Conocarpus erectus. Altura promedio de los árboles de 8,1 m. Presenta contaminación proveniente del asentamiento vecino conocido como Nueva Guinea, causante del vertimiento de aguas residuales y mala disposición de residuos sólidos, así como de una porqueriza localizada muy cerca del manglar. Hay evidencia de actividades de tala en su interior y de rellenos. Tiene una extensión de manglar de 38,53 ha (INVEMAR-CORALINA, 2016).",null,null,null,null,null,"NOAA","National Oceanic and Atmospheric Administration"]
["Cocoplum parcela circular-3","CocoplumPPC-3",55553,null,"Estación Manglar Cocoplum (formada por 3 parcelas circulares):Manglar de cuenca o interior, localizado en el costado oriental de la Isla, en la zona media. Se encuentra separado del mar por la carretera y se desarrolla detrás de formaciones vegetales distintas al manglar, en las que algunas de ellas son de tipo xerófila que crecen sobre arenas formando matorrales. Este manglar está conformado por Rhizophora mangle, Laguncularia racemosa, Avicennia germinans y baja frecuencia de Conocarpus erectus. Altura promedio de los árboles de 8,1 m. Presenta contaminación proveniente del asentamiento vecino conocido como Nueva Guinea, causante del vertimiento de aguas residuales y mala disposición de residuos sólidos, así como de una porqueriza localizada muy cerca del manglar. Hay evidencia de actividades de tala en su interior y de rellenos. Tiene una extensión de manglar de 38,53 ha (INVEMAR-CORALINA, 2016).",null,null,null,null,null,"OBIMAR","OBIMAR. Empresa Portuaria Quetzal"]
["Concho","Curch-ZUS1-Concho-1",45429,2071,"Ubicada a 5.2 km aproximadamente de la localidad de Juradó, en la cabecera de un pequeño Estero que se comunica con el Estero que comunica a Juradó con Curiche; su composición forestal está dada por la presencia de cuatro (4) especies a saber: Mora oleifera, Pelliciera rhizophorae, Rhizophora mangle y Rhizophora recamosa. La parcela está limitada en su parte Este por un  Catival.",null,null,null,null,null,"OBIS-SEAMAP","OBIS-SEAMAP"]
["Concho","JURA-ZUS1-Concho-1",45575,2120,"Ubicada a 5.2 km aproximadamente de la localidad de Juradó, en la cabecera de un pequeño Estero que se comunica con el Estero que comunica a Juradó con Curiche; su composición forestal está dada por la presencia de cuatro (4) especies a saber: Mora oleifera, Pelliciera rhizophorae, Rhizophora mangle y Rhizophora recamosa. La parcela está limitada en su parte Este por una asociación  Catival.",null,null,null,null,null,"OBIS","Ocean Biogeographic Information System"]
["Costa Verde P1","COR-ZP1-CtaVerde-1",45301,2041,"La parcela se encuentra en el sur del parche de manglar de mayor extensión ubicado al sur del sector. Se localiza 40 m al norte del espolón, a 14 m de la playa, el inicio de la parcela da a pocos metros un camino y la parte final a una pequeña cuneta de agua. Constituida por las 4 especies de mangle reportadas para el Dpto. con predominio de A. germinans.",null,null,null,null,null,"OIR","Oceanario de las Islas del Rosario - CEINER"]
["Costa Verde R1","COR-ZR1-CtaVerde-1",45297,2040,"La parcela se encuentra en el norte del parche de manglar de mayor extensión ubicado al sur del sector. Se localiza a  600 m al sur de la desembocadura del rio Córdoba, a 20 m la playa. Dentro de la parcela predomina L. racemosa, R. mangle y presencia de C. erectus,  los suelos que dan a la playa son arenosos y firmes.",null,null,null,null,null,"OIEA","Orgánismo Internacional de Energía Atómica"]
["Cuerval","CUER-ZP2-CUERVAL-1",45489,2085,"Parcela sencilla de 20 m de ancho x 50 m de largo",null,null,null,null,null,"PNN_GORGONA","Parque Nacional Natural Gorgona"]
["DCI CLARIN PARCELA1","DCI_P1",58076,2828,null,null,null,null,null,null,"UAESPNN","Parques Nacionales Naturales de Colombia"]
["DCI CLARIN PARCELA2","DCI_P2",58077,2829,null,null,null,null,null,null,"PNN","Parques Nacionales Naturales de Colombia "]
["DCI CLARIN PARCELA3","DCI_P3",58078,2830,null,null,null,null,null,null,"PARTICULAR","Particular"]
["DCI PARCELA1","DCI_P1",58060,2817,null,null,null,null,null,null,"PUJ","Pontificia Universidad Javeriana"]
["DCI PARCELA2","DCI_P2",58061,2818,null,null,null,null,null,null,"RAC-CIMAB","RAC-CIMAB"]
["DCI PARCELA3","DCI_P3",58062,2819,null,null,null,null,null,null,"REPSOL","Repsol Exploración Colombia S.A."]
["DSI CLARIN PARCELA1","DSI_P1",58072,2825,null,null,null,null,null,null,"SERNA","Secretaría de Recursos Naturales y Ambiente (SERNA)/Centro de Estudios y Control de Contaminantes (CESCCO)"]
["DSI CLARIN PARCELA2","DSI_P2",58073,2826,null,null,null,null,null,null,"SERAMBIENTE","Servicios de Ingeniería Ambiental"]
["DSI CLARIN PARCELA3","DSI_P3",58074,2827,null,null,null,null,null,null,"SEPC","Shell Exploration & Production Colombia GMBH"]
["DSI PARCELA1","DSI_P1",58064,2820,null,null,null,null,null,null,"NMHN Smithsonian","Smithsonian Institution"]
["DSI PARCELA2","DSI_P2",58065,2821,null,null,null,null,null,null,"SPRC - CNR","Sociedad Portuaria Rio Cordoba - Colombian Natural Resources S.A.S."]
["DSI PARCELA3","DSI_P3",58066,2822,null,null,null,null,null,null,"SPSM","Sociedad Portuaria de Santa Marta"]
["Don Diego","DDGO-ZR1-DnDieg-1",45330,2048,"Ubicadas a 150 m al Oriente de la cabaña de pescador, en el orilla Norte de la madre vieja. Es una parcela compuesta constituida con 2 parcelas distanciadas 16 m una de la otra, cada una con área de 100 m², ubicadas una al lado de la otra, paralelas a la línea de agua.",null,null,null,null,null,"UPR Humacao","UNIVERSIDAD DE PUERTO RICO EN HUMACAO"]
["Don Diego-1","DDGO-ZP2-DnDieg-1",45326,2047,"En la costa queda un pequeño relicto denso mejor conservado localizado a lo largo de un canal de aguas, y que desemboca en una cuneta donde se acumula el agua. Se encuentra la especie de mangle L. racemosa,  Este relicto se encuentra rodeado de vegetación secundaria por el borde costero.",null,null,null,null,null,"UR Camelia, IRD","UR Camelia, IRD"]
["Don Diego-2","DDGO-ZR1-DnDieg-2",45332,2049,"Ubicada a 120 m al Oriente de la cabaña de pescador, sobre la orilla sur de la madre vieja  a pocos metros del lindero. Suelos pantanosos y encharcados.",null,null,null,null,null,"UNEP CAR/RCU","United Nations Environment Programme - Caribbean Regional Coordinating Unit"]
["E La Virgen","JPVI-ZR1-VirgenOriente-1",44635,1804,"A lo largo de toda la parcela se encuentran islotes de R. mangle con raíces de más de dos metros de alto y A. germinans en el sector final.., inundación a lo largo de toda la estación.  poca regeneración natural, se evidencia tala.",null,null,null,null,null,"UASD","Universidad Autónoma de Santo Domingo"]
["El Claval","CCISinu-ZUS1-CLAVAL-1",45012,1994,"Ubicada en la antigua Camaronera, con fuerte influencia antrópica, principalmente por aprovechamiento forestal de mangle con evidencia de huellas de aprovechamiento. La especie predominante es A. germinans. Bajos niveles de inundación.",null,null,null,null,null,"UFB","Universidad Federal de Bahía"]
["El Cove -1","ElCove-ZP1-Elcove-1",48990,2501,"Parcela Caricomp (2 circulares): 2016",null,null,null,null,null,"UJTL-MM","Universidad Jorje Tadeo Lozano-Museo del Mar"]
["El Cove parcela circular-2","ElCovePPC-2",55556,null,"Estación Manglar El Cove (formada por 2 parcelas circulares): Es un manglar de borde, ubicado en el costado oriental en la parte media de la Isla, que presenta una cobertura de 2,20 ha (INVEMAR-CORALINA, 2016).",null,null,null,null,null,"UNMSM","Universidad Nacional Mayor de San Marcos"]
["El Mohan-1","BARU-ZR1-Mohán-1",44592,1789,"Franja delgada de mangle distribuidos en una franja conformada hacia el extremo derecho por árboles adultos, y el extremo izquierdo solo plántulas con tamaños entre 1,60 y 2 metros de altura.",null,null,null,null,null,"UNal","Universidad Nacional de Colombia"]
["El Muerto","ISCUANDE-ZR1-ELMUERTO-1",45905,2145,"SE PUEDE CONSIDERAR UNO DE LOS MANGLARES MAS DESARROLLADOS EN DIÁMETRO Y ALTURA DE NARIÑO. CON DOMINANCIA DEL MANGLE ROJO. ALTA DENSIDAD DE RAÍCES Y PRESENCIA DEL HELECHO RANCONCHA. AFECTADO POR TALAS.",null,null,null,null,null,"USB","Universidad Simón Bolivar"]
["Ensenada Miquitos","ENSENADA-ZP2-MIQUITOS-1MIQUITOSCURAY",45404,2064,"BOSQUE DE MANGLE ROJO BIEN DESARROLLADO CON SU ESTRUCTURA VERTICAL Y HORIZONTAL INTERVENIDAS. POCA REGENERACIÓN NATURAL",null,null,null,null,null,"UDEA","Universidad de Antioquia"]
["Ensenada Tribuga -1","Tribugá-ZP1-Enstrib-1",45318,2045,"Parcela rectangular de 0.1 ha, ubicada a 730 m aproximadamente al Norte de Tribugá, en la margen izquierda del Estero Puerquera. Su cobertura forestal corresponde a un bosque monoespecífico de Rhizophora mangle.",null,null,null,null,null,"UJTL-FCM","Universidad de Bogotá Jorge Tadeo Lozano, Fac. de Ciencias Naturales e Ingenieria"]
["Ensenada Tribuga -2","Tribugá-ZP1-Enstrib-2",45406,2065,"Parcela rectangular de 0.1 ha, ubicada a 730 m aproximadamente al Norte de Tribugá, en la margen izquierda del Estero Puerquera. Su cobertura forestal corresponde a un bosque monoespecífico de Rhizophora mangle.",null,null,null,null,null,"UCartagena","Universidad de Cartagena"]
["Ensenada de Rionegro -4","ERIO-ZP8-Errio-4",48578,2412,"Costado oriental de la ensenada con bosque denso y presencia de R.mangle, L. racemosa  y algunos E. germinans.  Se muestreo como especie predominante el R. mangle acompañada de L. racemosa.  Bosque denso con buena altura en algunos árboles se observó ataque de Teredo al igual que la presencia de agallas.",null,null,null,null,null,"UCO","Universidad de Córdoba"]
["Ensenada de Rionegro -5","ERIO-ZP8-Errio-5",50305,2680,"Parcela de prueba perdidas Antioquia 2015",null,null,null,null,null,"UF","Universidad de Florida"]
["Estero Aguacate-1","BB-ZR2-EAg-1",47534,2285,"Manglar altamente intervenido con predominio de mangle.Ubicada en el estero aguacate frente TC buen",null,null,null,null,null,"UniGie","Universidad de Giessen"]
["Estero Pasadero","YURU-ZP2-YEP-1",45832,2130,"En síntesis se esperaba que este sector se encontrara en mejores condiciones,  pero por la gran cantidad de árboles pequeños a pesar de tener el mayor área basal, se puede considerar que este es un bosque altamente intervenido en contraposición con la zonificación 2007 que lo cataloga como poco intervenido.",null,null,null,null,null,"UNIBAGUE","Universidad de Ibague"]
["Estero Piñal","BB-ZR2-EAg-2",47536,2286,"Manglar altamente intervenido con predominio de mangle.Ubicada en el estero piñal frente al muelle de Sociedad portuaria",null,null,null,null,null,"UDES","Universidad de La Sabana"]
["Estero San Antonio -1","Piñtcb-ZR1-EA-1",47510,2273,"Manglar altamente intervenido, con presencia de residuos solidos en descomposición. Ubicada en el estero san antonio frente al puente al sena",null,null,null,null,null,"UDO - NS","Universidad de Oriente - Núcleo de Sucre"]
["Estero San Antonio -2","Piñtcb-ZR1-EA-2",47512,2274,"Manglar altamente intervenido, con presencia de residuos sólidos en descomposición. Ubicada en el estero san antonio frente al puente del piñal",null,null,null,null,null,"UNIGUAJIRA","Universidad de la Guajira"]
["Estero San Miguel","RAPO-ZR1-ESaM-1",46022,2219,"manglar altamente intervenido con buena asociacion de especies de manglar",null,null,null,null,null,"UniMagdalena","Universidad del Magdalena"]
["Firme Bonito","ANCHI-ZR1-AFB-1",45888,2141,null,null,null,null,null,null,"UNINORTE","Universidad del Norte"]
["Guacamayas","GUAC-ZP1-GUACA-1",42211,1141,null,null,null,null,null,null,"UPacifico","Universidad del Pacífico"]
["Guachaca-1","GUA-ZP4-Guachc-1",45339,2050,"Se localiza en el costado Oriental  a 500 m de la desembocadura del río Guachaca, la parcela  va desde la playa, atraviesa un cuerpo de agua llegando a un potrero en el patio de una vivienda. Con suelos firmes a encharcados.",null,null,null,null,null,"UT","Universidad del Tolima"]
["Guadualito","DGUA-ZR3-DG-1",45858,2135,"El bosque de manglar de Dagua presenta características muy especiales.  Por un lado tiene una distribución diamétrica del número de árboles en forma de J invertida que permite garantizar la dinámica sucesional bosque. Por otro lado el análisis de la estructura vertical del bosque permite visualizar la fragmentación del bosque que concuerda con la zonificación de bosque altamente intervenido.",null,null,null,null,null,"UNIVALLE","Universidad del Valle"]
["Hojas Blancas","esza-ZUS1-Hoblan-1",44561,1771,null,null,null,null,null,null,"UC","Universidae do Cerá, Estaçao de Biologia Marinha"]
["Humanes Mar","ANCHI-ZR1-AHM-1",45852,2134,"En términos generales se puede considerar que por el área basal,  el número de árboles, la estructura vertical y la cobertura de copas, este bosque corresponde a un manglar Medianamente Intervenido,  lo que hace evidente la importancia de actualizar la zonificación ya que este sitio se encuentra clasificado actualmente  en la categoría de altamente intervenido.",null,null,null,null,null,"UNH","University of New Hampshire"]
["INICIO","INICIO_JON",58101,2848,null,null,null,null,null,null,"UM Francia","Université de Montpellier"]
["INICIO","INICIO_SAN",58125,2845,null,null,null,null,null,null,"VIMS-SI","Virginia Institute of Marine Science / Smithsonian Institution"]
["Ingesa","BCAR-ZP1-Ingesa-1",44609,1795,"Ubicado en un islote, con el sustrato del borde de material calcáreo, R. mangle como especie dominante con raíces fulcreas abundantes.  Bosque en buen estado, algunos troncos secos y muertos.",null,null,null,null,null,"WCS","Wildlife Conservation Society"]
["Isla Boqueron -1","CGSM-SZ1-IBoqrn-1",45281,2034,"Localizada  en el extremo Noroccidental de la isla al frente al islote Boquerón pequeño.  Es una parcela compuesta por 5 parcelas y cada una tiene un área de 100 m². Es un bosque joven y en buen estado constituido por las especie R. mangle y A. germinans,"]
["Isla Boqueron -2","CGSM-SZ1-IBoqrn-2",45283,2035,"Se ubica al centro norte del Islote. Es una parcela compuesta por 5 parcelas y cada una tiene un área de 100 m²."]
["Isla Boqueron -3","CGSM-SZ1-IBoqrn-3",45285,2036,"Se localiza en el costado nororiental del islote, la parcela presenta una densidad que se incrementa a medida que se introduce a tierra firme, conformada por A. germinanas y R. mangle. Es una parcela compuesta, constituida con 5 parcelas y cada una tiene un área de 100 m²."]
["Jesus Primera","BCISEST-ZUS1-Jesúsprimera-1",45151,2018,"esta esta ubicada en la sector de aprovechamiento ciénaga el vertel, con predominancia de la especie Avicenia gerninans, este es uno de los sitios que se mantienen sus condiciones naturales casi intactas,"]
["Jhon Mangrove parcela circular-3","JhonMangrovePPC-1",55572,null,"Estación Manglar Jhon Mangrove (formada por 1 parcela circular): Es un manglar de cuenca, ubicado en el costado noroeste de la Isla, que presenta una cobertura de 3,7 ha (INVEMAR-CORALINA, 2016)."]
["Kilómetro 22 -1","VIPIS-SZ1-KM22-1",45907,2146,"Parcela 1 monitoreada por el INVEMAR en el marco del ¨Monitoreo de las condiciones ambientales y los cambios estructurales y funcionales de las comunidades vegetales y de los recursos pesqueros durante la rehabilitación de la Ciénaga Grande de Santa Marta¨"]
["Kilómetro 22 -2","VIPIS-SZ1-KM22-2",45910,2147,"Parcela 2 monitoreada por el INVEMAR en el marco del ¨Monitoreo de las condiciones ambientales y los cambios estructurales y funcionales de las comunidades vegetales y de los recursos pesqueros durante la rehabilitación de la Ciénaga Grande de Santa Marta¨"]
["Kilómetro 22 -3","VIPIS-SZ1-KM22-3",45912,2148,"Parcela 3 monitoreada por el INVEMAR en el marco del ¨Monitoreo de las condiciones ambientales y los cambios estructurales y funcionales de las comunidades vegetales y de los recursos pesqueros durante la rehabilitación de la Ciénaga Grande de Santa Marta¨"]
["LAGO","OBRE;CHA-SZ1-LAGO-1",49587,2640,"Parcela de Manglar CRC"]
["La Alberca","BCISEST-ZUS1-laalberca-1",45139,2014,"esta parcela permanente de crecimiento, con predominancia de especie Avicenia germinans"]
["La Boquilla","CBOQ-ZR1-BOQU-1",42198,1138]
["La Calle","Curch-ZP1-Lacalle-1",45433,2072,"Se ubica a 1.1 km aproximadamente al Noreste de la comunidad de Curiche, en la margen derecha del Estero La Calle; su bosque está compuesto por Rhizophora mangle y Avicennia germinans."]
["La Calle","JURA-ZP1-Laca-1",45579,2121,"Se ubica a 1.1 km aproximadamente al Noreste de la comunidad de Curiche, en la margen derecha del Estero La Calle; su bosque está compuesto por Rhizophora mangle y Avicennia germinans."]
["La Camaronera","BCISEST-ZR1-camaronera-1",45133,2012,"parcela ubicada en la zona de recuperación del la bahía de cispata, con predominancia de la especie Avicenia  germinans, con bajos niveles de inundación, con gran cantidad de arboles de gran tamaño y en buen estado."]
["La Cuenca","BCISEST-ZUS6-lacuenca-1",45347,2052,"esta ubicada en el sub sector de aprovechamiento, remedia pobre, en la zona de uso sostenible del DMI, esta parcela tiene predominancia de la especie Avicemia gerninans, Rhizophora mangle entre otras, los arboles presentan unas condiciones de raquitismo y se encuentran gran cantidad de arboles y ramas muertas, hay huellas de aprovechamiento forestal en esta parcela."]
["La Flotante","BCISEST-ZUS1-laflotante-1",45586,2123,"la parcela esta ubicada en la zona de uso sostenible del DMI en el sector la flotante en caño nisperal, con predominancia de la especie Rhizophora mangle, con arboles de gran tamaño, las condiciones del bosque son muy buenas existe abundante fauna silvestre benéfica para el sistema manglarico"]
["La Raya","LRAY-ZR1-LRA-1",41384,886,"La parcela se ubica perpendicular a la línea de costa, aproximadamente a un Kilómetro de la comunidad indigena Wayuú asentada en el lugar. En sus aproximaciones se encuentra La Laguna de Buena Vista, que es alimetada por el Río Ranchería y tiene conexión con el mar que permanece abierta prácticamente todo el año (Gil-Torres et al., 2009). Dentro del bosque de manglar, se encuentran suelos fangososo sin compactar altamente inundados; en las zonas exteriores y circundantes al mismo se observan suelos que corresponden a depósitos de materiales calcáreos gruesos y conchas apartadas por el mar. Se observa que la especie dominante es A. germinans (Vidal-Hernández, 2013)_x000D_"]
["La Raya-2","LRAY-ZR1-LRA-2",41386,887,"La parcela se ubica perpendicular a la línea de costa, aproximadamente a un Kilómetro de la comunidad indigena Wayuú asentada en el lugar. En sus aproximaciones se encuentra La Laguna de Buena Vista, que es alimetada por el Río Ranchería y tiene conexión con el mar que permanece abierta prácticamente todo el año (Gil-Torres et al., 2009). Dentro del bosque de manglar, se encuentran suelos fangososo sin compactar altamente inundados; en las zonas exteriores y circundantes al mismo se observan suelos que corresponden a depósitos de materiales calcáreos gruesos y conchas apartadas por el mar. Se observa que la especie dominante es A. germinans (Vidal-Hernández, 2013)_x000D_"]
["La Raya-3","LRAY-ZR1-LRA-3",41388,888,"La parcela se ubica perpendicular a la línea de costa, aproximadamente a un Kilómetro de la comunidad indigena Wayuú asentada en el lugar. En sus aproximaciones se encuentra La Laguna de Buena Vista, que es alimetada por el Río Ranchería y tiene conexión con el mar que permanece abierta prácticamente todo el año (Gil-Torres et al., 2009). Dentro del bosque de manglar, se encuentran suelos fangososo sin compactar altamente inundados; en las zonas exteriores y circundantes al mismo se observan suelos que corresponden a depósitos de materiales calcáreos gruesos y conchas apartadas por el mar. Se observa que la especie dominante es A. germinans (Vidal-Hernández, 2013)_x000D_"]
["La Zona","BCISESTSAL-ZUS1-ZON-1",42099,1101]
["Lagartero","TIMB-ZUS1-LARGAR-1",45484,2084,"Ubicada en la bocana de Saija, Parcela sencilla de 20 m de ancho x 50 m de largo"]
["Laguna Salada","LSAL-ZR1-LSA-1",41396,892,"Para llegar a esta parcela se toma la troncal del Caribe en la vía Riohacha – Maicao que corresponde a la carrera 1C frente a la entrada de la circunvalar. Se llega al parque del sendero ecológico de la laguna y se ingresa al manglar por el costado suroccidental a unos 30 m aproximadamente.  La parcela de monitoreo está localizada en el bosque de cuenca dominado por L. racemosa con alturas máximas de 16 m, de gran porte, junto a árboles de A. germinans muy ramificados desde el tronco y algunos defoliados, con alturas de 6 a 9 m. El suelo es areno fangoso cubierto de una capa gruesa de hojarasca en descomposición, con pocos neumatóforos y abundante regeneración natural de L. racemosa.  (INVEMAR, 20014) _x000D_"]
["Las Piedras-1","BARB-ZR1-Piedras-1",44496,1760,"Estación dominada por A. germinans, con presencia de árboles secos, caídos y algunos troncos partidos"]
["Las Quintas-1","CQUINTAS-ZUS1-Quintas-1",44616,1797,"Al ingreso de la estación y sobre el borde de los 20 metros de ancho de la parcela, el exceso de basura es evidente, acompañado de malos olores.  Parcela dominada por A. germinans, sustrato duro e inundación de 10 cm en promedio.  Algunos árboles secos y muertos, pero no se evidencia tala."]
["Lucho Guerra-1","CaiRinH-ZP1-LUCHO-1",41972,1066,"Suelo inundable con vegetación latizal, agua dulce y salada, estado fitosanitario en buen estado."]
["Luna -1","SFFOCC-SZ1-LUN-1",45922,2153,"Parcela 3 monitoreada por el INVEMAR en el marco del ¨Monitoreo de las condiciones ambientales y los cambios estructurales y funcionales de las comunidades vegetales y de los recursos pesqueros durante la rehabilitación de la Ciénaga Grande de Santa Marta¨"]
["Luna -2","SFFOCC-SZ1-LUN-2",47837,2319,"Parcela 3 monitoreada por el INVEMAR en el marco del ¨Monitoreo de las condiciones ambientales y los cambios estructurales y funcionales de las comunidades vegetales y de los recursos pesqueros durante la rehabilitación de la Ciénaga Grande de Santa Marta¨"]
["Luna -3","SFFOCC-SZ1-LUN-3",47839,2320,"Parcela 3 monitoreada por el INVEMAR en el marco del ¨Monitoreo de las condiciones ambientales y los cambios estructurales y funcionales de las comunidades vegetales y de los recursos pesqueros durante la rehabilitación de la Ciénaga Grande de Santa Marta¨"]
["MANZANILLO","MANZANILLO",58095,2844]
["Mallorquin","CNGMLLQ-ZR1-Mr-1",45168,2020,"Localiza 15  m del mar. El manglar tiene unl nivel de desarrollo bajo. Esta zona presenta erosión costera y es azotada por los fuertes vientos. Se encuentra llena de residuos sólidos provenientes del mar. En las inmediaciones de la parcela se encuentra un potrero."]
["Mallorquín","CNGMLLQ-ZP1-Mallorq-1",45242,2021,"Se ubica a 58 m de la ciénaga y a 560 m de  la casa más cercana. La parcela presenta mangles de gran talla, característica que va disminuyendo hasta llegar a juveniles hacia el final del bosque. Presenta crecimiento arbustivo y con distribución densa, además están inclinados por los fuertes vientos.  Se observan huecos de cangrejos y neumatóforos. Los suelos son firmes, presenta residuos sólidos provenientes del mar y de la ciénaga."]
["ManatIes Playa","CNGMNT-ZR1-Manat-1",45253,2024,"Se localiza a 25 m del mar, al lado de un playón, a 200 m de un camino que pasa por una pequeña ciénaga. Dentro de la parcela  la especie predominante es A. germinans con copas pobres, presentan suelos encharcados y neumatóforos."]
["Manaties -ZR1-1","CNGMNT-ZR1-MANA-1",41959,1063,"La parcela tine arboles en estado Fustal, infectados por fitoforos algunas arboles de Laguncularia agua estancada"]
["Manaties B","CNGMNT-ZP1-MANB-1",41963,1064,"Dominancia de Avicennia g, con poco de Laguncularia y brinzales de ambas especies."]
["Manzanillo parcela circular-1","ManzanilloPPC-1",55561,null,"Estación Manglar Manzanillo (formada por 2 parcelas circulares): Manglar localizado al sur de la isla, constituido principalmente por Rhizophora mangle, como especie dominante y por Laguncularia racemosa. Se encuentra detrás de una barra arenosa y en su interior tiene un pequeño canal central en el que se acumulan aguas derivadas de la escorrentía y de un arroyo que se forma en época de lluvias, proveniente de Murray Hills. Tiene una cobertura de manglar de 1,59 ha (INVEMAR-CORALINA, 2016)."]
["Manzanillo parcela circular-2","ManzanilloPPC-2",55562,null,"Estación Manglar Manzanillo (formada por 2 parcelas circulares): Manglar localizado al sur de la isla, constituido principalmente por Rhizophora mangle, como especie dominante y por Laguncularia racemosa. Se encuentra detrás de una barra arenosa y en su interior tiene un pequeño canal central en el que se acumulan aguas derivadas de la escorrentía y de un arroyo que se forma en época de lluvias, proveniente de Murray Hills. Tiene una cobertura de manglar de 1,59 ha (INVEMAR-CORALINA, 2016)."]
["Manzanillo-1","JPVI-ZUS1-JPManzanillo-1",44640,1806,"Parcela ubicada en el extremo norte de la Ciénaga de Juan Polo, bordeada por un canal, los primeros 15 metros son de R. mangle en sustrato fangoso y desde allí comienza una franja de A. germinans en terreno duro, al finalizar la parcela se encuentra sustrato duro y limita con el comienzo de vegetación de bosque seco."]
["Matunilla","BARB-ZR1-MATU-1",42003,1077,"Sobre al  caño Matunilla, a 40 metros de la orilla, zona heterogénea, manglar caído, zonas inundadas, arboles secos"]
["Mayapo","MAYA-ZR1-MA-1",41378,883,"La parcela se encuentra paralela a la línea de costa, en una franja de manglar de borde, alargada y de poca anchura, la cual se encuentra interrumpida y separa del mar; en sus aproximaciones se encuentra una laguna costera, a una distancia aproximada de 35m. La zona está atravesada transversalmente por dos caminos, los cuales probablemente son frecuentados por los pescadores del lugar. Dentro de los bosques de manglar se encuentran suelos principalmente arenosos con alto contenido de carbonato de calcio y que pueden ser compactos. Se observa gran cantidad de arena, que en algunos casa llega a cubrir hasta 30cm del punto de anclaje del manglar, probablemente acumulados por erosión costera y la acción de los fuertes vientos (Vidal-Hernández, 2013)_x000D_"]
["Mayapo-2","MAYA-ZR1-MA-2",41380,884,"La parcela se encuentra paralela a la línea de costa, en una franja de manglar de borde, alargada y de poca anchura, la cual se encuentra interrumpida y separa del mar; en sus aproximaciones se encuentra una laguna costera, a una distancia aproximada de 35m. La zona está atravesada transversalmente por dos caminos, los cuales probablemente son frecuentados por los pescadores del lugar. Dentro de los bosques de manglar se encuentran suelos principalmente arenosos con alto contenido de carbonato de calcio y que pueden ser compactos. Se observa gran cantidad de arena, que en algunos casa llega a cubrir hasta 30cm del punto de anclaje del manglar, probablemente acumulados por erosión costera y la acción de los fuertes vientos (Vidal-Hernández, 2013)_x000D_"]
["Mayapo-3","MAYA-ZR1-MA-3",41382,885,"La parcela se encuentra paralela a la línea de costa, en una franja de manglar de borde, alargada y de poca anchura, la cual se encuentra interrumpida y separa del mar; en sus aproximaciones se encuentra una laguna costera, a una distancia aproximada de 35m. La zona está atravesada transversalmente por dos caminos, los cuales probablemente son frecuentados por los pescadores del lugar. Dentro de los bosques de manglar se encuentran suelos principalmente arenosos con alto contenido de carbonato de calcio y que pueden ser compactos. Se observa gran cantidad de arena, que en algunos casa llega a cubrir hasta 30cm del punto de anclaje del manglar, probablemente acumulados por erosión costera y la acción de los fuertes vientos (Vidal-Hernández, 2013)_x000D_"]
["Mc Bean parcela circular-1","McBeanLagoonPPC-1",55569,null,"Estación Manglar McBean Lagoon (formada por 2 parcelas circulares): El manglar se encuentra localizado en el borde noreste de la Isla, declarado como Parque Nacional Natural del mismo nombre. Esta conformado por manglares de borde y cuenca, de las especies de Rizophora mangle y Avicennia germinans  con una cobertura de 37,1 ha (INVEMAR-CORALINA, 2016)."]
["Mc Bean parcela circular-2","McBeanLagoonPPC-2",55570,null,"Estación Manglar McBean Lagoon (formada por 2 parcelas circulares): El manglar se encuentra localizado en el borde noreste de la Isla, declarado como Parque Nacional Natural del mismo nombre. Esta conformado por manglares de borde y cuenca, de las especies de Rizophora mangle y Avicennia germinans  con una cobertura de 37,1 ha (INVEMAR-CORALINA, 2016)."]
["Mc Bean parcela circular-3","McBeanLagoonPPC-3",55571,null,"Estación Manglar McBean Lagoon (formada por 2 parcelas circulares): El manglar se encuentra localizado en el borde noreste de la Isla, declarado como Parque Nacional Natural del mismo nombre. Esta conformado por manglares de borde y cuenca, de las especies de Rizophora mangle y Avicennia germinans  con una cobertura de 37,1 ha (INVEMAR-CORALINA, 2016)."]
["Muertero","Nuqui-ZR2-Mtero-1",45583,2122,"Parcela de 0.1 ha, instalada en la margen izquierda del Estero Muertero, cuya composición floirística está dada por las especies: Rhizophora mangle, Pelliciera Rhizophorae y Mora oleifera."]
["Muertero","Panguí-ZR1-Mtero-1",45411,2066]
["Muertero","Panguí-ZR1-Mtero-2",45413,2067,"Parcela de 0.1 ha, instalada en la margen izquierda del Estero Muertero, cuya composición floirística está dada por las especies: Rhizophora mangle, Pelliciera Rhizophorae y Mora oleifera."]
["Málaga","BMAL-ZP9-MV-1",45874,2137,"Este sector  a pesar de tener un bajo valor de área basal y pocos árboles, el diámetro y la altura promedio es mayor que en las otras cuencas conformando un bosque en mayor estado de recuperación.  Así mismo el área basal nos permite visualizar un pequeño pero muy significativo aumento de la cobertura del bosque."]
["NORTE","NORTE_JON",58103,2850]
["NORTE","NORTE_SAN",58127,2847]
["Old Point -1","OPOI-ZUS2-OP-1",41463,915]
["Old Town -2","OTOW-ZP1-OldTown-2",51437,2703,"Parcela fija (2 subparcelas) Dominancia de Avicennia germinans y Rhizophora mangle. Estación Manglar Old Town (formada por 2 parcelas circulares): Este manglar está localizado en el costado noroccidental de la Isla, ubicado detrás de una barra de arena de poca elevación. Hacia el norte se extiende detrás de la Capitanía de Puerto de la Dirección General Marítima (DIMAR) y de un centro de acopio de embarcaciones menores. En la parte sur occidental un corto camino separa una pequeña parte del bosque del resto, allí el bosque se extiende detrás de algunas viviendas ubicadas después de una barra. El manglar tiene una extensión de 6,91 ha (INVEMAR-CORALINA, 2016) y es el segundo más representativo de la Isla, después del bosque de manglar de Mc Bean Lagoon (38,8 ha) (INVEMAR-CORALINA, 2016). El bosque está dominado por Avicennia germinans, y hay presencia de R. mangle, que se distribuye principalmente hacia el costado occidental en el borde de la playa, mientras que hacia el sur se evidencian algunos individuos de L. racemosa y C. erectus."]
["Old Town parcela circular-1","OldTownPPC-1",55563,null,"Estación Manglar Old Town (formada por 2 parcelas circulares): Este manglar está localizado en el costado noroccidental de la Isla, ubicado detrás de una barra de arena de poca elevación. Hacia el norte se extiende detrás de la Capitanía de Puerto de la Dirección General Marítima (DIMAR) y de un centro de acopio de embarcaciones menores. En la parte sur occidental un corto camino separa una pequeña parte del bosque del resto, allí el bosque se extiende detrás de algunas viviendas ubicadas después de una barra. El manglar tiene una extensión de 6,91 ha (INVEMAR-CORALINA, 2016) y es el segundo más representativo de la Isla, después del bosque de manglar de Mc Bean Lagoon (38,8 ha) (INVEMAR-CORALINA, 2016). El bosque está dominado por Avicennia germinans, y hay presencia de R. mangle, que se distribuye principalmente hacia el costado occidental en el borde de la playa, mientras que hacia el sur se evidencian algunos individuos de L. racemosa y C. erectus."]
["Old Town parcela circular-2","OldTownPPC2",55564,null,"Estación Manglar Old Town (formada por 2 parcelas circulares): Este manglar está localizado en el costado noroccidental de la Isla, ubicado detrás de una barra de arena de poca elevación. Hacia el norte se extiende detrás de la Capitanía de Puerto de la Dirección General Marítima (DIMAR) y de un centro de acopio de embarcaciones menores. En la parte sur occidental un corto camino separa una pequeña parte del bosque del resto, allí el bosque se extiende detrás de algunas viviendas ubicadas después de una barra. El manglar tiene una extensión de 6,91 ha (INVEMAR-CORALINA, 2016) y es el segundo más representativo de la Isla, después del bosque de manglar de Mc Bean Lagoon (38,8 ha) (INVEMAR-CORALINA, 2016). El bosque está dominado por Avicennia germinans, y hay presencia de R. mangle, que se distribuye principalmente hacia el costado occidental en el borde de la playa, mientras que hacia el sur se evidencian algunos individuos de L. racemosa y C. erectus."]
["Ostion","BCISEST-ZUS1-Ostion-1",48747,2434]
["PNN MCBEAN PARCELA1","PNNMCBEAN_P1",58085,2834]
["PNN MCBEAN PARCELA10","PNNMCBEAN_P10",58094,2843]
["PNN MCBEAN PARCELA2","PNNMCBEAN_P2",58086,2835]
["PNN MCBEAN PARCELA3","PNNMCBEAN_P3",58087,2836]
["PNN MCBEAN PARCELA4","PNNMCBEAN_P4",58088,2837]
["PNN MCBEAN PARCELA5","PNNMCBEAN_P5",58089,2838]
["PNN MCBEAN PARCELA6","PNNMCBEAN_P6",58090,2839]
["PNN MCBEAN PARCELA7","PNNMCBEAN_P7",58091,2840]
["PNN MCBEAN PARCELA8","PNNMCBEAN_P8",58092,2841]
["PNN MCBEAN PARCELA9","PNNMCBEAN_P9",58093,2842]
["Palosecal","VIRU-SZ1-PALOS-1",42123,1109]
["Parcela Esteh","CAJA-ZR1-Esteh-1",46020,2218,"manglar altamente intervenido con muchos claros en la estructura del bosque"]
["Parcela Play","CAJA-ZUS1-Ply-1",46002,2213,"parcela medianamente intervenida con predominancia de Rizhophora mangle"]
["Pasacaballos","CAMREAL-ZUS2-CABALLOS-1",45391,2061,"MANGLAR DE ESTRUCTURA VERTICAL Y HORIZONTAL BIEN DESARROLLADA CON DOMINANCIA DEL MANGLE ROJO. PRESENCIA DE ARBOLES MUERTOS AL PARECER POR EFECTO DE DESCARGA ELÉCTRICA."]
["Peñitas","VIRU-SZ1-PEÑI-1",42127,1110]
["Puerto Cesar-1","CORI-ZP1-Pces-1",48471,2378,"Bosque de porte alto.Presencia de R. mangle, L. racemosa y A. germinans.  La sp más abundante y dominante es A. germinans, Presión antrópica relacionada con el aprovechamiento del cangrejo azul, antes utilizaban barbasco, en la actualidad palas hasta sacar los pocos y de pequeñas tallas que quedan."]
["Puerto España","BSJU-ZR3-SJPE-1",45880,2138,"Este bosque presenta características propias de un manglar medianamente intervenido en proceso de recuperación. Se observa una mayor área basal  en el 2015 con respecto al 2007 aunque el análisis comparativo no tiene relación  directa puesto que se trata de dos sitios diferentes aunque muy cercanos"]
["Punta Arenas","TBOM-ZP1-PtaArenas-1",44603,1793,"En los 10 primeros metros se encuentran Botellas Pet, resultado de un campamento militar que se ubicó en el sector tiempo atrás, Estación dominada por L. racemosa, al final el terreno se va volviendo duro y seco"]
["Punta Boqueron","JPVI-ZR1-Boquerón-1",44621,1799,"Parcela con presencia de L. racemosa, A. germinans y R. mangle, bosque tupido con numeras raíces fúlcreas .regeneración natural abundante, sustrato duro."]
["Punta Cerro -1","CGSM-SZ1-PtaCerro-1",45288,2037,"Es la parcela más lejana de este sector se ubica a 1.7 km al sur del caño San Luis .Esta parcela  presenta la mayor densidad en comparación a las restante de la estación. Conformada por A. germinans y R. mangle. Es una parcela compuesta con 5 y cada una tiene un área de 100 m²."]
["Punta Cerro -2","CGSM-SZ1-PtaCerro-2",45290,2038,"Se localiza a 1.4 km al sur del caño San Luis. Es una parcela compuesta por 5 parcelas y cada una tiene un área de 100 m². Esta Parcela presenta la menor densidad de la estación conformada por  A. germinans y R. mangle."]
["Punta Cerro -3","CGSM-SZ1-PtaCerro-3",45292,2039,"Es la parcela más cercana al caño San Luis ubicarse a una distancia de 1 km  en dirección sur, entre áreas inundadas. Es una parcela compuesta, constituida con 5 y cada una tiene un área de 100 m². Conformada con  A. germinans y R. mangle. Se observó tala."]
["Punta Chino -1","CGSM-SZ1-PtaChino-1",45274,2031,"Se localiza aproximadamente 5 km al norte de desembocadura del río Sevilla,  en el sector llamado Punta Chino. El bosque está constituido por A. germinans, L. racemosa y  R mangle la cual se encuentra hasta 80 metros desde la línea de agua. Es una parcela compuesta, constituida por 5 parcelas y cada una tiene un área de 100 m²."]
["Punta Chino -2","CGSM-SZ1-PtaChino-2",45276,2032,"Se localiza a  400 m al norte de Punta Chino. El bosque se encuentra en buen estado. Presencia de R. mangle a lo largo del transecto y predominio de A. germinans, en menor proporción L. racemosa. Es una parcela compuesta, constituida por 5 parcelas y cada una tiene un área de 100 m²"]
["Punta Chino -3","CGSM-SZ1-PtaChino-3",45278,2033,"Se ubica a  900 m al norte de Punta Chino,  Con predominio de A. germinans, presencia de R. mangla a lo largo del transecto,  y L. racemosa solo aparece en la parcela 5. Es una parcela compuesta, constituida por 5 parcelas y cada una tiene un área de 100 m²"]
["Punta Coquito","BCOL-ZP1-Pcoq-1",48403,2362,"Pequeña franja con residuos o basuras, con predominio de arboles de baja altura y baja densidad de R. mangle.  Presión antrópica por corta de varas y aumento de la frontera agrícola."]
["Punta Seca","PSEC-ZR1-PSEC-1",44400,1726]
["Punta de las Vacas-1","CORI-ZP1-Pvac-1",48432,2368,"Bosque ralo al interior.  Predomina casi en su totalidad el  R. mangle, y escasa presencia de  L. racemosa y A. germinans.  Fuera de la parcela se observó un juvenil de P. rhizophorae.  Intervención Antrópica, representada en corta de varas.  Presencia de tarros, bolsas y desechos en general."]
["Quebrada Balsadito","MAYO-ZR3-QB-1",46006,2214]
["REF PARCELA1","REF_P1",58068,2823]
["REF PARCELA2","REF_P2",58069,2824]
["REF PARCELA3","REF_P3",58070,2824]
["REF RIN PARCELA1","REF_P1",58080,2831]
["REF RIN PARCELA2","REF_P2",58081,2832]
["REF RIN PARCELA3","REF_P3",58082,2833]
["Rincon Norte","RINC-ZP1-RNOR-1",44392,1724,"La parcela se encuentra  paralela a linea de costa en una franja de mangle"]
["Rincon Sur","RINC-ZR1-RSUR-1",44395,1725,"La parcela se encuentra paralela a la linea de costa."]
["Rinconada -1","VIPIS-SZ1-RIN-1",45914,2149,"Parcela 1 monitoreada por el INVEMAR en el marco del ¨Monitoreo de las condiciones ambientales y los cambios estructurales y funcionales de las comunidades vegetales y de los recursos pesqueros durante la rehabilitación de la Ciénaga Grande de Santa Marta¨"]
["Rinconada -2","VIPIS-SZ1-RIN-2",45916,2150,"Parcela 2 monitoreada por el INVEMAR en el marco del ¨Monitoreo de las condiciones ambientales y los cambios estructurales y funcionales de las comunidades vegetales y de los recursos pesqueros durante la rehabilitación de la Ciénaga Grande de Santa Marta¨"]
["Rinconada -3","VIPIS-SZ1-RIN-3",45920,2152,"Parcela 3 monitoreada por el INVEMAR en el marco del ¨Monitoreo de las condiciones ambientales y los cambios estructurales y funcionales de las comunidades vegetales y de los recursos pesqueros durante la rehabilitación de la Ciénaga Grande de Santa Marta¨"]
["Rio Ancachi","Nuquí-ZR1-RIAN-1",45086,1999,"Parcela rectangular de 20 m x 50 m, dispuesta en la margen derecha del Río Ancachí, cuya composición florística está dada por las especies Rhizophora mangle, Avicennia germinans y Mora oleifera."]
["Rio Caimán Viejo","CORI-ZUS1-Cviej-1",48440,2370,"Relicto de manglar de porte alto con pequeña extensión al costado sur de la desembocadura del río Caimán viejo. Se reporta R, mangle, L. racemosa y algunos A. germinans,de bajo porte y malformados, bosque poco denso. Presión antrópica por aumento de la frontera agrícola."]
["Rio Chorí","Jurub-ZUS1-Pabarc-1",45248,2022,"Parcela rectangular de 0.1 ha, ubicada a 1.25 km aproximadamente de la comunidad de Jurubirá, en la margen derecha del Estero La Vuelta, cuya flora está compuesta por Rhizophora mangle y Rhizophora racemosa."]
["Rio Necocli","CORI-ZR1-Rnec-2",48574,2410,"La parcela se ubicó al costado norte de la boca, encontrando un manglar con predominio de L. racemosa y R. mangle.  No se evidenció afectación por basuras o influencia antrópica.  Bosque limpio."]
["Rio Saija 3-1","CANT-SZ1-SAIJA3-1",49591,2641]
["Rio Sevilla -1","CGSM-SZ1-Sevillla-1",45267,2028,"Es la más cercana a la desembocadura del Rio Sevilla a unos 600 m  El manglar presenta un nivel de desarrollo bajo, en suelos pantanosos.  La regeneración natural es media. Es una parcela compuesta, constituida por 5 parcelas y cada una tiene un área de 100 m²."]
["Rio Sevilla -2","CGSM-SZ1-Sevillla-2",45269,2029,"Se localiza a 800 m de la desembocadura del Rio Sevilla,  El mangle presenta un nivel de desarrollo Medio bajo, en suelos pantanosos. La regeneración natural es baja.  Es una parcela compuesta, constituida por 5 parcelas y cada una tiene un área de 100 m²"]
["Rio Sevilla -3","CGSM-SZ1-Sevillla-3",45271,2030,"Se localiza a 900 m de la desembocadura del Rio Sevilla,  El mangle presenta un nivel de desarrollo Medio bajo. Es una parcela compuesta, constituida por 5 parcelas y cada una tiene un área de 100 m²"]
["Rio Toribio - MI","Toribio_1",57505,2811]
["Rio Toribio - MII","Toribio_2",57506,2812]
["Rio Toribio - MIII ","Toribio_3",57507,2813]
["Rio Toribio - MIV","Toribio_4",57508,2814]
["Rio Toribio - MV","Toribio_5",57509,2815]
["Rio Toribio - MVI","Toribio_6",57510,2816]
["Rio Toribio-1","TOR-SZ1-Toribio-1",48867,2454]
["Rio Toribio-2","TOR-SZ1-Toribio-2",48869,2455]
["Rio Toribio-3","TOR-SZ1-Toribio-3",48871,2456]
["Rio Toribio-4","TOR-SZ1-Toribio-4",48873,2457]
["Rio Toribio-5","TOR-SZ1-Toribio-5",48875,2458]
["Rio Virudo","VIRU-SZ1-RVIR-1",42129,1111]
["Río Damaquiel-1","CNTE-ZR1-Rdmq-1",48464,2376,"Bosque muy Ralo.Presencia de R. mangle, y A. germinans.  Presión antrópica relacionada por la ampliación de áreas ganaderas.  Presencia de cercas de alambre en el manglar."]
["S La Virgen-1","JPVI-ZR1-SurVirgen-1",44630,1802,"Parcela que inicia con una franja de regeneración natural de R. mangle muy abundante, casi impenetrable, seguida de 10 metros de franja de agua para luego comenzar sustrato duro en su mayoría de A. germinans , baja regeneración natural"]
["Salahonda -1","FRAPIZ-ZUS1-Salho-1",44531,1765,"Compuesta por una vegetación de manglar mixto, con dominancia de la especie piñuelo en cuanto abundancia. hace presencia las especies de mangle piñuelo, Nato y rojo. ademas el helecho ranconcha."]
["Salahonda P-1","FRAPIZ-ZP1-Salho-1",44546,1766,"Manglar adulto bien desarrollado con dominancia de la especie Mangle rojo. presencia de talas de los arboles mas desarrollados en diámetro y altura."]
["Salahonda R-2-1","FRAPIZ-ZR2-Salho-1",44557,1770,"Bosque denso de mangle Piñuelo intervenido para uso domestico. Alta regeneración Natural. Suelo de consistencia blanda y encharcada."]
["Salitral el Garzal","CCAIM-ZR1-SGAR-1",44419,1731]
["Salt Creek parcela circular-2","SaltCreekPPC-2",55554,null,"Estación Manglar Salt Creek (formada por 3 parcelas circulares): Es un manglar de cuenca o interior, ubicado en el costado oriental en la parte media de la Isla, que presenta una cobertura de 4,45 ha (INVEMAR-CORALINA, 2016) y se desarrolla separado del mar por la carretera. Está constituido por el complejo Dorna Pond, el humedal de Ground Road y humedales internos. Presenta una composición florística mixta, dominada por Laguncularia racemosa y presencia de Rhizophora mangle; los árboles tienen una altura promedio de 11,7 m. Este manglar se encuentra impactado por los residuos sólidos de las familias aledañas del sector y existe evidencia de actividades de tala y rellenos en su interior."]
["Salt Creek parcela circular-3","SaltCreekPPC-3",55555,null,"Estación Manglar Salt Creek (formada por 3 parcelas circulares): Es un manglar de cuenca o interior, ubicado en el costado oriental en la parte media de la Isla, que presenta una cobertura de 4,45 ha (INVEMAR-CORALINA, 2016) y se desarrolla separado del mar por la carretera. Está constituido por el complejo Dorna Pond, el humedal de Ground Road y humedales internos. Presenta una composición florística mixta, dominada por Laguncularia racemosa y presencia de Rhizophora mangle; los árboles tienen una altura promedio de 11,7 m. Este manglar se encuentra impactado por los residuos sólidos de las familias aledañas del sector y existe evidencia de actividades de tala y rellenos en su interior."]
["Salt Creek-1","SCRE-ZP1-SCRE-1",41492,922]
["Santa Ana","RAPO-ZUS4-RSA-2",45848,2133,"En conclusión para la estación Raposo se debe actualizar la zonificación por cuanto en los últimos años el manglar ha sido sometido a una fuerte presión antrópica lo cual ha cambiado de forma negativa la estructura del bosque."]
["Santa Ana-1","BARU-ZR1-Sta-Ana-1",44500,1761,"Parcela con inundación en toda el área, nivel promedio: 25 cm, está atravesada por un pequeño canal.  Se evidencia tala y acumulación de madera para recolección."]
["Santa Catalina parcela circular-1","SantaCatalinaPPC-1",55567,null,"Estación Manglar Santa Catalina (formada por 2 parcelas circulares): El manglar se encuentra localizado en el borde sur oriental de la Isla, bordeando el malecón. Está distribuido en una serie de parches aislados, separados entre sí por construcciones, muelles, el puente de los Enamorados que une a la isla de Providencia con Santa Catalina y una cancha de fútbol. El manglar tiene una extensión total de 3,79 ha (INVEMAR-CORALINA, 2016). El sustrato presentó diferentes niveles de inundación, hubo parches cuyo sustrato estaba seco, otros con sustrato lodoso y otras zonas que se encontraron inundadas. El manglar de una de las parcelas de monitoreo se encuentra conformado principalmente por R. mangle, entremezclado con algunos ejemplares de L. racemosa y A. germinans. El manglar de la otra parcela de monitoreo, que colinda con la cancha deportiva, se encuentra conformado exclusivamente por A. germinans, donde el sustrato es bastante estable. Es un bosque de cuenca de desarrollo diamétrico intermedio y cuyos árboles tienen una altura promedio de 5,5 m."]
["Santa Catalina parcela circular-2","SantaCatalinaPPC-2",55568,null,"Estación Manglar Santa Catalina (formada por 2 parcelas circulares): El manglar se encuentra localizado en el borde sur oriental de la Isla, bordeando el malecón. Está distribuido en una serie de parches aislados, separados entre sí por construcciones, muelles, el puente de los Enamorados que une a la isla de Providencia con Santa Catalina y una cancha de fútbol. El manglar tiene una extensión total de 3,79 ha (INVEMAR-CORALINA, 2016). El sustrato presentó diferentes niveles de inundación, hubo parches cuyo sustrato estaba seco, otros con sustrato lodoso y otras zonas que se encontraron inundadas. El manglar de una de las parcelas de monitoreo se encuentra conformado principalmente por R. mangle, entremezclado con algunos ejemplares de L. racemosa y A. germinans. El manglar de la otra parcela de monitoreo, que colinda con la cancha deportiva, se encuentra conformado exclusivamente por A. germinans, donde el sustrato es bastante estable. Es un bosque de cuenca de desarrollo diamétrico intermedio y cuyos árboles tienen una altura promedio de 5,5 m."]
["Sevillano -1","CGSM-SZ1-SEVI-1",50089,2660]
["Sevillano -2","CGSM-SZ1-SEVI-2",50091,2661,"Transecto B"]
["Sevillano -3","CGSM-SZ1-SEVI-3",50093,2662,"Transecto C"]
["Smith Channel -1-1","SCHA-ZP1-SCH-1",41487,921]
["Smith Channel -1-2","SCHA-ZP1-SCH-2",47758,2299,"Se localiza al extremo sureste, entre la vía Tom Hooker y Punta Sur. Tiene una distribución en forma de media luna y ocupa un área de 19,30 ha.  Se identificó por ser considerado como un manglar de cuenca y una altura promedio de 10,8 m; aproximadamente el 30% de la estación se hayo cubierta por Achrostichum aureum  o helecho mata tigre. Por otro lado, se destacó por tener presencia de hojarasca, señales de tala y poca basura._x000D_"]
["Smith Channel -1-3","SCHA-ZP1-SCH-3",47901,2334]
["Smith Channel parcela circular-1","SmithChannelPPC-1",55546,null,"Estación Manglar Smith Channel (formada por 3 parcelas circulares): Manglar catalogado como de tierra adentro (Medina, 2016), porque se encuentra aislado del mar, sin una conexión directa y por lo tanto no presenta inundación por mareas en ninguna época del año, pero sí por agua dulce proveniente de las precipitaciones. Está ubicado en el extremo suroriental de la Isla, con presencia de Rhizophora mangle y Laguncularia racemosa. Ocupa un área de manglar de 19,30 ha de extensión (INVEMAR-CORALINA, 2016), tiene abundante presencia de helecho de manglar Acrostichum aureum y es uno de los manglares menos intervenido en la Isla, no obstante, hay evidencia de actividades de tala y presencia de residuos sólidos."]
["Sound Bay parcela circular-1","SoundBayPPC-1",55558,null,"Estación Manglar Sound Bay (formada por 3 parcelas circulares): Manglar de cuenca o interior de 15,29 ha de cobertura (INVEMAR-CORALINA, 2016), separado del mar por la carretera, por formaciones vegetales distintas al manglar y por la presencia de lotes con viviendas. Tiene una composición florística mixta de Rhizophora mangle, Laguncularia racemosa y Avicennia germinans. El rodal tiene una altura promedio de 10,8 m. En el pasado se encontraba fuertemente impactado por el vertimiento directo de aguas residuales, no obstante, en la actualidad, CORALINA ha regulado dicho impacto. Presenta una elevada influencia de basuras producto de los desechos depositados por parte de la comunidad vecina. Hay evidencia de árboles talados y presencia de helecho de manglar Acrostichum aureum."]
["Sound Bay parcela circular-2","SoundBayPPC-2",55559,null,"Estación Manglar Sound Bay (formada por 3 parcelas circulares): Manglar de cuenca o interior de 15,29 ha de cobertura (INVEMAR-CORALINA, 2016), separado del mar por la carretera, por formaciones vegetales distintas al manglar y por la presencia de lotes con viviendas. Tiene una composición florística mixta de Rhizophora mangle, Laguncularia racemosa y Avicennia germinans. El rodal tiene una altura promedio de 10,8 m. En el pasado se encontraba fuertemente impactado por el vertimiento directo de aguas residuales, no obstante, en la actualidad, CORALINA ha regulado dicho impacto. Presenta una elevada influencia de basuras producto de los desechos depositados por parte de la comunidad vecina. Hay evidencia de árboles talados y presencia de helecho de manglar Acrostichum aureum."]
["Sound Bay parcela circular-3","SoundBayPPC-3",55560,null,"Estación Manglar Sound Bay (formada por 3 parcelas circulares): Manglar de cuenca o interior de 15,29 ha de cobertura (INVEMAR-CORALINA, 2016), separado del mar por la carretera, por formaciones vegetales distintas al manglar y por la presencia de lotes con viviendas. Tiene una composición florística mixta de Rhizophora mangle, Laguncularia racemosa y Avicennia germinans. El rodal tiene una altura promedio de 10,8 m. En el pasado se encontraba fuertemente impactado por el vertimiento directo de aguas residuales, no obstante, en la actualidad, CORALINA ha regulado dicho impacto. Presenta una elevada influencia de basuras producto de los desechos depositados por parte de la comunidad vecina. Hay evidencia de árboles talados y presencia de helecho de manglar Acrostichum aureum."]
["South West Bay -2","SWBA-ZP3-SWB-2",49327,1,"parcela fija. Estación Manglar Suroeste (formada por 2 parcelas circulares): Ubicado en el suroeste de la isla, conformado por Rhizophora mangle, como especie dominante y por Laguncularia racemosa. Presenta una barra arenosa en frente, poco elevada y posee una laguna interior de alrededor de 300 m de largo y 30 m de ancho, que permanece total o parcialmente inundada durante el año, debido a las fuertes lluvias y la escorrentía, pero disminuye su espejo de agua en época seca por evaporación e infiltración del agua. Tiene una extensión de manglar de 5,25 ha (INVEMAR-CORALINA, 2016). Existe evidencia de actividades de tala en su interior, así como la construcción de restaurantes muy cerca del mismo y presencia de cables de electricidad sobre los árboles de mangle."]
["Suroeste parcela circular-1","SuroestePPC-1",55565,null,"Estación Manglar Suroeste (formada por 2 parcelas circulares): Ubicado en el suroeste de la isla, conformado por Rhizophora mangle, como especie dominante y por Laguncularia racemosa. Presenta una barra arenosa en frente, poco elevada y posee una laguna interior de alrededor de 300 m de largo y 30 m de ancho, que permanece total o parcialmente inundada durante el año, debido a las fuertes lluvias y la escorrentía, pero disminuye su espejo de agua en época seca por evaporación e infiltración del agua. Tiene una extensión de manglar de 5,25 ha (INVEMAR-CORALINA, 2016). Existe evidencia de actividades de tala en su interior, así como la construcción de restaurantes muy cerca del mismo y presencia de cables de electricidad sobre los árboles de mangle."]
["Suroeste parcela circular-2","SuroestePPC-2",55566,null,"Estación Manglar Suroeste (formada por 2 parcelas circulares): Ubicado en el suroeste de la isla, conformado por Rhizophora mangle, como especie dominante y por Laguncularia racemosa. Presenta una barra arenosa en frente, poco elevada y posee una laguna interior de alrededor de 300 m de largo y 30 m de ancho, que permanece total o parcialmente inundada durante el año, debido a las fuertes lluvias y la escorrentía, pero disminuye su espejo de agua en época seca por evaporación e infiltración del agua. Tiene una extensión de manglar de 5,25 ha (INVEMAR-CORALINA, 2016). Existe evidencia de actividades de tala en su interior, así como la construcción de restaurantes muy cerca del mismo y presencia de cables de electricidad sobre los árboles de mangle."]
["Tangarrá","JURA-ZR1-Tangarrá-1",45422,2069,"Ubicada a unos 2.1 km aproximadamente de Juradó, perpendicularmente a la margen derecha del Estero Tangarrá, compuesta florísticamente por un bosque monoespecífico de Rhizophora racemosa."]
["Tijó","BCISEST-ZR1-Tijó-1",42103,1102]
["Timba","CAJA-ZUS2-CT-1",45830,2129,"En términos generales el sector de Cajambre es el que presenta mayor nivel de intervención antrópica   producto de la tala del mangle con fines comerciales.  Existe un alto contraste en la zonificación de 2007 que lo cataloga como un manglar poco intervenido en contraposición al alto grado de degradación que se registró en el monitoreo actual."]
["Totumo Oriental","CNGTOT-ZP1-Totum-1",45257,2025,"Es un relicto denso en forma de islote  que se encuentra varios centímetros por encima del suelo, y está constituido por la especie  L. racemosa. Algunos crecen retorcidos disponiendo sus ramas hacia el cuerpo de agua de la ciénaga. No se observa regeneración natural"]
["Totumo Oriental","CNGTOT-ZP1-Totum-2",45259,2026,"Forma una franja de 15 m tierra dentro, la línea de agua está a 1 m dentro de  la parcela, algunos individuos de L. racemosa  son maduros, de crecimiento arbustivo, con ramas que crecen hacia el cuerpo de agua."]
["Trujillo","ENSENADA-ZP1-TRUJI-1",45400,2063,"MANGLAR ADULTO BIEN DESARROLLADO E INTERVENIDO CON DOMINANCIA DEL MANGLE ROJO. PRESENCIA DE REGENERACIÓN EN LOS CLAROS DEJADOS POR LAS CORTAS DE INDIVIDUOS."]
["Tumaco","TCO-ZR2-Tuma-1",44506,1763,"ESTA ÁREA  PRESENTA UNA VEGETACIÓN DE MANGLAR MIXTO, HACE PRESENCIA LAS ESPECIES DE MANGLE ROJO, PIÑUELO Y NATO, ADEMAS EL HELECHO RANCONCHA. ES UNA ÁREA INTERVENIDA,"]
["Tumaco -1","TCO-ZUS1-SANAND-1",45395,2062,"BOSQUE DE MANGLE ROJO INTERVENIDO, ALTA DENSIDAD DE INDIVIDUOS CON ALTO PORCENTAJE DE FUSTES RETORCIDOS, ARQUEADOS E INCLINADOS."]
["Ultima Boca","BCISLIT-ZR1-UltBoca-1",48762,2439]
["Valle de los Cangrejos -1","VCAN-ZR1-CANG-1",41390,889,"La parcela se encuentra en una franja de manglar tipo borde, continua y de considerable anchura, perpendicular a la línea de costa y a su vez paralela al brazo Calcancala del Río Rancheria. _x000D_"]
["Valle de los Cangrejos -2","VCAN-ZR1-CANG-2",41392,890,"La parcela se encuentra en una franja de manglar tipo borde, continua y de considerable anchura, perpendicular a la línea de costa y a su vez paralela al brazo Calcancala del Río Rancheria. _x000D_"]
["Valle de los Cangrejos -3","VCAN-ZR1-CANG-3",41394,891,"La parcela se encuentra en una franja de manglar tipo borde, continua y de considerable anchura, perpendicular a la línea de costa y a su vez paralela al brazo Calcancala del Río Rancheria. _x000D_"]
["Velero-1","PVEL-ZP2-VelP-1",45157,2019,"La parcela se ubica detrás de una cabaña de pescadores, a 18 m de esta y a 34 m de la línea de vegetación, se encuentra una cerca. En la zona predomina la C. erectus muy ramificado, en los primeros metros del transecto se encuentra B marítima y suelos firmes y arenosos. Se encontraron residuos sólidos."]
["Velodia Road parcela circular-1","VelodiaRoadPPC-1",55557,null,"Estación Manglar Velodia Road (formada por 1 parcela circular): Es un manglar de tierra adentro, ubicado en el costado sur de la Isla, que presenta una cobertura de 1,0 ha (INVEMAR-CORALINA, 2016)."]
["Vía al Mar","JPVI-ZUS1-VíaMar-1",44627,1801,"Estación bordeada por un canal, con sustrato fangoso, Bosque en buen estado con abundante regeneración natural."]
["Waipare","MAYO-ZR3-MWA-1",45839,2131,"En términos generales este bosque no se ha podido recuperar desde la última zonificación y por el contrario la tendencia es a disminuir su área basal  y por reacción y como estrategia de resiliencia el bosque genera más regeneración natural que se observa en el aumento de más del 300% en  el número de árboles."]
["Yaru-1","CORI-ZUS1-Yaru-1",48442,2371,"Bosque Ralo Presencia de R. mangle, L. racemosa y A. germinans.  Vegetación inferior del helecho A. aureum y majagua.  Escasos árboles pero de porte alto.  Presión antrópica relacionada por la ampliación de áreas ganaderas.  Presencia de cercas de alambre en el manglar."]
["Yerbasal -1","DRATR-ZR1-Yerb-1",48523,2386,"Bosque Ralo al interior.  La sp más abundante es el R. mangle seguido de L.racemosa Presencia de helecho A. aureum.  Presión antrópica relacionada por Corta de Varas y presencia de agallas en todas las estructuras del manglar, especialmente en el R. mangle."]

{"sheet":"OTRAS REFERENCIAS","index":5,"n_rows":1299,"n_cols":39,"rows_kept":1299,"cut":false,"hidden":false,"merged":[[4,23,4,24],[4,19,4,20],[4,13,4,14],[4,16,4,17],[0,0,2,10],[4,0,4,1],[4,3,4,4],[4,7,4,8],[4,10,4,11]]}
["Estas son listas para variables con valores que no se encuentran codificados, pero que deben manejarse de manera estandarizada. \nSi se requiere agregar un valor nuevo hagalo debajo de la lista correspondiente"]
[]
[]
[]
["UNIDADES DE MEDIDA",null,null,"PROYECTO",null,null,null,"METODOS TEMP",null,null,"METODOS SAL",null,null,"METODOS_PH",null,null,"METODOS_CONDUCTIVIDAD",null,null,"METODOS_ORP",null,null,null,"ROLES",null,null,null,null,{"$f":"IF(AND(REFERENTES!C2<>\"\",          REFERENTES!C2<>96321,    REFERENTES!C2<>96222            ),(REFERENTES!E2),\"\")","v":0},{"$f":"REFERENTES!C2","v":48733},null,"ORDEN","COPIAS COD","REORDENAR","LISTADO",null,null,"ESTACIONES","ID"]
["CODIGO","DESCRIPCION",null,"COD","PROYECTO","PROYECTO DESC",null,"COD","VALOR",null,"COD","VALOR",null,"COD","VALOR",null,"COD","VALOR",null,"COD","VALOR",null,null,4,"Captura en campo",null,null,null,{"$f":"IF(AND(REFERENTES!C3<>\"\",          REFERENTES!C3<>96321,    REFERENTES!C3<>96222            ),(REFERENTES!E3),\"\")","v":"Parcela 1 monitoreada por el INVEMAR en el marco del ¨Monitoreo de las condiciones ambientales y los cambios estructurales y funcionales de las comunidades vegetales y de los recursos pesqueros durante la rehabilitación de la Ciénaga Grande de Santa Marta¨"},{"$f":"REFERENTES!C3","v":45924},null,1,{"$f":"IF(AC5=\"\",0,AC5)","v":0},{"$f":"IF(AG6=0,MAX($AF$6:$AF$1294)+1,AF6)","v":1290},{"$f":"IFERROR(VLOOKUP(SMALL($AH$6:$AH$1294,AF6),$AF$6:$AH$1294,2,FALSE),\"X\")","v":"Parcela 1 monitoreada por el INVEMAR en el marco del ¨Monitoreo de las condiciones ambientales y los cambios estructurales y funcionales de las comunidades vegetales y de los recursos pesqueros durante la rehabilitación de la Ciénaga Grande de Santa Marta¨"}," ",null,"****PARCELAS******","NO VALIDO"]
[10,"cm",null,1513,"Monitoreo_CGSM","Monitoreo CGSM",null,617,"Conductimetro",null,617,"Conductimetro",null,617,"Conductimetro",null,617,"Conductimetro",null,826,"Kit Hanna para medición de pH/ORP/Temp",null,null,6,"Revisar datos",null,null,null,{"$f":"IF(AND(REFERENTES!C4<>\"\",          REFERENTES!C4<>96321,    REFERENTES!C4<>96222            ),(REFERENTES!E4),\"\")","v":"Parcela 2 monitoreada por el INVEMAR en el marco del ¨Monitoreo de las condiciones ambientales y los cambios estructurales y funcionales de las comunidades vegetales y de los recursos pesqueros durante la rehabilitación de la Ciénaga Grande de Santa Marta¨"},{"$f":"REFERENTES!C4","v":45926},null,2,{"$f":"IF(AC6=\"\",0,AC6)","v":"Parcela 1 monitoreada por el INVEMAR en el marco del ¨Monitoreo de las condiciones ambientales y los cambios estructurales y funcionales de las comunidades vegetales y de los recursos pesqueros durante la rehabilitación de la Ciénaga Grande de Santa Marta¨"},{"$f":"IF(AG7=0,MAX($AF$6:$AF$1294)+1,AF7)","v":2},{"$f":"IFERROR(VLOOKUP(SMALL($AH$6:$AH$1294,AF7),$AF$6:$AH$1294,2,FALSE),\"X\")","v":"Parcela 2 monitoreada por el INVEMAR en el marco del ¨Monitoreo de las condiciones ambientales y los cambios estructurales y funcionales de las comunidades vegetales y de los recursos pesqueros durante la rehabilitación de la Ciénaga Grande de Santa Marta¨"}," ",null,{"$f":"CONCATENATE(REFERENTES!A2,\"(\",REFERENTES!B2,\")\")","v":"Agrosoledad(CSISPIE-ZR1-Agrosole-1)"},{"$f":"REFERENTES!C2","v":48733}]
[11,"m",null,2187,"INVEMAR - EPA Cartagena","INVEMAR - EPA Cartagena",null,826,"Kit Hanna para medición de pH/ORP/Temp",null,863,"Salinidad calculada kit Hanna HI98194",null,826,"Kit Hanna para medición de pH/ORP/Temp",null,862,"Conductividad Kit Hanna HI98194/Sonda: HI7698194",null,864,"ORP (REDOX) - Kit Hanna HI98194",null,null,3497,"Coordinador actividad de campo",null,null,null,{"$f":"IF(AND(REFERENTES!C5<>\"\",          REFERENTES!C5<>96321,    REFERENTES!C5<>96222            ),(REFERENTES!E5),\"\")","v":"Parcela 3 monitoreada por el INVEMAR en el marco del ¨Monitoreo de las condiciones ambientales y los cambios estructurales y funcionales de las comunidades vegetales y de los recursos pesqueros durante la rehabilitación de la Ciénaga Grande de Santa Marta¨"},{"$f":"REFERENTES!C5","v":45928},null,3,"Parcela 2 monitoreada por el INVEMAR en el marco del ¨Monitoreo de las condiciones ambientales y los cambios estructurales y funcionales de las comunidades vegetales y de los recursos pesqueros durante la rehabilitación de la Ciénaga Grande de Santa Marta¨",3,"Parcela 3 monitoreada por el INVEMAR en el marco del ¨Monitoreo de las condiciones ambientales y los cambios estructurales y funcionales de las comunidades vegetales y de los recursos pesqueros durante la rehabilitación de la Ciénaga Grande de Santa Marta¨"," ",null,{"$f":"CONCATENATE(REFERENTES!A3,\"(\",REFERENTES!B3,\")\")","v":"Aguas Negras -1(SFFOCC-SZ1-ANE-1)"},{"$f":"REFERENTES!C3","v":45924}]
[null,null,null,2486,"CVS_URRA_MANGLARES","CVS.URRA",null,865,"Temperatura Kit Hanna Hi98194",null,null,null,null,861,"pH Kit Hanna HI98194/Sonda: HI7698194",null,null,null,null,null,null,null,null,null,null,null,null,null,{"$f":"IF(AND(REFERENTES!C6<>\"\",          REFERENTES!C6<>96321,    REFERENTES!C6<>96222            ),(REFERENTES!E6),\"\")","v":"esta parcela se encuentra ubicada en el sector de caño grande en la zona de uso sostenible, en el subsector de aprovechamiento, con predominancia de la especie Rhizophora mangle, esta parcela tiene gran cantidad de arboles muertos, y otros con condiciones de raquitismo, baja densidad de arboles en la parcela."},{"$f":"REFERENTES!C6","v":45589},null,4,"Parcela 3 monitoreada por el INVEMAR en el marco del ¨Monitoreo de las condiciones ambientales y los cambios estructurales y funcionales de las comunidades vegetales y de los recursos pesqueros durante la rehabilitación de la Ciénaga Grande de Santa Marta¨",4,"esta parcela se encuentra ubicada en el sector de caño grande en la zona de uso sostenible, en el subsector de aprovechamiento, con predominancia de la especie Rhizophora mangle, esta parcela tiene gran cantidad de arboles muertos, y otros con condiciones de raquitismo, baja densidad de arboles en la parcela."," ",null,{"$f":"CONCATENATE(REFERENTES!A4,\"(\",REFERENTES!B4,\")\")","v":"Aguas Negras -2(SFFOCC-SZ1-ANE-2)"},{"$f":"REFERENTES!C4","v":45926}]
[null,null,null,3287,"Restauracion Petrobras","Restauración De Ecosistemas De Manglar En La Guajira. Casos De Estudio Piloto: Musichi y Santuario de Fauna y Flora Los Flamencos",null,null,null,null,null,null,null,null,null,null,null,null,null,null,null,null,null,null,null,null,null,null,{"$f":"IF(AND(REFERENTES!C7<>\"\",          REFERENTES!C7<>96321,    REFERENTES!C7<>96222            ),(REFERENTES!E7),\"\")","v":"Parcela que coincide con punto de muestreo de PNN, se encontraron dos mojones instalados por ellos.  Bosque en sus primeros 25 m con abundante presencia de R. mangle con numerosas raíces fúlcreas, inundación de 5 cm en promedio, Bosque en buen estado no se evidencia tala"},{"$f":"REFERENTES!C7","v":44509},null,5,"esta parcela se encuentra ubicada en el sector de caño grande en la zona de uso sostenible, en el subsector de aprovechamiento, con predominancia de la especie Rhizophora mangle, esta parcela tiene gran cantidad de arboles muertos, y otros con condiciones de raquitismo, baja densidad de arboles en la parcela.",5,"Parcela que coincide con punto de muestreo de PNN, se encontraron dos mojones instalados por ellos.  Bosque en sus primeros 25 m con abundante presencia de R. mangle con numerosas raíces fúlcreas, inundación de 5 cm en promedio, Bosque en buen estado no se evidencia tala"," ",null,{"$f":"CONCATENATE(REFERENTES!A5,\"(\",REFERENTES!B5,\")\")","v":"Aguas Negras -3(SFFOCC-SZ1-ANE-3)"},{"$f":"REFERENTES!C5","v":45928}]
[null,null,null,3360,"Restauracion Rio Toribio","LINEAMIENTOS PARA LA RESTAURACIÓN DEL ECOSISTEMA DE MANGLAR EN LA DESEMBOCADURA DEL RIO TORIBIO",null,null,null,null,null,null,null,null,null,null,null,null,null,null,null,null,null,null,null,null,null,null,{"$f":"IF(AND(REFERENTES!C8<>\"\",          REFERENTES!C8<>96321,    REFERENTES!C8<>96222            ),(REFERENTES!E8),\"\")","v":"Parcela dominada por P. rhizophorae, inundación promedio de 15 cm. presencia abundante de propágulos de R. mangle.  Bosque en buen estado no se evidencia tala."},{"$f":"REFERENTES!C8","v":44493},null,6,"Parcela que coincide con punto de muestreo de PNN, se encontraron dos mojones instalados por ellos.  Bosque en sus primeros 25 m con abundante presencia de R. mangle con numerosas raíces fúlcreas, inundación de 5 cm en promedio, Bosque en buen estado no se evidencia tala",6,"Parcela dominada por P. rhizophorae, inundación promedio de 15 cm. presencia abundante de propágulos de R. mangle.  Bosque en buen estado no se evidencia tala."," ",null,{"$f":"CONCATENATE(REFERENTES!A6,\"(\",REFERENTES!B6,\")\")","v":"Angostura(BCISEST-ZUS1-angostura-1)"},{"$f":"REFERENTES!C6","v":45589}]
[null,null,null,3460,"Piloto restauración CORPAMAG","Implementación de un piloto de restauración activa de manglar en el sector noroccidental de la Ciénaga Grande de Santa Marta.",null,null,null,null,null,null,null,null,null,null,null,null,null,null,null,null,null,null,null,null,null,null,{"$f":"IF(AND(REFERENTES!C9<>\"\",          REFERENTES!C9<>96321,    REFERENTES!C9<>96222            ),(REFERENTES!E9),\"\")","v":0},{"$f":"REFERENTES!C9","v":58105},null,7,"Parcela dominada por P. rhizophorae, inundación promedio de 15 cm. presencia abundante de propágulos de R. mangle.  Bosque en buen estado no se evidencia tala.",7,"Estación con sustrato duro, los primeros 20 m dominados por L. racemosa, abundante regeneración natural de R. mangle hasta los 45 m.  Nivel de inundación promedio de 10 cm."," ",null,{"$f":"CONCATENATE(REFERENTES!A7,\"(\",REFERENTES!B7,\")\")","v":"Ararca-1(BARU-ZR1-Ararca-1)"},{"$f":"REFERENTES!C7","v":44509}]
[null,null,null,3498,"VIVO_TORIBIO_2019","VIVO_TORIBIO_2019",null,null,null,null,null,null,null,null,null,null,null,null,null,null,null,null,null,null,null,null,null,null,{"$f":"IF(AND(REFERENTES!C10<>\"\",          REFERENTES!C10<>96321,    REFERENTES!C10<>96222            ),(REFERENTES!E10),\"\")","v":0},{"$f":"REFERENTES!C10","v":56791},null,8,0,1290,"Parcela aleatoria #2 2016"," ",null,{"$f":"CONCATENATE(REFERENTES!A8,\"(\",REFERENTES!B8,\")\")","v":"Arroyo Plata-1(BARB-ZR1-Ay-Plata-1)"},{"$f":"REFERENTES!C8","v":44493}]
[null,null,null,3499,"RESTAURACION_CORPAMAG_2020","RESTAURACION_CORPAMAG_2020",null,null,null,null,null,null,null,null,null,null,null,null,null,null,null,null,null,null,null,null,null,null,{"$f":"IF(AND(REFERENTES!C11<>\"\",          REFERENTES!C11<>96321,    REFERENTES!C11<>96222            ),(REFERENTES!E11),\"\")","v":0},{"$f":"REFERENTES!C11","v":42007},null,9,0,1290,"Bosque ralo con mayor presencia de R. mangle, no se observa vegetación baja diferente del manglar.  Presión antrópica relacionada por Corta de Varas.  Presencia de agallas en todas las estructuras del manglar, especialmente en el R. mangle."," ",null,{"$f":"CONCATENATE(REFERENTES!A9,\"(\",REFERENTES!B9,\")\")","v":"BLACK SAND BAY(BSAND_BAY1)"},{"$f":"REFERENTES!C9","v":58105}]
[null,null,null,3528,"FORTALECIMIENTO_MANGLARES","BPIN 2017011000113 - RES 0176 del 26 de febrero 2021",null,null,null,null,null,null,null,null,null,null,null,null,null,null,null,null,null,null,null,null,null,null,{"$f":"IF(AND(REFERENTES!C12<>\"\",          REFERENTES!C12<>96321,    REFERENTES!C12<>96222            ),(REFERENTES!E12),\"\")","v":0},{"$f":"REFERENTES!C12","v":42000},null,10,0,1290,"Bosque Ralo. Con un manglar entrelazado con mayor presencia de R. mangle seguido de L. racemosa..  Presión antrópica relacionada por Corta de Varas y presencia de agallas en todas las estructuras del manglar, especialmente en el R. mangle."," ",null,{"$f":"CONCATENATE(REFERENTES!A10,\"(\",REFERENTES!B10,\")\")","v":"BOCAS DEL ATRATO P1(BCATRATO_P1)"},{"$f":"REFERENTES!C10","v":56791}]
[null,null,null,3620,"RestauracionManglares","Restauracion Manglares",null,null,null,null,null,null,null,null,null,null,null,null,null,null,null,null,null,null,null,null,null,null,{"$f":"IF(AND(REFERENTES!C13<>\"\",          REFERENTES!C13<>96321,    REFERENTES!C13<>96222            ),(REFERENTES!E13),\"\")","v":"Estación con sustrato duro, los primeros 20 m dominados por L. racemosa, abundante regeneración natural de R. mangle hasta los 45 m.  Nivel de inundación promedio de 10 cm."},{"$f":"REFERENTES!C13","v":44490},null,11,0,1290,"Bosque de porte alto.Presencia de R. mangle, L. racemosa y A. germinans.  Se observó corta de mangle."," ",null,{"$f":"CONCATENATE(REFERENTES!A11,\"(\",REFERENTES!B11,\")\")","v":"BOQUILLA-1(JPVI-ZR1-BOQ-1)"},{"$f":"REFERENTES!C11","v":42007}]
[null,null,null,3637,"PILOTOS-RES_CORPAMAG_2019","Piloto restauración CGSM CORPAMAG",null,null,null,null,null,null,null,null,null,null,null,null,null,null,null,null,null,null,null,null,null,null,{"$f":"IF(AND(REFERENTES!C14<>\"\",          REFERENTES!C14<>96321,    REFERENTES!C14<>96222            ),(REFERENTES!E14),\"\")","v":"Parcela aleatoria #2 2016"},{"$f":"REFERENTES!C14","v":49005},null,12,"Estación con sustrato duro, los primeros 20 m dominados por L. racemosa, abundante regeneración natural de R. mangle hasta los 45 m.  Nivel de inundación promedio de 10 cm.",12,"Estación Manglar Bahía Honda (formada por 3 parcelas circulares): Manglar que hace parte del Parque Regional Old Point Regional Mangrove Park, localizado al nororiente de la isla de San Andrés, con una extensión de manglar de 60,62 ha (INVEMAR-CORALINA, 2016). Es un manglar de borde, con árboles con una altura promedio de 7,2 m, influenciado por las mareas y el continuo lavado de sus suelos. Conformado por Rhizophora mangle (especie dominante), Avicennia germinans, Laguncularia racemosa y Conocarpus erectus. Evidencia de residuos sólidos (botellas, latas, plásticos) traídos por el mar durante las mareas altas y árboles talados en el interior del manglar. Actualmente, bajo la figura de Parque Regional se ha logrado su recuperación y es un enclave ambiental que sirve de hábitat a numerosas especies faunísticas residentes y migratorias."," ",null,{"$f":"CONCATENATE(REFERENTES!A12,\"(\",REFERENTES!B12,\")\")","v":"Bahia Barbacoas-1(BARB-ZR1-Barba-1)"},{"$f":"REFERENTES!C12","v":42000}]
[null,null,null,2239,"SIGMA","Sistema de Información para la Gestión de los Manglares",null,null,null,null,null,null,null,null,null,null,null,null,null,null,null,null,null,null,null,null,null,null,{"$f":"IF(AND(REFERENTES!C15<>\"\",          REFERENTES!C15<>96321,    REFERENTES!C15<>96222            ),(REFERENTES!E15),\"\")","v":"Bosque ralo con mayor presencia de R. mangle, no se observa vegetación baja diferente del manglar.  Presión antrópica relacionada por Corta de Varas.  Presencia de agallas en todas las estructuras del manglar, especialmente en el R. mangle."},{"$f":"REFERENTES!C15","v":48492},null,13,"Parcela aleatoria #2 2016",13,"Estación Manglar Bahía Honda (formada por 3 parcelas circulares): Manglar que hace parte del Parque Regional Old Point Regional Mangrove Park, localizado al nororiente de la isla de San Andrés, con una extensión de manglar de 60,62 ha (INVEMAR-CORALINA, 2016). Es un manglar de borde, con árboles con una altura promedio de 7,2 m, influenciado por las mareas y el continuo lavado de sus suelos. Conformado por Rhizophora mangle (especie dominante), Avicennia germinans, Laguncularia racemosa y Conocarpus erectus. Evidencia de residuos sólidos (botellas, latas, plásticos) traídos por el mar durante las mareas altas y árboles talados en el interior del manglar. Actualmente, bajo la figura de Parque Regional se ha logrado su recuperación y es un enclave ambiental que sirve de hábitat a numerosas especies faunísticas residentes y migratorias."," ",null,{"$f":"CONCATENATE(REFERENTES!A13,\"(\",REFERENTES!B13,\")\")","v":"Bahia Barbacoas-1-1(BARB-ZR1-BARB01-1)"},{"$f":"REFERENTES!C13","v":44490}]
[null,null,null,3622,"CONVENIO CORALINA - INVEMAR (PRY-BEM-017-2023)","Monitoreo del estado de los ecosistemas de manglar y pastos marinos y calidad del agua en jurisdicción de la Corporación para el Desarrollo Sostenible del Archipiélago de San Andrés, Providencia y Santa Catalina (Coralina).",null,null,null,null,null,null,null,null,null,null,null,null,null,null,null,null,null,null,null,null,null,null,{"$f":"IF(AND(REFERENTES!C16<>\"\",          REFERENTES!C16<>96321,    REFERENTES!C16<>96222            ),(REFERENTES!E16),\"\")","v":"Bosque Ralo. Con un manglar entrelazado con mayor presencia de R. mangle seguido de L. racemosa..  Presión antrópica relacionada por Corta de Varas y presencia de agallas en todas las estructuras del manglar, especialmente en el R. mangle."},{"$f":"REFERENTES!C16","v":48520},null,14,"Bosque ralo con mayor presencia de R. mangle, no se observa vegetación baja diferente del manglar.  Presión antrópica relacionada por Corta de Varas.  Presencia de agallas en todas las estructuras del manglar, especialmente en el R. mangle.",14,"Estación Manglar Bahía Hooker (formada por 3 parcelas circulares): Manglar que hace parte del Parque Regional Old Point Regional Mangrove Park, localizado al nororiente de la isla de San Andrés, con una extensión de manglar de 60,62 ha (INVEMAR-CORALINA, 2016). Es un manglar de borde con árboles de 5,4 m de altura promedio, conformado por Rhizophora mangle, Avicennia germinans, Laguncularia racemosa y Conocarpus erectus. Evidencia de afectación por lodos aceitosos presentes en el sustrato y presencia de residuos sólidos (botellas, latas, plásticos). Actualmente, bajo la figura de Parque Regional se ha logrado su recuperación y es un enclave ambiental que sirve de hábitat a numerosas especies faunísticas residentes y migratorias."," ",null,{"$f":"CONCATENATE(REFERENTES!A14,\"(\",REFERENTES!B14,\")\")","v":"Bahia Honda -1(OPOI-ZP1-BahíaHonda-1)"},{"$f":"REFERENTES!C14","v":49005}]
[null,null,null,3614,"DAMCRA 924-2023","Fortalecer condiciones para implementar programas o proyectos sostenibles a largo plazo de restauración y carbono azul en Colombia.",null,null,null,null,null,null,null,null,null,null,null,null,null,null,null,null,null,null,null,null,null,null,{"$f":"IF(AND(REFERENTES!C17<>\"\",          REFERENTES!C17<>96321,    REFERENTES!C17<>96222            ),(REFERENTES!E17),\"\")","v":"Bosque de porte alto.Presencia de R. mangle, L. racemosa y A. germinans.  Se observó corta de mangle."},{"$f":"REFERENTES!C17","v":48526},null,15,"Bosque Ralo. Con un manglar entrelazado con mayor presencia de R. mangle seguido de L. racemosa..  Presión antrópica relacionada por Corta de Varas y presencia de agallas en todas las estructuras del manglar, especialmente en el R. mangle.",15,"Estación Manglar Bahía Hooker (formada por 3 parcelas circulares): Manglar que hace parte del Parque Regional Old Point Regional Mangrove Park, localizado al nororiente de la isla de San Andrés, con una extensión de manglar de 60,62 ha (INVEMAR-CORALINA, 2016). Es un manglar de borde con árboles de 5,4 m de altura promedio, conformado por Rhizophora mangle, Avicennia germinans, Laguncularia racemosa y Conocarpus erectus. Evidencia de afectación por lodos aceitosos presentes en el sustrato y presencia de residuos sólidos (botellas, latas, plásticos). Actualmente, bajo la figura de Parque Regional se ha logrado su recuperación y es un enclave ambiental que sirve de hábitat a numerosas especies faunísticas residentes y migratorias."," ",null,{"$f":"CONCATENATE(REFERENTES!A15,\"(\",REFERENTES!B15,\")\")","v":"Bahía Burrera-1(DRATR-ZUS1-Bburr-1)"},{"$f":"REFERENTES!C15","v":48492}]
[null,null,null,null,null,null,null,null,null,null,null,null,null,null,null,null,null,null,null,null,null,null,null,null,null,null,null,null,{"$f":"IF(AND(REFERENTES!C18<>\"\",          REFERENTES!C18<>96321,    REFERENTES!C18<>96222            ),(REFERENTES!E18),\"\")","v":"Estación Manglar Bahía Honda (formada por 3 parcelas circulares): Manglar que hace parte del Parque Regional Old Point Regional Mangrove Park, localizado al nororiente de la isla de San Andrés, con una extensión de manglar de 60,62 ha (INVEMAR-CORALINA, 2016). Es un manglar de borde, con árboles con una altura promedio de 7,2 m, influenciado por las mareas y el continuo lavado de sus suelos. Conformado por Rhizophora mangle (especie dominante), Avicennia germinans, Laguncularia racemosa y Conocarpus erectus. Evidencia de residuos sólidos (botellas, latas, plásticos) traídos por el mar durante las mareas altas y árboles talados en el interior del manglar. Actualmente, bajo la figura de Parque Regional se ha logrado su recuperación y es un enclave ambiental que sirve de hábitat a numerosas especies faunísticas residentes y migratorias."},{"$f":"REFERENTES!C18","v":55547},null,16,"Bosque de porte alto.Presencia de R. mangle, L. racemosa y A. germinans.  Se observó corta de mangle.",16,"Estación Manglar Bahía Hooker (formada por 3 parcelas circulares): Manglar que hace parte del Parque Regional Old Point Regional Mangrove Park, localizado al nororiente de la isla de San Andrés, con una extensión de manglar de 60,62 ha (INVEMAR-CORALINA, 2016). Es un manglar de borde con árboles de 5,4 m de altura promedio, conformado por Rhizophora mangle, Avicennia germinans, Laguncularia racemosa y Conocarpus erectus. Evidencia de afectación por lodos aceitosos presentes en el sustrato y presencia de residuos sólidos (botellas, latas, plásticos). Actualmente, bajo la figura de Parque Regional se ha logrado su recuperación y es un enclave ambiental que sirve de hábitat a numerosas especies faunísticas residentes y migratorias."," ",null,{"$f":"CONCATENATE(REFERENTES!A16,\"(\",REFERENTES!B16,\")\")","v":"Bahía Coco Grande-1(DRATR-ZR1-Bcog-1)"},{"$f":"REFERENTES!C16","v":48520}]
[null,null,null,null,null,null,null,null,null,null,null,null,null,null,null,null,null,null,null,null,null,null,null,null,null,null,null,null,{"$f":"IF(AND(REFERENTES!C19<>\"\",          REFERENTES!C19<>96321,    REFERENTES!C19<>96222            ),(REFERENTES!E19),\"\")","v":"Estación Manglar Bahía Honda (formada por 3 parcelas circulares): Manglar que hace parte del Parque Regional Old Point Regional Mangrove Park, localizado al nororiente de la isla de San Andrés, con una extensión de manglar de 60,62 ha (INVEMAR-CORALINA, 2016). Es un manglar de borde, con árboles con una altura promedio de 7,2 m, influenciado por las mareas y el continuo lavado de sus suelos. Conformado por Rhizophora mangle (especie dominante), Avicennia germinans, Laguncularia racemosa y Conocarpus erectus. Evidencia de residuos sólidos (botellas, latas, plásticos) traídos por el mar durante las mareas altas y árboles talados en el interior del manglar. Actualmente, bajo la figura de Parque Regional se ha logrado su recuperación y es un enclave ambiental que sirve de hábitat a numerosas especies faunísticas residentes y migratorias."},{"$f":"REFERENTES!C19","v":55548},null,17,"Estación Manglar Bahía Honda (formada por 3 parcelas circulares): Manglar que hace parte del Parque Regional Old Point Regional Mangrove Park, localizado al nororiente de la isla de San Andrés, con una extensión de manglar de 60,62 ha (INVEMAR-CORALINA, 2016). Es un manglar de borde, con árboles con una altura promedio de 7,2 m, influenciado por las mareas y el continuo lavado de sus suelos. Conformado por Rhizophora mangle (especie dominante), Avicennia germinans, Laguncularia racemosa y Conocarpus erectus. Evidencia de residuos sólidos (botellas, latas, plásticos) traídos por el mar durante las mareas altas y árboles talados en el interior del manglar. Actualmente, bajo la figura de Parque Regional se ha logrado su recuperación y es un enclave ambiental que sirve de hábitat a numerosas especies faunísticas residentes y migratorias.",17,"Estación Manglar Bahía Hooker (formada por 3 parcelas circulares): Manglar que hace parte del Parque Regional Old Point Regional Mangrove Park, localizado al nororiente de la isla de San Andrés, con una extensión de manglar de 60,62 ha (INVEMAR-CORALINA, 2016). Es un manglar de borde con árboles de 5,4 m de altura promedio, conformado por Rhizophora mangle, Avicennia germinans, Laguncularia racemosa y Conocarpus erectus. Evidencia de afectación por lodos aceitosos presentes en el sustrato y presencia de residuos sólidos (botellas, latas, plásticos). Actualmente, bajo la figura de Parque Regional se ha logrado su recuperación y es un enclave ambiental que sirve de hábitat a numerosas especies faunísticas residentes y migratorias."," ",null,{"$f":"CONCATENATE(REFERENTES!A17,\"(\",REFERENTES!B17,\")\")","v":"Bahía El Roto(DRATR-ZR1-Brot-1)"},{"$f":"REFERENTES!C17","v":48526}]
[null,null,null,null,null,null,null,null,null,null,null,null,null,null,null,null,null,null,null,null,null,null,null,null,null,null,null,null,{"$f":"IF(AND(REFERENTES!C20<>\"\",          REFERENTES!C20<>96321,    REFERENTES!C20<>96222            ),(REFERENTES!E20),\"\")","v":"Estación Manglar Bahía Hooker (formada por 3 parcelas circulares): Manglar que hace parte del Parque Regional Old Point Regional Mangrove Park, localizado al nororiente de la isla de San Andrés, con una extensión de manglar de 60,62 ha (INVEMAR-CORALINA, 2016). Es un manglar de borde con árboles de 5,4 m de altura promedio, conformado por Rhizophora mangle, Avicennia germinans, Laguncularia racemosa y Conocarpus erectus. Evidencia de afectación por lodos aceitosos presentes en el sustrato y presencia de residuos sólidos (botellas, latas, plásticos). Actualmente, bajo la figura de Parque Regional se ha logrado su recuperación y es un enclave ambiental que sirve de hábitat a numerosas especies faunísticas residentes y migratorias."},{"$f":"REFERENTES!C20","v":55549},null,18,"Estación Manglar Bahía Honda (formada por 3 parcelas circulares): Manglar que hace parte del Parque Regional Old Point Regional Mangrove Park, localizado al nororiente de la isla de San Andrés, con una extensión de manglar de 60,62 ha (INVEMAR-CORALINA, 2016). Es un manglar de borde, con árboles con una altura promedio de 7,2 m, influenciado por las mareas y el continuo lavado de sus suelos. Conformado por Rhizophora mangle (especie dominante), Avicennia germinans, Laguncularia racemosa y Conocarpus erectus. Evidencia de residuos sólidos (botellas, latas, plásticos) traídos por el mar durante las mareas altas y árboles talados en el interior del manglar. Actualmente, bajo la figura de Parque Regional se ha logrado su recuperación y es un enclave ambiental que sirve de hábitat a numerosas especies faunísticas residentes y migratorias.",18,"Costado sur de la bahía, en el cual se observa una franja externa con árboles de porte alto precedida, por una pequeña franja de arracacho y abundante sedimentación que dificulta el acceso. Al interior _x000D_\r\r\n se encontró un bosque medianamente denso con presencia de R. mangle, L. racemosa y Nectandra sp ( sp asociada al ecosistema panganal)."," ",null,{"$f":"CONCATENATE(REFERENTES!A18,\"(\",REFERENTES!B18,\")\")","v":"Bahía Honda parcela circular-2(BahíaHondaPPC-2)"},{"$f":"REFERENTES!C18","v":55547}]
[null,null,null,null,null,null,null,null,null,null,null,null,null,null,null,null,null,null,null,null,null,null,null,null,null,null,null,null,{"$f":"IF(AND(REFERENTES!C21<>\"\",          REFERENTES!C21<>96321,    REFERENTES!C21<>96222            ),(REFERENTES!E21),\"\")","v":"Estación Manglar Bahía Hooker (formada por 3 parcelas circulares): Manglar que hace parte del Parque Regional Old Point Regional Mangrove Park, localizado al nororiente de la isla de San Andrés, con una extensión de manglar de 60,62 ha (INVEMAR-CORALINA, 2016). Es un manglar de borde con árboles de 5,4 m de altura promedio, conformado por Rhizophora mangle, Avicennia germinans, Laguncularia racemosa y Conocarpus erectus. Evidencia de afectación por lodos aceitosos presentes en el sustrato y presencia de residuos sólidos (botellas, latas, plásticos). Actualmente, bajo la figura de Parque Regional se ha logrado su recuperación y es un enclave ambiental que sirve de hábitat a numerosas especies faunísticas residentes y migratorias."},{"$f":"REFERENTES!C21","v":55550},null,19,"Estación Manglar Bahía Hooker (formada por 3 parcelas circulares): Manglar que hace parte del Parque Regional Old Point Regional Mangrove Park, localizado al nororiente de la isla de San Andrés, con una extensión de manglar de 60,62 ha (INVEMAR-CORALINA, 2016). Es un manglar de borde con árboles de 5,4 m de altura promedio, conformado por Rhizophora mangle, Avicennia germinans, Laguncularia racemosa y Conocarpus erectus. Evidencia de afectación por lodos aceitosos presentes en el sustrato y presencia de residuos sólidos (botellas, latas, plásticos). Actualmente, bajo la figura de Parque Regional se ha logrado su recuperación y es un enclave ambiental que sirve de hábitat a numerosas especies faunísticas residentes y migratorias.",19,"Bosque ralo al interior.  Se evidenciaron árboles cortados inclusive de los incluidos en la parcela, quitaron números de árboles marcados, por lo tanto se debió remarcar. Presencia de R. mangle y, L. racemosa.  Presión antrópica relacionada por Corta de Varas."," ",null,{"$f":"CONCATENATE(REFERENTES!A19,\"(\",REFERENTES!B19,\")\")","v":"Bahía Honda parcela circular-3(BahíaHondaPPC-3)"},{"$f":"REFERENTES!C19","v":55548}]
[null,null,null,null,null,null,null,null,null,null,null,null,null,null,null,null,null,null,null,null,null,null,null,null,null,null,null,null,{"$f":"IF(AND(REFERENTES!C22<>\"\",          REFERENTES!C22<>96321,    REFERENTES!C22<>96222            ),(REFERENTES!E22),\"\")","v":"Estación Manglar Bahía Hooker (formada por 3 parcelas circulares): Manglar que hace parte del Parque Regional Old Point Regional Mangrove Park, localizado al nororiente de la isla de San Andrés, con una extensión de manglar de 60,62 ha (INVEMAR-CORALINA, 2016). Es un manglar de borde con árboles de 5,4 m de altura promedio, conformado por Rhizophora mangle, Avicennia germinans, Laguncularia racemosa y Conocarpus erectus. Evidencia de afectación por lodos aceitosos presentes en el sustrato y presencia de residuos sólidos (botellas, latas, plásticos). Actualmente, bajo la figura de Parque Regional se ha logrado su recuperación y es un enclave ambiental que sirve de hábitat a numerosas especies faunísticas residentes y migratorias."},{"$f":"REFERENTES!C22","v":55551},null,20,"Estación Manglar Bahía Hooker (formada por 3 parcelas circulares): Manglar que hace parte del Parque Regional Old Point Regional Mangrove Park, localizado al nororiente de la isla de San Andrés, con una extensión de manglar de 60,62 ha (INVEMAR-CORALINA, 2016). Es un manglar de borde con árboles de 5,4 m de altura promedio, conformado por Rhizophora mangle, Avicennia germinans, Laguncularia racemosa y Conocarpus erectus. Evidencia de afectación por lodos aceitosos presentes en el sustrato y presencia de residuos sólidos (botellas, latas, plásticos). Actualmente, bajo la figura de Parque Regional se ha logrado su recuperación y es un enclave ambiental que sirve de hábitat a numerosas especies faunísticas residentes y migratorias.",20,"Bosque denso hacia afuera pero ralo al interior.Presencia de R. mangle, L. racemosa y P. rhizophorae.Presencia de orquídeas y helecho A. aureum.  Presión antrópica relacionada por Corta de Varas."," ",null,{"$f":"CONCATENATE(REFERENTES!A20,\"(\",REFERENTES!B20,\")\")","v":"Bahía Hooker parcela circular-2(BahíaHookerPPC-2)"},{"$f":"REFERENTES!C20","v":55549}]
[null,null,null,null,null,null,null,null,null,null,null,null,null,null,null,null,null,null,null,null,null,null,null,null,null,null,null,null,{"$f":"IF(AND(REFERENTES!C23<>\"\",          REFERENTES!C23<>96321,    REFERENTES!C23<>96222            ),(REFERENTES!E23),\"\")","v":"Estación Manglar Bahía Hooker (formada por 3 parcelas circulares): Manglar que hace parte del Parque Regional Old Point Regional Mangrove Park, localizado al nororiente de la isla de San Andrés, con una extensión de manglar de 60,62 ha (INVEMAR-CORALINA, 2016). Es un manglar de borde con árboles de 5,4 m de altura promedio, conformado por Rhizophora mangle, Avicennia germinans, Laguncularia racemosa y Conocarpus erectus. Evidencia de afectación por lodos aceitosos presentes en el sustrato y presencia de residuos sólidos (botellas, latas, plásticos). Actualmente, bajo la figura de Parque Regional se ha logrado su recuperación y es un enclave ambiental que sirve de hábitat a numerosas especies faunísticas residentes y migratorias."},{"$f":"REFERENTES!C23","v":49002},null,21,"Estación Manglar Bahía Hooker (formada por 3 parcelas circulares): Manglar que hace parte del Parque Regional Old Point Regional Mangrove Park, localizado al nororiente de la isla de San Andrés, con una extensión de manglar de 60,62 ha (INVEMAR-CORALINA, 2016). Es un manglar de borde con árboles de 5,4 m de altura promedio, conformado por Rhizophora mangle, Avicennia germinans, Laguncularia racemosa y Conocarpus erectus. Evidencia de afectación por lodos aceitosos presentes en el sustrato y presencia de residuos sólidos (botellas, latas, plásticos). Actualmente, bajo la figura de Parque Regional se ha logrado su recuperación y es un enclave ambiental que sirve de hábitat a numerosas especies faunísticas residentes y migratorias.",21,"La parcela se localiza tierra adentro de la ciénaga a 170 m  de la línea de agua y a 215 m de la carretera. El bosque de mangle es denso en el área de la parcela,  en los últimos metros se observa B. marítima  y se encuentra un arroyo, otro arroyo a  5 metros antes del inicio de la parcela."," ",null,{"$f":"CONCATENATE(REFERENTES!A21,\"(\",REFERENTES!B21,\")\")","v":"Bahía Hooker parcela circular-3(BahíaHookerPPC-3)"},{"$f":"REFERENTES!C21","v":55550}]
[null,null,null,null,null,null,null,null,null,null,null,null,null,null,null,null,null,null,null,null,null,null,null,null,null,null,null,null,{"$f":"IF(AND(REFERENTES!C24<>\"\",          REFERENTES!C24<>96321,    REFERENTES!C24<>96222            ),(REFERENTES!E24),\"\")","v":"Costado sur de la bahía, en el cual se observa una franja externa con árboles de porte alto precedida, por una pequeña franja de arracacho y abundante sedimentación que dificulta el acceso. Al interior _x000D_\r\r\n se encontró un bosque medianamente denso con presencia de R. mangle, L. racemosa y Nectandra sp ( sp asociada al ecosistema panganal)."},{"$f":"REFERENTES!C24","v":48497},null,22,"Estación Manglar Bahía Hooker (formada por 3 parcelas circulares): Manglar que hace parte del Parque Regional Old Point Regional Mangrove Park, localizado al nororiente de la isla de San Andrés, con una extensión de manglar de 60,62 ha (INVEMAR-CORALINA, 2016). Es un manglar de borde con árboles de 5,4 m de altura promedio, conformado por Rhizophora mangle, Avicennia germinans, Laguncularia racemosa y Conocarpus erectus. Evidencia de afectación por lodos aceitosos presentes en el sustrato y presencia de residuos sólidos (botellas, latas, plásticos). Actualmente, bajo la figura de Parque Regional se ha logrado su recuperación y es un enclave ambiental que sirve de hábitat a numerosas especies faunísticas residentes y migratorias.",22,"Estación con presencia de R. mangle, A. germinans y L. racemosa, abundante regeneración, neumatóforos con tamaños superiores a 15 cm.  Nivel de inundación promedio de 10 cm, bosque con árboles secos. Ubicada en la costa de la ciénaga de los cansados."," ",null,{"$f":"CONCATENATE(REFERENTES!A22,\"(\",REFERENTES!B22,\")\")","v":"Bahía Hooker parcela circular-4(BahíaHookerPPC-4)"},{"$f":"REFERENTES!C22","v":55551}]
[null,null,null,null,null,null,null,null,null,null,null,null,null,null,null,null,null,null,null,null,null,null,null,null,null,null,null,null,{"$f":"IF(AND(REFERENTES!C25<>\"\",          REFERENTES!C25<>96321,    REFERENTES!C25<>96222            ),(REFERENTES!E25),\"\")","v":"Bosque ralo al interior.  Se evidenciaron árboles cortados inclusive de los incluidos en la parcela, quitaron números de árboles marcados, por lo tanto se debió remarcar. Presencia de R. mangle y, L. racemosa.  Presión antrópica relacionada por Corta de Varas."},{"$f":"REFERENTES!C25","v":48489},null,23,"Costado sur de la bahía, en el cual se observa una franja externa con árboles de porte alto precedida, por una pequeña franja de arracacho y abundante sedimentación que dificulta el acceso. Al interior _x000D_\r\r\n se encontró un bosque medianamente denso con presencia de R. mangle, L. racemosa y Nectandra sp ( sp asociada al ecosistema panganal).",23,"Bosque medianamente denso, presencia de R. mangle, L. racemosa y Nectandra sp ( sp asociada al ecosistema panganal).  Presión antrópica relacionada por Corta de Varas así mismo se observan agallas en todas las estructuras del manglar. Arboles mal formados."," ",null,{"$f":"CONCATENATE(REFERENTES!A23,\"(\",REFERENTES!B23,\")\")","v":"Bahía Hooker-1(OPOI-ZP1-BahíaHooker-1)"},{"$f":"REFERENTES!C23","v":49002}]
[null,null,null,null,null,null,null,null,null,null,null,null,null,null,null,null,null,null,null,null,null,null,null,null,null,null,null,null,{"$f":"IF(AND(REFERENTES!C26<>\"\",          REFERENTES!C26<>96321,    REFERENTES!C26<>96222            ),(REFERENTES!E26),\"\")","v":"Bosque denso hacia afuera pero ralo al interior.Presencia de R. mangle, L. racemosa y P. rhizophorae.Presencia de orquídeas y helecho A. aureum.  Presión antrópica relacionada por Corta de Varas."},{"$f":"REFERENTES!C26","v":48539},null,24,"Bosque ralo al interior.  Se evidenciaron árboles cortados inclusive de los incluidos en la parcela, quitaron números de árboles marcados, por lo tanto se debió remarcar. Presencia de R. mangle y, L. racemosa.  Presión antrópica relacionada por Corta de Varas.",24,"Esta parcela ubica da cerca de la población de boca cerrada, presenta abundancia de Rhizophora mangle"," ",null,{"$f":"CONCATENATE(REFERENTES!A24,\"(\",REFERENTES!B24,\")\")","v":"Bahía La Paila-1(DRATR-ZUS1-Bpai-1)"},{"$f":"REFERENTES!C24","v":48497}]
[null,null,null,null,null,null,null,null,null,null,null,null,null,null,null,null,null,null,null,null,null,null,null,null,null,null,null,null,{"$f":"IF(AND(REFERENTES!C27<>\"\",          REFERENTES!C27<>96321,    REFERENTES!C27<>96222            ),(REFERENTES!E27),\"\")","v":"La parcela se localiza tierra adentro de la ciénaga a 170 m  de la línea de agua y a 215 m de la carretera. El bosque de mangle es denso en el área de la parcela,  en los últimos metros se observa B. marítima  y se encuentra un arroyo, otro arroyo a  5 metros antes del inicio de la parcela."},{"$f":"REFERENTES!C27","v":45097},null,25,"Bosque denso hacia afuera pero ralo al interior.Presencia de R. mangle, L. racemosa y P. rhizophorae.Presencia de orquídeas y helecho A. aureum.  Presión antrópica relacionada por Corta de Varas.",25,"BOSQUE NATAL MIXTO CON ESPECIES DE NATO, PALMA NAIDI, SUELA, SAPOTOLONGO. EL SUELO PRESENTA CONSISTENCIA DURA . PRESENCIA DE REGENERACIÓN NATURAL DE PIÑUELO EN ALGUNOS CLAROS. NATO POCO INTERVENIDO."," ",null,{"$f":"CONCATENATE(REFERENTES!A25,\"(\",REFERENTES!B25,\")\")","v":"Bahía Marirrio(DRATR-ZP1-Bmari-2)"},{"$f":"REFERENTES!C25","v":48489}]
[null,null,null,null,null,null,null,null,null,null,null,null,null,null,null,null,null,null,null,null,null,null,null,null,null,null,null,null,{"$f":"IF(AND(REFERENTES!C28<>\"\",          REFERENTES!C28<>96321,    REFERENTES!C28<>96222            ),(REFERENTES!E28),\"\")","v":"Estación con presencia de R. mangle, A. germinans y L. racemosa, abundante regeneración, neumatóforos con tamaños superiores a 15 cm.  Nivel de inundación promedio de 10 cm, bosque con árboles secos. Ubicada en la costa de la ciénaga de los cansados."},{"$f":"REFERENTES!C28","v":44580},null,26,"La parcela se localiza tierra adentro de la ciénaga a 170 m  de la línea de agua y a 215 m de la carretera. El bosque de mangle es denso en el área de la parcela,  en los últimos metros se observa B. marítima  y se encuentra un arroyo, otro arroyo a  5 metros antes del inicio de la parcela.",26,"Parcela 0.1 ha, ubicada de manera perpendicular al borde del Estero Saturio, a 1,45 km aproximadamente de la comunidad de Coquí. Su bosque está compuesto por: Rhizophora mangle, Pelliciera rhizophorae y Mora oleifera."," ",null,{"$f":"CONCATENATE(REFERENTES!A26,\"(\",REFERENTES!B26,\")\")","v":"Bahía Marirrio(DRATR-ZP1-Bmari-3)"},{"$f":"REFERENTES!C26","v":48539}]
[null,null,null,null,null,null,null,null,null,null,null,null,null,null,null,null,null,null,null,null,null,null,null,null,null,null,null,null,{"$f":"IF(AND(REFERENTES!C29<>\"\",          REFERENTES!C29<>96321,    REFERENTES!C29<>96222            ),(REFERENTES!E29),\"\")","v":"Bosque medianamente denso, presencia de R. mangle, L. racemosa y Nectandra sp ( sp asociada al ecosistema panganal).  Presión antrópica relacionada por Corta de Varas así mismo se observan agallas en todas las estructuras del manglar. Arboles mal formados."},{"$f":"REFERENTES!C29","v":48517},null,27,"Estación con presencia de R. mangle, A. germinans y L. racemosa, abundante regeneración, neumatóforos con tamaños superiores a 15 cm.  Nivel de inundación promedio de 10 cm, bosque con árboles secos. Ubicada en la costa de la ciénaga de los cansados.",27,"Dificil acceso por cercas de alambres puas, Suelo anegadocon vegetacion brinzal"," ",null,{"$f":"CONCATENATE(REFERENTES!A27,\"(\",REFERENTES!B27,\")\")","v":"Balboa-1(CNGBAL-ZP3-Balboa-1)"},{"$f":"REFERENTES!C27","v":45097}]
[null,null,null,null,null,null,null,null,null,null,null,null,null,null,null,null,null,null,null,null,null,null,null,null,null,null,null,null,{"$f":"IF(AND(REFERENTES!C30<>\"\",          REFERENTES!C30<>96321,    REFERENTES!C30<>96222            ),(REFERENTES!E30),\"\")","v":0},{"$f":"REFERENTES!C30","v":42202},null,28,"Bosque medianamente denso, presencia de R. mangle, L. racemosa y Nectandra sp ( sp asociada al ecosistema panganal).  Presión antrópica relacionada por Corta de Varas así mismo se observan agallas en todas las estructuras del manglar. Arboles mal formados.",28,"Es importante destacar que estos bosques reciben una fuerte descarga de residuos sólidos provenientes de la ciudad de Bueventura que tiene una población de aproximadamente 400.000 habitantes.   En este sector predomina el Rhizophora mangle y en algunas parcelas la regeneración natural es nula."," ",null,{"$f":"CONCATENATE(REFERENTES!A28,\"(\",REFERENTES!B28,\")\")","v":"Baru1(BARU-ZR1-Barú-1)"},{"$f":"REFERENTES!C28","v":44580}]
[null,null,null,null,null,null,null,null,null,null,null,null,null,null,null,null,null,null,null,null,null,null,null,null,null,null,null,null,{"$f":"IF(AND(REFERENTES!C31<>\"\",          REFERENTES!C31<>96321,    REFERENTES!C31<>96222            ),(REFERENTES!E31),\"\")","v":"Esta parcela ubica da cerca de la población de boca cerrada, presenta abundancia de Rhizophora mangle"},{"$f":"REFERENTES!C31","v":44387},null,29,0,1290,"En términos generales este bosque a pesar de presentar un distribución diamétrica en forma de J invertida, es característico de un bosque altamente intervenido en concordancia con la zonificación de 2007 y se aprecia claramente en el valor del área basal de 10 m2 Ha, diámetro promedio de 10 cms con alturas que no superan los 24 metros y una baja densidad de árboles en las clases diamétricas superiores."," ",null,{"$f":"CONCATENATE(REFERENTES!A29,\"(\",REFERENTES!B29,\")\")","v":"Bazo Matuntugo -1(DRATR-ZR1-Bmat-1)"},{"$f":"REFERENTES!C29","v":48517}]
[null,null,null,null,null,null,null,null,null,null,null,null,null,null,null,null,null,null,null,null,null,null,null,null,null,null,null,null,{"$f":"IF(AND(REFERENTES!C32<>\"\",          REFERENTES!C32<>96321,    REFERENTES!C32<>96222            ),(REFERENTES!E32),\"\")","v":"BOSQUE NATAL MIXTO CON ESPECIES DE NATO, PALMA NAIDI, SUELA, SAPOTOLONGO. EL SUELO PRESENTA CONSISTENCIA DURA . PRESENCIA DE REGENERACIÓN NATURAL DE PIÑUELO EN ALGUNOS CLAROS. NATO POCO INTERVENIDO."},{"$f":"REFERENTES!C32","v":45918},null,30,"Esta parcela ubica da cerca de la población de boca cerrada, presenta abundancia de Rhizophora mangle",30,"BOSQUE DE MANGLE ROJO BIEN DESARROLLADO CON ALTA DENSIDAD DE RAÍCES AÉREAS, SE OBSERVA PRESENCIA DE TALAS DE INDIVIDUOS DE MAYOR PORTE."," ",null,{"$f":"CONCATENATE(REFERENTES!A30,\"(\",REFERENTES!B30,\")\")","v":"Berrugas(BERR-ZR1-BERR-1)"},{"$f":"REFERENTES!C30","v":42202}]
[null,null,null,null,null,null,null,null,null,null,null,null,null,null,null,null,null,null,null,null,null,null,null,null,null,null,null,null,{"$f":"IF(AND(REFERENTES!C33<>\"\",          REFERENTES!C33<>96321,    REFERENTES!C33<>96222            ),(REFERENTES!E33),\"\")","v":"Parcela 0.1 ha, ubicada de manera perpendicular al borde del Estero Saturio, a 1,45 km aproximadamente de la comunidad de Coquí. Su bosque está compuesto por: Rhizophora mangle, Pelliciera rhizophorae y Mora oleifera."},{"$f":"REFERENTES!C33","v":45418},null,31,"BOSQUE NATAL MIXTO CON ESPECIES DE NATO, PALMA NAIDI, SUELA, SAPOTOLONGO. EL SUELO PRESENTA CONSISTENCIA DURA . PRESENCIA DE REGENERACIÓN NATURAL DE PIÑUELO EN ALGUNOS CLAROS. NATO POCO INTERVENIDO.",31,"BOSQUE DE MANGLE MIXTO. SU COMPOSICIÓN FLORISTICA DE MANGLE PIÑUELO, NATO E IGUANERO. ALTA REGENERACIÓN NATURAL. CONSISTENCIA DEL SUELO ALTAMENTE BLANDA"," ",null,{"$f":"CONCATENATE(REFERENTES!A31,\"(\",REFERENTES!B31,\")\")","v":"Boca Cerrada(BCER-ZUS1-BCER-1)"},{"$f":"REFERENTES!C31","v":44387}]
[null,null,null,null,null,null,null,null,null,null,null,null,null,null,null,null,null,null,null,null,null,null,null,null,null,null,null,null,{"$f":"IF(AND(REFERENTES!C34<>\"\",          REFERENTES!C34<>96321,    REFERENTES!C34<>96222            ),(REFERENTES!E34),\"\")","v":"Dificil acceso por cercas de alambres puas, Suelo anegadocon vegetacion brinzal"},{"$f":"REFERENTES!C34","v":41967},null,32,"Parcela 0.1 ha, ubicada de manera perpendicular al borde del Estero Saturio, a 1,45 km aproximadamente de la comunidad de Coquí. Su bosque está compuesto por: Rhizophora mangle, Pelliciera rhizophorae y Mora oleifera.",32,"Bosque medianamente intervenido con dominancia de mangle rojo.  Suelos más estables que en las otras parcelas donde predomina el mangle rojo."," ",null,{"$f":"CONCATENATE(REFERENTES!A32,\"(\",REFERENTES!B32,\")\")","v":"Boca ISCUANDE(ISCUANDE-ZR1-GUABA-1)"},{"$f":"REFERENTES!C32","v":45918}]
[null,null,null,null,null,null,null,null,null,null,null,null,null,null,null,null,null,null,null,null,null,null,null,null,null,null,null,null,{"$f":"IF(AND(REFERENTES!C35<>\"\",          REFERENTES!C35<>96321,    REFERENTES!C35<>96222            ),(REFERENTES!E35),\"\")","v":"Es importante destacar que estos bosques reciben una fuerte descarga de residuos sólidos provenientes de la ciudad de Bueventura que tiene una población de aproximadamente 400.000 habitantes.   En este sector predomina el Rhizophora mangle y en algunas parcelas la regeneración natural es nula."},{"$f":"REFERENTES!C35","v":45883},null,33,"Dificil acceso por cercas de alambres puas, Suelo anegadocon vegetacion brinzal",33,"Desde fuera se observa una franja rala del ecosistema con árboles de porte bajo.  Mayor presencia de R, mangle y menor de A. germinans y L. racemosa. Al inferior se reportan las mismas especies. El sotobosque dominado por  helecho matatigre (A, aureum),  Se observan tocones por la corta de varas.  Presencia de comején, bolsas plásticas, tarros y basuras en general."," ",null,{"$f":"CONCATENATE(REFERENTES!A33,\"(\",REFERENTES!B33,\")\")","v":"Boca Vieja(Coquí-ZUS1-Bovi-1)"},{"$f":"REFERENTES!C33","v":45418}]
[null,null,null,null,null,null,null,null,null,null,null,null,null,null,null,null,null,null,null,null,null,null,null,null,null,null,null,null,{"$f":"IF(AND(REFERENTES!C36<>\"\",          REFERENTES!C36<>96321,    REFERENTES!C36<>96222            ),(REFERENTES!E36),\"\")","v":"En términos generales este bosque a pesar de presentar un distribución diamétrica en forma de J invertida, es característico de un bosque altamente intervenido en concordancia con la zonificación de 2007 y se aprecia claramente en el valor del área basal de 10 m2 Ha, diámetro promedio de 10 cms con alturas que no superan los 24 metros y una baja densidad de árboles en las clases diamétricas superiores."},{"$f":"REFERENTES!C36","v":45862},null,34,"Es importante destacar que estos bosques reciben una fuerte descarga de residuos sólidos provenientes de la ciudad de Bueventura que tiene una población de aproximadamente 400.000 habitantes.   En este sector predomina el Rhizophora mangle y en algunas parcelas la regeneración natural es nula.",34,"La parcela está ubicada a una distancia de 700 m al oriente de la desembocadura del Río Buritaca, 50 m del borde de la cobertura vegetal. Es un relicto de mangle constituido por L. racemos, en los últimos metros de la Parcela se observa una ligera depresión en la que se acumula agua, y es alimentada por las crecidas del rio. También se observa mangle inclinados y volcados además de zonas taladas."," ",null,{"$f":"CONCATENATE(REFERENTES!A34,\"(\",REFERENTES!B34,\")\")","v":"Bocana(AST-ZP1-BOCA-1)"},{"$f":"REFERENTES!C34","v":41967}]
[null,null,null,null,null,null,null,null,null,null,null,null,null,null,null,null,null,null,null,null,null,null,null,null,null,null,null,null,{"$f":"IF(AND(REFERENTES!C37<>\"\",          REFERENTES!C37<>96321,    REFERENTES!C37<>96222            ),(REFERENTES!E37),\"\")","v":"BOSQUE DE MANGLE ROJO BIEN DESARROLLADO CON ALTA DENSIDAD DE RAÍCES AÉREAS, SE OBSERVA PRESENCIA DE TALAS DE INDIVIDUOS DE MAYOR PORTE."},{"$f":"REFERENTES!C37","v":45900},null,35,"En términos generales este bosque a pesar de presentar un distribución diamétrica en forma de J invertida, es característico de un bosque altamente intervenido en concordancia con la zonificación de 2007 y se aprecia claramente en el valor del área basal de 10 m2 Ha, diámetro promedio de 10 cms con alturas que no superan los 24 metros y una baja densidad de árboles en las clases diamétricas superiores.",35,"Se localiza en el costado oriental del río Buritaca a 1 km de la desembocadura, a  60 m del borde de la cobertura vegetal y a pocos metros del final del manglar. En las inmediaciones hay palmas de coco, matorrales y pastos. Dentro de la parcela entre 15 a 20 m el suelo esta encharcado con presencia de ranconcha y arboles inclinados."," ",null,{"$f":"CONCATENATE(REFERENTES!A35,\"(\",REFERENTES!B35,\")\")","v":"Bocana Asocars(BVENT-ZR3-BA-1)"},{"$f":"REFERENTES!C35","v":45883}]
[null,null,null,null,null,null,null,null,null,null,null,null,null,null,null,null,null,null,null,null,null,null,null,null,null,null,null,null,{"$f":"IF(AND(REFERENTES!C38<>\"\",          REFERENTES!C38<>96321,    REFERENTES!C38<>96222            ),(REFERENTES!E38),\"\")","v":"BOSQUE DE MANGLE MIXTO. SU COMPOSICIÓN FLORISTICA DE MANGLE PIÑUELO, NATO E IGUANERO. ALTA REGENERACIÓN NATURAL. CONSISTENCIA DEL SUELO ALTAMENTE BLANDA"},{"$f":"REFERENTES!C38","v":45896},null,36,"BOSQUE DE MANGLE ROJO BIEN DESARROLLADO CON ALTA DENSIDAD DE RAÍCES AÉREAS, SE OBSERVA PRESENCIA DE TALAS DE INDIVIDUOS DE MAYOR PORTE.",36,"Se ubica a 400 m de la desembocadura del río Buritaca,  y  a una distancia de 17 m  del borde de la cobertura vegetal que da a la playa turística que da a una madre vieja y esta a su vez está protegida del mar por una barra de arena. En esta área la franja de manglar es más ancha."," ",null,{"$f":"CONCATENATE(REFERENTES!A36,\"(\",REFERENTES!B36,\")\")","v":"Bocana CVC(BVENT-ZR3-BCVC-1)"},{"$f":"REFERENTES!C36","v":45862}]
[null,null,null,null,null,null,null,null,null,null,null,null,null,null,null,null,null,null,null,null,null,null,null,null,null,null,null,null,{"$f":"IF(AND(REFERENTES!C39<>\"\",          REFERENTES!C39<>96321,    REFERENTES!C39<>96222            ),(REFERENTES!E39),\"\")","v":"Bosque medianamente intervenido con dominancia de mangle rojo.  Suelos más estables que en las otras parcelas donde predomina el mangle rojo."},{"$f":"REFERENTES!C39","v":45891},null,37,"BOSQUE DE MANGLE MIXTO. SU COMPOSICIÓN FLORISTICA DE MANGLE PIÑUELO, NATO E IGUANERO. ALTA REGENERACIÓN NATURAL. CONSISTENCIA DEL SUELO ALTAMENTE BLANDA",37,"Se localiza a 800 m de la desembocadura del río Buritaca, en el extremo más al occidental del manglar, limita con zonas de potrero,  a una distancia de 18 m  del borde de la línea de cobertura vegetal. La parcela está constituida por mangla  L. racemosa y vegetación de playa. La franja de cobertura de mangla es reducida."," ",null,{"$f":"CONCATENATE(REFERENTES!A37,\"(\",REFERENTES!B37,\")\")","v":"Bocas TAPAGE -1(TAPAGE-ZR2-BOTAPAJE-1)"},{"$f":"REFERENTES!C37","v":45900}]
[null,null,null,null,null,null,null,null,null,null,null,null,null,null,null,null,null,null,null,null,null,null,null,null,null,null,null,null,{"$f":"IF(AND(REFERENTES!C40<>\"\",          REFERENTES!C40<>96321,    REFERENTES!C40<>96222            ),(REFERENTES!E40),\"\")","v":"Desde fuera se observa una franja rala del ecosistema con árboles de porte bajo.  Mayor presencia de R, mangle y menor de A. germinans y L. racemosa. Al inferior se reportan las mismas especies. El sotobosque dominado por  helecho matatigre (A, aureum),  Se observan tocones por la corta de varas.  Presencia de comején, bolsas plásticas, tarros y basuras en general."},{"$f":"REFERENTES!C40","v":48444},null,38,"Bosque medianamente intervenido con dominancia de mangle rojo.  Suelos más estables que en las otras parcelas donde predomina el mangle rojo.",38,"VEGETACIÓN DE MANGLE ROJO ADULTO  BIEN DESARROLLADO CON INTERVENCIONES ESPORADICAS"," ",null,{"$f":"CONCATENATE(REFERENTES!A38,\"(\",REFERENTES!B38,\")\")","v":"Bocas de SEQUIHONDA -1(TAPAGE-ZR1-SEQUIHONDA-1)"},{"$f":"REFERENTES!C38","v":45896}]
[null,null,null,null,null,null,null,null,null,null,null,null,null,null,null,null,null,null,null,null,null,null,null,null,null,null,null,null,{"$f":"IF(AND(REFERENTES!C41<>\"\",          REFERENTES!C41<>96321,    REFERENTES!C41<>96222            ),(REFERENTES!E41),\"\")","v":"La parcela está ubicada a una distancia de 700 m al oriente de la desembocadura del Río Buritaca, 50 m del borde de la cobertura vegetal. Es un relicto de mangle constituido por L. racemos, en los últimos metros de la Parcela se observa una ligera depresión en la que se acumula agua, y es alimentada por las crecidas del rio. También se observa mangle inclinados y volcados además de zonas taladas."},{"$f":"REFERENTES!C41","v":45320},null,39,"Desde fuera se observa una franja rala del ecosistema con árboles de porte bajo.  Mayor presencia de R, mangle y menor de A. germinans y L. racemosa. Al inferior se reportan las mismas especies. El sotobosque dominado por  helecho matatigre (A, aureum),  Se observan tocones por la corta de varas.  Presencia de comején, bolsas plásticas, tarros y basuras en general.",39,"La parcela se encuentra  paralela al caño la Camaronera, presenta intervención por parte del hombre"," ",null,{"$f":"CONCATENATE(REFERENTES!A39,\"(\",REFERENTES!B39,\")\")","v":"Bodegas(ANCHI-ZR1-AB-1)"},{"$f":"REFERENTES!C39","v":45891}]
[null,null,null,null,null,null,null,null,null,null,null,null,null,null,null,null,null,null,null,null,null,null,null,null,null,null,null,null,{"$f":"IF(AND(REFERENTES!C42<>\"\",          REFERENTES!C42<>96321,    REFERENTES!C42<>96222            ),(REFERENTES!E42),\"\")","v":"Se localiza en el costado oriental del río Buritaca a 1 km de la desembocadura, a  60 m del borde de la cobertura vegetal y a pocos metros del final del manglar. En las inmediaciones hay palmas de coco, matorrales y pastos. Dentro de la parcela entre 15 a 20 m el suelo esta encharcado con presencia de ranconcha y arboles inclinados."},{"$f":"REFERENTES!C42","v":45308},null,40,"La parcela está ubicada a una distancia de 700 m al oriente de la desembocadura del Río Buritaca, 50 m del borde de la cobertura vegetal. Es un relicto de mangle constituido por L. racemos, en los últimos metros de la Parcela se observa una ligera depresión en la que se acumula agua, y es alimentada por las crecidas del rio. También se observa mangle inclinados y volcados además de zonas taladas.",40,"ESTACION COREA"," ",null,{"$f":"CONCATENATE(REFERENTES!A40,\"(\",REFERENTES!B40,\")\")","v":"Buno-1(CORI-ZUS1-Buno-1)"},{"$f":"REFERENTES!C40","v":48444}]
[null,null,null,null,null,null,null,null,null,null,null,null,null,null,null,null,null,null,null,null,null,null,null,null,null,null,null,null,{"$f":"IF(AND(REFERENTES!C43<>\"\",          REFERENTES!C43<>96321,    REFERENTES!C43<>96222            ),(REFERENTES!E43),\"\")","v":"Se ubica a 400 m de la desembocadura del río Buritaca,  y  a una distancia de 17 m  del borde de la cobertura vegetal que da a la playa turística que da a una madre vieja y esta a su vez está protegida del mar por una barra de arena. En esta área la franja de manglar es más ancha."},{"$f":"REFERENTES!C43","v":45305},null,41,"Se localiza en el costado oriental del río Buritaca a 1 km de la desembocadura, a  60 m del borde de la cobertura vegetal y a pocos metros del final del manglar. En las inmediaciones hay palmas de coco, matorrales y pastos. Dentro de la parcela entre 15 a 20 m el suelo esta encharcado con presencia de ranconcha y arboles inclinados.",41,"Se ubica a 55 m al sur de la vía a la playa de Caño Dulce y a 16 m de la línea de vegetación, entre dos casas.  El crecimiento del mangle es ramificado, se observa intervención de la parcela para evitar el crecimiento de brinzales, para el fácil tránsito. Presenta suelos firmes y arcillosos. Se encontraron residuos sólidos."," ",null,{"$f":"CONCATENATE(REFERENTES!A41,\"(\",REFERENTES!B41,\")\")","v":"Buritaca 2(BUR-ZR1-Buritac2-1)"},{"$f":"REFERENTES!C41","v":45320}]
[null,null,null,null,null,null,null,null,null,null,null,null,null,null,null,null,null,null,null,null,null,null,null,null,null,null,null,null,{"$f":"IF(AND(REFERENTES!C44<>\"\",          REFERENTES!C44<>96321,    REFERENTES!C44<>96222            ),(REFERENTES!E44),\"\")","v":"Se localiza a 800 m de la desembocadura del río Buritaca, en el extremo más al occidental del manglar, limita con zonas de potrero,  a una distancia de 18 m  del borde de la línea de cobertura vegetal. La parcela está constituida por mangla  L. racemosa y vegetación de playa. La franja de cobertura de mangla es reducida."},{"$f":"REFERENTES!C44","v":45315},null,42,"Se ubica a 400 m de la desembocadura del río Buritaca,  y  a una distancia de 17 m  del borde de la cobertura vegetal que da a la playa turística que da a una madre vieja y esta a su vez está protegida del mar por una barra de arena. En esta área la franja de manglar es más ancha.",42,"Parcela 1 monitoreada por el INVEMAR en el marco del ¨Monitoreo de las condiciones ambientales y los cambios estructurales y funcionales de las comunidades vegetales y de los recursos pesqueros durante la rehabilitación de la Ciénaga Grande de Santa Marta¨"," ",null,{"$f":"CONCATENATE(REFERENTES!A42,\"(\",REFERENTES!B42,\")\")","v":"Buritaca 2-1(BUR-ZP1-Buritac2-1)"},{"$f":"REFERENTES!C42","v":45308}]
[null,null,null,null,null,null,null,null,null,null,null,null,null,null,null,null,null,null,null,null,null,null,null,null,null,null,null,null,{"$f":"IF(AND(REFERENTES!C45<>\"\",          REFERENTES!C45<>96321,    REFERENTES!C45<>96222            ),(REFERENTES!E45),\"\")","v":0},{"$f":"REFERENTES!C45","v":58102},null,43,"Se localiza a 800 m de la desembocadura del río Buritaca, en el extremo más al occidental del manglar, limita con zonas de potrero,  a una distancia de 18 m  del borde de la línea de cobertura vegetal. La parcela está constituida por mangla  L. racemosa y vegetación de playa. La franja de cobertura de mangla es reducida.",43,"Parcela 2 monitoreada por el INVEMAR en el marco del ¨Monitoreo de las condiciones ambientales y los cambios estructurales y funcionales de las comunidades vegetales y de los recursos pesqueros durante la rehabilitación de la Ciénaga Grande de Santa Marta¨"," ",null,{"$f":"CONCATENATE(REFERENTES!A43,\"(\",REFERENTES!B43,\")\")","v":"Buritaca ZP 1-1(BUR-ZP1-Buritac1-1)"},{"$f":"REFERENTES!C43","v":45305}]
[null,null,null,null,null,null,null,null,null,null,null,null,null,null,null,null,null,null,null,null,null,null,null,null,null,null,null,null,{"$f":"IF(AND(REFERENTES!C46<>\"\",          REFERENTES!C46<>96321,    REFERENTES!C46<>96222            ),(REFERENTES!E46),\"\")","v":0},{"$f":"REFERENTES!C46","v":58126},null,44,0,1290,"Parcela 3 monitoreada por el INVEMAR en el marco del ¨Monitoreo de las condiciones ambientales y los cambios estructurales y funcionales de las comunidades vegetales y de los recursos pesqueros durante la rehabilitación de la Ciénaga Grande de Santa Marta¨"," ",null,{"$f":"CONCATENATE(REFERENTES!A44,\"(\",REFERENTES!B44,\")\")","v":"Buritaca ZR 1(BUR-ZR1-Buritc1-1)"},{"$f":"REFERENTES!C44","v":45315}]
[null,null,null,null,null,null,null,null,null,null,null,null,null,null,null,null,null,null,null,null,null,null,null,null,null,null,null,null,{"$f":"IF(AND(REFERENTES!C47<>\"\",          REFERENTES!C47<>96321,    REFERENTES!C47<>96222            ),(REFERENTES!E47),\"\")","v":0},{"$f":"REFERENTES!C47","v":42117},null,45,0,1290,"la paralela se encuentra ubicada en la zona de uso sostenible de caño grande en la ciénaga mangoneas, con bajos niveles de inundación y con predominancia de la especia Rhizophora mangle, se observaba intervención de por actividades antro picas"," ",null,{"$f":"CONCATENATE(REFERENTES!A45,\"(\",REFERENTES!B45,\")\")","v":"CENTRO (CENTRO_JON)"},{"$f":"REFERENTES!C45","v":58102}]
[null,null,null,null,null,null,null,null,null,null,null,null,null,null,null,null,null,null,null,null,null,null,null,null,null,null,null,null,{"$f":"IF(AND(REFERENTES!C48<>\"\",          REFERENTES!C48<>96321,    REFERENTES!C48<>96222            ),(REFERENTES!E48),\"\")","v":"VEGETACIÓN DE MANGLE ROJO ADULTO  BIEN DESARROLLADO CON INTERVENCIONES ESPORADICAS"},{"$f":"REFERENTES!C48","v":45387},null,46,0,1290,"la parcela se encuentra paralela al caño de Guacamayas"," ",null,{"$f":"CONCATENATE(REFERENTES!A46,\"(\",REFERENTES!B46,\")\")","v":"CENTRO (CENTRO_SAN)"},{"$f":"REFERENTES!C46","v":58126}]
[null,null,null,null,null,null,null,null,null,null,null,null,null,null,null,null,null,null,null,null,null,null,null,null,null,null,null,null,{"$f":"IF(AND(REFERENTES!C49<>\"\",          REFERENTES!C49<>96321,    REFERENTES!C49<>96222            ),(REFERENTES!E49),\"\")","v":0},{"$f":"REFERENTES!C49","v":46010},null,47,"VEGETACIÓN DE MANGLE ROJO ADULTO  BIEN DESARROLLADO CON INTERVENCIONES ESPORADICAS",47,"parcela caño la balsa"," ",null,{"$f":"CONCATENATE(REFERENTES!A47,\"(\",REFERENTES!B47,\")\")","v":"Caimanero(VIRU-SZ1-CAIM-1)"},{"$f":"REFERENTES!C47","v":42117}]
[null,null,null,null,null,null,null,null,null,null,null,null,null,null,null,null,null,null,null,null,null,null,null,null,null,null,null,null,{"$f":"IF(AND(REFERENTES!C50<>\"\",          REFERENTES!C50<>96321,    REFERENTES!C50<>96222            ),(REFERENTES!E50),\"\")","v":0},{"$f":"REFERENTES!C50","v":48750},null,48,0,1290,"Parcela con árboles de R, mangle de gran altura, en algunos casos 30 metros, inundación en toda la parcela y   abundante regeneración natural de R. mangle.  árboles secos y caídos."," ",null,{"$f":"CONCATENATE(REFERENTES!A48,\"(\",REFERENTES!B48,\")\")","v":"Camino Real(CAMREAL-ZUS1-CAMREAL-1)"},{"$f":"REFERENTES!C48","v":45387}]
[null,null,null,null,null,null,null,null,null,null,null,null,null,null,null,null,null,null,null,null,null,null,null,null,null,null,null,null,{"$f":"IF(AND(REFERENTES!C51<>\"\",          REFERENTES!C51<>96321,    REFERENTES!C51<>96222            ),(REFERENTES!E51),\"\")","v":"La parcela se encuentra  paralela al caño la Camaronera, presenta intervención por parte del hombre"},{"$f":"REFERENTES!C51","v":44380},null,49,0,1290,"la parcela se encuentra a 30 metros de la boca del caño Matuna"," ",null,{"$f":"CONCATENATE(REFERENTES!A49,\"(\",REFERENTES!B49,\")\")","v":"Cangrejo(MAYO-ZUS1-Can-1)"},{"$f":"REFERENTES!C49","v":46010}]
[null,null,null,null,null,null,null,null,null,null,null,null,null,null,null,null,null,null,null,null,null,null,null,null,null,null,null,null,{"$f":"IF(AND(REFERENTES!C52<>\"\",          REFERENTES!C52<>96321,    REFERENTES!C52<>96222            ),(REFERENTES!E52),\"\")","v":"ESTACION COREA"},{"$f":"REFERENTES!C52","v":42093},null,50,"La parcela se encuentra  paralela al caño la Camaronera, presenta intervención por parte del hombre",50,"la parcela esta ubicada en la zona de uso sostenible del sector caño palermo , con predominancia de la especie Rhizopohora mangle"," ",null,{"$f":"CONCATENATE(REFERENTES!A50,\"(\",REFERENTES!B50,\")\")","v":"Caño Arteaga(BCISEST-ZUS1-CñArteaga-1)"},{"$f":"REFERENTES!C50","v":48750}]
[null,null,null,null,null,null,null,null,null,null,null,null,null,null,null,null,null,null,null,null,null,null,null,null,null,null,null,null,{"$f":"IF(AND(REFERENTES!C53<>\"\",          REFERENTES!C53<>96321,    REFERENTES!C53<>96222            ),(REFERENTES!E53),\"\")","v":"Se ubica a 55 m al sur de la vía a la playa de Caño Dulce y a 16 m de la línea de vegetación, entre dos casas.  El crecimiento del mangle es ramificado, se observa intervención de la parcela para evitar el crecimiento de brinzales, para el fácil tránsito. Presenta suelos firmes y arcillosos. Se encontraron residuos sólidos."},{"$f":"REFERENTES!C53","v":45264},null,51,"ESTACION COREA",51,"parcela ubicada en el sector de caño salado, con predominancia de las especies Rhizophora mangle,Pelliciera rhizophorae,Avicennia germinans, los arboles presenta condición de raquitismo, los niveles de inundación son bajos, por el sedimentos debido al material de arastre que trae el rio"," ",null,{"$f":"CONCATENATE(REFERENTES!A51,\"(\",REFERENTES!B51,\")\")","v":"Caño Camaronera-1(BARC-ZUS1-CCAM-1)"},{"$f":"REFERENTES!C51","v":44380}]
[null,null,null,null,null,null,null,null,null,null,null,null,null,null,null,null,null,null,null,null,null,null,null,null,null,null,null,null,{"$f":"IF(AND(REFERENTES!C54<>\"\",          REFERENTES!C54<>96321,    REFERENTES!C54<>96222            ),(REFERENTES!E54),\"\")","v":"Parcela 1 monitoreada por el INVEMAR en el marco del ¨Monitoreo de las condiciones ambientales y los cambios estructurales y funcionales de las comunidades vegetales y de los recursos pesqueros durante la rehabilitación de la Ciénaga Grande de Santa Marta¨"},{"$f":"REFERENTES!C54","v":45930},null,52,"Se ubica a 55 m al sur de la vía a la playa de Caño Dulce y a 16 m de la línea de vegetación, entre dos casas.  El crecimiento del mangle es ramificado, se observa intervención de la parcela para evitar el crecimiento de brinzales, para el fácil tránsito. Presenta suelos firmes y arcillosos. Se encontraron residuos sólidos.",52,"la parcela esta ubicada en en la zona de recuperación del DMI,con predominancia de la especie Avicennia germinans"," ",null,{"$f":"CONCATENATE(REFERENTES!A52,\"(\",REFERENTES!B52,\")\")","v":"Caño Corea -1(TIN-ZR1-EC-1)"},{"$f":"REFERENTES!C52","v":42093}]
[null,null,null,null,null,null,null,null,null,null,null,null,null,null,null,null,null,null,null,null,null,null,null,null,null,null,null,null,{"$f":"IF(AND(REFERENTES!C55<>\"\",          REFERENTES!C55<>96321,    REFERENTES!C55<>96222            ),(REFERENTES!E55),\"\")","v":"Parcela 2 monitoreada por el INVEMAR en el marco del ¨Monitoreo de las condiciones ambientales y los cambios estructurales y funcionales de las comunidades vegetales y de los recursos pesqueros durante la rehabilitación de la Ciénaga Grande de Santa Marta¨"},{"$f":"REFERENTES!C55","v":45932},null,53,"Parcela 1 monitoreada por el INVEMAR en el marco del ¨Monitoreo de las condiciones ambientales y los cambios estructurales y funcionales de las comunidades vegetales y de los recursos pesqueros durante la rehabilitación de la Ciénaga Grande de Santa Marta¨",53,"La PPC se ubica en la ZUS de la Bahía de Cispatá, con influencia directa del Caño Tijó y con alta inundación. Presenta dominancia de A. germinans, con alta regeneración natural. Se presentan en menor proporción R. mangle."," ",null,{"$f":"CONCATENATE(REFERENTES!A53,\"(\",REFERENTES!B53,\")\")","v":"Caño Dulce-1(CÑDULC-SZ1-CÑDULC-1)"},{"$f":"REFERENTES!C53","v":45264}]
[null,null,null,null,null,null,null,null,null,null,null,null,null,null,null,null,null,null,null,null,null,null,null,null,null,null,null,null,{"$f":"IF(AND(REFERENTES!C56<>\"\",          REFERENTES!C56<>96321,    REFERENTES!C56<>96222            ),(REFERENTES!E56),\"\")","v":"Parcela 3 monitoreada por el INVEMAR en el marco del ¨Monitoreo de las condiciones ambientales y los cambios estructurales y funcionales de las comunidades vegetales y de los recursos pesqueros durante la rehabilitación de la Ciénaga Grande de Santa Marta¨"},{"$f":"REFERENTES!C56","v":45934},null,54,"Parcela 2 monitoreada por el INVEMAR en el marco del ¨Monitoreo de las condiciones ambientales y los cambios estructurales y funcionales de las comunidades vegetales y de los recursos pesqueros durante la rehabilitación de la Ciénaga Grande de Santa Marta¨",54,"Pequeño relicto monoespecífico de R. mangle, sin evidencias de presión antrópica."," ",null,{"$f":"CONCATENATE(REFERENTES!A54,\"(\",REFERENTES!B54,\")\")","v":"Caño Grande E-1(CGSM-SZ1-CGE-1)"},{"$f":"REFERENTES!C54","v":45930}]
[null,null,null,null,null,null,null,null,null,null,null,null,null,null,null,null,null,null,null,null,null,null,null,null,null,null,null,null,{"$f":"IF(AND(REFERENTES!C57<>\"\",          REFERENTES!C57<>96321,    REFERENTES!C57<>96222            ),(REFERENTES!E57),\"\")","v":"la paralela se encuentra ubicada en la zona de uso sostenible de caño grande en la ciénaga mangoneas, con bajos niveles de inundación y con predominancia de la especia Rhizophora mangle, se observaba intervención de por actividades antro picas"},{"$f":"REFERENTES!C57","v":45072},null,55,"Parcela 3 monitoreada por el INVEMAR en el marco del ¨Monitoreo de las condiciones ambientales y los cambios estructurales y funcionales de las comunidades vegetales y de los recursos pesqueros durante la rehabilitación de la Ciénaga Grande de Santa Marta¨",55,"La parcela se encuentra paralela al coño el Frances"," ",null,{"$f":"CONCATENATE(REFERENTES!A55,\"(\",REFERENTES!B55,\")\")","v":"Caño Grande E-2(CGSM-SZ1-CGE-2)"},{"$f":"REFERENTES!C55","v":45932}]
[null,null,null,null,null,null,null,null,null,null,null,null,null,null,null,null,null,null,null,null,null,null,null,null,null,null,null,null,{"$f":"IF(AND(REFERENTES!C58<>\"\",          REFERENTES!C58<>96321,    REFERENTES!C58<>96222            ),(REFERENTES!E58),\"\")","v":"la parcela se encuentra paralela al caño de Guacamayas"},{"$f":"REFERENTES!C58","v":44410},null,56,"la paralela se encuentra ubicada en la zona de uso sostenible de caño grande en la ciénaga mangoneas, con bajos niveles de inundación y con predominancia de la especia Rhizophora mangle, se observaba intervención de por actividades antro picas",56,"la parcela ubicada en el sector caño el nene, con predominancia de la especie Rhizophora mangle, la cual esta sometida a una constante presión, por aprovechamiento forestal en el sector."," ",null,{"$f":"CONCATENATE(REFERENTES!A56,\"(\",REFERENTES!B56,\")\")","v":"Caño Grande E-3(CGSM-SZ1-CGE-3)"},{"$f":"REFERENTES!C56","v":45934}]
[null,null,null,null,null,null,null,null,null,null,null,null,null,null,null,null,null,null,null,null,null,null,null,null,null,null,null,null,{"$f":"IF(AND(REFERENTES!C59<>\"\",          REFERENTES!C59<>96321,    REFERENTES!C59<>96222            ),(REFERENTES!E59),\"\")","v":"parcela caño la balsa"},{"$f":"REFERENTES!C59","v":42074},null,57,"la parcela se encuentra paralela al caño de Guacamayas",57,"Parcela dominada por A. germinans"," ",null,{"$f":"CONCATENATE(REFERENTES!A57,\"(\",REFERENTES!B57,\")\")","v":"Caño Grande-1(BCISEST-ZUS2-cañogrande-1)"},{"$f":"REFERENTES!C57","v":45072}]
[null,null,null,null,null,null,null,null,null,null,null,null,null,null,null,null,null,null,null,null,null,null,null,null,null,null,null,null,{"$f":"IF(AND(REFERENTES!C60<>\"\",          REFERENTES!C60<>96321,    REFERENTES!C60<>96222            ),(REFERENTES!E60),\"\")","v":"Parcela con árboles de R, mangle de gran altura, en algunos casos 30 metros, inundación en toda la parcela y   abundante regeneración natural de R. mangle.  árboles secos y caídos."},{"$f":"REFERENTES!C60","v":44504},null,58,"parcela caño la balsa",58,"El manglar de la estación naya presenta una condiciones regulares de conservación con una  área basal  y una cantidad de árboles aceptables  que permiten su recuperación si se garantizan estrategias de conservación como el aislamiento del bosque articuladas a un fuerte trabajo de empoderamiento por parte de las comunidades de base."," ",null,{"$f":"CONCATENATE(REFERENTES!A58,\"(\",REFERENTES!B58,\")\")","v":"Caño Guacamayas-1(GUAC-ZP1-CGUA-1)"},{"$f":"REFERENTES!C58","v":44410}]
[null,null,null,null,null,null,null,null,null,null,null,null,null,null,null,null,null,null,null,null,null,null,null,null,null,null,null,null,{"$f":"IF(AND(REFERENTES!C61<>\"\",          REFERENTES!C61<>96321,    REFERENTES!C61<>96222            ),(REFERENTES!E61),\"\")","v":"la parcela se encuentra a 30 metros de la boca del caño Matuna"},{"$f":"REFERENTES!C61","v":44378},null,59,"Parcela con árboles de R, mangle de gran altura, en algunos casos 30 metros, inundación en toda la parcela y   abundante regeneración natural de R. mangle.  árboles secos y caídos.",59,"franja que se encuentra en un estado de intervención alterado bajo, con sitios de anidacion de la tortuga Carey"," ",null,{"$f":"CONCATENATE(REFERENTES!A59,\"(\",REFERENTES!B59,\")\")","v":"Caño La Balsa(LBAL-ZUS1-clb-1)"},{"$f":"REFERENTES!C59","v":42074}]
[null,null,null,null,null,null,null,null,null,null,null,null,null,null,null,null,null,null,null,null,null,null,null,null,null,null,null,null,{"$f":"IF(AND(REFERENTES!C62<>\"\",          REFERENTES!C62<>96321,    REFERENTES!C62<>96222            ),(REFERENTES!E62),\"\")","v":"la parcela esta ubicada en la zona de uso sostenible del sector caño palermo , con predominancia de la especie Rhizopohora mangle"},{"$f":"REFERENTES!C62","v":45100},null,60,"la parcela se encuentra a 30 metros de la boca del caño Matuna",60,"Dominada por R. mangle con numerosas raíces fúlcreas, sustrato duro.  Al final de la estación comienza vegetación de bosque seco."," ",null,{"$f":"CONCATENATE(REFERENTES!A60,\"(\",REFERENTES!B60,\")\")","v":"Caño Lequerica(BARB-ZR1-Lequerica-1)"},{"$f":"REFERENTES!C60","v":44504}]
[null,null,null,null,null,null,null,null,null,null,null,null,null,null,null,null,null,null,null,null,null,null,null,null,null,null,null,null,{"$f":"IF(AND(REFERENTES!C63<>\"\",          REFERENTES!C63<>96321,    REFERENTES!C63<>96222            ),(REFERENTES!E63),\"\")","v":0},{"$f":"REFERENTES!C63","v":48758},null,61,"la parcela esta ubicada en la zona de uso sostenible del sector caño palermo , con predominancia de la especie Rhizopohora mangle",61,"Sitio con mucha basura al ingreso de la estación, don dominancia de R. mangle, se observaron pequeños parches de tala"," ",null,{"$f":"CONCATENATE(REFERENTES!A61,\"(\",REFERENTES!B61,\")\")","v":"Caño Matuna-1(BARC-ZUS1-CMAT-1)"},{"$f":"REFERENTES!C61","v":44378}]
[null,null,null,null,null,null,null,null,null,null,null,null,null,null,null,null,null,null,null,null,null,null,null,null,null,null,null,null,{"$f":"IF(AND(REFERENTES!C64<>\"\",          REFERENTES!C64<>96321,    REFERENTES!C64<>96222            ),(REFERENTES!E64),\"\")","v":"parcela ubicada en el sector de caño salado, con predominancia de las especies Rhizophora mangle,Pelliciera rhizophorae,Avicennia germinans, los arboles presenta condición de raquitismo, los niveles de inundación son bajos, por el sedimentos debido al material de arastre que trae el rio"},{"$f":"REFERENTES!C64","v":45351},null,62,0,1290,"La parcela esta ubicada al costado derecho de la Boca de la Ciénaga, presenta abundante arbolado de Mangle Negro de pequeño tamaño."," ",null,{"$f":"CONCATENATE(REFERENTES!A62,\"(\",REFERENTES!B62,\")\")","v":"Caño Palermo-1(BCISEST-ZUS4-palermo-1)"},{"$f":"REFERENTES!C62","v":45100}]
[null,null,null,null,null,null,null,null,null,null,null,null,null,null,null,null,null,null,null,null,null,null,null,null,null,null,null,null,{"$f":"IF(AND(REFERENTES!C65<>\"\",          REFERENTES!C65<>96321,    REFERENTES!C65<>96222            ),(REFERENTES!E65),\"\")","v":0},{"$f":"REFERENTES!C65","v":42083},null,63,"parcela ubicada en el sector de caño salado, con predominancia de las especies Rhizophora mangle,Pelliciera rhizophorae,Avicennia germinans, los arboles presenta condición de raquitismo, los niveles de inundación son bajos, por el sedimentos debido al material de arastre que trae el rio",63,"La parcela se ubica  entre caño Rico y Ciénaga Ana Gómez,  a 30 metros del cuerpo de agua"," ",null,{"$f":"CONCATENATE(REFERENTES!A63,\"(\",REFERENTES!B63,\")\")","v":"Caño Salado(BCISEST-ZP1-CñSalado-1)"},{"$f":"REFERENTES!C63","v":48758}]
[null,null,null,null,null,null,null,null,null,null,null,null,null,null,null,null,null,null,null,null,null,null,null,null,null,null,null,null,{"$f":"IF(AND(REFERENTES!C66<>\"\",          REFERENTES!C66<>96321,    REFERENTES!C66<>96222            ),(REFERENTES!E66),\"\")","v":0},{"$f":"REFERENTES!C66","v":48755},null,64,0,1290,"la parcela se encuentra ubicada en el sector caño el grazal en la zona de uso sostenible de la bahía de cispata, con predominancia de la especie Avicenia gerninans, con arboles de gran tamaño y sanos."," ",null,{"$f":"CONCATENATE(REFERENTES!A64,\"(\",REFERENTES!B64,\")\")","v":"Caño Salado -2(BCISEST-ZP1-cañosalado2-1)"},{"$f":"REFERENTES!C64","v":45351}]
[null,null,null,null,null,null,null,null,null,null,null,null,null,null,null,null,null,null,null,null,null,null,null,null,null,null,null,null,{"$f":"IF(AND(REFERENTES!C67<>\"\",          REFERENTES!C67<>96321,    REFERENTES!C67<>96222            ),(REFERENTES!E67),\"\")","v":"la parcela esta ubicada en en la zona de recuperación del DMI,con predominancia de la especie Avicennia germinans"},{"$f":"REFERENTES!C67","v":45095},null,65,0,1290,"la parcela esta ubicada en el sector de aprovechamiento de la ciénaga el garzal, con predominancia de la especie Rhizophora mangle, en una zona de bajos novales de inundación."," ",null,{"$f":"CONCATENATE(REFERENTES!A65,\"(\",REFERENTES!B65,\")\")","v":"Caño Salado-11(BCISESTSAL-ZP1-CS-1)"},{"$f":"REFERENTES!C65","v":42083}]
[null,null,null,null,null,null,null,null,null,null,null,null,null,null,null,null,null,null,null,null,null,null,null,null,null,null,null,null,{"$f":"IF(AND(REFERENTES!C68<>\"\",          REFERENTES!C68<>96321,    REFERENTES!C68<>96222            ),(REFERENTES!E68),\"\")","v":"La PPC se ubica en la ZUS de la Bahía de Cispatá, con influencia directa del Caño Tijó y con alta inundación. Presenta dominancia de A. germinans, con alta regeneración natural. Se presentan en menor proporción R. mangle."},{"$f":"REFERENTES!C68","v":45008},null,66,{"$f":"IF(AC70=\"\",0,AC70)","v":"la parcela esta ubicada en en la zona de recuperación del DMI,con predominancia de la especie Avicennia germinans"},{"$f":"IF(AG71=0,MAX($AF$6:$AF$1294)+1,AF71)","v":66},{"$f":"IFERROR(VLOOKUP(SMALL($AH$6:$AH$1294,AF71),$AF$6:$AH$1294,2,FALSE),\"X\")","v":"parcela ubicada en la zona de uso sostenible del sub sector de aprovechamiento de la ciénaga el garzal, con predominancia de especie Rhizophora mangle, en esta parcela se observan gran cantidad de arboles muertos, huellas de aprovechamiento forestal de la especie,"}," ",null,{"$f":"CONCATENATE(REFERENTES!A66,\"(\",REFERENTES!B66,\")\")","v":"Caño Tijo-1(CSISPIE-ZUS1-CñTijo-1)"},{"$f":"REFERENTES!C66","v":48755}]
[null,null,null,null,null,null,null,null,null,null,null,null,null,null,null,null,null,null,null,null,null,null,null,null,null,null,null,null,{"$f":"IF(AND(REFERENTES!C69<>\"\",          REFERENTES!C69<>96321,    REFERENTES!C69<>96222            ),(REFERENTES!E69),\"\")","v":"Pequeño relicto monoespecífico de R. mangle, sin evidencias de presión antrópica."},{"$f":"REFERENTES!C69","v":48429},null,67,"La PPC se ubica en la ZUS de la Bahía de Cispatá, con influencia directa del Caño Tijó y con alta inundación. Presenta dominancia de A. germinans, con alta regeneración natural. Se presentan en menor proporción R. mangle.",67,"ubicada en el sector de la ciénaga galo en la zona de uso sostenible de la bahía de cispata, con predominancia de la especie Rhizophora mangle, con arboles de gran tamaño, sanos y con bajos niveles de inundación."," ",null,{"$f":"CONCATENATE(REFERENTES!A67,\"(\",REFERENTES!B67,\")\")","v":"Caño Tijo-2(BCISEST-ZR1-eltijo2-1)"},{"$f":"REFERENTES!C67","v":45095}]
[null,null,null,null,null,null,null,null,null,null,null,null,null,null,null,null,null,null,null,null,null,null,null,null,null,null,null,null,{"$f":"IF(AND(REFERENTES!C70<>\"\",          REFERENTES!C70<>96321,    REFERENTES!C70<>96222            ),(REFERENTES!E70),\"\")","v":"La parcela se encuentra paralela al coño el Frances"},{"$f":"REFERENTES!C70","v":44414},null,68,"Pequeño relicto monoespecífico de R. mangle, sin evidencias de presión antrópica.",68,"parcela fija (2 subparcelas). Estación Manglar Manzanillo (formada por 2 parcelas circulares): Manglar localizado al sur de la isla, constituido principalmente por Rhizophora mangle, como especie dominante y por Laguncularia racemosa. Se encuentra detrás de una barra arenosa y en su interior tiene un pequeño canal central en el que se acumulan aguas derivadas de la escorrentía y de un arroyo que se forma en época de lluvias, proveniente de Murray Hills. Tiene una cobertura de manglar de 1,59 ha (INVEMAR-CORALINA, 2016)."," ",null,{"$f":"CONCATENATE(REFERENTES!A68,\"(\",REFERENTES!B68,\")\")","v":"Caño Tijo-2(BCISLIT-ZUS1-TIJO-1)"},{"$f":"REFERENTES!C68","v":45008}]
[null,null,null,null,null,null,null,null,null,null,null,null,null,null,null,null,null,null,null,null,null,null,null,null,null,null,null,null,{"$f":"IF(AND(REFERENTES!C71<>\"\",          REFERENTES!C71<>96321,    REFERENTES!C71<>96222            ),(REFERENTES!E71),\"\")","v":"la parcela ubicada en el sector caño el nene, con predominancia de la especie Rhizophora mangle, la cual esta sometida a una constante presión, por aprovechamiento forestal en el sector."},{"$f":"REFERENTES!C71","v":45040},null,69,"La parcela se encuentra paralela al coño el Frances",69,"la parcela cuenta con un gran numero de arboles de la especie Rhizophora mangle, de gran tamaño, y con un gran porcentaje de regeneración natural en un estado sano."," ",null,{"$f":"CONCATENATE(REFERENTES!A69,\"(\",REFERENTES!B69,\")\")","v":"Caño Urabalito -1(CORI-ZR1-Cura-1)"},{"$f":"REFERENTES!C69","v":48429}]
[null,null,null,null,null,null,null,null,null,null,null,null,null,null,null,null,null,null,null,null,null,null,null,null,null,null,null,null,{"$f":"IF(AND(REFERENTES!C72<>\"\",          REFERENTES!C72<>96321,    REFERENTES!C72<>96222            ),(REFERENTES!E72),\"\")","v":"Parcela dominada por A. germinans"},{"$f":"REFERENTES!C72","v":41954},null,70,"la parcela ubicada en el sector caño el nene, con predominancia de la especie Rhizophora mangle, la cual esta sometida a una constante presión, por aprovechamiento forestal en el sector.",70,"la parcela esta ubicada en la ciénaga remedia pobre que esta situada en el subsector de aprovechamiento del DMI con una baja densidad de arboles por parcela y con predominancia de la especia Rhiphora mangle"," ",null,{"$f":"CONCATENATE(REFERENTES!A70,\"(\",REFERENTES!B70,\")\")","v":"Caño el Frances-1(FRAN-ZR1-BCFRA-1)"},{"$f":"REFERENTES!C70","v":44414}]
[null,null,null,null,null,null,null,null,null,null,null,null,null,null,null,null,null,null,null,null,null,null,null,null,null,null,null,null,{"$f":"IF(AND(REFERENTES!C73<>\"\",          REFERENTES!C73<>96321,    REFERENTES!C73<>96222            ),(REFERENTES!E73),\"\")","v":"El manglar de la estación naya presenta una condiciones regulares de conservación con una  área basal  y una cantidad de árboles aceptables  que permiten su recuperación si se garantizan estrategias de conservación como el aislamiento del bosque articuladas a un fuerte trabajo de empoderamiento por parte de las comunidades de base."},{"$f":"REFERENTES!C73","v":45821},null,71,"Parcela dominada por A. germinans",71,"la parcela esta ubicada en el sector el rincón del grillo en la zona de uso sostenible de la bahía de cispata, con predominancia de la especie Rhizopora mangle, con arboles de gran tamaño, se encuentran algunas lianas y elechales"," ",null,{"$f":"CONCATENATE(REFERENTES!A71,\"(\",REFERENTES!B71,\")\")","v":"Caño el Nene -1(CCISinu-ZUS1-elnene-1)"},{"$f":"REFERENTES!C71","v":45040}]
[null,null,null,null,null,null,null,null,null,null,null,null,null,null,null,null,null,null,null,null,null,null,null,null,null,null,null,null,{"$f":"IF(AND(REFERENTES!C74<>\"\",          REFERENTES!C74<>96321,    REFERENTES!C74<>96222            ),(REFERENTES!E74),\"\")","v":"franja que se encuentra en un estado de intervención alterado bajo, con sitios de anidacion de la tortuga Carey"},{"$f":"REFERENTES!C74","v":42181},null,72,"El manglar de la estación naya presenta una condiciones regulares de conservación con una  área basal  y una cantidad de árboles aceptables  que permiten su recuperación si se garantizan estrategias de conservación como el aislamiento del bosque articuladas a un fuerte trabajo de empoderamiento por parte de las comunidades de base.",72,"esta parcela esta predominada por la especie Rhizopora mangle, se presenta muerte descendente en algunos arboles y muchos presentan una condición de raquitismo, también  existen algunas lianas"," ",null,{"$f":"CONCATENATE(REFERENTES!A72,\"(\",REFERENTES!B72,\")\")","v":"CañoTubo(CNGMLLQ-ZP1-CATO-1)"},{"$f":"REFERENTES!C72","v":41954}]
[null,null,null,null,null,null,null,null,null,null,null,null,null,null,null,null,null,null,null,null,null,null,null,null,null,null,null,null,{"$f":"IF(AND(REFERENTES!C75<>\"\",          REFERENTES!C75<>96321,    REFERENTES!C75<>96222            ),(REFERENTES!E75),\"\")","v":"Dominada por R. mangle con numerosas raíces fúlcreas, sustrato duro.  Al final de la estación comienza vegetación de bosque seco."},{"$f":"REFERENTES!C75","v":44585},null,73,"franja que se encuentra en un estado de intervención alterado bajo, con sitios de anidacion de la tortuga Carey",73,"Estación Manglar Cocoplum (formada por 3 parcelas circulares):Manglar de cuenca o interior, localizado en el costado oriental de la Isla, en la zona media. Se encuentra separado del mar por la carretera y se desarrolla detrás de formaciones vegetales distintas al manglar, en las que algunas de ellas son de tipo xerófila que crecen sobre arenas formando matorrales. Este manglar está conformado por Rhizophora mangle, Laguncularia racemosa, Avicennia germinans y baja frecuencia de Conocarpus erectus. Altura promedio de los árboles de 8,1 m. Presenta contaminación proveniente del asentamiento vecino conocido como Nueva Guinea, causante del vertimiento de aguas residuales y mala disposición de residuos sólidos, así como de una porqueriza localizada muy cerca del manglar. Hay evidencia de actividades de tala en su interior y de rellenos. Tiene una extensión de manglar de 38,53 ha (INVEMAR-CORALINA, 2016)."," ",null,{"$f":"CONCATENATE(REFERENTES!A73,\"(\",REFERENTES!B73,\")\")","v":"Chamuscado(BNAY-ZUS3-NC-1)"},{"$f":"REFERENTES!C73","v":45821}]
[null,null,null,null,null,null,null,null,null,null,null,null,null,null,null,null,null,null,null,null,null,null,null,null,null,null,null,null,{"$f":"IF(AND(REFERENTES!C76<>\"\",          REFERENTES!C76<>96321,    REFERENTES!C76<>96222            ),(REFERENTES!E76),\"\")","v":"Sitio con mucha basura al ingreso de la estación, don dominancia de R. mangle, se observaron pequeños parches de tala"},{"$f":"REFERENTES!C76","v":44598},null,74,"Dominada por R. mangle con numerosas raíces fúlcreas, sustrato duro.  Al final de la estación comienza vegetación de bosque seco.",74,"Estación Manglar Cocoplum (formada por 3 parcelas circulares):Manglar de cuenca o interior, localizado en el costado oriental de la Isla, en la zona media. Se encuentra separado del mar por la carretera y se desarrolla detrás de formaciones vegetales distintas al manglar, en las que algunas de ellas son de tipo xerófila que crecen sobre arenas formando matorrales. Este manglar está conformado por Rhizophora mangle, Laguncularia racemosa, Avicennia germinans y baja frecuencia de Conocarpus erectus. Altura promedio de los árboles de 8,1 m. Presenta contaminación proveniente del asentamiento vecino conocido como Nueva Guinea, causante del vertimiento de aguas residuales y mala disposición de residuos sólidos, así como de una porqueriza localizada muy cerca del manglar. Hay evidencia de actividades de tala en su interior y de rellenos. Tiene una extensión de manglar de 38,53 ha (INVEMAR-CORALINA, 2016)."," ",null,{"$f":"CONCATENATE(REFERENTES!A74,\"(\",REFERENTES!B74,\")\")","v":"Chichiman -1(PCOM-ZR1-Chichi-1)"},{"$f":"REFERENTES!C74","v":42181}]
[null,null,null,null,null,null,null,null,null,null,null,null,null,null,null,null,null,null,null,null,null,null,null,null,null,null,null,null,{"$f":"IF(AND(REFERENTES!C77<>\"\",          REFERENTES!C77<>96321,    REFERENTES!C77<>96222            ),(REFERENTES!E77),\"\")","v":"La parcela esta ubicada al costado derecho de la Boca de la Ciénaga, presenta abundante arbolado de Mangle Negro de pequeño tamaño."},{"$f":"REFERENTES!C77","v":44407},null,75,"Sitio con mucha basura al ingreso de la estación, don dominancia de R. mangle, se observaron pequeños parches de tala",75,"Ubicada a 5.2 km aproximadamente de la localidad de Juradó, en la cabecera de un pequeño Estero que se comunica con el Estero que comunica a Juradó con Curiche; su composición forestal está dada por la presencia de cuatro (4) especies a saber: Mora oleifera, Pelliciera rhizophorae, Rhizophora mangle y Rhizophora recamosa. La parcela está limitada en su parte Este por un  Catival."," ",null,{"$f":"CONCATENATE(REFERENTES!A75,\"(\",REFERENTES!B75,\")\")","v":"Cholon-1(BARU-ZR1-Cholón-1)"},{"$f":"REFERENTES!C75","v":44585}]
[null,null,null,null,null,null,null,null,null,null,null,null,null,null,null,null,null,null,null,null,null,null,null,null,null,null,null,null,{"$f":"IF(AND(REFERENTES!C78<>\"\",          REFERENTES!C78<>96321,    REFERENTES!C78<>96222            ),(REFERENTES!E78),\"\")","v":"La parcela se ubica  entre caño Rico y Ciénaga Ana Gómez,  a 30 metros del cuerpo de agua"},{"$f":"REFERENTES!C78","v":44369},null,76,"La parcela esta ubicada al costado derecho de la Boca de la Ciénaga, presenta abundante arbolado de Mangle Negro de pequeño tamaño.",76,"Ubicada a 5.2 km aproximadamente de la localidad de Juradó, en la cabecera de un pequeño Estero que se comunica con el Estero que comunica a Juradó con Curiche; su composición forestal está dada por la presencia de cuatro (4) especies a saber: Mora oleifera, Pelliciera rhizophorae, Rhizophora mangle y Rhizophora recamosa. La parcela está limitada en su parte Este por una asociación  Catival."," ",null,{"$f":"CONCATENATE(REFERENTES!A76,\"(\",REFERENTES!B76,\")\")","v":"Cienaga El Picon-1(TBOM-ZP1-Picón-1)"},{"$f":"REFERENTES!C76","v":44598}]
[null,null,null,null,null,null,null,null,null,null,null,null,null,null,null,null,null,null,null,null,null,null,null,null,null,null,null,null,{"$f":"IF(AND(REFERENTES!C79<>\"\",          REFERENTES!C79<>96321,    REFERENTES!C79<>96222            ),(REFERENTES!E79),\"\")","v":0},{"$f":"REFERENTES!C79","v":44422},null,77,"La parcela se ubica  entre caño Rico y Ciénaga Ana Gómez,  a 30 metros del cuerpo de agua",77,"La parcela se encuentra en el sur del parche de manglar de mayor extensión ubicado al sur del sector. Se localiza 40 m al norte del espolón, a 14 m de la playa, el inicio de la parcela da a pocos metros un camino y la parte final a una pequeña cuneta de agua. Constituida por las 4 especies de mangle reportadas para el Dpto. con predominio de A. germinans."," ",null,{"$f":"CONCATENATE(REFERENTES!A77,\"(\",REFERENTES!B77,\")\")","v":"Ciénaga Ana Gomez-2(CANG-ZR1-CANG-2)"},{"$f":"REFERENTES!C77","v":44407}]
[null,null,null,null,null,null,null,null,null,null,null,null,null,null,null,null,null,null,null,null,null,null,null,null,null,null,null,null,{"$f":"IF(AND(REFERENTES!C80<>\"\",          REFERENTES!C80<>96321,    REFERENTES!C80<>96222            ),(REFERENTES!E80),\"\")","v":"la parcela se encuentra ubicada en el sector caño el grazal en la zona de uso sostenible de la bahía de cispata, con predominancia de la especie Avicenia gerninans, con arboles de gran tamaño y sanos."},{"$f":"REFERENTES!C80","v":45078},null,78,0,1290,"La parcela se encuentra en el norte del parche de manglar de mayor extensión ubicado al sur del sector. Se localiza a  600 m al sur de la desembocadura del rio Córdoba, a 20 m la playa. Dentro de la parcela predomina L. racemosa, R. mangle y presencia de C. erectus,  los suelos que dan a la playa son arenosos y firmes."," ",null,{"$f":"CONCATENATE(REFERENTES!A78,\"(\",REFERENTES!B78,\")\")","v":"Ciénaga Benitez-1(CBEN-ZR1-CBEN-1)"},{"$f":"REFERENTES!C78","v":44369}]
[null,null,null,null,null,null,null,null,null,null,null,null,null,null,null,null,null,null,null,null,null,null,null,null,null,null,null,null,{"$f":"IF(AND(REFERENTES!C81<>\"\",          REFERENTES!C81<>96321,    REFERENTES!C81<>96222            ),(REFERENTES!E81),\"\")","v":"la parcela esta ubicada en el sector de aprovechamiento de la ciénaga el garzal, con predominancia de la especie Rhizophora mangle, en una zona de bajos novales de inundación."},{"$f":"REFERENTES!C81","v":45054},null,79,"la parcela se encuentra ubicada en el sector caño el grazal en la zona de uso sostenible de la bahía de cispata, con predominancia de la especie Avicenia gerninans, con arboles de gran tamaño y sanos.",79,"Parcela sencilla de 20 m de ancho x 50 m de largo"," ",null,{"$f":"CONCATENATE(REFERENTES!A79,\"(\",REFERENTES!B79,\")\")","v":"Ciénaga Caimanera-1(CCAIM-ZUS1-CCAIM-1)"},{"$f":"REFERENTES!C79","v":44422}]
[null,null,null,null,null,null,null,null,null,null,null,null,null,null,null,null,null,null,null,null,null,null,null,null,null,null,null,null,{"$f":"IF(AND(REFERENTES!C82<>\"\",          REFERENTES!C82<>96321,    REFERENTES!C82<>96222            ),(REFERENTES!E82),\"\")","v":"parcela ubicada en la zona de uso sostenible del sub sector de aprovechamiento de la ciénaga el garzal, con predominancia de especie Rhizophora mangle, en esta parcela se observan gran cantidad de arboles muertos, huellas de aprovechamiento forestal de la especie,"},{"$f":"REFERENTES!C82","v":45145},null,80,"la parcela esta ubicada en el sector de aprovechamiento de la ciénaga el garzal, con predominancia de la especie Rhizophora mangle, en una zona de bajos novales de inundación.",80,"Ubicadas a 150 m al Oriente de la cabaña de pescador, en el orilla Norte de la madre vieja. Es una parcela compuesta constituida con 2 parcelas distanciadas 16 m una de la otra, cada una con área de 100 m², ubicadas una al lado de la otra, paralelas a la línea de agua."," ",null,{"$f":"CONCATENATE(REFERENTES!A80,\"(\",REFERENTES!B80,\")\")","v":"Ciénaga El Garzal -2(BCISEST-ZR1-elgarzal-2)"},{"$f":"REFERENTES!C80","v":45078}]
[null,null,null,null,null,null,null,null,null,null,null,null,null,null,null,null,null,null,null,null,null,null,null,null,null,null,null,null,{"$f":"IF(AND(REFERENTES!C83<>\"\",          REFERENTES!C83<>96321,    REFERENTES!C83<>96222            ),(REFERENTES!E83),\"\")","v":"ubicada en el sector de la ciénaga galo en la zona de uso sostenible de la bahía de cispata, con predominancia de la especie Rhizophora mangle, con arboles de gran tamaño, sanos y con bajos niveles de inundación."},{"$f":"REFERENTES!C83","v":45118},null,81,"parcela ubicada en la zona de uso sostenible del sub sector de aprovechamiento de la ciénaga el garzal, con predominancia de especie Rhizophora mangle, en esta parcela se observan gran cantidad de arboles muertos, huellas de aprovechamiento forestal de la especie,",81,"En la costa queda un pequeño relicto denso mejor conservado localizado a lo largo de un canal de aguas, y que desemboca en una cuneta donde se acumula el agua. Se encuentra la especie de mangle L. racemosa,  Este relicto se encuentra rodeado de vegetación secundaria por el borde costero."," ",null,{"$f":"CONCATENATE(REFERENTES!A81,\"(\",REFERENTES!B81,\")\")","v":"Ciénaga El Garzal-1(BCISEST-ZR1-elgarzal-1)"},{"$f":"REFERENTES!C81","v":45054}]
[null,null,null,null,null,null,null,null,null,null,null,null,null,null,null,null,null,null,null,null,null,null,null,null,null,null,null,null,{"$f":"IF(AND(REFERENTES!C84<>\"\",          REFERENTES!C84<>96321,    REFERENTES!C84<>96222            ),(REFERENTES!E84),\"\")","v":0},{"$f":"REFERENTES!C84","v":48753},null,82,"ubicada en el sector de la ciénaga galo en la zona de uso sostenible de la bahía de cispata, con predominancia de la especie Rhizophora mangle, con arboles de gran tamaño, sanos y con bajos niveles de inundación.",82,"Ubicada a 120 m al Oriente de la cabaña de pescador, sobre la orilla sur de la madre vieja  a pocos metros del lindero. Suelos pantanosos y encharcados."," ",null,{"$f":"CONCATENATE(REFERENTES!A82,\"(\",REFERENTES!B82,\")\")","v":"Ciénaga El Garzal-3(BCISEST-ZUS1-elgarzal3-1)"},{"$f":"REFERENTES!C82","v":45145}]
[null,null,null,null,null,null,null,null,null,null,null,null,null,null,null,null,null,null,null,null,null,null,null,null,null,null,null,null,{"$f":"IF(AND(REFERENTES!C85<>\"\",          REFERENTES!C85<>96321,    REFERENTES!C85<>96222            ),(REFERENTES!E85),\"\")","v":"parcela fija (2 subparcelas). Estación Manglar Manzanillo (formada por 2 parcelas circulares): Manglar localizado al sur de la isla, constituido principalmente por Rhizophora mangle, como especie dominante y por Laguncularia racemosa. Se encuentra detrás de una barra arenosa y en su interior tiene un pequeño canal central en el que se acumulan aguas derivadas de la escorrentía y de un arroyo que se forma en época de lluvias, proveniente de Murray Hills. Tiene una cobertura de manglar de 1,59 ha (INVEMAR-CORALINA, 2016)."},{"$f":"REFERENTES!C85","v":49325},null,83,0,1290,"A lo largo de toda la parcela se encuentran islotes de R. mangle con raíces de más de dos metros de alto y A. germinans en el sector final.., inundación a lo largo de toda la estación.  poca regeneración natural, se evidencia tala."," ",null,{"$f":"CONCATENATE(REFERENTES!A83,\"(\",REFERENTES!B83,\")\")","v":"Ciénaga Galo(BCISEST-ZR1-golo-1)"},{"$f":"REFERENTES!C83","v":45118}]
[null,null,null,null,null,null,null,null,null,null,null,null,null,null,null,null,null,null,null,null,null,null,null,null,null,null,null,null,{"$f":"IF(AND(REFERENTES!C86<>\"\",          REFERENTES!C86<>96321,    REFERENTES!C86<>96222            ),(REFERENTES!E86),\"\")","v":0},{"$f":"REFERENTES!C86","v":48766},null,84,"parcela fija (2 subparcelas). Estación Manglar Manzanillo (formada por 2 parcelas circulares): Manglar localizado al sur de la isla, constituido principalmente por Rhizophora mangle, como especie dominante y por Laguncularia racemosa. Se encuentra detrás de una barra arenosa y en su interior tiene un pequeño canal central en el que se acumulan aguas derivadas de la escorrentía y de un arroyo que se forma en época de lluvias, proveniente de Murray Hills. Tiene una cobertura de manglar de 1,59 ha (INVEMAR-CORALINA, 2016).",84,"Ubicada en la antigua Camaronera, con fuerte influencia antrópica, principalmente por aprovechamiento forestal de mangle con evidencia de huellas de aprovechamiento. La especie predominante es A. germinans. Bajos niveles de inundación."," ",null,{"$f":"CONCATENATE(REFERENTES!A84,\"(\",REFERENTES!B84,\")\")","v":"Ciénaga Galo(BCISEST-ZUS1-CgGalo-1)"},{"$f":"REFERENTES!C84","v":48753}]
[null,null,null,null,null,null,null,null,null,null,null,null,null,null,null,null,null,null,null,null,null,null,null,null,null,null,null,null,{"$f":"IF(AND(REFERENTES!C87<>\"\",          REFERENTES!C87<>96321,    REFERENTES!C87<>96222            ),(REFERENTES!E87),\"\")","v":"la parcela cuenta con un gran numero de arboles de la especie Rhizophora mangle, de gran tamaño, y con un gran porcentaje de regeneración natural en un estado sano."},{"$f":"REFERENTES!C87","v":45121},null,85,0,1290,"Parcela Caricomp (2 circulares): 2016"," ",null,{"$f":"CONCATENATE(REFERENTES!A85,\"(\",REFERENTES!B85,\")\")","v":"Ciénaga Manzanillo-1(MABA-ZP1-Manzanillo-1)"},{"$f":"REFERENTES!C85","v":49325}]
[null,null,null,null,null,null,null,null,null,null,null,null,null,null,null,null,null,null,null,null,null,null,null,null,null,null,null,null,{"$f":"IF(AND(REFERENTES!C88<>\"\",          REFERENTES!C88<>96321,    REFERENTES!C88<>96222            ),(REFERENTES!E88),\"\")","v":"la parcela esta ubicada en la ciénaga remedia pobre que esta situada en el subsector de aprovechamiento del DMI con una baja densidad de arboles por parcela y con predominancia de la especia Rhiphora mangle"},{"$f":"REFERENTES!C88","v":45136},null,86,"la parcela cuenta con un gran numero de arboles de la especie Rhizophora mangle, de gran tamaño, y con un gran porcentaje de regeneración natural en un estado sano.",86,"Estación Manglar El Cove (formada por 2 parcelas circulares): Es un manglar de borde, ubicado en el costado oriental en la parte media de la Isla, que presenta una cobertura de 2,20 ha (INVEMAR-CORALINA, 2016)."," ",null,{"$f":"CONCATENATE(REFERENTES!A86,\"(\",REFERENTES!B86,\")\")","v":"Ciénaga Mestizos-1(BCISLIT-ZP1-CgMestizo-1)"},{"$f":"REFERENTES!C86","v":48766}]
[null,null,null,null,null,null,null,null,null,null,null,null,null,null,null,null,null,null,null,null,null,null,null,null,null,null,null,null,{"$f":"IF(AND(REFERENTES!C89<>\"\",          REFERENTES!C89<>96321,    REFERENTES!C89<>96222            ),(REFERENTES!E89),\"\")","v":"la parcela esta ubicada en el sector el rincón del grillo en la zona de uso sostenible de la bahía de cispata, con predominancia de la especie Rhizopora mangle, con arboles de gran tamaño, se encuentran algunas lianas y elechales"},{"$f":"REFERENTES!C89","v":45125},null,87,"la parcela esta ubicada en la ciénaga remedia pobre que esta situada en el subsector de aprovechamiento del DMI con una baja densidad de arboles por parcela y con predominancia de la especia Rhiphora mangle",87,"Franja delgada de mangle distribuidos en una franja conformada hacia el extremo derecho por árboles adultos, y el extremo izquierdo solo plántulas con tamaños entre 1,60 y 2 metros de altura."," ",null,{"$f":"CONCATENATE(REFERENTES!A87,\"(\",REFERENTES!B87,\")\")","v":"Ciénaga Ostional-1(BCISEST-ZUS2-ostional-1)"},{"$f":"REFERENTES!C87","v":45121}]
[null,null,null,null,null,null,null,null,null,null,null,null,null,null,null,null,null,null,null,null,null,null,null,null,null,null,null,null,{"$f":"IF(AND(REFERENTES!C90<>\"\",          REFERENTES!C90<>96321,    REFERENTES!C90<>96222            ),(REFERENTES!E90),\"\")","v":"esta parcela esta predominada por la especie Rhizopora mangle, se presenta muerte descendente en algunos arboles y muchos presentan una condición de raquitismo, también  existen algunas lianas"},{"$f":"REFERENTES!C90","v":45142},null,88,"la parcela esta ubicada en el sector el rincón del grillo en la zona de uso sostenible de la bahía de cispata, con predominancia de la especie Rhizopora mangle, con arboles de gran tamaño, se encuentran algunas lianas y elechales",88,"SE PUEDE CONSIDERAR UNO DE LOS MANGLARES MAS DESARROLLADOS EN DIÁMETRO Y ALTURA DE NARIÑO. CON DOMINANCIA DEL MANGLE ROJO. ALTA DENSIDAD DE RAÍCES Y PRESENCIA DEL HELECHO RANCONCHA. AFECTADO POR TALAS."," ",null,{"$f":"CONCATENATE(REFERENTES!A88,\"(\",REFERENTES!B88,\")\")","v":"Ciénaga Remedia Pobre-1(BCISEST-ZUS1-remediapobre-1)"},{"$f":"REFERENTES!C88","v":45136}]
[null,null,null,null,null,null,null,null,null,null,null,null,null,null,null,null,null,null,null,null,null,null,null,null,null,null,null,null,{"$f":"IF(AND(REFERENTES!C91<>\"\",          REFERENTES!C91<>96321,    REFERENTES!C91<>96222            ),(REFERENTES!E91),\"\")","v":0},{"$f":"REFERENTES!C91","v":48769},null,89,"esta parcela esta predominada por la especie Rhizopora mangle, se presenta muerte descendente en algunos arboles y muchos presentan una condición de raquitismo, también  existen algunas lianas",89,"BOSQUE DE MANGLE ROJO BIEN DESARROLLADO CON SU ESTRUCTURA VERTICAL Y HORIZONTAL INTERVENIDAS. POCA REGENERACIÓN NATURAL"," ",null,{"$f":"CONCATENATE(REFERENTES!A89,\"(\",REFERENTES!B89,\")\")","v":"Ciénaga Rincon Grillo-1(BCISEST-ZUS4-elgrillo-1)"},{"$f":"REFERENTES!C89","v":45125}]
[null,null,null,null,null,null,null,null,null,null,null,null,null,null,null,null,null,null,null,null,null,null,null,null,null,null,null,null,{"$f":"IF(AND(REFERENTES!C92<>\"\",          REFERENTES!C92<>96321,    REFERENTES!C92<>96222            ),(REFERENTES!E92),\"\")","v":0},{"$f":"REFERENTES!C92","v":41479},null,90,0,1290,"Parcela rectangular de 0.1 ha, ubicada a 730 m aproximadamente al Norte de Tribugá, en la margen izquierda del Estero Puerquera. Su cobertura forestal corresponde a un bosque monoespecífico de Rhizophora mangle."," ",null,{"$f":"CONCATENATE(REFERENTES!A90,\"(\",REFERENTES!B90,\")\")","v":"Ciénaga Soledad(BCISEST-ZR1-soledad-1)"},{"$f":"REFERENTES!C90","v":45142}]
[null,null,null,null,null,null,null,null,null,null,null,null,null,null,null,null,null,null,null,null,null,null,null,null,null,null,null,null,{"$f":"IF(AND(REFERENTES!C93<>\"\",          REFERENTES!C93<>96321,    REFERENTES!C93<>96222            ),(REFERENTES!E93),\"\")","v":"Estación Manglar Cocoplum (formada por 3 parcelas circulares):Manglar de cuenca o interior, localizado en el costado oriental de la Isla, en la zona media. Se encuentra separado del mar por la carretera y se desarrolla detrás de formaciones vegetales distintas al manglar, en las que algunas de ellas son de tipo xerófila que crecen sobre arenas formando matorrales. Este manglar está conformado por Rhizophora mangle, Laguncularia racemosa, Avicennia germinans y baja frecuencia de Conocarpus erectus. Altura promedio de los árboles de 8,1 m. Presenta contaminación proveniente del asentamiento vecino conocido como Nueva Guinea, causante del vertimiento de aguas residuales y mala disposición de residuos sólidos, así como de una porqueriza localizada muy cerca del manglar. Hay evidencia de actividades de tala en su interior y de rellenos. Tiene una extensión de manglar de 38,53 ha (INVEMAR-CORALINA, 2016)."},{"$f":"REFERENTES!C93","v":55552},null,91,0,1290,"Parcela rectangular de 0.1 ha, ubicada a 730 m aproximadamente al Norte de Tribugá, en la margen izquierda del Estero Puerquera. Su cobertura forestal corresponde a un bosque monoespecífico de Rhizophora mangle."," ",null,{"$f":"CONCATENATE(REFERENTES!A91,\"(\",REFERENTES!B91,\")\")","v":"Ciénaga la Balsa-1(BCISLIT-ZUS1-CñBalsa-1)"},{"$f":"REFERENTES!C91","v":48769}]
[null,null,null,null,null,null,null,null,null,null,null,null,null,null,null,null,null,null,null,null,null,null,null,null,null,null,null,null,{"$f":"IF(AND(REFERENTES!C94<>\"\",          REFERENTES!C94<>96321,    REFERENTES!C94<>96222            ),(REFERENTES!E94),\"\")","v":"Estación Manglar Cocoplum (formada por 3 parcelas circulares):Manglar de cuenca o interior, localizado en el costado oriental de la Isla, en la zona media. Se encuentra separado del mar por la carretera y se desarrolla detrás de formaciones vegetales distintas al manglar, en las que algunas de ellas son de tipo xerófila que crecen sobre arenas formando matorrales. Este manglar está conformado por Rhizophora mangle, Laguncularia racemosa, Avicennia germinans y baja frecuencia de Conocarpus erectus. Altura promedio de los árboles de 8,1 m. Presenta contaminación proveniente del asentamiento vecino conocido como Nueva Guinea, causante del vertimiento de aguas residuales y mala disposición de residuos sólidos, así como de una porqueriza localizada muy cerca del manglar. Hay evidencia de actividades de tala en su interior y de rellenos. Tiene una extensión de manglar de 38,53 ha (INVEMAR-CORALINA, 2016)."},{"$f":"REFERENTES!C94","v":55553},null,92,"Estación Manglar Cocoplum (formada por 3 parcelas circulares):Manglar de cuenca o interior, localizado en el costado oriental de la Isla, en la zona media. Se encuentra separado del mar por la carretera y se desarrolla detrás de formaciones vegetales distintas al manglar, en las que algunas de ellas son de tipo xerófila que crecen sobre arenas formando matorrales. Este manglar está conformado por Rhizophora mangle, Laguncularia racemosa, Avicennia germinans y baja frecuencia de Conocarpus erectus. Altura promedio de los árboles de 8,1 m. Presenta contaminación proveniente del asentamiento vecino conocido como Nueva Guinea, causante del vertimiento de aguas residuales y mala disposición de residuos sólidos, así como de una porqueriza localizada muy cerca del manglar. Hay evidencia de actividades de tala en su interior y de rellenos. Tiene una extensión de manglar de 38,53 ha (INVEMAR-CORALINA, 2016).",92,"Costado oriental de la ensenada con bosque denso y presencia de R.mangle, L. racemosa  y algunos E. germinans.  Se muestreo como especie predominante el R. mangle acompañada de L. racemosa.  Bosque denso con buena altura en algunos árboles se observó ataque de Teredo al igual que la presencia de agallas."," ",null,{"$f":"CONCATENATE(REFERENTES!A92,\"(\",REFERENTES!B92,\")\")","v":"Cocoplum B-1(COCO-ZP1-CO-1)"},{"$f":"REFERENTES!C92","v":41479}]
[null,null,null,null,null,null,null,null,null,null,null,null,null,null,null,null,null,null,null,null,null,null,null,null,null,null,null,null,{"$f":"IF(AND(REFERENTES!C95<>\"\",          REFERENTES!C95<>96321,    REFERENTES!C95<>96222            ),(REFERENTES!E95),\"\")","v":"Ubicada a 5.2 km aproximadamente de la localidad de Juradó, en la cabecera de un pequeño Estero que se comunica con el Estero que comunica a Juradó con Curiche; su composición forestal está dada por la presencia de cuatro (4) especies a saber: Mora oleifera, Pelliciera rhizophorae, Rhizophora mangle y Rhizophora recamosa. La parcela está limitada en su parte Este por un  Catival."},{"$f":"REFERENTES!C95","v":45429},null,93,"Estación Manglar Cocoplum (formada por 3 parcelas circulares):Manglar de cuenca o interior, localizado en el costado oriental de la Isla, en la zona media. Se encuentra separado del mar por la carretera y se desarrolla detrás de formaciones vegetales distintas al manglar, en las que algunas de ellas son de tipo xerófila que crecen sobre arenas formando matorrales. Este manglar está conformado por Rhizophora mangle, Laguncularia racemosa, Avicennia germinans y baja frecuencia de Conocarpus erectus. Altura promedio de los árboles de 8,1 m. Presenta contaminación proveniente del asentamiento vecino conocido como Nueva Guinea, causante del vertimiento de aguas residuales y mala disposición de residuos sólidos, así como de una porqueriza localizada muy cerca del manglar. Hay evidencia de actividades de tala en su interior y de rellenos. Tiene una extensión de manglar de 38,53 ha (INVEMAR-CORALINA, 2016).",93,"Parcela de prueba perdidas Antioquia 2015"," ",null,{"$f":"CONCATENATE(REFERENTES!A93,\"(\",REFERENTES!B93,\")\")","v":"Cocoplum parcela circular-2(CocoplumPPC-2)"},{"$f":"REFERENTES!C93","v":55552}]
[null,null,null,null,null,null,null,null,null,null,null,null,null,null,null,null,null,null,null,null,null,null,null,null,null,null,null,null,{"$f":"IF(AND(REFERENTES!C96<>\"\",          REFERENTES!C96<>96321,    REFERENTES!C96<>96222            ),(REFERENTES!E96),\"\")","v":"Ubicada a 5.2 km aproximadamente de la localidad de Juradó, en la cabecera de un pequeño Estero que se comunica con el Estero que comunica a Juradó con Curiche; su composición forestal está dada por la presencia de cuatro (4) especies a saber: Mora oleifera, Pelliciera rhizophorae, Rhizophora mangle y Rhizophora recamosa. La parcela está limitada en su parte Este por una asociación  Catival."},{"$f":"REFERENTES!C96","v":45575},null,94,"Ubicada a 5.2 km aproximadamente de la localidad de Juradó, en la cabecera de un pequeño Estero que se comunica con el Estero que comunica a Juradó con Curiche; su composición forestal está dada por la presencia de cuatro (4) especies a saber: Mora oleifera, Pelliciera rhizophorae, Rhizophora mangle y Rhizophora recamosa. La parcela está limitada en su parte Este por un  Catival.",94,"Manglar altamente intervenido con predominio de mangle.Ubicada en el estero aguacate frente TC buen"," ",null,{"$f":"CONCATENATE(REFERENTES!A94,\"(\",REFERENTES!B94,\")\")","v":"Cocoplum parcela circular-3(CocoplumPPC-3)"},{"$f":"REFERENTES!C94","v":55553}]
[null,null,null,null,null,null,null,null,null,null,null,null,null,null,null,null,null,null,null,null,null,null,null,null,null,null,null,null,{"$f":"IF(AND(REFERENTES!C97<>\"\",          REFERENTES!C97<>96321,    REFERENTES!C97<>96222            ),(REFERENTES!E97),\"\")","v":"La parcela se encuentra en el sur del parche de manglar de mayor extensión ubicado al sur del sector. Se localiza 40 m al norte del espolón, a 14 m de la playa, el inicio de la parcela da a pocos metros un camino y la parte final a una pequeña cuneta de agua. Constituida por las 4 especies de mangle reportadas para el Dpto. con predominio de A. germinans."},{"$f":"REFERENTES!C97","v":45301},null,95,"Ubicada a 5.2 km aproximadamente de la localidad de Juradó, en la cabecera de un pequeño Estero que se comunica con el Estero que comunica a Juradó con Curiche; su composición forestal está dada por la presencia de cuatro (4) especies a saber: Mora oleifera, Pelliciera rhizophorae, Rhizophora mangle y Rhizophora recamosa. La parcela está limitada en su parte Este por una asociación  Catival.",95,"En síntesis se esperaba que este sector se encontrara en mejores condiciones,  pero por la gran cantidad de árboles pequeños a pesar de tener el mayor área basal, se puede considerar que este es un bosque altamente intervenido en contraposición con la zonificación 2007 que lo cataloga como poco intervenido."," ",null,{"$f":"CONCATENATE(REFERENTES!A95,\"(\",REFERENTES!B95,\")\")","v":"Concho(Curch-ZUS1-Concho-1)"},{"$f":"REFERENTES!C95","v":45429}]
[null,null,null,null,null,null,null,null,null,null,null,null,null,null,null,null,null,null,null,null,null,null,null,null,null,null,null,null,{"$f":"IF(AND(REFERENTES!C98<>\"\",          REFERENTES!C98<>96321,    REFERENTES!C98<>96222            ),(REFERENTES!E98),\"\")","v":"La parcela se encuentra en el norte del parche de manglar de mayor extensión ubicado al sur del sector. Se localiza a  600 m al sur de la desembocadura del rio Córdoba, a 20 m la playa. Dentro de la parcela predomina L. racemosa, R. mangle y presencia de C. erectus,  los suelos que dan a la playa son arenosos y firmes."},{"$f":"REFERENTES!C98","v":45297},null,96,"La parcela se encuentra en el sur del parche de manglar de mayor extensión ubicado al sur del sector. Se localiza 40 m al norte del espolón, a 14 m de la playa, el inicio de la parcela da a pocos metros un camino y la parte final a una pequeña cuneta de agua. Constituida por las 4 especies de mangle reportadas para el Dpto. con predominio de A. germinans.",96,"Manglar altamente intervenido con predominio de mangle.Ubicada en el estero piñal frente al muelle de Sociedad portuaria"," ",null,{"$f":"CONCATENATE(REFERENTES!A96,\"(\",REFERENTES!B96,\")\")","v":"Concho(JURA-ZUS1-Concho-1)"},{"$f":"REFERENTES!C96","v":45575}]
[null,null,null,null,null,null,null,null,null,null,null,null,null,null,null,null,null,null,null,null,null,null,null,null,null,null,null,null,{"$f":"IF(AND(REFERENTES!C99<>\"\",          REFERENTES!C99<>96321,    REFERENTES!C99<>96222            ),(REFERENTES!E99),\"\")","v":"Parcela sencilla de 20 m de ancho x 50 m de largo"},{"$f":"REFERENTES!C99","v":45489},null,97,"La parcela se encuentra en el norte del parche de manglar de mayor extensión ubicado al sur del sector. Se localiza a  600 m al sur de la desembocadura del rio Córdoba, a 20 m la playa. Dentro de la parcela predomina L. racemosa, R. mangle y presencia de C. erectus,  los suelos que dan a la playa son arenosos y firmes.",97,"Manglar altamente intervenido, con presencia de residuos solidos en descomposición. Ubicada en el estero san antonio frente al puente al sena"," ",null,{"$f":"CONCATENATE(REFERENTES!A97,\"(\",REFERENTES!B97,\")\")","v":"Costa Verde P1(COR-ZP1-CtaVerde-1)"},{"$f":"REFERENTES!C97","v":45301}]
[null,null,null,null,null,null,null,null,null,null,null,null,null,null,null,null,null,null,null,null,null,null,null,null,null,null,null,null,{"$f":"IF(AND(REFERENTES!C100<>\"\",          REFERENTES!C100<>96321,    REFERENTES!C100<>96222            ),(REFERENTES!E100),\"\")","v":0},{"$f":"REFERENTES!C100","v":58076},null,98,"Parcela sencilla de 20 m de ancho x 50 m de largo",98,"Manglar altamente intervenido, con presencia de residuos sólidos en descomposición. Ubicada en el estero san antonio frente al puente del piñal"," ",null,{"$f":"CONCATENATE(REFERENTES!A98,\"(\",REFERENTES!B98,\")\")","v":"Costa Verde R1(COR-ZR1-CtaVerde-1)"},{"$f":"REFERENTES!C98","v":45297}]
[null,null,null,null,null,null,null,null,null,null,null,null,null,null,null,null,null,null,null,null,null,null,null,null,null,null,null,null,{"$f":"IF(AND(REFERENTES!C101<>\"\",          REFERENTES!C101<>96321,    REFERENTES!C101<>96222            ),(REFERENTES!E101),\"\")","v":0},{"$f":"REFERENTES!C101","v":58077},null,99,0,1290,"manglar altamente intervenido con buena asociacion de especies de manglar"," ",null,{"$f":"CONCATENATE(REFERENTES!A99,\"(\",REFERENTES!B99,\")\")","v":"Cuerval(CUER-ZP2-CUERVAL-1)"},{"$f":"REFERENTES!C99","v":45489}]
[null,null,null,null,null,null,null,null,null,null,null,null,null,null,null,null,null,null,null,null,null,null,null,null,null,null,null,null,{"$f":"IF(AND(REFERENTES!C102<>\"\",          REFERENTES!C102<>96321,    REFERENTES!C102<>96222            ),(REFERENTES!E102),\"\")","v":0},{"$f":"REFERENTES!C102","v":58078},null,100,0,1290,"Se localiza en el costado Oriental  a 500 m de la desembocadura del río Guachaca, la parcela  va desde la playa, atraviesa un cuerpo de agua llegando a un potrero en el patio de una vivienda. Con suelos firmes a encharcados."," ",null,{"$f":"CONCATENATE(REFERENTES!A100,\"(\",REFERENTES!B100,\")\")","v":"DCI CLARIN PARCELA1(DCI_P1)"},{"$f":"REFERENTES!C100","v":58076}]
[null,null,null,null,null,null,null,null,null,null,null,null,null,null,null,null,null,null,null,null,null,null,null,null,null,null,null,null,{"$f":"IF(AND(REFERENTES!C103<>\"\",          REFERENTES!C103<>96321,    REFERENTES!C103<>96222            ),(REFERENTES!E103),\"\")","v":0},{"$f":"REFERENTES!C103","v":58060},null,101,0,1290,"El bosque de manglar de Dagua presenta características muy especiales.  Por un lado tiene una distribución diamétrica del número de árboles en forma de J invertida que permite garantizar la dinámica sucesional bosque. Por otro lado el análisis de la estructura vertical del bosque permite visualizar la fragmentación del bosque que concuerda con la zonificación de bosque altamente intervenido."," ",null,{"$f":"CONCATENATE(REFERENTES!A101,\"(\",REFERENTES!B101,\")\")","v":"DCI CLARIN PARCELA2(DCI_P2)"},{"$f":"REFERENTES!C101","v":58077}]
[null,null,null,null,null,null,null,null,null,null,null,null,null,null,null,null,null,null,null,null,null,null,null,null,null,null,null,null,{"$f":"IF(AND(REFERENTES!C104<>\"\",          REFERENTES!C104<>96321,    REFERENTES!C104<>96222            ),(REFERENTES!E104),\"\")","v":0},{"$f":"REFERENTES!C104","v":58061},null,102,0,1290,"En términos generales se puede considerar que por el área basal,  el número de árboles, la estructura vertical y la cobertura de copas, este bosque corresponde a un manglar Medianamente Intervenido,  lo que hace evidente la importancia de actualizar la zonificación ya que este sitio se encuentra clasificado actualmente  en la categoría de altamente intervenido."," ",null,{"$f":"CONCATENATE(REFERENTES!A102,\"(\",REFERENTES!B102,\")\")","v":"DCI CLARIN PARCELA3(DCI_P3)"},{"$f":"REFERENTES!C102","v":58078}]
[null,null,null,null,null,null,null,null,null,null,null,null,null,null,null,null,null,null,null,null,null,null,null,null,null,null,null,null,{"$f":"IF(AND(REFERENTES!C105<>\"\",          REFERENTES!C105<>96321,    REFERENTES!C105<>96222            ),(REFERENTES!E105),\"\")","v":0},{"$f":"REFERENTES!C105","v":58062},null,103,0,1290,"Ubicado en un islote, con el sustrato del borde de material calcáreo, R. mangle como especie dominante con raíces fulcreas abundantes.  Bosque en buen estado, algunos troncos secos y muertos."," ",null,{"$f":"CONCATENATE(REFERENTES!A103,\"(\",REFERENTES!B103,\")\")","v":"DCI PARCELA1(DCI_P1)"},{"$f":"REFERENTES!C103","v":58060}]
[null,null,null,null,null,null,null,null,null,null,null,null,null,null,null,null,null,null,null,null,null,null,null,null,null,null,null,null,{"$f":"IF(AND(REFERENTES!C106<>\"\",          REFERENTES!C106<>96321,    REFERENTES!C106<>96222            ),(REFERENTES!E106),\"\")","v":0},{"$f":"REFERENTES!C106","v":58072},null,104,0,1290,"Localizada  en el extremo Noroccidental de la isla al frente al islote Boquerón pequeño.  Es una parcela compuesta por 5 parcelas y cada una tiene un área de 100 m². Es un bosque joven y en buen estado constituido por las especie R. mangle y A. germinans,"," ",null,{"$f":"CONCATENATE(REFERENTES!A104,\"(\",REFERENTES!B104,\")\")","v":"DCI PARCELA2(DCI_P2)"},{"$f":"REFERENTES!C104","v":58061}]
[null,null,null,null,null,null,null,null,null,null,null,null,null,null,null,null,null,null,null,null,null,null,null,null,null,null,null,null,{"$f":"IF(AND(REFERENTES!C107<>\"\",          REFERENTES!C107<>96321,    REFERENTES!C107<>96222            ),(REFERENTES!E107),\"\")","v":0},{"$f":"REFERENTES!C107","v":58073},null,105,0,1290,"Se ubica al centro norte del Islote. Es una parcela compuesta por 5 parcelas y cada una tiene un área de 100 m²."," ",null,{"$f":"CONCATENATE(REFERENTES!A105,\"(\",REFERENTES!B105,\")\")","v":"DCI PARCELA3(DCI_P3)"},{"$f":"REFERENTES!C105","v":58062}]
[null,null,null,null,null,null,null,null,null,null,null,null,null,null,null,null,null,null,null,null,null,null,null,null,null,null,null,null,{"$f":"IF(AND(REFERENTES!C108<>\"\",          REFERENTES!C108<>96321,    REFERENTES!C108<>96222            ),(REFERENTES!E108),\"\")","v":0},{"$f":"REFERENTES!C108","v":58074},null,106,0,1290,"Se localiza en el costado nororiental del islote, la parcela presenta una densidad que se incrementa a medida que se introduce a tierra firme, conformada por A. germinanas y R. mangle. Es una parcela compuesta, constituida con 5 parcelas y cada una tiene un área de 100 m²."," ",null,{"$f":"CONCATENATE(REFERENTES!A106,\"(\",REFERENTES!B106,\")\")","v":"DSI CLARIN PARCELA1(DSI_P1)"},{"$f":"REFERENTES!C106","v":58072}]
[null,null,null,null,null,null,null,null,null,null,null,null,null,null,null,null,null,null,null,null,null,null,null,null,null,null,null,null,{"$f":"IF(AND(REFERENTES!C109<>\"\",          REFERENTES!C109<>96321,    REFERENTES!C109<>96222            ),(REFERENTES!E109),\"\")","v":0},{"$f":"REFERENTES!C109","v":58064},null,107,0,1290,"esta esta ubicada en la sector de aprovechamiento ciénaga el vertel, con predominancia de la especie Avicenia gerninans, este es uno de los sitios que se mantienen sus condiciones naturales casi intactas,"," ",null,{"$f":"CONCATENATE(REFERENTES!A107,\"(\",REFERENTES!B107,\")\")","v":"DSI CLARIN PARCELA2(DSI_P2)"},{"$f":"REFERENTES!C107","v":58073}]
[null,null,null,null,null,null,null,null,null,null,null,null,null,null,null,null,null,null,null,null,null,null,null,null,null,null,null,null,{"$f":"IF(AND(REFERENTES!C110<>\"\",          REFERENTES!C110<>96321,    REFERENTES!C110<>96222            ),(REFERENTES!E110),\"\")","v":0},{"$f":"REFERENTES!C110","v":58065},null,108,0,1290,"Estación Manglar Jhon Mangrove (formada por 1 parcela circular): Es un manglar de cuenca, ubicado en el costado noroeste de la Isla, que presenta una cobertura de 3,7 ha (INVEMAR-CORALINA, 2016)."," ",null,{"$f":"CONCATENATE(REFERENTES!A108,\"(\",REFERENTES!B108,\")\")","v":"DSI CLARIN PARCELA3(DSI_P3)"},{"$f":"REFERENTES!C108","v":58074}]
[null,null,null,null,null,null,null,null,null,null,null,null,null,null,null,null,null,null,null,null,null,null,null,null,null,null,null,null,{"$f":"IF(AND(REFERENTES!C111<>\"\",          REFERENTES!C111<>96321,    REFERENTES!C111<>96222            ),(REFERENTES!E111),\"\")","v":0},{"$f":"REFERENTES!C111","v":58066},null,109,0,1290,"Parcela 1 monitoreada por el INVEMAR en el marco del ¨Monitoreo de las condiciones ambientales y los cambios estructurales y funcionales de las comunidades vegetales y de los recursos pesqueros durante la rehabilitación de la Ciénaga Grande de Santa Marta¨"," ",null,{"$f":"CONCATENATE(REFERENTES!A109,\"(\",REFERENTES!B109,\")\")","v":"DSI PARCELA1(DSI_P1)"},{"$f":"REFERENTES!C109","v":58064}]
[null,null,null,null,null,null,null,null,null,null,null,null,null,null,null,null,null,null,null,null,null,null,null,null,null,null,null,null,{"$f":"IF(AND(REFERENTES!C112<>\"\",          REFERENTES!C112<>96321,    REFERENTES!C112<>96222            ),(REFERENTES!E112),\"\")","v":"Ubicadas a 150 m al Oriente de la cabaña de pescador, en el orilla Norte de la madre vieja. Es una parcela compuesta constituida con 2 parcelas distanciadas 16 m una de la otra, cada una con área de 100 m², ubicadas una al lado de la otra, paralelas a la línea de agua."},{"$f":"REFERENTES!C112","v":45330},null,110,0,1290,"Parcela 2 monitoreada por el INVEMAR en el marco del ¨Monitoreo de las condiciones ambientales y los cambios estructurales y funcionales de las comunidades vegetales y de los recursos pesqueros durante la rehabilitación de la Ciénaga Grande de Santa Marta¨"," ",null,{"$f":"CONCATENATE(REFERENTES!A110,\"(\",REFERENTES!B110,\")\")","v":"DSI PARCELA2(DSI_P2)"},{"$f":"REFERENTES!C110","v":58065}]
[null,null,null,null,null,null,null,null,null,null,null,null,null,null,null,null,null,null,null,null,null,null,null,null,null,null,null,null,{"$f":"IF(AND(REFERENTES!C113<>\"\",          REFERENTES!C113<>96321,    REFERENTES!C113<>96222            ),(REFERENTES!E113),\"\")","v":"En la costa queda un pequeño relicto denso mejor conservado localizado a lo largo de un canal de aguas, y que desemboca en una cuneta donde se acumula el agua. Se encuentra la especie de mangle L. racemosa,  Este relicto se encuentra rodeado de vegetación secundaria por el borde costero."},{"$f":"REFERENTES!C113","v":45326},null,111,"Ubicadas a 150 m al Oriente de la cabaña de pescador, en el orilla Norte de la madre vieja. Es una parcela compuesta constituida con 2 parcelas distanciadas 16 m una de la otra, cada una con área de 100 m², ubicadas una al lado de la otra, paralelas a la línea de agua.",111,"Parcela 3 monitoreada por el INVEMAR en el marco del ¨Monitoreo de las condiciones ambientales y los cambios estructurales y funcionales de las comunidades vegetales y de los recursos pesqueros durante la rehabilitación de la Ciénaga Grande de Santa Marta¨"," ",null,{"$f":"CONCATENATE(REFERENTES!A111,\"(\",REFERENTES!B111,\")\")","v":"DSI PARCELA3(DSI_P3)"},{"$f":"REFERENTES!C111","v":58066}]
[null,null,null,null,null,null,null,null,null,null,null,null,null,null,null,null,null,null,null,null,null,null,null,null,null,null,null,null,{"$f":"IF(AND(REFERENTES!C114<>\"\",          REFERENTES!C114<>96321,    REFERENTES!C114<>96222            ),(REFERENTES!E114),\"\")","v":"Ubicada a 120 m al Oriente de la cabaña de pescador, sobre la orilla sur de la madre vieja  a pocos metros del lindero. Suelos pantanosos y encharcados."},{"$f":"REFERENTES!C114","v":45332},null,112,"En la costa queda un pequeño relicto denso mejor conservado localizado a lo largo de un canal de aguas, y que desemboca en una cuneta donde se acumula el agua. Se encuentra la especie de mangle L. racemosa,  Este relicto se encuentra rodeado de vegetación secundaria por el borde costero.",112,"Parcela de Manglar CRC"," ",null,{"$f":"CONCATENATE(REFERENTES!A112,\"(\",REFERENTES!B112,\")\")","v":"Don Diego(DDGO-ZR1-DnDieg-1)"},{"$f":"REFERENTES!C112","v":45330}]
[null,null,null,null,null,null,null,null,null,null,null,null,null,null,null,null,null,null,null,null,null,null,null,null,null,null,null,null,{"$f":"IF(AND(REFERENTES!C115<>\"\",          REFERENTES!C115<>96321,    REFERENTES!C115<>96222            ),(REFERENTES!E115),\"\")","v":"A lo largo de toda la parcela se encuentran islotes de R. mangle con raíces de más de dos metros de alto y A. germinans en el sector final.., inundación a lo largo de toda la estación.  poca regeneración natural, se evidencia tala."},{"$f":"REFERENTES!C115","v":44635},null,113,"Ubicada a 120 m al Oriente de la cabaña de pescador, sobre la orilla sur de la madre vieja  a pocos metros del lindero. Suelos pantanosos y encharcados.",113,"esta parcela permanente de crecimiento, con predominancia de especie Avicenia germinans"," ",null,{"$f":"CONCATENATE(REFERENTES!A113,\"(\",REFERENTES!B113,\")\")","v":"Don Diego-1(DDGO-ZP2-DnDieg-1)"},{"$f":"REFERENTES!C113","v":45326}]
[null,null,null,null,null,null,null,null,null,null,null,null,null,null,null,null,null,null,null,null,null,null,null,null,null,null,null,null,{"$f":"IF(AND(REFERENTES!C116<>\"\",          REFERENTES!C116<>96321,    REFERENTES!C116<>96222            ),(REFERENTES!E116),\"\")","v":"Ubicada en la antigua Camaronera, con fuerte influencia antrópica, principalmente por aprovechamiento forestal de mangle con evidencia de huellas de aprovechamiento. La especie predominante es A. germinans. Bajos niveles de inundación."},{"$f":"REFERENTES!C116","v":45012},null,114,"A lo largo de toda la parcela se encuentran islotes de R. mangle con raíces de más de dos metros de alto y A. germinans en el sector final.., inundación a lo largo de toda la estación.  poca regeneración natural, se evidencia tala.",114,"Se ubica a 1.1 km aproximadamente al Noreste de la comunidad de Curiche, en la margen derecha del Estero La Calle; su bosque está compuesto por Rhizophora mangle y Avicennia germinans."," ",null,{"$f":"CONCATENATE(REFERENTES!A114,\"(\",REFERENTES!B114,\")\")","v":"Don Diego-2(DDGO-ZR1-DnDieg-2)"},{"$f":"REFERENTES!C114","v":45332}]
[null,null,null,null,null,null,null,null,null,null,null,null,null,null,null,null,null,null,null,null,null,null,null,null,null,null,null,null,{"$f":"IF(AND(REFERENTES!C117<>\"\",          REFERENTES!C117<>96321,    REFERENTES!C117<>96222            ),(REFERENTES!E117),\"\")","v":"Parcela Caricomp (2 circulares): 2016"},{"$f":"REFERENTES!C117","v":48990},null,115,"Ubicada en la antigua Camaronera, con fuerte influencia antrópica, principalmente por aprovechamiento forestal de mangle con evidencia de huellas de aprovechamiento. La especie predominante es A. germinans. Bajos niveles de inundación.",115,"Se ubica a 1.1 km aproximadamente al Noreste de la comunidad de Curiche, en la margen derecha del Estero La Calle; su bosque está compuesto por Rhizophora mangle y Avicennia germinans."," ",null,{"$f":"CONCATENATE(REFERENTES!A115,\"(\",REFERENTES!B115,\")\")","v":"E La Virgen(JPVI-ZR1-VirgenOriente-1)"},{"$f":"REFERENTES!C115","v":44635}]
[null,null,null,null,null,null,null,null,null,null,null,null,null,null,null,null,null,null,null,null,null,null,null,null,null,null,null,null,{"$f":"IF(AND(REFERENTES!C118<>\"\",          REFERENTES!C118<>96321,    REFERENTES!C118<>96222            ),(REFERENTES!E118),\"\")","v":"Estación Manglar El Cove (formada por 2 parcelas circulares): Es un manglar de borde, ubicado en el costado oriental en la parte media de la Isla, que presenta una cobertura de 2,20 ha (INVEMAR-CORALINA, 2016)."},{"$f":"REFERENTES!C118","v":55556},null,116,"Parcela Caricomp (2 circulares): 2016",116,"parcela ubicada en la zona de recuperación del la bahía de cispata, con predominancia de la especie Avicenia  germinans, con bajos niveles de inundación, con gran cantidad de arboles de gran tamaño y en buen estado."," ",null,{"$f":"CONCATENATE(REFERENTES!A116,\"(\",REFERENTES!B116,\")\")","v":"El Claval(CCISinu-ZUS1-CLAVAL-1)"},{"$f":"REFERENTES!C116","v":45012}]
[null,null,null,null,null,null,null,null,null,null,null,null,null,null,null,null,null,null,null,null,null,null,null,null,null,null,null,null,{"$f":"IF(AND(REFERENTES!C119<>\"\",          REFERENTES!C119<>96321,    REFERENTES!C119<>96222            ),(REFERENTES!E119),\"\")","v":"Franja delgada de mangle distribuidos en una franja conformada hacia el extremo derecho por árboles adultos, y el extremo izquierdo solo plántulas con tamaños entre 1,60 y 2 metros de altura."},{"$f":"REFERENTES!C119","v":44592},null,117,"Estación Manglar El Cove (formada por 2 parcelas circulares): Es un manglar de borde, ubicado en el costado oriental en la parte media de la Isla, que presenta una cobertura de 2,20 ha (INVEMAR-CORALINA, 2016).",117,"esta ubicada en el sub sector de aprovechamiento, remedia pobre, en la zona de uso sostenible del DMI, esta parcela tiene predominancia de la especie Avicemia gerninans, Rhizophora mangle entre otras, los arboles presentan unas condiciones de raquitismo y se encuentran gran cantidad de arboles y ramas muertas, hay huellas de aprovechamiento forestal en esta parcela."," ",null,{"$f":"CONCATENATE(REFERENTES!A117,\"(\",REFERENTES!B117,\")\")","v":"El Cove -1(ElCove-ZP1-Elcove-1)"},{"$f":"REFERENTES!C117","v":48990}]
[null,null,null,null,null,null,null,null,null,null,null,null,null,null,null,null,null,null,null,null,null,null,null,null,null,null,null,null,{"$f":"IF(AND(REFERENTES!C120<>\"\",          REFERENTES!C120<>96321,    REFERENTES!C120<>96222            ),(REFERENTES!E120),\"\")","v":"SE PUEDE CONSIDERAR UNO DE LOS MANGLARES MAS DESARROLLADOS EN DIÁMETRO Y ALTURA DE NARIÑO. CON DOMINANCIA DEL MANGLE ROJO. ALTA DENSIDAD DE RAÍCES Y PRESENCIA DEL HELECHO RANCONCHA. AFECTADO POR TALAS."},{"$f":"REFERENTES!C120","v":45905},null,118,"Franja delgada de mangle distribuidos en una franja conformada hacia el extremo derecho por árboles adultos, y el extremo izquierdo solo plántulas con tamaños entre 1,60 y 2 metros de altura.",118,"la parcela esta ubicada en la zona de uso sostenible del DMI en el sector la flotante en caño nisperal, con predominancia de la especie Rhizophora mangle, con arboles de gran tamaño, las condiciones del bosque son muy buenas existe abundante fauna silvestre benéfica para el sistema manglarico"," ",null,{"$f":"CONCATENATE(REFERENTES!A118,\"(\",REFERENTES!B118,\")\")","v":"El Cove parcela circular-2(ElCovePPC-2)"},{"$f":"REFERENTES!C118","v":55556}]
[null,null,null,null,null,null,null,null,null,null,null,null,null,null,null,null,null,null,null,null,null,null,null,null,null,null,null,null,{"$f":"IF(AND(REFERENTES!C121<>\"\",          REFERENTES!C121<>96321,    REFERENTES!C121<>96222            ),(REFERENTES!E121),\"\")","v":"BOSQUE DE MANGLE ROJO BIEN DESARROLLADO CON SU ESTRUCTURA VERTICAL Y HORIZONTAL INTERVENIDAS. POCA REGENERACIÓN NATURAL"},{"$f":"REFERENTES!C121","v":45404},null,119,"SE PUEDE CONSIDERAR UNO DE LOS MANGLARES MAS DESARROLLADOS EN DIÁMETRO Y ALTURA DE NARIÑO. CON DOMINANCIA DEL MANGLE ROJO. ALTA DENSIDAD DE RAÍCES Y PRESENCIA DEL HELECHO RANCONCHA. AFECTADO POR TALAS.",119,"La parcela se ubica perpendicular a la línea de costa, aproximadamente a un Kilómetro de la comunidad indigena Wayuú asentada en el lugar. En sus aproximaciones se encuentra La Laguna de Buena Vista, que es alimetada por el Río Ranchería y tiene conexión con el mar que permanece abierta prácticamente todo el año (Gil-Torres et al., 2009). Dentro del bosque de manglar, se encuentran suelos fangososo sin compactar altamente inundados; en las zonas exteriores y circundantes al mismo se observan suelos que corresponden a depósitos de materiales calcáreos gruesos y conchas apartadas por el mar. Se observa que la especie dominante es A. germinans (Vidal-Hernández, 2013)_x000D_"," ",null,{"$f":"CONCATENATE(REFERENTES!A119,\"(\",REFERENTES!B119,\")\")","v":"El Mohan-1(BARU-ZR1-Mohán-1)"},{"$f":"REFERENTES!C119","v":44592}]
[null,null,null,null,null,null,null,null,null,null,null,null,null,null,null,null,null,null,null,null,null,null,null,null,null,null,null,null,{"$f":"IF(AND(REFERENTES!C122<>\"\",          REFERENTES!C122<>96321,    REFERENTES!C122<>96222            ),(REFERENTES!E122),\"\")","v":"Parcela rectangular de 0.1 ha, ubicada a 730 m aproximadamente al Norte de Tribugá, en la margen izquierda del Estero Puerquera. Su cobertura forestal corresponde a un bosque monoespecífico de Rhizophora mangle."},{"$f":"REFERENTES!C122","v":45318},null,120,"BOSQUE DE MANGLE ROJO BIEN DESARROLLADO CON SU ESTRUCTURA VERTICAL Y HORIZONTAL INTERVENIDAS. POCA REGENERACIÓN NATURAL",120,"La parcela se ubica perpendicular a la línea de costa, aproximadamente a un Kilómetro de la comunidad indigena Wayuú asentada en el lugar. En sus aproximaciones se encuentra La Laguna de Buena Vista, que es alimetada por el Río Ranchería y tiene conexión con el mar que permanece abierta prácticamente todo el año (Gil-Torres et al., 2009). Dentro del bosque de manglar, se encuentran suelos fangososo sin compactar altamente inundados; en las zonas exteriores y circundantes al mismo se observan suelos que corresponden a depósitos de materiales calcáreos gruesos y conchas apartadas por el mar. Se observa que la especie dominante es A. germinans (Vidal-Hernández, 2013)_x000D_"," ",null,{"$f":"CONCATENATE(REFERENTES!A120,\"(\",REFERENTES!B120,\")\")","v":"El Muerto(ISCUANDE-ZR1-ELMUERTO-1)"},{"$f":"REFERENTES!C120","v":45905}]
[null,null,null,null,null,null,null,null,null,null,null,null,null,null,null,null,null,null,null,null,null,null,null,null,null,null,null,null,{"$f":"IF(AND(REFERENTES!C123<>\"\",          REFERENTES!C123<>96321,    REFERENTES!C123<>96222            ),(REFERENTES!E123),\"\")","v":"Parcela rectangular de 0.1 ha, ubicada a 730 m aproximadamente al Norte de Tribugá, en la margen izquierda del Estero Puerquera. Su cobertura forestal corresponde a un bosque monoespecífico de Rhizophora mangle."},{"$f":"REFERENTES!C123","v":45406},null,121,"Parcela rectangular de 0.1 ha, ubicada a 730 m aproximadamente al Norte de Tribugá, en la margen izquierda del Estero Puerquera. Su cobertura forestal corresponde a un bosque monoespecífico de Rhizophora mangle.",121,"La parcela se ubica perpendicular a la línea de costa, aproximadamente a un Kilómetro de la comunidad indigena Wayuú asentada en el lugar. En sus aproximaciones se encuentra La Laguna de Buena Vista, que es alimetada por el Río Ranchería y tiene conexión con el mar que permanece abierta prácticamente todo el año (Gil-Torres et al., 2009). Dentro del bosque de manglar, se encuentran suelos fangososo sin compactar altamente inundados; en las zonas exteriores y circundantes al mismo se observan suelos que corresponden a depósitos de materiales calcáreos gruesos y conchas apartadas por el mar. Se observa que la especie dominante es A. germinans (Vidal-Hernández, 2013)_x000D_"," ",null,{"$f":"CONCATENATE(REFERENTES!A121,\"(\",REFERENTES!B121,\")\")","v":"Ensenada Miquitos(ENSENADA-ZP2-MIQUITOS-1MIQUITOSCURAY)"},{"$f":"REFERENTES!C121","v":45404}]
[null,null,null,null,null,null,null,null,null,null,null,null,null,null,null,null,null,null,null,null,null,null,null,null,null,null,null,null,{"$f":"IF(AND(REFERENTES!C124<>\"\",          REFERENTES!C124<>96321,    REFERENTES!C124<>96222            ),(REFERENTES!E124),\"\")","v":"Costado oriental de la ensenada con bosque denso y presencia de R.mangle, L. racemosa  y algunos E. germinans.  Se muestreo como especie predominante el R. mangle acompañada de L. racemosa.  Bosque denso con buena altura en algunos árboles se observó ataque de Teredo al igual que la presencia de agallas."},{"$f":"REFERENTES!C124","v":48578},null,122,"Parcela rectangular de 0.1 ha, ubicada a 730 m aproximadamente al Norte de Tribugá, en la margen izquierda del Estero Puerquera. Su cobertura forestal corresponde a un bosque monoespecífico de Rhizophora mangle.",122,"Ubicada en la bocana de Saija, Parcela sencilla de 20 m de ancho x 50 m de largo"," ",null,{"$f":"CONCATENATE(REFERENTES!A122,\"(\",REFERENTES!B122,\")\")","v":"Ensenada Tribuga -1(Tribugá-ZP1-Enstrib-1)"},{"$f":"REFERENTES!C122","v":45318}]
[null,null,null,null,null,null,null,null,null,null,null,null,null,null,null,null,null,null,null,null,null,null,null,null,null,null,null,null,{"$f":"IF(AND(REFERENTES!C125<>\"\",          REFERENTES!C125<>96321,    REFERENTES!C125<>96222            ),(REFERENTES!E125),\"\")","v":"Parcela de prueba perdidas Antioquia 2015"},{"$f":"REFERENTES!C125","v":50305},null,123,"Costado oriental de la ensenada con bosque denso y presencia de R.mangle, L. racemosa  y algunos E. germinans.  Se muestreo como especie predominante el R. mangle acompañada de L. racemosa.  Bosque denso con buena altura en algunos árboles se observó ataque de Teredo al igual que la presencia de agallas.",123,"Para llegar a esta parcela se toma la troncal del Caribe en la vía Riohacha – Maicao que corresponde a la carrera 1C frente a la entrada de la circunvalar. Se llega al parque del sendero ecológico de la laguna y se ingresa al manglar por el costado suroccidental a unos 30 m aproximadamente.  La parcela de monitoreo está localizada en el bosque de cuenca dominado por L. racemosa con alturas máximas de 16 m, de gran porte, junto a árboles de A. germinans muy ramificados desde el tronco y algunos defoliados, con alturas de 6 a 9 m. El suelo es areno fangoso cubierto de una capa gruesa de hojarasca en descomposición, con pocos neumatóforos y abundante regeneración natural de L. racemosa.  (INVEMAR, 20014) _x000D_"," ",null,{"$f":"CONCATENATE(REFERENTES!A123,\"(\",REFERENTES!B123,\")\")","v":"Ensenada Tribuga -2(Tribugá-ZP1-Enstrib-2)"},{"$f":"REFERENTES!C123","v":45406}]
[null,null,null,null,null,null,null,null,null,null,null,null,null,null,null,null,null,null,null,null,null,null,null,null,null,null,null,null,{"$f":"IF(AND(REFERENTES!C126<>\"\",          REFERENTES!C126<>96321,    REFERENTES!C126<>96222            ),(REFERENTES!E126),\"\")","v":"Manglar altamente intervenido con predominio de mangle.Ubicada en el estero aguacate frente TC buen"},{"$f":"REFERENTES!C126","v":47534},null,124,"Parcela de prueba perdidas Antioquia 2015",124,"Estación dominada por A. germinans, con presencia de árboles secos, caídos y algunos troncos partidos"," ",null,{"$f":"CONCATENATE(REFERENTES!A124,\"(\",REFERENTES!B124,\")\")","v":"Ensenada de Rionegro -4(ERIO-ZP8-Errio-4)"},{"$f":"REFERENTES!C124","v":48578}]
[null,null,null,null,null,null,null,null,null,null,null,null,null,null,null,null,null,null,null,null,null,null,null,null,null,null,null,null,{"$f":"IF(AND(REFERENTES!C127<>\"\",          REFERENTES!C127<>96321,    REFERENTES!C127<>96222            ),(REFERENTES!E127),\"\")","v":"En síntesis se esperaba que este sector se encontrara en mejores condiciones,  pero por la gran cantidad de árboles pequeños a pesar de tener el mayor área basal, se puede considerar que este es un bosque altamente intervenido en contraposición con la zonificación 2007 que lo cataloga como poco intervenido."},{"$f":"REFERENTES!C127","v":45832},null,125,"Manglar altamente intervenido con predominio de mangle.Ubicada en el estero aguacate frente TC buen",125,"Al ingreso de la estación y sobre el borde de los 20 metros de ancho de la parcela, el exceso de basura es evidente, acompañado de malos olores.  Parcela dominada por A. germinans, sustrato duro e inundación de 10 cm en promedio.  Algunos árboles secos y muertos, pero no se evidencia tala."," ",null,{"$f":"CONCATENATE(REFERENTES!A125,\"(\",REFERENTES!B125,\")\")","v":"Ensenada de Rionegro -5(ERIO-ZP8-Errio-5)"},{"$f":"REFERENTES!C125","v":50305}]
[null,null,null,null,null,null,null,null,null,null,null,null,null,null,null,null,null,null,null,null,null,null,null,null,null,null,null,null,{"$f":"IF(AND(REFERENTES!C128<>\"\",          REFERENTES!C128<>96321,    REFERENTES!C128<>96222            ),(REFERENTES!E128),\"\")","v":"Manglar altamente intervenido con predominio de mangle.Ubicada en el estero piñal frente al muelle de Sociedad portuaria"},{"$f":"REFERENTES!C128","v":47536},null,126,"En síntesis se esperaba que este sector se encontrara en mejores condiciones,  pero por la gran cantidad de árboles pequeños a pesar de tener el mayor área basal, se puede considerar que este es un bosque altamente intervenido en contraposición con la zonificación 2007 que lo cataloga como poco intervenido.",126,"Suelo inundable con vegetación latizal, agua dulce y salada, estado fitosanitario en buen estado."," ",null,{"$f":"CONCATENATE(REFERENTES!A126,\"(\",REFERENTES!B126,\")\")","v":"Estero Aguacate-1(BB-ZR2-EAg-1)"},{"$f":"REFERENTES!C126","v":47534}]
[null,null,null,null,null,null,null,null,null,null,null,null,null,null,null,null,null,null,null,null,null,null,null,null,null,null,null,null,{"$f":"IF(AND(REFERENTES!C129<>\"\",          REFERENTES!C129<>96321,    REFERENTES!C129<>96222            ),(REFERENTES!E129),\"\")","v":"Manglar altamente intervenido, con presencia de residuos solidos en descomposición. Ubicada en el estero san antonio frente al puente al sena"},{"$f":"REFERENTES!C129","v":47510},null,127,"Manglar altamente intervenido con predominio de mangle.Ubicada en el estero piñal frente al muelle de Sociedad portuaria",127,"Parcela 3 monitoreada por el INVEMAR en el marco del ¨Monitoreo de las condiciones ambientales y los cambios estructurales y funcionales de las comunidades vegetales y de los recursos pesqueros durante la rehabilitación de la Ciénaga Grande de Santa Marta¨"," ",null,{"$f":"CONCATENATE(REFERENTES!A127,\"(\",REFERENTES!B127,\")\")","v":"Estero Pasadero(YURU-ZP2-YEP-1)"},{"$f":"REFERENTES!C127","v":45832}]
[null,null,null,null,null,null,null,null,null,null,null,null,null,null,null,null,null,null,null,null,null,null,null,null,null,null,null,null,{"$f":"IF(AND(REFERENTES!C130<>\"\",          REFERENTES!C130<>96321,    REFERENTES!C130<>96222            ),(REFERENTES!E130),\"\")","v":"Manglar altamente intervenido, con presencia de residuos sólidos en descomposición. Ubicada en el estero san antonio frente al puente del piñal"},{"$f":"REFERENTES!C130","v":47512},null,128,"Manglar altamente intervenido, con presencia de residuos solidos en descomposición. Ubicada en el estero san antonio frente al puente al sena",128,"Parcela 3 monitoreada por el INVEMAR en el marco del ¨Monitoreo de las condiciones ambientales y los cambios estructurales y funcionales de las comunidades vegetales y de los recursos pesqueros durante la rehabilitación de la Ciénaga Grande de Santa Marta¨"," ",null,{"$f":"CONCATENATE(REFERENTES!A128,\"(\",REFERENTES!B128,\")\")","v":"Estero Piñal(BB-ZR2-EAg-2)"},{"$f":"REFERENTES!C128","v":47536}]
[null,null,null,null,null,null,null,null,null,null,null,null,null,null,null,null,null,null,null,null,null,null,null,null,null,null,null,null,{"$f":"IF(AND(REFERENTES!C131<>\"\",          REFERENTES!C131<>96321,    REFERENTES!C131<>96222            ),(REFERENTES!E131),\"\")","v":"manglar altamente intervenido con buena asociacion de especies de manglar"},{"$f":"REFERENTES!C131","v":46022},null,129,"Manglar altamente intervenido, con presencia de residuos sólidos en descomposición. Ubicada en el estero san antonio frente al puente del piñal",129,"Parcela 3 monitoreada por el INVEMAR en el marco del ¨Monitoreo de las condiciones ambientales y los cambios estructurales y funcionales de las comunidades vegetales y de los recursos pesqueros durante la rehabilitación de la Ciénaga Grande de Santa Marta¨"," ",null,{"$f":"CONCATENATE(REFERENTES!A129,\"(\",REFERENTES!B129,\")\")","v":"Estero San Antonio -1(Piñtcb-ZR1-EA-1)"},{"$f":"REFERENTES!C129","v":47510}]
[null,null,null,null,null,null,null,null,null,null,null,null,null,null,null,null,null,null,null,null,null,null,null,null,null,null,null,null,{"$f":"IF(AND(REFERENTES!C132<>\"\",          REFERENTES!C132<>96321,    REFERENTES!C132<>96222            ),(REFERENTES!E132),\"\")","v":0},{"$f":"REFERENTES!C132","v":45888},null,130,{"$f":"IF(AC134=\"\",0,AC134)","v":"manglar altamente intervenido con buena asociacion de especies de manglar"},{"$f":"IF(AG135=0,MAX($AF$6:$AF$1294)+1,AF135)","v":130},{"$f":"IFERROR(VLOOKUP(SMALL($AH$6:$AH$1294,AF135),$AF$6:$AH$1294,2,FALSE),\"X\")","v":"Localiza 15  m del mar. El manglar tiene unl nivel de desarrollo bajo. Esta zona presenta erosión costera y es azotada por los fuertes vientos. Se encuentra llena de residuos sólidos provenientes del mar. En las inmediaciones de la parcela se encuentra un potrero."}," ",null,{"$f":"CONCATENATE(REFERENTES!A130,\"(\",REFERENTES!B130,\")\")","v":"Estero San Antonio -2(Piñtcb-ZR1-EA-2)"},{"$f":"REFERENTES!C130","v":47512}]
[null,null,null,null,null,null,null,null,null,null,null,null,null,null,null,null,null,null,null,null,null,null,null,null,null,null,null,null,{"$f":"IF(AND(REFERENTES!C133<>\"\",          REFERENTES!C133<>96321,    REFERENTES!C133<>96222            ),(REFERENTES!E133),\"\")","v":0},{"$f":"REFERENTES!C133","v":42211},null,131,0,1290,"Se ubica a 58 m de la ciénaga y a 560 m de  la casa más cercana. La parcela presenta mangles de gran talla, característica que va disminuyendo hasta llegar a juveniles hacia el final del bosque. Presenta crecimiento arbustivo y con distribución densa, además están inclinados por los fuertes vientos.  Se observan huecos de cangrejos y neumatóforos. Los suelos son firmes, presenta residuos sólidos provenientes del mar y de la ciénaga."," ",null,{"$f":"CONCATENATE(REFERENTES!A131,\"(\",REFERENTES!B131,\")\")","v":"Estero San Miguel(RAPO-ZR1-ESaM-1)"},{"$f":"REFERENTES!C131","v":46022}]
[null,null,null,null,null,null,null,null,null,null,null,null,null,null,null,null,null,null,null,null,null,null,null,null,null,null,null,null,{"$f":"IF(AND(REFERENTES!C134<>\"\",          REFERENTES!C134<>96321,    REFERENTES!C134<>96222            ),(REFERENTES!E134),\"\")","v":"Se localiza en el costado Oriental  a 500 m de la desembocadura del río Guachaca, la parcela  va desde la playa, atraviesa un cuerpo de agua llegando a un potrero en el patio de una vivienda. Con suelos firmes a encharcados."},{"$f":"REFERENTES!C134","v":45339},null,132,0,1290,"Se localiza a 25 m del mar, al lado de un playón, a 200 m de un camino que pasa por una pequeña ciénaga. Dentro de la parcela  la especie predominante es A. germinans con copas pobres, presentan suelos encharcados y neumatóforos."," ",null,{"$f":"CONCATENATE(REFERENTES!A132,\"(\",REFERENTES!B132,\")\")","v":"Firme Bonito(ANCHI-ZR1-AFB-1)"},{"$f":"REFERENTES!C132","v":45888}]
[null,null,null,null,null,null,null,null,null,null,null,null,null,null,null,null,null,null,null,null,null,null,null,null,null,null,null,null,{"$f":"IF(AND(REFERENTES!C135<>\"\",          REFERENTES!C135<>96321,    REFERENTES!C135<>96222            ),(REFERENTES!E135),\"\")","v":"El bosque de manglar de Dagua presenta características muy especiales.  Por un lado tiene una distribución diamétrica del número de árboles en forma de J invertida que permite garantizar la dinámica sucesional bosque. Por otro lado el análisis de la estructura vertical del bosque permite visualizar la fragmentación del bosque que concuerda con la zonificación de bosque altamente intervenido."},{"$f":"REFERENTES!C135","v":45858},null,133,"Se localiza en el costado Oriental  a 500 m de la desembocadura del río Guachaca, la parcela  va desde la playa, atraviesa un cuerpo de agua llegando a un potrero en el patio de una vivienda. Con suelos firmes a encharcados.",133,"La parcela tine arboles en estado Fustal, infectados por fitoforos algunas arboles de Laguncularia agua estancada"," ",null,{"$f":"CONCATENATE(REFERENTES!A133,\"(\",REFERENTES!B133,\")\")","v":"Guacamayas(GUAC-ZP1-GUACA-1)"},{"$f":"REFERENTES!C133","v":42211}]
[null,null,null,null,null,null,null,null,null,null,null,null,null,null,null,null,null,null,null,null,null,null,null,null,null,null,null,null,{"$f":"IF(AND(REFERENTES!C136<>\"\",          REFERENTES!C136<>96321,    REFERENTES!C136<>96222            ),(REFERENTES!E136),\"\")","v":0},{"$f":"REFERENTES!C136","v":44561},null,134,"El bosque de manglar de Dagua presenta características muy especiales.  Por un lado tiene una distribución diamétrica del número de árboles en forma de J invertida que permite garantizar la dinámica sucesional bosque. Por otro lado el análisis de la estructura vertical del bosque permite visualizar la fragmentación del bosque que concuerda con la zonificación de bosque altamente intervenido.",134,"Dominancia de Avicennia g, con poco de Laguncularia y brinzales de ambas especies."," ",null,{"$f":"CONCATENATE(REFERENTES!A134,\"(\",REFERENTES!B134,\")\")","v":"Guachaca-1(GUA-ZP4-Guachc-1)"},{"$f":"REFERENTES!C134","v":45339}]
[null,null,null,null,null,null,null,null,null,null,null,null,null,null,null,null,null,null,null,null,null,null,null,null,null,null,null,null,{"$f":"IF(AND(REFERENTES!C137<>\"\",          REFERENTES!C137<>96321,    REFERENTES!C137<>96222            ),(REFERENTES!E137),\"\")","v":"En términos generales se puede considerar que por el área basal,  el número de árboles, la estructura vertical y la cobertura de copas, este bosque corresponde a un manglar Medianamente Intervenido,  lo que hace evidente la importancia de actualizar la zonificación ya que este sitio se encuentra clasificado actualmente  en la categoría de altamente intervenido."},{"$f":"REFERENTES!C137","v":45852},null,135,0,1290,"Estación Manglar Manzanillo (formada por 2 parcelas circulares): Manglar localizado al sur de la isla, constituido principalmente por Rhizophora mangle, como especie dominante y por Laguncularia racemosa. Se encuentra detrás de una barra arenosa y en su interior tiene un pequeño canal central en el que se acumulan aguas derivadas de la escorrentía y de un arroyo que se forma en época de lluvias, proveniente de Murray Hills. Tiene una cobertura de manglar de 1,59 ha (INVEMAR-CORALINA, 2016)."," ",null,{"$f":"CONCATENATE(REFERENTES!A135,\"(\",REFERENTES!B135,\")\")","v":"Guadualito(DGUA-ZR3-DG-1)"},{"$f":"REFERENTES!C135","v":45858}]
[null,null,null,null,null,null,null,null,null,null,null,null,null,null,null,null,null,null,null,null,null,null,null,null,null,null,null,null,{"$f":"IF(AND(REFERENTES!C138<>\"\",          REFERENTES!C138<>96321,    REFERENTES!C138<>96222            ),(REFERENTES!E138),\"\")","v":0},{"$f":"REFERENTES!C138","v":58101},null,136,"En términos generales se puede considerar que por el área basal,  el número de árboles, la estructura vertical y la cobertura de copas, este bosque corresponde a un manglar Medianamente Intervenido,  lo que hace evidente la importancia de actualizar la zonificación ya que este sitio se encuentra clasificado actualmente  en la categoría de altamente intervenido.",136,"Estación Manglar Manzanillo (formada por 2 parcelas circulares): Manglar localizado al sur de la isla, constituido principalmente por Rhizophora mangle, como especie dominante y por Laguncularia racemosa. Se encuentra detrás de una barra arenosa y en su interior tiene un pequeño canal central en el que se acumulan aguas derivadas de la escorrentía y de un arroyo que se forma en época de lluvias, proveniente de Murray Hills. Tiene una cobertura de manglar de 1,59 ha (INVEMAR-CORALINA, 2016)."," ",null,{"$f":"CONCATENATE(REFERENTES!A136,\"(\",REFERENTES!B136,\")\")","v":"Hojas Blancas(esza-ZUS1-Hoblan-1)"},{"$f":"REFERENTES!C136","v":44561}]
[null,null,null,null,null,null,null,null,null,null,null,null,null,null,null,null,null,null,null,null,null,null,null,null,null,null,null,null,{"$f":"IF(AND(REFERENTES!C139<>\"\",          REFERENTES!C139<>96321,    REFERENTES!C139<>96222            ),(REFERENTES!E139),\"\")","v":0},{"$f":"REFERENTES!C139","v":58125},null,137,0,1290,"Parcela ubicada en el extremo norte de la Ciénaga de Juan Polo, bordeada por un canal, los primeros 15 metros son de R. mangle en sustrato fangoso y desde allí comienza una franja de A. germinans en terreno duro, al finalizar la parcela se encuentra sustrato duro y limita con el comienzo de vegetación de bosque seco."," ",null,{"$f":"CONCATENATE(REFERENTES!A137,\"(\",REFERENTES!B137,\")\")","v":"Humanes Mar(ANCHI-ZR1-AHM-1)"},{"$f":"REFERENTES!C137","v":45852}]
[null,null,null,null,null,null,null,null,null,null,null,null,null,null,null,null,null,null,null,null,null,null,null,null,null,null,null,null,{"$f":"IF(AND(REFERENTES!C140<>\"\",          REFERENTES!C140<>96321,    REFERENTES!C140<>96222            ),(REFERENTES!E140),\"\")","v":"Ubicado en un islote, con el sustrato del borde de material calcáreo, R. mangle como especie dominante con raíces fulcreas abundantes.  Bosque en buen estado, algunos troncos secos y muertos."},{"$f":"REFERENTES!C140","v":44609},null,138,0,1290,"Sobre al  caño Matunilla, a 40 metros de la orilla, zona heterogénea, manglar caído, zonas inundadas, arboles secos"," ",null,{"$f":"CONCATENATE(REFERENTES!A138,\"(\",REFERENTES!B138,\")\")","v":"INICIO(INICIO_JON)"},{"$f":"REFERENTES!C138","v":58101}]
[null,null,null,null,null,null,null,null,null,null,null,null,null,null,null,null,null,null,null,null,null,null,null,null,null,null,null,null,{"$f":"IF(AND(REFERENTES!C141<>\"\",          REFERENTES!C141<>96321,    REFERENTES!C141<>96222            ),(REFERENTES!E141),\"\")","v":"Localizada  en el extremo Noroccidental de la isla al frente al islote Boquerón pequeño.  Es una parcela compuesta por 5 parcelas y cada una tiene un área de 100 m². Es un bosque joven y en buen estado constituido por las especie R. mangle y A. germinans,"},{"$f":"REFERENTES!C141","v":45281},null,139,"Ubicado en un islote, con el sustrato del borde de material calcáreo, R. mangle como especie dominante con raíces fulcreas abundantes.  Bosque en buen estado, algunos troncos secos y muertos.",139,"La parcela se encuentra paralela a la línea de costa, en una franja de manglar de borde, alargada y de poca anchura, la cual se encuentra interrumpida y separa del mar; en sus aproximaciones se encuentra una laguna costera, a una distancia aproximada de 35m. La zona está atravesada transversalmente por dos caminos, los cuales probablemente son frecuentados por los pescadores del lugar. Dentro de los bosques de manglar se encuentran suelos principalmente arenosos con alto contenido de carbonato de calcio y que pueden ser compactos. Se observa gran cantidad de arena, que en algunos casa llega a cubrir hasta 30cm del punto de anclaje del manglar, probablemente acumulados por erosión costera y la acción de los fuertes vientos (Vidal-Hernández, 2013)_x000D_"," ",null,{"$f":"CONCATENATE(REFERENTES!A139,\"(\",REFERENTES!B139,\")\")","v":"INICIO(INICIO_SAN)"},{"$f":"REFERENTES!C139","v":58125}]
[null,null,null,null,null,null,null,null,null,null,null,null,null,null,null,null,null,null,null,null,null,null,null,null,null,null,null,null,{"$f":"IF(AND(REFERENTES!C142<>\"\",          REFERENTES!C142<>96321,    REFERENTES!C142<>96222            ),(REFERENTES!E142),\"\")","v":"Se ubica al centro norte del Islote. Es una parcela compuesta por 5 parcelas y cada una tiene un área de 100 m²."},{"$f":"REFERENTES!C142","v":45283},null,140,"Localizada  en el extremo Noroccidental de la isla al frente al islote Boquerón pequeño.  Es una parcela compuesta por 5 parcelas y cada una tiene un área de 100 m². Es un bosque joven y en buen estado constituido por las especie R. mangle y A. germinans,",140,"La parcela se encuentra paralela a la línea de costa, en una franja de manglar de borde, alargada y de poca anchura, la cual se encuentra interrumpida y separa del mar; en sus aproximaciones se encuentra una laguna costera, a una distancia aproximada de 35m. La zona está atravesada transversalmente por dos caminos, los cuales probablemente son frecuentados por los pescadores del lugar. Dentro de los bosques de manglar se encuentran suelos principalmente arenosos con alto contenido de carbonato de calcio y que pueden ser compactos. Se observa gran cantidad de arena, que en algunos casa llega a cubrir hasta 30cm del punto de anclaje del manglar, probablemente acumulados por erosión costera y la acción de los fuertes vientos (Vidal-Hernández, 2013)_x000D_"," ",null,{"$f":"CONCATENATE(REFERENTES!A140,\"(\",REFERENTES!B140,\")\")","v":"Ingesa(BCAR-ZP1-Ingesa-1)"},{"$f":"REFERENTES!C140","v":44609}]
[null,null,null,null,null,null,null,null,null,null,null,null,null,null,null,null,null,null,null,null,null,null,null,null,null,null,null,null,{"$f":"IF(AND(REFERENTES!C143<>\"\",          REFERENTES!C143<>96321,    REFERENTES!C143<>96222            ),(REFERENTES!E143),\"\")","v":"Se localiza en el costado nororiental del islote, la parcela presenta una densidad que se incrementa a medida que se introduce a tierra firme, conformada por A. germinanas y R. mangle. Es una parcela compuesta, constituida con 5 parcelas y cada una tiene un área de 100 m²."},{"$f":"REFERENTES!C143","v":45285},null,141,"Se ubica al centro norte del Islote. Es una parcela compuesta por 5 parcelas y cada una tiene un área de 100 m².",141,"La parcela se encuentra paralela a la línea de costa, en una franja de manglar de borde, alargada y de poca anchura, la cual se encuentra interrumpida y separa del mar; en sus aproximaciones se encuentra una laguna costera, a una distancia aproximada de 35m. La zona está atravesada transversalmente por dos caminos, los cuales probablemente son frecuentados por los pescadores del lugar. Dentro de los bosques de manglar se encuentran suelos principalmente arenosos con alto contenido de carbonato de calcio y que pueden ser compactos. Se observa gran cantidad de arena, que en algunos casa llega a cubrir hasta 30cm del punto de anclaje del manglar, probablemente acumulados por erosión costera y la acción de los fuertes vientos (Vidal-Hernández, 2013)_x000D_"," ",null,{"$f":"CONCATENATE(REFERENTES!A141,\"(\",REFERENTES!B141,\")\")","v":"Isla Boqueron -1(CGSM-SZ1-IBoqrn-1)"},{"$f":"REFERENTES!C141","v":45281}]
[null,null,null,null,null,null,null,null,null,null,null,null,null,null,null,null,null,null,null,null,null,null,null,null,null,null,null,null,{"$f":"IF(AND(REFERENTES!C144<>\"\",          REFERENTES!C144<>96321,    REFERENTES!C144<>96222            ),(REFERENTES!E144),\"\")","v":"esta esta ubicada en la sector de aprovechamiento ciénaga el vertel, con predominancia de la especie Avicenia gerninans, este es uno de los sitios que se mantienen sus condiciones naturales casi intactas,"},{"$f":"REFERENTES!C144","v":45151},null,142,"Se localiza en el costado nororiental del islote, la parcela presenta una densidad que se incrementa a medida que se introduce a tierra firme, conformada por A. germinanas y R. mangle. Es una parcela compuesta, constituida con 5 parcelas y cada una tiene un área de 100 m².",142,"Estación Manglar McBean Lagoon (formada por 2 parcelas circulares): El manglar se encuentra localizado en el borde noreste de la Isla, declarado como Parque Nacional Natural del mismo nombre. Esta conformado por manglares de borde y cuenca, de las especies de Rizophora mangle y Avicennia germinans  con una cobertura de 37,1 ha (INVEMAR-CORALINA, 2016)."," ",null,{"$f":"CONCATENATE(REFERENTES!A142,\"(\",REFERENTES!B142,\")\")","v":"Isla Boqueron -2(CGSM-SZ1-IBoqrn-2)"},{"$f":"REFERENTES!C142","v":45283}]
[null,null,null,null,null,null,null,null,null,null,null,null,null,null,null,null,null,null,null,null,null,null,null,null,null,null,null,null,{"$f":"IF(AND(REFERENTES!C145<>\"\",          REFERENTES!C145<>96321,    REFERENTES!C145<>96222            ),(REFERENTES!E145),\"\")","v":"Estación Manglar Jhon Mangrove (formada por 1 parcela circular): Es un manglar de cuenca, ubicado en el costado noroeste de la Isla, que presenta una cobertura de 3,7 ha (INVEMAR-CORALINA, 2016)."},{"$f":"REFERENTES!C145","v":55572},null,143,"esta esta ubicada en la sector de aprovechamiento ciénaga el vertel, con predominancia de la especie Avicenia gerninans, este es uno de los sitios que se mantienen sus condiciones naturales casi intactas,",143,"Estación Manglar McBean Lagoon (formada por 2 parcelas circulares): El manglar se encuentra localizado en el borde noreste de la Isla, declarado como Parque Nacional Natural del mismo nombre. Esta conformado por manglares de borde y cuenca, de las especies de Rizophora mangle y Avicennia germinans  con una cobertura de 37,1 ha (INVEMAR-CORALINA, 2016)."," ",null,{"$f":"CONCATENATE(REFERENTES!A143,\"(\",REFERENTES!B143,\")\")","v":"Isla Boqueron -3(CGSM-SZ1-IBoqrn-3)"},{"$f":"REFERENTES!C143","v":45285}]
[null,null,null,null,null,null,null,null,null,null,null,null,null,null,null,null,null,null,null,null,null,null,null,null,null,null,null,null,{"$f":"IF(AND(REFERENTES!C146<>\"\",          REFERENTES!C146<>96321,    REFERENTES!C146<>96222            ),(REFERENTES!E146),\"\")","v":"Parcela 1 monitoreada por el INVEMAR en el marco del ¨Monitoreo de las condiciones ambientales y los cambios estructurales y funcionales de las comunidades vegetales y de los recursos pesqueros durante la rehabilitación de la Ciénaga Grande de Santa Marta¨"},{"$f":"REFERENTES!C146","v":45907},null,144,"Estación Manglar Jhon Mangrove (formada por 1 parcela circular): Es un manglar de cuenca, ubicado en el costado noroeste de la Isla, que presenta una cobertura de 3,7 ha (INVEMAR-CORALINA, 2016).",144,"Estación Manglar McBean Lagoon (formada por 2 parcelas circulares): El manglar se encuentra localizado en el borde noreste de la Isla, declarado como Parque Nacional Natural del mismo nombre. Esta conformado por manglares de borde y cuenca, de las especies de Rizophora mangle y Avicennia germinans  con una cobertura de 37,1 ha (INVEMAR-CORALINA, 2016)."," ",null,{"$f":"CONCATENATE(REFERENTES!A144,\"(\",REFERENTES!B144,\")\")","v":"Jesus Primera(BCISEST-ZUS1-Jesúsprimera-1)"},{"$f":"REFERENTES!C144","v":45151}]
[null,null,null,null,null,null,null,null,null,null,null,null,null,null,null,null,null,null,null,null,null,null,null,null,null,null,null,null,{"$f":"IF(AND(REFERENTES!C147<>\"\",          REFERENTES!C147<>96321,    REFERENTES!C147<>96222            ),(REFERENTES!E147),\"\")","v":"Parcela 2 monitoreada por el INVEMAR en el marco del ¨Monitoreo de las condiciones ambientales y los cambios estructurales y funcionales de las comunidades vegetales y de los recursos pesqueros durante la rehabilitación de la Ciénaga Grande de Santa Marta¨"},{"$f":"REFERENTES!C147","v":45910},null,145,"Parcela 1 monitoreada por el INVEMAR en el marco del ¨Monitoreo de las condiciones ambientales y los cambios estructurales y funcionales de las comunidades vegetales y de los recursos pesqueros durante la rehabilitación de la Ciénaga Grande de Santa Marta¨",145,"Parcela de 0.1 ha, instalada en la margen izquierda del Estero Muertero, cuya composición floirística está dada por las especies: Rhizophora mangle, Pelliciera Rhizophorae y Mora oleifera."," ",null,{"$f":"CONCATENATE(REFERENTES!A145,\"(\",REFERENTES!B145,\")\")","v":"Jhon Mangrove parcela circular-3(JhonMangrovePPC-1)"},{"$f":"REFERENTES!C145","v":55572}]
[null,null,null,null,null,null,null,null,null,null,null,null,null,null,null,null,null,null,null,null,null,null,null,null,null,null,null,null,{"$f":"IF(AND(REFERENTES!C148<>\"\",          REFERENTES!C148<>96321,    REFERENTES!C148<>96222            ),(REFERENTES!E148),\"\")","v":"Parcela 3 monitoreada por el INVEMAR en el marco del ¨Monitoreo de las condiciones ambientales y los cambios estructurales y funcionales de las comunidades vegetales y de los recursos pesqueros durante la rehabilitación de la Ciénaga Grande de Santa Marta¨"},{"$f":"REFERENTES!C148","v":45912},null,146,"Parcela 2 monitoreada por el INVEMAR en el marco del ¨Monitoreo de las condiciones ambientales y los cambios estructurales y funcionales de las comunidades vegetales y de los recursos pesqueros durante la rehabilitación de la Ciénaga Grande de Santa Marta¨",146,"Parcela de 0.1 ha, instalada en la margen izquierda del Estero Muertero, cuya composición floirística está dada por las especies: Rhizophora mangle, Pelliciera Rhizophorae y Mora oleifera."," ",null,{"$f":"CONCATENATE(REFERENTES!A146,\"(\",REFERENTES!B146,\")\")","v":"Kilómetro 22 -1(VIPIS-SZ1-KM22-1)"},{"$f":"REFERENTES!C146","v":45907}]
[null,null,null,null,null,null,null,null,null,null,null,null,null,null,null,null,null,null,null,null,null,null,null,null,null,null,null,null,{"$f":"IF(AND(REFERENTES!C149<>\"\",          REFERENTES!C149<>96321,    REFERENTES!C149<>96222            ),(REFERENTES!E149),\"\")","v":"Parcela de Manglar CRC"},{"$f":"REFERENTES!C149","v":49587},null,147,"Parcela 3 monitoreada por el INVEMAR en el marco del ¨Monitoreo de las condiciones ambientales y los cambios estructurales y funcionales de las comunidades vegetales y de los recursos pesqueros durante la rehabilitación de la Ciénaga Grande de Santa Marta¨",147,"Este sector  a pesar de tener un bajo valor de área basal y pocos árboles, el diámetro y la altura promedio es mayor que en las otras cuencas conformando un bosque en mayor estado de recuperación.  Así mismo el área basal nos permite visualizar un pequeño pero muy significativo aumento de la cobertura del bosque."," ",null,{"$f":"CONCATENATE(REFERENTES!A147,\"(\",REFERENTES!B147,\")\")","v":"Kilómetro 22 -2(VIPIS-SZ1-KM22-2)"},{"$f":"REFERENTES!C147","v":45910}]
[null,null,null,null,null,null,null,null,null,null,null,null,null,null,null,null,null,null,null,null,null,null,null,null,null,null,null,null,{"$f":"IF(AND(REFERENTES!C150<>\"\",          REFERENTES!C150<>96321,    REFERENTES!C150<>96222            ),(REFERENTES!E150),\"\")","v":"esta parcela permanente de crecimiento, con predominancia de especie Avicenia germinans"},{"$f":"REFERENTES!C150","v":45139},null,148,"Parcela de Manglar CRC",148,"Parcela fija (2 subparcelas) Dominancia de Avicennia germinans y Rhizophora mangle. Estación Manglar Old Town (formada por 2 parcelas circulares): Este manglar está localizado en el costado noroccidental de la Isla, ubicado detrás de una barra de arena de poca elevación. Hacia el norte se extiende detrás de la Capitanía de Puerto de la Dirección General Marítima (DIMAR) y de un centro de acopio de embarcaciones menores. En la parte sur occidental un corto camino separa una pequeña parte del bosque del resto, allí el bosque se extiende detrás de algunas viviendas ubicadas después de una barra. El manglar tiene una extensión de 6,91 ha (INVEMAR-CORALINA, 2016) y es el segundo más representativo de la Isla, después del bosque de manglar de Mc Bean Lagoon (38,8 ha) (INVEMAR-CORALINA, 2016). El bosque está dominado por Avicennia germinans, y hay presencia de R. mangle, que se distribuye principalmente hacia el costado occidental en el borde de la playa, mientras que hacia el sur se evidencian algunos individuos de L. racemosa y C. erectus."," ",null,{"$f":"CONCATENATE(REFERENTES!A148,\"(\",REFERENTES!B148,\")\")","v":"Kilómetro 22 -3(VIPIS-SZ1-KM22-3)"},{"$f":"REFERENTES!C148","v":45912}]
[null,null,null,null,null,null,null,null,null,null,null,null,null,null,null,null,null,null,null,null,null,null,null,null,null,null,null,null,{"$f":"IF(AND(REFERENTES!C151<>\"\",          REFERENTES!C151<>96321,    REFERENTES!C151<>96222            ),(REFERENTES!E151),\"\")","v":0},{"$f":"REFERENTES!C151","v":42198},null,149,"esta parcela permanente de crecimiento, con predominancia de especie Avicenia germinans",149,"Estación Manglar Old Town (formada por 2 parcelas circulares): Este manglar está localizado en el costado noroccidental de la Isla, ubicado detrás de una barra de arena de poca elevación. Hacia el norte se extiende detrás de la Capitanía de Puerto de la Dirección General Marítima (DIMAR) y de un centro de acopio de embarcaciones menores. En la parte sur occidental un corto camino separa una pequeña parte del bosque del resto, allí el bosque se extiende detrás de algunas viviendas ubicadas después de una barra. El manglar tiene una extensión de 6,91 ha (INVEMAR-CORALINA, 2016) y es el segundo más representativo de la Isla, después del bosque de manglar de Mc Bean Lagoon (38,8 ha) (INVEMAR-CORALINA, 2016). El bosque está dominado por Avicennia germinans, y hay presencia de R. mangle, que se distribuye principalmente hacia el costado occidental en el borde de la playa, mientras que hacia el sur se evidencian algunos individuos de L. racemosa y C. erectus."," ",null,{"$f":"CONCATENATE(REFERENTES!A149,\"(\",REFERENTES!B149,\")\")","v":"LAGO(OBRE;CHA-SZ1-LAGO-1)"},{"$f":"REFERENTES!C149","v":49587}]
[null,null,null,null,null,null,null,null,null,null,null,null,null,null,null,null,null,null,null,null,null,null,null,null,null,null,null,null,{"$f":"IF(AND(REFERENTES!C152<>\"\",          REFERENTES!C152<>96321,    REFERENTES!C152<>96222            ),(REFERENTES!E152),\"\")","v":"Se ubica a 1.1 km aproximadamente al Noreste de la comunidad de Curiche, en la margen derecha del Estero La Calle; su bosque está compuesto por Rhizophora mangle y Avicennia germinans."},{"$f":"REFERENTES!C152","v":45433},null,150,0,1290,"Estación Manglar Old Town (formada por 2 parcelas circulares): Este manglar está localizado en el costado noroccidental de la Isla, ubicado detrás de una barra de arena de poca elevación. Hacia el norte se extiende detrás de la Capitanía de Puerto de la Dirección General Marítima (DIMAR) y de un centro de acopio de embarcaciones menores. En la parte sur occidental un corto camino separa una pequeña parte del bosque del resto, allí el bosque se extiende detrás de algunas viviendas ubicadas después de una barra. El manglar tiene una extensión de 6,91 ha (INVEMAR-CORALINA, 2016) y es el segundo más representativo de la Isla, después del bosque de manglar de Mc Bean Lagoon (38,8 ha) (INVEMAR-CORALINA, 2016). El bosque está dominado por Avicennia germinans, y hay presencia de R. mangle, que se distribuye principalmente hacia el costado occidental en el borde de la playa, mientras que hacia el sur se evidencian algunos individuos de L. racemosa y C. erectus."," ",null,{"$f":"CONCATENATE(REFERENTES!A150,\"(\",REFERENTES!B150,\")\")","v":"La Alberca(BCISEST-ZUS1-laalberca-1)"},{"$f":"REFERENTES!C150","v":45139}]
[null,null,null,null,null,null,null,null,null,null,null,null,null,null,null,null,null,null,null,null,null,null,null,null,null,null,null,null,{"$f":"IF(AND(REFERENTES!C153<>\"\",          REFERENTES!C153<>96321,    REFERENTES!C153<>96222            ),(REFERENTES!E153),\"\")","v":"Se ubica a 1.1 km aproximadamente al Noreste de la comunidad de Curiche, en la margen derecha del Estero La Calle; su bosque está compuesto por Rhizophora mangle y Avicennia germinans."},{"$f":"REFERENTES!C153","v":45579},null,151,"Se ubica a 1.1 km aproximadamente al Noreste de la comunidad de Curiche, en la margen derecha del Estero La Calle; su bosque está compuesto por Rhizophora mangle y Avicennia germinans.",151,"manglar altamente intervenido con muchos claros en la estructura del bosque"," ",null,{"$f":"CONCATENATE(REFERENTES!A151,\"(\",REFERENTES!B151,\")\")","v":"La Boquilla(CBOQ-ZR1-BOQU-1)"},{"$f":"REFERENTES!C151","v":42198}]
[null,null,null,null,null,null,null,null,null,null,null,null,null,null,null,null,null,null,null,null,null,null,null,null,null,null,null,null,{"$f":"IF(AND(REFERENTES!C154<>\"\",          REFERENTES!C154<>96321,    REFERENTES!C154<>96222            ),(REFERENTES!E154),\"\")","v":"parcela ubicada en la zona de recuperación del la bahía de cispata, con predominancia de la especie Avicenia  germinans, con bajos niveles de inundación, con gran cantidad de arboles de gran tamaño y en buen estado."},{"$f":"REFERENTES!C154","v":45133},null,152,"Se ubica a 1.1 km aproximadamente al Noreste de la comunidad de Curiche, en la margen derecha del Estero La Calle; su bosque está compuesto por Rhizophora mangle y Avicennia germinans.",152,"parcela medianamente intervenida con predominancia de Rizhophora mangle"," ",null,{"$f":"CONCATENATE(REFERENTES!A152,\"(\",REFERENTES!B152,\")\")","v":"La Calle(Curch-ZP1-Lacalle-1)"},{"$f":"REFERENTES!C152","v":45433}]
[null,null,null,null,null,null,null,null,null,null,null,null,null,null,null,null,null,null,null,null,null,null,null,null,null,null,null,null,{"$f":"IF(AND(REFERENTES!C155<>\"\",          REFERENTES!C155<>96321,    REFERENTES!C155<>96222            ),(REFERENTES!E155),\"\")","v":"esta ubicada en el sub sector de aprovechamiento, remedia pobre, en la zona de uso sostenible del DMI, esta parcela tiene predominancia de la especie Avicemia gerninans, Rhizophora mangle entre otras, los arboles presentan unas condiciones de raquitismo y se encuentran gran cantidad de arboles y ramas muertas, hay huellas de aprovechamiento forestal en esta parcela."},{"$f":"REFERENTES!C155","v":45347},null,153,"parcela ubicada en la zona de recuperación del la bahía de cispata, con predominancia de la especie Avicenia  germinans, con bajos niveles de inundación, con gran cantidad de arboles de gran tamaño y en buen estado.",153,"MANGLAR DE ESTRUCTURA VERTICAL Y HORIZONTAL BIEN DESARROLLADA CON DOMINANCIA DEL MANGLE ROJO. PRESENCIA DE ARBOLES MUERTOS AL PARECER POR EFECTO DE DESCARGA ELÉCTRICA."," ",null,{"$f":"CONCATENATE(REFERENTES!A153,\"(\",REFERENTES!B153,\")\")","v":"La Calle(JURA-ZP1-Laca-1)"},{"$f":"REFERENTES!C153","v":45579}]
[null,null,null,null,null,null,null,null,null,null,null,null,null,null,null,null,null,null,null,null,null,null,null,null,null,null,null,null,{"$f":"IF(AND(REFERENTES!C156<>\"\",          REFERENTES!C156<>96321,    REFERENTES!C156<>96222            ),(REFERENTES!E156),\"\")","v":"la parcela esta ubicada en la zona de uso sostenible del DMI en el sector la flotante en caño nisperal, con predominancia de la especie Rhizophora mangle, con arboles de gran tamaño, las condiciones del bosque son muy buenas existe abundante fauna silvestre benéfica para el sistema manglarico"},{"$f":"REFERENTES!C156","v":45586},null,154,"esta ubicada en el sub sector de aprovechamiento, remedia pobre, en la zona de uso sostenible del DMI, esta parcela tiene predominancia de la especie Avicemia gerninans, Rhizophora mangle entre otras, los arboles presentan unas condiciones de raquitismo y se encuentran gran cantidad de arboles y ramas muertas, hay huellas de aprovechamiento forestal en esta parcela.",154,"Bosque de porte alto.Presencia de R. mangle, L. racemosa y A. germinans.  La sp más abundante y dominante es A. germinans, Presión antrópica relacionada con el aprovechamiento del cangrejo azul, antes utilizaban barbasco, en la actualidad palas hasta sacar los pocos y de pequeñas tallas que quedan."," ",null,{"$f":"CONCATENATE(REFERENTES!A154,\"(\",REFERENTES!B154,\")\")","v":"La Camaronera(BCISEST-ZR1-camaronera-1)"},{"$f":"REFERENTES!C154","v":45133}]
[null,null,null,null,null,null,null,null,null,null,null,null,null,null,null,null,null,null,null,null,null,null,null,null,null,null,null,null,{"$f":"IF(AND(REFERENTES!C157<>\"\",          REFERENTES!C157<>96321,    REFERENTES!C157<>96222            ),(REFERENTES!E157),\"\")","v":"La parcela se ubica perpendicular a la línea de costa, aproximadamente a un Kilómetro de la comunidad indigena Wayuú asentada en el lugar. En sus aproximaciones se encuentra La Laguna de Buena Vista, que es alimetada por el Río Ranchería y tiene conexión con el mar que permanece abierta prácticamente todo el año (Gil-Torres et al., 2009). Dentro del bosque de manglar, se encuentran suelos fangososo sin compactar altamente inundados; en las zonas exteriores y circundantes al mismo se observan suelos que corresponden a depósitos de materiales calcáreos gruesos y conchas apartadas por el mar. Se observa que la especie dominante es A. germinans (Vidal-Hernández, 2013)_x000D_"},{"$f":"REFERENTES!C157","v":41384},null,155,"la parcela esta ubicada en la zona de uso sostenible del DMI en el sector la flotante en caño nisperal, con predominancia de la especie Rhizophora mangle, con arboles de gran tamaño, las condiciones del bosque son muy buenas existe abundante fauna silvestre benéfica para el sistema manglarico",155,"Este bosque presenta características propias de un manglar medianamente intervenido en proceso de recuperación. Se observa una mayor área basal  en el 2015 con respecto al 2007 aunque el análisis comparativo no tiene relación  directa puesto que se trata de dos sitios diferentes aunque muy cercanos"," ",null,{"$f":"CONCATENATE(REFERENTES!A155,\"(\",REFERENTES!B155,\")\")","v":"La Cuenca(BCISEST-ZUS6-lacuenca-1)"},{"$f":"REFERENTES!C155","v":45347}]
[null,null,null,null,null,null,null,null,null,null,null,null,null,null,null,null,null,null,null,null,null,null,null,null,null,null,null,null,{"$f":"IF(AND(REFERENTES!C158<>\"\",          REFERENTES!C158<>96321,    REFERENTES!C158<>96222            ),(REFERENTES!E158),\"\")","v":"La parcela se ubica perpendicular a la línea de costa, aproximadamente a un Kilómetro de la comunidad indigena Wayuú asentada en el lugar. En sus aproximaciones se encuentra La Laguna de Buena Vista, que es alimetada por el Río Ranchería y tiene conexión con el mar que permanece abierta prácticamente todo el año (Gil-Torres et al., 2009). Dentro del bosque de manglar, se encuentran suelos fangososo sin compactar altamente inundados; en las zonas exteriores y circundantes al mismo se observan suelos que corresponden a depósitos de materiales calcáreos gruesos y conchas apartadas por el mar. Se observa que la especie dominante es A. germinans (Vidal-Hernández, 2013)_x000D_"},{"$f":"REFERENTES!C158","v":41386},null,156,"La parcela se ubica perpendicular a la línea de costa, aproximadamente a un Kilómetro de la comunidad indigena Wayuú asentada en el lugar. En sus aproximaciones se encuentra La Laguna de Buena Vista, que es alimetada por el Río Ranchería y tiene conexión con el mar que permanece abierta prácticamente todo el año (Gil-Torres et al., 2009). Dentro del bosque de manglar, se encuentran suelos fangososo sin compactar altamente inundados; en las zonas exteriores y circundantes al mismo se observan suelos que corresponden a depósitos de materiales calcáreos gruesos y conchas apartadas por el mar. Se observa que la especie dominante es A. germinans (Vidal-Hernández, 2013)_x000D_",156,"En los 10 primeros metros se encuentran Botellas Pet, resultado de un campamento militar que se ubicó en el sector tiempo atrás, Estación dominada por L. racemosa, al final el terreno se va volviendo duro y seco"," ",null,{"$f":"CONCATENATE(REFERENTES!A156,\"(\",REFERENTES!B156,\")\")","v":"La Flotante(BCISEST-ZUS1-laflotante-1)"},{"$f":"REFERENTES!C156","v":45586}]
[null,null,null,null,null,null,null,null,null,null,null,null,null,null,null,null,null,null,null,null,null,null,null,null,null,null,null,null,{"$f":"IF(AND(REFERENTES!C159<>\"\",          REFERENTES!C159<>96321,    REFERENTES!C159<>96222            ),(REFERENTES!E159),\"\")","v":"La parcela se ubica perpendicular a la línea de costa, aproximadamente a un Kilómetro de la comunidad indigena Wayuú asentada en el lugar. En sus aproximaciones se encuentra La Laguna de Buena Vista, que es alimetada por el Río Ranchería y tiene conexión con el mar que permanece abierta prácticamente todo el año (Gil-Torres et al., 2009). Dentro del bosque de manglar, se encuentran suelos fangososo sin compactar altamente inundados; en las zonas exteriores y circundantes al mismo se observan suelos que corresponden a depósitos de materiales calcáreos gruesos y conchas apartadas por el mar. Se observa que la especie dominante es A. germinans (Vidal-Hernández, 2013)_x000D_"},{"$f":"REFERENTES!C159","v":41388},null,157,"La parcela se ubica perpendicular a la línea de costa, aproximadamente a un Kilómetro de la comunidad indigena Wayuú asentada en el lugar. En sus aproximaciones se encuentra La Laguna de Buena Vista, que es alimetada por el Río Ranchería y tiene conexión con el mar que permanece abierta prácticamente todo el año (Gil-Torres et al., 2009). Dentro del bosque de manglar, se encuentran suelos fangososo sin compactar altamente inundados; en las zonas exteriores y circundantes al mismo se observan suelos que corresponden a depósitos de materiales calcáreos gruesos y conchas apartadas por el mar. Se observa que la especie dominante es A. germinans (Vidal-Hernández, 2013)_x000D_",157,"Parcela con presencia de L. racemosa, A. germinans y R. mangle, bosque tupido con numeras raíces fúlcreas .regeneración natural abundante, sustrato duro."," ",null,{"$f":"CONCATENATE(REFERENTES!A157,\"(\",REFERENTES!B157,\")\")","v":"La Raya(LRAY-ZR1-LRA-1)"},{"$f":"REFERENTES!C157","v":41384}]
[null,null,null,null,null,null,null,null,null,null,null,null,null,null,null,null,null,null,null,null,null,null,null,null,null,null,null,null,{"$f":"IF(AND(REFERENTES!C160<>\"\",          REFERENTES!C160<>96321,    REFERENTES!C160<>96222            ),(REFERENTES!E160),\"\")","v":0},{"$f":"REFERENTES!C160","v":42099},null,158,"La parcela se ubica perpendicular a la línea de costa, aproximadamente a un Kilómetro de la comunidad indigena Wayuú asentada en el lugar. En sus aproximaciones se encuentra La Laguna de Buena Vista, que es alimetada por el Río Ranchería y tiene conexión con el mar que permanece abierta prácticamente todo el año (Gil-Torres et al., 2009). Dentro del bosque de manglar, se encuentran suelos fangososo sin compactar altamente inundados; en las zonas exteriores y circundantes al mismo se observan suelos que corresponden a depósitos de materiales calcáreos gruesos y conchas apartadas por el mar. Se observa que la especie dominante es A. germinans (Vidal-Hernández, 2013)_x000D_",158,"Es la parcela más lejana de este sector se ubica a 1.7 km al sur del caño San Luis .Esta parcela  presenta la mayor densidad en comparación a las restante de la estación. Conformada por A. germinans y R. mangle. Es una parcela compuesta con 5 y cada una tiene un área de 100 m²."," ",null,{"$f":"CONCATENATE(REFERENTES!A158,\"(\",REFERENTES!B158,\")\")","v":"La Raya-2(LRAY-ZR1-LRA-2)"},{"$f":"REFERENTES!C158","v":41386}]
[null,null,null,null,null,null,null,null,null,null,null,null,null,null,null,null,null,null,null,null,null,null,null,null,null,null,null,null,{"$f":"IF(AND(REFERENTES!C161<>\"\",          REFERENTES!C161<>96321,    REFERENTES!C161<>96222            ),(REFERENTES!E161),\"\")","v":"Ubicada en la bocana de Saija, Parcela sencilla de 20 m de ancho x 50 m de largo"},{"$f":"REFERENTES!C161","v":45484},null,159,0,1290,"Se localiza a 1.4 km al sur del caño San Luis. Es una parcela compuesta por 5 parcelas y cada una tiene un área de 100 m². Esta Parcela presenta la menor densidad de la estación conformada por  A. germinans y R. mangle."," ",null,{"$f":"CONCATENATE(REFERENTES!A159,\"(\",REFERENTES!B159,\")\")","v":"La Raya-3(LRAY-ZR1-LRA-3)"},{"$f":"REFERENTES!C159","v":41388}]
[null,null,null,null,null,null,null,null,null,null,null,null,null,null,null,null,null,null,null,null,null,null,null,null,null,null,null,null,{"$f":"IF(AND(REFERENTES!C162<>\"\",          REFERENTES!C162<>96321,    REFERENTES!C162<>96222            ),(REFERENTES!E162),\"\")","v":"Para llegar a esta parcela se toma la troncal del Caribe en la vía Riohacha – Maicao que corresponde a la carrera 1C frente a la entrada de la circunvalar. Se llega al parque del sendero ecológico de la laguna y se ingresa al manglar por el costado suroccidental a unos 30 m aproximadamente.  La parcela de monitoreo está localizada en el bosque de cuenca dominado por L. racemosa con alturas máximas de 16 m, de gran porte, junto a árboles de A. germinans muy ramificados desde el tronco y algunos defoliados, con alturas de 6 a 9 m. El suelo es areno fangoso cubierto de una capa gruesa de hojarasca en descomposición, con pocos neumatóforos y abundante regeneración natural de L. racemosa.  (INVEMAR, 20014) _x000D_"},{"$f":"REFERENTES!C162","v":41396},null,160,"Ubicada en la bocana de Saija, Parcela sencilla de 20 m de ancho x 50 m de largo",160,"Es la parcela más cercana al caño San Luis ubicarse a una distancia de 1 km  en dirección sur, entre áreas inundadas. Es una parcela compuesta, constituida con 5 y cada una tiene un área de 100 m². Conformada con  A. germinans y R. mangle. Se observó tala."," ",null,{"$f":"CONCATENATE(REFERENTES!A160,\"(\",REFERENTES!B160,\")\")","v":"La Zona(BCISESTSAL-ZUS1-ZON-1)"},{"$f":"REFERENTES!C160","v":42099}]
[null,null,null,null,null,null,null,null,null,null,null,null,null,null,null,null,null,null,null,null,null,null,null,null,null,null,null,null,{"$f":"IF(AND(REFERENTES!C163<>\"\",          REFERENTES!C163<>96321,    REFERENTES!C163<>96222            ),(REFERENTES!E163),\"\")","v":"Estación dominada por A. germinans, con presencia de árboles secos, caídos y algunos troncos partidos"},{"$f":"REFERENTES!C163","v":44496},null,161,"Para llegar a esta parcela se toma la troncal del Caribe en la vía Riohacha – Maicao que corresponde a la carrera 1C frente a la entrada de la circunvalar. Se llega al parque del sendero ecológico de la laguna y se ingresa al manglar por el costado suroccidental a unos 30 m aproximadamente.  La parcela de monitoreo está localizada en el bosque de cuenca dominado por L. racemosa con alturas máximas de 16 m, de gran porte, junto a árboles de A. germinans muy ramificados desde el tronco y algunos defoliados, con alturas de 6 a 9 m. El suelo es areno fangoso cubierto de una capa gruesa de hojarasca en descomposición, con pocos neumatóforos y abundante regeneración natural de L. racemosa.  (INVEMAR, 20014) _x000D_",161,"Se localiza aproximadamente 5 km al norte de desembocadura del río Sevilla,  en el sector llamado Punta Chino. El bosque está constituido por A. germinans, L. racemosa y  R mangle la cual se encuentra hasta 80 metros desde la línea de agua. Es una parcela compuesta, constituida por 5 parcelas y cada una tiene un área de 100 m²."," ",null,{"$f":"CONCATENATE(REFERENTES!A161,\"(\",REFERENTES!B161,\")\")","v":"Lagartero(TIMB-ZUS1-LARGAR-1)"},{"$f":"REFERENTES!C161","v":45484}]
[null,null,null,null,null,null,null,null,null,null,null,null,null,null,null,null,null,null,null,null,null,null,null,null,null,null,null,null,{"$f":"IF(AND(REFERENTES!C164<>\"\",          REFERENTES!C164<>96321,    REFERENTES!C164<>96222            ),(REFERENTES!E164),\"\")","v":"Al ingreso de la estación y sobre el borde de los 20 metros de ancho de la parcela, el exceso de basura es evidente, acompañado de malos olores.  Parcela dominada por A. germinans, sustrato duro e inundación de 10 cm en promedio.  Algunos árboles secos y muertos, pero no se evidencia tala."},{"$f":"REFERENTES!C164","v":44616},null,162,"Estación dominada por A. germinans, con presencia de árboles secos, caídos y algunos troncos partidos",162,"Se localiza a  400 m al norte de Punta Chino. El bosque se encuentra en buen estado. Presencia de R. mangle a lo largo del transecto y predominio de A. germinans, en menor proporción L. racemosa. Es una parcela compuesta, constituida por 5 parcelas y cada una tiene un área de 100 m²"," ",null,{"$f":"CONCATENATE(REFERENTES!A162,\"(\",REFERENTES!B162,\")\")","v":"Laguna Salada(LSAL-ZR1-LSA-1)"},{"$f":"REFERENTES!C162","v":41396}]
[null,null,null,null,null,null,null,null,null,null,null,null,null,null,null,null,null,null,null,null,null,null,null,null,null,null,null,null,{"$f":"IF(AND(REFERENTES!C165<>\"\",          REFERENTES!C165<>96321,    REFERENTES!C165<>96222            ),(REFERENTES!E165),\"\")","v":"Suelo inundable con vegetación latizal, agua dulce y salada, estado fitosanitario en buen estado."},{"$f":"REFERENTES!C165","v":41972},null,163,"Al ingreso de la estación y sobre el borde de los 20 metros de ancho de la parcela, el exceso de basura es evidente, acompañado de malos olores.  Parcela dominada por A. germinans, sustrato duro e inundación de 10 cm en promedio.  Algunos árboles secos y muertos, pero no se evidencia tala.",163,"Se ubica a  900 m al norte de Punta Chino,  Con predominio de A. germinans, presencia de R. mangla a lo largo del transecto,  y L. racemosa solo aparece en la parcela 5. Es una parcela compuesta, constituida por 5 parcelas y cada una tiene un área de 100 m²"," ",null,{"$f":"CONCATENATE(REFERENTES!A163,\"(\",REFERENTES!B163,\")\")","v":"Las Piedras-1(BARB-ZR1-Piedras-1)"},{"$f":"REFERENTES!C163","v":44496}]
[null,null,null,null,null,null,null,null,null,null,null,null,null,null,null,null,null,null,null,null,null,null,null,null,null,null,null,null,{"$f":"IF(AND(REFERENTES!C166<>\"\",          REFERENTES!C166<>96321,    REFERENTES!C166<>96222            ),(REFERENTES!E166),\"\")","v":"Parcela 3 monitoreada por el INVEMAR en el marco del ¨Monitoreo de las condiciones ambientales y los cambios estructurales y funcionales de las comunidades vegetales y de los recursos pesqueros durante la rehabilitación de la Ciénaga Grande de Santa Marta¨"},{"$f":"REFERENTES!C166","v":45922},null,164,"Suelo inundable con vegetación latizal, agua dulce y salada, estado fitosanitario en buen estado.",164,"Pequeña franja con residuos o basuras, con predominio de arboles de baja altura y baja densidad de R. mangle.  Presión antrópica por corta de varas y aumento de la frontera agrícola."," ",null,{"$f":"CONCATENATE(REFERENTES!A164,\"(\",REFERENTES!B164,\")\")","v":"Las Quintas-1(CQUINTAS-ZUS1-Quintas-1)"},{"$f":"REFERENTES!C164","v":44616}]
[null,null,null,null,null,null,null,null,null,null,null,null,null,null,null,null,null,null,null,null,null,null,null,null,null,null,null,null,{"$f":"IF(AND(REFERENTES!C167<>\"\",          REFERENTES!C167<>96321,    REFERENTES!C167<>96222            ),(REFERENTES!E167),\"\")","v":"Parcela 3 monitoreada por el INVEMAR en el marco del ¨Monitoreo de las condiciones ambientales y los cambios estructurales y funcionales de las comunidades vegetales y de los recursos pesqueros durante la rehabilitación de la Ciénaga Grande de Santa Marta¨"},{"$f":"REFERENTES!C167","v":47837},null,165,"Parcela 3 monitoreada por el INVEMAR en el marco del ¨Monitoreo de las condiciones ambientales y los cambios estructurales y funcionales de las comunidades vegetales y de los recursos pesqueros durante la rehabilitación de la Ciénaga Grande de Santa Marta¨",165,"Bosque ralo al interior.  Predomina casi en su totalidad el  R. mangle, y escasa presencia de  L. racemosa y A. germinans.  Fuera de la parcela se observó un juvenil de P. rhizophorae.  Intervención Antrópica, representada en corta de varas.  Presencia de tarros, bolsas y desechos en general."," ",null,{"$f":"CONCATENATE(REFERENTES!A165,\"(\",REFERENTES!B165,\")\")","v":"Lucho Guerra-1(CaiRinH-ZP1-LUCHO-1)"},{"$f":"REFERENTES!C165","v":41972}]
[null,null,null,null,null,null,null,null,null,null,null,null,null,null,null,null,null,null,null,null,null,null,null,null,null,null,null,null,{"$f":"IF(AND(REFERENTES!C168<>\"\",          REFERENTES!C168<>96321,    REFERENTES!C168<>96222            ),(REFERENTES!E168),\"\")","v":"Parcela 3 monitoreada por el INVEMAR en el marco del ¨Monitoreo de las condiciones ambientales y los cambios estructurales y funcionales de las comunidades vegetales y de los recursos pesqueros durante la rehabilitación de la Ciénaga Grande de Santa Marta¨"},{"$f":"REFERENTES!C168","v":47839},null,166,"Parcela 3 monitoreada por el INVEMAR en el marco del ¨Monitoreo de las condiciones ambientales y los cambios estructurales y funcionales de las comunidades vegetales y de los recursos pesqueros durante la rehabilitación de la Ciénaga Grande de Santa Marta¨",166,"La parcela se encuentra  paralela a linea de costa en una franja de mangle"," ",null,{"$f":"CONCATENATE(REFERENTES!A166,\"(\",REFERENTES!B166,\")\")","v":"Luna -1(SFFOCC-SZ1-LUN-1)"},{"$f":"REFERENTES!C166","v":45922}]
[null,null,null,null,null,null,null,null,null,null,null,null,null,null,null,null,null,null,null,null,null,null,null,null,null,null,null,null,{"$f":"IF(AND(REFERENTES!C169<>\"\",          REFERENTES!C169<>96321,    REFERENTES!C169<>96222            ),(REFERENTES!E169),\"\")","v":0},{"$f":"REFERENTES!C169","v":58095},null,167,"Parcela 3 monitoreada por el INVEMAR en el marco del ¨Monitoreo de las condiciones ambientales y los cambios estructurales y funcionales de las comunidades vegetales y de los recursos pesqueros durante la rehabilitación de la Ciénaga Grande de Santa Marta¨",167,"La parcela se encuentra paralela a la linea de costa."," ",null,{"$f":"CONCATENATE(REFERENTES!A167,\"(\",REFERENTES!B167,\")\")","v":"Luna -2(SFFOCC-SZ1-LUN-2)"},{"$f":"REFERENTES!C167","v":47837}]
[null,null,null,null,null,null,null,null,null,null,null,null,null,null,null,null,null,null,null,null,null,null,null,null,null,null,null,null,{"$f":"IF(AND(REFERENTES!C170<>\"\",          REFERENTES!C170<>96321,    REFERENTES!C170<>96222            ),(REFERENTES!E170),\"\")","v":"Localiza 15  m del mar. El manglar tiene unl nivel de desarrollo bajo. Esta zona presenta erosión costera y es azotada por los fuertes vientos. Se encuentra llena de residuos sólidos provenientes del mar. En las inmediaciones de la parcela se encuentra un potrero."},{"$f":"REFERENTES!C170","v":45168},null,168,0,1290,"Parcela 1 monitoreada por el INVEMAR en el marco del ¨Monitoreo de las condiciones ambientales y los cambios estructurales y funcionales de las comunidades vegetales y de los recursos pesqueros durante la rehabilitación de la Ciénaga Grande de Santa Marta¨"," ",null,{"$f":"CONCATENATE(REFERENTES!A168,\"(\",REFERENTES!B168,\")\")","v":"Luna -3(SFFOCC-SZ1-LUN-3)"},{"$f":"REFERENTES!C168","v":47839}]
[null,null,null,null,null,null,null,null,null,null,null,null,null,null,null,null,null,null,null,null,null,null,null,null,null,null,null,null,{"$f":"IF(AND(REFERENTES!C171<>\"\",          REFERENTES!C171<>96321,    REFERENTES!C171<>96222            ),(REFERENTES!E171),\"\")","v":"Se ubica a 58 m de la ciénaga y a 560 m de  la casa más cercana. La parcela presenta mangles de gran talla, característica que va disminuyendo hasta llegar a juveniles hacia el final del bosque. Presenta crecimiento arbustivo y con distribución densa, además están inclinados por los fuertes vientos.  Se observan huecos de cangrejos y neumatóforos. Los suelos son firmes, presenta residuos sólidos provenientes del mar y de la ciénaga."},{"$f":"REFERENTES!C171","v":45242},null,169,"Localiza 15  m del mar. El manglar tiene unl nivel de desarrollo bajo. Esta zona presenta erosión costera y es azotada por los fuertes vientos. Se encuentra llena de residuos sólidos provenientes del mar. En las inmediaciones de la parcela se encuentra un potrero.",169,"Parcela 2 monitoreada por el INVEMAR en el marco del ¨Monitoreo de las condiciones ambientales y los cambios estructurales y funcionales de las comunidades vegetales y de los recursos pesqueros durante la rehabilitación de la Ciénaga Grande de Santa Marta¨"," ",null,{"$f":"CONCATENATE(REFERENTES!A169,\"(\",REFERENTES!B169,\")\")","v":"MANZANILLO(MANZANILLO)"},{"$f":"REFERENTES!C169","v":58095}]
[null,null,null,null,null,null,null,null,null,null,null,null,null,null,null,null,null,null,null,null,null,null,null,null,null,null,null,null,{"$f":"IF(AND(REFERENTES!C172<>\"\",          REFERENTES!C172<>96321,    REFERENTES!C172<>96222            ),(REFERENTES!E172),\"\")","v":"Se localiza a 25 m del mar, al lado de un playón, a 200 m de un camino que pasa por una pequeña ciénaga. Dentro de la parcela  la especie predominante es A. germinans con copas pobres, presentan suelos encharcados y neumatóforos."},{"$f":"REFERENTES!C172","v":45253},null,170,"Se ubica a 58 m de la ciénaga y a 560 m de  la casa más cercana. La parcela presenta mangles de gran talla, característica que va disminuyendo hasta llegar a juveniles hacia el final del bosque. Presenta crecimiento arbustivo y con distribución densa, además están inclinados por los fuertes vientos.  Se observan huecos de cangrejos y neumatóforos. Los suelos son firmes, presenta residuos sólidos provenientes del mar y de la ciénaga.",170,"Parcela 3 monitoreada por el INVEMAR en el marco del ¨Monitoreo de las condiciones ambientales y los cambios estructurales y funcionales de las comunidades vegetales y de los recursos pesqueros durante la rehabilitación de la Ciénaga Grande de Santa Marta¨"," ",null,{"$f":"CONCATENATE(REFERENTES!A170,\"(\",REFERENTES!B170,\")\")","v":"Mallorquin(CNGMLLQ-ZR1-Mr-1)"},{"$f":"REFERENTES!C170","v":45168}]
[null,null,null,null,null,null,null,null,null,null,null,null,null,null,null,null,null,null,null,null,null,null,null,null,null,null,null,null,{"$f":"IF(AND(REFERENTES!C173<>\"\",          REFERENTES!C173<>96321,    REFERENTES!C173<>96222            ),(REFERENTES!E173),\"\")","v":"La parcela tine arboles en estado Fustal, infectados por fitoforos algunas arboles de Laguncularia agua estancada"},{"$f":"REFERENTES!C173","v":41959},null,171,"Se localiza a 25 m del mar, al lado de un playón, a 200 m de un camino que pasa por una pequeña ciénaga. Dentro de la parcela  la especie predominante es A. germinans con copas pobres, presentan suelos encharcados y neumatóforos.",171,"Parcela rectangular de 20 m x 50 m, dispuesta en la margen derecha del Río Ancachí, cuya composición florística está dada por las especies Rhizophora mangle, Avicennia germinans y Mora oleifera."," ",null,{"$f":"CONCATENATE(REFERENTES!A171,\"(\",REFERENTES!B171,\")\")","v":"Mallorquín(CNGMLLQ-ZP1-Mallorq-1)"},{"$f":"REFERENTES!C171","v":45242}]
[null,null,null,null,null,null,null,null,null,null,null,null,null,null,null,null,null,null,null,null,null,null,null,null,null,null,null,null,{"$f":"IF(AND(REFERENTES!C174<>\"\",          REFERENTES!C174<>96321,    REFERENTES!C174<>96222            ),(REFERENTES!E174),\"\")","v":"Dominancia de Avicennia g, con poco de Laguncularia y brinzales de ambas especies."},{"$f":"REFERENTES!C174","v":41963},null,172,"La parcela tine arboles en estado Fustal, infectados por fitoforos algunas arboles de Laguncularia agua estancada",172,"Relicto de manglar de porte alto con pequeña extensión al costado sur de la desembocadura del río Caimán viejo. Se reporta R, mangle, L. racemosa y algunos A. germinans,de bajo porte y malformados, bosque poco denso. Presión antrópica por aumento de la frontera agrícola."," ",null,{"$f":"CONCATENATE(REFERENTES!A172,\"(\",REFERENTES!B172,\")\")","v":"ManatIes Playa(CNGMNT-ZR1-Manat-1)"},{"$f":"REFERENTES!C172","v":45253}]
[null,null,null,null,null,null,null,null,null,null,null,null,null,null,null,null,null,null,null,null,null,null,null,null,null,null,null,null,{"$f":"IF(AND(REFERENTES!C175<>\"\",          REFERENTES!C175<>96321,    REFERENTES!C175<>96222            ),(REFERENTES!E175),\"\")","v":"Estación Manglar Manzanillo (formada por 2 parcelas circulares): Manglar localizado al sur de la isla, constituido principalmente por Rhizophora mangle, como especie dominante y por Laguncularia racemosa. Se encuentra detrás de una barra arenosa y en su interior tiene un pequeño canal central en el que se acumulan aguas derivadas de la escorrentía y de un arroyo que se forma en época de lluvias, proveniente de Murray Hills. Tiene una cobertura de manglar de 1,59 ha (INVEMAR-CORALINA, 2016)."},{"$f":"REFERENTES!C175","v":55561},null,173,"Dominancia de Avicennia g, con poco de Laguncularia y brinzales de ambas especies.",173,"Parcela rectangular de 0.1 ha, ubicada a 1.25 km aproximadamente de la comunidad de Jurubirá, en la margen derecha del Estero La Vuelta, cuya flora está compuesta por Rhizophora mangle y Rhizophora racemosa."," ",null,{"$f":"CONCATENATE(REFERENTES!A173,\"(\",REFERENTES!B173,\")\")","v":"Manaties -ZR1-1(CNGMNT-ZR1-MANA-1)"},{"$f":"REFERENTES!C173","v":41959}]
[null,null,null,null,null,null,null,null,null,null,null,null,null,null,null,null,null,null,null,null,null,null,null,null,null,null,null,null,{"$f":"IF(AND(REFERENTES!C176<>\"\",          REFERENTES!C176<>96321,    REFERENTES!C176<>96222            ),(REFERENTES!E176),\"\")","v":"Estación Manglar Manzanillo (formada por 2 parcelas circulares): Manglar localizado al sur de la isla, constituido principalmente por Rhizophora mangle, como especie dominante y por Laguncularia racemosa. Se encuentra detrás de una barra arenosa y en su interior tiene un pequeño canal central en el que se acumulan aguas derivadas de la escorrentía y de un arroyo que se forma en época de lluvias, proveniente de Murray Hills. Tiene una cobertura de manglar de 1,59 ha (INVEMAR-CORALINA, 2016)."},{"$f":"REFERENTES!C176","v":55562},null,174,"Estación Manglar Manzanillo (formada por 2 parcelas circulares): Manglar localizado al sur de la isla, constituido principalmente por Rhizophora mangle, como especie dominante y por Laguncularia racemosa. Se encuentra detrás de una barra arenosa y en su interior tiene un pequeño canal central en el que se acumulan aguas derivadas de la escorrentía y de un arroyo que se forma en época de lluvias, proveniente de Murray Hills. Tiene una cobertura de manglar de 1,59 ha (INVEMAR-CORALINA, 2016).",174,"La parcela se ubicó al costado norte de la boca, encontrando un manglar con predominio de L. racemosa y R. mangle.  No se evidenció afectación por basuras o influencia antrópica.  Bosque limpio."," ",null,{"$f":"CONCATENATE(REFERENTES!A174,\"(\",REFERENTES!B174,\")\")","v":"Manaties B(CNGMNT-ZP1-MANB-1)"},{"$f":"REFERENTES!C174","v":41963}]
[null,null,null,null,null,null,null,null,null,null,null,null,null,null,null,null,null,null,null,null,null,null,null,null,null,null,null,null,{"$f":"IF(AND(REFERENTES!C177<>\"\",          REFERENTES!C177<>96321,    REFERENTES!C177<>96222            ),(REFERENTES!E177),\"\")","v":"Parcela ubicada en el extremo norte de la Ciénaga de Juan Polo, bordeada por un canal, los primeros 15 metros son de R. mangle en sustrato fangoso y desde allí comienza una franja de A. germinans en terreno duro, al finalizar la parcela se encuentra sustrato duro y limita con el comienzo de vegetación de bosque seco."},{"$f":"REFERENTES!C177","v":44640},null,175,"Estación Manglar Manzanillo (formada por 2 parcelas circulares): Manglar localizado al sur de la isla, constituido principalmente por Rhizophora mangle, como especie dominante y por Laguncularia racemosa. Se encuentra detrás de una barra arenosa y en su interior tiene un pequeño canal central en el que se acumulan aguas derivadas de la escorrentía y de un arroyo que se forma en época de lluvias, proveniente de Murray Hills. Tiene una cobertura de manglar de 1,59 ha (INVEMAR-CORALINA, 2016).",175,"Es la más cercana a la desembocadura del Rio Sevilla a unos 600 m  El manglar presenta un nivel de desarrollo bajo, en suelos pantanosos.  La regeneración natural es media. Es una parcela compuesta, constituida por 5 parcelas y cada una tiene un área de 100 m²."," ",null,{"$f":"CONCATENATE(REFERENTES!A175,\"(\",REFERENTES!B175,\")\")","v":"Manzanillo parcela circular-1(ManzanilloPPC-1)"},{"$f":"REFERENTES!C175","v":55561}]
[null,null,null,null,null,null,null,null,null,null,null,null,null,null,null,null,null,null,null,null,null,null,null,null,null,null,null,null,{"$f":"IF(AND(REFERENTES!C178<>\"\",          REFERENTES!C178<>96321,    REFERENTES!C178<>96222            ),(REFERENTES!E178),\"\")","v":"Sobre al  caño Matunilla, a 40 metros de la orilla, zona heterogénea, manglar caído, zonas inundadas, arboles secos"},{"$f":"REFERENTES!C178","v":42003},null,176,"Parcela ubicada en el extremo norte de la Ciénaga de Juan Polo, bordeada por un canal, los primeros 15 metros son de R. mangle en sustrato fangoso y desde allí comienza una franja de A. germinans en terreno duro, al finalizar la parcela se encuentra sustrato duro y limita con el comienzo de vegetación de bosque seco.",176,"Se localiza a 800 m de la desembocadura del Rio Sevilla,  El mangle presenta un nivel de desarrollo Medio bajo, en suelos pantanosos. La regeneración natural es baja.  Es una parcela compuesta, constituida por 5 parcelas y cada una tiene un área de 100 m²"," ",null,{"$f":"CONCATENATE(REFERENTES!A176,\"(\",REFERENTES!B176,\")\")","v":"Manzanillo parcela circular-2(ManzanilloPPC-2)"},{"$f":"REFERENTES!C176","v":55562}]
[null,null,null,null,null,null,null,null,null,null,null,null,null,null,null,null,null,null,null,null,null,null,null,null,null,null,null,null,{"$f":"IF(AND(REFERENTES!C179<>\"\",          REFERENTES!C179<>96321,    REFERENTES!C179<>96222            ),(REFERENTES!E179),\"\")","v":"La parcela se encuentra paralela a la línea de costa, en una franja de manglar de borde, alargada y de poca anchura, la cual se encuentra interrumpida y separa del mar; en sus aproximaciones se encuentra una laguna costera, a una distancia aproximada de 35m. La zona está atravesada transversalmente por dos caminos, los cuales probablemente son frecuentados por los pescadores del lugar. Dentro de los bosques de manglar se encuentran suelos principalmente arenosos con alto contenido de carbonato de calcio y que pueden ser compactos. Se observa gran cantidad de arena, que en algunos casa llega a cubrir hasta 30cm del punto de anclaje del manglar, probablemente acumulados por erosión costera y la acción de los fuertes vientos (Vidal-Hernández, 2013)_x000D_"},{"$f":"REFERENTES!C179","v":41378},null,177,"Sobre al  caño Matunilla, a 40 metros de la orilla, zona heterogénea, manglar caído, zonas inundadas, arboles secos",177,"Se localiza a 900 m de la desembocadura del Rio Sevilla,  El mangle presenta un nivel de desarrollo Medio bajo. Es una parcela compuesta, constituida por 5 parcelas y cada una tiene un área de 100 m²"," ",null,{"$f":"CONCATENATE(REFERENTES!A177,\"(\",REFERENTES!B177,\")\")","v":"Manzanillo-1(JPVI-ZUS1-JPManzanillo-1)"},{"$f":"REFERENTES!C177","v":44640}]
[null,null,null,null,null,null,null,null,null,null,null,null,null,null,null,null,null,null,null,null,null,null,null,null,null,null,null,null,{"$f":"IF(AND(REFERENTES!C180<>\"\",          REFERENTES!C180<>96321,    REFERENTES!C180<>96222            ),(REFERENTES!E180),\"\")","v":"La parcela se encuentra paralela a la línea de costa, en una franja de manglar de borde, alargada y de poca anchura, la cual se encuentra interrumpida y separa del mar; en sus aproximaciones se encuentra una laguna costera, a una distancia aproximada de 35m. La zona está atravesada transversalmente por dos caminos, los cuales probablemente son frecuentados por los pescadores del lugar. Dentro de los bosques de manglar se encuentran suelos principalmente arenosos con alto contenido de carbonato de calcio y que pueden ser compactos. Se observa gran cantidad de arena, que en algunos casa llega a cubrir hasta 30cm del punto de anclaje del manglar, probablemente acumulados por erosión costera y la acción de los fuertes vientos (Vidal-Hernández, 2013)_x000D_"},{"$f":"REFERENTES!C180","v":41380},null,178,"La parcela se encuentra paralela a la línea de costa, en una franja de manglar de borde, alargada y de poca anchura, la cual se encuentra interrumpida y separa del mar; en sus aproximaciones se encuentra una laguna costera, a una distancia aproximada de 35m. La zona está atravesada transversalmente por dos caminos, los cuales probablemente son frecuentados por los pescadores del lugar. Dentro de los bosques de manglar se encuentran suelos principalmente arenosos con alto contenido de carbonato de calcio y que pueden ser compactos. Se observa gran cantidad de arena, que en algunos casa llega a cubrir hasta 30cm del punto de anclaje del manglar, probablemente acumulados por erosión costera y la acción de los fuertes vientos (Vidal-Hernández, 2013)_x000D_",178,"Bosque muy Ralo.Presencia de R. mangle, y A. germinans.  Presión antrópica relacionada por la ampliación de áreas ganaderas.  Presencia de cercas de alambre en el manglar."," ",null,{"$f":"CONCATENATE(REFERENTES!A178,\"(\",REFERENTES!B178,\")\")","v":"Matunilla(BARB-ZR1-MATU-1)"},{"$f":"REFERENTES!C178","v":42003}]
[null,null,null,null,null,null,null,null,null,null,null,null,null,null,null,null,null,null,null,null,null,null,null,null,null,null,null,null,{"$f":"IF(AND(REFERENTES!C181<>\"\",          REFERENTES!C181<>96321,    REFERENTES!C181<>96222            ),(REFERENTES!E181),\"\")","v":"La parcela se encuentra paralela a la línea de costa, en una franja de manglar de borde, alargada y de poca anchura, la cual se encuentra interrumpida y separa del mar; en sus aproximaciones se encuentra una laguna costera, a una distancia aproximada de 35m. La zona está atravesada transversalmente por dos caminos, los cuales probablemente son frecuentados por los pescadores del lugar. Dentro de los bosques de manglar se encuentran suelos principalmente arenosos con alto contenido de carbonato de calcio y que pueden ser compactos. Se observa gran cantidad de arena, que en algunos casa llega a cubrir hasta 30cm del punto de anclaje del manglar, probablemente acumulados por erosión costera y la acción de los fuertes vientos (Vidal-Hernández, 2013)_x000D_"},{"$f":"REFERENTES!C181","v":41382},null,179,"La parcela se encuentra paralela a la línea de costa, en una franja de manglar de borde, alargada y de poca anchura, la cual se encuentra interrumpida y separa del mar; en sus aproximaciones se encuentra una laguna costera, a una distancia aproximada de 35m. La zona está atravesada transversalmente por dos caminos, los cuales probablemente son frecuentados por los pescadores del lugar. Dentro de los bosques de manglar se encuentran suelos principalmente arenosos con alto contenido de carbonato de calcio y que pueden ser compactos. Se observa gran cantidad de arena, que en algunos casa llega a cubrir hasta 30cm del punto de anclaje del manglar, probablemente acumulados por erosión costera y la acción de los fuertes vientos (Vidal-Hernández, 2013)_x000D_",179,"Parcela que inicia con una franja de regeneración natural de R. mangle muy abundante, casi impenetrable, seguida de 10 metros de franja de agua para luego comenzar sustrato duro en su mayoría de A. germinans , baja regeneración natural"," ",null,{"$f":"CONCATENATE(REFERENTES!A179,\"(\",REFERENTES!B179,\")\")","v":"Mayapo(MAYA-ZR1-MA-1)"},{"$f":"REFERENTES!C179","v":41378}]
[null,null,null,null,null,null,null,null,null,null,null,null,null,null,null,null,null,null,null,null,null,null,null,null,null,null,null,null,{"$f":"IF(AND(REFERENTES!C182<>\"\",          REFERENTES!C182<>96321,    REFERENTES!C182<>96222            ),(REFERENTES!E182),\"\")","v":"Estación Manglar McBean Lagoon (formada por 2 parcelas circulares): El manglar se encuentra localizado en el borde noreste de la Isla, declarado como Parque Nacional Natural del mismo nombre. Esta conformado por manglares de borde y cuenca, de las especies de Rizophora mangle y Avicennia germinans  con una cobertura de 37,1 ha (INVEMAR-CORALINA, 2016)."},{"$f":"REFERENTES!C182","v":55569},null,180,"La parcela se encuentra paralela a la línea de costa, en una franja de manglar de borde, alargada y de poca anchura, la cual se encuentra interrumpida y separa del mar; en sus aproximaciones se encuentra una laguna costera, a una distancia aproximada de 35m. La zona está atravesada transversalmente por dos caminos, los cuales probablemente son frecuentados por los pescadores del lugar. Dentro de los bosques de manglar se encuentran suelos principalmente arenosos con alto contenido de carbonato de calcio y que pueden ser compactos. Se observa gran cantidad de arena, que en algunos casa llega a cubrir hasta 30cm del punto de anclaje del manglar, probablemente acumulados por erosión costera y la acción de los fuertes vientos (Vidal-Hernández, 2013)_x000D_",180,"Compuesta por una vegetación de manglar mixto, con dominancia de la especie piñuelo en cuanto abundancia. hace presencia las especies de mangle piñuelo, Nato y rojo. ademas el helecho ranconcha."," ",null,{"$f":"CONCATENATE(REFERENTES!A180,\"(\",REFERENTES!B180,\")\")","v":"Mayapo-2(MAYA-ZR1-MA-2)"},{"$f":"REFERENTES!C180","v":41380}]
[null,null,null,null,null,null,null,null,null,null,null,null,null,null,null,null,null,null,null,null,null,null,null,null,null,null,null,null,{"$f":"IF(AND(REFERENTES!C183<>\"\",          REFERENTES!C183<>96321,    REFERENTES!C183<>96222            ),(REFERENTES!E183),\"\")","v":"Estación Manglar McBean Lagoon (formada por 2 parcelas circulares): El manglar se encuentra localizado en el borde noreste de la Isla, declarado como Parque Nacional Natural del mismo nombre. Esta conformado por manglares de borde y cuenca, de las especies de Rizophora mangle y Avicennia germinans  con una cobertura de 37,1 ha (INVEMAR-CORALINA, 2016)."},{"$f":"REFERENTES!C183","v":55570},null,181,"Estación Manglar McBean Lagoon (formada por 2 parcelas circulares): El manglar se encuentra localizado en el borde noreste de la Isla, declarado como Parque Nacional Natural del mismo nombre. Esta conformado por manglares de borde y cuenca, de las especies de Rizophora mangle y Avicennia germinans  con una cobertura de 37,1 ha (INVEMAR-CORALINA, 2016).",181,"Manglar adulto bien desarrollado con dominancia de la especie Mangle rojo. presencia de talas de los arboles mas desarrollados en diámetro y altura."," ",null,{"$f":"CONCATENATE(REFERENTES!A181,\"(\",REFERENTES!B181,\")\")","v":"Mayapo-3(MAYA-ZR1-MA-3)"},{"$f":"REFERENTES!C181","v":41382}]
[null,null,null,null,null,null,null,null,null,null,null,null,null,null,null,null,null,null,null,null,null,null,null,null,null,null,null,null,{"$f":"IF(AND(REFERENTES!C184<>\"\",          REFERENTES!C184<>96321,    REFERENTES!C184<>96222            ),(REFERENTES!E184),\"\")","v":"Estación Manglar McBean Lagoon (formada por 2 parcelas circulares): El manglar se encuentra localizado en el borde noreste de la Isla, declarado como Parque Nacional Natural del mismo nombre. Esta conformado por manglares de borde y cuenca, de las especies de Rizophora mangle y Avicennia germinans  con una cobertura de 37,1 ha (INVEMAR-CORALINA, 2016)."},{"$f":"REFERENTES!C184","v":55571},null,182,"Estación Manglar McBean Lagoon (formada por 2 parcelas circulares): El manglar se encuentra localizado en el borde noreste de la Isla, declarado como Parque Nacional Natural del mismo nombre. Esta conformado por manglares de borde y cuenca, de las especies de Rizophora mangle y Avicennia germinans  con una cobertura de 37,1 ha (INVEMAR-CORALINA, 2016).",182,"Bosque denso de mangle Piñuelo intervenido para uso domestico. Alta regeneración Natural. Suelo de consistencia blanda y encharcada."," ",null,{"$f":"CONCATENATE(REFERENTES!A182,\"(\",REFERENTES!B182,\")\")","v":"Mc Bean parcela circular-1(McBeanLagoonPPC-1)"},{"$f":"REFERENTES!C182","v":55569}]
[null,null,null,null,null,null,null,null,null,null,null,null,null,null,null,null,null,null,null,null,null,null,null,null,null,null,null,null,{"$f":"IF(AND(REFERENTES!C185<>\"\",          REFERENTES!C185<>96321,    REFERENTES!C185<>96222            ),(REFERENTES!E185),\"\")","v":"Parcela de 0.1 ha, instalada en la margen izquierda del Estero Muertero, cuya composición floirística está dada por las especies: Rhizophora mangle, Pelliciera Rhizophorae y Mora oleifera."},{"$f":"REFERENTES!C185","v":45583},null,183,"Estación Manglar McBean Lagoon (formada por 2 parcelas circulares): El manglar se encuentra localizado en el borde noreste de la Isla, declarado como Parque Nacional Natural del mismo nombre. Esta conformado por manglares de borde y cuenca, de las especies de Rizophora mangle y Avicennia germinans  con una cobertura de 37,1 ha (INVEMAR-CORALINA, 2016).",183,"Estación Manglar Salt Creek (formada por 3 parcelas circulares): Es un manglar de cuenca o interior, ubicado en el costado oriental en la parte media de la Isla, que presenta una cobertura de 4,45 ha (INVEMAR-CORALINA, 2016) y se desarrolla separado del mar por la carretera. Está constituido por el complejo Dorna Pond, el humedal de Ground Road y humedales internos. Presenta una composición florística mixta, dominada por Laguncularia racemosa y presencia de Rhizophora mangle; los árboles tienen una altura promedio de 11,7 m. Este manglar se encuentra impactado por los residuos sólidos de las familias aledañas del sector y existe evidencia de actividades de tala y rellenos en su interior."," ",null,{"$f":"CONCATENATE(REFERENTES!A183,\"(\",REFERENTES!B183,\")\")","v":"Mc Bean parcela circular-2(McBeanLagoonPPC-2)"},{"$f":"REFERENTES!C183","v":55570}]
[null,null,null,null,null,null,null,null,null,null,null,null,null,null,null,null,null,null,null,null,null,null,null,null,null,null,null,null,{"$f":"IF(AND(REFERENTES!C186<>\"\",          REFERENTES!C186<>96321,    REFERENTES!C186<>96222            ),(REFERENTES!E186),\"\")","v":0},{"$f":"REFERENTES!C186","v":45411},null,184,"Parcela de 0.1 ha, instalada en la margen izquierda del Estero Muertero, cuya composición floirística está dada por las especies: Rhizophora mangle, Pelliciera Rhizophorae y Mora oleifera.",184,"Estación Manglar Salt Creek (formada por 3 parcelas circulares): Es un manglar de cuenca o interior, ubicado en el costado oriental en la parte media de la Isla, que presenta una cobertura de 4,45 ha (INVEMAR-CORALINA, 2016) y se desarrolla separado del mar por la carretera. Está constituido por el complejo Dorna Pond, el humedal de Ground Road y humedales internos. Presenta una composición florística mixta, dominada por Laguncularia racemosa y presencia de Rhizophora mangle; los árboles tienen una altura promedio de 11,7 m. Este manglar se encuentra impactado por los residuos sólidos de las familias aledañas del sector y existe evidencia de actividades de tala y rellenos en su interior."," ",null,{"$f":"CONCATENATE(REFERENTES!A184,\"(\",REFERENTES!B184,\")\")","v":"Mc Bean parcela circular-3(McBeanLagoonPPC-3)"},{"$f":"REFERENTES!C184","v":55571}]
[null,null,null,null,null,null,null,null,null,null,null,null,null,null,null,null,null,null,null,null,null,null,null,null,null,null,null,null,{"$f":"IF(AND(REFERENTES!C187<>\"\",          REFERENTES!C187<>96321,    REFERENTES!C187<>96222            ),(REFERENTES!E187),\"\")","v":"Parcela de 0.1 ha, instalada en la margen izquierda del Estero Muertero, cuya composición floirística está dada por las especies: Rhizophora mangle, Pelliciera Rhizophorae y Mora oleifera."},{"$f":"REFERENTES!C187","v":45413},null,185,0,1290,"En conclusión para la estación Raposo se debe actualizar la zonificación por cuanto en los últimos años el manglar ha sido sometido a una fuerte presión antrópica lo cual ha cambiado de forma negativa la estructura del bosque."," ",null,{"$f":"CONCATENATE(REFERENTES!A185,\"(\",REFERENTES!B185,\")\")","v":"Muertero(Nuqui-ZR2-Mtero-1)"},{"$f":"REFERENTES!C185","v":45583}]
[null,null,null,null,null,null,null,null,null,null,null,null,null,null,null,null,null,null,null,null,null,null,null,null,null,null,null,null,{"$f":"IF(AND(REFERENTES!C188<>\"\",          REFERENTES!C188<>96321,    REFERENTES!C188<>96222            ),(REFERENTES!E188),\"\")","v":"Este sector  a pesar de tener un bajo valor de área basal y pocos árboles, el diámetro y la altura promedio es mayor que en las otras cuencas conformando un bosque en mayor estado de recuperación.  Así mismo el área basal nos permite visualizar un pequeño pero muy significativo aumento de la cobertura del bosque."},{"$f":"REFERENTES!C188","v":45874},null,186,"Parcela de 0.1 ha, instalada en la margen izquierda del Estero Muertero, cuya composición floirística está dada por las especies: Rhizophora mangle, Pelliciera Rhizophorae y Mora oleifera.",186,"Parcela con inundación en toda el área, nivel promedio: 25 cm, está atravesada por un pequeño canal.  Se evidencia tala y acumulación de madera para recolección."," ",null,{"$f":"CONCATENATE(REFERENTES!A186,\"(\",REFERENTES!B186,\")\")","v":"Muertero(Panguí-ZR1-Mtero-1)"},{"$f":"REFERENTES!C186","v":45411}]
[null,null,null,null,null,null,null,null,null,null,null,null,null,null,null,null,null,null,null,null,null,null,null,null,null,null,null,null,{"$f":"IF(AND(REFERENTES!C189<>\"\",          REFERENTES!C189<>96321,    REFERENTES!C189<>96222            ),(REFERENTES!E189),\"\")","v":0},{"$f":"REFERENTES!C189","v":58103},null,187,"Este sector  a pesar de tener un bajo valor de área basal y pocos árboles, el diámetro y la altura promedio es mayor que en las otras cuencas conformando un bosque en mayor estado de recuperación.  Así mismo el área basal nos permite visualizar un pequeño pero muy significativo aumento de la cobertura del bosque.",187,"Estación Manglar Santa Catalina (formada por 2 parcelas circulares): El manglar se encuentra localizado en el borde sur oriental de la Isla, bordeando el malecón. Está distribuido en una serie de parches aislados, separados entre sí por construcciones, muelles, el puente de los Enamorados que une a la isla de Providencia con Santa Catalina y una cancha de fútbol. El manglar tiene una extensión total de 3,79 ha (INVEMAR-CORALINA, 2016). El sustrato presentó diferentes niveles de inundación, hubo parches cuyo sustrato estaba seco, otros con sustrato lodoso y otras zonas que se encontraron inundadas. El manglar de una de las parcelas de monitoreo se encuentra conformado principalmente por R. mangle, entremezclado con algunos ejemplares de L. racemosa y A. germinans. El manglar de la otra parcela de monitoreo, que colinda con la cancha deportiva, se encuentra conformado exclusivamente por A. germinans, donde el sustrato es bastante estable. Es un bosque de cuenca de desarrollo diamétrico intermedio y cuyos árboles tienen una altura promedio de 5,5 m."," ",null,{"$f":"CONCATENATE(REFERENTES!A187,\"(\",REFERENTES!B187,\")\")","v":"Muertero(Panguí-ZR1-Mtero-2)"},{"$f":"REFERENTES!C187","v":45413}]
[null,null,null,null,null,null,null,null,null,null,null,null,null,null,null,null,null,null,null,null,null,null,null,null,null,null,null,null,{"$f":"IF(AND(REFERENTES!C190<>\"\",          REFERENTES!C190<>96321,    REFERENTES!C190<>96222            ),(REFERENTES!E190),\"\")","v":0},{"$f":"REFERENTES!C190","v":58127},null,188,0,1290,"Estación Manglar Santa Catalina (formada por 2 parcelas circulares): El manglar se encuentra localizado en el borde sur oriental de la Isla, bordeando el malecón. Está distribuido en una serie de parches aislados, separados entre sí por construcciones, muelles, el puente de los Enamorados que une a la isla de Providencia con Santa Catalina y una cancha de fútbol. El manglar tiene una extensión total de 3,79 ha (INVEMAR-CORALINA, 2016). El sustrato presentó diferentes niveles de inundación, hubo parches cuyo sustrato estaba seco, otros con sustrato lodoso y otras zonas que se encontraron inundadas. El manglar de una de las parcelas de monitoreo se encuentra conformado principalmente por R. mangle, entremezclado con algunos ejemplares de L. racemosa y A. germinans. El manglar de la otra parcela de monitoreo, que colinda con la cancha deportiva, se encuentra conformado exclusivamente por A. germinans, donde el sustrato es bastante estable. Es un bosque de cuenca de desarrollo diamétrico intermedio y cuyos árboles tienen una altura promedio de 5,5 m."," ",null,{"$f":"CONCATENATE(REFERENTES!A188,\"(\",REFERENTES!B188,\")\")","v":"Málaga(BMAL-ZP9-MV-1)"},{"$f":"REFERENTES!C188","v":45874}]
[null,null,null,null,null,null,null,null,null,null,null,null,null,null,null,null,null,null,null,null,null,null,null,null,null,null,null,null,{"$f":"IF(AND(REFERENTES!C191<>\"\",          REFERENTES!C191<>96321,    REFERENTES!C191<>96222            ),(REFERENTES!E191),\"\")","v":0},{"$f":"REFERENTES!C191","v":41463},null,189,0,1290,"Transecto B"," ",null,{"$f":"CONCATENATE(REFERENTES!A189,\"(\",REFERENTES!B189,\")\")","v":"NORTE(NORTE_JON)"},{"$f":"REFERENTES!C189","v":58103}]
[null,null,null,null,null,null,null,null,null,null,null,null,null,null,null,null,null,null,null,null,null,null,null,null,null,null,null,null,{"$f":"IF(AND(REFERENTES!C192<>\"\",          REFERENTES!C192<>96321,    REFERENTES!C192<>96222            ),(REFERENTES!E192),\"\")","v":"Parcela fija (2 subparcelas) Dominancia de Avicennia germinans y Rhizophora mangle. Estación Manglar Old Town (formada por 2 parcelas circulares): Este manglar está localizado en el costado noroccidental de la Isla, ubicado detrás de una barra de arena de poca elevación. Hacia el norte se extiende detrás de la Capitanía de Puerto de la Dirección General Marítima (DIMAR) y de un centro de acopio de embarcaciones menores. En la parte sur occidental un corto camino separa una pequeña parte del bosque del resto, allí el bosque se extiende detrás de algunas viviendas ubicadas después de una barra. El manglar tiene una extensión de 6,91 ha (INVEMAR-CORALINA, 2016) y es el segundo más representativo de la Isla, después del bosque de manglar de Mc Bean Lagoon (38,8 ha) (INVEMAR-CORALINA, 2016). El bosque está dominado por Avicennia germinans, y hay presencia de R. mangle, que se distribuye principalmente hacia el costado occidental en el borde de la playa, mientras que hacia el sur se evidencian algunos individuos de L. racemosa y C. erectus."},{"$f":"REFERENTES!C192","v":51437},null,190,0,1290,"Transecto C"," ",null,{"$f":"CONCATENATE(REFERENTES!A190,\"(\",REFERENTES!B190,\")\")","v":"NORTE(NORTE_SAN)"},{"$f":"REFERENTES!C190","v":58127}]
[null,null,null,null,null,null,null,null,null,null,null,null,null,null,null,null,null,null,null,null,null,null,null,null,null,null,null,null,{"$f":"IF(AND(REFERENTES!C193<>\"\",          REFERENTES!C193<>96321,    REFERENTES!C193<>96222            ),(REFERENTES!E193),\"\")","v":"Estación Manglar Old Town (formada por 2 parcelas circulares): Este manglar está localizado en el costado noroccidental de la Isla, ubicado detrás de una barra de arena de poca elevación. Hacia el norte se extiende detrás de la Capitanía de Puerto de la Dirección General Marítima (DIMAR) y de un centro de acopio de embarcaciones menores. En la parte sur occidental un corto camino separa una pequeña parte del bosque del resto, allí el bosque se extiende detrás de algunas viviendas ubicadas después de una barra. El manglar tiene una extensión de 6,91 ha (INVEMAR-CORALINA, 2016) y es el segundo más representativo de la Isla, después del bosque de manglar de Mc Bean Lagoon (38,8 ha) (INVEMAR-CORALINA, 2016). El bosque está dominado por Avicennia germinans, y hay presencia de R. mangle, que se distribuye principalmente hacia el costado occidental en el borde de la playa, mientras que hacia el sur se evidencian algunos individuos de L. racemosa y C. erectus."},{"$f":"REFERENTES!C193","v":55563},null,191,"Parcela fija (2 subparcelas) Dominancia de Avicennia germinans y Rhizophora mangle. Estación Manglar Old Town (formada por 2 parcelas circulares): Este manglar está localizado en el costado noroccidental de la Isla, ubicado detrás de una barra de arena de poca elevación. Hacia el norte se extiende detrás de la Capitanía de Puerto de la Dirección General Marítima (DIMAR) y de un centro de acopio de embarcaciones menores. En la parte sur occidental un corto camino separa una pequeña parte del bosque del resto, allí el bosque se extiende detrás de algunas viviendas ubicadas después de una barra. El manglar tiene una extensión de 6,91 ha (INVEMAR-CORALINA, 2016) y es el segundo más representativo de la Isla, después del bosque de manglar de Mc Bean Lagoon (38,8 ha) (INVEMAR-CORALINA, 2016). El bosque está dominado por Avicennia germinans, y hay presencia de R. mangle, que se distribuye principalmente hacia el costado occidental en el borde de la playa, mientras que hacia el sur se evidencian algunos individuos de L. racemosa y C. erectus.",191,"Se localiza al extremo sureste, entre la vía Tom Hooker y Punta Sur. Tiene una distribución en forma de media luna y ocupa un área de 19,30 ha.  Se identificó por ser considerado como un manglar de cuenca y una altura promedio de 10,8 m; aproximadamente el 30% de la estación se hayo cubierta por Achrostichum aureum  o helecho mata tigre. Por otro lado, se destacó por tener presencia de hojarasca, señales de tala y poca basura._x000D_"," ",null,{"$f":"CONCATENATE(REFERENTES!A191,\"(\",REFERENTES!B191,\")\")","v":"Old Point -1(OPOI-ZUS2-OP-1)"},{"$f":"REFERENTES!C191","v":41463}]
[null,null,null,null,null,null,null,null,null,null,null,null,null,null,null,null,null,null,null,null,null,null,null,null,null,null,null,null,{"$f":"IF(AND(REFERENTES!C194<>\"\",          REFERENTES!C194<>96321,    REFERENTES!C194<>96222            ),(REFERENTES!E194),\"\")","v":"Estación Manglar Old Town (formada por 2 parcelas circulares): Este manglar está localizado en el costado noroccidental de la Isla, ubicado detrás de una barra de arena de poca elevación. Hacia el norte se extiende detrás de la Capitanía de Puerto de la Dirección General Marítima (DIMAR) y de un centro de acopio de embarcaciones menores. En la parte sur occidental un corto camino separa una pequeña parte del bosque del resto, allí el bosque se extiende detrás de algunas viviendas ubicadas después de una barra. El manglar tiene una extensión de 6,91 ha (INVEMAR-CORALINA, 2016) y es el segundo más representativo de la Isla, después del bosque de manglar de Mc Bean Lagoon (38,8 ha) (INVEMAR-CORALINA, 2016). El bosque está dominado por Avicennia germinans, y hay presencia de R. mangle, que se distribuye principalmente hacia el costado occidental en el borde de la playa, mientras que hacia el sur se evidencian algunos individuos de L. racemosa y C. erectus."},{"$f":"REFERENTES!C194","v":55564},null,192,"Estación Manglar Old Town (formada por 2 parcelas circulares): Este manglar está localizado en el costado noroccidental de la Isla, ubicado detrás de una barra de arena de poca elevación. Hacia el norte se extiende detrás de la Capitanía de Puerto de la Dirección General Marítima (DIMAR) y de un centro de acopio de embarcaciones menores. En la parte sur occidental un corto camino separa una pequeña parte del bosque del resto, allí el bosque se extiende detrás de algunas viviendas ubicadas después de una barra. El manglar tiene una extensión de 6,91 ha (INVEMAR-CORALINA, 2016) y es el segundo más representativo de la Isla, después del bosque de manglar de Mc Bean Lagoon (38,8 ha) (INVEMAR-CORALINA, 2016). El bosque está dominado por Avicennia germinans, y hay presencia de R. mangle, que se distribuye principalmente hacia el costado occidental en el borde de la playa, mientras que hacia el sur se evidencian algunos individuos de L. racemosa y C. erectus.",192,"Estación Manglar Smith Channel (formada por 3 parcelas circulares): Manglar catalogado como de tierra adentro (Medina, 2016), porque se encuentra aislado del mar, sin una conexión directa y por lo tanto no presenta inundación por mareas en ninguna época del año, pero sí por agua dulce proveniente de las precipitaciones. Está ubicado en el extremo suroriental de la Isla, con presencia de Rhizophora mangle y Laguncularia racemosa. Ocupa un área de manglar de 19,30 ha de extensión (INVEMAR-CORALINA, 2016), tiene abundante presencia de helecho de manglar Acrostichum aureum y es uno de los manglares menos intervenido en la Isla, no obstante, hay evidencia de actividades de tala y presencia de residuos sólidos."," ",null,{"$f":"CONCATENATE(REFERENTES!A192,\"(\",REFERENTES!B192,\")\")","v":"Old Town -2(OTOW-ZP1-OldTown-2)"},{"$f":"REFERENTES!C192","v":51437}]
[null,null,null,null,null,null,null,null,null,null,null,null,null,null,null,null,null,null,null,null,null,null,null,null,null,null,null,null,{"$f":"IF(AND(REFERENTES!C195<>\"\",          REFERENTES!C195<>96321,    REFERENTES!C195<>96222            ),(REFERENTES!E195),\"\")","v":0},{"$f":"REFERENTES!C195","v":48747},null,193,"Estación Manglar Old Town (formada por 2 parcelas circulares): Este manglar está localizado en el costado noroccidental de la Isla, ubicado detrás de una barra de arena de poca elevación. Hacia el norte se extiende detrás de la Capitanía de Puerto de la Dirección General Marítima (DIMAR) y de un centro de acopio de embarcaciones menores. En la parte sur occidental un corto camino separa una pequeña parte del bosque del resto, allí el bosque se extiende detrás de algunas viviendas ubicadas después de una barra. El manglar tiene una extensión de 6,91 ha (INVEMAR-CORALINA, 2016) y es el segundo más representativo de la Isla, después del bosque de manglar de Mc Bean Lagoon (38,8 ha) (INVEMAR-CORALINA, 2016). El bosque está dominado por Avicennia germinans, y hay presencia de R. mangle, que se distribuye principalmente hacia el costado occidental en el borde de la playa, mientras que hacia el sur se evidencian algunos individuos de L. racemosa y C. erectus.",193,"Estación Manglar Sound Bay (formada por 3 parcelas circulares): Manglar de cuenca o interior de 15,29 ha de cobertura (INVEMAR-CORALINA, 2016), separado del mar por la carretera, por formaciones vegetales distintas al manglar y por la presencia de lotes con viviendas. Tiene una composición florística mixta de Rhizophora mangle, Laguncularia racemosa y Avicennia germinans. El rodal tiene una altura promedio de 10,8 m. En el pasado se encontraba fuertemente impactado por el vertimiento directo de aguas residuales, no obstante, en la actualidad, CORALINA ha regulado dicho impacto. Presenta una elevada influencia de basuras producto de los desechos depositados por parte de la comunidad vecina. Hay evidencia de árboles talados y presencia de helecho de manglar Acrostichum aureum."," ",null,{"$f":"CONCATENATE(REFERENTES!A193,\"(\",REFERENTES!B193,\")\")","v":"Old Town parcela circular-1(OldTownPPC-1)"},{"$f":"REFERENTES!C193","v":55563}]
[null,null,null,null,null,null,null,null,null,null,null,null,null,null,null,null,null,null,null,null,null,null,null,null,null,null,null,null,{"$f":"IF(AND(REFERENTES!C196<>\"\",          REFERENTES!C196<>96321,    REFERENTES!C196<>96222            ),(REFERENTES!E196),\"\")","v":0},{"$f":"REFERENTES!C196","v":58085},null,194,{"$f":"IF(AC198=\"\",0,AC198)","v":0},{"$f":"IF(AG199=0,MAX($AF$6:$AF$1294)+1,AF199)","v":1290},{"$f":"IFERROR(VLOOKUP(SMALL($AH$6:$AH$1294,AF199),$AF$6:$AH$1294,2,FALSE),\"X\")","v":"Estación Manglar Sound Bay (formada por 3 parcelas circulares): Manglar de cuenca o interior de 15,29 ha de cobertura (INVEMAR-CORALINA, 2016), separado del mar por la carretera, por formaciones vegetales distintas al manglar y por la presencia de lotes con viviendas. Tiene una composición florística mixta de Rhizophora mangle, Laguncularia racemosa y Avicennia germinans. El rodal tiene una altura promedio de 10,8 m. En el pasado se encontraba fuertemente impactado por el vertimiento directo de aguas residuales, no obstante, en la actualidad, CORALINA ha regulado dicho impacto. Presenta una elevada influencia de basuras producto de los desechos depositados por parte de la comunidad vecina. Hay evidencia de árboles talados y presencia de helecho de manglar Acrostichum aureum."}," ",null,{"$f":"CONCATENATE(REFERENTES!A194,\"(\",REFERENTES!B194,\")\")","v":"Old Town parcela circular-2(OldTownPPC2)"},{"$f":"REFERENTES!C194","v":55564}]
[null,null,null,null,null,null,null,null,null,null,null,null,null,null,null,null,null,null,null,null,null,null,null,null,null,null,null,null,{"$f":"IF(AND(REFERENTES!C197<>\"\",          REFERENTES!C197<>96321,    REFERENTES!C197<>96222            ),(REFERENTES!E197),\"\")","v":0},{"$f":"REFERENTES!C197","v":58094},null,195,0,1290,"Estación Manglar Sound Bay (formada por 3 parcelas circulares): Manglar de cuenca o interior de 15,29 ha de cobertura (INVEMAR-CORALINA, 2016), separado del mar por la carretera, por formaciones vegetales distintas al manglar y por la presencia de lotes con viviendas. Tiene una composición florística mixta de Rhizophora mangle, Laguncularia racemosa y Avicennia germinans. El rodal tiene una altura promedio de 10,8 m. En el pasado se encontraba fuertemente impactado por el vertimiento directo de aguas residuales, no obstante, en la actualidad, CORALINA ha regulado dicho impacto. Presenta una elevada influencia de basuras producto de los desechos depositados por parte de la comunidad vecina. Hay evidencia de árboles talados y presencia de helecho de manglar Acrostichum aureum."," ",null,{"$f":"CONCATENATE(REFERENTES!A195,\"(\",REFERENTES!B195,\")\")","v":"Ostion(BCISEST-ZUS1-Ostion-1)"},{"$f":"REFERENTES!C195","v":48747}]
[null,null,null,null,null,null,null,null,null,null,null,null,null,null,null,null,null,null,null,null,null,null,null,null,null,null,null,null,{"$f":"IF(AND(REFERENTES!C198<>\"\",          REFERENTES!C198<>96321,    REFERENTES!C198<>96222            ),(REFERENTES!E198),\"\")","v":0},{"$f":"REFERENTES!C198","v":58086},null,196,0,1290,"parcela fija. Estación Manglar Suroeste (formada por 2 parcelas circulares): Ubicado en el suroeste de la isla, conformado por Rhizophora mangle, como especie dominante y por Laguncularia racemosa. Presenta una barra arenosa en frente, poco elevada y posee una laguna interior de alrededor de 300 m de largo y 30 m de ancho, que permanece total o parcialmente inundada durante el año, debido a las fuertes lluvias y la escorrentía, pero disminuye su espejo de agua en época seca por evaporación e infiltración del agua. Tiene una extensión de manglar de 5,25 ha (INVEMAR-CORALINA, 2016). Existe evidencia de actividades de tala en su interior, así como la construcción de restaurantes muy cerca del mismo y presencia de cables de electricidad sobre los árboles de mangle."," ",null,{"$f":"CONCATENATE(REFERENTES!A196,\"(\",REFERENTES!B196,\")\")","v":"PNN MCBEAN PARCELA1(PNNMCBEAN_P1)"},{"$f":"REFERENTES!C196","v":58085}]
[null,null,null,null,null,null,null,null,null,null,null,null,null,null,null,null,null,null,null,null,null,null,null,null,null,null,null,null,{"$f":"IF(AND(REFERENTES!C199<>\"\",          REFERENTES!C199<>96321,    REFERENTES!C199<>96222            ),(REFERENTES!E199),\"\")","v":0},{"$f":"REFERENTES!C199","v":58087},null,197,0,1290,"Estación Manglar Suroeste (formada por 2 parcelas circulares): Ubicado en el suroeste de la isla, conformado por Rhizophora mangle, como especie dominante y por Laguncularia racemosa. Presenta una barra arenosa en frente, poco elevada y posee una laguna interior de alrededor de 300 m de largo y 30 m de ancho, que permanece total o parcialmente inundada durante el año, debido a las fuertes lluvias y la escorrentía, pero disminuye su espejo de agua en época seca por evaporación e infiltración del agua. Tiene una extensión de manglar de 5,25 ha (INVEMAR-CORALINA, 2016). Existe evidencia de actividades de tala en su interior, así como la construcción de restaurantes muy cerca del mismo y presencia de cables de electricidad sobre los árboles de mangle."," ",null,{"$f":"CONCATENATE(REFERENTES!A197,\"(\",REFERENTES!B197,\")\")","v":"PNN MCBEAN PARCELA10(PNNMCBEAN_P10)"},{"$f":"REFERENTES!C197","v":58094}]
[null,null,null,null,null,null,null,null,null,null,null,null,null,null,null,null,null,null,null,null,null,null,null,null,null,null,null,null,{"$f":"IF(AND(REFERENTES!C200<>\"\",          REFERENTES!C200<>96321,    REFERENTES!C200<>96222            ),(REFERENTES!E200),\"\")","v":0},{"$f":"REFERENTES!C200","v":58088},null,198,0,1290,"Estación Manglar Suroeste (formada por 2 parcelas circulares): Ubicado en el suroeste de la isla, conformado por Rhizophora mangle, como especie dominante y por Laguncularia racemosa. Presenta una barra arenosa en frente, poco elevada y posee una laguna interior de alrededor de 300 m de largo y 30 m de ancho, que permanece total o parcialmente inundada durante el año, debido a las fuertes lluvias y la escorrentía, pero disminuye su espejo de agua en época seca por evaporación e infiltración del agua. Tiene una extensión de manglar de 5,25 ha (INVEMAR-CORALINA, 2016). Existe evidencia de actividades de tala en su interior, así como la construcción de restaurantes muy cerca del mismo y presencia de cables de electricidad sobre los árboles de mangle."," ",null,{"$f":"CONCATENATE(REFERENTES!A198,\"(\",REFERENTES!B198,\")\")","v":"PNN MCBEAN PARCELA2(PNNMCBEAN_P2)"},{"$f":"REFERENTES!C198","v":58086}]
[null,null,null,null,null,null,null,null,null,null,null,null,null,null,null,null,null,null,null,null,null,null,null,null,null,null,null,null,{"$f":"IF(AND(REFERENTES!C201<>\"\",          REFERENTES!C201<>96321,    REFERENTES!C201<>96222            ),(REFERENTES!E201),\"\")","v":0},{"$f":"REFERENTES!C201","v":58089},null,199,0,1290,"Ubicada a unos 2.1 km aproximadamente de Juradó, perpendicularmente a la margen derecha del Estero Tangarrá, compuesta florísticamente por un bosque monoespecífico de Rhizophora racemosa."," ",null,{"$f":"CONCATENATE(REFERENTES!A199,\"(\",REFERENTES!B199,\")\")","v":"PNN MCBEAN PARCELA3(PNNMCBEAN_P3)"},{"$f":"REFERENTES!C199","v":58087}]
[null,null,null,null,null,null,null,null,null,null,null,null,null,null,null,null,null,null,null,null,null,null,null,null,null,null,null,null,{"$f":"IF(AND(REFERENTES!C202<>\"\",          REFERENTES!C202<>96321,    REFERENTES!C202<>96222            ),(REFERENTES!E202),\"\")","v":0},{"$f":"REFERENTES!C202","v":58090},null,200,0,1290,"En términos generales el sector de Cajambre es el que presenta mayor nivel de intervención antrópica   producto de la tala del mangle con fines comerciales.  Existe un alto contraste en la zonificación de 2007 que lo cataloga como un manglar poco intervenido en contraposición al alto grado de degradación que se registró en el monitoreo actual."," ",null,{"$f":"CONCATENATE(REFERENTES!A200,\"(\",REFERENTES!B200,\")\")","v":"PNN MCBEAN PARCELA4(PNNMCBEAN_P4)"},{"$f":"REFERENTES!C200","v":58088}]
[null,null,null,null,null,null,null,null,null,null,null,null,null,null,null,null,null,null,null,null,null,null,null,null,null,null,null,null,{"$f":"IF(AND(REFERENTES!C203<>\"\",          REFERENTES!C203<>96321,    REFERENTES!C203<>96222            ),(REFERENTES!E203),\"\")","v":0},{"$f":"REFERENTES!C203","v":58091},null,201,0,1290,"Es un relicto denso en forma de islote  que se encuentra varios centímetros por encima del suelo, y está constituido por la especie  L. racemosa. Algunos crecen retorcidos disponiendo sus ramas hacia el cuerpo de agua de la ciénaga. No se observa regeneración natural"," ",null,{"$f":"CONCATENATE(REFERENTES!A201,\"(\",REFERENTES!B201,\")\")","v":"PNN MCBEAN PARCELA5(PNNMCBEAN_P5)"},{"$f":"REFERENTES!C201","v":58089}]
[null,null,null,null,null,null,null,null,null,null,null,null,null,null,null,null,null,null,null,null,null,null,null,null,null,null,null,null,{"$f":"IF(AND(REFERENTES!C204<>\"\",          REFERENTES!C204<>96321,    REFERENTES!C204<>96222            ),(REFERENTES!E204),\"\")","v":0},{"$f":"REFERENTES!C204","v":58092},null,202,0,1290,"Forma una franja de 15 m tierra dentro, la línea de agua está a 1 m dentro de  la parcela, algunos individuos de L. racemosa  son maduros, de crecimiento arbustivo, con ramas que crecen hacia el cuerpo de agua."," ",null,{"$f":"CONCATENATE(REFERENTES!A202,\"(\",REFERENTES!B202,\")\")","v":"PNN MCBEAN PARCELA6(PNNMCBEAN_P6)"},{"$f":"REFERENTES!C202","v":58090}]
[null,null,null,null,null,null,null,null,null,null,null,null,null,null,null,null,null,null,null,null,null,null,null,null,null,null,null,null,{"$f":"IF(AND(REFERENTES!C205<>\"\",          REFERENTES!C205<>96321,    REFERENTES!C205<>96222            ),(REFERENTES!E205),\"\")","v":0},{"$f":"REFERENTES!C205","v":58093},null,203,0,1290,"MANGLAR ADULTO BIEN DESARROLLADO E INTERVENIDO CON DOMINANCIA DEL MANGLE ROJO. PRESENCIA DE REGENERACIÓN EN LOS CLAROS DEJADOS POR LAS CORTAS DE INDIVIDUOS."," ",null,{"$f":"CONCATENATE(REFERENTES!A203,\"(\",REFERENTES!B203,\")\")","v":"PNN MCBEAN PARCELA7(PNNMCBEAN_P7)"},{"$f":"REFERENTES!C203","v":58091}]
[null,null,null,null,null,null,null,null,null,null,null,null,null,null,null,null,null,null,null,null,null,null,null,null,null,null,null,null,{"$f":"IF(AND(REFERENTES!C206<>\"\",          REFERENTES!C206<>96321,    REFERENTES!C206<>96222            ),(REFERENTES!E206),\"\")","v":0},{"$f":"REFERENTES!C206","v":42123},null,204,0,1290,"ESTA ÁREA  PRESENTA UNA VEGETACIÓN DE MANGLAR MIXTO, HACE PRESENCIA LAS ESPECIES DE MANGLE ROJO, PIÑUELO Y NATO, ADEMAS EL HELECHO RANCONCHA. ES UNA ÁREA INTERVENIDA,"," ",null,{"$f":"CONCATENATE(REFERENTES!A204,\"(\",REFERENTES!B204,\")\")","v":"PNN MCBEAN PARCELA8(PNNMCBEAN_P8)"},{"$f":"REFERENTES!C204","v":58092}]
[null,null,null,null,null,null,null,null,null,null,null,null,null,null,null,null,null,null,null,null,null,null,null,null,null,null,null,null,{"$f":"IF(AND(REFERENTES!C207<>\"\",          REFERENTES!C207<>96321,    REFERENTES!C207<>96222            ),(REFERENTES!E207),\"\")","v":"manglar altamente intervenido con muchos claros en la estructura del bosque"},{"$f":"REFERENTES!C207","v":46020},null,205,0,1290,"BOSQUE DE MANGLE ROJO INTERVENIDO, ALTA DENSIDAD DE INDIVIDUOS CON ALTO PORCENTAJE DE FUSTES RETORCIDOS, ARQUEADOS E INCLINADOS."," ",null,{"$f":"CONCATENATE(REFERENTES!A205,\"(\",REFERENTES!B205,\")\")","v":"PNN MCBEAN PARCELA9(PNNMCBEAN_P9)"},{"$f":"REFERENTES!C205","v":58093}]
[null,null,null,null,null,null,null,null,null,null,null,null,null,null,null,null,null,null,null,null,null,null,null,null,null,null,null,null,{"$f":"IF(AND(REFERENTES!C208<>\"\",          REFERENTES!C208<>96321,    REFERENTES!C208<>96222            ),(REFERENTES!E208),\"\")","v":"parcela medianamente intervenida con predominancia de Rizhophora mangle"},{"$f":"REFERENTES!C208","v":46002},null,206,"manglar altamente intervenido con muchos claros en la estructura del bosque",206,"La parcela se encuentra en una franja de manglar tipo borde, continua y de considerable anchura, perpendicular a la línea de costa y a su vez paralela al brazo Calcancala del Río Rancheria. _x000D_"," ",null,{"$f":"CONCATENATE(REFERENTES!A206,\"(\",REFERENTES!B206,\")\")","v":"Palosecal(VIRU-SZ1-PALOS-1)"},{"$f":"REFERENTES!C206","v":42123}]
[null,null,null,null,null,null,null,null,null,null,null,null,null,null,null,null,null,null,null,null,null,null,null,null,null,null,null,null,{"$f":"IF(AND(REFERENTES!C209<>\"\",          REFERENTES!C209<>96321,    REFERENTES!C209<>96222            ),(REFERENTES!E209),\"\")","v":"MANGLAR DE ESTRUCTURA VERTICAL Y HORIZONTAL BIEN DESARROLLADA CON DOMINANCIA DEL MANGLE ROJO. PRESENCIA DE ARBOLES MUERTOS AL PARECER POR EFECTO DE DESCARGA ELÉCTRICA."},{"$f":"REFERENTES!C209","v":45391},null,207,"parcela medianamente intervenida con predominancia de Rizhophora mangle",207,"La parcela se encuentra en una franja de manglar tipo borde, continua y de considerable anchura, perpendicular a la línea de costa y a su vez paralela al brazo Calcancala del Río Rancheria. _x000D_"," ",null,{"$f":"CONCATENATE(REFERENTES!A207,\"(\",REFERENTES!B207,\")\")","v":"Parcela Esteh(CAJA-ZR1-Esteh-1)"},{"$f":"REFERENTES!C207","v":46020}]
[null,null,null,null,null,null,null,null,null,null,null,null,null,null,null,null,null,null,null,null,null,null,null,null,null,null,null,null,{"$f":"IF(AND(REFERENTES!C210<>\"\",          REFERENTES!C210<>96321,    REFERENTES!C210<>96222            ),(REFERENTES!E210),\"\")","v":0},{"$f":"REFERENTES!C210","v":42127},null,208,"MANGLAR DE ESTRUCTURA VERTICAL Y HORIZONTAL BIEN DESARROLLADA CON DOMINANCIA DEL MANGLE ROJO. PRESENCIA DE ARBOLES MUERTOS AL PARECER POR EFECTO DE DESCARGA ELÉCTRICA.",208,"La parcela se encuentra en una franja de manglar tipo borde, continua y de considerable anchura, perpendicular a la línea de costa y a su vez paralela al brazo Calcancala del Río Rancheria. _x000D_"," ",null,{"$f":"CONCATENATE(REFERENTES!A208,\"(\",REFERENTES!B208,\")\")","v":"Parcela Play(CAJA-ZUS1-Ply-1)"},{"$f":"REFERENTES!C208","v":46002}]
[null,null,null,null,null,null,null,null,null,null,null,null,null,null,null,null,null,null,null,null,null,null,null,null,null,null,null,null,{"$f":"IF(AND(REFERENTES!C211<>\"\",          REFERENTES!C211<>96321,    REFERENTES!C211<>96222            ),(REFERENTES!E211),\"\")","v":"Bosque de porte alto.Presencia de R. mangle, L. racemosa y A. germinans.  La sp más abundante y dominante es A. germinans, Presión antrópica relacionada con el aprovechamiento del cangrejo azul, antes utilizaban barbasco, en la actualidad palas hasta sacar los pocos y de pequeñas tallas que quedan."},{"$f":"REFERENTES!C211","v":48471},null,209,0,1290,"La parcela se ubica detrás de una cabaña de pescadores, a 18 m de esta y a 34 m de la línea de vegetación, se encuentra una cerca. En la zona predomina la C. erectus muy ramificado, en los primeros metros del transecto se encuentra B marítima y suelos firmes y arenosos. Se encontraron residuos sólidos."," ",null,{"$f":"CONCATENATE(REFERENTES!A209,\"(\",REFERENTES!B209,\")\")","v":"Pasacaballos(CAMREAL-ZUS2-CABALLOS-1)"},{"$f":"REFERENTES!C209","v":45391}]
[null,null,null,null,null,null,null,null,null,null,null,null,null,null,null,null,null,null,null,null,null,null,null,null,null,null,null,null,{"$f":"IF(AND(REFERENTES!C212<>\"\",          REFERENTES!C212<>96321,    REFERENTES!C212<>96222            ),(REFERENTES!E212),\"\")","v":"Este bosque presenta características propias de un manglar medianamente intervenido en proceso de recuperación. Se observa una mayor área basal  en el 2015 con respecto al 2007 aunque el análisis comparativo no tiene relación  directa puesto que se trata de dos sitios diferentes aunque muy cercanos"},{"$f":"REFERENTES!C212","v":45880},null,210,"Bosque de porte alto.Presencia de R. mangle, L. racemosa y A. germinans.  La sp más abundante y dominante es A. germinans, Presión antrópica relacionada con el aprovechamiento del cangrejo azul, antes utilizaban barbasco, en la actualidad palas hasta sacar los pocos y de pequeñas tallas que quedan.",210,"Estación Manglar Velodia Road (formada por 1 parcela circular): Es un manglar de tierra adentro, ubicado en el costado sur de la Isla, que presenta una cobertura de 1,0 ha (INVEMAR-CORALINA, 2016)."," ",null,{"$f":"CONCATENATE(REFERENTES!A210,\"(\",REFERENTES!B210,\")\")","v":"Peñitas(VIRU-SZ1-PEÑI-1)"},{"$f":"REFERENTES!C210","v":42127}]
[null,null,null,null,null,null,null,null,null,null,null,null,null,null,null,null,null,null,null,null,null,null,null,null,null,null,null,null,{"$f":"IF(AND(REFERENTES!C213<>\"\",          REFERENTES!C213<>96321,    REFERENTES!C213<>96222            ),(REFERENTES!E213),\"\")","v":"En los 10 primeros metros se encuentran Botellas Pet, resultado de un campamento militar que se ubicó en el sector tiempo atrás, Estación dominada por L. racemosa, al final el terreno se va volviendo duro y seco"},{"$f":"REFERENTES!C213","v":44603},null,211,"Este bosque presenta características propias de un manglar medianamente intervenido en proceso de recuperación. Se observa una mayor área basal  en el 2015 con respecto al 2007 aunque el análisis comparativo no tiene relación  directa puesto que se trata de dos sitios diferentes aunque muy cercanos",211,"Estación bordeada por un canal, con sustrato fangoso, Bosque en buen estado con abundante regeneración natural."," ",null,{"$f":"CONCATENATE(REFERENTES!A211,\"(\",REFERENTES!B211,\")\")","v":"Puerto Cesar-1(CORI-ZP1-Pces-1)"},{"$f":"REFERENTES!C211","v":48471}]
[null,null,null,null,null,null,null,null,null,null,null,null,null,null,null,null,null,null,null,null,null,null,null,null,null,null,null,null,{"$f":"IF(AND(REFERENTES!C214<>\"\",          REFERENTES!C214<>96321,    REFERENTES!C214<>96222            ),(REFERENTES!E214),\"\")","v":"Parcela con presencia de L. racemosa, A. germinans y R. mangle, bosque tupido con numeras raíces fúlcreas .regeneración natural abundante, sustrato duro."},{"$f":"REFERENTES!C214","v":44621},null,212,"En los 10 primeros metros se encuentran Botellas Pet, resultado de un campamento militar que se ubicó en el sector tiempo atrás, Estación dominada por L. racemosa, al final el terreno se va volviendo duro y seco",212,"En términos generales este bosque no se ha podido recuperar desde la última zonificación y por el contrario la tendencia es a disminuir su área basal  y por reacción y como estrategia de resiliencia el bosque genera más regeneración natural que se observa en el aumento de más del 300% en  el número de árboles."," ",null,{"$f":"CONCATENATE(REFERENTES!A212,\"(\",REFERENTES!B212,\")\")","v":"Puerto España(BSJU-ZR3-SJPE-1)"},{"$f":"REFERENTES!C212","v":45880}]
[null,null,null,null,null,null,null,null,null,null,null,null,null,null,null,null,null,null,null,null,null,null,null,null,null,null,null,null,{"$f":"IF(AND(REFERENTES!C215<>\"\",          REFERENTES!C215<>96321,    REFERENTES!C215<>96222            ),(REFERENTES!E215),\"\")","v":"Es la parcela más lejana de este sector se ubica a 1.7 km al sur del caño San Luis .Esta parcela  presenta la mayor densidad en comparación a las restante de la estación. Conformada por A. germinans y R. mangle. Es una parcela compuesta con 5 y cada una tiene un área de 100 m²."},{"$f":"REFERENTES!C215","v":45288},null,213,"Parcela con presencia de L. racemosa, A. germinans y R. mangle, bosque tupido con numeras raíces fúlcreas .regeneración natural abundante, sustrato duro.",213,"Bosque Ralo Presencia de R. mangle, L. racemosa y A. germinans.  Vegetación inferior del helecho A. aureum y majagua.  Escasos árboles pero de porte alto.  Presión antrópica relacionada por la ampliación de áreas ganaderas.  Presencia de cercas de alambre en el manglar."," ",null,{"$f":"CONCATENATE(REFERENTES!A213,\"(\",REFERENTES!B213,\")\")","v":"Punta Arenas(TBOM-ZP1-PtaArenas-1)"},{"$f":"REFERENTES!C213","v":44603}]
[null,null,null,null,null,null,null,null,null,null,null,null,null,null,null,null,null,null,null,null,null,null,null,null,null,null,null,null,{"$f":"IF(AND(REFERENTES!C216<>\"\",          REFERENTES!C216<>96321,    REFERENTES!C216<>96222            ),(REFERENTES!E216),\"\")","v":"Se localiza a 1.4 km al sur del caño San Luis. Es una parcela compuesta por 5 parcelas y cada una tiene un área de 100 m². Esta Parcela presenta la menor densidad de la estación conformada por  A. germinans y R. mangle."},{"$f":"REFERENTES!C216","v":45290},null,214,"Es la parcela más lejana de este sector se ubica a 1.7 km al sur del caño San Luis .Esta parcela  presenta la mayor densidad en comparación a las restante de la estación. Conformada por A. germinans y R. mangle. Es una parcela compuesta con 5 y cada una tiene un área de 100 m².",214,"Bosque Ralo al interior.  La sp más abundante es el R. mangle seguido de L.racemosa Presencia de helecho A. aureum.  Presión antrópica relacionada por Corta de Varas y presencia de agallas en todas las estructuras del manglar, especialmente en el R. mangle."," ",null,{"$f":"CONCATENATE(REFERENTES!A214,\"(\",REFERENTES!B214,\")\")","v":"Punta Boqueron(JPVI-ZR1-Boquerón-1)"},{"$f":"REFERENTES!C214","v":44621}]
[null,null,null,null,null,null,null,null,null,null,null,null,null,null,null,null,null,null,null,null,null,null,null,null,null,null,null,null,{"$f":"IF(AND(REFERENTES!C217<>\"\",          REFERENTES!C217<>96321,    REFERENTES!C217<>96222            ),(REFERENTES!E217),\"\")","v":"Es la parcela más cercana al caño San Luis ubicarse a una distancia de 1 km  en dirección sur, entre áreas inundadas. Es una parcela compuesta, constituida con 5 y cada una tiene un área de 100 m². Conformada con  A. germinans y R. mangle. Se observó tala."},{"$f":"REFERENTES!C217","v":45292},null,215,"Se localiza a 1.4 km al sur del caño San Luis. Es una parcela compuesta por 5 parcelas y cada una tiene un área de 100 m². Esta Parcela presenta la menor densidad de la estación conformada por  A. germinans y R. mangle.",215,"X"," ",null,{"$f":"CONCATENATE(REFERENTES!A215,\"(\",REFERENTES!B215,\")\")","v":"Punta Cerro -1(CGSM-SZ1-PtaCerro-1)"},{"$f":"REFERENTES!C215","v":45288}]
[null,null,null,null,null,null,null,null,null,null,null,null,null,null,null,null,null,null,null,null,null,null,null,null,null,null,null,null,{"$f":"IF(AND(REFERENTES!C218<>\"\",          REFERENTES!C218<>96321,    REFERENTES!C218<>96222            ),(REFERENTES!E218),\"\")","v":"Se localiza aproximadamente 5 km al norte de desembocadura del río Sevilla,  en el sector llamado Punta Chino. El bosque está constituido por A. germinans, L. racemosa y  R mangle la cual se encuentra hasta 80 metros desde la línea de agua. Es una parcela compuesta, constituida por 5 parcelas y cada una tiene un área de 100 m²."},{"$f":"REFERENTES!C218","v":45274},null,216,"Es la parcela más cercana al caño San Luis ubicarse a una distancia de 1 km  en dirección sur, entre áreas inundadas. Es una parcela compuesta, constituida con 5 y cada una tiene un área de 100 m². Conformada con  A. germinans y R. mangle. Se observó tala.",216,"X"," ",null,{"$f":"CONCATENATE(REFERENTES!A216,\"(\",REFERENTES!B216,\")\")","v":"Punta Cerro -2(CGSM-SZ1-PtaCerro-2)"},{"$f":"REFERENTES!C216","v":45290}]
[null,null,null,null,null,null,null,null,null,null,null,null,null,null,null,null,null,null,null,null,null,null,null,null,null,null,null,null,{"$f":"IF(AND(REFERENTES!C219<>\"\",          REFERENTES!C219<>96321,    REFERENTES!C219<>96222            ),(REFERENTES!E219),\"\")","v":"Se localiza a  400 m al norte de Punta Chino. El bosque se encuentra en buen estado. Presencia de R. mangle a lo largo del transecto y predominio de A. germinans, en menor proporción L. racemosa. Es una parcela compuesta, constituida por 5 parcelas y cada una tiene un área de 100 m²"},{"$f":"REFERENTES!C219","v":45276},null,217,"Se localiza aproximadamente 5 km al norte de desembocadura del río Sevilla,  en el sector llamado Punta Chino. El bosque está constituido por A. germinans, L. racemosa y  R mangle la cual se encuentra hasta 80 metros desde la línea de agua. Es una parcela compuesta, constituida por 5 parcelas y cada una tiene un área de 100 m².",217,"X"," ",null,{"$f":"CONCATENATE(REFERENTES!A217,\"(\",REFERENTES!B217,\")\")","v":"Punta Cerro -3(CGSM-SZ1-PtaCerro-3)"},{"$f":"REFERENTES!C217","v":45292}]
[null,null,null,null,null,null,null,null,null,null,null,null,null,null,null,null,null,null,null,null,null,null,null,null,null,null,null,null,{"$f":"IF(AND(REFERENTES!C220<>\"\",          REFERENTES!C220<>96321,    REFERENTES!C220<>96222            ),(REFERENTES!E220),\"\")","v":"Se ubica a  900 m al norte de Punta Chino,  Con predominio de A. germinans, presencia de R. mangla a lo largo del transecto,  y L. racemosa solo aparece en la parcela 5. Es una parcela compuesta, constituida por 5 parcelas y cada una tiene un área de 100 m²"},{"$f":"REFERENTES!C220","v":45278},null,218,"Se localiza a  400 m al norte de Punta Chino. El bosque se encuentra en buen estado. Presencia de R. mangle a lo largo del transecto y predominio de A. germinans, en menor proporción L. racemosa. Es una parcela compuesta, constituida por 5 parcelas y cada una tiene un área de 100 m²",218,"X"," ",null,{"$f":"CONCATENATE(REFERENTES!A218,\"(\",REFERENTES!B218,\")\")","v":"Punta Chino -1(CGSM-SZ1-PtaChino-1)"},{"$f":"REFERENTES!C218","v":45274}]
[null,null,null,null,null,null,null,null,null,null,null,null,null,null,null,null,null,null,null,null,null,null,null,null,null,null,null,null,{"$f":"IF(AND(REFERENTES!C221<>\"\",          REFERENTES!C221<>96321,    REFERENTES!C221<>96222            ),(REFERENTES!E221),\"\")","v":"Pequeña franja con residuos o basuras, con predominio de arboles de baja altura y baja densidad de R. mangle.  Presión antrópica por corta de varas y aumento de la frontera agrícola."},{"$f":"REFERENTES!C221","v":48403},null,219,"Se ubica a  900 m al norte de Punta Chino,  Con predominio de A. germinans, presencia de R. mangla a lo largo del transecto,  y L. racemosa solo aparece en la parcela 5. Es una parcela compuesta, constituida por 5 parcelas y cada una tiene un área de 100 m²",219,"X"," ",null,{"$f":"CONCATENATE(REFERENTES!A219,\"(\",REFERENTES!B219,\")\")","v":"Punta Chino -2(CGSM-SZ1-PtaChino-2)"},{"$f":"REFERENTES!C219","v":45276}]
[null,null,null,null,null,null,null,null,null,null,null,null,null,null,null,null,null,null,null,null,null,null,null,null,null,null,null,null,{"$f":"IF(AND(REFERENTES!C222<>\"\",          REFERENTES!C222<>96321,    REFERENTES!C222<>96222            ),(REFERENTES!E222),\"\")","v":0},{"$f":"REFERENTES!C222","v":44400},null,220,"Pequeña franja con residuos o basuras, con predominio de arboles de baja altura y baja densidad de R. mangle.  Presión antrópica por corta de varas y aumento de la frontera agrícola.",220,"X"," ",null,{"$f":"CONCATENATE(REFERENTES!A220,\"(\",REFERENTES!B220,\")\")","v":"Punta Chino -3(CGSM-SZ1-PtaChino-3)"},{"$f":"REFERENTES!C220","v":45278}]
[null,null,null,null,null,null,null,null,null,null,null,null,null,null,null,null,null,null,null,null,null,null,null,null,null,null,null,null,{"$f":"IF(AND(REFERENTES!C223<>\"\",          REFERENTES!C223<>96321,    REFERENTES!C223<>96222            ),(REFERENTES!E223),\"\")","v":"Bosque ralo al interior.  Predomina casi en su totalidad el  R. mangle, y escasa presencia de  L. racemosa y A. germinans.  Fuera de la parcela se observó un juvenil de P. rhizophorae.  Intervención Antrópica, representada en corta de varas.  Presencia de tarros, bolsas y desechos en general."},{"$f":"REFERENTES!C223","v":48432},null,221,0,1290,"X"," ",null,{"$f":"CONCATENATE(REFERENTES!A221,\"(\",REFERENTES!B221,\")\")","v":"Punta Coquito(BCOL-ZP1-Pcoq-1)"},{"$f":"REFERENTES!C221","v":48403}]
[null,null,null,null,null,null,null,null,null,null,null,null,null,null,null,null,null,null,null,null,null,null,null,null,null,null,null,null,{"$f":"IF(AND(REFERENTES!C224<>\"\",          REFERENTES!C224<>96321,    REFERENTES!C224<>96222            ),(REFERENTES!E224),\"\")","v":0},{"$f":"REFERENTES!C224","v":46006},null,222,"Bosque ralo al interior.  Predomina casi en su totalidad el  R. mangle, y escasa presencia de  L. racemosa y A. germinans.  Fuera de la parcela se observó un juvenil de P. rhizophorae.  Intervención Antrópica, representada en corta de varas.  Presencia de tarros, bolsas y desechos en general.",222,"X"," ",null,{"$f":"CONCATENATE(REFERENTES!A222,\"(\",REFERENTES!B222,\")\")","v":"Punta Seca(PSEC-ZR1-PSEC-1)"},{"$f":"REFERENTES!C222","v":44400}]
[null,null,null,null,null,null,null,null,null,null,null,null,null,null,null,null,null,null,null,null,null,null,null,null,null,null,null,null,{"$f":"IF(AND(REFERENTES!C225<>\"\",          REFERENTES!C225<>96321,    REFERENTES!C225<>96222            ),(REFERENTES!E225),\"\")","v":0},{"$f":"REFERENTES!C225","v":58068},null,223,0,1290,"X"," ",null,{"$f":"CONCATENATE(REFERENTES!A223,\"(\",REFERENTES!B223,\")\")","v":"Punta de las Vacas-1(CORI-ZP1-Pvac-1)"},{"$f":"REFERENTES!C223","v":48432}]
[null,null,null,null,null,null,null,null,null,null,null,null,null,null,null,null,null,null,null,null,null,null,null,null,null,null,null,null,{"$f":"IF(AND(REFERENTES!C226<>\"\",          REFERENTES!C226<>96321,    REFERENTES!C226<>96222            ),(REFERENTES!E226),\"\")","v":0},{"$f":"REFERENTES!C226","v":58069},null,224,0,1290,"X"," ",null,{"$f":"CONCATENATE(REFERENTES!A224,\"(\",REFERENTES!B224,\")\")","v":"Quebrada Balsadito(MAYO-ZR3-QB-1)"},{"$f":"REFERENTES!C224","v":46006}]
[null,null,null,null,null,null,null,null,null,null,null,null,null,null,null,null,null,null,null,null,null,null,null,null,null,null,null,null,{"$f":"IF(AND(REFERENTES!C227<>\"\",          REFERENTES!C227<>96321,    REFERENTES!C227<>96222            ),(REFERENTES!E227),\"\")","v":0},{"$f":"REFERENTES!C227","v":58070},null,225,0,1290,"X"," ",null,{"$f":"CONCATENATE(REFERENTES!A225,\"(\",REFERENTES!B225,\")\")","v":"REF PARCELA1(REF_P1)"},{"$f":"REFERENTES!C225","v":58068}]
[null,null,null,null,null,null,null,null,null,null,null,null,null,null,null,null,null,null,null,null,null,null,null,null,null,null,null,null,{"$f":"IF(AND(REFERENTES!C228<>\"\",          REFERENTES!C228<>96321,    REFERENTES!C228<>96222            ),(REFERENTES!E228),\"\")","v":0},{"$f":"REFERENTES!C228","v":58080},null,226,0,1290,"X"," ",null,{"$f":"CONCATENATE(REFERENTES!A226,\"(\",REFERENTES!B226,\")\")","v":"REF PARCELA2(REF_P2)"},{"$f":"REFERENTES!C226","v":58069}]
[null,null,null,null,null,null,null,null,null,null,null,null,null,null,null,null,null,null,null,null,null,null,null,null,null,null,null,null,{"$f":"IF(AND(REFERENTES!C229<>\"\",          REFERENTES!C229<>96321,    REFERENTES!C229<>96222            ),(REFERENTES!E229),\"\")","v":0},{"$f":"REFERENTES!C229","v":58081},null,227,0,1290,"X"," ",null,{"$f":"CONCATENATE(REFERENTES!A227,\"(\",REFERENTES!B227,\")\")","v":"REF PARCELA3(REF_P3)"},{"$f":"REFERENTES!C227","v":58070}]
[null,null,null,null,null,null,null,null,null,null,null,null,null,null,null,null,null,null,null,null,null,null,null,null,null,null,null,null,{"$f":"IF(AND(REFERENTES!C230<>\"\",          REFERENTES!C230<>96321,    REFERENTES!C230<>96222            ),(REFERENTES!E230),\"\")","v":0},{"$f":"REFERENTES!C230","v":58082},null,228,0,1290,"X"," ",null,{"$f":"CONCATENATE(REFERENTES!A228,\"(\",REFERENTES!B228,\")\")","v":"REF RIN PARCELA1(REF_P1)"},{"$f":"REFERENTES!C228","v":58080}]
[null,null,null,null,null,null,null,null,null,null,null,null,null,null,null,null,null,null,null,null,null,null,null,null,null,null,null,null,{"$f":"IF(AND(REFERENTES!C231<>\"\",          REFERENTES!C231<>96321,    REFERENTES!C231<>96222            ),(REFERENTES!E231),\"\")","v":"La parcela se encuentra  paralela a linea de costa en una franja de mangle"},{"$f":"REFERENTES!C231","v":44392},null,229,0,1290,"X"," ",null,{"$f":"CONCATENATE(REFERENTES!A229,\"(\",REFERENTES!B229,\")\")","v":"REF RIN PARCELA2(REF_P2)"},{"$f":"REFERENTES!C229","v":58081}]
[null,null,null,null,null,null,null,null,null,null,null,null,null,null,null,null,null,null,null,null,null,null,null,null,null,null,null,null,{"$f":"IF(AND(REFERENTES!C232<>\"\",          REFERENTES!C232<>96321,    REFERENTES!C232<>96222            ),(REFERENTES!E232),\"\")","v":"La parcela se encuentra paralela a la linea de costa."},{"$f":"REFERENTES!C232","v":44395},null,230,"La parcela se encuentra  paralela a linea de costa en una franja de mangle",230,"X"," ",null,{"$f":"CONCATENATE(REFERENTES!A230,\"(\",REFERENTES!B230,\")\")","v":"REF RIN PARCELA3(REF_P3)"},{"$f":"REFERENTES!C230","v":58082}]
[null,null,null,null,null,null,null,null,null,null,null,null,null,null,null,null,null,null,null,null,null,null,null,null,null,null,null,null,{"$f":"IF(AND(REFERENTES!C233<>\"\",          REFERENTES!C233<>96321,    REFERENTES!C233<>96222            ),(REFERENTES!E233),\"\")","v":"Parcela 1 monitoreada por el INVEMAR en el marco del ¨Monitoreo de las condiciones ambientales y los cambios estructurales y funcionales de las comunidades vegetales y de los recursos pesqueros durante la rehabilitación de la Ciénaga Grande de Santa Marta¨"},{"$f":"REFERENTES!C233","v":45914},null,231,"La parcela se encuentra paralela a la linea de costa.",231,"X"," ",null,{"$f":"CONCATENATE(REFERENTES!A231,\"(\",REFERENTES!B231,\")\")","v":"Rincon Norte(RINC-ZP1-RNOR-1)"},{"$f":"REFERENTES!C231","v":44392}]
[null,null,null,null,null,null,null,null,null,null,null,null,null,null,null,null,null,null,null,null,null,null,null,null,null,null,null,null,{"$f":"IF(AND(REFERENTES!C234<>\"\",          REFERENTES!C234<>96321,    REFERENTES!C234<>96222            ),(REFERENTES!E234),\"\")","v":"Parcela 2 monitoreada por el INVEMAR en el marco del ¨Monitoreo de las condiciones ambientales y los cambios estructurales y funcionales de las comunidades vegetales y de los recursos pesqueros durante la rehabilitación de la Ciénaga Grande de Santa Marta¨"},{"$f":"REFERENTES!C234","v":45916},null,232,"Parcela 1 monitoreada por el INVEMAR en el marco del ¨Monitoreo de las condiciones ambientales y los cambios estructurales y funcionales de las comunidades vegetales y de los recursos pesqueros durante la rehabilitación de la Ciénaga Grande de Santa Marta¨",232,"X"," ",null,{"$f":"CONCATENATE(REFERENTES!A232,\"(\",REFERENTES!B232,\")\")","v":"Rincon Sur(RINC-ZR1-RSUR-1)"},{"$f":"REFERENTES!C232","v":44395}]
[null,null,null,null,null,null,null,null,null,null,null,null,null,null,null,null,null,null,null,null,null,null,null,null,null,null,null,null,{"$f":"IF(AND(REFERENTES!C235<>\"\",          REFERENTES!C235<>96321,    REFERENTES!C235<>96222            ),(REFERENTES!E235),\"\")","v":"Parcela 3 monitoreada por el INVEMAR en el marco del ¨Monitoreo de las condiciones ambientales y los cambios estructurales y funcionales de las comunidades vegetales y de los recursos pesqueros durante la rehabilitación de la Ciénaga Grande de Santa Marta¨"},{"$f":"REFERENTES!C235","v":45920},null,233,"Parcela 2 monitoreada por el INVEMAR en el marco del ¨Monitoreo de las condiciones ambientales y los cambios estructurales y funcionales de las comunidades vegetales y de los recursos pesqueros durante la rehabilitación de la Ciénaga Grande de Santa Marta¨",233,"X"," ",null,{"$f":"CONCATENATE(REFERENTES!A233,\"(\",REFERENTES!B233,\")\")","v":"Rinconada -1(VIPIS-SZ1-RIN-1)"},{"$f":"REFERENTES!C233","v":45914}]
[null,null,null,null,null,null,null,null,null,null,null,null,null,null,null,null,null,null,null,null,null,null,null,null,null,null,null,null,{"$f":"IF(AND(REFERENTES!C236<>\"\",          REFERENTES!C236<>96321,    REFERENTES!C236<>96222            ),(REFERENTES!E236),\"\")","v":"Parcela rectangular de 20 m x 50 m, dispuesta en la margen derecha del Río Ancachí, cuya composición florística está dada por las especies Rhizophora mangle, Avicennia germinans y Mora oleifera."},{"$f":"REFERENTES!C236","v":45086},null,234,"Parcela 3 monitoreada por el INVEMAR en el marco del ¨Monitoreo de las condiciones ambientales y los cambios estructurales y funcionales de las comunidades vegetales y de los recursos pesqueros durante la rehabilitación de la Ciénaga Grande de Santa Marta¨",234,"X"," ",null,{"$f":"CONCATENATE(REFERENTES!A234,\"(\",REFERENTES!B234,\")\")","v":"Rinconada -2(VIPIS-SZ1-RIN-2)"},{"$f":"REFERENTES!C234","v":45916}]
[null,null,null,null,null,null,null,null,null,null,null,null,null,null,null,null,null,null,null,null,null,null,null,null,null,null,null,null,{"$f":"IF(AND(REFERENTES!C237<>\"\",          REFERENTES!C237<>96321,    REFERENTES!C237<>96222            ),(REFERENTES!E237),\"\")","v":"Relicto de manglar de porte alto con pequeña extensión al costado sur de la desembocadura del río Caimán viejo. Se reporta R, mangle, L. racemosa y algunos A. germinans,de bajo porte y malformados, bosque poco denso. Presión antrópica por aumento de la frontera agrícola."},{"$f":"REFERENTES!C237","v":48440},null,235,"Parcela rectangular de 20 m x 50 m, dispuesta en la margen derecha del Río Ancachí, cuya composición florística está dada por las especies Rhizophora mangle, Avicennia germinans y Mora oleifera.",235,"X"," ",null,{"$f":"CONCATENATE(REFERENTES!A235,\"(\",REFERENTES!B235,\")\")","v":"Rinconada -3(VIPIS-SZ1-RIN-3)"},{"$f":"REFERENTES!C235","v":45920}]
[null,null,null,null,null,null,null,null,null,null,null,null,null,null,null,null,null,null,null,null,null,null,null,null,null,null,null,null,{"$f":"IF(AND(REFERENTES!C238<>\"\",          REFERENTES!C238<>96321,    REFERENTES!C238<>96222            ),(REFERENTES!E238),\"\")","v":"Parcela rectangular de 0.1 ha, ubicada a 1.25 km aproximadamente de la comunidad de Jurubirá, en la margen derecha del Estero La Vuelta, cuya flora está compuesta por Rhizophora mangle y Rhizophora racemosa."},{"$f":"REFERENTES!C238","v":45248},null,236,"Relicto de manglar de porte alto con pequeña extensión al costado sur de la desembocadura del río Caimán viejo. Se reporta R, mangle, L. racemosa y algunos A. germinans,de bajo porte y malformados, bosque poco denso. Presión antrópica por aumento de la frontera agrícola.",236,"X"," ",null,{"$f":"CONCATENATE(REFERENTES!A236,\"(\",REFERENTES!B236,\")\")","v":"Rio Ancachi(Nuquí-ZR1-RIAN-1)"},{"$f":"REFERENTES!C236","v":45086}]
[null,null,null,null,null,null,null,null,null,null,null,null,null,null,null,null,null,null,null,null,null,null,null,null,null,null,null,null,{"$f":"IF(AND(REFERENTES!C239<>\"\",          REFERENTES!C239<>96321,    REFERENTES!C239<>96222            ),(REFERENTES!E239),\"\")","v":"La parcela se ubicó al costado norte de la boca, encontrando un manglar con predominio de L. racemosa y R. mangle.  No se evidenció afectación por basuras o influencia antrópica.  Bosque limpio."},{"$f":"REFERENTES!C239","v":48574},null,237,"Parcela rectangular de 0.1 ha, ubicada a 1.25 km aproximadamente de la comunidad de Jurubirá, en la margen derecha del Estero La Vuelta, cuya flora está compuesta por Rhizophora mangle y Rhizophora racemosa.",237,"X"," ",null,{"$f":"CONCATENATE(REFERENTES!A237,\"(\",REFERENTES!B237,\")\")","v":"Rio Caimán Viejo(CORI-ZUS1-Cviej-1)"},{"$f":"REFERENTES!C237","v":48440}]
[null,null,null,null,null,null,null,null,null,null,null,null,null,null,null,null,null,null,null,null,null,null,null,null,null,null,null,null,{"$f":"IF(AND(REFERENTES!C240<>\"\",          REFERENTES!C240<>96321,    REFERENTES!C240<>96222            ),(REFERENTES!E240),\"\")","v":0},{"$f":"REFERENTES!C240","v":49591},null,238,"La parcela se ubicó al costado norte de la boca, encontrando un manglar con predominio de L. racemosa y R. mangle.  No se evidenció afectación por basuras o influencia antrópica.  Bosque limpio.",238,"X"," ",null,{"$f":"CONCATENATE(REFERENTES!A238,\"(\",REFERENTES!B238,\")\")","v":"Rio Chorí(Jurub-ZUS1-Pabarc-1)"},{"$f":"REFERENTES!C238","v":45248}]
[null,null,null,null,null,null,null,null,null,null,null,null,null,null,null,null,null,null,null,null,null,null,null,null,null,null,null,null,{"$f":"IF(AND(REFERENTES!C241<>\"\",          REFERENTES!C241<>96321,    REFERENTES!C241<>96222            ),(REFERENTES!E241),\"\")","v":"Es la más cercana a la desembocadura del Rio Sevilla a unos 600 m  El manglar presenta un nivel de desarrollo bajo, en suelos pantanosos.  La regeneración natural es media. Es una parcela compuesta, constituida por 5 parcelas y cada una tiene un área de 100 m²."},{"$f":"REFERENTES!C241","v":45267},null,239,0,1290,"X"," ",null,{"$f":"CONCATENATE(REFERENTES!A239,\"(\",REFERENTES!B239,\")\")","v":"Rio Necocli(CORI-ZR1-Rnec-2)"},{"$f":"REFERENTES!C239","v":48574}]
[null,null,null,null,null,null,null,null,null,null,null,null,null,null,null,null,null,null,null,null,null,null,null,null,null,null,null,null,{"$f":"IF(AND(REFERENTES!C242<>\"\",          REFERENTES!C242<>96321,    REFERENTES!C242<>96222            ),(REFERENTES!E242),\"\")","v":"Se localiza a 800 m de la desembocadura del Rio Sevilla,  El mangle presenta un nivel de desarrollo Medio bajo, en suelos pantanosos. La regeneración natural es baja.  Es una parcela compuesta, constituida por 5 parcelas y cada una tiene un área de 100 m²"},{"$f":"REFERENTES!C242","v":45269},null,240,"Es la más cercana a la desembocadura del Rio Sevilla a unos 600 m  El manglar presenta un nivel de desarrollo bajo, en suelos pantanosos.  La regeneración natural es media. Es una parcela compuesta, constituida por 5 parcelas y cada una tiene un área de 100 m².",240,"X"," ",null,{"$f":"CONCATENATE(REFERENTES!A240,\"(\",REFERENTES!B240,\")\")","v":"Rio Saija 3-1(CANT-SZ1-SAIJA3-1)"},{"$f":"REFERENTES!C240","v":49591}]
[null,null,null,null,null,null,null,null,null,null,null,null,null,null,null,null,null,null,null,null,null,null,null,null,null,null,null,null,{"$f":"IF(AND(REFERENTES!C243<>\"\",          REFERENTES!C243<>96321,    REFERENTES!C243<>96222            ),(REFERENTES!E243),\"\")","v":"Se localiza a 900 m de la desembocadura del Rio Sevilla,  El mangle presenta un nivel de desarrollo Medio bajo. Es una parcela compuesta, constituida por 5 parcelas y cada una tiene un área de 100 m²"},{"$f":"REFERENTES!C243","v":45271},null,241,"Se localiza a 800 m de la desembocadura del Rio Sevilla,  El mangle presenta un nivel de desarrollo Medio bajo, en suelos pantanosos. La regeneración natural es baja.  Es una parcela compuesta, constituida por 5 parcelas y cada una tiene un área de 100 m²",241,"X"," ",null,{"$f":"CONCATENATE(REFERENTES!A241,\"(\",REFERENTES!B241,\")\")","v":"Rio Sevilla -1(CGSM-SZ1-Sevillla-1)"},{"$f":"REFERENTES!C241","v":45267}]
[null,null,null,null,null,null,null,null,null,null,null,null,null,null,null,null,null,null,null,null,null,null,null,null,null,null,null,null,{"$f":"IF(AND(REFERENTES!C244<>\"\",          REFERENTES!C244<>96321,    REFERENTES!C244<>96222            ),(REFERENTES!E244),\"\")","v":0},{"$f":"REFERENTES!C244","v":57505},null,242,"Se localiza a 900 m de la desembocadura del Rio Sevilla,  El mangle presenta un nivel de desarrollo Medio bajo. Es una parcela compuesta, constituida por 5 parcelas y cada una tiene un área de 100 m²",242,"X"," ",null,{"$f":"CONCATENATE(REFERENTES!A242,\"(\",REFERENTES!B242,\")\")","v":"Rio Sevilla -2(CGSM-SZ1-Sevillla-2)"},{"$f":"REFERENTES!C242","v":45269}]
[null,null,null,null,null,null,null,null,null,null,null,null,null,null,null,null,null,null,null,null,null,null,null,null,null,null,null,null,{"$f":"IF(AND(REFERENTES!C245<>\"\",          REFERENTES!C245<>96321,    REFERENTES!C245<>96222            ),(REFERENTES!E245),\"\")","v":0},{"$f":"REFERENTES!C245","v":57506},null,243,0,1290,"X"," ",null,{"$f":"CONCATENATE(REFERENTES!A243,\"(\",REFERENTES!B243,\")\")","v":"Rio Sevilla -3(CGSM-SZ1-Sevillla-3)"},{"$f":"REFERENTES!C243","v":45271}]
[null,null,null,null,null,null,null,null,null,null,null,null,null,null,null,null,null,null,null,null,null,null,null,null,null,null,null,null,{"$f":"IF(AND(REFERENTES!C246<>\"\",          REFERENTES!C246<>96321,    REFERENTES!C246<>96222            ),(REFERENTES!E246),\"\")","v":0},{"$f":"REFERENTES!C246","v":57507},null,244,0,1290,"X"," ",null,{"$f":"CONCATENATE(REFERENTES!A244,\"(\",REFERENTES!B244,\")\")","v":"Rio Toribio - MI(Toribio_1)"},{"$f":"REFERENTES!C244","v":57505}]
[null,null,null,null,null,null,null,null,null,null,null,null,null,null,null,null,null,null,null,null,null,null,null,null,null,null,null,null,{"$f":"IF(AND(REFERENTES!C247<>\"\",          REFERENTES!C247<>96321,    REFERENTES!C247<>96222            ),(REFERENTES!E247),\"\")","v":0},{"$f":"REFERENTES!C247","v":57508},null,245,0,1290,"X"," ",null,{"$f":"CONCATENATE(REFERENTES!A245,\"(\",REFERENTES!B245,\")\")","v":"Rio Toribio - MII(Toribio_2)"},{"$f":"REFERENTES!C245","v":57506}]
[null,null,null,null,null,null,null,null,null,null,null,null,null,null,null,null,null,null,null,null,null,null,null,null,null,null,null,null,{"$f":"IF(AND(REFERENTES!C248<>\"\",          REFERENTES!C248<>96321,    REFERENTES!C248<>96222            ),(REFERENTES!E248),\"\")","v":0},{"$f":"REFERENTES!C248","v":57509},null,246,0,1290,"X"," ",null,{"$f":"CONCATENATE(REFERENTES!A246,\"(\",REFERENTES!B246,\")\")","v":"Rio Toribio - MIII (Toribio_3)"},{"$f":"REFERENTES!C246","v":57507}]
[null,null,null,null,null,null,null,null,null,null,null,null,null,null,null,null,null,null,null,null,null,null,null,null,null,null,null,null,{"$f":"IF(AND(REFERENTES!C249<>\"\",          REFERENTES!C249<>96321,    REFERENTES!C249<>96222            ),(REFERENTES!E249),\"\")","v":0},{"$f":"REFERENTES!C249","v":57510},null,247,0,1290,"X"," ",null,{"$f":"CONCATENATE(REFERENTES!A247,\"(\",REFERENTES!B247,\")\")","v":"Rio Toribio - MIV(Toribio_4)"},{"$f":"REFERENTES!C247","v":57508}]
[null,null,null,null,null,null,null,null,null,null,null,null,null,null,null,null,null,null,null,null,null,null,null,null,null,null,null,null,{"$f":"IF(AND(REFERENTES!C250<>\"\",          REFERENTES!C250<>96321,    REFERENTES!C250<>96222            ),(REFERENTES!E250),\"\")","v":0},{"$f":"REFERENTES!C250","v":48867},null,248,0,1290,"X"," ",null,{"$f":"CONCATENATE(REFERENTES!A248,\"(\",REFERENTES!B248,\")\")","v":"Rio Toribio - MV(Toribio_5)"},{"$f":"REFERENTES!C248","v":57509}]
[null,null,null,null,null,null,null,null,null,null,null,null,null,null,null,null,null,null,null,null,null,null,null,null,null,null,null,null,{"$f":"IF(AND(REFERENTES!C251<>\"\",          REFERENTES!C251<>96321,    REFERENTES!C251<>96222            ),(REFERENTES!E251),\"\")","v":0},{"$f":"REFERENTES!C251","v":48869},null,249,0,1290,"X"," ",null,{"$f":"CONCATENATE(REFERENTES!A249,\"(\",REFERENTES!B249,\")\")","v":"Rio Toribio - MVI(Toribio_6)"},{"$f":"REFERENTES!C249","v":57510}]
[null,null,null,null,null,null,null,null,null,null,null,null,null,null,null,null,null,null,null,null,null,null,null,null,null,null,null,null,{"$f":"IF(AND(REFERENTES!C252<>\"\",          REFERENTES!C252<>96321,    REFERENTES!C252<>96222            ),(REFERENTES!E252),\"\")","v":0},{"$f":"REFERENTES!C252","v":48871},null,250,0,1290,"X"," ",null,{"$f":"CONCATENATE(REFERENTES!A250,\"(\",REFERENTES!B250,\")\")","v":"Rio Toribio-1(TOR-SZ1-Toribio-1)"},{"$f":"REFERENTES!C250","v":48867}]
[null,null,null,null,null,null,null,null,null,null,null,null,null,null,null,null,null,null,null,null,null,null,null,null,null,null,null,null,{"$f":"IF(AND(REFERENTES!C253<>\"\",          REFERENTES!C253<>96321,    REFERENTES!C253<>96222            ),(REFERENTES!E253),\"\")","v":0},{"$f":"REFERENTES!C253","v":48873},null,251,0,1290,"X"," ",null,{"$f":"CONCATENATE(REFERENTES!A251,\"(\",REFERENTES!B251,\")\")","v":"Rio Toribio-2(TOR-SZ1-Toribio-2)"},{"$f":"REFERENTES!C251","v":48869}]
[null,null,null,null,null,null,null,null,null,null,null,null,null,null,null,null,null,null,null,null,null,null,null,null,null,null,null,null,{"$f":"IF(AND(REFERENTES!C254<>\"\",          REFERENTES!C254<>96321,    REFERENTES!C254<>96222            ),(REFERENTES!E254),\"\")","v":0},{"$f":"REFERENTES!C254","v":48875},null,252,0,1290,"X"," ",null,{"$f":"CONCATENATE(REFERENTES!A252,\"(\",REFERENTES!B252,\")\")","v":"Rio Toribio-3(TOR-SZ1-Toribio-3)"},{"$f":"REFERENTES!C252","v":48871}]
[null,null,null,null,null,null,null,null,null,null,null,null,null,null,null,null,null,null,null,null,null,null,null,null,null,null,null,null,{"$f":"IF(AND(REFERENTES!C255<>\"\",          REFERENTES!C255<>96321,    REFERENTES!C255<>96222            ),(REFERENTES!E255),\"\")","v":0},{"$f":"REFERENTES!C255","v":42129},null,253,0,1290,"X"," ",null,{"$f":"CONCATENATE(REFERENTES!A253,\"(\",REFERENTES!B253,\")\")","v":"Rio Toribio-4(TOR-SZ1-Toribio-4)"},{"$f":"REFERENTES!C253","v":48873}]
[null,null,null,null,null,null,null,null,null,null,null,null,null,null,null,null,null,null,null,null,null,null,null,null,null,null,null,null,{"$f":"IF(AND(REFERENTES!C256<>\"\",          REFERENTES!C256<>96321,    REFERENTES!C256<>96222            ),(REFERENTES!E256),\"\")","v":"Bosque muy Ralo.Presencia de R. mangle, y A. germinans.  Presión antrópica relacionada por la ampliación de áreas ganaderas.  Presencia de cercas de alambre en el manglar."},{"$f":"REFERENTES!C256","v":48464},null,254,0,1290,"X"," ",null,{"$f":"CONCATENATE(REFERENTES!A254,\"(\",REFERENTES!B254,\")\")","v":"Rio Toribio-5(TOR-SZ1-Toribio-5)"},{"$f":"REFERENTES!C254","v":48875}]
[null,null,null,null,null,null,null,null,null,null,null,null,null,null,null,null,null,null,null,null,null,null,null,null,null,null,null,null,{"$f":"IF(AND(REFERENTES!C257<>\"\",          REFERENTES!C257<>96321,    REFERENTES!C257<>96222            ),(REFERENTES!E257),\"\")","v":"Parcela que inicia con una franja de regeneración natural de R. mangle muy abundante, casi impenetrable, seguida de 10 metros de franja de agua para luego comenzar sustrato duro en su mayoría de A. germinans , baja regeneración natural"},{"$f":"REFERENTES!C257","v":44630},null,255,"Bosque muy Ralo.Presencia de R. mangle, y A. germinans.  Presión antrópica relacionada por la ampliación de áreas ganaderas.  Presencia de cercas de alambre en el manglar.",255,"X"," ",null,{"$f":"CONCATENATE(REFERENTES!A255,\"(\",REFERENTES!B255,\")\")","v":"Rio Virudo(VIRU-SZ1-RVIR-1)"},{"$f":"REFERENTES!C255","v":42129}]
[null,null,null,null,null,null,null,null,null,null,null,null,null,null,null,null,null,null,null,null,null,null,null,null,null,null,null,null,{"$f":"IF(AND(REFERENTES!C258<>\"\",          REFERENTES!C258<>96321,    REFERENTES!C258<>96222            ),(REFERENTES!E258),\"\")","v":"Compuesta por una vegetación de manglar mixto, con dominancia de la especie piñuelo en cuanto abundancia. hace presencia las especies de mangle piñuelo, Nato y rojo. ademas el helecho ranconcha."},{"$f":"REFERENTES!C258","v":44531},null,256,"Parcela que inicia con una franja de regeneración natural de R. mangle muy abundante, casi impenetrable, seguida de 10 metros de franja de agua para luego comenzar sustrato duro en su mayoría de A. germinans , baja regeneración natural",256,"X"," ",null,{"$f":"CONCATENATE(REFERENTES!A256,\"(\",REFERENTES!B256,\")\")","v":"Río Damaquiel-1(CNTE-ZR1-Rdmq-1)"},{"$f":"REFERENTES!C256","v":48464}]
[null,null,null,null,null,null,null,null,null,null,null,null,null,null,null,null,null,null,null,null,null,null,null,null,null,null,null,null,{"$f":"IF(AND(REFERENTES!C259<>\"\",          REFERENTES!C259<>96321,    REFERENTES!C259<>96222            ),(REFERENTES!E259),\"\")","v":"Manglar adulto bien desarrollado con dominancia de la especie Mangle rojo. presencia de talas de los arboles mas desarrollados en diámetro y altura."},{"$f":"REFERENTES!C259","v":44546},null,257,"Compuesta por una vegetación de manglar mixto, con dominancia de la especie piñuelo en cuanto abundancia. hace presencia las especies de mangle piñuelo, Nato y rojo. ademas el helecho ranconcha.",257,"X"," ",null,{"$f":"CONCATENATE(REFERENTES!A257,\"(\",REFERENTES!B257,\")\")","v":"S La Virgen-1(JPVI-ZR1-SurVirgen-1)"},{"$f":"REFERENTES!C257","v":44630}]
[null,null,null,null,null,null,null,null,null,null,null,null,null,null,null,null,null,null,null,null,null,null,null,null,null,null,null,null,{"$f":"IF(AND(REFERENTES!C260<>\"\",          REFERENTES!C260<>96321,    REFERENTES!C260<>96222            ),(REFERENTES!E260),\"\")","v":"Bosque denso de mangle Piñuelo intervenido para uso domestico. Alta regeneración Natural. Suelo de consistencia blanda y encharcada."},{"$f":"REFERENTES!C260","v":44557},null,258,{"$f":"IF(AC262=\"\",0,AC262)","v":"Manglar adulto bien desarrollado con dominancia de la especie Mangle rojo. presencia de talas de los arboles mas desarrollados en diámetro y altura."},{"$f":"IF(AG263=0,MAX($AF$6:$AF$1294)+1,AF263)","v":258},{"$f":"IFERROR(VLOOKUP(SMALL($AH$6:$AH$1294,AF263),$AF$6:$AH$1294,2,FALSE),\"X\")","v":"X"}," ",null,{"$f":"CONCATENATE(REFERENTES!A258,\"(\",REFERENTES!B258,\")\")","v":"Salahonda -1(FRAPIZ-ZUS1-Salho-1)"},{"$f":"REFERENTES!C258","v":44531}]
[null,null,null,null,null,null,null,null,null,null,null,null,null,null,null,null,null,null,null,null,null,null,null,null,null,null,null,null,{"$f":"IF(AND(REFERENTES!C261<>\"\",          REFERENTES!C261<>96321,    REFERENTES!C261<>96222            ),(REFERENTES!E261),\"\")","v":0},{"$f":"REFERENTES!C261","v":44419},null,259,"Bosque denso de mangle Piñuelo intervenido para uso domestico. Alta regeneración Natural. Suelo de consistencia blanda y encharcada.",259,"X"," ",null,{"$f":"CONCATENATE(REFERENTES!A259,\"(\",REFERENTES!B259,\")\")","v":"Salahonda P-1(FRAPIZ-ZP1-Salho-1)"},{"$f":"REFERENTES!C259","v":44546}]
[null,null,null,null,null,null,null,null,null,null,null,null,null,null,null,null,null,null,null,null,null,null,null,null,null,null,null,null,{"$f":"IF(AND(REFERENTES!C262<>\"\",          REFERENTES!C262<>96321,    REFERENTES!C262<>96222            ),(REFERENTES!E262),\"\")","v":"Estación Manglar Salt Creek (formada por 3 parcelas circulares): Es un manglar de cuenca o interior, ubicado en el costado oriental en la parte media de la Isla, que presenta una cobertura de 4,45 ha (INVEMAR-CORALINA, 2016) y se desarrolla separado del mar por la carretera. Está constituido por el complejo Dorna Pond, el humedal de Ground Road y humedales internos. Presenta una composición florística mixta, dominada por Laguncularia racemosa y presencia de Rhizophora mangle; los árboles tienen una altura promedio de 11,7 m. Este manglar se encuentra impactado por los residuos sólidos de las familias aledañas del sector y existe evidencia de actividades de tala y rellenos en su interior."},{"$f":"REFERENTES!C262","v":55554},null,260,0,1290,"X"," ",null,{"$f":"CONCATENATE(REFERENTES!A260,\"(\",REFERENTES!B260,\")\")","v":"Salahonda R-2-1(FRAPIZ-ZR2-Salho-1)"},{"$f":"REFERENTES!C260","v":44557}]
[null,null,null,null,null,null,null,null,null,null,null,null,null,null,null,null,null,null,null,null,null,null,null,null,null,null,null,null,{"$f":"IF(AND(REFERENTES!C263<>\"\",          REFERENTES!C263<>96321,    REFERENTES!C263<>96222            ),(REFERENTES!E263),\"\")","v":"Estación Manglar Salt Creek (formada por 3 parcelas circulares): Es un manglar de cuenca o interior, ubicado en el costado oriental en la parte media de la Isla, que presenta una cobertura de 4,45 ha (INVEMAR-CORALINA, 2016) y se desarrolla separado del mar por la carretera. Está constituido por el complejo Dorna Pond, el humedal de Ground Road y humedales internos. Presenta una composición florística mixta, dominada por Laguncularia racemosa y presencia de Rhizophora mangle; los árboles tienen una altura promedio de 11,7 m. Este manglar se encuentra impactado por los residuos sólidos de las familias aledañas del sector y existe evidencia de actividades de tala y rellenos en su interior."},{"$f":"REFERENTES!C263","v":55555},null,261,"Estación Manglar Salt Creek (formada por 3 parcelas circulares): Es un manglar de cuenca o interior, ubicado en el costado oriental en la parte media de la Isla, que presenta una cobertura de 4,45 ha (INVEMAR-CORALINA, 2016) y se desarrolla separado del mar por la carretera. Está constituido por el complejo Dorna Pond, el humedal de Ground Road y humedales internos. Presenta una composición florística mixta, dominada por Laguncularia racemosa y presencia de Rhizophora mangle; los árboles tienen una altura promedio de 11,7 m. Este manglar se encuentra impactado por los residuos sólidos de las familias aledañas del sector y existe evidencia de actividades de tala y rellenos en su interior.",261,"X"," ",null,{"$f":"CONCATENATE(REFERENTES!A261,\"(\",REFERENTES!B261,\")\")","v":"Salitral el Garzal(CCAIM-ZR1-SGAR-1)"},{"$f":"REFERENTES!C261","v":44419}]
[null,null,null,null,null,null,null,null,null,null,null,null,null,null,null,null,null,null,null,null,null,null,null,null,null,null,null,null,{"$f":"IF(AND(REFERENTES!C264<>\"\",          REFERENTES!C264<>96321,    REFERENTES!C264<>96222            ),(REFERENTES!E264),\"\")","v":0},{"$f":"REFERENTES!C264","v":41492},null,262,"Estación Manglar Salt Creek (formada por 3 parcelas circulares): Es un manglar de cuenca o interior, ubicado en el costado oriental en la parte media de la Isla, que presenta una cobertura de 4,45 ha (INVEMAR-CORALINA, 2016) y se desarrolla separado del mar por la carretera. Está constituido por el complejo Dorna Pond, el humedal de Ground Road y humedales internos. Presenta una composición florística mixta, dominada por Laguncularia racemosa y presencia de Rhizophora mangle; los árboles tienen una altura promedio de 11,7 m. Este manglar se encuentra impactado por los residuos sólidos de las familias aledañas del sector y existe evidencia de actividades de tala y rellenos en su interior.",262,"X"," ",null,{"$f":"CONCATENATE(REFERENTES!A262,\"(\",REFERENTES!B262,\")\")","v":"Salt Creek parcela circular-2(SaltCreekPPC-2)"},{"$f":"REFERENTES!C262","v":55554}]
[null,null,null,null,null,null,null,null,null,null,null,null,null,null,null,null,null,null,null,null,null,null,null,null,null,null,null,null,{"$f":"IF(AND(REFERENTES!C265<>\"\",          REFERENTES!C265<>96321,    REFERENTES!C265<>96222            ),(REFERENTES!E265),\"\")","v":"En conclusión para la estación Raposo se debe actualizar la zonificación por cuanto en los últimos años el manglar ha sido sometido a una fuerte presión antrópica lo cual ha cambiado de forma negativa la estructura del bosque."},{"$f":"REFERENTES!C265","v":45848},null,263,0,1290,"X"," ",null,{"$f":"CONCATENATE(REFERENTES!A263,\"(\",REFERENTES!B263,\")\")","v":"Salt Creek parcela circular-3(SaltCreekPPC-3)"},{"$f":"REFERENTES!C263","v":55555}]
[null,null,null,null,null,null,null,null,null,null,null,null,null,null,null,null,null,null,null,null,null,null,null,null,null,null,null,null,{"$f":"IF(AND(REFERENTES!C266<>\"\",          REFERENTES!C266<>96321,    REFERENTES!C266<>96222            ),(REFERENTES!E266),\"\")","v":"Parcela con inundación en toda el área, nivel promedio: 25 cm, está atravesada por un pequeño canal.  Se evidencia tala y acumulación de madera para recolección."},{"$f":"REFERENTES!C266","v":44500},null,264,"En conclusión para la estación Raposo se debe actualizar la zonificación por cuanto en los últimos años el manglar ha sido sometido a una fuerte presión antrópica lo cual ha cambiado de forma negativa la estructura del bosque.",264,"X"," ",null,{"$f":"CONCATENATE(REFERENTES!A264,\"(\",REFERENTES!B264,\")\")","v":"Salt Creek-1(SCRE-ZP1-SCRE-1)"},{"$f":"REFERENTES!C264","v":41492}]
[null,null,null,null,null,null,null,null,null,null,null,null,null,null,null,null,null,null,null,null,null,null,null,null,null,null,null,null,{"$f":"IF(AND(REFERENTES!C267<>\"\",          REFERENTES!C267<>96321,    REFERENTES!C267<>96222            ),(REFERENTES!E267),\"\")","v":"Estación Manglar Santa Catalina (formada por 2 parcelas circulares): El manglar se encuentra localizado en el borde sur oriental de la Isla, bordeando el malecón. Está distribuido en una serie de parches aislados, separados entre sí por construcciones, muelles, el puente de los Enamorados que une a la isla de Providencia con Santa Catalina y una cancha de fútbol. El manglar tiene una extensión total de 3,79 ha (INVEMAR-CORALINA, 2016). El sustrato presentó diferentes niveles de inundación, hubo parches cuyo sustrato estaba seco, otros con sustrato lodoso y otras zonas que se encontraron inundadas. El manglar de una de las parcelas de monitoreo se encuentra conformado principalmente por R. mangle, entremezclado con algunos ejemplares de L. racemosa y A. germinans. El manglar de la otra parcela de monitoreo, que colinda con la cancha deportiva, se encuentra conformado exclusivamente por A. germinans, donde el sustrato es bastante estable. Es un bosque de cuenca de desarrollo diamétrico intermedio y cuyos árboles tienen una altura promedio de 5,5 m."},{"$f":"REFERENTES!C267","v":55567},null,265,"Parcela con inundación en toda el área, nivel promedio: 25 cm, está atravesada por un pequeño canal.  Se evidencia tala y acumulación de madera para recolección.",265,"X"," ",null,{"$f":"CONCATENATE(REFERENTES!A265,\"(\",REFERENTES!B265,\")\")","v":"Santa Ana(RAPO-ZUS4-RSA-2)"},{"$f":"REFERENTES!C265","v":45848}]
[null,null,null,null,null,null,null,null,null,null,null,null,null,null,null,null,null,null,null,null,null,null,null,null,null,null,null,null,{"$f":"IF(AND(REFERENTES!C268<>\"\",          REFERENTES!C268<>96321,    REFERENTES!C268<>96222            ),(REFERENTES!E268),\"\")","v":"Estación Manglar Santa Catalina (formada por 2 parcelas circulares): El manglar se encuentra localizado en el borde sur oriental de la Isla, bordeando el malecón. Está distribuido en una serie de parches aislados, separados entre sí por construcciones, muelles, el puente de los Enamorados que une a la isla de Providencia con Santa Catalina y una cancha de fútbol. El manglar tiene una extensión total de 3,79 ha (INVEMAR-CORALINA, 2016). El sustrato presentó diferentes niveles de inundación, hubo parches cuyo sustrato estaba seco, otros con sustrato lodoso y otras zonas que se encontraron inundadas. El manglar de una de las parcelas de monitoreo se encuentra conformado principalmente por R. mangle, entremezclado con algunos ejemplares de L. racemosa y A. germinans. El manglar de la otra parcela de monitoreo, que colinda con la cancha deportiva, se encuentra conformado exclusivamente por A. germinans, donde el sustrato es bastante estable. Es un bosque de cuenca de desarrollo diamétrico intermedio y cuyos árboles tienen una altura promedio de 5,5 m."},{"$f":"REFERENTES!C268","v":55568},null,266,"Estación Manglar Santa Catalina (formada por 2 parcelas circulares): El manglar se encuentra localizado en el borde sur oriental de la Isla, bordeando el malecón. Está distribuido en una serie de parches aislados, separados entre sí por construcciones, muelles, el puente de los Enamorados que une a la isla de Providencia con Santa Catalina y una cancha de fútbol. El manglar tiene una extensión total de 3,79 ha (INVEMAR-CORALINA, 2016). El sustrato presentó diferentes niveles de inundación, hubo parches cuyo sustrato estaba seco, otros con sustrato lodoso y otras zonas que se encontraron inundadas. El manglar de una de las parcelas de monitoreo se encuentra conformado principalmente por R. mangle, entremezclado con algunos ejemplares de L. racemosa y A. germinans. El manglar de la otra parcela de monitoreo, que colinda con la cancha deportiva, se encuentra conformado exclusivamente por A. germinans, donde el sustrato es bastante estable. Es un bosque de cuenca de desarrollo diamétrico intermedio y cuyos árboles tienen una altura promedio de 5,5 m.",266,"X"," ",null,{"$f":"CONCATENATE(REFERENTES!A266,\"(\",REFERENTES!B266,\")\")","v":"Santa Ana-1(BARU-ZR1-Sta-Ana-1)"},{"$f":"REFERENTES!C266","v":44500}]
[null,null,null,null,null,null,null,null,null,null,null,null,null,null,null,null,null,null,null,null,null,null,null,null,null,null,null,null,{"$f":"IF(AND(REFERENTES!C269<>\"\",          REFERENTES!C269<>96321,    REFERENTES!C269<>96222            ),(REFERENTES!E269),\"\")","v":0},{"$f":"REFERENTES!C269","v":50089},null,267,"Estación Manglar Santa Catalina (formada por 2 parcelas circulares): El manglar se encuentra localizado en el borde sur oriental de la Isla, bordeando el malecón. Está distribuido en una serie de parches aislados, separados entre sí por construcciones, muelles, el puente de los Enamorados que une a la isla de Providencia con Santa Catalina y una cancha de fútbol. El manglar tiene una extensión total de 3,79 ha (INVEMAR-CORALINA, 2016). El sustrato presentó diferentes niveles de inundación, hubo parches cuyo sustrato estaba seco, otros con sustrato lodoso y otras zonas que se encontraron inundadas. El manglar de una de las parcelas de monitoreo se encuentra conformado principalmente por R. mangle, entremezclado con algunos ejemplares de L. racemosa y A. germinans. El manglar de la otra parcela de monitoreo, que colinda con la cancha deportiva, se encuentra conformado exclusivamente por A. germinans, donde el sustrato es bastante estable. Es un bosque de cuenca de desarrollo diamétrico intermedio y cuyos árboles tienen una altura promedio de 5,5 m.",267,"X"," ",null,{"$f":"CONCATENATE(REFERENTES!A267,\"(\",REFERENTES!B267,\")\")","v":"Santa Catalina parcela circular-1(SantaCatalinaPPC-1)"},{"$f":"REFERENTES!C267","v":55567}]
[null,null,null,null,null,null,null,null,null,null,null,null,null,null,null,null,null,null,null,null,null,null,null,null,null,null,null,null,{"$f":"IF(AND(REFERENTES!C270<>\"\",          REFERENTES!C270<>96321,    REFERENTES!C270<>96222            ),(REFERENTES!E270),\"\")","v":"Transecto B"},{"$f":"REFERENTES!C270","v":50091},null,268,0,1290,"X"," ",null,{"$f":"CONCATENATE(REFERENTES!A268,\"(\",REFERENTES!B268,\")\")","v":"Santa Catalina parcela circular-2(SantaCatalinaPPC-2)"},{"$f":"REFERENTES!C268","v":55568}]
[null,null,null,null,null,null,null,null,null,null,null,null,null,null,null,null,null,null,null,null,null,null,null,null,null,null,null,null,{"$f":"IF(AND(REFERENTES!C271<>\"\",          REFERENTES!C271<>96321,    REFERENTES!C271<>96222            ),(REFERENTES!E271),\"\")","v":"Transecto C"},{"$f":"REFERENTES!C271","v":50093},null,269,"Transecto B",269,"X"," ",null,{"$f":"CONCATENATE(REFERENTES!A269,\"(\",REFERENTES!B269,\")\")","v":"Sevillano -1(CGSM-SZ1-SEVI-1)"},{"$f":"REFERENTES!C269","v":50089}]
[null,null,null,null,null,null,null,null,null,null,null,null,null,null,null,null,null,null,null,null,null,null,null,null,null,null,null,null,{"$f":"IF(AND(REFERENTES!C272<>\"\",          REFERENTES!C272<>96321,    REFERENTES!C272<>96222            ),(REFERENTES!E272),\"\")","v":0},{"$f":"REFERENTES!C272","v":41487},null,270,"Transecto C",270,"X"," ",null,{"$f":"CONCATENATE(REFERENTES!A270,\"(\",REFERENTES!B270,\")\")","v":"Sevillano -2(CGSM-SZ1-SEVI-2)"},{"$f":"REFERENTES!C270","v":50091}]
[null,null,null,null,null,null,null,null,null,null,null,null,null,null,null,null,null,null,null,null,null,null,null,null,null,null,null,null,{"$f":"IF(AND(REFERENTES!C273<>\"\",          REFERENTES!C273<>96321,    REFERENTES!C273<>96222            ),(REFERENTES!E273),\"\")","v":"Se localiza al extremo sureste, entre la vía Tom Hooker y Punta Sur. Tiene una distribución en forma de media luna y ocupa un área de 19,30 ha.  Se identificó por ser considerado como un manglar de cuenca y una altura promedio de 10,8 m; aproximadamente el 30% de la estación se hayo cubierta por Achrostichum aureum  o helecho mata tigre. Por otro lado, se destacó por tener presencia de hojarasca, señales de tala y poca basura._x000D_"},{"$f":"REFERENTES!C273","v":47758},null,271,0,1290,"X"," ",null,{"$f":"CONCATENATE(REFERENTES!A271,\"(\",REFERENTES!B271,\")\")","v":"Sevillano -3(CGSM-SZ1-SEVI-3)"},{"$f":"REFERENTES!C271","v":50093}]
[null,null,null,null,null,null,null,null,null,null,null,null,null,null,null,null,null,null,null,null,null,null,null,null,null,null,null,null,{"$f":"IF(AND(REFERENTES!C274<>\"\",          REFERENTES!C274<>96321,    REFERENTES!C274<>96222            ),(REFERENTES!E274),\"\")","v":0},{"$f":"REFERENTES!C274","v":47901},null,272,"Se localiza al extremo sureste, entre la vía Tom Hooker y Punta Sur. Tiene una distribución en forma de media luna y ocupa un área de 19,30 ha.  Se identificó por ser considerado como un manglar de cuenca y una altura promedio de 10,8 m; aproximadamente el 30% de la estación se hayo cubierta por Achrostichum aureum  o helecho mata tigre. Por otro lado, se destacó por tener presencia de hojarasca, señales de tala y poca basura._x000D_",272,"X"," ",null,{"$f":"CONCATENATE(REFERENTES!A272,\"(\",REFERENTES!B272,\")\")","v":"Smith Channel -1-1(SCHA-ZP1-SCH-1)"},{"$f":"REFERENTES!C272","v":41487}]
[null,null,null,null,null,null,null,null,null,null,null,null,null,null,null,null,null,null,null,null,null,null,null,null,null,null,null,null,{"$f":"IF(AND(REFERENTES!C275<>\"\",          REFERENTES!C275<>96321,    REFERENTES!C275<>96222            ),(REFERENTES!E275),\"\")","v":"Estación Manglar Smith Channel (formada por 3 parcelas circulares): Manglar catalogado como de tierra adentro (Medina, 2016), porque se encuentra aislado del mar, sin una conexión directa y por lo tanto no presenta inundación por mareas en ninguna época del año, pero sí por agua dulce proveniente de las precipitaciones. Está ubicado en el extremo suroriental de la Isla, con presencia de Rhizophora mangle y Laguncularia racemosa. Ocupa un área de manglar de 19,30 ha de extensión (INVEMAR-CORALINA, 2016), tiene abundante presencia de helecho de manglar Acrostichum aureum y es uno de los manglares menos intervenido en la Isla, no obstante, hay evidencia de actividades de tala y presencia de residuos sólidos."},{"$f":"REFERENTES!C275","v":55546},null,273,0,1290,"X"," ",null,{"$f":"CONCATENATE(REFERENTES!A273,\"(\",REFERENTES!B273,\")\")","v":"Smith Channel -1-2(SCHA-ZP1-SCH-2)"},{"$f":"REFERENTES!C273","v":47758}]
[null,null,null,null,null,null,null,null,null,null,null,null,null,null,null,null,null,null,null,null,null,null,null,null,null,null,null,null,{"$f":"IF(AND(REFERENTES!C276<>\"\",          REFERENTES!C276<>96321,    REFERENTES!C276<>96222            ),(REFERENTES!E276),\"\")","v":"Estación Manglar Sound Bay (formada por 3 parcelas circulares): Manglar de cuenca o interior de 15,29 ha de cobertura (INVEMAR-CORALINA, 2016), separado del mar por la carretera, por formaciones vegetales distintas al manglar y por la presencia de lotes con viviendas. Tiene una composición florística mixta de Rhizophora mangle, Laguncularia racemosa y Avicennia germinans. El rodal tiene una altura promedio de 10,8 m. En el pasado se encontraba fuertemente impactado por el vertimiento directo de aguas residuales, no obstante, en la actualidad, CORALINA ha regulado dicho impacto. Presenta una elevada influencia de basuras producto de los desechos depositados por parte de la comunidad vecina. Hay evidencia de árboles talados y presencia de helecho de manglar Acrostichum aureum."},{"$f":"REFERENTES!C276","v":55558},null,274,"Estación Manglar Smith Channel (formada por 3 parcelas circulares): Manglar catalogado como de tierra adentro (Medina, 2016), porque se encuentra aislado del mar, sin una conexión directa y por lo tanto no presenta inundación por mareas en ninguna época del año, pero sí por agua dulce proveniente de las precipitaciones. Está ubicado en el extremo suroriental de la Isla, con presencia de Rhizophora mangle y Laguncularia racemosa. Ocupa un área de manglar de 19,30 ha de extensión (INVEMAR-CORALINA, 2016), tiene abundante presencia de helecho de manglar Acrostichum aureum y es uno de los manglares menos intervenido en la Isla, no obstante, hay evidencia de actividades de tala y presencia de residuos sólidos.",274,"X"," ",null,{"$f":"CONCATENATE(REFERENTES!A274,\"(\",REFERENTES!B274,\")\")","v":"Smith Channel -1-3(SCHA-ZP1-SCH-3)"},{"$f":"REFERENTES!C274","v":47901}]
[null,null,null,null,null,null,null,null,null,null,null,null,null,null,null,null,null,null,null,null,null,null,null,null,null,null,null,null,{"$f":"IF(AND(REFERENTES!C277<>\"\",          REFERENTES!C277<>96321,    REFERENTES!C277<>96222            ),(REFERENTES!E277),\"\")","v":"Estación Manglar Sound Bay (formada por 3 parcelas circulares): Manglar de cuenca o interior de 15,29 ha de cobertura (INVEMAR-CORALINA, 2016), separado del mar por la carretera, por formaciones vegetales distintas al manglar y por la presencia de lotes con viviendas. Tiene una composición florística mixta de Rhizophora mangle, Laguncularia racemosa y Avicennia germinans. El rodal tiene una altura promedio de 10,8 m. En el pasado se encontraba fuertemente impactado por el vertimiento directo de aguas residuales, no obstante, en la actualidad, CORALINA ha regulado dicho impacto. Presenta una elevada influencia de basuras producto de los desechos depositados por parte de la comunidad vecina. Hay evidencia de árboles talados y presencia de helecho de manglar Acrostichum aureum."},{"$f":"REFERENTES!C277","v":55559},null,275,"Estación Manglar Sound Bay (formada por 3 parcelas circulares): Manglar de cuenca o interior de 15,29 ha de cobertura (INVEMAR-CORALINA, 2016), separado del mar por la carretera, por formaciones vegetales distintas al manglar y por la presencia de lotes con viviendas. Tiene una composición florística mixta de Rhizophora mangle, Laguncularia racemosa y Avicennia germinans. El rodal tiene una altura promedio de 10,8 m. En el pasado se encontraba fuertemente impactado por el vertimiento directo de aguas residuales, no obstante, en la actualidad, CORALINA ha regulado dicho impacto. Presenta una elevada influencia de basuras producto de los desechos depositados por parte de la comunidad vecina. Hay evidencia de árboles talados y presencia de helecho de manglar Acrostichum aureum.",275,"X"," ",null,{"$f":"CONCATENATE(REFERENTES!A275,\"(\",REFERENTES!B275,\")\")","v":"Smith Channel parcela circular-1(SmithChannelPPC-1)"},{"$f":"REFERENTES!C275","v":55546}]
[null,null,null,null,null,null,null,null,null,null,null,null,null,null,null,null,null,null,null,null,null,null,null,null,null,null,null,null,{"$f":"IF(AND(REFERENTES!C278<>\"\",          REFERENTES!C278<>96321,    REFERENTES!C278<>96222            ),(REFERENTES!E278),\"\")","v":"Estación Manglar Sound Bay (formada por 3 parcelas circulares): Manglar de cuenca o interior de 15,29 ha de cobertura (INVEMAR-CORALINA, 2016), separado del mar por la carretera, por formaciones vegetales distintas al manglar y por la presencia de lotes con viviendas. Tiene una composición florística mixta de Rhizophora mangle, Laguncularia racemosa y Avicennia germinans. El rodal tiene una altura promedio de 10,8 m. En el pasado se encontraba fuertemente impactado por el vertimiento directo de aguas residuales, no obstante, en la actualidad, CORALINA ha regulado dicho impacto. Presenta una elevada influencia de basuras producto de los desechos depositados por parte de la comunidad vecina. Hay evidencia de árboles talados y presencia de helecho de manglar Acrostichum aureum."},{"$f":"REFERENTES!C278","v":55560},null,276,"Estación Manglar Sound Bay (formada por 3 parcelas circulares): Manglar de cuenca o interior de 15,29 ha de cobertura (INVEMAR-CORALINA, 2016), separado del mar por la carretera, por formaciones vegetales distintas al manglar y por la presencia de lotes con viviendas. Tiene una composición florística mixta de Rhizophora mangle, Laguncularia racemosa y Avicennia germinans. El rodal tiene una altura promedio de 10,8 m. En el pasado se encontraba fuertemente impactado por el vertimiento directo de aguas residuales, no obstante, en la actualidad, CORALINA ha regulado dicho impacto. Presenta una elevada influencia de basuras producto de los desechos depositados por parte de la comunidad vecina. Hay evidencia de árboles talados y presencia de helecho de manglar Acrostichum aureum.",276,"X"," ",null,{"$f":"CONCATENATE(REFERENTES!A276,\"(\",REFERENTES!B276,\")\")","v":"Sound Bay parcela circular-1(SoundBayPPC-1)"},{"$f":"REFERENTES!C276","v":55558}]
[null,null,null,null,null,null,null,null,null,null,null,null,null,null,null,null,null,null,null,null,null,null,null,null,null,null,null,null,{"$f":"IF(AND(REFERENTES!C279<>\"\",          REFERENTES!C279<>96321,    REFERENTES!C279<>96222            ),(REFERENTES!E279),\"\")","v":"parcela fija. Estación Manglar Suroeste (formada por 2 parcelas circulares): Ubicado en el suroeste de la isla, conformado por Rhizophora mangle, como especie dominante y por Laguncularia racemosa. Presenta una barra arenosa en frente, poco elevada y posee una laguna interior de alrededor de 300 m de largo y 30 m de ancho, que permanece total o parcialmente inundada durante el año, debido a las fuertes lluvias y la escorrentía, pero disminuye su espejo de agua en época seca por evaporación e infiltración del agua. Tiene una extensión de manglar de 5,25 ha (INVEMAR-CORALINA, 2016). Existe evidencia de actividades de tala en su interior, así como la construcción de restaurantes muy cerca del mismo y presencia de cables de electricidad sobre los árboles de mangle."},{"$f":"REFERENTES!C279","v":49327},null,277,"Estación Manglar Sound Bay (formada por 3 parcelas circulares): Manglar de cuenca o interior de 15,29 ha de cobertura (INVEMAR-CORALINA, 2016), separado del mar por la carretera, por formaciones vegetales distintas al manglar y por la presencia de lotes con viviendas. Tiene una composición florística mixta de Rhizophora mangle, Laguncularia racemosa y Avicennia germinans. El rodal tiene una altura promedio de 10,8 m. En el pasado se encontraba fuertemente impactado por el vertimiento directo de aguas residuales, no obstante, en la actualidad, CORALINA ha regulado dicho impacto. Presenta una elevada influencia de basuras producto de los desechos depositados por parte de la comunidad vecina. Hay evidencia de árboles talados y presencia de helecho de manglar Acrostichum aureum.",277,"X"," ",null,{"$f":"CONCATENATE(REFERENTES!A277,\"(\",REFERENTES!B277,\")\")","v":"Sound Bay parcela circular-2(SoundBayPPC-2)"},{"$f":"REFERENTES!C277","v":55559}]
[null,null,null,null,null,null,null,null,null,null,null,null,null,null,null,null,null,null,null,null,null,null,null,null,null,null,null,null,{"$f":"IF(AND(REFERENTES!C280<>\"\",          REFERENTES!C280<>96321,    REFERENTES!C280<>96222            ),(REFERENTES!E280),\"\")","v":"Estación Manglar Suroeste (formada por 2 parcelas circulares): Ubicado en el suroeste de la isla, conformado por Rhizophora mangle, como especie dominante y por Laguncularia racemosa. Presenta una barra arenosa en frente, poco elevada y posee una laguna interior de alrededor de 300 m de largo y 30 m de ancho, que permanece total o parcialmente inundada durante el año, debido a las fuertes lluvias y la escorrentía, pero disminuye su espejo de agua en época seca por evaporación e infiltración del agua. Tiene una extensión de manglar de 5,25 ha (INVEMAR-CORALINA, 2016). Existe evidencia de actividades de tala en su interior, así como la construcción de restaurantes muy cerca del mismo y presencia de cables de electricidad sobre los árboles de mangle."},{"$f":"REFERENTES!C280","v":55565},null,278,"parcela fija. Estación Manglar Suroeste (formada por 2 parcelas circulares): Ubicado en el suroeste de la isla, conformado por Rhizophora mangle, como especie dominante y por Laguncularia racemosa. Presenta una barra arenosa en frente, poco elevada y posee una laguna interior de alrededor de 300 m de largo y 30 m de ancho, que permanece total o parcialmente inundada durante el año, debido a las fuertes lluvias y la escorrentía, pero disminuye su espejo de agua en época seca por evaporación e infiltración del agua. Tiene una extensión de manglar de 5,25 ha (INVEMAR-CORALINA, 2016). Existe evidencia de actividades de tala en su interior, así como la construcción de restaurantes muy cerca del mismo y presencia de cables de electricidad sobre los árboles de mangle.",278,"X"," ",null,{"$f":"CONCATENATE(REFERENTES!A278,\"(\",REFERENTES!B278,\")\")","v":"Sound Bay parcela circular-3(SoundBayPPC-3)"},{"$f":"REFERENTES!C278","v":55560}]
[null,null,null,null,null,null,null,null,null,null,null,null,null,null,null,null,null,null,null,null,null,null,null,null,null,null,null,null,{"$f":"IF(AND(REFERENTES!C281<>\"\",          REFERENTES!C281<>96321,    REFERENTES!C281<>96222            ),(REFERENTES!E281),\"\")","v":"Estación Manglar Suroeste (formada por 2 parcelas circulares): Ubicado en el suroeste de la isla, conformado por Rhizophora mangle, como especie dominante y por Laguncularia racemosa. Presenta una barra arenosa en frente, poco elevada y posee una laguna interior de alrededor de 300 m de largo y 30 m de ancho, que permanece total o parcialmente inundada durante el año, debido a las fuertes lluvias y la escorrentía, pero disminuye su espejo de agua en época seca por evaporación e infiltración del agua. Tiene una extensión de manglar de 5,25 ha (INVEMAR-CORALINA, 2016). Existe evidencia de actividades de tala en su interior, así como la construcción de restaurantes muy cerca del mismo y presencia de cables de electricidad sobre los árboles de mangle."},{"$f":"REFERENTES!C281","v":55566},null,279,"Estación Manglar Suroeste (formada por 2 parcelas circulares): Ubicado en el suroeste de la isla, conformado por Rhizophora mangle, como especie dominante y por Laguncularia racemosa. Presenta una barra arenosa en frente, poco elevada y posee una laguna interior de alrededor de 300 m de largo y 30 m de ancho, que permanece total o parcialmente inundada durante el año, debido a las fuertes lluvias y la escorrentía, pero disminuye su espejo de agua en época seca por evaporación e infiltración del agua. Tiene una extensión de manglar de 5,25 ha (INVEMAR-CORALINA, 2016). Existe evidencia de actividades de tala en su interior, así como la construcción de restaurantes muy cerca del mismo y presencia de cables de electricidad sobre los árboles de mangle.",279,"X"," ",null,{"$f":"CONCATENATE(REFERENTES!A279,\"(\",REFERENTES!B279,\")\")","v":"South West Bay -2(SWBA-ZP3-SWB-2)"},{"$f":"REFERENTES!C279","v":49327}]
[null,null,null,null,null,null,null,null,null,null,null,null,null,null,null,null,null,null,null,null,null,null,null,null,null,null,null,null,{"$f":"IF(AND(REFERENTES!C282<>\"\",          REFERENTES!C282<>96321,    REFERENTES!C282<>96222            ),(REFERENTES!E282),\"\")","v":"Ubicada a unos 2.1 km aproximadamente de Juradó, perpendicularmente a la margen derecha del Estero Tangarrá, compuesta florísticamente por un bosque monoespecífico de Rhizophora racemosa."},{"$f":"REFERENTES!C282","v":45422},null,280,"Estación Manglar Suroeste (formada por 2 parcelas circulares): Ubicado en el suroeste de la isla, conformado por Rhizophora mangle, como especie dominante y por Laguncularia racemosa. Presenta una barra arenosa en frente, poco elevada y posee una laguna interior de alrededor de 300 m de largo y 30 m de ancho, que permanece total o parcialmente inundada durante el año, debido a las fuertes lluvias y la escorrentía, pero disminuye su espejo de agua en época seca por evaporación e infiltración del agua. Tiene una extensión de manglar de 5,25 ha (INVEMAR-CORALINA, 2016). Existe evidencia de actividades de tala en su interior, así como la construcción de restaurantes muy cerca del mismo y presencia de cables de electricidad sobre los árboles de mangle.",280,"X"," ",null,{"$f":"CONCATENATE(REFERENTES!A280,\"(\",REFERENTES!B280,\")\")","v":"Suroeste parcela circular-1(SuroestePPC-1)"},{"$f":"REFERENTES!C280","v":55565}]
[null,null,null,null,null,null,null,null,null,null,null,null,null,null,null,null,null,null,null,null,null,null,null,null,null,null,null,null,{"$f":"IF(AND(REFERENTES!C283<>\"\",          REFERENTES!C283<>96321,    REFERENTES!C283<>96222            ),(REFERENTES!E283),\"\")","v":0},{"$f":"REFERENTES!C283","v":42103},null,281,"Ubicada a unos 2.1 km aproximadamente de Juradó, perpendicularmente a la margen derecha del Estero Tangarrá, compuesta florísticamente por un bosque monoespecífico de Rhizophora racemosa.",281,"X"," ",null,{"$f":"CONCATENATE(REFERENTES!A281,\"(\",REFERENTES!B281,\")\")","v":"Suroeste parcela circular-2(SuroestePPC-2)"},{"$f":"REFERENTES!C281","v":55566}]
[null,null,null,null,null,null,null,null,null,null,null,null,null,null,null,null,null,null,null,null,null,null,null,null,null,null,null,null,{"$f":"IF(AND(REFERENTES!C284<>\"\",          REFERENTES!C284<>96321,    REFERENTES!C284<>96222            ),(REFERENTES!E284),\"\")","v":"En términos generales el sector de Cajambre es el que presenta mayor nivel de intervención antrópica   producto de la tala del mangle con fines comerciales.  Existe un alto contraste en la zonificación de 2007 que lo cataloga como un manglar poco intervenido en contraposición al alto grado de degradación que se registró en el monitoreo actual."},{"$f":"REFERENTES!C284","v":45830},null,282,0,1290,"X"," ",null,{"$f":"CONCATENATE(REFERENTES!A282,\"(\",REFERENTES!B282,\")\")","v":"Tangarrá(JURA-ZR1-Tangarrá-1)"},{"$f":"REFERENTES!C282","v":45422}]
[null,null,null,null,null,null,null,null,null,null,null,null,null,null,null,null,null,null,null,null,null,null,null,null,null,null,null,null,{"$f":"IF(AND(REFERENTES!C285<>\"\",          REFERENTES!C285<>96321,    REFERENTES!C285<>96222            ),(REFERENTES!E285),\"\")","v":"Es un relicto denso en forma de islote  que se encuentra varios centímetros por encima del suelo, y está constituido por la especie  L. racemosa. Algunos crecen retorcidos disponiendo sus ramas hacia el cuerpo de agua de la ciénaga. No se observa regeneración natural"},{"$f":"REFERENTES!C285","v":45257},null,283,"En términos generales el sector de Cajambre es el que presenta mayor nivel de intervención antrópica   producto de la tala del mangle con fines comerciales.  Existe un alto contraste en la zonificación de 2007 que lo cataloga como un manglar poco intervenido en contraposición al alto grado de degradación que se registró en el monitoreo actual.",283,"X"," ",null,{"$f":"CONCATENATE(REFERENTES!A283,\"(\",REFERENTES!B283,\")\")","v":"Tijó(BCISEST-ZR1-Tijó-1)"},{"$f":"REFERENTES!C283","v":42103}]
[null,null,null,null,null,null,null,null,null,null,null,null,null,null,null,null,null,null,null,null,null,null,null,null,null,null,null,null,{"$f":"IF(AND(REFERENTES!C286<>\"\",          REFERENTES!C286<>96321,    REFERENTES!C286<>96222            ),(REFERENTES!E286),\"\")","v":"Forma una franja de 15 m tierra dentro, la línea de agua está a 1 m dentro de  la parcela, algunos individuos de L. racemosa  son maduros, de crecimiento arbustivo, con ramas que crecen hacia el cuerpo de agua."},{"$f":"REFERENTES!C286","v":45259},null,284,"Es un relicto denso en forma de islote  que se encuentra varios centímetros por encima del suelo, y está constituido por la especie  L. racemosa. Algunos crecen retorcidos disponiendo sus ramas hacia el cuerpo de agua de la ciénaga. No se observa regeneración natural",284,"X"," ",null,{"$f":"CONCATENATE(REFERENTES!A284,\"(\",REFERENTES!B284,\")\")","v":"Timba(CAJA-ZUS2-CT-1)"},{"$f":"REFERENTES!C284","v":45830}]
[null,null,null,null,null,null,null,null,null,null,null,null,null,null,null,null,null,null,null,null,null,null,null,null,null,null,null,null,{"$f":"IF(AND(REFERENTES!C287<>\"\",          REFERENTES!C287<>96321,    REFERENTES!C287<>96222            ),(REFERENTES!E287),\"\")","v":"MANGLAR ADULTO BIEN DESARROLLADO E INTERVENIDO CON DOMINANCIA DEL MANGLE ROJO. PRESENCIA DE REGENERACIÓN EN LOS CLAROS DEJADOS POR LAS CORTAS DE INDIVIDUOS."},{"$f":"REFERENTES!C287","v":45400},null,285,"Forma una franja de 15 m tierra dentro, la línea de agua está a 1 m dentro de  la parcela, algunos individuos de L. racemosa  son maduros, de crecimiento arbustivo, con ramas que crecen hacia el cuerpo de agua.",285,"X"," ",null,{"$f":"CONCATENATE(REFERENTES!A285,\"(\",REFERENTES!B285,\")\")","v":"Totumo Oriental(CNGTOT-ZP1-Totum-1)"},{"$f":"REFERENTES!C285","v":45257}]
[null,null,null,null,null,null,null,null,null,null,null,null,null,null,null,null,null,null,null,null,null,null,null,null,null,null,null,null,{"$f":"IF(AND(REFERENTES!C288<>\"\",          REFERENTES!C288<>96321,    REFERENTES!C288<>96222            ),(REFERENTES!E288),\"\")","v":"ESTA ÁREA  PRESENTA UNA VEGETACIÓN DE MANGLAR MIXTO, HACE PRESENCIA LAS ESPECIES DE MANGLE ROJO, PIÑUELO Y NATO, ADEMAS EL HELECHO RANCONCHA. ES UNA ÁREA INTERVENIDA,"},{"$f":"REFERENTES!C288","v":44506},null,286,"MANGLAR ADULTO BIEN DESARROLLADO E INTERVENIDO CON DOMINANCIA DEL MANGLE ROJO. PRESENCIA DE REGENERACIÓN EN LOS CLAROS DEJADOS POR LAS CORTAS DE INDIVIDUOS.",286,"X"," ",null,{"$f":"CONCATENATE(REFERENTES!A286,\"(\",REFERENTES!B286,\")\")","v":"Totumo Oriental(CNGTOT-ZP1-Totum-2)"},{"$f":"REFERENTES!C286","v":45259}]
[null,null,null,null,null,null,null,null,null,null,null,null,null,null,null,null,null,null,null,null,null,null,null,null,null,null,null,null,{"$f":"IF(AND(REFERENTES!C289<>\"\",          REFERENTES!C289<>96321,    REFERENTES!C289<>96222            ),(REFERENTES!E289),\"\")","v":"BOSQUE DE MANGLE ROJO INTERVENIDO, ALTA DENSIDAD DE INDIVIDUOS CON ALTO PORCENTAJE DE FUSTES RETORCIDOS, ARQUEADOS E INCLINADOS."},{"$f":"REFERENTES!C289","v":45395},null,287,"ESTA ÁREA  PRESENTA UNA VEGETACIÓN DE MANGLAR MIXTO, HACE PRESENCIA LAS ESPECIES DE MANGLE ROJO, PIÑUELO Y NATO, ADEMAS EL HELECHO RANCONCHA. ES UNA ÁREA INTERVENIDA,",287,"X"," ",null,{"$f":"CONCATENATE(REFERENTES!A287,\"(\",REFERENTES!B287,\")\")","v":"Trujillo(ENSENADA-ZP1-TRUJI-1)"},{"$f":"REFERENTES!C287","v":45400}]
[null,null,null,null,null,null,null,null,null,null,null,null,null,null,null,null,null,null,null,null,null,null,null,null,null,null,null,null,{"$f":"IF(AND(REFERENTES!C290<>\"\",          REFERENTES!C290<>96321,    REFERENTES!C290<>96222            ),(REFERENTES!E290),\"\")","v":0},{"$f":"REFERENTES!C290","v":48762},null,288,"BOSQUE DE MANGLE ROJO INTERVENIDO, ALTA DENSIDAD DE INDIVIDUOS CON ALTO PORCENTAJE DE FUSTES RETORCIDOS, ARQUEADOS E INCLINADOS.",288,"X"," ",null,{"$f":"CONCATENATE(REFERENTES!A288,\"(\",REFERENTES!B288,\")\")","v":"Tumaco(TCO-ZR2-Tuma-1)"},{"$f":"REFERENTES!C288","v":44506}]
[null,null,null,null,null,null,null,null,null,null,null,null,null,null,null,null,null,null,null,null,null,null,null,null,null,null,null,null,{"$f":"IF(AND(REFERENTES!C291<>\"\",          REFERENTES!C291<>96321,    REFERENTES!C291<>96222            ),(REFERENTES!E291),\"\")","v":"La parcela se encuentra en una franja de manglar tipo borde, continua y de considerable anchura, perpendicular a la línea de costa y a su vez paralela al brazo Calcancala del Río Rancheria. _x000D_"},{"$f":"REFERENTES!C291","v":41390},null,289,0,1290,"X"," ",null,{"$f":"CONCATENATE(REFERENTES!A289,\"(\",REFERENTES!B289,\")\")","v":"Tumaco -1(TCO-ZUS1-SANAND-1)"},{"$f":"REFERENTES!C289","v":45395}]
[null,null,null,null,null,null,null,null,null,null,null,null,null,null,null,null,null,null,null,null,null,null,null,null,null,null,null,null,{"$f":"IF(AND(REFERENTES!C292<>\"\",          REFERENTES!C292<>96321,    REFERENTES!C292<>96222            ),(REFERENTES!E292),\"\")","v":"La parcela se encuentra en una franja de manglar tipo borde, continua y de considerable anchura, perpendicular a la línea de costa y a su vez paralela al brazo Calcancala del Río Rancheria. _x000D_"},{"$f":"REFERENTES!C292","v":41392},null,290,"La parcela se encuentra en una franja de manglar tipo borde, continua y de considerable anchura, perpendicular a la línea de costa y a su vez paralela al brazo Calcancala del Río Rancheria. _x000D_",290,"X"," ",null,{"$f":"CONCATENATE(REFERENTES!A290,\"(\",REFERENTES!B290,\")\")","v":"Ultima Boca(BCISLIT-ZR1-UltBoca-1)"},{"$f":"REFERENTES!C290","v":48762}]
[null,null,null,null,null,null,null,null,null,null,null,null,null,null,null,null,null,null,null,null,null,null,null,null,null,null,null,null,{"$f":"IF(AND(REFERENTES!C293<>\"\",          REFERENTES!C293<>96321,    REFERENTES!C293<>96222            ),(REFERENTES!E293),\"\")","v":"La parcela se encuentra en una franja de manglar tipo borde, continua y de considerable anchura, perpendicular a la línea de costa y a su vez paralela al brazo Calcancala del Río Rancheria. _x000D_"},{"$f":"REFERENTES!C293","v":41394},null,291,"La parcela se encuentra en una franja de manglar tipo borde, continua y de considerable anchura, perpendicular a la línea de costa y a su vez paralela al brazo Calcancala del Río Rancheria. _x000D_",291,"X"," ",null,{"$f":"CONCATENATE(REFERENTES!A291,\"(\",REFERENTES!B291,\")\")","v":"Valle de los Cangrejos -1(VCAN-ZR1-CANG-1)"},{"$f":"REFERENTES!C291","v":41390}]
[null,null,null,null,null,null,null,null,null,null,null,null,null,null,null,null,null,null,null,null,null,null,null,null,null,null,null,null,{"$f":"IF(AND(REFERENTES!C294<>\"\",          REFERENTES!C294<>96321,    REFERENTES!C294<>96222            ),(REFERENTES!E294),\"\")","v":"La parcela se ubica detrás de una cabaña de pescadores, a 18 m de esta y a 34 m de la línea de vegetación, se encuentra una cerca. En la zona predomina la C. erectus muy ramificado, en los primeros metros del transecto se encuentra B marítima y suelos firmes y arenosos. Se encontraron residuos sólidos."},{"$f":"REFERENTES!C294","v":45157},null,292,"La parcela se encuentra en una franja de manglar tipo borde, continua y de considerable anchura, perpendicular a la línea de costa y a su vez paralela al brazo Calcancala del Río Rancheria. _x000D_",292,"X"," ",null,{"$f":"CONCATENATE(REFERENTES!A292,\"(\",REFERENTES!B292,\")\")","v":"Valle de los Cangrejos -2(VCAN-ZR1-CANG-2)"},{"$f":"REFERENTES!C292","v":41392}]
[null,null,null,null,null,null,null,null,null,null,null,null,null,null,null,null,null,null,null,null,null,null,null,null,null,null,null,null,{"$f":"IF(AND(REFERENTES!C295<>\"\",          REFERENTES!C295<>96321,    REFERENTES!C295<>96222            ),(REFERENTES!E295),\"\")","v":"Estación Manglar Velodia Road (formada por 1 parcela circular): Es un manglar de tierra adentro, ubicado en el costado sur de la Isla, que presenta una cobertura de 1,0 ha (INVEMAR-CORALINA, 2016)."},{"$f":"REFERENTES!C295","v":55557},null,293,"La parcela se ubica detrás de una cabaña de pescadores, a 18 m de esta y a 34 m de la línea de vegetación, se encuentra una cerca. En la zona predomina la C. erectus muy ramificado, en los primeros metros del transecto se encuentra B marítima y suelos firmes y arenosos. Se encontraron residuos sólidos.",293,"X"," ",null,{"$f":"CONCATENATE(REFERENTES!A293,\"(\",REFERENTES!B293,\")\")","v":"Valle de los Cangrejos -3(VCAN-ZR1-CANG-3)"},{"$f":"REFERENTES!C293","v":41394}]
[null,null,null,null,null,null,null,null,null,null,null,null,null,null,null,null,null,null,null,null,null,null,null,null,null,null,null,null,{"$f":"IF(AND(REFERENTES!C296<>\"\",          REFERENTES!C296<>96321,    REFERENTES!C296<>96222            ),(REFERENTES!E296),\"\")","v":"Estación bordeada por un canal, con sustrato fangoso, Bosque en buen estado con abundante regeneración natural."},{"$f":"REFERENTES!C296","v":44627},null,294,"Estación Manglar Velodia Road (formada por 1 parcela circular): Es un manglar de tierra adentro, ubicado en el costado sur de la Isla, que presenta una cobertura de 1,0 ha (INVEMAR-CORALINA, 2016).",294,"X"," ",null,{"$f":"CONCATENATE(REFERENTES!A294,\"(\",REFERENTES!B294,\")\")","v":"Velero-1(PVEL-ZP2-VelP-1)"},{"$f":"REFERENTES!C294","v":45157}]
[null,null,null,null,null,null,null,null,null,null,null,null,null,null,null,null,null,null,null,null,null,null,null,null,null,null,null,null,{"$f":"IF(AND(REFERENTES!C297<>\"\",          REFERENTES!C297<>96321,    REFERENTES!C297<>96222            ),(REFERENTES!E297),\"\")","v":"En términos generales este bosque no se ha podido recuperar desde la última zonificación y por el contrario la tendencia es a disminuir su área basal  y por reacción y como estrategia de resiliencia el bosque genera más regeneración natural que se observa en el aumento de más del 300% en  el número de árboles."},{"$f":"REFERENTES!C297","v":45839},null,295,"Estación bordeada por un canal, con sustrato fangoso, Bosque en buen estado con abundante regeneración natural.",295,"X"," ",null,{"$f":"CONCATENATE(REFERENTES!A295,\"(\",REFERENTES!B295,\")\")","v":"Velodia Road parcela circular-1(VelodiaRoadPPC-1)"},{"$f":"REFERENTES!C295","v":55557}]
[null,null,null,null,null,null,null,null,null,null,null,null,null,null,null,null,null,null,null,null,null,null,null,null,null,null,null,null,{"$f":"IF(AND(REFERENTES!C298<>\"\",          REFERENTES!C298<>96321,    REFERENTES!C298<>96222            ),(REFERENTES!E298),\"\")","v":"Bosque Ralo Presencia de R. mangle, L. racemosa y A. germinans.  Vegetación inferior del helecho A. aureum y majagua.  Escasos árboles pero de porte alto.  Presión antrópica relacionada por la ampliación de áreas ganaderas.  Presencia de cercas de alambre en el manglar."},{"$f":"REFERENTES!C298","v":48442},null,296,"En términos generales este bosque no se ha podido recuperar desde la última zonificación y por el contrario la tendencia es a disminuir su área basal  y por reacción y como estrategia de resiliencia el bosque genera más regeneración natural que se observa en el aumento de más del 300% en  el número de árboles.",296,"X"," ",null,{"$f":"CONCATENATE(REFERENTES!A296,\"(\",REFERENTES!B296,\")\")","v":"Vía al Mar(JPVI-ZUS1-VíaMar-1)"},{"$f":"REFERENTES!C296","v":44627}]
[null,null,null,null,null,null,null,null,null,null,null,null,null,null,null,null,null,null,null,null,null,null,null,null,null,null,null,null,{"$f":"IF(AND(REFERENTES!C299<>\"\",          REFERENTES!C299<>96321,    REFERENTES!C299<>96222            ),(REFERENTES!E299),\"\")","v":"Bosque Ralo al interior.  La sp más abundante es el R. mangle seguido de L.racemosa Presencia de helecho A. aureum.  Presión antrópica relacionada por Corta de Varas y presencia de agallas en todas las estructuras del manglar, especialmente en el R. mangle."},{"$f":"REFERENTES!C299","v":48523},null,297,"Bosque Ralo Presencia de R. mangle, L. racemosa y A. germinans.  Vegetación inferior del helecho A. aureum y majagua.  Escasos árboles pero de porte alto.  Presión antrópica relacionada por la ampliación de áreas ganaderas.  Presencia de cercas de alambre en el manglar.",297,"X"," ",null,{"$f":"CONCATENATE(REFERENTES!A297,\"(\",REFERENTES!B297,\")\")","v":"Waipare(MAYO-ZR3-MWA-1)"},{"$f":"REFERENTES!C297","v":45839}]
[null,null,null,null,null,null,null,null,null,null,null,null,null,null,null,null,null,null,null,null,null,null,null,null,null,null,null,null,{"$f":"IF(AND(REFERENTES!C300<>\"\",          REFERENTES!C300<>96321,    REFERENTES!C300<>96222            ),(REFERENTES!E300),\"\")","v":""},{"$f":"REFERENTES!C300","v":0},null,298,"Bosque Ralo al interior.  La sp más abundante es el R. mangle seguido de L.racemosa Presencia de helecho A. aureum.  Presión antrópica relacionada por Corta de Varas y presencia de agallas en todas las estructuras del manglar, especialmente en el R. mangle.",298,"X"," ",null,{"$f":"CONCATENATE(REFERENTES!A298,\"(\",REFERENTES!B298,\")\")","v":"Yaru-1(CORI-ZUS1-Yaru-1)"},{"$f":"REFERENTES!C298","v":48442}]
[null,null,null,null,null,null,null,null,null,null,null,null,null,null,null,null,null,null,null,null,null,null,null,null,null,null,null,null,{"$f":"IF(AND(REFERENTES!C301<>\"\",          REFERENTES!C301<>96321,    REFERENTES!C301<>96222            ),(REFERENTES!E301),\"\")","v":""},{"$f":"REFERENTES!C301","v":0},null,299,0,1290,"X"," ",null,{"$f":"CONCATENATE(REFERENTES!A299,\"(\",REFERENTES!B299,\")\")","v":"Yerbasal -1(DRATR-ZR1-Yerb-1)"},{"$f":"REFERENTES!C299","v":48523}]
[null,null,null,null,null,null,null,null,null,null,null,null,null,null,null,null,null,null,null,null,null,null,null,null,null,null,null,null,{"$f":"IF(AND(REFERENTES!C302<>\"\",          REFERENTES!C302<>96321,    REFERENTES!C302<>96222            ),(REFERENTES!E302),\"\")","v":""},{"$f":"REFERENTES!C302","v":0},null,300,0,1290,"X"," ",null,{"$f":"CONCATENATE(REFERENTES!A300,\"(\",REFERENTES!B300,\")\")","v":"()"},{"$f":"REFERENTES!C300","v":0}]
[null,null,null,null,null,null,null,null,null,null,null,null,null,null,null,null,null,null,null,null,null,null,null,null,null,null,null,null,{"$f":"IF(AND(REFERENTES!C303<>\"\",          REFERENTES!C303<>96321,    REFERENTES!C303<>96222            ),(REFERENTES!E303),\"\")","v":""},{"$f":"REFERENTES!C303","v":0},null,301,0,1290,"X"," ",null,{"$f":"CONCATENATE(REFERENTES!A301,\"(\",REFERENTES!B301,\")\")","v":"()"},{"$f":"REFERENTES!C301","v":0}]
[null,null,null,null,null,null,null,null,null,null,null,null,null,null,null,null,null,null,null,null,null,null,null,null,null,null,null,null,{"$f":"IF(AND(REFERENTES!C304<>\"\",          REFERENTES!C304<>96321,    REFERENTES!C304<>96222            ),(REFERENTES!E304),\"\")","v":""},{"$f":"REFERENTES!C304","v":0},null,302,0,1290,"X"," ",null,{"$f":"CONCATENATE(REFERENTES!A302,\"(\",REFERENTES!B302,\")\")","v":"()"},{"$f":"REFERENTES!C302","v":0}]
[null,null,null,null,null,null,null,null,null,null,null,null,null,null,null,null,null,null,null,null,null,null,null,null,null,null,null,null,{"$f":"IF(AND(REFERENTES!C305<>\"\",          REFERENTES!C305<>96321,    REFERENTES!C305<>96222            ),(REFERENTES!E305),\"\")","v":""},{"$f":"REFERENTES!C305","v":0},null,303,0,1290,"X"," ",null,{"$f":"CONCATENATE(REFERENTES!A303,\"(\",REFERENTES!B303,\")\")","v":"()"},{"$f":"REFERENTES!C303","v":0}]
[null,null,null,null,null,null,null,null,null,null,null,null,null,null,null,null,null,null,null,null,null,null,null,null,null,null,null,null,{"$f":"IF(AND(REFERENTES!C306<>\"\",          REFERENTES!C306<>96321,    REFERENTES!C306<>96222            ),(REFERENTES!E306),\"\")","v":""},{"$f":"REFERENTES!C306","v":0},null,304,0,1290,"X"," ",null,{"$f":"CONCATENATE(REFERENTES!A304,\"(\",REFERENTES!B304,\")\")","v":"()"},{"$f":"REFERENTES!C304","v":0}]
[null,null,null,null,null,null,null,null,null,null,null,null,null,null,null,null,null,null,null,null,null,null,null,null,null,null,null,null,{"$f":"IF(AND(REFERENTES!C307<>\"\",          REFERENTES!C307<>96321,    REFERENTES!C307<>96222            ),(REFERENTES!E307),\"\")","v":""},{"$f":"REFERENTES!C307","v":0},null,305,0,1290,"X"," ",null,{"$f":"CONCATENATE(REFERENTES!A305,\"(\",REFERENTES!B305,\")\")","v":"()"},{"$f":"REFERENTES!C305","v":0}]
[null,null,null,null,null,null,null,null,null,null,null,null,null,null,null,null,null,null,null,null,null,null,null,null,null,null,null,null,{"$f":"IF(AND(REFERENTES!C308<>\"\",          REFERENTES!C308<>96321,    REFERENTES!C308<>96222            ),(REFERENTES!E308),\"\")","v":""},{"$f":"REFERENTES!C308","v":0},null,306,0,1290,"X"," ",null,{"$f":"CONCATENATE(REFERENTES!A306,\"(\",REFERENTES!B306,\")\")","v":"()"},{"$f":"REFERENTES!C306","v":0}]
[null,null,null,null,null,null,null,null,null,null,null,null,null,null,null,null,null,null,null,null,null,null,null,null,null,null,null,null,{"$f":"IF(AND(REFERENTES!C309<>\"\",          REFERENTES!C309<>96321,    REFERENTES!C309<>96222            ),(REFERENTES!E309),\"\")","v":""},{"$f":"REFERENTES!C309","v":0},null,307,0,1290,"X"," ",null,{"$f":"CONCATENATE(REFERENTES!A307,\"(\",REFERENTES!B307,\")\")","v":"()"},{"$f":"REFERENTES!C307","v":0}]
[null,null,null,null,null,null,null,null,null,null,null,null,null,null,null,null,null,null,null,null,null,null,null,null,null,null,null,null,{"$f":"IF(AND(REFERENTES!C310<>\"\",          REFERENTES!C310<>96321,    REFERENTES!C310<>96222            ),(REFERENTES!E310),\"\")","v":""},{"$f":"REFERENTES!C310","v":0},null,308,0,1290,"X"," ",null,{"$f":"CONCATENATE(REFERENTES!A308,\"(\",REFERENTES!B308,\")\")","v":"()"},{"$f":"REFERENTES!C308","v":0}]
[null,null,null,null,null,null,null,null,null,null,null,null,null,null,null,null,null,null,null,null,null,null,null,null,null,null,null,null,{"$f":"IF(AND(REFERENTES!C311<>\"\",          REFERENTES!C311<>96321,    REFERENTES!C311<>96222            ),(REFERENTES!E311),\"\")","v":""},{"$f":"REFERENTES!C311","v":0},null,309,0,1290,"X"," ",null,{"$f":"CONCATENATE(REFERENTES!A309,\"(\",REFERENTES!B309,\")\")","v":"()"},{"$f":"REFERENTES!C309","v":0}]
[null,null,null,null,null,null,null,null,null,null,null,null,null,null,null,null,null,null,null,null,null,null,null,null,null,null,null,null,{"$f":"IF(AND(REFERENTES!C312<>\"\",          REFERENTES!C312<>96321,    REFERENTES!C312<>96222            ),(REFERENTES!E312),\"\")","v":""},{"$f":"REFERENTES!C312","v":0},null,310,0,1290,"X"," ",null,{"$f":"CONCATENATE(REFERENTES!A310,\"(\",REFERENTES!B310,\")\")","v":"()"},{"$f":"REFERENTES!C310","v":0}]
[null,null,null,null,null,null,null,null,null,null,null,null,null,null,null,null,null,null,null,null,null,null,null,null,null,null,null,null,{"$f":"IF(AND(REFERENTES!C313<>\"\",          REFERENTES!C313<>96321,    REFERENTES!C313<>96222            ),(REFERENTES!E313),\"\")","v":""},{"$f":"REFERENTES!C313","v":0},null,311,0,1290,"X"," ",null,{"$f":"CONCATENATE(REFERENTES!A311,\"(\",REFERENTES!B311,\")\")","v":"()"},{"$f":"REFERENTES!C311","v":0}]
[null,null,null,null,null,null,null,null,null,null,null,null,null,null,null,null,null,null,null,null,null,null,null,null,null,null,null,null,{"$f":"IF(AND(REFERENTES!C314<>\"\",          REFERENTES!C314<>96321,    REFERENTES!C314<>96222            ),(REFERENTES!E314),\"\")","v":""},{"$f":"REFERENTES!C314","v":0},null,312,0,1290,"X"," ",null,{"$f":"CONCATENATE(REFERENTES!A312,\"(\",REFERENTES!B312,\")\")","v":"()"},{"$f":"REFERENTES!C312","v":0}]
[null,null,null,null,null,null,null,null,null,null,null,null,null,null,null,null,null,null,null,null,null,null,null,null,null,null,null,null,{"$f":"IF(AND(REFERENTES!C315<>\"\",          REFERENTES!C315<>96321,    REFERENTES!C315<>96222            ),(REFERENTES!E315),\"\")","v":""},{"$f":"REFERENTES!C315","v":0},null,313,0,1290,"X"," ",null,{"$f":"CONCATENATE(REFERENTES!A313,\"(\",REFERENTES!B313,\")\")","v":"()"},{"$f":"REFERENTES!C313","v":0}]
[null,null,null,null,null,null,null,null,null,null,null,null,null,null,null,null,null,null,null,null,null,null,null,null,null,null,null,null,{"$f":"IF(AND(REFERENTES!C316<>\"\",          REFERENTES!C316<>96321,    REFERENTES!C316<>96222            ),(REFERENTES!E316),\"\")","v":""},{"$f":"REFERENTES!C316","v":0},null,314,0,1290,"X"," ",null,{"$f":"CONCATENATE(REFERENTES!A314,\"(\",REFERENTES!B314,\")\")","v":"()"},{"$f":"REFERENTES!C314","v":0}]
[null,null,null,null,null,null,null,null,null,null,null,null,null,null,null,null,null,null,null,null,null,null,null,null,null,null,null,null,{"$f":"IF(AND(REFERENTES!C317<>\"\",          REFERENTES!C317<>96321,    REFERENTES!C317<>96222            ),(REFERENTES!E317),\"\")","v":""},{"$f":"REFERENTES!C317","v":0},null,315,0,1290,"X"," ",null,{"$f":"CONCATENATE(REFERENTES!A315,\"(\",REFERENTES!B315,\")\")","v":"()"},{"$f":"REFERENTES!C315","v":0}]
[null,null,null,null,null,null,null,null,null,null,null,null,null,null,null,null,null,null,null,null,null,null,null,null,null,null,null,null,{"$f":"IF(AND(REFERENTES!C318<>\"\",          REFERENTES!C318<>96321,    REFERENTES!C318<>96222            ),(REFERENTES!E318),\"\")","v":""},{"$f":"REFERENTES!C318","v":0},null,316,0,1290,"X"," ",null,{"$f":"CONCATENATE(REFERENTES!A316,\"(\",REFERENTES!B316,\")\")","v":"()"},{"$f":"REFERENTES!C316","v":0}]
[null,null,null,null,null,null,null,null,null,null,null,null,null,null,null,null,null,null,null,null,null,null,null,null,null,null,null,null,{"$f":"IF(AND(REFERENTES!C319<>\"\",          REFERENTES!C319<>96321,    REFERENTES!C319<>96222            ),(REFERENTES!E319),\"\")","v":""},{"$f":"REFERENTES!C319","v":0},null,317,0,1290,"X"," ",null,{"$f":"CONCATENATE(REFERENTES!A317,\"(\",REFERENTES!B317,\")\")","v":"()"},{"$f":"REFERENTES!C317","v":0}]
[null,null,null,null,null,null,null,null,null,null,null,null,null,null,null,null,null,null,null,null,null,null,null,null,null,null,null,null,{"$f":"IF(AND(REFERENTES!C320<>\"\",          REFERENTES!C320<>96321,    REFERENTES!C320<>96222            ),(REFERENTES!E320),\"\")","v":""},{"$f":"REFERENTES!C320","v":0},null,318,0,1290,"X"," ",null,{"$f":"CONCATENATE(REFERENTES!A318,\"(\",REFERENTES!B318,\")\")","v":"()"},{"$f":"REFERENTES!C318","v":0}]
[null,null,null,null,null,null,null,null,null,null,null,null,null,null,null,null,null,null,null,null,null,null,null,null,null,null,null,null,{"$f":"IF(AND(REFERENTES!C321<>\"\",          REFERENTES!C321<>96321,    REFERENTES!C321<>96222            ),(REFERENTES!E321),\"\")","v":""},{"$f":"REFERENTES!C321","v":0},null,319,0,1290,"X"," ",null,{"$f":"CONCATENATE(REFERENTES!A319,\"(\",REFERENTES!B319,\")\")","v":"()"},{"$f":"REFERENTES!C319","v":0}]
[null,null,null,null,null,null,null,null,null,null,null,null,null,null,null,null,null,null,null,null,null,null,null,null,null,null,null,null,{"$f":"IF(AND(REFERENTES!C322<>\"\",          REFERENTES!C322<>96321,    REFERENTES!C322<>96222            ),(REFERENTES!E322),\"\")","v":""},{"$f":"REFERENTES!C322","v":0},null,320,0,1290,"X"," ",null,{"$f":"CONCATENATE(REFERENTES!A320,\"(\",REFERENTES!B320,\")\")","v":"()"},{"$f":"REFERENTES!C320","v":0}]
[null,null,null,null,null,null,null,null,null,null,null,null,null,null,null,null,null,null,null,null,null,null,null,null,null,null,null,null,{"$f":"IF(AND(REFERENTES!C323<>\"\",          REFERENTES!C323<>96321,    REFERENTES!C323<>96222            ),(REFERENTES!E323),\"\")","v":""},{"$f":"REFERENTES!C323","v":0},null,321,0,1290,"X"," ",null,{"$f":"CONCATENATE(REFERENTES!A321,\"(\",REFERENTES!B321,\")\")","v":"()"},{"$f":"REFERENTES!C321","v":0}]
[null,null,null,null,null,null,null,null,null,null,null,null,null,null,null,null,null,null,null,null,null,null,null,null,null,null,null,null,{"$f":"IF(AND(REFERENTES!C324<>\"\",          REFERENTES!C324<>96321,    REFERENTES!C324<>96222            ),(REFERENTES!E324),\"\")","v":""},{"$f":"REFERENTES!C324","v":0},null,322,{"$f":"IF(AC326=\"\",0,AC326)","v":0},{"$f":"IF(AG327=0,MAX($AF$6:$AF$1294)+1,AF327)","v":1290},{"$f":"IFERROR(VLOOKUP(SMALL($AH$6:$AH$1294,AF327),$AF$6:$AH$1294,2,FALSE),\"X\")","v":"X"}," ",null,{"$f":"CONCATENATE(REFERENTES!A322,\"(\",REFERENTES!B322,\")\")","v":"()"},{"$f":"REFERENTES!C322","v":0}]
[null,null,null,null,null,null,null,null,null,null,null,null,null,null,null,null,null,null,null,null,null,null,null,null,null,null,null,null,{"$f":"IF(AND(REFERENTES!C325<>\"\",          REFERENTES!C325<>96321,    REFERENTES!C325<>96222            ),(REFERENTES!E325),\"\")","v":""},{"$f":"REFERENTES!C325","v":0},null,323,0,1290,"X"," ",null,{"$f":"CONCATENATE(REFERENTES!A323,\"(\",REFERENTES!B323,\")\")","v":"()"},{"$f":"REFERENTES!C323","v":0}]
[null,null,null,null,null,null,null,null,null,null,null,null,null,null,null,null,null,null,null,null,null,null,null,null,null,null,null,null,{"$f":"IF(AND(REFERENTES!C326<>\"\",          REFERENTES!C326<>96321,    REFERENTES!C326<>96222            ),(REFERENTES!E326),\"\")","v":""},{"$f":"REFERENTES!C326","v":0},null,324,0,1290,"X"," ",null,{"$f":"CONCATENATE(REFERENTES!A324,\"(\",REFERENTES!B324,\")\")","v":"()"},{"$f":"REFERENTES!C324","v":0}]
[null,null,null,null,null,null,null,null,null,null,null,null,null,null,null,null,null,null,null,null,null,null,null,null,null,null,null,null,{"$f":"IF(AND(REFERENTES!C327<>\"\",          REFERENTES!C327<>96321,    REFERENTES!C327<>96222            ),(REFERENTES!E327),\"\")","v":""},{"$f":"REFERENTES!C327","v":0},null,325,0,1290,"X"," ",null,{"$f":"CONCATENATE(REFERENTES!A325,\"(\",REFERENTES!B325,\")\")","v":"()"},{"$f":"REFERENTES!C325","v":0}]
[null,null,null,null,null,null,null,null,null,null,null,null,null,null,null,null,null,null,null,null,null,null,null,null,null,null,null,null,{"$f":"IF(AND(REFERENTES!C328<>\"\",          REFERENTES!C328<>96321,    REFERENTES!C328<>96222            ),(REFERENTES!E328),\"\")","v":""},{"$f":"REFERENTES!C328","v":0},null,326,0,1290,"X"," ",null,{"$f":"CONCATENATE(REFERENTES!A326,\"(\",REFERENTES!B326,\")\")","v":"()"},{"$f":"REFERENTES!C326","v":0}]
[null,null,null,null,null,null,null,null,null,null,null,null,null,null,null,null,null,null,null,null,null,null,null,null,null,null,null,null,{"$f":"IF(AND(REFERENTES!C329<>\"\",          REFERENTES!C329<>96321,    REFERENTES!C329<>96222            ),(REFERENTES!E329),\"\")","v":""},{"$f":"REFERENTES!C329","v":0},null,327,0,1290,"X"," ",null,{"$f":"CONCATENATE(REFERENTES!A327,\"(\",REFERENTES!B327,\")\")","v":"()"},{"$f":"REFERENTES!C327","v":0}]
[null,null,null,null,null,null,null,null,null,null,null,null,null,null,null,null,null,null,null,null,null,null,null,null,null,null,null,null,{"$f":"IF(AND(REFERENTES!C330<>\"\",          REFERENTES!C330<>96321,    REFERENTES!C330<>96222            ),(REFERENTES!E330),\"\")","v":""},{"$f":"REFERENTES!C330","v":0},null,328,0,1290,"X"," ",null,{"$f":"CONCATENATE(REFERENTES!A328,\"(\",REFERENTES!B328,\")\")","v":"()"},{"$f":"REFERENTES!C328","v":0}]
[null,null,null,null,null,null,null,null,null,null,null,null,null,null,null,null,null,null,null,null,null,null,null,null,null,null,null,null,{"$f":"IF(AND(REFERENTES!C331<>\"\",          REFERENTES!C331<>96321,    REFERENTES!C331<>96222            ),(REFERENTES!E331),\"\")","v":""},{"$f":"REFERENTES!C331","v":0},null,329,0,1290,"X"," ",null,{"$f":"CONCATENATE(REFERENTES!A329,\"(\",REFERENTES!B329,\")\")","v":"()"},{"$f":"REFERENTES!C329","v":0}]
[null,null,null,null,null,null,null,null,null,null,null,null,null,null,null,null,null,null,null,null,null,null,null,null,null,null,null,null,{"$f":"IF(AND(REFERENTES!C332<>\"\",          REFERENTES!C332<>96321,    REFERENTES!C332<>96222            ),(REFERENTES!E332),\"\")","v":""},{"$f":"REFERENTES!C332","v":0},null,330,0,1290,"X"," ",null,{"$f":"CONCATENATE(REFERENTES!A330,\"(\",REFERENTES!B330,\")\")","v":"()"},{"$f":"REFERENTES!C330","v":0}]
[null,null,null,null,null,null,null,null,null,null,null,null,null,null,null,null,null,null,null,null,null,null,null,null,null,null,null,null,{"$f":"IF(AND(REFERENTES!C333<>\"\",          REFERENTES!C333<>96321,    REFERENTES!C333<>96222            ),(REFERENTES!E333),\"\")","v":""},{"$f":"REFERENTES!C333","v":0},null,331,0,1290,"X"," ",null,{"$f":"CONCATENATE(REFERENTES!A331,\"(\",REFERENTES!B331,\")\")","v":"()"},{"$f":"REFERENTES!C331","v":0}]
[null,null,null,null,null,null,null,null,null,null,null,null,null,null,null,null,null,null,null,null,null,null,null,null,null,null,null,null,{"$f":"IF(AND(REFERENTES!C334<>\"\",          REFERENTES!C334<>96321,    REFERENTES!C334<>96222            ),(REFERENTES!E334),\"\")","v":""},{"$f":"REFERENTES!C334","v":0},null,332,0,1290,"X"," ",null,{"$f":"CONCATENATE(REFERENTES!A332,\"(\",REFERENTES!B332,\")\")","v":"()"},{"$f":"REFERENTES!C332","v":0}]
[null,null,null,null,null,null,null,null,null,null,null,null,null,null,null,null,null,null,null,null,null,null,null,null,null,null,null,null,{"$f":"IF(AND(REFERENTES!C335<>\"\",          REFERENTES!C335<>96321,    REFERENTES!C335<>96222            ),(REFERENTES!E335),\"\")","v":""},{"$f":"REFERENTES!C335","v":0},null,333,0,1290,"X"," ",null,{"$f":"CONCATENATE(REFERENTES!A333,\"(\",REFERENTES!B333,\")\")","v":"()"},{"$f":"REFERENTES!C333","v":0}]
[null,null,null,null,null,null,null,null,null,null,null,null,null,null,null,null,null,null,null,null,null,null,null,null,null,null,null,null,{"$f":"IF(AND(REFERENTES!C336<>\"\",          REFERENTES!C336<>96321,    REFERENTES!C336<>96222            ),(REFERENTES!E336),\"\")","v":""},{"$f":"REFERENTES!C336","v":0},null,334,0,1290,"X"," ",null,{"$f":"CONCATENATE(REFERENTES!A334,\"(\",REFERENTES!B334,\")\")","v":"()"},{"$f":"REFERENTES!C334","v":0}]
[null,null,null,null,null,null,null,null,null,null,null,null,null,null,null,null,null,null,null,null,null,null,null,null,null,null,null,null,{"$f":"IF(AND(REFERENTES!C337<>\"\",          REFERENTES!C337<>96321,    REFERENTES!C337<>96222            ),(REFERENTES!E337),\"\")","v":""},{"$f":"REFERENTES!C337","v":0},null,335,0,1290,"X"," ",null,{"$f":"CONCATENATE(REFERENTES!A335,\"(\",REFERENTES!B335,\")\")","v":"()"},{"$f":"REFERENTES!C335","v":0}]
[null,null,null,null,null,null,null,null,null,null,null,null,null,null,null,null,null,null,null,null,null,null,null,null,null,null,null,null,{"$f":"IF(AND(REFERENTES!C338<>\"\",          REFERENTES!C338<>96321,    REFERENTES!C338<>96222            ),(REFERENTES!E338),\"\")","v":""},{"$f":"REFERENTES!C338","v":0},null,336,0,1290,"X"," ",null,{"$f":"CONCATENATE(REFERENTES!A336,\"(\",REFERENTES!B336,\")\")","v":"()"},{"$f":"REFERENTES!C336","v":0}]
[null,null,null,null,null,null,null,null,null,null,null,null,null,null,null,null,null,null,null,null,null,null,null,null,null,null,null,null,{"$f":"IF(AND(REFERENTES!C339<>\"\",          REFERENTES!C339<>96321,    REFERENTES!C339<>96222            ),(REFERENTES!E339),\"\")","v":""},{"$f":"REFERENTES!C339","v":0},null,337,0,1290,"X"," ",null,{"$f":"CONCATENATE(REFERENTES!A337,\"(\",REFERENTES!B337,\")\")","v":"()"},{"$f":"REFERENTES!C337","v":0}]
[null,null,null,null,null,null,null,null,null,null,null,null,null,null,null,null,null,null,null,null,null,null,null,null,null,null,null,null,{"$f":"IF(AND(REFERENTES!C340<>\"\",          REFERENTES!C340<>96321,    REFERENTES!C340<>96222            ),(REFERENTES!E340),\"\")","v":""},{"$f":"REFERENTES!C340","v":0},null,338,0,1290,"X"," ",null,{"$f":"CONCATENATE(REFERENTES!A338,\"(\",REFERENTES!B338,\")\")","v":"()"},{"$f":"REFERENTES!C338","v":0}]
[null,null,null,null,null,null,null,null,null,null,null,null,null,null,null,null,null,null,null,null,null,null,null,null,null,null,null,null,{"$f":"IF(AND(REFERENTES!C341<>\"\",          REFERENTES!C341<>96321,    REFERENTES!C341<>96222            ),(REFERENTES!E341),\"\")","v":""},{"$f":"REFERENTES!C341","v":0},null,339,0,1290,"X"," ",null,{"$f":"CONCATENATE(REFERENTES!A339,\"(\",REFERENTES!B339,\")\")","v":"()"},{"$f":"REFERENTES!C339","v":0}]
[null,null,null,null,null,null,null,null,null,null,null,null,null,null,null,null,null,null,null,null,null,null,null,null,null,null,null,null,{"$f":"IF(AND(REFERENTES!C342<>\"\",          REFERENTES!C342<>96321,    REFERENTES!C342<>96222            ),(REFERENTES!E342),\"\")","v":""},{"$f":"REFERENTES!C342","v":0},null,340,0,1290,"X"," ",null,{"$f":"CONCATENATE(REFERENTES!A340,\"(\",REFERENTES!B340,\")\")","v":"()"},{"$f":"REFERENTES!C340","v":0}]
[null,null,null,null,null,null,null,null,null,null,null,null,null,null,null,null,null,null,null,null,null,null,null,null,null,null,null,null,{"$f":"IF(AND(REFERENTES!C343<>\"\",          REFERENTES!C343<>96321,    REFERENTES!C343<>96222            ),(REFERENTES!E343),\"\")","v":""},{"$f":"REFERENTES!C343","v":0},null,341,0,1290,"X"," ",null,{"$f":"CONCATENATE(REFERENTES!A341,\"(\",REFERENTES!B341,\")\")","v":"()"},{"$f":"REFERENTES!C341","v":0}]
[null,null,null,null,null,null,null,null,null,null,null,null,null,null,null,null,null,null,null,null,null,null,null,null,null,null,null,null,{"$f":"IF(AND(REFERENTES!C344<>\"\",          REFERENTES!C344<>96321,    REFERENTES!C344<>96222            ),(REFERENTES!E344),\"\")","v":""},{"$f":"REFERENTES!C344","v":0},null,342,0,1290,"X"," ",null,{"$f":"CONCATENATE(REFERENTES!A342,\"(\",REFERENTES!B342,\")\")","v":"()"},{"$f":"REFERENTES!C342","v":0}]
[null,null,null,null,null,null,null,null,null,null,null,null,null,null,null,null,null,null,null,null,null,null,null,null,null,null,null,null,{"$f":"IF(AND(REFERENTES!C345<>\"\",          REFERENTES!C345<>96321,    REFERENTES!C345<>96222            ),(REFERENTES!E345),\"\")","v":""},{"$f":"REFERENTES!C345","v":0},null,343,0,1290,"X"," ",null,{"$f":"CONCATENATE(REFERENTES!A343,\"(\",REFERENTES!B343,\")\")","v":"()"},{"$f":"REFERENTES!C343","v":0}]
[null,null,null,null,null,null,null,null,null,null,null,null,null,null,null,null,null,null,null,null,null,null,null,null,null,null,null,null,{"$f":"IF(AND(REFERENTES!C346<>\"\",          REFERENTES!C346<>96321,    REFERENTES!C346<>96222            ),(REFERENTES!E346),\"\")","v":""},{"$f":"REFERENTES!C346","v":0},null,344,0,1290,"X"," ",null,{"$f":"CONCATENATE(REFERENTES!A344,\"(\",REFERENTES!B344,\")\")","v":"()"},{"$f":"REFERENTES!C344","v":0}]
[null,null,null,null,null,null,null,null,null,null,null,null,null,null,null,null,null,null,null,null,null,null,null,null,null,null,null,null,{"$f":"IF(AND(REFERENTES!C347<>\"\",          REFERENTES!C347<>96321,    REFERENTES!C347<>96222            ),(REFERENTES!E347),\"\")","v":""},{"$f":"REFERENTES!C347","v":0},null,345,0,1290,"X"," ",null,{"$f":"CONCATENATE(REFERENTES!A345,\"(\",REFERENTES!B345,\")\")","v":"()"},{"$f":"REFERENTES!C345","v":0}]
[null,null,null,null,null,null,null,null,null,null,null,null,null,null,null,null,null,null,null,null,null,null,null,null,null,null,null,null,{"$f":"IF(AND(REFERENTES!C348<>\"\",          REFERENTES!C348<>96321,    REFERENTES!C348<>96222            ),(REFERENTES!E348),\"\")","v":""},{"$f":"REFERENTES!C348","v":0},null,346,0,1290,"X"," ",null,{"$f":"CONCATENATE(REFERENTES!A346,\"(\",REFERENTES!B346,\")\")","v":"()"},{"$f":"REFERENTES!C346","v":0}]
[null,null,null,null,null,null,null,null,null,null,null,null,null,null,null,null,null,null,null,null,null,null,null,null,null,null,null,null,{"$f":"IF(AND(REFERENTES!C349<>\"\",          REFERENTES!C349<>96321,    REFERENTES!C349<>96222            ),(REFERENTES!E349),\"\")","v":""},{"$f":"REFERENTES!C349","v":0},null,347,0,1290,"X"," ",null,{"$f":"CONCATENATE(REFERENTES!A347,\"(\",REFERENTES!B347,\")\")","v":"()"},{"$f":"REFERENTES!C347","v":0}]
[null,null,null,null,null,null,null,null,null,null,null,null,null,null,null,null,null,null,null,null,null,null,null,null,null,null,null,null,{"$f":"IF(AND(REFERENTES!C350<>\"\",          REFERENTES!C350<>96321,    REFERENTES!C350<>96222            ),(REFERENTES!E350),\"\")","v":""},{"$f":"REFERENTES!C350","v":0},null,348,0,1290,"X"," ",null,{"$f":"CONCATENATE(REFERENTES!A348,\"(\",REFERENTES!B348,\")\")","v":"()"},{"$f":"REFERENTES!C348","v":0}]
[null,null,null,null,null,null,null,null,null,null,null,null,null,null,null,null,null,null,null,null,null,null,null,null,null,null,null,null,{"$f":"IF(AND(REFERENTES!C351<>\"\",          REFERENTES!C351<>96321,    REFERENTES!C351<>96222            ),(REFERENTES!E351),\"\")","v":""},{"$f":"REFERENTES!C351","v":0},null,349,0,1290,"X"," ",null,{"$f":"CONCATENATE(REFERENTES!A349,\"(\",REFERENTES!B349,\")\")","v":"()"},{"$f":"REFERENTES!C349","v":0}]
[null,null,null,null,null,null,null,null,null,null,null,null,null,null,null,null,null,null,null,null,null,null,null,null,null,null,null,null,{"$f":"IF(AND(REFERENTES!C352<>\"\",          REFERENTES!C352<>96321,    REFERENTES!C352<>96222            ),(REFERENTES!E352),\"\")","v":""},{"$f":"REFERENTES!C352","v":0},null,350,0,1290,"X"," ",null,{"$f":"CONCATENATE(REFERENTES!A350,\"(\",REFERENTES!B350,\")\")","v":"()"},{"$f":"REFERENTES!C350","v":0}]
[null,null,null,null,null,null,null,null,null,null,null,null,null,null,null,null,null,null,null,null,null,null,null,null,null,null,null,null,{"$f":"IF(AND(REFERENTES!C353<>\"\",          REFERENTES!C353<>96321,    REFERENTES!C353<>96222            ),(REFERENTES!E353),\"\")","v":""},{"$f":"REFERENTES!C353","v":0},null,351,0,1290,"X"," ",null,{"$f":"CONCATENATE(REFERENTES!A351,\"(\",REFERENTES!B351,\")\")","v":"()"},{"$f":"REFERENTES!C351","v":0}]
[null,null,null,null,null,null,null,null,null,null,null,null,null,null,null,null,null,null,null,null,null,null,null,null,null,null,null,null,{"$f":"IF(AND(REFERENTES!C354<>\"\",          REFERENTES!C354<>96321,    REFERENTES!C354<>96222            ),(REFERENTES!E354),\"\")","v":""},{"$f":"REFERENTES!C354","v":0},null,352,0,1290,"X"," ",null,{"$f":"CONCATENATE(REFERENTES!A352,\"(\",REFERENTES!B352,\")\")","v":"()"},{"$f":"REFERENTES!C352","v":0}]
[null,null,null,null,null,null,null,null,null,null,null,null,null,null,null,null,null,null,null,null,null,null,null,null,null,null,null,null,{"$f":"IF(AND(REFERENTES!C355<>\"\",          REFERENTES!C355<>96321,    REFERENTES!C355<>96222            ),(REFERENTES!E355),\"\")","v":""},{"$f":"REFERENTES!C355","v":0},null,353,0,1290,"X"," ",null,{"$f":"CONCATENATE(REFERENTES!A353,\"(\",REFERENTES!B353,\")\")","v":"()"},{"$f":"REFERENTES!C353","v":0}]
[null,null,null,null,null,null,null,null,null,null,null,null,null,null,null,null,null,null,null,null,null,null,null,null,null,null,null,null,{"$f":"IF(AND(REFERENTES!C356<>\"\",          REFERENTES!C356<>96321,    REFERENTES!C356<>96222            ),(REFERENTES!E356),\"\")","v":""},{"$f":"REFERENTES!C356","v":0},null,354,0,1290,"X"," ",null,{"$f":"CONCATENATE(REFERENTES!A354,\"(\",REFERENTES!B354,\")\")","v":"()"},{"$f":"REFERENTES!C354","v":0}]
[null,null,null,null,null,null,null,null,null,null,null,null,null,null,null,null,null,null,null,null,null,null,null,null,null,null,null,null,{"$f":"IF(AND(REFERENTES!C357<>\"\",          REFERENTES!C357<>96321,    REFERENTES!C357<>96222            ),(REFERENTES!E357),\"\")","v":""},{"$f":"REFERENTES!C357","v":0},null,355,0,1290,"X"," ",null,{"$f":"CONCATENATE(REFERENTES!A355,\"(\",REFERENTES!B355,\")\")","v":"()"},{"$f":"REFERENTES!C355","v":0}]
[null,null,null,null,null,null,null,null,null,null,null,null,null,null,null,null,null,null,null,null,null,null,null,null,null,null,null,null,{"$f":"IF(AND(REFERENTES!C358<>\"\",          REFERENTES!C358<>96321,    REFERENTES!C358<>96222            ),(REFERENTES!E358),\"\")","v":""},{"$f":"REFERENTES!C358","v":0},null,356,0,1290,"X"," ",null,{"$f":"CONCATENATE(REFERENTES!A356,\"(\",REFERENTES!B356,\")\")","v":"()"},{"$f":"REFERENTES!C356","v":0}]
[null,null,null,null,null,null,null,null,null,null,null,null,null,null,null,null,null,null,null,null,null,null,null,null,null,null,null,null,{"$f":"IF(AND(REFERENTES!C359<>\"\",          REFERENTES!C359<>96321,    REFERENTES!C359<>96222            ),(REFERENTES!E359),\"\")","v":""},{"$f":"REFERENTES!C359","v":0},null,357,0,1290,"X"," ",null,{"$f":"CONCATENATE(REFERENTES!A357,\"(\",REFERENTES!B357,\")\")","v":"()"},{"$f":"REFERENTES!C357","v":0}]
[null,null,null,null,null,null,null,null,null,null,null,null,null,null,null,null,null,null,null,null,null,null,null,null,null,null,null,null,{"$f":"IF(AND(REFERENTES!C360<>\"\",          REFERENTES!C360<>96321,    REFERENTES!C360<>96222            ),(REFERENTES!E360),\"\")","v":""},{"$f":"REFERENTES!C360","v":0},null,358,0,1290,"X"," ",null,{"$f":"CONCATENATE(REFERENTES!A358,\"(\",REFERENTES!B358,\")\")","v":"()"},{"$f":"REFERENTES!C358","v":0}]
[null,null,null,null,null,null,null,null,null,null,null,null,null,null,null,null,null,null,null,null,null,null,null,null,null,null,null,null,{"$f":"IF(AND(REFERENTES!C361<>\"\",          REFERENTES!C361<>96321,    REFERENTES!C361<>96222            ),(REFERENTES!E361),\"\")","v":""},{"$f":"REFERENTES!C361","v":0},null,359,0,1290,"X"," ",null,{"$f":"CONCATENATE(REFERENTES!A359,\"(\",REFERENTES!B359,\")\")","v":"()"},{"$f":"REFERENTES!C359","v":0}]
[null,null,null,null,null,null,null,null,null,null,null,null,null,null,null,null,null,null,null,null,null,null,null,null,null,null,null,null,{"$f":"IF(AND(REFERENTES!C362<>\"\",          REFERENTES!C362<>96321,    REFERENTES!C362<>96222            ),(REFERENTES!E362),\"\")","v":""},{"$f":"REFERENTES!C362","v":0},null,360,0,1290,"X"," ",null,{"$f":"CONCATENATE(REFERENTES!A360,\"(\",REFERENTES!B360,\")\")","v":"()"},{"$f":"REFERENTES!C360","v":0}]
[null,null,null,null,null,null,null,null,null,null,null,null,null,null,null,null,null,null,null,null,null,null,null,null,null,null,null,null,{"$f":"IF(AND(REFERENTES!C363<>\"\",          REFERENTES!C363<>96321,    REFERENTES!C363<>96222            ),(REFERENTES!E363),\"\")","v":""},{"$f":"REFERENTES!C363","v":0},null,361,0,1290,"X"," ",null,{"$f":"CONCATENATE(REFERENTES!A361,\"(\",REFERENTES!B361,\")\")","v":"()"},{"$f":"REFERENTES!C361","v":0}]
[null,null,null,null,null,null,null,null,null,null,null,null,null,null,null,null,null,null,null,null,null,null,null,null,null,null,null,null,{"$f":"IF(AND(REFERENTES!C364<>\"\",          REFERENTES!C364<>96321,    REFERENTES!C364<>96222            ),(REFERENTES!E364),\"\")","v":""},{"$f":"REFERENTES!C364","v":0},null,362,0,1290,"X"," ",null,{"$f":"CONCATENATE(REFERENTES!A362,\"(\",REFERENTES!B362,\")\")","v":"()"},{"$f":"REFERENTES!C362","v":0}]
[null,null,null,null,null,null,null,null,null,null,null,null,null,null,null,null,null,null,null,null,null,null,null,null,null,null,null,null,{"$f":"IF(AND(REFERENTES!C365<>\"\",          REFERENTES!C365<>96321,    REFERENTES!C365<>96222            ),(REFERENTES!E365),\"\")","v":""},{"$f":"REFERENTES!C365","v":0},null,363,0,1290,"X"," ",null,{"$f":"CONCATENATE(REFERENTES!A363,\"(\",REFERENTES!B363,\")\")","v":"()"},{"$f":"REFERENTES!C363","v":0}]
[null,null,null,null,null,null,null,null,null,null,null,null,null,null,null,null,null,null,null,null,null,null,null,null,null,null,null,null,{"$f":"IF(AND(REFERENTES!C366<>\"\",          REFERENTES!C366<>96321,    REFERENTES!C366<>96222            ),(REFERENTES!E366),\"\")","v":""},{"$f":"REFERENTES!C366","v":0},null,364,0,1290,"X"," ",null,{"$f":"CONCATENATE(REFERENTES!A364,\"(\",REFERENTES!B364,\")\")","v":"()"},{"$f":"REFERENTES!C364","v":0}]
[null,null,null,null,null,null,null,null,null,null,null,null,null,null,null,null,null,null,null,null,null,null,null,null,null,null,null,null,{"$f":"IF(AND(REFERENTES!C367<>\"\",          REFERENTES!C367<>96321,    REFERENTES!C367<>96222            ),(REFERENTES!E367),\"\")","v":""},{"$f":"REFERENTES!C367","v":0},null,365,0,1290,"X"," ",null,{"$f":"CONCATENATE(REFERENTES!A365,\"(\",REFERENTES!B365,\")\")","v":"()"},{"$f":"REFERENTES!C365","v":0}]
[null,null,null,null,null,null,null,null,null,null,null,null,null,null,null,null,null,null,null,null,null,null,null,null,null,null,null,null,{"$f":"IF(AND(REFERENTES!C368<>\"\",          REFERENTES!C368<>96321,    REFERENTES!C368<>96222            ),(REFERENTES!E368),\"\")","v":""},{"$f":"REFERENTES!C368","v":0},null,366,0,1290,"X"," ",null,{"$f":"CONCATENATE(REFERENTES!A366,\"(\",REFERENTES!B366,\")\")","v":"()"},{"$f":"REFERENTES!C366","v":0}]
[null,null,null,null,null,null,null,null,null,null,null,null,null,null,null,null,null,null,null,null,null,null,null,null,null,null,null,null,{"$f":"IF(AND(REFERENTES!C369<>\"\",          REFERENTES!C369<>96321,    REFERENTES!C369<>96222            ),(REFERENTES!E369),\"\")","v":""},{"$f":"REFERENTES!C369","v":0},null,367,0,1290,"X"," ",null,{"$f":"CONCATENATE(REFERENTES!A367,\"(\",REFERENTES!B367,\")\")","v":"()"},{"$f":"REFERENTES!C367","v":0}]
[null,null,null,null,null,null,null,null,null,null,null,null,null,null,null,null,null,null,null,null,null,null,null,null,null,null,null,null,{"$f":"IF(AND(REFERENTES!C370<>\"\",          REFERENTES!C370<>96321,    REFERENTES!C370<>96222            ),(REFERENTES!E370),\"\")","v":""},{"$f":"REFERENTES!C370","v":0},null,368,0,1290,"X"," ",null,{"$f":"CONCATENATE(REFERENTES!A368,\"(\",REFERENTES!B368,\")\")","v":"()"},{"$f":"REFERENTES!C368","v":0}]
[null,null,null,null,null,null,null,null,null,null,null,null,null,null,null,null,null,null,null,null,null,null,null,null,null,null,null,null,{"$f":"IF(AND(REFERENTES!C371<>\"\",          REFERENTES!C371<>96321,    REFERENTES!C371<>96222            ),(REFERENTES!E371),\"\")","v":""},{"$f":"REFERENTES!C371","v":0},null,369,0,1290,"X"," ",null,{"$f":"CONCATENATE(REFERENTES!A369,\"(\",REFERENTES!B369,\")\")","v":"()"},{"$f":"REFERENTES!C369","v":0}]
[null,null,null,null,null,null,null,null,null,null,null,null,null,null,null,null,null,null,null,null,null,null,null,null,null,null,null,null,{"$f":"IF(AND(REFERENTES!C372<>\"\",          REFERENTES!C372<>96321,    REFERENTES!C372<>96222            ),(REFERENTES!E372),\"\")","v":""},{"$f":"REFERENTES!C372","v":0},null,370,0,1290,"X"," ",null,{"$f":"CONCATENATE(REFERENTES!A370,\"(\",REFERENTES!B370,\")\")","v":"()"},{"$f":"REFERENTES!C370","v":0}]
[null,null,null,null,null,null,null,null,null,null,null,null,null,null,null,null,null,null,null,null,null,null,null,null,null,null,null,null,{"$f":"IF(AND(REFERENTES!C373<>\"\",          REFERENTES!C373<>96321,    REFERENTES!C373<>96222            ),(REFERENTES!E373),\"\")","v":""},{"$f":"REFERENTES!C373","v":0},null,371,0,1290,"X"," ",null,{"$f":"CONCATENATE(REFERENTES!A371,\"(\",REFERENTES!B371,\")\")","v":"()"},{"$f":"REFERENTES!C371","v":0}]
[null,null,null,null,null,null,null,null,null,null,null,null,null,null,null,null,null,null,null,null,null,null,null,null,null,null,null,null,{"$f":"IF(AND(REFERENTES!C374<>\"\",          REFERENTES!C374<>96321,    REFERENTES!C374<>96222            ),(REFERENTES!E374),\"\")","v":""},{"$f":"REFERENTES!C374","v":0},null,372,0,1290,"X"," ",null,{"$f":"CONCATENATE(REFERENTES!A372,\"(\",REFERENTES!B372,\")\")","v":"()"},{"$f":"REFERENTES!C372","v":0}]
[null,null,null,null,null,null,null,null,null,null,null,null,null,null,null,null,null,null,null,null,null,null,null,null,null,null,null,null,{"$f":"IF(AND(REFERENTES!C375<>\"\",          REFERENTES!C375<>96321,    REFERENTES!C375<>96222            ),(REFERENTES!E375),\"\")","v":""},{"$f":"REFERENTES!C375","v":0},null,373,0,1290,"X"," ",null,{"$f":"CONCATENATE(REFERENTES!A373,\"(\",REFERENTES!B373,\")\")","v":"()"},{"$f":"REFERENTES!C373","v":0}]
[null,null,null,null,null,null,null,null,null,null,null,null,null,null,null,null,null,null,null,null,null,null,null,null,null,null,null,null,{"$f":"IF(AND(REFERENTES!C376<>\"\",          REFERENTES!C376<>96321,    REFERENTES!C376<>96222            ),(REFERENTES!E376),\"\")","v":""},{"$f":"REFERENTES!C376","v":0},null,374,0,1290,"X"," ",null,{"$f":"CONCATENATE(REFERENTES!A374,\"(\",REFERENTES!B374,\")\")","v":"()"},{"$f":"REFERENTES!C374","v":0}]
[null,null,null,null,null,null,null,null,null,null,null,null,null,null,null,null,null,null,null,null,null,null,null,null,null,null,null,null,{"$f":"IF(AND(REFERENTES!C377<>\"\",          REFERENTES!C377<>96321,    REFERENTES!C377<>96222            ),(REFERENTES!E377),\"\")","v":""},{"$f":"REFERENTES!C377","v":0},null,375,0,1290,"X"," ",null,{"$f":"CONCATENATE(REFERENTES!A375,\"(\",REFERENTES!B375,\")\")","v":"()"},{"$f":"REFERENTES!C375","v":0}]
[null,null,null,null,null,null,null,null,null,null,null,null,null,null,null,null,null,null,null,null,null,null,null,null,null,null,null,null,{"$f":"IF(AND(REFERENTES!C378<>\"\",          REFERENTES!C378<>96321,    REFERENTES!C378<>96222            ),(REFERENTES!E378),\"\")","v":""},{"$f":"REFERENTES!C378","v":0},null,376,0,1290,"X"," ",null,{"$f":"CONCATENATE(REFERENTES!A376,\"(\",REFERENTES!B376,\")\")","v":"()"},{"$f":"REFERENTES!C376","v":0}]
[null,null,null,null,null,null,null,null,null,null,null,null,null,null,null,null,null,null,null,null,null,null,null,null,null,null,null,null,{"$f":"IF(AND(REFERENTES!C379<>\"\",          REFERENTES!C379<>96321,    REFERENTES!C379<>96222            ),(REFERENTES!E379),\"\")","v":""},{"$f":"REFERENTES!C379","v":0},null,377,0,1290,"X"," ",null,{"$f":"CONCATENATE(REFERENTES!A377,\"(\",REFERENTES!B377,\")\")","v":"()"},{"$f":"REFERENTES!C377","v":0}]
[null,null,null,null,null,null,null,null,null,null,null,null,null,null,null,null,null,null,null,null,null,null,null,null,null,null,null,null,{"$f":"IF(AND(REFERENTES!C380<>\"\",          REFERENTES!C380<>96321,    REFERENTES!C380<>96222            ),(REFERENTES!E380),\"\")","v":""},{"$f":"REFERENTES!C380","v":0},null,378,0,1290,"X"," ",null,{"$f":"CONCATENATE(REFERENTES!A378,\"(\",REFERENTES!B378,\")\")","v":"()"},{"$f":"REFERENTES!C378","v":0}]
[null,null,null,null,null,null,null,null,null,null,null,null,null,null,null,null,null,null,null,null,null,null,null,null,null,null,null,null,{"$f":"IF(AND(REFERENTES!C381<>\"\",          REFERENTES!C381<>96321,    REFERENTES!C381<>96222            ),(REFERENTES!E381),\"\")","v":""},{"$f":"REFERENTES!C381","v":0},null,379,0,1290,"X"," ",null,{"$f":"CONCATENATE(REFERENTES!A379,\"(\",REFERENTES!B379,\")\")","v":"()"},{"$f":"REFERENTES!C379","v":0}]
[null,null,null,null,null,null,null,null,null,null,null,null,null,null,null,null,null,null,null,null,null,null,null,null,null,null,null,null,{"$f":"IF(AND(REFERENTES!C382<>\"\",          REFERENTES!C382<>96321,    REFERENTES!C382<>96222            ),(REFERENTES!E382),\"\")","v":""},{"$f":"REFERENTES!C382","v":0},null,380,0,1290,"X"," ",null,{"$f":"CONCATENATE(REFERENTES!A380,\"(\",REFERENTES!B380,\")\")","v":"()"},{"$f":"REFERENTES!C380","v":0}]
[null,null,null,null,null,null,null,null,null,null,null,null,null,null,null,null,null,null,null,null,null,null,null,null,null,null,null,null,{"$f":"IF(AND(REFERENTES!C383<>\"\",          REFERENTES!C383<>96321,    REFERENTES!C383<>96222            ),(REFERENTES!E383),\"\")","v":""},{"$f":"REFERENTES!C383","v":0},null,381,0,1290,"X"," ",null,{"$f":"CONCATENATE(REFERENTES!A381,\"(\",REFERENTES!B381,\")\")","v":"()"},{"$f":"REFERENTES!C381","v":0}]
[null,null,null,null,null,null,null,null,null,null,null,null,null,null,null,null,null,null,null,null,null,null,null,null,null,null,null,null,{"$f":"IF(AND(REFERENTES!C384<>\"\",          REFERENTES!C384<>96321,    REFERENTES!C384<>96222            ),(REFERENTES!E384),\"\")","v":""},{"$f":"REFERENTES!C384","v":0},null,382,0,1290,"X"," ",null,{"$f":"CONCATENATE(REFERENTES!A382,\"(\",REFERENTES!B382,\")\")","v":"()"},{"$f":"REFERENTES!C382","v":0}]
[null,null,null,null,null,null,null,null,null,null,null,null,null,null,null,null,null,null,null,null,null,null,null,null,null,null,null,null,{"$f":"IF(AND(REFERENTES!C385<>\"\",          REFERENTES!C385<>96321,    REFERENTES!C385<>96222            ),(REFERENTES!E385),\"\")","v":""},{"$f":"REFERENTES!C385","v":0},null,383,0,1290,"X"," ",null,{"$f":"CONCATENATE(REFERENTES!A383,\"(\",REFERENTES!B383,\")\")","v":"()"},{"$f":"REFERENTES!C383","v":0}]
[null,null,null,null,null,null,null,null,null,null,null,null,null,null,null,null,null,null,null,null,null,null,null,null,null,null,null,null,{"$f":"IF(AND(REFERENTES!C386<>\"\",          REFERENTES!C386<>96321,    REFERENTES!C386<>96222            ),(REFERENTES!E386),\"\")","v":""},{"$f":"REFERENTES!C386","v":0},null,384,0,1290,"X"," ",null,{"$f":"CONCATENATE(REFERENTES!A384,\"(\",REFERENTES!B384,\")\")","v":"()"},{"$f":"REFERENTES!C384","v":0}]
[null,null,null,null,null,null,null,null,null,null,null,null,null,null,null,null,null,null,null,null,null,null,null,null,null,null,null,null,{"$f":"IF(AND(REFERENTES!C387<>\"\",          REFERENTES!C387<>96321,    REFERENTES!C387<>96222            ),(REFERENTES!E387),\"\")","v":""},{"$f":"REFERENTES!C387","v":0},null,385,0,1290,"X"," ",null,{"$f":"CONCATENATE(REFERENTES!A385,\"(\",REFERENTES!B385,\")\")","v":"()"},{"$f":"REFERENTES!C385","v":0}]
[null,null,null,null,null,null,null,null,null,null,null,null,null,null,null,null,null,null,null,null,null,null,null,null,null,null,null,null,{"$f":"IF(AND(REFERENTES!C388<>\"\",          REFERENTES!C388<>96321,    REFERENTES!C388<>96222            ),(REFERENTES!E388),\"\")","v":""},{"$f":"REFERENTES!C388","v":0},null,386,{"$f":"IF(AC390=\"\",0,AC390)","v":0},{"$f":"IF(AG391=0,MAX($AF$6:$AF$1294)+1,AF391)","v":1290},{"$f":"IFERROR(VLOOKUP(SMALL($AH$6:$AH$1294,AF391),$AF$6:$AH$1294,2,FALSE),\"X\")","v":"X"}," ",null,{"$f":"CONCATENATE(REFERENTES!A386,\"(\",REFERENTES!B386,\")\")","v":"()"},{"$f":"REFERENTES!C386","v":0}]
[null,null,null,null,null,null,null,null,null,null,null,null,null,null,null,null,null,null,null,null,null,null,null,null,null,null,null,null,{"$f":"IF(AND(REFERENTES!C389<>\"\",          REFERENTES!C389<>96321,    REFERENTES!C389<>96222            ),(REFERENTES!E389),\"\")","v":""},{"$f":"REFERENTES!C389","v":0},null,387,0,1290,"X"," ",null,{"$f":"CONCATENATE(REFERENTES!A387,\"(\",REFERENTES!B387,\")\")","v":"()"},{"$f":"REFERENTES!C387","v":0}]
[null,null,null,null,null,null,null,null,null,null,null,null,null,null,null,null,null,null,null,null,null,null,null,null,null,null,null,null,{"$f":"IF(AND(REFERENTES!C390<>\"\",          REFERENTES!C390<>96321,    REFERENTES!C390<>96222            ),(REFERENTES!E390),\"\")","v":""},{"$f":"REFERENTES!C390","v":0},null,388,0,1290,"X"," ",null,{"$f":"CONCATENATE(REFERENTES!A388,\"(\",REFERENTES!B388,\")\")","v":"()"},{"$f":"REFERENTES!C388","v":0}]
[null,null,null,null,null,null,null,null,null,null,null,null,null,null,null,null,null,null,null,null,null,null,null,null,null,null,null,null,{"$f":"IF(AND(REFERENTES!C391<>\"\",          REFERENTES!C391<>96321,    REFERENTES!C391<>96222            ),(REFERENTES!E391),\"\")","v":""},{"$f":"REFERENTES!C391","v":0},null,389,0,1290,"X"," ",null,{"$f":"CONCATENATE(REFERENTES!A389,\"(\",REFERENTES!B389,\")\")","v":"()"},{"$f":"REFERENTES!C389","v":0}]
[null,null,null,null,null,null,null,null,null,null,null,null,null,null,null,null,null,null,null,null,null,null,null,null,null,null,null,null,{"$f":"IF(AND(REFERENTES!C392<>\"\",          REFERENTES!C392<>96321,    REFERENTES!C392<>96222            ),(REFERENTES!E392),\"\")","v":""},{"$f":"REFERENTES!C392","v":0},null,390,0,1290,"X"," ",null,{"$f":"CONCATENATE(REFERENTES!A390,\"(\",REFERENTES!B390,\")\")","v":"()"},{"$f":"REFERENTES!C390","v":0}]
[null,null,null,null,null,null,null,null,null,null,null,null,null,null,null,null,null,null,null,null,null,null,null,null,null,null,null,null,{"$f":"IF(AND(REFERENTES!C393<>\"\",          REFERENTES!C393<>96321,    REFERENTES!C393<>96222            ),(REFERENTES!E393),\"\")","v":""},{"$f":"REFERENTES!C393","v":0},null,391,0,1290,"X"," ",null,{"$f":"CONCATENATE(REFERENTES!A391,\"(\",REFERENTES!B391,\")\")","v":"()"},{"$f":"REFERENTES!C391","v":0}]
[null,null,null,null,null,null,null,null,null,null,null,null,null,null,null,null,null,null,null,null,null,null,null,null,null,null,null,null,{"$f":"IF(AND(REFERENTES!C394<>\"\",          REFERENTES!C394<>96321,    REFERENTES!C394<>96222            ),(REFERENTES!E394),\"\")","v":""},{"$f":"REFERENTES!C394","v":0},null,392,0,1290,"X"," ",null,{"$f":"CONCATENATE(REFERENTES!A392,\"(\",REFERENTES!B392,\")\")","v":"()"},{"$f":"REFERENTES!C392","v":0}]
[null,null,null,null,null,null,null,null,null,null,null,null,null,null,null,null,null,null,null,null,null,null,null,null,null,null,null,null,{"$f":"IF(AND(REFERENTES!C395<>\"\",          REFERENTES!C395<>96321,    REFERENTES!C395<>96222            ),(REFERENTES!E395),\"\")","v":""},{"$f":"REFERENTES!C395","v":0},null,393,0,1290,"X"," ",null,{"$f":"CONCATENATE(REFERENTES!A393,\"(\",REFERENTES!B393,\")\")","v":"()"},{"$f":"REFERENTES!C393","v":0}]
[null,null,null,null,null,null,null,null,null,null,null,null,null,null,null,null,null,null,null,null,null,null,null,null,null,null,null,null,{"$f":"IF(AND(REFERENTES!C396<>\"\",          REFERENTES!C396<>96321,    REFERENTES!C396<>96222            ),(REFERENTES!E396),\"\")","v":""},{"$f":"REFERENTES!C396","v":0},null,394,0,1290,"X"," ",null,{"$f":"CONCATENATE(REFERENTES!A394,\"(\",REFERENTES!B394,\")\")","v":"()"},{"$f":"REFERENTES!C394","v":0}]
[null,null,null,null,null,null,null,null,null,null,null,null,null,null,null,null,null,null,null,null,null,null,null,null,null,null,null,null,{"$f":"IF(AND(REFERENTES!C397<>\"\",          REFERENTES!C397<>96321,    REFERENTES!C397<>96222            ),(REFERENTES!E397),\"\")","v":""},{"$f":"REFERENTES!C397","v":0},null,395,0,1290,"X"," ",null,{"$f":"CONCATENATE(REFERENTES!A395,\"(\",REFERENTES!B395,\")\")","v":"()"},{"$f":"REFERENTES!C395","v":0}]
[null,null,null,null,null,null,null,null,null,null,null,null,null,null,null,null,null,null,null,null,null,null,null,null,null,null,null,null,{"$f":"IF(AND(REFERENTES!C398<>\"\",          REFERENTES!C398<>96321,    REFERENTES!C398<>96222            ),(REFERENTES!E398),\"\")","v":""},{"$f":"REFERENTES!C398","v":0},null,396,0,1290,"X"," ",null,{"$f":"CONCATENATE(REFERENTES!A396,\"(\",REFERENTES!B396,\")\")","v":"()"},{"$f":"REFERENTES!C396","v":0}]
[null,null,null,null,null,null,null,null,null,null,null,null,null,null,null,null,null,null,null,null,null,null,null,null,null,null,null,null,{"$f":"IF(AND(REFERENTES!C399<>\"\",          REFERENTES!C399<>96321,    REFERENTES!C399<>96222            ),(REFERENTES!E399),\"\")","v":""},{"$f":"REFERENTES!C399","v":0},null,397,0,1290,"X"," ",null,{"$f":"CONCATENATE(REFERENTES!A397,\"(\",REFERENTES!B397,\")\")","v":"()"},{"$f":"REFERENTES!C397","v":0}]
[null,null,null,null,null,null,null,null,null,null,null,null,null,null,null,null,null,null,null,null,null,null,null,null,null,null,null,null,{"$f":"IF(AND(REFERENTES!C400<>\"\",          REFERENTES!C400<>96321,    REFERENTES!C400<>96222            ),(REFERENTES!E400),\"\")","v":""},{"$f":"REFERENTES!C400","v":0},null,398,0,1290,"X"," ",null,{"$f":"CONCATENATE(REFERENTES!A398,\"(\",REFERENTES!B398,\")\")","v":"()"},{"$f":"REFERENTES!C398","v":0}]
[null,null,null,null,null,null,null,null,null,null,null,null,null,null,null,null,null,null,null,null,null,null,null,null,null,null,null,null,{"$f":"IF(AND(REFERENTES!C401<>\"\",          REFERENTES!C401<>96321,    REFERENTES!C401<>96222            ),(REFERENTES!E401),\"\")","v":""},{"$f":"REFERENTES!C401","v":0},null,399,0,1290,"X"," ",null,{"$f":"CONCATENATE(REFERENTES!A399,\"(\",REFERENTES!B399,\")\")","v":"()"},{"$f":"REFERENTES!C399","v":0}]
[null,null,null,null,null,null,null,null,null,null,null,null,null,null,null,null,null,null,null,null,null,null,null,null,null,null,null,null,{"$f":"IF(AND(REFERENTES!C402<>\"\",          REFERENTES!C402<>96321,    REFERENTES!C402<>96222            ),(REFERENTES!E402),\"\")","v":""},{"$f":"REFERENTES!C402","v":0},null,400,0,1290,"X"," ",null,{"$f":"CONCATENATE(REFERENTES!A400,\"(\",REFERENTES!B400,\")\")","v":"()"},{"$f":"REFERENTES!C400","v":0}]
[null,null,null,null,null,null,null,null,null,null,null,null,null,null,null,null,null,null,null,null,null,null,null,null,null,null,null,null,{"$f":"IF(AND(REFERENTES!C403<>\"\",          REFERENTES!C403<>96321,    REFERENTES!C403<>96222            ),(REFERENTES!E403),\"\")","v":""},{"$f":"REFERENTES!C403","v":0},null,401,0,1290,"X"," ",null,{"$f":"CONCATENATE(REFERENTES!A401,\"(\",REFERENTES!B401,\")\")","v":"()"},{"$f":"REFERENTES!C401","v":0}]
[null,null,null,null,null,null,null,null,null,null,null,null,null,null,null,null,null,null,null,null,null,null,null,null,null,null,null,null,{"$f":"IF(AND(REFERENTES!C404<>\"\",          REFERENTES!C404<>96321,    REFERENTES!C404<>96222            ),(REFERENTES!E404),\"\")","v":""},{"$f":"REFERENTES!C404","v":0},null,402,0,1290,"X"," ",null,{"$f":"CONCATENATE(REFERENTES!A402,\"(\",REFERENTES!B402,\")\")","v":"()"},{"$f":"REFERENTES!C402","v":0}]
[null,null,null,null,null,null,null,null,null,null,null,null,null,null,null,null,null,null,null,null,null,null,null,null,null,null,null,null,{"$f":"IF(AND(REFERENTES!C405<>\"\",          REFERENTES!C405<>96321,    REFERENTES!C405<>96222            ),(REFERENTES!E405),\"\")","v":""},{"$f":"REFERENTES!C405","v":0},null,403,0,1290,"X"," ",null,{"$f":"CONCATENATE(REFERENTES!A403,\"(\",REFERENTES!B403,\")\")","v":"()"},{"$f":"REFERENTES!C403","v":0}]
[null,null,null,null,null,null,null,null,null,null,null,null,null,null,null,null,null,null,null,null,null,null,null,null,null,null,null,null,{"$f":"IF(AND(REFERENTES!C406<>\"\",          REFERENTES!C406<>96321,    REFERENTES!C406<>96222            ),(REFERENTES!E406),\"\")","v":""},{"$f":"REFERENTES!C406","v":0},null,404,0,1290,"X"," ",null,{"$f":"CONCATENATE(REFERENTES!A404,\"(\",REFERENTES!B404,\")\")","v":"()"},{"$f":"REFERENTES!C404","v":0}]
[null,null,null,null,null,null,null,null,null,null,null,null,null,null,null,null,null,null,null,null,null,null,null,null,null,null,null,null,{"$f":"IF(AND(REFERENTES!C407<>\"\",          REFERENTES!C407<>96321,    REFERENTES!C407<>96222            ),(REFERENTES!E407),\"\")","v":""},{"$f":"REFERENTES!C407","v":0},null,405,0,1290,"X"," ",null,{"$f":"CONCATENATE(REFERENTES!A405,\"(\",REFERENTES!B405,\")\")","v":"()"},{"$f":"REFERENTES!C405","v":0}]
[null,null,null,null,null,null,null,null,null,null,null,null,null,null,null,null,null,null,null,null,null,null,null,null,null,null,null,null,{"$f":"IF(AND(REFERENTES!C408<>\"\",          REFERENTES!C408<>96321,    REFERENTES!C408<>96222            ),(REFERENTES!E408),\"\")","v":""},{"$f":"REFERENTES!C408","v":0},null,406,0,1290,"X"," ",null,{"$f":"CONCATENATE(REFERENTES!A406,\"(\",REFERENTES!B406,\")\")","v":"()"},{"$f":"REFERENTES!C406","v":0}]
[null,null,null,null,null,null,null,null,null,null,null,null,null,null,null,null,null,null,null,null,null,null,null,null,null,null,null,null,{"$f":"IF(AND(REFERENTES!C409<>\"\",          REFERENTES!C409<>96321,    REFERENTES!C409<>96222            ),(REFERENTES!E409),\"\")","v":""},{"$f":"REFERENTES!C409","v":0},null,407,0,1290,"X"," ",null,{"$f":"CONCATENATE(REFERENTES!A407,\"(\",REFERENTES!B407,\")\")","v":"()"},{"$f":"REFERENTES!C407","v":0}]
[null,null,null,null,null,null,null,null,null,null,null,null,null,null,null,null,null,null,null,null,null,null,null,null,null,null,null,null,{"$f":"IF(AND(REFERENTES!C410<>\"\",          REFERENTES!C410<>96321,    REFERENTES!C410<>96222            ),(REFERENTES!E410),\"\")","v":""},{"$f":"REFERENTES!C410","v":0},null,408,0,1290,"X"," ",null,{"$f":"CONCATENATE(REFERENTES!A408,\"(\",REFERENTES!B408,\")\")","v":"()"},{"$f":"REFERENTES!C408","v":0}]
[null,null,null,null,null,null,null,null,null,null,null,null,null,null,null,null,null,null,null,null,null,null,null,null,null,null,null,null,{"$f":"IF(AND(REFERENTES!C411<>\"\",          REFERENTES!C411<>96321,    REFERENTES!C411<>96222            ),(REFERENTES!E411),\"\")","v":""},{"$f":"REFERENTES!C411","v":0},null,409,0,1290,"X"," ",null,{"$f":"CONCATENATE(REFERENTES!A409,\"(\",REFERENTES!B409,\")\")","v":"()"},{"$f":"REFERENTES!C409","v":0}]
[null,null,null,null,null,null,null,null,null,null,null,null,null,null,null,null,null,null,null,null,null,null,null,null,null,null,null,null,{"$f":"IF(AND(REFERENTES!C412<>\"\",          REFERENTES!C412<>96321,    REFERENTES!C412<>96222            ),(REFERENTES!E412),\"\")","v":""},{"$f":"REFERENTES!C412","v":0},null,410,0,1290,"X"," ",null,{"$f":"CONCATENATE(REFERENTES!A410,\"(\",REFERENTES!B410,\")\")","v":"()"},{"$f":"REFERENTES!C410","v":0}]
[null,null,null,null,null,null,null,null,null,null,null,null,null,null,null,null,null,null,null,null,null,null,null,null,null,null,null,null,{"$f":"IF(AND(REFERENTES!C413<>\"\",          REFERENTES!C413<>96321,    REFERENTES!C413<>96222            ),(REFERENTES!E413),\"\")","v":""},{"$f":"REFERENTES!C413","v":0},null,411,0,1290,"X"," ",null,{"$f":"CONCATENATE(REFERENTES!A411,\"(\",REFERENTES!B411,\")\")","v":"()"},{"$f":"REFERENTES!C411","v":0}]
[null,null,null,null,null,null,null,null,null,null,null,null,null,null,null,null,null,null,null,null,null,null,null,null,null,null,null,null,{"$f":"IF(AND(REFERENTES!C414<>\"\",          REFERENTES!C414<>96321,    REFERENTES!C414<>96222            ),(REFERENTES!E414),\"\")","v":""},{"$f":"REFERENTES!C414","v":0},null,412,0,1290,"X"," ",null,{"$f":"CONCATENATE(REFERENTES!A412,\"(\",REFERENTES!B412,\")\")","v":"()"},{"$f":"REFERENTES!C412","v":0}]
[null,null,null,null,null,null,null,null,null,null,null,null,null,null,null,null,null,null,null,null,null,null,null,null,null,null,null,null,{"$f":"IF(AND(REFERENTES!C415<>\"\",          REFERENTES!C415<>96321,    REFERENTES!C415<>96222            ),(REFERENTES!E415),\"\")","v":""},{"$f":"REFERENTES!C415","v":0},null,413,0,1290,"X"," ",null,{"$f":"CONCATENATE(REFERENTES!A413,\"(\",REFERENTES!B413,\")\")","v":"()"},{"$f":"REFERENTES!C413","v":0}]
[null,null,null,null,null,null,null,null,null,null,null,null,null,null,null,null,null,null,null,null,null,null,null,null,null,null,null,null,{"$f":"IF(AND(REFERENTES!C416<>\"\",          REFERENTES!C416<>96321,    REFERENTES!C416<>96222            ),(REFERENTES!E416),\"\")","v":""},{"$f":"REFERENTES!C416","v":0},null,414,0,1290,"X"," ",null,{"$f":"CONCATENATE(REFERENTES!A414,\"(\",REFERENTES!B414,\")\")","v":"()"},{"$f":"REFERENTES!C414","v":0}]
[null,null,null,null,null,null,null,null,null,null,null,null,null,null,null,null,null,null,null,null,null,null,null,null,null,null,null,null,{"$f":"IF(AND(REFERENTES!C417<>\"\",          REFERENTES!C417<>96321,    REFERENTES!C417<>96222            ),(REFERENTES!E417),\"\")","v":""},{"$f":"REFERENTES!C417","v":0},null,415,0,1290,"X"," ",null,{"$f":"CONCATENATE(REFERENTES!A415,\"(\",REFERENTES!B415,\")\")","v":"()"},{"$f":"REFERENTES!C415","v":0}]
[null,null,null,null,null,null,null,null,null,null,null,null,null,null,null,null,null,null,null,null,null,null,null,null,null,null,null,null,{"$f":"IF(AND(REFERENTES!C418<>\"\",          REFERENTES!C418<>96321,    REFERENTES!C418<>96222            ),(REFERENTES!E418),\"\")","v":""},{"$f":"REFERENTES!C418","v":0},null,416,0,1290,"X"," ",null,{"$f":"CONCATENATE(REFERENTES!A416,\"(\",REFERENTES!B416,\")\")","v":"()"},{"$f":"REFERENTES!C416","v":0}]
[null,null,null,null,null,null,null,null,null,null,null,null,null,null,null,null,null,null,null,null,null,null,null,null,null,null,null,null,{"$f":"IF(AND(REFERENTES!C419<>\"\",          REFERENTES!C419<>96321,    REFERENTES!C419<>96222            ),(REFERENTES!E419),\"\")","v":""},{"$f":"REFERENTES!C419","v":0},null,417,0,1290,"X"," ",null,{"$f":"CONCATENATE(REFERENTES!A417,\"(\",REFERENTES!B417,\")\")","v":"()"},{"$f":"REFERENTES!C417","v":0}]
[null,null,null,null,null,null,null,null,null,null,null,null,null,null,null,null,null,null,null,null,null,null,null,null,null,null,null,null,{"$f":"IF(AND(REFERENTES!C420<>\"\",          REFERENTES!C420<>96321,    REFERENTES!C420<>96222            ),(REFERENTES!E420),\"\")","v":""},{"$f":"REFERENTES!C420","v":0},null,418,0,1290,"X"," ",null,{"$f":"CONCATENATE(REFERENTES!A418,\"(\",REFERENTES!B418,\")\")","v":"()"},{"$f":"REFERENTES!C418","v":0}]
[null,null,null,null,null,null,null,null,null,null,null,null,null,null,null,null,null,null,null,null,null,null,null,null,null,null,null,null,{"$f":"IF(AND(REFERENTES!C421<>\"\",          REFERENTES!C421<>96321,    REFERENTES!C421<>96222            ),(REFERENTES!E421),\"\")","v":""},{"$f":"REFERENTES!C421","v":0},null,419,0,1290,"X"," ",null,{"$f":"CONCATENATE(REFERENTES!A419,\"(\",REFERENTES!B419,\")\")","v":"()"},{"$f":"REFERENTES!C419","v":0}]
[null,null,null,null,null,null,null,null,null,null,null,null,null,null,null,null,null,null,null,null,null,null,null,null,null,null,null,null,{"$f":"IF(AND(REFERENTES!C422<>\"\",          REFERENTES!C422<>96321,    REFERENTES!C422<>96222            ),(REFERENTES!E422),\"\")","v":""},{"$f":"REFERENTES!C422","v":0},null,420,0,1290,"X"," ",null,{"$f":"CONCATENATE(REFERENTES!A420,\"(\",REFERENTES!B420,\")\")","v":"()"},{"$f":"REFERENTES!C420","v":0}]
[null,null,null,null,null,null,null,null,null,null,null,null,null,null,null,null,null,null,null,null,null,null,null,null,null,null,null,null,{"$f":"IF(AND(REFERENTES!C423<>\"\",          REFERENTES!C423<>96321,    REFERENTES!C423<>96222            ),(REFERENTES!E423),\"\")","v":""},{"$f":"REFERENTES!C423","v":0},null,421,0,1290,"X"," ",null,{"$f":"CONCATENATE(REFERENTES!A421,\"(\",REFERENTES!B421,\")\")","v":"()"},{"$f":"REFERENTES!C421","v":0}]
[null,null,null,null,null,null,null,null,null,null,null,null,null,null,null,null,null,null,null,null,null,null,null,null,null,null,null,null,{"$f":"IF(AND(REFERENTES!C424<>\"\",          REFERENTES!C424<>96321,    REFERENTES!C424<>96222            ),(REFERENTES!E424),\"\")","v":""},{"$f":"REFERENTES!C424","v":0},null,422,0,1290,"X"," ",null,{"$f":"CONCATENATE(REFERENTES!A422,\"(\",REFERENTES!B422,\")\")","v":"()"},{"$f":"REFERENTES!C422","v":0}]
[null,null,null,null,null,null,null,null,null,null,null,null,null,null,null,null,null,null,null,null,null,null,null,null,null,null,null,null,{"$f":"IF(AND(REFERENTES!C425<>\"\",          REFERENTES!C425<>96321,    REFERENTES!C425<>96222            ),(REFERENTES!E425),\"\")","v":""},{"$f":"REFERENTES!C425","v":0},null,423,0,1290,"X"," ",null,{"$f":"CONCATENATE(REFERENTES!A423,\"(\",REFERENTES!B423,\")\")","v":"()"},{"$f":"REFERENTES!C423","v":0}]
[null,null,null,null,null,null,null,null,null,null,null,null,null,null,null,null,null,null,null,null,null,null,null,null,null,null,null,null,{"$f":"IF(AND(REFERENTES!C426<>\"\",          REFERENTES!C426<>96321,    REFERENTES!C426<>96222            ),(REFERENTES!E426),\"\")","v":""},{"$f":"REFERENTES!C426","v":0},null,424,0,1290,"X"," ",null,{"$f":"CONCATENATE(REFERENTES!A424,\"(\",REFERENTES!B424,\")\")","v":"()"},{"$f":"REFERENTES!C424","v":0}]
[null,null,null,null,null,null,null,null,null,null,null,null,null,null,null,null,null,null,null,null,null,null,null,null,null,null,null,null,{"$f":"IF(AND(REFERENTES!C427<>\"\",          REFERENTES!C427<>96321,    REFERENTES!C427<>96222            ),(REFERENTES!E427),\"\")","v":""},{"$f":"REFERENTES!C427","v":0},null,425,0,1290,"X"," ",null,{"$f":"CONCATENATE(REFERENTES!A425,\"(\",REFERENTES!B425,\")\")","v":"()"},{"$f":"REFERENTES!C425","v":0}]
[null,null,null,null,null,null,null,null,null,null,null,null,null,null,null,null,null,null,null,null,null,null,null,null,null,null,null,null,{"$f":"IF(AND(REFERENTES!C428<>\"\",          REFERENTES!C428<>96321,    REFERENTES!C428<>96222            ),(REFERENTES!E428),\"\")","v":""},{"$f":"REFERENTES!C428","v":0},null,426,0,1290,"X"," ",null,{"$f":"CONCATENATE(REFERENTES!A426,\"(\",REFERENTES!B426,\")\")","v":"()"},{"$f":"REFERENTES!C426","v":0}]
[null,null,null,null,null,null,null,null,null,null,null,null,null,null,null,null,null,null,null,null,null,null,null,null,null,null,null,null,{"$f":"IF(AND(REFERENTES!C429<>\"\",          REFERENTES!C429<>96321,    REFERENTES!C429<>96222            ),(REFERENTES!E429),\"\")","v":""},{"$f":"REFERENTES!C429","v":0},null,427,0,1290,"X"," ",null,{"$f":"CONCATENATE(REFERENTES!A427,\"(\",REFERENTES!B427,\")\")","v":"()"},{"$f":"REFERENTES!C427","v":0}]
[null,null,null,null,null,null,null,null,null,null,null,null,null,null,null,null,null,null,null,null,null,null,null,null,null,null,null,null,{"$f":"IF(AND(REFERENTES!C430<>\"\",          REFERENTES!C430<>96321,    REFERENTES!C430<>96222            ),(REFERENTES!E430),\"\")","v":""},{"$f":"REFERENTES!C430","v":0},null,428,0,1290,"X"," ",null,{"$f":"CONCATENATE(REFERENTES!A428,\"(\",REFERENTES!B428,\")\")","v":"()"},{"$f":"REFERENTES!C428","v":0}]
[null,null,null,null,null,null,null,null,null,null,null,null,null,null,null,null,null,null,null,null,null,null,null,null,null,null,null,null,{"$f":"IF(AND(REFERENTES!C431<>\"\",          REFERENTES!C431<>96321,    REFERENTES!C431<>96222            ),(REFERENTES!E431),\"\")","v":""},{"$f":"REFERENTES!C431","v":0},null,429,0,1290,"X"," ",null,{"$f":"CONCATENATE(REFERENTES!A429,\"(\",REFERENTES!B429,\")\")","v":"()"},{"$f":"REFERENTES!C429","v":0}]
[null,null,null,null,null,null,null,null,null,null,null,null,null,null,null,null,null,null,null,null,null,null,null,null,null,null,null,null,{"$f":"IF(AND(REFERENTES!C432<>\"\",          REFERENTES!C432<>96321,    REFERENTES!C432<>96222            ),(REFERENTES!E432),\"\")","v":""},{"$f":"REFERENTES!C432","v":0},null,430,0,1290,"X"," ",null,{"$f":"CONCATENATE(REFERENTES!A430,\"(\",REFERENTES!B430,\")\")","v":"()"},{"$f":"REFERENTES!C430","v":0}]
[null,null,null,null,null,null,null,null,null,null,null,null,null,null,null,null,null,null,null,null,null,null,null,null,null,null,null,null,{"$f":"IF(AND(REFERENTES!C433<>\"\",          REFERENTES!C433<>96321,    REFERENTES!C433<>96222            ),(REFERENTES!E433),\"\")","v":""},{"$f":"REFERENTES!C433","v":0},null,431,0,1290,"X"," ",null,{"$f":"CONCATENATE(REFERENTES!A431,\"(\",REFERENTES!B431,\")\")","v":"()"},{"$f":"REFERENTES!C431","v":0}]
[null,null,null,null,null,null,null,null,null,null,null,null,null,null,null,null,null,null,null,null,null,null,null,null,null,null,null,null,{"$f":"IF(AND(REFERENTES!C434<>\"\",          REFERENTES!C434<>96321,    REFERENTES!C434<>96222            ),(REFERENTES!E434),\"\")","v":""},{"$f":"REFERENTES!C434","v":0},null,432,0,1290,"X"," ",null,{"$f":"CONCATENATE(REFERENTES!A432,\"(\",REFERENTES!B432,\")\")","v":"()"},{"$f":"REFERENTES!C432","v":0}]
[null,null,null,null,null,null,null,null,null,null,null,null,null,null,null,null,null,null,null,null,null,null,null,null,null,null,null,null,{"$f":"IF(AND(REFERENTES!C435<>\"\",          REFERENTES!C435<>96321,    REFERENTES!C435<>96222            ),(REFERENTES!E435),\"\")","v":""},{"$f":"REFERENTES!C435","v":0},null,433,0,1290,"X"," ",null,{"$f":"CONCATENATE(REFERENTES!A433,\"(\",REFERENTES!B433,\")\")","v":"()"},{"$f":"REFERENTES!C433","v":0}]
[null,null,null,null,null,null,null,null,null,null,null,null,null,null,null,null,null,null,null,null,null,null,null,null,null,null,null,null,{"$f":"IF(AND(REFERENTES!C436<>\"\",          REFERENTES!C436<>96321,    REFERENTES!C436<>96222            ),(REFERENTES!E436),\"\")","v":""},{"$f":"REFERENTES!C436","v":0},null,434,0,1290,"X"," ",null,{"$f":"CONCATENATE(REFERENTES!A434,\"(\",REFERENTES!B434,\")\")","v":"()"},{"$f":"REFERENTES!C434","v":0}]
[null,null,null,null,null,null,null,null,null,null,null,null,null,null,null,null,null,null,null,null,null,null,null,null,null,null,null,null,{"$f":"IF(AND(REFERENTES!C437<>\"\",          REFERENTES!C437<>96321,    REFERENTES!C437<>96222            ),(REFERENTES!E437),\"\")","v":""},{"$f":"REFERENTES!C437","v":0},null,435,0,1290,"X"," ",null,{"$f":"CONCATENATE(REFERENTES!A435,\"(\",REFERENTES!B435,\")\")","v":"()"},{"$f":"REFERENTES!C435","v":0}]
[null,null,null,null,null,null,null,null,null,null,null,null,null,null,null,null,null,null,null,null,null,null,null,null,null,null,null,null,{"$f":"IF(AND(REFERENTES!C438<>\"\",          REFERENTES!C438<>96321,    REFERENTES!C438<>96222            ),(REFERENTES!E438),\"\")","v":""},{"$f":"REFERENTES!C438","v":0},null,436,0,1290,"X"," ",null,{"$f":"CONCATENATE(REFERENTES!A436,\"(\",REFERENTES!B436,\")\")","v":"()"},{"$f":"REFERENTES!C436","v":0}]
[null,null,null,null,null,null,null,null,null,null,null,null,null,null,null,null,null,null,null,null,null,null,null,null,null,null,null,null,{"$f":"IF(AND(REFERENTES!C439<>\"\",          REFERENTES!C439<>96321,    REFERENTES!C439<>96222            ),(REFERENTES!E439),\"\")","v":""},{"$f":"REFERENTES!C439","v":0},null,437,0,1290,"X"," ",null,{"$f":"CONCATENATE(REFERENTES!A437,\"(\",REFERENTES!B437,\")\")","v":"()"},{"$f":"REFERENTES!C437","v":0}]
[null,null,null,null,null,null,null,null,null,null,null,null,null,null,null,null,null,null,null,null,null,null,null,null,null,null,null,null,{"$f":"IF(AND(REFERENTES!C440<>\"\",          REFERENTES!C440<>96321,    REFERENTES!C440<>96222            ),(REFERENTES!E440),\"\")","v":""},{"$f":"REFERENTES!C440","v":0},null,438,0,1290,"X"," ",null,{"$f":"CONCATENATE(REFERENTES!A438,\"(\",REFERENTES!B438,\")\")","v":"()"},{"$f":"REFERENTES!C438","v":0}]
[null,null,null,null,null,null,null,null,null,null,null,null,null,null,null,null,null,null,null,null,null,null,null,null,null,null,null,null,{"$f":"IF(AND(REFERENTES!C441<>\"\",          REFERENTES!C441<>96321,    REFERENTES!C441<>96222            ),(REFERENTES!E441),\"\")","v":""},{"$f":"REFERENTES!C441","v":0},null,439,0,1290,"X"," ",null,{"$f":"CONCATENATE(REFERENTES!A439,\"(\",REFERENTES!B439,\")\")","v":"()"},{"$f":"REFERENTES!C439","v":0}]
[null,null,null,null,null,null,null,null,null,null,null,null,null,null,null,null,null,null,null,null,null,null,null,null,null,null,null,null,{"$f":"IF(AND(REFERENTES!C442<>\"\",          REFERENTES!C442<>96321,    REFERENTES!C442<>96222            ),(REFERENTES!E442),\"\")","v":""},{"$f":"REFERENTES!C442","v":0},null,440,0,1290,"X"," ",null,{"$f":"CONCATENATE(REFERENTES!A440,\"(\",REFERENTES!B440,\")\")","v":"()"},{"$f":"REFERENTES!C440","v":0}]
[null,null,null,null,null,null,null,null,null,null,null,null,null,null,null,null,null,null,null,null,null,null,null,null,null,null,null,null,{"$f":"IF(AND(REFERENTES!C443<>\"\",          REFERENTES!C443<>96321,    REFERENTES!C443<>96222            ),(REFERENTES!E443),\"\")","v":""},{"$f":"REFERENTES!C443","v":0},null,441,0,1290,"X"," ",null,{"$f":"CONCATENATE(REFERENTES!A441,\"(\",REFERENTES!B441,\")\")","v":"()"},{"$f":"REFERENTES!C441","v":0}]
[null,null,null,null,null,null,null,null,null,null,null,null,null,null,null,null,null,null,null,null,null,null,null,null,null,null,null,null,{"$f":"IF(AND(REFERENTES!C444<>\"\",          REFERENTES!C444<>96321,    REFERENTES!C444<>96222            ),(REFERENTES!E444),\"\")","v":""},{"$f":"REFERENTES!C444","v":0},null,442,0,1290,"X"," ",null,{"$f":"CONCATENATE(REFERENTES!A442,\"(\",REFERENTES!B442,\")\")","v":"()"},{"$f":"REFERENTES!C442","v":0}]
[null,null,null,null,null,null,null,null,null,null,null,null,null,null,null,null,null,null,null,null,null,null,null,null,null,null,null,null,{"$f":"IF(AND(REFERENTES!C445<>\"\",          REFERENTES!C445<>96321,    REFERENTES!C445<>96222            ),(REFERENTES!E445),\"\")","v":""},{"$f":"REFERENTES!C445","v":0},null,443,0,1290,"X"," ",null,{"$f":"CONCATENATE(REFERENTES!A443,\"(\",REFERENTES!B443,\")\")","v":"()"},{"$f":"REFERENTES!C443","v":0}]
[null,null,null,null,null,null,null,null,null,null,null,null,null,null,null,null,null,null,null,null,null,null,null,null,null,null,null,null,{"$f":"IF(AND(REFERENTES!C446<>\"\",          REFERENTES!C446<>96321,    REFERENTES!C446<>96222            ),(REFERENTES!E446),\"\")","v":""},{"$f":"REFERENTES!C446","v":0},null,444,0,1290,"X"," ",null,{"$f":"CONCATENATE(REFERENTES!A444,\"(\",REFERENTES!B444,\")\")","v":"()"},{"$f":"REFERENTES!C444","v":0}]
[null,null,null,null,null,null,null,null,null,null,null,null,null,null,null,null,null,null,null,null,null,null,null,null,null,null,null,null,{"$f":"IF(AND(REFERENTES!C447<>\"\",          REFERENTES!C447<>96321,    REFERENTES!C447<>96222            ),(REFERENTES!E447),\"\")","v":""},{"$f":"REFERENTES!C447","v":0},null,445,0,1290,"X"," ",null,{"$f":"CONCATENATE(REFERENTES!A445,\"(\",REFERENTES!B445,\")\")","v":"()"},{"$f":"REFERENTES!C445","v":0}]
[null,null,null,null,null,null,null,null,null,null,null,null,null,null,null,null,null,null,null,null,null,null,null,null,null,null,null,null,{"$f":"IF(AND(REFERENTES!C448<>\"\",          REFERENTES!C448<>96321,    REFERENTES!C448<>96222            ),(REFERENTES!E448),\"\")","v":""},{"$f":"REFERENTES!C448","v":0},null,446,0,1290,"X"," ",null,{"$f":"CONCATENATE(REFERENTES!A446,\"(\",REFERENTES!B446,\")\")","v":"()"},{"$f":"REFERENTES!C446","v":0}]
[null,null,null,null,null,null,null,null,null,null,null,null,null,null,null,null,null,null,null,null,null,null,null,null,null,null,null,null,{"$f":"IF(AND(REFERENTES!C449<>\"\",          REFERENTES!C449<>96321,    REFERENTES!C449<>96222            ),(REFERENTES!E449),\"\")","v":""},{"$f":"REFERENTES!C449","v":0},null,447,0,1290,"X"," ",null,{"$f":"CONCATENATE(REFERENTES!A447,\"(\",REFERENTES!B447,\")\")","v":"()"},{"$f":"REFERENTES!C447","v":0}]
[null,null,null,null,null,null,null,null,null,null,null,null,null,null,null,null,null,null,null,null,null,null,null,null,null,null,null,null,{"$f":"IF(AND(REFERENTES!C450<>\"\",          REFERENTES!C450<>96321,    REFERENTES!C450<>96222            ),(REFERENTES!E450),\"\")","v":""},{"$f":"REFERENTES!C450","v":0},null,448,0,1290,"X"," ",null,{"$f":"CONCATENATE(REFERENTES!A448,\"(\",REFERENTES!B448,\")\")","v":"()"},{"$f":"REFERENTES!C448","v":0}]
[null,null,null,null,null,null,null,null,null,null,null,null,null,null,null,null,null,null,null,null,null,null,null,null,null,null,null,null,{"$f":"IF(AND(REFERENTES!C451<>\"\",          REFERENTES!C451<>96321,    REFERENTES!C451<>96222            ),(REFERENTES!E451),\"\")","v":""},{"$f":"REFERENTES!C451","v":0},null,449,0,1290,"X"," ",null,{"$f":"CONCATENATE(REFERENTES!A449,\"(\",REFERENTES!B449,\")\")","v":"()"},{"$f":"REFERENTES!C449","v":0}]
[null,null,null,null,null,null,null,null,null,null,null,null,null,null,null,null,null,null,null,null,null,null,null,null,null,null,null,null,{"$f":"IF(AND(REFERENTES!C452<>\"\",          REFERENTES!C452<>96321,    REFERENTES!C452<>96222            ),(REFERENTES!E452),\"\")","v":""},{"$f":"REFERENTES!C452","v":0},null,450,{"$f":"IF(AC454=\"\",0,AC454)","v":0},{"$f":"IF(AG455=0,MAX($AF$6:$AF$1294)+1,AF455)","v":1290},{"$f":"IFERROR(VLOOKUP(SMALL($AH$6:$AH$1294,AF455),$AF$6:$AH$1294,2,FALSE),\"X\")","v":"X"}," ",null,{"$f":"CONCATENATE(REFERENTES!A450,\"(\",REFERENTES!B450,\")\")","v":"()"},{"$f":"REFERENTES!C450","v":0}]
[null,null,null,null,null,null,null,null,null,null,null,null,null,null,null,null,null,null,null,null,null,null,null,null,null,null,null,null,{"$f":"IF(AND(REFERENTES!C453<>\"\",          REFERENTES!C453<>96321,    REFERENTES!C453<>96222            ),(REFERENTES!E453),\"\")","v":""},{"$f":"REFERENTES!C453","v":0},null,451,0,1290,"X"," ",null,{"$f":"CONCATENATE(REFERENTES!A451,\"(\",REFERENTES!B451,\")\")","v":"()"},{"$f":"REFERENTES!C451","v":0}]
[null,null,null,null,null,null,null,null,null,null,null,null,null,null,null,null,null,null,null,null,null,null,null,null,null,null,null,null,{"$f":"IF(AND(REFERENTES!C454<>\"\",          REFERENTES!C454<>96321,    REFERENTES!C454<>96222            ),(REFERENTES!E454),\"\")","v":""},{"$f":"REFERENTES!C454","v":0},null,452,0,1290,"X"," ",null,{"$f":"CONCATENATE(REFERENTES!A452,\"(\",REFERENTES!B452,\")\")","v":"()"},{"$f":"REFERENTES!C452","v":0}]
[null,null,null,null,null,null,null,null,null,null,null,null,null,null,null,null,null,null,null,null,null,null,null,null,null,null,null,null,{"$f":"IF(AND(REFERENTES!C455<>\"\",          REFERENTES!C455<>96321,    REFERENTES!C455<>96222            ),(REFERENTES!E455),\"\")","v":""},{"$f":"REFERENTES!C455","v":0},null,453,0,1290,"X"," ",null,{"$f":"CONCATENATE(REFERENTES!A453,\"(\",REFERENTES!B453,\")\")","v":"()"},{"$f":"REFERENTES!C453","v":0}]
[null,null,null,null,null,null,null,null,null,null,null,null,null,null,null,null,null,null,null,null,null,null,null,null,null,null,null,null,{"$f":"IF(AND(REFERENTES!C456<>\"\",          REFERENTES!C456<>96321,    REFERENTES!C456<>96222            ),(REFERENTES!E456),\"\")","v":""},{"$f":"REFERENTES!C456","v":0},null,454,0,1290,"X"," ",null,{"$f":"CONCATENATE(REFERENTES!A454,\"(\",REFERENTES!B454,\")\")","v":"()"},{"$f":"REFERENTES!C454","v":0}]
[null,null,null,null,null,null,null,null,null,null,null,null,null,null,null,null,null,null,null,null,null,null,null,null,null,null,null,null,{"$f":"IF(AND(REFERENTES!C457<>\"\",          REFERENTES!C457<>96321,    REFERENTES!C457<>96222            ),(REFERENTES!E457),\"\")","v":""},{"$f":"REFERENTES!C457","v":0},null,455,0,1290,"X"," ",null,{"$f":"CONCATENATE(REFERENTES!A455,\"(\",REFERENTES!B455,\")\")","v":"()"},{"$f":"REFERENTES!C455","v":0}]
[null,null,null,null,null,null,null,null,null,null,null,null,null,null,null,null,null,null,null,null,null,null,null,null,null,null,null,null,{"$f":"IF(AND(REFERENTES!C458<>\"\",          REFERENTES!C458<>96321,    REFERENTES!C458<>96222            ),(REFERENTES!E458),\"\")","v":""},{"$f":"REFERENTES!C458","v":0},null,456,0,1290,"X"," ",null,{"$f":"CONCATENATE(REFERENTES!A456,\"(\",REFERENTES!B456,\")\")","v":"()"},{"$f":"REFERENTES!C456","v":0}]
[null,null,null,null,null,null,null,null,null,null,null,null,null,null,null,null,null,null,null,null,null,null,null,null,null,null,null,null,{"$f":"IF(AND(REFERENTES!C459<>\"\",          REFERENTES!C459<>96321,    REFERENTES!C459<>96222            ),(REFERENTES!E459),\"\")","v":""},{"$f":"REFERENTES!C459","v":0},null,457,0,1290,"X"," ",null,{"$f":"CONCATENATE(REFERENTES!A457,\"(\",REFERENTES!B457,\")\")","v":"()"},{"$f":"REFERENTES!C457","v":0}]
[null,null,null,null,null,null,null,null,null,null,null,null,null,null,null,null,null,null,null,null,null,null,null,null,null,null,null,null,{"$f":"IF(AND(REFERENTES!C460<>\"\",          REFERENTES!C460<>96321,    REFERENTES!C460<>96222            ),(REFERENTES!E460),\"\")","v":""},{"$f":"REFERENTES!C460","v":0},null,458,0,1290,"X"," ",null,{"$f":"CONCATENATE(REFERENTES!A458,\"(\",REFERENTES!B458,\")\")","v":"()"},{"$f":"REFERENTES!C458","v":0}]
[null,null,null,null,null,null,null,null,null,null,null,null,null,null,null,null,null,null,null,null,null,null,null,null,null,null,null,null,{"$f":"IF(AND(REFERENTES!C461<>\"\",          REFERENTES!C461<>96321,    REFERENTES!C461<>96222            ),(REFERENTES!E461),\"\")","v":""},{"$f":"REFERENTES!C461","v":0},null,459,0,1290,"X"," ",null,{"$f":"CONCATENATE(REFERENTES!A459,\"(\",REFERENTES!B459,\")\")","v":"()"},{"$f":"REFERENTES!C459","v":0}]
[null,null,null,null,null,null,null,null,null,null,null,null,null,null,null,null,null,null,null,null,null,null,null,null,null,null,null,null,{"$f":"IF(AND(REFERENTES!C462<>\"\",          REFERENTES!C462<>96321,    REFERENTES!C462<>96222            ),(REFERENTES!E462),\"\")","v":""},{"$f":"REFERENTES!C462","v":0},null,460,0,1290,"X"," ",null,{"$f":"CONCATENATE(REFERENTES!A460,\"(\",REFERENTES!B460,\")\")","v":"()"},{"$f":"REFERENTES!C460","v":0}]
[null,null,null,null,null,null,null,null,null,null,null,null,null,null,null,null,null,null,null,null,null,null,null,null,null,null,null,null,{"$f":"IF(AND(REFERENTES!C463<>\"\",          REFERENTES!C463<>96321,    REFERENTES!C463<>96222            ),(REFERENTES!E463),\"\")","v":""},{"$f":"REFERENTES!C463","v":0},null,461,0,1290,"X"," ",null,{"$f":"CONCATENATE(REFERENTES!A461,\"(\",REFERENTES!B461,\")\")","v":"()"},{"$f":"REFERENTES!C461","v":0}]
[null,null,null,null,null,null,null,null,null,null,null,null,null,null,null,null,null,null,null,null,null,null,null,null,null,null,null,null,{"$f":"IF(AND(REFERENTES!C464<>\"\",          REFERENTES!C464<>96321,    REFERENTES!C464<>96222            ),(REFERENTES!E464),\"\")","v":""},{"$f":"REFERENTES!C464","v":0},null,462,0,1290,"X"," ",null,{"$f":"CONCATENATE(REFERENTES!A462,\"(\",REFERENTES!B462,\")\")","v":"()"},{"$f":"REFERENTES!C462","v":0}]
[null,null,null,null,null,null,null,null,null,null,null,null,null,null,null,null,null,null,null,null,null,null,null,null,null,null,null,null,{"$f":"IF(AND(REFERENTES!C465<>\"\",          REFERENTES!C465<>96321,    REFERENTES!C465<>96222            ),(REFERENTES!E465),\"\")","v":""},{"$f":"REFERENTES!C465","v":0},null,463,0,1290,"X"," ",null,{"$f":"CONCATENATE(REFERENTES!A463,\"(\",REFERENTES!B463,\")\")","v":"()"},{"$f":"REFERENTES!C463","v":0}]
[null,null,null,null,null,null,null,null,null,null,null,null,null,null,null,null,null,null,null,null,null,null,null,null,null,null,null,null,{"$f":"IF(AND(REFERENTES!C466<>\"\",          REFERENTES!C466<>96321,    REFERENTES!C466<>96222            ),(REFERENTES!E466),\"\")","v":""},{"$f":"REFERENTES!C466","v":0},null,464,0,1290,"X"," ",null,{"$f":"CONCATENATE(REFERENTES!A464,\"(\",REFERENTES!B464,\")\")","v":"()"},{"$f":"REFERENTES!C464","v":0}]
[null,null,null,null,null,null,null,null,null,null,null,null,null,null,null,null,null,null,null,null,null,null,null,null,null,null,null,null,{"$f":"IF(AND(REFERENTES!C467<>\"\",          REFERENTES!C467<>96321,    REFERENTES!C467<>96222            ),(REFERENTES!E467),\"\")","v":""},{"$f":"REFERENTES!C467","v":0},null,465,0,1290,"X"," ",null,{"$f":"CONCATENATE(REFERENTES!A465,\"(\",REFERENTES!B465,\")\")","v":"()"},{"$f":"REFERENTES!C465","v":0}]
[null,null,null,null,null,null,null,null,null,null,null,null,null,null,null,null,null,null,null,null,null,null,null,null,null,null,null,null,{"$f":"IF(AND(REFERENTES!C468<>\"\",          REFERENTES!C468<>96321,    REFERENTES!C468<>96222            ),(REFERENTES!E468),\"\")","v":""},{"$f":"REFERENTES!C468","v":0},null,466,0,1290,"X"," ",null,{"$f":"CONCATENATE(REFERENTES!A466,\"(\",REFERENTES!B466,\")\")","v":"()"},{"$f":"REFERENTES!C466","v":0}]
[null,null,null,null,null,null,null,null,null,null,null,null,null,null,null,null,null,null,null,null,null,null,null,null,null,null,null,null,{"$f":"IF(AND(REFERENTES!C469<>\"\",          REFERENTES!C469<>96321,    REFERENTES!C469<>96222            ),(REFERENTES!E469),\"\")","v":""},{"$f":"REFERENTES!C469","v":0},null,467,0,1290,"X",null,null,{"$f":"CONCATENATE(REFERENTES!A467,\"(\",REFERENTES!B467,\")\")","v":"()"},{"$f":"REFERENTES!C467","v":0}]
[null,null,null,null,null,null,null,null,null,null,null,null,null,null,null,null,null,null,null,null,null,null,null,null,null,null,null,null,{"$f":"IF(AND(REFERENTES!C470<>\"\",          REFERENTES!C470<>96321,    REFERENTES!C470<>96222            ),(REFERENTES!E470),\"\")","v":""},{"$f":"REFERENTES!C470","v":0},null,468,0,1290,"X",null,null,{"$f":"CONCATENATE(REFERENTES!A468,\"(\",REFERENTES!B468,\")\")","v":"()"},{"$f":"REFERENTES!C468","v":0}]
[null,null,null,null,null,null,null,null,null,null,null,null,null,null,null,null,null,null,null,null,null,null,null,null,null,null,null,null,{"$f":"IF(AND(REFERENTES!C471<>\"\",          REFERENTES!C471<>96321,    REFERENTES!C471<>96222            ),(REFERENTES!E471),\"\")","v":""},{"$f":"REFERENTES!C471","v":0},null,469,0,1290,"X",null,null,{"$f":"CONCATENATE(REFERENTES!A469,\"(\",REFERENTES!B469,\")\")","v":"()"},{"$f":"REFERENTES!C469","v":0}]
[null,null,null,null,null,null,null,null,null,null,null,null,null,null,null,null,null,null,null,null,null,null,null,null,null,null,null,null,{"$f":"IF(AND(REFERENTES!C472<>\"\",          REFERENTES!C472<>96321,    REFERENTES!C472<>96222            ),(REFERENTES!E472),\"\")","v":""},{"$f":"REFERENTES!C472","v":0},null,470,0,1290,"X",null,null,{"$f":"CONCATENATE(REFERENTES!A470,\"(\",REFERENTES!B470,\")\")","v":"()"},{"$f":"REFERENTES!C470","v":0}]
[null,null,null,null,null,null,null,null,null,null,null,null,null,null,null,null,null,null,null,null,null,null,null,null,null,null,null,null,{"$f":"IF(AND(REFERENTES!C473<>\"\",          REFERENTES!C473<>96321,    REFERENTES!C473<>96222            ),(REFERENTES!E473),\"\")","v":""},{"$f":"REFERENTES!C473","v":0},null,471,0,1290,"X",null,null,{"$f":"CONCATENATE(REFERENTES!A471,\"(\",REFERENTES!B471,\")\")","v":"()"},{"$f":"REFERENTES!C471","v":0}]
[null,null,null,null,null,null,null,null,null,null,null,null,null,null,null,null,null,null,null,null,null,null,null,null,null,null,null,null,{"$f":"IF(AND(REFERENTES!C474<>\"\",          REFERENTES!C474<>96321,    REFERENTES!C474<>96222            ),(REFERENTES!E474),\"\")","v":""},{"$f":"REFERENTES!C474","v":0},null,472,0,1290,"X",null,null,{"$f":"CONCATENATE(REFERENTES!A472,\"(\",REFERENTES!B472,\")\")","v":"()"},{"$f":"REFERENTES!C472","v":0}]
[null,null,null,null,null,null,null,null,null,null,null,null,null,null,null,null,null,null,null,null,null,null,null,null,null,null,null,null,{"$f":"IF(AND(REFERENTES!C475<>\"\",          REFERENTES!C475<>96321,    REFERENTES!C475<>96222            ),(REFERENTES!E475),\"\")","v":""},{"$f":"REFERENTES!C475","v":0},null,473,0,1290,"X",null,null,{"$f":"CONCATENATE(REFERENTES!A473,\"(\",REFERENTES!B473,\")\")","v":"()"},{"$f":"REFERENTES!C473","v":0}]
[null,null,null,null,null,null,null,null,null,null,null,null,null,null,null,null,null,null,null,null,null,null,null,null,null,null,null,null,{"$f":"IF(AND(REFERENTES!C476<>\"\",          REFERENTES!C476<>96321,    REFERENTES!C476<>96222            ),(REFERENTES!E476),\"\")","v":""},{"$f":"REFERENTES!C476","v":0},null,474,0,1290,"X",null,null,{"$f":"CONCATENATE(REFERENTES!A474,\"(\",REFERENTES!B474,\")\")","v":"()"},{"$f":"REFERENTES!C474","v":0}]
[null,null,null,null,null,null,null,null,null,null,null,null,null,null,null,null,null,null,null,null,null,null,null,null,null,null,null,null,{"$f":"IF(AND(REFERENTES!C477<>\"\",          REFERENTES!C477<>96321,    REFERENTES!C477<>96222            ),(REFERENTES!E477),\"\")","v":""},{"$f":"REFERENTES!C477","v":0},null,475,0,1290,"X",null,null,{"$f":"CONCATENATE(REFERENTES!A475,\"(\",REFERENTES!B475,\")\")","v":"()"},{"$f":"REFERENTES!C475","v":0}]
[null,null,null,null,null,null,null,null,null,null,null,null,null,null,null,null,null,null,null,null,null,null,null,null,null,null,null,null,{"$f":"IF(AND(REFERENTES!C478<>\"\",          REFERENTES!C478<>96321,    REFERENTES!C478<>96222            ),(REFERENTES!E478),\"\")","v":""},{"$f":"REFERENTES!C478","v":0},null,476,0,1290,"X",null,null,{"$f":"CONCATENATE(REFERENTES!A476,\"(\",REFERENTES!B476,\")\")","v":"()"},{"$f":"REFERENTES!C476","v":0}]
[null,null,null,null,null,null,null,null,null,null,null,null,null,null,null,null,null,null,null,null,null,null,null,null,null,null,null,null,{"$f":"IF(AND(REFERENTES!C479<>\"\",          REFERENTES!C479<>96321,    REFERENTES!C479<>96222            ),(REFERENTES!E479),\"\")","v":""},{"$f":"REFERENTES!C479","v":0},null,477,0,1290,"X",null,null,{"$f":"CONCATENATE(REFERENTES!A477,\"(\",REFERENTES!B477,\")\")","v":"()"},{"$f":"REFERENTES!C477","v":0}]
[null,null,null,null,null,null,null,null,null,null,null,null,null,null,null,null,null,null,null,null,null,null,null,null,null,null,null,null,{"$f":"IF(AND(REFERENTES!C480<>\"\",          REFERENTES!C480<>96321,    REFERENTES!C480<>96222            ),(REFERENTES!E480),\"\")","v":""},{"$f":"REFERENTES!C480","v":0},null,478,0,1290,"X",null,null,{"$f":"CONCATENATE(REFERENTES!A478,\"(\",REFERENTES!B478,\")\")","v":"()"},{"$f":"REFERENTES!C478","v":0}]
[null,null,null,null,null,null,null,null,null,null,null,null,null,null,null,null,null,null,null,null,null,null,null,null,null,null,null,null,{"$f":"IF(AND(REFERENTES!C481<>\"\",          REFERENTES!C481<>96321,    REFERENTES!C481<>96222            ),(REFERENTES!E481),\"\")","v":""},{"$f":"REFERENTES!C481","v":0},null,479,0,1290,"X",null,null,{"$f":"CONCATENATE(REFERENTES!A479,\"(\",REFERENTES!B479,\")\")","v":"()"},{"$f":"REFERENTES!C479","v":0}]
[null,null,null,null,null,null,null,null,null,null,null,null,null,null,null,null,null,null,null,null,null,null,null,null,null,null,null,null,{"$f":"IF(AND(REFERENTES!C482<>\"\",          REFERENTES!C482<>96321,    REFERENTES!C482<>96222            ),(REFERENTES!E482),\"\")","v":""},{"$f":"REFERENTES!C482","v":0},null,480,0,1290,"X",null,null,{"$f":"CONCATENATE(REFERENTES!A480,\"(\",REFERENTES!B480,\")\")","v":"()"},{"$f":"REFERENTES!C480","v":0}]
[null,null,null,null,null,null,null,null,null,null,null,null,null,null,null,null,null,null,null,null,null,null,null,null,null,null,null,null,{"$f":"IF(AND(REFERENTES!C483<>\"\",          REFERENTES!C483<>96321,    REFERENTES!C483<>96222            ),(REFERENTES!E483),\"\")","v":""},{"$f":"REFERENTES!C483","v":0},null,481,0,1290,"X",null,null,{"$f":"CONCATENATE(REFERENTES!A481,\"(\",REFERENTES!B481,\")\")","v":"()"},{"$f":"REFERENTES!C481","v":0}]
[null,null,null,null,null,null,null,null,null,null,null,null,null,null,null,null,null,null,null,null,null,null,null,null,null,null,null,null,{"$f":"IF(AND(REFERENTES!C484<>\"\",          REFERENTES!C484<>96321,    REFERENTES!C484<>96222            ),(REFERENTES!E484),\"\")","v":""},{"$f":"REFERENTES!C484","v":0},null,482,0,1290,"X",null,null,{"$f":"CONCATENATE(REFERENTES!A482,\"(\",REFERENTES!B482,\")\")","v":"()"},{"$f":"REFERENTES!C482","v":0}]
[null,null,null,null,null,null,null,null,null,null,null,null,null,null,null,null,null,null,null,null,null,null,null,null,null,null,null,null,{"$f":"IF(AND(REFERENTES!C485<>\"\",          REFERENTES!C485<>96321,    REFERENTES!C485<>96222            ),(REFERENTES!E485),\"\")","v":""},{"$f":"REFERENTES!C485","v":0},null,483,0,1290,"X",null,null,{"$f":"CONCATENATE(REFERENTES!A483,\"(\",REFERENTES!B483,\")\")","v":"()"},{"$f":"REFERENTES!C483","v":0}]
[null,null,null,null,null,null,null,null,null,null,null,null,null,null,null,null,null,null,null,null,null,null,null,null,null,null,null,null,{"$f":"IF(AND(REFERENTES!C486<>\"\",          REFERENTES!C486<>96321,    REFERENTES!C486<>96222            ),(REFERENTES!E486),\"\")","v":""},{"$f":"REFERENTES!C486","v":0},null,484,0,1290,"X",null,null,{"$f":"CONCATENATE(REFERENTES!A484,\"(\",REFERENTES!B484,\")\")","v":"()"},{"$f":"REFERENTES!C484","v":0}]
[null,null,null,null,null,null,null,null,null,null,null,null,null,null,null,null,null,null,null,null,null,null,null,null,null,null,null,null,{"$f":"IF(AND(REFERENTES!C487<>\"\",          REFERENTES!C487<>96321,    REFERENTES!C487<>96222            ),(REFERENTES!E487),\"\")","v":""},{"$f":"REFERENTES!C487","v":0},null,485,0,1290,"X",null,null,{"$f":"CONCATENATE(REFERENTES!A485,\"(\",REFERENTES!B485,\")\")","v":"()"},{"$f":"REFERENTES!C485","v":0}]
[null,null,null,null,null,null,null,null,null,null,null,null,null,null,null,null,null,null,null,null,null,null,null,null,null,null,null,null,{"$f":"IF(AND(REFERENTES!C488<>\"\",          REFERENTES!C488<>96321,    REFERENTES!C488<>96222            ),(REFERENTES!E488),\"\")","v":""},{"$f":"REFERENTES!C488","v":0},null,486,0,1290,"X",null,null,{"$f":"CONCATENATE(REFERENTES!A486,\"(\",REFERENTES!B486,\")\")","v":"()"},{"$f":"REFERENTES!C486","v":0}]
[null,null,null,null,null,null,null,null,null,null,null,null,null,null,null,null,null,null,null,null,null,null,null,null,null,null,null,null,{"$f":"IF(AND(REFERENTES!C489<>\"\",          REFERENTES!C489<>96321,    REFERENTES!C489<>96222            ),(REFERENTES!E489),\"\")","v":""},{"$f":"REFERENTES!C489","v":0},null,487,0,1290,"X",null,null,{"$f":"CONCATENATE(REFERENTES!A487,\"(\",REFERENTES!B487,\")\")","v":"()"},{"$f":"REFERENTES!C487","v":0}]
[null,null,null,null,null,null,null,null,null,null,null,null,null,null,null,null,null,null,null,null,null,null,null,null,null,null,null,null,{"$f":"IF(AND(REFERENTES!C490<>\"\",          REFERENTES!C490<>96321,    REFERENTES!C490<>96222            ),(REFERENTES!E490),\"\")","v":""},{"$f":"REFERENTES!C490","v":0},null,488,0,1290,"X",null,null,{"$f":"CONCATENATE(REFERENTES!A488,\"(\",REFERENTES!B488,\")\")","v":"()"},{"$f":"REFERENTES!C488","v":0}]
[null,null,null,null,null,null,null,null,null,null,null,null,null,null,null,null,null,null,null,null,null,null,null,null,null,null,null,null,{"$f":"IF(AND(REFERENTES!C491<>\"\",          REFERENTES!C491<>96321,    REFERENTES!C491<>96222            ),(REFERENTES!E491),\"\")","v":""},{"$f":"REFERENTES!C491","v":0},null,489,0,1290,"X",null,null,{"$f":"CONCATENATE(REFERENTES!A489,\"(\",REFERENTES!B489,\")\")","v":"()"},{"$f":"REFERENTES!C489","v":0}]
[null,null,null,null,null,null,null,null,null,null,null,null,null,null,null,null,null,null,null,null,null,null,null,null,null,null,null,null,{"$f":"IF(AND(REFERENTES!C492<>\"\",          REFERENTES!C492<>96321,    REFERENTES!C492<>96222            ),(REFERENTES!E492),\"\")","v":""},{"$f":"REFERENTES!C492","v":0},null,490,0,1290,"X",null,null,{"$f":"CONCATENATE(REFERENTES!A490,\"(\",REFERENTES!B490,\")\")","v":"()"},{"$f":"REFERENTES!C490","v":0}]
[null,null,null,null,null,null,null,null,null,null,null,null,null,null,null,null,null,null,null,null,null,null,null,null,null,null,null,null,{"$f":"IF(AND(REFERENTES!C493<>\"\",          REFERENTES!C493<>96321,    REFERENTES!C493<>96222            ),(REFERENTES!E493),\"\")","v":""},{"$f":"REFERENTES!C493","v":0},null,491,0,1290,"X",null,null,{"$f":"CONCATENATE(REFERENTES!A491,\"(\",REFERENTES!B491,\")\")","v":"()"},{"$f":"REFERENTES!C491","v":0}]
[null,null,null,null,null,null,null,null,null,null,null,null,null,null,null,null,null,null,null,null,null,null,null,null,null,null,null,null,{"$f":"IF(AND(REFERENTES!C494<>\"\",          REFERENTES!C494<>96321,    REFERENTES!C494<>96222            ),(REFERENTES!E494),\"\")","v":""},{"$f":"REFERENTES!C494","v":0},null,492,0,1290,"X",null,null,{"$f":"CONCATENATE(REFERENTES!A492,\"(\",REFERENTES!B492,\")\")","v":"()"},{"$f":"REFERENTES!C492","v":0}]
[null,null,null,null,null,null,null,null,null,null,null,null,null,null,null,null,null,null,null,null,null,null,null,null,null,null,null,null,{"$f":"IF(AND(REFERENTES!C495<>\"\",          REFERENTES!C495<>96321,    REFERENTES!C495<>96222            ),(REFERENTES!E495),\"\")","v":""},{"$f":"REFERENTES!C495","v":0},null,493,0,1290,"X",null,null,{"$f":"CONCATENATE(REFERENTES!A493,\"(\",REFERENTES!B493,\")\")","v":"()"},{"$f":"REFERENTES!C493","v":0}]
[null,null,null,null,null,null,null,null,null,null,null,null,null,null,null,null,null,null,null,null,null,null,null,null,null,null,null,null,{"$f":"IF(AND(REFERENTES!C496<>\"\",          REFERENTES!C496<>96321,    REFERENTES!C496<>96222            ),(REFERENTES!E496),\"\")","v":""},{"$f":"REFERENTES!C496","v":0},null,494,0,1290,"X",null,null,{"$f":"CONCATENATE(REFERENTES!A494,\"(\",REFERENTES!B494,\")\")","v":"()"},{"$f":"REFERENTES!C494","v":0}]
[null,null,null,null,null,null,null,null,null,null,null,null,null,null,null,null,null,null,null,null,null,null,null,null,null,null,null,null,{"$f":"IF(AND(REFERENTES!C497<>\"\",          REFERENTES!C497<>96321,    REFERENTES!C497<>96222            ),(REFERENTES!E497),\"\")","v":""},{"$f":"REFERENTES!C497","v":0},null,495,0,1290,"X",null,null,{"$f":"CONCATENATE(REFERENTES!A495,\"(\",REFERENTES!B495,\")\")","v":"()"},{"$f":"REFERENTES!C495","v":0}]
[null,null,null,null,null,null,null,null,null,null,null,null,null,null,null,null,null,null,null,null,null,null,null,null,null,null,null,null,{"$f":"IF(AND(REFERENTES!C498<>\"\",          REFERENTES!C498<>96321,    REFERENTES!C498<>96222            ),(REFERENTES!E498),\"\")","v":""},{"$f":"REFERENTES!C498","v":0},null,496,0,1290,"X",null,null,{"$f":"CONCATENATE(REFERENTES!A496,\"(\",REFERENTES!B496,\")\")","v":"()"},{"$f":"REFERENTES!C496","v":0}]
[null,null,null,null,null,null,null,null,null,null,null,null,null,null,null,null,null,null,null,null,null,null,null,null,null,null,null,null,{"$f":"IF(AND(REFERENTES!C499<>\"\",          REFERENTES!C499<>96321,    REFERENTES!C499<>96222            ),(REFERENTES!E499),\"\")","v":""},{"$f":"REFERENTES!C499","v":0},null,497,0,1290,"X",null,null,{"$f":"CONCATENATE(REFERENTES!A497,\"(\",REFERENTES!B497,\")\")","v":"()"},{"$f":"REFERENTES!C497","v":0}]
[null,null,null,null,null,null,null,null,null,null,null,null,null,null,null,null,null,null,null,null,null,null,null,null,null,null,null,null,{"$f":"IF(AND(REFERENTES!C500<>\"\",          REFERENTES!C500<>96321,    REFERENTES!C500<>96222            ),(REFERENTES!E500),\"\")","v":""},{"$f":"REFERENTES!C500","v":0},null,498,0,1290,"X",null,null,{"$f":"CONCATENATE(REFERENTES!A498,\"(\",REFERENTES!B498,\")\")","v":"()"},{"$f":"REFERENTES!C498","v":0}]
[null,null,null,null,null,null,null,null,null,null,null,null,null,null,null,null,null,null,null,null,null,null,null,null,null,null,null,null,{"$f":"IF(AND(REFERENTES!C501<>\"\",          REFERENTES!C501<>96321,    REFERENTES!C501<>96222            ),(REFERENTES!E501),\"\")","v":""},{"$f":"REFERENTES!C501","v":0},null,499,0,1290,"X",null,null,{"$f":"CONCATENATE(REFERENTES!A499,\"(\",REFERENTES!B499,\")\")","v":"()"},{"$f":"REFERENTES!C499","v":0}]
[null,null,null,null,null,null,null,null,null,null,null,null,null,null,null,null,null,null,null,null,null,null,null,null,null,null,null,null,{"$f":"IF(AND(REFERENTES!C502<>\"\",          REFERENTES!C502<>96321,    REFERENTES!C502<>96222            ),(REFERENTES!E502),\"\")","v":""},{"$f":"REFERENTES!C502","v":0},null,500,0,1290,"X",null,null,{"$f":"CONCATENATE(REFERENTES!A500,\"(\",REFERENTES!B500,\")\")","v":"()"},{"$f":"REFERENTES!C500","v":0}]
[null,null,null,null,null,null,null,null,null,null,null,null,null,null,null,null,null,null,null,null,null,null,null,null,null,null,null,null,{"$f":"IF(AND(REFERENTES!C503<>\"\",          REFERENTES!C503<>96321,    REFERENTES!C503<>96222            ),(REFERENTES!E503),\"\")","v":""},{"$f":"REFERENTES!C503","v":0},null,501,0,1290,"X",null,null,{"$f":"CONCATENATE(REFERENTES!A501,\"(\",REFERENTES!B501,\")\")","v":"()"},{"$f":"REFERENTES!C501","v":0}]
[null,null,null,null,null,null,null,null,null,null,null,null,null,null,null,null,null,null,null,null,null,null,null,null,null,null,null,null,{"$f":"IF(AND(REFERENTES!C504<>\"\",          REFERENTES!C504<>96321,    REFERENTES!C504<>96222            ),(REFERENTES!E504),\"\")","v":""},{"$f":"REFERENTES!C504","v":0},null,502,0,1290,"X",null,null,{"$f":"CONCATENATE(REFERENTES!A502,\"(\",REFERENTES!B502,\")\")","v":"()"},{"$f":"REFERENTES!C502","v":0}]
[null,null,null,null,null,null,null,null,null,null,null,null,null,null,null,null,null,null,null,null,null,null,null,null,null,null,null,null,{"$f":"IF(AND(REFERENTES!C505<>\"\",          REFERENTES!C505<>96321,    REFERENTES!C505<>96222            ),(REFERENTES!E505),\"\")","v":""},{"$f":"REFERENTES!C505","v":0},null,503,0,1290,"X",null,null,{"$f":"CONCATENATE(REFERENTES!A503,\"(\",REFERENTES!B503,\")\")","v":"()"},{"$f":"REFERENTES!C503","v":0}]
[null,null,null,null,null,null,null,null,null,null,null,null,null,null,null,null,null,null,null,null,null,null,null,null,null,null,null,null,{"$f":"IF(AND(REFERENTES!C506<>\"\",          REFERENTES!C506<>96321,    REFERENTES!C506<>96222            ),(REFERENTES!E506),\"\")","v":""},{"$f":"REFERENTES!C506","v":0},null,504,0,1290,"X",null,null,{"$f":"CONCATENATE(REFERENTES!A504,\"(\",REFERENTES!B504,\")\")","v":"()"},{"$f":"REFERENTES!C504","v":0}]
[null,null,null,null,null,null,null,null,null,null,null,null,null,null,null,null,null,null,null,null,null,null,null,null,null,null,null,null,{"$f":"IF(AND(REFERENTES!C507<>\"\",          REFERENTES!C507<>96321,    REFERENTES!C507<>96222            ),(REFERENTES!E507),\"\")","v":""},{"$f":"REFERENTES!C507","v":0},null,505,0,1290,"X",null,null,{"$f":"CONCATENATE(REFERENTES!A505,\"(\",REFERENTES!B505,\")\")","v":"()"},{"$f":"REFERENTES!C505","v":0}]
[null,null,null,null,null,null,null,null,null,null,null,null,null,null,null,null,null,null,null,null,null,null,null,null,null,null,null,null,{"$f":"IF(AND(REFERENTES!C508<>\"\",          REFERENTES!C508<>96321,    REFERENTES!C508<>96222            ),(REFERENTES!E508),\"\")","v":""},{"$f":"REFERENTES!C508","v":0},null,506,0,1290,"X",null,null,{"$f":"CONCATENATE(REFERENTES!A506,\"(\",REFERENTES!B506,\")\")","v":"()"},{"$f":"REFERENTES!C506","v":0}]
[null,null,null,null,null,null,null,null,null,null,null,null,null,null,null,null,null,null,null,null,null,null,null,null,null,null,null,null,{"$f":"IF(AND(REFERENTES!C509<>\"\",          REFERENTES!C509<>96321,    REFERENTES!C509<>96222            ),(REFERENTES!E509),\"\")","v":""},{"$f":"REFERENTES!C509","v":0},null,507,0,1290,"X",null,null,{"$f":"CONCATENATE(REFERENTES!A507,\"(\",REFERENTES!B507,\")\")","v":"()"},{"$f":"REFERENTES!C507","v":0}]
[null,null,null,null,null,null,null,null,null,null,null,null,null,null,null,null,null,null,null,null,null,null,null,null,null,null,null,null,{"$f":"IF(AND(REFERENTES!C510<>\"\",          REFERENTES!C510<>96321,    REFERENTES!C510<>96222            ),(REFERENTES!E510),\"\")","v":""},{"$f":"REFERENTES!C510","v":0},null,508,0,1290,"X",null,null,{"$f":"CONCATENATE(REFERENTES!A508,\"(\",REFERENTES!B508,\")\")","v":"()"},{"$f":"REFERENTES!C508","v":0}]
[null,null,null,null,null,null,null,null,null,null,null,null,null,null,null,null,null,null,null,null,null,null,null,null,null,null,null,null,{"$f":"IF(AND(REFERENTES!C511<>\"\",          REFERENTES!C511<>96321,    REFERENTES!C511<>96222            ),(REFERENTES!E511),\"\")","v":""},{"$f":"REFERENTES!C511","v":0},null,509,0,1290,"X",null,null,{"$f":"CONCATENATE(REFERENTES!A509,\"(\",REFERENTES!B509,\")\")","v":"()"},{"$f":"REFERENTES!C509","v":0}]
[null,null,null,null,null,null,null,null,null,null,null,null,null,null,null,null,null,null,null,null,null,null,null,null,null,null,null,null,{"$f":"IF(AND(REFERENTES!C512<>\"\",          REFERENTES!C512<>96321,    REFERENTES!C512<>96222            ),(REFERENTES!E512),\"\")","v":""},{"$f":"REFERENTES!C512","v":0},null,510,0,1290,"X",null,null,{"$f":"CONCATENATE(REFERENTES!A510,\"(\",REFERENTES!B510,\")\")","v":"()"},{"$f":"REFERENTES!C510","v":0}]
[null,null,null,null,null,null,null,null,null,null,null,null,null,null,null,null,null,null,null,null,null,null,null,null,null,null,null,null,{"$f":"IF(AND(REFERENTES!C513<>\"\",          REFERENTES!C513<>96321,    REFERENTES!C513<>96222            ),(REFERENTES!E513),\"\")","v":""},{"$f":"REFERENTES!C513","v":0},null,511,0,1290,"X",null,null,{"$f":"CONCATENATE(REFERENTES!A511,\"(\",REFERENTES!B511,\")\")","v":"()"},{"$f":"REFERENTES!C511","v":0}]
[null,null,null,null,null,null,null,null,null,null,null,null,null,null,null,null,null,null,null,null,null,null,null,null,null,null,null,null,{"$f":"IF(AND(REFERENTES!C514<>\"\",          REFERENTES!C514<>96321,    REFERENTES!C514<>96222            ),(REFERENTES!E514),\"\")","v":""},{"$f":"REFERENTES!C514","v":0},null,512,0,1290,"X",null,null,{"$f":"CONCATENATE(REFERENTES!A512,\"(\",REFERENTES!B512,\")\")","v":"()"},{"$f":"REFERENTES!C512","v":0}]
[null,null,null,null,null,null,null,null,null,null,null,null,null,null,null,null,null,null,null,null,null,null,null,null,null,null,null,null,{"$f":"IF(AND(REFERENTES!C515<>\"\",          REFERENTES!C515<>96321,    REFERENTES!C515<>96222            ),(REFERENTES!E515),\"\")","v":""},{"$f":"REFERENTES!C515","v":0},null,513,0,1290,"X",null,null,{"$f":"CONCATENATE(REFERENTES!A513,\"(\",REFERENTES!B513,\")\")","v":"()"},{"$f":"REFERENTES!C513","v":0}]
[null,null,null,null,null,null,null,null,null,null,null,null,null,null,null,null,null,null,null,null,null,null,null,null,null,null,null,null,{"$f":"IF(AND(REFERENTES!C516<>\"\",          REFERENTES!C516<>96321,    REFERENTES!C516<>96222            ),(REFERENTES!E516),\"\")","v":""},{"$f":"REFERENTES!C516","v":0},null,514,{"$f":"IF(AC518=\"\",0,AC518)","v":0},{"$f":"IF(AG519=0,MAX($AF$6:$AF$1294)+1,AF519)","v":1290},{"$f":"IFERROR(VLOOKUP(SMALL($AH$6:$AH$1294,AF519),$AF$6:$AH$1294,2,FALSE),\"X\")","v":"X"},null,null,{"$f":"CONCATENATE(REFERENTES!A514,\"(\",REFERENTES!B514,\")\")","v":"()"},{"$f":"REFERENTES!C514","v":0}]
[null,null,null,null,null,null,null,null,null,null,null,null,null,null,null,null,null,null,null,null,null,null,null,null,null,null,null,null,{"$f":"IF(AND(REFERENTES!C517<>\"\",          REFERENTES!C517<>96321,    REFERENTES!C517<>96222            ),(REFERENTES!E517),\"\")","v":""},{"$f":"REFERENTES!C517","v":0},null,515,0,1290,"X",null,null,{"$f":"CONCATENATE(REFERENTES!A515,\"(\",REFERENTES!B515,\")\")","v":"()"},{"$f":"REFERENTES!C515","v":0}]
[null,null,null,null,null,null,null,null,null,null,null,null,null,null,null,null,null,null,null,null,null,null,null,null,null,null,null,null,{"$f":"IF(AND(REFERENTES!C518<>\"\",          REFERENTES!C518<>96321,    REFERENTES!C518<>96222            ),(REFERENTES!E518),\"\")","v":""},{"$f":"REFERENTES!C518","v":0},null,516,0,1290,"X",null,null,{"$f":"CONCATENATE(REFERENTES!A516,\"(\",REFERENTES!B516,\")\")","v":"()"},{"$f":"REFERENTES!C516","v":0}]
[null,null,null,null,null,null,null,null,null,null,null,null,null,null,null,null,null,null,null,null,null,null,null,null,null,null,null,null,{"$f":"IF(AND(REFERENTES!C519<>\"\",          REFERENTES!C519<>96321,    REFERENTES!C519<>96222            ),(REFERENTES!E519),\"\")","v":""},{"$f":"REFERENTES!C519","v":0},null,517,0,1290,"X",null,null,{"$f":"CONCATENATE(REFERENTES!A517,\"(\",REFERENTES!B517,\")\")","v":"()"},{"$f":"REFERENTES!C517","v":0}]
[null,null,null,null,null,null,null,null,null,null,null,null,null,null,null,null,null,null,null,null,null,null,null,null,null,null,null,null,{"$f":"IF(AND(REFERENTES!C520<>\"\",          REFERENTES!C520<>96321,    REFERENTES!C520<>96222            ),(REFERENTES!E520),\"\")","v":""},{"$f":"REFERENTES!C520","v":0},null,518,0,1290,"X",null,null,{"$f":"CONCATENATE(REFERENTES!A518,\"(\",REFERENTES!B518,\")\")","v":"()"},{"$f":"REFERENTES!C518","v":0}]
[null,null,null,null,null,null,null,null,null,null,null,null,null,null,null,null,null,null,null,null,null,null,null,null,null,null,null,null,{"$f":"IF(AND(REFERENTES!C521<>\"\",          REFERENTES!C521<>96321,    REFERENTES!C521<>96222            ),(REFERENTES!E521),\"\")","v":""},{"$f":"REFERENTES!C521","v":0},null,519,0,1290,"X",null,null,{"$f":"CONCATENATE(REFERENTES!A519,\"(\",REFERENTES!B519,\")\")","v":"()"},{"$f":"REFERENTES!C519","v":0}]
[null,null,null,null,null,null,null,null,null,null,null,null,null,null,null,null,null,null,null,null,null,null,null,null,null,null,null,null,{"$f":"IF(AND(REFERENTES!C522<>\"\",          REFERENTES!C522<>96321,    REFERENTES!C522<>96222            ),(REFERENTES!E522),\"\")","v":""},{"$f":"REFERENTES!C522","v":0},null,520,0,1290,"X",null,null,{"$f":"CONCATENATE(REFERENTES!A520,\"(\",REFERENTES!B520,\")\")","v":"()"},{"$f":"REFERENTES!C520","v":0}]
[null,null,null,null,null,null,null,null,null,null,null,null,null,null,null,null,null,null,null,null,null,null,null,null,null,null,null,null,{"$f":"IF(AND(REFERENTES!C523<>\"\",          REFERENTES!C523<>96321,    REFERENTES!C523<>96222            ),(REFERENTES!E523),\"\")","v":""},{"$f":"REFERENTES!C523","v":0},null,521,0,1290,"X",null,null,{"$f":"CONCATENATE(REFERENTES!A521,\"(\",REFERENTES!B521,\")\")","v":"()"},{"$f":"REFERENTES!C521","v":0}]
[null,null,null,null,null,null,null,null,null,null,null,null,null,null,null,null,null,null,null,null,null,null,null,null,null,null,null,null,{"$f":"IF(AND(REFERENTES!C524<>\"\",          REFERENTES!C524<>96321,    REFERENTES!C524<>96222            ),(REFERENTES!E524),\"\")","v":""},{"$f":"REFERENTES!C524","v":0},null,522,0,1290,"X",null,null,{"$f":"CONCATENATE(REFERENTES!A522,\"(\",REFERENTES!B522,\")\")","v":"()"},{"$f":"REFERENTES!C522","v":0}]
[null,null,null,null,null,null,null,null,null,null,null,null,null,null,null,null,null,null,null,null,null,null,null,null,null,null,null,null,{"$f":"IF(AND(REFERENTES!C525<>\"\",          REFERENTES!C525<>96321,    REFERENTES!C525<>96222            ),(REFERENTES!E525),\"\")","v":""},{"$f":"REFERENTES!C525","v":0},null,523,0,1290,"X",null,null,{"$f":"CONCATENATE(REFERENTES!A523,\"(\",REFERENTES!B523,\")\")","v":"()"},{"$f":"REFERENTES!C523","v":0}]
[null,null,null,null,null,null,null,null,null,null,null,null,null,null,null,null,null,null,null,null,null,null,null,null,null,null,null,null,{"$f":"IF(AND(REFERENTES!C526<>\"\",          REFERENTES!C526<>96321,    REFERENTES!C526<>96222            ),(REFERENTES!E526),\"\")","v":""},{"$f":"REFERENTES!C526","v":0},null,524,0,1290,"X",null,null,{"$f":"CONCATENATE(REFERENTES!A524,\"(\",REFERENTES!B524,\")\")","v":"()"},{"$f":"REFERENTES!C524","v":0}]
[null,null,null,null,null,null,null,null,null,null,null,null,null,null,null,null,null,null,null,null,null,null,null,null,null,null,null,null,{"$f":"IF(AND(REFERENTES!C527<>\"\",          REFERENTES!C527<>96321,    REFERENTES!C527<>96222            ),(REFERENTES!E527),\"\")","v":""},{"$f":"REFERENTES!C527","v":0},null,525,0,1290,"X",null,null,{"$f":"CONCATENATE(REFERENTES!A525,\"(\",REFERENTES!B525,\")\")","v":"()"},{"$f":"REFERENTES!C525","v":0}]
[null,null,null,null,null,null,null,null,null,null,null,null,null,null,null,null,null,null,null,null,null,null,null,null,null,null,null,null,{"$f":"IF(AND(REFERENTES!C528<>\"\",          REFERENTES!C528<>96321,    REFERENTES!C528<>96222            ),(REFERENTES!E528),\"\")","v":""},{"$f":"REFERENTES!C528","v":0},null,526,0,1290,"X",null,null,{"$f":"CONCATENATE(REFERENTES!A526,\"(\",REFERENTES!B526,\")\")","v":"()"},{"$f":"REFERENTES!C526","v":0}]
[null,null,null,null,null,null,null,null,null,null,null,null,null,null,null,null,null,null,null,null,null,null,null,null,null,null,null,null,{"$f":"IF(AND(REFERENTES!C529<>\"\",          REFERENTES!C529<>96321,    REFERENTES!C529<>96222            ),(REFERENTES!E529),\"\")","v":""},{"$f":"REFERENTES!C529","v":0},null,527,0,1290,"X",null,null,{"$f":"CONCATENATE(REFERENTES!A527,\"(\",REFERENTES!B527,\")\")","v":"()"},{"$f":"REFERENTES!C527","v":0}]
[null,null,null,null,null,null,null,null,null,null,null,null,null,null,null,null,null,null,null,null,null,null,null,null,null,null,null,null,{"$f":"IF(AND(REFERENTES!C530<>\"\",          REFERENTES!C530<>96321,    REFERENTES!C530<>96222            ),(REFERENTES!E530),\"\")","v":""},{"$f":"REFERENTES!C530","v":0},null,528,0,1290,"X",null,null,{"$f":"CONCATENATE(REFERENTES!A528,\"(\",REFERENTES!B528,\")\")","v":"()"},{"$f":"REFERENTES!C528","v":0}]
[null,null,null,null,null,null,null,null,null,null,null,null,null,null,null,null,null,null,null,null,null,null,null,null,null,null,null,null,{"$f":"IF(AND(REFERENTES!C531<>\"\",          REFERENTES!C531<>96321,    REFERENTES!C531<>96222            ),(REFERENTES!E531),\"\")","v":""},{"$f":"REFERENTES!C531","v":0},null,529,0,1290,"X",null,null,{"$f":"CONCATENATE(REFERENTES!A529,\"(\",REFERENTES!B529,\")\")","v":"()"},{"$f":"REFERENTES!C529","v":0}]
[null,null,null,null,null,null,null,null,null,null,null,null,null,null,null,null,null,null,null,null,null,null,null,null,null,null,null,null,{"$f":"IF(AND(REFERENTES!C532<>\"\",          REFERENTES!C532<>96321,    REFERENTES!C532<>96222            ),(REFERENTES!E532),\"\")","v":""},{"$f":"REFERENTES!C532","v":0},null,530,0,1290,"X",null,null,{"$f":"CONCATENATE(REFERENTES!A530,\"(\",REFERENTES!B530,\")\")","v":"()"},{"$f":"REFERENTES!C530","v":0}]
[null,null,null,null,null,null,null,null,null,null,null,null,null,null,null,null,null,null,null,null,null,null,null,null,null,null,null,null,{"$f":"IF(AND(REFERENTES!C533<>\"\",          REFERENTES!C533<>96321,    REFERENTES!C533<>96222            ),(REFERENTES!E533),\"\")","v":""},{"$f":"REFERENTES!C533","v":0},null,531,0,1290,"X",null,null,{"$f":"CONCATENATE(REFERENTES!A531,\"(\",REFERENTES!B531,\")\")","v":"()"},{"$f":"REFERENTES!C531","v":0}]
[null,null,null,null,null,null,null,null,null,null,null,null,null,null,null,null,null,null,null,null,null,null,null,null,null,null,null,null,{"$f":"IF(AND(REFERENTES!C534<>\"\",          REFERENTES!C534<>96321,    REFERENTES!C534<>96222            ),(REFERENTES!E534),\"\")","v":""},{"$f":"REFERENTES!C534","v":0},null,532,0,1290,"X",null,null,{"$f":"CONCATENATE(REFERENTES!A532,\"(\",REFERENTES!B532,\")\")","v":"()"},{"$f":"REFERENTES!C532","v":0}]
[null,null,null,null,null,null,null,null,null,null,null,null,null,null,null,null,null,null,null,null,null,null,null,null,null,null,null,null,{"$f":"IF(AND(REFERENTES!C535<>\"\",          REFERENTES!C535<>96321,    REFERENTES!C535<>96222            ),(REFERENTES!E535),\"\")","v":""},{"$f":"REFERENTES!C535","v":0},null,533,0,1290,"X",null,null,{"$f":"CONCATENATE(REFERENTES!A533,\"(\",REFERENTES!B533,\")\")","v":"()"},{"$f":"REFERENTES!C533","v":0}]
[null,null,null,null,null,null,null,null,null,null,null,null,null,null,null,null,null,null,null,null,null,null,null,null,null,null,null,null,{"$f":"IF(AND(REFERENTES!C536<>\"\",          REFERENTES!C536<>96321,    REFERENTES!C536<>96222            ),(REFERENTES!E536),\"\")","v":""},{"$f":"REFERENTES!C536","v":0},null,534,0,1290,"X",null,null,{"$f":"CONCATENATE(REFERENTES!A534,\"(\",REFERENTES!B534,\")\")","v":"()"},{"$f":"REFERENTES!C534","v":0}]
[null,null,null,null,null,null,null,null,null,null,null,null,null,null,null,null,null,null,null,null,null,null,null,null,null,null,null,null,{"$f":"IF(AND(REFERENTES!C537<>\"\",          REFERENTES!C537<>96321,    REFERENTES!C537<>96222            ),(REFERENTES!E537),\"\")","v":""},{"$f":"REFERENTES!C537","v":0},null,535,0,1290,"X",null,null,{"$f":"CONCATENATE(REFERENTES!A535,\"(\",REFERENTES!B535,\")\")","v":"()"},{"$f":"REFERENTES!C535","v":0}]
[null,null,null,null,null,null,null,null,null,null,null,null,null,null,null,null,null,null,null,null,null,null,null,null,null,null,null,null,{"$f":"IF(AND(REFERENTES!C538<>\"\",          REFERENTES!C538<>96321,    REFERENTES!C538<>96222            ),(REFERENTES!E538),\"\")","v":""},{"$f":"REFERENTES!C538","v":0},null,536,0,1290,"X",null,null,{"$f":"CONCATENATE(REFERENTES!A536,\"(\",REFERENTES!B536,\")\")","v":"()"},{"$f":"REFERENTES!C536","v":0}]
[null,null,null,null,null,null,null,null,null,null,null,null,null,null,null,null,null,null,null,null,null,null,null,null,null,null,null,null,{"$f":"IF(AND(REFERENTES!C539<>\"\",          REFERENTES!C539<>96321,    REFERENTES!C539<>96222            ),(REFERENTES!E539),\"\")","v":""},{"$f":"REFERENTES!C539","v":0},null,537,0,1290,"X",null,null,{"$f":"CONCATENATE(REFERENTES!A537,\"(\",REFERENTES!B537,\")\")","v":"()"},{"$f":"REFERENTES!C537","v":0}]
[null,null,null,null,null,null,null,null,null,null,null,null,null,null,null,null,null,null,null,null,null,null,null,null,null,null,null,null,{"$f":"IF(AND(REFERENTES!C540<>\"\",          REFERENTES!C540<>96321,    REFERENTES!C540<>96222            ),(REFERENTES!E540),\"\")","v":""},{"$f":"REFERENTES!C540","v":0},null,538,0,1290,"X",null,null,{"$f":"CONCATENATE(REFERENTES!A538,\"(\",REFERENTES!B538,\")\")","v":"()"},{"$f":"REFERENTES!C538","v":0}]
[null,null,null,null,null,null,null,null,null,null,null,null,null,null,null,null,null,null,null,null,null,null,null,null,null,null,null,null,{"$f":"IF(AND(REFERENTES!C541<>\"\",          REFERENTES!C541<>96321,    REFERENTES!C541<>96222            ),(REFERENTES!E541),\"\")","v":""},{"$f":"REFERENTES!C541","v":0},null,539,0,1290,"X",null,null,{"$f":"CONCATENATE(REFERENTES!A539,\"(\",REFERENTES!B539,\")\")","v":"()"},{"$f":"REFERENTES!C539","v":0}]
[null,null,null,null,null,null,null,null,null,null,null,null,null,null,null,null,null,null,null,null,null,null,null,null,null,null,null,null,{"$f":"IF(AND(REFERENTES!C542<>\"\",          REFERENTES!C542<>96321,    REFERENTES!C542<>96222            ),(REFERENTES!E542),\"\")","v":""},{"$f":"REFERENTES!C542","v":0},null,540,0,1290,"X",null,null,{"$f":"CONCATENATE(REFERENTES!A540,\"(\",REFERENTES!B540,\")\")","v":"()"},{"$f":"REFERENTES!C540","v":0}]
[null,null,null,null,null,null,null,null,null,null,null,null,null,null,null,null,null,null,null,null,null,null,null,null,null,null,null,null,{"$f":"IF(AND(REFERENTES!C543<>\"\",          REFERENTES!C543<>96321,    REFERENTES!C543<>96222            ),(REFERENTES!E543),\"\")","v":""},{"$f":"REFERENTES!C543","v":0},null,541,0,1290,"X",null,null,{"$f":"CONCATENATE(REFERENTES!A541,\"(\",REFERENTES!B541,\")\")","v":"()"},{"$f":"REFERENTES!C541","v":0}]
[null,null,null,null,null,null,null,null,null,null,null,null,null,null,null,null,null,null,null,null,null,null,null,null,null,null,null,null,{"$f":"IF(AND(REFERENTES!C544<>\"\",          REFERENTES!C544<>96321,    REFERENTES!C544<>96222            ),(REFERENTES!E544),\"\")","v":""},{"$f":"REFERENTES!C544","v":0},null,542,0,1290,"X",null,null,{"$f":"CONCATENATE(REFERENTES!A542,\"(\",REFERENTES!B542,\")\")","v":"()"},{"$f":"REFERENTES!C542","v":0}]
[null,null,null,null,null,null,null,null,null,null,null,null,null,null,null,null,null,null,null,null,null,null,null,null,null,null,null,null,{"$f":"IF(AND(REFERENTES!C545<>\"\",          REFERENTES!C545<>96321,    REFERENTES!C545<>96222            ),(REFERENTES!E545),\"\")","v":""},{"$f":"REFERENTES!C545","v":0},null,543,0,1290,"X",null,null,{"$f":"CONCATENATE(REFERENTES!A543,\"(\",REFERENTES!B543,\")\")","v":"()"},{"$f":"REFERENTES!C543","v":0}]
[null,null,null,null,null,null,null,null,null,null,null,null,null,null,null,null,null,null,null,null,null,null,null,null,null,null,null,null,{"$f":"IF(AND(REFERENTES!C546<>\"\",          REFERENTES!C546<>96321,    REFERENTES!C546<>96222            ),(REFERENTES!E546),\"\")","v":""},{"$f":"REFERENTES!C546","v":0},null,544,0,1290,"X",null,null,{"$f":"CONCATENATE(REFERENTES!A544,\"(\",REFERENTES!B544,\")\")","v":"()"},{"$f":"REFERENTES!C544","v":0}]
[null,null,null,null,null,null,null,null,null,null,null,null,null,null,null,null,null,null,null,null,null,null,null,null,null,null,null,null,{"$f":"IF(AND(REFERENTES!C547<>\"\",          REFERENTES!C547<>96321,    REFERENTES!C547<>96222            ),(REFERENTES!E547),\"\")","v":""},{"$f":"REFERENTES!C547","v":0},null,545,0,1290,"X",null,null,{"$f":"CONCATENATE(REFERENTES!A545,\"(\",REFERENTES!B545,\")\")","v":"()"},{"$f":"REFERENTES!C545","v":0}]
[null,null,null,null,null,null,null,null,null,null,null,null,null,null,null,null,null,null,null,null,null,null,null,null,null,null,null,null,{"$f":"IF(AND(REFERENTES!C548<>\"\",          REFERENTES!C548<>96321,    REFERENTES!C548<>96222            ),(REFERENTES!E548),\"\")","v":""},{"$f":"REFERENTES!C548","v":0},null,546,0,1290,"X",null,null,{"$f":"CONCATENATE(REFERENTES!A546,\"(\",REFERENTES!B546,\")\")","v":"()"},{"$f":"REFERENTES!C546","v":0}]
[null,null,null,null,null,null,null,null,null,null,null,null,null,null,null,null,null,null,null,null,null,null,null,null,null,null,null,null,{"$f":"IF(AND(REFERENTES!C549<>\"\",          REFERENTES!C549<>96321,    REFERENTES!C549<>96222            ),(REFERENTES!E549),\"\")","v":""},{"$f":"REFERENTES!C549","v":0},null,547,0,1290,"X",null,null,{"$f":"CONCATENATE(REFERENTES!A547,\"(\",REFERENTES!B547,\")\")","v":"()"},{"$f":"REFERENTES!C547","v":0}]
[null,null,null,null,null,null,null,null,null,null,null,null,null,null,null,null,null,null,null,null,null,null,null,null,null,null,null,null,{"$f":"IF(AND(REFERENTES!C550<>\"\",          REFERENTES!C550<>96321,    REFERENTES!C550<>96222            ),(REFERENTES!E550),\"\")","v":""},{"$f":"REFERENTES!C550","v":0},null,548,0,1290,"X",null,null,{"$f":"CONCATENATE(REFERENTES!A548,\"(\",REFERENTES!B548,\")\")","v":"()"},{"$f":"REFERENTES!C548","v":0}]
[null,null,null,null,null,null,null,null,null,null,null,null,null,null,null,null,null,null,null,null,null,null,null,null,null,null,null,null,{"$f":"IF(AND(REFERENTES!C551<>\"\",          REFERENTES!C551<>96321,    REFERENTES!C551<>96222            ),(REFERENTES!E551),\"\")","v":""},{"$f":"REFERENTES!C551","v":0},null,549,0,1290,"X",null,null,{"$f":"CONCATENATE(REFERENTES!A549,\"(\",REFERENTES!B549,\")\")","v":"()"},{"$f":"REFERENTES!C549","v":0}]
[null,null,null,null,null,null,null,null,null,null,null,null,null,null,null,null,null,null,null,null,null,null,null,null,null,null,null,null,{"$f":"IF(AND(REFERENTES!C552<>\"\",          REFERENTES!C552<>96321,    REFERENTES!C552<>96222            ),(REFERENTES!E552),\"\")","v":""},{"$f":"REFERENTES!C552","v":0},null,550,0,1290,"X",null,null,{"$f":"CONCATENATE(REFERENTES!A550,\"(\",REFERENTES!B550,\")\")","v":"()"},{"$f":"REFERENTES!C550","v":0}]
[null,null,null,null,null,null,null,null,null,null,null,null,null,null,null,null,null,null,null,null,null,null,null,null,null,null,null,null,{"$f":"IF(AND(REFERENTES!C553<>\"\",          REFERENTES!C553<>96321,    REFERENTES!C553<>96222            ),(REFERENTES!E553),\"\")","v":""},{"$f":"REFERENTES!C553","v":0},null,551,0,1290,"X",null,null,{"$f":"CONCATENATE(REFERENTES!A551,\"(\",REFERENTES!B551,\")\")","v":"()"},{"$f":"REFERENTES!C551","v":0}]
[null,null,null,null,null,null,null,null,null,null,null,null,null,null,null,null,null,null,null,null,null,null,null,null,null,null,null,null,{"$f":"IF(AND(REFERENTES!C554<>\"\",          REFERENTES!C554<>96321,    REFERENTES!C554<>96222            ),(REFERENTES!E554),\"\")","v":""},{"$f":"REFERENTES!C554","v":0},null,552,0,1290,"X",null,null,{"$f":"CONCATENATE(REFERENTES!A552,\"(\",REFERENTES!B552,\")\")","v":"()"},{"$f":"REFERENTES!C552","v":0}]
[null,null,null,null,null,null,null,null,null,null,null,null,null,null,null,null,null,null,null,null,null,null,null,null,null,null,null,null,{"$f":"IF(AND(REFERENTES!C555<>\"\",          REFERENTES!C555<>96321,    REFERENTES!C555<>96222            ),(REFERENTES!E555),\"\")","v":""},{"$f":"REFERENTES!C555","v":0},null,553,0,1290,"X",null,null,{"$f":"CONCATENATE(REFERENTES!A553,\"(\",REFERENTES!B553,\")\")","v":"()"},{"$f":"REFERENTES!C553","v":0}]
[null,null,null,null,null,null,null,null,null,null,null,null,null,null,null,null,null,null,null,null,null,null,null,null,null,null,null,null,{"$f":"IF(AND(REFERENTES!C556<>\"\",          REFERENTES!C556<>96321,    REFERENTES!C556<>96222            ),(REFERENTES!E556),\"\")","v":""},{"$f":"REFERENTES!C556","v":0},null,554,0,1290,"X",null,null,{"$f":"CONCATENATE(REFERENTES!A554,\"(\",REFERENTES!B554,\")\")","v":"()"},{"$f":"REFERENTES!C554","v":0}]
[null,null,null,null,null,null,null,null,null,null,null,null,null,null,null,null,null,null,null,null,null,null,null,null,null,null,null,null,{"$f":"IF(AND(REFERENTES!C557<>\"\",          REFERENTES!C557<>96321,    REFERENTES!C557<>96222            ),(REFERENTES!E557),\"\")","v":""},{"$f":"REFERENTES!C557","v":0},null,555,0,1290,"X",null,null,{"$f":"CONCATENATE(REFERENTES!A555,\"(\",REFERENTES!B555,\")\")","v":"()"},{"$f":"REFERENTES!C555","v":0}]
[null,null,null,null,null,null,null,null,null,null,null,null,null,null,null,null,null,null,null,null,null,null,null,null,null,null,null,null,{"$f":"IF(AND(REFERENTES!C558<>\"\",          REFERENTES!C558<>96321,    REFERENTES!C558<>96222            ),(REFERENTES!E558),\"\")","v":""},{"$f":"REFERENTES!C558","v":0},null,556,0,1290,"X",null,null,{"$f":"CONCATENATE(REFERENTES!A556,\"(\",REFERENTES!B556,\")\")","v":"()"},{"$f":"REFERENTES!C556","v":0}]
[null,null,null,null,null,null,null,null,null,null,null,null,null,null,null,null,null,null,null,null,null,null,null,null,null,null,null,null,{"$f":"IF(AND(REFERENTES!C559<>\"\",          REFERENTES!C559<>96321,    REFERENTES!C559<>96222            ),(REFERENTES!E559),\"\")","v":""},{"$f":"REFERENTES!C559","v":0},null,557,0,1290,"X",null,null,{"$f":"CONCATENATE(REFERENTES!A557,\"(\",REFERENTES!B557,\")\")","v":"()"},{"$f":"REFERENTES!C557","v":0}]
[null,null,null,null,null,null,null,null,null,null,null,null,null,null,null,null,null,null,null,null,null,null,null,null,null,null,null,null,{"$f":"IF(AND(REFERENTES!C560<>\"\",          REFERENTES!C560<>96321,    REFERENTES!C560<>96222            ),(REFERENTES!E560),\"\")","v":""},{"$f":"REFERENTES!C560","v":0},null,558,0,1290,"X",null,null,{"$f":"CONCATENATE(REFERENTES!A558,\"(\",REFERENTES!B558,\")\")","v":"()"},{"$f":"REFERENTES!C558","v":0}]
[null,null,null,null,null,null,null,null,null,null,null,null,null,null,null,null,null,null,null,null,null,null,null,null,null,null,null,null,{"$f":"IF(AND(REFERENTES!C561<>\"\",          REFERENTES!C561<>96321,    REFERENTES!C561<>96222            ),(REFERENTES!E561),\"\")","v":""},{"$f":"REFERENTES!C561","v":0},null,559,0,1290,"X",null,null,{"$f":"CONCATENATE(REFERENTES!A559,\"(\",REFERENTES!B559,\")\")","v":"()"},{"$f":"REFERENTES!C559","v":0}]
[null,null,null,null,null,null,null,null,null,null,null,null,null,null,null,null,null,null,null,null,null,null,null,null,null,null,null,null,{"$f":"IF(AND(REFERENTES!C562<>\"\",          REFERENTES!C562<>96321,    REFERENTES!C562<>96222            ),(REFERENTES!E562),\"\")","v":""},{"$f":"REFERENTES!C562","v":0},null,560,0,1290,"X",null,null,{"$f":"CONCATENATE(REFERENTES!A560,\"(\",REFERENTES!B560,\")\")","v":"()"},{"$f":"REFERENTES!C560","v":0}]
[null,null,null,null,null,null,null,null,null,null,null,null,null,null,null,null,null,null,null,null,null,null,null,null,null,null,null,null,{"$f":"IF(AND(REFERENTES!C563<>\"\",          REFERENTES!C563<>96321,    REFERENTES!C563<>96222            ),(REFERENTES!E563),\"\")","v":""},{"$f":"REFERENTES!C563","v":0},null,561,0,1290,"X",null,null,{"$f":"CONCATENATE(REFERENTES!A561,\"(\",REFERENTES!B561,\")\")","v":"()"},{"$f":"REFERENTES!C561","v":0}]
[null,null,null,null,null,null,null,null,null,null,null,null,null,null,null,null,null,null,null,null,null,null,null,null,null,null,null,null,{"$f":"IF(AND(REFERENTES!C564<>\"\",          REFERENTES!C564<>96321,    REFERENTES!C564<>96222            ),(REFERENTES!E564),\"\")","v":""},{"$f":"REFERENTES!C564","v":0},null,562,0,1290,"X",null,null,{"$f":"CONCATENATE(REFERENTES!A562,\"(\",REFERENTES!B562,\")\")","v":"()"},{"$f":"REFERENTES!C562","v":0}]
[null,null,null,null,null,null,null,null,null,null,null,null,null,null,null,null,null,null,null,null,null,null,null,null,null,null,null,null,{"$f":"IF(AND(REFERENTES!C565<>\"\",          REFERENTES!C565<>96321,    REFERENTES!C565<>96222            ),(REFERENTES!E565),\"\")","v":""},{"$f":"REFERENTES!C565","v":0},null,563,0,1290,"X",null,null,{"$f":"CONCATENATE(REFERENTES!A563,\"(\",REFERENTES!B563,\")\")","v":"()"},{"$f":"REFERENTES!C563","v":0}]
[null,null,null,null,null,null,null,null,null,null,null,null,null,null,null,null,null,null,null,null,null,null,null,null,null,null,null,null,{"$f":"IF(AND(REFERENTES!C566<>\"\",          REFERENTES!C566<>96321,    REFERENTES!C566<>96222            ),(REFERENTES!E566),\"\")","v":""},{"$f":"REFERENTES!C566","v":0},null,564,0,1290,"X",null,null,{"$f":"CONCATENATE(REFERENTES!A564,\"(\",REFERENTES!B564,\")\")","v":"()"},{"$f":"REFERENTES!C564","v":0}]
[null,null,null,null,null,null,null,null,null,null,null,null,null,null,null,null,null,null,null,null,null,null,null,null,null,null,null,null,{"$f":"IF(AND(REFERENTES!C567<>\"\",          REFERENTES!C567<>96321,    REFERENTES!C567<>96222            ),(REFERENTES!E567),\"\")","v":""},{"$f":"REFERENTES!C567","v":0},null,565,0,1290,"X",null,null,{"$f":"CONCATENATE(REFERENTES!A565,\"(\",REFERENTES!B565,\")\")","v":"()"},{"$f":"REFERENTES!C565","v":0}]
[null,null,null,null,null,null,null,null,null,null,null,null,null,null,null,null,null,null,null,null,null,null,null,null,null,null,null,null,{"$f":"IF(AND(REFERENTES!C568<>\"\",          REFERENTES!C568<>96321,    REFERENTES!C568<>96222            ),(REFERENTES!E568),\"\")","v":""},{"$f":"REFERENTES!C568","v":0},null,566,0,1290,"X",null,null,{"$f":"CONCATENATE(REFERENTES!A566,\"(\",REFERENTES!B566,\")\")","v":"()"},{"$f":"REFERENTES!C566","v":0}]
[null,null,null,null,null,null,null,null,null,null,null,null,null,null,null,null,null,null,null,null,null,null,null,null,null,null,null,null,{"$f":"IF(AND(REFERENTES!C569<>\"\",          REFERENTES!C569<>96321,    REFERENTES!C569<>96222            ),(REFERENTES!E569),\"\")","v":""},{"$f":"REFERENTES!C569","v":0},null,567,0,1290,"X",null,null,{"$f":"CONCATENATE(REFERENTES!A567,\"(\",REFERENTES!B567,\")\")","v":"()"},{"$f":"REFERENTES!C567","v":0}]
[null,null,null,null,null,null,null,null,null,null,null,null,null,null,null,null,null,null,null,null,null,null,null,null,null,null,null,null,{"$f":"IF(AND(REFERENTES!C570<>\"\",          REFERENTES!C570<>96321,    REFERENTES!C570<>96222            ),(REFERENTES!E570),\"\")","v":""},{"$f":"REFERENTES!C570","v":0},null,568,0,1290,"X",null,null,{"$f":"CONCATENATE(REFERENTES!A568,\"(\",REFERENTES!B568,\")\")","v":"()"},{"$f":"REFERENTES!C568","v":0}]
[null,null,null,null,null,null,null,null,null,null,null,null,null,null,null,null,null,null,null,null,null,null,null,null,null,null,null,null,{"$f":"IF(AND(REFERENTES!C571<>\"\",          REFERENTES!C571<>96321,    REFERENTES!C571<>96222            ),(REFERENTES!E571),\"\")","v":""},{"$f":"REFERENTES!C571","v":0},null,569,0,1290,"X",null,null,{"$f":"CONCATENATE(REFERENTES!A569,\"(\",REFERENTES!B569,\")\")","v":"()"},{"$f":"REFERENTES!C569","v":0}]
[null,null,null,null,null,null,null,null,null,null,null,null,null,null,null,null,null,null,null,null,null,null,null,null,null,null,null,null,{"$f":"IF(AND(REFERENTES!C572<>\"\",          REFERENTES!C572<>96321,    REFERENTES!C572<>96222            ),(REFERENTES!E572),\"\")","v":""},{"$f":"REFERENTES!C572","v":0},null,570,0,1290,"X",null,null,{"$f":"CONCATENATE(REFERENTES!A570,\"(\",REFERENTES!B570,\")\")","v":"()"},{"$f":"REFERENTES!C570","v":0}]
[null,null,null,null,null,null,null,null,null,null,null,null,null,null,null,null,null,null,null,null,null,null,null,null,null,null,null,null,{"$f":"IF(AND(REFERENTES!C573<>\"\",          REFERENTES!C573<>96321,    REFERENTES!C573<>96222            ),(REFERENTES!E573),\"\")","v":""},{"$f":"REFERENTES!C573","v":0},null,571,0,1290,"X",null,null,{"$f":"CONCATENATE(REFERENTES!A571,\"(\",REFERENTES!B571,\")\")","v":"()"},{"$f":"REFERENTES!C571","v":0}]
[null,null,null,null,null,null,null,null,null,null,null,null,null,null,null,null,null,null,null,null,null,null,null,null,null,null,null,null,{"$f":"IF(AND(REFERENTES!C574<>\"\",          REFERENTES!C574<>96321,    REFERENTES!C574<>96222            ),(REFERENTES!E574),\"\")","v":""},{"$f":"REFERENTES!C574","v":0},null,572,0,1290,"X",null,null,{"$f":"CONCATENATE(REFERENTES!A572,\"(\",REFERENTES!B572,\")\")","v":"()"},{"$f":"REFERENTES!C572","v":0}]
[null,null,null,null,null,null,null,null,null,null,null,null,null,null,null,null,null,null,null,null,null,null,null,null,null,null,null,null,{"$f":"IF(AND(REFERENTES!C575<>\"\",          REFERENTES!C575<>96321,    REFERENTES!C575<>96222            ),(REFERENTES!E575),\"\")","v":""},{"$f":"REFERENTES!C575","v":0},null,573,0,1290,"X",null,null,{"$f":"CONCATENATE(REFERENTES!A573,\"(\",REFERENTES!B573,\")\")","v":"()"},{"$f":"REFERENTES!C573","v":0}]
[null,null,null,null,null,null,null,null,null,null,null,null,null,null,null,null,null,null,null,null,null,null,null,null,null,null,null,null,{"$f":"IF(AND(REFERENTES!C576<>\"\",          REFERENTES!C576<>96321,    REFERENTES!C576<>96222            ),(REFERENTES!E576),\"\")","v":""},{"$f":"REFERENTES!C576","v":0},null,574,0,1290,"X",null,null,{"$f":"CONCATENATE(REFERENTES!A574,\"(\",REFERENTES!B574,\")\")","v":"()"},{"$f":"REFERENTES!C574","v":0}]
[null,null,null,null,null,null,null,null,null,null,null,null,null,null,null,null,null,null,null,null,null,null,null,null,null,null,null,null,{"$f":"IF(AND(REFERENTES!C577<>\"\",          REFERENTES!C577<>96321,    REFERENTES!C577<>96222            ),(REFERENTES!E577),\"\")","v":""},{"$f":"REFERENTES!C577","v":0},null,575,0,1290,"X",null,null,{"$f":"CONCATENATE(REFERENTES!A575,\"(\",REFERENTES!B575,\")\")","v":"()"},{"$f":"REFERENTES!C575","v":0}]
[null,null,null,null,null,null,null,null,null,null,null,null,null,null,null,null,null,null,null,null,null,null,null,null,null,null,null,null,{"$f":"IF(AND(REFERENTES!C578<>\"\",          REFERENTES!C578<>96321,    REFERENTES!C578<>96222            ),(REFERENTES!E578),\"\")","v":""},{"$f":"REFERENTES!C578","v":0},null,576,0,1290,"X",null,null,{"$f":"CONCATENATE(REFERENTES!A576,\"(\",REFERENTES!B576,\")\")","v":"()"},{"$f":"REFERENTES!C576","v":0}]
[null,null,null,null,null,null,null,null,null,null,null,null,null,null,null,null,null,null,null,null,null,null,null,null,null,null,null,null,{"$f":"IF(AND(REFERENTES!C579<>\"\",          REFERENTES!C579<>96321,    REFERENTES!C579<>96222            ),(REFERENTES!E579),\"\")","v":""},{"$f":"REFERENTES!C579","v":0},null,577,0,1290,"X",null,null,{"$f":"CONCATENATE(REFERENTES!A577,\"(\",REFERENTES!B577,\")\")","v":"()"},{"$f":"REFERENTES!C577","v":0}]
[null,null,null,null,null,null,null,null,null,null,null,null,null,null,null,null,null,null,null,null,null,null,null,null,null,null,null,null,{"$f":"IF(AND(REFERENTES!C580<>\"\",          REFERENTES!C580<>96321,    REFERENTES!C580<>96222            ),(REFERENTES!E580),\"\")","v":""},{"$f":"REFERENTES!C580","v":0},null,578,{"$f":"IF(AC582=\"\",0,AC582)","v":0},{"$f":"IF(AG583=0,MAX($AF$6:$AF$1294)+1,AF583)","v":1290},{"$f":"IFERROR(VLOOKUP(SMALL($AH$6:$AH$1294,AF583),$AF$6:$AH$1294,2,FALSE),\"X\")","v":"X"},null,null,{"$f":"CONCATENATE(REFERENTES!A578,\"(\",REFERENTES!B578,\")\")","v":"()"},{"$f":"REFERENTES!C578","v":0}]
[null,null,null,null,null,null,null,null,null,null,null,null,null,null,null,null,null,null,null,null,null,null,null,null,null,null,null,null,{"$f":"IF(AND(REFERENTES!C581<>\"\",          REFERENTES!C581<>96321,    REFERENTES!C581<>96222            ),(REFERENTES!E581),\"\")","v":""},{"$f":"REFERENTES!C581","v":0},null,579,0,1290,"X",null,null,{"$f":"CONCATENATE(REFERENTES!A579,\"(\",REFERENTES!B579,\")\")","v":"()"},{"$f":"REFERENTES!C579","v":0}]
[null,null,null,null,null,null,null,null,null,null,null,null,null,null,null,null,null,null,null,null,null,null,null,null,null,null,null,null,{"$f":"IF(AND(REFERENTES!C582<>\"\",          REFERENTES!C582<>96321,    REFERENTES!C582<>96222            ),(REFERENTES!E582),\"\")","v":""},{"$f":"REFERENTES!C582","v":0},null,580,0,1290,"X",null,null,{"$f":"CONCATENATE(REFERENTES!A580,\"(\",REFERENTES!B580,\")\")","v":"()"},{"$f":"REFERENTES!C580","v":0}]
[null,null,null,null,null,null,null,null,null,null,null,null,null,null,null,null,null,null,null,null,null,null,null,null,null,null,null,null,{"$f":"IF(AND(REFERENTES!C583<>\"\",          REFERENTES!C583<>96321,    REFERENTES!C583<>96222            ),(REFERENTES!E583),\"\")","v":""},{"$f":"REFERENTES!C583","v":0},null,581,0,1290,"X",null,null,{"$f":"CONCATENATE(REFERENTES!A581,\"(\",REFERENTES!B581,\")\")","v":"()"},{"$f":"REFERENTES!C581","v":0}]
[null,null,null,null,null,null,null,null,null,null,null,null,null,null,null,null,null,null,null,null,null,null,null,null,null,null,null,null,{"$f":"IF(AND(REFERENTES!C584<>\"\",          REFERENTES!C584<>96321,    REFERENTES!C584<>96222            ),(REFERENTES!E584),\"\")","v":""},{"$f":"REFERENTES!C584","v":0},null,582,0,1290,"X",null,null,{"$f":"CONCATENATE(REFERENTES!A582,\"(\",REFERENTES!B582,\")\")","v":"()"},{"$f":"REFERENTES!C582","v":0}]
[null,null,null,null,null,null,null,null,null,null,null,null,null,null,null,null,null,null,null,null,null,null,null,null,null,null,null,null,{"$f":"IF(AND(REFERENTES!C585<>\"\",          REFERENTES!C585<>96321,    REFERENTES!C585<>96222            ),(REFERENTES!E585),\"\")","v":""},{"$f":"REFERENTES!C585","v":0},null,583,0,1290,"X",null,null,{"$f":"CONCATENATE(REFERENTES!A583,\"(\",REFERENTES!B583,\")\")","v":"()"},{"$f":"REFERENTES!C583","v":0}]
[null,null,null,null,null,null,null,null,null,null,null,null,null,null,null,null,null,null,null,null,null,null,null,null,null,null,null,null,{"$f":"IF(AND(REFERENTES!C586<>\"\",          REFERENTES!C586<>96321,    REFERENTES!C586<>96222            ),(REFERENTES!E586),\"\")","v":""},{"$f":"REFERENTES!C586","v":0},null,584,0,1290,"X",null,null,{"$f":"CONCATENATE(REFERENTES!A584,\"(\",REFERENTES!B584,\")\")","v":"()"},{"$f":"REFERENTES!C584","v":0}]
[null,null,null,null,null,null,null,null,null,null,null,null,null,null,null,null,null,null,null,null,null,null,null,null,null,null,null,null,{"$f":"IF(AND(REFERENTES!C587<>\"\",          REFERENTES!C587<>96321,    REFERENTES!C587<>96222            ),(REFERENTES!E587),\"\")","v":""},{"$f":"REFERENTES!C587","v":0},null,585,0,1290,"X",null,null,{"$f":"CONCATENATE(REFERENTES!A585,\"(\",REFERENTES!B585,\")\")","v":"()"},{"$f":"REFERENTES!C585","v":0}]
[null,null,null,null,null,null,null,null,null,null,null,null,null,null,null,null,null,null,null,null,null,null,null,null,null,null,null,null,{"$f":"IF(AND(REFERENTES!C588<>\"\",          REFERENTES!C588<>96321,    REFERENTES!C588<>96222            ),(REFERENTES!E588),\"\")","v":""},{"$f":"REFERENTES!C588","v":0},null,586,0,1290,"X",null,null,{"$f":"CONCATENATE(REFERENTES!A586,\"(\",REFERENTES!B586,\")\")","v":"()"},{"$f":"REFERENTES!C586","v":0}]
[null,null,null,null,null,null,null,null,null,null,null,null,null,null,null,null,null,null,null,null,null,null,null,null,null,null,null,null,{"$f":"IF(AND(REFERENTES!C589<>\"\",          REFERENTES!C589<>96321,    REFERENTES!C589<>96222            ),(REFERENTES!E589),\"\")","v":""},{"$f":"REFERENTES!C589","v":0},null,587,0,1290,"X",null,null,{"$f":"CONCATENATE(REFERENTES!A587,\"(\",REFERENTES!B587,\")\")","v":"()"},{"$f":"REFERENTES!C587","v":0}]
[null,null,null,null,null,null,null,null,null,null,null,null,null,null,null,null,null,null,null,null,null,null,null,null,null,null,null,null,{"$f":"IF(AND(REFERENTES!C590<>\"\",          REFERENTES!C590<>96321,    REFERENTES!C590<>96222            ),(REFERENTES!E590),\"\")","v":""},{"$f":"REFERENTES!C590","v":0},null,588,0,1290,"X",null,null,{"$f":"CONCATENATE(REFERENTES!A588,\"(\",REFERENTES!B588,\")\")","v":"()"},{"$f":"REFERENTES!C588","v":0}]
[null,null,null,null,null,null,null,null,null,null,null,null,null,null,null,null,null,null,null,null,null,null,null,null,null,null,null,null,{"$f":"IF(AND(REFERENTES!C591<>\"\",          REFERENTES!C591<>96321,    REFERENTES!C591<>96222            ),(REFERENTES!E591),\"\")","v":""},{"$f":"REFERENTES!C591","v":0},null,589,0,1290,"X",null,null,{"$f":"CONCATENATE(REFERENTES!A589,\"(\",REFERENTES!B589,\")\")","v":"()"},{"$f":"REFERENTES!C589","v":0}]
[null,null,null,null,null,null,null,null,null,null,null,null,null,null,null,null,null,null,null,null,null,null,null,null,null,null,null,null,{"$f":"IF(AND(REFERENTES!C592<>\"\",          REFERENTES!C592<>96321,    REFERENTES!C592<>96222            ),(REFERENTES!E592),\"\")","v":""},{"$f":"REFERENTES!C592","v":0},null,590,0,1290,"X",null,null,{"$f":"CONCATENATE(REFERENTES!A590,\"(\",REFERENTES!B590,\")\")","v":"()"},{"$f":"REFERENTES!C590","v":0}]
[null,null,null,null,null,null,null,null,null,null,null,null,null,null,null,null,null,null,null,null,null,null,null,null,null,null,null,null,{"$f":"IF(AND(REFERENTES!C593<>\"\",          REFERENTES!C593<>96321,    REFERENTES!C593<>96222            ),(REFERENTES!E593),\"\")","v":""},{"$f":"REFERENTES!C593","v":0},null,591,0,1290,"X",null,null,{"$f":"CONCATENATE(REFERENTES!A591,\"(\",REFERENTES!B591,\")\")","v":"()"},{"$f":"REFERENTES!C591","v":0}]
[null,null,null,null,null,null,null,null,null,null,null,null,null,null,null,null,null,null,null,null,null,null,null,null,null,null,null,null,{"$f":"IF(AND(REFERENTES!C594<>\"\",          REFERENTES!C594<>96321,    REFERENTES!C594<>96222            ),(REFERENTES!E594),\"\")","v":""},{"$f":"REFERENTES!C594","v":0},null,592,0,1290,"X",null,null,{"$f":"CONCATENATE(REFERENTES!A592,\"(\",REFERENTES!B592,\")\")","v":"()"},{"$f":"REFERENTES!C592","v":0}]
[null,null,null,null,null,null,null,null,null,null,null,null,null,null,null,null,null,null,null,null,null,null,null,null,null,null,null,null,{"$f":"IF(AND(REFERENTES!C595<>\"\",          REFERENTES!C595<>96321,    REFERENTES!C595<>96222            ),(REFERENTES!E595),\"\")","v":""},{"$f":"REFERENTES!C595","v":0},null,593,0,1290,"X",null,null,{"$f":"CONCATENATE(REFERENTES!A593,\"(\",REFERENTES!B593,\")\")","v":"()"},{"$f":"REFERENTES!C593","v":0}]
[null,null,null,null,null,null,null,null,null,null,null,null,null,null,null,null,null,null,null,null,null,null,null,null,null,null,null,null,{"$f":"IF(AND(REFERENTES!C596<>\"\",          REFERENTES!C596<>96321,    REFERENTES!C596<>96222            ),(REFERENTES!E596),\"\")","v":""},{"$f":"REFERENTES!C596","v":0},null,594,0,1290,"X",null,null,{"$f":"CONCATENATE(REFERENTES!A594,\"(\",REFERENTES!B594,\")\")","v":"()"},{"$f":"REFERENTES!C594","v":0}]
[null,null,null,null,null,null,null,null,null,null,null,null,null,null,null,null,null,null,null,null,null,null,null,null,null,null,null,null,{"$f":"IF(AND(REFERENTES!C597<>\"\",          REFERENTES!C597<>96321,    REFERENTES!C597<>96222            ),(REFERENTES!E597),\"\")","v":""},{"$f":"REFERENTES!C597","v":0},null,595,0,1290,"X",null,null,{"$f":"CONCATENATE(REFERENTES!A595,\"(\",REFERENTES!B595,\")\")","v":"()"},{"$f":"REFERENTES!C595","v":0}]
[null,null,null,null,null,null,null,null,null,null,null,null,null,null,null,null,null,null,null,null,null,null,null,null,null,null,null,null,{"$f":"IF(AND(REFERENTES!C598<>\"\",          REFERENTES!C598<>96321,    REFERENTES!C598<>96222            ),(REFERENTES!E598),\"\")","v":""},{"$f":"REFERENTES!C598","v":0},null,596,0,1290,"X",null,null,{"$f":"CONCATENATE(REFERENTES!A596,\"(\",REFERENTES!B596,\")\")","v":"()"},{"$f":"REFERENTES!C596","v":0}]
[null,null,null,null,null,null,null,null,null,null,null,null,null,null,null,null,null,null,null,null,null,null,null,null,null,null,null,null,{"$f":"IF(AND(REFERENTES!C599<>\"\",          REFERENTES!C599<>96321,    REFERENTES!C599<>96222            ),(REFERENTES!E599),\"\")","v":""},{"$f":"REFERENTES!C599","v":0},null,597,0,1290,"X",null,null,{"$f":"CONCATENATE(REFERENTES!A597,\"(\",REFERENTES!B597,\")\")","v":"()"},{"$f":"REFERENTES!C597","v":0}]
[null,null,null,null,null,null,null,null,null,null,null,null,null,null,null,null,null,null,null,null,null,null,null,null,null,null,null,null,{"$f":"IF(AND(REFERENTES!C600<>\"\",          REFERENTES!C600<>96321,    REFERENTES!C600<>96222            ),(REFERENTES!E600),\"\")","v":""},{"$f":"REFERENTES!C600","v":0},null,598,0,1290,"X",null,null,{"$f":"CONCATENATE(REFERENTES!A598,\"(\",REFERENTES!B598,\")\")","v":"()"},{"$f":"REFERENTES!C598","v":0}]
[null,null,null,null,null,null,null,null,null,null,null,null,null,null,null,null,null,null,null,null,null,null,null,null,null,null,null,null,{"$f":"IF(AND(REFERENTES!C601<>\"\",          REFERENTES!C601<>96321,    REFERENTES!C601<>96222            ),(REFERENTES!E601),\"\")","v":""},{"$f":"REFERENTES!C601","v":0},null,599,0,1290,"X",null,null,{"$f":"CONCATENATE(REFERENTES!A599,\"(\",REFERENTES!B599,\")\")","v":"()"},{"$f":"REFERENTES!C599","v":0}]
[null,null,null,null,null,null,null,null,null,null,null,null,null,null,null,null,null,null,null,null,null,null,null,null,null,null,null,null,{"$f":"IF(AND(REFERENTES!C602<>\"\",          REFERENTES!C602<>96321,    REFERENTES!C602<>96222            ),(REFERENTES!E602),\"\")","v":""},{"$f":"REFERENTES!C602","v":0},null,600,0,1290,"X",null,null,{"$f":"CONCATENATE(REFERENTES!A600,\"(\",REFERENTES!B600,\")\")","v":"()"},{"$f":"REFERENTES!C600","v":0}]
[null,null,null,null,null,null,null,null,null,null,null,null,null,null,null,null,null,null,null,null,null,null,null,null,null,null,null,null,{"$f":"IF(AND(REFERENTES!C603<>\"\",          REFERENTES!C603<>96321,    REFERENTES!C603<>96222            ),(REFERENTES!E603),\"\")","v":""},{"$f":"REFERENTES!C603","v":0},null,601,0,1290,"X",null,null,{"$f":"CONCATENATE(REFERENTES!A601,\"(\",REFERENTES!B601,\")\")","v":"()"},{"$f":"REFERENTES!C601","v":0}]
[null,null,null,null,null,null,null,null,null,null,null,null,null,null,null,null,null,null,null,null,null,null,null,null,null,null,null,null,{"$f":"IF(AND(REFERENTES!C604<>\"\",          REFERENTES!C604<>96321,    REFERENTES!C604<>96222            ),(REFERENTES!E604),\"\")","v":""},{"$f":"REFERENTES!C604","v":0},null,602,0,1290,"X",null,null,{"$f":"CONCATENATE(REFERENTES!A602,\"(\",REFERENTES!B602,\")\")","v":"()"},{"$f":"REFERENTES!C602","v":0}]
[null,null,null,null,null,null,null,null,null,null,null,null,null,null,null,null,null,null,null,null,null,null,null,null,null,null,null,null,{"$f":"IF(AND(REFERENTES!C605<>\"\",          REFERENTES!C605<>96321,    REFERENTES!C605<>96222            ),(REFERENTES!E605),\"\")","v":""},{"$f":"REFERENTES!C605","v":0},null,603,0,1290,"X",null,null,{"$f":"CONCATENATE(REFERENTES!A603,\"(\",REFERENTES!B603,\")\")","v":"()"},{"$f":"REFERENTES!C603","v":0}]
[null,null,null,null,null,null,null,null,null,null,null,null,null,null,null,null,null,null,null,null,null,null,null,null,null,null,null,null,{"$f":"IF(AND(REFERENTES!C606<>\"\",          REFERENTES!C606<>96321,    REFERENTES!C606<>96222            ),(REFERENTES!E606),\"\")","v":""},{"$f":"REFERENTES!C606","v":0},null,604,0,1290,"X",null,null,{"$f":"CONCATENATE(REFERENTES!A604,\"(\",REFERENTES!B604,\")\")","v":"()"},{"$f":"REFERENTES!C604","v":0}]
[null,null,null,null,null,null,null,null,null,null,null,null,null,null,null,null,null,null,null,null,null,null,null,null,null,null,null,null,{"$f":"IF(AND(REFERENTES!C607<>\"\",          REFERENTES!C607<>96321,    REFERENTES!C607<>96222            ),(REFERENTES!E607),\"\")","v":""},{"$f":"REFERENTES!C607","v":0},null,605,0,1290,"X",null,null,{"$f":"CONCATENATE(REFERENTES!A605,\"(\",REFERENTES!B605,\")\")","v":"()"},{"$f":"REFERENTES!C605","v":0}]
[null,null,null,null,null,null,null,null,null,null,null,null,null,null,null,null,null,null,null,null,null,null,null,null,null,null,null,null,{"$f":"IF(AND(REFERENTES!C608<>\"\",          REFERENTES!C608<>96321,    REFERENTES!C608<>96222            ),(REFERENTES!E608),\"\")","v":""},{"$f":"REFERENTES!C608","v":0},null,606,0,1290,"X",null,null,{"$f":"CONCATENATE(REFERENTES!A606,\"(\",REFERENTES!B606,\")\")","v":"()"},{"$f":"REFERENTES!C606","v":0}]
[null,null,null,null,null,null,null,null,null,null,null,null,null,null,null,null,null,null,null,null,null,null,null,null,null,null,null,null,{"$f":"IF(AND(REFERENTES!C609<>\"\",          REFERENTES!C609<>96321,    REFERENTES!C609<>96222            ),(REFERENTES!E609),\"\")","v":""},{"$f":"REFERENTES!C609","v":0},null,607,0,1290,"X",null,null,{"$f":"CONCATENATE(REFERENTES!A607,\"(\",REFERENTES!B607,\")\")","v":"()"},{"$f":"REFERENTES!C607","v":0}]
[null,null,null,null,null,null,null,null,null,null,null,null,null,null,null,null,null,null,null,null,null,null,null,null,null,null,null,null,{"$f":"IF(AND(REFERENTES!C610<>\"\",          REFERENTES!C610<>96321,    REFERENTES!C610<>96222            ),(REFERENTES!E610),\"\")","v":""},{"$f":"REFERENTES!C610","v":0},null,608,0,1290,"X",null,null,{"$f":"CONCATENATE(REFERENTES!A608,\"(\",REFERENTES!B608,\")\")","v":"()"},{"$f":"REFERENTES!C608","v":0}]
[null,null,null,null,null,null,null,null,null,null,null,null,null,null,null,null,null,null,null,null,null,null,null,null,null,null,null,null,{"$f":"IF(AND(REFERENTES!C611<>\"\",          REFERENTES!C611<>96321,    REFERENTES!C611<>96222            ),(REFERENTES!E611),\"\")","v":""},{"$f":"REFERENTES!C611","v":0},null,609,0,1290,"X",null,null,{"$f":"CONCATENATE(REFERENTES!A609,\"(\",REFERENTES!B609,\")\")","v":"()"},{"$f":"REFERENTES!C609","v":0}]
[null,null,null,null,null,null,null,null,null,null,null,null,null,null,null,null,null,null,null,null,null,null,null,null,null,null,null,null,{"$f":"IF(AND(REFERENTES!C612<>\"\",          REFERENTES!C612<>96321,    REFERENTES!C612<>96222            ),(REFERENTES!E612),\"\")","v":""},{"$f":"REFERENTES!C612","v":0},null,610,0,1290,"X",null,null,{"$f":"CONCATENATE(REFERENTES!A610,\"(\",REFERENTES!B610,\")\")","v":"()"},{"$f":"REFERENTES!C610","v":0}]
[null,null,null,null,null,null,null,null,null,null,null,null,null,null,null,null,null,null,null,null,null,null,null,null,null,null,null,null,{"$f":"IF(AND(REFERENTES!C613<>\"\",          REFERENTES!C613<>96321,    REFERENTES!C613<>96222            ),(REFERENTES!E613),\"\")","v":""},{"$f":"REFERENTES!C613","v":0},null,611,0,1290,"X",null,null,{"$f":"CONCATENATE(REFERENTES!A611,\"(\",REFERENTES!B611,\")\")","v":"()"},{"$f":"REFERENTES!C611","v":0}]
[null,null,null,null,null,null,null,null,null,null,null,null,null,null,null,null,null,null,null,null,null,null,null,null,null,null,null,null,{"$f":"IF(AND(REFERENTES!C614<>\"\",          REFERENTES!C614<>96321,    REFERENTES!C614<>96222            ),(REFERENTES!E614),\"\")","v":""},{"$f":"REFERENTES!C614","v":0},null,612,0,1290,"X",null,null,{"$f":"CONCATENATE(REFERENTES!A612,\"(\",REFERENTES!B612,\")\")","v":"()"},{"$f":"REFERENTES!C612","v":0}]
[null,null,null,null,null,null,null,null,null,null,null,null,null,null,null,null,null,null,null,null,null,null,null,null,null,null,null,null,{"$f":"IF(AND(REFERENTES!C615<>\"\",          REFERENTES!C615<>96321,    REFERENTES!C615<>96222            ),(REFERENTES!E615),\"\")","v":""},{"$f":"REFERENTES!C615","v":0},null,613,0,1290,"X",null,null,{"$f":"CONCATENATE(REFERENTES!A613,\"(\",REFERENTES!B613,\")\")","v":"()"},{"$f":"REFERENTES!C613","v":0}]
[null,null,null,null,null,null,null,null,null,null,null,null,null,null,null,null,null,null,null,null,null,null,null,null,null,null,null,null,{"$f":"IF(AND(REFERENTES!C616<>\"\",          REFERENTES!C616<>96321,    REFERENTES!C616<>96222            ),(REFERENTES!E616),\"\")","v":""},{"$f":"REFERENTES!C616","v":0},null,614,0,1290,"X",null,null,{"$f":"CONCATENATE(REFERENTES!A614,\"(\",REFERENTES!B614,\")\")","v":"()"},{"$f":"REFERENTES!C614","v":0}]
[null,null,null,null,null,null,null,null,null,null,null,null,null,null,null,null,null,null,null,null,null,null,null,null,null,null,null,null,{"$f":"IF(AND(REFERENTES!C617<>\"\",          REFERENTES!C617<>96321,    REFERENTES!C617<>96222            ),(REFERENTES!E617),\"\")","v":""},{"$f":"REFERENTES!C617","v":0},null,615,0,1290,"X",null,null,{"$f":"CONCATENATE(REFERENTES!A615,\"(\",REFERENTES!B615,\")\")","v":"()"},{"$f":"REFERENTES!C615","v":0}]
[null,null,null,null,null,null,null,null,null,null,null,null,null,null,null,null,null,null,null,null,null,null,null,null,null,null,null,null,{"$f":"IF(AND(REFERENTES!C618<>\"\",          REFERENTES!C618<>96321,    REFERENTES!C618<>96222            ),(REFERENTES!E618),\"\")","v":""},{"$f":"REFERENTES!C618","v":0},null,616,0,1290,"X",null,null,{"$f":"CONCATENATE(REFERENTES!A616,\"(\",REFERENTES!B616,\")\")","v":"()"},{"$f":"REFERENTES!C616","v":0}]
[null,null,null,null,null,null,null,null,null,null,null,null,null,null,null,null,null,null,null,null,null,null,null,null,null,null,null,null,{"$f":"IF(AND(REFERENTES!C619<>\"\",          REFERENTES!C619<>96321,    REFERENTES!C619<>96222            ),(REFERENTES!E619),\"\")","v":""},{"$f":"REFERENTES!C619","v":0},null,617,0,1290,"X",null,null,{"$f":"CONCATENATE(REFERENTES!A617,\"(\",REFERENTES!B617,\")\")","v":"()"},{"$f":"REFERENTES!C617","v":0}]
[null,null,null,null,null,null,null,null,null,null,null,null,null,null,null,null,null,null,null,null,null,null,null,null,null,null,null,null,{"$f":"IF(AND(REFERENTES!C620<>\"\",          REFERENTES!C620<>96321,    REFERENTES!C620<>96222            ),(REFERENTES!E620),\"\")","v":""},{"$f":"REFERENTES!C620","v":0},null,618,0,1290,"X",null,null,{"$f":"CONCATENATE(REFERENTES!A618,\"(\",REFERENTES!B618,\")\")","v":"()"},{"$f":"REFERENTES!C618","v":0}]
[null,null,null,null,null,null,null,null,null,null,null,null,null,null,null,null,null,null,null,null,null,null,null,null,null,null,null,null,{"$f":"IF(AND(REFERENTES!C621<>\"\",          REFERENTES!C621<>96321,    REFERENTES!C621<>96222            ),(REFERENTES!E621),\"\")","v":""},{"$f":"REFERENTES!C621","v":0},null,619,0,1290,"X",null,null,{"$f":"CONCATENATE(REFERENTES!A619,\"(\",REFERENTES!B619,\")\")","v":"()"},{"$f":"REFERENTES!C619","v":0}]
[null,null,null,null,null,null,null,null,null,null,null,null,null,null,null,null,null,null,null,null,null,null,null,null,null,null,null,null,{"$f":"IF(AND(REFERENTES!C622<>\"\",          REFERENTES!C622<>96321,    REFERENTES!C622<>96222            ),(REFERENTES!E622),\"\")","v":""},{"$f":"REFERENTES!C622","v":0},null,620,0,1290,"X",null,null,{"$f":"CONCATENATE(REFERENTES!A620,\"(\",REFERENTES!B620,\")\")","v":"()"},{"$f":"REFERENTES!C620","v":0}]
[null,null,null,null,null,null,null,null,null,null,null,null,null,null,null,null,null,null,null,null,null,null,null,null,null,null,null,null,{"$f":"IF(AND(REFERENTES!C623<>\"\",          REFERENTES!C623<>96321,    REFERENTES!C623<>96222            ),(REFERENTES!E623),\"\")","v":""},{"$f":"REFERENTES!C623","v":0},null,621,0,1290,"X",null,null,{"$f":"CONCATENATE(REFERENTES!A621,\"(\",REFERENTES!B621,\")\")","v":"()"},{"$f":"REFERENTES!C621","v":0}]
[null,null,null,null,null,null,null,null,null,null,null,null,null,null,null,null,null,null,null,null,null,null,null,null,null,null,null,null,{"$f":"IF(AND(REFERENTES!C624<>\"\",          REFERENTES!C624<>96321,    REFERENTES!C624<>96222            ),(REFERENTES!E624),\"\")","v":""},{"$f":"REFERENTES!C624","v":0},null,622,0,1290,"X",null,null,{"$f":"CONCATENATE(REFERENTES!A622,\"(\",REFERENTES!B622,\")\")","v":"()"},{"$f":"REFERENTES!C622","v":0}]
[null,null,null,null,null,null,null,null,null,null,null,null,null,null,null,null,null,null,null,null,null,null,null,null,null,null,null,null,{"$f":"IF(AND(REFERENTES!C625<>\"\",          REFERENTES!C625<>96321,    REFERENTES!C625<>96222            ),(REFERENTES!E625),\"\")","v":""},{"$f":"REFERENTES!C625","v":0},null,623,0,1290,"X",null,null,{"$f":"CONCATENATE(REFERENTES!A623,\"(\",REFERENTES!B623,\")\")","v":"()"},{"$f":"REFERENTES!C623","v":0}]
[null,null,null,null,null,null,null,null,null,null,null,null,null,null,null,null,null,null,null,null,null,null,null,null,null,null,null,null,{"$f":"IF(AND(REFERENTES!C626<>\"\",          REFERENTES!C626<>96321,    REFERENTES!C626<>96222            ),(REFERENTES!E626),\"\")","v":""},{"$f":"REFERENTES!C626","v":0},null,624,0,1290,"X",null,null,{"$f":"CONCATENATE(REFERENTES!A624,\"(\",REFERENTES!B624,\")\")","v":"()"},{"$f":"REFERENTES!C624","v":0}]
[null,null,null,null,null,null,null,null,null,null,null,null,null,null,null,null,null,null,null,null,null,null,null,null,null,null,null,null,{"$f":"IF(AND(REFERENTES!C627<>\"\",          REFERENTES!C627<>96321,    REFERENTES!C627<>96222            ),(REFERENTES!E627),\"\")","v":""},{"$f":"REFERENTES!C627","v":0},null,625,0,1290,"X",null,null,{"$f":"CONCATENATE(REFERENTES!A625,\"(\",REFERENTES!B625,\")\")","v":"()"},{"$f":"REFERENTES!C625","v":0}]
[null,null,null,null,null,null,null,null,null,null,null,null,null,null,null,null,null,null,null,null,null,null,null,null,null,null,null,null,{"$f":"IF(AND(REFERENTES!C628<>\"\",          REFERENTES!C628<>96321,    REFERENTES!C628<>96222            ),(REFERENTES!E628),\"\")","v":""},{"$f":"REFERENTES!C628","v":0},null,626,0,1290,"X",null,null,{"$f":"CONCATENATE(REFERENTES!A626,\"(\",REFERENTES!B626,\")\")","v":"()"},{"$f":"REFERENTES!C626","v":0}]
[null,null,null,null,null,null,null,null,null,null,null,null,null,null,null,null,null,null,null,null,null,null,null,null,null,null,null,null,{"$f":"IF(AND(REFERENTES!C629<>\"\",          REFERENTES!C629<>96321,    REFERENTES!C629<>96222            ),(REFERENTES!E629),\"\")","v":""},{"$f":"REFERENTES!C629","v":0},null,627,0,1290,"X",null,null,{"$f":"CONCATENATE(REFERENTES!A627,\"(\",REFERENTES!B627,\")\")","v":"()"},{"$f":"REFERENTES!C627","v":0}]
[null,null,null,null,null,null,null,null,null,null,null,null,null,null,null,null,null,null,null,null,null,null,null,null,null,null,null,null,{"$f":"IF(AND(REFERENTES!C630<>\"\",          REFERENTES!C630<>96321,    REFERENTES!C630<>96222            ),(REFERENTES!E630),\"\")","v":""},{"$f":"REFERENTES!C630","v":0},null,628,0,1290,"X",null,null,{"$f":"CONCATENATE(REFERENTES!A628,\"(\",REFERENTES!B628,\")\")","v":"()"},{"$f":"REFERENTES!C628","v":0}]
[null,null,null,null,null,null,null,null,null,null,null,null,null,null,null,null,null,null,null,null,null,null,null,null,null,null,null,null,{"$f":"IF(AND(REFERENTES!C631<>\"\",          REFERENTES!C631<>96321,    REFERENTES!C631<>96222            ),(REFERENTES!E631),\"\")","v":""},{"$f":"REFERENTES!C631","v":0},null,629,0,1290,"X",null,null,{"$f":"CONCATENATE(REFERENTES!A629,\"(\",REFERENTES!B629,\")\")","v":"()"},{"$f":"REFERENTES!C629","v":0}]
[null,null,null,null,null,null,null,null,null,null,null,null,null,null,null,null,null,null,null,null,null,null,null,null,null,null,null,null,{"$f":"IF(AND(REFERENTES!C632<>\"\",          REFERENTES!C632<>96321,    REFERENTES!C632<>96222            ),(REFERENTES!E632),\"\")","v":""},{"$f":"REFERENTES!C632","v":0},null,630,0,1290,"X",null,null,{"$f":"CONCATENATE(REFERENTES!A630,\"(\",REFERENTES!B630,\")\")","v":"()"},{"$f":"REFERENTES!C630","v":0}]
[null,null,null,null,null,null,null,null,null,null,null,null,null,null,null,null,null,null,null,null,null,null,null,null,null,null,null,null,{"$f":"IF(AND(REFERENTES!C633<>\"\",          REFERENTES!C633<>96321,    REFERENTES!C633<>96222            ),(REFERENTES!E633),\"\")","v":""},{"$f":"REFERENTES!C633","v":0},null,631,0,1290,"X",null,null,{"$f":"CONCATENATE(REFERENTES!A631,\"(\",REFERENTES!B631,\")\")","v":"()"},{"$f":"REFERENTES!C631","v":0}]
[null,null,null,null,null,null,null,null,null,null,null,null,null,null,null,null,null,null,null,null,null,null,null,null,null,null,null,null,{"$f":"IF(AND(REFERENTES!C634<>\"\",          REFERENTES!C634<>96321,    REFERENTES!C634<>96222            ),(REFERENTES!E634),\"\")","v":""},{"$f":"REFERENTES!C634","v":0},null,632,0,1290,"X",null,null,{"$f":"CONCATENATE(REFERENTES!A632,\"(\",REFERENTES!B632,\")\")","v":"()"},{"$f":"REFERENTES!C632","v":0}]
[null,null,null,null,null,null,null,null,null,null,null,null,null,null,null,null,null,null,null,null,null,null,null,null,null,null,null,null,{"$f":"IF(AND(REFERENTES!C635<>\"\",          REFERENTES!C635<>96321,    REFERENTES!C635<>96222            ),(REFERENTES!E635),\"\")","v":""},{"$f":"REFERENTES!C635","v":0},null,633,0,1290,"X",null,null,{"$f":"CONCATENATE(REFERENTES!A633,\"(\",REFERENTES!B633,\")\")","v":"()"},{"$f":"REFERENTES!C633","v":0}]
[null,null,null,null,null,null,null,null,null,null,null,null,null,null,null,null,null,null,null,null,null,null,null,null,null,null,null,null,{"$f":"IF(AND(REFERENTES!C636<>\"\",          REFERENTES!C636<>96321,    REFERENTES!C636<>96222            ),(REFERENTES!E636),\"\")","v":""},{"$f":"REFERENTES!C636","v":0},null,634,0,1290,"X",null,null,{"$f":"CONCATENATE(REFERENTES!A634,\"(\",REFERENTES!B634,\")\")","v":"()"},{"$f":"REFERENTES!C634","v":0}]
[null,null,null,null,null,null,null,null,null,null,null,null,null,null,null,null,null,null,null,null,null,null,null,null,null,null,null,null,{"$f":"IF(AND(REFERENTES!C637<>\"\",          REFERENTES!C637<>96321,    REFERENTES!C637<>96222            ),(REFERENTES!E637),\"\")","v":""},{"$f":"REFERENTES!C637","v":0},null,635,0,1290,"X",null,null,{"$f":"CONCATENATE(REFERENTES!A635,\"(\",REFERENTES!B635,\")\")","v":"()"},{"$f":"REFERENTES!C635","v":0}]
[null,null,null,null,null,null,null,null,null,null,null,null,null,null,null,null,null,null,null,null,null,null,null,null,null,null,null,null,{"$f":"IF(AND(REFERENTES!C638<>\"\",          REFERENTES!C638<>96321,    REFERENTES!C638<>96222            ),(REFERENTES!E638),\"\")","v":""},{"$f":"REFERENTES!C638","v":0},null,636,0,1290,"X",null,null,{"$f":"CONCATENATE(REFERENTES!A636,\"(\",REFERENTES!B636,\")\")","v":"()"},{"$f":"REFERENTES!C636","v":0}]
[null,null,null,null,null,null,null,null,null,null,null,null,null,null,null,null,null,null,null,null,null,null,null,null,null,null,null,null,{"$f":"IF(AND(REFERENTES!C639<>\"\",          REFERENTES!C639<>96321,    REFERENTES!C639<>96222            ),(REFERENTES!E639),\"\")","v":""},{"$f":"REFERENTES!C639","v":0},null,637,0,1290,"X",null,null,{"$f":"CONCATENATE(REFERENTES!A637,\"(\",REFERENTES!B637,\")\")","v":"()"},{"$f":"REFERENTES!C637","v":0}]
[null,null,null,null,null,null,null,null,null,null,null,null,null,null,null,null,null,null,null,null,null,null,null,null,null,null,null,null,{"$f":"IF(AND(REFERENTES!C640<>\"\",          REFERENTES!C640<>96321,    REFERENTES!C640<>96222            ),(REFERENTES!E640),\"\")","v":""},{"$f":"REFERENTES!C640","v":0},null,638,0,1290,"X",null,null,{"$f":"CONCATENATE(REFERENTES!A638,\"(\",REFERENTES!B638,\")\")","v":"()"},{"$f":"REFERENTES!C638","v":0}]
[null,null,null,null,null,null,null,null,null,null,null,null,null,null,null,null,null,null,null,null,null,null,null,null,null,null,null,null,{"$f":"IF(AND(REFERENTES!C641<>\"\",          REFERENTES!C641<>96321,    REFERENTES!C641<>96222            ),(REFERENTES!E641),\"\")","v":""},{"$f":"REFERENTES!C641","v":0},null,639,0,1290,"X",null,null,{"$f":"CONCATENATE(REFERENTES!A639,\"(\",REFERENTES!B639,\")\")","v":"()"},{"$f":"REFERENTES!C639","v":0}]
[null,null,null,null,null,null,null,null,null,null,null,null,null,null,null,null,null,null,null,null,null,null,null,null,null,null,null,null,{"$f":"IF(AND(REFERENTES!C642<>\"\",          REFERENTES!C642<>96321,    REFERENTES!C642<>96222            ),(REFERENTES!E642),\"\")","v":""},{"$f":"REFERENTES!C642","v":0},null,640,0,1290,"X",null,null,{"$f":"CONCATENATE(REFERENTES!A640,\"(\",REFERENTES!B640,\")\")","v":"()"},{"$f":"REFERENTES!C640","v":0}]
[null,null,null,null,null,null,null,null,null,null,null,null,null,null,null,null,null,null,null,null,null,null,null,null,null,null,null,null,{"$f":"IF(AND(REFERENTES!C643<>\"\",          REFERENTES!C643<>96321,    REFERENTES!C643<>96222            ),(REFERENTES!E643),\"\")","v":""},{"$f":"REFERENTES!C643","v":0},null,641,0,1290,"X",null,null,{"$f":"CONCATENATE(REFERENTES!A641,\"(\",REFERENTES!B641,\")\")","v":"()"},{"$f":"REFERENTES!C641","v":0}]
[null,null,null,null,null,null,null,null,null,null,null,null,null,null,null,null,null,null,null,null,null,null,null,null,null,null,null,null,{"$f":"IF(AND(REFERENTES!C644<>\"\",          REFERENTES!C644<>96321,    REFERENTES!C644<>96222            ),(REFERENTES!E644),\"\")","v":""},{"$f":"REFERENTES!C644","v":0},null,642,{"$f":"IF(AC646=\"\",0,AC646)","v":0},{"$f":"IF(AG647=0,MAX($AF$6:$AF$1294)+1,AF647)","v":1290},{"$f":"IFERROR(VLOOKUP(SMALL($AH$6:$AH$1294,AF647),$AF$6:$AH$1294,2,FALSE),\"X\")","v":"X"},null,null,{"$f":"CONCATENATE(REFERENTES!A642,\"(\",REFERENTES!B642,\")\")","v":"()"},{"$f":"REFERENTES!C642","v":0}]
[null,null,null,null,null,null,null,null,null,null,null,null,null,null,null,null,null,null,null,null,null,null,null,null,null,null,null,null,{"$f":"IF(AND(REFERENTES!C645<>\"\",          REFERENTES!C645<>96321,    REFERENTES!C645<>96222            ),(REFERENTES!E645),\"\")","v":""},{"$f":"REFERENTES!C645","v":0},null,643,0,1290,"X",null,null,{"$f":"CONCATENATE(REFERENTES!A643,\"(\",REFERENTES!B643,\")\")","v":"()"},{"$f":"REFERENTES!C643","v":0}]
[null,null,null,null,null,null,null,null,null,null,null,null,null,null,null,null,null,null,null,null,null,null,null,null,null,null,null,null,{"$f":"IF(AND(REFERENTES!C646<>\"\",          REFERENTES!C646<>96321,    REFERENTES!C646<>96222            ),(REFERENTES!E646),\"\")","v":""},{"$f":"REFERENTES!C646","v":0},null,644,0,1290,"X",null,null,{"$f":"CONCATENATE(REFERENTES!A644,\"(\",REFERENTES!B644,\")\")","v":"()"},{"$f":"REFERENTES!C644","v":0}]
[null,null,null,null,null,null,null,null,null,null,null,null,null,null,null,null,null,null,null,null,null,null,null,null,null,null,null,null,{"$f":"IF(AND(REFERENTES!C647<>\"\",          REFERENTES!C647<>96321,    REFERENTES!C647<>96222            ),(REFERENTES!E647),\"\")","v":""},{"$f":"REFERENTES!C647","v":0},null,645,0,1290,"X",null,null,{"$f":"CONCATENATE(REFERENTES!A645,\"(\",REFERENTES!B645,\")\")","v":"()"},{"$f":"REFERENTES!C645","v":0}]
[null,null,null,null,null,null,null,null,null,null,null,null,null,null,null,null,null,null,null,null,null,null,null,null,null,null,null,null,{"$f":"IF(AND(REFERENTES!C648<>\"\",          REFERENTES!C648<>96321,    REFERENTES!C648<>96222            ),(REFERENTES!E648),\"\")","v":""},{"$f":"REFERENTES!C648","v":0},null,646,0,1290,"X",null,null,{"$f":"CONCATENATE(REFERENTES!A646,\"(\",REFERENTES!B646,\")\")","v":"()"},{"$f":"REFERENTES!C646","v":0}]
[null,null,null,null,null,null,null,null,null,null,null,null,null,null,null,null,null,null,null,null,null,null,null,null,null,null,null,null,{"$f":"IF(AND(REFERENTES!C649<>\"\",          REFERENTES!C649<>96321,    REFERENTES!C649<>96222            ),(REFERENTES!E649),\"\")","v":""},{"$f":"REFERENTES!C649","v":0},null,647,0,1290,"X",null,null,{"$f":"CONCATENATE(REFERENTES!A647,\"(\",REFERENTES!B647,\")\")","v":"()"},{"$f":"REFERENTES!C647","v":0}]
[null,null,null,null,null,null,null,null,null,null,null,null,null,null,null,null,null,null,null,null,null,null,null,null,null,null,null,null,{"$f":"IF(AND(REFERENTES!C650<>\"\",          REFERENTES!C650<>96321,    REFERENTES!C650<>96222            ),(REFERENTES!E650),\"\")","v":""},{"$f":"REFERENTES!C650","v":0},null,648,0,1290,"X",null,null,{"$f":"CONCATENATE(REFERENTES!A648,\"(\",REFERENTES!B648,\")\")","v":"()"},{"$f":"REFERENTES!C648","v":0}]
[null,null,null,null,null,null,null,null,null,null,null,null,null,null,null,null,null,null,null,null,null,null,null,null,null,null,null,null,{"$f":"IF(AND(REFERENTES!C651<>\"\",          REFERENTES!C651<>96321,    REFERENTES!C651<>96222            ),(REFERENTES!E651),\"\")","v":""},{"$f":"REFERENTES!C651","v":0},null,649,0,1290,"X",null,null,{"$f":"CONCATENATE(REFERENTES!A649,\"(\",REFERENTES!B649,\")\")","v":"()"},{"$f":"REFERENTES!C649","v":0}]
[null,null,null,null,null,null,null,null,null,null,null,null,null,null,null,null,null,null,null,null,null,null,null,null,null,null,null,null,{"$f":"IF(AND(REFERENTES!C652<>\"\",          REFERENTES!C652<>96321,    REFERENTES!C652<>96222            ),(REFERENTES!E652),\"\")","v":""},{"$f":"REFERENTES!C652","v":0},null,650,0,1290,"X",null,null,{"$f":"CONCATENATE(REFERENTES!A650,\"(\",REFERENTES!B650,\")\")","v":"()"},{"$f":"REFERENTES!C650","v":0}]
[null,null,null,null,null,null,null,null,null,null,null,null,null,null,null,null,null,null,null,null,null,null,null,null,null,null,null,null,{"$f":"IF(AND(REFERENTES!C653<>\"\",          REFERENTES!C653<>96321,    REFERENTES!C653<>96222            ),(REFERENTES!E653),\"\")","v":""},{"$f":"REFERENTES!C653","v":0},null,651,0,1290,"X",null,null,{"$f":"CONCATENATE(REFERENTES!A651,\"(\",REFERENTES!B651,\")\")","v":"()"},{"$f":"REFERENTES!C651","v":0}]
[null,null,null,null,null,null,null,null,null,null,null,null,null,null,null,null,null,null,null,null,null,null,null,null,null,null,null,null,{"$f":"IF(AND(REFERENTES!C654<>\"\",          REFERENTES!C654<>96321,    REFERENTES!C654<>96222            ),(REFERENTES!E654),\"\")","v":""},{"$f":"REFERENTES!C654","v":0},null,652,0,1290,"X",null,null,{"$f":"CONCATENATE(REFERENTES!A652,\"(\",REFERENTES!B652,\")\")","v":"()"},{"$f":"REFERENTES!C652","v":0}]
[null,null,null,null,null,null,null,null,null,null,null,null,null,null,null,null,null,null,null,null,null,null,null,null,null,null,null,null,{"$f":"IF(AND(REFERENTES!C655<>\"\",          REFERENTES!C655<>96321,    REFERENTES!C655<>96222            ),(REFERENTES!E655),\"\")","v":""},{"$f":"REFERENTES!C655","v":0},null,653,0,1290,"X"]
[null,null,null,null,null,null,null,null,null,null,null,null,null,null,null,null,null,null,null,null,null,null,null,null,null,null,null,null,{"$f":"IF(AND(REFERENTES!C656<>\"\",          REFERENTES!C656<>96321,    REFERENTES!C656<>96222            ),(REFERENTES!E656),\"\")","v":""},{"$f":"REFERENTES!C656","v":0},null,654,0,1290,"X"]
[null,null,null,null,null,null,null,null,null,null,null,null,null,null,null,null,null,null,null,null,null,null,null,null,null,null,null,null,{"$f":"IF(AND(REFERENTES!C657<>\"\",          REFERENTES!C657<>96321,    REFERENTES!C657<>96222            ),(REFERENTES!E657),\"\")","v":""},{"$f":"REFERENTES!C657","v":0},null,655,0,1290,"X"]
[null,null,null,null,null,null,null,null,null,null,null,null,null,null,null,null,null,null,null,null,null,null,null,null,null,null,null,null,{"$f":"IF(AND(REFERENTES!C658<>\"\",          REFERENTES!C658<>96321,    REFERENTES!C658<>96222            ),(REFERENTES!E658),\"\")","v":""},{"$f":"REFERENTES!C658","v":0},null,656,0,1290,"X"]
[null,null,null,null,null,null,null,null,null,null,null,null,null,null,null,null,null,null,null,null,null,null,null,null,null,null,null,null,{"$f":"IF(AND(REFERENTES!C659<>\"\",          REFERENTES!C659<>96321,    REFERENTES!C659<>96222            ),(REFERENTES!E659),\"\")","v":""},{"$f":"REFERENTES!C659","v":0},null,657,0,1290,"X"]
[null,null,null,null,null,null,null,null,null,null,null,null,null,null,null,null,null,null,null,null,null,null,null,null,null,null,null,null,{"$f":"IF(AND(REFERENTES!C660<>\"\",          REFERENTES!C660<>96321,    REFERENTES!C660<>96222            ),(REFERENTES!E660),\"\")","v":""},{"$f":"REFERENTES!C660","v":0},null,658,0,1290,"X"]
[null,null,null,null,null,null,null,null,null,null,null,null,null,null,null,null,null,null,null,null,null,null,null,null,null,null,null,null,{"$f":"IF(AND(REFERENTES!C661<>\"\",          REFERENTES!C661<>96321,    REFERENTES!C661<>96222            ),(REFERENTES!E661),\"\")","v":""},{"$f":"REFERENTES!C661","v":0},null,659,0,1290,"X"]
[null,null,null,null,null,null,null,null,null,null,null,null,null,null,null,null,null,null,null,null,null,null,null,null,null,null,null,null,{"$f":"IF(AND(REFERENTES!C662<>\"\",          REFERENTES!C662<>96321,    REFERENTES!C662<>96222            ),(REFERENTES!E662),\"\")","v":""},{"$f":"REFERENTES!C662","v":0},null,660,0,1290,"X"]
[null,null,null,null,null,null,null,null,null,null,null,null,null,null,null,null,null,null,null,null,null,null,null,null,null,null,null,null,{"$f":"IF(AND(REFERENTES!C663<>\"\",          REFERENTES!C663<>96321,    REFERENTES!C663<>96222            ),(REFERENTES!E663),\"\")","v":""},{"$f":"REFERENTES!C663","v":0},null,661,0,1290,"X"]
[null,null,null,null,null,null,null,null,null,null,null,null,null,null,null,null,null,null,null,null,null,null,null,null,null,null,null,null,{"$f":"IF(AND(REFERENTES!C664<>\"\",          REFERENTES!C664<>96321,    REFERENTES!C664<>96222            ),(REFERENTES!E664),\"\")","v":""},{"$f":"REFERENTES!C664","v":0},null,662,0,1290,"X"]
[null,null,null,null,null,null,null,null,null,null,null,null,null,null,null,null,null,null,null,null,null,null,null,null,null,null,null,null,{"$f":"IF(AND(REFERENTES!C665<>\"\",          REFERENTES!C665<>96321,    REFERENTES!C665<>96222            ),(REFERENTES!E665),\"\")","v":""},{"$f":"REFERENTES!C665","v":0},null,663,0,1290,"X"]
[null,null,null,null,null,null,null,null,null,null,null,null,null,null,null,null,null,null,null,null,null,null,null,null,null,null,null,null,{"$f":"IF(AND(REFERENTES!C666<>\"\",          REFERENTES!C666<>96321,    REFERENTES!C666<>96222            ),(REFERENTES!E666),\"\")","v":""},{"$f":"REFERENTES!C666","v":0},null,664,0,1290,"X"]
[null,null,null,null,null,null,null,null,null,null,null,null,null,null,null,null,null,null,null,null,null,null,null,null,null,null,null,null,{"$f":"IF(AND(REFERENTES!C667<>\"\",          REFERENTES!C667<>96321,    REFERENTES!C667<>96222            ),(REFERENTES!E667),\"\")","v":""},{"$f":"REFERENTES!C667","v":0},null,665,0,1290,"X"]
[null,null,null,null,null,null,null,null,null,null,null,null,null,null,null,null,null,null,null,null,null,null,null,null,null,null,null,null,{"$f":"IF(AND(REFERENTES!C668<>\"\",          REFERENTES!C668<>96321,    REFERENTES!C668<>96222            ),(REFERENTES!E668),\"\")","v":""},{"$f":"REFERENTES!C668","v":0},null,666,0,1290,"X"]
[null,null,null,null,null,null,null,null,null,null,null,null,null,null,null,null,null,null,null,null,null,null,null,null,null,null,null,null,{"$f":"IF(AND(REFERENTES!C669<>\"\",          REFERENTES!C669<>96321,    REFERENTES!C669<>96222            ),(REFERENTES!E669),\"\")","v":""},{"$f":"REFERENTES!C669","v":0},null,667,0,1290,"X"]
[null,null,null,null,null,null,null,null,null,null,null,null,null,null,null,null,null,null,null,null,null,null,null,null,null,null,null,null,{"$f":"IF(AND(REFERENTES!C670<>\"\",          REFERENTES!C670<>96321,    REFERENTES!C670<>96222            ),(REFERENTES!E670),\"\")","v":""},{"$f":"REFERENTES!C670","v":0},null,668,0,1290,"X"]
[null,null,null,null,null,null,null,null,null,null,null,null,null,null,null,null,null,null,null,null,null,null,null,null,null,null,null,null,{"$f":"IF(AND(REFERENTES!C671<>\"\",          REFERENTES!C671<>96321,    REFERENTES!C671<>96222            ),(REFERENTES!E671),\"\")","v":""},{"$f":"REFERENTES!C671","v":0},null,669,0,1290,"X"]
[null,null,null,null,null,null,null,null,null,null,null,null,null,null,null,null,null,null,null,null,null,null,null,null,null,null,null,null,{"$f":"IF(AND(REFERENTES!C672<>\"\",          REFERENTES!C672<>96321,    REFERENTES!C672<>96222            ),(REFERENTES!E672),\"\")","v":""},{"$f":"REFERENTES!C672","v":0},null,670,0,1290,"X"]
[null,null,null,null,null,null,null,null,null,null,null,null,null,null,null,null,null,null,null,null,null,null,null,null,null,null,null,null,{"$f":"IF(AND(REFERENTES!C673<>\"\",          REFERENTES!C673<>96321,    REFERENTES!C673<>96222            ),(REFERENTES!E673),\"\")","v":""},{"$f":"REFERENTES!C673","v":0},null,671,0,1290,"X"]
[null,null,null,null,null,null,null,null,null,null,null,null,null,null,null,null,null,null,null,null,null,null,null,null,null,null,null,null,{"$f":"IF(AND(REFERENTES!C674<>\"\",          REFERENTES!C674<>96321,    REFERENTES!C674<>96222            ),(REFERENTES!E674),\"\")","v":""},{"$f":"REFERENTES!C674","v":0},null,672,0,1290,"X"]
[null,null,null,null,null,null,null,null,null,null,null,null,null,null,null,null,null,null,null,null,null,null,null,null,null,null,null,null,{"$f":"IF(AND(REFERENTES!C675<>\"\",          REFERENTES!C675<>96321,    REFERENTES!C675<>96222            ),(REFERENTES!E675),\"\")","v":""},{"$f":"REFERENTES!C675","v":0},null,673,0,1290,"X"]
[null,null,null,null,null,null,null,null,null,null,null,null,null,null,null,null,null,null,null,null,null,null,null,null,null,null,null,null,{"$f":"IF(AND(REFERENTES!C676<>\"\",          REFERENTES!C676<>96321,    REFERENTES!C676<>96222            ),(REFERENTES!E676),\"\")","v":""},{"$f":"REFERENTES!C676","v":0},null,674,0,1290,"X"]
[null,null,null,null,null,null,null,null,null,null,null,null,null,null,null,null,null,null,null,null,null,null,null,null,null,null,null,null,{"$f":"IF(AND(REFERENTES!C677<>\"\",          REFERENTES!C677<>96321,    REFERENTES!C677<>96222            ),(REFERENTES!E677),\"\")","v":""},{"$f":"REFERENTES!C677","v":0},null,675,0,1290,"X"]
[null,null,null,null,null,null,null,null,null,null,null,null,null,null,null,null,null,null,null,null,null,null,null,null,null,null,null,null,{"$f":"IF(AND(REFERENTES!C678<>\"\",          REFERENTES!C678<>96321,    REFERENTES!C678<>96222            ),(REFERENTES!E678),\"\")","v":""},{"$f":"REFERENTES!C678","v":0},null,676,0,1290,"X"]
[null,null,null,null,null,null,null,null,null,null,null,null,null,null,null,null,null,null,null,null,null,null,null,null,null,null,null,null,{"$f":"IF(AND(REFERENTES!C679<>\"\",          REFERENTES!C679<>96321,    REFERENTES!C679<>96222            ),(REFERENTES!E679),\"\")","v":""},{"$f":"REFERENTES!C679","v":0},null,677,0,1290,"X"]
[null,null,null,null,null,null,null,null,null,null,null,null,null,null,null,null,null,null,null,null,null,null,null,null,null,null,null,null,{"$f":"IF(AND(REFERENTES!C680<>\"\",          REFERENTES!C680<>96321,    REFERENTES!C680<>96222            ),(REFERENTES!E680),\"\")","v":""},{"$f":"REFERENTES!C680","v":0},null,678,0,1290,"X"]
[null,null,null,null,null,null,null,null,null,null,null,null,null,null,null,null,null,null,null,null,null,null,null,null,null,null,null,null,{"$f":"IF(AND(REFERENTES!C681<>\"\",          REFERENTES!C681<>96321,    REFERENTES!C681<>96222            ),(REFERENTES!E681),\"\")","v":""},{"$f":"REFERENTES!C681","v":0},null,679,0,1290,"X"]
[null,null,null,null,null,null,null,null,null,null,null,null,null,null,null,null,null,null,null,null,null,null,null,null,null,null,null,null,{"$f":"IF(AND(REFERENTES!C682<>\"\",          REFERENTES!C682<>96321,    REFERENTES!C682<>96222            ),(REFERENTES!E682),\"\")","v":""},{"$f":"REFERENTES!C682","v":0},null,680,0,1290,"X"]
[null,null,null,null,null,null,null,null,null,null,null,null,null,null,null,null,null,null,null,null,null,null,null,null,null,null,null,null,{"$f":"IF(AND(REFERENTES!C683<>\"\",          REFERENTES!C683<>96321,    REFERENTES!C683<>96222            ),(REFERENTES!E683),\"\")","v":""},{"$f":"REFERENTES!C683","v":0},null,681,0,1290,"X"]
[null,null,null,null,null,null,null,null,null,null,null,null,null,null,null,null,null,null,null,null,null,null,null,null,null,null,null,null,{"$f":"IF(AND(REFERENTES!C684<>\"\",          REFERENTES!C684<>96321,    REFERENTES!C684<>96222            ),(REFERENTES!E684),\"\")","v":""},{"$f":"REFERENTES!C684","v":0},null,682,0,1290,"X"]
[null,null,null,null,null,null,null,null,null,null,null,null,null,null,null,null,null,null,null,null,null,null,null,null,null,null,null,null,{"$f":"IF(AND(REFERENTES!C685<>\"\",          REFERENTES!C685<>96321,    REFERENTES!C685<>96222            ),(REFERENTES!E685),\"\")","v":""},{"$f":"REFERENTES!C685","v":0},null,683,0,1290,"X"]
[null,null,null,null,null,null,null,null,null,null,null,null,null,null,null,null,null,null,null,null,null,null,null,null,null,null,null,null,{"$f":"IF(AND(REFERENTES!C686<>\"\",          REFERENTES!C686<>96321,    REFERENTES!C686<>96222            ),(REFERENTES!E686),\"\")","v":""},{"$f":"REFERENTES!C686","v":0},null,684,0,1290,"X"]
[null,null,null,null,null,null,null,null,null,null,null,null,null,null,null,null,null,null,null,null,null,null,null,null,null,null,null,null,{"$f":"IF(AND(REFERENTES!C687<>\"\",          REFERENTES!C687<>96321,    REFERENTES!C687<>96222            ),(REFERENTES!E687),\"\")","v":""},{"$f":"REFERENTES!C687","v":0},null,685,0,1290,"X"]
[null,null,null,null,null,null,null,null,null,null,null,null,null,null,null,null,null,null,null,null,null,null,null,null,null,null,null,null,{"$f":"IF(AND(REFERENTES!C688<>\"\",          REFERENTES!C688<>96321,    REFERENTES!C688<>96222            ),(REFERENTES!E688),\"\")","v":""},{"$f":"REFERENTES!C688","v":0},null,686,0,1290,"X"]
[null,null,null,null,null,null,null,null,null,null,null,null,null,null,null,null,null,null,null,null,null,null,null,null,null,null,null,null,{"$f":"IF(AND(REFERENTES!C689<>\"\",          REFERENTES!C689<>96321,    REFERENTES!C689<>96222            ),(REFERENTES!E689),\"\")","v":""},{"$f":"REFERENTES!C689","v":0},null,687,0,1290,"X"]
[null,null,null,null,null,null,null,null,null,null,null,null,null,null,null,null,null,null,null,null,null,null,null,null,null,null,null,null,{"$f":"IF(AND(REFERENTES!C690<>\"\",          REFERENTES!C690<>96321,    REFERENTES!C690<>96222            ),(REFERENTES!E690),\"\")","v":""},{"$f":"REFERENTES!C690","v":0},null,688,0,1290,"X"]
[null,null,null,null,null,null,null,null,null,null,null,null,null,null,null,null,null,null,null,null,null,null,null,null,null,null,null,null,{"$f":"IF(AND(REFERENTES!C691<>\"\",          REFERENTES!C691<>96321,    REFERENTES!C691<>96222            ),(REFERENTES!E691),\"\")","v":""},{"$f":"REFERENTES!C691","v":0},null,689,0,1290,"X"]
[null,null,null,null,null,null,null,null,null,null,null,null,null,null,null,null,null,null,null,null,null,null,null,null,null,null,null,null,{"$f":"IF(AND(REFERENTES!C692<>\"\",          REFERENTES!C692<>96321,    REFERENTES!C692<>96222            ),(REFERENTES!E692),\"\")","v":""},{"$f":"REFERENTES!C692","v":0},null,690,0,1290,"X"]
[null,null,null,null,null,null,null,null,null,null,null,null,null,null,null,null,null,null,null,null,null,null,null,null,null,null,null,null,{"$f":"IF(AND(REFERENTES!C693<>\"\",          REFERENTES!C693<>96321,    REFERENTES!C693<>96222            ),(REFERENTES!E693),\"\")","v":""},{"$f":"REFERENTES!C693","v":0},null,691,0,1290,"X"]
[null,null,null,null,null,null,null,null,null,null,null,null,null,null,null,null,null,null,null,null,null,null,null,null,null,null,null,null,{"$f":"IF(AND(REFERENTES!C694<>\"\",          REFERENTES!C694<>96321,    REFERENTES!C694<>96222            ),(REFERENTES!E694),\"\")","v":""},{"$f":"REFERENTES!C694","v":0},null,692,0,1290,"X"]
[null,null,null,null,null,null,null,null,null,null,null,null,null,null,null,null,null,null,null,null,null,null,null,null,null,null,null,null,{"$f":"IF(AND(REFERENTES!C695<>\"\",          REFERENTES!C695<>96321,    REFERENTES!C695<>96222            ),(REFERENTES!E695),\"\")","v":""},{"$f":"REFERENTES!C695","v":0},null,693,0,1290,"X"]
[null,null,null,null,null,null,null,null,null,null,null,null,null,null,null,null,null,null,null,null,null,null,null,null,null,null,null,null,{"$f":"IF(AND(REFERENTES!C696<>\"\",          REFERENTES!C696<>96321,    REFERENTES!C696<>96222            ),(REFERENTES!E696),\"\")","v":""},{"$f":"REFERENTES!C696","v":0},null,694,0,1290,"X"]
[null,null,null,null,null,null,null,null,null,null,null,null,null,null,null,null,null,null,null,null,null,null,null,null,null,null,null,null,{"$f":"IF(AND(REFERENTES!C697<>\"\",          REFERENTES!C697<>96321,    REFERENTES!C697<>96222            ),(REFERENTES!E697),\"\")","v":""},{"$f":"REFERENTES!C697","v":0},null,695,0,1290,"X"]
[null,null,null,null,null,null,null,null,null,null,null,null,null,null,null,null,null,null,null,null,null,null,null,null,null,null,null,null,{"$f":"IF(AND(REFERENTES!C698<>\"\",          REFERENTES!C698<>96321,    REFERENTES!C698<>96222            ),(REFERENTES!E698),\"\")","v":""},{"$f":"REFERENTES!C698","v":0},null,696,0,1290,"X"]
[null,null,null,null,null,null,null,null,null,null,null,null,null,null,null,null,null,null,null,null,null,null,null,null,null,null,null,null,{"$f":"IF(AND(REFERENTES!C699<>\"\",          REFERENTES!C699<>96321,    REFERENTES!C699<>96222            ),(REFERENTES!E699),\"\")","v":""},{"$f":"REFERENTES!C699","v":0},null,697,0,1290,"X"]
[null,null,null,null,null,null,null,null,null,null,null,null,null,null,null,null,null,null,null,null,null,null,null,null,null,null,null,null,{"$f":"IF(AND(REFERENTES!C700<>\"\",          REFERENTES!C700<>96321,    REFERENTES!C700<>96222            ),(REFERENTES!E700),\"\")","v":""},{"$f":"REFERENTES!C700","v":0},null,698,0,1290,"X"]
[null,null,null,null,null,null,null,null,null,null,null,null,null,null,null,null,null,null,null,null,null,null,null,null,null,null,null,null,{"$f":"IF(AND(REFERENTES!C701<>\"\",          REFERENTES!C701<>96321,    REFERENTES!C701<>96222            ),(REFERENTES!E701),\"\")","v":""},{"$f":"REFERENTES!C701","v":0},null,699,0,1290,"X"]
[null,null,null,null,null,null,null,null,null,null,null,null,null,null,null,null,null,null,null,null,null,null,null,null,null,null,null,null,{"$f":"IF(AND(REFERENTES!C702<>\"\",          REFERENTES!C702<>96321,    REFERENTES!C702<>96222            ),(REFERENTES!E702),\"\")","v":""},{"$f":"REFERENTES!C702","v":0},null,700,0,1290,"X"]
[null,null,null,null,null,null,null,null,null,null,null,null,null,null,null,null,null,null,null,null,null,null,null,null,null,null,null,null,{"$f":"IF(AND(REFERENTES!C703<>\"\",          REFERENTES!C703<>96321,    REFERENTES!C703<>96222            ),(REFERENTES!E703),\"\")","v":""},{"$f":"REFERENTES!C703","v":0},null,701,0,1290,"X"]
[null,null,null,null,null,null,null,null,null,null,null,null,null,null,null,null,null,null,null,null,null,null,null,null,null,null,null,null,{"$f":"IF(AND(REFERENTES!C704<>\"\",          REFERENTES!C704<>96321,    REFERENTES!C704<>96222            ),(REFERENTES!E704),\"\")","v":""},{"$f":"REFERENTES!C704","v":0},null,702,0,1290,"X"]
[null,null,null,null,null,null,null,null,null,null,null,null,null,null,null,null,null,null,null,null,null,null,null,null,null,null,null,null,{"$f":"IF(AND(REFERENTES!C705<>\"\",          REFERENTES!C705<>96321,    REFERENTES!C705<>96222            ),(REFERENTES!E705),\"\")","v":""},{"$f":"REFERENTES!C705","v":0},null,703,0,1290,"X"]
[null,null,null,null,null,null,null,null,null,null,null,null,null,null,null,null,null,null,null,null,null,null,null,null,null,null,null,null,{"$f":"IF(AND(REFERENTES!C706<>\"\",          REFERENTES!C706<>96321,    REFERENTES!C706<>96222            ),(REFERENTES!E706),\"\")","v":""},{"$f":"REFERENTES!C706","v":0},null,704,0,1290,"X"]
[null,null,null,null,null,null,null,null,null,null,null,null,null,null,null,null,null,null,null,null,null,null,null,null,null,null,null,null,{"$f":"IF(AND(REFERENTES!C707<>\"\",          REFERENTES!C707<>96321,    REFERENTES!C707<>96222            ),(REFERENTES!E707),\"\")","v":""},{"$f":"REFERENTES!C707","v":0},null,705,0,1290,"X"]
[null,null,null,null,null,null,null,null,null,null,null,null,null,null,null,null,null,null,null,null,null,null,null,null,null,null,null,null,{"$f":"IF(AND(REFERENTES!C708<>\"\",          REFERENTES!C708<>96321,    REFERENTES!C708<>96222            ),(REFERENTES!E708),\"\")","v":""},{"$f":"REFERENTES!C708","v":0},null,706,{"$f":"IF(AC710=\"\",0,AC710)","v":0},{"$f":"IF(AG711=0,MAX($AF$6:$AF$1294)+1,AF711)","v":1290},{"$f":"IFERROR(VLOOKUP(SMALL($AH$6:$AH$1294,AF711),$AF$6:$AH$1294,2,FALSE),\"X\")","v":"X"}]
[null,null,null,null,null,null,null,null,null,null,null,null,null,null,null,null,null,null,null,null,null,null,null,null,null,null,null,null,{"$f":"IF(AND(REFERENTES!C709<>\"\",          REFERENTES!C709<>96321,    REFERENTES!C709<>96222            ),(REFERENTES!E709),\"\")","v":""},{"$f":"REFERENTES!C709","v":0},null,707,0,1290,"X"]
[null,null,null,null,null,null,null,null,null,null,null,null,null,null,null,null,null,null,null,null,null,null,null,null,null,null,null,null,{"$f":"IF(AND(REFERENTES!C710<>\"\",          REFERENTES!C710<>96321,    REFERENTES!C710<>96222            ),(REFERENTES!E710),\"\")","v":""},{"$f":"REFERENTES!C710","v":0},null,708,0,1290,"X"]
[null,null,null,null,null,null,null,null,null,null,null,null,null,null,null,null,null,null,null,null,null,null,null,null,null,null,null,null,{"$f":"IF(AND(REFERENTES!C711<>\"\",          REFERENTES!C711<>96321,    REFERENTES!C711<>96222            ),(REFERENTES!E711),\"\")","v":""},{"$f":"REFERENTES!C711","v":0},null,709,0,1290,"X"]
[null,null,null,null,null,null,null,null,null,null,null,null,null,null,null,null,null,null,null,null,null,null,null,null,null,null,null,null,{"$f":"IF(AND(REFERENTES!C712<>\"\",          REFERENTES!C712<>96321,    REFERENTES!C712<>96222            ),(REFERENTES!E712),\"\")","v":""},{"$f":"REFERENTES!C712","v":0},null,710,0,1290,"X"]
[null,null,null,null,null,null,null,null,null,null,null,null,null,null,null,null,null,null,null,null,null,null,null,null,null,null,null,null,{"$f":"IF(AND(REFERENTES!C713<>\"\",          REFERENTES!C713<>96321,    REFERENTES!C713<>96222            ),(REFERENTES!E713),\"\")","v":""},{"$f":"REFERENTES!C713","v":0},null,711,0,1290,"X"]
[null,null,null,null,null,null,null,null,null,null,null,null,null,null,null,null,null,null,null,null,null,null,null,null,null,null,null,null,{"$f":"IF(AND(REFERENTES!C714<>\"\",          REFERENTES!C714<>96321,    REFERENTES!C714<>96222            ),(REFERENTES!E714),\"\")","v":""},{"$f":"REFERENTES!C714","v":0},null,712,0,1290,"X"]
[null,null,null,null,null,null,null,null,null,null,null,null,null,null,null,null,null,null,null,null,null,null,null,null,null,null,null,null,{"$f":"IF(AND(REFERENTES!C715<>\"\",          REFERENTES!C715<>96321,    REFERENTES!C715<>96222            ),(REFERENTES!E715),\"\")","v":""},{"$f":"REFERENTES!C715","v":0},null,713,0,1290,"X"]
[null,null,null,null,null,null,null,null,null,null,null,null,null,null,null,null,null,null,null,null,null,null,null,null,null,null,null,null,{"$f":"IF(AND(REFERENTES!C716<>\"\",          REFERENTES!C716<>96321,    REFERENTES!C716<>96222            ),(REFERENTES!E716),\"\")","v":""},{"$f":"REFERENTES!C716","v":0},null,714,0,1290,"X"]
[null,null,null,null,null,null,null,null,null,null,null,null,null,null,null,null,null,null,null,null,null,null,null,null,null,null,null,null,{"$f":"IF(AND(REFERENTES!C717<>\"\",          REFERENTES!C717<>96321,    REFERENTES!C717<>96222            ),(REFERENTES!E717),\"\")","v":""},{"$f":"REFERENTES!C717","v":0},null,715,0,1290,"X"]
[null,null,null,null,null,null,null,null,null,null,null,null,null,null,null,null,null,null,null,null,null,null,null,null,null,null,null,null,{"$f":"IF(AND(REFERENTES!C718<>\"\",          REFERENTES!C718<>96321,    REFERENTES!C718<>96222            ),(REFERENTES!E718),\"\")","v":""},{"$f":"REFERENTES!C718","v":0},null,716,0,1290,"X"]
[null,null,null,null,null,null,null,null,null,null,null,null,null,null,null,null,null,null,null,null,null,null,null,null,null,null,null,null,{"$f":"IF(AND(REFERENTES!C719<>\"\",          REFERENTES!C719<>96321,    REFERENTES!C719<>96222            ),(REFERENTES!E719),\"\")","v":""},{"$f":"REFERENTES!C719","v":0},null,717,0,1290,"X"]
[null,null,null,null,null,null,null,null,null,null,null,null,null,null,null,null,null,null,null,null,null,null,null,null,null,null,null,null,{"$f":"IF(AND(REFERENTES!C720<>\"\",          REFERENTES!C720<>96321,    REFERENTES!C720<>96222            ),(REFERENTES!E720),\"\")","v":""},{"$f":"REFERENTES!C720","v":0},null,718,0,1290,"X"]
[null,null,null,null,null,null,null,null,null,null,null,null,null,null,null,null,null,null,null,null,null,null,null,null,null,null,null,null,{"$f":"IF(AND(REFERENTES!C721<>\"\",          REFERENTES!C721<>96321,    REFERENTES!C721<>96222            ),(REFERENTES!E721),\"\")","v":""},{"$f":"REFERENTES!C721","v":0},null,719,0,1290,"X"]
[null,null,null,null,null,null,null,null,null,null,null,null,null,null,null,null,null,null,null,null,null,null,null,null,null,null,null,null,{"$f":"IF(AND(REFERENTES!C722<>\"\",          REFERENTES!C722<>96321,    REFERENTES!C722<>96222            ),(REFERENTES!E722),\"\")","v":""},{"$f":"REFERENTES!C722","v":0},null,720,0,1290,"X"]
[null,null,null,null,null,null,null,null,null,null,null,null,null,null,null,null,null,null,null,null,null,null,null,null,null,null,null,null,{"$f":"IF(AND(REFERENTES!C723<>\"\",          REFERENTES!C723<>96321,    REFERENTES!C723<>96222            ),(REFERENTES!E723),\"\")","v":""},{"$f":"REFERENTES!C723","v":0},null,721,0,1290,"X"]
[null,null,null,null,null,null,null,null,null,null,null,null,null,null,null,null,null,null,null,null,null,null,null,null,null,null,null,null,{"$f":"IF(AND(REFERENTES!C724<>\"\",          REFERENTES!C724<>96321,    REFERENTES!C724<>96222            ),(REFERENTES!E724),\"\")","v":""},{"$f":"REFERENTES!C724","v":0},null,722,0,1290,"X"]
[null,null,null,null,null,null,null,null,null,null,null,null,null,null,null,null,null,null,null,null,null,null,null,null,null,null,null,null,{"$f":"IF(AND(REFERENTES!C725<>\"\",          REFERENTES!C725<>96321,    REFERENTES!C725<>96222            ),(REFERENTES!E725),\"\")","v":""},{"$f":"REFERENTES!C725","v":0},null,723,0,1290,"X"]
[null,null,null,null,null,null,null,null,null,null,null,null,null,null,null,null,null,null,null,null,null,null,null,null,null,null,null,null,{"$f":"IF(AND(REFERENTES!C726<>\"\",          REFERENTES!C726<>96321,    REFERENTES!C726<>96222            ),(REFERENTES!E726),\"\")","v":""},{"$f":"REFERENTES!C726","v":0},null,724,0,1290,"X"]
[null,null,null,null,null,null,null,null,null,null,null,null,null,null,null,null,null,null,null,null,null,null,null,null,null,null,null,null,{"$f":"IF(AND(REFERENTES!C727<>\"\",          REFERENTES!C727<>96321,    REFERENTES!C727<>96222            ),(REFERENTES!E727),\"\")","v":""},{"$f":"REFERENTES!C727","v":0},null,725,0,1290,"X"]
[null,null,null,null,null,null,null,null,null,null,null,null,null,null,null,null,null,null,null,null,null,null,null,null,null,null,null,null,{"$f":"IF(AND(REFERENTES!C728<>\"\",          REFERENTES!C728<>96321,    REFERENTES!C728<>96222            ),(REFERENTES!E728),\"\")","v":""},{"$f":"REFERENTES!C728","v":0},null,726,0,1290,"X"]
[null,null,null,null,null,null,null,null,null,null,null,null,null,null,null,null,null,null,null,null,null,null,null,null,null,null,null,null,{"$f":"IF(AND(REFERENTES!C729<>\"\",          REFERENTES!C729<>96321,    REFERENTES!C729<>96222            ),(REFERENTES!E729),\"\")","v":""},{"$f":"REFERENTES!C729","v":0},null,727,0,1290,"X"]
[null,null,null,null,null,null,null,null,null,null,null,null,null,null,null,null,null,null,null,null,null,null,null,null,null,null,null,null,{"$f":"IF(AND(REFERENTES!C730<>\"\",          REFERENTES!C730<>96321,    REFERENTES!C730<>96222            ),(REFERENTES!E730),\"\")","v":""},{"$f":"REFERENTES!C730","v":0},null,728,0,1290,"X"]
[null,null,null,null,null,null,null,null,null,null,null,null,null,null,null,null,null,null,null,null,null,null,null,null,null,null,null,null,{"$f":"IF(AND(REFERENTES!C731<>\"\",          REFERENTES!C731<>96321,    REFERENTES!C731<>96222            ),(REFERENTES!E731),\"\")","v":""},{"$f":"REFERENTES!C731","v":0},null,729,0,1290,"X"]
[null,null,null,null,null,null,null,null,null,null,null,null,null,null,null,null,null,null,null,null,null,null,null,null,null,null,null,null,{"$f":"IF(AND(REFERENTES!C732<>\"\",          REFERENTES!C732<>96321,    REFERENTES!C732<>96222            ),(REFERENTES!E732),\"\")","v":""},{"$f":"REFERENTES!C732","v":0},null,730,0,1290,"X"]
[null,null,null,null,null,null,null,null,null,null,null,null,null,null,null,null,null,null,null,null,null,null,null,null,null,null,null,null,{"$f":"IF(AND(REFERENTES!C733<>\"\",          REFERENTES!C733<>96321,    REFERENTES!C733<>96222            ),(REFERENTES!E733),\"\")","v":""},{"$f":"REFERENTES!C733","v":0},null,731,0,1290,"X"]
[null,null,null,null,null,null,null,null,null,null,null,null,null,null,null,null,null,null,null,null,null,null,null,null,null,null,null,null,{"$f":"IF(AND(REFERENTES!C734<>\"\",          REFERENTES!C734<>96321,    REFERENTES!C734<>96222            ),(REFERENTES!E734),\"\")","v":""},{"$f":"REFERENTES!C734","v":0},null,732,0,1290,"X"]
[null,null,null,null,null,null,null,null,null,null,null,null,null,null,null,null,null,null,null,null,null,null,null,null,null,null,null,null,{"$f":"IF(AND(REFERENTES!C735<>\"\",          REFERENTES!C735<>96321,    REFERENTES!C735<>96222            ),(REFERENTES!E735),\"\")","v":""},{"$f":"REFERENTES!C735","v":0},null,733,0,1290,"X"]
[null,null,null,null,null,null,null,null,null,null,null,null,null,null,null,null,null,null,null,null,null,null,null,null,null,null,null,null,{"$f":"IF(AND(REFERENTES!C736<>\"\",          REFERENTES!C736<>96321,    REFERENTES!C736<>96222            ),(REFERENTES!E736),\"\")","v":""},{"$f":"REFERENTES!C736","v":0},null,734,0,1290,"X"]
[null,null,null,null,null,null,null,null,null,null,null,null,null,null,null,null,null,null,null,null,null,null,null,null,null,null,null,null,{"$f":"IF(AND(REFERENTES!C737<>\"\",          REFERENTES!C737<>96321,    REFERENTES!C737<>96222            ),(REFERENTES!E737),\"\")","v":""},{"$f":"REFERENTES!C737","v":0},null,735,0,1290,"X"]
[null,null,null,null,null,null,null,null,null,null,null,null,null,null,null,null,null,null,null,null,null,null,null,null,null,null,null,null,{"$f":"IF(AND(REFERENTES!C738<>\"\",          REFERENTES!C738<>96321,    REFERENTES!C738<>96222            ),(REFERENTES!E738),\"\")","v":""},{"$f":"REFERENTES!C738","v":0},null,736,0,1290,"X"]
[null,null,null,null,null,null,null,null,null,null,null,null,null,null,null,null,null,null,null,null,null,null,null,null,null,null,null,null,{"$f":"IF(AND(REFERENTES!C739<>\"\",          REFERENTES!C739<>96321,    REFERENTES!C739<>96222            ),(REFERENTES!E739),\"\")","v":""},{"$f":"REFERENTES!C739","v":0},null,737,0,1290,"X"]
[null,null,null,null,null,null,null,null,null,null,null,null,null,null,null,null,null,null,null,null,null,null,null,null,null,null,null,null,{"$f":"IF(AND(REFERENTES!C740<>\"\",          REFERENTES!C740<>96321,    REFERENTES!C740<>96222            ),(REFERENTES!E740),\"\")","v":""},{"$f":"REFERENTES!C740","v":0},null,738,0,1290,"X"]
[null,null,null,null,null,null,null,null,null,null,null,null,null,null,null,null,null,null,null,null,null,null,null,null,null,null,null,null,{"$f":"IF(AND(REFERENTES!C741<>\"\",          REFERENTES!C741<>96321,    REFERENTES!C741<>96222            ),(REFERENTES!E741),\"\")","v":""},{"$f":"REFERENTES!C741","v":0},null,739,0,1290,"X"]
[null,null,null,null,null,null,null,null,null,null,null,null,null,null,null,null,null,null,null,null,null,null,null,null,null,null,null,null,{"$f":"IF(AND(REFERENTES!C742<>\"\",          REFERENTES!C742<>96321,    REFERENTES!C742<>96222            ),(REFERENTES!E742),\"\")","v":""},{"$f":"REFERENTES!C742","v":0},null,740,0,1290,"X"]
[null,null,null,null,null,null,null,null,null,null,null,null,null,null,null,null,null,null,null,null,null,null,null,null,null,null,null,null,{"$f":"IF(AND(REFERENTES!C743<>\"\",          REFERENTES!C743<>96321,    REFERENTES!C743<>96222            ),(REFERENTES!E743),\"\")","v":""},{"$f":"REFERENTES!C743","v":0},null,741,0,1290,"X"]
[null,null,null,null,null,null,null,null,null,null,null,null,null,null,null,null,null,null,null,null,null,null,null,null,null,null,null,null,{"$f":"IF(AND(REFERENTES!C744<>\"\",          REFERENTES!C744<>96321,    REFERENTES!C744<>96222            ),(REFERENTES!E744),\"\")","v":""},{"$f":"REFERENTES!C744","v":0},null,742,0,1290,"X"]
[null,null,null,null,null,null,null,null,null,null,null,null,null,null,null,null,null,null,null,null,null,null,null,null,null,null,null,null,{"$f":"IF(AND(REFERENTES!C745<>\"\",          REFERENTES!C745<>96321,    REFERENTES!C745<>96222            ),(REFERENTES!E745),\"\")","v":""},{"$f":"REFERENTES!C745","v":0},null,743,0,1290,"X"]
[null,null,null,null,null,null,null,null,null,null,null,null,null,null,null,null,null,null,null,null,null,null,null,null,null,null,null,null,{"$f":"IF(AND(REFERENTES!C746<>\"\",          REFERENTES!C746<>96321,    REFERENTES!C746<>96222            ),(REFERENTES!E746),\"\")","v":""},{"$f":"REFERENTES!C746","v":0},null,744,0,1290,"X"]
[null,null,null,null,null,null,null,null,null,null,null,null,null,null,null,null,null,null,null,null,null,null,null,null,null,null,null,null,{"$f":"IF(AND(REFERENTES!C747<>\"\",          REFERENTES!C747<>96321,    REFERENTES!C747<>96222            ),(REFERENTES!E747),\"\")","v":""},{"$f":"REFERENTES!C747","v":0},null,745,0,1290,"X"]
[null,null,null,null,null,null,null,null,null,null,null,null,null,null,null,null,null,null,null,null,null,null,null,null,null,null,null,null,{"$f":"IF(AND(REFERENTES!C748<>\"\",          REFERENTES!C748<>96321,    REFERENTES!C748<>96222            ),(REFERENTES!E748),\"\")","v":""},{"$f":"REFERENTES!C748","v":0},null,746,0,1290,"X"]
[null,null,null,null,null,null,null,null,null,null,null,null,null,null,null,null,null,null,null,null,null,null,null,null,null,null,null,null,{"$f":"IF(AND(REFERENTES!C749<>\"\",          REFERENTES!C749<>96321,    REFERENTES!C749<>96222            ),(REFERENTES!E749),\"\")","v":""},{"$f":"REFERENTES!C749","v":0},null,747,0,1290,"X"]
[null,null,null,null,null,null,null,null,null,null,null,null,null,null,null,null,null,null,null,null,null,null,null,null,null,null,null,null,{"$f":"IF(AND(REFERENTES!C750<>\"\",          REFERENTES!C750<>96321,    REFERENTES!C750<>96222            ),(REFERENTES!E750),\"\")","v":""},{"$f":"REFERENTES!C750","v":0},null,748,0,1290,"X"]
[null,null,null,null,null,null,null,null,null,null,null,null,null,null,null,null,null,null,null,null,null,null,null,null,null,null,null,null,{"$f":"IF(AND(REFERENTES!C751<>\"\",          REFERENTES!C751<>96321,    REFERENTES!C751<>96222            ),(REFERENTES!E751),\"\")","v":""},{"$f":"REFERENTES!C751","v":0},null,749,0,1290,"X"]
[null,null,null,null,null,null,null,null,null,null,null,null,null,null,null,null,null,null,null,null,null,null,null,null,null,null,null,null,{"$f":"IF(AND(REFERENTES!C752<>\"\",          REFERENTES!C752<>96321,    REFERENTES!C752<>96222            ),(REFERENTES!E752),\"\")","v":""},{"$f":"REFERENTES!C752","v":0},null,750,0,1290,"X"]
[null,null,null,null,null,null,null,null,null,null,null,null,null,null,null,null,null,null,null,null,null,null,null,null,null,null,null,null,{"$f":"IF(AND(REFERENTES!C753<>\"\",          REFERENTES!C753<>96321,    REFERENTES!C753<>96222            ),(REFERENTES!E753),\"\")","v":""},{"$f":"REFERENTES!C753","v":0},null,751,0,1290,"X"]
[null,null,null,null,null,null,null,null,null,null,null,null,null,null,null,null,null,null,null,null,null,null,null,null,null,null,null,null,{"$f":"IF(AND(REFERENTES!C754<>\"\",          REFERENTES!C754<>96321,    REFERENTES!C754<>96222            ),(REFERENTES!E754),\"\")","v":""},{"$f":"REFERENTES!C754","v":0},null,752,0,1290,"X"]
[null,null,null,null,null,null,null,null,null,null,null,null,null,null,null,null,null,null,null,null,null,null,null,null,null,null,null,null,{"$f":"IF(AND(REFERENTES!C755<>\"\",          REFERENTES!C755<>96321,    REFERENTES!C755<>96222            ),(REFERENTES!E755),\"\")","v":""},{"$f":"REFERENTES!C755","v":0},null,753,0,1290,"X"]
[null,null,null,null,null,null,null,null,null,null,null,null,null,null,null,null,null,null,null,null,null,null,null,null,null,null,null,null,{"$f":"IF(AND(REFERENTES!C756<>\"\",          REFERENTES!C756<>96321,    REFERENTES!C756<>96222            ),(REFERENTES!E756),\"\")","v":""},{"$f":"REFERENTES!C756","v":0},null,754,0,1290,"X"]
[null,null,null,null,null,null,null,null,null,null,null,null,null,null,null,null,null,null,null,null,null,null,null,null,null,null,null,null,{"$f":"IF(AND(REFERENTES!C757<>\"\",          REFERENTES!C757<>96321,    REFERENTES!C757<>96222            ),(REFERENTES!E757),\"\")","v":""},{"$f":"REFERENTES!C757","v":0},null,755,0,1290,"X"]
[null,null,null,null,null,null,null,null,null,null,null,null,null,null,null,null,null,null,null,null,null,null,null,null,null,null,null,null,{"$f":"IF(AND(REFERENTES!C758<>\"\",          REFERENTES!C758<>96321,    REFERENTES!C758<>96222            ),(REFERENTES!E758),\"\")","v":""},{"$f":"REFERENTES!C758","v":0},null,756,0,1290,"X"]
[null,null,null,null,null,null,null,null,null,null,null,null,null,null,null,null,null,null,null,null,null,null,null,null,null,null,null,null,{"$f":"IF(AND(REFERENTES!C759<>\"\",          REFERENTES!C759<>96321,    REFERENTES!C759<>96222            ),(REFERENTES!E759),\"\")","v":""},{"$f":"REFERENTES!C759","v":0},null,757,0,1290,"X"]
[null,null,null,null,null,null,null,null,null,null,null,null,null,null,null,null,null,null,null,null,null,null,null,null,null,null,null,null,{"$f":"IF(AND(REFERENTES!C760<>\"\",          REFERENTES!C760<>96321,    REFERENTES!C760<>96222            ),(REFERENTES!E760),\"\")","v":""},{"$f":"REFERENTES!C760","v":0},null,758,0,1290,"X"]
[null,null,null,null,null,null,null,null,null,null,null,null,null,null,null,null,null,null,null,null,null,null,null,null,null,null,null,null,{"$f":"IF(AND(REFERENTES!C761<>\"\",          REFERENTES!C761<>96321,    REFERENTES!C761<>96222            ),(REFERENTES!E761),\"\")","v":""},{"$f":"REFERENTES!C761","v":0},null,759,0,1290,"X"]
[null,null,null,null,null,null,null,null,null,null,null,null,null,null,null,null,null,null,null,null,null,null,null,null,null,null,null,null,{"$f":"IF(AND(REFERENTES!C762<>\"\",          REFERENTES!C762<>96321,    REFERENTES!C762<>96222            ),(REFERENTES!E762),\"\")","v":""},{"$f":"REFERENTES!C762","v":0},null,760,0,1290,"X"]
[null,null,null,null,null,null,null,null,null,null,null,null,null,null,null,null,null,null,null,null,null,null,null,null,null,null,null,null,{"$f":"IF(AND(REFERENTES!C763<>\"\",          REFERENTES!C763<>96321,    REFERENTES!C763<>96222            ),(REFERENTES!E763),\"\")","v":""},{"$f":"REFERENTES!C763","v":0},null,761,0,1290,"X"]
[null,null,null,null,null,null,null,null,null,null,null,null,null,null,null,null,null,null,null,null,null,null,null,null,null,null,null,null,{"$f":"IF(AND(REFERENTES!C764<>\"\",          REFERENTES!C764<>96321,    REFERENTES!C764<>96222            ),(REFERENTES!E764),\"\")","v":""},{"$f":"REFERENTES!C764","v":0},null,762,0,1290,"X"]
[null,null,null,null,null,null,null,null,null,null,null,null,null,null,null,null,null,null,null,null,null,null,null,null,null,null,null,null,{"$f":"IF(AND(REFERENTES!C765<>\"\",          REFERENTES!C765<>96321,    REFERENTES!C765<>96222            ),(REFERENTES!E765),\"\")","v":""},{"$f":"REFERENTES!C765","v":0},null,763,0,1290,"X"]
[null,null,null,null,null,null,null,null,null,null,null,null,null,null,null,null,null,null,null,null,null,null,null,null,null,null,null,null,{"$f":"IF(AND(REFERENTES!C766<>\"\",          REFERENTES!C766<>96321,    REFERENTES!C766<>96222            ),(REFERENTES!E766),\"\")","v":""},{"$f":"REFERENTES!C766","v":0},null,764,0,1290,"X"]
[null,null,null,null,null,null,null,null,null,null,null,null,null,null,null,null,null,null,null,null,null,null,null,null,null,null,null,null,{"$f":"IF(AND(REFERENTES!C767<>\"\",          REFERENTES!C767<>96321,    REFERENTES!C767<>96222            ),(REFERENTES!E767),\"\")","v":""},{"$f":"REFERENTES!C767","v":0},null,765,0,1290,"X"]
[null,null,null,null,null,null,null,null,null,null,null,null,null,null,null,null,null,null,null,null,null,null,null,null,null,null,null,null,{"$f":"IF(AND(REFERENTES!C768<>\"\",          REFERENTES!C768<>96321,    REFERENTES!C768<>96222            ),(REFERENTES!E768),\"\")","v":""},{"$f":"REFERENTES!C768","v":0},null,766,0,1290,"X"]
[null,null,null,null,null,null,null,null,null,null,null,null,null,null,null,null,null,null,null,null,null,null,null,null,null,null,null,null,{"$f":"IF(AND(REFERENTES!C769<>\"\",          REFERENTES!C769<>96321,    REFERENTES!C769<>96222            ),(REFERENTES!E769),\"\")","v":""},{"$f":"REFERENTES!C769","v":0},null,767,0,1290,"X"]
[null,null,null,null,null,null,null,null,null,null,null,null,null,null,null,null,null,null,null,null,null,null,null,null,null,null,null,null,{"$f":"IF(AND(REFERENTES!C770<>\"\",          REFERENTES!C770<>96321,    REFERENTES!C770<>96222            ),(REFERENTES!E770),\"\")","v":""},{"$f":"REFERENTES!C770","v":0},null,768,0,1290,"X"]
[null,null,null,null,null,null,null,null,null,null,null,null,null,null,null,null,null,null,null,null,null,null,null,null,null,null,null,null,{"$f":"IF(AND(REFERENTES!C771<>\"\",          REFERENTES!C771<>96321,    REFERENTES!C771<>96222            ),(REFERENTES!E771),\"\")","v":""},{"$f":"REFERENTES!C771","v":0},null,769,0,1290,"X"]
[null,null,null,null,null,null,null,null,null,null,null,null,null,null,null,null,null,null,null,null,null,null,null,null,null,null,null,null,{"$f":"IF(AND(REFERENTES!C772<>\"\",          REFERENTES!C772<>96321,    REFERENTES!C772<>96222            ),(REFERENTES!E772),\"\")","v":""},{"$f":"REFERENTES!C772","v":0},null,770,{"$f":"IF(AC774=\"\",0,AC774)","v":0},{"$f":"IF(AG775=0,MAX($AF$6:$AF$1294)+1,AF775)","v":1290},{"$f":"IFERROR(VLOOKUP(SMALL($AH$6:$AH$1294,AF775),$AF$6:$AH$1294,2,FALSE),\"X\")","v":"X"}]
[null,null,null,null,null,null,null,null,null,null,null,null,null,null,null,null,null,null,null,null,null,null,null,null,null,null,null,null,{"$f":"IF(AND(REFERENTES!C773<>\"\",          REFERENTES!C773<>96321,    REFERENTES!C773<>96222            ),(REFERENTES!E773),\"\")","v":""},{"$f":"REFERENTES!C773","v":0},null,771,0,1290,"X"]
[null,null,null,null,null,null,null,null,null,null,null,null,null,null,null,null,null,null,null,null,null,null,null,null,null,null,null,null,{"$f":"IF(AND(REFERENTES!C774<>\"\",          REFERENTES!C774<>96321,    REFERENTES!C774<>96222            ),(REFERENTES!E774),\"\")","v":""},{"$f":"REFERENTES!C774","v":0},null,772,0,1290,"X"]
[null,null,null,null,null,null,null,null,null,null,null,null,null,null,null,null,null,null,null,null,null,null,null,null,null,null,null,null,{"$f":"IF(AND(REFERENTES!C775<>\"\",          REFERENTES!C775<>96321,    REFERENTES!C775<>96222            ),(REFERENTES!E775),\"\")","v":""},{"$f":"REFERENTES!C775","v":0},null,773,0,1290,"X"]
[null,null,null,null,null,null,null,null,null,null,null,null,null,null,null,null,null,null,null,null,null,null,null,null,null,null,null,null,{"$f":"IF(AND(REFERENTES!C776<>\"\",          REFERENTES!C776<>96321,    REFERENTES!C776<>96222            ),(REFERENTES!E776),\"\")","v":""},{"$f":"REFERENTES!C776","v":0},null,774,0,1290,"X"]
[null,null,null,null,null,null,null,null,null,null,null,null,null,null,null,null,null,null,null,null,null,null,null,null,null,null,null,null,{"$f":"IF(AND(REFERENTES!C777<>\"\",          REFERENTES!C777<>96321,    REFERENTES!C777<>96222            ),(REFERENTES!E777),\"\")","v":""},{"$f":"REFERENTES!C777","v":0},null,775,0,1290,"X"]
[null,null,null,null,null,null,null,null,null,null,null,null,null,null,null,null,null,null,null,null,null,null,null,null,null,null,null,null,{"$f":"IF(AND(REFERENTES!C778<>\"\",          REFERENTES!C778<>96321,    REFERENTES!C778<>96222            ),(REFERENTES!E778),\"\")","v":""},{"$f":"REFERENTES!C778","v":0},null,776,0,1290,"X"]
[null,null,null,null,null,null,null,null,null,null,null,null,null,null,null,null,null,null,null,null,null,null,null,null,null,null,null,null,{"$f":"IF(AND(REFERENTES!C779<>\"\",          REFERENTES!C779<>96321,    REFERENTES!C779<>96222            ),(REFERENTES!E779),\"\")","v":""},{"$f":"REFERENTES!C779","v":0},null,777,0,1290,"X"]
[null,null,null,null,null,null,null,null,null,null,null,null,null,null,null,null,null,null,null,null,null,null,null,null,null,null,null,null,{"$f":"IF(AND(REFERENTES!C780<>\"\",          REFERENTES!C780<>96321,    REFERENTES!C780<>96222            ),(REFERENTES!E780),\"\")","v":""},{"$f":"REFERENTES!C780","v":0},null,778,0,1290,"X"]
[null,null,null,null,null,null,null,null,null,null,null,null,null,null,null,null,null,null,null,null,null,null,null,null,null,null,null,null,{"$f":"IF(AND(REFERENTES!C781<>\"\",          REFERENTES!C781<>96321,    REFERENTES!C781<>96222            ),(REFERENTES!E781),\"\")","v":""},{"$f":"REFERENTES!C781","v":0},null,779,0,1290,"X"]
[null,null,null,null,null,null,null,null,null,null,null,null,null,null,null,null,null,null,null,null,null,null,null,null,null,null,null,null,{"$f":"IF(AND(REFERENTES!C782<>\"\",          REFERENTES!C782<>96321,    REFERENTES!C782<>96222            ),(REFERENTES!E782),\"\")","v":""},{"$f":"REFERENTES!C782","v":0},null,780,0,1290,"X"]
[null,null,null,null,null,null,null,null,null,null,null,null,null,null,null,null,null,null,null,null,null,null,null,null,null,null,null,null,{"$f":"IF(AND(REFERENTES!C783<>\"\",          REFERENTES!C783<>96321,    REFERENTES!C783<>96222            ),(REFERENTES!E783),\"\")","v":""},{"$f":"REFERENTES!C783","v":0},null,781,0,1290,"X"]
[null,null,null,null,null,null,null,null,null,null,null,null,null,null,null,null,null,null,null,null,null,null,null,null,null,null,null,null,{"$f":"IF(AND(REFERENTES!C784<>\"\",          REFERENTES!C784<>96321,    REFERENTES!C784<>96222            ),(REFERENTES!E784),\"\")","v":""},{"$f":"REFERENTES!C784","v":0},null,782,0,1290,"X"]
[null,null,null,null,null,null,null,null,null,null,null,null,null,null,null,null,null,null,null,null,null,null,null,null,null,null,null,null,{"$f":"IF(AND(REFERENTES!C785<>\"\",          REFERENTES!C785<>96321,    REFERENTES!C785<>96222            ),(REFERENTES!E785),\"\")","v":""},{"$f":"REFERENTES!C785","v":0},null,783,0,1290,"X"]
[null,null,null,null,null,null,null,null,null,null,null,null,null,null,null,null,null,null,null,null,null,null,null,null,null,null,null,null,{"$f":"IF(AND(REFERENTES!C786<>\"\",          REFERENTES!C786<>96321,    REFERENTES!C786<>96222            ),(REFERENTES!E786),\"\")","v":""},{"$f":"REFERENTES!C786","v":0},null,784,0,1290,"X"]
[null,null,null,null,null,null,null,null,null,null,null,null,null,null,null,null,null,null,null,null,null,null,null,null,null,null,null,null,{"$f":"IF(AND(REFERENTES!C787<>\"\",          REFERENTES!C787<>96321,    REFERENTES!C787<>96222            ),(REFERENTES!E787),\"\")","v":""},{"$f":"REFERENTES!C787","v":0},null,785,0,1290,"X"]
[null,null,null,null,null,null,null,null,null,null,null,null,null,null,null,null,null,null,null,null,null,null,null,null,null,null,null,null,{"$f":"IF(AND(REFERENTES!C788<>\"\",          REFERENTES!C788<>96321,    REFERENTES!C788<>96222            ),(REFERENTES!E788),\"\")","v":""},{"$f":"REFERENTES!C788","v":0},null,786,0,1290,"X"]
[null,null,null,null,null,null,null,null,null,null,null,null,null,null,null,null,null,null,null,null,null,null,null,null,null,null,null,null,{"$f":"IF(AND(REFERENTES!C789<>\"\",          REFERENTES!C789<>96321,    REFERENTES!C789<>96222            ),(REFERENTES!E789),\"\")","v":""},{"$f":"REFERENTES!C789","v":0},null,787,0,1290,"X"]
[null,null,null,null,null,null,null,null,null,null,null,null,null,null,null,null,null,null,null,null,null,null,null,null,null,null,null,null,{"$f":"IF(AND(REFERENTES!C790<>\"\",          REFERENTES!C790<>96321,    REFERENTES!C790<>96222            ),(REFERENTES!E790),\"\")","v":""},{"$f":"REFERENTES!C790","v":0},null,788,0,1290,"X"]
[null,null,null,null,null,null,null,null,null,null,null,null,null,null,null,null,null,null,null,null,null,null,null,null,null,null,null,null,{"$f":"IF(AND(REFERENTES!C791<>\"\",          REFERENTES!C791<>96321,    REFERENTES!C791<>96222            ),(REFERENTES!E791),\"\")","v":""},{"$f":"REFERENTES!C791","v":0},null,789,0,1290,"X"]
[null,null,null,null,null,null,null,null,null,null,null,null,null,null,null,null,null,null,null,null,null,null,null,null,null,null,null,null,{"$f":"IF(AND(REFERENTES!C792<>\"\",          REFERENTES!C792<>96321,    REFERENTES!C792<>96222            ),(REFERENTES!E792),\"\")","v":""},{"$f":"REFERENTES!C792","v":0},null,790,0,1290,"X"]
[null,null,null,null,null,null,null,null,null,null,null,null,null,null,null,null,null,null,null,null,null,null,null,null,null,null,null,null,{"$f":"IF(AND(REFERENTES!C793<>\"\",          REFERENTES!C793<>96321,    REFERENTES!C793<>96222            ),(REFERENTES!E793),\"\")","v":""},{"$f":"REFERENTES!C793","v":0},null,791,0,1290,"X"]
[null,null,null,null,null,null,null,null,null,null,null,null,null,null,null,null,null,null,null,null,null,null,null,null,null,null,null,null,{"$f":"IF(AND(REFERENTES!C794<>\"\",          REFERENTES!C794<>96321,    REFERENTES!C794<>96222            ),(REFERENTES!E794),\"\")","v":""},{"$f":"REFERENTES!C794","v":0},null,792,0,1290,"X"]
[null,null,null,null,null,null,null,null,null,null,null,null,null,null,null,null,null,null,null,null,null,null,null,null,null,null,null,null,{"$f":"IF(AND(REFERENTES!C795<>\"\",          REFERENTES!C795<>96321,    REFERENTES!C795<>96222            ),(REFERENTES!E795),\"\")","v":""},{"$f":"REFERENTES!C795","v":0},null,793,0,1290,"X"]
[null,null,null,null,null,null,null,null,null,null,null,null,null,null,null,null,null,null,null,null,null,null,null,null,null,null,null,null,{"$f":"IF(AND(REFERENTES!C796<>\"\",          REFERENTES!C796<>96321,    REFERENTES!C796<>96222            ),(REFERENTES!E796),\"\")","v":""},{"$f":"REFERENTES!C796","v":0},null,794,0,1290,"X"]
[null,null,null,null,null,null,null,null,null,null,null,null,null,null,null,null,null,null,null,null,null,null,null,null,null,null,null,null,{"$f":"IF(AND(REFERENTES!C797<>\"\",          REFERENTES!C797<>96321,    REFERENTES!C797<>96222            ),(REFERENTES!E797),\"\")","v":""},{"$f":"REFERENTES!C797","v":0},null,795,0,1290,"X"]
[null,null,null,null,null,null,null,null,null,null,null,null,null,null,null,null,null,null,null,null,null,null,null,null,null,null,null,null,{"$f":"IF(AND(REFERENTES!C798<>\"\",          REFERENTES!C798<>96321,    REFERENTES!C798<>96222            ),(REFERENTES!E798),\"\")","v":""},{"$f":"REFERENTES!C798","v":0},null,796,0,1290,"X"]
[null,null,null,null,null,null,null,null,null,null,null,null,null,null,null,null,null,null,null,null,null,null,null,null,null,null,null,null,{"$f":"IF(AND(REFERENTES!C799<>\"\",          REFERENTES!C799<>96321,    REFERENTES!C799<>96222            ),(REFERENTES!E799),\"\")","v":""},{"$f":"REFERENTES!C799","v":0},null,797,0,1290,"X"]
[null,null,null,null,null,null,null,null,null,null,null,null,null,null,null,null,null,null,null,null,null,null,null,null,null,null,null,null,{"$f":"IF(AND(REFERENTES!C800<>\"\",          REFERENTES!C800<>96321,    REFERENTES!C800<>96222            ),(REFERENTES!E800),\"\")","v":""},{"$f":"REFERENTES!C800","v":0},null,798,0,1290,"X"]
[null,null,null,null,null,null,null,null,null,null,null,null,null,null,null,null,null,null,null,null,null,null,null,null,null,null,null,null,{"$f":"IF(AND(REFERENTES!C801<>\"\",          REFERENTES!C801<>96321,    REFERENTES!C801<>96222            ),(REFERENTES!E801),\"\")","v":""},{"$f":"REFERENTES!C801","v":0},null,799,0,1290,"X"]
[null,null,null,null,null,null,null,null,null,null,null,null,null,null,null,null,null,null,null,null,null,null,null,null,null,null,null,null,{"$f":"IF(AND(REFERENTES!C802<>\"\",          REFERENTES!C802<>96321,    REFERENTES!C802<>96222            ),(REFERENTES!E802),\"\")","v":""},{"$f":"REFERENTES!C802","v":0},null,800,0,1290,"X"]
[null,null,null,null,null,null,null,null,null,null,null,null,null,null,null,null,null,null,null,null,null,null,null,null,null,null,null,null,{"$f":"IF(AND(REFERENTES!C803<>\"\",          REFERENTES!C803<>96321,    REFERENTES!C803<>96222            ),(REFERENTES!E803),\"\")","v":""},{"$f":"REFERENTES!C803","v":0},null,801,0,1290,"X"]
[null,null,null,null,null,null,null,null,null,null,null,null,null,null,null,null,null,null,null,null,null,null,null,null,null,null,null,null,{"$f":"IF(AND(REFERENTES!C804<>\"\",          REFERENTES!C804<>96321,    REFERENTES!C804<>96222            ),(REFERENTES!E804),\"\")","v":""},{"$f":"REFERENTES!C804","v":0},null,802,0,1290,"X"]
[null,null,null,null,null,null,null,null,null,null,null,null,null,null,null,null,null,null,null,null,null,null,null,null,null,null,null,null,{"$f":"IF(AND(REFERENTES!C805<>\"\",          REFERENTES!C805<>96321,    REFERENTES!C805<>96222            ),(REFERENTES!E805),\"\")","v":""},{"$f":"REFERENTES!C805","v":0},null,803,0,1290,"X"]
[null,null,null,null,null,null,null,null,null,null,null,null,null,null,null,null,null,null,null,null,null,null,null,null,null,null,null,null,{"$f":"IF(AND(REFERENTES!C806<>\"\",          REFERENTES!C806<>96321,    REFERENTES!C806<>96222            ),(REFERENTES!E806),\"\")","v":""},{"$f":"REFERENTES!C806","v":0},null,804,0,1290,"X"]
[null,null,null,null,null,null,null,null,null,null,null,null,null,null,null,null,null,null,null,null,null,null,null,null,null,null,null,null,{"$f":"IF(AND(REFERENTES!C807<>\"\",          REFERENTES!C807<>96321,    REFERENTES!C807<>96222            ),(REFERENTES!E807),\"\")","v":""},{"$f":"REFERENTES!C807","v":0},null,805,0,1290,"X"]
[null,null,null,null,null,null,null,null,null,null,null,null,null,null,null,null,null,null,null,null,null,null,null,null,null,null,null,null,{"$f":"IF(AND(REFERENTES!C808<>\"\",          REFERENTES!C808<>96321,    REFERENTES!C808<>96222            ),(REFERENTES!E808),\"\")","v":""},{"$f":"REFERENTES!C808","v":0},null,806,0,1290,"X"]
[null,null,null,null,null,null,null,null,null,null,null,null,null,null,null,null,null,null,null,null,null,null,null,null,null,null,null,null,{"$f":"IF(AND(REFERENTES!C809<>\"\",          REFERENTES!C809<>96321,    REFERENTES!C809<>96222            ),(REFERENTES!E809),\"\")","v":""},{"$f":"REFERENTES!C809","v":0},null,807,0,1290,"X"]
[null,null,null,null,null,null,null,null,null,null,null,null,null,null,null,null,null,null,null,null,null,null,null,null,null,null,null,null,{"$f":"IF(AND(REFERENTES!C810<>\"\",          REFERENTES!C810<>96321,    REFERENTES!C810<>96222            ),(REFERENTES!E810),\"\")","v":""},{"$f":"REFERENTES!C810","v":0},null,808,0,1290,"X"]
[null,null,null,null,null,null,null,null,null,null,null,null,null,null,null,null,null,null,null,null,null,null,null,null,null,null,null,null,{"$f":"IF(AND(REFERENTES!C811<>\"\",          REFERENTES!C811<>96321,    REFERENTES!C811<>96222            ),(REFERENTES!E811),\"\")","v":""},{"$f":"REFERENTES!C811","v":0},null,809,0,1290,"X"]
[null,null,null,null,null,null,null,null,null,null,null,null,null,null,null,null,null,null,null,null,null,null,null,null,null,null,null,null,{"$f":"IF(AND(REFERENTES!C812<>\"\",          REFERENTES!C812<>96321,    REFERENTES!C812<>96222            ),(REFERENTES!E812),\"\")","v":""},{"$f":"REFERENTES!C812","v":0},null,810,0,1290,"X"]
[null,null,null,null,null,null,null,null,null,null,null,null,null,null,null,null,null,null,null,null,null,null,null,null,null,null,null,null,{"$f":"IF(AND(REFERENTES!C813<>\"\",          REFERENTES!C813<>96321,    REFERENTES!C813<>96222            ),(REFERENTES!E813),\"\")","v":""},{"$f":"REFERENTES!C813","v":0},null,811,0,1290,"X"]
[null,null,null,null,null,null,null,null,null,null,null,null,null,null,null,null,null,null,null,null,null,null,null,null,null,null,null,null,{"$f":"IF(AND(REFERENTES!C814<>\"\",          REFERENTES!C814<>96321,    REFERENTES!C814<>96222            ),(REFERENTES!E814),\"\")","v":""},{"$f":"REFERENTES!C814","v":0},null,812,0,1290,"X"]
[null,null,null,null,null,null,null,null,null,null,null,null,null,null,null,null,null,null,null,null,null,null,null,null,null,null,null,null,{"$f":"IF(AND(REFERENTES!C815<>\"\",          REFERENTES!C815<>96321,    REFERENTES!C815<>96222            ),(REFERENTES!E815),\"\")","v":""},{"$f":"REFERENTES!C815","v":0},null,813,0,1290,"X"]
[null,null,null,null,null,null,null,null,null,null,null,null,null,null,null,null,null,null,null,null,null,null,null,null,null,null,null,null,{"$f":"IF(AND(REFERENTES!C816<>\"\",          REFERENTES!C816<>96321,    REFERENTES!C816<>96222            ),(REFERENTES!E816),\"\")","v":""},{"$f":"REFERENTES!C816","v":0},null,814,0,1290,"X"]
[null,null,null,null,null,null,null,null,null,null,null,null,null,null,null,null,null,null,null,null,null,null,null,null,null,null,null,null,{"$f":"IF(AND(REFERENTES!C817<>\"\",          REFERENTES!C817<>96321,    REFERENTES!C817<>96222            ),(REFERENTES!E817),\"\")","v":""},{"$f":"REFERENTES!C817","v":0},null,815,0,1290,"X"]
[null,null,null,null,null,null,null,null,null,null,null,null,null,null,null,null,null,null,null,null,null,null,null,null,null,null,null,null,{"$f":"IF(AND(REFERENTES!C818<>\"\",          REFERENTES!C818<>96321,    REFERENTES!C818<>96222            ),(REFERENTES!E818),\"\")","v":""},{"$f":"REFERENTES!C818","v":0},null,816,0,1290,"X"]
[null,null,null,null,null,null,null,null,null,null,null,null,null,null,null,null,null,null,null,null,null,null,null,null,null,null,null,null,{"$f":"IF(AND(REFERENTES!C819<>\"\",          REFERENTES!C819<>96321,    REFERENTES!C819<>96222            ),(REFERENTES!E819),\"\")","v":""},{"$f":"REFERENTES!C819","v":0},null,817,0,1290,"X"]
[null,null,null,null,null,null,null,null,null,null,null,null,null,null,null,null,null,null,null,null,null,null,null,null,null,null,null,null,{"$f":"IF(AND(REFERENTES!C820<>\"\",          REFERENTES!C820<>96321,    REFERENTES!C820<>96222            ),(REFERENTES!E820),\"\")","v":""},{"$f":"REFERENTES!C820","v":0},null,818,0,1290,"X"]
[null,null,null,null,null,null,null,null,null,null,null,null,null,null,null,null,null,null,null,null,null,null,null,null,null,null,null,null,{"$f":"IF(AND(REFERENTES!C821<>\"\",          REFERENTES!C821<>96321,    REFERENTES!C821<>96222            ),(REFERENTES!E821),\"\")","v":""},{"$f":"REFERENTES!C821","v":0},null,819,0,1290,"X"]
[null,null,null,null,null,null,null,null,null,null,null,null,null,null,null,null,null,null,null,null,null,null,null,null,null,null,null,null,{"$f":"IF(AND(REFERENTES!C822<>\"\",          REFERENTES!C822<>96321,    REFERENTES!C822<>96222            ),(REFERENTES!E822),\"\")","v":""},{"$f":"REFERENTES!C822","v":0},null,820,0,1290,"X"]
[null,null,null,null,null,null,null,null,null,null,null,null,null,null,null,null,null,null,null,null,null,null,null,null,null,null,null,null,{"$f":"IF(AND(REFERENTES!C823<>\"\",          REFERENTES!C823<>96321,    REFERENTES!C823<>96222            ),(REFERENTES!E823),\"\")","v":""},{"$f":"REFERENTES!C823","v":0},null,821,0,1290,"X"]
[null,null,null,null,null,null,null,null,null,null,null,null,null,null,null,null,null,null,null,null,null,null,null,null,null,null,null,null,{"$f":"IF(AND(REFERENTES!C824<>\"\",          REFERENTES!C824<>96321,    REFERENTES!C824<>96222            ),(REFERENTES!E824),\"\")","v":""},{"$f":"REFERENTES!C824","v":0},null,822,0,1290,"X"]
[null,null,null,null,null,null,null,null,null,null,null,null,null,null,null,null,null,null,null,null,null,null,null,null,null,null,null,null,{"$f":"IF(AND(REFERENTES!C825<>\"\",          REFERENTES!C825<>96321,    REFERENTES!C825<>96222            ),(REFERENTES!E825),\"\")","v":""},{"$f":"REFERENTES!C825","v":0},null,823,0,1290,"X"]
[null,null,null,null,null,null,null,null,null,null,null,null,null,null,null,null,null,null,null,null,null,null,null,null,null,null,null,null,{"$f":"IF(AND(REFERENTES!C826<>\"\",          REFERENTES!C826<>96321,    REFERENTES!C826<>96222            ),(REFERENTES!E826),\"\")","v":""},{"$f":"REFERENTES!C826","v":0},null,824,0,1290,"X"]
[null,null,null,null,null,null,null,null,null,null,null,null,null,null,null,null,null,null,null,null,null,null,null,null,null,null,null,null,{"$f":"IF(AND(REFERENTES!C827<>\"\",          REFERENTES!C827<>96321,    REFERENTES!C827<>96222            ),(REFERENTES!E827),\"\")","v":""},{"$f":"REFERENTES!C827","v":0},null,825,0,1290,"X"]
[null,null,null,null,null,null,null,null,null,null,null,null,null,null,null,null,null,null,null,null,null,null,null,null,null,null,null,null,{"$f":"IF(AND(REFERENTES!C828<>\"\",          REFERENTES!C828<>96321,    REFERENTES!C828<>96222            ),(REFERENTES!E828),\"\")","v":""},{"$f":"REFERENTES!C828","v":0},null,826,0,1290,"X"]
[null,null,null,null,null,null,null,null,null,null,null,null,null,null,null,null,null,null,null,null,null,null,null,null,null,null,null,null,{"$f":"IF(AND(REFERENTES!C829<>\"\",          REFERENTES!C829<>96321,    REFERENTES!C829<>96222            ),(REFERENTES!E829),\"\")","v":""},{"$f":"REFERENTES!C829","v":0},null,827,0,1290,"X"]
[null,null,null,null,null,null,null,null,null,null,null,null,null,null,null,null,null,null,null,null,null,null,null,null,null,null,null,null,{"$f":"IF(AND(REFERENTES!C830<>\"\",          REFERENTES!C830<>96321,    REFERENTES!C830<>96222            ),(REFERENTES!E830),\"\")","v":""},{"$f":"REFERENTES!C830","v":0},null,828,0,1290,"X"]
[null,null,null,null,null,null,null,null,null,null,null,null,null,null,null,null,null,null,null,null,null,null,null,null,null,null,null,null,{"$f":"IF(AND(REFERENTES!C831<>\"\",          REFERENTES!C831<>96321,    REFERENTES!C831<>96222            ),(REFERENTES!E831),\"\")","v":""},{"$f":"REFERENTES!C831","v":0},null,829,0,1290,"X"]
[null,null,null,null,null,null,null,null,null,null,null,null,null,null,null,null,null,null,null,null,null,null,null,null,null,null,null,null,{"$f":"IF(AND(REFERENTES!C832<>\"\",          REFERENTES!C832<>96321,    REFERENTES!C832<>96222            ),(REFERENTES!E832),\"\")","v":""},{"$f":"REFERENTES!C832","v":0},null,830,0,1290,"X"]
[null,null,null,null,null,null,null,null,null,null,null,null,null,null,null,null,null,null,null,null,null,null,null,null,null,null,null,null,{"$f":"IF(AND(REFERENTES!C833<>\"\",          REFERENTES!C833<>96321,    REFERENTES!C833<>96222            ),(REFERENTES!E833),\"\")","v":""},{"$f":"REFERENTES!C833","v":0},null,831,0,1290,"X"]
[null,null,null,null,null,null,null,null,null,null,null,null,null,null,null,null,null,null,null,null,null,null,null,null,null,null,null,null,{"$f":"IF(AND(REFERENTES!C834<>\"\",          REFERENTES!C834<>96321,    REFERENTES!C834<>96222            ),(REFERENTES!E834),\"\")","v":""},{"$f":"REFERENTES!C834","v":0},null,832,0,1290,"X"]
[null,null,null,null,null,null,null,null,null,null,null,null,null,null,null,null,null,null,null,null,null,null,null,null,null,null,null,null,{"$f":"IF(AND(REFERENTES!C835<>\"\",          REFERENTES!C835<>96321,    REFERENTES!C835<>96222            ),(REFERENTES!E835),\"\")","v":""},{"$f":"REFERENTES!C835","v":0},null,833,0,1290,"X"]
[null,null,null,null,null,null,null,null,null,null,null,null,null,null,null,null,null,null,null,null,null,null,null,null,null,null,null,null,{"$f":"IF(AND(REFERENTES!C836<>\"\",          REFERENTES!C836<>96321,    REFERENTES!C836<>96222            ),(REFERENTES!E836),\"\")","v":""},{"$f":"REFERENTES!C836","v":0},null,834,{"$f":"IF(AC838=\"\",0,AC838)","v":0},{"$f":"IF(AG839=0,MAX($AF$6:$AF$1294)+1,AF839)","v":1290},{"$f":"IFERROR(VLOOKUP(SMALL($AH$6:$AH$1294,AF839),$AF$6:$AH$1294,2,FALSE),\"X\")","v":"X"}]
[null,null,null,null,null,null,null,null,null,null,null,null,null,null,null,null,null,null,null,null,null,null,null,null,null,null,null,null,{"$f":"IF(AND(REFERENTES!C837<>\"\",          REFERENTES!C837<>96321,    REFERENTES!C837<>96222            ),(REFERENTES!E837),\"\")","v":""},{"$f":"REFERENTES!C837","v":0},null,835,0,1290,"X"]
[null,null,null,null,null,null,null,null,null,null,null,null,null,null,null,null,null,null,null,null,null,null,null,null,null,null,null,null,{"$f":"IF(AND(REFERENTES!C838<>\"\",          REFERENTES!C838<>96321,    REFERENTES!C838<>96222            ),(REFERENTES!E838),\"\")","v":""},{"$f":"REFERENTES!C838","v":0},null,836,0,1290,"X"]
[null,null,null,null,null,null,null,null,null,null,null,null,null,null,null,null,null,null,null,null,null,null,null,null,null,null,null,null,{"$f":"IF(AND(REFERENTES!C839<>\"\",          REFERENTES!C839<>96321,    REFERENTES!C839<>96222            ),(REFERENTES!E839),\"\")","v":""},{"$f":"REFERENTES!C839","v":0},null,837,0,1290,"X"]
[null,null,null,null,null,null,null,null,null,null,null,null,null,null,null,null,null,null,null,null,null,null,null,null,null,null,null,null,{"$f":"IF(AND(REFERENTES!C840<>\"\",          REFERENTES!C840<>96321,    REFERENTES!C840<>96222            ),(REFERENTES!E840),\"\")","v":""},{"$f":"REFERENTES!C840","v":0},null,838,0,1290,"X"]
[null,null,null,null,null,null,null,null,null,null,null,null,null,null,null,null,null,null,null,null,null,null,null,null,null,null,null,null,{"$f":"IF(AND(REFERENTES!C841<>\"\",          REFERENTES!C841<>96321,    REFERENTES!C841<>96222            ),(REFERENTES!E841),\"\")","v":""},{"$f":"REFERENTES!C841","v":0},null,839,0,1290,"X"]
[null,null,null,null,null,null,null,null,null,null,null,null,null,null,null,null,null,null,null,null,null,null,null,null,null,null,null,null,{"$f":"IF(AND(REFERENTES!C842<>\"\",          REFERENTES!C842<>96321,    REFERENTES!C842<>96222            ),(REFERENTES!E842),\"\")","v":""},{"$f":"REFERENTES!C842","v":0},null,840,0,1290,"X"]
[null,null,null,null,null,null,null,null,null,null,null,null,null,null,null,null,null,null,null,null,null,null,null,null,null,null,null,null,{"$f":"IF(AND(REFERENTES!C843<>\"\",          REFERENTES!C843<>96321,    REFERENTES!C843<>96222            ),(REFERENTES!E843),\"\")","v":""},{"$f":"REFERENTES!C843","v":0},null,841,0,1290,"X"]
[null,null,null,null,null,null,null,null,null,null,null,null,null,null,null,null,null,null,null,null,null,null,null,null,null,null,null,null,{"$f":"IF(AND(REFERENTES!C844<>\"\",          REFERENTES!C844<>96321,    REFERENTES!C844<>96222            ),(REFERENTES!E844),\"\")","v":""},{"$f":"REFERENTES!C844","v":0},null,842,0,1290,"X"]
[null,null,null,null,null,null,null,null,null,null,null,null,null,null,null,null,null,null,null,null,null,null,null,null,null,null,null,null,{"$f":"IF(AND(REFERENTES!C845<>\"\",          REFERENTES!C845<>96321,    REFERENTES!C845<>96222            ),(REFERENTES!E845),\"\")","v":""},{"$f":"REFERENTES!C845","v":0},null,843,0,1290,"X"]
[null,null,null,null,null,null,null,null,null,null,null,null,null,null,null,null,null,null,null,null,null,null,null,null,null,null,null,null,{"$f":"IF(AND(REFERENTES!C846<>\"\",          REFERENTES!C846<>96321,    REFERENTES!C846<>96222            ),(REFERENTES!E846),\"\")","v":""},{"$f":"REFERENTES!C846","v":0},null,844,0,1290,"X"]
[null,null,null,null,null,null,null,null,null,null,null,null,null,null,null,null,null,null,null,null,null,null,null,null,null,null,null,null,{"$f":"IF(AND(REFERENTES!C847<>\"\",          REFERENTES!C847<>96321,    REFERENTES!C847<>96222            ),(REFERENTES!E847),\"\")","v":""},{"$f":"REFERENTES!C847","v":0},null,845,0,1290,"X"]
[null,null,null,null,null,null,null,null,null,null,null,null,null,null,null,null,null,null,null,null,null,null,null,null,null,null,null,null,{"$f":"IF(AND(REFERENTES!C848<>\"\",          REFERENTES!C848<>96321,    REFERENTES!C848<>96222            ),(REFERENTES!E848),\"\")","v":""},{"$f":"REFERENTES!C848","v":0},null,846,0,1290,"X"]
[null,null,null,null,null,null,null,null,null,null,null,null,null,null,null,null,null,null,null,null,null,null,null,null,null,null,null,null,{"$f":"IF(AND(REFERENTES!C849<>\"\",          REFERENTES!C849<>96321,    REFERENTES!C849<>96222            ),(REFERENTES!E849),\"\")","v":""},{"$f":"REFERENTES!C849","v":0},null,847,0,1290,"X"]
[null,null,null,null,null,null,null,null,null,null,null,null,null,null,null,null,null,null,null,null,null,null,null,null,null,null,null,null,{"$f":"IF(AND(REFERENTES!C850<>\"\",          REFERENTES!C850<>96321,    REFERENTES!C850<>96222            ),(REFERENTES!E850),\"\")","v":""},{"$f":"REFERENTES!C850","v":0},null,848,0,1290,"X"]
[null,null,null,null,null,null,null,null,null,null,null,null,null,null,null,null,null,null,null,null,null,null,null,null,null,null,null,null,{"$f":"IF(AND(REFERENTES!C851<>\"\",          REFERENTES!C851<>96321,    REFERENTES!C851<>96222            ),(REFERENTES!E851),\"\")","v":""},{"$f":"REFERENTES!C851","v":0},null,849,0,1290,"X"]
[null,null,null,null,null,null,null,null,null,null,null,null,null,null,null,null,null,null,null,null,null,null,null,null,null,null,null,null,{"$f":"IF(AND(REFERENTES!C852<>\"\",          REFERENTES!C852<>96321,    REFERENTES!C852<>96222            ),(REFERENTES!E852),\"\")","v":""},{"$f":"REFERENTES!C852","v":0},null,850,0,1290,"X"]
[null,null,null,null,null,null,null,null,null,null,null,null,null,null,null,null,null,null,null,null,null,null,null,null,null,null,null,null,{"$f":"IF(AND(REFERENTES!C853<>\"\",          REFERENTES!C853<>96321,    REFERENTES!C853<>96222            ),(REFERENTES!E853),\"\")","v":""},{"$f":"REFERENTES!C853","v":0},null,851,0,1290,"X"]
[null,null,null,null,null,null,null,null,null,null,null,null,null,null,null,null,null,null,null,null,null,null,null,null,null,null,null,null,{"$f":"IF(AND(REFERENTES!C854<>\"\",          REFERENTES!C854<>96321,    REFERENTES!C854<>96222            ),(REFERENTES!E854),\"\")","v":""},{"$f":"REFERENTES!C854","v":0},null,852,0,1290,"X"]
[null,null,null,null,null,null,null,null,null,null,null,null,null,null,null,null,null,null,null,null,null,null,null,null,null,null,null,null,{"$f":"IF(AND(REFERENTES!C855<>\"\",          REFERENTES!C855<>96321,    REFERENTES!C855<>96222            ),(REFERENTES!E855),\"\")","v":""},{"$f":"REFERENTES!C855","v":0},null,853,0,1290,"X"]
[null,null,null,null,null,null,null,null,null,null,null,null,null,null,null,null,null,null,null,null,null,null,null,null,null,null,null,null,{"$f":"IF(AND(REFERENTES!C856<>\"\",          REFERENTES!C856<>96321,    REFERENTES!C856<>96222            ),(REFERENTES!E856),\"\")","v":""},{"$f":"REFERENTES!C856","v":0},null,854,0,1290,"X"]
[null,null,null,null,null,null,null,null,null,null,null,null,null,null,null,null,null,null,null,null,null,null,null,null,null,null,null,null,{"$f":"IF(AND(REFERENTES!C857<>\"\",          REFERENTES!C857<>96321,    REFERENTES!C857<>96222            ),(REFERENTES!E857),\"\")","v":""},{"$f":"REFERENTES!C857","v":0},null,855,0,1290,"X"]
[null,null,null,null,null,null,null,null,null,null,null,null,null,null,null,null,null,null,null,null,null,null,null,null,null,null,null,null,{"$f":"IF(AND(REFERENTES!C858<>\"\",          REFERENTES!C858<>96321,    REFERENTES!C858<>96222            ),(REFERENTES!E858),\"\")","v":""},{"$f":"REFERENTES!C858","v":0},null,856,0,1290,"X"]
[null,null,null,null,null,null,null,null,null,null,null,null,null,null,null,null,null,null,null,null,null,null,null,null,null,null,null,null,{"$f":"IF(AND(REFERENTES!C859<>\"\",          REFERENTES!C859<>96321,    REFERENTES!C859<>96222            ),(REFERENTES!E859),\"\")","v":""},{"$f":"REFERENTES!C859","v":0},null,857,0,1290,"X"]
[null,null,null,null,null,null,null,null,null,null,null,null,null,null,null,null,null,null,null,null,null,null,null,null,null,null,null,null,{"$f":"IF(AND(REFERENTES!C860<>\"\",          REFERENTES!C860<>96321,    REFERENTES!C860<>96222            ),(REFERENTES!E860),\"\")","v":""},{"$f":"REFERENTES!C860","v":0},null,858,0,1290,"X"]
[null,null,null,null,null,null,null,null,null,null,null,null,null,null,null,null,null,null,null,null,null,null,null,null,null,null,null,null,{"$f":"IF(AND(REFERENTES!C861<>\"\",          REFERENTES!C861<>96321,    REFERENTES!C861<>96222            ),(REFERENTES!E861),\"\")","v":""},{"$f":"REFERENTES!C861","v":0},null,859,0,1290,"X"]
[null,null,null,null,null,null,null,null,null,null,null,null,null,null,null,null,null,null,null,null,null,null,null,null,null,null,null,null,{"$f":"IF(AND(REFERENTES!C862<>\"\",          REFERENTES!C862<>96321,    REFERENTES!C862<>96222            ),(REFERENTES!E862),\"\")","v":""},{"$f":"REFERENTES!C862","v":0},null,860,0,1290,"X"]
[null,null,null,null,null,null,null,null,null,null,null,null,null,null,null,null,null,null,null,null,null,null,null,null,null,null,null,null,{"$f":"IF(AND(REFERENTES!C863<>\"\",          REFERENTES!C863<>96321,    REFERENTES!C863<>96222            ),(REFERENTES!E863),\"\")","v":""},{"$f":"REFERENTES!C863","v":0},null,861,0,1290,"X"]
[null,null,null,null,null,null,null,null,null,null,null,null,null,null,null,null,null,null,null,null,null,null,null,null,null,null,null,null,{"$f":"IF(AND(REFERENTES!C864<>\"\",          REFERENTES!C864<>96321,    REFERENTES!C864<>96222            ),(REFERENTES!E864),\"\")","v":""},{"$f":"REFERENTES!C864","v":0},null,862,0,1290,"X"]
[null,null,null,null,null,null,null,null,null,null,null,null,null,null,null,null,null,null,null,null,null,null,null,null,null,null,null,null,{"$f":"IF(AND(REFERENTES!C865<>\"\",          REFERENTES!C865<>96321,    REFERENTES!C865<>96222            ),(REFERENTES!E865),\"\")","v":""},{"$f":"REFERENTES!C865","v":0},null,863,0,1290,"X"]
[null,null,null,null,null,null,null,null,null,null,null,null,null,null,null,null,null,null,null,null,null,null,null,null,null,null,null,null,{"$f":"IF(AND(REFERENTES!C866<>\"\",          REFERENTES!C866<>96321,    REFERENTES!C866<>96222            ),(REFERENTES!E866),\"\")","v":""},{"$f":"REFERENTES!C866","v":0},null,864,0,1290,"X"]
[null,null,null,null,null,null,null,null,null,null,null,null,null,null,null,null,null,null,null,null,null,null,null,null,null,null,null,null,{"$f":"IF(AND(REFERENTES!C867<>\"\",          REFERENTES!C867<>96321,    REFERENTES!C867<>96222            ),(REFERENTES!E867),\"\")","v":""},{"$f":"REFERENTES!C867","v":0},null,865,0,1290,"X"]
[null,null,null,null,null,null,null,null,null,null,null,null,null,null,null,null,null,null,null,null,null,null,null,null,null,null,null,null,{"$f":"IF(AND(REFERENTES!C868<>\"\",          REFERENTES!C868<>96321,    REFERENTES!C868<>96222            ),(REFERENTES!E868),\"\")","v":""},{"$f":"REFERENTES!C868","v":0},null,866,0,1290,"X"]
[null,null,null,null,null,null,null,null,null,null,null,null,null,null,null,null,null,null,null,null,null,null,null,null,null,null,null,null,{"$f":"IF(AND(REFERENTES!C869<>\"\",          REFERENTES!C869<>96321,    REFERENTES!C869<>96222            ),(REFERENTES!E869),\"\")","v":""},{"$f":"REFERENTES!C869","v":0},null,867,0,1290,"X"]
[null,null,null,null,null,null,null,null,null,null,null,null,null,null,null,null,null,null,null,null,null,null,null,null,null,null,null,null,{"$f":"IF(AND(REFERENTES!C870<>\"\",          REFERENTES!C870<>96321,    REFERENTES!C870<>96222            ),(REFERENTES!E870),\"\")","v":""},{"$f":"REFERENTES!C870","v":0},null,868,0,1290,"X"]
[null,null,null,null,null,null,null,null,null,null,null,null,null,null,null,null,null,null,null,null,null,null,null,null,null,null,null,null,{"$f":"IF(AND(REFERENTES!C871<>\"\",          REFERENTES!C871<>96321,    REFERENTES!C871<>96222            ),(REFERENTES!E871),\"\")","v":""},{"$f":"REFERENTES!C871","v":0},null,869,0,1290,"X"]
[null,null,null,null,null,null,null,null,null,null,null,null,null,null,null,null,null,null,null,null,null,null,null,null,null,null,null,null,{"$f":"IF(AND(REFERENTES!C872<>\"\",          REFERENTES!C872<>96321,    REFERENTES!C872<>96222            ),(REFERENTES!E872),\"\")","v":""},{"$f":"REFERENTES!C872","v":0},null,870,0,1290,"X"]
[null,null,null,null,null,null,null,null,null,null,null,null,null,null,null,null,null,null,null,null,null,null,null,null,null,null,null,null,{"$f":"IF(AND(REFERENTES!C873<>\"\",          REFERENTES!C873<>96321,    REFERENTES!C873<>96222            ),(REFERENTES!E873),\"\")","v":""},{"$f":"REFERENTES!C873","v":0},null,871,0,1290,"X"]
[null,null,null,null,null,null,null,null,null,null,null,null,null,null,null,null,null,null,null,null,null,null,null,null,null,null,null,null,{"$f":"IF(AND(REFERENTES!C874<>\"\",          REFERENTES!C874<>96321,    REFERENTES!C874<>96222            ),(REFERENTES!E874),\"\")","v":""},{"$f":"REFERENTES!C874","v":0},null,872,0,1290,"X"]
[null,null,null,null,null,null,null,null,null,null,null,null,null,null,null,null,null,null,null,null,null,null,null,null,null,null,null,null,{"$f":"IF(AND(REFERENTES!C875<>\"\",          REFERENTES!C875<>96321,    REFERENTES!C875<>96222            ),(REFERENTES!E875),\"\")","v":""},{"$f":"REFERENTES!C875","v":0},null,873,0,1290,"X"]
[null,null,null,null,null,null,null,null,null,null,null,null,null,null,null,null,null,null,null,null,null,null,null,null,null,null,null,null,{"$f":"IF(AND(REFERENTES!C876<>\"\",          REFERENTES!C876<>96321,    REFERENTES!C876<>96222            ),(REFERENTES!E876),\"\")","v":""},{"$f":"REFERENTES!C876","v":0},null,874,0,1290,"X"]
[null,null,null,null,null,null,null,null,null,null,null,null,null,null,null,null,null,null,null,null,null,null,null,null,null,null,null,null,{"$f":"IF(AND(REFERENTES!C877<>\"\",          REFERENTES!C877<>96321,    REFERENTES!C877<>96222            ),(REFERENTES!E877),\"\")","v":""},{"$f":"REFERENTES!C877","v":0},null,875,0,1290,"X"]
[null,null,null,null,null,null,null,null,null,null,null,null,null,null,null,null,null,null,null,null,null,null,null,null,null,null,null,null,{"$f":"IF(AND(REFERENTES!C878<>\"\",          REFERENTES!C878<>96321,    REFERENTES!C878<>96222            ),(REFERENTES!E878),\"\")","v":""},{"$f":"REFERENTES!C878","v":0},null,876,0,1290,"X"]
[null,null,null,null,null,null,null,null,null,null,null,null,null,null,null,null,null,null,null,null,null,null,null,null,null,null,null,null,{"$f":"IF(AND(REFERENTES!C879<>\"\",          REFERENTES!C879<>96321,    REFERENTES!C879<>96222            ),(REFERENTES!E879),\"\")","v":""},{"$f":"REFERENTES!C879","v":0},null,877,0,1290,"X"]
[null,null,null,null,null,null,null,null,null,null,null,null,null,null,null,null,null,null,null,null,null,null,null,null,null,null,null,null,{"$f":"IF(AND(REFERENTES!C880<>\"\",          REFERENTES!C880<>96321,    REFERENTES!C880<>96222            ),(REFERENTES!E880),\"\")","v":""},{"$f":"REFERENTES!C880","v":0},null,878,0,1290,"X"]
[null,null,null,null,null,null,null,null,null,null,null,null,null,null,null,null,null,null,null,null,null,null,null,null,null,null,null,null,{"$f":"IF(AND(REFERENTES!C881<>\"\",          REFERENTES!C881<>96321,    REFERENTES!C881<>96222            ),(REFERENTES!E881),\"\")","v":""},{"$f":"REFERENTES!C881","v":0},null,879,0,1290,"X"]
[null,null,null,null,null,null,null,null,null,null,null,null,null,null,null,null,null,null,null,null,null,null,null,null,null,null,null,null,{"$f":"IF(AND(REFERENTES!C882<>\"\",          REFERENTES!C882<>96321,    REFERENTES!C882<>96222            ),(REFERENTES!E882),\"\")","v":""},{"$f":"REFERENTES!C882","v":0},null,880,0,1290,"X"]
[null,null,null,null,null,null,null,null,null,null,null,null,null,null,null,null,null,null,null,null,null,null,null,null,null,null,null,null,{"$f":"IF(AND(REFERENTES!C883<>\"\",          REFERENTES!C883<>96321,    REFERENTES!C883<>96222            ),(REFERENTES!E883),\"\")","v":""},{"$f":"REFERENTES!C883","v":0},null,881,0,1290,"X"]
[null,null,null,null,null,null,null,null,null,null,null,null,null,null,null,null,null,null,null,null,null,null,null,null,null,null,null,null,{"$f":"IF(AND(REFERENTES!C884<>\"\",          REFERENTES!C884<>96321,    REFERENTES!C884<>96222            ),(REFERENTES!E884),\"\")","v":""},{"$f":"REFERENTES!C884","v":0},null,882,0,1290,"X"]
[null,null,null,null,null,null,null,null,null,null,null,null,null,null,null,null,null,null,null,null,null,null,null,null,null,null,null,null,{"$f":"IF(AND(REFERENTES!C885<>\"\",          REFERENTES!C885<>96321,    REFERENTES!C885<>96222            ),(REFERENTES!E885),\"\")","v":""},{"$f":"REFERENTES!C885","v":0},null,883,0,1290,"X"]
[null,null,null,null,null,null,null,null,null,null,null,null,null,null,null,null,null,null,null,null,null,null,null,null,null,null,null,null,{"$f":"IF(AND(REFERENTES!C886<>\"\",          REFERENTES!C886<>96321,    REFERENTES!C886<>96222            ),(REFERENTES!E886),\"\")","v":""},{"$f":"REFERENTES!C886","v":0},null,884,0,1290,"X"]
[null,null,null,null,null,null,null,null,null,null,null,null,null,null,null,null,null,null,null,null,null,null,null,null,null,null,null,null,{"$f":"IF(AND(REFERENTES!C887<>\"\",          REFERENTES!C887<>96321,    REFERENTES!C887<>96222            ),(REFERENTES!E887),\"\")","v":""},{"$f":"REFERENTES!C887","v":0},null,885,0,1290,"X"]
[null,null,null,null,null,null,null,null,null,null,null,null,null,null,null,null,null,null,null,null,null,null,null,null,null,null,null,null,{"$f":"IF(AND(REFERENTES!C888<>\"\",          REFERENTES!C888<>96321,    REFERENTES!C888<>96222            ),(REFERENTES!E888),\"\")","v":""},{"$f":"REFERENTES!C888","v":0},null,886,0,1290,"X"]
[null,null,null,null,null,null,null,null,null,null,null,null,null,null,null,null,null,null,null,null,null,null,null,null,null,null,null,null,{"$f":"IF(AND(REFERENTES!C889<>\"\",          REFERENTES!C889<>96321,    REFERENTES!C889<>96222            ),(REFERENTES!E889),\"\")","v":""},{"$f":"REFERENTES!C889","v":0},null,887,0,1290,"X"]
[null,null,null,null,null,null,null,null,null,null,null,null,null,null,null,null,null,null,null,null,null,null,null,null,null,null,null,null,{"$f":"IF(AND(REFERENTES!C890<>\"\",          REFERENTES!C890<>96321,    REFERENTES!C890<>96222            ),(REFERENTES!E890),\"\")","v":""},{"$f":"REFERENTES!C890","v":0},null,888,0,1290,"X"]
[null,null,null,null,null,null,null,null,null,null,null,null,null,null,null,null,null,null,null,null,null,null,null,null,null,null,null,null,{"$f":"IF(AND(REFERENTES!C891<>\"\",          REFERENTES!C891<>96321,    REFERENTES!C891<>96222            ),(REFERENTES!E891),\"\")","v":""},{"$f":"REFERENTES!C891","v":0},null,889,0,1290,"X"]
[null,null,null,null,null,null,null,null,null,null,null,null,null,null,null,null,null,null,null,null,null,null,null,null,null,null,null,null,{"$f":"IF(AND(REFERENTES!C892<>\"\",          REFERENTES!C892<>96321,    REFERENTES!C892<>96222            ),(REFERENTES!E892),\"\")","v":""},{"$f":"REFERENTES!C892","v":0},null,890,0,1290,"X"]
[null,null,null,null,null,null,null,null,null,null,null,null,null,null,null,null,null,null,null,null,null,null,null,null,null,null,null,null,{"$f":"IF(AND(REFERENTES!C893<>\"\",          REFERENTES!C893<>96321,    REFERENTES!C893<>96222            ),(REFERENTES!E893),\"\")","v":""},{"$f":"REFERENTES!C893","v":0},null,891,0,1290,"X"]
[null,null,null,null,null,null,null,null,null,null,null,null,null,null,null,null,null,null,null,null,null,null,null,null,null,null,null,null,{"$f":"IF(AND(REFERENTES!C894<>\"\",          REFERENTES!C894<>96321,    REFERENTES!C894<>96222            ),(REFERENTES!E894),\"\")","v":""},{"$f":"REFERENTES!C894","v":0},null,892,0,1290,"X"]
[null,null,null,null,null,null,null,null,null,null,null,null,null,null,null,null,null,null,null,null,null,null,null,null,null,null,null,null,{"$f":"IF(AND(REFERENTES!C895<>\"\",          REFERENTES!C895<>96321,    REFERENTES!C895<>96222            ),(REFERENTES!E895),\"\")","v":""},{"$f":"REFERENTES!C895","v":0},null,893,0,1290,"X"]
[null,null,null,null,null,null,null,null,null,null,null,null,null,null,null,null,null,null,null,null,null,null,null,null,null,null,null,null,{"$f":"IF(AND(REFERENTES!C896<>\"\",          REFERENTES!C896<>96321,    REFERENTES!C896<>96222            ),(REFERENTES!E896),\"\")","v":""},{"$f":"REFERENTES!C896","v":0},null,894,0,1290,"X"]
[null,null,null,null,null,null,null,null,null,null,null,null,null,null,null,null,null,null,null,null,null,null,null,null,null,null,null,null,{"$f":"IF(AND(REFERENTES!C897<>\"\",          REFERENTES!C897<>96321,    REFERENTES!C897<>96222            ),(REFERENTES!E897),\"\")","v":""},{"$f":"REFERENTES!C897","v":0},null,895,0,1290,"X"]
[null,null,null,null,null,null,null,null,null,null,null,null,null,null,null,null,null,null,null,null,null,null,null,null,null,null,null,null,{"$f":"IF(AND(REFERENTES!C898<>\"\",          REFERENTES!C898<>96321,    REFERENTES!C898<>96222            ),(REFERENTES!E898),\"\")","v":""},{"$f":"REFERENTES!C898","v":0},null,896,0,1290,"X"]
[null,null,null,null,null,null,null,null,null,null,null,null,null,null,null,null,null,null,null,null,null,null,null,null,null,null,null,null,{"$f":"IF(AND(REFERENTES!C899<>\"\",          REFERENTES!C899<>96321,    REFERENTES!C899<>96222            ),(REFERENTES!E899),\"\")","v":""},{"$f":"REFERENTES!C899","v":0},null,897,0,1290,"X"]
[null,null,null,null,null,null,null,null,null,null,null,null,null,null,null,null,null,null,null,null,null,null,null,null,null,null,null,null,{"$f":"IF(AND(REFERENTES!C900<>\"\",          REFERENTES!C900<>96321,    REFERENTES!C900<>96222            ),(REFERENTES!E900),\"\")","v":""},{"$f":"REFERENTES!C900","v":0},null,898,{"$f":"IF(AC902=\"\",0,AC902)","v":0},{"$f":"IF(AG903=0,MAX($AF$6:$AF$1294)+1,AF903)","v":1290},{"$f":"IFERROR(VLOOKUP(SMALL($AH$6:$AH$1294,AF903),$AF$6:$AH$1294,2,FALSE),\"X\")","v":"X"}]
[null,null,null,null,null,null,null,null,null,null,null,null,null,null,null,null,null,null,null,null,null,null,null,null,null,null,null,null,{"$f":"IF(AND(REFERENTES!C901<>\"\",          REFERENTES!C901<>96321,    REFERENTES!C901<>96222            ),(REFERENTES!E901),\"\")","v":""},{"$f":"REFERENTES!C901","v":0},null,899,0,1290,"X"]
[null,null,null,null,null,null,null,null,null,null,null,null,null,null,null,null,null,null,null,null,null,null,null,null,null,null,null,null,{"$f":"IF(AND(REFERENTES!C902<>\"\",          REFERENTES!C902<>96321,    REFERENTES!C902<>96222            ),(REFERENTES!E902),\"\")","v":""},{"$f":"REFERENTES!C902","v":0},null,900,0,1290,"X"]
[null,null,null,null,null,null,null,null,null,null,null,null,null,null,null,null,null,null,null,null,null,null,null,null,null,null,null,null,{"$f":"IF(AND(REFERENTES!C903<>\"\",          REFERENTES!C903<>96321,    REFERENTES!C903<>96222            ),(REFERENTES!E903),\"\")","v":""},{"$f":"REFERENTES!C903","v":0},null,901,0,1290,"X"]
[null,null,null,null,null,null,null,null,null,null,null,null,null,null,null,null,null,null,null,null,null,null,null,null,null,null,null,null,{"$f":"IF(AND(REFERENTES!C904<>\"\",          REFERENTES!C904<>96321,    REFERENTES!C904<>96222            ),(REFERENTES!E904),\"\")","v":""},{"$f":"REFERENTES!C904","v":0},null,902,0,1290,"X"]
[null,null,null,null,null,null,null,null,null,null,null,null,null,null,null,null,null,null,null,null,null,null,null,null,null,null,null,null,{"$f":"IF(AND(REFERENTES!C905<>\"\",          REFERENTES!C905<>96321,    REFERENTES!C905<>96222            ),(REFERENTES!E905),\"\")","v":""},{"$f":"REFERENTES!C905","v":0},null,903,0,1290,"X"]
[null,null,null,null,null,null,null,null,null,null,null,null,null,null,null,null,null,null,null,null,null,null,null,null,null,null,null,null,{"$f":"IF(AND(REFERENTES!C906<>\"\",          REFERENTES!C906<>96321,    REFERENTES!C906<>96222            ),(REFERENTES!E906),\"\")","v":""},{"$f":"REFERENTES!C906","v":0},null,904,0,1290,"X"]
[null,null,null,null,null,null,null,null,null,null,null,null,null,null,null,null,null,null,null,null,null,null,null,null,null,null,null,null,{"$f":"IF(AND(REFERENTES!C907<>\"\",          REFERENTES!C907<>96321,    REFERENTES!C907<>96222            ),(REFERENTES!E907),\"\")","v":""},{"$f":"REFERENTES!C907","v":0},null,905,0,1290,"X"]
[null,null,null,null,null,null,null,null,null,null,null,null,null,null,null,null,null,null,null,null,null,null,null,null,null,null,null,null,{"$f":"IF(AND(REFERENTES!C908<>\"\",          REFERENTES!C908<>96321,    REFERENTES!C908<>96222            ),(REFERENTES!E908),\"\")","v":""},{"$f":"REFERENTES!C908","v":0},null,906,0,1290,"X"]
[null,null,null,null,null,null,null,null,null,null,null,null,null,null,null,null,null,null,null,null,null,null,null,null,null,null,null,null,{"$f":"IF(AND(REFERENTES!C909<>\"\",          REFERENTES!C909<>96321,    REFERENTES!C909<>96222            ),(REFERENTES!E909),\"\")","v":""},{"$f":"REFERENTES!C909","v":0},null,907,0,1290,"X"]
[null,null,null,null,null,null,null,null,null,null,null,null,null,null,null,null,null,null,null,null,null,null,null,null,null,null,null,null,{"$f":"IF(AND(REFERENTES!C910<>\"\",          REFERENTES!C910<>96321,    REFERENTES!C910<>96222            ),(REFERENTES!E910),\"\")","v":""},{"$f":"REFERENTES!C910","v":0},null,908,0,1290,"X"]
[null,null,null,null,null,null,null,null,null,null,null,null,null,null,null,null,null,null,null,null,null,null,null,null,null,null,null,null,{"$f":"IF(AND(REFERENTES!C911<>\"\",          REFERENTES!C911<>96321,    REFERENTES!C911<>96222            ),(REFERENTES!E911),\"\")","v":""},{"$f":"REFERENTES!C911","v":0},null,909,0,1290,"X"]
[null,null,null,null,null,null,null,null,null,null,null,null,null,null,null,null,null,null,null,null,null,null,null,null,null,null,null,null,{"$f":"IF(AND(REFERENTES!C912<>\"\",          REFERENTES!C912<>96321,    REFERENTES!C912<>96222            ),(REFERENTES!E912),\"\")","v":""},{"$f":"REFERENTES!C912","v":0},null,910,0,1290,"X"]
[null,null,null,null,null,null,null,null,null,null,null,null,null,null,null,null,null,null,null,null,null,null,null,null,null,null,null,null,{"$f":"IF(AND(REFERENTES!C913<>\"\",          REFERENTES!C913<>96321,    REFERENTES!C913<>96222            ),(REFERENTES!E913),\"\")","v":""},{"$f":"REFERENTES!C913","v":0},null,911,0,1290,"X"]
[null,null,null,null,null,null,null,null,null,null,null,null,null,null,null,null,null,null,null,null,null,null,null,null,null,null,null,null,{"$f":"IF(AND(REFERENTES!C914<>\"\",          REFERENTES!C914<>96321,    REFERENTES!C914<>96222            ),(REFERENTES!E914),\"\")","v":""},{"$f":"REFERENTES!C914","v":0},null,912,0,1290,"X"]
[null,null,null,null,null,null,null,null,null,null,null,null,null,null,null,null,null,null,null,null,null,null,null,null,null,null,null,null,{"$f":"IF(AND(REFERENTES!C915<>\"\",          REFERENTES!C915<>96321,    REFERENTES!C915<>96222            ),(REFERENTES!E915),\"\")","v":""},{"$f":"REFERENTES!C915","v":0},null,913,0,1290,"X"]
[null,null,null,null,null,null,null,null,null,null,null,null,null,null,null,null,null,null,null,null,null,null,null,null,null,null,null,null,{"$f":"IF(AND(REFERENTES!C916<>\"\",          REFERENTES!C916<>96321,    REFERENTES!C916<>96222            ),(REFERENTES!E916),\"\")","v":""},{"$f":"REFERENTES!C916","v":0},null,914,0,1290,"X"]
[null,null,null,null,null,null,null,null,null,null,null,null,null,null,null,null,null,null,null,null,null,null,null,null,null,null,null,null,{"$f":"IF(AND(REFERENTES!C917<>\"\",          REFERENTES!C917<>96321,    REFERENTES!C917<>96222            ),(REFERENTES!E917),\"\")","v":""},{"$f":"REFERENTES!C917","v":0},null,915,0,1290,"X"]
[null,null,null,null,null,null,null,null,null,null,null,null,null,null,null,null,null,null,null,null,null,null,null,null,null,null,null,null,{"$f":"IF(AND(REFERENTES!C918<>\"\",          REFERENTES!C918<>96321,    REFERENTES!C918<>96222            ),(REFERENTES!E918),\"\")","v":""},{"$f":"REFERENTES!C918","v":0},null,916,0,1290,"X"]
[null,null,null,null,null,null,null,null,null,null,null,null,null,null,null,null,null,null,null,null,null,null,null,null,null,null,null,null,{"$f":"IF(AND(REFERENTES!C919<>\"\",          REFERENTES!C919<>96321,    REFERENTES!C919<>96222            ),(REFERENTES!E919),\"\")","v":""},{"$f":"REFERENTES!C919","v":0},null,917,0,1290,"X"]
[null,null,null,null,null,null,null,null,null,null,null,null,null,null,null,null,null,null,null,null,null,null,null,null,null,null,null,null,{"$f":"IF(AND(REFERENTES!C920<>\"\",          REFERENTES!C920<>96321,    REFERENTES!C920<>96222            ),(REFERENTES!E920),\"\")","v":""},{"$f":"REFERENTES!C920","v":0},null,918,0,1290,"X"]
[null,null,null,null,null,null,null,null,null,null,null,null,null,null,null,null,null,null,null,null,null,null,null,null,null,null,null,null,{"$f":"IF(AND(REFERENTES!C921<>\"\",          REFERENTES!C921<>96321,    REFERENTES!C921<>96222            ),(REFERENTES!E921),\"\")","v":""},{"$f":"REFERENTES!C921","v":0},null,919,0,1290,"X"]
[null,null,null,null,null,null,null,null,null,null,null,null,null,null,null,null,null,null,null,null,null,null,null,null,null,null,null,null,{"$f":"IF(AND(REFERENTES!C922<>\"\",          REFERENTES!C922<>96321,    REFERENTES!C922<>96222            ),(REFERENTES!E922),\"\")","v":""},{"$f":"REFERENTES!C922","v":0},null,920,0,1290,"X"]
[null,null,null,null,null,null,null,null,null,null,null,null,null,null,null,null,null,null,null,null,null,null,null,null,null,null,null,null,{"$f":"IF(AND(REFERENTES!C923<>\"\",          REFERENTES!C923<>96321,    REFERENTES!C923<>96222            ),(REFERENTES!E923),\"\")","v":""},{"$f":"REFERENTES!C923","v":0},null,921,0,1290,"X"]
[null,null,null,null,null,null,null,null,null,null,null,null,null,null,null,null,null,null,null,null,null,null,null,null,null,null,null,null,{"$f":"IF(AND(REFERENTES!C924<>\"\",          REFERENTES!C924<>96321,    REFERENTES!C924<>96222            ),(REFERENTES!E924),\"\")","v":""},{"$f":"REFERENTES!C924","v":0},null,922,0,1290,"X"]
[null,null,null,null,null,null,null,null,null,null,null,null,null,null,null,null,null,null,null,null,null,null,null,null,null,null,null,null,{"$f":"IF(AND(REFERENTES!C925<>\"\",          REFERENTES!C925<>96321,    REFERENTES!C925<>96222            ),(REFERENTES!E925),\"\")","v":""},{"$f":"REFERENTES!C925","v":0},null,923,0,1290,"X"]
[null,null,null,null,null,null,null,null,null,null,null,null,null,null,null,null,null,null,null,null,null,null,null,null,null,null,null,null,{"$f":"IF(AND(REFERENTES!C926<>\"\",          REFERENTES!C926<>96321,    REFERENTES!C926<>96222            ),(REFERENTES!E926),\"\")","v":""},{"$f":"REFERENTES!C926","v":0},null,924,0,1290,"X"]
[null,null,null,null,null,null,null,null,null,null,null,null,null,null,null,null,null,null,null,null,null,null,null,null,null,null,null,null,{"$f":"IF(AND(REFERENTES!C927<>\"\",          REFERENTES!C927<>96321,    REFERENTES!C927<>96222            ),(REFERENTES!E927),\"\")","v":""},{"$f":"REFERENTES!C927","v":0},null,925,0,1290,"X"]
[null,null,null,null,null,null,null,null,null,null,null,null,null,null,null,null,null,null,null,null,null,null,null,null,null,null,null,null,{"$f":"IF(AND(REFERENTES!C928<>\"\",          REFERENTES!C928<>96321,    REFERENTES!C928<>96222            ),(REFERENTES!E928),\"\")","v":""},{"$f":"REFERENTES!C928","v":0},null,926,0,1290,"X"]
[null,null,null,null,null,null,null,null,null,null,null,null,null,null,null,null,null,null,null,null,null,null,null,null,null,null,null,null,{"$f":"IF(AND(REFERENTES!C929<>\"\",          REFERENTES!C929<>96321,    REFERENTES!C929<>96222            ),(REFERENTES!E929),\"\")","v":""},{"$f":"REFERENTES!C929","v":0},null,927,0,1290,"X"]
[null,null,null,null,null,null,null,null,null,null,null,null,null,null,null,null,null,null,null,null,null,null,null,null,null,null,null,null,{"$f":"IF(AND(REFERENTES!C930<>\"\",          REFERENTES!C930<>96321,    REFERENTES!C930<>96222            ),(REFERENTES!E930),\"\")","v":""},{"$f":"REFERENTES!C930","v":0},null,928,0,1290,"X"]
[null,null,null,null,null,null,null,null,null,null,null,null,null,null,null,null,null,null,null,null,null,null,null,null,null,null,null,null,{"$f":"IF(AND(REFERENTES!C931<>\"\",          REFERENTES!C931<>96321,    REFERENTES!C931<>96222            ),(REFERENTES!E931),\"\")","v":""},{"$f":"REFERENTES!C931","v":0},null,929,0,1290,"X"]
[null,null,null,null,null,null,null,null,null,null,null,null,null,null,null,null,null,null,null,null,null,null,null,null,null,null,null,null,{"$f":"IF(AND(REFERENTES!C932<>\"\",          REFERENTES!C932<>96321,    REFERENTES!C932<>96222            ),(REFERENTES!E932),\"\")","v":""},{"$f":"REFERENTES!C932","v":0},null,930,0,1290,"X"]
[null,null,null,null,null,null,null,null,null,null,null,null,null,null,null,null,null,null,null,null,null,null,null,null,null,null,null,null,{"$f":"IF(AND(REFERENTES!C933<>\"\",          REFERENTES!C933<>96321,    REFERENTES!C933<>96222            ),(REFERENTES!E933),\"\")","v":""},{"$f":"REFERENTES!C933","v":0},null,931,0,1290,"X"]
[null,null,null,null,null,null,null,null,null,null,null,null,null,null,null,null,null,null,null,null,null,null,null,null,null,null,null,null,{"$f":"IF(AND(REFERENTES!C934<>\"\",          REFERENTES!C934<>96321,    REFERENTES!C934<>96222            ),(REFERENTES!E934),\"\")","v":""},{"$f":"REFERENTES!C934","v":0},null,932,0,1290,"X"]
[null,null,null,null,null,null,null,null,null,null,null,null,null,null,null,null,null,null,null,null,null,null,null,null,null,null,null,null,{"$f":"IF(AND(REFERENTES!C935<>\"\",          REFERENTES!C935<>96321,    REFERENTES!C935<>96222            ),(REFERENTES!E935),\"\")","v":""},{"$f":"REFERENTES!C935","v":0},null,933,0,1290,"X"]
[null,null,null,null,null,null,null,null,null,null,null,null,null,null,null,null,null,null,null,null,null,null,null,null,null,null,null,null,{"$f":"IF(AND(REFERENTES!C936<>\"\",          REFERENTES!C936<>96321,    REFERENTES!C936<>96222            ),(REFERENTES!E936),\"\")","v":""},{"$f":"REFERENTES!C936","v":0},null,934,0,1290,"X"]
[null,null,null,null,null,null,null,null,null,null,null,null,null,null,null,null,null,null,null,null,null,null,null,null,null,null,null,null,{"$f":"IF(AND(REFERENTES!C937<>\"\",          REFERENTES!C937<>96321,    REFERENTES!C937<>96222            ),(REFERENTES!E937),\"\")","v":""},{"$f":"REFERENTES!C937","v":0},null,935,0,1290,"X"]
[null,null,null,null,null,null,null,null,null,null,null,null,null,null,null,null,null,null,null,null,null,null,null,null,null,null,null,null,{"$f":"IF(AND(REFERENTES!C938<>\"\",          REFERENTES!C938<>96321,    REFERENTES!C938<>96222            ),(REFERENTES!E938),\"\")","v":""},{"$f":"REFERENTES!C938","v":0},null,936,0,1290,"X"]
[null,null,null,null,null,null,null,null,null,null,null,null,null,null,null,null,null,null,null,null,null,null,null,null,null,null,null,null,{"$f":"IF(AND(REFERENTES!C939<>\"\",          REFERENTES!C939<>96321,    REFERENTES!C939<>96222            ),(REFERENTES!E939),\"\")","v":""},{"$f":"REFERENTES!C939","v":0},null,937,0,1290,"X"]
[null,null,null,null,null,null,null,null,null,null,null,null,null,null,null,null,null,null,null,null,null,null,null,null,null,null,null,null,{"$f":"IF(AND(REFERENTES!C940<>\"\",          REFERENTES!C940<>96321,    REFERENTES!C940<>96222            ),(REFERENTES!E940),\"\")","v":""},{"$f":"REFERENTES!C940","v":0},null,938,0,1290,"X"]
[null,null,null,null,null,null,null,null,null,null,null,null,null,null,null,null,null,null,null,null,null,null,null,null,null,null,null,null,{"$f":"IF(AND(REFERENTES!C941<>\"\",          REFERENTES!C941<>96321,    REFERENTES!C941<>96222            ),(REFERENTES!E941),\"\")","v":""},{"$f":"REFERENTES!C941","v":0},null,939,0,1290,"X"]
[null,null,null,null,null,null,null,null,null,null,null,null,null,null,null,null,null,null,null,null,null,null,null,null,null,null,null,null,{"$f":"IF(AND(REFERENTES!C942<>\"\",          REFERENTES!C942<>96321,    REFERENTES!C942<>96222            ),(REFERENTES!E942),\"\")","v":""},{"$f":"REFERENTES!C942","v":0},null,940,0,1290,"X"]
[null,null,null,null,null,null,null,null,null,null,null,null,null,null,null,null,null,null,null,null,null,null,null,null,null,null,null,null,{"$f":"IF(AND(REFERENTES!C943<>\"\",          REFERENTES!C943<>96321,    REFERENTES!C943<>96222            ),(REFERENTES!E943),\"\")","v":""},{"$f":"REFERENTES!C943","v":0},null,941,0,1290,"X"]
[null,null,null,null,null,null,null,null,null,null,null,null,null,null,null,null,null,null,null,null,null,null,null,null,null,null,null,null,{"$f":"IF(AND(REFERENTES!C944<>\"\",          REFERENTES!C944<>96321,    REFERENTES!C944<>96222            ),(REFERENTES!E944),\"\")","v":""},{"$f":"REFERENTES!C944","v":0},null,942,0,1290,"X"]
[null,null,null,null,null,null,null,null,null,null,null,null,null,null,null,null,null,null,null,null,null,null,null,null,null,null,null,null,{"$f":"IF(AND(REFERENTES!C945<>\"\",          REFERENTES!C945<>96321,    REFERENTES!C945<>96222            ),(REFERENTES!E945),\"\")","v":""},{"$f":"REFERENTES!C945","v":0},null,943,0,1290,"X"]
[null,null,null,null,null,null,null,null,null,null,null,null,null,null,null,null,null,null,null,null,null,null,null,null,null,null,null,null,{"$f":"IF(AND(REFERENTES!C946<>\"\",          REFERENTES!C946<>96321,    REFERENTES!C946<>96222            ),(REFERENTES!E946),\"\")","v":""},{"$f":"REFERENTES!C946","v":0},null,944,0,1290,"X"]
[null,null,null,null,null,null,null,null,null,null,null,null,null,null,null,null,null,null,null,null,null,null,null,null,null,null,null,null,{"$f":"IF(AND(REFERENTES!C947<>\"\",          REFERENTES!C947<>96321,    REFERENTES!C947<>96222            ),(REFERENTES!E947),\"\")","v":""},{"$f":"REFERENTES!C947","v":0},null,945,0,1290,"X"]
[null,null,null,null,null,null,null,null,null,null,null,null,null,null,null,null,null,null,null,null,null,null,null,null,null,null,null,null,{"$f":"IF(AND(REFERENTES!C948<>\"\",          REFERENTES!C948<>96321,    REFERENTES!C948<>96222            ),(REFERENTES!E948),\"\")","v":""},{"$f":"REFERENTES!C948","v":0},null,946,0,1290,"X"]
[null,null,null,null,null,null,null,null,null,null,null,null,null,null,null,null,null,null,null,null,null,null,null,null,null,null,null,null,{"$f":"IF(AND(REFERENTES!C949<>\"\",          REFERENTES!C949<>96321,    REFERENTES!C949<>96222            ),(REFERENTES!E949),\"\")","v":""},{"$f":"REFERENTES!C949","v":0},null,947,0,1290,"X"]
[null,null,null,null,null,null,null,null,null,null,null,null,null,null,null,null,null,null,null,null,null,null,null,null,null,null,null,null,{"$f":"IF(AND(REFERENTES!C950<>\"\",          REFERENTES!C950<>96321,    REFERENTES!C950<>96222            ),(REFERENTES!E950),\"\")","v":""},{"$f":"REFERENTES!C950","v":0},null,948,0,1290,"X"]
[null,null,null,null,null,null,null,null,null,null,null,null,null,null,null,null,null,null,null,null,null,null,null,null,null,null,null,null,{"$f":"IF(AND(REFERENTES!C951<>\"\",          REFERENTES!C951<>96321,    REFERENTES!C951<>96222            ),(REFERENTES!E951),\"\")","v":""},{"$f":"REFERENTES!C951","v":0},null,949,0,1290,"X"]
[null,null,null,null,null,null,null,null,null,null,null,null,null,null,null,null,null,null,null,null,null,null,null,null,null,null,null,null,{"$f":"IF(AND(REFERENTES!C952<>\"\",          REFERENTES!C952<>96321,    REFERENTES!C952<>96222            ),(REFERENTES!E952),\"\")","v":""},{"$f":"REFERENTES!C952","v":0},null,950,0,1290,"X"]
[null,null,null,null,null,null,null,null,null,null,null,null,null,null,null,null,null,null,null,null,null,null,null,null,null,null,null,null,{"$f":"IF(AND(REFERENTES!C953<>\"\",          REFERENTES!C953<>96321,    REFERENTES!C953<>96222            ),(REFERENTES!E953),\"\")","v":""},{"$f":"REFERENTES!C953","v":0},null,951,0,1290,"X"]
[null,null,null,null,null,null,null,null,null,null,null,null,null,null,null,null,null,null,null,null,null,null,null,null,null,null,null,null,{"$f":"IF(AND(REFERENTES!C954<>\"\",          REFERENTES!C954<>96321,    REFERENTES!C954<>96222            ),(REFERENTES!E954),\"\")","v":""},{"$f":"REFERENTES!C954","v":0},null,952,0,1290,"X"]
[null,null,null,null,null,null,null,null,null,null,null,null,null,null,null,null,null,null,null,null,null,null,null,null,null,null,null,null,{"$f":"IF(AND(REFERENTES!C955<>\"\",          REFERENTES!C955<>96321,    REFERENTES!C955<>96222            ),(REFERENTES!E955),\"\")","v":""},{"$f":"REFERENTES!C955","v":0},null,953,0,1290,"X"]
[null,null,null,null,null,null,null,null,null,null,null,null,null,null,null,null,null,null,null,null,null,null,null,null,null,null,null,null,{"$f":"IF(AND(REFERENTES!C956<>\"\",          REFERENTES!C956<>96321,    REFERENTES!C956<>96222            ),(REFERENTES!E956),\"\")","v":""},{"$f":"REFERENTES!C956","v":0},null,954,0,1290,"X"]
[null,null,null,null,null,null,null,null,null,null,null,null,null,null,null,null,null,null,null,null,null,null,null,null,null,null,null,null,{"$f":"IF(AND(REFERENTES!C957<>\"\",          REFERENTES!C957<>96321,    REFERENTES!C957<>96222            ),(REFERENTES!E957),\"\")","v":""},{"$f":"REFERENTES!C957","v":0},null,955,0,1290,"X"]
[null,null,null,null,null,null,null,null,null,null,null,null,null,null,null,null,null,null,null,null,null,null,null,null,null,null,null,null,{"$f":"IF(AND(REFERENTES!C958<>\"\",          REFERENTES!C958<>96321,    REFERENTES!C958<>96222            ),(REFERENTES!E958),\"\")","v":""},{"$f":"REFERENTES!C958","v":0},null,956,0,1290,"X"]
[null,null,null,null,null,null,null,null,null,null,null,null,null,null,null,null,null,null,null,null,null,null,null,null,null,null,null,null,{"$f":"IF(AND(REFERENTES!C959<>\"\",          REFERENTES!C959<>96321,    REFERENTES!C959<>96222            ),(REFERENTES!E959),\"\")","v":""},{"$f":"REFERENTES!C959","v":0},null,957,0,1290,"X"]
[null,null,null,null,null,null,null,null,null,null,null,null,null,null,null,null,null,null,null,null,null,null,null,null,null,null,null,null,{"$f":"IF(AND(REFERENTES!C960<>\"\",          REFERENTES!C960<>96321,    REFERENTES!C960<>96222            ),(REFERENTES!E960),\"\")","v":""},{"$f":"REFERENTES!C960","v":0},null,958,0,1290,"X"]
[null,null,null,null,null,null,null,null,null,null,null,null,null,null,null,null,null,null,null,null,null,null,null,null,null,null,null,null,{"$f":"IF(AND(REFERENTES!C961<>\"\",          REFERENTES!C961<>96321,    REFERENTES!C961<>96222            ),(REFERENTES!E961),\"\")","v":""},{"$f":"REFERENTES!C961","v":0},null,959,0,1290,"X"]
[null,null,null,null,null,null,null,null,null,null,null,null,null,null,null,null,null,null,null,null,null,null,null,null,null,null,null,null,{"$f":"IF(AND(REFERENTES!C962<>\"\",          REFERENTES!C962<>96321,    REFERENTES!C962<>96222            ),(REFERENTES!E962),\"\")","v":""},{"$f":"REFERENTES!C962","v":0},null,960,0,1290,"X"]
[null,null,null,null,null,null,null,null,null,null,null,null,null,null,null,null,null,null,null,null,null,null,null,null,null,null,null,null,{"$f":"IF(AND(REFERENTES!C963<>\"\",          REFERENTES!C963<>96321,    REFERENTES!C963<>96222            ),(REFERENTES!E963),\"\")","v":""},{"$f":"REFERENTES!C963","v":0},null,961,0,1290,"X"]
[null,null,null,null,null,null,null,null,null,null,null,null,null,null,null,null,null,null,null,null,null,null,null,null,null,null,null,null,{"$f":"IF(AND(REFERENTES!C964<>\"\",          REFERENTES!C964<>96321,    REFERENTES!C964<>96222            ),(REFERENTES!E964),\"\")","v":""},{"$f":"REFERENTES!C964","v":0},null,962,{"$f":"IF(AC966=\"\",0,AC966)","v":0},{"$f":"IF(AG967=0,MAX($AF$6:$AF$1294)+1,AF967)","v":1290},{"$f":"IFERROR(VLOOKUP(SMALL($AH$6:$AH$1294,AF967),$AF$6:$AH$1294,2,FALSE),\"X\")","v":"X"}]
[null,null,null,null,null,null,null,null,null,null,null,null,null,null,null,null,null,null,null,null,null,null,null,null,null,null,null,null,{"$f":"IF(AND(REFERENTES!C965<>\"\",          REFERENTES!C965<>96321,    REFERENTES!C965<>96222            ),(REFERENTES!E965),\"\")","v":""},{"$f":"REFERENTES!C965","v":0},null,963,0,1290,"X"]
[null,null,null,null,null,null,null,null,null,null,null,null,null,null,null,null,null,null,null,null,null,null,null,null,null,null,null,null,{"$f":"IF(AND(REFERENTES!C966<>\"\",          REFERENTES!C966<>96321,    REFERENTES!C966<>96222            ),(REFERENTES!E966),\"\")","v":""},{"$f":"REFERENTES!C966","v":0},null,964,0,1290,"X"]
[null,null,null,null,null,null,null,null,null,null,null,null,null,null,null,null,null,null,null,null,null,null,null,null,null,null,null,null,{"$f":"IF(AND(REFERENTES!C967<>\"\",          REFERENTES!C967<>96321,    REFERENTES!C967<>96222            ),(REFERENTES!E967),\"\")","v":""},{"$f":"REFERENTES!C967","v":0},null,965,0,1290,"X"]
[null,null,null,null,null,null,null,null,null,null,null,null,null,null,null,null,null,null,null,null,null,null,null,null,null,null,null,null,{"$f":"IF(AND(REFERENTES!C968<>\"\",          REFERENTES!C968<>96321,    REFERENTES!C968<>96222            ),(REFERENTES!E968),\"\")","v":""},{"$f":"REFERENTES!C968","v":0},null,966,0,1290,"X"]
[null,null,null,null,null,null,null,null,null,null,null,null,null,null,null,null,null,null,null,null,null,null,null,null,null,null,null,null,{"$f":"IF(AND(REFERENTES!C969<>\"\",          REFERENTES!C969<>96321,    REFERENTES!C969<>96222            ),(REFERENTES!E969),\"\")","v":""},{"$f":"REFERENTES!C969","v":0},null,967,0,1290,"X"]
[null,null,null,null,null,null,null,null,null,null,null,null,null,null,null,null,null,null,null,null,null,null,null,null,null,null,null,null,{"$f":"IF(AND(REFERENTES!C970<>\"\",          REFERENTES!C970<>96321,    REFERENTES!C970<>96222            ),(REFERENTES!E970),\"\")","v":""},{"$f":"REFERENTES!C970","v":0},null,968,0,1290,"X"]
[null,null,null,null,null,null,null,null,null,null,null,null,null,null,null,null,null,null,null,null,null,null,null,null,null,null,null,null,{"$f":"IF(AND(REFERENTES!C971<>\"\",          REFERENTES!C971<>96321,    REFERENTES!C971<>96222            ),(REFERENTES!E971),\"\")","v":""},{"$f":"REFERENTES!C971","v":0},null,969,0,1290,"X"]
[null,null,null,null,null,null,null,null,null,null,null,null,null,null,null,null,null,null,null,null,null,null,null,null,null,null,null,null,{"$f":"IF(AND(REFERENTES!C972<>\"\",          REFERENTES!C972<>96321,    REFERENTES!C972<>96222            ),(REFERENTES!E972),\"\")","v":""},{"$f":"REFERENTES!C972","v":0},null,970,0,1290,"X"]
[null,null,null,null,null,null,null,null,null,null,null,null,null,null,null,null,null,null,null,null,null,null,null,null,null,null,null,null,{"$f":"IF(AND(REFERENTES!C973<>\"\",          REFERENTES!C973<>96321,    REFERENTES!C973<>96222            ),(REFERENTES!E973),\"\")","v":""},{"$f":"REFERENTES!C973","v":0},null,971,0,1290,"X"]
[null,null,null,null,null,null,null,null,null,null,null,null,null,null,null,null,null,null,null,null,null,null,null,null,null,null,null,null,{"$f":"IF(AND(REFERENTES!C974<>\"\",          REFERENTES!C974<>96321,    REFERENTES!C974<>96222            ),(REFERENTES!E974),\"\")","v":""},{"$f":"REFERENTES!C974","v":0},null,972,0,1290,"X"]
[null,null,null,null,null,null,null,null,null,null,null,null,null,null,null,null,null,null,null,null,null,null,null,null,null,null,null,null,{"$f":"IF(AND(REFERENTES!C975<>\"\",          REFERENTES!C975<>96321,    REFERENTES!C975<>96222            ),(REFERENTES!E975),\"\")","v":""},{"$f":"REFERENTES!C975","v":0},null,973,0,1290,"X"]
[null,null,null,null,null,null,null,null,null,null,null,null,null,null,null,null,null,null,null,null,null,null,null,null,null,null,null,null,{"$f":"IF(AND(REFERENTES!C976<>\"\",          REFERENTES!C976<>96321,    REFERENTES!C976<>96222            ),(REFERENTES!E976),\"\")","v":""},{"$f":"REFERENTES!C976","v":0},null,974,0,1290,"X"]
[null,null,null,null,null,null,null,null,null,null,null,null,null,null,null,null,null,null,null,null,null,null,null,null,null,null,null,null,{"$f":"IF(AND(REFERENTES!C977<>\"\",          REFERENTES!C977<>96321,    REFERENTES!C977<>96222            ),(REFERENTES!E977),\"\")","v":""},{"$f":"REFERENTES!C977","v":0},null,975,0,1290,"X"]
[null,null,null,null,null,null,null,null,null,null,null,null,null,null,null,null,null,null,null,null,null,null,null,null,null,null,null,null,{"$f":"IF(AND(REFERENTES!C978<>\"\",          REFERENTES!C978<>96321,    REFERENTES!C978<>96222            ),(REFERENTES!E978),\"\")","v":""},{"$f":"REFERENTES!C978","v":0},null,976,0,1290,"X"]
[null,null,null,null,null,null,null,null,null,null,null,null,null,null,null,null,null,null,null,null,null,null,null,null,null,null,null,null,{"$f":"IF(AND(REFERENTES!C979<>\"\",          REFERENTES!C979<>96321,    REFERENTES!C979<>96222            ),(REFERENTES!E979),\"\")","v":""},{"$f":"REFERENTES!C979","v":0},null,977,0,1290,"X"]
[null,null,null,null,null,null,null,null,null,null,null,null,null,null,null,null,null,null,null,null,null,null,null,null,null,null,null,null,{"$f":"IF(AND(REFERENTES!C980<>\"\",          REFERENTES!C980<>96321,    REFERENTES!C980<>96222            ),(REFERENTES!E980),\"\")","v":""},{"$f":"REFERENTES!C980","v":0},null,978,0,1290,"X"]
[null,null,null,null,null,null,null,null,null,null,null,null,null,null,null,null,null,null,null,null,null,null,null,null,null,null,null,null,{"$f":"IF(AND(REFERENTES!C981<>\"\",          REFERENTES!C981<>96321,    REFERENTES!C981<>96222            ),(REFERENTES!E981),\"\")","v":""},{"$f":"REFERENTES!C981","v":0},null,979,0,1290,"X"]
[null,null,null,null,null,null,null,null,null,null,null,null,null,null,null,null,null,null,null,null,null,null,null,null,null,null,null,null,{"$f":"IF(AND(REFERENTES!C982<>\"\",          REFERENTES!C982<>96321,    REFERENTES!C982<>96222            ),(REFERENTES!E982),\"\")","v":""},{"$f":"REFERENTES!C982","v":0},null,980,0,1290,"X"]
[null,null,null,null,null,null,null,null,null,null,null,null,null,null,null,null,null,null,null,null,null,null,null,null,null,null,null,null,{"$f":"IF(AND(REFERENTES!C983<>\"\",          REFERENTES!C983<>96321,    REFERENTES!C983<>96222            ),(REFERENTES!E983),\"\")","v":""},{"$f":"REFERENTES!C983","v":0},null,981,0,1290,"X"]
[null,null,null,null,null,null,null,null,null,null,null,null,null,null,null,null,null,null,null,null,null,null,null,null,null,null,null,null,{"$f":"IF(AND(REFERENTES!C984<>\"\",          REFERENTES!C984<>96321,    REFERENTES!C984<>96222            ),(REFERENTES!E984),\"\")","v":""},{"$f":"REFERENTES!C984","v":0},null,982,0,1290,"X"]
[null,null,null,null,null,null,null,null,null,null,null,null,null,null,null,null,null,null,null,null,null,null,null,null,null,null,null,null,{"$f":"IF(AND(REFERENTES!C985<>\"\",          REFERENTES!C985<>96321,    REFERENTES!C985<>96222            ),(REFERENTES!E985),\"\")","v":""},{"$f":"REFERENTES!C985","v":0},null,983,0,1290,"X"]
[null,null,null,null,null,null,null,null,null,null,null,null,null,null,null,null,null,null,null,null,null,null,null,null,null,null,null,null,{"$f":"IF(AND(REFERENTES!C986<>\"\",          REFERENTES!C986<>96321,    REFERENTES!C986<>96222            ),(REFERENTES!E986),\"\")","v":""},{"$f":"REFERENTES!C986","v":0},null,984,0,1290,"X"]
[null,null,null,null,null,null,null,null,null,null,null,null,null,null,null,null,null,null,null,null,null,null,null,null,null,null,null,null,{"$f":"IF(AND(REFERENTES!C987<>\"\",          REFERENTES!C987<>96321,    REFERENTES!C987<>96222            ),(REFERENTES!E987),\"\")","v":""},{"$f":"REFERENTES!C987","v":0},null,985,0,1290,"X"]
[null,null,null,null,null,null,null,null,null,null,null,null,null,null,null,null,null,null,null,null,null,null,null,null,null,null,null,null,{"$f":"IF(AND(REFERENTES!C988<>\"\",          REFERENTES!C988<>96321,    REFERENTES!C988<>96222            ),(REFERENTES!E988),\"\")","v":""},{"$f":"REFERENTES!C988","v":0},null,986,0,1290,"X"]
[null,null,null,null,null,null,null,null,null,null,null,null,null,null,null,null,null,null,null,null,null,null,null,null,null,null,null,null,{"$f":"IF(AND(REFERENTES!C989<>\"\",          REFERENTES!C989<>96321,    REFERENTES!C989<>96222            ),(REFERENTES!E989),\"\")","v":""},{"$f":"REFERENTES!C989","v":0},null,987,0,1290,"X"]
[null,null,null,null,null,null,null,null,null,null,null,null,null,null,null,null,null,null,null,null,null,null,null,null,null,null,null,null,{"$f":"IF(AND(REFERENTES!C990<>\"\",          REFERENTES!C990<>96321,    REFERENTES!C990<>96222            ),(REFERENTES!E990),\"\")","v":""},{"$f":"REFERENTES!C990","v":0},null,988,0,1290,"X"]
[null,null,null,null,null,null,null,null,null,null,null,null,null,null,null,null,null,null,null,null,null,null,null,null,null,null,null,null,{"$f":"IF(AND(REFERENTES!C991<>\"\",          REFERENTES!C991<>96321,    REFERENTES!C991<>96222            ),(REFERENTES!E991),\"\")","v":""},{"$f":"REFERENTES!C991","v":0},null,989,0,1290,"X"]
[null,null,null,null,null,null,null,null,null,null,null,null,null,null,null,null,null,null,null,null,null,null,null,null,null,null,null,null,{"$f":"IF(AND(REFERENTES!C992<>\"\",          REFERENTES!C992<>96321,    REFERENTES!C992<>96222            ),(REFERENTES!E992),\"\")","v":""},{"$f":"REFERENTES!C992","v":0},null,990,0,1290,"X"]
[null,null,null,null,null,null,null,null,null,null,null,null,null,null,null,null,null,null,null,null,null,null,null,null,null,null,null,null,{"$f":"IF(AND(REFERENTES!C993<>\"\",          REFERENTES!C993<>96321,    REFERENTES!C993<>96222            ),(REFERENTES!E993),\"\")","v":""},{"$f":"REFERENTES!C993","v":0},null,991,0,1290,"X"]
[null,null,null,null,null,null,null,null,null,null,null,null,null,null,null,null,null,null,null,null,null,null,null,null,null,null,null,null,{"$f":"IF(AND(REFERENTES!C994<>\"\",          REFERENTES!C994<>96321,    REFERENTES!C994<>96222            ),(REFERENTES!E994),\"\")","v":""},{"$f":"REFERENTES!C994","v":0},null,992,0,1290,"X"]
[null,null,null,null,null,null,null,null,null,null,null,null,null,null,null,null,null,null,null,null,null,null,null,null,null,null,null,null,{"$f":"IF(AND(REFERENTES!C995<>\"\",          REFERENTES!C995<>96321,    REFERENTES!C995<>96222            ),(REFERENTES!E995),\"\")","v":""},{"$f":"REFERENTES!C995","v":0},null,993,0,1290,"X"]
[null,null,null,null,null,null,null,null,null,null,null,null,null,null,null,null,null,null,null,null,null,null,null,null,null,null,null,null,{"$f":"IF(AND(REFERENTES!C996<>\"\",          REFERENTES!C996<>96321,    REFERENTES!C996<>96222            ),(REFERENTES!E996),\"\")","v":""},{"$f":"REFERENTES!C996","v":0},null,994,0,1290,"X"]
[null,null,null,null,null,null,null,null,null,null,null,null,null,null,null,null,null,null,null,null,null,null,null,null,null,null,null,null,{"$f":"IF(AND(REFERENTES!C997<>\"\",          REFERENTES!C997<>96321,    REFERENTES!C997<>96222            ),(REFERENTES!E997),\"\")","v":""},{"$f":"REFERENTES!C997","v":0},null,995,0,1290,"X"]
[null,null,null,null,null,null,null,null,null,null,null,null,null,null,null,null,null,null,null,null,null,null,null,null,null,null,null,null,{"$f":"IF(AND(REFERENTES!C998<>\"\",          REFERENTES!C998<>96321,    REFERENTES!C998<>96222            ),(REFERENTES!E998),\"\")","v":""},{"$f":"REFERENTES!C998","v":0},null,996,0,1290,"X"]
[null,null,null,null,null,null,null,null,null,null,null,null,null,null,null,null,null,null,null,null,null,null,null,null,null,null,null,null,{"$f":"IF(AND(REFERENTES!C999<>\"\",          REFERENTES!C999<>96321,    REFERENTES!C999<>96222            ),(REFERENTES!E999),\"\")","v":""},{"$f":"REFERENTES!C999","v":0},null,997,0,1290,"X"]
[null,null,null,null,null,null,null,null,null,null,null,null,null,null,null,null,null,null,null,null,null,null,null,null,null,null,null,null,{"$f":"IF(AND(REFERENTES!C1000<>\"\",          REFERENTES!C1000<>96321,    REFERENTES!C1000<>96222            ),(REFERENTES!E1000),\"\")","v":""},{"$f":"REFERENTES!C1000","v":0},null,998,0,1290,"X"]
[null,null,null,null,null,null,null,null,null,null,null,null,null,null,null,null,null,null,null,null,null,null,null,null,null,null,null,null,{"$f":"IF(AND(REFERENTES!C1001<>\"\",          REFERENTES!C1001<>96321,    REFERENTES!C1001<>96222            ),(REFERENTES!E1001),\"\")","v":""},{"$f":"REFERENTES!C1001","v":0},null,999,0,1290,"X"]
[null,null,null,null,null,null,null,null,null,null,null,null,null,null,null,null,null,null,null,null,null,null,null,null,null,null,null,null,{"$f":"IF(AND(REFERENTES!C1002<>\"\",          REFERENTES!C1002<>96321,    REFERENTES!C1002<>96222            ),(REFERENTES!E1002),\"\")","v":""},{"$f":"REFERENTES!C1002","v":0},null,1000,0,1290,"X"]
[null,null,null,null,null,null,null,null,null,null,null,null,null,null,null,null,null,null,null,null,null,null,null,null,null,null,null,null,{"$f":"IF(AND(REFERENTES!C1003<>\"\",          REFERENTES!C1003<>96321,    REFERENTES!C1003<>96222            ),(REFERENTES!E1003),\"\")","v":""},{"$f":"REFERENTES!C1003","v":0},null,1001,0,1290,"X"]
[null,null,null,null,null,null,null,null,null,null,null,null,null,null,null,null,null,null,null,null,null,null,null,null,null,null,null,null,{"$f":"IF(AND(REFERENTES!C1004<>\"\",          REFERENTES!C1004<>96321,    REFERENTES!C1004<>96222            ),(REFERENTES!E1004),\"\")","v":""},{"$f":"REFERENTES!C1004","v":0},null,1002,0,1290,"X"]
[null,null,null,null,null,null,null,null,null,null,null,null,null,null,null,null,null,null,null,null,null,null,null,null,null,null,null,null,{"$f":"IF(AND(REFERENTES!C1005<>\"\",          REFERENTES!C1005<>96321,    REFERENTES!C1005<>96222            ),(REFERENTES!E1005),\"\")","v":""},{"$f":"REFERENTES!C1005","v":0},null,1003,0,1290,"X"]
[null,null,null,null,null,null,null,null,null,null,null,null,null,null,null,null,null,null,null,null,null,null,null,null,null,null,null,null,{"$f":"IF(AND(REFERENTES!C1006<>\"\",          REFERENTES!C1006<>96321,    REFERENTES!C1006<>96222            ),(REFERENTES!E1006),\"\")","v":""},{"$f":"REFERENTES!C1006","v":0},null,1004,0,1290,"X"]
[null,null,null,null,null,null,null,null,null,null,null,null,null,null,null,null,null,null,null,null,null,null,null,null,null,null,null,null,{"$f":"IF(AND(REFERENTES!C1007<>\"\",          REFERENTES!C1007<>96321,    REFERENTES!C1007<>96222            ),(REFERENTES!E1007),\"\")","v":""},{"$f":"REFERENTES!C1007","v":0},null,1005,0,1290,"X"]
[null,null,null,null,null,null,null,null,null,null,null,null,null,null,null,null,null,null,null,null,null,null,null,null,null,null,null,null,{"$f":"IF(AND(REFERENTES!C1008<>\"\",          REFERENTES!C1008<>96321,    REFERENTES!C1008<>96222            ),(REFERENTES!E1008),\"\")","v":""},{"$f":"REFERENTES!C1008","v":0},null,1006,0,1290,"X"]
[null,null,null,null,null,null,null,null,null,null,null,null,null,null,null,null,null,null,null,null,null,null,null,null,null,null,null,null,{"$f":"IF(AND(REFERENTES!C1009<>\"\",          REFERENTES!C1009<>96321,    REFERENTES!C1009<>96222            ),(REFERENTES!E1009),\"\")","v":""},{"$f":"REFERENTES!C1009","v":0},null,1007,0,1290,"X"]
[null,null,null,null,null,null,null,null,null,null,null,null,null,null,null,null,null,null,null,null,null,null,null,null,null,null,null,null,{"$f":"IF(AND(REFERENTES!C1010<>\"\",          REFERENTES!C1010<>96321,    REFERENTES!C1010<>96222            ),(REFERENTES!E1010),\"\")","v":""},{"$f":"REFERENTES!C1010","v":0},null,1008,0,1290,"X"]
[null,null,null,null,null,null,null,null,null,null,null,null,null,null,null,null,null,null,null,null,null,null,null,null,null,null,null,null,{"$f":"IF(AND(REFERENTES!C1011<>\"\",          REFERENTES!C1011<>96321,    REFERENTES!C1011<>96222            ),(REFERENTES!E1011),\"\")","v":""},{"$f":"REFERENTES!C1011","v":0},null,1009,0,1290,"X"]
[null,null,null,null,null,null,null,null,null,null,null,null,null,null,null,null,null,null,null,null,null,null,null,null,null,null,null,null,{"$f":"IF(AND(REFERENTES!C1012<>\"\",          REFERENTES!C1012<>96321,    REFERENTES!C1012<>96222            ),(REFERENTES!E1012),\"\")","v":""},{"$f":"REFERENTES!C1012","v":0},null,1010,0,1290,"X"]
[null,null,null,null,null,null,null,null,null,null,null,null,null,null,null,null,null,null,null,null,null,null,null,null,null,null,null,null,{"$f":"IF(AND(REFERENTES!C1013<>\"\",          REFERENTES!C1013<>96321,    REFERENTES!C1013<>96222            ),(REFERENTES!E1013),\"\")","v":""},{"$f":"REFERENTES!C1013","v":0},null,1011,0,1290,"X"]
[null,null,null,null,null,null,null,null,null,null,null,null,null,null,null,null,null,null,null,null,null,null,null,null,null,null,null,null,{"$f":"IF(AND(REFERENTES!C1014<>\"\",          REFERENTES!C1014<>96321,    REFERENTES!C1014<>96222            ),(REFERENTES!E1014),\"\")","v":""},{"$f":"REFERENTES!C1014","v":0},null,1012,0,1290,"X"]
[null,null,null,null,null,null,null,null,null,null,null,null,null,null,null,null,null,null,null,null,null,null,null,null,null,null,null,null,{"$f":"IF(AND(REFERENTES!C1015<>\"\",          REFERENTES!C1015<>96321,    REFERENTES!C1015<>96222            ),(REFERENTES!E1015),\"\")","v":""},{"$f":"REFERENTES!C1015","v":0},null,1013,0,1290,"X"]
[null,null,null,null,null,null,null,null,null,null,null,null,null,null,null,null,null,null,null,null,null,null,null,null,null,null,null,null,{"$f":"IF(AND(REFERENTES!C1016<>\"\",          REFERENTES!C1016<>96321,    REFERENTES!C1016<>96222            ),(REFERENTES!E1016),\"\")","v":""},{"$f":"REFERENTES!C1016","v":0},null,1014,0,1290,"X"]
[null,null,null,null,null,null,null,null,null,null,null,null,null,null,null,null,null,null,null,null,null,null,null,null,null,null,null,null,{"$f":"IF(AND(REFERENTES!C1017<>\"\",          REFERENTES!C1017<>96321,    REFERENTES!C1017<>96222            ),(REFERENTES!E1017),\"\")","v":""},{"$f":"REFERENTES!C1017","v":0},null,1015,0,1290,"X"]
[null,null,null,null,null,null,null,null,null,null,null,null,null,null,null,null,null,null,null,null,null,null,null,null,null,null,null,null,{"$f":"IF(AND(REFERENTES!C1018<>\"\",          REFERENTES!C1018<>96321,    REFERENTES!C1018<>96222            ),(REFERENTES!E1018),\"\")","v":""},{"$f":"REFERENTES!C1018","v":0},null,1016,0,1290,"X"]
[null,null,null,null,null,null,null,null,null,null,null,null,null,null,null,null,null,null,null,null,null,null,null,null,null,null,null,null,{"$f":"IF(AND(REFERENTES!C1019<>\"\",          REFERENTES!C1019<>96321,    REFERENTES!C1019<>96222            ),(REFERENTES!E1019),\"\")","v":""},{"$f":"REFERENTES!C1019","v":0},null,1017,0,1290,"X"]
[null,null,null,null,null,null,null,null,null,null,null,null,null,null,null,null,null,null,null,null,null,null,null,null,null,null,null,null,{"$f":"IF(AND(REFERENTES!C1020<>\"\",          REFERENTES!C1020<>96321,    REFERENTES!C1020<>96222            ),(REFERENTES!E1020),\"\")","v":""},{"$f":"REFERENTES!C1020","v":0},null,1018,0,1290,"X"]
[null,null,null,null,null,null,null,null,null,null,null,null,null,null,null,null,null,null,null,null,null,null,null,null,null,null,null,null,{"$f":"IF(AND(REFERENTES!C1021<>\"\",          REFERENTES!C1021<>96321,    REFERENTES!C1021<>96222            ),(REFERENTES!E1021),\"\")","v":""},{"$f":"REFERENTES!C1021","v":0},null,1019,0,1290,"X"]
[null,null,null,null,null,null,null,null,null,null,null,null,null,null,null,null,null,null,null,null,null,null,null,null,null,null,null,null,{"$f":"IF(AND(REFERENTES!C1022<>\"\",          REFERENTES!C1022<>96321,    REFERENTES!C1022<>96222            ),(REFERENTES!E1022),\"\")","v":""},{"$f":"REFERENTES!C1022","v":0},null,1020,0,1290,"X"]
[null,null,null,null,null,null,null,null,null,null,null,null,null,null,null,null,null,null,null,null,null,null,null,null,null,null,null,null,{"$f":"IF(AND(REFERENTES!C1023<>\"\",          REFERENTES!C1023<>96321,    REFERENTES!C1023<>96222            ),(REFERENTES!E1023),\"\")","v":""},{"$f":"REFERENTES!C1023","v":0},null,1021,0,1290,"X"]
[null,null,null,null,null,null,null,null,null,null,null,null,null,null,null,null,null,null,null,null,null,null,null,null,null,null,null,null,{"$f":"IF(AND(REFERENTES!C1024<>\"\",          REFERENTES!C1024<>96321,    REFERENTES!C1024<>96222            ),(REFERENTES!E1024),\"\")","v":""},{"$f":"REFERENTES!C1024","v":0},null,1022,0,1290,"X"]
[null,null,null,null,null,null,null,null,null,null,null,null,null,null,null,null,null,null,null,null,null,null,null,null,null,null,null,null,{"$f":"IF(AND(REFERENTES!C1025<>\"\",          REFERENTES!C1025<>96321,    REFERENTES!C1025<>96222            ),(REFERENTES!E1025),\"\")","v":""},{"$f":"REFERENTES!C1025","v":0},null,1023,0,1290,"X"]
[null,null,null,null,null,null,null,null,null,null,null,null,null,null,null,null,null,null,null,null,null,null,null,null,null,null,null,null,{"$f":"IF(AND(REFERENTES!C1026<>\"\",          REFERENTES!C1026<>96321,    REFERENTES!C1026<>96222            ),(REFERENTES!E1026),\"\")","v":""},{"$f":"REFERENTES!C1026","v":0},null,1024,0,1290,"X"]
[null,null,null,null,null,null,null,null,null,null,null,null,null,null,null,null,null,null,null,null,null,null,null,null,null,null,null,null,{"$f":"IF(AND(REFERENTES!C1027<>\"\",          REFERENTES!C1027<>96321,    REFERENTES!C1027<>96222            ),(REFERENTES!E1027),\"\")","v":""},{"$f":"REFERENTES!C1027","v":0},null,1025,0,1290,"X"]
[null,null,null,null,null,null,null,null,null,null,null,null,null,null,null,null,null,null,null,null,null,null,null,null,null,null,null,null,{"$f":"IF(AND(REFERENTES!C1028<>\"\",          REFERENTES!C1028<>96321,    REFERENTES!C1028<>96222            ),(REFERENTES!E1028),\"\")","v":""},{"$f":"REFERENTES!C1028","v":0},null,1026,{"$f":"IF(AC1030=\"\",0,AC1030)","v":0},{"$f":"IF(AG1031=0,MAX($AF$6:$AF$1294)+1,AF1031)","v":1290},{"$f":"IFERROR(VLOOKUP(SMALL($AH$6:$AH$1294,AF1031),$AF$6:$AH$1294,2,FALSE),\"X\")","v":"X"}]
[null,null,null,null,null,null,null,null,null,null,null,null,null,null,null,null,null,null,null,null,null,null,null,null,null,null,null,null,{"$f":"IF(AND(REFERENTES!C1029<>\"\",          REFERENTES!C1029<>96321,    REFERENTES!C1029<>96222            ),(REFERENTES!E1029),\"\")","v":""},{"$f":"REFERENTES!C1029","v":0},null,1027,0,1290,"X"]
[null,null,null,null,null,null,null,null,null,null,null,null,null,null,null,null,null,null,null,null,null,null,null,null,null,null,null,null,{"$f":"IF(AND(REFERENTES!C1030<>\"\",          REFERENTES!C1030<>96321,    REFERENTES!C1030<>96222            ),(REFERENTES!E1030),\"\")","v":""},{"$f":"REFERENTES!C1030","v":0},null,1028,0,1290,"X"]
[null,null,null,null,null,null,null,null,null,null,null,null,null,null,null,null,null,null,null,null,null,null,null,null,null,null,null,null,{"$f":"IF(AND(REFERENTES!C1031<>\"\",          REFERENTES!C1031<>96321,    REFERENTES!C1031<>96222            ),(REFERENTES!E1031),\"\")","v":""},{"$f":"REFERENTES!C1031","v":0},null,1029,0,1290,"X"]
[null,null,null,null,null,null,null,null,null,null,null,null,null,null,null,null,null,null,null,null,null,null,null,null,null,null,null,null,{"$f":"IF(AND(REFERENTES!C1032<>\"\",          REFERENTES!C1032<>96321,    REFERENTES!C1032<>96222            ),(REFERENTES!E1032),\"\")","v":""},{"$f":"REFERENTES!C1032","v":0},null,1030,0,1290,"X"]
[null,null,null,null,null,null,null,null,null,null,null,null,null,null,null,null,null,null,null,null,null,null,null,null,null,null,null,null,{"$f":"IF(AND(REFERENTES!C1033<>\"\",          REFERENTES!C1033<>96321,    REFERENTES!C1033<>96222            ),(REFERENTES!E1033),\"\")","v":""},{"$f":"REFERENTES!C1033","v":0},null,1031,0,1290,"X"]
[null,null,null,null,null,null,null,null,null,null,null,null,null,null,null,null,null,null,null,null,null,null,null,null,null,null,null,null,{"$f":"IF(AND(REFERENTES!C1034<>\"\",          REFERENTES!C1034<>96321,    REFERENTES!C1034<>96222            ),(REFERENTES!E1034),\"\")","v":""},{"$f":"REFERENTES!C1034","v":0},null,1032,0,1290,"X"]
[null,null,null,null,null,null,null,null,null,null,null,null,null,null,null,null,null,null,null,null,null,null,null,null,null,null,null,null,{"$f":"IF(AND(REFERENTES!C1035<>\"\",          REFERENTES!C1035<>96321,    REFERENTES!C1035<>96222            ),(REFERENTES!E1035),\"\")","v":""},{"$f":"REFERENTES!C1035","v":0},null,1033,0,1290,"X"]
[null,null,null,null,null,null,null,null,null,null,null,null,null,null,null,null,null,null,null,null,null,null,null,null,null,null,null,null,{"$f":"IF(AND(REFERENTES!C1036<>\"\",          REFERENTES!C1036<>96321,    REFERENTES!C1036<>96222            ),(REFERENTES!E1036),\"\")","v":""},{"$f":"REFERENTES!C1036","v":0},null,1034,0,1290,"X"]
[null,null,null,null,null,null,null,null,null,null,null,null,null,null,null,null,null,null,null,null,null,null,null,null,null,null,null,null,{"$f":"IF(AND(REFERENTES!C1037<>\"\",          REFERENTES!C1037<>96321,    REFERENTES!C1037<>96222            ),(REFERENTES!E1037),\"\")","v":""},{"$f":"REFERENTES!C1037","v":0},null,1035,0,1290,"X"]
[null,null,null,null,null,null,null,null,null,null,null,null,null,null,null,null,null,null,null,null,null,null,null,null,null,null,null,null,{"$f":"IF(AND(REFERENTES!C1038<>\"\",          REFERENTES!C1038<>96321,    REFERENTES!C1038<>96222            ),(REFERENTES!E1038),\"\")","v":""},{"$f":"REFERENTES!C1038","v":0},null,1036,0,1290,"X"]
[null,null,null,null,null,null,null,null,null,null,null,null,null,null,null,null,null,null,null,null,null,null,null,null,null,null,null,null,{"$f":"IF(AND(REFERENTES!C1039<>\"\",          REFERENTES!C1039<>96321,    REFERENTES!C1039<>96222            ),(REFERENTES!E1039),\"\")","v":""},{"$f":"REFERENTES!C1039","v":0},null,1037,0,1290,"X"]
[null,null,null,null,null,null,null,null,null,null,null,null,null,null,null,null,null,null,null,null,null,null,null,null,null,null,null,null,{"$f":"IF(AND(REFERENTES!C1040<>\"\",          REFERENTES!C1040<>96321,    REFERENTES!C1040<>96222            ),(REFERENTES!E1040),\"\")","v":""},{"$f":"REFERENTES!C1040","v":0},null,1038,0,1290,"X"]
[null,null,null,null,null,null,null,null,null,null,null,null,null,null,null,null,null,null,null,null,null,null,null,null,null,null,null,null,{"$f":"IF(AND(REFERENTES!C1041<>\"\",          REFERENTES!C1041<>96321,    REFERENTES!C1041<>96222            ),(REFERENTES!E1041),\"\")","v":""},{"$f":"REFERENTES!C1041","v":0},null,1039,0,1290,"X"]
[null,null,null,null,null,null,null,null,null,null,null,null,null,null,null,null,null,null,null,null,null,null,null,null,null,null,null,null,{"$f":"IF(AND(REFERENTES!C1042<>\"\",          REFERENTES!C1042<>96321,    REFERENTES!C1042<>96222            ),(REFERENTES!E1042),\"\")","v":""},{"$f":"REFERENTES!C1042","v":0},null,1040,0,1290,"X"]
[null,null,null,null,null,null,null,null,null,null,null,null,null,null,null,null,null,null,null,null,null,null,null,null,null,null,null,null,{"$f":"IF(AND(REFERENTES!C1043<>\"\",          REFERENTES!C1043<>96321,    REFERENTES!C1043<>96222            ),(REFERENTES!E1043),\"\")","v":""},{"$f":"REFERENTES!C1043","v":0},null,1041,0,1290,"X"]
[null,null,null,null,null,null,null,null,null,null,null,null,null,null,null,null,null,null,null,null,null,null,null,null,null,null,null,null,{"$f":"IF(AND(REFERENTES!C1044<>\"\",          REFERENTES!C1044<>96321,    REFERENTES!C1044<>96222            ),(REFERENTES!E1044),\"\")","v":""},{"$f":"REFERENTES!C1044","v":0},null,1042,0,1290,"X"]
[null,null,null,null,null,null,null,null,null,null,null,null,null,null,null,null,null,null,null,null,null,null,null,null,null,null,null,null,{"$f":"IF(AND(REFERENTES!C1045<>\"\",          REFERENTES!C1045<>96321,    REFERENTES!C1045<>96222            ),(REFERENTES!E1045),\"\")","v":""},{"$f":"REFERENTES!C1045","v":0},null,1043,0,1290,"X"]
[null,null,null,null,null,null,null,null,null,null,null,null,null,null,null,null,null,null,null,null,null,null,null,null,null,null,null,null,{"$f":"IF(AND(REFERENTES!C1046<>\"\",          REFERENTES!C1046<>96321,    REFERENTES!C1046<>96222            ),(REFERENTES!E1046),\"\")","v":""},{"$f":"REFERENTES!C1046","v":0},null,1044,0,1290,"X"]
[null,null,null,null,null,null,null,null,null,null,null,null,null,null,null,null,null,null,null,null,null,null,null,null,null,null,null,null,{"$f":"IF(AND(REFERENTES!C1047<>\"\",          REFERENTES!C1047<>96321,    REFERENTES!C1047<>96222            ),(REFERENTES!E1047),\"\")","v":""},{"$f":"REFERENTES!C1047","v":0},null,1045,0,1290,"X"]
[null,null,null,null,null,null,null,null,null,null,null,null,null,null,null,null,null,null,null,null,null,null,null,null,null,null,null,null,{"$f":"IF(AND(REFERENTES!C1048<>\"\",          REFERENTES!C1048<>96321,    REFERENTES!C1048<>96222            ),(REFERENTES!E1048),\"\")","v":""},{"$f":"REFERENTES!C1048","v":0},null,1046,0,1290,"X"]
[null,null,null,null,null,null,null,null,null,null,null,null,null,null,null,null,null,null,null,null,null,null,null,null,null,null,null,null,{"$f":"IF(AND(REFERENTES!C1049<>\"\",          REFERENTES!C1049<>96321,    REFERENTES!C1049<>96222            ),(REFERENTES!E1049),\"\")","v":""},{"$f":"REFERENTES!C1049","v":0},null,1047,0,1290,"X"]
[null,null,null,null,null,null,null,null,null,null,null,null,null,null,null,null,null,null,null,null,null,null,null,null,null,null,null,null,{"$f":"IF(AND(REFERENTES!C1050<>\"\",          REFERENTES!C1050<>96321,    REFERENTES!C1050<>96222            ),(REFERENTES!E1050),\"\")","v":""},{"$f":"REFERENTES!C1050","v":0},null,1048,0,1290,"X"]
[null,null,null,null,null,null,null,null,null,null,null,null,null,null,null,null,null,null,null,null,null,null,null,null,null,null,null,null,{"$f":"IF(AND(REFERENTES!C1051<>\"\",          REFERENTES!C1051<>96321,    REFERENTES!C1051<>96222            ),(REFERENTES!E1051),\"\")","v":""},{"$f":"REFERENTES!C1051","v":0},null,1049,0,1290,"X"]
[null,null,null,null,null,null,null,null,null,null,null,null,null,null,null,null,null,null,null,null,null,null,null,null,null,null,null,null,{"$f":"IF(AND(REFERENTES!C1052<>\"\",          REFERENTES!C1052<>96321,    REFERENTES!C1052<>96222            ),(REFERENTES!E1052),\"\")","v":""},{"$f":"REFERENTES!C1052","v":0},null,1050,0,1290,"X"]
[null,null,null,null,null,null,null,null,null,null,null,null,null,null,null,null,null,null,null,null,null,null,null,null,null,null,null,null,{"$f":"IF(AND(REFERENTES!C1053<>\"\",          REFERENTES!C1053<>96321,    REFERENTES!C1053<>96222            ),(REFERENTES!E1053),\"\")","v":""},{"$f":"REFERENTES!C1053","v":0},null,1051,0,1290,"X"]
[null,null,null,null,null,null,null,null,null,null,null,null,null,null,null,null,null,null,null,null,null,null,null,null,null,null,null,null,{"$f":"IF(AND(REFERENTES!C1054<>\"\",          REFERENTES!C1054<>96321,    REFERENTES!C1054<>96222            ),(REFERENTES!E1054),\"\")","v":""},{"$f":"REFERENTES!C1054","v":0},null,1052,0,1290,"X"]
[null,null,null,null,null,null,null,null,null,null,null,null,null,null,null,null,null,null,null,null,null,null,null,null,null,null,null,null,{"$f":"IF(AND(REFERENTES!C1055<>\"\",          REFERENTES!C1055<>96321,    REFERENTES!C1055<>96222            ),(REFERENTES!E1055),\"\")","v":""},{"$f":"REFERENTES!C1055","v":0},null,1053,0,1290,"X"]
[null,null,null,null,null,null,null,null,null,null,null,null,null,null,null,null,null,null,null,null,null,null,null,null,null,null,null,null,{"$f":"IF(AND(REFERENTES!C1056<>\"\",          REFERENTES!C1056<>96321,    REFERENTES!C1056<>96222            ),(REFERENTES!E1056),\"\")","v":""},{"$f":"REFERENTES!C1056","v":0},null,1054,0,1290,"X"]
[null,null,null,null,null,null,null,null,null,null,null,null,null,null,null,null,null,null,null,null,null,null,null,null,null,null,null,null,{"$f":"IF(AND(REFERENTES!C1057<>\"\",          REFERENTES!C1057<>96321,    REFERENTES!C1057<>96222            ),(REFERENTES!E1057),\"\")","v":""},{"$f":"REFERENTES!C1057","v":0},null,1055,0,1290,"X"]
[null,null,null,null,null,null,null,null,null,null,null,null,null,null,null,null,null,null,null,null,null,null,null,null,null,null,null,null,{"$f":"IF(AND(REFERENTES!C1058<>\"\",          REFERENTES!C1058<>96321,    REFERENTES!C1058<>96222            ),(REFERENTES!E1058),\"\")","v":""},{"$f":"REFERENTES!C1058","v":0},null,1056,0,1290,"X"]
[null,null,null,null,null,null,null,null,null,null,null,null,null,null,null,null,null,null,null,null,null,null,null,null,null,null,null,null,{"$f":"IF(AND(REFERENTES!C1059<>\"\",          REFERENTES!C1059<>96321,    REFERENTES!C1059<>96222            ),(REFERENTES!E1059),\"\")","v":""},{"$f":"REFERENTES!C1059","v":0},null,1057,0,1290,"X"]
[null,null,null,null,null,null,null,null,null,null,null,null,null,null,null,null,null,null,null,null,null,null,null,null,null,null,null,null,{"$f":"IF(AND(REFERENTES!C1060<>\"\",          REFERENTES!C1060<>96321,    REFERENTES!C1060<>96222            ),(REFERENTES!E1060),\"\")","v":""},{"$f":"REFERENTES!C1060","v":0},null,1058,0,1290,"X"]
[null,null,null,null,null,null,null,null,null,null,null,null,null,null,null,null,null,null,null,null,null,null,null,null,null,null,null,null,{"$f":"IF(AND(REFERENTES!C1061<>\"\",          REFERENTES!C1061<>96321,    REFERENTES!C1061<>96222            ),(REFERENTES!E1061),\"\")","v":""},{"$f":"REFERENTES!C1061","v":0},null,1059,0,1290,"X"]
[null,null,null,null,null,null,null,null,null,null,null,null,null,null,null,null,null,null,null,null,null,null,null,null,null,null,null,null,{"$f":"IF(AND(REFERENTES!C1062<>\"\",          REFERENTES!C1062<>96321,    REFERENTES!C1062<>96222            ),(REFERENTES!E1062),\"\")","v":""},{"$f":"REFERENTES!C1062","v":0},null,1060,0,1290,"X"]
[null,null,null,null,null,null,null,null,null,null,null,null,null,null,null,null,null,null,null,null,null,null,null,null,null,null,null,null,{"$f":"IF(AND(REFERENTES!C1063<>\"\",          REFERENTES!C1063<>96321,    REFERENTES!C1063<>96222            ),(REFERENTES!E1063),\"\")","v":""},{"$f":"REFERENTES!C1063","v":0},null,1061,0,1290,"X"]
[null,null,null,null,null,null,null,null,null,null,null,null,null,null,null,null,null,null,null,null,null,null,null,null,null,null,null,null,{"$f":"IF(AND(REFERENTES!C1064<>\"\",          REFERENTES!C1064<>96321,    REFERENTES!C1064<>96222            ),(REFERENTES!E1064),\"\")","v":""},{"$f":"REFERENTES!C1064","v":0},null,1062,0,1290,"X"]
[null,null,null,null,null,null,null,null,null,null,null,null,null,null,null,null,null,null,null,null,null,null,null,null,null,null,null,null,{"$f":"IF(AND(REFERENTES!C1065<>\"\",          REFERENTES!C1065<>96321,    REFERENTES!C1065<>96222            ),(REFERENTES!E1065),\"\")","v":""},{"$f":"REFERENTES!C1065","v":0},null,1063,0,1290,"X"]
[null,null,null,null,null,null,null,null,null,null,null,null,null,null,null,null,null,null,null,null,null,null,null,null,null,null,null,null,{"$f":"IF(AND(REFERENTES!C1066<>\"\",          REFERENTES!C1066<>96321,    REFERENTES!C1066<>96222            ),(REFERENTES!E1066),\"\")","v":""},{"$f":"REFERENTES!C1066","v":0},null,1064,0,1290,"X"]
[null,null,null,null,null,null,null,null,null,null,null,null,null,null,null,null,null,null,null,null,null,null,null,null,null,null,null,null,{"$f":"IF(AND(REFERENTES!C1067<>\"\",          REFERENTES!C1067<>96321,    REFERENTES!C1067<>96222            ),(REFERENTES!E1067),\"\")","v":""},{"$f":"REFERENTES!C1067","v":0},null,1065,0,1290,"X"]
[null,null,null,null,null,null,null,null,null,null,null,null,null,null,null,null,null,null,null,null,null,null,null,null,null,null,null,null,{"$f":"IF(AND(REFERENTES!C1068<>\"\",          REFERENTES!C1068<>96321,    REFERENTES!C1068<>96222            ),(REFERENTES!E1068),\"\")","v":""},{"$f":"REFERENTES!C1068","v":0},null,1066,0,1290,"X"]
[null,null,null,null,null,null,null,null,null,null,null,null,null,null,null,null,null,null,null,null,null,null,null,null,null,null,null,null,{"$f":"IF(AND(REFERENTES!C1069<>\"\",          REFERENTES!C1069<>96321,    REFERENTES!C1069<>96222            ),(REFERENTES!E1069),\"\")","v":""},{"$f":"REFERENTES!C1069","v":0},null,1067,0,1290,"X"]
[null,null,null,null,null,null,null,null,null,null,null,null,null,null,null,null,null,null,null,null,null,null,null,null,null,null,null,null,{"$f":"IF(AND(REFERENTES!C1070<>\"\",          REFERENTES!C1070<>96321,    REFERENTES!C1070<>96222            ),(REFERENTES!E1070),\"\")","v":""},{"$f":"REFERENTES!C1070","v":0},null,1068,0,1290,"X"]
[null,null,null,null,null,null,null,null,null,null,null,null,null,null,null,null,null,null,null,null,null,null,null,null,null,null,null,null,{"$f":"IF(AND(REFERENTES!C1071<>\"\",          REFERENTES!C1071<>96321,    REFERENTES!C1071<>96222            ),(REFERENTES!E1071),\"\")","v":""},{"$f":"REFERENTES!C1071","v":0},null,1069,0,1290,"X"]
[null,null,null,null,null,null,null,null,null,null,null,null,null,null,null,null,null,null,null,null,null,null,null,null,null,null,null,null,{"$f":"IF(AND(REFERENTES!C1072<>\"\",          REFERENTES!C1072<>96321,    REFERENTES!C1072<>96222            ),(REFERENTES!E1072),\"\")","v":""},{"$f":"REFERENTES!C1072","v":0},null,1070,0,1290,"X"]
[null,null,null,null,null,null,null,null,null,null,null,null,null,null,null,null,null,null,null,null,null,null,null,null,null,null,null,null,{"$f":"IF(AND(REFERENTES!C1073<>\"\",          REFERENTES!C1073<>96321,    REFERENTES!C1073<>96222            ),(REFERENTES!E1073),\"\")","v":""},{"$f":"REFERENTES!C1073","v":0},null,1071,0,1290,"X"]
[null,null,null,null,null,null,null,null,null,null,null,null,null,null,null,null,null,null,null,null,null,null,null,null,null,null,null,null,{"$f":"IF(AND(REFERENTES!C1074<>\"\",          REFERENTES!C1074<>96321,    REFERENTES!C1074<>96222            ),(REFERENTES!E1074),\"\")","v":""},{"$f":"REFERENTES!C1074","v":0},null,1072,0,1290,"X"]
[null,null,null,null,null,null,null,null,null,null,null,null,null,null,null,null,null,null,null,null,null,null,null,null,null,null,null,null,{"$f":"IF(AND(REFERENTES!C1075<>\"\",          REFERENTES!C1075<>96321,    REFERENTES!C1075<>96222            ),(REFERENTES!E1075),\"\")","v":""},{"$f":"REFERENTES!C1075","v":0},null,1073,0,1290,"X"]
[null,null,null,null,null,null,null,null,null,null,null,null,null,null,null,null,null,null,null,null,null,null,null,null,null,null,null,null,{"$f":"IF(AND(REFERENTES!C1076<>\"\",          REFERENTES!C1076<>96321,    REFERENTES!C1076<>96222            ),(REFERENTES!E1076),\"\")","v":""},{"$f":"REFERENTES!C1076","v":0},null,1074,0,1290,"X"]
[null,null,null,null,null,null,null,null,null,null,null,null,null,null,null,null,null,null,null,null,null,null,null,null,null,null,null,null,{"$f":"IF(AND(REFERENTES!C1077<>\"\",          REFERENTES!C1077<>96321,    REFERENTES!C1077<>96222            ),(REFERENTES!E1077),\"\")","v":""},{"$f":"REFERENTES!C1077","v":0},null,1075,0,1290,"X"]
[null,null,null,null,null,null,null,null,null,null,null,null,null,null,null,null,null,null,null,null,null,null,null,null,null,null,null,null,{"$f":"IF(AND(REFERENTES!C1078<>\"\",          REFERENTES!C1078<>96321,    REFERENTES!C1078<>96222            ),(REFERENTES!E1078),\"\")","v":""},{"$f":"REFERENTES!C1078","v":0},null,1076,0,1290,"X"]
[null,null,null,null,null,null,null,null,null,null,null,null,null,null,null,null,null,null,null,null,null,null,null,null,null,null,null,null,{"$f":"IF(AND(REFERENTES!C1079<>\"\",          REFERENTES!C1079<>96321,    REFERENTES!C1079<>96222            ),(REFERENTES!E1079),\"\")","v":""},{"$f":"REFERENTES!C1079","v":0},null,1077,0,1290,"X"]
[null,null,null,null,null,null,null,null,null,null,null,null,null,null,null,null,null,null,null,null,null,null,null,null,null,null,null,null,{"$f":"IF(AND(REFERENTES!C1080<>\"\",          REFERENTES!C1080<>96321,    REFERENTES!C1080<>96222            ),(REFERENTES!E1080),\"\")","v":""},{"$f":"REFERENTES!C1080","v":0},null,1078,0,1290,"X"]
[null,null,null,null,null,null,null,null,null,null,null,null,null,null,null,null,null,null,null,null,null,null,null,null,null,null,null,null,{"$f":"IF(AND(REFERENTES!C1081<>\"\",          REFERENTES!C1081<>96321,    REFERENTES!C1081<>96222            ),(REFERENTES!E1081),\"\")","v":""},{"$f":"REFERENTES!C1081","v":0},null,1079,0,1290,"X"]
[null,null,null,null,null,null,null,null,null,null,null,null,null,null,null,null,null,null,null,null,null,null,null,null,null,null,null,null,{"$f":"IF(AND(REFERENTES!C1082<>\"\",          REFERENTES!C1082<>96321,    REFERENTES!C1082<>96222            ),(REFERENTES!E1082),\"\")","v":""},{"$f":"REFERENTES!C1082","v":0},null,1080,0,1290,"X"]
[null,null,null,null,null,null,null,null,null,null,null,null,null,null,null,null,null,null,null,null,null,null,null,null,null,null,null,null,{"$f":"IF(AND(REFERENTES!C1083<>\"\",          REFERENTES!C1083<>96321,    REFERENTES!C1083<>96222            ),(REFERENTES!E1083),\"\")","v":""},{"$f":"REFERENTES!C1083","v":0},null,1081,0,1290,"X"]
[null,null,null,null,null,null,null,null,null,null,null,null,null,null,null,null,null,null,null,null,null,null,null,null,null,null,null,null,{"$f":"IF(AND(REFERENTES!C1084<>\"\",          REFERENTES!C1084<>96321,    REFERENTES!C1084<>96222            ),(REFERENTES!E1084),\"\")","v":""},{"$f":"REFERENTES!C1084","v":0},null,1082,0,1290,"X"]
[null,null,null,null,null,null,null,null,null,null,null,null,null,null,null,null,null,null,null,null,null,null,null,null,null,null,null,null,{"$f":"IF(AND(REFERENTES!C1085<>\"\",          REFERENTES!C1085<>96321,    REFERENTES!C1085<>96222            ),(REFERENTES!E1085),\"\")","v":""},{"$f":"REFERENTES!C1085","v":0},null,1083,0,1290,"X"]
[null,null,null,null,null,null,null,null,null,null,null,null,null,null,null,null,null,null,null,null,null,null,null,null,null,null,null,null,{"$f":"IF(AND(REFERENTES!C1086<>\"\",          REFERENTES!C1086<>96321,    REFERENTES!C1086<>96222            ),(REFERENTES!E1086),\"\")","v":""},{"$f":"REFERENTES!C1086","v":0},null,1084,0,1290,"X"]
[null,null,null,null,null,null,null,null,null,null,null,null,null,null,null,null,null,null,null,null,null,null,null,null,null,null,null,null,{"$f":"IF(AND(REFERENTES!C1087<>\"\",          REFERENTES!C1087<>96321,    REFERENTES!C1087<>96222            ),(REFERENTES!E1087),\"\")","v":""},{"$f":"REFERENTES!C1087","v":0},null,1085,0,1290,"X"]
[null,null,null,null,null,null,null,null,null,null,null,null,null,null,null,null,null,null,null,null,null,null,null,null,null,null,null,null,{"$f":"IF(AND(REFERENTES!C1088<>\"\",          REFERENTES!C1088<>96321,    REFERENTES!C1088<>96222            ),(REFERENTES!E1088),\"\")","v":""},{"$f":"REFERENTES!C1088","v":0},null,1086,0,1290,"X"]
[null,null,null,null,null,null,null,null,null,null,null,null,null,null,null,null,null,null,null,null,null,null,null,null,null,null,null,null,{"$f":"IF(AND(REFERENTES!C1089<>\"\",          REFERENTES!C1089<>96321,    REFERENTES!C1089<>96222            ),(REFERENTES!E1089),\"\")","v":""},{"$f":"REFERENTES!C1089","v":0},null,1087,0,1290,"X"]
[null,null,null,null,null,null,null,null,null,null,null,null,null,null,null,null,null,null,null,null,null,null,null,null,null,null,null,null,{"$f":"IF(AND(REFERENTES!C1090<>\"\",          REFERENTES!C1090<>96321,    REFERENTES!C1090<>96222            ),(REFERENTES!E1090),\"\")","v":""},{"$f":"REFERENTES!C1090","v":0},null,1088,0,1290,"X"]
[null,null,null,null,null,null,null,null,null,null,null,null,null,null,null,null,null,null,null,null,null,null,null,null,null,null,null,null,{"$f":"IF(AND(REFERENTES!C1091<>\"\",          REFERENTES!C1091<>96321,    REFERENTES!C1091<>96222            ),(REFERENTES!E1091),\"\")","v":""},{"$f":"REFERENTES!C1091","v":0},null,1089,0,1290,"X"]
[null,null,null,null,null,null,null,null,null,null,null,null,null,null,null,null,null,null,null,null,null,null,null,null,null,null,null,null,{"$f":"IF(AND(REFERENTES!C1092<>\"\",          REFERENTES!C1092<>96321,    REFERENTES!C1092<>96222            ),(REFERENTES!E1092),\"\")","v":""},{"$f":"REFERENTES!C1092","v":0},null,1090,{"$f":"IF(AC1094=\"\",0,AC1094)","v":0},{"$f":"IF(AG1095=0,MAX($AF$6:$AF$1294)+1,AF1095)","v":1290},{"$f":"IFERROR(VLOOKUP(SMALL($AH$6:$AH$1294,AF1095),$AF$6:$AH$1294,2,FALSE),\"X\")","v":"X"}]
[null,null,null,null,null,null,null,null,null,null,null,null,null,null,null,null,null,null,null,null,null,null,null,null,null,null,null,null,{"$f":"IF(AND(REFERENTES!C1093<>\"\",          REFERENTES!C1093<>96321,    REFERENTES!C1093<>96222            ),(REFERENTES!E1093),\"\")","v":""},{"$f":"REFERENTES!C1093","v":0},null,1091,0,1290,"X"]
[null,null,null,null,null,null,null,null,null,null,null,null,null,null,null,null,null,null,null,null,null,null,null,null,null,null,null,null,{"$f":"IF(AND(REFERENTES!C1094<>\"\",          REFERENTES!C1094<>96321,    REFERENTES!C1094<>96222            ),(REFERENTES!E1094),\"\")","v":""},{"$f":"REFERENTES!C1094","v":0},null,1092,0,1290,"X"]
[null,null,null,null,null,null,null,null,null,null,null,null,null,null,null,null,null,null,null,null,null,null,null,null,null,null,null,null,{"$f":"IF(AND(REFERENTES!C1095<>\"\",          REFERENTES!C1095<>96321,    REFERENTES!C1095<>96222            ),(REFERENTES!E1095),\"\")","v":""},{"$f":"REFERENTES!C1095","v":0},null,1093,0,1290,"X"]
[null,null,null,null,null,null,null,null,null,null,null,null,null,null,null,null,null,null,null,null,null,null,null,null,null,null,null,null,{"$f":"IF(AND(REFERENTES!C1096<>\"\",          REFERENTES!C1096<>96321,    REFERENTES!C1096<>96222            ),(REFERENTES!E1096),\"\")","v":""},{"$f":"REFERENTES!C1096","v":0},null,1094,0,1290,"X"]
[null,null,null,null,null,null,null,null,null,null,null,null,null,null,null,null,null,null,null,null,null,null,null,null,null,null,null,null,{"$f":"IF(AND(REFERENTES!C1097<>\"\",          REFERENTES!C1097<>96321,    REFERENTES!C1097<>96222            ),(REFERENTES!E1097),\"\")","v":""},{"$f":"REFERENTES!C1097","v":0},null,1095,0,1290,"X"]
[null,null,null,null,null,null,null,null,null,null,null,null,null,null,null,null,null,null,null,null,null,null,null,null,null,null,null,null,{"$f":"IF(AND(REFERENTES!C1098<>\"\",          REFERENTES!C1098<>96321,    REFERENTES!C1098<>96222            ),(REFERENTES!E1098),\"\")","v":""},{"$f":"REFERENTES!C1098","v":0},null,1096,0,1290,"X"]
[null,null,null,null,null,null,null,null,null,null,null,null,null,null,null,null,null,null,null,null,null,null,null,null,null,null,null,null,{"$f":"IF(AND(REFERENTES!C1099<>\"\",          REFERENTES!C1099<>96321,    REFERENTES!C1099<>96222            ),(REFERENTES!E1099),\"\")","v":""},{"$f":"REFERENTES!C1099","v":0},null,1097,0,1290,"X"]
[null,null,null,null,null,null,null,null,null,null,null,null,null,null,null,null,null,null,null,null,null,null,null,null,null,null,null,null,{"$f":"IF(AND(REFERENTES!C1100<>\"\",          REFERENTES!C1100<>96321,    REFERENTES!C1100<>96222            ),(REFERENTES!E1100),\"\")","v":""},{"$f":"REFERENTES!C1100","v":0},null,1098,0,1290,"X"]
[null,null,null,null,null,null,null,null,null,null,null,null,null,null,null,null,null,null,null,null,null,null,null,null,null,null,null,null,{"$f":"IF(AND(REFERENTES!C1101<>\"\",          REFERENTES!C1101<>96321,    REFERENTES!C1101<>96222            ),(REFERENTES!E1101),\"\")","v":""},{"$f":"REFERENTES!C1101","v":0},null,1099,0,1290,"X"]
[null,null,null,null,null,null,null,null,null,null,null,null,null,null,null,null,null,null,null,null,null,null,null,null,null,null,null,null,{"$f":"IF(AND(REFERENTES!C1102<>\"\",          REFERENTES!C1102<>96321,    REFERENTES!C1102<>96222            ),(REFERENTES!E1102),\"\")","v":""},{"$f":"REFERENTES!C1102","v":0},null,1100,0,1290,"X"]
[null,null,null,null,null,null,null,null,null,null,null,null,null,null,null,null,null,null,null,null,null,null,null,null,null,null,null,null,{"$f":"IF(AND(REFERENTES!C1103<>\"\",          REFERENTES!C1103<>96321,    REFERENTES!C1103<>96222            ),(REFERENTES!E1103),\"\")","v":""},{"$f":"REFERENTES!C1103","v":0},null,1101,0,1290,"X"]
[null,null,null,null,null,null,null,null,null,null,null,null,null,null,null,null,null,null,null,null,null,null,null,null,null,null,null,null,{"$f":"IF(AND(REFERENTES!C1104<>\"\",          REFERENTES!C1104<>96321,    REFERENTES!C1104<>96222            ),(REFERENTES!E1104),\"\")","v":""},{"$f":"REFERENTES!C1104","v":0},null,1102,0,1290,"X"]
[null,null,null,null,null,null,null,null,null,null,null,null,null,null,null,null,null,null,null,null,null,null,null,null,null,null,null,null,{"$f":"IF(AND(REFERENTES!C1105<>\"\",          REFERENTES!C1105<>96321,    REFERENTES!C1105<>96222            ),(REFERENTES!E1105),\"\")","v":""},{"$f":"REFERENTES!C1105","v":0},null,1103,0,1290,"X"]
[null,null,null,null,null,null,null,null,null,null,null,null,null,null,null,null,null,null,null,null,null,null,null,null,null,null,null,null,{"$f":"IF(AND(REFERENTES!C1106<>\"\",          REFERENTES!C1106<>96321,    REFERENTES!C1106<>96222            ),(REFERENTES!E1106),\"\")","v":""},{"$f":"REFERENTES!C1106","v":0},null,1104,0,1290,"X"]
[null,null,null,null,null,null,null,null,null,null,null,null,null,null,null,null,null,null,null,null,null,null,null,null,null,null,null,null,{"$f":"IF(AND(REFERENTES!C1107<>\"\",          REFERENTES!C1107<>96321,    REFERENTES!C1107<>96222            ),(REFERENTES!E1107),\"\")","v":""},{"$f":"REFERENTES!C1107","v":0},null,1105,0,1290,"X"]
[null,null,null,null,null,null,null,null,null,null,null,null,null,null,null,null,null,null,null,null,null,null,null,null,null,null,null,null,{"$f":"IF(AND(REFERENTES!C1108<>\"\",          REFERENTES!C1108<>96321,    REFERENTES!C1108<>96222            ),(REFERENTES!E1108),\"\")","v":""},{"$f":"REFERENTES!C1108","v":0},null,1106,0,1290,"X"]
[null,null,null,null,null,null,null,null,null,null,null,null,null,null,null,null,null,null,null,null,null,null,null,null,null,null,null,null,{"$f":"IF(AND(REFERENTES!C1109<>\"\",          REFERENTES!C1109<>96321,    REFERENTES!C1109<>96222            ),(REFERENTES!E1109),\"\")","v":""},{"$f":"REFERENTES!C1109","v":0},null,1107,0,1290,"X"]
[null,null,null,null,null,null,null,null,null,null,null,null,null,null,null,null,null,null,null,null,null,null,null,null,null,null,null,null,{"$f":"IF(AND(REFERENTES!C1110<>\"\",          REFERENTES!C1110<>96321,    REFERENTES!C1110<>96222            ),(REFERENTES!E1110),\"\")","v":""},{"$f":"REFERENTES!C1110","v":0},null,1108,0,1290,"X"]
[null,null,null,null,null,null,null,null,null,null,null,null,null,null,null,null,null,null,null,null,null,null,null,null,null,null,null,null,{"$f":"IF(AND(REFERENTES!C1111<>\"\",          REFERENTES!C1111<>96321,    REFERENTES!C1111<>96222            ),(REFERENTES!E1111),\"\")","v":""},{"$f":"REFERENTES!C1111","v":0},null,1109,0,1290,"X"]
[null,null,null,null,null,null,null,null,null,null,null,null,null,null,null,null,null,null,null,null,null,null,null,null,null,null,null,null,{"$f":"IF(AND(REFERENTES!C1112<>\"\",          REFERENTES!C1112<>96321,    REFERENTES!C1112<>96222            ),(REFERENTES!E1112),\"\")","v":""},{"$f":"REFERENTES!C1112","v":0},null,1110,0,1290,"X"]
[null,null,null,null,null,null,null,null,null,null,null,null,null,null,null,null,null,null,null,null,null,null,null,null,null,null,null,null,{"$f":"IF(AND(REFERENTES!C1113<>\"\",          REFERENTES!C1113<>96321,    REFERENTES!C1113<>96222            ),(REFERENTES!E1113),\"\")","v":""},{"$f":"REFERENTES!C1113","v":0},null,1111,0,1290,"X"]
[null,null,null,null,null,null,null,null,null,null,null,null,null,null,null,null,null,null,null,null,null,null,null,null,null,null,null,null,{"$f":"IF(AND(REFERENTES!C1114<>\"\",          REFERENTES!C1114<>96321,    REFERENTES!C1114<>96222            ),(REFERENTES!E1114),\"\")","v":""},{"$f":"REFERENTES!C1114","v":0},null,1112,0,1290,"X"]
[null,null,null,null,null,null,null,null,null,null,null,null,null,null,null,null,null,null,null,null,null,null,null,null,null,null,null,null,{"$f":"IF(AND(REFERENTES!C1115<>\"\",          REFERENTES!C1115<>96321,    REFERENTES!C1115<>96222            ),(REFERENTES!E1115),\"\")","v":""},{"$f":"REFERENTES!C1115","v":0},null,1113,0,1290,"X"]
[null,null,null,null,null,null,null,null,null,null,null,null,null,null,null,null,null,null,null,null,null,null,null,null,null,null,null,null,{"$f":"IF(AND(REFERENTES!C1116<>\"\",          REFERENTES!C1116<>96321,    REFERENTES!C1116<>96222            ),(REFERENTES!E1116),\"\")","v":""},{"$f":"REFERENTES!C1116","v":0},null,1114,0,1290,"X"]
[null,null,null,null,null,null,null,null,null,null,null,null,null,null,null,null,null,null,null,null,null,null,null,null,null,null,null,null,{"$f":"IF(AND(REFERENTES!C1117<>\"\",          REFERENTES!C1117<>96321,    REFERENTES!C1117<>96222            ),(REFERENTES!E1117),\"\")","v":""},{"$f":"REFERENTES!C1117","v":0},null,1115,0,1290,"X"]
[null,null,null,null,null,null,null,null,null,null,null,null,null,null,null,null,null,null,null,null,null,null,null,null,null,null,null,null,{"$f":"IF(AND(REFERENTES!C1118<>\"\",          REFERENTES!C1118<>96321,    REFERENTES!C1118<>96222            ),(REFERENTES!E1118),\"\")","v":""},{"$f":"REFERENTES!C1118","v":0},null,1116,0,1290,"X"]
[null,null,null,null,null,null,null,null,null,null,null,null,null,null,null,null,null,null,null,null,null,null,null,null,null,null,null,null,{"$f":"IF(AND(REFERENTES!C1119<>\"\",          REFERENTES!C1119<>96321,    REFERENTES!C1119<>96222            ),(REFERENTES!E1119),\"\")","v":""},{"$f":"REFERENTES!C1119","v":0},null,1117,0,1290,"X"]
[null,null,null,null,null,null,null,null,null,null,null,null,null,null,null,null,null,null,null,null,null,null,null,null,null,null,null,null,{"$f":"IF(AND(REFERENTES!C1120<>\"\",          REFERENTES!C1120<>96321,    REFERENTES!C1120<>96222            ),(REFERENTES!E1120),\"\")","v":""},{"$f":"REFERENTES!C1120","v":0},null,1118,0,1290,"X"]
[null,null,null,null,null,null,null,null,null,null,null,null,null,null,null,null,null,null,null,null,null,null,null,null,null,null,null,null,{"$f":"IF(AND(REFERENTES!C1121<>\"\",          REFERENTES!C1121<>96321,    REFERENTES!C1121<>96222            ),(REFERENTES!E1121),\"\")","v":""},{"$f":"REFERENTES!C1121","v":0},null,1119,0,1290,"X"]
[null,null,null,null,null,null,null,null,null,null,null,null,null,null,null,null,null,null,null,null,null,null,null,null,null,null,null,null,{"$f":"IF(AND(REFERENTES!C1122<>\"\",          REFERENTES!C1122<>96321,    REFERENTES!C1122<>96222            ),(REFERENTES!E1122),\"\")","v":""},{"$f":"REFERENTES!C1122","v":0},null,1120,0,1290,"X"]
[null,null,null,null,null,null,null,null,null,null,null,null,null,null,null,null,null,null,null,null,null,null,null,null,null,null,null,null,{"$f":"IF(AND(REFERENTES!C1123<>\"\",          REFERENTES!C1123<>96321,    REFERENTES!C1123<>96222            ),(REFERENTES!E1123),\"\")","v":""},{"$f":"REFERENTES!C1123","v":0},null,1121,0,1290,"X"]
[null,null,null,null,null,null,null,null,null,null,null,null,null,null,null,null,null,null,null,null,null,null,null,null,null,null,null,null,{"$f":"IF(AND(REFERENTES!C1124<>\"\",          REFERENTES!C1124<>96321,    REFERENTES!C1124<>96222            ),(REFERENTES!E1124),\"\")","v":""},{"$f":"REFERENTES!C1124","v":0},null,1122,0,1290,"X"]
[null,null,null,null,null,null,null,null,null,null,null,null,null,null,null,null,null,null,null,null,null,null,null,null,null,null,null,null,{"$f":"IF(AND(REFERENTES!C1125<>\"\",          REFERENTES!C1125<>96321,    REFERENTES!C1125<>96222            ),(REFERENTES!E1125),\"\")","v":""},{"$f":"REFERENTES!C1125","v":0},null,1123,0,1290,"X"]
[null,null,null,null,null,null,null,null,null,null,null,null,null,null,null,null,null,null,null,null,null,null,null,null,null,null,null,null,{"$f":"IF(AND(REFERENTES!C1126<>\"\",          REFERENTES!C1126<>96321,    REFERENTES!C1126<>96222            ),(REFERENTES!E1126),\"\")","v":""},{"$f":"REFERENTES!C1126","v":0},null,1124,0,1290,"X"]
[null,null,null,null,null,null,null,null,null,null,null,null,null,null,null,null,null,null,null,null,null,null,null,null,null,null,null,null,{"$f":"IF(AND(REFERENTES!C1127<>\"\",          REFERENTES!C1127<>96321,    REFERENTES!C1127<>96222            ),(REFERENTES!E1127),\"\")","v":""},{"$f":"REFERENTES!C1127","v":0},null,1125,0,1290,"X"]
[null,null,null,null,null,null,null,null,null,null,null,null,null,null,null,null,null,null,null,null,null,null,null,null,null,null,null,null,{"$f":"IF(AND(REFERENTES!C1128<>\"\",          REFERENTES!C1128<>96321,    REFERENTES!C1128<>96222            ),(REFERENTES!E1128),\"\")","v":""},{"$f":"REFERENTES!C1128","v":0},null,1126,0,1290,"X"]
[null,null,null,null,null,null,null,null,null,null,null,null,null,null,null,null,null,null,null,null,null,null,null,null,null,null,null,null,{"$f":"IF(AND(REFERENTES!C1129<>\"\",          REFERENTES!C1129<>96321,    REFERENTES!C1129<>96222            ),(REFERENTES!E1129),\"\")","v":""},{"$f":"REFERENTES!C1129","v":0},null,1127,0,1290,"X"]
[null,null,null,null,null,null,null,null,null,null,null,null,null,null,null,null,null,null,null,null,null,null,null,null,null,null,null,null,{"$f":"IF(AND(REFERENTES!C1130<>\"\",          REFERENTES!C1130<>96321,    REFERENTES!C1130<>96222            ),(REFERENTES!E1130),\"\")","v":""},{"$f":"REFERENTES!C1130","v":0},null,1128,0,1290,"X"]
[null,null,null,null,null,null,null,null,null,null,null,null,null,null,null,null,null,null,null,null,null,null,null,null,null,null,null,null,{"$f":"IF(AND(REFERENTES!C1131<>\"\",          REFERENTES!C1131<>96321,    REFERENTES!C1131<>96222            ),(REFERENTES!E1131),\"\")","v":""},{"$f":"REFERENTES!C1131","v":0},null,1129,0,1290,"X"]
[null,null,null,null,null,null,null,null,null,null,null,null,null,null,null,null,null,null,null,null,null,null,null,null,null,null,null,null,{"$f":"IF(AND(REFERENTES!C1132<>\"\",          REFERENTES!C1132<>96321,    REFERENTES!C1132<>96222            ),(REFERENTES!E1132),\"\")","v":""},{"$f":"REFERENTES!C1132","v":0},null,1130,0,1290,"X"]
[null,null,null,null,null,null,null,null,null,null,null,null,null,null,null,null,null,null,null,null,null,null,null,null,null,null,null,null,{"$f":"IF(AND(REFERENTES!C1133<>\"\",          REFERENTES!C1133<>96321,    REFERENTES!C1133<>96222            ),(REFERENTES!E1133),\"\")","v":""},{"$f":"REFERENTES!C1133","v":0},null,1131,0,1290,"X"]
[null,null,null,null,null,null,null,null,null,null,null,null,null,null,null,null,null,null,null,null,null,null,null,null,null,null,null,null,{"$f":"IF(AND(REFERENTES!C1134<>\"\",          REFERENTES!C1134<>96321,    REFERENTES!C1134<>96222            ),(REFERENTES!E1134),\"\")","v":""},{"$f":"REFERENTES!C1134","v":0},null,1132,0,1290,"X"]
[null,null,null,null,null,null,null,null,null,null,null,null,null,null,null,null,null,null,null,null,null,null,null,null,null,null,null,null,{"$f":"IF(AND(REFERENTES!C1135<>\"\",          REFERENTES!C1135<>96321,    REFERENTES!C1135<>96222            ),(REFERENTES!E1135),\"\")","v":""},{"$f":"REFERENTES!C1135","v":0},null,1133,0,1290,"X"]
[null,null,null,null,null,null,null,null,null,null,null,null,null,null,null,null,null,null,null,null,null,null,null,null,null,null,null,null,{"$f":"IF(AND(REFERENTES!C1136<>\"\",          REFERENTES!C1136<>96321,    REFERENTES!C1136<>96222            ),(REFERENTES!E1136),\"\")","v":""},{"$f":"REFERENTES!C1136","v":0},null,1134,0,1290,"X"]
[null,null,null,null,null,null,null,null,null,null,null,null,null,null,null,null,null,null,null,null,null,null,null,null,null,null,null,null,{"$f":"IF(AND(REFERENTES!C1137<>\"\",          REFERENTES!C1137<>96321,    REFERENTES!C1137<>96222            ),(REFERENTES!E1137),\"\")","v":""},{"$f":"REFERENTES!C1137","v":0},null,1135,0,1290,"X"]
[null,null,null,null,null,null,null,null,null,null,null,null,null,null,null,null,null,null,null,null,null,null,null,null,null,null,null,null,{"$f":"IF(AND(REFERENTES!C1138<>\"\",          REFERENTES!C1138<>96321,    REFERENTES!C1138<>96222            ),(REFERENTES!E1138),\"\")","v":""},{"$f":"REFERENTES!C1138","v":0},null,1136,0,1290,"X"]
[null,null,null,null,null,null,null,null,null,null,null,null,null,null,null,null,null,null,null,null,null,null,null,null,null,null,null,null,{"$f":"IF(AND(REFERENTES!C1139<>\"\",          REFERENTES!C1139<>96321,    REFERENTES!C1139<>96222            ),(REFERENTES!E1139),\"\")","v":""},{"$f":"REFERENTES!C1139","v":0},null,1137,0,1290,"X"]
[null,null,null,null,null,null,null,null,null,null,null,null,null,null,null,null,null,null,null,null,null,null,null,null,null,null,null,null,{"$f":"IF(AND(REFERENTES!C1140<>\"\",          REFERENTES!C1140<>96321,    REFERENTES!C1140<>96222            ),(REFERENTES!E1140),\"\")","v":""},{"$f":"REFERENTES!C1140","v":0},null,1138,0,1290,"X"]
[null,null,null,null,null,null,null,null,null,null,null,null,null,null,null,null,null,null,null,null,null,null,null,null,null,null,null,null,{"$f":"IF(AND(REFERENTES!C1141<>\"\",          REFERENTES!C1141<>96321,    REFERENTES!C1141<>96222            ),(REFERENTES!E1141),\"\")","v":""},{"$f":"REFERENTES!C1141","v":0},null,1139,0,1290,"X"]
[null,null,null,null,null,null,null,null,null,null,null,null,null,null,null,null,null,null,null,null,null,null,null,null,null,null,null,null,{"$f":"IF(AND(REFERENTES!C1142<>\"\",          REFERENTES!C1142<>96321,    REFERENTES!C1142<>96222            ),(REFERENTES!E1142),\"\")","v":""},{"$f":"REFERENTES!C1142","v":0},null,1140,0,1290,"X"]
[null,null,null,null,null,null,null,null,null,null,null,null,null,null,null,null,null,null,null,null,null,null,null,null,null,null,null,null,{"$f":"IF(AND(REFERENTES!C1143<>\"\",          REFERENTES!C1143<>96321,    REFERENTES!C1143<>96222            ),(REFERENTES!E1143),\"\")","v":""},{"$f":"REFERENTES!C1143","v":0},null,1141,0,1290,"X"]
[null,null,null,null,null,null,null,null,null,null,null,null,null,null,null,null,null,null,null,null,null,null,null,null,null,null,null,null,{"$f":"IF(AND(REFERENTES!C1144<>\"\",          REFERENTES!C1144<>96321,    REFERENTES!C1144<>96222            ),(REFERENTES!E1144),\"\")","v":""},{"$f":"REFERENTES!C1144","v":0},null,1142,0,1290,"X"]
[null,null,null,null,null,null,null,null,null,null,null,null,null,null,null,null,null,null,null,null,null,null,null,null,null,null,null,null,{"$f":"IF(AND(REFERENTES!C1145<>\"\",          REFERENTES!C1145<>96321,    REFERENTES!C1145<>96222            ),(REFERENTES!E1145),\"\")","v":""},{"$f":"REFERENTES!C1145","v":0},null,1143,0,1290,"X"]
[null,null,null,null,null,null,null,null,null,null,null,null,null,null,null,null,null,null,null,null,null,null,null,null,null,null,null,null,{"$f":"IF(AND(REFERENTES!C1146<>\"\",          REFERENTES!C1146<>96321,    REFERENTES!C1146<>96222            ),(REFERENTES!E1146),\"\")","v":""},{"$f":"REFERENTES!C1146","v":0},null,1144,0,1290,"X"]
[null,null,null,null,null,null,null,null,null,null,null,null,null,null,null,null,null,null,null,null,null,null,null,null,null,null,null,null,{"$f":"IF(AND(REFERENTES!C1147<>\"\",          REFERENTES!C1147<>96321,    REFERENTES!C1147<>96222            ),(REFERENTES!E1147),\"\")","v":""},{"$f":"REFERENTES!C1147","v":0},null,1145,0,1290,"X"]
[null,null,null,null,null,null,null,null,null,null,null,null,null,null,null,null,null,null,null,null,null,null,null,null,null,null,null,null,{"$f":"IF(AND(REFERENTES!C1148<>\"\",          REFERENTES!C1148<>96321,    REFERENTES!C1148<>96222            ),(REFERENTES!E1148),\"\")","v":""},{"$f":"REFERENTES!C1148","v":0},null,1146,0,1290,"X"]
[null,null,null,null,null,null,null,null,null,null,null,null,null,null,null,null,null,null,null,null,null,null,null,null,null,null,null,null,{"$f":"IF(AND(REFERENTES!C1149<>\"\",          REFERENTES!C1149<>96321,    REFERENTES!C1149<>96222            ),(REFERENTES!E1149),\"\")","v":""},{"$f":"REFERENTES!C1149","v":0},null,1147,0,1290,"X"]
[null,null,null,null,null,null,null,null,null,null,null,null,null,null,null,null,null,null,null,null,null,null,null,null,null,null,null,null,{"$f":"IF(AND(REFERENTES!C1150<>\"\",          REFERENTES!C1150<>96321,    REFERENTES!C1150<>96222            ),(REFERENTES!E1150),\"\")","v":""},{"$f":"REFERENTES!C1150","v":0},null,1148,0,1290,"X"]
[null,null,null,null,null,null,null,null,null,null,null,null,null,null,null,null,null,null,null,null,null,null,null,null,null,null,null,null,{"$f":"IF(AND(REFERENTES!C1151<>\"\",          REFERENTES!C1151<>96321,    REFERENTES!C1151<>96222            ),(REFERENTES!E1151),\"\")","v":""},{"$f":"REFERENTES!C1151","v":0},null,1149,0,1290,"X"]
[null,null,null,null,null,null,null,null,null,null,null,null,null,null,null,null,null,null,null,null,null,null,null,null,null,null,null,null,{"$f":"IF(AND(REFERENTES!C1152<>\"\",          REFERENTES!C1152<>96321,    REFERENTES!C1152<>96222            ),(REFERENTES!E1152),\"\")","v":""},{"$f":"REFERENTES!C1152","v":0},null,1150,0,1290,"X"]
[null,null,null,null,null,null,null,null,null,null,null,null,null,null,null,null,null,null,null,null,null,null,null,null,null,null,null,null,{"$f":"IF(AND(REFERENTES!C1153<>\"\",          REFERENTES!C1153<>96321,    REFERENTES!C1153<>96222            ),(REFERENTES!E1153),\"\")","v":""},{"$f":"REFERENTES!C1153","v":0},null,1151,0,1290,"X"]
[null,null,null,null,null,null,null,null,null,null,null,null,null,null,null,null,null,null,null,null,null,null,null,null,null,null,null,null,{"$f":"IF(AND(REFERENTES!C1154<>\"\",          REFERENTES!C1154<>96321,    REFERENTES!C1154<>96222            ),(REFERENTES!E1154),\"\")","v":""},{"$f":"REFERENTES!C1154","v":0},null,1152,0,1290,"X"]
[null,null,null,null,null,null,null,null,null,null,null,null,null,null,null,null,null,null,null,null,null,null,null,null,null,null,null,null,{"$f":"IF(AND(REFERENTES!C1155<>\"\",          REFERENTES!C1155<>96321,    REFERENTES!C1155<>96222            ),(REFERENTES!E1155),\"\")","v":""},{"$f":"REFERENTES!C1155","v":0},null,1153,0,1290,"X"]
[null,null,null,null,null,null,null,null,null,null,null,null,null,null,null,null,null,null,null,null,null,null,null,null,null,null,null,null,{"$f":"IF(AND(REFERENTES!C1156<>\"\",          REFERENTES!C1156<>96321,    REFERENTES!C1156<>96222            ),(REFERENTES!E1156),\"\")","v":""},{"$f":"REFERENTES!C1156","v":0},null,1154,{"$f":"IF(AC1158=\"\",0,AC1158)","v":0},{"$f":"IF(AG1159=0,MAX($AF$6:$AF$1294)+1,AF1159)","v":1290},{"$f":"IFERROR(VLOOKUP(SMALL($AH$6:$AH$1294,AF1159),$AF$6:$AH$1294,2,FALSE),\"X\")","v":"X"}]
[null,null,null,null,null,null,null,null,null,null,null,null,null,null,null,null,null,null,null,null,null,null,null,null,null,null,null,null,{"$f":"IF(AND(REFERENTES!C1157<>\"\",          REFERENTES!C1157<>96321,    REFERENTES!C1157<>96222            ),(REFERENTES!E1157),\"\")","v":""},{"$f":"REFERENTES!C1157","v":0},null,1155,0,1290,"X"]
[null,null,null,null,null,null,null,null,null,null,null,null,null,null,null,null,null,null,null,null,null,null,null,null,null,null,null,null,{"$f":"IF(AND(REFERENTES!C1158<>\"\",          REFERENTES!C1158<>96321,    REFERENTES!C1158<>96222            ),(REFERENTES!E1158),\"\")","v":""},{"$f":"REFERENTES!C1158","v":0},null,1156,0,1290,"X"]
[null,null,null,null,null,null,null,null,null,null,null,null,null,null,null,null,null,null,null,null,null,null,null,null,null,null,null,null,{"$f":"IF(AND(REFERENTES!C1159<>\"\",          REFERENTES!C1159<>96321,    REFERENTES!C1159<>96222            ),(REFERENTES!E1159),\"\")","v":""},{"$f":"REFERENTES!C1159","v":0},null,1157,0,1290,"X"]
[null,null,null,null,null,null,null,null,null,null,null,null,null,null,null,null,null,null,null,null,null,null,null,null,null,null,null,null,{"$f":"IF(AND(REFERENTES!C1160<>\"\",          REFERENTES!C1160<>96321,    REFERENTES!C1160<>96222            ),(REFERENTES!E1160),\"\")","v":""},{"$f":"REFERENTES!C1160","v":0},null,1158,0,1290,"X"]
[null,null,null,null,null,null,null,null,null,null,null,null,null,null,null,null,null,null,null,null,null,null,null,null,null,null,null,null,{"$f":"IF(AND(REFERENTES!C1161<>\"\",          REFERENTES!C1161<>96321,    REFERENTES!C1161<>96222            ),(REFERENTES!E1161),\"\")","v":""},{"$f":"REFERENTES!C1161","v":0},null,1159,0,1290,"X"]
[null,null,null,null,null,null,null,null,null,null,null,null,null,null,null,null,null,null,null,null,null,null,null,null,null,null,null,null,{"$f":"IF(AND(REFERENTES!C1162<>\"\",          REFERENTES!C1162<>96321,    REFERENTES!C1162<>96222            ),(REFERENTES!E1162),\"\")","v":""},{"$f":"REFERENTES!C1162","v":0},null,1160,0,1290,"X"]
[null,null,null,null,null,null,null,null,null,null,null,null,null,null,null,null,null,null,null,null,null,null,null,null,null,null,null,null,{"$f":"IF(AND(REFERENTES!C1163<>\"\",          REFERENTES!C1163<>96321,    REFERENTES!C1163<>96222            ),(REFERENTES!E1163),\"\")","v":""},{"$f":"REFERENTES!C1163","v":0},null,1161,0,1290,"X"]
[null,null,null,null,null,null,null,null,null,null,null,null,null,null,null,null,null,null,null,null,null,null,null,null,null,null,null,null,{"$f":"IF(AND(REFERENTES!C1164<>\"\",          REFERENTES!C1164<>96321,    REFERENTES!C1164<>96222            ),(REFERENTES!E1164),\"\")","v":""},{"$f":"REFERENTES!C1164","v":0},null,1162,0,1290,"X"]
[null,null,null,null,null,null,null,null,null,null,null,null,null,null,null,null,null,null,null,null,null,null,null,null,null,null,null,null,{"$f":"IF(AND(REFERENTES!C1165<>\"\",          REFERENTES!C1165<>96321,    REFERENTES!C1165<>96222            ),(REFERENTES!E1165),\"\")","v":""},{"$f":"REFERENTES!C1165","v":0},null,1163,0,1290,"X"]
[null,null,null,null,null,null,null,null,null,null,null,null,null,null,null,null,null,null,null,null,null,null,null,null,null,null,null,null,{"$f":"IF(AND(REFERENTES!C1166<>\"\",          REFERENTES!C1166<>96321,    REFERENTES!C1166<>96222            ),(REFERENTES!E1166),\"\")","v":""},{"$f":"REFERENTES!C1166","v":0},null,1164,0,1290,"X"]
[null,null,null,null,null,null,null,null,null,null,null,null,null,null,null,null,null,null,null,null,null,null,null,null,null,null,null,null,{"$f":"IF(AND(REFERENTES!C1167<>\"\",          REFERENTES!C1167<>96321,    REFERENTES!C1167<>96222            ),(REFERENTES!E1167),\"\")","v":""},{"$f":"REFERENTES!C1167","v":0},null,1165,0,1290,"X"]
[null,null,null,null,null,null,null,null,null,null,null,null,null,null,null,null,null,null,null,null,null,null,null,null,null,null,null,null,{"$f":"IF(AND(REFERENTES!C1168<>\"\",          REFERENTES!C1168<>96321,    REFERENTES!C1168<>96222            ),(REFERENTES!E1168),\"\")","v":""},{"$f":"REFERENTES!C1168","v":0},null,1166,0,1290,"X"]
[null,null,null,null,null,null,null,null,null,null,null,null,null,null,null,null,null,null,null,null,null,null,null,null,null,null,null,null,{"$f":"IF(AND(REFERENTES!C1169<>\"\",          REFERENTES!C1169<>96321,    REFERENTES!C1169<>96222            ),(REFERENTES!E1169),\"\")","v":""},{"$f":"REFERENTES!C1169","v":0},null,1167,0,1290,"X"]
[null,null,null,null,null,null,null,null,null,null,null,null,null,null,null,null,null,null,null,null,null,null,null,null,null,null,null,null,{"$f":"IF(AND(REFERENTES!C1170<>\"\",          REFERENTES!C1170<>96321,    REFERENTES!C1170<>96222            ),(REFERENTES!E1170),\"\")","v":""},{"$f":"REFERENTES!C1170","v":0},null,1168,0,1290,"X"]
[null,null,null,null,null,null,null,null,null,null,null,null,null,null,null,null,null,null,null,null,null,null,null,null,null,null,null,null,{"$f":"IF(AND(REFERENTES!C1171<>\"\",          REFERENTES!C1171<>96321,    REFERENTES!C1171<>96222            ),(REFERENTES!E1171),\"\")","v":""},{"$f":"REFERENTES!C1171","v":0},null,1169,0,1290,"X"]
[null,null,null,null,null,null,null,null,null,null,null,null,null,null,null,null,null,null,null,null,null,null,null,null,null,null,null,null,{"$f":"IF(AND(REFERENTES!C1172<>\"\",          REFERENTES!C1172<>96321,    REFERENTES!C1172<>96222            ),(REFERENTES!E1172),\"\")","v":""},{"$f":"REFERENTES!C1172","v":0},null,1170,0,1290,"X"]
[null,null,null,null,null,null,null,null,null,null,null,null,null,null,null,null,null,null,null,null,null,null,null,null,null,null,null,null,{"$f":"IF(AND(REFERENTES!C1173<>\"\",          REFERENTES!C1173<>96321,    REFERENTES!C1173<>96222            ),(REFERENTES!E1173),\"\")","v":""},{"$f":"REFERENTES!C1173","v":0},null,1171,0,1290,"X"]
[null,null,null,null,null,null,null,null,null,null,null,null,null,null,null,null,null,null,null,null,null,null,null,null,null,null,null,null,{"$f":"IF(AND(REFERENTES!C1174<>\"\",          REFERENTES!C1174<>96321,    REFERENTES!C1174<>96222            ),(REFERENTES!E1174),\"\")","v":""},{"$f":"REFERENTES!C1174","v":0},null,1172,0,1290,"X"]
[null,null,null,null,null,null,null,null,null,null,null,null,null,null,null,null,null,null,null,null,null,null,null,null,null,null,null,null,{"$f":"IF(AND(REFERENTES!C1175<>\"\",          REFERENTES!C1175<>96321,    REFERENTES!C1175<>96222            ),(REFERENTES!E1175),\"\")","v":""},{"$f":"REFERENTES!C1175","v":0},null,1173,0,1290,"X"]
[null,null,null,null,null,null,null,null,null,null,null,null,null,null,null,null,null,null,null,null,null,null,null,null,null,null,null,null,{"$f":"IF(AND(REFERENTES!C1176<>\"\",          REFERENTES!C1176<>96321,    REFERENTES!C1176<>96222            ),(REFERENTES!E1176),\"\")","v":""},{"$f":"REFERENTES!C1176","v":0},null,1174,0,1290,"X"]
[null,null,null,null,null,null,null,null,null,null,null,null,null,null,null,null,null,null,null,null,null,null,null,null,null,null,null,null,{"$f":"IF(AND(REFERENTES!C1177<>\"\",          REFERENTES!C1177<>96321,    REFERENTES!C1177<>96222            ),(REFERENTES!E1177),\"\")","v":""},{"$f":"REFERENTES!C1177","v":0},null,1175,0,1290,"X"]
[null,null,null,null,null,null,null,null,null,null,null,null,null,null,null,null,null,null,null,null,null,null,null,null,null,null,null,null,{"$f":"IF(AND(REFERENTES!C1178<>\"\",          REFERENTES!C1178<>96321,    REFERENTES!C1178<>96222            ),(REFERENTES!E1178),\"\")","v":""},{"$f":"REFERENTES!C1178","v":0},null,1176,0,1290,"X"]
[null,null,null,null,null,null,null,null,null,null,null,null,null,null,null,null,null,null,null,null,null,null,null,null,null,null,null,null,{"$f":"IF(AND(REFERENTES!C1179<>\"\",          REFERENTES!C1179<>96321,    REFERENTES!C1179<>96222            ),(REFERENTES!E1179),\"\")","v":""},{"$f":"REFERENTES!C1179","v":0},null,1177,0,1290,"X"]
[null,null,null,null,null,null,null,null,null,null,null,null,null,null,null,null,null,null,null,null,null,null,null,null,null,null,null,null,{"$f":"IF(AND(REFERENTES!C1180<>\"\",          REFERENTES!C1180<>96321,    REFERENTES!C1180<>96222            ),(REFERENTES!E1180),\"\")","v":""},{"$f":"REFERENTES!C1180","v":0},null,1178,0,1290,"X"]
[null,null,null,null,null,null,null,null,null,null,null,null,null,null,null,null,null,null,null,null,null,null,null,null,null,null,null,null,{"$f":"IF(AND(REFERENTES!C1181<>\"\",          REFERENTES!C1181<>96321,    REFERENTES!C1181<>96222            ),(REFERENTES!E1181),\"\")","v":""},{"$f":"REFERENTES!C1181","v":0},null,1179,0,1290,"X"]
[null,null,null,null,null,null,null,null,null,null,null,null,null,null,null,null,null,null,null,null,null,null,null,null,null,null,null,null,{"$f":"IF(AND(REFERENTES!C1182<>\"\",          REFERENTES!C1182<>96321,    REFERENTES!C1182<>96222            ),(REFERENTES!E1182),\"\")","v":""},{"$f":"REFERENTES!C1182","v":0},null,1180,0,1290,"X"]
[null,null,null,null,null,null,null,null,null,null,null,null,null,null,null,null,null,null,null,null,null,null,null,null,null,null,null,null,{"$f":"IF(AND(REFERENTES!C1183<>\"\",          REFERENTES!C1183<>96321,    REFERENTES!C1183<>96222            ),(REFERENTES!E1183),\"\")","v":""},{"$f":"REFERENTES!C1183","v":0},null,1181,0,1290,"X"]
[null,null,null,null,null,null,null,null,null,null,null,null,null,null,null,null,null,null,null,null,null,null,null,null,null,null,null,null,{"$f":"IF(AND(REFERENTES!C1184<>\"\",          REFERENTES!C1184<>96321,    REFERENTES!C1184<>96222            ),(REFERENTES!E1184),\"\")","v":""},{"$f":"REFERENTES!C1184","v":0},null,1182,0,1290,"X"]
[null,null,null,null,null,null,null,null,null,null,null,null,null,null,null,null,null,null,null,null,null,null,null,null,null,null,null,null,{"$f":"IF(AND(REFERENTES!C1185<>\"\",          REFERENTES!C1185<>96321,    REFERENTES!C1185<>96222            ),(REFERENTES!E1185),\"\")","v":""},{"$f":"REFERENTES!C1185","v":0},null,1183,0,1290,"X"]
[null,null,null,null,null,null,null,null,null,null,null,null,null,null,null,null,null,null,null,null,null,null,null,null,null,null,null,null,{"$f":"IF(AND(REFERENTES!C1186<>\"\",          REFERENTES!C1186<>96321,    REFERENTES!C1186<>96222            ),(REFERENTES!E1186),\"\")","v":""},{"$f":"REFERENTES!C1186","v":0},null,1184,0,1290,"X"]
[null,null,null,null,null,null,null,null,null,null,null,null,null,null,null,null,null,null,null,null,null,null,null,null,null,null,null,null,{"$f":"IF(AND(REFERENTES!C1187<>\"\",          REFERENTES!C1187<>96321,    REFERENTES!C1187<>96222            ),(REFERENTES!E1187),\"\")","v":""},{"$f":"REFERENTES!C1187","v":0},null,1185,0,1290,"X"]
[null,null,null,null,null,null,null,null,null,null,null,null,null,null,null,null,null,null,null,null,null,null,null,null,null,null,null,null,{"$f":"IF(AND(REFERENTES!C1188<>\"\",          REFERENTES!C1188<>96321,    REFERENTES!C1188<>96222            ),(REFERENTES!E1188),\"\")","v":""},{"$f":"REFERENTES!C1188","v":0},null,1186,0,1290,"X"]
[null,null,null,null,null,null,null,null,null,null,null,null,null,null,null,null,null,null,null,null,null,null,null,null,null,null,null,null,{"$f":"IF(AND(REFERENTES!C1189<>\"\",          REFERENTES!C1189<>96321,    REFERENTES!C1189<>96222            ),(REFERENTES!E1189),\"\")","v":""},{"$f":"REFERENTES!C1189","v":0},null,1187,0,1290,"X"]
[null,null,null,null,null,null,null,null,null,null,null,null,null,null,null,null,null,null,null,null,null,null,null,null,null,null,null,null,{"$f":"IF(AND(REFERENTES!C1190<>\"\",          REFERENTES!C1190<>96321,    REFERENTES!C1190<>96222            ),(REFERENTES!E1190),\"\")","v":""},{"$f":"REFERENTES!C1190","v":0},null,1188,0,1290,"X"]
[null,null,null,null,null,null,null,null,null,null,null,null,null,null,null,null,null,null,null,null,null,null,null,null,null,null,null,null,{"$f":"IF(AND(REFERENTES!C1191<>\"\",          REFERENTES!C1191<>96321,    REFERENTES!C1191<>96222            ),(REFERENTES!E1191),\"\")","v":""},{"$f":"REFERENTES!C1191","v":0},null,1189,0,1290,"X"]
[null,null,null,null,null,null,null,null,null,null,null,null,null,null,null,null,null,null,null,null,null,null,null,null,null,null,null,null,{"$f":"IF(AND(REFERENTES!C1192<>\"\",          REFERENTES!C1192<>96321,    REFERENTES!C1192<>96222            ),(REFERENTES!E1192),\"\")","v":""},{"$f":"REFERENTES!C1192","v":0},null,1190,0,1290,"X"]
[null,null,null,null,null,null,null,null,null,null,null,null,null,null,null,null,null,null,null,null,null,null,null,null,null,null,null,null,{"$f":"IF(AND(REFERENTES!C1193<>\"\",          REFERENTES!C1193<>96321,    REFERENTES!C1193<>96222            ),(REFERENTES!E1193),\"\")","v":""},{"$f":"REFERENTES!C1193","v":0},null,1191,0,1290,"X"]
[null,null,null,null,null,null,null,null,null,null,null,null,null,null,null,null,null,null,null,null,null,null,null,null,null,null,null,null,{"$f":"IF(AND(REFERENTES!C1194<>\"\",          REFERENTES!C1194<>96321,    REFERENTES!C1194<>96222            ),(REFERENTES!E1194),\"\")","v":""},{"$f":"REFERENTES!C1194","v":0},null,1192,0,1290,"X"]
[null,null,null,null,null,null,null,null,null,null,null,null,null,null,null,null,null,null,null,null,null,null,null,null,null,null,null,null,{"$f":"IF(AND(REFERENTES!C1195<>\"\",          REFERENTES!C1195<>96321,    REFERENTES!C1195<>96222            ),(REFERENTES!E1195),\"\")","v":""},{"$f":"REFERENTES!C1195","v":0},null,1193,0,1290,"X"]
[null,null,null,null,null,null,null,null,null,null,null,null,null,null,null,null,null,null,null,null,null,null,null,null,null,null,null,null,{"$f":"IF(AND(REFERENTES!C1196<>\"\",          REFERENTES!C1196<>96321,    REFERENTES!C1196<>96222            ),(REFERENTES!E1196),\"\")","v":""},{"$f":"REFERENTES!C1196","v":0},null,1194,0,1290,"X"]
[null,null,null,null,null,null,null,null,null,null,null,null,null,null,null,null,null,null,null,null,null,null,null,null,null,null,null,null,{"$f":"IF(AND(REFERENTES!C1197<>\"\",          REFERENTES!C1197<>96321,    REFERENTES!C1197<>96222            ),(REFERENTES!E1197),\"\")","v":""},{"$f":"REFERENTES!C1197","v":0},null,1195,0,1290,"X"]
[null,null,null,null,null,null,null,null,null,null,null,null,null,null,null,null,null,null,null,null,null,null,null,null,null,null,null,null,{"$f":"IF(AND(REFERENTES!C1198<>\"\",          REFERENTES!C1198<>96321,    REFERENTES!C1198<>96222            ),(REFERENTES!E1198),\"\")","v":""},{"$f":"REFERENTES!C1198","v":0},null,1196,0,1290,"X"]
[null,null,null,null,null,null,null,null,null,null,null,null,null,null,null,null,null,null,null,null,null,null,null,null,null,null,null,null,{"$f":"IF(AND(REFERENTES!C1199<>\"\",          REFERENTES!C1199<>96321,    REFERENTES!C1199<>96222            ),(REFERENTES!E1199),\"\")","v":""},{"$f":"REFERENTES!C1199","v":0},null,1197,0,1290,"X"]
[null,null,null,null,null,null,null,null,null,null,null,null,null,null,null,null,null,null,null,null,null,null,null,null,null,null,null,null,{"$f":"IF(AND(REFERENTES!C1200<>\"\",          REFERENTES!C1200<>96321,    REFERENTES!C1200<>96222            ),(REFERENTES!E1200),\"\")","v":""},{"$f":"REFERENTES!C1200","v":0},null,1198,0,1290,"X"]
[null,null,null,null,null,null,null,null,null,null,null,null,null,null,null,null,null,null,null,null,null,null,null,null,null,null,null,null,{"$f":"IF(AND(REFERENTES!C1201<>\"\",          REFERENTES!C1201<>96321,    REFERENTES!C1201<>96222            ),(REFERENTES!E1201),\"\")","v":""},{"$f":"REFERENTES!C1201","v":0},null,1199,0,1290,"X"]
[null,null,null,null,null,null,null,null,null,null,null,null,null,null,null,null,null,null,null,null,null,null,null,null,null,null,null,null,{"$f":"IF(AND(REFERENTES!C1202<>\"\",          REFERENTES!C1202<>96321,    REFERENTES!C1202<>96222            ),(REFERENTES!E1202),\"\")","v":""},{"$f":"REFERENTES!C1202","v":0},null,1200,0,1290,"X"]
[null,null,null,null,null,null,null,null,null,null,null,null,null,null,null,null,null,null,null,null,null,null,null,null,null,null,null,null,{"$f":"IF(AND(REFERENTES!C1203<>\"\",          REFERENTES!C1203<>96321,    REFERENTES!C1203<>96222            ),(REFERENTES!E1203),\"\")","v":""},{"$f":"REFERENTES!C1203","v":0},null,1201,0,1290,"X"]
[null,null,null,null,null,null,null,null,null,null,null,null,null,null,null,null,null,null,null,null,null,null,null,null,null,null,null,null,{"$f":"IF(AND(REFERENTES!C1204<>\"\",          REFERENTES!C1204<>96321,    REFERENTES!C1204<>96222            ),(REFERENTES!E1204),\"\")","v":""},{"$f":"REFERENTES!C1204","v":0},null,1202,0,1290,"X"]
[null,null,null,null,null,null,null,null,null,null,null,null,null,null,null,null,null,null,null,null,null,null,null,null,null,null,null,null,{"$f":"IF(AND(REFERENTES!C1205<>\"\",          REFERENTES!C1205<>96321,    REFERENTES!C1205<>96222            ),(REFERENTES!E1205),\"\")","v":""},{"$f":"REFERENTES!C1205","v":0},null,1203,0,1290,"X"]
[null,null,null,null,null,null,null,null,null,null,null,null,null,null,null,null,null,null,null,null,null,null,null,null,null,null,null,null,{"$f":"IF(AND(REFERENTES!C1206<>\"\",          REFERENTES!C1206<>96321,    REFERENTES!C1206<>96222            ),(REFERENTES!E1206),\"\")","v":""},{"$f":"REFERENTES!C1206","v":0},null,1204,0,1290,"X"]
[null,null,null,null,null,null,null,null,null,null,null,null,null,null,null,null,null,null,null,null,null,null,null,null,null,null,null,null,{"$f":"IF(AND(REFERENTES!C1207<>\"\",          REFERENTES!C1207<>96321,    REFERENTES!C1207<>96222            ),(REFERENTES!E1207),\"\")","v":""},{"$f":"REFERENTES!C1207","v":0},null,1205,0,1290,"X"]
[null,null,null,null,null,null,null,null,null,null,null,null,null,null,null,null,null,null,null,null,null,null,null,null,null,null,null,null,{"$f":"IF(AND(REFERENTES!C1208<>\"\",          REFERENTES!C1208<>96321,    REFERENTES!C1208<>96222            ),(REFERENTES!E1208),\"\")","v":""},{"$f":"REFERENTES!C1208","v":0},null,1206,0,1290,"X"]
[null,null,null,null,null,null,null,null,null,null,null,null,null,null,null,null,null,null,null,null,null,null,null,null,null,null,null,null,{"$f":"IF(AND(REFERENTES!C1209<>\"\",          REFERENTES!C1209<>96321,    REFERENTES!C1209<>96222            ),(REFERENTES!E1209),\"\")","v":""},{"$f":"REFERENTES!C1209","v":0},null,1207,0,1290,"X"]
[null,null,null,null,null,null,null,null,null,null,null,null,null,null,null,null,null,null,null,null,null,null,null,null,null,null,null,null,{"$f":"IF(AND(REFERENTES!C1210<>\"\",          REFERENTES!C1210<>96321,    REFERENTES!C1210<>96222            ),(REFERENTES!E1210),\"\")","v":""},{"$f":"REFERENTES!C1210","v":0},null,1208,0,1290,"X"]
[null,null,null,null,null,null,null,null,null,null,null,null,null,null,null,null,null,null,null,null,null,null,null,null,null,null,null,null,{"$f":"IF(AND(REFERENTES!C1211<>\"\",          REFERENTES!C1211<>96321,    REFERENTES!C1211<>96222            ),(REFERENTES!E1211),\"\")","v":""},{"$f":"REFERENTES!C1211","v":0},null,1209,0,1290,"X"]
[null,null,null,null,null,null,null,null,null,null,null,null,null,null,null,null,null,null,null,null,null,null,null,null,null,null,null,null,{"$f":"IF(AND(REFERENTES!C1212<>\"\",          REFERENTES!C1212<>96321,    REFERENTES!C1212<>96222            ),(REFERENTES!E1212),\"\")","v":""},{"$f":"REFERENTES!C1212","v":0},null,1210,0,1290,"X"]
[null,null,null,null,null,null,null,null,null,null,null,null,null,null,null,null,null,null,null,null,null,null,null,null,null,null,null,null,{"$f":"IF(AND(REFERENTES!C1213<>\"\",          REFERENTES!C1213<>96321,    REFERENTES!C1213<>96222            ),(REFERENTES!E1213),\"\")","v":""},{"$f":"REFERENTES!C1213","v":0},null,1211,0,1290,"X"]
[null,null,null,null,null,null,null,null,null,null,null,null,null,null,null,null,null,null,null,null,null,null,null,null,null,null,null,null,{"$f":"IF(AND(REFERENTES!C1214<>\"\",          REFERENTES!C1214<>96321,    REFERENTES!C1214<>96222            ),(REFERENTES!E1214),\"\")","v":""},{"$f":"REFERENTES!C1214","v":0},null,1212,0,1290,"X"]
[null,null,null,null,null,null,null,null,null,null,null,null,null,null,null,null,null,null,null,null,null,null,null,null,null,null,null,null,{"$f":"IF(AND(REFERENTES!C1215<>\"\",          REFERENTES!C1215<>96321,    REFERENTES!C1215<>96222            ),(REFERENTES!E1215),\"\")","v":""},{"$f":"REFERENTES!C1215","v":0},null,1213,0,1290,"X"]
[null,null,null,null,null,null,null,null,null,null,null,null,null,null,null,null,null,null,null,null,null,null,null,null,null,null,null,null,{"$f":"IF(AND(REFERENTES!C1216<>\"\",          REFERENTES!C1216<>96321,    REFERENTES!C1216<>96222            ),(REFERENTES!E1216),\"\")","v":""},{"$f":"REFERENTES!C1216","v":0},null,1214,0,1290,"X"]
[null,null,null,null,null,null,null,null,null,null,null,null,null,null,null,null,null,null,null,null,null,null,null,null,null,null,null,null,{"$f":"IF(AND(REFERENTES!C1217<>\"\",          REFERENTES!C1217<>96321,    REFERENTES!C1217<>96222            ),(REFERENTES!E1217),\"\")","v":""},{"$f":"REFERENTES!C1217","v":0},null,1215,0,1290,"X"]
[null,null,null,null,null,null,null,null,null,null,null,null,null,null,null,null,null,null,null,null,null,null,null,null,null,null,null,null,{"$f":"IF(AND(REFERENTES!C1218<>\"\",          REFERENTES!C1218<>96321,    REFERENTES!C1218<>96222            ),(REFERENTES!E1218),\"\")","v":""},{"$f":"REFERENTES!C1218","v":0},null,1216,0,1290,"X"]
[null,null,null,null,null,null,null,null,null,null,null,null,null,null,null,null,null,null,null,null,null,null,null,null,null,null,null,null,{"$f":"IF(AND(REFERENTES!C1219<>\"\",          REFERENTES!C1219<>96321,    REFERENTES!C1219<>96222            ),(REFERENTES!E1219),\"\")","v":""},{"$f":"REFERENTES!C1219","v":0},null,1217,0,1290,"X"]
[null,null,null,null,null,null,null,null,null,null,null,null,null,null,null,null,null,null,null,null,null,null,null,null,null,null,null,null,{"$f":"IF(AND(REFERENTES!C1220<>\"\",          REFERENTES!C1220<>96321,    REFERENTES!C1220<>96222            ),(REFERENTES!E1220),\"\")","v":""},{"$f":"REFERENTES!C1220","v":0},null,1218,{"$f":"IF(AC1222=\"\",0,AC1222)","v":0},{"$f":"IF(AG1223=0,MAX($AF$6:$AF$1294)+1,AF1223)","v":1290},{"$f":"IFERROR(VLOOKUP(SMALL($AH$6:$AH$1294,AF1223),$AF$6:$AH$1294,2,FALSE),\"X\")","v":"X"}]
[null,null,null,null,null,null,null,null,null,null,null,null,null,null,null,null,null,null,null,null,null,null,null,null,null,null,null,null,{"$f":"IF(AND(REFERENTES!C1221<>\"\",          REFERENTES!C1221<>96321,    REFERENTES!C1221<>96222            ),(REFERENTES!E1221),\"\")","v":""},{"$f":"REFERENTES!C1221","v":0},null,1219,0,1290,"X"]
[null,null,null,null,null,null,null,null,null,null,null,null,null,null,null,null,null,null,null,null,null,null,null,null,null,null,null,null,{"$f":"IF(AND(REFERENTES!C1222<>\"\",          REFERENTES!C1222<>96321,    REFERENTES!C1222<>96222            ),(REFERENTES!E1222),\"\")","v":""},{"$f":"REFERENTES!C1222","v":0},null,1220,0,1290,"X"]
[null,null,null,null,null,null,null,null,null,null,null,null,null,null,null,null,null,null,null,null,null,null,null,null,null,null,null,null,{"$f":"IF(AND(REFERENTES!C1223<>\"\",          REFERENTES!C1223<>96321,    REFERENTES!C1223<>96222            ),(REFERENTES!E1223),\"\")","v":""},{"$f":"REFERENTES!C1223","v":0},null,1221,0,1290,"X"]
[null,null,null,null,null,null,null,null,null,null,null,null,null,null,null,null,null,null,null,null,null,null,null,null,null,null,null,null,{"$f":"IF(AND(REFERENTES!C1224<>\"\",          REFERENTES!C1224<>96321,    REFERENTES!C1224<>96222            ),(REFERENTES!E1224),\"\")","v":""},{"$f":"REFERENTES!C1224","v":0},null,1222,0,1290,"X"]
[null,null,null,null,null,null,null,null,null,null,null,null,null,null,null,null,null,null,null,null,null,null,null,null,null,null,null,null,{"$f":"IF(AND(REFERENTES!C1225<>\"\",          REFERENTES!C1225<>96321,    REFERENTES!C1225<>96222            ),(REFERENTES!E1225),\"\")","v":""},{"$f":"REFERENTES!C1225","v":0},null,1223,0,1290,"X"]
[null,null,null,null,null,null,null,null,null,null,null,null,null,null,null,null,null,null,null,null,null,null,null,null,null,null,null,null,{"$f":"IF(AND(REFERENTES!C1226<>\"\",          REFERENTES!C1226<>96321,    REFERENTES!C1226<>96222            ),(REFERENTES!E1226),\"\")","v":""},{"$f":"REFERENTES!C1226","v":0},null,1224,0,1290,"X"]
[null,null,null,null,null,null,null,null,null,null,null,null,null,null,null,null,null,null,null,null,null,null,null,null,null,null,null,null,{"$f":"IF(AND(REFERENTES!C1227<>\"\",          REFERENTES!C1227<>96321,    REFERENTES!C1227<>96222            ),(REFERENTES!E1227),\"\")","v":""},{"$f":"REFERENTES!C1227","v":0},null,1225,0,1290,"X"]
[null,null,null,null,null,null,null,null,null,null,null,null,null,null,null,null,null,null,null,null,null,null,null,null,null,null,null,null,{"$f":"IF(AND(REFERENTES!C1228<>\"\",          REFERENTES!C1228<>96321,    REFERENTES!C1228<>96222            ),(REFERENTES!E1228),\"\")","v":""},{"$f":"REFERENTES!C1228","v":0},null,1226,0,1290,"X"]
[null,null,null,null,null,null,null,null,null,null,null,null,null,null,null,null,null,null,null,null,null,null,null,null,null,null,null,null,{"$f":"IF(AND(REFERENTES!C1229<>\"\",          REFERENTES!C1229<>96321,    REFERENTES!C1229<>96222            ),(REFERENTES!E1229),\"\")","v":""},{"$f":"REFERENTES!C1229","v":0},null,1227,0,1290,"X"]
[null,null,null,null,null,null,null,null,null,null,null,null,null,null,null,null,null,null,null,null,null,null,null,null,null,null,null,null,{"$f":"IF(AND(REFERENTES!C1230<>\"\",          REFERENTES!C1230<>96321,    REFERENTES!C1230<>96222            ),(REFERENTES!E1230),\"\")","v":""},{"$f":"REFERENTES!C1230","v":0},null,1228,0,1290,"X"]
[null,null,null,null,null,null,null,null,null,null,null,null,null,null,null,null,null,null,null,null,null,null,null,null,null,null,null,null,{"$f":"IF(AND(REFERENTES!C1231<>\"\",          REFERENTES!C1231<>96321,    REFERENTES!C1231<>96222            ),(REFERENTES!E1231),\"\")","v":""},{"$f":"REFERENTES!C1231","v":0},null,1229,0,1290,"X"]
[null,null,null,null,null,null,null,null,null,null,null,null,null,null,null,null,null,null,null,null,null,null,null,null,null,null,null,null,{"$f":"IF(AND(REFERENTES!C1232<>\"\",          REFERENTES!C1232<>96321,    REFERENTES!C1232<>96222            ),(REFERENTES!E1232),\"\")","v":""},{"$f":"REFERENTES!C1232","v":0},null,1230,0,1290,"X"]
[null,null,null,null,null,null,null,null,null,null,null,null,null,null,null,null,null,null,null,null,null,null,null,null,null,null,null,null,{"$f":"IF(AND(REFERENTES!C1233<>\"\",          REFERENTES!C1233<>96321,    REFERENTES!C1233<>96222            ),(REFERENTES!E1233),\"\")","v":""},{"$f":"REFERENTES!C1233","v":0},null,1231,0,1290,"X"]
[null,null,null,null,null,null,null,null,null,null,null,null,null,null,null,null,null,null,null,null,null,null,null,null,null,null,null,null,{"$f":"IF(AND(REFERENTES!C1234<>\"\",          REFERENTES!C1234<>96321,    REFERENTES!C1234<>96222            ),(REFERENTES!E1234),\"\")","v":""},{"$f":"REFERENTES!C1234","v":0},null,1232,0,1290,"X"]
[null,null,null,null,null,null,null,null,null,null,null,null,null,null,null,null,null,null,null,null,null,null,null,null,null,null,null,null,{"$f":"IF(AND(REFERENTES!C1235<>\"\",          REFERENTES!C1235<>96321,    REFERENTES!C1235<>96222            ),(REFERENTES!E1235),\"\")","v":""},{"$f":"REFERENTES!C1235","v":0},null,1233,0,1290,"X"]
[null,null,null,null,null,null,null,null,null,null,null,null,null,null,null,null,null,null,null,null,null,null,null,null,null,null,null,null,{"$f":"IF(AND(REFERENTES!C1236<>\"\",          REFERENTES!C1236<>96321,    REFERENTES!C1236<>96222            ),(REFERENTES!E1236),\"\")","v":""},{"$f":"REFERENTES!C1236","v":0},null,1234,0,1290,"X"]
[null,null,null,null,null,null,null,null,null,null,null,null,null,null,null,null,null,null,null,null,null,null,null,null,null,null,null,null,{"$f":"IF(AND(REFERENTES!C1237<>\"\",          REFERENTES!C1237<>96321,    REFERENTES!C1237<>96222            ),(REFERENTES!E1237),\"\")","v":""},{"$f":"REFERENTES!C1237","v":0},null,1235,0,1290,"X"]
[null,null,null,null,null,null,null,null,null,null,null,null,null,null,null,null,null,null,null,null,null,null,null,null,null,null,null,null,{"$f":"IF(AND(REFERENTES!C1238<>\"\",          REFERENTES!C1238<>96321,    REFERENTES!C1238<>96222            ),(REFERENTES!E1238),\"\")","v":""},{"$f":"REFERENTES!C1238","v":0},null,1236,0,1290,"X"]
[null,null,null,null,null,null,null,null,null,null,null,null,null,null,null,null,null,null,null,null,null,null,null,null,null,null,null,null,{"$f":"IF(AND(REFERENTES!C1239<>\"\",          REFERENTES!C1239<>96321,    REFERENTES!C1239<>96222            ),(REFERENTES!E1239),\"\")","v":""},{"$f":"REFERENTES!C1239","v":0},null,1237,0,1290,"X"]
[null,null,null,null,null,null,null,null,null,null,null,null,null,null,null,null,null,null,null,null,null,null,null,null,null,null,null,null,{"$f":"IF(AND(REFERENTES!C1240<>\"\",          REFERENTES!C1240<>96321,    REFERENTES!C1240<>96222            ),(REFERENTES!E1240),\"\")","v":""},{"$f":"REFERENTES!C1240","v":0},null,1238,0,1290,"X"]
[null,null,null,null,null,null,null,null,null,null,null,null,null,null,null,null,null,null,null,null,null,null,null,null,null,null,null,null,{"$f":"IF(AND(REFERENTES!C1241<>\"\",          REFERENTES!C1241<>96321,    REFERENTES!C1241<>96222            ),(REFERENTES!E1241),\"\")","v":""},{"$f":"REFERENTES!C1241","v":0},null,1239,0,1290,"X"]
[null,null,null,null,null,null,null,null,null,null,null,null,null,null,null,null,null,null,null,null,null,null,null,null,null,null,null,null,{"$f":"IF(AND(REFERENTES!C1242<>\"\",          REFERENTES!C1242<>96321,    REFERENTES!C1242<>96222            ),(REFERENTES!E1242),\"\")","v":""},{"$f":"REFERENTES!C1242","v":0},null,1240,0,1290,"X"]
[null,null,null,null,null,null,null,null,null,null,null,null,null,null,null,null,null,null,null,null,null,null,null,null,null,null,null,null,{"$f":"IF(AND(REFERENTES!C1243<>\"\",          REFERENTES!C1243<>96321,    REFERENTES!C1243<>96222            ),(REFERENTES!E1243),\"\")","v":""},{"$f":"REFERENTES!C1243","v":0},null,1241,0,1290,"X"]
[null,null,null,null,null,null,null,null,null,null,null,null,null,null,null,null,null,null,null,null,null,null,null,null,null,null,null,null,{"$f":"IF(AND(REFERENTES!C1244<>\"\",          REFERENTES!C1244<>96321,    REFERENTES!C1244<>96222            ),(REFERENTES!E1244),\"\")","v":""},{"$f":"REFERENTES!C1244","v":0},null,1242,0,1290,"X"]
[null,null,null,null,null,null,null,null,null,null,null,null,null,null,null,null,null,null,null,null,null,null,null,null,null,null,null,null,{"$f":"IF(AND(REFERENTES!C1245<>\"\",          REFERENTES!C1245<>96321,    REFERENTES!C1245<>96222            ),(REFERENTES!E1245),\"\")","v":""},{"$f":"REFERENTES!C1245","v":0},null,1243,0,1290,"X"]
[null,null,null,null,null,null,null,null,null,null,null,null,null,null,null,null,null,null,null,null,null,null,null,null,null,null,null,null,{"$f":"IF(AND(REFERENTES!C1246<>\"\",          REFERENTES!C1246<>96321,    REFERENTES!C1246<>96222            ),(REFERENTES!E1246),\"\")","v":""},{"$f":"REFERENTES!C1246","v":0},null,1244,0,1290,"X"]
[null,null,null,null,null,null,null,null,null,null,null,null,null,null,null,null,null,null,null,null,null,null,null,null,null,null,null,null,{"$f":"IF(AND(REFERENTES!C1247<>\"\",          REFERENTES!C1247<>96321,    REFERENTES!C1247<>96222            ),(REFERENTES!E1247),\"\")","v":""},{"$f":"REFERENTES!C1247","v":0},null,1245,0,1290,"X"]
[null,null,null,null,null,null,null,null,null,null,null,null,null,null,null,null,null,null,null,null,null,null,null,null,null,null,null,null,{"$f":"IF(AND(REFERENTES!C1248<>\"\",          REFERENTES!C1248<>96321,    REFERENTES!C1248<>96222            ),(REFERENTES!E1248),\"\")","v":""},{"$f":"REFERENTES!C1248","v":0},null,1246,0,1290,"X"]
[null,null,null,null,null,null,null,null,null,null,null,null,null,null,null,null,null,null,null,null,null,null,null,null,null,null,null,null,{"$f":"IF(AND(REFERENTES!C1249<>\"\",          REFERENTES!C1249<>96321,    REFERENTES!C1249<>96222            ),(REFERENTES!E1249),\"\")","v":""},{"$f":"REFERENTES!C1249","v":0},null,1247,0,1290,"X"]
[null,null,null,null,null,null,null,null,null,null,null,null,null,null,null,null,null,null,null,null,null,null,null,null,null,null,null,null,{"$f":"IF(AND(REFERENTES!C1250<>\"\",          REFERENTES!C1250<>96321,    REFERENTES!C1250<>96222            ),(REFERENTES!E1250),\"\")","v":""},{"$f":"REFERENTES!C1250","v":0},null,1248,0,1290,"X"]
[null,null,null,null,null,null,null,null,null,null,null,null,null,null,null,null,null,null,null,null,null,null,null,null,null,null,null,null,{"$f":"IF(AND(REFERENTES!C1251<>\"\",          REFERENTES!C1251<>96321,    REFERENTES!C1251<>96222            ),(REFERENTES!E1251),\"\")","v":""},{"$f":"REFERENTES!C1251","v":0},null,1249,0,1290,"X"]
[null,null,null,null,null,null,null,null,null,null,null,null,null,null,null,null,null,null,null,null,null,null,null,null,null,null,null,null,{"$f":"IF(AND(REFERENTES!C1252<>\"\",          REFERENTES!C1252<>96321,    REFERENTES!C1252<>96222            ),(REFERENTES!E1252),\"\")","v":""},{"$f":"REFERENTES!C1252","v":0},null,1250,0,1290,"X"]
[null,null,null,null,null,null,null,null,null,null,null,null,null,null,null,null,null,null,null,null,null,null,null,null,null,null,null,null,{"$f":"IF(AND(REFERENTES!C1253<>\"\",          REFERENTES!C1253<>96321,    REFERENTES!C1253<>96222            ),(REFERENTES!E1253),\"\")","v":""},{"$f":"REFERENTES!C1253","v":0},null,1251,0,1290,"X"]
[null,null,null,null,null,null,null,null,null,null,null,null,null,null,null,null,null,null,null,null,null,null,null,null,null,null,null,null,{"$f":"IF(AND(REFERENTES!C1254<>\"\",          REFERENTES!C1254<>96321,    REFERENTES!C1254<>96222            ),(REFERENTES!E1254),\"\")","v":""},{"$f":"REFERENTES!C1254","v":0},null,1252,0,1290,"X"]
[null,null,null,null,null,null,null,null,null,null,null,null,null,null,null,null,null,null,null,null,null,null,null,null,null,null,null,null,{"$f":"IF(AND(REFERENTES!C1255<>\"\",          REFERENTES!C1255<>96321,    REFERENTES!C1255<>96222            ),(REFERENTES!E1255),\"\")","v":""},{"$f":"REFERENTES!C1255","v":0},null,1253,0,1290,"X"]
[null,null,null,null,null,null,null,null,null,null,null,null,null,null,null,null,null,null,null,null,null,null,null,null,null,null,null,null,{"$f":"IF(AND(REFERENTES!C1256<>\"\",          REFERENTES!C1256<>96321,    REFERENTES!C1256<>96222            ),(REFERENTES!E1256),\"\")","v":""},{"$f":"REFERENTES!C1256","v":0},null,1254,0,1290,"X"]
[null,null,null,null,null,null,null,null,null,null,null,null,null,null,null,null,null,null,null,null,null,null,null,null,null,null,null,null,{"$f":"IF(AND(REFERENTES!C1257<>\"\",          REFERENTES!C1257<>96321,    REFERENTES!C1257<>96222            ),(REFERENTES!E1257),\"\")","v":""},{"$f":"REFERENTES!C1257","v":0},null,1255,0,1290,"X"]
[null,null,null,null,null,null,null,null,null,null,null,null,null,null,null,null,null,null,null,null,null,null,null,null,null,null,null,null,{"$f":"IF(AND(REFERENTES!C1258<>\"\",          REFERENTES!C1258<>96321,    REFERENTES!C1258<>96222            ),(REFERENTES!E1258),\"\")","v":""},{"$f":"REFERENTES!C1258","v":0},null,1256,0,1290,"X"]
[null,null,null,null,null,null,null,null,null,null,null,null,null,null,null,null,null,null,null,null,null,null,null,null,null,null,null,null,{"$f":"IF(AND(REFERENTES!C1259<>\"\",          REFERENTES!C1259<>96321,    REFERENTES!C1259<>96222            ),(REFERENTES!E1259),\"\")","v":""},{"$f":"REFERENTES!C1259","v":0},null,1257,0,1290,"X"]
[null,null,null,null,null,null,null,null,null,null,null,null,null,null,null,null,null,null,null,null,null,null,null,null,null,null,null,null,{"$f":"IF(AND(REFERENTES!C1260<>\"\",          REFERENTES!C1260<>96321,    REFERENTES!C1260<>96222            ),(REFERENTES!E1260),\"\")","v":""},{"$f":"REFERENTES!C1260","v":0},null,1258,0,1290,"X"]
[null,null,null,null,null,null,null,null,null,null,null,null,null,null,null,null,null,null,null,null,null,null,null,null,null,null,null,null,{"$f":"IF(AND(REFERENTES!C1261<>\"\",          REFERENTES!C1261<>96321,    REFERENTES!C1261<>96222            ),(REFERENTES!E1261),\"\")","v":""},{"$f":"REFERENTES!C1261","v":0},null,1259,0,1290,"X"]
[null,null,null,null,null,null,null,null,null,null,null,null,null,null,null,null,null,null,null,null,null,null,null,null,null,null,null,null,{"$f":"IF(AND(REFERENTES!C1262<>\"\",          REFERENTES!C1262<>96321,    REFERENTES!C1262<>96222            ),(REFERENTES!E1262),\"\")","v":""},{"$f":"REFERENTES!C1262","v":0},null,1260,0,1290,"X"]
[null,null,null,null,null,null,null,null,null,null,null,null,null,null,null,null,null,null,null,null,null,null,null,null,null,null,null,null,{"$f":"IF(AND(REFERENTES!C1263<>\"\",          REFERENTES!C1263<>96321,    REFERENTES!C1263<>96222            ),(REFERENTES!E1263),\"\")","v":""},{"$f":"REFERENTES!C1263","v":0},null,1261,0,1290,"X"]
[null,null,null,null,null,null,null,null,null,null,null,null,null,null,null,null,null,null,null,null,null,null,null,null,null,null,null,null,{"$f":"IF(AND(REFERENTES!C1264<>\"\",          REFERENTES!C1264<>96321,    REFERENTES!C1264<>96222            ),(REFERENTES!E1264),\"\")","v":""},{"$f":"REFERENTES!C1264","v":0},null,1262,0,1290,"X"]
[null,null,null,null,null,null,null,null,null,null,null,null,null,null,null,null,null,null,null,null,null,null,null,null,null,null,null,null,{"$f":"IF(AND(REFERENTES!C1265<>\"\",          REFERENTES!C1265<>96321,    REFERENTES!C1265<>96222            ),(REFERENTES!E1265),\"\")","v":""},{"$f":"REFERENTES!C1265","v":0},null,1263,0,1290,"X"]
[null,null,null,null,null,null,null,null,null,null,null,null,null,null,null,null,null,null,null,null,null,null,null,null,null,null,null,null,{"$f":"IF(AND(REFERENTES!C1266<>\"\",          REFERENTES!C1266<>96321,    REFERENTES!C1266<>96222            ),(REFERENTES!E1266),\"\")","v":""},{"$f":"REFERENTES!C1266","v":0},null,1264,0,1290,"X"]
[null,null,null,null,null,null,null,null,null,null,null,null,null,null,null,null,null,null,null,null,null,null,null,null,null,null,null,null,{"$f":"IF(AND(REFERENTES!C1267<>\"\",          REFERENTES!C1267<>96321,    REFERENTES!C1267<>96222            ),(REFERENTES!E1267),\"\")","v":""},{"$f":"REFERENTES!C1267","v":0},null,1265,0,1290,"X"]
[null,null,null,null,null,null,null,null,null,null,null,null,null,null,null,null,null,null,null,null,null,null,null,null,null,null,null,null,{"$f":"IF(AND(REFERENTES!C1268<>\"\",          REFERENTES!C1268<>96321,    REFERENTES!C1268<>96222            ),(REFERENTES!E1268),\"\")","v":""},{"$f":"REFERENTES!C1268","v":0},null,1266,0,1290,"X"]
[null,null,null,null,null,null,null,null,null,null,null,null,null,null,null,null,null,null,null,null,null,null,null,null,null,null,null,null,{"$f":"IF(AND(REFERENTES!C1269<>\"\",          REFERENTES!C1269<>96321,    REFERENTES!C1269<>96222            ),(REFERENTES!E1269),\"\")","v":""},{"$f":"REFERENTES!C1269","v":0},null,1267,0,1290,"X"]
[null,null,null,null,null,null,null,null,null,null,null,null,null,null,null,null,null,null,null,null,null,null,null,null,null,null,null,null,{"$f":"IF(AND(REFERENTES!C1270<>\"\",          REFERENTES!C1270<>96321,    REFERENTES!C1270<>96222            ),(REFERENTES!E1270),\"\")","v":""},{"$f":"REFERENTES!C1270","v":0},null,1268,0,1290,"X"]
[null,null,null,null,null,null,null,null,null,null,null,null,null,null,null,null,null,null,null,null,null,null,null,null,null,null,null,null,{"$f":"IF(AND(REFERENTES!C1271<>\"\",          REFERENTES!C1271<>96321,    REFERENTES!C1271<>96222            ),(REFERENTES!E1271),\"\")","v":""},{"$f":"REFERENTES!C1271","v":0},null,1269,0,1290,"X"]
[null,null,null,null,null,null,null,null,null,null,null,null,null,null,null,null,null,null,null,null,null,null,null,null,null,null,null,null,{"$f":"IF(AND(REFERENTES!C1272<>\"\",          REFERENTES!C1272<>96321,    REFERENTES!C1272<>96222            ),(REFERENTES!E1272),\"\")","v":""},{"$f":"REFERENTES!C1272","v":0},null,1270,0,1290,"X"]
[null,null,null,null,null,null,null,null,null,null,null,null,null,null,null,null,null,null,null,null,null,null,null,null,null,null,null,null,{"$f":"IF(AND(REFERENTES!C1273<>\"\",          REFERENTES!C1273<>96321,    REFERENTES!C1273<>96222            ),(REFERENTES!E1273),\"\")","v":""},{"$f":"REFERENTES!C1273","v":0},null,1271,0,1290,"X"]
[null,null,null,null,null,null,null,null,null,null,null,null,null,null,null,null,null,null,null,null,null,null,null,null,null,null,null,null,{"$f":"IF(AND(REFERENTES!C1274<>\"\",          REFERENTES!C1274<>96321,    REFERENTES!C1274<>96222            ),(REFERENTES!E1274),\"\")","v":""},{"$f":"REFERENTES!C1274","v":0},null,1272,0,1290,"X"]
[null,null,null,null,null,null,null,null,null,null,null,null,null,null,null,null,null,null,null,null,null,null,null,null,null,null,null,null,{"$f":"IF(AND(REFERENTES!C1275<>\"\",          REFERENTES!C1275<>96321,    REFERENTES!C1275<>96222            ),(REFERENTES!E1275),\"\")","v":""},{"$f":"REFERENTES!C1275","v":0},null,1273,0,1290,"X"]
[null,null,null,null,null,null,null,null,null,null,null,null,null,null,null,null,null,null,null,null,null,null,null,null,null,null,null,null,{"$f":"IF(AND(REFERENTES!C1276<>\"\",          REFERENTES!C1276<>96321,    REFERENTES!C1276<>96222            ),(REFERENTES!E1276),\"\")","v":""},{"$f":"REFERENTES!C1276","v":0},null,1274,0,1290,"X"]
[null,null,null,null,null,null,null,null,null,null,null,null,null,null,null,null,null,null,null,null,null,null,null,null,null,null,null,null,{"$f":"IF(AND(REFERENTES!C1277<>\"\",          REFERENTES!C1277<>96321,    REFERENTES!C1277<>96222            ),(REFERENTES!E1277),\"\")","v":""},{"$f":"REFERENTES!C1277","v":0},null,1275,0,1290,"X"]
[null,null,null,null,null,null,null,null,null,null,null,null,null,null,null,null,null,null,null,null,null,null,null,null,null,null,null,null,{"$f":"IF(AND(REFERENTES!C1278<>\"\",          REFERENTES!C1278<>96321,    REFERENTES!C1278<>96222            ),(REFERENTES!E1278),\"\")","v":""},{"$f":"REFERENTES!C1278","v":0},null,1276,0,1290,"X"]
[null,null,null,null,null,null,null,null,null,null,null,null,null,null,null,null,null,null,null,null,null,null,null,null,null,null,null,null,{"$f":"IF(AND(REFERENTES!C1279<>\"\",          REFERENTES!C1279<>96321,    REFERENTES!C1279<>96222            ),(REFERENTES!E1279),\"\")","v":""},{"$f":"REFERENTES!C1279","v":0},null,1277,0,1290,"X"]
[null,null,null,null,null,null,null,null,null,null,null,null,null,null,null,null,null,null,null,null,null,null,null,null,null,null,null,null,{"$f":"IF(AND(REFERENTES!C1280<>\"\",          REFERENTES!C1280<>96321,    REFERENTES!C1280<>96222            ),(REFERENTES!E1280),\"\")","v":""},{"$f":"REFERENTES!C1280","v":0},null,1278,0,1290,"X"]
[null,null,null,null,null,null,null,null,null,null,null,null,null,null,null,null,null,null,null,null,null,null,null,null,null,null,null,null,{"$f":"IF(AND(REFERENTES!C1281<>\"\",          REFERENTES!C1281<>96321,    REFERENTES!C1281<>96222            ),(REFERENTES!E1281),\"\")","v":""},{"$f":"REFERENTES!C1281","v":0},null,1279,0,1290,"X"]
[null,null,null,null,null,null,null,null,null,null,null,null,null,null,null,null,null,null,null,null,null,null,null,null,null,null,null,null,{"$f":"IF(AND(REFERENTES!C1282<>\"\",          REFERENTES!C1282<>96321,    REFERENTES!C1282<>96222            ),(REFERENTES!E1282),\"\")","v":""},{"$f":"REFERENTES!C1282","v":0},null,1280,0,1290,"X"]
[null,null,null,null,null,null,null,null,null,null,null,null,null,null,null,null,null,null,null,null,null,null,null,null,null,null,null,null,{"$f":"IF(AND(REFERENTES!C1283<>\"\",          REFERENTES!C1283<>96321,    REFERENTES!C1283<>96222            ),(REFERENTES!E1283),\"\")","v":""},{"$f":"REFERENTES!C1283","v":0},null,1281,0,1290,"X"]
[null,null,null,null,null,null,null,null,null,null,null,null,null,null,null,null,null,null,null,null,null,null,null,null,null,null,null,null,{"$f":"IF(AND(REFERENTES!C1284<>\"\",          REFERENTES!C1284<>96321,    REFERENTES!C1284<>96222            ),(REFERENTES!E1284),\"\")","v":""},{"$f":"REFERENTES!C1284","v":0},null,1282,{"$f":"IF(AC1286=\"\",0,AC1286)","v":0},{"$f":"IF(AG1287=0,MAX($AF$6:$AF$1294)+1,AF1287)","v":1290},{"$f":"IFERROR(VLOOKUP(SMALL($AH$6:$AH$1294,AF1287),$AF$6:$AH$1294,2,FALSE),\"X\")","v":"X"}]
[null,null,null,null,null,null,null,null,null,null,null,null,null,null,null,null,null,null,null,null,null,null,null,null,null,null,null,null,{"$f":"IF(AND(REFERENTES!C1285<>\"\",          REFERENTES!C1285<>96321,    REFERENTES!C1285<>96222            ),(REFERENTES!E1285),\"\")","v":""},{"$f":"REFERENTES!C1285","v":0},null,1283,0,1290,"X"]
[null,null,null,null,null,null,null,null,null,null,null,null,null,null,null,null,null,null,null,null,null,null,null,null,null,null,null,null,{"$f":"IF(AND(REFERENTES!C1286<>\"\",          REFERENTES!C1286<>96321,    REFERENTES!C1286<>96222            ),(REFERENTES!E1286),\"\")","v":""},{"$f":"REFERENTES!C1286","v":0},null,1284,0,1290,"X"]
[null,null,null,null,null,null,null,null,null,null,null,null,null,null,null,null,null,null,null,null,null,null,null,null,null,null,null,null,{"$f":"IF(AND(REFERENTES!C1287<>\"\",          REFERENTES!C1287<>96321,    REFERENTES!C1287<>96222            ),(REFERENTES!E1287),\"\")","v":""},{"$f":"REFERENTES!C1287","v":0},null,1285,0,1290,"X"]
[null,null,null,null,null,null,null,null,null,null,null,null,null,null,null,null,null,null,null,null,null,null,null,null,null,null,null,null,{"$f":"IF(AND(REFERENTES!C1288<>\"\",          REFERENTES!C1288<>96321,    REFERENTES!C1288<>96222            ),(REFERENTES!E1288),\"\")","v":""},{"$f":"REFERENTES!C1288","v":0},null,1286,0,1290,"X"]
[null,null,null,null,null,null,null,null,null,null,null,null,null,null,null,null,null,null,null,null,null,null,null,null,null,null,null,null,{"$f":"IF(AND(REFERENTES!C1289<>\"\",          REFERENTES!C1289<>96321,    REFERENTES!C1289<>96222            ),(REFERENTES!E1289),\"\")","v":""},{"$f":"REFERENTES!C1289","v":0},null,1287,0,1290,"X"]
[null,null,null,null,null,null,null,null,null,null,null,null,null,null,null,null,null,null,null,null,null,null,null,null,null,null,null,null,{"$f":"IF(AND(REFERENTES!C1290<>\"\",          REFERENTES!C1290<>96321,    REFERENTES!C1290<>96222            ),(REFERENTES!E1290),\"\")","v":""},{"$f":"REFERENTES!C1290","v":0},null,1288,0,1290,"X"]
[null,null,null,null,null,null,null,null,null,null,null,null,null,null,null,null,null,null,null,null,null,null,null,null,null,null,null,null,{"$f":"IF(AND(REFERENTES!C1291<>\"\",          REFERENTES!C1291<>96321,    REFERENTES!C1291<>96222            ),(REFERENTES!E1291),\"\")","v":""},{"$f":"REFERENTES!C1291","v":0},null,1289,0,1290,"X"]
[null,null,null,null,null,null,null,null,null,null,null,null,null,null,null,null,null,null,null,null,null,null,null,null,null,null,null,null,{"$f":"IF(AND(REFERENTES!C1292<>\"\",          REFERENTES!C1292<>96321,    REFERENTES!C1292<>96222            ),(REFERENTES!E1292),\"\")","v":""},{"$f":"REFERENTES!C1292","v":0},null,1290,0,1290,"X"]
[null,null,null,null,null,null,null,null,null,null,null,null,null,null,null,null,null,null,null,null,null,null,null,null,null,null,null,null,{"$f":"IF(AND(REFERENTES!C1293<>\"\",          REFERENTES!C1293<>96321,    REFERENTES!C1293<>96222            ),(REFERENTES!E1293),\"\")","v":""},{"$f":"REFERENTES!C1293","v":0},null,1291,0,1290,"X"]
[null,null,null,null,null,null,null,null,null,null,null,null,null,null,null,null,null,null,null,null,null,null,null,null,null,null,null,null,{"$f":"IF(AND(REFERENTES!C1294<>\"\",          REFERENTES!C1294<>96321,    REFERENTES!C1294<>96222            ),(REFERENTES!E1294),\"\")","v":""},{"$f":"REFERENTES!C1294","v":0},null,1292,0,1290,"X"]
[null,null,null,null,null,null,null,null,null,null,null,null,null,null,null,null,null,null,null,null,null,null,null,null,null,null,null,null,{"$f":"IF(AND(REFERENTES!C1295<>\"\",          REFERENTES!C1295<>96321,    REFERENTES!C1295<>96222            ),(REFERENTES!E1295),\"\")","v":""},{"$f":"REFERENTES!C1295","v":0},null,1293,0,1290,"X"]
[null,null,null,null,null,null,null,null,null,null,null,null,null,null,null,null,null,null,null,null,null,null,null,null,null,null,null,null,{"$f":"IF(AND(REFERENTES!C1296<>\"\",          REFERENTES!C1296<>96321,    REFERENTES!C1296<>96222            ),(REFERENTES!E1296),\"\")","v":""},{"$f":"REFERENTES!C1296","v":0},null,1294,0,1290,"X"]