{"text_format":"1","workbook":"xlsx","n_sheets":6,"sheets":["Registro de cambios","configuracion","DIGITADOR","DATOS","REFERENTES","OTRAS REFERENTES"],"not_rendered":{"charts":0,"images":0,"macros":1,"external_links":1,"defined_names":23,"comments":1,"pivot_tables":0},"unopened":[],"bounds":{"document_bytes":16777216,"sheet_cells":100000,"rows_first":2000,"rows_last":500,"rows_between":2000,"halvings":0,"cell_chars":16384,"cell_head_chars":4096},"cells_cut":0,"cells_raw":0,"read":"whole","date_system":"1900"}

{"sheet":"Registro de cambios","index":0,"n_rows":13,"n_cols":6,"rows_kept":13,"cut":false,"hidden":true,"merged":[[1,3,1,5]]}
[]
[null,null,null,"REGISTRO DE CAMBIOS"]
[null,null,null,"VERSIÓN No.","CAMBIO REALIZADO","VIGENTE DESDE"]
[null,null,null,"20230316i","1)Se agrego un nuevo boton \"Ordenar \" en la hoja DATOS para ordenar los datos y no generar ID_MUESTREO distintos.                                                                                               2) Se modifico la regla para generar el ID_MUESTREO, antes se tenia en cuenta la fecha del monitoreo , ahora se tiene en cuenta es el ID_PARCELA del monitoreo.                                                                                                           3)Se agrego un nuevo boton \"Validar Datos\" en la hoja DIGITADOR , para asi validar que ningun campo quede vacio antes de cargar los datos.","2022-03-16"]
[null,null,null,"20220804i","Modificacion para validar algunos campos obligatorios y se modifico una lista desplegable para algunos id","2022-08-04"]
[null,null,null,"20220510i","Actualizacion del listado de estaciones/parcelas","2022-05-10"]
[null,null,null,"20220502i","se ordenaron los referentes de geograficos, se mapeo el proyecto financiador, por defecto todas las plantillas de sigma guardan sus datos al 2239","2022-05-02"]
[null,null,null,"20220204i","cambio en el endpoint de newreferentes devsiam->argos","2022-02-04"]
[null,null,null,"20211214m","Lista desplegable en hoja digitador","2021-12-14"]
[null,null,null,"20211203m","Actualizacion de referentes","2021-12-03"]
[null,null,null,"20211112i","Creacion de celda para notas en la hoja digitador, correccion del mapeo para id_muestreo, correccion de la formula de codigo del metodo para la altura, filtro para hoja Datos, lista desplegable para los roles de autores","2021-11-12"]
[null,null,null,"20211108m","Filtro por prefijo RES_ para parcelas","2021-11-08"]
[null,null,null,"20210819i","Creación de plantilla de cargue de datos de siembra restauracion Sigma.(Andres Cuello)","2021-08-19"]

{"sheet":"configuracion","index":1,"n_rows":55,"n_cols":9,"rows_kept":55,"cut":false,"hidden":true,"merged":[[28,0,35,0],[37,0,42,0],[45,0,45,1],[0,0,2,0],[3,0,5,0],[7,0,8,0],[9,0,15,0],[17,0,21,0],[23,0,26,0]]}
["general","urlServicio","http://portete.invemar.org.co:7003/ArgosWebServices-RESTWebService-context-root/rest/1.0"]
[null,"fila de inicio",3]
[null,"fila de fin",152]
["metodologias","Metodologias",862]
[null,"Referentes",862]
[null,"Cantidad maxima de referentes ",200]
["estaciones/investigadores","proyectos",2239]
["Lista especies","metodologias",3]
[null,"proyectos",2239]
["MUESTREOS","ID_MUESTREO","DATOS,F"]
[null,"ID_ESTACION","DATOS,K"]
[null,"ID_PROYECTO",2239]
[null,"ID_METODOLOGIA",862]
[null,"ID_TEMATICAS",257]
[null,"FECHA","DATOS,I"]
[null,"NOTAS","DIGITADOR,B,8"]
[null,"cantidad",150]
["parametro muestreo","ID_MUESTREO","DATOS,F","DATOS,B","DATOS,B","DATOS,B"]
[null,"ID_PARAMETRO",1055,1169,1170,127]
[null,"ID_METODOLOGIA",862,862,862,862]
[null,"ID_UNIDAD_MEDIDA",100,100,100,100]
[null,"VALOR","DIGITADOR,B,5","DIGITADOR,B,12","DIGITADOR,B,11","DIGITADOR,B, 9"]
[null,"cantidad",150,150,150,150]
["muestra","ID_MUESTRA","DATOS,D"]
[null,"ID_MUESTREO","DATOS,F"]
[null,"NOTAS","DATOS,Y"]
[null,"ES_REPLICA",1]
[null,"cantidad",150]
["muestra variable","ID_PARAMETRO",585,249,283,897,270,281]
[null,"ID_METODOLOGIA",862,862,862,862,862,862]
[null,"ID_UNIDAD_MEDIDA",100,100,11,100,10,100]
[null,"ID_MUESTRA","DATOS,D","DATOS,D","DATOS,D","DATOS,D","DATOS,D","DATOS,D"]
[null,"ID_METODO",null,null,null,null,"DATOS,X"]
[null,"VALOR","DATOS,T","DATOS,N","DATOS,O","DATOS,R","DATOS,V","DATOS,M"]
[null,"QUALITY_FLAG"]
[null,"PRECISION",null,null,null,"DATOS,S"]
[null,"cantidad",150,150,150,150,150,150]
["autoria","ID_FUNCIONARIO","DIGITADOR,B,2","DIGITADOR,B,17","DIGITADOR,B,19","DIGITADOR,B,21"]
[null,"ID_TAREA",5,"DIGITADOR,A,17","DIGITADOR,A,19","DIGITADOR,A,21"]
[null,"ORDEN",1,2,3,4]
[null,"FECHA","DIGITADOR,B,7","DATOS,I","DATOS,I","DATOS,I"]
[null,"ID_MUESTREO","DATOS,B","DATOS,B","DATOS,B","DATOS,B"]
[null,"ENTIDAD","DIGITADOR,B,4","DIGITADOR,B,4","DIGITADOR,B,4","DIGITADOR,B,4"]
[null,"cantidad",150,150,150,150]
[]
[null,null,"REGISTROS CARGADOS",null,null,null,127,100,"PROYECTO_FINANCIO"]
["MUESTREOS",null,null,null,null,null,249,100,"ID_ARBOL"]
["parametro muestreo",null,null,null,null,null,270,10,"ALTURA"]
["muestra",null,null,null,null,null,281,100,"TIPO"]
["muestra variable",null,null,null,null,null,283,11,"CANTIDAD"]
["autoria",null,null,null,null,null,585,100,"ESPECIE"]
["registros correctos",null,null,null,null,null,897,100,"PUNTO"]
["Fecha de carga",null,null,null,null,null,1055,100,"VERSION_PLANTILLA"]
["json error",null,null,null,null,null,1169,100,"URL_METADATO"]
["error",null,null,null,null,null,1170,100,"ARCHIVO_FUENTE"]

{"sheet":"DIGITADOR","index":2,"n_rows":37,"n_cols":4,"rows_kept":37,"cut":false,"hidden":false,"merged":[[0,3,5,9],[9,3,13,9],[14,3,16,9],[5,0,6,0],[0,0,0,1],[14,0,14,1],[6,3,8,9]]}
["SIGMA: Restauración Datos Siembra  de Manglar",null,null,"Recomendaciones generales: \n¡Precaución! No inserte Filas o Columnas.\nEn los casos en que falte un valor a ingresar que provenga de la hoja de referencias, informe para que el administrador del sistema haga las adiciones necesarias.\nEsta es una plantilla programada. Las columnas de color oscuro se llenan automaticamente, principalmente a partir de los contenidos de la hoja de referencias. \nNO UTILICE PUNTO Y COMA (;) en ningun campo, por ser el separador de variables (columnas). Tampoco escriba las unidades de medida, no son necesarias.\nPara el correcto funcionamiento de la hoja debe estar activa la opcion de Excel de ejecutar macros (al abrir la hoja acepte la opcion habilitar macros, mensaje de Excel que aparece en la parte superior de la hoja en un recuadro amarillo). La extensión del archivo debe ser .xlsm\nSe recomienda renombrar el archivo de la siguiente manera: SIGMA_Regeneracion_NombreEstacion_FechaMonitoreo.xlsm"]
["CODIGO DIGITADOR",{"$f":"IF(B3=\"\",\"\",INDEX(REFERENTES!$V2:$W60,MATCH(DIGITADOR!B3,REFERENTES!$W$2:$W$60,0),1))","v":""}]
["NOMBRE DIGITADOR"]
["ENTIDAD"]
["PLANTILLA",{"$f":"'Registro de cambios'!D4","v":"20230316i"}]
["Fecha en la que ingresa los datos en esta hoja","DD/MM/AAAA"]
[null,"2024-10-28",null,"Previamente a iniciar el llenado de la plantilla, debe presionar el botón \"Actualizar referentes\" para que los referentes de ésta plantilla sean actualizados. \nLuego de llenar completamente la plantilla verifique que:\na. No haya celdas con valores como \"#N/A\" o \"#¡REF!\"\nb. No se esten aplicando filtros en la hoja de datos                                                                                                                                                                                          c.Una vez diligenciados los datos, en la hoja datos presionar el boton \"Ordenar\" esto con el fin para ordenar las fechas y no generar ID_MUESTREOS diferentes.                                                                                                                                                                                                                                      d.Luego presionar el botón \"Validar datos\" para corroborar que todo esté en orden.                                                                                                                            e.En caso de error de campos vacios corregir."]
["NOTA"]
["Nombre del proyecto"]
["Codigo del proyecto",{"$f":"IF($B$9=\"\",\"\",INDEX('OTRAS REFERENTES'!A7:C19,MATCH(DIGITADOR!$B$9,'OTRAS REFERENTES'!B7:B19,0),1))","v":""},null,"Si requiere ayuda contacte a:\nadministrador.sigma@invemar.org.co  - Administrador SIGMA"]
["Nombre del Archivo",{"$f":"MID(CELL(\"FILENAME\",N47),FIND(\"[\",CELL(\"FILENAME\",N47))+1,   FIND(\"]\",CELL(\"FILENAME\",N47))-FIND(\"[\",CELL(\"FILENAME\",N47))-1)","v":"SIGMA_Datos_Siembra_20230316i.xlsm"}]
["DOI Metadato"]
["Fuente Plantilla ","http://cinto.invemar.org.co/download/Plantillas_ARGOS_Plus/"]
[]
["Indique los INVESTIGADORES que participaron de la toma de datos en campo",null,null,"El custodio de los datos es el único autorizado para distribuir este conjunto de datos. El observador y el digitador se comprometen a tomar las medidas necesarias para salvaguardar este conjunto de datos de modo que copia de los mismos no sean obtenidas y/o usadas por terceros no relacionados con el propósito para la cual se recolectó."]
["ROL","NOMBRE"]
[{"$f":"IF(A18=\"\",\"\",INDEX('OTRAS REFERENTES'!$D$7:$E$15,MATCH(A18,'OTRAS REFERENTES'!E7:E18,0),1))","v":""},{"$f":"IF(B18=\"\",\"\",INDEX(REFERENTES!$V$2:$W$60,MATCH(DIGITADOR!B18,REFERENTES!$W2:$W60,0),1))","v":""}]
[]
[{"$f":"IF(A20=\"\",\"\",INDEX('OTRAS REFERENTES'!$D$7:$E$15,MATCH(A20,'OTRAS REFERENTES'!E7:E18,0),1))","v":""},{"$f":"IF(B20=\"\",\"\",INDEX(REFERENTES!$V$2:$W$60,MATCH(DIGITADOR!B20,REFERENTES!$W2:$W60,0),1))","v":""}]
[]
[{"$f":"IF(A22=\"\",\"\",INDEX('OTRAS REFERENTES'!$D$7:$E$18,MATCH(A22,'OTRAS REFERENTES'!E7:E18,0),1))","v":""},{"$f":"IF(B22=\"\",\"\",INDEX(REFERENTES!$V$2:$W$60,MATCH(DIGITADOR!B22,REFERENTES!$W2:$W60,0),1))","v":""}]
[]
[]
[]
[]
[]
[]
[]
[null,"REGISTROS GENERADOS","REGISTROS CARGADOS"]
["Muestreos",{"$f":"IF(configuracion!B47=\"\",\"\",configuracion!B47)","v":""},{"$f":"IF(configuracion!C47=\"\",\"\",configuracion!C47)","v":""}]
["Parámetros del muestreo",{"$f":"IF(configuracion!B48=\"\",\"\",configuracion!B48)","v":""},{"$f":"IF(configuracion!C48=\"\",\"\",configuracion!C48)","v":""}]
["Muestras",{"$f":"IF(configuracion!B49=\"\",\"\",configuracion!B49)","v":""},{"$f":"IF(configuracion!C49=\"\",\"\",configuracion!C49)","v":""}]
["Variables",{"$f":"IF(configuracion!B50=\"\",\"\",configuracion!B50)","v":""},{"$f":"IF(configuracion!C50=\"\",\"\",configuracion!C50)","v":""}]
["Autores",{"$f":"IF(configuracion!B51=\"\",\"\",configuracion!B51)","v":""},{"$f":"IF(configuracion!C51=\"\",\"\",configuracion!C51)","v":""}]
["Registros correctos",{"$f":"IF(C33=\"\",\"\",IF(C33=0,0,IF(B33-C33=0,C33,\"Fallaron \"&B33-C33&\" registros\")))","v":""}]
["json error",{"$f":"IF(C34=\"\",\"\",IF(C34=0,0,IF(B34-C34=0,C34,\"Fallaron \"&B34-C34&\" registros\")))","v":""}]
["error",{"$f":"IF(C35=\"\",\"\",IF(C35=0,0,IF(B35-C35=0,C35,\"Fallaron \"&B35-C35&\" registros\")))","v":""}]

{"sheet":"DATOS","index":3,"n_rows":152,"n_cols":25,"rows_kept":152,"cut":false,"hidden":false,"merged":[[0,14,1,14],[0,18,1,18],[0,17,1,17],[0,24,1,24],[0,13,1,13],[0,21,1,21],[0,19,0,20],[0,15,1,15],[0,16,1,16],[0,1,1,1],[0,2,1,2],[0,3,1,3],[0,4,1,4],[0,11,0,12],[0,6,1,6],[0,7,1,7],[0,8,1,8],[0,9,0,10],[0,5,1,5]]}
[{"$f":"DIGITADOR!B7+H3","v":"2024-10-28"},"ID_MUESTREO (AGD_MUESTREO)","CONSECUTIVO","ID_MUESTRA","CONSECUTIVO DATE_PARCELA","CODMUESTREO","FECHA\n(DD/MM/AAAA)","HORA\n(HH:MM)","DATE","Parcela",null,null,null,"ID_PLANTULA","CANTIDAD\n(plantulas o propagulos)","COORD. Y\n(grados decimales)","COORD. X\n(grados decimales)","WKT","PRECISIÓN (m)\n(GPS)","ESPECIE",null,"ALTURA (cm)",null,null,"OBSERVACIONES"]
[{"$f":"TEXT(A1,\"yyyymmddhhmm\")","v":"202410280000"},null,null,null,null,null,"DIA","HORA",null,"NOMBRE","ID","TIPO","ID",null,null,null,null,null,null,"CDG","Nombre",null,"Método estimación","Metodo CODIGO"]
[1,{"$f":"IF(K3<>\"\", F3,\"\")","v":""},1,{"$f":"IF(G3=\"\",\"\",CONCATENATE(C3,F3))","v":""},{"$f":"CONCATENATE(I3,K3)","v":""},{"$f":"IF(K3<>\"\",CONCATENATE(DIGITADOR!$B$2,$A$2,DIGITADOR!$M$1,A3),\"\")","v":""},null,null,{"$f":"IF(G3<>\"\",G3+H3,\"\")","v":""},null,{"$f":"IF(J3=\"\",\"\",INDEX('OTRAS REFERENTES'!Z:$AA,MATCH(J3,'OTRAS REFERENTES'!$Z:$Z,0),2))","v":""},null,{"$f":"IF(L3=\"\",\"\",INDEX(REFERENTES!$D$2:$E$18,MATCH(L3,REFERENTES!$E$2:$E$5,0),1))","v":""},null,null,null,null,{"$f":"SUBSTITUTE(IF(AND(P3<>\"\",Q3<>\"\"),CONCATENATE(\"POINT \",\"(\",P3,\" \",Q3,\")\"),\"\"),\".\",\",\")","v":""},null,null,{"$f":"IF(T3=\"\",\"\",INDEX(REFERENTES!$G:$H,MATCH(T3,REFERENTES!$G:$G,0),2))","v":""},null,null,{"$f":"IF(W3=\"\",\"\",INDEX('OTRAS REFERENTES'!$H$7:$I$18,MATCH(W3,'OTRAS REFERENTES'!$I$7:$I$18,0),1))","v":""}]
[{"$f":"IF(E4=E3,A3,A3+1)","v":1},{"$f":"IF(F4<>F3, F4,\"\")","v":""},2,{"$f":"IF(G4=\"\",\"\",CONCATENATE(C4,F4))","v":""},{"$f":"CONCATENATE(I4,K4)","v":""},{"$f":"IF(K4<>\"\",CONCATENATE(DIGITADOR!$B$2,$A$2,DIGITADOR!$M$1,A4),\"\")","v":""},null,null,"",null,{"$f":"IF(J4=\"\",\"\",INDEX('OTRAS REFERENTES'!Z:$AA,MATCH(J4,'OTRAS REFERENTES'!$Z:$Z,0),2))","v":""},null,{"$f":"IF(L4=\"\",\"\",INDEX(REFERENTES!$D$2:$E$18,MATCH(L4,REFERENTES!$E$2:$E$5,0),1))","v":""},null,null,null,null,"",null,null,{"$f":"IF(T4=\"\",\"\",INDEX(REFERENTES!$G:$H,MATCH(T4,REFERENTES!$G:$G,0),2))","v":""},null,null,{"$f":"IF(W4=\"\",\"\",INDEX('OTRAS REFERENTES'!$H$7:$I$18,MATCH(W4,'OTRAS REFERENTES'!$I$7:$I$18,0),1))","v":""}]
[1,{"$f":"IF(F5<>F4, F5,\"\")","v":""},3,"","",{"$f":"IF(K5<>\"\",CONCATENATE(DIGITADOR!$B$2,$A$2,DIGITADOR!$M$1,A5),\"\")","v":""},null,null,"",null,{"$f":"IF(J5=\"\",\"\",INDEX('OTRAS REFERENTES'!Z:$AA,MATCH(J5,'OTRAS REFERENTES'!$Z:$Z,0),2))","v":""},null,{"$f":"IF(L5=\"\",\"\",INDEX(REFERENTES!$D$2:$E$18,MATCH(L5,REFERENTES!$E$2:$E$5,0),1))","v":""},null,null,null,null,"",null,null,{"$f":"IF(T5=\"\",\"\",INDEX(REFERENTES!$G:$H,MATCH(T5,REFERENTES!$G:$G,0),2))","v":""},null,null,{"$f":"IF(W5=\"\",\"\",INDEX('OTRAS REFERENTES'!$H$7:$I$18,MATCH(W5,'OTRAS REFERENTES'!$I$7:$I$18,0),1))","v":""}]
[1,"",4,"","",{"$f":"IF(K6<>\"\",CONCATENATE(DIGITADOR!$B$2,$A$2,DIGITADOR!$M$1,A6),\"\")","v":""},null,null,"",null,{"$f":"IF(J6=\"\",\"\",INDEX('OTRAS REFERENTES'!Z:$AA,MATCH(J6,'OTRAS REFERENTES'!$Z:$Z,0),2))","v":""},null,{"$f":"IF(L6=\"\",\"\",INDEX(REFERENTES!$D$2:$E$18,MATCH(L6,REFERENTES!$E$2:$E$5,0),1))","v":""},null,null,null,null,"",null,null,{"$f":"IF(T6=\"\",\"\",INDEX(REFERENTES!$G:$H,MATCH(T6,REFERENTES!$G:$G,0),2))","v":""},null,null,{"$f":"IF(W6=\"\",\"\",INDEX('OTRAS REFERENTES'!$H$7:$I$18,MATCH(W6,'OTRAS REFERENTES'!$I$7:$I$18,0),1))","v":""}]
[1,"",5,"","",{"$f":"IF(K7<>\"\",CONCATENATE(DIGITADOR!$B$2,$A$2,DIGITADOR!$M$1,A7),\"\")","v":""},null,null,"",null,{"$f":"IF(J7=\"\",\"\",INDEX('OTRAS REFERENTES'!Z:$AA,MATCH(J7,'OTRAS REFERENTES'!$Z:$Z,0),2))","v":""},null,{"$f":"IF(L7=\"\",\"\",INDEX(REFERENTES!$D$2:$E$18,MATCH(L7,REFERENTES!$E$2:$E$5,0),1))","v":""},null,null,null,null,"",null,null,{"$f":"IF(T7=\"\",\"\",INDEX(REFERENTES!$G:$H,MATCH(T7,REFERENTES!$G:$G,0),2))","v":""},null,null,{"$f":"IF(W7=\"\",\"\",INDEX('OTRAS REFERENTES'!$H$7:$I$18,MATCH(W7,'OTRAS REFERENTES'!$I$7:$I$18,0),1))","v":""}]
[1,"",6,"","",{"$f":"IF(K8<>\"\",CONCATENATE(DIGITADOR!$B$2,$A$2,DIGITADOR!$M$1,A8),\"\")","v":""},null,null,"",null,{"$f":"IF(J8=\"\",\"\",INDEX('OTRAS REFERENTES'!Z:$AA,MATCH(J8,'OTRAS REFERENTES'!$Z:$Z,0),2))","v":""},null,{"$f":"IF(L8=\"\",\"\",INDEX(REFERENTES!$D$2:$E$18,MATCH(L8,REFERENTES!$E$2:$E$5,0),1))","v":""},null,null,null,null,"",null,null,{"$f":"IF(T8=\"\",\"\",INDEX(REFERENTES!$G:$H,MATCH(T8,REFERENTES!$G:$G,0),2))","v":""},null,null,{"$f":"IF(W8=\"\",\"\",INDEX('OTRAS REFERENTES'!$H$7:$I$18,MATCH(W8,'OTRAS REFERENTES'!$I$7:$I$18,0),1))","v":""}]
[1,"",7,"","",{"$f":"IF(K9<>\"\",CONCATENATE(DIGITADOR!$B$2,$A$2,DIGITADOR!$M$1,A9),\"\")","v":""},null,null,"",null,{"$f":"IF(J9=\"\",\"\",INDEX('OTRAS REFERENTES'!Z:$AA,MATCH(J9,'OTRAS REFERENTES'!$Z:$Z,0),2))","v":""},null,{"$f":"IF(L9=\"\",\"\",INDEX(REFERENTES!$D$2:$E$18,MATCH(L9,REFERENTES!$E$2:$E$5,0),1))","v":""},null,null,null,null,"",null,null,{"$f":"IF(T9=\"\",\"\",INDEX(REFERENTES!$G:$H,MATCH(T9,REFERENTES!$G:$G,0),2))","v":""},null,null,{"$f":"IF(W9=\"\",\"\",INDEX('OTRAS REFERENTES'!$H$7:$I$18,MATCH(W9,'OTRAS REFERENTES'!$I$7:$I$18,0),1))","v":""}]
[1,"",8,"","",{"$f":"IF(K10<>\"\",CONCATENATE(DIGITADOR!$B$2,$A$2,DIGITADOR!$M$1,A10),\"\")","v":""},null,null,"",null,{"$f":"IF(J10=\"\",\"\",INDEX('OTRAS REFERENTES'!Z:$AA,MATCH(J10,'OTRAS REFERENTES'!$Z:$Z,0),2))","v":""},null,{"$f":"IF(L10=\"\",\"\",INDEX(REFERENTES!$D$2:$E$18,MATCH(L10,REFERENTES!$E$2:$E$5,0),1))","v":""},null,null,null,null,"",null,null,{"$f":"IF(T10=\"\",\"\",INDEX(REFERENTES!$G:$H,MATCH(T10,REFERENTES!$G:$G,0),2))","v":""},null,null,{"$f":"IF(W10=\"\",\"\",INDEX('OTRAS REFERENTES'!$H$7:$I$18,MATCH(W10,'OTRAS REFERENTES'!$I$7:$I$18,0),1))","v":""}]
[1,"",9,"","",{"$f":"IF(K11<>\"\",CONCATENATE(DIGITADOR!$B$2,$A$2,DIGITADOR!$M$1,A11),\"\")","v":""},null,null,"",null,{"$f":"IF(J11=\"\",\"\",INDEX('OTRAS REFERENTES'!Z:$AA,MATCH(J11,'OTRAS REFERENTES'!$Z:$Z,0),2))","v":""},null,{"$f":"IF(L11=\"\",\"\",INDEX(REFERENTES!$D$2:$E$18,MATCH(L11,REFERENTES!$E$2:$E$5,0),1))","v":""},null,null,null,null,"",null,null,{"$f":"IF(T11=\"\",\"\",INDEX(REFERENTES!$G:$H,MATCH(T11,REFERENTES!$G:$G,0),2))","v":""},null,null,{"$f":"IF(W11=\"\",\"\",INDEX('OTRAS REFERENTES'!$H$7:$I$18,MATCH(W11,'OTRAS REFERENTES'!$I$7:$I$18,0),1))","v":""}]
[1,"",10,"","",{"$f":"IF(K12<>\"\",CONCATENATE(DIGITADOR!$B$2,$A$2,DIGITADOR!$M$1,A12),\"\")","v":""},null,null,"",null,{"$f":"IF(J12=\"\",\"\",INDEX('OTRAS REFERENTES'!Z:$AA,MATCH(J12,'OTRAS REFERENTES'!$Z:$Z,0),2))","v":""},null,{"$f":"IF(L12=\"\",\"\",INDEX(REFERENTES!$D$2:$E$18,MATCH(L12,REFERENTES!$E$2:$E$5,0),1))","v":""},null,null,null,null,"",null,null,{"$f":"IF(T12=\"\",\"\",INDEX(REFERENTES!$G:$H,MATCH(T12,REFERENTES!$G:$G,0),2))","v":""},null,null,{"$f":"IF(W12=\"\",\"\",INDEX('OTRAS REFERENTES'!$H$7:$I$18,MATCH(W12,'OTRAS REFERENTES'!$I$7:$I$18,0),1))","v":""}]
[1,"",11,"","",{"$f":"IF(K13<>\"\",CONCATENATE(DIGITADOR!$B$2,$A$2,DIGITADOR!$M$1,A13),\"\")","v":""},null,null,"",null,{"$f":"IF(J13=\"\",\"\",INDEX('OTRAS REFERENTES'!Z:$AA,MATCH(J13,'OTRAS REFERENTES'!$Z:$Z,0),2))","v":""},null,{"$f":"IF(L13=\"\",\"\",INDEX(REFERENTES!$D$2:$E$18,MATCH(L13,REFERENTES!$E$2:$E$5,0),1))","v":""},null,null,null,null,"",null,null,{"$f":"IF(T13=\"\",\"\",INDEX(REFERENTES!$G:$H,MATCH(T13,REFERENTES!$G:$G,0),2))","v":""},null,null,{"$f":"IF(W13=\"\",\"\",INDEX('OTRAS REFERENTES'!$H$7:$I$18,MATCH(W13,'OTRAS REFERENTES'!$I$7:$I$18,0),1))","v":""}]
[1,"",12,"","",{"$f":"IF(K14<>\"\",CONCATENATE(DIGITADOR!$B$2,$A$2,DIGITADOR!$M$1,A14),\"\")","v":""},null,null,"",null,{"$f":"IF(J14=\"\",\"\",INDEX('OTRAS REFERENTES'!Z:$AA,MATCH(J14,'OTRAS REFERENTES'!$Z:$Z,0),2))","v":""},null,{"$f":"IF(L14=\"\",\"\",INDEX(REFERENTES!$D$2:$E$18,MATCH(L14,REFERENTES!$E$2:$E$5,0),1))","v":""},null,null,null,null,"",null,null,{"$f":"IF(T14=\"\",\"\",INDEX(REFERENTES!$G:$H,MATCH(T14,REFERENTES!$G:$G,0),2))","v":""},null,null,{"$f":"IF(W14=\"\",\"\",INDEX('OTRAS REFERENTES'!$H$7:$I$18,MATCH(W14,'OTRAS REFERENTES'!$I$7:$I$18,0),1))","v":""}]
[1,"",13,"","",{"$f":"IF(K15<>\"\",CONCATENATE(DIGITADOR!$B$2,$A$2,DIGITADOR!$M$1,A15),\"\")","v":""},null,null,"",null,{"$f":"IF(J15=\"\",\"\",INDEX('OTRAS REFERENTES'!Z:$AA,MATCH(J15,'OTRAS REFERENTES'!$Z:$Z,0),2))","v":""},null,{"$f":"IF(L15=\"\",\"\",INDEX(REFERENTES!$D$2:$E$18,MATCH(L15,REFERENTES!$E$2:$E$5,0),1))","v":""},null,null,null,null,"",null,null,{"$f":"IF(T15=\"\",\"\",INDEX(REFERENTES!$G:$H,MATCH(T15,REFERENTES!$G:$G,0),2))","v":""},null,null,{"$f":"IF(W15=\"\",\"\",INDEX('OTRAS REFERENTES'!$H$7:$I$18,MATCH(W15,'OTRAS REFERENTES'!$I$7:$I$18,0),1))","v":""}]
[1,"",14,"","",{"$f":"IF(K16<>\"\",CONCATENATE(DIGITADOR!$B$2,$A$2,DIGITADOR!$M$1,A16),\"\")","v":""},null,null,"",null,{"$f":"IF(J16=\"\",\"\",INDEX('OTRAS REFERENTES'!Z:$AA,MATCH(J16,'OTRAS REFERENTES'!$Z:$Z,0),2))","v":""},null,{"$f":"IF(L16=\"\",\"\",INDEX(REFERENTES!$D$2:$E$18,MATCH(L16,REFERENTES!$E$2:$E$5,0),1))","v":""},null,null,null,null,"",null,null,{"$f":"IF(T16=\"\",\"\",INDEX(REFERENTES!$G:$H,MATCH(T16,REFERENTES!$G:$G,0),2))","v":""},null,null,{"$f":"IF(W16=\"\",\"\",INDEX('OTRAS REFERENTES'!$H$7:$I$18,MATCH(W16,'OTRAS REFERENTES'!$I$7:$I$18,0),1))","v":""}]
[1,"",15,"","",{"$f":"IF(K17<>\"\",CONCATENATE(DIGITADOR!$B$2,$A$2,DIGITADOR!$M$1,A17),\"\")","v":""},null,null,"",null,{"$f":"IF(J17=\"\",\"\",INDEX('OTRAS REFERENTES'!Z:$AA,MATCH(J17,'OTRAS REFERENTES'!$Z:$Z,0),2))","v":""},null,{"$f":"IF(L17=\"\",\"\",INDEX(REFERENTES!$D$2:$E$18,MATCH(L17,REFERENTES!$E$2:$E$5,0),1))","v":""},null,null,null,null,"",null,null,{"$f":"IF(T17=\"\",\"\",INDEX(REFERENTES!$G:$H,MATCH(T17,REFERENTES!$G:$G,0),2))","v":""},null,null,{"$f":"IF(W17=\"\",\"\",INDEX('OTRAS REFERENTES'!$H$7:$I$18,MATCH(W17,'OTRAS REFERENTES'!$I$7:$I$18,0),1))","v":""}]
[1,"",16,"","",{"$f":"IF(K18<>\"\",CONCATENATE(DIGITADOR!$B$2,$A$2,DIGITADOR!$M$1,A18),\"\")","v":""},null,null,"",null,{"$f":"IF(J18=\"\",\"\",INDEX('OTRAS REFERENTES'!Z:$AA,MATCH(J18,'OTRAS REFERENTES'!$Z:$Z,0),2))","v":""},null,{"$f":"IF(L18=\"\",\"\",INDEX(REFERENTES!$D$2:$E$18,MATCH(L18,REFERENTES!$E$2:$E$5,0),1))","v":""},null,null,null,null,"",null,null,{"$f":"IF(T18=\"\",\"\",INDEX(REFERENTES!$G:$H,MATCH(T18,REFERENTES!$G:$G,0),2))","v":""},null,null,{"$f":"IF(W18=\"\",\"\",INDEX('OTRAS REFERENTES'!$H$7:$I$18,MATCH(W18,'OTRAS REFERENTES'!$I$7:$I$18,0),1))","v":""}]
[1,"",17,"","",{"$f":"IF(K19<>\"\",CONCATENATE(DIGITADOR!$B$2,$A$2,DIGITADOR!$M$1,A19),\"\")","v":""},null,null,"",null,{"$f":"IF(J19=\"\",\"\",INDEX('OTRAS REFERENTES'!Z:$AA,MATCH(J19,'OTRAS REFERENTES'!$Z:$Z,0),2))","v":""},null,{"$f":"IF(L19=\"\",\"\",INDEX(REFERENTES!$D$2:$E$18,MATCH(L19,REFERENTES!$E$2:$E$5,0),1))","v":""},null,null,null,null,"",null,null,{"$f":"IF(T19=\"\",\"\",INDEX(REFERENTES!$G:$H,MATCH(T19,REFERENTES!$G:$G,0),2))","v":""},null,null,{"$f":"IF(W19=\"\",\"\",INDEX('OTRAS REFERENTES'!$H$7:$I$18,MATCH(W19,'OTRAS REFERENTES'!$I$7:$I$18,0),1))","v":""}]
[1,"",18,"","",{"$f":"IF(K20<>\"\",CONCATENATE(DIGITADOR!$B$2,$A$2,DIGITADOR!$M$1,A20),\"\")","v":""},null,null,"",null,{"$f":"IF(J20=\"\",\"\",INDEX('OTRAS REFERENTES'!Z:$AA,MATCH(J20,'OTRAS REFERENTES'!$Z:$Z,0),2))","v":""},null,{"$f":"IF(L20=\"\",\"\",INDEX(REFERENTES!$D$2:$E$18,MATCH(L20,REFERENTES!$E$2:$E$5,0),1))","v":""},null,null,null,null,"",null,null,{"$f":"IF(T20=\"\",\"\",INDEX(REFERENTES!$G:$H,MATCH(T20,REFERENTES!$G:$G,0),2))","v":""},null,null,{"$f":"IF(W20=\"\",\"\",INDEX('OTRAS REFERENTES'!$H$7:$I$18,MATCH(W20,'OTRAS REFERENTES'!$I$7:$I$18,0),1))","v":""}]
[1,"",19,"","",{"$f":"IF(K21<>\"\",CONCATENATE(DIGITADOR!$B$2,$A$2,DIGITADOR!$M$1,A21),\"\")","v":""},null,null,"",null,{"$f":"IF(J21=\"\",\"\",INDEX('OTRAS REFERENTES'!Z:$AA,MATCH(J21,'OTRAS REFERENTES'!$Z:$Z,0),2))","v":""},null,{"$f":"IF(L21=\"\",\"\",INDEX(REFERENTES!$D$2:$E$18,MATCH(L21,REFERENTES!$E$2:$E$5,0),1))","v":""},null,null,null,null,"",null,null,{"$f":"IF(T21=\"\",\"\",INDEX(REFERENTES!$G:$H,MATCH(T21,REFERENTES!$G:$G,0),2))","v":""},null,null,{"$f":"IF(W21=\"\",\"\",INDEX('OTRAS REFERENTES'!$H$7:$I$18,MATCH(W21,'OTRAS REFERENTES'!$I$7:$I$18,0),1))","v":""}]
[1,"",20,"","",{"$f":"IF(K22<>\"\",CONCATENATE(DIGITADOR!$B$2,$A$2,DIGITADOR!$M$1,A22),\"\")","v":""},null,null,"",null,{"$f":"IF(J22=\"\",\"\",INDEX('OTRAS REFERENTES'!Z:$AA,MATCH(J22,'OTRAS REFERENTES'!$Z:$Z,0),2))","v":""},null,{"$f":"IF(L22=\"\",\"\",INDEX(REFERENTES!$D$2:$E$18,MATCH(L22,REFERENTES!$E$2:$E$5,0),1))","v":""},null,null,null,null,"",null,null,{"$f":"IF(T22=\"\",\"\",INDEX(REFERENTES!$G:$H,MATCH(T22,REFERENTES!$G:$G,0),2))","v":""},null,null,{"$f":"IF(W22=\"\",\"\",INDEX('OTRAS REFERENTES'!$H$7:$I$18,MATCH(W22,'OTRAS REFERENTES'!$I$7:$I$18,0),1))","v":""}]
[1,"",21,"","",{"$f":"IF(K23<>\"\",CONCATENATE(DIGITADOR!$B$2,$A$2,DIGITADOR!$M$1,A23),\"\")","v":""},null,null,"",null,{"$f":"IF(J23=\"\",\"\",INDEX('OTRAS REFERENTES'!Z:$AA,MATCH(J23,'OTRAS REFERENTES'!$Z:$Z,0),2))","v":""},null,{"$f":"IF(L23=\"\",\"\",INDEX(REFERENTES!$D$2:$E$18,MATCH(L23,REFERENTES!$E$2:$E$5,0),1))","v":""},null,null,null,null,"",null,null,{"$f":"IF(T23=\"\",\"\",INDEX(REFERENTES!$G:$H,MATCH(T23,REFERENTES!$G:$G,0),2))","v":""},null,null,{"$f":"IF(W23=\"\",\"\",INDEX('OTRAS REFERENTES'!$H$7:$I$18,MATCH(W23,'OTRAS REFERENTES'!$I$7:$I$18,0),1))","v":""}]
[1,"",22,"","",{"$f":"IF(K24<>\"\",CONCATENATE(DIGITADOR!$B$2,$A$2,DIGITADOR!$M$1,A24),\"\")","v":""},null,null,"",null,{"$f":"IF(J24=\"\",\"\",INDEX('OTRAS REFERENTES'!Z:$AA,MATCH(J24,'OTRAS REFERENTES'!$Z:$Z,0),2))","v":""},null,{"$f":"IF(L24=\"\",\"\",INDEX(REFERENTES!$D$2:$E$18,MATCH(L24,REFERENTES!$E$2:$E$5,0),1))","v":""},null,null,null,null,"",null,null,{"$f":"IF(T24=\"\",\"\",INDEX(REFERENTES!$G:$H,MATCH(T24,REFERENTES!$G:$G,0),2))","v":""},null,null,{"$f":"IF(W24=\"\",\"\",INDEX('OTRAS REFERENTES'!$H$7:$I$18,MATCH(W24,'OTRAS REFERENTES'!$I$7:$I$18,0),1))","v":""}]
[1,"",23,"","",{"$f":"IF(K25<>\"\",CONCATENATE(DIGITADOR!$B$2,$A$2,DIGITADOR!$M$1,A25),\"\")","v":""},null,null,"",null,{"$f":"IF(J25=\"\",\"\",INDEX('OTRAS REFERENTES'!Z:$AA,MATCH(J25,'OTRAS REFERENTES'!$Z:$Z,0),2))","v":""},null,{"$f":"IF(L25=\"\",\"\",INDEX(REFERENTES!$D$2:$E$18,MATCH(L25,REFERENTES!$E$2:$E$5,0),1))","v":""},null,null,null,null,"",null,null,{"$f":"IF(T25=\"\",\"\",INDEX(REFERENTES!$G:$H,MATCH(T25,REFERENTES!$G:$G,0),2))","v":""},null,null,{"$f":"IF(W25=\"\",\"\",INDEX('OTRAS REFERENTES'!$H$7:$I$18,MATCH(W25,'OTRAS REFERENTES'!$I$7:$I$18,0),1))","v":""}]
[1,"",24,"","",{"$f":"IF(K26<>\"\",CONCATENATE(DIGITADOR!$B$2,$A$2,DIGITADOR!$M$1,A26),\"\")","v":""},null,null,"",null,{"$f":"IF(J26=\"\",\"\",INDEX('OTRAS REFERENTES'!Z:$AA,MATCH(J26,'OTRAS REFERENTES'!$Z:$Z,0),2))","v":""},null,{"$f":"IF(L26=\"\",\"\",INDEX(REFERENTES!$D$2:$E$18,MATCH(L26,REFERENTES!$E$2:$E$5,0),1))","v":""},null,null,null,null,"",null,null,{"$f":"IF(T26=\"\",\"\",INDEX(REFERENTES!$G:$H,MATCH(T26,REFERENTES!$G:$G,0),2))","v":""},null,null,{"$f":"IF(W26=\"\",\"\",INDEX('OTRAS REFERENTES'!$H$7:$I$18,MATCH(W26,'OTRAS REFERENTES'!$I$7:$I$18,0),1))","v":""}]
[1,"",25,"","",{"$f":"IF(K27<>\"\",CONCATENATE(DIGITADOR!$B$2,$A$2,DIGITADOR!$M$1,A27),\"\")","v":""},null,null,"",null,{"$f":"IF(J27=\"\",\"\",INDEX('OTRAS REFERENTES'!Z:$AA,MATCH(J27,'OTRAS REFERENTES'!$Z:$Z,0),2))","v":""},null,{"$f":"IF(L27=\"\",\"\",INDEX(REFERENTES!$D$2:$E$18,MATCH(L27,REFERENTES!$E$2:$E$5,0),1))","v":""},null,null,null,null,"",null,null,{"$f":"IF(T27=\"\",\"\",INDEX(REFERENTES!$G:$H,MATCH(T27,REFERENTES!$G:$G,0),2))","v":""},null,null,{"$f":"IF(W27=\"\",\"\",INDEX('OTRAS REFERENTES'!$H$7:$I$18,MATCH(W27,'OTRAS REFERENTES'!$I$7:$I$18,0),1))","v":""}]
[1,"",26,"","",{"$f":"IF(K28<>\"\",CONCATENATE(DIGITADOR!$B$2,$A$2,DIGITADOR!$M$1,A28),\"\")","v":""},null,null,"",null,{"$f":"IF(J28=\"\",\"\",INDEX('OTRAS REFERENTES'!Z:$AA,MATCH(J28,'OTRAS REFERENTES'!$Z:$Z,0),2))","v":""},null,{"$f":"IF(L28=\"\",\"\",INDEX(REFERENTES!$D$2:$E$18,MATCH(L28,REFERENTES!$E$2:$E$5,0),1))","v":""},null,null,null,null,"",null,null,{"$f":"IF(T28=\"\",\"\",INDEX(REFERENTES!$G:$H,MATCH(T28,REFERENTES!$G:$G,0),2))","v":""},null,null,{"$f":"IF(W28=\"\",\"\",INDEX('OTRAS REFERENTES'!$H$7:$I$18,MATCH(W28,'OTRAS REFERENTES'!$I$7:$I$18,0),1))","v":""}]
[1,"",27,"","",{"$f":"IF(K29<>\"\",CONCATENATE(DIGITADOR!$B$2,$A$2,DIGITADOR!$M$1,A29),\"\")","v":""},null,null,"",null,{"$f":"IF(J29=\"\",\"\",INDEX('OTRAS REFERENTES'!Z:$AA,MATCH(J29,'OTRAS REFERENTES'!$Z:$Z,0),2))","v":""},null,{"$f":"IF(L29=\"\",\"\",INDEX(REFERENTES!$D$2:$E$18,MATCH(L29,REFERENTES!$E$2:$E$5,0),1))","v":""},null,null,null,null,"",null,null,{"$f":"IF(T29=\"\",\"\",INDEX(REFERENTES!$G:$H,MATCH(T29,REFERENTES!$G:$G,0),2))","v":""},null,null,{"$f":"IF(W29=\"\",\"\",INDEX('OTRAS REFERENTES'!$H$7:$I$18,MATCH(W29,'OTRAS REFERENTES'!$I$7:$I$18,0),1))","v":""}]
[1,"",28,"","",{"$f":"IF(K30<>\"\",CONCATENATE(DIGITADOR!$B$2,$A$2,DIGITADOR!$M$1,A30),\"\")","v":""},null,null,"",null,{"$f":"IF(J30=\"\",\"\",INDEX('OTRAS REFERENTES'!Z:$AA,MATCH(J30,'OTRAS REFERENTES'!$Z:$Z,0),2))","v":""},null,{"$f":"IF(L30=\"\",\"\",INDEX(REFERENTES!$D$2:$E$18,MATCH(L30,REFERENTES!$E$2:$E$5,0),1))","v":""},null,null,null,null,"",null,null,{"$f":"IF(T30=\"\",\"\",INDEX(REFERENTES!$G:$H,MATCH(T30,REFERENTES!$G:$G,0),2))","v":""},null,null,{"$f":"IF(W30=\"\",\"\",INDEX('OTRAS REFERENTES'!$H$7:$I$18,MATCH(W30,'OTRAS REFERENTES'!$I$7:$I$18,0),1))","v":""}]
[1,"",29,"","",{"$f":"IF(K31<>\"\",CONCATENATE(DIGITADOR!$B$2,$A$2,DIGITADOR!$M$1,A31),\"\")","v":""},null,null,"",null,{"$f":"IF(J31=\"\",\"\",INDEX('OTRAS REFERENTES'!Z:$AA,MATCH(J31,'OTRAS REFERENTES'!$Z:$Z,0),2))","v":""},null,{"$f":"IF(L31=\"\",\"\",INDEX(REFERENTES!$D$2:$E$18,MATCH(L31,REFERENTES!$E$2:$E$5,0),1))","v":""},null,null,null,null,"",null,null,{"$f":"IF(T31=\"\",\"\",INDEX(REFERENTES!$G:$H,MATCH(T31,REFERENTES!$G:$G,0),2))","v":""},null,null,{"$f":"IF(W31=\"\",\"\",INDEX('OTRAS REFERENTES'!$H$7:$I$18,MATCH(W31,'OTRAS REFERENTES'!$I$7:$I$18,0),1))","v":""}]
[1,"",30,"","",{"$f":"IF(K32<>\"\",CONCATENATE(DIGITADOR!$B$2,$A$2,DIGITADOR!$M$1,A32),\"\")","v":""},null,null,"",null,{"$f":"IF(J32=\"\",\"\",INDEX('OTRAS REFERENTES'!Z:$AA,MATCH(J32,'OTRAS REFERENTES'!$Z:$Z,0),2))","v":""},null,{"$f":"IF(L32=\"\",\"\",INDEX(REFERENTES!$D$2:$E$18,MATCH(L32,REFERENTES!$E$2:$E$5,0),1))","v":""},null,null,null,null,"",null,null,{"$f":"IF(T32=\"\",\"\",INDEX(REFERENTES!$G:$H,MATCH(T32,REFERENTES!$G:$G,0),2))","v":""},null,null,{"$f":"IF(W32=\"\",\"\",INDEX('OTRAS REFERENTES'!$H$7:$I$18,MATCH(W32,'OTRAS REFERENTES'!$I$7:$I$18,0),1))","v":""}]
[1,"",31,"","",{"$f":"IF(K33<>\"\",CONCATENATE(DIGITADOR!$B$2,$A$2,DIGITADOR!$M$1,A33),\"\")","v":""},null,null,"",null,{"$f":"IF(J33=\"\",\"\",INDEX('OTRAS REFERENTES'!Z:$AA,MATCH(J33,'OTRAS REFERENTES'!$Z:$Z,0),2))","v":""},null,{"$f":"IF(L33=\"\",\"\",INDEX(REFERENTES!$D$2:$E$18,MATCH(L33,REFERENTES!$E$2:$E$5,0),1))","v":""},null,null,null,null,"",null,null,{"$f":"IF(T33=\"\",\"\",INDEX(REFERENTES!$G:$H,MATCH(T33,REFERENTES!$G:$G,0),2))","v":""},null,null,{"$f":"IF(W33=\"\",\"\",INDEX('OTRAS REFERENTES'!$H$7:$I$18,MATCH(W33,'OTRAS REFERENTES'!$I$7:$I$18,0),1))","v":""}]
[1,"",32,"","",{"$f":"IF(K34<>\"\",CONCATENATE(DIGITADOR!$B$2,$A$2,DIGITADOR!$M$1,A34),\"\")","v":""},null,null,"",null,{"$f":"IF(J34=\"\",\"\",INDEX('OTRAS REFERENTES'!Z:$AA,MATCH(J34,'OTRAS REFERENTES'!$Z:$Z,0),2))","v":""},null,{"$f":"IF(L34=\"\",\"\",INDEX(REFERENTES!$D$2:$E$18,MATCH(L34,REFERENTES!$E$2:$E$5,0),1))","v":""},null,null,null,null,"",null,null,{"$f":"IF(T34=\"\",\"\",INDEX(REFERENTES!$G:$H,MATCH(T34,REFERENTES!$G:$G,0),2))","v":""},null,null,{"$f":"IF(W34=\"\",\"\",INDEX('OTRAS REFERENTES'!$H$7:$I$18,MATCH(W34,'OTRAS REFERENTES'!$I$7:$I$18,0),1))","v":""}]
[1,"",33,"","",{"$f":"IF(K35<>\"\",CONCATENATE(DIGITADOR!$B$2,$A$2,DIGITADOR!$M$1,A35),\"\")","v":""},null,null,{"$f":"IF(G35<>\"\",G35+H35,\"\")","v":""},null,{"$f":"IF(J35=\"\",\"\",INDEX('OTRAS REFERENTES'!Z:$AA,MATCH(J35,'OTRAS REFERENTES'!$Z:$Z,0),2))","v":""},null,{"$f":"IF(L35=\"\",\"\",INDEX(REFERENTES!$D$2:$E$18,MATCH(L35,REFERENTES!$E$2:$E$5,0),1))","v":""},null,null,null,null,{"$f":"SUBSTITUTE(IF(AND(P35<>\"\",Q35<>\"\"),CONCATENATE(\"POINT \",\"(\",P35,\" \",Q35,\")\"),\"\"),\".\",\",\")","v":""},null,null,{"$f":"IF(T35=\"\",\"\",INDEX(REFERENTES!$G:$H,MATCH(T35,REFERENTES!$G:$G,0),2))","v":""},null,null,{"$f":"IF(W35=\"\",\"\",INDEX('OTRAS REFERENTES'!$H$7:$I$18,MATCH(W35,'OTRAS REFERENTES'!$I$7:$I$18,0),1))","v":""}]
[1,"",34,"","",{"$f":"IF(K36<>\"\",CONCATENATE(DIGITADOR!$B$2,$A$2,DIGITADOR!$M$1,A36),\"\")","v":""},null,null,"",null,{"$f":"IF(J36=\"\",\"\",INDEX('OTRAS REFERENTES'!Z:$AA,MATCH(J36,'OTRAS REFERENTES'!$Z:$Z,0),2))","v":""},null,{"$f":"IF(L36=\"\",\"\",INDEX(REFERENTES!$D$2:$E$18,MATCH(L36,REFERENTES!$E$2:$E$5,0),1))","v":""},null,null,null,null,"",null,null,{"$f":"IF(T36=\"\",\"\",INDEX(REFERENTES!$G:$H,MATCH(T36,REFERENTES!$G:$G,0),2))","v":""},null,null,{"$f":"IF(W36=\"\",\"\",INDEX('OTRAS REFERENTES'!$H$7:$I$18,MATCH(W36,'OTRAS REFERENTES'!$I$7:$I$18,0),1))","v":""}]
[1,"",35,"","",{"$f":"IF(K37<>\"\",CONCATENATE(DIGITADOR!$B$2,$A$2,DIGITADOR!$M$1,A37),\"\")","v":""},null,null,"",null,{"$f":"IF(J37=\"\",\"\",INDEX('OTRAS REFERENTES'!Z:$AA,MATCH(J37,'OTRAS REFERENTES'!$Z:$Z,0),2))","v":""},null,{"$f":"IF(L37=\"\",\"\",INDEX(REFERENTES!$D$2:$E$18,MATCH(L37,REFERENTES!$E$2:$E$5,0),1))","v":""},null,null,null,null,"",null,null,{"$f":"IF(T37=\"\",\"\",INDEX(REFERENTES!$G:$H,MATCH(T37,REFERENTES!$G:$G,0),2))","v":""},null,null,{"$f":"IF(W37=\"\",\"\",INDEX('OTRAS REFERENTES'!$H$7:$I$18,MATCH(W37,'OTRAS REFERENTES'!$I$7:$I$18,0),1))","v":""}]
[1,"",36,"","",{"$f":"IF(K38<>\"\",CONCATENATE(DIGITADOR!$B$2,$A$2,DIGITADOR!$M$1,A38),\"\")","v":""},null,null,"",null,{"$f":"IF(J38=\"\",\"\",INDEX('OTRAS REFERENTES'!Z:$AA,MATCH(J38,'OTRAS REFERENTES'!$Z:$Z,0),2))","v":""},null,{"$f":"IF(L38=\"\",\"\",INDEX(REFERENTES!$D$2:$E$18,MATCH(L38,REFERENTES!$E$2:$E$5,0),1))","v":""},null,null,null,null,"",null,null,{"$f":"IF(T38=\"\",\"\",INDEX(REFERENTES!$G:$H,MATCH(T38,REFERENTES!$G:$G,0),2))","v":""},null,null,{"$f":"IF(W38=\"\",\"\",INDEX('OTRAS REFERENTES'!$H$7:$I$18,MATCH(W38,'OTRAS REFERENTES'!$I$7:$I$18,0),1))","v":""}]
[1,"",37,"","",{"$f":"IF(K39<>\"\",CONCATENATE(DIGITADOR!$B$2,$A$2,DIGITADOR!$M$1,A39),\"\")","v":""},null,null,"",null,{"$f":"IF(J39=\"\",\"\",INDEX('OTRAS REFERENTES'!Z:$AA,MATCH(J39,'OTRAS REFERENTES'!$Z:$Z,0),2))","v":""},null,{"$f":"IF(L39=\"\",\"\",INDEX(REFERENTES!$D$2:$E$18,MATCH(L39,REFERENTES!$E$2:$E$5,0),1))","v":""},null,null,null,null,"",null,null,{"$f":"IF(T39=\"\",\"\",INDEX(REFERENTES!$G:$H,MATCH(T39,REFERENTES!$G:$G,0),2))","v":""},null,null,{"$f":"IF(W39=\"\",\"\",INDEX('OTRAS REFERENTES'!$H$7:$I$18,MATCH(W39,'OTRAS REFERENTES'!$I$7:$I$18,0),1))","v":""}]
[1,"",38,"","",{"$f":"IF(K40<>\"\",CONCATENATE(DIGITADOR!$B$2,$A$2,DIGITADOR!$M$1,A40),\"\")","v":""},null,null,"",null,{"$f":"IF(J40=\"\",\"\",INDEX('OTRAS REFERENTES'!Z:$AA,MATCH(J40,'OTRAS REFERENTES'!$Z:$Z,0),2))","v":""},null,{"$f":"IF(L40=\"\",\"\",INDEX(REFERENTES!$D$2:$E$18,MATCH(L40,REFERENTES!$E$2:$E$5,0),1))","v":""},null,null,null,null,"",null,null,{"$f":"IF(T40=\"\",\"\",INDEX(REFERENTES!$G:$H,MATCH(T40,REFERENTES!$G:$G,0),2))","v":""},null,null,{"$f":"IF(W40=\"\",\"\",INDEX('OTRAS REFERENTES'!$H$7:$I$18,MATCH(W40,'OTRAS REFERENTES'!$I$7:$I$18,0),1))","v":""}]
[1,"",39,"","",{"$f":"IF(K41<>\"\",CONCATENATE(DIGITADOR!$B$2,$A$2,DIGITADOR!$M$1,A41),\"\")","v":""},null,null,"",null,{"$f":"IF(J41=\"\",\"\",INDEX('OTRAS REFERENTES'!Z:$AA,MATCH(J41,'OTRAS REFERENTES'!$Z:$Z,0),2))","v":""},null,{"$f":"IF(L41=\"\",\"\",INDEX(REFERENTES!$D$2:$E$18,MATCH(L41,REFERENTES!$E$2:$E$5,0),1))","v":""},null,null,null,null,"",null,null,{"$f":"IF(T41=\"\",\"\",INDEX(REFERENTES!$G:$H,MATCH(T41,REFERENTES!$G:$G,0),2))","v":""},null,null,{"$f":"IF(W41=\"\",\"\",INDEX('OTRAS REFERENTES'!$H$7:$I$18,MATCH(W41,'OTRAS REFERENTES'!$I$7:$I$18,0),1))","v":""}]
[1,"",40,"","",{"$f":"IF(K42<>\"\",CONCATENATE(DIGITADOR!$B$2,$A$2,DIGITADOR!$M$1,A42),\"\")","v":""},null,null,"",null,{"$f":"IF(J42=\"\",\"\",INDEX('OTRAS REFERENTES'!Z:$AA,MATCH(J42,'OTRAS REFERENTES'!$Z:$Z,0),2))","v":""},null,{"$f":"IF(L42=\"\",\"\",INDEX(REFERENTES!$D$2:$E$18,MATCH(L42,REFERENTES!$E$2:$E$5,0),1))","v":""},null,null,null,null,"",null,null,{"$f":"IF(T42=\"\",\"\",INDEX(REFERENTES!$G:$H,MATCH(T42,REFERENTES!$G:$G,0),2))","v":""},null,null,{"$f":"IF(W42=\"\",\"\",INDEX('OTRAS REFERENTES'!$H$7:$I$18,MATCH(W42,'OTRAS REFERENTES'!$I$7:$I$18,0),1))","v":""}]
[1,"",41,"","",{"$f":"IF(K43<>\"\",CONCATENATE(DIGITADOR!$B$2,$A$2,DIGITADOR!$M$1,A43),\"\")","v":""},null,null,"",null,{"$f":"IF(J43=\"\",\"\",INDEX('OTRAS REFERENTES'!Z:$AA,MATCH(J43,'OTRAS REFERENTES'!$Z:$Z,0),2))","v":""},null,{"$f":"IF(L43=\"\",\"\",INDEX(REFERENTES!$D$2:$E$18,MATCH(L43,REFERENTES!$E$2:$E$5,0),1))","v":""},null,null,null,null,"",null,null,{"$f":"IF(T43=\"\",\"\",INDEX(REFERENTES!$G:$H,MATCH(T43,REFERENTES!$G:$G,0),2))","v":""},null,null,{"$f":"IF(W43=\"\",\"\",INDEX('OTRAS REFERENTES'!$H$7:$I$18,MATCH(W43,'OTRAS REFERENTES'!$I$7:$I$18,0),1))","v":""}]
[1,"",42,"","",{"$f":"IF(K44<>\"\",CONCATENATE(DIGITADOR!$B$2,$A$2,DIGITADOR!$M$1,A44),\"\")","v":""},null,null,"",null,{"$f":"IF(J44=\"\",\"\",INDEX('OTRAS REFERENTES'!Z:$AA,MATCH(J44,'OTRAS REFERENTES'!$Z:$Z,0),2))","v":""},null,{"$f":"IF(L44=\"\",\"\",INDEX(REFERENTES!$D$2:$E$18,MATCH(L44,REFERENTES!$E$2:$E$5,0),1))","v":""},null,null,null,null,"",null,null,{"$f":"IF(T44=\"\",\"\",INDEX(REFERENTES!$G:$H,MATCH(T44,REFERENTES!$G:$G,0),2))","v":""},null,null,{"$f":"IF(W44=\"\",\"\",INDEX('OTRAS REFERENTES'!$H$7:$I$18,MATCH(W44,'OTRAS REFERENTES'!$I$7:$I$18,0),1))","v":""}]
[1,"",43,"","",{"$f":"IF(K45<>\"\",CONCATENATE(DIGITADOR!$B$2,$A$2,DIGITADOR!$M$1,A45),\"\")","v":""},null,null,"",null,{"$f":"IF(J45=\"\",\"\",INDEX('OTRAS REFERENTES'!Z:$AA,MATCH(J45,'OTRAS REFERENTES'!$Z:$Z,0),2))","v":""},null,{"$f":"IF(L45=\"\",\"\",INDEX(REFERENTES!$D$2:$E$18,MATCH(L45,REFERENTES!$E$2:$E$5,0),1))","v":""},null,null,null,null,"",null,null,{"$f":"IF(T45=\"\",\"\",INDEX(REFERENTES!$G:$H,MATCH(T45,REFERENTES!$G:$G,0),2))","v":""},null,null,{"$f":"IF(W45=\"\",\"\",INDEX('OTRAS REFERENTES'!$H$7:$I$18,MATCH(W45,'OTRAS REFERENTES'!$I$7:$I$18,0),1))","v":""}]
[1,"",44,"","",{"$f":"IF(K46<>\"\",CONCATENATE(DIGITADOR!$B$2,$A$2,DIGITADOR!$M$1,A46),\"\")","v":""},null,null,"",null,{"$f":"IF(J46=\"\",\"\",INDEX('OTRAS REFERENTES'!Z:$AA,MATCH(J46,'OTRAS REFERENTES'!$Z:$Z,0),2))","v":""},null,{"$f":"IF(L46=\"\",\"\",INDEX(REFERENTES!$D$2:$E$18,MATCH(L46,REFERENTES!$E$2:$E$5,0),1))","v":""},null,null,null,null,"",null,null,{"$f":"IF(T46=\"\",\"\",INDEX(REFERENTES!$G:$H,MATCH(T46,REFERENTES!$G:$G,0),2))","v":""},null,null,{"$f":"IF(W46=\"\",\"\",INDEX('OTRAS REFERENTES'!$H$7:$I$18,MATCH(W46,'OTRAS REFERENTES'!$I$7:$I$18,0),1))","v":""}]
[1,"",45,"","",{"$f":"IF(K47<>\"\",CONCATENATE(DIGITADOR!$B$2,$A$2,DIGITADOR!$M$1,A47),\"\")","v":""},null,null,"",null,{"$f":"IF(J47=\"\",\"\",INDEX('OTRAS REFERENTES'!Z:$AA,MATCH(J47,'OTRAS REFERENTES'!$Z:$Z,0),2))","v":""},null,{"$f":"IF(L47=\"\",\"\",INDEX(REFERENTES!$D$2:$E$18,MATCH(L47,REFERENTES!$E$2:$E$5,0),1))","v":""},null,null,null,null,"",null,null,{"$f":"IF(T47=\"\",\"\",INDEX(REFERENTES!$G:$H,MATCH(T47,REFERENTES!$G:$G,0),2))","v":""},null,null,{"$f":"IF(W47=\"\",\"\",INDEX('OTRAS REFERENTES'!$H$7:$I$18,MATCH(W47,'OTRAS REFERENTES'!$I$7:$I$18,0),1))","v":""}]
[1,"",46,"","",{"$f":"IF(K48<>\"\",CONCATENATE(DIGITADOR!$B$2,$A$2,DIGITADOR!$M$1,A48),\"\")","v":""},null,null,"",null,{"$f":"IF(J48=\"\",\"\",INDEX('OTRAS REFERENTES'!Z:$AA,MATCH(J48,'OTRAS REFERENTES'!$Z:$Z,0),2))","v":""},null,{"$f":"IF(L48=\"\",\"\",INDEX(REFERENTES!$D$2:$E$18,MATCH(L48,REFERENTES!$E$2:$E$5,0),1))","v":""},null,null,null,null,"",null,null,{"$f":"IF(T48=\"\",\"\",INDEX(REFERENTES!$G:$H,MATCH(T48,REFERENTES!$G:$G,0),2))","v":""},null,null,{"$f":"IF(W48=\"\",\"\",INDEX('OTRAS REFERENTES'!$H$7:$I$18,MATCH(W48,'OTRAS REFERENTES'!$I$7:$I$18,0),1))","v":""}]
[1,"",47,"","",{"$f":"IF(K49<>\"\",CONCATENATE(DIGITADOR!$B$2,$A$2,DIGITADOR!$M$1,A49),\"\")","v":""},null,null,"",null,{"$f":"IF(J49=\"\",\"\",INDEX('OTRAS REFERENTES'!Z:$AA,MATCH(J49,'OTRAS REFERENTES'!$Z:$Z,0),2))","v":""},null,{"$f":"IF(L49=\"\",\"\",INDEX(REFERENTES!$D$2:$E$18,MATCH(L49,REFERENTES!$E$2:$E$5,0),1))","v":""},null,null,null,null,"",null,null,{"$f":"IF(T49=\"\",\"\",INDEX(REFERENTES!$G:$H,MATCH(T49,REFERENTES!$G:$G,0),2))","v":""},null,null,{"$f":"IF(W49=\"\",\"\",INDEX('OTRAS REFERENTES'!$H$7:$I$18,MATCH(W49,'OTRAS REFERENTES'!$I$7:$I$18,0),1))","v":""}]
[1,"",48,"","",{"$f":"IF(K50<>\"\",CONCATENATE(DIGITADOR!$B$2,$A$2,DIGITADOR!$M$1,A50),\"\")","v":""},null,null,"",null,{"$f":"IF(J50=\"\",\"\",INDEX('OTRAS REFERENTES'!Z:$AA,MATCH(J50,'OTRAS REFERENTES'!$Z:$Z,0),2))","v":""},null,{"$f":"IF(L50=\"\",\"\",INDEX(REFERENTES!$D$2:$E$18,MATCH(L50,REFERENTES!$E$2:$E$5,0),1))","v":""},null,null,null,null,"",null,null,{"$f":"IF(T50=\"\",\"\",INDEX(REFERENTES!$G:$H,MATCH(T50,REFERENTES!$G:$G,0),2))","v":""},null,null,{"$f":"IF(W50=\"\",\"\",INDEX('OTRAS REFERENTES'!$H$7:$I$18,MATCH(W50,'OTRAS REFERENTES'!$I$7:$I$18,0),1))","v":""}]
[1,"",49,"","",{"$f":"IF(K51<>\"\",CONCATENATE(DIGITADOR!$B$2,$A$2,DIGITADOR!$M$1,A51),\"\")","v":""},null,null,"",null,{"$f":"IF(J51=\"\",\"\",INDEX('OTRAS REFERENTES'!Z:$AA,MATCH(J51,'OTRAS REFERENTES'!$Z:$Z,0),2))","v":""},null,{"$f":"IF(L51=\"\",\"\",INDEX(REFERENTES!$D$2:$E$18,MATCH(L51,REFERENTES!$E$2:$E$5,0),1))","v":""},null,null,null,null,"",null,null,{"$f":"IF(T51=\"\",\"\",INDEX(REFERENTES!$G:$H,MATCH(T51,REFERENTES!$G:$G,0),2))","v":""},null,null,{"$f":"IF(W51=\"\",\"\",INDEX('OTRAS REFERENTES'!$H$7:$I$18,MATCH(W51,'OTRAS REFERENTES'!$I$7:$I$18,0),1))","v":""}]
[1,"",50,"","",{"$f":"IF(K52<>\"\",CONCATENATE(DIGITADOR!$B$2,$A$2,DIGITADOR!$M$1,A52),\"\")","v":""},null,null,"",null,{"$f":"IF(J52=\"\",\"\",INDEX('OTRAS REFERENTES'!Z:$AA,MATCH(J52,'OTRAS REFERENTES'!$Z:$Z,0),2))","v":""},null,{"$f":"IF(L52=\"\",\"\",INDEX(REFERENTES!$D$2:$E$18,MATCH(L52,REFERENTES!$E$2:$E$5,0),1))","v":""},null,null,null,null,"",null,null,{"$f":"IF(T52=\"\",\"\",INDEX(REFERENTES!$G:$H,MATCH(T52,REFERENTES!$G:$G,0),2))","v":""},null,null,{"$f":"IF(W52=\"\",\"\",INDEX('OTRAS REFERENTES'!$H$7:$I$18,MATCH(W52,'OTRAS REFERENTES'!$I$7:$I$18,0),1))","v":""}]
[1,"",51,"","",{"$f":"IF(K53<>\"\",CONCATENATE(DIGITADOR!$B$2,$A$2,DIGITADOR!$M$1,A53),\"\")","v":""},null,null,"",null,{"$f":"IF(J53=\"\",\"\",INDEX('OTRAS REFERENTES'!Z:$AA,MATCH(J53,'OTRAS REFERENTES'!$Z:$Z,0),2))","v":""},null,{"$f":"IF(L53=\"\",\"\",INDEX(REFERENTES!$D$2:$E$18,MATCH(L53,REFERENTES!$E$2:$E$5,0),1))","v":""},null,null,null,null,"",null,null,{"$f":"IF(T53=\"\",\"\",INDEX(REFERENTES!$G:$H,MATCH(T53,REFERENTES!$G:$G,0),2))","v":""},null,null,{"$f":"IF(W53=\"\",\"\",INDEX('OTRAS REFERENTES'!$H$7:$I$18,MATCH(W53,'OTRAS REFERENTES'!$I$7:$I$18,0),1))","v":""}]
[1,"",52,"","",{"$f":"IF(K54<>\"\",CONCATENATE(DIGITADOR!$B$2,$A$2,DIGITADOR!$M$1,A54),\"\")","v":""},null,null,"",null,{"$f":"IF(J54=\"\",\"\",INDEX('OTRAS REFERENTES'!Z:$AA,MATCH(J54,'OTRAS REFERENTES'!$Z:$Z,0),2))","v":""},null,{"$f":"IF(L54=\"\",\"\",INDEX(REFERENTES!$D$2:$E$18,MATCH(L54,REFERENTES!$E$2:$E$5,0),1))","v":""},null,null,null,null,"",null,null,{"$f":"IF(T54=\"\",\"\",INDEX(REFERENTES!$G:$H,MATCH(T54,REFERENTES!$G:$G,0),2))","v":""},null,null,{"$f":"IF(W54=\"\",\"\",INDEX('OTRAS REFERENTES'!$H$7:$I$18,MATCH(W54,'OTRAS REFERENTES'!$I$7:$I$18,0),1))","v":""}]
[1,"",53,"","",{"$f":"IF(K55<>\"\",CONCATENATE(DIGITADOR!$B$2,$A$2,DIGITADOR!$M$1,A55),\"\")","v":""},null,null,"",null,{"$f":"IF(J55=\"\",\"\",INDEX('OTRAS REFERENTES'!Z:$AA,MATCH(J55,'OTRAS REFERENTES'!$Z:$Z,0),2))","v":""},null,{"$f":"IF(L55=\"\",\"\",INDEX(REFERENTES!$D$2:$E$18,MATCH(L55,REFERENTES!$E$2:$E$5,0),1))","v":""},null,null,null,null,"",null,null,{"$f":"IF(T55=\"\",\"\",INDEX(REFERENTES!$G:$H,MATCH(T55,REFERENTES!$G:$G,0),2))","v":""},null,null,{"$f":"IF(W55=\"\",\"\",INDEX('OTRAS REFERENTES'!$H$7:$I$18,MATCH(W55,'OTRAS REFERENTES'!$I$7:$I$18,0),1))","v":""}]
[1,"",54,"","",{"$f":"IF(K56<>\"\",CONCATENATE(DIGITADOR!$B$2,$A$2,DIGITADOR!$M$1,A56),\"\")","v":""},null,null,"",null,{"$f":"IF(J56=\"\",\"\",INDEX('OTRAS REFERENTES'!Z:$AA,MATCH(J56,'OTRAS REFERENTES'!$Z:$Z,0),2))","v":""},null,{"$f":"IF(L56=\"\",\"\",INDEX(REFERENTES!$D$2:$E$18,MATCH(L56,REFERENTES!$E$2:$E$5,0),1))","v":""},null,null,null,null,"",null,null,{"$f":"IF(T56=\"\",\"\",INDEX(REFERENTES!$G:$H,MATCH(T56,REFERENTES!$G:$G,0),2))","v":""},null,null,{"$f":"IF(W56=\"\",\"\",INDEX('OTRAS REFERENTES'!$H$7:$I$18,MATCH(W56,'OTRAS REFERENTES'!$I$7:$I$18,0),1))","v":""}]
[1,"",55,"","",{"$f":"IF(K57<>\"\",CONCATENATE(DIGITADOR!$B$2,$A$2,DIGITADOR!$M$1,A57),\"\")","v":""},null,null,"",null,{"$f":"IF(J57=\"\",\"\",INDEX('OTRAS REFERENTES'!Z:$AA,MATCH(J57,'OTRAS REFERENTES'!$Z:$Z,0),2))","v":""},null,{"$f":"IF(L57=\"\",\"\",INDEX(REFERENTES!$D$2:$E$18,MATCH(L57,REFERENTES!$E$2:$E$5,0),1))","v":""},null,null,null,null,"",null,null,{"$f":"IF(T57=\"\",\"\",INDEX(REFERENTES!$G:$H,MATCH(T57,REFERENTES!$G:$G,0),2))","v":""},null,null,{"$f":"IF(W57=\"\",\"\",INDEX('OTRAS REFERENTES'!$H$7:$I$18,MATCH(W57,'OTRAS REFERENTES'!$I$7:$I$18,0),1))","v":""}]
[1,"",56,"","",{"$f":"IF(K58<>\"\",CONCATENATE(DIGITADOR!$B$2,$A$2,DIGITADOR!$M$1,A58),\"\")","v":""},null,null,"",null,{"$f":"IF(J58=\"\",\"\",INDEX('OTRAS REFERENTES'!Z:$AA,MATCH(J58,'OTRAS REFERENTES'!$Z:$Z,0),2))","v":""},null,{"$f":"IF(L58=\"\",\"\",INDEX(REFERENTES!$D$2:$E$18,MATCH(L58,REFERENTES!$E$2:$E$5,0),1))","v":""},null,null,null,null,"",null,null,{"$f":"IF(T58=\"\",\"\",INDEX(REFERENTES!$G:$H,MATCH(T58,REFERENTES!$G:$G,0),2))","v":""},null,null,{"$f":"IF(W58=\"\",\"\",INDEX('OTRAS REFERENTES'!$H$7:$I$18,MATCH(W58,'OTRAS REFERENTES'!$I$7:$I$18,0),1))","v":""}]
[1,"",57,"","",{"$f":"IF(K59<>\"\",CONCATENATE(DIGITADOR!$B$2,$A$2,DIGITADOR!$M$1,A59),\"\")","v":""},null,null,"",null,{"$f":"IF(J59=\"\",\"\",INDEX('OTRAS REFERENTES'!Z:$AA,MATCH(J59,'OTRAS REFERENTES'!$Z:$Z,0),2))","v":""},null,{"$f":"IF(L59=\"\",\"\",INDEX(REFERENTES!$D$2:$E$18,MATCH(L59,REFERENTES!$E$2:$E$5,0),1))","v":""},null,null,null,null,"",null,null,{"$f":"IF(T59=\"\",\"\",INDEX(REFERENTES!$G:$H,MATCH(T59,REFERENTES!$G:$G,0),2))","v":""},null,null,{"$f":"IF(W59=\"\",\"\",INDEX('OTRAS REFERENTES'!$H$7:$I$18,MATCH(W59,'OTRAS REFERENTES'!$I$7:$I$18,0),1))","v":""}]
[1,"",58,"","",{"$f":"IF(K60<>\"\",CONCATENATE(DIGITADOR!$B$2,$A$2,DIGITADOR!$M$1,A60),\"\")","v":""},null,null,"",null,{"$f":"IF(J60=\"\",\"\",INDEX('OTRAS REFERENTES'!Z:$AA,MATCH(J60,'OTRAS REFERENTES'!$Z:$Z,0),2))","v":""},null,{"$f":"IF(L60=\"\",\"\",INDEX(REFERENTES!$D$2:$E$18,MATCH(L60,REFERENTES!$E$2:$E$5,0),1))","v":""},null,null,null,null,"",null,null,{"$f":"IF(T60=\"\",\"\",INDEX(REFERENTES!$G:$H,MATCH(T60,REFERENTES!$G:$G,0),2))","v":""},null,null,{"$f":"IF(W60=\"\",\"\",INDEX('OTRAS REFERENTES'!$H$7:$I$18,MATCH(W60,'OTRAS REFERENTES'!$I$7:$I$18,0),1))","v":""}]
[1,"",59,"","",{"$f":"IF(K61<>\"\",CONCATENATE(DIGITADOR!$B$2,$A$2,DIGITADOR!$M$1,A61),\"\")","v":""},null,null,"",null,{"$f":"IF(J61=\"\",\"\",INDEX('OTRAS REFERENTES'!Z:$AA,MATCH(J61,'OTRAS REFERENTES'!$Z:$Z,0),2))","v":""},null,{"$f":"IF(L61=\"\",\"\",INDEX(REFERENTES!$D$2:$E$18,MATCH(L61,REFERENTES!$E$2:$E$5,0),1))","v":""},null,null,null,null,"",null,null,{"$f":"IF(T61=\"\",\"\",INDEX(REFERENTES!$G:$H,MATCH(T61,REFERENTES!$G:$G,0),2))","v":""},null,null,{"$f":"IF(W61=\"\",\"\",INDEX('OTRAS REFERENTES'!$H$7:$I$18,MATCH(W61,'OTRAS REFERENTES'!$I$7:$I$18,0),1))","v":""}]
[1,"",60,"","",{"$f":"IF(K62<>\"\",CONCATENATE(DIGITADOR!$B$2,$A$2,DIGITADOR!$M$1,A62),\"\")","v":""},null,null,"",null,{"$f":"IF(J62=\"\",\"\",INDEX('OTRAS REFERENTES'!Z:$AA,MATCH(J62,'OTRAS REFERENTES'!$Z:$Z,0),2))","v":""},null,{"$f":"IF(L62=\"\",\"\",INDEX(REFERENTES!$D$2:$E$18,MATCH(L62,REFERENTES!$E$2:$E$5,0),1))","v":""},null,null,null,null,"",null,null,{"$f":"IF(T62=\"\",\"\",INDEX(REFERENTES!$G:$H,MATCH(T62,REFERENTES!$G:$G,0),2))","v":""},null,null,{"$f":"IF(W62=\"\",\"\",INDEX('OTRAS REFERENTES'!$H$7:$I$18,MATCH(W62,'OTRAS REFERENTES'!$I$7:$I$18,0),1))","v":""}]
[1,"",61,"","",{"$f":"IF(K63<>\"\",CONCATENATE(DIGITADOR!$B$2,$A$2,DIGITADOR!$M$1,A63),\"\")","v":""},null,null,"",null,{"$f":"IF(J63=\"\",\"\",INDEX('OTRAS REFERENTES'!Z:$AA,MATCH(J63,'OTRAS REFERENTES'!$Z:$Z,0),2))","v":""},null,{"$f":"IF(L63=\"\",\"\",INDEX(REFERENTES!$D$2:$E$18,MATCH(L63,REFERENTES!$E$2:$E$5,0),1))","v":""},null,null,null,null,"",null,null,{"$f":"IF(T63=\"\",\"\",INDEX(REFERENTES!$G:$H,MATCH(T63,REFERENTES!$G:$G,0),2))","v":""},null,null,{"$f":"IF(W63=\"\",\"\",INDEX('OTRAS REFERENTES'!$H$7:$I$18,MATCH(W63,'OTRAS REFERENTES'!$I$7:$I$18,0),1))","v":""}]
[1,"",62,"","",{"$f":"IF(K64<>\"\",CONCATENATE(DIGITADOR!$B$2,$A$2,DIGITADOR!$M$1,A64),\"\")","v":""},null,null,"",null,{"$f":"IF(J64=\"\",\"\",INDEX('OTRAS REFERENTES'!Z:$AA,MATCH(J64,'OTRAS REFERENTES'!$Z:$Z,0),2))","v":""},null,{"$f":"IF(L64=\"\",\"\",INDEX(REFERENTES!$D$2:$E$18,MATCH(L64,REFERENTES!$E$2:$E$5,0),1))","v":""},null,null,null,null,"",null,null,{"$f":"IF(T64=\"\",\"\",INDEX(REFERENTES!$G:$H,MATCH(T64,REFERENTES!$G:$G,0),2))","v":""},null,null,{"$f":"IF(W64=\"\",\"\",INDEX('OTRAS REFERENTES'!$H$7:$I$18,MATCH(W64,'OTRAS REFERENTES'!$I$7:$I$18,0),1))","v":""}]
[1,"",63,"","",{"$f":"IF(K65<>\"\",CONCATENATE(DIGITADOR!$B$2,$A$2,DIGITADOR!$M$1,A65),\"\")","v":""},null,null,"",null,{"$f":"IF(J65=\"\",\"\",INDEX('OTRAS REFERENTES'!Z:$AA,MATCH(J65,'OTRAS REFERENTES'!$Z:$Z,0),2))","v":""},null,{"$f":"IF(L65=\"\",\"\",INDEX(REFERENTES!$D$2:$E$18,MATCH(L65,REFERENTES!$E$2:$E$5,0),1))","v":""},null,null,null,null,"",null,null,{"$f":"IF(T65=\"\",\"\",INDEX(REFERENTES!$G:$H,MATCH(T65,REFERENTES!$G:$G,0),2))","v":""},null,null,{"$f":"IF(W65=\"\",\"\",INDEX('OTRAS REFERENTES'!$H$7:$I$18,MATCH(W65,'OTRAS REFERENTES'!$I$7:$I$18,0),1))","v":""}]
[1,"",64,"","",{"$f":"IF(K66<>\"\",CONCATENATE(DIGITADOR!$B$2,$A$2,DIGITADOR!$M$1,A66),\"\")","v":""},null,null,"",null,{"$f":"IF(J66=\"\",\"\",INDEX('OTRAS REFERENTES'!Z:$AA,MATCH(J66,'OTRAS REFERENTES'!$Z:$Z,0),2))","v":""},null,{"$f":"IF(L66=\"\",\"\",INDEX(REFERENTES!$D$2:$E$18,MATCH(L66,REFERENTES!$E$2:$E$5,0),1))","v":""},null,null,null,null,"",null,null,{"$f":"IF(T66=\"\",\"\",INDEX(REFERENTES!$G:$H,MATCH(T66,REFERENTES!$G:$G,0),2))","v":""},null,null,{"$f":"IF(W66=\"\",\"\",INDEX('OTRAS REFERENTES'!$H$7:$I$18,MATCH(W66,'OTRAS REFERENTES'!$I$7:$I$18,0),1))","v":""}]
[1,"",65,{"$f":"IF(G67=\"\",\"\",CONCATENATE(C67,F67))","v":""},"",{"$f":"IF(K67<>\"\",CONCATENATE(DIGITADOR!$B$2,$A$2,DIGITADOR!$M$1,A67),\"\")","v":""},null,null,{"$f":"IF(G67<>\"\",G67+H67,\"\")","v":""},null,{"$f":"IF(J67=\"\",\"\",INDEX('OTRAS REFERENTES'!Z:$AA,MATCH(J67,'OTRAS REFERENTES'!$Z:$Z,0),2))","v":""},null,{"$f":"IF(L67=\"\",\"\",INDEX(REFERENTES!$D$2:$E$18,MATCH(L67,REFERENTES!$E$2:$E$5,0),1))","v":""},null,null,null,null,{"$f":"SUBSTITUTE(IF(AND(P67<>\"\",Q67<>\"\"),CONCATENATE(\"POINT \",\"(\",P67,\" \",Q67,\")\"),\"\"),\".\",\",\")","v":""},null,null,{"$f":"IF(T67=\"\",\"\",INDEX(REFERENTES!$G:$H,MATCH(T67,REFERENTES!$G:$G,0),2))","v":""},null,null,{"$f":"IF(W67=\"\",\"\",INDEX('OTRAS REFERENTES'!$H$7:$I$18,MATCH(W67,'OTRAS REFERENTES'!$I$7:$I$18,0),1))","v":""}]
[{"$f":"IF(E68=E67,A67,A67+1)","v":1},"",66,"",{"$f":"CONCATENATE(I68,K68)","v":""},{"$f":"IF(K68<>\"\",CONCATENATE(DIGITADOR!$B$2,$A$2,DIGITADOR!$M$1,A68),\"\")","v":""},null,null,"",null,{"$f":"IF(J68=\"\",\"\",INDEX('OTRAS REFERENTES'!Z:$AA,MATCH(J68,'OTRAS REFERENTES'!$Z:$Z,0),2))","v":""},null,{"$f":"IF(L68=\"\",\"\",INDEX(REFERENTES!$D$2:$E$18,MATCH(L68,REFERENTES!$E$2:$E$5,0),1))","v":""},null,null,null,null,"",null,null,{"$f":"IF(T68=\"\",\"\",INDEX(REFERENTES!$G:$H,MATCH(T68,REFERENTES!$G:$G,0),2))","v":""},null,null,{"$f":"IF(W68=\"\",\"\",INDEX('OTRAS REFERENTES'!$H$7:$I$18,MATCH(W68,'OTRAS REFERENTES'!$I$7:$I$18,0),1))","v":""}]
[1,{"$f":"IF(F69<>F68, F69,\"\")","v":""},67,"","",{"$f":"IF(K69<>\"\",CONCATENATE(DIGITADOR!$B$2,$A$2,DIGITADOR!$M$1,A69),\"\")","v":""},null,null,"",null,{"$f":"IF(J69=\"\",\"\",INDEX('OTRAS REFERENTES'!Z:$AA,MATCH(J69,'OTRAS REFERENTES'!$Z:$Z,0),2))","v":""},null,{"$f":"IF(L69=\"\",\"\",INDEX(REFERENTES!$D$2:$E$18,MATCH(L69,REFERENTES!$E$2:$E$5,0),1))","v":""},null,null,null,null,"",null,null,{"$f":"IF(T69=\"\",\"\",INDEX(REFERENTES!$G:$H,MATCH(T69,REFERENTES!$G:$G,0),2))","v":""},null,null,{"$f":"IF(W69=\"\",\"\",INDEX('OTRAS REFERENTES'!$H$7:$I$18,MATCH(W69,'OTRAS REFERENTES'!$I$7:$I$18,0),1))","v":""}]
[1,"",68,"","",{"$f":"IF(K70<>\"\",CONCATENATE(DIGITADOR!$B$2,$A$2,DIGITADOR!$M$1,A70),\"\")","v":""},null,null,"",null,{"$f":"IF(J70=\"\",\"\",INDEX('OTRAS REFERENTES'!Z:$AA,MATCH(J70,'OTRAS REFERENTES'!$Z:$Z,0),2))","v":""},null,{"$f":"IF(L70=\"\",\"\",INDEX(REFERENTES!$D$2:$E$18,MATCH(L70,REFERENTES!$E$2:$E$5,0),1))","v":""},null,null,null,null,"",null,null,{"$f":"IF(T70=\"\",\"\",INDEX(REFERENTES!$G:$H,MATCH(T70,REFERENTES!$G:$G,0),2))","v":""},null,null,{"$f":"IF(W70=\"\",\"\",INDEX('OTRAS REFERENTES'!$H$7:$I$18,MATCH(W70,'OTRAS REFERENTES'!$I$7:$I$18,0),1))","v":""}]
[1,"",69,"","",{"$f":"IF(K71<>\"\",CONCATENATE(DIGITADOR!$B$2,$A$2,DIGITADOR!$M$1,A71),\"\")","v":""},null,null,"",null,{"$f":"IF(J71=\"\",\"\",INDEX('OTRAS REFERENTES'!Z:$AA,MATCH(J71,'OTRAS REFERENTES'!$Z:$Z,0),2))","v":""},null,{"$f":"IF(L71=\"\",\"\",INDEX(REFERENTES!$D$2:$E$18,MATCH(L71,REFERENTES!$E$2:$E$5,0),1))","v":""},null,null,null,null,"",null,null,{"$f":"IF(T71=\"\",\"\",INDEX(REFERENTES!$G:$H,MATCH(T71,REFERENTES!$G:$G,0),2))","v":""},null,null,{"$f":"IF(W71=\"\",\"\",INDEX('OTRAS REFERENTES'!$H$7:$I$18,MATCH(W71,'OTRAS REFERENTES'!$I$7:$I$18,0),1))","v":""}]
[1,"",70,"","",{"$f":"IF(K72<>\"\",CONCATENATE(DIGITADOR!$B$2,$A$2,DIGITADOR!$M$1,A72),\"\")","v":""},null,null,"",null,{"$f":"IF(J72=\"\",\"\",INDEX('OTRAS REFERENTES'!Z:$AA,MATCH(J72,'OTRAS REFERENTES'!$Z:$Z,0),2))","v":""},null,{"$f":"IF(L72=\"\",\"\",INDEX(REFERENTES!$D$2:$E$18,MATCH(L72,REFERENTES!$E$2:$E$5,0),1))","v":""},null,null,null,null,"",null,null,{"$f":"IF(T72=\"\",\"\",INDEX(REFERENTES!$G:$H,MATCH(T72,REFERENTES!$G:$G,0),2))","v":""},null,null,{"$f":"IF(W72=\"\",\"\",INDEX('OTRAS REFERENTES'!$H$7:$I$18,MATCH(W72,'OTRAS REFERENTES'!$I$7:$I$18,0),1))","v":""}]
[1,"",71,"","",{"$f":"IF(K73<>\"\",CONCATENATE(DIGITADOR!$B$2,$A$2,DIGITADOR!$M$1,A73),\"\")","v":""},null,null,"",null,{"$f":"IF(J73=\"\",\"\",INDEX('OTRAS REFERENTES'!Z:$AA,MATCH(J73,'OTRAS REFERENTES'!$Z:$Z,0),2))","v":""},null,{"$f":"IF(L73=\"\",\"\",INDEX(REFERENTES!$D$2:$E$18,MATCH(L73,REFERENTES!$E$2:$E$5,0),1))","v":""},null,null,null,null,"",null,null,{"$f":"IF(T73=\"\",\"\",INDEX(REFERENTES!$G:$H,MATCH(T73,REFERENTES!$G:$G,0),2))","v":""},null,null,{"$f":"IF(W73=\"\",\"\",INDEX('OTRAS REFERENTES'!$H$7:$I$18,MATCH(W73,'OTRAS REFERENTES'!$I$7:$I$18,0),1))","v":""}]
[1,"",72,"","",{"$f":"IF(K74<>\"\",CONCATENATE(DIGITADOR!$B$2,$A$2,DIGITADOR!$M$1,A74),\"\")","v":""},null,null,"",null,{"$f":"IF(J74=\"\",\"\",INDEX('OTRAS REFERENTES'!Z:$AA,MATCH(J74,'OTRAS REFERENTES'!$Z:$Z,0),2))","v":""},null,{"$f":"IF(L74=\"\",\"\",INDEX(REFERENTES!$D$2:$E$18,MATCH(L74,REFERENTES!$E$2:$E$5,0),1))","v":""},null,null,null,null,"",null,null,{"$f":"IF(T74=\"\",\"\",INDEX(REFERENTES!$G:$H,MATCH(T74,REFERENTES!$G:$G,0),2))","v":""},null,null,{"$f":"IF(W74=\"\",\"\",INDEX('OTRAS REFERENTES'!$H$7:$I$18,MATCH(W74,'OTRAS REFERENTES'!$I$7:$I$18,0),1))","v":""}]
[1,"",73,"","",{"$f":"IF(K75<>\"\",CONCATENATE(DIGITADOR!$B$2,$A$2,DIGITADOR!$M$1,A75),\"\")","v":""},null,null,"",null,{"$f":"IF(J75=\"\",\"\",INDEX('OTRAS REFERENTES'!Z:$AA,MATCH(J75,'OTRAS REFERENTES'!$Z:$Z,0),2))","v":""},null,{"$f":"IF(L75=\"\",\"\",INDEX(REFERENTES!$D$2:$E$18,MATCH(L75,REFERENTES!$E$2:$E$5,0),1))","v":""},null,null,null,null,"",null,null,{"$f":"IF(T75=\"\",\"\",INDEX(REFERENTES!$G:$H,MATCH(T75,REFERENTES!$G:$G,0),2))","v":""},null,null,{"$f":"IF(W75=\"\",\"\",INDEX('OTRAS REFERENTES'!$H$7:$I$18,MATCH(W75,'OTRAS REFERENTES'!$I$7:$I$18,0),1))","v":""}]
[1,"",74,"","",{"$f":"IF(K76<>\"\",CONCATENATE(DIGITADOR!$B$2,$A$2,DIGITADOR!$M$1,A76),\"\")","v":""},null,null,"",null,{"$f":"IF(J76=\"\",\"\",INDEX('OTRAS REFERENTES'!Z:$AA,MATCH(J76,'OTRAS REFERENTES'!$Z:$Z,0),2))","v":""},null,{"$f":"IF(L76=\"\",\"\",INDEX(REFERENTES!$D$2:$E$18,MATCH(L76,REFERENTES!$E$2:$E$5,0),1))","v":""},null,null,null,null,"",null,null,{"$f":"IF(T76=\"\",\"\",INDEX(REFERENTES!$G:$H,MATCH(T76,REFERENTES!$G:$G,0),2))","v":""},null,null,{"$f":"IF(W76=\"\",\"\",INDEX('OTRAS REFERENTES'!$H$7:$I$18,MATCH(W76,'OTRAS REFERENTES'!$I$7:$I$18,0),1))","v":""}]
[1,"",75,"","",{"$f":"IF(K77<>\"\",CONCATENATE(DIGITADOR!$B$2,$A$2,DIGITADOR!$M$1,A77),\"\")","v":""},null,null,"",null,{"$f":"IF(J77=\"\",\"\",INDEX('OTRAS REFERENTES'!Z:$AA,MATCH(J77,'OTRAS REFERENTES'!$Z:$Z,0),2))","v":""},null,{"$f":"IF(L77=\"\",\"\",INDEX(REFERENTES!$D$2:$E$18,MATCH(L77,REFERENTES!$E$2:$E$5,0),1))","v":""},null,null,null,null,"",null,null,{"$f":"IF(T77=\"\",\"\",INDEX(REFERENTES!$G:$H,MATCH(T77,REFERENTES!$G:$G,0),2))","v":""},null,null,{"$f":"IF(W77=\"\",\"\",INDEX('OTRAS REFERENTES'!$H$7:$I$18,MATCH(W77,'OTRAS REFERENTES'!$I$7:$I$18,0),1))","v":""}]
[1,"",76,"","",{"$f":"IF(K78<>\"\",CONCATENATE(DIGITADOR!$B$2,$A$2,DIGITADOR!$M$1,A78),\"\")","v":""},null,null,"",null,{"$f":"IF(J78=\"\",\"\",INDEX('OTRAS REFERENTES'!Z:$AA,MATCH(J78,'OTRAS REFERENTES'!$Z:$Z,0),2))","v":""},null,{"$f":"IF(L78=\"\",\"\",INDEX(REFERENTES!$D$2:$E$18,MATCH(L78,REFERENTES!$E$2:$E$5,0),1))","v":""},null,null,null,null,"",null,null,{"$f":"IF(T78=\"\",\"\",INDEX(REFERENTES!$G:$H,MATCH(T78,REFERENTES!$G:$G,0),2))","v":""},null,null,{"$f":"IF(W78=\"\",\"\",INDEX('OTRAS REFERENTES'!$H$7:$I$18,MATCH(W78,'OTRAS REFERENTES'!$I$7:$I$18,0),1))","v":""}]
[1,"",77,"","",{"$f":"IF(K79<>\"\",CONCATENATE(DIGITADOR!$B$2,$A$2,DIGITADOR!$M$1,A79),\"\")","v":""},null,null,"",null,{"$f":"IF(J79=\"\",\"\",INDEX('OTRAS REFERENTES'!Z:$AA,MATCH(J79,'OTRAS REFERENTES'!$Z:$Z,0),2))","v":""},null,{"$f":"IF(L79=\"\",\"\",INDEX(REFERENTES!$D$2:$E$18,MATCH(L79,REFERENTES!$E$2:$E$5,0),1))","v":""},null,null,null,null,"",null,null,{"$f":"IF(T79=\"\",\"\",INDEX(REFERENTES!$G:$H,MATCH(T79,REFERENTES!$G:$G,0),2))","v":""},null,null,{"$f":"IF(W79=\"\",\"\",INDEX('OTRAS REFERENTES'!$H$7:$I$18,MATCH(W79,'OTRAS REFERENTES'!$I$7:$I$18,0),1))","v":""}]
[1,"",78,"","",{"$f":"IF(K80<>\"\",CONCATENATE(DIGITADOR!$B$2,$A$2,DIGITADOR!$M$1,A80),\"\")","v":""},null,null,"",null,{"$f":"IF(J80=\"\",\"\",INDEX('OTRAS REFERENTES'!Z:$AA,MATCH(J80,'OTRAS REFERENTES'!$Z:$Z,0),2))","v":""},null,{"$f":"IF(L80=\"\",\"\",INDEX(REFERENTES!$D$2:$E$18,MATCH(L80,REFERENTES!$E$2:$E$5,0),1))","v":""},null,null,null,null,"",null,null,{"$f":"IF(T80=\"\",\"\",INDEX(REFERENTES!$G:$H,MATCH(T80,REFERENTES!$G:$G,0),2))","v":""},null,null,{"$f":"IF(W80=\"\",\"\",INDEX('OTRAS REFERENTES'!$H$7:$I$18,MATCH(W80,'OTRAS REFERENTES'!$I$7:$I$18,0),1))","v":""}]
[1,"",79,"","",{"$f":"IF(K81<>\"\",CONCATENATE(DIGITADOR!$B$2,$A$2,DIGITADOR!$M$1,A81),\"\")","v":""},null,null,"",null,{"$f":"IF(J81=\"\",\"\",INDEX('OTRAS REFERENTES'!Z:$AA,MATCH(J81,'OTRAS REFERENTES'!$Z:$Z,0),2))","v":""},null,{"$f":"IF(L81=\"\",\"\",INDEX(REFERENTES!$D$2:$E$18,MATCH(L81,REFERENTES!$E$2:$E$5,0),1))","v":""},null,null,null,null,"",null,null,{"$f":"IF(T81=\"\",\"\",INDEX(REFERENTES!$G:$H,MATCH(T81,REFERENTES!$G:$G,0),2))","v":""},null,null,{"$f":"IF(W81=\"\",\"\",INDEX('OTRAS REFERENTES'!$H$7:$I$18,MATCH(W81,'OTRAS REFERENTES'!$I$7:$I$18,0),1))","v":""}]
[1,"",80,"","",{"$f":"IF(K82<>\"\",CONCATENATE(DIGITADOR!$B$2,$A$2,DIGITADOR!$M$1,A82),\"\")","v":""},null,null,"",null,{"$f":"IF(J82=\"\",\"\",INDEX('OTRAS REFERENTES'!Z:$AA,MATCH(J82,'OTRAS REFERENTES'!$Z:$Z,0),2))","v":""},null,{"$f":"IF(L82=\"\",\"\",INDEX(REFERENTES!$D$2:$E$18,MATCH(L82,REFERENTES!$E$2:$E$5,0),1))","v":""},null,null,null,null,"",null,null,{"$f":"IF(T82=\"\",\"\",INDEX(REFERENTES!$G:$H,MATCH(T82,REFERENTES!$G:$G,0),2))","v":""},null,null,{"$f":"IF(W82=\"\",\"\",INDEX('OTRAS REFERENTES'!$H$7:$I$18,MATCH(W82,'OTRAS REFERENTES'!$I$7:$I$18,0),1))","v":""}]
[1,"",81,"","",{"$f":"IF(K83<>\"\",CONCATENATE(DIGITADOR!$B$2,$A$2,DIGITADOR!$M$1,A83),\"\")","v":""},null,null,"",null,{"$f":"IF(J83=\"\",\"\",INDEX('OTRAS REFERENTES'!Z:$AA,MATCH(J83,'OTRAS REFERENTES'!$Z:$Z,0),2))","v":""},null,{"$f":"IF(L83=\"\",\"\",INDEX(REFERENTES!$D$2:$E$18,MATCH(L83,REFERENTES!$E$2:$E$5,0),1))","v":""},null,null,null,null,"",null,null,{"$f":"IF(T83=\"\",\"\",INDEX(REFERENTES!$G:$H,MATCH(T83,REFERENTES!$G:$G,0),2))","v":""},null,null,{"$f":"IF(W83=\"\",\"\",INDEX('OTRAS REFERENTES'!$H$7:$I$18,MATCH(W83,'OTRAS REFERENTES'!$I$7:$I$18,0),1))","v":""}]
[1,"",82,"","",{"$f":"IF(K84<>\"\",CONCATENATE(DIGITADOR!$B$2,$A$2,DIGITADOR!$M$1,A84),\"\")","v":""},null,null,"",null,{"$f":"IF(J84=\"\",\"\",INDEX('OTRAS REFERENTES'!Z:$AA,MATCH(J84,'OTRAS REFERENTES'!$Z:$Z,0),2))","v":""},null,{"$f":"IF(L84=\"\",\"\",INDEX(REFERENTES!$D$2:$E$18,MATCH(L84,REFERENTES!$E$2:$E$5,0),1))","v":""},null,null,null,null,"",null,null,{"$f":"IF(T84=\"\",\"\",INDEX(REFERENTES!$G:$H,MATCH(T84,REFERENTES!$G:$G,0),2))","v":""},null,null,{"$f":"IF(W84=\"\",\"\",INDEX('OTRAS REFERENTES'!$H$7:$I$18,MATCH(W84,'OTRAS REFERENTES'!$I$7:$I$18,0),1))","v":""}]
[1,"",83,"","",{"$f":"IF(K85<>\"\",CONCATENATE(DIGITADOR!$B$2,$A$2,DIGITADOR!$M$1,A85),\"\")","v":""},null,null,"",null,{"$f":"IF(J85=\"\",\"\",INDEX('OTRAS REFERENTES'!Z:$AA,MATCH(J85,'OTRAS REFERENTES'!$Z:$Z,0),2))","v":""},null,{"$f":"IF(L85=\"\",\"\",INDEX(REFERENTES!$D$2:$E$18,MATCH(L85,REFERENTES!$E$2:$E$5,0),1))","v":""},null,null,null,null,"",null,null,{"$f":"IF(T85=\"\",\"\",INDEX(REFERENTES!$G:$H,MATCH(T85,REFERENTES!$G:$G,0),2))","v":""},null,null,{"$f":"IF(W85=\"\",\"\",INDEX('OTRAS REFERENTES'!$H$7:$I$18,MATCH(W85,'OTRAS REFERENTES'!$I$7:$I$18,0),1))","v":""}]
[1,"",84,"","",{"$f":"IF(K86<>\"\",CONCATENATE(DIGITADOR!$B$2,$A$2,DIGITADOR!$M$1,A86),\"\")","v":""},null,null,"",null,{"$f":"IF(J86=\"\",\"\",INDEX('OTRAS REFERENTES'!Z:$AA,MATCH(J86,'OTRAS REFERENTES'!$Z:$Z,0),2))","v":""},null,{"$f":"IF(L86=\"\",\"\",INDEX(REFERENTES!$D$2:$E$18,MATCH(L86,REFERENTES!$E$2:$E$5,0),1))","v":""},null,null,null,null,"",null,null,{"$f":"IF(T86=\"\",\"\",INDEX(REFERENTES!$G:$H,MATCH(T86,REFERENTES!$G:$G,0),2))","v":""},null,null,{"$f":"IF(W86=\"\",\"\",INDEX('OTRAS REFERENTES'!$H$7:$I$18,MATCH(W86,'OTRAS REFERENTES'!$I$7:$I$18,0),1))","v":""}]
[1,"",85,"","",{"$f":"IF(K87<>\"\",CONCATENATE(DIGITADOR!$B$2,$A$2,DIGITADOR!$M$1,A87),\"\")","v":""},null,null,"",null,{"$f":"IF(J87=\"\",\"\",INDEX('OTRAS REFERENTES'!Z:$AA,MATCH(J87,'OTRAS REFERENTES'!$Z:$Z,0),2))","v":""},null,{"$f":"IF(L87=\"\",\"\",INDEX(REFERENTES!$D$2:$E$18,MATCH(L87,REFERENTES!$E$2:$E$5,0),1))","v":""},null,null,null,null,"",null,null,{"$f":"IF(T87=\"\",\"\",INDEX(REFERENTES!$G:$H,MATCH(T87,REFERENTES!$G:$G,0),2))","v":""},null,null,{"$f":"IF(W87=\"\",\"\",INDEX('OTRAS REFERENTES'!$H$7:$I$18,MATCH(W87,'OTRAS REFERENTES'!$I$7:$I$18,0),1))","v":""}]
[1,"",86,"","",{"$f":"IF(K88<>\"\",CONCATENATE(DIGITADOR!$B$2,$A$2,DIGITADOR!$M$1,A88),\"\")","v":""},null,null,"",null,{"$f":"IF(J88=\"\",\"\",INDEX('OTRAS REFERENTES'!Z:$AA,MATCH(J88,'OTRAS REFERENTES'!$Z:$Z,0),2))","v":""},null,{"$f":"IF(L88=\"\",\"\",INDEX(REFERENTES!$D$2:$E$18,MATCH(L88,REFERENTES!$E$2:$E$5,0),1))","v":""},null,null,null,null,"",null,null,{"$f":"IF(T88=\"\",\"\",INDEX(REFERENTES!$G:$H,MATCH(T88,REFERENTES!$G:$G,0),2))","v":""},null,null,{"$f":"IF(W88=\"\",\"\",INDEX('OTRAS REFERENTES'!$H$7:$I$18,MATCH(W88,'OTRAS REFERENTES'!$I$7:$I$18,0),1))","v":""}]
[1,"",87,"","",{"$f":"IF(K89<>\"\",CONCATENATE(DIGITADOR!$B$2,$A$2,DIGITADOR!$M$1,A89),\"\")","v":""},null,null,"",null,{"$f":"IF(J89=\"\",\"\",INDEX('OTRAS REFERENTES'!Z:$AA,MATCH(J89,'OTRAS REFERENTES'!$Z:$Z,0),2))","v":""},null,{"$f":"IF(L89=\"\",\"\",INDEX(REFERENTES!$D$2:$E$18,MATCH(L89,REFERENTES!$E$2:$E$5,0),1))","v":""},null,null,null,null,"",null,null,{"$f":"IF(T89=\"\",\"\",INDEX(REFERENTES!$G:$H,MATCH(T89,REFERENTES!$G:$G,0),2))","v":""},null,null,{"$f":"IF(W89=\"\",\"\",INDEX('OTRAS REFERENTES'!$H$7:$I$18,MATCH(W89,'OTRAS REFERENTES'!$I$7:$I$18,0),1))","v":""}]
[1,"",88,"","",{"$f":"IF(K90<>\"\",CONCATENATE(DIGITADOR!$B$2,$A$2,DIGITADOR!$M$1,A90),\"\")","v":""},null,null,"",null,{"$f":"IF(J90=\"\",\"\",INDEX('OTRAS REFERENTES'!Z:$AA,MATCH(J90,'OTRAS REFERENTES'!$Z:$Z,0),2))","v":""},null,{"$f":"IF(L90=\"\",\"\",INDEX(REFERENTES!$D$2:$E$18,MATCH(L90,REFERENTES!$E$2:$E$5,0),1))","v":""},null,null,null,null,"",null,null,{"$f":"IF(T90=\"\",\"\",INDEX(REFERENTES!$G:$H,MATCH(T90,REFERENTES!$G:$G,0),2))","v":""},null,null,{"$f":"IF(W90=\"\",\"\",INDEX('OTRAS REFERENTES'!$H$7:$I$18,MATCH(W90,'OTRAS REFERENTES'!$I$7:$I$18,0),1))","v":""}]
[1,"",89,"","",{"$f":"IF(K91<>\"\",CONCATENATE(DIGITADOR!$B$2,$A$2,DIGITADOR!$M$1,A91),\"\")","v":""},null,null,"",null,{"$f":"IF(J91=\"\",\"\",INDEX('OTRAS REFERENTES'!Z:$AA,MATCH(J91,'OTRAS REFERENTES'!$Z:$Z,0),2))","v":""},null,{"$f":"IF(L91=\"\",\"\",INDEX(REFERENTES!$D$2:$E$18,MATCH(L91,REFERENTES!$E$2:$E$5,0),1))","v":""},null,null,null,null,"",null,null,{"$f":"IF(T91=\"\",\"\",INDEX(REFERENTES!$G:$H,MATCH(T91,REFERENTES!$G:$G,0),2))","v":""},null,null,{"$f":"IF(W91=\"\",\"\",INDEX('OTRAS REFERENTES'!$H$7:$I$18,MATCH(W91,'OTRAS REFERENTES'!$I$7:$I$18,0),1))","v":""}]
[1,"",90,"","",{"$f":"IF(K92<>\"\",CONCATENATE(DIGITADOR!$B$2,$A$2,DIGITADOR!$M$1,A92),\"\")","v":""},null,null,"",null,{"$f":"IF(J92=\"\",\"\",INDEX('OTRAS REFERENTES'!Z:$AA,MATCH(J92,'OTRAS REFERENTES'!$Z:$Z,0),2))","v":""},null,{"$f":"IF(L92=\"\",\"\",INDEX(REFERENTES!$D$2:$E$18,MATCH(L92,REFERENTES!$E$2:$E$5,0),1))","v":""},null,null,null,null,"",null,null,{"$f":"IF(T92=\"\",\"\",INDEX(REFERENTES!$G:$H,MATCH(T92,REFERENTES!$G:$G,0),2))","v":""},null,null,{"$f":"IF(W92=\"\",\"\",INDEX('OTRAS REFERENTES'!$H$7:$I$18,MATCH(W92,'OTRAS REFERENTES'!$I$7:$I$18,0),1))","v":""}]
[1,"",91,"","",{"$f":"IF(K93<>\"\",CONCATENATE(DIGITADOR!$B$2,$A$2,DIGITADOR!$M$1,A93),\"\")","v":""},null,null,"",null,{"$f":"IF(J93=\"\",\"\",INDEX('OTRAS REFERENTES'!Z:$AA,MATCH(J93,'OTRAS REFERENTES'!$Z:$Z,0),2))","v":""},null,{"$f":"IF(L93=\"\",\"\",INDEX(REFERENTES!$D$2:$E$18,MATCH(L93,REFERENTES!$E$2:$E$5,0),1))","v":""},null,null,null,null,"",null,null,{"$f":"IF(T93=\"\",\"\",INDEX(REFERENTES!$G:$H,MATCH(T93,REFERENTES!$G:$G,0),2))","v":""},null,null,{"$f":"IF(W93=\"\",\"\",INDEX('OTRAS REFERENTES'!$H$7:$I$18,MATCH(W93,'OTRAS REFERENTES'!$I$7:$I$18,0),1))","v":""}]
[1,"",92,"","",{"$f":"IF(K94<>\"\",CONCATENATE(DIGITADOR!$B$2,$A$2,DIGITADOR!$M$1,A94),\"\")","v":""},null,null,"",null,{"$f":"IF(J94=\"\",\"\",INDEX('OTRAS REFERENTES'!Z:$AA,MATCH(J94,'OTRAS REFERENTES'!$Z:$Z,0),2))","v":""},null,{"$f":"IF(L94=\"\",\"\",INDEX(REFERENTES!$D$2:$E$18,MATCH(L94,REFERENTES!$E$2:$E$5,0),1))","v":""},null,null,null,null,"",null,null,{"$f":"IF(T94=\"\",\"\",INDEX(REFERENTES!$G:$H,MATCH(T94,REFERENTES!$G:$G,0),2))","v":""},null,null,{"$f":"IF(W94=\"\",\"\",INDEX('OTRAS REFERENTES'!$H$7:$I$18,MATCH(W94,'OTRAS REFERENTES'!$I$7:$I$18,0),1))","v":""}]
[1,"",93,"","",{"$f":"IF(K95<>\"\",CONCATENATE(DIGITADOR!$B$2,$A$2,DIGITADOR!$M$1,A95),\"\")","v":""},null,null,"",null,{"$f":"IF(J95=\"\",\"\",INDEX('OTRAS REFERENTES'!Z:$AA,MATCH(J95,'OTRAS REFERENTES'!$Z:$Z,0),2))","v":""},null,{"$f":"IF(L95=\"\",\"\",INDEX(REFERENTES!$D$2:$E$18,MATCH(L95,REFERENTES!$E$2:$E$5,0),1))","v":""},null,null,null,null,"",null,null,{"$f":"IF(T95=\"\",\"\",INDEX(REFERENTES!$G:$H,MATCH(T95,REFERENTES!$G:$G,0),2))","v":""},null,null,{"$f":"IF(W95=\"\",\"\",INDEX('OTRAS REFERENTES'!$H$7:$I$18,MATCH(W95,'OTRAS REFERENTES'!$I$7:$I$18,0),1))","v":""}]
[1,"",94,"","",{"$f":"IF(K96<>\"\",CONCATENATE(DIGITADOR!$B$2,$A$2,DIGITADOR!$M$1,A96),\"\")","v":""},null,null,"",null,{"$f":"IF(J96=\"\",\"\",INDEX('OTRAS REFERENTES'!Z:$AA,MATCH(J96,'OTRAS REFERENTES'!$Z:$Z,0),2))","v":""},null,{"$f":"IF(L96=\"\",\"\",INDEX(REFERENTES!$D$2:$E$18,MATCH(L96,REFERENTES!$E$2:$E$5,0),1))","v":""},null,null,null,null,"",null,null,{"$f":"IF(T96=\"\",\"\",INDEX(REFERENTES!$G:$H,MATCH(T96,REFERENTES!$G:$G,0),2))","v":""},null,null,{"$f":"IF(W96=\"\",\"\",INDEX('OTRAS REFERENTES'!$H$7:$I$18,MATCH(W96,'OTRAS REFERENTES'!$I$7:$I$18,0),1))","v":""}]
[1,"",95,"","",{"$f":"IF(K97<>\"\",CONCATENATE(DIGITADOR!$B$2,$A$2,DIGITADOR!$M$1,A97),\"\")","v":""},null,null,"",null,{"$f":"IF(J97=\"\",\"\",INDEX('OTRAS REFERENTES'!Z:$AA,MATCH(J97,'OTRAS REFERENTES'!$Z:$Z,0),2))","v":""},null,{"$f":"IF(L97=\"\",\"\",INDEX(REFERENTES!$D$2:$E$18,MATCH(L97,REFERENTES!$E$2:$E$5,0),1))","v":""},null,null,null,null,"",null,null,{"$f":"IF(T97=\"\",\"\",INDEX(REFERENTES!$G:$H,MATCH(T97,REFERENTES!$G:$G,0),2))","v":""},null,null,{"$f":"IF(W97=\"\",\"\",INDEX('OTRAS REFERENTES'!$H$7:$I$18,MATCH(W97,'OTRAS REFERENTES'!$I$7:$I$18,0),1))","v":""}]
[1,"",96,"","",{"$f":"IF(K98<>\"\",CONCATENATE(DIGITADOR!$B$2,$A$2,DIGITADOR!$M$1,A98),\"\")","v":""},null,null,"",null,{"$f":"IF(J98=\"\",\"\",INDEX('OTRAS REFERENTES'!Z:$AA,MATCH(J98,'OTRAS REFERENTES'!$Z:$Z,0),2))","v":""},null,{"$f":"IF(L98=\"\",\"\",INDEX(REFERENTES!$D$2:$E$18,MATCH(L98,REFERENTES!$E$2:$E$5,0),1))","v":""},null,null,null,null,"",null,null,{"$f":"IF(T98=\"\",\"\",INDEX(REFERENTES!$G:$H,MATCH(T98,REFERENTES!$G:$G,0),2))","v":""},null,null,{"$f":"IF(W98=\"\",\"\",INDEX('OTRAS REFERENTES'!$H$7:$I$18,MATCH(W98,'OTRAS REFERENTES'!$I$7:$I$18,0),1))","v":""}]
[1,"",97,"","",{"$f":"IF(K99<>\"\",CONCATENATE(DIGITADOR!$B$2,$A$2,DIGITADOR!$M$1,A99),\"\")","v":""},null,null,{"$f":"IF(G99<>\"\",G99+H99,\"\")","v":""},null,{"$f":"IF(J99=\"\",\"\",INDEX('OTRAS REFERENTES'!Z:$AA,MATCH(J99,'OTRAS REFERENTES'!$Z:$Z,0),2))","v":""},null,{"$f":"IF(L99=\"\",\"\",INDEX(REFERENTES!$D$2:$E$18,MATCH(L99,REFERENTES!$E$2:$E$5,0),1))","v":""},null,null,null,null,{"$f":"SUBSTITUTE(IF(AND(P99<>\"\",Q99<>\"\"),CONCATENATE(\"POINT \",\"(\",P99,\" \",Q99,\")\"),\"\"),\".\",\",\")","v":""},null,null,{"$f":"IF(T99=\"\",\"\",INDEX(REFERENTES!$G:$H,MATCH(T99,REFERENTES!$G:$G,0),2))","v":""},null,null,{"$f":"IF(W99=\"\",\"\",INDEX('OTRAS REFERENTES'!$H$7:$I$18,MATCH(W99,'OTRAS REFERENTES'!$I$7:$I$18,0),1))","v":""}]
[1,"",98,"","",{"$f":"IF(K100<>\"\",CONCATENATE(DIGITADOR!$B$2,$A$2,DIGITADOR!$M$1,A100),\"\")","v":""},null,null,"",null,{"$f":"IF(J100=\"\",\"\",INDEX('OTRAS REFERENTES'!Z:$AA,MATCH(J100,'OTRAS REFERENTES'!$Z:$Z,0),2))","v":""},null,{"$f":"IF(L100=\"\",\"\",INDEX(REFERENTES!$D$2:$E$18,MATCH(L100,REFERENTES!$E$2:$E$5,0),1))","v":""},null,null,null,null,"",null,null,{"$f":"IF(T100=\"\",\"\",INDEX(REFERENTES!$G:$H,MATCH(T100,REFERENTES!$G:$G,0),2))","v":""},null,null,{"$f":"IF(W100=\"\",\"\",INDEX('OTRAS REFERENTES'!$H$7:$I$18,MATCH(W100,'OTRAS REFERENTES'!$I$7:$I$18,0),1))","v":""}]
[1,"",99,"","",{"$f":"IF(K101<>\"\",CONCATENATE(DIGITADOR!$B$2,$A$2,DIGITADOR!$M$1,A101),\"\")","v":""},null,null,"",null,{"$f":"IF(J101=\"\",\"\",INDEX('OTRAS REFERENTES'!Z:$AA,MATCH(J101,'OTRAS REFERENTES'!$Z:$Z,0),2))","v":""},null,{"$f":"IF(L101=\"\",\"\",INDEX(REFERENTES!$D$2:$E$18,MATCH(L101,REFERENTES!$E$2:$E$5,0),1))","v":""},null,null,null,null,"",null,null,{"$f":"IF(T101=\"\",\"\",INDEX(REFERENTES!$G:$H,MATCH(T101,REFERENTES!$G:$G,0),2))","v":""},null,null,{"$f":"IF(W101=\"\",\"\",INDEX('OTRAS REFERENTES'!$H$7:$I$18,MATCH(W101,'OTRAS REFERENTES'!$I$7:$I$18,0),1))","v":""}]
[1,"",100,"","",{"$f":"IF(K102<>\"\",CONCATENATE(DIGITADOR!$B$2,$A$2,DIGITADOR!$M$1,A102),\"\")","v":""},null,null,"",null,{"$f":"IF(J102=\"\",\"\",INDEX('OTRAS REFERENTES'!Z:$AA,MATCH(J102,'OTRAS REFERENTES'!$Z:$Z,0),2))","v":""},null,{"$f":"IF(L102=\"\",\"\",INDEX(REFERENTES!$D$2:$E$18,MATCH(L102,REFERENTES!$E$2:$E$5,0),1))","v":""},null,null,null,null,"",null,null,{"$f":"IF(T102=\"\",\"\",INDEX(REFERENTES!$G:$H,MATCH(T102,REFERENTES!$G:$G,0),2))","v":""},null,null,{"$f":"IF(W102=\"\",\"\",INDEX('OTRAS REFERENTES'!$H$7:$I$18,MATCH(W102,'OTRAS REFERENTES'!$I$7:$I$18,0),1))","v":""}]
[1,"",101,"","",{"$f":"IF(K103<>\"\",CONCATENATE(DIGITADOR!$B$2,$A$2,DIGITADOR!$M$1,A103),\"\")","v":""},null,null,"",null,{"$f":"IF(J103=\"\",\"\",INDEX('OTRAS REFERENTES'!Z:$AA,MATCH(J103,'OTRAS REFERENTES'!$Z:$Z,0),2))","v":""},null,{"$f":"IF(L103=\"\",\"\",INDEX(REFERENTES!$D$2:$E$18,MATCH(L103,REFERENTES!$E$2:$E$5,0),1))","v":""},null,null,null,null,"",null,null,{"$f":"IF(T103=\"\",\"\",INDEX(REFERENTES!$G:$H,MATCH(T103,REFERENTES!$G:$G,0),2))","v":""},null,null,{"$f":"IF(W103=\"\",\"\",INDEX('OTRAS REFERENTES'!$H$7:$I$18,MATCH(W103,'OTRAS REFERENTES'!$I$7:$I$18,0),1))","v":""}]
[1,"",102,"","",{"$f":"IF(K104<>\"\",CONCATENATE(DIGITADOR!$B$2,$A$2,DIGITADOR!$M$1,A104),\"\")","v":""},null,null,"",null,{"$f":"IF(J104=\"\",\"\",INDEX('OTRAS REFERENTES'!Z:$AA,MATCH(J104,'OTRAS REFERENTES'!$Z:$Z,0),2))","v":""},null,{"$f":"IF(L104=\"\",\"\",INDEX(REFERENTES!$D$2:$E$18,MATCH(L104,REFERENTES!$E$2:$E$5,0),1))","v":""},null,null,null,null,"",null,null,{"$f":"IF(T104=\"\",\"\",INDEX(REFERENTES!$G:$H,MATCH(T104,REFERENTES!$G:$G,0),2))","v":""},null,null,{"$f":"IF(W104=\"\",\"\",INDEX('OTRAS REFERENTES'!$H$7:$I$18,MATCH(W104,'OTRAS REFERENTES'!$I$7:$I$18,0),1))","v":""}]
[1,"",103,"","",{"$f":"IF(K105<>\"\",CONCATENATE(DIGITADOR!$B$2,$A$2,DIGITADOR!$M$1,A105),\"\")","v":""},null,null,"",null,{"$f":"IF(J105=\"\",\"\",INDEX('OTRAS REFERENTES'!Z:$AA,MATCH(J105,'OTRAS REFERENTES'!$Z:$Z,0),2))","v":""},null,{"$f":"IF(L105=\"\",\"\",INDEX(REFERENTES!$D$2:$E$18,MATCH(L105,REFERENTES!$E$2:$E$5,0),1))","v":""},null,null,null,null,"",null,null,{"$f":"IF(T105=\"\",\"\",INDEX(REFERENTES!$G:$H,MATCH(T105,REFERENTES!$G:$G,0),2))","v":""},null,null,{"$f":"IF(W105=\"\",\"\",INDEX('OTRAS REFERENTES'!$H$7:$I$18,MATCH(W105,'OTRAS REFERENTES'!$I$7:$I$18,0),1))","v":""}]
[1,"",104,"","",{"$f":"IF(K106<>\"\",CONCATENATE(DIGITADOR!$B$2,$A$2,DIGITADOR!$M$1,A106),\"\")","v":""},null,null,"",null,{"$f":"IF(J106=\"\",\"\",INDEX('OTRAS REFERENTES'!Z:$AA,MATCH(J106,'OTRAS REFERENTES'!$Z:$Z,0),2))","v":""},null,{"$f":"IF(L106=\"\",\"\",INDEX(REFERENTES!$D$2:$E$18,MATCH(L106,REFERENTES!$E$2:$E$5,0),1))","v":""},null,null,null,null,"",null,null,{"$f":"IF(T106=\"\",\"\",INDEX(REFERENTES!$G:$H,MATCH(T106,REFERENTES!$G:$G,0),2))","v":""},null,null,{"$f":"IF(W106=\"\",\"\",INDEX('OTRAS REFERENTES'!$H$7:$I$18,MATCH(W106,'OTRAS REFERENTES'!$I$7:$I$18,0),1))","v":""}]
[1,"",105,"","",{"$f":"IF(K107<>\"\",CONCATENATE(DIGITADOR!$B$2,$A$2,DIGITADOR!$M$1,A107),\"\")","v":""},null,null,"",null,{"$f":"IF(J107=\"\",\"\",INDEX('OTRAS REFERENTES'!Z:$AA,MATCH(J107,'OTRAS REFERENTES'!$Z:$Z,0),2))","v":""},null,{"$f":"IF(L107=\"\",\"\",INDEX(REFERENTES!$D$2:$E$18,MATCH(L107,REFERENTES!$E$2:$E$5,0),1))","v":""},null,null,null,null,"",null,null,{"$f":"IF(T107=\"\",\"\",INDEX(REFERENTES!$G:$H,MATCH(T107,REFERENTES!$G:$G,0),2))","v":""},null,null,{"$f":"IF(W107=\"\",\"\",INDEX('OTRAS REFERENTES'!$H$7:$I$18,MATCH(W107,'OTRAS REFERENTES'!$I$7:$I$18,0),1))","v":""}]
[1,"",106,"","",{"$f":"IF(K108<>\"\",CONCATENATE(DIGITADOR!$B$2,$A$2,DIGITADOR!$M$1,A108),\"\")","v":""},null,null,"",null,{"$f":"IF(J108=\"\",\"\",INDEX('OTRAS REFERENTES'!Z:$AA,MATCH(J108,'OTRAS REFERENTES'!$Z:$Z,0),2))","v":""},null,{"$f":"IF(L108=\"\",\"\",INDEX(REFERENTES!$D$2:$E$18,MATCH(L108,REFERENTES!$E$2:$E$5,0),1))","v":""},null,null,null,null,"",null,null,{"$f":"IF(T108=\"\",\"\",INDEX(REFERENTES!$G:$H,MATCH(T108,REFERENTES!$G:$G,0),2))","v":""},null,null,{"$f":"IF(W108=\"\",\"\",INDEX('OTRAS REFERENTES'!$H$7:$I$18,MATCH(W108,'OTRAS REFERENTES'!$I$7:$I$18,0),1))","v":""}]
[1,"",107,"","",{"$f":"IF(K109<>\"\",CONCATENATE(DIGITADOR!$B$2,$A$2,DIGITADOR!$M$1,A109),\"\")","v":""},null,null,"",null,{"$f":"IF(J109=\"\",\"\",INDEX('OTRAS REFERENTES'!Z:$AA,MATCH(J109,'OTRAS REFERENTES'!$Z:$Z,0),2))","v":""},null,{"$f":"IF(L109=\"\",\"\",INDEX(REFERENTES!$D$2:$E$18,MATCH(L109,REFERENTES!$E$2:$E$5,0),1))","v":""},null,null,null,null,"",null,null,{"$f":"IF(T109=\"\",\"\",INDEX(REFERENTES!$G:$H,MATCH(T109,REFERENTES!$G:$G,0),2))","v":""},null,null,{"$f":"IF(W109=\"\",\"\",INDEX('OTRAS REFERENTES'!$H$7:$I$18,MATCH(W109,'OTRAS REFERENTES'!$I$7:$I$18,0),1))","v":""}]
[1,"",108,"","",{"$f":"IF(K110<>\"\",CONCATENATE(DIGITADOR!$B$2,$A$2,DIGITADOR!$M$1,A110),\"\")","v":""},null,null,"",null,{"$f":"IF(J110=\"\",\"\",INDEX('OTRAS REFERENTES'!Z:$AA,MATCH(J110,'OTRAS REFERENTES'!$Z:$Z,0),2))","v":""},null,{"$f":"IF(L110=\"\",\"\",INDEX(REFERENTES!$D$2:$E$18,MATCH(L110,REFERENTES!$E$2:$E$5,0),1))","v":""},null,null,null,null,"",null,null,{"$f":"IF(T110=\"\",\"\",INDEX(REFERENTES!$G:$H,MATCH(T110,REFERENTES!$G:$G,0),2))","v":""},null,null,{"$f":"IF(W110=\"\",\"\",INDEX('OTRAS REFERENTES'!$H$7:$I$18,MATCH(W110,'OTRAS REFERENTES'!$I$7:$I$18,0),1))","v":""}]
[1,"",109,"","",{"$f":"IF(K111<>\"\",CONCATENATE(DIGITADOR!$B$2,$A$2,DIGITADOR!$M$1,A111),\"\")","v":""},null,null,"",null,{"$f":"IF(J111=\"\",\"\",INDEX('OTRAS REFERENTES'!Z:$AA,MATCH(J111,'OTRAS REFERENTES'!$Z:$Z,0),2))","v":""},null,{"$f":"IF(L111=\"\",\"\",INDEX(REFERENTES!$D$2:$E$18,MATCH(L111,REFERENTES!$E$2:$E$5,0),1))","v":""},null,null,null,null,"",null,null,{"$f":"IF(T111=\"\",\"\",INDEX(REFERENTES!$G:$H,MATCH(T111,REFERENTES!$G:$G,0),2))","v":""},null,null,{"$f":"IF(W111=\"\",\"\",INDEX('OTRAS REFERENTES'!$H$7:$I$18,MATCH(W111,'OTRAS REFERENTES'!$I$7:$I$18,0),1))","v":""}]
[1,"",110,"","",{"$f":"IF(K112<>\"\",CONCATENATE(DIGITADOR!$B$2,$A$2,DIGITADOR!$M$1,A112),\"\")","v":""},null,null,"",null,{"$f":"IF(J112=\"\",\"\",INDEX('OTRAS REFERENTES'!Z:$AA,MATCH(J112,'OTRAS REFERENTES'!$Z:$Z,0),2))","v":""},null,{"$f":"IF(L112=\"\",\"\",INDEX(REFERENTES!$D$2:$E$18,MATCH(L112,REFERENTES!$E$2:$E$5,0),1))","v":""},null,null,null,null,"",null,null,{"$f":"IF(T112=\"\",\"\",INDEX(REFERENTES!$G:$H,MATCH(T112,REFERENTES!$G:$G,0),2))","v":""},null,null,{"$f":"IF(W112=\"\",\"\",INDEX('OTRAS REFERENTES'!$H$7:$I$18,MATCH(W112,'OTRAS REFERENTES'!$I$7:$I$18,0),1))","v":""}]
[1,"",111,"","",{"$f":"IF(K113<>\"\",CONCATENATE(DIGITADOR!$B$2,$A$2,DIGITADOR!$M$1,A113),\"\")","v":""},null,null,"",null,{"$f":"IF(J113=\"\",\"\",INDEX('OTRAS REFERENTES'!Z:$AA,MATCH(J113,'OTRAS REFERENTES'!$Z:$Z,0),2))","v":""},null,{"$f":"IF(L113=\"\",\"\",INDEX(REFERENTES!$D$2:$E$18,MATCH(L113,REFERENTES!$E$2:$E$5,0),1))","v":""},null,null,null,null,"",null,null,{"$f":"IF(T113=\"\",\"\",INDEX(REFERENTES!$G:$H,MATCH(T113,REFERENTES!$G:$G,0),2))","v":""},null,null,{"$f":"IF(W113=\"\",\"\",INDEX('OTRAS REFERENTES'!$H$7:$I$18,MATCH(W113,'OTRAS REFERENTES'!$I$7:$I$18,0),1))","v":""}]
[1,"",112,"","",{"$f":"IF(K114<>\"\",CONCATENATE(DIGITADOR!$B$2,$A$2,DIGITADOR!$M$1,A114),\"\")","v":""},null,null,"",null,{"$f":"IF(J114=\"\",\"\",INDEX('OTRAS REFERENTES'!Z:$AA,MATCH(J114,'OTRAS REFERENTES'!$Z:$Z,0),2))","v":""},null,{"$f":"IF(L114=\"\",\"\",INDEX(REFERENTES!$D$2:$E$18,MATCH(L114,REFERENTES!$E$2:$E$5,0),1))","v":""},null,null,null,null,"",null,null,{"$f":"IF(T114=\"\",\"\",INDEX(REFERENTES!$G:$H,MATCH(T114,REFERENTES!$G:$G,0),2))","v":""},null,null,{"$f":"IF(W114=\"\",\"\",INDEX('OTRAS REFERENTES'!$H$7:$I$18,MATCH(W114,'OTRAS REFERENTES'!$I$7:$I$18,0),1))","v":""}]
[1,"",113,"","",{"$f":"IF(K115<>\"\",CONCATENATE(DIGITADOR!$B$2,$A$2,DIGITADOR!$M$1,A115),\"\")","v":""},null,null,"",null,{"$f":"IF(J115=\"\",\"\",INDEX('OTRAS REFERENTES'!Z:$AA,MATCH(J115,'OTRAS REFERENTES'!$Z:$Z,0),2))","v":""},null,{"$f":"IF(L115=\"\",\"\",INDEX(REFERENTES!$D$2:$E$18,MATCH(L115,REFERENTES!$E$2:$E$5,0),1))","v":""},null,null,null,null,"",null,null,{"$f":"IF(T115=\"\",\"\",INDEX(REFERENTES!$G:$H,MATCH(T115,REFERENTES!$G:$G,0),2))","v":""},null,null,{"$f":"IF(W115=\"\",\"\",INDEX('OTRAS REFERENTES'!$H$7:$I$18,MATCH(W115,'OTRAS REFERENTES'!$I$7:$I$18,0),1))","v":""}]
[1,"",114,"","",{"$f":"IF(K116<>\"\",CONCATENATE(DIGITADOR!$B$2,$A$2,DIGITADOR!$M$1,A116),\"\")","v":""},null,null,"",null,{"$f":"IF(J116=\"\",\"\",INDEX('OTRAS REFERENTES'!Z:$AA,MATCH(J116,'OTRAS REFERENTES'!$Z:$Z,0),2))","v":""},null,{"$f":"IF(L116=\"\",\"\",INDEX(REFERENTES!$D$2:$E$18,MATCH(L116,REFERENTES!$E$2:$E$5,0),1))","v":""},null,null,null,null,"",null,null,{"$f":"IF(T116=\"\",\"\",INDEX(REFERENTES!$G:$H,MATCH(T116,REFERENTES!$G:$G,0),2))","v":""},null,null,{"$f":"IF(W116=\"\",\"\",INDEX('OTRAS REFERENTES'!$H$7:$I$18,MATCH(W116,'OTRAS REFERENTES'!$I$7:$I$18,0),1))","v":""}]
[1,"",115,"","",{"$f":"IF(K117<>\"\",CONCATENATE(DIGITADOR!$B$2,$A$2,DIGITADOR!$M$1,A117),\"\")","v":""},null,null,"",null,{"$f":"IF(J117=\"\",\"\",INDEX('OTRAS REFERENTES'!Z:$AA,MATCH(J117,'OTRAS REFERENTES'!$Z:$Z,0),2))","v":""},null,{"$f":"IF(L117=\"\",\"\",INDEX(REFERENTES!$D$2:$E$18,MATCH(L117,REFERENTES!$E$2:$E$5,0),1))","v":""},null,null,null,null,"",null,null,{"$f":"IF(T117=\"\",\"\",INDEX(REFERENTES!$G:$H,MATCH(T117,REFERENTES!$G:$G,0),2))","v":""},null,null,{"$f":"IF(W117=\"\",\"\",INDEX('OTRAS REFERENTES'!$H$7:$I$18,MATCH(W117,'OTRAS REFERENTES'!$I$7:$I$18,0),1))","v":""}]
[1,"",116,"","",{"$f":"IF(K118<>\"\",CONCATENATE(DIGITADOR!$B$2,$A$2,DIGITADOR!$M$1,A118),\"\")","v":""},null,null,"",null,{"$f":"IF(J118=\"\",\"\",INDEX('OTRAS REFERENTES'!Z:$AA,MATCH(J118,'OTRAS REFERENTES'!$Z:$Z,0),2))","v":""},null,{"$f":"IF(L118=\"\",\"\",INDEX(REFERENTES!$D$2:$E$18,MATCH(L118,REFERENTES!$E$2:$E$5,0),1))","v":""},null,null,null,null,"",null,null,{"$f":"IF(T118=\"\",\"\",INDEX(REFERENTES!$G:$H,MATCH(T118,REFERENTES!$G:$G,0),2))","v":""},null,null,{"$f":"IF(W118=\"\",\"\",INDEX('OTRAS REFERENTES'!$H$7:$I$18,MATCH(W118,'OTRAS REFERENTES'!$I$7:$I$18,0),1))","v":""}]
[1,"",117,"","",{"$f":"IF(K119<>\"\",CONCATENATE(DIGITADOR!$B$2,$A$2,DIGITADOR!$M$1,A119),\"\")","v":""},null,null,"",null,{"$f":"IF(J119=\"\",\"\",INDEX('OTRAS REFERENTES'!Z:$AA,MATCH(J119,'OTRAS REFERENTES'!$Z:$Z,0),2))","v":""},null,{"$f":"IF(L119=\"\",\"\",INDEX(REFERENTES!$D$2:$E$18,MATCH(L119,REFERENTES!$E$2:$E$5,0),1))","v":""},null,null,null,null,"",null,null,{"$f":"IF(T119=\"\",\"\",INDEX(REFERENTES!$G:$H,MATCH(T119,REFERENTES!$G:$G,0),2))","v":""},null,null,{"$f":"IF(W119=\"\",\"\",INDEX('OTRAS REFERENTES'!$H$7:$I$18,MATCH(W119,'OTRAS REFERENTES'!$I$7:$I$18,0),1))","v":""}]
[1,"",118,"","",{"$f":"IF(K120<>\"\",CONCATENATE(DIGITADOR!$B$2,$A$2,DIGITADOR!$M$1,A120),\"\")","v":""},null,null,"",null,{"$f":"IF(J120=\"\",\"\",INDEX('OTRAS REFERENTES'!Z:$AA,MATCH(J120,'OTRAS REFERENTES'!$Z:$Z,0),2))","v":""},null,{"$f":"IF(L120=\"\",\"\",INDEX(REFERENTES!$D$2:$E$18,MATCH(L120,REFERENTES!$E$2:$E$5,0),1))","v":""},null,null,null,null,"",null,null,{"$f":"IF(T120=\"\",\"\",INDEX(REFERENTES!$G:$H,MATCH(T120,REFERENTES!$G:$G,0),2))","v":""},null,null,{"$f":"IF(W120=\"\",\"\",INDEX('OTRAS REFERENTES'!$H$7:$I$18,MATCH(W120,'OTRAS REFERENTES'!$I$7:$I$18,0),1))","v":""}]
[1,"",119,"","",{"$f":"IF(K121<>\"\",CONCATENATE(DIGITADOR!$B$2,$A$2,DIGITADOR!$M$1,A121),\"\")","v":""},null,null,"",null,{"$f":"IF(J121=\"\",\"\",INDEX('OTRAS REFERENTES'!Z:$AA,MATCH(J121,'OTRAS REFERENTES'!$Z:$Z,0),2))","v":""},null,{"$f":"IF(L121=\"\",\"\",INDEX(REFERENTES!$D$2:$E$18,MATCH(L121,REFERENTES!$E$2:$E$5,0),1))","v":""},null,null,null,null,"",null,null,{"$f":"IF(T121=\"\",\"\",INDEX(REFERENTES!$G:$H,MATCH(T121,REFERENTES!$G:$G,0),2))","v":""},null,null,{"$f":"IF(W121=\"\",\"\",INDEX('OTRAS REFERENTES'!$H$7:$I$18,MATCH(W121,'OTRAS REFERENTES'!$I$7:$I$18,0),1))","v":""}]
[1,"",120,"","",{"$f":"IF(K122<>\"\",CONCATENATE(DIGITADOR!$B$2,$A$2,DIGITADOR!$M$1,A122),\"\")","v":""},null,null,"",null,{"$f":"IF(J122=\"\",\"\",INDEX('OTRAS REFERENTES'!Z:$AA,MATCH(J122,'OTRAS REFERENTES'!$Z:$Z,0),2))","v":""},null,{"$f":"IF(L122=\"\",\"\",INDEX(REFERENTES!$D$2:$E$18,MATCH(L122,REFERENTES!$E$2:$E$5,0),1))","v":""},null,null,null,null,"",null,null,{"$f":"IF(T122=\"\",\"\",INDEX(REFERENTES!$G:$H,MATCH(T122,REFERENTES!$G:$G,0),2))","v":""},null,null,{"$f":"IF(W122=\"\",\"\",INDEX('OTRAS REFERENTES'!$H$7:$I$18,MATCH(W122,'OTRAS REFERENTES'!$I$7:$I$18,0),1))","v":""}]
[1,"",121,"","",{"$f":"IF(K123<>\"\",CONCATENATE(DIGITADOR!$B$2,$A$2,DIGITADOR!$M$1,A123),\"\")","v":""},null,null,"",null,{"$f":"IF(J123=\"\",\"\",INDEX('OTRAS REFERENTES'!Z:$AA,MATCH(J123,'OTRAS REFERENTES'!$Z:$Z,0),2))","v":""},null,{"$f":"IF(L123=\"\",\"\",INDEX(REFERENTES!$D$2:$E$18,MATCH(L123,REFERENTES!$E$2:$E$5,0),1))","v":""},null,null,null,null,"",null,null,{"$f":"IF(T123=\"\",\"\",INDEX(REFERENTES!$G:$H,MATCH(T123,REFERENTES!$G:$G,0),2))","v":""},null,null,{"$f":"IF(W123=\"\",\"\",INDEX('OTRAS REFERENTES'!$H$7:$I$18,MATCH(W123,'OTRAS REFERENTES'!$I$7:$I$18,0),1))","v":""}]
[1,"",122,"","",{"$f":"IF(K124<>\"\",CONCATENATE(DIGITADOR!$B$2,$A$2,DIGITADOR!$M$1,A124),\"\")","v":""},null,null,"",null,{"$f":"IF(J124=\"\",\"\",INDEX('OTRAS REFERENTES'!Z:$AA,MATCH(J124,'OTRAS REFERENTES'!$Z:$Z,0),2))","v":""},null,{"$f":"IF(L124=\"\",\"\",INDEX(REFERENTES!$D$2:$E$18,MATCH(L124,REFERENTES!$E$2:$E$5,0),1))","v":""},null,null,null,null,"",null,null,{"$f":"IF(T124=\"\",\"\",INDEX(REFERENTES!$G:$H,MATCH(T124,REFERENTES!$G:$G,0),2))","v":""},null,null,{"$f":"IF(W124=\"\",\"\",INDEX('OTRAS REFERENTES'!$H$7:$I$18,MATCH(W124,'OTRAS REFERENTES'!$I$7:$I$18,0),1))","v":""}]
[1,"",123,"","",{"$f":"IF(K125<>\"\",CONCATENATE(DIGITADOR!$B$2,$A$2,DIGITADOR!$M$1,A125),\"\")","v":""},null,null,"",null,{"$f":"IF(J125=\"\",\"\",INDEX('OTRAS REFERENTES'!Z:$AA,MATCH(J125,'OTRAS REFERENTES'!$Z:$Z,0),2))","v":""},null,{"$f":"IF(L125=\"\",\"\",INDEX(REFERENTES!$D$2:$E$18,MATCH(L125,REFERENTES!$E$2:$E$5,0),1))","v":""},null,null,null,null,"",null,null,{"$f":"IF(T125=\"\",\"\",INDEX(REFERENTES!$G:$H,MATCH(T125,REFERENTES!$G:$G,0),2))","v":""},null,null,{"$f":"IF(W125=\"\",\"\",INDEX('OTRAS REFERENTES'!$H$7:$I$18,MATCH(W125,'OTRAS REFERENTES'!$I$7:$I$18,0),1))","v":""}]
[1,"",124,"","",{"$f":"IF(K126<>\"\",CONCATENATE(DIGITADOR!$B$2,$A$2,DIGITADOR!$M$1,A126),\"\")","v":""},null,null,"",null,{"$f":"IF(J126=\"\",\"\",INDEX('OTRAS REFERENTES'!Z:$AA,MATCH(J126,'OTRAS REFERENTES'!$Z:$Z,0),2))","v":""},null,{"$f":"IF(L126=\"\",\"\",INDEX(REFERENTES!$D$2:$E$18,MATCH(L126,REFERENTES!$E$2:$E$5,0),1))","v":""},null,null,null,null,"",null,null,{"$f":"IF(T126=\"\",\"\",INDEX(REFERENTES!$G:$H,MATCH(T126,REFERENTES!$G:$G,0),2))","v":""},null,null,{"$f":"IF(W126=\"\",\"\",INDEX('OTRAS REFERENTES'!$H$7:$I$18,MATCH(W126,'OTRAS REFERENTES'!$I$7:$I$18,0),1))","v":""}]
[1,"",125,"","",{"$f":"IF(K127<>\"\",CONCATENATE(DIGITADOR!$B$2,$A$2,DIGITADOR!$M$1,A127),\"\")","v":""},null,null,"",null,{"$f":"IF(J127=\"\",\"\",INDEX('OTRAS REFERENTES'!Z:$AA,MATCH(J127,'OTRAS REFERENTES'!$Z:$Z,0),2))","v":""},null,{"$f":"IF(L127=\"\",\"\",INDEX(REFERENTES!$D$2:$E$18,MATCH(L127,REFERENTES!$E$2:$E$5,0),1))","v":""},null,null,null,null,"",null,null,{"$f":"IF(T127=\"\",\"\",INDEX(REFERENTES!$G:$H,MATCH(T127,REFERENTES!$G:$G,0),2))","v":""},null,null,{"$f":"IF(W127=\"\",\"\",INDEX('OTRAS REFERENTES'!$H$7:$I$18,MATCH(W127,'OTRAS REFERENTES'!$I$7:$I$18,0),1))","v":""}]
[1,"",126,"","",{"$f":"IF(K128<>\"\",CONCATENATE(DIGITADOR!$B$2,$A$2,DIGITADOR!$M$1,A128),\"\")","v":""},null,null,"",null,{"$f":"IF(J128=\"\",\"\",INDEX('OTRAS REFERENTES'!Z:$AA,MATCH(J128,'OTRAS REFERENTES'!$Z:$Z,0),2))","v":""},null,{"$f":"IF(L128=\"\",\"\",INDEX(REFERENTES!$D$2:$E$18,MATCH(L128,REFERENTES!$E$2:$E$5,0),1))","v":""},null,null,null,null,"",null,null,{"$f":"IF(T128=\"\",\"\",INDEX(REFERENTES!$G:$H,MATCH(T128,REFERENTES!$G:$G,0),2))","v":""},null,null,{"$f":"IF(W128=\"\",\"\",INDEX('OTRAS REFERENTES'!$H$7:$I$18,MATCH(W128,'OTRAS REFERENTES'!$I$7:$I$18,0),1))","v":""}]
[1,"",127,"","",{"$f":"IF(K129<>\"\",CONCATENATE(DIGITADOR!$B$2,$A$2,DIGITADOR!$M$1,A129),\"\")","v":""},null,null,"",null,{"$f":"IF(J129=\"\",\"\",INDEX('OTRAS REFERENTES'!Z:$AA,MATCH(J129,'OTRAS REFERENTES'!$Z:$Z,0),2))","v":""},null,{"$f":"IF(L129=\"\",\"\",INDEX(REFERENTES!$D$2:$E$18,MATCH(L129,REFERENTES!$E$2:$E$5,0),1))","v":""},null,null,null,null,"",null,null,{"$f":"IF(T129=\"\",\"\",INDEX(REFERENTES!$G:$H,MATCH(T129,REFERENTES!$G:$G,0),2))","v":""},null,null,{"$f":"IF(W129=\"\",\"\",INDEX('OTRAS REFERENTES'!$H$7:$I$18,MATCH(W129,'OTRAS REFERENTES'!$I$7:$I$18,0),1))","v":""}]
[1,"",128,"","",{"$f":"IF(K130<>\"\",CONCATENATE(DIGITADOR!$B$2,$A$2,DIGITADOR!$M$1,A130),\"\")","v":""},null,null,"",null,{"$f":"IF(J130=\"\",\"\",INDEX('OTRAS REFERENTES'!Z:$AA,MATCH(J130,'OTRAS REFERENTES'!$Z:$Z,0),2))","v":""},null,{"$f":"IF(L130=\"\",\"\",INDEX(REFERENTES!$D$2:$E$18,MATCH(L130,REFERENTES!$E$2:$E$5,0),1))","v":""},null,null,null,null,"",null,null,{"$f":"IF(T130=\"\",\"\",INDEX(REFERENTES!$G:$H,MATCH(T130,REFERENTES!$G:$G,0),2))","v":""},null,null,{"$f":"IF(W130=\"\",\"\",INDEX('OTRAS REFERENTES'!$H$7:$I$18,MATCH(W130,'OTRAS REFERENTES'!$I$7:$I$18,0),1))","v":""}]
[1,"",129,{"$f":"IF(G131=\"\",\"\",CONCATENATE(C131,F131))","v":""},"",{"$f":"IF(K131<>\"\",CONCATENATE(DIGITADOR!$B$2,$A$2,DIGITADOR!$M$1,A131),\"\")","v":""},null,null,{"$f":"IF(G131<>\"\",G131+H131,\"\")","v":""},null,{"$f":"IF(J131=\"\",\"\",INDEX('OTRAS REFERENTES'!Z:$AA,MATCH(J131,'OTRAS REFERENTES'!$Z:$Z,0),2))","v":""},null,{"$f":"IF(L131=\"\",\"\",INDEX(REFERENTES!$D$2:$E$18,MATCH(L131,REFERENTES!$E$2:$E$5,0),1))","v":""},null,null,null,null,{"$f":"SUBSTITUTE(IF(AND(P131<>\"\",Q131<>\"\"),CONCATENATE(\"POINT \",\"(\",P131,\" \",Q131,\")\"),\"\"),\".\",\",\")","v":""},null,null,{"$f":"IF(T131=\"\",\"\",INDEX(REFERENTES!$G:$H,MATCH(T131,REFERENTES!$G:$G,0),2))","v":""},null,null,{"$f":"IF(W131=\"\",\"\",INDEX('OTRAS REFERENTES'!$H$7:$I$18,MATCH(W131,'OTRAS REFERENTES'!$I$7:$I$18,0),1))","v":""}]
[{"$f":"IF(E132=E131,A131,A131+1)","v":1},"",130,"",{"$f":"CONCATENATE(I132,K132)","v":""},{"$f":"IF(K132<>\"\",CONCATENATE(DIGITADOR!$B$2,$A$2,DIGITADOR!$M$1,A132),\"\")","v":""},null,null,"",null,{"$f":"IF(J132=\"\",\"\",INDEX('OTRAS REFERENTES'!Z:$AA,MATCH(J132,'OTRAS REFERENTES'!$Z:$Z,0),2))","v":""},null,{"$f":"IF(L132=\"\",\"\",INDEX(REFERENTES!$D$2:$E$18,MATCH(L132,REFERENTES!$E$2:$E$5,0),1))","v":""},null,null,null,null,"",null,null,{"$f":"IF(T132=\"\",\"\",INDEX(REFERENTES!$G:$H,MATCH(T132,REFERENTES!$G:$G,0),2))","v":""},null,null,{"$f":"IF(W132=\"\",\"\",INDEX('OTRAS REFERENTES'!$H$7:$I$18,MATCH(W132,'OTRAS REFERENTES'!$I$7:$I$18,0),1))","v":""}]
[1,{"$f":"IF(F133<>F132, F133,\"\")","v":""},131,"","",{"$f":"IF(K133<>\"\",CONCATENATE(DIGITADOR!$B$2,$A$2,DIGITADOR!$M$1,A133),\"\")","v":""},null,null,"",null,{"$f":"IF(J133=\"\",\"\",INDEX('OTRAS REFERENTES'!Z:$AA,MATCH(J133,'OTRAS REFERENTES'!$Z:$Z,0),2))","v":""},null,{"$f":"IF(L133=\"\",\"\",INDEX(REFERENTES!$D$2:$E$18,MATCH(L133,REFERENTES!$E$2:$E$5,0),1))","v":""},null,null,null,null,"",null,null,{"$f":"IF(T133=\"\",\"\",INDEX(REFERENTES!$G:$H,MATCH(T133,REFERENTES!$G:$G,0),2))","v":""},null,null,{"$f":"IF(W133=\"\",\"\",INDEX('OTRAS REFERENTES'!$H$7:$I$18,MATCH(W133,'OTRAS REFERENTES'!$I$7:$I$18,0),1))","v":""}]
[1,"",132,"","",{"$f":"IF(K134<>\"\",CONCATENATE(DIGITADOR!$B$2,$A$2,DIGITADOR!$M$1,A134),\"\")","v":""},null,null,"",null,{"$f":"IF(J134=\"\",\"\",INDEX('OTRAS REFERENTES'!Z:$AA,MATCH(J134,'OTRAS REFERENTES'!$Z:$Z,0),2))","v":""},null,{"$f":"IF(L134=\"\",\"\",INDEX(REFERENTES!$D$2:$E$18,MATCH(L134,REFERENTES!$E$2:$E$5,0),1))","v":""},null,null,null,null,"",null,null,{"$f":"IF(T134=\"\",\"\",INDEX(REFERENTES!$G:$H,MATCH(T134,REFERENTES!$G:$G,0),2))","v":""},null,null,{"$f":"IF(W134=\"\",\"\",INDEX('OTRAS REFERENTES'!$H$7:$I$18,MATCH(W134,'OTRAS REFERENTES'!$I$7:$I$18,0),1))","v":""}]
[1,"",133,"","",{"$f":"IF(K135<>\"\",CONCATENATE(DIGITADOR!$B$2,$A$2,DIGITADOR!$M$1,A135),\"\")","v":""},null,null,"",null,{"$f":"IF(J135=\"\",\"\",INDEX('OTRAS REFERENTES'!Z:$AA,MATCH(J135,'OTRAS REFERENTES'!$Z:$Z,0),2))","v":""},null,{"$f":"IF(L135=\"\",\"\",INDEX(REFERENTES!$D$2:$E$18,MATCH(L135,REFERENTES!$E$2:$E$5,0),1))","v":""},null,null,null,null,"",null,null,{"$f":"IF(T135=\"\",\"\",INDEX(REFERENTES!$G:$H,MATCH(T135,REFERENTES!$G:$G,0),2))","v":""},null,null,{"$f":"IF(W135=\"\",\"\",INDEX('OTRAS REFERENTES'!$H$7:$I$18,MATCH(W135,'OTRAS REFERENTES'!$I$7:$I$18,0),1))","v":""}]
[1,"",134,"","",{"$f":"IF(K136<>\"\",CONCATENATE(DIGITADOR!$B$2,$A$2,DIGITADOR!$M$1,A136),\"\")","v":""},null,null,"",null,{"$f":"IF(J136=\"\",\"\",INDEX('OTRAS REFERENTES'!Z:$AA,MATCH(J136,'OTRAS REFERENTES'!$Z:$Z,0),2))","v":""},null,{"$f":"IF(L136=\"\",\"\",INDEX(REFERENTES!$D$2:$E$18,MATCH(L136,REFERENTES!$E$2:$E$5,0),1))","v":""},null,null,null,null,"",null,null,{"$f":"IF(T136=\"\",\"\",INDEX(REFERENTES!$G:$H,MATCH(T136,REFERENTES!$G:$G,0),2))","v":""},null,null,{"$f":"IF(W136=\"\",\"\",INDEX('OTRAS REFERENTES'!$H$7:$I$18,MATCH(W136,'OTRAS REFERENTES'!$I$7:$I$18,0),1))","v":""}]
[1,"",135,"","",{"$f":"IF(K137<>\"\",CONCATENATE(DIGITADOR!$B$2,$A$2,DIGITADOR!$M$1,A137),\"\")","v":""},null,null,"",null,{"$f":"IF(J137=\"\",\"\",INDEX('OTRAS REFERENTES'!Z:$AA,MATCH(J137,'OTRAS REFERENTES'!$Z:$Z,0),2))","v":""},null,{"$f":"IF(L137=\"\",\"\",INDEX(REFERENTES!$D$2:$E$18,MATCH(L137,REFERENTES!$E$2:$E$5,0),1))","v":""},null,null,null,null,"",null,null,{"$f":"IF(T137=\"\",\"\",INDEX(REFERENTES!$G:$H,MATCH(T137,REFERENTES!$G:$G,0),2))","v":""},null,null,{"$f":"IF(W137=\"\",\"\",INDEX('OTRAS REFERENTES'!$H$7:$I$18,MATCH(W137,'OTRAS REFERENTES'!$I$7:$I$18,0),1))","v":""}]
[1,"",136,"","",{"$f":"IF(K138<>\"\",CONCATENATE(DIGITADOR!$B$2,$A$2,DIGITADOR!$M$1,A138),\"\")","v":""},null,null,"",null,{"$f":"IF(J138=\"\",\"\",INDEX('OTRAS REFERENTES'!Z:$AA,MATCH(J138,'OTRAS REFERENTES'!$Z:$Z,0),2))","v":""},null,{"$f":"IF(L138=\"\",\"\",INDEX(REFERENTES!$D$2:$E$18,MATCH(L138,REFERENTES!$E$2:$E$5,0),1))","v":""},null,null,null,null,"",null,null,{"$f":"IF(T138=\"\",\"\",INDEX(REFERENTES!$G:$H,MATCH(T138,REFERENTES!$G:$G,0),2))","v":""},null,null,{"$f":"IF(W138=\"\",\"\",INDEX('OTRAS REFERENTES'!$H$7:$I$18,MATCH(W138,'OTRAS REFERENTES'!$I$7:$I$18,0),1))","v":""}]
[1,"",137,"","",{"$f":"IF(K139<>\"\",CONCATENATE(DIGITADOR!$B$2,$A$2,DIGITADOR!$M$1,A139),\"\")","v":""},null,null,"",null,{"$f":"IF(J139=\"\",\"\",INDEX('OTRAS REFERENTES'!Z:$AA,MATCH(J139,'OTRAS REFERENTES'!$Z:$Z,0),2))","v":""},null,{"$f":"IF(L139=\"\",\"\",INDEX(REFERENTES!$D$2:$E$18,MATCH(L139,REFERENTES!$E$2:$E$5,0),1))","v":""},null,null,null,null,"",null,null,{"$f":"IF(T139=\"\",\"\",INDEX(REFERENTES!$G:$H,MATCH(T139,REFERENTES!$G:$G,0),2))","v":""},null,null,{"$f":"IF(W139=\"\",\"\",INDEX('OTRAS REFERENTES'!$H$7:$I$18,MATCH(W139,'OTRAS REFERENTES'!$I$7:$I$18,0),1))","v":""}]
[1,"",138,"","",{"$f":"IF(K140<>\"\",CONCATENATE(DIGITADOR!$B$2,$A$2,DIGITADOR!$M$1,A140),\"\")","v":""},null,null,"",null,{"$f":"IF(J140=\"\",\"\",INDEX('OTRAS REFERENTES'!Z:$AA,MATCH(J140,'OTRAS REFERENTES'!$Z:$Z,0),2))","v":""},null,{"$f":"IF(L140=\"\",\"\",INDEX(REFERENTES!$D$2:$E$18,MATCH(L140,REFERENTES!$E$2:$E$5,0),1))","v":""},null,null,null,null,"",null,null,{"$f":"IF(T140=\"\",\"\",INDEX(REFERENTES!$G:$H,MATCH(T140,REFERENTES!$G:$G,0),2))","v":""},null,null,{"$f":"IF(W140=\"\",\"\",INDEX('OTRAS REFERENTES'!$H$7:$I$18,MATCH(W140,'OTRAS REFERENTES'!$I$7:$I$18,0),1))","v":""}]
[1,"",139,"","",{"$f":"IF(K141<>\"\",CONCATENATE(DIGITADOR!$B$2,$A$2,DIGITADOR!$M$1,A141),\"\")","v":""},null,null,"",null,{"$f":"IF(J141=\"\",\"\",INDEX('OTRAS REFERENTES'!Z:$AA,MATCH(J141,'OTRAS REFERENTES'!$Z:$Z,0),2))","v":""},null,{"$f":"IF(L141=\"\",\"\",INDEX(REFERENTES!$D$2:$E$18,MATCH(L141,REFERENTES!$E$2:$E$5,0),1))","v":""},null,null,null,null,"",null,null,{"$f":"IF(T141=\"\",\"\",INDEX(REFERENTES!$G:$H,MATCH(T141,REFERENTES!$G:$G,0),2))","v":""},null,null,{"$f":"IF(W141=\"\",\"\",INDEX('OTRAS REFERENTES'!$H$7:$I$18,MATCH(W141,'OTRAS REFERENTES'!$I$7:$I$18,0),1))","v":""}]
[1,"",140,"","",{"$f":"IF(K142<>\"\",CONCATENATE(DIGITADOR!$B$2,$A$2,DIGITADOR!$M$1,A142),\"\")","v":""},null,null,"",null,{"$f":"IF(J142=\"\",\"\",INDEX('OTRAS REFERENTES'!Z:$AA,MATCH(J142,'OTRAS REFERENTES'!$Z:$Z,0),2))","v":""},null,{"$f":"IF(L142=\"\",\"\",INDEX(REFERENTES!$D$2:$E$18,MATCH(L142,REFERENTES!$E$2:$E$5,0),1))","v":""},null,null,null,null,"",null,null,{"$f":"IF(T142=\"\",\"\",INDEX(REFERENTES!$G:$H,MATCH(T142,REFERENTES!$G:$G,0),2))","v":""},null,null,{"$f":"IF(W142=\"\",\"\",INDEX('OTRAS REFERENTES'!$H$7:$I$18,MATCH(W142,'OTRAS REFERENTES'!$I$7:$I$18,0),1))","v":""}]
[1,"",141,"","",{"$f":"IF(K143<>\"\",CONCATENATE(DIGITADOR!$B$2,$A$2,DIGITADOR!$M$1,A143),\"\")","v":""},null,null,"",null,{"$f":"IF(J143=\"\",\"\",INDEX('OTRAS REFERENTES'!Z:$AA,MATCH(J143,'OTRAS REFERENTES'!$Z:$Z,0),2))","v":""},null,{"$f":"IF(L143=\"\",\"\",INDEX(REFERENTES!$D$2:$E$18,MATCH(L143,REFERENTES!$E$2:$E$5,0),1))","v":""},null,null,null,null,"",null,null,{"$f":"IF(T143=\"\",\"\",INDEX(REFERENTES!$G:$H,MATCH(T143,REFERENTES!$G:$G,0),2))","v":""},null,null,{"$f":"IF(W143=\"\",\"\",INDEX('OTRAS REFERENTES'!$H$7:$I$18,MATCH(W143,'OTRAS REFERENTES'!$I$7:$I$18,0),1))","v":""}]
[1,"",142,"","",{"$f":"IF(K144<>\"\",CONCATENATE(DIGITADOR!$B$2,$A$2,DIGITADOR!$M$1,A144),\"\")","v":""},null,null,"",null,{"$f":"IF(J144=\"\",\"\",INDEX('OTRAS REFERENTES'!Z:$AA,MATCH(J144,'OTRAS REFERENTES'!$Z:$Z,0),2))","v":""},null,{"$f":"IF(L144=\"\",\"\",INDEX(REFERENTES!$D$2:$E$18,MATCH(L144,REFERENTES!$E$2:$E$5,0),1))","v":""},null,null,null,null,"",null,null,{"$f":"IF(T144=\"\",\"\",INDEX(REFERENTES!$G:$H,MATCH(T144,REFERENTES!$G:$G,0),2))","v":""},null,null,{"$f":"IF(W144=\"\",\"\",INDEX('OTRAS REFERENTES'!$H$7:$I$18,MATCH(W144,'OTRAS REFERENTES'!$I$7:$I$18,0),1))","v":""}]
[1,"",143,"","",{"$f":"IF(K145<>\"\",CONCATENATE(DIGITADOR!$B$2,$A$2,DIGITADOR!$M$1,A145),\"\")","v":""},null,null,"",null,{"$f":"IF(J145=\"\",\"\",INDEX('OTRAS REFERENTES'!Z:$AA,MATCH(J145,'OTRAS REFERENTES'!$Z:$Z,0),2))","v":""},null,{"$f":"IF(L145=\"\",\"\",INDEX(REFERENTES!$D$2:$E$18,MATCH(L145,REFERENTES!$E$2:$E$5,0),1))","v":""},null,null,null,null,"",null,null,{"$f":"IF(T145=\"\",\"\",INDEX(REFERENTES!$G:$H,MATCH(T145,REFERENTES!$G:$G,0),2))","v":""},null,null,{"$f":"IF(W145=\"\",\"\",INDEX('OTRAS REFERENTES'!$H$7:$I$18,MATCH(W145,'OTRAS REFERENTES'!$I$7:$I$18,0),1))","v":""}]
[1,"",144,"","",{"$f":"IF(K146<>\"\",CONCATENATE(DIGITADOR!$B$2,$A$2,DIGITADOR!$M$1,A146),\"\")","v":""},null,null,"",null,{"$f":"IF(J146=\"\",\"\",INDEX('OTRAS REFERENTES'!Z:$AA,MATCH(J146,'OTRAS REFERENTES'!$Z:$Z,0),2))","v":""},null,{"$f":"IF(L146=\"\",\"\",INDEX(REFERENTES!$D$2:$E$18,MATCH(L146,REFERENTES!$E$2:$E$5,0),1))","v":""},null,null,null,null,"",null,null,{"$f":"IF(T146=\"\",\"\",INDEX(REFERENTES!$G:$H,MATCH(T146,REFERENTES!$G:$G,0),2))","v":""},null,null,{"$f":"IF(W146=\"\",\"\",INDEX('OTRAS REFERENTES'!$H$7:$I$18,MATCH(W146,'OTRAS REFERENTES'!$I$7:$I$18,0),1))","v":""}]
[1,"",145,"","",{"$f":"IF(K147<>\"\",CONCATENATE(DIGITADOR!$B$2,$A$2,DIGITADOR!$M$1,A147),\"\")","v":""},null,null,"",null,{"$f":"IF(J147=\"\",\"\",INDEX('OTRAS REFERENTES'!Z:$AA,MATCH(J147,'OTRAS REFERENTES'!$Z:$Z,0),2))","v":""},null,{"$f":"IF(L147=\"\",\"\",INDEX(REFERENTES!$D$2:$E$18,MATCH(L147,REFERENTES!$E$2:$E$5,0),1))","v":""},null,null,null,null,"",null,null,{"$f":"IF(T147=\"\",\"\",INDEX(REFERENTES!$G:$H,MATCH(T147,REFERENTES!$G:$G,0),2))","v":""},null,null,{"$f":"IF(W147=\"\",\"\",INDEX('OTRAS REFERENTES'!$H$7:$I$18,MATCH(W147,'OTRAS REFERENTES'!$I$7:$I$18,0),1))","v":""}]
[1,"",146,"","",{"$f":"IF(K148<>\"\",CONCATENATE(DIGITADOR!$B$2,$A$2,DIGITADOR!$M$1,A148),\"\")","v":""},null,null,"",null,{"$f":"IF(J148=\"\",\"\",INDEX('OTRAS REFERENTES'!Z:$AA,MATCH(J148,'OTRAS REFERENTES'!$Z:$Z,0),2))","v":""},null,{"$f":"IF(L148=\"\",\"\",INDEX(REFERENTES!$D$2:$E$18,MATCH(L148,REFERENTES!$E$2:$E$5,0),1))","v":""},null,null,null,null,"",null,null,{"$f":"IF(T148=\"\",\"\",INDEX(REFERENTES!$G:$H,MATCH(T148,REFERENTES!$G:$G,0),2))","v":""},null,null,{"$f":"IF(W148=\"\",\"\",INDEX('OTRAS REFERENTES'!$H$7:$I$18,MATCH(W148,'OTRAS REFERENTES'!$I$7:$I$18,0),1))","v":""}]
[1,"",147,"","",{"$f":"IF(K149<>\"\",CONCATENATE(DIGITADOR!$B$2,$A$2,DIGITADOR!$M$1,A149),\"\")","v":""},null,null,"",null,{"$f":"IF(J149=\"\",\"\",INDEX('OTRAS REFERENTES'!Z:$AA,MATCH(J149,'OTRAS REFERENTES'!$Z:$Z,0),2))","v":""},null,{"$f":"IF(L149=\"\",\"\",INDEX(REFERENTES!$D$2:$E$18,MATCH(L149,REFERENTES!$E$2:$E$5,0),1))","v":""},null,null,null,null,"",null,null,{"$f":"IF(T149=\"\",\"\",INDEX(REFERENTES!$G:$H,MATCH(T149,REFERENTES!$G:$G,0),2))","v":""},null,null,{"$f":"IF(W149=\"\",\"\",INDEX('OTRAS REFERENTES'!$H$7:$I$18,MATCH(W149,'OTRAS REFERENTES'!$I$7:$I$18,0),1))","v":""}]
[1,"",148,"","",{"$f":"IF(K150<>\"\",CONCATENATE(DIGITADOR!$B$2,$A$2,DIGITADOR!$M$1,A150),\"\")","v":""},null,null,"",null,{"$f":"IF(J150=\"\",\"\",INDEX('OTRAS REFERENTES'!Z:$AA,MATCH(J150,'OTRAS REFERENTES'!$Z:$Z,0),2))","v":""},null,{"$f":"IF(L150=\"\",\"\",INDEX(REFERENTES!$D$2:$E$18,MATCH(L150,REFERENTES!$E$2:$E$5,0),1))","v":""},null,null,null,null,"",null,null,{"$f":"IF(T150=\"\",\"\",INDEX(REFERENTES!$G:$H,MATCH(T150,REFERENTES!$G:$G,0),2))","v":""},null,null,{"$f":"IF(W150=\"\",\"\",INDEX('OTRAS REFERENTES'!$H$7:$I$18,MATCH(W150,'OTRAS REFERENTES'!$I$7:$I$18,0),1))","v":""}]
[1,"",149,"","",{"$f":"IF(K151<>\"\",CONCATENATE(DIGITADOR!$B$2,$A$2,DIGITADOR!$M$1,A151),\"\")","v":""},null,null,"",null,{"$f":"IF(J151=\"\",\"\",INDEX('OTRAS REFERENTES'!Z:$AA,MATCH(J151,'OTRAS REFERENTES'!$Z:$Z,0),2))","v":""},null,{"$f":"IF(L151=\"\",\"\",INDEX(REFERENTES!$D$2:$E$18,MATCH(L151,REFERENTES!$E$2:$E$5,0),1))","v":""},null,null,null,null,"",null,null,{"$f":"IF(T151=\"\",\"\",INDEX(REFERENTES!$G:$H,MATCH(T151,REFERENTES!$G:$G,0),2))","v":""},null,null,{"$f":"IF(W151=\"\",\"\",INDEX('OTRAS REFERENTES'!$H$7:$I$18,MATCH(W151,'OTRAS REFERENTES'!$I$7:$I$18,0),1))","v":""}]
[1,"",149,"","",{"$f":"IF(K152<>\"\",CONCATENATE(DIGITADOR!$B$2,$A$2,DIGITADOR!$M$1,A152),\"\")","v":""},null,null,null,null,{"$f":"IF(J152=\"\",\"\",INDEX('OTRAS REFERENTES'!Z:$AA,MATCH(J152,'OTRAS REFERENTES'!$Z:$Z,0),2))","v":""},null,{"$f":"IF(L152=\"\",\"\",INDEX(REFERENTES!$D$2:$E$18,MATCH(L152,REFERENTES!$E$2:$E$5,0),1))","v":""},null,null,null,null,null,null,null,{"$f":"IF(T152=\"\",\"\",INDEX(REFERENTES!$G:$H,MATCH(T152,REFERENTES!$G:$G,0),2))","v":""},null,null,{"$f":"IF(W152=\"\",\"\",INDEX('OTRAS REFERENTES'!$H$7:$I$18,MATCH(W152,'OTRAS REFERENTES'!$I$7:$I$18,0),1))","v":""}]

{"sheet":"REFERENTES","index":4,"n_rows":1189,"n_cols":23,"rows_kept":1189,"cut":false,"hidden":false,"merged":[]}
[]
[null,null,null,2,"Plántula",null,"AB","Avicennia bicolor","2040.55.687",null,null,null,"VERBENACEAE",null,null,41640,27001,96222,null,"Abaquía",null,7381,"Alejandro Paz"]
[null,null,null,1,"Propágulo",null,"AG","Avicennia germinans","2040.55.685",null,null,null,"VERBENACEAE",null,null,41725,76001,96222,null,"Anchicayá",null,4416,"Alexander Palacios"]
[null,null,null,null,null,null,"CE","Conocarpus erectus","2040.55.293",null,null,null,"VERBENACEAE",null,null,42501,52001,96222,null,"Ancón de Sardinas",null,3546,"Alexandra Rodriguez"]
[null,null,null,null,null,null,"EA","Eugenia Acapulcensis","2040.55.1534",null,"ROSOPSIDA","MYRTALES","MYRTACEAE","EUGENIA",null,41180,44001,96222,null,"Andorra I; Ríos San Salvador a Negro ",null,5658,"Amanda Selene Rojas Aguirre"]
[null,null,null,null,null,null,"FS","Ficus","2040.46.20406",null,"ROSOPSIDA","ROSALES","MORACEAE","FICUS",null,41181,44002,96222,null,"Andorra II; Ríos San Salvador a Negro ",null,6718,"Ana Maria Sierra Parra"]
[null,null,null,null,null,null,"FT","Ficus Tonduzii   ","2040.55.1536",null,"ROSOPSIDA","ROSALES","MORACEAE","FICUS",null,737,5901,96222,null,"Antia",null,4420,"Andrés Paredes"]
[null,null,null,null,null,null,"LR","Laguncularia racemosa","2040.55.290",null,null,null,"COMBRETACEAE",null,null,41621,27002,96222,null,"Bocas de Curay",null,3785,"Ángela Paola Vidal Hernández"]
[null,null,null,null,null,null,"MM","Mora oleifera ","2040.55.507",null,null,null,"Caesalpiniaceae",null,null,41184,44003,96222,null,"Ardita",null,7298,"David Alejandro Sanchez Nuñez"]
[null,null,null,null,null,null,"PR","Pelliciera rhizophorae","2040.55.532",null,null,null,"Rhizophoraceae",null,null,41063,44004,96222,null,"Arroyo Canillal; Río Palomino ",null,3570,"Docente unal"]
[null,null,null,null,null,null,"RH","Rhizophora harrisonii ","2040.55.1509",null,null,null,"Rhizophoraceae",null,null,41637,27003,96222,null,"Arroyo Guerrero",null,4814,"EPA Buenaventura"]
[null,null,null,null,null,null,"RM","Rhizophora mangle","2040.55.325",null,null,null,"RIZOPHORACEAE",null,null,40880,8001,96222,null,"Arusí",null,3573,"Evelyn Moreno"]
[null,null,null,null,null,null,"RR","Rhizophora racemosa","2040.55.326",null,null,null,"Rhizophoraceae",null,null,47502,76901,96222,null,"Astilleros",null,4419,"Freider Celorio"]
[null,null,null,null,null,null,"RS","Rhizophora sp.","2040.46.710",null,"Rosopsida","Rhizophorales","Rhizophoraceae",null,null,45902,52002,96222,null,"BAHIA BUENAVENTURA",null,3550,"Funcionario CARDIQUE"]
[null,null,null,null,null,null,"SA","Otras Especies asociadas",null,null,null,null,null,null,null,45893,52003,96222,null,"Bahia de Cispatá Sector Estuarino-1",null,3555,"Funcionario Codechoco"]
[null,null,null,null,null,null,"SE","Sp. manglar","2040.5.2040",null,null,null,"Sin especificiar",null,null,55945,"BAHIA_HONDITA",96622,null,"BAJO ISCUANDE",null,3554,"Funcionario CORALINA"]
[null,null,null,null,null,null,"TC","Terminalia catappa",null,null,"Equisetopsida","MYRTALES","COMBRETACEAE","Terminalia",null,40832,44905,96222,null,"Bahia de Cispatá,Sector Litoral",null,3548,"Funcionario Corpamag"]
[null,null,null,null,null,null,null,null,null,null,null,null,null,null,null,42042,23002,96222,null,"Bahia de Cispatá,Sector Río Sinú",null,3547,"Funcionario Corpoguajira"]
[null,null,null,null,null,null,null,null,null,null,null,null,null,null,null,42041,23004,96222,null,"Bahía Colombia",null,3557,"Funcionario corponarino"]
[null,null,null,null,null,null,null,null,null,null,null,null,null,null,null,45076,23001,96222,null,"BAJO TAPAGE",null,3553,"Funcionario CORPOURABA"]
[null,null,null,null,null,null,null,null,null,null,null,null,null,null,null,42040,23006,96222,null,"Bahia Hondita",null,3549,"Funcionario CRA"]
[null,null,null,null,null,null,null,null,null,null,null,null,null,null,null,42043,23007,96222,null,"Bahia Tukakas",null,3558,"Funcionario CRC"]
[null,null,null,null,null,null,null,null,null,null,null,null,null,null,null,41625,27004,96222,null,"Bahia de Cispatá Sector Estuarino",null,3556,"Funcionario CVC"]
[null,null,null,null,null,null,null,null,null,null,null,null,null,null,null,41788,13001,96222,null,"Bahia de Cispatá Sector Estuarino con Salitrales",null,3552,"Funcionario CVS"]
[null,null,null,null,null,null,null,null,null,null,null,null,null,null,null,40781,44901,96222,null,"Bahía Aguacate",null,5377,"Funcionario PNN Cienaga Grande"]
[null,null,null,null,null,null,null,null,null,null,null,null,null,null,null,48365,5001,96222,null,"Bahía Cartagena - Canal del Dique",null,3565,"Funcionario PNN01"]
[null,null,null,null,null,null,null,null,null,null,null,null,null,null,null,41624,27005,96222,null,"Bahía Cocinetas",null,3566,"Funcionario PNN02"]
[null,null,null,null,null,null,null,null,null,null,null,null,null,null,null,41722,76002,96222,null,"Bahía Humbolt",null,3559,"Fundacion MARVIVA"]
[null,null,null,null,null,null,null,null,null,null,null,null,null,null,null,41790,13002,96222,null,"Bahía Málaga",null,7380,"INGRID CATALINA CORTES ZAMBRANO"]
[null,null,null,null,null,null,null,null,null,null,null,null,null,null,null,42483,52004,96222,null,"Bahía de Barbacoas - Canal del Dique",null,4413,"Jader Menco"]
[null,null,null,null,null,null,null,null,null,null,null,null,null,null,null,42484,52005,96222,null,"Barrera II",null,4414,"José Cogollo"]
[null,null,null,null,null,null,null,null,null,null,null,null,null,null,null,42139,70001,96222,null,"Barrera I",null,6356,"Jose Francisco Campo Campo"]
[null,null,null,null,null,null,null,null,null,null,null,null,null,null,null,44384,70002,96222,null,"Berrugas",null,7141,"Juan Camilo Rodríguez Atara"]
[null,null,null,null,null,null,null,null,null,null,null,null,null,null,null,41168,44006,96222,null,"Boca Cerrada",null,8217,"Juan Lazarus"]
[null,null,null,null,null,null,null,null,null,null,null,null,null,null,null,41072,44007,96222,null,"Boca La Enea - Dibulla (Michiragua); Río Tapias ",null,7337,"Julian David Beltran Pedraza"]
[null,null,null,null,null,null,null,null,null,null,null,null,null,null,null,42135,70005,96222,null,"Boca La Enea - Riohacha; Río Tapias ",null,3264,"Julio Cesar Bohorquez Naranjo"]
[null,null,null,null,null,null,null,null,null,null,null,null,null,null,null,42499,52006,96222,null,"Boca Matuna",null,4418,"Leider Díaz"]
[null,null,null,null,null,null,null,null,null,null,null,null,null,null,null,41175,44008,96222,null,"Boca Nueva",null,3281,"Leonardo José Arias Alemán (2022)"]
[null,null,null,null,null,null,null,null,null,null,null,null,null,null,null,41172,44009,96222,null,"Boca Río Cañas",null,3562,"Lucia V Licero Villanueva"]
[null,null,null,null,null,null,null,null,null,null,null,null,null,null,null,42141,70003,96222,null,"Boca Río Lagarto (Maluisa)",null,4421,"Luis Carlos Montaño"]
[null,null,null,null,null,null,null,null,null,null,null,null,null,null,null,41060,44005,96222,null,"Boca de Zaragocilla",null,7317,"Luis Herrera"]
[null,null,null,null,null,null,null,null,null,null,null,null,null,null,null,42140,70004,96222,null,"Boca del Río Calancala (Valle de los Cangrejos); Río Ranchería ",null,6302,"Luisa Francisca Cardona Acuña"]
[null,null,null,null,null,null,null,null,null,null,null,null,null,null,null,42497,52007,96222,null,"Boca del Salado",null,7377,"MARGARITA ROSA DUSSAN ARQUEZ"]
[null,null,null,null,null,null,null,null,null,null,null,null,null,null,null,42214,19001,96222,null,"Bocagrande",null,3564,"Ostin Garces"]
[null,null,null,null,null,null,null,null,null,null,null,null,null,null,null,41730,76004,96222,null,"Bocana de Naya",null,4417,"Roberto Suarez"]
[null,null,null,null,null,null,null,null,null,null,null,null,null,null,null,42213,19002,96222,null,"Bocana de Naya ",null,4521,"Sebastian Herrera Fajardo"]
[null,null,null,null,null,null,null,null,null,null,null,null,null,null,null,42827,52907,96222,null,"Bocana el Tambor",null,7382,"Valentina Piñeros"]
[null,null,null,null,null,null,null,null,null,null,null,null,null,null,null,41721,76003,96222,null,"Bocas del San Juan"]
[null,null,null,null,null,null,null,null,null,null,null,null,null,null,null,40879,8002,96222,null,"Bocatocino"]
[null,null,null,null,null,null,null,null,null,null,null,null,null,null,null,41183,44010,96222,null,"Boquita del Medio; Río Palomino "]
[null,null,null,null,null,null,null,null,null,null,null,null,null,null,null,41194,88001,96222,null,"BottonHouse"]
[null,null,null,null,null,null,null,null,null,null,null,null,null,null,null,41204,88002,96222,null,"Bowie Bay"]
[null,null,null,null,null,null,null,null,null,null,null,null,null,null,null,42489,52010,96222,null,"Brazo Largo"]
[null,null,null,null,null,null,null,null,null,null,null,null,null,null,null,41061,44011,96222,null,"Brazo Riito; Río Ranchería "]
[null,null,null,null,null,null,null,null,null,null,null,null,null,null,null,42218,19003,96222,null,"Bubuey"]
[null,null,null,null,null,null,null,null,null,null,null,null,null,null,null,41723,76005,96222,null,"Buenaventura"]
[null,null,null,null,null,null,null,null,null,null,null,null,null,null,null,42305,47001,96222,null,"Buritaca"]
[null,null,null,null,null,null,null,null,null,null,null,null,null,null,null,41431,52904,96222,null,"CHARCO"]
[null,null,null,null,null,null,null,null,null,null,null,null,null,null,null,44983,44904,96222,null,"Cabo de La Vela"]
[null,null,null,null,null,null,null,null,null,null,null,null,null,null,null,40876,8003,96222,null,"Caimán - Rincón Hondo "]
[null,null,null,null,null,null,null,null,null,null,null,null,null,null,null,41728,76006,96222,null,"Cajambre"]
[null,null,null,null,null,null,null,null,null,null,null,null,null,null,null,41791,13003,96222,null,"Canal del Dique, Corchal"]
[null,null,null,null,null,null,null,null,null,null,null,null,null,null,null,42215,19004,96222,null,"Candelaria"]
[null,null,null,null,null,null,null,null,null,null,null,null,null,null,null,42217,19005,96222,null,"Cantil"]
[null,null,null,null,null,null,null,null,null,null,null,null,null,null,null,41066,44013,96222,null,"Caricari; Laguna Grande "]
[null,null,null,null,null,null,null,null,null,null,null,null,null,null,null,41641,27006,96222,null,"Catripe"]
[null,null,null,null,null,null,null,null,null,null,null,null,null,null,null,45261,8004,96222,null,"Caño Dulce"]
[null,null,null,null,null,null,null,null,null,null,null,null,null,null,null,41179,44012,96222,null,"Caño Sucio"]
[null,null,null,null,null,null,null,null,null,null,null,null,null,null,null,40878,8013,96222,null,"Cerro Punta Piedra"]
[null,null,null,null,null,null,null,null,null,null,null,null,null,null,null,42494,52011,96222,null,"Chagüí – Mejicano"]
[null,null,null,null,null,null,null,null,null,null,null,null,null,null,null,42474,52012,96222,null,"Chanzará"]
[null,null,null,null,null,null,null,null,null,null,null,null,null,null,null,41649,27007,96222,null,"Charambirá"]
[null,null,null,null,null,null,null,null,null,null,null,null,null,null,null,41650,27008,96222,null,"Chavica"]
[null,null,null,null,null,null,null,null,null,null,null,null,null,null,null,42500,52013,96222,null,"Chontal"]
[null,null,null,null,null,null,null,null,null,null,null,null,null,null,null,44402,70006,96222,null,"Ciénaga Ana Gomez  "]
[null,null,null,null,null,null,null,null,null,null,null,null,null,null,null,40874,8005,96222,null,"Ciénaga Balboa"]
[null,null,null,null,null,null,null,null,null,null,null,null,null,null,null,40882,8007,96222,null,"Ciénaga El Totumo"]
[null,null,null,null,null,null,null,null,null,null,null,null,null,null,null,40994,47002,96222,null,"Ciénaga Grande de Santa Marta"]
[null,null,null,null,null,null,null,null,null,null,null,null,null,null,null,40881,8008,96222,null,"Ciénaga La Represa"]
[null,null,null,null,null,null,null,null,null,null,null,null,null,null,null,40868,8009,96222,null,"Ciénaga Manaties"]
[null,null,null,null,null,null,null,null,null,null,null,null,null,null,null,41067,44017,96222,null,"Ciénaga Manzanillo; Laguna Grande "]
[null,null,null,null,null,null,null,null,null,null,null,null,null,null,null,41064,44018,96222,null,"Ciénaga Ocho Palmas"]
[null,null,null,null,null,null,null,null,null,null,null,null,null,null,null,40872,8010,96222,null,"Ciénaga Rincón"]
[null,null,null,null,null,null,null,null,null,null,null,null,null,null,null,42157,70008,96222,null,"Ciénaga de Benítez"]
[null,null,null,null,null,null,null,null,null,null,null,null,null,null,null,42045,23906,96222,null,"Ciénaga de Cispatá, Sector Río Sinú"]
[null,null,null,null,null,null,null,null,null,null,null,null,null,null,null,42044,23012,96222,null,"Ciénaga de Cispatá,Sector Pie de Monte"]
[null,null,null,null,null,null,null,null,null,null,null,null,null,null,null,44613,13004,96222,null,"Ciénaga de Las Quintas"]
[null,null,null,null,null,null,null,null,null,null,null,null,null,null,null,40864,8006,96222,null,"Ciénaga de Mallorquín"]
[null,null,null,null,null,null,null,null,null,null,null,null,null,null,null,41169,44015,96222,null,"Ciénaga de Mamavita"]
[null,null,null,null,null,null,null,null,null,null,null,null,null,null,null,42134,70011,96222,null,"Ciénaga de Pablo"]
[null,null,null,null,null,null,null,null,null,null,null,null,null,null,null,41069,44016,96222,null,"Ciénaga de Sabaletes"]
[null,null,null,null,null,null,null,null,null,null,null,null,null,null,null,42138,70009,96222,null,"Ciénaga de la Boquilla"]
[null,null,null,null,null,null,null,null,null,null,null,null,null,null,null,42146,70010,96222,null,"Ciénaga de la Caimanera"]
[null,null,null,null,null,null,null,null,null,null,null,null,null,null,null,41071,44014,96222,null,"Ciénaga de la Trupia"]
[null,null,null,null,null,null,null,null,null,null,null,null,null,null,null,41781,13005,96222,null,"Ciénaga del Totumo"]
[null,null,null,null,null,null,null,null,null,null,null,null,null,null,null,41466,88003,96222,null,"Cocoplum Bay"]
[null,null,null,null,null,null,null,null,null,null,null,null,null,null,null,42224,19006,96222,null,"Comerguapi"]
[null,null,null,null,null,null,null,null,null,null,null,null,null,null,null,757,47905,96222,null,"Complejo Pajarales"]
[null,null,null,null,null,null,null,null,null,null,null,null,null,null,null,45415,27009,96222,null,"Coquí"]
[null,null,null,null,null,null,null,null,null,null,null,null,null,null,null,48362,5002,96222,null,"Costa Norte"]
[null,null,null,null,null,null,null,null,null,null,null,null,null,null,null,48364,5003,96222,null,"Costado Oriental."]
[null,null,null,null,null,null,null,null,null,null,null,null,null,null,null,41212,88004,96222,null,"Cotton Cay"]
[null,null,null,null,null,null,null,null,null,null,null,null,null,null,null,41627,27010,96222,null,"Cupica"]
[null,null,null,null,null,null,null,null,null,null,null,null,null,null,null,42492,52014,96222,null,"Curay"]
[null,null,null,null,null,null,null,null,null,null,null,null,null,null,null,42310,47003,96222,null,"Córdoba"]
[null,null,null,null,null,null,null,null,null,null,null,null,null,null,null,41724,76007,96222,null,"Dagua"]
[null,null,null,null,null,null,null,null,null,null,null,null,null,null,null,48482,5004,96222,null,"Delta del Río Atrato"]
[null,null,null,null,null,null,null,null,null,null,null,null,null,null,null,41171,44019,96222,null,"Dibulla Occidente Río Jerez; Caño Jeréz "]
[null,null,null,null,null,null,null,null,null,null,null,null,null,null,null,41170,44020,96222,null,"Dibulla Oriente; Playa de Dibulla "]
[null,null,null,null,null,null,null,null,null,null,null,null,null,null,null,523,23903,96222,null,"Distrito de Manejo Integrado de la Bahía de Cispatá"]
[null,null,null,null,null,null,null,null,null,null,null,null,null,null,null,41644,27011,96222,null,"Docampadó"]
[null,null,null,null,null,null,null,null,null,null,null,null,null,null,null,41648,27012,96222,null,"Docordó"]
[null,null,null,null,null,null,null,null,null,null,null,null,null,null,null,40968,47004,96222,null,"Don Diego"]
[null,null,null,null,null,null,null,null,null,null,null,null,null,null,null,45397,52015,96222,null,"ENSENADA DE TUMACO"]
[null,null,null,null,null,null,null,null,null,null,null,null,null,null,null,42131,70013,96222,null,"El Corchal"]
[null,null,null,null,null,null,null,null,null,null,null,null,null,null,null,42220,19007,96222,null,"El Cuerval"]
[null,null,null,null,null,null,null,null,null,null,null,null,null,null,null,42144,70014,96222,null,"El Francés"]
[null,null,null,null,null,null,null,null,null,null,null,null,null,null,null,41631,27013,96222,null,"El Valle"]
[null,null,null,null,null,null,null,null,null,null,null,null,null,null,null,48363,5005,96222,null,"Ensenada de Rionegro."]
[null,null,null,null,null,null,null,null,null,null,null,null,null,null,null,42222,19008,96222,null,"Estero Pejesapo"]
[null,null,null,null,null,null,null,null,null,null,null,null,null,null,null,42822,52906,96222,null,"Estero Zapallo"]
[null,null,null,null,null,null,null,null,null,null,null,null,null,null,null,42811,52018,96222,null,"FRANCISCO PIZARRO"]
[null,null,null,null,null,null,null,null,null,null,null,null,null,null,null,41190,88005,96222,null,"FreshWater"]
[null,null,null,null,null,null,null,null,null,null,null,null,null,null,null,44984,47903,96222,null,"Gaira"]
[null,null,null,null,null,null,null,null,null,null,null,null,null,null,null,41780,13007,96222,null,"Galerazamba"]
[null,null,null,null,null,null,null,null,null,null,null,null,null,null,null,42039,23013,96222,null,"Golfo de Morrosquillo Punta Bolívar - Playa Blanca"]
[null,null,null,null,null,null,null,null,null,null,null,null,null,null,null,42137,70015,96222,null,"Golfo de Morrosquillo,Isla Boquerón"]
[null,null,null,null,null,null,null,null,null,null,null,null,null,null,null,42142,70016,96222,null,"Guacamayas"]
[null,null,null,null,null,null,null,null,null,null,null,null,null,null,null,40975,47005,96222,null,"Guachaca"]
[null,null,null,null,null,null,null,null,null,null,null,null,null,null,null,42486,52019,96222,null,"Guandipa"]
[null,null,null,null,null,null,null,null,null,null,null,null,null,null,null,714,19901,96222,null,"Guapi"]
[null,null,null,null,null,null,null,null,null,null,null,null,null,null,null,41208,88006,96222,null,"Hoffie"]
[null,null,null,null,null,null,null,null,null,null,null,null,null,null,null,41214,88007,96222,null,"Hotel Aquarium y Casa de la Cultura del Centro"]
[null,null,null,null,null,null,null,null,null,null,null,null,null,null,null,41645,27014,96222,null,"Ijúa"]
[null,null,null,null,null,null,null,null,null,null,null,null,null,null,null,42053,23014,96222,null,"Isla Tortuguilla"]
[null,null,null,null,null,null,null,null,null,null,null,null,null,null,null,41786,13008,96222,null,"Isla de Manzanillo"]
[null,null,null,null,null,null,null,null,null,null,null,null,null,null,null,42476,52020,96222,null,"Isquandé"]
[null,null,null,null,null,null,null,null,null,null,null,null,null,null,null,41189,88008,96222,null,"John Mangrove"]
[null,null,null,null,null,null,null,null,null,null,null,null,null,null,null,41196,88009,96222,null,"Johnny Bay"]
[null,null,null,null,null,null,null,null,null,null,null,null,null,null,null,41187,88010,96222,null,"Jones Point Town"]
[null,null,null,null,null,null,null,null,null,null,null,null,null,null,null,41784,13009,96222,null,"Juan Polo y La Virgen  "]
[null,null,null,null,null,null,null,null,null,null,null,null,null,null,null,41630,27015,96222,null,"Juná"]
[null,null,null,null,null,null,null,null,null,null,null,null,null,null,null,41623,27016,96222,null,"Juradó"]
[null,null,null,null,null,null,null,null,null,null,null,null,null,null,null,45244,27017,96222,null,"Jurubirá"]
[null,null,null,null,null,null,null,null,null,null,null,null,null,null,null,41054,44021,96222,null,"Kayushiparalao; Bahía Portete "]
[null,null,null,null,null,null,null,null,null,null,null,null,null,null,null,41056,44022,96222,null,"La Ahuyama; Carrizal "]
[null,null,null,null,null,null,null,null,null,null,null,null,null,null,null,42143,70017,96222,null,"La Alegría I y II"]
[null,null,null,null,null,null,null,null,null,null,null,null,null,null,null,42048,23016,96222,null,"La Balsa"]
[null,null,null,null,null,null,null,null,null,null,null,null,null,null,null,44374,70018,96222,null,"La Barces "]
[null,null,null,null,null,null,null,null,null,null,null,null,null,null,null,41638,27018,96222,null,"La Cuevita"]
[null,null,null,null,null,null,null,null,null,null,null,null,null,null,null,41059,44023,96222,null,"La Raya; Laguna de Buenavista "]
[null,null,null,null,null,null,null,null,null,null,null,null,null,null,null,42493,52021,96222,null,"La Resurrección"]
[null,null,null,null,null,null,null,null,null,null,null,null,null,null,null,42480,52022,96222,null,"La Tola"]
[null,null,null,null,null,null,null,null,null,null,null,null,null,null,null,41065,44024,96222,null,"Laguna Navío Quebrado; Camarones "]
[null,null,null,null,null,null,null,null,null,null,null,null,null,null,null,41062,44025,96222,null,"Laguna Salada; Riohacha "]
[null,null,null,null,null,null,null,null,null,null,null,null,null,null,null,41209,88011,96222,null,"Little Gough"]
[null,null,null,null,null,null,null,null,null,null,null,null,null,null,null,42491,52023,96222,null,"Llanaje"]
[null,null,null,null,null,null,null,null,null,null,null,null,null,null,null,42051,23017,96222,null,"Los Córdobas"]
[null,null,null,null,null,null,null,null,null,null,null,null,null,null,null,45384,52026,96222,null,"MOSQUERA"]
[null,null,null,null,null,null,null,null,null,null,null,null,null,null,null,41176,44026,96222,null,"Madrevieja; Río Cañas "]
[null,null,null,null,null,null,null,null,null,null,null,null,null,null,null,41185,44027,96222,null,"Madrevieja; Río Palomino "]
[null,null,null,null,null,null,null,null,null,null,null,null,null,null,null,42487,52024,96222,null,"Majaguyal"]
[null,null,null,null,null,null,null,null,null,null,null,null,null,null,null,41193,88012,96222,null,"Manchineel Bay"]
[null,null,null,null,null,null,null,null,null,null,null,null,null,null,null,41785,13010,96222,null,"Manglares urbanos  "]
[null,null,null,null,null,null,null,null,null,null,null,null,null,null,null,41058,44028,96222,null,"Mayapo"]
[null,null,null,null,null,null,null,null,null,null,null,null,null,null,null,41727,76008,96222,null,"Mayorquín"]
[null,null,null,null,null,null,null,null,null,null,null,null,null,null,null,41629,27019,96222,null,"Mecana, Bahía Solano"]
[null,null,null,null,null,null,null,null,null,null,null,null,null,null,null,42498,52025,96222,null,"Mira"]
[null,null,null,null,null,null,null,null,null,null,null,null,null,null,null,41199,88013,96222,null,"Morris Landing"]
[null,null,null,null,null,null,null,null,null,null,null,null,null,null,null,41057,44029,96222,null,"Musichi"]
[null,null,null,null,null,null,null,null,null,null,null,null,null,null,null,41628,27020,96222,null,"Nabugá"]
[null,null,null,null,null,null,null,null,null,null,null,null,null,null,null,45080,27021,96222,null,"Nuquí"]
[null,null,null,null,null,null,null,null,null,null,null,null,null,null,null,42223,19009,96222,null,"Obregones y Chamón"]
[null,null,null,null,null,null,null,null,null,null,null,null,null,null,null,41626,27022,96222,null,"Octavia"]
[null,null,null,null,null,null,null,null,null,null,null,null,null,null,null,974,88903,96222,null,"Old Point"]
[null,null,null,null,null,null,null,null,null,null,null,null,null,null,null,41211,88014,96222,null,"Old Point (Bahía Hooker y Bahía Honda)"]
[null,null,null,null,null,null,null,null,null,null,null,null,null,null,null,41188,88015,96222,null,"Old Town"]
[null,null,null,null,null,null,null,null,null,null,null,null,null,null,null,41646,27023,96222,null,"Orpua"]
[null,null,null,null,null,null,null,null,null,null,null,null,null,null,null,42225,19010,96222,null,"PNN Gorgona"]
[null,null,null,null,null,null,null,null,null,null,null,null,null,null,null,41197,88018,96222,null,"PNN Old Providence McBean Lagoon"]
[null,null,null,null,null,null,null,null,null,null,null,null,null,null,null,41632,27029,96222,null,"PNN Utría"]
[null,null,null,null,null,null,null,null,null,null,null,null,null,null,null,41812,13012,96222,null,"PNNCRSB, Isla Arena"]
[null,null,null,null,null,null,null,null,null,null,null,null,null,null,null,41808,13013,96222,null,"PNNCRSB, Isla Bonaire"]
[null,null,null,null,null,null,null,null,null,null,null,null,null,null,null,41806,13014,96222,null,"PNNCRSB, Isla Fiesta"]
[null,null,null,null,null,null,null,null,null,null,null,null,null,null,null,41793,13015,96222,null,"PNNCRSB, Isla Gigi"]
[null,null,null,null,null,null,null,null,null,null,null,null,null,null,null,41802,13016,96222,null,"PNNCRSB, Isla Gloria"]
[null,null,null,null,null,null,null,null,null,null,null,null,null,null,null,41805,13017,96222,null,"PNNCRSB, Isla Grande"]
[null,null,null,null,null,null,null,null,null,null,null,null,null,null,null,41800,13018,96222,null,"PNNCRSB, Isla India"]
[null,null,null,null,null,null,null,null,null,null,null,null,null,null,null,41801,13019,96222,null,"PNNCRSB, Isla Macabí"]
[null,null,null,null,null,null,null,null,null,null,null,null,null,null,null,41814,13020,96222,null,"PNNCRSB, Isla Múcura"]
[null,null,null,null,null,null,null,null,null,null,null,null,null,null,null,41799,13021,96222,null,"PNNCRSB, Isla Pavitos"]
[null,null,null,null,null,null,null,null,null,null,null,null,null,null,null,41810,13022,96222,null,"PNNCRSB, Isla Periquito"]
[null,null,null,null,null,null,null,null,null,null,null,null,null,null,null,41807,13023,96222,null,"PNNCRSB, Isla Pirata"]
[null,null,null,null,null,null,null,null,null,null,null,null,null,null,null,41811,13024,96222,null,"PNNCRSB, Isla Rosario"]
[null,null,null,null,null,null,null,null,null,null,null,null,null,null,null,41792,13025,96222,null,"PNNCRSB, Isla Tesoro"]
[null,null,null,null,null,null,null,null,null,null,null,null,null,null,null,41795,13026,96222,null,"PNNCRSB, San Antonio"]
[null,null,null,null,null,null,null,null,null,null,null,null,null,null,null,41796,13027,96222,null,"PNNCRSB, San Juan"]
[null,null,null,null,null,null,null,null,null,null,null,null,null,null,null,41798,13028,96222,null,"PNNCRSB, San Quintín"]
[null,null,null,null,null,null,null,null,null,null,null,null,null,null,null,41809,13029,96222,null,"PNNCRSB,Isla Caguamo"]
[null,null,null,null,null,null,null,null,null,null,null,null,null,null,null,41803,13030,96222,null,"PNNCRSB,Isla Caribarú"]
[null,null,null,null,null,null,null,null,null,null,null,null,null,null,null,41794,13031,96222,null,"PNNCRSB,Isla Kaloha"]
[null,null,null,null,null,null,null,null,null,null,null,null,null,null,null,41804,13032,96222,null,"PNNCRSB,Isla Naval"]
[null,null,null,null,null,null,null,null,null,null,null,null,null,null,null,41813,13033,96222,null,"PNNCRSB,Isla Tintipan"]
[null,null,null,null,null,null,null,null,null,null,null,null,null,null,null,41797,13034,96222,null,"PNNCRSB,San Martín"]
[null,null,null,null,null,null,null,null,null,null,null,null,null,null,null,42304,44902,96321,null,"Palomino"]
[null,null,null,null,null,null,null,null,null,null,null,null,null,null,null,41201,88016,96222,null,"Parche Costado Occidental San Andrés"]
[null,null,null,null,null,null,null,null,null,null,null,null,null,null,null,41202,88017,96222,null,"Parches del Borde Costero Suroccidental"]
[null,null,null,null,null,null,null,null,null,null,null,null,null,null,null,42488,52027,96222,null,"Patía"]
[null,null,null,null,null,null,null,null,null,null,null,null,null,null,null,42145,70019,96222,null,"Pechelín,Boca Marta"]
[null,null,null,null,null,null,null,null,null,null,null,null,null,null,null,41789,13011,96222,null,"Península de Barú"]
[null,null,null,null,null,null,null,null,null,null,null,null,null,null,null,41647,27024,96222,null,"Pichimá"]
[null,null,null,null,null,null,null,null,null,null,null,null,null,null,null,41642,27025,96222,null,"Piliza"]
[null,null,null,null,null,null,null,null,null,null,null,null,null,null,null,42049,23018,96222,null,"Playas de San Bernardo y Moñitos"]
[null,null,null,null,null,null,null,null,null,null,null,null,null,null,null,41053,44030,96222,null,"Portete; Bahía Portete "]
[null,null,null,null,null,null,null,null,null,null,null,null,null,null,null,40989,47901,96222,null,"Pozos Colorados"]
[null,null,null,null,null,null,null,null,null,null,null,null,null,null,null,41173,44031,96222,null,"Puerto Brisa"]
[null,null,null,null,null,null,null,null,null,null,null,null,null,null,null,42050,23019,96222,null,"Puerto Escondido - Los Cordobas"]
[null,null,null,null,null,null,null,null,null,null,null,null,null,null,null,41055,44032,96222,null,"Puerto Guarreo; Bahía Portete "]
[null,null,null,null,null,null,null,null,null,null,null,null,null,null,null,40875,8011,96222,null,"Puerto Velero"]
[null,null,null,null,null,null,null,null,null,null,null,null,null,null,null,42133,70020,96222,null,"Puertobelo"]
[null,null,null,null,null,null,null,null,null,null,null,null,null,null,null,41622,27026,96222,null,"Punta Brava"]
[null,null,null,null,null,null,null,null,null,null,null,null,null,null,null,41783,13035,96222,null,"Punta Canoas"]
[null,null,null,null,null,null,null,null,null,null,null,null,null,null,null,42136,70021,96222,null,"Punta Comisario San Bernardo Sector Balsillas  Santa Ana"]
[null,null,null,null,null,null,null,null,null,null,null,null,null,null,null,41771,8012,96222,null,"Punta Morropelao"]
[null,null,null,null,null,null,null,null,null,null,null,null,null,null,null,42147,70022,96222,null,"Punta Piedra, Amanzaguapo"]
[null,null,null,null,null,null,null,null,null,null,null,null,null,null,null,44397,70023,96222,null,"Punta Seca"]
[null,null,null,null,null,null,null,null,null,null,null,null,null,null,null,42216,19011,96222,null,"Punta del Coco"]
[null,null,null,null,null,null,null,null,null,null,null,null,null,null,null,42221,19012,96222,null,"Quiroga "]
[null,null,null,null,null,null,null,null,null,null,null,null,null,null,null,41726,76009,96222,null,"Raposo"]
[null,null,null,null,null,null,null,null,null,null,null,null,null,null,null,44373,70024,96222,null,"Rincon"]
[null,null,null,null,null,null,null,null,null,null,null,null,null,null,null,41177,44033,96222,null,"Rincón Mosquito"]
[null,null,null,null,null,null,null,null,null,null,null,null,null,null,null,42309,47011,96222,null,"Rio Toribio"]
[null,null,null,null,null,null,null,null,null,null,null,null,null,null,null,42495,52028,96222,null,"Rosario"]
[null,null,null,null,null,null,null,null,null,null,null,null,null,null,null,42475,52029,96222,null,"Rotura"]
[null,null,null,null,null,null,null,null,null,null,null,null,null,null,null,41182,44034,96222,null,"Ríos San Salvador a Negro - Taguara"]
[null,null,null,null,null,null,null,null,null,null,null,null,null,null,null,42314,47009,96222,null,"SFF CGSM-CentroSur"]
[null,null,null,null,null,null,null,null,null,null,null,null,null,null,null,40998,47006,96222,null,"SFF CGSM-Lengüeta"]
[null,null,null,null,null,null,null,null,null,null,null,null,null,null,null,42312,47010,96222,null,"SFF CGSM-Occidental"]
[null,null,null,null,null,null,null,null,null,null,null,null,null,null,null,42490,52030,96222,null,"Salahonda"]
[null,null,null,null,null,null,null,null,null,null,null,null,null,null,null,40873,8014,96222,null,"Salgar"]
[null,null,null,null,null,null,null,null,null,null,null,null,null,null,null,41207,88019,96222,null,"Salt Creek"]
[null,null,null,null,null,null,null,null,null,null,null,null,null,null,null,42481,52031,96222,null,"Sanquianga I"]
[null,null,null,null,null,null,null,null,null,null,null,null,null,null,null,45383,52908,96222,null,"Sanquianga I"]
[null,null,null,null,null,null,null,null,null,null,null,null,null,null,null,42482,52033,96222,null,"Sanquianga II"]
[null,null,null,null,null,null,null,null,null,null,null,null,null,null,null,41186,88020,96222,null,"Santa Catalina"]
[null,null,null,null,null,null,null,null,null,null,null,null,null,null,null,45499,19013,96222,null,"Santa Rita"]
[null,null,null,null,null,null,null,null,null,null,null,null,null,null,null,40877,8015,96222,null,"Santa Verónica"]
[null,null,null,null,null,null,null,null,null,null,null,null,null,null,null,41198,88021,96222,null,"Sector Occidental Aeropuerto;SAI"]
[null,null,null,null,null,null,null,null,null,null,null,null,null,null,null,41215,88022,96222,null,"Sector Oriental Aeropuerto"]
[null,null,null,null,null,null,null,null,null,null,null,null,null,null,null,41213,88023,96222,null,"Sena"]
[null,null,null,null,null,null,null,null,null,null,null,null,null,null,null,41643,27027,96222,null,"Sivirú"]
[null,null,null,null,null,null,null,null,null,null,null,null,null,null,null,41205,88024,96222,null,"Smith Channel"]
[null,null,null,null,null,null,null,null,null,null,null,null,null,null,null,981,88904,96222,null,"Smith Channel"]
[null,null,null,null,null,null,null,null,null,null,null,null,null,null,null,41195,88025,96222,null,"SmouthWater"]
[null,null,null,null,null,null,null,null,null,null,null,null,null,null,null,41206,88026,96222,null,"Sound Bay"]
[null,null,null,null,null,null,null,null,null,null,null,null,null,null,null,41192,88027,96222,null,"South West Bay"]
[null,null,null,null,null,null,null,null,null,null,null,null,null,null,null,42477,52034,96222,null,"Tapaje"]
[null,null,null,null,null,null,null,null,null,null,null,null,null,null,null,42478,52035,96222,null,"Tapaje Viejo"]
[null,null,null,null,null,null,null,null,null,null,null,null,null,null,null,44977,47902,96222,null,"Tayrona"]
[null,null,null,null,null,null,null,null,null,null,null,null,null,null,null,41787,13036,96222,null,"Tierra Bomba"]
[null,null,null,null,null,null,null,null,null,null,null,null,null,null,null,42219,19014,96222,null,"Timbiquí "]
[null,null,null,null,null,null,null,null,null,null,null,null,null,null,null,44987,23907,96222,null,"Tinaja"]
[null,null,null,null,null,null,null,null,null,null,null,null,null,null,null,42047,23020,96222,null,"Tinajones"]
[null,null,null,null,null,null,null,null,null,null,null,null,null,null,null,42485,52036,96222,null,"Traspasadero"]
[null,null,null,null,null,null,null,null,null,null,null,null,null,null,null,45310,27028,96222,null,"Tribugá"]
[null,null,null,null,null,null,null,null,null,null,null,null,null,null,null,42830,52039,96222,null,"Tumaco"]
[null,null,null,null,null,null,null,null,null,null,null,null,null,null,null,42496,52905,96222,null,"Tumaco"]
[null,null,null,null,null,null,null,null,null,null,null,null,null,null,null,41203,88028,96222,null,"Velodia Road"]
[null,null,null,null,null,null,null,null,null,null,null,null,null,null,null,41639,27030,96222,null,"Virudó"]
[null,null,null,null,null,null,null,null,null,null,null,null,null,null,null,42311,47012,96222,null,"Vía Parque Isla de Salamanca"]
[null,null,null,null,null,null,null,null,null,null,null,null,null,null,null,41729,76010,96222,null,"Yurumanguí "]
[null,null,null,null,null,null,null,null,null,null,null,null,null,null,null,42479,52040,96222,null,"Zaragoza - Aguacatal"]
[null,null,null,null,null,null,null,null,null,null,null,null,null,null,null,567,52901,96222,null,"charco"]
[null,null,null,null,null,null,null,null,null,null,null,null,null,null,null,55525,47013,96222]
[null,null,null,null,null,null,null,null,null,null,null,null,null,null,null,42307,"MAN",96321]
[null,null,null,null,null,null,null,null,null,null,null,null,null,null,null,48733,"CSI,SPIE-ZR1-Agrosole-1",2414,null,"Agrosoledad"]
[null,null,null,null,null,null,null,null,null,null,null,null,null,null,null,48735,"CSI,SPIE-ZR1-Agrosole-2",2415,null,"Agrosoledad -2"]
[null,null,null,null,null,null,null,null,null,null,null,null,null,null,null,48737,"CSI,SPIE-ZR1-Agrosole-3",2416,null,"Agrosoledad 3"]
[null,null,null,null,null,null,null,null,null,null,null,null,null,null,null,45924,"SFFOCC-SZ1-ANE-1",2154,"Parcela 1 monitoreada por el INVEMAR en el marco del ¨Monitoreo de las condiciones ambientales y los cambios estructurales y funcionales de las comunidades vegetales y de los recursos pesqueros durante la rehabilitación de la Ciénaga Grande de Santa Marta¨","Aguas Negras -1"]
[null,null,null,null,null,null,null,null,null,null,null,null,null,null,null,45926,"SFFOCC-SZ1-ANE-2",2155,"Parcela 2 monitoreada por el INVEMAR en el marco del ¨Monitoreo de las condiciones ambientales y los cambios estructurales y funcionales de las comunidades vegetales y de los recursos pesqueros durante la rehabilitación de la Ciénaga Grande de Santa Marta¨","Aguas Negras -2"]
[null,null,null,null,null,null,null,null,null,null,null,null,null,null,null,45928,"SFFOCC-SZ1-ANE-3",2156,"Parcela 3 monitoreada por el INVEMAR en el marco del ¨Monitoreo de las condiciones ambientales y los cambios estructurales y funcionales de las comunidades vegetales y de los recursos pesqueros durante la rehabilitación de la Ciénaga Grande de Santa Marta¨","Aguas Negras -3"]
[null,null,null,null,null,null,null,null,null,null,null,null,null,null,null,45589,"BCIS,EST-ZUS1-angostura-1",2124,"esta parcela se encuentra ubicada en el sector de caño grande en la zona de uso sostenible, en el subsector de aprovechamiento, con predominancia de la especie Rhizophora mangle, esta parcela tiene gran cantidad de arboles muertos, y otros con condiciones de raquitismo, baja densidad de arboles en la parcela.","Angostura"]
[null,null,null,null,null,null,null,null,null,null,null,null,null,null,null,44509,"BARU-ZR1-Ararca-1",1764,"Parcela que coincide con punto de muestreo de PNN, se encontraron dos mojones instalados por ellos.  Bosque en sus primeros 25 m con abundante presencia de R. mangle con numerosas raíces fúlcreas, inundación de 5 cm en promedio, Bosque en buen estado no se evidencia tala","Ararca-1"]
[null,null,null,null,null,null,null,null,null,null,null,null,null,null,null,43803,"MUSI-ZP1-DAL-2",1593,"Parcela montada en el marco del proyecto \"Lineamientos de restauración para los manglares del departamento de La Guajira\" ejecutado por INVEMAR. Abundantes restos calcáreos. Bosques en mal estado en proceso de defoliación. El arroyo no está comunicado con el mar. Antiguamente si estaba comunicado y había un puerto. Restos de octocorales y conchas de actividades de pesca de  arrastre en el mar. Algunos individuos de Ag retoñando en el tronco (asexual). Huellas (zona de pastoreo de ganado). Evidencia de herbivoría foliar. Abundantes restos de materia orgánica en descomposición (hoja y restos de animales). Galerias de cangrejos. Neumatóforos recubiertos de sedimentos. Suelo aparentemente franco-arenoso, y en el fondo oscuro y muy lodoso y en la parte superior de color claro. Crecimiento de los árboles típicamente achaparrado y altamente ramificado. Frente a la estación hay un rodal de R.m. muerto donde los árboles están retoñando, el suelo tiene apariencia húmeda y hay aportes de rocio del nordeste","Arroyo Limon -4"]
[null,null,null,null,null,null,null,null,null,null,null,null,null,null,null,43622,"MUSI-ZP1-DUAL-1",1501,null,"Arroyo Límon -1"]
[null,null,null,null,null,null,null,null,null,null,null,null,null,null,null,43644,"CARI-ZP1-AP-1",1509,"Parcela montada en el marco del proyecto \"Lineamientos de restauración para los manglares del departamento de La Guajira\" ejecutado por INVEMAR. Manglar franjeante sobre el costado del Arroyo Pacho, de poca extensión dominado por A. germinans. Los árboles de mangle se entremezclan con individuos de la familia de las cactáceas.  Los individuos se encuentran el mal estado, defoliados y en otros casos muertos, sin embargo algunos se encuentran rebrotando.  Sin regeneración natural. Poca hojarasca y desarrollo de neumatóforos, presencia de camas de Batis maritima.","Arroyo Pacho"]
[null,null,null,null,null,null,null,null,null,null,null,null,null,null,null,43779,"CARI-ZP1-AP-2",1584,"Manglar franjeante sobre el costado del Arroyo Pacho, de poca extensión dominado por A. germinans. Los árboles de mangle se entremezclan con individuos de la familia de las cactáceas.  Los individuos se encuentran el mal estado, defoliados y en otros casos muertos, sin embargo algunos se encuentran rebrotando.  Sin regeneración natural. Poca hojarasca y desarrollo de neumatóforos, presencia de camas de Batis maritima.","Arroyo Pacho"]
[null,null,null,null,null,null,null,null,null,null,null,null,null,null,null,43647,"CARI-ZP1-APD-1",1510,"Franja de manglar contigua a la desembocadura del Arroyo Pacho de poca extensión. Pocos árboles de manglar de A. germinans y C. erectus, mezclados con cactáceas (tuna sp). Muchos árboles se observan entorchados. Escasa regeneración natural de C. erectus. La parcela se ubicó paralela al cuerpo de agua. Sin regeneración natural","Arroyo Pacho"]
[null,null,null,null,null,null,null,null,null,null,null,null,null,null,null,43649,"CARI-ZP1-APD-2",1511,"Parcela montada en el marco del proyecto \"Lineamientos de restauración para los manglares del departamento de La Guajira\" ejecutado por INVEMAR. Franja de manglar contigua a la desembocadura del Arroyo Pacho de poca extensión. Pocos árboles de manglar de A. germinans y C. erectus, mezclados con cactáceas (tuna sp). Muchos árboles se observan entorchados. Escasa regeneración natural de C. erectus. La parcela se ubicó paralela al cuerpo de agua. Sin regeneración natural","Arroyo Pacho"]
[null,null,null,null,null,null,null,null,null,null,null,null,null,null,null,44493,"BARB-ZR1-Ay-Plata-1",1759,"Parcela dominada por P. rhizophorae, inundación promedio de 15 cm. presencia abundante de propágulos de R. mangle.  Bosque en buen estado no se evidencia tala.","Arroyo Plata-1"]
[null,null,null,null,null,null,null,null,null,null,null,null,null,null,null,43662,"NAVI-ZP1-ALP-1",1515,"Franja de manglar tipo cuenca adyacente al arroyo compuesto por A. germinans y L. racemosa. Se observan algunos árboles secos defoliados. Abundantes neumatóforos de tamaño mediano. Algunos árboles con daños en el tronco. Se observaron caminos en las inmediaciones. Escasa regeneración natural y presencia de B. maritima.","Arroyo la Piedrecita"]
[null,null,null,null,null,null,null,null,null,null,null,null,null,null,null,43560,"MUSI-ZP1-CAL-1",1493,"Restos calcáreos de crustáceos calcinados. Huellas recientes de aves.","Arroyo limon -5"]
[null,null,null,null,null,null,null,null,null,null,null,null,null,null,null,43801,"MUSI-ZP1-DAL-1",1592,"bundantes restos calcáreos. Bosques en mal estado en proceso de defoliación. El arroyo no está comunicado con el mar. Antiguamente si estaba comunicado y había un puerto. Restos de octocorales y conchas de actividades de pesca de  arrastre en el mar. Algunos individuos de Ag retoñando en el tronco (asexual). Huellas (zona de pastoreo de ganado). Evidencia de herbivoría foliar. Abundantes restos de materia orgánica en descomposición (hoja y restos de animales). Galerias de cangrejos. Neumatóforos recubiertos de sedimentos. Suelo aparentemente franco-arenoso, y en el fondo oscuro y muy lodoso y en la parte superior de color claro. Crecimiento de los árboles típicamente achaparrado y altamente ramificado. Frente a la estación hay un rodal de R.m. muerto donde los árboles están retoñando, el suelo tiene apariencia húmeda y hay aportes de rocio del nordeste","Arroyo_Limon -3"]
[null,null,null,null,null,null,null,null,null,null,null,null,null,null,null,43562,"MUSI-ZP1-CAL-2",1494,"Parcela montada en el marco del proyecto \"Lineamientos de restauración para los manglares del departamento de La Guajira\" ejecutado por INVEMAR","Arroyo_limon -2"]
[null,null,null,null,null,null,null,null,null,null,null,null,null,null,null,42007,"JPVI-ZR1-BOQ-1",1078,null,"BOQUILLA-1"]
[null,null,null,null,null,null,null,null,null,null,null,null,null,null,null,42000,"BARB-ZR1-Barba-1",1076,null,"Bahia Barbacoas-1"]
[null,null,null,null,null,null,null,null,null,null,null,null,null,null,null,44490,"BARB-ZR1-BARB01-1",1758,"Estación con sustrato duro, los primeros 20 m dominados por L. racemosa, abundante regeneración natural de R. mangle hasta los 45 m.  Nivel de inundación promedio de 10 cm.","Bahia Barbacoas-1-1"]
[null,null,null,null,null,null,null,null,null,null,null,null,null,null,null,49005,"OPOI-ZP1-Bahía Honda-1",2506,"Parcela aleatoria #2 2016","Bahia Honda -1"]
[null,null,null,null,null,null,null,null,null,null,null,null,null,null,null,48492,"DRATR-ZUS1-Bburr-1",2381,"Bosque ralo con mayor presencia de R. mangle, no se observa vegetación baja diferente del manglar.  Presión antrópica relacionada por Corta de Varas.  Presencia de agallas en todas las estructuras del manglar, especialmente en el R. mangle.","Bahía Burrera-1"]
[null,null,null,null,null,null,null,null,null,null,null,null,null,null,null,48520,"DRATR-ZR1-Bcog -1",2385,"Bosque Ralo. Con un manglar entrelazado con mayor presencia de R. mangle seguido de L. racemosa..  Presión antrópica relacionada por Corta de Varas y presencia de agallas en todas las estructuras del manglar, especialmente en el R. mangle.","Bahía Coco Grande-1"]
[null,null,null,null,null,null,null,null,null,null,null,null,null,null,null,48526,"DRATR-ZR1-Brot-1",2387,"Bosque de porte alto.Presencia de R. mangle, L. racemosa y A. germinans.  Se observó corta de mangle.","Bahía El Roto"]
[null,null,null,null,null,null,null,null,null,null,null,null,null,null,null,55547,"Bahía Honda PPC-2",null,"Estación Manglar Bahía Honda (formada por 3 parcelas circulares): Manglar que hace parte del Parque Regional Old Point Regional Mangrove Park, localizado al nororiente de la isla de San Andrés, con una extensión de manglar de 60,62 ha (INVEMAR-CORALINA, 2016). Es un manglar de borde, con árboles con una altura promedio de 7,2 m, influenciado por las mareas y el continuo lavado de sus suelos. Conformado por Rhizophora mangle (especie dominante), Avicennia germinans, Laguncularia racemosa y Conocarpus erectus. Evidencia de residuos sólidos (botellas, latas, plásticos) traídos por el mar durante las mareas altas y árboles talados en el interior del manglar. Actualmente, bajo la figura de Parque Regional se ha logrado su recuperación y es un enclave ambiental que sirve de hábitat a numerosas especies faunísticas residentes y migratorias.","Bahía Honda parcela circular-2"]
[null,null,null,null,null,null,null,null,null,null,null,null,null,null,null,55548,"Bahía Honda PPC-3",null,"Estación Manglar Bahía Honda (formada por 3 parcelas circulares): Manglar que hace parte del Parque Regional Old Point Regional Mangrove Park, localizado al nororiente de la isla de San Andrés, con una extensión de manglar de 60,62 ha (INVEMAR-CORALINA, 2016). Es un manglar de borde, con árboles con una altura promedio de 7,2 m, influenciado por las mareas y el continuo lavado de sus suelos. Conformado por Rhizophora mangle (especie dominante), Avicennia germinans, Laguncularia racemosa y Conocarpus erectus. Evidencia de residuos sólidos (botellas, latas, plásticos) traídos por el mar durante las mareas altas y árboles talados en el interior del manglar. Actualmente, bajo la figura de Parque Regional se ha logrado su recuperación y es un enclave ambiental que sirve de hábitat a numerosas especies faunísticas residentes y migratorias.","Bahía Honda parcela circular-3"]
[null,null,null,null,null,null,null,null,null,null,null,null,null,null,null,55549,"Bahía Hooker PPC-2",null,"Estación Manglar Bahía Hooker (formada por 3 parcelas circulares): Manglar que hace parte del Parque Regional Old Point Regional Mangrove Park, localizado al nororiente de la isla de San Andrés, con una extensión de manglar de 60,62 ha (INVEMAR-CORALINA, 2016). Es un manglar de borde con árboles de 5,4 m de altura promedio, conformado por Rhizophora mangle, Avicennia germinans, Laguncularia racemosa y Conocarpus erectus. Evidencia de afectación por lodos aceitosos presentes en el sustrato y presencia de residuos sólidos (botellas, latas, plásticos). Actualmente, bajo la figura de Parque Regional se ha logrado su recuperación y es un enclave ambiental que sirve de hábitat a numerosas especies faunísticas residentes y migratorias.","Bahía Hooker parcela circular-2"]
[null,null,null,null,null,null,null,null,null,null,null,null,null,null,null,55550,"Bahía Hooker PPC-3",null,"Estación Manglar Bahía Hooker (formada por 3 parcelas circulares): Manglar que hace parte del Parque Regional Old Point Regional Mangrove Park, localizado al nororiente de la isla de San Andrés, con una extensión de manglar de 60,62 ha (INVEMAR-CORALINA, 2016). Es un manglar de borde con árboles de 5,4 m de altura promedio, conformado por Rhizophora mangle, Avicennia germinans, Laguncularia racemosa y Conocarpus erectus. Evidencia de afectación por lodos aceitosos presentes en el sustrato y presencia de residuos sólidos (botellas, latas, plásticos). Actualmente, bajo la figura de Parque Regional se ha logrado su recuperación y es un enclave ambiental que sirve de hábitat a numerosas especies faunísticas residentes y migratorias.","Bahía Hooker parcela circular-3"]
[null,null,null,null,null,null,null,null,null,null,null,null,null,null,null,55551,"Bahía Hooker PPC-4",null,"Estación Manglar Bahía Hooker (formada por 3 parcelas circulares): Manglar que hace parte del Parque Regional Old Point Regional Mangrove Park, localizado al nororiente de la isla de San Andrés, con una extensión de manglar de 60,62 ha (INVEMAR-CORALINA, 2016). Es un manglar de borde con árboles de 5,4 m de altura promedio, conformado por Rhizophora mangle, Avicennia germinans, Laguncularia racemosa y Conocarpus erectus. Evidencia de afectación por lodos aceitosos presentes en el sustrato y presencia de residuos sólidos (botellas, latas, plásticos). Actualmente, bajo la figura de Parque Regional se ha logrado su recuperación y es un enclave ambiental que sirve de hábitat a numerosas especies faunísticas residentes y migratorias.","Bahía Hooker parcela circular-4"]
[null,null,null,null,null,null,null,null,null,null,null,null,null,null,null,49002,"OPOI-ZP1-Bahía Hooker-1",2505,"Estación Manglar Bahía Hooker (formada por 3 parcelas circulares): Manglar que hace parte del Parque Regional Old Point Regional Mangrove Park, localizado al nororiente de la isla de San Andrés, con una extensión de manglar de 60,62 ha (INVEMAR-CORALINA, 2016). Es un manglar de borde con árboles de 5,4 m de altura promedio, conformado por Rhizophora mangle, Avicennia germinans, Laguncularia racemosa y Conocarpus erectus. Evidencia de afectación por lodos aceitosos presentes en el sustrato y presencia de residuos sólidos (botellas, latas, plásticos). Actualmente, bajo la figura de Parque Regional se ha logrado su recuperación y es un enclave ambiental que sirve de hábitat a numerosas especies faunísticas residentes y migratorias.","Bahía Hooker-1"]
[null,null,null,null,null,null,null,null,null,null,null,null,null,null,null,48497,"DRATR-ZUS1-Bpai-1",2383,"Costado sur de la bahía, en el cual se observa una franja externa con árboles de porte alto precedida, por una pequeña franja de arracacho y abundante sedimentación que dificulta el acceso. Al interior _x000D_\r\r\n se encontró un bosque medianamente denso con presencia de R. mangle, L. racemosa y Nectandra sp ( sp asociada al ecosistema panganal).","Bahía La Paila-1"]
[null,null,null,null,null,null,null,null,null,null,null,null,null,null,null,48487,"DRATR-ZP1-Bmari-1",2379,"Bosque denso hacia afuera pero ralo al interior.Presencia de R. mangle, L. racemosa y P. rhizophorae.Presencia de orquídeas y helecho A. aureum.  Presión antrópica relacionada por Corta de Varas.","Bahía Marirrio"]
[null,null,null,null,null,null,null,null,null,null,null,null,null,null,null,48489,"DRATR-ZP1-Bmari-2",2380,"Bosque ralo al interior.  Se evidenciaron árboles cortados inclusive de los incluidos en la parcela, quitaron números de árboles marcados, por lo tanto se debió remarcar. Presencia de R. mangle y, L. racemosa.  Presión antrópica relacionada por Corta de Varas.","Bahía Marirrio"]
[null,null,null,null,null,null,null,null,null,null,null,null,null,null,null,45517,"CNGBAL-ZP3-Balboa-2",2092,null,"Balboa"]
[null,null,null,null,null,null,null,null,null,null,null,null,null,null,null,45097,"CNGBAL-ZP3-Balboa-1",2003,"La parcela se localiza tierra adentro de la ciénaga a 170 m  de la línea de agua y a 215 m de la carretera. El bosque de mangle es denso en el área de la parcela,  en los últimos metros se observa B. marítima  y se encuentra un arroyo, otro arroyo a  5 metros antes del inicio de la parcela.","Balboa-1"]
[null,null,null,null,null,null,null,null,null,null,null,null,null,null,null,43638,"CARI-ZP1-BC-1",1507,"Parcela montada en el marco del proyecto \"Lineamientos de restauración para los manglares del departamento de La Guajira\" ejecutado por INVEMAR. Franja estrecha de manglar adyacente a Laguna Grande. Parche con individuos de A germinans, C. erectus, intermezclados con bosque seco (Barrabas, tunas). Suelo arenoso con presencia de Batis maritima, escasa regeneración natural de manglar. Residuos sólidos","Barranco Colorao"]
[null,null,null,null,null,null,null,null,null,null,null,null,null,null,null,43775,"CARI-ZP1-BC-2",1582,"Franja estrecha de manglar adyacente a Laguna Grande. Parche con individuos de A germinans, C. erectus, intermezclados con bosque seco (Barrabas, tunas). Suelo arenoso con presencia de Batis maritima, escasa regeneración natural de manglar. Residuos sólidos","Barranco Colorao"]
[null,null,null,null,null,null,null,null,null,null,null,null,null,null,null,42119,"VIRU-SZ1-BARR-1",1107,null,"Barrial"]
[null,null,null,null,null,null,null,null,null,null,null,null,null,null,null,44580,"BARU-ZR1-Barú-1",1785,"Estación con presencia de R. mangle, A. germinans y L. racemosa, abundante regeneración, neumatóforos con tamaños superiores a 15 cm.  Nivel de inundación promedio de 10 cm, bosque con árboles secos. Ubicada en la costa de la ciénaga de los cansados.","Baru1"]
[null,null,null,null,null,null,null,null,null,null,null,null,null,null,null,48517,"DRATR-ZR1-Bmat-1",2384,"Bosque medianamente denso, presencia de R. mangle, L. racemosa y Nectandra sp ( sp asociada al ecosistema panganal).  Presión antrópica relacionada por Corta de Varas así mismo se observan agallas en todas las estructuras del manglar. Arboles mal formados.","Bazo Matuntugo -1"]
[null,null,null,null,null,null,null,null,null,null,null,null,null,null,null,43835,"MUSI-ZP1-BPULU-2",1606,"Parcela montada en el marco del proyecto \"Lineamientos de restauración para los manglares del departamento de La Guajira\" ejecutado por INVEMAR","Bc Pulumana-2"]
[null,null,null,null,null,null,null,null,null,null,null,null,null,null,null,42202,"BERR-ZR1-BERR-1",1139,null,"Berrugas"]
[null,null,null,null,null,null,null,null,null,null,null,null,null,null,null,44387,"BCER-ZUS1-BCER-1",1723,"Esta parcela ubica da cerca de la población de boca cerrada, presenta abundancia de Rhizophora mangle","Boca Cerrada"]
[null,null,null,null,null,null,null,null,null,null,null,null,null,null,null,42833,"TCO-ZR1-BCU-1",1344,null,"Boca Curay-1"]
[null,null,null,null,null,null,null,null,null,null,null,null,null,null,null,45918,"ISCUANDE-ZR1-GUABA-1",2151,"BOSQUE NATAL MIXTO CON ESPECIES DE NATO, PALMA NAIDI, SUELA, SAPOTOLONGO. EL SUELO PRESENTA CONSISTENCIA DURA . PRESENCIA DE REGENERACIÓN NATURAL DE PIÑUELO EN ALGUNOS CLAROS. NATO POCO INTERVENIDO.","Boca ISCUANDE"]
[null,null,null,null,null,null,null,null,null,null,null,null,null,null,null,43833,"MUSI-ZP1-BPULU-1",1605,null,"Boca Pulumana"]
[null,null,null,null,null,null,null,null,null,null,null,null,null,null,null,42261,"CANT-ZUS1-BSAIJ-1",1151,null,"Boca Rio Saija-1"]
[null,null,null,null,null,null,null,null,null,null,null,null,null,null,null,45418,"Coquí-ZUS1-Bovi-1",2068,"Parcela 0.1 ha, ubicada de manera perpendicular al borde del Estero Saturio, a 1,45 km aproximadamente de la comunidad de Coquí. Su bosque está compuesto por: Rhizophora mangle, Pelliciera rhizophorae y Mora oleifera.","Boca Vieja"]
[null,null,null,null,null,null,null,null,null,null,null,null,null,null,null,41967,"AST-ZP1-BOCA-1",1065,"Dificil acceso por cercas de alambres puas, Suelo anegadocon vegetacion brinzal","Bocana"]
[null,null,null,null,null,null,null,null,null,null,null,null,null,null,null,45883,"BVENT-ZR3-BA-1",2139,"Es importante destacar que estos bosques reciben una fuerte descarga de residuos sólidos provenientes de la ciudad de Bueventura que tiene una población de aproximadamente 400.000 habitantes.   En este sector predomina el Rhizophora mangle y en algunas parcelas la regeneración natural es nula.","Bocana Asocars"]
[null,null,null,null,null,null,null,null,null,null,null,null,null,null,null,45862,"BVENT-ZR3-BCVC-1",2136,"En términos generales este bosque a pesar de presentar un distribución diamétrica en forma de J invertida, es característico de un bosque altamente intervenido en concordancia con la zonificación de 2007 y se aprecia claramente en el valor del área basal de 10 m2 Ha, diámetro promedio de 10 cms con alturas que no superan los 24 metros y una baja densidad de árboles en las clases diamétricas superiores.","Bocana CVC"]
[null,null,null,null,null,null,null,null,null,null,null,null,null,null,null,45515,"OBRE;CHA-ZP3-BGUAPI-1",2091,"Cerca a la comunidad de Santa Rosa, hay mucha abundancia de agua dulce proveniente del río Guapi, la especie principal es el Mora oleifera","Bocana Guapi"]
[null,null,null,null,null,null,null,null,null,null,null,null,null,null,null,45900,"TAPAGE-ZR2-BOTAPAJE-1",2144,"BOSQUE DE MANGLE ROJO BIEN DESARROLLADO CON ALTA DENSIDAD DE RAÍCES AÉREAS, SE OBSERVA PRESENCIA DE TALAS DE INDIVIDUOS DE MAYOR PORTE.","Bocas TAPAGE -1"]
[null,null,null,null,null,null,null,null,null,null,null,null,null,null,null,45896,"TAPAGE-ZR1-SEQUIHONDA-1",2143,"BOSQUE DE MANGLE MIXTO. SU COMPOSICIÓN FLORISTICA DE MANGLE PIÑUELO, NATO E IGUANERO. ALTA REGENERACIÓN NATURAL. CONSISTENCIA DEL SUELO ALTAMENTE BLANDA","Bocas de SEQUIHONDA -1"]
[null,null,null,null,null,null,null,null,null,null,null,null,null,null,null,42113,"VIRU-SZ1-BOCO-1",1104,null,"Bocon"]
[null,null,null,null,null,null,null,null,null,null,null,null,null,null,null,45891,"ANCHI-ZR1-AB-1",2142,"Bosque medianamente intervenido con dominancia de mangle rojo.  Suelos más estables que en las otras parcelas donde predomina el mangle rojo.","Bodegas"]
[null,null,null,null,null,null,null,null,null,null,null,null,null,null,null,43578,"MUSI-ZP1-MDB-1",1495,"En la playa hay instalada una planta marca Izuso de montor diesel con manguera de 6\" que surte de agua de mar a aprox 27 piscinas. A lo largo de 1 km de playa se observó la apertura de 9 canales (entre diciembre 14 y enero 15) para abastecimiento de agua a las charcas","Borde -1"]
[null,null,null,null,null,null,null,null,null,null,null,null,null,null,null,43624,"MUSI-ZP1-MDB-2",1502,"Parcela montada en el marco del proyecto \"Lineamientos de restauración para los manglares del departamento de La Guajira\" ejecutado por INVEMAR. En la playa hay instalada una planta marca Izuso de montor diesel con manguera de 6\" que surte de agua de mar a aprox 27 piscinas. A lo largo de 1 km de playa se observó la apertura de 9 canales (entre diciembre 14 y enero 15) para abastecimiento de agua a las charcas","Borde del manglar -2"]
[null,null,null,null,null,null,null,null,null,null,null,null,null,null,null,43838,"MUSI-ZP1-MDB2-1",1607,null,"Borde del manglar 2-1"]
[null,null,null,null,null,null,null,null,null,null,null,null,null,null,null,43840,"MUSI-ZP1-MDB2-2",1608,"Parcela montada en el marco del proyecto \"Lineamientos de restauración para los manglares del departamento de La Guajira\" ejecutado por INVEMAR","Borde del manglar 2-2"]
[null,null,null,null,null,null,null,null,null,null,null,null,null,null,null,48444,"CORI-ZUS1-Buno-1",2372,"Desde fuera se observa una franja rala del ecosistema con árboles de porte bajo.  Mayor presencia de R, mangle y menor de A. germinans y L. racemosa. Al inferior se reportan las mismas especies. El sotobosque dominado por  helecho matatigre (A, aureum),  Se observan tocones por la corta de varas.  Presencia de comején, bolsas plásticas, tarros y basuras en general.","Buno-1"]
[null,null,null,null,null,null,null,null,null,null,null,null,null,null,null,45533,"BUR-ZP1-Buritac1-2",2100,null,"Buritaca 1"]
[null,null,null,null,null,null,null,null,null,null,null,null,null,null,null,45537,"BUR-ZR1-Buritc1-2",2102,null,"Buritaca 1"]
[null,null,null,null,null,null,null,null,null,null,null,null,null,null,null,45535,"BUR-ZP1-Buritac2-2",2101,null,"Buritaca 2"]
[null,null,null,null,null,null,null,null,null,null,null,null,null,null,null,45320,"BUR-ZR1-Buritac2-1",2046,"La parcela está ubicada a una distancia de 700 m al oriente de la desembocadura del Río Buritaca, 50 m del borde de la cobertura vegetal. Es un relicto de mangle constituido por L. racemos, en los últimos metros de la Parcela se observa una ligera depresión en la que se acumula agua, y es alimentada por las crecidas del rio. También se observa mangle inclinados y volcados además de zonas taladas.","Buritaca 2"]
[null,null,null,null,null,null,null,null,null,null,null,null,null,null,null,45539,"BUR-ZR1-Buritac2-2",2103,null,"Buritaca 2"]
[null,null,null,null,null,null,null,null,null,null,null,null,null,null,null,45308,"BUR-ZP1-Buritac2-1",2043,"Se localiza en el costado oriental del río Buritaca a 1 km de la desembocadura, a  60 m del borde de la cobertura vegetal y a pocos metros del final del manglar. En las inmediaciones hay palmas de coco, matorrales y pastos. Dentro de la parcela entre 15 a 20 m el suelo esta encharcado con presencia de ranconcha y arboles inclinados.","Buritaca 2-1"]
[null,null,null,null,null,null,null,null,null,null,null,null,null,null,null,45315,"BUR-ZR1-Buritc1-1",2044,"Se localiza a 800 m de la desembocadura del río Buritaca, en el extremo más al occidental del manglar, limita con zonas de potrero,  a una distancia de 18 m  del borde de la línea de cobertura vegetal. La parcela está constituida por mangla  L. racemosa y vegetación de playa. La franja de cobertura de mangla es reducida.","Buritaca ZR 1"]
[null,null,null,null,null,null,null,null,null,null,null,null,null,null,null,45305,"BUR-ZP1-Buritac1-1",2042,"Se ubica a 400 m de la desembocadura del río Buritaca,  y  a una distancia de 17 m  del borde de la cobertura vegetal que da a la playa turística que da a una madre vieja y esta a su vez está protegida del mar por una barra de arena. En esta área la franja de manglar es más ancha.","Buritaca_ZP_1-1"]
[null,null,null,null,null,null,null,null,null,null,null,null,null,null,null,42117,"VIRU-SZ1-CAIM-1",1106,null,"Caimanero"]
[null,null,null,null,null,null,null,null,null,null,null,null,null,null,null,43653,"NAVI-ZP1-CAMA1-1",1512,"Manglar tipo cuenca mono específico de A. germinans. En buen estado. Abundantes neumatóforos. Escasa regeneración natural","Camarones 1-1"]
[null,null,null,null,null,null,null,null,null,null,null,null,null,null,null,43757,"NAVI-ZP1-CAMA1-2",1573,"Parcela montada en el marco del proyecto \"Lineamientos de restauración para los manglares del departamento de La Guajira\" ejecutado por INVEMAR. Manglar tipo cuenca mono específico de A. germinans. En buen estado. Abundantes neumatóforos. Escasa regeneración natural","Camarones 1-2"]
[null,null,null,null,null,null,null,null,null,null,null,null,null,null,null,43656,"NAVI-ZP1-CAMA2-1",1513,"Manglar tipo cuenca mono específico de A. germinans. En buen estado. Abundantes neumatóforos. Escasa regeneración natural","Camarones 2-1"]
[null,null,null,null,null,null,null,null,null,null,null,null,null,null,null,43759,"NAVI-ZP1-CAMA2-2",1574,"Parcela montada en el marco del proyecto \"Lineamientos de restauración para los manglares del departamento de La Guajira\" ejecutado por INVEMAR. Manglar tipo cuenca mono específico de A. germinans. En buen estado. Abundantes neumatóforos. Escasa regeneración natural","Camarones 2-2"]
[null,null,null,null,null,null,null,null,null,null,null,null,null,null,null,45387,"CAMREAL-ZUS1-CAMREAL-1",2060,"VEGETACIÓN DE MANGLE ROJO ADULTO  BIEN DESARROLLADO CON INTERVENCIONES ESPORADICAS","Camino Real"]
[null,null,null,null,null,null,null,null,null,null,null,null,null,null,null,46010,"MAYO-ZUS1-Can-1",2215,null,"Cangrejo"]
[null,null,null,null,null,null,null,null,null,null,null,null,null,null,null,44259,"OP-ZP1-ki-1",1693,null,"Caño"]
[null,null,null,null,null,null,null,null,null,null,null,null,null,null,null,44261,"OP-ZP1-ki-2",1694,null,"Caño"]
[null,null,null,null,null,null,null,null,null,null,null,null,null,null,null,48750,"BCIS,EST-ZUS1-CñArteaga-1",2435,null,"Caño Arteaga"]
[null,null,null,null,null,null,null,null,null,null,null,null,null,null,null,44430,"BARC-ZUS1-CCAM-3",1736,"la parcela se encuentra paralela al caño la camaronera.","Caño Camaronera -3"]
[null,null,null,null,null,null,null,null,null,null,null,null,null,null,null,44380,"BARC-ZUS1-CCAM-1",1721,"La parcela se encuentra  paralela al caño la Camaronera, presenta intervención por parte del hombre","Caño Camaronera-1"]
[null,null,null,null,null,null,null,null,null,null,null,null,null,null,null,42093,"TIN-ZR1-EC-1",1099,"ESTACION COREA","Caño Corea -1"]
[null,null,null,null,null,null,null,null,null,null,null,null,null,null,null,45521,"CÑDULC-SZ1-DULC-2",2094,null,"Caño Dulce"]
[null,null,null,null,null,null,null,null,null,null,null,null,null,null,null,45264,"CÑDULC-SZ1-CÑDULC-1",2027,"Se ubica a 55 m al sur de la vía a la playa de Caño Dulce y a 16 m de la línea de vegetación, entre dos casas.  El crecimiento del mangle es ramificado, se observa intervención de la parcela para evitar el crecimiento de brinzales, para el fácil tránsito. Presenta suelos firmes y arcillosos. Se encontraron residuos sólidos.","Caño Dulce-1"]
[null,null,null,null,null,null,null,null,null,null,null,null,null,null,null,44440,"FRAN-ZR1-BCFRA-2",1741,"La parcela se encuentra paralela al coño el Frances","Caño El Frances -2"]
[null,null,null,null,null,null,null,null,null,null,null,null,null,null,null,45130,"BCIS,EST-ZUS1-el nene-1",2011,"la parcela esta ubicada en en zona de uso sostenible del la bahía de cispata, con predominancia de especie Rhizophora mangle, y esta fuertemente concrecionada por la deforestacion del manglar de manera no sostenible.","Caño El Nene-1-1"]
[null,null,null,null,null,null,null,null,null,null,null,null,null,null,null,45148,"BCIS,EST-ZUS1-caño grande-1",2017,"esta es una de las parcelas con mas baja densidad de arboles por metro cuadrado, los arboles presentan raquitismo, bajos niveles de inundación y sedimentacìon  en la zona.","Caño Grande"]
[null,null,null,null,null,null,null,null,null,null,null,null,null,null,null,45355,"BCIS,EST-ZUS7-caño grande 3-1",2054,"la parcela esta dominada por  las especies: Rhizophora mangle y Laguncularia racemosa, las cuales presentan unas características, de muchos arboles muertos  volcamiento por la erosión  marina,  los niveles de inundación son altos.","Caño Grande -3"]
[null,null,null,null,null,null,null,null,null,null,null,null,null,null,null,45930,"CGSM-SZ1-CGE-1",2157,"Parcela 1 monitoreada por el INVEMAR en el marco del ¨Monitoreo de las condiciones ambientales y los cambios estructurales y funcionales de las comunidades vegetales y de los recursos pesqueros durante la rehabilitación de la Ciénaga Grande de Santa Marta¨","Caño Grande E-1"]
[null,null,null,null,null,null,null,null,null,null,null,null,null,null,null,45932,"CGSM-SZ1-CGE-2",2158,"Parcela 2 monitoreada por el INVEMAR en el marco del ¨Monitoreo de las condiciones ambientales y los cambios estructurales y funcionales de las comunidades vegetales y de los recursos pesqueros durante la rehabilitación de la Ciénaga Grande de Santa Marta¨","Caño Grande E-2"]
[null,null,null,null,null,null,null,null,null,null,null,null,null,null,null,45934,"CGSM-SZ1-CGE-3",2159,"Parcela 3 monitoreada por el INVEMAR en el marco del ¨Monitoreo de las condiciones ambientales y los cambios estructurales y funcionales de las comunidades vegetales y de los recursos pesqueros durante la rehabilitación de la Ciénaga Grande de Santa Marta¨","Caño Grande E-3"]
[null,null,null,null,null,null,null,null,null,null,null,null,null,null,null,45072,"BCIS,EST-ZUS2-caño grande-1",1997,"la paralela se encuentra ubicada en la zona de uso sostenible de caño grande en la ciénaga mangoneas, con bajos niveles de inundación y con predominancia de la especia Rhizophora mangle, se observaba intervención de por actividades antro picas","Caño Grande-1"]
[null,null,null,null,null,null,null,null,null,null,null,null,null,null,null,44438,"GUAC-ZP1-CGUA-2",1740,"la parcela se encuentra paralela al caño de Guacamayas","Caño Guacamayas"]
[null,null,null,null,null,null,null,null,null,null,null,null,null,null,null,44410,"GUAC-ZP1-CGUA-1",1729,"la parcela se encuentra paralela al caño de Guacamayas","Caño Guacamayas-1"]
[null,null,null,null,null,null,null,null,null,null,null,null,null,null,null,42074,"LBAL-ZUS1-clb-1",1094,"parcela caño la balsa","Caño La Balsa"]
[null,null,null,null,null,null,null,null,null,null,null,null,null,null,null,44504,"BARB-ZR1-Lequerica-1",1762,"Parcela con árboles de R, mangle de gran altura, en algunos casos 30 metros, inundación en toda la parcela y   abundante regeneración natural de R. mangle.  árboles secos y caídos.","Caño Lequerica"]
[null,null,null,null,null,null,null,null,null,null,null,null,null,null,null,44378,"BARC-ZUS1-CMAT-1",1720,"la parcela se encuentra a 30 metros de la boca del caño Matuna","Caño Matuna-1"]
[null,null,null,null,null,null,null,null,null,null,null,null,null,null,null,44428,"BARC-ZUS1-CMAT-2",1735,"la parcela se encuentra a 30 metros de la boca del caño Matuna","Caño Matuna-2"]
[null,null,null,null,null,null,null,null,null,null,null,null,null,null,null,45109,"BCIS,EST-ZUS1-nisperal-1",2006,"la parcela esta ubicada en el sector la flotante en caño nisperal, con predominancia de la especie Rhizophora mangle, asociada a otras especies, y con arboles de gran tamaño y sanos.","Caño Nisperal-1"]
[null,null,null,null,null,null,null,null,null,null,null,null,null,null,null,45100,"BCIS,EST-ZUS4-palermo-1",2004,"la parcela esta ubicada en la zona de uso sostenible del sector caño palermo , con predominancia de la especie Rhizopohora mangle","Caño Palermo-1"]
[null,null,null,null,null,null,null,null,null,null,null,null,null,null,null,48758,"BCIS,EST-ZP1-CñSalado-1",2438,null,"Caño Salado"]
[null,null,null,null,null,null,null,null,null,null,null,null,null,null,null,45114,"BCIS,EST-ZUS1-caño salado-1",2007,"ubicada en el sector de caño salado en la zona de uso sostenible del la bahía de cispata","Caño Salado"]
[null,null,null,null,null,null,null,null,null,null,null,null,null,null,null,45351,"BCIS,EST-ZP1-caño salado 2-1",2053,"parcela ubicada en el sector de caño salado, con predominancia de las especies Rhizophora mangle,Pelliciera rhizophorae,Avicennia germinans, los arboles presenta condición de raquitismo, los niveles de inundación son bajos, por el sedimentos debido al material de arastre que trae el rio","Caño Salado -2"]
[null,null,null,null,null,null,null,null,null,null,null,null,null,null,null,42083,"BCIS,EST,SAL-ZP1-CS-1",1096,null,"Caño Salado-11"]
[null,null,null,null,null,null,null,null,null,null,null,null,null,null,null,48755,"CSI,SPIE-ZUS1-CñTijo-1",2437,null,"Caño Tijo-1"]
[null,null,null,null,null,null,null,null,null,null,null,null,null,null,null,45095,"BCIS,EST-ZR1-el tijo 2-1",2002,"la parcela esta ubicada en en la zona de recuperación del DMI,con predominancia de la especie Avicennia germinans","Caño Tijo-2"]
[null,null,null,null,null,null,null,null,null,null,null,null,null,null,null,45008,"BCIS,LIT-ZUS1-TIJO-1",1993,"La PPC se ubica en la ZUS de la Bahía de Cispatá, con influencia directa del Caño Tijó y con alta inundación. Presenta dominancia de A. germinans, con alta regeneración natural. Se presentan en menor proporción R. mangle.","Caño Tijo-2"]
[null,null,null,null,null,null,null,null,null,null,null,null,null,null,null,48429,"CORI-ZR1-Cura-1",2367,"Pequeño relicto monoespecífico de R. mangle, sin evidencias de presión antrópica.","Caño Urabalito -1"]
[null,null,null,null,null,null,null,null,null,null,null,null,null,null,null,44414,"FRAN-ZR1-BCFRA-1",1730,"La parcela se encuentra paralela al coño el Frances","Caño el Frances-1"]
[null,null,null,null,null,null,null,null,null,null,null,null,null,null,null,45040,"CCI,Sinu-ZUS1-el nene-1",1995,"la parcela ubicada en el sector caño el nene, con predominancia de la especie Rhizophora mangle, la cual esta sometida a una constante presión, por aprovechamiento forestal en el sector.","Caño el Nene -1"]
[null,null,null,null,null,null,null,null,null,null,null,null,null,null,null,41954,"CNGMLLQ-ZP1-CATO-1",1062,"Parcela dominada por A. germinans","CañoTubo"]
[null,null,null,null,null,null,null,null,null,null,null,null,null,null,null,45821,"BNAY-ZUS3-NC-1",2128,"El manglar de la estación naya presenta una condiciones regulares de conservación con una  área basal  y una cantidad de árboles aceptables  que permiten su recuperación si se garantizan estrategias de conservación como el aislamiento del bosque articuladas a un fuerte trabajo de empoderamiento por parte de las comunidades de base.","Chamuscado"]
[null,null,null,null,null,null,null,null,null,null,null,null,null,null,null,42181,"PCOM-ZR1-Chichi-1",1132,"franja que se encuentra en un estado de intervención alterado bajo, con sitios de anidacion de la tortuga Carey","Chichiman -1"]
[null,null,null,null,null,null,null,null,null,null,null,null,null,null,null,44585,"BARU-ZR1-Cholón-1",1787,"Dominada por R. mangle con numerosas raíces fúlcreas, sustrato duro.  Al final de la estación comienza vegetación de bosque seco.","Cholon-1"]
[null,null,null,null,null,null,null,null,null,null,null,null,null,null,null,44598,"TBOM-ZP1-Picón-1",1791,"Sitio con mucha basura al ingreso de la estación, don dominancia de R. mangle, se observaron pequeños parches de tala","Cienaga El Picon-1"]
[null,null,null,null,null,null,null,null,null,null,null,null,null,null,null,44405,"CANG-ZR1-CANG-1",1727,null,"Ciénaga Ana Gomez-1"]
[null,null,null,null,null,null,null,null,null,null,null,null,null,null,null,44407,"CANG-ZR1-CANG-2",1728,"La parcela esta ubicada al costado derecho de la Boca de la Ciénaga, presenta abundante arbolado de Mangle Negro de pequeño tamaño.","Ciénaga Ana Gomez-2"]
[null,null,null,null,null,null,null,null,null,null,null,null,null,null,null,44369,"CBEN-ZR1-CBEN-1",1718,"La parcela se ubica  entre caño Rico y Ciénaga Ana Gómez,  a 30 metros del cuerpo de agua","Ciénaga Benitez-1"]
[null,null,null,null,null,null,null,null,null,null,null,null,null,null,null,44424,"CBEN-ZR1-CBEN-3",1733,"La parcela se encuentra paralela al Caño Rico en Boca cerrada,","Ciénaga Benitez-3"]
[null,null,null,null,null,null,null,null,null,null,null,null,null,null,null,44442,"CCAIM-ZUS1-CCAIM-2",1742,null,"Ciénaga Caimanera -2"]
[null,null,null,null,null,null,null,null,null,null,null,null,null,null,null,44422,"CCAIM-ZUS1-CCAIM-1",1732,null,"Ciénaga Caimanera-1"]
[null,null,null,null,null,null,null,null,null,null,null,null,null,null,null,45078,"BCIS,EST-ZR1-el garzal-2",1998,"la parcela se encuentra ubicada en el sector caño el grazal en la zona de uso sostenible de la bahía de cispata, con predominancia de la especie Avicenia gerninans, con arboles de gran tamaño y sanos.","Ciénaga El Garzal -2"]
[null,null,null,null,null,null,null,null,null,null,null,null,null,null,null,45054,"BCIS,EST-ZR1-el garzal-1",1996,"la parcela esta ubicada en el sector de aprovechamiento de la ciénaga el garzal, con predominancia de la especie Rhizophora mangle, en una zona de bajos novales de inundación.","Ciénaga El Garzal-1"]
[null,null,null,null,null,null,null,null,null,null,null,null,null,null,null,45145,"BCIS,EST-ZUS1-el garzal 3-1",2016,"parcela ubicada en la zona de uso sostenible del sub sector de aprovechamiento de la ciénaga el garzal, con predominancia de especie Rhizophora mangle, en esta parcela se observan gran cantidad de arboles muertos, huellas de aprovechamiento forestal de la especie,","Ciénaga El Garzal-3"]
[null,null,null,null,null,null,null,null,null,null,null,null,null,null,null,45118,"BCIS,EST-ZR1-golo-1",2008,"ubicada en el sector de la ciénaga galo en la zona de uso sostenible de la bahía de cispata, con predominancia de la especie Rhizophora mangle, con arboles de gran tamaño, sanos y con bajos niveles de inundación.","Ciénaga Galo"]
[null,null,null,null,null,null,null,null,null,null,null,null,null,null,null,48753,"BCIS,EST-ZUS1-CgGalo-1",2436,null,"Ciénaga Galo"]
[null,null,null,null,null,null,null,null,null,null,null,null,null,null,null,43818,"MANZ-ZP1-CMZB-2",1599,"Parcela montada en el marco del proyecto \"Lineamientos de restauración para los manglares del departamento de La Guajira\" ejecutado por INVEMAR. (Tambien denotoda \"Sabaletes plata\" en el proyecto)","Ciénaga Manzanillo  B"]
[null,null,null,null,null,null,null,null,null,null,null,null,null,null,null,43811,"MANZ-ZP1-CMZ-1",1596,null,"Ciénaga Manzanillo -2"]
[null,null,null,null,null,null,null,null,null,null,null,null,null,null,null,43813,"MANZ-ZP1-CMZ-2",1597,"Parcela montada en el marco del proyecto \"Lineamientos de restauración para los manglares del departamento de La Guajira\" ejecutado por INVEMAR. (Tambien denotada como \"Cienaga Sabaletes\" en el proyecto)","Ciénaga Manzanillo -3"]
[null,null,null,null,null,null,null,null,null,null,null,null,null,null,null,43816,"MANZ-ZP1-CMZB-1",1598,null,"Ciénaga Manzanillo B"]
[null,null,null,null,null,null,null,null,null,null,null,null,null,null,null,49325,"MABA-ZP1-Manzanillo-1",1,"parcela fija (2 subparcelas). Estación Manglar Manzanillo (formada por 2 parcelas circulares): Manglar localizado al sur de la isla, constituido principalmente por Rhizophora mangle, como especie dominante y por Laguncularia racemosa. Se encuentra detrás de una barra arenosa y en su interior tiene un pequeño canal central en el que se acumulan aguas derivadas de la escorrentía y de un arroyo que se forma en época de lluvias, proveniente de Murray Hills. Tiene una cobertura de manglar de 1,59 ha (INVEMAR-CORALINA, 2016).","Ciénaga Manzanillo-1"]
[null,null,null,null,null,null,null,null,null,null,null,null,null,null,null,48766,"BCIS,LIT-ZP1-CgMestizo-1",2440,null,"Ciénaga Mestizos-1"]
[null,null,null,null,null,null,null,null,null,null,null,null,null,null,null,45121,"BCIS,EST-ZUS2-ostional.-1",2009,"la parcela cuenta con un gran numero de arboles de la especie Rhizophora mangle, de gran tamaño, y con un gran porcentaje de regeneración natural en un estado sano.","Ciénaga Ostional-1"]
[null,null,null,null,null,null,null,null,null,null,null,null,null,null,null,45136,"BCIS,EST-ZUS1-remedia pobre.-1",2013,"la parcela esta ubicada en la ciénaga remedia pobre que esta situada en el subsector de aprovechamiento del DMI con una baja densidad de arboles por parcela y con predominancia de la especia Rhiphora mangle","Ciénaga Remedia Pobre-1"]
[null,null,null,null,null,null,null,null,null,null,null,null,null,null,null,45125,"BCIS,EST-ZUS4-el grillo-1",2010,"la parcela esta ubicada en el sector el rincón del grillo en la zona de uso sostenible de la bahía de cispata, con predominancia de la especie Rhizopora mangle, con arboles de gran tamaño, se encuentran algunas lianas y elechales","Ciénaga Rincon Grillo-1"]
[null,null,null,null,null,null,null,null,null,null,null,null,null,null,null,43631,"SABA-ZP1-CS-1",1505,"Franja estrecha de manglar de buen porte dominado por A. germinans y en menor proporción C. erectus. El manglar se entremezcla con bosque seco, se destacan individuos de la familia de las cactáceas, \"Barrabas\" \"Guayabito\". En el suelo algunas camas de Batis maritima. El suelo es arenoso y con abundante hojarasca.  Muchos árboles retoñando. No se encontraron plántulas ni propágulos. Muchos árboles retoñando.","Ciénaga Sabaletes -1"]
[null,null,null,null,null,null,null,null,null,null,null,null,null,null,null,43820,"SABA-ZP1-CS-2",1600,"Franja estrecha de manglar de buen porte dominado por A. germinans y en menor proporción C. erectus. El manglar se entremezcla con bosque seco, se destacan individuos de la familia de las cactáceas, \"Barrabas\" \"Guayabito\". En el suelo algunas camas de Batis maritima. El suelo es arenoso y con abundante hojarasca.  Muchos árboles retoñando. No se encontraron plántulas ni propágulos. Muchos árboles retoñando.","Ciénaga Sabaletes -2"]
[null,null,null,null,null,null,null,null,null,null,null,null,null,null,null,43620,"SABA-ZP1-CSP-1",1500,"Franja de manglar de tipo borde y de barra. Bosque dominado por Laguncularia racemosa con un altura promedio de 7m. El manglar se entremezcla con individuos de bosque seco (Manzanillo) y matorral espinoso. Se encontraron aproximadamente 20 brinzales","Ciénaga Sabaletes P-1"]
[null,null,null,null,null,null,null,null,null,null,null,null,null,null,null,43628,"SABA-ZP1-CSP-2",1504,"Franja de manglar de tipo borde y de barra. Bosque dominado por Laguncularia racemosa con un altura promedio de 7m. El manglar se entremezcla con individuos de bosque seco (Manzanillo) y matorral espinoso. Se encontraron aproximadamente 20 brinzales","Ciénaga Sabaletes P-2"]
[null,null,null,null,null,null,null,null,null,null,null,null,null,null,null,45142,"BCIS,EST-ZR1-soledad-1",2015,"esta parcela esta predominada por la especie Rhizopora mangle, se presenta muerte descendente en algunos arboles y muchos presentan una condición de raquitismo, también  existen algunas lianas","Ciénaga Soledad"]
[null,null,null,null,null,null,null,null,null,null,null,null,null,null,null,48769,"BCIS,LIT-ZUS1-CñBalsa-1",2441,null,"Ciénaga la Balsa-1"]
[null,null,null,null,null,null,null,null,null,null,null,null,null,null,null,55552,"Cocoplum PPC-2",null,"Estación Manglar Cocoplum (formada por 3 parcelas circulares):Manglar de cuenca o interior, localizado en el costado oriental de la Isla, en la zona media. Se encuentra separado del mar por la carretera y se desarrolla detrás de formaciones vegetales distintas al manglar, en las que algunas de ellas son de tipo xerófila que crecen sobre arenas formando matorrales. Este manglar está conformado por Rhizophora mangle, Laguncularia racemosa, Avicennia germinans y baja frecuencia de Conocarpus erectus. Altura promedio de los árboles de 8,1 m. Presenta contaminación proveniente del asentamiento vecino conocido como Nueva Guinea, causante del vertimiento de aguas residuales y mala disposición de residuos sólidos, así como de una porqueriza localizada muy cerca del manglar. Hay evidencia de actividades de tala en su interior y de rellenos. Tiene una extensión de manglar de 38,53 ha (INVEMAR-CORALINA, 2016).","Cocoplum parcela circular-2"]
[null,null,null,null,null,null,null,null,null,null,null,null,null,null,null,55553,"Cocoplum PPC-3",null,"Estación Manglar Cocoplum (formada por 3 parcelas circulares):Manglar de cuenca o interior, localizado en el costado oriental de la Isla, en la zona media. Se encuentra separado del mar por la carretera y se desarrolla detrás de formaciones vegetales distintas al manglar, en las que algunas de ellas son de tipo xerófila que crecen sobre arenas formando matorrales. Este manglar está conformado por Rhizophora mangle, Laguncularia racemosa, Avicennia germinans y baja frecuencia de Conocarpus erectus. Altura promedio de los árboles de 8,1 m. Presenta contaminación proveniente del asentamiento vecino conocido como Nueva Guinea, causante del vertimiento de aguas residuales y mala disposición de residuos sólidos, así como de una porqueriza localizada muy cerca del manglar. Hay evidencia de actividades de tala en su interior y de rellenos. Tiene una extensión de manglar de 38,53 ha (INVEMAR-CORALINA, 2016).","Cocoplum parcela circular-3"]
[null,null,null,null,null,null,null,null,null,null,null,null,null,null,null,41479,"COCO-ZP1-CO-1",919,null,"Cocoplum_B-1"]
[null,null,null,null,null,null,null,null,null,null,null,null,null,null,null,45575,"JURA-ZUS1-Concho-1",2120,"Ubicada a 5.2 km aproximadamente de la localidad de Juradó, en la cabecera de un pequeño Estero que se comunica con el Estero que comunica a Juradó con Curiche; su composición forestal está dada por la presencia de cuatro (4) especies a saber: Mora oleifera, Pelliciera rhizophorae, Rhizophora mangle y Rhizophora recamosa. La parcela está limitada en su parte Este por una asociación  Catival.","Concho"]
[null,null,null,null,null,null,null,null,null,null,null,null,null,null,null,45529,"COR-ZP1-CtaVerde-2",2098,null,"Costa Verde P-2"]
[null,null,null,null,null,null,null,null,null,null,null,null,null,null,null,45301,"COR-ZP1-CtaVerde-1",2041,"La parcela se encuentra en el sur del parche de manglar de mayor extensión ubicado al sur del sector. Se localiza 40 m al norte del espolón, a 14 m de la playa, el inicio de la parcela da a pocos metros un camino y la parte final a una pequeña cuneta de agua. Constituida por las 4 especies de mangle reportadas para el Dpto. con predominio de A. germinans.","Costa Verde P1"]
[null,null,null,null,null,null,null,null,null,null,null,null,null,null,null,45531,"COR-ZR1-CtaVerde-2",2099,null,"Costa Verde R-2"]
[null,null,null,null,null,null,null,null,null,null,null,null,null,null,null,45297,"COR-ZR1-CtaVerde-1",2040,"La parcela se encuentra en el norte del parche de manglar de mayor extensión ubicado al sur del sector. Se localiza a  600 m al sur de la desembocadura del rio Córdoba, a 20 m la playa. Dentro de la parcela predomina L. racemosa, R. mangle y presencia de C. erectus,  los suelos que dan a la playa son arenosos y firmes.","Costa Verde R1"]
[null,null,null,null,null,null,null,null,null,null,null,null,null,null,null,45489,"CUER-ZP2-CUERVAL-1",2085,"Parcela sencilla de 20 m de ancho x 50 m de largo","Cuerval"]
[null,null,null,null,null,null,null,null,null,null,null,null,null,null,null,40974,"DDGO-SZ1-DDIE-1",724,"La parcela se estableció en un bosque monoespecífico de L. racemosa.","Don Diego"]
[null,null,null,null,null,null,null,null,null,null,null,null,null,null,null,45330,"DDGO-ZR1-DnDieg-1",2048,"Ubicadas a 150 m al Oriente de la cabaña de pescador, en el orilla Norte de la madre vieja. Es una parcela compuesta constituida con 2 parcelas distanciadas 16 m una de la otra, cada una con área de 100 m², ubicadas una al lado de la otra, paralelas a la línea de agua.","Don Diego"]
[null,null,null,null,null,null,null,null,null,null,null,null,null,null,null,45326,"DDGO-ZP2-DnDieg-1",2047,"En la costa queda un pequeño relicto denso mejor conservado localizado a lo largo de un canal de aguas, y que desemboca en una cuneta donde se acumula el agua. Se encuentra la especie de mangle L. racemosa,  Este relicto se encuentra rodeado de vegetación secundaria por el borde costero.","Don Diego-1"]
[null,null,null,null,null,null,null,null,null,null,null,null,null,null,null,45545,"DDGO-ZP2-DnDieg-2",2106,null,"Don Diego-2"]
[null,null,null,null,null,null,null,null,null,null,null,null,null,null,null,45332,"DDGO-ZR1-DnDieg-2",2049,"Ubicada a 120 m al Oriente de la cabaña de pescador, sobre la orilla sur de la madre vieja  a pocos metros del lindero. Suelos pantanosos y encharcados.","Don Diego-2"]
[null,null,null,null,null,null,null,null,null,null,null,null,null,null,null,45541,"DDGO-ZR1-DnDieg-3",2104,null,"Don Diego-3"]
[null,null,null,null,null,null,null,null,null,null,null,null,null,null,null,45543,"DDGO-ZR1-DnDieg-4",2105,null,"Don Diego-4"]
[null,null,null,null,null,null,null,null,null,null,null,null,null,null,null,43781,"MUSI-ZP1-DUAL-2",1585,"Parcela montada en el marco del proyecto \"Lineamientos de restauración para los manglares del departamento de La Guajira\" ejecutado por INVEMAR","Ducto Arroyo Límón"]
[null,null,null,null,null,null,null,null,null,null,null,null,null,null,null,43828,"MUSI-ZP1-ECPSO-1",1603,null,"EC_Parche SO"]
[null,null,null,null,null,null,null,null,null,null,null,null,null,null,null,43830,"MUSI-ZP1-ECPSO-2",1604,"Parcela montada en el marco del proyecto \"Lineamientos de restauración para los manglares del departamento de La Guajira\" ejecutado por INVEMAR","EC_Parche SO"]
[null,null,null,null,null,null,null,null,null,null,null,null,null,null,null,44635,"JPVI-ZR1-VirgenOriente-1",1804,"A lo largo de toda la parcela se encuentran islotes de R. mangle con raíces de más de dos metros de alto y A. germinans en el sector final.., inundación a lo largo de toda la estación.  poca regeneración natural, se evidencia tala.","E_La Virgen"]
[null,null,null,null,null,null,null,null,null,null,null,null,null,null,null,45103,"BCIS,EST-ZR1-el claval-1",2005,"ubicada en la zona de recuperación el claval  cerca a la antigua camaronera agro soledad, muy influenciada por las actividades antro picas del sector","El Caval"]
[null,null,null,null,null,null,null,null,null,null,null,null,null,null,null,45012,"CCI,Sinu-ZUS1-CLAVAL-1",1994,"Ubicada en la antigua Camaronera, con fuerte influencia antrópica, principalmente por aprovechamiento forestal de mangle con evidencia de huellas de aprovechamiento. La especie predominante es A. germinans. Bajos niveles de inundación.","El Claval"]
[null,null,null,null,null,null,null,null,null,null,null,null,null,null,null,48990,"El Cove-ZP1-El cove-1",2501,"Parcela Caricomp (2 circulares): 2016","El Cove -1"]
[null,null,null,null,null,null,null,null,null,null,null,null,null,null,null,55556,"El Cove PPC-2",null,"Estación Manglar El Cove (formada por 2 parcelas circulares): Es un manglar de borde, ubicado en el costado oriental en la parte media de la Isla, que presenta una cobertura de 2,20 ha (INVEMAR-CORALINA, 2016).","El Cove parcela circular-2"]
[null,null,null,null,null,null,null,null,null,null,null,null,null,null,null,44592,"BARU-ZR1-Mohán-1",1789,"Franja delgada de mangle distribuidos en una franja conformada hacia el extremo derecho por árboles adultos, y el extremo izquierdo solo plántulas con tamaños entre 1,60 y 2 metros de altura.","El Mohan-1"]
[null,null,null,null,null,null,null,null,null,null,null,null,null,null,null,45905,"ISCUANDE-ZR1-EL MUERTO-1",2145,"SE PUEDE CONSIDERAR UNO DE LOS MANGLARES MAS DESARROLLADOS EN DIÁMETRO Y ALTURA DE NARIÑO. CON DOMINANCIA DEL MANGLE ROJO. ALTA DENSIDAD DE RAÍCES Y PRESENCIA DEL HELECHO RANCONCHA. AFECTADO POR TALAS.","El Muerto"]
[null,null,null,null,null,null,null,null,null,null,null,null,null,null,null,45404,"ENSENADA-ZP2-MIQUITOS-1 MIQUITOS CURAY",2064,"BOSQUE DE MANGLE ROJO BIEN DESARROLLADO CON SU ESTRUCTURA VERTICAL Y HORIZONTAL INTERVENIDAS. POCA REGENERACIÓN NATURAL","Ensenada Miquitos"]
[null,null,null,null,null,null,null,null,null,null,null,null,null,null,null,45318,"Tribugá-ZP1-Enstrib-1",2045,"Parcela rectangular de 0.1 ha, ubicada a 730 m aproximadamente al Norte de Tribugá, en la margen izquierda del Estero Puerquera. Su cobertura forestal corresponde a un bosque monoespecífico de Rhizophora mangle.","Ensenada Tribuga -1"]
[null,null,null,null,null,null,null,null,null,null,null,null,null,null,null,48576,"ERIO-ZP8-Errio-3",2411,"El costado sur de la ensenada se caracteriza por la presencia de una cobertura rala principalmente con R. mangle, hacia afuera con árboles de porte alto con pequeñas fosas internas. Ubicada cerca de la antigua desembocadura, se observa limpio sin residuos o basuras, porte alto con mayor presencia de R. mangle. Se evidenció teredo y agallas en pocos árboles.","Ensenada de Rionegro -3"]
[null,null,null,null,null,null,null,null,null,null,null,null,null,null,null,48578,"ERIO-ZP8-Errio-4",2412,"Costado oriental de la ensenada con bosque denso y presencia de R.mangle, L. racemosa  y algunos E. germinans.  Se muestreo como especie predominante el R. mangle acompañada de L. racemosa.  Bosque denso con buena altura en algunos árboles se observó ataque de Teredo al igual que la presencia de agallas.","Ensenada de Rionegro -4"]
[null,null,null,null,null,null,null,null,null,null,null,null,null,null,null,48417,"ERIO-ZP8-Erio-1",2364,"El costado sur de la ensenada se caracteriza por la presencia de una cobertura rala principalmente con R. mangle, hacia afuera con árboles de porte alto con pequeñas fosas internas. Ubicada cerca de la antigua desembocadura, se observa limpio sin residuos o basuras, porte alto con mayor presencia de R. mangle. Se evidenció teredo y agallas en pocos árboles.","Ensenada de Rionegro.-1"]
[null,null,null,null,null,null,null,null,null,null,null,null,null,null,null,48419,"ERIO-ZP8-Erio-2",2365,"Costado oriental de la ensenada con bosque denso y presencia de R.mangle, L. racemosa  y algunos E. germinans.  Se muestreo como especie predominante el R. mangle acompañada de L. racemosa.  Bosque denso con buena altura en algunos árboles se observó ataque de Teredo al igual que la presencia de agallas.","Ensenada de Rionegro.-2"]
[null,null,null,null,null,null,null,null,null,null,null,null,null,null,null,43668,"NAVI-ZP1-ENMU-1",1517,"Manglar franjeante de poca extensión, se observan varios individuos muertos de L. racemosa y regeneración natural de C. erectus aunque los individuos adultos se encuentran en mal estado. El paisaje está fragmentado por senderos utilizados por pescadores, dada la potencialidad de uso para pesca de esta zona. Franja estrecha (1,5m) con desarrollo abundante de neumatóforos sobre el costado que rodea Laguna Grande. Poca hojarasca y alta riqueza de aves (Garzas, gaviotas, cormoranes, pelicano, chulo). Sin regeneración natural","Ensenada de los Muertos-1"]
[null,null,null,null,null,null,null,null,null,null,null,null,null,null,null,43767,"NAVI-ZP1-ENMU-2",1578,"Parcela montada en el marco del proyecto \"Lineamientos de restauración para los manglares del departamento de La Guajira\" ejecutado por INVEMAR. Manglar franjeante de poca extensión, se observan varios individuos muertos de L. racemosa y regeneración natural de C. erectus aunque los individuos adultos se encuentran en mal estado. El paisaje está fragmentado por senderos utilizados por pescadores, dada la potencialidad de uso para pesca de esta zona. Franja estrecha (1,5m) con desarrollo abundante de neumatóforos sobre el costado que rodea Laguna Grande. Poca hojarasca y alta riqueza de aves (Garzas, gaviotas, cormoranes, pelicano, chulo). Sin regeneración natural","Ensenada de los Muertos-2"]
[null,null,null,null,null,null,null,null,null,null,null,null,null,null,null,47534,"BB-ZR2-EAg-1",2285,"Manglar altamente intervenido con predominio de mangle.Ubicada en el estero aguacate frente TC buen","Estero Aguacate-1"]
[null,null,null,null,null,null,null,null,null,null,null,null,null,null,null,45505,"STRITA-ZR1-ECOVADO-1",2089,"Parcela sencilla de 20 m de ancho x 50 m de largo","Estero Covado"]
[null,null,null,null,null,null,null,null,null,null,null,null,null,null,null,42257,"CANT-ZP1-ELAG-1",1150,null,"Estero Lagartero"]
[null,null,null,null,null,null,null,null,null,null,null,null,null,null,null,45832,"YURU-ZP2-YEP-1",2130,"En síntesis se esperaba que este sector se encontrara en mejores condiciones,  pero por la gran cantidad de árboles pequeños a pesar de tener el mayor área basal, se puede considerar que este es un bosque altamente intervenido en contraposición con la zonificación 2007 que lo cataloga como poco intervenido.","Estero Pasadero"]
[null,null,null,null,null,null,null,null,null,null,null,null,null,null,null,47536,"BB-ZR2-EAg-2",2286,"Manglar altamente intervenido con predominio de mangle.Ubicada en el estero piñal frente al muelle de Sociedad portuaria","Estero Piñal"]
[null,null,null,null,null,null,null,null,null,null,null,null,null,null,null,45478,"TIMB-ZR2-EREAL-1",2082,"Parcela sencilla de 20 m de ancho x 50 m de largo.","Estero Real"]
[null,null,null,null,null,null,null,null,null,null,null,null,null,null,null,47510,"Piñtcb-ZR1-EA-1",2273,"Manglar altamente intervenido, con presencia de residuos solidos en descomposición. Ubicada en el estero san antonio frente al puente al sena","Estero San Antonio -1"]
[null,null,null,null,null,null,null,null,null,null,null,null,null,null,null,47512,"Piñtcb-ZR1-EA-2",2274,"Manglar altamente intervenido, con presencia de residuos sólidos en descomposición. Ubicada en el estero san antonio frente al puente del piñal","Estero San Antonio -2"]
[null,null,null,null,null,null,null,null,null,null,null,null,null,null,null,46022,"RAPO-ZR1-E.SaM-1",2219,"manglar altamente intervenido con buena asociacion de especies de manglar","Estero San Miguel"]
[null,null,null,null,null,null,null,null,null,null,null,null,null,null,null,42253,"BNAY-ZR1-ESR-1",1149,null,"Estero Santa Rita-1"]
[null,null,null,null,null,null,null,null,null,null,null,null,null,null,null,42816,"FRAPIZ-ZR1-ESZA-2",1342,null,"Estero Zapallo "]
[null,null,null,null,null,null,null,null,null,null,null,null,null,null,null,45888,"ANCHI-ZR1-AFB-1",2141,null,"Firme Bonito"]
[null,null,null,null,null,null,null,null,null,null,null,null,null,null,null,42211,"GUAC-ZP1-GUACA-1",1141,null,"Guacamayas"]
[null,null,null,null,null,null,null,null,null,null,null,null,null,null,null,40987,"GUA-SZ1-GUA-1",728,"Para llegar a la parcela desde Santa Marta,","Guachaca"]
[null,null,null,null,null,null,null,null,null,null,null,null,null,null,null,45339,"GUA-ZP4-Guachc-1",2050,"Se localiza en el costado Oriental  a 500 m de la desembocadura del río Guachaca, la parcela  va desde la playa, atraviesa un cuerpo de agua llegando a un potrero en el patio de una vivienda. Con suelos firmes a encharcados.","Guachaca-1"]
[null,null,null,null,null,null,null,null,null,null,null,null,null,null,null,45547,"GUA-ZP4-Guachc-2",2107,null,"Guachaca-2"]
[null,null,null,null,null,null,null,null,null,null,null,null,null,null,null,45858,"DGUA-ZR3-DG-1",2135,"El bosque de manglar de Dagua presenta características muy especiales.  Por un lado tiene una distribución diamétrica del número de árboles en forma de J invertida que permite garantizar la dinámica sucesional bosque. Por otro lado el análisis de la estructura vertical del bosque permite visualizar la fragmentación del bosque que concuerda con la zonificación de bosque altamente intervenido.","Guadualito"]
[null,null,null,null,null,null,null,null,null,null,null,null,null,null,null,44561,"esza-ZUS1-Hoblan-1",1771,null,"Hojas Blancas"]
[null,null,null,null,null,null,null,null,null,null,null,null,null,null,null,45852,"ANCHI-ZR1-AHM-1",2134,"En términos generales se puede considerar que por el área basal,  el número de árboles, la estructura vertical y la cobertura de copas, este bosque corresponde a un manglar Medianamente Intervenido,  lo que hace evidente la importancia de actualizar la zonificación ya que este sitio se encuentra clasificado actualmente  en la categoría de altamente intervenido.","Humanes Mar"]
[null,null,null,null,null,null,null,null,null,null,null,null,null,null,null,44609,"BCAR-ZP1-Ingesa-1",1795,"Ubicado en un islote, con el sustrato del borde de material calcáreo, R. mangle como especie dominante con raíces fulcreas abundantes.  Bosque en buen estado, algunos troncos secos y muertos.","Ingesa"]
[null,null,null,null,null,null,null,null,null,null,null,null,null,null,null,45281,"CGSM-SZ1-IBoqrn-1",2034,"Localizada  en el extremo Noroccidental de la isla al frente al islote Boquerón pequeño.  Es una parcela compuesta por 5 parcelas y cada una tiene un área de 100 m². Es un bosque joven y en buen estado constituido por las especie R. mangle y A. germinans,","Isla Boqueron -1"]
[null,null,null,null,null,null,null,null,null,null,null,null,null,null,null,45283,"CGSM-SZ1-IBoqrn-2",2035,"Se ubica al centro norte del Islote. Es una parcela compuesta por 5 parcelas y cada una tiene un área de 100 m².","Isla Boqueron -2"]
[null,null,null,null,null,null,null,null,null,null,null,null,null,null,null,45285,"CGSM-SZ1-IBoqrn-3",2036,"Se localiza en el costado nororiental del islote, la parcela presenta una densidad que se incrementa a medida que se introduce a tierra firme, conformada por A. germinanas y R. mangle. Es una parcela compuesta, constituida con 5 parcelas y cada una tiene un área de 100 m².","Isla Boqueron -3"]
[null,null,null,null,null,null,null,null,null,null,null,null,null,null,null,45555,"CGSM-SZ1-IBoqrn-4",2111,null,"Isla Boqueron-4"]
[null,null,null,null,null,null,null,null,null,null,null,null,null,null,null,45557,"CGSM-SZ1-IBoqrn-5",2112,null,"Isla Boqueron-5"]
[null,null,null,null,null,null,null,null,null,null,null,null,null,null,null,45559,"CGSM-SZ1-IBoqrn-6",2113,null,"Isla Boqueron-6"]
[null,null,null,null,null,null,null,null,null,null,null,null,null,null,null,45151,"BCIS,EST-ZUS1-Jesús primera -1",2018,"esta esta ubicada en la sector de aprovechamiento ciénaga el vertel, con predominancia de la especie Avicenia gerninans, este es uno de los sitios que se mantienen sus condiciones naturales casi intactas,","Jesus Primera"]
[null,null,null,null,null,null,null,null,null,null,null,null,null,null,null,55572,"Jhon Mangrove PPC-1",null,"Estación Manglar Jhon Mangrove (formada por 1 parcela circular): Es un manglar de cuenca, ubicado en el costado noroeste de la Isla, que presenta una cobertura de 3,7 ha (INVEMAR-CORALINA, 2016).","Jhon Mangrove parcela circular-3"]
[null,null,null,null,null,null,null,null,null,null,null,null,null,null,null,43665,"NAVI-ZP1-KM3-1",1516,null,"Kilometro 3 -1"]
[null,null,null,null,null,null,null,null,null,null,null,null,null,null,null,43765,"NAVI-ZP1-KM3-2",1577,null,"Kilometro 3-2"]
[null,null,null,null,null,null,null,null,null,null,null,null,null,null,null,45907,"VIPIS-SZ1-KM22-1",2146,"Parcela 1 monitoreada por el INVEMAR en el marco del ¨Monitoreo de las condiciones ambientales y los cambios estructurales y funcionales de las comunidades vegetales y de los recursos pesqueros durante la rehabilitación de la Ciénaga Grande de Santa Marta¨","Kilómetro 22 -1"]
[null,null,null,null,null,null,null,null,null,null,null,null,null,null,null,45910,"VIPIS-SZ1-KM22-2",2147,"Parcela 2 monitoreada por el INVEMAR en el marco del ¨Monitoreo de las condiciones ambientales y los cambios estructurales y funcionales de las comunidades vegetales y de los recursos pesqueros durante la rehabilitación de la Ciénaga Grande de Santa Marta¨","Kilómetro 22 -2"]
[null,null,null,null,null,null,null,null,null,null,null,null,null,null,null,45912,"VIPIS-SZ1-KM22-3",2148,"Parcela 3 monitoreada por el INVEMAR en el marco del ¨Monitoreo de las condiciones ambientales y los cambios estructurales y funcionales de las comunidades vegetales y de los recursos pesqueros durante la rehabilitación de la Ciénaga Grande de Santa Marta¨","Kilómetro 22 -3"]
[null,null,null,null,null,null,null,null,null,null,null,null,null,null,null,49587,"OBRE;CHA-SZ1-LAGO-1",2640,"Parcela de Manglar CRC","LAGO"]
[null,null,null,null,null,null,null,null,null,null,null,null,null,null,null,45139,"BCIS,EST-ZUS1-la alberca-1",2014,"esta parcela permanente de crecimiento, con predominancia de especie Avicenia germinans","La Alberca"]
[null,null,null,null,null,null,null,null,null,null,null,null,null,null,null,42198,"CBOQ-ZR1-BOQU-1",1138,null,"La Boquilla"]
[null,null,null,null,null,null,null,null,null,null,null,null,null,null,null,45579,"JURA-ZP1-Laca-1",2121,"Se ubica a 1.1 km aproximadamente al Noreste de la comunidad de Curiche, en la margen derecha del Estero La Calle; su bosque está compuesto por Rhizophora mangle y Avicennia germinans.","La Calle"]
[null,null,null,null,null,null,null,null,null,null,null,null,null,null,null,45133,"BCIS,EST-ZR1-camaronera-1",2012,"parcela ubicada en la zona de recuperación del la bahía de cispata, con predominancia de la especie Avicenia  germinans, con bajos niveles de inundación, con gran cantidad de arboles de gran tamaño y en buen estado.","La Camaronera"]
[null,null,null,null,null,null,null,null,null,null,null,null,null,null,null,45347,"BCIS,EST-ZUS6-la cuenca-1",2052,"esta ubicada en el sub sector de aprovechamiento, remedia pobre, en la zona de uso sostenible del DMI, esta parcela tiene predominancia de la especie Avicemia gerninans, Rhizophora mangle entre otras, los arboles presentan unas condiciones de raquitismo y se encuentran gran cantidad de arboles y ramas muertas, hay huellas de aprovechamiento forestal en esta parcela.","La Cuenca"]
[null,null,null,null,null,null,null,null,null,null,null,null,null,null,null,45586,"BCIS,EST-ZUS1-la flotante-1",2123,"la parcela esta ubicada en la zona de uso sostenible del DMI en el sector la flotante en caño nisperal, con predominancia de la especie Rhizophora mangle, con arboles de gran tamaño, las condiciones del bosque son muy buenas existe abundante fauna silvestre benéfica para el sistema manglarico","La Flotante"]
[null,null,null,null,null,null,null,null,null,null,null,null,null,null,null,43763,"NAVI-ZP1-ALP-2",1576,"Parcela montada en el marco del proyecto \"Lineamientos de restauración para los manglares del departamento de La Guajira\" ejecutado por INVEMAR. Franja de manglar tipo cuenca adyacente al arroyo compuesto por A. germinans y L. racemosa. Se observan algunos árboles secos defoliados. Abundantes neumatóforos de tamaño mediano. Algunos árboles con daños en el tronco. Se observaron caminos en las inmediaciones. Escasa regeneración natural y presencia de B. maritima.","La Piedrecita"]
[null,null,null,null,null,null,null,null,null,null,null,null,null,null,null,41384,"LRAY-ZR1-LRA-1",886,"La parcela se ubica perpendicular a la línea de costa, aproximadamente a un Kilómetro de la comunidad indigena Wayuú asentada en el lugar. En sus aproximaciones se encuentra La Laguna de Buena Vista, que es alimetada por el Río Ranchería y tiene conexión con el mar que permanece abierta prácticamente todo el año (Gil-Torres et al., 2009). Dentro del bosque de manglar, se encuentran suelos fangososo sin compactar altamente inundados; en las zonas exteriores y circundantes al mismo se observan suelos que corresponden a depósitos de materiales calcáreos gruesos y conchas apartadas por el mar. Se observa que la especie dominante es A. germinans (Vidal-Hernández, 2013)_x000D_","La Raya"]
[null,null,null,null,null,null,null,null,null,null,null,null,null,null,null,41386,"LRAY-ZR1-LRA-2",887,"La parcela se ubica perpendicular a la línea de costa, aproximadamente a un Kilómetro de la comunidad indigena Wayuú asentada en el lugar. En sus aproximaciones se encuentra La Laguna de Buena Vista, que es alimetada por el Río Ranchería y tiene conexión con el mar que permanece abierta prácticamente todo el año (Gil-Torres et al., 2009). Dentro del bosque de manglar, se encuentran suelos fangososo sin compactar altamente inundados; en las zonas exteriores y circundantes al mismo se observan suelos que corresponden a depósitos de materiales calcáreos gruesos y conchas apartadas por el mar. Se observa que la especie dominante es A. germinans (Vidal-Hernández, 2013)_x000D_","La Raya-2"]
[null,null,null,null,null,null,null,null,null,null,null,null,null,null,null,41388,"LRAY-ZR1-LRA-3",888,"La parcela se ubica perpendicular a la línea de costa, aproximadamente a un Kilómetro de la comunidad indigena Wayuú asentada en el lugar. En sus aproximaciones se encuentra La Laguna de Buena Vista, que es alimetada por el Río Ranchería y tiene conexión con el mar que permanece abierta prácticamente todo el año (Gil-Torres et al., 2009). Dentro del bosque de manglar, se encuentran suelos fangososo sin compactar altamente inundados; en las zonas exteriores y circundantes al mismo se observan suelos que corresponden a depósitos de materiales calcáreos gruesos y conchas apartadas por el mar. Se observa que la especie dominante es A. germinans (Vidal-Hernández, 2013)_x000D_","La Raya-3"]
[null,null,null,null,null,null,null,null,null,null,null,null,null,null,null,43761,"NAVI-ZP1-LR-2",1575,"Parcela montada en el marco del proyecto \"Lineamientos de restauración para los manglares del departamento de La Guajira\" ejecutado por INVEMAR. Bosque tipo cuenca mono específico de A. germinans.  Árboles secos totalmente defoliados, algunos muertos.  Abundantes neumatóforos, terreno seco, arcillo arenoso. Zona para tránsito de pescadores y ganado.  Sin regeneración natural. Sin regeneración natural.","La Revuelta -2"]
[null,null,null,null,null,null,null,null,null,null,null,null,null,null,null,43659,"NAVI-ZP1-LR-1",1514,"Bosque tipo cuenca mono específico de A. germinans.  Árboles secos totalmente defoliados, algunos muertos.  Abundantes neumatóforos, terreno seco, arcillo arenoso. Zona para tránsito de pescadores y ganado.  Sin regeneración natural. Sin regeneración natural","La Revuelta-1"]
[null,null,null,null,null,null,null,null,null,null,null,null,null,null,null,42099,"BCIS,EST,SAL-ZUS1-ZON-1",1101,null,"La Zona"]
[null,null,null,null,null,null,null,null,null,null,null,null,null,null,null,45484,"TIMB-ZUS1-LARGAR-1",2084,"Ubicada en la bocana de Saija, Parcela sencilla de 20 m de ancho x 50 m de largo","Lagartero"]
[null,null,null,null,null,null,null,null,null,null,null,null,null,null,null,43626,"MUSI-ZP1-LP2-2",1503,"Parcela montada en el marco del proyecto \"Lineamientos de restauración para los manglares del departamento de La Guajira\" ejecutado por INVEMAR. Todo el borde de manglar está muerto. Abundante hojarasca. Neumatóforos secos con sedimento adherido. Árboles de mangle altamente ramificados y con crecimiento achaparrado. Cuerpo de agua estancado color café, sedimentos arcillosos color rojizo (betas)","Laguna Pulumana 2"]
[null,null,null,null,null,null,null,null,null,null,null,null,null,null,null,43581,"MUSI-ZP1-LP2-1",1496,"Todo el borde de manglar está muerto. Abundante hojarasca. Neumatóforos secos con sedimento adherido. Árboles de mangle altamente ramificados y con crecimiento achaparrado. Cuerpo de agua estancado color café, sedimentos arcillosos color rojizo (betas)","Laguna Pulumana 2-1"]
[null,null,null,null,null,null,null,null,null,null,null,null,null,null,null,43584,"MUSI-ZP1-LP3-1",1497,"Franja de manglar en mediano estado de conservación. Borde de Rm muerto con raices taponadas por sedimentos y signos de tejido podrido (necrosis). Individuos de A.g con flores y frutos. Sustrato con apariencia franco-arenosa con pocos restos calcareos. Abundantes neumatóforos y hojas en descomposición. Galerias de Uca sp. Competencia con Batis maritima, esta planta bordea el cuerpo de agua y se mezcla con neumatoforos. Se contabilizaron 82 galerias de Uca sp en 1 m2 a una distancia de 4 m de largo del cuerpo de agua más cercano.  La playa está colonizada por Batis y Sesuvium. En la boca de pulumaná la marea está pasando por encima de la barra de arena y está ingresando agua fresca al sistema. se encontraron varios peces muertos (Globos y Mojarras)","Laguna Pulumana 3-1"]
[null,null,null,null,null,null,null,null,null,null,null,null,null,null,null,43785,"MUSI-ZP1-LP3-2",1587,"Parcela montada en el marco del proyecto \"Lineamientos de restauración para los manglares del departamento de La Guajira\" ejecutado por INVEMAR. Franja de manglar en mediano estado de conservación. Borde de Rm muerto con raices taponadas por sedimentos y signos de tejido podrido (necrosis). Individuos de A.g con flores y frutos. Sustrato con apariencia franco-arenosa con pocos restos calcareos. Abundantes neumatóforos y hojas en descomposición. Galerias de Uca sp. Competencia con Batis maritima, esta planta bordea el cuerpo de agua y se mezcla con neumatoforos. Se contabilizaron 82 galerias de Uca sp en 1 m2 a una distancia de 4 m de largo del cuerpo de agua más cercano.  La playa está colonizada por Batis y Sesuvium. En la boca de pulumaná la marea está pasando por encima de la barra de arena y está ingresando agua fresca al sistema. se encontraron varios peces muertos (Globos y Mojarras)","Laguna Pulumana 3-2"]
[null,null,null,null,null,null,null,null,null,null,null,null,null,null,null,41396,"LSAL-ZR1-LSA-1",892,"Para llegar a esta parcela se toma la troncal del Caribe en la vía Riohacha – Maicao que corresponde a la carrera 1C frente a la entrada de la circunvalar. Se llega al parque del sendero ecológico de la laguna y se ingresa al manglar por el costado suroccidental a unos 30 m aproximadamente.  La parcela de monitoreo está localizada en el bosque de cuenca dominado por L. racemosa con alturas máximas de 16 m, de gran porte, junto a árboles de A. germinans muy ramificados desde el tronco y algunos defoliados, con alturas de 6 a 9 m. El suelo es areno fangoso cubierto de una capa gruesa de hojarasca en descomposición, con pocos neumatóforos y abundante regeneración natural de L. racemosa.  (INVEMAR, 20014) _x000D_","Laguna Salada"]
[null,null,null,null,null,null,null,null,null,null,null,null,null,null,null,43587,"MUSI-ZP1-LSA-1",1498,"Franja de manglar en buen estado. Abundante regeneración natural de A. geminans y algunas plantulas de R. mangle. Algunos árboles muertos al borde del carreteable y cubiertos con B. maritima. Sustrato de apariencia franco-arenosa con abundantes restos calcáreos y galerias de Uca sp.Suelo inestable. Numerosas especies de aves alrededor en zona de alimentación","Laguna San Agustin"]
[null,null,null,null,null,null,null,null,null,null,null,null,null,null,null,43787,"MUSI-ZP1-LSA-2",1588,"Parcela montada en el marco del proyecto \"Lineamientos de restauración para los manglares del departamento de La Guajira\" ejecutado por INVEMAR. Franja de manglar en buen estado. Abundante regeneración natural de A. geminans y algunas plantulas de R. mangle. Algunos árboles muertos al borde del carreteable y cubiertos con B. maritima. Sustrato de apariencia franco-arenosa con abundantes restos calcáreos y galerias de Uca sp.Suelo inestable. Numerosas especies de aves alrededor en zona de alimentación","Laguna San Agustín"]
[null,null,null,null,null,null,null,null,null,null,null,null,null,null,null,44496,"BARB-ZR1-Piedras-1",1760,"Estación dominada por A. germinans, con presencia de árboles secos, caídos y algunos troncos partidos","Las Piedras-1"]
[null,null,null,null,null,null,null,null,null,null,null,null,null,null,null,44618,"CQUINTAS-ZUS1-Quintas-2",1798,"Al ingreso de la estación y sobre el borde de los 20 metros de ancho de la parcela, el exceso de basura es evidente, acompañado de malos olores.  Parcela dominada por A. germinans, sustrato duro e inundación de 10 cm en promedio.  Algunos árboles secos y muertos, pero no se evidencia tala.","Las Quintas -2"]
[null,null,null,null,null,null,null,null,null,null,null,null,null,null,null,44616,"CQUINTAS-ZUS1-Quintas-1",1797,"Al ingreso de la estación y sobre el borde de los 20 metros de ancho de la parcela, el exceso de basura es evidente, acompañado de malos olores.  Parcela dominada por A. germinans, sustrato duro e inundación de 10 cm en promedio.  Algunos árboles secos y muertos, pero no se evidencia tala.","Las Quintas-1"]
[null,null,null,null,null,null,null,null,null,null,null,null,null,null,null,44701,"CQUINTAS-ZUS1-Quintas-3",1842,"Al ingreso de la estación y sobre el borde de los 20 metros de ancho de la parcela, el exceso de basura es evidente, acompañado de malos olores.  Parcela dominada por A. germinans, sustrato duro e inundación de 10 cm en promedio.  Algunos árboles secos y muertos, pero no se evidencia tala.","Las Quintas-3"]
[null,null,null,null,null,null,null,null,null,null,null,null,null,null,null,41972,"CaiRinH-ZP1-LUCHO-1",1066,"Suelo inundable con vegetación latizal, agua dulce y salada, estado fitosanitario en buen estado.","Lucho Guerra-1"]
[null,null,null,null,null,null,null,null,null,null,null,null,null,null,null,41974,"CaiRinH-ZP1-LUCHO-2",1067,"Suelo inundable con vegetación latizal, agua dulce y salada, estado fitosanitario en buen estado.","Lucho Guerra-2"]
[null,null,null,null,null,null,null,null,null,null,null,null,null,null,null,45922,"SFFOCC-SZ1-LUN-1",2153,"Parcela 3 monitoreada por el INVEMAR en el marco del ¨Monitoreo de las condiciones ambientales y los cambios estructurales y funcionales de las comunidades vegetales y de los recursos pesqueros durante la rehabilitación de la Ciénaga Grande de Santa Marta¨","Luna -1"]
[null,null,null,null,null,null,null,null,null,null,null,null,null,null,null,47837,"SFFOCC-SZ1-LUN-2",2319,"Parcela 3 monitoreada por el INVEMAR en el marco del ¨Monitoreo de las condiciones ambientales y los cambios estructurales y funcionales de las comunidades vegetales y de los recursos pesqueros durante la rehabilitación de la Ciénaga Grande de Santa Marta¨","Luna -2"]
[null,null,null,null,null,null,null,null,null,null,null,null,null,null,null,47839,"SFFOCC-SZ1-LUN-3",2320,"Parcela 3 monitoreada por el INVEMAR en el marco del ¨Monitoreo de las condiciones ambientales y los cambios estructurales y funcionales de las comunidades vegetales y de los recursos pesqueros durante la rehabilitación de la Ciénaga Grande de Santa Marta¨","Luna -3"]
[null,null,null,null,null,null,null,null,null,null,null,null,null,null,null,46017,"RAPO-ZR1-MajaG-2",2217,null,"MajaG"]
[null,null,null,null,null,null,null,null,null,null,null,null,null,null,null,45168,"CNGMLLQ-ZR1-Mr-1",2020,"Localiza 15  m del mar. El manglar tiene unl nivel de desarrollo bajo. Esta zona presenta erosión costera y es azotada por los fuertes vientos. Se encuentra llena de residuos sólidos provenientes del mar. En las inmediaciones de la parcela se encuentra un potrero.","Mallorquin"]
[null,null,null,null,null,null,null,null,null,null,null,null,null,null,null,45525,"CNGMLLQ-ZR1-Mallorq-2",2096,null,"Mallorquin playa"]
[null,null,null,null,null,null,null,null,null,null,null,null,null,null,null,45242,"CNGMLLQ-ZP1-Mallorq-1",2021,"Se ubica a 58 m de la ciénaga y a 560 m de  la casa más cercana. La parcela presenta mangles de gran talla, característica que va disminuyendo hasta llegar a juveniles hacia el final del bosque. Presenta crecimiento arbustivo y con distribución densa, además están inclinados por los fuertes vientos.  Se observan huecos de cangrejos y neumatóforos. Los suelos son firmes, presenta residuos sólidos provenientes del mar y de la ciénaga.","Mallorquín"]
[null,null,null,null,null,null,null,null,null,null,null,null,null,null,null,45523,"CNGMLLQ-ZP1-Mallorq-2",2095,null,"Mallorquín"]
[null,null,null,null,null,null,null,null,null,null,null,null,null,null,null,45253,"CNGMNT-ZR1-Manat-1",2024,"Se localiza a 25 m del mar, al lado de un playón, a 200 m de un camino que pasa por una pequeña ciénaga. Dentro de la parcela  la especie predominante es A. germinans con copas pobres, presentan suelos encharcados y neumatóforos.","ManatIes Playa"]
[null,null,null,null,null,null,null,null,null,null,null,null,null,null,null,41959,"CNGMNT-ZR1-MANA-1",1063,"La parcela tine arboles en estado Fustal, infectados por fitoforos algunas arboles de Laguncularia agua estancada","Manaties -ZR1-1"]
[null,null,null,null,null,null,null,null,null,null,null,null,null,null,null,41963,"CNGMNT-ZP1-MANB-1",1064,"Dominancia de Avicennia g, con poco de Laguncularia y brinzales de ambas especies.","Manaties B"]
[null,null,null,null,null,null,null,null,null,null,null,null,null,null,null,45527,"CNGMNT-ZR1-Manat-2",2097,null,"Manatíes Playa"]
[null,null,null,null,null,null,null,null,null,null,null,null,null,null,null,55561,"Manzanillo PPC-1",null,"Estación Manglar Manzanillo (formada por 2 parcelas circulares): Manglar localizado al sur de la isla, constituido principalmente por Rhizophora mangle, como especie dominante y por Laguncularia racemosa. Se encuentra detrás de una barra arenosa y en su interior tiene un pequeño canal central en el que se acumulan aguas derivadas de la escorrentía y de un arroyo que se forma en época de lluvias, proveniente de Murray Hills. Tiene una cobertura de manglar de 1,59 ha (INVEMAR-CORALINA, 2016).","Manzanillo parcela circular-1"]
[null,null,null,null,null,null,null,null,null,null,null,null,null,null,null,55562,"Manzanillo PPC-2",null,"Estación Manglar Manzanillo (formada por 2 parcelas circulares): Manglar localizado al sur de la isla, constituido principalmente por Rhizophora mangle, como especie dominante y por Laguncularia racemosa. Se encuentra detrás de una barra arenosa y en su interior tiene un pequeño canal central en el que se acumulan aguas derivadas de la escorrentía y de un arroyo que se forma en época de lluvias, proveniente de Murray Hills. Tiene una cobertura de manglar de 1,59 ha (INVEMAR-CORALINA, 2016).","Manzanillo parcela circular-2"]
[null,null,null,null,null,null,null,null,null,null,null,null,null,null,null,44640,"JPVI-ZUS1-JPManzanillo-1",1806,"Parcela ubicada en el extremo norte de la Ciénaga de Juan Polo, bordeada por un canal, los primeros 15 metros son de R. mangle en sustrato fangoso y desde allí comienza una franja de A. germinans en terreno duro, al finalizar la parcela se encuentra sustrato duro y limita con el comienzo de vegetación de bosque seco.","Manzanillo-1"]
[null,null,null,null,null,null,null,null,null,null,null,null,null,null,null,42003,"BARB-ZR1-MATU-1",1077,"Sobre al  caño Matunilla, a 40 metros de la orilla, zona heterogénea, manglar caído, zonas inundadas, arboles secos","Matunilla"]
[null,null,null,null,null,null,null,null,null,null,null,null,null,null,null,41378,"MAYA-ZR1-MA-1",883,"La parcela se encuentra paralela a la línea de costa, en una franja de manglar de borde, alargada y de poca anchura, la cual se encuentra interrumpida y separa del mar; en sus aproximaciones se encuentra una laguna costera, a una distancia aproximada de 35m. La zona está atravesada transversalmente por dos caminos, los cuales probablemente son frecuentados por los pescadores del lugar. Dentro de los bosques de manglar se encuentran suelos principalmente arenosos con alto contenido de carbonato de calcio y que pueden ser compactos. Se observa gran cantidad de arena, que en algunos casa llega a cubrir hasta 30cm del punto de anclaje del manglar, probablemente acumulados por erosión costera y la acción de los fuertes vientos (Vidal-Hernández, 2013)_x000D_","Mayapo"]
[null,null,null,null,null,null,null,null,null,null,null,null,null,null,null,41380,"MAYA-ZR1-MA-2",884,"La parcela se encuentra paralela a la línea de costa, en una franja de manglar de borde, alargada y de poca anchura, la cual se encuentra interrumpida y separa del mar; en sus aproximaciones se encuentra una laguna costera, a una distancia aproximada de 35m. La zona está atravesada transversalmente por dos caminos, los cuales probablemente son frecuentados por los pescadores del lugar. Dentro de los bosques de manglar se encuentran suelos principalmente arenosos con alto contenido de carbonato de calcio y que pueden ser compactos. Se observa gran cantidad de arena, que en algunos casa llega a cubrir hasta 30cm del punto de anclaje del manglar, probablemente acumulados por erosión costera y la acción de los fuertes vientos (Vidal-Hernández, 2013)_x000D_","Mayapo-2"]
[null,null,null,null,null,null,null,null,null,null,null,null,null,null,null,41382,"MAYA-ZR1-MA-3",885,"La parcela se encuentra paralela a la línea de costa, en una franja de manglar de borde, alargada y de poca anchura, la cual se encuentra interrumpida y separa del mar; en sus aproximaciones se encuentra una laguna costera, a una distancia aproximada de 35m. La zona está atravesada transversalmente por dos caminos, los cuales probablemente son frecuentados por los pescadores del lugar. Dentro de los bosques de manglar se encuentran suelos principalmente arenosos con alto contenido de carbonato de calcio y que pueden ser compactos. Se observa gran cantidad de arena, que en algunos casa llega a cubrir hasta 30cm del punto de anclaje del manglar, probablemente acumulados por erosión costera y la acción de los fuertes vientos (Vidal-Hernández, 2013)_x000D_","Mayapo-3"]
[null,null,null,null,null,null,null,null,null,null,null,null,null,null,null,55569,"McBean Lagoon PPC-1",null,"Estación Manglar McBean Lagoon (formada por 2 parcelas circulares): El manglar se encuentra localizado en el borde noreste de la Isla, declarado como Parque Nacional Natural del mismo nombre. Esta conformado por manglares de borde y cuenca, de las especies de Rizophora mangle y Avicennia germinans  con una cobertura de 37,1 ha (INVEMAR-CORALINA, 2016).","Mc Bean parcela circular-1"]
[null,null,null,null,null,null,null,null,null,null,null,null,null,null,null,55570,"McBean Lagoon PPC-2",null,"Estación Manglar McBean Lagoon (formada por 2 parcelas circulares): El manglar se encuentra localizado en el borde noreste de la Isla, declarado como Parque Nacional Natural del mismo nombre. Esta conformado por manglares de borde y cuenca, de las especies de Rizophora mangle y Avicennia germinans  con una cobertura de 37,1 ha (INVEMAR-CORALINA, 2016).","Mc Bean parcela circular-2"]
[null,null,null,null,null,null,null,null,null,null,null,null,null,null,null,55571,"McBean Lagoon PPC-3",null,"Estación Manglar McBean Lagoon (formada por 2 parcelas circulares): El manglar se encuentra localizado en el borde noreste de la Isla, declarado como Parque Nacional Natural del mismo nombre. Esta conformado por manglares de borde y cuenca, de las especies de Rizophora mangle y Avicennia germinans  con una cobertura de 37,1 ha (INVEMAR-CORALINA, 2016).","Mc Bean parcela circular-3"]
[null,null,null,null,null,null,null,null,null,null,null,null,null,null,null,45583,"Nuqui-ZR2-Mtero-1",2122,"Parcela de 0.1 ha, instalada en la margen izquierda del Estero Muertero, cuya composición floirística está dada por las especies: Rhizophora mangle, Pelliciera Rhizophorae y Mora oleifera.","Muertero"]
[null,null,null,null,null,null,null,null,null,null,null,null,null,null,null,43823,"MUSI-ZP1-SPSO-1",1601,"Gran cantidad de Residuos sólidos. Tala y quema de árboles. Abundante hojarasca en el sustrato, mangle seco y en mal estado con evidencia de defoliación. La franja limita con salinas artesanales donde están reforzando ductos y removiendo sedimentos utilizando tuberias de 6''. Zona para \"arranchar\". Se han abierto numerosos canales con tuberias para ingresar agua a las charcas","Musichi SC_Parche SO"]
[null,null,null,null,null,null,null,null,null,null,null,null,null,null,null,43825,"MUSI-ZP1-SPSO-2",1602,"Parcela montada en el marco del proyecto \"Lineamientos de restauración para los manglares del departamento de La Guajira\" ejecutado por INVEMAR. Gran cantidad de Residuos sólidos. Tala y quema de árboles. Abundante hojarasca en el sustrato, mangle seco y en mal estado con evidencia de defoliación. La franja limita con salinas artesanales donde están reforzando ductos y removiendo sedimentos utilizando tuberias de 6''. Zona para \"arranchar\". Se han abierto numerosos canales con tuberias para ingresar agua a las charcas","Musichi SC_Parche SO"]
[null,null,null,null,null,null,null,null,null,null,null,null,null,null,null,45874,"BMAL-ZP9-MV-1",2137,"Este sector  a pesar de tener un bajo valor de área basal y pocos árboles, el diámetro y la altura promedio es mayor que en las otras cuencas conformando un bosque en mayor estado de recuperación.  Así mismo el área basal nos permite visualizar un pequeño pero muy significativo aumento de la cobertura del bosque.","Málaga"]
[null,null,null,null,null,null,null,null,null,null,null,null,null,null,null,41463,"OPOI-ZUS2-OP-1",915,null,"Old Point -1"]
[null,null,null,null,null,null,null,null,null,null,null,null,null,null,null,55563,"Old Town PPC-1",null,"Estación Manglar Old Town (formada por 2 parcelas circulares): Este manglar está localizado en el costado noroccidental de la Isla, ubicado detrás de una barra de arena de poca elevación. Hacia el norte se extiende detrás de la Capitanía de Puerto de la Dirección General Marítima (DIMAR) y de un centro de acopio de embarcaciones menores. En la parte sur occidental un corto camino separa una pequeña parte del bosque del resto, allí el bosque se extiende detrás de algunas viviendas ubicadas después de una barra. El manglar tiene una extensión de 6,91 ha (INVEMAR-CORALINA, 2016) y es el segundo más representativo de la Isla, después del bosque de manglar de Mc Bean Lagoon (38,8 ha) (INVEMAR-CORALINA, 2016). El bosque está dominado por Avicennia germinans, y hay presencia de R. mangle, que se distribuye principalmente hacia el costado occidental en el borde de la playa, mientras que hacia el sur se evidencian algunos individuos de L. racemosa y C. erectus.","Old Town parcela circular-1"]
[null,null,null,null,null,null,null,null,null,null,null,null,null,null,null,55564,"Old Town PPC2",null,"Estación Manglar Old Town (formada por 2 parcelas circulares): Este manglar está localizado en el costado noroccidental de la Isla, ubicado detrás de una barra de arena de poca elevación. Hacia el norte se extiende detrás de la Capitanía de Puerto de la Dirección General Marítima (DIMAR) y de un centro de acopio de embarcaciones menores. En la parte sur occidental un corto camino separa una pequeña parte del bosque del resto, allí el bosque se extiende detrás de algunas viviendas ubicadas después de una barra. El manglar tiene una extensión de 6,91 ha (INVEMAR-CORALINA, 2016) y es el segundo más representativo de la Isla, después del bosque de manglar de Mc Bean Lagoon (38,8 ha) (INVEMAR-CORALINA, 2016). El bosque está dominado por Avicennia germinans, y hay presencia de R. mangle, que se distribuye principalmente hacia el costado occidental en el borde de la playa, mientras que hacia el sur se evidencian algunos individuos de L. racemosa y C. erectus.","Old Town parcela circular-2"]
[null,null,null,null,null,null,null,null,null,null,null,null,null,null,null,41472,"OPOI-ZUS2-OP-2",917,null,"Old_Point -2"]
[null,null,null,null,null,null,null,null,null,null,null,null,null,null,null,41474,"OPOI-ZUS2-OP-3",918,null,"Old_Point -3"]
[null,null,null,null,null,null,null,null,null,null,null,null,null,null,null,48747,"BCIS,EST-ZUS1-Ostion-1",2434,null,"Ostion"]
[null,null,null,null,null,null,null,null,null,null,null,null,null,null,null,42123,"VIRU-SZ1-PALOS-1",1109,null,"Palosecal"]
[null,null,null,null,null,null,null,null,null,null,null,null,null,null,null,43641,"CARI-ZP1-PE-1",1508,"Laguna adyacente totalmente seca para la época del muestreo. Los árboles se distribuyen alrededor del cuerpo de agua en grupos mono específicos  de C. erectus altamente densos. Abundante hojarasca y escasa regeneración natural.  Hábitat de aves. Sin regeneración natural","Pantano el Eneal"]
[null,null,null,null,null,null,null,null,null,null,null,null,null,null,null,43777,"CARI-ZP1-PE-2",1583,"Parcela montada en el marco del proyecto \"Lineamientos de restauración para los manglares del departamento de La Guajira\" ejecutado por INVEMAR. Laguna adyacente totalmente seca para la época del muestreo. Los árboles se distribuyen alrededor del cuerpo de agua en grupos mono específicos  de C. erectus altamente densos. Abundante hojarasca y escasa regeneración natural.  Hábitat de aves. Sin regeneración natural","Pantano el Eneal"]
[null,null,null,null,null,null,null,null,null,null,null,null,null,null,null,46020,"CAJA-ZR1-Esteh-1",2218,"manglar altamente intervenido con muchos claros en la estructura del bosque","Parcela Esteh"]
[null,null,null,null,null,null,null,null,null,null,null,null,null,null,null,46002,"CAJA-ZUS1-Ply-1",2213,"parcela medianamente intervenida con predominancia de Rizhophora mangle","Parcela Play"]
[null,null,null,null,null,null,null,null,null,null,null,null,null,null,null,43789,"MUSI-ZP1-PPU-2",1589,"Todo el manglar está muerto (seco). El cuerpo de agua está lleno. Abundante hojarasca en descomposición. Abundantes neumatoforos, no están taponados ni secos, al romperlos están húmedos en el interior. Suelo con apariencia fraco-arenoso. No se observó fauna asociada. Suelo húmedo, abundante hojarasca y neumatóforos","Parcela Pulumana"]
[null,null,null,null,null,null,null,null,null,null,null,null,null,null,null,43590,"MUSI-ZP1-PPU-1",1499,"Todo el manglar está muerto (seco). El cuerpo de agua está lleno. Abundante hojarasca en descomposición. Abundantes neumatoforos, no están taponados ni secos, al romperlos están húmedos en el interior. Suelo con apariencia fraco-arenoso. No se observó fauna asociada. Suelo húmedo, abundante hojarasca y neumatóforos","Parcela Pulumana 1"]
[null,null,null,null,null,null,null,null,null,null,null,null,null,null,null,43806,"MUSI-ZP1-PSO-1",1594,"Rodal en mal estado. Varios árboles muertos. Abundante hojarasca y neumatoforos. Sustrato aparentemente franco-arenoso. En la batea de inundación hay huellas de vacas que ingresan","Parche SO -1"]
[null,null,null,null,null,null,null,null,null,null,null,null,null,null,null,43808,"MUSI-ZP1-PSO-2",1595,"Parcela montada en el marco del proyecto \"Lineamientos de restauración para los manglares del departamento de La Guajira\" ejecutado por INVEMAR. Rodal en mal estado. Varios árboles muertos. Abundante hojarasca y neumatoforos. Sustrato aparentemente franco-arenoso. En la batea de inundación hay huellas de vacas que ingresan","Parche SO -2"]
[null,null,null,null,null,null,null,null,null,null,null,null,null,null,null,45391,"CAMREAL-ZUS2-CABALLOS-1",2061,"MANGLAR DE ESTRUCTURA VERTICAL Y HORIZONTAL BIEN DESARROLLADA CON DOMINANCIA DEL MANGLE ROJO. PRESENCIA DE ARBOLES MUERTOS AL PARECER POR EFECTO DE DESCARGA ELÉCTRICA.","Pasacaballos"]
[null,null,null,null,null,null,null,null,null,null,null,null,null,null,null,42127,"VIRU-SZ1-PEÑI-1",1110,null,"Peñitas"]
[null,null,null,null,null,null,null,null,null,null,null,null,null,null,null,42245,"QUIR-ZP1-POBA-1",1146,null,"Playa OBREGON_AQUIROBA"]
[null,null,null,null,null,null,null,null,null,null,null,null,null,null,null,42236,"QUIR-ZP1-PORG-1",1142,null,"Playa Obregon"]
[null,null,null,null,null,null,null,null,null,null,null,null,null,null,null,45481,"TIMB-ZP1-PSOFIA-1",2083,"Parcela sencilla de 20 m de ancho x 50 m de largo","Playa_Sofia"]
[null,null,null,null,null,null,null,null,null,null,null,null,null,null,null,40993,"PZC-SZ1-PZC-1",730,"A la parcela se llega desde Santa Marta por la vía Rodadero – Cruces de alcatraces, ingresando por el camino que conduce al Hotel Tequendama y Hotel Los Veleros; ingresando por un lote baldío hasta llegar a la parte posterior este último hotel. Cuando fue montada en 2014 se registraron las especies A. germinans, L. racemosa y R. mangle con alturas entre 2 y 9 m. El suelo es arenoso de color marrón oscuro parcialmente inundado por aguas de la laguna, cubierto de neumatóforos, poca hojarasca y algunas plántulas de R. mangle y de A. germinans. En el margen de la parcela se encuentran praderas de B. maritima con árboles de P. juliflora . Dentro de la parcela se hallarón  residuos sólidos como plásticos, botellas y llantas.","Pozos Colorados-1"]
[null,null,null,null,null,null,null,null,null,null,null,null,null,null,null,41001,"LEN;SFFCGSM-SZ1-PVIE-1",732,"La parcela de monitoreo se estableció en una propiedad privada de la familia Lara, dedicados al ecoturismo en la Ciénaga Grande de Santa Marta y el alquiler de lanchas o canoas. A esta parcela se llega por la Troncal del Magdalena en el trayecto Ciénaga – Pueblo Viejo en el kilómetro 58 . Durante su montaje en 2014 se registraron árboles maduro de A. germinans con alturas máximas de 10 m, formando un bosque monoespecífico de baja densidad.  Suelo  arenoso y consolidado de color marrón oscuro, cubierto de neumatóforos con 40 y 50 cm de altura, poca hojarasca y escasa regeneración natural y presencia de residuos sólidos. En los bordes del manglar se desarrolla plantas de B. maritima","Pueblo Viejo -1"]
[null,null,null,null,null,null,null,null,null,null,null,null,null,null,null,42111,"VIRU-SZ1-PUER-1",1103,"Su vegetación está dominada por la familia Rhizophoraceae","Puerquera"]
[null,null,null,null,null,null,null,null,null,null,null,null,null,null,null,48471,"CORI-ZP1-Pces-1",2378,"Bosque de porte alto.Presencia de R. mangle, L. racemosa y A. germinans.  La sp más abundante y dominante es A. germinans, Presión antrópica relacionada con el aprovechamiento del cangrejo azul, antes utilizaban barbasco, en la actualidad palas hasta sacar los pocos y de pequeñas tallas que quedan.","Puerto Cesar-1"]
[null,null,null,null,null,null,null,null,null,null,null,null,null,null,null,45880,"BSJU-ZR3-SJPE-1",2138,"Este bosque presenta características propias de un manglar medianamente intervenido en proceso de recuperación. Se observa una mayor área basal  en el 2015 con respecto al 2007 aunque el análisis comparativo no tiene relación  directa puesto que se trata de dos sitios diferentes aunque muy cercanos","Puerto España"]
[null,null,null,null,null,null,null,null,null,null,null,null,null,null,null,44603,"TBOM-ZP1-Pta Arenas-1",1793,"En los 10 primeros metros se encuentran Botellas Pet, resultado de un campamento militar que se ubicó en el sector tiempo atrás, Estación dominada por L. racemosa, al final el terreno se va volviendo duro y seco","Punta Arenas"]
[null,null,null,null,null,null,null,null,null,null,null,null,null,null,null,44621,"JPVI-ZR1-Boquerón-1",1799,"Parcela con presencia de L. racemosa, A. germinans y R. mangle, bosque tupido con numeras raíces fúlcreas .regeneración natural abundante, sustrato duro.","Punta Boqueron"]
[null,null,null,null,null,null,null,null,null,null,null,null,null,null,null,43635,"CARI-ZP1-PCC-1",1506,"Manglar tipo Barra, presenta individuos entremezclados de L. racemosa, A. germinans y C. erectus. Basura, botellas. No se encontraron propágulos en el suelo. Se observaron en los árboles semillas de Ce un poco deterioradas. Terreno arenoso y con bastante hojaras","Punta Caricari"]
[null,null,null,null,null,null,null,null,null,null,null,null,null,null,null,43773,"CARI-ZP1-PCC-2",1581,"Manglar tipo Barra, presenta individuos entremezclados de L. racemosa, A. germinans y C. erectus. Basura, botellas. No se encontraron propágulos en el suelo. Se observaron en los árboles semillas de Ce un poco deterioradas. Terreno arenoso y con bastante hojaras","Punta Caricari"]
[null,null,null,null,null,null,null,null,null,null,null,null,null,null,null,45288,"CGSM-SZ1-PtaCerro-1",2037,"Es la parcela más lejana de este sector se ubica a 1.7 km al sur del caño San Luis .Esta parcela  presenta la mayor densidad en comparación a las restante de la estación. Conformada por A. germinans y R. mangle. Es una parcela compuesta con 5 y cada una tiene un área de 100 m².","Punta Cerro -1"]
[null,null,null,null,null,null,null,null,null,null,null,null,null,null,null,45290,"CGSM-SZ1-PtaCerro-2",2038,"Se localiza a 1.4 km al sur del caño San Luis. Es una parcela compuesta por 5 parcelas y cada una tiene un área de 100 m². Esta Parcela presenta la menor densidad de la estación conformada por  A. germinans y R. mangle.","Punta Cerro -2"]
[null,null,null,null,null,null,null,null,null,null,null,null,null,null,null,45292,"CGSM-SZ1-PtaCerro-3",2039,"Es la parcela más cercana al caño San Luis ubicarse a una distancia de 1 km  en dirección sur, entre áreas inundadas. Es una parcela compuesta, constituida con 5 y cada una tiene un área de 100 m². Conformada con  A. germinans y R. mangle. Se observó tala.","Punta Cerro -3"]
[null,null,null,null,null,null,null,null,null,null,null,null,null,null,null,45549,"CGSM-SZ1-PtaCerro-4",2108,null,"Punta Cerro -4"]
[null,null,null,null,null,null,null,null,null,null,null,null,null,null,null,45551,"CGSM-SZ1-PtaCerro-5",2109,null,"Punta Cerro -5"]
[null,null,null,null,null,null,null,null,null,null,null,null,null,null,null,45553,"CGSM-SZ1-PtaCerro-6",2110,null,"Punta Cerro -6"]
[null,null,null,null,null,null,null,null,null,null,null,null,null,null,null,45274,"CGSM-SZ1-PtaChino-1",2031,"Se localiza aproximadamente 5 km al norte de desembocadura del río Sevilla,  en el sector llamado Punta Chino. El bosque está constituido por A. germinans, L. racemosa y  R mangle la cual se encuentra hasta 80 metros desde la línea de agua. Es una parcela compuesta, constituida por 5 parcelas y cada una tiene un área de 100 m².","Punta Chino -1"]
[null,null,null,null,null,null,null,null,null,null,null,null,null,null,null,45276,"CGSM-SZ1-PtaChino-2",2032,"Se localiza a  400 m al norte de Punta Chino. El bosque se encuentra en buen estado. Presencia de R. mangle a lo largo del transecto y predominio de A. germinans, en menor proporción L. racemosa. Es una parcela compuesta, constituida por 5 parcelas y cada una tiene un área de 100 m²","Punta Chino -2"]
[null,null,null,null,null,null,null,null,null,null,null,null,null,null,null,45278,"CGSM-SZ1-PtaChino-3",2033,"Se ubica a  900 m al norte de Punta Chino,  Con predominio de A. germinans, presencia de R. mangla a lo largo del transecto,  y L. racemosa solo aparece en la parcela 5. Es una parcela compuesta, constituida por 5 parcelas y cada una tiene un área de 100 m²","Punta Chino -3"]
[null,null,null,null,null,null,null,null,null,null,null,null,null,null,null,45567,"CGSM-SZ1-PtaChino-4",2117,null,"Punta Chino -4"]
[null,null,null,null,null,null,null,null,null,null,null,null,null,null,null,45569,"CGSM-SZ1-PtaChino-5",2118,null,"Punta Chino -5"]
[null,null,null,null,null,null,null,null,null,null,null,null,null,null,null,45571,"CGSM-SZ1-PtaChino-6",2119,null,"Punta Chino -6"]
[null,null,null,null,null,null,null,null,null,null,null,null,null,null,null,48403,"BCOL-ZP1-Pcoq-1",2362,"Pequeña franja con residuos o basuras, con predominio de arboles de baja altura y baja densidad de R. mangle.  Presión antrópica por corta de varas y aumento de la frontera agrícola.","Punta Coquito"]
[null,null,null,null,null,null,null,null,null,null,null,null,null,null,null,48683,"CORI-ZP1-Pcoq-1",2413,"Pequeña franja con residuos o basuras, con predominio de arboles de baja altura y baja densidad de R. mangle.  Presión antrópica por corta de varas y aumento de la frontera agrícola.","Punta Coquito"]
[null,null,null,null,null,null,null,null,null,null,null,null,null,null,null,44400,"PSEC-ZR1-PSEC-1",1726,null,"Punta Seca"]
[null,null,null,null,null,null,null,null,null,null,null,null,null,null,null,44436,"PSEC-ZR1-PSEC-2",1739,null,"Punta Seca -2"]
[null,null,null,null,null,null,null,null,null,null,null,null,null,null,null,48432,"CORI-ZP1-Pvac-1",2368,"Bosque ralo al interior.  Predomina casi en su totalidad el  R. mangle, y escasa presencia de  L. racemosa y A. germinans.  Fuera de la parcela se observó un juvenil de P. rhizophorae.  Intervención Antrópica, representada en corta de varas.  Presencia de tarros, bolsas y desechos en general.","Punta de las Vacas-1"]
[null,null,null,null,null,null,null,null,null,null,null,null,null,null,null,45494,"PCAU-ZUS2-PCOCO-1",2086,"Parcela sencilla de 20 m de ancho x 50 m de larg","Punta_Coco"]
[null,null,null,null,null,null,null,null,null,null,null,null,null,null,null,46006,"MAYO-ZR3-QB-1",2214,null,"Quebrada Balsadito"]
[null,null,null,null,null,null,null,null,null,null,null,null,null,null,null,45497,"QUIR-ZP1-QUIROGA-1",2087,"Parcela sencilla de 20 m de ancho x 50 m de largo","Quiroga"]
[null,null,null,null,null,null,null,null,null,null,null,null,null,null,null,44392,"RINC-ZP1-RNOR-1",1724,"La parcela se encuentra  paralela a linea de costa en una franja de mangle","Rincon Norte"]
[null,null,null,null,null,null,null,null,null,null,null,null,null,null,null,44432,"RINC-ZP1-RNOR-2",1737,"La parcela se encuentra  paralela a linea de costa en una franja de mangle","Rincon Norte -2"]
[null,null,null,null,null,null,null,null,null,null,null,null,null,null,null,44395,"RINC-ZR1-RSUR-1",1725,"La parcela se encuentra paralela a la linea de costa.","Rincon Sur"]
[null,null,null,null,null,null,null,null,null,null,null,null,null,null,null,44434,"RINC-ZR1-RSUR-2",1738,"La parcela se encuentra paralela a la linea de costa.","Rincon Sur -2"]
[null,null,null,null,null,null,null,null,null,null,null,null,null,null,null,45914,"VIPIS-SZ1-RIN-1",2149,"Parcela 1 monitoreada por el INVEMAR en el marco del ¨Monitoreo de las condiciones ambientales y los cambios estructurales y funcionales de las comunidades vegetales y de los recursos pesqueros durante la rehabilitación de la Ciénaga Grande de Santa Marta¨","Rinconada -1"]
[null,null,null,null,null,null,null,null,null,null,null,null,null,null,null,45916,"VIPIS-SZ1-RIN-2",2150,"Parcela 2 monitoreada por el INVEMAR en el marco del ¨Monitoreo de las condiciones ambientales y los cambios estructurales y funcionales de las comunidades vegetales y de los recursos pesqueros durante la rehabilitación de la Ciénaga Grande de Santa Marta¨","Rinconada -2"]
[null,null,null,null,null,null,null,null,null,null,null,null,null,null,null,45920,"VIPIS-SZ1-RIN-3",2152,"Parcela 3 monitoreada por el INVEMAR en el marco del ¨Monitoreo de las condiciones ambientales y los cambios estructurales y funcionales de las comunidades vegetales y de los recursos pesqueros durante la rehabilitación de la Ciénaga Grande de Santa Marta¨","Rinconada -3"]
[null,null,null,null,null,null,null,null,null,null,null,null,null,null,null,45086,"Nuquí-ZR1-RIAN-1",1999,"Parcela rectangular de 20 m x 50 m, dispuesta en la margen derecha del Río Ancachí, cuya composición florística está dada por las especies Rhizophora mangle, Avicennia germinans y Mora oleifera.","Rio Ancachi"]
[null,null,null,null,null,null,null,null,null,null,null,null,null,null,null,48446,"CORI-ZP1-Cnvo-1",2373,"Bosque de porte alto. Presencia de R. mangle, L. racemosa y A. germinans y la especie nombrada localmente como Convita, mayormente asociada a otros ecosistemas.  No se observa vegetación baja.  Con dominio de L. racemosa..  Presión antrópica relacionada por la ampliación de áreas ganaderas.  Presencia de drenajes de las plataneras que caen al manglar y luego al mar.","Rio Caimán Nuevo-1"]
[null,null,null,null,null,null,null,null,null,null,null,null,null,null,null,48440,"CORI-ZUS1-Cviej-1",2370,"Relicto de manglar de porte alto con pequeña extensión al costado sur de la desembocadura del río Caimán viejo. Se reporta R, mangle, L. racemosa y algunos A. germinans,de bajo porte y malformados, bosque poco denso. Presión antrópica por aumento de la frontera agrícola.","Rio Caimán Viejo"]
[null,null,null,null,null,null,null,null,null,null,null,null,null,null,null,45248,"Jurub-ZUS1-Pabarc-1",2022,"Parcela rectangular de 0.1 ha, ubicada a 1.25 km aproximadamente de la comunidad de Jurubirá, en la margen derecha del Estero La Vuelta, cuya flora está compuesta por Rhizophora mangle y Rhizophora racemosa.","Rio Chorí"]
[null,null,null,null,null,null,null,null,null,null,null,null,null,null,null,49591,"CANT-SZ1-SAIJA3-1",2641,null,"Rio Saija 3-1"]
[null,null,null,null,null,null,null,null,null,null,null,null,null,null,null,45267,"CGSM-SZ1-Sevillla-1",2028,"Es la más cercana a la desembocadura del Rio Sevilla a unos 600 m  El manglar presenta un nivel de desarrollo bajo, en suelos pantanosos.  La regeneración natural es media. Es una parcela compuesta, constituida por 5 parcelas y cada una tiene un área de 100 m².","Rio Sevilla -1"]
[null,null,null,null,null,null,null,null,null,null,null,null,null,null,null,45269,"CGSM-SZ1-Sevillla-2",2029,"Se localiza a 800 m de la desembocadura del Rio Sevilla,  El mangle presenta un nivel de desarrollo Medio bajo, en suelos pantanosos. La regeneración natural es baja.  Es una parcela compuesta, constituida por 5 parcelas y cada una tiene un área de 100 m²","Rio Sevilla -2"]
[null,null,null,null,null,null,null,null,null,null,null,null,null,null,null,45271,"CGSM-SZ1-Sevillla-3",2030,"Se localiza a 900 m de la desembocadura del Rio Sevilla,  El mangle presenta un nivel de desarrollo Medio bajo. Es una parcela compuesta, constituida por 5 parcelas y cada una tiene un área de 100 m²","Rio Sevilla -3"]
[null,null,null,null,null,null,null,null,null,null,null,null,null,null,null,48867,"TOR-SZ1-Toribio-1",2454,null,"Rio Toribio-1"]
[null,null,null,null,null,null,null,null,null,null,null,null,null,null,null,48869,"TOR-SZ1-Toribio-2",2455,null,"Rio Toribio-2"]
[null,null,null,null,null,null,null,null,null,null,null,null,null,null,null,48871,"TOR-SZ1-Toribio-3",2456,null,"Rio Toribio-3"]
[null,null,null,null,null,null,null,null,null,null,null,null,null,null,null,48873,"TOR-SZ1-Toribio-4",2457,null,"Rio Toribio-4"]
[null,null,null,null,null,null,null,null,null,null,null,null,null,null,null,48875,"TOR-SZ1-Toribio-5",2458,null,"Rio Toribio-5"]
[null,null,null,null,null,null,null,null,null,null,null,null,null,null,null,42129,"VIRU-SZ1-RVIR-1",1111,null,"Rio_Virudo"]
[null,null,null,null,null,null,null,null,null,null,null,null,null,null,null,48464,"CNTE-ZR1-Rdmq-1",2376,"Bosque muy Ralo.Presencia de R. mangle, y A. germinans.  Presión antrópica relacionada por la ampliación de áreas ganaderas.  Presencia de cercas de alambre en el manglar.","Río Damaquiel-1"]
[null,null,null,null,null,null,null,null,null,null,null,null,null,null,null,48466,"CNTE-ZR1-Rdmq-2",2377,"Bosque muy Ralo.Presencia de R. mangle, y A. germinans.  Presión antrópica relacionada por la ampliación de áreas ganaderas.  Presencia de cercas de alambre en el manglar.","Río Damaquiel-2"]
[null,null,null,null,null,null,null,null,null,null,null,null,null,null,null,45561,"CGSM-SZ1-Sevillla-4",2114,null,"Río Sevilla -4"]
[null,null,null,null,null,null,null,null,null,null,null,null,null,null,null,45563,"CGSM-SZ1-Sevillla-5",2115,null,"Río Sevilla -5"]
[null,null,null,null,null,null,null,null,null,null,null,null,null,null,null,45565,"CGSM-SZ1-Sevillla-6",2116,null,"Río Sevilla -6"]
[null,null,null,null,null,null,null,null,null,null,null,null,null,null,null,44630,"JPVI-ZR1-SurVirgen-1",1802,"Parcela que inicia con una franja de regeneración natural de R. mangle muy abundante, casi impenetrable, seguida de 10 metros de franja de agua para luego comenzar sustrato duro en su mayoría de A. germinans , baja regeneración natural","S_La Virgen-1"]
[null,null,null,null,null,null,null,null,null,null,null,null,null,null,null,44531,"FRAPIZ-ZUS1-Salho-1",1765,"Compuesta por una vegetación de manglar mixto, con dominancia de la especie piñuelo en cuanto abundancia. hace presencia las especies de mangle piñuelo, Nato y rojo. ademas el helecho ranconcha.","Salahonda -1"]
[null,null,null,null,null,null,null,null,null,null,null,null,null,null,null,44546,"FRAPIZ-ZP1-Salho-1",1766,"Manglar adulto bien desarrollado con dominancia de la especie Mangle rojo. presencia de talas de los arboles mas desarrollados en diámetro y altura.","Salahonda P-1"]
[null,null,null,null,null,null,null,null,null,null,null,null,null,null,null,44557,"FRAPIZ-ZR2-Salho-1",1770,"Bosque denso de mangle Piñuelo intervenido para uso domestico. Alta regeneración Natural. Suelo de consistencia blanda y encharcada.","Salahonda R-2-1"]
[null,null,null,null,null,null,null,null,null,null,null,null,null,null,null,44419,"CCAIM-ZR1-SGAR-1",1731,null,"Salitral el Garzal"]
[null,null,null,null,null,null,null,null,null,null,null,null,null,null,null,44444,"CCAIM-ZR1-SGAR-2",1743,null,"Salitral el Garzal -2"]
[null,null,null,null,null,null,null,null,null,null,null,null,null,null,null,55554,"Salt Creek PPC-2",null,"Estación Manglar Salt Creek (formada por 3 parcelas circulares): Es un manglar de cuenca o interior, ubicado en el costado oriental en la parte media de la Isla, que presenta una cobertura de 4,45 ha (INVEMAR-CORALINA, 2016) y se desarrolla separado del mar por la carretera. Está constituido por el complejo Dorna Pond, el humedal de Ground Road y humedales internos. Presenta una composición florística mixta, dominada por Laguncularia racemosa y presencia de Rhizophora mangle; los árboles tienen una altura promedio de 11,7 m. Este manglar se encuentra impactado por los residuos sólidos de las familias aledañas del sector y existe evidencia de actividades de tala y rellenos en su interior.","Salt Creek parcela circular-2"]
[null,null,null,null,null,null,null,null,null,null,null,null,null,null,null,55555,"Salt Creek PPC-3",null,"Estación Manglar Salt Creek (formada por 3 parcelas circulares): Es un manglar de cuenca o interior, ubicado en el costado oriental en la parte media de la Isla, que presenta una cobertura de 4,45 ha (INVEMAR-CORALINA, 2016) y se desarrolla separado del mar por la carretera. Está constituido por el complejo Dorna Pond, el humedal de Ground Road y humedales internos. Presenta una composición florística mixta, dominada por Laguncularia racemosa y presencia de Rhizophora mangle; los árboles tienen una altura promedio de 11,7 m. Este manglar se encuentra impactado por los residuos sólidos de las familias aledañas del sector y existe evidencia de actividades de tala y rellenos en su interior.","Salt Creek parcela circular-3"]
[null,null,null,null,null,null,null,null,null,null,null,null,null,null,null,41492,"SCRE-ZP1-SCRE-1",922,null,"Salt Creek-1"]
[null,null,null,null,null,null,null,null,null,null,null,null,null,null,null,45848,"RAPO-ZUS4-RSA-2",2133,"En conclusión para la estación Raposo se debe actualizar la zonificación por cuanto en los últimos años el manglar ha sido sometido a una fuerte presión antrópica lo cual ha cambiado de forma negativa la estructura del bosque.","Santa Ana"]
[null,null,null,null,null,null,null,null,null,null,null,null,null,null,null,44500,"BARU-ZR1-Sta-Ana-1",1761,"Parcela con inundación en toda el área, nivel promedio: 25 cm, está atravesada por un pequeño canal.  Se evidencia tala y acumulación de madera para recolección.","Santa Ana-1"]
[null,null,null,null,null,null,null,null,null,null,null,null,null,null,null,55567,"Santa Catalina PPC-1",null,"Estación Manglar Santa Catalina (formada por 2 parcelas circulares): El manglar se encuentra localizado en el borde sur oriental de la Isla, bordeando el malecón. Está distribuido en una serie de parches aislados, separados entre sí por construcciones, muelles, el puente de los Enamorados que une a la isla de Providencia con Santa Catalina y una cancha de fútbol. El manglar tiene una extensión total de 3,79 ha (INVEMAR-CORALINA, 2016). El sustrato presentó diferentes niveles de inundación, hubo parches cuyo sustrato estaba seco, otros con sustrato lodoso y otras zonas que se encontraron inundadas. El manglar de una de las parcelas de monitoreo se encuentra conformado principalmente por R. mangle, entremezclado con algunos ejemplares de L. racemosa y A. germinans. El manglar de la otra parcela de monitoreo, que colinda con la cancha deportiva, se encuentra conformado exclusivamente por A. germinans, donde el sustrato es bastante estable. Es un bosque de cuenca de desarrollo diamétrico intermedio y cuyos árboles tienen una altura promedio de 5,5 m.","Santa Catalina parcela circular-1"]
[null,null,null,null,null,null,null,null,null,null,null,null,null,null,null,55568,"Santa Catalina PPC-2",null,"Estación Manglar Santa Catalina (formada por 2 parcelas circulares): El manglar se encuentra localizado en el borde sur oriental de la Isla, bordeando el malecón. Está distribuido en una serie de parches aislados, separados entre sí por construcciones, muelles, el puente de los Enamorados que une a la isla de Providencia con Santa Catalina y una cancha de fútbol. El manglar tiene una extensión total de 3,79 ha (INVEMAR-CORALINA, 2016). El sustrato presentó diferentes niveles de inundación, hubo parches cuyo sustrato estaba seco, otros con sustrato lodoso y otras zonas que se encontraron inundadas. El manglar de una de las parcelas de monitoreo se encuentra conformado principalmente por R. mangle, entremezclado con algunos ejemplares de L. racemosa y A. germinans. El manglar de la otra parcela de monitoreo, que colinda con la cancha deportiva, se encuentra conformado exclusivamente por A. germinans, donde el sustrato es bastante estable. Es un bosque de cuenca de desarrollo diamétrico intermedio y cuyos árboles tienen una altura promedio de 5,5 m.","Santa Catalina parcela circular-2"]
[null,null,null,null,null,null,null,null,null,null,null,null,null,null,null,45502,"STRITA-ZR1-SRITA-1",2088,"Parcela sencilla de 20 m de ancho x 50 m de largo","Santa Rita -1"]
[null,null,null,null,null,null,null,null,null,null,null,null,null,null,null,40997,"CGSM-ZR1-SEV-1",731,"A la parcela se llega por transporte acuático desde el barrio Puerto Nuevo del municipio de Ciénaga por la Ciénaga Grande de Santa Marta, pasando por la Isla Boquerón Grande e ingresando a la zona por el caño La Estrella, hasta llegar a la parcela de monitoreo. Durante su montaje en 2014 se registraron árboles de R. mangle con alturas máximas de 11 m aproximadamente. El suelo fue de textura fangosa, de color marrón oscuro, mezclado con hojarasca en descomposición, anegado por la entrada de aguas del caño; cubierto por las raíces fúlcreas de R. mangle, y con abundante regeneración natural","Sevillano -1"]
[null,null,null,null,null,null,null,null,null,null,null,null,null,null,null,41487,"SCHA-ZP1-SCH-1",921,null,"Smith Channel -1-1"]
[null,null,null,null,null,null,null,null,null,null,null,null,null,null,null,47758,"SCHA-ZP1-SCH-2",2299,"Se localiza al extremo sureste, entre la vía Tom Hooker y Punta Sur. Tiene una distribución en forma de media luna y ocupa un área de 19,30 ha.  Se identificó por ser considerado como un manglar de cuenca y una altura promedio de 10,8 m; aproximadamente el 30% de la estación se hayo cubierta por Achrostichum aureum  o helecho mata tigre. Por otro lado, se destacó por tener presencia de hojarasca, señales de tala y poca basura._x000D_","Smith Channel -1-2"]
[null,null,null,null,null,null,null,null,null,null,null,null,null,null,null,47901,"SCHA-ZP1-SCH-3",2334,null,"Smith Channel -1-3"]
[null,null,null,null,null,null,null,null,null,null,null,null,null,null,null,55546,"Smith Channel PPC-1",null,"Estación Manglar Smith Channel (formada por 3 parcelas circulares): Manglar catalogado como de tierra adentro (Medina, 2016), porque se encuentra aislado del mar, sin una conexión directa y por lo tanto no presenta inundación por mareas en ninguna época del año, pero sí por agua dulce proveniente de las precipitaciones. Está ubicado en el extremo suroriental de la Isla, con presencia de Rhizophora mangle y Laguncularia racemosa. Ocupa un área de manglar de 19,30 ha de extensión (INVEMAR-CORALINA, 2016), tiene abundante presencia de helecho de manglar Acrostichum aureum y es uno de los manglares menos intervenido en la Isla, no obstante, hay evidencia de actividades de tala y presencia de residuos sólidos.","Smith Channel parcela circular-1"]
[null,null,null,null,null,null,null,null,null,null,null,null,null,null,null,55558,"Sound Bay PPC-1",null,"Estación Manglar Sound Bay (formada por 3 parcelas circulares): Manglar de cuenca o interior de 15,29 ha de cobertura (INVEMAR-CORALINA, 2016), separado del mar por la carretera, por formaciones vegetales distintas al manglar y por la presencia de lotes con viviendas. Tiene una composición florística mixta de Rhizophora mangle, Laguncularia racemosa y Avicennia germinans. El rodal tiene una altura promedio de 10,8 m. En el pasado se encontraba fuertemente impactado por el vertimiento directo de aguas residuales, no obstante, en la actualidad, CORALINA ha regulado dicho impacto. Presenta una elevada influencia de basuras producto de los desechos depositados por parte de la comunidad vecina. Hay evidencia de árboles talados y presencia de helecho de manglar Acrostichum aureum.","Sound Bay parcela circular-1"]
[null,null,null,null,null,null,null,null,null,null,null,null,null,null,null,55559,"Sound Bay PPC-2",null,"Estación Manglar Sound Bay (formada por 3 parcelas circulares): Manglar de cuenca o interior de 15,29 ha de cobertura (INVEMAR-CORALINA, 2016), separado del mar por la carretera, por formaciones vegetales distintas al manglar y por la presencia de lotes con viviendas. Tiene una composición florística mixta de Rhizophora mangle, Laguncularia racemosa y Avicennia germinans. El rodal tiene una altura promedio de 10,8 m. En el pasado se encontraba fuertemente impactado por el vertimiento directo de aguas residuales, no obstante, en la actualidad, CORALINA ha regulado dicho impacto. Presenta una elevada influencia de basuras producto de los desechos depositados por parte de la comunidad vecina. Hay evidencia de árboles talados y presencia de helecho de manglar Acrostichum aureum.","Sound Bay parcela circular-2"]
[null,null,null,null,null,null,null,null,null,null,null,null,null,null,null,55560,"Sound Bay PPC-3",null,"Estación Manglar Sound Bay (formada por 3 parcelas circulares): Manglar de cuenca o interior de 15,29 ha de cobertura (INVEMAR-CORALINA, 2016), separado del mar por la carretera, por formaciones vegetales distintas al manglar y por la presencia de lotes con viviendas. Tiene una composición florística mixta de Rhizophora mangle, Laguncularia racemosa y Avicennia germinans. El rodal tiene una altura promedio de 10,8 m. En el pasado se encontraba fuertemente impactado por el vertimiento directo de aguas residuales, no obstante, en la actualidad, CORALINA ha regulado dicho impacto. Presenta una elevada influencia de basuras producto de los desechos depositados por parte de la comunidad vecina. Hay evidencia de árboles talados y presencia de helecho de manglar Acrostichum aureum.","Sound Bay parcela circular-3"]
[null,null,null,null,null,null,null,null,null,null,null,null,null,null,null,41485,"SWBA-ZP3-SWB-1",920,null,"South West Bay -1"]
[null,null,null,null,null,null,null,null,null,null,null,null,null,null,null,49327,"SWBA-ZP3-SWB-2",1,"parcela fija. Estación Manglar Suroeste (formada por 2 parcelas circulares): Ubicado en el suroeste de la isla, conformado por Rhizophora mangle, como especie dominante y por Laguncularia racemosa. Presenta una barra arenosa en frente, poco elevada y posee una laguna interior de alrededor de 300 m de largo y 30 m de ancho, que permanece total o parcialmente inundada durante el año, debido a las fuertes lluvias y la escorrentía, pero disminuye su espejo de agua en época seca por evaporación e infiltración del agua. Tiene una extensión de manglar de 5,25 ha (INVEMAR-CORALINA, 2016). Existe evidencia de actividades de tala en su interior, así como la construcción de restaurantes muy cerca del mismo y presencia de cables de electricidad sobre los árboles de mangle.","South West Bay -2"]
[null,null,null,null,null,null,null,null,null,null,null,null,null,null,null,55565,"Suroeste PPC-1",null,"Estación Manglar Suroeste (formada por 2 parcelas circulares): Ubicado en el suroeste de la isla, conformado por Rhizophora mangle, como especie dominante y por Laguncularia racemosa. Presenta una barra arenosa en frente, poco elevada y posee una laguna interior de alrededor de 300 m de largo y 30 m de ancho, que permanece total o parcialmente inundada durante el año, debido a las fuertes lluvias y la escorrentía, pero disminuye su espejo de agua en época seca por evaporación e infiltración del agua. Tiene una extensión de manglar de 5,25 ha (INVEMAR-CORALINA, 2016). Existe evidencia de actividades de tala en su interior, así como la construcción de restaurantes muy cerca del mismo y presencia de cables de electricidad sobre los árboles de mangle.","Suroeste parcela circular-1"]
[null,null,null,null,null,null,null,null,null,null,null,null,null,null,null,55566,"Suroeste PPC-2",null,"Estación Manglar Suroeste (formada por 2 parcelas circulares): Ubicado en el suroeste de la isla, conformado por Rhizophora mangle, como especie dominante y por Laguncularia racemosa. Presenta una barra arenosa en frente, poco elevada y posee una laguna interior de alrededor de 300 m de largo y 30 m de ancho, que permanece total o parcialmente inundada durante el año, debido a las fuertes lluvias y la escorrentía, pero disminuye su espejo de agua en época seca por evaporación e infiltración del agua. Tiene una extensión de manglar de 5,25 ha (INVEMAR-CORALINA, 2016). Existe evidencia de actividades de tala en su interior, así como la construcción de restaurantes muy cerca del mismo y presencia de cables de electricidad sobre los árboles de mangle.","Suroeste parcela circular-2"]
[null,null,null,null,null,null,null,null,null,null,null,null,null,null,null,45422,"JURA-ZR1-Tangarrá-1",2069,"Ubicada a unos 2.1 km aproximadamente de Juradó, perpendicularmente a la margen derecha del Estero Tangarrá, compuesta florísticamente por un bosque monoespecífico de Rhizophora racemosa.","Tangarrá"]
[null,null,null,null,null,null,null,null,null,null,null,null,null,null,null,42103,"BCIS,EST-ZR1-Tijó-1",1102,null,"Tijó"]
[null,null,null,null,null,null,null,null,null,null,null,null,null,null,null,45830,"CAJA-ZUS2-CT-1",2129,"En términos generales el sector de Cajambre es el que presenta mayor nivel de intervención antrópica   producto de la tala del mangle con fines comerciales.  Existe un alto contraste en la zonificación de 2007 que lo cataloga como un manglar poco intervenido en contraposición al alto grado de degradación que se registró en el monitoreo actual.","Timba"]
[null,null,null,null,null,null,null,null,null,null,null,null,null,null,null,45257,"CNGTOT-ZP1-Totum.-1",2025,"Es un relicto denso en forma de islote  que se encuentra varios centímetros por encima del suelo, y está constituido por la especie  L. racemosa. Algunos crecen retorcidos disponiendo sus ramas hacia el cuerpo de agua de la ciénaga. No se observa regeneración natural","Totumo Oriental"]
[null,null,null,null,null,null,null,null,null,null,null,null,null,null,null,45259,"CNGTOT-ZP1-Totum.-2",2026,"Forma una franja de 15 m tierra dentro, la línea de agua está a 1 m dentro de  la parcela, algunos individuos de L. racemosa  son maduros, de crecimiento arbustivo, con ramas que crecen hacia el cuerpo de agua.","Totumo Oriental"]
[null,null,null,null,null,null,null,null,null,null,null,null,null,null,null,45511,"OBRE;CHA-ZUS1-TRAV-1",2090,"Parcela sencilla de 20 m de ancho x 50 m de largo","Travesía"]
[null,null,null,null,null,null,null,null,null,null,null,null,null,null,null,45400,"ENSENADA-ZP1-TRUJI-1",2063,"MANGLAR ADULTO BIEN DESARROLLADO E INTERVENIDO CON DOMINANCIA DEL MANGLE ROJO. PRESENCIA DE REGENERACIÓN EN LOS CLAROS DEJADOS POR LAS CORTAS DE INDIVIDUOS.","Trujillo"]
[null,null,null,null,null,null,null,null,null,null,null,null,null,null,null,44506,"TCO-ZR2-Tuma-1",1763,"ESTA ÁREA  PRESENTA UNA VEGETACIÓN DE MANGLAR MIXTO, HACE PRESENCIA LAS ESPECIES DE MANGLE ROJO, PIÑUELO Y NATO, ADEMAS EL HELECHO RANCONCHA. ES UNA ÁREA INTERVENIDA,","Tumaco"]
[null,null,null,null,null,null,null,null,null,null,null,null,null,null,null,45395,"TCO-ZUS1-SANAND-1",2062,"BOSQUE DE MANGLE ROJO INTERVENIDO, ALTA DENSIDAD DE INDIVIDUOS CON ALTO PORCENTAJE DE FUSTES RETORCIDOS, ARQUEADOS E INCLINADOS.","Tumaco -1"]
[null,null,null,null,null,null,null,null,null,null,null,null,null,null,null,48762,"BCIS,LIT-ZR1-UltBoca-1",2439,null,"Ultima Boca"]
[null,null,null,null,null,null,null,null,null,null,null,null,null,null,null,41390,"VCAN-ZR1-CANG-1",889,"La parcela se encuentra en una franja de manglar tipo borde, continua y de considerable anchura, perpendicular a la línea de costa y a su vez paralela al brazo Calcancala del Río Rancheria. _x000D_","Valle de los Cangrejos -1"]
[null,null,null,null,null,null,null,null,null,null,null,null,null,null,null,41392,"VCAN-ZR1-CANG-2",890,"La parcela se encuentra en una franja de manglar tipo borde, continua y de considerable anchura, perpendicular a la línea de costa y a su vez paralela al brazo Calcancala del Río Rancheria. _x000D_","Valle de los Cangrejos -2"]
[null,null,null,null,null,null,null,null,null,null,null,null,null,null,null,41394,"VCAN-ZR1-CANG-3",891,"La parcela se encuentra en una franja de manglar tipo borde, continua y de considerable anchura, perpendicular a la línea de costa y a su vez paralela al brazo Calcancala del Río Rancheria. _x000D_","Valle de los Cangrejos -3"]
[null,null,null,null,null,null,null,null,null,null,null,null,null,null,null,45519,"PVEL-ZP2-VelP-2",2093,null,"Velero"]
[null,null,null,null,null,null,null,null,null,null,null,null,null,null,null,45157,"PVEL-ZP2-VelP-1",2019,"La parcela se ubica detrás de una cabaña de pescadores, a 18 m de esta y a 34 m de la línea de vegetación, se encuentra una cerca. En la zona predomina la C. erectus muy ramificado, en los primeros metros del transecto se encuentra B marítima y suelos firmes y arenosos. Se encontraron residuos sólidos.","Velero-1"]
[null,null,null,null,null,null,null,null,null,null,null,null,null,null,null,55557,"Velodia Road PPC-1",null,"Estación Manglar Velodia Road (formada por 1 parcela circular): Es un manglar de tierra adentro, ubicado en el costado sur de la Isla, que presenta una cobertura de 1,0 ha (INVEMAR-CORALINA, 2016).","Velodia Road parcela circular-1"]
[null,null,null,null,null,null,null,null,null,null,null,null,null,null,null,44627,"JPVI-ZUS1-VíaMar-1",1801,"Estación bordeada por un canal, con sustrato fangoso, Bosque en buen estado con abundante regeneración natural.","Vía al Mar"]
[null,null,null,null,null,null,null,null,null,null,null,null,null,null,null,45839,"MAYO-ZR3-MWA-1",2131,"En términos generales este bosque no se ha podido recuperar desde la última zonificación y por el contrario la tendencia es a disminuir su área basal  y por reacción y como estrategia de resiliencia el bosque genera más regeneración natural que se observa en el aumento de más del 300% en  el número de árboles.","Waipare"]
[null,null,null,null,null,null,null,null,null,null,null,null,null,null,null,48442,"CORI-ZUS1-Yaru-1",2371,"Bosque Ralo Presencia de R. mangle, L. racemosa y A. germinans.  Vegetación inferior del helecho A. aureum y majagua.  Escasos árboles pero de porte alto.  Presión antrópica relacionada por la ampliación de áreas ganaderas.  Presencia de cercas de alambre en el manglar.","Yaru-1"]
[null,null,null,null,null,null,null,null,null,null,null,null,null,null,null,48523,"DRATR-ZR1-Yerb-1",2386,"Bosque Ralo al interior.  La sp más abundante es el R. mangle seguido de L.racemosa Presencia de helecho A. aureum.  Presión antrópica relacionada por Corta de Varas y presencia de agallas en todas las estructuras del manglar, especialmente en el R. mangle.","Yerbasal -1"]
[null,null,null,null,null,null,null,null,null,null,null,null,null,null,null,48427,"CORI-ZR1-Rnec-1",2366,"La parcela se ubicó al costado norte de la boca, encontrando un manglar con predominio de L. racemosa y R. mangle.  No se evidenció afectación por basuras o influencia antrópica.  Bosque limpio."]
[null,null,null,null,null,null,null,null,null,null,null,null,null,null,null,46058,1,96222,null,1]
[null,null,null,null,null,null,null,null,null,null,null,null,null,null,null,48732,"Agrosole",96321,null,"Agrosoledad"]
[null,null,null,null,null,null,null,null,null,null,null,null,null,null,null,42316,"ANE",96321,null,"Aguas Negras"]
[null,null,null,null,null,null,null,null,null,null,null,null,null,null,null,45588,"angostura",96321,null,"Angostura "]
[null,null,null,null,null,null,null,null,null,null,null,null,null,null,null,55345,"RES_MGACC",1,null,"Aperturas Canal Clarin- Restauración"]
[null,null,null,null,null,null,null,null,null,null,null,null,null,null,null,44508,"Ararca",96321,null,"Ararca"]
[null,null,null,null,null,null,null,null,null,null,null,null,null,null,null,43557,"CAL",96321,null,"Arroyo Limon Codo"]
[null,null,null,null,null,null,null,null,null,null,null,null,null,null,null,43558,"DAL",96321,null,"Arroyo Limon Desembocadura"]
[null,null,null,null,null,null,null,null,null,null,null,null,null,null,null,43559,"DUAL",96321,null,"Arroyo Limon Ducto"]
[null,null,null,null,null,null,null,null,null,null,null,null,null,null,null,43643,"AP",96321,null,"Arroyo Pacho"]
[null,null,null,null,null,null,null,null,null,null,null,null,null,null,null,43646,"APD",96321,null,"Arroyo Pacho Desembocadura"]
[null,null,null,null,null,null,null,null,null,null,null,null,null,null,null,44492,"Ay-Plata",96321,null,"Arroyo de Plata"]
[null,null,null,null,null,null,null,null,null,null,null,null,null,null,null,43661,"ALP",96321,null,"Arroyo la Piedrecita"]
[null,null,null,null,null,null,null,null,null,null,null,null,null,null,null,45909,"GUABA",96321,null,"BOCANA ISCUANDE"]
[null,null,null,null,null,null,null,null,null,null,null,null,null,null,null,45899,"BOTAPAJE",96321,null,"BOCANA TAPAGE"]
[null,null,null,null,null,null,null,null,null,null,null,null,null,null,null,45895,"SEQUIHONDA",96321,null,"BOCAS DE SEQUIHONDA"]
[null,null,null,null,null,null,null,null,null,null,null,null,null,null,null,41999,"Barba",96321,null,"Bahia Barbacoas"]
[null,null,null,null,null,null,null,null,null,null,null,null,null,null,null,48491,"Bburr",96321,null,"Bahía Burrera"]
[null,null,null,null,null,null,null,null,null,null,null,null,null,null,null,48519,"Bcog ",96321,null,"Bahía Coco Grande"]
[null,null,null,null,null,null,null,null,null,null,null,null,null,null,null,48525,"Brot",96321,null,"Bahía El Roto"]
[null,null,null,null,null,null,null,null,null,null,null,null,null,null,null,48437,"Buno",96321,null,"Bahía El Uno"]
[null,null,null,null,null,null,null,null,null,null,null,null,null,null,null,48496,"Bpai",96321,null,"Bahía La Paila"]
[null,null,null,null,null,null,null,null,null,null,null,null,null,null,null,48486,"Bmari",96321,null,"Bahía Marirrio"]
[null,null,null,null,null,null,null,null,null,null,null,null,null,null,null,44489,"BARB01",96321,null,"Bahía de Barbacoas"]
[null,null,null,null,null,null,null,null,null,null,null,null,null,null,null,45004,"Balboa",96321,null,"Balboa"]
[null,null,null,null,null,null,null,null,null,null,null,null,null,null,null,43637,"BC",96321,null,"Barranco Colorao"]
[null,null,null,null,null,null,null,null,null,null,null,null,null,null,null,42109,"BARR",96321,null,"Barrial"]
[null,null,null,null,null,null,null,null,null,null,null,null,null,null,null,44511,"Barú",96321,null,"Barú"]
[null,null,null,null,null,null,null,null,null,null,null,null,null,null,null,48516,"Bmat",96321,null,"Bazo Matuntugo"]
[null,null,null,null,null,null,null,null,null,null,null,null,null,null,null,42201,"BERR",96321,null,"Berrugas"]
[null,null,null,null,null,null,null,null,null,null,null,null,null,null,null,44376,"CMAT",96321,null,"Boca Caño Matuna"]
[null,null,null,null,null,null,null,null,null,null,null,null,null,null,null,44413,"BCFRA",96321,null,"Boca Caño el Frances "]
[null,null,null,null,null,null,null,null,null,null,null,null,null,null,null,42156,"BCERRA",96222,null,"Boca Cerrada"]
[null,null,null,null,null,null,null,null,null,null,null,null,null,null,null,44386,"BCER",96321,null,"Boca Cerrada "]
[null,null,null,null,null,null,null,null,null,null,null,null,null,null,null,42189,"BCERR",96222,null,"Boca Cerrada -2"]
[null,null,null,null,null,null,null,null,null,null,null,null,null,null,null,43832,"BPULU",96321,null,"Boca Pulumana"]
[null,null,null,null,null,null,null,null,null,null,null,null,null,null,null,45417,"Bovi",96321,null,"Boca Vieja"]
[null,null,null,null,null,null,null,null,null,null,null,null,null,null,null,45882,"BA",96321,null,"Bocana Asocars"]
[null,null,null,null,null,null,null,null,null,null,null,null,null,null,null,45861,"BCVC",96321,null,"Bocana CVC"]
[null,null,null,null,null,null,null,null,null,null,null,null,null,null,null,45514,"BGUAPI",96321,null,"Bocana Guapi"]
[null,null,null,null,null,null,null,null,null,null,null,null,null,null,null,42260,"BSAIJ",96321,null,"Bocana Rio Saija"]
[null,null,null,null,null,null,null,null,null,null,null,null,null,null,null,42832,"BCU",96321,null,"Bocas de Curay"]
[null,null,null,null,null,null,null,null,null,null,null,null,null,null,null,42107,"BOCO",96321,null,"Bocon"]
[null,null,null,null,null,null,null,null,null,null,null,null,null,null,null,45890,"AB",96321,null,"Bodegas "]
[null,null,null,null,null,null,null,null,null,null,null,null,null,null,null,45304,"Buritac1",96321,null,"Buritaca 1"]
[null,null,null,null,null,null,null,null,null,null,null,null,null,null,null,45313,"Buritc1",96321,null,"Buritaca 1"]
[null,null,null,null,null,null,null,null,null,null,null,null,null,null,null,45317,"Buritac2",96321,null,"Buritaca 2"]
[null,null,null,null,null,null,null,null,null,null,null,null,null,null,null,45307,"Buritac2",96321,null,"Buritaca 2"]
[null,null,null,null,null,null,null,null,null,null,null,null,null,null,null,45386,"CAMREAL",96321,null,"CAMINO REAL"]
[null,null,null,null,null,null,null,null,null,null,null,null,null,null,null,42108,"CAIM",96321,null,"Caimanera"]
[null,null,null,null,null,null,null,null,null,null,null,null,null,null,null,48434,"Cnvo",96321,null,"Caimán Nuevo"]
[null,null,null,null,null,null,null,null,null,null,null,null,null,null,null,48439,"Rcvi",96321,null,"Caimán Viejo"]
[null,null,null,null,null,null,null,null,null,null,null,null,null,null,null,55346,"RES_MGACTRES",1,null,"Caleta del Tambor- Restauración"]
[null,null,null,null,null,null,null,null,null,null,null,null,null,null,null,43652,"CAMA1",96321,null,"Camarones 1"]
[null,null,null,null,null,null,null,null,null,null,null,null,null,null,null,43655,"CAMA2",96321,null,"Camarones 2"]
[null,null,null,null,null,null,null,null,null,null,null,null,null,null,null,46009,"Can",96321,null,"Cangrejo"]
[null,null,null,null,null,null,null,null,null,null,null,null,null,null,null,48749,"CñArteaga",96321,null,"Caño Arteaga"]
[null,null,null,null,null,null,null,null,null,null,null,null,null,null,null,43437,"BRI",96222,null,"Caño Bristol"]
[null,null,null,null,null,null,null,null,null,null,null,null,null,null,null,45263,"DULC",96321,null,"Caño Dulce"]
[null,null,null,null,null,null,null,null,null,null,null,null,null,null,null,45053,"el garzal",96321,null,"Caño Garzal"]
[null,null,null,null,null,null,null,null,null,null,null,null,null,null,null,42271,"CGE",96321,null,"Caño Grande"]
[null,null,null,null,null,null,null,null,null,null,null,null,null,null,null,45147,"caño grande",96321,null,"Caño Grande"]
[null,null,null,null,null,null,null,null,null,null,null,null,null,null,null,45354,"caño grande 3",96321,null,"Caño Grande 3"]
[null,null,null,null,null,null,null,null,null,null,null,null,null,null,null,44409,"CGUA",96321,null,"Caño Guacamayas"]
[null,null,null,null,null,null,null,null,null,null,null,null,null,null,null,48768,"CñBalsa",96321,null,"Caño La Balsa"]
[null,null,null,null,null,null,null,null,null,null,null,null,null,null,null,42067,"clb",96321,null,"Caño La Balsa"]
[null,null,null,null,null,null,null,null,null,null,null,null,null,null,null,52736,"RES_MGCG_CT",1,null,"Caño La caleta del tambor"]
[null,null,null,null,null,null,null,null,null,null,null,null,null,null,null,44503,"Lequerica",96321,null,"Caño Lequerica"]
[null,null,null,null,null,null,null,null,null,null,null,null,null,null,null,45108,"nisperal",96321,null,"Caño Nisperal"]
[null,null,null,null,null,null,null,null,null,null,null,null,null,null,null,45099,"palermo",96321,null,"Caño Palermo"]
[null,null,null,null,null,null,null,null,null,null,null,null,null,null,null,42081,"CS",96321,null,"Caño Salado"]
[null,null,null,null,null,null,null,null,null,null,null,null,null,null,null,48757,"CñSalado",96321,null,"Caño Salado"]
[null,null,null,null,null,null,null,null,null,null,null,null,null,null,null,45113,"caño salado",96321,null,"Caño Salado"]
[null,null,null,null,null,null,null,null,null,null,null,null,null,null,null,45350,"caño salado 2",96321,null,"Caño Salado 2"]
[null,null,null,null,null,null,null,null,null,null,null,null,null,null,null,48745,"CñTijo",96321,null,"Caño Tijo"]
[null,null,null,null,null,null,null,null,null,null,null,null,null,null,null,45014,"caño tijo",96222,null,"Caño Tijo"]
[null,null,null,null,null,null,null,null,null,null,null,null,null,null,null,45015,"latijo2",96222,null,"Caño Tijo"]
[null,null,null,null,null,null,null,null,null,null,null,null,null,null,null,45094,"el tijo 2",96321,null,"Caño Tijo 2"]
[null,null,null,null,null,null,null,null,null,null,null,null,null,null,null,45007,"TIJO",96321,null,"Caño Tijó"]
[null,null,null,null,null,null,null,null,null,null,null,null,null,null,null,42102,"Tijo",96321,null,"Caño Tijó"]
[null,null,null,null,null,null,null,null,null,null,null,null,null,null,null,41953,"CATO",96321,null,"Caño Tubo"]
[null,null,null,null,null,null,null,null,null,null,null,null,null,null,null,48424,"Cura",96321,null,"Caño Urabalito"]
[null,null,null,null,null,null,null,null,null,null,null,null,null,null,null,45071,"el grazal",96321,null,"Caño el Garza"]
[null,null,null,null,null,null,null,null,null,null,null,null,null,null,null,45039,"Nene",96321,null,"Caño el Nene"]
[null,null,null,null,null,null,null,null,null,null,null,null,null,null,null,45129,"Nene",96321,null,"Caño el Nene "]
[null,null,null,null,null,null,null,null,null,null,null,null,null,null,null,44377,"CCAM",96321,null,"Caño la Camaronera"]
[null,null,null,null,null,null,null,null,null,null,null,null,null,null,null,45820,"NC",96321,null,"Chamuscado"]
[null,null,null,null,null,null,null,null,null,null,null,null,null,null,null,42163,"Chichi",96321,null,"Chichiman"]
[null,null,null,null,null,null,null,null,null,null,null,null,null,null,null,44584,"Cholón",96321,null,"Cholón"]
[null,null,null,null,null,null,null,null,null,null,null,null,null,null,null,44979,"Chu",96222,null,"Chungo"]
[null,null,null,null,null,null,null,null,null,null,null,null,null,null,null,48752,"CgGalo",96321,null,"Cienaga Galo"]
[null,null,null,null,null,null,null,null,null,null,null,null,null,null,null,43810,"CMZ",96321,null,"Cienaga Manzanillo"]
[null,null,null,null,null,null,null,null,null,null,null,null,null,null,null,48765,"CgMestizo",96321,null,"Cienaga Mestizo"]
[null,null,null,null,null,null,null,null,null,null,null,null,null,null,null,48746,"Ostion",96321,null,"Cienaga Ostional"]
[null,null,null,null,null,null,null,null,null,null,null,null,null,null,null,44404,"CANG",96321,null,"Ciénaga Ana Gomez "]
[null,null,null,null,null,null,null,null,null,null,null,null,null,null,null,44368,"CBEN",96321,null,"Ciénaga Benitez"]
[null,null,null,null,null,null,null,null,null,null,null,null,null,null,null,45128,"el nene",96222,null,"Ciénaga Caño el Nene"]
[null,null,null,null,null,null,null,null,null,null,null,null,null,null,null,44597,"Picón",96321,null,"Ciénaga El Picón"]
[null,null,null,null,null,null,null,null,null,null,null,null,null,null,null,45117,"golo",96321,null,"Ciénaga Galo "]
[null,null,null,null,null,null,null,null,null,null,null,null,null,null,null,43815,"CMZB",96321,null,"Ciénaga Manzanillo B"]
[null,null,null,null,null,null,null,null,null,null,null,null,null,null,null,45120,"ostional.",96321,null,"Ciénaga Ostional"]
[null,null,null,null,null,null,null,null,null,null,null,null,null,null,null,45135,"remedia pobre.",96321,null,"Ciénaga Remedia Pobre"]
[null,null,null,null,null,null,null,null,null,null,null,null,null,null,null,43630,"CS",96321,null,"Ciénaga Sabaletes"]
[null,null,null,null,null,null,null,null,null,null,null,null,null,null,null,43619,"CSP",96321,null,"Ciénaga Sabaletes Playa"]
[null,null,null,null,null,null,null,null,null,null,null,null,null,null,null,45141,"soledad",96321,null,"Ciénaga Soledad "]
[null,null,null,null,null,null,null,null,null,null,null,null,null,null,null,45124,"el grillo",96321,null,"Ciénaga el Rincón del Grillo "]
[null,null,null,null,null,null,null,null,null,null,null,null,null,null,null,44421,"CCAIM",96321,null,"Ciénaga la Caimanera "]
[null,null,null,null,null,null,null,null,null,null,null,null,null,null,null,45574,"Concho",96321,null,"Concho"]
[null,null,null,null,null,null,null,null,null,null,null,null,null,null,null,45296,"CtaVerde",96321,null,"Costa Verde"]
[null,null,null,null,null,null,null,null,null,null,null,null,null,null,null,45300,"CtaVerde",96321,null,"Costa Verde"]
[null,null,null,null,null,null,null,null,null,null,null,null,null,null,null,45488,"CUERVAL",96321,null,"Cuerval"]
[null,null,null,null,null,null,null,null,null,null,null,null,null,null,null,52725,"RES_MGTBRES_SD",null,null,"Desembocadura rio Toribio - HMP Enriquecimiento zonas degradadas manglar,  Zonas con suelo desnudo"]
[null,null,null,null,null,null,null,null,null,null,null,null,null,null,null,52726,"RES_MGTBRES_MR",null,null,"Desembocadura rio Toribio - HMP Enriquecimiento zonas degradadas manglar, Zonas con mortalidad reciente"]
[null,null,null,null,null,null,null,null,null,null,null,null,null,null,null,40972,"DDIE",96321,null,"Don Diego"]
[null,null,null,null,null,null,null,null,null,null,null,null,null,null,null,45329,"DnDieg",96321,null,"Don Diego"]
[null,null,null,null,null,null,null,null,null,null,null,null,null,null,null,45324,"DnDieg",96321,null,"Don Diego"]
[null,null,null,null,null,null,null,null,null,null,null,null,null,null,null,45904,"EL MUERTO",96321,null,"ESTERO EL MUERTO"]
[null,null,null,null,null,null,null,null,null,null,null,null,null,null,null,45011,"CLAVAL",96321,null,"El Claval"]
[null,null,null,null,null,null,null,null,null,null,null,null,null,null,null,45144,"el garzal 3",96321,null,"El Garzal 3"]
[null,null,null,null,null,null,null,null,null,null,null,null,null,null,null,44589,"Mohán",96321,null,"El Mohán"]
[null,null,null,null,null,null,null,null,null,null,null,null,null,null,null,48416,"Errio",96321,null,"Ensenada de Rionegro "]
[null,null,null,null,null,null,null,null,null,null,null,null,null,null,null,45314,"Enstrib",96321,null,"Ensenada de Tribugá"]
[null,null,null,null,null,null,null,null,null,null,null,null,null,null,null,43667,"ENMU",96321,null,"Ensenada de los Muertos"]
[null,null,null,null,null,null,null,null,null,null,null,null,null,null,null,43827,"ECPSO",96321,null,"Entrada Canal Parche SO"]
[null,null,null,null,null,null,null,null,null,null,null,null,null,null,null,42092,"EC",96321,null,"Estacion Corea"]
[null,null,null,null,null,null,null,null,null,null,null,null,null,null,null,47506,"EAg",96321,null,"Estero Aguacate"]
[null,null,null,null,null,null,null,null,null,null,null,null,null,null,null,45504,"ECOVADO",96321,null,"Estero Covado"]
[null,null,null,null,null,null,null,null,null,null,null,null,null,null,null,46004,"Esteh",96321,null,"Estero Hondo"]
[null,null,null,null,null,null,null,null,null,null,null,null,null,null,null,42256,"ELAG",96321,null,"Estero Lagartero"]
[null,null,null,null,null,null,null,null,null,null,null,null,null,null,null,45825,"YEP",96321,null,"Estero Pasadero "]
[null,null,null,null,null,null,null,null,null,null,null,null,null,null,null,45477,"EREAL",96321,null,"Estero Real"]
[null,null,null,null,null,null,null,null,null,null,null,null,null,null,null,46019,"E.SaM",96321,null,"Estero San Miguel"]
[null,null,null,null,null,null,null,null,null,null,null,null,null,null,null,42252,"ESR",96321,null,"Estero Santa Rita"]
[null,null,null,null,null,null,null,null,null,null,null,null,null,null,null,42813,"ESZA",96321,null,"Estero Zapallo"]
[null,null,null,null,null,null,null,null,null,null,null,null,null,null,null,47508,"EA",96321,null,"Estero san Antonio"]
[null,null,null,null,null,null,null,null,null,null,null,null,null,null,null,45887,"AFB",96321,null,"Firme Bonito "]
[null,null,null,null,null,null,null,null,null,null,null,null,null,null,null,42205,"GUACA",96321,null,"Guacamayas"]
[null,null,null,null,null,null,null,null,null,null,null,null,null,null,null,40980,"GUA",96321,null,"Guachaca"]
[null,null,null,null,null,null,null,null,null,null,null,null,null,null,null,45338,"Guachc",96321,null,"Guachaca"]
[null,null,null,null,null,null,null,null,null,null,null,null,null,null,null,45857,"DG",96321,null,"Guadualito"]
[null,null,null,null,null,null,null,null,null,null,null,null,null,null,null,44560,"Hoblan",96321,null,"Hojas Blancas"]
[null,null,null,null,null,null,null,null,null,null,null,null,null,null,null,45851,"AHM",96321,null,"Humanes Mar "]
[null,null,null,null,null,null,null,null,null,null,null,null,null,null,null,44608,"Ingesa",96321,null,"Ingesa"]
[null,null,null,null,null,null,null,null,null,null,null,null,null,null,null,45280,"IBoqrn",96321,null,"Isla Boquerón"]
[null,null,null,null,null,null,null,null,null,null,null,null,null,null,null,46013,"MajaG",96321,null,"Isla Majagual"]
[null,null,null,null,null,null,null,null,null,null,null,null,null,null,null,45150,"Jesús primera ",96321,null,"Jesús Primera "]
[null,null,null,null,null,null,null,null,null,null,null,null,null,null,null,55337,"RES_SPSC_JM-B",1,null,"Jhon Mangrove borde"]
[null,null,null,null,null,null,null,null,null,null,null,null,null,null,null,55338,"RES_SPSC_JM-C",1,null,"Jhon Mangrove cuenca"]
[null,null,null,null,null,null,null,null,null,null,null,null,null,null,null,55339,"RES_SPSC_JP",1,null,"Jones Point"]
[null,null,null,null,null,null,null,null,null,null,null,null,null,null,null,42395,"KM22",96321,null,"Kilometro 22"]
[null,null,null,null,null,null,null,null,null,null,null,null,null,null,null,43664,"KM3",96321,null,"Kilómetro 3"]
[null,null,null,null,null,null,null,null,null,null,null,null,null,null,null,45138,"la alberca",96321,null,"La Alberca"]
[null,null,null,null,null,null,null,null,null,null,null,null,null,null,null,42006,"BOQ",96321,null,"La Boquilla"]
[null,null,null,null,null,null,null,null,null,null,null,null,null,null,null,42197,"BOQU",96321,null,"La Boquilla"]
[null,null,null,null,null,null,null,null,null,null,null,null,null,null,null,45578,"Laca",96321,null,"La Calle"]
[null,null,null,null,null,null,null,null,null,null,null,null,null,null,null,45132,"camaronera",96321,null,"La Camaronera"]
[null,null,null,null,null,null,null,null,null,null,null,null,null,null,null,45346,"la cuenca",96321,null,"La Cuenca"]
[null,null,null,null,null,null,null,null,null,null,null,null,null,null,null,45585,"la flotante",96321,null,"La Flotante "]
[null,null,null,null,null,null,null,null,null,null,null,null,null,null,null,41131,"LRA",96321,null,"La Raya"]
[null,null,null,null,null,null,null,null,null,null,null,null,null,null,null,43658,"LR",96321,null,"La Revuelta"]
[null,null,null,null,null,null,null,null,null,null,null,null,null,null,null,44634,"VirgenOriente",96321,null,"La Virgen Oriente"]
[null,null,null,null,null,null,null,null,null,null,null,null,null,null,null,44629,"SurVirgen",96321,null,"La Virgen Sur"]
[null,null,null,null,null,null,null,null,null,null,null,null,null,null,null,42090,"LZ",96222,null,"La Zona"]
[null,null,null,null,null,null,null,null,null,null,null,null,null,null,null,42098,"ZON",96321,null,"La Zona"]
[null,null,null,null,null,null,null,null,null,null,null,null,null,null,null,45483,"LARGAR",96321,null,"Lagartero"]
[null,null,null,null,null,null,null,null,null,null,null,null,null,null,null,43580,"LP2",96321,null,"Laguna Pulumana -2"]
[null,null,null,null,null,null,null,null,null,null,null,null,null,null,null,43583,"LP3",96321,null,"Laguna Pulumana -3"]
[null,null,null,null,null,null,null,null,null,null,null,null,null,null,null,41158,"LSA",96321,null,"Laguna Salada"]
[null,null,null,null,null,null,null,null,null,null,null,null,null,null,null,43586,"LSA",96321,null,"Laguna San Agustín"]
[null,null,null,null,null,null,null,null,null,null,null,null,null,null,null,44495,"Piedras",96321,null,"Las Piedras"]
[null,null,null,null,null,null,null,null,null,null,null,null,null,null,null,44615,"Quintas",96321,null,"Las Quintas"]
[null,null,null,null,null,null,null,null,null,null,null,null,null,null,null,41970,"LUCHO",96321,null,"Lucho Guerra"]
[null,null,null,null,null,null,null,null,null,null,null,null,null,null,null,43442,"LUN",96321,null,"Luna"]
[null,null,null,null,null,null,null,null,null,null,null,null,null,null,null,45403,"MIQUITOS",96321,null,"MIQUITOS CURAY"]
[null,null,null,null,null,null,null,null,null,null,null,null,null,null,null,43698,"ZP1",96222,null,"ML"]
[null,null,null,null,null,null,null,null,null,null,null,null,null,null,null,45167,"MallorqP",96321,null,"Mallorquin Playa"]
[null,null,null,null,null,null,null,null,null,null,null,null,null,null,null,45170,"Mallorq",96321,null,"Mallorquín"]
[null,null,null,null,null,null,null,null,null,null,null,null,null,null,null,41962,"MANB",96321,null,"Manatiens B"]
[null,null,null,null,null,null,null,null,null,null,null,null,null,null,null,41958,"MANA",96321,null,"Manatíes A"]
[null,null,null,null,null,null,null,null,null,null,null,null,null,null,null,45252,"Manat",96321,null,"Manatíes Playa "]
[null,null,null,null,null,null,null,null,null,null,null,null,null,null,null,56581,"MANGLAR_CISPATA",null,null,"Manglar Cispata"]
[null,null,null,null,null,null,null,null,null,null,null,null,null,null,null,43837,"MDB2",96321,null,"Manglar de borde 2"]
[null,null,null,null,null,null,null,null,null,null,null,null,null,null,null,43577,"MDB",96321,null,"Mangle de Borde"]
[null,null,null,null,null,null,null,null,null,null,null,null,null,null,null,44639,"JPManzanillo",96321,null,"Manzanillo"]
[null,null,null,null,null,null,null,null,null,null,null,null,null,null,null,55340,"RES_SPSC_MZ-P",1,null,"Manzanillo"]
[null,null,null,null,null,null,null,null,null,null,null,null,null,null,null,42002,"MATU",96321,null,"Matunilla"]
[null,null,null,null,null,null,null,null,null,null,null,null,null,null,null,41121,"MA",96321,null,"Mayapo"]
[null,null,null,null,null,null,null,null,null,null,null,null,null,null,null,45582,"Mtero",96321,null,"Muertero"]
[null,null,null,null,null,null,null,null,null,null,null,null,null,null,null,43822,"SPSO",96321,null,"Musichi Salida Parche SO"]
[null,null,null,null,null,null,null,null,null,null,null,null,null,null,null,45873,"MV",96321,null,"Málaga"]
[null,null,null,null,null,null,null,null,null,null,null,null,null,null,null,41462,"OP",96321,null,"Old Point -1"]
[null,null,null,null,null,null,null,null,null,null,null,null,null,null,null,55341,"RES_SPSC_OT-B",1,null,"Old Town Borde"]
[null,null,null,null,null,null,null,null,null,null,null,null,null,null,null,55342,"RES_SPSC_OT-C",1,null,"Old Town Cuenca"]
[null,null,null,null,null,null,null,null,null,null,null,null,null,null,null,45390,"CABALLOS",96321,null,"PASACABALLOS"]
[null,null,null,null,null,null,null,null,null,null,null,null,null,null,null,43589,"PPU",96321,null,"PArcela Pulumana"]
[null,null,null,null,null,null,null,null,null,null,null,null,null,null,null,42110,"PALOS",96321,null,"Palos Ecal"]
[null,null,null,null,null,null,null,null,null,null,null,null,null,null,null,43640,"PE",96321,null,"Pantano el Eneal"]
[null,null,null,null,null,null,null,null,null,null,null,null,null,null,null,43805,"PSO",96321,null,"Parche SO"]
[null,null,null,null,null,null,null,null,null,null,null,null,null,null,null,45246,"Pabarc",96321,null,"Parte baja Río Chorí"]
[null,null,null,null,null,null,null,null,null,null,null,null,null,null,null,42125,"PEÑI",96321,null,"Peñitas"]
[null,null,null,null,null,null,null,null,null,null,null,null,null,null,null,42240,"POBA",96321,null,"Playa Obregon Bocana Aquiroba"]
[null,null,null,null,null,null,null,null,null,null,null,null,null,null,null,42233,"PORG",96321,null,"Playa Obregon Bocana Rio Guapi"]
[null,null,null,null,null,null,null,null,null,null,null,null,null,null,null,45480,"PSOFIA",96321,null,"Playa Sofía"]
[null,null,null,null,null,null,null,null,null,null,null,null,null,null,null,46000,"Ply",96321,null,"Playita"]
[null,null,null,null,null,null,null,null,null,null,null,null,null,null,null,40992,"PZC",96321,null,"Pozos Colorados"]
[null,null,null,null,null,null,null,null,null,null,null,null,null,null,null,41000,"PVIE",96321,null,"Pueblo Viejo"]
[null,null,null,null,null,null,null,null,null,null,null,null,null,null,null,42106,"PUER",96321,null,"Puerquera"]
[null,null,null,null,null,null,null,null,null,null,null,null,null,null,null,48469,"Pces",96321,null,"Puerto Cesar"]
[null,null,null,null,null,null,null,null,null,null,null,null,null,null,null,45879,"SJPE",96321,null,"Puerto España "]
[null,null,null,null,null,null,null,null,null,null,null,null,null,null,null,44602,"Pta Arenas",96321,null,"Punta Arenas"]
[null,null,null,null,null,null,null,null,null,null,null,null,null,null,null,44620,"Boquerón",96321,null,"Punta Boquerón"]
[null,null,null,null,null,null,null,null,null,null,null,null,null,null,null,43634,"PCC",96321,null,"Punta Caricari"]
[null,null,null,null,null,null,null,null,null,null,null,null,null,null,null,45287,"PtaCerro",96321,null,"Punta Cerro"]
[null,null,null,null,null,null,null,null,null,null,null,null,null,null,null,45273,"PtaChino",96321,null,"Punta Chino"]
[null,null,null,null,null,null,null,null,null,null,null,null,null,null,null,48682,"Pcoq",96321,null,"Punta Coquito"]
[null,null,null,null,null,null,null,null,null,null,null,null,null,null,null,44399,"PSEC",96321,null,"Punta Seca"]
[null,null,null,null,null,null,null,null,null,null,null,null,null,null,null,48438,"Pyar",96321,null,"Punta Yarumal"]
[null,null,null,null,null,null,null,null,null,null,null,null,null,null,null,45493,"PCOCO",96321,null,"Punta de Coco"]
[null,null,null,null,null,null,null,null,null,null,null,null,null,null,null,48431,"Pvac",96321,null,"Punta de las Vacas"]
[null,null,null,null,null,null,null,null,null,null,null,null,null,null,null,46005,"QB",96321,null,"Quebrada Balsadito"]
[null,null,null,null,null,null,null,null,null,null,null,null,null,null,null,45496,"QUIROGA",96321,null,"Quiroga"]
[null,null,null,null,null,null,null,null,null,null,null,null,null,null,null,44391,"RNOR",96321,null,"Rincon Norte"]
[null,null,null,null,null,null,null,null,null,null,null,null,null,null,null,44394,"RSUR",96321,null,"Rincon Sur "]
[null,null,null,null,null,null,null,null,null,null,null,null,null,null,null,41400,"RIN",96222,null,"Rinconada"]
[null,null,null,null,null,null,null,null,null,null,null,null,null,null,null,44175,"RIN",96321,null,"Rinconada"]
[null,null,null,null,null,null,null,null,null,null,null,null,null,null,null,55347,"MGTBMON-I",1,null,"Rio Toribio - MI"]
[null,null,null,null,null,null,null,null,null,null,null,null,null,null,null,55348,"MGTBMON-II",1,null,"Rio Toribio - MII"]
[null,null,null,null,null,null,null,null,null,null,null,null,null,null,null,55349,"MGTBMON-III",1,null,"Rio Toribio - MIII "]
[null,null,null,null,null,null,null,null,null,null,null,null,null,null,null,55350,"MGTBMON-IV",1,null,"Rio Toribio - MIV"]
[null,null,null,null,null,null,null,null,null,null,null,null,null,null,null,55351,"MGTBMON-V",1,null,"Rio Toribio - MV"]
[null,null,null,null,null,null,null,null,null,null,null,null,null,null,null,55352,"MGTBMON-VI",1,null,"Rio Toribio - MVI"]
[null,null,null,null,null,null,null,null,null,null,null,null,null,null,null,42126,"RVIR",96321,null,"Rio Virudó"]
[null,null,null,null,null,null,null,null,null,null,null,null,null,null,null,55531,"MGTB_Temp-PM1",null,"Parcela temporal Toribio - Manglar denso (Cerca a desembocadura del río y al manglar MI)","Rio toribio desembocadura - Margen norte "]
[null,null,null,null,null,null,null,null,null,null,null,null,null,null,null,55532,"MGTB_Temp-PM2",null,"Parcela temporal Toribio - Manglar denso (Cerca al manglar MII)","Rio toribio desembocadura - Margen norte "]
[null,null,null,null,null,null,null,null,null,null,null,null,null,null,null,55533,"MGTB_Temp-PM3",null,"Parcela temporal Toribio - Manglar denso (Cerca al manglar MIII)","Rio toribio desembocadura - Margen norte "]
[null,null,null,null,null,null,null,null,null,null,null,null,null,null,null,55534,"MGTB_Temp-PM4",null,"Parcela temporal Toribio - Manglar denso (Cerca al manglar MIII)","Rio toribio desembocadura - Margen norte "]
[null,null,null,null,null,null,null,null,null,null,null,null,null,null,null,45085,"RIAN",96321,null,"Río Ancachí"]
[null,null,null,null,null,null,null,null,null,null,null,null,null,null,null,48463,"Rdmq",96321,null,"Río Damaquiel."]
[null,null,null,null,null,null,null,null,null,null,null,null,null,null,null,48426,"Rgua",96222,null,"Río Guadualito"]
[null,null,null,null,null,null,null,null,null,null,null,null,null,null,null,48400,"Rleo",96222,null,"Río León"]
[null,null,null,null,null,null,null,null,null,null,null,null,null,null,null,48425,"Rnec",96321,null,"Río Necocli"]
[null,null,null,null,null,null,null,null,null,null,null,null,null,null,null,45266,"Sevillla",96321,null,"Río Sevilla"]
[null,null,null,null,null,null,null,null,null,null,null,null,null,null,null,48399,"RSurq",96222,null,"Río Suriqui"]
[null,null,null,null,null,null,null,null,null,null,null,null,null,null,null,48866,"Toribio",96321,null,"Río Toribio"]
[null,null,null,null,null,null,null,null,null,null,null,null,null,null,null,45394,"SANAND",96321,null,"SAN ANDRES"]
[null,null,null,null,null,null,null,null,null,null,null,null,null,null,null,44549,"Salho",96222,null,"Salahonda"]
[null,null,null,null,null,null,null,null,null,null,null,null,null,null,null,44545,"Salho",96321,null,"Salahonda"]
[null,null,null,null,null,null,null,null,null,null,null,null,null,null,null,44514,"Salho",96321,null,"Salahonda"]
[null,null,null,null,null,null,null,null,null,null,null,null,null,null,null,44556,"Salho",96321,null,"Salahonda"]
[null,null,null,null,null,null,null,null,null,null,null,null,null,null,null,44418,"SGAR",96321,null,"Salitral el Garzal"]
[null,null,null,null,null,null,null,null,null,null,null,null,null,null,null,41491,"SCRE",96321,null,"Salt Creek"]
[null,null,null,null,null,null,null,null,null,null,null,null,null,null,null,44486,"Tuma",96321,null,"San Andres de Tumaco"]
[null,null,null,null,null,null,null,null,null,null,null,null,null,null,null,44499,"Sta-Ana",96321,null,"Santa Ana"]
[null,null,null,null,null,null,null,null,null,null,null,null,null,null,null,45845,"RSA",96321,null,"Santa Ana "]
[null,null,null,null,null,null,null,null,null,null,null,null,null,null,null,55344,"RES_SPSC_SC-B",1,null,"Santa Catalina Borde"]
[null,null,null,null,null,null,null,null,null,null,null,null,null,null,null,55343,"RES_SPSC_SC-C",1,null,"Santa Catalina Cuenca"]
[null,null,null,null,null,null,null,null,null,null,null,null,null,null,null,45501,"SRITA",96321,null,"Santa Rita"]
[null,null,null,null,null,null,null,null,null,null,null,null,null,null,null,40996,"SEV",96321,null,"Sevillano"]
[null,null,null,null,null,null,null,null,null,null,null,null,null,null,null,41471,"CO",96321,null,"Smith Channel"]
[null,null,null,null,null,null,null,null,null,null,null,null,null,null,null,41478,"SCH",96321,null,"Smith Channel"]
[null,null,null,null,null,null,null,null,null,null,null,null,null,null,null,41484,"SWB",96321,null,"South West Bay"]
[null,null,null,null,null,null,null,null,null,null,null,null,null,null,null,45399,"TRUJI",96321,null,"TRUJILLO"]
[null,null,null,null,null,null,null,null,null,null,null,null,null,null,null,45421,"Tangarrá",96321,null,"Tangarrá"]
[null,null,null,null,null,null,null,null,null,null,null,null,null,null,null,45829,"CT",96321,null,"Timba"]
[null,null,null,null,null,null,null,null,null,null,null,null,null,null,null,45256,"Totum.",96321,null,"Totumo Oriental"]
[null,null,null,null,null,null,null,null,null,null,null,null,null,null,null,45510,"TRAV",96321,null,"Travesía"]
[null,null,null,null,null,null,null,null,null,null,null,null,null,null,null,48761,"UltBoca",96321,null,"Ultima Boca"]
[null,null,null,null,null,null,null,null,null,null,null,null,null,null,null,41146,"CANG",96321,null,"Valle de los Cangrejos"]
[null,null,null,null,null,null,null,null,null,null,null,null,null,null,null,45156,"VelP",96321,null,"Velero"]
[null,null,null,null,null,null,null,null,null,null,null,null,null,null,null,44626,"VíaMar",96321,null,"Vía al Mar"]
[null,null,null,null,null,null,null,null,null,null,null,null,null,null,null,45838,"MWA",96321,null,"WAIPARE"]
[null,null,null,null,null,null,null,null,null,null,null,null,null,null,null,48522,"Yerb",96321,null,"Yerbasal"]
[null,null,null,null,null,null,null,null,null,null,null,null,null,null,null,45102,"el claval",96321,null,"el claval"]
[null,null,null,null,null,null,null,null,null,null,null,null,null,null,null,44258,"ki",96321,null,"ki"]
[null,null,null,null,null,null,null,null,null,null,null,null,null,null,null,41966,"BOCA",96321,null,"ocana"]
[null,null,null,null,null,null,null,null,null,null,null,null,null,null,null,43444,"AGU",96321]
[null,null,null,null,null,null,null,null,null,null,null,null,null,null,null,2110,"CC",96222,null,"CARIBE CONTINENTAL"]
[null,null,null,null,null,null,null,null,null,null,null,null,null,null,null,2111,"CI",96222,null,"CARIBE INSULAR"]
[null,null,null,null,null,null,null,null,null,null,null,null,null,null,null,2112,"PC",96222,null,"PACIFICO CONTINENTAL"]
[null,null,null,null,null,null,null,null,null,null,null,null,null,null,null,55952,"SZ",96222,null,"Sin Zonificacion"]
[null,null,null,null,null,null,null,null,null,null,null,null,null,null,null,45262,"SZ081",96222,null,"Sin Zonificación"]
[null,null,null,null,null,null,null,null,null,null,null,null,null,null,null,42105,"SZ271",96222,null,"Sin Zonificación"]
[null,null,null,null,null,null,null,null,null,null,null,null,null,null,null,40969,"SZ471",96222,null,"Sin Zonificación"]
[null,null,null,null,null,null,null,null,null,null,null,null,null,null,null,40977,"SZ472",96222,null,"Sin Zonificación"]
[null,null,null,null,null,null,null,null,null,null,null,null,null,null,null,40991,"SZ473",96222,null,"Sin Zonificación"]
[null,null,null,null,null,null,null,null,null,null,null,null,null,null,null,40999,"SZ474",96222,null,"Sin Zonificación"]
[null,null,null,null,null,null,null,null,null,null,null,null,null,null,null,41002,"SZ475",96222,null,"Sin Zonificación"]
[null,null,null,null,null,null,null,null,null,null,null,null,null,null,null,42315,"SZ476",96222,null,"Sin Zonificación"]
[null,null,null,null,null,null,null,null,null,null,null,null,null,null,null,42393,"SZ477",96222,null,"Sin Zonificación"]
[null,null,null,null,null,null,null,null,null,null,null,null,null,null,null,48865,"SZ478",96222,null,"Sin Zonificación"]
[null,null,null,null,null,null,null,null,null,null,null,null,null,null,null,43443,"ZR472",96222,null,"Sin Zonificación"]
[null,null,null,null,null,null,null,null,null,null,null,null,null,null,null,48411,"ZP056",96222,null,"ZP5"]
[null,null,null,null,null,null,null,null,null,null,null,null,null,null,null,45868,"ZP769",96222,null,"ZP5"]
[null,null,null,null,null,null,null,null,null,null,null,null,null,null,null,48412,"ZP057",96222,null,"ZP6"]
[null,null,null,null,null,null,null,null,null,null,null,null,null,null,null,45869,"ZP7610",96222,null,"ZP6"]
[null,null,null,null,null,null,null,null,null,null,null,null,null,null,null,48413,"ZP058",96222,null,"ZP7"]
[null,null,null,null,null,null,null,null,null,null,null,null,null,null,null,48415,"ZP059",96222,null,"ZP8"]
[null,null,null,null,null,null,null,null,null,null,null,null,null,null,null,45871,"ZP7612",96222,null,"ZP8"]
[null,null,null,null,null,null,null,null,null,null,null,null,null,null,null,45872,"ZP7613",96222,null,"ZP9"]
[null,null,null,null,null,null,null,null,null,null,null,null,null,null,null,45870,"ZP7611",96222,null,"Zona P7"]
[null,null,null,null,null,null,null,null,null,null,null,null,null,null,null,55946,"ZP",96222,null,"Zona de Preservacion"]
[null,null,null,null,null,null,null,null,null,null,null,null,null,null,null,55947,"ZP",96222,null,"Zona de Preservacion"]
[null,null,null,null,null,null,null,null,null,null,null,null,null,null,null,56550,"ZP",96222,null,"Zona de Preservacion"]
[null,null,null,null,null,null,null,null,null,null,null,null,null,null,null,55948,"ZP",96222,null,"Zona de Preservacion"]
[null,null,null,null,null,null,null,null,null,null,null,null,null,null,null,55954,"ZP",96222,null,"Zona de Preservacion"]
[null,null,null,null,null,null,null,null,null,null,null,null,null,null,null,55955,"ZP",96222,null,"Zona de Preservacion"]
[null,null,null,null,null,null,null,null,null,null,null,null,null,null,null,55956,"ZP",96222,null,"Zona de Preservacion"]
[null,null,null,null,null,null,null,null,null,null,null,null,null,null,null,48398,"ZP051",96222,null,"Zona de Preservación"]
[null,null,null,null,null,null,null,null,null,null,null,null,null,null,null,48421,"ZP0510",96222,null,"Zona de Preservación"]
[null,null,null,null,null,null,null,null,null,null,null,null,null,null,null,48407,"ZP052",96222,null,"Zona de Preservación"]
[null,null,null,null,null,null,null,null,null,null,null,null,null,null,null,48408,"ZP053",96222,null,"Zona de Preservación"]
[null,null,null,null,null,null,null,null,null,null,null,null,null,null,null,48409,"ZP054",96222,null,"Zona de Preservación"]
[null,null,null,null,null,null,null,null,null,null,null,null,null,null,null,48410,"ZP055",96222,null,"Zona de Preservación"]
[null,null,null,null,null,null,null,null,null,null,null,null,null,null,null,41843,"ZP081",96222,null,"Zona de Preservación"]
[null,null,null,null,null,null,null,null,null,null,null,null,null,null,null,45166,"ZP0810",96222,null,"Zona de Preservación"]
[null,null,null,null,null,null,null,null,null,null,null,null,null,null,null,45255,"ZP0811",96222,null,"Zona de Preservación"]
[null,null,null,null,null,null,null,null,null,null,null,null,null,null,null,41961,"ZP082",96222,null,"Zona de Preservación"]
[null,null,null,null,null,null,null,null,null,null,null,null,null,null,null,41965,"ZP083",96222,null,"Zona de Preservación"]
[null,null,null,null,null,null,null,null,null,null,null,null,null,null,null,41969,"ZP084",96222,null,"Zona de Preservación"]
[null,null,null,null,null,null,null,null,null,null,null,null,null,null,null,44997,"ZP085",96222,null,"Zona de Preservación"]
[null,null,null,null,null,null,null,null,null,null,null,null,null,null,null,44998,"ZP086",96222,null,"Zona de Preservación"]
[null,null,null,null,null,null,null,null,null,null,null,null,null,null,null,45003,"ZP087",96222,null,"Zona de Preservación"]
[null,null,null,null,null,null,null,null,null,null,null,null,null,null,null,45154,"ZP088",96222,null,"Zona de Preservación"]
[null,null,null,null,null,null,null,null,null,null,null,null,null,null,null,45155,"ZP089",96222,null,"Zona de Preservación"]
[null,null,null,null,null,null,null,null,null,null,null,null,null,null,null,48483,"ZP1150",96222,null,"Zona de Preservación"]
[null,null,null,null,null,null,null,null,null,null,null,null,null,null,null,44607,"ZP132",96222,null,"Zona de Preservación"]
[null,null,null,null,null,null,null,null,null,null,null,null,null,null,null,44596,"ZP134",96222,null,"Zona de Preservación"]
[null,null,null,null,null,null,null,null,null,null,null,null,null,null,null,42204,"ZP191",96222,null,"Zona de Preservación"]
[null,null,null,null,null,null,null,null,null,null,null,null,null,null,null,45513,"ZP1910",96222,null,"Zona de Preservación"]
[null,null,null,null,null,null,null,null,null,null,null,null,null,null,null,42228,"ZP192",96222,null,"Zona de Preservación"]
[null,null,null,null,null,null,null,null,null,null,null,null,null,null,null,42255,"ZP193",96222,null,"Zona de Preservación"]
[null,null,null,null,null,null,null,null,null,null,null,null,null,null,null,43857,"ZP194",96222,null,"Zona de Preservación"]
[null,null,null,null,null,null,null,null,null,null,null,null,null,null,null,45472,"ZP195",96222,null,"Zona de Preservación"]
[null,null,null,null,null,null,null,null,null,null,null,null,null,null,null,45486,"ZP196",96222,null,"Zona de Preservación"]
[null,null,null,null,null,null,null,null,null,null,null,null,null,null,null,45487,"ZP197",96222,null,"Zona de Preservación"]
[null,null,null,null,null,null,null,null,null,null,null,null,null,null,null,45507,"ZP198",96222,null,"Zona de Preservación"]
[null,null,null,null,null,null,null,null,null,null,null,null,null,null,null,45508,"ZP199",96222,null,"Zona de Preservación"]
[null,null,null,null,null,null,null,null,null,null,null,null,null,null,null,42078,"ZP231",96222,null,"Zona de Preservación"]
[null,null,null,null,null,null,null,null,null,null,null,null,null,null,null,42693,"ZP232",96222,null,"Zona de Preservación"]
[null,null,null,null,null,null,null,null,null,null,null,null,null,null,null,44988,"ZP233",96222,null,"Zona de Preservación"]
[null,null,null,null,null,null,null,null,null,null,null,null,null,null,null,45153,"ZP234",96222,null,"Zona de Preservación"]
[null,null,null,null,null,null,null,null,null,null,null,null,null,null,null,45349,"ZP235",96222,null,"Zona de Preservación"]
[null,null,null,null,null,null,null,null,null,null,null,null,null,null,null,46057,"ZP236",96222,null,"Zona de Preservación"]
[null,null,null,null,null,null,null,null,null,null,null,null,null,null,null,48729,"ZP237",96222,null,"Zona de Preservación"]
[null,null,null,null,null,null,null,null,null,null,null,null,null,null,null,48764,"ZP238",96222,null,"Zona de Preservación"]
[null,null,null,null,null,null,null,null,null,null,null,null,null,null,null,45312,"ZP271",96222,null,"Zona de Preservación"]
[null,null,null,null,null,null,null,null,null,null,null,null,null,null,null,45577,"ZP272",96222,null,"Zona de Preservación"]
[null,null,null,null,null,null,null,null,null,null,null,null,null,null,null,41073,"ZP441",96222,null,"Zona de Preservación"]
[null,null,null,null,null,null,null,null,null,null,null,null,null,null,null,43617,"ZP442",96222,null,"Zona de Preservación"]
[null,null,null,null,null,null,null,null,null,null,null,null,null,null,null,43618,"ZP443",96222,null,"Zona de Preservación"]
[null,null,null,null,null,null,null,null,null,null,null,null,null,null,null,43633,"ZP444",96222,null,"Zona de Preservación"]
[null,null,null,null,null,null,null,null,null,null,null,null,null,null,null,43651,"ZP445",96222,null,"Zona de Preservación"]
[null,null,null,null,null,null,null,null,null,null,null,null,null,null,null,43697,"ZP446",96222,null,"Zona de Preservación"]
[null,null,null,null,null,null,null,null,null,null,null,null,null,null,null,45001,"ZP447",96222,null,"Zona de Preservación"]
[null,null,null,null,null,null,null,null,null,null,null,null,null,null,null,44978,"ZP471",96222,null,"Zona de Preservación"]
[null,null,null,null,null,null,null,null,null,null,null,null,null,null,null,45337,"ZP4710",96222,null,"Zona de Preservación"]
[null,null,null,null,null,null,null,null,null,null,null,null,null,null,null,44986,"ZP472",96222,null,"Zona de Preservación"]
[null,null,null,null,null,null,null,null,null,null,null,null,null,null,null,45295,"ZP473",96222,null,"Zona de Preservación"]
[null,null,null,null,null,null,null,null,null,null,null,null,null,null,null,45303,"ZP474",96222,null,"Zona de Preservación"]
[null,null,null,null,null,null,null,null,null,null,null,null,null,null,null,45322,"ZP475",96222,null,"Zona de Preservación"]
[null,null,null,null,null,null,null,null,null,null,null,null,null,null,null,45323,"ZP476",96222,null,"Zona de Preservación"]
[null,null,null,null,null,null,null,null,null,null,null,null,null,null,null,45334,"ZP477",96222,null,"Zona de Preservación"]
[null,null,null,null,null,null,null,null,null,null,null,null,null,null,null,45335,"ZP478",96222,null,"Zona de Preservación"]
[null,null,null,null,null,null,null,null,null,null,null,null,null,null,null,45336,"ZP479",96222,null,"Zona de Preservación"]
[null,null,null,null,null,null,null,null,null,null,null,null,null,null,null,41432,"ZP521",96222,null,"Zona de Preservación"]
[null,null,null,null,null,null,null,null,null,null,null,null,null,null,null,44540,"ZP522",96222,null,"Zona de Preservación"]
[null,null,null,null,null,null,null,null,null,null,null,null,null,null,null,45398,"ZP523",96222,null,"Zona de Preservación"]
[null,null,null,null,null,null,null,null,null,null,null,null,null,null,null,45402,"ZP524",96222,null,"Zona de Preservación"]
[null,null,null,null,null,null,null,null,null,null,null,null,null,null,null,44389,"ZP701",96222,null,"Zona de Preservación"]
[null,null,null,null,null,null,null,null,null,null,null,null,null,null,null,45823,"ZP761",96222,null,"Zona de Preservación"]
[null,null,null,null,null,null,null,null,null,null,null,null,null,null,null,45824,"ZP762",96222,null,"Zona de Preservación"]
[null,null,null,null,null,null,null,null,null,null,null,null,null,null,null,45826,"ZP763",96222,null,"Zona de Preservación"]
[null,null,null,null,null,null,null,null,null,null,null,null,null,null,null,45827,"ZP764",96222,null,"Zona de Preservación"]
[null,null,null,null,null,null,null,null,null,null,null,null,null,null,null,45864,"ZP765",96222,null,"Zona de Preservación"]
[null,null,null,null,null,null,null,null,null,null,null,null,null,null,null,45865,"ZP766",96222,null,"Zona de Preservación"]
[null,null,null,null,null,null,null,null,null,null,null,null,null,null,null,45866,"ZP767",96222,null,"Zona de Preservación"]
[null,null,null,null,null,null,null,null,null,null,null,null,null,null,null,45867,"ZP768",96222,null,"Zona de Preservación"]
[null,null,null,null,null,null,null,null,null,null,null,null,null,null,null,41468,"ZP881",96222,null,"Zona de Preservación"]
[null,null,null,null,null,null,null,null,null,null,null,null,null,null,null,56580,"ZP8817",null,null,"Zona de Preservación"]
[null,null,null,null,null,null,null,null,null,null,null,null,null,null,null,56582,"ZP8818",null,null,"Zona de Preservación"]
[null,null,null,null,null,null,null,null,null,null,null,null,null,null,null,41476,"ZP882",96222,null,"Zona de Preservación"]
[null,null,null,null,null,null,null,null,null,null,null,null,null,null,null,41481,"ZP883",96222,null,"Zona de Preservación"]
[null,null,null,null,null,null,null,null,null,null,null,null,null,null,null,41482,"ZP884",96222,null,"Zona de Preservación"]
[null,null,null,null,null,null,null,null,null,null,null,null,null,null,null,41483,"ZP885",96222,null,"Zona de Preservación"]
[null,null,null,null,null,null,null,null,null,null,null,null,null,null,null,41489,"ZP886",96222,null,"Zona de Preservación"]
[null,null,null,null,null,null,null,null,null,null,null,null,null,null,null,41490,"ZP887",96222,null,"Zona de Preservación"]
[null,null,null,null,null,null,null,null,null,null,null,null,null,null,null,43717,"ZP888",96222,null,"Zona de Preservación"]
[null,null,null,null,null,null,null,null,null,null,null,null,null,null,null,44257,"ZP889",96222,null,"Zona de Preservación"]
[null,null,null,null,null,null,null,null,null,null,null,null,null,null,null,55949,"ZR",96222,null,"Zona de Recuperacion"]
[null,null,null,null,null,null,null,null,null,null,null,null,null,null,null,55950,"ZR",96222,null,"Zona de Recuperacion"]
[null,null,null,null,null,null,null,null,null,null,null,null,null,null,null,55951,"ZR",96222,null,"Zona de Recuperacion"]
[null,null,null,null,null,null,null,null,null,null,null,null,null,null,null,55953,"ZR",96222,null,"Zona de Recuperacion"]
[null,null,null,null,null,null,null,null,null,null,null,null,null,null,null,48397,"ZR051",96222,null,"Zona de Recuperación"]
[null,null,null,null,null,null,null,null,null,null,null,null,null,null,null,48414,"ZR052",96222,null,"Zona de Recuperación"]
[null,null,null,null,null,null,null,null,null,null,null,null,null,null,null,48422,"ZR053",96222,null,"Zona de Recuperación"]
[null,null,null,null,null,null,null,null,null,null,null,null,null,null,null,48462,"ZR054",96222,null,"Zona de Recuperación"]
[null,null,null,null,null,null,null,null,null,null,null,null,null,null,null,48485,"ZR055",96222,null,"Zona de Recuperación"]
[null,null,null,null,null,null,null,null,null,null,null,null,null,null,null,41952,"ZR081",96222,null,"Zona de Recuperación"]
[null,null,null,null,null,null,null,null,null,null,null,null,null,null,null,41956,"ZR082",96222,null,"Zona de Recuperación"]
[null,null,null,null,null,null,null,null,null,null,null,null,null,null,null,45165,"ZR083",96222,null,"Zona de Recuperación"]
[null,null,null,null,null,null,null,null,null,null,null,null,null,null,null,41998,"ZR131",96222,null,"Zona de Recuperación"]
[null,null,null,null,null,null,null,null,null,null,null,null,null,null,null,42005,"ZR132",96222,null,"Zona de Recuperación"]
[null,null,null,null,null,null,null,null,null,null,null,null,null,null,null,44498,"ZR133",96222,null,"Zona de Recuperación"]
[null,null,null,null,null,null,null,null,null,null,null,null,null,null,null,45470,"ZR191",96222,null,"Zona de Recuperación"]
[null,null,null,null,null,null,null,null,null,null,null,null,null,null,null,45471,"ZR192",96222,null,"Zona de Recuperación"]
[null,null,null,null,null,null,null,null,null,null,null,null,null,null,null,42251,"ZR193",96222,null,"Zona de Recuperación"]
[null,null,null,null,null,null,null,null,null,null,null,null,null,null,null,45500,"ZR194",96222,null,"Zona de Recuperación"]
[null,null,null,null,null,null,null,null,null,null,null,null,null,null,null,42091,"ZR231",96222,null,"Zona de Recuperación"]
[null,null,null,null,null,null,null,null,null,null,null,null,null,null,null,42101,"ZR232",96222,null,"Zona de Recuperación"]
[null,null,null,null,null,null,null,null,null,null,null,null,null,null,null,42697,"ZR233",96222,null,"Zona de Recuperación"]
[null,null,null,null,null,null,null,null,null,null,null,null,null,null,null,45093,"ZR234",96222,null,"Zona de Recuperación"]
[null,null,null,null,null,null,null,null,null,null,null,null,null,null,null,45116,"ZR235",96222,null,"Zona de Recuperación"]
[null,null,null,null,null,null,null,null,null,null,null,null,null,null,null,48731,"ZR236",96222,null,"Zona de Recuperación"]
[null,null,null,null,null,null,null,null,null,null,null,null,null,null,null,48760,"ZR237",96222,null,"Zona de Recuperación"]
[null,null,null,null,null,null,null,null,null,null,null,null,null,null,null,45084,"ZR271",96222,null,"Zona de Recuperación"]
[null,null,null,null,null,null,null,null,null,null,null,null,null,null,null,45420,"ZR272",96222,null,"Zona de Recuperación"]
[null,null,null,null,null,null,null,null,null,null,null,null,null,null,null,45581,"ZR273",96222,null,"Zona de Recuperación"]
[null,null,null,null,null,null,null,null,null,null,null,null,null,null,null,45855,"ZR2766",96222,null,"Zona de Recuperación"]
[null,null,null,null,null,null,null,null,null,null,null,null,null,null,null,41117,"ZR441",96222,null,"Zona de Recuperación"]
[null,null,null,null,null,null,null,null,null,null,null,null,null,null,null,41130,"ZR442",96222,null,"Zona de Recuperación"]
[null,null,null,null,null,null,null,null,null,null,null,null,null,null,null,41138,"ZR443",96222,null,"Zona de Recuperación"]
[null,null,null,null,null,null,null,null,null,null,null,null,null,null,null,41153,"ZR444",96222,null,"Zona de Recuperación"]
[null,null,null,null,null,null,null,null,null,null,null,null,null,null,null,45002,"ZR445",96222,null,"Zona de Recuperación"]
[null,null,null,null,null,null,null,null,null,null,null,null,null,null,null,40995,"ZR471",96222,null,"Zona de Recuperación"]
[null,null,null,null,null,null,null,null,null,null,null,null,null,null,null,44999,"ZR473",96222,null,"Zona de Recuperación"]
[null,null,null,null,null,null,null,null,null,null,null,null,null,null,null,45299,"ZR474",96222,null,"Zona de Recuperación"]
[null,null,null,null,null,null,null,null,null,null,null,null,null,null,null,45311,"ZR475",96222,null,"Zona de Recuperación"]
[null,null,null,null,null,null,null,null,null,null,null,null,null,null,null,45328,"ZR476",96222,null,"Zona de Recuperación"]
[null,null,null,null,null,null,null,null,null,null,null,null,null,null,null,42812,"ZR521",96222,null,"Zona de Recuperación"]
[null,null,null,null,null,null,null,null,null,null,null,null,null,null,null,45898,"ZR5210",96222,null,"Zona de Recuperación"]
[null,null,null,null,null,null,null,null,null,null,null,null,null,null,null,45903,"ZR5211",96222,null,"Zona de Recuperación"]
[null,null,null,null,null,null,null,null,null,null,null,null,null,null,null,42824,"ZR522",96222,null,"Zona de Recuperación"]
[null,null,null,null,null,null,null,null,null,null,null,null,null,null,null,42825,"ZR523",96222,null,"Zona de Recuperación"]
[null,null,null,null,null,null,null,null,null,null,null,null,null,null,null,42826,"ZR524",96222,null,"Zona de Recuperación"]
[null,null,null,null,null,null,null,null,null,null,null,null,null,null,null,42831,"ZR525",96222,null,"Zona de Recuperación"]
[null,null,null,null,null,null,null,null,null,null,null,null,null,null,null,42836,"ZR526",96222,null,"Zona de Recuperación"]
[null,null,null,null,null,null,null,null,null,null,null,null,null,null,null,44485,"ZR527",96222,null,"Zona de Recuperación"]
[null,null,null,null,null,null,null,null,null,null,null,null,null,null,null,44548,"ZR528",96222,null,"Zona de Recuperación"]
[null,null,null,null,null,null,null,null,null,null,null,null,null,null,null,45894,"ZR529",96222,null,"Zona de Recuperación"]
[null,null,null,null,null,null,null,null,null,null,null,null,null,null,null,42160,"ZR701",96222,null,"Zona de Recuperación"]
[null,null,null,null,null,null,null,null,null,null,null,null,null,null,null,42194,"ZR702",96222,null,"Zona de Recuperación"]
[null,null,null,null,null,null,null,null,null,null,null,null,null,null,null,42200,"ZR703",96222,null,"Zona de Recuperación"]
[null,null,null,null,null,null,null,null,null,null,null,null,null,null,null,44367,"ZR704",96222,null,"Zona de Recuperación"]
[null,null,null,null,null,null,null,null,null,null,null,null,null,null,null,44390,"ZR705",96222,null,"Zona de Recuperación"]
[null,null,null,null,null,null,null,null,null,null,null,null,null,null,null,44398,"ZR706",96222,null,"Zona de Recuperación"]
[null,null,null,null,null,null,null,null,null,null,null,null,null,null,null,44403,"ZR707",96222,null,"Zona de Recuperación"]
[null,null,null,null,null,null,null,null,null,null,null,null,null,null,null,44412,"ZR708",96222,null,"Zona de Recuperación"]
[null,null,null,null,null,null,null,null,null,null,null,null,null,null,null,44416,"ZR709",96222,null,"Zona de Recuperación"]
[null,null,null,null,null,null,null,null,null,null,null,null,null,null,null,45834,"ZR761",96222,null,"Zona de Recuperación"]
[null,null,null,null,null,null,null,null,null,null,null,null,null,null,null,45877,"ZR7610",96222,null,"Zona de Recuperación"]
[null,null,null,null,null,null,null,null,null,null,null,null,null,null,null,45878,"ZR7611",96222,null,"Zona de Recuperación"]
[null,null,null,null,null,null,null,null,null,null,null,null,null,null,null,45998,"ZR7612",96222,null,"Zona de Recuperación"]
[null,null,null,null,null,null,null,null,null,null,null,null,null,null,null,46014,"ZR7613",96222,null,"Zona de Recuperación"]
[null,null,null,null,null,null,null,null,null,null,null,null,null,null,null,47505,"ZR7614",96222,null,"Zona de Recuperación"]
[null,null,null,null,null,null,null,null,null,null,null,null,null,null,null,47507,"ZR7615",96222,null,"Zona de Recuperación"]
[null,null,null,null,null,null,null,null,null,null,null,null,null,null,null,45835,"ZR762",96222,null,"Zona de Recuperación"]
[null,null,null,null,null,null,null,null,null,null,null,null,null,null,null,45836,"ZR763",96222,null,"Zona de Recuperación"]
[null,null,null,null,null,null,null,null,null,null,null,null,null,null,null,45850,"ZR764",96222,null,"Zona de Recuperación"]
[null,null,null,null,null,null,null,null,null,null,null,null,null,null,null,45854,"ZR765",96222,null,"Zona de Recuperación"]
[null,null,null,null,null,null,null,null,null,null,null,null,null,null,null,45856,"ZR767",96222,null,"Zona de Recuperación"]
[null,null,null,null,null,null,null,null,null,null,null,null,null,null,null,45860,"ZR768",96222,null,"Zona de Recuperación"]
[null,null,null,null,null,null,null,null,null,null,null,null,null,null,null,45876,"ZR769",96222,null,"Zona de Recuperación"]
[null,null,null,null,null,null,null,null,null,null,null,null,null,null,null,48423,"ZUS051",96222,null,"Zona de Uso Sostenible"]
[null,null,null,null,null,null,null,null,null,null,null,null,null,null,null,48484,"ZUS052",96222,null,"Zona de Uso Sostenible"]
[null,null,null,null,null,null,null,null,null,null,null,null,null,null,null,44614,"ZUS131",96222,null,"Zona de Uso Sostenible"]
[null,null,null,null,null,null,null,null,null,null,null,null,null,null,null,44625,"ZUS132",96222,null,"Zona de Uso Sostenible"]
[null,null,null,null,null,null,null,null,null,null,null,null,null,null,null,44651,"ZUS133",96222,null,"Zona de Uso Sostenible"]
[null,null,null,null,null,null,null,null,null,null,null,null,null,null,null,42259,"ZUS191",96222,null,"Zona de Uso Sostenible"]
[null,null,null,null,null,null,null,null,null,null,null,null,null,null,null,45473,"ZUS192",96222,null,"Zona de Uso Sostenible"]
[null,null,null,null,null,null,null,null,null,null,null,null,null,null,null,45491,"ZUS193",96222,null,"Zona de Uso Sostenible"]
[null,null,null,null,null,null,null,null,null,null,null,null,null,null,null,45492,"ZUS194",96222,null,"Zona de Uso Sostenible"]
[null,null,null,null,null,null,null,null,null,null,null,null,null,null,null,45509,"ZUS195",96222,null,"Zona de Uso Sostenible"]
[null,null,null,null,null,null,null,null,null,null,null,null,null,null,null,42066,"ZUS231",96222,null,"Zona de Uso Sostenible"]
[null,null,null,null,null,null,null,null,null,null,null,null,null,null,null,45074,"ZUS2310",96222,null,"Zona de Uso Sostenible"]
[null,null,null,null,null,null,null,null,null,null,null,null,null,null,null,45075,"ZUS2311",96222,null,"Zona de Uso Sostenible"]
[null,null,null,null,null,null,null,null,null,null,null,null,null,null,null,45107,"ZUS2312",96222,null,"Zona de Uso Sostenible"]
[null,null,null,null,null,null,null,null,null,null,null,null,null,null,null,45111,"ZUS2313",96222,null,"Zona de Uso Sostenible"]
[null,null,null,null,null,null,null,null,null,null,null,null,null,null,null,45123,"ZUS2314",96222,null,"Zona de Uso Sostenible"]
[null,null,null,null,null,null,null,null,null,null,null,null,null,null,null,45127,"ZUS2315",96222,null,"Zona de Uso Sostenible"]
[null,null,null,null,null,null,null,null,null,null,null,null,null,null,null,45345,"ZUS2316",96222,null,"Zona de Uso Sostenible"]
[null,null,null,null,null,null,null,null,null,null,null,null,null,null,null,45353,"ZUS2317",96222,null,"Zona de Uso Sostenible"]
[null,null,null,null,null,null,null,null,null,null,null,null,null,null,null,48739,"ZUS2318",96222,null,"Zona de Uso Sostenible"]
[null,null,null,null,null,null,null,null,null,null,null,null,null,null,null,42089,"ZUS232",96222,null,"Zona de Uso Sostenible"]
[null,null,null,null,null,null,null,null,null,null,null,null,null,null,null,42097,"ZUS233",96222,null,"Zona de Uso Sostenible"]
[null,null,null,null,null,null,null,null,null,null,null,null,null,null,null,45006,"ZUS234",96222,null,"Zona de Uso Sostenible"]
[null,null,null,null,null,null,null,null,null,null,null,null,null,null,null,45016,"ZUS235",96222,null,"Zona de Uso Sostenible"]
[null,null,null,null,null,null,null,null,null,null,null,null,null,null,null,45018,"ZUS236",96222,null,"Zona de Uso Sostenible"]
[null,null,null,null,null,null,null,null,null,null,null,null,null,null,null,45038,"ZUS237",96222,null,"Zona de Uso Sostenible"]
[null,null,null,null,null,null,null,null,null,null,null,null,null,null,null,45052,"ZUS238",96222,null,"Zona de Uso Sostenible"]
[null,null,null,null,null,null,null,null,null,null,null,null,null,null,null,45070,"ZUS239",96222,null,"Zona de Uso Sostenible"]
[null,null,null,null,null,null,null,null,null,null,null,null,null,null,null,45245,"ZUS271",96222,null,"Zona de Uso Sostenible"]
[null,null,null,null,null,null,null,null,null,null,null,null,null,null,null,45416,"ZUS272",96222,null,"Zona de Uso Sostenible"]
[null,null,null,null,null,null,null,null,null,null,null,null,null,null,null,45573,"ZUS273",96222,null,"Zona de Uso Sostenible"]
[null,null,null,null,null,null,null,null,null,null,null,null,null,null,null,45000,"ZUS471",96222,null,"Zona de Uso Sostenible"]
[null,null,null,null,null,null,null,null,null,null,null,null,null,null,null,41435,"ZUS521",96222,null,"Zona de Uso Sostenible"]
[null,null,null,null,null,null,null,null,null,null,null,null,null,null,null,41444,"ZUS522",96222,null,"Zona de Uso Sostenible"]
[null,null,null,null,null,null,null,null,null,null,null,null,null,null,null,44356,"ZUS523",96222,null,"Zona de Uso Sostenible"]
[null,null,null,null,null,null,null,null,null,null,null,null,null,null,null,44513,"ZUS524",96222,null,"Zona de Uso Sostenible"]
[null,null,null,null,null,null,null,null,null,null,null,null,null,null,null,44559,"ZUS525",96222,null,"Zona de Uso Sostenible"]
[null,null,null,null,null,null,null,null,null,null,null,null,null,null,null,45385,"ZUS526",96222,null,"Zona de Uso Sostenible"]
[null,null,null,null,null,null,null,null,null,null,null,null,null,null,null,45389,"ZUS527",96222,null,"Zona de Uso Sostenible"]
[null,null,null,null,null,null,null,null,null,null,null,null,null,null,null,45393,"ZUS528",96222,null,"Zona de Uso Sostenible"]
[null,null,null,null,null,null,null,null,null,null,null,null,null,null,null,42148,"ZUS701",96222,null,"Zona de Uso Sostenible"]
[null,null,null,null,null,null,null,null,null,null,null,null,null,null,null,42188,"ZUS702",96222,null,"Zona de Uso Sostenible"]
[null,null,null,null,null,null,null,null,null,null,null,null,null,null,null,44375,"ZUS703",96222,null,"Zona de Uso Sostenible"]
[null,null,null,null,null,null,null,null,null,null,null,null,null,null,null,44385,"ZUS704",96222,null,"Zona de Uso Sostenible"]
[null,null,null,null,null,null,null,null,null,null,null,null,null,null,null,44417,"ZUS705",96222,null,"Zona de Uso Sostenible"]
[null,null,null,null,null,null,null,null,null,null,null,null,null,null,null,45817,"ZUS761",96222,null,"Zona de Uso Sostenible"]
[null,null,null,null,null,null,null,null,null,null,null,null,null,null,null,46032,"ZUS7610",96222,null,"Zona de Uso Sostenible"]
[null,null,null,null,null,null,null,null,null,null,null,null,null,null,null,45818,"ZUS762",96222,null,"Zona de Uso Sostenible"]
[null,null,null,null,null,null,null,null,null,null,null,null,null,null,null,45819,"ZUS763",96222,null,"Zona de Uso Sostenible"]
[null,null,null,null,null,null,null,null,null,null,null,null,null,null,null,45841,"ZUS764",96222,null,"Zona de Uso Sostenible"]
[null,null,null,null,null,null,null,null,null,null,null,null,null,null,null,45842,"ZUS765",96222,null,"Zona de Uso Sostenible"]
[null,null,null,null,null,null,null,null,null,null,null,null,null,null,null,45843,"ZUS766",96222,null,"Zona de Uso Sostenible"]
[null,null,null,null,null,null,null,null,null,null,null,null,null,null,null,45844,"ZUS767",96222,null,"Zona de Uso Sostenible"]
[null,null,null,null,null,null,null,null,null,null,null,null,null,null,null,45999,"ZUS768",96222,null,"Zona de Uso Sostenible"]
[null,null,null,null,null,null,null,null,null,null,null,null,null,null,null,46031,"ZUS769",96222,null,"Zona de Uso Sostenible"]
[null,null,null,null,null,null,null,null,null,null,null,null,null,null,null,47851,"ZUS881",96222,null,"Zona de Uso Sostenible"]
[null,null,null,null,null,null,null,null,null,null,null,null,null,null,null,2107,"UAC-BAU",96222,null,"UAC Baudó San Juan"]
[null,null,null,null,null,null,null,null,null,null,null,null,null,null,null,1301,"UAC-SAI",96222,null,"UAC Caribe Insular"]
[null,null,null,null,null,null,null,null,null,null,null,null,null,null,null,1104,"UAC-MOR",96222,null,"UAC Estuarina del Río Sinú y el Golfo de Morrosquillo"]
[null,null,null,null,null,null,null,null,null,null,null,null,null,null,null,2106,"UAC-CHO",96222,null,"UAC Pacífico Norte Chocoano"]
[null,null,null,null,null,null,null,null,null,null,null,null,null,null,null,1101,"UAC-GUA",96222,null,"UAC de la Alta Guajira"]
[null,null,null,null,null,null,null,null,null,null,null,null,null,null,null,2109,"UAC-LLAS",96222,null,"UAC de la Llanura Aluvial del Sur"]
[null,null,null,null,null,null,null,null,null,null,null,null,null,null,null,1102,"UAC-VNSNSM",96222,null,"UAC de la Vertiente Norte de la Sierra Nevada de Santa Marta"]
[null,null,null,null,null,null,null,null,null,null,null,null,null,null,null,2108,"UAC-MAL",96222,null,"UAC del Complejo Málaga Buenaventura"]
[null,null,null,null,null,null,null,null,null,null,null,null,null,null,null,1105,"UAC-DAR",96222,null,"UAC del Darién"]
[null,null,null,null,null,null,null,null,null,null,null,null,null,null,null,1103,"UAC-MAG",96222,null,"UAC del Río Magdalena,complejo Canal del Dique-Sistema Lagunar de la Ciénaga Grande de Santa Marta"]

{"sheet":"OTRAS REFERENTES","index":5,"n_rows":1158,"n_cols":30,"rows_kept":1158,"cut":false,"hidden":false,"merged":[[0,0,2,10],[4,0,4,1],[4,3,4,4],[4,7,4,8]]}
["Estas son listas para variables con valores que no se encuentran codificados, pero que deben manejarse de manera estandarizada. \nSi se requiere agregar un valor nuevo hagalo debajo de la lista correspondiente"]
[]
[]
[]
["PROYECTOS FINANCIAN",null,null,"ROLES",null,null,null,"METODOS ALTURA",null,null,null,null,null,null,"ORDEN","COPIAS COD","REORDENAR","LISTADO",null,"FILTRO","res",null,"ESTACIONES_RES","ID",null,"ESTACIONES","ID",null,"CORALINA","Corporación Autónoma Regional de las Islas de San Andrés, Providencia y Santa Catalina"]
["COD","PROYECTO","PROYECTO DESC","ID","CARGO",null,null,"COD","VALOR",null,null,{"$f":"IF(ISNUMBER(FIND(\"RES\",REFERENTES!$Q$2:$Q$1134)),REFERENTES!Q6,\"\")","v":""},{"$f":"REFERENTES!S6","v":0},null,1,{"$f":"IF(L6=\"\",0,L6)","v":0},{"$f":"IF(P6=0,MAX($O$6:$O$1135)+1,O6)","v":1131},{"$f":"IFERROR(VLOOKUP(SMALL($Q$6:$Q$1135,O6),$O$6:$P$1135,2,FALSE),\"X\")","v":"RES_MGACC"},null,null,{"$f":"IF(ISNUMBER(SEARCH($U$5,$R$6:$R$190))=TRUE,R6,\"ZZZ\")","v":"RES_MGACC"},null,null,null,null,"****ESTACIONES_RES******","NO VALIDO",null,"CORPOURABA","Corporación Autónoma Regional del Uraba"]
[1513,"Monitoreo_CGSM","Monitoreo CGSM",4,"Captura en campo",null,null,663,"Regla",null,null,{"$f":"IF(ISNUMBER(FIND(\"RES\",REFERENTES!$Q$2:$Q$1134)),REFERENTES!Q7,\"\")","v":""},{"$f":"REFERENTES!S7","v":0},null,2,{"$f":"IF(L7=\"\",0,L7)","v":0},1131,{"$f":"IFERROR(VLOOKUP(SMALL($Q$6:$Q$1135,O7),$O$6:$P$1135,2,FALSE),\"X\")","v":"RES_MGACTRES"},null,null,"RES_MGACTRES",null,null,null,null,"Aperturas Canal Clarin- Restauración(RES_MGACC)",55345,null,"CVS","Corporación Regional de Valle del Sinu y San Jorge"]
[2187,"INVEMAR - EPA Cartagena","INVEMAR - EPA Cartagena",6,"Revisar datos",null,null,633,"Estimación visual directa",null,null,{"$f":"IF(ISNUMBER(FIND(\"RES\",REFERENTES!$Q$2:$Q$1134)),REFERENTES!Q8,\"\")","v":""},{"$f":"REFERENTES!S8","v":0},null,3,0,1131,"RES_MGCG_CT",null,null,"RES_MGCG_CT",null,null,null,null,"Caleta del Tambor- Restauración(RES_MGACTRES)",55346,null,"CARDIQUE","Corporacion Autonoma Regional del Canal del Dique"]
[2486,"CVS_URRA_MANGLARES","CVS.URRA",3497,"Coordinador actividad de campo",null,null,null,null,null,null,{"$f":"IF(ISNUMBER(FIND(\"RES\",REFERENTES!$Q$2:$Q$1134)),REFERENTES!Q9,\"\")","v":""},{"$f":"REFERENTES!S9","v":0},null,4,0,1131,"RES_MGTBRES_SD",null,null,"RES_MGTBRES_SD",null,null,null,null,"Caño La caleta del tambor(RES_MGCG_CT)",52736,null,"CARSUCRE","Corporacion Autonoma Regional de Sucre"]
[3287,"Restauracion Petrobras","Restauración De Ecosistemas De Manglar En La Guajira. Casos De Estudio Piloto: Musichi y Santuario de Fauna y Flora Los Flamencos",null,null,null,null,null,null,null,null,{"$f":"IF(ISNUMBER(FIND(\"RES\",REFERENTES!$Q$2:$Q$1134)),REFERENTES!Q10,\"\")","v":""},{"$f":"REFERENTES!S10","v":0},null,5,0,1131,"RES_MGTBRES_MR",null,null,"RES_MGTBRES_MR",null,null,null,null,"Desembocadura rio Toribio - HMP Enriquecimiento zonas degradadas manglar,  Zonas con suelo desnudo(RES_MGTBRES_SD)",52725,null,"CODECHOCO","Corporacion para el Desarrollo Sostenible del Choco"]
[3360,"Restauracion Rio Toribio","LINEAMIENTOS PARA LA RESTAURACIÓN DEL ECOSISTEMA DE MANGLAR EN LA DESEMBOCADURA DEL RIO TORIBIO",null,null,null,null,null,null,null,null,{"$f":"IF(ISNUMBER(FIND(\"RES\",REFERENTES!$Q$2:$Q$1134)),REFERENTES!Q11,\"\")","v":""},{"$f":"REFERENTES!S11","v":0},null,6,0,1131,"RES_SPSC_JM-B",null,null,"RES_SPSC_JM-B",null,null,null,null,"Desembocadura rio Toribio - HMP Enriquecimiento zonas degradadas manglar, Zonas con mortalidad reciente(RES_MGTBRES_MR)",52726,null,"CRA","Corporacion Autonoma Regional del Atlàntico"]
[3460,"Piloto restauración CORPAMAG","Implementación de un piloto de restauración activa de manglar en el sector noroccidental de la Ciénaga Grande de Santa Marta.",null,null,null,null,null,null,null,null,{"$f":"IF(ISNUMBER(FIND(\"RES\",REFERENTES!$Q$2:$Q$1134)),REFERENTES!Q12,\"\")","v":""},{"$f":"REFERENTES!S12","v":0},null,7,0,1131,"RES_SPSC_JM-C",null,null,"RES_SPSC_JM-C",null,null,null,null,"Jhon Mangrove borde(RES_SPSC_JM-B)",55337,null,"CRC","Corporacion Autonoma Regional del Cauca"]
[3498,"VIVO_TORIBIO_2019","VIVO_TORIBIO_2019",null,null,null,null,null,null,null,null,{"$f":"IF(ISNUMBER(FIND(\"RES\",REFERENTES!$Q$2:$Q$1134)),REFERENTES!Q13,\"\")","v":""},{"$f":"REFERENTES!S13","v":0},null,8,0,1131,"RES_SPSC_JP",null,null,"RES_SPSC_JP",null,null,null,null,"Jhon Mangrove cuenca(RES_SPSC_JM-C)",55338,null,"CVC","Corporacion  Autonoma Regional del Valle del Cauca"]
[3499,"RESTAURACION_CORPAMAG_2020","RESTAURACION_CORPAMAG_2020",null,null,null,null,null,null,null,null,{"$f":"IF(ISNUMBER(FIND(\"RES\",REFERENTES!$Q$2:$Q$1134)),REFERENTES!Q14,\"\")","v":""},{"$f":"REFERENTES!S14","v":0},null,9,0,1131,"RES_SPSC_MZ-P",null,null,"RES_SPSC_MZ-P",null,null,null,null,"Jones Point(RES_SPSC_JP)",55339,null,"CORPONARIÑO","Corporacion Autonoma Regional de Nariño"]
[3528,"FORTALECIMIENTO_MANGLARES","BPIN 2017011000113 - RES 0176 del 26 de febrero 2021",null,null,null,null,null,null,null,null,{"$f":"IF(ISNUMBER(FIND(\"RES\",REFERENTES!$Q$2:$Q$1134)),REFERENTES!Q15,\"\")","v":""},{"$f":"REFERENTES!S15","v":0},null,10,0,1131,"RES_SPSC_OT-B",null,null,"RES_SPSC_OT-B",null,null,null,null,"Manzanillo(RES_SPSC_MZ-P)",55340,null,"CORPAMAG","Corporación Autónoma Regional del Magdalena"]
[3620,"RestauracionManglares","Restauracion Manglares",null,null,null,null,null,null,null,null,{"$f":"IF(ISNUMBER(FIND(\"RES\",REFERENTES!$Q$2:$Q$1134)),REFERENTES!Q16,\"\")","v":""},{"$f":"REFERENTES!S16","v":0},null,11,0,1131,"RES_SPSC_OT-C",null,null,"RES_SPSC_OT-C",null,null,null,null,"Old Town Borde(RES_SPSC_OT-B)",55341,null,"AQUABIOSFERA","Aquabiosfera SAS"]
[3637,"PILOTOS-RES_CORPAMAG_2019","Piloto restauración CGSM CORPAMAG",null,null,null,null,null,null,null,null,{"$f":"IF(ISNUMBER(FIND(\"RES\",REFERENTES!$Q$2:$Q$1134)),REFERENTES!Q17,\"\")","v":""},{"$f":"REFERENTES!S17","v":0},null,12,0,1131,"RES_SPSC_SC-B",null,null,"RES_SPSC_SC-B",null,null,null,null,"Old Town Cuenca(RES_SPSC_OT-C)",55342]
[2239,"SIGMA","Sistema de Información para la Gestión de los Manglares",null,null,null,null,null,null,null,null,{"$f":"IF(ISNUMBER(FIND(\"RES\",REFERENTES!$Q$2:$Q$1134)),REFERENTES!Q18,\"\")","v":""},{"$f":"REFERENTES!S18","v":0},null,13,0,1131,"RES_SPSC_SC-C",null,null,"RES_SPSC_SC-C",null,null,null,null,"Santa Catalina Borde(RES_SPSC_SC-B)",55344,null,"AD Pto. Moin C.R.","Administración Desarrollo Complejo Portuario  Limón Moin Costa Rica"]
[null,null,null,null,null,null,null,null,null,null,null,{"$f":"IF(ISNUMBER(FIND(\"RES\",REFERENTES!$Q$2:$Q$1134)),REFERENTES!Q19,\"\")","v":""},{"$f":"REFERENTES!S19","v":0},null,14,0,1131,"X",null,null,"ZZZ",null,null,null,null,"Santa Catalina Cuenca(RES_SPSC_SC-C)",55343,null,"ANADARKO","Anadarko Colombia Company"]
[null,null,null,null,null,null,null,null,null,null,null,{"$f":"IF(ISNUMBER(FIND(\"RES\",REFERENTES!$Q$2:$Q$1134)),REFERENTES!Q20,\"\")","v":""},{"$f":"REFERENTES!S20","v":0},null,15,0,1131,"X",null,null,"ZZZ",null,null,null,null,null,"NO VALIDO",null,"AQUABIOSFERA","Aquabiosfera SAS"]
[null,null,null,null,null,null,null,null,null,null,null,{"$f":"IF(ISNUMBER(FIND(\"RES\",REFERENTES!$Q$2:$Q$1134)),REFERENTES!Q21,\"\")","v":""},{"$f":"REFERENTES!S21","v":0},null,16,0,1131,"X",null,null,"ZZZ",null,null,null,null,null,"NO VALIDO",null,"CALIDRIS","Asociación Calidris"]
[null,null,null,null,null,null,null,null,null,null,null,{"$f":"IF(ISNUMBER(FIND(\"RES\",REFERENTES!$Q$2:$Q$1134)),REFERENTES!Q22,\"\")","v":""},{"$f":"REFERENTES!S22","v":0},null,17,0,1131,"X",null,null,"ZZZ",null,null,null,null,"****PARCELAS******","NO VALIDO",null,"ASOCARS","Asociación de Corporaciones Autónomas Regionales"]
[null,null,null,null,null,null,null,null,null,null,null,{"$f":"IF(ISNUMBER(FIND(\"RES\",REFERENTES!$Q$2:$Q$1134)),REFERENTES!Q23,\"\")","v":""},{"$f":"REFERENTES!S23","v":0},null,18,0,1131,"X",null,null,"ZZZ",null,null,null,null,{"$f":"CONCATENATE(REFERENTES!T275,\"(\",REFERENTES!Q275,\")\")","v":"(MAN)"},{"$f":"REFERENTES!P275","v":42307},null,"ANLA","Autoridad Nacional de Licencias Ambientales"]
[null,null,null,null,null,null,null,null,null,null,null,{"$f":"IF(ISNUMBER(FIND(\"RES\",REFERENTES!$Q$2:$Q$1134)),REFERENTES!Q24,\"\")","v":""},{"$f":"REFERENTES!S24","v":0},null,19,0,1131,"X",null,null,"ZZZ",null,null,null,null,{"$f":"CONCATENATE(REFERENTES!T276,\"(\",REFERENTES!Q276,\")\")","v":"Agrosoledad(CSI,SPIE-ZR1-Agrosole-1)"},{"$f":"REFERENTES!P276","v":48733},null,"ARAP","Autoridad de Recursos Acuáticos de Panamá"]
[null,null,null,null,null,null,null,null,null,null,null,{"$f":"IF(ISNUMBER(FIND(\"RES\",REFERENTES!$Q$2:$Q$1134)),REFERENTES!Q25,\"\")","v":""},{"$f":"REFERENTES!S25","v":0},null,20,0,1131,"X",null,null,"ZZZ",null,null,null,null,{"$f":"CONCATENATE(REFERENTES!T277,\"(\",REFERENTES!Q277,\")\")","v":"Agrosoledad -2(CSI,SPIE-ZR1-Agrosole-2)"},{"$f":"REFERENTES!P277","v":48735},null,"CWOP","Caribbean-Wide Orca Project"]
[null,null,null,null,null,null,null,null,null,null,null,{"$f":"IF(ISNUMBER(FIND(\"RES\",REFERENTES!$Q$2:$Q$1134)),REFERENTES!Q26,\"\")","v":""},{"$f":"REFERENTES!S26","v":0},null,21,0,1131,"X",null,null,"ZZZ",null,null,null,null,{"$f":"CONCATENATE(REFERENTES!T278,\"(\",REFERENTES!Q278,\")\")","v":"Agrosoledad 3(CSI,SPIE-ZR1-Agrosole-3)"},{"$f":"REFERENTES!P278","v":48737},null,"CEAC","Centro de Estudios Ambientales de Cienfuegos"]
[null,null,null,null,null,null,null,null,null,null,null,{"$f":"IF(ISNUMBER(FIND(\"RES\",REFERENTES!$Q$2:$Q$1134)),REFERENTES!Q27,\"\")","v":""},{"$f":"REFERENTES!S27","v":0},null,22,0,1131,"X",null,null,"ZZZ",null,null,null,null,{"$f":"CONCATENATE(REFERENTES!T279,\"(\",REFERENTES!Q279,\")\")","v":"Aguas Negras -1(SFFOCC-SZ1-ANE-1)"},{"$f":"REFERENTES!P279","v":45924},null,"CECIMAR","Centro de Estudios en Ciencias del Mar - Universidad Nacional"]
[null,null,null,null,null,null,null,null,null,null,null,{"$f":"IF(ISNUMBER(FIND(\"RES\",REFERENTES!$Q$2:$Q$1134)),REFERENTES!Q28,\"\")","v":""},{"$f":"REFERENTES!S28","v":0},null,23,0,1131,"X",null,null,"ZZZ",null,null,null,null,{"$f":"CONCATENATE(REFERENTES!T280,\"(\",REFERENTES!Q280,\")\")","v":"Aguas Negras -2(SFFOCC-SZ1-ANE-2)"},{"$f":"REFERENTES!P280","v":45926},null,"CIEMAT","Centro de Investigaciones Energéticas, Medioambientales y Tecnológicas"]
[null,null,null,null,null,null,null,null,null,null,null,{"$f":"IF(ISNUMBER(FIND(\"RES\",REFERENTES!$Q$2:$Q$1134)),REFERENTES!Q29,\"\")","v":""},{"$f":"REFERENTES!S29","v":0},null,24,0,1131,"X",null,null,"ZZZ",null,null,null,null,{"$f":"CONCATENATE(REFERENTES!T281,\"(\",REFERENTES!Q281,\")\")","v":"Aguas Negras -3(SFFOCC-SZ1-ANE-3)"},{"$f":"REFERENTES!P281","v":45928},null,"CIOH","Centro de Investigaciones Oceanográficas e Hidrográficas"]
[null,null,null,null,null,null,null,null,null,null,null,{"$f":"IF(ISNUMBER(FIND(\"RES\",REFERENTES!$Q$2:$Q$1134)),REFERENTES!Q30,\"\")","v":""},{"$f":"REFERENTES!S30","v":0},null,25,0,1131,"X",null,null,"ZZZ",null,null,null,null,{"$f":"CONCATENATE(REFERENTES!T282,\"(\",REFERENTES!Q282,\")\")","v":"Angostura(BCIS,EST-ZUS1-angostura-1)"},{"$f":"REFERENTES!P282","v":45589},null,"C.C.C.P.","Centro de Investigaciones Oceanográficas e Hidrográficas del Pacífico"]
[null,null,null,null,null,null,null,null,null,null,null,{"$f":"IF(ISNUMBER(FIND(\"RES\",REFERENTES!$Q$2:$Q$1134)),REFERENTES!Q31,\"\")","v":""},{"$f":"REFERENTES!S31","v":0},null,26,0,1131,"X",null,null,"ZZZ",null,null,null,null,{"$f":"CONCATENATE(REFERENTES!T283,\"(\",REFERENTES!Q283,\")\")","v":"Ararca-1(BARU-ZR1-Ararca-1)"},{"$f":"REFERENTES!P283","v":44509},null,"CEINER","Centro de Investigación Educación y Recreación Islas del Rosario"]
[null,null,null,null,null,null,null,null,null,null,null,{"$f":"IF(ISNUMBER(FIND(\"RES\",REFERENTES!$Q$2:$Q$1134)),REFERENTES!Q32,\"\")","v":""},{"$f":"REFERENTES!S32","v":0},null,27,0,1131,"X",null,null,"ZZZ",null,null,null,null,{"$f":"CONCATENATE(REFERENTES!T284,\"(\",REFERENTES!Q284,\")\")","v":"Arroyo Limon -4(MUSI-ZP1-DAL-2)"},{"$f":"REFERENTES!P284","v":43803},null,"CIRA","Centro de Investigación de los Recursos Acuáticos de Nicaragua (CIRA)"]
[null,null,null,null,null,null,null,null,null,null,null,{"$f":"IF(ISNUMBER(FIND(\"RES\",REFERENTES!$Q$2:$Q$1134)),REFERENTES!Q33,\"\")","v":""},{"$f":"REFERENTES!S33","v":0},null,28,0,1131,"X",null,null,"ZZZ",null,null,null,null,{"$f":"CONCATENATE(REFERENTES!T285,\"(\",REFERENTES!Q285,\")\")","v":"Arroyo Límon -1(MUSI-ZP1-DUAL-1)"},{"$f":"REFERENTES!P285","v":43622},null,"CICA","Centro de Investigación en Contaminación Ambiental"]
[null,null,null,null,null,null,null,null,null,null,null,{"$f":"IF(ISNUMBER(FIND(\"RES\",REFERENTES!$Q$2:$Q$1134)),REFERENTES!Q34,\"\")","v":""},{"$f":"REFERENTES!S34","v":0},null,29,0,1131,"X",null,null,"ZZZ",null,null,null,null,{"$f":"CONCATENATE(REFERENTES!T286,\"(\",REFERENTES!Q286,\")\")","v":"Arroyo Pacho(CARI-ZP1-AP-1)"},{"$f":"REFERENTES!P286","v":43644},null,"CRBMUV","Colección de Referencia Biología Marina Universidad del Valle"]
[null,null,null,null,null,null,null,null,null,null,null,{"$f":"IF(ISNUMBER(FIND(\"RES\",REFERENTES!$Q$2:$Q$1134)),REFERENTES!Q35,\"\")","v":""},{"$f":"REFERENTES!S35","v":0},null,30,0,1131,"X",null,null,"ZZZ",null,null,null,null,{"$f":"CONCATENATE(REFERENTES!T287,\"(\",REFERENTES!Q287,\")\")","v":"Arroyo Pacho(CARI-ZP1-AP-2)"},{"$f":"REFERENTES!P287","v":43779},null,"Coleccion_Personal","Colección personal"]
[null,null,null,null,null,null,null,null,null,null,null,{"$f":"IF(ISNUMBER(FIND(\"RES\",REFERENTES!$Q$2:$Q$1134)),REFERENTES!Q36,\"\")","v":""},{"$f":"REFERENTES!S36","v":0},null,31,0,1131,"X",null,null,"ZZZ",null,null,null,null,{"$f":"CONCATENATE(REFERENTES!T288,\"(\",REFERENTES!Q288,\")\")","v":"Arroyo Pacho(CARI-ZP1-APD-1)"},{"$f":"REFERENTES!P288","v":43647},null,"CPPS","Comisión Permanente del Pacífico Sur"]
[null,null,null,null,null,null,null,null,null,null,null,{"$f":"IF(ISNUMBER(FIND(\"RES\",REFERENTES!$Q$2:$Q$1134)),REFERENTES!Q37,\"\")","v":""},{"$f":"REFERENTES!S37","v":0},null,32,0,1131,"X",null,null,"ZZZ",null,null,null,null,{"$f":"CONCATENATE(REFERENTES!T289,\"(\",REFERENTES!Q289,\")\")","v":"Arroyo Pacho(CARI-ZP1-APD-2)"},{"$f":"REFERENTES!P289","v":43649},null,"CI","Conservación Internacional Colombia "]
[null,null,null,null,null,null,null,null,null,null,null,{"$f":"IF(ISNUMBER(FIND(\"RES\",REFERENTES!$Q$2:$Q$1134)),REFERENTES!Q38,\"\")","v":""},{"$f":"REFERENTES!S38","v":0},null,33,0,1131,"X",null,null,"ZZZ",null,null,null,null,{"$f":"CONCATENATE(REFERENTES!T290,\"(\",REFERENTES!Q290,\")\")","v":"Arroyo Plata-1(BARB-ZR1-Ay-Plata-1)"},{"$f":"REFERENTES!P290","v":44493},null,"CONSULTOR","Consultor independiente "]
[null,null,null,null,null,null,null,null,null,null,null,{"$f":"IF(ISNUMBER(FIND(\"RES\",REFERENTES!$Q$2:$Q$1134)),REFERENTES!Q39,\"\")","v":""},{"$f":"REFERENTES!S39","v":0},null,34,0,1131,"X",null,null,"ZZZ",null,null,null,null,{"$f":"CONCATENATE(REFERENTES!T291,\"(\",REFERENTES!Q291,\")\")","v":"Arroyo la Piedrecita(NAVI-ZP1-ALP-1)"},{"$f":"REFERENTES!P291","v":43662},null,"CMS","Consultoria y Monitoreo Ambiental"]
[null,null,null,null,null,null,null,null,null,null,null,{"$f":"IF(ISNUMBER(FIND(\"RES\",REFERENTES!$Q$2:$Q$1134)),REFERENTES!Q40,\"\")","v":""},{"$f":"REFERENTES!S40","v":0},null,35,0,1131,"X",null,null,"ZZZ",null,null,null,null,{"$f":"CONCATENATE(REFERENTES!T292,\"(\",REFERENTES!Q292,\")\")","v":"Arroyo limon -5(MUSI-ZP1-CAL-1)"},{"$f":"REFERENTES!P292","v":43560},null,"CVC","Corporacion  Autonoma Regional del Valle del Cauca"]
[null,null,null,null,null,null,null,null,null,null,null,{"$f":"IF(ISNUMBER(FIND(\"RES\",REFERENTES!$Q$2:$Q$1134)),REFERENTES!Q41,\"\")","v":""},{"$f":"REFERENTES!S41","v":0},null,36,0,1131,"X",null,null,"ZZZ",null,null,null,null,{"$f":"CONCATENATE(REFERENTES!T293,\"(\",REFERENTES!Q293,\")\")","v":"Arroyo_Limon -3(MUSI-ZP1-DAL-1)"},{"$f":"REFERENTES!P293","v":43801},null,"CORPONARIÑO","Corporacion Autonoma Regional de Nariño"]
[null,null,null,null,null,null,null,null,null,null,null,{"$f":"IF(ISNUMBER(FIND(\"RES\",REFERENTES!$Q$2:$Q$1134)),REFERENTES!Q42,\"\")","v":""},{"$f":"REFERENTES!S42","v":0},null,37,0,1131,"X",null,null,"ZZZ",null,null,null,null,{"$f":"CONCATENATE(REFERENTES!T294,\"(\",REFERENTES!Q294,\")\")","v":"Arroyo_limon -2(MUSI-ZP1-CAL-2)"},{"$f":"REFERENTES!P294","v":43562},null,"CARSUCRE","Corporacion Autonoma Regional de Sucre"]
[null,null,null,null,null,null,null,null,null,null,null,{"$f":"IF(ISNUMBER(FIND(\"RES\",REFERENTES!$Q$2:$Q$1134)),REFERENTES!Q43,\"\")","v":""},{"$f":"REFERENTES!S43","v":0},null,38,0,1131,"X",null,null,"ZZZ",null,null,null,null,{"$f":"CONCATENATE(REFERENTES!T295,\"(\",REFERENTES!Q295,\")\")","v":"BOQUILLA-1(JPVI-ZR1-BOQ-1)"},{"$f":"REFERENTES!P295","v":42007},null,"CRA","Corporacion Autonoma Regional del Atlàntico"]
[null,null,null,null,null,null,null,null,null,null,null,{"$f":"IF(ISNUMBER(FIND(\"RES\",REFERENTES!$Q$2:$Q$1134)),REFERENTES!Q44,\"\")","v":""},{"$f":"REFERENTES!S44","v":0},null,39,0,1131,"X",null,null,"ZZZ",null,null,null,null,{"$f":"CONCATENATE(REFERENTES!T296,\"(\",REFERENTES!Q296,\")\")","v":"Bahia Barbacoas-1(BARB-ZR1-Barba-1)"},{"$f":"REFERENTES!P296","v":42000},null,"CARDIQUE","Corporacion Autonoma Regional del Canal del Dique"]
[null,null,null,null,null,null,null,null,null,null,null,{"$f":"IF(ISNUMBER(FIND(\"RES\",REFERENTES!$Q$2:$Q$1134)),REFERENTES!Q45,\"\")","v":""},{"$f":"REFERENTES!S45","v":0},null,40,0,1131,"X",null,null,"ZZZ",null,null,null,null,{"$f":"CONCATENATE(REFERENTES!T297,\"(\",REFERENTES!Q297,\")\")","v":"Bahia Barbacoas-1-1(BARB-ZR1-BARB01-1)"},{"$f":"REFERENTES!P297","v":44490},null,"CRC","Corporacion Autonoma Regional del Cauca"]
[null,null,null,null,null,null,null,null,null,null,null,{"$f":"IF(ISNUMBER(FIND(\"RES\",REFERENTES!$Q$2:$Q$1134)),REFERENTES!Q46,\"\")","v":""},{"$f":"REFERENTES!S46","v":0},null,41,0,1131,"X",null,null,"ZZZ",null,null,null,null,{"$f":"CONCATENATE(REFERENTES!T298,\"(\",REFERENTES!Q298,\")\")","v":"Bahia Honda -1(OPOI-ZP1-Bahía Honda-1)"},{"$f":"REFERENTES!P298","v":49005},null,"CODECHOCO","Corporacion para el Desarrollo Sostenible del Choco"]
[null,null,null,null,null,null,null,null,null,null,null,{"$f":"IF(ISNUMBER(FIND(\"RES\",REFERENTES!$Q$2:$Q$1134)),REFERENTES!Q47,\"\")","v":""},{"$f":"REFERENTES!S47","v":0},null,42,0,1131,"X",null,null,"ZZZ",null,null,null,null,{"$f":"CONCATENATE(REFERENTES!T299,\"(\",REFERENTES!Q299,\")\")","v":"Bahía Burrera-1(DRATR-ZUS1-Bburr-1)"},{"$f":"REFERENTES!P299","v":48492},null,"CORPOGUAJIRA","Corporación Autónoma Regional de la Guajira"]
[null,null,null,null,null,null,null,null,null,null,null,{"$f":"IF(ISNUMBER(FIND(\"RES\",REFERENTES!$Q$2:$Q$1134)),REFERENTES!Q48,\"\")","v":""},{"$f":"REFERENTES!S48","v":0},null,43,0,1131,"X",null,null,"ZZZ",null,null,null,null,{"$f":"CONCATENATE(REFERENTES!T300,\"(\",REFERENTES!Q300,\")\")","v":"Bahía Coco Grande-1(DRATR-ZR1-Bcog -1)"},{"$f":"REFERENTES!P300","v":48520},null,"CORALINA","Corporación Autónoma Regional de las Islas de San Andrés, Providencia y Santa Catalina"]
[null,null,null,null,null,null,null,null,null,null,null,{"$f":"IF(ISNUMBER(FIND(\"RES\",REFERENTES!$Q$2:$Q$1134)),REFERENTES!Q49,\"\")","v":""},{"$f":"REFERENTES!S49","v":0},null,44,0,1131,"X",null,null,"ZZZ",null,null,null,null,{"$f":"CONCATENATE(REFERENTES!T301,\"(\",REFERENTES!Q301,\")\")","v":"Bahía El Roto(DRATR-ZR1-Brot-1)"},{"$f":"REFERENTES!P301","v":48526},null,"CORPAMAG","Corporación Autónoma Regional del Magdalena"]
[null,null,null,null,null,null,null,null,null,null,null,{"$f":"IF(ISNUMBER(FIND(\"RES\",REFERENTES!$Q$2:$Q$1134)),REFERENTES!Q50,\"\")","v":""},{"$f":"REFERENTES!S50","v":0},null,45,0,1131,"X",null,null,"ZZZ",null,null,null,null,{"$f":"CONCATENATE(REFERENTES!T302,\"(\",REFERENTES!Q302,\")\")","v":"Bahía Honda parcela circular-2(Bahía Honda PPC-2)"},{"$f":"REFERENTES!P302","v":55547},null,"CORPOURABA","Corporación Autónoma Regional del Uraba"]
[null,null,null,null,null,null,null,null,null,null,null,{"$f":"IF(ISNUMBER(FIND(\"RES\",REFERENTES!$Q$2:$Q$1134)),REFERENTES!Q51,\"\")","v":""},{"$f":"REFERENTES!S51","v":0},null,46,0,1131,"X",null,null,"ZZZ",null,null,null,null,{"$f":"CONCATENATE(REFERENTES!T303,\"(\",REFERENTES!Q303,\")\")","v":"Bahía Honda parcela circular-3(Bahía Honda PPC-3)"},{"$f":"REFERENTES!P303","v":55548},null,"CVC-UNPA","Corporación Autónoma Regional del Valle del Cauca-Universidad del Pacifico"]
[null,null,null,null,null,null,null,null,null,null,null,{"$f":"IF(ISNUMBER(FIND(\"RES\",REFERENTES!$Q$2:$Q$1134)),REFERENTES!Q52,\"\")","v":""},{"$f":"REFERENTES!S52","v":0},null,47,0,1131,"X",null,null,"ZZZ",null,null,null,null,{"$f":"CONCATENATE(REFERENTES!T304,\"(\",REFERENTES!Q304,\")\")","v":"Bahía Hooker parcela circular-2(Bahía Hooker PPC-2)"},{"$f":"REFERENTES!P304","v":55549},null,"CORALINA OMACHA","Corporación Coralina - Fundación Omacha"]
[null,null,null,null,null,null,null,null,null,null,null,{"$f":"IF(ISNUMBER(FIND(\"RES\",REFERENTES!$Q$2:$Q$1134)),REFERENTES!Q53,\"\")","v":""},{"$f":"REFERENTES!S53","v":0},null,48,0,1131,"X",null,null,"ZZZ",null,null,null,null,{"$f":"CONCATENATE(REFERENTES!T305,\"(\",REFERENTES!Q305,\")\")","v":"Bahía Hooker parcela circular-3(Bahía Hooker PPC-3)"},{"$f":"REFERENTES!P305","v":55550},null,"CORPOURABA - OMACHA","Corporación Corpouraba - Fundación Omacha"]
[null,null,null,null,null,null,null,null,null,null,null,{"$f":"IF(ISNUMBER(FIND(\"RES\",REFERENTES!$Q$2:$Q$1134)),REFERENTES!Q54,\"\")","v":""},{"$f":"REFERENTES!S54","v":0},null,49,0,1131,"X",null,null,"ZZZ",null,null,null,null,{"$f":"CONCATENATE(REFERENTES!T306,\"(\",REFERENTES!Q306,\")\")","v":"Bahía Hooker parcela circular-4(Bahía Hooker PPC-4)"},{"$f":"REFERENTES!P306","v":55551},null,"CVS","Corporación Regional de Valle del Sinu y San Jorge"]
[null,null,null,null,null,null,null,null,null,null,null,{"$f":"IF(ISNUMBER(FIND(\"RES\",REFERENTES!$Q$2:$Q$1134)),REFERENTES!Q55,\"\")","v":""},{"$f":"REFERENTES!S55","v":0},null,50,0,1131,"X",null,null,"ZZZ",null,null,null,null,{"$f":"CONCATENATE(REFERENTES!T307,\"(\",REFERENTES!Q307,\")\")","v":"Bahía Hooker-1(OPOI-ZP1-Bahía Hooker-1)"},{"$f":"REFERENTES!P307","v":49002},null,"DADSA","DEPARTAMENT0 ADMiNISTRATIVO DISTRITAL DE SOSTENIBILIDAD AMBIENTAL"]
[null,null,null,null,null,null,null,null,null,null,null,{"$f":"IF(ISNUMBER(FIND(\"RES\",REFERENTES!$Q$2:$Q$1134)),REFERENTES!Q56,\"\")","v":""},{"$f":"REFERENTES!S56","v":0},null,51,0,1131,"X",null,null,"ZZZ",null,null,null,null,{"$f":"CONCATENATE(REFERENTES!T308,\"(\",REFERENTES!Q308,\")\")","v":"Bahía La Paila-1(DRATR-ZUS1-Bpai-1)"},{"$f":"REFERENTES!P308","v":48497},null,"DAMARENA","Departamento Administrativo del Medio Ambiente de Cartagena -  EPA Cartagena"]
[null,null,null,null,null,null,null,null,null,null,null,{"$f":"IF(ISNUMBER(FIND(\"RES\",REFERENTES!$Q$2:$Q$1134)),REFERENTES!Q57,\"\")","v":""},{"$f":"REFERENTES!S57","v":0},null,52,0,1131,"X",null,null,"ZZZ",null,null,null,null,{"$f":"CONCATENATE(REFERENTES!T309,\"(\",REFERENTES!Q309,\")\")","v":"Bahía Marirrio(DRATR-ZP1-Bmari-1)"},{"$f":"REFERENTES!P309","v":48487},null,"DAMAB","Departamento Técnico Administrativo del Medio Ambiente Barranquilla"]
[null,null,null,null,null,null,null,null,null,null,null,{"$f":"IF(ISNUMBER(FIND(\"RES\",REFERENTES!$Q$2:$Q$1134)),REFERENTES!Q58,\"\")","v":""},{"$f":"REFERENTES!S58","v":0},null,53,0,1131,"X",null,null,"ZZZ",null,null,null,null,{"$f":"CONCATENATE(REFERENTES!T310,\"(\",REFERENTES!Q310,\")\")","v":"Bahía Marirrio(DRATR-ZP1-Bmari-2)"},{"$f":"REFERENTES!P310","v":48489},null,"DIMAR","Dirección General Maritima"]
[null,null,null,null,null,null,null,null,null,null,null,{"$f":"IF(ISNUMBER(FIND(\"RES\",REFERENTES!$Q$2:$Q$1134)),REFERENTES!Q59,\"\")","v":""},{"$f":"REFERENTES!S59","v":0},null,54,0,1131,"X",null,null,"ZZZ",null,null,null,null,{"$f":"CONCATENATE(REFERENTES!T311,\"(\",REFERENTES!Q311,\")\")","v":"Balboa(CNGBAL-ZP3-Balboa-2)"},{"$f":"REFERENTES!P311","v":45517},null,"ECOREEF","ECOREEF Colombia LTDA"]
[null,null,null,null,null,null,null,null,null,null,null,{"$f":"IF(ISNUMBER(FIND(\"RES\",REFERENTES!$Q$2:$Q$1134)),REFERENTES!Q60,\"\")","v":""},{"$f":"REFERENTES!S60","v":0},null,55,0,1131,"X",null,null,"ZZZ",null,null,null,null,{"$f":"CONCATENATE(REFERENTES!T312,\"(\",REFERENTES!Q312,\")\")","v":"Balboa-1(CNGBAL-ZP3-Balboa-1)"},{"$f":"REFERENTES!P312","v":45097},null,"ETH Zurich","EIDGENÖSSISCHE TECHNISCHE HOCHSCHULE ZÜRICH (Politécnico)\r\r\nEIDGENÖSSISCHE TECHNISCHE HOCHSCHULE ZÜRICH"]
[null,null,null,null,null,null,null,null,null,null,null,{"$f":"IF(ISNUMBER(FIND(\"RES\",REFERENTES!$Q$2:$Q$1134)),REFERENTES!Q61,\"\")","v":""},{"$f":"REFERENTES!S61","v":0},null,56,0,1131,"X",null,null,"ZZZ",null,null,null,null,{"$f":"CONCATENATE(REFERENTES!T313,\"(\",REFERENTES!Q313,\")\")","v":"Barranco Colorao(CARI-ZP1-BC-1)"},{"$f":"REFERENTES!P313","v":43638},null,"ECOMAR","Ecomar Consultoría  Ambiental S.A.S."]
[null,null,null,null,null,null,null,null,null,null,null,{"$f":"IF(ISNUMBER(FIND(\"RES\",REFERENTES!$Q$2:$Q$1134)),REFERENTES!Q62,\"\")","v":""},{"$f":"REFERENTES!S62","v":0},null,57,0,1131,"X",null,null,"ZZZ",null,null,null,null,{"$f":"CONCATENATE(REFERENTES!T314,\"(\",REFERENTES!Q314,\")\")","v":"Barranco Colorao(CARI-ZP1-BC-2)"},{"$f":"REFERENTES!P314","v":43775},null,"EPA BUENAVENTURA","Entidad Publica Ambiental Buenaventura"]
[null,null,null,null,null,null,null,null,null,null,null,{"$f":"IF(ISNUMBER(FIND(\"RES\",REFERENTES!$Q$2:$Q$1134)),REFERENTES!Q63,\"\")","v":""},{"$f":"REFERENTES!S63","v":0},null,58,0,1131,"X",null,null,"ZZZ",null,null,null,null,{"$f":"CONCATENATE(REFERENTES!T315,\"(\",REFERENTES!Q315,\")\")","v":"Barrial(VIRU-SZ1-BARR-1)"},{"$f":"REFERENTES!P315","v":42119},null,"EPA","Entidad Publica Ambiental Cartagena"]
[null,null,null,null,null,null,null,null,null,null,null,{"$f":"IF(ISNUMBER(FIND(\"RES\",REFERENTES!$Q$2:$Q$1134)),REFERENTES!Q64,\"\")","v":""},{"$f":"REFERENTES!S64","v":0},null,59,0,1131,"X",null,null,"ZZZ",null,null,null,null,{"$f":"CONCATENATE(REFERENTES!T316,\"(\",REFERENTES!Q316,\")\")","v":"Baru1(BARU-ZR1-Barú-1)"},{"$f":"REFERENTES!P316","v":44580},null,"ZOOCALI","FUNDACIÓN ZOOLÓGICA DE CALI"]
[null,null,null,null,null,null,null,null,null,null,null,{"$f":"IF(ISNUMBER(FIND(\"RES\",REFERENTES!$Q$2:$Q$1134)),REFERENTES!Q65,\"\")","v":""},{"$f":"REFERENTES!S65","v":0},null,60,0,1131,"X",null,null,"ZZZ",null,null,null,null,{"$f":"CONCATENATE(REFERENTES!T317,\"(\",REFERENTES!Q317,\")\")","v":"Bazo Matuntugo -1(DRATR-ZR1-Bmat-1)"},{"$f":"REFERENTES!P317","v":48517},null,"Fundabas","Fundacion Para El Desarrollo De La Biologia Aplicada"]
[null,null,null,null,null,null,null,null,null,null,null,{"$f":"IF(ISNUMBER(FIND(\"RES\",REFERENTES!$Q$2:$Q$1134)),REFERENTES!Q66,\"\")","v":""},{"$f":"REFERENTES!S66","v":0},null,61,0,1131,"X",null,null,"ZZZ",null,null,null,null,{"$f":"CONCATENATE(REFERENTES!T318,\"(\",REFERENTES!Q318,\")\")","v":"Bc Pulumana-2(MUSI-ZP1-BPULU-2)"},{"$f":"REFERENTES!P318","v":43835},null,"F. Bucea Colombia","Fundación Bucea Colombia"]
[null,null,null,null,null,null,null,null,null,null,null,{"$f":"IF(ISNUMBER(FIND(\"RES\",REFERENTES!$Q$2:$Q$1134)),REFERENTES!Q67,\"\")","v":""},{"$f":"REFERENTES!S67","v":0},null,62,0,1131,"X",null,null,"ZZZ",null,null,null,null,{"$f":"CONCATENATE(REFERENTES!T319,\"(\",REFERENTES!Q319,\")\")","v":"Berrugas(BERR-ZR1-BERR-1)"},{"$f":"REFERENTES!P319","v":42202},null,"F.CORALES","Fundación Corales de Paz"]
[null,null,null,null,null,null,null,null,null,null,null,{"$f":"IF(ISNUMBER(FIND(\"RES\",REFERENTES!$Q$2:$Q$1134)),REFERENTES!Q68,\"\")","v":""},{"$f":"REFERENTES!S68","v":0},null,63,0,1131,"X",null,null,"ZZZ",null,null,null,null,{"$f":"CONCATENATE(REFERENTES!T320,\"(\",REFERENTES!Q320,\")\")","v":"Boca Cerrada(BCER-ZUS1-BCER-1)"},{"$f":"REFERENTES!P320","v":44387},null,"F. Malpelo","Fundación Malpelo / Marviva"]
[null,null,null,null,null,null,null,null,null,null,null,{"$f":"IF(ISNUMBER(FIND(\"RES\",REFERENTES!$Q$2:$Q$1134)),REFERENTES!Q69,\"\")","v":""},{"$f":"REFERENTES!S69","v":0},null,64,0,1131,"X",null,null,"ZZZ",null,null,null,null,{"$f":"CONCATENATE(REFERENTES!T321,\"(\",REFERENTES!Q321,\")\")","v":"Boca Curay-1(TCO-ZR1-BCU-1)"},{"$f":"REFERENTES!P321","v":42833},null,"OMACHA","Fundación Omacha"]
[null,null,null,null,null,null,null,null,null,null,null,{"$f":"IF(ISNUMBER(FIND(\"RES\",REFERENTES!$Q$2:$Q$1134)),REFERENTES!Q70,\"\")","v":""},{"$f":"REFERENTES!S70","v":0},null,65,0,{"$f":"IF(P70=0,MAX($O$6:$O$1135)+1,O70)","v":1131},{"$f":"IFERROR(VLOOKUP(SMALL($Q$6:$Q$1135,O70),$O$6:$P$1135,2,FALSE),\"X\")","v":"X"},null,null,{"$f":"IF(ISNUMBER(SEARCH($U$5,$R$6:$R$190))=TRUE,R70,\"ZZZ\")","v":"ZZZ"},null,null,null,null,{"$f":"CONCATENATE(REFERENTES!T322,\"(\",REFERENTES!Q322,\")\")","v":"Boca ISCUANDE(ISCUANDE-ZR1-GUABA-1)"},{"$f":"REFERENTES!P322","v":45918},null,"OMACHA - OFM","Fundación Omacha - Observadores Fauna Marina"]
[null,null,null,null,null,null,null,null,null,null,null,{"$f":"IF(ISNUMBER(FIND(\"RES\",REFERENTES!$Q$2:$Q$1134)),REFERENTES!Q71,\"\")","v":""},{"$f":"REFERENTES!S71","v":0},null,66,{"$f":"IF(L71=\"\",0,L71)","v":0},1131,"X",null,null,"ZZZ",null,null,null,null,{"$f":"CONCATENATE(REFERENTES!T323,\"(\",REFERENTES!Q323,\")\")","v":"Boca Pulumana(MUSI-ZP1-BPULU-1)"},{"$f":"REFERENTES!P323","v":43833},null,"OMACHA - OFM - AQUAB","Fundación Omacha - Observadores Fauna Marina - Aquabiosfera"]
[null,null,null,null,null,null,null,null,null,null,null,{"$f":"IF(ISNUMBER(FIND(\"RES\",REFERENTES!$Q$2:$Q$1134)),REFERENTES!Q72,\"\")","v":""},{"$f":"REFERENTES!S72","v":0},null,67,0,1131,"X",null,null,"ZZZ",null,null,null,null,{"$f":"CONCATENATE(REFERENTES!T324,\"(\",REFERENTES!Q324,\")\")","v":"Boca Rio Saija-1(CANT-ZUS1-BSAIJ-1)"},{"$f":"REFERENTES!P324","v":42261},null,"Sila Kangama","Fundación Sila Kangama"]
[null,null,null,null,null,null,null,null,null,null,null,{"$f":"IF(ISNUMBER(FIND(\"RES\",REFERENTES!$Q$2:$Q$1134)),REFERENTES!Q73,\"\")","v":""},{"$f":"REFERENTES!S73","v":0},null,68,0,1131,"X",null,null,"ZZZ",null,null,null,null,{"$f":"CONCATENATE(REFERENTES!T325,\"(\",REFERENTES!Q325,\")\")","v":"Boca Vieja(Coquí-ZUS1-Bovi-1)"},{"$f":"REFERENTES!P325","v":45418},null,"CIAA-UJTL","Fundación Universidad Jorge Tadeo Lozano - Centro de Investigaciones y Asesorías Agroindustriales,"]
[null,null,null,null,null,null,null,null,null,null,null,{"$f":"IF(ISNUMBER(FIND(\"RES\",REFERENTES!$Q$2:$Q$1134)),REFERENTES!Q74,\"\")","v":""},{"$f":"REFERENTES!S74","v":0},null,69,0,1131,"X",null,null,"ZZZ",null,null,null,null,{"$f":"CONCATENATE(REFERENTES!T326,\"(\",REFERENTES!Q326,\")\")","v":"Bocana(AST-ZP1-BOCA-1)"},{"$f":"REFERENTES!P326","v":41967},null,"UJTL","Fundación Universidad de Bogotá Jorge Tadeo Lozano"]
[null,null,null,null,null,null,null,null,null,null,null,{"$f":"IF(ISNUMBER(FIND(\"RES\",REFERENTES!$Q$2:$Q$1134)),REFERENTES!Q75,\"\")","v":""},{"$f":"REFERENTES!S75","v":0},null,70,0,1131,"X",null,null,"ZZZ",null,null,null,null,{"$f":"CONCATENATE(REFERENTES!T327,\"(\",REFERENTES!Q327,\")\")","v":"Bocana Asocars(BVENT-ZR3-BA-1)"},{"$f":"REFERENTES!P327","v":45883},null,"CERG","Geochemical & Environmental Research Group"]
[null,null,null,null,null,null,null,null,null,null,null,{"$f":"IF(ISNUMBER(FIND(\"RES\",REFERENTES!$Q$2:$Q$1134)),REFERENTES!Q76,\"\")","v":""},{"$f":"REFERENTES!S76","v":0},null,71,0,1131,"X",null,null,"ZZZ",null,null,null,null,{"$f":"CONCATENATE(REFERENTES!T328,\"(\",REFERENTES!Q328,\")\")","v":"Bocana CVC(BVENT-ZR3-BCVC-1)"},{"$f":"REFERENTES!P328","v":45862},null,"IED_San José","INSTITUCIÓN EDUCATIVA DEPARTAMENTAL SAN JOSÉ"]
[null,null,null,null,null,null,null,null,null,null,null,{"$f":"IF(ISNUMBER(FIND(\"RES\",REFERENTES!$Q$2:$Q$1134)),REFERENTES!Q77,\"\")","v":""},{"$f":"REFERENTES!S77","v":0},null,72,0,1131,"X",null,null,"ZZZ",null,null,null,null,{"$f":"CONCATENATE(REFERENTES!T329,\"(\",REFERENTES!Q329,\")\")","v":"Bocana Guapi(OBRE;CHA-ZP3-BGUAPI-1)"},{"$f":"REFERENTES!P329","v":45515},null,"IRD","Institut de Recherche pour le Developpement"]
[null,null,null,null,null,null,null,null,null,null,null,{"$f":"IF(ISNUMBER(FIND(\"RES\",REFERENTES!$Q$2:$Q$1134)),REFERENTES!Q78,\"\")","v":""},{"$f":"REFERENTES!S78","v":0},null,73,0,1131,"X",null,null,"ZZZ",null,null,null,null,{"$f":"CONCATENATE(REFERENTES!T330,\"(\",REFERENTES!Q330,\")\")","v":"Bocas TAPAGE -1(TAPAGE-ZR2-BOTAPAJE-1)"},{"$f":"REFERENTES!P330","v":45900},null,"COLCIENCIAS","Instituto Colombiano para el Desarrollo de la Ciencia y la Tecnología"]
[null,null,null,null,null,null,null,null,null,null,null,{"$f":"IF(ISNUMBER(FIND(\"RES\",REFERENTES!$Q$2:$Q$1134)),REFERENTES!Q79,\"\")","v":""},{"$f":"REFERENTES!S79","v":0},null,74,0,1131,"X",null,null,"ZZZ",null,null,null,null,{"$f":"CONCATENATE(REFERENTES!T331,\"(\",REFERENTES!Q331,\")\")","v":"Bocas de SEQUIHONDA -1(TAPAGE-ZR1-SEQUIHONDA-1)"},{"$f":"REFERENTES!P331","v":45896},null,"ICAL","Instituto Colombo Alemán de Investigaciones Científicas de Punta de Betín"]
[null,null,null,null,null,null,null,null,null,null,null,{"$f":"IF(ISNUMBER(FIND(\"RES\",REFERENTES!$Q$2:$Q$1134)),REFERENTES!Q80,\"\")","v":""},{"$f":"REFERENTES!S80","v":0},null,75,0,1131,"X",null,null,"ZZZ",null,null,null,null,{"$f":"CONCATENATE(REFERENTES!T332,\"(\",REFERENTES!Q332,\")\")","v":"Bocon(VIRU-SZ1-BOCO-1)"},{"$f":"REFERENTES!P332","v":42113},null,"INVEMAR - OMACHA","Instituto INVEMAR - Fundación Omacha"]
[null,null,null,null,null,null,null,null,null,null,null,{"$f":"IF(ISNUMBER(FIND(\"RES\",REFERENTES!$Q$2:$Q$1134)),REFERENTES!Q81,\"\")","v":""},{"$f":"REFERENTES!S81","v":0},null,76,0,1131,"X",null,null,"ZZZ",null,null,null,null,{"$f":"CONCATENATE(REFERENTES!T333,\"(\",REFERENTES!Q333,\")\")","v":"Bodegas(ANCHI-ZR1-AB-1)"},{"$f":"REFERENTES!P333","v":45891},null,"INDERENA","Instituto Nacional de los Recursos Naturales Renovables y del Ambiente"]
[null,null,null,null,null,null,null,null,null,null,null,{"$f":"IF(ISNUMBER(FIND(\"RES\",REFERENTES!$Q$2:$Q$1134)),REFERENTES!Q82,\"\")","v":""},{"$f":"REFERENTES!S82","v":0},null,77,0,1131,"X",null,null,"ZZZ",null,null,null,null,{"$f":"CONCATENATE(REFERENTES!T334,\"(\",REFERENTES!Q334,\")\")","v":"Borde -1(MUSI-ZP1-MDB-1)"},{"$f":"REFERENTES!P334","v":43578},null,"ICML","Instituto de Ciencias del Mar y Limnología (ICML)"]
[null,null,null,null,null,null,null,null,null,null,null,{"$f":"IF(ISNUMBER(FIND(\"RES\",REFERENTES!$Q$2:$Q$1134)),REFERENTES!Q83,\"\")","v":""},{"$f":"REFERENTES!S83","v":0},null,78,0,1131,"X",null,null,"ZZZ",null,null,null,null,{"$f":"CONCATENATE(REFERENTES!T335,\"(\",REFERENTES!Q335,\")\")","v":"Borde del manglar -2(MUSI-ZP1-MDB-2)"},{"$f":"REFERENTES!P335","v":43624},null,"IIAP","Instituto de Investigaciones Ambientales del Pacifico"]
[null,null,null,null,null,null,null,null,null,null,null,{"$f":"IF(ISNUMBER(FIND(\"RES\",REFERENTES!$Q$2:$Q$1134)),REFERENTES!Q84,\"\")","v":""},{"$f":"REFERENTES!S84","v":0},null,79,0,1131,"X",null,null,"ZZZ",null,null,null,null,{"$f":"CONCATENATE(REFERENTES!T336,\"(\",REFERENTES!Q336,\")\")","v":"Borde del manglar 2-1(MUSI-ZP1-MDB2-1)"},{"$f":"REFERENTES!P336","v":43838},null,"INVEMAR","Instituto de Investigaciones Marinas y Costeras"]
[null,null,null,null,null,null,null,null,null,null,null,{"$f":"IF(ISNUMBER(FIND(\"RES\",REFERENTES!$Q$2:$Q$1134)),REFERENTES!Q85,\"\")","v":""},{"$f":"REFERENTES!S85","v":0},null,80,0,1131,"X",null,null,"ZZZ",null,null,null,null,{"$f":"CONCATENATE(REFERENTES!T337,\"(\",REFERENTES!Q337,\")\")","v":"Borde del manglar 2-2(MUSI-ZP1-MDB2-2)"},{"$f":"REFERENTES!P337","v":43840},null,"INVEMAR-AGR","Instituto de Investigaciones Marinas y Costeras - AGR"]
[null,null,null,null,null,null,null,null,null,null,null,{"$f":"IF(ISNUMBER(FIND(\"RES\",REFERENTES!$Q$2:$Q$1134)),REFERENTES!Q86,\"\")","v":""},{"$f":"REFERENTES!S86","v":0},null,81,0,1131,"X",null,null,"ZZZ",null,null,null,null,{"$f":"CONCATENATE(REFERENTES!T338,\"(\",REFERENTES!Q338,\")\")","v":"Buno-1(CORI-ZUS1-Buno-1)"},{"$f":"REFERENTES!P338","v":48444},null,"INVEMAR-BVT","Instituto de Investigaciones Marinas y Costeras - BVT"]
[null,null,null,null,null,null,null,null,null,null,null,{"$f":"IF(ISNUMBER(FIND(\"RES\",REFERENTES!$Q$2:$Q$1134)),REFERENTES!Q87,\"\")","v":""},{"$f":"REFERENTES!S87","v":0},null,82,0,1131,"X",null,null,"ZZZ",null,null,null,null,{"$f":"CONCATENATE(REFERENTES!T339,\"(\",REFERENTES!Q339,\")\")","v":"Buritaca 1(BUR-ZP1-Buritac1-2)"},{"$f":"REFERENTES!P339","v":45533},null,"INVEMAR-CPT","Instituto de Investigaciones Marinas y Costeras - CPT"]
[null,null,null,null,null,null,null,null,null,null,null,{"$f":"IF(ISNUMBER(FIND(\"RES\",REFERENTES!$Q$2:$Q$1134)),REFERENTES!Q88,\"\")","v":""},{"$f":"REFERENTES!S88","v":0},null,83,0,1131,"X",null,null,"ZZZ",null,null,null,null,{"$f":"CONCATENATE(REFERENTES!T340,\"(\",REFERENTES!Q340,\")\")","v":"Buritaca 1(BUR-ZR1-Buritc1-2)"},{"$f":"REFERENTES!P340","v":45537},null,"IAvH","Instituto de Investigación Recursos Biológicos Alexander von Humboldt"]
[null,null,null,null,null,null,null,null,null,null,null,{"$f":"IF(ISNUMBER(FIND(\"RES\",REFERENTES!$Q$2:$Q$1134)),REFERENTES!Q89,\"\")","v":""},{"$f":"REFERENTES!S89","v":0},null,84,0,1131,"X",null,null,"ZZZ",null,null,null,null,{"$f":"CONCATENATE(REFERENTES!T341,\"(\",REFERENTES!Q341,\")\")","v":"Buritaca 2(BUR-ZP1-Buritac2-2)"},{"$f":"REFERENTES!P341","v":45535},null,"IDO_Cuba","Instituto de Oceanologia Cuba"]
[null,null,null,null,null,null,null,null,null,null,null,{"$f":"IF(ISNUMBER(FIND(\"RES\",REFERENTES!$Q$2:$Q$1134)),REFERENTES!Q90,\"\")","v":""},{"$f":"REFERENTES!S90","v":0},null,85,0,1131,"X",null,null,"ZZZ",null,null,null,null,{"$f":"CONCATENATE(REFERENTES!T342,\"(\",REFERENTES!Q342,\")\")","v":"Buritaca 2(BUR-ZR1-Buritac2-1)"},{"$f":"REFERENTES!P342","v":45320},null,"IATTC","Inter-American Tropical Tuna Commission"]
[null,null,null,null,null,null,null,null,null,null,null,{"$f":"IF(ISNUMBER(FIND(\"RES\",REFERENTES!$Q$2:$Q$1134)),REFERENTES!Q91,\"\")","v":""},{"$f":"REFERENTES!S91","v":0},null,86,0,1131,"X",null,null,"ZZZ",null,null,null,null,{"$f":"CONCATENATE(REFERENTES!T343,\"(\",REFERENTES!Q343,\")\")","v":"Buritaca 2(BUR-ZR1-Buritac2-2)"},{"$f":"REFERENTES!P343","v":45539},null,"LABORMAR","Laboratorio Microbiológico Ortiz Martinez "]
[null,null,null,null,null,null,null,null,null,null,null,{"$f":"IF(ISNUMBER(FIND(\"RES\",REFERENTES!$Q$2:$Q$1134)),REFERENTES!Q92,\"\")","v":""},{"$f":"REFERENTES!S92","v":0},null,87,0,1131,"X",null,null,"ZZZ",null,null,null,null,{"$f":"CONCATENATE(REFERENTES!T344,\"(\",REFERENTES!Q344,\")\")","v":"Buritaca 2-1(BUR-ZP1-Buritac2-1)"},{"$f":"REFERENTES!P344","v":45308},null,"Literature report","Literature report"]
[null,null,null,null,null,null,null,null,null,null,null,{"$f":"IF(ISNUMBER(FIND(\"RES\",REFERENTES!$Q$2:$Q$1134)),REFERENTES!Q93,\"\")","v":""},{"$f":"REFERENTES!S93","v":0},null,88,0,1131,"X",null,null,"ZZZ",null,null,null,null,{"$f":"CONCATENATE(REFERENTES!T345,\"(\",REFERENTES!Q345,\")\")","v":"Buritaca ZR 1(BUR-ZR1-Buritc1-1)"},{"$f":"REFERENTES!P345","v":45315},null,"MCS Consultoría","MCS Consultoría y Monitoreo ambiental S.A.S"]
[null,null,null,null,null,null,null,null,null,null,null,{"$f":"IF(ISNUMBER(FIND(\"RES\",REFERENTES!$Q$2:$Q$1134)),REFERENTES!Q94,\"\")","v":""},{"$f":"REFERENTES!S94","v":0},null,89,0,1131,"X",null,null,"ZZZ",null,null,null,null,{"$f":"CONCATENATE(REFERENTES!T346,\"(\",REFERENTES!Q346,\")\")","v":"Buritaca_ZP_1-1(BUR-ZP1-Buritac1-1)"},{"$f":"REFERENTES!P346","v":45305},null,"MAKARELA","Makarela S.A.S"]
[null,null,null,null,null,null,null,null,null,null,null,{"$f":"IF(ISNUMBER(FIND(\"RES\",REFERENTES!$Q$2:$Q$1134)),REFERENTES!Q95,\"\")","v":""},{"$f":"REFERENTES!S95","v":0},null,90,0,1131,"X",null,null,"ZZZ",null,null,null,null,{"$f":"CONCATENATE(REFERENTES!T347,\"(\",REFERENTES!Q347,\")\")","v":"Caimanero(VIRU-SZ1-CAIM-1)"},{"$f":"REFERENTES!P347","v":42117},null,"MHNMC","Makuriwa - Museo de Historia Natural Marina de Colombia"]
[null,null,null,null,null,null,null,null,null,null,null,{"$f":"IF(ISNUMBER(FIND(\"RES\",REFERENTES!$Q$2:$Q$1134)),REFERENTES!Q96,\"\")","v":""},{"$f":"REFERENTES!S96","v":0},null,91,0,1131,"X",null,null,"ZZZ",null,null,null,null,{"$f":"CONCATENATE(REFERENTES!T348,\"(\",REFERENTES!Q348,\")\")","v":"Camarones 1-1(NAVI-ZP1-CAMA1-1)"},{"$f":"REFERENTES!P348","v":43653},null,"MMU","Manchester Metropolitan University"]
[null,null,null,null,null,null,null,null,null,null,null,{"$f":"IF(ISNUMBER(FIND(\"RES\",REFERENTES!$Q$2:$Q$1134)),REFERENTES!Q97,\"\")","v":""},{"$f":"REFERENTES!S97","v":0},null,92,0,1131,"X",null,null,"ZZZ",null,null,null,null,{"$f":"CONCATENATE(REFERENTES!T349,\"(\",REFERENTES!Q349,\")\")","v":"Camarones 1-2(NAVI-ZP1-CAMA1-2)"},{"$f":"REFERENTES!P349","v":43757},null,"M_P","Marine & Port Consultants"]
[null,null,null,null,null,null,null,null,null,null,null,{"$f":"IF(ISNUMBER(FIND(\"RES\",REFERENTES!$Q$2:$Q$1134)),REFERENTES!Q98,\"\")","v":""},{"$f":"REFERENTES!S98","v":0},null,93,0,1131,"X",null,null,"ZZZ",null,null,null,null,{"$f":"CONCATENATE(REFERENTES!T350,\"(\",REFERENTES!Q350,\")\")","v":"Camarones 2-1(NAVI-ZP1-CAMA2-1)"},{"$f":"REFERENTES!P350","v":43656},null,"IAEA-MEL","Marine Environment Laboratories"]
[null,null,null,null,null,null,null,null,null,null,null,{"$f":"IF(ISNUMBER(FIND(\"RES\",REFERENTES!$Q$2:$Q$1134)),REFERENTES!Q99,\"\")","v":""},{"$f":"REFERENTES!S99","v":0},null,94,0,1131,"X",null,null,"ZZZ",null,null,null,null,{"$f":"CONCATENATE(REFERENTES!T351,\"(\",REFERENTES!Q351,\")\")","v":"Camarones 2-2(NAVI-ZP1-CAMA2-2)"},{"$f":"REFERENTES!P351","v":43759},null,"MINCIENCIAS","Ministerio de Ciencia, Tecnología e Innovación"]
[null,null,null,null,null,null,null,null,null,null,null,{"$f":"IF(ISNUMBER(FIND(\"RES\",REFERENTES!$Q$2:$Q$1134)),REFERENTES!Q100,\"\")","v":""},{"$f":"REFERENTES!S100","v":0},null,95,0,1131,"X",null,null,"ZZZ",null,null,null,null,{"$f":"CONCATENATE(REFERENTES!T352,\"(\",REFERENTES!Q352,\")\")","v":"Camino Real(CAMREAL-ZUS1-CAMREAL-1)"},{"$f":"REFERENTES!P352","v":45387},null,"MA","Ministerio del Ambiente Haiti"]
[null,null,null,null,null,null,null,null,null,null,null,{"$f":"IF(ISNUMBER(FIND(\"RES\",REFERENTES!$Q$2:$Q$1134)),REFERENTES!Q101,\"\")","v":""},{"$f":"REFERENTES!S101","v":0},null,96,0,1131,"X",null,null,"ZZZ",null,null,null,null,{"$f":"CONCATENATE(REFERENTES!T353,\"(\",REFERENTES!Q353,\")\")","v":"Cangrejo(MAYO-ZUS1-Can-1)"},{"$f":"REFERENTES!P353","v":46010},null,"MADS","Ministerio del Ambiente y Desarrollo Sostenible"]
[null,null,null,null,null,null,null,null,null,null,null,{"$f":"IF(ISNUMBER(FIND(\"RES\",REFERENTES!$Q$2:$Q$1134)),REFERENTES!Q102,\"\")","v":""},{"$f":"REFERENTES!S102","v":0},null,97,0,1131,"X",null,null,"ZZZ",null,null,null,null,{"$f":"CONCATENATE(REFERENTES!T354,\"(\",REFERENTES!Q354,\")\")","v":"Caño(OP-ZP1-ki-1)"},{"$f":"REFERENTES!P354","v":44259},null,"MINAMBIENTE","Ministerio del Ambiente y Desarrollo Sostenible"]
[null,null,null,null,null,null,null,null,null,null,null,{"$f":"IF(ISNUMBER(FIND(\"RES\",REFERENTES!$Q$2:$Q$1134)),REFERENTES!Q103,\"\")","v":""},{"$f":"REFERENTES!S103","v":0},null,98,0,1131,"X",null,null,"ZZZ",null,null,null,null,{"$f":"CONCATENATE(REFERENTES!T355,\"(\",REFERENTES!Q355,\")\")","v":"Caño(OP-ZP1-ki-2)"},{"$f":"REFERENTES!P355","v":44261},null,"MHN-UC","Museo Historia Natural Universidad del Cauca"]
[null,null,null,null,null,null,null,null,null,null,null,{"$f":"IF(ISNUMBER(FIND(\"RES\",REFERENTES!$Q$2:$Q$1134)),REFERENTES!Q104,\"\")","v":""},{"$f":"REFERENTES!S104","v":0},null,99,0,1131,"X",null,null,"ZZZ",null,null,null,null,{"$f":"CONCATENATE(REFERENTES!T356,\"(\",REFERENTES!Q356,\")\")","v":"Caño Arteaga(BCIS,EST-ZUS1-CñArteaga-1)"},{"$f":"REFERENTES!P356","v":48750},null,"MZUSP","Museu de Zoologia da Universidade de São Paulo"]
[null,null,null,null,null,null,null,null,null,null,null,{"$f":"IF(ISNUMBER(FIND(\"RES\",REFERENTES!$Q$2:$Q$1134)),REFERENTES!Q105,\"\")","v":""},{"$f":"REFERENTES!S105","v":0},null,100,0,1131,"X",null,null,"ZZZ",null,null,null,null,{"$f":"CONCATENATE(REFERENTES!T357,\"(\",REFERENTES!Q357,\")\")","v":"Caño Camaronera -3(BARC-ZUS1-CCAM-3)"},{"$f":"REFERENTES!P357","v":44430},null,"NOAA FISHERIES","NOAA Southwest Fisheries Science Center"]
[null,null,null,null,null,null,null,null,null,null,null,{"$f":"IF(ISNUMBER(FIND(\"RES\",REFERENTES!$Q$2:$Q$1134)),REFERENTES!Q106,\"\")","v":""},{"$f":"REFERENTES!S106","v":0},null,101,0,1131,"X",null,null,"ZZZ",null,null,null,null,{"$f":"CONCATENATE(REFERENTES!T358,\"(\",REFERENTES!Q358,\")\")","v":"Caño Camaronera-1(BARC-ZUS1-CCAM-1)"},{"$f":"REFERENTES!P358","v":44380},null,"NEPA","National Environment and Planning Agency"]
[null,null,null,null,null,null,null,null,null,null,null,{"$f":"IF(ISNUMBER(FIND(\"RES\",REFERENTES!$Q$2:$Q$1134)),REFERENTES!Q107,\"\")","v":""},{"$f":"REFERENTES!S107","v":0},null,102,0,1131,"X",null,null,"ZZZ",null,null,null,null,{"$f":"CONCATENATE(REFERENTES!T359,\"(\",REFERENTES!Q359,\")\")","v":"Caño Corea -1(TIN-ZR1-EC-1)"},{"$f":"REFERENTES!P359","v":42093},null,"NOAA","National Oceanic and Atmospheric Administration"]
[null,null,null,null,null,null,null,null,null,null,null,{"$f":"IF(ISNUMBER(FIND(\"RES\",REFERENTES!$Q$2:$Q$1134)),REFERENTES!Q108,\"\")","v":""},{"$f":"REFERENTES!S108","v":0},null,103,0,1131,"X",null,null,"ZZZ",null,null,null,null,{"$f":"CONCATENATE(REFERENTES!T360,\"(\",REFERENTES!Q360,\")\")","v":"Caño Dulce(CÑDULC-SZ1-DULC-2)"},{"$f":"REFERENTES!P360","v":45521},null,"OBIMAR","OBIMAR. Empresa Portuaria Quetzal"]
[null,null,null,null,null,null,null,null,null,null,null,{"$f":"IF(ISNUMBER(FIND(\"RES\",REFERENTES!$Q$2:$Q$1134)),REFERENTES!Q109,\"\")","v":""},{"$f":"REFERENTES!S109","v":0},null,104,0,1131,"X",null,null,"ZZZ",null,null,null,null,{"$f":"CONCATENATE(REFERENTES!T361,\"(\",REFERENTES!Q361,\")\")","v":"Caño Dulce-1(CÑDULC-SZ1-CÑDULC-1)"},{"$f":"REFERENTES!P361","v":45264},null,"OBIS-SEAMAP","OBIS-SEAMAP"]
[null,null,null,null,null,null,null,null,null,null,null,{"$f":"IF(ISNUMBER(FIND(\"RES\",REFERENTES!$Q$2:$Q$1134)),REFERENTES!Q110,\"\")","v":""},{"$f":"REFERENTES!S110","v":0},null,105,0,1131,"X",null,null,"ZZZ",null,null,null,null,{"$f":"CONCATENATE(REFERENTES!T362,\"(\",REFERENTES!Q362,\")\")","v":"Caño El Frances -2(FRAN-ZR1-BCFRA-2)"},{"$f":"REFERENTES!P362","v":44440},null,"OBIS","Ocean Biogeographic Information System"]
[null,null,null,null,null,null,null,null,null,null,null,{"$f":"IF(ISNUMBER(FIND(\"RES\",REFERENTES!$Q$2:$Q$1134)),REFERENTES!Q111,\"\")","v":""},{"$f":"REFERENTES!S111","v":0},null,106,0,1131,"X",null,null,"ZZZ",null,null,null,null,{"$f":"CONCATENATE(REFERENTES!T363,\"(\",REFERENTES!Q363,\")\")","v":"Caño El Nene-1-1(BCIS,EST-ZUS1-el nene-1)"},{"$f":"REFERENTES!P363","v":45130},null,"OIR","Oceanario de las Islas del Rosario - CEINER"]
[null,null,null,null,null,null,null,null,null,null,null,{"$f":"IF(ISNUMBER(FIND(\"RES\",REFERENTES!$Q$2:$Q$1134)),REFERENTES!Q112,\"\")","v":""},{"$f":"REFERENTES!S112","v":0},null,107,0,1131,"X",null,null,"ZZZ",null,null,null,null,{"$f":"CONCATENATE(REFERENTES!T364,\"(\",REFERENTES!Q364,\")\")","v":"Caño Grande(BCIS,EST-ZUS1-caño grande-1)"},{"$f":"REFERENTES!P364","v":45148},null,"OIEA","Orgánismo Internacional de Energía Atómica"]
[null,null,null,null,null,null,null,null,null,null,null,{"$f":"IF(ISNUMBER(FIND(\"RES\",REFERENTES!$Q$2:$Q$1134)),REFERENTES!Q113,\"\")","v":""},{"$f":"REFERENTES!S113","v":0},null,108,0,1131,"X",null,null,"ZZZ",null,null,null,null,{"$f":"CONCATENATE(REFERENTES!T365,\"(\",REFERENTES!Q365,\")\")","v":"Caño Grande -3(BCIS,EST-ZUS7-caño grande 3-1)"},{"$f":"REFERENTES!P365","v":45355},null,"PNN_GORGONA","Parque Nacional Natural Gorgona"]
[null,null,null,null,null,null,null,null,null,null,null,{"$f":"IF(ISNUMBER(FIND(\"RES\",REFERENTES!$Q$2:$Q$1134)),REFERENTES!Q114,\"\")","v":""},{"$f":"REFERENTES!S114","v":0},null,109,0,1131,"X",null,null,"ZZZ",null,null,null,null,{"$f":"CONCATENATE(REFERENTES!T366,\"(\",REFERENTES!Q366,\")\")","v":"Caño Grande E-1(CGSM-SZ1-CGE-1)"},{"$f":"REFERENTES!P366","v":45930},null,"UAESPNN","Parques Nacionales Naturales de Colombia"]
[null,null,null,null,null,null,null,null,null,null,null,{"$f":"IF(ISNUMBER(FIND(\"RES\",REFERENTES!$Q$2:$Q$1134)),REFERENTES!Q115,\"\")","v":""},{"$f":"REFERENTES!S115","v":0},null,110,0,1131,"X",null,null,"ZZZ",null,null,null,null,{"$f":"CONCATENATE(REFERENTES!T367,\"(\",REFERENTES!Q367,\")\")","v":"Caño Grande E-2(CGSM-SZ1-CGE-2)"},{"$f":"REFERENTES!P367","v":45932},null,"PNN","Parques Nacionales Naturales de Colombia "]
[null,null,null,null,null,null,null,null,null,null,null,{"$f":"IF(ISNUMBER(FIND(\"RES\",REFERENTES!$Q$2:$Q$1134)),REFERENTES!Q116,\"\")","v":""},{"$f":"REFERENTES!S116","v":0},null,111,0,1131,"X",null,null,"ZZZ",null,null,null,null,{"$f":"CONCATENATE(REFERENTES!T368,\"(\",REFERENTES!Q368,\")\")","v":"Caño Grande E-3(CGSM-SZ1-CGE-3)"},{"$f":"REFERENTES!P368","v":45934},null,"PUJ","Pontificia Universidad Javeriana"]
[null,null,null,null,null,null,null,null,null,null,null,{"$f":"IF(ISNUMBER(FIND(\"RES\",REFERENTES!$Q$2:$Q$1134)),REFERENTES!Q117,\"\")","v":""},{"$f":"REFERENTES!S117","v":0},null,112,0,1131,"X",null,null,"ZZZ",null,null,null,null,{"$f":"CONCATENATE(REFERENTES!T369,\"(\",REFERENTES!Q369,\")\")","v":"Caño Grande-1(BCIS,EST-ZUS2-caño grande-1)"},{"$f":"REFERENTES!P369","v":45072},null,"RAC-CIMAB","RAC-CIMAB"]
[null,null,null,null,null,null,null,null,null,null,null,{"$f":"IF(ISNUMBER(FIND(\"RES\",REFERENTES!$Q$2:$Q$1134)),REFERENTES!Q118,\"\")","v":""},{"$f":"REFERENTES!S118","v":0},null,113,0,1131,"X",null,null,"ZZZ",null,null,null,null,{"$f":"CONCATENATE(REFERENTES!T370,\"(\",REFERENTES!Q370,\")\")","v":"Caño Guacamayas(GUAC-ZP1-CGUA-2)"},{"$f":"REFERENTES!P370","v":44438},null,"REPSOL","Repsol Exploración Colombia S.A."]
[null,null,null,null,null,null,null,null,null,null,null,{"$f":"IF(ISNUMBER(FIND(\"RES\",REFERENTES!$Q$2:$Q$1134)),REFERENTES!Q119,\"\")","v":""},{"$f":"REFERENTES!S119","v":0},null,114,0,1131,"X",null,null,"ZZZ",null,null,null,null,{"$f":"CONCATENATE(REFERENTES!T371,\"(\",REFERENTES!Q371,\")\")","v":"Caño Guacamayas-1(GUAC-ZP1-CGUA-1)"},{"$f":"REFERENTES!P371","v":44410},null,"SERNA","Secretaría de Recursos Naturales y Ambiente (SERNA)/Centro de Estudios y Control de Contaminantes (CESCCO)"]
[null,null,null,null,null,null,null,null,null,null,null,{"$f":"IF(ISNUMBER(FIND(\"RES\",REFERENTES!$Q$2:$Q$1134)),REFERENTES!Q120,\"\")","v":""},{"$f":"REFERENTES!S120","v":0},null,115,0,1131,"X",null,null,"ZZZ",null,null,null,null,{"$f":"CONCATENATE(REFERENTES!T372,\"(\",REFERENTES!Q372,\")\")","v":"Caño La Balsa(LBAL-ZUS1-clb-1)"},{"$f":"REFERENTES!P372","v":42074},null,"SEPC","Shell Exploration & Production Colombia GMBH"]
[null,null,null,null,null,null,null,null,null,null,null,{"$f":"IF(ISNUMBER(FIND(\"RES\",REFERENTES!$Q$2:$Q$1134)),REFERENTES!Q121,\"\")","v":""},{"$f":"REFERENTES!S121","v":0},null,116,0,1131,"X",null,null,"ZZZ",null,null,null,null,{"$f":"CONCATENATE(REFERENTES!T373,\"(\",REFERENTES!Q373,\")\")","v":"Caño Lequerica(BARB-ZR1-Lequerica-1)"},{"$f":"REFERENTES!P373","v":44504},null,"NMHN Smithsonian","Smithsonian Institution"]
[null,null,null,null,null,null,null,null,null,null,null,{"$f":"IF(ISNUMBER(FIND(\"RES\",REFERENTES!$Q$2:$Q$1134)),REFERENTES!Q122,\"\")","v":""},{"$f":"REFERENTES!S122","v":0},null,117,0,1131,"X",null,null,"ZZZ",null,null,null,null,{"$f":"CONCATENATE(REFERENTES!T374,\"(\",REFERENTES!Q374,\")\")","v":"Caño Matuna-1(BARC-ZUS1-CMAT-1)"},{"$f":"REFERENTES!P374","v":44378},null,"SPRC - CNR","Sociedad Portuaria Rio Cordoba - Colombian Natural Resources S.A.S."]
[null,null,null,null,null,null,null,null,null,null,null,{"$f":"IF(ISNUMBER(FIND(\"RES\",REFERENTES!$Q$2:$Q$1134)),REFERENTES!Q123,\"\")","v":""},{"$f":"REFERENTES!S123","v":0},null,118,0,1131,"X",null,null,"ZZZ",null,null,null,null,{"$f":"CONCATENATE(REFERENTES!T375,\"(\",REFERENTES!Q375,\")\")","v":"Caño Matuna-2(BARC-ZUS1-CMAT-2)"},{"$f":"REFERENTES!P375","v":44428},null,"SPSM","Sociedad Portuaria de Santa Marta"]
[null,null,null,null,null,null,null,null,null,null,null,{"$f":"IF(ISNUMBER(FIND(\"RES\",REFERENTES!$Q$2:$Q$1134)),REFERENTES!Q124,\"\")","v":""},{"$f":"REFERENTES!S124","v":0},null,119,0,1131,"X",null,null,"ZZZ",null,null,null,null,{"$f":"CONCATENATE(REFERENTES!T376,\"(\",REFERENTES!Q376,\")\")","v":"Caño Nisperal-1(BCIS,EST-ZUS1-nisperal-1)"},{"$f":"REFERENTES!P376","v":45109},null,"UPR Humacao","UNIVERSIDAD DE PUERTO RICO EN HUMACAO"]
[null,null,null,null,null,null,null,null,null,null,null,{"$f":"IF(ISNUMBER(FIND(\"RES\",REFERENTES!$Q$2:$Q$1134)),REFERENTES!Q125,\"\")","v":""},{"$f":"REFERENTES!S125","v":0},null,120,0,1131,"X",null,null,"ZZZ",null,null,null,null,{"$f":"CONCATENATE(REFERENTES!T377,\"(\",REFERENTES!Q377,\")\")","v":"Caño Palermo-1(BCIS,EST-ZUS4-palermo-1)"},{"$f":"REFERENTES!P377","v":45100},null,"UR Camelia, IRD","UR Camelia, IRD"]
[null,null,null,null,null,null,null,null,null,null,null,{"$f":"IF(ISNUMBER(FIND(\"RES\",REFERENTES!$Q$2:$Q$1134)),REFERENTES!Q126,\"\")","v":""},{"$f":"REFERENTES!S126","v":0},null,121,0,1131,"X",null,null,"ZZZ",null,null,null,null,{"$f":"CONCATENATE(REFERENTES!T378,\"(\",REFERENTES!Q378,\")\")","v":"Caño Salado(BCIS,EST-ZP1-CñSalado-1)"},{"$f":"REFERENTES!P378","v":48758},null,"UNEP CAR/RCU","United Nations Environment Programme - Caribbean Regional Coordinating Unit"]
[null,null,null,null,null,null,null,null,null,null,null,{"$f":"IF(ISNUMBER(FIND(\"RES\",REFERENTES!$Q$2:$Q$1134)),REFERENTES!Q127,\"\")","v":""},{"$f":"REFERENTES!S127","v":0},null,122,0,1131,"X",null,null,"ZZZ",null,null,null,null,{"$f":"CONCATENATE(REFERENTES!T379,\"(\",REFERENTES!Q379,\")\")","v":"Caño Salado(BCIS,EST-ZUS1-caño salado-1)"},{"$f":"REFERENTES!P379","v":45114},null,"UASD","Universidad Autónoma de Santo Domingo"]
[null,null,null,null,null,null,null,null,null,null,null,{"$f":"IF(ISNUMBER(FIND(\"RES\",REFERENTES!$Q$2:$Q$1134)),REFERENTES!Q128,\"\")","v":""},{"$f":"REFERENTES!S128","v":0},null,123,0,1131,"X",null,null,"ZZZ",null,null,null,null,{"$f":"CONCATENATE(REFERENTES!T380,\"(\",REFERENTES!Q380,\")\")","v":"Caño Salado -2(BCIS,EST-ZP1-caño salado 2-1)"},{"$f":"REFERENTES!P380","v":45351},null,"UFB","Universidad Federal de Bahía"]
[null,null,null,null,null,null,null,null,null,null,null,{"$f":"IF(ISNUMBER(FIND(\"RES\",REFERENTES!$Q$2:$Q$1134)),REFERENTES!Q129,\"\")","v":""},{"$f":"REFERENTES!S129","v":0},null,124,0,1131,"X",null,null,"ZZZ",null,null,null,null,{"$f":"CONCATENATE(REFERENTES!T381,\"(\",REFERENTES!Q381,\")\")","v":"Caño Salado-11(BCIS,EST,SAL-ZP1-CS-1)"},{"$f":"REFERENTES!P381","v":42083},null,"UJTL-MM","Universidad Jorje Tadeo Lozano-Museo del Mar"]
[null,null,null,null,null,null,null,null,null,null,null,{"$f":"IF(ISNUMBER(FIND(\"RES\",REFERENTES!$Q$2:$Q$1134)),REFERENTES!Q130,\"\")","v":""},{"$f":"REFERENTES!S130","v":0},null,125,0,1131,"X",null,null,"ZZZ",null,null,null,null,{"$f":"CONCATENATE(REFERENTES!T382,\"(\",REFERENTES!Q382,\")\")","v":"Caño Tijo-1(CSI,SPIE-ZUS1-CñTijo-1)"},{"$f":"REFERENTES!P382","v":48755},null,"UNMSM","Universidad Nacional Mayor de San Marcos"]
[null,null,null,null,null,null,null,null,null,null,null,{"$f":"IF(ISNUMBER(FIND(\"RES\",REFERENTES!$Q$2:$Q$1134)),REFERENTES!Q131,\"\")","v":""},{"$f":"REFERENTES!S131","v":0},null,126,0,1131,"X",null,null,"ZZZ",null,null,null,null,{"$f":"CONCATENATE(REFERENTES!T383,\"(\",REFERENTES!Q383,\")\")","v":"Caño Tijo-2(BCIS,EST-ZR1-el tijo 2-1)"},{"$f":"REFERENTES!P383","v":45095},null,"UNal","Universidad Nacional de Colombia"]
[null,null,null,null,null,null,null,null,null,null,null,{"$f":"IF(ISNUMBER(FIND(\"RES\",REFERENTES!$Q$2:$Q$1134)),REFERENTES!Q132,\"\")","v":""},{"$f":"REFERENTES!S132","v":0},null,127,0,1131,"X",null,null,"ZZZ",null,null,null,null,{"$f":"CONCATENATE(REFERENTES!T384,\"(\",REFERENTES!Q384,\")\")","v":"Caño Tijo-2(BCIS,LIT-ZUS1-TIJO-1)"},{"$f":"REFERENTES!P384","v":45008},null,"USB","Universidad Simón Bolivar"]
[null,null,null,null,null,null,null,null,null,null,null,{"$f":"IF(ISNUMBER(FIND(\"RES\",REFERENTES!$Q$2:$Q$1134)),REFERENTES!Q133,\"\")","v":""},{"$f":"REFERENTES!S133","v":0},null,128,0,1131,"X",null,null,"ZZZ",null,null,null,null,{"$f":"CONCATENATE(REFERENTES!T385,\"(\",REFERENTES!Q385,\")\")","v":"Caño Urabalito -1(CORI-ZR1-Cura-1)"},{"$f":"REFERENTES!P385","v":48429},null,"UDEA","Universidad de Antioquia"]
[null,null,null,null,null,null,null,null,null,null,null,{"$f":"IF(ISNUMBER(FIND(\"RES\",REFERENTES!$Q$2:$Q$1134)),REFERENTES!Q134,\"\")","v":""},{"$f":"REFERENTES!S134","v":0},null,129,0,{"$f":"IF(P134=0,MAX($O$6:$O$1135)+1,O134)","v":1131},{"$f":"IFERROR(VLOOKUP(SMALL($Q$6:$Q$1135,O134),$O$6:$P$1135,2,FALSE),\"X\")","v":"X"},null,null,{"$f":"IF(ISNUMBER(SEARCH($U$5,$R$6:$R$190))=TRUE,R134,\"ZZZ\")","v":"ZZZ"},null,null,null,null,{"$f":"CONCATENATE(REFERENTES!T386,\"(\",REFERENTES!Q386,\")\")","v":"Caño el Frances-1(FRAN-ZR1-BCFRA-1)"},{"$f":"REFERENTES!P386","v":44414},null,"UJTL-FCM","Universidad de Bogotá Jorge Tadeo Lozano, Fac. de Ciencias Naturales e Ingenieria"]
[null,null,null,null,null,null,null,null,null,null,null,{"$f":"IF(ISNUMBER(FIND(\"RES\",REFERENTES!$Q$2:$Q$1134)),REFERENTES!Q135,\"\")","v":""},{"$f":"REFERENTES!S135","v":0},null,130,{"$f":"IF(L135=\"\",0,L135)","v":0},1131,"X",null,null,"ZZZ",null,null,null,null,{"$f":"CONCATENATE(REFERENTES!T387,\"(\",REFERENTES!Q387,\")\")","v":"Caño el Nene -1(CCI,Sinu-ZUS1-el nene-1)"},{"$f":"REFERENTES!P387","v":45040},null,"UCartagena","Universidad de Cartagena"]
[null,null,null,null,null,null,null,null,null,null,null,{"$f":"IF(ISNUMBER(FIND(\"RES\",REFERENTES!$Q$2:$Q$1134)),REFERENTES!Q136,\"\")","v":""},{"$f":"REFERENTES!S136","v":0},null,131,0,1131,"X",null,null,"ZZZ",null,null,null,null,{"$f":"CONCATENATE(REFERENTES!T388,\"(\",REFERENTES!Q388,\")\")","v":"CañoTubo(CNGMLLQ-ZP1-CATO-1)"},{"$f":"REFERENTES!P388","v":41954},null,"UCO","Universidad de Córdoba"]
[null,null,null,null,null,null,null,null,null,null,null,{"$f":"IF(ISNUMBER(FIND(\"RES\",REFERENTES!$Q$2:$Q$1134)),REFERENTES!Q137,\"\")","v":""},{"$f":"REFERENTES!S137","v":0},null,132,0,1131,"X",null,null,"ZZZ",null,null,null,null,{"$f":"CONCATENATE(REFERENTES!T389,\"(\",REFERENTES!Q389,\")\")","v":"Chamuscado(BNAY-ZUS3-NC-1)"},{"$f":"REFERENTES!P389","v":45821},null,"UF","Universidad de Florida"]
[null,null,null,null,null,null,null,null,null,null,null,{"$f":"IF(ISNUMBER(FIND(\"RES\",REFERENTES!$Q$2:$Q$1134)),REFERENTES!Q138,\"\")","v":""},{"$f":"REFERENTES!S138","v":0},null,133,0,1131,"X",null,null,"ZZZ",null,null,null,null,{"$f":"CONCATENATE(REFERENTES!T390,\"(\",REFERENTES!Q390,\")\")","v":"Chichiman -1(PCOM-ZR1-Chichi-1)"},{"$f":"REFERENTES!P390","v":42181},null,"UniGie","Universidad de Giessen"]
[null,null,null,null,null,null,null,null,null,null,null,{"$f":"IF(ISNUMBER(FIND(\"RES\",REFERENTES!$Q$2:$Q$1134)),REFERENTES!Q139,\"\")","v":""},{"$f":"REFERENTES!S139","v":0},null,134,0,1131,"X",null,null,"ZZZ",null,null,null,null,{"$f":"CONCATENATE(REFERENTES!T391,\"(\",REFERENTES!Q391,\")\")","v":"Cholon-1(BARU-ZR1-Cholón-1)"},{"$f":"REFERENTES!P391","v":44585},null,"UNIBAGUE","Universidad de Ibague"]
[null,null,null,null,null,null,null,null,null,null,null,{"$f":"IF(ISNUMBER(FIND(\"RES\",REFERENTES!$Q$2:$Q$1134)),REFERENTES!Q140,\"\")","v":""},{"$f":"REFERENTES!S140","v":0},null,135,0,1131,"X",null,null,"ZZZ",null,null,null,null,{"$f":"CONCATENATE(REFERENTES!T392,\"(\",REFERENTES!Q392,\")\")","v":"Cienaga El Picon-1(TBOM-ZP1-Picón-1)"},{"$f":"REFERENTES!P392","v":44598},null,"UDES","Universidad de La Sabana"]
[null,null,null,null,null,null,null,null,null,null,null,{"$f":"IF(ISNUMBER(FIND(\"RES\",REFERENTES!$Q$2:$Q$1134)),REFERENTES!Q141,\"\")","v":""},{"$f":"REFERENTES!S141","v":0},null,136,0,1131,"X",null,null,"ZZZ",null,null,null,null,{"$f":"CONCATENATE(REFERENTES!T393,\"(\",REFERENTES!Q393,\")\")","v":"Ciénaga Ana Gomez-1(CANG-ZR1-CANG-1)"},{"$f":"REFERENTES!P393","v":44405},null,"UDO - NS","Universidad de Oriente - Núcleo de Sucre"]
[null,null,null,null,null,null,null,null,null,null,null,{"$f":"IF(ISNUMBER(FIND(\"RES\",REFERENTES!$Q$2:$Q$1134)),REFERENTES!Q142,\"\")","v":""},{"$f":"REFERENTES!S142","v":0},null,137,0,1131,"X",null,null,"ZZZ",null,null,null,null,{"$f":"CONCATENATE(REFERENTES!T394,\"(\",REFERENTES!Q394,\")\")","v":"Ciénaga Ana Gomez-2(CANG-ZR1-CANG-2)"},{"$f":"REFERENTES!P394","v":44407},null,"UNIGUAJIRA","Universidad de la Guajira"]
[null,null,null,null,null,null,null,null,null,null,null,{"$f":"IF(ISNUMBER(FIND(\"RES\",REFERENTES!$Q$2:$Q$1134)),REFERENTES!Q143,\"\")","v":""},{"$f":"REFERENTES!S143","v":0},null,138,0,1131,"X",null,null,"ZZZ",null,null,null,null,{"$f":"CONCATENATE(REFERENTES!T395,\"(\",REFERENTES!Q395,\")\")","v":"Ciénaga Benitez-1(CBEN-ZR1-CBEN-1)"},{"$f":"REFERENTES!P395","v":44369},null,"UniMagdalena","Universidad del Magdalena"]
[null,null,null,null,null,null,null,null,null,null,null,{"$f":"IF(ISNUMBER(FIND(\"RES\",REFERENTES!$Q$2:$Q$1134)),REFERENTES!Q144,\"\")","v":""},{"$f":"REFERENTES!S144","v":0},null,139,0,1131,"X",null,null,"ZZZ",null,null,null,null,{"$f":"CONCATENATE(REFERENTES!T396,\"(\",REFERENTES!Q396,\")\")","v":"Ciénaga Benitez-3(CBEN-ZR1-CBEN-3)"},{"$f":"REFERENTES!P396","v":44424},null,"UPacifico","Universidad del Pacífico"]
[null,null,null,null,null,null,null,null,null,null,null,{"$f":"IF(ISNUMBER(FIND(\"RES\",REFERENTES!$Q$2:$Q$1134)),REFERENTES!Q145,\"\")","v":""},{"$f":"REFERENTES!S145","v":0},null,140,0,1131,"X",null,null,"ZZZ",null,null,null,null,{"$f":"CONCATENATE(REFERENTES!T397,\"(\",REFERENTES!Q397,\")\")","v":"Ciénaga Caimanera -2(CCAIM-ZUS1-CCAIM-2)"},{"$f":"REFERENTES!P397","v":44442},null,"UT","Universidad del Tolima"]
[null,null,null,null,null,null,null,null,null,null,null,{"$f":"IF(ISNUMBER(FIND(\"RES\",REFERENTES!$Q$2:$Q$1134)),REFERENTES!Q146,\"\")","v":""},{"$f":"REFERENTES!S146","v":0},null,141,0,1131,"X",null,null,"ZZZ",null,null,null,null,{"$f":"CONCATENATE(REFERENTES!T398,\"(\",REFERENTES!Q398,\")\")","v":"Ciénaga Caimanera-1(CCAIM-ZUS1-CCAIM-1)"},{"$f":"REFERENTES!P398","v":44422},null,"UNIVALLE","Universidad del Valle"]
[null,null,null,null,null,null,null,null,null,null,null,{"$f":"IF(ISNUMBER(FIND(\"RES\",REFERENTES!$Q$2:$Q$1134)),REFERENTES!Q147,\"\")","v":""},{"$f":"REFERENTES!S147","v":0},null,142,0,1131,"X",null,null,"ZZZ",null,null,null,null,{"$f":"CONCATENATE(REFERENTES!T399,\"(\",REFERENTES!Q399,\")\")","v":"Ciénaga El Garzal -2(BCIS,EST-ZR1-el garzal-2)"},{"$f":"REFERENTES!P399","v":45078},null,"UC","Universidae do Cerá, Estaçao de Biologia Marinha"]
[null,null,null,null,null,null,null,null,null,null,null,{"$f":"IF(ISNUMBER(FIND(\"RES\",REFERENTES!$Q$2:$Q$1134)),REFERENTES!Q148,\"\")","v":""},{"$f":"REFERENTES!S148","v":0},null,143,0,1131,"X",null,null,"ZZZ",null,null,null,null,{"$f":"CONCATENATE(REFERENTES!T400,\"(\",REFERENTES!Q400,\")\")","v":"Ciénaga El Garzal-1(BCIS,EST-ZR1-el garzal-1)"},{"$f":"REFERENTES!P400","v":45054},null,"UNH","University of New Hampshire"]
[null,null,null,null,null,null,null,null,null,null,null,{"$f":"IF(ISNUMBER(FIND(\"RES\",REFERENTES!$Q$2:$Q$1134)),REFERENTES!Q149,\"\")","v":""},{"$f":"REFERENTES!S149","v":0},null,144,0,1131,"X",null,null,"ZZZ",null,null,null,null,{"$f":"CONCATENATE(REFERENTES!T401,\"(\",REFERENTES!Q401,\")\")","v":"Ciénaga El Garzal-3(BCIS,EST-ZUS1-el garzal 3-1)"},{"$f":"REFERENTES!P401","v":45145},null,"UM Francia","Université de Montpellier"]
[null,null,null,null,null,null,null,null,null,null,null,{"$f":"IF(ISNUMBER(FIND(\"RES\",REFERENTES!$Q$2:$Q$1134)),REFERENTES!Q150,\"\")","v":""},{"$f":"REFERENTES!S150","v":0},null,145,0,1131,"X",null,null,"ZZZ",null,null,null,null,{"$f":"CONCATENATE(REFERENTES!T402,\"(\",REFERENTES!Q402,\")\")","v":"Ciénaga Galo(BCIS,EST-ZR1-golo-1)"},{"$f":"REFERENTES!P402","v":45118},null,"VIMS-SI","Virginia Institute of Marine Science / Smithsonian Institution"]
[null,null,null,null,null,null,null,null,null,null,null,{"$f":"IF(ISNUMBER(FIND(\"RES\",REFERENTES!$Q$2:$Q$1134)),REFERENTES!Q151,\"\")","v":""},{"$f":"REFERENTES!S151","v":0},null,146,0,1131,"X",null,null,"ZZZ",null,null,null,null,{"$f":"CONCATENATE(REFERENTES!T403,\"(\",REFERENTES!Q403,\")\")","v":"Ciénaga Galo(BCIS,EST-ZUS1-CgGalo-1)"},{"$f":"REFERENTES!P403","v":48753},null,"WCS","Wildlife Conservation Society"]
[null,null,null,null,null,null,null,null,null,null,null,{"$f":"IF(ISNUMBER(FIND(\"RES\",REFERENTES!$Q$2:$Q$1134)),REFERENTES!Q152,\"\")","v":""},{"$f":"REFERENTES!S152","v":0},null,147,0,1131,"X",null,null,"ZZZ",null,null,null,null,{"$f":"CONCATENATE(REFERENTES!T404,\"(\",REFERENTES!Q404,\")\")","v":"Ciénaga Manzanillo  B(MANZ-ZP1-CMZB-2)"},{"$f":"REFERENTES!P404","v":43818}]
[null,null,null,null,null,null,null,null,null,null,null,{"$f":"IF(ISNUMBER(FIND(\"RES\",REFERENTES!$Q$2:$Q$1134)),REFERENTES!Q153,\"\")","v":""},{"$f":"REFERENTES!S153","v":0},null,148,0,1131,"X",null,null,"ZZZ",null,null,null,null,{"$f":"CONCATENATE(REFERENTES!T405,\"(\",REFERENTES!Q405,\")\")","v":"Ciénaga Manzanillo -2(MANZ-ZP1-CMZ-1)"},{"$f":"REFERENTES!P405","v":43811}]
[null,null,null,null,null,null,null,null,null,null,null,{"$f":"IF(ISNUMBER(FIND(\"RES\",REFERENTES!$Q$2:$Q$1134)),REFERENTES!Q154,\"\")","v":""},{"$f":"REFERENTES!S154","v":0},null,149,0,1131,"X",null,null,"ZZZ",null,null,null,null,{"$f":"CONCATENATE(REFERENTES!T406,\"(\",REFERENTES!Q406,\")\")","v":"Ciénaga Manzanillo -3(MANZ-ZP1-CMZ-2)"},{"$f":"REFERENTES!P406","v":43813}]
[null,null,null,null,null,null,null,null,null,null,null,{"$f":"IF(ISNUMBER(FIND(\"RES\",REFERENTES!$Q$2:$Q$1134)),REFERENTES!Q155,\"\")","v":""},{"$f":"REFERENTES!S155","v":0},null,150,0,1131,"X",null,null,"ZZZ",null,null,null,null,{"$f":"CONCATENATE(REFERENTES!T407,\"(\",REFERENTES!Q407,\")\")","v":"Ciénaga Manzanillo B(MANZ-ZP1-CMZB-1)"},{"$f":"REFERENTES!P407","v":43816}]
[null,null,null,null,null,null,null,null,null,null,null,{"$f":"IF(ISNUMBER(FIND(\"RES\",REFERENTES!$Q$2:$Q$1134)),REFERENTES!Q156,\"\")","v":""},{"$f":"REFERENTES!S156","v":0},null,151,0,1131,"X",null,null,"ZZZ",null,null,null,null,{"$f":"CONCATENATE(REFERENTES!T408,\"(\",REFERENTES!Q408,\")\")","v":"Ciénaga Manzanillo-1(MABA-ZP1-Manzanillo-1)"},{"$f":"REFERENTES!P408","v":49325}]
[null,null,null,null,null,null,null,null,null,null,null,{"$f":"IF(ISNUMBER(FIND(\"RES\",REFERENTES!$Q$2:$Q$1134)),REFERENTES!Q157,\"\")","v":""},{"$f":"REFERENTES!S157","v":0},null,152,0,1131,"X",null,null,"ZZZ",null,null,null,null,{"$f":"CONCATENATE(REFERENTES!T409,\"(\",REFERENTES!Q409,\")\")","v":"Ciénaga Mestizos-1(BCIS,LIT-ZP1-CgMestizo-1)"},{"$f":"REFERENTES!P409","v":48766}]
[null,null,null,null,null,null,null,null,null,null,null,{"$f":"IF(ISNUMBER(FIND(\"RES\",REFERENTES!$Q$2:$Q$1134)),REFERENTES!Q158,\"\")","v":""},{"$f":"REFERENTES!S158","v":0},null,153,0,1131,"X",null,null,"ZZZ",null,null,null,null,{"$f":"CONCATENATE(REFERENTES!T410,\"(\",REFERENTES!Q410,\")\")","v":"Ciénaga Ostional-1(BCIS,EST-ZUS2-ostional.-1)"},{"$f":"REFERENTES!P410","v":45121}]
[null,null,null,null,null,null,null,null,null,null,null,{"$f":"IF(ISNUMBER(FIND(\"RES\",REFERENTES!$Q$2:$Q$1134)),REFERENTES!Q159,\"\")","v":""},{"$f":"REFERENTES!S159","v":0},null,154,0,1131,"X",null,null,"ZZZ",null,null,null,null,{"$f":"CONCATENATE(REFERENTES!T411,\"(\",REFERENTES!Q411,\")\")","v":"Ciénaga Remedia Pobre-1(BCIS,EST-ZUS1-remedia pobre.-1)"},{"$f":"REFERENTES!P411","v":45136}]
[null,null,null,null,null,null,null,null,null,null,null,{"$f":"IF(ISNUMBER(FIND(\"RES\",REFERENTES!$Q$2:$Q$1134)),REFERENTES!Q160,\"\")","v":""},{"$f":"REFERENTES!S160","v":0},null,155,0,1131,"X",null,null,"ZZZ",null,null,null,null,{"$f":"CONCATENATE(REFERENTES!T412,\"(\",REFERENTES!Q412,\")\")","v":"Ciénaga Rincon Grillo-1(BCIS,EST-ZUS4-el grillo-1)"},{"$f":"REFERENTES!P412","v":45125}]
[null,null,null,null,null,null,null,null,null,null,null,{"$f":"IF(ISNUMBER(FIND(\"RES\",REFERENTES!$Q$2:$Q$1134)),REFERENTES!Q161,\"\")","v":""},{"$f":"REFERENTES!S161","v":0},null,156,0,1131,"X",null,null,"ZZZ",null,null,null,null,{"$f":"CONCATENATE(REFERENTES!T413,\"(\",REFERENTES!Q413,\")\")","v":"Ciénaga Sabaletes -1(SABA-ZP1-CS-1)"},{"$f":"REFERENTES!P413","v":43631}]
[null,null,null,null,null,null,null,null,null,null,null,{"$f":"IF(ISNUMBER(FIND(\"RES\",REFERENTES!$Q$2:$Q$1134)),REFERENTES!Q162,\"\")","v":""},{"$f":"REFERENTES!S162","v":0},null,157,0,1131,"X",null,null,"ZZZ",null,null,null,null,{"$f":"CONCATENATE(REFERENTES!T414,\"(\",REFERENTES!Q414,\")\")","v":"Ciénaga Sabaletes -2(SABA-ZP1-CS-2)"},{"$f":"REFERENTES!P414","v":43820}]
[null,null,null,null,null,null,null,null,null,null,null,{"$f":"IF(ISNUMBER(FIND(\"RES\",REFERENTES!$Q$2:$Q$1134)),REFERENTES!Q163,\"\")","v":""},{"$f":"REFERENTES!S163","v":0},null,158,0,1131,"X",null,null,"ZZZ",null,null,null,null,{"$f":"CONCATENATE(REFERENTES!T415,\"(\",REFERENTES!Q415,\")\")","v":"Ciénaga Sabaletes P-1(SABA-ZP1-CSP-1)"},{"$f":"REFERENTES!P415","v":43620}]
[null,null,null,null,null,null,null,null,null,null,null,{"$f":"IF(ISNUMBER(FIND(\"RES\",REFERENTES!$Q$2:$Q$1134)),REFERENTES!Q164,\"\")","v":""},{"$f":"REFERENTES!S164","v":0},null,159,0,1131,"X",null,null,"ZZZ",null,null,null,null,{"$f":"CONCATENATE(REFERENTES!T416,\"(\",REFERENTES!Q416,\")\")","v":"Ciénaga Sabaletes P-2(SABA-ZP1-CSP-2)"},{"$f":"REFERENTES!P416","v":43628}]
[null,null,null,null,null,null,null,null,null,null,null,{"$f":"IF(ISNUMBER(FIND(\"RES\",REFERENTES!$Q$2:$Q$1134)),REFERENTES!Q165,\"\")","v":""},{"$f":"REFERENTES!S165","v":0},null,160,0,1131,"X",null,null,"ZZZ",null,null,null,null,{"$f":"CONCATENATE(REFERENTES!T417,\"(\",REFERENTES!Q417,\")\")","v":"Ciénaga Soledad(BCIS,EST-ZR1-soledad-1)"},{"$f":"REFERENTES!P417","v":45142}]
[null,null,null,null,null,null,null,null,null,null,null,{"$f":"IF(ISNUMBER(FIND(\"RES\",REFERENTES!$Q$2:$Q$1134)),REFERENTES!Q166,\"\")","v":""},{"$f":"REFERENTES!S166","v":0},null,161,0,1131,"X",null,null,"ZZZ",null,null,null,null,{"$f":"CONCATENATE(REFERENTES!T418,\"(\",REFERENTES!Q418,\")\")","v":"Ciénaga la Balsa-1(BCIS,LIT-ZUS1-CñBalsa-1)"},{"$f":"REFERENTES!P418","v":48769}]
[null,null,null,null,null,null,null,null,null,null,null,{"$f":"IF(ISNUMBER(FIND(\"RES\",REFERENTES!$Q$2:$Q$1134)),REFERENTES!Q167,\"\")","v":""},{"$f":"REFERENTES!S167","v":0},null,162,0,1131,"X",null,null,"ZZZ",null,null,null,null,{"$f":"CONCATENATE(REFERENTES!T419,\"(\",REFERENTES!Q419,\")\")","v":"Cocoplum parcela circular-2(Cocoplum PPC-2)"},{"$f":"REFERENTES!P419","v":55552}]
[null,null,null,null,null,null,null,null,null,null,null,{"$f":"IF(ISNUMBER(FIND(\"RES\",REFERENTES!$Q$2:$Q$1134)),REFERENTES!Q168,\"\")","v":""},{"$f":"REFERENTES!S168","v":0},null,163,0,1131,"X",null,null,"ZZZ",null,null,null,null,{"$f":"CONCATENATE(REFERENTES!T420,\"(\",REFERENTES!Q420,\")\")","v":"Cocoplum parcela circular-3(Cocoplum PPC-3)"},{"$f":"REFERENTES!P420","v":55553}]
[null,null,null,null,null,null,null,null,null,null,null,{"$f":"IF(ISNUMBER(FIND(\"RES\",REFERENTES!$Q$2:$Q$1134)),REFERENTES!Q169,\"\")","v":""},{"$f":"REFERENTES!S169","v":0},null,164,0,1131,"X",null,null,"ZZZ",null,null,null,null,{"$f":"CONCATENATE(REFERENTES!T421,\"(\",REFERENTES!Q421,\")\")","v":"Cocoplum_B-1(COCO-ZP1-CO-1)"},{"$f":"REFERENTES!P421","v":41479}]
[null,null,null,null,null,null,null,null,null,null,null,{"$f":"IF(ISNUMBER(FIND(\"RES\",REFERENTES!$Q$2:$Q$1134)),REFERENTES!Q170,\"\")","v":""},{"$f":"REFERENTES!S170","v":0},null,165,0,1131,"X",null,null,"ZZZ",null,null,null,null,{"$f":"CONCATENATE(REFERENTES!T422,\"(\",REFERENTES!Q422,\")\")","v":"Concho(JURA-ZUS1-Concho-1)"},{"$f":"REFERENTES!P422","v":45575}]
[null,null,null,null,null,null,null,null,null,null,null,{"$f":"IF(ISNUMBER(FIND(\"RES\",REFERENTES!$Q$2:$Q$1134)),REFERENTES!Q171,\"\")","v":""},{"$f":"REFERENTES!S171","v":0},null,166,0,1131,"X",null,null,"ZZZ",null,null,null,null,{"$f":"CONCATENATE(REFERENTES!T423,\"(\",REFERENTES!Q423,\")\")","v":"Costa Verde P-2(COR-ZP1-CtaVerde-2)"},{"$f":"REFERENTES!P423","v":45529}]
[null,null,null,null,null,null,null,null,null,null,null,{"$f":"IF(ISNUMBER(FIND(\"RES\",REFERENTES!$Q$2:$Q$1134)),REFERENTES!Q172,\"\")","v":""},{"$f":"REFERENTES!S172","v":0},null,167,0,1131,"X",null,null,"ZZZ",null,null,null,null,{"$f":"CONCATENATE(REFERENTES!T424,\"(\",REFERENTES!Q424,\")\")","v":"Costa Verde P1(COR-ZP1-CtaVerde-1)"},{"$f":"REFERENTES!P424","v":45301}]
[null,null,null,null,null,null,null,null,null,null,null,{"$f":"IF(ISNUMBER(FIND(\"RES\",REFERENTES!$Q$2:$Q$1134)),REFERENTES!Q173,\"\")","v":""},{"$f":"REFERENTES!S173","v":0},null,168,0,1131,"X",null,null,"ZZZ",null,null,null,null,{"$f":"CONCATENATE(REFERENTES!T425,\"(\",REFERENTES!Q425,\")\")","v":"Costa Verde R-2(COR-ZR1-CtaVerde-2)"},{"$f":"REFERENTES!P425","v":45531}]
[null,null,null,null,null,null,null,null,null,null,null,{"$f":"IF(ISNUMBER(FIND(\"RES\",REFERENTES!$Q$2:$Q$1134)),REFERENTES!Q174,\"\")","v":""},{"$f":"REFERENTES!S174","v":0},null,169,0,1131,"X",null,null,"ZZZ",null,null,null,null,{"$f":"CONCATENATE(REFERENTES!T426,\"(\",REFERENTES!Q426,\")\")","v":"Costa Verde R1(COR-ZR1-CtaVerde-1)"},{"$f":"REFERENTES!P426","v":45297}]
[null,null,null,null,null,null,null,null,null,null,null,{"$f":"IF(ISNUMBER(FIND(\"RES\",REFERENTES!$Q$2:$Q$1134)),REFERENTES!Q175,\"\")","v":""},{"$f":"REFERENTES!S175","v":0},null,170,0,1131,"X",null,null,"ZZZ",null,null,null,null,{"$f":"CONCATENATE(REFERENTES!T427,\"(\",REFERENTES!Q427,\")\")","v":"Cuerval(CUER-ZP2-CUERVAL-1)"},{"$f":"REFERENTES!P427","v":45489}]
[null,null,null,null,null,null,null,null,null,null,null,{"$f":"IF(ISNUMBER(FIND(\"RES\",REFERENTES!$Q$2:$Q$1134)),REFERENTES!Q176,\"\")","v":""},{"$f":"REFERENTES!S176","v":0},null,171,0,1131,"X",null,null,"ZZZ",null,null,null,null,{"$f":"CONCATENATE(REFERENTES!T428,\"(\",REFERENTES!Q428,\")\")","v":"Don Diego(DDGO-SZ1-DDIE-1)"},{"$f":"REFERENTES!P428","v":40974}]
[null,null,null,null,null,null,null,null,null,null,null,{"$f":"IF(ISNUMBER(FIND(\"RES\",REFERENTES!$Q$2:$Q$1134)),REFERENTES!Q177,\"\")","v":""},{"$f":"REFERENTES!S177","v":0},null,172,0,1131,"X",null,null,"ZZZ",null,null,null,null,{"$f":"CONCATENATE(REFERENTES!T429,\"(\",REFERENTES!Q429,\")\")","v":"Don Diego(DDGO-ZR1-DnDieg-1)"},{"$f":"REFERENTES!P429","v":45330}]
[null,null,null,null,null,null,null,null,null,null,null,{"$f":"IF(ISNUMBER(FIND(\"RES\",REFERENTES!$Q$2:$Q$1134)),REFERENTES!Q178,\"\")","v":""},{"$f":"REFERENTES!S178","v":0},null,173,0,1131,"X",null,null,"ZZZ",null,null,null,null,{"$f":"CONCATENATE(REFERENTES!T430,\"(\",REFERENTES!Q430,\")\")","v":"Don Diego-1(DDGO-ZP2-DnDieg-1)"},{"$f":"REFERENTES!P430","v":45326}]
[null,null,null,null,null,null,null,null,null,null,null,{"$f":"IF(ISNUMBER(FIND(\"RES\",REFERENTES!$Q$2:$Q$1134)),REFERENTES!Q179,\"\")","v":""},{"$f":"REFERENTES!S179","v":0},null,174,0,1131,"X",null,null,"ZZZ",null,null,null,null,{"$f":"CONCATENATE(REFERENTES!T431,\"(\",REFERENTES!Q431,\")\")","v":"Don Diego-2(DDGO-ZP2-DnDieg-2)"},{"$f":"REFERENTES!P431","v":45545}]
[null,null,null,null,null,null,null,null,null,null,null,{"$f":"IF(ISNUMBER(FIND(\"RES\",REFERENTES!$Q$2:$Q$1134)),REFERENTES!Q180,\"\")","v":""},{"$f":"REFERENTES!S180","v":0},null,175,0,1131,"X",null,null,"ZZZ",null,null,null,null,{"$f":"CONCATENATE(REFERENTES!T432,\"(\",REFERENTES!Q432,\")\")","v":"Don Diego-2(DDGO-ZR1-DnDieg-2)"},{"$f":"REFERENTES!P432","v":45332}]
[null,null,null,null,null,null,null,null,null,null,null,{"$f":"IF(ISNUMBER(FIND(\"RES\",REFERENTES!$Q$2:$Q$1134)),REFERENTES!Q181,\"\")","v":""},{"$f":"REFERENTES!S181","v":0},null,176,0,1131,"X",null,null,"ZZZ",null,null,null,null,{"$f":"CONCATENATE(REFERENTES!T433,\"(\",REFERENTES!Q433,\")\")","v":"Don Diego-3(DDGO-ZR1-DnDieg-3)"},{"$f":"REFERENTES!P433","v":45541}]
[null,null,null,null,null,null,null,null,null,null,null,{"$f":"IF(ISNUMBER(FIND(\"RES\",REFERENTES!$Q$2:$Q$1134)),REFERENTES!Q182,\"\")","v":""},{"$f":"REFERENTES!S182","v":0},null,177,0,1131,"X",null,null,"ZZZ",null,null,null,null,{"$f":"CONCATENATE(REFERENTES!T434,\"(\",REFERENTES!Q434,\")\")","v":"Don Diego-4(DDGO-ZR1-DnDieg-4)"},{"$f":"REFERENTES!P434","v":45543}]
[null,null,null,null,null,null,null,null,null,null,null,{"$f":"IF(ISNUMBER(FIND(\"RES\",REFERENTES!$Q$2:$Q$1134)),REFERENTES!Q183,\"\")","v":""},{"$f":"REFERENTES!S183","v":0},null,178,0,1131,"X",null,null,"ZZZ",null,null,null,null,{"$f":"CONCATENATE(REFERENTES!T435,\"(\",REFERENTES!Q435,\")\")","v":"Ducto Arroyo Límón(MUSI-ZP1-DUAL-2)"},{"$f":"REFERENTES!P435","v":43781}]
[null,null,null,null,null,null,null,null,null,null,null,{"$f":"IF(ISNUMBER(FIND(\"RES\",REFERENTES!$Q$2:$Q$1134)),REFERENTES!Q184,\"\")","v":""},{"$f":"REFERENTES!S184","v":0},null,179,0,1131,"X",null,null,"ZZZ",null,null,null,null,{"$f":"CONCATENATE(REFERENTES!T436,\"(\",REFERENTES!Q436,\")\")","v":"EC_Parche SO(MUSI-ZP1-ECPSO-1)"},{"$f":"REFERENTES!P436","v":43828}]
[null,null,null,null,null,null,null,null,null,null,null,{"$f":"IF(ISNUMBER(FIND(\"RES\",REFERENTES!$Q$2:$Q$1134)),REFERENTES!Q185,\"\")","v":""},{"$f":"REFERENTES!S185","v":0},null,180,0,1131,"X",null,null,"ZZZ",null,null,null,null,{"$f":"CONCATENATE(REFERENTES!T437,\"(\",REFERENTES!Q437,\")\")","v":"EC_Parche SO(MUSI-ZP1-ECPSO-2)"},{"$f":"REFERENTES!P437","v":43830}]
[null,null,null,null,null,null,null,null,null,null,null,{"$f":"IF(ISNUMBER(FIND(\"RES\",REFERENTES!$Q$2:$Q$1134)),REFERENTES!Q186,\"\")","v":""},{"$f":"REFERENTES!S186","v":0},null,181,0,1131,"X",null,null,"ZZZ",null,null,null,null,{"$f":"CONCATENATE(REFERENTES!T438,\"(\",REFERENTES!Q438,\")\")","v":"E_La Virgen(JPVI-ZR1-VirgenOriente-1)"},{"$f":"REFERENTES!P438","v":44635}]
[null,null,null,null,null,null,null,null,null,null,null,{"$f":"IF(ISNUMBER(FIND(\"RES\",REFERENTES!$Q$2:$Q$1134)),REFERENTES!Q187,\"\")","v":""},{"$f":"REFERENTES!S187","v":0},null,182,0,1131,"X",null,null,"ZZZ",null,null,null,null,{"$f":"CONCATENATE(REFERENTES!T439,\"(\",REFERENTES!Q439,\")\")","v":"El Caval(BCIS,EST-ZR1-el claval-1)"},{"$f":"REFERENTES!P439","v":45103}]
[null,null,null,null,null,null,null,null,null,null,null,{"$f":"IF(ISNUMBER(FIND(\"RES\",REFERENTES!$Q$2:$Q$1134)),REFERENTES!Q188,\"\")","v":""},{"$f":"REFERENTES!S188","v":0},null,183,0,1131,"X",null,null,"ZZZ",null,null,null,null,{"$f":"CONCATENATE(REFERENTES!T440,\"(\",REFERENTES!Q440,\")\")","v":"El Claval(CCI,Sinu-ZUS1-CLAVAL-1)"},{"$f":"REFERENTES!P440","v":45012}]
[null,null,null,null,null,null,null,null,null,null,null,{"$f":"IF(ISNUMBER(FIND(\"RES\",REFERENTES!$Q$2:$Q$1134)),REFERENTES!Q189,\"\")","v":""},{"$f":"REFERENTES!S189","v":0},null,184,0,1131,"X",null,null,"ZZZ",null,null,null,null,{"$f":"CONCATENATE(REFERENTES!T441,\"(\",REFERENTES!Q441,\")\")","v":"El Cove -1(El Cove-ZP1-El cove-1)"},{"$f":"REFERENTES!P441","v":48990}]
[null,null,null,null,null,null,null,null,null,null,null,{"$f":"IF(ISNUMBER(FIND(\"RES\",REFERENTES!$Q$2:$Q$1134)),REFERENTES!Q190,\"\")","v":""},{"$f":"REFERENTES!S190","v":0},null,185,0,1131,"X",null,null,"ZZZ",null,null,null,null,{"$f":"CONCATENATE(REFERENTES!T442,\"(\",REFERENTES!Q442,\")\")","v":"El Cove parcela circular-2(El Cove PPC-2)"},{"$f":"REFERENTES!P442","v":55556}]
[null,null,null,null,null,null,null,null,null,null,null,{"$f":"IF(ISNUMBER(FIND(\"RES\",REFERENTES!$Q$2:$Q$1134)),REFERENTES!Q191,\"\")","v":""},{"$f":"REFERENTES!S191","v":0},null,186,0,1131,"X",null,null,"ZZZ",null,null,null,null,{"$f":"CONCATENATE(REFERENTES!T443,\"(\",REFERENTES!Q443,\")\")","v":"El Mohan-1(BARU-ZR1-Mohán-1)"},{"$f":"REFERENTES!P443","v":44592}]
[null,null,null,null,null,null,null,null,null,null,null,{"$f":"IF(ISNUMBER(FIND(\"RES\",REFERENTES!$Q$2:$Q$1134)),REFERENTES!Q192,\"\")","v":""},{"$f":"REFERENTES!S192","v":0},null,187,0,1131,"X",null,null,"ZZZ",null,null,null,null,{"$f":"CONCATENATE(REFERENTES!T444,\"(\",REFERENTES!Q444,\")\")","v":"El Muerto(ISCUANDE-ZR1-EL MUERTO-1)"},{"$f":"REFERENTES!P444","v":45905}]
[null,null,null,null,null,null,null,null,null,null,null,{"$f":"IF(ISNUMBER(FIND(\"RES\",REFERENTES!$Q$2:$Q$1134)),REFERENTES!Q193,\"\")","v":""},{"$f":"REFERENTES!S193","v":0},null,188,0,1131,"X",null,null,"ZZZ",null,null,null,null,{"$f":"CONCATENATE(REFERENTES!T445,\"(\",REFERENTES!Q445,\")\")","v":"Ensenada Miquitos(ENSENADA-ZP2-MIQUITOS-1 MIQUITOS CURAY)"},{"$f":"REFERENTES!P445","v":45404}]
[null,null,null,null,null,null,null,null,null,null,null,{"$f":"IF(ISNUMBER(FIND(\"RES\",REFERENTES!$Q$2:$Q$1134)),REFERENTES!Q194,\"\")","v":""},{"$f":"REFERENTES!S194","v":0},null,189,0,1131,"X",null,null,"ZZZ",null,null,null,null,{"$f":"CONCATENATE(REFERENTES!T446,\"(\",REFERENTES!Q446,\")\")","v":"Ensenada Tribuga -1(Tribugá-ZP1-Enstrib-1)"},{"$f":"REFERENTES!P446","v":45318}]
[null,null,null,null,null,null,null,null,null,null,null,{"$f":"IF(ISNUMBER(FIND(\"RES\",REFERENTES!$Q$2:$Q$1134)),REFERENTES!Q195,\"\")","v":""},{"$f":"REFERENTES!S195","v":0},null,190,0,1131,"X",null,null,"ZZZ",null,null,null,null,{"$f":"CONCATENATE(REFERENTES!T447,\"(\",REFERENTES!Q447,\")\")","v":"Ensenada de Rionegro -3(ERIO-ZP8-Errio-3)"},{"$f":"REFERENTES!P447","v":48576}]
[null,null,null,null,null,null,null,null,null,null,null,{"$f":"IF(ISNUMBER(FIND(\"RES\",REFERENTES!$Q$2:$Q$1134)),REFERENTES!Q196,\"\")","v":""},{"$f":"REFERENTES!S196","v":0},null,191,0,1131,"X",null,null,"ZZZ",null,null,null,null,{"$f":"CONCATENATE(REFERENTES!T448,\"(\",REFERENTES!Q448,\")\")","v":"Ensenada de Rionegro -4(ERIO-ZP8-Errio-4)"},{"$f":"REFERENTES!P448","v":48578}]
[null,null,null,null,null,null,null,null,null,null,null,{"$f":"IF(ISNUMBER(FIND(\"RES\",REFERENTES!$Q$2:$Q$1134)),REFERENTES!Q197,\"\")","v":""},{"$f":"REFERENTES!S197","v":0},null,192,0,1131,"X",null,null,"ZZZ",null,null,null,null,{"$f":"CONCATENATE(REFERENTES!T449,\"(\",REFERENTES!Q449,\")\")","v":"Ensenada de Rionegro.-1(ERIO-ZP8-Erio-1)"},{"$f":"REFERENTES!P449","v":48417}]
[null,null,null,null,null,null,null,null,null,null,null,{"$f":"IF(ISNUMBER(FIND(\"RES\",REFERENTES!$Q$2:$Q$1134)),REFERENTES!Q198,\"\")","v":""},{"$f":"REFERENTES!S198","v":0},null,193,0,{"$f":"IF(P198=0,MAX($O$6:$O$1135)+1,O198)","v":1131},{"$f":"IFERROR(VLOOKUP(SMALL($Q$6:$Q$1135,O198),$O$6:$P$1135,2,FALSE),\"X\")","v":"X"},null,null,{"$f":"IF(ISNUMBER(SEARCH($U$5,$R$6:$R$190))=TRUE,R198,\"ZZZ\")","v":"ZZZ"},null,null,null,null,{"$f":"CONCATENATE(REFERENTES!T450,\"(\",REFERENTES!Q450,\")\")","v":"Ensenada de Rionegro.-2(ERIO-ZP8-Erio-2)"},{"$f":"REFERENTES!P450","v":48419}]
[null,null,null,null,null,null,null,null,null,null,null,{"$f":"IF(ISNUMBER(FIND(\"RES\",REFERENTES!$Q$2:$Q$1134)),REFERENTES!Q199,\"\")","v":""},{"$f":"REFERENTES!S199","v":0},null,194,{"$f":"IF(L199=\"\",0,L199)","v":0},1131,"X",null,null,"ZZZ",null,null,null,null,{"$f":"CONCATENATE(REFERENTES!T451,\"(\",REFERENTES!Q451,\")\")","v":"Ensenada de los Muertos-1(NAVI-ZP1-ENMU-1)"},{"$f":"REFERENTES!P451","v":43668}]
[null,null,null,null,null,null,null,null,null,null,null,{"$f":"IF(ISNUMBER(FIND(\"RES\",REFERENTES!$Q$2:$Q$1134)),REFERENTES!Q200,\"\")","v":""},{"$f":"REFERENTES!S200","v":0},null,195,0,1131,"X",null,null,"ZZZ",null,null,null,null,{"$f":"CONCATENATE(REFERENTES!T452,\"(\",REFERENTES!Q452,\")\")","v":"Ensenada de los Muertos-2(NAVI-ZP1-ENMU-2)"},{"$f":"REFERENTES!P452","v":43767}]
[null,null,null,null,null,null,null,null,null,null,null,{"$f":"IF(ISNUMBER(FIND(\"RES\",REFERENTES!$Q$2:$Q$1134)),REFERENTES!Q201,\"\")","v":""},{"$f":"REFERENTES!S201","v":0},null,196,0,1131,"X",null,null,"ZZZ",null,null,null,null,{"$f":"CONCATENATE(REFERENTES!T453,\"(\",REFERENTES!Q453,\")\")","v":"Estero Aguacate-1(BB-ZR2-EAg-1)"},{"$f":"REFERENTES!P453","v":47534}]
[null,null,null,null,null,null,null,null,null,null,null,{"$f":"IF(ISNUMBER(FIND(\"RES\",REFERENTES!$Q$2:$Q$1134)),REFERENTES!Q202,\"\")","v":""},{"$f":"REFERENTES!S202","v":0},null,197,0,1131,"X",null,null,"ZZZ",null,null,null,null,{"$f":"CONCATENATE(REFERENTES!T454,\"(\",REFERENTES!Q454,\")\")","v":"Estero Covado(STRITA-ZR1-ECOVADO-1)"},{"$f":"REFERENTES!P454","v":45505}]
[null,null,null,null,null,null,null,null,null,null,null,{"$f":"IF(ISNUMBER(FIND(\"RES\",REFERENTES!$Q$2:$Q$1134)),REFERENTES!Q203,\"\")","v":""},{"$f":"REFERENTES!S203","v":0},null,198,0,1131,"X",null,null,"ZZZ",null,null,null,null,{"$f":"CONCATENATE(REFERENTES!T455,\"(\",REFERENTES!Q455,\")\")","v":"Estero Lagartero(CANT-ZP1-ELAG-1)"},{"$f":"REFERENTES!P455","v":42257}]
[null,null,null,null,null,null,null,null,null,null,null,{"$f":"IF(ISNUMBER(FIND(\"RES\",REFERENTES!$Q$2:$Q$1134)),REFERENTES!Q204,\"\")","v":""},{"$f":"REFERENTES!S204","v":0},null,199,0,1131,"X",null,null,"ZZZ",null,null,null,null,{"$f":"CONCATENATE(REFERENTES!T456,\"(\",REFERENTES!Q456,\")\")","v":"Estero Pasadero(YURU-ZP2-YEP-1)"},{"$f":"REFERENTES!P456","v":45832}]
[null,null,null,null,null,null,null,null,null,null,null,{"$f":"IF(ISNUMBER(FIND(\"RES\",REFERENTES!$Q$2:$Q$1134)),REFERENTES!Q205,\"\")","v":""},{"$f":"REFERENTES!S205","v":0},null,200,0,1131,"X",null,null,"ZZZ",null,null,null,null,{"$f":"CONCATENATE(REFERENTES!T457,\"(\",REFERENTES!Q457,\")\")","v":"Estero Piñal(BB-ZR2-EAg-2)"},{"$f":"REFERENTES!P457","v":47536}]
[null,null,null,null,null,null,null,null,null,null,null,{"$f":"IF(ISNUMBER(FIND(\"RES\",REFERENTES!$Q$2:$Q$1134)),REFERENTES!Q206,\"\")","v":""},{"$f":"REFERENTES!S206","v":0},null,201,0,1131,"X",null,null,"ZZZ",null,null,null,null,{"$f":"CONCATENATE(REFERENTES!T458,\"(\",REFERENTES!Q458,\")\")","v":"Estero Real(TIMB-ZR2-EREAL-1)"},{"$f":"REFERENTES!P458","v":45478}]
[null,null,null,null,null,null,null,null,null,null,null,{"$f":"IF(ISNUMBER(FIND(\"RES\",REFERENTES!$Q$2:$Q$1134)),REFERENTES!Q207,\"\")","v":""},{"$f":"REFERENTES!S207","v":0},null,202,0,1131,"X",null,null,"ZZZ",null,null,null,null,{"$f":"CONCATENATE(REFERENTES!T459,\"(\",REFERENTES!Q459,\")\")","v":"Estero San Antonio -1(Piñtcb-ZR1-EA-1)"},{"$f":"REFERENTES!P459","v":47510}]
[null,null,null,null,null,null,null,null,null,null,null,{"$f":"IF(ISNUMBER(FIND(\"RES\",REFERENTES!$Q$2:$Q$1134)),REFERENTES!Q208,\"\")","v":""},{"$f":"REFERENTES!S208","v":0},null,203,0,1131,"X",null,null,"ZZZ",null,null,null,null,{"$f":"CONCATENATE(REFERENTES!T460,\"(\",REFERENTES!Q460,\")\")","v":"Estero San Antonio -2(Piñtcb-ZR1-EA-2)"},{"$f":"REFERENTES!P460","v":47512}]
[null,null,null,null,null,null,null,null,null,null,null,{"$f":"IF(ISNUMBER(FIND(\"RES\",REFERENTES!$Q$2:$Q$1134)),REFERENTES!Q209,\"\")","v":""},{"$f":"REFERENTES!S209","v":0},null,204,0,1131,"X",null,null,"ZZZ",null,null,null,null,{"$f":"CONCATENATE(REFERENTES!T461,\"(\",REFERENTES!Q461,\")\")","v":"Estero San Miguel(RAPO-ZR1-E.SaM-1)"},{"$f":"REFERENTES!P461","v":46022}]
[null,null,null,null,null,null,null,null,null,null,null,{"$f":"IF(ISNUMBER(FIND(\"RES\",REFERENTES!$Q$2:$Q$1134)),REFERENTES!Q210,\"\")","v":""},{"$f":"REFERENTES!S210","v":0},null,205,0,1131,"X",null,null,"ZZZ",null,null,null,null,{"$f":"CONCATENATE(REFERENTES!T462,\"(\",REFERENTES!Q462,\")\")","v":"Estero Santa Rita-1(BNAY-ZR1-ESR-1)"},{"$f":"REFERENTES!P462","v":42253}]
[null,null,null,null,null,null,null,null,null,null,null,{"$f":"IF(ISNUMBER(FIND(\"RES\",REFERENTES!$Q$2:$Q$1134)),REFERENTES!Q211,\"\")","v":""},{"$f":"REFERENTES!S211","v":0},null,206,0,1131,"X",null,null,"ZZZ",null,null,null,null,{"$f":"CONCATENATE(REFERENTES!T463,\"(\",REFERENTES!Q463,\")\")","v":"Estero Zapallo (FRAPIZ-ZR1-ESZA-2)"},{"$f":"REFERENTES!P463","v":42816}]
[null,null,null,null,null,null,null,null,null,null,null,{"$f":"IF(ISNUMBER(FIND(\"RES\",REFERENTES!$Q$2:$Q$1134)),REFERENTES!Q212,\"\")","v":""},{"$f":"REFERENTES!S212","v":0},null,207,0,1131,"X",null,null,"ZZZ",null,null,null,null,{"$f":"CONCATENATE(REFERENTES!T464,\"(\",REFERENTES!Q464,\")\")","v":"Firme Bonito(ANCHI-ZR1-AFB-1)"},{"$f":"REFERENTES!P464","v":45888}]
[null,null,null,null,null,null,null,null,null,null,null,{"$f":"IF(ISNUMBER(FIND(\"RES\",REFERENTES!$Q$2:$Q$1134)),REFERENTES!Q213,\"\")","v":""},{"$f":"REFERENTES!S213","v":0},null,208,0,1131,"X",null,null,"ZZZ",null,null,null,null,{"$f":"CONCATENATE(REFERENTES!T465,\"(\",REFERENTES!Q465,\")\")","v":"Guacamayas(GUAC-ZP1-GUACA-1)"},{"$f":"REFERENTES!P465","v":42211}]
[null,null,null,null,null,null,null,null,null,null,null,{"$f":"IF(ISNUMBER(FIND(\"RES\",REFERENTES!$Q$2:$Q$1134)),REFERENTES!Q214,\"\")","v":""},{"$f":"REFERENTES!S214","v":0},null,209,0,1131,"X",null,null,"ZZZ",null,null,null,null,{"$f":"CONCATENATE(REFERENTES!T466,\"(\",REFERENTES!Q466,\")\")","v":"Guachaca(GUA-SZ1-GUA-1)"},{"$f":"REFERENTES!P466","v":40987}]
[null,null,null,null,null,null,null,null,null,null,null,{"$f":"IF(ISNUMBER(FIND(\"RES\",REFERENTES!$Q$2:$Q$1134)),REFERENTES!Q215,\"\")","v":""},{"$f":"REFERENTES!S215","v":0},null,210,0,1131,"X",null,null,"ZZZ",null,null,null,null,{"$f":"CONCATENATE(REFERENTES!T467,\"(\",REFERENTES!Q467,\")\")","v":"Guachaca-1(GUA-ZP4-Guachc-1)"},{"$f":"REFERENTES!P467","v":45339}]
[null,null,null,null,null,null,null,null,null,null,null,{"$f":"IF(ISNUMBER(FIND(\"RES\",REFERENTES!$Q$2:$Q$1134)),REFERENTES!Q216,\"\")","v":""},{"$f":"REFERENTES!S216","v":0},null,211,0,1131,"X",null,null,"ZZZ",null,null,null,null,{"$f":"CONCATENATE(REFERENTES!T468,\"(\",REFERENTES!Q468,\")\")","v":"Guachaca-2(GUA-ZP4-Guachc-2)"},{"$f":"REFERENTES!P468","v":45547}]
[null,null,null,null,null,null,null,null,null,null,null,{"$f":"IF(ISNUMBER(FIND(\"RES\",REFERENTES!$Q$2:$Q$1134)),REFERENTES!Q217,\"\")","v":""},{"$f":"REFERENTES!S217","v":0},null,212,0,1131,"X",null,null,"ZZZ",null,null,null,null,{"$f":"CONCATENATE(REFERENTES!T469,\"(\",REFERENTES!Q469,\")\")","v":"Guadualito(DGUA-ZR3-DG-1)"},{"$f":"REFERENTES!P469","v":45858}]
[null,null,null,null,null,null,null,null,null,null,null,{"$f":"IF(ISNUMBER(FIND(\"RES\",REFERENTES!$Q$2:$Q$1134)),REFERENTES!Q218,\"\")","v":""},{"$f":"REFERENTES!S218","v":0},null,213,0,1131,"X",null,null,"ZZZ",null,null,null,null,{"$f":"CONCATENATE(REFERENTES!T470,\"(\",REFERENTES!Q470,\")\")","v":"Hojas Blancas(esza-ZUS1-Hoblan-1)"},{"$f":"REFERENTES!P470","v":44561}]
[null,null,null,null,null,null,null,null,null,null,null,{"$f":"IF(ISNUMBER(FIND(\"RES\",REFERENTES!$Q$2:$Q$1134)),REFERENTES!Q219,\"\")","v":""},{"$f":"REFERENTES!S219","v":0},null,214,0,1131,"X",null,null,"ZZZ",null,null,null,null,{"$f":"CONCATENATE(REFERENTES!T471,\"(\",REFERENTES!Q471,\")\")","v":"Humanes Mar(ANCHI-ZR1-AHM-1)"},{"$f":"REFERENTES!P471","v":45852}]
[null,null,null,null,null,null,null,null,null,null,null,{"$f":"IF(ISNUMBER(FIND(\"RES\",REFERENTES!$Q$2:$Q$1134)),REFERENTES!Q220,\"\")","v":""},{"$f":"REFERENTES!S220","v":0},null,215,0,1131,"X",null,null,"ZZZ",null,null,null,null,{"$f":"CONCATENATE(REFERENTES!T472,\"(\",REFERENTES!Q472,\")\")","v":"Ingesa(BCAR-ZP1-Ingesa-1)"},{"$f":"REFERENTES!P472","v":44609}]
[null,null,null,null,null,null,null,null,null,null,null,{"$f":"IF(ISNUMBER(FIND(\"RES\",REFERENTES!$Q$2:$Q$1134)),REFERENTES!Q221,\"\")","v":""},{"$f":"REFERENTES!S221","v":0},null,216,0,1131,"X",null,null,"ZZZ",null,null,null,null,{"$f":"CONCATENATE(REFERENTES!T473,\"(\",REFERENTES!Q473,\")\")","v":"Isla Boqueron -1(CGSM-SZ1-IBoqrn-1)"},{"$f":"REFERENTES!P473","v":45281}]
[null,null,null,null,null,null,null,null,null,null,null,{"$f":"IF(ISNUMBER(FIND(\"RES\",REFERENTES!$Q$2:$Q$1134)),REFERENTES!Q222,\"\")","v":""},{"$f":"REFERENTES!S222","v":0},null,217,0,1131,"X",null,null,"ZZZ",null,null,null,null,{"$f":"CONCATENATE(REFERENTES!T474,\"(\",REFERENTES!Q474,\")\")","v":"Isla Boqueron -2(CGSM-SZ1-IBoqrn-2)"},{"$f":"REFERENTES!P474","v":45283}]
[null,null,null,null,null,null,null,null,null,null,null,{"$f":"IF(ISNUMBER(FIND(\"RES\",REFERENTES!$Q$2:$Q$1134)),REFERENTES!Q223,\"\")","v":""},{"$f":"REFERENTES!S223","v":0},null,218,0,1131,"X",null,null,"ZZZ",null,null,null,null,{"$f":"CONCATENATE(REFERENTES!T475,\"(\",REFERENTES!Q475,\")\")","v":"Isla Boqueron -3(CGSM-SZ1-IBoqrn-3)"},{"$f":"REFERENTES!P475","v":45285}]
[null,null,null,null,null,null,null,null,null,null,null,{"$f":"IF(ISNUMBER(FIND(\"RES\",REFERENTES!$Q$2:$Q$1134)),REFERENTES!Q224,\"\")","v":""},{"$f":"REFERENTES!S224","v":0},null,219,0,1131,"X",null,null,"ZZZ",null,null,null,null,{"$f":"CONCATENATE(REFERENTES!T476,\"(\",REFERENTES!Q476,\")\")","v":"Isla Boqueron-4(CGSM-SZ1-IBoqrn-4)"},{"$f":"REFERENTES!P476","v":45555}]
[null,null,null,null,null,null,null,null,null,null,null,{"$f":"IF(ISNUMBER(FIND(\"RES\",REFERENTES!$Q$2:$Q$1134)),REFERENTES!Q225,\"\")","v":""},{"$f":"REFERENTES!S225","v":0},null,220,0,1131,"X",null,null,"ZZZ",null,null,null,null,{"$f":"CONCATENATE(REFERENTES!T477,\"(\",REFERENTES!Q477,\")\")","v":"Isla Boqueron-5(CGSM-SZ1-IBoqrn-5)"},{"$f":"REFERENTES!P477","v":45557}]
[null,null,null,null,null,null,null,null,null,null,null,{"$f":"IF(ISNUMBER(FIND(\"RES\",REFERENTES!$Q$2:$Q$1134)),REFERENTES!Q226,\"\")","v":""},{"$f":"REFERENTES!S226","v":0},null,221,0,1131,"X",null,null,"ZZZ",null,null,null,null,{"$f":"CONCATENATE(REFERENTES!T478,\"(\",REFERENTES!Q478,\")\")","v":"Isla Boqueron-6(CGSM-SZ1-IBoqrn-6)"},{"$f":"REFERENTES!P478","v":45559}]
[null,null,null,null,null,null,null,null,null,null,null,{"$f":"IF(ISNUMBER(FIND(\"RES\",REFERENTES!$Q$2:$Q$1134)),REFERENTES!Q227,\"\")","v":""},{"$f":"REFERENTES!S227","v":0},null,222,0,1131,"X",null,null,"ZZZ",null,null,null,null,{"$f":"CONCATENATE(REFERENTES!T479,\"(\",REFERENTES!Q479,\")\")","v":"Jesus Primera(BCIS,EST-ZUS1-Jesús primera -1)"},{"$f":"REFERENTES!P479","v":45151}]
[null,null,null,null,null,null,null,null,null,null,null,{"$f":"IF(ISNUMBER(FIND(\"RES\",REFERENTES!$Q$2:$Q$1134)),REFERENTES!Q228,\"\")","v":""},{"$f":"REFERENTES!S228","v":0},null,223,0,1131,"X",null,null,"ZZZ",null,null,null,null,{"$f":"CONCATENATE(REFERENTES!T480,\"(\",REFERENTES!Q480,\")\")","v":"Jhon Mangrove parcela circular-3(Jhon Mangrove PPC-1)"},{"$f":"REFERENTES!P480","v":55572}]
[null,null,null,null,null,null,null,null,null,null,null,{"$f":"IF(ISNUMBER(FIND(\"RES\",REFERENTES!$Q$2:$Q$1134)),REFERENTES!Q229,\"\")","v":""},{"$f":"REFERENTES!S229","v":0},null,224,0,1131,"X",null,null,"ZZZ",null,null,null,null,{"$f":"CONCATENATE(REFERENTES!T481,\"(\",REFERENTES!Q481,\")\")","v":"Kilometro 3 -1(NAVI-ZP1-KM3-1)"},{"$f":"REFERENTES!P481","v":43665}]
[null,null,null,null,null,null,null,null,null,null,null,{"$f":"IF(ISNUMBER(FIND(\"RES\",REFERENTES!$Q$2:$Q$1134)),REFERENTES!Q230,\"\")","v":""},{"$f":"REFERENTES!S230","v":0},null,225,0,1131,"X",null,null,"ZZZ",null,null,null,null,{"$f":"CONCATENATE(REFERENTES!T482,\"(\",REFERENTES!Q482,\")\")","v":"Kilometro 3-2(NAVI-ZP1-KM3-2)"},{"$f":"REFERENTES!P482","v":43765}]
[null,null,null,null,null,null,null,null,null,null,null,{"$f":"IF(ISNUMBER(FIND(\"RES\",REFERENTES!$Q$2:$Q$1134)),REFERENTES!Q231,\"\")","v":""},{"$f":"REFERENTES!S231","v":0},null,226,0,1131,"X",null,null,"ZZZ",null,null,null,null,{"$f":"CONCATENATE(REFERENTES!T483,\"(\",REFERENTES!Q483,\")\")","v":"Kilómetro 22 -1(VIPIS-SZ1-KM22-1)"},{"$f":"REFERENTES!P483","v":45907}]
[null,null,null,null,null,null,null,null,null,null,null,{"$f":"IF(ISNUMBER(FIND(\"RES\",REFERENTES!$Q$2:$Q$1134)),REFERENTES!Q232,\"\")","v":""},{"$f":"REFERENTES!S232","v":0},null,227,0,1131,"X",null,null,"ZZZ",null,null,null,null,{"$f":"CONCATENATE(REFERENTES!T484,\"(\",REFERENTES!Q484,\")\")","v":"Kilómetro 22 -2(VIPIS-SZ1-KM22-2)"},{"$f":"REFERENTES!P484","v":45910}]
[null,null,null,null,null,null,null,null,null,null,null,{"$f":"IF(ISNUMBER(FIND(\"RES\",REFERENTES!$Q$2:$Q$1134)),REFERENTES!Q233,\"\")","v":""},{"$f":"REFERENTES!S233","v":0},null,228,0,1131,"X",null,null,"ZZZ",null,null,null,null,{"$f":"CONCATENATE(REFERENTES!T485,\"(\",REFERENTES!Q485,\")\")","v":"Kilómetro 22 -3(VIPIS-SZ1-KM22-3)"},{"$f":"REFERENTES!P485","v":45912}]
[null,null,null,null,null,null,null,null,null,null,null,{"$f":"IF(ISNUMBER(FIND(\"RES\",REFERENTES!$Q$2:$Q$1134)),REFERENTES!Q234,\"\")","v":""},{"$f":"REFERENTES!S234","v":0},null,229,0,1131,"X",null,null,"ZZZ",null,null,null,null,{"$f":"CONCATENATE(REFERENTES!T486,\"(\",REFERENTES!Q486,\")\")","v":"LAGO(OBRE;CHA-SZ1-LAGO-1)"},{"$f":"REFERENTES!P486","v":49587}]
[null,null,null,null,null,null,null,null,null,null,null,{"$f":"IF(ISNUMBER(FIND(\"RES\",REFERENTES!$Q$2:$Q$1134)),REFERENTES!Q235,\"\")","v":""},{"$f":"REFERENTES!S235","v":0},null,230,0,1131,"X",null,null,"ZZZ",null,null,null,null,{"$f":"CONCATENATE(REFERENTES!T487,\"(\",REFERENTES!Q487,\")\")","v":"La Alberca(BCIS,EST-ZUS1-la alberca-1)"},{"$f":"REFERENTES!P487","v":45139}]
[null,null,null,null,null,null,null,null,null,null,null,{"$f":"IF(ISNUMBER(FIND(\"RES\",REFERENTES!$Q$2:$Q$1134)),REFERENTES!Q236,\"\")","v":""},{"$f":"REFERENTES!S236","v":0},null,231,0,1131,"X",null,null,"ZZZ",null,null,null,null,{"$f":"CONCATENATE(REFERENTES!T488,\"(\",REFERENTES!Q488,\")\")","v":"La Boquilla(CBOQ-ZR1-BOQU-1)"},{"$f":"REFERENTES!P488","v":42198}]
[null,null,null,null,null,null,null,null,null,null,null,{"$f":"IF(ISNUMBER(FIND(\"RES\",REFERENTES!$Q$2:$Q$1134)),REFERENTES!Q237,\"\")","v":""},{"$f":"REFERENTES!S237","v":0},null,232,0,1131,"X",null,null,"ZZZ",null,null,null,null,{"$f":"CONCATENATE(REFERENTES!T489,\"(\",REFERENTES!Q489,\")\")","v":"La Calle(JURA-ZP1-Laca-1)"},{"$f":"REFERENTES!P489","v":45579}]
[null,null,null,null,null,null,null,null,null,null,null,{"$f":"IF(ISNUMBER(FIND(\"RES\",REFERENTES!$Q$2:$Q$1134)),REFERENTES!Q238,\"\")","v":""},{"$f":"REFERENTES!S238","v":0},null,233,0,1131,"X",null,null,"ZZZ",null,null,null,null,{"$f":"CONCATENATE(REFERENTES!T490,\"(\",REFERENTES!Q490,\")\")","v":"La Camaronera(BCIS,EST-ZR1-camaronera-1)"},{"$f":"REFERENTES!P490","v":45133}]
[null,null,null,null,null,null,null,null,null,null,null,{"$f":"IF(ISNUMBER(FIND(\"RES\",REFERENTES!$Q$2:$Q$1134)),REFERENTES!Q239,\"\")","v":""},{"$f":"REFERENTES!S239","v":0},null,234,0,1131,"X",null,null,"ZZZ",null,null,null,null,{"$f":"CONCATENATE(REFERENTES!T491,\"(\",REFERENTES!Q491,\")\")","v":"La Cuenca(BCIS,EST-ZUS6-la cuenca-1)"},{"$f":"REFERENTES!P491","v":45347}]
[null,null,null,null,null,null,null,null,null,null,null,{"$f":"IF(ISNUMBER(FIND(\"RES\",REFERENTES!$Q$2:$Q$1134)),REFERENTES!Q240,\"\")","v":""},{"$f":"REFERENTES!S240","v":0},null,235,0,1131,"X",null,null,"ZZZ",null,null,null,null,{"$f":"CONCATENATE(REFERENTES!T492,\"(\",REFERENTES!Q492,\")\")","v":"La Flotante(BCIS,EST-ZUS1-la flotante-1)"},{"$f":"REFERENTES!P492","v":45586}]
[null,null,null,null,null,null,null,null,null,null,null,{"$f":"IF(ISNUMBER(FIND(\"RES\",REFERENTES!$Q$2:$Q$1134)),REFERENTES!Q241,\"\")","v":""},{"$f":"REFERENTES!S241","v":0},null,236,0,1131,"X",null,null,"ZZZ",null,null,null,null,{"$f":"CONCATENATE(REFERENTES!T493,\"(\",REFERENTES!Q493,\")\")","v":"La Piedrecita(NAVI-ZP1-ALP-2)"},{"$f":"REFERENTES!P493","v":43763}]
[null,null,null,null,null,null,null,null,null,null,null,{"$f":"IF(ISNUMBER(FIND(\"RES\",REFERENTES!$Q$2:$Q$1134)),REFERENTES!Q242,\"\")","v":""},{"$f":"REFERENTES!S242","v":0},null,237,0,1131,"X",null,null,"ZZZ",null,null,null,null,{"$f":"CONCATENATE(REFERENTES!T494,\"(\",REFERENTES!Q494,\")\")","v":"La Raya(LRAY-ZR1-LRA-1)"},{"$f":"REFERENTES!P494","v":41384}]
[null,null,null,null,null,null,null,null,null,null,null,{"$f":"IF(ISNUMBER(FIND(\"RES\",REFERENTES!$Q$2:$Q$1134)),REFERENTES!Q243,\"\")","v":""},{"$f":"REFERENTES!S243","v":0},null,238,0,1131,"X",null,null,"ZZZ",null,null,null,null,{"$f":"CONCATENATE(REFERENTES!T495,\"(\",REFERENTES!Q495,\")\")","v":"La Raya-2(LRAY-ZR1-LRA-2)"},{"$f":"REFERENTES!P495","v":41386}]
[null,null,null,null,null,null,null,null,null,null,null,{"$f":"IF(ISNUMBER(FIND(\"RES\",REFERENTES!$Q$2:$Q$1134)),REFERENTES!Q244,\"\")","v":""},{"$f":"REFERENTES!S244","v":0},null,239,0,1131,"X",null,null,"ZZZ",null,null,null,null,{"$f":"CONCATENATE(REFERENTES!T496,\"(\",REFERENTES!Q496,\")\")","v":"La Raya-3(LRAY-ZR1-LRA-3)"},{"$f":"REFERENTES!P496","v":41388}]
[null,null,null,null,null,null,null,null,null,null,null,{"$f":"IF(ISNUMBER(FIND(\"RES\",REFERENTES!$Q$2:$Q$1134)),REFERENTES!Q245,\"\")","v":""},{"$f":"REFERENTES!S245","v":0},null,240,0,1131,"X",null,null,"ZZZ",null,null,null,null,{"$f":"CONCATENATE(REFERENTES!T497,\"(\",REFERENTES!Q497,\")\")","v":"La Revuelta -2(NAVI-ZP1-LR-2)"},{"$f":"REFERENTES!P497","v":43761}]
[null,null,null,null,null,null,null,null,null,null,null,{"$f":"IF(ISNUMBER(FIND(\"RES\",REFERENTES!$Q$2:$Q$1134)),REFERENTES!Q246,\"\")","v":""},{"$f":"REFERENTES!S246","v":0},null,241,0,1131,"X",null,null,"ZZZ",null,null,null,null,{"$f":"CONCATENATE(REFERENTES!T498,\"(\",REFERENTES!Q498,\")\")","v":"La Revuelta-1(NAVI-ZP1-LR-1)"},{"$f":"REFERENTES!P498","v":43659}]
[null,null,null,null,null,null,null,null,null,null,null,{"$f":"IF(ISNUMBER(FIND(\"RES\",REFERENTES!$Q$2:$Q$1134)),REFERENTES!Q247,\"\")","v":""},{"$f":"REFERENTES!S247","v":0},null,242,0,1131,"X",null,null,"ZZZ",null,null,null,null,{"$f":"CONCATENATE(REFERENTES!T499,\"(\",REFERENTES!Q499,\")\")","v":"La Zona(BCIS,EST,SAL-ZUS1-ZON-1)"},{"$f":"REFERENTES!P499","v":42099}]
[null,null,null,null,null,null,null,null,null,null,null,{"$f":"IF(ISNUMBER(FIND(\"RES\",REFERENTES!$Q$2:$Q$1134)),REFERENTES!Q248,\"\")","v":""},{"$f":"REFERENTES!S248","v":0},null,243,0,1131,"X",null,null,"ZZZ",null,null,null,null,{"$f":"CONCATENATE(REFERENTES!T500,\"(\",REFERENTES!Q500,\")\")","v":"Lagartero(TIMB-ZUS1-LARGAR-1)"},{"$f":"REFERENTES!P500","v":45484}]
[null,null,null,null,null,null,null,null,null,null,null,{"$f":"IF(ISNUMBER(FIND(\"RES\",REFERENTES!$Q$2:$Q$1134)),REFERENTES!Q249,\"\")","v":""},{"$f":"REFERENTES!S249","v":0},null,244,0,1131,"X",null,null,"ZZZ",null,null,null,null,{"$f":"CONCATENATE(REFERENTES!T501,\"(\",REFERENTES!Q501,\")\")","v":"Laguna Pulumana 2(MUSI-ZP1-LP2-2)"},{"$f":"REFERENTES!P501","v":43626}]
[null,null,null,null,null,null,null,null,null,null,null,{"$f":"IF(ISNUMBER(FIND(\"RES\",REFERENTES!$Q$2:$Q$1134)),REFERENTES!Q250,\"\")","v":""},{"$f":"REFERENTES!S250","v":0},null,245,0,1131,"X",null,null,"ZZZ",null,null,null,null,{"$f":"CONCATENATE(REFERENTES!T502,\"(\",REFERENTES!Q502,\")\")","v":"Laguna Pulumana 2-1(MUSI-ZP1-LP2-1)"},{"$f":"REFERENTES!P502","v":43581}]
[null,null,null,null,null,null,null,null,null,null,null,{"$f":"IF(ISNUMBER(FIND(\"RES\",REFERENTES!$Q$2:$Q$1134)),REFERENTES!Q251,\"\")","v":""},{"$f":"REFERENTES!S251","v":0},null,246,0,1131,"X",null,null,"ZZZ",null,null,null,null,{"$f":"CONCATENATE(REFERENTES!T503,\"(\",REFERENTES!Q503,\")\")","v":"Laguna Pulumana 3-1(MUSI-ZP1-LP3-1)"},{"$f":"REFERENTES!P503","v":43584}]
[null,null,null,null,null,null,null,null,null,null,null,{"$f":"IF(ISNUMBER(FIND(\"RES\",REFERENTES!$Q$2:$Q$1134)),REFERENTES!Q252,\"\")","v":""},{"$f":"REFERENTES!S252","v":0},null,247,0,1131,"X",null,null,"ZZZ",null,null,null,null,{"$f":"CONCATENATE(REFERENTES!T504,\"(\",REFERENTES!Q504,\")\")","v":"Laguna Pulumana 3-2(MUSI-ZP1-LP3-2)"},{"$f":"REFERENTES!P504","v":43785}]
[null,null,null,null,null,null,null,null,null,null,null,{"$f":"IF(ISNUMBER(FIND(\"RES\",REFERENTES!$Q$2:$Q$1134)),REFERENTES!Q253,\"\")","v":""},{"$f":"REFERENTES!S253","v":0},null,248,0,1131,"X",null,null,"ZZZ",null,null,null,null,{"$f":"CONCATENATE(REFERENTES!T505,\"(\",REFERENTES!Q505,\")\")","v":"Laguna Salada(LSAL-ZR1-LSA-1)"},{"$f":"REFERENTES!P505","v":41396}]
[null,null,null,null,null,null,null,null,null,null,null,{"$f":"IF(ISNUMBER(FIND(\"RES\",REFERENTES!$Q$2:$Q$1134)),REFERENTES!Q254,\"\")","v":""},{"$f":"REFERENTES!S254","v":0},null,249,0,1131,"X",null,null,"ZZZ",null,null,null,null,{"$f":"CONCATENATE(REFERENTES!T506,\"(\",REFERENTES!Q506,\")\")","v":"Laguna San Agustin(MUSI-ZP1-LSA-1)"},{"$f":"REFERENTES!P506","v":43587}]
[null,null,null,null,null,null,null,null,null,null,null,{"$f":"IF(ISNUMBER(FIND(\"RES\",REFERENTES!$Q$2:$Q$1134)),REFERENTES!Q255,\"\")","v":""},{"$f":"REFERENTES!S255","v":0},null,250,0,1131,"X",null,null,"ZZZ",null,null,null,null,{"$f":"CONCATENATE(REFERENTES!T507,\"(\",REFERENTES!Q507,\")\")","v":"Laguna San Agustín(MUSI-ZP1-LSA-2)"},{"$f":"REFERENTES!P507","v":43787}]
[null,null,null,null,null,null,null,null,null,null,null,{"$f":"IF(ISNUMBER(FIND(\"RES\",REFERENTES!$Q$2:$Q$1134)),REFERENTES!Q256,\"\")","v":""},{"$f":"REFERENTES!S256","v":0},null,251,0,1131,"X",null,null,"ZZZ",null,null,null,null,{"$f":"CONCATENATE(REFERENTES!T508,\"(\",REFERENTES!Q508,\")\")","v":"Las Piedras-1(BARB-ZR1-Piedras-1)"},{"$f":"REFERENTES!P508","v":44496}]
[null,null,null,null,null,null,null,null,null,null,null,{"$f":"IF(ISNUMBER(FIND(\"RES\",REFERENTES!$Q$2:$Q$1134)),REFERENTES!Q257,\"\")","v":""},{"$f":"REFERENTES!S257","v":0},null,252,0,1131,"X",null,null,"ZZZ",null,null,null,null,{"$f":"CONCATENATE(REFERENTES!T509,\"(\",REFERENTES!Q509,\")\")","v":"Las Quintas -2(CQUINTAS-ZUS1-Quintas-2)"},{"$f":"REFERENTES!P509","v":44618}]
[null,null,null,null,null,null,null,null,null,null,null,{"$f":"IF(ISNUMBER(FIND(\"RES\",REFERENTES!$Q$2:$Q$1134)),REFERENTES!Q258,\"\")","v":""},{"$f":"REFERENTES!S258","v":0},null,253,0,1131,"X",null,null,"ZZZ",null,null,null,null,{"$f":"CONCATENATE(REFERENTES!T510,\"(\",REFERENTES!Q510,\")\")","v":"Las Quintas-1(CQUINTAS-ZUS1-Quintas-1)"},{"$f":"REFERENTES!P510","v":44616}]
[null,null,null,null,null,null,null,null,null,null,null,{"$f":"IF(ISNUMBER(FIND(\"RES\",REFERENTES!$Q$2:$Q$1134)),REFERENTES!Q259,\"\")","v":""},{"$f":"REFERENTES!S259","v":0},null,254,0,1131,"X",null,null,"ZZZ",null,null,null,null,{"$f":"CONCATENATE(REFERENTES!T511,\"(\",REFERENTES!Q511,\")\")","v":"Las Quintas-3(CQUINTAS-ZUS1-Quintas-3)"},{"$f":"REFERENTES!P511","v":44701}]
[null,null,null,null,null,null,null,null,null,null,null,{"$f":"IF(ISNUMBER(FIND(\"RES\",REFERENTES!$Q$2:$Q$1134)),REFERENTES!Q260,\"\")","v":""},{"$f":"REFERENTES!S260","v":0},null,255,0,1131,"X",null,null,"ZZZ",null,null,null,null,{"$f":"CONCATENATE(REFERENTES!T512,\"(\",REFERENTES!Q512,\")\")","v":"Lucho Guerra-1(CaiRinH-ZP1-LUCHO-1)"},{"$f":"REFERENTES!P512","v":41972}]
[null,null,null,null,null,null,null,null,null,null,null,{"$f":"IF(ISNUMBER(FIND(\"RES\",REFERENTES!$Q$2:$Q$1134)),REFERENTES!Q261,\"\")","v":""},{"$f":"REFERENTES!S261","v":0},null,256,0,1131,"X",null,null,"ZZZ",null,null,null,null,{"$f":"CONCATENATE(REFERENTES!T513,\"(\",REFERENTES!Q513,\")\")","v":"Lucho Guerra-2(CaiRinH-ZP1-LUCHO-2)"},{"$f":"REFERENTES!P513","v":41974}]
[null,null,null,null,null,null,null,null,null,null,null,{"$f":"IF(ISNUMBER(FIND(\"RES\",REFERENTES!$Q$2:$Q$1134)),REFERENTES!Q262,\"\")","v":""},{"$f":"REFERENTES!S262","v":0},null,257,0,{"$f":"IF(P262=0,MAX($O$6:$O$1135)+1,O262)","v":1131},{"$f":"IFERROR(VLOOKUP(SMALL($Q$6:$Q$1135,O262),$O$6:$P$1135,2,FALSE),\"X\")","v":"X"},null,null,{"$f":"IF(ISNUMBER(SEARCH($U$5,$R$6:$R$190))=TRUE,R262,\"ZZZ\")","v":"ZZZ"},null,null,null,null,{"$f":"CONCATENATE(REFERENTES!T514,\"(\",REFERENTES!Q514,\")\")","v":"Luna -1(SFFOCC-SZ1-LUN-1)"},{"$f":"REFERENTES!P514","v":45922}]
[null,null,null,null,null,null,null,null,null,null,null,{"$f":"IF(ISNUMBER(FIND(\"RES\",REFERENTES!$Q$2:$Q$1134)),REFERENTES!Q263,\"\")","v":""},{"$f":"REFERENTES!S263","v":0},null,258,{"$f":"IF(L263=\"\",0,L263)","v":0},1131,"X",null,null,"ZZZ",null,null,null,null,{"$f":"CONCATENATE(REFERENTES!T515,\"(\",REFERENTES!Q515,\")\")","v":"Luna -2(SFFOCC-SZ1-LUN-2)"},{"$f":"REFERENTES!P515","v":47837}]
[null,null,null,null,null,null,null,null,null,null,null,{"$f":"IF(ISNUMBER(FIND(\"RES\",REFERENTES!$Q$2:$Q$1134)),REFERENTES!Q264,\"\")","v":""},{"$f":"REFERENTES!S264","v":0},null,259,0,1131,"X",null,null,"ZZZ",null,null,null,null,{"$f":"CONCATENATE(REFERENTES!T516,\"(\",REFERENTES!Q516,\")\")","v":"Luna -3(SFFOCC-SZ1-LUN-3)"},{"$f":"REFERENTES!P516","v":47839}]
[null,null,null,null,null,null,null,null,null,null,null,{"$f":"IF(ISNUMBER(FIND(\"RES\",REFERENTES!$Q$2:$Q$1134)),REFERENTES!Q265,\"\")","v":""},{"$f":"REFERENTES!S265","v":0},null,260,0,1131,"X",null,null,"ZZZ",null,null,null,null,{"$f":"CONCATENATE(REFERENTES!T517,\"(\",REFERENTES!Q517,\")\")","v":"MajaG(RAPO-ZR1-MajaG-2)"},{"$f":"REFERENTES!P517","v":46017}]
[null,null,null,null,null,null,null,null,null,null,null,{"$f":"IF(ISNUMBER(FIND(\"RES\",REFERENTES!$Q$2:$Q$1134)),REFERENTES!Q266,\"\")","v":""},{"$f":"REFERENTES!S266","v":0},null,261,0,1131,"X",null,null,"ZZZ",null,null,null,null,{"$f":"CONCATENATE(REFERENTES!T518,\"(\",REFERENTES!Q518,\")\")","v":"Mallorquin(CNGMLLQ-ZR1-Mr-1)"},{"$f":"REFERENTES!P518","v":45168}]
[null,null,null,null,null,null,null,null,null,null,null,{"$f":"IF(ISNUMBER(FIND(\"RES\",REFERENTES!$Q$2:$Q$1134)),REFERENTES!Q267,\"\")","v":""},{"$f":"REFERENTES!S267","v":0},null,262,0,1131,"X",null,null,"ZZZ",null,null,null,null,{"$f":"CONCATENATE(REFERENTES!T519,\"(\",REFERENTES!Q519,\")\")","v":"Mallorquin playa(CNGMLLQ-ZR1-Mallorq-2)"},{"$f":"REFERENTES!P519","v":45525}]
[null,null,null,null,null,null,null,null,null,null,null,{"$f":"IF(ISNUMBER(FIND(\"RES\",REFERENTES!$Q$2:$Q$1134)),REFERENTES!Q268,\"\")","v":""},{"$f":"REFERENTES!S268","v":0},null,263,0,1131,"X",null,null,"ZZZ",null,null,null,null,{"$f":"CONCATENATE(REFERENTES!T520,\"(\",REFERENTES!Q520,\")\")","v":"Mallorquín(CNGMLLQ-ZP1-Mallorq-1)"},{"$f":"REFERENTES!P520","v":45242}]
[null,null,null,null,null,null,null,null,null,null,null,{"$f":"IF(ISNUMBER(FIND(\"RES\",REFERENTES!$Q$2:$Q$1134)),REFERENTES!Q269,\"\")","v":""},{"$f":"REFERENTES!S269","v":0},null,264,0,1131,"X",null,null,"ZZZ",null,null,null,null,{"$f":"CONCATENATE(REFERENTES!T521,\"(\",REFERENTES!Q521,\")\")","v":"Mallorquín(CNGMLLQ-ZP1-Mallorq-2)"},{"$f":"REFERENTES!P521","v":45523}]
[null,null,null,null,null,null,null,null,null,null,null,{"$f":"IF(ISNUMBER(FIND(\"RES\",REFERENTES!$Q$2:$Q$1134)),REFERENTES!Q270,\"\")","v":""},{"$f":"REFERENTES!S270","v":0},null,265,0,1131,"X",null,null,"ZZZ",null,null,null,null,{"$f":"CONCATENATE(REFERENTES!T522,\"(\",REFERENTES!Q522,\")\")","v":"ManatIes Playa(CNGMNT-ZR1-Manat-1)"},{"$f":"REFERENTES!P522","v":45253}]
[null,null,null,null,null,null,null,null,null,null,null,{"$f":"IF(ISNUMBER(FIND(\"RES\",REFERENTES!$Q$2:$Q$1134)),REFERENTES!Q271,\"\")","v":""},{"$f":"REFERENTES!S271","v":0},null,266,0,1131,"X",null,null,"ZZZ",null,null,null,null,{"$f":"CONCATENATE(REFERENTES!T523,\"(\",REFERENTES!Q523,\")\")","v":"Manaties -ZR1-1(CNGMNT-ZR1-MANA-1)"},{"$f":"REFERENTES!P523","v":41959}]
[null,null,null,null,null,null,null,null,null,null,null,{"$f":"IF(ISNUMBER(FIND(\"RES\",REFERENTES!$Q$2:$Q$1134)),REFERENTES!Q272,\"\")","v":""},{"$f":"REFERENTES!S272","v":0},null,267,0,1131,"X",null,null,"ZZZ",null,null,null,null,{"$f":"CONCATENATE(REFERENTES!T524,\"(\",REFERENTES!Q524,\")\")","v":"Manaties B(CNGMNT-ZP1-MANB-1)"},{"$f":"REFERENTES!P524","v":41963}]
[null,null,null,null,null,null,null,null,null,null,null,{"$f":"IF(ISNUMBER(FIND(\"RES\",REFERENTES!$Q$2:$Q$1134)),REFERENTES!Q273,\"\")","v":""},{"$f":"REFERENTES!S273","v":0},null,268,0,1131,"X",null,null,"ZZZ",null,null,null,null,{"$f":"CONCATENATE(REFERENTES!T525,\"(\",REFERENTES!Q525,\")\")","v":"Manatíes Playa(CNGMNT-ZR1-Manat-2)"},{"$f":"REFERENTES!P525","v":45527}]
[null,null,null,null,null,null,null,null,null,null,null,{"$f":"IF(ISNUMBER(FIND(\"RES\",REFERENTES!$Q$2:$Q$1134)),REFERENTES!Q274,\"\")","v":""},{"$f":"REFERENTES!S274","v":0},null,269,0,1131,"X",null,null,"ZZZ",null,null,null,null,{"$f":"CONCATENATE(REFERENTES!T526,\"(\",REFERENTES!Q526,\")\")","v":"Manzanillo parcela circular-1(Manzanillo PPC-1)"},{"$f":"REFERENTES!P526","v":55561}]
[null,null,null,null,null,null,null,null,null,null,null,{"$f":"IF(ISNUMBER(FIND(\"RES\",REFERENTES!$Q$2:$Q$1134)),REFERENTES!Q275,\"\")","v":""},{"$f":"REFERENTES!S275","v":0},null,270,0,1131,"X",null,null,"ZZZ",null,null,null,null,{"$f":"CONCATENATE(REFERENTES!T527,\"(\",REFERENTES!Q527,\")\")","v":"Manzanillo parcela circular-2(Manzanillo PPC-2)"},{"$f":"REFERENTES!P527","v":55562}]
[null,null,null,null,null,null,null,null,null,null,null,{"$f":"IF(ISNUMBER(FIND(\"RES\",REFERENTES!$Q$2:$Q$1134)),REFERENTES!Q276,\"\")","v":""},{"$f":"REFERENTES!S276","v":0},null,271,0,1131,"X",null,null,"ZZZ",null,null,null,null,{"$f":"CONCATENATE(REFERENTES!T528,\"(\",REFERENTES!Q528,\")\")","v":"Manzanillo-1(JPVI-ZUS1-JPManzanillo-1)"},{"$f":"REFERENTES!P528","v":44640}]
[null,null,null,null,null,null,null,null,null,null,null,{"$f":"IF(ISNUMBER(FIND(\"RES\",REFERENTES!$Q$2:$Q$1134)),REFERENTES!Q277,\"\")","v":""},{"$f":"REFERENTES!S277","v":0},null,272,0,1131,"X",null,null,"ZZZ",null,null,null,null,{"$f":"CONCATENATE(REFERENTES!T529,\"(\",REFERENTES!Q529,\")\")","v":"Matunilla(BARB-ZR1-MATU-1)"},{"$f":"REFERENTES!P529","v":42003}]
[null,null,null,null,null,null,null,null,null,null,null,{"$f":"IF(ISNUMBER(FIND(\"RES\",REFERENTES!$Q$2:$Q$1134)),REFERENTES!Q278,\"\")","v":""},{"$f":"REFERENTES!S278","v":0},null,273,0,1131,"X",null,null,"ZZZ",null,null,null,null,{"$f":"CONCATENATE(REFERENTES!T530,\"(\",REFERENTES!Q530,\")\")","v":"Mayapo(MAYA-ZR1-MA-1)"},{"$f":"REFERENTES!P530","v":41378}]
[null,null,null,null,null,null,null,null,null,null,null,{"$f":"IF(ISNUMBER(FIND(\"RES\",REFERENTES!$Q$2:$Q$1134)),REFERENTES!Q279,\"\")","v":""},{"$f":"REFERENTES!S279","v":"Parcela 1 monitoreada por el INVEMAR en el marco del ¨Monitoreo de las condiciones ambientales y los cambios estructurales y funcionales de las comunidades vegetales y de los recursos pesqueros durante la rehabilitación de la Ciénaga Grande de Santa Marta¨"},null,274,0,1131,"X",null,null,"ZZZ",null,null,null,null,{"$f":"CONCATENATE(REFERENTES!T531,\"(\",REFERENTES!Q531,\")\")","v":"Mayapo-2(MAYA-ZR1-MA-2)"},{"$f":"REFERENTES!P531","v":41380}]
[null,null,null,null,null,null,null,null,null,null,null,{"$f":"IF(ISNUMBER(FIND(\"RES\",REFERENTES!$Q$2:$Q$1134)),REFERENTES!Q280,\"\")","v":""},{"$f":"REFERENTES!S280","v":"Parcela 2 monitoreada por el INVEMAR en el marco del ¨Monitoreo de las condiciones ambientales y los cambios estructurales y funcionales de las comunidades vegetales y de los recursos pesqueros durante la rehabilitación de la Ciénaga Grande de Santa Marta¨"},null,275,0,1131,"X",null,null,"ZZZ",null,null,null,null,{"$f":"CONCATENATE(REFERENTES!T532,\"(\",REFERENTES!Q532,\")\")","v":"Mayapo-3(MAYA-ZR1-MA-3)"},{"$f":"REFERENTES!P532","v":41382}]
[null,null,null,null,null,null,null,null,null,null,null,{"$f":"IF(ISNUMBER(FIND(\"RES\",REFERENTES!$Q$2:$Q$1134)),REFERENTES!Q281,\"\")","v":""},{"$f":"REFERENTES!S281","v":"Parcela 3 monitoreada por el INVEMAR en el marco del ¨Monitoreo de las condiciones ambientales y los cambios estructurales y funcionales de las comunidades vegetales y de los recursos pesqueros durante la rehabilitación de la Ciénaga Grande de Santa Marta¨"},null,276,0,1131,"X",null,null,"ZZZ",null,null,null,null,{"$f":"CONCATENATE(REFERENTES!T533,\"(\",REFERENTES!Q533,\")\")","v":"Mc Bean parcela circular-1(McBean Lagoon PPC-1)"},{"$f":"REFERENTES!P533","v":55569}]
[null,null,null,null,null,null,null,null,null,null,null,{"$f":"IF(ISNUMBER(FIND(\"RES\",REFERENTES!$Q$2:$Q$1134)),REFERENTES!Q282,\"\")","v":""},{"$f":"REFERENTES!S282","v":"esta parcela se encuentra ubicada en el sector de caño grande en la zona de uso sostenible, en el subsector de aprovechamiento, con predominancia de la especie Rhizophora mangle, esta parcela tiene gran cantidad de arboles muertos, y otros con condiciones de raquitismo, baja densidad de arboles en la parcela."},null,277,0,1131,"X",null,null,"ZZZ",null,null,null,null,{"$f":"CONCATENATE(REFERENTES!T534,\"(\",REFERENTES!Q534,\")\")","v":"Mc Bean parcela circular-2(McBean Lagoon PPC-2)"},{"$f":"REFERENTES!P534","v":55570}]
[null,null,null,null,null,null,null,null,null,null,null,{"$f":"IF(ISNUMBER(FIND(\"RES\",REFERENTES!$Q$2:$Q$1134)),REFERENTES!Q283,\"\")","v":""},{"$f":"REFERENTES!S283","v":"Parcela que coincide con punto de muestreo de PNN, se encontraron dos mojones instalados por ellos.  Bosque en sus primeros 25 m con abundante presencia de R. mangle con numerosas raíces fúlcreas, inundación de 5 cm en promedio, Bosque en buen estado no se evidencia tala"},null,278,0,1131,"X",null,null,"ZZZ",null,null,null,null,{"$f":"CONCATENATE(REFERENTES!T535,\"(\",REFERENTES!Q535,\")\")","v":"Mc Bean parcela circular-3(McBean Lagoon PPC-3)"},{"$f":"REFERENTES!P535","v":55571}]
[null,null,null,null,null,null,null,null,null,null,null,{"$f":"IF(ISNUMBER(FIND(\"RES\",REFERENTES!$Q$2:$Q$1134)),REFERENTES!Q284,\"\")","v":""},{"$f":"REFERENTES!S284","v":"Parcela montada en el marco del proyecto \"Lineamientos de restauración para los manglares del departamento de La Guajira\" ejecutado por INVEMAR. Abundantes restos calcáreos. Bosques en mal estado en proceso de defoliación. El arroyo no está comunicado con el mar. Antiguamente si estaba comunicado y había un puerto. Restos de octocorales y conchas de actividades de pesca de  arrastre en el mar. Algunos individuos de Ag retoñando en el tronco (asexual). Huellas (zona de pastoreo de ganado). Evidencia de herbivoría foliar. Abundantes restos de materia orgánica en descomposición (hoja y restos de animales). Galerias de cangrejos. Neumatóforos recubiertos de sedimentos. Suelo aparentemente franco-arenoso, y en el fondo oscuro y muy lodoso y en la parte superior de color claro. Crecimiento de los árboles típicamente achaparrado y altamente ramificado. Frente a la estación hay un rodal de R.m. muerto donde los árboles están retoñando, el suelo tiene apariencia húmeda y hay aportes de rocio del nordeste"},null,279,0,1131,"X",null,null,"ZZZ",null,null,null,null,{"$f":"CONCATENATE(REFERENTES!T536,\"(\",REFERENTES!Q536,\")\")","v":"Muertero(Nuqui-ZR2-Mtero-1)"},{"$f":"REFERENTES!P536","v":45583}]
[null,null,null,null,null,null,null,null,null,null,null,{"$f":"IF(ISNUMBER(FIND(\"RES\",REFERENTES!$Q$2:$Q$1134)),REFERENTES!Q285,\"\")","v":""},{"$f":"REFERENTES!S285","v":0},null,280,0,1131,"X",null,null,"ZZZ",null,null,null,null,{"$f":"CONCATENATE(REFERENTES!T537,\"(\",REFERENTES!Q537,\")\")","v":"Musichi SC_Parche SO(MUSI-ZP1-SPSO-1)"},{"$f":"REFERENTES!P537","v":43823}]
[null,null,null,null,null,null,null,null,null,null,null,{"$f":"IF(ISNUMBER(FIND(\"RES\",REFERENTES!$Q$2:$Q$1134)),REFERENTES!Q286,\"\")","v":""},{"$f":"REFERENTES!S286","v":"Parcela montada en el marco del proyecto \"Lineamientos de restauración para los manglares del departamento de La Guajira\" ejecutado por INVEMAR. Manglar franjeante sobre el costado del Arroyo Pacho, de poca extensión dominado por A. germinans. Los árboles de mangle se entremezclan con individuos de la familia de las cactáceas.  Los individuos se encuentran el mal estado, defoliados y en otros casos muertos, sin embargo algunos se encuentran rebrotando.  Sin regeneración natural. Poca hojarasca y desarrollo de neumatóforos, presencia de camas de Batis maritima."},null,281,0,1131,"X",null,null,"ZZZ",null,null,null,null,{"$f":"CONCATENATE(REFERENTES!T538,\"(\",REFERENTES!Q538,\")\")","v":"Musichi SC_Parche SO(MUSI-ZP1-SPSO-2)"},{"$f":"REFERENTES!P538","v":43825}]
[null,null,null,null,null,null,null,null,null,null,null,{"$f":"IF(ISNUMBER(FIND(\"RES\",REFERENTES!$Q$2:$Q$1134)),REFERENTES!Q287,\"\")","v":""},{"$f":"REFERENTES!S287","v":"Manglar franjeante sobre el costado del Arroyo Pacho, de poca extensión dominado por A. germinans. Los árboles de mangle se entremezclan con individuos de la familia de las cactáceas.  Los individuos se encuentran el mal estado, defoliados y en otros casos muertos, sin embargo algunos se encuentran rebrotando.  Sin regeneración natural. Poca hojarasca y desarrollo de neumatóforos, presencia de camas de Batis maritima."},null,282,0,1131,"X",null,null,"ZZZ",null,null,null,null,{"$f":"CONCATENATE(REFERENTES!T539,\"(\",REFERENTES!Q539,\")\")","v":"Málaga(BMAL-ZP9-MV-1)"},{"$f":"REFERENTES!P539","v":45874}]
[null,null,null,null,null,null,null,null,null,null,null,{"$f":"IF(ISNUMBER(FIND(\"RES\",REFERENTES!$Q$2:$Q$1134)),REFERENTES!Q288,\"\")","v":""},{"$f":"REFERENTES!S288","v":"Franja de manglar contigua a la desembocadura del Arroyo Pacho de poca extensión. Pocos árboles de manglar de A. germinans y C. erectus, mezclados con cactáceas (tuna sp). Muchos árboles se observan entorchados. Escasa regeneración natural de C. erectus. La parcela se ubicó paralela al cuerpo de agua. Sin regeneración natural"},null,283,0,1131,"X",null,null,"ZZZ",null,null,null,null,{"$f":"CONCATENATE(REFERENTES!T540,\"(\",REFERENTES!Q540,\")\")","v":"Old Point -1(OPOI-ZUS2-OP-1)"},{"$f":"REFERENTES!P540","v":41463}]
[null,null,null,null,null,null,null,null,null,null,null,{"$f":"IF(ISNUMBER(FIND(\"RES\",REFERENTES!$Q$2:$Q$1134)),REFERENTES!Q289,\"\")","v":""},{"$f":"REFERENTES!S289","v":"Parcela montada en el marco del proyecto \"Lineamientos de restauración para los manglares del departamento de La Guajira\" ejecutado por INVEMAR. Franja de manglar contigua a la desembocadura del Arroyo Pacho de poca extensión. Pocos árboles de manglar de A. germinans y C. erectus, mezclados con cactáceas (tuna sp). Muchos árboles se observan entorchados. Escasa regeneración natural de C. erectus. La parcela se ubicó paralela al cuerpo de agua. Sin regeneración natural"},null,284,0,1131,"X",null,null,"ZZZ",null,null,null,null,{"$f":"CONCATENATE(REFERENTES!T541,\"(\",REFERENTES!Q541,\")\")","v":"Old Town parcela circular-1(Old Town PPC-1)"},{"$f":"REFERENTES!P541","v":55563}]
[null,null,null,null,null,null,null,null,null,null,null,{"$f":"IF(ISNUMBER(FIND(\"RES\",REFERENTES!$Q$2:$Q$1134)),REFERENTES!Q290,\"\")","v":""},{"$f":"REFERENTES!S290","v":"Parcela dominada por P. rhizophorae, inundación promedio de 15 cm. presencia abundante de propágulos de R. mangle.  Bosque en buen estado no se evidencia tala."},null,285,0,1131,"X",null,null,"ZZZ",null,null,null,null,{"$f":"CONCATENATE(REFERENTES!T542,\"(\",REFERENTES!Q542,\")\")","v":"Old Town parcela circular-2(Old Town PPC2)"},{"$f":"REFERENTES!P542","v":55564}]
[null,null,null,null,null,null,null,null,null,null,null,{"$f":"IF(ISNUMBER(FIND(\"RES\",REFERENTES!$Q$2:$Q$1134)),REFERENTES!Q291,\"\")","v":""},{"$f":"REFERENTES!S291","v":"Franja de manglar tipo cuenca adyacente al arroyo compuesto por A. germinans y L. racemosa. Se observan algunos árboles secos defoliados. Abundantes neumatóforos de tamaño mediano. Algunos árboles con daños en el tronco. Se observaron caminos en las inmediaciones. Escasa regeneración natural y presencia de B. maritima."},null,286,0,1131,"X",null,null,"ZZZ",null,null,null,null,{"$f":"CONCATENATE(REFERENTES!T543,\"(\",REFERENTES!Q543,\")\")","v":"Old_Point -2(OPOI-ZUS2-OP-2)"},{"$f":"REFERENTES!P543","v":41472}]
[null,null,null,null,null,null,null,null,null,null,null,{"$f":"IF(ISNUMBER(FIND(\"RES\",REFERENTES!$Q$2:$Q$1134)),REFERENTES!Q292,\"\")","v":""},{"$f":"REFERENTES!S292","v":"Restos calcáreos de crustáceos calcinados. Huellas recientes de aves."},null,287,0,1131,"X",null,null,"ZZZ",null,null,null,null,{"$f":"CONCATENATE(REFERENTES!T544,\"(\",REFERENTES!Q544,\")\")","v":"Old_Point -3(OPOI-ZUS2-OP-3)"},{"$f":"REFERENTES!P544","v":41474}]
[null,null,null,null,null,null,null,null,null,null,null,{"$f":"IF(ISNUMBER(FIND(\"RES\",REFERENTES!$Q$2:$Q$1134)),REFERENTES!Q293,\"\")","v":""},{"$f":"REFERENTES!S293","v":"bundantes restos calcáreos. Bosques en mal estado en proceso de defoliación. El arroyo no está comunicado con el mar. Antiguamente si estaba comunicado y había un puerto. Restos de octocorales y conchas de actividades de pesca de  arrastre en el mar. Algunos individuos de Ag retoñando en el tronco (asexual). Huellas (zona de pastoreo de ganado). Evidencia de herbivoría foliar. Abundantes restos de materia orgánica en descomposición (hoja y restos de animales). Galerias de cangrejos. Neumatóforos recubiertos de sedimentos. Suelo aparentemente franco-arenoso, y en el fondo oscuro y muy lodoso y en la parte superior de color claro. Crecimiento de los árboles típicamente achaparrado y altamente ramificado. Frente a la estación hay un rodal de R.m. muerto donde los árboles están retoñando, el suelo tiene apariencia húmeda y hay aportes de rocio del nordeste"},null,288,0,1131,"X",null,null,"ZZZ",null,null,null,null,{"$f":"CONCATENATE(REFERENTES!T545,\"(\",REFERENTES!Q545,\")\")","v":"Ostion(BCIS,EST-ZUS1-Ostion-1)"},{"$f":"REFERENTES!P545","v":48747}]
[null,null,null,null,null,null,null,null,null,null,null,{"$f":"IF(ISNUMBER(FIND(\"RES\",REFERENTES!$Q$2:$Q$1134)),REFERENTES!Q294,\"\")","v":""},{"$f":"REFERENTES!S294","v":"Parcela montada en el marco del proyecto \"Lineamientos de restauración para los manglares del departamento de La Guajira\" ejecutado por INVEMAR"},null,289,0,1131,"X",null,null,"ZZZ",null,null,null,null,{"$f":"CONCATENATE(REFERENTES!T546,\"(\",REFERENTES!Q546,\")\")","v":"Palosecal(VIRU-SZ1-PALOS-1)"},{"$f":"REFERENTES!P546","v":42123}]
[null,null,null,null,null,null,null,null,null,null,null,{"$f":"IF(ISNUMBER(FIND(\"RES\",REFERENTES!$Q$2:$Q$1134)),REFERENTES!Q295,\"\")","v":""},{"$f":"REFERENTES!S295","v":0},null,290,0,1131,"X",null,null,"ZZZ",null,null,null,null,{"$f":"CONCATENATE(REFERENTES!T547,\"(\",REFERENTES!Q547,\")\")","v":"Pantano el Eneal(CARI-ZP1-PE-1)"},{"$f":"REFERENTES!P547","v":43641}]
[null,null,null,null,null,null,null,null,null,null,null,{"$f":"IF(ISNUMBER(FIND(\"RES\",REFERENTES!$Q$2:$Q$1134)),REFERENTES!Q296,\"\")","v":""},{"$f":"REFERENTES!S296","v":0},null,291,0,1131,"X",null,null,"ZZZ",null,null,null,null,{"$f":"CONCATENATE(REFERENTES!T548,\"(\",REFERENTES!Q548,\")\")","v":"Pantano el Eneal(CARI-ZP1-PE-2)"},{"$f":"REFERENTES!P548","v":43777}]
[null,null,null,null,null,null,null,null,null,null,null,{"$f":"IF(ISNUMBER(FIND(\"RES\",REFERENTES!$Q$2:$Q$1134)),REFERENTES!Q297,\"\")","v":""},{"$f":"REFERENTES!S297","v":"Estación con sustrato duro, los primeros 20 m dominados por L. racemosa, abundante regeneración natural de R. mangle hasta los 45 m.  Nivel de inundación promedio de 10 cm."},null,292,0,1131,"X",null,null,"ZZZ",null,null,null,null,{"$f":"CONCATENATE(REFERENTES!T549,\"(\",REFERENTES!Q549,\")\")","v":"Parcela Esteh(CAJA-ZR1-Esteh-1)"},{"$f":"REFERENTES!P549","v":46020}]
[null,null,null,null,null,null,null,null,null,null,null,{"$f":"IF(ISNUMBER(FIND(\"RES\",REFERENTES!$Q$2:$Q$1134)),REFERENTES!Q298,\"\")","v":""},{"$f":"REFERENTES!S298","v":"Parcela aleatoria #2 2016"},null,293,0,1131,"X",null,null,"ZZZ",null,null,null,null,{"$f":"CONCATENATE(REFERENTES!T550,\"(\",REFERENTES!Q550,\")\")","v":"Parcela Play(CAJA-ZUS1-Ply-1)"},{"$f":"REFERENTES!P550","v":46002}]
[null,null,null,null,null,null,null,null,null,null,null,{"$f":"IF(ISNUMBER(FIND(\"RES\",REFERENTES!$Q$2:$Q$1134)),REFERENTES!Q299,\"\")","v":""},{"$f":"REFERENTES!S299","v":"Bosque ralo con mayor presencia de R. mangle, no se observa vegetación baja diferente del manglar.  Presión antrópica relacionada por Corta de Varas.  Presencia de agallas en todas las estructuras del manglar, especialmente en el R. mangle."},null,294,0,1131,"X",null,null,"ZZZ",null,null,null,null,{"$f":"CONCATENATE(REFERENTES!T551,\"(\",REFERENTES!Q551,\")\")","v":"Parcela Pulumana(MUSI-ZP1-PPU-2)"},{"$f":"REFERENTES!P551","v":43789}]
[null,null,null,null,null,null,null,null,null,null,null,{"$f":"IF(ISNUMBER(FIND(\"RES\",REFERENTES!$Q$2:$Q$1134)),REFERENTES!Q300,\"\")","v":""},{"$f":"REFERENTES!S300","v":"Bosque Ralo. Con un manglar entrelazado con mayor presencia de R. mangle seguido de L. racemosa..  Presión antrópica relacionada por Corta de Varas y presencia de agallas en todas las estructuras del manglar, especialmente en el R. mangle."},null,295,0,1131,"X",null,null,"ZZZ",null,null,null,null,{"$f":"CONCATENATE(REFERENTES!T552,\"(\",REFERENTES!Q552,\")\")","v":"Parcela Pulumana 1(MUSI-ZP1-PPU-1)"},{"$f":"REFERENTES!P552","v":43590}]
[null,null,null,null,null,null,null,null,null,null,null,{"$f":"IF(ISNUMBER(FIND(\"RES\",REFERENTES!$Q$2:$Q$1134)),REFERENTES!Q301,\"\")","v":""},{"$f":"REFERENTES!S301","v":"Bosque de porte alto.Presencia de R. mangle, L. racemosa y A. germinans.  Se observó corta de mangle."},null,296,0,1131,"X",null,null,"ZZZ",null,null,null,null,{"$f":"CONCATENATE(REFERENTES!T553,\"(\",REFERENTES!Q553,\")\")","v":"Parche SO -1(MUSI-ZP1-PSO-1)"},{"$f":"REFERENTES!P553","v":43806}]
[null,null,null,null,null,null,null,null,null,null,null,{"$f":"IF(ISNUMBER(FIND(\"RES\",REFERENTES!$Q$2:$Q$1134)),REFERENTES!Q302,\"\")","v":""},{"$f":"REFERENTES!S302","v":"Estación Manglar Bahía Honda (formada por 3 parcelas circulares): Manglar que hace parte del Parque Regional Old Point Regional Mangrove Park, localizado al nororiente de la isla de San Andrés, con una extensión de manglar de 60,62 ha (INVEMAR-CORALINA, 2016). Es un manglar de borde, con árboles con una altura promedio de 7,2 m, influenciado por las mareas y el continuo lavado de sus suelos. Conformado por Rhizophora mangle (especie dominante), Avicennia germinans, Laguncularia racemosa y Conocarpus erectus. Evidencia de residuos sólidos (botellas, latas, plásticos) traídos por el mar durante las mareas altas y árboles talados en el interior del manglar. Actualmente, bajo la figura de Parque Regional se ha logrado su recuperación y es un enclave ambiental que sirve de hábitat a numerosas especies faunísticas residentes y migratorias."},null,297,0,1131,"X",null,null,"ZZZ",null,null,null,null,{"$f":"CONCATENATE(REFERENTES!T554,\"(\",REFERENTES!Q554,\")\")","v":"Parche SO -2(MUSI-ZP1-PSO-2)"},{"$f":"REFERENTES!P554","v":43808}]
[null,null,null,null,null,null,null,null,null,null,null,{"$f":"IF(ISNUMBER(FIND(\"RES\",REFERENTES!$Q$2:$Q$1134)),REFERENTES!Q303,\"\")","v":""},{"$f":"REFERENTES!S303","v":"Estación Manglar Bahía Honda (formada por 3 parcelas circulares): Manglar que hace parte del Parque Regional Old Point Regional Mangrove Park, localizado al nororiente de la isla de San Andrés, con una extensión de manglar de 60,62 ha (INVEMAR-CORALINA, 2016). Es un manglar de borde, con árboles con una altura promedio de 7,2 m, influenciado por las mareas y el continuo lavado de sus suelos. Conformado por Rhizophora mangle (especie dominante), Avicennia germinans, Laguncularia racemosa y Conocarpus erectus. Evidencia de residuos sólidos (botellas, latas, plásticos) traídos por el mar durante las mareas altas y árboles talados en el interior del manglar. Actualmente, bajo la figura de Parque Regional se ha logrado su recuperación y es un enclave ambiental que sirve de hábitat a numerosas especies faunísticas residentes y migratorias."},null,298,0,1131,"X",null,null,"ZZZ",null,null,null,null,{"$f":"CONCATENATE(REFERENTES!T555,\"(\",REFERENTES!Q555,\")\")","v":"Pasacaballos(CAMREAL-ZUS2-CABALLOS-1)"},{"$f":"REFERENTES!P555","v":45391}]
[null,null,null,null,null,null,null,null,null,null,null,{"$f":"IF(ISNUMBER(FIND(\"RES\",REFERENTES!$Q$2:$Q$1134)),REFERENTES!Q304,\"\")","v":""},{"$f":"REFERENTES!S304","v":"Estación Manglar Bahía Hooker (formada por 3 parcelas circulares): Manglar que hace parte del Parque Regional Old Point Regional Mangrove Park, localizado al nororiente de la isla de San Andrés, con una extensión de manglar de 60,62 ha (INVEMAR-CORALINA, 2016). Es un manglar de borde con árboles de 5,4 m de altura promedio, conformado por Rhizophora mangle, Avicennia germinans, Laguncularia racemosa y Conocarpus erectus. Evidencia de afectación por lodos aceitosos presentes en el sustrato y presencia de residuos sólidos (botellas, latas, plásticos). Actualmente, bajo la figura de Parque Regional se ha logrado su recuperación y es un enclave ambiental que sirve de hábitat a numerosas especies faunísticas residentes y migratorias."},null,299,0,1131,"X",null,null,"ZZZ",null,null,null,null,{"$f":"CONCATENATE(REFERENTES!T556,\"(\",REFERENTES!Q556,\")\")","v":"Peñitas(VIRU-SZ1-PEÑI-1)"},{"$f":"REFERENTES!P556","v":42127}]
[null,null,null,null,null,null,null,null,null,null,null,{"$f":"IF(ISNUMBER(FIND(\"RES\",REFERENTES!$Q$2:$Q$1134)),REFERENTES!Q305,\"\")","v":""},{"$f":"REFERENTES!S305","v":"Estación Manglar Bahía Hooker (formada por 3 parcelas circulares): Manglar que hace parte del Parque Regional Old Point Regional Mangrove Park, localizado al nororiente de la isla de San Andrés, con una extensión de manglar de 60,62 ha (INVEMAR-CORALINA, 2016). Es un manglar de borde con árboles de 5,4 m de altura promedio, conformado por Rhizophora mangle, Avicennia germinans, Laguncularia racemosa y Conocarpus erectus. Evidencia de afectación por lodos aceitosos presentes en el sustrato y presencia de residuos sólidos (botellas, latas, plásticos). Actualmente, bajo la figura de Parque Regional se ha logrado su recuperación y es un enclave ambiental que sirve de hábitat a numerosas especies faunísticas residentes y migratorias."},null,300,0,1131,"X",null,null,"ZZZ",null,null,null,null,{"$f":"CONCATENATE(REFERENTES!T557,\"(\",REFERENTES!Q557,\")\")","v":"Playa OBREGON_AQUIROBA(QUIR-ZP1-POBA-1)"},{"$f":"REFERENTES!P557","v":42245}]
[null,null,null,null,null,null,null,null,null,null,null,{"$f":"IF(ISNUMBER(FIND(\"RES\",REFERENTES!$Q$2:$Q$1134)),REFERENTES!Q306,\"\")","v":""},{"$f":"REFERENTES!S306","v":"Estación Manglar Bahía Hooker (formada por 3 parcelas circulares): Manglar que hace parte del Parque Regional Old Point Regional Mangrove Park, localizado al nororiente de la isla de San Andrés, con una extensión de manglar de 60,62 ha (INVEMAR-CORALINA, 2016). Es un manglar de borde con árboles de 5,4 m de altura promedio, conformado por Rhizophora mangle, Avicennia germinans, Laguncularia racemosa y Conocarpus erectus. Evidencia de afectación por lodos aceitosos presentes en el sustrato y presencia de residuos sólidos (botellas, latas, plásticos). Actualmente, bajo la figura de Parque Regional se ha logrado su recuperación y es un enclave ambiental que sirve de hábitat a numerosas especies faunísticas residentes y migratorias."},null,301,0,1131,"X",null,null,"ZZZ",null,null,null,null,{"$f":"CONCATENATE(REFERENTES!T558,\"(\",REFERENTES!Q558,\")\")","v":"Playa Obregon(QUIR-ZP1-PORG-1)"},{"$f":"REFERENTES!P558","v":42236}]
[null,null,null,null,null,null,null,null,null,null,null,{"$f":"IF(ISNUMBER(FIND(\"RES\",REFERENTES!$Q$2:$Q$1134)),REFERENTES!Q307,\"\")","v":""},{"$f":"REFERENTES!S307","v":"Estación Manglar Bahía Hooker (formada por 3 parcelas circulares): Manglar que hace parte del Parque Regional Old Point Regional Mangrove Park, localizado al nororiente de la isla de San Andrés, con una extensión de manglar de 60,62 ha (INVEMAR-CORALINA, 2016). Es un manglar de borde con árboles de 5,4 m de altura promedio, conformado por Rhizophora mangle, Avicennia germinans, Laguncularia racemosa y Conocarpus erectus. Evidencia de afectación por lodos aceitosos presentes en el sustrato y presencia de residuos sólidos (botellas, latas, plásticos). Actualmente, bajo la figura de Parque Regional se ha logrado su recuperación y es un enclave ambiental que sirve de hábitat a numerosas especies faunísticas residentes y migratorias."},null,302,0,1131,"X",null,null,"ZZZ",null,null,null,null,{"$f":"CONCATENATE(REFERENTES!T559,\"(\",REFERENTES!Q559,\")\")","v":"Playa_Sofia(TIMB-ZP1-PSOFIA-1)"},{"$f":"REFERENTES!P559","v":45481}]
[null,null,null,null,null,null,null,null,null,null,null,{"$f":"IF(ISNUMBER(FIND(\"RES\",REFERENTES!$Q$2:$Q$1134)),REFERENTES!Q308,\"\")","v":""},{"$f":"REFERENTES!S308","v":"Costado sur de la bahía, en el cual se observa una franja externa con árboles de porte alto precedida, por una pequeña franja de arracacho y abundante sedimentación que dificulta el acceso. Al interior _x000D_\r\r\n se encontró un bosque medianamente denso con presencia de R. mangle, L. racemosa y Nectandra sp ( sp asociada al ecosistema panganal)."},null,303,0,1131,"X",null,null,"ZZZ",null,null,null,null,{"$f":"CONCATENATE(REFERENTES!T560,\"(\",REFERENTES!Q560,\")\")","v":"Pozos Colorados-1(PZC-SZ1-PZC-1)"},{"$f":"REFERENTES!P560","v":40993}]
[null,null,null,null,null,null,null,null,null,null,null,{"$f":"IF(ISNUMBER(FIND(\"RES\",REFERENTES!$Q$2:$Q$1134)),REFERENTES!Q309,\"\")","v":""},{"$f":"REFERENTES!S309","v":"Bosque denso hacia afuera pero ralo al interior.Presencia de R. mangle, L. racemosa y P. rhizophorae.Presencia de orquídeas y helecho A. aureum.  Presión antrópica relacionada por Corta de Varas."},null,304,0,1131,"X",null,null,"ZZZ",null,null,null,null,{"$f":"CONCATENATE(REFERENTES!T561,\"(\",REFERENTES!Q561,\")\")","v":"Pueblo Viejo -1(LEN;SFFCGSM-SZ1-PVIE-1)"},{"$f":"REFERENTES!P561","v":41001}]
[null,null,null,null,null,null,null,null,null,null,null,{"$f":"IF(ISNUMBER(FIND(\"RES\",REFERENTES!$Q$2:$Q$1134)),REFERENTES!Q310,\"\")","v":""},{"$f":"REFERENTES!S310","v":"Bosque ralo al interior.  Se evidenciaron árboles cortados inclusive de los incluidos en la parcela, quitaron números de árboles marcados, por lo tanto se debió remarcar. Presencia de R. mangle y, L. racemosa.  Presión antrópica relacionada por Corta de Varas."},null,305,0,1131,"X",null,null,"ZZZ",null,null,null,null,{"$f":"CONCATENATE(REFERENTES!T562,\"(\",REFERENTES!Q562,\")\")","v":"Puerquera(VIRU-SZ1-PUER-1)"},{"$f":"REFERENTES!P562","v":42111}]
[null,null,null,null,null,null,null,null,null,null,null,{"$f":"IF(ISNUMBER(FIND(\"RES\",REFERENTES!$Q$2:$Q$1134)),REFERENTES!Q311,\"\")","v":""},{"$f":"REFERENTES!S311","v":0},null,306,0,1131,"X",null,null,"ZZZ",null,null,null,null,{"$f":"CONCATENATE(REFERENTES!T563,\"(\",REFERENTES!Q563,\")\")","v":"Puerto Cesar-1(CORI-ZP1-Pces-1)"},{"$f":"REFERENTES!P563","v":48471}]
[null,null,null,null,null,null,null,null,null,null,null,{"$f":"IF(ISNUMBER(FIND(\"RES\",REFERENTES!$Q$2:$Q$1134)),REFERENTES!Q312,\"\")","v":""},{"$f":"REFERENTES!S312","v":"La parcela se localiza tierra adentro de la ciénaga a 170 m  de la línea de agua y a 215 m de la carretera. El bosque de mangle es denso en el área de la parcela,  en los últimos metros se observa B. marítima  y se encuentra un arroyo, otro arroyo a  5 metros antes del inicio de la parcela."},null,307,0,1131,"X",null,null,"ZZZ",null,null,null,null,{"$f":"CONCATENATE(REFERENTES!T564,\"(\",REFERENTES!Q564,\")\")","v":"Puerto España(BSJU-ZR3-SJPE-1)"},{"$f":"REFERENTES!P564","v":45880}]
[null,null,null,null,null,null,null,null,null,null,null,{"$f":"IF(ISNUMBER(FIND(\"RES\",REFERENTES!$Q$2:$Q$1134)),REFERENTES!Q313,\"\")","v":""},{"$f":"REFERENTES!S313","v":"Parcela montada en el marco del proyecto \"Lineamientos de restauración para los manglares del departamento de La Guajira\" ejecutado por INVEMAR. Franja estrecha de manglar adyacente a Laguna Grande. Parche con individuos de A germinans, C. erectus, intermezclados con bosque seco (Barrabas, tunas). Suelo arenoso con presencia de Batis maritima, escasa regeneración natural de manglar. Residuos sólidos"},null,308,0,1131,"X",null,null,"ZZZ",null,null,null,null,{"$f":"CONCATENATE(REFERENTES!T565,\"(\",REFERENTES!Q565,\")\")","v":"Punta Arenas(TBOM-ZP1-Pta Arenas-1)"},{"$f":"REFERENTES!P565","v":44603}]
[null,null,null,null,null,null,null,null,null,null,null,{"$f":"IF(ISNUMBER(FIND(\"RES\",REFERENTES!$Q$2:$Q$1134)),REFERENTES!Q314,\"\")","v":""},{"$f":"REFERENTES!S314","v":"Franja estrecha de manglar adyacente a Laguna Grande. Parche con individuos de A germinans, C. erectus, intermezclados con bosque seco (Barrabas, tunas). Suelo arenoso con presencia de Batis maritima, escasa regeneración natural de manglar. Residuos sólidos"},null,309,0,1131,"X",null,null,"ZZZ",null,null,null,null,{"$f":"CONCATENATE(REFERENTES!T566,\"(\",REFERENTES!Q566,\")\")","v":"Punta Boqueron(JPVI-ZR1-Boquerón-1)"},{"$f":"REFERENTES!P566","v":44621}]
[null,null,null,null,null,null,null,null,null,null,null,{"$f":"IF(ISNUMBER(FIND(\"RES\",REFERENTES!$Q$2:$Q$1134)),REFERENTES!Q315,\"\")","v":""},{"$f":"REFERENTES!S315","v":0},null,310,0,1131,"X",null,null,"ZZZ",null,null,null,null,{"$f":"CONCATENATE(REFERENTES!T567,\"(\",REFERENTES!Q567,\")\")","v":"Punta Caricari(CARI-ZP1-PCC-1)"},{"$f":"REFERENTES!P567","v":43635}]
[null,null,null,null,null,null,null,null,null,null,null,{"$f":"IF(ISNUMBER(FIND(\"RES\",REFERENTES!$Q$2:$Q$1134)),REFERENTES!Q316,\"\")","v":""},{"$f":"REFERENTES!S316","v":"Estación con presencia de R. mangle, A. germinans y L. racemosa, abundante regeneración, neumatóforos con tamaños superiores a 15 cm.  Nivel de inundación promedio de 10 cm, bosque con árboles secos. Ubicada en la costa de la ciénaga de los cansados."},null,311,0,1131,"X",null,null,"ZZZ",null,null,null,null,{"$f":"CONCATENATE(REFERENTES!T568,\"(\",REFERENTES!Q568,\")\")","v":"Punta Caricari(CARI-ZP1-PCC-2)"},{"$f":"REFERENTES!P568","v":43773}]
[null,null,null,null,null,null,null,null,null,null,null,{"$f":"IF(ISNUMBER(FIND(\"RES\",REFERENTES!$Q$2:$Q$1134)),REFERENTES!Q317,\"\")","v":""},{"$f":"REFERENTES!S317","v":"Bosque medianamente denso, presencia de R. mangle, L. racemosa y Nectandra sp ( sp asociada al ecosistema panganal).  Presión antrópica relacionada por Corta de Varas así mismo se observan agallas en todas las estructuras del manglar. Arboles mal formados."},null,312,0,1131,"X",null,null,"ZZZ",null,null,null,null,{"$f":"CONCATENATE(REFERENTES!T569,\"(\",REFERENTES!Q569,\")\")","v":"Punta Cerro -1(CGSM-SZ1-PtaCerro-1)"},{"$f":"REFERENTES!P569","v":45288}]
[null,null,null,null,null,null,null,null,null,null,null,{"$f":"IF(ISNUMBER(FIND(\"RES\",REFERENTES!$Q$2:$Q$1134)),REFERENTES!Q318,\"\")","v":""},{"$f":"REFERENTES!S318","v":"Parcela montada en el marco del proyecto \"Lineamientos de restauración para los manglares del departamento de La Guajira\" ejecutado por INVEMAR"},null,313,0,1131,"X",null,null,"ZZZ",null,null,null,null,{"$f":"CONCATENATE(REFERENTES!T570,\"(\",REFERENTES!Q570,\")\")","v":"Punta Cerro -2(CGSM-SZ1-PtaCerro-2)"},{"$f":"REFERENTES!P570","v":45290}]
[null,null,null,null,null,null,null,null,null,null,null,{"$f":"IF(ISNUMBER(FIND(\"RES\",REFERENTES!$Q$2:$Q$1134)),REFERENTES!Q319,\"\")","v":""},{"$f":"REFERENTES!S319","v":0},null,314,0,1131,"X",null,null,"ZZZ",null,null,null,null,{"$f":"CONCATENATE(REFERENTES!T571,\"(\",REFERENTES!Q571,\")\")","v":"Punta Cerro -3(CGSM-SZ1-PtaCerro-3)"},{"$f":"REFERENTES!P571","v":45292}]
[null,null,null,null,null,null,null,null,null,null,null,{"$f":"IF(ISNUMBER(FIND(\"RES\",REFERENTES!$Q$2:$Q$1134)),REFERENTES!Q320,\"\")","v":""},{"$f":"REFERENTES!S320","v":"Esta parcela ubica da cerca de la población de boca cerrada, presenta abundancia de Rhizophora mangle"},null,315,0,1131,"X",null,null,"ZZZ",null,null,null,null,{"$f":"CONCATENATE(REFERENTES!T572,\"(\",REFERENTES!Q572,\")\")","v":"Punta Cerro -4(CGSM-SZ1-PtaCerro-4)"},{"$f":"REFERENTES!P572","v":45549}]
[null,null,null,null,null,null,null,null,null,null,null,{"$f":"IF(ISNUMBER(FIND(\"RES\",REFERENTES!$Q$2:$Q$1134)),REFERENTES!Q321,\"\")","v":""},{"$f":"REFERENTES!S321","v":0},null,316,0,1131,"X",null,null,"ZZZ",null,null,null,null,{"$f":"CONCATENATE(REFERENTES!T573,\"(\",REFERENTES!Q573,\")\")","v":"Punta Cerro -5(CGSM-SZ1-PtaCerro-5)"},{"$f":"REFERENTES!P573","v":45551}]
[null,null,null,null,null,null,null,null,null,null,null,{"$f":"IF(ISNUMBER(FIND(\"RES\",REFERENTES!$Q$2:$Q$1134)),REFERENTES!Q322,\"\")","v":""},{"$f":"REFERENTES!S322","v":"BOSQUE NATAL MIXTO CON ESPECIES DE NATO, PALMA NAIDI, SUELA, SAPOTOLONGO. EL SUELO PRESENTA CONSISTENCIA DURA . PRESENCIA DE REGENERACIÓN NATURAL DE PIÑUELO EN ALGUNOS CLAROS. NATO POCO INTERVENIDO."},null,317,0,1131,"X",null,null,"ZZZ",null,null,null,null,{"$f":"CONCATENATE(REFERENTES!T574,\"(\",REFERENTES!Q574,\")\")","v":"Punta Cerro -6(CGSM-SZ1-PtaCerro-6)"},{"$f":"REFERENTES!P574","v":45553}]
[null,null,null,null,null,null,null,null,null,null,null,{"$f":"IF(ISNUMBER(FIND(\"RES\",REFERENTES!$Q$2:$Q$1134)),REFERENTES!Q323,\"\")","v":""},{"$f":"REFERENTES!S323","v":0},null,318,0,1131,"X",null,null,"ZZZ",null,null,null,null,{"$f":"CONCATENATE(REFERENTES!T575,\"(\",REFERENTES!Q575,\")\")","v":"Punta Chino -1(CGSM-SZ1-PtaChino-1)"},{"$f":"REFERENTES!P575","v":45274}]
[null,null,null,null,null,null,null,null,null,null,null,{"$f":"IF(ISNUMBER(FIND(\"RES\",REFERENTES!$Q$2:$Q$1134)),REFERENTES!Q324,\"\")","v":""},{"$f":"REFERENTES!S324","v":0},null,319,0,1131,"X",null,null,"ZZZ",null,null,null,null,{"$f":"CONCATENATE(REFERENTES!T576,\"(\",REFERENTES!Q576,\")\")","v":"Punta Chino -2(CGSM-SZ1-PtaChino-2)"},{"$f":"REFERENTES!P576","v":45276}]
[null,null,null,null,null,null,null,null,null,null,null,{"$f":"IF(ISNUMBER(FIND(\"RES\",REFERENTES!$Q$2:$Q$1134)),REFERENTES!Q325,\"\")","v":""},{"$f":"REFERENTES!S325","v":"Parcela 0.1 ha, ubicada de manera perpendicular al borde del Estero Saturio, a 1,45 km aproximadamente de la comunidad de Coquí. Su bosque está compuesto por: Rhizophora mangle, Pelliciera rhizophorae y Mora oleifera."},null,320,0,1131,"X",null,null,"ZZZ",null,null,null,null,{"$f":"CONCATENATE(REFERENTES!T577,\"(\",REFERENTES!Q577,\")\")","v":"Punta Chino -3(CGSM-SZ1-PtaChino-3)"},{"$f":"REFERENTES!P577","v":45278}]
[null,null,null,null,null,null,null,null,null,null,null,{"$f":"IF(ISNUMBER(FIND(\"RES\",REFERENTES!$Q$2:$Q$1134)),REFERENTES!Q326,\"\")","v":""},{"$f":"REFERENTES!S326","v":"Dificil acceso por cercas de alambres puas, Suelo anegadocon vegetacion brinzal"},null,321,0,{"$f":"IF(P326=0,MAX($O$6:$O$1135)+1,O326)","v":1131},{"$f":"IFERROR(VLOOKUP(SMALL($Q$6:$Q$1135,O326),$O$6:$P$1135,2,FALSE),\"X\")","v":"X"},null,null,{"$f":"IF(ISNUMBER(SEARCH($U$5,$R$6:$R$190))=TRUE,R326,\"ZZZ\")","v":"ZZZ"},null,null,null,null,{"$f":"CONCATENATE(REFERENTES!T578,\"(\",REFERENTES!Q578,\")\")","v":"Punta Chino -4(CGSM-SZ1-PtaChino-4)"},{"$f":"REFERENTES!P578","v":45567}]
[null,null,null,null,null,null,null,null,null,null,null,{"$f":"IF(ISNUMBER(FIND(\"RES\",REFERENTES!$Q$2:$Q$1134)),REFERENTES!Q327,\"\")","v":""},{"$f":"REFERENTES!S327","v":"Es importante destacar que estos bosques reciben una fuerte descarga de residuos sólidos provenientes de la ciudad de Bueventura que tiene una población de aproximadamente 400.000 habitantes.   En este sector predomina el Rhizophora mangle y en algunas parcelas la regeneración natural es nula."},null,322,{"$f":"IF(L327=\"\",0,L327)","v":0},1131,"X",null,null,"ZZZ",null,null,null,null,{"$f":"CONCATENATE(REFERENTES!T579,\"(\",REFERENTES!Q579,\")\")","v":"Punta Chino -5(CGSM-SZ1-PtaChino-5)"},{"$f":"REFERENTES!P579","v":45569}]
[null,null,null,null,null,null,null,null,null,null,null,{"$f":"IF(ISNUMBER(FIND(\"RES\",REFERENTES!$Q$2:$Q$1134)),REFERENTES!Q328,\"\")","v":""},{"$f":"REFERENTES!S328","v":"En términos generales este bosque a pesar de presentar un distribución diamétrica en forma de J invertida, es característico de un bosque altamente intervenido en concordancia con la zonificación de 2007 y se aprecia claramente en el valor del área basal de 10 m2 Ha, diámetro promedio de 10 cms con alturas que no superan los 24 metros y una baja densidad de árboles en las clases diamétricas superiores."},null,323,0,1131,"X",null,null,"ZZZ",null,null,null,null,{"$f":"CONCATENATE(REFERENTES!T580,\"(\",REFERENTES!Q580,\")\")","v":"Punta Chino -6(CGSM-SZ1-PtaChino-6)"},{"$f":"REFERENTES!P580","v":45571}]
[null,null,null,null,null,null,null,null,null,null,null,{"$f":"IF(ISNUMBER(FIND(\"RES\",REFERENTES!$Q$2:$Q$1134)),REFERENTES!Q329,\"\")","v":""},{"$f":"REFERENTES!S329","v":"Cerca a la comunidad de Santa Rosa, hay mucha abundancia de agua dulce proveniente del río Guapi, la especie principal es el Mora oleifera"},null,324,0,1131,"X",null,null,"ZZZ",null,null,null,null,{"$f":"CONCATENATE(REFERENTES!T581,\"(\",REFERENTES!Q581,\")\")","v":"Punta Coquito(BCOL-ZP1-Pcoq-1)"},{"$f":"REFERENTES!P581","v":48403}]
[null,null,null,null,null,null,null,null,null,null,null,{"$f":"IF(ISNUMBER(FIND(\"RES\",REFERENTES!$Q$2:$Q$1134)),REFERENTES!Q330,\"\")","v":""},{"$f":"REFERENTES!S330","v":"BOSQUE DE MANGLE ROJO BIEN DESARROLLADO CON ALTA DENSIDAD DE RAÍCES AÉREAS, SE OBSERVA PRESENCIA DE TALAS DE INDIVIDUOS DE MAYOR PORTE."},null,325,0,1131,"X",null,null,"ZZZ",null,null,null,null,{"$f":"CONCATENATE(REFERENTES!T582,\"(\",REFERENTES!Q582,\")\")","v":"Punta Coquito(CORI-ZP1-Pcoq-1)"},{"$f":"REFERENTES!P582","v":48683}]
[null,null,null,null,null,null,null,null,null,null,null,{"$f":"IF(ISNUMBER(FIND(\"RES\",REFERENTES!$Q$2:$Q$1134)),REFERENTES!Q331,\"\")","v":""},{"$f":"REFERENTES!S331","v":"BOSQUE DE MANGLE MIXTO. SU COMPOSICIÓN FLORISTICA DE MANGLE PIÑUELO, NATO E IGUANERO. ALTA REGENERACIÓN NATURAL. CONSISTENCIA DEL SUELO ALTAMENTE BLANDA"},null,326,0,1131,"X",null,null,"ZZZ",null,null,null,null,{"$f":"CONCATENATE(REFERENTES!T583,\"(\",REFERENTES!Q583,\")\")","v":"Punta Seca(PSEC-ZR1-PSEC-1)"},{"$f":"REFERENTES!P583","v":44400}]
[null,null,null,null,null,null,null,null,null,null,null,{"$f":"IF(ISNUMBER(FIND(\"RES\",REFERENTES!$Q$2:$Q$1134)),REFERENTES!Q332,\"\")","v":""},{"$f":"REFERENTES!S332","v":0},null,327,0,1131,"X",null,null,"ZZZ",null,null,null,null,{"$f":"CONCATENATE(REFERENTES!T584,\"(\",REFERENTES!Q584,\")\")","v":"Punta Seca -2(PSEC-ZR1-PSEC-2)"},{"$f":"REFERENTES!P584","v":44436}]
[null,null,null,null,null,null,null,null,null,null,null,{"$f":"IF(ISNUMBER(FIND(\"RES\",REFERENTES!$Q$2:$Q$1134)),REFERENTES!Q333,\"\")","v":""},{"$f":"REFERENTES!S333","v":"Bosque medianamente intervenido con dominancia de mangle rojo.  Suelos más estables que en las otras parcelas donde predomina el mangle rojo."},null,328,0,1131,"X",null,null,"ZZZ",null,null,null,null,{"$f":"CONCATENATE(REFERENTES!T585,\"(\",REFERENTES!Q585,\")\")","v":"Punta de las Vacas-1(CORI-ZP1-Pvac-1)"},{"$f":"REFERENTES!P585","v":48432}]
[null,null,null,null,null,null,null,null,null,null,null,{"$f":"IF(ISNUMBER(FIND(\"RES\",REFERENTES!$Q$2:$Q$1134)),REFERENTES!Q334,\"\")","v":""},{"$f":"REFERENTES!S334","v":"En la playa hay instalada una planta marca Izuso de montor diesel con manguera de 6\" que surte de agua de mar a aprox 27 piscinas. A lo largo de 1 km de playa se observó la apertura de 9 canales (entre diciembre 14 y enero 15) para abastecimiento de agua a las charcas"},null,329,0,1131,"X",null,null,"ZZZ",null,null,null,null,{"$f":"CONCATENATE(REFERENTES!T586,\"(\",REFERENTES!Q586,\")\")","v":"Punta_Coco(PCAU-ZUS2-PCOCO-1)"},{"$f":"REFERENTES!P586","v":45494}]
[null,null,null,null,null,null,null,null,null,null,null,{"$f":"IF(ISNUMBER(FIND(\"RES\",REFERENTES!$Q$2:$Q$1134)),REFERENTES!Q335,\"\")","v":""},{"$f":"REFERENTES!S335","v":"Parcela montada en el marco del proyecto \"Lineamientos de restauración para los manglares del departamento de La Guajira\" ejecutado por INVEMAR. En la playa hay instalada una planta marca Izuso de montor diesel con manguera de 6\" que surte de agua de mar a aprox 27 piscinas. A lo largo de 1 km de playa se observó la apertura de 9 canales (entre diciembre 14 y enero 15) para abastecimiento de agua a las charcas"},null,330,0,1131,"X",null,null,"ZZZ",null,null,null,null,{"$f":"CONCATENATE(REFERENTES!T587,\"(\",REFERENTES!Q587,\")\")","v":"Quebrada Balsadito(MAYO-ZR3-QB-1)"},{"$f":"REFERENTES!P587","v":46006}]
[null,null,null,null,null,null,null,null,null,null,null,{"$f":"IF(ISNUMBER(FIND(\"RES\",REFERENTES!$Q$2:$Q$1134)),REFERENTES!Q336,\"\")","v":""},{"$f":"REFERENTES!S336","v":0},null,331,0,1131,"X",null,null,"ZZZ",null,null,null,null,{"$f":"CONCATENATE(REFERENTES!T588,\"(\",REFERENTES!Q588,\")\")","v":"Quiroga(QUIR-ZP1-QUIROGA-1)"},{"$f":"REFERENTES!P588","v":45497}]
[null,null,null,null,null,null,null,null,null,null,null,{"$f":"IF(ISNUMBER(FIND(\"RES\",REFERENTES!$Q$2:$Q$1134)),REFERENTES!Q337,\"\")","v":""},{"$f":"REFERENTES!S337","v":"Parcela montada en el marco del proyecto \"Lineamientos de restauración para los manglares del departamento de La Guajira\" ejecutado por INVEMAR"},null,332,0,1131,"X",null,null,"ZZZ",null,null,null,null,{"$f":"CONCATENATE(REFERENTES!T589,\"(\",REFERENTES!Q589,\")\")","v":"Rincon Norte(RINC-ZP1-RNOR-1)"},{"$f":"REFERENTES!P589","v":44392}]
[null,null,null,null,null,null,null,null,null,null,null,{"$f":"IF(ISNUMBER(FIND(\"RES\",REFERENTES!$Q$2:$Q$1134)),REFERENTES!Q338,\"\")","v":""},{"$f":"REFERENTES!S338","v":"Desde fuera se observa una franja rala del ecosistema con árboles de porte bajo.  Mayor presencia de R, mangle y menor de A. germinans y L. racemosa. Al inferior se reportan las mismas especies. El sotobosque dominado por  helecho matatigre (A, aureum),  Se observan tocones por la corta de varas.  Presencia de comején, bolsas plásticas, tarros y basuras en general."},null,333,0,1131,"X",null,null,"ZZZ",null,null,null,null,{"$f":"CONCATENATE(REFERENTES!T590,\"(\",REFERENTES!Q590,\")\")","v":"Rincon Norte -2(RINC-ZP1-RNOR-2)"},{"$f":"REFERENTES!P590","v":44432}]
[null,null,null,null,null,null,null,null,null,null,null,{"$f":"IF(ISNUMBER(FIND(\"RES\",REFERENTES!$Q$2:$Q$1134)),REFERENTES!Q339,\"\")","v":""},{"$f":"REFERENTES!S339","v":0},null,334,0,1131,"X",null,null,"ZZZ",null,null,null,null,{"$f":"CONCATENATE(REFERENTES!T591,\"(\",REFERENTES!Q591,\")\")","v":"Rincon Sur(RINC-ZR1-RSUR-1)"},{"$f":"REFERENTES!P591","v":44395}]
[null,null,null,null,null,null,null,null,null,null,null,{"$f":"IF(ISNUMBER(FIND(\"RES\",REFERENTES!$Q$2:$Q$1134)),REFERENTES!Q340,\"\")","v":""},{"$f":"REFERENTES!S340","v":0},null,335,0,1131,"X",null,null,"ZZZ",null,null,null,null,{"$f":"CONCATENATE(REFERENTES!T592,\"(\",REFERENTES!Q592,\")\")","v":"Rincon Sur -2(RINC-ZR1-RSUR-2)"},{"$f":"REFERENTES!P592","v":44434}]
[null,null,null,null,null,null,null,null,null,null,null,{"$f":"IF(ISNUMBER(FIND(\"RES\",REFERENTES!$Q$2:$Q$1134)),REFERENTES!Q341,\"\")","v":""},{"$f":"REFERENTES!S341","v":0},null,336,0,1131,"X",null,null,"ZZZ",null,null,null,null,{"$f":"CONCATENATE(REFERENTES!T593,\"(\",REFERENTES!Q593,\")\")","v":"Rinconada -1(VIPIS-SZ1-RIN-1)"},{"$f":"REFERENTES!P593","v":45914}]
[null,null,null,null,null,null,null,null,null,null,null,{"$f":"IF(ISNUMBER(FIND(\"RES\",REFERENTES!$Q$2:$Q$1134)),REFERENTES!Q342,\"\")","v":""},{"$f":"REFERENTES!S342","v":"La parcela está ubicada a una distancia de 700 m al oriente de la desembocadura del Río Buritaca, 50 m del borde de la cobertura vegetal. Es un relicto de mangle constituido por L. racemos, en los últimos metros de la Parcela se observa una ligera depresión en la que se acumula agua, y es alimentada por las crecidas del rio. También se observa mangle inclinados y volcados además de zonas taladas."},null,337,0,1131,"X",null,null,"ZZZ",null,null,null,null,{"$f":"CONCATENATE(REFERENTES!T594,\"(\",REFERENTES!Q594,\")\")","v":"Rinconada -2(VIPIS-SZ1-RIN-2)"},{"$f":"REFERENTES!P594","v":45916}]
[null,null,null,null,null,null,null,null,null,null,null,{"$f":"IF(ISNUMBER(FIND(\"RES\",REFERENTES!$Q$2:$Q$1134)),REFERENTES!Q343,\"\")","v":""},{"$f":"REFERENTES!S343","v":0},null,338,0,1131,"X",null,null,"ZZZ",null,null,null,null,{"$f":"CONCATENATE(REFERENTES!T595,\"(\",REFERENTES!Q595,\")\")","v":"Rinconada -3(VIPIS-SZ1-RIN-3)"},{"$f":"REFERENTES!P595","v":45920}]
[null,null,null,null,null,null,null,null,null,null,null,{"$f":"IF(ISNUMBER(FIND(\"RES\",REFERENTES!$Q$2:$Q$1134)),REFERENTES!Q344,\"\")","v":""},{"$f":"REFERENTES!S344","v":"Se localiza en el costado oriental del río Buritaca a 1 km de la desembocadura, a  60 m del borde de la cobertura vegetal y a pocos metros del final del manglar. En las inmediaciones hay palmas de coco, matorrales y pastos. Dentro de la parcela entre 15 a 20 m el suelo esta encharcado con presencia de ranconcha y arboles inclinados."},null,339,0,1131,"X",null,null,"ZZZ",null,null,null,null,{"$f":"CONCATENATE(REFERENTES!T596,\"(\",REFERENTES!Q596,\")\")","v":"Rio Ancachi(Nuquí-ZR1-RIAN-1)"},{"$f":"REFERENTES!P596","v":45086}]
[null,null,null,null,null,null,null,null,null,null,null,{"$f":"IF(ISNUMBER(FIND(\"RES\",REFERENTES!$Q$2:$Q$1134)),REFERENTES!Q345,\"\")","v":""},{"$f":"REFERENTES!S345","v":"Se localiza a 800 m de la desembocadura del río Buritaca, en el extremo más al occidental del manglar, limita con zonas de potrero,  a una distancia de 18 m  del borde de la línea de cobertura vegetal. La parcela está constituida por mangla  L. racemosa y vegetación de playa. La franja de cobertura de mangla es reducida."},null,340,0,1131,"X",null,null,"ZZZ",null,null,null,null,{"$f":"CONCATENATE(REFERENTES!T597,\"(\",REFERENTES!Q597,\")\")","v":"Rio Caimán Nuevo-1(CORI-ZP1-Cnvo-1)"},{"$f":"REFERENTES!P597","v":48446}]
[null,null,null,null,null,null,null,null,null,null,null,{"$f":"IF(ISNUMBER(FIND(\"RES\",REFERENTES!$Q$2:$Q$1134)),REFERENTES!Q346,\"\")","v":""},{"$f":"REFERENTES!S346","v":"Se ubica a 400 m de la desembocadura del río Buritaca,  y  a una distancia de 17 m  del borde de la cobertura vegetal que da a la playa turística que da a una madre vieja y esta a su vez está protegida del mar por una barra de arena. En esta área la franja de manglar es más ancha."},null,341,0,1131,"X",null,null,"ZZZ",null,null,null,null,{"$f":"CONCATENATE(REFERENTES!T598,\"(\",REFERENTES!Q598,\")\")","v":"Rio Caimán Viejo(CORI-ZUS1-Cviej-1)"},{"$f":"REFERENTES!P598","v":48440}]
[null,null,null,null,null,null,null,null,null,null,null,{"$f":"IF(ISNUMBER(FIND(\"RES\",REFERENTES!$Q$2:$Q$1134)),REFERENTES!Q347,\"\")","v":""},{"$f":"REFERENTES!S347","v":0},null,342,0,1131,"X",null,null,"ZZZ",null,null,null,null,{"$f":"CONCATENATE(REFERENTES!T599,\"(\",REFERENTES!Q599,\")\")","v":"Rio Chorí(Jurub-ZUS1-Pabarc-1)"},{"$f":"REFERENTES!P599","v":45248}]
[null,null,null,null,null,null,null,null,null,null,null,{"$f":"IF(ISNUMBER(FIND(\"RES\",REFERENTES!$Q$2:$Q$1134)),REFERENTES!Q348,\"\")","v":""},{"$f":"REFERENTES!S348","v":"Manglar tipo cuenca mono específico de A. germinans. En buen estado. Abundantes neumatóforos. Escasa regeneración natural"},null,343,0,1131,"X",null,null,"ZZZ",null,null,null,null,{"$f":"CONCATENATE(REFERENTES!T600,\"(\",REFERENTES!Q600,\")\")","v":"Rio Saija 3-1(CANT-SZ1-SAIJA3-1)"},{"$f":"REFERENTES!P600","v":49591}]
[null,null,null,null,null,null,null,null,null,null,null,{"$f":"IF(ISNUMBER(FIND(\"RES\",REFERENTES!$Q$2:$Q$1134)),REFERENTES!Q349,\"\")","v":""},{"$f":"REFERENTES!S349","v":"Parcela montada en el marco del proyecto \"Lineamientos de restauración para los manglares del departamento de La Guajira\" ejecutado por INVEMAR. Manglar tipo cuenca mono específico de A. germinans. En buen estado. Abundantes neumatóforos. Escasa regeneración natural"},null,344,0,1131,"X",null,null,"ZZZ",null,null,null,null,{"$f":"CONCATENATE(REFERENTES!T601,\"(\",REFERENTES!Q601,\")\")","v":"Rio Sevilla -1(CGSM-SZ1-Sevillla-1)"},{"$f":"REFERENTES!P601","v":45267}]
[null,null,null,null,null,null,null,null,null,null,null,{"$f":"IF(ISNUMBER(FIND(\"RES\",REFERENTES!$Q$2:$Q$1134)),REFERENTES!Q350,\"\")","v":""},{"$f":"REFERENTES!S350","v":"Manglar tipo cuenca mono específico de A. germinans. En buen estado. Abundantes neumatóforos. Escasa regeneración natural"},null,345,0,1131,"X",null,null,"ZZZ",null,null,null,null,{"$f":"CONCATENATE(REFERENTES!T602,\"(\",REFERENTES!Q602,\")\")","v":"Rio Sevilla -2(CGSM-SZ1-Sevillla-2)"},{"$f":"REFERENTES!P602","v":45269}]
[null,null,null,null,null,null,null,null,null,null,null,{"$f":"IF(ISNUMBER(FIND(\"RES\",REFERENTES!$Q$2:$Q$1134)),REFERENTES!Q351,\"\")","v":""},{"$f":"REFERENTES!S351","v":"Parcela montada en el marco del proyecto \"Lineamientos de restauración para los manglares del departamento de La Guajira\" ejecutado por INVEMAR. Manglar tipo cuenca mono específico de A. germinans. En buen estado. Abundantes neumatóforos. Escasa regeneración natural"},null,346,0,1131,"X",null,null,"ZZZ",null,null,null,null,{"$f":"CONCATENATE(REFERENTES!T603,\"(\",REFERENTES!Q603,\")\")","v":"Rio Sevilla -3(CGSM-SZ1-Sevillla-3)"},{"$f":"REFERENTES!P603","v":45271}]
[null,null,null,null,null,null,null,null,null,null,null,{"$f":"IF(ISNUMBER(FIND(\"RES\",REFERENTES!$Q$2:$Q$1134)),REFERENTES!Q352,\"\")","v":""},{"$f":"REFERENTES!S352","v":"VEGETACIÓN DE MANGLE ROJO ADULTO  BIEN DESARROLLADO CON INTERVENCIONES ESPORADICAS"},null,347,0,1131,"X",null,null,"ZZZ",null,null,null,null,{"$f":"CONCATENATE(REFERENTES!T604,\"(\",REFERENTES!Q604,\")\")","v":"Rio Toribio-1(TOR-SZ1-Toribio-1)"},{"$f":"REFERENTES!P604","v":48867}]
[null,null,null,null,null,null,null,null,null,null,null,{"$f":"IF(ISNUMBER(FIND(\"RES\",REFERENTES!$Q$2:$Q$1134)),REFERENTES!Q353,\"\")","v":""},{"$f":"REFERENTES!S353","v":0},null,348,0,1131,"X",null,null,"ZZZ",null,null,null,null,{"$f":"CONCATENATE(REFERENTES!T605,\"(\",REFERENTES!Q605,\")\")","v":"Rio Toribio-2(TOR-SZ1-Toribio-2)"},{"$f":"REFERENTES!P605","v":48869}]
[null,null,null,null,null,null,null,null,null,null,null,{"$f":"IF(ISNUMBER(FIND(\"RES\",REFERENTES!$Q$2:$Q$1134)),REFERENTES!Q354,\"\")","v":""},{"$f":"REFERENTES!S354","v":0},null,349,0,1131,"X",null,null,"ZZZ",null,null,null,null,{"$f":"CONCATENATE(REFERENTES!T606,\"(\",REFERENTES!Q606,\")\")","v":"Rio Toribio-3(TOR-SZ1-Toribio-3)"},{"$f":"REFERENTES!P606","v":48871}]
[null,null,null,null,null,null,null,null,null,null,null,{"$f":"IF(ISNUMBER(FIND(\"RES\",REFERENTES!$Q$2:$Q$1134)),REFERENTES!Q355,\"\")","v":""},{"$f":"REFERENTES!S355","v":0},null,350,0,1131,"X",null,null,"ZZZ",null,null,null,null,{"$f":"CONCATENATE(REFERENTES!T607,\"(\",REFERENTES!Q607,\")\")","v":"Rio Toribio-4(TOR-SZ1-Toribio-4)"},{"$f":"REFERENTES!P607","v":48873}]
[null,null,null,null,null,null,null,null,null,null,null,{"$f":"IF(ISNUMBER(FIND(\"RES\",REFERENTES!$Q$2:$Q$1134)),REFERENTES!Q356,\"\")","v":""},{"$f":"REFERENTES!S356","v":0},null,351,0,1131,"X",null,null,"ZZZ",null,null,null,null,{"$f":"CONCATENATE(REFERENTES!T608,\"(\",REFERENTES!Q608,\")\")","v":"Rio Toribio-5(TOR-SZ1-Toribio-5)"},{"$f":"REFERENTES!P608","v":48875}]
[null,null,null,null,null,null,null,null,null,null,null,{"$f":"IF(ISNUMBER(FIND(\"RES\",REFERENTES!$Q$2:$Q$1134)),REFERENTES!Q357,\"\")","v":""},{"$f":"REFERENTES!S357","v":"la parcela se encuentra paralela al caño la camaronera."},null,352,0,1131,"X",null,null,"ZZZ",null,null,null,null,{"$f":"CONCATENATE(REFERENTES!T609,\"(\",REFERENTES!Q609,\")\")","v":"Rio_Virudo(VIRU-SZ1-RVIR-1)"},{"$f":"REFERENTES!P609","v":42129}]
[null,null,null,null,null,null,null,null,null,null,null,{"$f":"IF(ISNUMBER(FIND(\"RES\",REFERENTES!$Q$2:$Q$1134)),REFERENTES!Q358,\"\")","v":""},{"$f":"REFERENTES!S358","v":"La parcela se encuentra  paralela al caño la Camaronera, presenta intervención por parte del hombre"},null,353,0,1131,"X",null,null,"ZZZ",null,null,null,null,{"$f":"CONCATENATE(REFERENTES!T610,\"(\",REFERENTES!Q610,\")\")","v":"Río Damaquiel-1(CNTE-ZR1-Rdmq-1)"},{"$f":"REFERENTES!P610","v":48464}]
[null,null,null,null,null,null,null,null,null,null,null,{"$f":"IF(ISNUMBER(FIND(\"RES\",REFERENTES!$Q$2:$Q$1134)),REFERENTES!Q359,\"\")","v":""},{"$f":"REFERENTES!S359","v":"ESTACION COREA"},null,354,0,1131,"X",null,null,"ZZZ",null,null,null,null,{"$f":"CONCATENATE(REFERENTES!T611,\"(\",REFERENTES!Q611,\")\")","v":"Río Damaquiel-2(CNTE-ZR1-Rdmq-2)"},{"$f":"REFERENTES!P611","v":48466}]
[null,null,null,null,null,null,null,null,null,null,null,{"$f":"IF(ISNUMBER(FIND(\"RES\",REFERENTES!$Q$2:$Q$1134)),REFERENTES!Q360,\"\")","v":""},{"$f":"REFERENTES!S360","v":0},null,355,0,1131,"X",null,null,"ZZZ",null,null,null,null,{"$f":"CONCATENATE(REFERENTES!T612,\"(\",REFERENTES!Q612,\")\")","v":"Río Sevilla -4(CGSM-SZ1-Sevillla-4)"},{"$f":"REFERENTES!P612","v":45561}]
[null,null,null,null,null,null,null,null,null,null,null,{"$f":"IF(ISNUMBER(FIND(\"RES\",REFERENTES!$Q$2:$Q$1134)),REFERENTES!Q361,\"\")","v":""},{"$f":"REFERENTES!S361","v":"Se ubica a 55 m al sur de la vía a la playa de Caño Dulce y a 16 m de la línea de vegetación, entre dos casas.  El crecimiento del mangle es ramificado, se observa intervención de la parcela para evitar el crecimiento de brinzales, para el fácil tránsito. Presenta suelos firmes y arcillosos. Se encontraron residuos sólidos."},null,356,0,1131,"X",null,null,"ZZZ",null,null,null,null,{"$f":"CONCATENATE(REFERENTES!T613,\"(\",REFERENTES!Q613,\")\")","v":"Río Sevilla -5(CGSM-SZ1-Sevillla-5)"},{"$f":"REFERENTES!P613","v":45563}]
[null,null,null,null,null,null,null,null,null,null,null,{"$f":"IF(ISNUMBER(FIND(\"RES\",REFERENTES!$Q$2:$Q$1134)),REFERENTES!Q362,\"\")","v":""},{"$f":"REFERENTES!S362","v":"La parcela se encuentra paralela al coño el Frances"},null,357,0,1131,"X",null,null,"ZZZ",null,null,null,null,{"$f":"CONCATENATE(REFERENTES!T614,\"(\",REFERENTES!Q614,\")\")","v":"Río Sevilla -6(CGSM-SZ1-Sevillla-6)"},{"$f":"REFERENTES!P614","v":45565}]
[null,null,null,null,null,null,null,null,null,null,null,{"$f":"IF(ISNUMBER(FIND(\"RES\",REFERENTES!$Q$2:$Q$1134)),REFERENTES!Q363,\"\")","v":""},{"$f":"REFERENTES!S363","v":"la parcela esta ubicada en en zona de uso sostenible del la bahía de cispata, con predominancia de especie Rhizophora mangle, y esta fuertemente concrecionada por la deforestacion del manglar de manera no sostenible."},null,358,0,1131,"X",null,null,"ZZZ",null,null,null,null,{"$f":"CONCATENATE(REFERENTES!T615,\"(\",REFERENTES!Q615,\")\")","v":"S_La Virgen-1(JPVI-ZR1-SurVirgen-1)"},{"$f":"REFERENTES!P615","v":44630}]
[null,null,null,null,null,null,null,null,null,null,null,{"$f":"IF(ISNUMBER(FIND(\"RES\",REFERENTES!$Q$2:$Q$1134)),REFERENTES!Q364,\"\")","v":""},{"$f":"REFERENTES!S364","v":"esta es una de las parcelas con mas baja densidad de arboles por metro cuadrado, los arboles presentan raquitismo, bajos niveles de inundación y sedimentacìon  en la zona."},null,359,0,1131,"X",null,null,"ZZZ",null,null,null,null,{"$f":"CONCATENATE(REFERENTES!T616,\"(\",REFERENTES!Q616,\")\")","v":"Salahonda -1(FRAPIZ-ZUS1-Salho-1)"},{"$f":"REFERENTES!P616","v":44531}]
[null,null,null,null,null,null,null,null,null,null,null,{"$f":"IF(ISNUMBER(FIND(\"RES\",REFERENTES!$Q$2:$Q$1134)),REFERENTES!Q365,\"\")","v":""},{"$f":"REFERENTES!S365","v":"la parcela esta dominada por  las especies: Rhizophora mangle y Laguncularia racemosa, las cuales presentan unas características, de muchos arboles muertos  volcamiento por la erosión  marina,  los niveles de inundación son altos."},null,360,0,1131,"X",null,null,"ZZZ",null,null,null,null,{"$f":"CONCATENATE(REFERENTES!T617,\"(\",REFERENTES!Q617,\")\")","v":"Salahonda P-1(FRAPIZ-ZP1-Salho-1)"},{"$f":"REFERENTES!P617","v":44546}]
[null,null,null,null,null,null,null,null,null,null,null,{"$f":"IF(ISNUMBER(FIND(\"RES\",REFERENTES!$Q$2:$Q$1134)),REFERENTES!Q366,\"\")","v":""},{"$f":"REFERENTES!S366","v":"Parcela 1 monitoreada por el INVEMAR en el marco del ¨Monitoreo de las condiciones ambientales y los cambios estructurales y funcionales de las comunidades vegetales y de los recursos pesqueros durante la rehabilitación de la Ciénaga Grande de Santa Marta¨"},null,361,0,1131,"X",null,null,"ZZZ",null,null,null,null,{"$f":"CONCATENATE(REFERENTES!T618,\"(\",REFERENTES!Q618,\")\")","v":"Salahonda R-2-1(FRAPIZ-ZR2-Salho-1)"},{"$f":"REFERENTES!P618","v":44557}]
[null,null,null,null,null,null,null,null,null,null,null,{"$f":"IF(ISNUMBER(FIND(\"RES\",REFERENTES!$Q$2:$Q$1134)),REFERENTES!Q367,\"\")","v":""},{"$f":"REFERENTES!S367","v":"Parcela 2 monitoreada por el INVEMAR en el marco del ¨Monitoreo de las condiciones ambientales y los cambios estructurales y funcionales de las comunidades vegetales y de los recursos pesqueros durante la rehabilitación de la Ciénaga Grande de Santa Marta¨"},null,362,0,1131,"X",null,null,"ZZZ",null,null,null,null,{"$f":"CONCATENATE(REFERENTES!T619,\"(\",REFERENTES!Q619,\")\")","v":"Salitral el Garzal(CCAIM-ZR1-SGAR-1)"},{"$f":"REFERENTES!P619","v":44419}]
[null,null,null,null,null,null,null,null,null,null,null,{"$f":"IF(ISNUMBER(FIND(\"RES\",REFERENTES!$Q$2:$Q$1134)),REFERENTES!Q368,\"\")","v":""},{"$f":"REFERENTES!S368","v":"Parcela 3 monitoreada por el INVEMAR en el marco del ¨Monitoreo de las condiciones ambientales y los cambios estructurales y funcionales de las comunidades vegetales y de los recursos pesqueros durante la rehabilitación de la Ciénaga Grande de Santa Marta¨"},null,363,0,1131,"X",null,null,"ZZZ",null,null,null,null,{"$f":"CONCATENATE(REFERENTES!T620,\"(\",REFERENTES!Q620,\")\")","v":"Salitral el Garzal -2(CCAIM-ZR1-SGAR-2)"},{"$f":"REFERENTES!P620","v":44444}]
[null,null,null,null,null,null,null,null,null,null,null,{"$f":"IF(ISNUMBER(FIND(\"RES\",REFERENTES!$Q$2:$Q$1134)),REFERENTES!Q369,\"\")","v":""},{"$f":"REFERENTES!S369","v":"la paralela se encuentra ubicada en la zona de uso sostenible de caño grande en la ciénaga mangoneas, con bajos niveles de inundación y con predominancia de la especia Rhizophora mangle, se observaba intervención de por actividades antro picas"},null,364,0,1131,"X",null,null,"ZZZ",null,null,null,null,{"$f":"CONCATENATE(REFERENTES!T621,\"(\",REFERENTES!Q621,\")\")","v":"Salt Creek parcela circular-2(Salt Creek PPC-2)"},{"$f":"REFERENTES!P621","v":55554}]
[null,null,null,null,null,null,null,null,null,null,null,{"$f":"IF(ISNUMBER(FIND(\"RES\",REFERENTES!$Q$2:$Q$1134)),REFERENTES!Q370,\"\")","v":""},{"$f":"REFERENTES!S370","v":"la parcela se encuentra paralela al caño de Guacamayas"},null,365,0,1131,"X",null,null,"ZZZ",null,null,null,null,{"$f":"CONCATENATE(REFERENTES!T622,\"(\",REFERENTES!Q622,\")\")","v":"Salt Creek parcela circular-3(Salt Creek PPC-3)"},{"$f":"REFERENTES!P622","v":55555}]
[null,null,null,null,null,null,null,null,null,null,null,{"$f":"IF(ISNUMBER(FIND(\"RES\",REFERENTES!$Q$2:$Q$1134)),REFERENTES!Q371,\"\")","v":""},{"$f":"REFERENTES!S371","v":"la parcela se encuentra paralela al caño de Guacamayas"},null,366,0,1131,"X",null,null,"ZZZ",null,null,null,null,{"$f":"CONCATENATE(REFERENTES!T623,\"(\",REFERENTES!Q623,\")\")","v":"Salt Creek-1(SCRE-ZP1-SCRE-1)"},{"$f":"REFERENTES!P623","v":41492}]
[null,null,null,null,null,null,null,null,null,null,null,{"$f":"IF(ISNUMBER(FIND(\"RES\",REFERENTES!$Q$2:$Q$1134)),REFERENTES!Q372,\"\")","v":""},{"$f":"REFERENTES!S372","v":"parcela caño la balsa"},null,367,0,1131,"X",null,null,"ZZZ",null,null,null,null,{"$f":"CONCATENATE(REFERENTES!T624,\"(\",REFERENTES!Q624,\")\")","v":"Santa Ana(RAPO-ZUS4-RSA-2)"},{"$f":"REFERENTES!P624","v":45848}]
[null,null,null,null,null,null,null,null,null,null,null,{"$f":"IF(ISNUMBER(FIND(\"RES\",REFERENTES!$Q$2:$Q$1134)),REFERENTES!Q373,\"\")","v":""},{"$f":"REFERENTES!S373","v":"Parcela con árboles de R, mangle de gran altura, en algunos casos 30 metros, inundación en toda la parcela y   abundante regeneración natural de R. mangle.  árboles secos y caídos."},null,368,0,1131,"X",null,null,"ZZZ",null,null,null,null,{"$f":"CONCATENATE(REFERENTES!T625,\"(\",REFERENTES!Q625,\")\")","v":"Santa Ana-1(BARU-ZR1-Sta-Ana-1)"},{"$f":"REFERENTES!P625","v":44500}]
[null,null,null,null,null,null,null,null,null,null,null,{"$f":"IF(ISNUMBER(FIND(\"RES\",REFERENTES!$Q$2:$Q$1134)),REFERENTES!Q374,\"\")","v":""},{"$f":"REFERENTES!S374","v":"la parcela se encuentra a 30 metros de la boca del caño Matuna"},null,369,0,1131,"X",null,null,"ZZZ",null,null,null,null,{"$f":"CONCATENATE(REFERENTES!T626,\"(\",REFERENTES!Q626,\")\")","v":"Santa Catalina parcela circular-1(Santa Catalina PPC-1)"},{"$f":"REFERENTES!P626","v":55567}]
[null,null,null,null,null,null,null,null,null,null,null,{"$f":"IF(ISNUMBER(FIND(\"RES\",REFERENTES!$Q$2:$Q$1134)),REFERENTES!Q375,\"\")","v":""},{"$f":"REFERENTES!S375","v":"la parcela se encuentra a 30 metros de la boca del caño Matuna"},null,370,0,1131,"X",null,null,"ZZZ",null,null,null,null,{"$f":"CONCATENATE(REFERENTES!T627,\"(\",REFERENTES!Q627,\")\")","v":"Santa Catalina parcela circular-2(Santa Catalina PPC-2)"},{"$f":"REFERENTES!P627","v":55568}]
[null,null,null,null,null,null,null,null,null,null,null,{"$f":"IF(ISNUMBER(FIND(\"RES\",REFERENTES!$Q$2:$Q$1134)),REFERENTES!Q376,\"\")","v":""},{"$f":"REFERENTES!S376","v":"la parcela esta ubicada en el sector la flotante en caño nisperal, con predominancia de la especie Rhizophora mangle, asociada a otras especies, y con arboles de gran tamaño y sanos."},null,371,0,1131,"X",null,null,"ZZZ",null,null,null,null,{"$f":"CONCATENATE(REFERENTES!T628,\"(\",REFERENTES!Q628,\")\")","v":"Santa Rita -1(STRITA-ZR1-SRITA-1)"},{"$f":"REFERENTES!P628","v":45502}]
[null,null,null,null,null,null,null,null,null,null,null,{"$f":"IF(ISNUMBER(FIND(\"RES\",REFERENTES!$Q$2:$Q$1134)),REFERENTES!Q377,\"\")","v":""},{"$f":"REFERENTES!S377","v":"la parcela esta ubicada en la zona de uso sostenible del sector caño palermo , con predominancia de la especie Rhizopohora mangle"},null,372,0,1131,"X",null,null,null,null,null,null,null,{"$f":"CONCATENATE(REFERENTES!T629,\"(\",REFERENTES!Q629,\")\")","v":"Sevillano -1(CGSM-ZR1-SEV-1)"},{"$f":"REFERENTES!P629","v":40997}]
[null,null,null,null,null,null,null,null,null,null,null,{"$f":"IF(ISNUMBER(FIND(\"RES\",REFERENTES!$Q$2:$Q$1134)),REFERENTES!Q378,\"\")","v":""},{"$f":"REFERENTES!S378","v":0},null,373,0,1131,"X",null,null,null,null,null,null,null,{"$f":"CONCATENATE(REFERENTES!T630,\"(\",REFERENTES!Q630,\")\")","v":"Smith Channel -1-1(SCHA-ZP1-SCH-1)"},{"$f":"REFERENTES!P630","v":41487}]
[null,null,null,null,null,null,null,null,null,null,null,{"$f":"IF(ISNUMBER(FIND(\"RES\",REFERENTES!$Q$2:$Q$1134)),REFERENTES!Q379,\"\")","v":""},{"$f":"REFERENTES!S379","v":"ubicada en el sector de caño salado en la zona de uso sostenible del la bahía de cispata"},null,374,0,1131,"X",null,null,null,null,null,null,null,{"$f":"CONCATENATE(REFERENTES!T631,\"(\",REFERENTES!Q631,\")\")","v":"Smith Channel -1-2(SCHA-ZP1-SCH-2)"},{"$f":"REFERENTES!P631","v":47758}]
[null,null,null,null,null,null,null,null,null,null,null,{"$f":"IF(ISNUMBER(FIND(\"RES\",REFERENTES!$Q$2:$Q$1134)),REFERENTES!Q380,\"\")","v":""},{"$f":"REFERENTES!S380","v":"parcela ubicada en el sector de caño salado, con predominancia de las especies Rhizophora mangle,Pelliciera rhizophorae,Avicennia germinans, los arboles presenta condición de raquitismo, los niveles de inundación son bajos, por el sedimentos debido al material de arastre que trae el rio"},null,375,0,1131,"X",null,null,null,null,null,null,null,{"$f":"CONCATENATE(REFERENTES!T632,\"(\",REFERENTES!Q632,\")\")","v":"Smith Channel -1-3(SCHA-ZP1-SCH-3)"},{"$f":"REFERENTES!P632","v":47901}]
[null,null,null,null,null,null,null,null,null,null,null,{"$f":"IF(ISNUMBER(FIND(\"RES\",REFERENTES!$Q$2:$Q$1134)),REFERENTES!Q381,\"\")","v":""},{"$f":"REFERENTES!S381","v":0},null,376,0,1131,"X",null,null,null,null,null,null,null,{"$f":"CONCATENATE(REFERENTES!T633,\"(\",REFERENTES!Q633,\")\")","v":"Smith Channel parcela circular-1(Smith Channel PPC-1)"},{"$f":"REFERENTES!P633","v":55546}]
[null,null,null,null,null,null,null,null,null,null,null,{"$f":"IF(ISNUMBER(FIND(\"RES\",REFERENTES!$Q$2:$Q$1134)),REFERENTES!Q382,\"\")","v":""},{"$f":"REFERENTES!S382","v":0},null,377,0,1131,"X",null,null,null,null,null,null,null,{"$f":"CONCATENATE(REFERENTES!T634,\"(\",REFERENTES!Q634,\")\")","v":"Sound Bay parcela circular-1(Sound Bay PPC-1)"},{"$f":"REFERENTES!P634","v":55558}]
[null,null,null,null,null,null,null,null,null,null,null,{"$f":"IF(ISNUMBER(FIND(\"RES\",REFERENTES!$Q$2:$Q$1134)),REFERENTES!Q383,\"\")","v":""},{"$f":"REFERENTES!S383","v":"la parcela esta ubicada en en la zona de recuperación del DMI,con predominancia de la especie Avicennia germinans"},null,378,0,1131,"X",null,null,null,null,null,null,null,{"$f":"CONCATENATE(REFERENTES!T635,\"(\",REFERENTES!Q635,\")\")","v":"Sound Bay parcela circular-2(Sound Bay PPC-2)"},{"$f":"REFERENTES!P635","v":55559}]
[null,null,null,null,null,null,null,null,null,null,null,{"$f":"IF(ISNUMBER(FIND(\"RES\",REFERENTES!$Q$2:$Q$1134)),REFERENTES!Q384,\"\")","v":""},{"$f":"REFERENTES!S384","v":"La PPC se ubica en la ZUS de la Bahía de Cispatá, con influencia directa del Caño Tijó y con alta inundación. Presenta dominancia de A. germinans, con alta regeneración natural. Se presentan en menor proporción R. mangle."},null,379,0,1131,"X",null,null,null,null,null,null,null,{"$f":"CONCATENATE(REFERENTES!T636,\"(\",REFERENTES!Q636,\")\")","v":"Sound Bay parcela circular-3(Sound Bay PPC-3)"},{"$f":"REFERENTES!P636","v":55560}]
[null,null,null,null,null,null,null,null,null,null,null,{"$f":"IF(ISNUMBER(FIND(\"RES\",REFERENTES!$Q$2:$Q$1134)),REFERENTES!Q385,\"\")","v":""},{"$f":"REFERENTES!S385","v":"Pequeño relicto monoespecífico de R. mangle, sin evidencias de presión antrópica."},null,380,0,1131,"X",null,null,null,null,null,null,null,{"$f":"CONCATENATE(REFERENTES!T637,\"(\",REFERENTES!Q637,\")\")","v":"South West Bay -1(SWBA-ZP3-SWB-1)"},{"$f":"REFERENTES!P637","v":41485}]
[null,null,null,null,null,null,null,null,null,null,null,{"$f":"IF(ISNUMBER(FIND(\"RES\",REFERENTES!$Q$2:$Q$1134)),REFERENTES!Q386,\"\")","v":""},{"$f":"REFERENTES!S386","v":"La parcela se encuentra paralela al coño el Frances"},null,381,0,1131,"X",null,null,null,null,null,null,null,{"$f":"CONCATENATE(REFERENTES!T638,\"(\",REFERENTES!Q638,\")\")","v":"South West Bay -2(SWBA-ZP3-SWB-2)"},{"$f":"REFERENTES!P638","v":49327}]
[null,null,null,null,null,null,null,null,null,null,null,{"$f":"IF(ISNUMBER(FIND(\"RES\",REFERENTES!$Q$2:$Q$1134)),REFERENTES!Q387,\"\")","v":""},{"$f":"REFERENTES!S387","v":"la parcela ubicada en el sector caño el nene, con predominancia de la especie Rhizophora mangle, la cual esta sometida a una constante presión, por aprovechamiento forestal en el sector."},null,382,0,1131,"X",null,null,null,null,null,null,null,{"$f":"CONCATENATE(REFERENTES!T639,\"(\",REFERENTES!Q639,\")\")","v":"Suroeste parcela circular-1(Suroeste PPC-1)"},{"$f":"REFERENTES!P639","v":55565}]
[null,null,null,null,null,null,null,null,null,null,null,{"$f":"IF(ISNUMBER(FIND(\"RES\",REFERENTES!$Q$2:$Q$1134)),REFERENTES!Q388,\"\")","v":""},{"$f":"REFERENTES!S388","v":"Parcela dominada por A. germinans"},null,383,0,1131,"X",null,null,null,null,null,null,null,{"$f":"CONCATENATE(REFERENTES!T640,\"(\",REFERENTES!Q640,\")\")","v":"Suroeste parcela circular-2(Suroeste PPC-2)"},{"$f":"REFERENTES!P640","v":55566}]
[null,null,null,null,null,null,null,null,null,null,null,{"$f":"IF(ISNUMBER(FIND(\"RES\",REFERENTES!$Q$2:$Q$1134)),REFERENTES!Q389,\"\")","v":""},{"$f":"REFERENTES!S389","v":"El manglar de la estación naya presenta una condiciones regulares de conservación con una  área basal  y una cantidad de árboles aceptables  que permiten su recuperación si se garantizan estrategias de conservación como el aislamiento del bosque articuladas a un fuerte trabajo de empoderamiento por parte de las comunidades de base."},null,384,0,1131,"X",null,null,null,null,null,null,null,{"$f":"CONCATENATE(REFERENTES!T641,\"(\",REFERENTES!Q641,\")\")","v":"Tangarrá(JURA-ZR1-Tangarrá-1)"},{"$f":"REFERENTES!P641","v":45422}]
[null,null,null,null,null,null,null,null,null,null,null,{"$f":"IF(ISNUMBER(FIND(\"RES\",REFERENTES!$Q$2:$Q$1134)),REFERENTES!Q390,\"\")","v":""},{"$f":"REFERENTES!S390","v":"franja que se encuentra en un estado de intervención alterado bajo, con sitios de anidacion de la tortuga Carey"},null,385,0,{"$f":"IF(P390=0,MAX($O$6:$O$1135)+1,O390)","v":1131},{"$f":"IFERROR(VLOOKUP(SMALL($Q$6:$Q$1135,O390),$O$6:$P$1135,2,FALSE),\"X\")","v":"X"},null,null,null,null,null,null,null,{"$f":"CONCATENATE(REFERENTES!T642,\"(\",REFERENTES!Q642,\")\")","v":"Tijó(BCIS,EST-ZR1-Tijó-1)"},{"$f":"REFERENTES!P642","v":42103}]
[null,null,null,null,null,null,null,null,null,null,null,{"$f":"IF(ISNUMBER(FIND(\"RES\",REFERENTES!$Q$2:$Q$1134)),REFERENTES!Q391,\"\")","v":""},{"$f":"REFERENTES!S391","v":"Dominada por R. mangle con numerosas raíces fúlcreas, sustrato duro.  Al final de la estación comienza vegetación de bosque seco."},null,386,{"$f":"IF(L391=\"\",0,L391)","v":0},1131,"X",null,null,null,null,null,null,null,{"$f":"CONCATENATE(REFERENTES!T643,\"(\",REFERENTES!Q643,\")\")","v":"Timba(CAJA-ZUS2-CT-1)"},{"$f":"REFERENTES!P643","v":45830}]
[null,null,null,null,null,null,null,null,null,null,null,{"$f":"IF(ISNUMBER(FIND(\"RES\",REFERENTES!$Q$2:$Q$1134)),REFERENTES!Q392,\"\")","v":""},{"$f":"REFERENTES!S392","v":"Sitio con mucha basura al ingreso de la estación, don dominancia de R. mangle, se observaron pequeños parches de tala"},null,387,0,1131,"X",null,null,null,null,null,null,null,{"$f":"CONCATENATE(REFERENTES!T644,\"(\",REFERENTES!Q644,\")\")","v":"Totumo Oriental(CNGTOT-ZP1-Totum.-1)"},{"$f":"REFERENTES!P644","v":45257}]
[null,null,null,null,null,null,null,null,null,null,null,{"$f":"IF(ISNUMBER(FIND(\"RES\",REFERENTES!$Q$2:$Q$1134)),REFERENTES!Q393,\"\")","v":""},{"$f":"REFERENTES!S393","v":0},null,388,0,1131,"X",null,null,null,null,null,null,null,{"$f":"CONCATENATE(REFERENTES!T645,\"(\",REFERENTES!Q645,\")\")","v":"Totumo Oriental(CNGTOT-ZP1-Totum.-2)"},{"$f":"REFERENTES!P645","v":45259}]
[null,null,null,null,null,null,null,null,null,null,null,{"$f":"IF(ISNUMBER(FIND(\"RES\",REFERENTES!$Q$2:$Q$1134)),REFERENTES!Q394,\"\")","v":""},{"$f":"REFERENTES!S394","v":"La parcela esta ubicada al costado derecho de la Boca de la Ciénaga, presenta abundante arbolado de Mangle Negro de pequeño tamaño."},null,389,0,1131,"X",null,null,null,null,null,null,null,{"$f":"CONCATENATE(REFERENTES!T646,\"(\",REFERENTES!Q646,\")\")","v":"Travesía(OBRE;CHA-ZUS1-TRAV-1)"},{"$f":"REFERENTES!P646","v":45511}]
[null,null,null,null,null,null,null,null,null,null,null,{"$f":"IF(ISNUMBER(FIND(\"RES\",REFERENTES!$Q$2:$Q$1134)),REFERENTES!Q395,\"\")","v":""},{"$f":"REFERENTES!S395","v":"La parcela se ubica  entre caño Rico y Ciénaga Ana Gómez,  a 30 metros del cuerpo de agua"},null,390,0,1131,"X",null,null,null,null,null,null,null,{"$f":"CONCATENATE(REFERENTES!T647,\"(\",REFERENTES!Q647,\")\")","v":"Trujillo(ENSENADA-ZP1-TRUJI-1)"},{"$f":"REFERENTES!P647","v":45400}]
[null,null,null,null,null,null,null,null,null,null,null,{"$f":"IF(ISNUMBER(FIND(\"RES\",REFERENTES!$Q$2:$Q$1134)),REFERENTES!Q396,\"\")","v":""},{"$f":"REFERENTES!S396","v":"La parcela se encuentra paralela al Caño Rico en Boca cerrada,"},null,391,0,1131,"X",null,null,null,null,null,null,null,{"$f":"CONCATENATE(REFERENTES!T648,\"(\",REFERENTES!Q648,\")\")","v":"Tumaco(TCO-ZR2-Tuma-1)"},{"$f":"REFERENTES!P648","v":44506}]
[null,null,null,null,null,null,null,null,null,null,null,{"$f":"IF(ISNUMBER(FIND(\"RES\",REFERENTES!$Q$2:$Q$1134)),REFERENTES!Q397,\"\")","v":""},{"$f":"REFERENTES!S397","v":0},null,392,0,1131,"X",null,null,null,null,null,null,null,{"$f":"CONCATENATE(REFERENTES!T649,\"(\",REFERENTES!Q649,\")\")","v":"Tumaco -1(TCO-ZUS1-SANAND-1)"},{"$f":"REFERENTES!P649","v":45395}]
[null,null,null,null,null,null,null,null,null,null,null,{"$f":"IF(ISNUMBER(FIND(\"RES\",REFERENTES!$Q$2:$Q$1134)),REFERENTES!Q398,\"\")","v":""},{"$f":"REFERENTES!S398","v":0},null,393,0,1131,"X",null,null,null,null,null,null,null,{"$f":"CONCATENATE(REFERENTES!T650,\"(\",REFERENTES!Q650,\")\")","v":"Ultima Boca(BCIS,LIT-ZR1-UltBoca-1)"},{"$f":"REFERENTES!P650","v":48762}]
[null,null,null,null,null,null,null,null,null,null,null,{"$f":"IF(ISNUMBER(FIND(\"RES\",REFERENTES!$Q$2:$Q$1134)),REFERENTES!Q399,\"\")","v":""},{"$f":"REFERENTES!S399","v":"la parcela se encuentra ubicada en el sector caño el grazal en la zona de uso sostenible de la bahía de cispata, con predominancia de la especie Avicenia gerninans, con arboles de gran tamaño y sanos."},null,394,0,1131,"X",null,null,null,null,null,null,null,{"$f":"CONCATENATE(REFERENTES!T651,\"(\",REFERENTES!Q651,\")\")","v":"Valle de los Cangrejos -1(VCAN-ZR1-CANG-1)"},{"$f":"REFERENTES!P651","v":41390}]
[null,null,null,null,null,null,null,null,null,null,null,{"$f":"IF(ISNUMBER(FIND(\"RES\",REFERENTES!$Q$2:$Q$1134)),REFERENTES!Q400,\"\")","v":""},{"$f":"REFERENTES!S400","v":"la parcela esta ubicada en el sector de aprovechamiento de la ciénaga el garzal, con predominancia de la especie Rhizophora mangle, en una zona de bajos novales de inundación."},null,395,0,1131,"X",null,null,null,null,null,null,null,{"$f":"CONCATENATE(REFERENTES!T652,\"(\",REFERENTES!Q652,\")\")","v":"Valle de los Cangrejos -2(VCAN-ZR1-CANG-2)"},{"$f":"REFERENTES!P652","v":41392}]
[null,null,null,null,null,null,null,null,null,null,null,{"$f":"IF(ISNUMBER(FIND(\"RES\",REFERENTES!$Q$2:$Q$1134)),REFERENTES!Q401,\"\")","v":""},{"$f":"REFERENTES!S401","v":"parcela ubicada en la zona de uso sostenible del sub sector de aprovechamiento de la ciénaga el garzal, con predominancia de especie Rhizophora mangle, en esta parcela se observan gran cantidad de arboles muertos, huellas de aprovechamiento forestal de la especie,"},null,396,0,1131,"X",null,null,null,null,null,null,null,{"$f":"CONCATENATE(REFERENTES!T653,\"(\",REFERENTES!Q653,\")\")","v":"Valle de los Cangrejos -3(VCAN-ZR1-CANG-3)"},{"$f":"REFERENTES!P653","v":41394}]
[null,null,null,null,null,null,null,null,null,null,null,{"$f":"IF(ISNUMBER(FIND(\"RES\",REFERENTES!$Q$2:$Q$1134)),REFERENTES!Q402,\"\")","v":""},{"$f":"REFERENTES!S402","v":"ubicada en el sector de la ciénaga galo en la zona de uso sostenible de la bahía de cispata, con predominancia de la especie Rhizophora mangle, con arboles de gran tamaño, sanos y con bajos niveles de inundación."},null,397,0,1131,"X",null,null,null,null,null,null,null,{"$f":"CONCATENATE(REFERENTES!T654,\"(\",REFERENTES!Q654,\")\")","v":"Velero(PVEL-ZP2-VelP-2)"},{"$f":"REFERENTES!P654","v":45519}]
[null,null,null,null,null,null,null,null,null,null,null,{"$f":"IF(ISNUMBER(FIND(\"RES\",REFERENTES!$Q$2:$Q$1134)),REFERENTES!Q403,\"\")","v":""},{"$f":"REFERENTES!S403","v":0},null,398,0,1131,"X",null,null,null,null,null,null,null,"****ESTACIONES****","NO VALIDO"]
[null,null,null,null,null,null,null,null,null,null,null,{"$f":"IF(ISNUMBER(FIND(\"RES\",REFERENTES!$Q$2:$Q$1134)),REFERENTES!Q404,\"\")","v":""},{"$f":"REFERENTES!S404","v":"Parcela montada en el marco del proyecto \"Lineamientos de restauración para los manglares del departamento de La Guajira\" ejecutado por INVEMAR. (Tambien denotoda \"Sabaletes plata\" en el proyecto)"},null,399,0,1131,"X",null,null,null,null,null,null,null,{"$f":"CONCATENATE(REFERENTES!T656,\"(\",REFERENTES!Q656,\")\")","v":"Velodia Road parcela circular-1(Velodia Road PPC-1)"},{"$f":"REFERENTES!P656","v":55557}]
[null,null,null,null,null,null,null,null,null,null,null,{"$f":"IF(ISNUMBER(FIND(\"RES\",REFERENTES!$Q$2:$Q$1134)),REFERENTES!Q405,\"\")","v":""},{"$f":"REFERENTES!S405","v":0},null,400,0,1131,"X",null,null,null,null,null,null,null,{"$f":"CONCATENATE(REFERENTES!T657,\"(\",REFERENTES!Q657,\")\")","v":"Vía al Mar(JPVI-ZUS1-VíaMar-1)"},{"$f":"REFERENTES!P657","v":44627}]
[null,null,null,null,null,null,null,null,null,null,null,{"$f":"IF(ISNUMBER(FIND(\"RES\",REFERENTES!$Q$2:$Q$1134)),REFERENTES!Q406,\"\")","v":""},{"$f":"REFERENTES!S406","v":"Parcela montada en el marco del proyecto \"Lineamientos de restauración para los manglares del departamento de La Guajira\" ejecutado por INVEMAR. (Tambien denotada como \"Cienaga Sabaletes\" en el proyecto)"},null,401,0,1131,"X",null,null,null,null,null,null,null,{"$f":"CONCATENATE(REFERENTES!T658,\"(\",REFERENTES!Q658,\")\")","v":"Waipare(MAYO-ZR3-MWA-1)"},{"$f":"REFERENTES!P658","v":45839}]
[null,null,null,null,null,null,null,null,null,null,null,{"$f":"IF(ISNUMBER(FIND(\"RES\",REFERENTES!$Q$2:$Q$1134)),REFERENTES!Q407,\"\")","v":""},{"$f":"REFERENTES!S407","v":0},null,402,0,1131,"X",null,null,null,null,null,null,null,{"$f":"CONCATENATE(REFERENTES!T659,\"(\",REFERENTES!Q659,\")\")","v":"Yaru-1(CORI-ZUS1-Yaru-1)"},{"$f":"REFERENTES!P659","v":48442}]
[null,null,null,null,null,null,null,null,null,null,null,{"$f":"IF(ISNUMBER(FIND(\"RES\",REFERENTES!$Q$2:$Q$1134)),REFERENTES!Q408,\"\")","v":""},{"$f":"REFERENTES!S408","v":"parcela fija (2 subparcelas). Estación Manglar Manzanillo (formada por 2 parcelas circulares): Manglar localizado al sur de la isla, constituido principalmente por Rhizophora mangle, como especie dominante y por Laguncularia racemosa. Se encuentra detrás de una barra arenosa y en su interior tiene un pequeño canal central en el que se acumulan aguas derivadas de la escorrentía y de un arroyo que se forma en época de lluvias, proveniente de Murray Hills. Tiene una cobertura de manglar de 1,59 ha (INVEMAR-CORALINA, 2016)."},null,403,0,1131,"X",null,null,null,null,null,null,null,{"$f":"CONCATENATE(REFERENTES!T660,\"(\",REFERENTES!Q660,\")\")","v":"Yerbasal -1(DRATR-ZR1-Yerb-1)"},{"$f":"REFERENTES!P660","v":48523}]
[null,null,null,null,null,null,null,null,null,null,null,{"$f":"IF(ISNUMBER(FIND(\"RES\",REFERENTES!$Q$2:$Q$1134)),REFERENTES!Q409,\"\")","v":""},{"$f":"REFERENTES!S409","v":0},null,404,0,1131,"X",null,null,null,null,null,null,null,{"$f":"CONCATENATE(REFERENTES!T661,\"(\",REFERENTES!Q661,\")\")","v":"(CORI-ZR1-Rnec-1)"},{"$f":"REFERENTES!P661","v":48427}]
[null,null,null,null,null,null,null,null,null,null,null,{"$f":"IF(ISNUMBER(FIND(\"RES\",REFERENTES!$Q$2:$Q$1134)),REFERENTES!Q410,\"\")","v":""},{"$f":"REFERENTES!S410","v":"la parcela cuenta con un gran numero de arboles de la especie Rhizophora mangle, de gran tamaño, y con un gran porcentaje de regeneración natural en un estado sano."},null,405,0,1131,"X",null,null,null,null,null,null,null,{"$f":"CONCATENATE(REFERENTES!T662,\"(\",REFERENTES!Q662,\")\")","v":"1(1)"},{"$f":"REFERENTES!P662","v":46058}]
[null,null,null,null,null,null,null,null,null,null,null,{"$f":"IF(ISNUMBER(FIND(\"RES\",REFERENTES!$Q$2:$Q$1134)),REFERENTES!Q411,\"\")","v":""},{"$f":"REFERENTES!S411","v":"la parcela esta ubicada en la ciénaga remedia pobre que esta situada en el subsector de aprovechamiento del DMI con una baja densidad de arboles por parcela y con predominancia de la especia Rhiphora mangle"},null,406,0,1131,"X",null,null,null,null,null,null,null,{"$f":"CONCATENATE(REFERENTES!T663,\"(\",REFERENTES!Q663,\")\")","v":"Agrosoledad(Agrosole)"},{"$f":"REFERENTES!P663","v":48732}]
[null,null,null,null,null,null,null,null,null,null,null,{"$f":"IF(ISNUMBER(FIND(\"RES\",REFERENTES!$Q$2:$Q$1134)),REFERENTES!Q412,\"\")","v":""},{"$f":"REFERENTES!S412","v":"la parcela esta ubicada en el sector el rincón del grillo en la zona de uso sostenible de la bahía de cispata, con predominancia de la especie Rhizopora mangle, con arboles de gran tamaño, se encuentran algunas lianas y elechales"},null,407,0,1131,"X",null,null,null,null,null,null,null,{"$f":"CONCATENATE(REFERENTES!T664,\"(\",REFERENTES!Q664,\")\")","v":"Aguas Negras(ANE)"},{"$f":"REFERENTES!P664","v":42316}]
[null,null,null,null,null,null,null,null,null,null,null,{"$f":"IF(ISNUMBER(FIND(\"RES\",REFERENTES!$Q$2:$Q$1134)),REFERENTES!Q413,\"\")","v":""},{"$f":"REFERENTES!S413","v":"Franja estrecha de manglar de buen porte dominado por A. germinans y en menor proporción C. erectus. El manglar se entremezcla con bosque seco, se destacan individuos de la familia de las cactáceas, \"Barrabas\" \"Guayabito\". En el suelo algunas camas de Batis maritima. El suelo es arenoso y con abundante hojarasca.  Muchos árboles retoñando. No se encontraron plántulas ni propágulos. Muchos árboles retoñando."},null,408,0,1131,"X",null,null,null,null,null,null,null,{"$f":"CONCATENATE(REFERENTES!T665,\"(\",REFERENTES!Q665,\")\")","v":"Angostura (angostura)"},{"$f":"REFERENTES!P665","v":45588}]
[null,null,null,null,null,null,null,null,null,null,null,{"$f":"IF(ISNUMBER(FIND(\"RES\",REFERENTES!$Q$2:$Q$1134)),REFERENTES!Q414,\"\")","v":""},{"$f":"REFERENTES!S414","v":"Franja estrecha de manglar de buen porte dominado por A. germinans y en menor proporción C. erectus. El manglar se entremezcla con bosque seco, se destacan individuos de la familia de las cactáceas, \"Barrabas\" \"Guayabito\". En el suelo algunas camas de Batis maritima. El suelo es arenoso y con abundante hojarasca.  Muchos árboles retoñando. No se encontraron plántulas ni propágulos. Muchos árboles retoñando."},null,409,0,1131,"X",null,null,null,null,null,null,null,{"$f":"CONCATENATE(REFERENTES!T666,\"(\",REFERENTES!Q666,\")\")","v":"Aperturas Canal Clarin- Restauración(RES_MGACC)"},{"$f":"REFERENTES!P666","v":55345}]
[null,null,null,null,null,null,null,null,null,null,null,{"$f":"IF(ISNUMBER(FIND(\"RES\",REFERENTES!$Q$2:$Q$1134)),REFERENTES!Q415,\"\")","v":""},{"$f":"REFERENTES!S415","v":"Franja de manglar de tipo borde y de barra. Bosque dominado por Laguncularia racemosa con un altura promedio de 7m. El manglar se entremezcla con individuos de bosque seco (Manzanillo) y matorral espinoso. Se encontraron aproximadamente 20 brinzales"},null,410,0,1131,"X",null,null,null,null,null,null,null,{"$f":"CONCATENATE(REFERENTES!T667,\"(\",REFERENTES!Q667,\")\")","v":"Ararca(Ararca)"},{"$f":"REFERENTES!P667","v":44508}]
[null,null,null,null,null,null,null,null,null,null,null,{"$f":"IF(ISNUMBER(FIND(\"RES\",REFERENTES!$Q$2:$Q$1134)),REFERENTES!Q416,\"\")","v":""},{"$f":"REFERENTES!S416","v":"Franja de manglar de tipo borde y de barra. Bosque dominado por Laguncularia racemosa con un altura promedio de 7m. El manglar se entremezcla con individuos de bosque seco (Manzanillo) y matorral espinoso. Se encontraron aproximadamente 20 brinzales"},null,411,0,1131,"X",null,null,null,null,null,null,null,{"$f":"CONCATENATE(REFERENTES!T668,\"(\",REFERENTES!Q668,\")\")","v":"Arroyo Limon Codo(CAL)"},{"$f":"REFERENTES!P668","v":43557}]
[null,null,null,null,null,null,null,null,null,null,null,{"$f":"IF(ISNUMBER(FIND(\"RES\",REFERENTES!$Q$2:$Q$1134)),REFERENTES!Q417,\"\")","v":""},{"$f":"REFERENTES!S417","v":"esta parcela esta predominada por la especie Rhizopora mangle, se presenta muerte descendente en algunos arboles y muchos presentan una condición de raquitismo, también  existen algunas lianas"},null,412,0,1131,"X",null,null,null,null,null,null,null,{"$f":"CONCATENATE(REFERENTES!T669,\"(\",REFERENTES!Q669,\")\")","v":"Arroyo Limon Desembocadura(DAL)"},{"$f":"REFERENTES!P669","v":43558}]
[null,null,null,null,null,null,null,null,null,null,null,{"$f":"IF(ISNUMBER(FIND(\"RES\",REFERENTES!$Q$2:$Q$1134)),REFERENTES!Q418,\"\")","v":""},{"$f":"REFERENTES!S418","v":0},null,413,0,1131,"X",null,null,null,null,null,null,null,{"$f":"CONCATENATE(REFERENTES!T670,\"(\",REFERENTES!Q670,\")\")","v":"Arroyo Limon Ducto(DUAL)"},{"$f":"REFERENTES!P670","v":43559}]
[null,null,null,null,null,null,null,null,null,null,null,{"$f":"IF(ISNUMBER(FIND(\"RES\",REFERENTES!$Q$2:$Q$1134)),REFERENTES!Q419,\"\")","v":""},{"$f":"REFERENTES!S419","v":"Estación Manglar Cocoplum (formada por 3 parcelas circulares):Manglar de cuenca o interior, localizado en el costado oriental de la Isla, en la zona media. Se encuentra separado del mar por la carretera y se desarrolla detrás de formaciones vegetales distintas al manglar, en las que algunas de ellas son de tipo xerófila que crecen sobre arenas formando matorrales. Este manglar está conformado por Rhizophora mangle, Laguncularia racemosa, Avicennia germinans y baja frecuencia de Conocarpus erectus. Altura promedio de los árboles de 8,1 m. Presenta contaminación proveniente del asentamiento vecino conocido como Nueva Guinea, causante del vertimiento de aguas residuales y mala disposición de residuos sólidos, así como de una porqueriza localizada muy cerca del manglar. Hay evidencia de actividades de tala en su interior y de rellenos. Tiene una extensión de manglar de 38,53 ha (INVEMAR-CORALINA, 2016)."},null,414,0,1131,"X",null,null,null,null,null,null,null,{"$f":"CONCATENATE(REFERENTES!T671,\"(\",REFERENTES!Q671,\")\")","v":"Arroyo Pacho(AP)"},{"$f":"REFERENTES!P671","v":43643}]
[null,null,null,null,null,null,null,null,null,null,null,{"$f":"IF(ISNUMBER(FIND(\"RES\",REFERENTES!$Q$2:$Q$1134)),REFERENTES!Q420,\"\")","v":""},{"$f":"REFERENTES!S420","v":"Estación Manglar Cocoplum (formada por 3 parcelas circulares):Manglar de cuenca o interior, localizado en el costado oriental de la Isla, en la zona media. Se encuentra separado del mar por la carretera y se desarrolla detrás de formaciones vegetales distintas al manglar, en las que algunas de ellas son de tipo xerófila que crecen sobre arenas formando matorrales. Este manglar está conformado por Rhizophora mangle, Laguncularia racemosa, Avicennia germinans y baja frecuencia de Conocarpus erectus. Altura promedio de los árboles de 8,1 m. Presenta contaminación proveniente del asentamiento vecino conocido como Nueva Guinea, causante del vertimiento de aguas residuales y mala disposición de residuos sólidos, así como de una porqueriza localizada muy cerca del manglar. Hay evidencia de actividades de tala en su interior y de rellenos. Tiene una extensión de manglar de 38,53 ha (INVEMAR-CORALINA, 2016)."},null,415,0,1131,"X",null,null,null,null,null,null,null,{"$f":"CONCATENATE(REFERENTES!T672,\"(\",REFERENTES!Q672,\")\")","v":"Arroyo Pacho Desembocadura(APD)"},{"$f":"REFERENTES!P672","v":43646}]
[null,null,null,null,null,null,null,null,null,null,null,{"$f":"IF(ISNUMBER(FIND(\"RES\",REFERENTES!$Q$2:$Q$1134)),REFERENTES!Q421,\"\")","v":""},{"$f":"REFERENTES!S421","v":0},null,416,0,1131,"X",null,null,null,null,null,null,null,{"$f":"CONCATENATE(REFERENTES!T673,\"(\",REFERENTES!Q673,\")\")","v":"Arroyo de Plata(Ay-Plata)"},{"$f":"REFERENTES!P673","v":44492}]
[null,null,null,null,null,null,null,null,null,null,null,{"$f":"IF(ISNUMBER(FIND(\"RES\",REFERENTES!$Q$2:$Q$1134)),REFERENTES!Q422,\"\")","v":""},{"$f":"REFERENTES!S422","v":"Ubicada a 5.2 km aproximadamente de la localidad de Juradó, en la cabecera de un pequeño Estero que se comunica con el Estero que comunica a Juradó con Curiche; su composición forestal está dada por la presencia de cuatro (4) especies a saber: Mora oleifera, Pelliciera rhizophorae, Rhizophora mangle y Rhizophora recamosa. La parcela está limitada en su parte Este por una asociación  Catival."},null,417,0,1131,"X",null,null,null,null,null,null,null,{"$f":"CONCATENATE(REFERENTES!T674,\"(\",REFERENTES!Q674,\")\")","v":"Arroyo la Piedrecita(ALP)"},{"$f":"REFERENTES!P674","v":43661}]
[null,null,null,null,null,null,null,null,null,null,null,{"$f":"IF(ISNUMBER(FIND(\"RES\",REFERENTES!$Q$2:$Q$1134)),REFERENTES!Q423,\"\")","v":""},{"$f":"REFERENTES!S423","v":0},null,418,0,1131,"X",null,null,null,null,null,null,null,{"$f":"CONCATENATE(REFERENTES!T675,\"(\",REFERENTES!Q675,\")\")","v":"BOCANA ISCUANDE(GUABA)"},{"$f":"REFERENTES!P675","v":45909}]
[null,null,null,null,null,null,null,null,null,null,null,{"$f":"IF(ISNUMBER(FIND(\"RES\",REFERENTES!$Q$2:$Q$1134)),REFERENTES!Q424,\"\")","v":""},{"$f":"REFERENTES!S424","v":"La parcela se encuentra en el sur del parche de manglar de mayor extensión ubicado al sur del sector. Se localiza 40 m al norte del espolón, a 14 m de la playa, el inicio de la parcela da a pocos metros un camino y la parte final a una pequeña cuneta de agua. Constituida por las 4 especies de mangle reportadas para el Dpto. con predominio de A. germinans."},null,419,0,1131,"X",null,null,null,null,null,null,null,{"$f":"CONCATENATE(REFERENTES!T676,\"(\",REFERENTES!Q676,\")\")","v":"BOCANA TAPAGE(BOTAPAJE)"},{"$f":"REFERENTES!P676","v":45899}]
[null,null,null,null,null,null,null,null,null,null,null,{"$f":"IF(ISNUMBER(FIND(\"RES\",REFERENTES!$Q$2:$Q$1134)),REFERENTES!Q425,\"\")","v":""},{"$f":"REFERENTES!S425","v":0},null,420,0,1131,"X",null,null,null,null,null,null,null,{"$f":"CONCATENATE(REFERENTES!T677,\"(\",REFERENTES!Q677,\")\")","v":"BOCAS DE SEQUIHONDA(SEQUIHONDA)"},{"$f":"REFERENTES!P677","v":45895}]
[null,null,null,null,null,null,null,null,null,null,null,{"$f":"IF(ISNUMBER(FIND(\"RES\",REFERENTES!$Q$2:$Q$1134)),REFERENTES!Q426,\"\")","v":""},{"$f":"REFERENTES!S426","v":"La parcela se encuentra en el norte del parche de manglar de mayor extensión ubicado al sur del sector. Se localiza a  600 m al sur de la desembocadura del rio Córdoba, a 20 m la playa. Dentro de la parcela predomina L. racemosa, R. mangle y presencia de C. erectus,  los suelos que dan a la playa son arenosos y firmes."},null,421,0,1131,"X",null,null,null,null,null,null,null,{"$f":"CONCATENATE(REFERENTES!T678,\"(\",REFERENTES!Q678,\")\")","v":"Bahia Barbacoas(Barba)"},{"$f":"REFERENTES!P678","v":41999}]
[null,null,null,null,null,null,null,null,null,null,null,{"$f":"IF(ISNUMBER(FIND(\"RES\",REFERENTES!$Q$2:$Q$1134)),REFERENTES!Q427,\"\")","v":""},{"$f":"REFERENTES!S427","v":"Parcela sencilla de 20 m de ancho x 50 m de largo"},null,422,0,1131,"X",null,null,null,null,null,null,null,{"$f":"CONCATENATE(REFERENTES!T679,\"(\",REFERENTES!Q679,\")\")","v":"Bahía Burrera(Bburr)"},{"$f":"REFERENTES!P679","v":48491}]
[null,null,null,null,null,null,null,null,null,null,null,{"$f":"IF(ISNUMBER(FIND(\"RES\",REFERENTES!$Q$2:$Q$1134)),REFERENTES!Q428,\"\")","v":""},{"$f":"REFERENTES!S428","v":"La parcela se estableció en un bosque monoespecífico de L. racemosa."},null,423,0,1131,"X",null,null,null,null,null,null,null,{"$f":"CONCATENATE(REFERENTES!T680,\"(\",REFERENTES!Q680,\")\")","v":"Bahía Coco Grande(Bcog )"},{"$f":"REFERENTES!P680","v":48519}]
[null,null,null,null,null,null,null,null,null,null,null,{"$f":"IF(ISNUMBER(FIND(\"RES\",REFERENTES!$Q$2:$Q$1134)),REFERENTES!Q429,\"\")","v":""},{"$f":"REFERENTES!S429","v":"Ubicadas a 150 m al Oriente de la cabaña de pescador, en el orilla Norte de la madre vieja. Es una parcela compuesta constituida con 2 parcelas distanciadas 16 m una de la otra, cada una con área de 100 m², ubicadas una al lado de la otra, paralelas a la línea de agua."},null,424,0,1131,"X",null,null,null,null,null,null,null,{"$f":"CONCATENATE(REFERENTES!T681,\"(\",REFERENTES!Q681,\")\")","v":"Bahía El Roto(Brot)"},{"$f":"REFERENTES!P681","v":48525}]
[null,null,null,null,null,null,null,null,null,null,null,{"$f":"IF(ISNUMBER(FIND(\"RES\",REFERENTES!$Q$2:$Q$1134)),REFERENTES!Q430,\"\")","v":""},{"$f":"REFERENTES!S430","v":"En la costa queda un pequeño relicto denso mejor conservado localizado a lo largo de un canal de aguas, y que desemboca en una cuneta donde se acumula el agua. Se encuentra la especie de mangle L. racemosa,  Este relicto se encuentra rodeado de vegetación secundaria por el borde costero."},null,425,0,1131,"X",null,null,null,null,null,null,null,{"$f":"CONCATENATE(REFERENTES!T682,\"(\",REFERENTES!Q682,\")\")","v":"Bahía El Uno(Buno)"},{"$f":"REFERENTES!P682","v":48437}]
[null,null,null,null,null,null,null,null,null,null,null,{"$f":"IF(ISNUMBER(FIND(\"RES\",REFERENTES!$Q$2:$Q$1134)),REFERENTES!Q431,\"\")","v":""},{"$f":"REFERENTES!S431","v":0},null,426,0,1131,"X",null,null,null,null,null,null,null,{"$f":"CONCATENATE(REFERENTES!T683,\"(\",REFERENTES!Q683,\")\")","v":"Bahía La Paila(Bpai)"},{"$f":"REFERENTES!P683","v":48496}]
[null,null,null,null,null,null,null,null,null,null,null,{"$f":"IF(ISNUMBER(FIND(\"RES\",REFERENTES!$Q$2:$Q$1134)),REFERENTES!Q432,\"\")","v":""},{"$f":"REFERENTES!S432","v":"Ubicada a 120 m al Oriente de la cabaña de pescador, sobre la orilla sur de la madre vieja  a pocos metros del lindero. Suelos pantanosos y encharcados."},null,427,0,1131,"X",null,null,null,null,null,null,null,{"$f":"CONCATENATE(REFERENTES!T684,\"(\",REFERENTES!Q684,\")\")","v":"Bahía Marirrio(Bmari)"},{"$f":"REFERENTES!P684","v":48486}]
[null,null,null,null,null,null,null,null,null,null,null,{"$f":"IF(ISNUMBER(FIND(\"RES\",REFERENTES!$Q$2:$Q$1134)),REFERENTES!Q433,\"\")","v":""},{"$f":"REFERENTES!S433","v":0},null,428,0,1131,"X",null,null,null,null,null,null,null,{"$f":"CONCATENATE(REFERENTES!T685,\"(\",REFERENTES!Q685,\")\")","v":"Bahía de Barbacoas(BARB01)"},{"$f":"REFERENTES!P685","v":44489}]
[null,null,null,null,null,null,null,null,null,null,null,{"$f":"IF(ISNUMBER(FIND(\"RES\",REFERENTES!$Q$2:$Q$1134)),REFERENTES!Q434,\"\")","v":""},{"$f":"REFERENTES!S434","v":0},null,429,0,1131,"X",null,null,null,null,null,null,null,{"$f":"CONCATENATE(REFERENTES!T686,\"(\",REFERENTES!Q686,\")\")","v":"Balboa(Balboa)"},{"$f":"REFERENTES!P686","v":45004}]
[null,null,null,null,null,null,null,null,null,null,null,{"$f":"IF(ISNUMBER(FIND(\"RES\",REFERENTES!$Q$2:$Q$1134)),REFERENTES!Q435,\"\")","v":""},{"$f":"REFERENTES!S435","v":"Parcela montada en el marco del proyecto \"Lineamientos de restauración para los manglares del departamento de La Guajira\" ejecutado por INVEMAR"},null,430,0,1131,"X",null,null,null,null,null,null,null,{"$f":"CONCATENATE(REFERENTES!T687,\"(\",REFERENTES!Q687,\")\")","v":"Barranco Colorao(BC)"},{"$f":"REFERENTES!P687","v":43637}]
[null,null,null,null,null,null,null,null,null,null,null,{"$f":"IF(ISNUMBER(FIND(\"RES\",REFERENTES!$Q$2:$Q$1134)),REFERENTES!Q436,\"\")","v":""},{"$f":"REFERENTES!S436","v":0},null,431,0,1131,"X",null,null,null,null,null,null,null,{"$f":"CONCATENATE(REFERENTES!T688,\"(\",REFERENTES!Q688,\")\")","v":"Barrial(BARR)"},{"$f":"REFERENTES!P688","v":42109}]
[null,null,null,null,null,null,null,null,null,null,null,{"$f":"IF(ISNUMBER(FIND(\"RES\",REFERENTES!$Q$2:$Q$1134)),REFERENTES!Q437,\"\")","v":""},{"$f":"REFERENTES!S437","v":"Parcela montada en el marco del proyecto \"Lineamientos de restauración para los manglares del departamento de La Guajira\" ejecutado por INVEMAR"},null,432,0,1131,"X",null,null,null,null,null,null,null,{"$f":"CONCATENATE(REFERENTES!T689,\"(\",REFERENTES!Q689,\")\")","v":"Barú(Barú)"},{"$f":"REFERENTES!P689","v":44511}]
[null,null,null,null,null,null,null,null,null,null,null,{"$f":"IF(ISNUMBER(FIND(\"RES\",REFERENTES!$Q$2:$Q$1134)),REFERENTES!Q438,\"\")","v":""},{"$f":"REFERENTES!S438","v":"A lo largo de toda la parcela se encuentran islotes de R. mangle con raíces de más de dos metros de alto y A. germinans en el sector final.., inundación a lo largo de toda la estación.  poca regeneración natural, se evidencia tala."},null,433,0,1131,"X",null,null,null,null,null,null,null,{"$f":"CONCATENATE(REFERENTES!T690,\"(\",REFERENTES!Q690,\")\")","v":"Bazo Matuntugo(Bmat)"},{"$f":"REFERENTES!P690","v":48516}]
[null,null,null,null,null,null,null,null,null,null,null,{"$f":"IF(ISNUMBER(FIND(\"RES\",REFERENTES!$Q$2:$Q$1134)),REFERENTES!Q439,\"\")","v":""},{"$f":"REFERENTES!S439","v":"ubicada en la zona de recuperación el claval  cerca a la antigua camaronera agro soledad, muy influenciada por las actividades antro picas del sector"},null,434,0,1131,"X",null,null,null,null,null,null,null,{"$f":"CONCATENATE(REFERENTES!T691,\"(\",REFERENTES!Q691,\")\")","v":"Berrugas(BERR)"},{"$f":"REFERENTES!P691","v":42201}]
[null,null,null,null,null,null,null,null,null,null,null,{"$f":"IF(ISNUMBER(FIND(\"RES\",REFERENTES!$Q$2:$Q$1134)),REFERENTES!Q440,\"\")","v":""},{"$f":"REFERENTES!S440","v":"Ubicada en la antigua Camaronera, con fuerte influencia antrópica, principalmente por aprovechamiento forestal de mangle con evidencia de huellas de aprovechamiento. La especie predominante es A. germinans. Bajos niveles de inundación."},null,435,0,1131,"X",null,null,null,null,null,null,null,{"$f":"CONCATENATE(REFERENTES!T692,\"(\",REFERENTES!Q692,\")\")","v":"Boca Caño Matuna(CMAT)"},{"$f":"REFERENTES!P692","v":44376}]
[null,null,null,null,null,null,null,null,null,null,null,{"$f":"IF(ISNUMBER(FIND(\"RES\",REFERENTES!$Q$2:$Q$1134)),REFERENTES!Q441,\"\")","v":""},{"$f":"REFERENTES!S441","v":"Parcela Caricomp (2 circulares): 2016"},null,436,0,1131,"X",null,null,null,null,null,null,null,{"$f":"CONCATENATE(REFERENTES!T693,\"(\",REFERENTES!Q693,\")\")","v":"Boca Caño el Frances (BCFRA)"},{"$f":"REFERENTES!P693","v":44413}]
[null,null,null,null,null,null,null,null,null,null,null,{"$f":"IF(ISNUMBER(FIND(\"RES\",REFERENTES!$Q$2:$Q$1134)),REFERENTES!Q442,\"\")","v":""},{"$f":"REFERENTES!S442","v":"Estación Manglar El Cove (formada por 2 parcelas circulares): Es un manglar de borde, ubicado en el costado oriental en la parte media de la Isla, que presenta una cobertura de 2,20 ha (INVEMAR-CORALINA, 2016)."},null,437,0,1131,"X",null,null,null,null,null,null,null,{"$f":"CONCATENATE(REFERENTES!T694,\"(\",REFERENTES!Q694,\")\")","v":"Boca Cerrada(BCERRA)"},{"$f":"REFERENTES!P694","v":42156}]
[null,null,null,null,null,null,null,null,null,null,null,{"$f":"IF(ISNUMBER(FIND(\"RES\",REFERENTES!$Q$2:$Q$1134)),REFERENTES!Q443,\"\")","v":""},{"$f":"REFERENTES!S443","v":"Franja delgada de mangle distribuidos en una franja conformada hacia el extremo derecho por árboles adultos, y el extremo izquierdo solo plántulas con tamaños entre 1,60 y 2 metros de altura."},null,438,0,1131,"X",null,null,null,null,null,null,null,{"$f":"CONCATENATE(REFERENTES!T695,\"(\",REFERENTES!Q695,\")\")","v":"Boca Cerrada (BCER)"},{"$f":"REFERENTES!P695","v":44386}]
[null,null,null,null,null,null,null,null,null,null,null,{"$f":"IF(ISNUMBER(FIND(\"RES\",REFERENTES!$Q$2:$Q$1134)),REFERENTES!Q444,\"\")","v":""},{"$f":"REFERENTES!S444","v":"SE PUEDE CONSIDERAR UNO DE LOS MANGLARES MAS DESARROLLADOS EN DIÁMETRO Y ALTURA DE NARIÑO. CON DOMINANCIA DEL MANGLE ROJO. ALTA DENSIDAD DE RAÍCES Y PRESENCIA DEL HELECHO RANCONCHA. AFECTADO POR TALAS."},null,439,0,1131,"X",null,null,null,null,null,null,null,{"$f":"CONCATENATE(REFERENTES!T696,\"(\",REFERENTES!Q696,\")\")","v":"Boca Cerrada -2(BCERR)"},{"$f":"REFERENTES!P696","v":42189}]
[null,null,null,null,null,null,null,null,null,null,null,{"$f":"IF(ISNUMBER(FIND(\"RES\",REFERENTES!$Q$2:$Q$1134)),REFERENTES!Q445,\"\")","v":""},{"$f":"REFERENTES!S445","v":"BOSQUE DE MANGLE ROJO BIEN DESARROLLADO CON SU ESTRUCTURA VERTICAL Y HORIZONTAL INTERVENIDAS. POCA REGENERACIÓN NATURAL"},null,440,0,1131,"X",null,null,null,null,null,null,null,{"$f":"CONCATENATE(REFERENTES!T697,\"(\",REFERENTES!Q697,\")\")","v":"Boca Pulumana(BPULU)"},{"$f":"REFERENTES!P697","v":43832}]
[null,null,null,null,null,null,null,null,null,null,null,{"$f":"IF(ISNUMBER(FIND(\"RES\",REFERENTES!$Q$2:$Q$1134)),REFERENTES!Q446,\"\")","v":""},{"$f":"REFERENTES!S446","v":"Parcela rectangular de 0.1 ha, ubicada a 730 m aproximadamente al Norte de Tribugá, en la margen izquierda del Estero Puerquera. Su cobertura forestal corresponde a un bosque monoespecífico de Rhizophora mangle."},null,441,0,1131,"X",null,null,null,null,null,null,null,{"$f":"CONCATENATE(REFERENTES!T698,\"(\",REFERENTES!Q698,\")\")","v":"Boca Vieja(Bovi)"},{"$f":"REFERENTES!P698","v":45417}]
[null,null,null,null,null,null,null,null,null,null,null,{"$f":"IF(ISNUMBER(FIND(\"RES\",REFERENTES!$Q$2:$Q$1134)),REFERENTES!Q447,\"\")","v":""},{"$f":"REFERENTES!S447","v":"El costado sur de la ensenada se caracteriza por la presencia de una cobertura rala principalmente con R. mangle, hacia afuera con árboles de porte alto con pequeñas fosas internas. Ubicada cerca de la antigua desembocadura, se observa limpio sin residuos o basuras, porte alto con mayor presencia de R. mangle. Se evidenció teredo y agallas en pocos árboles."},null,442,0,1131,"X",null,null,null,null,null,null,null,{"$f":"CONCATENATE(REFERENTES!T699,\"(\",REFERENTES!Q699,\")\")","v":"Bocana Asocars(BA)"},{"$f":"REFERENTES!P699","v":45882}]
[null,null,null,null,null,null,null,null,null,null,null,{"$f":"IF(ISNUMBER(FIND(\"RES\",REFERENTES!$Q$2:$Q$1134)),REFERENTES!Q448,\"\")","v":""},{"$f":"REFERENTES!S448","v":"Costado oriental de la ensenada con bosque denso y presencia de R.mangle, L. racemosa  y algunos E. germinans.  Se muestreo como especie predominante el R. mangle acompañada de L. racemosa.  Bosque denso con buena altura en algunos árboles se observó ataque de Teredo al igual que la presencia de agallas."},null,443,0,1131,"X",null,null,null,null,null,null,null,{"$f":"CONCATENATE(REFERENTES!T700,\"(\",REFERENTES!Q700,\")\")","v":"Bocana CVC(BCVC)"},{"$f":"REFERENTES!P700","v":45861}]
[null,null,null,null,null,null,null,null,null,null,null,{"$f":"IF(ISNUMBER(FIND(\"RES\",REFERENTES!$Q$2:$Q$1134)),REFERENTES!Q449,\"\")","v":""},{"$f":"REFERENTES!S449","v":"El costado sur de la ensenada se caracteriza por la presencia de una cobertura rala principalmente con R. mangle, hacia afuera con árboles de porte alto con pequeñas fosas internas. Ubicada cerca de la antigua desembocadura, se observa limpio sin residuos o basuras, porte alto con mayor presencia de R. mangle. Se evidenció teredo y agallas en pocos árboles."},null,444,0,1131,"X",null,null,null,null,null,null,null,{"$f":"CONCATENATE(REFERENTES!T701,\"(\",REFERENTES!Q701,\")\")","v":"Bocana Guapi(BGUAPI)"},{"$f":"REFERENTES!P701","v":45514}]
[null,null,null,null,null,null,null,null,null,null,null,{"$f":"IF(ISNUMBER(FIND(\"RES\",REFERENTES!$Q$2:$Q$1134)),REFERENTES!Q450,\"\")","v":""},{"$f":"REFERENTES!S450","v":"Costado oriental de la ensenada con bosque denso y presencia de R.mangle, L. racemosa  y algunos E. germinans.  Se muestreo como especie predominante el R. mangle acompañada de L. racemosa.  Bosque denso con buena altura en algunos árboles se observó ataque de Teredo al igual que la presencia de agallas."},null,445,0,1131,"X",null,null,null,null,null,null,null,{"$f":"CONCATENATE(REFERENTES!T702,\"(\",REFERENTES!Q702,\")\")","v":"Bocana Rio Saija(BSAIJ)"},{"$f":"REFERENTES!P702","v":42260}]
[null,null,null,null,null,null,null,null,null,null,null,{"$f":"IF(ISNUMBER(FIND(\"RES\",REFERENTES!$Q$2:$Q$1134)),REFERENTES!Q451,\"\")","v":""},{"$f":"REFERENTES!S451","v":"Manglar franjeante de poca extensión, se observan varios individuos muertos de L. racemosa y regeneración natural de C. erectus aunque los individuos adultos se encuentran en mal estado. El paisaje está fragmentado por senderos utilizados por pescadores, dada la potencialidad de uso para pesca de esta zona. Franja estrecha (1,5m) con desarrollo abundante de neumatóforos sobre el costado que rodea Laguna Grande. Poca hojarasca y alta riqueza de aves (Garzas, gaviotas, cormoranes, pelicano, chulo). Sin regeneración natural"},null,446,0,1131,"X",null,null,null,null,null,null,null,{"$f":"CONCATENATE(REFERENTES!T703,\"(\",REFERENTES!Q703,\")\")","v":"Bocas de Curay(BCU)"},{"$f":"REFERENTES!P703","v":42832}]
[null,null,null,null,null,null,null,null,null,null,null,{"$f":"IF(ISNUMBER(FIND(\"RES\",REFERENTES!$Q$2:$Q$1134)),REFERENTES!Q452,\"\")","v":""},{"$f":"REFERENTES!S452","v":"Parcela montada en el marco del proyecto \"Lineamientos de restauración para los manglares del departamento de La Guajira\" ejecutado por INVEMAR. Manglar franjeante de poca extensión, se observan varios individuos muertos de L. racemosa y regeneración natural de C. erectus aunque los individuos adultos se encuentran en mal estado. El paisaje está fragmentado por senderos utilizados por pescadores, dada la potencialidad de uso para pesca de esta zona. Franja estrecha (1,5m) con desarrollo abundante de neumatóforos sobre el costado que rodea Laguna Grande. Poca hojarasca y alta riqueza de aves (Garzas, gaviotas, cormoranes, pelicano, chulo). Sin regeneración natural"},null,447,0,1131,"X",null,null,null,null,null,null,null,{"$f":"CONCATENATE(REFERENTES!T704,\"(\",REFERENTES!Q704,\")\")","v":"Bocon(BOCO)"},{"$f":"REFERENTES!P704","v":42107}]
[null,null,null,null,null,null,null,null,null,null,null,{"$f":"IF(ISNUMBER(FIND(\"RES\",REFERENTES!$Q$2:$Q$1134)),REFERENTES!Q453,\"\")","v":""},{"$f":"REFERENTES!S453","v":"Manglar altamente intervenido con predominio de mangle.Ubicada en el estero aguacate frente TC buen"},null,448,0,1131,"X",null,null,null,null,null,null,null,{"$f":"CONCATENATE(REFERENTES!T705,\"(\",REFERENTES!Q705,\")\")","v":"Bodegas (AB)"},{"$f":"REFERENTES!P705","v":45890}]
[null,null,null,null,null,null,null,null,null,null,null,{"$f":"IF(ISNUMBER(FIND(\"RES\",REFERENTES!$Q$2:$Q$1134)),REFERENTES!Q454,\"\")","v":""},{"$f":"REFERENTES!S454","v":"Parcela sencilla de 20 m de ancho x 50 m de largo"},null,449,0,{"$f":"IF(P454=0,MAX($O$6:$O$1135)+1,O454)","v":1131},{"$f":"IFERROR(VLOOKUP(SMALL($Q$6:$Q$1135,O454),$O$6:$P$1135,2,FALSE),\"X\")","v":"X"},null,null,null,null,null,null,null,{"$f":"CONCATENATE(REFERENTES!T706,\"(\",REFERENTES!Q706,\")\")","v":"Buritaca 1(Buritac1)"},{"$f":"REFERENTES!P706","v":45304}]
[null,null,null,null,null,null,null,null,null,null,null,{"$f":"IF(ISNUMBER(FIND(\"RES\",REFERENTES!$Q$2:$Q$1134)),REFERENTES!Q455,\"\")","v":""},{"$f":"REFERENTES!S455","v":0},null,450,{"$f":"IF(L455=\"\",0,L455)","v":0},1131,"X",null,null,null,null,null,null,null,{"$f":"CONCATENATE(REFERENTES!T707,\"(\",REFERENTES!Q707,\")\")","v":"Buritaca 1(Buritc1)"},{"$f":"REFERENTES!P707","v":45313}]
[null,null,null,null,null,null,null,null,null,null,null,{"$f":"IF(ISNUMBER(FIND(\"RES\",REFERENTES!$Q$2:$Q$1134)),REFERENTES!Q456,\"\")","v":""},{"$f":"REFERENTES!S456","v":"En síntesis se esperaba que este sector se encontrara en mejores condiciones,  pero por la gran cantidad de árboles pequeños a pesar de tener el mayor área basal, se puede considerar que este es un bosque altamente intervenido en contraposición con la zonificación 2007 que lo cataloga como poco intervenido."},null,451,0,1131,"X",null,null,null,null,null,null,null,{"$f":"CONCATENATE(REFERENTES!T708,\"(\",REFERENTES!Q708,\")\")","v":"Buritaca 2(Buritac2)"},{"$f":"REFERENTES!P708","v":45317}]
[null,null,null,null,null,null,null,null,null,null,null,{"$f":"IF(ISNUMBER(FIND(\"RES\",REFERENTES!$Q$2:$Q$1134)),REFERENTES!Q457,\"\")","v":""},{"$f":"REFERENTES!S457","v":"Manglar altamente intervenido con predominio de mangle.Ubicada en el estero piñal frente al muelle de Sociedad portuaria"},null,452,0,1131,"X",null,null,null,null,null,null,null,{"$f":"CONCATENATE(REFERENTES!T709,\"(\",REFERENTES!Q709,\")\")","v":"Buritaca 2(Buritac2)"},{"$f":"REFERENTES!P709","v":45307}]
[null,null,null,null,null,null,null,null,null,null,null,{"$f":"IF(ISNUMBER(FIND(\"RES\",REFERENTES!$Q$2:$Q$1134)),REFERENTES!Q458,\"\")","v":""},{"$f":"REFERENTES!S458","v":"Parcela sencilla de 20 m de ancho x 50 m de largo."},null,453,0,1131,"X",null,null,null,null,null,null,null,{"$f":"CONCATENATE(REFERENTES!T710,\"(\",REFERENTES!Q710,\")\")","v":"CAMINO REAL(CAMREAL)"},{"$f":"REFERENTES!P710","v":45386}]
[null,null,null,null,null,null,null,null,null,null,null,{"$f":"IF(ISNUMBER(FIND(\"RES\",REFERENTES!$Q$2:$Q$1134)),REFERENTES!Q459,\"\")","v":""},{"$f":"REFERENTES!S459","v":"Manglar altamente intervenido, con presencia de residuos solidos en descomposición. Ubicada en el estero san antonio frente al puente al sena"},null,454,0,1131,"X",null,null,null,null,null,null,null,{"$f":"CONCATENATE(REFERENTES!T711,\"(\",REFERENTES!Q711,\")\")","v":"Caimanera(CAIM)"},{"$f":"REFERENTES!P711","v":42108}]
[null,null,null,null,null,null,null,null,null,null,null,{"$f":"IF(ISNUMBER(FIND(\"RES\",REFERENTES!$Q$2:$Q$1134)),REFERENTES!Q460,\"\")","v":""},{"$f":"REFERENTES!S460","v":"Manglar altamente intervenido, con presencia de residuos sólidos en descomposición. Ubicada en el estero san antonio frente al puente del piñal"},null,455,0,1131,"X",null,null,null,null,null,null,null,{"$f":"CONCATENATE(REFERENTES!T712,\"(\",REFERENTES!Q712,\")\")","v":"Caimán Nuevo(Cnvo)"},{"$f":"REFERENTES!P712","v":48434}]
[null,null,null,null,null,null,null,null,null,null,null,{"$f":"IF(ISNUMBER(FIND(\"RES\",REFERENTES!$Q$2:$Q$1134)),REFERENTES!Q461,\"\")","v":""},{"$f":"REFERENTES!S461","v":"manglar altamente intervenido con buena asociacion de especies de manglar"},null,456,0,1131,"X",null,null,null,null,null,null,null,{"$f":"CONCATENATE(REFERENTES!T713,\"(\",REFERENTES!Q713,\")\")","v":"Caimán Viejo(Rcvi)"},{"$f":"REFERENTES!P713","v":48439}]
[null,null,null,null,null,null,null,null,null,null,null,{"$f":"IF(ISNUMBER(FIND(\"RES\",REFERENTES!$Q$2:$Q$1134)),REFERENTES!Q462,\"\")","v":""},{"$f":"REFERENTES!S462","v":0},null,457,0,1131,"X",null,null,null,null,null,null,null,{"$f":"CONCATENATE(REFERENTES!T714,\"(\",REFERENTES!Q714,\")\")","v":"Caleta del Tambor- Restauración(RES_MGACTRES)"},{"$f":"REFERENTES!P714","v":55346}]
[null,null,null,null,null,null,null,null,null,null,null,{"$f":"IF(ISNUMBER(FIND(\"RES\",REFERENTES!$Q$2:$Q$1134)),REFERENTES!Q463,\"\")","v":""},{"$f":"REFERENTES!S463","v":0},null,458,0,1131,"X",null,null,null,null,null,null,null,{"$f":"CONCATENATE(REFERENTES!T715,\"(\",REFERENTES!Q715,\")\")","v":"Camarones 1(CAMA1)"},{"$f":"REFERENTES!P715","v":43652}]
[null,null,null,null,null,null,null,null,null,null,null,{"$f":"IF(ISNUMBER(FIND(\"RES\",REFERENTES!$Q$2:$Q$1134)),REFERENTES!Q464,\"\")","v":""},{"$f":"REFERENTES!S464","v":0},null,459,0,1131,"X",null,null,null,null,null,null,null,{"$f":"CONCATENATE(REFERENTES!T716,\"(\",REFERENTES!Q716,\")\")","v":"Camarones 2(CAMA2)"},{"$f":"REFERENTES!P716","v":43655}]
[null,null,null,null,null,null,null,null,null,null,null,{"$f":"IF(ISNUMBER(FIND(\"RES\",REFERENTES!$Q$2:$Q$1134)),REFERENTES!Q465,\"\")","v":""},{"$f":"REFERENTES!S465","v":0},null,460,0,1131,"X",null,null,null,null,null,null,null,{"$f":"CONCATENATE(REFERENTES!T717,\"(\",REFERENTES!Q717,\")\")","v":"Cangrejo(Can)"},{"$f":"REFERENTES!P717","v":46009}]
[null,null,null,null,null,null,null,null,null,null,null,{"$f":"IF(ISNUMBER(FIND(\"RES\",REFERENTES!$Q$2:$Q$1134)),REFERENTES!Q466,\"\")","v":""},{"$f":"REFERENTES!S466","v":"Para llegar a la parcela desde Santa Marta,"},null,461,0,1131,"X",null,null,null,null,null,null,null,{"$f":"CONCATENATE(REFERENTES!T718,\"(\",REFERENTES!Q718,\")\")","v":"Caño Arteaga(CñArteaga)"},{"$f":"REFERENTES!P718","v":48749}]
[null,null,null,null,null,null,null,null,null,null,null,{"$f":"IF(ISNUMBER(FIND(\"RES\",REFERENTES!$Q$2:$Q$1134)),REFERENTES!Q467,\"\")","v":""},{"$f":"REFERENTES!S467","v":"Se localiza en el costado Oriental  a 500 m de la desembocadura del río Guachaca, la parcela  va desde la playa, atraviesa un cuerpo de agua llegando a un potrero en el patio de una vivienda. Con suelos firmes a encharcados."},null,462,0,1131,"X",null,null,null,null,null,null,null,{"$f":"CONCATENATE(REFERENTES!T719,\"(\",REFERENTES!Q719,\")\")","v":"Caño Bristol(BRI)"},{"$f":"REFERENTES!P719","v":43437}]
[null,null,null,null,null,null,null,null,null,null,null,{"$f":"IF(ISNUMBER(FIND(\"RES\",REFERENTES!$Q$2:$Q$1134)),REFERENTES!Q468,\"\")","v":""},{"$f":"REFERENTES!S468","v":0},null,463,0,1131,"X",null,null,null,null,null,null,null,{"$f":"CONCATENATE(REFERENTES!T720,\"(\",REFERENTES!Q720,\")\")","v":"Caño Dulce(DULC)"},{"$f":"REFERENTES!P720","v":45263}]
[null,null,null,null,null,null,null,null,null,null,null,{"$f":"IF(ISNUMBER(FIND(\"RES\",REFERENTES!$Q$2:$Q$1134)),REFERENTES!Q469,\"\")","v":""},{"$f":"REFERENTES!S469","v":"El bosque de manglar de Dagua presenta características muy especiales.  Por un lado tiene una distribución diamétrica del número de árboles en forma de J invertida que permite garantizar la dinámica sucesional bosque. Por otro lado el análisis de la estructura vertical del bosque permite visualizar la fragmentación del bosque que concuerda con la zonificación de bosque altamente intervenido."},null,464,0,1131,"X",null,null,null,null,null,null,null,{"$f":"CONCATENATE(REFERENTES!T721,\"(\",REFERENTES!Q721,\")\")","v":"Caño Garzal(el garzal)"},{"$f":"REFERENTES!P721","v":45053}]
[null,null,null,null,null,null,null,null,null,null,null,{"$f":"IF(ISNUMBER(FIND(\"RES\",REFERENTES!$Q$2:$Q$1134)),REFERENTES!Q470,\"\")","v":""},{"$f":"REFERENTES!S470","v":0},null,465,0,1131,"X",null,null,null,null,null,null,null,{"$f":"CONCATENATE(REFERENTES!T722,\"(\",REFERENTES!Q722,\")\")","v":"Caño Grande(CGE)"},{"$f":"REFERENTES!P722","v":42271}]
[null,null,null,null,null,null,null,null,null,null,null,{"$f":"IF(ISNUMBER(FIND(\"RES\",REFERENTES!$Q$2:$Q$1134)),REFERENTES!Q471,\"\")","v":""},{"$f":"REFERENTES!S471","v":"En términos generales se puede considerar que por el área basal,  el número de árboles, la estructura vertical y la cobertura de copas, este bosque corresponde a un manglar Medianamente Intervenido,  lo que hace evidente la importancia de actualizar la zonificación ya que este sitio se encuentra clasificado actualmente  en la categoría de altamente intervenido."},null,466,0,1131,"X",null,null,null,null,null,null,null,{"$f":"CONCATENATE(REFERENTES!T723,\"(\",REFERENTES!Q723,\")\")","v":"Caño Grande(caño grande)"},{"$f":"REFERENTES!P723","v":45147}]
[null,null,null,null,null,null,null,null,null,null,null,{"$f":"IF(ISNUMBER(FIND(\"RES\",REFERENTES!$Q$2:$Q$1134)),REFERENTES!Q472,\"\")","v":""},{"$f":"REFERENTES!S472","v":"Ubicado en un islote, con el sustrato del borde de material calcáreo, R. mangle como especie dominante con raíces fulcreas abundantes.  Bosque en buen estado, algunos troncos secos y muertos."},null,467,0,1131,"X",null,null,null,null,null,null,null,{"$f":"CONCATENATE(REFERENTES!T724,\"(\",REFERENTES!Q724,\")\")","v":"Caño Grande 3(caño grande 3)"},{"$f":"REFERENTES!P724","v":45354}]
[null,null,null,null,null,null,null,null,null,null,null,{"$f":"IF(ISNUMBER(FIND(\"RES\",REFERENTES!$Q$2:$Q$1134)),REFERENTES!Q473,\"\")","v":""},{"$f":"REFERENTES!S473","v":"Localizada  en el extremo Noroccidental de la isla al frente al islote Boquerón pequeño.  Es una parcela compuesta por 5 parcelas y cada una tiene un área de 100 m². Es un bosque joven y en buen estado constituido por las especie R. mangle y A. germinans,"},null,468,0,1131,"X",null,null,null,null,null,null,null,{"$f":"CONCATENATE(REFERENTES!T725,\"(\",REFERENTES!Q725,\")\")","v":"Caño Guacamayas(CGUA)"},{"$f":"REFERENTES!P725","v":44409}]
[null,null,null,null,null,null,null,null,null,null,null,{"$f":"IF(ISNUMBER(FIND(\"RES\",REFERENTES!$Q$2:$Q$1134)),REFERENTES!Q474,\"\")","v":""},{"$f":"REFERENTES!S474","v":"Se ubica al centro norte del Islote. Es una parcela compuesta por 5 parcelas y cada una tiene un área de 100 m²."},null,469,0,1131,"X",null,null,null,null,null,null,null,{"$f":"CONCATENATE(REFERENTES!T726,\"(\",REFERENTES!Q726,\")\")","v":"Caño La Balsa(CñBalsa)"},{"$f":"REFERENTES!P726","v":48768}]
[null,null,null,null,null,null,null,null,null,null,null,{"$f":"IF(ISNUMBER(FIND(\"RES\",REFERENTES!$Q$2:$Q$1134)),REFERENTES!Q475,\"\")","v":""},{"$f":"REFERENTES!S475","v":"Se localiza en el costado nororiental del islote, la parcela presenta una densidad que se incrementa a medida que se introduce a tierra firme, conformada por A. germinanas y R. mangle. Es una parcela compuesta, constituida con 5 parcelas y cada una tiene un área de 100 m²."},null,470,0,1131,"X",null,null,null,null,null,null,null,{"$f":"CONCATENATE(REFERENTES!T727,\"(\",REFERENTES!Q727,\")\")","v":"Caño La Balsa(clb)"},{"$f":"REFERENTES!P727","v":42067}]
[null,null,null,null,null,null,null,null,null,null,null,{"$f":"IF(ISNUMBER(FIND(\"RES\",REFERENTES!$Q$2:$Q$1134)),REFERENTES!Q476,\"\")","v":""},{"$f":"REFERENTES!S476","v":0},null,471,0,1131,"X",null,null,null,null,null,null,null,{"$f":"CONCATENATE(REFERENTES!T728,\"(\",REFERENTES!Q728,\")\")","v":"Caño La caleta del tambor(RES_MGCG_CT)"},{"$f":"REFERENTES!P728","v":52736}]
[null,null,null,null,null,null,null,null,null,null,null,{"$f":"IF(ISNUMBER(FIND(\"RES\",REFERENTES!$Q$2:$Q$1134)),REFERENTES!Q477,\"\")","v":""},{"$f":"REFERENTES!S477","v":0},null,472,0,1131,"X",null,null,null,null,null,null,null,{"$f":"CONCATENATE(REFERENTES!T729,\"(\",REFERENTES!Q729,\")\")","v":"Caño Lequerica(Lequerica)"},{"$f":"REFERENTES!P729","v":44503}]
[null,null,null,null,null,null,null,null,null,null,null,{"$f":"IF(ISNUMBER(FIND(\"RES\",REFERENTES!$Q$2:$Q$1134)),REFERENTES!Q478,\"\")","v":""},{"$f":"REFERENTES!S478","v":0},null,473,0,1131,"X",null,null,null,null,null,null,null,{"$f":"CONCATENATE(REFERENTES!T730,\"(\",REFERENTES!Q730,\")\")","v":"Caño Nisperal(nisperal)"},{"$f":"REFERENTES!P730","v":45108}]
[null,null,null,null,null,null,null,null,null,null,null,{"$f":"IF(ISNUMBER(FIND(\"RES\",REFERENTES!$Q$2:$Q$1134)),REFERENTES!Q479,\"\")","v":""},{"$f":"REFERENTES!S479","v":"esta esta ubicada en la sector de aprovechamiento ciénaga el vertel, con predominancia de la especie Avicenia gerninans, este es uno de los sitios que se mantienen sus condiciones naturales casi intactas,"},null,474,0,1131,"X",null,null,null,null,null,null,null,{"$f":"CONCATENATE(REFERENTES!T731,\"(\",REFERENTES!Q731,\")\")","v":"Caño Palermo(palermo)"},{"$f":"REFERENTES!P731","v":45099}]
[null,null,null,null,null,null,null,null,null,null,null,{"$f":"IF(ISNUMBER(FIND(\"RES\",REFERENTES!$Q$2:$Q$1134)),REFERENTES!Q480,\"\")","v":""},{"$f":"REFERENTES!S480","v":"Estación Manglar Jhon Mangrove (formada por 1 parcela circular): Es un manglar de cuenca, ubicado en el costado noroeste de la Isla, que presenta una cobertura de 3,7 ha (INVEMAR-CORALINA, 2016)."},null,475,0,1131,"X",null,null,null,null,null,null,null,{"$f":"CONCATENATE(REFERENTES!T732,\"(\",REFERENTES!Q732,\")\")","v":"Caño Salado(CS)"},{"$f":"REFERENTES!P732","v":42081}]
[null,null,null,null,null,null,null,null,null,null,null,{"$f":"IF(ISNUMBER(FIND(\"RES\",REFERENTES!$Q$2:$Q$1134)),REFERENTES!Q481,\"\")","v":""},{"$f":"REFERENTES!S481","v":0},null,476,0,1131,"X",null,null,null,null,null,null,null,{"$f":"CONCATENATE(REFERENTES!T733,\"(\",REFERENTES!Q733,\")\")","v":"Caño Salado(CñSalado)"},{"$f":"REFERENTES!P733","v":48757}]
[null,null,null,null,null,null,null,null,null,null,null,{"$f":"IF(ISNUMBER(FIND(\"RES\",REFERENTES!$Q$2:$Q$1134)),REFERENTES!Q482,\"\")","v":""},{"$f":"REFERENTES!S482","v":0},null,477,0,1131,"X",null,null,null,null,null,null,null,{"$f":"CONCATENATE(REFERENTES!T734,\"(\",REFERENTES!Q734,\")\")","v":"Caño Salado(caño salado)"},{"$f":"REFERENTES!P734","v":45113}]
[null,null,null,null,null,null,null,null,null,null,null,{"$f":"IF(ISNUMBER(FIND(\"RES\",REFERENTES!$Q$2:$Q$1134)),REFERENTES!Q483,\"\")","v":""},{"$f":"REFERENTES!S483","v":"Parcela 1 monitoreada por el INVEMAR en el marco del ¨Monitoreo de las condiciones ambientales y los cambios estructurales y funcionales de las comunidades vegetales y de los recursos pesqueros durante la rehabilitación de la Ciénaga Grande de Santa Marta¨"},null,478,0,1131,"X",null,null,null,null,null,null,null,{"$f":"CONCATENATE(REFERENTES!T735,\"(\",REFERENTES!Q735,\")\")","v":"Caño Salado 2(caño salado 2)"},{"$f":"REFERENTES!P735","v":45350}]
[null,null,null,null,null,null,null,null,null,null,null,{"$f":"IF(ISNUMBER(FIND(\"RES\",REFERENTES!$Q$2:$Q$1134)),REFERENTES!Q484,\"\")","v":""},{"$f":"REFERENTES!S484","v":"Parcela 2 monitoreada por el INVEMAR en el marco del ¨Monitoreo de las condiciones ambientales y los cambios estructurales y funcionales de las comunidades vegetales y de los recursos pesqueros durante la rehabilitación de la Ciénaga Grande de Santa Marta¨"},null,479,0,1131,"X",null,null,null,null,null,null,null,{"$f":"CONCATENATE(REFERENTES!T736,\"(\",REFERENTES!Q736,\")\")","v":"Caño Tijo(CñTijo)"},{"$f":"REFERENTES!P736","v":48745}]
[null,null,null,null,null,null,null,null,null,null,null,{"$f":"IF(ISNUMBER(FIND(\"RES\",REFERENTES!$Q$2:$Q$1134)),REFERENTES!Q485,\"\")","v":""},{"$f":"REFERENTES!S485","v":"Parcela 3 monitoreada por el INVEMAR en el marco del ¨Monitoreo de las condiciones ambientales y los cambios estructurales y funcionales de las comunidades vegetales y de los recursos pesqueros durante la rehabilitación de la Ciénaga Grande de Santa Marta¨"},null,480,0,1131,"X",null,null,null,null,null,null,null,{"$f":"CONCATENATE(REFERENTES!T737,\"(\",REFERENTES!Q737,\")\")","v":"Caño Tijo(caño tijo)"},{"$f":"REFERENTES!P737","v":45014}]
[null,null,null,null,null,null,null,null,null,null,null,{"$f":"IF(ISNUMBER(FIND(\"RES\",REFERENTES!$Q$2:$Q$1134)),REFERENTES!Q486,\"\")","v":""},{"$f":"REFERENTES!S486","v":"Parcela de Manglar CRC"},null,481,0,1131,"X",null,null,null,null,null,null,null,{"$f":"CONCATENATE(REFERENTES!T738,\"(\",REFERENTES!Q738,\")\")","v":"Caño Tijo(latijo2)"},{"$f":"REFERENTES!P738","v":45015}]
[null,null,null,null,null,null,null,null,null,null,null,{"$f":"IF(ISNUMBER(FIND(\"RES\",REFERENTES!$Q$2:$Q$1134)),REFERENTES!Q487,\"\")","v":""},{"$f":"REFERENTES!S487","v":"esta parcela permanente de crecimiento, con predominancia de especie Avicenia germinans"},null,482,0,1131,"X",null,null,null,null,null,null,null,{"$f":"CONCATENATE(REFERENTES!T739,\"(\",REFERENTES!Q739,\")\")","v":"Caño Tijo 2(el tijo 2)"},{"$f":"REFERENTES!P739","v":45094}]
[null,null,null,null,null,null,null,null,null,null,null,{"$f":"IF(ISNUMBER(FIND(\"RES\",REFERENTES!$Q$2:$Q$1134)),REFERENTES!Q488,\"\")","v":""},{"$f":"REFERENTES!S488","v":0},null,483,0,1131,"X",null,null,null,null,null,null,null,{"$f":"CONCATENATE(REFERENTES!T740,\"(\",REFERENTES!Q740,\")\")","v":"Caño Tijó(TIJO)"},{"$f":"REFERENTES!P740","v":45007}]
[null,null,null,null,null,null,null,null,null,null,null,{"$f":"IF(ISNUMBER(FIND(\"RES\",REFERENTES!$Q$2:$Q$1134)),REFERENTES!Q489,\"\")","v":""},{"$f":"REFERENTES!S489","v":"Se ubica a 1.1 km aproximadamente al Noreste de la comunidad de Curiche, en la margen derecha del Estero La Calle; su bosque está compuesto por Rhizophora mangle y Avicennia germinans."},null,484,0,1131,"X",null,null,null,null,null,null,null,{"$f":"CONCATENATE(REFERENTES!T741,\"(\",REFERENTES!Q741,\")\")","v":"Caño Tijó(Tijo)"},{"$f":"REFERENTES!P741","v":42102}]
[null,null,null,null,null,null,null,null,null,null,null,{"$f":"IF(ISNUMBER(FIND(\"RES\",REFERENTES!$Q$2:$Q$1134)),REFERENTES!Q490,\"\")","v":""},{"$f":"REFERENTES!S490","v":"parcela ubicada en la zona de recuperación del la bahía de cispata, con predominancia de la especie Avicenia  germinans, con bajos niveles de inundación, con gran cantidad de arboles de gran tamaño y en buen estado."},null,485,0,1131,"X",null,null,null,null,null,null,null,{"$f":"CONCATENATE(REFERENTES!T742,\"(\",REFERENTES!Q742,\")\")","v":"Caño Tubo(CATO)"},{"$f":"REFERENTES!P742","v":41953}]
[null,null,null,null,null,null,null,null,null,null,null,{"$f":"IF(ISNUMBER(FIND(\"RES\",REFERENTES!$Q$2:$Q$1134)),REFERENTES!Q491,\"\")","v":""},{"$f":"REFERENTES!S491","v":"esta ubicada en el sub sector de aprovechamiento, remedia pobre, en la zona de uso sostenible del DMI, esta parcela tiene predominancia de la especie Avicemia gerninans, Rhizophora mangle entre otras, los arboles presentan unas condiciones de raquitismo y se encuentran gran cantidad de arboles y ramas muertas, hay huellas de aprovechamiento forestal en esta parcela."},null,486,0,1131,"X",null,null,null,null,null,null,null,{"$f":"CONCATENATE(REFERENTES!T743,\"(\",REFERENTES!Q743,\")\")","v":"Caño Urabalito(Cura)"},{"$f":"REFERENTES!P743","v":48424}]
[null,null,null,null,null,null,null,null,null,null,null,{"$f":"IF(ISNUMBER(FIND(\"RES\",REFERENTES!$Q$2:$Q$1134)),REFERENTES!Q492,\"\")","v":""},{"$f":"REFERENTES!S492","v":"la parcela esta ubicada en la zona de uso sostenible del DMI en el sector la flotante en caño nisperal, con predominancia de la especie Rhizophora mangle, con arboles de gran tamaño, las condiciones del bosque son muy buenas existe abundante fauna silvestre benéfica para el sistema manglarico"},null,487,0,1131,"X",null,null,null,null,null,null,null,{"$f":"CONCATENATE(REFERENTES!T744,\"(\",REFERENTES!Q744,\")\")","v":"Caño el Garza(el grazal)"},{"$f":"REFERENTES!P744","v":45071}]
[null,null,null,null,null,null,null,null,null,null,null,{"$f":"IF(ISNUMBER(FIND(\"RES\",REFERENTES!$Q$2:$Q$1134)),REFERENTES!Q493,\"\")","v":""},{"$f":"REFERENTES!S493","v":"Parcela montada en el marco del proyecto \"Lineamientos de restauración para los manglares del departamento de La Guajira\" ejecutado por INVEMAR. Franja de manglar tipo cuenca adyacente al arroyo compuesto por A. germinans y L. racemosa. Se observan algunos árboles secos defoliados. Abundantes neumatóforos de tamaño mediano. Algunos árboles con daños en el tronco. Se observaron caminos en las inmediaciones. Escasa regeneración natural y presencia de B. maritima."},null,488,0,1131,"X",null,null,null,null,null,null,null,{"$f":"CONCATENATE(REFERENTES!T745,\"(\",REFERENTES!Q745,\")\")","v":"Caño el Nene(Nene)"},{"$f":"REFERENTES!P745","v":45039}]
[null,null,null,null,null,null,null,null,null,null,null,{"$f":"IF(ISNUMBER(FIND(\"RES\",REFERENTES!$Q$2:$Q$1134)),REFERENTES!Q494,\"\")","v":""},{"$f":"REFERENTES!S494","v":"La parcela se ubica perpendicular a la línea de costa, aproximadamente a un Kilómetro de la comunidad indigena Wayuú asentada en el lugar. En sus aproximaciones se encuentra La Laguna de Buena Vista, que es alimetada por el Río Ranchería y tiene conexión con el mar que permanece abierta prácticamente todo el año (Gil-Torres et al., 2009). Dentro del bosque de manglar, se encuentran suelos fangososo sin compactar altamente inundados; en las zonas exteriores y circundantes al mismo se observan suelos que corresponden a depósitos de materiales calcáreos gruesos y conchas apartadas por el mar. Se observa que la especie dominante es A. germinans (Vidal-Hernández, 2013)_x000D_"},null,489,0,1131,"X",null,null,null,null,null,null,null,{"$f":"CONCATENATE(REFERENTES!T746,\"(\",REFERENTES!Q746,\")\")","v":"Caño el Nene (Nene)"},{"$f":"REFERENTES!P746","v":45129}]
[null,null,null,null,null,null,null,null,null,null,null,{"$f":"IF(ISNUMBER(FIND(\"RES\",REFERENTES!$Q$2:$Q$1134)),REFERENTES!Q495,\"\")","v":""},{"$f":"REFERENTES!S495","v":"La parcela se ubica perpendicular a la línea de costa, aproximadamente a un Kilómetro de la comunidad indigena Wayuú asentada en el lugar. En sus aproximaciones se encuentra La Laguna de Buena Vista, que es alimetada por el Río Ranchería y tiene conexión con el mar que permanece abierta prácticamente todo el año (Gil-Torres et al., 2009). Dentro del bosque de manglar, se encuentran suelos fangososo sin compactar altamente inundados; en las zonas exteriores y circundantes al mismo se observan suelos que corresponden a depósitos de materiales calcáreos gruesos y conchas apartadas por el mar. Se observa que la especie dominante es A. germinans (Vidal-Hernández, 2013)_x000D_"},null,490,0,1131,"X",null,null,null,null,null,null,null,{"$f":"CONCATENATE(REFERENTES!T747,\"(\",REFERENTES!Q747,\")\")","v":"Caño la Camaronera(CCAM)"},{"$f":"REFERENTES!P747","v":44377}]
[null,null,null,null,null,null,null,null,null,null,null,{"$f":"IF(ISNUMBER(FIND(\"RES\",REFERENTES!$Q$2:$Q$1134)),REFERENTES!Q496,\"\")","v":""},{"$f":"REFERENTES!S496","v":"La parcela se ubica perpendicular a la línea de costa, aproximadamente a un Kilómetro de la comunidad indigena Wayuú asentada en el lugar. En sus aproximaciones se encuentra La Laguna de Buena Vista, que es alimetada por el Río Ranchería y tiene conexión con el mar que permanece abierta prácticamente todo el año (Gil-Torres et al., 2009). Dentro del bosque de manglar, se encuentran suelos fangososo sin compactar altamente inundados; en las zonas exteriores y circundantes al mismo se observan suelos que corresponden a depósitos de materiales calcáreos gruesos y conchas apartadas por el mar. Se observa que la especie dominante es A. germinans (Vidal-Hernández, 2013)_x000D_"},null,491,0,1131,"X",null,null,null,null,null,null,null,{"$f":"CONCATENATE(REFERENTES!T748,\"(\",REFERENTES!Q748,\")\")","v":"Chamuscado(NC)"},{"$f":"REFERENTES!P748","v":45820}]
[null,null,null,null,null,null,null,null,null,null,null,{"$f":"IF(ISNUMBER(FIND(\"RES\",REFERENTES!$Q$2:$Q$1134)),REFERENTES!Q497,\"\")","v":""},{"$f":"REFERENTES!S497","v":"Parcela montada en el marco del proyecto \"Lineamientos de restauración para los manglares del departamento de La Guajira\" ejecutado por INVEMAR. Bosque tipo cuenca mono específico de A. germinans.  Árboles secos totalmente defoliados, algunos muertos.  Abundantes neumatóforos, terreno seco, arcillo arenoso. Zona para tránsito de pescadores y ganado.  Sin regeneración natural. Sin regeneración natural."},null,492,0,1131,"X",null,null,null,null,null,null,null,{"$f":"CONCATENATE(REFERENTES!T749,\"(\",REFERENTES!Q749,\")\")","v":"Chichiman(Chichi)"},{"$f":"REFERENTES!P749","v":42163}]
[null,null,null,null,null,null,null,null,null,null,null,{"$f":"IF(ISNUMBER(FIND(\"RES\",REFERENTES!$Q$2:$Q$1134)),REFERENTES!Q498,\"\")","v":""},{"$f":"REFERENTES!S498","v":"Bosque tipo cuenca mono específico de A. germinans.  Árboles secos totalmente defoliados, algunos muertos.  Abundantes neumatóforos, terreno seco, arcillo arenoso. Zona para tránsito de pescadores y ganado.  Sin regeneración natural. Sin regeneración natural"},null,493,0,1131,"X",null,null,null,null,null,null,null,{"$f":"CONCATENATE(REFERENTES!T750,\"(\",REFERENTES!Q750,\")\")","v":"Cholón(Cholón)"},{"$f":"REFERENTES!P750","v":44584}]
[null,null,null,null,null,null,null,null,null,null,null,{"$f":"IF(ISNUMBER(FIND(\"RES\",REFERENTES!$Q$2:$Q$1134)),REFERENTES!Q499,\"\")","v":""},{"$f":"REFERENTES!S499","v":0},null,494,0,1131,"X",null,null,null,null,null,null,null,{"$f":"CONCATENATE(REFERENTES!T751,\"(\",REFERENTES!Q751,\")\")","v":"Chungo(Chu)"},{"$f":"REFERENTES!P751","v":44979}]
[null,null,null,null,null,null,null,null,null,null,null,{"$f":"IF(ISNUMBER(FIND(\"RES\",REFERENTES!$Q$2:$Q$1134)),REFERENTES!Q500,\"\")","v":""},{"$f":"REFERENTES!S500","v":"Ubicada en la bocana de Saija, Parcela sencilla de 20 m de ancho x 50 m de largo"},null,495,0,1131,"X",null,null,null,null,null,null,null,{"$f":"CONCATENATE(REFERENTES!T752,\"(\",REFERENTES!Q752,\")\")","v":"Cienaga Galo(CgGalo)"},{"$f":"REFERENTES!P752","v":48752}]
[null,null,null,null,null,null,null,null,null,null,null,{"$f":"IF(ISNUMBER(FIND(\"RES\",REFERENTES!$Q$2:$Q$1134)),REFERENTES!Q501,\"\")","v":""},{"$f":"REFERENTES!S501","v":"Parcela montada en el marco del proyecto \"Lineamientos de restauración para los manglares del departamento de La Guajira\" ejecutado por INVEMAR. Todo el borde de manglar está muerto. Abundante hojarasca. Neumatóforos secos con sedimento adherido. Árboles de mangle altamente ramificados y con crecimiento achaparrado. Cuerpo de agua estancado color café, sedimentos arcillosos color rojizo (betas)"},null,496,0,1131,"X",null,null,null,null,null,null,null,{"$f":"CONCATENATE(REFERENTES!T753,\"(\",REFERENTES!Q753,\")\")","v":"Cienaga Manzanillo(CMZ)"},{"$f":"REFERENTES!P753","v":43810}]
[null,null,null,null,null,null,null,null,null,null,null,{"$f":"IF(ISNUMBER(FIND(\"RES\",REFERENTES!$Q$2:$Q$1134)),REFERENTES!Q502,\"\")","v":""},{"$f":"REFERENTES!S502","v":"Todo el borde de manglar está muerto. Abundante hojarasca. Neumatóforos secos con sedimento adherido. Árboles de mangle altamente ramificados y con crecimiento achaparrado. Cuerpo de agua estancado color café, sedimentos arcillosos color rojizo (betas)"},null,497,0,1131,"X",null,null,null,null,null,null,null,{"$f":"CONCATENATE(REFERENTES!T754,\"(\",REFERENTES!Q754,\")\")","v":"Cienaga Mestizo(CgMestizo)"},{"$f":"REFERENTES!P754","v":48765}]
[null,null,null,null,null,null,null,null,null,null,null,{"$f":"IF(ISNUMBER(FIND(\"RES\",REFERENTES!$Q$2:$Q$1134)),REFERENTES!Q503,\"\")","v":""},{"$f":"REFERENTES!S503","v":"Franja de manglar en mediano estado de conservación. Borde de Rm muerto con raices taponadas por sedimentos y signos de tejido podrido (necrosis). Individuos de A.g con flores y frutos. Sustrato con apariencia franco-arenosa con pocos restos calcareos. Abundantes neumatóforos y hojas en descomposición. Galerias de Uca sp. Competencia con Batis maritima, esta planta bordea el cuerpo de agua y se mezcla con neumatoforos. Se contabilizaron 82 galerias de Uca sp en 1 m2 a una distancia de 4 m de largo del cuerpo de agua más cercano.  La playa está colonizada por Batis y Sesuvium. En la boca de pulumaná la marea está pasando por encima de la barra de arena y está ingresando agua fresca al sistema. se encontraron varios peces muertos (Globos y Mojarras)"},null,498,0,1131,"X",null,null,null,null,null,null,null,{"$f":"CONCATENATE(REFERENTES!T755,\"(\",REFERENTES!Q755,\")\")","v":"Cienaga Ostional(Ostion)"},{"$f":"REFERENTES!P755","v":48746}]
[null,null,null,null,null,null,null,null,null,null,null,{"$f":"IF(ISNUMBER(FIND(\"RES\",REFERENTES!$Q$2:$Q$1134)),REFERENTES!Q504,\"\")","v":""},{"$f":"REFERENTES!S504","v":"Parcela montada en el marco del proyecto \"Lineamientos de restauración para los manglares del departamento de La Guajira\" ejecutado por INVEMAR. Franja de manglar en mediano estado de conservación. Borde de Rm muerto con raices taponadas por sedimentos y signos de tejido podrido (necrosis). Individuos de A.g con flores y frutos. Sustrato con apariencia franco-arenosa con pocos restos calcareos. Abundantes neumatóforos y hojas en descomposición. Galerias de Uca sp. Competencia con Batis maritima, esta planta bordea el cuerpo de agua y se mezcla con neumatoforos. Se contabilizaron 82 galerias de Uca sp en 1 m2 a una distancia de 4 m de largo del cuerpo de agua más cercano.  La playa está colonizada por Batis y Sesuvium. En la boca de pulumaná la marea está pasando por encima de la barra de arena y está ingresando agua fresca al sistema. se encontraron varios peces muertos (Globos y Mojarras)"},null,499,0,1131,"X",null,null,null,null,null,null,null,{"$f":"CONCATENATE(REFERENTES!T756,\"(\",REFERENTES!Q756,\")\")","v":"Ciénaga Ana Gomez (CANG)"},{"$f":"REFERENTES!P756","v":44404}]
[null,null,null,null,null,null,null,null,null,null,null,{"$f":"IF(ISNUMBER(FIND(\"RES\",REFERENTES!$Q$2:$Q$1134)),REFERENTES!Q505,\"\")","v":""},{"$f":"REFERENTES!S505","v":"Para llegar a esta parcela se toma la troncal del Caribe en la vía Riohacha – Maicao que corresponde a la carrera 1C frente a la entrada de la circunvalar. Se llega al parque del sendero ecológico de la laguna y se ingresa al manglar por el costado suroccidental a unos 30 m aproximadamente.  La parcela de monitoreo está localizada en el bosque de cuenca dominado por L. racemosa con alturas máximas de 16 m, de gran porte, junto a árboles de A. germinans muy ramificados desde el tronco y algunos defoliados, con alturas de 6 a 9 m. El suelo es areno fangoso cubierto de una capa gruesa de hojarasca en descomposición, con pocos neumatóforos y abundante regeneración natural de L. racemosa.  (INVEMAR, 20014) _x000D_"},null,500,0,1131,"X",null,null,null,null,null,null,null,{"$f":"CONCATENATE(REFERENTES!T757,\"(\",REFERENTES!Q757,\")\")","v":"Ciénaga Benitez(CBEN)"},{"$f":"REFERENTES!P757","v":44368}]
[null,null,null,null,null,null,null,null,null,null,null,{"$f":"IF(ISNUMBER(FIND(\"RES\",REFERENTES!$Q$2:$Q$1134)),REFERENTES!Q506,\"\")","v":""},{"$f":"REFERENTES!S506","v":"Franja de manglar en buen estado. Abundante regeneración natural de A. geminans y algunas plantulas de R. mangle. Algunos árboles muertos al borde del carreteable y cubiertos con B. maritima. Sustrato de apariencia franco-arenosa con abundantes restos calcáreos y galerias de Uca sp.Suelo inestable. Numerosas especies de aves alrededor en zona de alimentación"},null,501,0,1131,"X",null,null,null,null,null,null,null,{"$f":"CONCATENATE(REFERENTES!T758,\"(\",REFERENTES!Q758,\")\")","v":"Ciénaga Caño el Nene(el nene)"},{"$f":"REFERENTES!P758","v":45128}]
[null,null,null,null,null,null,null,null,null,null,null,{"$f":"IF(ISNUMBER(FIND(\"RES\",REFERENTES!$Q$2:$Q$1134)),REFERENTES!Q507,\"\")","v":""},{"$f":"REFERENTES!S507","v":"Parcela montada en el marco del proyecto \"Lineamientos de restauración para los manglares del departamento de La Guajira\" ejecutado por INVEMAR. Franja de manglar en buen estado. Abundante regeneración natural de A. geminans y algunas plantulas de R. mangle. Algunos árboles muertos al borde del carreteable y cubiertos con B. maritima. Sustrato de apariencia franco-arenosa con abundantes restos calcáreos y galerias de Uca sp.Suelo inestable. Numerosas especies de aves alrededor en zona de alimentación"},null,502,0,1131,"X",null,null,null,null,null,null,null,{"$f":"CONCATENATE(REFERENTES!T759,\"(\",REFERENTES!Q759,\")\")","v":"Ciénaga El Picón(Picón)"},{"$f":"REFERENTES!P759","v":44597}]
[null,null,null,null,null,null,null,null,null,null,null,{"$f":"IF(ISNUMBER(FIND(\"RES\",REFERENTES!$Q$2:$Q$1134)),REFERENTES!Q508,\"\")","v":""},{"$f":"REFERENTES!S508","v":"Estación dominada por A. germinans, con presencia de árboles secos, caídos y algunos troncos partidos"},null,503,0,1131,"X",null,null,null,null,null,null,null,{"$f":"CONCATENATE(REFERENTES!T760,\"(\",REFERENTES!Q760,\")\")","v":"Ciénaga Galo (golo)"},{"$f":"REFERENTES!P760","v":45117}]
[null,null,null,null,null,null,null,null,null,null,null,{"$f":"IF(ISNUMBER(FIND(\"RES\",REFERENTES!$Q$2:$Q$1134)),REFERENTES!Q509,\"\")","v":""},{"$f":"REFERENTES!S509","v":"Al ingreso de la estación y sobre el borde de los 20 metros de ancho de la parcela, el exceso de basura es evidente, acompañado de malos olores.  Parcela dominada por A. germinans, sustrato duro e inundación de 10 cm en promedio.  Algunos árboles secos y muertos, pero no se evidencia tala."},null,504,0,1131,"X",null,null,null,null,null,null,null,{"$f":"CONCATENATE(REFERENTES!T761,\"(\",REFERENTES!Q761,\")\")","v":"Ciénaga Manzanillo B(CMZB)"},{"$f":"REFERENTES!P761","v":43815}]
[null,null,null,null,null,null,null,null,null,null,null,{"$f":"IF(ISNUMBER(FIND(\"RES\",REFERENTES!$Q$2:$Q$1134)),REFERENTES!Q510,\"\")","v":""},{"$f":"REFERENTES!S510","v":"Al ingreso de la estación y sobre el borde de los 20 metros de ancho de la parcela, el exceso de basura es evidente, acompañado de malos olores.  Parcela dominada por A. germinans, sustrato duro e inundación de 10 cm en promedio.  Algunos árboles secos y muertos, pero no se evidencia tala."},null,505,0,1131,"X",null,null,null,null,null,null,null,{"$f":"CONCATENATE(REFERENTES!T762,\"(\",REFERENTES!Q762,\")\")","v":"Ciénaga Ostional(ostional.)"},{"$f":"REFERENTES!P762","v":45120}]
[null,null,null,null,null,null,null,null,null,null,null,{"$f":"IF(ISNUMBER(FIND(\"RES\",REFERENTES!$Q$2:$Q$1134)),REFERENTES!Q511,\"\")","v":""},{"$f":"REFERENTES!S511","v":"Al ingreso de la estación y sobre el borde de los 20 metros de ancho de la parcela, el exceso de basura es evidente, acompañado de malos olores.  Parcela dominada por A. germinans, sustrato duro e inundación de 10 cm en promedio.  Algunos árboles secos y muertos, pero no se evidencia tala."},null,506,0,1131,"X",null,null,null,null,null,null,null,{"$f":"CONCATENATE(REFERENTES!T763,\"(\",REFERENTES!Q763,\")\")","v":"Ciénaga Remedia Pobre(remedia pobre.)"},{"$f":"REFERENTES!P763","v":45135}]
[null,null,null,null,null,null,null,null,null,null,null,{"$f":"IF(ISNUMBER(FIND(\"RES\",REFERENTES!$Q$2:$Q$1134)),REFERENTES!Q512,\"\")","v":""},{"$f":"REFERENTES!S512","v":"Suelo inundable con vegetación latizal, agua dulce y salada, estado fitosanitario en buen estado."},null,507,0,1131,"X",null,null,null,null,null,null,null,{"$f":"CONCATENATE(REFERENTES!T764,\"(\",REFERENTES!Q764,\")\")","v":"Ciénaga Sabaletes(CS)"},{"$f":"REFERENTES!P764","v":43630}]
[null,null,null,null,null,null,null,null,null,null,null,{"$f":"IF(ISNUMBER(FIND(\"RES\",REFERENTES!$Q$2:$Q$1134)),REFERENTES!Q513,\"\")","v":""},{"$f":"REFERENTES!S513","v":"Suelo inundable con vegetación latizal, agua dulce y salada, estado fitosanitario en buen estado."},null,508,0,1131,"X",null,null,null,null,null,null,null,{"$f":"CONCATENATE(REFERENTES!T765,\"(\",REFERENTES!Q765,\")\")","v":"Ciénaga Sabaletes Playa(CSP)"},{"$f":"REFERENTES!P765","v":43619}]
[null,null,null,null,null,null,null,null,null,null,null,{"$f":"IF(ISNUMBER(FIND(\"RES\",REFERENTES!$Q$2:$Q$1134)),REFERENTES!Q514,\"\")","v":""},{"$f":"REFERENTES!S514","v":"Parcela 3 monitoreada por el INVEMAR en el marco del ¨Monitoreo de las condiciones ambientales y los cambios estructurales y funcionales de las comunidades vegetales y de los recursos pesqueros durante la rehabilitación de la Ciénaga Grande de Santa Marta¨"},null,509,0,1131,"X",null,null,null,null,null,null,null,{"$f":"CONCATENATE(REFERENTES!T766,\"(\",REFERENTES!Q766,\")\")","v":"Ciénaga Soledad (soledad)"},{"$f":"REFERENTES!P766","v":45141}]
[null,null,null,null,null,null,null,null,null,null,null,{"$f":"IF(ISNUMBER(FIND(\"RES\",REFERENTES!$Q$2:$Q$1134)),REFERENTES!Q515,\"\")","v":""},{"$f":"REFERENTES!S515","v":"Parcela 3 monitoreada por el INVEMAR en el marco del ¨Monitoreo de las condiciones ambientales y los cambios estructurales y funcionales de las comunidades vegetales y de los recursos pesqueros durante la rehabilitación de la Ciénaga Grande de Santa Marta¨"},null,510,0,1131,"X",null,null,null,null,null,null,null,{"$f":"CONCATENATE(REFERENTES!T767,\"(\",REFERENTES!Q767,\")\")","v":"Ciénaga el Rincón del Grillo (el grillo)"},{"$f":"REFERENTES!P767","v":45124}]
[null,null,null,null,null,null,null,null,null,null,null,{"$f":"IF(ISNUMBER(FIND(\"RES\",REFERENTES!$Q$2:$Q$1134)),REFERENTES!Q516,\"\")","v":""},{"$f":"REFERENTES!S516","v":"Parcela 3 monitoreada por el INVEMAR en el marco del ¨Monitoreo de las condiciones ambientales y los cambios estructurales y funcionales de las comunidades vegetales y de los recursos pesqueros durante la rehabilitación de la Ciénaga Grande de Santa Marta¨"},null,511,0,1131,"X",null,null,null,null,null,null,null,{"$f":"CONCATENATE(REFERENTES!T768,\"(\",REFERENTES!Q768,\")\")","v":"Ciénaga la Caimanera (CCAIM)"},{"$f":"REFERENTES!P768","v":44421}]
[null,null,null,null,null,null,null,null,null,null,null,{"$f":"IF(ISNUMBER(FIND(\"RES\",REFERENTES!$Q$2:$Q$1134)),REFERENTES!Q517,\"\")","v":""},{"$f":"REFERENTES!S517","v":0},null,512,0,1131,"X",null,null,null,null,null,null,null,{"$f":"CONCATENATE(REFERENTES!T769,\"(\",REFERENTES!Q769,\")\")","v":"Concho(Concho)"},{"$f":"REFERENTES!P769","v":45574}]
[null,null,null,null,null,null,null,null,null,null,null,{"$f":"IF(ISNUMBER(FIND(\"RES\",REFERENTES!$Q$2:$Q$1134)),REFERENTES!Q518,\"\")","v":""},{"$f":"REFERENTES!S518","v":"Localiza 15  m del mar. El manglar tiene unl nivel de desarrollo bajo. Esta zona presenta erosión costera y es azotada por los fuertes vientos. Se encuentra llena de residuos sólidos provenientes del mar. En las inmediaciones de la parcela se encuentra un potrero."},null,513,0,{"$f":"IF(P518=0,MAX($O$6:$O$1135)+1,O518)","v":1131},{"$f":"IFERROR(VLOOKUP(SMALL($Q$6:$Q$1135,O518),$O$6:$P$1135,2,FALSE),\"X\")","v":"X"},null,null,null,null,null,null,null,{"$f":"CONCATENATE(REFERENTES!T770,\"(\",REFERENTES!Q770,\")\")","v":"Costa Verde(CtaVerde)"},{"$f":"REFERENTES!P770","v":45296}]
[null,null,null,null,null,null,null,null,null,null,null,{"$f":"IF(ISNUMBER(FIND(\"RES\",REFERENTES!$Q$2:$Q$1134)),REFERENTES!Q519,\"\")","v":""},{"$f":"REFERENTES!S519","v":0},null,514,{"$f":"IF(L519=\"\",0,L519)","v":0},1131,"X",null,null,null,null,null,null,null,{"$f":"CONCATENATE(REFERENTES!T771,\"(\",REFERENTES!Q771,\")\")","v":"Costa Verde(CtaVerde)"},{"$f":"REFERENTES!P771","v":45300}]
[null,null,null,null,null,null,null,null,null,null,null,{"$f":"IF(ISNUMBER(FIND(\"RES\",REFERENTES!$Q$2:$Q$1134)),REFERENTES!Q520,\"\")","v":""},{"$f":"REFERENTES!S520","v":"Se ubica a 58 m de la ciénaga y a 560 m de  la casa más cercana. La parcela presenta mangles de gran talla, característica que va disminuyendo hasta llegar a juveniles hacia el final del bosque. Presenta crecimiento arbustivo y con distribución densa, además están inclinados por los fuertes vientos.  Se observan huecos de cangrejos y neumatóforos. Los suelos son firmes, presenta residuos sólidos provenientes del mar y de la ciénaga."},null,515,0,1131,"X",null,null,null,null,null,null,null,{"$f":"CONCATENATE(REFERENTES!T772,\"(\",REFERENTES!Q772,\")\")","v":"Cuerval(CUERVAL)"},{"$f":"REFERENTES!P772","v":45488}]
[null,null,null,null,null,null,null,null,null,null,null,{"$f":"IF(ISNUMBER(FIND(\"RES\",REFERENTES!$Q$2:$Q$1134)),REFERENTES!Q521,\"\")","v":""},{"$f":"REFERENTES!S521","v":0},null,516,0,1131,"X",null,null,null,null,null,null,null,{"$f":"CONCATENATE(REFERENTES!T773,\"(\",REFERENTES!Q773,\")\")","v":"Desembocadura rio Toribio - HMP Enriquecimiento zonas degradadas manglar,  Zonas con suelo desnudo(RES_MGTBRES_SD)"},{"$f":"REFERENTES!P773","v":52725}]
[null,null,null,null,null,null,null,null,null,null,null,{"$f":"IF(ISNUMBER(FIND(\"RES\",REFERENTES!$Q$2:$Q$1134)),REFERENTES!Q522,\"\")","v":""},{"$f":"REFERENTES!S522","v":"Se localiza a 25 m del mar, al lado de un playón, a 200 m de un camino que pasa por una pequeña ciénaga. Dentro de la parcela  la especie predominante es A. germinans con copas pobres, presentan suelos encharcados y neumatóforos."},null,517,0,1131,"X",null,null,null,null,null,null,null,{"$f":"CONCATENATE(REFERENTES!T774,\"(\",REFERENTES!Q774,\")\")","v":"Desembocadura rio Toribio - HMP Enriquecimiento zonas degradadas manglar, Zonas con mortalidad reciente(RES_MGTBRES_MR)"},{"$f":"REFERENTES!P774","v":52726}]
[null,null,null,null,null,null,null,null,null,null,null,{"$f":"IF(ISNUMBER(FIND(\"RES\",REFERENTES!$Q$2:$Q$1134)),REFERENTES!Q523,\"\")","v":""},{"$f":"REFERENTES!S523","v":"La parcela tine arboles en estado Fustal, infectados por fitoforos algunas arboles de Laguncularia agua estancada"},null,518,0,1131,"X",null,null,null,null,null,null,null,{"$f":"CONCATENATE(REFERENTES!T775,\"(\",REFERENTES!Q775,\")\")","v":"Don Diego(DDIE)"},{"$f":"REFERENTES!P775","v":40972}]
[null,null,null,null,null,null,null,null,null,null,null,{"$f":"IF(ISNUMBER(FIND(\"RES\",REFERENTES!$Q$2:$Q$1134)),REFERENTES!Q524,\"\")","v":""},{"$f":"REFERENTES!S524","v":"Dominancia de Avicennia g, con poco de Laguncularia y brinzales de ambas especies."},null,519,0,1131,"X",null,null,null,null,null,null,null,{"$f":"CONCATENATE(REFERENTES!T776,\"(\",REFERENTES!Q776,\")\")","v":"Don Diego(DnDieg)"},{"$f":"REFERENTES!P776","v":45329}]
[null,null,null,null,null,null,null,null,null,null,null,{"$f":"IF(ISNUMBER(FIND(\"RES\",REFERENTES!$Q$2:$Q$1134)),REFERENTES!Q525,\"\")","v":""},{"$f":"REFERENTES!S525","v":0},null,520,0,1131,"X",null,null,null,null,null,null,null,{"$f":"CONCATENATE(REFERENTES!T777,\"(\",REFERENTES!Q777,\")\")","v":"Don Diego(DnDieg)"},{"$f":"REFERENTES!P777","v":45324}]
[null,null,null,null,null,null,null,null,null,null,null,{"$f":"IF(ISNUMBER(FIND(\"RES\",REFERENTES!$Q$2:$Q$1134)),REFERENTES!Q526,\"\")","v":""},{"$f":"REFERENTES!S526","v":"Estación Manglar Manzanillo (formada por 2 parcelas circulares): Manglar localizado al sur de la isla, constituido principalmente por Rhizophora mangle, como especie dominante y por Laguncularia racemosa. Se encuentra detrás de una barra arenosa y en su interior tiene un pequeño canal central en el que se acumulan aguas derivadas de la escorrentía y de un arroyo que se forma en época de lluvias, proveniente de Murray Hills. Tiene una cobertura de manglar de 1,59 ha (INVEMAR-CORALINA, 2016)."},null,521,0,1131,"X",null,null,null,null,null,null,null,{"$f":"CONCATENATE(REFERENTES!T778,\"(\",REFERENTES!Q778,\")\")","v":"ESTERO EL MUERTO(EL MUERTO)"},{"$f":"REFERENTES!P778","v":45904}]
[null,null,null,null,null,null,null,null,null,null,null,{"$f":"IF(ISNUMBER(FIND(\"RES\",REFERENTES!$Q$2:$Q$1134)),REFERENTES!Q527,\"\")","v":""},{"$f":"REFERENTES!S527","v":"Estación Manglar Manzanillo (formada por 2 parcelas circulares): Manglar localizado al sur de la isla, constituido principalmente por Rhizophora mangle, como especie dominante y por Laguncularia racemosa. Se encuentra detrás de una barra arenosa y en su interior tiene un pequeño canal central en el que se acumulan aguas derivadas de la escorrentía y de un arroyo que se forma en época de lluvias, proveniente de Murray Hills. Tiene una cobertura de manglar de 1,59 ha (INVEMAR-CORALINA, 2016)."},null,522,0,1131,"X",null,null,null,null,null,null,null,{"$f":"CONCATENATE(REFERENTES!T779,\"(\",REFERENTES!Q779,\")\")","v":"El Claval(CLAVAL)"},{"$f":"REFERENTES!P779","v":45011}]
[null,null,null,null,null,null,null,null,null,null,null,{"$f":"IF(ISNUMBER(FIND(\"RES\",REFERENTES!$Q$2:$Q$1134)),REFERENTES!Q528,\"\")","v":""},{"$f":"REFERENTES!S528","v":"Parcela ubicada en el extremo norte de la Ciénaga de Juan Polo, bordeada por un canal, los primeros 15 metros son de R. mangle en sustrato fangoso y desde allí comienza una franja de A. germinans en terreno duro, al finalizar la parcela se encuentra sustrato duro y limita con el comienzo de vegetación de bosque seco."},null,523,0,1131,"X",null,null,null,null,null,null,null,{"$f":"CONCATENATE(REFERENTES!T780,\"(\",REFERENTES!Q780,\")\")","v":"El Garzal 3(el garzal 3)"},{"$f":"REFERENTES!P780","v":45144}]
[null,null,null,null,null,null,null,null,null,null,null,{"$f":"IF(ISNUMBER(FIND(\"RES\",REFERENTES!$Q$2:$Q$1134)),REFERENTES!Q529,\"\")","v":""},{"$f":"REFERENTES!S529","v":"Sobre al  caño Matunilla, a 40 metros de la orilla, zona heterogénea, manglar caído, zonas inundadas, arboles secos"},null,524,0,1131,"X",null,null,null,null,null,null,null,{"$f":"CONCATENATE(REFERENTES!T781,\"(\",REFERENTES!Q781,\")\")","v":"El Mohán(Mohán)"},{"$f":"REFERENTES!P781","v":44589}]
[null,null,null,null,null,null,null,null,null,null,null,{"$f":"IF(ISNUMBER(FIND(\"RES\",REFERENTES!$Q$2:$Q$1134)),REFERENTES!Q530,\"\")","v":""},{"$f":"REFERENTES!S530","v":"La parcela se encuentra paralela a la línea de costa, en una franja de manglar de borde, alargada y de poca anchura, la cual se encuentra interrumpida y separa del mar; en sus aproximaciones se encuentra una laguna costera, a una distancia aproximada de 35m. La zona está atravesada transversalmente por dos caminos, los cuales probablemente son frecuentados por los pescadores del lugar. Dentro de los bosques de manglar se encuentran suelos principalmente arenosos con alto contenido de carbonato de calcio y que pueden ser compactos. Se observa gran cantidad de arena, que en algunos casa llega a cubrir hasta 30cm del punto de anclaje del manglar, probablemente acumulados por erosión costera y la acción de los fuertes vientos (Vidal-Hernández, 2013)_x000D_"},null,525,0,1131,"X",null,null,null,null,null,null,null,{"$f":"CONCATENATE(REFERENTES!T782,\"(\",REFERENTES!Q782,\")\")","v":"Ensenada de Rionegro (Errio)"},{"$f":"REFERENTES!P782","v":48416}]
[null,null,null,null,null,null,null,null,null,null,null,{"$f":"IF(ISNUMBER(FIND(\"RES\",REFERENTES!$Q$2:$Q$1134)),REFERENTES!Q531,\"\")","v":""},{"$f":"REFERENTES!S531","v":"La parcela se encuentra paralela a la línea de costa, en una franja de manglar de borde, alargada y de poca anchura, la cual se encuentra interrumpida y separa del mar; en sus aproximaciones se encuentra una laguna costera, a una distancia aproximada de 35m. La zona está atravesada transversalmente por dos caminos, los cuales probablemente son frecuentados por los pescadores del lugar. Dentro de los bosques de manglar se encuentran suelos principalmente arenosos con alto contenido de carbonato de calcio y que pueden ser compactos. Se observa gran cantidad de arena, que en algunos casa llega a cubrir hasta 30cm del punto de anclaje del manglar, probablemente acumulados por erosión costera y la acción de los fuertes vientos (Vidal-Hernández, 2013)_x000D_"},null,526,0,1131,"X",null,null,null,null,null,null,null,{"$f":"CONCATENATE(REFERENTES!T783,\"(\",REFERENTES!Q783,\")\")","v":"Ensenada de Tribugá(Enstrib)"},{"$f":"REFERENTES!P783","v":45314}]
[null,null,null,null,null,null,null,null,null,null,null,{"$f":"IF(ISNUMBER(FIND(\"RES\",REFERENTES!$Q$2:$Q$1134)),REFERENTES!Q532,\"\")","v":""},{"$f":"REFERENTES!S532","v":"La parcela se encuentra paralela a la línea de costa, en una franja de manglar de borde, alargada y de poca anchura, la cual se encuentra interrumpida y separa del mar; en sus aproximaciones se encuentra una laguna costera, a una distancia aproximada de 35m. La zona está atravesada transversalmente por dos caminos, los cuales probablemente son frecuentados por los pescadores del lugar. Dentro de los bosques de manglar se encuentran suelos principalmente arenosos con alto contenido de carbonato de calcio y que pueden ser compactos. Se observa gran cantidad de arena, que en algunos casa llega a cubrir hasta 30cm del punto de anclaje del manglar, probablemente acumulados por erosión costera y la acción de los fuertes vientos (Vidal-Hernández, 2013)_x000D_"},null,527,0,1131,"X",null,null,null,null,null,null,null,{"$f":"CONCATENATE(REFERENTES!T784,\"(\",REFERENTES!Q784,\")\")","v":"Ensenada de los Muertos(ENMU)"},{"$f":"REFERENTES!P784","v":43667}]
[null,null,null,null,null,null,null,null,null,null,null,{"$f":"IF(ISNUMBER(FIND(\"RES\",REFERENTES!$Q$2:$Q$1134)),REFERENTES!Q533,\"\")","v":""},{"$f":"REFERENTES!S533","v":"Estación Manglar McBean Lagoon (formada por 2 parcelas circulares): El manglar se encuentra localizado en el borde noreste de la Isla, declarado como Parque Nacional Natural del mismo nombre. Esta conformado por manglares de borde y cuenca, de las especies de Rizophora mangle y Avicennia germinans  con una cobertura de 37,1 ha (INVEMAR-CORALINA, 2016)."},null,528,0,1131,"X",null,null,null,null,null,null,null,{"$f":"CONCATENATE(REFERENTES!T785,\"(\",REFERENTES!Q785,\")\")","v":"Entrada Canal Parche SO(ECPSO)"},{"$f":"REFERENTES!P785","v":43827}]
[null,null,null,null,null,null,null,null,null,null,null,{"$f":"IF(ISNUMBER(FIND(\"RES\",REFERENTES!$Q$2:$Q$1134)),REFERENTES!Q534,\"\")","v":""},{"$f":"REFERENTES!S534","v":"Estación Manglar McBean Lagoon (formada por 2 parcelas circulares): El manglar se encuentra localizado en el borde noreste de la Isla, declarado como Parque Nacional Natural del mismo nombre. Esta conformado por manglares de borde y cuenca, de las especies de Rizophora mangle y Avicennia germinans  con una cobertura de 37,1 ha (INVEMAR-CORALINA, 2016)."},null,529,0,1131,"X",null,null,null,null,null,null,null,{"$f":"CONCATENATE(REFERENTES!T786,\"(\",REFERENTES!Q786,\")\")","v":"Estacion Corea(EC)"},{"$f":"REFERENTES!P786","v":42092}]
[null,null,null,null,null,null,null,null,null,null,null,{"$f":"IF(ISNUMBER(FIND(\"RES\",REFERENTES!$Q$2:$Q$1134)),REFERENTES!Q535,\"\")","v":""},{"$f":"REFERENTES!S535","v":"Estación Manglar McBean Lagoon (formada por 2 parcelas circulares): El manglar se encuentra localizado en el borde noreste de la Isla, declarado como Parque Nacional Natural del mismo nombre. Esta conformado por manglares de borde y cuenca, de las especies de Rizophora mangle y Avicennia germinans  con una cobertura de 37,1 ha (INVEMAR-CORALINA, 2016)."},null,530,0,1131,"X",null,null,null,null,null,null,null,{"$f":"CONCATENATE(REFERENTES!T787,\"(\",REFERENTES!Q787,\")\")","v":"Estero Aguacate(EAg)"},{"$f":"REFERENTES!P787","v":47506}]
[null,null,null,null,null,null,null,null,null,null,null,{"$f":"IF(ISNUMBER(FIND(\"RES\",REFERENTES!$Q$2:$Q$1134)),REFERENTES!Q536,\"\")","v":""},{"$f":"REFERENTES!S536","v":"Parcela de 0.1 ha, instalada en la margen izquierda del Estero Muertero, cuya composición floirística está dada por las especies: Rhizophora mangle, Pelliciera Rhizophorae y Mora oleifera."},null,531,0,1131,"X",null,null,null,null,null,null,null,{"$f":"CONCATENATE(REFERENTES!T788,\"(\",REFERENTES!Q788,\")\")","v":"Estero Covado(ECOVADO)"},{"$f":"REFERENTES!P788","v":45504}]
[null,null,null,null,null,null,null,null,null,null,null,{"$f":"IF(ISNUMBER(FIND(\"RES\",REFERENTES!$Q$2:$Q$1134)),REFERENTES!Q537,\"\")","v":""},{"$f":"REFERENTES!S537","v":"Gran cantidad de Residuos sólidos. Tala y quema de árboles. Abundante hojarasca en el sustrato, mangle seco y en mal estado con evidencia de defoliación. La franja limita con salinas artesanales donde están reforzando ductos y removiendo sedimentos utilizando tuberias de 6''. Zona para \"arranchar\". Se han abierto numerosos canales con tuberias para ingresar agua a las charcas"},null,532,0,1131,"X",null,null,null,null,null,null,null,{"$f":"CONCATENATE(REFERENTES!T789,\"(\",REFERENTES!Q789,\")\")","v":"Estero Hondo(Esteh)"},{"$f":"REFERENTES!P789","v":46004}]
[null,null,null,null,null,null,null,null,null,null,null,{"$f":"IF(ISNUMBER(FIND(\"RES\",REFERENTES!$Q$2:$Q$1134)),REFERENTES!Q538,\"\")","v":""},{"$f":"REFERENTES!S538","v":"Parcela montada en el marco del proyecto \"Lineamientos de restauración para los manglares del departamento de La Guajira\" ejecutado por INVEMAR. Gran cantidad de Residuos sólidos. Tala y quema de árboles. Abundante hojarasca en el sustrato, mangle seco y en mal estado con evidencia de defoliación. La franja limita con salinas artesanales donde están reforzando ductos y removiendo sedimentos utilizando tuberias de 6''. Zona para \"arranchar\". Se han abierto numerosos canales con tuberias para ingresar agua a las charcas"},null,533,0,1131,"X",null,null,null,null,null,null,null,{"$f":"CONCATENATE(REFERENTES!T790,\"(\",REFERENTES!Q790,\")\")","v":"Estero Lagartero(ELAG)"},{"$f":"REFERENTES!P790","v":42256}]
[null,null,null,null,null,null,null,null,null,null,null,{"$f":"IF(ISNUMBER(FIND(\"RES\",REFERENTES!$Q$2:$Q$1134)),REFERENTES!Q539,\"\")","v":""},{"$f":"REFERENTES!S539","v":"Este sector  a pesar de tener un bajo valor de área basal y pocos árboles, el diámetro y la altura promedio es mayor que en las otras cuencas conformando un bosque en mayor estado de recuperación.  Así mismo el área basal nos permite visualizar un pequeño pero muy significativo aumento de la cobertura del bosque."},null,534,0,1131,"X",null,null,null,null,null,null,null,{"$f":"CONCATENATE(REFERENTES!T791,\"(\",REFERENTES!Q791,\")\")","v":"Estero Pasadero (YEP)"},{"$f":"REFERENTES!P791","v":45825}]
[null,null,null,null,null,null,null,null,null,null,null,{"$f":"IF(ISNUMBER(FIND(\"RES\",REFERENTES!$Q$2:$Q$1134)),REFERENTES!Q540,\"\")","v":""},{"$f":"REFERENTES!S540","v":0},null,535,0,1131,"X",null,null,null,null,null,null,null,{"$f":"CONCATENATE(REFERENTES!T792,\"(\",REFERENTES!Q792,\")\")","v":"Estero Real(EREAL)"},{"$f":"REFERENTES!P792","v":45477}]
[null,null,null,null,null,null,null,null,null,null,null,{"$f":"IF(ISNUMBER(FIND(\"RES\",REFERENTES!$Q$2:$Q$1134)),REFERENTES!Q541,\"\")","v":""},{"$f":"REFERENTES!S541","v":"Estación Manglar Old Town (formada por 2 parcelas circulares): Este manglar está localizado en el costado noroccidental de la Isla, ubicado detrás de una barra de arena de poca elevación. Hacia el norte se extiende detrás de la Capitanía de Puerto de la Dirección General Marítima (DIMAR) y de un centro de acopio de embarcaciones menores. En la parte sur occidental un corto camino separa una pequeña parte del bosque del resto, allí el bosque se extiende detrás de algunas viviendas ubicadas después de una barra. El manglar tiene una extensión de 6,91 ha (INVEMAR-CORALINA, 2016) y es el segundo más representativo de la Isla, después del bosque de manglar de Mc Bean Lagoon (38,8 ha) (INVEMAR-CORALINA, 2016). El bosque está dominado por Avicennia germinans, y hay presencia de R. mangle, que se distribuye principalmente hacia el costado occidental en el borde de la playa, mientras que hacia el sur se evidencian algunos individuos de L. racemosa y C. erectus."},null,536,0,1131,"X",null,null,null,null,null,null,null,{"$f":"CONCATENATE(REFERENTES!T793,\"(\",REFERENTES!Q793,\")\")","v":"Estero San Miguel(E.SaM)"},{"$f":"REFERENTES!P793","v":46019}]
[null,null,null,null,null,null,null,null,null,null,null,{"$f":"IF(ISNUMBER(FIND(\"RES\",REFERENTES!$Q$2:$Q$1134)),REFERENTES!Q542,\"\")","v":""},{"$f":"REFERENTES!S542","v":"Estación Manglar Old Town (formada por 2 parcelas circulares): Este manglar está localizado en el costado noroccidental de la Isla, ubicado detrás de una barra de arena de poca elevación. Hacia el norte se extiende detrás de la Capitanía de Puerto de la Dirección General Marítima (DIMAR) y de un centro de acopio de embarcaciones menores. En la parte sur occidental un corto camino separa una pequeña parte del bosque del resto, allí el bosque se extiende detrás de algunas viviendas ubicadas después de una barra. El manglar tiene una extensión de 6,91 ha (INVEMAR-CORALINA, 2016) y es el segundo más representativo de la Isla, después del bosque de manglar de Mc Bean Lagoon (38,8 ha) (INVEMAR-CORALINA, 2016). El bosque está dominado por Avicennia germinans, y hay presencia de R. mangle, que se distribuye principalmente hacia el costado occidental en el borde de la playa, mientras que hacia el sur se evidencian algunos individuos de L. racemosa y C. erectus."},null,537,0,1131,"X",null,null,null,null,null,null,null,{"$f":"CONCATENATE(REFERENTES!T794,\"(\",REFERENTES!Q794,\")\")","v":"Estero Santa Rita(ESR)"},{"$f":"REFERENTES!P794","v":42252}]
[null,null,null,null,null,null,null,null,null,null,null,{"$f":"IF(ISNUMBER(FIND(\"RES\",REFERENTES!$Q$2:$Q$1134)),REFERENTES!Q543,\"\")","v":""},{"$f":"REFERENTES!S543","v":0},null,538,0,1131,"X",null,null,null,null,null,null,null,{"$f":"CONCATENATE(REFERENTES!T795,\"(\",REFERENTES!Q795,\")\")","v":"Estero Zapallo(ESZA)"},{"$f":"REFERENTES!P795","v":42813}]
[null,null,null,null,null,null,null,null,null,null,null,{"$f":"IF(ISNUMBER(FIND(\"RES\",REFERENTES!$Q$2:$Q$1134)),REFERENTES!Q544,\"\")","v":""},{"$f":"REFERENTES!S544","v":0},null,539,0,1131,"X",null,null,null,null,null,null,null,{"$f":"CONCATENATE(REFERENTES!T796,\"(\",REFERENTES!Q796,\")\")","v":"Estero san Antonio(EA)"},{"$f":"REFERENTES!P796","v":47508}]
[null,null,null,null,null,null,null,null,null,null,null,{"$f":"IF(ISNUMBER(FIND(\"RES\",REFERENTES!$Q$2:$Q$1134)),REFERENTES!Q545,\"\")","v":""},{"$f":"REFERENTES!S545","v":0},null,540,0,1131,"X",null,null,null,null,null,null,null,{"$f":"CONCATENATE(REFERENTES!T797,\"(\",REFERENTES!Q797,\")\")","v":"Firme Bonito (AFB)"},{"$f":"REFERENTES!P797","v":45887}]
[null,null,null,null,null,null,null,null,null,null,null,{"$f":"IF(ISNUMBER(FIND(\"RES\",REFERENTES!$Q$2:$Q$1134)),REFERENTES!Q546,\"\")","v":""},{"$f":"REFERENTES!S546","v":0},null,541,0,1131,"X",null,null,null,null,null,null,null,{"$f":"CONCATENATE(REFERENTES!T798,\"(\",REFERENTES!Q798,\")\")","v":"Guacamayas(GUACA)"},{"$f":"REFERENTES!P798","v":42205}]
[null,null,null,null,null,null,null,null,null,null,null,{"$f":"IF(ISNUMBER(FIND(\"RES\",REFERENTES!$Q$2:$Q$1134)),REFERENTES!Q547,\"\")","v":""},{"$f":"REFERENTES!S547","v":"Laguna adyacente totalmente seca para la época del muestreo. Los árboles se distribuyen alrededor del cuerpo de agua en grupos mono específicos  de C. erectus altamente densos. Abundante hojarasca y escasa regeneración natural.  Hábitat de aves. Sin regeneración natural"},null,542,0,1131,"X",null,null,null,null,null,null,null,{"$f":"CONCATENATE(REFERENTES!T799,\"(\",REFERENTES!Q799,\")\")","v":"Guachaca(GUA)"},{"$f":"REFERENTES!P799","v":40980}]
[null,null,null,null,null,null,null,null,null,null,null,{"$f":"IF(ISNUMBER(FIND(\"RES\",REFERENTES!$Q$2:$Q$1134)),REFERENTES!Q548,\"\")","v":""},{"$f":"REFERENTES!S548","v":"Parcela montada en el marco del proyecto \"Lineamientos de restauración para los manglares del departamento de La Guajira\" ejecutado por INVEMAR. Laguna adyacente totalmente seca para la época del muestreo. Los árboles se distribuyen alrededor del cuerpo de agua en grupos mono específicos  de C. erectus altamente densos. Abundante hojarasca y escasa regeneración natural.  Hábitat de aves. Sin regeneración natural"},null,543,0,1131,"X",null,null,null,null,null,null,null,{"$f":"CONCATENATE(REFERENTES!T800,\"(\",REFERENTES!Q800,\")\")","v":"Guachaca(Guachc)"},{"$f":"REFERENTES!P800","v":45338}]
[null,null,null,null,null,null,null,null,null,null,null,{"$f":"IF(ISNUMBER(FIND(\"RES\",REFERENTES!$Q$2:$Q$1134)),REFERENTES!Q549,\"\")","v":""},{"$f":"REFERENTES!S549","v":"manglar altamente intervenido con muchos claros en la estructura del bosque"},null,544,0,1131,"X",null,null,null,null,null,null,null,{"$f":"CONCATENATE(REFERENTES!T801,\"(\",REFERENTES!Q801,\")\")","v":"Guadualito(DG)"},{"$f":"REFERENTES!P801","v":45857}]
[null,null,null,null,null,null,null,null,null,null,null,{"$f":"IF(ISNUMBER(FIND(\"RES\",REFERENTES!$Q$2:$Q$1134)),REFERENTES!Q550,\"\")","v":""},{"$f":"REFERENTES!S550","v":"parcela medianamente intervenida con predominancia de Rizhophora mangle"},null,545,0,1131,"X",null,null,null,null,null,null,null,{"$f":"CONCATENATE(REFERENTES!T802,\"(\",REFERENTES!Q802,\")\")","v":"Hojas Blancas(Hoblan)"},{"$f":"REFERENTES!P802","v":44560}]
[null,null,null,null,null,null,null,null,null,null,null,{"$f":"IF(ISNUMBER(FIND(\"RES\",REFERENTES!$Q$2:$Q$1134)),REFERENTES!Q551,\"\")","v":""},{"$f":"REFERENTES!S551","v":"Todo el manglar está muerto (seco). El cuerpo de agua está lleno. Abundante hojarasca en descomposición. Abundantes neumatoforos, no están taponados ni secos, al romperlos están húmedos en el interior. Suelo con apariencia fraco-arenoso. No se observó fauna asociada. Suelo húmedo, abundante hojarasca y neumatóforos"},null,546,0,1131,"X",null,null,null,null,null,null,null,{"$f":"CONCATENATE(REFERENTES!T803,\"(\",REFERENTES!Q803,\")\")","v":"Humanes Mar (AHM)"},{"$f":"REFERENTES!P803","v":45851}]
[null,null,null,null,null,null,null,null,null,null,null,{"$f":"IF(ISNUMBER(FIND(\"RES\",REFERENTES!$Q$2:$Q$1134)),REFERENTES!Q552,\"\")","v":""},{"$f":"REFERENTES!S552","v":"Todo el manglar está muerto (seco). El cuerpo de agua está lleno. Abundante hojarasca en descomposición. Abundantes neumatoforos, no están taponados ni secos, al romperlos están húmedos en el interior. Suelo con apariencia fraco-arenoso. No se observó fauna asociada. Suelo húmedo, abundante hojarasca y neumatóforos"},null,547,0,1131,"X",null,null,null,null,null,null,null,{"$f":"CONCATENATE(REFERENTES!T804,\"(\",REFERENTES!Q804,\")\")","v":"Ingesa(Ingesa)"},{"$f":"REFERENTES!P804","v":44608}]
[null,null,null,null,null,null,null,null,null,null,null,{"$f":"IF(ISNUMBER(FIND(\"RES\",REFERENTES!$Q$2:$Q$1134)),REFERENTES!Q553,\"\")","v":""},{"$f":"REFERENTES!S553","v":"Rodal en mal estado. Varios árboles muertos. Abundante hojarasca y neumatoforos. Sustrato aparentemente franco-arenoso. En la batea de inundación hay huellas de vacas que ingresan"},null,548,0,1131,"X",null,null,null,null,null,null,null,{"$f":"CONCATENATE(REFERENTES!T805,\"(\",REFERENTES!Q805,\")\")","v":"Isla Boquerón(IBoqrn)"},{"$f":"REFERENTES!P805","v":45280}]
[null,null,null,null,null,null,null,null,null,null,null,{"$f":"IF(ISNUMBER(FIND(\"RES\",REFERENTES!$Q$2:$Q$1134)),REFERENTES!Q554,\"\")","v":""},{"$f":"REFERENTES!S554","v":"Parcela montada en el marco del proyecto \"Lineamientos de restauración para los manglares del departamento de La Guajira\" ejecutado por INVEMAR. Rodal en mal estado. Varios árboles muertos. Abundante hojarasca y neumatoforos. Sustrato aparentemente franco-arenoso. En la batea de inundación hay huellas de vacas que ingresan"},null,549,0,1131,"X",null,null,null,null,null,null,null,{"$f":"CONCATENATE(REFERENTES!T806,\"(\",REFERENTES!Q806,\")\")","v":"Isla Majagual(MajaG)"},{"$f":"REFERENTES!P806","v":46013}]
[null,null,null,null,null,null,null,null,null,null,null,{"$f":"IF(ISNUMBER(FIND(\"RES\",REFERENTES!$Q$2:$Q$1134)),REFERENTES!Q555,\"\")","v":""},{"$f":"REFERENTES!S555","v":"MANGLAR DE ESTRUCTURA VERTICAL Y HORIZONTAL BIEN DESARROLLADA CON DOMINANCIA DEL MANGLE ROJO. PRESENCIA DE ARBOLES MUERTOS AL PARECER POR EFECTO DE DESCARGA ELÉCTRICA."},null,550,0,1131,"X",null,null,null,null,null,null,null,{"$f":"CONCATENATE(REFERENTES!T807,\"(\",REFERENTES!Q807,\")\")","v":"Jesús Primera (Jesús primera )"},{"$f":"REFERENTES!P807","v":45150}]
[null,null,null,null,null,null,null,null,null,null,null,{"$f":"IF(ISNUMBER(FIND(\"RES\",REFERENTES!$Q$2:$Q$1134)),REFERENTES!Q556,\"\")","v":""},{"$f":"REFERENTES!S556","v":0},null,551,0,1131,"X",null,null,null,null,null,null,null,{"$f":"CONCATENATE(REFERENTES!T808,\"(\",REFERENTES!Q808,\")\")","v":"Jhon Mangrove borde(RES_SPSC_JM-B)"},{"$f":"REFERENTES!P808","v":55337}]
[null,null,null,null,null,null,null,null,null,null,null,{"$f":"IF(ISNUMBER(FIND(\"RES\",REFERENTES!$Q$2:$Q$1134)),REFERENTES!Q557,\"\")","v":""},{"$f":"REFERENTES!S557","v":0},null,552,0,1131,"X",null,null,null,null,null,null,null,{"$f":"CONCATENATE(REFERENTES!T809,\"(\",REFERENTES!Q809,\")\")","v":"Jhon Mangrove cuenca(RES_SPSC_JM-C)"},{"$f":"REFERENTES!P809","v":55338}]
[null,null,null,null,null,null,null,null,null,null,null,{"$f":"IF(ISNUMBER(FIND(\"RES\",REFERENTES!$Q$2:$Q$1134)),REFERENTES!Q558,\"\")","v":""},{"$f":"REFERENTES!S558","v":0},null,553,0,1131,"X",null,null,null,null,null,null,null,{"$f":"CONCATENATE(REFERENTES!T810,\"(\",REFERENTES!Q810,\")\")","v":"Jones Point(RES_SPSC_JP)"},{"$f":"REFERENTES!P810","v":55339}]
[null,null,null,null,null,null,null,null,null,null,null,{"$f":"IF(ISNUMBER(FIND(\"RES\",REFERENTES!$Q$2:$Q$1134)),REFERENTES!Q559,\"\")","v":""},{"$f":"REFERENTES!S559","v":"Parcela sencilla de 20 m de ancho x 50 m de largo"},null,554,0,1131,"X",null,null,null,null,null,null,null,{"$f":"CONCATENATE(REFERENTES!T811,\"(\",REFERENTES!Q811,\")\")","v":"Kilometro 22(KM22)"},{"$f":"REFERENTES!P811","v":42395}]
[null,null,null,null,null,null,null,null,null,null,null,{"$f":"IF(ISNUMBER(FIND(\"RES\",REFERENTES!$Q$2:$Q$1134)),REFERENTES!Q560,\"\")","v":""},{"$f":"REFERENTES!S560","v":"A la parcela se llega desde Santa Marta por la vía Rodadero – Cruces de alcatraces, ingresando por el camino que conduce al Hotel Tequendama y Hotel Los Veleros; ingresando por un lote baldío hasta llegar a la parte posterior este último hotel. Cuando fue montada en 2014 se registraron las especies A. germinans, L. racemosa y R. mangle con alturas entre 2 y 9 m. El suelo es arenoso de color marrón oscuro parcialmente inundado por aguas de la laguna, cubierto de neumatóforos, poca hojarasca y algunas plántulas de R. mangle y de A. germinans. En el margen de la parcela se encuentran praderas de B. maritima con árboles de P. juliflora . Dentro de la parcela se hallarón  residuos sólidos como plásticos, botellas y llantas."},null,555,0,1131,"X",null,null,null,null,null,null,null,{"$f":"CONCATENATE(REFERENTES!T812,\"(\",REFERENTES!Q812,\")\")","v":"Kilómetro 3(KM3)"},{"$f":"REFERENTES!P812","v":43664}]
[null,null,null,null,null,null,null,null,null,null,null,{"$f":"IF(ISNUMBER(FIND(\"RES\",REFERENTES!$Q$2:$Q$1134)),REFERENTES!Q561,\"\")","v":""},{"$f":"REFERENTES!S561","v":"La parcela de monitoreo se estableció en una propiedad privada de la familia Lara, dedicados al ecoturismo en la Ciénaga Grande de Santa Marta y el alquiler de lanchas o canoas. A esta parcela se llega por la Troncal del Magdalena en el trayecto Ciénaga – Pueblo Viejo en el kilómetro 58 . Durante su montaje en 2014 se registraron árboles maduro de A. germinans con alturas máximas de 10 m, formando un bosque monoespecífico de baja densidad.  Suelo  arenoso y consolidado de color marrón oscuro, cubierto de neumatóforos con 40 y 50 cm de altura, poca hojarasca y escasa regeneración natural y presencia de residuos sólidos. En los bordes del manglar se desarrolla plantas de B. maritima"},null,556,0,1131,"X",null,null,null,null,null,null,null,{"$f":"CONCATENATE(REFERENTES!T813,\"(\",REFERENTES!Q813,\")\")","v":"La Alberca(la alberca)"},{"$f":"REFERENTES!P813","v":45138}]
[null,null,null,null,null,null,null,null,null,null,null,{"$f":"IF(ISNUMBER(FIND(\"RES\",REFERENTES!$Q$2:$Q$1134)),REFERENTES!Q562,\"\")","v":""},{"$f":"REFERENTES!S562","v":"Su vegetación está dominada por la familia Rhizophoraceae"},null,557,0,1131,"X",null,null,null,null,null,null,null,{"$f":"CONCATENATE(REFERENTES!T814,\"(\",REFERENTES!Q814,\")\")","v":"La Boquilla(BOQ)"},{"$f":"REFERENTES!P814","v":42006}]
[null,null,null,null,null,null,null,null,null,null,null,{"$f":"IF(ISNUMBER(FIND(\"RES\",REFERENTES!$Q$2:$Q$1134)),REFERENTES!Q563,\"\")","v":""},{"$f":"REFERENTES!S563","v":"Bosque de porte alto.Presencia de R. mangle, L. racemosa y A. germinans.  La sp más abundante y dominante es A. germinans, Presión antrópica relacionada con el aprovechamiento del cangrejo azul, antes utilizaban barbasco, en la actualidad palas hasta sacar los pocos y de pequeñas tallas que quedan."},null,558,0,1131,"X",null,null,null,null,null,null,null,{"$f":"CONCATENATE(REFERENTES!T815,\"(\",REFERENTES!Q815,\")\")","v":"La Boquilla(BOQU)"},{"$f":"REFERENTES!P815","v":42197}]
[null,null,null,null,null,null,null,null,null,null,null,{"$f":"IF(ISNUMBER(FIND(\"RES\",REFERENTES!$Q$2:$Q$1134)),REFERENTES!Q564,\"\")","v":""},{"$f":"REFERENTES!S564","v":"Este bosque presenta características propias de un manglar medianamente intervenido en proceso de recuperación. Se observa una mayor área basal  en el 2015 con respecto al 2007 aunque el análisis comparativo no tiene relación  directa puesto que se trata de dos sitios diferentes aunque muy cercanos"},null,559,0,1131,"X",null,null,null,null,null,null,null,{"$f":"CONCATENATE(REFERENTES!T816,\"(\",REFERENTES!Q816,\")\")","v":"La Calle(Laca)"},{"$f":"REFERENTES!P816","v":45578}]
[null,null,null,null,null,null,null,null,null,null,null,{"$f":"IF(ISNUMBER(FIND(\"RES\",REFERENTES!$Q$2:$Q$1134)),REFERENTES!Q565,\"\")","v":""},{"$f":"REFERENTES!S565","v":"En los 10 primeros metros se encuentran Botellas Pet, resultado de un campamento militar que se ubicó en el sector tiempo atrás, Estación dominada por L. racemosa, al final el terreno se va volviendo duro y seco"},null,560,0,1131,"X",null,null,null,null,null,null,null,{"$f":"CONCATENATE(REFERENTES!T817,\"(\",REFERENTES!Q817,\")\")","v":"La Camaronera(camaronera)"},{"$f":"REFERENTES!P817","v":45132}]
[null,null,null,null,null,null,null,null,null,null,null,{"$f":"IF(ISNUMBER(FIND(\"RES\",REFERENTES!$Q$2:$Q$1134)),REFERENTES!Q566,\"\")","v":""},{"$f":"REFERENTES!S566","v":"Parcela con presencia de L. racemosa, A. germinans y R. mangle, bosque tupido con numeras raíces fúlcreas .regeneración natural abundante, sustrato duro."},null,561,0,1131,"X",null,null,null,null,null,null,null,{"$f":"CONCATENATE(REFERENTES!T818,\"(\",REFERENTES!Q818,\")\")","v":"La Cuenca(la cuenca)"},{"$f":"REFERENTES!P818","v":45346}]
[null,null,null,null,null,null,null,null,null,null,null,{"$f":"IF(ISNUMBER(FIND(\"RES\",REFERENTES!$Q$2:$Q$1134)),REFERENTES!Q567,\"\")","v":""},{"$f":"REFERENTES!S567","v":"Manglar tipo Barra, presenta individuos entremezclados de L. racemosa, A. germinans y C. erectus. Basura, botellas. No se encontraron propágulos en el suelo. Se observaron en los árboles semillas de Ce un poco deterioradas. Terreno arenoso y con bastante hojaras"},null,562,0,1131,"X",null,null,null,null,null,null,null,{"$f":"CONCATENATE(REFERENTES!T819,\"(\",REFERENTES!Q819,\")\")","v":"La Flotante (la flotante)"},{"$f":"REFERENTES!P819","v":45585}]
[null,null,null,null,null,null,null,null,null,null,null,{"$f":"IF(ISNUMBER(FIND(\"RES\",REFERENTES!$Q$2:$Q$1134)),REFERENTES!Q568,\"\")","v":""},{"$f":"REFERENTES!S568","v":"Manglar tipo Barra, presenta individuos entremezclados de L. racemosa, A. germinans y C. erectus. Basura, botellas. No se encontraron propágulos en el suelo. Se observaron en los árboles semillas de Ce un poco deterioradas. Terreno arenoso y con bastante hojaras"},null,563,0,1131,"X",null,null,null,null,null,null,null,{"$f":"CONCATENATE(REFERENTES!T820,\"(\",REFERENTES!Q820,\")\")","v":"La Raya(LRA)"},{"$f":"REFERENTES!P820","v":41131}]
[null,null,null,null,null,null,null,null,null,null,null,{"$f":"IF(ISNUMBER(FIND(\"RES\",REFERENTES!$Q$2:$Q$1134)),REFERENTES!Q569,\"\")","v":""},{"$f":"REFERENTES!S569","v":"Es la parcela más lejana de este sector se ubica a 1.7 km al sur del caño San Luis .Esta parcela  presenta la mayor densidad en comparación a las restante de la estación. Conformada por A. germinans y R. mangle. Es una parcela compuesta con 5 y cada una tiene un área de 100 m²."},null,564,0,1131,"X",null,null,null,null,null,null,null,{"$f":"CONCATENATE(REFERENTES!T821,\"(\",REFERENTES!Q821,\")\")","v":"La Revuelta(LR)"},{"$f":"REFERENTES!P821","v":43658}]
[null,null,null,null,null,null,null,null,null,null,null,{"$f":"IF(ISNUMBER(FIND(\"RES\",REFERENTES!$Q$2:$Q$1134)),REFERENTES!Q570,\"\")","v":""},{"$f":"REFERENTES!S570","v":"Se localiza a 1.4 km al sur del caño San Luis. Es una parcela compuesta por 5 parcelas y cada una tiene un área de 100 m². Esta Parcela presenta la menor densidad de la estación conformada por  A. germinans y R. mangle."},null,565,0,1131,"X",null,null,null,null,null,null,null,{"$f":"CONCATENATE(REFERENTES!T822,\"(\",REFERENTES!Q822,\")\")","v":"La Virgen Oriente(VirgenOriente)"},{"$f":"REFERENTES!P822","v":44634}]
[null,null,null,null,null,null,null,null,null,null,null,{"$f":"IF(ISNUMBER(FIND(\"RES\",REFERENTES!$Q$2:$Q$1134)),REFERENTES!Q571,\"\")","v":""},{"$f":"REFERENTES!S571","v":"Es la parcela más cercana al caño San Luis ubicarse a una distancia de 1 km  en dirección sur, entre áreas inundadas. Es una parcela compuesta, constituida con 5 y cada una tiene un área de 100 m². Conformada con  A. germinans y R. mangle. Se observó tala."},null,566,0,1131,"X",null,null,null,null,null,null,null,{"$f":"CONCATENATE(REFERENTES!T823,\"(\",REFERENTES!Q823,\")\")","v":"La Virgen Sur(SurVirgen)"},{"$f":"REFERENTES!P823","v":44629}]
[null,null,null,null,null,null,null,null,null,null,null,{"$f":"IF(ISNUMBER(FIND(\"RES\",REFERENTES!$Q$2:$Q$1134)),REFERENTES!Q572,\"\")","v":""},{"$f":"REFERENTES!S572","v":0},null,567,0,1131,"X",null,null,null,null,null,null,null,{"$f":"CONCATENATE(REFERENTES!T824,\"(\",REFERENTES!Q824,\")\")","v":"La Zona(LZ)"},{"$f":"REFERENTES!P824","v":42090}]
[null,null,null,null,null,null,null,null,null,null,null,{"$f":"IF(ISNUMBER(FIND(\"RES\",REFERENTES!$Q$2:$Q$1134)),REFERENTES!Q573,\"\")","v":""},{"$f":"REFERENTES!S573","v":0},null,568,0,1131,"X",null,null,null,null,null,null,null,{"$f":"CONCATENATE(REFERENTES!T825,\"(\",REFERENTES!Q825,\")\")","v":"La Zona(ZON)"},{"$f":"REFERENTES!P825","v":42098}]
[null,null,null,null,null,null,null,null,null,null,null,{"$f":"IF(ISNUMBER(FIND(\"RES\",REFERENTES!$Q$2:$Q$1134)),REFERENTES!Q574,\"\")","v":""},{"$f":"REFERENTES!S574","v":0},null,569,0,1131,"X",null,null,null,null,null,null,null,{"$f":"CONCATENATE(REFERENTES!T826,\"(\",REFERENTES!Q826,\")\")","v":"Lagartero(LARGAR)"},{"$f":"REFERENTES!P826","v":45483}]
[null,null,null,null,null,null,null,null,null,null,null,{"$f":"IF(ISNUMBER(FIND(\"RES\",REFERENTES!$Q$2:$Q$1134)),REFERENTES!Q575,\"\")","v":""},{"$f":"REFERENTES!S575","v":"Se localiza aproximadamente 5 km al norte de desembocadura del río Sevilla,  en el sector llamado Punta Chino. El bosque está constituido por A. germinans, L. racemosa y  R mangle la cual se encuentra hasta 80 metros desde la línea de agua. Es una parcela compuesta, constituida por 5 parcelas y cada una tiene un área de 100 m²."},null,570,0,1131,"X",null,null,null,null,null,null,null,{"$f":"CONCATENATE(REFERENTES!T827,\"(\",REFERENTES!Q827,\")\")","v":"Laguna Pulumana -2(LP2)"},{"$f":"REFERENTES!P827","v":43580}]
[null,null,null,null,null,null,null,null,null,null,null,{"$f":"IF(ISNUMBER(FIND(\"RES\",REFERENTES!$Q$2:$Q$1134)),REFERENTES!Q576,\"\")","v":""},{"$f":"REFERENTES!S576","v":"Se localiza a  400 m al norte de Punta Chino. El bosque se encuentra en buen estado. Presencia de R. mangle a lo largo del transecto y predominio de A. germinans, en menor proporción L. racemosa. Es una parcela compuesta, constituida por 5 parcelas y cada una tiene un área de 100 m²"},null,571,0,1131,"X",null,null,null,null,null,null,null,{"$f":"CONCATENATE(REFERENTES!T828,\"(\",REFERENTES!Q828,\")\")","v":"Laguna Pulumana -3(LP3)"},{"$f":"REFERENTES!P828","v":43583}]
[null,null,null,null,null,null,null,null,null,null,null,{"$f":"IF(ISNUMBER(FIND(\"RES\",REFERENTES!$Q$2:$Q$1134)),REFERENTES!Q577,\"\")","v":""},{"$f":"REFERENTES!S577","v":"Se ubica a  900 m al norte de Punta Chino,  Con predominio de A. germinans, presencia de R. mangla a lo largo del transecto,  y L. racemosa solo aparece en la parcela 5. Es una parcela compuesta, constituida por 5 parcelas y cada una tiene un área de 100 m²"},null,572,0,1131,"X",null,null,null,null,null,null,null,{"$f":"CONCATENATE(REFERENTES!T829,\"(\",REFERENTES!Q829,\")\")","v":"Laguna Salada(LSA)"},{"$f":"REFERENTES!P829","v":41158}]
[null,null,null,null,null,null,null,null,null,null,null,{"$f":"IF(ISNUMBER(FIND(\"RES\",REFERENTES!$Q$2:$Q$1134)),REFERENTES!Q578,\"\")","v":""},{"$f":"REFERENTES!S578","v":0},null,573,0,1131,"X",null,null,null,null,null,null,null,{"$f":"CONCATENATE(REFERENTES!T830,\"(\",REFERENTES!Q830,\")\")","v":"Laguna San Agustín(LSA)"},{"$f":"REFERENTES!P830","v":43586}]
[null,null,null,null,null,null,null,null,null,null,null,{"$f":"IF(ISNUMBER(FIND(\"RES\",REFERENTES!$Q$2:$Q$1134)),REFERENTES!Q579,\"\")","v":""},{"$f":"REFERENTES!S579","v":0},null,574,0,1131,"X",null,null,null,null,null,null,null,{"$f":"CONCATENATE(REFERENTES!T831,\"(\",REFERENTES!Q831,\")\")","v":"Las Piedras(Piedras)"},{"$f":"REFERENTES!P831","v":44495}]
[null,null,null,null,null,null,null,null,null,null,null,{"$f":"IF(ISNUMBER(FIND(\"RES\",REFERENTES!$Q$2:$Q$1134)),REFERENTES!Q580,\"\")","v":""},{"$f":"REFERENTES!S580","v":0},null,575,0,1131,"X",null,null,null,null,null,null,null,{"$f":"CONCATENATE(REFERENTES!T832,\"(\",REFERENTES!Q832,\")\")","v":"Las Quintas(Quintas)"},{"$f":"REFERENTES!P832","v":44615}]
[null,null,null,null,null,null,null,null,null,null,null,{"$f":"IF(ISNUMBER(FIND(\"RES\",REFERENTES!$Q$2:$Q$1134)),REFERENTES!Q581,\"\")","v":""},{"$f":"REFERENTES!S581","v":"Pequeña franja con residuos o basuras, con predominio de arboles de baja altura y baja densidad de R. mangle.  Presión antrópica por corta de varas y aumento de la frontera agrícola."},null,576,0,1131,"X",null,null,null,null,null,null,null,{"$f":"CONCATENATE(REFERENTES!T833,\"(\",REFERENTES!Q833,\")\")","v":"Lucho Guerra(LUCHO)"},{"$f":"REFERENTES!P833","v":41970}]
[null,null,null,null,null,null,null,null,null,null,null,{"$f":"IF(ISNUMBER(FIND(\"RES\",REFERENTES!$Q$2:$Q$1134)),REFERENTES!Q582,\"\")","v":""},{"$f":"REFERENTES!S582","v":"Pequeña franja con residuos o basuras, con predominio de arboles de baja altura y baja densidad de R. mangle.  Presión antrópica por corta de varas y aumento de la frontera agrícola."},null,577,0,{"$f":"IF(P582=0,MAX($O$6:$O$1135)+1,O582)","v":1131},{"$f":"IFERROR(VLOOKUP(SMALL($Q$6:$Q$1135,O582),$O$6:$P$1135,2,FALSE),\"X\")","v":"X"},null,null,null,null,null,null,null,{"$f":"CONCATENATE(REFERENTES!T834,\"(\",REFERENTES!Q834,\")\")","v":"Luna(LUN)"},{"$f":"REFERENTES!P834","v":43442}]
[null,null,null,null,null,null,null,null,null,null,null,{"$f":"IF(ISNUMBER(FIND(\"RES\",REFERENTES!$Q$2:$Q$1134)),REFERENTES!Q583,\"\")","v":""},{"$f":"REFERENTES!S583","v":0},null,578,{"$f":"IF(L583=\"\",0,L583)","v":0},1131,"X",null,null,null,null,null,null,null,{"$f":"CONCATENATE(REFERENTES!T835,\"(\",REFERENTES!Q835,\")\")","v":"MIQUITOS CURAY(MIQUITOS)"},{"$f":"REFERENTES!P835","v":45403}]
[null,null,null,null,null,null,null,null,null,null,null,{"$f":"IF(ISNUMBER(FIND(\"RES\",REFERENTES!$Q$2:$Q$1134)),REFERENTES!Q584,\"\")","v":""},{"$f":"REFERENTES!S584","v":0},null,579,0,1131,"X",null,null,null,null,null,null,null,{"$f":"CONCATENATE(REFERENTES!T836,\"(\",REFERENTES!Q836,\")\")","v":"ML(ZP1)"},{"$f":"REFERENTES!P836","v":43698}]
[null,null,null,null,null,null,null,null,null,null,null,{"$f":"IF(ISNUMBER(FIND(\"RES\",REFERENTES!$Q$2:$Q$1134)),REFERENTES!Q585,\"\")","v":""},{"$f":"REFERENTES!S585","v":"Bosque ralo al interior.  Predomina casi en su totalidad el  R. mangle, y escasa presencia de  L. racemosa y A. germinans.  Fuera de la parcela se observó un juvenil de P. rhizophorae.  Intervención Antrópica, representada en corta de varas.  Presencia de tarros, bolsas y desechos en general."},null,580,0,1131,"X",null,null,null,null,null,null,null,{"$f":"CONCATENATE(REFERENTES!T837,\"(\",REFERENTES!Q837,\")\")","v":"Mallorquin Playa(MallorqP)"},{"$f":"REFERENTES!P837","v":45167}]
[null,null,null,null,null,null,null,null,null,null,null,{"$f":"IF(ISNUMBER(FIND(\"RES\",REFERENTES!$Q$2:$Q$1134)),REFERENTES!Q586,\"\")","v":""},{"$f":"REFERENTES!S586","v":"Parcela sencilla de 20 m de ancho x 50 m de larg"},null,581,0,1131,"X",null,null,null,null,null,null,null,{"$f":"CONCATENATE(REFERENTES!T838,\"(\",REFERENTES!Q838,\")\")","v":"Mallorquín(Mallorq)"},{"$f":"REFERENTES!P838","v":45170}]
[null,null,null,null,null,null,null,null,null,null,null,{"$f":"IF(ISNUMBER(FIND(\"RES\",REFERENTES!$Q$2:$Q$1134)),REFERENTES!Q587,\"\")","v":""},{"$f":"REFERENTES!S587","v":0},null,582,0,1131,"X",null,null,null,null,null,null,null,{"$f":"CONCATENATE(REFERENTES!T839,\"(\",REFERENTES!Q839,\")\")","v":"Manatiens B(MANB)"},{"$f":"REFERENTES!P839","v":41962}]
[null,null,null,null,null,null,null,null,null,null,null,{"$f":"IF(ISNUMBER(FIND(\"RES\",REFERENTES!$Q$2:$Q$1134)),REFERENTES!Q588,\"\")","v":""},{"$f":"REFERENTES!S588","v":"Parcela sencilla de 20 m de ancho x 50 m de largo"},null,583,0,1131,"X",null,null,null,null,null,null,null,{"$f":"CONCATENATE(REFERENTES!T840,\"(\",REFERENTES!Q840,\")\")","v":"Manatíes A(MANA)"},{"$f":"REFERENTES!P840","v":41958}]
[null,null,null,null,null,null,null,null,null,null,null,{"$f":"IF(ISNUMBER(FIND(\"RES\",REFERENTES!$Q$2:$Q$1134)),REFERENTES!Q589,\"\")","v":""},{"$f":"REFERENTES!S589","v":"La parcela se encuentra  paralela a linea de costa en una franja de mangle"},null,584,0,1131,"X",null,null,null,null,null,null,null,{"$f":"CONCATENATE(REFERENTES!T841,\"(\",REFERENTES!Q841,\")\")","v":"Manatíes Playa (Manat)"},{"$f":"REFERENTES!P841","v":45252}]
[null,null,null,null,null,null,null,null,null,null,null,{"$f":"IF(ISNUMBER(FIND(\"RES\",REFERENTES!$Q$2:$Q$1134)),REFERENTES!Q590,\"\")","v":""},{"$f":"REFERENTES!S590","v":"La parcela se encuentra  paralela a linea de costa en una franja de mangle"},null,585,0,1131,"X",null,null,null,null,null,null,null,{"$f":"CONCATENATE(REFERENTES!T842,\"(\",REFERENTES!Q842,\")\")","v":"Manglar Cispata(MANGLAR_CISPATA)"},{"$f":"REFERENTES!P842","v":56581}]
[null,null,null,null,null,null,null,null,null,null,null,{"$f":"IF(ISNUMBER(FIND(\"RES\",REFERENTES!$Q$2:$Q$1134)),REFERENTES!Q591,\"\")","v":""},{"$f":"REFERENTES!S591","v":"La parcela se encuentra paralela a la linea de costa."},null,586,0,1131,"X",null,null,null,null,null,null,null,{"$f":"CONCATENATE(REFERENTES!T843,\"(\",REFERENTES!Q843,\")\")","v":"Manglar de borde 2(MDB2)"},{"$f":"REFERENTES!P843","v":43837}]
[null,null,null,null,null,null,null,null,null,null,null,{"$f":"IF(ISNUMBER(FIND(\"RES\",REFERENTES!$Q$2:$Q$1134)),REFERENTES!Q592,\"\")","v":""},{"$f":"REFERENTES!S592","v":"La parcela se encuentra paralela a la linea de costa."},null,587,0,1131,"X",null,null,null,null,null,null,null,{"$f":"CONCATENATE(REFERENTES!T844,\"(\",REFERENTES!Q844,\")\")","v":"Mangle de Borde(MDB)"},{"$f":"REFERENTES!P844","v":43577}]
[null,null,null,null,null,null,null,null,null,null,null,{"$f":"IF(ISNUMBER(FIND(\"RES\",REFERENTES!$Q$2:$Q$1134)),REFERENTES!Q593,\"\")","v":""},{"$f":"REFERENTES!S593","v":"Parcela 1 monitoreada por el INVEMAR en el marco del ¨Monitoreo de las condiciones ambientales y los cambios estructurales y funcionales de las comunidades vegetales y de los recursos pesqueros durante la rehabilitación de la Ciénaga Grande de Santa Marta¨"},null,588,0,1131,"X",null,null,null,null,null,null,null,{"$f":"CONCATENATE(REFERENTES!T845,\"(\",REFERENTES!Q845,\")\")","v":"Manzanillo(JPManzanillo)"},{"$f":"REFERENTES!P845","v":44639}]
[null,null,null,null,null,null,null,null,null,null,null,{"$f":"IF(ISNUMBER(FIND(\"RES\",REFERENTES!$Q$2:$Q$1134)),REFERENTES!Q594,\"\")","v":""},{"$f":"REFERENTES!S594","v":"Parcela 2 monitoreada por el INVEMAR en el marco del ¨Monitoreo de las condiciones ambientales y los cambios estructurales y funcionales de las comunidades vegetales y de los recursos pesqueros durante la rehabilitación de la Ciénaga Grande de Santa Marta¨"},null,589,0,1131,"X",null,null,null,null,null,null,null,{"$f":"CONCATENATE(REFERENTES!T846,\"(\",REFERENTES!Q846,\")\")","v":"Manzanillo(RES_SPSC_MZ-P)"},{"$f":"REFERENTES!P846","v":55340}]
[null,null,null,null,null,null,null,null,null,null,null,{"$f":"IF(ISNUMBER(FIND(\"RES\",REFERENTES!$Q$2:$Q$1134)),REFERENTES!Q595,\"\")","v":""},{"$f":"REFERENTES!S595","v":"Parcela 3 monitoreada por el INVEMAR en el marco del ¨Monitoreo de las condiciones ambientales y los cambios estructurales y funcionales de las comunidades vegetales y de los recursos pesqueros durante la rehabilitación de la Ciénaga Grande de Santa Marta¨"},null,590,0,1131,"X",null,null,null,null,null,null,null,{"$f":"CONCATENATE(REFERENTES!T847,\"(\",REFERENTES!Q847,\")\")","v":"Matunilla(MATU)"},{"$f":"REFERENTES!P847","v":42002}]
[null,null,null,null,null,null,null,null,null,null,null,{"$f":"IF(ISNUMBER(FIND(\"RES\",REFERENTES!$Q$2:$Q$1134)),REFERENTES!Q596,\"\")","v":""},{"$f":"REFERENTES!S596","v":"Parcela rectangular de 20 m x 50 m, dispuesta en la margen derecha del Río Ancachí, cuya composición florística está dada por las especies Rhizophora mangle, Avicennia germinans y Mora oleifera."},null,591,0,1131,"X",null,null,null,null,null,null,null,{"$f":"CONCATENATE(REFERENTES!T848,\"(\",REFERENTES!Q848,\")\")","v":"Mayapo(MA)"},{"$f":"REFERENTES!P848","v":41121}]
[null,null,null,null,null,null,null,null,null,null,null,{"$f":"IF(ISNUMBER(FIND(\"RES\",REFERENTES!$Q$2:$Q$1134)),REFERENTES!Q597,\"\")","v":""},{"$f":"REFERENTES!S597","v":"Bosque de porte alto. Presencia de R. mangle, L. racemosa y A. germinans y la especie nombrada localmente como Convita, mayormente asociada a otros ecosistemas.  No se observa vegetación baja.  Con dominio de L. racemosa..  Presión antrópica relacionada por la ampliación de áreas ganaderas.  Presencia de drenajes de las plataneras que caen al manglar y luego al mar."},null,592,0,1131,"X",null,null,null,null,null,null,null,{"$f":"CONCATENATE(REFERENTES!T849,\"(\",REFERENTES!Q849,\")\")","v":"Muertero(Mtero)"},{"$f":"REFERENTES!P849","v":45582}]
[null,null,null,null,null,null,null,null,null,null,null,{"$f":"IF(ISNUMBER(FIND(\"RES\",REFERENTES!$Q$2:$Q$1134)),REFERENTES!Q598,\"\")","v":""},{"$f":"REFERENTES!S598","v":"Relicto de manglar de porte alto con pequeña extensión al costado sur de la desembocadura del río Caimán viejo. Se reporta R, mangle, L. racemosa y algunos A. germinans,de bajo porte y malformados, bosque poco denso. Presión antrópica por aumento de la frontera agrícola."},null,593,0,1131,"X",null,null,null,null,null,null,null,{"$f":"CONCATENATE(REFERENTES!T850,\"(\",REFERENTES!Q850,\")\")","v":"Musichi Salida Parche SO(SPSO)"},{"$f":"REFERENTES!P850","v":43822}]
[null,null,null,null,null,null,null,null,null,null,null,{"$f":"IF(ISNUMBER(FIND(\"RES\",REFERENTES!$Q$2:$Q$1134)),REFERENTES!Q599,\"\")","v":""},{"$f":"REFERENTES!S599","v":"Parcela rectangular de 0.1 ha, ubicada a 1.25 km aproximadamente de la comunidad de Jurubirá, en la margen derecha del Estero La Vuelta, cuya flora está compuesta por Rhizophora mangle y Rhizophora racemosa."},null,594,0,1131,"X",null,null,null,null,null,null,null,{"$f":"CONCATENATE(REFERENTES!T851,\"(\",REFERENTES!Q851,\")\")","v":"Málaga(MV)"},{"$f":"REFERENTES!P851","v":45873}]
[null,null,null,null,null,null,null,null,null,null,null,{"$f":"IF(ISNUMBER(FIND(\"RES\",REFERENTES!$Q$2:$Q$1134)),REFERENTES!Q600,\"\")","v":""},{"$f":"REFERENTES!S600","v":0},null,595,0,1131,"X",null,null,null,null,null,null,null,{"$f":"CONCATENATE(REFERENTES!T852,\"(\",REFERENTES!Q852,\")\")","v":"Old Point -1(OP)"},{"$f":"REFERENTES!P852","v":41462}]
[null,null,null,null,null,null,null,null,null,null,null,{"$f":"IF(ISNUMBER(FIND(\"RES\",REFERENTES!$Q$2:$Q$1134)),REFERENTES!Q601,\"\")","v":""},{"$f":"REFERENTES!S601","v":"Es la más cercana a la desembocadura del Rio Sevilla a unos 600 m  El manglar presenta un nivel de desarrollo bajo, en suelos pantanosos.  La regeneración natural es media. Es una parcela compuesta, constituida por 5 parcelas y cada una tiene un área de 100 m²."},null,596,0,1131,"X",null,null,null,null,null,null,null,{"$f":"CONCATENATE(REFERENTES!T853,\"(\",REFERENTES!Q853,\")\")","v":"Old Town Borde(RES_SPSC_OT-B)"},{"$f":"REFERENTES!P853","v":55341}]
[null,null,null,null,null,null,null,null,null,null,null,{"$f":"IF(ISNUMBER(FIND(\"RES\",REFERENTES!$Q$2:$Q$1134)),REFERENTES!Q602,\"\")","v":""},{"$f":"REFERENTES!S602","v":"Se localiza a 800 m de la desembocadura del Rio Sevilla,  El mangle presenta un nivel de desarrollo Medio bajo, en suelos pantanosos. La regeneración natural es baja.  Es una parcela compuesta, constituida por 5 parcelas y cada una tiene un área de 100 m²"},null,597,0,1131,"X",null,null,null,null,null,null,null,{"$f":"CONCATENATE(REFERENTES!T854,\"(\",REFERENTES!Q854,\")\")","v":"Old Town Cuenca(RES_SPSC_OT-C)"},{"$f":"REFERENTES!P854","v":55342}]
[null,null,null,null,null,null,null,null,null,null,null,{"$f":"IF(ISNUMBER(FIND(\"RES\",REFERENTES!$Q$2:$Q$1134)),REFERENTES!Q603,\"\")","v":""},{"$f":"REFERENTES!S603","v":"Se localiza a 900 m de la desembocadura del Rio Sevilla,  El mangle presenta un nivel de desarrollo Medio bajo. Es una parcela compuesta, constituida por 5 parcelas y cada una tiene un área de 100 m²"},null,598,0,1131,"X",null,null,null,null,null,null,null,{"$f":"CONCATENATE(REFERENTES!T855,\"(\",REFERENTES!Q855,\")\")","v":"PASACABALLOS(CABALLOS)"},{"$f":"REFERENTES!P855","v":45390}]
[null,null,null,null,null,null,null,null,null,null,null,{"$f":"IF(ISNUMBER(FIND(\"RES\",REFERENTES!$Q$2:$Q$1134)),REFERENTES!Q604,\"\")","v":""},{"$f":"REFERENTES!S604","v":0},null,599,0,1131,"X",null,null,null,null,null,null,null,{"$f":"CONCATENATE(REFERENTES!T856,\"(\",REFERENTES!Q856,\")\")","v":"PArcela Pulumana(PPU)"},{"$f":"REFERENTES!P856","v":43589}]
[null,null,null,null,null,null,null,null,null,null,null,{"$f":"IF(ISNUMBER(FIND(\"RES\",REFERENTES!$Q$2:$Q$1134)),REFERENTES!Q605,\"\")","v":""},{"$f":"REFERENTES!S605","v":0},null,600,0,1131,"X",null,null,null,null,null,null,null,{"$f":"CONCATENATE(REFERENTES!T857,\"(\",REFERENTES!Q857,\")\")","v":"Palos Ecal(PALOS)"},{"$f":"REFERENTES!P857","v":42110}]
[null,null,null,null,null,null,null,null,null,null,null,{"$f":"IF(ISNUMBER(FIND(\"RES\",REFERENTES!$Q$2:$Q$1134)),REFERENTES!Q606,\"\")","v":""},{"$f":"REFERENTES!S606","v":0},null,601,0,1131,"X",null,null,null,null,null,null,null,{"$f":"CONCATENATE(REFERENTES!T858,\"(\",REFERENTES!Q858,\")\")","v":"Pantano el Eneal(PE)"},{"$f":"REFERENTES!P858","v":43640}]
[null,null,null,null,null,null,null,null,null,null,null,{"$f":"IF(ISNUMBER(FIND(\"RES\",REFERENTES!$Q$2:$Q$1134)),REFERENTES!Q607,\"\")","v":""},{"$f":"REFERENTES!S607","v":0},null,602,0,1131,"X",null,null,null,null,null,null,null,{"$f":"CONCATENATE(REFERENTES!T859,\"(\",REFERENTES!Q859,\")\")","v":"Parche SO(PSO)"},{"$f":"REFERENTES!P859","v":43805}]
[null,null,null,null,null,null,null,null,null,null,null,{"$f":"IF(ISNUMBER(FIND(\"RES\",REFERENTES!$Q$2:$Q$1134)),REFERENTES!Q608,\"\")","v":""},{"$f":"REFERENTES!S608","v":0},null,603,0,1131,"X",null,null,null,null,null,null,null,{"$f":"CONCATENATE(REFERENTES!T860,\"(\",REFERENTES!Q860,\")\")","v":"Parte baja Río Chorí(Pabarc)"},{"$f":"REFERENTES!P860","v":45246}]
[null,null,null,null,null,null,null,null,null,null,null,{"$f":"IF(ISNUMBER(FIND(\"RES\",REFERENTES!$Q$2:$Q$1134)),REFERENTES!Q609,\"\")","v":""},{"$f":"REFERENTES!S609","v":0},null,604,0,1131,"X",null,null,null,null,null,null,null,{"$f":"CONCATENATE(REFERENTES!T861,\"(\",REFERENTES!Q861,\")\")","v":"Peñitas(PEÑI)"},{"$f":"REFERENTES!P861","v":42125}]
[null,null,null,null,null,null,null,null,null,null,null,{"$f":"IF(ISNUMBER(FIND(\"RES\",REFERENTES!$Q$2:$Q$1134)),REFERENTES!Q610,\"\")","v":""},{"$f":"REFERENTES!S610","v":"Bosque muy Ralo.Presencia de R. mangle, y A. germinans.  Presión antrópica relacionada por la ampliación de áreas ganaderas.  Presencia de cercas de alambre en el manglar."},null,605,0,1131,"X",null,null,null,null,null,null,null,{"$f":"CONCATENATE(REFERENTES!T862,\"(\",REFERENTES!Q862,\")\")","v":"Playa Obregon Bocana Aquiroba(POBA)"},{"$f":"REFERENTES!P862","v":42240}]
[null,null,null,null,null,null,null,null,null,null,null,{"$f":"IF(ISNUMBER(FIND(\"RES\",REFERENTES!$Q$2:$Q$1134)),REFERENTES!Q611,\"\")","v":""},{"$f":"REFERENTES!S611","v":"Bosque muy Ralo.Presencia de R. mangle, y A. germinans.  Presión antrópica relacionada por la ampliación de áreas ganaderas.  Presencia de cercas de alambre en el manglar."},null,606,0,1131,"X",null,null,null,null,null,null,null,{"$f":"CONCATENATE(REFERENTES!T863,\"(\",REFERENTES!Q863,\")\")","v":"Playa Obregon Bocana Rio Guapi(PORG)"},{"$f":"REFERENTES!P863","v":42233}]
[null,null,null,null,null,null,null,null,null,null,null,{"$f":"IF(ISNUMBER(FIND(\"RES\",REFERENTES!$Q$2:$Q$1134)),REFERENTES!Q612,\"\")","v":""},{"$f":"REFERENTES!S612","v":0},null,607,0,1131,"X",null,null,null,null,null,null,null,{"$f":"CONCATENATE(REFERENTES!T864,\"(\",REFERENTES!Q864,\")\")","v":"Playa Sofía(PSOFIA)"},{"$f":"REFERENTES!P864","v":45480}]
[null,null,null,null,null,null,null,null,null,null,null,{"$f":"IF(ISNUMBER(FIND(\"RES\",REFERENTES!$Q$2:$Q$1134)),REFERENTES!Q613,\"\")","v":""},{"$f":"REFERENTES!S613","v":0},null,608,0,1131,"X",null,null,null,null,null,null,null,{"$f":"CONCATENATE(REFERENTES!T865,\"(\",REFERENTES!Q865,\")\")","v":"Playita(Ply)"},{"$f":"REFERENTES!P865","v":46000}]
[null,null,null,null,null,null,null,null,null,null,null,{"$f":"IF(ISNUMBER(FIND(\"RES\",REFERENTES!$Q$2:$Q$1134)),REFERENTES!Q614,\"\")","v":""},{"$f":"REFERENTES!S614","v":0},null,609,0,1131,"X",null,null,null,null,null,null,null,{"$f":"CONCATENATE(REFERENTES!T866,\"(\",REFERENTES!Q866,\")\")","v":"Pozos Colorados(PZC)"},{"$f":"REFERENTES!P866","v":40992}]
[null,null,null,null,null,null,null,null,null,null,null,{"$f":"IF(ISNUMBER(FIND(\"RES\",REFERENTES!$Q$2:$Q$1134)),REFERENTES!Q615,\"\")","v":""},{"$f":"REFERENTES!S615","v":"Parcela que inicia con una franja de regeneración natural de R. mangle muy abundante, casi impenetrable, seguida de 10 metros de franja de agua para luego comenzar sustrato duro en su mayoría de A. germinans , baja regeneración natural"},null,610,0,1131,"X",null,null,null,null,null,null,null,{"$f":"CONCATENATE(REFERENTES!T867,\"(\",REFERENTES!Q867,\")\")","v":"Pueblo Viejo(PVIE)"},{"$f":"REFERENTES!P867","v":41000}]
[null,null,null,null,null,null,null,null,null,null,null,{"$f":"IF(ISNUMBER(FIND(\"RES\",REFERENTES!$Q$2:$Q$1134)),REFERENTES!Q616,\"\")","v":""},{"$f":"REFERENTES!S616","v":"Compuesta por una vegetación de manglar mixto, con dominancia de la especie piñuelo en cuanto abundancia. hace presencia las especies de mangle piñuelo, Nato y rojo. ademas el helecho ranconcha."},null,611,0,1131,"X",null,null,null,null,null,null,null,{"$f":"CONCATENATE(REFERENTES!T868,\"(\",REFERENTES!Q868,\")\")","v":"Puerquera(PUER)"},{"$f":"REFERENTES!P868","v":42106}]
[null,null,null,null,null,null,null,null,null,null,null,{"$f":"IF(ISNUMBER(FIND(\"RES\",REFERENTES!$Q$2:$Q$1134)),REFERENTES!Q617,\"\")","v":""},{"$f":"REFERENTES!S617","v":"Manglar adulto bien desarrollado con dominancia de la especie Mangle rojo. presencia de talas de los arboles mas desarrollados en diámetro y altura."},null,612,0,1131,"X",null,null,null,null,null,null,null,{"$f":"CONCATENATE(REFERENTES!T869,\"(\",REFERENTES!Q869,\")\")","v":"Puerto Cesar(Pces)"},{"$f":"REFERENTES!P869","v":48469}]
[null,null,null,null,null,null,null,null,null,null,null,{"$f":"IF(ISNUMBER(FIND(\"RES\",REFERENTES!$Q$2:$Q$1134)),REFERENTES!Q618,\"\")","v":""},{"$f":"REFERENTES!S618","v":"Bosque denso de mangle Piñuelo intervenido para uso domestico. Alta regeneración Natural. Suelo de consistencia blanda y encharcada."},null,613,0,1131,"X",null,null,null,null,null,null,null,{"$f":"CONCATENATE(REFERENTES!T870,\"(\",REFERENTES!Q870,\")\")","v":"Puerto España (SJPE)"},{"$f":"REFERENTES!P870","v":45879}]
[null,null,null,null,null,null,null,null,null,null,null,{"$f":"IF(ISNUMBER(FIND(\"RES\",REFERENTES!$Q$2:$Q$1134)),REFERENTES!Q619,\"\")","v":""},{"$f":"REFERENTES!S619","v":0},null,614,0,1131,"X",null,null,null,null,null,null,null,{"$f":"CONCATENATE(REFERENTES!T871,\"(\",REFERENTES!Q871,\")\")","v":"Punta Arenas(Pta Arenas)"},{"$f":"REFERENTES!P871","v":44602}]
[null,null,null,null,null,null,null,null,null,null,null,{"$f":"IF(ISNUMBER(FIND(\"RES\",REFERENTES!$Q$2:$Q$1134)),REFERENTES!Q620,\"\")","v":""},{"$f":"REFERENTES!S620","v":0},null,615,0,1131,"X",null,null,null,null,null,null,null,{"$f":"CONCATENATE(REFERENTES!T872,\"(\",REFERENTES!Q872,\")\")","v":"Punta Boquerón(Boquerón)"},{"$f":"REFERENTES!P872","v":44620}]
[null,null,null,null,null,null,null,null,null,null,null,{"$f":"IF(ISNUMBER(FIND(\"RES\",REFERENTES!$Q$2:$Q$1134)),REFERENTES!Q621,\"\")","v":""},{"$f":"REFERENTES!S621","v":"Estación Manglar Salt Creek (formada por 3 parcelas circulares): Es un manglar de cuenca o interior, ubicado en el costado oriental en la parte media de la Isla, que presenta una cobertura de 4,45 ha (INVEMAR-CORALINA, 2016) y se desarrolla separado del mar por la carretera. Está constituido por el complejo Dorna Pond, el humedal de Ground Road y humedales internos. Presenta una composición florística mixta, dominada por Laguncularia racemosa y presencia de Rhizophora mangle; los árboles tienen una altura promedio de 11,7 m. Este manglar se encuentra impactado por los residuos sólidos de las familias aledañas del sector y existe evidencia de actividades de tala y rellenos en su interior."},null,616,0,1131,"X",null,null,null,null,null,null,null,{"$f":"CONCATENATE(REFERENTES!T873,\"(\",REFERENTES!Q873,\")\")","v":"Punta Caricari(PCC)"},{"$f":"REFERENTES!P873","v":43634}]
[null,null,null,null,null,null,null,null,null,null,null,{"$f":"IF(ISNUMBER(FIND(\"RES\",REFERENTES!$Q$2:$Q$1134)),REFERENTES!Q622,\"\")","v":""},{"$f":"REFERENTES!S622","v":"Estación Manglar Salt Creek (formada por 3 parcelas circulares): Es un manglar de cuenca o interior, ubicado en el costado oriental en la parte media de la Isla, que presenta una cobertura de 4,45 ha (INVEMAR-CORALINA, 2016) y se desarrolla separado del mar por la carretera. Está constituido por el complejo Dorna Pond, el humedal de Ground Road y humedales internos. Presenta una composición florística mixta, dominada por Laguncularia racemosa y presencia de Rhizophora mangle; los árboles tienen una altura promedio de 11,7 m. Este manglar se encuentra impactado por los residuos sólidos de las familias aledañas del sector y existe evidencia de actividades de tala y rellenos en su interior."},null,617,0,1131,"X",null,null,null,null,null,null,null,{"$f":"CONCATENATE(REFERENTES!T874,\"(\",REFERENTES!Q874,\")\")","v":"Punta Cerro(PtaCerro)"},{"$f":"REFERENTES!P874","v":45287}]
[null,null,null,null,null,null,null,null,null,null,null,{"$f":"IF(ISNUMBER(FIND(\"RES\",REFERENTES!$Q$2:$Q$1134)),REFERENTES!Q623,\"\")","v":""},{"$f":"REFERENTES!S623","v":0},null,618,0,1131,"X",null,null,null,null,null,null,null,{"$f":"CONCATENATE(REFERENTES!T875,\"(\",REFERENTES!Q875,\")\")","v":"Punta Chino(PtaChino)"},{"$f":"REFERENTES!P875","v":45273}]
[null,null,null,null,null,null,null,null,null,null,null,{"$f":"IF(ISNUMBER(FIND(\"RES\",REFERENTES!$Q$2:$Q$1134)),REFERENTES!Q624,\"\")","v":""},{"$f":"REFERENTES!S624","v":"En conclusión para la estación Raposo se debe actualizar la zonificación por cuanto en los últimos años el manglar ha sido sometido a una fuerte presión antrópica lo cual ha cambiado de forma negativa la estructura del bosque."},null,619,0,1131,"X",null,null,null,null,null,null,null,{"$f":"CONCATENATE(REFERENTES!T876,\"(\",REFERENTES!Q876,\")\")","v":"Punta Coquito(Pcoq)"},{"$f":"REFERENTES!P876","v":48682}]
[null,null,null,null,null,null,null,null,null,null,null,{"$f":"IF(ISNUMBER(FIND(\"RES\",REFERENTES!$Q$2:$Q$1134)),REFERENTES!Q625,\"\")","v":""},{"$f":"REFERENTES!S625","v":"Parcela con inundación en toda el área, nivel promedio: 25 cm, está atravesada por un pequeño canal.  Se evidencia tala y acumulación de madera para recolección."},null,620,0,1131,"X",null,null,null,null,null,null,null,{"$f":"CONCATENATE(REFERENTES!T877,\"(\",REFERENTES!Q877,\")\")","v":"Punta Seca(PSEC)"},{"$f":"REFERENTES!P877","v":44399}]
[null,null,null,null,null,null,null,null,null,null,null,{"$f":"IF(ISNUMBER(FIND(\"RES\",REFERENTES!$Q$2:$Q$1134)),REFERENTES!Q626,\"\")","v":""},{"$f":"REFERENTES!S626","v":"Estación Manglar Santa Catalina (formada por 2 parcelas circulares): El manglar se encuentra localizado en el borde sur oriental de la Isla, bordeando el malecón. Está distribuido en una serie de parches aislados, separados entre sí por construcciones, muelles, el puente de los Enamorados que une a la isla de Providencia con Santa Catalina y una cancha de fútbol. El manglar tiene una extensión total de 3,79 ha (INVEMAR-CORALINA, 2016). El sustrato presentó diferentes niveles de inundación, hubo parches cuyo sustrato estaba seco, otros con sustrato lodoso y otras zonas que se encontraron inundadas. El manglar de una de las parcelas de monitoreo se encuentra conformado principalmente por R. mangle, entremezclado con algunos ejemplares de L. racemosa y A. germinans. El manglar de la otra parcela de monitoreo, que colinda con la cancha deportiva, se encuentra conformado exclusivamente por A. germinans, donde el sustrato es bastante estable. Es un bosque de cuenca de desarrollo diamétrico intermedio y cuyos árboles tienen una altura promedio de 5,5 m."},null,621,0,1131,"X",null,null,null,null,null,null,null,{"$f":"CONCATENATE(REFERENTES!T878,\"(\",REFERENTES!Q878,\")\")","v":"Punta Yarumal(Pyar)"},{"$f":"REFERENTES!P878","v":48438}]
[null,null,null,null,null,null,null,null,null,null,null,{"$f":"IF(ISNUMBER(FIND(\"RES\",REFERENTES!$Q$2:$Q$1134)),REFERENTES!Q627,\"\")","v":""},{"$f":"REFERENTES!S627","v":"Estación Manglar Santa Catalina (formada por 2 parcelas circulares): El manglar se encuentra localizado en el borde sur oriental de la Isla, bordeando el malecón. Está distribuido en una serie de parches aislados, separados entre sí por construcciones, muelles, el puente de los Enamorados que une a la isla de Providencia con Santa Catalina y una cancha de fútbol. El manglar tiene una extensión total de 3,79 ha (INVEMAR-CORALINA, 2016). El sustrato presentó diferentes niveles de inundación, hubo parches cuyo sustrato estaba seco, otros con sustrato lodoso y otras zonas que se encontraron inundadas. El manglar de una de las parcelas de monitoreo se encuentra conformado principalmente por R. mangle, entremezclado con algunos ejemplares de L. racemosa y A. germinans. El manglar de la otra parcela de monitoreo, que colinda con la cancha deportiva, se encuentra conformado exclusivamente por A. germinans, donde el sustrato es bastante estable. Es un bosque de cuenca de desarrollo diamétrico intermedio y cuyos árboles tienen una altura promedio de 5,5 m."},null,622,0,1131,"X",null,null,null,null,null,null,null,{"$f":"CONCATENATE(REFERENTES!T879,\"(\",REFERENTES!Q879,\")\")","v":"Punta de Coco(PCOCO)"},{"$f":"REFERENTES!P879","v":45493}]
[null,null,null,null,null,null,null,null,null,null,null,{"$f":"IF(ISNUMBER(FIND(\"RES\",REFERENTES!$Q$2:$Q$1134)),REFERENTES!Q628,\"\")","v":""},{"$f":"REFERENTES!S628","v":"Parcela sencilla de 20 m de ancho x 50 m de largo"},null,623,0,1131,"X",null,null,null,null,null,null,null,{"$f":"CONCATENATE(REFERENTES!T880,\"(\",REFERENTES!Q880,\")\")","v":"Punta de las Vacas(Pvac)"},{"$f":"REFERENTES!P880","v":48431}]
[null,null,null,null,null,null,null,null,null,null,null,{"$f":"IF(ISNUMBER(FIND(\"RES\",REFERENTES!$Q$2:$Q$1134)),REFERENTES!Q629,\"\")","v":""},{"$f":"REFERENTES!S629","v":"A la parcela se llega por transporte acuático desde el barrio Puerto Nuevo del municipio de Ciénaga por la Ciénaga Grande de Santa Marta, pasando por la Isla Boquerón Grande e ingresando a la zona por el caño La Estrella, hasta llegar a la parcela de monitoreo. Durante su montaje en 2014 se registraron árboles de R. mangle con alturas máximas de 11 m aproximadamente. El suelo fue de textura fangosa, de color marrón oscuro, mezclado con hojarasca en descomposición, anegado por la entrada de aguas del caño; cubierto por las raíces fúlcreas de R. mangle, y con abundante regeneración natural"},null,624,0,1131,"X",null,null,null,null,null,null,null,{"$f":"CONCATENATE(REFERENTES!T881,\"(\",REFERENTES!Q881,\")\")","v":"Quebrada Balsadito(QB)"},{"$f":"REFERENTES!P881","v":46005}]
[null,null,null,null,null,null,null,null,null,null,null,{"$f":"IF(ISNUMBER(FIND(\"RES\",REFERENTES!$Q$2:$Q$1134)),REFERENTES!Q630,\"\")","v":""},{"$f":"REFERENTES!S630","v":0},null,625,0,1131,"X",null,null,null,null,null,null,null,{"$f":"CONCATENATE(REFERENTES!T882,\"(\",REFERENTES!Q882,\")\")","v":"Quiroga(QUIROGA)"},{"$f":"REFERENTES!P882","v":45496}]
[null,null,null,null,null,null,null,null,null,null,null,{"$f":"IF(ISNUMBER(FIND(\"RES\",REFERENTES!$Q$2:$Q$1134)),REFERENTES!Q631,\"\")","v":""},{"$f":"REFERENTES!S631","v":"Se localiza al extremo sureste, entre la vía Tom Hooker y Punta Sur. Tiene una distribución en forma de media luna y ocupa un área de 19,30 ha.  Se identificó por ser considerado como un manglar de cuenca y una altura promedio de 10,8 m; aproximadamente el 30% de la estación se hayo cubierta por Achrostichum aureum  o helecho mata tigre. Por otro lado, se destacó por tener presencia de hojarasca, señales de tala y poca basura._x000D_"},null,626,0,1131,"X",null,null,null,null,null,null,null,{"$f":"CONCATENATE(REFERENTES!T883,\"(\",REFERENTES!Q883,\")\")","v":"Rincon Norte(RNOR)"},{"$f":"REFERENTES!P883","v":44391}]
[null,null,null,null,null,null,null,null,null,null,null,{"$f":"IF(ISNUMBER(FIND(\"RES\",REFERENTES!$Q$2:$Q$1134)),REFERENTES!Q632,\"\")","v":""},{"$f":"REFERENTES!S632","v":0},null,627,0,1131,"X",null,null,null,null,null,null,null,{"$f":"CONCATENATE(REFERENTES!T884,\"(\",REFERENTES!Q884,\")\")","v":"Rincon Sur (RSUR)"},{"$f":"REFERENTES!P884","v":44394}]
[null,null,null,null,null,null,null,null,null,null,null,{"$f":"IF(ISNUMBER(FIND(\"RES\",REFERENTES!$Q$2:$Q$1134)),REFERENTES!Q633,\"\")","v":""},{"$f":"REFERENTES!S633","v":"Estación Manglar Smith Channel (formada por 3 parcelas circulares): Manglar catalogado como de tierra adentro (Medina, 2016), porque se encuentra aislado del mar, sin una conexión directa y por lo tanto no presenta inundación por mareas en ninguna época del año, pero sí por agua dulce proveniente de las precipitaciones. Está ubicado en el extremo suroriental de la Isla, con presencia de Rhizophora mangle y Laguncularia racemosa. Ocupa un área de manglar de 19,30 ha de extensión (INVEMAR-CORALINA, 2016), tiene abundante presencia de helecho de manglar Acrostichum aureum y es uno de los manglares menos intervenido en la Isla, no obstante, hay evidencia de actividades de tala y presencia de residuos sólidos."},null,628,0,1131,"X",null,null,null,null,null,null,null,{"$f":"CONCATENATE(REFERENTES!T885,\"(\",REFERENTES!Q885,\")\")","v":"Rinconada(RIN)"},{"$f":"REFERENTES!P885","v":41400}]
[null,null,null,null,null,null,null,null,null,null,null,{"$f":"IF(ISNUMBER(FIND(\"RES\",REFERENTES!$Q$2:$Q$1134)),REFERENTES!Q634,\"\")","v":""},{"$f":"REFERENTES!S634","v":"Estación Manglar Sound Bay (formada por 3 parcelas circulares): Manglar de cuenca o interior de 15,29 ha de cobertura (INVEMAR-CORALINA, 2016), separado del mar por la carretera, por formaciones vegetales distintas al manglar y por la presencia de lotes con viviendas. Tiene una composición florística mixta de Rhizophora mangle, Laguncularia racemosa y Avicennia germinans. El rodal tiene una altura promedio de 10,8 m. En el pasado se encontraba fuertemente impactado por el vertimiento directo de aguas residuales, no obstante, en la actualidad, CORALINA ha regulado dicho impacto. Presenta una elevada influencia de basuras producto de los desechos depositados por parte de la comunidad vecina. Hay evidencia de árboles talados y presencia de helecho de manglar Acrostichum aureum."},null,629,0,1131,"X",null,null,null,null,null,null,null,{"$f":"CONCATENATE(REFERENTES!T886,\"(\",REFERENTES!Q886,\")\")","v":"Rinconada(RIN)"},{"$f":"REFERENTES!P886","v":44175}]
[null,null,null,null,null,null,null,null,null,null,null,{"$f":"IF(ISNUMBER(FIND(\"RES\",REFERENTES!$Q$2:$Q$1134)),REFERENTES!Q635,\"\")","v":""},{"$f":"REFERENTES!S635","v":"Estación Manglar Sound Bay (formada por 3 parcelas circulares): Manglar de cuenca o interior de 15,29 ha de cobertura (INVEMAR-CORALINA, 2016), separado del mar por la carretera, por formaciones vegetales distintas al manglar y por la presencia de lotes con viviendas. Tiene una composición florística mixta de Rhizophora mangle, Laguncularia racemosa y Avicennia germinans. El rodal tiene una altura promedio de 10,8 m. En el pasado se encontraba fuertemente impactado por el vertimiento directo de aguas residuales, no obstante, en la actualidad, CORALINA ha regulado dicho impacto. Presenta una elevada influencia de basuras producto de los desechos depositados por parte de la comunidad vecina. Hay evidencia de árboles talados y presencia de helecho de manglar Acrostichum aureum."},null,630,0,1131,"X",null,null,null,null,null,null,null,{"$f":"CONCATENATE(REFERENTES!T887,\"(\",REFERENTES!Q887,\")\")","v":"Rio Toribio - MI(MGTBMON-I)"},{"$f":"REFERENTES!P887","v":55347}]
[null,null,null,null,null,null,null,null,null,null,null,{"$f":"IF(ISNUMBER(FIND(\"RES\",REFERENTES!$Q$2:$Q$1134)),REFERENTES!Q636,\"\")","v":""},{"$f":"REFERENTES!S636","v":"Estación Manglar Sound Bay (formada por 3 parcelas circulares): Manglar de cuenca o interior de 15,29 ha de cobertura (INVEMAR-CORALINA, 2016), separado del mar por la carretera, por formaciones vegetales distintas al manglar y por la presencia de lotes con viviendas. Tiene una composición florística mixta de Rhizophora mangle, Laguncularia racemosa y Avicennia germinans. El rodal tiene una altura promedio de 10,8 m. En el pasado se encontraba fuertemente impactado por el vertimiento directo de aguas residuales, no obstante, en la actualidad, CORALINA ha regulado dicho impacto. Presenta una elevada influencia de basuras producto de los desechos depositados por parte de la comunidad vecina. Hay evidencia de árboles talados y presencia de helecho de manglar Acrostichum aureum."},null,631,0,1131,"X",null,null,null,null,null,null,null,{"$f":"CONCATENATE(REFERENTES!T888,\"(\",REFERENTES!Q888,\")\")","v":"Rio Toribio - MII(MGTBMON-II)"},{"$f":"REFERENTES!P888","v":55348}]
[null,null,null,null,null,null,null,null,null,null,null,{"$f":"IF(ISNUMBER(FIND(\"RES\",REFERENTES!$Q$2:$Q$1134)),REFERENTES!Q637,\"\")","v":""},{"$f":"REFERENTES!S637","v":0},null,632,0,1131,"X",null,null,null,null,null,null,null,{"$f":"CONCATENATE(REFERENTES!T889,\"(\",REFERENTES!Q889,\")\")","v":"Rio Toribio - MIII (MGTBMON-III)"},{"$f":"REFERENTES!P889","v":55349}]
[null,null,null,null,null,null,null,null,null,null,null,{"$f":"IF(ISNUMBER(FIND(\"RES\",REFERENTES!$Q$2:$Q$1134)),REFERENTES!Q638,\"\")","v":""},{"$f":"REFERENTES!S638","v":"parcela fija. Estación Manglar Suroeste (formada por 2 parcelas circulares): Ubicado en el suroeste de la isla, conformado por Rhizophora mangle, como especie dominante y por Laguncularia racemosa. Presenta una barra arenosa en frente, poco elevada y posee una laguna interior de alrededor de 300 m de largo y 30 m de ancho, que permanece total o parcialmente inundada durante el año, debido a las fuertes lluvias y la escorrentía, pero disminuye su espejo de agua en época seca por evaporación e infiltración del agua. Tiene una extensión de manglar de 5,25 ha (INVEMAR-CORALINA, 2016). Existe evidencia de actividades de tala en su interior, así como la construcción de restaurantes muy cerca del mismo y presencia de cables de electricidad sobre los árboles de mangle."},null,633,0,1131,"X",null,null,null,null,null,null,null,{"$f":"CONCATENATE(REFERENTES!T890,\"(\",REFERENTES!Q890,\")\")","v":"Rio Toribio - MIV(MGTBMON-IV)"},{"$f":"REFERENTES!P890","v":55350}]
[null,null,null,null,null,null,null,null,null,null,null,{"$f":"IF(ISNUMBER(FIND(\"RES\",REFERENTES!$Q$2:$Q$1134)),REFERENTES!Q639,\"\")","v":""},{"$f":"REFERENTES!S639","v":"Estación Manglar Suroeste (formada por 2 parcelas circulares): Ubicado en el suroeste de la isla, conformado por Rhizophora mangle, como especie dominante y por Laguncularia racemosa. Presenta una barra arenosa en frente, poco elevada y posee una laguna interior de alrededor de 300 m de largo y 30 m de ancho, que permanece total o parcialmente inundada durante el año, debido a las fuertes lluvias y la escorrentía, pero disminuye su espejo de agua en época seca por evaporación e infiltración del agua. Tiene una extensión de manglar de 5,25 ha (INVEMAR-CORALINA, 2016). Existe evidencia de actividades de tala en su interior, así como la construcción de restaurantes muy cerca del mismo y presencia de cables de electricidad sobre los árboles de mangle."},null,634,0,1131,"X",null,null,null,null,null,null,null,{"$f":"CONCATENATE(REFERENTES!T891,\"(\",REFERENTES!Q891,\")\")","v":"Rio Toribio - MV(MGTBMON-V)"},{"$f":"REFERENTES!P891","v":55351}]
[null,null,null,null,null,null,null,null,null,null,null,{"$f":"IF(ISNUMBER(FIND(\"RES\",REFERENTES!$Q$2:$Q$1134)),REFERENTES!Q640,\"\")","v":""},{"$f":"REFERENTES!S640","v":"Estación Manglar Suroeste (formada por 2 parcelas circulares): Ubicado en el suroeste de la isla, conformado por Rhizophora mangle, como especie dominante y por Laguncularia racemosa. Presenta una barra arenosa en frente, poco elevada y posee una laguna interior de alrededor de 300 m de largo y 30 m de ancho, que permanece total o parcialmente inundada durante el año, debido a las fuertes lluvias y la escorrentía, pero disminuye su espejo de agua en época seca por evaporación e infiltración del agua. Tiene una extensión de manglar de 5,25 ha (INVEMAR-CORALINA, 2016). Existe evidencia de actividades de tala en su interior, así como la construcción de restaurantes muy cerca del mismo y presencia de cables de electricidad sobre los árboles de mangle."},null,635,0,1131,"X",null,null,null,null,null,null,null,{"$f":"CONCATENATE(REFERENTES!T892,\"(\",REFERENTES!Q892,\")\")","v":"Rio Toribio - MVI(MGTBMON-VI)"},{"$f":"REFERENTES!P892","v":55352}]
[null,null,null,null,null,null,null,null,null,null,null,{"$f":"IF(ISNUMBER(FIND(\"RES\",REFERENTES!$Q$2:$Q$1134)),REFERENTES!Q641,\"\")","v":""},{"$f":"REFERENTES!S641","v":"Ubicada a unos 2.1 km aproximadamente de Juradó, perpendicularmente a la margen derecha del Estero Tangarrá, compuesta florísticamente por un bosque monoespecífico de Rhizophora racemosa."},null,636,0,1131,"X",null,null,null,null,null,null,null,{"$f":"CONCATENATE(REFERENTES!T893,\"(\",REFERENTES!Q893,\")\")","v":"Rio Virudó(RVIR)"},{"$f":"REFERENTES!P893","v":42126}]
[null,null,null,null,null,null,null,null,null,null,null,{"$f":"IF(ISNUMBER(FIND(\"RES\",REFERENTES!$Q$2:$Q$1134)),REFERENTES!Q642,\"\")","v":""},{"$f":"REFERENTES!S642","v":0},null,637,0,1131,"X",null,null,null,null,null,null,null,{"$f":"CONCATENATE(REFERENTES!T894,\"(\",REFERENTES!Q894,\")\")","v":"Rio toribio desembocadura - Margen norte (MGTB_Temp-PM1)"},{"$f":"REFERENTES!P894","v":55531}]
[null,null,null,null,null,null,null,null,null,null,null,{"$f":"IF(ISNUMBER(FIND(\"RES\",REFERENTES!$Q$2:$Q$1134)),REFERENTES!Q643,\"\")","v":""},{"$f":"REFERENTES!S643","v":"En términos generales el sector de Cajambre es el que presenta mayor nivel de intervención antrópica   producto de la tala del mangle con fines comerciales.  Existe un alto contraste en la zonificación de 2007 que lo cataloga como un manglar poco intervenido en contraposición al alto grado de degradación que se registró en el monitoreo actual."},null,638,0,1131,"X",null,null,null,null,null,null,null,{"$f":"CONCATENATE(REFERENTES!T895,\"(\",REFERENTES!Q895,\")\")","v":"Rio toribio desembocadura - Margen norte (MGTB_Temp-PM2)"},{"$f":"REFERENTES!P895","v":55532}]
[null,null,null,null,null,null,null,null,null,null,null,{"$f":"IF(ISNUMBER(FIND(\"RES\",REFERENTES!$Q$2:$Q$1134)),REFERENTES!Q644,\"\")","v":""},{"$f":"REFERENTES!S644","v":"Es un relicto denso en forma de islote  que se encuentra varios centímetros por encima del suelo, y está constituido por la especie  L. racemosa. Algunos crecen retorcidos disponiendo sus ramas hacia el cuerpo de agua de la ciénaga. No se observa regeneración natural"},null,639,0,1131,"X",null,null,null,null,null,null,null,{"$f":"CONCATENATE(REFERENTES!T896,\"(\",REFERENTES!Q896,\")\")","v":"Rio toribio desembocadura - Margen norte (MGTB_Temp-PM3)"},{"$f":"REFERENTES!P896","v":55533}]
[null,null,null,null,null,null,null,null,null,null,null,{"$f":"IF(ISNUMBER(FIND(\"RES\",REFERENTES!$Q$2:$Q$1134)),REFERENTES!Q645,\"\")","v":""},{"$f":"REFERENTES!S645","v":"Forma una franja de 15 m tierra dentro, la línea de agua está a 1 m dentro de  la parcela, algunos individuos de L. racemosa  son maduros, de crecimiento arbustivo, con ramas que crecen hacia el cuerpo de agua."},null,640,0,1131,"X",null,null,null,null,null,null,null,{"$f":"CONCATENATE(REFERENTES!T897,\"(\",REFERENTES!Q897,\")\")","v":"Rio toribio desembocadura - Margen norte (MGTB_Temp-PM4)"},{"$f":"REFERENTES!P897","v":55534}]
[null,null,null,null,null,null,null,null,null,null,null,{"$f":"IF(ISNUMBER(FIND(\"RES\",REFERENTES!$Q$2:$Q$1134)),REFERENTES!Q646,\"\")","v":""},{"$f":"REFERENTES!S646","v":"Parcela sencilla de 20 m de ancho x 50 m de largo"},null,641,0,{"$f":"IF(P646=0,MAX($O$6:$O$1135)+1,O646)","v":1131},{"$f":"IFERROR(VLOOKUP(SMALL($Q$6:$Q$1135,O646),$O$6:$P$1135,2,FALSE),\"X\")","v":"X"},null,null,null,null,null,null,null,{"$f":"CONCATENATE(REFERENTES!T898,\"(\",REFERENTES!Q898,\")\")","v":"Río Ancachí(RIAN)"},{"$f":"REFERENTES!P898","v":45085}]
[null,null,null,null,null,null,null,null,null,null,null,{"$f":"IF(ISNUMBER(FIND(\"RES\",REFERENTES!$Q$2:$Q$1134)),REFERENTES!Q647,\"\")","v":""},{"$f":"REFERENTES!S647","v":"MANGLAR ADULTO BIEN DESARROLLADO E INTERVENIDO CON DOMINANCIA DEL MANGLE ROJO. PRESENCIA DE REGENERACIÓN EN LOS CLAROS DEJADOS POR LAS CORTAS DE INDIVIDUOS."},null,642,{"$f":"IF(L647=\"\",0,L647)","v":0},1131,"X",null,null,null,null,null,null,null,{"$f":"CONCATENATE(REFERENTES!T899,\"(\",REFERENTES!Q899,\")\")","v":"Río Damaquiel.(Rdmq)"},{"$f":"REFERENTES!P899","v":48463}]
[null,null,null,null,null,null,null,null,null,null,null,{"$f":"IF(ISNUMBER(FIND(\"RES\",REFERENTES!$Q$2:$Q$1134)),REFERENTES!Q648,\"\")","v":""},{"$f":"REFERENTES!S648","v":"ESTA ÁREA  PRESENTA UNA VEGETACIÓN DE MANGLAR MIXTO, HACE PRESENCIA LAS ESPECIES DE MANGLE ROJO, PIÑUELO Y NATO, ADEMAS EL HELECHO RANCONCHA. ES UNA ÁREA INTERVENIDA,"},null,643,0,1131,"X",null,null,null,null,null,null,null,{"$f":"CONCATENATE(REFERENTES!T900,\"(\",REFERENTES!Q900,\")\")","v":"Río Guadualito(Rgua)"},{"$f":"REFERENTES!P900","v":48426}]
[null,null,null,null,null,null,null,null,null,null,null,{"$f":"IF(ISNUMBER(FIND(\"RES\",REFERENTES!$Q$2:$Q$1134)),REFERENTES!Q649,\"\")","v":""},{"$f":"REFERENTES!S649","v":"BOSQUE DE MANGLE ROJO INTERVENIDO, ALTA DENSIDAD DE INDIVIDUOS CON ALTO PORCENTAJE DE FUSTES RETORCIDOS, ARQUEADOS E INCLINADOS."},null,644,0,1131,"X",null,null,null,null,null,null,null,{"$f":"CONCATENATE(REFERENTES!T901,\"(\",REFERENTES!Q901,\")\")","v":"Río León(Rleo)"},{"$f":"REFERENTES!P901","v":48400}]
[null,null,null,null,null,null,null,null,null,null,null,{"$f":"IF(ISNUMBER(FIND(\"RES\",REFERENTES!$Q$2:$Q$1134)),REFERENTES!Q650,\"\")","v":""},{"$f":"REFERENTES!S650","v":0},null,645,0,1131,"X",null,null,null,null,null,null,null,{"$f":"CONCATENATE(REFERENTES!T902,\"(\",REFERENTES!Q902,\")\")","v":"Río Necocli(Rnec)"},{"$f":"REFERENTES!P902","v":48425}]
[null,null,null,null,null,null,null,null,null,null,null,{"$f":"IF(ISNUMBER(FIND(\"RES\",REFERENTES!$Q$2:$Q$1134)),REFERENTES!Q651,\"\")","v":""},{"$f":"REFERENTES!S651","v":"La parcela se encuentra en una franja de manglar tipo borde, continua y de considerable anchura, perpendicular a la línea de costa y a su vez paralela al brazo Calcancala del Río Rancheria. _x000D_"},null,646,0,1131,"X",null,null,null,null,null,null,null,{"$f":"CONCATENATE(REFERENTES!T903,\"(\",REFERENTES!Q903,\")\")","v":"Río Sevilla(Sevillla)"},{"$f":"REFERENTES!P903","v":45266}]
[null,null,null,null,null,null,null,null,null,null,null,{"$f":"IF(ISNUMBER(FIND(\"RES\",REFERENTES!$Q$2:$Q$1134)),REFERENTES!Q652,\"\")","v":""},{"$f":"REFERENTES!S652","v":"La parcela se encuentra en una franja de manglar tipo borde, continua y de considerable anchura, perpendicular a la línea de costa y a su vez paralela al brazo Calcancala del Río Rancheria. _x000D_"},null,647,0,1131,"X",null,null,null,null,null,null,null,{"$f":"CONCATENATE(REFERENTES!T904,\"(\",REFERENTES!Q904,\")\")","v":"Río Suriqui(RSurq)"},{"$f":"REFERENTES!P904","v":48399}]
[null,null,null,null,null,null,null,null,null,null,null,{"$f":"IF(ISNUMBER(FIND(\"RES\",REFERENTES!$Q$2:$Q$1134)),REFERENTES!Q653,\"\")","v":""},{"$f":"REFERENTES!S653","v":"La parcela se encuentra en una franja de manglar tipo borde, continua y de considerable anchura, perpendicular a la línea de costa y a su vez paralela al brazo Calcancala del Río Rancheria. _x000D_"},null,648,0,1131,"X",null,null,null,null,null,null,null,{"$f":"CONCATENATE(REFERENTES!T905,\"(\",REFERENTES!Q905,\")\")","v":"Río Toribio(Toribio)"},{"$f":"REFERENTES!P905","v":48866}]
[null,null,null,null,null,null,null,null,null,null,null,{"$f":"IF(ISNUMBER(FIND(\"RES\",REFERENTES!$Q$2:$Q$1134)),REFERENTES!Q654,\"\")","v":""},{"$f":"REFERENTES!S654","v":0},null,649,0,1131,"X",null,null,null,null,null,null,null,{"$f":"CONCATENATE(REFERENTES!T906,\"(\",REFERENTES!Q906,\")\")","v":"SAN ANDRES(SANAND)"},{"$f":"REFERENTES!P906","v":45394}]
[null,null,null,null,null,null,null,null,null,null,null,{"$f":"IF(ISNUMBER(FIND(\"RES\",REFERENTES!$Q$2:$Q$1134)),REFERENTES!Q655,\"\")","v":""},{"$f":"REFERENTES!S655","v":"La parcela se ubica detrás de una cabaña de pescadores, a 18 m de esta y a 34 m de la línea de vegetación, se encuentra una cerca. En la zona predomina la C. erectus muy ramificado, en los primeros metros del transecto se encuentra B marítima y suelos firmes y arenosos. Se encontraron residuos sólidos."},null,650,0,1131,"X",null,null,null,null,null,null,null,{"$f":"CONCATENATE(REFERENTES!T907,\"(\",REFERENTES!Q907,\")\")","v":"Salahonda(Salho)"},{"$f":"REFERENTES!P907","v":44549}]
[null,null,null,null,null,null,null,null,null,null,null,{"$f":"IF(ISNUMBER(FIND(\"RES\",REFERENTES!$Q$2:$Q$1134)),REFERENTES!Q656,\"\")","v":""},{"$f":"REFERENTES!S656","v":"Estación Manglar Velodia Road (formada por 1 parcela circular): Es un manglar de tierra adentro, ubicado en el costado sur de la Isla, que presenta una cobertura de 1,0 ha (INVEMAR-CORALINA, 2016)."},null,651,0,1131,"X",null,null,null,null,null,null,null,{"$f":"CONCATENATE(REFERENTES!T908,\"(\",REFERENTES!Q908,\")\")","v":"Salahonda(Salho)"},{"$f":"REFERENTES!P908","v":44545}]
[null,null,null,null,null,null,null,null,null,null,null,{"$f":"IF(ISNUMBER(FIND(\"RES\",REFERENTES!$Q$2:$Q$1134)),REFERENTES!Q657,\"\")","v":""},{"$f":"REFERENTES!S657","v":"Estación bordeada por un canal, con sustrato fangoso, Bosque en buen estado con abundante regeneración natural."},null,652,0,1131,"X",null,null,null,null,null,null,null,{"$f":"CONCATENATE(REFERENTES!T909,\"(\",REFERENTES!Q909,\")\")","v":"Salahonda(Salho)"},{"$f":"REFERENTES!P909","v":44514}]
[null,null,null,null,null,null,null,null,null,null,null,{"$f":"IF(ISNUMBER(FIND(\"RES\",REFERENTES!$Q$2:$Q$1134)),REFERENTES!Q658,\"\")","v":""},{"$f":"REFERENTES!S658","v":"En términos generales este bosque no se ha podido recuperar desde la última zonificación y por el contrario la tendencia es a disminuir su área basal  y por reacción y como estrategia de resiliencia el bosque genera más regeneración natural que se observa en el aumento de más del 300% en  el número de árboles."},null,653,0,1131,"X",null,null,null,null,null,null,null,{"$f":"CONCATENATE(REFERENTES!T910,\"(\",REFERENTES!Q910,\")\")","v":"Salahonda(Salho)"},{"$f":"REFERENTES!P910","v":44556}]
[null,null,null,null,null,null,null,null,null,null,null,{"$f":"IF(ISNUMBER(FIND(\"RES\",REFERENTES!$Q$2:$Q$1134)),REFERENTES!Q659,\"\")","v":""},{"$f":"REFERENTES!S659","v":"Bosque Ralo Presencia de R. mangle, L. racemosa y A. germinans.  Vegetación inferior del helecho A. aureum y majagua.  Escasos árboles pero de porte alto.  Presión antrópica relacionada por la ampliación de áreas ganaderas.  Presencia de cercas de alambre en el manglar."},null,654,0,1131,"X",null,null,null,null,null,null,null,{"$f":"CONCATENATE(REFERENTES!T911,\"(\",REFERENTES!Q911,\")\")","v":"Salitral el Garzal(SGAR)"},{"$f":"REFERENTES!P911","v":44418}]
[null,null,null,null,null,null,null,null,null,null,null,{"$f":"IF(ISNUMBER(FIND(\"RES\",REFERENTES!$Q$2:$Q$1134)),REFERENTES!Q660,\"\")","v":""},{"$f":"REFERENTES!S660","v":"Bosque Ralo al interior.  La sp más abundante es el R. mangle seguido de L.racemosa Presencia de helecho A. aureum.  Presión antrópica relacionada por Corta de Varas y presencia de agallas en todas las estructuras del manglar, especialmente en el R. mangle."},null,655,0,1131,"X",null,null,null,null,null,null,null,{"$f":"CONCATENATE(REFERENTES!T912,\"(\",REFERENTES!Q912,\")\")","v":"Salt Creek(SCRE)"},{"$f":"REFERENTES!P912","v":41491}]
[null,null,null,null,null,null,null,null,null,null,null,{"$f":"IF(ISNUMBER(FIND(\"RES\",REFERENTES!$Q$2:$Q$1134)),REFERENTES!Q661,\"\")","v":""},{"$f":"REFERENTES!S661","v":"La parcela se ubicó al costado norte de la boca, encontrando un manglar con predominio de L. racemosa y R. mangle.  No se evidenció afectación por basuras o influencia antrópica.  Bosque limpio."},null,656,0,1131,"X",null,null,null,null,null,null,null,{"$f":"CONCATENATE(REFERENTES!T913,\"(\",REFERENTES!Q913,\")\")","v":"San Andres de Tumaco(Tuma)"},{"$f":"REFERENTES!P913","v":44486}]
[null,null,null,null,null,null,null,null,null,null,null,{"$f":"IF(ISNUMBER(FIND(\"RES\",REFERENTES!$Q$2:$Q$1134)),REFERENTES!Q662,\"\")","v":""},{"$f":"REFERENTES!S662","v":0},null,657,0,1131,"X",null,null,null,null,null,null,null,{"$f":"CONCATENATE(REFERENTES!T914,\"(\",REFERENTES!Q914,\")\")","v":"Santa Ana(Sta-Ana)"},{"$f":"REFERENTES!P914","v":44499}]
[null,null,null,null,null,null,null,null,null,null,null,{"$f":"IF(ISNUMBER(FIND(\"RES\",REFERENTES!$Q$2:$Q$1134)),REFERENTES!Q663,\"\")","v":""},{"$f":"REFERENTES!S663","v":0},null,658,0,1131,"X",null,null,null,null,null,null,null,{"$f":"CONCATENATE(REFERENTES!T915,\"(\",REFERENTES!Q915,\")\")","v":"Santa Ana (RSA)"},{"$f":"REFERENTES!P915","v":45845}]
[null,null,null,null,null,null,null,null,null,null,null,{"$f":"IF(ISNUMBER(FIND(\"RES\",REFERENTES!$Q$2:$Q$1134)),REFERENTES!Q664,\"\")","v":""},{"$f":"REFERENTES!S664","v":0},null,659,0,1131,"X",null,null,null,null,null,null,null,{"$f":"CONCATENATE(REFERENTES!T916,\"(\",REFERENTES!Q916,\")\")","v":"Santa Catalina Borde(RES_SPSC_SC-B)"},{"$f":"REFERENTES!P916","v":55344}]
[null,null,null,null,null,null,null,null,null,null,null,{"$f":"IF(ISNUMBER(FIND(\"RES\",REFERENTES!$Q$2:$Q$1134)),REFERENTES!Q665,\"\")","v":""},{"$f":"REFERENTES!S665","v":0},null,660,0,1131,"X",null,null,null,null,null,null,null,{"$f":"CONCATENATE(REFERENTES!T917,\"(\",REFERENTES!Q917,\")\")","v":"Santa Catalina Cuenca(RES_SPSC_SC-C)"},{"$f":"REFERENTES!P917","v":55343}]
[null,null,null,null,null,null,null,null,null,null,null,{"$f":"IF(ISNUMBER(FIND(\"RES\",REFERENTES!$Q$2:$Q$1134)),REFERENTES!Q666,\"\")","v":"RES_MGACC"},{"$f":"REFERENTES!S666","v":0},null,661,"RES_MGACC",661,"X",null,null,null,null,null,null,null,{"$f":"CONCATENATE(REFERENTES!T918,\"(\",REFERENTES!Q918,\")\")","v":"Santa Rita(SRITA)"},{"$f":"REFERENTES!P918","v":45501}]
[null,null,null,null,null,null,null,null,null,null,null,{"$f":"IF(ISNUMBER(FIND(\"RES\",REFERENTES!$Q$2:$Q$1134)),REFERENTES!Q667,\"\")","v":""},{"$f":"REFERENTES!S667","v":0},null,662,0,1131,"X",null,null,null,null,null,null,null,{"$f":"CONCATENATE(REFERENTES!T919,\"(\",REFERENTES!Q919,\")\")","v":"Sevillano(SEV)"},{"$f":"REFERENTES!P919","v":40996}]
[null,null,null,null,null,null,null,null,null,null,null,{"$f":"IF(ISNUMBER(FIND(\"RES\",REFERENTES!$Q$2:$Q$1134)),REFERENTES!Q668,\"\")","v":""},{"$f":"REFERENTES!S668","v":0},null,663,0,1131,"X",null,null,null,null,null,null,null,{"$f":"CONCATENATE(REFERENTES!T920,\"(\",REFERENTES!Q920,\")\")","v":"Smith Channel(CO)"},{"$f":"REFERENTES!P920","v":41471}]
[null,null,null,null,null,null,null,null,null,null,null,{"$f":"IF(ISNUMBER(FIND(\"RES\",REFERENTES!$Q$2:$Q$1134)),REFERENTES!Q669,\"\")","v":""},{"$f":"REFERENTES!S669","v":0},null,664,0,1131,"X",null,null,null,null,null,null,null,{"$f":"CONCATENATE(REFERENTES!T921,\"(\",REFERENTES!Q921,\")\")","v":"Smith Channel(SCH)"},{"$f":"REFERENTES!P921","v":41478}]
[null,null,null,null,null,null,null,null,null,null,null,{"$f":"IF(ISNUMBER(FIND(\"RES\",REFERENTES!$Q$2:$Q$1134)),REFERENTES!Q670,\"\")","v":""},{"$f":"REFERENTES!S670","v":0},null,665,0,1131,"X",null,null,null,null,null,null,null,{"$f":"CONCATENATE(REFERENTES!T922,\"(\",REFERENTES!Q922,\")\")","v":"South West Bay(SWB)"},{"$f":"REFERENTES!P922","v":41484}]
[null,null,null,null,null,null,null,null,null,null,null,{"$f":"IF(ISNUMBER(FIND(\"RES\",REFERENTES!$Q$2:$Q$1134)),REFERENTES!Q671,\"\")","v":""},{"$f":"REFERENTES!S671","v":0},null,666,0,1131,"X",null,null,null,null,null,null,null,{"$f":"CONCATENATE(REFERENTES!T923,\"(\",REFERENTES!Q923,\")\")","v":"TRUJILLO(TRUJI)"},{"$f":"REFERENTES!P923","v":45399}]
[null,null,null,null,null,null,null,null,null,null,null,{"$f":"IF(ISNUMBER(FIND(\"RES\",REFERENTES!$Q$2:$Q$1134)),REFERENTES!Q672,\"\")","v":""},{"$f":"REFERENTES!S672","v":0},null,667,0,1131,"X",null,null,null,null,null,null,null,{"$f":"CONCATENATE(REFERENTES!T924,\"(\",REFERENTES!Q924,\")\")","v":"Tangarrá(Tangarrá)"},{"$f":"REFERENTES!P924","v":45421}]
[null,null,null,null,null,null,null,null,null,null,null,{"$f":"IF(ISNUMBER(FIND(\"RES\",REFERENTES!$Q$2:$Q$1134)),REFERENTES!Q673,\"\")","v":""},{"$f":"REFERENTES!S673","v":0},null,668,0,1131,"X",null,null,null,null,null,null,null,{"$f":"CONCATENATE(REFERENTES!T925,\"(\",REFERENTES!Q925,\")\")","v":"Timba(CT)"},{"$f":"REFERENTES!P925","v":45829}]
[null,null,null,null,null,null,null,null,null,null,null,{"$f":"IF(ISNUMBER(FIND(\"RES\",REFERENTES!$Q$2:$Q$1134)),REFERENTES!Q674,\"\")","v":""},{"$f":"REFERENTES!S674","v":0},null,669,0,1131,"X"]
[null,null,null,null,null,null,null,null,null,null,null,{"$f":"IF(ISNUMBER(FIND(\"RES\",REFERENTES!$Q$2:$Q$1134)),REFERENTES!Q675,\"\")","v":""},{"$f":"REFERENTES!S675","v":0},null,670,0,1131,"X"]
[null,null,null,null,null,null,null,null,null,null,null,{"$f":"IF(ISNUMBER(FIND(\"RES\",REFERENTES!$Q$2:$Q$1134)),REFERENTES!Q676,\"\")","v":""},{"$f":"REFERENTES!S676","v":0},null,671,0,1131,"X"]
[null,null,null,null,null,null,null,null,null,null,null,{"$f":"IF(ISNUMBER(FIND(\"RES\",REFERENTES!$Q$2:$Q$1134)),REFERENTES!Q677,\"\")","v":""},{"$f":"REFERENTES!S677","v":0},null,672,0,1131,"X"]
[null,null,null,null,null,null,null,null,null,null,null,{"$f":"IF(ISNUMBER(FIND(\"RES\",REFERENTES!$Q$2:$Q$1134)),REFERENTES!Q678,\"\")","v":""},{"$f":"REFERENTES!S678","v":0},null,673,0,1131,"X"]
[null,null,null,null,null,null,null,null,null,null,null,{"$f":"IF(ISNUMBER(FIND(\"RES\",REFERENTES!$Q$2:$Q$1134)),REFERENTES!Q679,\"\")","v":""},{"$f":"REFERENTES!S679","v":0},null,674,0,1131,"X"]
[null,null,null,null,null,null,null,null,null,null,null,{"$f":"IF(ISNUMBER(FIND(\"RES\",REFERENTES!$Q$2:$Q$1134)),REFERENTES!Q680,\"\")","v":""},{"$f":"REFERENTES!S680","v":0},null,675,0,1131,"X"]
[null,null,null,null,null,null,null,null,null,null,null,{"$f":"IF(ISNUMBER(FIND(\"RES\",REFERENTES!$Q$2:$Q$1134)),REFERENTES!Q681,\"\")","v":""},{"$f":"REFERENTES!S681","v":0},null,676,0,1131,"X"]
[null,null,null,null,null,null,null,null,null,null,null,{"$f":"IF(ISNUMBER(FIND(\"RES\",REFERENTES!$Q$2:$Q$1134)),REFERENTES!Q682,\"\")","v":""},{"$f":"REFERENTES!S682","v":0},null,677,0,1131,"X"]
[null,null,null,null,null,null,null,null,null,null,null,{"$f":"IF(ISNUMBER(FIND(\"RES\",REFERENTES!$Q$2:$Q$1134)),REFERENTES!Q683,\"\")","v":""},{"$f":"REFERENTES!S683","v":0},null,678,0,1131,"X"]
[null,null,null,null,null,null,null,null,null,null,null,{"$f":"IF(ISNUMBER(FIND(\"RES\",REFERENTES!$Q$2:$Q$1134)),REFERENTES!Q684,\"\")","v":""},{"$f":"REFERENTES!S684","v":0},null,679,0,1131,"X"]
[null,null,null,null,null,null,null,null,null,null,null,{"$f":"IF(ISNUMBER(FIND(\"RES\",REFERENTES!$Q$2:$Q$1134)),REFERENTES!Q685,\"\")","v":""},{"$f":"REFERENTES!S685","v":0},null,680,0,1131,"X"]
[null,null,null,null,null,null,null,null,null,null,null,{"$f":"IF(ISNUMBER(FIND(\"RES\",REFERENTES!$Q$2:$Q$1134)),REFERENTES!Q686,\"\")","v":""},{"$f":"REFERENTES!S686","v":0},null,681,0,1131,"X"]
[null,null,null,null,null,null,null,null,null,null,null,{"$f":"IF(ISNUMBER(FIND(\"RES\",REFERENTES!$Q$2:$Q$1134)),REFERENTES!Q687,\"\")","v":""},{"$f":"REFERENTES!S687","v":0},null,682,0,1131,"X"]
[null,null,null,null,null,null,null,null,null,null,null,{"$f":"IF(ISNUMBER(FIND(\"RES\",REFERENTES!$Q$2:$Q$1134)),REFERENTES!Q688,\"\")","v":""},{"$f":"REFERENTES!S688","v":0},null,683,0,1131,"X"]
[null,null,null,null,null,null,null,null,null,null,null,{"$f":"IF(ISNUMBER(FIND(\"RES\",REFERENTES!$Q$2:$Q$1134)),REFERENTES!Q689,\"\")","v":""},{"$f":"REFERENTES!S689","v":0},null,684,0,1131,"X"]
[null,null,null,null,null,null,null,null,null,null,null,{"$f":"IF(ISNUMBER(FIND(\"RES\",REFERENTES!$Q$2:$Q$1134)),REFERENTES!Q690,\"\")","v":""},{"$f":"REFERENTES!S690","v":0},null,685,0,1131,"X"]
[null,null,null,null,null,null,null,null,null,null,null,{"$f":"IF(ISNUMBER(FIND(\"RES\",REFERENTES!$Q$2:$Q$1134)),REFERENTES!Q691,\"\")","v":""},{"$f":"REFERENTES!S691","v":0},null,686,0,1131,"X"]
[null,null,null,null,null,null,null,null,null,null,null,{"$f":"IF(ISNUMBER(FIND(\"RES\",REFERENTES!$Q$2:$Q$1134)),REFERENTES!Q692,\"\")","v":""},{"$f":"REFERENTES!S692","v":0},null,687,0,1131,"X"]
[null,null,null,null,null,null,null,null,null,null,null,{"$f":"IF(ISNUMBER(FIND(\"RES\",REFERENTES!$Q$2:$Q$1134)),REFERENTES!Q693,\"\")","v":""},{"$f":"REFERENTES!S693","v":0},null,688,0,1131,"X"]
[null,null,null,null,null,null,null,null,null,null,null,{"$f":"IF(ISNUMBER(FIND(\"RES\",REFERENTES!$Q$2:$Q$1134)),REFERENTES!Q694,\"\")","v":""},{"$f":"REFERENTES!S694","v":0},null,689,0,1131,"X"]
[null,null,null,null,null,null,null,null,null,null,null,{"$f":"IF(ISNUMBER(FIND(\"RES\",REFERENTES!$Q$2:$Q$1134)),REFERENTES!Q695,\"\")","v":""},{"$f":"REFERENTES!S695","v":0},null,690,0,1131,"X"]
[null,null,null,null,null,null,null,null,null,null,null,{"$f":"IF(ISNUMBER(FIND(\"RES\",REFERENTES!$Q$2:$Q$1134)),REFERENTES!Q696,\"\")","v":""},{"$f":"REFERENTES!S696","v":0},null,691,0,1131,"X"]
[null,null,null,null,null,null,null,null,null,null,null,{"$f":"IF(ISNUMBER(FIND(\"RES\",REFERENTES!$Q$2:$Q$1134)),REFERENTES!Q697,\"\")","v":""},{"$f":"REFERENTES!S697","v":0},null,692,0,1131,"X"]
[null,null,null,null,null,null,null,null,null,null,null,{"$f":"IF(ISNUMBER(FIND(\"RES\",REFERENTES!$Q$2:$Q$1134)),REFERENTES!Q698,\"\")","v":""},{"$f":"REFERENTES!S698","v":0},null,693,0,1131,"X"]
[null,null,null,null,null,null,null,null,null,null,null,{"$f":"IF(ISNUMBER(FIND(\"RES\",REFERENTES!$Q$2:$Q$1134)),REFERENTES!Q699,\"\")","v":""},{"$f":"REFERENTES!S699","v":0},null,694,0,1131,"X"]
[null,null,null,null,null,null,null,null,null,null,null,{"$f":"IF(ISNUMBER(FIND(\"RES\",REFERENTES!$Q$2:$Q$1134)),REFERENTES!Q700,\"\")","v":""},{"$f":"REFERENTES!S700","v":0},null,695,0,1131,"X"]
[null,null,null,null,null,null,null,null,null,null,null,{"$f":"IF(ISNUMBER(FIND(\"RES\",REFERENTES!$Q$2:$Q$1134)),REFERENTES!Q701,\"\")","v":""},{"$f":"REFERENTES!S701","v":0},null,696,0,1131,"X"]
[null,null,null,null,null,null,null,null,null,null,null,{"$f":"IF(ISNUMBER(FIND(\"RES\",REFERENTES!$Q$2:$Q$1134)),REFERENTES!Q702,\"\")","v":""},{"$f":"REFERENTES!S702","v":0},null,697,0,1131,"X"]
[null,null,null,null,null,null,null,null,null,null,null,{"$f":"IF(ISNUMBER(FIND(\"RES\",REFERENTES!$Q$2:$Q$1134)),REFERENTES!Q703,\"\")","v":""},{"$f":"REFERENTES!S703","v":0},null,698,0,1131,"X"]
[null,null,null,null,null,null,null,null,null,null,null,{"$f":"IF(ISNUMBER(FIND(\"RES\",REFERENTES!$Q$2:$Q$1134)),REFERENTES!Q704,\"\")","v":""},{"$f":"REFERENTES!S704","v":0},null,699,0,1131,"X"]
[null,null,null,null,null,null,null,null,null,null,null,{"$f":"IF(ISNUMBER(FIND(\"RES\",REFERENTES!$Q$2:$Q$1134)),REFERENTES!Q705,\"\")","v":""},{"$f":"REFERENTES!S705","v":0},null,700,0,1131,"X"]
[null,null,null,null,null,null,null,null,null,null,null,{"$f":"IF(ISNUMBER(FIND(\"RES\",REFERENTES!$Q$2:$Q$1134)),REFERENTES!Q706,\"\")","v":""},{"$f":"REFERENTES!S706","v":0},null,701,0,1131,"X"]
[null,null,null,null,null,null,null,null,null,null,null,{"$f":"IF(ISNUMBER(FIND(\"RES\",REFERENTES!$Q$2:$Q$1134)),REFERENTES!Q707,\"\")","v":""},{"$f":"REFERENTES!S707","v":0},null,702,0,1131,"X"]
[null,null,null,null,null,null,null,null,null,null,null,{"$f":"IF(ISNUMBER(FIND(\"RES\",REFERENTES!$Q$2:$Q$1134)),REFERENTES!Q708,\"\")","v":""},{"$f":"REFERENTES!S708","v":0},null,703,0,1131,"X"]
[null,null,null,null,null,null,null,null,null,null,null,{"$f":"IF(ISNUMBER(FIND(\"RES\",REFERENTES!$Q$2:$Q$1134)),REFERENTES!Q709,\"\")","v":""},{"$f":"REFERENTES!S709","v":0},null,704,0,1131,"X"]
[null,null,null,null,null,null,null,null,null,null,null,{"$f":"IF(ISNUMBER(FIND(\"RES\",REFERENTES!$Q$2:$Q$1134)),REFERENTES!Q710,\"\")","v":""},{"$f":"REFERENTES!S710","v":0},null,705,0,{"$f":"IF(P710=0,MAX($O$6:$O$1135)+1,O710)","v":1131},{"$f":"IFERROR(VLOOKUP(SMALL($Q$6:$Q$1135,O710),$O$6:$P$1135,2,FALSE),\"X\")","v":"X"}]
[null,null,null,null,null,null,null,null,null,null,null,{"$f":"IF(ISNUMBER(FIND(\"RES\",REFERENTES!$Q$2:$Q$1134)),REFERENTES!Q711,\"\")","v":""},{"$f":"REFERENTES!S711","v":0},null,706,{"$f":"IF(L711=\"\",0,L711)","v":0},1131,"X"]
[null,null,null,null,null,null,null,null,null,null,null,{"$f":"IF(ISNUMBER(FIND(\"RES\",REFERENTES!$Q$2:$Q$1134)),REFERENTES!Q712,\"\")","v":""},{"$f":"REFERENTES!S712","v":0},null,707,0,1131,"X"]
[null,null,null,null,null,null,null,null,null,null,null,{"$f":"IF(ISNUMBER(FIND(\"RES\",REFERENTES!$Q$2:$Q$1134)),REFERENTES!Q713,\"\")","v":""},{"$f":"REFERENTES!S713","v":0},null,708,0,1131,"X"]
[null,null,null,null,null,null,null,null,null,null,null,{"$f":"IF(ISNUMBER(FIND(\"RES\",REFERENTES!$Q$2:$Q$1134)),REFERENTES!Q714,\"\")","v":"RES_MGACTRES"},{"$f":"REFERENTES!S714","v":0},null,709,"RES_MGACTRES",709,"X"]
[null,null,null,null,null,null,null,null,null,null,null,{"$f":"IF(ISNUMBER(FIND(\"RES\",REFERENTES!$Q$2:$Q$1134)),REFERENTES!Q715,\"\")","v":""},{"$f":"REFERENTES!S715","v":0},null,710,0,1131,"X"]
[null,null,null,null,null,null,null,null,null,null,null,{"$f":"IF(ISNUMBER(FIND(\"RES\",REFERENTES!$Q$2:$Q$1134)),REFERENTES!Q716,\"\")","v":""},{"$f":"REFERENTES!S716","v":0},null,711,0,1131,"X"]
[null,null,null,null,null,null,null,null,null,null,null,{"$f":"IF(ISNUMBER(FIND(\"RES\",REFERENTES!$Q$2:$Q$1134)),REFERENTES!Q717,\"\")","v":""},{"$f":"REFERENTES!S717","v":0},null,712,0,1131,"X"]
[null,null,null,null,null,null,null,null,null,null,null,{"$f":"IF(ISNUMBER(FIND(\"RES\",REFERENTES!$Q$2:$Q$1134)),REFERENTES!Q718,\"\")","v":""},{"$f":"REFERENTES!S718","v":0},null,713,0,1131,"X"]
[null,null,null,null,null,null,null,null,null,null,null,{"$f":"IF(ISNUMBER(FIND(\"RES\",REFERENTES!$Q$2:$Q$1134)),REFERENTES!Q719,\"\")","v":""},{"$f":"REFERENTES!S719","v":0},null,714,0,1131,"X"]
[null,null,null,null,null,null,null,null,null,null,null,{"$f":"IF(ISNUMBER(FIND(\"RES\",REFERENTES!$Q$2:$Q$1134)),REFERENTES!Q720,\"\")","v":""},{"$f":"REFERENTES!S720","v":0},null,715,0,1131,"X"]
[null,null,null,null,null,null,null,null,null,null,null,{"$f":"IF(ISNUMBER(FIND(\"RES\",REFERENTES!$Q$2:$Q$1134)),REFERENTES!Q721,\"\")","v":""},{"$f":"REFERENTES!S721","v":0},null,716,0,1131,"X"]
[null,null,null,null,null,null,null,null,null,null,null,{"$f":"IF(ISNUMBER(FIND(\"RES\",REFERENTES!$Q$2:$Q$1134)),REFERENTES!Q722,\"\")","v":""},{"$f":"REFERENTES!S722","v":0},null,717,0,1131,"X"]
[null,null,null,null,null,null,null,null,null,null,null,{"$f":"IF(ISNUMBER(FIND(\"RES\",REFERENTES!$Q$2:$Q$1134)),REFERENTES!Q723,\"\")","v":""},{"$f":"REFERENTES!S723","v":0},null,718,0,1131,"X"]
[null,null,null,null,null,null,null,null,null,null,null,{"$f":"IF(ISNUMBER(FIND(\"RES\",REFERENTES!$Q$2:$Q$1134)),REFERENTES!Q724,\"\")","v":""},{"$f":"REFERENTES!S724","v":0},null,719,0,1131,"X"]
[null,null,null,null,null,null,null,null,null,null,null,{"$f":"IF(ISNUMBER(FIND(\"RES\",REFERENTES!$Q$2:$Q$1134)),REFERENTES!Q725,\"\")","v":""},{"$f":"REFERENTES!S725","v":0},null,720,0,1131,"X"]
[null,null,null,null,null,null,null,null,null,null,null,{"$f":"IF(ISNUMBER(FIND(\"RES\",REFERENTES!$Q$2:$Q$1134)),REFERENTES!Q726,\"\")","v":""},{"$f":"REFERENTES!S726","v":0},null,721,0,1131,"X"]
[null,null,null,null,null,null,null,null,null,null,null,{"$f":"IF(ISNUMBER(FIND(\"RES\",REFERENTES!$Q$2:$Q$1134)),REFERENTES!Q727,\"\")","v":""},{"$f":"REFERENTES!S727","v":0},null,722,0,1131,"X"]
[null,null,null,null,null,null,null,null,null,null,null,{"$f":"IF(ISNUMBER(FIND(\"RES\",REFERENTES!$Q$2:$Q$1134)),REFERENTES!Q728,\"\")","v":"RES_MGCG_CT"},{"$f":"REFERENTES!S728","v":0},null,723,"RES_MGCG_CT",723,"X"]
[null,null,null,null,null,null,null,null,null,null,null,{"$f":"IF(ISNUMBER(FIND(\"RES\",REFERENTES!$Q$2:$Q$1134)),REFERENTES!Q729,\"\")","v":""},{"$f":"REFERENTES!S729","v":0},null,724,0,1131,"X"]
[null,null,null,null,null,null,null,null,null,null,null,{"$f":"IF(ISNUMBER(FIND(\"RES\",REFERENTES!$Q$2:$Q$1134)),REFERENTES!Q730,\"\")","v":""},{"$f":"REFERENTES!S730","v":0},null,725,0,1131,"X"]
[null,null,null,null,null,null,null,null,null,null,null,{"$f":"IF(ISNUMBER(FIND(\"RES\",REFERENTES!$Q$2:$Q$1134)),REFERENTES!Q731,\"\")","v":""},{"$f":"REFERENTES!S731","v":0},null,726,0,1131,"X"]
[null,null,null,null,null,null,null,null,null,null,null,{"$f":"IF(ISNUMBER(FIND(\"RES\",REFERENTES!$Q$2:$Q$1134)),REFERENTES!Q732,\"\")","v":""},{"$f":"REFERENTES!S732","v":0},null,727,0,1131,"X"]
[null,null,null,null,null,null,null,null,null,null,null,{"$f":"IF(ISNUMBER(FIND(\"RES\",REFERENTES!$Q$2:$Q$1134)),REFERENTES!Q733,\"\")","v":""},{"$f":"REFERENTES!S733","v":0},null,728,0,1131,"X"]
[null,null,null,null,null,null,null,null,null,null,null,{"$f":"IF(ISNUMBER(FIND(\"RES\",REFERENTES!$Q$2:$Q$1134)),REFERENTES!Q734,\"\")","v":""},{"$f":"REFERENTES!S734","v":0},null,729,0,1131,"X"]
[null,null,null,null,null,null,null,null,null,null,null,{"$f":"IF(ISNUMBER(FIND(\"RES\",REFERENTES!$Q$2:$Q$1134)),REFERENTES!Q735,\"\")","v":""},{"$f":"REFERENTES!S735","v":0},null,730,0,1131,"X"]
[null,null,null,null,null,null,null,null,null,null,null,{"$f":"IF(ISNUMBER(FIND(\"RES\",REFERENTES!$Q$2:$Q$1134)),REFERENTES!Q736,\"\")","v":""},{"$f":"REFERENTES!S736","v":0},null,731,0,1131,"X"]
[null,null,null,null,null,null,null,null,null,null,null,{"$f":"IF(ISNUMBER(FIND(\"RES\",REFERENTES!$Q$2:$Q$1134)),REFERENTES!Q737,\"\")","v":""},{"$f":"REFERENTES!S737","v":0},null,732,0,1131,"X"]
[null,null,null,null,null,null,null,null,null,null,null,{"$f":"IF(ISNUMBER(FIND(\"RES\",REFERENTES!$Q$2:$Q$1134)),REFERENTES!Q738,\"\")","v":""},{"$f":"REFERENTES!S738","v":0},null,733,0,1131,"X"]
[null,null,null,null,null,null,null,null,null,null,null,{"$f":"IF(ISNUMBER(FIND(\"RES\",REFERENTES!$Q$2:$Q$1134)),REFERENTES!Q739,\"\")","v":""},{"$f":"REFERENTES!S739","v":0},null,734,0,1131,"X"]
[null,null,null,null,null,null,null,null,null,null,null,{"$f":"IF(ISNUMBER(FIND(\"RES\",REFERENTES!$Q$2:$Q$1134)),REFERENTES!Q740,\"\")","v":""},{"$f":"REFERENTES!S740","v":0},null,735,0,1131,"X"]
[null,null,null,null,null,null,null,null,null,null,null,{"$f":"IF(ISNUMBER(FIND(\"RES\",REFERENTES!$Q$2:$Q$1134)),REFERENTES!Q741,\"\")","v":""},{"$f":"REFERENTES!S741","v":0},null,736,0,1131,"X"]
[null,null,null,null,null,null,null,null,null,null,null,{"$f":"IF(ISNUMBER(FIND(\"RES\",REFERENTES!$Q$2:$Q$1134)),REFERENTES!Q742,\"\")","v":""},{"$f":"REFERENTES!S742","v":0},null,737,0,1131,"X"]
[null,null,null,null,null,null,null,null,null,null,null,{"$f":"IF(ISNUMBER(FIND(\"RES\",REFERENTES!$Q$2:$Q$1134)),REFERENTES!Q743,\"\")","v":""},{"$f":"REFERENTES!S743","v":0},null,738,0,1131,"X"]
[null,null,null,null,null,null,null,null,null,null,null,{"$f":"IF(ISNUMBER(FIND(\"RES\",REFERENTES!$Q$2:$Q$1134)),REFERENTES!Q744,\"\")","v":""},{"$f":"REFERENTES!S744","v":0},null,739,0,1131,"X"]
[null,null,null,null,null,null,null,null,null,null,null,{"$f":"IF(ISNUMBER(FIND(\"RES\",REFERENTES!$Q$2:$Q$1134)),REFERENTES!Q745,\"\")","v":""},{"$f":"REFERENTES!S745","v":0},null,740,0,1131,"X"]
[null,null,null,null,null,null,null,null,null,null,null,{"$f":"IF(ISNUMBER(FIND(\"RES\",REFERENTES!$Q$2:$Q$1134)),REFERENTES!Q746,\"\")","v":""},{"$f":"REFERENTES!S746","v":0},null,741,0,1131,"X"]
[null,null,null,null,null,null,null,null,null,null,null,{"$f":"IF(ISNUMBER(FIND(\"RES\",REFERENTES!$Q$2:$Q$1134)),REFERENTES!Q747,\"\")","v":""},{"$f":"REFERENTES!S747","v":0},null,742,0,1131,"X"]
[null,null,null,null,null,null,null,null,null,null,null,{"$f":"IF(ISNUMBER(FIND(\"RES\",REFERENTES!$Q$2:$Q$1134)),REFERENTES!Q748,\"\")","v":""},{"$f":"REFERENTES!S748","v":0},null,743,0,1131,"X"]
[null,null,null,null,null,null,null,null,null,null,null,{"$f":"IF(ISNUMBER(FIND(\"RES\",REFERENTES!$Q$2:$Q$1134)),REFERENTES!Q749,\"\")","v":""},{"$f":"REFERENTES!S749","v":0},null,744,0,1131,"X"]
[null,null,null,null,null,null,null,null,null,null,null,{"$f":"IF(ISNUMBER(FIND(\"RES\",REFERENTES!$Q$2:$Q$1134)),REFERENTES!Q750,\"\")","v":""},{"$f":"REFERENTES!S750","v":0},null,745,0,1131,"X"]
[null,null,null,null,null,null,null,null,null,null,null,{"$f":"IF(ISNUMBER(FIND(\"RES\",REFERENTES!$Q$2:$Q$1134)),REFERENTES!Q751,\"\")","v":""},{"$f":"REFERENTES!S751","v":0},null,746,0,1131,"X"]
[null,null,null,null,null,null,null,null,null,null,null,{"$f":"IF(ISNUMBER(FIND(\"RES\",REFERENTES!$Q$2:$Q$1134)),REFERENTES!Q752,\"\")","v":""},{"$f":"REFERENTES!S752","v":0},null,747,0,1131,"X"]
[null,null,null,null,null,null,null,null,null,null,null,{"$f":"IF(ISNUMBER(FIND(\"RES\",REFERENTES!$Q$2:$Q$1134)),REFERENTES!Q753,\"\")","v":""},{"$f":"REFERENTES!S753","v":0},null,748,0,1131,"X"]
[null,null,null,null,null,null,null,null,null,null,null,{"$f":"IF(ISNUMBER(FIND(\"RES\",REFERENTES!$Q$2:$Q$1134)),REFERENTES!Q754,\"\")","v":""},{"$f":"REFERENTES!S754","v":0},null,749,0,1131,"X"]
[null,null,null,null,null,null,null,null,null,null,null,{"$f":"IF(ISNUMBER(FIND(\"RES\",REFERENTES!$Q$2:$Q$1134)),REFERENTES!Q755,\"\")","v":""},{"$f":"REFERENTES!S755","v":0},null,750,0,1131,"X"]
[null,null,null,null,null,null,null,null,null,null,null,{"$f":"IF(ISNUMBER(FIND(\"RES\",REFERENTES!$Q$2:$Q$1134)),REFERENTES!Q756,\"\")","v":""},{"$f":"REFERENTES!S756","v":0},null,751,0,1131,"X"]
[null,null,null,null,null,null,null,null,null,null,null,{"$f":"IF(ISNUMBER(FIND(\"RES\",REFERENTES!$Q$2:$Q$1134)),REFERENTES!Q757,\"\")","v":""},{"$f":"REFERENTES!S757","v":0},null,752,0,1131,"X"]
[null,null,null,null,null,null,null,null,null,null,null,{"$f":"IF(ISNUMBER(FIND(\"RES\",REFERENTES!$Q$2:$Q$1134)),REFERENTES!Q758,\"\")","v":""},{"$f":"REFERENTES!S758","v":0},null,753,0,1131,"X"]
[null,null,null,null,null,null,null,null,null,null,null,{"$f":"IF(ISNUMBER(FIND(\"RES\",REFERENTES!$Q$2:$Q$1134)),REFERENTES!Q759,\"\")","v":""},{"$f":"REFERENTES!S759","v":0},null,754,0,1131,"X"]
[null,null,null,null,null,null,null,null,null,null,null,{"$f":"IF(ISNUMBER(FIND(\"RES\",REFERENTES!$Q$2:$Q$1134)),REFERENTES!Q760,\"\")","v":""},{"$f":"REFERENTES!S760","v":0},null,755,0,1131,"X"]
[null,null,null,null,null,null,null,null,null,null,null,{"$f":"IF(ISNUMBER(FIND(\"RES\",REFERENTES!$Q$2:$Q$1134)),REFERENTES!Q761,\"\")","v":""},{"$f":"REFERENTES!S761","v":0},null,756,0,1131,"X"]
[null,null,null,null,null,null,null,null,null,null,null,{"$f":"IF(ISNUMBER(FIND(\"RES\",REFERENTES!$Q$2:$Q$1134)),REFERENTES!Q762,\"\")","v":""},{"$f":"REFERENTES!S762","v":0},null,757,0,1131,"X"]
[null,null,null,null,null,null,null,null,null,null,null,{"$f":"IF(ISNUMBER(FIND(\"RES\",REFERENTES!$Q$2:$Q$1134)),REFERENTES!Q763,\"\")","v":""},{"$f":"REFERENTES!S763","v":0},null,758,0,1131,"X"]
[null,null,null,null,null,null,null,null,null,null,null,{"$f":"IF(ISNUMBER(FIND(\"RES\",REFERENTES!$Q$2:$Q$1134)),REFERENTES!Q764,\"\")","v":""},{"$f":"REFERENTES!S764","v":0},null,759,0,1131,"X"]
[null,null,null,null,null,null,null,null,null,null,null,{"$f":"IF(ISNUMBER(FIND(\"RES\",REFERENTES!$Q$2:$Q$1134)),REFERENTES!Q765,\"\")","v":""},{"$f":"REFERENTES!S765","v":0},null,760,0,1131,"X"]
[null,null,null,null,null,null,null,null,null,null,null,{"$f":"IF(ISNUMBER(FIND(\"RES\",REFERENTES!$Q$2:$Q$1134)),REFERENTES!Q766,\"\")","v":""},{"$f":"REFERENTES!S766","v":0},null,761,0,1131,"X"]
[null,null,null,null,null,null,null,null,null,null,null,{"$f":"IF(ISNUMBER(FIND(\"RES\",REFERENTES!$Q$2:$Q$1134)),REFERENTES!Q767,\"\")","v":""},{"$f":"REFERENTES!S767","v":0},null,762,0,1131,"X"]
[null,null,null,null,null,null,null,null,null,null,null,{"$f":"IF(ISNUMBER(FIND(\"RES\",REFERENTES!$Q$2:$Q$1134)),REFERENTES!Q768,\"\")","v":""},{"$f":"REFERENTES!S768","v":0},null,763,0,1131,"X"]
[null,null,null,null,null,null,null,null,null,null,null,{"$f":"IF(ISNUMBER(FIND(\"RES\",REFERENTES!$Q$2:$Q$1134)),REFERENTES!Q769,\"\")","v":""},{"$f":"REFERENTES!S769","v":0},null,764,0,1131,"X"]
[null,null,null,null,null,null,null,null,null,null,null,{"$f":"IF(ISNUMBER(FIND(\"RES\",REFERENTES!$Q$2:$Q$1134)),REFERENTES!Q770,\"\")","v":""},{"$f":"REFERENTES!S770","v":0},null,765,0,1131,"X"]
[null,null,null,null,null,null,null,null,null,null,null,{"$f":"IF(ISNUMBER(FIND(\"RES\",REFERENTES!$Q$2:$Q$1134)),REFERENTES!Q771,\"\")","v":""},{"$f":"REFERENTES!S771","v":0},null,766,0,1131,"X"]
[null,null,null,null,null,null,null,null,null,null,null,{"$f":"IF(ISNUMBER(FIND(\"RES\",REFERENTES!$Q$2:$Q$1134)),REFERENTES!Q772,\"\")","v":""},{"$f":"REFERENTES!S772","v":0},null,767,0,1131,"X"]
[null,null,null,null,null,null,null,null,null,null,null,{"$f":"IF(ISNUMBER(FIND(\"RES\",REFERENTES!$Q$2:$Q$1134)),REFERENTES!Q773,\"\")","v":"RES_MGTBRES_SD"},{"$f":"REFERENTES!S773","v":0},null,768,"RES_MGTBRES_SD",768,"X"]
[null,null,null,null,null,null,null,null,null,null,null,{"$f":"IF(ISNUMBER(FIND(\"RES\",REFERENTES!$Q$2:$Q$1134)),REFERENTES!Q774,\"\")","v":"RES_MGTBRES_MR"},{"$f":"REFERENTES!S774","v":0},null,769,"RES_MGTBRES_MR",{"$f":"IF(P774=0,MAX($O$6:$O$1135)+1,O774)","v":769},{"$f":"IFERROR(VLOOKUP(SMALL($Q$6:$Q$1135,O774),$O$6:$P$1135,2,FALSE),\"X\")","v":"X"}]
[null,null,null,null,null,null,null,null,null,null,null,{"$f":"IF(ISNUMBER(FIND(\"RES\",REFERENTES!$Q$2:$Q$1134)),REFERENTES!Q775,\"\")","v":""},{"$f":"REFERENTES!S775","v":0},null,770,{"$f":"IF(L775=\"\",0,L775)","v":0},1131,"X"]
[null,null,null,null,null,null,null,null,null,null,null,{"$f":"IF(ISNUMBER(FIND(\"RES\",REFERENTES!$Q$2:$Q$1134)),REFERENTES!Q776,\"\")","v":""},{"$f":"REFERENTES!S776","v":0},null,771,0,1131,"X"]
[null,null,null,null,null,null,null,null,null,null,null,{"$f":"IF(ISNUMBER(FIND(\"RES\",REFERENTES!$Q$2:$Q$1134)),REFERENTES!Q777,\"\")","v":""},{"$f":"REFERENTES!S777","v":0},null,772,0,1131,"X"]
[null,null,null,null,null,null,null,null,null,null,null,{"$f":"IF(ISNUMBER(FIND(\"RES\",REFERENTES!$Q$2:$Q$1134)),REFERENTES!Q778,\"\")","v":""},{"$f":"REFERENTES!S778","v":0},null,773,0,1131,"X"]
[null,null,null,null,null,null,null,null,null,null,null,{"$f":"IF(ISNUMBER(FIND(\"RES\",REFERENTES!$Q$2:$Q$1134)),REFERENTES!Q779,\"\")","v":""},{"$f":"REFERENTES!S779","v":0},null,774,0,1131,"X"]
[null,null,null,null,null,null,null,null,null,null,null,{"$f":"IF(ISNUMBER(FIND(\"RES\",REFERENTES!$Q$2:$Q$1134)),REFERENTES!Q780,\"\")","v":""},{"$f":"REFERENTES!S780","v":0},null,775,0,1131,"X"]
[null,null,null,null,null,null,null,null,null,null,null,{"$f":"IF(ISNUMBER(FIND(\"RES\",REFERENTES!$Q$2:$Q$1134)),REFERENTES!Q781,\"\")","v":""},{"$f":"REFERENTES!S781","v":0},null,776,0,1131,"X"]
[null,null,null,null,null,null,null,null,null,null,null,{"$f":"IF(ISNUMBER(FIND(\"RES\",REFERENTES!$Q$2:$Q$1134)),REFERENTES!Q782,\"\")","v":""},{"$f":"REFERENTES!S782","v":0},null,777,0,1131,"X"]
[null,null,null,null,null,null,null,null,null,null,null,{"$f":"IF(ISNUMBER(FIND(\"RES\",REFERENTES!$Q$2:$Q$1134)),REFERENTES!Q783,\"\")","v":""},{"$f":"REFERENTES!S783","v":0},null,778,0,1131,"X"]
[null,null,null,null,null,null,null,null,null,null,null,{"$f":"IF(ISNUMBER(FIND(\"RES\",REFERENTES!$Q$2:$Q$1134)),REFERENTES!Q784,\"\")","v":""},{"$f":"REFERENTES!S784","v":0},null,779,0,1131,"X"]
[null,null,null,null,null,null,null,null,null,null,null,{"$f":"IF(ISNUMBER(FIND(\"RES\",REFERENTES!$Q$2:$Q$1134)),REFERENTES!Q785,\"\")","v":""},{"$f":"REFERENTES!S785","v":0},null,780,0,1131,"X"]
[null,null,null,null,null,null,null,null,null,null,null,{"$f":"IF(ISNUMBER(FIND(\"RES\",REFERENTES!$Q$2:$Q$1134)),REFERENTES!Q786,\"\")","v":""},{"$f":"REFERENTES!S786","v":0},null,781,0,1131,"X"]
[null,null,null,null,null,null,null,null,null,null,null,{"$f":"IF(ISNUMBER(FIND(\"RES\",REFERENTES!$Q$2:$Q$1134)),REFERENTES!Q787,\"\")","v":""},{"$f":"REFERENTES!S787","v":0},null,782,0,1131,"X"]
[null,null,null,null,null,null,null,null,null,null,null,{"$f":"IF(ISNUMBER(FIND(\"RES\",REFERENTES!$Q$2:$Q$1134)),REFERENTES!Q788,\"\")","v":""},{"$f":"REFERENTES!S788","v":0},null,783,0,1131,"X"]
[null,null,null,null,null,null,null,null,null,null,null,{"$f":"IF(ISNUMBER(FIND(\"RES\",REFERENTES!$Q$2:$Q$1134)),REFERENTES!Q789,\"\")","v":""},{"$f":"REFERENTES!S789","v":0},null,784,0,1131,"X"]
[null,null,null,null,null,null,null,null,null,null,null,{"$f":"IF(ISNUMBER(FIND(\"RES\",REFERENTES!$Q$2:$Q$1134)),REFERENTES!Q790,\"\")","v":""},{"$f":"REFERENTES!S790","v":0},null,785,0,1131,"X"]
[null,null,null,null,null,null,null,null,null,null,null,{"$f":"IF(ISNUMBER(FIND(\"RES\",REFERENTES!$Q$2:$Q$1134)),REFERENTES!Q791,\"\")","v":""},{"$f":"REFERENTES!S791","v":0},null,786,0,1131,"X"]
[null,null,null,null,null,null,null,null,null,null,null,{"$f":"IF(ISNUMBER(FIND(\"RES\",REFERENTES!$Q$2:$Q$1134)),REFERENTES!Q792,\"\")","v":""},{"$f":"REFERENTES!S792","v":0},null,787,0,1131,"X"]
[null,null,null,null,null,null,null,null,null,null,null,{"$f":"IF(ISNUMBER(FIND(\"RES\",REFERENTES!$Q$2:$Q$1134)),REFERENTES!Q793,\"\")","v":""},{"$f":"REFERENTES!S793","v":0},null,788,0,1131,"X"]
[null,null,null,null,null,null,null,null,null,null,null,{"$f":"IF(ISNUMBER(FIND(\"RES\",REFERENTES!$Q$2:$Q$1134)),REFERENTES!Q794,\"\")","v":""},{"$f":"REFERENTES!S794","v":0},null,789,0,1131,"X"]
[null,null,null,null,null,null,null,null,null,null,null,{"$f":"IF(ISNUMBER(FIND(\"RES\",REFERENTES!$Q$2:$Q$1134)),REFERENTES!Q795,\"\")","v":""},{"$f":"REFERENTES!S795","v":0},null,790,0,1131,"X"]
[null,null,null,null,null,null,null,null,null,null,null,{"$f":"IF(ISNUMBER(FIND(\"RES\",REFERENTES!$Q$2:$Q$1134)),REFERENTES!Q796,\"\")","v":""},{"$f":"REFERENTES!S796","v":0},null,791,0,1131,"X"]
[null,null,null,null,null,null,null,null,null,null,null,{"$f":"IF(ISNUMBER(FIND(\"RES\",REFERENTES!$Q$2:$Q$1134)),REFERENTES!Q797,\"\")","v":""},{"$f":"REFERENTES!S797","v":0},null,792,0,1131,"X"]
[null,null,null,null,null,null,null,null,null,null,null,{"$f":"IF(ISNUMBER(FIND(\"RES\",REFERENTES!$Q$2:$Q$1134)),REFERENTES!Q798,\"\")","v":""},{"$f":"REFERENTES!S798","v":0},null,793,0,1131,"X"]
[null,null,null,null,null,null,null,null,null,null,null,{"$f":"IF(ISNUMBER(FIND(\"RES\",REFERENTES!$Q$2:$Q$1134)),REFERENTES!Q799,\"\")","v":""},{"$f":"REFERENTES!S799","v":0},null,794,0,1131,"X"]
[null,null,null,null,null,null,null,null,null,null,null,{"$f":"IF(ISNUMBER(FIND(\"RES\",REFERENTES!$Q$2:$Q$1134)),REFERENTES!Q800,\"\")","v":""},{"$f":"REFERENTES!S800","v":0},null,795,0,1131,"X"]
[null,null,null,null,null,null,null,null,null,null,null,{"$f":"IF(ISNUMBER(FIND(\"RES\",REFERENTES!$Q$2:$Q$1134)),REFERENTES!Q801,\"\")","v":""},{"$f":"REFERENTES!S801","v":0},null,796,0,1131,"X"]
[null,null,null,null,null,null,null,null,null,null,null,{"$f":"IF(ISNUMBER(FIND(\"RES\",REFERENTES!$Q$2:$Q$1134)),REFERENTES!Q802,\"\")","v":""},{"$f":"REFERENTES!S802","v":0},null,797,0,1131,"X"]
[null,null,null,null,null,null,null,null,null,null,null,{"$f":"IF(ISNUMBER(FIND(\"RES\",REFERENTES!$Q$2:$Q$1134)),REFERENTES!Q803,\"\")","v":""},{"$f":"REFERENTES!S803","v":0},null,798,0,1131,"X"]
[null,null,null,null,null,null,null,null,null,null,null,{"$f":"IF(ISNUMBER(FIND(\"RES\",REFERENTES!$Q$2:$Q$1134)),REFERENTES!Q804,\"\")","v":""},{"$f":"REFERENTES!S804","v":0},null,799,0,1131,"X"]
[null,null,null,null,null,null,null,null,null,null,null,{"$f":"IF(ISNUMBER(FIND(\"RES\",REFERENTES!$Q$2:$Q$1134)),REFERENTES!Q805,\"\")","v":""},{"$f":"REFERENTES!S805","v":0},null,800,0,1131,"X"]
[null,null,null,null,null,null,null,null,null,null,null,{"$f":"IF(ISNUMBER(FIND(\"RES\",REFERENTES!$Q$2:$Q$1134)),REFERENTES!Q806,\"\")","v":""},{"$f":"REFERENTES!S806","v":0},null,801,0,1131,"X"]
[null,null,null,null,null,null,null,null,null,null,null,{"$f":"IF(ISNUMBER(FIND(\"RES\",REFERENTES!$Q$2:$Q$1134)),REFERENTES!Q807,\"\")","v":""},{"$f":"REFERENTES!S807","v":0},null,802,0,1131,"X"]
[null,null,null,null,null,null,null,null,null,null,null,{"$f":"IF(ISNUMBER(FIND(\"RES\",REFERENTES!$Q$2:$Q$1134)),REFERENTES!Q808,\"\")","v":"RES_SPSC_JM-B"},{"$f":"REFERENTES!S808","v":0},null,803,"RES_SPSC_JM-B",803,"X"]
[null,null,null,null,null,null,null,null,null,null,null,{"$f":"IF(ISNUMBER(FIND(\"RES\",REFERENTES!$Q$2:$Q$1134)),REFERENTES!Q809,\"\")","v":"RES_SPSC_JM-C"},{"$f":"REFERENTES!S809","v":0},null,804,"RES_SPSC_JM-C",804,"X"]
[null,null,null,null,null,null,null,null,null,null,null,{"$f":"IF(ISNUMBER(FIND(\"RES\",REFERENTES!$Q$2:$Q$1134)),REFERENTES!Q810,\"\")","v":"RES_SPSC_JP"},{"$f":"REFERENTES!S810","v":0},null,805,"RES_SPSC_JP",805,"X"]
[null,null,null,null,null,null,null,null,null,null,null,{"$f":"IF(ISNUMBER(FIND(\"RES\",REFERENTES!$Q$2:$Q$1134)),REFERENTES!Q811,\"\")","v":""},{"$f":"REFERENTES!S811","v":0},null,806,0,1131,"X"]
[null,null,null,null,null,null,null,null,null,null,null,{"$f":"IF(ISNUMBER(FIND(\"RES\",REFERENTES!$Q$2:$Q$1134)),REFERENTES!Q812,\"\")","v":""},{"$f":"REFERENTES!S812","v":0},null,807,0,1131,"X"]
[null,null,null,null,null,null,null,null,null,null,null,{"$f":"IF(ISNUMBER(FIND(\"RES\",REFERENTES!$Q$2:$Q$1134)),REFERENTES!Q813,\"\")","v":""},{"$f":"REFERENTES!S813","v":0},null,808,0,1131,"X"]
[null,null,null,null,null,null,null,null,null,null,null,{"$f":"IF(ISNUMBER(FIND(\"RES\",REFERENTES!$Q$2:$Q$1134)),REFERENTES!Q814,\"\")","v":""},{"$f":"REFERENTES!S814","v":0},null,809,0,1131,"X"]
[null,null,null,null,null,null,null,null,null,null,null,{"$f":"IF(ISNUMBER(FIND(\"RES\",REFERENTES!$Q$2:$Q$1134)),REFERENTES!Q815,\"\")","v":""},{"$f":"REFERENTES!S815","v":0},null,810,0,1131,"X"]
[null,null,null,null,null,null,null,null,null,null,null,{"$f":"IF(ISNUMBER(FIND(\"RES\",REFERENTES!$Q$2:$Q$1134)),REFERENTES!Q816,\"\")","v":""},{"$f":"REFERENTES!S816","v":0},null,811,0,1131,"X"]
[null,null,null,null,null,null,null,null,null,null,null,{"$f":"IF(ISNUMBER(FIND(\"RES\",REFERENTES!$Q$2:$Q$1134)),REFERENTES!Q817,\"\")","v":""},{"$f":"REFERENTES!S817","v":0},null,812,0,1131,"X"]
[null,null,null,null,null,null,null,null,null,null,null,{"$f":"IF(ISNUMBER(FIND(\"RES\",REFERENTES!$Q$2:$Q$1134)),REFERENTES!Q818,\"\")","v":""},{"$f":"REFERENTES!S818","v":0},null,813,0,1131,"X"]
[null,null,null,null,null,null,null,null,null,null,null,{"$f":"IF(ISNUMBER(FIND(\"RES\",REFERENTES!$Q$2:$Q$1134)),REFERENTES!Q819,\"\")","v":""},{"$f":"REFERENTES!S819","v":0},null,814,0,1131,"X"]
[null,null,null,null,null,null,null,null,null,null,null,{"$f":"IF(ISNUMBER(FIND(\"RES\",REFERENTES!$Q$2:$Q$1134)),REFERENTES!Q820,\"\")","v":""},{"$f":"REFERENTES!S820","v":0},null,815,0,1131,"X"]
[null,null,null,null,null,null,null,null,null,null,null,{"$f":"IF(ISNUMBER(FIND(\"RES\",REFERENTES!$Q$2:$Q$1134)),REFERENTES!Q821,\"\")","v":""},{"$f":"REFERENTES!S821","v":0},null,816,0,1131,"X"]
[null,null,null,null,null,null,null,null,null,null,null,{"$f":"IF(ISNUMBER(FIND(\"RES\",REFERENTES!$Q$2:$Q$1134)),REFERENTES!Q822,\"\")","v":""},{"$f":"REFERENTES!S822","v":0},null,817,0,1131,"X"]
[null,null,null,null,null,null,null,null,null,null,null,{"$f":"IF(ISNUMBER(FIND(\"RES\",REFERENTES!$Q$2:$Q$1134)),REFERENTES!Q823,\"\")","v":""},{"$f":"REFERENTES!S823","v":0},null,818,0,1131,"X"]
[null,null,null,null,null,null,null,null,null,null,null,{"$f":"IF(ISNUMBER(FIND(\"RES\",REFERENTES!$Q$2:$Q$1134)),REFERENTES!Q824,\"\")","v":""},{"$f":"REFERENTES!S824","v":0},null,819,0,1131,"X"]
[null,null,null,null,null,null,null,null,null,null,null,{"$f":"IF(ISNUMBER(FIND(\"RES\",REFERENTES!$Q$2:$Q$1134)),REFERENTES!Q825,\"\")","v":""},{"$f":"REFERENTES!S825","v":0},null,820,0,1131,"X"]
[null,null,null,null,null,null,null,null,null,null,null,{"$f":"IF(ISNUMBER(FIND(\"RES\",REFERENTES!$Q$2:$Q$1134)),REFERENTES!Q826,\"\")","v":""},{"$f":"REFERENTES!S826","v":0},null,821,0,1131,"X"]
[null,null,null,null,null,null,null,null,null,null,null,{"$f":"IF(ISNUMBER(FIND(\"RES\",REFERENTES!$Q$2:$Q$1134)),REFERENTES!Q827,\"\")","v":""},{"$f":"REFERENTES!S827","v":0},null,822,0,1131,"X"]
[null,null,null,null,null,null,null,null,null,null,null,{"$f":"IF(ISNUMBER(FIND(\"RES\",REFERENTES!$Q$2:$Q$1134)),REFERENTES!Q828,\"\")","v":""},{"$f":"REFERENTES!S828","v":0},null,823,0,1131,"X"]
[null,null,null,null,null,null,null,null,null,null,null,{"$f":"IF(ISNUMBER(FIND(\"RES\",REFERENTES!$Q$2:$Q$1134)),REFERENTES!Q829,\"\")","v":""},{"$f":"REFERENTES!S829","v":0},null,824,0,1131,"X"]
[null,null,null,null,null,null,null,null,null,null,null,{"$f":"IF(ISNUMBER(FIND(\"RES\",REFERENTES!$Q$2:$Q$1134)),REFERENTES!Q830,\"\")","v":""},{"$f":"REFERENTES!S830","v":0},null,825,0,1131,"X"]
[null,null,null,null,null,null,null,null,null,null,null,{"$f":"IF(ISNUMBER(FIND(\"RES\",REFERENTES!$Q$2:$Q$1134)),REFERENTES!Q831,\"\")","v":""},{"$f":"REFERENTES!S831","v":0},null,826,0,1131,"X"]
[null,null,null,null,null,null,null,null,null,null,null,{"$f":"IF(ISNUMBER(FIND(\"RES\",REFERENTES!$Q$2:$Q$1134)),REFERENTES!Q832,\"\")","v":""},{"$f":"REFERENTES!S832","v":0},null,827,0,1131,"X"]
[null,null,null,null,null,null,null,null,null,null,null,{"$f":"IF(ISNUMBER(FIND(\"RES\",REFERENTES!$Q$2:$Q$1134)),REFERENTES!Q833,\"\")","v":""},{"$f":"REFERENTES!S833","v":0},null,828,0,1131,"X"]
[null,null,null,null,null,null,null,null,null,null,null,{"$f":"IF(ISNUMBER(FIND(\"RES\",REFERENTES!$Q$2:$Q$1134)),REFERENTES!Q834,\"\")","v":""},{"$f":"REFERENTES!S834","v":0},null,829,0,1131,"X"]
[null,null,null,null,null,null,null,null,null,null,null,{"$f":"IF(ISNUMBER(FIND(\"RES\",REFERENTES!$Q$2:$Q$1134)),REFERENTES!Q835,\"\")","v":""},{"$f":"REFERENTES!S835","v":0},null,830,0,1131,"X"]
[null,null,null,null,null,null,null,null,null,null,null,{"$f":"IF(ISNUMBER(FIND(\"RES\",REFERENTES!$Q$2:$Q$1134)),REFERENTES!Q836,\"\")","v":""},{"$f":"REFERENTES!S836","v":0},null,831,0,1131,"X"]
[null,null,null,null,null,null,null,null,null,null,null,{"$f":"IF(ISNUMBER(FIND(\"RES\",REFERENTES!$Q$2:$Q$1134)),REFERENTES!Q837,\"\")","v":""},{"$f":"REFERENTES!S837","v":0},null,832,0,1131,"X"]
[null,null,null,null,null,null,null,null,null,null,null,{"$f":"IF(ISNUMBER(FIND(\"RES\",REFERENTES!$Q$2:$Q$1134)),REFERENTES!Q838,\"\")","v":""},{"$f":"REFERENTES!S838","v":0},null,833,0,{"$f":"IF(P838=0,MAX($O$6:$O$1135)+1,O838)","v":1131},{"$f":"IFERROR(VLOOKUP(SMALL($Q$6:$Q$1135,O838),$O$6:$P$1135,2,FALSE),\"X\")","v":"X"}]
[null,null,null,null,null,null,null,null,null,null,null,{"$f":"IF(ISNUMBER(FIND(\"RES\",REFERENTES!$Q$2:$Q$1134)),REFERENTES!Q839,\"\")","v":""},{"$f":"REFERENTES!S839","v":0},null,834,{"$f":"IF(L839=\"\",0,L839)","v":0},1131,"X"]
[null,null,null,null,null,null,null,null,null,null,null,{"$f":"IF(ISNUMBER(FIND(\"RES\",REFERENTES!$Q$2:$Q$1134)),REFERENTES!Q840,\"\")","v":""},{"$f":"REFERENTES!S840","v":0},null,835,0,1131,"X"]
[null,null,null,null,null,null,null,null,null,null,null,{"$f":"IF(ISNUMBER(FIND(\"RES\",REFERENTES!$Q$2:$Q$1134)),REFERENTES!Q841,\"\")","v":""},{"$f":"REFERENTES!S841","v":0},null,836,0,1131,"X"]
[null,null,null,null,null,null,null,null,null,null,null,{"$f":"IF(ISNUMBER(FIND(\"RES\",REFERENTES!$Q$2:$Q$1134)),REFERENTES!Q842,\"\")","v":""},{"$f":"REFERENTES!S842","v":0},null,837,0,1131,"X"]
[null,null,null,null,null,null,null,null,null,null,null,{"$f":"IF(ISNUMBER(FIND(\"RES\",REFERENTES!$Q$2:$Q$1134)),REFERENTES!Q843,\"\")","v":""},{"$f":"REFERENTES!S843","v":0},null,838,0,1131,"X"]
[null,null,null,null,null,null,null,null,null,null,null,{"$f":"IF(ISNUMBER(FIND(\"RES\",REFERENTES!$Q$2:$Q$1134)),REFERENTES!Q844,\"\")","v":""},{"$f":"REFERENTES!S844","v":0},null,839,0,1131,"X"]
[null,null,null,null,null,null,null,null,null,null,null,{"$f":"IF(ISNUMBER(FIND(\"RES\",REFERENTES!$Q$2:$Q$1134)),REFERENTES!Q845,\"\")","v":""},{"$f":"REFERENTES!S845","v":0},null,840,0,1131,"X"]
[null,null,null,null,null,null,null,null,null,null,null,{"$f":"IF(ISNUMBER(FIND(\"RES\",REFERENTES!$Q$2:$Q$1134)),REFERENTES!Q846,\"\")","v":"RES_SPSC_MZ-P"},{"$f":"REFERENTES!S846","v":0},null,841,"RES_SPSC_MZ-P",841,"X"]
[null,null,null,null,null,null,null,null,null,null,null,{"$f":"IF(ISNUMBER(FIND(\"RES\",REFERENTES!$Q$2:$Q$1134)),REFERENTES!Q847,\"\")","v":""},{"$f":"REFERENTES!S847","v":0},null,842,0,1131,"X"]
[null,null,null,null,null,null,null,null,null,null,null,{"$f":"IF(ISNUMBER(FIND(\"RES\",REFERENTES!$Q$2:$Q$1134)),REFERENTES!Q848,\"\")","v":""},{"$f":"REFERENTES!S848","v":0},null,843,0,1131,"X"]
[null,null,null,null,null,null,null,null,null,null,null,{"$f":"IF(ISNUMBER(FIND(\"RES\",REFERENTES!$Q$2:$Q$1134)),REFERENTES!Q849,\"\")","v":""},{"$f":"REFERENTES!S849","v":0},null,844,0,1131,"X"]
[null,null,null,null,null,null,null,null,null,null,null,{"$f":"IF(ISNUMBER(FIND(\"RES\",REFERENTES!$Q$2:$Q$1134)),REFERENTES!Q850,\"\")","v":""},{"$f":"REFERENTES!S850","v":0},null,845,0,1131,"X"]
[null,null,null,null,null,null,null,null,null,null,null,{"$f":"IF(ISNUMBER(FIND(\"RES\",REFERENTES!$Q$2:$Q$1134)),REFERENTES!Q851,\"\")","v":""},{"$f":"REFERENTES!S851","v":0},null,846,0,1131,"X"]
[null,null,null,null,null,null,null,null,null,null,null,{"$f":"IF(ISNUMBER(FIND(\"RES\",REFERENTES!$Q$2:$Q$1134)),REFERENTES!Q852,\"\")","v":""},{"$f":"REFERENTES!S852","v":0},null,847,0,1131,"X"]
[null,null,null,null,null,null,null,null,null,null,null,{"$f":"IF(ISNUMBER(FIND(\"RES\",REFERENTES!$Q$2:$Q$1134)),REFERENTES!Q853,\"\")","v":"RES_SPSC_OT-B"},{"$f":"REFERENTES!S853","v":0},null,848,"RES_SPSC_OT-B",848,"X"]
[null,null,null,null,null,null,null,null,null,null,null,{"$f":"IF(ISNUMBER(FIND(\"RES\",REFERENTES!$Q$2:$Q$1134)),REFERENTES!Q854,\"\")","v":"RES_SPSC_OT-C"},{"$f":"REFERENTES!S854","v":0},null,849,"RES_SPSC_OT-C",849,"X"]
[null,null,null,null,null,null,null,null,null,null,null,{"$f":"IF(ISNUMBER(FIND(\"RES\",REFERENTES!$Q$2:$Q$1134)),REFERENTES!Q855,\"\")","v":""},{"$f":"REFERENTES!S855","v":0},null,850,0,1131,"X"]
[null,null,null,null,null,null,null,null,null,null,null,{"$f":"IF(ISNUMBER(FIND(\"RES\",REFERENTES!$Q$2:$Q$1134)),REFERENTES!Q856,\"\")","v":""},{"$f":"REFERENTES!S856","v":0},null,851,0,1131,"X"]
[null,null,null,null,null,null,null,null,null,null,null,{"$f":"IF(ISNUMBER(FIND(\"RES\",REFERENTES!$Q$2:$Q$1134)),REFERENTES!Q857,\"\")","v":""},{"$f":"REFERENTES!S857","v":0},null,852,0,1131,"X"]
[null,null,null,null,null,null,null,null,null,null,null,{"$f":"IF(ISNUMBER(FIND(\"RES\",REFERENTES!$Q$2:$Q$1134)),REFERENTES!Q858,\"\")","v":""},{"$f":"REFERENTES!S858","v":0},null,853,0,1131,"X"]
[null,null,null,null,null,null,null,null,null,null,null,{"$f":"IF(ISNUMBER(FIND(\"RES\",REFERENTES!$Q$2:$Q$1134)),REFERENTES!Q859,\"\")","v":""},{"$f":"REFERENTES!S859","v":0},null,854,0,1131,"X"]
[null,null,null,null,null,null,null,null,null,null,null,{"$f":"IF(ISNUMBER(FIND(\"RES\",REFERENTES!$Q$2:$Q$1134)),REFERENTES!Q860,\"\")","v":""},{"$f":"REFERENTES!S860","v":0},null,855,0,1131,"X"]
[null,null,null,null,null,null,null,null,null,null,null,{"$f":"IF(ISNUMBER(FIND(\"RES\",REFERENTES!$Q$2:$Q$1134)),REFERENTES!Q861,\"\")","v":""},{"$f":"REFERENTES!S861","v":0},null,856,0,1131,"X"]
[null,null,null,null,null,null,null,null,null,null,null,{"$f":"IF(ISNUMBER(FIND(\"RES\",REFERENTES!$Q$2:$Q$1134)),REFERENTES!Q862,\"\")","v":""},{"$f":"REFERENTES!S862","v":0},null,857,0,1131,"X"]
[null,null,null,null,null,null,null,null,null,null,null,{"$f":"IF(ISNUMBER(FIND(\"RES\",REFERENTES!$Q$2:$Q$1134)),REFERENTES!Q863,\"\")","v":""},{"$f":"REFERENTES!S863","v":0},null,858,0,1131,"X"]
[null,null,null,null,null,null,null,null,null,null,null,{"$f":"IF(ISNUMBER(FIND(\"RES\",REFERENTES!$Q$2:$Q$1134)),REFERENTES!Q864,\"\")","v":""},{"$f":"REFERENTES!S864","v":0},null,859,0,1131,"X"]
[null,null,null,null,null,null,null,null,null,null,null,{"$f":"IF(ISNUMBER(FIND(\"RES\",REFERENTES!$Q$2:$Q$1134)),REFERENTES!Q865,\"\")","v":""},{"$f":"REFERENTES!S865","v":0},null,860,0,1131,"X"]
[null,null,null,null,null,null,null,null,null,null,null,{"$f":"IF(ISNUMBER(FIND(\"RES\",REFERENTES!$Q$2:$Q$1134)),REFERENTES!Q866,\"\")","v":""},{"$f":"REFERENTES!S866","v":0},null,861,0,1131,"X"]
[null,null,null,null,null,null,null,null,null,null,null,{"$f":"IF(ISNUMBER(FIND(\"RES\",REFERENTES!$Q$2:$Q$1134)),REFERENTES!Q867,\"\")","v":""},{"$f":"REFERENTES!S867","v":0},null,862,0,1131,"X"]
[null,null,null,null,null,null,null,null,null,null,null,{"$f":"IF(ISNUMBER(FIND(\"RES\",REFERENTES!$Q$2:$Q$1134)),REFERENTES!Q868,\"\")","v":""},{"$f":"REFERENTES!S868","v":0},null,863,0,1131,"X"]
[null,null,null,null,null,null,null,null,null,null,null,{"$f":"IF(ISNUMBER(FIND(\"RES\",REFERENTES!$Q$2:$Q$1134)),REFERENTES!Q869,\"\")","v":""},{"$f":"REFERENTES!S869","v":0},null,864,0,1131,"X"]
[null,null,null,null,null,null,null,null,null,null,null,{"$f":"IF(ISNUMBER(FIND(\"RES\",REFERENTES!$Q$2:$Q$1134)),REFERENTES!Q870,\"\")","v":""},{"$f":"REFERENTES!S870","v":0},null,865,0,1131,"X"]
[null,null,null,null,null,null,null,null,null,null,null,{"$f":"IF(ISNUMBER(FIND(\"RES\",REFERENTES!$Q$2:$Q$1134)),REFERENTES!Q871,\"\")","v":""},{"$f":"REFERENTES!S871","v":0},null,866,0,1131,"X"]
[null,null,null,null,null,null,null,null,null,null,null,{"$f":"IF(ISNUMBER(FIND(\"RES\",REFERENTES!$Q$2:$Q$1134)),REFERENTES!Q872,\"\")","v":""},{"$f":"REFERENTES!S872","v":0},null,867,0,1131,"X"]
[null,null,null,null,null,null,null,null,null,null,null,{"$f":"IF(ISNUMBER(FIND(\"RES\",REFERENTES!$Q$2:$Q$1134)),REFERENTES!Q873,\"\")","v":""},{"$f":"REFERENTES!S873","v":0},null,868,0,1131,"X"]
[null,null,null,null,null,null,null,null,null,null,null,{"$f":"IF(ISNUMBER(FIND(\"RES\",REFERENTES!$Q$2:$Q$1134)),REFERENTES!Q874,\"\")","v":""},{"$f":"REFERENTES!S874","v":0},null,869,0,1131,"X"]
[null,null,null,null,null,null,null,null,null,null,null,{"$f":"IF(ISNUMBER(FIND(\"RES\",REFERENTES!$Q$2:$Q$1134)),REFERENTES!Q875,\"\")","v":""},{"$f":"REFERENTES!S875","v":0},null,870,0,1131,"X"]
[null,null,null,null,null,null,null,null,null,null,null,{"$f":"IF(ISNUMBER(FIND(\"RES\",REFERENTES!$Q$2:$Q$1134)),REFERENTES!Q876,\"\")","v":""},{"$f":"REFERENTES!S876","v":0},null,871,0,1131,"X"]
[null,null,null,null,null,null,null,null,null,null,null,{"$f":"IF(ISNUMBER(FIND(\"RES\",REFERENTES!$Q$2:$Q$1134)),REFERENTES!Q877,\"\")","v":""},{"$f":"REFERENTES!S877","v":0},null,872,0,1131,"X"]
[null,null,null,null,null,null,null,null,null,null,null,{"$f":"IF(ISNUMBER(FIND(\"RES\",REFERENTES!$Q$2:$Q$1134)),REFERENTES!Q878,\"\")","v":""},{"$f":"REFERENTES!S878","v":0},null,873,0,1131,"X"]
[null,null,null,null,null,null,null,null,null,null,null,{"$f":"IF(ISNUMBER(FIND(\"RES\",REFERENTES!$Q$2:$Q$1134)),REFERENTES!Q879,\"\")","v":""},{"$f":"REFERENTES!S879","v":0},null,874,0,1131,"X"]
[null,null,null,null,null,null,null,null,null,null,null,{"$f":"IF(ISNUMBER(FIND(\"RES\",REFERENTES!$Q$2:$Q$1134)),REFERENTES!Q880,\"\")","v":""},{"$f":"REFERENTES!S880","v":0},null,875,0,1131,"X"]
[null,null,null,null,null,null,null,null,null,null,null,{"$f":"IF(ISNUMBER(FIND(\"RES\",REFERENTES!$Q$2:$Q$1134)),REFERENTES!Q881,\"\")","v":""},{"$f":"REFERENTES!S881","v":0},null,876,0,1131,"X"]
[null,null,null,null,null,null,null,null,null,null,null,{"$f":"IF(ISNUMBER(FIND(\"RES\",REFERENTES!$Q$2:$Q$1134)),REFERENTES!Q882,\"\")","v":""},{"$f":"REFERENTES!S882","v":0},null,877,0,1131,"X"]
[null,null,null,null,null,null,null,null,null,null,null,{"$f":"IF(ISNUMBER(FIND(\"RES\",REFERENTES!$Q$2:$Q$1134)),REFERENTES!Q883,\"\")","v":""},{"$f":"REFERENTES!S883","v":0},null,878,0,1131,"X"]
[null,null,null,null,null,null,null,null,null,null,null,{"$f":"IF(ISNUMBER(FIND(\"RES\",REFERENTES!$Q$2:$Q$1134)),REFERENTES!Q884,\"\")","v":""},{"$f":"REFERENTES!S884","v":0},null,879,0,1131,"X"]
[null,null,null,null,null,null,null,null,null,null,null,{"$f":"IF(ISNUMBER(FIND(\"RES\",REFERENTES!$Q$2:$Q$1134)),REFERENTES!Q885,\"\")","v":""},{"$f":"REFERENTES!S885","v":0},null,880,0,1131,"X"]
[null,null,null,null,null,null,null,null,null,null,null,{"$f":"IF(ISNUMBER(FIND(\"RES\",REFERENTES!$Q$2:$Q$1134)),REFERENTES!Q886,\"\")","v":""},{"$f":"REFERENTES!S886","v":0},null,881,0,1131,"X"]
[null,null,null,null,null,null,null,null,null,null,null,{"$f":"IF(ISNUMBER(FIND(\"RES\",REFERENTES!$Q$2:$Q$1134)),REFERENTES!Q887,\"\")","v":""},{"$f":"REFERENTES!S887","v":0},null,882,0,1131,"X"]
[null,null,null,null,null,null,null,null,null,null,null,{"$f":"IF(ISNUMBER(FIND(\"RES\",REFERENTES!$Q$2:$Q$1134)),REFERENTES!Q888,\"\")","v":""},{"$f":"REFERENTES!S888","v":0},null,883,0,1131,"X"]
[null,null,null,null,null,null,null,null,null,null,null,{"$f":"IF(ISNUMBER(FIND(\"RES\",REFERENTES!$Q$2:$Q$1134)),REFERENTES!Q889,\"\")","v":""},{"$f":"REFERENTES!S889","v":0},null,884,0,1131,"X"]
[null,null,null,null,null,null,null,null,null,null,null,{"$f":"IF(ISNUMBER(FIND(\"RES\",REFERENTES!$Q$2:$Q$1134)),REFERENTES!Q890,\"\")","v":""},{"$f":"REFERENTES!S890","v":0},null,885,0,1131,"X"]
[null,null,null,null,null,null,null,null,null,null,null,{"$f":"IF(ISNUMBER(FIND(\"RES\",REFERENTES!$Q$2:$Q$1134)),REFERENTES!Q891,\"\")","v":""},{"$f":"REFERENTES!S891","v":0},null,886,0,1131,"X"]
[null,null,null,null,null,null,null,null,null,null,null,{"$f":"IF(ISNUMBER(FIND(\"RES\",REFERENTES!$Q$2:$Q$1134)),REFERENTES!Q892,\"\")","v":""},{"$f":"REFERENTES!S892","v":0},null,887,0,1131,"X"]
[null,null,null,null,null,null,null,null,null,null,null,{"$f":"IF(ISNUMBER(FIND(\"RES\",REFERENTES!$Q$2:$Q$1134)),REFERENTES!Q893,\"\")","v":""},{"$f":"REFERENTES!S893","v":0},null,888,0,1131,"X"]
[null,null,null,null,null,null,null,null,null,null,null,{"$f":"IF(ISNUMBER(FIND(\"RES\",REFERENTES!$Q$2:$Q$1134)),REFERENTES!Q894,\"\")","v":""},{"$f":"REFERENTES!S894","v":"Parcela temporal Toribio - Manglar denso (Cerca a desembocadura del río y al manglar MI)"},null,889,0,1131,"X"]
[null,null,null,null,null,null,null,null,null,null,null,{"$f":"IF(ISNUMBER(FIND(\"RES\",REFERENTES!$Q$2:$Q$1134)),REFERENTES!Q895,\"\")","v":""},{"$f":"REFERENTES!S895","v":"Parcela temporal Toribio - Manglar denso (Cerca al manglar MII)"},null,890,0,1131,"X"]
[null,null,null,null,null,null,null,null,null,null,null,{"$f":"IF(ISNUMBER(FIND(\"RES\",REFERENTES!$Q$2:$Q$1134)),REFERENTES!Q896,\"\")","v":""},{"$f":"REFERENTES!S896","v":"Parcela temporal Toribio - Manglar denso (Cerca al manglar MIII)"},null,891,0,1131,"X"]
[null,null,null,null,null,null,null,null,null,null,null,{"$f":"IF(ISNUMBER(FIND(\"RES\",REFERENTES!$Q$2:$Q$1134)),REFERENTES!Q897,\"\")","v":""},{"$f":"REFERENTES!S897","v":"Parcela temporal Toribio - Manglar denso (Cerca al manglar MIII)"},null,892,0,1131,"X"]
[null,null,null,null,null,null,null,null,null,null,null,{"$f":"IF(ISNUMBER(FIND(\"RES\",REFERENTES!$Q$2:$Q$1134)),REFERENTES!Q898,\"\")","v":""},{"$f":"REFERENTES!S898","v":0},null,893,0,1131,"X"]
[null,null,null,null,null,null,null,null,null,null,null,{"$f":"IF(ISNUMBER(FIND(\"RES\",REFERENTES!$Q$2:$Q$1134)),REFERENTES!Q899,\"\")","v":""},{"$f":"REFERENTES!S899","v":0},null,894,0,1131,"X"]
[null,null,null,null,null,null,null,null,null,null,null,{"$f":"IF(ISNUMBER(FIND(\"RES\",REFERENTES!$Q$2:$Q$1134)),REFERENTES!Q900,\"\")","v":""},{"$f":"REFERENTES!S900","v":0},null,895,0,1131,"X"]
[null,null,null,null,null,null,null,null,null,null,null,{"$f":"IF(ISNUMBER(FIND(\"RES\",REFERENTES!$Q$2:$Q$1134)),REFERENTES!Q901,\"\")","v":""},{"$f":"REFERENTES!S901","v":0},null,896,0,1131,"X"]
[null,null,null,null,null,null,null,null,null,null,null,{"$f":"IF(ISNUMBER(FIND(\"RES\",REFERENTES!$Q$2:$Q$1134)),REFERENTES!Q902,\"\")","v":""},{"$f":"REFERENTES!S902","v":0},null,897,0,{"$f":"IF(P902=0,MAX($O$6:$O$1135)+1,O902)","v":1131},{"$f":"IFERROR(VLOOKUP(SMALL($Q$6:$Q$1135,O902),$O$6:$P$1135,2,FALSE),\"X\")","v":"X"}]
[null,null,null,null,null,null,null,null,null,null,null,{"$f":"IF(ISNUMBER(FIND(\"RES\",REFERENTES!$Q$2:$Q$1134)),REFERENTES!Q903,\"\")","v":""},{"$f":"REFERENTES!S903","v":0},null,898,{"$f":"IF(L903=\"\",0,L903)","v":0},1131,"X"]
[null,null,null,null,null,null,null,null,null,null,null,{"$f":"IF(ISNUMBER(FIND(\"RES\",REFERENTES!$Q$2:$Q$1134)),REFERENTES!Q904,\"\")","v":""},{"$f":"REFERENTES!S904","v":0},null,899,0,1131,"X"]
[null,null,null,null,null,null,null,null,null,null,null,{"$f":"IF(ISNUMBER(FIND(\"RES\",REFERENTES!$Q$2:$Q$1134)),REFERENTES!Q905,\"\")","v":""},{"$f":"REFERENTES!S905","v":0},null,900,0,1131,"X"]
[null,null,null,null,null,null,null,null,null,null,null,{"$f":"IF(ISNUMBER(FIND(\"RES\",REFERENTES!$Q$2:$Q$1134)),REFERENTES!Q906,\"\")","v":""},{"$f":"REFERENTES!S906","v":0},null,901,0,1131,"X"]
[null,null,null,null,null,null,null,null,null,null,null,{"$f":"IF(ISNUMBER(FIND(\"RES\",REFERENTES!$Q$2:$Q$1134)),REFERENTES!Q907,\"\")","v":""},{"$f":"REFERENTES!S907","v":0},null,902,0,1131,"X"]
[null,null,null,null,null,null,null,null,null,null,null,{"$f":"IF(ISNUMBER(FIND(\"RES\",REFERENTES!$Q$2:$Q$1134)),REFERENTES!Q908,\"\")","v":""},{"$f":"REFERENTES!S908","v":0},null,903,0,1131,"X"]
[null,null,null,null,null,null,null,null,null,null,null,{"$f":"IF(ISNUMBER(FIND(\"RES\",REFERENTES!$Q$2:$Q$1134)),REFERENTES!Q909,\"\")","v":""},{"$f":"REFERENTES!S909","v":0},null,904,0,1131,"X"]
[null,null,null,null,null,null,null,null,null,null,null,{"$f":"IF(ISNUMBER(FIND(\"RES\",REFERENTES!$Q$2:$Q$1134)),REFERENTES!Q910,\"\")","v":""},{"$f":"REFERENTES!S910","v":0},null,905,0,1131,"X"]
[null,null,null,null,null,null,null,null,null,null,null,{"$f":"IF(ISNUMBER(FIND(\"RES\",REFERENTES!$Q$2:$Q$1134)),REFERENTES!Q911,\"\")","v":""},{"$f":"REFERENTES!S911","v":0},null,906,0,1131,"X"]
[null,null,null,null,null,null,null,null,null,null,null,{"$f":"IF(ISNUMBER(FIND(\"RES\",REFERENTES!$Q$2:$Q$1134)),REFERENTES!Q912,\"\")","v":""},{"$f":"REFERENTES!S912","v":0},null,907,0,1131,"X"]
[null,null,null,null,null,null,null,null,null,null,null,{"$f":"IF(ISNUMBER(FIND(\"RES\",REFERENTES!$Q$2:$Q$1134)),REFERENTES!Q913,\"\")","v":""},{"$f":"REFERENTES!S913","v":0},null,908,0,1131,"X"]
[null,null,null,null,null,null,null,null,null,null,null,{"$f":"IF(ISNUMBER(FIND(\"RES\",REFERENTES!$Q$2:$Q$1134)),REFERENTES!Q914,\"\")","v":""},{"$f":"REFERENTES!S914","v":0},null,909,0,1131,"X"]
[null,null,null,null,null,null,null,null,null,null,null,{"$f":"IF(ISNUMBER(FIND(\"RES\",REFERENTES!$Q$2:$Q$1134)),REFERENTES!Q915,\"\")","v":""},{"$f":"REFERENTES!S915","v":0},null,910,0,1131,"X"]
[null,null,null,null,null,null,null,null,null,null,null,{"$f":"IF(ISNUMBER(FIND(\"RES\",REFERENTES!$Q$2:$Q$1134)),REFERENTES!Q916,\"\")","v":"RES_SPSC_SC-B"},{"$f":"REFERENTES!S916","v":0},null,911,"RES_SPSC_SC-B",911,"X"]
[null,null,null,null,null,null,null,null,null,null,null,{"$f":"IF(ISNUMBER(FIND(\"RES\",REFERENTES!$Q$2:$Q$1134)),REFERENTES!Q917,\"\")","v":"RES_SPSC_SC-C"},{"$f":"REFERENTES!S917","v":0},null,912,"RES_SPSC_SC-C",912,"X"]
[null,null,null,null,null,null,null,null,null,null,null,{"$f":"IF(ISNUMBER(FIND(\"RES\",REFERENTES!$Q$2:$Q$1134)),REFERENTES!Q918,\"\")","v":""},{"$f":"REFERENTES!S918","v":0},null,913,0,1131,"X"]
[null,null,null,null,null,null,null,null,null,null,null,{"$f":"IF(ISNUMBER(FIND(\"RES\",REFERENTES!$Q$2:$Q$1134)),REFERENTES!Q919,\"\")","v":""},{"$f":"REFERENTES!S919","v":0},null,914,0,1131,"X"]
[null,null,null,null,null,null,null,null,null,null,null,{"$f":"IF(ISNUMBER(FIND(\"RES\",REFERENTES!$Q$2:$Q$1134)),REFERENTES!Q920,\"\")","v":""},{"$f":"REFERENTES!S920","v":0},null,915,0,1131,"X"]
[null,null,null,null,null,null,null,null,null,null,null,{"$f":"IF(ISNUMBER(FIND(\"RES\",REFERENTES!$Q$2:$Q$1134)),REFERENTES!Q921,\"\")","v":""},{"$f":"REFERENTES!S921","v":0},null,916,0,1131,"X"]
[null,null,null,null,null,null,null,null,null,null,null,{"$f":"IF(ISNUMBER(FIND(\"RES\",REFERENTES!$Q$2:$Q$1134)),REFERENTES!Q922,\"\")","v":""},{"$f":"REFERENTES!S922","v":0},null,917,0,1131,"X"]
[null,null,null,null,null,null,null,null,null,null,null,{"$f":"IF(ISNUMBER(FIND(\"RES\",REFERENTES!$Q$2:$Q$1134)),REFERENTES!Q923,\"\")","v":""},{"$f":"REFERENTES!S923","v":0},null,918,0,1131,"X"]
[null,null,null,null,null,null,null,null,null,null,null,{"$f":"IF(ISNUMBER(FIND(\"RES\",REFERENTES!$Q$2:$Q$1134)),REFERENTES!Q924,\"\")","v":""},{"$f":"REFERENTES!S924","v":0},null,919,0,1131,"X"]
[null,null,null,null,null,null,null,null,null,null,null,{"$f":"IF(ISNUMBER(FIND(\"RES\",REFERENTES!$Q$2:$Q$1134)),REFERENTES!Q925,\"\")","v":""},{"$f":"REFERENTES!S925","v":0},null,920,0,1131,"X"]
[null,null,null,null,null,null,null,null,null,null,null,{"$f":"IF(ISNUMBER(FIND(\"RES\",REFERENTES!$Q$2:$Q$1134)),REFERENTES!Q926,\"\")","v":""},{"$f":"REFERENTES!S926","v":0},null,921,0,1131,"X"]
[null,null,null,null,null,null,null,null,null,null,null,{"$f":"IF(ISNUMBER(FIND(\"RES\",REFERENTES!$Q$2:$Q$1134)),REFERENTES!Q927,\"\")","v":""},{"$f":"REFERENTES!S927","v":0},null,922,0,1131,"X"]
[null,null,null,null,null,null,null,null,null,null,null,{"$f":"IF(ISNUMBER(FIND(\"RES\",REFERENTES!$Q$2:$Q$1134)),REFERENTES!Q928,\"\")","v":""},{"$f":"REFERENTES!S928","v":0},null,923,0,1131,"X"]
[null,null,null,null,null,null,null,null,null,null,null,{"$f":"IF(ISNUMBER(FIND(\"RES\",REFERENTES!$Q$2:$Q$1134)),REFERENTES!Q929,\"\")","v":""},{"$f":"REFERENTES!S929","v":0},null,924,0,1131,"X"]
[null,null,null,null,null,null,null,null,null,null,null,{"$f":"IF(ISNUMBER(FIND(\"RES\",REFERENTES!$Q$2:$Q$1134)),REFERENTES!Q930,\"\")","v":""},{"$f":"REFERENTES!S930","v":0},null,925,0,1131,"X"]
[null,null,null,null,null,null,null,null,null,null,null,{"$f":"IF(ISNUMBER(FIND(\"RES\",REFERENTES!$Q$2:$Q$1134)),REFERENTES!Q931,\"\")","v":""},{"$f":"REFERENTES!S931","v":0},null,926,0,1131,"X"]
[null,null,null,null,null,null,null,null,null,null,null,{"$f":"IF(ISNUMBER(FIND(\"RES\",REFERENTES!$Q$2:$Q$1134)),REFERENTES!Q932,\"\")","v":""},{"$f":"REFERENTES!S932","v":0},null,927,0,1131,"X"]
[null,null,null,null,null,null,null,null,null,null,null,{"$f":"IF(ISNUMBER(FIND(\"RES\",REFERENTES!$Q$2:$Q$1134)),REFERENTES!Q933,\"\")","v":""},{"$f":"REFERENTES!S933","v":0},null,928,0,1131,"X"]
[null,null,null,null,null,null,null,null,null,null,null,{"$f":"IF(ISNUMBER(FIND(\"RES\",REFERENTES!$Q$2:$Q$1134)),REFERENTES!Q934,\"\")","v":""},{"$f":"REFERENTES!S934","v":0},null,929,0,1131,"X"]
[null,null,null,null,null,null,null,null,null,null,null,{"$f":"IF(ISNUMBER(FIND(\"RES\",REFERENTES!$Q$2:$Q$1134)),REFERENTES!Q935,\"\")","v":""},{"$f":"REFERENTES!S935","v":0},null,930,0,1131,"X"]
[null,null,null,null,null,null,null,null,null,null,null,{"$f":"IF(ISNUMBER(FIND(\"RES\",REFERENTES!$Q$2:$Q$1134)),REFERENTES!Q936,\"\")","v":""},{"$f":"REFERENTES!S936","v":0},null,931,0,1131,"X"]
[null,null,null,null,null,null,null,null,null,null,null,{"$f":"IF(ISNUMBER(FIND(\"RES\",REFERENTES!$Q$2:$Q$1134)),REFERENTES!Q937,\"\")","v":""},{"$f":"REFERENTES!S937","v":0},null,932,0,1131,"X"]
[null,null,null,null,null,null,null,null,null,null,null,{"$f":"IF(ISNUMBER(FIND(\"RES\",REFERENTES!$Q$2:$Q$1134)),REFERENTES!Q938,\"\")","v":""},{"$f":"REFERENTES!S938","v":0},null,933,0,1131,"X"]
[null,null,null,null,null,null,null,null,null,null,null,{"$f":"IF(ISNUMBER(FIND(\"RES\",REFERENTES!$Q$2:$Q$1134)),REFERENTES!Q939,\"\")","v":""},{"$f":"REFERENTES!S939","v":0},null,934,0,1131,"X"]
[null,null,null,null,null,null,null,null,null,null,null,{"$f":"IF(ISNUMBER(FIND(\"RES\",REFERENTES!$Q$2:$Q$1134)),REFERENTES!Q940,\"\")","v":""},{"$f":"REFERENTES!S940","v":0},null,935,0,1131,"X"]
[null,null,null,null,null,null,null,null,null,null,null,{"$f":"IF(ISNUMBER(FIND(\"RES\",REFERENTES!$Q$2:$Q$1134)),REFERENTES!Q941,\"\")","v":""},{"$f":"REFERENTES!S941","v":0},null,936,0,1131,"X"]
[null,null,null,null,null,null,null,null,null,null,null,{"$f":"IF(ISNUMBER(FIND(\"RES\",REFERENTES!$Q$2:$Q$1134)),REFERENTES!Q942,\"\")","v":""},{"$f":"REFERENTES!S942","v":0},null,937,0,1131,"X"]
[null,null,null,null,null,null,null,null,null,null,null,{"$f":"IF(ISNUMBER(FIND(\"RES\",REFERENTES!$Q$2:$Q$1134)),REFERENTES!Q943,\"\")","v":""},{"$f":"REFERENTES!S943","v":0},null,938,0,1131,"X"]
[null,null,null,null,null,null,null,null,null,null,null,{"$f":"IF(ISNUMBER(FIND(\"RES\",REFERENTES!$Q$2:$Q$1134)),REFERENTES!Q944,\"\")","v":""},{"$f":"REFERENTES!S944","v":0},null,939,0,1131,"X"]
[null,null,null,null,null,null,null,null,null,null,null,{"$f":"IF(ISNUMBER(FIND(\"RES\",REFERENTES!$Q$2:$Q$1134)),REFERENTES!Q945,\"\")","v":""},{"$f":"REFERENTES!S945","v":0},null,940,0,1131,"X"]
[null,null,null,null,null,null,null,null,null,null,null,{"$f":"IF(ISNUMBER(FIND(\"RES\",REFERENTES!$Q$2:$Q$1134)),REFERENTES!Q946,\"\")","v":""},{"$f":"REFERENTES!S946","v":0},null,941,0,1131,"X"]
[null,null,null,null,null,null,null,null,null,null,null,{"$f":"IF(ISNUMBER(FIND(\"RES\",REFERENTES!$Q$2:$Q$1134)),REFERENTES!Q947,\"\")","v":""},{"$f":"REFERENTES!S947","v":0},null,942,0,1131,"X"]
[null,null,null,null,null,null,null,null,null,null,null,{"$f":"IF(ISNUMBER(FIND(\"RES\",REFERENTES!$Q$2:$Q$1134)),REFERENTES!Q948,\"\")","v":""},{"$f":"REFERENTES!S948","v":0},null,943,0,1131,"X"]
[null,null,null,null,null,null,null,null,null,null,null,{"$f":"IF(ISNUMBER(FIND(\"RES\",REFERENTES!$Q$2:$Q$1134)),REFERENTES!Q949,\"\")","v":""},{"$f":"REFERENTES!S949","v":0},null,944,0,1131,"X"]
[null,null,null,null,null,null,null,null,null,null,null,{"$f":"IF(ISNUMBER(FIND(\"RES\",REFERENTES!$Q$2:$Q$1134)),REFERENTES!Q950,\"\")","v":""},{"$f":"REFERENTES!S950","v":0},null,945,0,1131,"X"]
[null,null,null,null,null,null,null,null,null,null,null,{"$f":"IF(ISNUMBER(FIND(\"RES\",REFERENTES!$Q$2:$Q$1134)),REFERENTES!Q951,\"\")","v":""},{"$f":"REFERENTES!S951","v":0},null,946,0,1131,"X"]
[null,null,null,null,null,null,null,null,null,null,null,{"$f":"IF(ISNUMBER(FIND(\"RES\",REFERENTES!$Q$2:$Q$1134)),REFERENTES!Q952,\"\")","v":""},{"$f":"REFERENTES!S952","v":0},null,947,0,1131,"X"]
[null,null,null,null,null,null,null,null,null,null,null,{"$f":"IF(ISNUMBER(FIND(\"RES\",REFERENTES!$Q$2:$Q$1134)),REFERENTES!Q953,\"\")","v":""},{"$f":"REFERENTES!S953","v":0},null,948,0,1131,"X"]
[null,null,null,null,null,null,null,null,null,null,null,{"$f":"IF(ISNUMBER(FIND(\"RES\",REFERENTES!$Q$2:$Q$1134)),REFERENTES!Q954,\"\")","v":""},{"$f":"REFERENTES!S954","v":0},null,949,0,1131,"X"]
[null,null,null,null,null,null,null,null,null,null,null,{"$f":"IF(ISNUMBER(FIND(\"RES\",REFERENTES!$Q$2:$Q$1134)),REFERENTES!Q955,\"\")","v":""},{"$f":"REFERENTES!S955","v":0},null,950,0,1131,"X"]
[null,null,null,null,null,null,null,null,null,null,null,{"$f":"IF(ISNUMBER(FIND(\"RES\",REFERENTES!$Q$2:$Q$1134)),REFERENTES!Q956,\"\")","v":""},{"$f":"REFERENTES!S956","v":0},null,951,0,1131,"X"]
[null,null,null,null,null,null,null,null,null,null,null,{"$f":"IF(ISNUMBER(FIND(\"RES\",REFERENTES!$Q$2:$Q$1134)),REFERENTES!Q957,\"\")","v":""},{"$f":"REFERENTES!S957","v":0},null,952,0,1131,"X"]
[null,null,null,null,null,null,null,null,null,null,null,{"$f":"IF(ISNUMBER(FIND(\"RES\",REFERENTES!$Q$2:$Q$1134)),REFERENTES!Q958,\"\")","v":""},{"$f":"REFERENTES!S958","v":0},null,953,0,1131,"X"]
[null,null,null,null,null,null,null,null,null,null,null,{"$f":"IF(ISNUMBER(FIND(\"RES\",REFERENTES!$Q$2:$Q$1134)),REFERENTES!Q959,\"\")","v":""},{"$f":"REFERENTES!S959","v":0},null,954,0,1131,"X"]
[null,null,null,null,null,null,null,null,null,null,null,{"$f":"IF(ISNUMBER(FIND(\"RES\",REFERENTES!$Q$2:$Q$1134)),REFERENTES!Q960,\"\")","v":""},{"$f":"REFERENTES!S960","v":0},null,955,0,1131,"X"]
[null,null,null,null,null,null,null,null,null,null,null,{"$f":"IF(ISNUMBER(FIND(\"RES\",REFERENTES!$Q$2:$Q$1134)),REFERENTES!Q961,\"\")","v":""},{"$f":"REFERENTES!S961","v":0},null,956,0,1131,"X"]
[null,null,null,null,null,null,null,null,null,null,null,{"$f":"IF(ISNUMBER(FIND(\"RES\",REFERENTES!$Q$2:$Q$1134)),REFERENTES!Q962,\"\")","v":""},{"$f":"REFERENTES!S962","v":0},null,957,0,1131,"X"]
[null,null,null,null,null,null,null,null,null,null,null,{"$f":"IF(ISNUMBER(FIND(\"RES\",REFERENTES!$Q$2:$Q$1134)),REFERENTES!Q963,\"\")","v":""},{"$f":"REFERENTES!S963","v":0},null,958,0,1131,"X"]
[null,null,null,null,null,null,null,null,null,null,null,{"$f":"IF(ISNUMBER(FIND(\"RES\",REFERENTES!$Q$2:$Q$1134)),REFERENTES!Q964,\"\")","v":""},{"$f":"REFERENTES!S964","v":0},null,959,0,1131,"X"]
[null,null,null,null,null,null,null,null,null,null,null,{"$f":"IF(ISNUMBER(FIND(\"RES\",REFERENTES!$Q$2:$Q$1134)),REFERENTES!Q965,\"\")","v":""},{"$f":"REFERENTES!S965","v":0},null,960,0,1131,"X"]
[null,null,null,null,null,null,null,null,null,null,null,{"$f":"IF(ISNUMBER(FIND(\"RES\",REFERENTES!$Q$2:$Q$1134)),REFERENTES!Q966,\"\")","v":""},{"$f":"REFERENTES!S966","v":0},null,961,0,{"$f":"IF(P966=0,MAX($O$6:$O$1135)+1,O966)","v":1131},{"$f":"IFERROR(VLOOKUP(SMALL($Q$6:$Q$1135,O966),$O$6:$P$1135,2,FALSE),\"X\")","v":"X"}]
[null,null,null,null,null,null,null,null,null,null,null,{"$f":"IF(ISNUMBER(FIND(\"RES\",REFERENTES!$Q$2:$Q$1134)),REFERENTES!Q967,\"\")","v":""},{"$f":"REFERENTES!S967","v":0},null,962,{"$f":"IF(L967=\"\",0,L967)","v":0},1131,"X"]
[null,null,null,null,null,null,null,null,null,null,null,{"$f":"IF(ISNUMBER(FIND(\"RES\",REFERENTES!$Q$2:$Q$1134)),REFERENTES!Q968,\"\")","v":""},{"$f":"REFERENTES!S968","v":0},null,963,0,1131,"X"]
[null,null,null,null,null,null,null,null,null,null,null,{"$f":"IF(ISNUMBER(FIND(\"RES\",REFERENTES!$Q$2:$Q$1134)),REFERENTES!Q969,\"\")","v":""},{"$f":"REFERENTES!S969","v":0},null,964,0,1131,"X"]
[null,null,null,null,null,null,null,null,null,null,null,{"$f":"IF(ISNUMBER(FIND(\"RES\",REFERENTES!$Q$2:$Q$1134)),REFERENTES!Q970,\"\")","v":""},{"$f":"REFERENTES!S970","v":0},null,965,0,1131,"X"]
[null,null,null,null,null,null,null,null,null,null,null,{"$f":"IF(ISNUMBER(FIND(\"RES\",REFERENTES!$Q$2:$Q$1134)),REFERENTES!Q971,\"\")","v":""},{"$f":"REFERENTES!S971","v":0},null,966,0,1131,"X"]
[null,null,null,null,null,null,null,null,null,null,null,{"$f":"IF(ISNUMBER(FIND(\"RES\",REFERENTES!$Q$2:$Q$1134)),REFERENTES!Q972,\"\")","v":""},{"$f":"REFERENTES!S972","v":0},null,967,0,1131,"X"]
[null,null,null,null,null,null,null,null,null,null,null,{"$f":"IF(ISNUMBER(FIND(\"RES\",REFERENTES!$Q$2:$Q$1134)),REFERENTES!Q973,\"\")","v":""},{"$f":"REFERENTES!S973","v":0},null,968,0,1131,"X"]
[null,null,null,null,null,null,null,null,null,null,null,{"$f":"IF(ISNUMBER(FIND(\"RES\",REFERENTES!$Q$2:$Q$1134)),REFERENTES!Q974,\"\")","v":""},{"$f":"REFERENTES!S974","v":0},null,969,0,1131,"X"]
[null,null,null,null,null,null,null,null,null,null,null,{"$f":"IF(ISNUMBER(FIND(\"RES\",REFERENTES!$Q$2:$Q$1134)),REFERENTES!Q975,\"\")","v":""},{"$f":"REFERENTES!S975","v":0},null,970,0,1131,"X"]
[null,null,null,null,null,null,null,null,null,null,null,{"$f":"IF(ISNUMBER(FIND(\"RES\",REFERENTES!$Q$2:$Q$1134)),REFERENTES!Q976,\"\")","v":""},{"$f":"REFERENTES!S976","v":0},null,971,0,1131,"X"]
[null,null,null,null,null,null,null,null,null,null,null,{"$f":"IF(ISNUMBER(FIND(\"RES\",REFERENTES!$Q$2:$Q$1134)),REFERENTES!Q977,\"\")","v":""},{"$f":"REFERENTES!S977","v":0},null,972,0,1131,"X"]
[null,null,null,null,null,null,null,null,null,null,null,{"$f":"IF(ISNUMBER(FIND(\"RES\",REFERENTES!$Q$2:$Q$1134)),REFERENTES!Q978,\"\")","v":""},{"$f":"REFERENTES!S978","v":0},null,973,0,1131,"X"]
[null,null,null,null,null,null,null,null,null,null,null,{"$f":"IF(ISNUMBER(FIND(\"RES\",REFERENTES!$Q$2:$Q$1134)),REFERENTES!Q979,\"\")","v":""},{"$f":"REFERENTES!S979","v":0},null,974,0,1131,"X"]
[null,null,null,null,null,null,null,null,null,null,null,{"$f":"IF(ISNUMBER(FIND(\"RES\",REFERENTES!$Q$2:$Q$1134)),REFERENTES!Q980,\"\")","v":""},{"$f":"REFERENTES!S980","v":0},null,975,0,1131,"X"]
[null,null,null,null,null,null,null,null,null,null,null,{"$f":"IF(ISNUMBER(FIND(\"RES\",REFERENTES!$Q$2:$Q$1134)),REFERENTES!Q981,\"\")","v":""},{"$f":"REFERENTES!S981","v":0},null,976,0,1131,"X"]
[null,null,null,null,null,null,null,null,null,null,null,{"$f":"IF(ISNUMBER(FIND(\"RES\",REFERENTES!$Q$2:$Q$1134)),REFERENTES!Q982,\"\")","v":""},{"$f":"REFERENTES!S982","v":0},null,977,0,1131,"X"]
[null,null,null,null,null,null,null,null,null,null,null,{"$f":"IF(ISNUMBER(FIND(\"RES\",REFERENTES!$Q$2:$Q$1134)),REFERENTES!Q983,\"\")","v":""},{"$f":"REFERENTES!S983","v":0},null,978,0,1131,"X"]
[null,null,null,null,null,null,null,null,null,null,null,{"$f":"IF(ISNUMBER(FIND(\"RES\",REFERENTES!$Q$2:$Q$1134)),REFERENTES!Q984,\"\")","v":""},{"$f":"REFERENTES!S984","v":0},null,979,0,1131,"X"]
[null,null,null,null,null,null,null,null,null,null,null,{"$f":"IF(ISNUMBER(FIND(\"RES\",REFERENTES!$Q$2:$Q$1134)),REFERENTES!Q985,\"\")","v":""},{"$f":"REFERENTES!S985","v":0},null,980,0,1131,"X"]
[null,null,null,null,null,null,null,null,null,null,null,{"$f":"IF(ISNUMBER(FIND(\"RES\",REFERENTES!$Q$2:$Q$1134)),REFERENTES!Q986,\"\")","v":""},{"$f":"REFERENTES!S986","v":0},null,981,0,1131,"X"]
[null,null,null,null,null,null,null,null,null,null,null,{"$f":"IF(ISNUMBER(FIND(\"RES\",REFERENTES!$Q$2:$Q$1134)),REFERENTES!Q987,\"\")","v":""},{"$f":"REFERENTES!S987","v":0},null,982,0,1131,"X"]
[null,null,null,null,null,null,null,null,null,null,null,{"$f":"IF(ISNUMBER(FIND(\"RES\",REFERENTES!$Q$2:$Q$1134)),REFERENTES!Q988,\"\")","v":""},{"$f":"REFERENTES!S988","v":0},null,983,0,1131,"X"]
[null,null,null,null,null,null,null,null,null,null,null,{"$f":"IF(ISNUMBER(FIND(\"RES\",REFERENTES!$Q$2:$Q$1134)),REFERENTES!Q989,\"\")","v":""},{"$f":"REFERENTES!S989","v":0},null,984,0,1131,"X"]
[null,null,null,null,null,null,null,null,null,null,null,{"$f":"IF(ISNUMBER(FIND(\"RES\",REFERENTES!$Q$2:$Q$1134)),REFERENTES!Q990,\"\")","v":""},{"$f":"REFERENTES!S990","v":0},null,985,0,1131,"X"]
[null,null,null,null,null,null,null,null,null,null,null,{"$f":"IF(ISNUMBER(FIND(\"RES\",REFERENTES!$Q$2:$Q$1134)),REFERENTES!Q991,\"\")","v":""},{"$f":"REFERENTES!S991","v":0},null,986,0,1131,"X"]
[null,null,null,null,null,null,null,null,null,null,null,{"$f":"IF(ISNUMBER(FIND(\"RES\",REFERENTES!$Q$2:$Q$1134)),REFERENTES!Q992,\"\")","v":""},{"$f":"REFERENTES!S992","v":0},null,987,0,1131,"X"]
[null,null,null,null,null,null,null,null,null,null,null,{"$f":"IF(ISNUMBER(FIND(\"RES\",REFERENTES!$Q$2:$Q$1134)),REFERENTES!Q993,\"\")","v":""},{"$f":"REFERENTES!S993","v":0},null,988,0,1131,"X"]
[null,null,null,null,null,null,null,null,null,null,null,{"$f":"IF(ISNUMBER(FIND(\"RES\",REFERENTES!$Q$2:$Q$1134)),REFERENTES!Q994,\"\")","v":""},{"$f":"REFERENTES!S994","v":0},null,989,0,1131,"X"]
[null,null,null,null,null,null,null,null,null,null,null,{"$f":"IF(ISNUMBER(FIND(\"RES\",REFERENTES!$Q$2:$Q$1134)),REFERENTES!Q995,\"\")","v":""},{"$f":"REFERENTES!S995","v":0},null,990,0,1131,"X"]
[null,null,null,null,null,null,null,null,null,null,null,{"$f":"IF(ISNUMBER(FIND(\"RES\",REFERENTES!$Q$2:$Q$1134)),REFERENTES!Q996,\"\")","v":""},{"$f":"REFERENTES!S996","v":0},null,991,0,1131,"X"]
[null,null,null,null,null,null,null,null,null,null,null,{"$f":"IF(ISNUMBER(FIND(\"RES\",REFERENTES!$Q$2:$Q$1134)),REFERENTES!Q997,\"\")","v":""},{"$f":"REFERENTES!S997","v":0},null,992,0,1131,"X"]
[null,null,null,null,null,null,null,null,null,null,null,{"$f":"IF(ISNUMBER(FIND(\"RES\",REFERENTES!$Q$2:$Q$1134)),REFERENTES!Q998,\"\")","v":""},{"$f":"REFERENTES!S998","v":0},null,993,0,1131,"X"]
[null,null,null,null,null,null,null,null,null,null,null,{"$f":"IF(ISNUMBER(FIND(\"RES\",REFERENTES!$Q$2:$Q$1134)),REFERENTES!Q999,\"\")","v":""},{"$f":"REFERENTES!S999","v":0},null,994,0,1131,"X"]
[null,null,null,null,null,null,null,null,null,null,null,{"$f":"IF(ISNUMBER(FIND(\"RES\",REFERENTES!$Q$2:$Q$1134)),REFERENTES!Q1000,\"\")","v":""},{"$f":"REFERENTES!S1000","v":0},null,995,0,1131,"X"]
[null,null,null,null,null,null,null,null,null,null,null,{"$f":"IF(ISNUMBER(FIND(\"RES\",REFERENTES!$Q$2:$Q$1134)),REFERENTES!Q1001,\"\")","v":""},{"$f":"REFERENTES!S1001","v":0},null,996,0,1131,"X"]
[null,null,null,null,null,null,null,null,null,null,null,{"$f":"IF(ISNUMBER(FIND(\"RES\",REFERENTES!$Q$2:$Q$1134)),REFERENTES!Q1002,\"\")","v":""},{"$f":"REFERENTES!S1002","v":0},null,997,0,1131,"X"]
[null,null,null,null,null,null,null,null,null,null,null,{"$f":"IF(ISNUMBER(FIND(\"RES\",REFERENTES!$Q$2:$Q$1134)),REFERENTES!Q1003,\"\")","v":""},{"$f":"REFERENTES!S1003","v":0},null,998,0,1131,"X"]
[null,null,null,null,null,null,null,null,null,null,null,{"$f":"IF(ISNUMBER(FIND(\"RES\",REFERENTES!$Q$2:$Q$1134)),REFERENTES!Q1004,\"\")","v":""},{"$f":"REFERENTES!S1004","v":0},null,999,0,1131,"X"]
[null,null,null,null,null,null,null,null,null,null,null,{"$f":"IF(ISNUMBER(FIND(\"RES\",REFERENTES!$Q$2:$Q$1134)),REFERENTES!Q1005,\"\")","v":""},{"$f":"REFERENTES!S1005","v":0},null,1000,0,1131,"X"]
[null,null,null,null,null,null,null,null,null,null,null,{"$f":"IF(ISNUMBER(FIND(\"RES\",REFERENTES!$Q$2:$Q$1134)),REFERENTES!Q1006,\"\")","v":""},{"$f":"REFERENTES!S1006","v":0},null,1001,0,1131,"X"]
[null,null,null,null,null,null,null,null,null,null,null,{"$f":"IF(ISNUMBER(FIND(\"RES\",REFERENTES!$Q$2:$Q$1134)),REFERENTES!Q1007,\"\")","v":""},{"$f":"REFERENTES!S1007","v":0},null,1002,0,1131,"X"]
[null,null,null,null,null,null,null,null,null,null,null,{"$f":"IF(ISNUMBER(FIND(\"RES\",REFERENTES!$Q$2:$Q$1134)),REFERENTES!Q1008,\"\")","v":""},{"$f":"REFERENTES!S1008","v":0},null,1003,0,1131,"X"]
[null,null,null,null,null,null,null,null,null,null,null,{"$f":"IF(ISNUMBER(FIND(\"RES\",REFERENTES!$Q$2:$Q$1134)),REFERENTES!Q1009,\"\")","v":""},{"$f":"REFERENTES!S1009","v":0},null,1004,0,1131,"X"]
[null,null,null,null,null,null,null,null,null,null,null,{"$f":"IF(ISNUMBER(FIND(\"RES\",REFERENTES!$Q$2:$Q$1134)),REFERENTES!Q1010,\"\")","v":""},{"$f":"REFERENTES!S1010","v":0},null,1005,0,1131,"X"]
[null,null,null,null,null,null,null,null,null,null,null,{"$f":"IF(ISNUMBER(FIND(\"RES\",REFERENTES!$Q$2:$Q$1134)),REFERENTES!Q1011,\"\")","v":""},{"$f":"REFERENTES!S1011","v":0},null,1006,0,1131,"X"]
[null,null,null,null,null,null,null,null,null,null,null,{"$f":"IF(ISNUMBER(FIND(\"RES\",REFERENTES!$Q$2:$Q$1134)),REFERENTES!Q1012,\"\")","v":""},{"$f":"REFERENTES!S1012","v":0},null,1007,0,1131,"X"]
[null,null,null,null,null,null,null,null,null,null,null,{"$f":"IF(ISNUMBER(FIND(\"RES\",REFERENTES!$Q$2:$Q$1134)),REFERENTES!Q1013,\"\")","v":""},{"$f":"REFERENTES!S1013","v":0},null,1008,0,1131,"X"]
[null,null,null,null,null,null,null,null,null,null,null,{"$f":"IF(ISNUMBER(FIND(\"RES\",REFERENTES!$Q$2:$Q$1134)),REFERENTES!Q1014,\"\")","v":""},{"$f":"REFERENTES!S1014","v":0},null,1009,0,1131,"X"]
[null,null,null,null,null,null,null,null,null,null,null,{"$f":"IF(ISNUMBER(FIND(\"RES\",REFERENTES!$Q$2:$Q$1134)),REFERENTES!Q1015,\"\")","v":""},{"$f":"REFERENTES!S1015","v":0},null,1010,0,1131,"X"]
[null,null,null,null,null,null,null,null,null,null,null,{"$f":"IF(ISNUMBER(FIND(\"RES\",REFERENTES!$Q$2:$Q$1134)),REFERENTES!Q1016,\"\")","v":""},{"$f":"REFERENTES!S1016","v":0},null,1011,0,1131,"X"]
[null,null,null,null,null,null,null,null,null,null,null,{"$f":"IF(ISNUMBER(FIND(\"RES\",REFERENTES!$Q$2:$Q$1134)),REFERENTES!Q1017,\"\")","v":""},{"$f":"REFERENTES!S1017","v":0},null,1012,0,1131,"X"]
[null,null,null,null,null,null,null,null,null,null,null,{"$f":"IF(ISNUMBER(FIND(\"RES\",REFERENTES!$Q$2:$Q$1134)),REFERENTES!Q1018,\"\")","v":""},{"$f":"REFERENTES!S1018","v":0},null,1013,0,1131,"X"]
[null,null,null,null,null,null,null,null,null,null,null,{"$f":"IF(ISNUMBER(FIND(\"RES\",REFERENTES!$Q$2:$Q$1134)),REFERENTES!Q1019,\"\")","v":""},{"$f":"REFERENTES!S1019","v":0},null,1014,0,1131,"X"]
[null,null,null,null,null,null,null,null,null,null,null,{"$f":"IF(ISNUMBER(FIND(\"RES\",REFERENTES!$Q$2:$Q$1134)),REFERENTES!Q1020,\"\")","v":""},{"$f":"REFERENTES!S1020","v":0},null,1015,0,1131,"X"]
[null,null,null,null,null,null,null,null,null,null,null,{"$f":"IF(ISNUMBER(FIND(\"RES\",REFERENTES!$Q$2:$Q$1134)),REFERENTES!Q1021,\"\")","v":""},{"$f":"REFERENTES!S1021","v":0},null,1016,0,1131,"X"]
[null,null,null,null,null,null,null,null,null,null,null,{"$f":"IF(ISNUMBER(FIND(\"RES\",REFERENTES!$Q$2:$Q$1134)),REFERENTES!Q1022,\"\")","v":""},{"$f":"REFERENTES!S1022","v":0},null,1017,0,1131,"X"]
[null,null,null,null,null,null,null,null,null,null,null,{"$f":"IF(ISNUMBER(FIND(\"RES\",REFERENTES!$Q$2:$Q$1134)),REFERENTES!Q1023,\"\")","v":""},{"$f":"REFERENTES!S1023","v":0},null,1018,0,1131,"X"]
[null,null,null,null,null,null,null,null,null,null,null,{"$f":"IF(ISNUMBER(FIND(\"RES\",REFERENTES!$Q$2:$Q$1134)),REFERENTES!Q1024,\"\")","v":""},{"$f":"REFERENTES!S1024","v":0},null,1019,0,1131,"X"]
[null,null,null,null,null,null,null,null,null,null,null,{"$f":"IF(ISNUMBER(FIND(\"RES\",REFERENTES!$Q$2:$Q$1134)),REFERENTES!Q1025,\"\")","v":""},{"$f":"REFERENTES!S1025","v":0},null,1020,0,1131,"X"]
[null,null,null,null,null,null,null,null,null,null,null,{"$f":"IF(ISNUMBER(FIND(\"RES\",REFERENTES!$Q$2:$Q$1134)),REFERENTES!Q1026,\"\")","v":""},{"$f":"REFERENTES!S1026","v":0},null,1021,0,1131,"X"]
[null,null,null,null,null,null,null,null,null,null,null,{"$f":"IF(ISNUMBER(FIND(\"RES\",REFERENTES!$Q$2:$Q$1134)),REFERENTES!Q1027,\"\")","v":""},{"$f":"REFERENTES!S1027","v":0},null,1022,0,1131,"X"]
[null,null,null,null,null,null,null,null,null,null,null,{"$f":"IF(ISNUMBER(FIND(\"RES\",REFERENTES!$Q$2:$Q$1134)),REFERENTES!Q1028,\"\")","v":""},{"$f":"REFERENTES!S1028","v":0},null,1023,0,1131,"X"]
[null,null,null,null,null,null,null,null,null,null,null,{"$f":"IF(ISNUMBER(FIND(\"RES\",REFERENTES!$Q$2:$Q$1134)),REFERENTES!Q1029,\"\")","v":""},{"$f":"REFERENTES!S1029","v":0},null,1024,0,1131,"X"]
[null,null,null,null,null,null,null,null,null,null,null,{"$f":"IF(ISNUMBER(FIND(\"RES\",REFERENTES!$Q$2:$Q$1134)),REFERENTES!Q1030,\"\")","v":""},{"$f":"REFERENTES!S1030","v":0},null,1025,0,{"$f":"IF(P1030=0,MAX($O$6:$O$1135)+1,O1030)","v":1131},{"$f":"IFERROR(VLOOKUP(SMALL($Q$6:$Q$1135,O1030),$O$6:$P$1135,2,FALSE),\"X\")","v":"X"}]
[null,null,null,null,null,null,null,null,null,null,null,{"$f":"IF(ISNUMBER(FIND(\"RES\",REFERENTES!$Q$2:$Q$1134)),REFERENTES!Q1031,\"\")","v":""},{"$f":"REFERENTES!S1031","v":0},null,1026,{"$f":"IF(L1031=\"\",0,L1031)","v":0},1131,"X"]
[null,null,null,null,null,null,null,null,null,null,null,{"$f":"IF(ISNUMBER(FIND(\"RES\",REFERENTES!$Q$2:$Q$1134)),REFERENTES!Q1032,\"\")","v":""},{"$f":"REFERENTES!S1032","v":0},null,1027,0,1131,"X"]
[null,null,null,null,null,null,null,null,null,null,null,{"$f":"IF(ISNUMBER(FIND(\"RES\",REFERENTES!$Q$2:$Q$1134)),REFERENTES!Q1033,\"\")","v":""},{"$f":"REFERENTES!S1033","v":0},null,1028,0,1131,"X"]
[null,null,null,null,null,null,null,null,null,null,null,{"$f":"IF(ISNUMBER(FIND(\"RES\",REFERENTES!$Q$2:$Q$1134)),REFERENTES!Q1034,\"\")","v":""},{"$f":"REFERENTES!S1034","v":0},null,1029,0,1131,"X"]
[null,null,null,null,null,null,null,null,null,null,null,{"$f":"IF(ISNUMBER(FIND(\"RES\",REFERENTES!$Q$2:$Q$1134)),REFERENTES!Q1035,\"\")","v":""},{"$f":"REFERENTES!S1035","v":0},null,1030,0,1131,"X"]
[null,null,null,null,null,null,null,null,null,null,null,{"$f":"IF(ISNUMBER(FIND(\"RES\",REFERENTES!$Q$2:$Q$1134)),REFERENTES!Q1036,\"\")","v":""},{"$f":"REFERENTES!S1036","v":0},null,1031,0,1131,"X"]
[null,null,null,null,null,null,null,null,null,null,null,{"$f":"IF(ISNUMBER(FIND(\"RES\",REFERENTES!$Q$2:$Q$1134)),REFERENTES!Q1037,\"\")","v":""},{"$f":"REFERENTES!S1037","v":0},null,1032,0,1131,"X"]
[null,null,null,null,null,null,null,null,null,null,null,{"$f":"IF(ISNUMBER(FIND(\"RES\",REFERENTES!$Q$2:$Q$1134)),REFERENTES!Q1038,\"\")","v":""},{"$f":"REFERENTES!S1038","v":0},null,1033,0,1131,"X"]
[null,null,null,null,null,null,null,null,null,null,null,{"$f":"IF(ISNUMBER(FIND(\"RES\",REFERENTES!$Q$2:$Q$1134)),REFERENTES!Q1039,\"\")","v":""},{"$f":"REFERENTES!S1039","v":0},null,1034,0,1131,"X"]
[null,null,null,null,null,null,null,null,null,null,null,{"$f":"IF(ISNUMBER(FIND(\"RES\",REFERENTES!$Q$2:$Q$1134)),REFERENTES!Q1040,\"\")","v":""},{"$f":"REFERENTES!S1040","v":0},null,1035,0,1131,"X"]
[null,null,null,null,null,null,null,null,null,null,null,{"$f":"IF(ISNUMBER(FIND(\"RES\",REFERENTES!$Q$2:$Q$1134)),REFERENTES!Q1041,\"\")","v":""},{"$f":"REFERENTES!S1041","v":0},null,1036,0,1131,"X"]
[null,null,null,null,null,null,null,null,null,null,null,{"$f":"IF(ISNUMBER(FIND(\"RES\",REFERENTES!$Q$2:$Q$1134)),REFERENTES!Q1042,\"\")","v":""},{"$f":"REFERENTES!S1042","v":0},null,1037,0,1131,"X"]
[null,null,null,null,null,null,null,null,null,null,null,{"$f":"IF(ISNUMBER(FIND(\"RES\",REFERENTES!$Q$2:$Q$1134)),REFERENTES!Q1043,\"\")","v":""},{"$f":"REFERENTES!S1043","v":0},null,1038,0,1131,"X"]
[null,null,null,null,null,null,null,null,null,null,null,{"$f":"IF(ISNUMBER(FIND(\"RES\",REFERENTES!$Q$2:$Q$1134)),REFERENTES!Q1044,\"\")","v":""},{"$f":"REFERENTES!S1044","v":0},null,1039,0,1131,"X"]
[null,null,null,null,null,null,null,null,null,null,null,{"$f":"IF(ISNUMBER(FIND(\"RES\",REFERENTES!$Q$2:$Q$1134)),REFERENTES!Q1045,\"\")","v":""},{"$f":"REFERENTES!S1045","v":0},null,1040,0,1131,"X"]
[null,null,null,null,null,null,null,null,null,null,null,{"$f":"IF(ISNUMBER(FIND(\"RES\",REFERENTES!$Q$2:$Q$1134)),REFERENTES!Q1046,\"\")","v":""},{"$f":"REFERENTES!S1046","v":0},null,1041,0,1131,"X"]
[null,null,null,null,null,null,null,null,null,null,null,{"$f":"IF(ISNUMBER(FIND(\"RES\",REFERENTES!$Q$2:$Q$1134)),REFERENTES!Q1047,\"\")","v":""},{"$f":"REFERENTES!S1047","v":0},null,1042,0,1131,"X"]
[null,null,null,null,null,null,null,null,null,null,null,{"$f":"IF(ISNUMBER(FIND(\"RES\",REFERENTES!$Q$2:$Q$1134)),REFERENTES!Q1048,\"\")","v":""},{"$f":"REFERENTES!S1048","v":0},null,1043,0,1131,"X"]
[null,null,null,null,null,null,null,null,null,null,null,{"$f":"IF(ISNUMBER(FIND(\"RES\",REFERENTES!$Q$2:$Q$1134)),REFERENTES!Q1049,\"\")","v":""},{"$f":"REFERENTES!S1049","v":0},null,1044,0,1131,"X"]
[null,null,null,null,null,null,null,null,null,null,null,{"$f":"IF(ISNUMBER(FIND(\"RES\",REFERENTES!$Q$2:$Q$1134)),REFERENTES!Q1050,\"\")","v":""},{"$f":"REFERENTES!S1050","v":0},null,1045,0,1131,"X"]
[null,null,null,null,null,null,null,null,null,null,null,{"$f":"IF(ISNUMBER(FIND(\"RES\",REFERENTES!$Q$2:$Q$1134)),REFERENTES!Q1051,\"\")","v":""},{"$f":"REFERENTES!S1051","v":0},null,1046,0,1131,"X"]
[null,null,null,null,null,null,null,null,null,null,null,{"$f":"IF(ISNUMBER(FIND(\"RES\",REFERENTES!$Q$2:$Q$1134)),REFERENTES!Q1052,\"\")","v":""},{"$f":"REFERENTES!S1052","v":0},null,1047,0,1131,"X"]
[null,null,null,null,null,null,null,null,null,null,null,{"$f":"IF(ISNUMBER(FIND(\"RES\",REFERENTES!$Q$2:$Q$1134)),REFERENTES!Q1053,\"\")","v":""},{"$f":"REFERENTES!S1053","v":0},null,1048,0,1131,"X"]
[null,null,null,null,null,null,null,null,null,null,null,{"$f":"IF(ISNUMBER(FIND(\"RES\",REFERENTES!$Q$2:$Q$1134)),REFERENTES!Q1054,\"\")","v":""},{"$f":"REFERENTES!S1054","v":0},null,1049,0,1131,"X"]
[null,null,null,null,null,null,null,null,null,null,null,{"$f":"IF(ISNUMBER(FIND(\"RES\",REFERENTES!$Q$2:$Q$1134)),REFERENTES!Q1055,\"\")","v":""},{"$f":"REFERENTES!S1055","v":0},null,1050,0,1131,"X"]
[null,null,null,null,null,null,null,null,null,null,null,{"$f":"IF(ISNUMBER(FIND(\"RES\",REFERENTES!$Q$2:$Q$1134)),REFERENTES!Q1056,\"\")","v":""},{"$f":"REFERENTES!S1056","v":0},null,1051,0,1131,"X"]
[null,null,null,null,null,null,null,null,null,null,null,{"$f":"IF(ISNUMBER(FIND(\"RES\",REFERENTES!$Q$2:$Q$1134)),REFERENTES!Q1057,\"\")","v":""},{"$f":"REFERENTES!S1057","v":0},null,1052,0,1131,"X"]
[null,null,null,null,null,null,null,null,null,null,null,{"$f":"IF(ISNUMBER(FIND(\"RES\",REFERENTES!$Q$2:$Q$1134)),REFERENTES!Q1058,\"\")","v":""},{"$f":"REFERENTES!S1058","v":0},null,1053,0,1131,"X"]
[null,null,null,null,null,null,null,null,null,null,null,{"$f":"IF(ISNUMBER(FIND(\"RES\",REFERENTES!$Q$2:$Q$1134)),REFERENTES!Q1059,\"\")","v":""},{"$f":"REFERENTES!S1059","v":0},null,1054,0,1131,"X"]
[null,null,null,null,null,null,null,null,null,null,null,{"$f":"IF(ISNUMBER(FIND(\"RES\",REFERENTES!$Q$2:$Q$1134)),REFERENTES!Q1060,\"\")","v":""},{"$f":"REFERENTES!S1060","v":0},null,1055,0,1131,"X"]
[null,null,null,null,null,null,null,null,null,null,null,{"$f":"IF(ISNUMBER(FIND(\"RES\",REFERENTES!$Q$2:$Q$1134)),REFERENTES!Q1061,\"\")","v":""},{"$f":"REFERENTES!S1061","v":0},null,1056,0,1131,"X"]
[null,null,null,null,null,null,null,null,null,null,null,{"$f":"IF(ISNUMBER(FIND(\"RES\",REFERENTES!$Q$2:$Q$1134)),REFERENTES!Q1062,\"\")","v":""},{"$f":"REFERENTES!S1062","v":0},null,1057,0,1131,"X"]
[null,null,null,null,null,null,null,null,null,null,null,{"$f":"IF(ISNUMBER(FIND(\"RES\",REFERENTES!$Q$2:$Q$1134)),REFERENTES!Q1063,\"\")","v":""},{"$f":"REFERENTES!S1063","v":0},null,1058,0,1131,"X"]
[null,null,null,null,null,null,null,null,null,null,null,{"$f":"IF(ISNUMBER(FIND(\"RES\",REFERENTES!$Q$2:$Q$1134)),REFERENTES!Q1064,\"\")","v":""},{"$f":"REFERENTES!S1064","v":0},null,1059,0,1131,"X"]
[null,null,null,null,null,null,null,null,null,null,null,{"$f":"IF(ISNUMBER(FIND(\"RES\",REFERENTES!$Q$2:$Q$1134)),REFERENTES!Q1065,\"\")","v":""},{"$f":"REFERENTES!S1065","v":0},null,1060,0,1131,"X"]
[null,null,null,null,null,null,null,null,null,null,null,{"$f":"IF(ISNUMBER(FIND(\"RES\",REFERENTES!$Q$2:$Q$1134)),REFERENTES!Q1066,\"\")","v":""},{"$f":"REFERENTES!S1066","v":0},null,1061,0,1131,"X"]
[null,null,null,null,null,null,null,null,null,null,null,{"$f":"IF(ISNUMBER(FIND(\"RES\",REFERENTES!$Q$2:$Q$1134)),REFERENTES!Q1067,\"\")","v":""},{"$f":"REFERENTES!S1067","v":0},null,1062,0,1131,"X"]
[null,null,null,null,null,null,null,null,null,null,null,{"$f":"IF(ISNUMBER(FIND(\"RES\",REFERENTES!$Q$2:$Q$1134)),REFERENTES!Q1068,\"\")","v":""},{"$f":"REFERENTES!S1068","v":0},null,1063,0,1131,"X"]
[null,null,null,null,null,null,null,null,null,null,null,{"$f":"IF(ISNUMBER(FIND(\"RES\",REFERENTES!$Q$2:$Q$1134)),REFERENTES!Q1069,\"\")","v":""},{"$f":"REFERENTES!S1069","v":0},null,1064,0,1131,"X"]
[null,null,null,null,null,null,null,null,null,null,null,{"$f":"IF(ISNUMBER(FIND(\"RES\",REFERENTES!$Q$2:$Q$1134)),REFERENTES!Q1070,\"\")","v":""},{"$f":"REFERENTES!S1070","v":0},null,1065,0,1131,"X"]
[null,null,null,null,null,null,null,null,null,null,null,{"$f":"IF(ISNUMBER(FIND(\"RES\",REFERENTES!$Q$2:$Q$1134)),REFERENTES!Q1071,\"\")","v":""},{"$f":"REFERENTES!S1071","v":0},null,1066,0,1131,"X"]
[null,null,null,null,null,null,null,null,null,null,null,{"$f":"IF(ISNUMBER(FIND(\"RES\",REFERENTES!$Q$2:$Q$1134)),REFERENTES!Q1072,\"\")","v":""},{"$f":"REFERENTES!S1072","v":0},null,1067,0,1131,"X"]
[null,null,null,null,null,null,null,null,null,null,null,{"$f":"IF(ISNUMBER(FIND(\"RES\",REFERENTES!$Q$2:$Q$1134)),REFERENTES!Q1073,\"\")","v":""},{"$f":"REFERENTES!S1073","v":0},null,1068,0,1131,"X"]
[null,null,null,null,null,null,null,null,null,null,null,{"$f":"IF(ISNUMBER(FIND(\"RES\",REFERENTES!$Q$2:$Q$1134)),REFERENTES!Q1074,\"\")","v":""},{"$f":"REFERENTES!S1074","v":0},null,1069,0,1131,"X"]
[null,null,null,null,null,null,null,null,null,null,null,{"$f":"IF(ISNUMBER(FIND(\"RES\",REFERENTES!$Q$2:$Q$1134)),REFERENTES!Q1075,\"\")","v":""},{"$f":"REFERENTES!S1075","v":0},null,1070,0,1131,"X"]
[null,null,null,null,null,null,null,null,null,null,null,{"$f":"IF(ISNUMBER(FIND(\"RES\",REFERENTES!$Q$2:$Q$1134)),REFERENTES!Q1076,\"\")","v":""},{"$f":"REFERENTES!S1076","v":0},null,1071,0,1131,"X"]
[null,null,null,null,null,null,null,null,null,null,null,{"$f":"IF(ISNUMBER(FIND(\"RES\",REFERENTES!$Q$2:$Q$1134)),REFERENTES!Q1077,\"\")","v":""},{"$f":"REFERENTES!S1077","v":0},null,1072,0,1131,"X"]
[null,null,null,null,null,null,null,null,null,null,null,{"$f":"IF(ISNUMBER(FIND(\"RES\",REFERENTES!$Q$2:$Q$1134)),REFERENTES!Q1078,\"\")","v":""},{"$f":"REFERENTES!S1078","v":0},null,1073,0,1131,"X"]
[null,null,null,null,null,null,null,null,null,null,null,{"$f":"IF(ISNUMBER(FIND(\"RES\",REFERENTES!$Q$2:$Q$1134)),REFERENTES!Q1079,\"\")","v":""},{"$f":"REFERENTES!S1079","v":0},null,1074,0,1131,"X"]
[null,null,null,null,null,null,null,null,null,null,null,{"$f":"IF(ISNUMBER(FIND(\"RES\",REFERENTES!$Q$2:$Q$1134)),REFERENTES!Q1080,\"\")","v":""},{"$f":"REFERENTES!S1080","v":0},null,1075,0,1131,"X"]
[null,null,null,null,null,null,null,null,null,null,null,{"$f":"IF(ISNUMBER(FIND(\"RES\",REFERENTES!$Q$2:$Q$1134)),REFERENTES!Q1081,\"\")","v":""},{"$f":"REFERENTES!S1081","v":0},null,1076,0,1131,"X"]
[null,null,null,null,null,null,null,null,null,null,null,{"$f":"IF(ISNUMBER(FIND(\"RES\",REFERENTES!$Q$2:$Q$1134)),REFERENTES!Q1082,\"\")","v":""},{"$f":"REFERENTES!S1082","v":0},null,1077,0,1131,"X"]
[null,null,null,null,null,null,null,null,null,null,null,{"$f":"IF(ISNUMBER(FIND(\"RES\",REFERENTES!$Q$2:$Q$1134)),REFERENTES!Q1083,\"\")","v":""},{"$f":"REFERENTES!S1083","v":0},null,1078,0,1131,"X"]
[null,null,null,null,null,null,null,null,null,null,null,{"$f":"IF(ISNUMBER(FIND(\"RES\",REFERENTES!$Q$2:$Q$1134)),REFERENTES!Q1084,\"\")","v":""},{"$f":"REFERENTES!S1084","v":0},null,1079,0,1131,"X"]
[null,null,null,null,null,null,null,null,null,null,null,{"$f":"IF(ISNUMBER(FIND(\"RES\",REFERENTES!$Q$2:$Q$1134)),REFERENTES!Q1085,\"\")","v":""},{"$f":"REFERENTES!S1085","v":0},null,1080,0,1131,"X"]
[null,null,null,null,null,null,null,null,null,null,null,{"$f":"IF(ISNUMBER(FIND(\"RES\",REFERENTES!$Q$2:$Q$1134)),REFERENTES!Q1086,\"\")","v":""},{"$f":"REFERENTES!S1086","v":0},null,1081,0,1131,"X"]
[null,null,null,null,null,null,null,null,null,null,null,{"$f":"IF(ISNUMBER(FIND(\"RES\",REFERENTES!$Q$2:$Q$1134)),REFERENTES!Q1087,\"\")","v":""},{"$f":"REFERENTES!S1087","v":0},null,1082,0,1131,"X"]
[null,null,null,null,null,null,null,null,null,null,null,{"$f":"IF(ISNUMBER(FIND(\"RES\",REFERENTES!$Q$2:$Q$1134)),REFERENTES!Q1088,\"\")","v":""},{"$f":"REFERENTES!S1088","v":0},null,1083,0,1131,"X"]
[null,null,null,null,null,null,null,null,null,null,null,{"$f":"IF(ISNUMBER(FIND(\"RES\",REFERENTES!$Q$2:$Q$1134)),REFERENTES!Q1089,\"\")","v":""},{"$f":"REFERENTES!S1089","v":0},null,1084,0,1131,"X"]
[null,null,null,null,null,null,null,null,null,null,null,{"$f":"IF(ISNUMBER(FIND(\"RES\",REFERENTES!$Q$2:$Q$1134)),REFERENTES!Q1090,\"\")","v":""},{"$f":"REFERENTES!S1090","v":0},null,1085,0,1131,"X"]
[null,null,null,null,null,null,null,null,null,null,null,{"$f":"IF(ISNUMBER(FIND(\"RES\",REFERENTES!$Q$2:$Q$1134)),REFERENTES!Q1091,\"\")","v":""},{"$f":"REFERENTES!S1091","v":0},null,1086,0,1131,"X"]
[null,null,null,null,null,null,null,null,null,null,null,{"$f":"IF(ISNUMBER(FIND(\"RES\",REFERENTES!$Q$2:$Q$1134)),REFERENTES!Q1092,\"\")","v":""},{"$f":"REFERENTES!S1092","v":0},null,1087,0,1131,"X"]
[null,null,null,null,null,null,null,null,null,null,null,{"$f":"IF(ISNUMBER(FIND(\"RES\",REFERENTES!$Q$2:$Q$1134)),REFERENTES!Q1093,\"\")","v":""},{"$f":"REFERENTES!S1093","v":0},null,1088,0,1131,"X"]
[null,null,null,null,null,null,null,null,null,null,null,{"$f":"IF(ISNUMBER(FIND(\"RES\",REFERENTES!$Q$2:$Q$1134)),REFERENTES!Q1094,\"\")","v":""},{"$f":"REFERENTES!S1094","v":0},null,1089,0,{"$f":"IF(P1094=0,MAX($O$6:$O$1135)+1,O1094)","v":1131},{"$f":"IFERROR(VLOOKUP(SMALL($Q$6:$Q$1135,O1094),$O$6:$P$1135,2,FALSE),\"X\")","v":"X"}]
[null,null,null,null,null,null,null,null,null,null,null,{"$f":"IF(ISNUMBER(FIND(\"RES\",REFERENTES!$Q$2:$Q$1134)),REFERENTES!Q1095,\"\")","v":""},{"$f":"REFERENTES!S1095","v":0},null,1090,{"$f":"IF(L1095=\"\",0,L1095)","v":0},1131,"X"]
[null,null,null,null,null,null,null,null,null,null,null,{"$f":"IF(ISNUMBER(FIND(\"RES\",REFERENTES!$Q$2:$Q$1134)),REFERENTES!Q1096,\"\")","v":""},{"$f":"REFERENTES!S1096","v":0},null,1091,0,1131,"X"]
[null,null,null,null,null,null,null,null,null,null,null,{"$f":"IF(ISNUMBER(FIND(\"RES\",REFERENTES!$Q$2:$Q$1134)),REFERENTES!Q1097,\"\")","v":""},{"$f":"REFERENTES!S1097","v":0},null,1092,0,1131,"X"]
[null,null,null,null,null,null,null,null,null,null,null,{"$f":"IF(ISNUMBER(FIND(\"RES\",REFERENTES!$Q$2:$Q$1134)),REFERENTES!Q1098,\"\")","v":""},{"$f":"REFERENTES!S1098","v":0},null,1093,0,1131,"X"]
[null,null,null,null,null,null,null,null,null,null,null,{"$f":"IF(ISNUMBER(FIND(\"RES\",REFERENTES!$Q$2:$Q$1134)),REFERENTES!Q1099,\"\")","v":""},{"$f":"REFERENTES!S1099","v":0},null,1094,0,1131,"X"]
[null,null,null,null,null,null,null,null,null,null,null,{"$f":"IF(ISNUMBER(FIND(\"RES\",REFERENTES!$Q$2:$Q$1134)),REFERENTES!Q1100,\"\")","v":""},{"$f":"REFERENTES!S1100","v":0},null,1095,0,1131,"X"]
[null,null,null,null,null,null,null,null,null,null,null,{"$f":"IF(ISNUMBER(FIND(\"RES\",REFERENTES!$Q$2:$Q$1134)),REFERENTES!Q1101,\"\")","v":""},{"$f":"REFERENTES!S1101","v":0},null,1096,0,1131,"X"]
[null,null,null,null,null,null,null,null,null,null,null,{"$f":"IF(ISNUMBER(FIND(\"RES\",REFERENTES!$Q$2:$Q$1134)),REFERENTES!Q1102,\"\")","v":""},{"$f":"REFERENTES!S1102","v":0},null,1097,0,1131,"X"]
[null,null,null,null,null,null,null,null,null,null,null,{"$f":"IF(ISNUMBER(FIND(\"RES\",REFERENTES!$Q$2:$Q$1134)),REFERENTES!Q1103,\"\")","v":""},{"$f":"REFERENTES!S1103","v":0},null,1098,0,1131,"X"]
[null,null,null,null,null,null,null,null,null,null,null,{"$f":"IF(ISNUMBER(FIND(\"RES\",REFERENTES!$Q$2:$Q$1134)),REFERENTES!Q1104,\"\")","v":""},{"$f":"REFERENTES!S1104","v":0},null,1099,0,1131,"X"]
[null,null,null,null,null,null,null,null,null,null,null,{"$f":"IF(ISNUMBER(FIND(\"RES\",REFERENTES!$Q$2:$Q$1134)),REFERENTES!Q1105,\"\")","v":""},{"$f":"REFERENTES!S1105","v":0},null,1100,0,1131,"X"]
[null,null,null,null,null,null,null,null,null,null,null,{"$f":"IF(ISNUMBER(FIND(\"RES\",REFERENTES!$Q$2:$Q$1134)),REFERENTES!Q1106,\"\")","v":""},{"$f":"REFERENTES!S1106","v":0},null,1101,0,1131,"X"]
[null,null,null,null,null,null,null,null,null,null,null,{"$f":"IF(ISNUMBER(FIND(\"RES\",REFERENTES!$Q$2:$Q$1134)),REFERENTES!Q1107,\"\")","v":""},{"$f":"REFERENTES!S1107","v":0},null,1102,0,1131,"X"]
[null,null,null,null,null,null,null,null,null,null,null,{"$f":"IF(ISNUMBER(FIND(\"RES\",REFERENTES!$Q$2:$Q$1134)),REFERENTES!Q1108,\"\")","v":""},{"$f":"REFERENTES!S1108","v":0},null,1103,0,1131,"X"]
[null,null,null,null,null,null,null,null,null,null,null,{"$f":"IF(ISNUMBER(FIND(\"RES\",REFERENTES!$Q$2:$Q$1134)),REFERENTES!Q1109,\"\")","v":""},{"$f":"REFERENTES!S1109","v":0},null,1104,0,1131,"X"]
[null,null,null,null,null,null,null,null,null,null,null,{"$f":"IF(ISNUMBER(FIND(\"RES\",REFERENTES!$Q$2:$Q$1134)),REFERENTES!Q1110,\"\")","v":""},{"$f":"REFERENTES!S1110","v":0},null,1105,0,1131,"X"]
[null,null,null,null,null,null,null,null,null,null,null,{"$f":"IF(ISNUMBER(FIND(\"RES\",REFERENTES!$Q$2:$Q$1134)),REFERENTES!Q1111,\"\")","v":""},{"$f":"REFERENTES!S1111","v":0},null,1106,0,1131,"X"]
[null,null,null,null,null,null,null,null,null,null,null,{"$f":"IF(ISNUMBER(FIND(\"RES\",REFERENTES!$Q$2:$Q$1134)),REFERENTES!Q1112,\"\")","v":""},{"$f":"REFERENTES!S1112","v":0},null,1107,0,1131,"X"]
[null,null,null,null,null,null,null,null,null,null,null,{"$f":"IF(ISNUMBER(FIND(\"RES\",REFERENTES!$Q$2:$Q$1134)),REFERENTES!Q1113,\"\")","v":""},{"$f":"REFERENTES!S1113","v":0},null,1108,0,1131,"X"]
[null,null,null,null,null,null,null,null,null,null,null,{"$f":"IF(ISNUMBER(FIND(\"RES\",REFERENTES!$Q$2:$Q$1134)),REFERENTES!Q1114,\"\")","v":""},{"$f":"REFERENTES!S1114","v":0},null,1109,0,1131,"X"]
[null,null,null,null,null,null,null,null,null,null,null,{"$f":"IF(ISNUMBER(FIND(\"RES\",REFERENTES!$Q$2:$Q$1134)),REFERENTES!Q1115,\"\")","v":""},{"$f":"REFERENTES!S1115","v":0},null,1110,0,1131,"X"]
[null,null,null,null,null,null,null,null,null,null,null,{"$f":"IF(ISNUMBER(FIND(\"RES\",REFERENTES!$Q$2:$Q$1134)),REFERENTES!Q1116,\"\")","v":""},{"$f":"REFERENTES!S1116","v":0},null,1111,0,1131,"X"]
[null,null,null,null,null,null,null,null,null,null,null,{"$f":"IF(ISNUMBER(FIND(\"RES\",REFERENTES!$Q$2:$Q$1134)),REFERENTES!Q1117,\"\")","v":""},{"$f":"REFERENTES!S1117","v":0},null,1112,0,1131,"X"]
[null,null,null,null,null,null,null,null,null,null,null,{"$f":"IF(ISNUMBER(FIND(\"RES\",REFERENTES!$Q$2:$Q$1134)),REFERENTES!Q1118,\"\")","v":""},{"$f":"REFERENTES!S1118","v":0},null,1113,0,1131,"X"]
[null,null,null,null,null,null,null,null,null,null,null,{"$f":"IF(ISNUMBER(FIND(\"RES\",REFERENTES!$Q$2:$Q$1134)),REFERENTES!Q1119,\"\")","v":""},{"$f":"REFERENTES!S1119","v":0},null,1114,0,1131,"X"]
[null,null,null,null,null,null,null,null,null,null,null,{"$f":"IF(ISNUMBER(FIND(\"RES\",REFERENTES!$Q$2:$Q$1134)),REFERENTES!Q1120,\"\")","v":""},{"$f":"REFERENTES!S1120","v":0},null,1115,0,1131,"X"]
[null,null,null,null,null,null,null,null,null,null,null,{"$f":"IF(ISNUMBER(FIND(\"RES\",REFERENTES!$Q$2:$Q$1134)),REFERENTES!Q1121,\"\")","v":""},{"$f":"REFERENTES!S1121","v":0},null,1116,0,1131,"X"]
[null,null,null,null,null,null,null,null,null,null,null,{"$f":"IF(ISNUMBER(FIND(\"RES\",REFERENTES!$Q$2:$Q$1134)),REFERENTES!Q1122,\"\")","v":""},{"$f":"REFERENTES!S1122","v":0},null,1117,0,1131,"X"]
[null,null,null,null,null,null,null,null,null,null,null,{"$f":"IF(ISNUMBER(FIND(\"RES\",REFERENTES!$Q$2:$Q$1134)),REFERENTES!Q1123,\"\")","v":""},{"$f":"REFERENTES!S1123","v":0},null,1118,0,1131,"X"]
[null,null,null,null,null,null,null,null,null,null,null,{"$f":"IF(ISNUMBER(FIND(\"RES\",REFERENTES!$Q$2:$Q$1134)),REFERENTES!Q1124,\"\")","v":""},{"$f":"REFERENTES!S1124","v":0},null,1119,0,1131,"X"]
[null,null,null,null,null,null,null,null,null,null,null,{"$f":"IF(ISNUMBER(FIND(\"RES\",REFERENTES!$Q$2:$Q$1134)),REFERENTES!Q1125,\"\")","v":""},{"$f":"REFERENTES!S1125","v":0},null,1120,0,1131,"X"]
[null,null,null,null,null,null,null,null,null,null,null,{"$f":"IF(ISNUMBER(FIND(\"RES\",REFERENTES!$Q$2:$Q$1134)),REFERENTES!Q1126,\"\")","v":""},{"$f":"REFERENTES!S1126","v":0},null,1121,0,1131,"X"]
[null,null,null,null,null,null,null,null,null,null,null,{"$f":"IF(ISNUMBER(FIND(\"RES\",REFERENTES!$Q$2:$Q$1134)),REFERENTES!Q1127,\"\")","v":""},{"$f":"REFERENTES!S1127","v":0},null,1122,0,1131,"X"]
[null,null,null,null,null,null,null,null,null,null,null,{"$f":"IF(ISNUMBER(FIND(\"RES\",REFERENTES!$Q$2:$Q$1134)),REFERENTES!Q1128,\"\")","v":""},{"$f":"REFERENTES!S1128","v":0},null,1123,0,1131,"X"]
[null,null,null,null,null,null,null,null,null,null,null,{"$f":"IF(ISNUMBER(FIND(\"RES\",REFERENTES!$Q$2:$Q$1134)),REFERENTES!Q1129,\"\")","v":""},{"$f":"REFERENTES!S1129","v":0},null,1124,0,1131,"X"]
[null,null,null,null,null,null,null,null,null,null,null,{"$f":"IF(ISNUMBER(FIND(\"RES\",REFERENTES!$Q$2:$Q$1134)),REFERENTES!Q1130,\"\")","v":""},{"$f":"REFERENTES!S1130","v":0},null,1125,0,1131,"X"]
[null,null,null,null,null,null,null,null,null,null,null,{"$f":"IF(ISNUMBER(FIND(\"RES\",REFERENTES!$Q$2:$Q$1134)),REFERENTES!Q1131,\"\")","v":""},{"$f":"REFERENTES!S1131","v":0},null,1126,0,1131,"X"]
[null,null,null,null,null,null,null,null,null,null,null,{"$f":"IF(ISNUMBER(FIND(\"RES\",REFERENTES!$Q$2:$Q$1134)),REFERENTES!Q1132,\"\")","v":""},{"$f":"REFERENTES!S1132","v":0},null,1127,0,1131,"X"]
[null,null,null,null,null,null,null,null,null,null,null,{"$f":"IF(ISNUMBER(FIND(\"RES\",REFERENTES!$Q$2:$Q$1134)),REFERENTES!Q1133,\"\")","v":""},{"$f":"REFERENTES!S1133","v":0},null,1128,0,1131,"X"]
[null,null,null,null,null,null,null,null,null,null,null,{"$f":"IF(ISNUMBER(FIND(\"RES\",REFERENTES!$Q$2:$Q$1134)),REFERENTES!Q1134,\"\")","v":""},{"$f":"REFERENTES!S1134","v":0},null,1129,0,1131,"X"]
[null,null,null,null,null,null,null,null,null,null,null,{"$f":"IF(ISNUMBER(FIND(\"RES\",REFERENTES!$Q$2:$Q$1134)),REFERENTES!Q1135,\"\")","v":""},{"$f":"REFERENTES!S1135","v":0},null,1130,0,1131,"X"]
[null,null,null,null,null,null,null,null,null,null,null,{"$f":"IF(ISNUMBER(FIND(\"RES\",REFERENTES!$Q$2:$Q$1134)),REFERENTES!Q1136,\"\")","v":""},{"$f":"REFERENTES!S1136","v":0}]
[null,null,null,null,null,null,null,null,null,null,null,{"$f":"IF(ISNUMBER(FIND(\"RES\",REFERENTES!$Q$2:$Q$1134)),REFERENTES!Q1137,\"\")","v":""},{"$f":"REFERENTES!S1137","v":0}]
[null,null,null,null,null,null,null,null,null,null,null,{"$f":"IF(ISNUMBER(FIND(\"RES\",REFERENTES!$Q$2:$Q$1134)),REFERENTES!Q1138,\"\")","v":""},{"$f":"REFERENTES!S1138","v":0}]
[null,null,null,null,null,null,null,null,null,null,null,{"$f":"IF(ISNUMBER(FIND(\"RES\",REFERENTES!$Q$2:$Q$1134)),REFERENTES!Q1139,\"\")","v":""},{"$f":"REFERENTES!S1139","v":0}]
[null,null,null,null,null,null,null,null,null,null,null,{"$f":"IF(ISNUMBER(FIND(\"RES\",REFERENTES!$Q$2:$Q$1134)),REFERENTES!Q1140,\"\")","v":""},{"$f":"REFERENTES!S1140","v":0}]
[null,null,null,null,null,null,null,null,null,null,null,{"$f":"IF(ISNUMBER(FIND(\"RES\",REFERENTES!$Q$2:$Q$1134)),REFERENTES!Q1141,\"\")","v":""},{"$f":"REFERENTES!S1141","v":0}]
[null,null,null,null,null,null,null,null,null,null,null,{"$f":"IF(ISNUMBER(FIND(\"RES\",REFERENTES!$Q$2:$Q$1134)),REFERENTES!Q1142,\"\")","v":""},{"$f":"REFERENTES!S1142","v":0}]
[null,null,null,null,null,null,null,null,null,null,null,{"$f":"IF(ISNUMBER(FIND(\"RES\",REFERENTES!$Q$2:$Q$1134)),REFERENTES!Q1143,\"\")","v":""},{"$f":"REFERENTES!S1143","v":0}]
[null,null,null,null,null,null,null,null,null,null,null,{"$f":"IF(ISNUMBER(FIND(\"RES\",REFERENTES!$Q$2:$Q$1134)),REFERENTES!Q1144,\"\")","v":""},{"$f":"REFERENTES!S1144","v":0}]
[null,null,null,null,null,null,null,null,null,null,null,{"$f":"IF(ISNUMBER(FIND(\"RES\",REFERENTES!$Q$2:$Q$1134)),REFERENTES!Q1145,\"\")","v":""},{"$f":"REFERENTES!S1145","v":0}]
[null,null,null,null,null,null,null,null,null,null,null,{"$f":"IF(ISNUMBER(FIND(\"RES\",REFERENTES!$Q$2:$Q$1134)),REFERENTES!Q1146,\"\")","v":""},{"$f":"REFERENTES!S1146","v":0}]
[null,null,null,null,null,null,null,null,null,null,null,{"$f":"IF(ISNUMBER(FIND(\"RES\",REFERENTES!$Q$2:$Q$1134)),REFERENTES!Q1147,\"\")","v":""},{"$f":"REFERENTES!S1147","v":0}]
[null,null,null,null,null,null,null,null,null,null,null,{"$f":"IF(ISNUMBER(FIND(\"RES\",REFERENTES!$Q$2:$Q$1134)),REFERENTES!Q1148,\"\")","v":""},{"$f":"REFERENTES!S1148","v":0}]
[null,null,null,null,null,null,null,null,null,null,null,{"$f":"IF(ISNUMBER(FIND(\"RES\",REFERENTES!$Q$2:$Q$1134)),REFERENTES!Q1149,\"\")","v":""},55345]
[null,null,null,null,null,null,null,null,null,null,null,{"$f":"IF(ISNUMBER(FIND(\"RES\",REFERENTES!$Q$2:$Q$1134)),REFERENTES!Q1150,\"\")","v":""},55346]
[null,null,null,null,null,null,null,null,null,null,null,{"$f":"IF(ISNUMBER(FIND(\"RES\",REFERENTES!$Q$2:$Q$1134)),REFERENTES!Q1151,\"\")","v":""},55337]
[null,null,null,null,null,null,null,null,null,null,null,{"$f":"IF(ISNUMBER(FIND(\"RES\",REFERENTES!$Q$2:$Q$1134)),REFERENTES!Q1152,\"\")","v":""},55338]
[null,null,null,null,null,null,null,null,null,null,null,{"$f":"IF(ISNUMBER(FIND(\"RES\",REFERENTES!$Q$2:$Q$1134)),REFERENTES!Q1153,\"\")","v":""},55339]
[null,null,null,null,null,null,null,null,null,null,null,{"$f":"IF(ISNUMBER(FIND(\"RES\",REFERENTES!$Q$2:$Q$1134)),REFERENTES!Q1154,\"\")","v":""},55340]
[null,null,null,null,null,null,null,null,null,null,null,{"$f":"IF(ISNUMBER(FIND(\"RES\",REFERENTES!$Q$2:$Q$1134)),REFERENTES!Q1155,\"\")","v":""},55341]
[null,null,null,null,null,null,null,null,null,null,null,{"$f":"IF(ISNUMBER(FIND(\"RES\",REFERENTES!$Q$2:$Q$1134)),REFERENTES!Q1156,\"\")","v":""},55342]
[null,null,null,null,null,null,null,null,null,null,null,{"$f":"IF(ISNUMBER(FIND(\"RES\",REFERENTES!$Q$2:$Q$1134)),REFERENTES!Q1157,\"\")","v":""},55344]
[null,null,null,null,null,null,null,null,null,null,null,{"$f":"IF(ISNUMBER(FIND(\"RES\",REFERENTES!$Q$2:$Q$1134)),REFERENTES!Q1158,\"\")","v":""},55343]