{"text_format":"1","workbook":"xlsx","n_sheets":11,"sheets":["Registro de cambios","configuracion","DIGITADOR","DATOS","referentes","Otras referencias","AGD_MUESTREOS","AGD_PARAMETRO","AGD_MUESTRAS","AGD_MUESTRAS_VARIABLES","AGD_AUTORIAS"],"not_rendered":{"charts":0,"images":0,"macros":1,"external_links":0,"defined_names":0,"comments":2,"pivot_tables":0},"unopened":[],"bounds":{"document_bytes":16777216,"sheet_cells":100000,"rows_first":2000,"rows_last":500,"rows_between":2000,"halvings":0,"cell_chars":16384,"cell_head_chars":4096},"cells_cut":0,"cells_raw":0,"read":"whole","date_system":"1900"}

{"sheet":"Registro de cambios","index":0,"n_rows":5,"n_cols":7,"rows_kept":5,"cut":false,"hidden":true,"merged":[[1,3,1,6]]}
[]
[null,null,null,"REGISTRO DE CAMBIOS"]
[null,null,null,"VERSIÓN No.","CAMBIO REALIZADO","AUTOR","VIGENTE DESDE"]
[null,null,null,"20240520i","Actualización del código de la macro.\n\nSe eliminó la URL de la antigua API de portete:\n       http://portete.invemar.org.co:7003/ArgosWebServices-RESTWebService-context-root/rest/1.0\n\nFue reemplazada por la URL de la API de ARGOS:\n       https://argos.invemar.org.co/api/\n\nLa API contiene End Points que permiten tener mayor control, facilitan la descarga de referentes (listas de usuarios, estaciones, especies, etc.) que corresponden a criterios específicos como el proyecto usado en la plantilla para evitar descargar data innecesaria.\n\nDel mismo modo, también permite la carga de información a la BDD del INVEMAR.\n\nLa macro toma los Endpoints desde la hoja configuracion de una tabla llamada \"Configuración referentes\", a la que se le puede modificar las rutas de la API o agregar nuevas. cabe resaltar que se puede \"quemar\" directamente en la macro los Endpoints que lo requieran.","Kevin Moreno","20/05/2024"]
[null,null,null,1,"Se crea la plantilla.",null,"2018-02-04"]

{"sheet":"configuracion","index":1,"n_rows":71,"n_cols":9,"rows_kept":71,"cut":false,"hidden":true,"merged":[[61,0,61,2],[28,0,35,0],[37,0,42,0],[45,0,45,1],[0,0,2,0],[3,0,5,0],[7,0,8,0],[9,0,15,0],[17,0,21,0],[23,0,26,0]]}
["general","urlServicio","https://argos.invemar.org.co/api/"]
[null,"fila de inicio",5]
[null,"fila de fin",2100]
["metodologias","Metodologias",837]
[null,"Referentes",500]
[null,"Cantidad maxima de referentes ",500]
["estaciones/investigadores","proyectos",3316]
["Lista especies","metodologias",88]
[null,"proyectos",1480]
["MUESTREOS","ID_MUESTREO","DATOS,M"]
[null,"ID_ESTACION","DATOS,O"]
[null,"ID_PROYECTO",3316]
[null,"ID_METODOLOGIA",837]
[null,"ID_TEMATICAS",205]
[null,"FECHA","DATOS,G"]
[null,"NOTAS","DIGITADOR,B,14"]
[null,"cantidad",2100]
["MUESTREOS PARAMETROS","ID_MUESTREO","DATOS,M","DATOS,M"]
[null,"ID_PARAMETRO",1055,1170]
[null,"ID_METODOLOGIA",{"$f":"$C$4","v":837},{"$f":"$C$4","v":837}]
[null,"ID_UNIDAD_MEDIDA",100,100]
[null,"VALOR","DIGITADOR,B,5","DIGITADOR,B,11"]
[null,"cantidad",2100,2100]
["MUESTRAS","ID_MUESTRA","DATOS,L"]
[null,"ID_MUESTREO","DATOS,D"]
[null,"NOTAS","DATOS,J"]
[null,"ES_REPLICA",1]
[null,"cantidad",2100]
["MUESTRAS VARIABLES","ID_PARAMETRO",135,841,137,281,585,823,989]
[null,"ID_METODOLOGIA",837,837,837,837,837,837,837]
[null,"ID_UNIDAD_MEDIDA",100,100,100,100,100,19,100]
[null,"ID_MUESTRA","DATOS,L","DATOS,L","DATOS,L","DATOS,L","DATOS,L","DATOS,L","DATOS,L"]
[null,"ID_METODO",null,null,732,732,732,732,732]
[null,"VALOR","DATOS,T","DATOS,U","DATOS,V","DATOS,W","DATOS,X","DATOS,Z","DATOS,AB"]
[null,"QUALITY_FLAG"]
[null,"PRECISION"]
[null,"cantidad",2100,2100,2100,2100,2100,2100,2100]
["AUTORIAS","ID_FUNCIONARIO","DIGITADOR,B,2","DATOS,Q"]
[null,"ID_TAREA",5,4]
[null,"ORDEN",1,2]
[null,"FECHA","DIGITADOR,B,7","DATOS,G"]
[null,"ID_MUESTREO","DATOS,M","DATOS,M"]
[null,"ENTIDAD","DIGITADOR,B,4","DIGITADOR,B,4"]
[null,"cantidad",2100,2100]
[]
["REGISTROS GENERADOS",null,"REGISTROS CARGADOS"]
["MUESTREOS"]
["parametro muestreo"]
["muestra"]
["muestra variable"]
["autoria"]
["registros correctos"]
["Fecha de carga"]
["json error"]
["error"]
[]
[]
["Atributo","Descripción","Código"]
["Tipo Nodo","Estaciones",{"$f":"VLOOKUP(B59,'Otras referencias'!A14:C24,2,FALSE)","v":40}]
[]
[]
["CONFIGURACION REFERENTES"]
["Ruta de la API","Endpoint","Descripción"]
["URL - AGM Campo",{"$f":"CONCATENATE(\"parametros/agmcampo/\",$C$4,\"\")","v":"parametros/agmcampo/837"},"Listado de referentes AGM_CAMPO"]
["URL - Especies",{"$f":"IF($C$8=\"\",\"\",CONCATENATE(\"especies/filt/\",$C$9,\",\",$C$8,\"/\"))","v":"especies/filt/1480,88/"},"Especies por proyecto\n(No todos los proyectos tienen asociados una lista de especies)"]
["URL - Estaciones",{"$f":"CONCATENATE(\"estaciones/\", $C$59, \"/\",$C$7,\"\")","v":"estaciones/40/3316"},"Estaciones/parcelas por proyecto, cambia dependiendo del Tipo de Nodo, cuyo estado sea VIGENTE."]
["URL - Usuarios",{"$f":"CONCATENATE(\"parametros/usersByProject/\",$C$7,\"\")","v":"parametros/usersByProject/3316"},"Usuarios por proyecto."]
["URL - Entidades","estaciones/get-entidades","Listado de entidades."]
["Atributos de la API","codigo_in","nombre_in"]
["Rango de atributos de la API","B70:C71","nombre_in"]
["URL - Plantillas","plantillas/","Endpoint para la carga de datos al sistema."]

{"sheet":"DIGITADOR","index":2,"n_rows":27,"n_cols":4,"rows_kept":27,"cut":false,"hidden":false,"merged":[[17,0,17,1],[12,0,12,1],[11,3,13,9],[0,0,0,1],[0,3,5,9],[5,0,6,0],[6,3,8,9],[9,3,10,9]]}
["Plantilla para la Recolección de Datos Estructura Arrecifal del Banco de las Ánimas",null,null,"Recomendaciones generales: \n¡Precaución! No inserte Filas o Columnas.\nEn los casos en que falte un valor a ingresar que provenga de la hoja de referencias, informe para que el administrador del sistema haga las adiciones necesarias.\nEsta es una plantilla programada. Las columnas de color oscuro se llenan automaticamente, principalmente a partir de los contenidos de la hoja de referencias. \nNO UTILICE PUNTO Y COMA (;) en ningun campo, por ser el separador de variables (columnas). Tampoco escriba las unidades de medida, no son necesarias.\nPara el correcto funcionamiento de la hoja debe estar activa la opcion de Excel de ejecutar macros (al abrir la hoja acepte la opcion habilitar macros, mensaje de Excel que aparece en la parte superior de la hoja en un recuadro amarillo). La extensión del archivo debe ser .xlsm\nSe recomienda renombrar el archivo de la siguiente manera: SIMAC_Estructura_NombreEstacion_FechaMonitoreo.xlsm"]
["Código Digitador",{"$f":"IF(B3=\"\",\"\",INDEX(referentes!Y2:Z37,MATCH(B3,referentes!Z2:Z37,0),1))","v":""}]
["Nombre Digitador"]
["Entidad","INVEMAR"]
["Versión plantilla",{"$f":"'Registro de cambios'!$D$4","v":"20240520i"}]
["Fecha en la que ingresa los datos en esta hoja","DD/MM/AAAA"]
[null,"3000-04-01",null,"Previamente a iniciar el llenado de la plantilla, debe presionar el botón \"Descargar referentes\" para que los referentes de ésta plantilla sean actualizados. \nLuego de llenar completamente la plantilla, haga clic sobre el botón \"Generar tablas\" para que los datos sean organizados antes de cargarlos al Sistema de Información.\nAntes de presionar el botón \"Generar tablas\" verifique que:\na. No haya celdas con valores como \"#N/A\" o \"#¡REF!\"\nb. No se esten aplicando filtros en la hoja de datos \nPara finalizar, presione el botón \"Cargar datos\"."]
[]
["Código proyecto",3316]
["Proyecto","Restauración banco de las Ánimas, departamento del Magdalena",null,"Si requiere ayuda contacte a:\nKevin S. Moreno (kevin.moreno@invemar.org.co)  - Apoyo técnico software"]
["Nombre del archivo",{"$f":"MID(CELL(\"FILENAME\",N63),FIND(\"[\",CELL(\"FILENAME\",N63))+1,   FIND(\"]\",CELL(\"FILENAME\",N63))-FIND(\"[\",CELL(\"FILENAME\",N63))-1)","v":"SAMP_Estructura_Arrecifal_Animas_20240520i.xlsm"}]
[null,null,null,"El custodio de los datos es el único autorizado para distribuir este conjunto de datos. El observador y el digitador se comprometen a tomar las medidas necesarias para salvaguardar este conjunto de datos de modo que copia de los mismos no sean obtenidas y/o usadas por terceros no relacionados con el propósito para la cual se recolectó."]
["ATRIBUTOS ADICIONALES"]
["Observaciones generales"]
[]
[]
[]
["REGISTROS GENERADOS",null,"REGISTROS CARGADOS"]
["MUESTREOS",{"$f":"IF(configuracion!B47=\"\",\"\",configuracion!B47)","v":""},{"$f":"IF(configuracion!C47=\"\",\"\",configuracion!C47)","v":""}]
["parametro muestreo",{"$f":"IF(configuracion!B48=\"\",\"\",configuracion!B48)","v":""},{"$f":"IF(configuracion!C48=\"\",\"\",configuracion!C48)","v":""}]
["muestra",{"$f":"IF(configuracion!B49=\"\",\"\",configuracion!B49)","v":""},{"$f":"IF(configuracion!C49=\"\",\"\",configuracion!C49)","v":""}]
["muestra variable",{"$f":"IF(configuracion!B50=\"\",\"\",configuracion!B50)","v":""},{"$f":"IF(configuracion!C50=\"\",\"\",configuracion!C50)","v":""}]
["autoria",{"$f":"IF(configuracion!B51=\"\",\"\",configuracion!B51)","v":""},{"$f":"IF(configuracion!C51=\"\",\"\",configuracion!C51)","v":""}]
["registros correctos",{"$f":"IF(configuracion!B52=\"\",\"\",configuracion!B52)","v":""},{"$f":"IF(configuracion!C52=\"\",\"\",configuracion!C52)","v":""}]
["Fecha de carga",{"$f":"IF(configuracion!B53=\"\",\"\",configuracion!B53)","v":""},{"$f":"IF(configuracion!C53=\"\",\"\",configuracion!C53)","v":""}]
["json error",{"$f":"IF(configuracion!B54=\"\",\"\",configuracion!B54)","v":""},{"$f":"IF(configuracion!C54=\"\",\"\",configuracion!C54)","v":""}]
["error",{"$f":"IF(configuracion!B55=\"\",\"\",configuracion!B55)","v":""},{"$f":"IF(configuracion!C55=\"\",\"\",configuracion!C55)","v":""}]

{"sheet":"DATOS","index":3,"n_rows":2004,"n_cols":28,"rows_kept":2004,"cut":false,"hidden":false,"merged":[[2,12,3,12],[2,13,3,13],[2,14,3,14],[2,15,3,16],[2,17,3,17],[2,18,3,18],[1,2,3,2],[2,3,3,3],[2,4,3,4],[2,5,3,5],[2,6,3,6],[2,7,3,7],[2,8,3,8],[1,3,1,9],[2,9,3,9],[2,10,3,10],[1,10,1,14],[2,11,3,11],[1,15,1,27],[2,26,3,26],[2,21,3,21],[2,22,3,22],[2,25,3,25],[2,27,3,27],[2,23,2,24],[2,19,3,19],[2,20,3,20]]}
[{"$f":"DIGITADOR!B7+F5","v":"3000-04-01"}]
[{"$f":"TEXT(A1,\"yyyymmddhhmmss\")","v":"30000401000000"},null,"CODIGO","Datos generales",null,null,null,null,null,null,"Lugar",null,null,null,null,"Datos generales de la muestra"]
[null,null,null,"CODMUESTRA","FECHA","HORA","DATE","MES","Muestreo","Anotaciones de CAMPO","CONSECUTIVO","ID_MUESTRA","ID_MUESTREO (AGD_MUESTREOS)","ESTACION","CODBDD","DATOS TOMADOS POR",null,"UNIKE_KEY","ENTIDAD","TRANSECTO","CUADRANTE","CAT VIDA","TIPO","ESPECIE",null,"CANTIDAD","RUGOSIDAD","RUGOSIDAD_BD"]
[null,null,null,"CODMUESTREO","FECHA","HORA",null,null,null,null,null,null,null,null,null,null,null,null,null,null,null,null,null,"COD","NOMBRE"]
[{"$f":"A2","v":"30000401000000"},null,{"$f":"IF(R5=R4,C4,C4+1)","v":0},{"$f":"IF(E5<>\"\",CONCATENATE(B5,A5,DIGITADOR!$M$1,C5),\"\")","v":""},null,null,{"$f":"IF(E5=\"\", \"\", (E5+F5))","v":""},{"$f":"IF(G5<>\"\",MONTH(G5),\"\")","v":""},{"$f":"IF(D5=\"\",\"\",1)","v":""},null,1,{"$f":"IF(E5=\"\",\"\",CONCATENATE(D5,K5))","v":""},{"$f":"IF(E5<>\"\",CONCATENATE(B5,A5,DIGITADOR!$M$1,C5),\"\")","v":""},null,{"$f":"IF(N5=\"\",\"\",INDEX(referentes!S:T,MATCH(N5,referentes!T:T,0),1))","v":""},null,{"$f":"IF(P5=\"\",\"\",INDEX(referentes!Y:Z,MATCH(P5,referentes!Z:Z,0),1))","v":""},{"$f":"IF(G5=\"\",\"\",CONCATENATE(G5,O5,Q5))","v":""},{"$f":"IF(E5=\"\",\"\",\"INVEMAR\")","v":""},null,null,null,null,null,{"$f":"IF(X5=\"\",\"\",INDEX(referentes!J:K,MATCH(X5,referentes!J:J,0),2))","v":""},null,null,{"$f":"IF(T5=\"\",\"\",AA5)","v":""}]
[{"$f":"A5","v":"30000401000000"},null,{"$f":"IF(R6=R5,C5,C5+1)","v":0},{"$f":"IF(E6<>\"\",CONCATENATE(B6,A6,DIGITADOR!$M$1,C6),\"\")","v":""},null,null,{"$f":"IF(E6=\"\", \"\", (E6+F6))","v":""},{"$f":"IF(G6<>\"\",MONTH(G6),\"\")","v":""},{"$f":"IF(D6=\"\",\"\",1)","v":""},null,2,{"$f":"IF(E6=\"\",\"\",CONCATENATE(D6,K6))","v":""},{"$f":"IF(R6=R5,\"\",IF(E6<>\"\",CONCATENATE(B6,A6,DIGITADOR!$M$1,C6),\"\"))","v":""},null,{"$f":"IF(N6=\"\",\"\",INDEX(referentes!S:T,MATCH(N6,referentes!T:T,0),1))","v":""},null,{"$f":"IF(P6=\"\",\"\",INDEX(referentes!Y:Z,MATCH(P6,referentes!Z:Z,0),1))","v":""},{"$f":"IF(G6=\"\",\"\",CONCATENATE(G6,O6,Q6))","v":""},{"$f":"IF(E6=\"\",\"\",\"INVEMAR\")","v":""},null,null,null,null,null,{"$f":"IF(X6=\"\",\"\",INDEX(referentes!J:K,MATCH(X6,referentes!J:J,0),2))","v":""},null,null,{"$f":"IF(T6=\"\",\"\",IF(T6=T5,AB5,AA6))","v":""}]
[{"$f":"A6","v":"30000401000000"},null,0,{"$f":"IF(E7<>\"\",CONCATENATE(B7,A7,DIGITADOR!$M$1,C7),\"\")","v":""},null,null,"","","",null,3,"",{"$f":"IF(R7=R6,\"\",IF(E7<>\"\",CONCATENATE(B7,A7,DIGITADOR!$M$1,C7),\"\"))","v":""},null,{"$f":"IF(N7=\"\",\"\",INDEX(referentes!S:T,MATCH(N7,referentes!T:T,0),1))","v":""},null,{"$f":"IF(P7=\"\",\"\",INDEX(referentes!Y:Z,MATCH(P7,referentes!Z:Z,0),1))","v":""},"","",null,null,null,null,null,{"$f":"IF(X7=\"\",\"\",INDEX(referentes!J:K,MATCH(X7,referentes!J:J,0),2))","v":""},null,null,""]
["30000401000000",null,0,{"$f":"IF(E8<>\"\",CONCATENATE(B8,A8,DIGITADOR!$M$1,C8),\"\")","v":""},null,null,"","","",null,4,"",{"$f":"IF(R8=R7,\"\",IF(E8<>\"\",CONCATENATE(B8,A8,DIGITADOR!$M$1,C8),\"\"))","v":""},null,{"$f":"IF(N8=\"\",\"\",INDEX(referentes!S:T,MATCH(N8,referentes!T:T,0),1))","v":""},null,{"$f":"IF(P8=\"\",\"\",INDEX(referentes!Y:Z,MATCH(P8,referentes!Z:Z,0),1))","v":""},"","",null,null,null,null,null,{"$f":"IF(X8=\"\",\"\",INDEX(referentes!J:K,MATCH(X8,referentes!J:J,0),2))","v":""},null,null,""]
["30000401000000",null,0,{"$f":"IF(E9<>\"\",CONCATENATE(B9,A9,DIGITADOR!$M$1,C9),\"\")","v":""},null,null,"","","",null,5,"",{"$f":"IF(R9=R8,\"\",IF(E9<>\"\",CONCATENATE(B9,A9,DIGITADOR!$M$1,C9),\"\"))","v":""},null,{"$f":"IF(N9=\"\",\"\",INDEX(referentes!S:T,MATCH(N9,referentes!T:T,0),1))","v":""},null,{"$f":"IF(P9=\"\",\"\",INDEX(referentes!Y:Z,MATCH(P9,referentes!Z:Z,0),1))","v":""},"","",null,null,null,null,null,{"$f":"IF(X9=\"\",\"\",INDEX(referentes!J:K,MATCH(X9,referentes!J:J,0),2))","v":""},null,null,""]
["30000401000000",null,0,{"$f":"IF(E10<>\"\",CONCATENATE(B10,A10,DIGITADOR!$M$1,C10),\"\")","v":""},null,null,"","","",null,6,"",{"$f":"IF(R10=R9,\"\",IF(E10<>\"\",CONCATENATE(B10,A10,DIGITADOR!$M$1,C10),\"\"))","v":""},null,{"$f":"IF(N10=\"\",\"\",INDEX(referentes!S:T,MATCH(N10,referentes!T:T,0),1))","v":""},null,{"$f":"IF(P10=\"\",\"\",INDEX(referentes!Y:Z,MATCH(P10,referentes!Z:Z,0),1))","v":""},"","",null,null,null,null,null,{"$f":"IF(X10=\"\",\"\",INDEX(referentes!J:K,MATCH(X10,referentes!J:J,0),2))","v":""},null,null,""]
["30000401000000",null,0,{"$f":"IF(E11<>\"\",CONCATENATE(B11,A11,DIGITADOR!$M$1,C11),\"\")","v":""},null,null,"","","",null,7,"",{"$f":"IF(R11=R10,\"\",IF(E11<>\"\",CONCATENATE(B11,A11,DIGITADOR!$M$1,C11),\"\"))","v":""},null,{"$f":"IF(N11=\"\",\"\",INDEX(referentes!S:T,MATCH(N11,referentes!T:T,0),1))","v":""},null,{"$f":"IF(P11=\"\",\"\",INDEX(referentes!Y:Z,MATCH(P11,referentes!Z:Z,0),1))","v":""},"","",null,null,null,null,null,{"$f":"IF(X11=\"\",\"\",INDEX(referentes!J:K,MATCH(X11,referentes!J:J,0),2))","v":""},null,null,""]
["30000401000000",null,0,{"$f":"IF(E12<>\"\",CONCATENATE(B12,A12,DIGITADOR!$M$1,C12),\"\")","v":""},null,null,"","","",null,8,"",{"$f":"IF(R12=R11,\"\",IF(E12<>\"\",CONCATENATE(B12,A12,DIGITADOR!$M$1,C12),\"\"))","v":""},null,{"$f":"IF(N12=\"\",\"\",INDEX(referentes!S:T,MATCH(N12,referentes!T:T,0),1))","v":""},null,{"$f":"IF(P12=\"\",\"\",INDEX(referentes!Y:Z,MATCH(P12,referentes!Z:Z,0),1))","v":""},"","",null,null,null,null,null,{"$f":"IF(X12=\"\",\"\",INDEX(referentes!J:K,MATCH(X12,referentes!J:J,0),2))","v":""},null,null,""]
["30000401000000",null,0,{"$f":"IF(E13<>\"\",CONCATENATE(B13,A13,DIGITADOR!$M$1,C13),\"\")","v":""},null,null,"","","",null,9,"",{"$f":"IF(R13=R12,\"\",IF(E13<>\"\",CONCATENATE(B13,A13,DIGITADOR!$M$1,C13),\"\"))","v":""},null,{"$f":"IF(N13=\"\",\"\",INDEX(referentes!S:T,MATCH(N13,referentes!T:T,0),1))","v":""},null,{"$f":"IF(P13=\"\",\"\",INDEX(referentes!Y:Z,MATCH(P13,referentes!Z:Z,0),1))","v":""},"","",null,null,null,null,null,{"$f":"IF(X13=\"\",\"\",INDEX(referentes!J:K,MATCH(X13,referentes!J:J,0),2))","v":""},null,null,""]
["30000401000000",null,0,{"$f":"IF(E14<>\"\",CONCATENATE(B14,A14,DIGITADOR!$M$1,C14),\"\")","v":""},null,null,"","","",null,10,"",{"$f":"IF(R14=R13,\"\",IF(E14<>\"\",CONCATENATE(B14,A14,DIGITADOR!$M$1,C14),\"\"))","v":""},null,{"$f":"IF(N14=\"\",\"\",INDEX(referentes!S:T,MATCH(N14,referentes!T:T,0),1))","v":""},null,{"$f":"IF(P14=\"\",\"\",INDEX(referentes!Y:Z,MATCH(P14,referentes!Z:Z,0),1))","v":""},"","",null,null,null,null,null,{"$f":"IF(X14=\"\",\"\",INDEX(referentes!J:K,MATCH(X14,referentes!J:J,0),2))","v":""},null,null,""]
["30000401000000",null,0,{"$f":"IF(E15<>\"\",CONCATENATE(B15,A15,DIGITADOR!$M$1,C15),\"\")","v":""},null,null,"","","",null,11,"",{"$f":"IF(R15=R14,\"\",IF(E15<>\"\",CONCATENATE(B15,A15,DIGITADOR!$M$1,C15),\"\"))","v":""},null,{"$f":"IF(N15=\"\",\"\",INDEX(referentes!S:T,MATCH(N15,referentes!T:T,0),1))","v":""},null,{"$f":"IF(P15=\"\",\"\",INDEX(referentes!Y:Z,MATCH(P15,referentes!Z:Z,0),1))","v":""},"","",null,null,null,null,null,{"$f":"IF(X15=\"\",\"\",INDEX(referentes!J:K,MATCH(X15,referentes!J:J,0),2))","v":""},null,null,""]
["30000401000000",null,0,{"$f":"IF(E16<>\"\",CONCATENATE(B16,A16,DIGITADOR!$M$1,C16),\"\")","v":""},null,null,"","","",null,12,"",{"$f":"IF(R16=R15,\"\",IF(E16<>\"\",CONCATENATE(B16,A16,DIGITADOR!$M$1,C16),\"\"))","v":""},null,{"$f":"IF(N16=\"\",\"\",INDEX(referentes!S:T,MATCH(N16,referentes!T:T,0),1))","v":""},null,{"$f":"IF(P16=\"\",\"\",INDEX(referentes!Y:Z,MATCH(P16,referentes!Z:Z,0),1))","v":""},"","",null,null,null,null,null,{"$f":"IF(X16=\"\",\"\",INDEX(referentes!J:K,MATCH(X16,referentes!J:J,0),2))","v":""},null,null,""]
["30000401000000",null,0,{"$f":"IF(E17<>\"\",CONCATENATE(B17,A17,DIGITADOR!$M$1,C17),\"\")","v":""},null,null,"","","",null,13,"",{"$f":"IF(R17=R16,\"\",IF(E17<>\"\",CONCATENATE(B17,A17,DIGITADOR!$M$1,C17),\"\"))","v":""},null,{"$f":"IF(N17=\"\",\"\",INDEX(referentes!S:T,MATCH(N17,referentes!T:T,0),1))","v":""},null,{"$f":"IF(P17=\"\",\"\",INDEX(referentes!Y:Z,MATCH(P17,referentes!Z:Z,0),1))","v":""},"","",null,null,null,null,null,{"$f":"IF(X17=\"\",\"\",INDEX(referentes!J:K,MATCH(X17,referentes!J:J,0),2))","v":""},null,null,""]
["30000401000000",null,0,{"$f":"IF(E18<>\"\",CONCATENATE(B18,A18,DIGITADOR!$M$1,C18),\"\")","v":""},null,null,"","","",null,14,"",{"$f":"IF(R18=R17,\"\",IF(E18<>\"\",CONCATENATE(B18,A18,DIGITADOR!$M$1,C18),\"\"))","v":""},null,{"$f":"IF(N18=\"\",\"\",INDEX(referentes!S:T,MATCH(N18,referentes!T:T,0),1))","v":""},null,{"$f":"IF(P18=\"\",\"\",INDEX(referentes!Y:Z,MATCH(P18,referentes!Z:Z,0),1))","v":""},"","",null,null,null,null,null,{"$f":"IF(X18=\"\",\"\",INDEX(referentes!J:K,MATCH(X18,referentes!J:J,0),2))","v":""},null,null,""]
["30000401000000",null,0,{"$f":"IF(E19<>\"\",CONCATENATE(B19,A19,DIGITADOR!$M$1,C19),\"\")","v":""},null,null,"","","",null,15,"",{"$f":"IF(R19=R18,\"\",IF(E19<>\"\",CONCATENATE(B19,A19,DIGITADOR!$M$1,C19),\"\"))","v":""},null,{"$f":"IF(N19=\"\",\"\",INDEX(referentes!S:T,MATCH(N19,referentes!T:T,0),1))","v":""},null,{"$f":"IF(P19=\"\",\"\",INDEX(referentes!Y:Z,MATCH(P19,referentes!Z:Z,0),1))","v":""},"","",null,null,null,null,null,{"$f":"IF(X19=\"\",\"\",INDEX(referentes!J:K,MATCH(X19,referentes!J:J,0),2))","v":""},null,null,""]
["30000401000000",null,0,{"$f":"IF(E20<>\"\",CONCATENATE(B20,A20,DIGITADOR!$M$1,C20),\"\")","v":""},null,null,"","","",null,16,"",{"$f":"IF(R20=R19,\"\",IF(E20<>\"\",CONCATENATE(B20,A20,DIGITADOR!$M$1,C20),\"\"))","v":""},null,{"$f":"IF(N20=\"\",\"\",INDEX(referentes!S:T,MATCH(N20,referentes!T:T,0),1))","v":""},null,{"$f":"IF(P20=\"\",\"\",INDEX(referentes!Y:Z,MATCH(P20,referentes!Z:Z,0),1))","v":""},"","",null,null,null,null,null,{"$f":"IF(X20=\"\",\"\",INDEX(referentes!J:K,MATCH(X20,referentes!J:J,0),2))","v":""},null,null,""]
["30000401000000",null,0,{"$f":"IF(E21<>\"\",CONCATENATE(B21,A21,DIGITADOR!$M$1,C21),\"\")","v":""},null,null,"","","",null,17,"",{"$f":"IF(R21=R20,\"\",IF(E21<>\"\",CONCATENATE(B21,A21,DIGITADOR!$M$1,C21),\"\"))","v":""},null,{"$f":"IF(N21=\"\",\"\",INDEX(referentes!S:T,MATCH(N21,referentes!T:T,0),1))","v":""},null,{"$f":"IF(P21=\"\",\"\",INDEX(referentes!Y:Z,MATCH(P21,referentes!Z:Z,0),1))","v":""},"","",null,null,null,null,null,{"$f":"IF(X21=\"\",\"\",INDEX(referentes!J:K,MATCH(X21,referentes!J:J,0),2))","v":""},null,null,""]
["30000401000000",null,0,{"$f":"IF(E22<>\"\",CONCATENATE(B22,A22,DIGITADOR!$M$1,C22),\"\")","v":""},null,null,"","","",null,18,"",{"$f":"IF(R22=R21,\"\",IF(E22<>\"\",CONCATENATE(B22,A22,DIGITADOR!$M$1,C22),\"\"))","v":""},null,{"$f":"IF(N22=\"\",\"\",INDEX(referentes!S:T,MATCH(N22,referentes!T:T,0),1))","v":""},null,{"$f":"IF(P22=\"\",\"\",INDEX(referentes!Y:Z,MATCH(P22,referentes!Z:Z,0),1))","v":""},"","",null,null,null,null,null,{"$f":"IF(X22=\"\",\"\",INDEX(referentes!J:K,MATCH(X22,referentes!J:J,0),2))","v":""},null,null,""]
["30000401000000",null,0,{"$f":"IF(E23<>\"\",CONCATENATE(B23,A23,DIGITADOR!$M$1,C23),\"\")","v":""},null,null,"","","",null,19,"",{"$f":"IF(R23=R22,\"\",IF(E23<>\"\",CONCATENATE(B23,A23,DIGITADOR!$M$1,C23),\"\"))","v":""},null,{"$f":"IF(N23=\"\",\"\",INDEX(referentes!S:T,MATCH(N23,referentes!T:T,0),1))","v":""},null,{"$f":"IF(P23=\"\",\"\",INDEX(referentes!Y:Z,MATCH(P23,referentes!Z:Z,0),1))","v":""},"","",null,null,null,null,null,{"$f":"IF(X23=\"\",\"\",INDEX(referentes!J:K,MATCH(X23,referentes!J:J,0),2))","v":""},null,null,""]
["30000401000000",null,0,{"$f":"IF(E24<>\"\",CONCATENATE(B24,A24,DIGITADOR!$M$1,C24),\"\")","v":""},null,null,"","","",null,20,"",{"$f":"IF(R24=R23,\"\",IF(E24<>\"\",CONCATENATE(B24,A24,DIGITADOR!$M$1,C24),\"\"))","v":""},null,{"$f":"IF(N24=\"\",\"\",INDEX(referentes!S:T,MATCH(N24,referentes!T:T,0),1))","v":""},null,{"$f":"IF(P24=\"\",\"\",INDEX(referentes!Y:Z,MATCH(P24,referentes!Z:Z,0),1))","v":""},"","",null,null,null,null,null,{"$f":"IF(X24=\"\",\"\",INDEX(referentes!J:K,MATCH(X24,referentes!J:J,0),2))","v":""},null,null,""]
["30000401000000",null,0,{"$f":"IF(E25<>\"\",CONCATENATE(B25,A25,DIGITADOR!$M$1,C25),\"\")","v":""},null,null,"","","",null,21,"",{"$f":"IF(R25=R24,\"\",IF(E25<>\"\",CONCATENATE(B25,A25,DIGITADOR!$M$1,C25),\"\"))","v":""},null,{"$f":"IF(N25=\"\",\"\",INDEX(referentes!S:T,MATCH(N25,referentes!T:T,0),1))","v":""},null,{"$f":"IF(P25=\"\",\"\",INDEX(referentes!Y:Z,MATCH(P25,referentes!Z:Z,0),1))","v":""},"","",null,null,null,null,null,{"$f":"IF(X25=\"\",\"\",INDEX(referentes!J:K,MATCH(X25,referentes!J:J,0),2))","v":""},null,null,""]
["30000401000000",null,0,{"$f":"IF(E26<>\"\",CONCATENATE(B26,A26,DIGITADOR!$M$1,C26),\"\")","v":""},null,null,"","","",null,22,"",{"$f":"IF(R26=R25,\"\",IF(E26<>\"\",CONCATENATE(B26,A26,DIGITADOR!$M$1,C26),\"\"))","v":""},null,{"$f":"IF(N26=\"\",\"\",INDEX(referentes!S:T,MATCH(N26,referentes!T:T,0),1))","v":""},null,{"$f":"IF(P26=\"\",\"\",INDEX(referentes!Y:Z,MATCH(P26,referentes!Z:Z,0),1))","v":""},"","",null,null,null,null,null,{"$f":"IF(X26=\"\",\"\",INDEX(referentes!J:K,MATCH(X26,referentes!J:J,0),2))","v":""},null,null,""]
["30000401000000",null,0,{"$f":"IF(E27<>\"\",CONCATENATE(B27,A27,DIGITADOR!$M$1,C27),\"\")","v":""},null,null,"","","",null,23,"",{"$f":"IF(R27=R26,\"\",IF(E27<>\"\",CONCATENATE(B27,A27,DIGITADOR!$M$1,C27),\"\"))","v":""},null,{"$f":"IF(N27=\"\",\"\",INDEX(referentes!S:T,MATCH(N27,referentes!T:T,0),1))","v":""},null,{"$f":"IF(P27=\"\",\"\",INDEX(referentes!Y:Z,MATCH(P27,referentes!Z:Z,0),1))","v":""},"","",null,null,null,null,null,{"$f":"IF(X27=\"\",\"\",INDEX(referentes!J:K,MATCH(X27,referentes!J:J,0),2))","v":""},null,null,""]
["30000401000000",null,0,{"$f":"IF(E28<>\"\",CONCATENATE(B28,A28,DIGITADOR!$M$1,C28),\"\")","v":""},null,null,"","","",null,24,"",{"$f":"IF(R28=R27,\"\",IF(E28<>\"\",CONCATENATE(B28,A28,DIGITADOR!$M$1,C28),\"\"))","v":""},null,{"$f":"IF(N28=\"\",\"\",INDEX(referentes!S:T,MATCH(N28,referentes!T:T,0),1))","v":""},null,{"$f":"IF(P28=\"\",\"\",INDEX(referentes!Y:Z,MATCH(P28,referentes!Z:Z,0),1))","v":""},"","",null,null,null,null,null,{"$f":"IF(X28=\"\",\"\",INDEX(referentes!J:K,MATCH(X28,referentes!J:J,0),2))","v":""},null,null,""]
["30000401000000",null,0,{"$f":"IF(E29<>\"\",CONCATENATE(B29,A29,DIGITADOR!$M$1,C29),\"\")","v":""},null,null,"","","",null,25,"",{"$f":"IF(R29=R28,\"\",IF(E29<>\"\",CONCATENATE(B29,A29,DIGITADOR!$M$1,C29),\"\"))","v":""},null,{"$f":"IF(N29=\"\",\"\",INDEX(referentes!S:T,MATCH(N29,referentes!T:T,0),1))","v":""},null,{"$f":"IF(P29=\"\",\"\",INDEX(referentes!Y:Z,MATCH(P29,referentes!Z:Z,0),1))","v":""},"","",null,null,null,null,null,{"$f":"IF(X29=\"\",\"\",INDEX(referentes!J:K,MATCH(X29,referentes!J:J,0),2))","v":""},null,null,""]
["30000401000000",null,0,{"$f":"IF(E30<>\"\",CONCATENATE(B30,A30,DIGITADOR!$M$1,C30),\"\")","v":""},null,null,"","","",null,26,"",{"$f":"IF(R30=R29,\"\",IF(E30<>\"\",CONCATENATE(B30,A30,DIGITADOR!$M$1,C30),\"\"))","v":""},null,{"$f":"IF(N30=\"\",\"\",INDEX(referentes!S:T,MATCH(N30,referentes!T:T,0),1))","v":""},null,{"$f":"IF(P30=\"\",\"\",INDEX(referentes!Y:Z,MATCH(P30,referentes!Z:Z,0),1))","v":""},"","",null,null,null,null,null,{"$f":"IF(X30=\"\",\"\",INDEX(referentes!J:K,MATCH(X30,referentes!J:J,0),2))","v":""},null,null,""]
["30000401000000",null,0,{"$f":"IF(E31<>\"\",CONCATENATE(B31,A31,DIGITADOR!$M$1,C31),\"\")","v":""},null,null,"","","",null,27,"",{"$f":"IF(R31=R30,\"\",IF(E31<>\"\",CONCATENATE(B31,A31,DIGITADOR!$M$1,C31),\"\"))","v":""},null,{"$f":"IF(N31=\"\",\"\",INDEX(referentes!S:T,MATCH(N31,referentes!T:T,0),1))","v":""},null,{"$f":"IF(P31=\"\",\"\",INDEX(referentes!Y:Z,MATCH(P31,referentes!Z:Z,0),1))","v":""},"","",null,null,null,null,null,{"$f":"IF(X31=\"\",\"\",INDEX(referentes!J:K,MATCH(X31,referentes!J:J,0),2))","v":""},null,null,""]
["30000401000000",null,0,{"$f":"IF(E32<>\"\",CONCATENATE(B32,A32,DIGITADOR!$M$1,C32),\"\")","v":""},null,null,"","","",null,28,"",{"$f":"IF(R32=R31,\"\",IF(E32<>\"\",CONCATENATE(B32,A32,DIGITADOR!$M$1,C32),\"\"))","v":""},null,{"$f":"IF(N32=\"\",\"\",INDEX(referentes!S:T,MATCH(N32,referentes!T:T,0),1))","v":""},null,{"$f":"IF(P32=\"\",\"\",INDEX(referentes!Y:Z,MATCH(P32,referentes!Z:Z,0),1))","v":""},"","",null,null,null,null,null,{"$f":"IF(X32=\"\",\"\",INDEX(referentes!J:K,MATCH(X32,referentes!J:J,0),2))","v":""},null,null,""]
["30000401000000",null,0,{"$f":"IF(E33<>\"\",CONCATENATE(B33,A33,DIGITADOR!$M$1,C33),\"\")","v":""},null,null,"","","",null,29,"",{"$f":"IF(R33=R32,\"\",IF(E33<>\"\",CONCATENATE(B33,A33,DIGITADOR!$M$1,C33),\"\"))","v":""},null,{"$f":"IF(N33=\"\",\"\",INDEX(referentes!S:T,MATCH(N33,referentes!T:T,0),1))","v":""},null,{"$f":"IF(P33=\"\",\"\",INDEX(referentes!Y:Z,MATCH(P33,referentes!Z:Z,0),1))","v":""},"","",null,null,null,null,null,{"$f":"IF(X33=\"\",\"\",INDEX(referentes!J:K,MATCH(X33,referentes!J:J,0),2))","v":""},null,null,""]
["30000401000000",null,0,{"$f":"IF(E34<>\"\",CONCATENATE(B34,A34,DIGITADOR!$M$1,C34),\"\")","v":""},null,null,"","","",null,30,"",{"$f":"IF(R34=R33,\"\",IF(E34<>\"\",CONCATENATE(B34,A34,DIGITADOR!$M$1,C34),\"\"))","v":""},null,{"$f":"IF(N34=\"\",\"\",INDEX(referentes!S:T,MATCH(N34,referentes!T:T,0),1))","v":""},null,{"$f":"IF(P34=\"\",\"\",INDEX(referentes!Y:Z,MATCH(P34,referentes!Z:Z,0),1))","v":""},"","",null,null,null,null,null,{"$f":"IF(X34=\"\",\"\",INDEX(referentes!J:K,MATCH(X34,referentes!J:J,0),2))","v":""},null,null,""]
["30000401000000",null,0,{"$f":"IF(E35<>\"\",CONCATENATE(B35,A35,DIGITADOR!$M$1,C35),\"\")","v":""},null,null,"","","",null,31,"",{"$f":"IF(R35=R34,\"\",IF(E35<>\"\",CONCATENATE(B35,A35,DIGITADOR!$M$1,C35),\"\"))","v":""},null,{"$f":"IF(N35=\"\",\"\",INDEX(referentes!S:T,MATCH(N35,referentes!T:T,0),1))","v":""},null,{"$f":"IF(P35=\"\",\"\",INDEX(referentes!Y:Z,MATCH(P35,referentes!Z:Z,0),1))","v":""},"","",null,null,null,null,null,{"$f":"IF(X35=\"\",\"\",INDEX(referentes!J:K,MATCH(X35,referentes!J:J,0),2))","v":""},null,null,""]
["30000401000000",null,0,{"$f":"IF(E36<>\"\",CONCATENATE(B36,A36,DIGITADOR!$M$1,C36),\"\")","v":""},null,null,"","","",null,32,"",{"$f":"IF(R36=R35,\"\",IF(E36<>\"\",CONCATENATE(B36,A36,DIGITADOR!$M$1,C36),\"\"))","v":""},null,{"$f":"IF(N36=\"\",\"\",INDEX(referentes!S:T,MATCH(N36,referentes!T:T,0),1))","v":""},null,{"$f":"IF(P36=\"\",\"\",INDEX(referentes!Y:Z,MATCH(P36,referentes!Z:Z,0),1))","v":""},"","",null,null,null,null,null,{"$f":"IF(X36=\"\",\"\",INDEX(referentes!J:K,MATCH(X36,referentes!J:J,0),2))","v":""},null,null,""]
["30000401000000",null,0,{"$f":"IF(E37<>\"\",CONCATENATE(B37,A37,DIGITADOR!$M$1,C37),\"\")","v":""},null,null,"","","",null,33,"",{"$f":"IF(R37=R36,\"\",IF(E37<>\"\",CONCATENATE(B37,A37,DIGITADOR!$M$1,C37),\"\"))","v":""},null,{"$f":"IF(N37=\"\",\"\",INDEX(referentes!S:T,MATCH(N37,referentes!T:T,0),1))","v":""},null,{"$f":"IF(P37=\"\",\"\",INDEX(referentes!Y:Z,MATCH(P37,referentes!Z:Z,0),1))","v":""},"","",null,null,null,null,null,{"$f":"IF(X37=\"\",\"\",INDEX(referentes!J:K,MATCH(X37,referentes!J:J,0),2))","v":""},null,null,""]
["30000401000000",null,0,{"$f":"IF(E38<>\"\",CONCATENATE(B38,A38,DIGITADOR!$M$1,C38),\"\")","v":""},null,null,"","","",null,34,"",{"$f":"IF(R38=R37,\"\",IF(E38<>\"\",CONCATENATE(B38,A38,DIGITADOR!$M$1,C38),\"\"))","v":""},null,{"$f":"IF(N38=\"\",\"\",INDEX(referentes!S:T,MATCH(N38,referentes!T:T,0),1))","v":""},null,{"$f":"IF(P38=\"\",\"\",INDEX(referentes!Y:Z,MATCH(P38,referentes!Z:Z,0),1))","v":""},"","",null,null,null,null,null,{"$f":"IF(X38=\"\",\"\",INDEX(referentes!J:K,MATCH(X38,referentes!J:J,0),2))","v":""},null,null,""]
["30000401000000",null,0,{"$f":"IF(E39<>\"\",CONCATENATE(B39,A39,DIGITADOR!$M$1,C39),\"\")","v":""},null,null,"","","",null,35,"",{"$f":"IF(R39=R38,\"\",IF(E39<>\"\",CONCATENATE(B39,A39,DIGITADOR!$M$1,C39),\"\"))","v":""},null,{"$f":"IF(N39=\"\",\"\",INDEX(referentes!S:T,MATCH(N39,referentes!T:T,0),1))","v":""},null,{"$f":"IF(P39=\"\",\"\",INDEX(referentes!Y:Z,MATCH(P39,referentes!Z:Z,0),1))","v":""},"","",null,null,null,null,null,{"$f":"IF(X39=\"\",\"\",INDEX(referentes!J:K,MATCH(X39,referentes!J:J,0),2))","v":""},null,null,""]
["30000401000000",null,0,{"$f":"IF(E40<>\"\",CONCATENATE(B40,A40,DIGITADOR!$M$1,C40),\"\")","v":""},null,null,"","","",null,36,"",{"$f":"IF(R40=R39,\"\",IF(E40<>\"\",CONCATENATE(B40,A40,DIGITADOR!$M$1,C40),\"\"))","v":""},null,{"$f":"IF(N40=\"\",\"\",INDEX(referentes!S:T,MATCH(N40,referentes!T:T,0),1))","v":""},null,{"$f":"IF(P40=\"\",\"\",INDEX(referentes!Y:Z,MATCH(P40,referentes!Z:Z,0),1))","v":""},"","",null,null,null,null,null,{"$f":"IF(X40=\"\",\"\",INDEX(referentes!J:K,MATCH(X40,referentes!J:J,0),2))","v":""},null,null,""]
["30000401000000",null,0,{"$f":"IF(E41<>\"\",CONCATENATE(B41,A41,DIGITADOR!$M$1,C41),\"\")","v":""},null,null,"","","",null,37,"",{"$f":"IF(R41=R40,\"\",IF(E41<>\"\",CONCATENATE(B41,A41,DIGITADOR!$M$1,C41),\"\"))","v":""},null,{"$f":"IF(N41=\"\",\"\",INDEX(referentes!S:T,MATCH(N41,referentes!T:T,0),1))","v":""},null,{"$f":"IF(P41=\"\",\"\",INDEX(referentes!Y:Z,MATCH(P41,referentes!Z:Z,0),1))","v":""},"","",null,null,null,null,null,{"$f":"IF(X41=\"\",\"\",INDEX(referentes!J:K,MATCH(X41,referentes!J:J,0),2))","v":""},null,null,""]
["30000401000000",null,0,{"$f":"IF(E42<>\"\",CONCATENATE(B42,A42,DIGITADOR!$M$1,C42),\"\")","v":""},null,null,"","","",null,38,"",{"$f":"IF(R42=R41,\"\",IF(E42<>\"\",CONCATENATE(B42,A42,DIGITADOR!$M$1,C42),\"\"))","v":""},null,{"$f":"IF(N42=\"\",\"\",INDEX(referentes!S:T,MATCH(N42,referentes!T:T,0),1))","v":""},null,{"$f":"IF(P42=\"\",\"\",INDEX(referentes!Y:Z,MATCH(P42,referentes!Z:Z,0),1))","v":""},"","",null,null,null,null,null,{"$f":"IF(X42=\"\",\"\",INDEX(referentes!J:K,MATCH(X42,referentes!J:J,0),2))","v":""},null,null,""]
["30000401000000",null,0,{"$f":"IF(E43<>\"\",CONCATENATE(B43,A43,DIGITADOR!$M$1,C43),\"\")","v":""},null,null,"","","",null,39,"",{"$f":"IF(R43=R42,\"\",IF(E43<>\"\",CONCATENATE(B43,A43,DIGITADOR!$M$1,C43),\"\"))","v":""},null,{"$f":"IF(N43=\"\",\"\",INDEX(referentes!S:T,MATCH(N43,referentes!T:T,0),1))","v":""},null,{"$f":"IF(P43=\"\",\"\",INDEX(referentes!Y:Z,MATCH(P43,referentes!Z:Z,0),1))","v":""},"","",null,null,null,null,null,{"$f":"IF(X43=\"\",\"\",INDEX(referentes!J:K,MATCH(X43,referentes!J:J,0),2))","v":""},null,null,""]
["30000401000000",null,0,{"$f":"IF(E44<>\"\",CONCATENATE(B44,A44,DIGITADOR!$M$1,C44),\"\")","v":""},null,null,"","","",null,40,"",{"$f":"IF(R44=R43,\"\",IF(E44<>\"\",CONCATENATE(B44,A44,DIGITADOR!$M$1,C44),\"\"))","v":""},null,{"$f":"IF(N44=\"\",\"\",INDEX(referentes!S:T,MATCH(N44,referentes!T:T,0),1))","v":""},null,{"$f":"IF(P44=\"\",\"\",INDEX(referentes!Y:Z,MATCH(P44,referentes!Z:Z,0),1))","v":""},"","",null,null,null,null,null,{"$f":"IF(X44=\"\",\"\",INDEX(referentes!J:K,MATCH(X44,referentes!J:J,0),2))","v":""},null,null,""]
["30000401000000",null,0,{"$f":"IF(E45<>\"\",CONCATENATE(B45,A45,DIGITADOR!$M$1,C45),\"\")","v":""},null,null,"","","",null,41,"",{"$f":"IF(R45=R44,\"\",IF(E45<>\"\",CONCATENATE(B45,A45,DIGITADOR!$M$1,C45),\"\"))","v":""},null,{"$f":"IF(N45=\"\",\"\",INDEX(referentes!S:T,MATCH(N45,referentes!T:T,0),1))","v":""},null,{"$f":"IF(P45=\"\",\"\",INDEX(referentes!Y:Z,MATCH(P45,referentes!Z:Z,0),1))","v":""},"","",null,null,null,null,null,{"$f":"IF(X45=\"\",\"\",INDEX(referentes!J:K,MATCH(X45,referentes!J:J,0),2))","v":""},null,null,""]
["30000401000000",null,0,{"$f":"IF(E46<>\"\",CONCATENATE(B46,A46,DIGITADOR!$M$1,C46),\"\")","v":""},null,null,"","","",null,42,"",{"$f":"IF(R46=R45,\"\",IF(E46<>\"\",CONCATENATE(B46,A46,DIGITADOR!$M$1,C46),\"\"))","v":""},null,{"$f":"IF(N46=\"\",\"\",INDEX(referentes!S:T,MATCH(N46,referentes!T:T,0),1))","v":""},null,{"$f":"IF(P46=\"\",\"\",INDEX(referentes!Y:Z,MATCH(P46,referentes!Z:Z,0),1))","v":""},"","",null,null,null,null,null,{"$f":"IF(X46=\"\",\"\",INDEX(referentes!J:K,MATCH(X46,referentes!J:J,0),2))","v":""},null,null,""]
["30000401000000",null,0,{"$f":"IF(E47<>\"\",CONCATENATE(B47,A47,DIGITADOR!$M$1,C47),\"\")","v":""},null,null,"","","",null,43,"",{"$f":"IF(R47=R46,\"\",IF(E47<>\"\",CONCATENATE(B47,A47,DIGITADOR!$M$1,C47),\"\"))","v":""},null,{"$f":"IF(N47=\"\",\"\",INDEX(referentes!S:T,MATCH(N47,referentes!T:T,0),1))","v":""},null,{"$f":"IF(P47=\"\",\"\",INDEX(referentes!Y:Z,MATCH(P47,referentes!Z:Z,0),1))","v":""},"","",null,null,null,null,null,{"$f":"IF(X47=\"\",\"\",INDEX(referentes!J:K,MATCH(X47,referentes!J:J,0),2))","v":""},null,null,""]
["30000401000000",null,0,{"$f":"IF(E48<>\"\",CONCATENATE(B48,A48,DIGITADOR!$M$1,C48),\"\")","v":""},null,null,"","","",null,44,"",{"$f":"IF(R48=R47,\"\",IF(E48<>\"\",CONCATENATE(B48,A48,DIGITADOR!$M$1,C48),\"\"))","v":""},null,{"$f":"IF(N48=\"\",\"\",INDEX(referentes!S:T,MATCH(N48,referentes!T:T,0),1))","v":""},null,{"$f":"IF(P48=\"\",\"\",INDEX(referentes!Y:Z,MATCH(P48,referentes!Z:Z,0),1))","v":""},"","",null,null,null,null,null,{"$f":"IF(X48=\"\",\"\",INDEX(referentes!J:K,MATCH(X48,referentes!J:J,0),2))","v":""},null,null,""]
["30000401000000",null,0,{"$f":"IF(E49<>\"\",CONCATENATE(B49,A49,DIGITADOR!$M$1,C49),\"\")","v":""},null,null,"","","",null,45,"",{"$f":"IF(R49=R48,\"\",IF(E49<>\"\",CONCATENATE(B49,A49,DIGITADOR!$M$1,C49),\"\"))","v":""},null,{"$f":"IF(N49=\"\",\"\",INDEX(referentes!S:T,MATCH(N49,referentes!T:T,0),1))","v":""},null,{"$f":"IF(P49=\"\",\"\",INDEX(referentes!Y:Z,MATCH(P49,referentes!Z:Z,0),1))","v":""},"","",null,null,null,null,null,{"$f":"IF(X49=\"\",\"\",INDEX(referentes!J:K,MATCH(X49,referentes!J:J,0),2))","v":""},null,null,""]
["30000401000000",null,0,{"$f":"IF(E50<>\"\",CONCATENATE(B50,A50,DIGITADOR!$M$1,C50),\"\")","v":""},null,null,"","","",null,46,"",{"$f":"IF(R50=R49,\"\",IF(E50<>\"\",CONCATENATE(B50,A50,DIGITADOR!$M$1,C50),\"\"))","v":""},null,{"$f":"IF(N50=\"\",\"\",INDEX(referentes!S:T,MATCH(N50,referentes!T:T,0),1))","v":""},null,{"$f":"IF(P50=\"\",\"\",INDEX(referentes!Y:Z,MATCH(P50,referentes!Z:Z,0),1))","v":""},"","",null,null,null,null,null,{"$f":"IF(X50=\"\",\"\",INDEX(referentes!J:K,MATCH(X50,referentes!J:J,0),2))","v":""},null,null,""]
["30000401000000",null,0,{"$f":"IF(E51<>\"\",CONCATENATE(B51,A51,DIGITADOR!$M$1,C51),\"\")","v":""},null,null,"","","",null,47,"",{"$f":"IF(R51=R50,\"\",IF(E51<>\"\",CONCATENATE(B51,A51,DIGITADOR!$M$1,C51),\"\"))","v":""},null,{"$f":"IF(N51=\"\",\"\",INDEX(referentes!S:T,MATCH(N51,referentes!T:T,0),1))","v":""},null,{"$f":"IF(P51=\"\",\"\",INDEX(referentes!Y:Z,MATCH(P51,referentes!Z:Z,0),1))","v":""},"","",null,null,null,null,null,{"$f":"IF(X51=\"\",\"\",INDEX(referentes!J:K,MATCH(X51,referentes!J:J,0),2))","v":""},null,null,""]
["30000401000000",null,0,{"$f":"IF(E52<>\"\",CONCATENATE(B52,A52,DIGITADOR!$M$1,C52),\"\")","v":""},null,null,"","","",null,48,"",{"$f":"IF(R52=R51,\"\",IF(E52<>\"\",CONCATENATE(B52,A52,DIGITADOR!$M$1,C52),\"\"))","v":""},null,{"$f":"IF(N52=\"\",\"\",INDEX(referentes!S:T,MATCH(N52,referentes!T:T,0),1))","v":""},null,{"$f":"IF(P52=\"\",\"\",INDEX(referentes!Y:Z,MATCH(P52,referentes!Z:Z,0),1))","v":""},"","",null,null,null,null,null,{"$f":"IF(X52=\"\",\"\",INDEX(referentes!J:K,MATCH(X52,referentes!J:J,0),2))","v":""},null,null,""]
["30000401000000",null,0,{"$f":"IF(E53<>\"\",CONCATENATE(B53,A53,DIGITADOR!$M$1,C53),\"\")","v":""},null,null,"","","",null,49,"",{"$f":"IF(R53=R52,\"\",IF(E53<>\"\",CONCATENATE(B53,A53,DIGITADOR!$M$1,C53),\"\"))","v":""},null,{"$f":"IF(N53=\"\",\"\",INDEX(referentes!S:T,MATCH(N53,referentes!T:T,0),1))","v":""},null,{"$f":"IF(P53=\"\",\"\",INDEX(referentes!Y:Z,MATCH(P53,referentes!Z:Z,0),1))","v":""},"","",null,null,null,null,null,{"$f":"IF(X53=\"\",\"\",INDEX(referentes!J:K,MATCH(X53,referentes!J:J,0),2))","v":""},null,null,""]
["30000401000000",null,0,{"$f":"IF(E54<>\"\",CONCATENATE(B54,A54,DIGITADOR!$M$1,C54),\"\")","v":""},null,null,"","","",null,50,"",{"$f":"IF(R54=R53,\"\",IF(E54<>\"\",CONCATENATE(B54,A54,DIGITADOR!$M$1,C54),\"\"))","v":""},null,{"$f":"IF(N54=\"\",\"\",INDEX(referentes!S:T,MATCH(N54,referentes!T:T,0),1))","v":""},null,{"$f":"IF(P54=\"\",\"\",INDEX(referentes!Y:Z,MATCH(P54,referentes!Z:Z,0),1))","v":""},"","",null,null,null,null,null,{"$f":"IF(X54=\"\",\"\",INDEX(referentes!J:K,MATCH(X54,referentes!J:J,0),2))","v":""},null,null,""]
["30000401000000",null,0,{"$f":"IF(E55<>\"\",CONCATENATE(B55,A55,DIGITADOR!$M$1,C55),\"\")","v":""},null,null,"","","",null,51,"",{"$f":"IF(R55=R54,\"\",IF(E55<>\"\",CONCATENATE(B55,A55,DIGITADOR!$M$1,C55),\"\"))","v":""},null,{"$f":"IF(N55=\"\",\"\",INDEX(referentes!S:T,MATCH(N55,referentes!T:T,0),1))","v":""},null,{"$f":"IF(P55=\"\",\"\",INDEX(referentes!Y:Z,MATCH(P55,referentes!Z:Z,0),1))","v":""},"","",null,null,null,null,null,{"$f":"IF(X55=\"\",\"\",INDEX(referentes!J:K,MATCH(X55,referentes!J:J,0),2))","v":""},null,null,""]
["30000401000000",null,0,{"$f":"IF(E56<>\"\",CONCATENATE(B56,A56,DIGITADOR!$M$1,C56),\"\")","v":""},null,null,"","","",null,52,"",{"$f":"IF(R56=R55,\"\",IF(E56<>\"\",CONCATENATE(B56,A56,DIGITADOR!$M$1,C56),\"\"))","v":""},null,{"$f":"IF(N56=\"\",\"\",INDEX(referentes!S:T,MATCH(N56,referentes!T:T,0),1))","v":""},null,{"$f":"IF(P56=\"\",\"\",INDEX(referentes!Y:Z,MATCH(P56,referentes!Z:Z,0),1))","v":""},"","",null,null,null,null,null,{"$f":"IF(X56=\"\",\"\",INDEX(referentes!J:K,MATCH(X56,referentes!J:J,0),2))","v":""},null,null,""]
["30000401000000",null,0,{"$f":"IF(E57<>\"\",CONCATENATE(B57,A57,DIGITADOR!$M$1,C57),\"\")","v":""},null,null,"","","",null,53,"",{"$f":"IF(R57=R56,\"\",IF(E57<>\"\",CONCATENATE(B57,A57,DIGITADOR!$M$1,C57),\"\"))","v":""},null,{"$f":"IF(N57=\"\",\"\",INDEX(referentes!S:T,MATCH(N57,referentes!T:T,0),1))","v":""},null,{"$f":"IF(P57=\"\",\"\",INDEX(referentes!Y:Z,MATCH(P57,referentes!Z:Z,0),1))","v":""},"","",null,null,null,null,null,{"$f":"IF(X57=\"\",\"\",INDEX(referentes!J:K,MATCH(X57,referentes!J:J,0),2))","v":""},null,null,""]
["30000401000000",null,0,{"$f":"IF(E58<>\"\",CONCATENATE(B58,A58,DIGITADOR!$M$1,C58),\"\")","v":""},null,null,"","","",null,54,"",{"$f":"IF(R58=R57,\"\",IF(E58<>\"\",CONCATENATE(B58,A58,DIGITADOR!$M$1,C58),\"\"))","v":""},null,{"$f":"IF(N58=\"\",\"\",INDEX(referentes!S:T,MATCH(N58,referentes!T:T,0),1))","v":""},null,{"$f":"IF(P58=\"\",\"\",INDEX(referentes!Y:Z,MATCH(P58,referentes!Z:Z,0),1))","v":""},"","",null,null,null,null,null,{"$f":"IF(X58=\"\",\"\",INDEX(referentes!J:K,MATCH(X58,referentes!J:J,0),2))","v":""},null,null,""]
["30000401000000",null,0,{"$f":"IF(E59<>\"\",CONCATENATE(B59,A59,DIGITADOR!$M$1,C59),\"\")","v":""},null,null,"","","",null,55,"",{"$f":"IF(R59=R58,\"\",IF(E59<>\"\",CONCATENATE(B59,A59,DIGITADOR!$M$1,C59),\"\"))","v":""},null,{"$f":"IF(N59=\"\",\"\",INDEX(referentes!S:T,MATCH(N59,referentes!T:T,0),1))","v":""},null,{"$f":"IF(P59=\"\",\"\",INDEX(referentes!Y:Z,MATCH(P59,referentes!Z:Z,0),1))","v":""},"","",null,null,null,null,null,{"$f":"IF(X59=\"\",\"\",INDEX(referentes!J:K,MATCH(X59,referentes!J:J,0),2))","v":""},null,null,""]
["30000401000000",null,0,{"$f":"IF(E60<>\"\",CONCATENATE(B60,A60,DIGITADOR!$M$1,C60),\"\")","v":""},null,null,"","","",null,56,"",{"$f":"IF(R60=R59,\"\",IF(E60<>\"\",CONCATENATE(B60,A60,DIGITADOR!$M$1,C60),\"\"))","v":""},null,{"$f":"IF(N60=\"\",\"\",INDEX(referentes!S:T,MATCH(N60,referentes!T:T,0),1))","v":""},null,{"$f":"IF(P60=\"\",\"\",INDEX(referentes!Y:Z,MATCH(P60,referentes!Z:Z,0),1))","v":""},"","",null,null,null,null,null,{"$f":"IF(X60=\"\",\"\",INDEX(referentes!J:K,MATCH(X60,referentes!J:J,0),2))","v":""},null,null,""]
["30000401000000",null,0,{"$f":"IF(E61<>\"\",CONCATENATE(B61,A61,DIGITADOR!$M$1,C61),\"\")","v":""},null,null,"","","",null,57,"",{"$f":"IF(R61=R60,\"\",IF(E61<>\"\",CONCATENATE(B61,A61,DIGITADOR!$M$1,C61),\"\"))","v":""},null,{"$f":"IF(N61=\"\",\"\",INDEX(referentes!S:T,MATCH(N61,referentes!T:T,0),1))","v":""},null,{"$f":"IF(P61=\"\",\"\",INDEX(referentes!Y:Z,MATCH(P61,referentes!Z:Z,0),1))","v":""},"","",null,null,null,null,null,{"$f":"IF(X61=\"\",\"\",INDEX(referentes!J:K,MATCH(X61,referentes!J:J,0),2))","v":""},null,null,""]
["30000401000000",null,0,{"$f":"IF(E62<>\"\",CONCATENATE(B62,A62,DIGITADOR!$M$1,C62),\"\")","v":""},null,null,"","","",null,58,"",{"$f":"IF(R62=R61,\"\",IF(E62<>\"\",CONCATENATE(B62,A62,DIGITADOR!$M$1,C62),\"\"))","v":""},null,{"$f":"IF(N62=\"\",\"\",INDEX(referentes!S:T,MATCH(N62,referentes!T:T,0),1))","v":""},null,{"$f":"IF(P62=\"\",\"\",INDEX(referentes!Y:Z,MATCH(P62,referentes!Z:Z,0),1))","v":""},"","",null,null,null,null,null,{"$f":"IF(X62=\"\",\"\",INDEX(referentes!J:K,MATCH(X62,referentes!J:J,0),2))","v":""},null,null,""]
["30000401000000",null,0,{"$f":"IF(E63<>\"\",CONCATENATE(B63,A63,DIGITADOR!$M$1,C63),\"\")","v":""},null,null,"","","",null,59,"",{"$f":"IF(R63=R62,\"\",IF(E63<>\"\",CONCATENATE(B63,A63,DIGITADOR!$M$1,C63),\"\"))","v":""},null,{"$f":"IF(N63=\"\",\"\",INDEX(referentes!S:T,MATCH(N63,referentes!T:T,0),1))","v":""},null,{"$f":"IF(P63=\"\",\"\",INDEX(referentes!Y:Z,MATCH(P63,referentes!Z:Z,0),1))","v":""},"","",null,null,null,null,null,{"$f":"IF(X63=\"\",\"\",INDEX(referentes!J:K,MATCH(X63,referentes!J:J,0),2))","v":""},null,null,""]
["30000401000000",null,0,{"$f":"IF(E64<>\"\",CONCATENATE(B64,A64,DIGITADOR!$M$1,C64),\"\")","v":""},null,null,"","","",null,60,"",{"$f":"IF(R64=R63,\"\",IF(E64<>\"\",CONCATENATE(B64,A64,DIGITADOR!$M$1,C64),\"\"))","v":""},null,{"$f":"IF(N64=\"\",\"\",INDEX(referentes!S:T,MATCH(N64,referentes!T:T,0),1))","v":""},null,{"$f":"IF(P64=\"\",\"\",INDEX(referentes!Y:Z,MATCH(P64,referentes!Z:Z,0),1))","v":""},"","",null,null,null,null,null,{"$f":"IF(X64=\"\",\"\",INDEX(referentes!J:K,MATCH(X64,referentes!J:J,0),2))","v":""},null,null,""]
["30000401000000",null,0,{"$f":"IF(E65<>\"\",CONCATENATE(B65,A65,DIGITADOR!$M$1,C65),\"\")","v":""},null,null,"","","",null,61,"",{"$f":"IF(R65=R64,\"\",IF(E65<>\"\",CONCATENATE(B65,A65,DIGITADOR!$M$1,C65),\"\"))","v":""},null,{"$f":"IF(N65=\"\",\"\",INDEX(referentes!S:T,MATCH(N65,referentes!T:T,0),1))","v":""},null,{"$f":"IF(P65=\"\",\"\",INDEX(referentes!Y:Z,MATCH(P65,referentes!Z:Z,0),1))","v":""},"","",null,null,null,null,null,{"$f":"IF(X65=\"\",\"\",INDEX(referentes!J:K,MATCH(X65,referentes!J:J,0),2))","v":""},null,null,""]
["30000401000000",null,0,{"$f":"IF(E66<>\"\",CONCATENATE(B66,A66,DIGITADOR!$M$1,C66),\"\")","v":""},null,null,"","","",null,62,"",{"$f":"IF(R66=R65,\"\",IF(E66<>\"\",CONCATENATE(B66,A66,DIGITADOR!$M$1,C66),\"\"))","v":""},null,{"$f":"IF(N66=\"\",\"\",INDEX(referentes!S:T,MATCH(N66,referentes!T:T,0),1))","v":""},null,{"$f":"IF(P66=\"\",\"\",INDEX(referentes!Y:Z,MATCH(P66,referentes!Z:Z,0),1))","v":""},"","",null,null,null,null,null,{"$f":"IF(X66=\"\",\"\",INDEX(referentes!J:K,MATCH(X66,referentes!J:J,0),2))","v":""},null,null,""]
["30000401000000",null,0,{"$f":"IF(E67<>\"\",CONCATENATE(B67,A67,DIGITADOR!$M$1,C67),\"\")","v":""},null,null,"","","",null,63,"",{"$f":"IF(R67=R66,\"\",IF(E67<>\"\",CONCATENATE(B67,A67,DIGITADOR!$M$1,C67),\"\"))","v":""},null,{"$f":"IF(N67=\"\",\"\",INDEX(referentes!S:T,MATCH(N67,referentes!T:T,0),1))","v":""},null,{"$f":"IF(P67=\"\",\"\",INDEX(referentes!Y:Z,MATCH(P67,referentes!Z:Z,0),1))","v":""},"","",null,null,null,null,null,{"$f":"IF(X67=\"\",\"\",INDEX(referentes!J:K,MATCH(X67,referentes!J:J,0),2))","v":""},null,null,""]
["30000401000000",null,0,{"$f":"IF(E68<>\"\",CONCATENATE(B68,A68,DIGITADOR!$M$1,C68),\"\")","v":""},null,null,"","","",null,64,"",{"$f":"IF(R68=R67,\"\",IF(E68<>\"\",CONCATENATE(B68,A68,DIGITADOR!$M$1,C68),\"\"))","v":""},null,{"$f":"IF(N68=\"\",\"\",INDEX(referentes!S:T,MATCH(N68,referentes!T:T,0),1))","v":""},null,{"$f":"IF(P68=\"\",\"\",INDEX(referentes!Y:Z,MATCH(P68,referentes!Z:Z,0),1))","v":""},"","",null,null,null,null,null,{"$f":"IF(X68=\"\",\"\",INDEX(referentes!J:K,MATCH(X68,referentes!J:J,0),2))","v":""},null,null,""]
["30000401000000",null,{"$f":"IF(R69=R68,C68,C68+1)","v":0},{"$f":"IF(E69<>\"\",CONCATENATE(B69,A69,DIGITADOR!$M$1,C69),\"\")","v":""},null,null,"","","",null,65,"",{"$f":"IF(R69=R68,\"\",IF(E69<>\"\",CONCATENATE(B69,A69,DIGITADOR!$M$1,C69),\"\"))","v":""},null,{"$f":"IF(N69=\"\",\"\",INDEX(referentes!S:T,MATCH(N69,referentes!T:T,0),1))","v":""},null,{"$f":"IF(P69=\"\",\"\",INDEX(referentes!Y:Z,MATCH(P69,referentes!Z:Z,0),1))","v":""},"","",null,null,null,null,null,{"$f":"IF(X69=\"\",\"\",INDEX(referentes!J:K,MATCH(X69,referentes!J:J,0),2))","v":""},null,null,""]
["30000401000000",null,0,{"$f":"IF(E70<>\"\",CONCATENATE(B70,A70,DIGITADOR!$M$1,C70),\"\")","v":""},null,null,{"$f":"IF(E70=\"\", \"\", (E70+F70))","v":""},{"$f":"IF(G70<>\"\",MONTH(G70),\"\")","v":""},{"$f":"IF(D70=\"\",\"\",1)","v":""},null,66,{"$f":"IF(E70=\"\",\"\",CONCATENATE(D70,K70))","v":""},{"$f":"IF(R70=R69,\"\",IF(E70<>\"\",CONCATENATE(B70,A70,DIGITADOR!$M$1,C70),\"\"))","v":""},null,{"$f":"IF(N70=\"\",\"\",INDEX(referentes!S:T,MATCH(N70,referentes!T:T,0),1))","v":""},null,{"$f":"IF(P70=\"\",\"\",INDEX(referentes!Y:Z,MATCH(P70,referentes!Z:Z,0),1))","v":""},{"$f":"IF(G70=\"\",\"\",CONCATENATE(G70,O70,Q70))","v":""},{"$f":"IF(E70=\"\",\"\",\"INVEMAR\")","v":""},null,null,null,null,null,{"$f":"IF(X70=\"\",\"\",INDEX(referentes!J:K,MATCH(X70,referentes!J:J,0),2))","v":""},null,null,{"$f":"IF(T70=\"\",\"\",IF(T70=T69,AB69,AA70))","v":""}]
[{"$f":"A70","v":"30000401000000"},null,0,{"$f":"IF(E71<>\"\",CONCATENATE(B71,A71,DIGITADOR!$M$1,C71),\"\")","v":""},null,null,"","","",null,67,"",{"$f":"IF(R71=R70,\"\",IF(E71<>\"\",CONCATENATE(B71,A71,DIGITADOR!$M$1,C71),\"\"))","v":""},null,{"$f":"IF(N71=\"\",\"\",INDEX(referentes!S:T,MATCH(N71,referentes!T:T,0),1))","v":""},null,{"$f":"IF(P71=\"\",\"\",INDEX(referentes!Y:Z,MATCH(P71,referentes!Z:Z,0),1))","v":""},"","",null,null,null,null,null,{"$f":"IF(X71=\"\",\"\",INDEX(referentes!J:K,MATCH(X71,referentes!J:J,0),2))","v":""},null,null,""]
["30000401000000",null,0,{"$f":"IF(E72<>\"\",CONCATENATE(B72,A72,DIGITADOR!$M$1,C72),\"\")","v":""},null,null,"","","",null,68,"",{"$f":"IF(R72=R71,\"\",IF(E72<>\"\",CONCATENATE(B72,A72,DIGITADOR!$M$1,C72),\"\"))","v":""},null,{"$f":"IF(N72=\"\",\"\",INDEX(referentes!S:T,MATCH(N72,referentes!T:T,0),1))","v":""},null,{"$f":"IF(P72=\"\",\"\",INDEX(referentes!Y:Z,MATCH(P72,referentes!Z:Z,0),1))","v":""},"","",null,null,null,null,null,{"$f":"IF(X72=\"\",\"\",INDEX(referentes!J:K,MATCH(X72,referentes!J:J,0),2))","v":""},null,null,""]
["30000401000000",null,0,{"$f":"IF(E73<>\"\",CONCATENATE(B73,A73,DIGITADOR!$M$1,C73),\"\")","v":""},null,null,"","","",null,69,"",{"$f":"IF(R73=R72,\"\",IF(E73<>\"\",CONCATENATE(B73,A73,DIGITADOR!$M$1,C73),\"\"))","v":""},null,{"$f":"IF(N73=\"\",\"\",INDEX(referentes!S:T,MATCH(N73,referentes!T:T,0),1))","v":""},null,{"$f":"IF(P73=\"\",\"\",INDEX(referentes!Y:Z,MATCH(P73,referentes!Z:Z,0),1))","v":""},"","",null,null,null,null,null,{"$f":"IF(X73=\"\",\"\",INDEX(referentes!J:K,MATCH(X73,referentes!J:J,0),2))","v":""},null,null,""]
["30000401000000",null,0,{"$f":"IF(E74<>\"\",CONCATENATE(B74,A74,DIGITADOR!$M$1,C74),\"\")","v":""},null,null,"","","",null,70,"",{"$f":"IF(R74=R73,\"\",IF(E74<>\"\",CONCATENATE(B74,A74,DIGITADOR!$M$1,C74),\"\"))","v":""},null,{"$f":"IF(N74=\"\",\"\",INDEX(referentes!S:T,MATCH(N74,referentes!T:T,0),1))","v":""},null,{"$f":"IF(P74=\"\",\"\",INDEX(referentes!Y:Z,MATCH(P74,referentes!Z:Z,0),1))","v":""},"","",null,null,null,null,null,{"$f":"IF(X74=\"\",\"\",INDEX(referentes!J:K,MATCH(X74,referentes!J:J,0),2))","v":""},null,null,""]
["30000401000000",null,0,{"$f":"IF(E75<>\"\",CONCATENATE(B75,A75,DIGITADOR!$M$1,C75),\"\")","v":""},null,null,"","","",null,71,"",{"$f":"IF(R75=R74,\"\",IF(E75<>\"\",CONCATENATE(B75,A75,DIGITADOR!$M$1,C75),\"\"))","v":""},null,{"$f":"IF(N75=\"\",\"\",INDEX(referentes!S:T,MATCH(N75,referentes!T:T,0),1))","v":""},null,{"$f":"IF(P75=\"\",\"\",INDEX(referentes!Y:Z,MATCH(P75,referentes!Z:Z,0),1))","v":""},"","",null,null,null,null,null,{"$f":"IF(X75=\"\",\"\",INDEX(referentes!J:K,MATCH(X75,referentes!J:J,0),2))","v":""},null,null,""]
["30000401000000",null,0,{"$f":"IF(E76<>\"\",CONCATENATE(B76,A76,DIGITADOR!$M$1,C76),\"\")","v":""},null,null,"","","",null,72,"",{"$f":"IF(R76=R75,\"\",IF(E76<>\"\",CONCATENATE(B76,A76,DIGITADOR!$M$1,C76),\"\"))","v":""},null,{"$f":"IF(N76=\"\",\"\",INDEX(referentes!S:T,MATCH(N76,referentes!T:T,0),1))","v":""},null,{"$f":"IF(P76=\"\",\"\",INDEX(referentes!Y:Z,MATCH(P76,referentes!Z:Z,0),1))","v":""},"","",null,null,null,null,null,{"$f":"IF(X76=\"\",\"\",INDEX(referentes!J:K,MATCH(X76,referentes!J:J,0),2))","v":""},null,null,""]
["30000401000000",null,0,{"$f":"IF(E77<>\"\",CONCATENATE(B77,A77,DIGITADOR!$M$1,C77),\"\")","v":""},null,null,"","","",null,73,"",{"$f":"IF(R77=R76,\"\",IF(E77<>\"\",CONCATENATE(B77,A77,DIGITADOR!$M$1,C77),\"\"))","v":""},null,{"$f":"IF(N77=\"\",\"\",INDEX(referentes!S:T,MATCH(N77,referentes!T:T,0),1))","v":""},null,{"$f":"IF(P77=\"\",\"\",INDEX(referentes!Y:Z,MATCH(P77,referentes!Z:Z,0),1))","v":""},"","",null,null,null,null,null,{"$f":"IF(X77=\"\",\"\",INDEX(referentes!J:K,MATCH(X77,referentes!J:J,0),2))","v":""},null,null,""]
["30000401000000",null,0,{"$f":"IF(E78<>\"\",CONCATENATE(B78,A78,DIGITADOR!$M$1,C78),\"\")","v":""},null,null,"","","",null,74,"",{"$f":"IF(R78=R77,\"\",IF(E78<>\"\",CONCATENATE(B78,A78,DIGITADOR!$M$1,C78),\"\"))","v":""},null,{"$f":"IF(N78=\"\",\"\",INDEX(referentes!S:T,MATCH(N78,referentes!T:T,0),1))","v":""},null,{"$f":"IF(P78=\"\",\"\",INDEX(referentes!Y:Z,MATCH(P78,referentes!Z:Z,0),1))","v":""},"","",null,null,null,null,null,{"$f":"IF(X78=\"\",\"\",INDEX(referentes!J:K,MATCH(X78,referentes!J:J,0),2))","v":""},null,null,""]
["30000401000000",null,0,{"$f":"IF(E79<>\"\",CONCATENATE(B79,A79,DIGITADOR!$M$1,C79),\"\")","v":""},null,null,"","","",null,75,"",{"$f":"IF(R79=R78,\"\",IF(E79<>\"\",CONCATENATE(B79,A79,DIGITADOR!$M$1,C79),\"\"))","v":""},null,{"$f":"IF(N79=\"\",\"\",INDEX(referentes!S:T,MATCH(N79,referentes!T:T,0),1))","v":""},null,{"$f":"IF(P79=\"\",\"\",INDEX(referentes!Y:Z,MATCH(P79,referentes!Z:Z,0),1))","v":""},"","",null,null,null,null,null,{"$f":"IF(X79=\"\",\"\",INDEX(referentes!J:K,MATCH(X79,referentes!J:J,0),2))","v":""},null,null,""]
["30000401000000",null,0,{"$f":"IF(E80<>\"\",CONCATENATE(B80,A80,DIGITADOR!$M$1,C80),\"\")","v":""},null,null,"","","",null,76,"",{"$f":"IF(R80=R79,\"\",IF(E80<>\"\",CONCATENATE(B80,A80,DIGITADOR!$M$1,C80),\"\"))","v":""},null,{"$f":"IF(N80=\"\",\"\",INDEX(referentes!S:T,MATCH(N80,referentes!T:T,0),1))","v":""},null,{"$f":"IF(P80=\"\",\"\",INDEX(referentes!Y:Z,MATCH(P80,referentes!Z:Z,0),1))","v":""},"","",null,null,null,null,null,{"$f":"IF(X80=\"\",\"\",INDEX(referentes!J:K,MATCH(X80,referentes!J:J,0),2))","v":""},null,null,""]
["30000401000000",null,0,{"$f":"IF(E81<>\"\",CONCATENATE(B81,A81,DIGITADOR!$M$1,C81),\"\")","v":""},null,null,"","","",null,77,"",{"$f":"IF(R81=R80,\"\",IF(E81<>\"\",CONCATENATE(B81,A81,DIGITADOR!$M$1,C81),\"\"))","v":""},null,{"$f":"IF(N81=\"\",\"\",INDEX(referentes!S:T,MATCH(N81,referentes!T:T,0),1))","v":""},null,{"$f":"IF(P81=\"\",\"\",INDEX(referentes!Y:Z,MATCH(P81,referentes!Z:Z,0),1))","v":""},"","",null,null,null,null,null,{"$f":"IF(X81=\"\",\"\",INDEX(referentes!J:K,MATCH(X81,referentes!J:J,0),2))","v":""},null,null,""]
["30000401000000",null,0,{"$f":"IF(E82<>\"\",CONCATENATE(B82,A82,DIGITADOR!$M$1,C82),\"\")","v":""},null,null,"","","",null,78,"",{"$f":"IF(R82=R81,\"\",IF(E82<>\"\",CONCATENATE(B82,A82,DIGITADOR!$M$1,C82),\"\"))","v":""},null,{"$f":"IF(N82=\"\",\"\",INDEX(referentes!S:T,MATCH(N82,referentes!T:T,0),1))","v":""},null,{"$f":"IF(P82=\"\",\"\",INDEX(referentes!Y:Z,MATCH(P82,referentes!Z:Z,0),1))","v":""},"","",null,null,null,null,null,{"$f":"IF(X82=\"\",\"\",INDEX(referentes!J:K,MATCH(X82,referentes!J:J,0),2))","v":""},null,null,""]
["30000401000000",null,0,{"$f":"IF(E83<>\"\",CONCATENATE(B83,A83,DIGITADOR!$M$1,C83),\"\")","v":""},null,null,"","","",null,79,"",{"$f":"IF(R83=R82,\"\",IF(E83<>\"\",CONCATENATE(B83,A83,DIGITADOR!$M$1,C83),\"\"))","v":""},null,{"$f":"IF(N83=\"\",\"\",INDEX(referentes!S:T,MATCH(N83,referentes!T:T,0),1))","v":""},null,{"$f":"IF(P83=\"\",\"\",INDEX(referentes!Y:Z,MATCH(P83,referentes!Z:Z,0),1))","v":""},"","",null,null,null,null,null,{"$f":"IF(X83=\"\",\"\",INDEX(referentes!J:K,MATCH(X83,referentes!J:J,0),2))","v":""},null,null,""]
["30000401000000",null,0,{"$f":"IF(E84<>\"\",CONCATENATE(B84,A84,DIGITADOR!$M$1,C84),\"\")","v":""},null,null,"","","",null,80,"",{"$f":"IF(R84=R83,\"\",IF(E84<>\"\",CONCATENATE(B84,A84,DIGITADOR!$M$1,C84),\"\"))","v":""},null,{"$f":"IF(N84=\"\",\"\",INDEX(referentes!S:T,MATCH(N84,referentes!T:T,0),1))","v":""},null,{"$f":"IF(P84=\"\",\"\",INDEX(referentes!Y:Z,MATCH(P84,referentes!Z:Z,0),1))","v":""},"","",null,null,null,null,null,{"$f":"IF(X84=\"\",\"\",INDEX(referentes!J:K,MATCH(X84,referentes!J:J,0),2))","v":""},null,null,""]
["30000401000000",null,0,{"$f":"IF(E85<>\"\",CONCATENATE(B85,A85,DIGITADOR!$M$1,C85),\"\")","v":""},null,null,"","","",null,81,"",{"$f":"IF(R85=R84,\"\",IF(E85<>\"\",CONCATENATE(B85,A85,DIGITADOR!$M$1,C85),\"\"))","v":""},null,{"$f":"IF(N85=\"\",\"\",INDEX(referentes!S:T,MATCH(N85,referentes!T:T,0),1))","v":""},null,{"$f":"IF(P85=\"\",\"\",INDEX(referentes!Y:Z,MATCH(P85,referentes!Z:Z,0),1))","v":""},"","",null,null,null,null,null,{"$f":"IF(X85=\"\",\"\",INDEX(referentes!J:K,MATCH(X85,referentes!J:J,0),2))","v":""},null,null,""]
["30000401000000",null,0,{"$f":"IF(E86<>\"\",CONCATENATE(B86,A86,DIGITADOR!$M$1,C86),\"\")","v":""},null,null,"","","",null,82,"",{"$f":"IF(R86=R85,\"\",IF(E86<>\"\",CONCATENATE(B86,A86,DIGITADOR!$M$1,C86),\"\"))","v":""},null,{"$f":"IF(N86=\"\",\"\",INDEX(referentes!S:T,MATCH(N86,referentes!T:T,0),1))","v":""},null,{"$f":"IF(P86=\"\",\"\",INDEX(referentes!Y:Z,MATCH(P86,referentes!Z:Z,0),1))","v":""},"","",null,null,null,null,null,{"$f":"IF(X86=\"\",\"\",INDEX(referentes!J:K,MATCH(X86,referentes!J:J,0),2))","v":""},null,null,""]
["30000401000000",null,0,{"$f":"IF(E87<>\"\",CONCATENATE(B87,A87,DIGITADOR!$M$1,C87),\"\")","v":""},null,null,"","","",null,83,"",{"$f":"IF(R87=R86,\"\",IF(E87<>\"\",CONCATENATE(B87,A87,DIGITADOR!$M$1,C87),\"\"))","v":""},null,{"$f":"IF(N87=\"\",\"\",INDEX(referentes!S:T,MATCH(N87,referentes!T:T,0),1))","v":""},null,{"$f":"IF(P87=\"\",\"\",INDEX(referentes!Y:Z,MATCH(P87,referentes!Z:Z,0),1))","v":""},"","",null,null,null,null,null,{"$f":"IF(X87=\"\",\"\",INDEX(referentes!J:K,MATCH(X87,referentes!J:J,0),2))","v":""},null,null,""]
["30000401000000",null,0,{"$f":"IF(E88<>\"\",CONCATENATE(B88,A88,DIGITADOR!$M$1,C88),\"\")","v":""},null,null,"","","",null,84,"",{"$f":"IF(R88=R87,\"\",IF(E88<>\"\",CONCATENATE(B88,A88,DIGITADOR!$M$1,C88),\"\"))","v":""},null,{"$f":"IF(N88=\"\",\"\",INDEX(referentes!S:T,MATCH(N88,referentes!T:T,0),1))","v":""},null,{"$f":"IF(P88=\"\",\"\",INDEX(referentes!Y:Z,MATCH(P88,referentes!Z:Z,0),1))","v":""},"","",null,null,null,null,null,{"$f":"IF(X88=\"\",\"\",INDEX(referentes!J:K,MATCH(X88,referentes!J:J,0),2))","v":""},null,null,""]
["30000401000000",null,0,{"$f":"IF(E89<>\"\",CONCATENATE(B89,A89,DIGITADOR!$M$1,C89),\"\")","v":""},null,null,"","","",null,85,"",{"$f":"IF(R89=R88,\"\",IF(E89<>\"\",CONCATENATE(B89,A89,DIGITADOR!$M$1,C89),\"\"))","v":""},null,{"$f":"IF(N89=\"\",\"\",INDEX(referentes!S:T,MATCH(N89,referentes!T:T,0),1))","v":""},null,{"$f":"IF(P89=\"\",\"\",INDEX(referentes!Y:Z,MATCH(P89,referentes!Z:Z,0),1))","v":""},"","",null,null,null,null,null,{"$f":"IF(X89=\"\",\"\",INDEX(referentes!J:K,MATCH(X89,referentes!J:J,0),2))","v":""},null,null,""]
["30000401000000",null,0,{"$f":"IF(E90<>\"\",CONCATENATE(B90,A90,DIGITADOR!$M$1,C90),\"\")","v":""},null,null,"","","",null,86,"",{"$f":"IF(R90=R89,\"\",IF(E90<>\"\",CONCATENATE(B90,A90,DIGITADOR!$M$1,C90),\"\"))","v":""},null,{"$f":"IF(N90=\"\",\"\",INDEX(referentes!S:T,MATCH(N90,referentes!T:T,0),1))","v":""},null,{"$f":"IF(P90=\"\",\"\",INDEX(referentes!Y:Z,MATCH(P90,referentes!Z:Z,0),1))","v":""},"","",null,null,null,null,null,{"$f":"IF(X90=\"\",\"\",INDEX(referentes!J:K,MATCH(X90,referentes!J:J,0),2))","v":""},null,null,""]
["30000401000000",null,0,{"$f":"IF(E91<>\"\",CONCATENATE(B91,A91,DIGITADOR!$M$1,C91),\"\")","v":""},null,null,"","","",null,87,"",{"$f":"IF(R91=R90,\"\",IF(E91<>\"\",CONCATENATE(B91,A91,DIGITADOR!$M$1,C91),\"\"))","v":""},null,{"$f":"IF(N91=\"\",\"\",INDEX(referentes!S:T,MATCH(N91,referentes!T:T,0),1))","v":""},null,{"$f":"IF(P91=\"\",\"\",INDEX(referentes!Y:Z,MATCH(P91,referentes!Z:Z,0),1))","v":""},"","",null,null,null,null,null,{"$f":"IF(X91=\"\",\"\",INDEX(referentes!J:K,MATCH(X91,referentes!J:J,0),2))","v":""},null,null,""]
["30000401000000",null,0,{"$f":"IF(E92<>\"\",CONCATENATE(B92,A92,DIGITADOR!$M$1,C92),\"\")","v":""},null,null,"","","",null,88,"",{"$f":"IF(R92=R91,\"\",IF(E92<>\"\",CONCATENATE(B92,A92,DIGITADOR!$M$1,C92),\"\"))","v":""},null,{"$f":"IF(N92=\"\",\"\",INDEX(referentes!S:T,MATCH(N92,referentes!T:T,0),1))","v":""},null,{"$f":"IF(P92=\"\",\"\",INDEX(referentes!Y:Z,MATCH(P92,referentes!Z:Z,0),1))","v":""},"","",null,null,null,null,null,{"$f":"IF(X92=\"\",\"\",INDEX(referentes!J:K,MATCH(X92,referentes!J:J,0),2))","v":""},null,null,""]
["30000401000000",null,0,{"$f":"IF(E93<>\"\",CONCATENATE(B93,A93,DIGITADOR!$M$1,C93),\"\")","v":""},null,null,"","","",null,89,"",{"$f":"IF(R93=R92,\"\",IF(E93<>\"\",CONCATENATE(B93,A93,DIGITADOR!$M$1,C93),\"\"))","v":""},null,{"$f":"IF(N93=\"\",\"\",INDEX(referentes!S:T,MATCH(N93,referentes!T:T,0),1))","v":""},null,{"$f":"IF(P93=\"\",\"\",INDEX(referentes!Y:Z,MATCH(P93,referentes!Z:Z,0),1))","v":""},"","",null,null,null,null,null,{"$f":"IF(X93=\"\",\"\",INDEX(referentes!J:K,MATCH(X93,referentes!J:J,0),2))","v":""},null,null,""]
["30000401000000",null,0,{"$f":"IF(E94<>\"\",CONCATENATE(B94,A94,DIGITADOR!$M$1,C94),\"\")","v":""},null,null,"","","",null,90,"",{"$f":"IF(R94=R93,\"\",IF(E94<>\"\",CONCATENATE(B94,A94,DIGITADOR!$M$1,C94),\"\"))","v":""},null,{"$f":"IF(N94=\"\",\"\",INDEX(referentes!S:T,MATCH(N94,referentes!T:T,0),1))","v":""},null,{"$f":"IF(P94=\"\",\"\",INDEX(referentes!Y:Z,MATCH(P94,referentes!Z:Z,0),1))","v":""},"","",null,null,null,null,null,{"$f":"IF(X94=\"\",\"\",INDEX(referentes!J:K,MATCH(X94,referentes!J:J,0),2))","v":""},null,null,""]
["30000401000000",null,0,{"$f":"IF(E95<>\"\",CONCATENATE(B95,A95,DIGITADOR!$M$1,C95),\"\")","v":""},null,null,"","","",null,91,"",{"$f":"IF(R95=R94,\"\",IF(E95<>\"\",CONCATENATE(B95,A95,DIGITADOR!$M$1,C95),\"\"))","v":""},null,{"$f":"IF(N95=\"\",\"\",INDEX(referentes!S:T,MATCH(N95,referentes!T:T,0),1))","v":""},null,{"$f":"IF(P95=\"\",\"\",INDEX(referentes!Y:Z,MATCH(P95,referentes!Z:Z,0),1))","v":""},"","",null,null,null,null,null,{"$f":"IF(X95=\"\",\"\",INDEX(referentes!J:K,MATCH(X95,referentes!J:J,0),2))","v":""},null,null,""]
["30000401000000",null,0,{"$f":"IF(E96<>\"\",CONCATENATE(B96,A96,DIGITADOR!$M$1,C96),\"\")","v":""},null,null,"","","",null,92,"",{"$f":"IF(R96=R95,\"\",IF(E96<>\"\",CONCATENATE(B96,A96,DIGITADOR!$M$1,C96),\"\"))","v":""},null,{"$f":"IF(N96=\"\",\"\",INDEX(referentes!S:T,MATCH(N96,referentes!T:T,0),1))","v":""},null,{"$f":"IF(P96=\"\",\"\",INDEX(referentes!Y:Z,MATCH(P96,referentes!Z:Z,0),1))","v":""},"","",null,null,null,null,null,{"$f":"IF(X96=\"\",\"\",INDEX(referentes!J:K,MATCH(X96,referentes!J:J,0),2))","v":""},null,null,""]
["30000401000000",null,0,{"$f":"IF(E97<>\"\",CONCATENATE(B97,A97,DIGITADOR!$M$1,C97),\"\")","v":""},null,null,"","","",null,93,"",{"$f":"IF(R97=R96,\"\",IF(E97<>\"\",CONCATENATE(B97,A97,DIGITADOR!$M$1,C97),\"\"))","v":""},null,{"$f":"IF(N97=\"\",\"\",INDEX(referentes!S:T,MATCH(N97,referentes!T:T,0),1))","v":""},null,{"$f":"IF(P97=\"\",\"\",INDEX(referentes!Y:Z,MATCH(P97,referentes!Z:Z,0),1))","v":""},"","",null,null,null,null,null,{"$f":"IF(X97=\"\",\"\",INDEX(referentes!J:K,MATCH(X97,referentes!J:J,0),2))","v":""},null,null,""]
["30000401000000",null,0,{"$f":"IF(E98<>\"\",CONCATENATE(B98,A98,DIGITADOR!$M$1,C98),\"\")","v":""},null,null,"","","",null,94,"",{"$f":"IF(R98=R97,\"\",IF(E98<>\"\",CONCATENATE(B98,A98,DIGITADOR!$M$1,C98),\"\"))","v":""},null,{"$f":"IF(N98=\"\",\"\",INDEX(referentes!S:T,MATCH(N98,referentes!T:T,0),1))","v":""},null,{"$f":"IF(P98=\"\",\"\",INDEX(referentes!Y:Z,MATCH(P98,referentes!Z:Z,0),1))","v":""},"","",null,null,null,null,null,{"$f":"IF(X98=\"\",\"\",INDEX(referentes!J:K,MATCH(X98,referentes!J:J,0),2))","v":""},null,null,""]
["30000401000000",null,0,{"$f":"IF(E99<>\"\",CONCATENATE(B99,A99,DIGITADOR!$M$1,C99),\"\")","v":""},null,null,"","","",null,95,"",{"$f":"IF(R99=R98,\"\",IF(E99<>\"\",CONCATENATE(B99,A99,DIGITADOR!$M$1,C99),\"\"))","v":""},null,{"$f":"IF(N99=\"\",\"\",INDEX(referentes!S:T,MATCH(N99,referentes!T:T,0),1))","v":""},null,{"$f":"IF(P99=\"\",\"\",INDEX(referentes!Y:Z,MATCH(P99,referentes!Z:Z,0),1))","v":""},"","",null,null,null,null,null,{"$f":"IF(X99=\"\",\"\",INDEX(referentes!J:K,MATCH(X99,referentes!J:J,0),2))","v":""},null,null,""]
["30000401000000",null,0,{"$f":"IF(E100<>\"\",CONCATENATE(B100,A100,DIGITADOR!$M$1,C100),\"\")","v":""},null,null,"","","",null,96,"",{"$f":"IF(R100=R99,\"\",IF(E100<>\"\",CONCATENATE(B100,A100,DIGITADOR!$M$1,C100),\"\"))","v":""},null,{"$f":"IF(N100=\"\",\"\",INDEX(referentes!S:T,MATCH(N100,referentes!T:T,0),1))","v":""},null,{"$f":"IF(P100=\"\",\"\",INDEX(referentes!Y:Z,MATCH(P100,referentes!Z:Z,0),1))","v":""},"","",null,null,null,null,null,{"$f":"IF(X100=\"\",\"\",INDEX(referentes!J:K,MATCH(X100,referentes!J:J,0),2))","v":""},null,null,""]
["30000401000000",null,0,{"$f":"IF(E101<>\"\",CONCATENATE(B101,A101,DIGITADOR!$M$1,C101),\"\")","v":""},null,null,"","","",null,97,"",{"$f":"IF(R101=R100,\"\",IF(E101<>\"\",CONCATENATE(B101,A101,DIGITADOR!$M$1,C101),\"\"))","v":""},null,{"$f":"IF(N101=\"\",\"\",INDEX(referentes!S:T,MATCH(N101,referentes!T:T,0),1))","v":""},null,{"$f":"IF(P101=\"\",\"\",INDEX(referentes!Y:Z,MATCH(P101,referentes!Z:Z,0),1))","v":""},"","",null,null,null,null,null,{"$f":"IF(X101=\"\",\"\",INDEX(referentes!J:K,MATCH(X101,referentes!J:J,0),2))","v":""},null,null,""]
["30000401000000",null,0,{"$f":"IF(E102<>\"\",CONCATENATE(B102,A102,DIGITADOR!$M$1,C102),\"\")","v":""},null,null,"","","",null,98,"",{"$f":"IF(R102=R101,\"\",IF(E102<>\"\",CONCATENATE(B102,A102,DIGITADOR!$M$1,C102),\"\"))","v":""},null,{"$f":"IF(N102=\"\",\"\",INDEX(referentes!S:T,MATCH(N102,referentes!T:T,0),1))","v":""},null,{"$f":"IF(P102=\"\",\"\",INDEX(referentes!Y:Z,MATCH(P102,referentes!Z:Z,0),1))","v":""},"","",null,null,null,null,null,{"$f":"IF(X102=\"\",\"\",INDEX(referentes!J:K,MATCH(X102,referentes!J:J,0),2))","v":""},null,null,""]
["30000401000000",null,0,{"$f":"IF(E103<>\"\",CONCATENATE(B103,A103,DIGITADOR!$M$1,C103),\"\")","v":""},null,null,"","","",null,99,"",{"$f":"IF(R103=R102,\"\",IF(E103<>\"\",CONCATENATE(B103,A103,DIGITADOR!$M$1,C103),\"\"))","v":""},null,{"$f":"IF(N103=\"\",\"\",INDEX(referentes!S:T,MATCH(N103,referentes!T:T,0),1))","v":""},null,{"$f":"IF(P103=\"\",\"\",INDEX(referentes!Y:Z,MATCH(P103,referentes!Z:Z,0),1))","v":""},"","",null,null,null,null,null,{"$f":"IF(X103=\"\",\"\",INDEX(referentes!J:K,MATCH(X103,referentes!J:J,0),2))","v":""},null,null,""]
["30000401000000",null,0,{"$f":"IF(E104<>\"\",CONCATENATE(B104,A104,DIGITADOR!$M$1,C104),\"\")","v":""},null,null,"","","",null,100,"",{"$f":"IF(R104=R103,\"\",IF(E104<>\"\",CONCATENATE(B104,A104,DIGITADOR!$M$1,C104),\"\"))","v":""},null,{"$f":"IF(N104=\"\",\"\",INDEX(referentes!S:T,MATCH(N104,referentes!T:T,0),1))","v":""},null,{"$f":"IF(P104=\"\",\"\",INDEX(referentes!Y:Z,MATCH(P104,referentes!Z:Z,0),1))","v":""},"","",null,null,null,null,null,{"$f":"IF(X104=\"\",\"\",INDEX(referentes!J:K,MATCH(X104,referentes!J:J,0),2))","v":""},null,null,""]
["30000401000000",null,0,{"$f":"IF(E105<>\"\",CONCATENATE(B105,A105,DIGITADOR!$M$1,C105),\"\")","v":""},null,null,"","","",null,101,"",{"$f":"IF(R105=R104,\"\",IF(E105<>\"\",CONCATENATE(B105,A105,DIGITADOR!$M$1,C105),\"\"))","v":""},null,{"$f":"IF(N105=\"\",\"\",INDEX(referentes!S:T,MATCH(N105,referentes!T:T,0),1))","v":""},null,{"$f":"IF(P105=\"\",\"\",INDEX(referentes!Y:Z,MATCH(P105,referentes!Z:Z,0),1))","v":""},"","",null,null,null,null,null,{"$f":"IF(X105=\"\",\"\",INDEX(referentes!J:K,MATCH(X105,referentes!J:J,0),2))","v":""},null,null,""]
["30000401000000",null,0,{"$f":"IF(E106<>\"\",CONCATENATE(B106,A106,DIGITADOR!$M$1,C106),\"\")","v":""},null,null,"","","",null,102,"",{"$f":"IF(R106=R105,\"\",IF(E106<>\"\",CONCATENATE(B106,A106,DIGITADOR!$M$1,C106),\"\"))","v":""},null,{"$f":"IF(N106=\"\",\"\",INDEX(referentes!S:T,MATCH(N106,referentes!T:T,0),1))","v":""},null,{"$f":"IF(P106=\"\",\"\",INDEX(referentes!Y:Z,MATCH(P106,referentes!Z:Z,0),1))","v":""},"","",null,null,null,null,null,{"$f":"IF(X106=\"\",\"\",INDEX(referentes!J:K,MATCH(X106,referentes!J:J,0),2))","v":""},null,null,""]
["30000401000000",null,0,{"$f":"IF(E107<>\"\",CONCATENATE(B107,A107,DIGITADOR!$M$1,C107),\"\")","v":""},null,null,"","","",null,103,"",{"$f":"IF(R107=R106,\"\",IF(E107<>\"\",CONCATENATE(B107,A107,DIGITADOR!$M$1,C107),\"\"))","v":""},null,{"$f":"IF(N107=\"\",\"\",INDEX(referentes!S:T,MATCH(N107,referentes!T:T,0),1))","v":""},null,{"$f":"IF(P107=\"\",\"\",INDEX(referentes!Y:Z,MATCH(P107,referentes!Z:Z,0),1))","v":""},"","",null,null,null,null,null,{"$f":"IF(X107=\"\",\"\",INDEX(referentes!J:K,MATCH(X107,referentes!J:J,0),2))","v":""},null,null,""]
["30000401000000",null,0,{"$f":"IF(E108<>\"\",CONCATENATE(B108,A108,DIGITADOR!$M$1,C108),\"\")","v":""},null,null,"","","",null,104,"",{"$f":"IF(R108=R107,\"\",IF(E108<>\"\",CONCATENATE(B108,A108,DIGITADOR!$M$1,C108),\"\"))","v":""},null,{"$f":"IF(N108=\"\",\"\",INDEX(referentes!S:T,MATCH(N108,referentes!T:T,0),1))","v":""},null,{"$f":"IF(P108=\"\",\"\",INDEX(referentes!Y:Z,MATCH(P108,referentes!Z:Z,0),1))","v":""},"","",null,null,null,null,null,{"$f":"IF(X108=\"\",\"\",INDEX(referentes!J:K,MATCH(X108,referentes!J:J,0),2))","v":""},null,null,""]
["30000401000000",null,0,{"$f":"IF(E109<>\"\",CONCATENATE(B109,A109,DIGITADOR!$M$1,C109),\"\")","v":""},null,null,"","","",null,105,"",{"$f":"IF(R109=R108,\"\",IF(E109<>\"\",CONCATENATE(B109,A109,DIGITADOR!$M$1,C109),\"\"))","v":""},null,{"$f":"IF(N109=\"\",\"\",INDEX(referentes!S:T,MATCH(N109,referentes!T:T,0),1))","v":""},null,{"$f":"IF(P109=\"\",\"\",INDEX(referentes!Y:Z,MATCH(P109,referentes!Z:Z,0),1))","v":""},"","",null,null,null,null,null,{"$f":"IF(X109=\"\",\"\",INDEX(referentes!J:K,MATCH(X109,referentes!J:J,0),2))","v":""},null,null,""]
["30000401000000",null,0,{"$f":"IF(E110<>\"\",CONCATENATE(B110,A110,DIGITADOR!$M$1,C110),\"\")","v":""},null,null,"","","",null,106,"",{"$f":"IF(R110=R109,\"\",IF(E110<>\"\",CONCATENATE(B110,A110,DIGITADOR!$M$1,C110),\"\"))","v":""},null,{"$f":"IF(N110=\"\",\"\",INDEX(referentes!S:T,MATCH(N110,referentes!T:T,0),1))","v":""},null,{"$f":"IF(P110=\"\",\"\",INDEX(referentes!Y:Z,MATCH(P110,referentes!Z:Z,0),1))","v":""},"","",null,null,null,null,null,{"$f":"IF(X110=\"\",\"\",INDEX(referentes!J:K,MATCH(X110,referentes!J:J,0),2))","v":""},null,null,""]
["30000401000000",null,0,{"$f":"IF(E111<>\"\",CONCATENATE(B111,A111,DIGITADOR!$M$1,C111),\"\")","v":""},null,null,"","","",null,107,"",{"$f":"IF(R111=R110,\"\",IF(E111<>\"\",CONCATENATE(B111,A111,DIGITADOR!$M$1,C111),\"\"))","v":""},null,{"$f":"IF(N111=\"\",\"\",INDEX(referentes!S:T,MATCH(N111,referentes!T:T,0),1))","v":""},null,{"$f":"IF(P111=\"\",\"\",INDEX(referentes!Y:Z,MATCH(P111,referentes!Z:Z,0),1))","v":""},"","",null,null,null,null,null,{"$f":"IF(X111=\"\",\"\",INDEX(referentes!J:K,MATCH(X111,referentes!J:J,0),2))","v":""},null,null,""]
["30000401000000",null,0,{"$f":"IF(E112<>\"\",CONCATENATE(B112,A112,DIGITADOR!$M$1,C112),\"\")","v":""},null,null,"","","",null,108,"",{"$f":"IF(R112=R111,\"\",IF(E112<>\"\",CONCATENATE(B112,A112,DIGITADOR!$M$1,C112),\"\"))","v":""},null,{"$f":"IF(N112=\"\",\"\",INDEX(referentes!S:T,MATCH(N112,referentes!T:T,0),1))","v":""},null,{"$f":"IF(P112=\"\",\"\",INDEX(referentes!Y:Z,MATCH(P112,referentes!Z:Z,0),1))","v":""},"","",null,null,null,null,null,{"$f":"IF(X112=\"\",\"\",INDEX(referentes!J:K,MATCH(X112,referentes!J:J,0),2))","v":""},null,null,""]
["30000401000000",null,0,{"$f":"IF(E113<>\"\",CONCATENATE(B113,A113,DIGITADOR!$M$1,C113),\"\")","v":""},null,null,"","","",null,109,"",{"$f":"IF(R113=R112,\"\",IF(E113<>\"\",CONCATENATE(B113,A113,DIGITADOR!$M$1,C113),\"\"))","v":""},null,{"$f":"IF(N113=\"\",\"\",INDEX(referentes!S:T,MATCH(N113,referentes!T:T,0),1))","v":""},null,{"$f":"IF(P113=\"\",\"\",INDEX(referentes!Y:Z,MATCH(P113,referentes!Z:Z,0),1))","v":""},"","",null,null,null,null,null,{"$f":"IF(X113=\"\",\"\",INDEX(referentes!J:K,MATCH(X113,referentes!J:J,0),2))","v":""},null,null,""]
["30000401000000",null,0,{"$f":"IF(E114<>\"\",CONCATENATE(B114,A114,DIGITADOR!$M$1,C114),\"\")","v":""},null,null,"","","",null,110,"",{"$f":"IF(R114=R113,\"\",IF(E114<>\"\",CONCATENATE(B114,A114,DIGITADOR!$M$1,C114),\"\"))","v":""},null,{"$f":"IF(N114=\"\",\"\",INDEX(referentes!S:T,MATCH(N114,referentes!T:T,0),1))","v":""},null,{"$f":"IF(P114=\"\",\"\",INDEX(referentes!Y:Z,MATCH(P114,referentes!Z:Z,0),1))","v":""},"","",null,null,null,null,null,{"$f":"IF(X114=\"\",\"\",INDEX(referentes!J:K,MATCH(X114,referentes!J:J,0),2))","v":""},null,null,""]
["30000401000000",null,0,{"$f":"IF(E115<>\"\",CONCATENATE(B115,A115,DIGITADOR!$M$1,C115),\"\")","v":""},null,null,"","","",null,111,"",{"$f":"IF(R115=R114,\"\",IF(E115<>\"\",CONCATENATE(B115,A115,DIGITADOR!$M$1,C115),\"\"))","v":""},null,{"$f":"IF(N115=\"\",\"\",INDEX(referentes!S:T,MATCH(N115,referentes!T:T,0),1))","v":""},null,{"$f":"IF(P115=\"\",\"\",INDEX(referentes!Y:Z,MATCH(P115,referentes!Z:Z,0),1))","v":""},"","",null,null,null,null,null,{"$f":"IF(X115=\"\",\"\",INDEX(referentes!J:K,MATCH(X115,referentes!J:J,0),2))","v":""},null,null,""]
["30000401000000",null,0,{"$f":"IF(E116<>\"\",CONCATENATE(B116,A116,DIGITADOR!$M$1,C116),\"\")","v":""},null,null,"","","",null,112,"",{"$f":"IF(R116=R115,\"\",IF(E116<>\"\",CONCATENATE(B116,A116,DIGITADOR!$M$1,C116),\"\"))","v":""},null,{"$f":"IF(N116=\"\",\"\",INDEX(referentes!S:T,MATCH(N116,referentes!T:T,0),1))","v":""},null,{"$f":"IF(P116=\"\",\"\",INDEX(referentes!Y:Z,MATCH(P116,referentes!Z:Z,0),1))","v":""},"","",null,null,null,null,null,{"$f":"IF(X116=\"\",\"\",INDEX(referentes!J:K,MATCH(X116,referentes!J:J,0),2))","v":""},null,null,""]
["30000401000000",null,0,{"$f":"IF(E117<>\"\",CONCATENATE(B117,A117,DIGITADOR!$M$1,C117),\"\")","v":""},null,null,"","","",null,113,"",{"$f":"IF(R117=R116,\"\",IF(E117<>\"\",CONCATENATE(B117,A117,DIGITADOR!$M$1,C117),\"\"))","v":""},null,{"$f":"IF(N117=\"\",\"\",INDEX(referentes!S:T,MATCH(N117,referentes!T:T,0),1))","v":""},null,{"$f":"IF(P117=\"\",\"\",INDEX(referentes!Y:Z,MATCH(P117,referentes!Z:Z,0),1))","v":""},"","",null,null,null,null,null,{"$f":"IF(X117=\"\",\"\",INDEX(referentes!J:K,MATCH(X117,referentes!J:J,0),2))","v":""},null,null,""]
["30000401000000",null,0,{"$f":"IF(E118<>\"\",CONCATENATE(B118,A118,DIGITADOR!$M$1,C118),\"\")","v":""},null,null,"","","",null,114,"",{"$f":"IF(R118=R117,\"\",IF(E118<>\"\",CONCATENATE(B118,A118,DIGITADOR!$M$1,C118),\"\"))","v":""},null,{"$f":"IF(N118=\"\",\"\",INDEX(referentes!S:T,MATCH(N118,referentes!T:T,0),1))","v":""},null,{"$f":"IF(P118=\"\",\"\",INDEX(referentes!Y:Z,MATCH(P118,referentes!Z:Z,0),1))","v":""},"","",null,null,null,null,null,{"$f":"IF(X118=\"\",\"\",INDEX(referentes!J:K,MATCH(X118,referentes!J:J,0),2))","v":""},null,null,""]
["30000401000000",null,0,{"$f":"IF(E119<>\"\",CONCATENATE(B119,A119,DIGITADOR!$M$1,C119),\"\")","v":""},null,null,"","","",null,115,"",{"$f":"IF(R119=R118,\"\",IF(E119<>\"\",CONCATENATE(B119,A119,DIGITADOR!$M$1,C119),\"\"))","v":""},null,{"$f":"IF(N119=\"\",\"\",INDEX(referentes!S:T,MATCH(N119,referentes!T:T,0),1))","v":""},null,{"$f":"IF(P119=\"\",\"\",INDEX(referentes!Y:Z,MATCH(P119,referentes!Z:Z,0),1))","v":""},"","",null,null,null,null,null,{"$f":"IF(X119=\"\",\"\",INDEX(referentes!J:K,MATCH(X119,referentes!J:J,0),2))","v":""},null,null,""]
["30000401000000",null,0,{"$f":"IF(E120<>\"\",CONCATENATE(B120,A120,DIGITADOR!$M$1,C120),\"\")","v":""},null,null,"","","",null,116,"",{"$f":"IF(R120=R119,\"\",IF(E120<>\"\",CONCATENATE(B120,A120,DIGITADOR!$M$1,C120),\"\"))","v":""},null,{"$f":"IF(N120=\"\",\"\",INDEX(referentes!S:T,MATCH(N120,referentes!T:T,0),1))","v":""},null,{"$f":"IF(P120=\"\",\"\",INDEX(referentes!Y:Z,MATCH(P120,referentes!Z:Z,0),1))","v":""},"","",null,null,null,null,null,{"$f":"IF(X120=\"\",\"\",INDEX(referentes!J:K,MATCH(X120,referentes!J:J,0),2))","v":""},null,null,""]
["30000401000000",null,0,{"$f":"IF(E121<>\"\",CONCATENATE(B121,A121,DIGITADOR!$M$1,C121),\"\")","v":""},null,null,"","","",null,117,"",{"$f":"IF(R121=R120,\"\",IF(E121<>\"\",CONCATENATE(B121,A121,DIGITADOR!$M$1,C121),\"\"))","v":""},null,{"$f":"IF(N121=\"\",\"\",INDEX(referentes!S:T,MATCH(N121,referentes!T:T,0),1))","v":""},null,{"$f":"IF(P121=\"\",\"\",INDEX(referentes!Y:Z,MATCH(P121,referentes!Z:Z,0),1))","v":""},"","",null,null,null,null,null,{"$f":"IF(X121=\"\",\"\",INDEX(referentes!J:K,MATCH(X121,referentes!J:J,0),2))","v":""},null,null,""]
["30000401000000",null,0,{"$f":"IF(E122<>\"\",CONCATENATE(B122,A122,DIGITADOR!$M$1,C122),\"\")","v":""},null,null,"","","",null,118,"",{"$f":"IF(R122=R121,\"\",IF(E122<>\"\",CONCATENATE(B122,A122,DIGITADOR!$M$1,C122),\"\"))","v":""},null,{"$f":"IF(N122=\"\",\"\",INDEX(referentes!S:T,MATCH(N122,referentes!T:T,0),1))","v":""},null,{"$f":"IF(P122=\"\",\"\",INDEX(referentes!Y:Z,MATCH(P122,referentes!Z:Z,0),1))","v":""},"","",null,null,null,null,null,{"$f":"IF(X122=\"\",\"\",INDEX(referentes!J:K,MATCH(X122,referentes!J:J,0),2))","v":""},null,null,""]
["30000401000000",null,0,{"$f":"IF(E123<>\"\",CONCATENATE(B123,A123,DIGITADOR!$M$1,C123),\"\")","v":""},null,null,"","","",null,119,"",{"$f":"IF(R123=R122,\"\",IF(E123<>\"\",CONCATENATE(B123,A123,DIGITADOR!$M$1,C123),\"\"))","v":""},null,{"$f":"IF(N123=\"\",\"\",INDEX(referentes!S:T,MATCH(N123,referentes!T:T,0),1))","v":""},null,{"$f":"IF(P123=\"\",\"\",INDEX(referentes!Y:Z,MATCH(P123,referentes!Z:Z,0),1))","v":""},"","",null,null,null,null,null,{"$f":"IF(X123=\"\",\"\",INDEX(referentes!J:K,MATCH(X123,referentes!J:J,0),2))","v":""},null,null,""]
["30000401000000",null,0,{"$f":"IF(E124<>\"\",CONCATENATE(B124,A124,DIGITADOR!$M$1,C124),\"\")","v":""},null,null,"","","",null,120,"",{"$f":"IF(R124=R123,\"\",IF(E124<>\"\",CONCATENATE(B124,A124,DIGITADOR!$M$1,C124),\"\"))","v":""},null,{"$f":"IF(N124=\"\",\"\",INDEX(referentes!S:T,MATCH(N124,referentes!T:T,0),1))","v":""},null,{"$f":"IF(P124=\"\",\"\",INDEX(referentes!Y:Z,MATCH(P124,referentes!Z:Z,0),1))","v":""},"","",null,null,null,null,null,{"$f":"IF(X124=\"\",\"\",INDEX(referentes!J:K,MATCH(X124,referentes!J:J,0),2))","v":""},null,null,""]
["30000401000000",null,0,{"$f":"IF(E125<>\"\",CONCATENATE(B125,A125,DIGITADOR!$M$1,C125),\"\")","v":""},null,null,"","","",null,121,"",{"$f":"IF(R125=R124,\"\",IF(E125<>\"\",CONCATENATE(B125,A125,DIGITADOR!$M$1,C125),\"\"))","v":""},null,{"$f":"IF(N125=\"\",\"\",INDEX(referentes!S:T,MATCH(N125,referentes!T:T,0),1))","v":""},null,{"$f":"IF(P125=\"\",\"\",INDEX(referentes!Y:Z,MATCH(P125,referentes!Z:Z,0),1))","v":""},"","",null,null,null,null,null,{"$f":"IF(X125=\"\",\"\",INDEX(referentes!J:K,MATCH(X125,referentes!J:J,0),2))","v":""},null,null,""]
["30000401000000",null,0,{"$f":"IF(E126<>\"\",CONCATENATE(B126,A126,DIGITADOR!$M$1,C126),\"\")","v":""},null,null,"","","",null,122,"",{"$f":"IF(R126=R125,\"\",IF(E126<>\"\",CONCATENATE(B126,A126,DIGITADOR!$M$1,C126),\"\"))","v":""},null,{"$f":"IF(N126=\"\",\"\",INDEX(referentes!S:T,MATCH(N126,referentes!T:T,0),1))","v":""},null,{"$f":"IF(P126=\"\",\"\",INDEX(referentes!Y:Z,MATCH(P126,referentes!Z:Z,0),1))","v":""},"","",null,null,null,null,null,{"$f":"IF(X126=\"\",\"\",INDEX(referentes!J:K,MATCH(X126,referentes!J:J,0),2))","v":""},null,null,""]
["30000401000000",null,0,{"$f":"IF(E127<>\"\",CONCATENATE(B127,A127,DIGITADOR!$M$1,C127),\"\")","v":""},null,null,"","","",null,123,"",{"$f":"IF(R127=R126,\"\",IF(E127<>\"\",CONCATENATE(B127,A127,DIGITADOR!$M$1,C127),\"\"))","v":""},null,{"$f":"IF(N127=\"\",\"\",INDEX(referentes!S:T,MATCH(N127,referentes!T:T,0),1))","v":""},null,{"$f":"IF(P127=\"\",\"\",INDEX(referentes!Y:Z,MATCH(P127,referentes!Z:Z,0),1))","v":""},"","",null,null,null,null,null,{"$f":"IF(X127=\"\",\"\",INDEX(referentes!J:K,MATCH(X127,referentes!J:J,0),2))","v":""},null,null,""]
["30000401000000",null,0,{"$f":"IF(E128<>\"\",CONCATENATE(B128,A128,DIGITADOR!$M$1,C128),\"\")","v":""},null,null,"","","",null,124,"",{"$f":"IF(R128=R127,\"\",IF(E128<>\"\",CONCATENATE(B128,A128,DIGITADOR!$M$1,C128),\"\"))","v":""},null,{"$f":"IF(N128=\"\",\"\",INDEX(referentes!S:T,MATCH(N128,referentes!T:T,0),1))","v":""},null,{"$f":"IF(P128=\"\",\"\",INDEX(referentes!Y:Z,MATCH(P128,referentes!Z:Z,0),1))","v":""},"","",null,null,null,null,null,{"$f":"IF(X128=\"\",\"\",INDEX(referentes!J:K,MATCH(X128,referentes!J:J,0),2))","v":""},null,null,""]
["30000401000000",null,0,{"$f":"IF(E129<>\"\",CONCATENATE(B129,A129,DIGITADOR!$M$1,C129),\"\")","v":""},null,null,"","","",null,125,"",{"$f":"IF(R129=R128,\"\",IF(E129<>\"\",CONCATENATE(B129,A129,DIGITADOR!$M$1,C129),\"\"))","v":""},null,{"$f":"IF(N129=\"\",\"\",INDEX(referentes!S:T,MATCH(N129,referentes!T:T,0),1))","v":""},null,{"$f":"IF(P129=\"\",\"\",INDEX(referentes!Y:Z,MATCH(P129,referentes!Z:Z,0),1))","v":""},"","",null,null,null,null,null,{"$f":"IF(X129=\"\",\"\",INDEX(referentes!J:K,MATCH(X129,referentes!J:J,0),2))","v":""},null,null,""]
["30000401000000",null,0,{"$f":"IF(E130<>\"\",CONCATENATE(B130,A130,DIGITADOR!$M$1,C130),\"\")","v":""},null,null,"","","",null,126,"",{"$f":"IF(R130=R129,\"\",IF(E130<>\"\",CONCATENATE(B130,A130,DIGITADOR!$M$1,C130),\"\"))","v":""},null,{"$f":"IF(N130=\"\",\"\",INDEX(referentes!S:T,MATCH(N130,referentes!T:T,0),1))","v":""},null,{"$f":"IF(P130=\"\",\"\",INDEX(referentes!Y:Z,MATCH(P130,referentes!Z:Z,0),1))","v":""},"","",null,null,null,null,null,{"$f":"IF(X130=\"\",\"\",INDEX(referentes!J:K,MATCH(X130,referentes!J:J,0),2))","v":""},null,null,""]
["30000401000000",null,0,{"$f":"IF(E131<>\"\",CONCATENATE(B131,A131,DIGITADOR!$M$1,C131),\"\")","v":""},null,null,"","","",null,127,"",{"$f":"IF(R131=R130,\"\",IF(E131<>\"\",CONCATENATE(B131,A131,DIGITADOR!$M$1,C131),\"\"))","v":""},null,{"$f":"IF(N131=\"\",\"\",INDEX(referentes!S:T,MATCH(N131,referentes!T:T,0),1))","v":""},null,{"$f":"IF(P131=\"\",\"\",INDEX(referentes!Y:Z,MATCH(P131,referentes!Z:Z,0),1))","v":""},"","",null,null,null,null,null,{"$f":"IF(X131=\"\",\"\",INDEX(referentes!J:K,MATCH(X131,referentes!J:J,0),2))","v":""},null,null,""]
["30000401000000",null,0,{"$f":"IF(E132<>\"\",CONCATENATE(B132,A132,DIGITADOR!$M$1,C132),\"\")","v":""},null,null,"","","",null,128,"",{"$f":"IF(R132=R131,\"\",IF(E132<>\"\",CONCATENATE(B132,A132,DIGITADOR!$M$1,C132),\"\"))","v":""},null,{"$f":"IF(N132=\"\",\"\",INDEX(referentes!S:T,MATCH(N132,referentes!T:T,0),1))","v":""},null,{"$f":"IF(P132=\"\",\"\",INDEX(referentes!Y:Z,MATCH(P132,referentes!Z:Z,0),1))","v":""},"","",null,null,null,null,null,{"$f":"IF(X132=\"\",\"\",INDEX(referentes!J:K,MATCH(X132,referentes!J:J,0),2))","v":""},null,null,""]
["30000401000000",null,{"$f":"IF(R133=R132,C132,C132+1)","v":0},{"$f":"IF(E133<>\"\",CONCATENATE(B133,A133,DIGITADOR!$M$1,C133),\"\")","v":""},null,null,"","","",null,129,"",{"$f":"IF(R133=R132,\"\",IF(E133<>\"\",CONCATENATE(B133,A133,DIGITADOR!$M$1,C133),\"\"))","v":""},null,{"$f":"IF(N133=\"\",\"\",INDEX(referentes!S:T,MATCH(N133,referentes!T:T,0),1))","v":""},null,{"$f":"IF(P133=\"\",\"\",INDEX(referentes!Y:Z,MATCH(P133,referentes!Z:Z,0),1))","v":""},"","",null,null,null,null,null,{"$f":"IF(X133=\"\",\"\",INDEX(referentes!J:K,MATCH(X133,referentes!J:J,0),2))","v":""},null,null,""]
["30000401000000",null,0,{"$f":"IF(E134<>\"\",CONCATENATE(B134,A134,DIGITADOR!$M$1,C134),\"\")","v":""},null,null,{"$f":"IF(E134=\"\", \"\", (E134+F134))","v":""},{"$f":"IF(G134<>\"\",MONTH(G134),\"\")","v":""},{"$f":"IF(D134=\"\",\"\",1)","v":""},null,130,{"$f":"IF(E134=\"\",\"\",CONCATENATE(D134,K134))","v":""},{"$f":"IF(R134=R133,\"\",IF(E134<>\"\",CONCATENATE(B134,A134,DIGITADOR!$M$1,C134),\"\"))","v":""},null,{"$f":"IF(N134=\"\",\"\",INDEX(referentes!S:T,MATCH(N134,referentes!T:T,0),1))","v":""},null,{"$f":"IF(P134=\"\",\"\",INDEX(referentes!Y:Z,MATCH(P134,referentes!Z:Z,0),1))","v":""},{"$f":"IF(G134=\"\",\"\",CONCATENATE(G134,O134,Q134))","v":""},{"$f":"IF(E134=\"\",\"\",\"INVEMAR\")","v":""},null,null,null,null,null,{"$f":"IF(X134=\"\",\"\",INDEX(referentes!J:K,MATCH(X134,referentes!J:J,0),2))","v":""},null,null,{"$f":"IF(T134=\"\",\"\",IF(T134=T133,AB133,AA134))","v":""}]
[{"$f":"A134","v":"30000401000000"},null,0,{"$f":"IF(E135<>\"\",CONCATENATE(B135,A135,DIGITADOR!$M$1,C135),\"\")","v":""},null,null,"","","",null,131,"",{"$f":"IF(R135=R134,\"\",IF(E135<>\"\",CONCATENATE(B135,A135,DIGITADOR!$M$1,C135),\"\"))","v":""},null,{"$f":"IF(N135=\"\",\"\",INDEX(referentes!S:T,MATCH(N135,referentes!T:T,0),1))","v":""},null,{"$f":"IF(P135=\"\",\"\",INDEX(referentes!Y:Z,MATCH(P135,referentes!Z:Z,0),1))","v":""},"","",null,null,null,null,null,{"$f":"IF(X135=\"\",\"\",INDEX(referentes!J:K,MATCH(X135,referentes!J:J,0),2))","v":""},null,null,""]
["30000401000000",null,0,{"$f":"IF(E136<>\"\",CONCATENATE(B136,A136,DIGITADOR!$M$1,C136),\"\")","v":""},null,null,"","","",null,132,"",{"$f":"IF(R136=R135,\"\",IF(E136<>\"\",CONCATENATE(B136,A136,DIGITADOR!$M$1,C136),\"\"))","v":""},null,{"$f":"IF(N136=\"\",\"\",INDEX(referentes!S:T,MATCH(N136,referentes!T:T,0),1))","v":""},null,{"$f":"IF(P136=\"\",\"\",INDEX(referentes!Y:Z,MATCH(P136,referentes!Z:Z,0),1))","v":""},"","",null,null,null,null,null,{"$f":"IF(X136=\"\",\"\",INDEX(referentes!J:K,MATCH(X136,referentes!J:J,0),2))","v":""},null,null,""]
["30000401000000",null,0,{"$f":"IF(E137<>\"\",CONCATENATE(B137,A137,DIGITADOR!$M$1,C137),\"\")","v":""},null,null,"","","",null,133,"",{"$f":"IF(R137=R136,\"\",IF(E137<>\"\",CONCATENATE(B137,A137,DIGITADOR!$M$1,C137),\"\"))","v":""},null,{"$f":"IF(N137=\"\",\"\",INDEX(referentes!S:T,MATCH(N137,referentes!T:T,0),1))","v":""},null,{"$f":"IF(P137=\"\",\"\",INDEX(referentes!Y:Z,MATCH(P137,referentes!Z:Z,0),1))","v":""},"","",null,null,null,null,null,{"$f":"IF(X137=\"\",\"\",INDEX(referentes!J:K,MATCH(X137,referentes!J:J,0),2))","v":""},null,null,""]
["30000401000000",null,0,{"$f":"IF(E138<>\"\",CONCATENATE(B138,A138,DIGITADOR!$M$1,C138),\"\")","v":""},null,null,"","","",null,134,"",{"$f":"IF(R138=R137,\"\",IF(E138<>\"\",CONCATENATE(B138,A138,DIGITADOR!$M$1,C138),\"\"))","v":""},null,{"$f":"IF(N138=\"\",\"\",INDEX(referentes!S:T,MATCH(N138,referentes!T:T,0),1))","v":""},null,{"$f":"IF(P138=\"\",\"\",INDEX(referentes!Y:Z,MATCH(P138,referentes!Z:Z,0),1))","v":""},"","",null,null,null,null,null,{"$f":"IF(X138=\"\",\"\",INDEX(referentes!J:K,MATCH(X138,referentes!J:J,0),2))","v":""},null,null,""]
["30000401000000",null,0,{"$f":"IF(E139<>\"\",CONCATENATE(B139,A139,DIGITADOR!$M$1,C139),\"\")","v":""},null,null,"","","",null,135,"",{"$f":"IF(R139=R138,\"\",IF(E139<>\"\",CONCATENATE(B139,A139,DIGITADOR!$M$1,C139),\"\"))","v":""},null,{"$f":"IF(N139=\"\",\"\",INDEX(referentes!S:T,MATCH(N139,referentes!T:T,0),1))","v":""},null,{"$f":"IF(P139=\"\",\"\",INDEX(referentes!Y:Z,MATCH(P139,referentes!Z:Z,0),1))","v":""},"","",null,null,null,null,null,{"$f":"IF(X139=\"\",\"\",INDEX(referentes!J:K,MATCH(X139,referentes!J:J,0),2))","v":""},null,null,""]
["30000401000000",null,0,{"$f":"IF(E140<>\"\",CONCATENATE(B140,A140,DIGITADOR!$M$1,C140),\"\")","v":""},null,null,"","","",null,136,"",{"$f":"IF(R140=R139,\"\",IF(E140<>\"\",CONCATENATE(B140,A140,DIGITADOR!$M$1,C140),\"\"))","v":""},null,{"$f":"IF(N140=\"\",\"\",INDEX(referentes!S:T,MATCH(N140,referentes!T:T,0),1))","v":""},null,{"$f":"IF(P140=\"\",\"\",INDEX(referentes!Y:Z,MATCH(P140,referentes!Z:Z,0),1))","v":""},"","",null,null,null,null,null,{"$f":"IF(X140=\"\",\"\",INDEX(referentes!J:K,MATCH(X140,referentes!J:J,0),2))","v":""},null,null,""]
["30000401000000",null,0,{"$f":"IF(E141<>\"\",CONCATENATE(B141,A141,DIGITADOR!$M$1,C141),\"\")","v":""},null,null,"","","",null,137,"",{"$f":"IF(R141=R140,\"\",IF(E141<>\"\",CONCATENATE(B141,A141,DIGITADOR!$M$1,C141),\"\"))","v":""},null,{"$f":"IF(N141=\"\",\"\",INDEX(referentes!S:T,MATCH(N141,referentes!T:T,0),1))","v":""},null,{"$f":"IF(P141=\"\",\"\",INDEX(referentes!Y:Z,MATCH(P141,referentes!Z:Z,0),1))","v":""},"","",null,null,null,null,null,{"$f":"IF(X141=\"\",\"\",INDEX(referentes!J:K,MATCH(X141,referentes!J:J,0),2))","v":""},null,null,""]
["30000401000000",null,0,{"$f":"IF(E142<>\"\",CONCATENATE(B142,A142,DIGITADOR!$M$1,C142),\"\")","v":""},null,null,"","","",null,138,"",{"$f":"IF(R142=R141,\"\",IF(E142<>\"\",CONCATENATE(B142,A142,DIGITADOR!$M$1,C142),\"\"))","v":""},null,{"$f":"IF(N142=\"\",\"\",INDEX(referentes!S:T,MATCH(N142,referentes!T:T,0),1))","v":""},null,{"$f":"IF(P142=\"\",\"\",INDEX(referentes!Y:Z,MATCH(P142,referentes!Z:Z,0),1))","v":""},"","",null,null,null,null,null,{"$f":"IF(X142=\"\",\"\",INDEX(referentes!J:K,MATCH(X142,referentes!J:J,0),2))","v":""},null,null,""]
["30000401000000",null,0,{"$f":"IF(E143<>\"\",CONCATENATE(B143,A143,DIGITADOR!$M$1,C143),\"\")","v":""},null,null,"","","",null,139,"",{"$f":"IF(R143=R142,\"\",IF(E143<>\"\",CONCATENATE(B143,A143,DIGITADOR!$M$1,C143),\"\"))","v":""},null,{"$f":"IF(N143=\"\",\"\",INDEX(referentes!S:T,MATCH(N143,referentes!T:T,0),1))","v":""},null,{"$f":"IF(P143=\"\",\"\",INDEX(referentes!Y:Z,MATCH(P143,referentes!Z:Z,0),1))","v":""},"","",null,null,null,null,null,{"$f":"IF(X143=\"\",\"\",INDEX(referentes!J:K,MATCH(X143,referentes!J:J,0),2))","v":""},null,null,""]
["30000401000000",null,0,{"$f":"IF(E144<>\"\",CONCATENATE(B144,A144,DIGITADOR!$M$1,C144),\"\")","v":""},null,null,"","","",null,140,"",{"$f":"IF(R144=R143,\"\",IF(E144<>\"\",CONCATENATE(B144,A144,DIGITADOR!$M$1,C144),\"\"))","v":""},null,{"$f":"IF(N144=\"\",\"\",INDEX(referentes!S:T,MATCH(N144,referentes!T:T,0),1))","v":""},null,{"$f":"IF(P144=\"\",\"\",INDEX(referentes!Y:Z,MATCH(P144,referentes!Z:Z,0),1))","v":""},"","",null,null,null,null,null,{"$f":"IF(X144=\"\",\"\",INDEX(referentes!J:K,MATCH(X144,referentes!J:J,0),2))","v":""},null,null,""]
["30000401000000",null,0,{"$f":"IF(E145<>\"\",CONCATENATE(B145,A145,DIGITADOR!$M$1,C145),\"\")","v":""},null,null,"","","",null,141,"",{"$f":"IF(R145=R144,\"\",IF(E145<>\"\",CONCATENATE(B145,A145,DIGITADOR!$M$1,C145),\"\"))","v":""},null,{"$f":"IF(N145=\"\",\"\",INDEX(referentes!S:T,MATCH(N145,referentes!T:T,0),1))","v":""},null,{"$f":"IF(P145=\"\",\"\",INDEX(referentes!Y:Z,MATCH(P145,referentes!Z:Z,0),1))","v":""},"","",null,null,null,null,null,{"$f":"IF(X145=\"\",\"\",INDEX(referentes!J:K,MATCH(X145,referentes!J:J,0),2))","v":""},null,null,""]
["30000401000000",null,0,{"$f":"IF(E146<>\"\",CONCATENATE(B146,A146,DIGITADOR!$M$1,C146),\"\")","v":""},null,null,"","","",null,142,"",{"$f":"IF(R146=R145,\"\",IF(E146<>\"\",CONCATENATE(B146,A146,DIGITADOR!$M$1,C146),\"\"))","v":""},null,{"$f":"IF(N146=\"\",\"\",INDEX(referentes!S:T,MATCH(N146,referentes!T:T,0),1))","v":""},null,{"$f":"IF(P146=\"\",\"\",INDEX(referentes!Y:Z,MATCH(P146,referentes!Z:Z,0),1))","v":""},"","",null,null,null,null,null,{"$f":"IF(X146=\"\",\"\",INDEX(referentes!J:K,MATCH(X146,referentes!J:J,0),2))","v":""},null,null,""]
["30000401000000",null,0,{"$f":"IF(E147<>\"\",CONCATENATE(B147,A147,DIGITADOR!$M$1,C147),\"\")","v":""},null,null,"","","",null,143,"",{"$f":"IF(R147=R146,\"\",IF(E147<>\"\",CONCATENATE(B147,A147,DIGITADOR!$M$1,C147),\"\"))","v":""},null,{"$f":"IF(N147=\"\",\"\",INDEX(referentes!S:T,MATCH(N147,referentes!T:T,0),1))","v":""},null,{"$f":"IF(P147=\"\",\"\",INDEX(referentes!Y:Z,MATCH(P147,referentes!Z:Z,0),1))","v":""},"","",null,null,null,null,null,{"$f":"IF(X147=\"\",\"\",INDEX(referentes!J:K,MATCH(X147,referentes!J:J,0),2))","v":""},null,null,""]
["30000401000000",null,0,{"$f":"IF(E148<>\"\",CONCATENATE(B148,A148,DIGITADOR!$M$1,C148),\"\")","v":""},null,null,"","","",null,144,"",{"$f":"IF(R148=R147,\"\",IF(E148<>\"\",CONCATENATE(B148,A148,DIGITADOR!$M$1,C148),\"\"))","v":""},null,{"$f":"IF(N148=\"\",\"\",INDEX(referentes!S:T,MATCH(N148,referentes!T:T,0),1))","v":""},null,{"$f":"IF(P148=\"\",\"\",INDEX(referentes!Y:Z,MATCH(P148,referentes!Z:Z,0),1))","v":""},"","",null,null,null,null,null,{"$f":"IF(X148=\"\",\"\",INDEX(referentes!J:K,MATCH(X148,referentes!J:J,0),2))","v":""},null,null,""]
["30000401000000",null,0,{"$f":"IF(E149<>\"\",CONCATENATE(B149,A149,DIGITADOR!$M$1,C149),\"\")","v":""},null,null,"","","",null,145,"",{"$f":"IF(R149=R148,\"\",IF(E149<>\"\",CONCATENATE(B149,A149,DIGITADOR!$M$1,C149),\"\"))","v":""},null,{"$f":"IF(N149=\"\",\"\",INDEX(referentes!S:T,MATCH(N149,referentes!T:T,0),1))","v":""},null,{"$f":"IF(P149=\"\",\"\",INDEX(referentes!Y:Z,MATCH(P149,referentes!Z:Z,0),1))","v":""},"","",null,null,null,null,null,{"$f":"IF(X149=\"\",\"\",INDEX(referentes!J:K,MATCH(X149,referentes!J:J,0),2))","v":""},null,null,""]
["30000401000000",null,0,{"$f":"IF(E150<>\"\",CONCATENATE(B150,A150,DIGITADOR!$M$1,C150),\"\")","v":""},null,null,"","","",null,146,"",{"$f":"IF(R150=R149,\"\",IF(E150<>\"\",CONCATENATE(B150,A150,DIGITADOR!$M$1,C150),\"\"))","v":""},null,{"$f":"IF(N150=\"\",\"\",INDEX(referentes!S:T,MATCH(N150,referentes!T:T,0),1))","v":""},null,{"$f":"IF(P150=\"\",\"\",INDEX(referentes!Y:Z,MATCH(P150,referentes!Z:Z,0),1))","v":""},"","",null,null,null,null,null,{"$f":"IF(X150=\"\",\"\",INDEX(referentes!J:K,MATCH(X150,referentes!J:J,0),2))","v":""},null,null,""]
["30000401000000",null,0,{"$f":"IF(E151<>\"\",CONCATENATE(B151,A151,DIGITADOR!$M$1,C151),\"\")","v":""},null,null,"","","",null,147,"",{"$f":"IF(R151=R150,\"\",IF(E151<>\"\",CONCATENATE(B151,A151,DIGITADOR!$M$1,C151),\"\"))","v":""},null,{"$f":"IF(N151=\"\",\"\",INDEX(referentes!S:T,MATCH(N151,referentes!T:T,0),1))","v":""},null,{"$f":"IF(P151=\"\",\"\",INDEX(referentes!Y:Z,MATCH(P151,referentes!Z:Z,0),1))","v":""},"","",null,null,null,null,null,{"$f":"IF(X151=\"\",\"\",INDEX(referentes!J:K,MATCH(X151,referentes!J:J,0),2))","v":""},null,null,""]
["30000401000000",null,0,{"$f":"IF(E152<>\"\",CONCATENATE(B152,A152,DIGITADOR!$M$1,C152),\"\")","v":""},null,null,"","","",null,148,"",{"$f":"IF(R152=R151,\"\",IF(E152<>\"\",CONCATENATE(B152,A152,DIGITADOR!$M$1,C152),\"\"))","v":""},null,{"$f":"IF(N152=\"\",\"\",INDEX(referentes!S:T,MATCH(N152,referentes!T:T,0),1))","v":""},null,{"$f":"IF(P152=\"\",\"\",INDEX(referentes!Y:Z,MATCH(P152,referentes!Z:Z,0),1))","v":""},"","",null,null,null,null,null,{"$f":"IF(X152=\"\",\"\",INDEX(referentes!J:K,MATCH(X152,referentes!J:J,0),2))","v":""},null,null,""]
["30000401000000",null,0,{"$f":"IF(E153<>\"\",CONCATENATE(B153,A153,DIGITADOR!$M$1,C153),\"\")","v":""},null,null,"","","",null,149,"",{"$f":"IF(R153=R152,\"\",IF(E153<>\"\",CONCATENATE(B153,A153,DIGITADOR!$M$1,C153),\"\"))","v":""},null,{"$f":"IF(N153=\"\",\"\",INDEX(referentes!S:T,MATCH(N153,referentes!T:T,0),1))","v":""},null,{"$f":"IF(P153=\"\",\"\",INDEX(referentes!Y:Z,MATCH(P153,referentes!Z:Z,0),1))","v":""},"","",null,null,null,null,null,{"$f":"IF(X153=\"\",\"\",INDEX(referentes!J:K,MATCH(X153,referentes!J:J,0),2))","v":""},null,null,""]
["30000401000000",null,0,{"$f":"IF(E154<>\"\",CONCATENATE(B154,A154,DIGITADOR!$M$1,C154),\"\")","v":""},null,null,"","","",null,150,"",{"$f":"IF(R154=R153,\"\",IF(E154<>\"\",CONCATENATE(B154,A154,DIGITADOR!$M$1,C154),\"\"))","v":""},null,{"$f":"IF(N154=\"\",\"\",INDEX(referentes!S:T,MATCH(N154,referentes!T:T,0),1))","v":""},null,{"$f":"IF(P154=\"\",\"\",INDEX(referentes!Y:Z,MATCH(P154,referentes!Z:Z,0),1))","v":""},"","",null,null,null,null,null,{"$f":"IF(X154=\"\",\"\",INDEX(referentes!J:K,MATCH(X154,referentes!J:J,0),2))","v":""},null,null,""]
["30000401000000",null,0,{"$f":"IF(E155<>\"\",CONCATENATE(B155,A155,DIGITADOR!$M$1,C155),\"\")","v":""},null,null,"","","",null,151,"",{"$f":"IF(R155=R154,\"\",IF(E155<>\"\",CONCATENATE(B155,A155,DIGITADOR!$M$1,C155),\"\"))","v":""},null,{"$f":"IF(N155=\"\",\"\",INDEX(referentes!S:T,MATCH(N155,referentes!T:T,0),1))","v":""},null,{"$f":"IF(P155=\"\",\"\",INDEX(referentes!Y:Z,MATCH(P155,referentes!Z:Z,0),1))","v":""},"","",null,null,null,null,null,{"$f":"IF(X155=\"\",\"\",INDEX(referentes!J:K,MATCH(X155,referentes!J:J,0),2))","v":""},null,null,""]
["30000401000000",null,0,{"$f":"IF(E156<>\"\",CONCATENATE(B156,A156,DIGITADOR!$M$1,C156),\"\")","v":""},null,null,"","","",null,152,"",{"$f":"IF(R156=R155,\"\",IF(E156<>\"\",CONCATENATE(B156,A156,DIGITADOR!$M$1,C156),\"\"))","v":""},null,{"$f":"IF(N156=\"\",\"\",INDEX(referentes!S:T,MATCH(N156,referentes!T:T,0),1))","v":""},null,{"$f":"IF(P156=\"\",\"\",INDEX(referentes!Y:Z,MATCH(P156,referentes!Z:Z,0),1))","v":""},"","",null,null,null,null,null,{"$f":"IF(X156=\"\",\"\",INDEX(referentes!J:K,MATCH(X156,referentes!J:J,0),2))","v":""},null,null,""]
["30000401000000",null,0,{"$f":"IF(E157<>\"\",CONCATENATE(B157,A157,DIGITADOR!$M$1,C157),\"\")","v":""},null,null,"","","",null,153,"",{"$f":"IF(R157=R156,\"\",IF(E157<>\"\",CONCATENATE(B157,A157,DIGITADOR!$M$1,C157),\"\"))","v":""},null,{"$f":"IF(N157=\"\",\"\",INDEX(referentes!S:T,MATCH(N157,referentes!T:T,0),1))","v":""},null,{"$f":"IF(P157=\"\",\"\",INDEX(referentes!Y:Z,MATCH(P157,referentes!Z:Z,0),1))","v":""},"","",null,null,null,null,null,{"$f":"IF(X157=\"\",\"\",INDEX(referentes!J:K,MATCH(X157,referentes!J:J,0),2))","v":""},null,null,""]
["30000401000000",null,0,{"$f":"IF(E158<>\"\",CONCATENATE(B158,A158,DIGITADOR!$M$1,C158),\"\")","v":""},null,null,"","","",null,154,"",{"$f":"IF(R158=R157,\"\",IF(E158<>\"\",CONCATENATE(B158,A158,DIGITADOR!$M$1,C158),\"\"))","v":""},null,{"$f":"IF(N158=\"\",\"\",INDEX(referentes!S:T,MATCH(N158,referentes!T:T,0),1))","v":""},null,{"$f":"IF(P158=\"\",\"\",INDEX(referentes!Y:Z,MATCH(P158,referentes!Z:Z,0),1))","v":""},"","",null,null,null,null,null,{"$f":"IF(X158=\"\",\"\",INDEX(referentes!J:K,MATCH(X158,referentes!J:J,0),2))","v":""},null,null,""]
["30000401000000",null,0,{"$f":"IF(E159<>\"\",CONCATENATE(B159,A159,DIGITADOR!$M$1,C159),\"\")","v":""},null,null,"","","",null,155,"",{"$f":"IF(R159=R158,\"\",IF(E159<>\"\",CONCATENATE(B159,A159,DIGITADOR!$M$1,C159),\"\"))","v":""},null,{"$f":"IF(N159=\"\",\"\",INDEX(referentes!S:T,MATCH(N159,referentes!T:T,0),1))","v":""},null,{"$f":"IF(P159=\"\",\"\",INDEX(referentes!Y:Z,MATCH(P159,referentes!Z:Z,0),1))","v":""},"","",null,null,null,null,null,{"$f":"IF(X159=\"\",\"\",INDEX(referentes!J:K,MATCH(X159,referentes!J:J,0),2))","v":""},null,null,""]
["30000401000000",null,0,{"$f":"IF(E160<>\"\",CONCATENATE(B160,A160,DIGITADOR!$M$1,C160),\"\")","v":""},null,null,"","","",null,156,"",{"$f":"IF(R160=R159,\"\",IF(E160<>\"\",CONCATENATE(B160,A160,DIGITADOR!$M$1,C160),\"\"))","v":""},null,{"$f":"IF(N160=\"\",\"\",INDEX(referentes!S:T,MATCH(N160,referentes!T:T,0),1))","v":""},null,{"$f":"IF(P160=\"\",\"\",INDEX(referentes!Y:Z,MATCH(P160,referentes!Z:Z,0),1))","v":""},"","",null,null,null,null,null,{"$f":"IF(X160=\"\",\"\",INDEX(referentes!J:K,MATCH(X160,referentes!J:J,0),2))","v":""},null,null,""]
["30000401000000",null,0,{"$f":"IF(E161<>\"\",CONCATENATE(B161,A161,DIGITADOR!$M$1,C161),\"\")","v":""},null,null,"","","",null,157,"",{"$f":"IF(R161=R160,\"\",IF(E161<>\"\",CONCATENATE(B161,A161,DIGITADOR!$M$1,C161),\"\"))","v":""},null,{"$f":"IF(N161=\"\",\"\",INDEX(referentes!S:T,MATCH(N161,referentes!T:T,0),1))","v":""},null,{"$f":"IF(P161=\"\",\"\",INDEX(referentes!Y:Z,MATCH(P161,referentes!Z:Z,0),1))","v":""},"","",null,null,null,null,null,{"$f":"IF(X161=\"\",\"\",INDEX(referentes!J:K,MATCH(X161,referentes!J:J,0),2))","v":""},null,null,""]
["30000401000000",null,0,{"$f":"IF(E162<>\"\",CONCATENATE(B162,A162,DIGITADOR!$M$1,C162),\"\")","v":""},null,null,"","","",null,158,"",{"$f":"IF(R162=R161,\"\",IF(E162<>\"\",CONCATENATE(B162,A162,DIGITADOR!$M$1,C162),\"\"))","v":""},null,{"$f":"IF(N162=\"\",\"\",INDEX(referentes!S:T,MATCH(N162,referentes!T:T,0),1))","v":""},null,{"$f":"IF(P162=\"\",\"\",INDEX(referentes!Y:Z,MATCH(P162,referentes!Z:Z,0),1))","v":""},"","",null,null,null,null,null,{"$f":"IF(X162=\"\",\"\",INDEX(referentes!J:K,MATCH(X162,referentes!J:J,0),2))","v":""},null,null,""]
["30000401000000",null,0,{"$f":"IF(E163<>\"\",CONCATENATE(B163,A163,DIGITADOR!$M$1,C163),\"\")","v":""},null,null,"","","",null,159,"",{"$f":"IF(R163=R162,\"\",IF(E163<>\"\",CONCATENATE(B163,A163,DIGITADOR!$M$1,C163),\"\"))","v":""},null,{"$f":"IF(N163=\"\",\"\",INDEX(referentes!S:T,MATCH(N163,referentes!T:T,0),1))","v":""},null,{"$f":"IF(P163=\"\",\"\",INDEX(referentes!Y:Z,MATCH(P163,referentes!Z:Z,0),1))","v":""},"","",null,null,null,null,null,{"$f":"IF(X163=\"\",\"\",INDEX(referentes!J:K,MATCH(X163,referentes!J:J,0),2))","v":""},null,null,""]
["30000401000000",null,0,{"$f":"IF(E164<>\"\",CONCATENATE(B164,A164,DIGITADOR!$M$1,C164),\"\")","v":""},null,null,"","","",null,160,"",{"$f":"IF(R164=R163,\"\",IF(E164<>\"\",CONCATENATE(B164,A164,DIGITADOR!$M$1,C164),\"\"))","v":""},null,{"$f":"IF(N164=\"\",\"\",INDEX(referentes!S:T,MATCH(N164,referentes!T:T,0),1))","v":""},null,{"$f":"IF(P164=\"\",\"\",INDEX(referentes!Y:Z,MATCH(P164,referentes!Z:Z,0),1))","v":""},"","",null,null,null,null,null,{"$f":"IF(X164=\"\",\"\",INDEX(referentes!J:K,MATCH(X164,referentes!J:J,0),2))","v":""},null,null,""]
["30000401000000",null,0,{"$f":"IF(E165<>\"\",CONCATENATE(B165,A165,DIGITADOR!$M$1,C165),\"\")","v":""},null,null,"","","",null,161,"",{"$f":"IF(R165=R164,\"\",IF(E165<>\"\",CONCATENATE(B165,A165,DIGITADOR!$M$1,C165),\"\"))","v":""},null,{"$f":"IF(N165=\"\",\"\",INDEX(referentes!S:T,MATCH(N165,referentes!T:T,0),1))","v":""},null,{"$f":"IF(P165=\"\",\"\",INDEX(referentes!Y:Z,MATCH(P165,referentes!Z:Z,0),1))","v":""},"","",null,null,null,null,null,{"$f":"IF(X165=\"\",\"\",INDEX(referentes!J:K,MATCH(X165,referentes!J:J,0),2))","v":""},null,null,""]
["30000401000000",null,0,{"$f":"IF(E166<>\"\",CONCATENATE(B166,A166,DIGITADOR!$M$1,C166),\"\")","v":""},null,null,"","","",null,162,"",{"$f":"IF(R166=R165,\"\",IF(E166<>\"\",CONCATENATE(B166,A166,DIGITADOR!$M$1,C166),\"\"))","v":""},null,{"$f":"IF(N166=\"\",\"\",INDEX(referentes!S:T,MATCH(N166,referentes!T:T,0),1))","v":""},null,{"$f":"IF(P166=\"\",\"\",INDEX(referentes!Y:Z,MATCH(P166,referentes!Z:Z,0),1))","v":""},"","",null,null,null,null,null,{"$f":"IF(X166=\"\",\"\",INDEX(referentes!J:K,MATCH(X166,referentes!J:J,0),2))","v":""},null,null,""]
["30000401000000",null,0,{"$f":"IF(E167<>\"\",CONCATENATE(B167,A167,DIGITADOR!$M$1,C167),\"\")","v":""},null,null,"","","",null,163,"",{"$f":"IF(R167=R166,\"\",IF(E167<>\"\",CONCATENATE(B167,A167,DIGITADOR!$M$1,C167),\"\"))","v":""},null,{"$f":"IF(N167=\"\",\"\",INDEX(referentes!S:T,MATCH(N167,referentes!T:T,0),1))","v":""},null,{"$f":"IF(P167=\"\",\"\",INDEX(referentes!Y:Z,MATCH(P167,referentes!Z:Z,0),1))","v":""},"","",null,null,null,null,null,{"$f":"IF(X167=\"\",\"\",INDEX(referentes!J:K,MATCH(X167,referentes!J:J,0),2))","v":""},null,null,""]
["30000401000000",null,0,{"$f":"IF(E168<>\"\",CONCATENATE(B168,A168,DIGITADOR!$M$1,C168),\"\")","v":""},null,null,"","","",null,164,"",{"$f":"IF(R168=R167,\"\",IF(E168<>\"\",CONCATENATE(B168,A168,DIGITADOR!$M$1,C168),\"\"))","v":""},null,{"$f":"IF(N168=\"\",\"\",INDEX(referentes!S:T,MATCH(N168,referentes!T:T,0),1))","v":""},null,{"$f":"IF(P168=\"\",\"\",INDEX(referentes!Y:Z,MATCH(P168,referentes!Z:Z,0),1))","v":""},"","",null,null,null,null,null,{"$f":"IF(X168=\"\",\"\",INDEX(referentes!J:K,MATCH(X168,referentes!J:J,0),2))","v":""},null,null,""]
["30000401000000",null,0,{"$f":"IF(E169<>\"\",CONCATENATE(B169,A169,DIGITADOR!$M$1,C169),\"\")","v":""},null,null,"","","",null,165,"",{"$f":"IF(R169=R168,\"\",IF(E169<>\"\",CONCATENATE(B169,A169,DIGITADOR!$M$1,C169),\"\"))","v":""},null,{"$f":"IF(N169=\"\",\"\",INDEX(referentes!S:T,MATCH(N169,referentes!T:T,0),1))","v":""},null,{"$f":"IF(P169=\"\",\"\",INDEX(referentes!Y:Z,MATCH(P169,referentes!Z:Z,0),1))","v":""},"","",null,null,null,null,null,{"$f":"IF(X169=\"\",\"\",INDEX(referentes!J:K,MATCH(X169,referentes!J:J,0),2))","v":""},null,null,""]
["30000401000000",null,0,{"$f":"IF(E170<>\"\",CONCATENATE(B170,A170,DIGITADOR!$M$1,C170),\"\")","v":""},null,null,"","","",null,166,"",{"$f":"IF(R170=R169,\"\",IF(E170<>\"\",CONCATENATE(B170,A170,DIGITADOR!$M$1,C170),\"\"))","v":""},null,{"$f":"IF(N170=\"\",\"\",INDEX(referentes!S:T,MATCH(N170,referentes!T:T,0),1))","v":""},null,{"$f":"IF(P170=\"\",\"\",INDEX(referentes!Y:Z,MATCH(P170,referentes!Z:Z,0),1))","v":""},"","",null,null,null,null,null,{"$f":"IF(X170=\"\",\"\",INDEX(referentes!J:K,MATCH(X170,referentes!J:J,0),2))","v":""},null,null,""]
["30000401000000",null,0,{"$f":"IF(E171<>\"\",CONCATENATE(B171,A171,DIGITADOR!$M$1,C171),\"\")","v":""},null,null,"","","",null,167,"",{"$f":"IF(R171=R170,\"\",IF(E171<>\"\",CONCATENATE(B171,A171,DIGITADOR!$M$1,C171),\"\"))","v":""},null,{"$f":"IF(N171=\"\",\"\",INDEX(referentes!S:T,MATCH(N171,referentes!T:T,0),1))","v":""},null,{"$f":"IF(P171=\"\",\"\",INDEX(referentes!Y:Z,MATCH(P171,referentes!Z:Z,0),1))","v":""},"","",null,null,null,null,null,{"$f":"IF(X171=\"\",\"\",INDEX(referentes!J:K,MATCH(X171,referentes!J:J,0),2))","v":""},null,null,""]
["30000401000000",null,0,{"$f":"IF(E172<>\"\",CONCATENATE(B172,A172,DIGITADOR!$M$1,C172),\"\")","v":""},null,null,"","","",null,168,"",{"$f":"IF(R172=R171,\"\",IF(E172<>\"\",CONCATENATE(B172,A172,DIGITADOR!$M$1,C172),\"\"))","v":""},null,{"$f":"IF(N172=\"\",\"\",INDEX(referentes!S:T,MATCH(N172,referentes!T:T,0),1))","v":""},null,{"$f":"IF(P172=\"\",\"\",INDEX(referentes!Y:Z,MATCH(P172,referentes!Z:Z,0),1))","v":""},"","",null,null,null,null,null,{"$f":"IF(X172=\"\",\"\",INDEX(referentes!J:K,MATCH(X172,referentes!J:J,0),2))","v":""},null,null,""]
["30000401000000",null,0,{"$f":"IF(E173<>\"\",CONCATENATE(B173,A173,DIGITADOR!$M$1,C173),\"\")","v":""},null,null,"","","",null,169,"",{"$f":"IF(R173=R172,\"\",IF(E173<>\"\",CONCATENATE(B173,A173,DIGITADOR!$M$1,C173),\"\"))","v":""},null,{"$f":"IF(N173=\"\",\"\",INDEX(referentes!S:T,MATCH(N173,referentes!T:T,0),1))","v":""},null,{"$f":"IF(P173=\"\",\"\",INDEX(referentes!Y:Z,MATCH(P173,referentes!Z:Z,0),1))","v":""},"","",null,null,null,null,null,{"$f":"IF(X173=\"\",\"\",INDEX(referentes!J:K,MATCH(X173,referentes!J:J,0),2))","v":""},null,null,""]
["30000401000000",null,0,{"$f":"IF(E174<>\"\",CONCATENATE(B174,A174,DIGITADOR!$M$1,C174),\"\")","v":""},null,null,"","","",null,170,"",{"$f":"IF(R174=R173,\"\",IF(E174<>\"\",CONCATENATE(B174,A174,DIGITADOR!$M$1,C174),\"\"))","v":""},null,{"$f":"IF(N174=\"\",\"\",INDEX(referentes!S:T,MATCH(N174,referentes!T:T,0),1))","v":""},null,{"$f":"IF(P174=\"\",\"\",INDEX(referentes!Y:Z,MATCH(P174,referentes!Z:Z,0),1))","v":""},"","",null,null,null,null,null,{"$f":"IF(X174=\"\",\"\",INDEX(referentes!J:K,MATCH(X174,referentes!J:J,0),2))","v":""},null,null,""]
["30000401000000",null,0,{"$f":"IF(E175<>\"\",CONCATENATE(B175,A175,DIGITADOR!$M$1,C175),\"\")","v":""},null,null,"","","",null,171,"",{"$f":"IF(R175=R174,\"\",IF(E175<>\"\",CONCATENATE(B175,A175,DIGITADOR!$M$1,C175),\"\"))","v":""},null,{"$f":"IF(N175=\"\",\"\",INDEX(referentes!S:T,MATCH(N175,referentes!T:T,0),1))","v":""},null,{"$f":"IF(P175=\"\",\"\",INDEX(referentes!Y:Z,MATCH(P175,referentes!Z:Z,0),1))","v":""},"","",null,null,null,null,null,{"$f":"IF(X175=\"\",\"\",INDEX(referentes!J:K,MATCH(X175,referentes!J:J,0),2))","v":""},null,null,""]
["30000401000000",null,0,{"$f":"IF(E176<>\"\",CONCATENATE(B176,A176,DIGITADOR!$M$1,C176),\"\")","v":""},null,null,"","","",null,172,"",{"$f":"IF(R176=R175,\"\",IF(E176<>\"\",CONCATENATE(B176,A176,DIGITADOR!$M$1,C176),\"\"))","v":""},null,{"$f":"IF(N176=\"\",\"\",INDEX(referentes!S:T,MATCH(N176,referentes!T:T,0),1))","v":""},null,{"$f":"IF(P176=\"\",\"\",INDEX(referentes!Y:Z,MATCH(P176,referentes!Z:Z,0),1))","v":""},"","",null,null,null,null,null,{"$f":"IF(X176=\"\",\"\",INDEX(referentes!J:K,MATCH(X176,referentes!J:J,0),2))","v":""},null,null,""]
["30000401000000",null,0,{"$f":"IF(E177<>\"\",CONCATENATE(B177,A177,DIGITADOR!$M$1,C177),\"\")","v":""},null,null,"","","",null,173,"",{"$f":"IF(R177=R176,\"\",IF(E177<>\"\",CONCATENATE(B177,A177,DIGITADOR!$M$1,C177),\"\"))","v":""},null,{"$f":"IF(N177=\"\",\"\",INDEX(referentes!S:T,MATCH(N177,referentes!T:T,0),1))","v":""},null,{"$f":"IF(P177=\"\",\"\",INDEX(referentes!Y:Z,MATCH(P177,referentes!Z:Z,0),1))","v":""},"","",null,null,null,null,null,{"$f":"IF(X177=\"\",\"\",INDEX(referentes!J:K,MATCH(X177,referentes!J:J,0),2))","v":""},null,null,""]
["30000401000000",null,0,{"$f":"IF(E178<>\"\",CONCATENATE(B178,A178,DIGITADOR!$M$1,C178),\"\")","v":""},null,null,"","","",null,174,"",{"$f":"IF(R178=R177,\"\",IF(E178<>\"\",CONCATENATE(B178,A178,DIGITADOR!$M$1,C178),\"\"))","v":""},null,{"$f":"IF(N178=\"\",\"\",INDEX(referentes!S:T,MATCH(N178,referentes!T:T,0),1))","v":""},null,{"$f":"IF(P178=\"\",\"\",INDEX(referentes!Y:Z,MATCH(P178,referentes!Z:Z,0),1))","v":""},"","",null,null,null,null,null,{"$f":"IF(X178=\"\",\"\",INDEX(referentes!J:K,MATCH(X178,referentes!J:J,0),2))","v":""},null,null,""]
["30000401000000",null,0,{"$f":"IF(E179<>\"\",CONCATENATE(B179,A179,DIGITADOR!$M$1,C179),\"\")","v":""},null,null,"","","",null,175,"",{"$f":"IF(R179=R178,\"\",IF(E179<>\"\",CONCATENATE(B179,A179,DIGITADOR!$M$1,C179),\"\"))","v":""},null,{"$f":"IF(N179=\"\",\"\",INDEX(referentes!S:T,MATCH(N179,referentes!T:T,0),1))","v":""},null,{"$f":"IF(P179=\"\",\"\",INDEX(referentes!Y:Z,MATCH(P179,referentes!Z:Z,0),1))","v":""},"","",null,null,null,null,null,{"$f":"IF(X179=\"\",\"\",INDEX(referentes!J:K,MATCH(X179,referentes!J:J,0),2))","v":""},null,null,""]
["30000401000000",null,0,{"$f":"IF(E180<>\"\",CONCATENATE(B180,A180,DIGITADOR!$M$1,C180),\"\")","v":""},null,null,"","","",null,176,"",{"$f":"IF(R180=R179,\"\",IF(E180<>\"\",CONCATENATE(B180,A180,DIGITADOR!$M$1,C180),\"\"))","v":""},null,{"$f":"IF(N180=\"\",\"\",INDEX(referentes!S:T,MATCH(N180,referentes!T:T,0),1))","v":""},null,{"$f":"IF(P180=\"\",\"\",INDEX(referentes!Y:Z,MATCH(P180,referentes!Z:Z,0),1))","v":""},"","",null,null,null,null,null,{"$f":"IF(X180=\"\",\"\",INDEX(referentes!J:K,MATCH(X180,referentes!J:J,0),2))","v":""},null,null,""]
["30000401000000",null,0,{"$f":"IF(E181<>\"\",CONCATENATE(B181,A181,DIGITADOR!$M$1,C181),\"\")","v":""},null,null,"","","",null,177,"",{"$f":"IF(R181=R180,\"\",IF(E181<>\"\",CONCATENATE(B181,A181,DIGITADOR!$M$1,C181),\"\"))","v":""},null,{"$f":"IF(N181=\"\",\"\",INDEX(referentes!S:T,MATCH(N181,referentes!T:T,0),1))","v":""},null,{"$f":"IF(P181=\"\",\"\",INDEX(referentes!Y:Z,MATCH(P181,referentes!Z:Z,0),1))","v":""},"","",null,null,null,null,null,{"$f":"IF(X181=\"\",\"\",INDEX(referentes!J:K,MATCH(X181,referentes!J:J,0),2))","v":""},null,null,""]
["30000401000000",null,0,{"$f":"IF(E182<>\"\",CONCATENATE(B182,A182,DIGITADOR!$M$1,C182),\"\")","v":""},null,null,"","","",null,178,"",{"$f":"IF(R182=R181,\"\",IF(E182<>\"\",CONCATENATE(B182,A182,DIGITADOR!$M$1,C182),\"\"))","v":""},null,{"$f":"IF(N182=\"\",\"\",INDEX(referentes!S:T,MATCH(N182,referentes!T:T,0),1))","v":""},null,{"$f":"IF(P182=\"\",\"\",INDEX(referentes!Y:Z,MATCH(P182,referentes!Z:Z,0),1))","v":""},"","",null,null,null,null,null,{"$f":"IF(X182=\"\",\"\",INDEX(referentes!J:K,MATCH(X182,referentes!J:J,0),2))","v":""},null,null,""]
["30000401000000",null,0,{"$f":"IF(E183<>\"\",CONCATENATE(B183,A183,DIGITADOR!$M$1,C183),\"\")","v":""},null,null,"","","",null,179,"",{"$f":"IF(R183=R182,\"\",IF(E183<>\"\",CONCATENATE(B183,A183,DIGITADOR!$M$1,C183),\"\"))","v":""},null,{"$f":"IF(N183=\"\",\"\",INDEX(referentes!S:T,MATCH(N183,referentes!T:T,0),1))","v":""},null,{"$f":"IF(P183=\"\",\"\",INDEX(referentes!Y:Z,MATCH(P183,referentes!Z:Z,0),1))","v":""},"","",null,null,null,null,null,{"$f":"IF(X183=\"\",\"\",INDEX(referentes!J:K,MATCH(X183,referentes!J:J,0),2))","v":""},null,null,""]
["30000401000000",null,0,{"$f":"IF(E184<>\"\",CONCATENATE(B184,A184,DIGITADOR!$M$1,C184),\"\")","v":""},null,null,"","","",null,180,"",{"$f":"IF(R184=R183,\"\",IF(E184<>\"\",CONCATENATE(B184,A184,DIGITADOR!$M$1,C184),\"\"))","v":""},null,{"$f":"IF(N184=\"\",\"\",INDEX(referentes!S:T,MATCH(N184,referentes!T:T,0),1))","v":""},null,{"$f":"IF(P184=\"\",\"\",INDEX(referentes!Y:Z,MATCH(P184,referentes!Z:Z,0),1))","v":""},"","",null,null,null,null,null,{"$f":"IF(X184=\"\",\"\",INDEX(referentes!J:K,MATCH(X184,referentes!J:J,0),2))","v":""},null,null,""]
["30000401000000",null,0,{"$f":"IF(E185<>\"\",CONCATENATE(B185,A185,DIGITADOR!$M$1,C185),\"\")","v":""},null,null,"","","",null,181,"",{"$f":"IF(R185=R184,\"\",IF(E185<>\"\",CONCATENATE(B185,A185,DIGITADOR!$M$1,C185),\"\"))","v":""},null,{"$f":"IF(N185=\"\",\"\",INDEX(referentes!S:T,MATCH(N185,referentes!T:T,0),1))","v":""},null,{"$f":"IF(P185=\"\",\"\",INDEX(referentes!Y:Z,MATCH(P185,referentes!Z:Z,0),1))","v":""},"","",null,null,null,null,null,{"$f":"IF(X185=\"\",\"\",INDEX(referentes!J:K,MATCH(X185,referentes!J:J,0),2))","v":""},null,null,""]
["30000401000000",null,0,{"$f":"IF(E186<>\"\",CONCATENATE(B186,A186,DIGITADOR!$M$1,C186),\"\")","v":""},null,null,"","","",null,182,"",{"$f":"IF(R186=R185,\"\",IF(E186<>\"\",CONCATENATE(B186,A186,DIGITADOR!$M$1,C186),\"\"))","v":""},null,{"$f":"IF(N186=\"\",\"\",INDEX(referentes!S:T,MATCH(N186,referentes!T:T,0),1))","v":""},null,{"$f":"IF(P186=\"\",\"\",INDEX(referentes!Y:Z,MATCH(P186,referentes!Z:Z,0),1))","v":""},"","",null,null,null,null,null,{"$f":"IF(X186=\"\",\"\",INDEX(referentes!J:K,MATCH(X186,referentes!J:J,0),2))","v":""},null,null,""]
["30000401000000",null,0,{"$f":"IF(E187<>\"\",CONCATENATE(B187,A187,DIGITADOR!$M$1,C187),\"\")","v":""},null,null,"","","",null,183,"",{"$f":"IF(R187=R186,\"\",IF(E187<>\"\",CONCATENATE(B187,A187,DIGITADOR!$M$1,C187),\"\"))","v":""},null,{"$f":"IF(N187=\"\",\"\",INDEX(referentes!S:T,MATCH(N187,referentes!T:T,0),1))","v":""},null,{"$f":"IF(P187=\"\",\"\",INDEX(referentes!Y:Z,MATCH(P187,referentes!Z:Z,0),1))","v":""},"","",null,null,null,null,null,{"$f":"IF(X187=\"\",\"\",INDEX(referentes!J:K,MATCH(X187,referentes!J:J,0),2))","v":""},null,null,""]
["30000401000000",null,0,{"$f":"IF(E188<>\"\",CONCATENATE(B188,A188,DIGITADOR!$M$1,C188),\"\")","v":""},null,null,"","","",null,184,"",{"$f":"IF(R188=R187,\"\",IF(E188<>\"\",CONCATENATE(B188,A188,DIGITADOR!$M$1,C188),\"\"))","v":""},null,{"$f":"IF(N188=\"\",\"\",INDEX(referentes!S:T,MATCH(N188,referentes!T:T,0),1))","v":""},null,{"$f":"IF(P188=\"\",\"\",INDEX(referentes!Y:Z,MATCH(P188,referentes!Z:Z,0),1))","v":""},"","",null,null,null,null,null,{"$f":"IF(X188=\"\",\"\",INDEX(referentes!J:K,MATCH(X188,referentes!J:J,0),2))","v":""},null,null,""]
["30000401000000",null,0,{"$f":"IF(E189<>\"\",CONCATENATE(B189,A189,DIGITADOR!$M$1,C189),\"\")","v":""},null,null,"","","",null,185,"",{"$f":"IF(R189=R188,\"\",IF(E189<>\"\",CONCATENATE(B189,A189,DIGITADOR!$M$1,C189),\"\"))","v":""},null,{"$f":"IF(N189=\"\",\"\",INDEX(referentes!S:T,MATCH(N189,referentes!T:T,0),1))","v":""},null,{"$f":"IF(P189=\"\",\"\",INDEX(referentes!Y:Z,MATCH(P189,referentes!Z:Z,0),1))","v":""},"","",null,null,null,null,null,{"$f":"IF(X189=\"\",\"\",INDEX(referentes!J:K,MATCH(X189,referentes!J:J,0),2))","v":""},null,null,""]
["30000401000000",null,0,{"$f":"IF(E190<>\"\",CONCATENATE(B190,A190,DIGITADOR!$M$1,C190),\"\")","v":""},null,null,"","","",null,186,"",{"$f":"IF(R190=R189,\"\",IF(E190<>\"\",CONCATENATE(B190,A190,DIGITADOR!$M$1,C190),\"\"))","v":""},null,{"$f":"IF(N190=\"\",\"\",INDEX(referentes!S:T,MATCH(N190,referentes!T:T,0),1))","v":""},null,{"$f":"IF(P190=\"\",\"\",INDEX(referentes!Y:Z,MATCH(P190,referentes!Z:Z,0),1))","v":""},"","",null,null,null,null,null,{"$f":"IF(X190=\"\",\"\",INDEX(referentes!J:K,MATCH(X190,referentes!J:J,0),2))","v":""},null,null,""]
["30000401000000",null,0,{"$f":"IF(E191<>\"\",CONCATENATE(B191,A191,DIGITADOR!$M$1,C191),\"\")","v":""},null,null,"","","",null,187,"",{"$f":"IF(R191=R190,\"\",IF(E191<>\"\",CONCATENATE(B191,A191,DIGITADOR!$M$1,C191),\"\"))","v":""},null,{"$f":"IF(N191=\"\",\"\",INDEX(referentes!S:T,MATCH(N191,referentes!T:T,0),1))","v":""},null,{"$f":"IF(P191=\"\",\"\",INDEX(referentes!Y:Z,MATCH(P191,referentes!Z:Z,0),1))","v":""},"","",null,null,null,null,null,{"$f":"IF(X191=\"\",\"\",INDEX(referentes!J:K,MATCH(X191,referentes!J:J,0),2))","v":""},null,null,""]
["30000401000000",null,0,{"$f":"IF(E192<>\"\",CONCATENATE(B192,A192,DIGITADOR!$M$1,C192),\"\")","v":""},null,null,"","","",null,188,"",{"$f":"IF(R192=R191,\"\",IF(E192<>\"\",CONCATENATE(B192,A192,DIGITADOR!$M$1,C192),\"\"))","v":""},null,{"$f":"IF(N192=\"\",\"\",INDEX(referentes!S:T,MATCH(N192,referentes!T:T,0),1))","v":""},null,{"$f":"IF(P192=\"\",\"\",INDEX(referentes!Y:Z,MATCH(P192,referentes!Z:Z,0),1))","v":""},"","",null,null,null,null,null,{"$f":"IF(X192=\"\",\"\",INDEX(referentes!J:K,MATCH(X192,referentes!J:J,0),2))","v":""},null,null,""]
["30000401000000",null,0,{"$f":"IF(E193<>\"\",CONCATENATE(B193,A193,DIGITADOR!$M$1,C193),\"\")","v":""},null,null,"","","",null,189,"",{"$f":"IF(R193=R192,\"\",IF(E193<>\"\",CONCATENATE(B193,A193,DIGITADOR!$M$1,C193),\"\"))","v":""},null,{"$f":"IF(N193=\"\",\"\",INDEX(referentes!S:T,MATCH(N193,referentes!T:T,0),1))","v":""},null,{"$f":"IF(P193=\"\",\"\",INDEX(referentes!Y:Z,MATCH(P193,referentes!Z:Z,0),1))","v":""},"","",null,null,null,null,null,{"$f":"IF(X193=\"\",\"\",INDEX(referentes!J:K,MATCH(X193,referentes!J:J,0),2))","v":""},null,null,""]
["30000401000000",null,0,{"$f":"IF(E194<>\"\",CONCATENATE(B194,A194,DIGITADOR!$M$1,C194),\"\")","v":""},null,null,"","","",null,190,"",{"$f":"IF(R194=R193,\"\",IF(E194<>\"\",CONCATENATE(B194,A194,DIGITADOR!$M$1,C194),\"\"))","v":""},null,{"$f":"IF(N194=\"\",\"\",INDEX(referentes!S:T,MATCH(N194,referentes!T:T,0),1))","v":""},null,{"$f":"IF(P194=\"\",\"\",INDEX(referentes!Y:Z,MATCH(P194,referentes!Z:Z,0),1))","v":""},"","",null,null,null,null,null,{"$f":"IF(X194=\"\",\"\",INDEX(referentes!J:K,MATCH(X194,referentes!J:J,0),2))","v":""},null,null,""]
["30000401000000",null,0,{"$f":"IF(E195<>\"\",CONCATENATE(B195,A195,DIGITADOR!$M$1,C195),\"\")","v":""},null,null,"","","",null,191,"",{"$f":"IF(R195=R194,\"\",IF(E195<>\"\",CONCATENATE(B195,A195,DIGITADOR!$M$1,C195),\"\"))","v":""},null,{"$f":"IF(N195=\"\",\"\",INDEX(referentes!S:T,MATCH(N195,referentes!T:T,0),1))","v":""},null,{"$f":"IF(P195=\"\",\"\",INDEX(referentes!Y:Z,MATCH(P195,referentes!Z:Z,0),1))","v":""},"","",null,null,null,null,null,{"$f":"IF(X195=\"\",\"\",INDEX(referentes!J:K,MATCH(X195,referentes!J:J,0),2))","v":""},null,null,""]
["30000401000000",null,0,{"$f":"IF(E196<>\"\",CONCATENATE(B196,A196,DIGITADOR!$M$1,C196),\"\")","v":""},null,null,"","","",null,192,"",{"$f":"IF(R196=R195,\"\",IF(E196<>\"\",CONCATENATE(B196,A196,DIGITADOR!$M$1,C196),\"\"))","v":""},null,{"$f":"IF(N196=\"\",\"\",INDEX(referentes!S:T,MATCH(N196,referentes!T:T,0),1))","v":""},null,{"$f":"IF(P196=\"\",\"\",INDEX(referentes!Y:Z,MATCH(P196,referentes!Z:Z,0),1))","v":""},"","",null,null,null,null,null,{"$f":"IF(X196=\"\",\"\",INDEX(referentes!J:K,MATCH(X196,referentes!J:J,0),2))","v":""},null,null,""]
["30000401000000",null,{"$f":"IF(R197=R196,C196,C196+1)","v":0},{"$f":"IF(E197<>\"\",CONCATENATE(B197,A197,DIGITADOR!$M$1,C197),\"\")","v":""},null,null,"","","",null,193,"",{"$f":"IF(R197=R196,\"\",IF(E197<>\"\",CONCATENATE(B197,A197,DIGITADOR!$M$1,C197),\"\"))","v":""},null,{"$f":"IF(N197=\"\",\"\",INDEX(referentes!S:T,MATCH(N197,referentes!T:T,0),1))","v":""},null,{"$f":"IF(P197=\"\",\"\",INDEX(referentes!Y:Z,MATCH(P197,referentes!Z:Z,0),1))","v":""},"","",null,null,null,null,null,{"$f":"IF(X197=\"\",\"\",INDEX(referentes!J:K,MATCH(X197,referentes!J:J,0),2))","v":""},null,null,""]
["30000401000000",null,0,{"$f":"IF(E198<>\"\",CONCATENATE(B198,A198,DIGITADOR!$M$1,C198),\"\")","v":""},null,null,{"$f":"IF(E198=\"\", \"\", (E198+F198))","v":""},{"$f":"IF(G198<>\"\",MONTH(G198),\"\")","v":""},{"$f":"IF(D198=\"\",\"\",1)","v":""},null,194,{"$f":"IF(E198=\"\",\"\",CONCATENATE(D198,K198))","v":""},{"$f":"IF(R198=R197,\"\",IF(E198<>\"\",CONCATENATE(B198,A198,DIGITADOR!$M$1,C198),\"\"))","v":""},null,{"$f":"IF(N198=\"\",\"\",INDEX(referentes!S:T,MATCH(N198,referentes!T:T,0),1))","v":""},null,{"$f":"IF(P198=\"\",\"\",INDEX(referentes!Y:Z,MATCH(P198,referentes!Z:Z,0),1))","v":""},{"$f":"IF(G198=\"\",\"\",CONCATENATE(G198,O198,Q198))","v":""},{"$f":"IF(E198=\"\",\"\",\"INVEMAR\")","v":""},null,null,null,null,null,{"$f":"IF(X198=\"\",\"\",INDEX(referentes!J:K,MATCH(X198,referentes!J:J,0),2))","v":""},null,null,{"$f":"IF(T198=\"\",\"\",IF(T198=T197,AB197,AA198))","v":""}]
[{"$f":"A198","v":"30000401000000"},null,0,{"$f":"IF(E199<>\"\",CONCATENATE(B199,A199,DIGITADOR!$M$1,C199),\"\")","v":""},null,null,"","","",null,195,"",{"$f":"IF(R199=R198,\"\",IF(E199<>\"\",CONCATENATE(B199,A199,DIGITADOR!$M$1,C199),\"\"))","v":""},null,{"$f":"IF(N199=\"\",\"\",INDEX(referentes!S:T,MATCH(N199,referentes!T:T,0),1))","v":""},null,{"$f":"IF(P199=\"\",\"\",INDEX(referentes!Y:Z,MATCH(P199,referentes!Z:Z,0),1))","v":""},"","",null,null,null,null,null,{"$f":"IF(X199=\"\",\"\",INDEX(referentes!J:K,MATCH(X199,referentes!J:J,0),2))","v":""},null,null,""]
["30000401000000",null,0,{"$f":"IF(E200<>\"\",CONCATENATE(B200,A200,DIGITADOR!$M$1,C200),\"\")","v":""},null,null,"","","",null,196,"",{"$f":"IF(R200=R199,\"\",IF(E200<>\"\",CONCATENATE(B200,A200,DIGITADOR!$M$1,C200),\"\"))","v":""},null,{"$f":"IF(N200=\"\",\"\",INDEX(referentes!S:T,MATCH(N200,referentes!T:T,0),1))","v":""},null,{"$f":"IF(P200=\"\",\"\",INDEX(referentes!Y:Z,MATCH(P200,referentes!Z:Z,0),1))","v":""},"","",null,null,null,null,null,{"$f":"IF(X200=\"\",\"\",INDEX(referentes!J:K,MATCH(X200,referentes!J:J,0),2))","v":""},null,null,""]
["30000401000000",null,0,{"$f":"IF(E201<>\"\",CONCATENATE(B201,A201,DIGITADOR!$M$1,C201),\"\")","v":""},null,null,"","","",null,197,"",{"$f":"IF(R201=R200,\"\",IF(E201<>\"\",CONCATENATE(B201,A201,DIGITADOR!$M$1,C201),\"\"))","v":""},null,{"$f":"IF(N201=\"\",\"\",INDEX(referentes!S:T,MATCH(N201,referentes!T:T,0),1))","v":""},null,{"$f":"IF(P201=\"\",\"\",INDEX(referentes!Y:Z,MATCH(P201,referentes!Z:Z,0),1))","v":""},"","",null,null,null,null,null,{"$f":"IF(X201=\"\",\"\",INDEX(referentes!J:K,MATCH(X201,referentes!J:J,0),2))","v":""},null,null,""]
["30000401000000",null,0,{"$f":"IF(E202<>\"\",CONCATENATE(B202,A202,DIGITADOR!$M$1,C202),\"\")","v":""},null,null,"","","",null,198,"",{"$f":"IF(R202=R201,\"\",IF(E202<>\"\",CONCATENATE(B202,A202,DIGITADOR!$M$1,C202),\"\"))","v":""},null,{"$f":"IF(N202=\"\",\"\",INDEX(referentes!S:T,MATCH(N202,referentes!T:T,0),1))","v":""},null,{"$f":"IF(P202=\"\",\"\",INDEX(referentes!Y:Z,MATCH(P202,referentes!Z:Z,0),1))","v":""},"","",null,null,null,null,null,{"$f":"IF(X202=\"\",\"\",INDEX(referentes!J:K,MATCH(X202,referentes!J:J,0),2))","v":""},null,null,""]
["30000401000000",null,0,{"$f":"IF(E203<>\"\",CONCATENATE(B203,A203,DIGITADOR!$M$1,C203),\"\")","v":""},null,null,"","","",null,199,"",{"$f":"IF(R203=R202,\"\",IF(E203<>\"\",CONCATENATE(B203,A203,DIGITADOR!$M$1,C203),\"\"))","v":""},null,{"$f":"IF(N203=\"\",\"\",INDEX(referentes!S:T,MATCH(N203,referentes!T:T,0),1))","v":""},null,{"$f":"IF(P203=\"\",\"\",INDEX(referentes!Y:Z,MATCH(P203,referentes!Z:Z,0),1))","v":""},"","",null,null,null,null,null,{"$f":"IF(X203=\"\",\"\",INDEX(referentes!J:K,MATCH(X203,referentes!J:J,0),2))","v":""},null,null,""]
["30000401000000",null,0,{"$f":"IF(E204<>\"\",CONCATENATE(B204,A204,DIGITADOR!$M$1,C204),\"\")","v":""},null,null,"","","",null,200,"",{"$f":"IF(R204=R203,\"\",IF(E204<>\"\",CONCATENATE(B204,A204,DIGITADOR!$M$1,C204),\"\"))","v":""},null,{"$f":"IF(N204=\"\",\"\",INDEX(referentes!S:T,MATCH(N204,referentes!T:T,0),1))","v":""},null,{"$f":"IF(P204=\"\",\"\",INDEX(referentes!Y:Z,MATCH(P204,referentes!Z:Z,0),1))","v":""},"","",null,null,null,null,null,{"$f":"IF(X204=\"\",\"\",INDEX(referentes!J:K,MATCH(X204,referentes!J:J,0),2))","v":""},null,null,""]
["30000401000000",null,0,{"$f":"IF(E205<>\"\",CONCATENATE(B205,A205,DIGITADOR!$M$1,C205),\"\")","v":""},null,null,"","","",null,201,"",{"$f":"IF(R205=R204,\"\",IF(E205<>\"\",CONCATENATE(B205,A205,DIGITADOR!$M$1,C205),\"\"))","v":""},null,{"$f":"IF(N205=\"\",\"\",INDEX(referentes!S:T,MATCH(N205,referentes!T:T,0),1))","v":""},null,{"$f":"IF(P205=\"\",\"\",INDEX(referentes!Y:Z,MATCH(P205,referentes!Z:Z,0),1))","v":""},"","",null,null,null,null,null,{"$f":"IF(X205=\"\",\"\",INDEX(referentes!J:K,MATCH(X205,referentes!J:J,0),2))","v":""},null,null,""]
["30000401000000",null,0,{"$f":"IF(E206<>\"\",CONCATENATE(B206,A206,DIGITADOR!$M$1,C206),\"\")","v":""},null,null,"","","",null,202,"",{"$f":"IF(R206=R205,\"\",IF(E206<>\"\",CONCATENATE(B206,A206,DIGITADOR!$M$1,C206),\"\"))","v":""},null,{"$f":"IF(N206=\"\",\"\",INDEX(referentes!S:T,MATCH(N206,referentes!T:T,0),1))","v":""},null,{"$f":"IF(P206=\"\",\"\",INDEX(referentes!Y:Z,MATCH(P206,referentes!Z:Z,0),1))","v":""},"","",null,null,null,null,null,{"$f":"IF(X206=\"\",\"\",INDEX(referentes!J:K,MATCH(X206,referentes!J:J,0),2))","v":""},null,null,""]
["30000401000000",null,0,{"$f":"IF(E207<>\"\",CONCATENATE(B207,A207,DIGITADOR!$M$1,C207),\"\")","v":""},null,null,"","","",null,203,"",{"$f":"IF(R207=R206,\"\",IF(E207<>\"\",CONCATENATE(B207,A207,DIGITADOR!$M$1,C207),\"\"))","v":""},null,{"$f":"IF(N207=\"\",\"\",INDEX(referentes!S:T,MATCH(N207,referentes!T:T,0),1))","v":""},null,{"$f":"IF(P207=\"\",\"\",INDEX(referentes!Y:Z,MATCH(P207,referentes!Z:Z,0),1))","v":""},"","",null,null,null,null,null,{"$f":"IF(X207=\"\",\"\",INDEX(referentes!J:K,MATCH(X207,referentes!J:J,0),2))","v":""},null,null,""]
["30000401000000",null,0,{"$f":"IF(E208<>\"\",CONCATENATE(B208,A208,DIGITADOR!$M$1,C208),\"\")","v":""},null,null,"","","",null,204,"",{"$f":"IF(R208=R207,\"\",IF(E208<>\"\",CONCATENATE(B208,A208,DIGITADOR!$M$1,C208),\"\"))","v":""},null,{"$f":"IF(N208=\"\",\"\",INDEX(referentes!S:T,MATCH(N208,referentes!T:T,0),1))","v":""},null,{"$f":"IF(P208=\"\",\"\",INDEX(referentes!Y:Z,MATCH(P208,referentes!Z:Z,0),1))","v":""},"","",null,null,null,null,null,{"$f":"IF(X208=\"\",\"\",INDEX(referentes!J:K,MATCH(X208,referentes!J:J,0),2))","v":""},null,null,""]
["30000401000000",null,0,{"$f":"IF(E209<>\"\",CONCATENATE(B209,A209,DIGITADOR!$M$1,C209),\"\")","v":""},null,null,"","","",null,205,"",{"$f":"IF(R209=R208,\"\",IF(E209<>\"\",CONCATENATE(B209,A209,DIGITADOR!$M$1,C209),\"\"))","v":""},null,{"$f":"IF(N209=\"\",\"\",INDEX(referentes!S:T,MATCH(N209,referentes!T:T,0),1))","v":""},null,{"$f":"IF(P209=\"\",\"\",INDEX(referentes!Y:Z,MATCH(P209,referentes!Z:Z,0),1))","v":""},"","",null,null,null,null,null,{"$f":"IF(X209=\"\",\"\",INDEX(referentes!J:K,MATCH(X209,referentes!J:J,0),2))","v":""},null,null,""]
["30000401000000",null,0,{"$f":"IF(E210<>\"\",CONCATENATE(B210,A210,DIGITADOR!$M$1,C210),\"\")","v":""},null,null,"","","",null,206,"",{"$f":"IF(R210=R209,\"\",IF(E210<>\"\",CONCATENATE(B210,A210,DIGITADOR!$M$1,C210),\"\"))","v":""},null,{"$f":"IF(N210=\"\",\"\",INDEX(referentes!S:T,MATCH(N210,referentes!T:T,0),1))","v":""},null,{"$f":"IF(P210=\"\",\"\",INDEX(referentes!Y:Z,MATCH(P210,referentes!Z:Z,0),1))","v":""},"","",null,null,null,null,null,{"$f":"IF(X210=\"\",\"\",INDEX(referentes!J:K,MATCH(X210,referentes!J:J,0),2))","v":""},null,null,""]
["30000401000000",null,0,{"$f":"IF(E211<>\"\",CONCATENATE(B211,A211,DIGITADOR!$M$1,C211),\"\")","v":""},null,null,"","","",null,207,"",{"$f":"IF(R211=R210,\"\",IF(E211<>\"\",CONCATENATE(B211,A211,DIGITADOR!$M$1,C211),\"\"))","v":""},null,{"$f":"IF(N211=\"\",\"\",INDEX(referentes!S:T,MATCH(N211,referentes!T:T,0),1))","v":""},null,{"$f":"IF(P211=\"\",\"\",INDEX(referentes!Y:Z,MATCH(P211,referentes!Z:Z,0),1))","v":""},"","",null,null,null,null,null,{"$f":"IF(X211=\"\",\"\",INDEX(referentes!J:K,MATCH(X211,referentes!J:J,0),2))","v":""},null,null,""]
["30000401000000",null,0,{"$f":"IF(E212<>\"\",CONCATENATE(B212,A212,DIGITADOR!$M$1,C212),\"\")","v":""},null,null,"","","",null,208,"",{"$f":"IF(R212=R211,\"\",IF(E212<>\"\",CONCATENATE(B212,A212,DIGITADOR!$M$1,C212),\"\"))","v":""},null,{"$f":"IF(N212=\"\",\"\",INDEX(referentes!S:T,MATCH(N212,referentes!T:T,0),1))","v":""},null,{"$f":"IF(P212=\"\",\"\",INDEX(referentes!Y:Z,MATCH(P212,referentes!Z:Z,0),1))","v":""},"","",null,null,null,null,null,{"$f":"IF(X212=\"\",\"\",INDEX(referentes!J:K,MATCH(X212,referentes!J:J,0),2))","v":""},null,null,""]
["30000401000000",null,0,{"$f":"IF(E213<>\"\",CONCATENATE(B213,A213,DIGITADOR!$M$1,C213),\"\")","v":""},null,null,"","","",null,209,"",{"$f":"IF(R213=R212,\"\",IF(E213<>\"\",CONCATENATE(B213,A213,DIGITADOR!$M$1,C213),\"\"))","v":""},null,{"$f":"IF(N213=\"\",\"\",INDEX(referentes!S:T,MATCH(N213,referentes!T:T,0),1))","v":""},null,{"$f":"IF(P213=\"\",\"\",INDEX(referentes!Y:Z,MATCH(P213,referentes!Z:Z,0),1))","v":""},"","",null,null,null,null,null,{"$f":"IF(X213=\"\",\"\",INDEX(referentes!J:K,MATCH(X213,referentes!J:J,0),2))","v":""},null,null,""]
["30000401000000",null,0,{"$f":"IF(E214<>\"\",CONCATENATE(B214,A214,DIGITADOR!$M$1,C214),\"\")","v":""},null,null,"","","",null,210,"",{"$f":"IF(R214=R213,\"\",IF(E214<>\"\",CONCATENATE(B214,A214,DIGITADOR!$M$1,C214),\"\"))","v":""},null,{"$f":"IF(N214=\"\",\"\",INDEX(referentes!S:T,MATCH(N214,referentes!T:T,0),1))","v":""},null,{"$f":"IF(P214=\"\",\"\",INDEX(referentes!Y:Z,MATCH(P214,referentes!Z:Z,0),1))","v":""},"","",null,null,null,null,null,{"$f":"IF(X214=\"\",\"\",INDEX(referentes!J:K,MATCH(X214,referentes!J:J,0),2))","v":""},null,null,""]
["30000401000000",null,0,{"$f":"IF(E215<>\"\",CONCATENATE(B215,A215,DIGITADOR!$M$1,C215),\"\")","v":""},null,null,"","","",null,211,"",{"$f":"IF(R215=R214,\"\",IF(E215<>\"\",CONCATENATE(B215,A215,DIGITADOR!$M$1,C215),\"\"))","v":""},null,{"$f":"IF(N215=\"\",\"\",INDEX(referentes!S:T,MATCH(N215,referentes!T:T,0),1))","v":""},null,{"$f":"IF(P215=\"\",\"\",INDEX(referentes!Y:Z,MATCH(P215,referentes!Z:Z,0),1))","v":""},"","",null,null,null,null,null,{"$f":"IF(X215=\"\",\"\",INDEX(referentes!J:K,MATCH(X215,referentes!J:J,0),2))","v":""},null,null,""]
["30000401000000",null,0,{"$f":"IF(E216<>\"\",CONCATENATE(B216,A216,DIGITADOR!$M$1,C216),\"\")","v":""},null,null,"","","",null,212,"",{"$f":"IF(R216=R215,\"\",IF(E216<>\"\",CONCATENATE(B216,A216,DIGITADOR!$M$1,C216),\"\"))","v":""},null,{"$f":"IF(N216=\"\",\"\",INDEX(referentes!S:T,MATCH(N216,referentes!T:T,0),1))","v":""},null,{"$f":"IF(P216=\"\",\"\",INDEX(referentes!Y:Z,MATCH(P216,referentes!Z:Z,0),1))","v":""},"","",null,null,null,null,null,{"$f":"IF(X216=\"\",\"\",INDEX(referentes!J:K,MATCH(X216,referentes!J:J,0),2))","v":""},null,null,""]
["30000401000000",null,0,{"$f":"IF(E217<>\"\",CONCATENATE(B217,A217,DIGITADOR!$M$1,C217),\"\")","v":""},null,null,"","","",null,213,"",{"$f":"IF(R217=R216,\"\",IF(E217<>\"\",CONCATENATE(B217,A217,DIGITADOR!$M$1,C217),\"\"))","v":""},null,{"$f":"IF(N217=\"\",\"\",INDEX(referentes!S:T,MATCH(N217,referentes!T:T,0),1))","v":""},null,{"$f":"IF(P217=\"\",\"\",INDEX(referentes!Y:Z,MATCH(P217,referentes!Z:Z,0),1))","v":""},"","",null,null,null,null,null,{"$f":"IF(X217=\"\",\"\",INDEX(referentes!J:K,MATCH(X217,referentes!J:J,0),2))","v":""},null,null,""]
["30000401000000",null,0,{"$f":"IF(E218<>\"\",CONCATENATE(B218,A218,DIGITADOR!$M$1,C218),\"\")","v":""},null,null,"","","",null,214,"",{"$f":"IF(R218=R217,\"\",IF(E218<>\"\",CONCATENATE(B218,A218,DIGITADOR!$M$1,C218),\"\"))","v":""},null,{"$f":"IF(N218=\"\",\"\",INDEX(referentes!S:T,MATCH(N218,referentes!T:T,0),1))","v":""},null,{"$f":"IF(P218=\"\",\"\",INDEX(referentes!Y:Z,MATCH(P218,referentes!Z:Z,0),1))","v":""},"","",null,null,null,null,null,{"$f":"IF(X218=\"\",\"\",INDEX(referentes!J:K,MATCH(X218,referentes!J:J,0),2))","v":""},null,null,""]
["30000401000000",null,0,{"$f":"IF(E219<>\"\",CONCATENATE(B219,A219,DIGITADOR!$M$1,C219),\"\")","v":""},null,null,"","","",null,215,"",{"$f":"IF(R219=R218,\"\",IF(E219<>\"\",CONCATENATE(B219,A219,DIGITADOR!$M$1,C219),\"\"))","v":""},null,{"$f":"IF(N219=\"\",\"\",INDEX(referentes!S:T,MATCH(N219,referentes!T:T,0),1))","v":""},null,{"$f":"IF(P219=\"\",\"\",INDEX(referentes!Y:Z,MATCH(P219,referentes!Z:Z,0),1))","v":""},"","",null,null,null,null,null,{"$f":"IF(X219=\"\",\"\",INDEX(referentes!J:K,MATCH(X219,referentes!J:J,0),2))","v":""},null,null,""]
["30000401000000",null,0,{"$f":"IF(E220<>\"\",CONCATENATE(B220,A220,DIGITADOR!$M$1,C220),\"\")","v":""},null,null,"","","",null,216,"",{"$f":"IF(R220=R219,\"\",IF(E220<>\"\",CONCATENATE(B220,A220,DIGITADOR!$M$1,C220),\"\"))","v":""},null,{"$f":"IF(N220=\"\",\"\",INDEX(referentes!S:T,MATCH(N220,referentes!T:T,0),1))","v":""},null,{"$f":"IF(P220=\"\",\"\",INDEX(referentes!Y:Z,MATCH(P220,referentes!Z:Z,0),1))","v":""},"","",null,null,null,null,null,{"$f":"IF(X220=\"\",\"\",INDEX(referentes!J:K,MATCH(X220,referentes!J:J,0),2))","v":""},null,null,""]
["30000401000000",null,0,{"$f":"IF(E221<>\"\",CONCATENATE(B221,A221,DIGITADOR!$M$1,C221),\"\")","v":""},null,null,"","","",null,217,"",{"$f":"IF(R221=R220,\"\",IF(E221<>\"\",CONCATENATE(B221,A221,DIGITADOR!$M$1,C221),\"\"))","v":""},null,{"$f":"IF(N221=\"\",\"\",INDEX(referentes!S:T,MATCH(N221,referentes!T:T,0),1))","v":""},null,{"$f":"IF(P221=\"\",\"\",INDEX(referentes!Y:Z,MATCH(P221,referentes!Z:Z,0),1))","v":""},"","",null,null,null,null,null,{"$f":"IF(X221=\"\",\"\",INDEX(referentes!J:K,MATCH(X221,referentes!J:J,0),2))","v":""},null,null,""]
["30000401000000",null,0,{"$f":"IF(E222<>\"\",CONCATENATE(B222,A222,DIGITADOR!$M$1,C222),\"\")","v":""},null,null,"","","",null,218,"",{"$f":"IF(R222=R221,\"\",IF(E222<>\"\",CONCATENATE(B222,A222,DIGITADOR!$M$1,C222),\"\"))","v":""},null,{"$f":"IF(N222=\"\",\"\",INDEX(referentes!S:T,MATCH(N222,referentes!T:T,0),1))","v":""},null,{"$f":"IF(P222=\"\",\"\",INDEX(referentes!Y:Z,MATCH(P222,referentes!Z:Z,0),1))","v":""},"","",null,null,null,null,null,{"$f":"IF(X222=\"\",\"\",INDEX(referentes!J:K,MATCH(X222,referentes!J:J,0),2))","v":""},null,null,""]
["30000401000000",null,0,{"$f":"IF(E223<>\"\",CONCATENATE(B223,A223,DIGITADOR!$M$1,C223),\"\")","v":""},null,null,"","","",null,219,"",{"$f":"IF(R223=R222,\"\",IF(E223<>\"\",CONCATENATE(B223,A223,DIGITADOR!$M$1,C223),\"\"))","v":""},null,{"$f":"IF(N223=\"\",\"\",INDEX(referentes!S:T,MATCH(N223,referentes!T:T,0),1))","v":""},null,{"$f":"IF(P223=\"\",\"\",INDEX(referentes!Y:Z,MATCH(P223,referentes!Z:Z,0),1))","v":""},"","",null,null,null,null,null,{"$f":"IF(X223=\"\",\"\",INDEX(referentes!J:K,MATCH(X223,referentes!J:J,0),2))","v":""},null,null,""]
["30000401000000",null,0,{"$f":"IF(E224<>\"\",CONCATENATE(B224,A224,DIGITADOR!$M$1,C224),\"\")","v":""},null,null,"","","",null,220,"",{"$f":"IF(R224=R223,\"\",IF(E224<>\"\",CONCATENATE(B224,A224,DIGITADOR!$M$1,C224),\"\"))","v":""},null,{"$f":"IF(N224=\"\",\"\",INDEX(referentes!S:T,MATCH(N224,referentes!T:T,0),1))","v":""},null,{"$f":"IF(P224=\"\",\"\",INDEX(referentes!Y:Z,MATCH(P224,referentes!Z:Z,0),1))","v":""},"","",null,null,null,null,null,{"$f":"IF(X224=\"\",\"\",INDEX(referentes!J:K,MATCH(X224,referentes!J:J,0),2))","v":""},null,null,""]
["30000401000000",null,0,{"$f":"IF(E225<>\"\",CONCATENATE(B225,A225,DIGITADOR!$M$1,C225),\"\")","v":""},null,null,"","","",null,221,"",{"$f":"IF(R225=R224,\"\",IF(E225<>\"\",CONCATENATE(B225,A225,DIGITADOR!$M$1,C225),\"\"))","v":""},null,{"$f":"IF(N225=\"\",\"\",INDEX(referentes!S:T,MATCH(N225,referentes!T:T,0),1))","v":""},null,{"$f":"IF(P225=\"\",\"\",INDEX(referentes!Y:Z,MATCH(P225,referentes!Z:Z,0),1))","v":""},"","",null,null,null,null,null,{"$f":"IF(X225=\"\",\"\",INDEX(referentes!J:K,MATCH(X225,referentes!J:J,0),2))","v":""},null,null,""]
["30000401000000",null,0,{"$f":"IF(E226<>\"\",CONCATENATE(B226,A226,DIGITADOR!$M$1,C226),\"\")","v":""},null,null,"","","",null,222,"",{"$f":"IF(R226=R225,\"\",IF(E226<>\"\",CONCATENATE(B226,A226,DIGITADOR!$M$1,C226),\"\"))","v":""},null,{"$f":"IF(N226=\"\",\"\",INDEX(referentes!S:T,MATCH(N226,referentes!T:T,0),1))","v":""},null,{"$f":"IF(P226=\"\",\"\",INDEX(referentes!Y:Z,MATCH(P226,referentes!Z:Z,0),1))","v":""},"","",null,null,null,null,null,{"$f":"IF(X226=\"\",\"\",INDEX(referentes!J:K,MATCH(X226,referentes!J:J,0),2))","v":""},null,null,""]
["30000401000000",null,0,{"$f":"IF(E227<>\"\",CONCATENATE(B227,A227,DIGITADOR!$M$1,C227),\"\")","v":""},null,null,"","","",null,223,"",{"$f":"IF(R227=R226,\"\",IF(E227<>\"\",CONCATENATE(B227,A227,DIGITADOR!$M$1,C227),\"\"))","v":""},null,{"$f":"IF(N227=\"\",\"\",INDEX(referentes!S:T,MATCH(N227,referentes!T:T,0),1))","v":""},null,{"$f":"IF(P227=\"\",\"\",INDEX(referentes!Y:Z,MATCH(P227,referentes!Z:Z,0),1))","v":""},"","",null,null,null,null,null,{"$f":"IF(X227=\"\",\"\",INDEX(referentes!J:K,MATCH(X227,referentes!J:J,0),2))","v":""},null,null,""]
["30000401000000",null,0,{"$f":"IF(E228<>\"\",CONCATENATE(B228,A228,DIGITADOR!$M$1,C228),\"\")","v":""},null,null,"","","",null,224,"",{"$f":"IF(R228=R227,\"\",IF(E228<>\"\",CONCATENATE(B228,A228,DIGITADOR!$M$1,C228),\"\"))","v":""},null,{"$f":"IF(N228=\"\",\"\",INDEX(referentes!S:T,MATCH(N228,referentes!T:T,0),1))","v":""},null,{"$f":"IF(P228=\"\",\"\",INDEX(referentes!Y:Z,MATCH(P228,referentes!Z:Z,0),1))","v":""},"","",null,null,null,null,null,{"$f":"IF(X228=\"\",\"\",INDEX(referentes!J:K,MATCH(X228,referentes!J:J,0),2))","v":""},null,null,""]
["30000401000000",null,0,{"$f":"IF(E229<>\"\",CONCATENATE(B229,A229,DIGITADOR!$M$1,C229),\"\")","v":""},null,null,"","","",null,225,"",{"$f":"IF(R229=R228,\"\",IF(E229<>\"\",CONCATENATE(B229,A229,DIGITADOR!$M$1,C229),\"\"))","v":""},null,{"$f":"IF(N229=\"\",\"\",INDEX(referentes!S:T,MATCH(N229,referentes!T:T,0),1))","v":""},null,{"$f":"IF(P229=\"\",\"\",INDEX(referentes!Y:Z,MATCH(P229,referentes!Z:Z,0),1))","v":""},"","",null,null,null,null,null,{"$f":"IF(X229=\"\",\"\",INDEX(referentes!J:K,MATCH(X229,referentes!J:J,0),2))","v":""},null,null,""]
["30000401000000",null,0,{"$f":"IF(E230<>\"\",CONCATENATE(B230,A230,DIGITADOR!$M$1,C230),\"\")","v":""},null,null,"","","",null,226,"",{"$f":"IF(R230=R229,\"\",IF(E230<>\"\",CONCATENATE(B230,A230,DIGITADOR!$M$1,C230),\"\"))","v":""},null,{"$f":"IF(N230=\"\",\"\",INDEX(referentes!S:T,MATCH(N230,referentes!T:T,0),1))","v":""},null,{"$f":"IF(P230=\"\",\"\",INDEX(referentes!Y:Z,MATCH(P230,referentes!Z:Z,0),1))","v":""},"","",null,null,null,null,null,{"$f":"IF(X230=\"\",\"\",INDEX(referentes!J:K,MATCH(X230,referentes!J:J,0),2))","v":""},null,null,""]
["30000401000000",null,0,{"$f":"IF(E231<>\"\",CONCATENATE(B231,A231,DIGITADOR!$M$1,C231),\"\")","v":""},null,null,"","","",null,227,"",{"$f":"IF(R231=R230,\"\",IF(E231<>\"\",CONCATENATE(B231,A231,DIGITADOR!$M$1,C231),\"\"))","v":""},null,{"$f":"IF(N231=\"\",\"\",INDEX(referentes!S:T,MATCH(N231,referentes!T:T,0),1))","v":""},null,{"$f":"IF(P231=\"\",\"\",INDEX(referentes!Y:Z,MATCH(P231,referentes!Z:Z,0),1))","v":""},"","",null,null,null,null,null,{"$f":"IF(X231=\"\",\"\",INDEX(referentes!J:K,MATCH(X231,referentes!J:J,0),2))","v":""},null,null,""]
["30000401000000",null,0,{"$f":"IF(E232<>\"\",CONCATENATE(B232,A232,DIGITADOR!$M$1,C232),\"\")","v":""},null,null,"","","",null,228,"",{"$f":"IF(R232=R231,\"\",IF(E232<>\"\",CONCATENATE(B232,A232,DIGITADOR!$M$1,C232),\"\"))","v":""},null,{"$f":"IF(N232=\"\",\"\",INDEX(referentes!S:T,MATCH(N232,referentes!T:T,0),1))","v":""},null,{"$f":"IF(P232=\"\",\"\",INDEX(referentes!Y:Z,MATCH(P232,referentes!Z:Z,0),1))","v":""},"","",null,null,null,null,null,{"$f":"IF(X232=\"\",\"\",INDEX(referentes!J:K,MATCH(X232,referentes!J:J,0),2))","v":""},null,null,""]
["30000401000000",null,0,{"$f":"IF(E233<>\"\",CONCATENATE(B233,A233,DIGITADOR!$M$1,C233),\"\")","v":""},null,null,"","","",null,229,"",{"$f":"IF(R233=R232,\"\",IF(E233<>\"\",CONCATENATE(B233,A233,DIGITADOR!$M$1,C233),\"\"))","v":""},null,{"$f":"IF(N233=\"\",\"\",INDEX(referentes!S:T,MATCH(N233,referentes!T:T,0),1))","v":""},null,{"$f":"IF(P233=\"\",\"\",INDEX(referentes!Y:Z,MATCH(P233,referentes!Z:Z,0),1))","v":""},"","",null,null,null,null,null,{"$f":"IF(X233=\"\",\"\",INDEX(referentes!J:K,MATCH(X233,referentes!J:J,0),2))","v":""},null,null,""]
["30000401000000",null,0,{"$f":"IF(E234<>\"\",CONCATENATE(B234,A234,DIGITADOR!$M$1,C234),\"\")","v":""},null,null,"","","",null,230,"",{"$f":"IF(R234=R233,\"\",IF(E234<>\"\",CONCATENATE(B234,A234,DIGITADOR!$M$1,C234),\"\"))","v":""},null,{"$f":"IF(N234=\"\",\"\",INDEX(referentes!S:T,MATCH(N234,referentes!T:T,0),1))","v":""},null,{"$f":"IF(P234=\"\",\"\",INDEX(referentes!Y:Z,MATCH(P234,referentes!Z:Z,0),1))","v":""},"","",null,null,null,null,null,{"$f":"IF(X234=\"\",\"\",INDEX(referentes!J:K,MATCH(X234,referentes!J:J,0),2))","v":""},null,null,""]
["30000401000000",null,0,{"$f":"IF(E235<>\"\",CONCATENATE(B235,A235,DIGITADOR!$M$1,C235),\"\")","v":""},null,null,"","","",null,231,"",{"$f":"IF(R235=R234,\"\",IF(E235<>\"\",CONCATENATE(B235,A235,DIGITADOR!$M$1,C235),\"\"))","v":""},null,{"$f":"IF(N235=\"\",\"\",INDEX(referentes!S:T,MATCH(N235,referentes!T:T,0),1))","v":""},null,{"$f":"IF(P235=\"\",\"\",INDEX(referentes!Y:Z,MATCH(P235,referentes!Z:Z,0),1))","v":""},"","",null,null,null,null,null,{"$f":"IF(X235=\"\",\"\",INDEX(referentes!J:K,MATCH(X235,referentes!J:J,0),2))","v":""},null,null,""]
["30000401000000",null,0,{"$f":"IF(E236<>\"\",CONCATENATE(B236,A236,DIGITADOR!$M$1,C236),\"\")","v":""},null,null,"","","",null,232,"",{"$f":"IF(R236=R235,\"\",IF(E236<>\"\",CONCATENATE(B236,A236,DIGITADOR!$M$1,C236),\"\"))","v":""},null,{"$f":"IF(N236=\"\",\"\",INDEX(referentes!S:T,MATCH(N236,referentes!T:T,0),1))","v":""},null,{"$f":"IF(P236=\"\",\"\",INDEX(referentes!Y:Z,MATCH(P236,referentes!Z:Z,0),1))","v":""},"","",null,null,null,null,null,{"$f":"IF(X236=\"\",\"\",INDEX(referentes!J:K,MATCH(X236,referentes!J:J,0),2))","v":""},null,null,""]
["30000401000000",null,0,{"$f":"IF(E237<>\"\",CONCATENATE(B237,A237,DIGITADOR!$M$1,C237),\"\")","v":""},null,null,"","","",null,233,"",{"$f":"IF(R237=R236,\"\",IF(E237<>\"\",CONCATENATE(B237,A237,DIGITADOR!$M$1,C237),\"\"))","v":""},null,{"$f":"IF(N237=\"\",\"\",INDEX(referentes!S:T,MATCH(N237,referentes!T:T,0),1))","v":""},null,{"$f":"IF(P237=\"\",\"\",INDEX(referentes!Y:Z,MATCH(P237,referentes!Z:Z,0),1))","v":""},"","",null,null,null,null,null,{"$f":"IF(X237=\"\",\"\",INDEX(referentes!J:K,MATCH(X237,referentes!J:J,0),2))","v":""},null,null,""]
["30000401000000",null,0,{"$f":"IF(E238<>\"\",CONCATENATE(B238,A238,DIGITADOR!$M$1,C238),\"\")","v":""},null,null,"","","",null,234,"",{"$f":"IF(R238=R237,\"\",IF(E238<>\"\",CONCATENATE(B238,A238,DIGITADOR!$M$1,C238),\"\"))","v":""},null,{"$f":"IF(N238=\"\",\"\",INDEX(referentes!S:T,MATCH(N238,referentes!T:T,0),1))","v":""},null,{"$f":"IF(P238=\"\",\"\",INDEX(referentes!Y:Z,MATCH(P238,referentes!Z:Z,0),1))","v":""},"","",null,null,null,null,null,{"$f":"IF(X238=\"\",\"\",INDEX(referentes!J:K,MATCH(X238,referentes!J:J,0),2))","v":""},null,null,""]
["30000401000000",null,0,{"$f":"IF(E239<>\"\",CONCATENATE(B239,A239,DIGITADOR!$M$1,C239),\"\")","v":""},null,null,"","","",null,235,"",{"$f":"IF(R239=R238,\"\",IF(E239<>\"\",CONCATENATE(B239,A239,DIGITADOR!$M$1,C239),\"\"))","v":""},null,{"$f":"IF(N239=\"\",\"\",INDEX(referentes!S:T,MATCH(N239,referentes!T:T,0),1))","v":""},null,{"$f":"IF(P239=\"\",\"\",INDEX(referentes!Y:Z,MATCH(P239,referentes!Z:Z,0),1))","v":""},"","",null,null,null,null,null,{"$f":"IF(X239=\"\",\"\",INDEX(referentes!J:K,MATCH(X239,referentes!J:J,0),2))","v":""},null,null,""]
["30000401000000",null,0,{"$f":"IF(E240<>\"\",CONCATENATE(B240,A240,DIGITADOR!$M$1,C240),\"\")","v":""},null,null,"","","",null,236,"",{"$f":"IF(R240=R239,\"\",IF(E240<>\"\",CONCATENATE(B240,A240,DIGITADOR!$M$1,C240),\"\"))","v":""},null,{"$f":"IF(N240=\"\",\"\",INDEX(referentes!S:T,MATCH(N240,referentes!T:T,0),1))","v":""},null,{"$f":"IF(P240=\"\",\"\",INDEX(referentes!Y:Z,MATCH(P240,referentes!Z:Z,0),1))","v":""},"","",null,null,null,null,null,{"$f":"IF(X240=\"\",\"\",INDEX(referentes!J:K,MATCH(X240,referentes!J:J,0),2))","v":""},null,null,""]
["30000401000000",null,0,{"$f":"IF(E241<>\"\",CONCATENATE(B241,A241,DIGITADOR!$M$1,C241),\"\")","v":""},null,null,"","","",null,237,"",{"$f":"IF(R241=R240,\"\",IF(E241<>\"\",CONCATENATE(B241,A241,DIGITADOR!$M$1,C241),\"\"))","v":""},null,{"$f":"IF(N241=\"\",\"\",INDEX(referentes!S:T,MATCH(N241,referentes!T:T,0),1))","v":""},null,{"$f":"IF(P241=\"\",\"\",INDEX(referentes!Y:Z,MATCH(P241,referentes!Z:Z,0),1))","v":""},"","",null,null,null,null,null,{"$f":"IF(X241=\"\",\"\",INDEX(referentes!J:K,MATCH(X241,referentes!J:J,0),2))","v":""},null,null,""]
["30000401000000",null,0,{"$f":"IF(E242<>\"\",CONCATENATE(B242,A242,DIGITADOR!$M$1,C242),\"\")","v":""},null,null,"","","",null,238,"",{"$f":"IF(R242=R241,\"\",IF(E242<>\"\",CONCATENATE(B242,A242,DIGITADOR!$M$1,C242),\"\"))","v":""},null,{"$f":"IF(N242=\"\",\"\",INDEX(referentes!S:T,MATCH(N242,referentes!T:T,0),1))","v":""},null,{"$f":"IF(P242=\"\",\"\",INDEX(referentes!Y:Z,MATCH(P242,referentes!Z:Z,0),1))","v":""},"","",null,null,null,null,null,{"$f":"IF(X242=\"\",\"\",INDEX(referentes!J:K,MATCH(X242,referentes!J:J,0),2))","v":""},null,null,""]
["30000401000000",null,0,{"$f":"IF(E243<>\"\",CONCATENATE(B243,A243,DIGITADOR!$M$1,C243),\"\")","v":""},null,null,"","","",null,239,"",{"$f":"IF(R243=R242,\"\",IF(E243<>\"\",CONCATENATE(B243,A243,DIGITADOR!$M$1,C243),\"\"))","v":""},null,{"$f":"IF(N243=\"\",\"\",INDEX(referentes!S:T,MATCH(N243,referentes!T:T,0),1))","v":""},null,{"$f":"IF(P243=\"\",\"\",INDEX(referentes!Y:Z,MATCH(P243,referentes!Z:Z,0),1))","v":""},"","",null,null,null,null,null,{"$f":"IF(X243=\"\",\"\",INDEX(referentes!J:K,MATCH(X243,referentes!J:J,0),2))","v":""},null,null,""]
["30000401000000",null,0,{"$f":"IF(E244<>\"\",CONCATENATE(B244,A244,DIGITADOR!$M$1,C244),\"\")","v":""},null,null,"","","",null,240,"",{"$f":"IF(R244=R243,\"\",IF(E244<>\"\",CONCATENATE(B244,A244,DIGITADOR!$M$1,C244),\"\"))","v":""},null,{"$f":"IF(N244=\"\",\"\",INDEX(referentes!S:T,MATCH(N244,referentes!T:T,0),1))","v":""},null,{"$f":"IF(P244=\"\",\"\",INDEX(referentes!Y:Z,MATCH(P244,referentes!Z:Z,0),1))","v":""},"","",null,null,null,null,null,{"$f":"IF(X244=\"\",\"\",INDEX(referentes!J:K,MATCH(X244,referentes!J:J,0),2))","v":""},null,null,""]
["30000401000000",null,0,{"$f":"IF(E245<>\"\",CONCATENATE(B245,A245,DIGITADOR!$M$1,C245),\"\")","v":""},null,null,"","","",null,241,"",{"$f":"IF(R245=R244,\"\",IF(E245<>\"\",CONCATENATE(B245,A245,DIGITADOR!$M$1,C245),\"\"))","v":""},null,{"$f":"IF(N245=\"\",\"\",INDEX(referentes!S:T,MATCH(N245,referentes!T:T,0),1))","v":""},null,{"$f":"IF(P245=\"\",\"\",INDEX(referentes!Y:Z,MATCH(P245,referentes!Z:Z,0),1))","v":""},"","",null,null,null,null,null,{"$f":"IF(X245=\"\",\"\",INDEX(referentes!J:K,MATCH(X245,referentes!J:J,0),2))","v":""},null,null,""]
["30000401000000",null,0,{"$f":"IF(E246<>\"\",CONCATENATE(B246,A246,DIGITADOR!$M$1,C246),\"\")","v":""},null,null,"","","",null,242,"",{"$f":"IF(R246=R245,\"\",IF(E246<>\"\",CONCATENATE(B246,A246,DIGITADOR!$M$1,C246),\"\"))","v":""},null,{"$f":"IF(N246=\"\",\"\",INDEX(referentes!S:T,MATCH(N246,referentes!T:T,0),1))","v":""},null,{"$f":"IF(P246=\"\",\"\",INDEX(referentes!Y:Z,MATCH(P246,referentes!Z:Z,0),1))","v":""},"","",null,null,null,null,null,{"$f":"IF(X246=\"\",\"\",INDEX(referentes!J:K,MATCH(X246,referentes!J:J,0),2))","v":""},null,null,""]
["30000401000000",null,0,{"$f":"IF(E247<>\"\",CONCATENATE(B247,A247,DIGITADOR!$M$1,C247),\"\")","v":""},null,null,"","","",null,243,"",{"$f":"IF(R247=R246,\"\",IF(E247<>\"\",CONCATENATE(B247,A247,DIGITADOR!$M$1,C247),\"\"))","v":""},null,{"$f":"IF(N247=\"\",\"\",INDEX(referentes!S:T,MATCH(N247,referentes!T:T,0),1))","v":""},null,{"$f":"IF(P247=\"\",\"\",INDEX(referentes!Y:Z,MATCH(P247,referentes!Z:Z,0),1))","v":""},"","",null,null,null,null,null,{"$f":"IF(X247=\"\",\"\",INDEX(referentes!J:K,MATCH(X247,referentes!J:J,0),2))","v":""},null,null,""]
["30000401000000",null,0,{"$f":"IF(E248<>\"\",CONCATENATE(B248,A248,DIGITADOR!$M$1,C248),\"\")","v":""},null,null,"","","",null,244,"",{"$f":"IF(R248=R247,\"\",IF(E248<>\"\",CONCATENATE(B248,A248,DIGITADOR!$M$1,C248),\"\"))","v":""},null,{"$f":"IF(N248=\"\",\"\",INDEX(referentes!S:T,MATCH(N248,referentes!T:T,0),1))","v":""},null,{"$f":"IF(P248=\"\",\"\",INDEX(referentes!Y:Z,MATCH(P248,referentes!Z:Z,0),1))","v":""},"","",null,null,null,null,null,{"$f":"IF(X248=\"\",\"\",INDEX(referentes!J:K,MATCH(X248,referentes!J:J,0),2))","v":""},null,null,""]
["30000401000000",null,0,{"$f":"IF(E249<>\"\",CONCATENATE(B249,A249,DIGITADOR!$M$1,C249),\"\")","v":""},null,null,"","","",null,245,"",{"$f":"IF(R249=R248,\"\",IF(E249<>\"\",CONCATENATE(B249,A249,DIGITADOR!$M$1,C249),\"\"))","v":""},null,{"$f":"IF(N249=\"\",\"\",INDEX(referentes!S:T,MATCH(N249,referentes!T:T,0),1))","v":""},null,{"$f":"IF(P249=\"\",\"\",INDEX(referentes!Y:Z,MATCH(P249,referentes!Z:Z,0),1))","v":""},"","",null,null,null,null,null,{"$f":"IF(X249=\"\",\"\",INDEX(referentes!J:K,MATCH(X249,referentes!J:J,0),2))","v":""},null,null,""]
["30000401000000",null,0,{"$f":"IF(E250<>\"\",CONCATENATE(B250,A250,DIGITADOR!$M$1,C250),\"\")","v":""},null,null,"","","",null,246,"",{"$f":"IF(R250=R249,\"\",IF(E250<>\"\",CONCATENATE(B250,A250,DIGITADOR!$M$1,C250),\"\"))","v":""},null,{"$f":"IF(N250=\"\",\"\",INDEX(referentes!S:T,MATCH(N250,referentes!T:T,0),1))","v":""},null,{"$f":"IF(P250=\"\",\"\",INDEX(referentes!Y:Z,MATCH(P250,referentes!Z:Z,0),1))","v":""},"","",null,null,null,null,null,{"$f":"IF(X250=\"\",\"\",INDEX(referentes!J:K,MATCH(X250,referentes!J:J,0),2))","v":""},null,null,""]
["30000401000000",null,0,{"$f":"IF(E251<>\"\",CONCATENATE(B251,A251,DIGITADOR!$M$1,C251),\"\")","v":""},null,null,"","","",null,247,"",{"$f":"IF(R251=R250,\"\",IF(E251<>\"\",CONCATENATE(B251,A251,DIGITADOR!$M$1,C251),\"\"))","v":""},null,{"$f":"IF(N251=\"\",\"\",INDEX(referentes!S:T,MATCH(N251,referentes!T:T,0),1))","v":""},null,{"$f":"IF(P251=\"\",\"\",INDEX(referentes!Y:Z,MATCH(P251,referentes!Z:Z,0),1))","v":""},"","",null,null,null,null,null,{"$f":"IF(X251=\"\",\"\",INDEX(referentes!J:K,MATCH(X251,referentes!J:J,0),2))","v":""},null,null,""]
["30000401000000",null,0,{"$f":"IF(E252<>\"\",CONCATENATE(B252,A252,DIGITADOR!$M$1,C252),\"\")","v":""},null,null,"","","",null,248,"",{"$f":"IF(R252=R251,\"\",IF(E252<>\"\",CONCATENATE(B252,A252,DIGITADOR!$M$1,C252),\"\"))","v":""},null,{"$f":"IF(N252=\"\",\"\",INDEX(referentes!S:T,MATCH(N252,referentes!T:T,0),1))","v":""},null,{"$f":"IF(P252=\"\",\"\",INDEX(referentes!Y:Z,MATCH(P252,referentes!Z:Z,0),1))","v":""},"","",null,null,null,null,null,{"$f":"IF(X252=\"\",\"\",INDEX(referentes!J:K,MATCH(X252,referentes!J:J,0),2))","v":""},null,null,""]
["30000401000000",null,0,{"$f":"IF(E253<>\"\",CONCATENATE(B253,A253,DIGITADOR!$M$1,C253),\"\")","v":""},null,null,"","","",null,249,"",{"$f":"IF(R253=R252,\"\",IF(E253<>\"\",CONCATENATE(B253,A253,DIGITADOR!$M$1,C253),\"\"))","v":""},null,{"$f":"IF(N253=\"\",\"\",INDEX(referentes!S:T,MATCH(N253,referentes!T:T,0),1))","v":""},null,{"$f":"IF(P253=\"\",\"\",INDEX(referentes!Y:Z,MATCH(P253,referentes!Z:Z,0),1))","v":""},"","",null,null,null,null,null,{"$f":"IF(X253=\"\",\"\",INDEX(referentes!J:K,MATCH(X253,referentes!J:J,0),2))","v":""},null,null,""]
["30000401000000",null,0,{"$f":"IF(E254<>\"\",CONCATENATE(B254,A254,DIGITADOR!$M$1,C254),\"\")","v":""},null,null,"","","",null,250,"",{"$f":"IF(R254=R253,\"\",IF(E254<>\"\",CONCATENATE(B254,A254,DIGITADOR!$M$1,C254),\"\"))","v":""},null,{"$f":"IF(N254=\"\",\"\",INDEX(referentes!S:T,MATCH(N254,referentes!T:T,0),1))","v":""},null,{"$f":"IF(P254=\"\",\"\",INDEX(referentes!Y:Z,MATCH(P254,referentes!Z:Z,0),1))","v":""},"","",null,null,null,null,null,{"$f":"IF(X254=\"\",\"\",INDEX(referentes!J:K,MATCH(X254,referentes!J:J,0),2))","v":""},null,null,""]
["30000401000000",null,0,{"$f":"IF(E255<>\"\",CONCATENATE(B255,A255,DIGITADOR!$M$1,C255),\"\")","v":""},null,null,"","","",null,251,"",{"$f":"IF(R255=R254,\"\",IF(E255<>\"\",CONCATENATE(B255,A255,DIGITADOR!$M$1,C255),\"\"))","v":""},null,{"$f":"IF(N255=\"\",\"\",INDEX(referentes!S:T,MATCH(N255,referentes!T:T,0),1))","v":""},null,{"$f":"IF(P255=\"\",\"\",INDEX(referentes!Y:Z,MATCH(P255,referentes!Z:Z,0),1))","v":""},"","",null,null,null,null,null,{"$f":"IF(X255=\"\",\"\",INDEX(referentes!J:K,MATCH(X255,referentes!J:J,0),2))","v":""},null,null,""]
["30000401000000",null,0,{"$f":"IF(E256<>\"\",CONCATENATE(B256,A256,DIGITADOR!$M$1,C256),\"\")","v":""},null,null,"","","",null,252,"",{"$f":"IF(R256=R255,\"\",IF(E256<>\"\",CONCATENATE(B256,A256,DIGITADOR!$M$1,C256),\"\"))","v":""},null,{"$f":"IF(N256=\"\",\"\",INDEX(referentes!S:T,MATCH(N256,referentes!T:T,0),1))","v":""},null,{"$f":"IF(P256=\"\",\"\",INDEX(referentes!Y:Z,MATCH(P256,referentes!Z:Z,0),1))","v":""},"","",null,null,null,null,null,{"$f":"IF(X256=\"\",\"\",INDEX(referentes!J:K,MATCH(X256,referentes!J:J,0),2))","v":""},null,null,""]
["30000401000000",null,0,{"$f":"IF(E257<>\"\",CONCATENATE(B257,A257,DIGITADOR!$M$1,C257),\"\")","v":""},null,null,"","","",null,253,"",{"$f":"IF(R257=R256,\"\",IF(E257<>\"\",CONCATENATE(B257,A257,DIGITADOR!$M$1,C257),\"\"))","v":""},null,{"$f":"IF(N257=\"\",\"\",INDEX(referentes!S:T,MATCH(N257,referentes!T:T,0),1))","v":""},null,{"$f":"IF(P257=\"\",\"\",INDEX(referentes!Y:Z,MATCH(P257,referentes!Z:Z,0),1))","v":""},"","",null,null,null,null,null,{"$f":"IF(X257=\"\",\"\",INDEX(referentes!J:K,MATCH(X257,referentes!J:J,0),2))","v":""},null,null,""]
["30000401000000",null,0,{"$f":"IF(E258<>\"\",CONCATENATE(B258,A258,DIGITADOR!$M$1,C258),\"\")","v":""},null,null,"","","",null,254,"",{"$f":"IF(R258=R257,\"\",IF(E258<>\"\",CONCATENATE(B258,A258,DIGITADOR!$M$1,C258),\"\"))","v":""},null,{"$f":"IF(N258=\"\",\"\",INDEX(referentes!S:T,MATCH(N258,referentes!T:T,0),1))","v":""},null,{"$f":"IF(P258=\"\",\"\",INDEX(referentes!Y:Z,MATCH(P258,referentes!Z:Z,0),1))","v":""},"","",null,null,null,null,null,{"$f":"IF(X258=\"\",\"\",INDEX(referentes!J:K,MATCH(X258,referentes!J:J,0),2))","v":""},null,null,""]
["30000401000000",null,0,{"$f":"IF(E259<>\"\",CONCATENATE(B259,A259,DIGITADOR!$M$1,C259),\"\")","v":""},null,null,"","","",null,255,"",{"$f":"IF(R259=R258,\"\",IF(E259<>\"\",CONCATENATE(B259,A259,DIGITADOR!$M$1,C259),\"\"))","v":""},null,{"$f":"IF(N259=\"\",\"\",INDEX(referentes!S:T,MATCH(N259,referentes!T:T,0),1))","v":""},null,{"$f":"IF(P259=\"\",\"\",INDEX(referentes!Y:Z,MATCH(P259,referentes!Z:Z,0),1))","v":""},"","",null,null,null,null,null,{"$f":"IF(X259=\"\",\"\",INDEX(referentes!J:K,MATCH(X259,referentes!J:J,0),2))","v":""},null,null,""]
["30000401000000",null,0,{"$f":"IF(E260<>\"\",CONCATENATE(B260,A260,DIGITADOR!$M$1,C260),\"\")","v":""},null,null,"","","",null,256,"",{"$f":"IF(R260=R259,\"\",IF(E260<>\"\",CONCATENATE(B260,A260,DIGITADOR!$M$1,C260),\"\"))","v":""},null,{"$f":"IF(N260=\"\",\"\",INDEX(referentes!S:T,MATCH(N260,referentes!T:T,0),1))","v":""},null,{"$f":"IF(P260=\"\",\"\",INDEX(referentes!Y:Z,MATCH(P260,referentes!Z:Z,0),1))","v":""},"","",null,null,null,null,null,{"$f":"IF(X260=\"\",\"\",INDEX(referentes!J:K,MATCH(X260,referentes!J:J,0),2))","v":""},null,null,""]
["30000401000000",null,{"$f":"IF(R261=R260,C260,C260+1)","v":0},{"$f":"IF(E261<>\"\",CONCATENATE(B261,A261,DIGITADOR!$M$1,C261),\"\")","v":""},null,null,"","","",null,257,"",{"$f":"IF(R261=R260,\"\",IF(E261<>\"\",CONCATENATE(B261,A261,DIGITADOR!$M$1,C261),\"\"))","v":""},null,{"$f":"IF(N261=\"\",\"\",INDEX(referentes!S:T,MATCH(N261,referentes!T:T,0),1))","v":""},null,{"$f":"IF(P261=\"\",\"\",INDEX(referentes!Y:Z,MATCH(P261,referentes!Z:Z,0),1))","v":""},"","",null,null,null,null,null,{"$f":"IF(X261=\"\",\"\",INDEX(referentes!J:K,MATCH(X261,referentes!J:J,0),2))","v":""},null,null,""]
["30000401000000",null,0,{"$f":"IF(E262<>\"\",CONCATENATE(B262,A262,DIGITADOR!$M$1,C262),\"\")","v":""},null,null,{"$f":"IF(E262=\"\", \"\", (E262+F262))","v":""},{"$f":"IF(G262<>\"\",MONTH(G262),\"\")","v":""},{"$f":"IF(D262=\"\",\"\",1)","v":""},null,258,{"$f":"IF(E262=\"\",\"\",CONCATENATE(D262,K262))","v":""},{"$f":"IF(R262=R261,\"\",IF(E262<>\"\",CONCATENATE(B262,A262,DIGITADOR!$M$1,C262),\"\"))","v":""},null,{"$f":"IF(N262=\"\",\"\",INDEX(referentes!S:T,MATCH(N262,referentes!T:T,0),1))","v":""},null,{"$f":"IF(P262=\"\",\"\",INDEX(referentes!Y:Z,MATCH(P262,referentes!Z:Z,0),1))","v":""},{"$f":"IF(G262=\"\",\"\",CONCATENATE(G262,O262,Q262))","v":""},{"$f":"IF(E262=\"\",\"\",\"INVEMAR\")","v":""},null,null,null,null,null,{"$f":"IF(X262=\"\",\"\",INDEX(referentes!J:K,MATCH(X262,referentes!J:J,0),2))","v":""},null,null,{"$f":"IF(T262=\"\",\"\",IF(T262=T261,AB261,AA262))","v":""}]
[{"$f":"A262","v":"30000401000000"},null,0,{"$f":"IF(E263<>\"\",CONCATENATE(B263,A263,DIGITADOR!$M$1,C263),\"\")","v":""},null,null,"","","",null,259,"",{"$f":"IF(R263=R262,\"\",IF(E263<>\"\",CONCATENATE(B263,A263,DIGITADOR!$M$1,C263),\"\"))","v":""},null,{"$f":"IF(N263=\"\",\"\",INDEX(referentes!S:T,MATCH(N263,referentes!T:T,0),1))","v":""},null,{"$f":"IF(P263=\"\",\"\",INDEX(referentes!Y:Z,MATCH(P263,referentes!Z:Z,0),1))","v":""},"","",null,null,null,null,null,{"$f":"IF(X263=\"\",\"\",INDEX(referentes!J:K,MATCH(X263,referentes!J:J,0),2))","v":""},null,null,""]
["30000401000000",null,0,{"$f":"IF(E264<>\"\",CONCATENATE(B264,A264,DIGITADOR!$M$1,C264),\"\")","v":""},null,null,"","","",null,260,"",{"$f":"IF(R264=R263,\"\",IF(E264<>\"\",CONCATENATE(B264,A264,DIGITADOR!$M$1,C264),\"\"))","v":""},null,{"$f":"IF(N264=\"\",\"\",INDEX(referentes!S:T,MATCH(N264,referentes!T:T,0),1))","v":""},null,{"$f":"IF(P264=\"\",\"\",INDEX(referentes!Y:Z,MATCH(P264,referentes!Z:Z,0),1))","v":""},"","",null,null,null,null,null,{"$f":"IF(X264=\"\",\"\",INDEX(referentes!J:K,MATCH(X264,referentes!J:J,0),2))","v":""},null,null,""]
["30000401000000",null,0,{"$f":"IF(E265<>\"\",CONCATENATE(B265,A265,DIGITADOR!$M$1,C265),\"\")","v":""},null,null,"","","",null,261,"",{"$f":"IF(R265=R264,\"\",IF(E265<>\"\",CONCATENATE(B265,A265,DIGITADOR!$M$1,C265),\"\"))","v":""},null,{"$f":"IF(N265=\"\",\"\",INDEX(referentes!S:T,MATCH(N265,referentes!T:T,0),1))","v":""},null,{"$f":"IF(P265=\"\",\"\",INDEX(referentes!Y:Z,MATCH(P265,referentes!Z:Z,0),1))","v":""},"","",null,null,null,null,null,{"$f":"IF(X265=\"\",\"\",INDEX(referentes!J:K,MATCH(X265,referentes!J:J,0),2))","v":""},null,null,""]
["30000401000000",null,0,{"$f":"IF(E266<>\"\",CONCATENATE(B266,A266,DIGITADOR!$M$1,C266),\"\")","v":""},null,null,"","","",null,262,"",{"$f":"IF(R266=R265,\"\",IF(E266<>\"\",CONCATENATE(B266,A266,DIGITADOR!$M$1,C266),\"\"))","v":""},null,{"$f":"IF(N266=\"\",\"\",INDEX(referentes!S:T,MATCH(N266,referentes!T:T,0),1))","v":""},null,{"$f":"IF(P266=\"\",\"\",INDEX(referentes!Y:Z,MATCH(P266,referentes!Z:Z,0),1))","v":""},"","",null,null,null,null,null,{"$f":"IF(X266=\"\",\"\",INDEX(referentes!J:K,MATCH(X266,referentes!J:J,0),2))","v":""},null,null,""]
["30000401000000",null,0,{"$f":"IF(E267<>\"\",CONCATENATE(B267,A267,DIGITADOR!$M$1,C267),\"\")","v":""},null,null,"","","",null,263,"",{"$f":"IF(R267=R266,\"\",IF(E267<>\"\",CONCATENATE(B267,A267,DIGITADOR!$M$1,C267),\"\"))","v":""},null,{"$f":"IF(N267=\"\",\"\",INDEX(referentes!S:T,MATCH(N267,referentes!T:T,0),1))","v":""},null,{"$f":"IF(P267=\"\",\"\",INDEX(referentes!Y:Z,MATCH(P267,referentes!Z:Z,0),1))","v":""},"","",null,null,null,null,null,{"$f":"IF(X267=\"\",\"\",INDEX(referentes!J:K,MATCH(X267,referentes!J:J,0),2))","v":""},null,null,""]
["30000401000000",null,0,{"$f":"IF(E268<>\"\",CONCATENATE(B268,A268,DIGITADOR!$M$1,C268),\"\")","v":""},null,null,"","","",null,264,"",{"$f":"IF(R268=R267,\"\",IF(E268<>\"\",CONCATENATE(B268,A268,DIGITADOR!$M$1,C268),\"\"))","v":""},null,{"$f":"IF(N268=\"\",\"\",INDEX(referentes!S:T,MATCH(N268,referentes!T:T,0),1))","v":""},null,{"$f":"IF(P268=\"\",\"\",INDEX(referentes!Y:Z,MATCH(P268,referentes!Z:Z,0),1))","v":""},"","",null,null,null,null,null,{"$f":"IF(X268=\"\",\"\",INDEX(referentes!J:K,MATCH(X268,referentes!J:J,0),2))","v":""},null,null,""]
["30000401000000",null,0,{"$f":"IF(E269<>\"\",CONCATENATE(B269,A269,DIGITADOR!$M$1,C269),\"\")","v":""},null,null,"","","",null,265,"",{"$f":"IF(R269=R268,\"\",IF(E269<>\"\",CONCATENATE(B269,A269,DIGITADOR!$M$1,C269),\"\"))","v":""},null,{"$f":"IF(N269=\"\",\"\",INDEX(referentes!S:T,MATCH(N269,referentes!T:T,0),1))","v":""},null,{"$f":"IF(P269=\"\",\"\",INDEX(referentes!Y:Z,MATCH(P269,referentes!Z:Z,0),1))","v":""},"","",null,null,null,null,null,{"$f":"IF(X269=\"\",\"\",INDEX(referentes!J:K,MATCH(X269,referentes!J:J,0),2))","v":""},null,null,""]
["30000401000000",null,0,{"$f":"IF(E270<>\"\",CONCATENATE(B270,A270,DIGITADOR!$M$1,C270),\"\")","v":""},null,null,"","","",null,266,"",{"$f":"IF(R270=R269,\"\",IF(E270<>\"\",CONCATENATE(B270,A270,DIGITADOR!$M$1,C270),\"\"))","v":""},null,{"$f":"IF(N270=\"\",\"\",INDEX(referentes!S:T,MATCH(N270,referentes!T:T,0),1))","v":""},null,{"$f":"IF(P270=\"\",\"\",INDEX(referentes!Y:Z,MATCH(P270,referentes!Z:Z,0),1))","v":""},"","",null,null,null,null,null,{"$f":"IF(X270=\"\",\"\",INDEX(referentes!J:K,MATCH(X270,referentes!J:J,0),2))","v":""},null,null,""]
["30000401000000",null,0,{"$f":"IF(E271<>\"\",CONCATENATE(B271,A271,DIGITADOR!$M$1,C271),\"\")","v":""},null,null,"","","",null,267,"",{"$f":"IF(R271=R270,\"\",IF(E271<>\"\",CONCATENATE(B271,A271,DIGITADOR!$M$1,C271),\"\"))","v":""},null,{"$f":"IF(N271=\"\",\"\",INDEX(referentes!S:T,MATCH(N271,referentes!T:T,0),1))","v":""},null,{"$f":"IF(P271=\"\",\"\",INDEX(referentes!Y:Z,MATCH(P271,referentes!Z:Z,0),1))","v":""},"","",null,null,null,null,null,{"$f":"IF(X271=\"\",\"\",INDEX(referentes!J:K,MATCH(X271,referentes!J:J,0),2))","v":""},null,null,""]
["30000401000000",null,0,{"$f":"IF(E272<>\"\",CONCATENATE(B272,A272,DIGITADOR!$M$1,C272),\"\")","v":""},null,null,"","","",null,268,"",{"$f":"IF(R272=R271,\"\",IF(E272<>\"\",CONCATENATE(B272,A272,DIGITADOR!$M$1,C272),\"\"))","v":""},null,{"$f":"IF(N272=\"\",\"\",INDEX(referentes!S:T,MATCH(N272,referentes!T:T,0),1))","v":""},null,{"$f":"IF(P272=\"\",\"\",INDEX(referentes!Y:Z,MATCH(P272,referentes!Z:Z,0),1))","v":""},"","",null,null,null,null,null,{"$f":"IF(X272=\"\",\"\",INDEX(referentes!J:K,MATCH(X272,referentes!J:J,0),2))","v":""},null,null,""]
["30000401000000",null,0,{"$f":"IF(E273<>\"\",CONCATENATE(B273,A273,DIGITADOR!$M$1,C273),\"\")","v":""},null,null,"","","",null,269,"",{"$f":"IF(R273=R272,\"\",IF(E273<>\"\",CONCATENATE(B273,A273,DIGITADOR!$M$1,C273),\"\"))","v":""},null,{"$f":"IF(N273=\"\",\"\",INDEX(referentes!S:T,MATCH(N273,referentes!T:T,0),1))","v":""},null,{"$f":"IF(P273=\"\",\"\",INDEX(referentes!Y:Z,MATCH(P273,referentes!Z:Z,0),1))","v":""},"","",null,null,null,null,null,{"$f":"IF(X273=\"\",\"\",INDEX(referentes!J:K,MATCH(X273,referentes!J:J,0),2))","v":""},null,null,""]
["30000401000000",null,0,{"$f":"IF(E274<>\"\",CONCATENATE(B274,A274,DIGITADOR!$M$1,C274),\"\")","v":""},null,null,"","","",null,270,"",{"$f":"IF(R274=R273,\"\",IF(E274<>\"\",CONCATENATE(B274,A274,DIGITADOR!$M$1,C274),\"\"))","v":""},null,{"$f":"IF(N274=\"\",\"\",INDEX(referentes!S:T,MATCH(N274,referentes!T:T,0),1))","v":""},null,{"$f":"IF(P274=\"\",\"\",INDEX(referentes!Y:Z,MATCH(P274,referentes!Z:Z,0),1))","v":""},"","",null,null,null,null,null,{"$f":"IF(X274=\"\",\"\",INDEX(referentes!J:K,MATCH(X274,referentes!J:J,0),2))","v":""},null,null,""]
["30000401000000",null,0,{"$f":"IF(E275<>\"\",CONCATENATE(B275,A275,DIGITADOR!$M$1,C275),\"\")","v":""},null,null,"","","",null,271,"",{"$f":"IF(R275=R274,\"\",IF(E275<>\"\",CONCATENATE(B275,A275,DIGITADOR!$M$1,C275),\"\"))","v":""},null,{"$f":"IF(N275=\"\",\"\",INDEX(referentes!S:T,MATCH(N275,referentes!T:T,0),1))","v":""},null,{"$f":"IF(P275=\"\",\"\",INDEX(referentes!Y:Z,MATCH(P275,referentes!Z:Z,0),1))","v":""},"","",null,null,null,null,null,{"$f":"IF(X275=\"\",\"\",INDEX(referentes!J:K,MATCH(X275,referentes!J:J,0),2))","v":""},null,null,""]
["30000401000000",null,0,{"$f":"IF(E276<>\"\",CONCATENATE(B276,A276,DIGITADOR!$M$1,C276),\"\")","v":""},null,null,"","","",null,272,"",{"$f":"IF(R276=R275,\"\",IF(E276<>\"\",CONCATENATE(B276,A276,DIGITADOR!$M$1,C276),\"\"))","v":""},null,{"$f":"IF(N276=\"\",\"\",INDEX(referentes!S:T,MATCH(N276,referentes!T:T,0),1))","v":""},null,{"$f":"IF(P276=\"\",\"\",INDEX(referentes!Y:Z,MATCH(P276,referentes!Z:Z,0),1))","v":""},"","",null,null,null,null,null,{"$f":"IF(X276=\"\",\"\",INDEX(referentes!J:K,MATCH(X276,referentes!J:J,0),2))","v":""},null,null,""]
["30000401000000",null,0,{"$f":"IF(E277<>\"\",CONCATENATE(B277,A277,DIGITADOR!$M$1,C277),\"\")","v":""},null,null,"","","",null,273,"",{"$f":"IF(R277=R276,\"\",IF(E277<>\"\",CONCATENATE(B277,A277,DIGITADOR!$M$1,C277),\"\"))","v":""},null,{"$f":"IF(N277=\"\",\"\",INDEX(referentes!S:T,MATCH(N277,referentes!T:T,0),1))","v":""},null,{"$f":"IF(P277=\"\",\"\",INDEX(referentes!Y:Z,MATCH(P277,referentes!Z:Z,0),1))","v":""},"","",null,null,null,null,null,{"$f":"IF(X277=\"\",\"\",INDEX(referentes!J:K,MATCH(X277,referentes!J:J,0),2))","v":""},null,null,""]
["30000401000000",null,0,{"$f":"IF(E278<>\"\",CONCATENATE(B278,A278,DIGITADOR!$M$1,C278),\"\")","v":""},null,null,"","","",null,274,"",{"$f":"IF(R278=R277,\"\",IF(E278<>\"\",CONCATENATE(B278,A278,DIGITADOR!$M$1,C278),\"\"))","v":""},null,{"$f":"IF(N278=\"\",\"\",INDEX(referentes!S:T,MATCH(N278,referentes!T:T,0),1))","v":""},null,{"$f":"IF(P278=\"\",\"\",INDEX(referentes!Y:Z,MATCH(P278,referentes!Z:Z,0),1))","v":""},"","",null,null,null,null,null,{"$f":"IF(X278=\"\",\"\",INDEX(referentes!J:K,MATCH(X278,referentes!J:J,0),2))","v":""},null,null,""]
["30000401000000",null,0,{"$f":"IF(E279<>\"\",CONCATENATE(B279,A279,DIGITADOR!$M$1,C279),\"\")","v":""},null,null,"","","",null,275,"",{"$f":"IF(R279=R278,\"\",IF(E279<>\"\",CONCATENATE(B279,A279,DIGITADOR!$M$1,C279),\"\"))","v":""},null,{"$f":"IF(N279=\"\",\"\",INDEX(referentes!S:T,MATCH(N279,referentes!T:T,0),1))","v":""},null,{"$f":"IF(P279=\"\",\"\",INDEX(referentes!Y:Z,MATCH(P279,referentes!Z:Z,0),1))","v":""},"","",null,null,null,null,null,{"$f":"IF(X279=\"\",\"\",INDEX(referentes!J:K,MATCH(X279,referentes!J:J,0),2))","v":""},null,null,""]
["30000401000000",null,0,{"$f":"IF(E280<>\"\",CONCATENATE(B280,A280,DIGITADOR!$M$1,C280),\"\")","v":""},null,null,"","","",null,276,"",{"$f":"IF(R280=R279,\"\",IF(E280<>\"\",CONCATENATE(B280,A280,DIGITADOR!$M$1,C280),\"\"))","v":""},null,{"$f":"IF(N280=\"\",\"\",INDEX(referentes!S:T,MATCH(N280,referentes!T:T,0),1))","v":""},null,{"$f":"IF(P280=\"\",\"\",INDEX(referentes!Y:Z,MATCH(P280,referentes!Z:Z,0),1))","v":""},"","",null,null,null,null,null,{"$f":"IF(X280=\"\",\"\",INDEX(referentes!J:K,MATCH(X280,referentes!J:J,0),2))","v":""},null,null,""]
["30000401000000",null,0,{"$f":"IF(E281<>\"\",CONCATENATE(B281,A281,DIGITADOR!$M$1,C281),\"\")","v":""},null,null,"","","",null,277,"",{"$f":"IF(R281=R280,\"\",IF(E281<>\"\",CONCATENATE(B281,A281,DIGITADOR!$M$1,C281),\"\"))","v":""},null,{"$f":"IF(N281=\"\",\"\",INDEX(referentes!S:T,MATCH(N281,referentes!T:T,0),1))","v":""},null,{"$f":"IF(P281=\"\",\"\",INDEX(referentes!Y:Z,MATCH(P281,referentes!Z:Z,0),1))","v":""},"","",null,null,null,null,null,{"$f":"IF(X281=\"\",\"\",INDEX(referentes!J:K,MATCH(X281,referentes!J:J,0),2))","v":""},null,null,""]
["30000401000000",null,0,{"$f":"IF(E282<>\"\",CONCATENATE(B282,A282,DIGITADOR!$M$1,C282),\"\")","v":""},null,null,"","","",null,278,"",{"$f":"IF(R282=R281,\"\",IF(E282<>\"\",CONCATENATE(B282,A282,DIGITADOR!$M$1,C282),\"\"))","v":""},null,{"$f":"IF(N282=\"\",\"\",INDEX(referentes!S:T,MATCH(N282,referentes!T:T,0),1))","v":""},null,{"$f":"IF(P282=\"\",\"\",INDEX(referentes!Y:Z,MATCH(P282,referentes!Z:Z,0),1))","v":""},"","",null,null,null,null,null,{"$f":"IF(X282=\"\",\"\",INDEX(referentes!J:K,MATCH(X282,referentes!J:J,0),2))","v":""},null,null,""]
["30000401000000",null,0,{"$f":"IF(E283<>\"\",CONCATENATE(B283,A283,DIGITADOR!$M$1,C283),\"\")","v":""},null,null,"","","",null,279,"",{"$f":"IF(R283=R282,\"\",IF(E283<>\"\",CONCATENATE(B283,A283,DIGITADOR!$M$1,C283),\"\"))","v":""},null,{"$f":"IF(N283=\"\",\"\",INDEX(referentes!S:T,MATCH(N283,referentes!T:T,0),1))","v":""},null,{"$f":"IF(P283=\"\",\"\",INDEX(referentes!Y:Z,MATCH(P283,referentes!Z:Z,0),1))","v":""},"","",null,null,null,null,null,{"$f":"IF(X283=\"\",\"\",INDEX(referentes!J:K,MATCH(X283,referentes!J:J,0),2))","v":""},null,null,""]
["30000401000000",null,0,{"$f":"IF(E284<>\"\",CONCATENATE(B284,A284,DIGITADOR!$M$1,C284),\"\")","v":""},null,null,"","","",null,280,"",{"$f":"IF(R284=R283,\"\",IF(E284<>\"\",CONCATENATE(B284,A284,DIGITADOR!$M$1,C284),\"\"))","v":""},null,{"$f":"IF(N284=\"\",\"\",INDEX(referentes!S:T,MATCH(N284,referentes!T:T,0),1))","v":""},null,{"$f":"IF(P284=\"\",\"\",INDEX(referentes!Y:Z,MATCH(P284,referentes!Z:Z,0),1))","v":""},"","",null,null,null,null,null,{"$f":"IF(X284=\"\",\"\",INDEX(referentes!J:K,MATCH(X284,referentes!J:J,0),2))","v":""},null,null,""]
["30000401000000",null,0,{"$f":"IF(E285<>\"\",CONCATENATE(B285,A285,DIGITADOR!$M$1,C285),\"\")","v":""},null,null,"","","",null,281,"",{"$f":"IF(R285=R284,\"\",IF(E285<>\"\",CONCATENATE(B285,A285,DIGITADOR!$M$1,C285),\"\"))","v":""},null,{"$f":"IF(N285=\"\",\"\",INDEX(referentes!S:T,MATCH(N285,referentes!T:T,0),1))","v":""},null,{"$f":"IF(P285=\"\",\"\",INDEX(referentes!Y:Z,MATCH(P285,referentes!Z:Z,0),1))","v":""},"","",null,null,null,null,null,{"$f":"IF(X285=\"\",\"\",INDEX(referentes!J:K,MATCH(X285,referentes!J:J,0),2))","v":""},null,null,""]
["30000401000000",null,0,{"$f":"IF(E286<>\"\",CONCATENATE(B286,A286,DIGITADOR!$M$1,C286),\"\")","v":""},null,null,"","","",null,282,"",{"$f":"IF(R286=R285,\"\",IF(E286<>\"\",CONCATENATE(B286,A286,DIGITADOR!$M$1,C286),\"\"))","v":""},null,{"$f":"IF(N286=\"\",\"\",INDEX(referentes!S:T,MATCH(N286,referentes!T:T,0),1))","v":""},null,{"$f":"IF(P286=\"\",\"\",INDEX(referentes!Y:Z,MATCH(P286,referentes!Z:Z,0),1))","v":""},"","",null,null,null,null,null,{"$f":"IF(X286=\"\",\"\",INDEX(referentes!J:K,MATCH(X286,referentes!J:J,0),2))","v":""},null,null,""]
["30000401000000",null,0,{"$f":"IF(E287<>\"\",CONCATENATE(B287,A287,DIGITADOR!$M$1,C287),\"\")","v":""},null,null,"","","",null,283,"",{"$f":"IF(R287=R286,\"\",IF(E287<>\"\",CONCATENATE(B287,A287,DIGITADOR!$M$1,C287),\"\"))","v":""},null,{"$f":"IF(N287=\"\",\"\",INDEX(referentes!S:T,MATCH(N287,referentes!T:T,0),1))","v":""},null,{"$f":"IF(P287=\"\",\"\",INDEX(referentes!Y:Z,MATCH(P287,referentes!Z:Z,0),1))","v":""},"","",null,null,null,null,null,{"$f":"IF(X287=\"\",\"\",INDEX(referentes!J:K,MATCH(X287,referentes!J:J,0),2))","v":""},null,null,""]
["30000401000000",null,0,{"$f":"IF(E288<>\"\",CONCATENATE(B288,A288,DIGITADOR!$M$1,C288),\"\")","v":""},null,null,"","","",null,284,"",{"$f":"IF(R288=R287,\"\",IF(E288<>\"\",CONCATENATE(B288,A288,DIGITADOR!$M$1,C288),\"\"))","v":""},null,{"$f":"IF(N288=\"\",\"\",INDEX(referentes!S:T,MATCH(N288,referentes!T:T,0),1))","v":""},null,{"$f":"IF(P288=\"\",\"\",INDEX(referentes!Y:Z,MATCH(P288,referentes!Z:Z,0),1))","v":""},"","",null,null,null,null,null,{"$f":"IF(X288=\"\",\"\",INDEX(referentes!J:K,MATCH(X288,referentes!J:J,0),2))","v":""},null,null,""]
["30000401000000",null,0,{"$f":"IF(E289<>\"\",CONCATENATE(B289,A289,DIGITADOR!$M$1,C289),\"\")","v":""},null,null,"","","",null,285,"",{"$f":"IF(R289=R288,\"\",IF(E289<>\"\",CONCATENATE(B289,A289,DIGITADOR!$M$1,C289),\"\"))","v":""},null,{"$f":"IF(N289=\"\",\"\",INDEX(referentes!S:T,MATCH(N289,referentes!T:T,0),1))","v":""},null,{"$f":"IF(P289=\"\",\"\",INDEX(referentes!Y:Z,MATCH(P289,referentes!Z:Z,0),1))","v":""},"","",null,null,null,null,null,{"$f":"IF(X289=\"\",\"\",INDEX(referentes!J:K,MATCH(X289,referentes!J:J,0),2))","v":""},null,null,""]
["30000401000000",null,0,{"$f":"IF(E290<>\"\",CONCATENATE(B290,A290,DIGITADOR!$M$1,C290),\"\")","v":""},null,null,"","","",null,286,"",{"$f":"IF(R290=R289,\"\",IF(E290<>\"\",CONCATENATE(B290,A290,DIGITADOR!$M$1,C290),\"\"))","v":""},null,{"$f":"IF(N290=\"\",\"\",INDEX(referentes!S:T,MATCH(N290,referentes!T:T,0),1))","v":""},null,{"$f":"IF(P290=\"\",\"\",INDEX(referentes!Y:Z,MATCH(P290,referentes!Z:Z,0),1))","v":""},"","",null,null,null,null,null,{"$f":"IF(X290=\"\",\"\",INDEX(referentes!J:K,MATCH(X290,referentes!J:J,0),2))","v":""},null,null,""]
["30000401000000",null,0,{"$f":"IF(E291<>\"\",CONCATENATE(B291,A291,DIGITADOR!$M$1,C291),\"\")","v":""},null,null,"","","",null,287,"",{"$f":"IF(R291=R290,\"\",IF(E291<>\"\",CONCATENATE(B291,A291,DIGITADOR!$M$1,C291),\"\"))","v":""},null,{"$f":"IF(N291=\"\",\"\",INDEX(referentes!S:T,MATCH(N291,referentes!T:T,0),1))","v":""},null,{"$f":"IF(P291=\"\",\"\",INDEX(referentes!Y:Z,MATCH(P291,referentes!Z:Z,0),1))","v":""},"","",null,null,null,null,null,{"$f":"IF(X291=\"\",\"\",INDEX(referentes!J:K,MATCH(X291,referentes!J:J,0),2))","v":""},null,null,""]
["30000401000000",null,0,{"$f":"IF(E292<>\"\",CONCATENATE(B292,A292,DIGITADOR!$M$1,C292),\"\")","v":""},null,null,"","","",null,288,"",{"$f":"IF(R292=R291,\"\",IF(E292<>\"\",CONCATENATE(B292,A292,DIGITADOR!$M$1,C292),\"\"))","v":""},null,{"$f":"IF(N292=\"\",\"\",INDEX(referentes!S:T,MATCH(N292,referentes!T:T,0),1))","v":""},null,{"$f":"IF(P292=\"\",\"\",INDEX(referentes!Y:Z,MATCH(P292,referentes!Z:Z,0),1))","v":""},"","",null,null,null,null,null,{"$f":"IF(X292=\"\",\"\",INDEX(referentes!J:K,MATCH(X292,referentes!J:J,0),2))","v":""},null,null,""]
["30000401000000",null,0,{"$f":"IF(E293<>\"\",CONCATENATE(B293,A293,DIGITADOR!$M$1,C293),\"\")","v":""},null,null,"","","",null,289,"",{"$f":"IF(R293=R292,\"\",IF(E293<>\"\",CONCATENATE(B293,A293,DIGITADOR!$M$1,C293),\"\"))","v":""},null,{"$f":"IF(N293=\"\",\"\",INDEX(referentes!S:T,MATCH(N293,referentes!T:T,0),1))","v":""},null,{"$f":"IF(P293=\"\",\"\",INDEX(referentes!Y:Z,MATCH(P293,referentes!Z:Z,0),1))","v":""},"","",null,null,null,null,null,{"$f":"IF(X293=\"\",\"\",INDEX(referentes!J:K,MATCH(X293,referentes!J:J,0),2))","v":""},null,null,""]
["30000401000000",null,0,{"$f":"IF(E294<>\"\",CONCATENATE(B294,A294,DIGITADOR!$M$1,C294),\"\")","v":""},null,null,"","","",null,290,"",{"$f":"IF(R294=R293,\"\",IF(E294<>\"\",CONCATENATE(B294,A294,DIGITADOR!$M$1,C294),\"\"))","v":""},null,{"$f":"IF(N294=\"\",\"\",INDEX(referentes!S:T,MATCH(N294,referentes!T:T,0),1))","v":""},null,{"$f":"IF(P294=\"\",\"\",INDEX(referentes!Y:Z,MATCH(P294,referentes!Z:Z,0),1))","v":""},"","",null,null,null,null,null,{"$f":"IF(X294=\"\",\"\",INDEX(referentes!J:K,MATCH(X294,referentes!J:J,0),2))","v":""},null,null,""]
["30000401000000",null,0,{"$f":"IF(E295<>\"\",CONCATENATE(B295,A295,DIGITADOR!$M$1,C295),\"\")","v":""},null,null,"","","",null,291,"",{"$f":"IF(R295=R294,\"\",IF(E295<>\"\",CONCATENATE(B295,A295,DIGITADOR!$M$1,C295),\"\"))","v":""},null,{"$f":"IF(N295=\"\",\"\",INDEX(referentes!S:T,MATCH(N295,referentes!T:T,0),1))","v":""},null,{"$f":"IF(P295=\"\",\"\",INDEX(referentes!Y:Z,MATCH(P295,referentes!Z:Z,0),1))","v":""},"","",null,null,null,null,null,{"$f":"IF(X295=\"\",\"\",INDEX(referentes!J:K,MATCH(X295,referentes!J:J,0),2))","v":""},null,null,""]
["30000401000000",null,0,{"$f":"IF(E296<>\"\",CONCATENATE(B296,A296,DIGITADOR!$M$1,C296),\"\")","v":""},null,null,"","","",null,292,"",{"$f":"IF(R296=R295,\"\",IF(E296<>\"\",CONCATENATE(B296,A296,DIGITADOR!$M$1,C296),\"\"))","v":""},null,{"$f":"IF(N296=\"\",\"\",INDEX(referentes!S:T,MATCH(N296,referentes!T:T,0),1))","v":""},null,{"$f":"IF(P296=\"\",\"\",INDEX(referentes!Y:Z,MATCH(P296,referentes!Z:Z,0),1))","v":""},"","",null,null,null,null,null,{"$f":"IF(X296=\"\",\"\",INDEX(referentes!J:K,MATCH(X296,referentes!J:J,0),2))","v":""},null,null,""]
["30000401000000",null,0,{"$f":"IF(E297<>\"\",CONCATENATE(B297,A297,DIGITADOR!$M$1,C297),\"\")","v":""},null,null,"","","",null,293,"",{"$f":"IF(R297=R296,\"\",IF(E297<>\"\",CONCATENATE(B297,A297,DIGITADOR!$M$1,C297),\"\"))","v":""},null,{"$f":"IF(N297=\"\",\"\",INDEX(referentes!S:T,MATCH(N297,referentes!T:T,0),1))","v":""},null,{"$f":"IF(P297=\"\",\"\",INDEX(referentes!Y:Z,MATCH(P297,referentes!Z:Z,0),1))","v":""},"","",null,null,null,null,null,{"$f":"IF(X297=\"\",\"\",INDEX(referentes!J:K,MATCH(X297,referentes!J:J,0),2))","v":""},null,null,""]
["30000401000000",null,0,{"$f":"IF(E298<>\"\",CONCATENATE(B298,A298,DIGITADOR!$M$1,C298),\"\")","v":""},null,null,"","","",null,294,"",{"$f":"IF(R298=R297,\"\",IF(E298<>\"\",CONCATENATE(B298,A298,DIGITADOR!$M$1,C298),\"\"))","v":""},null,{"$f":"IF(N298=\"\",\"\",INDEX(referentes!S:T,MATCH(N298,referentes!T:T,0),1))","v":""},null,{"$f":"IF(P298=\"\",\"\",INDEX(referentes!Y:Z,MATCH(P298,referentes!Z:Z,0),1))","v":""},"","",null,null,null,null,null,{"$f":"IF(X298=\"\",\"\",INDEX(referentes!J:K,MATCH(X298,referentes!J:J,0),2))","v":""},null,null,""]
["30000401000000",null,0,{"$f":"IF(E299<>\"\",CONCATENATE(B299,A299,DIGITADOR!$M$1,C299),\"\")","v":""},null,null,"","","",null,295,"",{"$f":"IF(R299=R298,\"\",IF(E299<>\"\",CONCATENATE(B299,A299,DIGITADOR!$M$1,C299),\"\"))","v":""},null,{"$f":"IF(N299=\"\",\"\",INDEX(referentes!S:T,MATCH(N299,referentes!T:T,0),1))","v":""},null,{"$f":"IF(P299=\"\",\"\",INDEX(referentes!Y:Z,MATCH(P299,referentes!Z:Z,0),1))","v":""},"","",null,null,null,null,null,{"$f":"IF(X299=\"\",\"\",INDEX(referentes!J:K,MATCH(X299,referentes!J:J,0),2))","v":""},null,null,""]
["30000401000000",null,0,{"$f":"IF(E300<>\"\",CONCATENATE(B300,A300,DIGITADOR!$M$1,C300),\"\")","v":""},null,null,"","","",null,296,"",{"$f":"IF(R300=R299,\"\",IF(E300<>\"\",CONCATENATE(B300,A300,DIGITADOR!$M$1,C300),\"\"))","v":""},null,{"$f":"IF(N300=\"\",\"\",INDEX(referentes!S:T,MATCH(N300,referentes!T:T,0),1))","v":""},null,{"$f":"IF(P300=\"\",\"\",INDEX(referentes!Y:Z,MATCH(P300,referentes!Z:Z,0),1))","v":""},"","",null,null,null,null,null,{"$f":"IF(X300=\"\",\"\",INDEX(referentes!J:K,MATCH(X300,referentes!J:J,0),2))","v":""},null,null,""]
["30000401000000",null,0,{"$f":"IF(E301<>\"\",CONCATENATE(B301,A301,DIGITADOR!$M$1,C301),\"\")","v":""},null,null,"","","",null,297,"",{"$f":"IF(R301=R300,\"\",IF(E301<>\"\",CONCATENATE(B301,A301,DIGITADOR!$M$1,C301),\"\"))","v":""},null,{"$f":"IF(N301=\"\",\"\",INDEX(referentes!S:T,MATCH(N301,referentes!T:T,0),1))","v":""},null,{"$f":"IF(P301=\"\",\"\",INDEX(referentes!Y:Z,MATCH(P301,referentes!Z:Z,0),1))","v":""},"","",null,null,null,null,null,{"$f":"IF(X301=\"\",\"\",INDEX(referentes!J:K,MATCH(X301,referentes!J:J,0),2))","v":""},null,null,""]
["30000401000000",null,0,{"$f":"IF(E302<>\"\",CONCATENATE(B302,A302,DIGITADOR!$M$1,C302),\"\")","v":""},null,null,"","","",null,298,"",{"$f":"IF(R302=R301,\"\",IF(E302<>\"\",CONCATENATE(B302,A302,DIGITADOR!$M$1,C302),\"\"))","v":""},null,{"$f":"IF(N302=\"\",\"\",INDEX(referentes!S:T,MATCH(N302,referentes!T:T,0),1))","v":""},null,{"$f":"IF(P302=\"\",\"\",INDEX(referentes!Y:Z,MATCH(P302,referentes!Z:Z,0),1))","v":""},"","",null,null,null,null,null,{"$f":"IF(X302=\"\",\"\",INDEX(referentes!J:K,MATCH(X302,referentes!J:J,0),2))","v":""},null,null,""]
["30000401000000",null,0,{"$f":"IF(E303<>\"\",CONCATENATE(B303,A303,DIGITADOR!$M$1,C303),\"\")","v":""},null,null,"","","",null,299,"",{"$f":"IF(R303=R302,\"\",IF(E303<>\"\",CONCATENATE(B303,A303,DIGITADOR!$M$1,C303),\"\"))","v":""},null,{"$f":"IF(N303=\"\",\"\",INDEX(referentes!S:T,MATCH(N303,referentes!T:T,0),1))","v":""},null,{"$f":"IF(P303=\"\",\"\",INDEX(referentes!Y:Z,MATCH(P303,referentes!Z:Z,0),1))","v":""},"","",null,null,null,null,null,{"$f":"IF(X303=\"\",\"\",INDEX(referentes!J:K,MATCH(X303,referentes!J:J,0),2))","v":""},null,null,""]
["30000401000000",null,0,{"$f":"IF(E304<>\"\",CONCATENATE(B304,A304,DIGITADOR!$M$1,C304),\"\")","v":""},null,null,"","","",null,300,"",{"$f":"IF(R304=R303,\"\",IF(E304<>\"\",CONCATENATE(B304,A304,DIGITADOR!$M$1,C304),\"\"))","v":""},null,{"$f":"IF(N304=\"\",\"\",INDEX(referentes!S:T,MATCH(N304,referentes!T:T,0),1))","v":""},null,{"$f":"IF(P304=\"\",\"\",INDEX(referentes!Y:Z,MATCH(P304,referentes!Z:Z,0),1))","v":""},"","",null,null,null,null,null,{"$f":"IF(X304=\"\",\"\",INDEX(referentes!J:K,MATCH(X304,referentes!J:J,0),2))","v":""},null,null,""]
["30000401000000",null,0,{"$f":"IF(E305<>\"\",CONCATENATE(B305,A305,DIGITADOR!$M$1,C305),\"\")","v":""},null,null,"","","",null,301,"",{"$f":"IF(R305=R304,\"\",IF(E305<>\"\",CONCATENATE(B305,A305,DIGITADOR!$M$1,C305),\"\"))","v":""},null,{"$f":"IF(N305=\"\",\"\",INDEX(referentes!S:T,MATCH(N305,referentes!T:T,0),1))","v":""},null,{"$f":"IF(P305=\"\",\"\",INDEX(referentes!Y:Z,MATCH(P305,referentes!Z:Z,0),1))","v":""},"","",null,null,null,null,null,{"$f":"IF(X305=\"\",\"\",INDEX(referentes!J:K,MATCH(X305,referentes!J:J,0),2))","v":""},null,null,""]
["30000401000000",null,0,{"$f":"IF(E306<>\"\",CONCATENATE(B306,A306,DIGITADOR!$M$1,C306),\"\")","v":""},null,null,"","","",null,302,"",{"$f":"IF(R306=R305,\"\",IF(E306<>\"\",CONCATENATE(B306,A306,DIGITADOR!$M$1,C306),\"\"))","v":""},null,{"$f":"IF(N306=\"\",\"\",INDEX(referentes!S:T,MATCH(N306,referentes!T:T,0),1))","v":""},null,{"$f":"IF(P306=\"\",\"\",INDEX(referentes!Y:Z,MATCH(P306,referentes!Z:Z,0),1))","v":""},"","",null,null,null,null,null,{"$f":"IF(X306=\"\",\"\",INDEX(referentes!J:K,MATCH(X306,referentes!J:J,0),2))","v":""},null,null,""]
["30000401000000",null,0,{"$f":"IF(E307<>\"\",CONCATENATE(B307,A307,DIGITADOR!$M$1,C307),\"\")","v":""},null,null,"","","",null,303,"",{"$f":"IF(R307=R306,\"\",IF(E307<>\"\",CONCATENATE(B307,A307,DIGITADOR!$M$1,C307),\"\"))","v":""},null,{"$f":"IF(N307=\"\",\"\",INDEX(referentes!S:T,MATCH(N307,referentes!T:T,0),1))","v":""},null,{"$f":"IF(P307=\"\",\"\",INDEX(referentes!Y:Z,MATCH(P307,referentes!Z:Z,0),1))","v":""},"","",null,null,null,null,null,{"$f":"IF(X307=\"\",\"\",INDEX(referentes!J:K,MATCH(X307,referentes!J:J,0),2))","v":""},null,null,""]
["30000401000000",null,0,{"$f":"IF(E308<>\"\",CONCATENATE(B308,A308,DIGITADOR!$M$1,C308),\"\")","v":""},null,null,"","","",null,304,"",{"$f":"IF(R308=R307,\"\",IF(E308<>\"\",CONCATENATE(B308,A308,DIGITADOR!$M$1,C308),\"\"))","v":""},null,{"$f":"IF(N308=\"\",\"\",INDEX(referentes!S:T,MATCH(N308,referentes!T:T,0),1))","v":""},null,{"$f":"IF(P308=\"\",\"\",INDEX(referentes!Y:Z,MATCH(P308,referentes!Z:Z,0),1))","v":""},"","",null,null,null,null,null,{"$f":"IF(X308=\"\",\"\",INDEX(referentes!J:K,MATCH(X308,referentes!J:J,0),2))","v":""},null,null,""]
["30000401000000",null,0,{"$f":"IF(E309<>\"\",CONCATENATE(B309,A309,DIGITADOR!$M$1,C309),\"\")","v":""},null,null,"","","",null,305,"",{"$f":"IF(R309=R308,\"\",IF(E309<>\"\",CONCATENATE(B309,A309,DIGITADOR!$M$1,C309),\"\"))","v":""},null,{"$f":"IF(N309=\"\",\"\",INDEX(referentes!S:T,MATCH(N309,referentes!T:T,0),1))","v":""},null,{"$f":"IF(P309=\"\",\"\",INDEX(referentes!Y:Z,MATCH(P309,referentes!Z:Z,0),1))","v":""},"","",null,null,null,null,null,{"$f":"IF(X309=\"\",\"\",INDEX(referentes!J:K,MATCH(X309,referentes!J:J,0),2))","v":""},null,null,""]
["30000401000000",null,0,{"$f":"IF(E310<>\"\",CONCATENATE(B310,A310,DIGITADOR!$M$1,C310),\"\")","v":""},null,null,"","","",null,306,"",{"$f":"IF(R310=R309,\"\",IF(E310<>\"\",CONCATENATE(B310,A310,DIGITADOR!$M$1,C310),\"\"))","v":""},null,{"$f":"IF(N310=\"\",\"\",INDEX(referentes!S:T,MATCH(N310,referentes!T:T,0),1))","v":""},null,{"$f":"IF(P310=\"\",\"\",INDEX(referentes!Y:Z,MATCH(P310,referentes!Z:Z,0),1))","v":""},"","",null,null,null,null,null,{"$f":"IF(X310=\"\",\"\",INDEX(referentes!J:K,MATCH(X310,referentes!J:J,0),2))","v":""},null,null,""]
["30000401000000",null,0,{"$f":"IF(E311<>\"\",CONCATENATE(B311,A311,DIGITADOR!$M$1,C311),\"\")","v":""},null,null,"","","",null,307,"",{"$f":"IF(R311=R310,\"\",IF(E311<>\"\",CONCATENATE(B311,A311,DIGITADOR!$M$1,C311),\"\"))","v":""},null,{"$f":"IF(N311=\"\",\"\",INDEX(referentes!S:T,MATCH(N311,referentes!T:T,0),1))","v":""},null,{"$f":"IF(P311=\"\",\"\",INDEX(referentes!Y:Z,MATCH(P311,referentes!Z:Z,0),1))","v":""},"","",null,null,null,null,null,{"$f":"IF(X311=\"\",\"\",INDEX(referentes!J:K,MATCH(X311,referentes!J:J,0),2))","v":""},null,null,""]
["30000401000000",null,0,{"$f":"IF(E312<>\"\",CONCATENATE(B312,A312,DIGITADOR!$M$1,C312),\"\")","v":""},null,null,"","","",null,308,"",{"$f":"IF(R312=R311,\"\",IF(E312<>\"\",CONCATENATE(B312,A312,DIGITADOR!$M$1,C312),\"\"))","v":""},null,{"$f":"IF(N312=\"\",\"\",INDEX(referentes!S:T,MATCH(N312,referentes!T:T,0),1))","v":""},null,{"$f":"IF(P312=\"\",\"\",INDEX(referentes!Y:Z,MATCH(P312,referentes!Z:Z,0),1))","v":""},"","",null,null,null,null,null,{"$f":"IF(X312=\"\",\"\",INDEX(referentes!J:K,MATCH(X312,referentes!J:J,0),2))","v":""},null,null,""]
["30000401000000",null,0,{"$f":"IF(E313<>\"\",CONCATENATE(B313,A313,DIGITADOR!$M$1,C313),\"\")","v":""},null,null,"","","",null,309,"",{"$f":"IF(R313=R312,\"\",IF(E313<>\"\",CONCATENATE(B313,A313,DIGITADOR!$M$1,C313),\"\"))","v":""},null,{"$f":"IF(N313=\"\",\"\",INDEX(referentes!S:T,MATCH(N313,referentes!T:T,0),1))","v":""},null,{"$f":"IF(P313=\"\",\"\",INDEX(referentes!Y:Z,MATCH(P313,referentes!Z:Z,0),1))","v":""},"","",null,null,null,null,null,{"$f":"IF(X313=\"\",\"\",INDEX(referentes!J:K,MATCH(X313,referentes!J:J,0),2))","v":""},null,null,""]
["30000401000000",null,0,{"$f":"IF(E314<>\"\",CONCATENATE(B314,A314,DIGITADOR!$M$1,C314),\"\")","v":""},null,null,"","","",null,310,"",{"$f":"IF(R314=R313,\"\",IF(E314<>\"\",CONCATENATE(B314,A314,DIGITADOR!$M$1,C314),\"\"))","v":""},null,{"$f":"IF(N314=\"\",\"\",INDEX(referentes!S:T,MATCH(N314,referentes!T:T,0),1))","v":""},null,{"$f":"IF(P314=\"\",\"\",INDEX(referentes!Y:Z,MATCH(P314,referentes!Z:Z,0),1))","v":""},"","",null,null,null,null,null,{"$f":"IF(X314=\"\",\"\",INDEX(referentes!J:K,MATCH(X314,referentes!J:J,0),2))","v":""},null,null,""]
["30000401000000",null,0,{"$f":"IF(E315<>\"\",CONCATENATE(B315,A315,DIGITADOR!$M$1,C315),\"\")","v":""},null,null,"","","",null,311,"",{"$f":"IF(R315=R314,\"\",IF(E315<>\"\",CONCATENATE(B315,A315,DIGITADOR!$M$1,C315),\"\"))","v":""},null,{"$f":"IF(N315=\"\",\"\",INDEX(referentes!S:T,MATCH(N315,referentes!T:T,0),1))","v":""},null,{"$f":"IF(P315=\"\",\"\",INDEX(referentes!Y:Z,MATCH(P315,referentes!Z:Z,0),1))","v":""},"","",null,null,null,null,null,{"$f":"IF(X315=\"\",\"\",INDEX(referentes!J:K,MATCH(X315,referentes!J:J,0),2))","v":""},null,null,""]
["30000401000000",null,0,{"$f":"IF(E316<>\"\",CONCATENATE(B316,A316,DIGITADOR!$M$1,C316),\"\")","v":""},null,null,"","","",null,312,"",{"$f":"IF(R316=R315,\"\",IF(E316<>\"\",CONCATENATE(B316,A316,DIGITADOR!$M$1,C316),\"\"))","v":""},null,{"$f":"IF(N316=\"\",\"\",INDEX(referentes!S:T,MATCH(N316,referentes!T:T,0),1))","v":""},null,{"$f":"IF(P316=\"\",\"\",INDEX(referentes!Y:Z,MATCH(P316,referentes!Z:Z,0),1))","v":""},"","",null,null,null,null,null,{"$f":"IF(X316=\"\",\"\",INDEX(referentes!J:K,MATCH(X316,referentes!J:J,0),2))","v":""},null,null,""]
["30000401000000",null,0,{"$f":"IF(E317<>\"\",CONCATENATE(B317,A317,DIGITADOR!$M$1,C317),\"\")","v":""},null,null,"","","",null,313,"",{"$f":"IF(R317=R316,\"\",IF(E317<>\"\",CONCATENATE(B317,A317,DIGITADOR!$M$1,C317),\"\"))","v":""},null,{"$f":"IF(N317=\"\",\"\",INDEX(referentes!S:T,MATCH(N317,referentes!T:T,0),1))","v":""},null,{"$f":"IF(P317=\"\",\"\",INDEX(referentes!Y:Z,MATCH(P317,referentes!Z:Z,0),1))","v":""},"","",null,null,null,null,null,{"$f":"IF(X317=\"\",\"\",INDEX(referentes!J:K,MATCH(X317,referentes!J:J,0),2))","v":""},null,null,""]
["30000401000000",null,0,{"$f":"IF(E318<>\"\",CONCATENATE(B318,A318,DIGITADOR!$M$1,C318),\"\")","v":""},null,null,"","","",null,314,"",{"$f":"IF(R318=R317,\"\",IF(E318<>\"\",CONCATENATE(B318,A318,DIGITADOR!$M$1,C318),\"\"))","v":""},null,{"$f":"IF(N318=\"\",\"\",INDEX(referentes!S:T,MATCH(N318,referentes!T:T,0),1))","v":""},null,{"$f":"IF(P318=\"\",\"\",INDEX(referentes!Y:Z,MATCH(P318,referentes!Z:Z,0),1))","v":""},"","",null,null,null,null,null,{"$f":"IF(X318=\"\",\"\",INDEX(referentes!J:K,MATCH(X318,referentes!J:J,0),2))","v":""},null,null,""]
["30000401000000",null,0,{"$f":"IF(E319<>\"\",CONCATENATE(B319,A319,DIGITADOR!$M$1,C319),\"\")","v":""},null,null,"","","",null,315,"",{"$f":"IF(R319=R318,\"\",IF(E319<>\"\",CONCATENATE(B319,A319,DIGITADOR!$M$1,C319),\"\"))","v":""},null,{"$f":"IF(N319=\"\",\"\",INDEX(referentes!S:T,MATCH(N319,referentes!T:T,0),1))","v":""},null,{"$f":"IF(P319=\"\",\"\",INDEX(referentes!Y:Z,MATCH(P319,referentes!Z:Z,0),1))","v":""},"","",null,null,null,null,null,{"$f":"IF(X319=\"\",\"\",INDEX(referentes!J:K,MATCH(X319,referentes!J:J,0),2))","v":""},null,null,""]
["30000401000000",null,0,{"$f":"IF(E320<>\"\",CONCATENATE(B320,A320,DIGITADOR!$M$1,C320),\"\")","v":""},null,null,"","","",null,316,"",{"$f":"IF(R320=R319,\"\",IF(E320<>\"\",CONCATENATE(B320,A320,DIGITADOR!$M$1,C320),\"\"))","v":""},null,{"$f":"IF(N320=\"\",\"\",INDEX(referentes!S:T,MATCH(N320,referentes!T:T,0),1))","v":""},null,{"$f":"IF(P320=\"\",\"\",INDEX(referentes!Y:Z,MATCH(P320,referentes!Z:Z,0),1))","v":""},"","",null,null,null,null,null,{"$f":"IF(X320=\"\",\"\",INDEX(referentes!J:K,MATCH(X320,referentes!J:J,0),2))","v":""},null,null,""]
["30000401000000",null,0,{"$f":"IF(E321<>\"\",CONCATENATE(B321,A321,DIGITADOR!$M$1,C321),\"\")","v":""},null,null,"","","",null,317,"",{"$f":"IF(R321=R320,\"\",IF(E321<>\"\",CONCATENATE(B321,A321,DIGITADOR!$M$1,C321),\"\"))","v":""},null,{"$f":"IF(N321=\"\",\"\",INDEX(referentes!S:T,MATCH(N321,referentes!T:T,0),1))","v":""},null,{"$f":"IF(P321=\"\",\"\",INDEX(referentes!Y:Z,MATCH(P321,referentes!Z:Z,0),1))","v":""},"","",null,null,null,null,null,{"$f":"IF(X321=\"\",\"\",INDEX(referentes!J:K,MATCH(X321,referentes!J:J,0),2))","v":""},null,null,""]
["30000401000000",null,0,{"$f":"IF(E322<>\"\",CONCATENATE(B322,A322,DIGITADOR!$M$1,C322),\"\")","v":""},null,null,"","","",null,318,"",{"$f":"IF(R322=R321,\"\",IF(E322<>\"\",CONCATENATE(B322,A322,DIGITADOR!$M$1,C322),\"\"))","v":""},null,{"$f":"IF(N322=\"\",\"\",INDEX(referentes!S:T,MATCH(N322,referentes!T:T,0),1))","v":""},null,{"$f":"IF(P322=\"\",\"\",INDEX(referentes!Y:Z,MATCH(P322,referentes!Z:Z,0),1))","v":""},"","",null,null,null,null,null,{"$f":"IF(X322=\"\",\"\",INDEX(referentes!J:K,MATCH(X322,referentes!J:J,0),2))","v":""},null,null,""]
["30000401000000",null,0,{"$f":"IF(E323<>\"\",CONCATENATE(B323,A323,DIGITADOR!$M$1,C323),\"\")","v":""},null,null,"","","",null,319,"",{"$f":"IF(R323=R322,\"\",IF(E323<>\"\",CONCATENATE(B323,A323,DIGITADOR!$M$1,C323),\"\"))","v":""},null,{"$f":"IF(N323=\"\",\"\",INDEX(referentes!S:T,MATCH(N323,referentes!T:T,0),1))","v":""},null,{"$f":"IF(P323=\"\",\"\",INDEX(referentes!Y:Z,MATCH(P323,referentes!Z:Z,0),1))","v":""},"","",null,null,null,null,null,{"$f":"IF(X323=\"\",\"\",INDEX(referentes!J:K,MATCH(X323,referentes!J:J,0),2))","v":""},null,null,""]
["30000401000000",null,0,{"$f":"IF(E324<>\"\",CONCATENATE(B324,A324,DIGITADOR!$M$1,C324),\"\")","v":""},null,null,"","","",null,320,"",{"$f":"IF(R324=R323,\"\",IF(E324<>\"\",CONCATENATE(B324,A324,DIGITADOR!$M$1,C324),\"\"))","v":""},null,{"$f":"IF(N324=\"\",\"\",INDEX(referentes!S:T,MATCH(N324,referentes!T:T,0),1))","v":""},null,{"$f":"IF(P324=\"\",\"\",INDEX(referentes!Y:Z,MATCH(P324,referentes!Z:Z,0),1))","v":""},"","",null,null,null,null,null,{"$f":"IF(X324=\"\",\"\",INDEX(referentes!J:K,MATCH(X324,referentes!J:J,0),2))","v":""},null,null,""]
["30000401000000",null,{"$f":"IF(R325=R324,C324,C324+1)","v":0},{"$f":"IF(E325<>\"\",CONCATENATE(B325,A325,DIGITADOR!$M$1,C325),\"\")","v":""},null,null,"","","",null,321,"",{"$f":"IF(R325=R324,\"\",IF(E325<>\"\",CONCATENATE(B325,A325,DIGITADOR!$M$1,C325),\"\"))","v":""},null,{"$f":"IF(N325=\"\",\"\",INDEX(referentes!S:T,MATCH(N325,referentes!T:T,0),1))","v":""},null,{"$f":"IF(P325=\"\",\"\",INDEX(referentes!Y:Z,MATCH(P325,referentes!Z:Z,0),1))","v":""},"","",null,null,null,null,null,{"$f":"IF(X325=\"\",\"\",INDEX(referentes!J:K,MATCH(X325,referentes!J:J,0),2))","v":""},null,null,""]
["30000401000000",null,0,{"$f":"IF(E326<>\"\",CONCATENATE(B326,A326,DIGITADOR!$M$1,C326),\"\")","v":""},null,null,{"$f":"IF(E326=\"\", \"\", (E326+F326))","v":""},{"$f":"IF(G326<>\"\",MONTH(G326),\"\")","v":""},{"$f":"IF(D326=\"\",\"\",1)","v":""},null,322,{"$f":"IF(E326=\"\",\"\",CONCATENATE(D326,K326))","v":""},{"$f":"IF(R326=R325,\"\",IF(E326<>\"\",CONCATENATE(B326,A326,DIGITADOR!$M$1,C326),\"\"))","v":""},null,{"$f":"IF(N326=\"\",\"\",INDEX(referentes!S:T,MATCH(N326,referentes!T:T,0),1))","v":""},null,{"$f":"IF(P326=\"\",\"\",INDEX(referentes!Y:Z,MATCH(P326,referentes!Z:Z,0),1))","v":""},{"$f":"IF(G326=\"\",\"\",CONCATENATE(G326,O326,Q326))","v":""},{"$f":"IF(E326=\"\",\"\",\"INVEMAR\")","v":""},null,null,null,null,null,{"$f":"IF(X326=\"\",\"\",INDEX(referentes!J:K,MATCH(X326,referentes!J:J,0),2))","v":""},null,null,{"$f":"IF(T326=\"\",\"\",IF(T326=T325,AB325,AA326))","v":""}]
[{"$f":"A326","v":"30000401000000"},null,0,{"$f":"IF(E327<>\"\",CONCATENATE(B327,A327,DIGITADOR!$M$1,C327),\"\")","v":""},null,null,"","","",null,323,"",{"$f":"IF(R327=R326,\"\",IF(E327<>\"\",CONCATENATE(B327,A327,DIGITADOR!$M$1,C327),\"\"))","v":""},null,{"$f":"IF(N327=\"\",\"\",INDEX(referentes!S:T,MATCH(N327,referentes!T:T,0),1))","v":""},null,{"$f":"IF(P327=\"\",\"\",INDEX(referentes!Y:Z,MATCH(P327,referentes!Z:Z,0),1))","v":""},"","",null,null,null,null,null,{"$f":"IF(X327=\"\",\"\",INDEX(referentes!J:K,MATCH(X327,referentes!J:J,0),2))","v":""},null,null,""]
["30000401000000",null,0,{"$f":"IF(E328<>\"\",CONCATENATE(B328,A328,DIGITADOR!$M$1,C328),\"\")","v":""},null,null,"","","",null,324,"",{"$f":"IF(R328=R327,\"\",IF(E328<>\"\",CONCATENATE(B328,A328,DIGITADOR!$M$1,C328),\"\"))","v":""},null,{"$f":"IF(N328=\"\",\"\",INDEX(referentes!S:T,MATCH(N328,referentes!T:T,0),1))","v":""},null,{"$f":"IF(P328=\"\",\"\",INDEX(referentes!Y:Z,MATCH(P328,referentes!Z:Z,0),1))","v":""},"","",null,null,null,null,null,{"$f":"IF(X328=\"\",\"\",INDEX(referentes!J:K,MATCH(X328,referentes!J:J,0),2))","v":""},null,null,""]
["30000401000000",null,0,{"$f":"IF(E329<>\"\",CONCATENATE(B329,A329,DIGITADOR!$M$1,C329),\"\")","v":""},null,null,"","","",null,325,"",{"$f":"IF(R329=R328,\"\",IF(E329<>\"\",CONCATENATE(B329,A329,DIGITADOR!$M$1,C329),\"\"))","v":""},null,{"$f":"IF(N329=\"\",\"\",INDEX(referentes!S:T,MATCH(N329,referentes!T:T,0),1))","v":""},null,{"$f":"IF(P329=\"\",\"\",INDEX(referentes!Y:Z,MATCH(P329,referentes!Z:Z,0),1))","v":""},"","",null,null,null,null,null,{"$f":"IF(X329=\"\",\"\",INDEX(referentes!J:K,MATCH(X329,referentes!J:J,0),2))","v":""},null,null,""]
["30000401000000",null,0,{"$f":"IF(E330<>\"\",CONCATENATE(B330,A330,DIGITADOR!$M$1,C330),\"\")","v":""},null,null,"","","",null,326,"",{"$f":"IF(R330=R329,\"\",IF(E330<>\"\",CONCATENATE(B330,A330,DIGITADOR!$M$1,C330),\"\"))","v":""},null,{"$f":"IF(N330=\"\",\"\",INDEX(referentes!S:T,MATCH(N330,referentes!T:T,0),1))","v":""},null,{"$f":"IF(P330=\"\",\"\",INDEX(referentes!Y:Z,MATCH(P330,referentes!Z:Z,0),1))","v":""},"","",null,null,null,null,null,{"$f":"IF(X330=\"\",\"\",INDEX(referentes!J:K,MATCH(X330,referentes!J:J,0),2))","v":""},null,null,""]
["30000401000000",null,0,{"$f":"IF(E331<>\"\",CONCATENATE(B331,A331,DIGITADOR!$M$1,C331),\"\")","v":""},null,null,"","","",null,327,"",{"$f":"IF(R331=R330,\"\",IF(E331<>\"\",CONCATENATE(B331,A331,DIGITADOR!$M$1,C331),\"\"))","v":""},null,{"$f":"IF(N331=\"\",\"\",INDEX(referentes!S:T,MATCH(N331,referentes!T:T,0),1))","v":""},null,{"$f":"IF(P331=\"\",\"\",INDEX(referentes!Y:Z,MATCH(P331,referentes!Z:Z,0),1))","v":""},"","",null,null,null,null,null,{"$f":"IF(X331=\"\",\"\",INDEX(referentes!J:K,MATCH(X331,referentes!J:J,0),2))","v":""},null,null,""]
["30000401000000",null,0,{"$f":"IF(E332<>\"\",CONCATENATE(B332,A332,DIGITADOR!$M$1,C332),\"\")","v":""},null,null,"","","",null,328,"",{"$f":"IF(R332=R331,\"\",IF(E332<>\"\",CONCATENATE(B332,A332,DIGITADOR!$M$1,C332),\"\"))","v":""},null,{"$f":"IF(N332=\"\",\"\",INDEX(referentes!S:T,MATCH(N332,referentes!T:T,0),1))","v":""},null,{"$f":"IF(P332=\"\",\"\",INDEX(referentes!Y:Z,MATCH(P332,referentes!Z:Z,0),1))","v":""},"","",null,null,null,null,null,{"$f":"IF(X332=\"\",\"\",INDEX(referentes!J:K,MATCH(X332,referentes!J:J,0),2))","v":""},null,null,""]
["30000401000000",null,0,{"$f":"IF(E333<>\"\",CONCATENATE(B333,A333,DIGITADOR!$M$1,C333),\"\")","v":""},null,null,"","","",null,329,"",{"$f":"IF(R333=R332,\"\",IF(E333<>\"\",CONCATENATE(B333,A333,DIGITADOR!$M$1,C333),\"\"))","v":""},null,{"$f":"IF(N333=\"\",\"\",INDEX(referentes!S:T,MATCH(N333,referentes!T:T,0),1))","v":""},null,{"$f":"IF(P333=\"\",\"\",INDEX(referentes!Y:Z,MATCH(P333,referentes!Z:Z,0),1))","v":""},"","",null,null,null,null,null,{"$f":"IF(X333=\"\",\"\",INDEX(referentes!J:K,MATCH(X333,referentes!J:J,0),2))","v":""},null,null,""]
["30000401000000",null,0,{"$f":"IF(E334<>\"\",CONCATENATE(B334,A334,DIGITADOR!$M$1,C334),\"\")","v":""},null,null,"","","",null,330,"",{"$f":"IF(R334=R333,\"\",IF(E334<>\"\",CONCATENATE(B334,A334,DIGITADOR!$M$1,C334),\"\"))","v":""},null,{"$f":"IF(N334=\"\",\"\",INDEX(referentes!S:T,MATCH(N334,referentes!T:T,0),1))","v":""},null,{"$f":"IF(P334=\"\",\"\",INDEX(referentes!Y:Z,MATCH(P334,referentes!Z:Z,0),1))","v":""},"","",null,null,null,null,null,{"$f":"IF(X334=\"\",\"\",INDEX(referentes!J:K,MATCH(X334,referentes!J:J,0),2))","v":""},null,null,""]
["30000401000000",null,0,{"$f":"IF(E335<>\"\",CONCATENATE(B335,A335,DIGITADOR!$M$1,C335),\"\")","v":""},null,null,"","","",null,331,"",{"$f":"IF(R335=R334,\"\",IF(E335<>\"\",CONCATENATE(B335,A335,DIGITADOR!$M$1,C335),\"\"))","v":""},null,{"$f":"IF(N335=\"\",\"\",INDEX(referentes!S:T,MATCH(N335,referentes!T:T,0),1))","v":""},null,{"$f":"IF(P335=\"\",\"\",INDEX(referentes!Y:Z,MATCH(P335,referentes!Z:Z,0),1))","v":""},"","",null,null,null,null,null,{"$f":"IF(X335=\"\",\"\",INDEX(referentes!J:K,MATCH(X335,referentes!J:J,0),2))","v":""},null,null,""]
["30000401000000",null,0,{"$f":"IF(E336<>\"\",CONCATENATE(B336,A336,DIGITADOR!$M$1,C336),\"\")","v":""},null,null,"","","",null,332,"",{"$f":"IF(R336=R335,\"\",IF(E336<>\"\",CONCATENATE(B336,A336,DIGITADOR!$M$1,C336),\"\"))","v":""},null,{"$f":"IF(N336=\"\",\"\",INDEX(referentes!S:T,MATCH(N336,referentes!T:T,0),1))","v":""},null,{"$f":"IF(P336=\"\",\"\",INDEX(referentes!Y:Z,MATCH(P336,referentes!Z:Z,0),1))","v":""},"","",null,null,null,null,null,{"$f":"IF(X336=\"\",\"\",INDEX(referentes!J:K,MATCH(X336,referentes!J:J,0),2))","v":""},null,null,""]
["30000401000000",null,0,{"$f":"IF(E337<>\"\",CONCATENATE(B337,A337,DIGITADOR!$M$1,C337),\"\")","v":""},null,null,"","","",null,333,"",{"$f":"IF(R337=R336,\"\",IF(E337<>\"\",CONCATENATE(B337,A337,DIGITADOR!$M$1,C337),\"\"))","v":""},null,{"$f":"IF(N337=\"\",\"\",INDEX(referentes!S:T,MATCH(N337,referentes!T:T,0),1))","v":""},null,{"$f":"IF(P337=\"\",\"\",INDEX(referentes!Y:Z,MATCH(P337,referentes!Z:Z,0),1))","v":""},"","",null,null,null,null,null,{"$f":"IF(X337=\"\",\"\",INDEX(referentes!J:K,MATCH(X337,referentes!J:J,0),2))","v":""},null,null,""]
["30000401000000",null,0,{"$f":"IF(E338<>\"\",CONCATENATE(B338,A338,DIGITADOR!$M$1,C338),\"\")","v":""},null,null,"","","",null,334,"",{"$f":"IF(R338=R337,\"\",IF(E338<>\"\",CONCATENATE(B338,A338,DIGITADOR!$M$1,C338),\"\"))","v":""},null,{"$f":"IF(N338=\"\",\"\",INDEX(referentes!S:T,MATCH(N338,referentes!T:T,0),1))","v":""},null,{"$f":"IF(P338=\"\",\"\",INDEX(referentes!Y:Z,MATCH(P338,referentes!Z:Z,0),1))","v":""},"","",null,null,null,null,null,{"$f":"IF(X338=\"\",\"\",INDEX(referentes!J:K,MATCH(X338,referentes!J:J,0),2))","v":""},null,null,""]
["30000401000000",null,0,{"$f":"IF(E339<>\"\",CONCATENATE(B339,A339,DIGITADOR!$M$1,C339),\"\")","v":""},null,null,"","","",null,335,"",{"$f":"IF(R339=R338,\"\",IF(E339<>\"\",CONCATENATE(B339,A339,DIGITADOR!$M$1,C339),\"\"))","v":""},null,{"$f":"IF(N339=\"\",\"\",INDEX(referentes!S:T,MATCH(N339,referentes!T:T,0),1))","v":""},null,{"$f":"IF(P339=\"\",\"\",INDEX(referentes!Y:Z,MATCH(P339,referentes!Z:Z,0),1))","v":""},"","",null,null,null,null,null,{"$f":"IF(X339=\"\",\"\",INDEX(referentes!J:K,MATCH(X339,referentes!J:J,0),2))","v":""},null,null,""]
["30000401000000",null,0,{"$f":"IF(E340<>\"\",CONCATENATE(B340,A340,DIGITADOR!$M$1,C340),\"\")","v":""},null,null,"","","",null,336,"",{"$f":"IF(R340=R339,\"\",IF(E340<>\"\",CONCATENATE(B340,A340,DIGITADOR!$M$1,C340),\"\"))","v":""},null,{"$f":"IF(N340=\"\",\"\",INDEX(referentes!S:T,MATCH(N340,referentes!T:T,0),1))","v":""},null,{"$f":"IF(P340=\"\",\"\",INDEX(referentes!Y:Z,MATCH(P340,referentes!Z:Z,0),1))","v":""},"","",null,null,null,null,null,{"$f":"IF(X340=\"\",\"\",INDEX(referentes!J:K,MATCH(X340,referentes!J:J,0),2))","v":""},null,null,""]
["30000401000000",null,0,{"$f":"IF(E341<>\"\",CONCATENATE(B341,A341,DIGITADOR!$M$1,C341),\"\")","v":""},null,null,"","","",null,337,"",{"$f":"IF(R341=R340,\"\",IF(E341<>\"\",CONCATENATE(B341,A341,DIGITADOR!$M$1,C341),\"\"))","v":""},null,{"$f":"IF(N341=\"\",\"\",INDEX(referentes!S:T,MATCH(N341,referentes!T:T,0),1))","v":""},null,{"$f":"IF(P341=\"\",\"\",INDEX(referentes!Y:Z,MATCH(P341,referentes!Z:Z,0),1))","v":""},"","",null,null,null,null,null,{"$f":"IF(X341=\"\",\"\",INDEX(referentes!J:K,MATCH(X341,referentes!J:J,0),2))","v":""},null,null,""]
["30000401000000",null,0,{"$f":"IF(E342<>\"\",CONCATENATE(B342,A342,DIGITADOR!$M$1,C342),\"\")","v":""},null,null,"","","",null,338,"",{"$f":"IF(R342=R341,\"\",IF(E342<>\"\",CONCATENATE(B342,A342,DIGITADOR!$M$1,C342),\"\"))","v":""},null,{"$f":"IF(N342=\"\",\"\",INDEX(referentes!S:T,MATCH(N342,referentes!T:T,0),1))","v":""},null,{"$f":"IF(P342=\"\",\"\",INDEX(referentes!Y:Z,MATCH(P342,referentes!Z:Z,0),1))","v":""},"","",null,null,null,null,null,{"$f":"IF(X342=\"\",\"\",INDEX(referentes!J:K,MATCH(X342,referentes!J:J,0),2))","v":""},null,null,""]
["30000401000000",null,0,{"$f":"IF(E343<>\"\",CONCATENATE(B343,A343,DIGITADOR!$M$1,C343),\"\")","v":""},null,null,"","","",null,339,"",{"$f":"IF(R343=R342,\"\",IF(E343<>\"\",CONCATENATE(B343,A343,DIGITADOR!$M$1,C343),\"\"))","v":""},null,{"$f":"IF(N343=\"\",\"\",INDEX(referentes!S:T,MATCH(N343,referentes!T:T,0),1))","v":""},null,{"$f":"IF(P343=\"\",\"\",INDEX(referentes!Y:Z,MATCH(P343,referentes!Z:Z,0),1))","v":""},"","",null,null,null,null,null,{"$f":"IF(X343=\"\",\"\",INDEX(referentes!J:K,MATCH(X343,referentes!J:J,0),2))","v":""},null,null,""]
["30000401000000",null,0,{"$f":"IF(E344<>\"\",CONCATENATE(B344,A344,DIGITADOR!$M$1,C344),\"\")","v":""},null,null,"","","",null,340,"",{"$f":"IF(R344=R343,\"\",IF(E344<>\"\",CONCATENATE(B344,A344,DIGITADOR!$M$1,C344),\"\"))","v":""},null,{"$f":"IF(N344=\"\",\"\",INDEX(referentes!S:T,MATCH(N344,referentes!T:T,0),1))","v":""},null,{"$f":"IF(P344=\"\",\"\",INDEX(referentes!Y:Z,MATCH(P344,referentes!Z:Z,0),1))","v":""},"","",null,null,null,null,null,{"$f":"IF(X344=\"\",\"\",INDEX(referentes!J:K,MATCH(X344,referentes!J:J,0),2))","v":""},null,null,""]
["30000401000000",null,0,{"$f":"IF(E345<>\"\",CONCATENATE(B345,A345,DIGITADOR!$M$1,C345),\"\")","v":""},null,null,"","","",null,341,"",{"$f":"IF(R345=R344,\"\",IF(E345<>\"\",CONCATENATE(B345,A345,DIGITADOR!$M$1,C345),\"\"))","v":""},null,{"$f":"IF(N345=\"\",\"\",INDEX(referentes!S:T,MATCH(N345,referentes!T:T,0),1))","v":""},null,{"$f":"IF(P345=\"\",\"\",INDEX(referentes!Y:Z,MATCH(P345,referentes!Z:Z,0),1))","v":""},"","",null,null,null,null,null,{"$f":"IF(X345=\"\",\"\",INDEX(referentes!J:K,MATCH(X345,referentes!J:J,0),2))","v":""},null,null,""]
["30000401000000",null,0,{"$f":"IF(E346<>\"\",CONCATENATE(B346,A346,DIGITADOR!$M$1,C346),\"\")","v":""},null,null,"","","",null,342,"",{"$f":"IF(R346=R345,\"\",IF(E346<>\"\",CONCATENATE(B346,A346,DIGITADOR!$M$1,C346),\"\"))","v":""},null,{"$f":"IF(N346=\"\",\"\",INDEX(referentes!S:T,MATCH(N346,referentes!T:T,0),1))","v":""},null,{"$f":"IF(P346=\"\",\"\",INDEX(referentes!Y:Z,MATCH(P346,referentes!Z:Z,0),1))","v":""},"","",null,null,null,null,null,{"$f":"IF(X346=\"\",\"\",INDEX(referentes!J:K,MATCH(X346,referentes!J:J,0),2))","v":""},null,null,""]
["30000401000000",null,0,{"$f":"IF(E347<>\"\",CONCATENATE(B347,A347,DIGITADOR!$M$1,C347),\"\")","v":""},null,null,"","","",null,343,"",{"$f":"IF(R347=R346,\"\",IF(E347<>\"\",CONCATENATE(B347,A347,DIGITADOR!$M$1,C347),\"\"))","v":""},null,{"$f":"IF(N347=\"\",\"\",INDEX(referentes!S:T,MATCH(N347,referentes!T:T,0),1))","v":""},null,{"$f":"IF(P347=\"\",\"\",INDEX(referentes!Y:Z,MATCH(P347,referentes!Z:Z,0),1))","v":""},"","",null,null,null,null,null,{"$f":"IF(X347=\"\",\"\",INDEX(referentes!J:K,MATCH(X347,referentes!J:J,0),2))","v":""},null,null,""]
["30000401000000",null,0,{"$f":"IF(E348<>\"\",CONCATENATE(B348,A348,DIGITADOR!$M$1,C348),\"\")","v":""},null,null,"","","",null,344,"",{"$f":"IF(R348=R347,\"\",IF(E348<>\"\",CONCATENATE(B348,A348,DIGITADOR!$M$1,C348),\"\"))","v":""},null,{"$f":"IF(N348=\"\",\"\",INDEX(referentes!S:T,MATCH(N348,referentes!T:T,0),1))","v":""},null,{"$f":"IF(P348=\"\",\"\",INDEX(referentes!Y:Z,MATCH(P348,referentes!Z:Z,0),1))","v":""},"","",null,null,null,null,null,{"$f":"IF(X348=\"\",\"\",INDEX(referentes!J:K,MATCH(X348,referentes!J:J,0),2))","v":""},null,null,""]
["30000401000000",null,0,{"$f":"IF(E349<>\"\",CONCATENATE(B349,A349,DIGITADOR!$M$1,C349),\"\")","v":""},null,null,"","","",null,345,"",{"$f":"IF(R349=R348,\"\",IF(E349<>\"\",CONCATENATE(B349,A349,DIGITADOR!$M$1,C349),\"\"))","v":""},null,{"$f":"IF(N349=\"\",\"\",INDEX(referentes!S:T,MATCH(N349,referentes!T:T,0),1))","v":""},null,{"$f":"IF(P349=\"\",\"\",INDEX(referentes!Y:Z,MATCH(P349,referentes!Z:Z,0),1))","v":""},"","",null,null,null,null,null,{"$f":"IF(X349=\"\",\"\",INDEX(referentes!J:K,MATCH(X349,referentes!J:J,0),2))","v":""},null,null,""]
["30000401000000",null,0,{"$f":"IF(E350<>\"\",CONCATENATE(B350,A350,DIGITADOR!$M$1,C350),\"\")","v":""},null,null,"","","",null,346,"",{"$f":"IF(R350=R349,\"\",IF(E350<>\"\",CONCATENATE(B350,A350,DIGITADOR!$M$1,C350),\"\"))","v":""},null,{"$f":"IF(N350=\"\",\"\",INDEX(referentes!S:T,MATCH(N350,referentes!T:T,0),1))","v":""},null,{"$f":"IF(P350=\"\",\"\",INDEX(referentes!Y:Z,MATCH(P350,referentes!Z:Z,0),1))","v":""},"","",null,null,null,null,null,{"$f":"IF(X350=\"\",\"\",INDEX(referentes!J:K,MATCH(X350,referentes!J:J,0),2))","v":""},null,null,""]
["30000401000000",null,0,{"$f":"IF(E351<>\"\",CONCATENATE(B351,A351,DIGITADOR!$M$1,C351),\"\")","v":""},null,null,"","","",null,347,"",{"$f":"IF(R351=R350,\"\",IF(E351<>\"\",CONCATENATE(B351,A351,DIGITADOR!$M$1,C351),\"\"))","v":""},null,{"$f":"IF(N351=\"\",\"\",INDEX(referentes!S:T,MATCH(N351,referentes!T:T,0),1))","v":""},null,{"$f":"IF(P351=\"\",\"\",INDEX(referentes!Y:Z,MATCH(P351,referentes!Z:Z,0),1))","v":""},"","",null,null,null,null,null,{"$f":"IF(X351=\"\",\"\",INDEX(referentes!J:K,MATCH(X351,referentes!J:J,0),2))","v":""},null,null,""]
["30000401000000",null,0,{"$f":"IF(E352<>\"\",CONCATENATE(B352,A352,DIGITADOR!$M$1,C352),\"\")","v":""},null,null,"","","",null,348,"",{"$f":"IF(R352=R351,\"\",IF(E352<>\"\",CONCATENATE(B352,A352,DIGITADOR!$M$1,C352),\"\"))","v":""},null,{"$f":"IF(N352=\"\",\"\",INDEX(referentes!S:T,MATCH(N352,referentes!T:T,0),1))","v":""},null,{"$f":"IF(P352=\"\",\"\",INDEX(referentes!Y:Z,MATCH(P352,referentes!Z:Z,0),1))","v":""},"","",null,null,null,null,null,{"$f":"IF(X352=\"\",\"\",INDEX(referentes!J:K,MATCH(X352,referentes!J:J,0),2))","v":""},null,null,""]
["30000401000000",null,0,{"$f":"IF(E353<>\"\",CONCATENATE(B353,A353,DIGITADOR!$M$1,C353),\"\")","v":""},null,null,"","","",null,349,"",{"$f":"IF(R353=R352,\"\",IF(E353<>\"\",CONCATENATE(B353,A353,DIGITADOR!$M$1,C353),\"\"))","v":""},null,{"$f":"IF(N353=\"\",\"\",INDEX(referentes!S:T,MATCH(N353,referentes!T:T,0),1))","v":""},null,{"$f":"IF(P353=\"\",\"\",INDEX(referentes!Y:Z,MATCH(P353,referentes!Z:Z,0),1))","v":""},"","",null,null,null,null,null,{"$f":"IF(X353=\"\",\"\",INDEX(referentes!J:K,MATCH(X353,referentes!J:J,0),2))","v":""},null,null,""]
["30000401000000",null,0,{"$f":"IF(E354<>\"\",CONCATENATE(B354,A354,DIGITADOR!$M$1,C354),\"\")","v":""},null,null,"","","",null,350,"",{"$f":"IF(R354=R353,\"\",IF(E354<>\"\",CONCATENATE(B354,A354,DIGITADOR!$M$1,C354),\"\"))","v":""},null,{"$f":"IF(N354=\"\",\"\",INDEX(referentes!S:T,MATCH(N354,referentes!T:T,0),1))","v":""},null,{"$f":"IF(P354=\"\",\"\",INDEX(referentes!Y:Z,MATCH(P354,referentes!Z:Z,0),1))","v":""},"","",null,null,null,null,null,{"$f":"IF(X354=\"\",\"\",INDEX(referentes!J:K,MATCH(X354,referentes!J:J,0),2))","v":""},null,null,""]
["30000401000000",null,0,{"$f":"IF(E355<>\"\",CONCATENATE(B355,A355,DIGITADOR!$M$1,C355),\"\")","v":""},null,null,"","","",null,351,"",{"$f":"IF(R355=R354,\"\",IF(E355<>\"\",CONCATENATE(B355,A355,DIGITADOR!$M$1,C355),\"\"))","v":""},null,{"$f":"IF(N355=\"\",\"\",INDEX(referentes!S:T,MATCH(N355,referentes!T:T,0),1))","v":""},null,{"$f":"IF(P355=\"\",\"\",INDEX(referentes!Y:Z,MATCH(P355,referentes!Z:Z,0),1))","v":""},"","",null,null,null,null,null,{"$f":"IF(X355=\"\",\"\",INDEX(referentes!J:K,MATCH(X355,referentes!J:J,0),2))","v":""},null,null,""]
["30000401000000",null,0,{"$f":"IF(E356<>\"\",CONCATENATE(B356,A356,DIGITADOR!$M$1,C356),\"\")","v":""},null,null,"","","",null,352,"",{"$f":"IF(R356=R355,\"\",IF(E356<>\"\",CONCATENATE(B356,A356,DIGITADOR!$M$1,C356),\"\"))","v":""},null,{"$f":"IF(N356=\"\",\"\",INDEX(referentes!S:T,MATCH(N356,referentes!T:T,0),1))","v":""},null,{"$f":"IF(P356=\"\",\"\",INDEX(referentes!Y:Z,MATCH(P356,referentes!Z:Z,0),1))","v":""},"","",null,null,null,null,null,{"$f":"IF(X356=\"\",\"\",INDEX(referentes!J:K,MATCH(X356,referentes!J:J,0),2))","v":""},null,null,""]
["30000401000000",null,0,{"$f":"IF(E357<>\"\",CONCATENATE(B357,A357,DIGITADOR!$M$1,C357),\"\")","v":""},null,null,"","","",null,353,"",{"$f":"IF(R357=R356,\"\",IF(E357<>\"\",CONCATENATE(B357,A357,DIGITADOR!$M$1,C357),\"\"))","v":""},null,{"$f":"IF(N357=\"\",\"\",INDEX(referentes!S:T,MATCH(N357,referentes!T:T,0),1))","v":""},null,{"$f":"IF(P357=\"\",\"\",INDEX(referentes!Y:Z,MATCH(P357,referentes!Z:Z,0),1))","v":""},"","",null,null,null,null,null,{"$f":"IF(X357=\"\",\"\",INDEX(referentes!J:K,MATCH(X357,referentes!J:J,0),2))","v":""},null,null,""]
["30000401000000",null,0,{"$f":"IF(E358<>\"\",CONCATENATE(B358,A358,DIGITADOR!$M$1,C358),\"\")","v":""},null,null,"","","",null,354,"",{"$f":"IF(R358=R357,\"\",IF(E358<>\"\",CONCATENATE(B358,A358,DIGITADOR!$M$1,C358),\"\"))","v":""},null,{"$f":"IF(N358=\"\",\"\",INDEX(referentes!S:T,MATCH(N358,referentes!T:T,0),1))","v":""},null,{"$f":"IF(P358=\"\",\"\",INDEX(referentes!Y:Z,MATCH(P358,referentes!Z:Z,0),1))","v":""},"","",null,null,null,null,null,{"$f":"IF(X358=\"\",\"\",INDEX(referentes!J:K,MATCH(X358,referentes!J:J,0),2))","v":""},null,null,""]
["30000401000000",null,0,{"$f":"IF(E359<>\"\",CONCATENATE(B359,A359,DIGITADOR!$M$1,C359),\"\")","v":""},null,null,"","","",null,355,"",{"$f":"IF(R359=R358,\"\",IF(E359<>\"\",CONCATENATE(B359,A359,DIGITADOR!$M$1,C359),\"\"))","v":""},null,{"$f":"IF(N359=\"\",\"\",INDEX(referentes!S:T,MATCH(N359,referentes!T:T,0),1))","v":""},null,{"$f":"IF(P359=\"\",\"\",INDEX(referentes!Y:Z,MATCH(P359,referentes!Z:Z,0),1))","v":""},"","",null,null,null,null,null,{"$f":"IF(X359=\"\",\"\",INDEX(referentes!J:K,MATCH(X359,referentes!J:J,0),2))","v":""},null,null,""]
["30000401000000",null,0,{"$f":"IF(E360<>\"\",CONCATENATE(B360,A360,DIGITADOR!$M$1,C360),\"\")","v":""},null,null,"","","",null,356,"",{"$f":"IF(R360=R359,\"\",IF(E360<>\"\",CONCATENATE(B360,A360,DIGITADOR!$M$1,C360),\"\"))","v":""},null,{"$f":"IF(N360=\"\",\"\",INDEX(referentes!S:T,MATCH(N360,referentes!T:T,0),1))","v":""},null,{"$f":"IF(P360=\"\",\"\",INDEX(referentes!Y:Z,MATCH(P360,referentes!Z:Z,0),1))","v":""},"","",null,null,null,null,null,{"$f":"IF(X360=\"\",\"\",INDEX(referentes!J:K,MATCH(X360,referentes!J:J,0),2))","v":""},null,null,""]
["30000401000000",null,0,{"$f":"IF(E361<>\"\",CONCATENATE(B361,A361,DIGITADOR!$M$1,C361),\"\")","v":""},null,null,"","","",null,357,"",{"$f":"IF(R361=R360,\"\",IF(E361<>\"\",CONCATENATE(B361,A361,DIGITADOR!$M$1,C361),\"\"))","v":""},null,{"$f":"IF(N361=\"\",\"\",INDEX(referentes!S:T,MATCH(N361,referentes!T:T,0),1))","v":""},null,{"$f":"IF(P361=\"\",\"\",INDEX(referentes!Y:Z,MATCH(P361,referentes!Z:Z,0),1))","v":""},"","",null,null,null,null,null,{"$f":"IF(X361=\"\",\"\",INDEX(referentes!J:K,MATCH(X361,referentes!J:J,0),2))","v":""},null,null,""]
["30000401000000",null,0,{"$f":"IF(E362<>\"\",CONCATENATE(B362,A362,DIGITADOR!$M$1,C362),\"\")","v":""},null,null,"","","",null,358,"",{"$f":"IF(R362=R361,\"\",IF(E362<>\"\",CONCATENATE(B362,A362,DIGITADOR!$M$1,C362),\"\"))","v":""},null,{"$f":"IF(N362=\"\",\"\",INDEX(referentes!S:T,MATCH(N362,referentes!T:T,0),1))","v":""},null,{"$f":"IF(P362=\"\",\"\",INDEX(referentes!Y:Z,MATCH(P362,referentes!Z:Z,0),1))","v":""},"","",null,null,null,null,null,{"$f":"IF(X362=\"\",\"\",INDEX(referentes!J:K,MATCH(X362,referentes!J:J,0),2))","v":""},null,null,""]
["30000401000000",null,0,{"$f":"IF(E363<>\"\",CONCATENATE(B363,A363,DIGITADOR!$M$1,C363),\"\")","v":""},null,null,"","","",null,359,"",{"$f":"IF(R363=R362,\"\",IF(E363<>\"\",CONCATENATE(B363,A363,DIGITADOR!$M$1,C363),\"\"))","v":""},null,{"$f":"IF(N363=\"\",\"\",INDEX(referentes!S:T,MATCH(N363,referentes!T:T,0),1))","v":""},null,{"$f":"IF(P363=\"\",\"\",INDEX(referentes!Y:Z,MATCH(P363,referentes!Z:Z,0),1))","v":""},"","",null,null,null,null,null,{"$f":"IF(X363=\"\",\"\",INDEX(referentes!J:K,MATCH(X363,referentes!J:J,0),2))","v":""},null,null,""]
["30000401000000",null,0,{"$f":"IF(E364<>\"\",CONCATENATE(B364,A364,DIGITADOR!$M$1,C364),\"\")","v":""},null,null,"","","",null,360,"",{"$f":"IF(R364=R363,\"\",IF(E364<>\"\",CONCATENATE(B364,A364,DIGITADOR!$M$1,C364),\"\"))","v":""},null,{"$f":"IF(N364=\"\",\"\",INDEX(referentes!S:T,MATCH(N364,referentes!T:T,0),1))","v":""},null,{"$f":"IF(P364=\"\",\"\",INDEX(referentes!Y:Z,MATCH(P364,referentes!Z:Z,0),1))","v":""},"","",null,null,null,null,null,{"$f":"IF(X364=\"\",\"\",INDEX(referentes!J:K,MATCH(X364,referentes!J:J,0),2))","v":""},null,null,""]
["30000401000000",null,0,{"$f":"IF(E365<>\"\",CONCATENATE(B365,A365,DIGITADOR!$M$1,C365),\"\")","v":""},null,null,"","","",null,361,"",{"$f":"IF(R365=R364,\"\",IF(E365<>\"\",CONCATENATE(B365,A365,DIGITADOR!$M$1,C365),\"\"))","v":""},null,{"$f":"IF(N365=\"\",\"\",INDEX(referentes!S:T,MATCH(N365,referentes!T:T,0),1))","v":""},null,{"$f":"IF(P365=\"\",\"\",INDEX(referentes!Y:Z,MATCH(P365,referentes!Z:Z,0),1))","v":""},"","",null,null,null,null,null,{"$f":"IF(X365=\"\",\"\",INDEX(referentes!J:K,MATCH(X365,referentes!J:J,0),2))","v":""},null,null,""]
["30000401000000",null,0,{"$f":"IF(E366<>\"\",CONCATENATE(B366,A366,DIGITADOR!$M$1,C366),\"\")","v":""},null,null,"","","",null,362,"",{"$f":"IF(R366=R365,\"\",IF(E366<>\"\",CONCATENATE(B366,A366,DIGITADOR!$M$1,C366),\"\"))","v":""},null,{"$f":"IF(N366=\"\",\"\",INDEX(referentes!S:T,MATCH(N366,referentes!T:T,0),1))","v":""},null,{"$f":"IF(P366=\"\",\"\",INDEX(referentes!Y:Z,MATCH(P366,referentes!Z:Z,0),1))","v":""},"","",null,null,null,null,null,{"$f":"IF(X366=\"\",\"\",INDEX(referentes!J:K,MATCH(X366,referentes!J:J,0),2))","v":""},null,null,""]
["30000401000000",null,0,{"$f":"IF(E367<>\"\",CONCATENATE(B367,A367,DIGITADOR!$M$1,C367),\"\")","v":""},null,null,"","","",null,363,"",{"$f":"IF(R367=R366,\"\",IF(E367<>\"\",CONCATENATE(B367,A367,DIGITADOR!$M$1,C367),\"\"))","v":""},null,{"$f":"IF(N367=\"\",\"\",INDEX(referentes!S:T,MATCH(N367,referentes!T:T,0),1))","v":""},null,{"$f":"IF(P367=\"\",\"\",INDEX(referentes!Y:Z,MATCH(P367,referentes!Z:Z,0),1))","v":""},"","",null,null,null,null,null,{"$f":"IF(X367=\"\",\"\",INDEX(referentes!J:K,MATCH(X367,referentes!J:J,0),2))","v":""},null,null,""]
["30000401000000",null,0,{"$f":"IF(E368<>\"\",CONCATENATE(B368,A368,DIGITADOR!$M$1,C368),\"\")","v":""},null,null,"","","",null,364,"",{"$f":"IF(R368=R367,\"\",IF(E368<>\"\",CONCATENATE(B368,A368,DIGITADOR!$M$1,C368),\"\"))","v":""},null,{"$f":"IF(N368=\"\",\"\",INDEX(referentes!S:T,MATCH(N368,referentes!T:T,0),1))","v":""},null,{"$f":"IF(P368=\"\",\"\",INDEX(referentes!Y:Z,MATCH(P368,referentes!Z:Z,0),1))","v":""},"","",null,null,null,null,null,{"$f":"IF(X368=\"\",\"\",INDEX(referentes!J:K,MATCH(X368,referentes!J:J,0),2))","v":""},null,null,""]
["30000401000000",null,0,{"$f":"IF(E369<>\"\",CONCATENATE(B369,A369,DIGITADOR!$M$1,C369),\"\")","v":""},null,null,"","","",null,365,"",{"$f":"IF(R369=R368,\"\",IF(E369<>\"\",CONCATENATE(B369,A369,DIGITADOR!$M$1,C369),\"\"))","v":""},null,{"$f":"IF(N369=\"\",\"\",INDEX(referentes!S:T,MATCH(N369,referentes!T:T,0),1))","v":""},null,{"$f":"IF(P369=\"\",\"\",INDEX(referentes!Y:Z,MATCH(P369,referentes!Z:Z,0),1))","v":""},"","",null,null,null,null,null,{"$f":"IF(X369=\"\",\"\",INDEX(referentes!J:K,MATCH(X369,referentes!J:J,0),2))","v":""},null,null,""]
["30000401000000",null,0,{"$f":"IF(E370<>\"\",CONCATENATE(B370,A370,DIGITADOR!$M$1,C370),\"\")","v":""},null,null,"","","",null,366,"",{"$f":"IF(R370=R369,\"\",IF(E370<>\"\",CONCATENATE(B370,A370,DIGITADOR!$M$1,C370),\"\"))","v":""},null,{"$f":"IF(N370=\"\",\"\",INDEX(referentes!S:T,MATCH(N370,referentes!T:T,0),1))","v":""},null,{"$f":"IF(P370=\"\",\"\",INDEX(referentes!Y:Z,MATCH(P370,referentes!Z:Z,0),1))","v":""},"","",null,null,null,null,null,{"$f":"IF(X370=\"\",\"\",INDEX(referentes!J:K,MATCH(X370,referentes!J:J,0),2))","v":""},null,null,""]
["30000401000000",null,0,{"$f":"IF(E371<>\"\",CONCATENATE(B371,A371,DIGITADOR!$M$1,C371),\"\")","v":""},null,null,"","","",null,367,"",{"$f":"IF(R371=R370,\"\",IF(E371<>\"\",CONCATENATE(B371,A371,DIGITADOR!$M$1,C371),\"\"))","v":""},null,{"$f":"IF(N371=\"\",\"\",INDEX(referentes!S:T,MATCH(N371,referentes!T:T,0),1))","v":""},null,{"$f":"IF(P371=\"\",\"\",INDEX(referentes!Y:Z,MATCH(P371,referentes!Z:Z,0),1))","v":""},"","",null,null,null,null,null,{"$f":"IF(X371=\"\",\"\",INDEX(referentes!J:K,MATCH(X371,referentes!J:J,0),2))","v":""},null,null,""]
["30000401000000",null,0,{"$f":"IF(E372<>\"\",CONCATENATE(B372,A372,DIGITADOR!$M$1,C372),\"\")","v":""},null,null,"","","",null,368,"",{"$f":"IF(R372=R371,\"\",IF(E372<>\"\",CONCATENATE(B372,A372,DIGITADOR!$M$1,C372),\"\"))","v":""},null,{"$f":"IF(N372=\"\",\"\",INDEX(referentes!S:T,MATCH(N372,referentes!T:T,0),1))","v":""},null,{"$f":"IF(P372=\"\",\"\",INDEX(referentes!Y:Z,MATCH(P372,referentes!Z:Z,0),1))","v":""},"","",null,null,null,null,null,{"$f":"IF(X372=\"\",\"\",INDEX(referentes!J:K,MATCH(X372,referentes!J:J,0),2))","v":""},null,null,""]
["30000401000000",null,0,{"$f":"IF(E373<>\"\",CONCATENATE(B373,A373,DIGITADOR!$M$1,C373),\"\")","v":""},null,null,"","","",null,369,"",{"$f":"IF(R373=R372,\"\",IF(E373<>\"\",CONCATENATE(B373,A373,DIGITADOR!$M$1,C373),\"\"))","v":""},null,{"$f":"IF(N373=\"\",\"\",INDEX(referentes!S:T,MATCH(N373,referentes!T:T,0),1))","v":""},null,{"$f":"IF(P373=\"\",\"\",INDEX(referentes!Y:Z,MATCH(P373,referentes!Z:Z,0),1))","v":""},"","",null,null,null,null,null,{"$f":"IF(X373=\"\",\"\",INDEX(referentes!J:K,MATCH(X373,referentes!J:J,0),2))","v":""},null,null,""]
["30000401000000",null,0,{"$f":"IF(E374<>\"\",CONCATENATE(B374,A374,DIGITADOR!$M$1,C374),\"\")","v":""},null,null,"","","",null,370,"",{"$f":"IF(R374=R373,\"\",IF(E374<>\"\",CONCATENATE(B374,A374,DIGITADOR!$M$1,C374),\"\"))","v":""},null,{"$f":"IF(N374=\"\",\"\",INDEX(referentes!S:T,MATCH(N374,referentes!T:T,0),1))","v":""},null,{"$f":"IF(P374=\"\",\"\",INDEX(referentes!Y:Z,MATCH(P374,referentes!Z:Z,0),1))","v":""},"","",null,null,null,null,null,{"$f":"IF(X374=\"\",\"\",INDEX(referentes!J:K,MATCH(X374,referentes!J:J,0),2))","v":""},null,null,""]
["30000401000000",null,0,{"$f":"IF(E375<>\"\",CONCATENATE(B375,A375,DIGITADOR!$M$1,C375),\"\")","v":""},null,null,"","","",null,371,"",{"$f":"IF(R375=R374,\"\",IF(E375<>\"\",CONCATENATE(B375,A375,DIGITADOR!$M$1,C375),\"\"))","v":""},null,{"$f":"IF(N375=\"\",\"\",INDEX(referentes!S:T,MATCH(N375,referentes!T:T,0),1))","v":""},null,{"$f":"IF(P375=\"\",\"\",INDEX(referentes!Y:Z,MATCH(P375,referentes!Z:Z,0),1))","v":""},"","",null,null,null,null,null,{"$f":"IF(X375=\"\",\"\",INDEX(referentes!J:K,MATCH(X375,referentes!J:J,0),2))","v":""},null,null,""]
["30000401000000",null,0,{"$f":"IF(E376<>\"\",CONCATENATE(B376,A376,DIGITADOR!$M$1,C376),\"\")","v":""},null,null,"","","",null,372,"",{"$f":"IF(R376=R375,\"\",IF(E376<>\"\",CONCATENATE(B376,A376,DIGITADOR!$M$1,C376),\"\"))","v":""},null,{"$f":"IF(N376=\"\",\"\",INDEX(referentes!S:T,MATCH(N376,referentes!T:T,0),1))","v":""},null,{"$f":"IF(P376=\"\",\"\",INDEX(referentes!Y:Z,MATCH(P376,referentes!Z:Z,0),1))","v":""},"","",null,null,null,null,null,{"$f":"IF(X376=\"\",\"\",INDEX(referentes!J:K,MATCH(X376,referentes!J:J,0),2))","v":""},null,null,""]
["30000401000000",null,0,{"$f":"IF(E377<>\"\",CONCATENATE(B377,A377,DIGITADOR!$M$1,C377),\"\")","v":""},null,null,"","","",null,373,"",{"$f":"IF(R377=R376,\"\",IF(E377<>\"\",CONCATENATE(B377,A377,DIGITADOR!$M$1,C377),\"\"))","v":""},null,{"$f":"IF(N377=\"\",\"\",INDEX(referentes!S:T,MATCH(N377,referentes!T:T,0),1))","v":""},null,{"$f":"IF(P377=\"\",\"\",INDEX(referentes!Y:Z,MATCH(P377,referentes!Z:Z,0),1))","v":""},"","",null,null,null,null,null,{"$f":"IF(X377=\"\",\"\",INDEX(referentes!J:K,MATCH(X377,referentes!J:J,0),2))","v":""},null,null,""]
["30000401000000",null,0,{"$f":"IF(E378<>\"\",CONCATENATE(B378,A378,DIGITADOR!$M$1,C378),\"\")","v":""},null,null,"","","",null,374,"",{"$f":"IF(R378=R377,\"\",IF(E378<>\"\",CONCATENATE(B378,A378,DIGITADOR!$M$1,C378),\"\"))","v":""},null,{"$f":"IF(N378=\"\",\"\",INDEX(referentes!S:T,MATCH(N378,referentes!T:T,0),1))","v":""},null,{"$f":"IF(P378=\"\",\"\",INDEX(referentes!Y:Z,MATCH(P378,referentes!Z:Z,0),1))","v":""},"","",null,null,null,null,null,{"$f":"IF(X378=\"\",\"\",INDEX(referentes!J:K,MATCH(X378,referentes!J:J,0),2))","v":""},null,null,""]
["30000401000000",null,0,{"$f":"IF(E379<>\"\",CONCATENATE(B379,A379,DIGITADOR!$M$1,C379),\"\")","v":""},null,null,"","","",null,375,"",{"$f":"IF(R379=R378,\"\",IF(E379<>\"\",CONCATENATE(B379,A379,DIGITADOR!$M$1,C379),\"\"))","v":""},null,{"$f":"IF(N379=\"\",\"\",INDEX(referentes!S:T,MATCH(N379,referentes!T:T,0),1))","v":""},null,{"$f":"IF(P379=\"\",\"\",INDEX(referentes!Y:Z,MATCH(P379,referentes!Z:Z,0),1))","v":""},"","",null,null,null,null,null,{"$f":"IF(X379=\"\",\"\",INDEX(referentes!J:K,MATCH(X379,referentes!J:J,0),2))","v":""},null,null,""]
["30000401000000",null,0,{"$f":"IF(E380<>\"\",CONCATENATE(B380,A380,DIGITADOR!$M$1,C380),\"\")","v":""},null,null,"","","",null,376,"",{"$f":"IF(R380=R379,\"\",IF(E380<>\"\",CONCATENATE(B380,A380,DIGITADOR!$M$1,C380),\"\"))","v":""},null,{"$f":"IF(N380=\"\",\"\",INDEX(referentes!S:T,MATCH(N380,referentes!T:T,0),1))","v":""},null,{"$f":"IF(P380=\"\",\"\",INDEX(referentes!Y:Z,MATCH(P380,referentes!Z:Z,0),1))","v":""},"","",null,null,null,null,null,{"$f":"IF(X380=\"\",\"\",INDEX(referentes!J:K,MATCH(X380,referentes!J:J,0),2))","v":""},null,null,""]
["30000401000000",null,0,{"$f":"IF(E381<>\"\",CONCATENATE(B381,A381,DIGITADOR!$M$1,C381),\"\")","v":""},null,null,"","","",null,377,"",{"$f":"IF(R381=R380,\"\",IF(E381<>\"\",CONCATENATE(B381,A381,DIGITADOR!$M$1,C381),\"\"))","v":""},null,{"$f":"IF(N381=\"\",\"\",INDEX(referentes!S:T,MATCH(N381,referentes!T:T,0),1))","v":""},null,{"$f":"IF(P381=\"\",\"\",INDEX(referentes!Y:Z,MATCH(P381,referentes!Z:Z,0),1))","v":""},"","",null,null,null,null,null,{"$f":"IF(X381=\"\",\"\",INDEX(referentes!J:K,MATCH(X381,referentes!J:J,0),2))","v":""},null,null,""]
["30000401000000",null,0,{"$f":"IF(E382<>\"\",CONCATENATE(B382,A382,DIGITADOR!$M$1,C382),\"\")","v":""},null,null,"","","",null,378,"",{"$f":"IF(R382=R381,\"\",IF(E382<>\"\",CONCATENATE(B382,A382,DIGITADOR!$M$1,C382),\"\"))","v":""},null,{"$f":"IF(N382=\"\",\"\",INDEX(referentes!S:T,MATCH(N382,referentes!T:T,0),1))","v":""},null,{"$f":"IF(P382=\"\",\"\",INDEX(referentes!Y:Z,MATCH(P382,referentes!Z:Z,0),1))","v":""},"","",null,null,null,null,null,{"$f":"IF(X382=\"\",\"\",INDEX(referentes!J:K,MATCH(X382,referentes!J:J,0),2))","v":""},null,null,""]
["30000401000000",null,0,{"$f":"IF(E383<>\"\",CONCATENATE(B383,A383,DIGITADOR!$M$1,C383),\"\")","v":""},null,null,"","","",null,379,"",{"$f":"IF(R383=R382,\"\",IF(E383<>\"\",CONCATENATE(B383,A383,DIGITADOR!$M$1,C383),\"\"))","v":""},null,{"$f":"IF(N383=\"\",\"\",INDEX(referentes!S:T,MATCH(N383,referentes!T:T,0),1))","v":""},null,{"$f":"IF(P383=\"\",\"\",INDEX(referentes!Y:Z,MATCH(P383,referentes!Z:Z,0),1))","v":""},"","",null,null,null,null,null,{"$f":"IF(X383=\"\",\"\",INDEX(referentes!J:K,MATCH(X383,referentes!J:J,0),2))","v":""},null,null,""]
["30000401000000",null,0,{"$f":"IF(E384<>\"\",CONCATENATE(B384,A384,DIGITADOR!$M$1,C384),\"\")","v":""},null,null,"","","",null,380,"",{"$f":"IF(R384=R383,\"\",IF(E384<>\"\",CONCATENATE(B384,A384,DIGITADOR!$M$1,C384),\"\"))","v":""},null,{"$f":"IF(N384=\"\",\"\",INDEX(referentes!S:T,MATCH(N384,referentes!T:T,0),1))","v":""},null,{"$f":"IF(P384=\"\",\"\",INDEX(referentes!Y:Z,MATCH(P384,referentes!Z:Z,0),1))","v":""},"","",null,null,null,null,null,{"$f":"IF(X384=\"\",\"\",INDEX(referentes!J:K,MATCH(X384,referentes!J:J,0),2))","v":""},null,null,""]
["30000401000000",null,0,{"$f":"IF(E385<>\"\",CONCATENATE(B385,A385,DIGITADOR!$M$1,C385),\"\")","v":""},null,null,"","","",null,381,"",{"$f":"IF(R385=R384,\"\",IF(E385<>\"\",CONCATENATE(B385,A385,DIGITADOR!$M$1,C385),\"\"))","v":""},null,{"$f":"IF(N385=\"\",\"\",INDEX(referentes!S:T,MATCH(N385,referentes!T:T,0),1))","v":""},null,{"$f":"IF(P385=\"\",\"\",INDEX(referentes!Y:Z,MATCH(P385,referentes!Z:Z,0),1))","v":""},"","",null,null,null,null,null,{"$f":"IF(X385=\"\",\"\",INDEX(referentes!J:K,MATCH(X385,referentes!J:J,0),2))","v":""},null,null,""]
["30000401000000",null,0,{"$f":"IF(E386<>\"\",CONCATENATE(B386,A386,DIGITADOR!$M$1,C386),\"\")","v":""},null,null,"","","",null,382,"",{"$f":"IF(R386=R385,\"\",IF(E386<>\"\",CONCATENATE(B386,A386,DIGITADOR!$M$1,C386),\"\"))","v":""},null,{"$f":"IF(N386=\"\",\"\",INDEX(referentes!S:T,MATCH(N386,referentes!T:T,0),1))","v":""},null,{"$f":"IF(P386=\"\",\"\",INDEX(referentes!Y:Z,MATCH(P386,referentes!Z:Z,0),1))","v":""},"","",null,null,null,null,null,{"$f":"IF(X386=\"\",\"\",INDEX(referentes!J:K,MATCH(X386,referentes!J:J,0),2))","v":""},null,null,""]
["30000401000000",null,0,{"$f":"IF(E387<>\"\",CONCATENATE(B387,A387,DIGITADOR!$M$1,C387),\"\")","v":""},null,null,"","","",null,383,"",{"$f":"IF(R387=R386,\"\",IF(E387<>\"\",CONCATENATE(B387,A387,DIGITADOR!$M$1,C387),\"\"))","v":""},null,{"$f":"IF(N387=\"\",\"\",INDEX(referentes!S:T,MATCH(N387,referentes!T:T,0),1))","v":""},null,{"$f":"IF(P387=\"\",\"\",INDEX(referentes!Y:Z,MATCH(P387,referentes!Z:Z,0),1))","v":""},"","",null,null,null,null,null,{"$f":"IF(X387=\"\",\"\",INDEX(referentes!J:K,MATCH(X387,referentes!J:J,0),2))","v":""},null,null,""]
["30000401000000",null,0,{"$f":"IF(E388<>\"\",CONCATENATE(B388,A388,DIGITADOR!$M$1,C388),\"\")","v":""},null,null,"","","",null,384,"",{"$f":"IF(R388=R387,\"\",IF(E388<>\"\",CONCATENATE(B388,A388,DIGITADOR!$M$1,C388),\"\"))","v":""},null,{"$f":"IF(N388=\"\",\"\",INDEX(referentes!S:T,MATCH(N388,referentes!T:T,0),1))","v":""},null,{"$f":"IF(P388=\"\",\"\",INDEX(referentes!Y:Z,MATCH(P388,referentes!Z:Z,0),1))","v":""},"","",null,null,null,null,null,{"$f":"IF(X388=\"\",\"\",INDEX(referentes!J:K,MATCH(X388,referentes!J:J,0),2))","v":""},null,null,""]
["30000401000000",null,{"$f":"IF(R389=R388,C388,C388+1)","v":0},{"$f":"IF(E389<>\"\",CONCATENATE(B389,A389,DIGITADOR!$M$1,C389),\"\")","v":""},null,null,"","","",null,385,"",{"$f":"IF(R389=R388,\"\",IF(E389<>\"\",CONCATENATE(B389,A389,DIGITADOR!$M$1,C389),\"\"))","v":""},null,{"$f":"IF(N389=\"\",\"\",INDEX(referentes!S:T,MATCH(N389,referentes!T:T,0),1))","v":""},null,{"$f":"IF(P389=\"\",\"\",INDEX(referentes!Y:Z,MATCH(P389,referentes!Z:Z,0),1))","v":""},"","",null,null,null,null,null,{"$f":"IF(X389=\"\",\"\",INDEX(referentes!J:K,MATCH(X389,referentes!J:J,0),2))","v":""},null,null,""]
["30000401000000",null,0,{"$f":"IF(E390<>\"\",CONCATENATE(B390,A390,DIGITADOR!$M$1,C390),\"\")","v":""},null,null,{"$f":"IF(E390=\"\", \"\", (E390+F390))","v":""},{"$f":"IF(G390<>\"\",MONTH(G390),\"\")","v":""},{"$f":"IF(D390=\"\",\"\",1)","v":""},null,386,{"$f":"IF(E390=\"\",\"\",CONCATENATE(D390,K390))","v":""},{"$f":"IF(R390=R389,\"\",IF(E390<>\"\",CONCATENATE(B390,A390,DIGITADOR!$M$1,C390),\"\"))","v":""},null,{"$f":"IF(N390=\"\",\"\",INDEX(referentes!S:T,MATCH(N390,referentes!T:T,0),1))","v":""},null,{"$f":"IF(P390=\"\",\"\",INDEX(referentes!Y:Z,MATCH(P390,referentes!Z:Z,0),1))","v":""},{"$f":"IF(G390=\"\",\"\",CONCATENATE(G390,O390,Q390))","v":""},{"$f":"IF(E390=\"\",\"\",\"INVEMAR\")","v":""},null,null,null,null,null,{"$f":"IF(X390=\"\",\"\",INDEX(referentes!J:K,MATCH(X390,referentes!J:J,0),2))","v":""},null,null,{"$f":"IF(T390=\"\",\"\",IF(T390=T389,AB389,AA390))","v":""}]
[{"$f":"A390","v":"30000401000000"},null,0,{"$f":"IF(E391<>\"\",CONCATENATE(B391,A391,DIGITADOR!$M$1,C391),\"\")","v":""},null,null,"","","",null,387,"",{"$f":"IF(R391=R390,\"\",IF(E391<>\"\",CONCATENATE(B391,A391,DIGITADOR!$M$1,C391),\"\"))","v":""},null,{"$f":"IF(N391=\"\",\"\",INDEX(referentes!S:T,MATCH(N391,referentes!T:T,0),1))","v":""},null,{"$f":"IF(P391=\"\",\"\",INDEX(referentes!Y:Z,MATCH(P391,referentes!Z:Z,0),1))","v":""},"","",null,null,null,null,null,{"$f":"IF(X391=\"\",\"\",INDEX(referentes!J:K,MATCH(X391,referentes!J:J,0),2))","v":""},null,null,""]
["30000401000000",null,0,{"$f":"IF(E392<>\"\",CONCATENATE(B392,A392,DIGITADOR!$M$1,C392),\"\")","v":""},null,null,"","","",null,388,"",{"$f":"IF(R392=R391,\"\",IF(E392<>\"\",CONCATENATE(B392,A392,DIGITADOR!$M$1,C392),\"\"))","v":""},null,{"$f":"IF(N392=\"\",\"\",INDEX(referentes!S:T,MATCH(N392,referentes!T:T,0),1))","v":""},null,{"$f":"IF(P392=\"\",\"\",INDEX(referentes!Y:Z,MATCH(P392,referentes!Z:Z,0),1))","v":""},"","",null,null,null,null,null,{"$f":"IF(X392=\"\",\"\",INDEX(referentes!J:K,MATCH(X392,referentes!J:J,0),2))","v":""},null,null,""]
["30000401000000",null,0,{"$f":"IF(E393<>\"\",CONCATENATE(B393,A393,DIGITADOR!$M$1,C393),\"\")","v":""},null,null,"","","",null,389,"",{"$f":"IF(R393=R392,\"\",IF(E393<>\"\",CONCATENATE(B393,A393,DIGITADOR!$M$1,C393),\"\"))","v":""},null,{"$f":"IF(N393=\"\",\"\",INDEX(referentes!S:T,MATCH(N393,referentes!T:T,0),1))","v":""},null,{"$f":"IF(P393=\"\",\"\",INDEX(referentes!Y:Z,MATCH(P393,referentes!Z:Z,0),1))","v":""},"","",null,null,null,null,null,{"$f":"IF(X393=\"\",\"\",INDEX(referentes!J:K,MATCH(X393,referentes!J:J,0),2))","v":""},null,null,""]
["30000401000000",null,0,{"$f":"IF(E394<>\"\",CONCATENATE(B394,A394,DIGITADOR!$M$1,C394),\"\")","v":""},null,null,"","","",null,390,"",{"$f":"IF(R394=R393,\"\",IF(E394<>\"\",CONCATENATE(B394,A394,DIGITADOR!$M$1,C394),\"\"))","v":""},null,{"$f":"IF(N394=\"\",\"\",INDEX(referentes!S:T,MATCH(N394,referentes!T:T,0),1))","v":""},null,{"$f":"IF(P394=\"\",\"\",INDEX(referentes!Y:Z,MATCH(P394,referentes!Z:Z,0),1))","v":""},"","",null,null,null,null,null,{"$f":"IF(X394=\"\",\"\",INDEX(referentes!J:K,MATCH(X394,referentes!J:J,0),2))","v":""},null,null,""]
["30000401000000",null,0,{"$f":"IF(E395<>\"\",CONCATENATE(B395,A395,DIGITADOR!$M$1,C395),\"\")","v":""},null,null,"","","",null,391,"",{"$f":"IF(R395=R394,\"\",IF(E395<>\"\",CONCATENATE(B395,A395,DIGITADOR!$M$1,C395),\"\"))","v":""},null,{"$f":"IF(N395=\"\",\"\",INDEX(referentes!S:T,MATCH(N395,referentes!T:T,0),1))","v":""},null,{"$f":"IF(P395=\"\",\"\",INDEX(referentes!Y:Z,MATCH(P395,referentes!Z:Z,0),1))","v":""},"","",null,null,null,null,null,{"$f":"IF(X395=\"\",\"\",INDEX(referentes!J:K,MATCH(X395,referentes!J:J,0),2))","v":""},null,null,""]
["30000401000000",null,0,{"$f":"IF(E396<>\"\",CONCATENATE(B396,A396,DIGITADOR!$M$1,C396),\"\")","v":""},null,null,"","","",null,392,"",{"$f":"IF(R396=R395,\"\",IF(E396<>\"\",CONCATENATE(B396,A396,DIGITADOR!$M$1,C396),\"\"))","v":""},null,{"$f":"IF(N396=\"\",\"\",INDEX(referentes!S:T,MATCH(N396,referentes!T:T,0),1))","v":""},null,{"$f":"IF(P396=\"\",\"\",INDEX(referentes!Y:Z,MATCH(P396,referentes!Z:Z,0),1))","v":""},"","",null,null,null,null,null,{"$f":"IF(X396=\"\",\"\",INDEX(referentes!J:K,MATCH(X396,referentes!J:J,0),2))","v":""},null,null,""]
["30000401000000",null,0,{"$f":"IF(E397<>\"\",CONCATENATE(B397,A397,DIGITADOR!$M$1,C397),\"\")","v":""},null,null,"","","",null,393,"",{"$f":"IF(R397=R396,\"\",IF(E397<>\"\",CONCATENATE(B397,A397,DIGITADOR!$M$1,C397),\"\"))","v":""},null,{"$f":"IF(N397=\"\",\"\",INDEX(referentes!S:T,MATCH(N397,referentes!T:T,0),1))","v":""},null,{"$f":"IF(P397=\"\",\"\",INDEX(referentes!Y:Z,MATCH(P397,referentes!Z:Z,0),1))","v":""},"","",null,null,null,null,null,{"$f":"IF(X397=\"\",\"\",INDEX(referentes!J:K,MATCH(X397,referentes!J:J,0),2))","v":""},null,null,""]
["30000401000000",null,0,{"$f":"IF(E398<>\"\",CONCATENATE(B398,A398,DIGITADOR!$M$1,C398),\"\")","v":""},null,null,"","","",null,394,"",{"$f":"IF(R398=R397,\"\",IF(E398<>\"\",CONCATENATE(B398,A398,DIGITADOR!$M$1,C398),\"\"))","v":""},null,{"$f":"IF(N398=\"\",\"\",INDEX(referentes!S:T,MATCH(N398,referentes!T:T,0),1))","v":""},null,{"$f":"IF(P398=\"\",\"\",INDEX(referentes!Y:Z,MATCH(P398,referentes!Z:Z,0),1))","v":""},"","",null,null,null,null,null,{"$f":"IF(X398=\"\",\"\",INDEX(referentes!J:K,MATCH(X398,referentes!J:J,0),2))","v":""},null,null,""]
["30000401000000",null,0,{"$f":"IF(E399<>\"\",CONCATENATE(B399,A399,DIGITADOR!$M$1,C399),\"\")","v":""},null,null,"","","",null,395,"",{"$f":"IF(R399=R398,\"\",IF(E399<>\"\",CONCATENATE(B399,A399,DIGITADOR!$M$1,C399),\"\"))","v":""},null,{"$f":"IF(N399=\"\",\"\",INDEX(referentes!S:T,MATCH(N399,referentes!T:T,0),1))","v":""},null,{"$f":"IF(P399=\"\",\"\",INDEX(referentes!Y:Z,MATCH(P399,referentes!Z:Z,0),1))","v":""},"","",null,null,null,null,null,{"$f":"IF(X399=\"\",\"\",INDEX(referentes!J:K,MATCH(X399,referentes!J:J,0),2))","v":""},null,null,""]
["30000401000000",null,0,{"$f":"IF(E400<>\"\",CONCATENATE(B400,A400,DIGITADOR!$M$1,C400),\"\")","v":""},null,null,"","","",null,396,"",{"$f":"IF(R400=R399,\"\",IF(E400<>\"\",CONCATENATE(B400,A400,DIGITADOR!$M$1,C400),\"\"))","v":""},null,{"$f":"IF(N400=\"\",\"\",INDEX(referentes!S:T,MATCH(N400,referentes!T:T,0),1))","v":""},null,{"$f":"IF(P400=\"\",\"\",INDEX(referentes!Y:Z,MATCH(P400,referentes!Z:Z,0),1))","v":""},"","",null,null,null,null,null,{"$f":"IF(X400=\"\",\"\",INDEX(referentes!J:K,MATCH(X400,referentes!J:J,0),2))","v":""},null,null,""]
["30000401000000",null,0,{"$f":"IF(E401<>\"\",CONCATENATE(B401,A401,DIGITADOR!$M$1,C401),\"\")","v":""},null,null,"","","",null,397,"",{"$f":"IF(R401=R400,\"\",IF(E401<>\"\",CONCATENATE(B401,A401,DIGITADOR!$M$1,C401),\"\"))","v":""},null,{"$f":"IF(N401=\"\",\"\",INDEX(referentes!S:T,MATCH(N401,referentes!T:T,0),1))","v":""},null,{"$f":"IF(P401=\"\",\"\",INDEX(referentes!Y:Z,MATCH(P401,referentes!Z:Z,0),1))","v":""},"","",null,null,null,null,null,{"$f":"IF(X401=\"\",\"\",INDEX(referentes!J:K,MATCH(X401,referentes!J:J,0),2))","v":""},null,null,""]
["30000401000000",null,0,{"$f":"IF(E402<>\"\",CONCATENATE(B402,A402,DIGITADOR!$M$1,C402),\"\")","v":""},null,null,"","","",null,398,"",{"$f":"IF(R402=R401,\"\",IF(E402<>\"\",CONCATENATE(B402,A402,DIGITADOR!$M$1,C402),\"\"))","v":""},null,{"$f":"IF(N402=\"\",\"\",INDEX(referentes!S:T,MATCH(N402,referentes!T:T,0),1))","v":""},null,{"$f":"IF(P402=\"\",\"\",INDEX(referentes!Y:Z,MATCH(P402,referentes!Z:Z,0),1))","v":""},"","",null,null,null,null,null,{"$f":"IF(X402=\"\",\"\",INDEX(referentes!J:K,MATCH(X402,referentes!J:J,0),2))","v":""},null,null,""]
["30000401000000",null,0,{"$f":"IF(E403<>\"\",CONCATENATE(B403,A403,DIGITADOR!$M$1,C403),\"\")","v":""},null,null,"","","",null,399,"",{"$f":"IF(R403=R402,\"\",IF(E403<>\"\",CONCATENATE(B403,A403,DIGITADOR!$M$1,C403),\"\"))","v":""},null,{"$f":"IF(N403=\"\",\"\",INDEX(referentes!S:T,MATCH(N403,referentes!T:T,0),1))","v":""},null,{"$f":"IF(P403=\"\",\"\",INDEX(referentes!Y:Z,MATCH(P403,referentes!Z:Z,0),1))","v":""},"","",null,null,null,null,null,{"$f":"IF(X403=\"\",\"\",INDEX(referentes!J:K,MATCH(X403,referentes!J:J,0),2))","v":""},null,null,""]
["30000401000000",null,0,{"$f":"IF(E404<>\"\",CONCATENATE(B404,A404,DIGITADOR!$M$1,C404),\"\")","v":""},null,null,"","","",null,400,"",{"$f":"IF(R404=R403,\"\",IF(E404<>\"\",CONCATENATE(B404,A404,DIGITADOR!$M$1,C404),\"\"))","v":""},null,{"$f":"IF(N404=\"\",\"\",INDEX(referentes!S:T,MATCH(N404,referentes!T:T,0),1))","v":""},null,{"$f":"IF(P404=\"\",\"\",INDEX(referentes!Y:Z,MATCH(P404,referentes!Z:Z,0),1))","v":""},"","",null,null,null,null,null,{"$f":"IF(X404=\"\",\"\",INDEX(referentes!J:K,MATCH(X404,referentes!J:J,0),2))","v":""},null,null,""]
["30000401000000",null,0,{"$f":"IF(E405<>\"\",CONCATENATE(B405,A405,DIGITADOR!$M$1,C405),\"\")","v":""},null,null,"","","",null,401,"",{"$f":"IF(R405=R404,\"\",IF(E405<>\"\",CONCATENATE(B405,A405,DIGITADOR!$M$1,C405),\"\"))","v":""},null,{"$f":"IF(N405=\"\",\"\",INDEX(referentes!S:T,MATCH(N405,referentes!T:T,0),1))","v":""},null,{"$f":"IF(P405=\"\",\"\",INDEX(referentes!Y:Z,MATCH(P405,referentes!Z:Z,0),1))","v":""},"","",null,null,null,null,null,{"$f":"IF(X405=\"\",\"\",INDEX(referentes!J:K,MATCH(X405,referentes!J:J,0),2))","v":""},null,null,""]
["30000401000000",null,0,{"$f":"IF(E406<>\"\",CONCATENATE(B406,A406,DIGITADOR!$M$1,C406),\"\")","v":""},null,null,"","","",null,402,"",{"$f":"IF(R406=R405,\"\",IF(E406<>\"\",CONCATENATE(B406,A406,DIGITADOR!$M$1,C406),\"\"))","v":""},null,{"$f":"IF(N406=\"\",\"\",INDEX(referentes!S:T,MATCH(N406,referentes!T:T,0),1))","v":""},null,{"$f":"IF(P406=\"\",\"\",INDEX(referentes!Y:Z,MATCH(P406,referentes!Z:Z,0),1))","v":""},"","",null,null,null,null,null,{"$f":"IF(X406=\"\",\"\",INDEX(referentes!J:K,MATCH(X406,referentes!J:J,0),2))","v":""},null,null,""]
["30000401000000",null,0,{"$f":"IF(E407<>\"\",CONCATENATE(B407,A407,DIGITADOR!$M$1,C407),\"\")","v":""},null,null,"","","",null,403,"",{"$f":"IF(R407=R406,\"\",IF(E407<>\"\",CONCATENATE(B407,A407,DIGITADOR!$M$1,C407),\"\"))","v":""},null,{"$f":"IF(N407=\"\",\"\",INDEX(referentes!S:T,MATCH(N407,referentes!T:T,0),1))","v":""},null,{"$f":"IF(P407=\"\",\"\",INDEX(referentes!Y:Z,MATCH(P407,referentes!Z:Z,0),1))","v":""},"","",null,null,null,null,null,{"$f":"IF(X407=\"\",\"\",INDEX(referentes!J:K,MATCH(X407,referentes!J:J,0),2))","v":""},null,null,""]
["30000401000000",null,0,{"$f":"IF(E408<>\"\",CONCATENATE(B408,A408,DIGITADOR!$M$1,C408),\"\")","v":""},null,null,"","","",null,404,"",{"$f":"IF(R408=R407,\"\",IF(E408<>\"\",CONCATENATE(B408,A408,DIGITADOR!$M$1,C408),\"\"))","v":""},null,{"$f":"IF(N408=\"\",\"\",INDEX(referentes!S:T,MATCH(N408,referentes!T:T,0),1))","v":""},null,{"$f":"IF(P408=\"\",\"\",INDEX(referentes!Y:Z,MATCH(P408,referentes!Z:Z,0),1))","v":""},"","",null,null,null,null,null,{"$f":"IF(X408=\"\",\"\",INDEX(referentes!J:K,MATCH(X408,referentes!J:J,0),2))","v":""},null,null,""]
["30000401000000",null,0,{"$f":"IF(E409<>\"\",CONCATENATE(B409,A409,DIGITADOR!$M$1,C409),\"\")","v":""},null,null,"","","",null,405,"",{"$f":"IF(R409=R408,\"\",IF(E409<>\"\",CONCATENATE(B409,A409,DIGITADOR!$M$1,C409),\"\"))","v":""},null,{"$f":"IF(N409=\"\",\"\",INDEX(referentes!S:T,MATCH(N409,referentes!T:T,0),1))","v":""},null,{"$f":"IF(P409=\"\",\"\",INDEX(referentes!Y:Z,MATCH(P409,referentes!Z:Z,0),1))","v":""},"","",null,null,null,null,null,{"$f":"IF(X409=\"\",\"\",INDEX(referentes!J:K,MATCH(X409,referentes!J:J,0),2))","v":""},null,null,""]
["30000401000000",null,0,{"$f":"IF(E410<>\"\",CONCATENATE(B410,A410,DIGITADOR!$M$1,C410),\"\")","v":""},null,null,"","","",null,406,"",{"$f":"IF(R410=R409,\"\",IF(E410<>\"\",CONCATENATE(B410,A410,DIGITADOR!$M$1,C410),\"\"))","v":""},null,{"$f":"IF(N410=\"\",\"\",INDEX(referentes!S:T,MATCH(N410,referentes!T:T,0),1))","v":""},null,{"$f":"IF(P410=\"\",\"\",INDEX(referentes!Y:Z,MATCH(P410,referentes!Z:Z,0),1))","v":""},"","",null,null,null,null,null,{"$f":"IF(X410=\"\",\"\",INDEX(referentes!J:K,MATCH(X410,referentes!J:J,0),2))","v":""},null,null,""]
["30000401000000",null,0,{"$f":"IF(E411<>\"\",CONCATENATE(B411,A411,DIGITADOR!$M$1,C411),\"\")","v":""},null,null,"","","",null,407,"",{"$f":"IF(R411=R410,\"\",IF(E411<>\"\",CONCATENATE(B411,A411,DIGITADOR!$M$1,C411),\"\"))","v":""},null,{"$f":"IF(N411=\"\",\"\",INDEX(referentes!S:T,MATCH(N411,referentes!T:T,0),1))","v":""},null,{"$f":"IF(P411=\"\",\"\",INDEX(referentes!Y:Z,MATCH(P411,referentes!Z:Z,0),1))","v":""},"","",null,null,null,null,null,{"$f":"IF(X411=\"\",\"\",INDEX(referentes!J:K,MATCH(X411,referentes!J:J,0),2))","v":""},null,null,""]
["30000401000000",null,0,{"$f":"IF(E412<>\"\",CONCATENATE(B412,A412,DIGITADOR!$M$1,C412),\"\")","v":""},null,null,"","","",null,408,"",{"$f":"IF(R412=R411,\"\",IF(E412<>\"\",CONCATENATE(B412,A412,DIGITADOR!$M$1,C412),\"\"))","v":""},null,{"$f":"IF(N412=\"\",\"\",INDEX(referentes!S:T,MATCH(N412,referentes!T:T,0),1))","v":""},null,{"$f":"IF(P412=\"\",\"\",INDEX(referentes!Y:Z,MATCH(P412,referentes!Z:Z,0),1))","v":""},"","",null,null,null,null,null,{"$f":"IF(X412=\"\",\"\",INDEX(referentes!J:K,MATCH(X412,referentes!J:J,0),2))","v":""},null,null,""]
["30000401000000",null,0,{"$f":"IF(E413<>\"\",CONCATENATE(B413,A413,DIGITADOR!$M$1,C413),\"\")","v":""},null,null,"","","",null,409,"",{"$f":"IF(R413=R412,\"\",IF(E413<>\"\",CONCATENATE(B413,A413,DIGITADOR!$M$1,C413),\"\"))","v":""},null,{"$f":"IF(N413=\"\",\"\",INDEX(referentes!S:T,MATCH(N413,referentes!T:T,0),1))","v":""},null,{"$f":"IF(P413=\"\",\"\",INDEX(referentes!Y:Z,MATCH(P413,referentes!Z:Z,0),1))","v":""},"","",null,null,null,null,null,{"$f":"IF(X413=\"\",\"\",INDEX(referentes!J:K,MATCH(X413,referentes!J:J,0),2))","v":""},null,null,""]
["30000401000000",null,0,{"$f":"IF(E414<>\"\",CONCATENATE(B414,A414,DIGITADOR!$M$1,C414),\"\")","v":""},null,null,"","","",null,410,"",{"$f":"IF(R414=R413,\"\",IF(E414<>\"\",CONCATENATE(B414,A414,DIGITADOR!$M$1,C414),\"\"))","v":""},null,{"$f":"IF(N414=\"\",\"\",INDEX(referentes!S:T,MATCH(N414,referentes!T:T,0),1))","v":""},null,{"$f":"IF(P414=\"\",\"\",INDEX(referentes!Y:Z,MATCH(P414,referentes!Z:Z,0),1))","v":""},"","",null,null,null,null,null,{"$f":"IF(X414=\"\",\"\",INDEX(referentes!J:K,MATCH(X414,referentes!J:J,0),2))","v":""},null,null,""]
["30000401000000",null,0,{"$f":"IF(E415<>\"\",CONCATENATE(B415,A415,DIGITADOR!$M$1,C415),\"\")","v":""},null,null,"","","",null,411,"",{"$f":"IF(R415=R414,\"\",IF(E415<>\"\",CONCATENATE(B415,A415,DIGITADOR!$M$1,C415),\"\"))","v":""},null,{"$f":"IF(N415=\"\",\"\",INDEX(referentes!S:T,MATCH(N415,referentes!T:T,0),1))","v":""},null,{"$f":"IF(P415=\"\",\"\",INDEX(referentes!Y:Z,MATCH(P415,referentes!Z:Z,0),1))","v":""},"","",null,null,null,null,null,{"$f":"IF(X415=\"\",\"\",INDEX(referentes!J:K,MATCH(X415,referentes!J:J,0),2))","v":""},null,null,""]
["30000401000000",null,0,{"$f":"IF(E416<>\"\",CONCATENATE(B416,A416,DIGITADOR!$M$1,C416),\"\")","v":""},null,null,"","","",null,412,"",{"$f":"IF(R416=R415,\"\",IF(E416<>\"\",CONCATENATE(B416,A416,DIGITADOR!$M$1,C416),\"\"))","v":""},null,{"$f":"IF(N416=\"\",\"\",INDEX(referentes!S:T,MATCH(N416,referentes!T:T,0),1))","v":""},null,{"$f":"IF(P416=\"\",\"\",INDEX(referentes!Y:Z,MATCH(P416,referentes!Z:Z,0),1))","v":""},"","",null,null,null,null,null,{"$f":"IF(X416=\"\",\"\",INDEX(referentes!J:K,MATCH(X416,referentes!J:J,0),2))","v":""},null,null,""]
["30000401000000",null,0,{"$f":"IF(E417<>\"\",CONCATENATE(B417,A417,DIGITADOR!$M$1,C417),\"\")","v":""},null,null,"","","",null,413,"",{"$f":"IF(R417=R416,\"\",IF(E417<>\"\",CONCATENATE(B417,A417,DIGITADOR!$M$1,C417),\"\"))","v":""},null,{"$f":"IF(N417=\"\",\"\",INDEX(referentes!S:T,MATCH(N417,referentes!T:T,0),1))","v":""},null,{"$f":"IF(P417=\"\",\"\",INDEX(referentes!Y:Z,MATCH(P417,referentes!Z:Z,0),1))","v":""},"","",null,null,null,null,null,{"$f":"IF(X417=\"\",\"\",INDEX(referentes!J:K,MATCH(X417,referentes!J:J,0),2))","v":""},null,null,""]
["30000401000000",null,0,{"$f":"IF(E418<>\"\",CONCATENATE(B418,A418,DIGITADOR!$M$1,C418),\"\")","v":""},null,null,"","","",null,414,"",{"$f":"IF(R418=R417,\"\",IF(E418<>\"\",CONCATENATE(B418,A418,DIGITADOR!$M$1,C418),\"\"))","v":""},null,{"$f":"IF(N418=\"\",\"\",INDEX(referentes!S:T,MATCH(N418,referentes!T:T,0),1))","v":""},null,{"$f":"IF(P418=\"\",\"\",INDEX(referentes!Y:Z,MATCH(P418,referentes!Z:Z,0),1))","v":""},"","",null,null,null,null,null,{"$f":"IF(X418=\"\",\"\",INDEX(referentes!J:K,MATCH(X418,referentes!J:J,0),2))","v":""},null,null,""]
["30000401000000",null,0,{"$f":"IF(E419<>\"\",CONCATENATE(B419,A419,DIGITADOR!$M$1,C419),\"\")","v":""},null,null,"","","",null,415,"",{"$f":"IF(R419=R418,\"\",IF(E419<>\"\",CONCATENATE(B419,A419,DIGITADOR!$M$1,C419),\"\"))","v":""},null,{"$f":"IF(N419=\"\",\"\",INDEX(referentes!S:T,MATCH(N419,referentes!T:T,0),1))","v":""},null,{"$f":"IF(P419=\"\",\"\",INDEX(referentes!Y:Z,MATCH(P419,referentes!Z:Z,0),1))","v":""},"","",null,null,null,null,null,{"$f":"IF(X419=\"\",\"\",INDEX(referentes!J:K,MATCH(X419,referentes!J:J,0),2))","v":""},null,null,""]
["30000401000000",null,0,{"$f":"IF(E420<>\"\",CONCATENATE(B420,A420,DIGITADOR!$M$1,C420),\"\")","v":""},null,null,"","","",null,416,"",{"$f":"IF(R420=R419,\"\",IF(E420<>\"\",CONCATENATE(B420,A420,DIGITADOR!$M$1,C420),\"\"))","v":""},null,{"$f":"IF(N420=\"\",\"\",INDEX(referentes!S:T,MATCH(N420,referentes!T:T,0),1))","v":""},null,{"$f":"IF(P420=\"\",\"\",INDEX(referentes!Y:Z,MATCH(P420,referentes!Z:Z,0),1))","v":""},"","",null,null,null,null,null,{"$f":"IF(X420=\"\",\"\",INDEX(referentes!J:K,MATCH(X420,referentes!J:J,0),2))","v":""},null,null,""]
["30000401000000",null,0,{"$f":"IF(E421<>\"\",CONCATENATE(B421,A421,DIGITADOR!$M$1,C421),\"\")","v":""},null,null,"","","",null,417,"",{"$f":"IF(R421=R420,\"\",IF(E421<>\"\",CONCATENATE(B421,A421,DIGITADOR!$M$1,C421),\"\"))","v":""},null,{"$f":"IF(N421=\"\",\"\",INDEX(referentes!S:T,MATCH(N421,referentes!T:T,0),1))","v":""},null,{"$f":"IF(P421=\"\",\"\",INDEX(referentes!Y:Z,MATCH(P421,referentes!Z:Z,0),1))","v":""},"","",null,null,null,null,null,{"$f":"IF(X421=\"\",\"\",INDEX(referentes!J:K,MATCH(X421,referentes!J:J,0),2))","v":""},null,null,""]
["30000401000000",null,0,{"$f":"IF(E422<>\"\",CONCATENATE(B422,A422,DIGITADOR!$M$1,C422),\"\")","v":""},null,null,"","","",null,418,"",{"$f":"IF(R422=R421,\"\",IF(E422<>\"\",CONCATENATE(B422,A422,DIGITADOR!$M$1,C422),\"\"))","v":""},null,{"$f":"IF(N422=\"\",\"\",INDEX(referentes!S:T,MATCH(N422,referentes!T:T,0),1))","v":""},null,{"$f":"IF(P422=\"\",\"\",INDEX(referentes!Y:Z,MATCH(P422,referentes!Z:Z,0),1))","v":""},"","",null,null,null,null,null,{"$f":"IF(X422=\"\",\"\",INDEX(referentes!J:K,MATCH(X422,referentes!J:J,0),2))","v":""},null,null,""]
["30000401000000",null,0,{"$f":"IF(E423<>\"\",CONCATENATE(B423,A423,DIGITADOR!$M$1,C423),\"\")","v":""},null,null,"","","",null,419,"",{"$f":"IF(R423=R422,\"\",IF(E423<>\"\",CONCATENATE(B423,A423,DIGITADOR!$M$1,C423),\"\"))","v":""},null,{"$f":"IF(N423=\"\",\"\",INDEX(referentes!S:T,MATCH(N423,referentes!T:T,0),1))","v":""},null,{"$f":"IF(P423=\"\",\"\",INDEX(referentes!Y:Z,MATCH(P423,referentes!Z:Z,0),1))","v":""},"","",null,null,null,null,null,{"$f":"IF(X423=\"\",\"\",INDEX(referentes!J:K,MATCH(X423,referentes!J:J,0),2))","v":""},null,null,""]
["30000401000000",null,0,{"$f":"IF(E424<>\"\",CONCATENATE(B424,A424,DIGITADOR!$M$1,C424),\"\")","v":""},null,null,"","","",null,420,"",{"$f":"IF(R424=R423,\"\",IF(E424<>\"\",CONCATENATE(B424,A424,DIGITADOR!$M$1,C424),\"\"))","v":""},null,{"$f":"IF(N424=\"\",\"\",INDEX(referentes!S:T,MATCH(N424,referentes!T:T,0),1))","v":""},null,{"$f":"IF(P424=\"\",\"\",INDEX(referentes!Y:Z,MATCH(P424,referentes!Z:Z,0),1))","v":""},"","",null,null,null,null,null,{"$f":"IF(X424=\"\",\"\",INDEX(referentes!J:K,MATCH(X424,referentes!J:J,0),2))","v":""},null,null,""]
["30000401000000",null,0,{"$f":"IF(E425<>\"\",CONCATENATE(B425,A425,DIGITADOR!$M$1,C425),\"\")","v":""},null,null,"","","",null,421,"",{"$f":"IF(R425=R424,\"\",IF(E425<>\"\",CONCATENATE(B425,A425,DIGITADOR!$M$1,C425),\"\"))","v":""},null,{"$f":"IF(N425=\"\",\"\",INDEX(referentes!S:T,MATCH(N425,referentes!T:T,0),1))","v":""},null,{"$f":"IF(P425=\"\",\"\",INDEX(referentes!Y:Z,MATCH(P425,referentes!Z:Z,0),1))","v":""},"","",null,null,null,null,null,{"$f":"IF(X425=\"\",\"\",INDEX(referentes!J:K,MATCH(X425,referentes!J:J,0),2))","v":""},null,null,""]
["30000401000000",null,0,{"$f":"IF(E426<>\"\",CONCATENATE(B426,A426,DIGITADOR!$M$1,C426),\"\")","v":""},null,null,"","","",null,422,"",{"$f":"IF(R426=R425,\"\",IF(E426<>\"\",CONCATENATE(B426,A426,DIGITADOR!$M$1,C426),\"\"))","v":""},null,{"$f":"IF(N426=\"\",\"\",INDEX(referentes!S:T,MATCH(N426,referentes!T:T,0),1))","v":""},null,{"$f":"IF(P426=\"\",\"\",INDEX(referentes!Y:Z,MATCH(P426,referentes!Z:Z,0),1))","v":""},"","",null,null,null,null,null,{"$f":"IF(X426=\"\",\"\",INDEX(referentes!J:K,MATCH(X426,referentes!J:J,0),2))","v":""},null,null,""]
["30000401000000",null,0,{"$f":"IF(E427<>\"\",CONCATENATE(B427,A427,DIGITADOR!$M$1,C427),\"\")","v":""},null,null,"","","",null,423,"",{"$f":"IF(R427=R426,\"\",IF(E427<>\"\",CONCATENATE(B427,A427,DIGITADOR!$M$1,C427),\"\"))","v":""},null,{"$f":"IF(N427=\"\",\"\",INDEX(referentes!S:T,MATCH(N427,referentes!T:T,0),1))","v":""},null,{"$f":"IF(P427=\"\",\"\",INDEX(referentes!Y:Z,MATCH(P427,referentes!Z:Z,0),1))","v":""},"","",null,null,null,null,null,{"$f":"IF(X427=\"\",\"\",INDEX(referentes!J:K,MATCH(X427,referentes!J:J,0),2))","v":""},null,null,""]
["30000401000000",null,0,{"$f":"IF(E428<>\"\",CONCATENATE(B428,A428,DIGITADOR!$M$1,C428),\"\")","v":""},null,null,"","","",null,424,"",{"$f":"IF(R428=R427,\"\",IF(E428<>\"\",CONCATENATE(B428,A428,DIGITADOR!$M$1,C428),\"\"))","v":""},null,{"$f":"IF(N428=\"\",\"\",INDEX(referentes!S:T,MATCH(N428,referentes!T:T,0),1))","v":""},null,{"$f":"IF(P428=\"\",\"\",INDEX(referentes!Y:Z,MATCH(P428,referentes!Z:Z,0),1))","v":""},"","",null,null,null,null,null,{"$f":"IF(X428=\"\",\"\",INDEX(referentes!J:K,MATCH(X428,referentes!J:J,0),2))","v":""},null,null,""]
["30000401000000",null,0,{"$f":"IF(E429<>\"\",CONCATENATE(B429,A429,DIGITADOR!$M$1,C429),\"\")","v":""},null,null,"","","",null,425,"",{"$f":"IF(R429=R428,\"\",IF(E429<>\"\",CONCATENATE(B429,A429,DIGITADOR!$M$1,C429),\"\"))","v":""},null,{"$f":"IF(N429=\"\",\"\",INDEX(referentes!S:T,MATCH(N429,referentes!T:T,0),1))","v":""},null,{"$f":"IF(P429=\"\",\"\",INDEX(referentes!Y:Z,MATCH(P429,referentes!Z:Z,0),1))","v":""},"","",null,null,null,null,null,{"$f":"IF(X429=\"\",\"\",INDEX(referentes!J:K,MATCH(X429,referentes!J:J,0),2))","v":""},null,null,""]
["30000401000000",null,0,{"$f":"IF(E430<>\"\",CONCATENATE(B430,A430,DIGITADOR!$M$1,C430),\"\")","v":""},null,null,"","","",null,426,"",{"$f":"IF(R430=R429,\"\",IF(E430<>\"\",CONCATENATE(B430,A430,DIGITADOR!$M$1,C430),\"\"))","v":""},null,{"$f":"IF(N430=\"\",\"\",INDEX(referentes!S:T,MATCH(N430,referentes!T:T,0),1))","v":""},null,{"$f":"IF(P430=\"\",\"\",INDEX(referentes!Y:Z,MATCH(P430,referentes!Z:Z,0),1))","v":""},"","",null,null,null,null,null,{"$f":"IF(X430=\"\",\"\",INDEX(referentes!J:K,MATCH(X430,referentes!J:J,0),2))","v":""},null,null,""]
["30000401000000",null,0,{"$f":"IF(E431<>\"\",CONCATENATE(B431,A431,DIGITADOR!$M$1,C431),\"\")","v":""},null,null,"","","",null,427,"",{"$f":"IF(R431=R430,\"\",IF(E431<>\"\",CONCATENATE(B431,A431,DIGITADOR!$M$1,C431),\"\"))","v":""},null,{"$f":"IF(N431=\"\",\"\",INDEX(referentes!S:T,MATCH(N431,referentes!T:T,0),1))","v":""},null,{"$f":"IF(P431=\"\",\"\",INDEX(referentes!Y:Z,MATCH(P431,referentes!Z:Z,0),1))","v":""},"","",null,null,null,null,null,{"$f":"IF(X431=\"\",\"\",INDEX(referentes!J:K,MATCH(X431,referentes!J:J,0),2))","v":""},null,null,""]
["30000401000000",null,0,{"$f":"IF(E432<>\"\",CONCATENATE(B432,A432,DIGITADOR!$M$1,C432),\"\")","v":""},null,null,"","","",null,428,"",{"$f":"IF(R432=R431,\"\",IF(E432<>\"\",CONCATENATE(B432,A432,DIGITADOR!$M$1,C432),\"\"))","v":""},null,{"$f":"IF(N432=\"\",\"\",INDEX(referentes!S:T,MATCH(N432,referentes!T:T,0),1))","v":""},null,{"$f":"IF(P432=\"\",\"\",INDEX(referentes!Y:Z,MATCH(P432,referentes!Z:Z,0),1))","v":""},"","",null,null,null,null,null,{"$f":"IF(X432=\"\",\"\",INDEX(referentes!J:K,MATCH(X432,referentes!J:J,0),2))","v":""},null,null,""]
["30000401000000",null,0,{"$f":"IF(E433<>\"\",CONCATENATE(B433,A433,DIGITADOR!$M$1,C433),\"\")","v":""},null,null,"","","",null,429,"",{"$f":"IF(R433=R432,\"\",IF(E433<>\"\",CONCATENATE(B433,A433,DIGITADOR!$M$1,C433),\"\"))","v":""},null,{"$f":"IF(N433=\"\",\"\",INDEX(referentes!S:T,MATCH(N433,referentes!T:T,0),1))","v":""},null,{"$f":"IF(P433=\"\",\"\",INDEX(referentes!Y:Z,MATCH(P433,referentes!Z:Z,0),1))","v":""},"","",null,null,null,null,null,{"$f":"IF(X433=\"\",\"\",INDEX(referentes!J:K,MATCH(X433,referentes!J:J,0),2))","v":""},null,null,""]
["30000401000000",null,0,{"$f":"IF(E434<>\"\",CONCATENATE(B434,A434,DIGITADOR!$M$1,C434),\"\")","v":""},null,null,"","","",null,430,"",{"$f":"IF(R434=R433,\"\",IF(E434<>\"\",CONCATENATE(B434,A434,DIGITADOR!$M$1,C434),\"\"))","v":""},null,{"$f":"IF(N434=\"\",\"\",INDEX(referentes!S:T,MATCH(N434,referentes!T:T,0),1))","v":""},null,{"$f":"IF(P434=\"\",\"\",INDEX(referentes!Y:Z,MATCH(P434,referentes!Z:Z,0),1))","v":""},"","",null,null,null,null,null,{"$f":"IF(X434=\"\",\"\",INDEX(referentes!J:K,MATCH(X434,referentes!J:J,0),2))","v":""},null,null,""]
["30000401000000",null,0,{"$f":"IF(E435<>\"\",CONCATENATE(B435,A435,DIGITADOR!$M$1,C435),\"\")","v":""},null,null,"","","",null,431,"",{"$f":"IF(R435=R434,\"\",IF(E435<>\"\",CONCATENATE(B435,A435,DIGITADOR!$M$1,C435),\"\"))","v":""},null,{"$f":"IF(N435=\"\",\"\",INDEX(referentes!S:T,MATCH(N435,referentes!T:T,0),1))","v":""},null,{"$f":"IF(P435=\"\",\"\",INDEX(referentes!Y:Z,MATCH(P435,referentes!Z:Z,0),1))","v":""},"","",null,null,null,null,null,{"$f":"IF(X435=\"\",\"\",INDEX(referentes!J:K,MATCH(X435,referentes!J:J,0),2))","v":""},null,null,""]
["30000401000000",null,0,{"$f":"IF(E436<>\"\",CONCATENATE(B436,A436,DIGITADOR!$M$1,C436),\"\")","v":""},null,null,"","","",null,432,"",{"$f":"IF(R436=R435,\"\",IF(E436<>\"\",CONCATENATE(B436,A436,DIGITADOR!$M$1,C436),\"\"))","v":""},null,{"$f":"IF(N436=\"\",\"\",INDEX(referentes!S:T,MATCH(N436,referentes!T:T,0),1))","v":""},null,{"$f":"IF(P436=\"\",\"\",INDEX(referentes!Y:Z,MATCH(P436,referentes!Z:Z,0),1))","v":""},"","",null,null,null,null,null,{"$f":"IF(X436=\"\",\"\",INDEX(referentes!J:K,MATCH(X436,referentes!J:J,0),2))","v":""},null,null,""]
["30000401000000",null,0,{"$f":"IF(E437<>\"\",CONCATENATE(B437,A437,DIGITADOR!$M$1,C437),\"\")","v":""},null,null,"","","",null,433,"",{"$f":"IF(R437=R436,\"\",IF(E437<>\"\",CONCATENATE(B437,A437,DIGITADOR!$M$1,C437),\"\"))","v":""},null,{"$f":"IF(N437=\"\",\"\",INDEX(referentes!S:T,MATCH(N437,referentes!T:T,0),1))","v":""},null,{"$f":"IF(P437=\"\",\"\",INDEX(referentes!Y:Z,MATCH(P437,referentes!Z:Z,0),1))","v":""},"","",null,null,null,null,null,{"$f":"IF(X437=\"\",\"\",INDEX(referentes!J:K,MATCH(X437,referentes!J:J,0),2))","v":""},null,null,""]
["30000401000000",null,0,{"$f":"IF(E438<>\"\",CONCATENATE(B438,A438,DIGITADOR!$M$1,C438),\"\")","v":""},null,null,"","","",null,434,"",{"$f":"IF(R438=R437,\"\",IF(E438<>\"\",CONCATENATE(B438,A438,DIGITADOR!$M$1,C438),\"\"))","v":""},null,{"$f":"IF(N438=\"\",\"\",INDEX(referentes!S:T,MATCH(N438,referentes!T:T,0),1))","v":""},null,{"$f":"IF(P438=\"\",\"\",INDEX(referentes!Y:Z,MATCH(P438,referentes!Z:Z,0),1))","v":""},"","",null,null,null,null,null,{"$f":"IF(X438=\"\",\"\",INDEX(referentes!J:K,MATCH(X438,referentes!J:J,0),2))","v":""},null,null,""]
["30000401000000",null,0,{"$f":"IF(E439<>\"\",CONCATENATE(B439,A439,DIGITADOR!$M$1,C439),\"\")","v":""},null,null,"","","",null,435,"",{"$f":"IF(R439=R438,\"\",IF(E439<>\"\",CONCATENATE(B439,A439,DIGITADOR!$M$1,C439),\"\"))","v":""},null,{"$f":"IF(N439=\"\",\"\",INDEX(referentes!S:T,MATCH(N439,referentes!T:T,0),1))","v":""},null,{"$f":"IF(P439=\"\",\"\",INDEX(referentes!Y:Z,MATCH(P439,referentes!Z:Z,0),1))","v":""},"","",null,null,null,null,null,{"$f":"IF(X439=\"\",\"\",INDEX(referentes!J:K,MATCH(X439,referentes!J:J,0),2))","v":""},null,null,""]
["30000401000000",null,0,{"$f":"IF(E440<>\"\",CONCATENATE(B440,A440,DIGITADOR!$M$1,C440),\"\")","v":""},null,null,"","","",null,436,"",{"$f":"IF(R440=R439,\"\",IF(E440<>\"\",CONCATENATE(B440,A440,DIGITADOR!$M$1,C440),\"\"))","v":""},null,{"$f":"IF(N440=\"\",\"\",INDEX(referentes!S:T,MATCH(N440,referentes!T:T,0),1))","v":""},null,{"$f":"IF(P440=\"\",\"\",INDEX(referentes!Y:Z,MATCH(P440,referentes!Z:Z,0),1))","v":""},"","",null,null,null,null,null,{"$f":"IF(X440=\"\",\"\",INDEX(referentes!J:K,MATCH(X440,referentes!J:J,0),2))","v":""},null,null,""]
["30000401000000",null,0,{"$f":"IF(E441<>\"\",CONCATENATE(B441,A441,DIGITADOR!$M$1,C441),\"\")","v":""},null,null,"","","",null,437,"",{"$f":"IF(R441=R440,\"\",IF(E441<>\"\",CONCATENATE(B441,A441,DIGITADOR!$M$1,C441),\"\"))","v":""},null,{"$f":"IF(N441=\"\",\"\",INDEX(referentes!S:T,MATCH(N441,referentes!T:T,0),1))","v":""},null,{"$f":"IF(P441=\"\",\"\",INDEX(referentes!Y:Z,MATCH(P441,referentes!Z:Z,0),1))","v":""},"","",null,null,null,null,null,{"$f":"IF(X441=\"\",\"\",INDEX(referentes!J:K,MATCH(X441,referentes!J:J,0),2))","v":""},null,null,""]
["30000401000000",null,0,{"$f":"IF(E442<>\"\",CONCATENATE(B442,A442,DIGITADOR!$M$1,C442),\"\")","v":""},null,null,"","","",null,438,"",{"$f":"IF(R442=R441,\"\",IF(E442<>\"\",CONCATENATE(B442,A442,DIGITADOR!$M$1,C442),\"\"))","v":""},null,{"$f":"IF(N442=\"\",\"\",INDEX(referentes!S:T,MATCH(N442,referentes!T:T,0),1))","v":""},null,{"$f":"IF(P442=\"\",\"\",INDEX(referentes!Y:Z,MATCH(P442,referentes!Z:Z,0),1))","v":""},"","",null,null,null,null,null,{"$f":"IF(X442=\"\",\"\",INDEX(referentes!J:K,MATCH(X442,referentes!J:J,0),2))","v":""},null,null,""]
["30000401000000",null,0,{"$f":"IF(E443<>\"\",CONCATENATE(B443,A443,DIGITADOR!$M$1,C443),\"\")","v":""},null,null,"","","",null,439,"",{"$f":"IF(R443=R442,\"\",IF(E443<>\"\",CONCATENATE(B443,A443,DIGITADOR!$M$1,C443),\"\"))","v":""},null,{"$f":"IF(N443=\"\",\"\",INDEX(referentes!S:T,MATCH(N443,referentes!T:T,0),1))","v":""},null,{"$f":"IF(P443=\"\",\"\",INDEX(referentes!Y:Z,MATCH(P443,referentes!Z:Z,0),1))","v":""},"","",null,null,null,null,null,{"$f":"IF(X443=\"\",\"\",INDEX(referentes!J:K,MATCH(X443,referentes!J:J,0),2))","v":""},null,null,""]
["30000401000000",null,0,{"$f":"IF(E444<>\"\",CONCATENATE(B444,A444,DIGITADOR!$M$1,C444),\"\")","v":""},null,null,"","","",null,440,"",{"$f":"IF(R444=R443,\"\",IF(E444<>\"\",CONCATENATE(B444,A444,DIGITADOR!$M$1,C444),\"\"))","v":""},null,{"$f":"IF(N444=\"\",\"\",INDEX(referentes!S:T,MATCH(N444,referentes!T:T,0),1))","v":""},null,{"$f":"IF(P444=\"\",\"\",INDEX(referentes!Y:Z,MATCH(P444,referentes!Z:Z,0),1))","v":""},"","",null,null,null,null,null,{"$f":"IF(X444=\"\",\"\",INDEX(referentes!J:K,MATCH(X444,referentes!J:J,0),2))","v":""},null,null,""]
["30000401000000",null,0,{"$f":"IF(E445<>\"\",CONCATENATE(B445,A445,DIGITADOR!$M$1,C445),\"\")","v":""},null,null,"","","",null,441,"",{"$f":"IF(R445=R444,\"\",IF(E445<>\"\",CONCATENATE(B445,A445,DIGITADOR!$M$1,C445),\"\"))","v":""},null,{"$f":"IF(N445=\"\",\"\",INDEX(referentes!S:T,MATCH(N445,referentes!T:T,0),1))","v":""},null,{"$f":"IF(P445=\"\",\"\",INDEX(referentes!Y:Z,MATCH(P445,referentes!Z:Z,0),1))","v":""},"","",null,null,null,null,null,{"$f":"IF(X445=\"\",\"\",INDEX(referentes!J:K,MATCH(X445,referentes!J:J,0),2))","v":""},null,null,""]
["30000401000000",null,0,{"$f":"IF(E446<>\"\",CONCATENATE(B446,A446,DIGITADOR!$M$1,C446),\"\")","v":""},null,null,"","","",null,442,"",{"$f":"IF(R446=R445,\"\",IF(E446<>\"\",CONCATENATE(B446,A446,DIGITADOR!$M$1,C446),\"\"))","v":""},null,{"$f":"IF(N446=\"\",\"\",INDEX(referentes!S:T,MATCH(N446,referentes!T:T,0),1))","v":""},null,{"$f":"IF(P446=\"\",\"\",INDEX(referentes!Y:Z,MATCH(P446,referentes!Z:Z,0),1))","v":""},"","",null,null,null,null,null,{"$f":"IF(X446=\"\",\"\",INDEX(referentes!J:K,MATCH(X446,referentes!J:J,0),2))","v":""},null,null,""]
["30000401000000",null,0,{"$f":"IF(E447<>\"\",CONCATENATE(B447,A447,DIGITADOR!$M$1,C447),\"\")","v":""},null,null,"","","",null,443,"",{"$f":"IF(R447=R446,\"\",IF(E447<>\"\",CONCATENATE(B447,A447,DIGITADOR!$M$1,C447),\"\"))","v":""},null,{"$f":"IF(N447=\"\",\"\",INDEX(referentes!S:T,MATCH(N447,referentes!T:T,0),1))","v":""},null,{"$f":"IF(P447=\"\",\"\",INDEX(referentes!Y:Z,MATCH(P447,referentes!Z:Z,0),1))","v":""},"","",null,null,null,null,null,{"$f":"IF(X447=\"\",\"\",INDEX(referentes!J:K,MATCH(X447,referentes!J:J,0),2))","v":""},null,null,""]
["30000401000000",null,0,{"$f":"IF(E448<>\"\",CONCATENATE(B448,A448,DIGITADOR!$M$1,C448),\"\")","v":""},null,null,"","","",null,444,"",{"$f":"IF(R448=R447,\"\",IF(E448<>\"\",CONCATENATE(B448,A448,DIGITADOR!$M$1,C448),\"\"))","v":""},null,{"$f":"IF(N448=\"\",\"\",INDEX(referentes!S:T,MATCH(N448,referentes!T:T,0),1))","v":""},null,{"$f":"IF(P448=\"\",\"\",INDEX(referentes!Y:Z,MATCH(P448,referentes!Z:Z,0),1))","v":""},"","",null,null,null,null,null,{"$f":"IF(X448=\"\",\"\",INDEX(referentes!J:K,MATCH(X448,referentes!J:J,0),2))","v":""},null,null,""]
["30000401000000",null,0,{"$f":"IF(E449<>\"\",CONCATENATE(B449,A449,DIGITADOR!$M$1,C449),\"\")","v":""},null,null,"","","",null,445,"",{"$f":"IF(R449=R448,\"\",IF(E449<>\"\",CONCATENATE(B449,A449,DIGITADOR!$M$1,C449),\"\"))","v":""},null,{"$f":"IF(N449=\"\",\"\",INDEX(referentes!S:T,MATCH(N449,referentes!T:T,0),1))","v":""},null,{"$f":"IF(P449=\"\",\"\",INDEX(referentes!Y:Z,MATCH(P449,referentes!Z:Z,0),1))","v":""},"","",null,null,null,null,null,{"$f":"IF(X449=\"\",\"\",INDEX(referentes!J:K,MATCH(X449,referentes!J:J,0),2))","v":""},null,null,""]
["30000401000000",null,0,{"$f":"IF(E450<>\"\",CONCATENATE(B450,A450,DIGITADOR!$M$1,C450),\"\")","v":""},null,null,"","","",null,446,"",{"$f":"IF(R450=R449,\"\",IF(E450<>\"\",CONCATENATE(B450,A450,DIGITADOR!$M$1,C450),\"\"))","v":""},null,{"$f":"IF(N450=\"\",\"\",INDEX(referentes!S:T,MATCH(N450,referentes!T:T,0),1))","v":""},null,{"$f":"IF(P450=\"\",\"\",INDEX(referentes!Y:Z,MATCH(P450,referentes!Z:Z,0),1))","v":""},"","",null,null,null,null,null,{"$f":"IF(X450=\"\",\"\",INDEX(referentes!J:K,MATCH(X450,referentes!J:J,0),2))","v":""},null,null,""]
["30000401000000",null,0,{"$f":"IF(E451<>\"\",CONCATENATE(B451,A451,DIGITADOR!$M$1,C451),\"\")","v":""},null,null,"","","",null,447,"",{"$f":"IF(R451=R450,\"\",IF(E451<>\"\",CONCATENATE(B451,A451,DIGITADOR!$M$1,C451),\"\"))","v":""},null,{"$f":"IF(N451=\"\",\"\",INDEX(referentes!S:T,MATCH(N451,referentes!T:T,0),1))","v":""},null,{"$f":"IF(P451=\"\",\"\",INDEX(referentes!Y:Z,MATCH(P451,referentes!Z:Z,0),1))","v":""},"","",null,null,null,null,null,{"$f":"IF(X451=\"\",\"\",INDEX(referentes!J:K,MATCH(X451,referentes!J:J,0),2))","v":""},null,null,""]
["30000401000000",null,0,{"$f":"IF(E452<>\"\",CONCATENATE(B452,A452,DIGITADOR!$M$1,C452),\"\")","v":""},null,null,"","","",null,448,"",{"$f":"IF(R452=R451,\"\",IF(E452<>\"\",CONCATENATE(B452,A452,DIGITADOR!$M$1,C452),\"\"))","v":""},null,{"$f":"IF(N452=\"\",\"\",INDEX(referentes!S:T,MATCH(N452,referentes!T:T,0),1))","v":""},null,{"$f":"IF(P452=\"\",\"\",INDEX(referentes!Y:Z,MATCH(P452,referentes!Z:Z,0),1))","v":""},"","",null,null,null,null,null,{"$f":"IF(X452=\"\",\"\",INDEX(referentes!J:K,MATCH(X452,referentes!J:J,0),2))","v":""},null,null,""]
["30000401000000",null,{"$f":"IF(R453=R452,C452,C452+1)","v":0},{"$f":"IF(E453<>\"\",CONCATENATE(B453,A453,DIGITADOR!$M$1,C453),\"\")","v":""},null,null,"","","",null,449,"",{"$f":"IF(R453=R452,\"\",IF(E453<>\"\",CONCATENATE(B453,A453,DIGITADOR!$M$1,C453),\"\"))","v":""},null,{"$f":"IF(N453=\"\",\"\",INDEX(referentes!S:T,MATCH(N453,referentes!T:T,0),1))","v":""},null,{"$f":"IF(P453=\"\",\"\",INDEX(referentes!Y:Z,MATCH(P453,referentes!Z:Z,0),1))","v":""},"","",null,null,null,null,null,{"$f":"IF(X453=\"\",\"\",INDEX(referentes!J:K,MATCH(X453,referentes!J:J,0),2))","v":""},null,null,""]
["30000401000000",null,0,{"$f":"IF(E454<>\"\",CONCATENATE(B454,A454,DIGITADOR!$M$1,C454),\"\")","v":""},null,null,{"$f":"IF(E454=\"\", \"\", (E454+F454))","v":""},{"$f":"IF(G454<>\"\",MONTH(G454),\"\")","v":""},{"$f":"IF(D454=\"\",\"\",1)","v":""},null,450,{"$f":"IF(E454=\"\",\"\",CONCATENATE(D454,K454))","v":""},{"$f":"IF(R454=R453,\"\",IF(E454<>\"\",CONCATENATE(B454,A454,DIGITADOR!$M$1,C454),\"\"))","v":""},null,{"$f":"IF(N454=\"\",\"\",INDEX(referentes!S:T,MATCH(N454,referentes!T:T,0),1))","v":""},null,{"$f":"IF(P454=\"\",\"\",INDEX(referentes!Y:Z,MATCH(P454,referentes!Z:Z,0),1))","v":""},{"$f":"IF(G454=\"\",\"\",CONCATENATE(G454,O454,Q454))","v":""},{"$f":"IF(E454=\"\",\"\",\"INVEMAR\")","v":""},null,null,null,null,null,{"$f":"IF(X454=\"\",\"\",INDEX(referentes!J:K,MATCH(X454,referentes!J:J,0),2))","v":""},null,null,{"$f":"IF(T454=\"\",\"\",IF(T454=T453,AB453,AA454))","v":""}]
[{"$f":"A454","v":"30000401000000"},null,0,{"$f":"IF(E455<>\"\",CONCATENATE(B455,A455,DIGITADOR!$M$1,C455),\"\")","v":""},null,null,"","","",null,451,"",{"$f":"IF(R455=R454,\"\",IF(E455<>\"\",CONCATENATE(B455,A455,DIGITADOR!$M$1,C455),\"\"))","v":""},null,{"$f":"IF(N455=\"\",\"\",INDEX(referentes!S:T,MATCH(N455,referentes!T:T,0),1))","v":""},null,{"$f":"IF(P455=\"\",\"\",INDEX(referentes!Y:Z,MATCH(P455,referentes!Z:Z,0),1))","v":""},"","",null,null,null,null,null,{"$f":"IF(X455=\"\",\"\",INDEX(referentes!J:K,MATCH(X455,referentes!J:J,0),2))","v":""},null,null,""]
["30000401000000",null,0,{"$f":"IF(E456<>\"\",CONCATENATE(B456,A456,DIGITADOR!$M$1,C456),\"\")","v":""},null,null,"","","",null,452,"",{"$f":"IF(R456=R455,\"\",IF(E456<>\"\",CONCATENATE(B456,A456,DIGITADOR!$M$1,C456),\"\"))","v":""},null,{"$f":"IF(N456=\"\",\"\",INDEX(referentes!S:T,MATCH(N456,referentes!T:T,0),1))","v":""},null,{"$f":"IF(P456=\"\",\"\",INDEX(referentes!Y:Z,MATCH(P456,referentes!Z:Z,0),1))","v":""},"","",null,null,null,null,null,{"$f":"IF(X456=\"\",\"\",INDEX(referentes!J:K,MATCH(X456,referentes!J:J,0),2))","v":""},null,null,""]
["30000401000000",null,0,{"$f":"IF(E457<>\"\",CONCATENATE(B457,A457,DIGITADOR!$M$1,C457),\"\")","v":""},null,null,"","","",null,453,"",{"$f":"IF(R457=R456,\"\",IF(E457<>\"\",CONCATENATE(B457,A457,DIGITADOR!$M$1,C457),\"\"))","v":""},null,{"$f":"IF(N457=\"\",\"\",INDEX(referentes!S:T,MATCH(N457,referentes!T:T,0),1))","v":""},null,{"$f":"IF(P457=\"\",\"\",INDEX(referentes!Y:Z,MATCH(P457,referentes!Z:Z,0),1))","v":""},"","",null,null,null,null,null,{"$f":"IF(X457=\"\",\"\",INDEX(referentes!J:K,MATCH(X457,referentes!J:J,0),2))","v":""},null,null,""]
["30000401000000",null,0,{"$f":"IF(E458<>\"\",CONCATENATE(B458,A458,DIGITADOR!$M$1,C458),\"\")","v":""},null,null,"","","",null,454,"",{"$f":"IF(R458=R457,\"\",IF(E458<>\"\",CONCATENATE(B458,A458,DIGITADOR!$M$1,C458),\"\"))","v":""},null,{"$f":"IF(N458=\"\",\"\",INDEX(referentes!S:T,MATCH(N458,referentes!T:T,0),1))","v":""},null,{"$f":"IF(P458=\"\",\"\",INDEX(referentes!Y:Z,MATCH(P458,referentes!Z:Z,0),1))","v":""},"","",null,null,null,null,null,{"$f":"IF(X458=\"\",\"\",INDEX(referentes!J:K,MATCH(X458,referentes!J:J,0),2))","v":""},null,null,""]
["30000401000000",null,0,{"$f":"IF(E459<>\"\",CONCATENATE(B459,A459,DIGITADOR!$M$1,C459),\"\")","v":""},null,null,"","","",null,455,"",{"$f":"IF(R459=R458,\"\",IF(E459<>\"\",CONCATENATE(B459,A459,DIGITADOR!$M$1,C459),\"\"))","v":""},null,{"$f":"IF(N459=\"\",\"\",INDEX(referentes!S:T,MATCH(N459,referentes!T:T,0),1))","v":""},null,{"$f":"IF(P459=\"\",\"\",INDEX(referentes!Y:Z,MATCH(P459,referentes!Z:Z,0),1))","v":""},"","",null,null,null,null,null,{"$f":"IF(X459=\"\",\"\",INDEX(referentes!J:K,MATCH(X459,referentes!J:J,0),2))","v":""},null,null,""]
["30000401000000",null,0,{"$f":"IF(E460<>\"\",CONCATENATE(B460,A460,DIGITADOR!$M$1,C460),\"\")","v":""},null,null,"","","",null,456,"",{"$f":"IF(R460=R459,\"\",IF(E460<>\"\",CONCATENATE(B460,A460,DIGITADOR!$M$1,C460),\"\"))","v":""},null,{"$f":"IF(N460=\"\",\"\",INDEX(referentes!S:T,MATCH(N460,referentes!T:T,0),1))","v":""},null,{"$f":"IF(P460=\"\",\"\",INDEX(referentes!Y:Z,MATCH(P460,referentes!Z:Z,0),1))","v":""},"","",null,null,null,null,null,{"$f":"IF(X460=\"\",\"\",INDEX(referentes!J:K,MATCH(X460,referentes!J:J,0),2))","v":""},null,null,""]
["30000401000000",null,0,{"$f":"IF(E461<>\"\",CONCATENATE(B461,A461,DIGITADOR!$M$1,C461),\"\")","v":""},null,null,"","","",null,457,"",{"$f":"IF(R461=R460,\"\",IF(E461<>\"\",CONCATENATE(B461,A461,DIGITADOR!$M$1,C461),\"\"))","v":""},null,{"$f":"IF(N461=\"\",\"\",INDEX(referentes!S:T,MATCH(N461,referentes!T:T,0),1))","v":""},null,{"$f":"IF(P461=\"\",\"\",INDEX(referentes!Y:Z,MATCH(P461,referentes!Z:Z,0),1))","v":""},"","",null,null,null,null,null,{"$f":"IF(X461=\"\",\"\",INDEX(referentes!J:K,MATCH(X461,referentes!J:J,0),2))","v":""},null,null,""]
["30000401000000",null,0,{"$f":"IF(E462<>\"\",CONCATENATE(B462,A462,DIGITADOR!$M$1,C462),\"\")","v":""},null,null,"","","",null,458,"",{"$f":"IF(R462=R461,\"\",IF(E462<>\"\",CONCATENATE(B462,A462,DIGITADOR!$M$1,C462),\"\"))","v":""},null,{"$f":"IF(N462=\"\",\"\",INDEX(referentes!S:T,MATCH(N462,referentes!T:T,0),1))","v":""},null,{"$f":"IF(P462=\"\",\"\",INDEX(referentes!Y:Z,MATCH(P462,referentes!Z:Z,0),1))","v":""},"","",null,null,null,null,null,{"$f":"IF(X462=\"\",\"\",INDEX(referentes!J:K,MATCH(X462,referentes!J:J,0),2))","v":""},null,null,""]
["30000401000000",null,0,{"$f":"IF(E463<>\"\",CONCATENATE(B463,A463,DIGITADOR!$M$1,C463),\"\")","v":""},null,null,"","","",null,459,"",{"$f":"IF(R463=R462,\"\",IF(E463<>\"\",CONCATENATE(B463,A463,DIGITADOR!$M$1,C463),\"\"))","v":""},null,{"$f":"IF(N463=\"\",\"\",INDEX(referentes!S:T,MATCH(N463,referentes!T:T,0),1))","v":""},null,{"$f":"IF(P463=\"\",\"\",INDEX(referentes!Y:Z,MATCH(P463,referentes!Z:Z,0),1))","v":""},"","",null,null,null,null,null,{"$f":"IF(X463=\"\",\"\",INDEX(referentes!J:K,MATCH(X463,referentes!J:J,0),2))","v":""},null,null,""]
["30000401000000",null,0,{"$f":"IF(E464<>\"\",CONCATENATE(B464,A464,DIGITADOR!$M$1,C464),\"\")","v":""},null,null,"","","",null,460,"",{"$f":"IF(R464=R463,\"\",IF(E464<>\"\",CONCATENATE(B464,A464,DIGITADOR!$M$1,C464),\"\"))","v":""},null,{"$f":"IF(N464=\"\",\"\",INDEX(referentes!S:T,MATCH(N464,referentes!T:T,0),1))","v":""},null,{"$f":"IF(P464=\"\",\"\",INDEX(referentes!Y:Z,MATCH(P464,referentes!Z:Z,0),1))","v":""},"","",null,null,null,null,null,{"$f":"IF(X464=\"\",\"\",INDEX(referentes!J:K,MATCH(X464,referentes!J:J,0),2))","v":""},null,null,""]
["30000401000000",null,0,{"$f":"IF(E465<>\"\",CONCATENATE(B465,A465,DIGITADOR!$M$1,C465),\"\")","v":""},null,null,"","","",null,461,"",{"$f":"IF(R465=R464,\"\",IF(E465<>\"\",CONCATENATE(B465,A465,DIGITADOR!$M$1,C465),\"\"))","v":""},null,{"$f":"IF(N465=\"\",\"\",INDEX(referentes!S:T,MATCH(N465,referentes!T:T,0),1))","v":""},null,{"$f":"IF(P465=\"\",\"\",INDEX(referentes!Y:Z,MATCH(P465,referentes!Z:Z,0),1))","v":""},"","",null,null,null,null,null,{"$f":"IF(X465=\"\",\"\",INDEX(referentes!J:K,MATCH(X465,referentes!J:J,0),2))","v":""},null,null,""]
["30000401000000",null,0,{"$f":"IF(E466<>\"\",CONCATENATE(B466,A466,DIGITADOR!$M$1,C466),\"\")","v":""},null,null,"","","",null,462,"",{"$f":"IF(R466=R465,\"\",IF(E466<>\"\",CONCATENATE(B466,A466,DIGITADOR!$M$1,C466),\"\"))","v":""},null,{"$f":"IF(N466=\"\",\"\",INDEX(referentes!S:T,MATCH(N466,referentes!T:T,0),1))","v":""},null,{"$f":"IF(P466=\"\",\"\",INDEX(referentes!Y:Z,MATCH(P466,referentes!Z:Z,0),1))","v":""},"","",null,null,null,null,null,{"$f":"IF(X466=\"\",\"\",INDEX(referentes!J:K,MATCH(X466,referentes!J:J,0),2))","v":""},null,null,""]
["30000401000000",null,0,{"$f":"IF(E467<>\"\",CONCATENATE(B467,A467,DIGITADOR!$M$1,C467),\"\")","v":""},null,null,"","","",null,463,"",{"$f":"IF(R467=R466,\"\",IF(E467<>\"\",CONCATENATE(B467,A467,DIGITADOR!$M$1,C467),\"\"))","v":""},null,{"$f":"IF(N467=\"\",\"\",INDEX(referentes!S:T,MATCH(N467,referentes!T:T,0),1))","v":""},null,{"$f":"IF(P467=\"\",\"\",INDEX(referentes!Y:Z,MATCH(P467,referentes!Z:Z,0),1))","v":""},"","",null,null,null,null,null,{"$f":"IF(X467=\"\",\"\",INDEX(referentes!J:K,MATCH(X467,referentes!J:J,0),2))","v":""},null,null,""]
["30000401000000",null,0,{"$f":"IF(E468<>\"\",CONCATENATE(B468,A468,DIGITADOR!$M$1,C468),\"\")","v":""},null,null,"","","",null,464,"",{"$f":"IF(R468=R467,\"\",IF(E468<>\"\",CONCATENATE(B468,A468,DIGITADOR!$M$1,C468),\"\"))","v":""},null,{"$f":"IF(N468=\"\",\"\",INDEX(referentes!S:T,MATCH(N468,referentes!T:T,0),1))","v":""},null,{"$f":"IF(P468=\"\",\"\",INDEX(referentes!Y:Z,MATCH(P468,referentes!Z:Z,0),1))","v":""},"","",null,null,null,null,null,{"$f":"IF(X468=\"\",\"\",INDEX(referentes!J:K,MATCH(X468,referentes!J:J,0),2))","v":""},null,null,""]
["30000401000000",null,0,{"$f":"IF(E469<>\"\",CONCATENATE(B469,A469,DIGITADOR!$M$1,C469),\"\")","v":""},null,null,"","","",null,465,"",{"$f":"IF(R469=R468,\"\",IF(E469<>\"\",CONCATENATE(B469,A469,DIGITADOR!$M$1,C469),\"\"))","v":""},null,{"$f":"IF(N469=\"\",\"\",INDEX(referentes!S:T,MATCH(N469,referentes!T:T,0),1))","v":""},null,{"$f":"IF(P469=\"\",\"\",INDEX(referentes!Y:Z,MATCH(P469,referentes!Z:Z,0),1))","v":""},"","",null,null,null,null,null,{"$f":"IF(X469=\"\",\"\",INDEX(referentes!J:K,MATCH(X469,referentes!J:J,0),2))","v":""},null,null,""]
["30000401000000",null,0,{"$f":"IF(E470<>\"\",CONCATENATE(B470,A470,DIGITADOR!$M$1,C470),\"\")","v":""},null,null,"","","",null,466,"",{"$f":"IF(R470=R469,\"\",IF(E470<>\"\",CONCATENATE(B470,A470,DIGITADOR!$M$1,C470),\"\"))","v":""},null,{"$f":"IF(N470=\"\",\"\",INDEX(referentes!S:T,MATCH(N470,referentes!T:T,0),1))","v":""},null,{"$f":"IF(P470=\"\",\"\",INDEX(referentes!Y:Z,MATCH(P470,referentes!Z:Z,0),1))","v":""},"","",null,null,null,null,null,{"$f":"IF(X470=\"\",\"\",INDEX(referentes!J:K,MATCH(X470,referentes!J:J,0),2))","v":""},null,null,""]
["30000401000000",null,0,{"$f":"IF(E471<>\"\",CONCATENATE(B471,A471,DIGITADOR!$M$1,C471),\"\")","v":""},null,null,"","","",null,467,"",{"$f":"IF(R471=R470,\"\",IF(E471<>\"\",CONCATENATE(B471,A471,DIGITADOR!$M$1,C471),\"\"))","v":""},null,{"$f":"IF(N471=\"\",\"\",INDEX(referentes!S:T,MATCH(N471,referentes!T:T,0),1))","v":""},null,{"$f":"IF(P471=\"\",\"\",INDEX(referentes!Y:Z,MATCH(P471,referentes!Z:Z,0),1))","v":""},"","",null,null,null,null,null,{"$f":"IF(X471=\"\",\"\",INDEX(referentes!J:K,MATCH(X471,referentes!J:J,0),2))","v":""},null,null,""]
["30000401000000",null,0,{"$f":"IF(E472<>\"\",CONCATENATE(B472,A472,DIGITADOR!$M$1,C472),\"\")","v":""},null,null,"","","",null,468,"",{"$f":"IF(R472=R471,\"\",IF(E472<>\"\",CONCATENATE(B472,A472,DIGITADOR!$M$1,C472),\"\"))","v":""},null,{"$f":"IF(N472=\"\",\"\",INDEX(referentes!S:T,MATCH(N472,referentes!T:T,0),1))","v":""},null,{"$f":"IF(P472=\"\",\"\",INDEX(referentes!Y:Z,MATCH(P472,referentes!Z:Z,0),1))","v":""},"","",null,null,null,null,null,{"$f":"IF(X472=\"\",\"\",INDEX(referentes!J:K,MATCH(X472,referentes!J:J,0),2))","v":""},null,null,""]
["30000401000000",null,0,{"$f":"IF(E473<>\"\",CONCATENATE(B473,A473,DIGITADOR!$M$1,C473),\"\")","v":""},null,null,"","","",null,469,"",{"$f":"IF(R473=R472,\"\",IF(E473<>\"\",CONCATENATE(B473,A473,DIGITADOR!$M$1,C473),\"\"))","v":""},null,{"$f":"IF(N473=\"\",\"\",INDEX(referentes!S:T,MATCH(N473,referentes!T:T,0),1))","v":""},null,{"$f":"IF(P473=\"\",\"\",INDEX(referentes!Y:Z,MATCH(P473,referentes!Z:Z,0),1))","v":""},"","",null,null,null,null,null,{"$f":"IF(X473=\"\",\"\",INDEX(referentes!J:K,MATCH(X473,referentes!J:J,0),2))","v":""},null,null,""]
["30000401000000",null,0,{"$f":"IF(E474<>\"\",CONCATENATE(B474,A474,DIGITADOR!$M$1,C474),\"\")","v":""},null,null,"","","",null,470,"",{"$f":"IF(R474=R473,\"\",IF(E474<>\"\",CONCATENATE(B474,A474,DIGITADOR!$M$1,C474),\"\"))","v":""},null,{"$f":"IF(N474=\"\",\"\",INDEX(referentes!S:T,MATCH(N474,referentes!T:T,0),1))","v":""},null,{"$f":"IF(P474=\"\",\"\",INDEX(referentes!Y:Z,MATCH(P474,referentes!Z:Z,0),1))","v":""},"","",null,null,null,null,null,{"$f":"IF(X474=\"\",\"\",INDEX(referentes!J:K,MATCH(X474,referentes!J:J,0),2))","v":""},null,null,""]
["30000401000000",null,0,{"$f":"IF(E475<>\"\",CONCATENATE(B475,A475,DIGITADOR!$M$1,C475),\"\")","v":""},null,null,"","","",null,471,"",{"$f":"IF(R475=R474,\"\",IF(E475<>\"\",CONCATENATE(B475,A475,DIGITADOR!$M$1,C475),\"\"))","v":""},null,{"$f":"IF(N475=\"\",\"\",INDEX(referentes!S:T,MATCH(N475,referentes!T:T,0),1))","v":""},null,{"$f":"IF(P475=\"\",\"\",INDEX(referentes!Y:Z,MATCH(P475,referentes!Z:Z,0),1))","v":""},"","",null,null,null,null,null,{"$f":"IF(X475=\"\",\"\",INDEX(referentes!J:K,MATCH(X475,referentes!J:J,0),2))","v":""},null,null,""]
["30000401000000",null,0,{"$f":"IF(E476<>\"\",CONCATENATE(B476,A476,DIGITADOR!$M$1,C476),\"\")","v":""},null,null,"","","",null,472,"",{"$f":"IF(R476=R475,\"\",IF(E476<>\"\",CONCATENATE(B476,A476,DIGITADOR!$M$1,C476),\"\"))","v":""},null,{"$f":"IF(N476=\"\",\"\",INDEX(referentes!S:T,MATCH(N476,referentes!T:T,0),1))","v":""},null,{"$f":"IF(P476=\"\",\"\",INDEX(referentes!Y:Z,MATCH(P476,referentes!Z:Z,0),1))","v":""},"","",null,null,null,null,null,{"$f":"IF(X476=\"\",\"\",INDEX(referentes!J:K,MATCH(X476,referentes!J:J,0),2))","v":""},null,null,""]
["30000401000000",null,0,{"$f":"IF(E477<>\"\",CONCATENATE(B477,A477,DIGITADOR!$M$1,C477),\"\")","v":""},null,null,"","","",null,473,"",{"$f":"IF(R477=R476,\"\",IF(E477<>\"\",CONCATENATE(B477,A477,DIGITADOR!$M$1,C477),\"\"))","v":""},null,{"$f":"IF(N477=\"\",\"\",INDEX(referentes!S:T,MATCH(N477,referentes!T:T,0),1))","v":""},null,{"$f":"IF(P477=\"\",\"\",INDEX(referentes!Y:Z,MATCH(P477,referentes!Z:Z,0),1))","v":""},"","",null,null,null,null,null,{"$f":"IF(X477=\"\",\"\",INDEX(referentes!J:K,MATCH(X477,referentes!J:J,0),2))","v":""},null,null,""]
["30000401000000",null,0,{"$f":"IF(E478<>\"\",CONCATENATE(B478,A478,DIGITADOR!$M$1,C478),\"\")","v":""},null,null,"","","",null,474,"",{"$f":"IF(R478=R477,\"\",IF(E478<>\"\",CONCATENATE(B478,A478,DIGITADOR!$M$1,C478),\"\"))","v":""},null,{"$f":"IF(N478=\"\",\"\",INDEX(referentes!S:T,MATCH(N478,referentes!T:T,0),1))","v":""},null,{"$f":"IF(P478=\"\",\"\",INDEX(referentes!Y:Z,MATCH(P478,referentes!Z:Z,0),1))","v":""},"","",null,null,null,null,null,{"$f":"IF(X478=\"\",\"\",INDEX(referentes!J:K,MATCH(X478,referentes!J:J,0),2))","v":""},null,null,""]
["30000401000000",null,0,{"$f":"IF(E479<>\"\",CONCATENATE(B479,A479,DIGITADOR!$M$1,C479),\"\")","v":""},null,null,"","","",null,475,"",{"$f":"IF(R479=R478,\"\",IF(E479<>\"\",CONCATENATE(B479,A479,DIGITADOR!$M$1,C479),\"\"))","v":""},null,{"$f":"IF(N479=\"\",\"\",INDEX(referentes!S:T,MATCH(N479,referentes!T:T,0),1))","v":""},null,{"$f":"IF(P479=\"\",\"\",INDEX(referentes!Y:Z,MATCH(P479,referentes!Z:Z,0),1))","v":""},"","",null,null,null,null,null,{"$f":"IF(X479=\"\",\"\",INDEX(referentes!J:K,MATCH(X479,referentes!J:J,0),2))","v":""},null,null,""]
["30000401000000",null,0,{"$f":"IF(E480<>\"\",CONCATENATE(B480,A480,DIGITADOR!$M$1,C480),\"\")","v":""},null,null,"","","",null,476,"",{"$f":"IF(R480=R479,\"\",IF(E480<>\"\",CONCATENATE(B480,A480,DIGITADOR!$M$1,C480),\"\"))","v":""},null,{"$f":"IF(N480=\"\",\"\",INDEX(referentes!S:T,MATCH(N480,referentes!T:T,0),1))","v":""},null,{"$f":"IF(P480=\"\",\"\",INDEX(referentes!Y:Z,MATCH(P480,referentes!Z:Z,0),1))","v":""},"","",null,null,null,null,null,{"$f":"IF(X480=\"\",\"\",INDEX(referentes!J:K,MATCH(X480,referentes!J:J,0),2))","v":""},null,null,""]
["30000401000000",null,0,{"$f":"IF(E481<>\"\",CONCATENATE(B481,A481,DIGITADOR!$M$1,C481),\"\")","v":""},null,null,"","","",null,477,"",{"$f":"IF(R481=R480,\"\",IF(E481<>\"\",CONCATENATE(B481,A481,DIGITADOR!$M$1,C481),\"\"))","v":""},null,{"$f":"IF(N481=\"\",\"\",INDEX(referentes!S:T,MATCH(N481,referentes!T:T,0),1))","v":""},null,{"$f":"IF(P481=\"\",\"\",INDEX(referentes!Y:Z,MATCH(P481,referentes!Z:Z,0),1))","v":""},"","",null,null,null,null,null,{"$f":"IF(X481=\"\",\"\",INDEX(referentes!J:K,MATCH(X481,referentes!J:J,0),2))","v":""},null,null,""]
["30000401000000",null,0,{"$f":"IF(E482<>\"\",CONCATENATE(B482,A482,DIGITADOR!$M$1,C482),\"\")","v":""},null,null,"","","",null,478,"",{"$f":"IF(R482=R481,\"\",IF(E482<>\"\",CONCATENATE(B482,A482,DIGITADOR!$M$1,C482),\"\"))","v":""},null,{"$f":"IF(N482=\"\",\"\",INDEX(referentes!S:T,MATCH(N482,referentes!T:T,0),1))","v":""},null,{"$f":"IF(P482=\"\",\"\",INDEX(referentes!Y:Z,MATCH(P482,referentes!Z:Z,0),1))","v":""},"","",null,null,null,null,null,{"$f":"IF(X482=\"\",\"\",INDEX(referentes!J:K,MATCH(X482,referentes!J:J,0),2))","v":""},null,null,""]
["30000401000000",null,0,{"$f":"IF(E483<>\"\",CONCATENATE(B483,A483,DIGITADOR!$M$1,C483),\"\")","v":""},null,null,"","","",null,479,"",{"$f":"IF(R483=R482,\"\",IF(E483<>\"\",CONCATENATE(B483,A483,DIGITADOR!$M$1,C483),\"\"))","v":""},null,{"$f":"IF(N483=\"\",\"\",INDEX(referentes!S:T,MATCH(N483,referentes!T:T,0),1))","v":""},null,{"$f":"IF(P483=\"\",\"\",INDEX(referentes!Y:Z,MATCH(P483,referentes!Z:Z,0),1))","v":""},"","",null,null,null,null,null,{"$f":"IF(X483=\"\",\"\",INDEX(referentes!J:K,MATCH(X483,referentes!J:J,0),2))","v":""},null,null,""]
["30000401000000",null,0,{"$f":"IF(E484<>\"\",CONCATENATE(B484,A484,DIGITADOR!$M$1,C484),\"\")","v":""},null,null,"","","",null,480,"",{"$f":"IF(R484=R483,\"\",IF(E484<>\"\",CONCATENATE(B484,A484,DIGITADOR!$M$1,C484),\"\"))","v":""},null,{"$f":"IF(N484=\"\",\"\",INDEX(referentes!S:T,MATCH(N484,referentes!T:T,0),1))","v":""},null,{"$f":"IF(P484=\"\",\"\",INDEX(referentes!Y:Z,MATCH(P484,referentes!Z:Z,0),1))","v":""},"","",null,null,null,null,null,{"$f":"IF(X484=\"\",\"\",INDEX(referentes!J:K,MATCH(X484,referentes!J:J,0),2))","v":""},null,null,""]
["30000401000000",null,0,{"$f":"IF(E485<>\"\",CONCATENATE(B485,A485,DIGITADOR!$M$1,C485),\"\")","v":""},null,null,"","","",null,481,"",{"$f":"IF(R485=R484,\"\",IF(E485<>\"\",CONCATENATE(B485,A485,DIGITADOR!$M$1,C485),\"\"))","v":""},null,{"$f":"IF(N485=\"\",\"\",INDEX(referentes!S:T,MATCH(N485,referentes!T:T,0),1))","v":""},null,{"$f":"IF(P485=\"\",\"\",INDEX(referentes!Y:Z,MATCH(P485,referentes!Z:Z,0),1))","v":""},"","",null,null,null,null,null,{"$f":"IF(X485=\"\",\"\",INDEX(referentes!J:K,MATCH(X485,referentes!J:J,0),2))","v":""},null,null,""]
["30000401000000",null,0,{"$f":"IF(E486<>\"\",CONCATENATE(B486,A486,DIGITADOR!$M$1,C486),\"\")","v":""},null,null,"","","",null,482,"",{"$f":"IF(R486=R485,\"\",IF(E486<>\"\",CONCATENATE(B486,A486,DIGITADOR!$M$1,C486),\"\"))","v":""},null,{"$f":"IF(N486=\"\",\"\",INDEX(referentes!S:T,MATCH(N486,referentes!T:T,0),1))","v":""},null,{"$f":"IF(P486=\"\",\"\",INDEX(referentes!Y:Z,MATCH(P486,referentes!Z:Z,0),1))","v":""},"","",null,null,null,null,null,{"$f":"IF(X486=\"\",\"\",INDEX(referentes!J:K,MATCH(X486,referentes!J:J,0),2))","v":""},null,null,""]
["30000401000000",null,0,{"$f":"IF(E487<>\"\",CONCATENATE(B487,A487,DIGITADOR!$M$1,C487),\"\")","v":""},null,null,"","","",null,483,"",{"$f":"IF(R487=R486,\"\",IF(E487<>\"\",CONCATENATE(B487,A487,DIGITADOR!$M$1,C487),\"\"))","v":""},null,{"$f":"IF(N487=\"\",\"\",INDEX(referentes!S:T,MATCH(N487,referentes!T:T,0),1))","v":""},null,{"$f":"IF(P487=\"\",\"\",INDEX(referentes!Y:Z,MATCH(P487,referentes!Z:Z,0),1))","v":""},"","",null,null,null,null,null,{"$f":"IF(X487=\"\",\"\",INDEX(referentes!J:K,MATCH(X487,referentes!J:J,0),2))","v":""},null,null,""]
["30000401000000",null,0,{"$f":"IF(E488<>\"\",CONCATENATE(B488,A488,DIGITADOR!$M$1,C488),\"\")","v":""},null,null,"","","",null,484,"",{"$f":"IF(R488=R487,\"\",IF(E488<>\"\",CONCATENATE(B488,A488,DIGITADOR!$M$1,C488),\"\"))","v":""},null,{"$f":"IF(N488=\"\",\"\",INDEX(referentes!S:T,MATCH(N488,referentes!T:T,0),1))","v":""},null,{"$f":"IF(P488=\"\",\"\",INDEX(referentes!Y:Z,MATCH(P488,referentes!Z:Z,0),1))","v":""},"","",null,null,null,null,null,{"$f":"IF(X488=\"\",\"\",INDEX(referentes!J:K,MATCH(X488,referentes!J:J,0),2))","v":""},null,null,""]
["30000401000000",null,0,{"$f":"IF(E489<>\"\",CONCATENATE(B489,A489,DIGITADOR!$M$1,C489),\"\")","v":""},null,null,"","","",null,485,"",{"$f":"IF(R489=R488,\"\",IF(E489<>\"\",CONCATENATE(B489,A489,DIGITADOR!$M$1,C489),\"\"))","v":""},null,{"$f":"IF(N489=\"\",\"\",INDEX(referentes!S:T,MATCH(N489,referentes!T:T,0),1))","v":""},null,{"$f":"IF(P489=\"\",\"\",INDEX(referentes!Y:Z,MATCH(P489,referentes!Z:Z,0),1))","v":""},"","",null,null,null,null,null,{"$f":"IF(X489=\"\",\"\",INDEX(referentes!J:K,MATCH(X489,referentes!J:J,0),2))","v":""},null,null,""]
["30000401000000",null,0,{"$f":"IF(E490<>\"\",CONCATENATE(B490,A490,DIGITADOR!$M$1,C490),\"\")","v":""},null,null,"","","",null,486,"",{"$f":"IF(R490=R489,\"\",IF(E490<>\"\",CONCATENATE(B490,A490,DIGITADOR!$M$1,C490),\"\"))","v":""},null,{"$f":"IF(N490=\"\",\"\",INDEX(referentes!S:T,MATCH(N490,referentes!T:T,0),1))","v":""},null,{"$f":"IF(P490=\"\",\"\",INDEX(referentes!Y:Z,MATCH(P490,referentes!Z:Z,0),1))","v":""},"","",null,null,null,null,null,{"$f":"IF(X490=\"\",\"\",INDEX(referentes!J:K,MATCH(X490,referentes!J:J,0),2))","v":""},null,null,""]
["30000401000000",null,0,{"$f":"IF(E491<>\"\",CONCATENATE(B491,A491,DIGITADOR!$M$1,C491),\"\")","v":""},null,null,"","","",null,487,"",{"$f":"IF(R491=R490,\"\",IF(E491<>\"\",CONCATENATE(B491,A491,DIGITADOR!$M$1,C491),\"\"))","v":""},null,{"$f":"IF(N491=\"\",\"\",INDEX(referentes!S:T,MATCH(N491,referentes!T:T,0),1))","v":""},null,{"$f":"IF(P491=\"\",\"\",INDEX(referentes!Y:Z,MATCH(P491,referentes!Z:Z,0),1))","v":""},"","",null,null,null,null,null,{"$f":"IF(X491=\"\",\"\",INDEX(referentes!J:K,MATCH(X491,referentes!J:J,0),2))","v":""},null,null,""]
["30000401000000",null,0,{"$f":"IF(E492<>\"\",CONCATENATE(B492,A492,DIGITADOR!$M$1,C492),\"\")","v":""},null,null,"","","",null,488,"",{"$f":"IF(R492=R491,\"\",IF(E492<>\"\",CONCATENATE(B492,A492,DIGITADOR!$M$1,C492),\"\"))","v":""},null,{"$f":"IF(N492=\"\",\"\",INDEX(referentes!S:T,MATCH(N492,referentes!T:T,0),1))","v":""},null,{"$f":"IF(P492=\"\",\"\",INDEX(referentes!Y:Z,MATCH(P492,referentes!Z:Z,0),1))","v":""},"","",null,null,null,null,null,{"$f":"IF(X492=\"\",\"\",INDEX(referentes!J:K,MATCH(X492,referentes!J:J,0),2))","v":""},null,null,""]
["30000401000000",null,0,{"$f":"IF(E493<>\"\",CONCATENATE(B493,A493,DIGITADOR!$M$1,C493),\"\")","v":""},null,null,"","","",null,489,"",{"$f":"IF(R493=R492,\"\",IF(E493<>\"\",CONCATENATE(B493,A493,DIGITADOR!$M$1,C493),\"\"))","v":""},null,{"$f":"IF(N493=\"\",\"\",INDEX(referentes!S:T,MATCH(N493,referentes!T:T,0),1))","v":""},null,{"$f":"IF(P493=\"\",\"\",INDEX(referentes!Y:Z,MATCH(P493,referentes!Z:Z,0),1))","v":""},"","",null,null,null,null,null,{"$f":"IF(X493=\"\",\"\",INDEX(referentes!J:K,MATCH(X493,referentes!J:J,0),2))","v":""},null,null,""]
["30000401000000",null,0,{"$f":"IF(E494<>\"\",CONCATENATE(B494,A494,DIGITADOR!$M$1,C494),\"\")","v":""},null,null,"","","",null,490,"",{"$f":"IF(R494=R493,\"\",IF(E494<>\"\",CONCATENATE(B494,A494,DIGITADOR!$M$1,C494),\"\"))","v":""},null,{"$f":"IF(N494=\"\",\"\",INDEX(referentes!S:T,MATCH(N494,referentes!T:T,0),1))","v":""},null,{"$f":"IF(P494=\"\",\"\",INDEX(referentes!Y:Z,MATCH(P494,referentes!Z:Z,0),1))","v":""},"","",null,null,null,null,null,{"$f":"IF(X494=\"\",\"\",INDEX(referentes!J:K,MATCH(X494,referentes!J:J,0),2))","v":""},null,null,""]
["30000401000000",null,0,{"$f":"IF(E495<>\"\",CONCATENATE(B495,A495,DIGITADOR!$M$1,C495),\"\")","v":""},null,null,"","","",null,491,"",{"$f":"IF(R495=R494,\"\",IF(E495<>\"\",CONCATENATE(B495,A495,DIGITADOR!$M$1,C495),\"\"))","v":""},null,{"$f":"IF(N495=\"\",\"\",INDEX(referentes!S:T,MATCH(N495,referentes!T:T,0),1))","v":""},null,{"$f":"IF(P495=\"\",\"\",INDEX(referentes!Y:Z,MATCH(P495,referentes!Z:Z,0),1))","v":""},"","",null,null,null,null,null,{"$f":"IF(X495=\"\",\"\",INDEX(referentes!J:K,MATCH(X495,referentes!J:J,0),2))","v":""},null,null,""]
["30000401000000",null,0,{"$f":"IF(E496<>\"\",CONCATENATE(B496,A496,DIGITADOR!$M$1,C496),\"\")","v":""},null,null,"","","",null,492,"",{"$f":"IF(R496=R495,\"\",IF(E496<>\"\",CONCATENATE(B496,A496,DIGITADOR!$M$1,C496),\"\"))","v":""},null,{"$f":"IF(N496=\"\",\"\",INDEX(referentes!S:T,MATCH(N496,referentes!T:T,0),1))","v":""},null,{"$f":"IF(P496=\"\",\"\",INDEX(referentes!Y:Z,MATCH(P496,referentes!Z:Z,0),1))","v":""},"","",null,null,null,null,null,{"$f":"IF(X496=\"\",\"\",INDEX(referentes!J:K,MATCH(X496,referentes!J:J,0),2))","v":""},null,null,""]
["30000401000000",null,0,{"$f":"IF(E497<>\"\",CONCATENATE(B497,A497,DIGITADOR!$M$1,C497),\"\")","v":""},null,null,"","","",null,493,"",{"$f":"IF(R497=R496,\"\",IF(E497<>\"\",CONCATENATE(B497,A497,DIGITADOR!$M$1,C497),\"\"))","v":""},null,{"$f":"IF(N497=\"\",\"\",INDEX(referentes!S:T,MATCH(N497,referentes!T:T,0),1))","v":""},null,{"$f":"IF(P497=\"\",\"\",INDEX(referentes!Y:Z,MATCH(P497,referentes!Z:Z,0),1))","v":""},"","",null,null,null,null,null,{"$f":"IF(X497=\"\",\"\",INDEX(referentes!J:K,MATCH(X497,referentes!J:J,0),2))","v":""},null,null,""]
["30000401000000",null,0,{"$f":"IF(E498<>\"\",CONCATENATE(B498,A498,DIGITADOR!$M$1,C498),\"\")","v":""},null,null,"","","",null,494,"",{"$f":"IF(R498=R497,\"\",IF(E498<>\"\",CONCATENATE(B498,A498,DIGITADOR!$M$1,C498),\"\"))","v":""},null,{"$f":"IF(N498=\"\",\"\",INDEX(referentes!S:T,MATCH(N498,referentes!T:T,0),1))","v":""},null,{"$f":"IF(P498=\"\",\"\",INDEX(referentes!Y:Z,MATCH(P498,referentes!Z:Z,0),1))","v":""},"","",null,null,null,null,null,{"$f":"IF(X498=\"\",\"\",INDEX(referentes!J:K,MATCH(X498,referentes!J:J,0),2))","v":""},null,null,""]
["30000401000000",null,0,{"$f":"IF(E499<>\"\",CONCATENATE(B499,A499,DIGITADOR!$M$1,C499),\"\")","v":""},null,null,"","","",null,495,"",{"$f":"IF(R499=R498,\"\",IF(E499<>\"\",CONCATENATE(B499,A499,DIGITADOR!$M$1,C499),\"\"))","v":""},null,{"$f":"IF(N499=\"\",\"\",INDEX(referentes!S:T,MATCH(N499,referentes!T:T,0),1))","v":""},null,{"$f":"IF(P499=\"\",\"\",INDEX(referentes!Y:Z,MATCH(P499,referentes!Z:Z,0),1))","v":""},"","",null,null,null,null,null,{"$f":"IF(X499=\"\",\"\",INDEX(referentes!J:K,MATCH(X499,referentes!J:J,0),2))","v":""},null,null,""]
["30000401000000",null,0,{"$f":"IF(E500<>\"\",CONCATENATE(B500,A500,DIGITADOR!$M$1,C500),\"\")","v":""},null,null,"","","",null,496,"",{"$f":"IF(R500=R499,\"\",IF(E500<>\"\",CONCATENATE(B500,A500,DIGITADOR!$M$1,C500),\"\"))","v":""},null,{"$f":"IF(N500=\"\",\"\",INDEX(referentes!S:T,MATCH(N500,referentes!T:T,0),1))","v":""},null,{"$f":"IF(P500=\"\",\"\",INDEX(referentes!Y:Z,MATCH(P500,referentes!Z:Z,0),1))","v":""},"","",null,null,null,null,null,{"$f":"IF(X500=\"\",\"\",INDEX(referentes!J:K,MATCH(X500,referentes!J:J,0),2))","v":""},null,null,""]
["30000401000000",null,0,{"$f":"IF(E501<>\"\",CONCATENATE(B501,A501,DIGITADOR!$M$1,C501),\"\")","v":""},null,null,"","","",null,497,"",{"$f":"IF(R501=R500,\"\",IF(E501<>\"\",CONCATENATE(B501,A501,DIGITADOR!$M$1,C501),\"\"))","v":""},null,{"$f":"IF(N501=\"\",\"\",INDEX(referentes!S:T,MATCH(N501,referentes!T:T,0),1))","v":""},null,{"$f":"IF(P501=\"\",\"\",INDEX(referentes!Y:Z,MATCH(P501,referentes!Z:Z,0),1))","v":""},"","",null,null,null,null,null,{"$f":"IF(X501=\"\",\"\",INDEX(referentes!J:K,MATCH(X501,referentes!J:J,0),2))","v":""},null,null,""]
["30000401000000",null,0,{"$f":"IF(E502<>\"\",CONCATENATE(B502,A502,DIGITADOR!$M$1,C502),\"\")","v":""},null,null,"","","",null,498,"",{"$f":"IF(R502=R501,\"\",IF(E502<>\"\",CONCATENATE(B502,A502,DIGITADOR!$M$1,C502),\"\"))","v":""},null,{"$f":"IF(N502=\"\",\"\",INDEX(referentes!S:T,MATCH(N502,referentes!T:T,0),1))","v":""},null,{"$f":"IF(P502=\"\",\"\",INDEX(referentes!Y:Z,MATCH(P502,referentes!Z:Z,0),1))","v":""},"","",null,null,null,null,null,{"$f":"IF(X502=\"\",\"\",INDEX(referentes!J:K,MATCH(X502,referentes!J:J,0),2))","v":""},null,null,""]
["30000401000000",null,0,{"$f":"IF(E503<>\"\",CONCATENATE(B503,A503,DIGITADOR!$M$1,C503),\"\")","v":""},null,null,"","","",null,499,"",{"$f":"IF(R503=R502,\"\",IF(E503<>\"\",CONCATENATE(B503,A503,DIGITADOR!$M$1,C503),\"\"))","v":""},null,{"$f":"IF(N503=\"\",\"\",INDEX(referentes!S:T,MATCH(N503,referentes!T:T,0),1))","v":""},null,{"$f":"IF(P503=\"\",\"\",INDEX(referentes!Y:Z,MATCH(P503,referentes!Z:Z,0),1))","v":""},"","",null,null,null,null,null,{"$f":"IF(X503=\"\",\"\",INDEX(referentes!J:K,MATCH(X503,referentes!J:J,0),2))","v":""},null,null,""]
["30000401000000",null,0,{"$f":"IF(E504<>\"\",CONCATENATE(B504,A504,DIGITADOR!$M$1,C504),\"\")","v":""},null,null,"","","",null,500,"",{"$f":"IF(R504=R503,\"\",IF(E504<>\"\",CONCATENATE(B504,A504,DIGITADOR!$M$1,C504),\"\"))","v":""},null,{"$f":"IF(N504=\"\",\"\",INDEX(referentes!S:T,MATCH(N504,referentes!T:T,0),1))","v":""},null,{"$f":"IF(P504=\"\",\"\",INDEX(referentes!Y:Z,MATCH(P504,referentes!Z:Z,0),1))","v":""},"","",null,null,null,null,null,{"$f":"IF(X504=\"\",\"\",INDEX(referentes!J:K,MATCH(X504,referentes!J:J,0),2))","v":""},null,null,""]
["30000401000000",null,0,{"$f":"IF(E505<>\"\",CONCATENATE(B505,A505,DIGITADOR!$M$1,C505),\"\")","v":""},null,null,"","","",null,501,"",{"$f":"IF(R505=R504,\"\",IF(E505<>\"\",CONCATENATE(B505,A505,DIGITADOR!$M$1,C505),\"\"))","v":""},null,{"$f":"IF(N505=\"\",\"\",INDEX(referentes!S:T,MATCH(N505,referentes!T:T,0),1))","v":""},null,{"$f":"IF(P505=\"\",\"\",INDEX(referentes!Y:Z,MATCH(P505,referentes!Z:Z,0),1))","v":""},"","",null,null,null,null,null,{"$f":"IF(X505=\"\",\"\",INDEX(referentes!J:K,MATCH(X505,referentes!J:J,0),2))","v":""},null,null,""]
["30000401000000",null,0,{"$f":"IF(E506<>\"\",CONCATENATE(B506,A506,DIGITADOR!$M$1,C506),\"\")","v":""},null,null,"","","",null,502,"",{"$f":"IF(R506=R505,\"\",IF(E506<>\"\",CONCATENATE(B506,A506,DIGITADOR!$M$1,C506),\"\"))","v":""},null,{"$f":"IF(N506=\"\",\"\",INDEX(referentes!S:T,MATCH(N506,referentes!T:T,0),1))","v":""},null,{"$f":"IF(P506=\"\",\"\",INDEX(referentes!Y:Z,MATCH(P506,referentes!Z:Z,0),1))","v":""},"","",null,null,null,null,null,{"$f":"IF(X506=\"\",\"\",INDEX(referentes!J:K,MATCH(X506,referentes!J:J,0),2))","v":""},null,null,""]
["30000401000000",null,0,{"$f":"IF(E507<>\"\",CONCATENATE(B507,A507,DIGITADOR!$M$1,C507),\"\")","v":""},null,null,"","","",null,503,"",{"$f":"IF(R507=R506,\"\",IF(E507<>\"\",CONCATENATE(B507,A507,DIGITADOR!$M$1,C507),\"\"))","v":""},null,{"$f":"IF(N507=\"\",\"\",INDEX(referentes!S:T,MATCH(N507,referentes!T:T,0),1))","v":""},null,{"$f":"IF(P507=\"\",\"\",INDEX(referentes!Y:Z,MATCH(P507,referentes!Z:Z,0),1))","v":""},"","",null,null,null,null,null,{"$f":"IF(X507=\"\",\"\",INDEX(referentes!J:K,MATCH(X507,referentes!J:J,0),2))","v":""},null,null,""]
["30000401000000",null,0,{"$f":"IF(E508<>\"\",CONCATENATE(B508,A508,DIGITADOR!$M$1,C508),\"\")","v":""},null,null,"","","",null,504,"",{"$f":"IF(R508=R507,\"\",IF(E508<>\"\",CONCATENATE(B508,A508,DIGITADOR!$M$1,C508),\"\"))","v":""},null,{"$f":"IF(N508=\"\",\"\",INDEX(referentes!S:T,MATCH(N508,referentes!T:T,0),1))","v":""},null,{"$f":"IF(P508=\"\",\"\",INDEX(referentes!Y:Z,MATCH(P508,referentes!Z:Z,0),1))","v":""},"","",null,null,null,null,null,{"$f":"IF(X508=\"\",\"\",INDEX(referentes!J:K,MATCH(X508,referentes!J:J,0),2))","v":""},null,null,""]
["30000401000000",null,0,{"$f":"IF(E509<>\"\",CONCATENATE(B509,A509,DIGITADOR!$M$1,C509),\"\")","v":""},null,null,"","","",null,505,"",{"$f":"IF(R509=R508,\"\",IF(E509<>\"\",CONCATENATE(B509,A509,DIGITADOR!$M$1,C509),\"\"))","v":""},null,{"$f":"IF(N509=\"\",\"\",INDEX(referentes!S:T,MATCH(N509,referentes!T:T,0),1))","v":""},null,{"$f":"IF(P509=\"\",\"\",INDEX(referentes!Y:Z,MATCH(P509,referentes!Z:Z,0),1))","v":""},"","",null,null,null,null,null,{"$f":"IF(X509=\"\",\"\",INDEX(referentes!J:K,MATCH(X509,referentes!J:J,0),2))","v":""},null,null,""]
["30000401000000",null,0,{"$f":"IF(E510<>\"\",CONCATENATE(B510,A510,DIGITADOR!$M$1,C510),\"\")","v":""},null,null,"","","",null,506,"",{"$f":"IF(R510=R509,\"\",IF(E510<>\"\",CONCATENATE(B510,A510,DIGITADOR!$M$1,C510),\"\"))","v":""},null,{"$f":"IF(N510=\"\",\"\",INDEX(referentes!S:T,MATCH(N510,referentes!T:T,0),1))","v":""},null,{"$f":"IF(P510=\"\",\"\",INDEX(referentes!Y:Z,MATCH(P510,referentes!Z:Z,0),1))","v":""},"","",null,null,null,null,null,{"$f":"IF(X510=\"\",\"\",INDEX(referentes!J:K,MATCH(X510,referentes!J:J,0),2))","v":""},null,null,""]
["30000401000000",null,0,{"$f":"IF(E511<>\"\",CONCATENATE(B511,A511,DIGITADOR!$M$1,C511),\"\")","v":""},null,null,"","","",null,507,"",{"$f":"IF(R511=R510,\"\",IF(E511<>\"\",CONCATENATE(B511,A511,DIGITADOR!$M$1,C511),\"\"))","v":""},null,{"$f":"IF(N511=\"\",\"\",INDEX(referentes!S:T,MATCH(N511,referentes!T:T,0),1))","v":""},null,{"$f":"IF(P511=\"\",\"\",INDEX(referentes!Y:Z,MATCH(P511,referentes!Z:Z,0),1))","v":""},"","",null,null,null,null,null,{"$f":"IF(X511=\"\",\"\",INDEX(referentes!J:K,MATCH(X511,referentes!J:J,0),2))","v":""},null,null,""]
["30000401000000",null,0,{"$f":"IF(E512<>\"\",CONCATENATE(B512,A512,DIGITADOR!$M$1,C512),\"\")","v":""},null,null,"","","",null,508,"",{"$f":"IF(R512=R511,\"\",IF(E512<>\"\",CONCATENATE(B512,A512,DIGITADOR!$M$1,C512),\"\"))","v":""},null,{"$f":"IF(N512=\"\",\"\",INDEX(referentes!S:T,MATCH(N512,referentes!T:T,0),1))","v":""},null,{"$f":"IF(P512=\"\",\"\",INDEX(referentes!Y:Z,MATCH(P512,referentes!Z:Z,0),1))","v":""},"","",null,null,null,null,null,{"$f":"IF(X512=\"\",\"\",INDEX(referentes!J:K,MATCH(X512,referentes!J:J,0),2))","v":""},null,null,""]
["30000401000000",null,0,{"$f":"IF(E513<>\"\",CONCATENATE(B513,A513,DIGITADOR!$M$1,C513),\"\")","v":""},null,null,"","","",null,509,"",{"$f":"IF(R513=R512,\"\",IF(E513<>\"\",CONCATENATE(B513,A513,DIGITADOR!$M$1,C513),\"\"))","v":""},null,{"$f":"IF(N513=\"\",\"\",INDEX(referentes!S:T,MATCH(N513,referentes!T:T,0),1))","v":""},null,{"$f":"IF(P513=\"\",\"\",INDEX(referentes!Y:Z,MATCH(P513,referentes!Z:Z,0),1))","v":""},"","",null,null,null,null,null,{"$f":"IF(X513=\"\",\"\",INDEX(referentes!J:K,MATCH(X513,referentes!J:J,0),2))","v":""},null,null,""]
["30000401000000",null,0,{"$f":"IF(E514<>\"\",CONCATENATE(B514,A514,DIGITADOR!$M$1,C514),\"\")","v":""},null,null,"","","",null,510,"",{"$f":"IF(R514=R513,\"\",IF(E514<>\"\",CONCATENATE(B514,A514,DIGITADOR!$M$1,C514),\"\"))","v":""},null,{"$f":"IF(N514=\"\",\"\",INDEX(referentes!S:T,MATCH(N514,referentes!T:T,0),1))","v":""},null,{"$f":"IF(P514=\"\",\"\",INDEX(referentes!Y:Z,MATCH(P514,referentes!Z:Z,0),1))","v":""},"","",null,null,null,null,null,{"$f":"IF(X514=\"\",\"\",INDEX(referentes!J:K,MATCH(X514,referentes!J:J,0),2))","v":""},null,null,""]
["30000401000000",null,0,{"$f":"IF(E515<>\"\",CONCATENATE(B515,A515,DIGITADOR!$M$1,C515),\"\")","v":""},null,null,"","","",null,511,"",{"$f":"IF(R515=R514,\"\",IF(E515<>\"\",CONCATENATE(B515,A515,DIGITADOR!$M$1,C515),\"\"))","v":""},null,{"$f":"IF(N515=\"\",\"\",INDEX(referentes!S:T,MATCH(N515,referentes!T:T,0),1))","v":""},null,{"$f":"IF(P515=\"\",\"\",INDEX(referentes!Y:Z,MATCH(P515,referentes!Z:Z,0),1))","v":""},"","",null,null,null,null,null,{"$f":"IF(X515=\"\",\"\",INDEX(referentes!J:K,MATCH(X515,referentes!J:J,0),2))","v":""},null,null,""]
["30000401000000",null,0,{"$f":"IF(E516<>\"\",CONCATENATE(B516,A516,DIGITADOR!$M$1,C516),\"\")","v":""},null,null,"","","",null,512,"",{"$f":"IF(R516=R515,\"\",IF(E516<>\"\",CONCATENATE(B516,A516,DIGITADOR!$M$1,C516),\"\"))","v":""},null,{"$f":"IF(N516=\"\",\"\",INDEX(referentes!S:T,MATCH(N516,referentes!T:T,0),1))","v":""},null,{"$f":"IF(P516=\"\",\"\",INDEX(referentes!Y:Z,MATCH(P516,referentes!Z:Z,0),1))","v":""},"","",null,null,null,null,null,{"$f":"IF(X516=\"\",\"\",INDEX(referentes!J:K,MATCH(X516,referentes!J:J,0),2))","v":""},null,null,""]
["30000401000000",null,{"$f":"IF(R517=R516,C516,C516+1)","v":0},{"$f":"IF(E517<>\"\",CONCATENATE(B517,A517,DIGITADOR!$M$1,C517),\"\")","v":""},null,null,"","","",null,513,"",{"$f":"IF(R517=R516,\"\",IF(E517<>\"\",CONCATENATE(B517,A517,DIGITADOR!$M$1,C517),\"\"))","v":""},null,{"$f":"IF(N517=\"\",\"\",INDEX(referentes!S:T,MATCH(N517,referentes!T:T,0),1))","v":""},null,{"$f":"IF(P517=\"\",\"\",INDEX(referentes!Y:Z,MATCH(P517,referentes!Z:Z,0),1))","v":""},"","",null,null,null,null,null,{"$f":"IF(X517=\"\",\"\",INDEX(referentes!J:K,MATCH(X517,referentes!J:J,0),2))","v":""},null,null,""]
["30000401000000",null,0,{"$f":"IF(E518<>\"\",CONCATENATE(B518,A518,DIGITADOR!$M$1,C518),\"\")","v":""},null,null,{"$f":"IF(E518=\"\", \"\", (E518+F518))","v":""},{"$f":"IF(G518<>\"\",MONTH(G518),\"\")","v":""},{"$f":"IF(D518=\"\",\"\",1)","v":""},null,514,{"$f":"IF(E518=\"\",\"\",CONCATENATE(D518,K518))","v":""},{"$f":"IF(R518=R517,\"\",IF(E518<>\"\",CONCATENATE(B518,A518,DIGITADOR!$M$1,C518),\"\"))","v":""},null,{"$f":"IF(N518=\"\",\"\",INDEX(referentes!S:T,MATCH(N518,referentes!T:T,0),1))","v":""},null,{"$f":"IF(P518=\"\",\"\",INDEX(referentes!Y:Z,MATCH(P518,referentes!Z:Z,0),1))","v":""},{"$f":"IF(G518=\"\",\"\",CONCATENATE(G518,O518,Q518))","v":""},{"$f":"IF(E518=\"\",\"\",\"INVEMAR\")","v":""},null,null,null,null,null,{"$f":"IF(X518=\"\",\"\",INDEX(referentes!J:K,MATCH(X518,referentes!J:J,0),2))","v":""},null,null,{"$f":"IF(T518=\"\",\"\",IF(T518=T517,AB517,AA518))","v":""}]
[{"$f":"A518","v":"30000401000000"},null,0,{"$f":"IF(E519<>\"\",CONCATENATE(B519,A519,DIGITADOR!$M$1,C519),\"\")","v":""},null,null,"","","",null,515,"",{"$f":"IF(R519=R518,\"\",IF(E519<>\"\",CONCATENATE(B519,A519,DIGITADOR!$M$1,C519),\"\"))","v":""},null,{"$f":"IF(N519=\"\",\"\",INDEX(referentes!S:T,MATCH(N519,referentes!T:T,0),1))","v":""},null,{"$f":"IF(P519=\"\",\"\",INDEX(referentes!Y:Z,MATCH(P519,referentes!Z:Z,0),1))","v":""},"","",null,null,null,null,null,{"$f":"IF(X519=\"\",\"\",INDEX(referentes!J:K,MATCH(X519,referentes!J:J,0),2))","v":""},null,null,""]
["30000401000000",null,0,{"$f":"IF(E520<>\"\",CONCATENATE(B520,A520,DIGITADOR!$M$1,C520),\"\")","v":""},null,null,"","","",null,516,"",{"$f":"IF(R520=R519,\"\",IF(E520<>\"\",CONCATENATE(B520,A520,DIGITADOR!$M$1,C520),\"\"))","v":""},null,{"$f":"IF(N520=\"\",\"\",INDEX(referentes!S:T,MATCH(N520,referentes!T:T,0),1))","v":""},null,{"$f":"IF(P520=\"\",\"\",INDEX(referentes!Y:Z,MATCH(P520,referentes!Z:Z,0),1))","v":""},"","",null,null,null,null,null,{"$f":"IF(X520=\"\",\"\",INDEX(referentes!J:K,MATCH(X520,referentes!J:J,0),2))","v":""},null,null,""]
["30000401000000",null,0,{"$f":"IF(E521<>\"\",CONCATENATE(B521,A521,DIGITADOR!$M$1,C521),\"\")","v":""},null,null,"","","",null,517,"",{"$f":"IF(R521=R520,\"\",IF(E521<>\"\",CONCATENATE(B521,A521,DIGITADOR!$M$1,C521),\"\"))","v":""},null,{"$f":"IF(N521=\"\",\"\",INDEX(referentes!S:T,MATCH(N521,referentes!T:T,0),1))","v":""},null,{"$f":"IF(P521=\"\",\"\",INDEX(referentes!Y:Z,MATCH(P521,referentes!Z:Z,0),1))","v":""},"","",null,null,null,null,null,{"$f":"IF(X521=\"\",\"\",INDEX(referentes!J:K,MATCH(X521,referentes!J:J,0),2))","v":""},null,null,""]
["30000401000000",null,0,{"$f":"IF(E522<>\"\",CONCATENATE(B522,A522,DIGITADOR!$M$1,C522),\"\")","v":""},null,null,"","","",null,518,"",{"$f":"IF(R522=R521,\"\",IF(E522<>\"\",CONCATENATE(B522,A522,DIGITADOR!$M$1,C522),\"\"))","v":""},null,{"$f":"IF(N522=\"\",\"\",INDEX(referentes!S:T,MATCH(N522,referentes!T:T,0),1))","v":""},null,{"$f":"IF(P522=\"\",\"\",INDEX(referentes!Y:Z,MATCH(P522,referentes!Z:Z,0),1))","v":""},"","",null,null,null,null,null,{"$f":"IF(X522=\"\",\"\",INDEX(referentes!J:K,MATCH(X522,referentes!J:J,0),2))","v":""},null,null,""]
["30000401000000",null,0,{"$f":"IF(E523<>\"\",CONCATENATE(B523,A523,DIGITADOR!$M$1,C523),\"\")","v":""},null,null,"","","",null,519,"",{"$f":"IF(R523=R522,\"\",IF(E523<>\"\",CONCATENATE(B523,A523,DIGITADOR!$M$1,C523),\"\"))","v":""},null,{"$f":"IF(N523=\"\",\"\",INDEX(referentes!S:T,MATCH(N523,referentes!T:T,0),1))","v":""},null,{"$f":"IF(P523=\"\",\"\",INDEX(referentes!Y:Z,MATCH(P523,referentes!Z:Z,0),1))","v":""},"","",null,null,null,null,null,{"$f":"IF(X523=\"\",\"\",INDEX(referentes!J:K,MATCH(X523,referentes!J:J,0),2))","v":""},null,null,""]
["30000401000000",null,0,{"$f":"IF(E524<>\"\",CONCATENATE(B524,A524,DIGITADOR!$M$1,C524),\"\")","v":""},null,null,"","","",null,520,"",{"$f":"IF(R524=R523,\"\",IF(E524<>\"\",CONCATENATE(B524,A524,DIGITADOR!$M$1,C524),\"\"))","v":""},null,{"$f":"IF(N524=\"\",\"\",INDEX(referentes!S:T,MATCH(N524,referentes!T:T,0),1))","v":""},null,{"$f":"IF(P524=\"\",\"\",INDEX(referentes!Y:Z,MATCH(P524,referentes!Z:Z,0),1))","v":""},"","",null,null,null,null,null,{"$f":"IF(X524=\"\",\"\",INDEX(referentes!J:K,MATCH(X524,referentes!J:J,0),2))","v":""},null,null,""]
["30000401000000",null,0,{"$f":"IF(E525<>\"\",CONCATENATE(B525,A525,DIGITADOR!$M$1,C525),\"\")","v":""},null,null,"","","",null,521,"",{"$f":"IF(R525=R524,\"\",IF(E525<>\"\",CONCATENATE(B525,A525,DIGITADOR!$M$1,C525),\"\"))","v":""},null,{"$f":"IF(N525=\"\",\"\",INDEX(referentes!S:T,MATCH(N525,referentes!T:T,0),1))","v":""},null,{"$f":"IF(P525=\"\",\"\",INDEX(referentes!Y:Z,MATCH(P525,referentes!Z:Z,0),1))","v":""},"","",null,null,null,null,null,{"$f":"IF(X525=\"\",\"\",INDEX(referentes!J:K,MATCH(X525,referentes!J:J,0),2))","v":""},null,null,""]
["30000401000000",null,0,{"$f":"IF(E526<>\"\",CONCATENATE(B526,A526,DIGITADOR!$M$1,C526),\"\")","v":""},null,null,"","","",null,522,"",{"$f":"IF(R526=R525,\"\",IF(E526<>\"\",CONCATENATE(B526,A526,DIGITADOR!$M$1,C526),\"\"))","v":""},null,{"$f":"IF(N526=\"\",\"\",INDEX(referentes!S:T,MATCH(N526,referentes!T:T,0),1))","v":""},null,{"$f":"IF(P526=\"\",\"\",INDEX(referentes!Y:Z,MATCH(P526,referentes!Z:Z,0),1))","v":""},"","",null,null,null,null,null,{"$f":"IF(X526=\"\",\"\",INDEX(referentes!J:K,MATCH(X526,referentes!J:J,0),2))","v":""},null,null,""]
["30000401000000",null,0,{"$f":"IF(E527<>\"\",CONCATENATE(B527,A527,DIGITADOR!$M$1,C527),\"\")","v":""},null,null,"","","",null,523,"",{"$f":"IF(R527=R526,\"\",IF(E527<>\"\",CONCATENATE(B527,A527,DIGITADOR!$M$1,C527),\"\"))","v":""},null,{"$f":"IF(N527=\"\",\"\",INDEX(referentes!S:T,MATCH(N527,referentes!T:T,0),1))","v":""},null,{"$f":"IF(P527=\"\",\"\",INDEX(referentes!Y:Z,MATCH(P527,referentes!Z:Z,0),1))","v":""},"","",null,null,null,null,null,{"$f":"IF(X527=\"\",\"\",INDEX(referentes!J:K,MATCH(X527,referentes!J:J,0),2))","v":""},null,null,""]
["30000401000000",null,0,{"$f":"IF(E528<>\"\",CONCATENATE(B528,A528,DIGITADOR!$M$1,C528),\"\")","v":""},null,null,"","","",null,524,"",{"$f":"IF(R528=R527,\"\",IF(E528<>\"\",CONCATENATE(B528,A528,DIGITADOR!$M$1,C528),\"\"))","v":""},null,{"$f":"IF(N528=\"\",\"\",INDEX(referentes!S:T,MATCH(N528,referentes!T:T,0),1))","v":""},null,{"$f":"IF(P528=\"\",\"\",INDEX(referentes!Y:Z,MATCH(P528,referentes!Z:Z,0),1))","v":""},"","",null,null,null,null,null,{"$f":"IF(X528=\"\",\"\",INDEX(referentes!J:K,MATCH(X528,referentes!J:J,0),2))","v":""},null,null,""]
["30000401000000",null,0,{"$f":"IF(E529<>\"\",CONCATENATE(B529,A529,DIGITADOR!$M$1,C529),\"\")","v":""},null,null,"","","",null,525,"",{"$f":"IF(R529=R528,\"\",IF(E529<>\"\",CONCATENATE(B529,A529,DIGITADOR!$M$1,C529),\"\"))","v":""},null,{"$f":"IF(N529=\"\",\"\",INDEX(referentes!S:T,MATCH(N529,referentes!T:T,0),1))","v":""},null,{"$f":"IF(P529=\"\",\"\",INDEX(referentes!Y:Z,MATCH(P529,referentes!Z:Z,0),1))","v":""},"","",null,null,null,null,null,{"$f":"IF(X529=\"\",\"\",INDEX(referentes!J:K,MATCH(X529,referentes!J:J,0),2))","v":""},null,null,""]
["30000401000000",null,0,{"$f":"IF(E530<>\"\",CONCATENATE(B530,A530,DIGITADOR!$M$1,C530),\"\")","v":""},null,null,"","","",null,526,"",{"$f":"IF(R530=R529,\"\",IF(E530<>\"\",CONCATENATE(B530,A530,DIGITADOR!$M$1,C530),\"\"))","v":""},null,{"$f":"IF(N530=\"\",\"\",INDEX(referentes!S:T,MATCH(N530,referentes!T:T,0),1))","v":""},null,{"$f":"IF(P530=\"\",\"\",INDEX(referentes!Y:Z,MATCH(P530,referentes!Z:Z,0),1))","v":""},"","",null,null,null,null,null,{"$f":"IF(X530=\"\",\"\",INDEX(referentes!J:K,MATCH(X530,referentes!J:J,0),2))","v":""},null,null,""]
["30000401000000",null,0,{"$f":"IF(E531<>\"\",CONCATENATE(B531,A531,DIGITADOR!$M$1,C531),\"\")","v":""},null,null,"","","",null,527,"",{"$f":"IF(R531=R530,\"\",IF(E531<>\"\",CONCATENATE(B531,A531,DIGITADOR!$M$1,C531),\"\"))","v":""},null,{"$f":"IF(N531=\"\",\"\",INDEX(referentes!S:T,MATCH(N531,referentes!T:T,0),1))","v":""},null,{"$f":"IF(P531=\"\",\"\",INDEX(referentes!Y:Z,MATCH(P531,referentes!Z:Z,0),1))","v":""},"","",null,null,null,null,null,{"$f":"IF(X531=\"\",\"\",INDEX(referentes!J:K,MATCH(X531,referentes!J:J,0),2))","v":""},null,null,""]
["30000401000000",null,0,{"$f":"IF(E532<>\"\",CONCATENATE(B532,A532,DIGITADOR!$M$1,C532),\"\")","v":""},null,null,"","","",null,528,"",{"$f":"IF(R532=R531,\"\",IF(E532<>\"\",CONCATENATE(B532,A532,DIGITADOR!$M$1,C532),\"\"))","v":""},null,{"$f":"IF(N532=\"\",\"\",INDEX(referentes!S:T,MATCH(N532,referentes!T:T,0),1))","v":""},null,{"$f":"IF(P532=\"\",\"\",INDEX(referentes!Y:Z,MATCH(P532,referentes!Z:Z,0),1))","v":""},"","",null,null,null,null,null,{"$f":"IF(X532=\"\",\"\",INDEX(referentes!J:K,MATCH(X532,referentes!J:J,0),2))","v":""},null,null,""]
["30000401000000",null,0,{"$f":"IF(E533<>\"\",CONCATENATE(B533,A533,DIGITADOR!$M$1,C533),\"\")","v":""},null,null,"","","",null,529,"",{"$f":"IF(R533=R532,\"\",IF(E533<>\"\",CONCATENATE(B533,A533,DIGITADOR!$M$1,C533),\"\"))","v":""},null,{"$f":"IF(N533=\"\",\"\",INDEX(referentes!S:T,MATCH(N533,referentes!T:T,0),1))","v":""},null,{"$f":"IF(P533=\"\",\"\",INDEX(referentes!Y:Z,MATCH(P533,referentes!Z:Z,0),1))","v":""},"","",null,null,null,null,null,{"$f":"IF(X533=\"\",\"\",INDEX(referentes!J:K,MATCH(X533,referentes!J:J,0),2))","v":""},null,null,""]
["30000401000000",null,0,{"$f":"IF(E534<>\"\",CONCATENATE(B534,A534,DIGITADOR!$M$1,C534),\"\")","v":""},null,null,"","","",null,530,"",{"$f":"IF(R534=R533,\"\",IF(E534<>\"\",CONCATENATE(B534,A534,DIGITADOR!$M$1,C534),\"\"))","v":""},null,{"$f":"IF(N534=\"\",\"\",INDEX(referentes!S:T,MATCH(N534,referentes!T:T,0),1))","v":""},null,{"$f":"IF(P534=\"\",\"\",INDEX(referentes!Y:Z,MATCH(P534,referentes!Z:Z,0),1))","v":""},"","",null,null,null,null,null,{"$f":"IF(X534=\"\",\"\",INDEX(referentes!J:K,MATCH(X534,referentes!J:J,0),2))","v":""},null,null,""]
["30000401000000",null,0,{"$f":"IF(E535<>\"\",CONCATENATE(B535,A535,DIGITADOR!$M$1,C535),\"\")","v":""},null,null,"","","",null,531,"",{"$f":"IF(R535=R534,\"\",IF(E535<>\"\",CONCATENATE(B535,A535,DIGITADOR!$M$1,C535),\"\"))","v":""},null,{"$f":"IF(N535=\"\",\"\",INDEX(referentes!S:T,MATCH(N535,referentes!T:T,0),1))","v":""},null,{"$f":"IF(P535=\"\",\"\",INDEX(referentes!Y:Z,MATCH(P535,referentes!Z:Z,0),1))","v":""},"","",null,null,null,null,null,{"$f":"IF(X535=\"\",\"\",INDEX(referentes!J:K,MATCH(X535,referentes!J:J,0),2))","v":""},null,null,""]
["30000401000000",null,0,{"$f":"IF(E536<>\"\",CONCATENATE(B536,A536,DIGITADOR!$M$1,C536),\"\")","v":""},null,null,"","","",null,532,"",{"$f":"IF(R536=R535,\"\",IF(E536<>\"\",CONCATENATE(B536,A536,DIGITADOR!$M$1,C536),\"\"))","v":""},null,{"$f":"IF(N536=\"\",\"\",INDEX(referentes!S:T,MATCH(N536,referentes!T:T,0),1))","v":""},null,{"$f":"IF(P536=\"\",\"\",INDEX(referentes!Y:Z,MATCH(P536,referentes!Z:Z,0),1))","v":""},"","",null,null,null,null,null,{"$f":"IF(X536=\"\",\"\",INDEX(referentes!J:K,MATCH(X536,referentes!J:J,0),2))","v":""},null,null,""]
["30000401000000",null,0,{"$f":"IF(E537<>\"\",CONCATENATE(B537,A537,DIGITADOR!$M$1,C537),\"\")","v":""},null,null,"","","",null,533,"",{"$f":"IF(R537=R536,\"\",IF(E537<>\"\",CONCATENATE(B537,A537,DIGITADOR!$M$1,C537),\"\"))","v":""},null,{"$f":"IF(N537=\"\",\"\",INDEX(referentes!S:T,MATCH(N537,referentes!T:T,0),1))","v":""},null,{"$f":"IF(P537=\"\",\"\",INDEX(referentes!Y:Z,MATCH(P537,referentes!Z:Z,0),1))","v":""},"","",null,null,null,null,null,{"$f":"IF(X537=\"\",\"\",INDEX(referentes!J:K,MATCH(X537,referentes!J:J,0),2))","v":""},null,null,""]
["30000401000000",null,0,{"$f":"IF(E538<>\"\",CONCATENATE(B538,A538,DIGITADOR!$M$1,C538),\"\")","v":""},null,null,"","","",null,534,"",{"$f":"IF(R538=R537,\"\",IF(E538<>\"\",CONCATENATE(B538,A538,DIGITADOR!$M$1,C538),\"\"))","v":""},null,{"$f":"IF(N538=\"\",\"\",INDEX(referentes!S:T,MATCH(N538,referentes!T:T,0),1))","v":""},null,{"$f":"IF(P538=\"\",\"\",INDEX(referentes!Y:Z,MATCH(P538,referentes!Z:Z,0),1))","v":""},"","",null,null,null,null,null,{"$f":"IF(X538=\"\",\"\",INDEX(referentes!J:K,MATCH(X538,referentes!J:J,0),2))","v":""},null,null,""]
["30000401000000",null,0,{"$f":"IF(E539<>\"\",CONCATENATE(B539,A539,DIGITADOR!$M$1,C539),\"\")","v":""},null,null,"","","",null,535,"",{"$f":"IF(R539=R538,\"\",IF(E539<>\"\",CONCATENATE(B539,A539,DIGITADOR!$M$1,C539),\"\"))","v":""},null,{"$f":"IF(N539=\"\",\"\",INDEX(referentes!S:T,MATCH(N539,referentes!T:T,0),1))","v":""},null,{"$f":"IF(P539=\"\",\"\",INDEX(referentes!Y:Z,MATCH(P539,referentes!Z:Z,0),1))","v":""},"","",null,null,null,null,null,{"$f":"IF(X539=\"\",\"\",INDEX(referentes!J:K,MATCH(X539,referentes!J:J,0),2))","v":""},null,null,""]
["30000401000000",null,0,{"$f":"IF(E540<>\"\",CONCATENATE(B540,A540,DIGITADOR!$M$1,C540),\"\")","v":""},null,null,"","","",null,536,"",{"$f":"IF(R540=R539,\"\",IF(E540<>\"\",CONCATENATE(B540,A540,DIGITADOR!$M$1,C540),\"\"))","v":""},null,{"$f":"IF(N540=\"\",\"\",INDEX(referentes!S:T,MATCH(N540,referentes!T:T,0),1))","v":""},null,{"$f":"IF(P540=\"\",\"\",INDEX(referentes!Y:Z,MATCH(P540,referentes!Z:Z,0),1))","v":""},"","",null,null,null,null,null,{"$f":"IF(X540=\"\",\"\",INDEX(referentes!J:K,MATCH(X540,referentes!J:J,0),2))","v":""},null,null,""]
["30000401000000",null,0,{"$f":"IF(E541<>\"\",CONCATENATE(B541,A541,DIGITADOR!$M$1,C541),\"\")","v":""},null,null,"","","",null,537,"",{"$f":"IF(R541=R540,\"\",IF(E541<>\"\",CONCATENATE(B541,A541,DIGITADOR!$M$1,C541),\"\"))","v":""},null,{"$f":"IF(N541=\"\",\"\",INDEX(referentes!S:T,MATCH(N541,referentes!T:T,0),1))","v":""},null,{"$f":"IF(P541=\"\",\"\",INDEX(referentes!Y:Z,MATCH(P541,referentes!Z:Z,0),1))","v":""},"","",null,null,null,null,null,{"$f":"IF(X541=\"\",\"\",INDEX(referentes!J:K,MATCH(X541,referentes!J:J,0),2))","v":""},null,null,""]
["30000401000000",null,0,{"$f":"IF(E542<>\"\",CONCATENATE(B542,A542,DIGITADOR!$M$1,C542),\"\")","v":""},null,null,"","","",null,538,"",{"$f":"IF(R542=R541,\"\",IF(E542<>\"\",CONCATENATE(B542,A542,DIGITADOR!$M$1,C542),\"\"))","v":""},null,{"$f":"IF(N542=\"\",\"\",INDEX(referentes!S:T,MATCH(N542,referentes!T:T,0),1))","v":""},null,{"$f":"IF(P542=\"\",\"\",INDEX(referentes!Y:Z,MATCH(P542,referentes!Z:Z,0),1))","v":""},"","",null,null,null,null,null,{"$f":"IF(X542=\"\",\"\",INDEX(referentes!J:K,MATCH(X542,referentes!J:J,0),2))","v":""},null,null,""]
["30000401000000",null,0,{"$f":"IF(E543<>\"\",CONCATENATE(B543,A543,DIGITADOR!$M$1,C543),\"\")","v":""},null,null,"","","",null,539,"",{"$f":"IF(R543=R542,\"\",IF(E543<>\"\",CONCATENATE(B543,A543,DIGITADOR!$M$1,C543),\"\"))","v":""},null,{"$f":"IF(N543=\"\",\"\",INDEX(referentes!S:T,MATCH(N543,referentes!T:T,0),1))","v":""},null,{"$f":"IF(P543=\"\",\"\",INDEX(referentes!Y:Z,MATCH(P543,referentes!Z:Z,0),1))","v":""},"","",null,null,null,null,null,{"$f":"IF(X543=\"\",\"\",INDEX(referentes!J:K,MATCH(X543,referentes!J:J,0),2))","v":""},null,null,""]
["30000401000000",null,0,{"$f":"IF(E544<>\"\",CONCATENATE(B544,A544,DIGITADOR!$M$1,C544),\"\")","v":""},null,null,"","","",null,540,"",{"$f":"IF(R544=R543,\"\",IF(E544<>\"\",CONCATENATE(B544,A544,DIGITADOR!$M$1,C544),\"\"))","v":""},null,{"$f":"IF(N544=\"\",\"\",INDEX(referentes!S:T,MATCH(N544,referentes!T:T,0),1))","v":""},null,{"$f":"IF(P544=\"\",\"\",INDEX(referentes!Y:Z,MATCH(P544,referentes!Z:Z,0),1))","v":""},"","",null,null,null,null,null,{"$f":"IF(X544=\"\",\"\",INDEX(referentes!J:K,MATCH(X544,referentes!J:J,0),2))","v":""},null,null,""]
["30000401000000",null,0,{"$f":"IF(E545<>\"\",CONCATENATE(B545,A545,DIGITADOR!$M$1,C545),\"\")","v":""},null,null,"","","",null,541,"",{"$f":"IF(R545=R544,\"\",IF(E545<>\"\",CONCATENATE(B545,A545,DIGITADOR!$M$1,C545),\"\"))","v":""},null,{"$f":"IF(N545=\"\",\"\",INDEX(referentes!S:T,MATCH(N545,referentes!T:T,0),1))","v":""},null,{"$f":"IF(P545=\"\",\"\",INDEX(referentes!Y:Z,MATCH(P545,referentes!Z:Z,0),1))","v":""},"","",null,null,null,null,null,{"$f":"IF(X545=\"\",\"\",INDEX(referentes!J:K,MATCH(X545,referentes!J:J,0),2))","v":""},null,null,""]
["30000401000000",null,0,{"$f":"IF(E546<>\"\",CONCATENATE(B546,A546,DIGITADOR!$M$1,C546),\"\")","v":""},null,null,"","","",null,542,"",{"$f":"IF(R546=R545,\"\",IF(E546<>\"\",CONCATENATE(B546,A546,DIGITADOR!$M$1,C546),\"\"))","v":""},null,{"$f":"IF(N546=\"\",\"\",INDEX(referentes!S:T,MATCH(N546,referentes!T:T,0),1))","v":""},null,{"$f":"IF(P546=\"\",\"\",INDEX(referentes!Y:Z,MATCH(P546,referentes!Z:Z,0),1))","v":""},"","",null,null,null,null,null,{"$f":"IF(X546=\"\",\"\",INDEX(referentes!J:K,MATCH(X546,referentes!J:J,0),2))","v":""},null,null,""]
["30000401000000",null,0,{"$f":"IF(E547<>\"\",CONCATENATE(B547,A547,DIGITADOR!$M$1,C547),\"\")","v":""},null,null,"","","",null,543,"",{"$f":"IF(R547=R546,\"\",IF(E547<>\"\",CONCATENATE(B547,A547,DIGITADOR!$M$1,C547),\"\"))","v":""},null,{"$f":"IF(N547=\"\",\"\",INDEX(referentes!S:T,MATCH(N547,referentes!T:T,0),1))","v":""},null,{"$f":"IF(P547=\"\",\"\",INDEX(referentes!Y:Z,MATCH(P547,referentes!Z:Z,0),1))","v":""},"","",null,null,null,null,null,{"$f":"IF(X547=\"\",\"\",INDEX(referentes!J:K,MATCH(X547,referentes!J:J,0),2))","v":""},null,null,""]
["30000401000000",null,0,{"$f":"IF(E548<>\"\",CONCATENATE(B548,A548,DIGITADOR!$M$1,C548),\"\")","v":""},null,null,"","","",null,544,"",{"$f":"IF(R548=R547,\"\",IF(E548<>\"\",CONCATENATE(B548,A548,DIGITADOR!$M$1,C548),\"\"))","v":""},null,{"$f":"IF(N548=\"\",\"\",INDEX(referentes!S:T,MATCH(N548,referentes!T:T,0),1))","v":""},null,{"$f":"IF(P548=\"\",\"\",INDEX(referentes!Y:Z,MATCH(P548,referentes!Z:Z,0),1))","v":""},"","",null,null,null,null,null,{"$f":"IF(X548=\"\",\"\",INDEX(referentes!J:K,MATCH(X548,referentes!J:J,0),2))","v":""},null,null,""]
["30000401000000",null,0,{"$f":"IF(E549<>\"\",CONCATENATE(B549,A549,DIGITADOR!$M$1,C549),\"\")","v":""},null,null,"","","",null,545,"",{"$f":"IF(R549=R548,\"\",IF(E549<>\"\",CONCATENATE(B549,A549,DIGITADOR!$M$1,C549),\"\"))","v":""},null,{"$f":"IF(N549=\"\",\"\",INDEX(referentes!S:T,MATCH(N549,referentes!T:T,0),1))","v":""},null,{"$f":"IF(P549=\"\",\"\",INDEX(referentes!Y:Z,MATCH(P549,referentes!Z:Z,0),1))","v":""},"","",null,null,null,null,null,{"$f":"IF(X549=\"\",\"\",INDEX(referentes!J:K,MATCH(X549,referentes!J:J,0),2))","v":""},null,null,""]
["30000401000000",null,0,{"$f":"IF(E550<>\"\",CONCATENATE(B550,A550,DIGITADOR!$M$1,C550),\"\")","v":""},null,null,"","","",null,546,"",{"$f":"IF(R550=R549,\"\",IF(E550<>\"\",CONCATENATE(B550,A550,DIGITADOR!$M$1,C550),\"\"))","v":""},null,{"$f":"IF(N550=\"\",\"\",INDEX(referentes!S:T,MATCH(N550,referentes!T:T,0),1))","v":""},null,{"$f":"IF(P550=\"\",\"\",INDEX(referentes!Y:Z,MATCH(P550,referentes!Z:Z,0),1))","v":""},"","",null,null,null,null,null,{"$f":"IF(X550=\"\",\"\",INDEX(referentes!J:K,MATCH(X550,referentes!J:J,0),2))","v":""},null,null,""]
["30000401000000",null,0,{"$f":"IF(E551<>\"\",CONCATENATE(B551,A551,DIGITADOR!$M$1,C551),\"\")","v":""},null,null,"","","",null,547,"",{"$f":"IF(R551=R550,\"\",IF(E551<>\"\",CONCATENATE(B551,A551,DIGITADOR!$M$1,C551),\"\"))","v":""},null,{"$f":"IF(N551=\"\",\"\",INDEX(referentes!S:T,MATCH(N551,referentes!T:T,0),1))","v":""},null,{"$f":"IF(P551=\"\",\"\",INDEX(referentes!Y:Z,MATCH(P551,referentes!Z:Z,0),1))","v":""},"","",null,null,null,null,null,{"$f":"IF(X551=\"\",\"\",INDEX(referentes!J:K,MATCH(X551,referentes!J:J,0),2))","v":""},null,null,""]
["30000401000000",null,0,{"$f":"IF(E552<>\"\",CONCATENATE(B552,A552,DIGITADOR!$M$1,C552),\"\")","v":""},null,null,"","","",null,548,"",{"$f":"IF(R552=R551,\"\",IF(E552<>\"\",CONCATENATE(B552,A552,DIGITADOR!$M$1,C552),\"\"))","v":""},null,{"$f":"IF(N552=\"\",\"\",INDEX(referentes!S:T,MATCH(N552,referentes!T:T,0),1))","v":""},null,{"$f":"IF(P552=\"\",\"\",INDEX(referentes!Y:Z,MATCH(P552,referentes!Z:Z,0),1))","v":""},"","",null,null,null,null,null,{"$f":"IF(X552=\"\",\"\",INDEX(referentes!J:K,MATCH(X552,referentes!J:J,0),2))","v":""},null,null,""]
["30000401000000",null,0,{"$f":"IF(E553<>\"\",CONCATENATE(B553,A553,DIGITADOR!$M$1,C553),\"\")","v":""},null,null,"","","",null,549,"",{"$f":"IF(R553=R552,\"\",IF(E553<>\"\",CONCATENATE(B553,A553,DIGITADOR!$M$1,C553),\"\"))","v":""},null,{"$f":"IF(N553=\"\",\"\",INDEX(referentes!S:T,MATCH(N553,referentes!T:T,0),1))","v":""},null,{"$f":"IF(P553=\"\",\"\",INDEX(referentes!Y:Z,MATCH(P553,referentes!Z:Z,0),1))","v":""},"","",null,null,null,null,null,{"$f":"IF(X553=\"\",\"\",INDEX(referentes!J:K,MATCH(X553,referentes!J:J,0),2))","v":""},null,null,""]
["30000401000000",null,0,{"$f":"IF(E554<>\"\",CONCATENATE(B554,A554,DIGITADOR!$M$1,C554),\"\")","v":""},null,null,"","","",null,550,"",{"$f":"IF(R554=R553,\"\",IF(E554<>\"\",CONCATENATE(B554,A554,DIGITADOR!$M$1,C554),\"\"))","v":""},null,{"$f":"IF(N554=\"\",\"\",INDEX(referentes!S:T,MATCH(N554,referentes!T:T,0),1))","v":""},null,{"$f":"IF(P554=\"\",\"\",INDEX(referentes!Y:Z,MATCH(P554,referentes!Z:Z,0),1))","v":""},"","",null,null,null,null,null,{"$f":"IF(X554=\"\",\"\",INDEX(referentes!J:K,MATCH(X554,referentes!J:J,0),2))","v":""},null,null,""]
["30000401000000",null,0,{"$f":"IF(E555<>\"\",CONCATENATE(B555,A555,DIGITADOR!$M$1,C555),\"\")","v":""},null,null,"","","",null,551,"",{"$f":"IF(R555=R554,\"\",IF(E555<>\"\",CONCATENATE(B555,A555,DIGITADOR!$M$1,C555),\"\"))","v":""},null,{"$f":"IF(N555=\"\",\"\",INDEX(referentes!S:T,MATCH(N555,referentes!T:T,0),1))","v":""},null,{"$f":"IF(P555=\"\",\"\",INDEX(referentes!Y:Z,MATCH(P555,referentes!Z:Z,0),1))","v":""},"","",null,null,null,null,null,{"$f":"IF(X555=\"\",\"\",INDEX(referentes!J:K,MATCH(X555,referentes!J:J,0),2))","v":""},null,null,""]
["30000401000000",null,0,{"$f":"IF(E556<>\"\",CONCATENATE(B556,A556,DIGITADOR!$M$1,C556),\"\")","v":""},null,null,"","","",null,552,"",{"$f":"IF(R556=R555,\"\",IF(E556<>\"\",CONCATENATE(B556,A556,DIGITADOR!$M$1,C556),\"\"))","v":""},null,{"$f":"IF(N556=\"\",\"\",INDEX(referentes!S:T,MATCH(N556,referentes!T:T,0),1))","v":""},null,{"$f":"IF(P556=\"\",\"\",INDEX(referentes!Y:Z,MATCH(P556,referentes!Z:Z,0),1))","v":""},"","",null,null,null,null,null,{"$f":"IF(X556=\"\",\"\",INDEX(referentes!J:K,MATCH(X556,referentes!J:J,0),2))","v":""},null,null,""]
["30000401000000",null,0,{"$f":"IF(E557<>\"\",CONCATENATE(B557,A557,DIGITADOR!$M$1,C557),\"\")","v":""},null,null,"","","",null,553,"",{"$f":"IF(R557=R556,\"\",IF(E557<>\"\",CONCATENATE(B557,A557,DIGITADOR!$M$1,C557),\"\"))","v":""},null,{"$f":"IF(N557=\"\",\"\",INDEX(referentes!S:T,MATCH(N557,referentes!T:T,0),1))","v":""},null,{"$f":"IF(P557=\"\",\"\",INDEX(referentes!Y:Z,MATCH(P557,referentes!Z:Z,0),1))","v":""},"","",null,null,null,null,null,{"$f":"IF(X557=\"\",\"\",INDEX(referentes!J:K,MATCH(X557,referentes!J:J,0),2))","v":""},null,null,""]
["30000401000000",null,0,{"$f":"IF(E558<>\"\",CONCATENATE(B558,A558,DIGITADOR!$M$1,C558),\"\")","v":""},null,null,"","","",null,554,"",{"$f":"IF(R558=R557,\"\",IF(E558<>\"\",CONCATENATE(B558,A558,DIGITADOR!$M$1,C558),\"\"))","v":""},null,{"$f":"IF(N558=\"\",\"\",INDEX(referentes!S:T,MATCH(N558,referentes!T:T,0),1))","v":""},null,{"$f":"IF(P558=\"\",\"\",INDEX(referentes!Y:Z,MATCH(P558,referentes!Z:Z,0),1))","v":""},"","",null,null,null,null,null,{"$f":"IF(X558=\"\",\"\",INDEX(referentes!J:K,MATCH(X558,referentes!J:J,0),2))","v":""},null,null,""]
["30000401000000",null,0,{"$f":"IF(E559<>\"\",CONCATENATE(B559,A559,DIGITADOR!$M$1,C559),\"\")","v":""},null,null,"","","",null,555,"",{"$f":"IF(R559=R558,\"\",IF(E559<>\"\",CONCATENATE(B559,A559,DIGITADOR!$M$1,C559),\"\"))","v":""},null,{"$f":"IF(N559=\"\",\"\",INDEX(referentes!S:T,MATCH(N559,referentes!T:T,0),1))","v":""},null,{"$f":"IF(P559=\"\",\"\",INDEX(referentes!Y:Z,MATCH(P559,referentes!Z:Z,0),1))","v":""},"","",null,null,null,null,null,{"$f":"IF(X559=\"\",\"\",INDEX(referentes!J:K,MATCH(X559,referentes!J:J,0),2))","v":""},null,null,""]
["30000401000000",null,0,{"$f":"IF(E560<>\"\",CONCATENATE(B560,A560,DIGITADOR!$M$1,C560),\"\")","v":""},null,null,"","","",null,556,"",{"$f":"IF(R560=R559,\"\",IF(E560<>\"\",CONCATENATE(B560,A560,DIGITADOR!$M$1,C560),\"\"))","v":""},null,{"$f":"IF(N560=\"\",\"\",INDEX(referentes!S:T,MATCH(N560,referentes!T:T,0),1))","v":""},null,{"$f":"IF(P560=\"\",\"\",INDEX(referentes!Y:Z,MATCH(P560,referentes!Z:Z,0),1))","v":""},"","",null,null,null,null,null,{"$f":"IF(X560=\"\",\"\",INDEX(referentes!J:K,MATCH(X560,referentes!J:J,0),2))","v":""},null,null,""]
["30000401000000",null,0,{"$f":"IF(E561<>\"\",CONCATENATE(B561,A561,DIGITADOR!$M$1,C561),\"\")","v":""},null,null,"","","",null,557,"",{"$f":"IF(R561=R560,\"\",IF(E561<>\"\",CONCATENATE(B561,A561,DIGITADOR!$M$1,C561),\"\"))","v":""},null,{"$f":"IF(N561=\"\",\"\",INDEX(referentes!S:T,MATCH(N561,referentes!T:T,0),1))","v":""},null,{"$f":"IF(P561=\"\",\"\",INDEX(referentes!Y:Z,MATCH(P561,referentes!Z:Z,0),1))","v":""},"","",null,null,null,null,null,{"$f":"IF(X561=\"\",\"\",INDEX(referentes!J:K,MATCH(X561,referentes!J:J,0),2))","v":""},null,null,""]
["30000401000000",null,0,{"$f":"IF(E562<>\"\",CONCATENATE(B562,A562,DIGITADOR!$M$1,C562),\"\")","v":""},null,null,"","","",null,558,"",{"$f":"IF(R562=R561,\"\",IF(E562<>\"\",CONCATENATE(B562,A562,DIGITADOR!$M$1,C562),\"\"))","v":""},null,{"$f":"IF(N562=\"\",\"\",INDEX(referentes!S:T,MATCH(N562,referentes!T:T,0),1))","v":""},null,{"$f":"IF(P562=\"\",\"\",INDEX(referentes!Y:Z,MATCH(P562,referentes!Z:Z,0),1))","v":""},"","",null,null,null,null,null,{"$f":"IF(X562=\"\",\"\",INDEX(referentes!J:K,MATCH(X562,referentes!J:J,0),2))","v":""},null,null,""]
["30000401000000",null,0,{"$f":"IF(E563<>\"\",CONCATENATE(B563,A563,DIGITADOR!$M$1,C563),\"\")","v":""},null,null,"","","",null,559,"",{"$f":"IF(R563=R562,\"\",IF(E563<>\"\",CONCATENATE(B563,A563,DIGITADOR!$M$1,C563),\"\"))","v":""},null,{"$f":"IF(N563=\"\",\"\",INDEX(referentes!S:T,MATCH(N563,referentes!T:T,0),1))","v":""},null,{"$f":"IF(P563=\"\",\"\",INDEX(referentes!Y:Z,MATCH(P563,referentes!Z:Z,0),1))","v":""},"","",null,null,null,null,null,{"$f":"IF(X563=\"\",\"\",INDEX(referentes!J:K,MATCH(X563,referentes!J:J,0),2))","v":""},null,null,""]
["30000401000000",null,0,{"$f":"IF(E564<>\"\",CONCATENATE(B564,A564,DIGITADOR!$M$1,C564),\"\")","v":""},null,null,"","","",null,560,"",{"$f":"IF(R564=R563,\"\",IF(E564<>\"\",CONCATENATE(B564,A564,DIGITADOR!$M$1,C564),\"\"))","v":""},null,{"$f":"IF(N564=\"\",\"\",INDEX(referentes!S:T,MATCH(N564,referentes!T:T,0),1))","v":""},null,{"$f":"IF(P564=\"\",\"\",INDEX(referentes!Y:Z,MATCH(P564,referentes!Z:Z,0),1))","v":""},"","",null,null,null,null,null,{"$f":"IF(X564=\"\",\"\",INDEX(referentes!J:K,MATCH(X564,referentes!J:J,0),2))","v":""},null,null,""]
["30000401000000",null,0,{"$f":"IF(E565<>\"\",CONCATENATE(B565,A565,DIGITADOR!$M$1,C565),\"\")","v":""},null,null,"","","",null,561,"",{"$f":"IF(R565=R564,\"\",IF(E565<>\"\",CONCATENATE(B565,A565,DIGITADOR!$M$1,C565),\"\"))","v":""},null,{"$f":"IF(N565=\"\",\"\",INDEX(referentes!S:T,MATCH(N565,referentes!T:T,0),1))","v":""},null,{"$f":"IF(P565=\"\",\"\",INDEX(referentes!Y:Z,MATCH(P565,referentes!Z:Z,0),1))","v":""},"","",null,null,null,null,null,{"$f":"IF(X565=\"\",\"\",INDEX(referentes!J:K,MATCH(X565,referentes!J:J,0),2))","v":""},null,null,""]
["30000401000000",null,0,{"$f":"IF(E566<>\"\",CONCATENATE(B566,A566,DIGITADOR!$M$1,C566),\"\")","v":""},null,null,"","","",null,562,"",{"$f":"IF(R566=R565,\"\",IF(E566<>\"\",CONCATENATE(B566,A566,DIGITADOR!$M$1,C566),\"\"))","v":""},null,{"$f":"IF(N566=\"\",\"\",INDEX(referentes!S:T,MATCH(N566,referentes!T:T,0),1))","v":""},null,{"$f":"IF(P566=\"\",\"\",INDEX(referentes!Y:Z,MATCH(P566,referentes!Z:Z,0),1))","v":""},"","",null,null,null,null,null,{"$f":"IF(X566=\"\",\"\",INDEX(referentes!J:K,MATCH(X566,referentes!J:J,0),2))","v":""},null,null,""]
["30000401000000",null,0,{"$f":"IF(E567<>\"\",CONCATENATE(B567,A567,DIGITADOR!$M$1,C567),\"\")","v":""},null,null,"","","",null,563,"",{"$f":"IF(R567=R566,\"\",IF(E567<>\"\",CONCATENATE(B567,A567,DIGITADOR!$M$1,C567),\"\"))","v":""},null,{"$f":"IF(N567=\"\",\"\",INDEX(referentes!S:T,MATCH(N567,referentes!T:T,0),1))","v":""},null,{"$f":"IF(P567=\"\",\"\",INDEX(referentes!Y:Z,MATCH(P567,referentes!Z:Z,0),1))","v":""},"","",null,null,null,null,null,{"$f":"IF(X567=\"\",\"\",INDEX(referentes!J:K,MATCH(X567,referentes!J:J,0),2))","v":""},null,null,""]
["30000401000000",null,0,{"$f":"IF(E568<>\"\",CONCATENATE(B568,A568,DIGITADOR!$M$1,C568),\"\")","v":""},null,null,"","","",null,564,"",{"$f":"IF(R568=R567,\"\",IF(E568<>\"\",CONCATENATE(B568,A568,DIGITADOR!$M$1,C568),\"\"))","v":""},null,{"$f":"IF(N568=\"\",\"\",INDEX(referentes!S:T,MATCH(N568,referentes!T:T,0),1))","v":""},null,{"$f":"IF(P568=\"\",\"\",INDEX(referentes!Y:Z,MATCH(P568,referentes!Z:Z,0),1))","v":""},"","",null,null,null,null,null,{"$f":"IF(X568=\"\",\"\",INDEX(referentes!J:K,MATCH(X568,referentes!J:J,0),2))","v":""},null,null,""]
["30000401000000",null,0,{"$f":"IF(E569<>\"\",CONCATENATE(B569,A569,DIGITADOR!$M$1,C569),\"\")","v":""},null,null,"","","",null,565,"",{"$f":"IF(R569=R568,\"\",IF(E569<>\"\",CONCATENATE(B569,A569,DIGITADOR!$M$1,C569),\"\"))","v":""},null,{"$f":"IF(N569=\"\",\"\",INDEX(referentes!S:T,MATCH(N569,referentes!T:T,0),1))","v":""},null,{"$f":"IF(P569=\"\",\"\",INDEX(referentes!Y:Z,MATCH(P569,referentes!Z:Z,0),1))","v":""},"","",null,null,null,null,null,{"$f":"IF(X569=\"\",\"\",INDEX(referentes!J:K,MATCH(X569,referentes!J:J,0),2))","v":""},null,null,""]
["30000401000000",null,0,{"$f":"IF(E570<>\"\",CONCATENATE(B570,A570,DIGITADOR!$M$1,C570),\"\")","v":""},null,null,"","","",null,566,"",{"$f":"IF(R570=R569,\"\",IF(E570<>\"\",CONCATENATE(B570,A570,DIGITADOR!$M$1,C570),\"\"))","v":""},null,{"$f":"IF(N570=\"\",\"\",INDEX(referentes!S:T,MATCH(N570,referentes!T:T,0),1))","v":""},null,{"$f":"IF(P570=\"\",\"\",INDEX(referentes!Y:Z,MATCH(P570,referentes!Z:Z,0),1))","v":""},"","",null,null,null,null,null,{"$f":"IF(X570=\"\",\"\",INDEX(referentes!J:K,MATCH(X570,referentes!J:J,0),2))","v":""},null,null,""]
["30000401000000",null,0,{"$f":"IF(E571<>\"\",CONCATENATE(B571,A571,DIGITADOR!$M$1,C571),\"\")","v":""},null,null,"","","",null,567,"",{"$f":"IF(R571=R570,\"\",IF(E571<>\"\",CONCATENATE(B571,A571,DIGITADOR!$M$1,C571),\"\"))","v":""},null,{"$f":"IF(N571=\"\",\"\",INDEX(referentes!S:T,MATCH(N571,referentes!T:T,0),1))","v":""},null,{"$f":"IF(P571=\"\",\"\",INDEX(referentes!Y:Z,MATCH(P571,referentes!Z:Z,0),1))","v":""},"","",null,null,null,null,null,{"$f":"IF(X571=\"\",\"\",INDEX(referentes!J:K,MATCH(X571,referentes!J:J,0),2))","v":""},null,null,""]
["30000401000000",null,0,{"$f":"IF(E572<>\"\",CONCATENATE(B572,A572,DIGITADOR!$M$1,C572),\"\")","v":""},null,null,"","","",null,568,"",{"$f":"IF(R572=R571,\"\",IF(E572<>\"\",CONCATENATE(B572,A572,DIGITADOR!$M$1,C572),\"\"))","v":""},null,{"$f":"IF(N572=\"\",\"\",INDEX(referentes!S:T,MATCH(N572,referentes!T:T,0),1))","v":""},null,{"$f":"IF(P572=\"\",\"\",INDEX(referentes!Y:Z,MATCH(P572,referentes!Z:Z,0),1))","v":""},"","",null,null,null,null,null,{"$f":"IF(X572=\"\",\"\",INDEX(referentes!J:K,MATCH(X572,referentes!J:J,0),2))","v":""},null,null,""]
["30000401000000",null,0,{"$f":"IF(E573<>\"\",CONCATENATE(B573,A573,DIGITADOR!$M$1,C573),\"\")","v":""},null,null,"","","",null,569,"",{"$f":"IF(R573=R572,\"\",IF(E573<>\"\",CONCATENATE(B573,A573,DIGITADOR!$M$1,C573),\"\"))","v":""},null,{"$f":"IF(N573=\"\",\"\",INDEX(referentes!S:T,MATCH(N573,referentes!T:T,0),1))","v":""},null,{"$f":"IF(P573=\"\",\"\",INDEX(referentes!Y:Z,MATCH(P573,referentes!Z:Z,0),1))","v":""},"","",null,null,null,null,null,{"$f":"IF(X573=\"\",\"\",INDEX(referentes!J:K,MATCH(X573,referentes!J:J,0),2))","v":""},null,null,""]
["30000401000000",null,0,{"$f":"IF(E574<>\"\",CONCATENATE(B574,A574,DIGITADOR!$M$1,C574),\"\")","v":""},null,null,"","","",null,570,"",{"$f":"IF(R574=R573,\"\",IF(E574<>\"\",CONCATENATE(B574,A574,DIGITADOR!$M$1,C574),\"\"))","v":""},null,{"$f":"IF(N574=\"\",\"\",INDEX(referentes!S:T,MATCH(N574,referentes!T:T,0),1))","v":""},null,{"$f":"IF(P574=\"\",\"\",INDEX(referentes!Y:Z,MATCH(P574,referentes!Z:Z,0),1))","v":""},"","",null,null,null,null,null,{"$f":"IF(X574=\"\",\"\",INDEX(referentes!J:K,MATCH(X574,referentes!J:J,0),2))","v":""},null,null,""]
["30000401000000",null,0,{"$f":"IF(E575<>\"\",CONCATENATE(B575,A575,DIGITADOR!$M$1,C575),\"\")","v":""},null,null,"","","",null,571,"",{"$f":"IF(R575=R574,\"\",IF(E575<>\"\",CONCATENATE(B575,A575,DIGITADOR!$M$1,C575),\"\"))","v":""},null,{"$f":"IF(N575=\"\",\"\",INDEX(referentes!S:T,MATCH(N575,referentes!T:T,0),1))","v":""},null,{"$f":"IF(P575=\"\",\"\",INDEX(referentes!Y:Z,MATCH(P575,referentes!Z:Z,0),1))","v":""},"","",null,null,null,null,null,{"$f":"IF(X575=\"\",\"\",INDEX(referentes!J:K,MATCH(X575,referentes!J:J,0),2))","v":""},null,null,""]
["30000401000000",null,0,{"$f":"IF(E576<>\"\",CONCATENATE(B576,A576,DIGITADOR!$M$1,C576),\"\")","v":""},null,null,"","","",null,572,"",{"$f":"IF(R576=R575,\"\",IF(E576<>\"\",CONCATENATE(B576,A576,DIGITADOR!$M$1,C576),\"\"))","v":""},null,{"$f":"IF(N576=\"\",\"\",INDEX(referentes!S:T,MATCH(N576,referentes!T:T,0),1))","v":""},null,{"$f":"IF(P576=\"\",\"\",INDEX(referentes!Y:Z,MATCH(P576,referentes!Z:Z,0),1))","v":""},"","",null,null,null,null,null,{"$f":"IF(X576=\"\",\"\",INDEX(referentes!J:K,MATCH(X576,referentes!J:J,0),2))","v":""},null,null,""]
["30000401000000",null,0,{"$f":"IF(E577<>\"\",CONCATENATE(B577,A577,DIGITADOR!$M$1,C577),\"\")","v":""},null,null,"","","",null,573,"",{"$f":"IF(R577=R576,\"\",IF(E577<>\"\",CONCATENATE(B577,A577,DIGITADOR!$M$1,C577),\"\"))","v":""},null,{"$f":"IF(N577=\"\",\"\",INDEX(referentes!S:T,MATCH(N577,referentes!T:T,0),1))","v":""},null,{"$f":"IF(P577=\"\",\"\",INDEX(referentes!Y:Z,MATCH(P577,referentes!Z:Z,0),1))","v":""},"","",null,null,null,null,null,{"$f":"IF(X577=\"\",\"\",INDEX(referentes!J:K,MATCH(X577,referentes!J:J,0),2))","v":""},null,null,""]
["30000401000000",null,0,{"$f":"IF(E578<>\"\",CONCATENATE(B578,A578,DIGITADOR!$M$1,C578),\"\")","v":""},null,null,"","","",null,574,"",{"$f":"IF(R578=R577,\"\",IF(E578<>\"\",CONCATENATE(B578,A578,DIGITADOR!$M$1,C578),\"\"))","v":""},null,{"$f":"IF(N578=\"\",\"\",INDEX(referentes!S:T,MATCH(N578,referentes!T:T,0),1))","v":""},null,{"$f":"IF(P578=\"\",\"\",INDEX(referentes!Y:Z,MATCH(P578,referentes!Z:Z,0),1))","v":""},"","",null,null,null,null,null,{"$f":"IF(X578=\"\",\"\",INDEX(referentes!J:K,MATCH(X578,referentes!J:J,0),2))","v":""},null,null,""]
["30000401000000",null,0,{"$f":"IF(E579<>\"\",CONCATENATE(B579,A579,DIGITADOR!$M$1,C579),\"\")","v":""},null,null,"","","",null,575,"",{"$f":"IF(R579=R578,\"\",IF(E579<>\"\",CONCATENATE(B579,A579,DIGITADOR!$M$1,C579),\"\"))","v":""},null,{"$f":"IF(N579=\"\",\"\",INDEX(referentes!S:T,MATCH(N579,referentes!T:T,0),1))","v":""},null,{"$f":"IF(P579=\"\",\"\",INDEX(referentes!Y:Z,MATCH(P579,referentes!Z:Z,0),1))","v":""},"","",null,null,null,null,null,{"$f":"IF(X579=\"\",\"\",INDEX(referentes!J:K,MATCH(X579,referentes!J:J,0),2))","v":""},null,null,""]
["30000401000000",null,0,{"$f":"IF(E580<>\"\",CONCATENATE(B580,A580,DIGITADOR!$M$1,C580),\"\")","v":""},null,null,"","","",null,576,"",{"$f":"IF(R580=R579,\"\",IF(E580<>\"\",CONCATENATE(B580,A580,DIGITADOR!$M$1,C580),\"\"))","v":""},null,{"$f":"IF(N580=\"\",\"\",INDEX(referentes!S:T,MATCH(N580,referentes!T:T,0),1))","v":""},null,{"$f":"IF(P580=\"\",\"\",INDEX(referentes!Y:Z,MATCH(P580,referentes!Z:Z,0),1))","v":""},"","",null,null,null,null,null,{"$f":"IF(X580=\"\",\"\",INDEX(referentes!J:K,MATCH(X580,referentes!J:J,0),2))","v":""},null,null,""]
["30000401000000",null,{"$f":"IF(R581=R580,C580,C580+1)","v":0},{"$f":"IF(E581<>\"\",CONCATENATE(B581,A581,DIGITADOR!$M$1,C581),\"\")","v":""},null,null,"","","",null,577,"",{"$f":"IF(R581=R580,\"\",IF(E581<>\"\",CONCATENATE(B581,A581,DIGITADOR!$M$1,C581),\"\"))","v":""},null,{"$f":"IF(N581=\"\",\"\",INDEX(referentes!S:T,MATCH(N581,referentes!T:T,0),1))","v":""},null,{"$f":"IF(P581=\"\",\"\",INDEX(referentes!Y:Z,MATCH(P581,referentes!Z:Z,0),1))","v":""},"","",null,null,null,null,null,{"$f":"IF(X581=\"\",\"\",INDEX(referentes!J:K,MATCH(X581,referentes!J:J,0),2))","v":""},null,null,""]
["30000401000000",null,0,{"$f":"IF(E582<>\"\",CONCATENATE(B582,A582,DIGITADOR!$M$1,C582),\"\")","v":""},null,null,{"$f":"IF(E582=\"\", \"\", (E582+F582))","v":""},{"$f":"IF(G582<>\"\",MONTH(G582),\"\")","v":""},{"$f":"IF(D582=\"\",\"\",1)","v":""},null,578,{"$f":"IF(E582=\"\",\"\",CONCATENATE(D582,K582))","v":""},{"$f":"IF(R582=R581,\"\",IF(E582<>\"\",CONCATENATE(B582,A582,DIGITADOR!$M$1,C582),\"\"))","v":""},null,{"$f":"IF(N582=\"\",\"\",INDEX(referentes!S:T,MATCH(N582,referentes!T:T,0),1))","v":""},null,{"$f":"IF(P582=\"\",\"\",INDEX(referentes!Y:Z,MATCH(P582,referentes!Z:Z,0),1))","v":""},{"$f":"IF(G582=\"\",\"\",CONCATENATE(G582,O582,Q582))","v":""},{"$f":"IF(E582=\"\",\"\",\"INVEMAR\")","v":""},null,null,null,null,null,{"$f":"IF(X582=\"\",\"\",INDEX(referentes!J:K,MATCH(X582,referentes!J:J,0),2))","v":""},null,null,{"$f":"IF(T582=\"\",\"\",IF(T582=T581,AB581,AA582))","v":""}]
[{"$f":"A582","v":"30000401000000"},null,0,{"$f":"IF(E583<>\"\",CONCATENATE(B583,A583,DIGITADOR!$M$1,C583),\"\")","v":""},null,null,"","","",null,579,"",{"$f":"IF(R583=R582,\"\",IF(E583<>\"\",CONCATENATE(B583,A583,DIGITADOR!$M$1,C583),\"\"))","v":""},null,{"$f":"IF(N583=\"\",\"\",INDEX(referentes!S:T,MATCH(N583,referentes!T:T,0),1))","v":""},null,{"$f":"IF(P583=\"\",\"\",INDEX(referentes!Y:Z,MATCH(P583,referentes!Z:Z,0),1))","v":""},"","",null,null,null,null,null,{"$f":"IF(X583=\"\",\"\",INDEX(referentes!J:K,MATCH(X583,referentes!J:J,0),2))","v":""},null,null,""]
["30000401000000",null,0,{"$f":"IF(E584<>\"\",CONCATENATE(B584,A584,DIGITADOR!$M$1,C584),\"\")","v":""},null,null,"","","",null,580,"",{"$f":"IF(R584=R583,\"\",IF(E584<>\"\",CONCATENATE(B584,A584,DIGITADOR!$M$1,C584),\"\"))","v":""},null,{"$f":"IF(N584=\"\",\"\",INDEX(referentes!S:T,MATCH(N584,referentes!T:T,0),1))","v":""},null,{"$f":"IF(P584=\"\",\"\",INDEX(referentes!Y:Z,MATCH(P584,referentes!Z:Z,0),1))","v":""},"","",null,null,null,null,null,{"$f":"IF(X584=\"\",\"\",INDEX(referentes!J:K,MATCH(X584,referentes!J:J,0),2))","v":""},null,null,""]
["30000401000000",null,0,{"$f":"IF(E585<>\"\",CONCATENATE(B585,A585,DIGITADOR!$M$1,C585),\"\")","v":""},null,null,"","","",null,581,"",{"$f":"IF(R585=R584,\"\",IF(E585<>\"\",CONCATENATE(B585,A585,DIGITADOR!$M$1,C585),\"\"))","v":""},null,{"$f":"IF(N585=\"\",\"\",INDEX(referentes!S:T,MATCH(N585,referentes!T:T,0),1))","v":""},null,{"$f":"IF(P585=\"\",\"\",INDEX(referentes!Y:Z,MATCH(P585,referentes!Z:Z,0),1))","v":""},"","",null,null,null,null,null,{"$f":"IF(X585=\"\",\"\",INDEX(referentes!J:K,MATCH(X585,referentes!J:J,0),2))","v":""},null,null,""]
["30000401000000",null,0,{"$f":"IF(E586<>\"\",CONCATENATE(B586,A586,DIGITADOR!$M$1,C586),\"\")","v":""},null,null,"","","",null,582,"",{"$f":"IF(R586=R585,\"\",IF(E586<>\"\",CONCATENATE(B586,A586,DIGITADOR!$M$1,C586),\"\"))","v":""},null,{"$f":"IF(N586=\"\",\"\",INDEX(referentes!S:T,MATCH(N586,referentes!T:T,0),1))","v":""},null,{"$f":"IF(P586=\"\",\"\",INDEX(referentes!Y:Z,MATCH(P586,referentes!Z:Z,0),1))","v":""},"","",null,null,null,null,null,{"$f":"IF(X586=\"\",\"\",INDEX(referentes!J:K,MATCH(X586,referentes!J:J,0),2))","v":""},null,null,""]
["30000401000000",null,0,{"$f":"IF(E587<>\"\",CONCATENATE(B587,A587,DIGITADOR!$M$1,C587),\"\")","v":""},null,null,"","","",null,583,"",{"$f":"IF(R587=R586,\"\",IF(E587<>\"\",CONCATENATE(B587,A587,DIGITADOR!$M$1,C587),\"\"))","v":""},null,{"$f":"IF(N587=\"\",\"\",INDEX(referentes!S:T,MATCH(N587,referentes!T:T,0),1))","v":""},null,{"$f":"IF(P587=\"\",\"\",INDEX(referentes!Y:Z,MATCH(P587,referentes!Z:Z,0),1))","v":""},"","",null,null,null,null,null,{"$f":"IF(X587=\"\",\"\",INDEX(referentes!J:K,MATCH(X587,referentes!J:J,0),2))","v":""},null,null,""]
["30000401000000",null,0,{"$f":"IF(E588<>\"\",CONCATENATE(B588,A588,DIGITADOR!$M$1,C588),\"\")","v":""},null,null,"","","",null,584,"",{"$f":"IF(R588=R587,\"\",IF(E588<>\"\",CONCATENATE(B588,A588,DIGITADOR!$M$1,C588),\"\"))","v":""},null,{"$f":"IF(N588=\"\",\"\",INDEX(referentes!S:T,MATCH(N588,referentes!T:T,0),1))","v":""},null,{"$f":"IF(P588=\"\",\"\",INDEX(referentes!Y:Z,MATCH(P588,referentes!Z:Z,0),1))","v":""},"","",null,null,null,null,null,{"$f":"IF(X588=\"\",\"\",INDEX(referentes!J:K,MATCH(X588,referentes!J:J,0),2))","v":""},null,null,""]
["30000401000000",null,0,{"$f":"IF(E589<>\"\",CONCATENATE(B589,A589,DIGITADOR!$M$1,C589),\"\")","v":""},null,null,"","","",null,585,"",{"$f":"IF(R589=R588,\"\",IF(E589<>\"\",CONCATENATE(B589,A589,DIGITADOR!$M$1,C589),\"\"))","v":""},null,{"$f":"IF(N589=\"\",\"\",INDEX(referentes!S:T,MATCH(N589,referentes!T:T,0),1))","v":""},null,{"$f":"IF(P589=\"\",\"\",INDEX(referentes!Y:Z,MATCH(P589,referentes!Z:Z,0),1))","v":""},"","",null,null,null,null,null,{"$f":"IF(X589=\"\",\"\",INDEX(referentes!J:K,MATCH(X589,referentes!J:J,0),2))","v":""},null,null,""]
["30000401000000",null,0,{"$f":"IF(E590<>\"\",CONCATENATE(B590,A590,DIGITADOR!$M$1,C590),\"\")","v":""},null,null,"","","",null,586,"",{"$f":"IF(R590=R589,\"\",IF(E590<>\"\",CONCATENATE(B590,A590,DIGITADOR!$M$1,C590),\"\"))","v":""},null,{"$f":"IF(N590=\"\",\"\",INDEX(referentes!S:T,MATCH(N590,referentes!T:T,0),1))","v":""},null,{"$f":"IF(P590=\"\",\"\",INDEX(referentes!Y:Z,MATCH(P590,referentes!Z:Z,0),1))","v":""},"","",null,null,null,null,null,{"$f":"IF(X590=\"\",\"\",INDEX(referentes!J:K,MATCH(X590,referentes!J:J,0),2))","v":""},null,null,""]
["30000401000000",null,0,{"$f":"IF(E591<>\"\",CONCATENATE(B591,A591,DIGITADOR!$M$1,C591),\"\")","v":""},null,null,"","","",null,587,"",{"$f":"IF(R591=R590,\"\",IF(E591<>\"\",CONCATENATE(B591,A591,DIGITADOR!$M$1,C591),\"\"))","v":""},null,{"$f":"IF(N591=\"\",\"\",INDEX(referentes!S:T,MATCH(N591,referentes!T:T,0),1))","v":""},null,{"$f":"IF(P591=\"\",\"\",INDEX(referentes!Y:Z,MATCH(P591,referentes!Z:Z,0),1))","v":""},"","",null,null,null,null,null,{"$f":"IF(X591=\"\",\"\",INDEX(referentes!J:K,MATCH(X591,referentes!J:J,0),2))","v":""},null,null,""]
["30000401000000",null,0,{"$f":"IF(E592<>\"\",CONCATENATE(B592,A592,DIGITADOR!$M$1,C592),\"\")","v":""},null,null,"","","",null,588,"",{"$f":"IF(R592=R591,\"\",IF(E592<>\"\",CONCATENATE(B592,A592,DIGITADOR!$M$1,C592),\"\"))","v":""},null,{"$f":"IF(N592=\"\",\"\",INDEX(referentes!S:T,MATCH(N592,referentes!T:T,0),1))","v":""},null,{"$f":"IF(P592=\"\",\"\",INDEX(referentes!Y:Z,MATCH(P592,referentes!Z:Z,0),1))","v":""},"","",null,null,null,null,null,{"$f":"IF(X592=\"\",\"\",INDEX(referentes!J:K,MATCH(X592,referentes!J:J,0),2))","v":""},null,null,""]
["30000401000000",null,0,{"$f":"IF(E593<>\"\",CONCATENATE(B593,A593,DIGITADOR!$M$1,C593),\"\")","v":""},null,null,"","","",null,589,"",{"$f":"IF(R593=R592,\"\",IF(E593<>\"\",CONCATENATE(B593,A593,DIGITADOR!$M$1,C593),\"\"))","v":""},null,{"$f":"IF(N593=\"\",\"\",INDEX(referentes!S:T,MATCH(N593,referentes!T:T,0),1))","v":""},null,{"$f":"IF(P593=\"\",\"\",INDEX(referentes!Y:Z,MATCH(P593,referentes!Z:Z,0),1))","v":""},"","",null,null,null,null,null,{"$f":"IF(X593=\"\",\"\",INDEX(referentes!J:K,MATCH(X593,referentes!J:J,0),2))","v":""},null,null,""]
["30000401000000",null,0,{"$f":"IF(E594<>\"\",CONCATENATE(B594,A594,DIGITADOR!$M$1,C594),\"\")","v":""},null,null,"","","",null,590,"",{"$f":"IF(R594=R593,\"\",IF(E594<>\"\",CONCATENATE(B594,A594,DIGITADOR!$M$1,C594),\"\"))","v":""},null,{"$f":"IF(N594=\"\",\"\",INDEX(referentes!S:T,MATCH(N594,referentes!T:T,0),1))","v":""},null,{"$f":"IF(P594=\"\",\"\",INDEX(referentes!Y:Z,MATCH(P594,referentes!Z:Z,0),1))","v":""},"","",null,null,null,null,null,{"$f":"IF(X594=\"\",\"\",INDEX(referentes!J:K,MATCH(X594,referentes!J:J,0),2))","v":""},null,null,""]
["30000401000000",null,0,{"$f":"IF(E595<>\"\",CONCATENATE(B595,A595,DIGITADOR!$M$1,C595),\"\")","v":""},null,null,"","","",null,591,"",{"$f":"IF(R595=R594,\"\",IF(E595<>\"\",CONCATENATE(B595,A595,DIGITADOR!$M$1,C595),\"\"))","v":""},null,{"$f":"IF(N595=\"\",\"\",INDEX(referentes!S:T,MATCH(N595,referentes!T:T,0),1))","v":""},null,{"$f":"IF(P595=\"\",\"\",INDEX(referentes!Y:Z,MATCH(P595,referentes!Z:Z,0),1))","v":""},"","",null,null,null,null,null,{"$f":"IF(X595=\"\",\"\",INDEX(referentes!J:K,MATCH(X595,referentes!J:J,0),2))","v":""},null,null,""]
["30000401000000",null,0,{"$f":"IF(E596<>\"\",CONCATENATE(B596,A596,DIGITADOR!$M$1,C596),\"\")","v":""},null,null,"","","",null,592,"",{"$f":"IF(R596=R595,\"\",IF(E596<>\"\",CONCATENATE(B596,A596,DIGITADOR!$M$1,C596),\"\"))","v":""},null,{"$f":"IF(N596=\"\",\"\",INDEX(referentes!S:T,MATCH(N596,referentes!T:T,0),1))","v":""},null,{"$f":"IF(P596=\"\",\"\",INDEX(referentes!Y:Z,MATCH(P596,referentes!Z:Z,0),1))","v":""},"","",null,null,null,null,null,{"$f":"IF(X596=\"\",\"\",INDEX(referentes!J:K,MATCH(X596,referentes!J:J,0),2))","v":""},null,null,""]
["30000401000000",null,0,{"$f":"IF(E597<>\"\",CONCATENATE(B597,A597,DIGITADOR!$M$1,C597),\"\")","v":""},null,null,"","","",null,593,"",{"$f":"IF(R597=R596,\"\",IF(E597<>\"\",CONCATENATE(B597,A597,DIGITADOR!$M$1,C597),\"\"))","v":""},null,{"$f":"IF(N597=\"\",\"\",INDEX(referentes!S:T,MATCH(N597,referentes!T:T,0),1))","v":""},null,{"$f":"IF(P597=\"\",\"\",INDEX(referentes!Y:Z,MATCH(P597,referentes!Z:Z,0),1))","v":""},"","",null,null,null,null,null,{"$f":"IF(X597=\"\",\"\",INDEX(referentes!J:K,MATCH(X597,referentes!J:J,0),2))","v":""},null,null,""]
["30000401000000",null,0,{"$f":"IF(E598<>\"\",CONCATENATE(B598,A598,DIGITADOR!$M$1,C598),\"\")","v":""},null,null,"","","",null,594,"",{"$f":"IF(R598=R597,\"\",IF(E598<>\"\",CONCATENATE(B598,A598,DIGITADOR!$M$1,C598),\"\"))","v":""},null,{"$f":"IF(N598=\"\",\"\",INDEX(referentes!S:T,MATCH(N598,referentes!T:T,0),1))","v":""},null,{"$f":"IF(P598=\"\",\"\",INDEX(referentes!Y:Z,MATCH(P598,referentes!Z:Z,0),1))","v":""},"","",null,null,null,null,null,{"$f":"IF(X598=\"\",\"\",INDEX(referentes!J:K,MATCH(X598,referentes!J:J,0),2))","v":""},null,null,""]
["30000401000000",null,0,{"$f":"IF(E599<>\"\",CONCATENATE(B599,A599,DIGITADOR!$M$1,C599),\"\")","v":""},null,null,"","","",null,595,"",{"$f":"IF(R599=R598,\"\",IF(E599<>\"\",CONCATENATE(B599,A599,DIGITADOR!$M$1,C599),\"\"))","v":""},null,{"$f":"IF(N599=\"\",\"\",INDEX(referentes!S:T,MATCH(N599,referentes!T:T,0),1))","v":""},null,{"$f":"IF(P599=\"\",\"\",INDEX(referentes!Y:Z,MATCH(P599,referentes!Z:Z,0),1))","v":""},"","",null,null,null,null,null,{"$f":"IF(X599=\"\",\"\",INDEX(referentes!J:K,MATCH(X599,referentes!J:J,0),2))","v":""},null,null,""]
["30000401000000",null,0,{"$f":"IF(E600<>\"\",CONCATENATE(B600,A600,DIGITADOR!$M$1,C600),\"\")","v":""},null,null,"","","",null,596,"",{"$f":"IF(R600=R599,\"\",IF(E600<>\"\",CONCATENATE(B600,A600,DIGITADOR!$M$1,C600),\"\"))","v":""},null,{"$f":"IF(N600=\"\",\"\",INDEX(referentes!S:T,MATCH(N600,referentes!T:T,0),1))","v":""},null,{"$f":"IF(P600=\"\",\"\",INDEX(referentes!Y:Z,MATCH(P600,referentes!Z:Z,0),1))","v":""},"","",null,null,null,null,null,{"$f":"IF(X600=\"\",\"\",INDEX(referentes!J:K,MATCH(X600,referentes!J:J,0),2))","v":""},null,null,""]
["30000401000000",null,0,{"$f":"IF(E601<>\"\",CONCATENATE(B601,A601,DIGITADOR!$M$1,C601),\"\")","v":""},null,null,"","","",null,597,"",{"$f":"IF(R601=R600,\"\",IF(E601<>\"\",CONCATENATE(B601,A601,DIGITADOR!$M$1,C601),\"\"))","v":""},null,{"$f":"IF(N601=\"\",\"\",INDEX(referentes!S:T,MATCH(N601,referentes!T:T,0),1))","v":""},null,{"$f":"IF(P601=\"\",\"\",INDEX(referentes!Y:Z,MATCH(P601,referentes!Z:Z,0),1))","v":""},"","",null,null,null,null,null,{"$f":"IF(X601=\"\",\"\",INDEX(referentes!J:K,MATCH(X601,referentes!J:J,0),2))","v":""},null,null,""]
["30000401000000",null,0,{"$f":"IF(E602<>\"\",CONCATENATE(B602,A602,DIGITADOR!$M$1,C602),\"\")","v":""},null,null,"","","",null,598,"",{"$f":"IF(R602=R601,\"\",IF(E602<>\"\",CONCATENATE(B602,A602,DIGITADOR!$M$1,C602),\"\"))","v":""},null,{"$f":"IF(N602=\"\",\"\",INDEX(referentes!S:T,MATCH(N602,referentes!T:T,0),1))","v":""},null,{"$f":"IF(P602=\"\",\"\",INDEX(referentes!Y:Z,MATCH(P602,referentes!Z:Z,0),1))","v":""},"","",null,null,null,null,null,{"$f":"IF(X602=\"\",\"\",INDEX(referentes!J:K,MATCH(X602,referentes!J:J,0),2))","v":""},null,null,""]
["30000401000000",null,0,{"$f":"IF(E603<>\"\",CONCATENATE(B603,A603,DIGITADOR!$M$1,C603),\"\")","v":""},null,null,"","","",null,599,"",{"$f":"IF(R603=R602,\"\",IF(E603<>\"\",CONCATENATE(B603,A603,DIGITADOR!$M$1,C603),\"\"))","v":""},null,{"$f":"IF(N603=\"\",\"\",INDEX(referentes!S:T,MATCH(N603,referentes!T:T,0),1))","v":""},null,{"$f":"IF(P603=\"\",\"\",INDEX(referentes!Y:Z,MATCH(P603,referentes!Z:Z,0),1))","v":""},"","",null,null,null,null,null,{"$f":"IF(X603=\"\",\"\",INDEX(referentes!J:K,MATCH(X603,referentes!J:J,0),2))","v":""},null,null,""]
["30000401000000",null,0,{"$f":"IF(E604<>\"\",CONCATENATE(B604,A604,DIGITADOR!$M$1,C604),\"\")","v":""},null,null,"","","",null,600,"",{"$f":"IF(R604=R603,\"\",IF(E604<>\"\",CONCATENATE(B604,A604,DIGITADOR!$M$1,C604),\"\"))","v":""},null,{"$f":"IF(N604=\"\",\"\",INDEX(referentes!S:T,MATCH(N604,referentes!T:T,0),1))","v":""},null,{"$f":"IF(P604=\"\",\"\",INDEX(referentes!Y:Z,MATCH(P604,referentes!Z:Z,0),1))","v":""},"","",null,null,null,null,null,{"$f":"IF(X604=\"\",\"\",INDEX(referentes!J:K,MATCH(X604,referentes!J:J,0),2))","v":""},null,null,""]
["30000401000000",null,0,{"$f":"IF(E605<>\"\",CONCATENATE(B605,A605,DIGITADOR!$M$1,C605),\"\")","v":""},null,null,"","","",null,601,"",{"$f":"IF(R605=R604,\"\",IF(E605<>\"\",CONCATENATE(B605,A605,DIGITADOR!$M$1,C605),\"\"))","v":""},null,{"$f":"IF(N605=\"\",\"\",INDEX(referentes!S:T,MATCH(N605,referentes!T:T,0),1))","v":""},null,{"$f":"IF(P605=\"\",\"\",INDEX(referentes!Y:Z,MATCH(P605,referentes!Z:Z,0),1))","v":""},"","",null,null,null,null,null,{"$f":"IF(X605=\"\",\"\",INDEX(referentes!J:K,MATCH(X605,referentes!J:J,0),2))","v":""},null,null,""]
["30000401000000",null,0,{"$f":"IF(E606<>\"\",CONCATENATE(B606,A606,DIGITADOR!$M$1,C606),\"\")","v":""},null,null,"","","",null,602,"",{"$f":"IF(R606=R605,\"\",IF(E606<>\"\",CONCATENATE(B606,A606,DIGITADOR!$M$1,C606),\"\"))","v":""},null,{"$f":"IF(N606=\"\",\"\",INDEX(referentes!S:T,MATCH(N606,referentes!T:T,0),1))","v":""},null,{"$f":"IF(P606=\"\",\"\",INDEX(referentes!Y:Z,MATCH(P606,referentes!Z:Z,0),1))","v":""},"","",null,null,null,null,null,{"$f":"IF(X606=\"\",\"\",INDEX(referentes!J:K,MATCH(X606,referentes!J:J,0),2))","v":""},null,null,""]
["30000401000000",null,0,{"$f":"IF(E607<>\"\",CONCATENATE(B607,A607,DIGITADOR!$M$1,C607),\"\")","v":""},null,null,"","","",null,603,"",{"$f":"IF(R607=R606,\"\",IF(E607<>\"\",CONCATENATE(B607,A607,DIGITADOR!$M$1,C607),\"\"))","v":""},null,{"$f":"IF(N607=\"\",\"\",INDEX(referentes!S:T,MATCH(N607,referentes!T:T,0),1))","v":""},null,{"$f":"IF(P607=\"\",\"\",INDEX(referentes!Y:Z,MATCH(P607,referentes!Z:Z,0),1))","v":""},"","",null,null,null,null,null,{"$f":"IF(X607=\"\",\"\",INDEX(referentes!J:K,MATCH(X607,referentes!J:J,0),2))","v":""},null,null,""]
["30000401000000",null,0,{"$f":"IF(E608<>\"\",CONCATENATE(B608,A608,DIGITADOR!$M$1,C608),\"\")","v":""},null,null,"","","",null,604,"",{"$f":"IF(R608=R607,\"\",IF(E608<>\"\",CONCATENATE(B608,A608,DIGITADOR!$M$1,C608),\"\"))","v":""},null,{"$f":"IF(N608=\"\",\"\",INDEX(referentes!S:T,MATCH(N608,referentes!T:T,0),1))","v":""},null,{"$f":"IF(P608=\"\",\"\",INDEX(referentes!Y:Z,MATCH(P608,referentes!Z:Z,0),1))","v":""},"","",null,null,null,null,null,{"$f":"IF(X608=\"\",\"\",INDEX(referentes!J:K,MATCH(X608,referentes!J:J,0),2))","v":""},null,null,""]
["30000401000000",null,0,{"$f":"IF(E609<>\"\",CONCATENATE(B609,A609,DIGITADOR!$M$1,C609),\"\")","v":""},null,null,"","","",null,605,"",{"$f":"IF(R609=R608,\"\",IF(E609<>\"\",CONCATENATE(B609,A609,DIGITADOR!$M$1,C609),\"\"))","v":""},null,{"$f":"IF(N609=\"\",\"\",INDEX(referentes!S:T,MATCH(N609,referentes!T:T,0),1))","v":""},null,{"$f":"IF(P609=\"\",\"\",INDEX(referentes!Y:Z,MATCH(P609,referentes!Z:Z,0),1))","v":""},"","",null,null,null,null,null,{"$f":"IF(X609=\"\",\"\",INDEX(referentes!J:K,MATCH(X609,referentes!J:J,0),2))","v":""},null,null,""]
["30000401000000",null,0,{"$f":"IF(E610<>\"\",CONCATENATE(B610,A610,DIGITADOR!$M$1,C610),\"\")","v":""},null,null,"","","",null,606,"",{"$f":"IF(R610=R609,\"\",IF(E610<>\"\",CONCATENATE(B610,A610,DIGITADOR!$M$1,C610),\"\"))","v":""},null,{"$f":"IF(N610=\"\",\"\",INDEX(referentes!S:T,MATCH(N610,referentes!T:T,0),1))","v":""},null,{"$f":"IF(P610=\"\",\"\",INDEX(referentes!Y:Z,MATCH(P610,referentes!Z:Z,0),1))","v":""},"","",null,null,null,null,null,{"$f":"IF(X610=\"\",\"\",INDEX(referentes!J:K,MATCH(X610,referentes!J:J,0),2))","v":""},null,null,""]
["30000401000000",null,0,{"$f":"IF(E611<>\"\",CONCATENATE(B611,A611,DIGITADOR!$M$1,C611),\"\")","v":""},null,null,"","","",null,607,"",{"$f":"IF(R611=R610,\"\",IF(E611<>\"\",CONCATENATE(B611,A611,DIGITADOR!$M$1,C611),\"\"))","v":""},null,{"$f":"IF(N611=\"\",\"\",INDEX(referentes!S:T,MATCH(N611,referentes!T:T,0),1))","v":""},null,{"$f":"IF(P611=\"\",\"\",INDEX(referentes!Y:Z,MATCH(P611,referentes!Z:Z,0),1))","v":""},"","",null,null,null,null,null,{"$f":"IF(X611=\"\",\"\",INDEX(referentes!J:K,MATCH(X611,referentes!J:J,0),2))","v":""},null,null,""]
["30000401000000",null,0,{"$f":"IF(E612<>\"\",CONCATENATE(B612,A612,DIGITADOR!$M$1,C612),\"\")","v":""},null,null,"","","",null,608,"",{"$f":"IF(R612=R611,\"\",IF(E612<>\"\",CONCATENATE(B612,A612,DIGITADOR!$M$1,C612),\"\"))","v":""},null,{"$f":"IF(N612=\"\",\"\",INDEX(referentes!S:T,MATCH(N612,referentes!T:T,0),1))","v":""},null,{"$f":"IF(P612=\"\",\"\",INDEX(referentes!Y:Z,MATCH(P612,referentes!Z:Z,0),1))","v":""},"","",null,null,null,null,null,{"$f":"IF(X612=\"\",\"\",INDEX(referentes!J:K,MATCH(X612,referentes!J:J,0),2))","v":""},null,null,""]
["30000401000000",null,0,{"$f":"IF(E613<>\"\",CONCATENATE(B613,A613,DIGITADOR!$M$1,C613),\"\")","v":""},null,null,"","","",null,609,"",{"$f":"IF(R613=R612,\"\",IF(E613<>\"\",CONCATENATE(B613,A613,DIGITADOR!$M$1,C613),\"\"))","v":""},null,{"$f":"IF(N613=\"\",\"\",INDEX(referentes!S:T,MATCH(N613,referentes!T:T,0),1))","v":""},null,{"$f":"IF(P613=\"\",\"\",INDEX(referentes!Y:Z,MATCH(P613,referentes!Z:Z,0),1))","v":""},"","",null,null,null,null,null,{"$f":"IF(X613=\"\",\"\",INDEX(referentes!J:K,MATCH(X613,referentes!J:J,0),2))","v":""},null,null,""]
["30000401000000",null,0,{"$f":"IF(E614<>\"\",CONCATENATE(B614,A614,DIGITADOR!$M$1,C614),\"\")","v":""},null,null,"","","",null,610,"",{"$f":"IF(R614=R613,\"\",IF(E614<>\"\",CONCATENATE(B614,A614,DIGITADOR!$M$1,C614),\"\"))","v":""},null,{"$f":"IF(N614=\"\",\"\",INDEX(referentes!S:T,MATCH(N614,referentes!T:T,0),1))","v":""},null,{"$f":"IF(P614=\"\",\"\",INDEX(referentes!Y:Z,MATCH(P614,referentes!Z:Z,0),1))","v":""},"","",null,null,null,null,null,{"$f":"IF(X614=\"\",\"\",INDEX(referentes!J:K,MATCH(X614,referentes!J:J,0),2))","v":""},null,null,""]
["30000401000000",null,0,{"$f":"IF(E615<>\"\",CONCATENATE(B615,A615,DIGITADOR!$M$1,C615),\"\")","v":""},null,null,"","","",null,611,"",{"$f":"IF(R615=R614,\"\",IF(E615<>\"\",CONCATENATE(B615,A615,DIGITADOR!$M$1,C615),\"\"))","v":""},null,{"$f":"IF(N615=\"\",\"\",INDEX(referentes!S:T,MATCH(N615,referentes!T:T,0),1))","v":""},null,{"$f":"IF(P615=\"\",\"\",INDEX(referentes!Y:Z,MATCH(P615,referentes!Z:Z,0),1))","v":""},"","",null,null,null,null,null,{"$f":"IF(X615=\"\",\"\",INDEX(referentes!J:K,MATCH(X615,referentes!J:J,0),2))","v":""},null,null,""]
["30000401000000",null,0,{"$f":"IF(E616<>\"\",CONCATENATE(B616,A616,DIGITADOR!$M$1,C616),\"\")","v":""},null,null,"","","",null,612,"",{"$f":"IF(R616=R615,\"\",IF(E616<>\"\",CONCATENATE(B616,A616,DIGITADOR!$M$1,C616),\"\"))","v":""},null,{"$f":"IF(N616=\"\",\"\",INDEX(referentes!S:T,MATCH(N616,referentes!T:T,0),1))","v":""},null,{"$f":"IF(P616=\"\",\"\",INDEX(referentes!Y:Z,MATCH(P616,referentes!Z:Z,0),1))","v":""},"","",null,null,null,null,null,{"$f":"IF(X616=\"\",\"\",INDEX(referentes!J:K,MATCH(X616,referentes!J:J,0),2))","v":""},null,null,""]
["30000401000000",null,0,{"$f":"IF(E617<>\"\",CONCATENATE(B617,A617,DIGITADOR!$M$1,C617),\"\")","v":""},null,null,"","","",null,613,"",{"$f":"IF(R617=R616,\"\",IF(E617<>\"\",CONCATENATE(B617,A617,DIGITADOR!$M$1,C617),\"\"))","v":""},null,{"$f":"IF(N617=\"\",\"\",INDEX(referentes!S:T,MATCH(N617,referentes!T:T,0),1))","v":""},null,{"$f":"IF(P617=\"\",\"\",INDEX(referentes!Y:Z,MATCH(P617,referentes!Z:Z,0),1))","v":""},"","",null,null,null,null,null,{"$f":"IF(X617=\"\",\"\",INDEX(referentes!J:K,MATCH(X617,referentes!J:J,0),2))","v":""},null,null,""]
["30000401000000",null,0,{"$f":"IF(E618<>\"\",CONCATENATE(B618,A618,DIGITADOR!$M$1,C618),\"\")","v":""},null,null,"","","",null,614,"",{"$f":"IF(R618=R617,\"\",IF(E618<>\"\",CONCATENATE(B618,A618,DIGITADOR!$M$1,C618),\"\"))","v":""},null,{"$f":"IF(N618=\"\",\"\",INDEX(referentes!S:T,MATCH(N618,referentes!T:T,0),1))","v":""},null,{"$f":"IF(P618=\"\",\"\",INDEX(referentes!Y:Z,MATCH(P618,referentes!Z:Z,0),1))","v":""},"","",null,null,null,null,null,{"$f":"IF(X618=\"\",\"\",INDEX(referentes!J:K,MATCH(X618,referentes!J:J,0),2))","v":""},null,null,""]
["30000401000000",null,0,{"$f":"IF(E619<>\"\",CONCATENATE(B619,A619,DIGITADOR!$M$1,C619),\"\")","v":""},null,null,"","","",null,615,"",{"$f":"IF(R619=R618,\"\",IF(E619<>\"\",CONCATENATE(B619,A619,DIGITADOR!$M$1,C619),\"\"))","v":""},null,{"$f":"IF(N619=\"\",\"\",INDEX(referentes!S:T,MATCH(N619,referentes!T:T,0),1))","v":""},null,{"$f":"IF(P619=\"\",\"\",INDEX(referentes!Y:Z,MATCH(P619,referentes!Z:Z,0),1))","v":""},"","",null,null,null,null,null,{"$f":"IF(X619=\"\",\"\",INDEX(referentes!J:K,MATCH(X619,referentes!J:J,0),2))","v":""},null,null,""]
["30000401000000",null,0,{"$f":"IF(E620<>\"\",CONCATENATE(B620,A620,DIGITADOR!$M$1,C620),\"\")","v":""},null,null,"","","",null,616,"",{"$f":"IF(R620=R619,\"\",IF(E620<>\"\",CONCATENATE(B620,A620,DIGITADOR!$M$1,C620),\"\"))","v":""},null,{"$f":"IF(N620=\"\",\"\",INDEX(referentes!S:T,MATCH(N620,referentes!T:T,0),1))","v":""},null,{"$f":"IF(P620=\"\",\"\",INDEX(referentes!Y:Z,MATCH(P620,referentes!Z:Z,0),1))","v":""},"","",null,null,null,null,null,{"$f":"IF(X620=\"\",\"\",INDEX(referentes!J:K,MATCH(X620,referentes!J:J,0),2))","v":""},null,null,""]
["30000401000000",null,0,{"$f":"IF(E621<>\"\",CONCATENATE(B621,A621,DIGITADOR!$M$1,C621),\"\")","v":""},null,null,"","","",null,617,"",{"$f":"IF(R621=R620,\"\",IF(E621<>\"\",CONCATENATE(B621,A621,DIGITADOR!$M$1,C621),\"\"))","v":""},null,{"$f":"IF(N621=\"\",\"\",INDEX(referentes!S:T,MATCH(N621,referentes!T:T,0),1))","v":""},null,{"$f":"IF(P621=\"\",\"\",INDEX(referentes!Y:Z,MATCH(P621,referentes!Z:Z,0),1))","v":""},"","",null,null,null,null,null,{"$f":"IF(X621=\"\",\"\",INDEX(referentes!J:K,MATCH(X621,referentes!J:J,0),2))","v":""},null,null,""]
["30000401000000",null,0,{"$f":"IF(E622<>\"\",CONCATENATE(B622,A622,DIGITADOR!$M$1,C622),\"\")","v":""},null,null,"","","",null,618,"",{"$f":"IF(R622=R621,\"\",IF(E622<>\"\",CONCATENATE(B622,A622,DIGITADOR!$M$1,C622),\"\"))","v":""},null,{"$f":"IF(N622=\"\",\"\",INDEX(referentes!S:T,MATCH(N622,referentes!T:T,0),1))","v":""},null,{"$f":"IF(P622=\"\",\"\",INDEX(referentes!Y:Z,MATCH(P622,referentes!Z:Z,0),1))","v":""},"","",null,null,null,null,null,{"$f":"IF(X622=\"\",\"\",INDEX(referentes!J:K,MATCH(X622,referentes!J:J,0),2))","v":""},null,null,""]
["30000401000000",null,0,{"$f":"IF(E623<>\"\",CONCATENATE(B623,A623,DIGITADOR!$M$1,C623),\"\")","v":""},null,null,"","","",null,619,"",{"$f":"IF(R623=R622,\"\",IF(E623<>\"\",CONCATENATE(B623,A623,DIGITADOR!$M$1,C623),\"\"))","v":""},null,{"$f":"IF(N623=\"\",\"\",INDEX(referentes!S:T,MATCH(N623,referentes!T:T,0),1))","v":""},null,{"$f":"IF(P623=\"\",\"\",INDEX(referentes!Y:Z,MATCH(P623,referentes!Z:Z,0),1))","v":""},"","",null,null,null,null,null,{"$f":"IF(X623=\"\",\"\",INDEX(referentes!J:K,MATCH(X623,referentes!J:J,0),2))","v":""},null,null,""]
["30000401000000",null,0,{"$f":"IF(E624<>\"\",CONCATENATE(B624,A624,DIGITADOR!$M$1,C624),\"\")","v":""},null,null,"","","",null,620,"",{"$f":"IF(R624=R623,\"\",IF(E624<>\"\",CONCATENATE(B624,A624,DIGITADOR!$M$1,C624),\"\"))","v":""},null,{"$f":"IF(N624=\"\",\"\",INDEX(referentes!S:T,MATCH(N624,referentes!T:T,0),1))","v":""},null,{"$f":"IF(P624=\"\",\"\",INDEX(referentes!Y:Z,MATCH(P624,referentes!Z:Z,0),1))","v":""},"","",null,null,null,null,null,{"$f":"IF(X624=\"\",\"\",INDEX(referentes!J:K,MATCH(X624,referentes!J:J,0),2))","v":""},null,null,""]
["30000401000000",null,0,{"$f":"IF(E625<>\"\",CONCATENATE(B625,A625,DIGITADOR!$M$1,C625),\"\")","v":""},null,null,"","","",null,621,"",{"$f":"IF(R625=R624,\"\",IF(E625<>\"\",CONCATENATE(B625,A625,DIGITADOR!$M$1,C625),\"\"))","v":""},null,{"$f":"IF(N625=\"\",\"\",INDEX(referentes!S:T,MATCH(N625,referentes!T:T,0),1))","v":""},null,{"$f":"IF(P625=\"\",\"\",INDEX(referentes!Y:Z,MATCH(P625,referentes!Z:Z,0),1))","v":""},"","",null,null,null,null,null,{"$f":"IF(X625=\"\",\"\",INDEX(referentes!J:K,MATCH(X625,referentes!J:J,0),2))","v":""},null,null,""]
["30000401000000",null,0,{"$f":"IF(E626<>\"\",CONCATENATE(B626,A626,DIGITADOR!$M$1,C626),\"\")","v":""},null,null,"","","",null,622,"",{"$f":"IF(R626=R625,\"\",IF(E626<>\"\",CONCATENATE(B626,A626,DIGITADOR!$M$1,C626),\"\"))","v":""},null,{"$f":"IF(N626=\"\",\"\",INDEX(referentes!S:T,MATCH(N626,referentes!T:T,0),1))","v":""},null,{"$f":"IF(P626=\"\",\"\",INDEX(referentes!Y:Z,MATCH(P626,referentes!Z:Z,0),1))","v":""},"","",null,null,null,null,null,{"$f":"IF(X626=\"\",\"\",INDEX(referentes!J:K,MATCH(X626,referentes!J:J,0),2))","v":""},null,null,""]
["30000401000000",null,0,{"$f":"IF(E627<>\"\",CONCATENATE(B627,A627,DIGITADOR!$M$1,C627),\"\")","v":""},null,null,"","","",null,623,"",{"$f":"IF(R627=R626,\"\",IF(E627<>\"\",CONCATENATE(B627,A627,DIGITADOR!$M$1,C627),\"\"))","v":""},null,{"$f":"IF(N627=\"\",\"\",INDEX(referentes!S:T,MATCH(N627,referentes!T:T,0),1))","v":""},null,{"$f":"IF(P627=\"\",\"\",INDEX(referentes!Y:Z,MATCH(P627,referentes!Z:Z,0),1))","v":""},"","",null,null,null,null,null,{"$f":"IF(X627=\"\",\"\",INDEX(referentes!J:K,MATCH(X627,referentes!J:J,0),2))","v":""},null,null,""]
["30000401000000",null,0,{"$f":"IF(E628<>\"\",CONCATENATE(B628,A628,DIGITADOR!$M$1,C628),\"\")","v":""},null,null,"","","",null,624,"",{"$f":"IF(R628=R627,\"\",IF(E628<>\"\",CONCATENATE(B628,A628,DIGITADOR!$M$1,C628),\"\"))","v":""},null,{"$f":"IF(N628=\"\",\"\",INDEX(referentes!S:T,MATCH(N628,referentes!T:T,0),1))","v":""},null,{"$f":"IF(P628=\"\",\"\",INDEX(referentes!Y:Z,MATCH(P628,referentes!Z:Z,0),1))","v":""},"","",null,null,null,null,null,{"$f":"IF(X628=\"\",\"\",INDEX(referentes!J:K,MATCH(X628,referentes!J:J,0),2))","v":""},null,null,""]
["30000401000000",null,0,{"$f":"IF(E629<>\"\",CONCATENATE(B629,A629,DIGITADOR!$M$1,C629),\"\")","v":""},null,null,"","","",null,625,"",{"$f":"IF(R629=R628,\"\",IF(E629<>\"\",CONCATENATE(B629,A629,DIGITADOR!$M$1,C629),\"\"))","v":""},null,{"$f":"IF(N629=\"\",\"\",INDEX(referentes!S:T,MATCH(N629,referentes!T:T,0),1))","v":""},null,{"$f":"IF(P629=\"\",\"\",INDEX(referentes!Y:Z,MATCH(P629,referentes!Z:Z,0),1))","v":""},"","",null,null,null,null,null,{"$f":"IF(X629=\"\",\"\",INDEX(referentes!J:K,MATCH(X629,referentes!J:J,0),2))","v":""},null,null,""]
["30000401000000",null,0,{"$f":"IF(E630<>\"\",CONCATENATE(B630,A630,DIGITADOR!$M$1,C630),\"\")","v":""},null,null,"","","",null,626,"",{"$f":"IF(R630=R629,\"\",IF(E630<>\"\",CONCATENATE(B630,A630,DIGITADOR!$M$1,C630),\"\"))","v":""},null,{"$f":"IF(N630=\"\",\"\",INDEX(referentes!S:T,MATCH(N630,referentes!T:T,0),1))","v":""},null,{"$f":"IF(P630=\"\",\"\",INDEX(referentes!Y:Z,MATCH(P630,referentes!Z:Z,0),1))","v":""},"","",null,null,null,null,null,{"$f":"IF(X630=\"\",\"\",INDEX(referentes!J:K,MATCH(X630,referentes!J:J,0),2))","v":""},null,null,""]
["30000401000000",null,0,{"$f":"IF(E631<>\"\",CONCATENATE(B631,A631,DIGITADOR!$M$1,C631),\"\")","v":""},null,null,"","","",null,627,"",{"$f":"IF(R631=R630,\"\",IF(E631<>\"\",CONCATENATE(B631,A631,DIGITADOR!$M$1,C631),\"\"))","v":""},null,{"$f":"IF(N631=\"\",\"\",INDEX(referentes!S:T,MATCH(N631,referentes!T:T,0),1))","v":""},null,{"$f":"IF(P631=\"\",\"\",INDEX(referentes!Y:Z,MATCH(P631,referentes!Z:Z,0),1))","v":""},"","",null,null,null,null,null,{"$f":"IF(X631=\"\",\"\",INDEX(referentes!J:K,MATCH(X631,referentes!J:J,0),2))","v":""},null,null,""]
["30000401000000",null,0,{"$f":"IF(E632<>\"\",CONCATENATE(B632,A632,DIGITADOR!$M$1,C632),\"\")","v":""},null,null,"","","",null,628,"",{"$f":"IF(R632=R631,\"\",IF(E632<>\"\",CONCATENATE(B632,A632,DIGITADOR!$M$1,C632),\"\"))","v":""},null,{"$f":"IF(N632=\"\",\"\",INDEX(referentes!S:T,MATCH(N632,referentes!T:T,0),1))","v":""},null,{"$f":"IF(P632=\"\",\"\",INDEX(referentes!Y:Z,MATCH(P632,referentes!Z:Z,0),1))","v":""},"","",null,null,null,null,null,{"$f":"IF(X632=\"\",\"\",INDEX(referentes!J:K,MATCH(X632,referentes!J:J,0),2))","v":""},null,null,""]
["30000401000000",null,0,{"$f":"IF(E633<>\"\",CONCATENATE(B633,A633,DIGITADOR!$M$1,C633),\"\")","v":""},null,null,"","","",null,629,"",{"$f":"IF(R633=R632,\"\",IF(E633<>\"\",CONCATENATE(B633,A633,DIGITADOR!$M$1,C633),\"\"))","v":""},null,{"$f":"IF(N633=\"\",\"\",INDEX(referentes!S:T,MATCH(N633,referentes!T:T,0),1))","v":""},null,{"$f":"IF(P633=\"\",\"\",INDEX(referentes!Y:Z,MATCH(P633,referentes!Z:Z,0),1))","v":""},"","",null,null,null,null,null,{"$f":"IF(X633=\"\",\"\",INDEX(referentes!J:K,MATCH(X633,referentes!J:J,0),2))","v":""},null,null,""]
["30000401000000",null,0,{"$f":"IF(E634<>\"\",CONCATENATE(B634,A634,DIGITADOR!$M$1,C634),\"\")","v":""},null,null,"","","",null,630,"",{"$f":"IF(R634=R633,\"\",IF(E634<>\"\",CONCATENATE(B634,A634,DIGITADOR!$M$1,C634),\"\"))","v":""},null,{"$f":"IF(N634=\"\",\"\",INDEX(referentes!S:T,MATCH(N634,referentes!T:T,0),1))","v":""},null,{"$f":"IF(P634=\"\",\"\",INDEX(referentes!Y:Z,MATCH(P634,referentes!Z:Z,0),1))","v":""},"","",null,null,null,null,null,{"$f":"IF(X634=\"\",\"\",INDEX(referentes!J:K,MATCH(X634,referentes!J:J,0),2))","v":""},null,null,""]
["30000401000000",null,0,{"$f":"IF(E635<>\"\",CONCATENATE(B635,A635,DIGITADOR!$M$1,C635),\"\")","v":""},null,null,"","","",null,631,"",{"$f":"IF(R635=R634,\"\",IF(E635<>\"\",CONCATENATE(B635,A635,DIGITADOR!$M$1,C635),\"\"))","v":""},null,{"$f":"IF(N635=\"\",\"\",INDEX(referentes!S:T,MATCH(N635,referentes!T:T,0),1))","v":""},null,{"$f":"IF(P635=\"\",\"\",INDEX(referentes!Y:Z,MATCH(P635,referentes!Z:Z,0),1))","v":""},"","",null,null,null,null,null,{"$f":"IF(X635=\"\",\"\",INDEX(referentes!J:K,MATCH(X635,referentes!J:J,0),2))","v":""},null,null,""]
["30000401000000",null,0,{"$f":"IF(E636<>\"\",CONCATENATE(B636,A636,DIGITADOR!$M$1,C636),\"\")","v":""},null,null,"","","",null,632,"",{"$f":"IF(R636=R635,\"\",IF(E636<>\"\",CONCATENATE(B636,A636,DIGITADOR!$M$1,C636),\"\"))","v":""},null,{"$f":"IF(N636=\"\",\"\",INDEX(referentes!S:T,MATCH(N636,referentes!T:T,0),1))","v":""},null,{"$f":"IF(P636=\"\",\"\",INDEX(referentes!Y:Z,MATCH(P636,referentes!Z:Z,0),1))","v":""},"","",null,null,null,null,null,{"$f":"IF(X636=\"\",\"\",INDEX(referentes!J:K,MATCH(X636,referentes!J:J,0),2))","v":""},null,null,""]
["30000401000000",null,0,{"$f":"IF(E637<>\"\",CONCATENATE(B637,A637,DIGITADOR!$M$1,C637),\"\")","v":""},null,null,"","","",null,633,"",{"$f":"IF(R637=R636,\"\",IF(E637<>\"\",CONCATENATE(B637,A637,DIGITADOR!$M$1,C637),\"\"))","v":""},null,{"$f":"IF(N637=\"\",\"\",INDEX(referentes!S:T,MATCH(N637,referentes!T:T,0),1))","v":""},null,{"$f":"IF(P637=\"\",\"\",INDEX(referentes!Y:Z,MATCH(P637,referentes!Z:Z,0),1))","v":""},"","",null,null,null,null,null,{"$f":"IF(X637=\"\",\"\",INDEX(referentes!J:K,MATCH(X637,referentes!J:J,0),2))","v":""},null,null,""]
["30000401000000",null,0,{"$f":"IF(E638<>\"\",CONCATENATE(B638,A638,DIGITADOR!$M$1,C638),\"\")","v":""},null,null,"","","",null,634,"",{"$f":"IF(R638=R637,\"\",IF(E638<>\"\",CONCATENATE(B638,A638,DIGITADOR!$M$1,C638),\"\"))","v":""},null,{"$f":"IF(N638=\"\",\"\",INDEX(referentes!S:T,MATCH(N638,referentes!T:T,0),1))","v":""},null,{"$f":"IF(P638=\"\",\"\",INDEX(referentes!Y:Z,MATCH(P638,referentes!Z:Z,0),1))","v":""},"","",null,null,null,null,null,{"$f":"IF(X638=\"\",\"\",INDEX(referentes!J:K,MATCH(X638,referentes!J:J,0),2))","v":""},null,null,""]
["30000401000000",null,0,{"$f":"IF(E639<>\"\",CONCATENATE(B639,A639,DIGITADOR!$M$1,C639),\"\")","v":""},null,null,"","","",null,635,"",{"$f":"IF(R639=R638,\"\",IF(E639<>\"\",CONCATENATE(B639,A639,DIGITADOR!$M$1,C639),\"\"))","v":""},null,{"$f":"IF(N639=\"\",\"\",INDEX(referentes!S:T,MATCH(N639,referentes!T:T,0),1))","v":""},null,{"$f":"IF(P639=\"\",\"\",INDEX(referentes!Y:Z,MATCH(P639,referentes!Z:Z,0),1))","v":""},"","",null,null,null,null,null,{"$f":"IF(X639=\"\",\"\",INDEX(referentes!J:K,MATCH(X639,referentes!J:J,0),2))","v":""},null,null,""]
["30000401000000",null,0,{"$f":"IF(E640<>\"\",CONCATENATE(B640,A640,DIGITADOR!$M$1,C640),\"\")","v":""},null,null,"","","",null,636,"",{"$f":"IF(R640=R639,\"\",IF(E640<>\"\",CONCATENATE(B640,A640,DIGITADOR!$M$1,C640),\"\"))","v":""},null,{"$f":"IF(N640=\"\",\"\",INDEX(referentes!S:T,MATCH(N640,referentes!T:T,0),1))","v":""},null,{"$f":"IF(P640=\"\",\"\",INDEX(referentes!Y:Z,MATCH(P640,referentes!Z:Z,0),1))","v":""},"","",null,null,null,null,null,{"$f":"IF(X640=\"\",\"\",INDEX(referentes!J:K,MATCH(X640,referentes!J:J,0),2))","v":""},null,null,""]
["30000401000000",null,0,{"$f":"IF(E641<>\"\",CONCATENATE(B641,A641,DIGITADOR!$M$1,C641),\"\")","v":""},null,null,"","","",null,637,"",{"$f":"IF(R641=R640,\"\",IF(E641<>\"\",CONCATENATE(B641,A641,DIGITADOR!$M$1,C641),\"\"))","v":""},null,{"$f":"IF(N641=\"\",\"\",INDEX(referentes!S:T,MATCH(N641,referentes!T:T,0),1))","v":""},null,{"$f":"IF(P641=\"\",\"\",INDEX(referentes!Y:Z,MATCH(P641,referentes!Z:Z,0),1))","v":""},"","",null,null,null,null,null,{"$f":"IF(X641=\"\",\"\",INDEX(referentes!J:K,MATCH(X641,referentes!J:J,0),2))","v":""},null,null,""]
["30000401000000",null,0,{"$f":"IF(E642<>\"\",CONCATENATE(B642,A642,DIGITADOR!$M$1,C642),\"\")","v":""},null,null,"","","",null,638,"",{"$f":"IF(R642=R641,\"\",IF(E642<>\"\",CONCATENATE(B642,A642,DIGITADOR!$M$1,C642),\"\"))","v":""},null,{"$f":"IF(N642=\"\",\"\",INDEX(referentes!S:T,MATCH(N642,referentes!T:T,0),1))","v":""},null,{"$f":"IF(P642=\"\",\"\",INDEX(referentes!Y:Z,MATCH(P642,referentes!Z:Z,0),1))","v":""},"","",null,null,null,null,null,{"$f":"IF(X642=\"\",\"\",INDEX(referentes!J:K,MATCH(X642,referentes!J:J,0),2))","v":""},null,null,""]
["30000401000000",null,0,{"$f":"IF(E643<>\"\",CONCATENATE(B643,A643,DIGITADOR!$M$1,C643),\"\")","v":""},null,null,"","","",null,639,"",{"$f":"IF(R643=R642,\"\",IF(E643<>\"\",CONCATENATE(B643,A643,DIGITADOR!$M$1,C643),\"\"))","v":""},null,{"$f":"IF(N643=\"\",\"\",INDEX(referentes!S:T,MATCH(N643,referentes!T:T,0),1))","v":""},null,{"$f":"IF(P643=\"\",\"\",INDEX(referentes!Y:Z,MATCH(P643,referentes!Z:Z,0),1))","v":""},"","",null,null,null,null,null,{"$f":"IF(X643=\"\",\"\",INDEX(referentes!J:K,MATCH(X643,referentes!J:J,0),2))","v":""},null,null,""]
["30000401000000",null,0,{"$f":"IF(E644<>\"\",CONCATENATE(B644,A644,DIGITADOR!$M$1,C644),\"\")","v":""},null,null,"","","",null,640,"",{"$f":"IF(R644=R643,\"\",IF(E644<>\"\",CONCATENATE(B644,A644,DIGITADOR!$M$1,C644),\"\"))","v":""},null,{"$f":"IF(N644=\"\",\"\",INDEX(referentes!S:T,MATCH(N644,referentes!T:T,0),1))","v":""},null,{"$f":"IF(P644=\"\",\"\",INDEX(referentes!Y:Z,MATCH(P644,referentes!Z:Z,0),1))","v":""},"","",null,null,null,null,null,{"$f":"IF(X644=\"\",\"\",INDEX(referentes!J:K,MATCH(X644,referentes!J:J,0),2))","v":""},null,null,""]
["30000401000000",null,{"$f":"IF(R645=R644,C644,C644+1)","v":0},{"$f":"IF(E645<>\"\",CONCATENATE(B645,A645,DIGITADOR!$M$1,C645),\"\")","v":""},null,null,"","","",null,641,"",{"$f":"IF(R645=R644,\"\",IF(E645<>\"\",CONCATENATE(B645,A645,DIGITADOR!$M$1,C645),\"\"))","v":""},null,{"$f":"IF(N645=\"\",\"\",INDEX(referentes!S:T,MATCH(N645,referentes!T:T,0),1))","v":""},null,{"$f":"IF(P645=\"\",\"\",INDEX(referentes!Y:Z,MATCH(P645,referentes!Z:Z,0),1))","v":""},"","",null,null,null,null,null,{"$f":"IF(X645=\"\",\"\",INDEX(referentes!J:K,MATCH(X645,referentes!J:J,0),2))","v":""},null,null,""]
["30000401000000",null,0,{"$f":"IF(E646<>\"\",CONCATENATE(B646,A646,DIGITADOR!$M$1,C646),\"\")","v":""},null,null,{"$f":"IF(E646=\"\", \"\", (E646+F646))","v":""},{"$f":"IF(G646<>\"\",MONTH(G646),\"\")","v":""},{"$f":"IF(D646=\"\",\"\",1)","v":""},null,642,{"$f":"IF(E646=\"\",\"\",CONCATENATE(D646,K646))","v":""},{"$f":"IF(R646=R645,\"\",IF(E646<>\"\",CONCATENATE(B646,A646,DIGITADOR!$M$1,C646),\"\"))","v":""},null,{"$f":"IF(N646=\"\",\"\",INDEX(referentes!S:T,MATCH(N646,referentes!T:T,0),1))","v":""},null,{"$f":"IF(P646=\"\",\"\",INDEX(referentes!Y:Z,MATCH(P646,referentes!Z:Z,0),1))","v":""},{"$f":"IF(G646=\"\",\"\",CONCATENATE(G646,O646,Q646))","v":""},{"$f":"IF(E646=\"\",\"\",\"INVEMAR\")","v":""},null,null,null,null,null,{"$f":"IF(X646=\"\",\"\",INDEX(referentes!J:K,MATCH(X646,referentes!J:J,0),2))","v":""},null,null,{"$f":"IF(T646=\"\",\"\",IF(T646=T645,AB645,AA646))","v":""}]
[{"$f":"A646","v":"30000401000000"},null,0,{"$f":"IF(E647<>\"\",CONCATENATE(B647,A647,DIGITADOR!$M$1,C647),\"\")","v":""},null,null,"","","",null,643,"",{"$f":"IF(R647=R646,\"\",IF(E647<>\"\",CONCATENATE(B647,A647,DIGITADOR!$M$1,C647),\"\"))","v":""},null,{"$f":"IF(N647=\"\",\"\",INDEX(referentes!S:T,MATCH(N647,referentes!T:T,0),1))","v":""},null,{"$f":"IF(P647=\"\",\"\",INDEX(referentes!Y:Z,MATCH(P647,referentes!Z:Z,0),1))","v":""},"","",null,null,null,null,null,{"$f":"IF(X647=\"\",\"\",INDEX(referentes!J:K,MATCH(X647,referentes!J:J,0),2))","v":""},null,null,""]
["30000401000000",null,0,{"$f":"IF(E648<>\"\",CONCATENATE(B648,A648,DIGITADOR!$M$1,C648),\"\")","v":""},null,null,"","","",null,644,"",{"$f":"IF(R648=R647,\"\",IF(E648<>\"\",CONCATENATE(B648,A648,DIGITADOR!$M$1,C648),\"\"))","v":""},null,{"$f":"IF(N648=\"\",\"\",INDEX(referentes!S:T,MATCH(N648,referentes!T:T,0),1))","v":""},null,{"$f":"IF(P648=\"\",\"\",INDEX(referentes!Y:Z,MATCH(P648,referentes!Z:Z,0),1))","v":""},"","",null,null,null,null,null,{"$f":"IF(X648=\"\",\"\",INDEX(referentes!J:K,MATCH(X648,referentes!J:J,0),2))","v":""},null,null,""]
["30000401000000",null,0,{"$f":"IF(E649<>\"\",CONCATENATE(B649,A649,DIGITADOR!$M$1,C649),\"\")","v":""},null,null,"","","",null,645,"",{"$f":"IF(R649=R648,\"\",IF(E649<>\"\",CONCATENATE(B649,A649,DIGITADOR!$M$1,C649),\"\"))","v":""},null,{"$f":"IF(N649=\"\",\"\",INDEX(referentes!S:T,MATCH(N649,referentes!T:T,0),1))","v":""},null,{"$f":"IF(P649=\"\",\"\",INDEX(referentes!Y:Z,MATCH(P649,referentes!Z:Z,0),1))","v":""},"","",null,null,null,null,null,{"$f":"IF(X649=\"\",\"\",INDEX(referentes!J:K,MATCH(X649,referentes!J:J,0),2))","v":""},null,null,""]
["30000401000000",null,0,{"$f":"IF(E650<>\"\",CONCATENATE(B650,A650,DIGITADOR!$M$1,C650),\"\")","v":""},null,null,"","","",null,646,"",{"$f":"IF(R650=R649,\"\",IF(E650<>\"\",CONCATENATE(B650,A650,DIGITADOR!$M$1,C650),\"\"))","v":""},null,{"$f":"IF(N650=\"\",\"\",INDEX(referentes!S:T,MATCH(N650,referentes!T:T,0),1))","v":""},null,{"$f":"IF(P650=\"\",\"\",INDEX(referentes!Y:Z,MATCH(P650,referentes!Z:Z,0),1))","v":""},"","",null,null,null,null,null,{"$f":"IF(X650=\"\",\"\",INDEX(referentes!J:K,MATCH(X650,referentes!J:J,0),2))","v":""},null,null,""]
["30000401000000",null,0,{"$f":"IF(E651<>\"\",CONCATENATE(B651,A651,DIGITADOR!$M$1,C651),\"\")","v":""},null,null,"","","",null,647,"",{"$f":"IF(R651=R650,\"\",IF(E651<>\"\",CONCATENATE(B651,A651,DIGITADOR!$M$1,C651),\"\"))","v":""},null,{"$f":"IF(N651=\"\",\"\",INDEX(referentes!S:T,MATCH(N651,referentes!T:T,0),1))","v":""},null,{"$f":"IF(P651=\"\",\"\",INDEX(referentes!Y:Z,MATCH(P651,referentes!Z:Z,0),1))","v":""},"","",null,null,null,null,null,{"$f":"IF(X651=\"\",\"\",INDEX(referentes!J:K,MATCH(X651,referentes!J:J,0),2))","v":""},null,null,""]
["30000401000000",null,0,{"$f":"IF(E652<>\"\",CONCATENATE(B652,A652,DIGITADOR!$M$1,C652),\"\")","v":""},null,null,"","","",null,648,"",{"$f":"IF(R652=R651,\"\",IF(E652<>\"\",CONCATENATE(B652,A652,DIGITADOR!$M$1,C652),\"\"))","v":""},null,{"$f":"IF(N652=\"\",\"\",INDEX(referentes!S:T,MATCH(N652,referentes!T:T,0),1))","v":""},null,{"$f":"IF(P652=\"\",\"\",INDEX(referentes!Y:Z,MATCH(P652,referentes!Z:Z,0),1))","v":""},"","",null,null,null,null,null,{"$f":"IF(X652=\"\",\"\",INDEX(referentes!J:K,MATCH(X652,referentes!J:J,0),2))","v":""},null,null,""]
["30000401000000",null,0,{"$f":"IF(E653<>\"\",CONCATENATE(B653,A653,DIGITADOR!$M$1,C653),\"\")","v":""},null,null,"","","",null,649,"",{"$f":"IF(R653=R652,\"\",IF(E653<>\"\",CONCATENATE(B653,A653,DIGITADOR!$M$1,C653),\"\"))","v":""},null,{"$f":"IF(N653=\"\",\"\",INDEX(referentes!S:T,MATCH(N653,referentes!T:T,0),1))","v":""},null,{"$f":"IF(P653=\"\",\"\",INDEX(referentes!Y:Z,MATCH(P653,referentes!Z:Z,0),1))","v":""},"","",null,null,null,null,null,{"$f":"IF(X653=\"\",\"\",INDEX(referentes!J:K,MATCH(X653,referentes!J:J,0),2))","v":""},null,null,""]
["30000401000000",null,0,{"$f":"IF(E654<>\"\",CONCATENATE(B654,A654,DIGITADOR!$M$1,C654),\"\")","v":""},null,null,"","","",null,650,"",{"$f":"IF(R654=R653,\"\",IF(E654<>\"\",CONCATENATE(B654,A654,DIGITADOR!$M$1,C654),\"\"))","v":""},null,{"$f":"IF(N654=\"\",\"\",INDEX(referentes!S:T,MATCH(N654,referentes!T:T,0),1))","v":""},null,{"$f":"IF(P654=\"\",\"\",INDEX(referentes!Y:Z,MATCH(P654,referentes!Z:Z,0),1))","v":""},"","",null,null,null,null,null,{"$f":"IF(X654=\"\",\"\",INDEX(referentes!J:K,MATCH(X654,referentes!J:J,0),2))","v":""},null,null,""]
["30000401000000",null,0,{"$f":"IF(E655<>\"\",CONCATENATE(B655,A655,DIGITADOR!$M$1,C655),\"\")","v":""},null,null,"","","",null,651,"",{"$f":"IF(R655=R654,\"\",IF(E655<>\"\",CONCATENATE(B655,A655,DIGITADOR!$M$1,C655),\"\"))","v":""},null,{"$f":"IF(N655=\"\",\"\",INDEX(referentes!S:T,MATCH(N655,referentes!T:T,0),1))","v":""},null,{"$f":"IF(P655=\"\",\"\",INDEX(referentes!Y:Z,MATCH(P655,referentes!Z:Z,0),1))","v":""},"","",null,null,null,null,null,{"$f":"IF(X655=\"\",\"\",INDEX(referentes!J:K,MATCH(X655,referentes!J:J,0),2))","v":""},null,null,""]
["30000401000000",null,0,{"$f":"IF(E656<>\"\",CONCATENATE(B656,A656,DIGITADOR!$M$1,C656),\"\")","v":""},null,null,"","","",null,652,"",{"$f":"IF(R656=R655,\"\",IF(E656<>\"\",CONCATENATE(B656,A656,DIGITADOR!$M$1,C656),\"\"))","v":""},null,{"$f":"IF(N656=\"\",\"\",INDEX(referentes!S:T,MATCH(N656,referentes!T:T,0),1))","v":""},null,{"$f":"IF(P656=\"\",\"\",INDEX(referentes!Y:Z,MATCH(P656,referentes!Z:Z,0),1))","v":""},"","",null,null,null,null,null,{"$f":"IF(X656=\"\",\"\",INDEX(referentes!J:K,MATCH(X656,referentes!J:J,0),2))","v":""},null,null,""]
["30000401000000",null,0,{"$f":"IF(E657<>\"\",CONCATENATE(B657,A657,DIGITADOR!$M$1,C657),\"\")","v":""},null,null,"","","",null,653,"",{"$f":"IF(R657=R656,\"\",IF(E657<>\"\",CONCATENATE(B657,A657,DIGITADOR!$M$1,C657),\"\"))","v":""},null,{"$f":"IF(N657=\"\",\"\",INDEX(referentes!S:T,MATCH(N657,referentes!T:T,0),1))","v":""},null,{"$f":"IF(P657=\"\",\"\",INDEX(referentes!Y:Z,MATCH(P657,referentes!Z:Z,0),1))","v":""},"","",null,null,null,null,null,{"$f":"IF(X657=\"\",\"\",INDEX(referentes!J:K,MATCH(X657,referentes!J:J,0),2))","v":""},null,null,""]
["30000401000000",null,0,{"$f":"IF(E658<>\"\",CONCATENATE(B658,A658,DIGITADOR!$M$1,C658),\"\")","v":""},null,null,"","","",null,654,"",{"$f":"IF(R658=R657,\"\",IF(E658<>\"\",CONCATENATE(B658,A658,DIGITADOR!$M$1,C658),\"\"))","v":""},null,{"$f":"IF(N658=\"\",\"\",INDEX(referentes!S:T,MATCH(N658,referentes!T:T,0),1))","v":""},null,{"$f":"IF(P658=\"\",\"\",INDEX(referentes!Y:Z,MATCH(P658,referentes!Z:Z,0),1))","v":""},"","",null,null,null,null,null,{"$f":"IF(X658=\"\",\"\",INDEX(referentes!J:K,MATCH(X658,referentes!J:J,0),2))","v":""},null,null,""]
["30000401000000",null,0,{"$f":"IF(E659<>\"\",CONCATENATE(B659,A659,DIGITADOR!$M$1,C659),\"\")","v":""},null,null,"","","",null,655,"",{"$f":"IF(R659=R658,\"\",IF(E659<>\"\",CONCATENATE(B659,A659,DIGITADOR!$M$1,C659),\"\"))","v":""},null,{"$f":"IF(N659=\"\",\"\",INDEX(referentes!S:T,MATCH(N659,referentes!T:T,0),1))","v":""},null,{"$f":"IF(P659=\"\",\"\",INDEX(referentes!Y:Z,MATCH(P659,referentes!Z:Z,0),1))","v":""},"","",null,null,null,null,null,{"$f":"IF(X659=\"\",\"\",INDEX(referentes!J:K,MATCH(X659,referentes!J:J,0),2))","v":""},null,null,""]
["30000401000000",null,0,{"$f":"IF(E660<>\"\",CONCATENATE(B660,A660,DIGITADOR!$M$1,C660),\"\")","v":""},null,null,"","","",null,656,"",{"$f":"IF(R660=R659,\"\",IF(E660<>\"\",CONCATENATE(B660,A660,DIGITADOR!$M$1,C660),\"\"))","v":""},null,{"$f":"IF(N660=\"\",\"\",INDEX(referentes!S:T,MATCH(N660,referentes!T:T,0),1))","v":""},null,{"$f":"IF(P660=\"\",\"\",INDEX(referentes!Y:Z,MATCH(P660,referentes!Z:Z,0),1))","v":""},"","",null,null,null,null,null,{"$f":"IF(X660=\"\",\"\",INDEX(referentes!J:K,MATCH(X660,referentes!J:J,0),2))","v":""},null,null,""]
["30000401000000",null,0,{"$f":"IF(E661<>\"\",CONCATENATE(B661,A661,DIGITADOR!$M$1,C661),\"\")","v":""},null,null,"","","",null,657,"",{"$f":"IF(R661=R660,\"\",IF(E661<>\"\",CONCATENATE(B661,A661,DIGITADOR!$M$1,C661),\"\"))","v":""},null,{"$f":"IF(N661=\"\",\"\",INDEX(referentes!S:T,MATCH(N661,referentes!T:T,0),1))","v":""},null,{"$f":"IF(P661=\"\",\"\",INDEX(referentes!Y:Z,MATCH(P661,referentes!Z:Z,0),1))","v":""},"","",null,null,null,null,null,{"$f":"IF(X661=\"\",\"\",INDEX(referentes!J:K,MATCH(X661,referentes!J:J,0),2))","v":""},null,null,""]
["30000401000000",null,0,{"$f":"IF(E662<>\"\",CONCATENATE(B662,A662,DIGITADOR!$M$1,C662),\"\")","v":""},null,null,"","","",null,658,"",{"$f":"IF(R662=R661,\"\",IF(E662<>\"\",CONCATENATE(B662,A662,DIGITADOR!$M$1,C662),\"\"))","v":""},null,{"$f":"IF(N662=\"\",\"\",INDEX(referentes!S:T,MATCH(N662,referentes!T:T,0),1))","v":""},null,{"$f":"IF(P662=\"\",\"\",INDEX(referentes!Y:Z,MATCH(P662,referentes!Z:Z,0),1))","v":""},"","",null,null,null,null,null,{"$f":"IF(X662=\"\",\"\",INDEX(referentes!J:K,MATCH(X662,referentes!J:J,0),2))","v":""},null,null,""]
["30000401000000",null,0,{"$f":"IF(E663<>\"\",CONCATENATE(B663,A663,DIGITADOR!$M$1,C663),\"\")","v":""},null,null,"","","",null,659,"",{"$f":"IF(R663=R662,\"\",IF(E663<>\"\",CONCATENATE(B663,A663,DIGITADOR!$M$1,C663),\"\"))","v":""},null,{"$f":"IF(N663=\"\",\"\",INDEX(referentes!S:T,MATCH(N663,referentes!T:T,0),1))","v":""},null,{"$f":"IF(P663=\"\",\"\",INDEX(referentes!Y:Z,MATCH(P663,referentes!Z:Z,0),1))","v":""},"","",null,null,null,null,null,{"$f":"IF(X663=\"\",\"\",INDEX(referentes!J:K,MATCH(X663,referentes!J:J,0),2))","v":""},null,null,""]
["30000401000000",null,0,{"$f":"IF(E664<>\"\",CONCATENATE(B664,A664,DIGITADOR!$M$1,C664),\"\")","v":""},null,null,"","","",null,660,"",{"$f":"IF(R664=R663,\"\",IF(E664<>\"\",CONCATENATE(B664,A664,DIGITADOR!$M$1,C664),\"\"))","v":""},null,{"$f":"IF(N664=\"\",\"\",INDEX(referentes!S:T,MATCH(N664,referentes!T:T,0),1))","v":""},null,{"$f":"IF(P664=\"\",\"\",INDEX(referentes!Y:Z,MATCH(P664,referentes!Z:Z,0),1))","v":""},"","",null,null,null,null,null,{"$f":"IF(X664=\"\",\"\",INDEX(referentes!J:K,MATCH(X664,referentes!J:J,0),2))","v":""},null,null,""]
["30000401000000",null,0,{"$f":"IF(E665<>\"\",CONCATENATE(B665,A665,DIGITADOR!$M$1,C665),\"\")","v":""},null,null,"","","",null,661,"",{"$f":"IF(R665=R664,\"\",IF(E665<>\"\",CONCATENATE(B665,A665,DIGITADOR!$M$1,C665),\"\"))","v":""},null,{"$f":"IF(N665=\"\",\"\",INDEX(referentes!S:T,MATCH(N665,referentes!T:T,0),1))","v":""},null,{"$f":"IF(P665=\"\",\"\",INDEX(referentes!Y:Z,MATCH(P665,referentes!Z:Z,0),1))","v":""},"","",null,null,null,null,null,{"$f":"IF(X665=\"\",\"\",INDEX(referentes!J:K,MATCH(X665,referentes!J:J,0),2))","v":""},null,null,""]
["30000401000000",null,0,{"$f":"IF(E666<>\"\",CONCATENATE(B666,A666,DIGITADOR!$M$1,C666),\"\")","v":""},null,null,"","","",null,662,"",{"$f":"IF(R666=R665,\"\",IF(E666<>\"\",CONCATENATE(B666,A666,DIGITADOR!$M$1,C666),\"\"))","v":""},null,{"$f":"IF(N666=\"\",\"\",INDEX(referentes!S:T,MATCH(N666,referentes!T:T,0),1))","v":""},null,{"$f":"IF(P666=\"\",\"\",INDEX(referentes!Y:Z,MATCH(P666,referentes!Z:Z,0),1))","v":""},"","",null,null,null,null,null,{"$f":"IF(X666=\"\",\"\",INDEX(referentes!J:K,MATCH(X666,referentes!J:J,0),2))","v":""},null,null,""]
["30000401000000",null,0,{"$f":"IF(E667<>\"\",CONCATENATE(B667,A667,DIGITADOR!$M$1,C667),\"\")","v":""},null,null,"","","",null,663,"",{"$f":"IF(R667=R666,\"\",IF(E667<>\"\",CONCATENATE(B667,A667,DIGITADOR!$M$1,C667),\"\"))","v":""},null,{"$f":"IF(N667=\"\",\"\",INDEX(referentes!S:T,MATCH(N667,referentes!T:T,0),1))","v":""},null,{"$f":"IF(P667=\"\",\"\",INDEX(referentes!Y:Z,MATCH(P667,referentes!Z:Z,0),1))","v":""},"","",null,null,null,null,null,{"$f":"IF(X667=\"\",\"\",INDEX(referentes!J:K,MATCH(X667,referentes!J:J,0),2))","v":""},null,null,""]
["30000401000000",null,0,{"$f":"IF(E668<>\"\",CONCATENATE(B668,A668,DIGITADOR!$M$1,C668),\"\")","v":""},null,null,"","","",null,664,"",{"$f":"IF(R668=R667,\"\",IF(E668<>\"\",CONCATENATE(B668,A668,DIGITADOR!$M$1,C668),\"\"))","v":""},null,{"$f":"IF(N668=\"\",\"\",INDEX(referentes!S:T,MATCH(N668,referentes!T:T,0),1))","v":""},null,{"$f":"IF(P668=\"\",\"\",INDEX(referentes!Y:Z,MATCH(P668,referentes!Z:Z,0),1))","v":""},"","",null,null,null,null,null,{"$f":"IF(X668=\"\",\"\",INDEX(referentes!J:K,MATCH(X668,referentes!J:J,0),2))","v":""},null,null,""]
["30000401000000",null,0,{"$f":"IF(E669<>\"\",CONCATENATE(B669,A669,DIGITADOR!$M$1,C669),\"\")","v":""},null,null,"","","",null,665,"",{"$f":"IF(R669=R668,\"\",IF(E669<>\"\",CONCATENATE(B669,A669,DIGITADOR!$M$1,C669),\"\"))","v":""},null,{"$f":"IF(N669=\"\",\"\",INDEX(referentes!S:T,MATCH(N669,referentes!T:T,0),1))","v":""},null,{"$f":"IF(P669=\"\",\"\",INDEX(referentes!Y:Z,MATCH(P669,referentes!Z:Z,0),1))","v":""},"","",null,null,null,null,null,{"$f":"IF(X669=\"\",\"\",INDEX(referentes!J:K,MATCH(X669,referentes!J:J,0),2))","v":""},null,null,""]
["30000401000000",null,0,{"$f":"IF(E670<>\"\",CONCATENATE(B670,A670,DIGITADOR!$M$1,C670),\"\")","v":""},null,null,"","","",null,666,"",{"$f":"IF(R670=R669,\"\",IF(E670<>\"\",CONCATENATE(B670,A670,DIGITADOR!$M$1,C670),\"\"))","v":""},null,{"$f":"IF(N670=\"\",\"\",INDEX(referentes!S:T,MATCH(N670,referentes!T:T,0),1))","v":""},null,{"$f":"IF(P670=\"\",\"\",INDEX(referentes!Y:Z,MATCH(P670,referentes!Z:Z,0),1))","v":""},"","",null,null,null,null,null,{"$f":"IF(X670=\"\",\"\",INDEX(referentes!J:K,MATCH(X670,referentes!J:J,0),2))","v":""},null,null,""]
["30000401000000",null,0,{"$f":"IF(E671<>\"\",CONCATENATE(B671,A671,DIGITADOR!$M$1,C671),\"\")","v":""},null,null,"","","",null,667,"",{"$f":"IF(R671=R670,\"\",IF(E671<>\"\",CONCATENATE(B671,A671,DIGITADOR!$M$1,C671),\"\"))","v":""},null,{"$f":"IF(N671=\"\",\"\",INDEX(referentes!S:T,MATCH(N671,referentes!T:T,0),1))","v":""},null,{"$f":"IF(P671=\"\",\"\",INDEX(referentes!Y:Z,MATCH(P671,referentes!Z:Z,0),1))","v":""},"","",null,null,null,null,null,{"$f":"IF(X671=\"\",\"\",INDEX(referentes!J:K,MATCH(X671,referentes!J:J,0),2))","v":""},null,null,""]
["30000401000000",null,0,{"$f":"IF(E672<>\"\",CONCATENATE(B672,A672,DIGITADOR!$M$1,C672),\"\")","v":""},null,null,"","","",null,668,"",{"$f":"IF(R672=R671,\"\",IF(E672<>\"\",CONCATENATE(B672,A672,DIGITADOR!$M$1,C672),\"\"))","v":""},null,{"$f":"IF(N672=\"\",\"\",INDEX(referentes!S:T,MATCH(N672,referentes!T:T,0),1))","v":""},null,{"$f":"IF(P672=\"\",\"\",INDEX(referentes!Y:Z,MATCH(P672,referentes!Z:Z,0),1))","v":""},"","",null,null,null,null,null,{"$f":"IF(X672=\"\",\"\",INDEX(referentes!J:K,MATCH(X672,referentes!J:J,0),2))","v":""},null,null,""]
["30000401000000",null,0,{"$f":"IF(E673<>\"\",CONCATENATE(B673,A673,DIGITADOR!$M$1,C673),\"\")","v":""},null,null,"","","",null,669,"",{"$f":"IF(R673=R672,\"\",IF(E673<>\"\",CONCATENATE(B673,A673,DIGITADOR!$M$1,C673),\"\"))","v":""},null,{"$f":"IF(N673=\"\",\"\",INDEX(referentes!S:T,MATCH(N673,referentes!T:T,0),1))","v":""},null,{"$f":"IF(P673=\"\",\"\",INDEX(referentes!Y:Z,MATCH(P673,referentes!Z:Z,0),1))","v":""},"","",null,null,null,null,null,{"$f":"IF(X673=\"\",\"\",INDEX(referentes!J:K,MATCH(X673,referentes!J:J,0),2))","v":""},null,null,""]
["30000401000000",null,0,{"$f":"IF(E674<>\"\",CONCATENATE(B674,A674,DIGITADOR!$M$1,C674),\"\")","v":""},null,null,"","","",null,670,"",{"$f":"IF(R674=R673,\"\",IF(E674<>\"\",CONCATENATE(B674,A674,DIGITADOR!$M$1,C674),\"\"))","v":""},null,{"$f":"IF(N674=\"\",\"\",INDEX(referentes!S:T,MATCH(N674,referentes!T:T,0),1))","v":""},null,{"$f":"IF(P674=\"\",\"\",INDEX(referentes!Y:Z,MATCH(P674,referentes!Z:Z,0),1))","v":""},"","",null,null,null,null,null,{"$f":"IF(X674=\"\",\"\",INDEX(referentes!J:K,MATCH(X674,referentes!J:J,0),2))","v":""},null,null,""]
["30000401000000",null,0,{"$f":"IF(E675<>\"\",CONCATENATE(B675,A675,DIGITADOR!$M$1,C675),\"\")","v":""},null,null,"","","",null,671,"",{"$f":"IF(R675=R674,\"\",IF(E675<>\"\",CONCATENATE(B675,A675,DIGITADOR!$M$1,C675),\"\"))","v":""},null,{"$f":"IF(N675=\"\",\"\",INDEX(referentes!S:T,MATCH(N675,referentes!T:T,0),1))","v":""},null,{"$f":"IF(P675=\"\",\"\",INDEX(referentes!Y:Z,MATCH(P675,referentes!Z:Z,0),1))","v":""},"","",null,null,null,null,null,{"$f":"IF(X675=\"\",\"\",INDEX(referentes!J:K,MATCH(X675,referentes!J:J,0),2))","v":""},null,null,""]
["30000401000000",null,0,{"$f":"IF(E676<>\"\",CONCATENATE(B676,A676,DIGITADOR!$M$1,C676),\"\")","v":""},null,null,"","","",null,672,"",{"$f":"IF(R676=R675,\"\",IF(E676<>\"\",CONCATENATE(B676,A676,DIGITADOR!$M$1,C676),\"\"))","v":""},null,{"$f":"IF(N676=\"\",\"\",INDEX(referentes!S:T,MATCH(N676,referentes!T:T,0),1))","v":""},null,{"$f":"IF(P676=\"\",\"\",INDEX(referentes!Y:Z,MATCH(P676,referentes!Z:Z,0),1))","v":""},"","",null,null,null,null,null,{"$f":"IF(X676=\"\",\"\",INDEX(referentes!J:K,MATCH(X676,referentes!J:J,0),2))","v":""},null,null,""]
["30000401000000",null,0,{"$f":"IF(E677<>\"\",CONCATENATE(B677,A677,DIGITADOR!$M$1,C677),\"\")","v":""},null,null,"","","",null,673,"",{"$f":"IF(R677=R676,\"\",IF(E677<>\"\",CONCATENATE(B677,A677,DIGITADOR!$M$1,C677),\"\"))","v":""},null,{"$f":"IF(N677=\"\",\"\",INDEX(referentes!S:T,MATCH(N677,referentes!T:T,0),1))","v":""},null,{"$f":"IF(P677=\"\",\"\",INDEX(referentes!Y:Z,MATCH(P677,referentes!Z:Z,0),1))","v":""},"","",null,null,null,null,null,{"$f":"IF(X677=\"\",\"\",INDEX(referentes!J:K,MATCH(X677,referentes!J:J,0),2))","v":""},null,null,""]
["30000401000000",null,0,{"$f":"IF(E678<>\"\",CONCATENATE(B678,A678,DIGITADOR!$M$1,C678),\"\")","v":""},null,null,"","","",null,674,"",{"$f":"IF(R678=R677,\"\",IF(E678<>\"\",CONCATENATE(B678,A678,DIGITADOR!$M$1,C678),\"\"))","v":""},null,{"$f":"IF(N678=\"\",\"\",INDEX(referentes!S:T,MATCH(N678,referentes!T:T,0),1))","v":""},null,{"$f":"IF(P678=\"\",\"\",INDEX(referentes!Y:Z,MATCH(P678,referentes!Z:Z,0),1))","v":""},"","",null,null,null,null,null,{"$f":"IF(X678=\"\",\"\",INDEX(referentes!J:K,MATCH(X678,referentes!J:J,0),2))","v":""},null,null,""]
["30000401000000",null,0,{"$f":"IF(E679<>\"\",CONCATENATE(B679,A679,DIGITADOR!$M$1,C679),\"\")","v":""},null,null,"","","",null,675,"",{"$f":"IF(R679=R678,\"\",IF(E679<>\"\",CONCATENATE(B679,A679,DIGITADOR!$M$1,C679),\"\"))","v":""},null,{"$f":"IF(N679=\"\",\"\",INDEX(referentes!S:T,MATCH(N679,referentes!T:T,0),1))","v":""},null,{"$f":"IF(P679=\"\",\"\",INDEX(referentes!Y:Z,MATCH(P679,referentes!Z:Z,0),1))","v":""},"","",null,null,null,null,null,{"$f":"IF(X679=\"\",\"\",INDEX(referentes!J:K,MATCH(X679,referentes!J:J,0),2))","v":""},null,null,""]
["30000401000000",null,0,{"$f":"IF(E680<>\"\",CONCATENATE(B680,A680,DIGITADOR!$M$1,C680),\"\")","v":""},null,null,"","","",null,676,"",{"$f":"IF(R680=R679,\"\",IF(E680<>\"\",CONCATENATE(B680,A680,DIGITADOR!$M$1,C680),\"\"))","v":""},null,{"$f":"IF(N680=\"\",\"\",INDEX(referentes!S:T,MATCH(N680,referentes!T:T,0),1))","v":""},null,{"$f":"IF(P680=\"\",\"\",INDEX(referentes!Y:Z,MATCH(P680,referentes!Z:Z,0),1))","v":""},"","",null,null,null,null,null,{"$f":"IF(X680=\"\",\"\",INDEX(referentes!J:K,MATCH(X680,referentes!J:J,0),2))","v":""},null,null,""]
["30000401000000",null,0,{"$f":"IF(E681<>\"\",CONCATENATE(B681,A681,DIGITADOR!$M$1,C681),\"\")","v":""},null,null,"","","",null,677,"",{"$f":"IF(R681=R680,\"\",IF(E681<>\"\",CONCATENATE(B681,A681,DIGITADOR!$M$1,C681),\"\"))","v":""},null,{"$f":"IF(N681=\"\",\"\",INDEX(referentes!S:T,MATCH(N681,referentes!T:T,0),1))","v":""},null,{"$f":"IF(P681=\"\",\"\",INDEX(referentes!Y:Z,MATCH(P681,referentes!Z:Z,0),1))","v":""},"","",null,null,null,null,null,{"$f":"IF(X681=\"\",\"\",INDEX(referentes!J:K,MATCH(X681,referentes!J:J,0),2))","v":""},null,null,""]
["30000401000000",null,0,{"$f":"IF(E682<>\"\",CONCATENATE(B682,A682,DIGITADOR!$M$1,C682),\"\")","v":""},null,null,"","","",null,678,"",{"$f":"IF(R682=R681,\"\",IF(E682<>\"\",CONCATENATE(B682,A682,DIGITADOR!$M$1,C682),\"\"))","v":""},null,{"$f":"IF(N682=\"\",\"\",INDEX(referentes!S:T,MATCH(N682,referentes!T:T,0),1))","v":""},null,{"$f":"IF(P682=\"\",\"\",INDEX(referentes!Y:Z,MATCH(P682,referentes!Z:Z,0),1))","v":""},"","",null,null,null,null,null,{"$f":"IF(X682=\"\",\"\",INDEX(referentes!J:K,MATCH(X682,referentes!J:J,0),2))","v":""},null,null,""]
["30000401000000",null,0,{"$f":"IF(E683<>\"\",CONCATENATE(B683,A683,DIGITADOR!$M$1,C683),\"\")","v":""},null,null,"","","",null,679,"",{"$f":"IF(R683=R682,\"\",IF(E683<>\"\",CONCATENATE(B683,A683,DIGITADOR!$M$1,C683),\"\"))","v":""},null,{"$f":"IF(N683=\"\",\"\",INDEX(referentes!S:T,MATCH(N683,referentes!T:T,0),1))","v":""},null,{"$f":"IF(P683=\"\",\"\",INDEX(referentes!Y:Z,MATCH(P683,referentes!Z:Z,0),1))","v":""},"","",null,null,null,null,null,{"$f":"IF(X683=\"\",\"\",INDEX(referentes!J:K,MATCH(X683,referentes!J:J,0),2))","v":""},null,null,""]
["30000401000000",null,0,{"$f":"IF(E684<>\"\",CONCATENATE(B684,A684,DIGITADOR!$M$1,C684),\"\")","v":""},null,null,"","","",null,680,"",{"$f":"IF(R684=R683,\"\",IF(E684<>\"\",CONCATENATE(B684,A684,DIGITADOR!$M$1,C684),\"\"))","v":""},null,{"$f":"IF(N684=\"\",\"\",INDEX(referentes!S:T,MATCH(N684,referentes!T:T,0),1))","v":""},null,{"$f":"IF(P684=\"\",\"\",INDEX(referentes!Y:Z,MATCH(P684,referentes!Z:Z,0),1))","v":""},"","",null,null,null,null,null,{"$f":"IF(X684=\"\",\"\",INDEX(referentes!J:K,MATCH(X684,referentes!J:J,0),2))","v":""},null,null,""]
["30000401000000",null,0,{"$f":"IF(E685<>\"\",CONCATENATE(B685,A685,DIGITADOR!$M$1,C685),\"\")","v":""},null,null,"","","",null,681,"",{"$f":"IF(R685=R684,\"\",IF(E685<>\"\",CONCATENATE(B685,A685,DIGITADOR!$M$1,C685),\"\"))","v":""},null,{"$f":"IF(N685=\"\",\"\",INDEX(referentes!S:T,MATCH(N685,referentes!T:T,0),1))","v":""},null,{"$f":"IF(P685=\"\",\"\",INDEX(referentes!Y:Z,MATCH(P685,referentes!Z:Z,0),1))","v":""},"","",null,null,null,null,null,{"$f":"IF(X685=\"\",\"\",INDEX(referentes!J:K,MATCH(X685,referentes!J:J,0),2))","v":""},null,null,""]
["30000401000000",null,0,{"$f":"IF(E686<>\"\",CONCATENATE(B686,A686,DIGITADOR!$M$1,C686),\"\")","v":""},null,null,"","","",null,682,"",{"$f":"IF(R686=R685,\"\",IF(E686<>\"\",CONCATENATE(B686,A686,DIGITADOR!$M$1,C686),\"\"))","v":""},null,{"$f":"IF(N686=\"\",\"\",INDEX(referentes!S:T,MATCH(N686,referentes!T:T,0),1))","v":""},null,{"$f":"IF(P686=\"\",\"\",INDEX(referentes!Y:Z,MATCH(P686,referentes!Z:Z,0),1))","v":""},"","",null,null,null,null,null,{"$f":"IF(X686=\"\",\"\",INDEX(referentes!J:K,MATCH(X686,referentes!J:J,0),2))","v":""},null,null,""]
["30000401000000",null,0,{"$f":"IF(E687<>\"\",CONCATENATE(B687,A687,DIGITADOR!$M$1,C687),\"\")","v":""},null,null,"","","",null,683,"",{"$f":"IF(R687=R686,\"\",IF(E687<>\"\",CONCATENATE(B687,A687,DIGITADOR!$M$1,C687),\"\"))","v":""},null,{"$f":"IF(N687=\"\",\"\",INDEX(referentes!S:T,MATCH(N687,referentes!T:T,0),1))","v":""},null,{"$f":"IF(P687=\"\",\"\",INDEX(referentes!Y:Z,MATCH(P687,referentes!Z:Z,0),1))","v":""},"","",null,null,null,null,null,{"$f":"IF(X687=\"\",\"\",INDEX(referentes!J:K,MATCH(X687,referentes!J:J,0),2))","v":""},null,null,""]
["30000401000000",null,0,{"$f":"IF(E688<>\"\",CONCATENATE(B688,A688,DIGITADOR!$M$1,C688),\"\")","v":""},null,null,"","","",null,684,"",{"$f":"IF(R688=R687,\"\",IF(E688<>\"\",CONCATENATE(B688,A688,DIGITADOR!$M$1,C688),\"\"))","v":""},null,{"$f":"IF(N688=\"\",\"\",INDEX(referentes!S:T,MATCH(N688,referentes!T:T,0),1))","v":""},null,{"$f":"IF(P688=\"\",\"\",INDEX(referentes!Y:Z,MATCH(P688,referentes!Z:Z,0),1))","v":""},"","",null,null,null,null,null,{"$f":"IF(X688=\"\",\"\",INDEX(referentes!J:K,MATCH(X688,referentes!J:J,0),2))","v":""},null,null,""]
["30000401000000",null,0,{"$f":"IF(E689<>\"\",CONCATENATE(B689,A689,DIGITADOR!$M$1,C689),\"\")","v":""},null,null,"","","",null,685,"",{"$f":"IF(R689=R688,\"\",IF(E689<>\"\",CONCATENATE(B689,A689,DIGITADOR!$M$1,C689),\"\"))","v":""},null,{"$f":"IF(N689=\"\",\"\",INDEX(referentes!S:T,MATCH(N689,referentes!T:T,0),1))","v":""},null,{"$f":"IF(P689=\"\",\"\",INDEX(referentes!Y:Z,MATCH(P689,referentes!Z:Z,0),1))","v":""},"","",null,null,null,null,null,{"$f":"IF(X689=\"\",\"\",INDEX(referentes!J:K,MATCH(X689,referentes!J:J,0),2))","v":""},null,null,""]
["30000401000000",null,0,{"$f":"IF(E690<>\"\",CONCATENATE(B690,A690,DIGITADOR!$M$1,C690),\"\")","v":""},null,null,"","","",null,686,"",{"$f":"IF(R690=R689,\"\",IF(E690<>\"\",CONCATENATE(B690,A690,DIGITADOR!$M$1,C690),\"\"))","v":""},null,{"$f":"IF(N690=\"\",\"\",INDEX(referentes!S:T,MATCH(N690,referentes!T:T,0),1))","v":""},null,{"$f":"IF(P690=\"\",\"\",INDEX(referentes!Y:Z,MATCH(P690,referentes!Z:Z,0),1))","v":""},"","",null,null,null,null,null,{"$f":"IF(X690=\"\",\"\",INDEX(referentes!J:K,MATCH(X690,referentes!J:J,0),2))","v":""},null,null,""]
["30000401000000",null,0,{"$f":"IF(E691<>\"\",CONCATENATE(B691,A691,DIGITADOR!$M$1,C691),\"\")","v":""},null,null,"","","",null,687,"",{"$f":"IF(R691=R690,\"\",IF(E691<>\"\",CONCATENATE(B691,A691,DIGITADOR!$M$1,C691),\"\"))","v":""},null,{"$f":"IF(N691=\"\",\"\",INDEX(referentes!S:T,MATCH(N691,referentes!T:T,0),1))","v":""},null,{"$f":"IF(P691=\"\",\"\",INDEX(referentes!Y:Z,MATCH(P691,referentes!Z:Z,0),1))","v":""},"","",null,null,null,null,null,{"$f":"IF(X691=\"\",\"\",INDEX(referentes!J:K,MATCH(X691,referentes!J:J,0),2))","v":""},null,null,""]
["30000401000000",null,0,{"$f":"IF(E692<>\"\",CONCATENATE(B692,A692,DIGITADOR!$M$1,C692),\"\")","v":""},null,null,"","","",null,688,"",{"$f":"IF(R692=R691,\"\",IF(E692<>\"\",CONCATENATE(B692,A692,DIGITADOR!$M$1,C692),\"\"))","v":""},null,{"$f":"IF(N692=\"\",\"\",INDEX(referentes!S:T,MATCH(N692,referentes!T:T,0),1))","v":""},null,{"$f":"IF(P692=\"\",\"\",INDEX(referentes!Y:Z,MATCH(P692,referentes!Z:Z,0),1))","v":""},"","",null,null,null,null,null,{"$f":"IF(X692=\"\",\"\",INDEX(referentes!J:K,MATCH(X692,referentes!J:J,0),2))","v":""},null,null,""]
["30000401000000",null,0,{"$f":"IF(E693<>\"\",CONCATENATE(B693,A693,DIGITADOR!$M$1,C693),\"\")","v":""},null,null,"","","",null,689,"",{"$f":"IF(R693=R692,\"\",IF(E693<>\"\",CONCATENATE(B693,A693,DIGITADOR!$M$1,C693),\"\"))","v":""},null,{"$f":"IF(N693=\"\",\"\",INDEX(referentes!S:T,MATCH(N693,referentes!T:T,0),1))","v":""},null,{"$f":"IF(P693=\"\",\"\",INDEX(referentes!Y:Z,MATCH(P693,referentes!Z:Z,0),1))","v":""},"","",null,null,null,null,null,{"$f":"IF(X693=\"\",\"\",INDEX(referentes!J:K,MATCH(X693,referentes!J:J,0),2))","v":""},null,null,""]
["30000401000000",null,0,{"$f":"IF(E694<>\"\",CONCATENATE(B694,A694,DIGITADOR!$M$1,C694),\"\")","v":""},null,null,"","","",null,690,"",{"$f":"IF(R694=R693,\"\",IF(E694<>\"\",CONCATENATE(B694,A694,DIGITADOR!$M$1,C694),\"\"))","v":""},null,{"$f":"IF(N694=\"\",\"\",INDEX(referentes!S:T,MATCH(N694,referentes!T:T,0),1))","v":""},null,{"$f":"IF(P694=\"\",\"\",INDEX(referentes!Y:Z,MATCH(P694,referentes!Z:Z,0),1))","v":""},"","",null,null,null,null,null,{"$f":"IF(X694=\"\",\"\",INDEX(referentes!J:K,MATCH(X694,referentes!J:J,0),2))","v":""},null,null,""]
["30000401000000",null,0,{"$f":"IF(E695<>\"\",CONCATENATE(B695,A695,DIGITADOR!$M$1,C695),\"\")","v":""},null,null,"","","",null,691,"",{"$f":"IF(R695=R694,\"\",IF(E695<>\"\",CONCATENATE(B695,A695,DIGITADOR!$M$1,C695),\"\"))","v":""},null,{"$f":"IF(N695=\"\",\"\",INDEX(referentes!S:T,MATCH(N695,referentes!T:T,0),1))","v":""},null,{"$f":"IF(P695=\"\",\"\",INDEX(referentes!Y:Z,MATCH(P695,referentes!Z:Z,0),1))","v":""},"","",null,null,null,null,null,{"$f":"IF(X695=\"\",\"\",INDEX(referentes!J:K,MATCH(X695,referentes!J:J,0),2))","v":""},null,null,""]
["30000401000000",null,0,{"$f":"IF(E696<>\"\",CONCATENATE(B696,A696,DIGITADOR!$M$1,C696),\"\")","v":""},null,null,"","","",null,692,"",{"$f":"IF(R696=R695,\"\",IF(E696<>\"\",CONCATENATE(B696,A696,DIGITADOR!$M$1,C696),\"\"))","v":""},null,{"$f":"IF(N696=\"\",\"\",INDEX(referentes!S:T,MATCH(N696,referentes!T:T,0),1))","v":""},null,{"$f":"IF(P696=\"\",\"\",INDEX(referentes!Y:Z,MATCH(P696,referentes!Z:Z,0),1))","v":""},"","",null,null,null,null,null,{"$f":"IF(X696=\"\",\"\",INDEX(referentes!J:K,MATCH(X696,referentes!J:J,0),2))","v":""},null,null,""]
["30000401000000",null,0,{"$f":"IF(E697<>\"\",CONCATENATE(B697,A697,DIGITADOR!$M$1,C697),\"\")","v":""},null,null,"","","",null,693,"",{"$f":"IF(R697=R696,\"\",IF(E697<>\"\",CONCATENATE(B697,A697,DIGITADOR!$M$1,C697),\"\"))","v":""},null,{"$f":"IF(N697=\"\",\"\",INDEX(referentes!S:T,MATCH(N697,referentes!T:T,0),1))","v":""},null,{"$f":"IF(P697=\"\",\"\",INDEX(referentes!Y:Z,MATCH(P697,referentes!Z:Z,0),1))","v":""},"","",null,null,null,null,null,{"$f":"IF(X697=\"\",\"\",INDEX(referentes!J:K,MATCH(X697,referentes!J:J,0),2))","v":""},null,null,""]
["30000401000000",null,0,{"$f":"IF(E698<>\"\",CONCATENATE(B698,A698,DIGITADOR!$M$1,C698),\"\")","v":""},null,null,"","","",null,694,"",{"$f":"IF(R698=R697,\"\",IF(E698<>\"\",CONCATENATE(B698,A698,DIGITADOR!$M$1,C698),\"\"))","v":""},null,{"$f":"IF(N698=\"\",\"\",INDEX(referentes!S:T,MATCH(N698,referentes!T:T,0),1))","v":""},null,{"$f":"IF(P698=\"\",\"\",INDEX(referentes!Y:Z,MATCH(P698,referentes!Z:Z,0),1))","v":""},"","",null,null,null,null,null,{"$f":"IF(X698=\"\",\"\",INDEX(referentes!J:K,MATCH(X698,referentes!J:J,0),2))","v":""},null,null,""]
["30000401000000",null,0,{"$f":"IF(E699<>\"\",CONCATENATE(B699,A699,DIGITADOR!$M$1,C699),\"\")","v":""},null,null,"","","",null,695,"",{"$f":"IF(R699=R698,\"\",IF(E699<>\"\",CONCATENATE(B699,A699,DIGITADOR!$M$1,C699),\"\"))","v":""},null,{"$f":"IF(N699=\"\",\"\",INDEX(referentes!S:T,MATCH(N699,referentes!T:T,0),1))","v":""},null,{"$f":"IF(P699=\"\",\"\",INDEX(referentes!Y:Z,MATCH(P699,referentes!Z:Z,0),1))","v":""},"","",null,null,null,null,null,{"$f":"IF(X699=\"\",\"\",INDEX(referentes!J:K,MATCH(X699,referentes!J:J,0),2))","v":""},null,null,""]
["30000401000000",null,0,{"$f":"IF(E700<>\"\",CONCATENATE(B700,A700,DIGITADOR!$M$1,C700),\"\")","v":""},null,null,"","","",null,696,"",{"$f":"IF(R700=R699,\"\",IF(E700<>\"\",CONCATENATE(B700,A700,DIGITADOR!$M$1,C700),\"\"))","v":""},null,{"$f":"IF(N700=\"\",\"\",INDEX(referentes!S:T,MATCH(N700,referentes!T:T,0),1))","v":""},null,{"$f":"IF(P700=\"\",\"\",INDEX(referentes!Y:Z,MATCH(P700,referentes!Z:Z,0),1))","v":""},"","",null,null,null,null,null,{"$f":"IF(X700=\"\",\"\",INDEX(referentes!J:K,MATCH(X700,referentes!J:J,0),2))","v":""},null,null,""]
["30000401000000",null,0,{"$f":"IF(E701<>\"\",CONCATENATE(B701,A701,DIGITADOR!$M$1,C701),\"\")","v":""},null,null,"","","",null,697,"",{"$f":"IF(R701=R700,\"\",IF(E701<>\"\",CONCATENATE(B701,A701,DIGITADOR!$M$1,C701),\"\"))","v":""},null,{"$f":"IF(N701=\"\",\"\",INDEX(referentes!S:T,MATCH(N701,referentes!T:T,0),1))","v":""},null,{"$f":"IF(P701=\"\",\"\",INDEX(referentes!Y:Z,MATCH(P701,referentes!Z:Z,0),1))","v":""},"","",null,null,null,null,null,{"$f":"IF(X701=\"\",\"\",INDEX(referentes!J:K,MATCH(X701,referentes!J:J,0),2))","v":""},null,null,""]
["30000401000000",null,0,{"$f":"IF(E702<>\"\",CONCATENATE(B702,A702,DIGITADOR!$M$1,C702),\"\")","v":""},null,null,"","","",null,698,"",{"$f":"IF(R702=R701,\"\",IF(E702<>\"\",CONCATENATE(B702,A702,DIGITADOR!$M$1,C702),\"\"))","v":""},null,{"$f":"IF(N702=\"\",\"\",INDEX(referentes!S:T,MATCH(N702,referentes!T:T,0),1))","v":""},null,{"$f":"IF(P702=\"\",\"\",INDEX(referentes!Y:Z,MATCH(P702,referentes!Z:Z,0),1))","v":""},"","",null,null,null,null,null,{"$f":"IF(X702=\"\",\"\",INDEX(referentes!J:K,MATCH(X702,referentes!J:J,0),2))","v":""},null,null,""]
["30000401000000",null,0,{"$f":"IF(E703<>\"\",CONCATENATE(B703,A703,DIGITADOR!$M$1,C703),\"\")","v":""},null,null,"","","",null,699,"",{"$f":"IF(R703=R702,\"\",IF(E703<>\"\",CONCATENATE(B703,A703,DIGITADOR!$M$1,C703),\"\"))","v":""},null,{"$f":"IF(N703=\"\",\"\",INDEX(referentes!S:T,MATCH(N703,referentes!T:T,0),1))","v":""},null,{"$f":"IF(P703=\"\",\"\",INDEX(referentes!Y:Z,MATCH(P703,referentes!Z:Z,0),1))","v":""},"","",null,null,null,null,null,{"$f":"IF(X703=\"\",\"\",INDEX(referentes!J:K,MATCH(X703,referentes!J:J,0),2))","v":""},null,null,""]
["30000401000000",null,0,{"$f":"IF(E704<>\"\",CONCATENATE(B704,A704,DIGITADOR!$M$1,C704),\"\")","v":""},null,null,"","","",null,700,"",{"$f":"IF(R704=R703,\"\",IF(E704<>\"\",CONCATENATE(B704,A704,DIGITADOR!$M$1,C704),\"\"))","v":""},null,{"$f":"IF(N704=\"\",\"\",INDEX(referentes!S:T,MATCH(N704,referentes!T:T,0),1))","v":""},null,{"$f":"IF(P704=\"\",\"\",INDEX(referentes!Y:Z,MATCH(P704,referentes!Z:Z,0),1))","v":""},"","",null,null,null,null,null,{"$f":"IF(X704=\"\",\"\",INDEX(referentes!J:K,MATCH(X704,referentes!J:J,0),2))","v":""},null,null,""]
["30000401000000",null,0,{"$f":"IF(E705<>\"\",CONCATENATE(B705,A705,DIGITADOR!$M$1,C705),\"\")","v":""},null,null,"","","",null,701,"",{"$f":"IF(R705=R704,\"\",IF(E705<>\"\",CONCATENATE(B705,A705,DIGITADOR!$M$1,C705),\"\"))","v":""},null,{"$f":"IF(N705=\"\",\"\",INDEX(referentes!S:T,MATCH(N705,referentes!T:T,0),1))","v":""},null,{"$f":"IF(P705=\"\",\"\",INDEX(referentes!Y:Z,MATCH(P705,referentes!Z:Z,0),1))","v":""},"","",null,null,null,null,null,{"$f":"IF(X705=\"\",\"\",INDEX(referentes!J:K,MATCH(X705,referentes!J:J,0),2))","v":""},null,null,""]
["30000401000000",null,0,{"$f":"IF(E706<>\"\",CONCATENATE(B706,A706,DIGITADOR!$M$1,C706),\"\")","v":""},null,null,"","","",null,702,"",{"$f":"IF(R706=R705,\"\",IF(E706<>\"\",CONCATENATE(B706,A706,DIGITADOR!$M$1,C706),\"\"))","v":""},null,{"$f":"IF(N706=\"\",\"\",INDEX(referentes!S:T,MATCH(N706,referentes!T:T,0),1))","v":""},null,{"$f":"IF(P706=\"\",\"\",INDEX(referentes!Y:Z,MATCH(P706,referentes!Z:Z,0),1))","v":""},"","",null,null,null,null,null,{"$f":"IF(X706=\"\",\"\",INDEX(referentes!J:K,MATCH(X706,referentes!J:J,0),2))","v":""},null,null,""]
["30000401000000",null,0,{"$f":"IF(E707<>\"\",CONCATENATE(B707,A707,DIGITADOR!$M$1,C707),\"\")","v":""},null,null,"","","",null,703,"",{"$f":"IF(R707=R706,\"\",IF(E707<>\"\",CONCATENATE(B707,A707,DIGITADOR!$M$1,C707),\"\"))","v":""},null,{"$f":"IF(N707=\"\",\"\",INDEX(referentes!S:T,MATCH(N707,referentes!T:T,0),1))","v":""},null,{"$f":"IF(P707=\"\",\"\",INDEX(referentes!Y:Z,MATCH(P707,referentes!Z:Z,0),1))","v":""},"","",null,null,null,null,null,{"$f":"IF(X707=\"\",\"\",INDEX(referentes!J:K,MATCH(X707,referentes!J:J,0),2))","v":""},null,null,""]
["30000401000000",null,0,{"$f":"IF(E708<>\"\",CONCATENATE(B708,A708,DIGITADOR!$M$1,C708),\"\")","v":""},null,null,"","","",null,704,"",{"$f":"IF(R708=R707,\"\",IF(E708<>\"\",CONCATENATE(B708,A708,DIGITADOR!$M$1,C708),\"\"))","v":""},null,{"$f":"IF(N708=\"\",\"\",INDEX(referentes!S:T,MATCH(N708,referentes!T:T,0),1))","v":""},null,{"$f":"IF(P708=\"\",\"\",INDEX(referentes!Y:Z,MATCH(P708,referentes!Z:Z,0),1))","v":""},"","",null,null,null,null,null,{"$f":"IF(X708=\"\",\"\",INDEX(referentes!J:K,MATCH(X708,referentes!J:J,0),2))","v":""},null,null,""]
["30000401000000",null,{"$f":"IF(R709=R708,C708,C708+1)","v":0},{"$f":"IF(E709<>\"\",CONCATENATE(B709,A709,DIGITADOR!$M$1,C709),\"\")","v":""},null,null,"","","",null,705,"",{"$f":"IF(R709=R708,\"\",IF(E709<>\"\",CONCATENATE(B709,A709,DIGITADOR!$M$1,C709),\"\"))","v":""},null,{"$f":"IF(N709=\"\",\"\",INDEX(referentes!S:T,MATCH(N709,referentes!T:T,0),1))","v":""},null,{"$f":"IF(P709=\"\",\"\",INDEX(referentes!Y:Z,MATCH(P709,referentes!Z:Z,0),1))","v":""},"","",null,null,null,null,null,{"$f":"IF(X709=\"\",\"\",INDEX(referentes!J:K,MATCH(X709,referentes!J:J,0),2))","v":""},null,null,""]
["30000401000000",null,0,{"$f":"IF(E710<>\"\",CONCATENATE(B710,A710,DIGITADOR!$M$1,C710),\"\")","v":""},null,null,{"$f":"IF(E710=\"\", \"\", (E710+F710))","v":""},{"$f":"IF(G710<>\"\",MONTH(G710),\"\")","v":""},{"$f":"IF(D710=\"\",\"\",1)","v":""},null,706,{"$f":"IF(E710=\"\",\"\",CONCATENATE(D710,K710))","v":""},{"$f":"IF(R710=R709,\"\",IF(E710<>\"\",CONCATENATE(B710,A710,DIGITADOR!$M$1,C710),\"\"))","v":""},null,{"$f":"IF(N710=\"\",\"\",INDEX(referentes!S:T,MATCH(N710,referentes!T:T,0),1))","v":""},null,{"$f":"IF(P710=\"\",\"\",INDEX(referentes!Y:Z,MATCH(P710,referentes!Z:Z,0),1))","v":""},{"$f":"IF(G710=\"\",\"\",CONCATENATE(G710,O710,Q710))","v":""},{"$f":"IF(E710=\"\",\"\",\"INVEMAR\")","v":""},null,null,null,null,null,{"$f":"IF(X710=\"\",\"\",INDEX(referentes!J:K,MATCH(X710,referentes!J:J,0),2))","v":""},null,null,{"$f":"IF(T710=\"\",\"\",IF(T710=T709,AB709,AA710))","v":""}]
[{"$f":"A710","v":"30000401000000"},null,0,{"$f":"IF(E711<>\"\",CONCATENATE(B711,A711,DIGITADOR!$M$1,C711),\"\")","v":""},null,null,"","","",null,707,"",{"$f":"IF(R711=R710,\"\",IF(E711<>\"\",CONCATENATE(B711,A711,DIGITADOR!$M$1,C711),\"\"))","v":""},null,{"$f":"IF(N711=\"\",\"\",INDEX(referentes!S:T,MATCH(N711,referentes!T:T,0),1))","v":""},null,{"$f":"IF(P711=\"\",\"\",INDEX(referentes!Y:Z,MATCH(P711,referentes!Z:Z,0),1))","v":""},"","",null,null,null,null,null,{"$f":"IF(X711=\"\",\"\",INDEX(referentes!J:K,MATCH(X711,referentes!J:J,0),2))","v":""},null,null,""]
["30000401000000",null,0,{"$f":"IF(E712<>\"\",CONCATENATE(B712,A712,DIGITADOR!$M$1,C712),\"\")","v":""},null,null,"","","",null,708,"",{"$f":"IF(R712=R711,\"\",IF(E712<>\"\",CONCATENATE(B712,A712,DIGITADOR!$M$1,C712),\"\"))","v":""},null,{"$f":"IF(N712=\"\",\"\",INDEX(referentes!S:T,MATCH(N712,referentes!T:T,0),1))","v":""},null,{"$f":"IF(P712=\"\",\"\",INDEX(referentes!Y:Z,MATCH(P712,referentes!Z:Z,0),1))","v":""},"","",null,null,null,null,null,{"$f":"IF(X712=\"\",\"\",INDEX(referentes!J:K,MATCH(X712,referentes!J:J,0),2))","v":""},null,null,""]
["30000401000000",null,0,{"$f":"IF(E713<>\"\",CONCATENATE(B713,A713,DIGITADOR!$M$1,C713),\"\")","v":""},null,null,"","","",null,709,"",{"$f":"IF(R713=R712,\"\",IF(E713<>\"\",CONCATENATE(B713,A713,DIGITADOR!$M$1,C713),\"\"))","v":""},null,{"$f":"IF(N713=\"\",\"\",INDEX(referentes!S:T,MATCH(N713,referentes!T:T,0),1))","v":""},null,{"$f":"IF(P713=\"\",\"\",INDEX(referentes!Y:Z,MATCH(P713,referentes!Z:Z,0),1))","v":""},"","",null,null,null,null,null,{"$f":"IF(X713=\"\",\"\",INDEX(referentes!J:K,MATCH(X713,referentes!J:J,0),2))","v":""},null,null,""]
["30000401000000",null,0,{"$f":"IF(E714<>\"\",CONCATENATE(B714,A714,DIGITADOR!$M$1,C714),\"\")","v":""},null,null,"","","",null,710,"",{"$f":"IF(R714=R713,\"\",IF(E714<>\"\",CONCATENATE(B714,A714,DIGITADOR!$M$1,C714),\"\"))","v":""},null,{"$f":"IF(N714=\"\",\"\",INDEX(referentes!S:T,MATCH(N714,referentes!T:T,0),1))","v":""},null,{"$f":"IF(P714=\"\",\"\",INDEX(referentes!Y:Z,MATCH(P714,referentes!Z:Z,0),1))","v":""},"","",null,null,null,null,null,{"$f":"IF(X714=\"\",\"\",INDEX(referentes!J:K,MATCH(X714,referentes!J:J,0),2))","v":""},null,null,""]
["30000401000000",null,0,{"$f":"IF(E715<>\"\",CONCATENATE(B715,A715,DIGITADOR!$M$1,C715),\"\")","v":""},null,null,"","","",null,711,"",{"$f":"IF(R715=R714,\"\",IF(E715<>\"\",CONCATENATE(B715,A715,DIGITADOR!$M$1,C715),\"\"))","v":""},null,{"$f":"IF(N715=\"\",\"\",INDEX(referentes!S:T,MATCH(N715,referentes!T:T,0),1))","v":""},null,{"$f":"IF(P715=\"\",\"\",INDEX(referentes!Y:Z,MATCH(P715,referentes!Z:Z,0),1))","v":""},"","",null,null,null,null,null,{"$f":"IF(X715=\"\",\"\",INDEX(referentes!J:K,MATCH(X715,referentes!J:J,0),2))","v":""},null,null,""]
["30000401000000",null,0,{"$f":"IF(E716<>\"\",CONCATENATE(B716,A716,DIGITADOR!$M$1,C716),\"\")","v":""},null,null,"","","",null,712,"",{"$f":"IF(R716=R715,\"\",IF(E716<>\"\",CONCATENATE(B716,A716,DIGITADOR!$M$1,C716),\"\"))","v":""},null,{"$f":"IF(N716=\"\",\"\",INDEX(referentes!S:T,MATCH(N716,referentes!T:T,0),1))","v":""},null,{"$f":"IF(P716=\"\",\"\",INDEX(referentes!Y:Z,MATCH(P716,referentes!Z:Z,0),1))","v":""},"","",null,null,null,null,null,{"$f":"IF(X716=\"\",\"\",INDEX(referentes!J:K,MATCH(X716,referentes!J:J,0),2))","v":""},null,null,""]
["30000401000000",null,0,{"$f":"IF(E717<>\"\",CONCATENATE(B717,A717,DIGITADOR!$M$1,C717),\"\")","v":""},null,null,"","","",null,713,"",{"$f":"IF(R717=R716,\"\",IF(E717<>\"\",CONCATENATE(B717,A717,DIGITADOR!$M$1,C717),\"\"))","v":""},null,{"$f":"IF(N717=\"\",\"\",INDEX(referentes!S:T,MATCH(N717,referentes!T:T,0),1))","v":""},null,{"$f":"IF(P717=\"\",\"\",INDEX(referentes!Y:Z,MATCH(P717,referentes!Z:Z,0),1))","v":""},"","",null,null,null,null,null,{"$f":"IF(X717=\"\",\"\",INDEX(referentes!J:K,MATCH(X717,referentes!J:J,0),2))","v":""},null,null,""]
["30000401000000",null,0,{"$f":"IF(E718<>\"\",CONCATENATE(B718,A718,DIGITADOR!$M$1,C718),\"\")","v":""},null,null,"","","",null,714,"",{"$f":"IF(R718=R717,\"\",IF(E718<>\"\",CONCATENATE(B718,A718,DIGITADOR!$M$1,C718),\"\"))","v":""},null,{"$f":"IF(N718=\"\",\"\",INDEX(referentes!S:T,MATCH(N718,referentes!T:T,0),1))","v":""},null,{"$f":"IF(P718=\"\",\"\",INDEX(referentes!Y:Z,MATCH(P718,referentes!Z:Z,0),1))","v":""},"","",null,null,null,null,null,{"$f":"IF(X718=\"\",\"\",INDEX(referentes!J:K,MATCH(X718,referentes!J:J,0),2))","v":""},null,null,""]
["30000401000000",null,0,{"$f":"IF(E719<>\"\",CONCATENATE(B719,A719,DIGITADOR!$M$1,C719),\"\")","v":""},null,null,"","","",null,715,"",{"$f":"IF(R719=R718,\"\",IF(E719<>\"\",CONCATENATE(B719,A719,DIGITADOR!$M$1,C719),\"\"))","v":""},null,{"$f":"IF(N719=\"\",\"\",INDEX(referentes!S:T,MATCH(N719,referentes!T:T,0),1))","v":""},null,{"$f":"IF(P719=\"\",\"\",INDEX(referentes!Y:Z,MATCH(P719,referentes!Z:Z,0),1))","v":""},"","",null,null,null,null,null,{"$f":"IF(X719=\"\",\"\",INDEX(referentes!J:K,MATCH(X719,referentes!J:J,0),2))","v":""},null,null,""]
["30000401000000",null,0,{"$f":"IF(E720<>\"\",CONCATENATE(B720,A720,DIGITADOR!$M$1,C720),\"\")","v":""},null,null,"","","",null,716,"",{"$f":"IF(R720=R719,\"\",IF(E720<>\"\",CONCATENATE(B720,A720,DIGITADOR!$M$1,C720),\"\"))","v":""},null,{"$f":"IF(N720=\"\",\"\",INDEX(referentes!S:T,MATCH(N720,referentes!T:T,0),1))","v":""},null,{"$f":"IF(P720=\"\",\"\",INDEX(referentes!Y:Z,MATCH(P720,referentes!Z:Z,0),1))","v":""},"","",null,null,null,null,null,{"$f":"IF(X720=\"\",\"\",INDEX(referentes!J:K,MATCH(X720,referentes!J:J,0),2))","v":""},null,null,""]
["30000401000000",null,0,{"$f":"IF(E721<>\"\",CONCATENATE(B721,A721,DIGITADOR!$M$1,C721),\"\")","v":""},null,null,"","","",null,717,"",{"$f":"IF(R721=R720,\"\",IF(E721<>\"\",CONCATENATE(B721,A721,DIGITADOR!$M$1,C721),\"\"))","v":""},null,{"$f":"IF(N721=\"\",\"\",INDEX(referentes!S:T,MATCH(N721,referentes!T:T,0),1))","v":""},null,{"$f":"IF(P721=\"\",\"\",INDEX(referentes!Y:Z,MATCH(P721,referentes!Z:Z,0),1))","v":""},"","",null,null,null,null,null,{"$f":"IF(X721=\"\",\"\",INDEX(referentes!J:K,MATCH(X721,referentes!J:J,0),2))","v":""},null,null,""]
["30000401000000",null,0,{"$f":"IF(E722<>\"\",CONCATENATE(B722,A722,DIGITADOR!$M$1,C722),\"\")","v":""},null,null,"","","",null,718,"",{"$f":"IF(R722=R721,\"\",IF(E722<>\"\",CONCATENATE(B722,A722,DIGITADOR!$M$1,C722),\"\"))","v":""},null,{"$f":"IF(N722=\"\",\"\",INDEX(referentes!S:T,MATCH(N722,referentes!T:T,0),1))","v":""},null,{"$f":"IF(P722=\"\",\"\",INDEX(referentes!Y:Z,MATCH(P722,referentes!Z:Z,0),1))","v":""},"","",null,null,null,null,null,{"$f":"IF(X722=\"\",\"\",INDEX(referentes!J:K,MATCH(X722,referentes!J:J,0),2))","v":""},null,null,""]
["30000401000000",null,0,{"$f":"IF(E723<>\"\",CONCATENATE(B723,A723,DIGITADOR!$M$1,C723),\"\")","v":""},null,null,"","","",null,719,"",{"$f":"IF(R723=R722,\"\",IF(E723<>\"\",CONCATENATE(B723,A723,DIGITADOR!$M$1,C723),\"\"))","v":""},null,{"$f":"IF(N723=\"\",\"\",INDEX(referentes!S:T,MATCH(N723,referentes!T:T,0),1))","v":""},null,{"$f":"IF(P723=\"\",\"\",INDEX(referentes!Y:Z,MATCH(P723,referentes!Z:Z,0),1))","v":""},"","",null,null,null,null,null,{"$f":"IF(X723=\"\",\"\",INDEX(referentes!J:K,MATCH(X723,referentes!J:J,0),2))","v":""},null,null,""]
["30000401000000",null,0,{"$f":"IF(E724<>\"\",CONCATENATE(B724,A724,DIGITADOR!$M$1,C724),\"\")","v":""},null,null,"","","",null,720,"",{"$f":"IF(R724=R723,\"\",IF(E724<>\"\",CONCATENATE(B724,A724,DIGITADOR!$M$1,C724),\"\"))","v":""},null,{"$f":"IF(N724=\"\",\"\",INDEX(referentes!S:T,MATCH(N724,referentes!T:T,0),1))","v":""},null,{"$f":"IF(P724=\"\",\"\",INDEX(referentes!Y:Z,MATCH(P724,referentes!Z:Z,0),1))","v":""},"","",null,null,null,null,null,{"$f":"IF(X724=\"\",\"\",INDEX(referentes!J:K,MATCH(X724,referentes!J:J,0),2))","v":""},null,null,""]
["30000401000000",null,0,{"$f":"IF(E725<>\"\",CONCATENATE(B725,A725,DIGITADOR!$M$1,C725),\"\")","v":""},null,null,"","","",null,721,"",{"$f":"IF(R725=R724,\"\",IF(E725<>\"\",CONCATENATE(B725,A725,DIGITADOR!$M$1,C725),\"\"))","v":""},null,{"$f":"IF(N725=\"\",\"\",INDEX(referentes!S:T,MATCH(N725,referentes!T:T,0),1))","v":""},null,{"$f":"IF(P725=\"\",\"\",INDEX(referentes!Y:Z,MATCH(P725,referentes!Z:Z,0),1))","v":""},"","",null,null,null,null,null,{"$f":"IF(X725=\"\",\"\",INDEX(referentes!J:K,MATCH(X725,referentes!J:J,0),2))","v":""},null,null,""]
["30000401000000",null,0,{"$f":"IF(E726<>\"\",CONCATENATE(B726,A726,DIGITADOR!$M$1,C726),\"\")","v":""},null,null,"","","",null,722,"",{"$f":"IF(R726=R725,\"\",IF(E726<>\"\",CONCATENATE(B726,A726,DIGITADOR!$M$1,C726),\"\"))","v":""},null,{"$f":"IF(N726=\"\",\"\",INDEX(referentes!S:T,MATCH(N726,referentes!T:T,0),1))","v":""},null,{"$f":"IF(P726=\"\",\"\",INDEX(referentes!Y:Z,MATCH(P726,referentes!Z:Z,0),1))","v":""},"","",null,null,null,null,null,{"$f":"IF(X726=\"\",\"\",INDEX(referentes!J:K,MATCH(X726,referentes!J:J,0),2))","v":""},null,null,""]
["30000401000000",null,0,{"$f":"IF(E727<>\"\",CONCATENATE(B727,A727,DIGITADOR!$M$1,C727),\"\")","v":""},null,null,"","","",null,723,"",{"$f":"IF(R727=R726,\"\",IF(E727<>\"\",CONCATENATE(B727,A727,DIGITADOR!$M$1,C727),\"\"))","v":""},null,{"$f":"IF(N727=\"\",\"\",INDEX(referentes!S:T,MATCH(N727,referentes!T:T,0),1))","v":""},null,{"$f":"IF(P727=\"\",\"\",INDEX(referentes!Y:Z,MATCH(P727,referentes!Z:Z,0),1))","v":""},"","",null,null,null,null,null,{"$f":"IF(X727=\"\",\"\",INDEX(referentes!J:K,MATCH(X727,referentes!J:J,0),2))","v":""},null,null,""]
["30000401000000",null,0,{"$f":"IF(E728<>\"\",CONCATENATE(B728,A728,DIGITADOR!$M$1,C728),\"\")","v":""},null,null,"","","",null,724,"",{"$f":"IF(R728=R727,\"\",IF(E728<>\"\",CONCATENATE(B728,A728,DIGITADOR!$M$1,C728),\"\"))","v":""},null,{"$f":"IF(N728=\"\",\"\",INDEX(referentes!S:T,MATCH(N728,referentes!T:T,0),1))","v":""},null,{"$f":"IF(P728=\"\",\"\",INDEX(referentes!Y:Z,MATCH(P728,referentes!Z:Z,0),1))","v":""},"","",null,null,null,null,null,{"$f":"IF(X728=\"\",\"\",INDEX(referentes!J:K,MATCH(X728,referentes!J:J,0),2))","v":""},null,null,""]
["30000401000000",null,0,{"$f":"IF(E729<>\"\",CONCATENATE(B729,A729,DIGITADOR!$M$1,C729),\"\")","v":""},null,null,"","","",null,725,"",{"$f":"IF(R729=R728,\"\",IF(E729<>\"\",CONCATENATE(B729,A729,DIGITADOR!$M$1,C729),\"\"))","v":""},null,{"$f":"IF(N729=\"\",\"\",INDEX(referentes!S:T,MATCH(N729,referentes!T:T,0),1))","v":""},null,{"$f":"IF(P729=\"\",\"\",INDEX(referentes!Y:Z,MATCH(P729,referentes!Z:Z,0),1))","v":""},"","",null,null,null,null,null,{"$f":"IF(X729=\"\",\"\",INDEX(referentes!J:K,MATCH(X729,referentes!J:J,0),2))","v":""},null,null,""]
["30000401000000",null,0,{"$f":"IF(E730<>\"\",CONCATENATE(B730,A730,DIGITADOR!$M$1,C730),\"\")","v":""},null,null,"","","",null,726,"",{"$f":"IF(R730=R729,\"\",IF(E730<>\"\",CONCATENATE(B730,A730,DIGITADOR!$M$1,C730),\"\"))","v":""},null,{"$f":"IF(N730=\"\",\"\",INDEX(referentes!S:T,MATCH(N730,referentes!T:T,0),1))","v":""},null,{"$f":"IF(P730=\"\",\"\",INDEX(referentes!Y:Z,MATCH(P730,referentes!Z:Z,0),1))","v":""},"","",null,null,null,null,null,{"$f":"IF(X730=\"\",\"\",INDEX(referentes!J:K,MATCH(X730,referentes!J:J,0),2))","v":""},null,null,""]
["30000401000000",null,0,{"$f":"IF(E731<>\"\",CONCATENATE(B731,A731,DIGITADOR!$M$1,C731),\"\")","v":""},null,null,"","","",null,727,"",{"$f":"IF(R731=R730,\"\",IF(E731<>\"\",CONCATENATE(B731,A731,DIGITADOR!$M$1,C731),\"\"))","v":""},null,{"$f":"IF(N731=\"\",\"\",INDEX(referentes!S:T,MATCH(N731,referentes!T:T,0),1))","v":""},null,{"$f":"IF(P731=\"\",\"\",INDEX(referentes!Y:Z,MATCH(P731,referentes!Z:Z,0),1))","v":""},"","",null,null,null,null,null,{"$f":"IF(X731=\"\",\"\",INDEX(referentes!J:K,MATCH(X731,referentes!J:J,0),2))","v":""},null,null,""]
["30000401000000",null,0,{"$f":"IF(E732<>\"\",CONCATENATE(B732,A732,DIGITADOR!$M$1,C732),\"\")","v":""},null,null,"","","",null,728,"",{"$f":"IF(R732=R731,\"\",IF(E732<>\"\",CONCATENATE(B732,A732,DIGITADOR!$M$1,C732),\"\"))","v":""},null,{"$f":"IF(N732=\"\",\"\",INDEX(referentes!S:T,MATCH(N732,referentes!T:T,0),1))","v":""},null,{"$f":"IF(P732=\"\",\"\",INDEX(referentes!Y:Z,MATCH(P732,referentes!Z:Z,0),1))","v":""},"","",null,null,null,null,null,{"$f":"IF(X732=\"\",\"\",INDEX(referentes!J:K,MATCH(X732,referentes!J:J,0),2))","v":""},null,null,""]
["30000401000000",null,0,{"$f":"IF(E733<>\"\",CONCATENATE(B733,A733,DIGITADOR!$M$1,C733),\"\")","v":""},null,null,"","","",null,729,"",{"$f":"IF(R733=R732,\"\",IF(E733<>\"\",CONCATENATE(B733,A733,DIGITADOR!$M$1,C733),\"\"))","v":""},null,{"$f":"IF(N733=\"\",\"\",INDEX(referentes!S:T,MATCH(N733,referentes!T:T,0),1))","v":""},null,{"$f":"IF(P733=\"\",\"\",INDEX(referentes!Y:Z,MATCH(P733,referentes!Z:Z,0),1))","v":""},"","",null,null,null,null,null,{"$f":"IF(X733=\"\",\"\",INDEX(referentes!J:K,MATCH(X733,referentes!J:J,0),2))","v":""},null,null,""]
["30000401000000",null,0,{"$f":"IF(E734<>\"\",CONCATENATE(B734,A734,DIGITADOR!$M$1,C734),\"\")","v":""},null,null,"","","",null,730,"",{"$f":"IF(R734=R733,\"\",IF(E734<>\"\",CONCATENATE(B734,A734,DIGITADOR!$M$1,C734),\"\"))","v":""},null,{"$f":"IF(N734=\"\",\"\",INDEX(referentes!S:T,MATCH(N734,referentes!T:T,0),1))","v":""},null,{"$f":"IF(P734=\"\",\"\",INDEX(referentes!Y:Z,MATCH(P734,referentes!Z:Z,0),1))","v":""},"","",null,null,null,null,null,{"$f":"IF(X734=\"\",\"\",INDEX(referentes!J:K,MATCH(X734,referentes!J:J,0),2))","v":""},null,null,""]
["30000401000000",null,0,{"$f":"IF(E735<>\"\",CONCATENATE(B735,A735,DIGITADOR!$M$1,C735),\"\")","v":""},null,null,"","","",null,731,"",{"$f":"IF(R735=R734,\"\",IF(E735<>\"\",CONCATENATE(B735,A735,DIGITADOR!$M$1,C735),\"\"))","v":""},null,{"$f":"IF(N735=\"\",\"\",INDEX(referentes!S:T,MATCH(N735,referentes!T:T,0),1))","v":""},null,{"$f":"IF(P735=\"\",\"\",INDEX(referentes!Y:Z,MATCH(P735,referentes!Z:Z,0),1))","v":""},"","",null,null,null,null,null,{"$f":"IF(X735=\"\",\"\",INDEX(referentes!J:K,MATCH(X735,referentes!J:J,0),2))","v":""},null,null,""]
["30000401000000",null,0,{"$f":"IF(E736<>\"\",CONCATENATE(B736,A736,DIGITADOR!$M$1,C736),\"\")","v":""},null,null,"","","",null,732,"",{"$f":"IF(R736=R735,\"\",IF(E736<>\"\",CONCATENATE(B736,A736,DIGITADOR!$M$1,C736),\"\"))","v":""},null,{"$f":"IF(N736=\"\",\"\",INDEX(referentes!S:T,MATCH(N736,referentes!T:T,0),1))","v":""},null,{"$f":"IF(P736=\"\",\"\",INDEX(referentes!Y:Z,MATCH(P736,referentes!Z:Z,0),1))","v":""},"","",null,null,null,null,null,{"$f":"IF(X736=\"\",\"\",INDEX(referentes!J:K,MATCH(X736,referentes!J:J,0),2))","v":""},null,null,""]
["30000401000000",null,0,{"$f":"IF(E737<>\"\",CONCATENATE(B737,A737,DIGITADOR!$M$1,C737),\"\")","v":""},null,null,"","","",null,733,"",{"$f":"IF(R737=R736,\"\",IF(E737<>\"\",CONCATENATE(B737,A737,DIGITADOR!$M$1,C737),\"\"))","v":""},null,{"$f":"IF(N737=\"\",\"\",INDEX(referentes!S:T,MATCH(N737,referentes!T:T,0),1))","v":""},null,{"$f":"IF(P737=\"\",\"\",INDEX(referentes!Y:Z,MATCH(P737,referentes!Z:Z,0),1))","v":""},"","",null,null,null,null,null,{"$f":"IF(X737=\"\",\"\",INDEX(referentes!J:K,MATCH(X737,referentes!J:J,0),2))","v":""},null,null,""]
["30000401000000",null,0,{"$f":"IF(E738<>\"\",CONCATENATE(B738,A738,DIGITADOR!$M$1,C738),\"\")","v":""},null,null,"","","",null,734,"",{"$f":"IF(R738=R737,\"\",IF(E738<>\"\",CONCATENATE(B738,A738,DIGITADOR!$M$1,C738),\"\"))","v":""},null,{"$f":"IF(N738=\"\",\"\",INDEX(referentes!S:T,MATCH(N738,referentes!T:T,0),1))","v":""},null,{"$f":"IF(P738=\"\",\"\",INDEX(referentes!Y:Z,MATCH(P738,referentes!Z:Z,0),1))","v":""},"","",null,null,null,null,null,{"$f":"IF(X738=\"\",\"\",INDEX(referentes!J:K,MATCH(X738,referentes!J:J,0),2))","v":""},null,null,""]
["30000401000000",null,0,{"$f":"IF(E739<>\"\",CONCATENATE(B739,A739,DIGITADOR!$M$1,C739),\"\")","v":""},null,null,"","","",null,735,"",{"$f":"IF(R739=R738,\"\",IF(E739<>\"\",CONCATENATE(B739,A739,DIGITADOR!$M$1,C739),\"\"))","v":""},null,{"$f":"IF(N739=\"\",\"\",INDEX(referentes!S:T,MATCH(N739,referentes!T:T,0),1))","v":""},null,{"$f":"IF(P739=\"\",\"\",INDEX(referentes!Y:Z,MATCH(P739,referentes!Z:Z,0),1))","v":""},"","",null,null,null,null,null,{"$f":"IF(X739=\"\",\"\",INDEX(referentes!J:K,MATCH(X739,referentes!J:J,0),2))","v":""},null,null,""]
["30000401000000",null,0,{"$f":"IF(E740<>\"\",CONCATENATE(B740,A740,DIGITADOR!$M$1,C740),\"\")","v":""},null,null,"","","",null,736,"",{"$f":"IF(R740=R739,\"\",IF(E740<>\"\",CONCATENATE(B740,A740,DIGITADOR!$M$1,C740),\"\"))","v":""},null,{"$f":"IF(N740=\"\",\"\",INDEX(referentes!S:T,MATCH(N740,referentes!T:T,0),1))","v":""},null,{"$f":"IF(P740=\"\",\"\",INDEX(referentes!Y:Z,MATCH(P740,referentes!Z:Z,0),1))","v":""},"","",null,null,null,null,null,{"$f":"IF(X740=\"\",\"\",INDEX(referentes!J:K,MATCH(X740,referentes!J:J,0),2))","v":""},null,null,""]
["30000401000000",null,0,{"$f":"IF(E741<>\"\",CONCATENATE(B741,A741,DIGITADOR!$M$1,C741),\"\")","v":""},null,null,"","","",null,737,"",{"$f":"IF(R741=R740,\"\",IF(E741<>\"\",CONCATENATE(B741,A741,DIGITADOR!$M$1,C741),\"\"))","v":""},null,{"$f":"IF(N741=\"\",\"\",INDEX(referentes!S:T,MATCH(N741,referentes!T:T,0),1))","v":""},null,{"$f":"IF(P741=\"\",\"\",INDEX(referentes!Y:Z,MATCH(P741,referentes!Z:Z,0),1))","v":""},"","",null,null,null,null,null,{"$f":"IF(X741=\"\",\"\",INDEX(referentes!J:K,MATCH(X741,referentes!J:J,0),2))","v":""},null,null,""]
["30000401000000",null,0,{"$f":"IF(E742<>\"\",CONCATENATE(B742,A742,DIGITADOR!$M$1,C742),\"\")","v":""},null,null,"","","",null,738,"",{"$f":"IF(R742=R741,\"\",IF(E742<>\"\",CONCATENATE(B742,A742,DIGITADOR!$M$1,C742),\"\"))","v":""},null,{"$f":"IF(N742=\"\",\"\",INDEX(referentes!S:T,MATCH(N742,referentes!T:T,0),1))","v":""},null,{"$f":"IF(P742=\"\",\"\",INDEX(referentes!Y:Z,MATCH(P742,referentes!Z:Z,0),1))","v":""},"","",null,null,null,null,null,{"$f":"IF(X742=\"\",\"\",INDEX(referentes!J:K,MATCH(X742,referentes!J:J,0),2))","v":""},null,null,""]
["30000401000000",null,0,{"$f":"IF(E743<>\"\",CONCATENATE(B743,A743,DIGITADOR!$M$1,C743),\"\")","v":""},null,null,"","","",null,739,"",{"$f":"IF(R743=R742,\"\",IF(E743<>\"\",CONCATENATE(B743,A743,DIGITADOR!$M$1,C743),\"\"))","v":""},null,{"$f":"IF(N743=\"\",\"\",INDEX(referentes!S:T,MATCH(N743,referentes!T:T,0),1))","v":""},null,{"$f":"IF(P743=\"\",\"\",INDEX(referentes!Y:Z,MATCH(P743,referentes!Z:Z,0),1))","v":""},"","",null,null,null,null,null,{"$f":"IF(X743=\"\",\"\",INDEX(referentes!J:K,MATCH(X743,referentes!J:J,0),2))","v":""},null,null,""]
["30000401000000",null,0,{"$f":"IF(E744<>\"\",CONCATENATE(B744,A744,DIGITADOR!$M$1,C744),\"\")","v":""},null,null,"","","",null,740,"",{"$f":"IF(R744=R743,\"\",IF(E744<>\"\",CONCATENATE(B744,A744,DIGITADOR!$M$1,C744),\"\"))","v":""},null,{"$f":"IF(N744=\"\",\"\",INDEX(referentes!S:T,MATCH(N744,referentes!T:T,0),1))","v":""},null,{"$f":"IF(P744=\"\",\"\",INDEX(referentes!Y:Z,MATCH(P744,referentes!Z:Z,0),1))","v":""},"","",null,null,null,null,null,{"$f":"IF(X744=\"\",\"\",INDEX(referentes!J:K,MATCH(X744,referentes!J:J,0),2))","v":""},null,null,""]
["30000401000000",null,0,{"$f":"IF(E745<>\"\",CONCATENATE(B745,A745,DIGITADOR!$M$1,C745),\"\")","v":""},null,null,"","","",null,741,"",{"$f":"IF(R745=R744,\"\",IF(E745<>\"\",CONCATENATE(B745,A745,DIGITADOR!$M$1,C745),\"\"))","v":""},null,{"$f":"IF(N745=\"\",\"\",INDEX(referentes!S:T,MATCH(N745,referentes!T:T,0),1))","v":""},null,{"$f":"IF(P745=\"\",\"\",INDEX(referentes!Y:Z,MATCH(P745,referentes!Z:Z,0),1))","v":""},"","",null,null,null,null,null,{"$f":"IF(X745=\"\",\"\",INDEX(referentes!J:K,MATCH(X745,referentes!J:J,0),2))","v":""},null,null,""]
["30000401000000",null,0,{"$f":"IF(E746<>\"\",CONCATENATE(B746,A746,DIGITADOR!$M$1,C746),\"\")","v":""},null,null,"","","",null,742,"",{"$f":"IF(R746=R745,\"\",IF(E746<>\"\",CONCATENATE(B746,A746,DIGITADOR!$M$1,C746),\"\"))","v":""},null,{"$f":"IF(N746=\"\",\"\",INDEX(referentes!S:T,MATCH(N746,referentes!T:T,0),1))","v":""},null,{"$f":"IF(P746=\"\",\"\",INDEX(referentes!Y:Z,MATCH(P746,referentes!Z:Z,0),1))","v":""},"","",null,null,null,null,null,{"$f":"IF(X746=\"\",\"\",INDEX(referentes!J:K,MATCH(X746,referentes!J:J,0),2))","v":""},null,null,""]
["30000401000000",null,0,{"$f":"IF(E747<>\"\",CONCATENATE(B747,A747,DIGITADOR!$M$1,C747),\"\")","v":""},null,null,"","","",null,743,"",{"$f":"IF(R747=R746,\"\",IF(E747<>\"\",CONCATENATE(B747,A747,DIGITADOR!$M$1,C747),\"\"))","v":""},null,{"$f":"IF(N747=\"\",\"\",INDEX(referentes!S:T,MATCH(N747,referentes!T:T,0),1))","v":""},null,{"$f":"IF(P747=\"\",\"\",INDEX(referentes!Y:Z,MATCH(P747,referentes!Z:Z,0),1))","v":""},"","",null,null,null,null,null,{"$f":"IF(X747=\"\",\"\",INDEX(referentes!J:K,MATCH(X747,referentes!J:J,0),2))","v":""},null,null,""]
["30000401000000",null,0,{"$f":"IF(E748<>\"\",CONCATENATE(B748,A748,DIGITADOR!$M$1,C748),\"\")","v":""},null,null,"","","",null,744,"",{"$f":"IF(R748=R747,\"\",IF(E748<>\"\",CONCATENATE(B748,A748,DIGITADOR!$M$1,C748),\"\"))","v":""},null,{"$f":"IF(N748=\"\",\"\",INDEX(referentes!S:T,MATCH(N748,referentes!T:T,0),1))","v":""},null,{"$f":"IF(P748=\"\",\"\",INDEX(referentes!Y:Z,MATCH(P748,referentes!Z:Z,0),1))","v":""},"","",null,null,null,null,null,{"$f":"IF(X748=\"\",\"\",INDEX(referentes!J:K,MATCH(X748,referentes!J:J,0),2))","v":""},null,null,""]
["30000401000000",null,0,{"$f":"IF(E749<>\"\",CONCATENATE(B749,A749,DIGITADOR!$M$1,C749),\"\")","v":""},null,null,"","","",null,745,"",{"$f":"IF(R749=R748,\"\",IF(E749<>\"\",CONCATENATE(B749,A749,DIGITADOR!$M$1,C749),\"\"))","v":""},null,{"$f":"IF(N749=\"\",\"\",INDEX(referentes!S:T,MATCH(N749,referentes!T:T,0),1))","v":""},null,{"$f":"IF(P749=\"\",\"\",INDEX(referentes!Y:Z,MATCH(P749,referentes!Z:Z,0),1))","v":""},"","",null,null,null,null,null,{"$f":"IF(X749=\"\",\"\",INDEX(referentes!J:K,MATCH(X749,referentes!J:J,0),2))","v":""},null,null,""]
["30000401000000",null,0,{"$f":"IF(E750<>\"\",CONCATENATE(B750,A750,DIGITADOR!$M$1,C750),\"\")","v":""},null,null,"","","",null,746,"",{"$f":"IF(R750=R749,\"\",IF(E750<>\"\",CONCATENATE(B750,A750,DIGITADOR!$M$1,C750),\"\"))","v":""},null,{"$f":"IF(N750=\"\",\"\",INDEX(referentes!S:T,MATCH(N750,referentes!T:T,0),1))","v":""},null,{"$f":"IF(P750=\"\",\"\",INDEX(referentes!Y:Z,MATCH(P750,referentes!Z:Z,0),1))","v":""},"","",null,null,null,null,null,{"$f":"IF(X750=\"\",\"\",INDEX(referentes!J:K,MATCH(X750,referentes!J:J,0),2))","v":""},null,null,""]
["30000401000000",null,0,{"$f":"IF(E751<>\"\",CONCATENATE(B751,A751,DIGITADOR!$M$1,C751),\"\")","v":""},null,null,"","","",null,747,"",{"$f":"IF(R751=R750,\"\",IF(E751<>\"\",CONCATENATE(B751,A751,DIGITADOR!$M$1,C751),\"\"))","v":""},null,{"$f":"IF(N751=\"\",\"\",INDEX(referentes!S:T,MATCH(N751,referentes!T:T,0),1))","v":""},null,{"$f":"IF(P751=\"\",\"\",INDEX(referentes!Y:Z,MATCH(P751,referentes!Z:Z,0),1))","v":""},"","",null,null,null,null,null,{"$f":"IF(X751=\"\",\"\",INDEX(referentes!J:K,MATCH(X751,referentes!J:J,0),2))","v":""},null,null,""]
["30000401000000",null,0,{"$f":"IF(E752<>\"\",CONCATENATE(B752,A752,DIGITADOR!$M$1,C752),\"\")","v":""},null,null,"","","",null,748,"",{"$f":"IF(R752=R751,\"\",IF(E752<>\"\",CONCATENATE(B752,A752,DIGITADOR!$M$1,C752),\"\"))","v":""},null,{"$f":"IF(N752=\"\",\"\",INDEX(referentes!S:T,MATCH(N752,referentes!T:T,0),1))","v":""},null,{"$f":"IF(P752=\"\",\"\",INDEX(referentes!Y:Z,MATCH(P752,referentes!Z:Z,0),1))","v":""},"","",null,null,null,null,null,{"$f":"IF(X752=\"\",\"\",INDEX(referentes!J:K,MATCH(X752,referentes!J:J,0),2))","v":""},null,null,""]
["30000401000000",null,0,{"$f":"IF(E753<>\"\",CONCATENATE(B753,A753,DIGITADOR!$M$1,C753),\"\")","v":""},null,null,"","","",null,749,"",{"$f":"IF(R753=R752,\"\",IF(E753<>\"\",CONCATENATE(B753,A753,DIGITADOR!$M$1,C753),\"\"))","v":""},null,{"$f":"IF(N753=\"\",\"\",INDEX(referentes!S:T,MATCH(N753,referentes!T:T,0),1))","v":""},null,{"$f":"IF(P753=\"\",\"\",INDEX(referentes!Y:Z,MATCH(P753,referentes!Z:Z,0),1))","v":""},"","",null,null,null,null,null,{"$f":"IF(X753=\"\",\"\",INDEX(referentes!J:K,MATCH(X753,referentes!J:J,0),2))","v":""},null,null,""]
["30000401000000",null,0,{"$f":"IF(E754<>\"\",CONCATENATE(B754,A754,DIGITADOR!$M$1,C754),\"\")","v":""},null,null,"","","",null,750,"",{"$f":"IF(R754=R753,\"\",IF(E754<>\"\",CONCATENATE(B754,A754,DIGITADOR!$M$1,C754),\"\"))","v":""},null,{"$f":"IF(N754=\"\",\"\",INDEX(referentes!S:T,MATCH(N754,referentes!T:T,0),1))","v":""},null,{"$f":"IF(P754=\"\",\"\",INDEX(referentes!Y:Z,MATCH(P754,referentes!Z:Z,0),1))","v":""},"","",null,null,null,null,null,{"$f":"IF(X754=\"\",\"\",INDEX(referentes!J:K,MATCH(X754,referentes!J:J,0),2))","v":""},null,null,""]
["30000401000000",null,0,{"$f":"IF(E755<>\"\",CONCATENATE(B755,A755,DIGITADOR!$M$1,C755),\"\")","v":""},null,null,"","","",null,751,"",{"$f":"IF(R755=R754,\"\",IF(E755<>\"\",CONCATENATE(B755,A755,DIGITADOR!$M$1,C755),\"\"))","v":""},null,{"$f":"IF(N755=\"\",\"\",INDEX(referentes!S:T,MATCH(N755,referentes!T:T,0),1))","v":""},null,{"$f":"IF(P755=\"\",\"\",INDEX(referentes!Y:Z,MATCH(P755,referentes!Z:Z,0),1))","v":""},"","",null,null,null,null,null,{"$f":"IF(X755=\"\",\"\",INDEX(referentes!J:K,MATCH(X755,referentes!J:J,0),2))","v":""},null,null,""]
["30000401000000",null,0,{"$f":"IF(E756<>\"\",CONCATENATE(B756,A756,DIGITADOR!$M$1,C756),\"\")","v":""},null,null,"","","",null,752,"",{"$f":"IF(R756=R755,\"\",IF(E756<>\"\",CONCATENATE(B756,A756,DIGITADOR!$M$1,C756),\"\"))","v":""},null,{"$f":"IF(N756=\"\",\"\",INDEX(referentes!S:T,MATCH(N756,referentes!T:T,0),1))","v":""},null,{"$f":"IF(P756=\"\",\"\",INDEX(referentes!Y:Z,MATCH(P756,referentes!Z:Z,0),1))","v":""},"","",null,null,null,null,null,{"$f":"IF(X756=\"\",\"\",INDEX(referentes!J:K,MATCH(X756,referentes!J:J,0),2))","v":""},null,null,""]
["30000401000000",null,0,{"$f":"IF(E757<>\"\",CONCATENATE(B757,A757,DIGITADOR!$M$1,C757),\"\")","v":""},null,null,"","","",null,753,"",{"$f":"IF(R757=R756,\"\",IF(E757<>\"\",CONCATENATE(B757,A757,DIGITADOR!$M$1,C757),\"\"))","v":""},null,{"$f":"IF(N757=\"\",\"\",INDEX(referentes!S:T,MATCH(N757,referentes!T:T,0),1))","v":""},null,{"$f":"IF(P757=\"\",\"\",INDEX(referentes!Y:Z,MATCH(P757,referentes!Z:Z,0),1))","v":""},"","",null,null,null,null,null,{"$f":"IF(X757=\"\",\"\",INDEX(referentes!J:K,MATCH(X757,referentes!J:J,0),2))","v":""},null,null,""]
["30000401000000",null,0,{"$f":"IF(E758<>\"\",CONCATENATE(B758,A758,DIGITADOR!$M$1,C758),\"\")","v":""},null,null,"","","",null,754,"",{"$f":"IF(R758=R757,\"\",IF(E758<>\"\",CONCATENATE(B758,A758,DIGITADOR!$M$1,C758),\"\"))","v":""},null,{"$f":"IF(N758=\"\",\"\",INDEX(referentes!S:T,MATCH(N758,referentes!T:T,0),1))","v":""},null,{"$f":"IF(P758=\"\",\"\",INDEX(referentes!Y:Z,MATCH(P758,referentes!Z:Z,0),1))","v":""},"","",null,null,null,null,null,{"$f":"IF(X758=\"\",\"\",INDEX(referentes!J:K,MATCH(X758,referentes!J:J,0),2))","v":""},null,null,""]
["30000401000000",null,0,{"$f":"IF(E759<>\"\",CONCATENATE(B759,A759,DIGITADOR!$M$1,C759),\"\")","v":""},null,null,"","","",null,755,"",{"$f":"IF(R759=R758,\"\",IF(E759<>\"\",CONCATENATE(B759,A759,DIGITADOR!$M$1,C759),\"\"))","v":""},null,{"$f":"IF(N759=\"\",\"\",INDEX(referentes!S:T,MATCH(N759,referentes!T:T,0),1))","v":""},null,{"$f":"IF(P759=\"\",\"\",INDEX(referentes!Y:Z,MATCH(P759,referentes!Z:Z,0),1))","v":""},"","",null,null,null,null,null,{"$f":"IF(X759=\"\",\"\",INDEX(referentes!J:K,MATCH(X759,referentes!J:J,0),2))","v":""},null,null,""]
["30000401000000",null,0,{"$f":"IF(E760<>\"\",CONCATENATE(B760,A760,DIGITADOR!$M$1,C760),\"\")","v":""},null,null,"","","",null,756,"",{"$f":"IF(R760=R759,\"\",IF(E760<>\"\",CONCATENATE(B760,A760,DIGITADOR!$M$1,C760),\"\"))","v":""},null,{"$f":"IF(N760=\"\",\"\",INDEX(referentes!S:T,MATCH(N760,referentes!T:T,0),1))","v":""},null,{"$f":"IF(P760=\"\",\"\",INDEX(referentes!Y:Z,MATCH(P760,referentes!Z:Z,0),1))","v":""},"","",null,null,null,null,null,{"$f":"IF(X760=\"\",\"\",INDEX(referentes!J:K,MATCH(X760,referentes!J:J,0),2))","v":""},null,null,""]
["30000401000000",null,0,{"$f":"IF(E761<>\"\",CONCATENATE(B761,A761,DIGITADOR!$M$1,C761),\"\")","v":""},null,null,"","","",null,757,"",{"$f":"IF(R761=R760,\"\",IF(E761<>\"\",CONCATENATE(B761,A761,DIGITADOR!$M$1,C761),\"\"))","v":""},null,{"$f":"IF(N761=\"\",\"\",INDEX(referentes!S:T,MATCH(N761,referentes!T:T,0),1))","v":""},null,{"$f":"IF(P761=\"\",\"\",INDEX(referentes!Y:Z,MATCH(P761,referentes!Z:Z,0),1))","v":""},"","",null,null,null,null,null,{"$f":"IF(X761=\"\",\"\",INDEX(referentes!J:K,MATCH(X761,referentes!J:J,0),2))","v":""},null,null,""]
["30000401000000",null,0,{"$f":"IF(E762<>\"\",CONCATENATE(B762,A762,DIGITADOR!$M$1,C762),\"\")","v":""},null,null,"","","",null,758,"",{"$f":"IF(R762=R761,\"\",IF(E762<>\"\",CONCATENATE(B762,A762,DIGITADOR!$M$1,C762),\"\"))","v":""},null,{"$f":"IF(N762=\"\",\"\",INDEX(referentes!S:T,MATCH(N762,referentes!T:T,0),1))","v":""},null,{"$f":"IF(P762=\"\",\"\",INDEX(referentes!Y:Z,MATCH(P762,referentes!Z:Z,0),1))","v":""},"","",null,null,null,null,null,{"$f":"IF(X762=\"\",\"\",INDEX(referentes!J:K,MATCH(X762,referentes!J:J,0),2))","v":""},null,null,""]
["30000401000000",null,0,{"$f":"IF(E763<>\"\",CONCATENATE(B763,A763,DIGITADOR!$M$1,C763),\"\")","v":""},null,null,"","","",null,759,"",{"$f":"IF(R763=R762,\"\",IF(E763<>\"\",CONCATENATE(B763,A763,DIGITADOR!$M$1,C763),\"\"))","v":""},null,{"$f":"IF(N763=\"\",\"\",INDEX(referentes!S:T,MATCH(N763,referentes!T:T,0),1))","v":""},null,{"$f":"IF(P763=\"\",\"\",INDEX(referentes!Y:Z,MATCH(P763,referentes!Z:Z,0),1))","v":""},"","",null,null,null,null,null,{"$f":"IF(X763=\"\",\"\",INDEX(referentes!J:K,MATCH(X763,referentes!J:J,0),2))","v":""},null,null,""]
["30000401000000",null,0,{"$f":"IF(E764<>\"\",CONCATENATE(B764,A764,DIGITADOR!$M$1,C764),\"\")","v":""},null,null,"","","",null,760,"",{"$f":"IF(R764=R763,\"\",IF(E764<>\"\",CONCATENATE(B764,A764,DIGITADOR!$M$1,C764),\"\"))","v":""},null,{"$f":"IF(N764=\"\",\"\",INDEX(referentes!S:T,MATCH(N764,referentes!T:T,0),1))","v":""},null,{"$f":"IF(P764=\"\",\"\",INDEX(referentes!Y:Z,MATCH(P764,referentes!Z:Z,0),1))","v":""},"","",null,null,null,null,null,{"$f":"IF(X764=\"\",\"\",INDEX(referentes!J:K,MATCH(X764,referentes!J:J,0),2))","v":""},null,null,""]
["30000401000000",null,0,{"$f":"IF(E765<>\"\",CONCATENATE(B765,A765,DIGITADOR!$M$1,C765),\"\")","v":""},null,null,"","","",null,761,"",{"$f":"IF(R765=R764,\"\",IF(E765<>\"\",CONCATENATE(B765,A765,DIGITADOR!$M$1,C765),\"\"))","v":""},null,{"$f":"IF(N765=\"\",\"\",INDEX(referentes!S:T,MATCH(N765,referentes!T:T,0),1))","v":""},null,{"$f":"IF(P765=\"\",\"\",INDEX(referentes!Y:Z,MATCH(P765,referentes!Z:Z,0),1))","v":""},"","",null,null,null,null,null,{"$f":"IF(X765=\"\",\"\",INDEX(referentes!J:K,MATCH(X765,referentes!J:J,0),2))","v":""},null,null,""]
["30000401000000",null,0,{"$f":"IF(E766<>\"\",CONCATENATE(B766,A766,DIGITADOR!$M$1,C766),\"\")","v":""},null,null,"","","",null,762,"",{"$f":"IF(R766=R765,\"\",IF(E766<>\"\",CONCATENATE(B766,A766,DIGITADOR!$M$1,C766),\"\"))","v":""},null,{"$f":"IF(N766=\"\",\"\",INDEX(referentes!S:T,MATCH(N766,referentes!T:T,0),1))","v":""},null,{"$f":"IF(P766=\"\",\"\",INDEX(referentes!Y:Z,MATCH(P766,referentes!Z:Z,0),1))","v":""},"","",null,null,null,null,null,{"$f":"IF(X766=\"\",\"\",INDEX(referentes!J:K,MATCH(X766,referentes!J:J,0),2))","v":""},null,null,""]
["30000401000000",null,0,{"$f":"IF(E767<>\"\",CONCATENATE(B767,A767,DIGITADOR!$M$1,C767),\"\")","v":""},null,null,"","","",null,763,"",{"$f":"IF(R767=R766,\"\",IF(E767<>\"\",CONCATENATE(B767,A767,DIGITADOR!$M$1,C767),\"\"))","v":""},null,{"$f":"IF(N767=\"\",\"\",INDEX(referentes!S:T,MATCH(N767,referentes!T:T,0),1))","v":""},null,{"$f":"IF(P767=\"\",\"\",INDEX(referentes!Y:Z,MATCH(P767,referentes!Z:Z,0),1))","v":""},"","",null,null,null,null,null,{"$f":"IF(X767=\"\",\"\",INDEX(referentes!J:K,MATCH(X767,referentes!J:J,0),2))","v":""},null,null,""]
["30000401000000",null,0,{"$f":"IF(E768<>\"\",CONCATENATE(B768,A768,DIGITADOR!$M$1,C768),\"\")","v":""},null,null,"","","",null,764,"",{"$f":"IF(R768=R767,\"\",IF(E768<>\"\",CONCATENATE(B768,A768,DIGITADOR!$M$1,C768),\"\"))","v":""},null,{"$f":"IF(N768=\"\",\"\",INDEX(referentes!S:T,MATCH(N768,referentes!T:T,0),1))","v":""},null,{"$f":"IF(P768=\"\",\"\",INDEX(referentes!Y:Z,MATCH(P768,referentes!Z:Z,0),1))","v":""},"","",null,null,null,null,null,{"$f":"IF(X768=\"\",\"\",INDEX(referentes!J:K,MATCH(X768,referentes!J:J,0),2))","v":""},null,null,""]
["30000401000000",null,0,{"$f":"IF(E769<>\"\",CONCATENATE(B769,A769,DIGITADOR!$M$1,C769),\"\")","v":""},null,null,"","","",null,765,"",{"$f":"IF(R769=R768,\"\",IF(E769<>\"\",CONCATENATE(B769,A769,DIGITADOR!$M$1,C769),\"\"))","v":""},null,{"$f":"IF(N769=\"\",\"\",INDEX(referentes!S:T,MATCH(N769,referentes!T:T,0),1))","v":""},null,{"$f":"IF(P769=\"\",\"\",INDEX(referentes!Y:Z,MATCH(P769,referentes!Z:Z,0),1))","v":""},"","",null,null,null,null,null,{"$f":"IF(X769=\"\",\"\",INDEX(referentes!J:K,MATCH(X769,referentes!J:J,0),2))","v":""},null,null,""]
["30000401000000",null,0,{"$f":"IF(E770<>\"\",CONCATENATE(B770,A770,DIGITADOR!$M$1,C770),\"\")","v":""},null,null,"","","",null,766,"",{"$f":"IF(R770=R769,\"\",IF(E770<>\"\",CONCATENATE(B770,A770,DIGITADOR!$M$1,C770),\"\"))","v":""},null,{"$f":"IF(N770=\"\",\"\",INDEX(referentes!S:T,MATCH(N770,referentes!T:T,0),1))","v":""},null,{"$f":"IF(P770=\"\",\"\",INDEX(referentes!Y:Z,MATCH(P770,referentes!Z:Z,0),1))","v":""},"","",null,null,null,null,null,{"$f":"IF(X770=\"\",\"\",INDEX(referentes!J:K,MATCH(X770,referentes!J:J,0),2))","v":""},null,null,""]
["30000401000000",null,0,{"$f":"IF(E771<>\"\",CONCATENATE(B771,A771,DIGITADOR!$M$1,C771),\"\")","v":""},null,null,"","","",null,767,"",{"$f":"IF(R771=R770,\"\",IF(E771<>\"\",CONCATENATE(B771,A771,DIGITADOR!$M$1,C771),\"\"))","v":""},null,{"$f":"IF(N771=\"\",\"\",INDEX(referentes!S:T,MATCH(N771,referentes!T:T,0),1))","v":""},null,{"$f":"IF(P771=\"\",\"\",INDEX(referentes!Y:Z,MATCH(P771,referentes!Z:Z,0),1))","v":""},"","",null,null,null,null,null,{"$f":"IF(X771=\"\",\"\",INDEX(referentes!J:K,MATCH(X771,referentes!J:J,0),2))","v":""},null,null,""]
["30000401000000",null,0,{"$f":"IF(E772<>\"\",CONCATENATE(B772,A772,DIGITADOR!$M$1,C772),\"\")","v":""},null,null,"","","",null,768,"",{"$f":"IF(R772=R771,\"\",IF(E772<>\"\",CONCATENATE(B772,A772,DIGITADOR!$M$1,C772),\"\"))","v":""},null,{"$f":"IF(N772=\"\",\"\",INDEX(referentes!S:T,MATCH(N772,referentes!T:T,0),1))","v":""},null,{"$f":"IF(P772=\"\",\"\",INDEX(referentes!Y:Z,MATCH(P772,referentes!Z:Z,0),1))","v":""},"","",null,null,null,null,null,{"$f":"IF(X772=\"\",\"\",INDEX(referentes!J:K,MATCH(X772,referentes!J:J,0),2))","v":""},null,null,""]
["30000401000000",null,{"$f":"IF(R773=R772,C772,C772+1)","v":0},{"$f":"IF(E773<>\"\",CONCATENATE(B773,A773,DIGITADOR!$M$1,C773),\"\")","v":""},null,null,"","","",null,769,"",{"$f":"IF(R773=R772,\"\",IF(E773<>\"\",CONCATENATE(B773,A773,DIGITADOR!$M$1,C773),\"\"))","v":""},null,{"$f":"IF(N773=\"\",\"\",INDEX(referentes!S:T,MATCH(N773,referentes!T:T,0),1))","v":""},null,{"$f":"IF(P773=\"\",\"\",INDEX(referentes!Y:Z,MATCH(P773,referentes!Z:Z,0),1))","v":""},"","",null,null,null,null,null,{"$f":"IF(X773=\"\",\"\",INDEX(referentes!J:K,MATCH(X773,referentes!J:J,0),2))","v":""},null,null,""]
["30000401000000",null,0,{"$f":"IF(E774<>\"\",CONCATENATE(B774,A774,DIGITADOR!$M$1,C774),\"\")","v":""},null,null,{"$f":"IF(E774=\"\", \"\", (E774+F774))","v":""},{"$f":"IF(G774<>\"\",MONTH(G774),\"\")","v":""},{"$f":"IF(D774=\"\",\"\",1)","v":""},null,770,{"$f":"IF(E774=\"\",\"\",CONCATENATE(D774,K774))","v":""},{"$f":"IF(R774=R773,\"\",IF(E774<>\"\",CONCATENATE(B774,A774,DIGITADOR!$M$1,C774),\"\"))","v":""},null,{"$f":"IF(N774=\"\",\"\",INDEX(referentes!S:T,MATCH(N774,referentes!T:T,0),1))","v":""},null,{"$f":"IF(P774=\"\",\"\",INDEX(referentes!Y:Z,MATCH(P774,referentes!Z:Z,0),1))","v":""},{"$f":"IF(G774=\"\",\"\",CONCATENATE(G774,O774,Q774))","v":""},{"$f":"IF(E774=\"\",\"\",\"INVEMAR\")","v":""},null,null,null,null,null,{"$f":"IF(X774=\"\",\"\",INDEX(referentes!J:K,MATCH(X774,referentes!J:J,0),2))","v":""},null,null,{"$f":"IF(T774=\"\",\"\",IF(T774=T773,AB773,AA774))","v":""}]
[{"$f":"A774","v":"30000401000000"},null,0,{"$f":"IF(E775<>\"\",CONCATENATE(B775,A775,DIGITADOR!$M$1,C775),\"\")","v":""},null,null,"","","",null,771,"",{"$f":"IF(R775=R774,\"\",IF(E775<>\"\",CONCATENATE(B775,A775,DIGITADOR!$M$1,C775),\"\"))","v":""},null,{"$f":"IF(N775=\"\",\"\",INDEX(referentes!S:T,MATCH(N775,referentes!T:T,0),1))","v":""},null,{"$f":"IF(P775=\"\",\"\",INDEX(referentes!Y:Z,MATCH(P775,referentes!Z:Z,0),1))","v":""},"","",null,null,null,null,null,{"$f":"IF(X775=\"\",\"\",INDEX(referentes!J:K,MATCH(X775,referentes!J:J,0),2))","v":""},null,null,""]
["30000401000000",null,0,{"$f":"IF(E776<>\"\",CONCATENATE(B776,A776,DIGITADOR!$M$1,C776),\"\")","v":""},null,null,"","","",null,772,"",{"$f":"IF(R776=R775,\"\",IF(E776<>\"\",CONCATENATE(B776,A776,DIGITADOR!$M$1,C776),\"\"))","v":""},null,{"$f":"IF(N776=\"\",\"\",INDEX(referentes!S:T,MATCH(N776,referentes!T:T,0),1))","v":""},null,{"$f":"IF(P776=\"\",\"\",INDEX(referentes!Y:Z,MATCH(P776,referentes!Z:Z,0),1))","v":""},"","",null,null,null,null,null,{"$f":"IF(X776=\"\",\"\",INDEX(referentes!J:K,MATCH(X776,referentes!J:J,0),2))","v":""},null,null,""]
["30000401000000",null,0,{"$f":"IF(E777<>\"\",CONCATENATE(B777,A777,DIGITADOR!$M$1,C777),\"\")","v":""},null,null,"","","",null,773,"",{"$f":"IF(R777=R776,\"\",IF(E777<>\"\",CONCATENATE(B777,A777,DIGITADOR!$M$1,C777),\"\"))","v":""},null,{"$f":"IF(N777=\"\",\"\",INDEX(referentes!S:T,MATCH(N777,referentes!T:T,0),1))","v":""},null,{"$f":"IF(P777=\"\",\"\",INDEX(referentes!Y:Z,MATCH(P777,referentes!Z:Z,0),1))","v":""},"","",null,null,null,null,null,{"$f":"IF(X777=\"\",\"\",INDEX(referentes!J:K,MATCH(X777,referentes!J:J,0),2))","v":""},null,null,""]
["30000401000000",null,0,{"$f":"IF(E778<>\"\",CONCATENATE(B778,A778,DIGITADOR!$M$1,C778),\"\")","v":""},null,null,"","","",null,774,"",{"$f":"IF(R778=R777,\"\",IF(E778<>\"\",CONCATENATE(B778,A778,DIGITADOR!$M$1,C778),\"\"))","v":""},null,{"$f":"IF(N778=\"\",\"\",INDEX(referentes!S:T,MATCH(N778,referentes!T:T,0),1))","v":""},null,{"$f":"IF(P778=\"\",\"\",INDEX(referentes!Y:Z,MATCH(P778,referentes!Z:Z,0),1))","v":""},"","",null,null,null,null,null,{"$f":"IF(X778=\"\",\"\",INDEX(referentes!J:K,MATCH(X778,referentes!J:J,0),2))","v":""},null,null,""]
["30000401000000",null,0,{"$f":"IF(E779<>\"\",CONCATENATE(B779,A779,DIGITADOR!$M$1,C779),\"\")","v":""},null,null,"","","",null,775,"",{"$f":"IF(R779=R778,\"\",IF(E779<>\"\",CONCATENATE(B779,A779,DIGITADOR!$M$1,C779),\"\"))","v":""},null,{"$f":"IF(N779=\"\",\"\",INDEX(referentes!S:T,MATCH(N779,referentes!T:T,0),1))","v":""},null,{"$f":"IF(P779=\"\",\"\",INDEX(referentes!Y:Z,MATCH(P779,referentes!Z:Z,0),1))","v":""},"","",null,null,null,null,null,{"$f":"IF(X779=\"\",\"\",INDEX(referentes!J:K,MATCH(X779,referentes!J:J,0),2))","v":""},null,null,""]
["30000401000000",null,0,{"$f":"IF(E780<>\"\",CONCATENATE(B780,A780,DIGITADOR!$M$1,C780),\"\")","v":""},null,null,"","","",null,776,"",{"$f":"IF(R780=R779,\"\",IF(E780<>\"\",CONCATENATE(B780,A780,DIGITADOR!$M$1,C780),\"\"))","v":""},null,{"$f":"IF(N780=\"\",\"\",INDEX(referentes!S:T,MATCH(N780,referentes!T:T,0),1))","v":""},null,{"$f":"IF(P780=\"\",\"\",INDEX(referentes!Y:Z,MATCH(P780,referentes!Z:Z,0),1))","v":""},"","",null,null,null,null,null,{"$f":"IF(X780=\"\",\"\",INDEX(referentes!J:K,MATCH(X780,referentes!J:J,0),2))","v":""},null,null,""]
["30000401000000",null,0,{"$f":"IF(E781<>\"\",CONCATENATE(B781,A781,DIGITADOR!$M$1,C781),\"\")","v":""},null,null,"","","",null,777,"",{"$f":"IF(R781=R780,\"\",IF(E781<>\"\",CONCATENATE(B781,A781,DIGITADOR!$M$1,C781),\"\"))","v":""},null,{"$f":"IF(N781=\"\",\"\",INDEX(referentes!S:T,MATCH(N781,referentes!T:T,0),1))","v":""},null,{"$f":"IF(P781=\"\",\"\",INDEX(referentes!Y:Z,MATCH(P781,referentes!Z:Z,0),1))","v":""},"","",null,null,null,null,null,{"$f":"IF(X781=\"\",\"\",INDEX(referentes!J:K,MATCH(X781,referentes!J:J,0),2))","v":""},null,null,""]
["30000401000000",null,0,{"$f":"IF(E782<>\"\",CONCATENATE(B782,A782,DIGITADOR!$M$1,C782),\"\")","v":""},null,null,"","","",null,778,"",{"$f":"IF(R782=R781,\"\",IF(E782<>\"\",CONCATENATE(B782,A782,DIGITADOR!$M$1,C782),\"\"))","v":""},null,{"$f":"IF(N782=\"\",\"\",INDEX(referentes!S:T,MATCH(N782,referentes!T:T,0),1))","v":""},null,{"$f":"IF(P782=\"\",\"\",INDEX(referentes!Y:Z,MATCH(P782,referentes!Z:Z,0),1))","v":""},"","",null,null,null,null,null,{"$f":"IF(X782=\"\",\"\",INDEX(referentes!J:K,MATCH(X782,referentes!J:J,0),2))","v":""},null,null,""]
["30000401000000",null,0,{"$f":"IF(E783<>\"\",CONCATENATE(B783,A783,DIGITADOR!$M$1,C783),\"\")","v":""},null,null,"","","",null,779,"",{"$f":"IF(R783=R782,\"\",IF(E783<>\"\",CONCATENATE(B783,A783,DIGITADOR!$M$1,C783),\"\"))","v":""},null,{"$f":"IF(N783=\"\",\"\",INDEX(referentes!S:T,MATCH(N783,referentes!T:T,0),1))","v":""},null,{"$f":"IF(P783=\"\",\"\",INDEX(referentes!Y:Z,MATCH(P783,referentes!Z:Z,0),1))","v":""},"","",null,null,null,null,null,{"$f":"IF(X783=\"\",\"\",INDEX(referentes!J:K,MATCH(X783,referentes!J:J,0),2))","v":""},null,null,""]
["30000401000000",null,0,{"$f":"IF(E784<>\"\",CONCATENATE(B784,A784,DIGITADOR!$M$1,C784),\"\")","v":""},null,null,"","","",null,780,"",{"$f":"IF(R784=R783,\"\",IF(E784<>\"\",CONCATENATE(B784,A784,DIGITADOR!$M$1,C784),\"\"))","v":""},null,{"$f":"IF(N784=\"\",\"\",INDEX(referentes!S:T,MATCH(N784,referentes!T:T,0),1))","v":""},null,{"$f":"IF(P784=\"\",\"\",INDEX(referentes!Y:Z,MATCH(P784,referentes!Z:Z,0),1))","v":""},"","",null,null,null,null,null,{"$f":"IF(X784=\"\",\"\",INDEX(referentes!J:K,MATCH(X784,referentes!J:J,0),2))","v":""},null,null,""]
["30000401000000",null,0,{"$f":"IF(E785<>\"\",CONCATENATE(B785,A785,DIGITADOR!$M$1,C785),\"\")","v":""},null,null,"","","",null,781,"",{"$f":"IF(R785=R784,\"\",IF(E785<>\"\",CONCATENATE(B785,A785,DIGITADOR!$M$1,C785),\"\"))","v":""},null,{"$f":"IF(N785=\"\",\"\",INDEX(referentes!S:T,MATCH(N785,referentes!T:T,0),1))","v":""},null,{"$f":"IF(P785=\"\",\"\",INDEX(referentes!Y:Z,MATCH(P785,referentes!Z:Z,0),1))","v":""},"","",null,null,null,null,null,{"$f":"IF(X785=\"\",\"\",INDEX(referentes!J:K,MATCH(X785,referentes!J:J,0),2))","v":""},null,null,""]
["30000401000000",null,0,{"$f":"IF(E786<>\"\",CONCATENATE(B786,A786,DIGITADOR!$M$1,C786),\"\")","v":""},null,null,"","","",null,782,"",{"$f":"IF(R786=R785,\"\",IF(E786<>\"\",CONCATENATE(B786,A786,DIGITADOR!$M$1,C786),\"\"))","v":""},null,{"$f":"IF(N786=\"\",\"\",INDEX(referentes!S:T,MATCH(N786,referentes!T:T,0),1))","v":""},null,{"$f":"IF(P786=\"\",\"\",INDEX(referentes!Y:Z,MATCH(P786,referentes!Z:Z,0),1))","v":""},"","",null,null,null,null,null,{"$f":"IF(X786=\"\",\"\",INDEX(referentes!J:K,MATCH(X786,referentes!J:J,0),2))","v":""},null,null,""]
["30000401000000",null,0,{"$f":"IF(E787<>\"\",CONCATENATE(B787,A787,DIGITADOR!$M$1,C787),\"\")","v":""},null,null,"","","",null,783,"",{"$f":"IF(R787=R786,\"\",IF(E787<>\"\",CONCATENATE(B787,A787,DIGITADOR!$M$1,C787),\"\"))","v":""},null,{"$f":"IF(N787=\"\",\"\",INDEX(referentes!S:T,MATCH(N787,referentes!T:T,0),1))","v":""},null,{"$f":"IF(P787=\"\",\"\",INDEX(referentes!Y:Z,MATCH(P787,referentes!Z:Z,0),1))","v":""},"","",null,null,null,null,null,{"$f":"IF(X787=\"\",\"\",INDEX(referentes!J:K,MATCH(X787,referentes!J:J,0),2))","v":""},null,null,""]
["30000401000000",null,0,{"$f":"IF(E788<>\"\",CONCATENATE(B788,A788,DIGITADOR!$M$1,C788),\"\")","v":""},null,null,"","","",null,784,"",{"$f":"IF(R788=R787,\"\",IF(E788<>\"\",CONCATENATE(B788,A788,DIGITADOR!$M$1,C788),\"\"))","v":""},null,{"$f":"IF(N788=\"\",\"\",INDEX(referentes!S:T,MATCH(N788,referentes!T:T,0),1))","v":""},null,{"$f":"IF(P788=\"\",\"\",INDEX(referentes!Y:Z,MATCH(P788,referentes!Z:Z,0),1))","v":""},"","",null,null,null,null,null,{"$f":"IF(X788=\"\",\"\",INDEX(referentes!J:K,MATCH(X788,referentes!J:J,0),2))","v":""},null,null,""]
["30000401000000",null,0,{"$f":"IF(E789<>\"\",CONCATENATE(B789,A789,DIGITADOR!$M$1,C789),\"\")","v":""},null,null,"","","",null,785,"",{"$f":"IF(R789=R788,\"\",IF(E789<>\"\",CONCATENATE(B789,A789,DIGITADOR!$M$1,C789),\"\"))","v":""},null,{"$f":"IF(N789=\"\",\"\",INDEX(referentes!S:T,MATCH(N789,referentes!T:T,0),1))","v":""},null,{"$f":"IF(P789=\"\",\"\",INDEX(referentes!Y:Z,MATCH(P789,referentes!Z:Z,0),1))","v":""},"","",null,null,null,null,null,{"$f":"IF(X789=\"\",\"\",INDEX(referentes!J:K,MATCH(X789,referentes!J:J,0),2))","v":""},null,null,""]
["30000401000000",null,0,{"$f":"IF(E790<>\"\",CONCATENATE(B790,A790,DIGITADOR!$M$1,C790),\"\")","v":""},null,null,"","","",null,786,"",{"$f":"IF(R790=R789,\"\",IF(E790<>\"\",CONCATENATE(B790,A790,DIGITADOR!$M$1,C790),\"\"))","v":""},null,{"$f":"IF(N790=\"\",\"\",INDEX(referentes!S:T,MATCH(N790,referentes!T:T,0),1))","v":""},null,{"$f":"IF(P790=\"\",\"\",INDEX(referentes!Y:Z,MATCH(P790,referentes!Z:Z,0),1))","v":""},"","",null,null,null,null,null,{"$f":"IF(X790=\"\",\"\",INDEX(referentes!J:K,MATCH(X790,referentes!J:J,0),2))","v":""},null,null,""]
["30000401000000",null,0,{"$f":"IF(E791<>\"\",CONCATENATE(B791,A791,DIGITADOR!$M$1,C791),\"\")","v":""},null,null,"","","",null,787,"",{"$f":"IF(R791=R790,\"\",IF(E791<>\"\",CONCATENATE(B791,A791,DIGITADOR!$M$1,C791),\"\"))","v":""},null,{"$f":"IF(N791=\"\",\"\",INDEX(referentes!S:T,MATCH(N791,referentes!T:T,0),1))","v":""},null,{"$f":"IF(P791=\"\",\"\",INDEX(referentes!Y:Z,MATCH(P791,referentes!Z:Z,0),1))","v":""},"","",null,null,null,null,null,{"$f":"IF(X791=\"\",\"\",INDEX(referentes!J:K,MATCH(X791,referentes!J:J,0),2))","v":""},null,null,""]
["30000401000000",null,0,{"$f":"IF(E792<>\"\",CONCATENATE(B792,A792,DIGITADOR!$M$1,C792),\"\")","v":""},null,null,"","","",null,788,"",{"$f":"IF(R792=R791,\"\",IF(E792<>\"\",CONCATENATE(B792,A792,DIGITADOR!$M$1,C792),\"\"))","v":""},null,{"$f":"IF(N792=\"\",\"\",INDEX(referentes!S:T,MATCH(N792,referentes!T:T,0),1))","v":""},null,{"$f":"IF(P792=\"\",\"\",INDEX(referentes!Y:Z,MATCH(P792,referentes!Z:Z,0),1))","v":""},"","",null,null,null,null,null,{"$f":"IF(X792=\"\",\"\",INDEX(referentes!J:K,MATCH(X792,referentes!J:J,0),2))","v":""},null,null,""]
["30000401000000",null,0,{"$f":"IF(E793<>\"\",CONCATENATE(B793,A793,DIGITADOR!$M$1,C793),\"\")","v":""},null,null,"","","",null,789,"",{"$f":"IF(R793=R792,\"\",IF(E793<>\"\",CONCATENATE(B793,A793,DIGITADOR!$M$1,C793),\"\"))","v":""},null,{"$f":"IF(N793=\"\",\"\",INDEX(referentes!S:T,MATCH(N793,referentes!T:T,0),1))","v":""},null,{"$f":"IF(P793=\"\",\"\",INDEX(referentes!Y:Z,MATCH(P793,referentes!Z:Z,0),1))","v":""},"","",null,null,null,null,null,{"$f":"IF(X793=\"\",\"\",INDEX(referentes!J:K,MATCH(X793,referentes!J:J,0),2))","v":""},null,null,""]
["30000401000000",null,0,{"$f":"IF(E794<>\"\",CONCATENATE(B794,A794,DIGITADOR!$M$1,C794),\"\")","v":""},null,null,"","","",null,790,"",{"$f":"IF(R794=R793,\"\",IF(E794<>\"\",CONCATENATE(B794,A794,DIGITADOR!$M$1,C794),\"\"))","v":""},null,{"$f":"IF(N794=\"\",\"\",INDEX(referentes!S:T,MATCH(N794,referentes!T:T,0),1))","v":""},null,{"$f":"IF(P794=\"\",\"\",INDEX(referentes!Y:Z,MATCH(P794,referentes!Z:Z,0),1))","v":""},"","",null,null,null,null,null,{"$f":"IF(X794=\"\",\"\",INDEX(referentes!J:K,MATCH(X794,referentes!J:J,0),2))","v":""},null,null,""]
["30000401000000",null,0,{"$f":"IF(E795<>\"\",CONCATENATE(B795,A795,DIGITADOR!$M$1,C795),\"\")","v":""},null,null,"","","",null,791,"",{"$f":"IF(R795=R794,\"\",IF(E795<>\"\",CONCATENATE(B795,A795,DIGITADOR!$M$1,C795),\"\"))","v":""},null,{"$f":"IF(N795=\"\",\"\",INDEX(referentes!S:T,MATCH(N795,referentes!T:T,0),1))","v":""},null,{"$f":"IF(P795=\"\",\"\",INDEX(referentes!Y:Z,MATCH(P795,referentes!Z:Z,0),1))","v":""},"","",null,null,null,null,null,{"$f":"IF(X795=\"\",\"\",INDEX(referentes!J:K,MATCH(X795,referentes!J:J,0),2))","v":""},null,null,""]
["30000401000000",null,0,{"$f":"IF(E796<>\"\",CONCATENATE(B796,A796,DIGITADOR!$M$1,C796),\"\")","v":""},null,null,"","","",null,792,"",{"$f":"IF(R796=R795,\"\",IF(E796<>\"\",CONCATENATE(B796,A796,DIGITADOR!$M$1,C796),\"\"))","v":""},null,{"$f":"IF(N796=\"\",\"\",INDEX(referentes!S:T,MATCH(N796,referentes!T:T,0),1))","v":""},null,{"$f":"IF(P796=\"\",\"\",INDEX(referentes!Y:Z,MATCH(P796,referentes!Z:Z,0),1))","v":""},"","",null,null,null,null,null,{"$f":"IF(X796=\"\",\"\",INDEX(referentes!J:K,MATCH(X796,referentes!J:J,0),2))","v":""},null,null,""]
["30000401000000",null,0,{"$f":"IF(E797<>\"\",CONCATENATE(B797,A797,DIGITADOR!$M$1,C797),\"\")","v":""},null,null,"","","",null,793,"",{"$f":"IF(R797=R796,\"\",IF(E797<>\"\",CONCATENATE(B797,A797,DIGITADOR!$M$1,C797),\"\"))","v":""},null,{"$f":"IF(N797=\"\",\"\",INDEX(referentes!S:T,MATCH(N797,referentes!T:T,0),1))","v":""},null,{"$f":"IF(P797=\"\",\"\",INDEX(referentes!Y:Z,MATCH(P797,referentes!Z:Z,0),1))","v":""},"","",null,null,null,null,null,{"$f":"IF(X797=\"\",\"\",INDEX(referentes!J:K,MATCH(X797,referentes!J:J,0),2))","v":""},null,null,""]
["30000401000000",null,0,{"$f":"IF(E798<>\"\",CONCATENATE(B798,A798,DIGITADOR!$M$1,C798),\"\")","v":""},null,null,"","","",null,794,"",{"$f":"IF(R798=R797,\"\",IF(E798<>\"\",CONCATENATE(B798,A798,DIGITADOR!$M$1,C798),\"\"))","v":""},null,{"$f":"IF(N798=\"\",\"\",INDEX(referentes!S:T,MATCH(N798,referentes!T:T,0),1))","v":""},null,{"$f":"IF(P798=\"\",\"\",INDEX(referentes!Y:Z,MATCH(P798,referentes!Z:Z,0),1))","v":""},"","",null,null,null,null,null,{"$f":"IF(X798=\"\",\"\",INDEX(referentes!J:K,MATCH(X798,referentes!J:J,0),2))","v":""},null,null,""]
["30000401000000",null,0,{"$f":"IF(E799<>\"\",CONCATENATE(B799,A799,DIGITADOR!$M$1,C799),\"\")","v":""},null,null,"","","",null,795,"",{"$f":"IF(R799=R798,\"\",IF(E799<>\"\",CONCATENATE(B799,A799,DIGITADOR!$M$1,C799),\"\"))","v":""},null,{"$f":"IF(N799=\"\",\"\",INDEX(referentes!S:T,MATCH(N799,referentes!T:T,0),1))","v":""},null,{"$f":"IF(P799=\"\",\"\",INDEX(referentes!Y:Z,MATCH(P799,referentes!Z:Z,0),1))","v":""},"","",null,null,null,null,null,{"$f":"IF(X799=\"\",\"\",INDEX(referentes!J:K,MATCH(X799,referentes!J:J,0),2))","v":""},null,null,""]
["30000401000000",null,0,{"$f":"IF(E800<>\"\",CONCATENATE(B800,A800,DIGITADOR!$M$1,C800),\"\")","v":""},null,null,"","","",null,796,"",{"$f":"IF(R800=R799,\"\",IF(E800<>\"\",CONCATENATE(B800,A800,DIGITADOR!$M$1,C800),\"\"))","v":""},null,{"$f":"IF(N800=\"\",\"\",INDEX(referentes!S:T,MATCH(N800,referentes!T:T,0),1))","v":""},null,{"$f":"IF(P800=\"\",\"\",INDEX(referentes!Y:Z,MATCH(P800,referentes!Z:Z,0),1))","v":""},"","",null,null,null,null,null,{"$f":"IF(X800=\"\",\"\",INDEX(referentes!J:K,MATCH(X800,referentes!J:J,0),2))","v":""},null,null,""]
["30000401000000",null,0,{"$f":"IF(E801<>\"\",CONCATENATE(B801,A801,DIGITADOR!$M$1,C801),\"\")","v":""},null,null,"","","",null,797,"",{"$f":"IF(R801=R800,\"\",IF(E801<>\"\",CONCATENATE(B801,A801,DIGITADOR!$M$1,C801),\"\"))","v":""},null,{"$f":"IF(N801=\"\",\"\",INDEX(referentes!S:T,MATCH(N801,referentes!T:T,0),1))","v":""},null,{"$f":"IF(P801=\"\",\"\",INDEX(referentes!Y:Z,MATCH(P801,referentes!Z:Z,0),1))","v":""},"","",null,null,null,null,null,{"$f":"IF(X801=\"\",\"\",INDEX(referentes!J:K,MATCH(X801,referentes!J:J,0),2))","v":""},null,null,""]
["30000401000000",null,0,{"$f":"IF(E802<>\"\",CONCATENATE(B802,A802,DIGITADOR!$M$1,C802),\"\")","v":""},null,null,"","","",null,798,"",{"$f":"IF(R802=R801,\"\",IF(E802<>\"\",CONCATENATE(B802,A802,DIGITADOR!$M$1,C802),\"\"))","v":""},null,{"$f":"IF(N802=\"\",\"\",INDEX(referentes!S:T,MATCH(N802,referentes!T:T,0),1))","v":""},null,{"$f":"IF(P802=\"\",\"\",INDEX(referentes!Y:Z,MATCH(P802,referentes!Z:Z,0),1))","v":""},"","",null,null,null,null,null,{"$f":"IF(X802=\"\",\"\",INDEX(referentes!J:K,MATCH(X802,referentes!J:J,0),2))","v":""},null,null,""]
["30000401000000",null,0,{"$f":"IF(E803<>\"\",CONCATENATE(B803,A803,DIGITADOR!$M$1,C803),\"\")","v":""},null,null,"","","",null,799,"",{"$f":"IF(R803=R802,\"\",IF(E803<>\"\",CONCATENATE(B803,A803,DIGITADOR!$M$1,C803),\"\"))","v":""},null,{"$f":"IF(N803=\"\",\"\",INDEX(referentes!S:T,MATCH(N803,referentes!T:T,0),1))","v":""},null,{"$f":"IF(P803=\"\",\"\",INDEX(referentes!Y:Z,MATCH(P803,referentes!Z:Z,0),1))","v":""},"","",null,null,null,null,null,{"$f":"IF(X803=\"\",\"\",INDEX(referentes!J:K,MATCH(X803,referentes!J:J,0),2))","v":""},null,null,""]
["30000401000000",null,0,{"$f":"IF(E804<>\"\",CONCATENATE(B804,A804,DIGITADOR!$M$1,C804),\"\")","v":""},null,null,"","","",null,800,"",{"$f":"IF(R804=R803,\"\",IF(E804<>\"\",CONCATENATE(B804,A804,DIGITADOR!$M$1,C804),\"\"))","v":""},null,{"$f":"IF(N804=\"\",\"\",INDEX(referentes!S:T,MATCH(N804,referentes!T:T,0),1))","v":""},null,{"$f":"IF(P804=\"\",\"\",INDEX(referentes!Y:Z,MATCH(P804,referentes!Z:Z,0),1))","v":""},"","",null,null,null,null,null,{"$f":"IF(X804=\"\",\"\",INDEX(referentes!J:K,MATCH(X804,referentes!J:J,0),2))","v":""},null,null,""]
["30000401000000",null,0,{"$f":"IF(E805<>\"\",CONCATENATE(B805,A805,DIGITADOR!$M$1,C805),\"\")","v":""},null,null,"","","",null,801,"",{"$f":"IF(R805=R804,\"\",IF(E805<>\"\",CONCATENATE(B805,A805,DIGITADOR!$M$1,C805),\"\"))","v":""},null,{"$f":"IF(N805=\"\",\"\",INDEX(referentes!S:T,MATCH(N805,referentes!T:T,0),1))","v":""},null,{"$f":"IF(P805=\"\",\"\",INDEX(referentes!Y:Z,MATCH(P805,referentes!Z:Z,0),1))","v":""},"","",null,null,null,null,null,{"$f":"IF(X805=\"\",\"\",INDEX(referentes!J:K,MATCH(X805,referentes!J:J,0),2))","v":""},null,null,""]
["30000401000000",null,0,{"$f":"IF(E806<>\"\",CONCATENATE(B806,A806,DIGITADOR!$M$1,C806),\"\")","v":""},null,null,"","","",null,802,"",{"$f":"IF(R806=R805,\"\",IF(E806<>\"\",CONCATENATE(B806,A806,DIGITADOR!$M$1,C806),\"\"))","v":""},null,{"$f":"IF(N806=\"\",\"\",INDEX(referentes!S:T,MATCH(N806,referentes!T:T,0),1))","v":""},null,{"$f":"IF(P806=\"\",\"\",INDEX(referentes!Y:Z,MATCH(P806,referentes!Z:Z,0),1))","v":""},"","",null,null,null,null,null,{"$f":"IF(X806=\"\",\"\",INDEX(referentes!J:K,MATCH(X806,referentes!J:J,0),2))","v":""},null,null,""]
["30000401000000",null,0,{"$f":"IF(E807<>\"\",CONCATENATE(B807,A807,DIGITADOR!$M$1,C807),\"\")","v":""},null,null,"","","",null,803,"",{"$f":"IF(R807=R806,\"\",IF(E807<>\"\",CONCATENATE(B807,A807,DIGITADOR!$M$1,C807),\"\"))","v":""},null,{"$f":"IF(N807=\"\",\"\",INDEX(referentes!S:T,MATCH(N807,referentes!T:T,0),1))","v":""},null,{"$f":"IF(P807=\"\",\"\",INDEX(referentes!Y:Z,MATCH(P807,referentes!Z:Z,0),1))","v":""},"","",null,null,null,null,null,{"$f":"IF(X807=\"\",\"\",INDEX(referentes!J:K,MATCH(X807,referentes!J:J,0),2))","v":""},null,null,""]
["30000401000000",null,0,{"$f":"IF(E808<>\"\",CONCATENATE(B808,A808,DIGITADOR!$M$1,C808),\"\")","v":""},null,null,"","","",null,804,"",{"$f":"IF(R808=R807,\"\",IF(E808<>\"\",CONCATENATE(B808,A808,DIGITADOR!$M$1,C808),\"\"))","v":""},null,{"$f":"IF(N808=\"\",\"\",INDEX(referentes!S:T,MATCH(N808,referentes!T:T,0),1))","v":""},null,{"$f":"IF(P808=\"\",\"\",INDEX(referentes!Y:Z,MATCH(P808,referentes!Z:Z,0),1))","v":""},"","",null,null,null,null,null,{"$f":"IF(X808=\"\",\"\",INDEX(referentes!J:K,MATCH(X808,referentes!J:J,0),2))","v":""},null,null,""]
["30000401000000",null,0,{"$f":"IF(E809<>\"\",CONCATENATE(B809,A809,DIGITADOR!$M$1,C809),\"\")","v":""},null,null,"","","",null,805,"",{"$f":"IF(R809=R808,\"\",IF(E809<>\"\",CONCATENATE(B809,A809,DIGITADOR!$M$1,C809),\"\"))","v":""},null,{"$f":"IF(N809=\"\",\"\",INDEX(referentes!S:T,MATCH(N809,referentes!T:T,0),1))","v":""},null,{"$f":"IF(P809=\"\",\"\",INDEX(referentes!Y:Z,MATCH(P809,referentes!Z:Z,0),1))","v":""},"","",null,null,null,null,null,{"$f":"IF(X809=\"\",\"\",INDEX(referentes!J:K,MATCH(X809,referentes!J:J,0),2))","v":""},null,null,""]
["30000401000000",null,0,{"$f":"IF(E810<>\"\",CONCATENATE(B810,A810,DIGITADOR!$M$1,C810),\"\")","v":""},null,null,"","","",null,806,"",{"$f":"IF(R810=R809,\"\",IF(E810<>\"\",CONCATENATE(B810,A810,DIGITADOR!$M$1,C810),\"\"))","v":""},null,{"$f":"IF(N810=\"\",\"\",INDEX(referentes!S:T,MATCH(N810,referentes!T:T,0),1))","v":""},null,{"$f":"IF(P810=\"\",\"\",INDEX(referentes!Y:Z,MATCH(P810,referentes!Z:Z,0),1))","v":""},"","",null,null,null,null,null,{"$f":"IF(X810=\"\",\"\",INDEX(referentes!J:K,MATCH(X810,referentes!J:J,0),2))","v":""},null,null,""]
["30000401000000",null,0,{"$f":"IF(E811<>\"\",CONCATENATE(B811,A811,DIGITADOR!$M$1,C811),\"\")","v":""},null,null,"","","",null,807,"",{"$f":"IF(R811=R810,\"\",IF(E811<>\"\",CONCATENATE(B811,A811,DIGITADOR!$M$1,C811),\"\"))","v":""},null,{"$f":"IF(N811=\"\",\"\",INDEX(referentes!S:T,MATCH(N811,referentes!T:T,0),1))","v":""},null,{"$f":"IF(P811=\"\",\"\",INDEX(referentes!Y:Z,MATCH(P811,referentes!Z:Z,0),1))","v":""},"","",null,null,null,null,null,{"$f":"IF(X811=\"\",\"\",INDEX(referentes!J:K,MATCH(X811,referentes!J:J,0),2))","v":""},null,null,""]
["30000401000000",null,0,{"$f":"IF(E812<>\"\",CONCATENATE(B812,A812,DIGITADOR!$M$1,C812),\"\")","v":""},null,null,"","","",null,808,"",{"$f":"IF(R812=R811,\"\",IF(E812<>\"\",CONCATENATE(B812,A812,DIGITADOR!$M$1,C812),\"\"))","v":""},null,{"$f":"IF(N812=\"\",\"\",INDEX(referentes!S:T,MATCH(N812,referentes!T:T,0),1))","v":""},null,{"$f":"IF(P812=\"\",\"\",INDEX(referentes!Y:Z,MATCH(P812,referentes!Z:Z,0),1))","v":""},"","",null,null,null,null,null,{"$f":"IF(X812=\"\",\"\",INDEX(referentes!J:K,MATCH(X812,referentes!J:J,0),2))","v":""},null,null,""]
["30000401000000",null,0,{"$f":"IF(E813<>\"\",CONCATENATE(B813,A813,DIGITADOR!$M$1,C813),\"\")","v":""},null,null,"","","",null,809,"",{"$f":"IF(R813=R812,\"\",IF(E813<>\"\",CONCATENATE(B813,A813,DIGITADOR!$M$1,C813),\"\"))","v":""},null,{"$f":"IF(N813=\"\",\"\",INDEX(referentes!S:T,MATCH(N813,referentes!T:T,0),1))","v":""},null,{"$f":"IF(P813=\"\",\"\",INDEX(referentes!Y:Z,MATCH(P813,referentes!Z:Z,0),1))","v":""},"","",null,null,null,null,null,{"$f":"IF(X813=\"\",\"\",INDEX(referentes!J:K,MATCH(X813,referentes!J:J,0),2))","v":""},null,null,""]
["30000401000000",null,0,{"$f":"IF(E814<>\"\",CONCATENATE(B814,A814,DIGITADOR!$M$1,C814),\"\")","v":""},null,null,"","","",null,810,"",{"$f":"IF(R814=R813,\"\",IF(E814<>\"\",CONCATENATE(B814,A814,DIGITADOR!$M$1,C814),\"\"))","v":""},null,{"$f":"IF(N814=\"\",\"\",INDEX(referentes!S:T,MATCH(N814,referentes!T:T,0),1))","v":""},null,{"$f":"IF(P814=\"\",\"\",INDEX(referentes!Y:Z,MATCH(P814,referentes!Z:Z,0),1))","v":""},"","",null,null,null,null,null,{"$f":"IF(X814=\"\",\"\",INDEX(referentes!J:K,MATCH(X814,referentes!J:J,0),2))","v":""},null,null,""]
["30000401000000",null,0,{"$f":"IF(E815<>\"\",CONCATENATE(B815,A815,DIGITADOR!$M$1,C815),\"\")","v":""},null,null,"","","",null,811,"",{"$f":"IF(R815=R814,\"\",IF(E815<>\"\",CONCATENATE(B815,A815,DIGITADOR!$M$1,C815),\"\"))","v":""},null,{"$f":"IF(N815=\"\",\"\",INDEX(referentes!S:T,MATCH(N815,referentes!T:T,0),1))","v":""},null,{"$f":"IF(P815=\"\",\"\",INDEX(referentes!Y:Z,MATCH(P815,referentes!Z:Z,0),1))","v":""},"","",null,null,null,null,null,{"$f":"IF(X815=\"\",\"\",INDEX(referentes!J:K,MATCH(X815,referentes!J:J,0),2))","v":""},null,null,""]
["30000401000000",null,0,{"$f":"IF(E816<>\"\",CONCATENATE(B816,A816,DIGITADOR!$M$1,C816),\"\")","v":""},null,null,"","","",null,812,"",{"$f":"IF(R816=R815,\"\",IF(E816<>\"\",CONCATENATE(B816,A816,DIGITADOR!$M$1,C816),\"\"))","v":""},null,{"$f":"IF(N816=\"\",\"\",INDEX(referentes!S:T,MATCH(N816,referentes!T:T,0),1))","v":""},null,{"$f":"IF(P816=\"\",\"\",INDEX(referentes!Y:Z,MATCH(P816,referentes!Z:Z,0),1))","v":""},"","",null,null,null,null,null,{"$f":"IF(X816=\"\",\"\",INDEX(referentes!J:K,MATCH(X816,referentes!J:J,0),2))","v":""},null,null,""]
["30000401000000",null,0,{"$f":"IF(E817<>\"\",CONCATENATE(B817,A817,DIGITADOR!$M$1,C817),\"\")","v":""},null,null,"","","",null,813,"",{"$f":"IF(R817=R816,\"\",IF(E817<>\"\",CONCATENATE(B817,A817,DIGITADOR!$M$1,C817),\"\"))","v":""},null,{"$f":"IF(N817=\"\",\"\",INDEX(referentes!S:T,MATCH(N817,referentes!T:T,0),1))","v":""},null,{"$f":"IF(P817=\"\",\"\",INDEX(referentes!Y:Z,MATCH(P817,referentes!Z:Z,0),1))","v":""},"","",null,null,null,null,null,{"$f":"IF(X817=\"\",\"\",INDEX(referentes!J:K,MATCH(X817,referentes!J:J,0),2))","v":""},null,null,""]
["30000401000000",null,0,{"$f":"IF(E818<>\"\",CONCATENATE(B818,A818,DIGITADOR!$M$1,C818),\"\")","v":""},null,null,"","","",null,814,"",{"$f":"IF(R818=R817,\"\",IF(E818<>\"\",CONCATENATE(B818,A818,DIGITADOR!$M$1,C818),\"\"))","v":""},null,{"$f":"IF(N818=\"\",\"\",INDEX(referentes!S:T,MATCH(N818,referentes!T:T,0),1))","v":""},null,{"$f":"IF(P818=\"\",\"\",INDEX(referentes!Y:Z,MATCH(P818,referentes!Z:Z,0),1))","v":""},"","",null,null,null,null,null,{"$f":"IF(X818=\"\",\"\",INDEX(referentes!J:K,MATCH(X818,referentes!J:J,0),2))","v":""},null,null,""]
["30000401000000",null,0,{"$f":"IF(E819<>\"\",CONCATENATE(B819,A819,DIGITADOR!$M$1,C819),\"\")","v":""},null,null,"","","",null,815,"",{"$f":"IF(R819=R818,\"\",IF(E819<>\"\",CONCATENATE(B819,A819,DIGITADOR!$M$1,C819),\"\"))","v":""},null,{"$f":"IF(N819=\"\",\"\",INDEX(referentes!S:T,MATCH(N819,referentes!T:T,0),1))","v":""},null,{"$f":"IF(P819=\"\",\"\",INDEX(referentes!Y:Z,MATCH(P819,referentes!Z:Z,0),1))","v":""},"","",null,null,null,null,null,{"$f":"IF(X819=\"\",\"\",INDEX(referentes!J:K,MATCH(X819,referentes!J:J,0),2))","v":""},null,null,""]
["30000401000000",null,0,{"$f":"IF(E820<>\"\",CONCATENATE(B820,A820,DIGITADOR!$M$1,C820),\"\")","v":""},null,null,"","","",null,816,"",{"$f":"IF(R820=R819,\"\",IF(E820<>\"\",CONCATENATE(B820,A820,DIGITADOR!$M$1,C820),\"\"))","v":""},null,{"$f":"IF(N820=\"\",\"\",INDEX(referentes!S:T,MATCH(N820,referentes!T:T,0),1))","v":""},null,{"$f":"IF(P820=\"\",\"\",INDEX(referentes!Y:Z,MATCH(P820,referentes!Z:Z,0),1))","v":""},"","",null,null,null,null,null,{"$f":"IF(X820=\"\",\"\",INDEX(referentes!J:K,MATCH(X820,referentes!J:J,0),2))","v":""},null,null,""]
["30000401000000",null,0,{"$f":"IF(E821<>\"\",CONCATENATE(B821,A821,DIGITADOR!$M$1,C821),\"\")","v":""},null,null,"","","",null,817,"",{"$f":"IF(R821=R820,\"\",IF(E821<>\"\",CONCATENATE(B821,A821,DIGITADOR!$M$1,C821),\"\"))","v":""},null,{"$f":"IF(N821=\"\",\"\",INDEX(referentes!S:T,MATCH(N821,referentes!T:T,0),1))","v":""},null,{"$f":"IF(P821=\"\",\"\",INDEX(referentes!Y:Z,MATCH(P821,referentes!Z:Z,0),1))","v":""},"","",null,null,null,null,null,{"$f":"IF(X821=\"\",\"\",INDEX(referentes!J:K,MATCH(X821,referentes!J:J,0),2))","v":""},null,null,""]
["30000401000000",null,0,{"$f":"IF(E822<>\"\",CONCATENATE(B822,A822,DIGITADOR!$M$1,C822),\"\")","v":""},null,null,"","","",null,818,"",{"$f":"IF(R822=R821,\"\",IF(E822<>\"\",CONCATENATE(B822,A822,DIGITADOR!$M$1,C822),\"\"))","v":""},null,{"$f":"IF(N822=\"\",\"\",INDEX(referentes!S:T,MATCH(N822,referentes!T:T,0),1))","v":""},null,{"$f":"IF(P822=\"\",\"\",INDEX(referentes!Y:Z,MATCH(P822,referentes!Z:Z,0),1))","v":""},"","",null,null,null,null,null,{"$f":"IF(X822=\"\",\"\",INDEX(referentes!J:K,MATCH(X822,referentes!J:J,0),2))","v":""},null,null,""]
["30000401000000",null,0,{"$f":"IF(E823<>\"\",CONCATENATE(B823,A823,DIGITADOR!$M$1,C823),\"\")","v":""},null,null,"","","",null,819,"",{"$f":"IF(R823=R822,\"\",IF(E823<>\"\",CONCATENATE(B823,A823,DIGITADOR!$M$1,C823),\"\"))","v":""},null,{"$f":"IF(N823=\"\",\"\",INDEX(referentes!S:T,MATCH(N823,referentes!T:T,0),1))","v":""},null,{"$f":"IF(P823=\"\",\"\",INDEX(referentes!Y:Z,MATCH(P823,referentes!Z:Z,0),1))","v":""},"","",null,null,null,null,null,{"$f":"IF(X823=\"\",\"\",INDEX(referentes!J:K,MATCH(X823,referentes!J:J,0),2))","v":""},null,null,""]
["30000401000000",null,0,{"$f":"IF(E824<>\"\",CONCATENATE(B824,A824,DIGITADOR!$M$1,C824),\"\")","v":""},null,null,"","","",null,820,"",{"$f":"IF(R824=R823,\"\",IF(E824<>\"\",CONCATENATE(B824,A824,DIGITADOR!$M$1,C824),\"\"))","v":""},null,{"$f":"IF(N824=\"\",\"\",INDEX(referentes!S:T,MATCH(N824,referentes!T:T,0),1))","v":""},null,{"$f":"IF(P824=\"\",\"\",INDEX(referentes!Y:Z,MATCH(P824,referentes!Z:Z,0),1))","v":""},"","",null,null,null,null,null,{"$f":"IF(X824=\"\",\"\",INDEX(referentes!J:K,MATCH(X824,referentes!J:J,0),2))","v":""},null,null,""]
["30000401000000",null,0,{"$f":"IF(E825<>\"\",CONCATENATE(B825,A825,DIGITADOR!$M$1,C825),\"\")","v":""},null,null,"","","",null,821,"",{"$f":"IF(R825=R824,\"\",IF(E825<>\"\",CONCATENATE(B825,A825,DIGITADOR!$M$1,C825),\"\"))","v":""},null,{"$f":"IF(N825=\"\",\"\",INDEX(referentes!S:T,MATCH(N825,referentes!T:T,0),1))","v":""},null,{"$f":"IF(P825=\"\",\"\",INDEX(referentes!Y:Z,MATCH(P825,referentes!Z:Z,0),1))","v":""},"","",null,null,null,null,null,{"$f":"IF(X825=\"\",\"\",INDEX(referentes!J:K,MATCH(X825,referentes!J:J,0),2))","v":""},null,null,""]
["30000401000000",null,0,{"$f":"IF(E826<>\"\",CONCATENATE(B826,A826,DIGITADOR!$M$1,C826),\"\")","v":""},null,null,"","","",null,822,"",{"$f":"IF(R826=R825,\"\",IF(E826<>\"\",CONCATENATE(B826,A826,DIGITADOR!$M$1,C826),\"\"))","v":""},null,{"$f":"IF(N826=\"\",\"\",INDEX(referentes!S:T,MATCH(N826,referentes!T:T,0),1))","v":""},null,{"$f":"IF(P826=\"\",\"\",INDEX(referentes!Y:Z,MATCH(P826,referentes!Z:Z,0),1))","v":""},"","",null,null,null,null,null,{"$f":"IF(X826=\"\",\"\",INDEX(referentes!J:K,MATCH(X826,referentes!J:J,0),2))","v":""},null,null,""]
["30000401000000",null,0,{"$f":"IF(E827<>\"\",CONCATENATE(B827,A827,DIGITADOR!$M$1,C827),\"\")","v":""},null,null,"","","",null,823,"",{"$f":"IF(R827=R826,\"\",IF(E827<>\"\",CONCATENATE(B827,A827,DIGITADOR!$M$1,C827),\"\"))","v":""},null,{"$f":"IF(N827=\"\",\"\",INDEX(referentes!S:T,MATCH(N827,referentes!T:T,0),1))","v":""},null,{"$f":"IF(P827=\"\",\"\",INDEX(referentes!Y:Z,MATCH(P827,referentes!Z:Z,0),1))","v":""},"","",null,null,null,null,null,{"$f":"IF(X827=\"\",\"\",INDEX(referentes!J:K,MATCH(X827,referentes!J:J,0),2))","v":""},null,null,""]
["30000401000000",null,0,{"$f":"IF(E828<>\"\",CONCATENATE(B828,A828,DIGITADOR!$M$1,C828),\"\")","v":""},null,null,"","","",null,824,"",{"$f":"IF(R828=R827,\"\",IF(E828<>\"\",CONCATENATE(B828,A828,DIGITADOR!$M$1,C828),\"\"))","v":""},null,{"$f":"IF(N828=\"\",\"\",INDEX(referentes!S:T,MATCH(N828,referentes!T:T,0),1))","v":""},null,{"$f":"IF(P828=\"\",\"\",INDEX(referentes!Y:Z,MATCH(P828,referentes!Z:Z,0),1))","v":""},"","",null,null,null,null,null,{"$f":"IF(X828=\"\",\"\",INDEX(referentes!J:K,MATCH(X828,referentes!J:J,0),2))","v":""},null,null,""]
["30000401000000",null,0,{"$f":"IF(E829<>\"\",CONCATENATE(B829,A829,DIGITADOR!$M$1,C829),\"\")","v":""},null,null,"","","",null,825,"",{"$f":"IF(R829=R828,\"\",IF(E829<>\"\",CONCATENATE(B829,A829,DIGITADOR!$M$1,C829),\"\"))","v":""},null,{"$f":"IF(N829=\"\",\"\",INDEX(referentes!S:T,MATCH(N829,referentes!T:T,0),1))","v":""},null,{"$f":"IF(P829=\"\",\"\",INDEX(referentes!Y:Z,MATCH(P829,referentes!Z:Z,0),1))","v":""},"","",null,null,null,null,null,{"$f":"IF(X829=\"\",\"\",INDEX(referentes!J:K,MATCH(X829,referentes!J:J,0),2))","v":""},null,null,""]
["30000401000000",null,0,{"$f":"IF(E830<>\"\",CONCATENATE(B830,A830,DIGITADOR!$M$1,C830),\"\")","v":""},null,null,"","","",null,826,"",{"$f":"IF(R830=R829,\"\",IF(E830<>\"\",CONCATENATE(B830,A830,DIGITADOR!$M$1,C830),\"\"))","v":""},null,{"$f":"IF(N830=\"\",\"\",INDEX(referentes!S:T,MATCH(N830,referentes!T:T,0),1))","v":""},null,{"$f":"IF(P830=\"\",\"\",INDEX(referentes!Y:Z,MATCH(P830,referentes!Z:Z,0),1))","v":""},"","",null,null,null,null,null,{"$f":"IF(X830=\"\",\"\",INDEX(referentes!J:K,MATCH(X830,referentes!J:J,0),2))","v":""},null,null,""]
["30000401000000",null,0,{"$f":"IF(E831<>\"\",CONCATENATE(B831,A831,DIGITADOR!$M$1,C831),\"\")","v":""},null,null,"","","",null,827,"",{"$f":"IF(R831=R830,\"\",IF(E831<>\"\",CONCATENATE(B831,A831,DIGITADOR!$M$1,C831),\"\"))","v":""},null,{"$f":"IF(N831=\"\",\"\",INDEX(referentes!S:T,MATCH(N831,referentes!T:T,0),1))","v":""},null,{"$f":"IF(P831=\"\",\"\",INDEX(referentes!Y:Z,MATCH(P831,referentes!Z:Z,0),1))","v":""},"","",null,null,null,null,null,{"$f":"IF(X831=\"\",\"\",INDEX(referentes!J:K,MATCH(X831,referentes!J:J,0),2))","v":""},null,null,""]
["30000401000000",null,0,{"$f":"IF(E832<>\"\",CONCATENATE(B832,A832,DIGITADOR!$M$1,C832),\"\")","v":""},null,null,"","","",null,828,"",{"$f":"IF(R832=R831,\"\",IF(E832<>\"\",CONCATENATE(B832,A832,DIGITADOR!$M$1,C832),\"\"))","v":""},null,{"$f":"IF(N832=\"\",\"\",INDEX(referentes!S:T,MATCH(N832,referentes!T:T,0),1))","v":""},null,{"$f":"IF(P832=\"\",\"\",INDEX(referentes!Y:Z,MATCH(P832,referentes!Z:Z,0),1))","v":""},"","",null,null,null,null,null,{"$f":"IF(X832=\"\",\"\",INDEX(referentes!J:K,MATCH(X832,referentes!J:J,0),2))","v":""},null,null,""]
["30000401000000",null,0,{"$f":"IF(E833<>\"\",CONCATENATE(B833,A833,DIGITADOR!$M$1,C833),\"\")","v":""},null,null,"","","",null,829,"",{"$f":"IF(R833=R832,\"\",IF(E833<>\"\",CONCATENATE(B833,A833,DIGITADOR!$M$1,C833),\"\"))","v":""},null,{"$f":"IF(N833=\"\",\"\",INDEX(referentes!S:T,MATCH(N833,referentes!T:T,0),1))","v":""},null,{"$f":"IF(P833=\"\",\"\",INDEX(referentes!Y:Z,MATCH(P833,referentes!Z:Z,0),1))","v":""},"","",null,null,null,null,null,{"$f":"IF(X833=\"\",\"\",INDEX(referentes!J:K,MATCH(X833,referentes!J:J,0),2))","v":""},null,null,""]
["30000401000000",null,0,{"$f":"IF(E834<>\"\",CONCATENATE(B834,A834,DIGITADOR!$M$1,C834),\"\")","v":""},null,null,"","","",null,830,"",{"$f":"IF(R834=R833,\"\",IF(E834<>\"\",CONCATENATE(B834,A834,DIGITADOR!$M$1,C834),\"\"))","v":""},null,{"$f":"IF(N834=\"\",\"\",INDEX(referentes!S:T,MATCH(N834,referentes!T:T,0),1))","v":""},null,{"$f":"IF(P834=\"\",\"\",INDEX(referentes!Y:Z,MATCH(P834,referentes!Z:Z,0),1))","v":""},"","",null,null,null,null,null,{"$f":"IF(X834=\"\",\"\",INDEX(referentes!J:K,MATCH(X834,referentes!J:J,0),2))","v":""},null,null,""]
["30000401000000",null,0,{"$f":"IF(E835<>\"\",CONCATENATE(B835,A835,DIGITADOR!$M$1,C835),\"\")","v":""},null,null,"","","",null,831,"",{"$f":"IF(R835=R834,\"\",IF(E835<>\"\",CONCATENATE(B835,A835,DIGITADOR!$M$1,C835),\"\"))","v":""},null,{"$f":"IF(N835=\"\",\"\",INDEX(referentes!S:T,MATCH(N835,referentes!T:T,0),1))","v":""},null,{"$f":"IF(P835=\"\",\"\",INDEX(referentes!Y:Z,MATCH(P835,referentes!Z:Z,0),1))","v":""},"","",null,null,null,null,null,{"$f":"IF(X835=\"\",\"\",INDEX(referentes!J:K,MATCH(X835,referentes!J:J,0),2))","v":""},null,null,""]
["30000401000000",null,0,{"$f":"IF(E836<>\"\",CONCATENATE(B836,A836,DIGITADOR!$M$1,C836),\"\")","v":""},null,null,"","","",null,832,"",{"$f":"IF(R836=R835,\"\",IF(E836<>\"\",CONCATENATE(B836,A836,DIGITADOR!$M$1,C836),\"\"))","v":""},null,{"$f":"IF(N836=\"\",\"\",INDEX(referentes!S:T,MATCH(N836,referentes!T:T,0),1))","v":""},null,{"$f":"IF(P836=\"\",\"\",INDEX(referentes!Y:Z,MATCH(P836,referentes!Z:Z,0),1))","v":""},"","",null,null,null,null,null,{"$f":"IF(X836=\"\",\"\",INDEX(referentes!J:K,MATCH(X836,referentes!J:J,0),2))","v":""},null,null,""]
["30000401000000",null,{"$f":"IF(R837=R836,C836,C836+1)","v":0},{"$f":"IF(E837<>\"\",CONCATENATE(B837,A837,DIGITADOR!$M$1,C837),\"\")","v":""},null,null,"","","",null,833,"",{"$f":"IF(R837=R836,\"\",IF(E837<>\"\",CONCATENATE(B837,A837,DIGITADOR!$M$1,C837),\"\"))","v":""},null,{"$f":"IF(N837=\"\",\"\",INDEX(referentes!S:T,MATCH(N837,referentes!T:T,0),1))","v":""},null,{"$f":"IF(P837=\"\",\"\",INDEX(referentes!Y:Z,MATCH(P837,referentes!Z:Z,0),1))","v":""},"","",null,null,null,null,null,{"$f":"IF(X837=\"\",\"\",INDEX(referentes!J:K,MATCH(X837,referentes!J:J,0),2))","v":""},null,null,""]
["30000401000000",null,0,{"$f":"IF(E838<>\"\",CONCATENATE(B838,A838,DIGITADOR!$M$1,C838),\"\")","v":""},null,null,{"$f":"IF(E838=\"\", \"\", (E838+F838))","v":""},{"$f":"IF(G838<>\"\",MONTH(G838),\"\")","v":""},{"$f":"IF(D838=\"\",\"\",1)","v":""},null,834,{"$f":"IF(E838=\"\",\"\",CONCATENATE(D838,K838))","v":""},{"$f":"IF(R838=R837,\"\",IF(E838<>\"\",CONCATENATE(B838,A838,DIGITADOR!$M$1,C838),\"\"))","v":""},null,{"$f":"IF(N838=\"\",\"\",INDEX(referentes!S:T,MATCH(N838,referentes!T:T,0),1))","v":""},null,{"$f":"IF(P838=\"\",\"\",INDEX(referentes!Y:Z,MATCH(P838,referentes!Z:Z,0),1))","v":""},{"$f":"IF(G838=\"\",\"\",CONCATENATE(G838,O838,Q838))","v":""},{"$f":"IF(E838=\"\",\"\",\"INVEMAR\")","v":""},null,null,null,null,null,{"$f":"IF(X838=\"\",\"\",INDEX(referentes!J:K,MATCH(X838,referentes!J:J,0),2))","v":""},null,null,{"$f":"IF(T838=\"\",\"\",IF(T838=T837,AB837,AA838))","v":""}]
[{"$f":"A838","v":"30000401000000"},null,0,{"$f":"IF(E839<>\"\",CONCATENATE(B839,A839,DIGITADOR!$M$1,C839),\"\")","v":""},null,null,"","","",null,835,"",{"$f":"IF(R839=R838,\"\",IF(E839<>\"\",CONCATENATE(B839,A839,DIGITADOR!$M$1,C839),\"\"))","v":""},null,{"$f":"IF(N839=\"\",\"\",INDEX(referentes!S:T,MATCH(N839,referentes!T:T,0),1))","v":""},null,{"$f":"IF(P839=\"\",\"\",INDEX(referentes!Y:Z,MATCH(P839,referentes!Z:Z,0),1))","v":""},"","",null,null,null,null,null,{"$f":"IF(X839=\"\",\"\",INDEX(referentes!J:K,MATCH(X839,referentes!J:J,0),2))","v":""},null,null,""]
["30000401000000",null,0,{"$f":"IF(E840<>\"\",CONCATENATE(B840,A840,DIGITADOR!$M$1,C840),\"\")","v":""},null,null,"","","",null,836,"",{"$f":"IF(R840=R839,\"\",IF(E840<>\"\",CONCATENATE(B840,A840,DIGITADOR!$M$1,C840),\"\"))","v":""},null,{"$f":"IF(N840=\"\",\"\",INDEX(referentes!S:T,MATCH(N840,referentes!T:T,0),1))","v":""},null,{"$f":"IF(P840=\"\",\"\",INDEX(referentes!Y:Z,MATCH(P840,referentes!Z:Z,0),1))","v":""},"","",null,null,null,null,null,{"$f":"IF(X840=\"\",\"\",INDEX(referentes!J:K,MATCH(X840,referentes!J:J,0),2))","v":""},null,null,""]
["30000401000000",null,0,{"$f":"IF(E841<>\"\",CONCATENATE(B841,A841,DIGITADOR!$M$1,C841),\"\")","v":""},null,null,"","","",null,837,"",{"$f":"IF(R841=R840,\"\",IF(E841<>\"\",CONCATENATE(B841,A841,DIGITADOR!$M$1,C841),\"\"))","v":""},null,{"$f":"IF(N841=\"\",\"\",INDEX(referentes!S:T,MATCH(N841,referentes!T:T,0),1))","v":""},null,{"$f":"IF(P841=\"\",\"\",INDEX(referentes!Y:Z,MATCH(P841,referentes!Z:Z,0),1))","v":""},"","",null,null,null,null,null,{"$f":"IF(X841=\"\",\"\",INDEX(referentes!J:K,MATCH(X841,referentes!J:J,0),2))","v":""},null,null,""]
["30000401000000",null,0,{"$f":"IF(E842<>\"\",CONCATENATE(B842,A842,DIGITADOR!$M$1,C842),\"\")","v":""},null,null,"","","",null,838,"",{"$f":"IF(R842=R841,\"\",IF(E842<>\"\",CONCATENATE(B842,A842,DIGITADOR!$M$1,C842),\"\"))","v":""},null,{"$f":"IF(N842=\"\",\"\",INDEX(referentes!S:T,MATCH(N842,referentes!T:T,0),1))","v":""},null,{"$f":"IF(P842=\"\",\"\",INDEX(referentes!Y:Z,MATCH(P842,referentes!Z:Z,0),1))","v":""},"","",null,null,null,null,null,{"$f":"IF(X842=\"\",\"\",INDEX(referentes!J:K,MATCH(X842,referentes!J:J,0),2))","v":""},null,null,""]
["30000401000000",null,0,{"$f":"IF(E843<>\"\",CONCATENATE(B843,A843,DIGITADOR!$M$1,C843),\"\")","v":""},null,null,"","","",null,839,"",{"$f":"IF(R843=R842,\"\",IF(E843<>\"\",CONCATENATE(B843,A843,DIGITADOR!$M$1,C843),\"\"))","v":""},null,{"$f":"IF(N843=\"\",\"\",INDEX(referentes!S:T,MATCH(N843,referentes!T:T,0),1))","v":""},null,{"$f":"IF(P843=\"\",\"\",INDEX(referentes!Y:Z,MATCH(P843,referentes!Z:Z,0),1))","v":""},"","",null,null,null,null,null,{"$f":"IF(X843=\"\",\"\",INDEX(referentes!J:K,MATCH(X843,referentes!J:J,0),2))","v":""},null,null,""]
["30000401000000",null,0,{"$f":"IF(E844<>\"\",CONCATENATE(B844,A844,DIGITADOR!$M$1,C844),\"\")","v":""},null,null,"","","",null,840,"",{"$f":"IF(R844=R843,\"\",IF(E844<>\"\",CONCATENATE(B844,A844,DIGITADOR!$M$1,C844),\"\"))","v":""},null,{"$f":"IF(N844=\"\",\"\",INDEX(referentes!S:T,MATCH(N844,referentes!T:T,0),1))","v":""},null,{"$f":"IF(P844=\"\",\"\",INDEX(referentes!Y:Z,MATCH(P844,referentes!Z:Z,0),1))","v":""},"","",null,null,null,null,null,{"$f":"IF(X844=\"\",\"\",INDEX(referentes!J:K,MATCH(X844,referentes!J:J,0),2))","v":""},null,null,""]
["30000401000000",null,0,{"$f":"IF(E845<>\"\",CONCATENATE(B845,A845,DIGITADOR!$M$1,C845),\"\")","v":""},null,null,"","","",null,841,"",{"$f":"IF(R845=R844,\"\",IF(E845<>\"\",CONCATENATE(B845,A845,DIGITADOR!$M$1,C845),\"\"))","v":""},null,{"$f":"IF(N845=\"\",\"\",INDEX(referentes!S:T,MATCH(N845,referentes!T:T,0),1))","v":""},null,{"$f":"IF(P845=\"\",\"\",INDEX(referentes!Y:Z,MATCH(P845,referentes!Z:Z,0),1))","v":""},"","",null,null,null,null,null,{"$f":"IF(X845=\"\",\"\",INDEX(referentes!J:K,MATCH(X845,referentes!J:J,0),2))","v":""},null,null,""]
["30000401000000",null,0,{"$f":"IF(E846<>\"\",CONCATENATE(B846,A846,DIGITADOR!$M$1,C846),\"\")","v":""},null,null,"","","",null,842,"",{"$f":"IF(R846=R845,\"\",IF(E846<>\"\",CONCATENATE(B846,A846,DIGITADOR!$M$1,C846),\"\"))","v":""},null,{"$f":"IF(N846=\"\",\"\",INDEX(referentes!S:T,MATCH(N846,referentes!T:T,0),1))","v":""},null,{"$f":"IF(P846=\"\",\"\",INDEX(referentes!Y:Z,MATCH(P846,referentes!Z:Z,0),1))","v":""},"","",null,null,null,null,null,{"$f":"IF(X846=\"\",\"\",INDEX(referentes!J:K,MATCH(X846,referentes!J:J,0),2))","v":""},null,null,""]
["30000401000000",null,0,{"$f":"IF(E847<>\"\",CONCATENATE(B847,A847,DIGITADOR!$M$1,C847),\"\")","v":""},null,null,"","","",null,843,"",{"$f":"IF(R847=R846,\"\",IF(E847<>\"\",CONCATENATE(B847,A847,DIGITADOR!$M$1,C847),\"\"))","v":""},null,{"$f":"IF(N847=\"\",\"\",INDEX(referentes!S:T,MATCH(N847,referentes!T:T,0),1))","v":""},null,{"$f":"IF(P847=\"\",\"\",INDEX(referentes!Y:Z,MATCH(P847,referentes!Z:Z,0),1))","v":""},"","",null,null,null,null,null,{"$f":"IF(X847=\"\",\"\",INDEX(referentes!J:K,MATCH(X847,referentes!J:J,0),2))","v":""},null,null,""]
["30000401000000",null,0,{"$f":"IF(E848<>\"\",CONCATENATE(B848,A848,DIGITADOR!$M$1,C848),\"\")","v":""},null,null,"","","",null,844,"",{"$f":"IF(R848=R847,\"\",IF(E848<>\"\",CONCATENATE(B848,A848,DIGITADOR!$M$1,C848),\"\"))","v":""},null,{"$f":"IF(N848=\"\",\"\",INDEX(referentes!S:T,MATCH(N848,referentes!T:T,0),1))","v":""},null,{"$f":"IF(P848=\"\",\"\",INDEX(referentes!Y:Z,MATCH(P848,referentes!Z:Z,0),1))","v":""},"","",null,null,null,null,null,{"$f":"IF(X848=\"\",\"\",INDEX(referentes!J:K,MATCH(X848,referentes!J:J,0),2))","v":""},null,null,""]
["30000401000000",null,0,{"$f":"IF(E849<>\"\",CONCATENATE(B849,A849,DIGITADOR!$M$1,C849),\"\")","v":""},null,null,"","","",null,845,"",{"$f":"IF(R849=R848,\"\",IF(E849<>\"\",CONCATENATE(B849,A849,DIGITADOR!$M$1,C849),\"\"))","v":""},null,{"$f":"IF(N849=\"\",\"\",INDEX(referentes!S:T,MATCH(N849,referentes!T:T,0),1))","v":""},null,{"$f":"IF(P849=\"\",\"\",INDEX(referentes!Y:Z,MATCH(P849,referentes!Z:Z,0),1))","v":""},"","",null,null,null,null,null,{"$f":"IF(X849=\"\",\"\",INDEX(referentes!J:K,MATCH(X849,referentes!J:J,0),2))","v":""},null,null,""]
["30000401000000",null,0,{"$f":"IF(E850<>\"\",CONCATENATE(B850,A850,DIGITADOR!$M$1,C850),\"\")","v":""},null,null,"","","",null,846,"",{"$f":"IF(R850=R849,\"\",IF(E850<>\"\",CONCATENATE(B850,A850,DIGITADOR!$M$1,C850),\"\"))","v":""},null,{"$f":"IF(N850=\"\",\"\",INDEX(referentes!S:T,MATCH(N850,referentes!T:T,0),1))","v":""},null,{"$f":"IF(P850=\"\",\"\",INDEX(referentes!Y:Z,MATCH(P850,referentes!Z:Z,0),1))","v":""},"","",null,null,null,null,null,{"$f":"IF(X850=\"\",\"\",INDEX(referentes!J:K,MATCH(X850,referentes!J:J,0),2))","v":""},null,null,""]
["30000401000000",null,0,{"$f":"IF(E851<>\"\",CONCATENATE(B851,A851,DIGITADOR!$M$1,C851),\"\")","v":""},null,null,"","","",null,847,"",{"$f":"IF(R851=R850,\"\",IF(E851<>\"\",CONCATENATE(B851,A851,DIGITADOR!$M$1,C851),\"\"))","v":""},null,{"$f":"IF(N851=\"\",\"\",INDEX(referentes!S:T,MATCH(N851,referentes!T:T,0),1))","v":""},null,{"$f":"IF(P851=\"\",\"\",INDEX(referentes!Y:Z,MATCH(P851,referentes!Z:Z,0),1))","v":""},"","",null,null,null,null,null,{"$f":"IF(X851=\"\",\"\",INDEX(referentes!J:K,MATCH(X851,referentes!J:J,0),2))","v":""},null,null,""]
["30000401000000",null,0,{"$f":"IF(E852<>\"\",CONCATENATE(B852,A852,DIGITADOR!$M$1,C852),\"\")","v":""},null,null,"","","",null,848,"",{"$f":"IF(R852=R851,\"\",IF(E852<>\"\",CONCATENATE(B852,A852,DIGITADOR!$M$1,C852),\"\"))","v":""},null,{"$f":"IF(N852=\"\",\"\",INDEX(referentes!S:T,MATCH(N852,referentes!T:T,0),1))","v":""},null,{"$f":"IF(P852=\"\",\"\",INDEX(referentes!Y:Z,MATCH(P852,referentes!Z:Z,0),1))","v":""},"","",null,null,null,null,null,{"$f":"IF(X852=\"\",\"\",INDEX(referentes!J:K,MATCH(X852,referentes!J:J,0),2))","v":""},null,null,""]
["30000401000000",null,0,{"$f":"IF(E853<>\"\",CONCATENATE(B853,A853,DIGITADOR!$M$1,C853),\"\")","v":""},null,null,"","","",null,849,"",{"$f":"IF(R853=R852,\"\",IF(E853<>\"\",CONCATENATE(B853,A853,DIGITADOR!$M$1,C853),\"\"))","v":""},null,{"$f":"IF(N853=\"\",\"\",INDEX(referentes!S:T,MATCH(N853,referentes!T:T,0),1))","v":""},null,{"$f":"IF(P853=\"\",\"\",INDEX(referentes!Y:Z,MATCH(P853,referentes!Z:Z,0),1))","v":""},"","",null,null,null,null,null,{"$f":"IF(X853=\"\",\"\",INDEX(referentes!J:K,MATCH(X853,referentes!J:J,0),2))","v":""},null,null,""]
["30000401000000",null,0,{"$f":"IF(E854<>\"\",CONCATENATE(B854,A854,DIGITADOR!$M$1,C854),\"\")","v":""},null,null,"","","",null,850,"",{"$f":"IF(R854=R853,\"\",IF(E854<>\"\",CONCATENATE(B854,A854,DIGITADOR!$M$1,C854),\"\"))","v":""},null,{"$f":"IF(N854=\"\",\"\",INDEX(referentes!S:T,MATCH(N854,referentes!T:T,0),1))","v":""},null,{"$f":"IF(P854=\"\",\"\",INDEX(referentes!Y:Z,MATCH(P854,referentes!Z:Z,0),1))","v":""},"","",null,null,null,null,null,{"$f":"IF(X854=\"\",\"\",INDEX(referentes!J:K,MATCH(X854,referentes!J:J,0),2))","v":""},null,null,""]
["30000401000000",null,0,{"$f":"IF(E855<>\"\",CONCATENATE(B855,A855,DIGITADOR!$M$1,C855),\"\")","v":""},null,null,"","","",null,851,"",{"$f":"IF(R855=R854,\"\",IF(E855<>\"\",CONCATENATE(B855,A855,DIGITADOR!$M$1,C855),\"\"))","v":""},null,{"$f":"IF(N855=\"\",\"\",INDEX(referentes!S:T,MATCH(N855,referentes!T:T,0),1))","v":""},null,{"$f":"IF(P855=\"\",\"\",INDEX(referentes!Y:Z,MATCH(P855,referentes!Z:Z,0),1))","v":""},"","",null,null,null,null,null,{"$f":"IF(X855=\"\",\"\",INDEX(referentes!J:K,MATCH(X855,referentes!J:J,0),2))","v":""},null,null,""]
["30000401000000",null,0,{"$f":"IF(E856<>\"\",CONCATENATE(B856,A856,DIGITADOR!$M$1,C856),\"\")","v":""},null,null,"","","",null,852,"",{"$f":"IF(R856=R855,\"\",IF(E856<>\"\",CONCATENATE(B856,A856,DIGITADOR!$M$1,C856),\"\"))","v":""},null,{"$f":"IF(N856=\"\",\"\",INDEX(referentes!S:T,MATCH(N856,referentes!T:T,0),1))","v":""},null,{"$f":"IF(P856=\"\",\"\",INDEX(referentes!Y:Z,MATCH(P856,referentes!Z:Z,0),1))","v":""},"","",null,null,null,null,null,{"$f":"IF(X856=\"\",\"\",INDEX(referentes!J:K,MATCH(X856,referentes!J:J,0),2))","v":""},null,null,""]
["30000401000000",null,0,{"$f":"IF(E857<>\"\",CONCATENATE(B857,A857,DIGITADOR!$M$1,C857),\"\")","v":""},null,null,"","","",null,853,"",{"$f":"IF(R857=R856,\"\",IF(E857<>\"\",CONCATENATE(B857,A857,DIGITADOR!$M$1,C857),\"\"))","v":""},null,{"$f":"IF(N857=\"\",\"\",INDEX(referentes!S:T,MATCH(N857,referentes!T:T,0),1))","v":""},null,{"$f":"IF(P857=\"\",\"\",INDEX(referentes!Y:Z,MATCH(P857,referentes!Z:Z,0),1))","v":""},"","",null,null,null,null,null,{"$f":"IF(X857=\"\",\"\",INDEX(referentes!J:K,MATCH(X857,referentes!J:J,0),2))","v":""},null,null,""]
["30000401000000",null,0,{"$f":"IF(E858<>\"\",CONCATENATE(B858,A858,DIGITADOR!$M$1,C858),\"\")","v":""},null,null,"","","",null,854,"",{"$f":"IF(R858=R857,\"\",IF(E858<>\"\",CONCATENATE(B858,A858,DIGITADOR!$M$1,C858),\"\"))","v":""},null,{"$f":"IF(N858=\"\",\"\",INDEX(referentes!S:T,MATCH(N858,referentes!T:T,0),1))","v":""},null,{"$f":"IF(P858=\"\",\"\",INDEX(referentes!Y:Z,MATCH(P858,referentes!Z:Z,0),1))","v":""},"","",null,null,null,null,null,{"$f":"IF(X858=\"\",\"\",INDEX(referentes!J:K,MATCH(X858,referentes!J:J,0),2))","v":""},null,null,""]
["30000401000000",null,0,{"$f":"IF(E859<>\"\",CONCATENATE(B859,A859,DIGITADOR!$M$1,C859),\"\")","v":""},null,null,"","","",null,855,"",{"$f":"IF(R859=R858,\"\",IF(E859<>\"\",CONCATENATE(B859,A859,DIGITADOR!$M$1,C859),\"\"))","v":""},null,{"$f":"IF(N859=\"\",\"\",INDEX(referentes!S:T,MATCH(N859,referentes!T:T,0),1))","v":""},null,{"$f":"IF(P859=\"\",\"\",INDEX(referentes!Y:Z,MATCH(P859,referentes!Z:Z,0),1))","v":""},"","",null,null,null,null,null,{"$f":"IF(X859=\"\",\"\",INDEX(referentes!J:K,MATCH(X859,referentes!J:J,0),2))","v":""},null,null,""]
["30000401000000",null,0,{"$f":"IF(E860<>\"\",CONCATENATE(B860,A860,DIGITADOR!$M$1,C860),\"\")","v":""},null,null,"","","",null,856,"",{"$f":"IF(R860=R859,\"\",IF(E860<>\"\",CONCATENATE(B860,A860,DIGITADOR!$M$1,C860),\"\"))","v":""},null,{"$f":"IF(N860=\"\",\"\",INDEX(referentes!S:T,MATCH(N860,referentes!T:T,0),1))","v":""},null,{"$f":"IF(P860=\"\",\"\",INDEX(referentes!Y:Z,MATCH(P860,referentes!Z:Z,0),1))","v":""},"","",null,null,null,null,null,{"$f":"IF(X860=\"\",\"\",INDEX(referentes!J:K,MATCH(X860,referentes!J:J,0),2))","v":""},null,null,""]
["30000401000000",null,0,{"$f":"IF(E861<>\"\",CONCATENATE(B861,A861,DIGITADOR!$M$1,C861),\"\")","v":""},null,null,"","","",null,857,"",{"$f":"IF(R861=R860,\"\",IF(E861<>\"\",CONCATENATE(B861,A861,DIGITADOR!$M$1,C861),\"\"))","v":""},null,{"$f":"IF(N861=\"\",\"\",INDEX(referentes!S:T,MATCH(N861,referentes!T:T,0),1))","v":""},null,{"$f":"IF(P861=\"\",\"\",INDEX(referentes!Y:Z,MATCH(P861,referentes!Z:Z,0),1))","v":""},"","",null,null,null,null,null,{"$f":"IF(X861=\"\",\"\",INDEX(referentes!J:K,MATCH(X861,referentes!J:J,0),2))","v":""},null,null,""]
["30000401000000",null,0,{"$f":"IF(E862<>\"\",CONCATENATE(B862,A862,DIGITADOR!$M$1,C862),\"\")","v":""},null,null,"","","",null,858,"",{"$f":"IF(R862=R861,\"\",IF(E862<>\"\",CONCATENATE(B862,A862,DIGITADOR!$M$1,C862),\"\"))","v":""},null,{"$f":"IF(N862=\"\",\"\",INDEX(referentes!S:T,MATCH(N862,referentes!T:T,0),1))","v":""},null,{"$f":"IF(P862=\"\",\"\",INDEX(referentes!Y:Z,MATCH(P862,referentes!Z:Z,0),1))","v":""},"","",null,null,null,null,null,{"$f":"IF(X862=\"\",\"\",INDEX(referentes!J:K,MATCH(X862,referentes!J:J,0),2))","v":""},null,null,""]
["30000401000000",null,0,{"$f":"IF(E863<>\"\",CONCATENATE(B863,A863,DIGITADOR!$M$1,C863),\"\")","v":""},null,null,"","","",null,859,"",{"$f":"IF(R863=R862,\"\",IF(E863<>\"\",CONCATENATE(B863,A863,DIGITADOR!$M$1,C863),\"\"))","v":""},null,{"$f":"IF(N863=\"\",\"\",INDEX(referentes!S:T,MATCH(N863,referentes!T:T,0),1))","v":""},null,{"$f":"IF(P863=\"\",\"\",INDEX(referentes!Y:Z,MATCH(P863,referentes!Z:Z,0),1))","v":""},"","",null,null,null,null,null,{"$f":"IF(X863=\"\",\"\",INDEX(referentes!J:K,MATCH(X863,referentes!J:J,0),2))","v":""},null,null,""]
["30000401000000",null,0,{"$f":"IF(E864<>\"\",CONCATENATE(B864,A864,DIGITADOR!$M$1,C864),\"\")","v":""},null,null,"","","",null,860,"",{"$f":"IF(R864=R863,\"\",IF(E864<>\"\",CONCATENATE(B864,A864,DIGITADOR!$M$1,C864),\"\"))","v":""},null,{"$f":"IF(N864=\"\",\"\",INDEX(referentes!S:T,MATCH(N864,referentes!T:T,0),1))","v":""},null,{"$f":"IF(P864=\"\",\"\",INDEX(referentes!Y:Z,MATCH(P864,referentes!Z:Z,0),1))","v":""},"","",null,null,null,null,null,{"$f":"IF(X864=\"\",\"\",INDEX(referentes!J:K,MATCH(X864,referentes!J:J,0),2))","v":""},null,null,""]
["30000401000000",null,0,{"$f":"IF(E865<>\"\",CONCATENATE(B865,A865,DIGITADOR!$M$1,C865),\"\")","v":""},null,null,"","","",null,861,"",{"$f":"IF(R865=R864,\"\",IF(E865<>\"\",CONCATENATE(B865,A865,DIGITADOR!$M$1,C865),\"\"))","v":""},null,{"$f":"IF(N865=\"\",\"\",INDEX(referentes!S:T,MATCH(N865,referentes!T:T,0),1))","v":""},null,{"$f":"IF(P865=\"\",\"\",INDEX(referentes!Y:Z,MATCH(P865,referentes!Z:Z,0),1))","v":""},"","",null,null,null,null,null,{"$f":"IF(X865=\"\",\"\",INDEX(referentes!J:K,MATCH(X865,referentes!J:J,0),2))","v":""},null,null,""]
["30000401000000",null,0,{"$f":"IF(E866<>\"\",CONCATENATE(B866,A866,DIGITADOR!$M$1,C866),\"\")","v":""},null,null,"","","",null,862,"",{"$f":"IF(R866=R865,\"\",IF(E866<>\"\",CONCATENATE(B866,A866,DIGITADOR!$M$1,C866),\"\"))","v":""},null,{"$f":"IF(N866=\"\",\"\",INDEX(referentes!S:T,MATCH(N866,referentes!T:T,0),1))","v":""},null,{"$f":"IF(P866=\"\",\"\",INDEX(referentes!Y:Z,MATCH(P866,referentes!Z:Z,0),1))","v":""},"","",null,null,null,null,null,{"$f":"IF(X866=\"\",\"\",INDEX(referentes!J:K,MATCH(X866,referentes!J:J,0),2))","v":""},null,null,""]
["30000401000000",null,0,{"$f":"IF(E867<>\"\",CONCATENATE(B867,A867,DIGITADOR!$M$1,C867),\"\")","v":""},null,null,"","","",null,863,"",{"$f":"IF(R867=R866,\"\",IF(E867<>\"\",CONCATENATE(B867,A867,DIGITADOR!$M$1,C867),\"\"))","v":""},null,{"$f":"IF(N867=\"\",\"\",INDEX(referentes!S:T,MATCH(N867,referentes!T:T,0),1))","v":""},null,{"$f":"IF(P867=\"\",\"\",INDEX(referentes!Y:Z,MATCH(P867,referentes!Z:Z,0),1))","v":""},"","",null,null,null,null,null,{"$f":"IF(X867=\"\",\"\",INDEX(referentes!J:K,MATCH(X867,referentes!J:J,0),2))","v":""},null,null,""]
["30000401000000",null,0,{"$f":"IF(E868<>\"\",CONCATENATE(B868,A868,DIGITADOR!$M$1,C868),\"\")","v":""},null,null,"","","",null,864,"",{"$f":"IF(R868=R867,\"\",IF(E868<>\"\",CONCATENATE(B868,A868,DIGITADOR!$M$1,C868),\"\"))","v":""},null,{"$f":"IF(N868=\"\",\"\",INDEX(referentes!S:T,MATCH(N868,referentes!T:T,0),1))","v":""},null,{"$f":"IF(P868=\"\",\"\",INDEX(referentes!Y:Z,MATCH(P868,referentes!Z:Z,0),1))","v":""},"","",null,null,null,null,null,{"$f":"IF(X868=\"\",\"\",INDEX(referentes!J:K,MATCH(X868,referentes!J:J,0),2))","v":""},null,null,""]
["30000401000000",null,0,{"$f":"IF(E869<>\"\",CONCATENATE(B869,A869,DIGITADOR!$M$1,C869),\"\")","v":""},null,null,"","","",null,865,"",{"$f":"IF(R869=R868,\"\",IF(E869<>\"\",CONCATENATE(B869,A869,DIGITADOR!$M$1,C869),\"\"))","v":""},null,{"$f":"IF(N869=\"\",\"\",INDEX(referentes!S:T,MATCH(N869,referentes!T:T,0),1))","v":""},null,{"$f":"IF(P869=\"\",\"\",INDEX(referentes!Y:Z,MATCH(P869,referentes!Z:Z,0),1))","v":""},"","",null,null,null,null,null,{"$f":"IF(X869=\"\",\"\",INDEX(referentes!J:K,MATCH(X869,referentes!J:J,0),2))","v":""},null,null,""]
["30000401000000",null,0,{"$f":"IF(E870<>\"\",CONCATENATE(B870,A870,DIGITADOR!$M$1,C870),\"\")","v":""},null,null,"","","",null,866,"",{"$f":"IF(R870=R869,\"\",IF(E870<>\"\",CONCATENATE(B870,A870,DIGITADOR!$M$1,C870),\"\"))","v":""},null,{"$f":"IF(N870=\"\",\"\",INDEX(referentes!S:T,MATCH(N870,referentes!T:T,0),1))","v":""},null,{"$f":"IF(P870=\"\",\"\",INDEX(referentes!Y:Z,MATCH(P870,referentes!Z:Z,0),1))","v":""},"","",null,null,null,null,null,{"$f":"IF(X870=\"\",\"\",INDEX(referentes!J:K,MATCH(X870,referentes!J:J,0),2))","v":""},null,null,""]
["30000401000000",null,0,{"$f":"IF(E871<>\"\",CONCATENATE(B871,A871,DIGITADOR!$M$1,C871),\"\")","v":""},null,null,"","","",null,867,"",{"$f":"IF(R871=R870,\"\",IF(E871<>\"\",CONCATENATE(B871,A871,DIGITADOR!$M$1,C871),\"\"))","v":""},null,{"$f":"IF(N871=\"\",\"\",INDEX(referentes!S:T,MATCH(N871,referentes!T:T,0),1))","v":""},null,{"$f":"IF(P871=\"\",\"\",INDEX(referentes!Y:Z,MATCH(P871,referentes!Z:Z,0),1))","v":""},"","",null,null,null,null,null,{"$f":"IF(X871=\"\",\"\",INDEX(referentes!J:K,MATCH(X871,referentes!J:J,0),2))","v":""},null,null,""]
["30000401000000",null,0,{"$f":"IF(E872<>\"\",CONCATENATE(B872,A872,DIGITADOR!$M$1,C872),\"\")","v":""},null,null,"","","",null,868,"",{"$f":"IF(R872=R871,\"\",IF(E872<>\"\",CONCATENATE(B872,A872,DIGITADOR!$M$1,C872),\"\"))","v":""},null,{"$f":"IF(N872=\"\",\"\",INDEX(referentes!S:T,MATCH(N872,referentes!T:T,0),1))","v":""},null,{"$f":"IF(P872=\"\",\"\",INDEX(referentes!Y:Z,MATCH(P872,referentes!Z:Z,0),1))","v":""},"","",null,null,null,null,null,{"$f":"IF(X872=\"\",\"\",INDEX(referentes!J:K,MATCH(X872,referentes!J:J,0),2))","v":""},null,null,""]
["30000401000000",null,0,{"$f":"IF(E873<>\"\",CONCATENATE(B873,A873,DIGITADOR!$M$1,C873),\"\")","v":""},null,null,"","","",null,869,"",{"$f":"IF(R873=R872,\"\",IF(E873<>\"\",CONCATENATE(B873,A873,DIGITADOR!$M$1,C873),\"\"))","v":""},null,{"$f":"IF(N873=\"\",\"\",INDEX(referentes!S:T,MATCH(N873,referentes!T:T,0),1))","v":""},null,{"$f":"IF(P873=\"\",\"\",INDEX(referentes!Y:Z,MATCH(P873,referentes!Z:Z,0),1))","v":""},"","",null,null,null,null,null,{"$f":"IF(X873=\"\",\"\",INDEX(referentes!J:K,MATCH(X873,referentes!J:J,0),2))","v":""},null,null,""]
["30000401000000",null,0,{"$f":"IF(E874<>\"\",CONCATENATE(B874,A874,DIGITADOR!$M$1,C874),\"\")","v":""},null,null,"","","",null,870,"",{"$f":"IF(R874=R873,\"\",IF(E874<>\"\",CONCATENATE(B874,A874,DIGITADOR!$M$1,C874),\"\"))","v":""},null,{"$f":"IF(N874=\"\",\"\",INDEX(referentes!S:T,MATCH(N874,referentes!T:T,0),1))","v":""},null,{"$f":"IF(P874=\"\",\"\",INDEX(referentes!Y:Z,MATCH(P874,referentes!Z:Z,0),1))","v":""},"","",null,null,null,null,null,{"$f":"IF(X874=\"\",\"\",INDEX(referentes!J:K,MATCH(X874,referentes!J:J,0),2))","v":""},null,null,""]
["30000401000000",null,0,{"$f":"IF(E875<>\"\",CONCATENATE(B875,A875,DIGITADOR!$M$1,C875),\"\")","v":""},null,null,"","","",null,871,"",{"$f":"IF(R875=R874,\"\",IF(E875<>\"\",CONCATENATE(B875,A875,DIGITADOR!$M$1,C875),\"\"))","v":""},null,{"$f":"IF(N875=\"\",\"\",INDEX(referentes!S:T,MATCH(N875,referentes!T:T,0),1))","v":""},null,{"$f":"IF(P875=\"\",\"\",INDEX(referentes!Y:Z,MATCH(P875,referentes!Z:Z,0),1))","v":""},"","",null,null,null,null,null,{"$f":"IF(X875=\"\",\"\",INDEX(referentes!J:K,MATCH(X875,referentes!J:J,0),2))","v":""},null,null,""]
["30000401000000",null,0,{"$f":"IF(E876<>\"\",CONCATENATE(B876,A876,DIGITADOR!$M$1,C876),\"\")","v":""},null,null,"","","",null,872,"",{"$f":"IF(R876=R875,\"\",IF(E876<>\"\",CONCATENATE(B876,A876,DIGITADOR!$M$1,C876),\"\"))","v":""},null,{"$f":"IF(N876=\"\",\"\",INDEX(referentes!S:T,MATCH(N876,referentes!T:T,0),1))","v":""},null,{"$f":"IF(P876=\"\",\"\",INDEX(referentes!Y:Z,MATCH(P876,referentes!Z:Z,0),1))","v":""},"","",null,null,null,null,null,{"$f":"IF(X876=\"\",\"\",INDEX(referentes!J:K,MATCH(X876,referentes!J:J,0),2))","v":""},null,null,""]
["30000401000000",null,0,{"$f":"IF(E877<>\"\",CONCATENATE(B877,A877,DIGITADOR!$M$1,C877),\"\")","v":""},null,null,"","","",null,873,"",{"$f":"IF(R877=R876,\"\",IF(E877<>\"\",CONCATENATE(B877,A877,DIGITADOR!$M$1,C877),\"\"))","v":""},null,{"$f":"IF(N877=\"\",\"\",INDEX(referentes!S:T,MATCH(N877,referentes!T:T,0),1))","v":""},null,{"$f":"IF(P877=\"\",\"\",INDEX(referentes!Y:Z,MATCH(P877,referentes!Z:Z,0),1))","v":""},"","",null,null,null,null,null,{"$f":"IF(X877=\"\",\"\",INDEX(referentes!J:K,MATCH(X877,referentes!J:J,0),2))","v":""},null,null,""]
["30000401000000",null,0,{"$f":"IF(E878<>\"\",CONCATENATE(B878,A878,DIGITADOR!$M$1,C878),\"\")","v":""},null,null,"","","",null,874,"",{"$f":"IF(R878=R877,\"\",IF(E878<>\"\",CONCATENATE(B878,A878,DIGITADOR!$M$1,C878),\"\"))","v":""},null,{"$f":"IF(N878=\"\",\"\",INDEX(referentes!S:T,MATCH(N878,referentes!T:T,0),1))","v":""},null,{"$f":"IF(P878=\"\",\"\",INDEX(referentes!Y:Z,MATCH(P878,referentes!Z:Z,0),1))","v":""},"","",null,null,null,null,null,{"$f":"IF(X878=\"\",\"\",INDEX(referentes!J:K,MATCH(X878,referentes!J:J,0),2))","v":""},null,null,""]
["30000401000000",null,0,{"$f":"IF(E879<>\"\",CONCATENATE(B879,A879,DIGITADOR!$M$1,C879),\"\")","v":""},null,null,"","","",null,875,"",{"$f":"IF(R879=R878,\"\",IF(E879<>\"\",CONCATENATE(B879,A879,DIGITADOR!$M$1,C879),\"\"))","v":""},null,{"$f":"IF(N879=\"\",\"\",INDEX(referentes!S:T,MATCH(N879,referentes!T:T,0),1))","v":""},null,{"$f":"IF(P879=\"\",\"\",INDEX(referentes!Y:Z,MATCH(P879,referentes!Z:Z,0),1))","v":""},"","",null,null,null,null,null,{"$f":"IF(X879=\"\",\"\",INDEX(referentes!J:K,MATCH(X879,referentes!J:J,0),2))","v":""},null,null,""]
["30000401000000",null,0,{"$f":"IF(E880<>\"\",CONCATENATE(B880,A880,DIGITADOR!$M$1,C880),\"\")","v":""},null,null,"","","",null,876,"",{"$f":"IF(R880=R879,\"\",IF(E880<>\"\",CONCATENATE(B880,A880,DIGITADOR!$M$1,C880),\"\"))","v":""},null,{"$f":"IF(N880=\"\",\"\",INDEX(referentes!S:T,MATCH(N880,referentes!T:T,0),1))","v":""},null,{"$f":"IF(P880=\"\",\"\",INDEX(referentes!Y:Z,MATCH(P880,referentes!Z:Z,0),1))","v":""},"","",null,null,null,null,null,{"$f":"IF(X880=\"\",\"\",INDEX(referentes!J:K,MATCH(X880,referentes!J:J,0),2))","v":""},null,null,""]
["30000401000000",null,0,{"$f":"IF(E881<>\"\",CONCATENATE(B881,A881,DIGITADOR!$M$1,C881),\"\")","v":""},null,null,"","","",null,877,"",{"$f":"IF(R881=R880,\"\",IF(E881<>\"\",CONCATENATE(B881,A881,DIGITADOR!$M$1,C881),\"\"))","v":""},null,{"$f":"IF(N881=\"\",\"\",INDEX(referentes!S:T,MATCH(N881,referentes!T:T,0),1))","v":""},null,{"$f":"IF(P881=\"\",\"\",INDEX(referentes!Y:Z,MATCH(P881,referentes!Z:Z,0),1))","v":""},"","",null,null,null,null,null,{"$f":"IF(X881=\"\",\"\",INDEX(referentes!J:K,MATCH(X881,referentes!J:J,0),2))","v":""},null,null,""]
["30000401000000",null,0,{"$f":"IF(E882<>\"\",CONCATENATE(B882,A882,DIGITADOR!$M$1,C882),\"\")","v":""},null,null,"","","",null,878,"",{"$f":"IF(R882=R881,\"\",IF(E882<>\"\",CONCATENATE(B882,A882,DIGITADOR!$M$1,C882),\"\"))","v":""},null,{"$f":"IF(N882=\"\",\"\",INDEX(referentes!S:T,MATCH(N882,referentes!T:T,0),1))","v":""},null,{"$f":"IF(P882=\"\",\"\",INDEX(referentes!Y:Z,MATCH(P882,referentes!Z:Z,0),1))","v":""},"","",null,null,null,null,null,{"$f":"IF(X882=\"\",\"\",INDEX(referentes!J:K,MATCH(X882,referentes!J:J,0),2))","v":""},null,null,""]
["30000401000000",null,0,{"$f":"IF(E883<>\"\",CONCATENATE(B883,A883,DIGITADOR!$M$1,C883),\"\")","v":""},null,null,"","","",null,879,"",{"$f":"IF(R883=R882,\"\",IF(E883<>\"\",CONCATENATE(B883,A883,DIGITADOR!$M$1,C883),\"\"))","v":""},null,{"$f":"IF(N883=\"\",\"\",INDEX(referentes!S:T,MATCH(N883,referentes!T:T,0),1))","v":""},null,{"$f":"IF(P883=\"\",\"\",INDEX(referentes!Y:Z,MATCH(P883,referentes!Z:Z,0),1))","v":""},"","",null,null,null,null,null,{"$f":"IF(X883=\"\",\"\",INDEX(referentes!J:K,MATCH(X883,referentes!J:J,0),2))","v":""},null,null,""]
["30000401000000",null,0,{"$f":"IF(E884<>\"\",CONCATENATE(B884,A884,DIGITADOR!$M$1,C884),\"\")","v":""},null,null,"","","",null,880,"",{"$f":"IF(R884=R883,\"\",IF(E884<>\"\",CONCATENATE(B884,A884,DIGITADOR!$M$1,C884),\"\"))","v":""},null,{"$f":"IF(N884=\"\",\"\",INDEX(referentes!S:T,MATCH(N884,referentes!T:T,0),1))","v":""},null,{"$f":"IF(P884=\"\",\"\",INDEX(referentes!Y:Z,MATCH(P884,referentes!Z:Z,0),1))","v":""},"","",null,null,null,null,null,{"$f":"IF(X884=\"\",\"\",INDEX(referentes!J:K,MATCH(X884,referentes!J:J,0),2))","v":""},null,null,""]
["30000401000000",null,0,{"$f":"IF(E885<>\"\",CONCATENATE(B885,A885,DIGITADOR!$M$1,C885),\"\")","v":""},null,null,"","","",null,881,"",{"$f":"IF(R885=R884,\"\",IF(E885<>\"\",CONCATENATE(B885,A885,DIGITADOR!$M$1,C885),\"\"))","v":""},null,{"$f":"IF(N885=\"\",\"\",INDEX(referentes!S:T,MATCH(N885,referentes!T:T,0),1))","v":""},null,{"$f":"IF(P885=\"\",\"\",INDEX(referentes!Y:Z,MATCH(P885,referentes!Z:Z,0),1))","v":""},"","",null,null,null,null,null,{"$f":"IF(X885=\"\",\"\",INDEX(referentes!J:K,MATCH(X885,referentes!J:J,0),2))","v":""},null,null,""]
["30000401000000",null,0,{"$f":"IF(E886<>\"\",CONCATENATE(B886,A886,DIGITADOR!$M$1,C886),\"\")","v":""},null,null,"","","",null,882,"",{"$f":"IF(R886=R885,\"\",IF(E886<>\"\",CONCATENATE(B886,A886,DIGITADOR!$M$1,C886),\"\"))","v":""},null,{"$f":"IF(N886=\"\",\"\",INDEX(referentes!S:T,MATCH(N886,referentes!T:T,0),1))","v":""},null,{"$f":"IF(P886=\"\",\"\",INDEX(referentes!Y:Z,MATCH(P886,referentes!Z:Z,0),1))","v":""},"","",null,null,null,null,null,{"$f":"IF(X886=\"\",\"\",INDEX(referentes!J:K,MATCH(X886,referentes!J:J,0),2))","v":""},null,null,""]
["30000401000000",null,0,{"$f":"IF(E887<>\"\",CONCATENATE(B887,A887,DIGITADOR!$M$1,C887),\"\")","v":""},null,null,"","","",null,883,"",{"$f":"IF(R887=R886,\"\",IF(E887<>\"\",CONCATENATE(B887,A887,DIGITADOR!$M$1,C887),\"\"))","v":""},null,{"$f":"IF(N887=\"\",\"\",INDEX(referentes!S:T,MATCH(N887,referentes!T:T,0),1))","v":""},null,{"$f":"IF(P887=\"\",\"\",INDEX(referentes!Y:Z,MATCH(P887,referentes!Z:Z,0),1))","v":""},"","",null,null,null,null,null,{"$f":"IF(X887=\"\",\"\",INDEX(referentes!J:K,MATCH(X887,referentes!J:J,0),2))","v":""},null,null,""]
["30000401000000",null,0,{"$f":"IF(E888<>\"\",CONCATENATE(B888,A888,DIGITADOR!$M$1,C888),\"\")","v":""},null,null,"","","",null,884,"",{"$f":"IF(R888=R887,\"\",IF(E888<>\"\",CONCATENATE(B888,A888,DIGITADOR!$M$1,C888),\"\"))","v":""},null,{"$f":"IF(N888=\"\",\"\",INDEX(referentes!S:T,MATCH(N888,referentes!T:T,0),1))","v":""},null,{"$f":"IF(P888=\"\",\"\",INDEX(referentes!Y:Z,MATCH(P888,referentes!Z:Z,0),1))","v":""},"","",null,null,null,null,null,{"$f":"IF(X888=\"\",\"\",INDEX(referentes!J:K,MATCH(X888,referentes!J:J,0),2))","v":""},null,null,""]
["30000401000000",null,0,{"$f":"IF(E889<>\"\",CONCATENATE(B889,A889,DIGITADOR!$M$1,C889),\"\")","v":""},null,null,"","","",null,885,"",{"$f":"IF(R889=R888,\"\",IF(E889<>\"\",CONCATENATE(B889,A889,DIGITADOR!$M$1,C889),\"\"))","v":""},null,{"$f":"IF(N889=\"\",\"\",INDEX(referentes!S:T,MATCH(N889,referentes!T:T,0),1))","v":""},null,{"$f":"IF(P889=\"\",\"\",INDEX(referentes!Y:Z,MATCH(P889,referentes!Z:Z,0),1))","v":""},"","",null,null,null,null,null,{"$f":"IF(X889=\"\",\"\",INDEX(referentes!J:K,MATCH(X889,referentes!J:J,0),2))","v":""},null,null,""]
["30000401000000",null,0,{"$f":"IF(E890<>\"\",CONCATENATE(B890,A890,DIGITADOR!$M$1,C890),\"\")","v":""},null,null,"","","",null,886,"",{"$f":"IF(R890=R889,\"\",IF(E890<>\"\",CONCATENATE(B890,A890,DIGITADOR!$M$1,C890),\"\"))","v":""},null,{"$f":"IF(N890=\"\",\"\",INDEX(referentes!S:T,MATCH(N890,referentes!T:T,0),1))","v":""},null,{"$f":"IF(P890=\"\",\"\",INDEX(referentes!Y:Z,MATCH(P890,referentes!Z:Z,0),1))","v":""},"","",null,null,null,null,null,{"$f":"IF(X890=\"\",\"\",INDEX(referentes!J:K,MATCH(X890,referentes!J:J,0),2))","v":""},null,null,""]
["30000401000000",null,0,{"$f":"IF(E891<>\"\",CONCATENATE(B891,A891,DIGITADOR!$M$1,C891),\"\")","v":""},null,null,"","","",null,887,"",{"$f":"IF(R891=R890,\"\",IF(E891<>\"\",CONCATENATE(B891,A891,DIGITADOR!$M$1,C891),\"\"))","v":""},null,{"$f":"IF(N891=\"\",\"\",INDEX(referentes!S:T,MATCH(N891,referentes!T:T,0),1))","v":""},null,{"$f":"IF(P891=\"\",\"\",INDEX(referentes!Y:Z,MATCH(P891,referentes!Z:Z,0),1))","v":""},"","",null,null,null,null,null,{"$f":"IF(X891=\"\",\"\",INDEX(referentes!J:K,MATCH(X891,referentes!J:J,0),2))","v":""},null,null,""]
["30000401000000",null,0,{"$f":"IF(E892<>\"\",CONCATENATE(B892,A892,DIGITADOR!$M$1,C892),\"\")","v":""},null,null,"","","",null,888,"",{"$f":"IF(R892=R891,\"\",IF(E892<>\"\",CONCATENATE(B892,A892,DIGITADOR!$M$1,C892),\"\"))","v":""},null,{"$f":"IF(N892=\"\",\"\",INDEX(referentes!S:T,MATCH(N892,referentes!T:T,0),1))","v":""},null,{"$f":"IF(P892=\"\",\"\",INDEX(referentes!Y:Z,MATCH(P892,referentes!Z:Z,0),1))","v":""},"","",null,null,null,null,null,{"$f":"IF(X892=\"\",\"\",INDEX(referentes!J:K,MATCH(X892,referentes!J:J,0),2))","v":""},null,null,""]
["30000401000000",null,0,{"$f":"IF(E893<>\"\",CONCATENATE(B893,A893,DIGITADOR!$M$1,C893),\"\")","v":""},null,null,"","","",null,889,"",{"$f":"IF(R893=R892,\"\",IF(E893<>\"\",CONCATENATE(B893,A893,DIGITADOR!$M$1,C893),\"\"))","v":""},null,{"$f":"IF(N893=\"\",\"\",INDEX(referentes!S:T,MATCH(N893,referentes!T:T,0),1))","v":""},null,{"$f":"IF(P893=\"\",\"\",INDEX(referentes!Y:Z,MATCH(P893,referentes!Z:Z,0),1))","v":""},"","",null,null,null,null,null,{"$f":"IF(X893=\"\",\"\",INDEX(referentes!J:K,MATCH(X893,referentes!J:J,0),2))","v":""},null,null,""]
["30000401000000",null,0,{"$f":"IF(E894<>\"\",CONCATENATE(B894,A894,DIGITADOR!$M$1,C894),\"\")","v":""},null,null,"","","",null,890,"",{"$f":"IF(R894=R893,\"\",IF(E894<>\"\",CONCATENATE(B894,A894,DIGITADOR!$M$1,C894),\"\"))","v":""},null,{"$f":"IF(N894=\"\",\"\",INDEX(referentes!S:T,MATCH(N894,referentes!T:T,0),1))","v":""},null,{"$f":"IF(P894=\"\",\"\",INDEX(referentes!Y:Z,MATCH(P894,referentes!Z:Z,0),1))","v":""},"","",null,null,null,null,null,{"$f":"IF(X894=\"\",\"\",INDEX(referentes!J:K,MATCH(X894,referentes!J:J,0),2))","v":""},null,null,""]
["30000401000000",null,0,{"$f":"IF(E895<>\"\",CONCATENATE(B895,A895,DIGITADOR!$M$1,C895),\"\")","v":""},null,null,"","","",null,891,"",{"$f":"IF(R895=R894,\"\",IF(E895<>\"\",CONCATENATE(B895,A895,DIGITADOR!$M$1,C895),\"\"))","v":""},null,{"$f":"IF(N895=\"\",\"\",INDEX(referentes!S:T,MATCH(N895,referentes!T:T,0),1))","v":""},null,{"$f":"IF(P895=\"\",\"\",INDEX(referentes!Y:Z,MATCH(P895,referentes!Z:Z,0),1))","v":""},"","",null,null,null,null,null,{"$f":"IF(X895=\"\",\"\",INDEX(referentes!J:K,MATCH(X895,referentes!J:J,0),2))","v":""},null,null,""]
["30000401000000",null,0,{"$f":"IF(E896<>\"\",CONCATENATE(B896,A896,DIGITADOR!$M$1,C896),\"\")","v":""},null,null,"","","",null,892,"",{"$f":"IF(R896=R895,\"\",IF(E896<>\"\",CONCATENATE(B896,A896,DIGITADOR!$M$1,C896),\"\"))","v":""},null,{"$f":"IF(N896=\"\",\"\",INDEX(referentes!S:T,MATCH(N896,referentes!T:T,0),1))","v":""},null,{"$f":"IF(P896=\"\",\"\",INDEX(referentes!Y:Z,MATCH(P896,referentes!Z:Z,0),1))","v":""},"","",null,null,null,null,null,{"$f":"IF(X896=\"\",\"\",INDEX(referentes!J:K,MATCH(X896,referentes!J:J,0),2))","v":""},null,null,""]
["30000401000000",null,0,{"$f":"IF(E897<>\"\",CONCATENATE(B897,A897,DIGITADOR!$M$1,C897),\"\")","v":""},null,null,"","","",null,893,"",{"$f":"IF(R897=R896,\"\",IF(E897<>\"\",CONCATENATE(B897,A897,DIGITADOR!$M$1,C897),\"\"))","v":""},null,{"$f":"IF(N897=\"\",\"\",INDEX(referentes!S:T,MATCH(N897,referentes!T:T,0),1))","v":""},null,{"$f":"IF(P897=\"\",\"\",INDEX(referentes!Y:Z,MATCH(P897,referentes!Z:Z,0),1))","v":""},"","",null,null,null,null,null,{"$f":"IF(X897=\"\",\"\",INDEX(referentes!J:K,MATCH(X897,referentes!J:J,0),2))","v":""},null,null,""]
["30000401000000",null,0,{"$f":"IF(E898<>\"\",CONCATENATE(B898,A898,DIGITADOR!$M$1,C898),\"\")","v":""},null,null,"","","",null,894,"",{"$f":"IF(R898=R897,\"\",IF(E898<>\"\",CONCATENATE(B898,A898,DIGITADOR!$M$1,C898),\"\"))","v":""},null,{"$f":"IF(N898=\"\",\"\",INDEX(referentes!S:T,MATCH(N898,referentes!T:T,0),1))","v":""},null,{"$f":"IF(P898=\"\",\"\",INDEX(referentes!Y:Z,MATCH(P898,referentes!Z:Z,0),1))","v":""},"","",null,null,null,null,null,{"$f":"IF(X898=\"\",\"\",INDEX(referentes!J:K,MATCH(X898,referentes!J:J,0),2))","v":""},null,null,""]
["30000401000000",null,0,{"$f":"IF(E899<>\"\",CONCATENATE(B899,A899,DIGITADOR!$M$1,C899),\"\")","v":""},null,null,"","","",null,895,"",{"$f":"IF(R899=R898,\"\",IF(E899<>\"\",CONCATENATE(B899,A899,DIGITADOR!$M$1,C899),\"\"))","v":""},null,{"$f":"IF(N899=\"\",\"\",INDEX(referentes!S:T,MATCH(N899,referentes!T:T,0),1))","v":""},null,{"$f":"IF(P899=\"\",\"\",INDEX(referentes!Y:Z,MATCH(P899,referentes!Z:Z,0),1))","v":""},"","",null,null,null,null,null,{"$f":"IF(X899=\"\",\"\",INDEX(referentes!J:K,MATCH(X899,referentes!J:J,0),2))","v":""},null,null,""]
["30000401000000",null,0,{"$f":"IF(E900<>\"\",CONCATENATE(B900,A900,DIGITADOR!$M$1,C900),\"\")","v":""},null,null,"","","",null,896,"",{"$f":"IF(R900=R899,\"\",IF(E900<>\"\",CONCATENATE(B900,A900,DIGITADOR!$M$1,C900),\"\"))","v":""},null,{"$f":"IF(N900=\"\",\"\",INDEX(referentes!S:T,MATCH(N900,referentes!T:T,0),1))","v":""},null,{"$f":"IF(P900=\"\",\"\",INDEX(referentes!Y:Z,MATCH(P900,referentes!Z:Z,0),1))","v":""},"","",null,null,null,null,null,{"$f":"IF(X900=\"\",\"\",INDEX(referentes!J:K,MATCH(X900,referentes!J:J,0),2))","v":""},null,null,""]
["30000401000000",null,{"$f":"IF(R901=R900,C900,C900+1)","v":0},{"$f":"IF(E901<>\"\",CONCATENATE(B901,A901,DIGITADOR!$M$1,C901),\"\")","v":""},null,null,"","","",null,897,"",{"$f":"IF(R901=R900,\"\",IF(E901<>\"\",CONCATENATE(B901,A901,DIGITADOR!$M$1,C901),\"\"))","v":""},null,{"$f":"IF(N901=\"\",\"\",INDEX(referentes!S:T,MATCH(N901,referentes!T:T,0),1))","v":""},null,{"$f":"IF(P901=\"\",\"\",INDEX(referentes!Y:Z,MATCH(P901,referentes!Z:Z,0),1))","v":""},"","",null,null,null,null,null,{"$f":"IF(X901=\"\",\"\",INDEX(referentes!J:K,MATCH(X901,referentes!J:J,0),2))","v":""},null,null,""]
["30000401000000",null,0,{"$f":"IF(E902<>\"\",CONCATENATE(B902,A902,DIGITADOR!$M$1,C902),\"\")","v":""},null,null,{"$f":"IF(E902=\"\", \"\", (E902+F902))","v":""},{"$f":"IF(G902<>\"\",MONTH(G902),\"\")","v":""},{"$f":"IF(D902=\"\",\"\",1)","v":""},null,898,{"$f":"IF(E902=\"\",\"\",CONCATENATE(D902,K902))","v":""},{"$f":"IF(R902=R901,\"\",IF(E902<>\"\",CONCATENATE(B902,A902,DIGITADOR!$M$1,C902),\"\"))","v":""},null,{"$f":"IF(N902=\"\",\"\",INDEX(referentes!S:T,MATCH(N902,referentes!T:T,0),1))","v":""},null,{"$f":"IF(P902=\"\",\"\",INDEX(referentes!Y:Z,MATCH(P902,referentes!Z:Z,0),1))","v":""},{"$f":"IF(G902=\"\",\"\",CONCATENATE(G902,O902,Q902))","v":""},{"$f":"IF(E902=\"\",\"\",\"INVEMAR\")","v":""},null,null,null,null,null,{"$f":"IF(X902=\"\",\"\",INDEX(referentes!J:K,MATCH(X902,referentes!J:J,0),2))","v":""},null,null,{"$f":"IF(T902=\"\",\"\",IF(T902=T901,AB901,AA902))","v":""}]
[{"$f":"A902","v":"30000401000000"},null,0,{"$f":"IF(E903<>\"\",CONCATENATE(B903,A903,DIGITADOR!$M$1,C903),\"\")","v":""},null,null,"","","",null,899,"",{"$f":"IF(R903=R902,\"\",IF(E903<>\"\",CONCATENATE(B903,A903,DIGITADOR!$M$1,C903),\"\"))","v":""},null,{"$f":"IF(N903=\"\",\"\",INDEX(referentes!S:T,MATCH(N903,referentes!T:T,0),1))","v":""},null,{"$f":"IF(P903=\"\",\"\",INDEX(referentes!Y:Z,MATCH(P903,referentes!Z:Z,0),1))","v":""},"","",null,null,null,null,null,{"$f":"IF(X903=\"\",\"\",INDEX(referentes!J:K,MATCH(X903,referentes!J:J,0),2))","v":""},null,null,""]
["30000401000000",null,0,{"$f":"IF(E904<>\"\",CONCATENATE(B904,A904,DIGITADOR!$M$1,C904),\"\")","v":""},null,null,"","","",null,900,"",{"$f":"IF(R904=R903,\"\",IF(E904<>\"\",CONCATENATE(B904,A904,DIGITADOR!$M$1,C904),\"\"))","v":""},null,{"$f":"IF(N904=\"\",\"\",INDEX(referentes!S:T,MATCH(N904,referentes!T:T,0),1))","v":""},null,{"$f":"IF(P904=\"\",\"\",INDEX(referentes!Y:Z,MATCH(P904,referentes!Z:Z,0),1))","v":""},"","",null,null,null,null,null,{"$f":"IF(X904=\"\",\"\",INDEX(referentes!J:K,MATCH(X904,referentes!J:J,0),2))","v":""},null,null,""]
["30000401000000",null,0,{"$f":"IF(E905<>\"\",CONCATENATE(B905,A905,DIGITADOR!$M$1,C905),\"\")","v":""},null,null,"","","",null,901,"",{"$f":"IF(R905=R904,\"\",IF(E905<>\"\",CONCATENATE(B905,A905,DIGITADOR!$M$1,C905),\"\"))","v":""},null,{"$f":"IF(N905=\"\",\"\",INDEX(referentes!S:T,MATCH(N905,referentes!T:T,0),1))","v":""},null,{"$f":"IF(P905=\"\",\"\",INDEX(referentes!Y:Z,MATCH(P905,referentes!Z:Z,0),1))","v":""},"","",null,null,null,null,null,{"$f":"IF(X905=\"\",\"\",INDEX(referentes!J:K,MATCH(X905,referentes!J:J,0),2))","v":""},null,null,""]
["30000401000000",null,0,{"$f":"IF(E906<>\"\",CONCATENATE(B906,A906,DIGITADOR!$M$1,C906),\"\")","v":""},null,null,"","","",null,902,"",{"$f":"IF(R906=R905,\"\",IF(E906<>\"\",CONCATENATE(B906,A906,DIGITADOR!$M$1,C906),\"\"))","v":""},null,{"$f":"IF(N906=\"\",\"\",INDEX(referentes!S:T,MATCH(N906,referentes!T:T,0),1))","v":""},null,{"$f":"IF(P906=\"\",\"\",INDEX(referentes!Y:Z,MATCH(P906,referentes!Z:Z,0),1))","v":""},"","",null,null,null,null,null,{"$f":"IF(X906=\"\",\"\",INDEX(referentes!J:K,MATCH(X906,referentes!J:J,0),2))","v":""},null,null,""]
["30000401000000",null,0,{"$f":"IF(E907<>\"\",CONCATENATE(B907,A907,DIGITADOR!$M$1,C907),\"\")","v":""},null,null,"","","",null,903,"",{"$f":"IF(R907=R906,\"\",IF(E907<>\"\",CONCATENATE(B907,A907,DIGITADOR!$M$1,C907),\"\"))","v":""},null,{"$f":"IF(N907=\"\",\"\",INDEX(referentes!S:T,MATCH(N907,referentes!T:T,0),1))","v":""},null,{"$f":"IF(P907=\"\",\"\",INDEX(referentes!Y:Z,MATCH(P907,referentes!Z:Z,0),1))","v":""},"","",null,null,null,null,null,{"$f":"IF(X907=\"\",\"\",INDEX(referentes!J:K,MATCH(X907,referentes!J:J,0),2))","v":""},null,null,""]
["30000401000000",null,0,{"$f":"IF(E908<>\"\",CONCATENATE(B908,A908,DIGITADOR!$M$1,C908),\"\")","v":""},null,null,"","","",null,904,"",{"$f":"IF(R908=R907,\"\",IF(E908<>\"\",CONCATENATE(B908,A908,DIGITADOR!$M$1,C908),\"\"))","v":""},null,{"$f":"IF(N908=\"\",\"\",INDEX(referentes!S:T,MATCH(N908,referentes!T:T,0),1))","v":""},null,{"$f":"IF(P908=\"\",\"\",INDEX(referentes!Y:Z,MATCH(P908,referentes!Z:Z,0),1))","v":""},"","",null,null,null,null,null,{"$f":"IF(X908=\"\",\"\",INDEX(referentes!J:K,MATCH(X908,referentes!J:J,0),2))","v":""},null,null,""]
["30000401000000",null,0,{"$f":"IF(E909<>\"\",CONCATENATE(B909,A909,DIGITADOR!$M$1,C909),\"\")","v":""},null,null,"","","",null,905,"",{"$f":"IF(R909=R908,\"\",IF(E909<>\"\",CONCATENATE(B909,A909,DIGITADOR!$M$1,C909),\"\"))","v":""},null,{"$f":"IF(N909=\"\",\"\",INDEX(referentes!S:T,MATCH(N909,referentes!T:T,0),1))","v":""},null,{"$f":"IF(P909=\"\",\"\",INDEX(referentes!Y:Z,MATCH(P909,referentes!Z:Z,0),1))","v":""},"","",null,null,null,null,null,{"$f":"IF(X909=\"\",\"\",INDEX(referentes!J:K,MATCH(X909,referentes!J:J,0),2))","v":""},null,null,""]
["30000401000000",null,0,{"$f":"IF(E910<>\"\",CONCATENATE(B910,A910,DIGITADOR!$M$1,C910),\"\")","v":""},null,null,"","","",null,906,"",{"$f":"IF(R910=R909,\"\",IF(E910<>\"\",CONCATENATE(B910,A910,DIGITADOR!$M$1,C910),\"\"))","v":""},null,{"$f":"IF(N910=\"\",\"\",INDEX(referentes!S:T,MATCH(N910,referentes!T:T,0),1))","v":""},null,{"$f":"IF(P910=\"\",\"\",INDEX(referentes!Y:Z,MATCH(P910,referentes!Z:Z,0),1))","v":""},"","",null,null,null,null,null,{"$f":"IF(X910=\"\",\"\",INDEX(referentes!J:K,MATCH(X910,referentes!J:J,0),2))","v":""},null,null,""]
["30000401000000",null,0,{"$f":"IF(E911<>\"\",CONCATENATE(B911,A911,DIGITADOR!$M$1,C911),\"\")","v":""},null,null,"","","",null,907,"",{"$f":"IF(R911=R910,\"\",IF(E911<>\"\",CONCATENATE(B911,A911,DIGITADOR!$M$1,C911),\"\"))","v":""},null,{"$f":"IF(N911=\"\",\"\",INDEX(referentes!S:T,MATCH(N911,referentes!T:T,0),1))","v":""},null,{"$f":"IF(P911=\"\",\"\",INDEX(referentes!Y:Z,MATCH(P911,referentes!Z:Z,0),1))","v":""},"","",null,null,null,null,null,{"$f":"IF(X911=\"\",\"\",INDEX(referentes!J:K,MATCH(X911,referentes!J:J,0),2))","v":""},null,null,""]
["30000401000000",null,0,{"$f":"IF(E912<>\"\",CONCATENATE(B912,A912,DIGITADOR!$M$1,C912),\"\")","v":""},null,null,"","","",null,908,"",{"$f":"IF(R912=R911,\"\",IF(E912<>\"\",CONCATENATE(B912,A912,DIGITADOR!$M$1,C912),\"\"))","v":""},null,{"$f":"IF(N912=\"\",\"\",INDEX(referentes!S:T,MATCH(N912,referentes!T:T,0),1))","v":""},null,{"$f":"IF(P912=\"\",\"\",INDEX(referentes!Y:Z,MATCH(P912,referentes!Z:Z,0),1))","v":""},"","",null,null,null,null,null,{"$f":"IF(X912=\"\",\"\",INDEX(referentes!J:K,MATCH(X912,referentes!J:J,0),2))","v":""},null,null,""]
["30000401000000",null,0,{"$f":"IF(E913<>\"\",CONCATENATE(B913,A913,DIGITADOR!$M$1,C913),\"\")","v":""},null,null,"","","",null,909,"",{"$f":"IF(R913=R912,\"\",IF(E913<>\"\",CONCATENATE(B913,A913,DIGITADOR!$M$1,C913),\"\"))","v":""},null,{"$f":"IF(N913=\"\",\"\",INDEX(referentes!S:T,MATCH(N913,referentes!T:T,0),1))","v":""},null,{"$f":"IF(P913=\"\",\"\",INDEX(referentes!Y:Z,MATCH(P913,referentes!Z:Z,0),1))","v":""},"","",null,null,null,null,null,{"$f":"IF(X913=\"\",\"\",INDEX(referentes!J:K,MATCH(X913,referentes!J:J,0),2))","v":""},null,null,""]
["30000401000000",null,0,{"$f":"IF(E914<>\"\",CONCATENATE(B914,A914,DIGITADOR!$M$1,C914),\"\")","v":""},null,null,"","","",null,910,"",{"$f":"IF(R914=R913,\"\",IF(E914<>\"\",CONCATENATE(B914,A914,DIGITADOR!$M$1,C914),\"\"))","v":""},null,{"$f":"IF(N914=\"\",\"\",INDEX(referentes!S:T,MATCH(N914,referentes!T:T,0),1))","v":""},null,{"$f":"IF(P914=\"\",\"\",INDEX(referentes!Y:Z,MATCH(P914,referentes!Z:Z,0),1))","v":""},"","",null,null,null,null,null,{"$f":"IF(X914=\"\",\"\",INDEX(referentes!J:K,MATCH(X914,referentes!J:J,0),2))","v":""},null,null,""]
["30000401000000",null,0,{"$f":"IF(E915<>\"\",CONCATENATE(B915,A915,DIGITADOR!$M$1,C915),\"\")","v":""},null,null,"","","",null,911,"",{"$f":"IF(R915=R914,\"\",IF(E915<>\"\",CONCATENATE(B915,A915,DIGITADOR!$M$1,C915),\"\"))","v":""},null,{"$f":"IF(N915=\"\",\"\",INDEX(referentes!S:T,MATCH(N915,referentes!T:T,0),1))","v":""},null,{"$f":"IF(P915=\"\",\"\",INDEX(referentes!Y:Z,MATCH(P915,referentes!Z:Z,0),1))","v":""},"","",null,null,null,null,null,{"$f":"IF(X915=\"\",\"\",INDEX(referentes!J:K,MATCH(X915,referentes!J:J,0),2))","v":""},null,null,""]
["30000401000000",null,0,{"$f":"IF(E916<>\"\",CONCATENATE(B916,A916,DIGITADOR!$M$1,C916),\"\")","v":""},null,null,"","","",null,912,"",{"$f":"IF(R916=R915,\"\",IF(E916<>\"\",CONCATENATE(B916,A916,DIGITADOR!$M$1,C916),\"\"))","v":""},null,{"$f":"IF(N916=\"\",\"\",INDEX(referentes!S:T,MATCH(N916,referentes!T:T,0),1))","v":""},null,{"$f":"IF(P916=\"\",\"\",INDEX(referentes!Y:Z,MATCH(P916,referentes!Z:Z,0),1))","v":""},"","",null,null,null,null,null,{"$f":"IF(X916=\"\",\"\",INDEX(referentes!J:K,MATCH(X916,referentes!J:J,0),2))","v":""},null,null,""]
["30000401000000",null,0,{"$f":"IF(E917<>\"\",CONCATENATE(B917,A917,DIGITADOR!$M$1,C917),\"\")","v":""},null,null,"","","",null,913,"",{"$f":"IF(R917=R916,\"\",IF(E917<>\"\",CONCATENATE(B917,A917,DIGITADOR!$M$1,C917),\"\"))","v":""},null,{"$f":"IF(N917=\"\",\"\",INDEX(referentes!S:T,MATCH(N917,referentes!T:T,0),1))","v":""},null,{"$f":"IF(P917=\"\",\"\",INDEX(referentes!Y:Z,MATCH(P917,referentes!Z:Z,0),1))","v":""},"","",null,null,null,null,null,{"$f":"IF(X917=\"\",\"\",INDEX(referentes!J:K,MATCH(X917,referentes!J:J,0),2))","v":""},null,null,""]
["30000401000000",null,0,{"$f":"IF(E918<>\"\",CONCATENATE(B918,A918,DIGITADOR!$M$1,C918),\"\")","v":""},null,null,"","","",null,914,"",{"$f":"IF(R918=R917,\"\",IF(E918<>\"\",CONCATENATE(B918,A918,DIGITADOR!$M$1,C918),\"\"))","v":""},null,{"$f":"IF(N918=\"\",\"\",INDEX(referentes!S:T,MATCH(N918,referentes!T:T,0),1))","v":""},null,{"$f":"IF(P918=\"\",\"\",INDEX(referentes!Y:Z,MATCH(P918,referentes!Z:Z,0),1))","v":""},"","",null,null,null,null,null,{"$f":"IF(X918=\"\",\"\",INDEX(referentes!J:K,MATCH(X918,referentes!J:J,0),2))","v":""},null,null,""]
["30000401000000",null,0,{"$f":"IF(E919<>\"\",CONCATENATE(B919,A919,DIGITADOR!$M$1,C919),\"\")","v":""},null,null,"","","",null,915,"",{"$f":"IF(R919=R918,\"\",IF(E919<>\"\",CONCATENATE(B919,A919,DIGITADOR!$M$1,C919),\"\"))","v":""},null,{"$f":"IF(N919=\"\",\"\",INDEX(referentes!S:T,MATCH(N919,referentes!T:T,0),1))","v":""},null,{"$f":"IF(P919=\"\",\"\",INDEX(referentes!Y:Z,MATCH(P919,referentes!Z:Z,0),1))","v":""},"","",null,null,null,null,null,{"$f":"IF(X919=\"\",\"\",INDEX(referentes!J:K,MATCH(X919,referentes!J:J,0),2))","v":""},null,null,""]
["30000401000000",null,0,{"$f":"IF(E920<>\"\",CONCATENATE(B920,A920,DIGITADOR!$M$1,C920),\"\")","v":""},null,null,"","","",null,916,"",{"$f":"IF(R920=R919,\"\",IF(E920<>\"\",CONCATENATE(B920,A920,DIGITADOR!$M$1,C920),\"\"))","v":""},null,{"$f":"IF(N920=\"\",\"\",INDEX(referentes!S:T,MATCH(N920,referentes!T:T,0),1))","v":""},null,{"$f":"IF(P920=\"\",\"\",INDEX(referentes!Y:Z,MATCH(P920,referentes!Z:Z,0),1))","v":""},"","",null,null,null,null,null,{"$f":"IF(X920=\"\",\"\",INDEX(referentes!J:K,MATCH(X920,referentes!J:J,0),2))","v":""},null,null,""]
["30000401000000",null,0,{"$f":"IF(E921<>\"\",CONCATENATE(B921,A921,DIGITADOR!$M$1,C921),\"\")","v":""},null,null,"","","",null,917,"",{"$f":"IF(R921=R920,\"\",IF(E921<>\"\",CONCATENATE(B921,A921,DIGITADOR!$M$1,C921),\"\"))","v":""},null,{"$f":"IF(N921=\"\",\"\",INDEX(referentes!S:T,MATCH(N921,referentes!T:T,0),1))","v":""},null,{"$f":"IF(P921=\"\",\"\",INDEX(referentes!Y:Z,MATCH(P921,referentes!Z:Z,0),1))","v":""},"","",null,null,null,null,null,{"$f":"IF(X921=\"\",\"\",INDEX(referentes!J:K,MATCH(X921,referentes!J:J,0),2))","v":""},null,null,""]
["30000401000000",null,0,{"$f":"IF(E922<>\"\",CONCATENATE(B922,A922,DIGITADOR!$M$1,C922),\"\")","v":""},null,null,"","","",null,918,"",{"$f":"IF(R922=R921,\"\",IF(E922<>\"\",CONCATENATE(B922,A922,DIGITADOR!$M$1,C922),\"\"))","v":""},null,{"$f":"IF(N922=\"\",\"\",INDEX(referentes!S:T,MATCH(N922,referentes!T:T,0),1))","v":""},null,{"$f":"IF(P922=\"\",\"\",INDEX(referentes!Y:Z,MATCH(P922,referentes!Z:Z,0),1))","v":""},"","",null,null,null,null,null,{"$f":"IF(X922=\"\",\"\",INDEX(referentes!J:K,MATCH(X922,referentes!J:J,0),2))","v":""},null,null,""]
["30000401000000",null,0,{"$f":"IF(E923<>\"\",CONCATENATE(B923,A923,DIGITADOR!$M$1,C923),\"\")","v":""},null,null,"","","",null,919,"",{"$f":"IF(R923=R922,\"\",IF(E923<>\"\",CONCATENATE(B923,A923,DIGITADOR!$M$1,C923),\"\"))","v":""},null,{"$f":"IF(N923=\"\",\"\",INDEX(referentes!S:T,MATCH(N923,referentes!T:T,0),1))","v":""},null,{"$f":"IF(P923=\"\",\"\",INDEX(referentes!Y:Z,MATCH(P923,referentes!Z:Z,0),1))","v":""},"","",null,null,null,null,null,{"$f":"IF(X923=\"\",\"\",INDEX(referentes!J:K,MATCH(X923,referentes!J:J,0),2))","v":""},null,null,""]
["30000401000000",null,0,{"$f":"IF(E924<>\"\",CONCATENATE(B924,A924,DIGITADOR!$M$1,C924),\"\")","v":""},null,null,"","","",null,920,"",{"$f":"IF(R924=R923,\"\",IF(E924<>\"\",CONCATENATE(B924,A924,DIGITADOR!$M$1,C924),\"\"))","v":""},null,{"$f":"IF(N924=\"\",\"\",INDEX(referentes!S:T,MATCH(N924,referentes!T:T,0),1))","v":""},null,{"$f":"IF(P924=\"\",\"\",INDEX(referentes!Y:Z,MATCH(P924,referentes!Z:Z,0),1))","v":""},"","",null,null,null,null,null,{"$f":"IF(X924=\"\",\"\",INDEX(referentes!J:K,MATCH(X924,referentes!J:J,0),2))","v":""},null,null,""]
["30000401000000",null,0,{"$f":"IF(E925<>\"\",CONCATENATE(B925,A925,DIGITADOR!$M$1,C925),\"\")","v":""},null,null,"","","",null,921,"",{"$f":"IF(R925=R924,\"\",IF(E925<>\"\",CONCATENATE(B925,A925,DIGITADOR!$M$1,C925),\"\"))","v":""},null,{"$f":"IF(N925=\"\",\"\",INDEX(referentes!S:T,MATCH(N925,referentes!T:T,0),1))","v":""},null,{"$f":"IF(P925=\"\",\"\",INDEX(referentes!Y:Z,MATCH(P925,referentes!Z:Z,0),1))","v":""},"","",null,null,null,null,null,{"$f":"IF(X925=\"\",\"\",INDEX(referentes!J:K,MATCH(X925,referentes!J:J,0),2))","v":""},null,null,""]
["30000401000000",null,0,{"$f":"IF(E926<>\"\",CONCATENATE(B926,A926,DIGITADOR!$M$1,C926),\"\")","v":""},null,null,"","","",null,922,"",{"$f":"IF(R926=R925,\"\",IF(E926<>\"\",CONCATENATE(B926,A926,DIGITADOR!$M$1,C926),\"\"))","v":""},null,{"$f":"IF(N926=\"\",\"\",INDEX(referentes!S:T,MATCH(N926,referentes!T:T,0),1))","v":""},null,{"$f":"IF(P926=\"\",\"\",INDEX(referentes!Y:Z,MATCH(P926,referentes!Z:Z,0),1))","v":""},"","",null,null,null,null,null,{"$f":"IF(X926=\"\",\"\",INDEX(referentes!J:K,MATCH(X926,referentes!J:J,0),2))","v":""},null,null,""]
["30000401000000",null,0,{"$f":"IF(E927<>\"\",CONCATENATE(B927,A927,DIGITADOR!$M$1,C927),\"\")","v":""},null,null,"","","",null,923,"",{"$f":"IF(R927=R926,\"\",IF(E927<>\"\",CONCATENATE(B927,A927,DIGITADOR!$M$1,C927),\"\"))","v":""},null,{"$f":"IF(N927=\"\",\"\",INDEX(referentes!S:T,MATCH(N927,referentes!T:T,0),1))","v":""},null,{"$f":"IF(P927=\"\",\"\",INDEX(referentes!Y:Z,MATCH(P927,referentes!Z:Z,0),1))","v":""},"","",null,null,null,null,null,{"$f":"IF(X927=\"\",\"\",INDEX(referentes!J:K,MATCH(X927,referentes!J:J,0),2))","v":""},null,null,""]
["30000401000000",null,0,{"$f":"IF(E928<>\"\",CONCATENATE(B928,A928,DIGITADOR!$M$1,C928),\"\")","v":""},null,null,"","","",null,924,"",{"$f":"IF(R928=R927,\"\",IF(E928<>\"\",CONCATENATE(B928,A928,DIGITADOR!$M$1,C928),\"\"))","v":""},null,{"$f":"IF(N928=\"\",\"\",INDEX(referentes!S:T,MATCH(N928,referentes!T:T,0),1))","v":""},null,{"$f":"IF(P928=\"\",\"\",INDEX(referentes!Y:Z,MATCH(P928,referentes!Z:Z,0),1))","v":""},"","",null,null,null,null,null,{"$f":"IF(X928=\"\",\"\",INDEX(referentes!J:K,MATCH(X928,referentes!J:J,0),2))","v":""},null,null,""]
["30000401000000",null,0,{"$f":"IF(E929<>\"\",CONCATENATE(B929,A929,DIGITADOR!$M$1,C929),\"\")","v":""},null,null,"","","",null,925,"",{"$f":"IF(R929=R928,\"\",IF(E929<>\"\",CONCATENATE(B929,A929,DIGITADOR!$M$1,C929),\"\"))","v":""},null,{"$f":"IF(N929=\"\",\"\",INDEX(referentes!S:T,MATCH(N929,referentes!T:T,0),1))","v":""},null,{"$f":"IF(P929=\"\",\"\",INDEX(referentes!Y:Z,MATCH(P929,referentes!Z:Z,0),1))","v":""},"","",null,null,null,null,null,{"$f":"IF(X929=\"\",\"\",INDEX(referentes!J:K,MATCH(X929,referentes!J:J,0),2))","v":""},null,null,""]
["30000401000000",null,0,{"$f":"IF(E930<>\"\",CONCATENATE(B930,A930,DIGITADOR!$M$1,C930),\"\")","v":""},null,null,"","","",null,926,"",{"$f":"IF(R930=R929,\"\",IF(E930<>\"\",CONCATENATE(B930,A930,DIGITADOR!$M$1,C930),\"\"))","v":""},null,{"$f":"IF(N930=\"\",\"\",INDEX(referentes!S:T,MATCH(N930,referentes!T:T,0),1))","v":""},null,{"$f":"IF(P930=\"\",\"\",INDEX(referentes!Y:Z,MATCH(P930,referentes!Z:Z,0),1))","v":""},"","",null,null,null,null,null,{"$f":"IF(X930=\"\",\"\",INDEX(referentes!J:K,MATCH(X930,referentes!J:J,0),2))","v":""},null,null,""]
["30000401000000",null,0,{"$f":"IF(E931<>\"\",CONCATENATE(B931,A931,DIGITADOR!$M$1,C931),\"\")","v":""},null,null,"","","",null,927,"",{"$f":"IF(R931=R930,\"\",IF(E931<>\"\",CONCATENATE(B931,A931,DIGITADOR!$M$1,C931),\"\"))","v":""},null,{"$f":"IF(N931=\"\",\"\",INDEX(referentes!S:T,MATCH(N931,referentes!T:T,0),1))","v":""},null,{"$f":"IF(P931=\"\",\"\",INDEX(referentes!Y:Z,MATCH(P931,referentes!Z:Z,0),1))","v":""},"","",null,null,null,null,null,{"$f":"IF(X931=\"\",\"\",INDEX(referentes!J:K,MATCH(X931,referentes!J:J,0),2))","v":""},null,null,""]
["30000401000000",null,0,{"$f":"IF(E932<>\"\",CONCATENATE(B932,A932,DIGITADOR!$M$1,C932),\"\")","v":""},null,null,"","","",null,928,"",{"$f":"IF(R932=R931,\"\",IF(E932<>\"\",CONCATENATE(B932,A932,DIGITADOR!$M$1,C932),\"\"))","v":""},null,{"$f":"IF(N932=\"\",\"\",INDEX(referentes!S:T,MATCH(N932,referentes!T:T,0),1))","v":""},null,{"$f":"IF(P932=\"\",\"\",INDEX(referentes!Y:Z,MATCH(P932,referentes!Z:Z,0),1))","v":""},"","",null,null,null,null,null,{"$f":"IF(X932=\"\",\"\",INDEX(referentes!J:K,MATCH(X932,referentes!J:J,0),2))","v":""},null,null,""]
["30000401000000",null,0,{"$f":"IF(E933<>\"\",CONCATENATE(B933,A933,DIGITADOR!$M$1,C933),\"\")","v":""},null,null,"","","",null,929,"",{"$f":"IF(R933=R932,\"\",IF(E933<>\"\",CONCATENATE(B933,A933,DIGITADOR!$M$1,C933),\"\"))","v":""},null,{"$f":"IF(N933=\"\",\"\",INDEX(referentes!S:T,MATCH(N933,referentes!T:T,0),1))","v":""},null,{"$f":"IF(P933=\"\",\"\",INDEX(referentes!Y:Z,MATCH(P933,referentes!Z:Z,0),1))","v":""},"","",null,null,null,null,null,{"$f":"IF(X933=\"\",\"\",INDEX(referentes!J:K,MATCH(X933,referentes!J:J,0),2))","v":""},null,null,""]
["30000401000000",null,0,{"$f":"IF(E934<>\"\",CONCATENATE(B934,A934,DIGITADOR!$M$1,C934),\"\")","v":""},null,null,"","","",null,930,"",{"$f":"IF(R934=R933,\"\",IF(E934<>\"\",CONCATENATE(B934,A934,DIGITADOR!$M$1,C934),\"\"))","v":""},null,{"$f":"IF(N934=\"\",\"\",INDEX(referentes!S:T,MATCH(N934,referentes!T:T,0),1))","v":""},null,{"$f":"IF(P934=\"\",\"\",INDEX(referentes!Y:Z,MATCH(P934,referentes!Z:Z,0),1))","v":""},"","",null,null,null,null,null,{"$f":"IF(X934=\"\",\"\",INDEX(referentes!J:K,MATCH(X934,referentes!J:J,0),2))","v":""},null,null,""]
["30000401000000",null,0,{"$f":"IF(E935<>\"\",CONCATENATE(B935,A935,DIGITADOR!$M$1,C935),\"\")","v":""},null,null,"","","",null,931,"",{"$f":"IF(R935=R934,\"\",IF(E935<>\"\",CONCATENATE(B935,A935,DIGITADOR!$M$1,C935),\"\"))","v":""},null,{"$f":"IF(N935=\"\",\"\",INDEX(referentes!S:T,MATCH(N935,referentes!T:T,0),1))","v":""},null,{"$f":"IF(P935=\"\",\"\",INDEX(referentes!Y:Z,MATCH(P935,referentes!Z:Z,0),1))","v":""},"","",null,null,null,null,null,{"$f":"IF(X935=\"\",\"\",INDEX(referentes!J:K,MATCH(X935,referentes!J:J,0),2))","v":""},null,null,""]
["30000401000000",null,0,{"$f":"IF(E936<>\"\",CONCATENATE(B936,A936,DIGITADOR!$M$1,C936),\"\")","v":""},null,null,"","","",null,932,"",{"$f":"IF(R936=R935,\"\",IF(E936<>\"\",CONCATENATE(B936,A936,DIGITADOR!$M$1,C936),\"\"))","v":""},null,{"$f":"IF(N936=\"\",\"\",INDEX(referentes!S:T,MATCH(N936,referentes!T:T,0),1))","v":""},null,{"$f":"IF(P936=\"\",\"\",INDEX(referentes!Y:Z,MATCH(P936,referentes!Z:Z,0),1))","v":""},"","",null,null,null,null,null,{"$f":"IF(X936=\"\",\"\",INDEX(referentes!J:K,MATCH(X936,referentes!J:J,0),2))","v":""},null,null,""]
["30000401000000",null,0,{"$f":"IF(E937<>\"\",CONCATENATE(B937,A937,DIGITADOR!$M$1,C937),\"\")","v":""},null,null,"","","",null,933,"",{"$f":"IF(R937=R936,\"\",IF(E937<>\"\",CONCATENATE(B937,A937,DIGITADOR!$M$1,C937),\"\"))","v":""},null,{"$f":"IF(N937=\"\",\"\",INDEX(referentes!S:T,MATCH(N937,referentes!T:T,0),1))","v":""},null,{"$f":"IF(P937=\"\",\"\",INDEX(referentes!Y:Z,MATCH(P937,referentes!Z:Z,0),1))","v":""},"","",null,null,null,null,null,{"$f":"IF(X937=\"\",\"\",INDEX(referentes!J:K,MATCH(X937,referentes!J:J,0),2))","v":""},null,null,""]
["30000401000000",null,0,{"$f":"IF(E938<>\"\",CONCATENATE(B938,A938,DIGITADOR!$M$1,C938),\"\")","v":""},null,null,"","","",null,934,"",{"$f":"IF(R938=R937,\"\",IF(E938<>\"\",CONCATENATE(B938,A938,DIGITADOR!$M$1,C938),\"\"))","v":""},null,{"$f":"IF(N938=\"\",\"\",INDEX(referentes!S:T,MATCH(N938,referentes!T:T,0),1))","v":""},null,{"$f":"IF(P938=\"\",\"\",INDEX(referentes!Y:Z,MATCH(P938,referentes!Z:Z,0),1))","v":""},"","",null,null,null,null,null,{"$f":"IF(X938=\"\",\"\",INDEX(referentes!J:K,MATCH(X938,referentes!J:J,0),2))","v":""},null,null,""]
["30000401000000",null,0,{"$f":"IF(E939<>\"\",CONCATENATE(B939,A939,DIGITADOR!$M$1,C939),\"\")","v":""},null,null,"","","",null,935,"",{"$f":"IF(R939=R938,\"\",IF(E939<>\"\",CONCATENATE(B939,A939,DIGITADOR!$M$1,C939),\"\"))","v":""},null,{"$f":"IF(N939=\"\",\"\",INDEX(referentes!S:T,MATCH(N939,referentes!T:T,0),1))","v":""},null,{"$f":"IF(P939=\"\",\"\",INDEX(referentes!Y:Z,MATCH(P939,referentes!Z:Z,0),1))","v":""},"","",null,null,null,null,null,{"$f":"IF(X939=\"\",\"\",INDEX(referentes!J:K,MATCH(X939,referentes!J:J,0),2))","v":""},null,null,""]
["30000401000000",null,0,{"$f":"IF(E940<>\"\",CONCATENATE(B940,A940,DIGITADOR!$M$1,C940),\"\")","v":""},null,null,"","","",null,936,"",{"$f":"IF(R940=R939,\"\",IF(E940<>\"\",CONCATENATE(B940,A940,DIGITADOR!$M$1,C940),\"\"))","v":""},null,{"$f":"IF(N940=\"\",\"\",INDEX(referentes!S:T,MATCH(N940,referentes!T:T,0),1))","v":""},null,{"$f":"IF(P940=\"\",\"\",INDEX(referentes!Y:Z,MATCH(P940,referentes!Z:Z,0),1))","v":""},"","",null,null,null,null,null,{"$f":"IF(X940=\"\",\"\",INDEX(referentes!J:K,MATCH(X940,referentes!J:J,0),2))","v":""},null,null,""]
["30000401000000",null,0,{"$f":"IF(E941<>\"\",CONCATENATE(B941,A941,DIGITADOR!$M$1,C941),\"\")","v":""},null,null,"","","",null,937,"",{"$f":"IF(R941=R940,\"\",IF(E941<>\"\",CONCATENATE(B941,A941,DIGITADOR!$M$1,C941),\"\"))","v":""},null,{"$f":"IF(N941=\"\",\"\",INDEX(referentes!S:T,MATCH(N941,referentes!T:T,0),1))","v":""},null,{"$f":"IF(P941=\"\",\"\",INDEX(referentes!Y:Z,MATCH(P941,referentes!Z:Z,0),1))","v":""},"","",null,null,null,null,null,{"$f":"IF(X941=\"\",\"\",INDEX(referentes!J:K,MATCH(X941,referentes!J:J,0),2))","v":""},null,null,""]
["30000401000000",null,0,{"$f":"IF(E942<>\"\",CONCATENATE(B942,A942,DIGITADOR!$M$1,C942),\"\")","v":""},null,null,"","","",null,938,"",{"$f":"IF(R942=R941,\"\",IF(E942<>\"\",CONCATENATE(B942,A942,DIGITADOR!$M$1,C942),\"\"))","v":""},null,{"$f":"IF(N942=\"\",\"\",INDEX(referentes!S:T,MATCH(N942,referentes!T:T,0),1))","v":""},null,{"$f":"IF(P942=\"\",\"\",INDEX(referentes!Y:Z,MATCH(P942,referentes!Z:Z,0),1))","v":""},"","",null,null,null,null,null,{"$f":"IF(X942=\"\",\"\",INDEX(referentes!J:K,MATCH(X942,referentes!J:J,0),2))","v":""},null,null,""]
["30000401000000",null,0,{"$f":"IF(E943<>\"\",CONCATENATE(B943,A943,DIGITADOR!$M$1,C943),\"\")","v":""},null,null,"","","",null,939,"",{"$f":"IF(R943=R942,\"\",IF(E943<>\"\",CONCATENATE(B943,A943,DIGITADOR!$M$1,C943),\"\"))","v":""},null,{"$f":"IF(N943=\"\",\"\",INDEX(referentes!S:T,MATCH(N943,referentes!T:T,0),1))","v":""},null,{"$f":"IF(P943=\"\",\"\",INDEX(referentes!Y:Z,MATCH(P943,referentes!Z:Z,0),1))","v":""},"","",null,null,null,null,null,{"$f":"IF(X943=\"\",\"\",INDEX(referentes!J:K,MATCH(X943,referentes!J:J,0),2))","v":""},null,null,""]
["30000401000000",null,0,{"$f":"IF(E944<>\"\",CONCATENATE(B944,A944,DIGITADOR!$M$1,C944),\"\")","v":""},null,null,"","","",null,940,"",{"$f":"IF(R944=R943,\"\",IF(E944<>\"\",CONCATENATE(B944,A944,DIGITADOR!$M$1,C944),\"\"))","v":""},null,{"$f":"IF(N944=\"\",\"\",INDEX(referentes!S:T,MATCH(N944,referentes!T:T,0),1))","v":""},null,{"$f":"IF(P944=\"\",\"\",INDEX(referentes!Y:Z,MATCH(P944,referentes!Z:Z,0),1))","v":""},"","",null,null,null,null,null,{"$f":"IF(X944=\"\",\"\",INDEX(referentes!J:K,MATCH(X944,referentes!J:J,0),2))","v":""},null,null,""]
["30000401000000",null,0,{"$f":"IF(E945<>\"\",CONCATENATE(B945,A945,DIGITADOR!$M$1,C945),\"\")","v":""},null,null,"","","",null,941,"",{"$f":"IF(R945=R944,\"\",IF(E945<>\"\",CONCATENATE(B945,A945,DIGITADOR!$M$1,C945),\"\"))","v":""},null,{"$f":"IF(N945=\"\",\"\",INDEX(referentes!S:T,MATCH(N945,referentes!T:T,0),1))","v":""},null,{"$f":"IF(P945=\"\",\"\",INDEX(referentes!Y:Z,MATCH(P945,referentes!Z:Z,0),1))","v":""},"","",null,null,null,null,null,{"$f":"IF(X945=\"\",\"\",INDEX(referentes!J:K,MATCH(X945,referentes!J:J,0),2))","v":""},null,null,""]
["30000401000000",null,0,{"$f":"IF(E946<>\"\",CONCATENATE(B946,A946,DIGITADOR!$M$1,C946),\"\")","v":""},null,null,"","","",null,942,"",{"$f":"IF(R946=R945,\"\",IF(E946<>\"\",CONCATENATE(B946,A946,DIGITADOR!$M$1,C946),\"\"))","v":""},null,{"$f":"IF(N946=\"\",\"\",INDEX(referentes!S:T,MATCH(N946,referentes!T:T,0),1))","v":""},null,{"$f":"IF(P946=\"\",\"\",INDEX(referentes!Y:Z,MATCH(P946,referentes!Z:Z,0),1))","v":""},"","",null,null,null,null,null,{"$f":"IF(X946=\"\",\"\",INDEX(referentes!J:K,MATCH(X946,referentes!J:J,0),2))","v":""},null,null,""]
["30000401000000",null,0,{"$f":"IF(E947<>\"\",CONCATENATE(B947,A947,DIGITADOR!$M$1,C947),\"\")","v":""},null,null,"","","",null,943,"",{"$f":"IF(R947=R946,\"\",IF(E947<>\"\",CONCATENATE(B947,A947,DIGITADOR!$M$1,C947),\"\"))","v":""},null,{"$f":"IF(N947=\"\",\"\",INDEX(referentes!S:T,MATCH(N947,referentes!T:T,0),1))","v":""},null,{"$f":"IF(P947=\"\",\"\",INDEX(referentes!Y:Z,MATCH(P947,referentes!Z:Z,0),1))","v":""},"","",null,null,null,null,null,{"$f":"IF(X947=\"\",\"\",INDEX(referentes!J:K,MATCH(X947,referentes!J:J,0),2))","v":""},null,null,""]
["30000401000000",null,0,{"$f":"IF(E948<>\"\",CONCATENATE(B948,A948,DIGITADOR!$M$1,C948),\"\")","v":""},null,null,"","","",null,944,"",{"$f":"IF(R948=R947,\"\",IF(E948<>\"\",CONCATENATE(B948,A948,DIGITADOR!$M$1,C948),\"\"))","v":""},null,{"$f":"IF(N948=\"\",\"\",INDEX(referentes!S:T,MATCH(N948,referentes!T:T,0),1))","v":""},null,{"$f":"IF(P948=\"\",\"\",INDEX(referentes!Y:Z,MATCH(P948,referentes!Z:Z,0),1))","v":""},"","",null,null,null,null,null,{"$f":"IF(X948=\"\",\"\",INDEX(referentes!J:K,MATCH(X948,referentes!J:J,0),2))","v":""},null,null,""]
["30000401000000",null,0,{"$f":"IF(E949<>\"\",CONCATENATE(B949,A949,DIGITADOR!$M$1,C949),\"\")","v":""},null,null,"","","",null,945,"",{"$f":"IF(R949=R948,\"\",IF(E949<>\"\",CONCATENATE(B949,A949,DIGITADOR!$M$1,C949),\"\"))","v":""},null,{"$f":"IF(N949=\"\",\"\",INDEX(referentes!S:T,MATCH(N949,referentes!T:T,0),1))","v":""},null,{"$f":"IF(P949=\"\",\"\",INDEX(referentes!Y:Z,MATCH(P949,referentes!Z:Z,0),1))","v":""},"","",null,null,null,null,null,{"$f":"IF(X949=\"\",\"\",INDEX(referentes!J:K,MATCH(X949,referentes!J:J,0),2))","v":""},null,null,""]
["30000401000000",null,0,{"$f":"IF(E950<>\"\",CONCATENATE(B950,A950,DIGITADOR!$M$1,C950),\"\")","v":""},null,null,"","","",null,946,"",{"$f":"IF(R950=R949,\"\",IF(E950<>\"\",CONCATENATE(B950,A950,DIGITADOR!$M$1,C950),\"\"))","v":""},null,{"$f":"IF(N950=\"\",\"\",INDEX(referentes!S:T,MATCH(N950,referentes!T:T,0),1))","v":""},null,{"$f":"IF(P950=\"\",\"\",INDEX(referentes!Y:Z,MATCH(P950,referentes!Z:Z,0),1))","v":""},"","",null,null,null,null,null,{"$f":"IF(X950=\"\",\"\",INDEX(referentes!J:K,MATCH(X950,referentes!J:J,0),2))","v":""},null,null,""]
["30000401000000",null,0,{"$f":"IF(E951<>\"\",CONCATENATE(B951,A951,DIGITADOR!$M$1,C951),\"\")","v":""},null,null,"","","",null,947,"",{"$f":"IF(R951=R950,\"\",IF(E951<>\"\",CONCATENATE(B951,A951,DIGITADOR!$M$1,C951),\"\"))","v":""},null,{"$f":"IF(N951=\"\",\"\",INDEX(referentes!S:T,MATCH(N951,referentes!T:T,0),1))","v":""},null,{"$f":"IF(P951=\"\",\"\",INDEX(referentes!Y:Z,MATCH(P951,referentes!Z:Z,0),1))","v":""},"","",null,null,null,null,null,{"$f":"IF(X951=\"\",\"\",INDEX(referentes!J:K,MATCH(X951,referentes!J:J,0),2))","v":""},null,null,""]
["30000401000000",null,0,{"$f":"IF(E952<>\"\",CONCATENATE(B952,A952,DIGITADOR!$M$1,C952),\"\")","v":""},null,null,"","","",null,948,"",{"$f":"IF(R952=R951,\"\",IF(E952<>\"\",CONCATENATE(B952,A952,DIGITADOR!$M$1,C952),\"\"))","v":""},null,{"$f":"IF(N952=\"\",\"\",INDEX(referentes!S:T,MATCH(N952,referentes!T:T,0),1))","v":""},null,{"$f":"IF(P952=\"\",\"\",INDEX(referentes!Y:Z,MATCH(P952,referentes!Z:Z,0),1))","v":""},"","",null,null,null,null,null,{"$f":"IF(X952=\"\",\"\",INDEX(referentes!J:K,MATCH(X952,referentes!J:J,0),2))","v":""},null,null,""]
["30000401000000",null,0,{"$f":"IF(E953<>\"\",CONCATENATE(B953,A953,DIGITADOR!$M$1,C953),\"\")","v":""},null,null,"","","",null,949,"",{"$f":"IF(R953=R952,\"\",IF(E953<>\"\",CONCATENATE(B953,A953,DIGITADOR!$M$1,C953),\"\"))","v":""},null,{"$f":"IF(N953=\"\",\"\",INDEX(referentes!S:T,MATCH(N953,referentes!T:T,0),1))","v":""},null,{"$f":"IF(P953=\"\",\"\",INDEX(referentes!Y:Z,MATCH(P953,referentes!Z:Z,0),1))","v":""},"","",null,null,null,null,null,{"$f":"IF(X953=\"\",\"\",INDEX(referentes!J:K,MATCH(X953,referentes!J:J,0),2))","v":""},null,null,""]
["30000401000000",null,0,{"$f":"IF(E954<>\"\",CONCATENATE(B954,A954,DIGITADOR!$M$1,C954),\"\")","v":""},null,null,"","","",null,950,"",{"$f":"IF(R954=R953,\"\",IF(E954<>\"\",CONCATENATE(B954,A954,DIGITADOR!$M$1,C954),\"\"))","v":""},null,{"$f":"IF(N954=\"\",\"\",INDEX(referentes!S:T,MATCH(N954,referentes!T:T,0),1))","v":""},null,{"$f":"IF(P954=\"\",\"\",INDEX(referentes!Y:Z,MATCH(P954,referentes!Z:Z,0),1))","v":""},"","",null,null,null,null,null,{"$f":"IF(X954=\"\",\"\",INDEX(referentes!J:K,MATCH(X954,referentes!J:J,0),2))","v":""},null,null,""]
["30000401000000",null,0,{"$f":"IF(E955<>\"\",CONCATENATE(B955,A955,DIGITADOR!$M$1,C955),\"\")","v":""},null,null,"","","",null,951,"",{"$f":"IF(R955=R954,\"\",IF(E955<>\"\",CONCATENATE(B955,A955,DIGITADOR!$M$1,C955),\"\"))","v":""},null,{"$f":"IF(N955=\"\",\"\",INDEX(referentes!S:T,MATCH(N955,referentes!T:T,0),1))","v":""},null,{"$f":"IF(P955=\"\",\"\",INDEX(referentes!Y:Z,MATCH(P955,referentes!Z:Z,0),1))","v":""},"","",null,null,null,null,null,{"$f":"IF(X955=\"\",\"\",INDEX(referentes!J:K,MATCH(X955,referentes!J:J,0),2))","v":""},null,null,""]
["30000401000000",null,0,{"$f":"IF(E956<>\"\",CONCATENATE(B956,A956,DIGITADOR!$M$1,C956),\"\")","v":""},null,null,"","","",null,952,"",{"$f":"IF(R956=R955,\"\",IF(E956<>\"\",CONCATENATE(B956,A956,DIGITADOR!$M$1,C956),\"\"))","v":""},null,{"$f":"IF(N956=\"\",\"\",INDEX(referentes!S:T,MATCH(N956,referentes!T:T,0),1))","v":""},null,{"$f":"IF(P956=\"\",\"\",INDEX(referentes!Y:Z,MATCH(P956,referentes!Z:Z,0),1))","v":""},"","",null,null,null,null,null,{"$f":"IF(X956=\"\",\"\",INDEX(referentes!J:K,MATCH(X956,referentes!J:J,0),2))","v":""},null,null,""]
["30000401000000",null,0,{"$f":"IF(E957<>\"\",CONCATENATE(B957,A957,DIGITADOR!$M$1,C957),\"\")","v":""},null,null,"","","",null,953,"",{"$f":"IF(R957=R956,\"\",IF(E957<>\"\",CONCATENATE(B957,A957,DIGITADOR!$M$1,C957),\"\"))","v":""},null,{"$f":"IF(N957=\"\",\"\",INDEX(referentes!S:T,MATCH(N957,referentes!T:T,0),1))","v":""},null,{"$f":"IF(P957=\"\",\"\",INDEX(referentes!Y:Z,MATCH(P957,referentes!Z:Z,0),1))","v":""},"","",null,null,null,null,null,{"$f":"IF(X957=\"\",\"\",INDEX(referentes!J:K,MATCH(X957,referentes!J:J,0),2))","v":""},null,null,""]
["30000401000000",null,0,{"$f":"IF(E958<>\"\",CONCATENATE(B958,A958,DIGITADOR!$M$1,C958),\"\")","v":""},null,null,"","","",null,954,"",{"$f":"IF(R958=R957,\"\",IF(E958<>\"\",CONCATENATE(B958,A958,DIGITADOR!$M$1,C958),\"\"))","v":""},null,{"$f":"IF(N958=\"\",\"\",INDEX(referentes!S:T,MATCH(N958,referentes!T:T,0),1))","v":""},null,{"$f":"IF(P958=\"\",\"\",INDEX(referentes!Y:Z,MATCH(P958,referentes!Z:Z,0),1))","v":""},"","",null,null,null,null,null,{"$f":"IF(X958=\"\",\"\",INDEX(referentes!J:K,MATCH(X958,referentes!J:J,0),2))","v":""},null,null,""]
["30000401000000",null,0,{"$f":"IF(E959<>\"\",CONCATENATE(B959,A959,DIGITADOR!$M$1,C959),\"\")","v":""},null,null,"","","",null,955,"",{"$f":"IF(R959=R958,\"\",IF(E959<>\"\",CONCATENATE(B959,A959,DIGITADOR!$M$1,C959),\"\"))","v":""},null,{"$f":"IF(N959=\"\",\"\",INDEX(referentes!S:T,MATCH(N959,referentes!T:T,0),1))","v":""},null,{"$f":"IF(P959=\"\",\"\",INDEX(referentes!Y:Z,MATCH(P959,referentes!Z:Z,0),1))","v":""},"","",null,null,null,null,null,{"$f":"IF(X959=\"\",\"\",INDEX(referentes!J:K,MATCH(X959,referentes!J:J,0),2))","v":""},null,null,""]
["30000401000000",null,0,{"$f":"IF(E960<>\"\",CONCATENATE(B960,A960,DIGITADOR!$M$1,C960),\"\")","v":""},null,null,"","","",null,956,"",{"$f":"IF(R960=R959,\"\",IF(E960<>\"\",CONCATENATE(B960,A960,DIGITADOR!$M$1,C960),\"\"))","v":""},null,{"$f":"IF(N960=\"\",\"\",INDEX(referentes!S:T,MATCH(N960,referentes!T:T,0),1))","v":""},null,{"$f":"IF(P960=\"\",\"\",INDEX(referentes!Y:Z,MATCH(P960,referentes!Z:Z,0),1))","v":""},"","",null,null,null,null,null,{"$f":"IF(X960=\"\",\"\",INDEX(referentes!J:K,MATCH(X960,referentes!J:J,0),2))","v":""},null,null,""]
["30000401000000",null,0,{"$f":"IF(E961<>\"\",CONCATENATE(B961,A961,DIGITADOR!$M$1,C961),\"\")","v":""},null,null,"","","",null,957,"",{"$f":"IF(R961=R960,\"\",IF(E961<>\"\",CONCATENATE(B961,A961,DIGITADOR!$M$1,C961),\"\"))","v":""},null,{"$f":"IF(N961=\"\",\"\",INDEX(referentes!S:T,MATCH(N961,referentes!T:T,0),1))","v":""},null,{"$f":"IF(P961=\"\",\"\",INDEX(referentes!Y:Z,MATCH(P961,referentes!Z:Z,0),1))","v":""},"","",null,null,null,null,null,{"$f":"IF(X961=\"\",\"\",INDEX(referentes!J:K,MATCH(X961,referentes!J:J,0),2))","v":""},null,null,""]
["30000401000000",null,0,{"$f":"IF(E962<>\"\",CONCATENATE(B962,A962,DIGITADOR!$M$1,C962),\"\")","v":""},null,null,"","","",null,958,"",{"$f":"IF(R962=R961,\"\",IF(E962<>\"\",CONCATENATE(B962,A962,DIGITADOR!$M$1,C962),\"\"))","v":""},null,{"$f":"IF(N962=\"\",\"\",INDEX(referentes!S:T,MATCH(N962,referentes!T:T,0),1))","v":""},null,{"$f":"IF(P962=\"\",\"\",INDEX(referentes!Y:Z,MATCH(P962,referentes!Z:Z,0),1))","v":""},"","",null,null,null,null,null,{"$f":"IF(X962=\"\",\"\",INDEX(referentes!J:K,MATCH(X962,referentes!J:J,0),2))","v":""},null,null,""]
["30000401000000",null,0,{"$f":"IF(E963<>\"\",CONCATENATE(B963,A963,DIGITADOR!$M$1,C963),\"\")","v":""},null,null,"","","",null,959,"",{"$f":"IF(R963=R962,\"\",IF(E963<>\"\",CONCATENATE(B963,A963,DIGITADOR!$M$1,C963),\"\"))","v":""},null,{"$f":"IF(N963=\"\",\"\",INDEX(referentes!S:T,MATCH(N963,referentes!T:T,0),1))","v":""},null,{"$f":"IF(P963=\"\",\"\",INDEX(referentes!Y:Z,MATCH(P963,referentes!Z:Z,0),1))","v":""},"","",null,null,null,null,null,{"$f":"IF(X963=\"\",\"\",INDEX(referentes!J:K,MATCH(X963,referentes!J:J,0),2))","v":""},null,null,""]
["30000401000000",null,0,{"$f":"IF(E964<>\"\",CONCATENATE(B964,A964,DIGITADOR!$M$1,C964),\"\")","v":""},null,null,"","","",null,960,"",{"$f":"IF(R964=R963,\"\",IF(E964<>\"\",CONCATENATE(B964,A964,DIGITADOR!$M$1,C964),\"\"))","v":""},null,{"$f":"IF(N964=\"\",\"\",INDEX(referentes!S:T,MATCH(N964,referentes!T:T,0),1))","v":""},null,{"$f":"IF(P964=\"\",\"\",INDEX(referentes!Y:Z,MATCH(P964,referentes!Z:Z,0),1))","v":""},"","",null,null,null,null,null,{"$f":"IF(X964=\"\",\"\",INDEX(referentes!J:K,MATCH(X964,referentes!J:J,0),2))","v":""},null,null,""]
["30000401000000",null,{"$f":"IF(R965=R964,C964,C964+1)","v":0},{"$f":"IF(E965<>\"\",CONCATENATE(B965,A965,DIGITADOR!$M$1,C965),\"\")","v":""},null,null,"","","",null,961,"",{"$f":"IF(R965=R964,\"\",IF(E965<>\"\",CONCATENATE(B965,A965,DIGITADOR!$M$1,C965),\"\"))","v":""},null,{"$f":"IF(N965=\"\",\"\",INDEX(referentes!S:T,MATCH(N965,referentes!T:T,0),1))","v":""},null,{"$f":"IF(P965=\"\",\"\",INDEX(referentes!Y:Z,MATCH(P965,referentes!Z:Z,0),1))","v":""},"","",null,null,null,null,null,{"$f":"IF(X965=\"\",\"\",INDEX(referentes!J:K,MATCH(X965,referentes!J:J,0),2))","v":""},null,null,""]
["30000401000000",null,0,{"$f":"IF(E966<>\"\",CONCATENATE(B966,A966,DIGITADOR!$M$1,C966),\"\")","v":""},null,null,{"$f":"IF(E966=\"\", \"\", (E966+F966))","v":""},{"$f":"IF(G966<>\"\",MONTH(G966),\"\")","v":""},{"$f":"IF(D966=\"\",\"\",1)","v":""},null,962,{"$f":"IF(E966=\"\",\"\",CONCATENATE(D966,K966))","v":""},{"$f":"IF(R966=R965,\"\",IF(E966<>\"\",CONCATENATE(B966,A966,DIGITADOR!$M$1,C966),\"\"))","v":""},null,{"$f":"IF(N966=\"\",\"\",INDEX(referentes!S:T,MATCH(N966,referentes!T:T,0),1))","v":""},null,{"$f":"IF(P966=\"\",\"\",INDEX(referentes!Y:Z,MATCH(P966,referentes!Z:Z,0),1))","v":""},{"$f":"IF(G966=\"\",\"\",CONCATENATE(G966,O966,Q966))","v":""},{"$f":"IF(E966=\"\",\"\",\"INVEMAR\")","v":""},null,null,null,null,null,{"$f":"IF(X966=\"\",\"\",INDEX(referentes!J:K,MATCH(X966,referentes!J:J,0),2))","v":""},null,null,{"$f":"IF(T966=\"\",\"\",IF(T966=T965,AB965,AA966))","v":""}]
[{"$f":"A966","v":"30000401000000"},null,0,{"$f":"IF(E967<>\"\",CONCATENATE(B967,A967,DIGITADOR!$M$1,C967),\"\")","v":""},null,null,"","","",null,963,"",{"$f":"IF(R967=R966,\"\",IF(E967<>\"\",CONCATENATE(B967,A967,DIGITADOR!$M$1,C967),\"\"))","v":""},null,{"$f":"IF(N967=\"\",\"\",INDEX(referentes!S:T,MATCH(N967,referentes!T:T,0),1))","v":""},null,{"$f":"IF(P967=\"\",\"\",INDEX(referentes!Y:Z,MATCH(P967,referentes!Z:Z,0),1))","v":""},"","",null,null,null,null,null,{"$f":"IF(X967=\"\",\"\",INDEX(referentes!J:K,MATCH(X967,referentes!J:J,0),2))","v":""},null,null,""]
["30000401000000",null,0,{"$f":"IF(E968<>\"\",CONCATENATE(B968,A968,DIGITADOR!$M$1,C968),\"\")","v":""},null,null,"","","",null,964,"",{"$f":"IF(R968=R967,\"\",IF(E968<>\"\",CONCATENATE(B968,A968,DIGITADOR!$M$1,C968),\"\"))","v":""},null,{"$f":"IF(N968=\"\",\"\",INDEX(referentes!S:T,MATCH(N968,referentes!T:T,0),1))","v":""},null,{"$f":"IF(P968=\"\",\"\",INDEX(referentes!Y:Z,MATCH(P968,referentes!Z:Z,0),1))","v":""},"","",null,null,null,null,null,{"$f":"IF(X968=\"\",\"\",INDEX(referentes!J:K,MATCH(X968,referentes!J:J,0),2))","v":""},null,null,""]
["30000401000000",null,0,{"$f":"IF(E969<>\"\",CONCATENATE(B969,A969,DIGITADOR!$M$1,C969),\"\")","v":""},null,null,"","","",null,965,"",{"$f":"IF(R969=R968,\"\",IF(E969<>\"\",CONCATENATE(B969,A969,DIGITADOR!$M$1,C969),\"\"))","v":""},null,{"$f":"IF(N969=\"\",\"\",INDEX(referentes!S:T,MATCH(N969,referentes!T:T,0),1))","v":""},null,{"$f":"IF(P969=\"\",\"\",INDEX(referentes!Y:Z,MATCH(P969,referentes!Z:Z,0),1))","v":""},"","",null,null,null,null,null,{"$f":"IF(X969=\"\",\"\",INDEX(referentes!J:K,MATCH(X969,referentes!J:J,0),2))","v":""},null,null,""]
["30000401000000",null,0,{"$f":"IF(E970<>\"\",CONCATENATE(B970,A970,DIGITADOR!$M$1,C970),\"\")","v":""},null,null,"","","",null,966,"",{"$f":"IF(R970=R969,\"\",IF(E970<>\"\",CONCATENATE(B970,A970,DIGITADOR!$M$1,C970),\"\"))","v":""},null,{"$f":"IF(N970=\"\",\"\",INDEX(referentes!S:T,MATCH(N970,referentes!T:T,0),1))","v":""},null,{"$f":"IF(P970=\"\",\"\",INDEX(referentes!Y:Z,MATCH(P970,referentes!Z:Z,0),1))","v":""},"","",null,null,null,null,null,{"$f":"IF(X970=\"\",\"\",INDEX(referentes!J:K,MATCH(X970,referentes!J:J,0),2))","v":""},null,null,""]
["30000401000000",null,0,{"$f":"IF(E971<>\"\",CONCATENATE(B971,A971,DIGITADOR!$M$1,C971),\"\")","v":""},null,null,"","","",null,967,"",{"$f":"IF(R971=R970,\"\",IF(E971<>\"\",CONCATENATE(B971,A971,DIGITADOR!$M$1,C971),\"\"))","v":""},null,{"$f":"IF(N971=\"\",\"\",INDEX(referentes!S:T,MATCH(N971,referentes!T:T,0),1))","v":""},null,{"$f":"IF(P971=\"\",\"\",INDEX(referentes!Y:Z,MATCH(P971,referentes!Z:Z,0),1))","v":""},"","",null,null,null,null,null,{"$f":"IF(X971=\"\",\"\",INDEX(referentes!J:K,MATCH(X971,referentes!J:J,0),2))","v":""},null,null,""]
["30000401000000",null,0,{"$f":"IF(E972<>\"\",CONCATENATE(B972,A972,DIGITADOR!$M$1,C972),\"\")","v":""},null,null,"","","",null,968,"",{"$f":"IF(R972=R971,\"\",IF(E972<>\"\",CONCATENATE(B972,A972,DIGITADOR!$M$1,C972),\"\"))","v":""},null,{"$f":"IF(N972=\"\",\"\",INDEX(referentes!S:T,MATCH(N972,referentes!T:T,0),1))","v":""},null,{"$f":"IF(P972=\"\",\"\",INDEX(referentes!Y:Z,MATCH(P972,referentes!Z:Z,0),1))","v":""},"","",null,null,null,null,null,{"$f":"IF(X972=\"\",\"\",INDEX(referentes!J:K,MATCH(X972,referentes!J:J,0),2))","v":""},null,null,""]
["30000401000000",null,0,{"$f":"IF(E973<>\"\",CONCATENATE(B973,A973,DIGITADOR!$M$1,C973),\"\")","v":""},null,null,"","","",null,969,"",{"$f":"IF(R973=R972,\"\",IF(E973<>\"\",CONCATENATE(B973,A973,DIGITADOR!$M$1,C973),\"\"))","v":""},null,{"$f":"IF(N973=\"\",\"\",INDEX(referentes!S:T,MATCH(N973,referentes!T:T,0),1))","v":""},null,{"$f":"IF(P973=\"\",\"\",INDEX(referentes!Y:Z,MATCH(P973,referentes!Z:Z,0),1))","v":""},"","",null,null,null,null,null,{"$f":"IF(X973=\"\",\"\",INDEX(referentes!J:K,MATCH(X973,referentes!J:J,0),2))","v":""},null,null,""]
["30000401000000",null,0,{"$f":"IF(E974<>\"\",CONCATENATE(B974,A974,DIGITADOR!$M$1,C974),\"\")","v":""},null,null,"","","",null,970,"",{"$f":"IF(R974=R973,\"\",IF(E974<>\"\",CONCATENATE(B974,A974,DIGITADOR!$M$1,C974),\"\"))","v":""},null,{"$f":"IF(N974=\"\",\"\",INDEX(referentes!S:T,MATCH(N974,referentes!T:T,0),1))","v":""},null,{"$f":"IF(P974=\"\",\"\",INDEX(referentes!Y:Z,MATCH(P974,referentes!Z:Z,0),1))","v":""},"","",null,null,null,null,null,{"$f":"IF(X974=\"\",\"\",INDEX(referentes!J:K,MATCH(X974,referentes!J:J,0),2))","v":""},null,null,""]
["30000401000000",null,0,{"$f":"IF(E975<>\"\",CONCATENATE(B975,A975,DIGITADOR!$M$1,C975),\"\")","v":""},null,null,"","","",null,971,"",{"$f":"IF(R975=R974,\"\",IF(E975<>\"\",CONCATENATE(B975,A975,DIGITADOR!$M$1,C975),\"\"))","v":""},null,{"$f":"IF(N975=\"\",\"\",INDEX(referentes!S:T,MATCH(N975,referentes!T:T,0),1))","v":""},null,{"$f":"IF(P975=\"\",\"\",INDEX(referentes!Y:Z,MATCH(P975,referentes!Z:Z,0),1))","v":""},"","",null,null,null,null,null,{"$f":"IF(X975=\"\",\"\",INDEX(referentes!J:K,MATCH(X975,referentes!J:J,0),2))","v":""},null,null,""]
["30000401000000",null,0,{"$f":"IF(E976<>\"\",CONCATENATE(B976,A976,DIGITADOR!$M$1,C976),\"\")","v":""},null,null,"","","",null,972,"",{"$f":"IF(R976=R975,\"\",IF(E976<>\"\",CONCATENATE(B976,A976,DIGITADOR!$M$1,C976),\"\"))","v":""},null,{"$f":"IF(N976=\"\",\"\",INDEX(referentes!S:T,MATCH(N976,referentes!T:T,0),1))","v":""},null,{"$f":"IF(P976=\"\",\"\",INDEX(referentes!Y:Z,MATCH(P976,referentes!Z:Z,0),1))","v":""},"","",null,null,null,null,null,{"$f":"IF(X976=\"\",\"\",INDEX(referentes!J:K,MATCH(X976,referentes!J:J,0),2))","v":""},null,null,""]
["30000401000000",null,0,{"$f":"IF(E977<>\"\",CONCATENATE(B977,A977,DIGITADOR!$M$1,C977),\"\")","v":""},null,null,"","","",null,973,"",{"$f":"IF(R977=R976,\"\",IF(E977<>\"\",CONCATENATE(B977,A977,DIGITADOR!$M$1,C977),\"\"))","v":""},null,{"$f":"IF(N977=\"\",\"\",INDEX(referentes!S:T,MATCH(N977,referentes!T:T,0),1))","v":""},null,{"$f":"IF(P977=\"\",\"\",INDEX(referentes!Y:Z,MATCH(P977,referentes!Z:Z,0),1))","v":""},"","",null,null,null,null,null,{"$f":"IF(X977=\"\",\"\",INDEX(referentes!J:K,MATCH(X977,referentes!J:J,0),2))","v":""},null,null,""]
["30000401000000",null,0,{"$f":"IF(E978<>\"\",CONCATENATE(B978,A978,DIGITADOR!$M$1,C978),\"\")","v":""},null,null,"","","",null,974,"",{"$f":"IF(R978=R977,\"\",IF(E978<>\"\",CONCATENATE(B978,A978,DIGITADOR!$M$1,C978),\"\"))","v":""},null,{"$f":"IF(N978=\"\",\"\",INDEX(referentes!S:T,MATCH(N978,referentes!T:T,0),1))","v":""},null,{"$f":"IF(P978=\"\",\"\",INDEX(referentes!Y:Z,MATCH(P978,referentes!Z:Z,0),1))","v":""},"","",null,null,null,null,null,{"$f":"IF(X978=\"\",\"\",INDEX(referentes!J:K,MATCH(X978,referentes!J:J,0),2))","v":""},null,null,""]
["30000401000000",null,0,{"$f":"IF(E979<>\"\",CONCATENATE(B979,A979,DIGITADOR!$M$1,C979),\"\")","v":""},null,null,"","","",null,975,"",{"$f":"IF(R979=R978,\"\",IF(E979<>\"\",CONCATENATE(B979,A979,DIGITADOR!$M$1,C979),\"\"))","v":""},null,{"$f":"IF(N979=\"\",\"\",INDEX(referentes!S:T,MATCH(N979,referentes!T:T,0),1))","v":""},null,{"$f":"IF(P979=\"\",\"\",INDEX(referentes!Y:Z,MATCH(P979,referentes!Z:Z,0),1))","v":""},"","",null,null,null,null,null,{"$f":"IF(X979=\"\",\"\",INDEX(referentes!J:K,MATCH(X979,referentes!J:J,0),2))","v":""},null,null,""]
["30000401000000",null,0,{"$f":"IF(E980<>\"\",CONCATENATE(B980,A980,DIGITADOR!$M$1,C980),\"\")","v":""},null,null,"","","",null,976,"",{"$f":"IF(R980=R979,\"\",IF(E980<>\"\",CONCATENATE(B980,A980,DIGITADOR!$M$1,C980),\"\"))","v":""},null,{"$f":"IF(N980=\"\",\"\",INDEX(referentes!S:T,MATCH(N980,referentes!T:T,0),1))","v":""},null,{"$f":"IF(P980=\"\",\"\",INDEX(referentes!Y:Z,MATCH(P980,referentes!Z:Z,0),1))","v":""},"","",null,null,null,null,null,{"$f":"IF(X980=\"\",\"\",INDEX(referentes!J:K,MATCH(X980,referentes!J:J,0),2))","v":""},null,null,""]
["30000401000000",null,0,{"$f":"IF(E981<>\"\",CONCATENATE(B981,A981,DIGITADOR!$M$1,C981),\"\")","v":""},null,null,"","","",null,977,"",{"$f":"IF(R981=R980,\"\",IF(E981<>\"\",CONCATENATE(B981,A981,DIGITADOR!$M$1,C981),\"\"))","v":""},null,{"$f":"IF(N981=\"\",\"\",INDEX(referentes!S:T,MATCH(N981,referentes!T:T,0),1))","v":""},null,{"$f":"IF(P981=\"\",\"\",INDEX(referentes!Y:Z,MATCH(P981,referentes!Z:Z,0),1))","v":""},"","",null,null,null,null,null,{"$f":"IF(X981=\"\",\"\",INDEX(referentes!J:K,MATCH(X981,referentes!J:J,0),2))","v":""},null,null,""]
["30000401000000",null,0,{"$f":"IF(E982<>\"\",CONCATENATE(B982,A982,DIGITADOR!$M$1,C982),\"\")","v":""},null,null,"","","",null,978,"",{"$f":"IF(R982=R981,\"\",IF(E982<>\"\",CONCATENATE(B982,A982,DIGITADOR!$M$1,C982),\"\"))","v":""},null,{"$f":"IF(N982=\"\",\"\",INDEX(referentes!S:T,MATCH(N982,referentes!T:T,0),1))","v":""},null,{"$f":"IF(P982=\"\",\"\",INDEX(referentes!Y:Z,MATCH(P982,referentes!Z:Z,0),1))","v":""},"","",null,null,null,null,null,{"$f":"IF(X982=\"\",\"\",INDEX(referentes!J:K,MATCH(X982,referentes!J:J,0),2))","v":""},null,null,""]
["30000401000000",null,0,{"$f":"IF(E983<>\"\",CONCATENATE(B983,A983,DIGITADOR!$M$1,C983),\"\")","v":""},null,null,"","","",null,979,"",{"$f":"IF(R983=R982,\"\",IF(E983<>\"\",CONCATENATE(B983,A983,DIGITADOR!$M$1,C983),\"\"))","v":""},null,{"$f":"IF(N983=\"\",\"\",INDEX(referentes!S:T,MATCH(N983,referentes!T:T,0),1))","v":""},null,{"$f":"IF(P983=\"\",\"\",INDEX(referentes!Y:Z,MATCH(P983,referentes!Z:Z,0),1))","v":""},"","",null,null,null,null,null,{"$f":"IF(X983=\"\",\"\",INDEX(referentes!J:K,MATCH(X983,referentes!J:J,0),2))","v":""},null,null,""]
["30000401000000",null,0,{"$f":"IF(E984<>\"\",CONCATENATE(B984,A984,DIGITADOR!$M$1,C984),\"\")","v":""},null,null,"","","",null,980,"",{"$f":"IF(R984=R983,\"\",IF(E984<>\"\",CONCATENATE(B984,A984,DIGITADOR!$M$1,C984),\"\"))","v":""},null,{"$f":"IF(N984=\"\",\"\",INDEX(referentes!S:T,MATCH(N984,referentes!T:T,0),1))","v":""},null,{"$f":"IF(P984=\"\",\"\",INDEX(referentes!Y:Z,MATCH(P984,referentes!Z:Z,0),1))","v":""},"","",null,null,null,null,null,{"$f":"IF(X984=\"\",\"\",INDEX(referentes!J:K,MATCH(X984,referentes!J:J,0),2))","v":""},null,null,""]
["30000401000000",null,0,{"$f":"IF(E985<>\"\",CONCATENATE(B985,A985,DIGITADOR!$M$1,C985),\"\")","v":""},null,null,"","","",null,981,"",{"$f":"IF(R985=R984,\"\",IF(E985<>\"\",CONCATENATE(B985,A985,DIGITADOR!$M$1,C985),\"\"))","v":""},null,{"$f":"IF(N985=\"\",\"\",INDEX(referentes!S:T,MATCH(N985,referentes!T:T,0),1))","v":""},null,{"$f":"IF(P985=\"\",\"\",INDEX(referentes!Y:Z,MATCH(P985,referentes!Z:Z,0),1))","v":""},"","",null,null,null,null,null,{"$f":"IF(X985=\"\",\"\",INDEX(referentes!J:K,MATCH(X985,referentes!J:J,0),2))","v":""},null,null,""]
["30000401000000",null,0,{"$f":"IF(E986<>\"\",CONCATENATE(B986,A986,DIGITADOR!$M$1,C986),\"\")","v":""},null,null,"","","",null,982,"",{"$f":"IF(R986=R985,\"\",IF(E986<>\"\",CONCATENATE(B986,A986,DIGITADOR!$M$1,C986),\"\"))","v":""},null,{"$f":"IF(N986=\"\",\"\",INDEX(referentes!S:T,MATCH(N986,referentes!T:T,0),1))","v":""},null,{"$f":"IF(P986=\"\",\"\",INDEX(referentes!Y:Z,MATCH(P986,referentes!Z:Z,0),1))","v":""},"","",null,null,null,null,null,{"$f":"IF(X986=\"\",\"\",INDEX(referentes!J:K,MATCH(X986,referentes!J:J,0),2))","v":""},null,null,""]
["30000401000000",null,0,{"$f":"IF(E987<>\"\",CONCATENATE(B987,A987,DIGITADOR!$M$1,C987),\"\")","v":""},null,null,"","","",null,983,"",{"$f":"IF(R987=R986,\"\",IF(E987<>\"\",CONCATENATE(B987,A987,DIGITADOR!$M$1,C987),\"\"))","v":""},null,{"$f":"IF(N987=\"\",\"\",INDEX(referentes!S:T,MATCH(N987,referentes!T:T,0),1))","v":""},null,{"$f":"IF(P987=\"\",\"\",INDEX(referentes!Y:Z,MATCH(P987,referentes!Z:Z,0),1))","v":""},"","",null,null,null,null,null,{"$f":"IF(X987=\"\",\"\",INDEX(referentes!J:K,MATCH(X987,referentes!J:J,0),2))","v":""},null,null,""]
["30000401000000",null,0,{"$f":"IF(E988<>\"\",CONCATENATE(B988,A988,DIGITADOR!$M$1,C988),\"\")","v":""},null,null,"","","",null,984,"",{"$f":"IF(R988=R987,\"\",IF(E988<>\"\",CONCATENATE(B988,A988,DIGITADOR!$M$1,C988),\"\"))","v":""},null,{"$f":"IF(N988=\"\",\"\",INDEX(referentes!S:T,MATCH(N988,referentes!T:T,0),1))","v":""},null,{"$f":"IF(P988=\"\",\"\",INDEX(referentes!Y:Z,MATCH(P988,referentes!Z:Z,0),1))","v":""},"","",null,null,null,null,null,{"$f":"IF(X988=\"\",\"\",INDEX(referentes!J:K,MATCH(X988,referentes!J:J,0),2))","v":""},null,null,""]
["30000401000000",null,0,{"$f":"IF(E989<>\"\",CONCATENATE(B989,A989,DIGITADOR!$M$1,C989),\"\")","v":""},null,null,"","","",null,985,"",{"$f":"IF(R989=R988,\"\",IF(E989<>\"\",CONCATENATE(B989,A989,DIGITADOR!$M$1,C989),\"\"))","v":""},null,{"$f":"IF(N989=\"\",\"\",INDEX(referentes!S:T,MATCH(N989,referentes!T:T,0),1))","v":""},null,{"$f":"IF(P989=\"\",\"\",INDEX(referentes!Y:Z,MATCH(P989,referentes!Z:Z,0),1))","v":""},"","",null,null,null,null,null,{"$f":"IF(X989=\"\",\"\",INDEX(referentes!J:K,MATCH(X989,referentes!J:J,0),2))","v":""},null,null,""]
["30000401000000",null,0,{"$f":"IF(E990<>\"\",CONCATENATE(B990,A990,DIGITADOR!$M$1,C990),\"\")","v":""},null,null,"","","",null,986,"",{"$f":"IF(R990=R989,\"\",IF(E990<>\"\",CONCATENATE(B990,A990,DIGITADOR!$M$1,C990),\"\"))","v":""},null,{"$f":"IF(N990=\"\",\"\",INDEX(referentes!S:T,MATCH(N990,referentes!T:T,0),1))","v":""},null,{"$f":"IF(P990=\"\",\"\",INDEX(referentes!Y:Z,MATCH(P990,referentes!Z:Z,0),1))","v":""},"","",null,null,null,null,null,{"$f":"IF(X990=\"\",\"\",INDEX(referentes!J:K,MATCH(X990,referentes!J:J,0),2))","v":""},null,null,""]
["30000401000000",null,0,{"$f":"IF(E991<>\"\",CONCATENATE(B991,A991,DIGITADOR!$M$1,C991),\"\")","v":""},null,null,"","","",null,987,"",{"$f":"IF(R991=R990,\"\",IF(E991<>\"\",CONCATENATE(B991,A991,DIGITADOR!$M$1,C991),\"\"))","v":""},null,{"$f":"IF(N991=\"\",\"\",INDEX(referentes!S:T,MATCH(N991,referentes!T:T,0),1))","v":""},null,{"$f":"IF(P991=\"\",\"\",INDEX(referentes!Y:Z,MATCH(P991,referentes!Z:Z,0),1))","v":""},"","",null,null,null,null,null,{"$f":"IF(X991=\"\",\"\",INDEX(referentes!J:K,MATCH(X991,referentes!J:J,0),2))","v":""},null,null,""]
["30000401000000",null,0,{"$f":"IF(E992<>\"\",CONCATENATE(B992,A992,DIGITADOR!$M$1,C992),\"\")","v":""},null,null,"","","",null,988,"",{"$f":"IF(R992=R991,\"\",IF(E992<>\"\",CONCATENATE(B992,A992,DIGITADOR!$M$1,C992),\"\"))","v":""},null,{"$f":"IF(N992=\"\",\"\",INDEX(referentes!S:T,MATCH(N992,referentes!T:T,0),1))","v":""},null,{"$f":"IF(P992=\"\",\"\",INDEX(referentes!Y:Z,MATCH(P992,referentes!Z:Z,0),1))","v":""},"","",null,null,null,null,null,{"$f":"IF(X992=\"\",\"\",INDEX(referentes!J:K,MATCH(X992,referentes!J:J,0),2))","v":""},null,null,""]
["30000401000000",null,0,{"$f":"IF(E993<>\"\",CONCATENATE(B993,A993,DIGITADOR!$M$1,C993),\"\")","v":""},null,null,"","","",null,989,"",{"$f":"IF(R993=R992,\"\",IF(E993<>\"\",CONCATENATE(B993,A993,DIGITADOR!$M$1,C993),\"\"))","v":""},null,{"$f":"IF(N993=\"\",\"\",INDEX(referentes!S:T,MATCH(N993,referentes!T:T,0),1))","v":""},null,{"$f":"IF(P993=\"\",\"\",INDEX(referentes!Y:Z,MATCH(P993,referentes!Z:Z,0),1))","v":""},"","",null,null,null,null,null,{"$f":"IF(X993=\"\",\"\",INDEX(referentes!J:K,MATCH(X993,referentes!J:J,0),2))","v":""},null,null,""]
["30000401000000",null,0,{"$f":"IF(E994<>\"\",CONCATENATE(B994,A994,DIGITADOR!$M$1,C994),\"\")","v":""},null,null,"","","",null,990,"",{"$f":"IF(R994=R993,\"\",IF(E994<>\"\",CONCATENATE(B994,A994,DIGITADOR!$M$1,C994),\"\"))","v":""},null,{"$f":"IF(N994=\"\",\"\",INDEX(referentes!S:T,MATCH(N994,referentes!T:T,0),1))","v":""},null,{"$f":"IF(P994=\"\",\"\",INDEX(referentes!Y:Z,MATCH(P994,referentes!Z:Z,0),1))","v":""},"","",null,null,null,null,null,{"$f":"IF(X994=\"\",\"\",INDEX(referentes!J:K,MATCH(X994,referentes!J:J,0),2))","v":""},null,null,""]
["30000401000000",null,0,{"$f":"IF(E995<>\"\",CONCATENATE(B995,A995,DIGITADOR!$M$1,C995),\"\")","v":""},null,null,"","","",null,991,"",{"$f":"IF(R995=R994,\"\",IF(E995<>\"\",CONCATENATE(B995,A995,DIGITADOR!$M$1,C995),\"\"))","v":""},null,{"$f":"IF(N995=\"\",\"\",INDEX(referentes!S:T,MATCH(N995,referentes!T:T,0),1))","v":""},null,{"$f":"IF(P995=\"\",\"\",INDEX(referentes!Y:Z,MATCH(P995,referentes!Z:Z,0),1))","v":""},"","",null,null,null,null,null,{"$f":"IF(X995=\"\",\"\",INDEX(referentes!J:K,MATCH(X995,referentes!J:J,0),2))","v":""},null,null,""]
["30000401000000",null,0,{"$f":"IF(E996<>\"\",CONCATENATE(B996,A996,DIGITADOR!$M$1,C996),\"\")","v":""},null,null,"","","",null,992,"",{"$f":"IF(R996=R995,\"\",IF(E996<>\"\",CONCATENATE(B996,A996,DIGITADOR!$M$1,C996),\"\"))","v":""},null,{"$f":"IF(N996=\"\",\"\",INDEX(referentes!S:T,MATCH(N996,referentes!T:T,0),1))","v":""},null,{"$f":"IF(P996=\"\",\"\",INDEX(referentes!Y:Z,MATCH(P996,referentes!Z:Z,0),1))","v":""},"","",null,null,null,null,null,{"$f":"IF(X996=\"\",\"\",INDEX(referentes!J:K,MATCH(X996,referentes!J:J,0),2))","v":""},null,null,""]
["30000401000000",null,0,{"$f":"IF(E997<>\"\",CONCATENATE(B997,A997,DIGITADOR!$M$1,C997),\"\")","v":""},null,null,"","","",null,993,"",{"$f":"IF(R997=R996,\"\",IF(E997<>\"\",CONCATENATE(B997,A997,DIGITADOR!$M$1,C997),\"\"))","v":""},null,{"$f":"IF(N997=\"\",\"\",INDEX(referentes!S:T,MATCH(N997,referentes!T:T,0),1))","v":""},null,{"$f":"IF(P997=\"\",\"\",INDEX(referentes!Y:Z,MATCH(P997,referentes!Z:Z,0),1))","v":""},"","",null,null,null,null,null,{"$f":"IF(X997=\"\",\"\",INDEX(referentes!J:K,MATCH(X997,referentes!J:J,0),2))","v":""},null,null,""]
["30000401000000",null,0,{"$f":"IF(E998<>\"\",CONCATENATE(B998,A998,DIGITADOR!$M$1,C998),\"\")","v":""},null,null,"","","",null,994,"",{"$f":"IF(R998=R997,\"\",IF(E998<>\"\",CONCATENATE(B998,A998,DIGITADOR!$M$1,C998),\"\"))","v":""},null,{"$f":"IF(N998=\"\",\"\",INDEX(referentes!S:T,MATCH(N998,referentes!T:T,0),1))","v":""},null,{"$f":"IF(P998=\"\",\"\",INDEX(referentes!Y:Z,MATCH(P998,referentes!Z:Z,0),1))","v":""},"","",null,null,null,null,null,{"$f":"IF(X998=\"\",\"\",INDEX(referentes!J:K,MATCH(X998,referentes!J:J,0),2))","v":""},null,null,""]
["30000401000000",null,0,{"$f":"IF(E999<>\"\",CONCATENATE(B999,A999,DIGITADOR!$M$1,C999),\"\")","v":""},null,null,"","","",null,995,"",{"$f":"IF(R999=R998,\"\",IF(E999<>\"\",CONCATENATE(B999,A999,DIGITADOR!$M$1,C999),\"\"))","v":""},null,{"$f":"IF(N999=\"\",\"\",INDEX(referentes!S:T,MATCH(N999,referentes!T:T,0),1))","v":""},null,{"$f":"IF(P999=\"\",\"\",INDEX(referentes!Y:Z,MATCH(P999,referentes!Z:Z,0),1))","v":""},"","",null,null,null,null,null,{"$f":"IF(X999=\"\",\"\",INDEX(referentes!J:K,MATCH(X999,referentes!J:J,0),2))","v":""},null,null,""]
["30000401000000",null,0,{"$f":"IF(E1000<>\"\",CONCATENATE(B1000,A1000,DIGITADOR!$M$1,C1000),\"\")","v":""},null,null,"","","",null,996,"",{"$f":"IF(R1000=R999,\"\",IF(E1000<>\"\",CONCATENATE(B1000,A1000,DIGITADOR!$M$1,C1000),\"\"))","v":""},null,{"$f":"IF(N1000=\"\",\"\",INDEX(referentes!S:T,MATCH(N1000,referentes!T:T,0),1))","v":""},null,{"$f":"IF(P1000=\"\",\"\",INDEX(referentes!Y:Z,MATCH(P1000,referentes!Z:Z,0),1))","v":""},"","",null,null,null,null,null,{"$f":"IF(X1000=\"\",\"\",INDEX(referentes!J:K,MATCH(X1000,referentes!J:J,0),2))","v":""},null,null,""]
["30000401000000",null,0,{"$f":"IF(E1001<>\"\",CONCATENATE(B1001,A1001,DIGITADOR!$M$1,C1001),\"\")","v":""},null,null,"","","",null,997,"",{"$f":"IF(R1001=R1000,\"\",IF(E1001<>\"\",CONCATENATE(B1001,A1001,DIGITADOR!$M$1,C1001),\"\"))","v":""},null,{"$f":"IF(N1001=\"\",\"\",INDEX(referentes!S:T,MATCH(N1001,referentes!T:T,0),1))","v":""},null,{"$f":"IF(P1001=\"\",\"\",INDEX(referentes!Y:Z,MATCH(P1001,referentes!Z:Z,0),1))","v":""},"","",null,null,null,null,null,{"$f":"IF(X1001=\"\",\"\",INDEX(referentes!J:K,MATCH(X1001,referentes!J:J,0),2))","v":""},null,null,""]
["30000401000000",null,0,{"$f":"IF(E1002<>\"\",CONCATENATE(B1002,A1002,DIGITADOR!$M$1,C1002),\"\")","v":""},null,null,"","","",null,998,"",{"$f":"IF(R1002=R1001,\"\",IF(E1002<>\"\",CONCATENATE(B1002,A1002,DIGITADOR!$M$1,C1002),\"\"))","v":""},null,{"$f":"IF(N1002=\"\",\"\",INDEX(referentes!S:T,MATCH(N1002,referentes!T:T,0),1))","v":""},null,{"$f":"IF(P1002=\"\",\"\",INDEX(referentes!Y:Z,MATCH(P1002,referentes!Z:Z,0),1))","v":""},"","",null,null,null,null,null,{"$f":"IF(X1002=\"\",\"\",INDEX(referentes!J:K,MATCH(X1002,referentes!J:J,0),2))","v":""},null,null,""]
["30000401000000",null,0,{"$f":"IF(E1003<>\"\",CONCATENATE(B1003,A1003,DIGITADOR!$M$1,C1003),\"\")","v":""},null,null,"","","",null,999,"",{"$f":"IF(R1003=R1002,\"\",IF(E1003<>\"\",CONCATENATE(B1003,A1003,DIGITADOR!$M$1,C1003),\"\"))","v":""},null,{"$f":"IF(N1003=\"\",\"\",INDEX(referentes!S:T,MATCH(N1003,referentes!T:T,0),1))","v":""},null,{"$f":"IF(P1003=\"\",\"\",INDEX(referentes!Y:Z,MATCH(P1003,referentes!Z:Z,0),1))","v":""},"","",null,null,null,null,null,{"$f":"IF(X1003=\"\",\"\",INDEX(referentes!J:K,MATCH(X1003,referentes!J:J,0),2))","v":""},null,null,""]
["30000401000000",null,0,{"$f":"IF(E1004<>\"\",CONCATENATE(B1004,A1004,DIGITADOR!$M$1,C1004),\"\")","v":""},null,null,"","","",null,1000,"",{"$f":"IF(R1004=R1003,\"\",IF(E1004<>\"\",CONCATENATE(B1004,A1004,DIGITADOR!$M$1,C1004),\"\"))","v":""},null,{"$f":"IF(N1004=\"\",\"\",INDEX(referentes!S:T,MATCH(N1004,referentes!T:T,0),1))","v":""},null,{"$f":"IF(P1004=\"\",\"\",INDEX(referentes!Y:Z,MATCH(P1004,referentes!Z:Z,0),1))","v":""},"","",null,null,null,null,null,{"$f":"IF(X1004=\"\",\"\",INDEX(referentes!J:K,MATCH(X1004,referentes!J:J,0),2))","v":""},null,null,""]
["30000401000000",null,0,{"$f":"IF(E1005<>\"\",CONCATENATE(B1005,A1005,DIGITADOR!$M$1,C1005),\"\")","v":""},null,null,"","","",null,1001,"",{"$f":"IF(R1005=R1004,\"\",IF(E1005<>\"\",CONCATENATE(B1005,A1005,DIGITADOR!$M$1,C1005),\"\"))","v":""},null,{"$f":"IF(N1005=\"\",\"\",INDEX(referentes!S:T,MATCH(N1005,referentes!T:T,0),1))","v":""},null,{"$f":"IF(P1005=\"\",\"\",INDEX(referentes!Y:Z,MATCH(P1005,referentes!Z:Z,0),1))","v":""},"","",null,null,null,null,null,{"$f":"IF(X1005=\"\",\"\",INDEX(referentes!J:K,MATCH(X1005,referentes!J:J,0),2))","v":""},null,null,""]
["30000401000000",null,0,{"$f":"IF(E1006<>\"\",CONCATENATE(B1006,A1006,DIGITADOR!$M$1,C1006),\"\")","v":""},null,null,"","","",null,1002,"",{"$f":"IF(R1006=R1005,\"\",IF(E1006<>\"\",CONCATENATE(B1006,A1006,DIGITADOR!$M$1,C1006),\"\"))","v":""},null,{"$f":"IF(N1006=\"\",\"\",INDEX(referentes!S:T,MATCH(N1006,referentes!T:T,0),1))","v":""},null,{"$f":"IF(P1006=\"\",\"\",INDEX(referentes!Y:Z,MATCH(P1006,referentes!Z:Z,0),1))","v":""},"","",null,null,null,null,null,{"$f":"IF(X1006=\"\",\"\",INDEX(referentes!J:K,MATCH(X1006,referentes!J:J,0),2))","v":""},null,null,""]
["30000401000000",null,0,{"$f":"IF(E1007<>\"\",CONCATENATE(B1007,A1007,DIGITADOR!$M$1,C1007),\"\")","v":""},null,null,"","","",null,1003,"",{"$f":"IF(R1007=R1006,\"\",IF(E1007<>\"\",CONCATENATE(B1007,A1007,DIGITADOR!$M$1,C1007),\"\"))","v":""},null,{"$f":"IF(N1007=\"\",\"\",INDEX(referentes!S:T,MATCH(N1007,referentes!T:T,0),1))","v":""},null,{"$f":"IF(P1007=\"\",\"\",INDEX(referentes!Y:Z,MATCH(P1007,referentes!Z:Z,0),1))","v":""},"","",null,null,null,null,null,{"$f":"IF(X1007=\"\",\"\",INDEX(referentes!J:K,MATCH(X1007,referentes!J:J,0),2))","v":""},null,null,""]
["30000401000000",null,0,{"$f":"IF(E1008<>\"\",CONCATENATE(B1008,A1008,DIGITADOR!$M$1,C1008),\"\")","v":""},null,null,"","","",null,1004,"",{"$f":"IF(R1008=R1007,\"\",IF(E1008<>\"\",CONCATENATE(B1008,A1008,DIGITADOR!$M$1,C1008),\"\"))","v":""},null,{"$f":"IF(N1008=\"\",\"\",INDEX(referentes!S:T,MATCH(N1008,referentes!T:T,0),1))","v":""},null,{"$f":"IF(P1008=\"\",\"\",INDEX(referentes!Y:Z,MATCH(P1008,referentes!Z:Z,0),1))","v":""},"","",null,null,null,null,null,{"$f":"IF(X1008=\"\",\"\",INDEX(referentes!J:K,MATCH(X1008,referentes!J:J,0),2))","v":""},null,null,""]
["30000401000000",null,0,{"$f":"IF(E1009<>\"\",CONCATENATE(B1009,A1009,DIGITADOR!$M$1,C1009),\"\")","v":""},null,null,"","","",null,1005,"",{"$f":"IF(R1009=R1008,\"\",IF(E1009<>\"\",CONCATENATE(B1009,A1009,DIGITADOR!$M$1,C1009),\"\"))","v":""},null,{"$f":"IF(N1009=\"\",\"\",INDEX(referentes!S:T,MATCH(N1009,referentes!T:T,0),1))","v":""},null,{"$f":"IF(P1009=\"\",\"\",INDEX(referentes!Y:Z,MATCH(P1009,referentes!Z:Z,0),1))","v":""},"","",null,null,null,null,null,{"$f":"IF(X1009=\"\",\"\",INDEX(referentes!J:K,MATCH(X1009,referentes!J:J,0),2))","v":""},null,null,""]
["30000401000000",null,0,{"$f":"IF(E1010<>\"\",CONCATENATE(B1010,A1010,DIGITADOR!$M$1,C1010),\"\")","v":""},null,null,"","","",null,1006,"",{"$f":"IF(R1010=R1009,\"\",IF(E1010<>\"\",CONCATENATE(B1010,A1010,DIGITADOR!$M$1,C1010),\"\"))","v":""},null,{"$f":"IF(N1010=\"\",\"\",INDEX(referentes!S:T,MATCH(N1010,referentes!T:T,0),1))","v":""},null,{"$f":"IF(P1010=\"\",\"\",INDEX(referentes!Y:Z,MATCH(P1010,referentes!Z:Z,0),1))","v":""},"","",null,null,null,null,null,{"$f":"IF(X1010=\"\",\"\",INDEX(referentes!J:K,MATCH(X1010,referentes!J:J,0),2))","v":""},null,null,""]
["30000401000000",null,0,{"$f":"IF(E1011<>\"\",CONCATENATE(B1011,A1011,DIGITADOR!$M$1,C1011),\"\")","v":""},null,null,"","","",null,1007,"",{"$f":"IF(R1011=R1010,\"\",IF(E1011<>\"\",CONCATENATE(B1011,A1011,DIGITADOR!$M$1,C1011),\"\"))","v":""},null,{"$f":"IF(N1011=\"\",\"\",INDEX(referentes!S:T,MATCH(N1011,referentes!T:T,0),1))","v":""},null,{"$f":"IF(P1011=\"\",\"\",INDEX(referentes!Y:Z,MATCH(P1011,referentes!Z:Z,0),1))","v":""},"","",null,null,null,null,null,{"$f":"IF(X1011=\"\",\"\",INDEX(referentes!J:K,MATCH(X1011,referentes!J:J,0),2))","v":""},null,null,""]
["30000401000000",null,0,{"$f":"IF(E1012<>\"\",CONCATENATE(B1012,A1012,DIGITADOR!$M$1,C1012),\"\")","v":""},null,null,"","","",null,1008,"",{"$f":"IF(R1012=R1011,\"\",IF(E1012<>\"\",CONCATENATE(B1012,A1012,DIGITADOR!$M$1,C1012),\"\"))","v":""},null,{"$f":"IF(N1012=\"\",\"\",INDEX(referentes!S:T,MATCH(N1012,referentes!T:T,0),1))","v":""},null,{"$f":"IF(P1012=\"\",\"\",INDEX(referentes!Y:Z,MATCH(P1012,referentes!Z:Z,0),1))","v":""},"","",null,null,null,null,null,{"$f":"IF(X1012=\"\",\"\",INDEX(referentes!J:K,MATCH(X1012,referentes!J:J,0),2))","v":""},null,null,""]
["30000401000000",null,0,{"$f":"IF(E1013<>\"\",CONCATENATE(B1013,A1013,DIGITADOR!$M$1,C1013),\"\")","v":""},null,null,"","","",null,1009,"",{"$f":"IF(R1013=R1012,\"\",IF(E1013<>\"\",CONCATENATE(B1013,A1013,DIGITADOR!$M$1,C1013),\"\"))","v":""},null,{"$f":"IF(N1013=\"\",\"\",INDEX(referentes!S:T,MATCH(N1013,referentes!T:T,0),1))","v":""},null,{"$f":"IF(P1013=\"\",\"\",INDEX(referentes!Y:Z,MATCH(P1013,referentes!Z:Z,0),1))","v":""},"","",null,null,null,null,null,{"$f":"IF(X1013=\"\",\"\",INDEX(referentes!J:K,MATCH(X1013,referentes!J:J,0),2))","v":""},null,null,""]
["30000401000000",null,0,{"$f":"IF(E1014<>\"\",CONCATENATE(B1014,A1014,DIGITADOR!$M$1,C1014),\"\")","v":""},null,null,"","","",null,1010,"",{"$f":"IF(R1014=R1013,\"\",IF(E1014<>\"\",CONCATENATE(B1014,A1014,DIGITADOR!$M$1,C1014),\"\"))","v":""},null,{"$f":"IF(N1014=\"\",\"\",INDEX(referentes!S:T,MATCH(N1014,referentes!T:T,0),1))","v":""},null,{"$f":"IF(P1014=\"\",\"\",INDEX(referentes!Y:Z,MATCH(P1014,referentes!Z:Z,0),1))","v":""},"","",null,null,null,null,null,{"$f":"IF(X1014=\"\",\"\",INDEX(referentes!J:K,MATCH(X1014,referentes!J:J,0),2))","v":""},null,null,""]
["30000401000000",null,0,{"$f":"IF(E1015<>\"\",CONCATENATE(B1015,A1015,DIGITADOR!$M$1,C1015),\"\")","v":""},null,null,"","","",null,1011,"",{"$f":"IF(R1015=R1014,\"\",IF(E1015<>\"\",CONCATENATE(B1015,A1015,DIGITADOR!$M$1,C1015),\"\"))","v":""},null,{"$f":"IF(N1015=\"\",\"\",INDEX(referentes!S:T,MATCH(N1015,referentes!T:T,0),1))","v":""},null,{"$f":"IF(P1015=\"\",\"\",INDEX(referentes!Y:Z,MATCH(P1015,referentes!Z:Z,0),1))","v":""},"","",null,null,null,null,null,{"$f":"IF(X1015=\"\",\"\",INDEX(referentes!J:K,MATCH(X1015,referentes!J:J,0),2))","v":""},null,null,""]
["30000401000000",null,0,{"$f":"IF(E1016<>\"\",CONCATENATE(B1016,A1016,DIGITADOR!$M$1,C1016),\"\")","v":""},null,null,"","","",null,1012,"",{"$f":"IF(R1016=R1015,\"\",IF(E1016<>\"\",CONCATENATE(B1016,A1016,DIGITADOR!$M$1,C1016),\"\"))","v":""},null,{"$f":"IF(N1016=\"\",\"\",INDEX(referentes!S:T,MATCH(N1016,referentes!T:T,0),1))","v":""},null,{"$f":"IF(P1016=\"\",\"\",INDEX(referentes!Y:Z,MATCH(P1016,referentes!Z:Z,0),1))","v":""},"","",null,null,null,null,null,{"$f":"IF(X1016=\"\",\"\",INDEX(referentes!J:K,MATCH(X1016,referentes!J:J,0),2))","v":""},null,null,""]
["30000401000000",null,0,{"$f":"IF(E1017<>\"\",CONCATENATE(B1017,A1017,DIGITADOR!$M$1,C1017),\"\")","v":""},null,null,"","","",null,1013,"",{"$f":"IF(R1017=R1016,\"\",IF(E1017<>\"\",CONCATENATE(B1017,A1017,DIGITADOR!$M$1,C1017),\"\"))","v":""},null,{"$f":"IF(N1017=\"\",\"\",INDEX(referentes!S:T,MATCH(N1017,referentes!T:T,0),1))","v":""},null,{"$f":"IF(P1017=\"\",\"\",INDEX(referentes!Y:Z,MATCH(P1017,referentes!Z:Z,0),1))","v":""},"","",null,null,null,null,null,{"$f":"IF(X1017=\"\",\"\",INDEX(referentes!J:K,MATCH(X1017,referentes!J:J,0),2))","v":""},null,null,""]
["30000401000000",null,0,{"$f":"IF(E1018<>\"\",CONCATENATE(B1018,A1018,DIGITADOR!$M$1,C1018),\"\")","v":""},null,null,"","","",null,1014,"",{"$f":"IF(R1018=R1017,\"\",IF(E1018<>\"\",CONCATENATE(B1018,A1018,DIGITADOR!$M$1,C1018),\"\"))","v":""},null,{"$f":"IF(N1018=\"\",\"\",INDEX(referentes!S:T,MATCH(N1018,referentes!T:T,0),1))","v":""},null,{"$f":"IF(P1018=\"\",\"\",INDEX(referentes!Y:Z,MATCH(P1018,referentes!Z:Z,0),1))","v":""},"","",null,null,null,null,null,{"$f":"IF(X1018=\"\",\"\",INDEX(referentes!J:K,MATCH(X1018,referentes!J:J,0),2))","v":""},null,null,""]
["30000401000000",null,0,{"$f":"IF(E1019<>\"\",CONCATENATE(B1019,A1019,DIGITADOR!$M$1,C1019),\"\")","v":""},null,null,"","","",null,1015,"",{"$f":"IF(R1019=R1018,\"\",IF(E1019<>\"\",CONCATENATE(B1019,A1019,DIGITADOR!$M$1,C1019),\"\"))","v":""},null,{"$f":"IF(N1019=\"\",\"\",INDEX(referentes!S:T,MATCH(N1019,referentes!T:T,0),1))","v":""},null,{"$f":"IF(P1019=\"\",\"\",INDEX(referentes!Y:Z,MATCH(P1019,referentes!Z:Z,0),1))","v":""},"","",null,null,null,null,null,{"$f":"IF(X1019=\"\",\"\",INDEX(referentes!J:K,MATCH(X1019,referentes!J:J,0),2))","v":""},null,null,""]
["30000401000000",null,0,{"$f":"IF(E1020<>\"\",CONCATENATE(B1020,A1020,DIGITADOR!$M$1,C1020),\"\")","v":""},null,null,"","","",null,1016,"",{"$f":"IF(R1020=R1019,\"\",IF(E1020<>\"\",CONCATENATE(B1020,A1020,DIGITADOR!$M$1,C1020),\"\"))","v":""},null,{"$f":"IF(N1020=\"\",\"\",INDEX(referentes!S:T,MATCH(N1020,referentes!T:T,0),1))","v":""},null,{"$f":"IF(P1020=\"\",\"\",INDEX(referentes!Y:Z,MATCH(P1020,referentes!Z:Z,0),1))","v":""},"","",null,null,null,null,null,{"$f":"IF(X1020=\"\",\"\",INDEX(referentes!J:K,MATCH(X1020,referentes!J:J,0),2))","v":""},null,null,""]
["30000401000000",null,0,{"$f":"IF(E1021<>\"\",CONCATENATE(B1021,A1021,DIGITADOR!$M$1,C1021),\"\")","v":""},null,null,"","","",null,1017,"",{"$f":"IF(R1021=R1020,\"\",IF(E1021<>\"\",CONCATENATE(B1021,A1021,DIGITADOR!$M$1,C1021),\"\"))","v":""},null,{"$f":"IF(N1021=\"\",\"\",INDEX(referentes!S:T,MATCH(N1021,referentes!T:T,0),1))","v":""},null,{"$f":"IF(P1021=\"\",\"\",INDEX(referentes!Y:Z,MATCH(P1021,referentes!Z:Z,0),1))","v":""},"","",null,null,null,null,null,{"$f":"IF(X1021=\"\",\"\",INDEX(referentes!J:K,MATCH(X1021,referentes!J:J,0),2))","v":""},null,null,""]
["30000401000000",null,0,{"$f":"IF(E1022<>\"\",CONCATENATE(B1022,A1022,DIGITADOR!$M$1,C1022),\"\")","v":""},null,null,"","","",null,1018,"",{"$f":"IF(R1022=R1021,\"\",IF(E1022<>\"\",CONCATENATE(B1022,A1022,DIGITADOR!$M$1,C1022),\"\"))","v":""},null,{"$f":"IF(N1022=\"\",\"\",INDEX(referentes!S:T,MATCH(N1022,referentes!T:T,0),1))","v":""},null,{"$f":"IF(P1022=\"\",\"\",INDEX(referentes!Y:Z,MATCH(P1022,referentes!Z:Z,0),1))","v":""},"","",null,null,null,null,null,{"$f":"IF(X1022=\"\",\"\",INDEX(referentes!J:K,MATCH(X1022,referentes!J:J,0),2))","v":""},null,null,""]
["30000401000000",null,0,{"$f":"IF(E1023<>\"\",CONCATENATE(B1023,A1023,DIGITADOR!$M$1,C1023),\"\")","v":""},null,null,"","","",null,1019,"",{"$f":"IF(R1023=R1022,\"\",IF(E1023<>\"\",CONCATENATE(B1023,A1023,DIGITADOR!$M$1,C1023),\"\"))","v":""},null,{"$f":"IF(N1023=\"\",\"\",INDEX(referentes!S:T,MATCH(N1023,referentes!T:T,0),1))","v":""},null,{"$f":"IF(P1023=\"\",\"\",INDEX(referentes!Y:Z,MATCH(P1023,referentes!Z:Z,0),1))","v":""},"","",null,null,null,null,null,{"$f":"IF(X1023=\"\",\"\",INDEX(referentes!J:K,MATCH(X1023,referentes!J:J,0),2))","v":""},null,null,""]
["30000401000000",null,0,{"$f":"IF(E1024<>\"\",CONCATENATE(B1024,A1024,DIGITADOR!$M$1,C1024),\"\")","v":""},null,null,"","","",null,1020,"",{"$f":"IF(R1024=R1023,\"\",IF(E1024<>\"\",CONCATENATE(B1024,A1024,DIGITADOR!$M$1,C1024),\"\"))","v":""},null,{"$f":"IF(N1024=\"\",\"\",INDEX(referentes!S:T,MATCH(N1024,referentes!T:T,0),1))","v":""},null,{"$f":"IF(P1024=\"\",\"\",INDEX(referentes!Y:Z,MATCH(P1024,referentes!Z:Z,0),1))","v":""},"","",null,null,null,null,null,{"$f":"IF(X1024=\"\",\"\",INDEX(referentes!J:K,MATCH(X1024,referentes!J:J,0),2))","v":""},null,null,""]
["30000401000000",null,0,{"$f":"IF(E1025<>\"\",CONCATENATE(B1025,A1025,DIGITADOR!$M$1,C1025),\"\")","v":""},null,null,"","","",null,1021,"",{"$f":"IF(R1025=R1024,\"\",IF(E1025<>\"\",CONCATENATE(B1025,A1025,DIGITADOR!$M$1,C1025),\"\"))","v":""},null,{"$f":"IF(N1025=\"\",\"\",INDEX(referentes!S:T,MATCH(N1025,referentes!T:T,0),1))","v":""},null,{"$f":"IF(P1025=\"\",\"\",INDEX(referentes!Y:Z,MATCH(P1025,referentes!Z:Z,0),1))","v":""},"","",null,null,null,null,null,{"$f":"IF(X1025=\"\",\"\",INDEX(referentes!J:K,MATCH(X1025,referentes!J:J,0),2))","v":""},null,null,""]
["30000401000000",null,0,{"$f":"IF(E1026<>\"\",CONCATENATE(B1026,A1026,DIGITADOR!$M$1,C1026),\"\")","v":""},null,null,"","","",null,1022,"",{"$f":"IF(R1026=R1025,\"\",IF(E1026<>\"\",CONCATENATE(B1026,A1026,DIGITADOR!$M$1,C1026),\"\"))","v":""},null,{"$f":"IF(N1026=\"\",\"\",INDEX(referentes!S:T,MATCH(N1026,referentes!T:T,0),1))","v":""},null,{"$f":"IF(P1026=\"\",\"\",INDEX(referentes!Y:Z,MATCH(P1026,referentes!Z:Z,0),1))","v":""},"","",null,null,null,null,null,{"$f":"IF(X1026=\"\",\"\",INDEX(referentes!J:K,MATCH(X1026,referentes!J:J,0),2))","v":""},null,null,""]
["30000401000000",null,0,{"$f":"IF(E1027<>\"\",CONCATENATE(B1027,A1027,DIGITADOR!$M$1,C1027),\"\")","v":""},null,null,"","","",null,1023,"",{"$f":"IF(R1027=R1026,\"\",IF(E1027<>\"\",CONCATENATE(B1027,A1027,DIGITADOR!$M$1,C1027),\"\"))","v":""},null,{"$f":"IF(N1027=\"\",\"\",INDEX(referentes!S:T,MATCH(N1027,referentes!T:T,0),1))","v":""},null,{"$f":"IF(P1027=\"\",\"\",INDEX(referentes!Y:Z,MATCH(P1027,referentes!Z:Z,0),1))","v":""},"","",null,null,null,null,null,{"$f":"IF(X1027=\"\",\"\",INDEX(referentes!J:K,MATCH(X1027,referentes!J:J,0),2))","v":""},null,null,""]
["30000401000000",null,0,{"$f":"IF(E1028<>\"\",CONCATENATE(B1028,A1028,DIGITADOR!$M$1,C1028),\"\")","v":""},null,null,"","","",null,1024,"",{"$f":"IF(R1028=R1027,\"\",IF(E1028<>\"\",CONCATENATE(B1028,A1028,DIGITADOR!$M$1,C1028),\"\"))","v":""},null,{"$f":"IF(N1028=\"\",\"\",INDEX(referentes!S:T,MATCH(N1028,referentes!T:T,0),1))","v":""},null,{"$f":"IF(P1028=\"\",\"\",INDEX(referentes!Y:Z,MATCH(P1028,referentes!Z:Z,0),1))","v":""},"","",null,null,null,null,null,{"$f":"IF(X1028=\"\",\"\",INDEX(referentes!J:K,MATCH(X1028,referentes!J:J,0),2))","v":""},null,null,""]
["30000401000000",null,{"$f":"IF(R1029=R1028,C1028,C1028+1)","v":0},{"$f":"IF(E1029<>\"\",CONCATENATE(B1029,A1029,DIGITADOR!$M$1,C1029),\"\")","v":""},null,null,"","","",null,1025,"",{"$f":"IF(R1029=R1028,\"\",IF(E1029<>\"\",CONCATENATE(B1029,A1029,DIGITADOR!$M$1,C1029),\"\"))","v":""},null,{"$f":"IF(N1029=\"\",\"\",INDEX(referentes!S:T,MATCH(N1029,referentes!T:T,0),1))","v":""},null,{"$f":"IF(P1029=\"\",\"\",INDEX(referentes!Y:Z,MATCH(P1029,referentes!Z:Z,0),1))","v":""},"","",null,null,null,null,null,{"$f":"IF(X1029=\"\",\"\",INDEX(referentes!J:K,MATCH(X1029,referentes!J:J,0),2))","v":""},null,null,""]
["30000401000000",null,0,{"$f":"IF(E1030<>\"\",CONCATENATE(B1030,A1030,DIGITADOR!$M$1,C1030),\"\")","v":""},null,null,{"$f":"IF(E1030=\"\", \"\", (E1030+F1030))","v":""},{"$f":"IF(G1030<>\"\",MONTH(G1030),\"\")","v":""},{"$f":"IF(D1030=\"\",\"\",1)","v":""},null,1026,{"$f":"IF(E1030=\"\",\"\",CONCATENATE(D1030,K1030))","v":""},{"$f":"IF(R1030=R1029,\"\",IF(E1030<>\"\",CONCATENATE(B1030,A1030,DIGITADOR!$M$1,C1030),\"\"))","v":""},null,{"$f":"IF(N1030=\"\",\"\",INDEX(referentes!S:T,MATCH(N1030,referentes!T:T,0),1))","v":""},null,{"$f":"IF(P1030=\"\",\"\",INDEX(referentes!Y:Z,MATCH(P1030,referentes!Z:Z,0),1))","v":""},{"$f":"IF(G1030=\"\",\"\",CONCATENATE(G1030,O1030,Q1030))","v":""},{"$f":"IF(E1030=\"\",\"\",\"INVEMAR\")","v":""},null,null,null,null,null,{"$f":"IF(X1030=\"\",\"\",INDEX(referentes!J:K,MATCH(X1030,referentes!J:J,0),2))","v":""},null,null,{"$f":"IF(T1030=\"\",\"\",IF(T1030=T1029,AB1029,AA1030))","v":""}]
[{"$f":"A1030","v":"30000401000000"},null,0,{"$f":"IF(E1031<>\"\",CONCATENATE(B1031,A1031,DIGITADOR!$M$1,C1031),\"\")","v":""},null,null,"","","",null,1027,"",{"$f":"IF(R1031=R1030,\"\",IF(E1031<>\"\",CONCATENATE(B1031,A1031,DIGITADOR!$M$1,C1031),\"\"))","v":""},null,{"$f":"IF(N1031=\"\",\"\",INDEX(referentes!S:T,MATCH(N1031,referentes!T:T,0),1))","v":""},null,{"$f":"IF(P1031=\"\",\"\",INDEX(referentes!Y:Z,MATCH(P1031,referentes!Z:Z,0),1))","v":""},"","",null,null,null,null,null,{"$f":"IF(X1031=\"\",\"\",INDEX(referentes!J:K,MATCH(X1031,referentes!J:J,0),2))","v":""},null,null,""]
["30000401000000",null,0,{"$f":"IF(E1032<>\"\",CONCATENATE(B1032,A1032,DIGITADOR!$M$1,C1032),\"\")","v":""},null,null,"","","",null,1028,"",{"$f":"IF(R1032=R1031,\"\",IF(E1032<>\"\",CONCATENATE(B1032,A1032,DIGITADOR!$M$1,C1032),\"\"))","v":""},null,{"$f":"IF(N1032=\"\",\"\",INDEX(referentes!S:T,MATCH(N1032,referentes!T:T,0),1))","v":""},null,{"$f":"IF(P1032=\"\",\"\",INDEX(referentes!Y:Z,MATCH(P1032,referentes!Z:Z,0),1))","v":""},"","",null,null,null,null,null,{"$f":"IF(X1032=\"\",\"\",INDEX(referentes!J:K,MATCH(X1032,referentes!J:J,0),2))","v":""},null,null,""]
["30000401000000",null,0,{"$f":"IF(E1033<>\"\",CONCATENATE(B1033,A1033,DIGITADOR!$M$1,C1033),\"\")","v":""},null,null,"","","",null,1029,"",{"$f":"IF(R1033=R1032,\"\",IF(E1033<>\"\",CONCATENATE(B1033,A1033,DIGITADOR!$M$1,C1033),\"\"))","v":""},null,{"$f":"IF(N1033=\"\",\"\",INDEX(referentes!S:T,MATCH(N1033,referentes!T:T,0),1))","v":""},null,{"$f":"IF(P1033=\"\",\"\",INDEX(referentes!Y:Z,MATCH(P1033,referentes!Z:Z,0),1))","v":""},"","",null,null,null,null,null,{"$f":"IF(X1033=\"\",\"\",INDEX(referentes!J:K,MATCH(X1033,referentes!J:J,0),2))","v":""},null,null,""]
["30000401000000",null,0,{"$f":"IF(E1034<>\"\",CONCATENATE(B1034,A1034,DIGITADOR!$M$1,C1034),\"\")","v":""},null,null,"","","",null,1030,"",{"$f":"IF(R1034=R1033,\"\",IF(E1034<>\"\",CONCATENATE(B1034,A1034,DIGITADOR!$M$1,C1034),\"\"))","v":""},null,{"$f":"IF(N1034=\"\",\"\",INDEX(referentes!S:T,MATCH(N1034,referentes!T:T,0),1))","v":""},null,{"$f":"IF(P1034=\"\",\"\",INDEX(referentes!Y:Z,MATCH(P1034,referentes!Z:Z,0),1))","v":""},"","",null,null,null,null,null,{"$f":"IF(X1034=\"\",\"\",INDEX(referentes!J:K,MATCH(X1034,referentes!J:J,0),2))","v":""},null,null,""]
["30000401000000",null,0,{"$f":"IF(E1035<>\"\",CONCATENATE(B1035,A1035,DIGITADOR!$M$1,C1035),\"\")","v":""},null,null,"","","",null,1031,"",{"$f":"IF(R1035=R1034,\"\",IF(E1035<>\"\",CONCATENATE(B1035,A1035,DIGITADOR!$M$1,C1035),\"\"))","v":""},null,{"$f":"IF(N1035=\"\",\"\",INDEX(referentes!S:T,MATCH(N1035,referentes!T:T,0),1))","v":""},null,{"$f":"IF(P1035=\"\",\"\",INDEX(referentes!Y:Z,MATCH(P1035,referentes!Z:Z,0),1))","v":""},"","",null,null,null,null,null,{"$f":"IF(X1035=\"\",\"\",INDEX(referentes!J:K,MATCH(X1035,referentes!J:J,0),2))","v":""},null,null,""]
["30000401000000",null,0,{"$f":"IF(E1036<>\"\",CONCATENATE(B1036,A1036,DIGITADOR!$M$1,C1036),\"\")","v":""},null,null,"","","",null,1032,"",{"$f":"IF(R1036=R1035,\"\",IF(E1036<>\"\",CONCATENATE(B1036,A1036,DIGITADOR!$M$1,C1036),\"\"))","v":""},null,{"$f":"IF(N1036=\"\",\"\",INDEX(referentes!S:T,MATCH(N1036,referentes!T:T,0),1))","v":""},null,{"$f":"IF(P1036=\"\",\"\",INDEX(referentes!Y:Z,MATCH(P1036,referentes!Z:Z,0),1))","v":""},"","",null,null,null,null,null,{"$f":"IF(X1036=\"\",\"\",INDEX(referentes!J:K,MATCH(X1036,referentes!J:J,0),2))","v":""},null,null,""]
["30000401000000",null,0,{"$f":"IF(E1037<>\"\",CONCATENATE(B1037,A1037,DIGITADOR!$M$1,C1037),\"\")","v":""},null,null,"","","",null,1033,"",{"$f":"IF(R1037=R1036,\"\",IF(E1037<>\"\",CONCATENATE(B1037,A1037,DIGITADOR!$M$1,C1037),\"\"))","v":""},null,{"$f":"IF(N1037=\"\",\"\",INDEX(referentes!S:T,MATCH(N1037,referentes!T:T,0),1))","v":""},null,{"$f":"IF(P1037=\"\",\"\",INDEX(referentes!Y:Z,MATCH(P1037,referentes!Z:Z,0),1))","v":""},"","",null,null,null,null,null,{"$f":"IF(X1037=\"\",\"\",INDEX(referentes!J:K,MATCH(X1037,referentes!J:J,0),2))","v":""},null,null,""]
["30000401000000",null,0,{"$f":"IF(E1038<>\"\",CONCATENATE(B1038,A1038,DIGITADOR!$M$1,C1038),\"\")","v":""},null,null,"","","",null,1034,"",{"$f":"IF(R1038=R1037,\"\",IF(E1038<>\"\",CONCATENATE(B1038,A1038,DIGITADOR!$M$1,C1038),\"\"))","v":""},null,{"$f":"IF(N1038=\"\",\"\",INDEX(referentes!S:T,MATCH(N1038,referentes!T:T,0),1))","v":""},null,{"$f":"IF(P1038=\"\",\"\",INDEX(referentes!Y:Z,MATCH(P1038,referentes!Z:Z,0),1))","v":""},"","",null,null,null,null,null,{"$f":"IF(X1038=\"\",\"\",INDEX(referentes!J:K,MATCH(X1038,referentes!J:J,0),2))","v":""},null,null,""]
["30000401000000",null,0,{"$f":"IF(E1039<>\"\",CONCATENATE(B1039,A1039,DIGITADOR!$M$1,C1039),\"\")","v":""},null,null,"","","",null,1035,"",{"$f":"IF(R1039=R1038,\"\",IF(E1039<>\"\",CONCATENATE(B1039,A1039,DIGITADOR!$M$1,C1039),\"\"))","v":""},null,{"$f":"IF(N1039=\"\",\"\",INDEX(referentes!S:T,MATCH(N1039,referentes!T:T,0),1))","v":""},null,{"$f":"IF(P1039=\"\",\"\",INDEX(referentes!Y:Z,MATCH(P1039,referentes!Z:Z,0),1))","v":""},"","",null,null,null,null,null,{"$f":"IF(X1039=\"\",\"\",INDEX(referentes!J:K,MATCH(X1039,referentes!J:J,0),2))","v":""},null,null,""]
["30000401000000",null,0,{"$f":"IF(E1040<>\"\",CONCATENATE(B1040,A1040,DIGITADOR!$M$1,C1040),\"\")","v":""},null,null,"","","",null,1036,"",{"$f":"IF(R1040=R1039,\"\",IF(E1040<>\"\",CONCATENATE(B1040,A1040,DIGITADOR!$M$1,C1040),\"\"))","v":""},null,{"$f":"IF(N1040=\"\",\"\",INDEX(referentes!S:T,MATCH(N1040,referentes!T:T,0),1))","v":""},null,{"$f":"IF(P1040=\"\",\"\",INDEX(referentes!Y:Z,MATCH(P1040,referentes!Z:Z,0),1))","v":""},"","",null,null,null,null,null,{"$f":"IF(X1040=\"\",\"\",INDEX(referentes!J:K,MATCH(X1040,referentes!J:J,0),2))","v":""},null,null,""]
["30000401000000",null,0,{"$f":"IF(E1041<>\"\",CONCATENATE(B1041,A1041,DIGITADOR!$M$1,C1041),\"\")","v":""},null,null,"","","",null,1037,"",{"$f":"IF(R1041=R1040,\"\",IF(E1041<>\"\",CONCATENATE(B1041,A1041,DIGITADOR!$M$1,C1041),\"\"))","v":""},null,{"$f":"IF(N1041=\"\",\"\",INDEX(referentes!S:T,MATCH(N1041,referentes!T:T,0),1))","v":""},null,{"$f":"IF(P1041=\"\",\"\",INDEX(referentes!Y:Z,MATCH(P1041,referentes!Z:Z,0),1))","v":""},"","",null,null,null,null,null,{"$f":"IF(X1041=\"\",\"\",INDEX(referentes!J:K,MATCH(X1041,referentes!J:J,0),2))","v":""},null,null,""]
["30000401000000",null,0,{"$f":"IF(E1042<>\"\",CONCATENATE(B1042,A1042,DIGITADOR!$M$1,C1042),\"\")","v":""},null,null,"","","",null,1038,"",{"$f":"IF(R1042=R1041,\"\",IF(E1042<>\"\",CONCATENATE(B1042,A1042,DIGITADOR!$M$1,C1042),\"\"))","v":""},null,{"$f":"IF(N1042=\"\",\"\",INDEX(referentes!S:T,MATCH(N1042,referentes!T:T,0),1))","v":""},null,{"$f":"IF(P1042=\"\",\"\",INDEX(referentes!Y:Z,MATCH(P1042,referentes!Z:Z,0),1))","v":""},"","",null,null,null,null,null,{"$f":"IF(X1042=\"\",\"\",INDEX(referentes!J:K,MATCH(X1042,referentes!J:J,0),2))","v":""},null,null,""]
["30000401000000",null,0,{"$f":"IF(E1043<>\"\",CONCATENATE(B1043,A1043,DIGITADOR!$M$1,C1043),\"\")","v":""},null,null,"","","",null,1039,"",{"$f":"IF(R1043=R1042,\"\",IF(E1043<>\"\",CONCATENATE(B1043,A1043,DIGITADOR!$M$1,C1043),\"\"))","v":""},null,{"$f":"IF(N1043=\"\",\"\",INDEX(referentes!S:T,MATCH(N1043,referentes!T:T,0),1))","v":""},null,{"$f":"IF(P1043=\"\",\"\",INDEX(referentes!Y:Z,MATCH(P1043,referentes!Z:Z,0),1))","v":""},"","",null,null,null,null,null,{"$f":"IF(X1043=\"\",\"\",INDEX(referentes!J:K,MATCH(X1043,referentes!J:J,0),2))","v":""},null,null,""]
["30000401000000",null,0,{"$f":"IF(E1044<>\"\",CONCATENATE(B1044,A1044,DIGITADOR!$M$1,C1044),\"\")","v":""},null,null,"","","",null,1040,"",{"$f":"IF(R1044=R1043,\"\",IF(E1044<>\"\",CONCATENATE(B1044,A1044,DIGITADOR!$M$1,C1044),\"\"))","v":""},null,{"$f":"IF(N1044=\"\",\"\",INDEX(referentes!S:T,MATCH(N1044,referentes!T:T,0),1))","v":""},null,{"$f":"IF(P1044=\"\",\"\",INDEX(referentes!Y:Z,MATCH(P1044,referentes!Z:Z,0),1))","v":""},"","",null,null,null,null,null,{"$f":"IF(X1044=\"\",\"\",INDEX(referentes!J:K,MATCH(X1044,referentes!J:J,0),2))","v":""},null,null,""]
["30000401000000",null,0,{"$f":"IF(E1045<>\"\",CONCATENATE(B1045,A1045,DIGITADOR!$M$1,C1045),\"\")","v":""},null,null,"","","",null,1041,"",{"$f":"IF(R1045=R1044,\"\",IF(E1045<>\"\",CONCATENATE(B1045,A1045,DIGITADOR!$M$1,C1045),\"\"))","v":""},null,{"$f":"IF(N1045=\"\",\"\",INDEX(referentes!S:T,MATCH(N1045,referentes!T:T,0),1))","v":""},null,{"$f":"IF(P1045=\"\",\"\",INDEX(referentes!Y:Z,MATCH(P1045,referentes!Z:Z,0),1))","v":""},"","",null,null,null,null,null,{"$f":"IF(X1045=\"\",\"\",INDEX(referentes!J:K,MATCH(X1045,referentes!J:J,0),2))","v":""},null,null,""]
["30000401000000",null,0,{"$f":"IF(E1046<>\"\",CONCATENATE(B1046,A1046,DIGITADOR!$M$1,C1046),\"\")","v":""},null,null,"","","",null,1042,"",{"$f":"IF(R1046=R1045,\"\",IF(E1046<>\"\",CONCATENATE(B1046,A1046,DIGITADOR!$M$1,C1046),\"\"))","v":""},null,{"$f":"IF(N1046=\"\",\"\",INDEX(referentes!S:T,MATCH(N1046,referentes!T:T,0),1))","v":""},null,{"$f":"IF(P1046=\"\",\"\",INDEX(referentes!Y:Z,MATCH(P1046,referentes!Z:Z,0),1))","v":""},"","",null,null,null,null,null,{"$f":"IF(X1046=\"\",\"\",INDEX(referentes!J:K,MATCH(X1046,referentes!J:J,0),2))","v":""},null,null,""]
["30000401000000",null,0,{"$f":"IF(E1047<>\"\",CONCATENATE(B1047,A1047,DIGITADOR!$M$1,C1047),\"\")","v":""},null,null,"","","",null,1043,"",{"$f":"IF(R1047=R1046,\"\",IF(E1047<>\"\",CONCATENATE(B1047,A1047,DIGITADOR!$M$1,C1047),\"\"))","v":""},null,{"$f":"IF(N1047=\"\",\"\",INDEX(referentes!S:T,MATCH(N1047,referentes!T:T,0),1))","v":""},null,{"$f":"IF(P1047=\"\",\"\",INDEX(referentes!Y:Z,MATCH(P1047,referentes!Z:Z,0),1))","v":""},"","",null,null,null,null,null,{"$f":"IF(X1047=\"\",\"\",INDEX(referentes!J:K,MATCH(X1047,referentes!J:J,0),2))","v":""},null,null,""]
["30000401000000",null,0,{"$f":"IF(E1048<>\"\",CONCATENATE(B1048,A1048,DIGITADOR!$M$1,C1048),\"\")","v":""},null,null,"","","",null,1044,"",{"$f":"IF(R1048=R1047,\"\",IF(E1048<>\"\",CONCATENATE(B1048,A1048,DIGITADOR!$M$1,C1048),\"\"))","v":""},null,{"$f":"IF(N1048=\"\",\"\",INDEX(referentes!S:T,MATCH(N1048,referentes!T:T,0),1))","v":""},null,{"$f":"IF(P1048=\"\",\"\",INDEX(referentes!Y:Z,MATCH(P1048,referentes!Z:Z,0),1))","v":""},"","",null,null,null,null,null,{"$f":"IF(X1048=\"\",\"\",INDEX(referentes!J:K,MATCH(X1048,referentes!J:J,0),2))","v":""},null,null,""]
["30000401000000",null,0,{"$f":"IF(E1049<>\"\",CONCATENATE(B1049,A1049,DIGITADOR!$M$1,C1049),\"\")","v":""},null,null,"","","",null,1045,"",{"$f":"IF(R1049=R1048,\"\",IF(E1049<>\"\",CONCATENATE(B1049,A1049,DIGITADOR!$M$1,C1049),\"\"))","v":""},null,{"$f":"IF(N1049=\"\",\"\",INDEX(referentes!S:T,MATCH(N1049,referentes!T:T,0),1))","v":""},null,{"$f":"IF(P1049=\"\",\"\",INDEX(referentes!Y:Z,MATCH(P1049,referentes!Z:Z,0),1))","v":""},"","",null,null,null,null,null,{"$f":"IF(X1049=\"\",\"\",INDEX(referentes!J:K,MATCH(X1049,referentes!J:J,0),2))","v":""},null,null,""]
["30000401000000",null,0,{"$f":"IF(E1050<>\"\",CONCATENATE(B1050,A1050,DIGITADOR!$M$1,C1050),\"\")","v":""},null,null,"","","",null,1046,"",{"$f":"IF(R1050=R1049,\"\",IF(E1050<>\"\",CONCATENATE(B1050,A1050,DIGITADOR!$M$1,C1050),\"\"))","v":""},null,{"$f":"IF(N1050=\"\",\"\",INDEX(referentes!S:T,MATCH(N1050,referentes!T:T,0),1))","v":""},null,{"$f":"IF(P1050=\"\",\"\",INDEX(referentes!Y:Z,MATCH(P1050,referentes!Z:Z,0),1))","v":""},"","",null,null,null,null,null,{"$f":"IF(X1050=\"\",\"\",INDEX(referentes!J:K,MATCH(X1050,referentes!J:J,0),2))","v":""},null,null,""]
["30000401000000",null,0,{"$f":"IF(E1051<>\"\",CONCATENATE(B1051,A1051,DIGITADOR!$M$1,C1051),\"\")","v":""},null,null,"","","",null,1047,"",{"$f":"IF(R1051=R1050,\"\",IF(E1051<>\"\",CONCATENATE(B1051,A1051,DIGITADOR!$M$1,C1051),\"\"))","v":""},null,{"$f":"IF(N1051=\"\",\"\",INDEX(referentes!S:T,MATCH(N1051,referentes!T:T,0),1))","v":""},null,{"$f":"IF(P1051=\"\",\"\",INDEX(referentes!Y:Z,MATCH(P1051,referentes!Z:Z,0),1))","v":""},"","",null,null,null,null,null,{"$f":"IF(X1051=\"\",\"\",INDEX(referentes!J:K,MATCH(X1051,referentes!J:J,0),2))","v":""},null,null,""]
["30000401000000",null,0,{"$f":"IF(E1052<>\"\",CONCATENATE(B1052,A1052,DIGITADOR!$M$1,C1052),\"\")","v":""},null,null,"","","",null,1048,"",{"$f":"IF(R1052=R1051,\"\",IF(E1052<>\"\",CONCATENATE(B1052,A1052,DIGITADOR!$M$1,C1052),\"\"))","v":""},null,{"$f":"IF(N1052=\"\",\"\",INDEX(referentes!S:T,MATCH(N1052,referentes!T:T,0),1))","v":""},null,{"$f":"IF(P1052=\"\",\"\",INDEX(referentes!Y:Z,MATCH(P1052,referentes!Z:Z,0),1))","v":""},"","",null,null,null,null,null,{"$f":"IF(X1052=\"\",\"\",INDEX(referentes!J:K,MATCH(X1052,referentes!J:J,0),2))","v":""},null,null,""]
["30000401000000",null,0,{"$f":"IF(E1053<>\"\",CONCATENATE(B1053,A1053,DIGITADOR!$M$1,C1053),\"\")","v":""},null,null,"","","",null,1049,"",{"$f":"IF(R1053=R1052,\"\",IF(E1053<>\"\",CONCATENATE(B1053,A1053,DIGITADOR!$M$1,C1053),\"\"))","v":""},null,{"$f":"IF(N1053=\"\",\"\",INDEX(referentes!S:T,MATCH(N1053,referentes!T:T,0),1))","v":""},null,{"$f":"IF(P1053=\"\",\"\",INDEX(referentes!Y:Z,MATCH(P1053,referentes!Z:Z,0),1))","v":""},"","",null,null,null,null,null,{"$f":"IF(X1053=\"\",\"\",INDEX(referentes!J:K,MATCH(X1053,referentes!J:J,0),2))","v":""},null,null,""]
["30000401000000",null,0,{"$f":"IF(E1054<>\"\",CONCATENATE(B1054,A1054,DIGITADOR!$M$1,C1054),\"\")","v":""},null,null,"","","",null,1050,"",{"$f":"IF(R1054=R1053,\"\",IF(E1054<>\"\",CONCATENATE(B1054,A1054,DIGITADOR!$M$1,C1054),\"\"))","v":""},null,{"$f":"IF(N1054=\"\",\"\",INDEX(referentes!S:T,MATCH(N1054,referentes!T:T,0),1))","v":""},null,{"$f":"IF(P1054=\"\",\"\",INDEX(referentes!Y:Z,MATCH(P1054,referentes!Z:Z,0),1))","v":""},"","",null,null,null,null,null,{"$f":"IF(X1054=\"\",\"\",INDEX(referentes!J:K,MATCH(X1054,referentes!J:J,0),2))","v":""},null,null,""]
["30000401000000",null,0,{"$f":"IF(E1055<>\"\",CONCATENATE(B1055,A1055,DIGITADOR!$M$1,C1055),\"\")","v":""},null,null,"","","",null,1051,"",{"$f":"IF(R1055=R1054,\"\",IF(E1055<>\"\",CONCATENATE(B1055,A1055,DIGITADOR!$M$1,C1055),\"\"))","v":""},null,{"$f":"IF(N1055=\"\",\"\",INDEX(referentes!S:T,MATCH(N1055,referentes!T:T,0),1))","v":""},null,{"$f":"IF(P1055=\"\",\"\",INDEX(referentes!Y:Z,MATCH(P1055,referentes!Z:Z,0),1))","v":""},"","",null,null,null,null,null,{"$f":"IF(X1055=\"\",\"\",INDEX(referentes!J:K,MATCH(X1055,referentes!J:J,0),2))","v":""},null,null,""]
["30000401000000",null,0,{"$f":"IF(E1056<>\"\",CONCATENATE(B1056,A1056,DIGITADOR!$M$1,C1056),\"\")","v":""},null,null,"","","",null,1052,"",{"$f":"IF(R1056=R1055,\"\",IF(E1056<>\"\",CONCATENATE(B1056,A1056,DIGITADOR!$M$1,C1056),\"\"))","v":""},null,{"$f":"IF(N1056=\"\",\"\",INDEX(referentes!S:T,MATCH(N1056,referentes!T:T,0),1))","v":""},null,{"$f":"IF(P1056=\"\",\"\",INDEX(referentes!Y:Z,MATCH(P1056,referentes!Z:Z,0),1))","v":""},"","",null,null,null,null,null,{"$f":"IF(X1056=\"\",\"\",INDEX(referentes!J:K,MATCH(X1056,referentes!J:J,0),2))","v":""},null,null,""]
["30000401000000",null,0,{"$f":"IF(E1057<>\"\",CONCATENATE(B1057,A1057,DIGITADOR!$M$1,C1057),\"\")","v":""},null,null,"","","",null,1053,"",{"$f":"IF(R1057=R1056,\"\",IF(E1057<>\"\",CONCATENATE(B1057,A1057,DIGITADOR!$M$1,C1057),\"\"))","v":""},null,{"$f":"IF(N1057=\"\",\"\",INDEX(referentes!S:T,MATCH(N1057,referentes!T:T,0),1))","v":""},null,{"$f":"IF(P1057=\"\",\"\",INDEX(referentes!Y:Z,MATCH(P1057,referentes!Z:Z,0),1))","v":""},"","",null,null,null,null,null,{"$f":"IF(X1057=\"\",\"\",INDEX(referentes!J:K,MATCH(X1057,referentes!J:J,0),2))","v":""},null,null,""]
["30000401000000",null,0,{"$f":"IF(E1058<>\"\",CONCATENATE(B1058,A1058,DIGITADOR!$M$1,C1058),\"\")","v":""},null,null,"","","",null,1054,"",{"$f":"IF(R1058=R1057,\"\",IF(E1058<>\"\",CONCATENATE(B1058,A1058,DIGITADOR!$M$1,C1058),\"\"))","v":""},null,{"$f":"IF(N1058=\"\",\"\",INDEX(referentes!S:T,MATCH(N1058,referentes!T:T,0),1))","v":""},null,{"$f":"IF(P1058=\"\",\"\",INDEX(referentes!Y:Z,MATCH(P1058,referentes!Z:Z,0),1))","v":""},"","",null,null,null,null,null,{"$f":"IF(X1058=\"\",\"\",INDEX(referentes!J:K,MATCH(X1058,referentes!J:J,0),2))","v":""},null,null,""]
["30000401000000",null,0,{"$f":"IF(E1059<>\"\",CONCATENATE(B1059,A1059,DIGITADOR!$M$1,C1059),\"\")","v":""},null,null,"","","",null,1055,"",{"$f":"IF(R1059=R1058,\"\",IF(E1059<>\"\",CONCATENATE(B1059,A1059,DIGITADOR!$M$1,C1059),\"\"))","v":""},null,{"$f":"IF(N1059=\"\",\"\",INDEX(referentes!S:T,MATCH(N1059,referentes!T:T,0),1))","v":""},null,{"$f":"IF(P1059=\"\",\"\",INDEX(referentes!Y:Z,MATCH(P1059,referentes!Z:Z,0),1))","v":""},"","",null,null,null,null,null,{"$f":"IF(X1059=\"\",\"\",INDEX(referentes!J:K,MATCH(X1059,referentes!J:J,0),2))","v":""},null,null,""]
["30000401000000",null,0,{"$f":"IF(E1060<>\"\",CONCATENATE(B1060,A1060,DIGITADOR!$M$1,C1060),\"\")","v":""},null,null,"","","",null,1056,"",{"$f":"IF(R1060=R1059,\"\",IF(E1060<>\"\",CONCATENATE(B1060,A1060,DIGITADOR!$M$1,C1060),\"\"))","v":""},null,{"$f":"IF(N1060=\"\",\"\",INDEX(referentes!S:T,MATCH(N1060,referentes!T:T,0),1))","v":""},null,{"$f":"IF(P1060=\"\",\"\",INDEX(referentes!Y:Z,MATCH(P1060,referentes!Z:Z,0),1))","v":""},"","",null,null,null,null,null,{"$f":"IF(X1060=\"\",\"\",INDEX(referentes!J:K,MATCH(X1060,referentes!J:J,0),2))","v":""},null,null,""]
["30000401000000",null,0,{"$f":"IF(E1061<>\"\",CONCATENATE(B1061,A1061,DIGITADOR!$M$1,C1061),\"\")","v":""},null,null,"","","",null,1057,"",{"$f":"IF(R1061=R1060,\"\",IF(E1061<>\"\",CONCATENATE(B1061,A1061,DIGITADOR!$M$1,C1061),\"\"))","v":""},null,{"$f":"IF(N1061=\"\",\"\",INDEX(referentes!S:T,MATCH(N1061,referentes!T:T,0),1))","v":""},null,{"$f":"IF(P1061=\"\",\"\",INDEX(referentes!Y:Z,MATCH(P1061,referentes!Z:Z,0),1))","v":""},"","",null,null,null,null,null,{"$f":"IF(X1061=\"\",\"\",INDEX(referentes!J:K,MATCH(X1061,referentes!J:J,0),2))","v":""},null,null,""]
["30000401000000",null,0,{"$f":"IF(E1062<>\"\",CONCATENATE(B1062,A1062,DIGITADOR!$M$1,C1062),\"\")","v":""},null,null,"","","",null,1058,"",{"$f":"IF(R1062=R1061,\"\",IF(E1062<>\"\",CONCATENATE(B1062,A1062,DIGITADOR!$M$1,C1062),\"\"))","v":""},null,{"$f":"IF(N1062=\"\",\"\",INDEX(referentes!S:T,MATCH(N1062,referentes!T:T,0),1))","v":""},null,{"$f":"IF(P1062=\"\",\"\",INDEX(referentes!Y:Z,MATCH(P1062,referentes!Z:Z,0),1))","v":""},"","",null,null,null,null,null,{"$f":"IF(X1062=\"\",\"\",INDEX(referentes!J:K,MATCH(X1062,referentes!J:J,0),2))","v":""},null,null,""]
["30000401000000",null,0,{"$f":"IF(E1063<>\"\",CONCATENATE(B1063,A1063,DIGITADOR!$M$1,C1063),\"\")","v":""},null,null,"","","",null,1059,"",{"$f":"IF(R1063=R1062,\"\",IF(E1063<>\"\",CONCATENATE(B1063,A1063,DIGITADOR!$M$1,C1063),\"\"))","v":""},null,{"$f":"IF(N1063=\"\",\"\",INDEX(referentes!S:T,MATCH(N1063,referentes!T:T,0),1))","v":""},null,{"$f":"IF(P1063=\"\",\"\",INDEX(referentes!Y:Z,MATCH(P1063,referentes!Z:Z,0),1))","v":""},"","",null,null,null,null,null,{"$f":"IF(X1063=\"\",\"\",INDEX(referentes!J:K,MATCH(X1063,referentes!J:J,0),2))","v":""},null,null,""]
["30000401000000",null,0,{"$f":"IF(E1064<>\"\",CONCATENATE(B1064,A1064,DIGITADOR!$M$1,C1064),\"\")","v":""},null,null,"","","",null,1060,"",{"$f":"IF(R1064=R1063,\"\",IF(E1064<>\"\",CONCATENATE(B1064,A1064,DIGITADOR!$M$1,C1064),\"\"))","v":""},null,{"$f":"IF(N1064=\"\",\"\",INDEX(referentes!S:T,MATCH(N1064,referentes!T:T,0),1))","v":""},null,{"$f":"IF(P1064=\"\",\"\",INDEX(referentes!Y:Z,MATCH(P1064,referentes!Z:Z,0),1))","v":""},"","",null,null,null,null,null,{"$f":"IF(X1064=\"\",\"\",INDEX(referentes!J:K,MATCH(X1064,referentes!J:J,0),2))","v":""},null,null,""]
["30000401000000",null,0,{"$f":"IF(E1065<>\"\",CONCATENATE(B1065,A1065,DIGITADOR!$M$1,C1065),\"\")","v":""},null,null,"","","",null,1061,"",{"$f":"IF(R1065=R1064,\"\",IF(E1065<>\"\",CONCATENATE(B1065,A1065,DIGITADOR!$M$1,C1065),\"\"))","v":""},null,{"$f":"IF(N1065=\"\",\"\",INDEX(referentes!S:T,MATCH(N1065,referentes!T:T,0),1))","v":""},null,{"$f":"IF(P1065=\"\",\"\",INDEX(referentes!Y:Z,MATCH(P1065,referentes!Z:Z,0),1))","v":""},"","",null,null,null,null,null,{"$f":"IF(X1065=\"\",\"\",INDEX(referentes!J:K,MATCH(X1065,referentes!J:J,0),2))","v":""},null,null,""]
["30000401000000",null,0,{"$f":"IF(E1066<>\"\",CONCATENATE(B1066,A1066,DIGITADOR!$M$1,C1066),\"\")","v":""},null,null,"","","",null,1062,"",{"$f":"IF(R1066=R1065,\"\",IF(E1066<>\"\",CONCATENATE(B1066,A1066,DIGITADOR!$M$1,C1066),\"\"))","v":""},null,{"$f":"IF(N1066=\"\",\"\",INDEX(referentes!S:T,MATCH(N1066,referentes!T:T,0),1))","v":""},null,{"$f":"IF(P1066=\"\",\"\",INDEX(referentes!Y:Z,MATCH(P1066,referentes!Z:Z,0),1))","v":""},"","",null,null,null,null,null,{"$f":"IF(X1066=\"\",\"\",INDEX(referentes!J:K,MATCH(X1066,referentes!J:J,0),2))","v":""},null,null,""]
["30000401000000",null,0,{"$f":"IF(E1067<>\"\",CONCATENATE(B1067,A1067,DIGITADOR!$M$1,C1067),\"\")","v":""},null,null,"","","",null,1063,"",{"$f":"IF(R1067=R1066,\"\",IF(E1067<>\"\",CONCATENATE(B1067,A1067,DIGITADOR!$M$1,C1067),\"\"))","v":""},null,{"$f":"IF(N1067=\"\",\"\",INDEX(referentes!S:T,MATCH(N1067,referentes!T:T,0),1))","v":""},null,{"$f":"IF(P1067=\"\",\"\",INDEX(referentes!Y:Z,MATCH(P1067,referentes!Z:Z,0),1))","v":""},"","",null,null,null,null,null,{"$f":"IF(X1067=\"\",\"\",INDEX(referentes!J:K,MATCH(X1067,referentes!J:J,0),2))","v":""},null,null,""]
["30000401000000",null,0,{"$f":"IF(E1068<>\"\",CONCATENATE(B1068,A1068,DIGITADOR!$M$1,C1068),\"\")","v":""},null,null,"","","",null,1064,"",{"$f":"IF(R1068=R1067,\"\",IF(E1068<>\"\",CONCATENATE(B1068,A1068,DIGITADOR!$M$1,C1068),\"\"))","v":""},null,{"$f":"IF(N1068=\"\",\"\",INDEX(referentes!S:T,MATCH(N1068,referentes!T:T,0),1))","v":""},null,{"$f":"IF(P1068=\"\",\"\",INDEX(referentes!Y:Z,MATCH(P1068,referentes!Z:Z,0),1))","v":""},"","",null,null,null,null,null,{"$f":"IF(X1068=\"\",\"\",INDEX(referentes!J:K,MATCH(X1068,referentes!J:J,0),2))","v":""},null,null,""]
["30000401000000",null,0,{"$f":"IF(E1069<>\"\",CONCATENATE(B1069,A1069,DIGITADOR!$M$1,C1069),\"\")","v":""},null,null,"","","",null,1065,"",{"$f":"IF(R1069=R1068,\"\",IF(E1069<>\"\",CONCATENATE(B1069,A1069,DIGITADOR!$M$1,C1069),\"\"))","v":""},null,{"$f":"IF(N1069=\"\",\"\",INDEX(referentes!S:T,MATCH(N1069,referentes!T:T,0),1))","v":""},null,{"$f":"IF(P1069=\"\",\"\",INDEX(referentes!Y:Z,MATCH(P1069,referentes!Z:Z,0),1))","v":""},"","",null,null,null,null,null,{"$f":"IF(X1069=\"\",\"\",INDEX(referentes!J:K,MATCH(X1069,referentes!J:J,0),2))","v":""},null,null,""]
["30000401000000",null,0,{"$f":"IF(E1070<>\"\",CONCATENATE(B1070,A1070,DIGITADOR!$M$1,C1070),\"\")","v":""},null,null,"","","",null,1066,"",{"$f":"IF(R1070=R1069,\"\",IF(E1070<>\"\",CONCATENATE(B1070,A1070,DIGITADOR!$M$1,C1070),\"\"))","v":""},null,{"$f":"IF(N1070=\"\",\"\",INDEX(referentes!S:T,MATCH(N1070,referentes!T:T,0),1))","v":""},null,{"$f":"IF(P1070=\"\",\"\",INDEX(referentes!Y:Z,MATCH(P1070,referentes!Z:Z,0),1))","v":""},"","",null,null,null,null,null,{"$f":"IF(X1070=\"\",\"\",INDEX(referentes!J:K,MATCH(X1070,referentes!J:J,0),2))","v":""},null,null,""]
["30000401000000",null,0,{"$f":"IF(E1071<>\"\",CONCATENATE(B1071,A1071,DIGITADOR!$M$1,C1071),\"\")","v":""},null,null,"","","",null,1067,"",{"$f":"IF(R1071=R1070,\"\",IF(E1071<>\"\",CONCATENATE(B1071,A1071,DIGITADOR!$M$1,C1071),\"\"))","v":""},null,{"$f":"IF(N1071=\"\",\"\",INDEX(referentes!S:T,MATCH(N1071,referentes!T:T,0),1))","v":""},null,{"$f":"IF(P1071=\"\",\"\",INDEX(referentes!Y:Z,MATCH(P1071,referentes!Z:Z,0),1))","v":""},"","",null,null,null,null,null,{"$f":"IF(X1071=\"\",\"\",INDEX(referentes!J:K,MATCH(X1071,referentes!J:J,0),2))","v":""},null,null,""]
["30000401000000",null,0,{"$f":"IF(E1072<>\"\",CONCATENATE(B1072,A1072,DIGITADOR!$M$1,C1072),\"\")","v":""},null,null,"","","",null,1068,"",{"$f":"IF(R1072=R1071,\"\",IF(E1072<>\"\",CONCATENATE(B1072,A1072,DIGITADOR!$M$1,C1072),\"\"))","v":""},null,{"$f":"IF(N1072=\"\",\"\",INDEX(referentes!S:T,MATCH(N1072,referentes!T:T,0),1))","v":""},null,{"$f":"IF(P1072=\"\",\"\",INDEX(referentes!Y:Z,MATCH(P1072,referentes!Z:Z,0),1))","v":""},"","",null,null,null,null,null,{"$f":"IF(X1072=\"\",\"\",INDEX(referentes!J:K,MATCH(X1072,referentes!J:J,0),2))","v":""},null,null,""]
["30000401000000",null,0,{"$f":"IF(E1073<>\"\",CONCATENATE(B1073,A1073,DIGITADOR!$M$1,C1073),\"\")","v":""},null,null,"","","",null,1069,"",{"$f":"IF(R1073=R1072,\"\",IF(E1073<>\"\",CONCATENATE(B1073,A1073,DIGITADOR!$M$1,C1073),\"\"))","v":""},null,{"$f":"IF(N1073=\"\",\"\",INDEX(referentes!S:T,MATCH(N1073,referentes!T:T,0),1))","v":""},null,{"$f":"IF(P1073=\"\",\"\",INDEX(referentes!Y:Z,MATCH(P1073,referentes!Z:Z,0),1))","v":""},"","",null,null,null,null,null,{"$f":"IF(X1073=\"\",\"\",INDEX(referentes!J:K,MATCH(X1073,referentes!J:J,0),2))","v":""},null,null,""]
["30000401000000",null,0,{"$f":"IF(E1074<>\"\",CONCATENATE(B1074,A1074,DIGITADOR!$M$1,C1074),\"\")","v":""},null,null,"","","",null,1070,"",{"$f":"IF(R1074=R1073,\"\",IF(E1074<>\"\",CONCATENATE(B1074,A1074,DIGITADOR!$M$1,C1074),\"\"))","v":""},null,{"$f":"IF(N1074=\"\",\"\",INDEX(referentes!S:T,MATCH(N1074,referentes!T:T,0),1))","v":""},null,{"$f":"IF(P1074=\"\",\"\",INDEX(referentes!Y:Z,MATCH(P1074,referentes!Z:Z,0),1))","v":""},"","",null,null,null,null,null,{"$f":"IF(X1074=\"\",\"\",INDEX(referentes!J:K,MATCH(X1074,referentes!J:J,0),2))","v":""},null,null,""]
["30000401000000",null,0,{"$f":"IF(E1075<>\"\",CONCATENATE(B1075,A1075,DIGITADOR!$M$1,C1075),\"\")","v":""},null,null,"","","",null,1071,"",{"$f":"IF(R1075=R1074,\"\",IF(E1075<>\"\",CONCATENATE(B1075,A1075,DIGITADOR!$M$1,C1075),\"\"))","v":""},null,{"$f":"IF(N1075=\"\",\"\",INDEX(referentes!S:T,MATCH(N1075,referentes!T:T,0),1))","v":""},null,{"$f":"IF(P1075=\"\",\"\",INDEX(referentes!Y:Z,MATCH(P1075,referentes!Z:Z,0),1))","v":""},"","",null,null,null,null,null,{"$f":"IF(X1075=\"\",\"\",INDEX(referentes!J:K,MATCH(X1075,referentes!J:J,0),2))","v":""},null,null,""]
["30000401000000",null,0,{"$f":"IF(E1076<>\"\",CONCATENATE(B1076,A1076,DIGITADOR!$M$1,C1076),\"\")","v":""},null,null,"","","",null,1072,"",{"$f":"IF(R1076=R1075,\"\",IF(E1076<>\"\",CONCATENATE(B1076,A1076,DIGITADOR!$M$1,C1076),\"\"))","v":""},null,{"$f":"IF(N1076=\"\",\"\",INDEX(referentes!S:T,MATCH(N1076,referentes!T:T,0),1))","v":""},null,{"$f":"IF(P1076=\"\",\"\",INDEX(referentes!Y:Z,MATCH(P1076,referentes!Z:Z,0),1))","v":""},"","",null,null,null,null,null,{"$f":"IF(X1076=\"\",\"\",INDEX(referentes!J:K,MATCH(X1076,referentes!J:J,0),2))","v":""},null,null,""]
["30000401000000",null,0,{"$f":"IF(E1077<>\"\",CONCATENATE(B1077,A1077,DIGITADOR!$M$1,C1077),\"\")","v":""},null,null,"","","",null,1073,"",{"$f":"IF(R1077=R1076,\"\",IF(E1077<>\"\",CONCATENATE(B1077,A1077,DIGITADOR!$M$1,C1077),\"\"))","v":""},null,{"$f":"IF(N1077=\"\",\"\",INDEX(referentes!S:T,MATCH(N1077,referentes!T:T,0),1))","v":""},null,{"$f":"IF(P1077=\"\",\"\",INDEX(referentes!Y:Z,MATCH(P1077,referentes!Z:Z,0),1))","v":""},"","",null,null,null,null,null,{"$f":"IF(X1077=\"\",\"\",INDEX(referentes!J:K,MATCH(X1077,referentes!J:J,0),2))","v":""},null,null,""]
["30000401000000",null,0,{"$f":"IF(E1078<>\"\",CONCATENATE(B1078,A1078,DIGITADOR!$M$1,C1078),\"\")","v":""},null,null,"","","",null,1074,"",{"$f":"IF(R1078=R1077,\"\",IF(E1078<>\"\",CONCATENATE(B1078,A1078,DIGITADOR!$M$1,C1078),\"\"))","v":""},null,{"$f":"IF(N1078=\"\",\"\",INDEX(referentes!S:T,MATCH(N1078,referentes!T:T,0),1))","v":""},null,{"$f":"IF(P1078=\"\",\"\",INDEX(referentes!Y:Z,MATCH(P1078,referentes!Z:Z,0),1))","v":""},"","",null,null,null,null,null,{"$f":"IF(X1078=\"\",\"\",INDEX(referentes!J:K,MATCH(X1078,referentes!J:J,0),2))","v":""},null,null,""]
["30000401000000",null,0,{"$f":"IF(E1079<>\"\",CONCATENATE(B1079,A1079,DIGITADOR!$M$1,C1079),\"\")","v":""},null,null,"","","",null,1075,"",{"$f":"IF(R1079=R1078,\"\",IF(E1079<>\"\",CONCATENATE(B1079,A1079,DIGITADOR!$M$1,C1079),\"\"))","v":""},null,{"$f":"IF(N1079=\"\",\"\",INDEX(referentes!S:T,MATCH(N1079,referentes!T:T,0),1))","v":""},null,{"$f":"IF(P1079=\"\",\"\",INDEX(referentes!Y:Z,MATCH(P1079,referentes!Z:Z,0),1))","v":""},"","",null,null,null,null,null,{"$f":"IF(X1079=\"\",\"\",INDEX(referentes!J:K,MATCH(X1079,referentes!J:J,0),2))","v":""},null,null,""]
["30000401000000",null,0,{"$f":"IF(E1080<>\"\",CONCATENATE(B1080,A1080,DIGITADOR!$M$1,C1080),\"\")","v":""},null,null,"","","",null,1076,"",{"$f":"IF(R1080=R1079,\"\",IF(E1080<>\"\",CONCATENATE(B1080,A1080,DIGITADOR!$M$1,C1080),\"\"))","v":""},null,{"$f":"IF(N1080=\"\",\"\",INDEX(referentes!S:T,MATCH(N1080,referentes!T:T,0),1))","v":""},null,{"$f":"IF(P1080=\"\",\"\",INDEX(referentes!Y:Z,MATCH(P1080,referentes!Z:Z,0),1))","v":""},"","",null,null,null,null,null,{"$f":"IF(X1080=\"\",\"\",INDEX(referentes!J:K,MATCH(X1080,referentes!J:J,0),2))","v":""},null,null,""]
["30000401000000",null,0,{"$f":"IF(E1081<>\"\",CONCATENATE(B1081,A1081,DIGITADOR!$M$1,C1081),\"\")","v":""},null,null,"","","",null,1077,"",{"$f":"IF(R1081=R1080,\"\",IF(E1081<>\"\",CONCATENATE(B1081,A1081,DIGITADOR!$M$1,C1081),\"\"))","v":""},null,{"$f":"IF(N1081=\"\",\"\",INDEX(referentes!S:T,MATCH(N1081,referentes!T:T,0),1))","v":""},null,{"$f":"IF(P1081=\"\",\"\",INDEX(referentes!Y:Z,MATCH(P1081,referentes!Z:Z,0),1))","v":""},"","",null,null,null,null,null,{"$f":"IF(X1081=\"\",\"\",INDEX(referentes!J:K,MATCH(X1081,referentes!J:J,0),2))","v":""},null,null,""]
["30000401000000",null,0,{"$f":"IF(E1082<>\"\",CONCATENATE(B1082,A1082,DIGITADOR!$M$1,C1082),\"\")","v":""},null,null,"","","",null,1078,"",{"$f":"IF(R1082=R1081,\"\",IF(E1082<>\"\",CONCATENATE(B1082,A1082,DIGITADOR!$M$1,C1082),\"\"))","v":""},null,{"$f":"IF(N1082=\"\",\"\",INDEX(referentes!S:T,MATCH(N1082,referentes!T:T,0),1))","v":""},null,{"$f":"IF(P1082=\"\",\"\",INDEX(referentes!Y:Z,MATCH(P1082,referentes!Z:Z,0),1))","v":""},"","",null,null,null,null,null,{"$f":"IF(X1082=\"\",\"\",INDEX(referentes!J:K,MATCH(X1082,referentes!J:J,0),2))","v":""},null,null,""]
["30000401000000",null,0,{"$f":"IF(E1083<>\"\",CONCATENATE(B1083,A1083,DIGITADOR!$M$1,C1083),\"\")","v":""},null,null,"","","",null,1079,"",{"$f":"IF(R1083=R1082,\"\",IF(E1083<>\"\",CONCATENATE(B1083,A1083,DIGITADOR!$M$1,C1083),\"\"))","v":""},null,{"$f":"IF(N1083=\"\",\"\",INDEX(referentes!S:T,MATCH(N1083,referentes!T:T,0),1))","v":""},null,{"$f":"IF(P1083=\"\",\"\",INDEX(referentes!Y:Z,MATCH(P1083,referentes!Z:Z,0),1))","v":""},"","",null,null,null,null,null,{"$f":"IF(X1083=\"\",\"\",INDEX(referentes!J:K,MATCH(X1083,referentes!J:J,0),2))","v":""},null,null,""]
["30000401000000",null,0,{"$f":"IF(E1084<>\"\",CONCATENATE(B1084,A1084,DIGITADOR!$M$1,C1084),\"\")","v":""},null,null,"","","",null,1080,"",{"$f":"IF(R1084=R1083,\"\",IF(E1084<>\"\",CONCATENATE(B1084,A1084,DIGITADOR!$M$1,C1084),\"\"))","v":""},null,{"$f":"IF(N1084=\"\",\"\",INDEX(referentes!S:T,MATCH(N1084,referentes!T:T,0),1))","v":""},null,{"$f":"IF(P1084=\"\",\"\",INDEX(referentes!Y:Z,MATCH(P1084,referentes!Z:Z,0),1))","v":""},"","",null,null,null,null,null,{"$f":"IF(X1084=\"\",\"\",INDEX(referentes!J:K,MATCH(X1084,referentes!J:J,0),2))","v":""},null,null,""]
["30000401000000",null,0,{"$f":"IF(E1085<>\"\",CONCATENATE(B1085,A1085,DIGITADOR!$M$1,C1085),\"\")","v":""},null,null,"","","",null,1081,"",{"$f":"IF(R1085=R1084,\"\",IF(E1085<>\"\",CONCATENATE(B1085,A1085,DIGITADOR!$M$1,C1085),\"\"))","v":""},null,{"$f":"IF(N1085=\"\",\"\",INDEX(referentes!S:T,MATCH(N1085,referentes!T:T,0),1))","v":""},null,{"$f":"IF(P1085=\"\",\"\",INDEX(referentes!Y:Z,MATCH(P1085,referentes!Z:Z,0),1))","v":""},"","",null,null,null,null,null,{"$f":"IF(X1085=\"\",\"\",INDEX(referentes!J:K,MATCH(X1085,referentes!J:J,0),2))","v":""},null,null,""]
["30000401000000",null,0,{"$f":"IF(E1086<>\"\",CONCATENATE(B1086,A1086,DIGITADOR!$M$1,C1086),\"\")","v":""},null,null,"","","",null,1082,"",{"$f":"IF(R1086=R1085,\"\",IF(E1086<>\"\",CONCATENATE(B1086,A1086,DIGITADOR!$M$1,C1086),\"\"))","v":""},null,{"$f":"IF(N1086=\"\",\"\",INDEX(referentes!S:T,MATCH(N1086,referentes!T:T,0),1))","v":""},null,{"$f":"IF(P1086=\"\",\"\",INDEX(referentes!Y:Z,MATCH(P1086,referentes!Z:Z,0),1))","v":""},"","",null,null,null,null,null,{"$f":"IF(X1086=\"\",\"\",INDEX(referentes!J:K,MATCH(X1086,referentes!J:J,0),2))","v":""},null,null,""]
["30000401000000",null,0,{"$f":"IF(E1087<>\"\",CONCATENATE(B1087,A1087,DIGITADOR!$M$1,C1087),\"\")","v":""},null,null,"","","",null,1083,"",{"$f":"IF(R1087=R1086,\"\",IF(E1087<>\"\",CONCATENATE(B1087,A1087,DIGITADOR!$M$1,C1087),\"\"))","v":""},null,{"$f":"IF(N1087=\"\",\"\",INDEX(referentes!S:T,MATCH(N1087,referentes!T:T,0),1))","v":""},null,{"$f":"IF(P1087=\"\",\"\",INDEX(referentes!Y:Z,MATCH(P1087,referentes!Z:Z,0),1))","v":""},"","",null,null,null,null,null,{"$f":"IF(X1087=\"\",\"\",INDEX(referentes!J:K,MATCH(X1087,referentes!J:J,0),2))","v":""},null,null,""]
["30000401000000",null,0,{"$f":"IF(E1088<>\"\",CONCATENATE(B1088,A1088,DIGITADOR!$M$1,C1088),\"\")","v":""},null,null,"","","",null,1084,"",{"$f":"IF(R1088=R1087,\"\",IF(E1088<>\"\",CONCATENATE(B1088,A1088,DIGITADOR!$M$1,C1088),\"\"))","v":""},null,{"$f":"IF(N1088=\"\",\"\",INDEX(referentes!S:T,MATCH(N1088,referentes!T:T,0),1))","v":""},null,{"$f":"IF(P1088=\"\",\"\",INDEX(referentes!Y:Z,MATCH(P1088,referentes!Z:Z,0),1))","v":""},"","",null,null,null,null,null,{"$f":"IF(X1088=\"\",\"\",INDEX(referentes!J:K,MATCH(X1088,referentes!J:J,0),2))","v":""},null,null,""]
["30000401000000",null,0,{"$f":"IF(E1089<>\"\",CONCATENATE(B1089,A1089,DIGITADOR!$M$1,C1089),\"\")","v":""},null,null,"","","",null,1085,"",{"$f":"IF(R1089=R1088,\"\",IF(E1089<>\"\",CONCATENATE(B1089,A1089,DIGITADOR!$M$1,C1089),\"\"))","v":""},null,{"$f":"IF(N1089=\"\",\"\",INDEX(referentes!S:T,MATCH(N1089,referentes!T:T,0),1))","v":""},null,{"$f":"IF(P1089=\"\",\"\",INDEX(referentes!Y:Z,MATCH(P1089,referentes!Z:Z,0),1))","v":""},"","",null,null,null,null,null,{"$f":"IF(X1089=\"\",\"\",INDEX(referentes!J:K,MATCH(X1089,referentes!J:J,0),2))","v":""},null,null,""]
["30000401000000",null,0,{"$f":"IF(E1090<>\"\",CONCATENATE(B1090,A1090,DIGITADOR!$M$1,C1090),\"\")","v":""},null,null,"","","",null,1086,"",{"$f":"IF(R1090=R1089,\"\",IF(E1090<>\"\",CONCATENATE(B1090,A1090,DIGITADOR!$M$1,C1090),\"\"))","v":""},null,{"$f":"IF(N1090=\"\",\"\",INDEX(referentes!S:T,MATCH(N1090,referentes!T:T,0),1))","v":""},null,{"$f":"IF(P1090=\"\",\"\",INDEX(referentes!Y:Z,MATCH(P1090,referentes!Z:Z,0),1))","v":""},"","",null,null,null,null,null,{"$f":"IF(X1090=\"\",\"\",INDEX(referentes!J:K,MATCH(X1090,referentes!J:J,0),2))","v":""},null,null,""]
["30000401000000",null,0,{"$f":"IF(E1091<>\"\",CONCATENATE(B1091,A1091,DIGITADOR!$M$1,C1091),\"\")","v":""},null,null,"","","",null,1087,"",{"$f":"IF(R1091=R1090,\"\",IF(E1091<>\"\",CONCATENATE(B1091,A1091,DIGITADOR!$M$1,C1091),\"\"))","v":""},null,{"$f":"IF(N1091=\"\",\"\",INDEX(referentes!S:T,MATCH(N1091,referentes!T:T,0),1))","v":""},null,{"$f":"IF(P1091=\"\",\"\",INDEX(referentes!Y:Z,MATCH(P1091,referentes!Z:Z,0),1))","v":""},"","",null,null,null,null,null,{"$f":"IF(X1091=\"\",\"\",INDEX(referentes!J:K,MATCH(X1091,referentes!J:J,0),2))","v":""},null,null,""]
["30000401000000",null,0,{"$f":"IF(E1092<>\"\",CONCATENATE(B1092,A1092,DIGITADOR!$M$1,C1092),\"\")","v":""},null,null,"","","",null,1088,"",{"$f":"IF(R1092=R1091,\"\",IF(E1092<>\"\",CONCATENATE(B1092,A1092,DIGITADOR!$M$1,C1092),\"\"))","v":""},null,{"$f":"IF(N1092=\"\",\"\",INDEX(referentes!S:T,MATCH(N1092,referentes!T:T,0),1))","v":""},null,{"$f":"IF(P1092=\"\",\"\",INDEX(referentes!Y:Z,MATCH(P1092,referentes!Z:Z,0),1))","v":""},"","",null,null,null,null,null,{"$f":"IF(X1092=\"\",\"\",INDEX(referentes!J:K,MATCH(X1092,referentes!J:J,0),2))","v":""},null,null,""]
["30000401000000",null,{"$f":"IF(R1093=R1092,C1092,C1092+1)","v":0},{"$f":"IF(E1093<>\"\",CONCATENATE(B1093,A1093,DIGITADOR!$M$1,C1093),\"\")","v":""},null,null,"","","",null,1089,"",{"$f":"IF(R1093=R1092,\"\",IF(E1093<>\"\",CONCATENATE(B1093,A1093,DIGITADOR!$M$1,C1093),\"\"))","v":""},null,{"$f":"IF(N1093=\"\",\"\",INDEX(referentes!S:T,MATCH(N1093,referentes!T:T,0),1))","v":""},null,{"$f":"IF(P1093=\"\",\"\",INDEX(referentes!Y:Z,MATCH(P1093,referentes!Z:Z,0),1))","v":""},"","",null,null,null,null,null,{"$f":"IF(X1093=\"\",\"\",INDEX(referentes!J:K,MATCH(X1093,referentes!J:J,0),2))","v":""},null,null,""]
["30000401000000",null,0,{"$f":"IF(E1094<>\"\",CONCATENATE(B1094,A1094,DIGITADOR!$M$1,C1094),\"\")","v":""},null,null,{"$f":"IF(E1094=\"\", \"\", (E1094+F1094))","v":""},{"$f":"IF(G1094<>\"\",MONTH(G1094),\"\")","v":""},{"$f":"IF(D1094=\"\",\"\",1)","v":""},null,1090,{"$f":"IF(E1094=\"\",\"\",CONCATENATE(D1094,K1094))","v":""},{"$f":"IF(R1094=R1093,\"\",IF(E1094<>\"\",CONCATENATE(B1094,A1094,DIGITADOR!$M$1,C1094),\"\"))","v":""},null,{"$f":"IF(N1094=\"\",\"\",INDEX(referentes!S:T,MATCH(N1094,referentes!T:T,0),1))","v":""},null,{"$f":"IF(P1094=\"\",\"\",INDEX(referentes!Y:Z,MATCH(P1094,referentes!Z:Z,0),1))","v":""},{"$f":"IF(G1094=\"\",\"\",CONCATENATE(G1094,O1094,Q1094))","v":""},{"$f":"IF(E1094=\"\",\"\",\"INVEMAR\")","v":""},null,null,null,null,null,{"$f":"IF(X1094=\"\",\"\",INDEX(referentes!J:K,MATCH(X1094,referentes!J:J,0),2))","v":""},null,null,{"$f":"IF(T1094=\"\",\"\",IF(T1094=T1093,AB1093,AA1094))","v":""}]
[{"$f":"A1094","v":"30000401000000"},null,0,{"$f":"IF(E1095<>\"\",CONCATENATE(B1095,A1095,DIGITADOR!$M$1,C1095),\"\")","v":""},null,null,"","","",null,1091,"",{"$f":"IF(R1095=R1094,\"\",IF(E1095<>\"\",CONCATENATE(B1095,A1095,DIGITADOR!$M$1,C1095),\"\"))","v":""},null,{"$f":"IF(N1095=\"\",\"\",INDEX(referentes!S:T,MATCH(N1095,referentes!T:T,0),1))","v":""},null,{"$f":"IF(P1095=\"\",\"\",INDEX(referentes!Y:Z,MATCH(P1095,referentes!Z:Z,0),1))","v":""},"","",null,null,null,null,null,{"$f":"IF(X1095=\"\",\"\",INDEX(referentes!J:K,MATCH(X1095,referentes!J:J,0),2))","v":""},null,null,""]
["30000401000000",null,0,{"$f":"IF(E1096<>\"\",CONCATENATE(B1096,A1096,DIGITADOR!$M$1,C1096),\"\")","v":""},null,null,"","","",null,1092,"",{"$f":"IF(R1096=R1095,\"\",IF(E1096<>\"\",CONCATENATE(B1096,A1096,DIGITADOR!$M$1,C1096),\"\"))","v":""},null,{"$f":"IF(N1096=\"\",\"\",INDEX(referentes!S:T,MATCH(N1096,referentes!T:T,0),1))","v":""},null,{"$f":"IF(P1096=\"\",\"\",INDEX(referentes!Y:Z,MATCH(P1096,referentes!Z:Z,0),1))","v":""},"","",null,null,null,null,null,{"$f":"IF(X1096=\"\",\"\",INDEX(referentes!J:K,MATCH(X1096,referentes!J:J,0),2))","v":""},null,null,""]
["30000401000000",null,0,{"$f":"IF(E1097<>\"\",CONCATENATE(B1097,A1097,DIGITADOR!$M$1,C1097),\"\")","v":""},null,null,"","","",null,1093,"",{"$f":"IF(R1097=R1096,\"\",IF(E1097<>\"\",CONCATENATE(B1097,A1097,DIGITADOR!$M$1,C1097),\"\"))","v":""},null,{"$f":"IF(N1097=\"\",\"\",INDEX(referentes!S:T,MATCH(N1097,referentes!T:T,0),1))","v":""},null,{"$f":"IF(P1097=\"\",\"\",INDEX(referentes!Y:Z,MATCH(P1097,referentes!Z:Z,0),1))","v":""},"","",null,null,null,null,null,{"$f":"IF(X1097=\"\",\"\",INDEX(referentes!J:K,MATCH(X1097,referentes!J:J,0),2))","v":""},null,null,""]
["30000401000000",null,0,{"$f":"IF(E1098<>\"\",CONCATENATE(B1098,A1098,DIGITADOR!$M$1,C1098),\"\")","v":""},null,null,"","","",null,1094,"",{"$f":"IF(R1098=R1097,\"\",IF(E1098<>\"\",CONCATENATE(B1098,A1098,DIGITADOR!$M$1,C1098),\"\"))","v":""},null,{"$f":"IF(N1098=\"\",\"\",INDEX(referentes!S:T,MATCH(N1098,referentes!T:T,0),1))","v":""},null,{"$f":"IF(P1098=\"\",\"\",INDEX(referentes!Y:Z,MATCH(P1098,referentes!Z:Z,0),1))","v":""},"","",null,null,null,null,null,{"$f":"IF(X1098=\"\",\"\",INDEX(referentes!J:K,MATCH(X1098,referentes!J:J,0),2))","v":""},null,null,""]
["30000401000000",null,0,{"$f":"IF(E1099<>\"\",CONCATENATE(B1099,A1099,DIGITADOR!$M$1,C1099),\"\")","v":""},null,null,"","","",null,1095,"",{"$f":"IF(R1099=R1098,\"\",IF(E1099<>\"\",CONCATENATE(B1099,A1099,DIGITADOR!$M$1,C1099),\"\"))","v":""},null,{"$f":"IF(N1099=\"\",\"\",INDEX(referentes!S:T,MATCH(N1099,referentes!T:T,0),1))","v":""},null,{"$f":"IF(P1099=\"\",\"\",INDEX(referentes!Y:Z,MATCH(P1099,referentes!Z:Z,0),1))","v":""},"","",null,null,null,null,null,{"$f":"IF(X1099=\"\",\"\",INDEX(referentes!J:K,MATCH(X1099,referentes!J:J,0),2))","v":""},null,null,""]
["30000401000000",null,0,{"$f":"IF(E1100<>\"\",CONCATENATE(B1100,A1100,DIGITADOR!$M$1,C1100),\"\")","v":""},null,null,"","","",null,1096,"",{"$f":"IF(R1100=R1099,\"\",IF(E1100<>\"\",CONCATENATE(B1100,A1100,DIGITADOR!$M$1,C1100),\"\"))","v":""},null,{"$f":"IF(N1100=\"\",\"\",INDEX(referentes!S:T,MATCH(N1100,referentes!T:T,0),1))","v":""},null,{"$f":"IF(P1100=\"\",\"\",INDEX(referentes!Y:Z,MATCH(P1100,referentes!Z:Z,0),1))","v":""},"","",null,null,null,null,null,{"$f":"IF(X1100=\"\",\"\",INDEX(referentes!J:K,MATCH(X1100,referentes!J:J,0),2))","v":""},null,null,""]
["30000401000000",null,0,{"$f":"IF(E1101<>\"\",CONCATENATE(B1101,A1101,DIGITADOR!$M$1,C1101),\"\")","v":""},null,null,"","","",null,1097,"",{"$f":"IF(R1101=R1100,\"\",IF(E1101<>\"\",CONCATENATE(B1101,A1101,DIGITADOR!$M$1,C1101),\"\"))","v":""},null,{"$f":"IF(N1101=\"\",\"\",INDEX(referentes!S:T,MATCH(N1101,referentes!T:T,0),1))","v":""},null,{"$f":"IF(P1101=\"\",\"\",INDEX(referentes!Y:Z,MATCH(P1101,referentes!Z:Z,0),1))","v":""},"","",null,null,null,null,null,{"$f":"IF(X1101=\"\",\"\",INDEX(referentes!J:K,MATCH(X1101,referentes!J:J,0),2))","v":""},null,null,""]
["30000401000000",null,0,{"$f":"IF(E1102<>\"\",CONCATENATE(B1102,A1102,DIGITADOR!$M$1,C1102),\"\")","v":""},null,null,"","","",null,1098,"",{"$f":"IF(R1102=R1101,\"\",IF(E1102<>\"\",CONCATENATE(B1102,A1102,DIGITADOR!$M$1,C1102),\"\"))","v":""},null,{"$f":"IF(N1102=\"\",\"\",INDEX(referentes!S:T,MATCH(N1102,referentes!T:T,0),1))","v":""},null,{"$f":"IF(P1102=\"\",\"\",INDEX(referentes!Y:Z,MATCH(P1102,referentes!Z:Z,0),1))","v":""},"","",null,null,null,null,null,{"$f":"IF(X1102=\"\",\"\",INDEX(referentes!J:K,MATCH(X1102,referentes!J:J,0),2))","v":""},null,null,""]
["30000401000000",null,0,{"$f":"IF(E1103<>\"\",CONCATENATE(B1103,A1103,DIGITADOR!$M$1,C1103),\"\")","v":""},null,null,"","","",null,1099,"",{"$f":"IF(R1103=R1102,\"\",IF(E1103<>\"\",CONCATENATE(B1103,A1103,DIGITADOR!$M$1,C1103),\"\"))","v":""},null,{"$f":"IF(N1103=\"\",\"\",INDEX(referentes!S:T,MATCH(N1103,referentes!T:T,0),1))","v":""},null,{"$f":"IF(P1103=\"\",\"\",INDEX(referentes!Y:Z,MATCH(P1103,referentes!Z:Z,0),1))","v":""},"","",null,null,null,null,null,{"$f":"IF(X1103=\"\",\"\",INDEX(referentes!J:K,MATCH(X1103,referentes!J:J,0),2))","v":""},null,null,""]
["30000401000000",null,0,{"$f":"IF(E1104<>\"\",CONCATENATE(B1104,A1104,DIGITADOR!$M$1,C1104),\"\")","v":""},null,null,"","","",null,1100,"",{"$f":"IF(R1104=R1103,\"\",IF(E1104<>\"\",CONCATENATE(B1104,A1104,DIGITADOR!$M$1,C1104),\"\"))","v":""},null,{"$f":"IF(N1104=\"\",\"\",INDEX(referentes!S:T,MATCH(N1104,referentes!T:T,0),1))","v":""},null,{"$f":"IF(P1104=\"\",\"\",INDEX(referentes!Y:Z,MATCH(P1104,referentes!Z:Z,0),1))","v":""},"","",null,null,null,null,null,{"$f":"IF(X1104=\"\",\"\",INDEX(referentes!J:K,MATCH(X1104,referentes!J:J,0),2))","v":""},null,null,""]
["30000401000000",null,0,{"$f":"IF(E1105<>\"\",CONCATENATE(B1105,A1105,DIGITADOR!$M$1,C1105),\"\")","v":""},null,null,"","","",null,1101,"",{"$f":"IF(R1105=R1104,\"\",IF(E1105<>\"\",CONCATENATE(B1105,A1105,DIGITADOR!$M$1,C1105),\"\"))","v":""},null,{"$f":"IF(N1105=\"\",\"\",INDEX(referentes!S:T,MATCH(N1105,referentes!T:T,0),1))","v":""},null,{"$f":"IF(P1105=\"\",\"\",INDEX(referentes!Y:Z,MATCH(P1105,referentes!Z:Z,0),1))","v":""},"","",null,null,null,null,null,{"$f":"IF(X1105=\"\",\"\",INDEX(referentes!J:K,MATCH(X1105,referentes!J:J,0),2))","v":""},null,null,""]
["30000401000000",null,0,{"$f":"IF(E1106<>\"\",CONCATENATE(B1106,A1106,DIGITADOR!$M$1,C1106),\"\")","v":""},null,null,"","","",null,1102,"",{"$f":"IF(R1106=R1105,\"\",IF(E1106<>\"\",CONCATENATE(B1106,A1106,DIGITADOR!$M$1,C1106),\"\"))","v":""},null,{"$f":"IF(N1106=\"\",\"\",INDEX(referentes!S:T,MATCH(N1106,referentes!T:T,0),1))","v":""},null,{"$f":"IF(P1106=\"\",\"\",INDEX(referentes!Y:Z,MATCH(P1106,referentes!Z:Z,0),1))","v":""},"","",null,null,null,null,null,{"$f":"IF(X1106=\"\",\"\",INDEX(referentes!J:K,MATCH(X1106,referentes!J:J,0),2))","v":""},null,null,""]
["30000401000000",null,0,{"$f":"IF(E1107<>\"\",CONCATENATE(B1107,A1107,DIGITADOR!$M$1,C1107),\"\")","v":""},null,null,"","","",null,1103,"",{"$f":"IF(R1107=R1106,\"\",IF(E1107<>\"\",CONCATENATE(B1107,A1107,DIGITADOR!$M$1,C1107),\"\"))","v":""},null,{"$f":"IF(N1107=\"\",\"\",INDEX(referentes!S:T,MATCH(N1107,referentes!T:T,0),1))","v":""},null,{"$f":"IF(P1107=\"\",\"\",INDEX(referentes!Y:Z,MATCH(P1107,referentes!Z:Z,0),1))","v":""},"","",null,null,null,null,null,{"$f":"IF(X1107=\"\",\"\",INDEX(referentes!J:K,MATCH(X1107,referentes!J:J,0),2))","v":""},null,null,""]
["30000401000000",null,0,{"$f":"IF(E1108<>\"\",CONCATENATE(B1108,A1108,DIGITADOR!$M$1,C1108),\"\")","v":""},null,null,"","","",null,1104,"",{"$f":"IF(R1108=R1107,\"\",IF(E1108<>\"\",CONCATENATE(B1108,A1108,DIGITADOR!$M$1,C1108),\"\"))","v":""},null,{"$f":"IF(N1108=\"\",\"\",INDEX(referentes!S:T,MATCH(N1108,referentes!T:T,0),1))","v":""},null,{"$f":"IF(P1108=\"\",\"\",INDEX(referentes!Y:Z,MATCH(P1108,referentes!Z:Z,0),1))","v":""},"","",null,null,null,null,null,{"$f":"IF(X1108=\"\",\"\",INDEX(referentes!J:K,MATCH(X1108,referentes!J:J,0),2))","v":""},null,null,""]
["30000401000000",null,0,{"$f":"IF(E1109<>\"\",CONCATENATE(B1109,A1109,DIGITADOR!$M$1,C1109),\"\")","v":""},null,null,"","","",null,1105,"",{"$f":"IF(R1109=R1108,\"\",IF(E1109<>\"\",CONCATENATE(B1109,A1109,DIGITADOR!$M$1,C1109),\"\"))","v":""},null,{"$f":"IF(N1109=\"\",\"\",INDEX(referentes!S:T,MATCH(N1109,referentes!T:T,0),1))","v":""},null,{"$f":"IF(P1109=\"\",\"\",INDEX(referentes!Y:Z,MATCH(P1109,referentes!Z:Z,0),1))","v":""},"","",null,null,null,null,null,{"$f":"IF(X1109=\"\",\"\",INDEX(referentes!J:K,MATCH(X1109,referentes!J:J,0),2))","v":""},null,null,""]
["30000401000000",null,0,{"$f":"IF(E1110<>\"\",CONCATENATE(B1110,A1110,DIGITADOR!$M$1,C1110),\"\")","v":""},null,null,"","","",null,1106,"",{"$f":"IF(R1110=R1109,\"\",IF(E1110<>\"\",CONCATENATE(B1110,A1110,DIGITADOR!$M$1,C1110),\"\"))","v":""},null,{"$f":"IF(N1110=\"\",\"\",INDEX(referentes!S:T,MATCH(N1110,referentes!T:T,0),1))","v":""},null,{"$f":"IF(P1110=\"\",\"\",INDEX(referentes!Y:Z,MATCH(P1110,referentes!Z:Z,0),1))","v":""},"","",null,null,null,null,null,{"$f":"IF(X1110=\"\",\"\",INDEX(referentes!J:K,MATCH(X1110,referentes!J:J,0),2))","v":""},null,null,""]
["30000401000000",null,0,{"$f":"IF(E1111<>\"\",CONCATENATE(B1111,A1111,DIGITADOR!$M$1,C1111),\"\")","v":""},null,null,"","","",null,1107,"",{"$f":"IF(R1111=R1110,\"\",IF(E1111<>\"\",CONCATENATE(B1111,A1111,DIGITADOR!$M$1,C1111),\"\"))","v":""},null,{"$f":"IF(N1111=\"\",\"\",INDEX(referentes!S:T,MATCH(N1111,referentes!T:T,0),1))","v":""},null,{"$f":"IF(P1111=\"\",\"\",INDEX(referentes!Y:Z,MATCH(P1111,referentes!Z:Z,0),1))","v":""},"","",null,null,null,null,null,{"$f":"IF(X1111=\"\",\"\",INDEX(referentes!J:K,MATCH(X1111,referentes!J:J,0),2))","v":""},null,null,""]
["30000401000000",null,0,{"$f":"IF(E1112<>\"\",CONCATENATE(B1112,A1112,DIGITADOR!$M$1,C1112),\"\")","v":""},null,null,"","","",null,1108,"",{"$f":"IF(R1112=R1111,\"\",IF(E1112<>\"\",CONCATENATE(B1112,A1112,DIGITADOR!$M$1,C1112),\"\"))","v":""},null,{"$f":"IF(N1112=\"\",\"\",INDEX(referentes!S:T,MATCH(N1112,referentes!T:T,0),1))","v":""},null,{"$f":"IF(P1112=\"\",\"\",INDEX(referentes!Y:Z,MATCH(P1112,referentes!Z:Z,0),1))","v":""},"","",null,null,null,null,null,{"$f":"IF(X1112=\"\",\"\",INDEX(referentes!J:K,MATCH(X1112,referentes!J:J,0),2))","v":""},null,null,""]
["30000401000000",null,0,{"$f":"IF(E1113<>\"\",CONCATENATE(B1113,A1113,DIGITADOR!$M$1,C1113),\"\")","v":""},null,null,"","","",null,1109,"",{"$f":"IF(R1113=R1112,\"\",IF(E1113<>\"\",CONCATENATE(B1113,A1113,DIGITADOR!$M$1,C1113),\"\"))","v":""},null,{"$f":"IF(N1113=\"\",\"\",INDEX(referentes!S:T,MATCH(N1113,referentes!T:T,0),1))","v":""},null,{"$f":"IF(P1113=\"\",\"\",INDEX(referentes!Y:Z,MATCH(P1113,referentes!Z:Z,0),1))","v":""},"","",null,null,null,null,null,{"$f":"IF(X1113=\"\",\"\",INDEX(referentes!J:K,MATCH(X1113,referentes!J:J,0),2))","v":""},null,null,""]
["30000401000000",null,0,{"$f":"IF(E1114<>\"\",CONCATENATE(B1114,A1114,DIGITADOR!$M$1,C1114),\"\")","v":""},null,null,"","","",null,1110,"",{"$f":"IF(R1114=R1113,\"\",IF(E1114<>\"\",CONCATENATE(B1114,A1114,DIGITADOR!$M$1,C1114),\"\"))","v":""},null,{"$f":"IF(N1114=\"\",\"\",INDEX(referentes!S:T,MATCH(N1114,referentes!T:T,0),1))","v":""},null,{"$f":"IF(P1114=\"\",\"\",INDEX(referentes!Y:Z,MATCH(P1114,referentes!Z:Z,0),1))","v":""},"","",null,null,null,null,null,{"$f":"IF(X1114=\"\",\"\",INDEX(referentes!J:K,MATCH(X1114,referentes!J:J,0),2))","v":""},null,null,""]
["30000401000000",null,0,{"$f":"IF(E1115<>\"\",CONCATENATE(B1115,A1115,DIGITADOR!$M$1,C1115),\"\")","v":""},null,null,"","","",null,1111,"",{"$f":"IF(R1115=R1114,\"\",IF(E1115<>\"\",CONCATENATE(B1115,A1115,DIGITADOR!$M$1,C1115),\"\"))","v":""},null,{"$f":"IF(N1115=\"\",\"\",INDEX(referentes!S:T,MATCH(N1115,referentes!T:T,0),1))","v":""},null,{"$f":"IF(P1115=\"\",\"\",INDEX(referentes!Y:Z,MATCH(P1115,referentes!Z:Z,0),1))","v":""},"","",null,null,null,null,null,{"$f":"IF(X1115=\"\",\"\",INDEX(referentes!J:K,MATCH(X1115,referentes!J:J,0),2))","v":""},null,null,""]
["30000401000000",null,0,{"$f":"IF(E1116<>\"\",CONCATENATE(B1116,A1116,DIGITADOR!$M$1,C1116),\"\")","v":""},null,null,"","","",null,1112,"",{"$f":"IF(R1116=R1115,\"\",IF(E1116<>\"\",CONCATENATE(B1116,A1116,DIGITADOR!$M$1,C1116),\"\"))","v":""},null,{"$f":"IF(N1116=\"\",\"\",INDEX(referentes!S:T,MATCH(N1116,referentes!T:T,0),1))","v":""},null,{"$f":"IF(P1116=\"\",\"\",INDEX(referentes!Y:Z,MATCH(P1116,referentes!Z:Z,0),1))","v":""},"","",null,null,null,null,null,{"$f":"IF(X1116=\"\",\"\",INDEX(referentes!J:K,MATCH(X1116,referentes!J:J,0),2))","v":""},null,null,""]
["30000401000000",null,0,{"$f":"IF(E1117<>\"\",CONCATENATE(B1117,A1117,DIGITADOR!$M$1,C1117),\"\")","v":""},null,null,"","","",null,1113,"",{"$f":"IF(R1117=R1116,\"\",IF(E1117<>\"\",CONCATENATE(B1117,A1117,DIGITADOR!$M$1,C1117),\"\"))","v":""},null,{"$f":"IF(N1117=\"\",\"\",INDEX(referentes!S:T,MATCH(N1117,referentes!T:T,0),1))","v":""},null,{"$f":"IF(P1117=\"\",\"\",INDEX(referentes!Y:Z,MATCH(P1117,referentes!Z:Z,0),1))","v":""},"","",null,null,null,null,null,{"$f":"IF(X1117=\"\",\"\",INDEX(referentes!J:K,MATCH(X1117,referentes!J:J,0),2))","v":""},null,null,""]
["30000401000000",null,0,{"$f":"IF(E1118<>\"\",CONCATENATE(B1118,A1118,DIGITADOR!$M$1,C1118),\"\")","v":""},null,null,"","","",null,1114,"",{"$f":"IF(R1118=R1117,\"\",IF(E1118<>\"\",CONCATENATE(B1118,A1118,DIGITADOR!$M$1,C1118),\"\"))","v":""},null,{"$f":"IF(N1118=\"\",\"\",INDEX(referentes!S:T,MATCH(N1118,referentes!T:T,0),1))","v":""},null,{"$f":"IF(P1118=\"\",\"\",INDEX(referentes!Y:Z,MATCH(P1118,referentes!Z:Z,0),1))","v":""},"","",null,null,null,null,null,{"$f":"IF(X1118=\"\",\"\",INDEX(referentes!J:K,MATCH(X1118,referentes!J:J,0),2))","v":""},null,null,""]
["30000401000000",null,0,{"$f":"IF(E1119<>\"\",CONCATENATE(B1119,A1119,DIGITADOR!$M$1,C1119),\"\")","v":""},null,null,"","","",null,1115,"",{"$f":"IF(R1119=R1118,\"\",IF(E1119<>\"\",CONCATENATE(B1119,A1119,DIGITADOR!$M$1,C1119),\"\"))","v":""},null,{"$f":"IF(N1119=\"\",\"\",INDEX(referentes!S:T,MATCH(N1119,referentes!T:T,0),1))","v":""},null,{"$f":"IF(P1119=\"\",\"\",INDEX(referentes!Y:Z,MATCH(P1119,referentes!Z:Z,0),1))","v":""},"","",null,null,null,null,null,{"$f":"IF(X1119=\"\",\"\",INDEX(referentes!J:K,MATCH(X1119,referentes!J:J,0),2))","v":""},null,null,""]
["30000401000000",null,0,{"$f":"IF(E1120<>\"\",CONCATENATE(B1120,A1120,DIGITADOR!$M$1,C1120),\"\")","v":""},null,null,"","","",null,1116,"",{"$f":"IF(R1120=R1119,\"\",IF(E1120<>\"\",CONCATENATE(B1120,A1120,DIGITADOR!$M$1,C1120),\"\"))","v":""},null,{"$f":"IF(N1120=\"\",\"\",INDEX(referentes!S:T,MATCH(N1120,referentes!T:T,0),1))","v":""},null,{"$f":"IF(P1120=\"\",\"\",INDEX(referentes!Y:Z,MATCH(P1120,referentes!Z:Z,0),1))","v":""},"","",null,null,null,null,null,{"$f":"IF(X1120=\"\",\"\",INDEX(referentes!J:K,MATCH(X1120,referentes!J:J,0),2))","v":""},null,null,""]
["30000401000000",null,0,{"$f":"IF(E1121<>\"\",CONCATENATE(B1121,A1121,DIGITADOR!$M$1,C1121),\"\")","v":""},null,null,"","","",null,1117,"",{"$f":"IF(R1121=R1120,\"\",IF(E1121<>\"\",CONCATENATE(B1121,A1121,DIGITADOR!$M$1,C1121),\"\"))","v":""},null,{"$f":"IF(N1121=\"\",\"\",INDEX(referentes!S:T,MATCH(N1121,referentes!T:T,0),1))","v":""},null,{"$f":"IF(P1121=\"\",\"\",INDEX(referentes!Y:Z,MATCH(P1121,referentes!Z:Z,0),1))","v":""},"","",null,null,null,null,null,{"$f":"IF(X1121=\"\",\"\",INDEX(referentes!J:K,MATCH(X1121,referentes!J:J,0),2))","v":""},null,null,""]
["30000401000000",null,0,{"$f":"IF(E1122<>\"\",CONCATENATE(B1122,A1122,DIGITADOR!$M$1,C1122),\"\")","v":""},null,null,"","","",null,1118,"",{"$f":"IF(R1122=R1121,\"\",IF(E1122<>\"\",CONCATENATE(B1122,A1122,DIGITADOR!$M$1,C1122),\"\"))","v":""},null,{"$f":"IF(N1122=\"\",\"\",INDEX(referentes!S:T,MATCH(N1122,referentes!T:T,0),1))","v":""},null,{"$f":"IF(P1122=\"\",\"\",INDEX(referentes!Y:Z,MATCH(P1122,referentes!Z:Z,0),1))","v":""},"","",null,null,null,null,null,{"$f":"IF(X1122=\"\",\"\",INDEX(referentes!J:K,MATCH(X1122,referentes!J:J,0),2))","v":""},null,null,""]
["30000401000000",null,0,{"$f":"IF(E1123<>\"\",CONCATENATE(B1123,A1123,DIGITADOR!$M$1,C1123),\"\")","v":""},null,null,"","","",null,1119,"",{"$f":"IF(R1123=R1122,\"\",IF(E1123<>\"\",CONCATENATE(B1123,A1123,DIGITADOR!$M$1,C1123),\"\"))","v":""},null,{"$f":"IF(N1123=\"\",\"\",INDEX(referentes!S:T,MATCH(N1123,referentes!T:T,0),1))","v":""},null,{"$f":"IF(P1123=\"\",\"\",INDEX(referentes!Y:Z,MATCH(P1123,referentes!Z:Z,0),1))","v":""},"","",null,null,null,null,null,{"$f":"IF(X1123=\"\",\"\",INDEX(referentes!J:K,MATCH(X1123,referentes!J:J,0),2))","v":""},null,null,""]
["30000401000000",null,0,{"$f":"IF(E1124<>\"\",CONCATENATE(B1124,A1124,DIGITADOR!$M$1,C1124),\"\")","v":""},null,null,"","","",null,1120,"",{"$f":"IF(R1124=R1123,\"\",IF(E1124<>\"\",CONCATENATE(B1124,A1124,DIGITADOR!$M$1,C1124),\"\"))","v":""},null,{"$f":"IF(N1124=\"\",\"\",INDEX(referentes!S:T,MATCH(N1124,referentes!T:T,0),1))","v":""},null,{"$f":"IF(P1124=\"\",\"\",INDEX(referentes!Y:Z,MATCH(P1124,referentes!Z:Z,0),1))","v":""},"","",null,null,null,null,null,{"$f":"IF(X1124=\"\",\"\",INDEX(referentes!J:K,MATCH(X1124,referentes!J:J,0),2))","v":""},null,null,""]
["30000401000000",null,0,{"$f":"IF(E1125<>\"\",CONCATENATE(B1125,A1125,DIGITADOR!$M$1,C1125),\"\")","v":""},null,null,"","","",null,1121,"",{"$f":"IF(R1125=R1124,\"\",IF(E1125<>\"\",CONCATENATE(B1125,A1125,DIGITADOR!$M$1,C1125),\"\"))","v":""},null,{"$f":"IF(N1125=\"\",\"\",INDEX(referentes!S:T,MATCH(N1125,referentes!T:T,0),1))","v":""},null,{"$f":"IF(P1125=\"\",\"\",INDEX(referentes!Y:Z,MATCH(P1125,referentes!Z:Z,0),1))","v":""},"","",null,null,null,null,null,{"$f":"IF(X1125=\"\",\"\",INDEX(referentes!J:K,MATCH(X1125,referentes!J:J,0),2))","v":""},null,null,""]
["30000401000000",null,0,{"$f":"IF(E1126<>\"\",CONCATENATE(B1126,A1126,DIGITADOR!$M$1,C1126),\"\")","v":""},null,null,"","","",null,1122,"",{"$f":"IF(R1126=R1125,\"\",IF(E1126<>\"\",CONCATENATE(B1126,A1126,DIGITADOR!$M$1,C1126),\"\"))","v":""},null,{"$f":"IF(N1126=\"\",\"\",INDEX(referentes!S:T,MATCH(N1126,referentes!T:T,0),1))","v":""},null,{"$f":"IF(P1126=\"\",\"\",INDEX(referentes!Y:Z,MATCH(P1126,referentes!Z:Z,0),1))","v":""},"","",null,null,null,null,null,{"$f":"IF(X1126=\"\",\"\",INDEX(referentes!J:K,MATCH(X1126,referentes!J:J,0),2))","v":""},null,null,""]
["30000401000000",null,0,{"$f":"IF(E1127<>\"\",CONCATENATE(B1127,A1127,DIGITADOR!$M$1,C1127),\"\")","v":""},null,null,"","","",null,1123,"",{"$f":"IF(R1127=R1126,\"\",IF(E1127<>\"\",CONCATENATE(B1127,A1127,DIGITADOR!$M$1,C1127),\"\"))","v":""},null,{"$f":"IF(N1127=\"\",\"\",INDEX(referentes!S:T,MATCH(N1127,referentes!T:T,0),1))","v":""},null,{"$f":"IF(P1127=\"\",\"\",INDEX(referentes!Y:Z,MATCH(P1127,referentes!Z:Z,0),1))","v":""},"","",null,null,null,null,null,{"$f":"IF(X1127=\"\",\"\",INDEX(referentes!J:K,MATCH(X1127,referentes!J:J,0),2))","v":""},null,null,""]
["30000401000000",null,0,{"$f":"IF(E1128<>\"\",CONCATENATE(B1128,A1128,DIGITADOR!$M$1,C1128),\"\")","v":""},null,null,"","","",null,1124,"",{"$f":"IF(R1128=R1127,\"\",IF(E1128<>\"\",CONCATENATE(B1128,A1128,DIGITADOR!$M$1,C1128),\"\"))","v":""},null,{"$f":"IF(N1128=\"\",\"\",INDEX(referentes!S:T,MATCH(N1128,referentes!T:T,0),1))","v":""},null,{"$f":"IF(P1128=\"\",\"\",INDEX(referentes!Y:Z,MATCH(P1128,referentes!Z:Z,0),1))","v":""},"","",null,null,null,null,null,{"$f":"IF(X1128=\"\",\"\",INDEX(referentes!J:K,MATCH(X1128,referentes!J:J,0),2))","v":""},null,null,""]
["30000401000000",null,0,{"$f":"IF(E1129<>\"\",CONCATENATE(B1129,A1129,DIGITADOR!$M$1,C1129),\"\")","v":""},null,null,"","","",null,1125,"",{"$f":"IF(R1129=R1128,\"\",IF(E1129<>\"\",CONCATENATE(B1129,A1129,DIGITADOR!$M$1,C1129),\"\"))","v":""},null,{"$f":"IF(N1129=\"\",\"\",INDEX(referentes!S:T,MATCH(N1129,referentes!T:T,0),1))","v":""},null,{"$f":"IF(P1129=\"\",\"\",INDEX(referentes!Y:Z,MATCH(P1129,referentes!Z:Z,0),1))","v":""},"","",null,null,null,null,null,{"$f":"IF(X1129=\"\",\"\",INDEX(referentes!J:K,MATCH(X1129,referentes!J:J,0),2))","v":""},null,null,""]
["30000401000000",null,0,{"$f":"IF(E1130<>\"\",CONCATENATE(B1130,A1130,DIGITADOR!$M$1,C1130),\"\")","v":""},null,null,"","","",null,1126,"",{"$f":"IF(R1130=R1129,\"\",IF(E1130<>\"\",CONCATENATE(B1130,A1130,DIGITADOR!$M$1,C1130),\"\"))","v":""},null,{"$f":"IF(N1130=\"\",\"\",INDEX(referentes!S:T,MATCH(N1130,referentes!T:T,0),1))","v":""},null,{"$f":"IF(P1130=\"\",\"\",INDEX(referentes!Y:Z,MATCH(P1130,referentes!Z:Z,0),1))","v":""},"","",null,null,null,null,null,{"$f":"IF(X1130=\"\",\"\",INDEX(referentes!J:K,MATCH(X1130,referentes!J:J,0),2))","v":""},null,null,""]
["30000401000000",null,0,{"$f":"IF(E1131<>\"\",CONCATENATE(B1131,A1131,DIGITADOR!$M$1,C1131),\"\")","v":""},null,null,"","","",null,1127,"",{"$f":"IF(R1131=R1130,\"\",IF(E1131<>\"\",CONCATENATE(B1131,A1131,DIGITADOR!$M$1,C1131),\"\"))","v":""},null,{"$f":"IF(N1131=\"\",\"\",INDEX(referentes!S:T,MATCH(N1131,referentes!T:T,0),1))","v":""},null,{"$f":"IF(P1131=\"\",\"\",INDEX(referentes!Y:Z,MATCH(P1131,referentes!Z:Z,0),1))","v":""},"","",null,null,null,null,null,{"$f":"IF(X1131=\"\",\"\",INDEX(referentes!J:K,MATCH(X1131,referentes!J:J,0),2))","v":""},null,null,""]
["30000401000000",null,0,{"$f":"IF(E1132<>\"\",CONCATENATE(B1132,A1132,DIGITADOR!$M$1,C1132),\"\")","v":""},null,null,"","","",null,1128,"",{"$f":"IF(R1132=R1131,\"\",IF(E1132<>\"\",CONCATENATE(B1132,A1132,DIGITADOR!$M$1,C1132),\"\"))","v":""},null,{"$f":"IF(N1132=\"\",\"\",INDEX(referentes!S:T,MATCH(N1132,referentes!T:T,0),1))","v":""},null,{"$f":"IF(P1132=\"\",\"\",INDEX(referentes!Y:Z,MATCH(P1132,referentes!Z:Z,0),1))","v":""},"","",null,null,null,null,null,{"$f":"IF(X1132=\"\",\"\",INDEX(referentes!J:K,MATCH(X1132,referentes!J:J,0),2))","v":""},null,null,""]
["30000401000000",null,0,{"$f":"IF(E1133<>\"\",CONCATENATE(B1133,A1133,DIGITADOR!$M$1,C1133),\"\")","v":""},null,null,"","","",null,1129,"",{"$f":"IF(R1133=R1132,\"\",IF(E1133<>\"\",CONCATENATE(B1133,A1133,DIGITADOR!$M$1,C1133),\"\"))","v":""},null,{"$f":"IF(N1133=\"\",\"\",INDEX(referentes!S:T,MATCH(N1133,referentes!T:T,0),1))","v":""},null,{"$f":"IF(P1133=\"\",\"\",INDEX(referentes!Y:Z,MATCH(P1133,referentes!Z:Z,0),1))","v":""},"","",null,null,null,null,null,{"$f":"IF(X1133=\"\",\"\",INDEX(referentes!J:K,MATCH(X1133,referentes!J:J,0),2))","v":""},null,null,""]
["30000401000000",null,0,{"$f":"IF(E1134<>\"\",CONCATENATE(B1134,A1134,DIGITADOR!$M$1,C1134),\"\")","v":""},null,null,"","","",null,1130,"",{"$f":"IF(R1134=R1133,\"\",IF(E1134<>\"\",CONCATENATE(B1134,A1134,DIGITADOR!$M$1,C1134),\"\"))","v":""},null,{"$f":"IF(N1134=\"\",\"\",INDEX(referentes!S:T,MATCH(N1134,referentes!T:T,0),1))","v":""},null,{"$f":"IF(P1134=\"\",\"\",INDEX(referentes!Y:Z,MATCH(P1134,referentes!Z:Z,0),1))","v":""},"","",null,null,null,null,null,{"$f":"IF(X1134=\"\",\"\",INDEX(referentes!J:K,MATCH(X1134,referentes!J:J,0),2))","v":""},null,null,""]
["30000401000000",null,0,{"$f":"IF(E1135<>\"\",CONCATENATE(B1135,A1135,DIGITADOR!$M$1,C1135),\"\")","v":""},null,null,"","","",null,1131,"",{"$f":"IF(R1135=R1134,\"\",IF(E1135<>\"\",CONCATENATE(B1135,A1135,DIGITADOR!$M$1,C1135),\"\"))","v":""},null,{"$f":"IF(N1135=\"\",\"\",INDEX(referentes!S:T,MATCH(N1135,referentes!T:T,0),1))","v":""},null,{"$f":"IF(P1135=\"\",\"\",INDEX(referentes!Y:Z,MATCH(P1135,referentes!Z:Z,0),1))","v":""},"","",null,null,null,null,null,{"$f":"IF(X1135=\"\",\"\",INDEX(referentes!J:K,MATCH(X1135,referentes!J:J,0),2))","v":""},null,null,""]
["30000401000000",null,0,{"$f":"IF(E1136<>\"\",CONCATENATE(B1136,A1136,DIGITADOR!$M$1,C1136),\"\")","v":""},null,null,"","","",null,1132,"",{"$f":"IF(R1136=R1135,\"\",IF(E1136<>\"\",CONCATENATE(B1136,A1136,DIGITADOR!$M$1,C1136),\"\"))","v":""},null,{"$f":"IF(N1136=\"\",\"\",INDEX(referentes!S:T,MATCH(N1136,referentes!T:T,0),1))","v":""},null,{"$f":"IF(P1136=\"\",\"\",INDEX(referentes!Y:Z,MATCH(P1136,referentes!Z:Z,0),1))","v":""},"","",null,null,null,null,null,{"$f":"IF(X1136=\"\",\"\",INDEX(referentes!J:K,MATCH(X1136,referentes!J:J,0),2))","v":""},null,null,""]
["30000401000000",null,0,{"$f":"IF(E1137<>\"\",CONCATENATE(B1137,A1137,DIGITADOR!$M$1,C1137),\"\")","v":""},null,null,"","","",null,1133,"",{"$f":"IF(R1137=R1136,\"\",IF(E1137<>\"\",CONCATENATE(B1137,A1137,DIGITADOR!$M$1,C1137),\"\"))","v":""},null,{"$f":"IF(N1137=\"\",\"\",INDEX(referentes!S:T,MATCH(N1137,referentes!T:T,0),1))","v":""},null,{"$f":"IF(P1137=\"\",\"\",INDEX(referentes!Y:Z,MATCH(P1137,referentes!Z:Z,0),1))","v":""},"","",null,null,null,null,null,{"$f":"IF(X1137=\"\",\"\",INDEX(referentes!J:K,MATCH(X1137,referentes!J:J,0),2))","v":""},null,null,""]
["30000401000000",null,0,{"$f":"IF(E1138<>\"\",CONCATENATE(B1138,A1138,DIGITADOR!$M$1,C1138),\"\")","v":""},null,null,"","","",null,1134,"",{"$f":"IF(R1138=R1137,\"\",IF(E1138<>\"\",CONCATENATE(B1138,A1138,DIGITADOR!$M$1,C1138),\"\"))","v":""},null,{"$f":"IF(N1138=\"\",\"\",INDEX(referentes!S:T,MATCH(N1138,referentes!T:T,0),1))","v":""},null,{"$f":"IF(P1138=\"\",\"\",INDEX(referentes!Y:Z,MATCH(P1138,referentes!Z:Z,0),1))","v":""},"","",null,null,null,null,null,{"$f":"IF(X1138=\"\",\"\",INDEX(referentes!J:K,MATCH(X1138,referentes!J:J,0),2))","v":""},null,null,""]
["30000401000000",null,0,{"$f":"IF(E1139<>\"\",CONCATENATE(B1139,A1139,DIGITADOR!$M$1,C1139),\"\")","v":""},null,null,"","","",null,1135,"",{"$f":"IF(R1139=R1138,\"\",IF(E1139<>\"\",CONCATENATE(B1139,A1139,DIGITADOR!$M$1,C1139),\"\"))","v":""},null,{"$f":"IF(N1139=\"\",\"\",INDEX(referentes!S:T,MATCH(N1139,referentes!T:T,0),1))","v":""},null,{"$f":"IF(P1139=\"\",\"\",INDEX(referentes!Y:Z,MATCH(P1139,referentes!Z:Z,0),1))","v":""},"","",null,null,null,null,null,{"$f":"IF(X1139=\"\",\"\",INDEX(referentes!J:K,MATCH(X1139,referentes!J:J,0),2))","v":""},null,null,""]
["30000401000000",null,0,{"$f":"IF(E1140<>\"\",CONCATENATE(B1140,A1140,DIGITADOR!$M$1,C1140),\"\")","v":""},null,null,"","","",null,1136,"",{"$f":"IF(R1140=R1139,\"\",IF(E1140<>\"\",CONCATENATE(B1140,A1140,DIGITADOR!$M$1,C1140),\"\"))","v":""},null,{"$f":"IF(N1140=\"\",\"\",INDEX(referentes!S:T,MATCH(N1140,referentes!T:T,0),1))","v":""},null,{"$f":"IF(P1140=\"\",\"\",INDEX(referentes!Y:Z,MATCH(P1140,referentes!Z:Z,0),1))","v":""},"","",null,null,null,null,null,{"$f":"IF(X1140=\"\",\"\",INDEX(referentes!J:K,MATCH(X1140,referentes!J:J,0),2))","v":""},null,null,""]
["30000401000000",null,0,{"$f":"IF(E1141<>\"\",CONCATENATE(B1141,A1141,DIGITADOR!$M$1,C1141),\"\")","v":""},null,null,"","","",null,1137,"",{"$f":"IF(R1141=R1140,\"\",IF(E1141<>\"\",CONCATENATE(B1141,A1141,DIGITADOR!$M$1,C1141),\"\"))","v":""},null,{"$f":"IF(N1141=\"\",\"\",INDEX(referentes!S:T,MATCH(N1141,referentes!T:T,0),1))","v":""},null,{"$f":"IF(P1141=\"\",\"\",INDEX(referentes!Y:Z,MATCH(P1141,referentes!Z:Z,0),1))","v":""},"","",null,null,null,null,null,{"$f":"IF(X1141=\"\",\"\",INDEX(referentes!J:K,MATCH(X1141,referentes!J:J,0),2))","v":""},null,null,""]
["30000401000000",null,0,{"$f":"IF(E1142<>\"\",CONCATENATE(B1142,A1142,DIGITADOR!$M$1,C1142),\"\")","v":""},null,null,"","","",null,1138,"",{"$f":"IF(R1142=R1141,\"\",IF(E1142<>\"\",CONCATENATE(B1142,A1142,DIGITADOR!$M$1,C1142),\"\"))","v":""},null,{"$f":"IF(N1142=\"\",\"\",INDEX(referentes!S:T,MATCH(N1142,referentes!T:T,0),1))","v":""},null,{"$f":"IF(P1142=\"\",\"\",INDEX(referentes!Y:Z,MATCH(P1142,referentes!Z:Z,0),1))","v":""},"","",null,null,null,null,null,{"$f":"IF(X1142=\"\",\"\",INDEX(referentes!J:K,MATCH(X1142,referentes!J:J,0),2))","v":""},null,null,""]
["30000401000000",null,0,{"$f":"IF(E1143<>\"\",CONCATENATE(B1143,A1143,DIGITADOR!$M$1,C1143),\"\")","v":""},null,null,"","","",null,1139,"",{"$f":"IF(R1143=R1142,\"\",IF(E1143<>\"\",CONCATENATE(B1143,A1143,DIGITADOR!$M$1,C1143),\"\"))","v":""},null,{"$f":"IF(N1143=\"\",\"\",INDEX(referentes!S:T,MATCH(N1143,referentes!T:T,0),1))","v":""},null,{"$f":"IF(P1143=\"\",\"\",INDEX(referentes!Y:Z,MATCH(P1143,referentes!Z:Z,0),1))","v":""},"","",null,null,null,null,null,{"$f":"IF(X1143=\"\",\"\",INDEX(referentes!J:K,MATCH(X1143,referentes!J:J,0),2))","v":""},null,null,""]
["30000401000000",null,0,{"$f":"IF(E1144<>\"\",CONCATENATE(B1144,A1144,DIGITADOR!$M$1,C1144),\"\")","v":""},null,null,"","","",null,1140,"",{"$f":"IF(R1144=R1143,\"\",IF(E1144<>\"\",CONCATENATE(B1144,A1144,DIGITADOR!$M$1,C1144),\"\"))","v":""},null,{"$f":"IF(N1144=\"\",\"\",INDEX(referentes!S:T,MATCH(N1144,referentes!T:T,0),1))","v":""},null,{"$f":"IF(P1144=\"\",\"\",INDEX(referentes!Y:Z,MATCH(P1144,referentes!Z:Z,0),1))","v":""},"","",null,null,null,null,null,{"$f":"IF(X1144=\"\",\"\",INDEX(referentes!J:K,MATCH(X1144,referentes!J:J,0),2))","v":""},null,null,""]
["30000401000000",null,0,{"$f":"IF(E1145<>\"\",CONCATENATE(B1145,A1145,DIGITADOR!$M$1,C1145),\"\")","v":""},null,null,"","","",null,1141,"",{"$f":"IF(R1145=R1144,\"\",IF(E1145<>\"\",CONCATENATE(B1145,A1145,DIGITADOR!$M$1,C1145),\"\"))","v":""},null,{"$f":"IF(N1145=\"\",\"\",INDEX(referentes!S:T,MATCH(N1145,referentes!T:T,0),1))","v":""},null,{"$f":"IF(P1145=\"\",\"\",INDEX(referentes!Y:Z,MATCH(P1145,referentes!Z:Z,0),1))","v":""},"","",null,null,null,null,null,{"$f":"IF(X1145=\"\",\"\",INDEX(referentes!J:K,MATCH(X1145,referentes!J:J,0),2))","v":""},null,null,""]
["30000401000000",null,0,{"$f":"IF(E1146<>\"\",CONCATENATE(B1146,A1146,DIGITADOR!$M$1,C1146),\"\")","v":""},null,null,"","","",null,1142,"",{"$f":"IF(R1146=R1145,\"\",IF(E1146<>\"\",CONCATENATE(B1146,A1146,DIGITADOR!$M$1,C1146),\"\"))","v":""},null,{"$f":"IF(N1146=\"\",\"\",INDEX(referentes!S:T,MATCH(N1146,referentes!T:T,0),1))","v":""},null,{"$f":"IF(P1146=\"\",\"\",INDEX(referentes!Y:Z,MATCH(P1146,referentes!Z:Z,0),1))","v":""},"","",null,null,null,null,null,{"$f":"IF(X1146=\"\",\"\",INDEX(referentes!J:K,MATCH(X1146,referentes!J:J,0),2))","v":""},null,null,""]
["30000401000000",null,0,{"$f":"IF(E1147<>\"\",CONCATENATE(B1147,A1147,DIGITADOR!$M$1,C1147),\"\")","v":""},null,null,"","","",null,1143,"",{"$f":"IF(R1147=R1146,\"\",IF(E1147<>\"\",CONCATENATE(B1147,A1147,DIGITADOR!$M$1,C1147),\"\"))","v":""},null,{"$f":"IF(N1147=\"\",\"\",INDEX(referentes!S:T,MATCH(N1147,referentes!T:T,0),1))","v":""},null,{"$f":"IF(P1147=\"\",\"\",INDEX(referentes!Y:Z,MATCH(P1147,referentes!Z:Z,0),1))","v":""},"","",null,null,null,null,null,{"$f":"IF(X1147=\"\",\"\",INDEX(referentes!J:K,MATCH(X1147,referentes!J:J,0),2))","v":""},null,null,""]
["30000401000000",null,0,{"$f":"IF(E1148<>\"\",CONCATENATE(B1148,A1148,DIGITADOR!$M$1,C1148),\"\")","v":""},null,null,"","","",null,1144,"",{"$f":"IF(R1148=R1147,\"\",IF(E1148<>\"\",CONCATENATE(B1148,A1148,DIGITADOR!$M$1,C1148),\"\"))","v":""},null,{"$f":"IF(N1148=\"\",\"\",INDEX(referentes!S:T,MATCH(N1148,referentes!T:T,0),1))","v":""},null,{"$f":"IF(P1148=\"\",\"\",INDEX(referentes!Y:Z,MATCH(P1148,referentes!Z:Z,0),1))","v":""},"","",null,null,null,null,null,{"$f":"IF(X1148=\"\",\"\",INDEX(referentes!J:K,MATCH(X1148,referentes!J:J,0),2))","v":""},null,null,""]
["30000401000000",null,0,{"$f":"IF(E1149<>\"\",CONCATENATE(B1149,A1149,DIGITADOR!$M$1,C1149),\"\")","v":""},null,null,"","","",null,1145,"",{"$f":"IF(R1149=R1148,\"\",IF(E1149<>\"\",CONCATENATE(B1149,A1149,DIGITADOR!$M$1,C1149),\"\"))","v":""},null,{"$f":"IF(N1149=\"\",\"\",INDEX(referentes!S:T,MATCH(N1149,referentes!T:T,0),1))","v":""},null,{"$f":"IF(P1149=\"\",\"\",INDEX(referentes!Y:Z,MATCH(P1149,referentes!Z:Z,0),1))","v":""},"","",null,null,null,null,null,{"$f":"IF(X1149=\"\",\"\",INDEX(referentes!J:K,MATCH(X1149,referentes!J:J,0),2))","v":""},null,null,""]
["30000401000000",null,0,{"$f":"IF(E1150<>\"\",CONCATENATE(B1150,A1150,DIGITADOR!$M$1,C1150),\"\")","v":""},null,null,"","","",null,1146,"",{"$f":"IF(R1150=R1149,\"\",IF(E1150<>\"\",CONCATENATE(B1150,A1150,DIGITADOR!$M$1,C1150),\"\"))","v":""},null,{"$f":"IF(N1150=\"\",\"\",INDEX(referentes!S:T,MATCH(N1150,referentes!T:T,0),1))","v":""},null,{"$f":"IF(P1150=\"\",\"\",INDEX(referentes!Y:Z,MATCH(P1150,referentes!Z:Z,0),1))","v":""},"","",null,null,null,null,null,{"$f":"IF(X1150=\"\",\"\",INDEX(referentes!J:K,MATCH(X1150,referentes!J:J,0),2))","v":""},null,null,""]
["30000401000000",null,0,{"$f":"IF(E1151<>\"\",CONCATENATE(B1151,A1151,DIGITADOR!$M$1,C1151),\"\")","v":""},null,null,"","","",null,1147,"",{"$f":"IF(R1151=R1150,\"\",IF(E1151<>\"\",CONCATENATE(B1151,A1151,DIGITADOR!$M$1,C1151),\"\"))","v":""},null,{"$f":"IF(N1151=\"\",\"\",INDEX(referentes!S:T,MATCH(N1151,referentes!T:T,0),1))","v":""},null,{"$f":"IF(P1151=\"\",\"\",INDEX(referentes!Y:Z,MATCH(P1151,referentes!Z:Z,0),1))","v":""},"","",null,null,null,null,null,{"$f":"IF(X1151=\"\",\"\",INDEX(referentes!J:K,MATCH(X1151,referentes!J:J,0),2))","v":""},null,null,""]
["30000401000000",null,0,{"$f":"IF(E1152<>\"\",CONCATENATE(B1152,A1152,DIGITADOR!$M$1,C1152),\"\")","v":""},null,null,"","","",null,1148,"",{"$f":"IF(R1152=R1151,\"\",IF(E1152<>\"\",CONCATENATE(B1152,A1152,DIGITADOR!$M$1,C1152),\"\"))","v":""},null,{"$f":"IF(N1152=\"\",\"\",INDEX(referentes!S:T,MATCH(N1152,referentes!T:T,0),1))","v":""},null,{"$f":"IF(P1152=\"\",\"\",INDEX(referentes!Y:Z,MATCH(P1152,referentes!Z:Z,0),1))","v":""},"","",null,null,null,null,null,{"$f":"IF(X1152=\"\",\"\",INDEX(referentes!J:K,MATCH(X1152,referentes!J:J,0),2))","v":""},null,null,""]
["30000401000000",null,0,{"$f":"IF(E1153<>\"\",CONCATENATE(B1153,A1153,DIGITADOR!$M$1,C1153),\"\")","v":""},null,null,"","","",null,1149,"",{"$f":"IF(R1153=R1152,\"\",IF(E1153<>\"\",CONCATENATE(B1153,A1153,DIGITADOR!$M$1,C1153),\"\"))","v":""},null,{"$f":"IF(N1153=\"\",\"\",INDEX(referentes!S:T,MATCH(N1153,referentes!T:T,0),1))","v":""},null,{"$f":"IF(P1153=\"\",\"\",INDEX(referentes!Y:Z,MATCH(P1153,referentes!Z:Z,0),1))","v":""},"","",null,null,null,null,null,{"$f":"IF(X1153=\"\",\"\",INDEX(referentes!J:K,MATCH(X1153,referentes!J:J,0),2))","v":""},null,null,""]
["30000401000000",null,0,{"$f":"IF(E1154<>\"\",CONCATENATE(B1154,A1154,DIGITADOR!$M$1,C1154),\"\")","v":""},null,null,"","","",null,1150,"",{"$f":"IF(R1154=R1153,\"\",IF(E1154<>\"\",CONCATENATE(B1154,A1154,DIGITADOR!$M$1,C1154),\"\"))","v":""},null,{"$f":"IF(N1154=\"\",\"\",INDEX(referentes!S:T,MATCH(N1154,referentes!T:T,0),1))","v":""},null,{"$f":"IF(P1154=\"\",\"\",INDEX(referentes!Y:Z,MATCH(P1154,referentes!Z:Z,0),1))","v":""},"","",null,null,null,null,null,{"$f":"IF(X1154=\"\",\"\",INDEX(referentes!J:K,MATCH(X1154,referentes!J:J,0),2))","v":""},null,null,""]
["30000401000000",null,0,{"$f":"IF(E1155<>\"\",CONCATENATE(B1155,A1155,DIGITADOR!$M$1,C1155),\"\")","v":""},null,null,"","","",null,1151,"",{"$f":"IF(R1155=R1154,\"\",IF(E1155<>\"\",CONCATENATE(B1155,A1155,DIGITADOR!$M$1,C1155),\"\"))","v":""},null,{"$f":"IF(N1155=\"\",\"\",INDEX(referentes!S:T,MATCH(N1155,referentes!T:T,0),1))","v":""},null,{"$f":"IF(P1155=\"\",\"\",INDEX(referentes!Y:Z,MATCH(P1155,referentes!Z:Z,0),1))","v":""},"","",null,null,null,null,null,{"$f":"IF(X1155=\"\",\"\",INDEX(referentes!J:K,MATCH(X1155,referentes!J:J,0),2))","v":""},null,null,""]
["30000401000000",null,0,{"$f":"IF(E1156<>\"\",CONCATENATE(B1156,A1156,DIGITADOR!$M$1,C1156),\"\")","v":""},null,null,"","","",null,1152,"",{"$f":"IF(R1156=R1155,\"\",IF(E1156<>\"\",CONCATENATE(B1156,A1156,DIGITADOR!$M$1,C1156),\"\"))","v":""},null,{"$f":"IF(N1156=\"\",\"\",INDEX(referentes!S:T,MATCH(N1156,referentes!T:T,0),1))","v":""},null,{"$f":"IF(P1156=\"\",\"\",INDEX(referentes!Y:Z,MATCH(P1156,referentes!Z:Z,0),1))","v":""},"","",null,null,null,null,null,{"$f":"IF(X1156=\"\",\"\",INDEX(referentes!J:K,MATCH(X1156,referentes!J:J,0),2))","v":""},null,null,""]
["30000401000000",null,{"$f":"IF(R1157=R1156,C1156,C1156+1)","v":0},{"$f":"IF(E1157<>\"\",CONCATENATE(B1157,A1157,DIGITADOR!$M$1,C1157),\"\")","v":""},null,null,"","","",null,1153,"",{"$f":"IF(R1157=R1156,\"\",IF(E1157<>\"\",CONCATENATE(B1157,A1157,DIGITADOR!$M$1,C1157),\"\"))","v":""},null,{"$f":"IF(N1157=\"\",\"\",INDEX(referentes!S:T,MATCH(N1157,referentes!T:T,0),1))","v":""},null,{"$f":"IF(P1157=\"\",\"\",INDEX(referentes!Y:Z,MATCH(P1157,referentes!Z:Z,0),1))","v":""},"","",null,null,null,null,null,{"$f":"IF(X1157=\"\",\"\",INDEX(referentes!J:K,MATCH(X1157,referentes!J:J,0),2))","v":""},null,null,""]
["30000401000000",null,0,{"$f":"IF(E1158<>\"\",CONCATENATE(B1158,A1158,DIGITADOR!$M$1,C1158),\"\")","v":""},null,null,{"$f":"IF(E1158=\"\", \"\", (E1158+F1158))","v":""},{"$f":"IF(G1158<>\"\",MONTH(G1158),\"\")","v":""},{"$f":"IF(D1158=\"\",\"\",1)","v":""},null,1154,{"$f":"IF(E1158=\"\",\"\",CONCATENATE(D1158,K1158))","v":""},{"$f":"IF(R1158=R1157,\"\",IF(E1158<>\"\",CONCATENATE(B1158,A1158,DIGITADOR!$M$1,C1158),\"\"))","v":""},null,{"$f":"IF(N1158=\"\",\"\",INDEX(referentes!S:T,MATCH(N1158,referentes!T:T,0),1))","v":""},null,{"$f":"IF(P1158=\"\",\"\",INDEX(referentes!Y:Z,MATCH(P1158,referentes!Z:Z,0),1))","v":""},{"$f":"IF(G1158=\"\",\"\",CONCATENATE(G1158,O1158,Q1158))","v":""},{"$f":"IF(E1158=\"\",\"\",\"INVEMAR\")","v":""},null,null,null,null,null,{"$f":"IF(X1158=\"\",\"\",INDEX(referentes!J:K,MATCH(X1158,referentes!J:J,0),2))","v":""},null,null,{"$f":"IF(T1158=\"\",\"\",IF(T1158=T1157,AB1157,AA1158))","v":""}]
[{"$f":"A1158","v":"30000401000000"},null,0,{"$f":"IF(E1159<>\"\",CONCATENATE(B1159,A1159,DIGITADOR!$M$1,C1159),\"\")","v":""},null,null,"","","",null,1155,"",{"$f":"IF(R1159=R1158,\"\",IF(E1159<>\"\",CONCATENATE(B1159,A1159,DIGITADOR!$M$1,C1159),\"\"))","v":""},null,{"$f":"IF(N1159=\"\",\"\",INDEX(referentes!S:T,MATCH(N1159,referentes!T:T,0),1))","v":""},null,{"$f":"IF(P1159=\"\",\"\",INDEX(referentes!Y:Z,MATCH(P1159,referentes!Z:Z,0),1))","v":""},"","",null,null,null,null,null,{"$f":"IF(X1159=\"\",\"\",INDEX(referentes!J:K,MATCH(X1159,referentes!J:J,0),2))","v":""},null,null,""]
["30000401000000",null,0,{"$f":"IF(E1160<>\"\",CONCATENATE(B1160,A1160,DIGITADOR!$M$1,C1160),\"\")","v":""},null,null,"","","",null,1156,"",{"$f":"IF(R1160=R1159,\"\",IF(E1160<>\"\",CONCATENATE(B1160,A1160,DIGITADOR!$M$1,C1160),\"\"))","v":""},null,{"$f":"IF(N1160=\"\",\"\",INDEX(referentes!S:T,MATCH(N1160,referentes!T:T,0),1))","v":""},null,{"$f":"IF(P1160=\"\",\"\",INDEX(referentes!Y:Z,MATCH(P1160,referentes!Z:Z,0),1))","v":""},"","",null,null,null,null,null,{"$f":"IF(X1160=\"\",\"\",INDEX(referentes!J:K,MATCH(X1160,referentes!J:J,0),2))","v":""},null,null,""]
["30000401000000",null,0,{"$f":"IF(E1161<>\"\",CONCATENATE(B1161,A1161,DIGITADOR!$M$1,C1161),\"\")","v":""},null,null,"","","",null,1157,"",{"$f":"IF(R1161=R1160,\"\",IF(E1161<>\"\",CONCATENATE(B1161,A1161,DIGITADOR!$M$1,C1161),\"\"))","v":""},null,{"$f":"IF(N1161=\"\",\"\",INDEX(referentes!S:T,MATCH(N1161,referentes!T:T,0),1))","v":""},null,{"$f":"IF(P1161=\"\",\"\",INDEX(referentes!Y:Z,MATCH(P1161,referentes!Z:Z,0),1))","v":""},"","",null,null,null,null,null,{"$f":"IF(X1161=\"\",\"\",INDEX(referentes!J:K,MATCH(X1161,referentes!J:J,0),2))","v":""},null,null,""]
["30000401000000",null,0,{"$f":"IF(E1162<>\"\",CONCATENATE(B1162,A1162,DIGITADOR!$M$1,C1162),\"\")","v":""},null,null,"","","",null,1158,"",{"$f":"IF(R1162=R1161,\"\",IF(E1162<>\"\",CONCATENATE(B1162,A1162,DIGITADOR!$M$1,C1162),\"\"))","v":""},null,{"$f":"IF(N1162=\"\",\"\",INDEX(referentes!S:T,MATCH(N1162,referentes!T:T,0),1))","v":""},null,{"$f":"IF(P1162=\"\",\"\",INDEX(referentes!Y:Z,MATCH(P1162,referentes!Z:Z,0),1))","v":""},"","",null,null,null,null,null,{"$f":"IF(X1162=\"\",\"\",INDEX(referentes!J:K,MATCH(X1162,referentes!J:J,0),2))","v":""},null,null,""]
["30000401000000",null,0,{"$f":"IF(E1163<>\"\",CONCATENATE(B1163,A1163,DIGITADOR!$M$1,C1163),\"\")","v":""},null,null,"","","",null,1159,"",{"$f":"IF(R1163=R1162,\"\",IF(E1163<>\"\",CONCATENATE(B1163,A1163,DIGITADOR!$M$1,C1163),\"\"))","v":""},null,{"$f":"IF(N1163=\"\",\"\",INDEX(referentes!S:T,MATCH(N1163,referentes!T:T,0),1))","v":""},null,{"$f":"IF(P1163=\"\",\"\",INDEX(referentes!Y:Z,MATCH(P1163,referentes!Z:Z,0),1))","v":""},"","",null,null,null,null,null,{"$f":"IF(X1163=\"\",\"\",INDEX(referentes!J:K,MATCH(X1163,referentes!J:J,0),2))","v":""},null,null,""]
["30000401000000",null,0,{"$f":"IF(E1164<>\"\",CONCATENATE(B1164,A1164,DIGITADOR!$M$1,C1164),\"\")","v":""},null,null,"","","",null,1160,"",{"$f":"IF(R1164=R1163,\"\",IF(E1164<>\"\",CONCATENATE(B1164,A1164,DIGITADOR!$M$1,C1164),\"\"))","v":""},null,{"$f":"IF(N1164=\"\",\"\",INDEX(referentes!S:T,MATCH(N1164,referentes!T:T,0),1))","v":""},null,{"$f":"IF(P1164=\"\",\"\",INDEX(referentes!Y:Z,MATCH(P1164,referentes!Z:Z,0),1))","v":""},"","",null,null,null,null,null,{"$f":"IF(X1164=\"\",\"\",INDEX(referentes!J:K,MATCH(X1164,referentes!J:J,0),2))","v":""},null,null,""]
["30000401000000",null,0,{"$f":"IF(E1165<>\"\",CONCATENATE(B1165,A1165,DIGITADOR!$M$1,C1165),\"\")","v":""},null,null,"","","",null,1161,"",{"$f":"IF(R1165=R1164,\"\",IF(E1165<>\"\",CONCATENATE(B1165,A1165,DIGITADOR!$M$1,C1165),\"\"))","v":""},null,{"$f":"IF(N1165=\"\",\"\",INDEX(referentes!S:T,MATCH(N1165,referentes!T:T,0),1))","v":""},null,{"$f":"IF(P1165=\"\",\"\",INDEX(referentes!Y:Z,MATCH(P1165,referentes!Z:Z,0),1))","v":""},"","",null,null,null,null,null,{"$f":"IF(X1165=\"\",\"\",INDEX(referentes!J:K,MATCH(X1165,referentes!J:J,0),2))","v":""},null,null,""]
["30000401000000",null,0,{"$f":"IF(E1166<>\"\",CONCATENATE(B1166,A1166,DIGITADOR!$M$1,C1166),\"\")","v":""},null,null,"","","",null,1162,"",{"$f":"IF(R1166=R1165,\"\",IF(E1166<>\"\",CONCATENATE(B1166,A1166,DIGITADOR!$M$1,C1166),\"\"))","v":""},null,{"$f":"IF(N1166=\"\",\"\",INDEX(referentes!S:T,MATCH(N1166,referentes!T:T,0),1))","v":""},null,{"$f":"IF(P1166=\"\",\"\",INDEX(referentes!Y:Z,MATCH(P1166,referentes!Z:Z,0),1))","v":""},"","",null,null,null,null,null,{"$f":"IF(X1166=\"\",\"\",INDEX(referentes!J:K,MATCH(X1166,referentes!J:J,0),2))","v":""},null,null,""]
["30000401000000",null,0,{"$f":"IF(E1167<>\"\",CONCATENATE(B1167,A1167,DIGITADOR!$M$1,C1167),\"\")","v":""},null,null,"","","",null,1163,"",{"$f":"IF(R1167=R1166,\"\",IF(E1167<>\"\",CONCATENATE(B1167,A1167,DIGITADOR!$M$1,C1167),\"\"))","v":""},null,{"$f":"IF(N1167=\"\",\"\",INDEX(referentes!S:T,MATCH(N1167,referentes!T:T,0),1))","v":""},null,{"$f":"IF(P1167=\"\",\"\",INDEX(referentes!Y:Z,MATCH(P1167,referentes!Z:Z,0),1))","v":""},"","",null,null,null,null,null,{"$f":"IF(X1167=\"\",\"\",INDEX(referentes!J:K,MATCH(X1167,referentes!J:J,0),2))","v":""},null,null,""]
["30000401000000",null,0,{"$f":"IF(E1168<>\"\",CONCATENATE(B1168,A1168,DIGITADOR!$M$1,C1168),\"\")","v":""},null,null,"","","",null,1164,"",{"$f":"IF(R1168=R1167,\"\",IF(E1168<>\"\",CONCATENATE(B1168,A1168,DIGITADOR!$M$1,C1168),\"\"))","v":""},null,{"$f":"IF(N1168=\"\",\"\",INDEX(referentes!S:T,MATCH(N1168,referentes!T:T,0),1))","v":""},null,{"$f":"IF(P1168=\"\",\"\",INDEX(referentes!Y:Z,MATCH(P1168,referentes!Z:Z,0),1))","v":""},"","",null,null,null,null,null,{"$f":"IF(X1168=\"\",\"\",INDEX(referentes!J:K,MATCH(X1168,referentes!J:J,0),2))","v":""},null,null,""]
["30000401000000",null,0,{"$f":"IF(E1169<>\"\",CONCATENATE(B1169,A1169,DIGITADOR!$M$1,C1169),\"\")","v":""},null,null,"","","",null,1165,"",{"$f":"IF(R1169=R1168,\"\",IF(E1169<>\"\",CONCATENATE(B1169,A1169,DIGITADOR!$M$1,C1169),\"\"))","v":""},null,{"$f":"IF(N1169=\"\",\"\",INDEX(referentes!S:T,MATCH(N1169,referentes!T:T,0),1))","v":""},null,{"$f":"IF(P1169=\"\",\"\",INDEX(referentes!Y:Z,MATCH(P1169,referentes!Z:Z,0),1))","v":""},"","",null,null,null,null,null,{"$f":"IF(X1169=\"\",\"\",INDEX(referentes!J:K,MATCH(X1169,referentes!J:J,0),2))","v":""},null,null,""]
["30000401000000",null,0,{"$f":"IF(E1170<>\"\",CONCATENATE(B1170,A1170,DIGITADOR!$M$1,C1170),\"\")","v":""},null,null,"","","",null,1166,"",{"$f":"IF(R1170=R1169,\"\",IF(E1170<>\"\",CONCATENATE(B1170,A1170,DIGITADOR!$M$1,C1170),\"\"))","v":""},null,{"$f":"IF(N1170=\"\",\"\",INDEX(referentes!S:T,MATCH(N1170,referentes!T:T,0),1))","v":""},null,{"$f":"IF(P1170=\"\",\"\",INDEX(referentes!Y:Z,MATCH(P1170,referentes!Z:Z,0),1))","v":""},"","",null,null,null,null,null,{"$f":"IF(X1170=\"\",\"\",INDEX(referentes!J:K,MATCH(X1170,referentes!J:J,0),2))","v":""},null,null,""]
["30000401000000",null,0,{"$f":"IF(E1171<>\"\",CONCATENATE(B1171,A1171,DIGITADOR!$M$1,C1171),\"\")","v":""},null,null,"","","",null,1167,"",{"$f":"IF(R1171=R1170,\"\",IF(E1171<>\"\",CONCATENATE(B1171,A1171,DIGITADOR!$M$1,C1171),\"\"))","v":""},null,{"$f":"IF(N1171=\"\",\"\",INDEX(referentes!S:T,MATCH(N1171,referentes!T:T,0),1))","v":""},null,{"$f":"IF(P1171=\"\",\"\",INDEX(referentes!Y:Z,MATCH(P1171,referentes!Z:Z,0),1))","v":""},"","",null,null,null,null,null,{"$f":"IF(X1171=\"\",\"\",INDEX(referentes!J:K,MATCH(X1171,referentes!J:J,0),2))","v":""},null,null,""]
["30000401000000",null,0,{"$f":"IF(E1172<>\"\",CONCATENATE(B1172,A1172,DIGITADOR!$M$1,C1172),\"\")","v":""},null,null,"","","",null,1168,"",{"$f":"IF(R1172=R1171,\"\",IF(E1172<>\"\",CONCATENATE(B1172,A1172,DIGITADOR!$M$1,C1172),\"\"))","v":""},null,{"$f":"IF(N1172=\"\",\"\",INDEX(referentes!S:T,MATCH(N1172,referentes!T:T,0),1))","v":""},null,{"$f":"IF(P1172=\"\",\"\",INDEX(referentes!Y:Z,MATCH(P1172,referentes!Z:Z,0),1))","v":""},"","",null,null,null,null,null,{"$f":"IF(X1172=\"\",\"\",INDEX(referentes!J:K,MATCH(X1172,referentes!J:J,0),2))","v":""},null,null,""]
["30000401000000",null,0,{"$f":"IF(E1173<>\"\",CONCATENATE(B1173,A1173,DIGITADOR!$M$1,C1173),\"\")","v":""},null,null,"","","",null,1169,"",{"$f":"IF(R1173=R1172,\"\",IF(E1173<>\"\",CONCATENATE(B1173,A1173,DIGITADOR!$M$1,C1173),\"\"))","v":""},null,{"$f":"IF(N1173=\"\",\"\",INDEX(referentes!S:T,MATCH(N1173,referentes!T:T,0),1))","v":""},null,{"$f":"IF(P1173=\"\",\"\",INDEX(referentes!Y:Z,MATCH(P1173,referentes!Z:Z,0),1))","v":""},"","",null,null,null,null,null,{"$f":"IF(X1173=\"\",\"\",INDEX(referentes!J:K,MATCH(X1173,referentes!J:J,0),2))","v":""},null,null,""]
["30000401000000",null,0,{"$f":"IF(E1174<>\"\",CONCATENATE(B1174,A1174,DIGITADOR!$M$1,C1174),\"\")","v":""},null,null,"","","",null,1170,"",{"$f":"IF(R1174=R1173,\"\",IF(E1174<>\"\",CONCATENATE(B1174,A1174,DIGITADOR!$M$1,C1174),\"\"))","v":""},null,{"$f":"IF(N1174=\"\",\"\",INDEX(referentes!S:T,MATCH(N1174,referentes!T:T,0),1))","v":""},null,{"$f":"IF(P1174=\"\",\"\",INDEX(referentes!Y:Z,MATCH(P1174,referentes!Z:Z,0),1))","v":""},"","",null,null,null,null,null,{"$f":"IF(X1174=\"\",\"\",INDEX(referentes!J:K,MATCH(X1174,referentes!J:J,0),2))","v":""},null,null,""]
["30000401000000",null,0,{"$f":"IF(E1175<>\"\",CONCATENATE(B1175,A1175,DIGITADOR!$M$1,C1175),\"\")","v":""},null,null,"","","",null,1171,"",{"$f":"IF(R1175=R1174,\"\",IF(E1175<>\"\",CONCATENATE(B1175,A1175,DIGITADOR!$M$1,C1175),\"\"))","v":""},null,{"$f":"IF(N1175=\"\",\"\",INDEX(referentes!S:T,MATCH(N1175,referentes!T:T,0),1))","v":""},null,{"$f":"IF(P1175=\"\",\"\",INDEX(referentes!Y:Z,MATCH(P1175,referentes!Z:Z,0),1))","v":""},"","",null,null,null,null,null,{"$f":"IF(X1175=\"\",\"\",INDEX(referentes!J:K,MATCH(X1175,referentes!J:J,0),2))","v":""},null,null,""]
["30000401000000",null,0,{"$f":"IF(E1176<>\"\",CONCATENATE(B1176,A1176,DIGITADOR!$M$1,C1176),\"\")","v":""},null,null,"","","",null,1172,"",{"$f":"IF(R1176=R1175,\"\",IF(E1176<>\"\",CONCATENATE(B1176,A1176,DIGITADOR!$M$1,C1176),\"\"))","v":""},null,{"$f":"IF(N1176=\"\",\"\",INDEX(referentes!S:T,MATCH(N1176,referentes!T:T,0),1))","v":""},null,{"$f":"IF(P1176=\"\",\"\",INDEX(referentes!Y:Z,MATCH(P1176,referentes!Z:Z,0),1))","v":""},"","",null,null,null,null,null,{"$f":"IF(X1176=\"\",\"\",INDEX(referentes!J:K,MATCH(X1176,referentes!J:J,0),2))","v":""},null,null,""]
["30000401000000",null,0,{"$f":"IF(E1177<>\"\",CONCATENATE(B1177,A1177,DIGITADOR!$M$1,C1177),\"\")","v":""},null,null,"","","",null,1173,"",{"$f":"IF(R1177=R1176,\"\",IF(E1177<>\"\",CONCATENATE(B1177,A1177,DIGITADOR!$M$1,C1177),\"\"))","v":""},null,{"$f":"IF(N1177=\"\",\"\",INDEX(referentes!S:T,MATCH(N1177,referentes!T:T,0),1))","v":""},null,{"$f":"IF(P1177=\"\",\"\",INDEX(referentes!Y:Z,MATCH(P1177,referentes!Z:Z,0),1))","v":""},"","",null,null,null,null,null,{"$f":"IF(X1177=\"\",\"\",INDEX(referentes!J:K,MATCH(X1177,referentes!J:J,0),2))","v":""},null,null,""]
["30000401000000",null,0,{"$f":"IF(E1178<>\"\",CONCATENATE(B1178,A1178,DIGITADOR!$M$1,C1178),\"\")","v":""},null,null,"","","",null,1174,"",{"$f":"IF(R1178=R1177,\"\",IF(E1178<>\"\",CONCATENATE(B1178,A1178,DIGITADOR!$M$1,C1178),\"\"))","v":""},null,{"$f":"IF(N1178=\"\",\"\",INDEX(referentes!S:T,MATCH(N1178,referentes!T:T,0),1))","v":""},null,{"$f":"IF(P1178=\"\",\"\",INDEX(referentes!Y:Z,MATCH(P1178,referentes!Z:Z,0),1))","v":""},"","",null,null,null,null,null,{"$f":"IF(X1178=\"\",\"\",INDEX(referentes!J:K,MATCH(X1178,referentes!J:J,0),2))","v":""},null,null,""]
["30000401000000",null,0,{"$f":"IF(E1179<>\"\",CONCATENATE(B1179,A1179,DIGITADOR!$M$1,C1179),\"\")","v":""},null,null,"","","",null,1175,"",{"$f":"IF(R1179=R1178,\"\",IF(E1179<>\"\",CONCATENATE(B1179,A1179,DIGITADOR!$M$1,C1179),\"\"))","v":""},null,{"$f":"IF(N1179=\"\",\"\",INDEX(referentes!S:T,MATCH(N1179,referentes!T:T,0),1))","v":""},null,{"$f":"IF(P1179=\"\",\"\",INDEX(referentes!Y:Z,MATCH(P1179,referentes!Z:Z,0),1))","v":""},"","",null,null,null,null,null,{"$f":"IF(X1179=\"\",\"\",INDEX(referentes!J:K,MATCH(X1179,referentes!J:J,0),2))","v":""},null,null,""]
["30000401000000",null,0,{"$f":"IF(E1180<>\"\",CONCATENATE(B1180,A1180,DIGITADOR!$M$1,C1180),\"\")","v":""},null,null,"","","",null,1176,"",{"$f":"IF(R1180=R1179,\"\",IF(E1180<>\"\",CONCATENATE(B1180,A1180,DIGITADOR!$M$1,C1180),\"\"))","v":""},null,{"$f":"IF(N1180=\"\",\"\",INDEX(referentes!S:T,MATCH(N1180,referentes!T:T,0),1))","v":""},null,{"$f":"IF(P1180=\"\",\"\",INDEX(referentes!Y:Z,MATCH(P1180,referentes!Z:Z,0),1))","v":""},"","",null,null,null,null,null,{"$f":"IF(X1180=\"\",\"\",INDEX(referentes!J:K,MATCH(X1180,referentes!J:J,0),2))","v":""},null,null,""]
["30000401000000",null,0,{"$f":"IF(E1181<>\"\",CONCATENATE(B1181,A1181,DIGITADOR!$M$1,C1181),\"\")","v":""},null,null,"","","",null,1177,"",{"$f":"IF(R1181=R1180,\"\",IF(E1181<>\"\",CONCATENATE(B1181,A1181,DIGITADOR!$M$1,C1181),\"\"))","v":""},null,{"$f":"IF(N1181=\"\",\"\",INDEX(referentes!S:T,MATCH(N1181,referentes!T:T,0),1))","v":""},null,{"$f":"IF(P1181=\"\",\"\",INDEX(referentes!Y:Z,MATCH(P1181,referentes!Z:Z,0),1))","v":""},"","",null,null,null,null,null,{"$f":"IF(X1181=\"\",\"\",INDEX(referentes!J:K,MATCH(X1181,referentes!J:J,0),2))","v":""},null,null,""]
["30000401000000",null,0,{"$f":"IF(E1182<>\"\",CONCATENATE(B1182,A1182,DIGITADOR!$M$1,C1182),\"\")","v":""},null,null,"","","",null,1178,"",{"$f":"IF(R1182=R1181,\"\",IF(E1182<>\"\",CONCATENATE(B1182,A1182,DIGITADOR!$M$1,C1182),\"\"))","v":""},null,{"$f":"IF(N1182=\"\",\"\",INDEX(referentes!S:T,MATCH(N1182,referentes!T:T,0),1))","v":""},null,{"$f":"IF(P1182=\"\",\"\",INDEX(referentes!Y:Z,MATCH(P1182,referentes!Z:Z,0),1))","v":""},"","",null,null,null,null,null,{"$f":"IF(X1182=\"\",\"\",INDEX(referentes!J:K,MATCH(X1182,referentes!J:J,0),2))","v":""},null,null,""]
["30000401000000",null,0,{"$f":"IF(E1183<>\"\",CONCATENATE(B1183,A1183,DIGITADOR!$M$1,C1183),\"\")","v":""},null,null,"","","",null,1179,"",{"$f":"IF(R1183=R1182,\"\",IF(E1183<>\"\",CONCATENATE(B1183,A1183,DIGITADOR!$M$1,C1183),\"\"))","v":""},null,{"$f":"IF(N1183=\"\",\"\",INDEX(referentes!S:T,MATCH(N1183,referentes!T:T,0),1))","v":""},null,{"$f":"IF(P1183=\"\",\"\",INDEX(referentes!Y:Z,MATCH(P1183,referentes!Z:Z,0),1))","v":""},"","",null,null,null,null,null,{"$f":"IF(X1183=\"\",\"\",INDEX(referentes!J:K,MATCH(X1183,referentes!J:J,0),2))","v":""},null,null,""]
["30000401000000",null,0,{"$f":"IF(E1184<>\"\",CONCATENATE(B1184,A1184,DIGITADOR!$M$1,C1184),\"\")","v":""},null,null,"","","",null,1180,"",{"$f":"IF(R1184=R1183,\"\",IF(E1184<>\"\",CONCATENATE(B1184,A1184,DIGITADOR!$M$1,C1184),\"\"))","v":""},null,{"$f":"IF(N1184=\"\",\"\",INDEX(referentes!S:T,MATCH(N1184,referentes!T:T,0),1))","v":""},null,{"$f":"IF(P1184=\"\",\"\",INDEX(referentes!Y:Z,MATCH(P1184,referentes!Z:Z,0),1))","v":""},"","",null,null,null,null,null,{"$f":"IF(X1184=\"\",\"\",INDEX(referentes!J:K,MATCH(X1184,referentes!J:J,0),2))","v":""},null,null,""]
["30000401000000",null,0,{"$f":"IF(E1185<>\"\",CONCATENATE(B1185,A1185,DIGITADOR!$M$1,C1185),\"\")","v":""},null,null,"","","",null,1181,"",{"$f":"IF(R1185=R1184,\"\",IF(E1185<>\"\",CONCATENATE(B1185,A1185,DIGITADOR!$M$1,C1185),\"\"))","v":""},null,{"$f":"IF(N1185=\"\",\"\",INDEX(referentes!S:T,MATCH(N1185,referentes!T:T,0),1))","v":""},null,{"$f":"IF(P1185=\"\",\"\",INDEX(referentes!Y:Z,MATCH(P1185,referentes!Z:Z,0),1))","v":""},"","",null,null,null,null,null,{"$f":"IF(X1185=\"\",\"\",INDEX(referentes!J:K,MATCH(X1185,referentes!J:J,0),2))","v":""},null,null,""]
["30000401000000",null,0,{"$f":"IF(E1186<>\"\",CONCATENATE(B1186,A1186,DIGITADOR!$M$1,C1186),\"\")","v":""},null,null,"","","",null,1182,"",{"$f":"IF(R1186=R1185,\"\",IF(E1186<>\"\",CONCATENATE(B1186,A1186,DIGITADOR!$M$1,C1186),\"\"))","v":""},null,{"$f":"IF(N1186=\"\",\"\",INDEX(referentes!S:T,MATCH(N1186,referentes!T:T,0),1))","v":""},null,{"$f":"IF(P1186=\"\",\"\",INDEX(referentes!Y:Z,MATCH(P1186,referentes!Z:Z,0),1))","v":""},"","",null,null,null,null,null,{"$f":"IF(X1186=\"\",\"\",INDEX(referentes!J:K,MATCH(X1186,referentes!J:J,0),2))","v":""},null,null,""]
["30000401000000",null,0,{"$f":"IF(E1187<>\"\",CONCATENATE(B1187,A1187,DIGITADOR!$M$1,C1187),\"\")","v":""},null,null,"","","",null,1183,"",{"$f":"IF(R1187=R1186,\"\",IF(E1187<>\"\",CONCATENATE(B1187,A1187,DIGITADOR!$M$1,C1187),\"\"))","v":""},null,{"$f":"IF(N1187=\"\",\"\",INDEX(referentes!S:T,MATCH(N1187,referentes!T:T,0),1))","v":""},null,{"$f":"IF(P1187=\"\",\"\",INDEX(referentes!Y:Z,MATCH(P1187,referentes!Z:Z,0),1))","v":""},"","",null,null,null,null,null,{"$f":"IF(X1187=\"\",\"\",INDEX(referentes!J:K,MATCH(X1187,referentes!J:J,0),2))","v":""},null,null,""]
["30000401000000",null,0,{"$f":"IF(E1188<>\"\",CONCATENATE(B1188,A1188,DIGITADOR!$M$1,C1188),\"\")","v":""},null,null,"","","",null,1184,"",{"$f":"IF(R1188=R1187,\"\",IF(E1188<>\"\",CONCATENATE(B1188,A1188,DIGITADOR!$M$1,C1188),\"\"))","v":""},null,{"$f":"IF(N1188=\"\",\"\",INDEX(referentes!S:T,MATCH(N1188,referentes!T:T,0),1))","v":""},null,{"$f":"IF(P1188=\"\",\"\",INDEX(referentes!Y:Z,MATCH(P1188,referentes!Z:Z,0),1))","v":""},"","",null,null,null,null,null,{"$f":"IF(X1188=\"\",\"\",INDEX(referentes!J:K,MATCH(X1188,referentes!J:J,0),2))","v":""},null,null,""]
["30000401000000",null,0,{"$f":"IF(E1189<>\"\",CONCATENATE(B1189,A1189,DIGITADOR!$M$1,C1189),\"\")","v":""},null,null,"","","",null,1185,"",{"$f":"IF(R1189=R1188,\"\",IF(E1189<>\"\",CONCATENATE(B1189,A1189,DIGITADOR!$M$1,C1189),\"\"))","v":""},null,{"$f":"IF(N1189=\"\",\"\",INDEX(referentes!S:T,MATCH(N1189,referentes!T:T,0),1))","v":""},null,{"$f":"IF(P1189=\"\",\"\",INDEX(referentes!Y:Z,MATCH(P1189,referentes!Z:Z,0),1))","v":""},"","",null,null,null,null,null,{"$f":"IF(X1189=\"\",\"\",INDEX(referentes!J:K,MATCH(X1189,referentes!J:J,0),2))","v":""},null,null,""]
["30000401000000",null,0,{"$f":"IF(E1190<>\"\",CONCATENATE(B1190,A1190,DIGITADOR!$M$1,C1190),\"\")","v":""},null,null,"","","",null,1186,"",{"$f":"IF(R1190=R1189,\"\",IF(E1190<>\"\",CONCATENATE(B1190,A1190,DIGITADOR!$M$1,C1190),\"\"))","v":""},null,{"$f":"IF(N1190=\"\",\"\",INDEX(referentes!S:T,MATCH(N1190,referentes!T:T,0),1))","v":""},null,{"$f":"IF(P1190=\"\",\"\",INDEX(referentes!Y:Z,MATCH(P1190,referentes!Z:Z,0),1))","v":""},"","",null,null,null,null,null,{"$f":"IF(X1190=\"\",\"\",INDEX(referentes!J:K,MATCH(X1190,referentes!J:J,0),2))","v":""},null,null,""]
["30000401000000",null,0,{"$f":"IF(E1191<>\"\",CONCATENATE(B1191,A1191,DIGITADOR!$M$1,C1191),\"\")","v":""},null,null,"","","",null,1187,"",{"$f":"IF(R1191=R1190,\"\",IF(E1191<>\"\",CONCATENATE(B1191,A1191,DIGITADOR!$M$1,C1191),\"\"))","v":""},null,{"$f":"IF(N1191=\"\",\"\",INDEX(referentes!S:T,MATCH(N1191,referentes!T:T,0),1))","v":""},null,{"$f":"IF(P1191=\"\",\"\",INDEX(referentes!Y:Z,MATCH(P1191,referentes!Z:Z,0),1))","v":""},"","",null,null,null,null,null,{"$f":"IF(X1191=\"\",\"\",INDEX(referentes!J:K,MATCH(X1191,referentes!J:J,0),2))","v":""},null,null,""]
["30000401000000",null,0,{"$f":"IF(E1192<>\"\",CONCATENATE(B1192,A1192,DIGITADOR!$M$1,C1192),\"\")","v":""},null,null,"","","",null,1188,"",{"$f":"IF(R1192=R1191,\"\",IF(E1192<>\"\",CONCATENATE(B1192,A1192,DIGITADOR!$M$1,C1192),\"\"))","v":""},null,{"$f":"IF(N1192=\"\",\"\",INDEX(referentes!S:T,MATCH(N1192,referentes!T:T,0),1))","v":""},null,{"$f":"IF(P1192=\"\",\"\",INDEX(referentes!Y:Z,MATCH(P1192,referentes!Z:Z,0),1))","v":""},"","",null,null,null,null,null,{"$f":"IF(X1192=\"\",\"\",INDEX(referentes!J:K,MATCH(X1192,referentes!J:J,0),2))","v":""},null,null,""]
["30000401000000",null,0,{"$f":"IF(E1193<>\"\",CONCATENATE(B1193,A1193,DIGITADOR!$M$1,C1193),\"\")","v":""},null,null,"","","",null,1189,"",{"$f":"IF(R1193=R1192,\"\",IF(E1193<>\"\",CONCATENATE(B1193,A1193,DIGITADOR!$M$1,C1193),\"\"))","v":""},null,{"$f":"IF(N1193=\"\",\"\",INDEX(referentes!S:T,MATCH(N1193,referentes!T:T,0),1))","v":""},null,{"$f":"IF(P1193=\"\",\"\",INDEX(referentes!Y:Z,MATCH(P1193,referentes!Z:Z,0),1))","v":""},"","",null,null,null,null,null,{"$f":"IF(X1193=\"\",\"\",INDEX(referentes!J:K,MATCH(X1193,referentes!J:J,0),2))","v":""},null,null,""]
["30000401000000",null,0,{"$f":"IF(E1194<>\"\",CONCATENATE(B1194,A1194,DIGITADOR!$M$1,C1194),\"\")","v":""},null,null,"","","",null,1190,"",{"$f":"IF(R1194=R1193,\"\",IF(E1194<>\"\",CONCATENATE(B1194,A1194,DIGITADOR!$M$1,C1194),\"\"))","v":""},null,{"$f":"IF(N1194=\"\",\"\",INDEX(referentes!S:T,MATCH(N1194,referentes!T:T,0),1))","v":""},null,{"$f":"IF(P1194=\"\",\"\",INDEX(referentes!Y:Z,MATCH(P1194,referentes!Z:Z,0),1))","v":""},"","",null,null,null,null,null,{"$f":"IF(X1194=\"\",\"\",INDEX(referentes!J:K,MATCH(X1194,referentes!J:J,0),2))","v":""},null,null,""]
["30000401000000",null,0,{"$f":"IF(E1195<>\"\",CONCATENATE(B1195,A1195,DIGITADOR!$M$1,C1195),\"\")","v":""},null,null,"","","",null,1191,"",{"$f":"IF(R1195=R1194,\"\",IF(E1195<>\"\",CONCATENATE(B1195,A1195,DIGITADOR!$M$1,C1195),\"\"))","v":""},null,{"$f":"IF(N1195=\"\",\"\",INDEX(referentes!S:T,MATCH(N1195,referentes!T:T,0),1))","v":""},null,{"$f":"IF(P1195=\"\",\"\",INDEX(referentes!Y:Z,MATCH(P1195,referentes!Z:Z,0),1))","v":""},"","",null,null,null,null,null,{"$f":"IF(X1195=\"\",\"\",INDEX(referentes!J:K,MATCH(X1195,referentes!J:J,0),2))","v":""},null,null,""]
["30000401000000",null,0,{"$f":"IF(E1196<>\"\",CONCATENATE(B1196,A1196,DIGITADOR!$M$1,C1196),\"\")","v":""},null,null,"","","",null,1192,"",{"$f":"IF(R1196=R1195,\"\",IF(E1196<>\"\",CONCATENATE(B1196,A1196,DIGITADOR!$M$1,C1196),\"\"))","v":""},null,{"$f":"IF(N1196=\"\",\"\",INDEX(referentes!S:T,MATCH(N1196,referentes!T:T,0),1))","v":""},null,{"$f":"IF(P1196=\"\",\"\",INDEX(referentes!Y:Z,MATCH(P1196,referentes!Z:Z,0),1))","v":""},"","",null,null,null,null,null,{"$f":"IF(X1196=\"\",\"\",INDEX(referentes!J:K,MATCH(X1196,referentes!J:J,0),2))","v":""},null,null,""]
["30000401000000",null,0,{"$f":"IF(E1197<>\"\",CONCATENATE(B1197,A1197,DIGITADOR!$M$1,C1197),\"\")","v":""},null,null,"","","",null,1193,"",{"$f":"IF(R1197=R1196,\"\",IF(E1197<>\"\",CONCATENATE(B1197,A1197,DIGITADOR!$M$1,C1197),\"\"))","v":""},null,{"$f":"IF(N1197=\"\",\"\",INDEX(referentes!S:T,MATCH(N1197,referentes!T:T,0),1))","v":""},null,{"$f":"IF(P1197=\"\",\"\",INDEX(referentes!Y:Z,MATCH(P1197,referentes!Z:Z,0),1))","v":""},"","",null,null,null,null,null,{"$f":"IF(X1197=\"\",\"\",INDEX(referentes!J:K,MATCH(X1197,referentes!J:J,0),2))","v":""},null,null,""]
["30000401000000",null,0,{"$f":"IF(E1198<>\"\",CONCATENATE(B1198,A1198,DIGITADOR!$M$1,C1198),\"\")","v":""},null,null,"","","",null,1194,"",{"$f":"IF(R1198=R1197,\"\",IF(E1198<>\"\",CONCATENATE(B1198,A1198,DIGITADOR!$M$1,C1198),\"\"))","v":""},null,{"$f":"IF(N1198=\"\",\"\",INDEX(referentes!S:T,MATCH(N1198,referentes!T:T,0),1))","v":""},null,{"$f":"IF(P1198=\"\",\"\",INDEX(referentes!Y:Z,MATCH(P1198,referentes!Z:Z,0),1))","v":""},"","",null,null,null,null,null,{"$f":"IF(X1198=\"\",\"\",INDEX(referentes!J:K,MATCH(X1198,referentes!J:J,0),2))","v":""},null,null,""]
["30000401000000",null,0,{"$f":"IF(E1199<>\"\",CONCATENATE(B1199,A1199,DIGITADOR!$M$1,C1199),\"\")","v":""},null,null,"","","",null,1195,"",{"$f":"IF(R1199=R1198,\"\",IF(E1199<>\"\",CONCATENATE(B1199,A1199,DIGITADOR!$M$1,C1199),\"\"))","v":""},null,{"$f":"IF(N1199=\"\",\"\",INDEX(referentes!S:T,MATCH(N1199,referentes!T:T,0),1))","v":""},null,{"$f":"IF(P1199=\"\",\"\",INDEX(referentes!Y:Z,MATCH(P1199,referentes!Z:Z,0),1))","v":""},"","",null,null,null,null,null,{"$f":"IF(X1199=\"\",\"\",INDEX(referentes!J:K,MATCH(X1199,referentes!J:J,0),2))","v":""},null,null,""]
["30000401000000",null,0,{"$f":"IF(E1200<>\"\",CONCATENATE(B1200,A1200,DIGITADOR!$M$1,C1200),\"\")","v":""},null,null,"","","",null,1196,"",{"$f":"IF(R1200=R1199,\"\",IF(E1200<>\"\",CONCATENATE(B1200,A1200,DIGITADOR!$M$1,C1200),\"\"))","v":""},null,{"$f":"IF(N1200=\"\",\"\",INDEX(referentes!S:T,MATCH(N1200,referentes!T:T,0),1))","v":""},null,{"$f":"IF(P1200=\"\",\"\",INDEX(referentes!Y:Z,MATCH(P1200,referentes!Z:Z,0),1))","v":""},"","",null,null,null,null,null,{"$f":"IF(X1200=\"\",\"\",INDEX(referentes!J:K,MATCH(X1200,referentes!J:J,0),2))","v":""},null,null,""]
["30000401000000",null,0,{"$f":"IF(E1201<>\"\",CONCATENATE(B1201,A1201,DIGITADOR!$M$1,C1201),\"\")","v":""},null,null,"","","",null,1197,"",{"$f":"IF(R1201=R1200,\"\",IF(E1201<>\"\",CONCATENATE(B1201,A1201,DIGITADOR!$M$1,C1201),\"\"))","v":""},null,{"$f":"IF(N1201=\"\",\"\",INDEX(referentes!S:T,MATCH(N1201,referentes!T:T,0),1))","v":""},null,{"$f":"IF(P1201=\"\",\"\",INDEX(referentes!Y:Z,MATCH(P1201,referentes!Z:Z,0),1))","v":""},"","",null,null,null,null,null,{"$f":"IF(X1201=\"\",\"\",INDEX(referentes!J:K,MATCH(X1201,referentes!J:J,0),2))","v":""},null,null,""]
["30000401000000",null,0,{"$f":"IF(E1202<>\"\",CONCATENATE(B1202,A1202,DIGITADOR!$M$1,C1202),\"\")","v":""},null,null,"","","",null,1198,"",{"$f":"IF(R1202=R1201,\"\",IF(E1202<>\"\",CONCATENATE(B1202,A1202,DIGITADOR!$M$1,C1202),\"\"))","v":""},null,{"$f":"IF(N1202=\"\",\"\",INDEX(referentes!S:T,MATCH(N1202,referentes!T:T,0),1))","v":""},null,{"$f":"IF(P1202=\"\",\"\",INDEX(referentes!Y:Z,MATCH(P1202,referentes!Z:Z,0),1))","v":""},"","",null,null,null,null,null,{"$f":"IF(X1202=\"\",\"\",INDEX(referentes!J:K,MATCH(X1202,referentes!J:J,0),2))","v":""},null,null,""]
["30000401000000",null,0,{"$f":"IF(E1203<>\"\",CONCATENATE(B1203,A1203,DIGITADOR!$M$1,C1203),\"\")","v":""},null,null,"","","",null,1199,"",{"$f":"IF(R1203=R1202,\"\",IF(E1203<>\"\",CONCATENATE(B1203,A1203,DIGITADOR!$M$1,C1203),\"\"))","v":""},null,{"$f":"IF(N1203=\"\",\"\",INDEX(referentes!S:T,MATCH(N1203,referentes!T:T,0),1))","v":""},null,{"$f":"IF(P1203=\"\",\"\",INDEX(referentes!Y:Z,MATCH(P1203,referentes!Z:Z,0),1))","v":""},"","",null,null,null,null,null,{"$f":"IF(X1203=\"\",\"\",INDEX(referentes!J:K,MATCH(X1203,referentes!J:J,0),2))","v":""},null,null,""]
["30000401000000",null,0,{"$f":"IF(E1204<>\"\",CONCATENATE(B1204,A1204,DIGITADOR!$M$1,C1204),\"\")","v":""},null,null,"","","",null,1200,"",{"$f":"IF(R1204=R1203,\"\",IF(E1204<>\"\",CONCATENATE(B1204,A1204,DIGITADOR!$M$1,C1204),\"\"))","v":""},null,{"$f":"IF(N1204=\"\",\"\",INDEX(referentes!S:T,MATCH(N1204,referentes!T:T,0),1))","v":""},null,{"$f":"IF(P1204=\"\",\"\",INDEX(referentes!Y:Z,MATCH(P1204,referentes!Z:Z,0),1))","v":""},"","",null,null,null,null,null,{"$f":"IF(X1204=\"\",\"\",INDEX(referentes!J:K,MATCH(X1204,referentes!J:J,0),2))","v":""},null,null,""]
["30000401000000",null,0,{"$f":"IF(E1205<>\"\",CONCATENATE(B1205,A1205,DIGITADOR!$M$1,C1205),\"\")","v":""},null,null,"","","",null,1201,"",{"$f":"IF(R1205=R1204,\"\",IF(E1205<>\"\",CONCATENATE(B1205,A1205,DIGITADOR!$M$1,C1205),\"\"))","v":""},null,{"$f":"IF(N1205=\"\",\"\",INDEX(referentes!S:T,MATCH(N1205,referentes!T:T,0),1))","v":""},null,{"$f":"IF(P1205=\"\",\"\",INDEX(referentes!Y:Z,MATCH(P1205,referentes!Z:Z,0),1))","v":""},"","",null,null,null,null,null,{"$f":"IF(X1205=\"\",\"\",INDEX(referentes!J:K,MATCH(X1205,referentes!J:J,0),2))","v":""},null,null,""]
["30000401000000",null,0,{"$f":"IF(E1206<>\"\",CONCATENATE(B1206,A1206,DIGITADOR!$M$1,C1206),\"\")","v":""},null,null,"","","",null,1202,"",{"$f":"IF(R1206=R1205,\"\",IF(E1206<>\"\",CONCATENATE(B1206,A1206,DIGITADOR!$M$1,C1206),\"\"))","v":""},null,{"$f":"IF(N1206=\"\",\"\",INDEX(referentes!S:T,MATCH(N1206,referentes!T:T,0),1))","v":""},null,{"$f":"IF(P1206=\"\",\"\",INDEX(referentes!Y:Z,MATCH(P1206,referentes!Z:Z,0),1))","v":""},"","",null,null,null,null,null,{"$f":"IF(X1206=\"\",\"\",INDEX(referentes!J:K,MATCH(X1206,referentes!J:J,0),2))","v":""},null,null,""]
["30000401000000",null,0,{"$f":"IF(E1207<>\"\",CONCATENATE(B1207,A1207,DIGITADOR!$M$1,C1207),\"\")","v":""},null,null,"","","",null,1203,"",{"$f":"IF(R1207=R1206,\"\",IF(E1207<>\"\",CONCATENATE(B1207,A1207,DIGITADOR!$M$1,C1207),\"\"))","v":""},null,{"$f":"IF(N1207=\"\",\"\",INDEX(referentes!S:T,MATCH(N1207,referentes!T:T,0),1))","v":""},null,{"$f":"IF(P1207=\"\",\"\",INDEX(referentes!Y:Z,MATCH(P1207,referentes!Z:Z,0),1))","v":""},"","",null,null,null,null,null,{"$f":"IF(X1207=\"\",\"\",INDEX(referentes!J:K,MATCH(X1207,referentes!J:J,0),2))","v":""},null,null,""]
["30000401000000",null,0,{"$f":"IF(E1208<>\"\",CONCATENATE(B1208,A1208,DIGITADOR!$M$1,C1208),\"\")","v":""},null,null,"","","",null,1204,"",{"$f":"IF(R1208=R1207,\"\",IF(E1208<>\"\",CONCATENATE(B1208,A1208,DIGITADOR!$M$1,C1208),\"\"))","v":""},null,{"$f":"IF(N1208=\"\",\"\",INDEX(referentes!S:T,MATCH(N1208,referentes!T:T,0),1))","v":""},null,{"$f":"IF(P1208=\"\",\"\",INDEX(referentes!Y:Z,MATCH(P1208,referentes!Z:Z,0),1))","v":""},"","",null,null,null,null,null,{"$f":"IF(X1208=\"\",\"\",INDEX(referentes!J:K,MATCH(X1208,referentes!J:J,0),2))","v":""},null,null,""]
["30000401000000",null,0,{"$f":"IF(E1209<>\"\",CONCATENATE(B1209,A1209,DIGITADOR!$M$1,C1209),\"\")","v":""},null,null,"","","",null,1205,"",{"$f":"IF(R1209=R1208,\"\",IF(E1209<>\"\",CONCATENATE(B1209,A1209,DIGITADOR!$M$1,C1209),\"\"))","v":""},null,{"$f":"IF(N1209=\"\",\"\",INDEX(referentes!S:T,MATCH(N1209,referentes!T:T,0),1))","v":""},null,{"$f":"IF(P1209=\"\",\"\",INDEX(referentes!Y:Z,MATCH(P1209,referentes!Z:Z,0),1))","v":""},"","",null,null,null,null,null,{"$f":"IF(X1209=\"\",\"\",INDEX(referentes!J:K,MATCH(X1209,referentes!J:J,0),2))","v":""},null,null,""]
["30000401000000",null,0,{"$f":"IF(E1210<>\"\",CONCATENATE(B1210,A1210,DIGITADOR!$M$1,C1210),\"\")","v":""},null,null,"","","",null,1206,"",{"$f":"IF(R1210=R1209,\"\",IF(E1210<>\"\",CONCATENATE(B1210,A1210,DIGITADOR!$M$1,C1210),\"\"))","v":""},null,{"$f":"IF(N1210=\"\",\"\",INDEX(referentes!S:T,MATCH(N1210,referentes!T:T,0),1))","v":""},null,{"$f":"IF(P1210=\"\",\"\",INDEX(referentes!Y:Z,MATCH(P1210,referentes!Z:Z,0),1))","v":""},"","",null,null,null,null,null,{"$f":"IF(X1210=\"\",\"\",INDEX(referentes!J:K,MATCH(X1210,referentes!J:J,0),2))","v":""},null,null,""]
["30000401000000",null,0,{"$f":"IF(E1211<>\"\",CONCATENATE(B1211,A1211,DIGITADOR!$M$1,C1211),\"\")","v":""},null,null,"","","",null,1207,"",{"$f":"IF(R1211=R1210,\"\",IF(E1211<>\"\",CONCATENATE(B1211,A1211,DIGITADOR!$M$1,C1211),\"\"))","v":""},null,{"$f":"IF(N1211=\"\",\"\",INDEX(referentes!S:T,MATCH(N1211,referentes!T:T,0),1))","v":""},null,{"$f":"IF(P1211=\"\",\"\",INDEX(referentes!Y:Z,MATCH(P1211,referentes!Z:Z,0),1))","v":""},"","",null,null,null,null,null,{"$f":"IF(X1211=\"\",\"\",INDEX(referentes!J:K,MATCH(X1211,referentes!J:J,0),2))","v":""},null,null,""]
["30000401000000",null,0,{"$f":"IF(E1212<>\"\",CONCATENATE(B1212,A1212,DIGITADOR!$M$1,C1212),\"\")","v":""},null,null,"","","",null,1208,"",{"$f":"IF(R1212=R1211,\"\",IF(E1212<>\"\",CONCATENATE(B1212,A1212,DIGITADOR!$M$1,C1212),\"\"))","v":""},null,{"$f":"IF(N1212=\"\",\"\",INDEX(referentes!S:T,MATCH(N1212,referentes!T:T,0),1))","v":""},null,{"$f":"IF(P1212=\"\",\"\",INDEX(referentes!Y:Z,MATCH(P1212,referentes!Z:Z,0),1))","v":""},"","",null,null,null,null,null,{"$f":"IF(X1212=\"\",\"\",INDEX(referentes!J:K,MATCH(X1212,referentes!J:J,0),2))","v":""},null,null,""]
["30000401000000",null,0,{"$f":"IF(E1213<>\"\",CONCATENATE(B1213,A1213,DIGITADOR!$M$1,C1213),\"\")","v":""},null,null,"","","",null,1209,"",{"$f":"IF(R1213=R1212,\"\",IF(E1213<>\"\",CONCATENATE(B1213,A1213,DIGITADOR!$M$1,C1213),\"\"))","v":""},null,{"$f":"IF(N1213=\"\",\"\",INDEX(referentes!S:T,MATCH(N1213,referentes!T:T,0),1))","v":""},null,{"$f":"IF(P1213=\"\",\"\",INDEX(referentes!Y:Z,MATCH(P1213,referentes!Z:Z,0),1))","v":""},"","",null,null,null,null,null,{"$f":"IF(X1213=\"\",\"\",INDEX(referentes!J:K,MATCH(X1213,referentes!J:J,0),2))","v":""},null,null,""]
["30000401000000",null,0,{"$f":"IF(E1214<>\"\",CONCATENATE(B1214,A1214,DIGITADOR!$M$1,C1214),\"\")","v":""},null,null,"","","",null,1210,"",{"$f":"IF(R1214=R1213,\"\",IF(E1214<>\"\",CONCATENATE(B1214,A1214,DIGITADOR!$M$1,C1214),\"\"))","v":""},null,{"$f":"IF(N1214=\"\",\"\",INDEX(referentes!S:T,MATCH(N1214,referentes!T:T,0),1))","v":""},null,{"$f":"IF(P1214=\"\",\"\",INDEX(referentes!Y:Z,MATCH(P1214,referentes!Z:Z,0),1))","v":""},"","",null,null,null,null,null,{"$f":"IF(X1214=\"\",\"\",INDEX(referentes!J:K,MATCH(X1214,referentes!J:J,0),2))","v":""},null,null,""]
["30000401000000",null,0,{"$f":"IF(E1215<>\"\",CONCATENATE(B1215,A1215,DIGITADOR!$M$1,C1215),\"\")","v":""},null,null,"","","",null,1211,"",{"$f":"IF(R1215=R1214,\"\",IF(E1215<>\"\",CONCATENATE(B1215,A1215,DIGITADOR!$M$1,C1215),\"\"))","v":""},null,{"$f":"IF(N1215=\"\",\"\",INDEX(referentes!S:T,MATCH(N1215,referentes!T:T,0),1))","v":""},null,{"$f":"IF(P1215=\"\",\"\",INDEX(referentes!Y:Z,MATCH(P1215,referentes!Z:Z,0),1))","v":""},"","",null,null,null,null,null,{"$f":"IF(X1215=\"\",\"\",INDEX(referentes!J:K,MATCH(X1215,referentes!J:J,0),2))","v":""},null,null,""]
["30000401000000",null,0,{"$f":"IF(E1216<>\"\",CONCATENATE(B1216,A1216,DIGITADOR!$M$1,C1216),\"\")","v":""},null,null,"","","",null,1212,"",{"$f":"IF(R1216=R1215,\"\",IF(E1216<>\"\",CONCATENATE(B1216,A1216,DIGITADOR!$M$1,C1216),\"\"))","v":""},null,{"$f":"IF(N1216=\"\",\"\",INDEX(referentes!S:T,MATCH(N1216,referentes!T:T,0),1))","v":""},null,{"$f":"IF(P1216=\"\",\"\",INDEX(referentes!Y:Z,MATCH(P1216,referentes!Z:Z,0),1))","v":""},"","",null,null,null,null,null,{"$f":"IF(X1216=\"\",\"\",INDEX(referentes!J:K,MATCH(X1216,referentes!J:J,0),2))","v":""},null,null,""]
["30000401000000",null,0,{"$f":"IF(E1217<>\"\",CONCATENATE(B1217,A1217,DIGITADOR!$M$1,C1217),\"\")","v":""},null,null,"","","",null,1213,"",{"$f":"IF(R1217=R1216,\"\",IF(E1217<>\"\",CONCATENATE(B1217,A1217,DIGITADOR!$M$1,C1217),\"\"))","v":""},null,{"$f":"IF(N1217=\"\",\"\",INDEX(referentes!S:T,MATCH(N1217,referentes!T:T,0),1))","v":""},null,{"$f":"IF(P1217=\"\",\"\",INDEX(referentes!Y:Z,MATCH(P1217,referentes!Z:Z,0),1))","v":""},"","",null,null,null,null,null,{"$f":"IF(X1217=\"\",\"\",INDEX(referentes!J:K,MATCH(X1217,referentes!J:J,0),2))","v":""},null,null,""]
["30000401000000",null,0,{"$f":"IF(E1218<>\"\",CONCATENATE(B1218,A1218,DIGITADOR!$M$1,C1218),\"\")","v":""},null,null,"","","",null,1214,"",{"$f":"IF(R1218=R1217,\"\",IF(E1218<>\"\",CONCATENATE(B1218,A1218,DIGITADOR!$M$1,C1218),\"\"))","v":""},null,{"$f":"IF(N1218=\"\",\"\",INDEX(referentes!S:T,MATCH(N1218,referentes!T:T,0),1))","v":""},null,{"$f":"IF(P1218=\"\",\"\",INDEX(referentes!Y:Z,MATCH(P1218,referentes!Z:Z,0),1))","v":""},"","",null,null,null,null,null,{"$f":"IF(X1218=\"\",\"\",INDEX(referentes!J:K,MATCH(X1218,referentes!J:J,0),2))","v":""},null,null,""]
["30000401000000",null,0,{"$f":"IF(E1219<>\"\",CONCATENATE(B1219,A1219,DIGITADOR!$M$1,C1219),\"\")","v":""},null,null,"","","",null,1215,"",{"$f":"IF(R1219=R1218,\"\",IF(E1219<>\"\",CONCATENATE(B1219,A1219,DIGITADOR!$M$1,C1219),\"\"))","v":""},null,{"$f":"IF(N1219=\"\",\"\",INDEX(referentes!S:T,MATCH(N1219,referentes!T:T,0),1))","v":""},null,{"$f":"IF(P1219=\"\",\"\",INDEX(referentes!Y:Z,MATCH(P1219,referentes!Z:Z,0),1))","v":""},"","",null,null,null,null,null,{"$f":"IF(X1219=\"\",\"\",INDEX(referentes!J:K,MATCH(X1219,referentes!J:J,0),2))","v":""},null,null,""]
["30000401000000",null,0,{"$f":"IF(E1220<>\"\",CONCATENATE(B1220,A1220,DIGITADOR!$M$1,C1220),\"\")","v":""},null,null,"","","",null,1216,"",{"$f":"IF(R1220=R1219,\"\",IF(E1220<>\"\",CONCATENATE(B1220,A1220,DIGITADOR!$M$1,C1220),\"\"))","v":""},null,{"$f":"IF(N1220=\"\",\"\",INDEX(referentes!S:T,MATCH(N1220,referentes!T:T,0),1))","v":""},null,{"$f":"IF(P1220=\"\",\"\",INDEX(referentes!Y:Z,MATCH(P1220,referentes!Z:Z,0),1))","v":""},"","",null,null,null,null,null,{"$f":"IF(X1220=\"\",\"\",INDEX(referentes!J:K,MATCH(X1220,referentes!J:J,0),2))","v":""},null,null,""]
["30000401000000",null,{"$f":"IF(R1221=R1220,C1220,C1220+1)","v":0},{"$f":"IF(E1221<>\"\",CONCATENATE(B1221,A1221,DIGITADOR!$M$1,C1221),\"\")","v":""},null,null,"","","",null,1217,"",{"$f":"IF(R1221=R1220,\"\",IF(E1221<>\"\",CONCATENATE(B1221,A1221,DIGITADOR!$M$1,C1221),\"\"))","v":""},null,{"$f":"IF(N1221=\"\",\"\",INDEX(referentes!S:T,MATCH(N1221,referentes!T:T,0),1))","v":""},null,{"$f":"IF(P1221=\"\",\"\",INDEX(referentes!Y:Z,MATCH(P1221,referentes!Z:Z,0),1))","v":""},"","",null,null,null,null,null,{"$f":"IF(X1221=\"\",\"\",INDEX(referentes!J:K,MATCH(X1221,referentes!J:J,0),2))","v":""},null,null,""]
["30000401000000",null,0,{"$f":"IF(E1222<>\"\",CONCATENATE(B1222,A1222,DIGITADOR!$M$1,C1222),\"\")","v":""},null,null,{"$f":"IF(E1222=\"\", \"\", (E1222+F1222))","v":""},{"$f":"IF(G1222<>\"\",MONTH(G1222),\"\")","v":""},{"$f":"IF(D1222=\"\",\"\",1)","v":""},null,1218,{"$f":"IF(E1222=\"\",\"\",CONCATENATE(D1222,K1222))","v":""},{"$f":"IF(R1222=R1221,\"\",IF(E1222<>\"\",CONCATENATE(B1222,A1222,DIGITADOR!$M$1,C1222),\"\"))","v":""},null,{"$f":"IF(N1222=\"\",\"\",INDEX(referentes!S:T,MATCH(N1222,referentes!T:T,0),1))","v":""},null,{"$f":"IF(P1222=\"\",\"\",INDEX(referentes!Y:Z,MATCH(P1222,referentes!Z:Z,0),1))","v":""},{"$f":"IF(G1222=\"\",\"\",CONCATENATE(G1222,O1222,Q1222))","v":""},{"$f":"IF(E1222=\"\",\"\",\"INVEMAR\")","v":""},null,null,null,null,null,{"$f":"IF(X1222=\"\",\"\",INDEX(referentes!J:K,MATCH(X1222,referentes!J:J,0),2))","v":""},null,null,{"$f":"IF(T1222=\"\",\"\",IF(T1222=T1221,AB1221,AA1222))","v":""}]
[{"$f":"A1222","v":"30000401000000"},null,0,{"$f":"IF(E1223<>\"\",CONCATENATE(B1223,A1223,DIGITADOR!$M$1,C1223),\"\")","v":""},null,null,"","","",null,1219,"",{"$f":"IF(R1223=R1222,\"\",IF(E1223<>\"\",CONCATENATE(B1223,A1223,DIGITADOR!$M$1,C1223),\"\"))","v":""},null,{"$f":"IF(N1223=\"\",\"\",INDEX(referentes!S:T,MATCH(N1223,referentes!T:T,0),1))","v":""},null,{"$f":"IF(P1223=\"\",\"\",INDEX(referentes!Y:Z,MATCH(P1223,referentes!Z:Z,0),1))","v":""},"","",null,null,null,null,null,{"$f":"IF(X1223=\"\",\"\",INDEX(referentes!J:K,MATCH(X1223,referentes!J:J,0),2))","v":""},null,null,""]
["30000401000000",null,0,{"$f":"IF(E1224<>\"\",CONCATENATE(B1224,A1224,DIGITADOR!$M$1,C1224),\"\")","v":""},null,null,"","","",null,1220,"",{"$f":"IF(R1224=R1223,\"\",IF(E1224<>\"\",CONCATENATE(B1224,A1224,DIGITADOR!$M$1,C1224),\"\"))","v":""},null,{"$f":"IF(N1224=\"\",\"\",INDEX(referentes!S:T,MATCH(N1224,referentes!T:T,0),1))","v":""},null,{"$f":"IF(P1224=\"\",\"\",INDEX(referentes!Y:Z,MATCH(P1224,referentes!Z:Z,0),1))","v":""},"","",null,null,null,null,null,{"$f":"IF(X1224=\"\",\"\",INDEX(referentes!J:K,MATCH(X1224,referentes!J:J,0),2))","v":""},null,null,""]
["30000401000000",null,0,{"$f":"IF(E1225<>\"\",CONCATENATE(B1225,A1225,DIGITADOR!$M$1,C1225),\"\")","v":""},null,null,"","","",null,1221,"",{"$f":"IF(R1225=R1224,\"\",IF(E1225<>\"\",CONCATENATE(B1225,A1225,DIGITADOR!$M$1,C1225),\"\"))","v":""},null,{"$f":"IF(N1225=\"\",\"\",INDEX(referentes!S:T,MATCH(N1225,referentes!T:T,0),1))","v":""},null,{"$f":"IF(P1225=\"\",\"\",INDEX(referentes!Y:Z,MATCH(P1225,referentes!Z:Z,0),1))","v":""},"","",null,null,null,null,null,{"$f":"IF(X1225=\"\",\"\",INDEX(referentes!J:K,MATCH(X1225,referentes!J:J,0),2))","v":""},null,null,""]
["30000401000000",null,0,{"$f":"IF(E1226<>\"\",CONCATENATE(B1226,A1226,DIGITADOR!$M$1,C1226),\"\")","v":""},null,null,"","","",null,1222,"",{"$f":"IF(R1226=R1225,\"\",IF(E1226<>\"\",CONCATENATE(B1226,A1226,DIGITADOR!$M$1,C1226),\"\"))","v":""},null,{"$f":"IF(N1226=\"\",\"\",INDEX(referentes!S:T,MATCH(N1226,referentes!T:T,0),1))","v":""},null,{"$f":"IF(P1226=\"\",\"\",INDEX(referentes!Y:Z,MATCH(P1226,referentes!Z:Z,0),1))","v":""},"","",null,null,null,null,null,{"$f":"IF(X1226=\"\",\"\",INDEX(referentes!J:K,MATCH(X1226,referentes!J:J,0),2))","v":""},null,null,""]
["30000401000000",null,0,{"$f":"IF(E1227<>\"\",CONCATENATE(B1227,A1227,DIGITADOR!$M$1,C1227),\"\")","v":""},null,null,"","","",null,1223,"",{"$f":"IF(R1227=R1226,\"\",IF(E1227<>\"\",CONCATENATE(B1227,A1227,DIGITADOR!$M$1,C1227),\"\"))","v":""},null,{"$f":"IF(N1227=\"\",\"\",INDEX(referentes!S:T,MATCH(N1227,referentes!T:T,0),1))","v":""},null,{"$f":"IF(P1227=\"\",\"\",INDEX(referentes!Y:Z,MATCH(P1227,referentes!Z:Z,0),1))","v":""},"","",null,null,null,null,null,{"$f":"IF(X1227=\"\",\"\",INDEX(referentes!J:K,MATCH(X1227,referentes!J:J,0),2))","v":""},null,null,""]
["30000401000000",null,0,{"$f":"IF(E1228<>\"\",CONCATENATE(B1228,A1228,DIGITADOR!$M$1,C1228),\"\")","v":""},null,null,"","","",null,1224,"",{"$f":"IF(R1228=R1227,\"\",IF(E1228<>\"\",CONCATENATE(B1228,A1228,DIGITADOR!$M$1,C1228),\"\"))","v":""},null,{"$f":"IF(N1228=\"\",\"\",INDEX(referentes!S:T,MATCH(N1228,referentes!T:T,0),1))","v":""},null,{"$f":"IF(P1228=\"\",\"\",INDEX(referentes!Y:Z,MATCH(P1228,referentes!Z:Z,0),1))","v":""},"","",null,null,null,null,null,{"$f":"IF(X1228=\"\",\"\",INDEX(referentes!J:K,MATCH(X1228,referentes!J:J,0),2))","v":""},null,null,""]
["30000401000000",null,0,{"$f":"IF(E1229<>\"\",CONCATENATE(B1229,A1229,DIGITADOR!$M$1,C1229),\"\")","v":""},null,null,"","","",null,1225,"",{"$f":"IF(R1229=R1228,\"\",IF(E1229<>\"\",CONCATENATE(B1229,A1229,DIGITADOR!$M$1,C1229),\"\"))","v":""},null,{"$f":"IF(N1229=\"\",\"\",INDEX(referentes!S:T,MATCH(N1229,referentes!T:T,0),1))","v":""},null,{"$f":"IF(P1229=\"\",\"\",INDEX(referentes!Y:Z,MATCH(P1229,referentes!Z:Z,0),1))","v":""},"","",null,null,null,null,null,{"$f":"IF(X1229=\"\",\"\",INDEX(referentes!J:K,MATCH(X1229,referentes!J:J,0),2))","v":""},null,null,""]
["30000401000000",null,0,{"$f":"IF(E1230<>\"\",CONCATENATE(B1230,A1230,DIGITADOR!$M$1,C1230),\"\")","v":""},null,null,"","","",null,1226,"",{"$f":"IF(R1230=R1229,\"\",IF(E1230<>\"\",CONCATENATE(B1230,A1230,DIGITADOR!$M$1,C1230),\"\"))","v":""},null,{"$f":"IF(N1230=\"\",\"\",INDEX(referentes!S:T,MATCH(N1230,referentes!T:T,0),1))","v":""},null,{"$f":"IF(P1230=\"\",\"\",INDEX(referentes!Y:Z,MATCH(P1230,referentes!Z:Z,0),1))","v":""},"","",null,null,null,null,null,{"$f":"IF(X1230=\"\",\"\",INDEX(referentes!J:K,MATCH(X1230,referentes!J:J,0),2))","v":""},null,null,""]
["30000401000000",null,0,{"$f":"IF(E1231<>\"\",CONCATENATE(B1231,A1231,DIGITADOR!$M$1,C1231),\"\")","v":""},null,null,"","","",null,1227,"",{"$f":"IF(R1231=R1230,\"\",IF(E1231<>\"\",CONCATENATE(B1231,A1231,DIGITADOR!$M$1,C1231),\"\"))","v":""},null,{"$f":"IF(N1231=\"\",\"\",INDEX(referentes!S:T,MATCH(N1231,referentes!T:T,0),1))","v":""},null,{"$f":"IF(P1231=\"\",\"\",INDEX(referentes!Y:Z,MATCH(P1231,referentes!Z:Z,0),1))","v":""},"","",null,null,null,null,null,{"$f":"IF(X1231=\"\",\"\",INDEX(referentes!J:K,MATCH(X1231,referentes!J:J,0),2))","v":""},null,null,""]
["30000401000000",null,0,{"$f":"IF(E1232<>\"\",CONCATENATE(B1232,A1232,DIGITADOR!$M$1,C1232),\"\")","v":""},null,null,"","","",null,1228,"",{"$f":"IF(R1232=R1231,\"\",IF(E1232<>\"\",CONCATENATE(B1232,A1232,DIGITADOR!$M$1,C1232),\"\"))","v":""},null,{"$f":"IF(N1232=\"\",\"\",INDEX(referentes!S:T,MATCH(N1232,referentes!T:T,0),1))","v":""},null,{"$f":"IF(P1232=\"\",\"\",INDEX(referentes!Y:Z,MATCH(P1232,referentes!Z:Z,0),1))","v":""},"","",null,null,null,null,null,{"$f":"IF(X1232=\"\",\"\",INDEX(referentes!J:K,MATCH(X1232,referentes!J:J,0),2))","v":""},null,null,""]
["30000401000000",null,0,{"$f":"IF(E1233<>\"\",CONCATENATE(B1233,A1233,DIGITADOR!$M$1,C1233),\"\")","v":""},null,null,"","","",null,1229,"",{"$f":"IF(R1233=R1232,\"\",IF(E1233<>\"\",CONCATENATE(B1233,A1233,DIGITADOR!$M$1,C1233),\"\"))","v":""},null,{"$f":"IF(N1233=\"\",\"\",INDEX(referentes!S:T,MATCH(N1233,referentes!T:T,0),1))","v":""},null,{"$f":"IF(P1233=\"\",\"\",INDEX(referentes!Y:Z,MATCH(P1233,referentes!Z:Z,0),1))","v":""},"","",null,null,null,null,null,{"$f":"IF(X1233=\"\",\"\",INDEX(referentes!J:K,MATCH(X1233,referentes!J:J,0),2))","v":""},null,null,""]
["30000401000000",null,0,{"$f":"IF(E1234<>\"\",CONCATENATE(B1234,A1234,DIGITADOR!$M$1,C1234),\"\")","v":""},null,null,"","","",null,1230,"",{"$f":"IF(R1234=R1233,\"\",IF(E1234<>\"\",CONCATENATE(B1234,A1234,DIGITADOR!$M$1,C1234),\"\"))","v":""},null,{"$f":"IF(N1234=\"\",\"\",INDEX(referentes!S:T,MATCH(N1234,referentes!T:T,0),1))","v":""},null,{"$f":"IF(P1234=\"\",\"\",INDEX(referentes!Y:Z,MATCH(P1234,referentes!Z:Z,0),1))","v":""},"","",null,null,null,null,null,{"$f":"IF(X1234=\"\",\"\",INDEX(referentes!J:K,MATCH(X1234,referentes!J:J,0),2))","v":""},null,null,""]
["30000401000000",null,0,{"$f":"IF(E1235<>\"\",CONCATENATE(B1235,A1235,DIGITADOR!$M$1,C1235),\"\")","v":""},null,null,"","","",null,1231,"",{"$f":"IF(R1235=R1234,\"\",IF(E1235<>\"\",CONCATENATE(B1235,A1235,DIGITADOR!$M$1,C1235),\"\"))","v":""},null,{"$f":"IF(N1235=\"\",\"\",INDEX(referentes!S:T,MATCH(N1235,referentes!T:T,0),1))","v":""},null,{"$f":"IF(P1235=\"\",\"\",INDEX(referentes!Y:Z,MATCH(P1235,referentes!Z:Z,0),1))","v":""},"","",null,null,null,null,null,{"$f":"IF(X1235=\"\",\"\",INDEX(referentes!J:K,MATCH(X1235,referentes!J:J,0),2))","v":""},null,null,""]
["30000401000000",null,0,{"$f":"IF(E1236<>\"\",CONCATENATE(B1236,A1236,DIGITADOR!$M$1,C1236),\"\")","v":""},null,null,"","","",null,1232,"",{"$f":"IF(R1236=R1235,\"\",IF(E1236<>\"\",CONCATENATE(B1236,A1236,DIGITADOR!$M$1,C1236),\"\"))","v":""},null,{"$f":"IF(N1236=\"\",\"\",INDEX(referentes!S:T,MATCH(N1236,referentes!T:T,0),1))","v":""},null,{"$f":"IF(P1236=\"\",\"\",INDEX(referentes!Y:Z,MATCH(P1236,referentes!Z:Z,0),1))","v":""},"","",null,null,null,null,null,{"$f":"IF(X1236=\"\",\"\",INDEX(referentes!J:K,MATCH(X1236,referentes!J:J,0),2))","v":""},null,null,""]
["30000401000000",null,0,{"$f":"IF(E1237<>\"\",CONCATENATE(B1237,A1237,DIGITADOR!$M$1,C1237),\"\")","v":""},null,null,"","","",null,1233,"",{"$f":"IF(R1237=R1236,\"\",IF(E1237<>\"\",CONCATENATE(B1237,A1237,DIGITADOR!$M$1,C1237),\"\"))","v":""},null,{"$f":"IF(N1237=\"\",\"\",INDEX(referentes!S:T,MATCH(N1237,referentes!T:T,0),1))","v":""},null,{"$f":"IF(P1237=\"\",\"\",INDEX(referentes!Y:Z,MATCH(P1237,referentes!Z:Z,0),1))","v":""},"","",null,null,null,null,null,{"$f":"IF(X1237=\"\",\"\",INDEX(referentes!J:K,MATCH(X1237,referentes!J:J,0),2))","v":""},null,null,""]
["30000401000000",null,0,{"$f":"IF(E1238<>\"\",CONCATENATE(B1238,A1238,DIGITADOR!$M$1,C1238),\"\")","v":""},null,null,"","","",null,1234,"",{"$f":"IF(R1238=R1237,\"\",IF(E1238<>\"\",CONCATENATE(B1238,A1238,DIGITADOR!$M$1,C1238),\"\"))","v":""},null,{"$f":"IF(N1238=\"\",\"\",INDEX(referentes!S:T,MATCH(N1238,referentes!T:T,0),1))","v":""},null,{"$f":"IF(P1238=\"\",\"\",INDEX(referentes!Y:Z,MATCH(P1238,referentes!Z:Z,0),1))","v":""},"","",null,null,null,null,null,{"$f":"IF(X1238=\"\",\"\",INDEX(referentes!J:K,MATCH(X1238,referentes!J:J,0),2))","v":""},null,null,""]
["30000401000000",null,0,{"$f":"IF(E1239<>\"\",CONCATENATE(B1239,A1239,DIGITADOR!$M$1,C1239),\"\")","v":""},null,null,"","","",null,1235,"",{"$f":"IF(R1239=R1238,\"\",IF(E1239<>\"\",CONCATENATE(B1239,A1239,DIGITADOR!$M$1,C1239),\"\"))","v":""},null,{"$f":"IF(N1239=\"\",\"\",INDEX(referentes!S:T,MATCH(N1239,referentes!T:T,0),1))","v":""},null,{"$f":"IF(P1239=\"\",\"\",INDEX(referentes!Y:Z,MATCH(P1239,referentes!Z:Z,0),1))","v":""},"","",null,null,null,null,null,{"$f":"IF(X1239=\"\",\"\",INDEX(referentes!J:K,MATCH(X1239,referentes!J:J,0),2))","v":""},null,null,""]
["30000401000000",null,0,{"$f":"IF(E1240<>\"\",CONCATENATE(B1240,A1240,DIGITADOR!$M$1,C1240),\"\")","v":""},null,null,"","","",null,1236,"",{"$f":"IF(R1240=R1239,\"\",IF(E1240<>\"\",CONCATENATE(B1240,A1240,DIGITADOR!$M$1,C1240),\"\"))","v":""},null,{"$f":"IF(N1240=\"\",\"\",INDEX(referentes!S:T,MATCH(N1240,referentes!T:T,0),1))","v":""},null,{"$f":"IF(P1240=\"\",\"\",INDEX(referentes!Y:Z,MATCH(P1240,referentes!Z:Z,0),1))","v":""},"","",null,null,null,null,null,{"$f":"IF(X1240=\"\",\"\",INDEX(referentes!J:K,MATCH(X1240,referentes!J:J,0),2))","v":""},null,null,""]
["30000401000000",null,0,{"$f":"IF(E1241<>\"\",CONCATENATE(B1241,A1241,DIGITADOR!$M$1,C1241),\"\")","v":""},null,null,"","","",null,1237,"",{"$f":"IF(R1241=R1240,\"\",IF(E1241<>\"\",CONCATENATE(B1241,A1241,DIGITADOR!$M$1,C1241),\"\"))","v":""},null,{"$f":"IF(N1241=\"\",\"\",INDEX(referentes!S:T,MATCH(N1241,referentes!T:T,0),1))","v":""},null,{"$f":"IF(P1241=\"\",\"\",INDEX(referentes!Y:Z,MATCH(P1241,referentes!Z:Z,0),1))","v":""},"","",null,null,null,null,null,{"$f":"IF(X1241=\"\",\"\",INDEX(referentes!J:K,MATCH(X1241,referentes!J:J,0),2))","v":""},null,null,""]
["30000401000000",null,0,{"$f":"IF(E1242<>\"\",CONCATENATE(B1242,A1242,DIGITADOR!$M$1,C1242),\"\")","v":""},null,null,"","","",null,1238,"",{"$f":"IF(R1242=R1241,\"\",IF(E1242<>\"\",CONCATENATE(B1242,A1242,DIGITADOR!$M$1,C1242),\"\"))","v":""},null,{"$f":"IF(N1242=\"\",\"\",INDEX(referentes!S:T,MATCH(N1242,referentes!T:T,0),1))","v":""},null,{"$f":"IF(P1242=\"\",\"\",INDEX(referentes!Y:Z,MATCH(P1242,referentes!Z:Z,0),1))","v":""},"","",null,null,null,null,null,{"$f":"IF(X1242=\"\",\"\",INDEX(referentes!J:K,MATCH(X1242,referentes!J:J,0),2))","v":""},null,null,""]
["30000401000000",null,0,{"$f":"IF(E1243<>\"\",CONCATENATE(B1243,A1243,DIGITADOR!$M$1,C1243),\"\")","v":""},null,null,"","","",null,1239,"",{"$f":"IF(R1243=R1242,\"\",IF(E1243<>\"\",CONCATENATE(B1243,A1243,DIGITADOR!$M$1,C1243),\"\"))","v":""},null,{"$f":"IF(N1243=\"\",\"\",INDEX(referentes!S:T,MATCH(N1243,referentes!T:T,0),1))","v":""},null,{"$f":"IF(P1243=\"\",\"\",INDEX(referentes!Y:Z,MATCH(P1243,referentes!Z:Z,0),1))","v":""},"","",null,null,null,null,null,{"$f":"IF(X1243=\"\",\"\",INDEX(referentes!J:K,MATCH(X1243,referentes!J:J,0),2))","v":""},null,null,""]
["30000401000000",null,0,{"$f":"IF(E1244<>\"\",CONCATENATE(B1244,A1244,DIGITADOR!$M$1,C1244),\"\")","v":""},null,null,"","","",null,1240,"",{"$f":"IF(R1244=R1243,\"\",IF(E1244<>\"\",CONCATENATE(B1244,A1244,DIGITADOR!$M$1,C1244),\"\"))","v":""},null,{"$f":"IF(N1244=\"\",\"\",INDEX(referentes!S:T,MATCH(N1244,referentes!T:T,0),1))","v":""},null,{"$f":"IF(P1244=\"\",\"\",INDEX(referentes!Y:Z,MATCH(P1244,referentes!Z:Z,0),1))","v":""},"","",null,null,null,null,null,{"$f":"IF(X1244=\"\",\"\",INDEX(referentes!J:K,MATCH(X1244,referentes!J:J,0),2))","v":""},null,null,""]
["30000401000000",null,0,{"$f":"IF(E1245<>\"\",CONCATENATE(B1245,A1245,DIGITADOR!$M$1,C1245),\"\")","v":""},null,null,"","","",null,1241,"",{"$f":"IF(R1245=R1244,\"\",IF(E1245<>\"\",CONCATENATE(B1245,A1245,DIGITADOR!$M$1,C1245),\"\"))","v":""},null,{"$f":"IF(N1245=\"\",\"\",INDEX(referentes!S:T,MATCH(N1245,referentes!T:T,0),1))","v":""},null,{"$f":"IF(P1245=\"\",\"\",INDEX(referentes!Y:Z,MATCH(P1245,referentes!Z:Z,0),1))","v":""},"","",null,null,null,null,null,{"$f":"IF(X1245=\"\",\"\",INDEX(referentes!J:K,MATCH(X1245,referentes!J:J,0),2))","v":""},null,null,""]
["30000401000000",null,0,{"$f":"IF(E1246<>\"\",CONCATENATE(B1246,A1246,DIGITADOR!$M$1,C1246),\"\")","v":""},null,null,"","","",null,1242,"",{"$f":"IF(R1246=R1245,\"\",IF(E1246<>\"\",CONCATENATE(B1246,A1246,DIGITADOR!$M$1,C1246),\"\"))","v":""},null,{"$f":"IF(N1246=\"\",\"\",INDEX(referentes!S:T,MATCH(N1246,referentes!T:T,0),1))","v":""},null,{"$f":"IF(P1246=\"\",\"\",INDEX(referentes!Y:Z,MATCH(P1246,referentes!Z:Z,0),1))","v":""},"","",null,null,null,null,null,{"$f":"IF(X1246=\"\",\"\",INDEX(referentes!J:K,MATCH(X1246,referentes!J:J,0),2))","v":""},null,null,""]
["30000401000000",null,0,{"$f":"IF(E1247<>\"\",CONCATENATE(B1247,A1247,DIGITADOR!$M$1,C1247),\"\")","v":""},null,null,"","","",null,1243,"",{"$f":"IF(R1247=R1246,\"\",IF(E1247<>\"\",CONCATENATE(B1247,A1247,DIGITADOR!$M$1,C1247),\"\"))","v":""},null,{"$f":"IF(N1247=\"\",\"\",INDEX(referentes!S:T,MATCH(N1247,referentes!T:T,0),1))","v":""},null,{"$f":"IF(P1247=\"\",\"\",INDEX(referentes!Y:Z,MATCH(P1247,referentes!Z:Z,0),1))","v":""},"","",null,null,null,null,null,{"$f":"IF(X1247=\"\",\"\",INDEX(referentes!J:K,MATCH(X1247,referentes!J:J,0),2))","v":""},null,null,""]
["30000401000000",null,0,{"$f":"IF(E1248<>\"\",CONCATENATE(B1248,A1248,DIGITADOR!$M$1,C1248),\"\")","v":""},null,null,"","","",null,1244,"",{"$f":"IF(R1248=R1247,\"\",IF(E1248<>\"\",CONCATENATE(B1248,A1248,DIGITADOR!$M$1,C1248),\"\"))","v":""},null,{"$f":"IF(N1248=\"\",\"\",INDEX(referentes!S:T,MATCH(N1248,referentes!T:T,0),1))","v":""},null,{"$f":"IF(P1248=\"\",\"\",INDEX(referentes!Y:Z,MATCH(P1248,referentes!Z:Z,0),1))","v":""},"","",null,null,null,null,null,{"$f":"IF(X1248=\"\",\"\",INDEX(referentes!J:K,MATCH(X1248,referentes!J:J,0),2))","v":""},null,null,""]
["30000401000000",null,0,{"$f":"IF(E1249<>\"\",CONCATENATE(B1249,A1249,DIGITADOR!$M$1,C1249),\"\")","v":""},null,null,"","","",null,1245,"",{"$f":"IF(R1249=R1248,\"\",IF(E1249<>\"\",CONCATENATE(B1249,A1249,DIGITADOR!$M$1,C1249),\"\"))","v":""},null,{"$f":"IF(N1249=\"\",\"\",INDEX(referentes!S:T,MATCH(N1249,referentes!T:T,0),1))","v":""},null,{"$f":"IF(P1249=\"\",\"\",INDEX(referentes!Y:Z,MATCH(P1249,referentes!Z:Z,0),1))","v":""},"","",null,null,null,null,null,{"$f":"IF(X1249=\"\",\"\",INDEX(referentes!J:K,MATCH(X1249,referentes!J:J,0),2))","v":""},null,null,""]
["30000401000000",null,0,{"$f":"IF(E1250<>\"\",CONCATENATE(B1250,A1250,DIGITADOR!$M$1,C1250),\"\")","v":""},null,null,"","","",null,1246,"",{"$f":"IF(R1250=R1249,\"\",IF(E1250<>\"\",CONCATENATE(B1250,A1250,DIGITADOR!$M$1,C1250),\"\"))","v":""},null,{"$f":"IF(N1250=\"\",\"\",INDEX(referentes!S:T,MATCH(N1250,referentes!T:T,0),1))","v":""},null,{"$f":"IF(P1250=\"\",\"\",INDEX(referentes!Y:Z,MATCH(P1250,referentes!Z:Z,0),1))","v":""},"","",null,null,null,null,null,{"$f":"IF(X1250=\"\",\"\",INDEX(referentes!J:K,MATCH(X1250,referentes!J:J,0),2))","v":""},null,null,""]
["30000401000000",null,0,{"$f":"IF(E1251<>\"\",CONCATENATE(B1251,A1251,DIGITADOR!$M$1,C1251),\"\")","v":""},null,null,"","","",null,1247,"",{"$f":"IF(R1251=R1250,\"\",IF(E1251<>\"\",CONCATENATE(B1251,A1251,DIGITADOR!$M$1,C1251),\"\"))","v":""},null,{"$f":"IF(N1251=\"\",\"\",INDEX(referentes!S:T,MATCH(N1251,referentes!T:T,0),1))","v":""},null,{"$f":"IF(P1251=\"\",\"\",INDEX(referentes!Y:Z,MATCH(P1251,referentes!Z:Z,0),1))","v":""},"","",null,null,null,null,null,{"$f":"IF(X1251=\"\",\"\",INDEX(referentes!J:K,MATCH(X1251,referentes!J:J,0),2))","v":""},null,null,""]
["30000401000000",null,0,{"$f":"IF(E1252<>\"\",CONCATENATE(B1252,A1252,DIGITADOR!$M$1,C1252),\"\")","v":""},null,null,"","","",null,1248,"",{"$f":"IF(R1252=R1251,\"\",IF(E1252<>\"\",CONCATENATE(B1252,A1252,DIGITADOR!$M$1,C1252),\"\"))","v":""},null,{"$f":"IF(N1252=\"\",\"\",INDEX(referentes!S:T,MATCH(N1252,referentes!T:T,0),1))","v":""},null,{"$f":"IF(P1252=\"\",\"\",INDEX(referentes!Y:Z,MATCH(P1252,referentes!Z:Z,0),1))","v":""},"","",null,null,null,null,null,{"$f":"IF(X1252=\"\",\"\",INDEX(referentes!J:K,MATCH(X1252,referentes!J:J,0),2))","v":""},null,null,""]
["30000401000000",null,0,{"$f":"IF(E1253<>\"\",CONCATENATE(B1253,A1253,DIGITADOR!$M$1,C1253),\"\")","v":""},null,null,"","","",null,1249,"",{"$f":"IF(R1253=R1252,\"\",IF(E1253<>\"\",CONCATENATE(B1253,A1253,DIGITADOR!$M$1,C1253),\"\"))","v":""},null,{"$f":"IF(N1253=\"\",\"\",INDEX(referentes!S:T,MATCH(N1253,referentes!T:T,0),1))","v":""},null,{"$f":"IF(P1253=\"\",\"\",INDEX(referentes!Y:Z,MATCH(P1253,referentes!Z:Z,0),1))","v":""},"","",null,null,null,null,null,{"$f":"IF(X1253=\"\",\"\",INDEX(referentes!J:K,MATCH(X1253,referentes!J:J,0),2))","v":""},null,null,""]
["30000401000000",null,0,{"$f":"IF(E1254<>\"\",CONCATENATE(B1254,A1254,DIGITADOR!$M$1,C1254),\"\")","v":""},null,null,"","","",null,1250,"",{"$f":"IF(R1254=R1253,\"\",IF(E1254<>\"\",CONCATENATE(B1254,A1254,DIGITADOR!$M$1,C1254),\"\"))","v":""},null,{"$f":"IF(N1254=\"\",\"\",INDEX(referentes!S:T,MATCH(N1254,referentes!T:T,0),1))","v":""},null,{"$f":"IF(P1254=\"\",\"\",INDEX(referentes!Y:Z,MATCH(P1254,referentes!Z:Z,0),1))","v":""},"","",null,null,null,null,null,{"$f":"IF(X1254=\"\",\"\",INDEX(referentes!J:K,MATCH(X1254,referentes!J:J,0),2))","v":""},null,null,""]
["30000401000000",null,0,{"$f":"IF(E1255<>\"\",CONCATENATE(B1255,A1255,DIGITADOR!$M$1,C1255),\"\")","v":""},null,null,"","","",null,1251,"",{"$f":"IF(R1255=R1254,\"\",IF(E1255<>\"\",CONCATENATE(B1255,A1255,DIGITADOR!$M$1,C1255),\"\"))","v":""},null,{"$f":"IF(N1255=\"\",\"\",INDEX(referentes!S:T,MATCH(N1255,referentes!T:T,0),1))","v":""},null,{"$f":"IF(P1255=\"\",\"\",INDEX(referentes!Y:Z,MATCH(P1255,referentes!Z:Z,0),1))","v":""},"","",null,null,null,null,null,{"$f":"IF(X1255=\"\",\"\",INDEX(referentes!J:K,MATCH(X1255,referentes!J:J,0),2))","v":""},null,null,""]
["30000401000000",null,0,{"$f":"IF(E1256<>\"\",CONCATENATE(B1256,A1256,DIGITADOR!$M$1,C1256),\"\")","v":""},null,null,"","","",null,1252,"",{"$f":"IF(R1256=R1255,\"\",IF(E1256<>\"\",CONCATENATE(B1256,A1256,DIGITADOR!$M$1,C1256),\"\"))","v":""},null,{"$f":"IF(N1256=\"\",\"\",INDEX(referentes!S:T,MATCH(N1256,referentes!T:T,0),1))","v":""},null,{"$f":"IF(P1256=\"\",\"\",INDEX(referentes!Y:Z,MATCH(P1256,referentes!Z:Z,0),1))","v":""},"","",null,null,null,null,null,{"$f":"IF(X1256=\"\",\"\",INDEX(referentes!J:K,MATCH(X1256,referentes!J:J,0),2))","v":""},null,null,""]
["30000401000000",null,0,{"$f":"IF(E1257<>\"\",CONCATENATE(B1257,A1257,DIGITADOR!$M$1,C1257),\"\")","v":""},null,null,"","","",null,1253,"",{"$f":"IF(R1257=R1256,\"\",IF(E1257<>\"\",CONCATENATE(B1257,A1257,DIGITADOR!$M$1,C1257),\"\"))","v":""},null,{"$f":"IF(N1257=\"\",\"\",INDEX(referentes!S:T,MATCH(N1257,referentes!T:T,0),1))","v":""},null,{"$f":"IF(P1257=\"\",\"\",INDEX(referentes!Y:Z,MATCH(P1257,referentes!Z:Z,0),1))","v":""},"","",null,null,null,null,null,{"$f":"IF(X1257=\"\",\"\",INDEX(referentes!J:K,MATCH(X1257,referentes!J:J,0),2))","v":""},null,null,""]
["30000401000000",null,0,{"$f":"IF(E1258<>\"\",CONCATENATE(B1258,A1258,DIGITADOR!$M$1,C1258),\"\")","v":""},null,null,"","","",null,1254,"",{"$f":"IF(R1258=R1257,\"\",IF(E1258<>\"\",CONCATENATE(B1258,A1258,DIGITADOR!$M$1,C1258),\"\"))","v":""},null,{"$f":"IF(N1258=\"\",\"\",INDEX(referentes!S:T,MATCH(N1258,referentes!T:T,0),1))","v":""},null,{"$f":"IF(P1258=\"\",\"\",INDEX(referentes!Y:Z,MATCH(P1258,referentes!Z:Z,0),1))","v":""},"","",null,null,null,null,null,{"$f":"IF(X1258=\"\",\"\",INDEX(referentes!J:K,MATCH(X1258,referentes!J:J,0),2))","v":""},null,null,""]
["30000401000000",null,0,{"$f":"IF(E1259<>\"\",CONCATENATE(B1259,A1259,DIGITADOR!$M$1,C1259),\"\")","v":""},null,null,"","","",null,1255,"",{"$f":"IF(R1259=R1258,\"\",IF(E1259<>\"\",CONCATENATE(B1259,A1259,DIGITADOR!$M$1,C1259),\"\"))","v":""},null,{"$f":"IF(N1259=\"\",\"\",INDEX(referentes!S:T,MATCH(N1259,referentes!T:T,0),1))","v":""},null,{"$f":"IF(P1259=\"\",\"\",INDEX(referentes!Y:Z,MATCH(P1259,referentes!Z:Z,0),1))","v":""},"","",null,null,null,null,null,{"$f":"IF(X1259=\"\",\"\",INDEX(referentes!J:K,MATCH(X1259,referentes!J:J,0),2))","v":""},null,null,""]
["30000401000000",null,0,{"$f":"IF(E1260<>\"\",CONCATENATE(B1260,A1260,DIGITADOR!$M$1,C1260),\"\")","v":""},null,null,"","","",null,1256,"",{"$f":"IF(R1260=R1259,\"\",IF(E1260<>\"\",CONCATENATE(B1260,A1260,DIGITADOR!$M$1,C1260),\"\"))","v":""},null,{"$f":"IF(N1260=\"\",\"\",INDEX(referentes!S:T,MATCH(N1260,referentes!T:T,0),1))","v":""},null,{"$f":"IF(P1260=\"\",\"\",INDEX(referentes!Y:Z,MATCH(P1260,referentes!Z:Z,0),1))","v":""},"","",null,null,null,null,null,{"$f":"IF(X1260=\"\",\"\",INDEX(referentes!J:K,MATCH(X1260,referentes!J:J,0),2))","v":""},null,null,""]
["30000401000000",null,0,{"$f":"IF(E1261<>\"\",CONCATENATE(B1261,A1261,DIGITADOR!$M$1,C1261),\"\")","v":""},null,null,"","","",null,1257,"",{"$f":"IF(R1261=R1260,\"\",IF(E1261<>\"\",CONCATENATE(B1261,A1261,DIGITADOR!$M$1,C1261),\"\"))","v":""},null,{"$f":"IF(N1261=\"\",\"\",INDEX(referentes!S:T,MATCH(N1261,referentes!T:T,0),1))","v":""},null,{"$f":"IF(P1261=\"\",\"\",INDEX(referentes!Y:Z,MATCH(P1261,referentes!Z:Z,0),1))","v":""},"","",null,null,null,null,null,{"$f":"IF(X1261=\"\",\"\",INDEX(referentes!J:K,MATCH(X1261,referentes!J:J,0),2))","v":""},null,null,""]
["30000401000000",null,0,{"$f":"IF(E1262<>\"\",CONCATENATE(B1262,A1262,DIGITADOR!$M$1,C1262),\"\")","v":""},null,null,"","","",null,1258,"",{"$f":"IF(R1262=R1261,\"\",IF(E1262<>\"\",CONCATENATE(B1262,A1262,DIGITADOR!$M$1,C1262),\"\"))","v":""},null,{"$f":"IF(N1262=\"\",\"\",INDEX(referentes!S:T,MATCH(N1262,referentes!T:T,0),1))","v":""},null,{"$f":"IF(P1262=\"\",\"\",INDEX(referentes!Y:Z,MATCH(P1262,referentes!Z:Z,0),1))","v":""},"","",null,null,null,null,null,{"$f":"IF(X1262=\"\",\"\",INDEX(referentes!J:K,MATCH(X1262,referentes!J:J,0),2))","v":""},null,null,""]
["30000401000000",null,0,{"$f":"IF(E1263<>\"\",CONCATENATE(B1263,A1263,DIGITADOR!$M$1,C1263),\"\")","v":""},null,null,"","","",null,1259,"",{"$f":"IF(R1263=R1262,\"\",IF(E1263<>\"\",CONCATENATE(B1263,A1263,DIGITADOR!$M$1,C1263),\"\"))","v":""},null,{"$f":"IF(N1263=\"\",\"\",INDEX(referentes!S:T,MATCH(N1263,referentes!T:T,0),1))","v":""},null,{"$f":"IF(P1263=\"\",\"\",INDEX(referentes!Y:Z,MATCH(P1263,referentes!Z:Z,0),1))","v":""},"","",null,null,null,null,null,{"$f":"IF(X1263=\"\",\"\",INDEX(referentes!J:K,MATCH(X1263,referentes!J:J,0),2))","v":""},null,null,""]
["30000401000000",null,0,{"$f":"IF(E1264<>\"\",CONCATENATE(B1264,A1264,DIGITADOR!$M$1,C1264),\"\")","v":""},null,null,"","","",null,1260,"",{"$f":"IF(R1264=R1263,\"\",IF(E1264<>\"\",CONCATENATE(B1264,A1264,DIGITADOR!$M$1,C1264),\"\"))","v":""},null,{"$f":"IF(N1264=\"\",\"\",INDEX(referentes!S:T,MATCH(N1264,referentes!T:T,0),1))","v":""},null,{"$f":"IF(P1264=\"\",\"\",INDEX(referentes!Y:Z,MATCH(P1264,referentes!Z:Z,0),1))","v":""},"","",null,null,null,null,null,{"$f":"IF(X1264=\"\",\"\",INDEX(referentes!J:K,MATCH(X1264,referentes!J:J,0),2))","v":""},null,null,""]
["30000401000000",null,0,{"$f":"IF(E1265<>\"\",CONCATENATE(B1265,A1265,DIGITADOR!$M$1,C1265),\"\")","v":""},null,null,"","","",null,1261,"",{"$f":"IF(R1265=R1264,\"\",IF(E1265<>\"\",CONCATENATE(B1265,A1265,DIGITADOR!$M$1,C1265),\"\"))","v":""},null,{"$f":"IF(N1265=\"\",\"\",INDEX(referentes!S:T,MATCH(N1265,referentes!T:T,0),1))","v":""},null,{"$f":"IF(P1265=\"\",\"\",INDEX(referentes!Y:Z,MATCH(P1265,referentes!Z:Z,0),1))","v":""},"","",null,null,null,null,null,{"$f":"IF(X1265=\"\",\"\",INDEX(referentes!J:K,MATCH(X1265,referentes!J:J,0),2))","v":""},null,null,""]
["30000401000000",null,0,{"$f":"IF(E1266<>\"\",CONCATENATE(B1266,A1266,DIGITADOR!$M$1,C1266),\"\")","v":""},null,null,"","","",null,1262,"",{"$f":"IF(R1266=R1265,\"\",IF(E1266<>\"\",CONCATENATE(B1266,A1266,DIGITADOR!$M$1,C1266),\"\"))","v":""},null,{"$f":"IF(N1266=\"\",\"\",INDEX(referentes!S:T,MATCH(N1266,referentes!T:T,0),1))","v":""},null,{"$f":"IF(P1266=\"\",\"\",INDEX(referentes!Y:Z,MATCH(P1266,referentes!Z:Z,0),1))","v":""},"","",null,null,null,null,null,{"$f":"IF(X1266=\"\",\"\",INDEX(referentes!J:K,MATCH(X1266,referentes!J:J,0),2))","v":""},null,null,""]
["30000401000000",null,0,{"$f":"IF(E1267<>\"\",CONCATENATE(B1267,A1267,DIGITADOR!$M$1,C1267),\"\")","v":""},null,null,"","","",null,1263,"",{"$f":"IF(R1267=R1266,\"\",IF(E1267<>\"\",CONCATENATE(B1267,A1267,DIGITADOR!$M$1,C1267),\"\"))","v":""},null,{"$f":"IF(N1267=\"\",\"\",INDEX(referentes!S:T,MATCH(N1267,referentes!T:T,0),1))","v":""},null,{"$f":"IF(P1267=\"\",\"\",INDEX(referentes!Y:Z,MATCH(P1267,referentes!Z:Z,0),1))","v":""},"","",null,null,null,null,null,{"$f":"IF(X1267=\"\",\"\",INDEX(referentes!J:K,MATCH(X1267,referentes!J:J,0),2))","v":""},null,null,""]
["30000401000000",null,0,{"$f":"IF(E1268<>\"\",CONCATENATE(B1268,A1268,DIGITADOR!$M$1,C1268),\"\")","v":""},null,null,"","","",null,1264,"",{"$f":"IF(R1268=R1267,\"\",IF(E1268<>\"\",CONCATENATE(B1268,A1268,DIGITADOR!$M$1,C1268),\"\"))","v":""},null,{"$f":"IF(N1268=\"\",\"\",INDEX(referentes!S:T,MATCH(N1268,referentes!T:T,0),1))","v":""},null,{"$f":"IF(P1268=\"\",\"\",INDEX(referentes!Y:Z,MATCH(P1268,referentes!Z:Z,0),1))","v":""},"","",null,null,null,null,null,{"$f":"IF(X1268=\"\",\"\",INDEX(referentes!J:K,MATCH(X1268,referentes!J:J,0),2))","v":""},null,null,""]
["30000401000000",null,0,{"$f":"IF(E1269<>\"\",CONCATENATE(B1269,A1269,DIGITADOR!$M$1,C1269),\"\")","v":""},null,null,"","","",null,1265,"",{"$f":"IF(R1269=R1268,\"\",IF(E1269<>\"\",CONCATENATE(B1269,A1269,DIGITADOR!$M$1,C1269),\"\"))","v":""},null,{"$f":"IF(N1269=\"\",\"\",INDEX(referentes!S:T,MATCH(N1269,referentes!T:T,0),1))","v":""},null,{"$f":"IF(P1269=\"\",\"\",INDEX(referentes!Y:Z,MATCH(P1269,referentes!Z:Z,0),1))","v":""},"","",null,null,null,null,null,{"$f":"IF(X1269=\"\",\"\",INDEX(referentes!J:K,MATCH(X1269,referentes!J:J,0),2))","v":""},null,null,""]
["30000401000000",null,0,{"$f":"IF(E1270<>\"\",CONCATENATE(B1270,A1270,DIGITADOR!$M$1,C1270),\"\")","v":""},null,null,"","","",null,1266,"",{"$f":"IF(R1270=R1269,\"\",IF(E1270<>\"\",CONCATENATE(B1270,A1270,DIGITADOR!$M$1,C1270),\"\"))","v":""},null,{"$f":"IF(N1270=\"\",\"\",INDEX(referentes!S:T,MATCH(N1270,referentes!T:T,0),1))","v":""},null,{"$f":"IF(P1270=\"\",\"\",INDEX(referentes!Y:Z,MATCH(P1270,referentes!Z:Z,0),1))","v":""},"","",null,null,null,null,null,{"$f":"IF(X1270=\"\",\"\",INDEX(referentes!J:K,MATCH(X1270,referentes!J:J,0),2))","v":""},null,null,""]
["30000401000000",null,0,{"$f":"IF(E1271<>\"\",CONCATENATE(B1271,A1271,DIGITADOR!$M$1,C1271),\"\")","v":""},null,null,"","","",null,1267,"",{"$f":"IF(R1271=R1270,\"\",IF(E1271<>\"\",CONCATENATE(B1271,A1271,DIGITADOR!$M$1,C1271),\"\"))","v":""},null,{"$f":"IF(N1271=\"\",\"\",INDEX(referentes!S:T,MATCH(N1271,referentes!T:T,0),1))","v":""},null,{"$f":"IF(P1271=\"\",\"\",INDEX(referentes!Y:Z,MATCH(P1271,referentes!Z:Z,0),1))","v":""},"","",null,null,null,null,null,{"$f":"IF(X1271=\"\",\"\",INDEX(referentes!J:K,MATCH(X1271,referentes!J:J,0),2))","v":""},null,null,""]
["30000401000000",null,0,{"$f":"IF(E1272<>\"\",CONCATENATE(B1272,A1272,DIGITADOR!$M$1,C1272),\"\")","v":""},null,null,"","","",null,1268,"",{"$f":"IF(R1272=R1271,\"\",IF(E1272<>\"\",CONCATENATE(B1272,A1272,DIGITADOR!$M$1,C1272),\"\"))","v":""},null,{"$f":"IF(N1272=\"\",\"\",INDEX(referentes!S:T,MATCH(N1272,referentes!T:T,0),1))","v":""},null,{"$f":"IF(P1272=\"\",\"\",INDEX(referentes!Y:Z,MATCH(P1272,referentes!Z:Z,0),1))","v":""},"","",null,null,null,null,null,{"$f":"IF(X1272=\"\",\"\",INDEX(referentes!J:K,MATCH(X1272,referentes!J:J,0),2))","v":""},null,null,""]
["30000401000000",null,0,{"$f":"IF(E1273<>\"\",CONCATENATE(B1273,A1273,DIGITADOR!$M$1,C1273),\"\")","v":""},null,null,"","","",null,1269,"",{"$f":"IF(R1273=R1272,\"\",IF(E1273<>\"\",CONCATENATE(B1273,A1273,DIGITADOR!$M$1,C1273),\"\"))","v":""},null,{"$f":"IF(N1273=\"\",\"\",INDEX(referentes!S:T,MATCH(N1273,referentes!T:T,0),1))","v":""},null,{"$f":"IF(P1273=\"\",\"\",INDEX(referentes!Y:Z,MATCH(P1273,referentes!Z:Z,0),1))","v":""},"","",null,null,null,null,null,{"$f":"IF(X1273=\"\",\"\",INDEX(referentes!J:K,MATCH(X1273,referentes!J:J,0),2))","v":""},null,null,""]
["30000401000000",null,0,{"$f":"IF(E1274<>\"\",CONCATENATE(B1274,A1274,DIGITADOR!$M$1,C1274),\"\")","v":""},null,null,"","","",null,1270,"",{"$f":"IF(R1274=R1273,\"\",IF(E1274<>\"\",CONCATENATE(B1274,A1274,DIGITADOR!$M$1,C1274),\"\"))","v":""},null,{"$f":"IF(N1274=\"\",\"\",INDEX(referentes!S:T,MATCH(N1274,referentes!T:T,0),1))","v":""},null,{"$f":"IF(P1274=\"\",\"\",INDEX(referentes!Y:Z,MATCH(P1274,referentes!Z:Z,0),1))","v":""},"","",null,null,null,null,null,{"$f":"IF(X1274=\"\",\"\",INDEX(referentes!J:K,MATCH(X1274,referentes!J:J,0),2))","v":""},null,null,""]
["30000401000000",null,0,{"$f":"IF(E1275<>\"\",CONCATENATE(B1275,A1275,DIGITADOR!$M$1,C1275),\"\")","v":""},null,null,"","","",null,1271,"",{"$f":"IF(R1275=R1274,\"\",IF(E1275<>\"\",CONCATENATE(B1275,A1275,DIGITADOR!$M$1,C1275),\"\"))","v":""},null,{"$f":"IF(N1275=\"\",\"\",INDEX(referentes!S:T,MATCH(N1275,referentes!T:T,0),1))","v":""},null,{"$f":"IF(P1275=\"\",\"\",INDEX(referentes!Y:Z,MATCH(P1275,referentes!Z:Z,0),1))","v":""},"","",null,null,null,null,null,{"$f":"IF(X1275=\"\",\"\",INDEX(referentes!J:K,MATCH(X1275,referentes!J:J,0),2))","v":""},null,null,""]
["30000401000000",null,0,{"$f":"IF(E1276<>\"\",CONCATENATE(B1276,A1276,DIGITADOR!$M$1,C1276),\"\")","v":""},null,null,"","","",null,1272,"",{"$f":"IF(R1276=R1275,\"\",IF(E1276<>\"\",CONCATENATE(B1276,A1276,DIGITADOR!$M$1,C1276),\"\"))","v":""},null,{"$f":"IF(N1276=\"\",\"\",INDEX(referentes!S:T,MATCH(N1276,referentes!T:T,0),1))","v":""},null,{"$f":"IF(P1276=\"\",\"\",INDEX(referentes!Y:Z,MATCH(P1276,referentes!Z:Z,0),1))","v":""},"","",null,null,null,null,null,{"$f":"IF(X1276=\"\",\"\",INDEX(referentes!J:K,MATCH(X1276,referentes!J:J,0),2))","v":""},null,null,""]
["30000401000000",null,0,{"$f":"IF(E1277<>\"\",CONCATENATE(B1277,A1277,DIGITADOR!$M$1,C1277),\"\")","v":""},null,null,"","","",null,1273,"",{"$f":"IF(R1277=R1276,\"\",IF(E1277<>\"\",CONCATENATE(B1277,A1277,DIGITADOR!$M$1,C1277),\"\"))","v":""},null,{"$f":"IF(N1277=\"\",\"\",INDEX(referentes!S:T,MATCH(N1277,referentes!T:T,0),1))","v":""},null,{"$f":"IF(P1277=\"\",\"\",INDEX(referentes!Y:Z,MATCH(P1277,referentes!Z:Z,0),1))","v":""},"","",null,null,null,null,null,{"$f":"IF(X1277=\"\",\"\",INDEX(referentes!J:K,MATCH(X1277,referentes!J:J,0),2))","v":""},null,null,""]
["30000401000000",null,0,{"$f":"IF(E1278<>\"\",CONCATENATE(B1278,A1278,DIGITADOR!$M$1,C1278),\"\")","v":""},null,null,"","","",null,1274,"",{"$f":"IF(R1278=R1277,\"\",IF(E1278<>\"\",CONCATENATE(B1278,A1278,DIGITADOR!$M$1,C1278),\"\"))","v":""},null,{"$f":"IF(N1278=\"\",\"\",INDEX(referentes!S:T,MATCH(N1278,referentes!T:T,0),1))","v":""},null,{"$f":"IF(P1278=\"\",\"\",INDEX(referentes!Y:Z,MATCH(P1278,referentes!Z:Z,0),1))","v":""},"","",null,null,null,null,null,{"$f":"IF(X1278=\"\",\"\",INDEX(referentes!J:K,MATCH(X1278,referentes!J:J,0),2))","v":""},null,null,""]
["30000401000000",null,0,{"$f":"IF(E1279<>\"\",CONCATENATE(B1279,A1279,DIGITADOR!$M$1,C1279),\"\")","v":""},null,null,"","","",null,1275,"",{"$f":"IF(R1279=R1278,\"\",IF(E1279<>\"\",CONCATENATE(B1279,A1279,DIGITADOR!$M$1,C1279),\"\"))","v":""},null,{"$f":"IF(N1279=\"\",\"\",INDEX(referentes!S:T,MATCH(N1279,referentes!T:T,0),1))","v":""},null,{"$f":"IF(P1279=\"\",\"\",INDEX(referentes!Y:Z,MATCH(P1279,referentes!Z:Z,0),1))","v":""},"","",null,null,null,null,null,{"$f":"IF(X1279=\"\",\"\",INDEX(referentes!J:K,MATCH(X1279,referentes!J:J,0),2))","v":""},null,null,""]
["30000401000000",null,0,{"$f":"IF(E1280<>\"\",CONCATENATE(B1280,A1280,DIGITADOR!$M$1,C1280),\"\")","v":""},null,null,"","","",null,1276,"",{"$f":"IF(R1280=R1279,\"\",IF(E1280<>\"\",CONCATENATE(B1280,A1280,DIGITADOR!$M$1,C1280),\"\"))","v":""},null,{"$f":"IF(N1280=\"\",\"\",INDEX(referentes!S:T,MATCH(N1280,referentes!T:T,0),1))","v":""},null,{"$f":"IF(P1280=\"\",\"\",INDEX(referentes!Y:Z,MATCH(P1280,referentes!Z:Z,0),1))","v":""},"","",null,null,null,null,null,{"$f":"IF(X1280=\"\",\"\",INDEX(referentes!J:K,MATCH(X1280,referentes!J:J,0),2))","v":""},null,null,""]
["30000401000000",null,0,{"$f":"IF(E1281<>\"\",CONCATENATE(B1281,A1281,DIGITADOR!$M$1,C1281),\"\")","v":""},null,null,"","","",null,1277,"",{"$f":"IF(R1281=R1280,\"\",IF(E1281<>\"\",CONCATENATE(B1281,A1281,DIGITADOR!$M$1,C1281),\"\"))","v":""},null,{"$f":"IF(N1281=\"\",\"\",INDEX(referentes!S:T,MATCH(N1281,referentes!T:T,0),1))","v":""},null,{"$f":"IF(P1281=\"\",\"\",INDEX(referentes!Y:Z,MATCH(P1281,referentes!Z:Z,0),1))","v":""},"","",null,null,null,null,null,{"$f":"IF(X1281=\"\",\"\",INDEX(referentes!J:K,MATCH(X1281,referentes!J:J,0),2))","v":""},null,null,""]
["30000401000000",null,0,{"$f":"IF(E1282<>\"\",CONCATENATE(B1282,A1282,DIGITADOR!$M$1,C1282),\"\")","v":""},null,null,"","","",null,1278,"",{"$f":"IF(R1282=R1281,\"\",IF(E1282<>\"\",CONCATENATE(B1282,A1282,DIGITADOR!$M$1,C1282),\"\"))","v":""},null,{"$f":"IF(N1282=\"\",\"\",INDEX(referentes!S:T,MATCH(N1282,referentes!T:T,0),1))","v":""},null,{"$f":"IF(P1282=\"\",\"\",INDEX(referentes!Y:Z,MATCH(P1282,referentes!Z:Z,0),1))","v":""},"","",null,null,null,null,null,{"$f":"IF(X1282=\"\",\"\",INDEX(referentes!J:K,MATCH(X1282,referentes!J:J,0),2))","v":""},null,null,""]
["30000401000000",null,0,{"$f":"IF(E1283<>\"\",CONCATENATE(B1283,A1283,DIGITADOR!$M$1,C1283),\"\")","v":""},null,null,"","","",null,1279,"",{"$f":"IF(R1283=R1282,\"\",IF(E1283<>\"\",CONCATENATE(B1283,A1283,DIGITADOR!$M$1,C1283),\"\"))","v":""},null,{"$f":"IF(N1283=\"\",\"\",INDEX(referentes!S:T,MATCH(N1283,referentes!T:T,0),1))","v":""},null,{"$f":"IF(P1283=\"\",\"\",INDEX(referentes!Y:Z,MATCH(P1283,referentes!Z:Z,0),1))","v":""},"","",null,null,null,null,null,{"$f":"IF(X1283=\"\",\"\",INDEX(referentes!J:K,MATCH(X1283,referentes!J:J,0),2))","v":""},null,null,""]
["30000401000000",null,0,{"$f":"IF(E1284<>\"\",CONCATENATE(B1284,A1284,DIGITADOR!$M$1,C1284),\"\")","v":""},null,null,"","","",null,1280,"",{"$f":"IF(R1284=R1283,\"\",IF(E1284<>\"\",CONCATENATE(B1284,A1284,DIGITADOR!$M$1,C1284),\"\"))","v":""},null,{"$f":"IF(N1284=\"\",\"\",INDEX(referentes!S:T,MATCH(N1284,referentes!T:T,0),1))","v":""},null,{"$f":"IF(P1284=\"\",\"\",INDEX(referentes!Y:Z,MATCH(P1284,referentes!Z:Z,0),1))","v":""},"","",null,null,null,null,null,{"$f":"IF(X1284=\"\",\"\",INDEX(referentes!J:K,MATCH(X1284,referentes!J:J,0),2))","v":""},null,null,""]
["30000401000000",null,{"$f":"IF(R1285=R1284,C1284,C1284+1)","v":0},{"$f":"IF(E1285<>\"\",CONCATENATE(B1285,A1285,DIGITADOR!$M$1,C1285),\"\")","v":""},null,null,"","","",null,1281,"",{"$f":"IF(R1285=R1284,\"\",IF(E1285<>\"\",CONCATENATE(B1285,A1285,DIGITADOR!$M$1,C1285),\"\"))","v":""},null,{"$f":"IF(N1285=\"\",\"\",INDEX(referentes!S:T,MATCH(N1285,referentes!T:T,0),1))","v":""},null,{"$f":"IF(P1285=\"\",\"\",INDEX(referentes!Y:Z,MATCH(P1285,referentes!Z:Z,0),1))","v":""},"","",null,null,null,null,null,{"$f":"IF(X1285=\"\",\"\",INDEX(referentes!J:K,MATCH(X1285,referentes!J:J,0),2))","v":""},null,null,""]
["30000401000000",null,0,{"$f":"IF(E1286<>\"\",CONCATENATE(B1286,A1286,DIGITADOR!$M$1,C1286),\"\")","v":""},null,null,{"$f":"IF(E1286=\"\", \"\", (E1286+F1286))","v":""},{"$f":"IF(G1286<>\"\",MONTH(G1286),\"\")","v":""},{"$f":"IF(D1286=\"\",\"\",1)","v":""},null,1282,{"$f":"IF(E1286=\"\",\"\",CONCATENATE(D1286,K1286))","v":""},{"$f":"IF(R1286=R1285,\"\",IF(E1286<>\"\",CONCATENATE(B1286,A1286,DIGITADOR!$M$1,C1286),\"\"))","v":""},null,{"$f":"IF(N1286=\"\",\"\",INDEX(referentes!S:T,MATCH(N1286,referentes!T:T,0),1))","v":""},null,{"$f":"IF(P1286=\"\",\"\",INDEX(referentes!Y:Z,MATCH(P1286,referentes!Z:Z,0),1))","v":""},{"$f":"IF(G1286=\"\",\"\",CONCATENATE(G1286,O1286,Q1286))","v":""},{"$f":"IF(E1286=\"\",\"\",\"INVEMAR\")","v":""},null,null,null,null,null,{"$f":"IF(X1286=\"\",\"\",INDEX(referentes!J:K,MATCH(X1286,referentes!J:J,0),2))","v":""},null,null,{"$f":"IF(T1286=\"\",\"\",IF(T1286=T1285,AB1285,AA1286))","v":""}]
[{"$f":"A1286","v":"30000401000000"},null,0,{"$f":"IF(E1287<>\"\",CONCATENATE(B1287,A1287,DIGITADOR!$M$1,C1287),\"\")","v":""},null,null,"","","",null,1283,"",{"$f":"IF(R1287=R1286,\"\",IF(E1287<>\"\",CONCATENATE(B1287,A1287,DIGITADOR!$M$1,C1287),\"\"))","v":""},null,{"$f":"IF(N1287=\"\",\"\",INDEX(referentes!S:T,MATCH(N1287,referentes!T:T,0),1))","v":""},null,{"$f":"IF(P1287=\"\",\"\",INDEX(referentes!Y:Z,MATCH(P1287,referentes!Z:Z,0),1))","v":""},"","",null,null,null,null,null,{"$f":"IF(X1287=\"\",\"\",INDEX(referentes!J:K,MATCH(X1287,referentes!J:J,0),2))","v":""},null,null,""]
["30000401000000",null,0,{"$f":"IF(E1288<>\"\",CONCATENATE(B1288,A1288,DIGITADOR!$M$1,C1288),\"\")","v":""},null,null,"","","",null,1284,"",{"$f":"IF(R1288=R1287,\"\",IF(E1288<>\"\",CONCATENATE(B1288,A1288,DIGITADOR!$M$1,C1288),\"\"))","v":""},null,{"$f":"IF(N1288=\"\",\"\",INDEX(referentes!S:T,MATCH(N1288,referentes!T:T,0),1))","v":""},null,{"$f":"IF(P1288=\"\",\"\",INDEX(referentes!Y:Z,MATCH(P1288,referentes!Z:Z,0),1))","v":""},"","",null,null,null,null,null,{"$f":"IF(X1288=\"\",\"\",INDEX(referentes!J:K,MATCH(X1288,referentes!J:J,0),2))","v":""},null,null,""]
["30000401000000",null,0,{"$f":"IF(E1289<>\"\",CONCATENATE(B1289,A1289,DIGITADOR!$M$1,C1289),\"\")","v":""},null,null,"","","",null,1285,"",{"$f":"IF(R1289=R1288,\"\",IF(E1289<>\"\",CONCATENATE(B1289,A1289,DIGITADOR!$M$1,C1289),\"\"))","v":""},null,{"$f":"IF(N1289=\"\",\"\",INDEX(referentes!S:T,MATCH(N1289,referentes!T:T,0),1))","v":""},null,{"$f":"IF(P1289=\"\",\"\",INDEX(referentes!Y:Z,MATCH(P1289,referentes!Z:Z,0),1))","v":""},"","",null,null,null,null,null,{"$f":"IF(X1289=\"\",\"\",INDEX(referentes!J:K,MATCH(X1289,referentes!J:J,0),2))","v":""},null,null,""]
["30000401000000",null,0,{"$f":"IF(E1290<>\"\",CONCATENATE(B1290,A1290,DIGITADOR!$M$1,C1290),\"\")","v":""},null,null,"","","",null,1286,"",{"$f":"IF(R1290=R1289,\"\",IF(E1290<>\"\",CONCATENATE(B1290,A1290,DIGITADOR!$M$1,C1290),\"\"))","v":""},null,{"$f":"IF(N1290=\"\",\"\",INDEX(referentes!S:T,MATCH(N1290,referentes!T:T,0),1))","v":""},null,{"$f":"IF(P1290=\"\",\"\",INDEX(referentes!Y:Z,MATCH(P1290,referentes!Z:Z,0),1))","v":""},"","",null,null,null,null,null,{"$f":"IF(X1290=\"\",\"\",INDEX(referentes!J:K,MATCH(X1290,referentes!J:J,0),2))","v":""},null,null,""]
["30000401000000",null,0,{"$f":"IF(E1291<>\"\",CONCATENATE(B1291,A1291,DIGITADOR!$M$1,C1291),\"\")","v":""},null,null,"","","",null,1287,"",{"$f":"IF(R1291=R1290,\"\",IF(E1291<>\"\",CONCATENATE(B1291,A1291,DIGITADOR!$M$1,C1291),\"\"))","v":""},null,{"$f":"IF(N1291=\"\",\"\",INDEX(referentes!S:T,MATCH(N1291,referentes!T:T,0),1))","v":""},null,{"$f":"IF(P1291=\"\",\"\",INDEX(referentes!Y:Z,MATCH(P1291,referentes!Z:Z,0),1))","v":""},"","",null,null,null,null,null,{"$f":"IF(X1291=\"\",\"\",INDEX(referentes!J:K,MATCH(X1291,referentes!J:J,0),2))","v":""},null,null,""]
["30000401000000",null,0,{"$f":"IF(E1292<>\"\",CONCATENATE(B1292,A1292,DIGITADOR!$M$1,C1292),\"\")","v":""},null,null,"","","",null,1288,"",{"$f":"IF(R1292=R1291,\"\",IF(E1292<>\"\",CONCATENATE(B1292,A1292,DIGITADOR!$M$1,C1292),\"\"))","v":""},null,{"$f":"IF(N1292=\"\",\"\",INDEX(referentes!S:T,MATCH(N1292,referentes!T:T,0),1))","v":""},null,{"$f":"IF(P1292=\"\",\"\",INDEX(referentes!Y:Z,MATCH(P1292,referentes!Z:Z,0),1))","v":""},"","",null,null,null,null,null,{"$f":"IF(X1292=\"\",\"\",INDEX(referentes!J:K,MATCH(X1292,referentes!J:J,0),2))","v":""},null,null,""]
["30000401000000",null,0,{"$f":"IF(E1293<>\"\",CONCATENATE(B1293,A1293,DIGITADOR!$M$1,C1293),\"\")","v":""},null,null,"","","",null,1289,"",{"$f":"IF(R1293=R1292,\"\",IF(E1293<>\"\",CONCATENATE(B1293,A1293,DIGITADOR!$M$1,C1293),\"\"))","v":""},null,{"$f":"IF(N1293=\"\",\"\",INDEX(referentes!S:T,MATCH(N1293,referentes!T:T,0),1))","v":""},null,{"$f":"IF(P1293=\"\",\"\",INDEX(referentes!Y:Z,MATCH(P1293,referentes!Z:Z,0),1))","v":""},"","",null,null,null,null,null,{"$f":"IF(X1293=\"\",\"\",INDEX(referentes!J:K,MATCH(X1293,referentes!J:J,0),2))","v":""},null,null,""]
["30000401000000",null,0,{"$f":"IF(E1294<>\"\",CONCATENATE(B1294,A1294,DIGITADOR!$M$1,C1294),\"\")","v":""},null,null,"","","",null,1290,"",{"$f":"IF(R1294=R1293,\"\",IF(E1294<>\"\",CONCATENATE(B1294,A1294,DIGITADOR!$M$1,C1294),\"\"))","v":""},null,{"$f":"IF(N1294=\"\",\"\",INDEX(referentes!S:T,MATCH(N1294,referentes!T:T,0),1))","v":""},null,{"$f":"IF(P1294=\"\",\"\",INDEX(referentes!Y:Z,MATCH(P1294,referentes!Z:Z,0),1))","v":""},"","",null,null,null,null,null,{"$f":"IF(X1294=\"\",\"\",INDEX(referentes!J:K,MATCH(X1294,referentes!J:J,0),2))","v":""},null,null,""]
["30000401000000",null,0,{"$f":"IF(E1295<>\"\",CONCATENATE(B1295,A1295,DIGITADOR!$M$1,C1295),\"\")","v":""},null,null,"","","",null,1291,"",{"$f":"IF(R1295=R1294,\"\",IF(E1295<>\"\",CONCATENATE(B1295,A1295,DIGITADOR!$M$1,C1295),\"\"))","v":""},null,{"$f":"IF(N1295=\"\",\"\",INDEX(referentes!S:T,MATCH(N1295,referentes!T:T,0),1))","v":""},null,{"$f":"IF(P1295=\"\",\"\",INDEX(referentes!Y:Z,MATCH(P1295,referentes!Z:Z,0),1))","v":""},"","",null,null,null,null,null,{"$f":"IF(X1295=\"\",\"\",INDEX(referentes!J:K,MATCH(X1295,referentes!J:J,0),2))","v":""},null,null,""]
["30000401000000",null,0,{"$f":"IF(E1296<>\"\",CONCATENATE(B1296,A1296,DIGITADOR!$M$1,C1296),\"\")","v":""},null,null,"","","",null,1292,"",{"$f":"IF(R1296=R1295,\"\",IF(E1296<>\"\",CONCATENATE(B1296,A1296,DIGITADOR!$M$1,C1296),\"\"))","v":""},null,{"$f":"IF(N1296=\"\",\"\",INDEX(referentes!S:T,MATCH(N1296,referentes!T:T,0),1))","v":""},null,{"$f":"IF(P1296=\"\",\"\",INDEX(referentes!Y:Z,MATCH(P1296,referentes!Z:Z,0),1))","v":""},"","",null,null,null,null,null,{"$f":"IF(X1296=\"\",\"\",INDEX(referentes!J:K,MATCH(X1296,referentes!J:J,0),2))","v":""},null,null,""]
["30000401000000",null,0,{"$f":"IF(E1297<>\"\",CONCATENATE(B1297,A1297,DIGITADOR!$M$1,C1297),\"\")","v":""},null,null,"","","",null,1293,"",{"$f":"IF(R1297=R1296,\"\",IF(E1297<>\"\",CONCATENATE(B1297,A1297,DIGITADOR!$M$1,C1297),\"\"))","v":""},null,{"$f":"IF(N1297=\"\",\"\",INDEX(referentes!S:T,MATCH(N1297,referentes!T:T,0),1))","v":""},null,{"$f":"IF(P1297=\"\",\"\",INDEX(referentes!Y:Z,MATCH(P1297,referentes!Z:Z,0),1))","v":""},"","",null,null,null,null,null,{"$f":"IF(X1297=\"\",\"\",INDEX(referentes!J:K,MATCH(X1297,referentes!J:J,0),2))","v":""},null,null,""]
["30000401000000",null,0,{"$f":"IF(E1298<>\"\",CONCATENATE(B1298,A1298,DIGITADOR!$M$1,C1298),\"\")","v":""},null,null,"","","",null,1294,"",{"$f":"IF(R1298=R1297,\"\",IF(E1298<>\"\",CONCATENATE(B1298,A1298,DIGITADOR!$M$1,C1298),\"\"))","v":""},null,{"$f":"IF(N1298=\"\",\"\",INDEX(referentes!S:T,MATCH(N1298,referentes!T:T,0),1))","v":""},null,{"$f":"IF(P1298=\"\",\"\",INDEX(referentes!Y:Z,MATCH(P1298,referentes!Z:Z,0),1))","v":""},"","",null,null,null,null,null,{"$f":"IF(X1298=\"\",\"\",INDEX(referentes!J:K,MATCH(X1298,referentes!J:J,0),2))","v":""},null,null,""]
["30000401000000",null,0,{"$f":"IF(E1299<>\"\",CONCATENATE(B1299,A1299,DIGITADOR!$M$1,C1299),\"\")","v":""},null,null,"","","",null,1295,"",{"$f":"IF(R1299=R1298,\"\",IF(E1299<>\"\",CONCATENATE(B1299,A1299,DIGITADOR!$M$1,C1299),\"\"))","v":""},null,{"$f":"IF(N1299=\"\",\"\",INDEX(referentes!S:T,MATCH(N1299,referentes!T:T,0),1))","v":""},null,{"$f":"IF(P1299=\"\",\"\",INDEX(referentes!Y:Z,MATCH(P1299,referentes!Z:Z,0),1))","v":""},"","",null,null,null,null,null,{"$f":"IF(X1299=\"\",\"\",INDEX(referentes!J:K,MATCH(X1299,referentes!J:J,0),2))","v":""},null,null,""]
["30000401000000",null,0,{"$f":"IF(E1300<>\"\",CONCATENATE(B1300,A1300,DIGITADOR!$M$1,C1300),\"\")","v":""},null,null,"","","",null,1296,"",{"$f":"IF(R1300=R1299,\"\",IF(E1300<>\"\",CONCATENATE(B1300,A1300,DIGITADOR!$M$1,C1300),\"\"))","v":""},null,{"$f":"IF(N1300=\"\",\"\",INDEX(referentes!S:T,MATCH(N1300,referentes!T:T,0),1))","v":""},null,{"$f":"IF(P1300=\"\",\"\",INDEX(referentes!Y:Z,MATCH(P1300,referentes!Z:Z,0),1))","v":""},"","",null,null,null,null,null,{"$f":"IF(X1300=\"\",\"\",INDEX(referentes!J:K,MATCH(X1300,referentes!J:J,0),2))","v":""},null,null,""]
["30000401000000",null,0,{"$f":"IF(E1301<>\"\",CONCATENATE(B1301,A1301,DIGITADOR!$M$1,C1301),\"\")","v":""},null,null,"","","",null,1297,"",{"$f":"IF(R1301=R1300,\"\",IF(E1301<>\"\",CONCATENATE(B1301,A1301,DIGITADOR!$M$1,C1301),\"\"))","v":""},null,{"$f":"IF(N1301=\"\",\"\",INDEX(referentes!S:T,MATCH(N1301,referentes!T:T,0),1))","v":""},null,{"$f":"IF(P1301=\"\",\"\",INDEX(referentes!Y:Z,MATCH(P1301,referentes!Z:Z,0),1))","v":""},"","",null,null,null,null,null,{"$f":"IF(X1301=\"\",\"\",INDEX(referentes!J:K,MATCH(X1301,referentes!J:J,0),2))","v":""},null,null,""]
["30000401000000",null,0,{"$f":"IF(E1302<>\"\",CONCATENATE(B1302,A1302,DIGITADOR!$M$1,C1302),\"\")","v":""},null,null,"","","",null,1298,"",{"$f":"IF(R1302=R1301,\"\",IF(E1302<>\"\",CONCATENATE(B1302,A1302,DIGITADOR!$M$1,C1302),\"\"))","v":""},null,{"$f":"IF(N1302=\"\",\"\",INDEX(referentes!S:T,MATCH(N1302,referentes!T:T,0),1))","v":""},null,{"$f":"IF(P1302=\"\",\"\",INDEX(referentes!Y:Z,MATCH(P1302,referentes!Z:Z,0),1))","v":""},"","",null,null,null,null,null,{"$f":"IF(X1302=\"\",\"\",INDEX(referentes!J:K,MATCH(X1302,referentes!J:J,0),2))","v":""},null,null,""]
["30000401000000",null,0,{"$f":"IF(E1303<>\"\",CONCATENATE(B1303,A1303,DIGITADOR!$M$1,C1303),\"\")","v":""},null,null,"","","",null,1299,"",{"$f":"IF(R1303=R1302,\"\",IF(E1303<>\"\",CONCATENATE(B1303,A1303,DIGITADOR!$M$1,C1303),\"\"))","v":""},null,{"$f":"IF(N1303=\"\",\"\",INDEX(referentes!S:T,MATCH(N1303,referentes!T:T,0),1))","v":""},null,{"$f":"IF(P1303=\"\",\"\",INDEX(referentes!Y:Z,MATCH(P1303,referentes!Z:Z,0),1))","v":""},"","",null,null,null,null,null,{"$f":"IF(X1303=\"\",\"\",INDEX(referentes!J:K,MATCH(X1303,referentes!J:J,0),2))","v":""},null,null,""]
["30000401000000",null,0,{"$f":"IF(E1304<>\"\",CONCATENATE(B1304,A1304,DIGITADOR!$M$1,C1304),\"\")","v":""},null,null,"","","",null,1300,"",{"$f":"IF(R1304=R1303,\"\",IF(E1304<>\"\",CONCATENATE(B1304,A1304,DIGITADOR!$M$1,C1304),\"\"))","v":""},null,{"$f":"IF(N1304=\"\",\"\",INDEX(referentes!S:T,MATCH(N1304,referentes!T:T,0),1))","v":""},null,{"$f":"IF(P1304=\"\",\"\",INDEX(referentes!Y:Z,MATCH(P1304,referentes!Z:Z,0),1))","v":""},"","",null,null,null,null,null,{"$f":"IF(X1304=\"\",\"\",INDEX(referentes!J:K,MATCH(X1304,referentes!J:J,0),2))","v":""},null,null,""]
["30000401000000",null,0,{"$f":"IF(E1305<>\"\",CONCATENATE(B1305,A1305,DIGITADOR!$M$1,C1305),\"\")","v":""},null,null,"","","",null,1301,"",{"$f":"IF(R1305=R1304,\"\",IF(E1305<>\"\",CONCATENATE(B1305,A1305,DIGITADOR!$M$1,C1305),\"\"))","v":""},null,{"$f":"IF(N1305=\"\",\"\",INDEX(referentes!S:T,MATCH(N1305,referentes!T:T,0),1))","v":""},null,{"$f":"IF(P1305=\"\",\"\",INDEX(referentes!Y:Z,MATCH(P1305,referentes!Z:Z,0),1))","v":""},"","",null,null,null,null,null,{"$f":"IF(X1305=\"\",\"\",INDEX(referentes!J:K,MATCH(X1305,referentes!J:J,0),2))","v":""},null,null,""]
["30000401000000",null,0,{"$f":"IF(E1306<>\"\",CONCATENATE(B1306,A1306,DIGITADOR!$M$1,C1306),\"\")","v":""},null,null,"","","",null,1302,"",{"$f":"IF(R1306=R1305,\"\",IF(E1306<>\"\",CONCATENATE(B1306,A1306,DIGITADOR!$M$1,C1306),\"\"))","v":""},null,{"$f":"IF(N1306=\"\",\"\",INDEX(referentes!S:T,MATCH(N1306,referentes!T:T,0),1))","v":""},null,{"$f":"IF(P1306=\"\",\"\",INDEX(referentes!Y:Z,MATCH(P1306,referentes!Z:Z,0),1))","v":""},"","",null,null,null,null,null,{"$f":"IF(X1306=\"\",\"\",INDEX(referentes!J:K,MATCH(X1306,referentes!J:J,0),2))","v":""},null,null,""]
["30000401000000",null,0,{"$f":"IF(E1307<>\"\",CONCATENATE(B1307,A1307,DIGITADOR!$M$1,C1307),\"\")","v":""},null,null,"","","",null,1303,"",{"$f":"IF(R1307=R1306,\"\",IF(E1307<>\"\",CONCATENATE(B1307,A1307,DIGITADOR!$M$1,C1307),\"\"))","v":""},null,{"$f":"IF(N1307=\"\",\"\",INDEX(referentes!S:T,MATCH(N1307,referentes!T:T,0),1))","v":""},null,{"$f":"IF(P1307=\"\",\"\",INDEX(referentes!Y:Z,MATCH(P1307,referentes!Z:Z,0),1))","v":""},"","",null,null,null,null,null,{"$f":"IF(X1307=\"\",\"\",INDEX(referentes!J:K,MATCH(X1307,referentes!J:J,0),2))","v":""},null,null,""]
["30000401000000",null,0,{"$f":"IF(E1308<>\"\",CONCATENATE(B1308,A1308,DIGITADOR!$M$1,C1308),\"\")","v":""},null,null,"","","",null,1304,"",{"$f":"IF(R1308=R1307,\"\",IF(E1308<>\"\",CONCATENATE(B1308,A1308,DIGITADOR!$M$1,C1308),\"\"))","v":""},null,{"$f":"IF(N1308=\"\",\"\",INDEX(referentes!S:T,MATCH(N1308,referentes!T:T,0),1))","v":""},null,{"$f":"IF(P1308=\"\",\"\",INDEX(referentes!Y:Z,MATCH(P1308,referentes!Z:Z,0),1))","v":""},"","",null,null,null,null,null,{"$f":"IF(X1308=\"\",\"\",INDEX(referentes!J:K,MATCH(X1308,referentes!J:J,0),2))","v":""},null,null,""]
["30000401000000",null,0,{"$f":"IF(E1309<>\"\",CONCATENATE(B1309,A1309,DIGITADOR!$M$1,C1309),\"\")","v":""},null,null,"","","",null,1305,"",{"$f":"IF(R1309=R1308,\"\",IF(E1309<>\"\",CONCATENATE(B1309,A1309,DIGITADOR!$M$1,C1309),\"\"))","v":""},null,{"$f":"IF(N1309=\"\",\"\",INDEX(referentes!S:T,MATCH(N1309,referentes!T:T,0),1))","v":""},null,{"$f":"IF(P1309=\"\",\"\",INDEX(referentes!Y:Z,MATCH(P1309,referentes!Z:Z,0),1))","v":""},"","",null,null,null,null,null,{"$f":"IF(X1309=\"\",\"\",INDEX(referentes!J:K,MATCH(X1309,referentes!J:J,0),2))","v":""},null,null,""]
["30000401000000",null,0,{"$f":"IF(E1310<>\"\",CONCATENATE(B1310,A1310,DIGITADOR!$M$1,C1310),\"\")","v":""},null,null,"","","",null,1306,"",{"$f":"IF(R1310=R1309,\"\",IF(E1310<>\"\",CONCATENATE(B1310,A1310,DIGITADOR!$M$1,C1310),\"\"))","v":""},null,{"$f":"IF(N1310=\"\",\"\",INDEX(referentes!S:T,MATCH(N1310,referentes!T:T,0),1))","v":""},null,{"$f":"IF(P1310=\"\",\"\",INDEX(referentes!Y:Z,MATCH(P1310,referentes!Z:Z,0),1))","v":""},"","",null,null,null,null,null,{"$f":"IF(X1310=\"\",\"\",INDEX(referentes!J:K,MATCH(X1310,referentes!J:J,0),2))","v":""},null,null,""]
["30000401000000",null,0,{"$f":"IF(E1311<>\"\",CONCATENATE(B1311,A1311,DIGITADOR!$M$1,C1311),\"\")","v":""},null,null,"","","",null,1307,"",{"$f":"IF(R1311=R1310,\"\",IF(E1311<>\"\",CONCATENATE(B1311,A1311,DIGITADOR!$M$1,C1311),\"\"))","v":""},null,{"$f":"IF(N1311=\"\",\"\",INDEX(referentes!S:T,MATCH(N1311,referentes!T:T,0),1))","v":""},null,{"$f":"IF(P1311=\"\",\"\",INDEX(referentes!Y:Z,MATCH(P1311,referentes!Z:Z,0),1))","v":""},"","",null,null,null,null,null,{"$f":"IF(X1311=\"\",\"\",INDEX(referentes!J:K,MATCH(X1311,referentes!J:J,0),2))","v":""},null,null,""]
["30000401000000",null,0,{"$f":"IF(E1312<>\"\",CONCATENATE(B1312,A1312,DIGITADOR!$M$1,C1312),\"\")","v":""},null,null,"","","",null,1308,"",{"$f":"IF(R1312=R1311,\"\",IF(E1312<>\"\",CONCATENATE(B1312,A1312,DIGITADOR!$M$1,C1312),\"\"))","v":""},null,{"$f":"IF(N1312=\"\",\"\",INDEX(referentes!S:T,MATCH(N1312,referentes!T:T,0),1))","v":""},null,{"$f":"IF(P1312=\"\",\"\",INDEX(referentes!Y:Z,MATCH(P1312,referentes!Z:Z,0),1))","v":""},"","",null,null,null,null,null,{"$f":"IF(X1312=\"\",\"\",INDEX(referentes!J:K,MATCH(X1312,referentes!J:J,0),2))","v":""},null,null,""]
["30000401000000",null,0,{"$f":"IF(E1313<>\"\",CONCATENATE(B1313,A1313,DIGITADOR!$M$1,C1313),\"\")","v":""},null,null,"","","",null,1309,"",{"$f":"IF(R1313=R1312,\"\",IF(E1313<>\"\",CONCATENATE(B1313,A1313,DIGITADOR!$M$1,C1313),\"\"))","v":""},null,{"$f":"IF(N1313=\"\",\"\",INDEX(referentes!S:T,MATCH(N1313,referentes!T:T,0),1))","v":""},null,{"$f":"IF(P1313=\"\",\"\",INDEX(referentes!Y:Z,MATCH(P1313,referentes!Z:Z,0),1))","v":""},"","",null,null,null,null,null,{"$f":"IF(X1313=\"\",\"\",INDEX(referentes!J:K,MATCH(X1313,referentes!J:J,0),2))","v":""},null,null,""]
["30000401000000",null,0,{"$f":"IF(E1314<>\"\",CONCATENATE(B1314,A1314,DIGITADOR!$M$1,C1314),\"\")","v":""},null,null,"","","",null,1310,"",{"$f":"IF(R1314=R1313,\"\",IF(E1314<>\"\",CONCATENATE(B1314,A1314,DIGITADOR!$M$1,C1314),\"\"))","v":""},null,{"$f":"IF(N1314=\"\",\"\",INDEX(referentes!S:T,MATCH(N1314,referentes!T:T,0),1))","v":""},null,{"$f":"IF(P1314=\"\",\"\",INDEX(referentes!Y:Z,MATCH(P1314,referentes!Z:Z,0),1))","v":""},"","",null,null,null,null,null,{"$f":"IF(X1314=\"\",\"\",INDEX(referentes!J:K,MATCH(X1314,referentes!J:J,0),2))","v":""},null,null,""]
["30000401000000",null,0,{"$f":"IF(E1315<>\"\",CONCATENATE(B1315,A1315,DIGITADOR!$M$1,C1315),\"\")","v":""},null,null,"","","",null,1311,"",{"$f":"IF(R1315=R1314,\"\",IF(E1315<>\"\",CONCATENATE(B1315,A1315,DIGITADOR!$M$1,C1315),\"\"))","v":""},null,{"$f":"IF(N1315=\"\",\"\",INDEX(referentes!S:T,MATCH(N1315,referentes!T:T,0),1))","v":""},null,{"$f":"IF(P1315=\"\",\"\",INDEX(referentes!Y:Z,MATCH(P1315,referentes!Z:Z,0),1))","v":""},"","",null,null,null,null,null,{"$f":"IF(X1315=\"\",\"\",INDEX(referentes!J:K,MATCH(X1315,referentes!J:J,0),2))","v":""},null,null,""]
["30000401000000",null,0,{"$f":"IF(E1316<>\"\",CONCATENATE(B1316,A1316,DIGITADOR!$M$1,C1316),\"\")","v":""},null,null,"","","",null,1312,"",{"$f":"IF(R1316=R1315,\"\",IF(E1316<>\"\",CONCATENATE(B1316,A1316,DIGITADOR!$M$1,C1316),\"\"))","v":""},null,{"$f":"IF(N1316=\"\",\"\",INDEX(referentes!S:T,MATCH(N1316,referentes!T:T,0),1))","v":""},null,{"$f":"IF(P1316=\"\",\"\",INDEX(referentes!Y:Z,MATCH(P1316,referentes!Z:Z,0),1))","v":""},"","",null,null,null,null,null,{"$f":"IF(X1316=\"\",\"\",INDEX(referentes!J:K,MATCH(X1316,referentes!J:J,0),2))","v":""},null,null,""]
["30000401000000",null,0,{"$f":"IF(E1317<>\"\",CONCATENATE(B1317,A1317,DIGITADOR!$M$1,C1317),\"\")","v":""},null,null,"","","",null,1313,"",{"$f":"IF(R1317=R1316,\"\",IF(E1317<>\"\",CONCATENATE(B1317,A1317,DIGITADOR!$M$1,C1317),\"\"))","v":""},null,{"$f":"IF(N1317=\"\",\"\",INDEX(referentes!S:T,MATCH(N1317,referentes!T:T,0),1))","v":""},null,{"$f":"IF(P1317=\"\",\"\",INDEX(referentes!Y:Z,MATCH(P1317,referentes!Z:Z,0),1))","v":""},"","",null,null,null,null,null,{"$f":"IF(X1317=\"\",\"\",INDEX(referentes!J:K,MATCH(X1317,referentes!J:J,0),2))","v":""},null,null,""]
["30000401000000",null,0,{"$f":"IF(E1318<>\"\",CONCATENATE(B1318,A1318,DIGITADOR!$M$1,C1318),\"\")","v":""},null,null,"","","",null,1314,"",{"$f":"IF(R1318=R1317,\"\",IF(E1318<>\"\",CONCATENATE(B1318,A1318,DIGITADOR!$M$1,C1318),\"\"))","v":""},null,{"$f":"IF(N1318=\"\",\"\",INDEX(referentes!S:T,MATCH(N1318,referentes!T:T,0),1))","v":""},null,{"$f":"IF(P1318=\"\",\"\",INDEX(referentes!Y:Z,MATCH(P1318,referentes!Z:Z,0),1))","v":""},"","",null,null,null,null,null,{"$f":"IF(X1318=\"\",\"\",INDEX(referentes!J:K,MATCH(X1318,referentes!J:J,0),2))","v":""},null,null,""]
["30000401000000",null,0,{"$f":"IF(E1319<>\"\",CONCATENATE(B1319,A1319,DIGITADOR!$M$1,C1319),\"\")","v":""},null,null,"","","",null,1315,"",{"$f":"IF(R1319=R1318,\"\",IF(E1319<>\"\",CONCATENATE(B1319,A1319,DIGITADOR!$M$1,C1319),\"\"))","v":""},null,{"$f":"IF(N1319=\"\",\"\",INDEX(referentes!S:T,MATCH(N1319,referentes!T:T,0),1))","v":""},null,{"$f":"IF(P1319=\"\",\"\",INDEX(referentes!Y:Z,MATCH(P1319,referentes!Z:Z,0),1))","v":""},"","",null,null,null,null,null,{"$f":"IF(X1319=\"\",\"\",INDEX(referentes!J:K,MATCH(X1319,referentes!J:J,0),2))","v":""},null,null,""]
["30000401000000",null,0,{"$f":"IF(E1320<>\"\",CONCATENATE(B1320,A1320,DIGITADOR!$M$1,C1320),\"\")","v":""},null,null,"","","",null,1316,"",{"$f":"IF(R1320=R1319,\"\",IF(E1320<>\"\",CONCATENATE(B1320,A1320,DIGITADOR!$M$1,C1320),\"\"))","v":""},null,{"$f":"IF(N1320=\"\",\"\",INDEX(referentes!S:T,MATCH(N1320,referentes!T:T,0),1))","v":""},null,{"$f":"IF(P1320=\"\",\"\",INDEX(referentes!Y:Z,MATCH(P1320,referentes!Z:Z,0),1))","v":""},"","",null,null,null,null,null,{"$f":"IF(X1320=\"\",\"\",INDEX(referentes!J:K,MATCH(X1320,referentes!J:J,0),2))","v":""},null,null,""]
["30000401000000",null,0,{"$f":"IF(E1321<>\"\",CONCATENATE(B1321,A1321,DIGITADOR!$M$1,C1321),\"\")","v":""},null,null,"","","",null,1317,"",{"$f":"IF(R1321=R1320,\"\",IF(E1321<>\"\",CONCATENATE(B1321,A1321,DIGITADOR!$M$1,C1321),\"\"))","v":""},null,{"$f":"IF(N1321=\"\",\"\",INDEX(referentes!S:T,MATCH(N1321,referentes!T:T,0),1))","v":""},null,{"$f":"IF(P1321=\"\",\"\",INDEX(referentes!Y:Z,MATCH(P1321,referentes!Z:Z,0),1))","v":""},"","",null,null,null,null,null,{"$f":"IF(X1321=\"\",\"\",INDEX(referentes!J:K,MATCH(X1321,referentes!J:J,0),2))","v":""},null,null,""]
["30000401000000",null,0,{"$f":"IF(E1322<>\"\",CONCATENATE(B1322,A1322,DIGITADOR!$M$1,C1322),\"\")","v":""},null,null,"","","",null,1318,"",{"$f":"IF(R1322=R1321,\"\",IF(E1322<>\"\",CONCATENATE(B1322,A1322,DIGITADOR!$M$1,C1322),\"\"))","v":""},null,{"$f":"IF(N1322=\"\",\"\",INDEX(referentes!S:T,MATCH(N1322,referentes!T:T,0),1))","v":""},null,{"$f":"IF(P1322=\"\",\"\",INDEX(referentes!Y:Z,MATCH(P1322,referentes!Z:Z,0),1))","v":""},"","",null,null,null,null,null,{"$f":"IF(X1322=\"\",\"\",INDEX(referentes!J:K,MATCH(X1322,referentes!J:J,0),2))","v":""},null,null,""]
["30000401000000",null,0,{"$f":"IF(E1323<>\"\",CONCATENATE(B1323,A1323,DIGITADOR!$M$1,C1323),\"\")","v":""},null,null,"","","",null,1319,"",{"$f":"IF(R1323=R1322,\"\",IF(E1323<>\"\",CONCATENATE(B1323,A1323,DIGITADOR!$M$1,C1323),\"\"))","v":""},null,{"$f":"IF(N1323=\"\",\"\",INDEX(referentes!S:T,MATCH(N1323,referentes!T:T,0),1))","v":""},null,{"$f":"IF(P1323=\"\",\"\",INDEX(referentes!Y:Z,MATCH(P1323,referentes!Z:Z,0),1))","v":""},"","",null,null,null,null,null,{"$f":"IF(X1323=\"\",\"\",INDEX(referentes!J:K,MATCH(X1323,referentes!J:J,0),2))","v":""},null,null,""]
["30000401000000",null,0,{"$f":"IF(E1324<>\"\",CONCATENATE(B1324,A1324,DIGITADOR!$M$1,C1324),\"\")","v":""},null,null,"","","",null,1320,"",{"$f":"IF(R1324=R1323,\"\",IF(E1324<>\"\",CONCATENATE(B1324,A1324,DIGITADOR!$M$1,C1324),\"\"))","v":""},null,{"$f":"IF(N1324=\"\",\"\",INDEX(referentes!S:T,MATCH(N1324,referentes!T:T,0),1))","v":""},null,{"$f":"IF(P1324=\"\",\"\",INDEX(referentes!Y:Z,MATCH(P1324,referentes!Z:Z,0),1))","v":""},"","",null,null,null,null,null,{"$f":"IF(X1324=\"\",\"\",INDEX(referentes!J:K,MATCH(X1324,referentes!J:J,0),2))","v":""},null,null,""]
["30000401000000",null,0,{"$f":"IF(E1325<>\"\",CONCATENATE(B1325,A1325,DIGITADOR!$M$1,C1325),\"\")","v":""},null,null,"","","",null,1321,"",{"$f":"IF(R1325=R1324,\"\",IF(E1325<>\"\",CONCATENATE(B1325,A1325,DIGITADOR!$M$1,C1325),\"\"))","v":""},null,{"$f":"IF(N1325=\"\",\"\",INDEX(referentes!S:T,MATCH(N1325,referentes!T:T,0),1))","v":""},null,{"$f":"IF(P1325=\"\",\"\",INDEX(referentes!Y:Z,MATCH(P1325,referentes!Z:Z,0),1))","v":""},"","",null,null,null,null,null,{"$f":"IF(X1325=\"\",\"\",INDEX(referentes!J:K,MATCH(X1325,referentes!J:J,0),2))","v":""},null,null,""]
["30000401000000",null,0,{"$f":"IF(E1326<>\"\",CONCATENATE(B1326,A1326,DIGITADOR!$M$1,C1326),\"\")","v":""},null,null,"","","",null,1322,"",{"$f":"IF(R1326=R1325,\"\",IF(E1326<>\"\",CONCATENATE(B1326,A1326,DIGITADOR!$M$1,C1326),\"\"))","v":""},null,{"$f":"IF(N1326=\"\",\"\",INDEX(referentes!S:T,MATCH(N1326,referentes!T:T,0),1))","v":""},null,{"$f":"IF(P1326=\"\",\"\",INDEX(referentes!Y:Z,MATCH(P1326,referentes!Z:Z,0),1))","v":""},"","",null,null,null,null,null,{"$f":"IF(X1326=\"\",\"\",INDEX(referentes!J:K,MATCH(X1326,referentes!J:J,0),2))","v":""},null,null,""]
["30000401000000",null,0,{"$f":"IF(E1327<>\"\",CONCATENATE(B1327,A1327,DIGITADOR!$M$1,C1327),\"\")","v":""},null,null,"","","",null,1323,"",{"$f":"IF(R1327=R1326,\"\",IF(E1327<>\"\",CONCATENATE(B1327,A1327,DIGITADOR!$M$1,C1327),\"\"))","v":""},null,{"$f":"IF(N1327=\"\",\"\",INDEX(referentes!S:T,MATCH(N1327,referentes!T:T,0),1))","v":""},null,{"$f":"IF(P1327=\"\",\"\",INDEX(referentes!Y:Z,MATCH(P1327,referentes!Z:Z,0),1))","v":""},"","",null,null,null,null,null,{"$f":"IF(X1327=\"\",\"\",INDEX(referentes!J:K,MATCH(X1327,referentes!J:J,0),2))","v":""},null,null,""]
["30000401000000",null,0,{"$f":"IF(E1328<>\"\",CONCATENATE(B1328,A1328,DIGITADOR!$M$1,C1328),\"\")","v":""},null,null,"","","",null,1324,"",{"$f":"IF(R1328=R1327,\"\",IF(E1328<>\"\",CONCATENATE(B1328,A1328,DIGITADOR!$M$1,C1328),\"\"))","v":""},null,{"$f":"IF(N1328=\"\",\"\",INDEX(referentes!S:T,MATCH(N1328,referentes!T:T,0),1))","v":""},null,{"$f":"IF(P1328=\"\",\"\",INDEX(referentes!Y:Z,MATCH(P1328,referentes!Z:Z,0),1))","v":""},"","",null,null,null,null,null,{"$f":"IF(X1328=\"\",\"\",INDEX(referentes!J:K,MATCH(X1328,referentes!J:J,0),2))","v":""},null,null,""]
["30000401000000",null,0,{"$f":"IF(E1329<>\"\",CONCATENATE(B1329,A1329,DIGITADOR!$M$1,C1329),\"\")","v":""},null,null,"","","",null,1325,"",{"$f":"IF(R1329=R1328,\"\",IF(E1329<>\"\",CONCATENATE(B1329,A1329,DIGITADOR!$M$1,C1329),\"\"))","v":""},null,{"$f":"IF(N1329=\"\",\"\",INDEX(referentes!S:T,MATCH(N1329,referentes!T:T,0),1))","v":""},null,{"$f":"IF(P1329=\"\",\"\",INDEX(referentes!Y:Z,MATCH(P1329,referentes!Z:Z,0),1))","v":""},"","",null,null,null,null,null,{"$f":"IF(X1329=\"\",\"\",INDEX(referentes!J:K,MATCH(X1329,referentes!J:J,0),2))","v":""},null,null,""]
["30000401000000",null,0,{"$f":"IF(E1330<>\"\",CONCATENATE(B1330,A1330,DIGITADOR!$M$1,C1330),\"\")","v":""},null,null,"","","",null,1326,"",{"$f":"IF(R1330=R1329,\"\",IF(E1330<>\"\",CONCATENATE(B1330,A1330,DIGITADOR!$M$1,C1330),\"\"))","v":""},null,{"$f":"IF(N1330=\"\",\"\",INDEX(referentes!S:T,MATCH(N1330,referentes!T:T,0),1))","v":""},null,{"$f":"IF(P1330=\"\",\"\",INDEX(referentes!Y:Z,MATCH(P1330,referentes!Z:Z,0),1))","v":""},"","",null,null,null,null,null,{"$f":"IF(X1330=\"\",\"\",INDEX(referentes!J:K,MATCH(X1330,referentes!J:J,0),2))","v":""},null,null,""]
["30000401000000",null,0,{"$f":"IF(E1331<>\"\",CONCATENATE(B1331,A1331,DIGITADOR!$M$1,C1331),\"\")","v":""},null,null,"","","",null,1327,"",{"$f":"IF(R1331=R1330,\"\",IF(E1331<>\"\",CONCATENATE(B1331,A1331,DIGITADOR!$M$1,C1331),\"\"))","v":""},null,{"$f":"IF(N1331=\"\",\"\",INDEX(referentes!S:T,MATCH(N1331,referentes!T:T,0),1))","v":""},null,{"$f":"IF(P1331=\"\",\"\",INDEX(referentes!Y:Z,MATCH(P1331,referentes!Z:Z,0),1))","v":""},"","",null,null,null,null,null,{"$f":"IF(X1331=\"\",\"\",INDEX(referentes!J:K,MATCH(X1331,referentes!J:J,0),2))","v":""},null,null,""]
["30000401000000",null,0,{"$f":"IF(E1332<>\"\",CONCATENATE(B1332,A1332,DIGITADOR!$M$1,C1332),\"\")","v":""},null,null,"","","",null,1328,"",{"$f":"IF(R1332=R1331,\"\",IF(E1332<>\"\",CONCATENATE(B1332,A1332,DIGITADOR!$M$1,C1332),\"\"))","v":""},null,{"$f":"IF(N1332=\"\",\"\",INDEX(referentes!S:T,MATCH(N1332,referentes!T:T,0),1))","v":""},null,{"$f":"IF(P1332=\"\",\"\",INDEX(referentes!Y:Z,MATCH(P1332,referentes!Z:Z,0),1))","v":""},"","",null,null,null,null,null,{"$f":"IF(X1332=\"\",\"\",INDEX(referentes!J:K,MATCH(X1332,referentes!J:J,0),2))","v":""},null,null,""]
["30000401000000",null,0,{"$f":"IF(E1333<>\"\",CONCATENATE(B1333,A1333,DIGITADOR!$M$1,C1333),\"\")","v":""},null,null,"","","",null,1329,"",{"$f":"IF(R1333=R1332,\"\",IF(E1333<>\"\",CONCATENATE(B1333,A1333,DIGITADOR!$M$1,C1333),\"\"))","v":""},null,{"$f":"IF(N1333=\"\",\"\",INDEX(referentes!S:T,MATCH(N1333,referentes!T:T,0),1))","v":""},null,{"$f":"IF(P1333=\"\",\"\",INDEX(referentes!Y:Z,MATCH(P1333,referentes!Z:Z,0),1))","v":""},"","",null,null,null,null,null,{"$f":"IF(X1333=\"\",\"\",INDEX(referentes!J:K,MATCH(X1333,referentes!J:J,0),2))","v":""},null,null,""]
["30000401000000",null,0,{"$f":"IF(E1334<>\"\",CONCATENATE(B1334,A1334,DIGITADOR!$M$1,C1334),\"\")","v":""},null,null,"","","",null,1330,"",{"$f":"IF(R1334=R1333,\"\",IF(E1334<>\"\",CONCATENATE(B1334,A1334,DIGITADOR!$M$1,C1334),\"\"))","v":""},null,{"$f":"IF(N1334=\"\",\"\",INDEX(referentes!S:T,MATCH(N1334,referentes!T:T,0),1))","v":""},null,{"$f":"IF(P1334=\"\",\"\",INDEX(referentes!Y:Z,MATCH(P1334,referentes!Z:Z,0),1))","v":""},"","",null,null,null,null,null,{"$f":"IF(X1334=\"\",\"\",INDEX(referentes!J:K,MATCH(X1334,referentes!J:J,0),2))","v":""},null,null,""]
["30000401000000",null,0,{"$f":"IF(E1335<>\"\",CONCATENATE(B1335,A1335,DIGITADOR!$M$1,C1335),\"\")","v":""},null,null,"","","",null,1331,"",{"$f":"IF(R1335=R1334,\"\",IF(E1335<>\"\",CONCATENATE(B1335,A1335,DIGITADOR!$M$1,C1335),\"\"))","v":""},null,{"$f":"IF(N1335=\"\",\"\",INDEX(referentes!S:T,MATCH(N1335,referentes!T:T,0),1))","v":""},null,{"$f":"IF(P1335=\"\",\"\",INDEX(referentes!Y:Z,MATCH(P1335,referentes!Z:Z,0),1))","v":""},"","",null,null,null,null,null,{"$f":"IF(X1335=\"\",\"\",INDEX(referentes!J:K,MATCH(X1335,referentes!J:J,0),2))","v":""},null,null,""]
["30000401000000",null,0,{"$f":"IF(E1336<>\"\",CONCATENATE(B1336,A1336,DIGITADOR!$M$1,C1336),\"\")","v":""},null,null,"","","",null,1332,"",{"$f":"IF(R1336=R1335,\"\",IF(E1336<>\"\",CONCATENATE(B1336,A1336,DIGITADOR!$M$1,C1336),\"\"))","v":""},null,{"$f":"IF(N1336=\"\",\"\",INDEX(referentes!S:T,MATCH(N1336,referentes!T:T,0),1))","v":""},null,{"$f":"IF(P1336=\"\",\"\",INDEX(referentes!Y:Z,MATCH(P1336,referentes!Z:Z,0),1))","v":""},"","",null,null,null,null,null,{"$f":"IF(X1336=\"\",\"\",INDEX(referentes!J:K,MATCH(X1336,referentes!J:J,0),2))","v":""},null,null,""]
["30000401000000",null,0,{"$f":"IF(E1337<>\"\",CONCATENATE(B1337,A1337,DIGITADOR!$M$1,C1337),\"\")","v":""},null,null,"","","",null,1333,"",{"$f":"IF(R1337=R1336,\"\",IF(E1337<>\"\",CONCATENATE(B1337,A1337,DIGITADOR!$M$1,C1337),\"\"))","v":""},null,{"$f":"IF(N1337=\"\",\"\",INDEX(referentes!S:T,MATCH(N1337,referentes!T:T,0),1))","v":""},null,{"$f":"IF(P1337=\"\",\"\",INDEX(referentes!Y:Z,MATCH(P1337,referentes!Z:Z,0),1))","v":""},"","",null,null,null,null,null,{"$f":"IF(X1337=\"\",\"\",INDEX(referentes!J:K,MATCH(X1337,referentes!J:J,0),2))","v":""},null,null,""]
["30000401000000",null,0,{"$f":"IF(E1338<>\"\",CONCATENATE(B1338,A1338,DIGITADOR!$M$1,C1338),\"\")","v":""},null,null,"","","",null,1334,"",{"$f":"IF(R1338=R1337,\"\",IF(E1338<>\"\",CONCATENATE(B1338,A1338,DIGITADOR!$M$1,C1338),\"\"))","v":""},null,{"$f":"IF(N1338=\"\",\"\",INDEX(referentes!S:T,MATCH(N1338,referentes!T:T,0),1))","v":""},null,{"$f":"IF(P1338=\"\",\"\",INDEX(referentes!Y:Z,MATCH(P1338,referentes!Z:Z,0),1))","v":""},"","",null,null,null,null,null,{"$f":"IF(X1338=\"\",\"\",INDEX(referentes!J:K,MATCH(X1338,referentes!J:J,0),2))","v":""},null,null,""]
["30000401000000",null,0,{"$f":"IF(E1339<>\"\",CONCATENATE(B1339,A1339,DIGITADOR!$M$1,C1339),\"\")","v":""},null,null,"","","",null,1335,"",{"$f":"IF(R1339=R1338,\"\",IF(E1339<>\"\",CONCATENATE(B1339,A1339,DIGITADOR!$M$1,C1339),\"\"))","v":""},null,{"$f":"IF(N1339=\"\",\"\",INDEX(referentes!S:T,MATCH(N1339,referentes!T:T,0),1))","v":""},null,{"$f":"IF(P1339=\"\",\"\",INDEX(referentes!Y:Z,MATCH(P1339,referentes!Z:Z,0),1))","v":""},"","",null,null,null,null,null,{"$f":"IF(X1339=\"\",\"\",INDEX(referentes!J:K,MATCH(X1339,referentes!J:J,0),2))","v":""},null,null,""]
["30000401000000",null,0,{"$f":"IF(E1340<>\"\",CONCATENATE(B1340,A1340,DIGITADOR!$M$1,C1340),\"\")","v":""},null,null,"","","",null,1336,"",{"$f":"IF(R1340=R1339,\"\",IF(E1340<>\"\",CONCATENATE(B1340,A1340,DIGITADOR!$M$1,C1340),\"\"))","v":""},null,{"$f":"IF(N1340=\"\",\"\",INDEX(referentes!S:T,MATCH(N1340,referentes!T:T,0),1))","v":""},null,{"$f":"IF(P1340=\"\",\"\",INDEX(referentes!Y:Z,MATCH(P1340,referentes!Z:Z,0),1))","v":""},"","",null,null,null,null,null,{"$f":"IF(X1340=\"\",\"\",INDEX(referentes!J:K,MATCH(X1340,referentes!J:J,0),2))","v":""},null,null,""]
["30000401000000",null,0,{"$f":"IF(E1341<>\"\",CONCATENATE(B1341,A1341,DIGITADOR!$M$1,C1341),\"\")","v":""},null,null,"","","",null,1337,"",{"$f":"IF(R1341=R1340,\"\",IF(E1341<>\"\",CONCATENATE(B1341,A1341,DIGITADOR!$M$1,C1341),\"\"))","v":""},null,{"$f":"IF(N1341=\"\",\"\",INDEX(referentes!S:T,MATCH(N1341,referentes!T:T,0),1))","v":""},null,{"$f":"IF(P1341=\"\",\"\",INDEX(referentes!Y:Z,MATCH(P1341,referentes!Z:Z,0),1))","v":""},"","",null,null,null,null,null,{"$f":"IF(X1341=\"\",\"\",INDEX(referentes!J:K,MATCH(X1341,referentes!J:J,0),2))","v":""},null,null,""]
["30000401000000",null,0,{"$f":"IF(E1342<>\"\",CONCATENATE(B1342,A1342,DIGITADOR!$M$1,C1342),\"\")","v":""},null,null,"","","",null,1338,"",{"$f":"IF(R1342=R1341,\"\",IF(E1342<>\"\",CONCATENATE(B1342,A1342,DIGITADOR!$M$1,C1342),\"\"))","v":""},null,{"$f":"IF(N1342=\"\",\"\",INDEX(referentes!S:T,MATCH(N1342,referentes!T:T,0),1))","v":""},null,{"$f":"IF(P1342=\"\",\"\",INDEX(referentes!Y:Z,MATCH(P1342,referentes!Z:Z,0),1))","v":""},"","",null,null,null,null,null,{"$f":"IF(X1342=\"\",\"\",INDEX(referentes!J:K,MATCH(X1342,referentes!J:J,0),2))","v":""},null,null,""]
["30000401000000",null,0,{"$f":"IF(E1343<>\"\",CONCATENATE(B1343,A1343,DIGITADOR!$M$1,C1343),\"\")","v":""},null,null,"","","",null,1339,"",{"$f":"IF(R1343=R1342,\"\",IF(E1343<>\"\",CONCATENATE(B1343,A1343,DIGITADOR!$M$1,C1343),\"\"))","v":""},null,{"$f":"IF(N1343=\"\",\"\",INDEX(referentes!S:T,MATCH(N1343,referentes!T:T,0),1))","v":""},null,{"$f":"IF(P1343=\"\",\"\",INDEX(referentes!Y:Z,MATCH(P1343,referentes!Z:Z,0),1))","v":""},"","",null,null,null,null,null,{"$f":"IF(X1343=\"\",\"\",INDEX(referentes!J:K,MATCH(X1343,referentes!J:J,0),2))","v":""},null,null,""]
["30000401000000",null,0,{"$f":"IF(E1344<>\"\",CONCATENATE(B1344,A1344,DIGITADOR!$M$1,C1344),\"\")","v":""},null,null,"","","",null,1340,"",{"$f":"IF(R1344=R1343,\"\",IF(E1344<>\"\",CONCATENATE(B1344,A1344,DIGITADOR!$M$1,C1344),\"\"))","v":""},null,{"$f":"IF(N1344=\"\",\"\",INDEX(referentes!S:T,MATCH(N1344,referentes!T:T,0),1))","v":""},null,{"$f":"IF(P1344=\"\",\"\",INDEX(referentes!Y:Z,MATCH(P1344,referentes!Z:Z,0),1))","v":""},"","",null,null,null,null,null,{"$f":"IF(X1344=\"\",\"\",INDEX(referentes!J:K,MATCH(X1344,referentes!J:J,0),2))","v":""},null,null,""]
["30000401000000",null,0,{"$f":"IF(E1345<>\"\",CONCATENATE(B1345,A1345,DIGITADOR!$M$1,C1345),\"\")","v":""},null,null,"","","",null,1341,"",{"$f":"IF(R1345=R1344,\"\",IF(E1345<>\"\",CONCATENATE(B1345,A1345,DIGITADOR!$M$1,C1345),\"\"))","v":""},null,{"$f":"IF(N1345=\"\",\"\",INDEX(referentes!S:T,MATCH(N1345,referentes!T:T,0),1))","v":""},null,{"$f":"IF(P1345=\"\",\"\",INDEX(referentes!Y:Z,MATCH(P1345,referentes!Z:Z,0),1))","v":""},"","",null,null,null,null,null,{"$f":"IF(X1345=\"\",\"\",INDEX(referentes!J:K,MATCH(X1345,referentes!J:J,0),2))","v":""},null,null,""]
["30000401000000",null,0,{"$f":"IF(E1346<>\"\",CONCATENATE(B1346,A1346,DIGITADOR!$M$1,C1346),\"\")","v":""},null,null,"","","",null,1342,"",{"$f":"IF(R1346=R1345,\"\",IF(E1346<>\"\",CONCATENATE(B1346,A1346,DIGITADOR!$M$1,C1346),\"\"))","v":""},null,{"$f":"IF(N1346=\"\",\"\",INDEX(referentes!S:T,MATCH(N1346,referentes!T:T,0),1))","v":""},null,{"$f":"IF(P1346=\"\",\"\",INDEX(referentes!Y:Z,MATCH(P1346,referentes!Z:Z,0),1))","v":""},"","",null,null,null,null,null,{"$f":"IF(X1346=\"\",\"\",INDEX(referentes!J:K,MATCH(X1346,referentes!J:J,0),2))","v":""},null,null,""]
["30000401000000",null,0,{"$f":"IF(E1347<>\"\",CONCATENATE(B1347,A1347,DIGITADOR!$M$1,C1347),\"\")","v":""},null,null,"","","",null,1343,"",{"$f":"IF(R1347=R1346,\"\",IF(E1347<>\"\",CONCATENATE(B1347,A1347,DIGITADOR!$M$1,C1347),\"\"))","v":""},null,{"$f":"IF(N1347=\"\",\"\",INDEX(referentes!S:T,MATCH(N1347,referentes!T:T,0),1))","v":""},null,{"$f":"IF(P1347=\"\",\"\",INDEX(referentes!Y:Z,MATCH(P1347,referentes!Z:Z,0),1))","v":""},"","",null,null,null,null,null,{"$f":"IF(X1347=\"\",\"\",INDEX(referentes!J:K,MATCH(X1347,referentes!J:J,0),2))","v":""},null,null,""]
["30000401000000",null,0,{"$f":"IF(E1348<>\"\",CONCATENATE(B1348,A1348,DIGITADOR!$M$1,C1348),\"\")","v":""},null,null,"","","",null,1344,"",{"$f":"IF(R1348=R1347,\"\",IF(E1348<>\"\",CONCATENATE(B1348,A1348,DIGITADOR!$M$1,C1348),\"\"))","v":""},null,{"$f":"IF(N1348=\"\",\"\",INDEX(referentes!S:T,MATCH(N1348,referentes!T:T,0),1))","v":""},null,{"$f":"IF(P1348=\"\",\"\",INDEX(referentes!Y:Z,MATCH(P1348,referentes!Z:Z,0),1))","v":""},"","",null,null,null,null,null,{"$f":"IF(X1348=\"\",\"\",INDEX(referentes!J:K,MATCH(X1348,referentes!J:J,0),2))","v":""},null,null,""]
["30000401000000",null,{"$f":"IF(R1349=R1348,C1348,C1348+1)","v":0},{"$f":"IF(E1349<>\"\",CONCATENATE(B1349,A1349,DIGITADOR!$M$1,C1349),\"\")","v":""},null,null,"","","",null,1345,"",{"$f":"IF(R1349=R1348,\"\",IF(E1349<>\"\",CONCATENATE(B1349,A1349,DIGITADOR!$M$1,C1349),\"\"))","v":""},null,{"$f":"IF(N1349=\"\",\"\",INDEX(referentes!S:T,MATCH(N1349,referentes!T:T,0),1))","v":""},null,{"$f":"IF(P1349=\"\",\"\",INDEX(referentes!Y:Z,MATCH(P1349,referentes!Z:Z,0),1))","v":""},"","",null,null,null,null,null,{"$f":"IF(X1349=\"\",\"\",INDEX(referentes!J:K,MATCH(X1349,referentes!J:J,0),2))","v":""},null,null,""]
["30000401000000",null,0,{"$f":"IF(E1350<>\"\",CONCATENATE(B1350,A1350,DIGITADOR!$M$1,C1350),\"\")","v":""},null,null,{"$f":"IF(E1350=\"\", \"\", (E1350+F1350))","v":""},{"$f":"IF(G1350<>\"\",MONTH(G1350),\"\")","v":""},{"$f":"IF(D1350=\"\",\"\",1)","v":""},null,1346,{"$f":"IF(E1350=\"\",\"\",CONCATENATE(D1350,K1350))","v":""},{"$f":"IF(R1350=R1349,\"\",IF(E1350<>\"\",CONCATENATE(B1350,A1350,DIGITADOR!$M$1,C1350),\"\"))","v":""},null,{"$f":"IF(N1350=\"\",\"\",INDEX(referentes!S:T,MATCH(N1350,referentes!T:T,0),1))","v":""},null,{"$f":"IF(P1350=\"\",\"\",INDEX(referentes!Y:Z,MATCH(P1350,referentes!Z:Z,0),1))","v":""},{"$f":"IF(G1350=\"\",\"\",CONCATENATE(G1350,O1350,Q1350))","v":""},{"$f":"IF(E1350=\"\",\"\",\"INVEMAR\")","v":""},null,null,null,null,null,{"$f":"IF(X1350=\"\",\"\",INDEX(referentes!J:K,MATCH(X1350,referentes!J:J,0),2))","v":""},null,null,{"$f":"IF(T1350=\"\",\"\",IF(T1350=T1349,AB1349,AA1350))","v":""}]
[{"$f":"A1350","v":"30000401000000"},null,0,{"$f":"IF(E1351<>\"\",CONCATENATE(B1351,A1351,DIGITADOR!$M$1,C1351),\"\")","v":""},null,null,"","","",null,1347,"",{"$f":"IF(R1351=R1350,\"\",IF(E1351<>\"\",CONCATENATE(B1351,A1351,DIGITADOR!$M$1,C1351),\"\"))","v":""},null,{"$f":"IF(N1351=\"\",\"\",INDEX(referentes!S:T,MATCH(N1351,referentes!T:T,0),1))","v":""},null,{"$f":"IF(P1351=\"\",\"\",INDEX(referentes!Y:Z,MATCH(P1351,referentes!Z:Z,0),1))","v":""},"","",null,null,null,null,null,{"$f":"IF(X1351=\"\",\"\",INDEX(referentes!J:K,MATCH(X1351,referentes!J:J,0),2))","v":""},null,null,""]
["30000401000000",null,0,{"$f":"IF(E1352<>\"\",CONCATENATE(B1352,A1352,DIGITADOR!$M$1,C1352),\"\")","v":""},null,null,"","","",null,1348,"",{"$f":"IF(R1352=R1351,\"\",IF(E1352<>\"\",CONCATENATE(B1352,A1352,DIGITADOR!$M$1,C1352),\"\"))","v":""},null,{"$f":"IF(N1352=\"\",\"\",INDEX(referentes!S:T,MATCH(N1352,referentes!T:T,0),1))","v":""},null,{"$f":"IF(P1352=\"\",\"\",INDEX(referentes!Y:Z,MATCH(P1352,referentes!Z:Z,0),1))","v":""},"","",null,null,null,null,null,{"$f":"IF(X1352=\"\",\"\",INDEX(referentes!J:K,MATCH(X1352,referentes!J:J,0),2))","v":""},null,null,""]
["30000401000000",null,0,{"$f":"IF(E1353<>\"\",CONCATENATE(B1353,A1353,DIGITADOR!$M$1,C1353),\"\")","v":""},null,null,"","","",null,1349,"",{"$f":"IF(R1353=R1352,\"\",IF(E1353<>\"\",CONCATENATE(B1353,A1353,DIGITADOR!$M$1,C1353),\"\"))","v":""},null,{"$f":"IF(N1353=\"\",\"\",INDEX(referentes!S:T,MATCH(N1353,referentes!T:T,0),1))","v":""},null,{"$f":"IF(P1353=\"\",\"\",INDEX(referentes!Y:Z,MATCH(P1353,referentes!Z:Z,0),1))","v":""},"","",null,null,null,null,null,{"$f":"IF(X1353=\"\",\"\",INDEX(referentes!J:K,MATCH(X1353,referentes!J:J,0),2))","v":""},null,null,""]
["30000401000000",null,0,{"$f":"IF(E1354<>\"\",CONCATENATE(B1354,A1354,DIGITADOR!$M$1,C1354),\"\")","v":""},null,null,"","","",null,1350,"",{"$f":"IF(R1354=R1353,\"\",IF(E1354<>\"\",CONCATENATE(B1354,A1354,DIGITADOR!$M$1,C1354),\"\"))","v":""},null,{"$f":"IF(N1354=\"\",\"\",INDEX(referentes!S:T,MATCH(N1354,referentes!T:T,0),1))","v":""},null,{"$f":"IF(P1354=\"\",\"\",INDEX(referentes!Y:Z,MATCH(P1354,referentes!Z:Z,0),1))","v":""},"","",null,null,null,null,null,{"$f":"IF(X1354=\"\",\"\",INDEX(referentes!J:K,MATCH(X1354,referentes!J:J,0),2))","v":""},null,null,""]
["30000401000000",null,0,{"$f":"IF(E1355<>\"\",CONCATENATE(B1355,A1355,DIGITADOR!$M$1,C1355),\"\")","v":""},null,null,"","","",null,1351,"",{"$f":"IF(R1355=R1354,\"\",IF(E1355<>\"\",CONCATENATE(B1355,A1355,DIGITADOR!$M$1,C1355),\"\"))","v":""},null,{"$f":"IF(N1355=\"\",\"\",INDEX(referentes!S:T,MATCH(N1355,referentes!T:T,0),1))","v":""},null,{"$f":"IF(P1355=\"\",\"\",INDEX(referentes!Y:Z,MATCH(P1355,referentes!Z:Z,0),1))","v":""},"","",null,null,null,null,null,{"$f":"IF(X1355=\"\",\"\",INDEX(referentes!J:K,MATCH(X1355,referentes!J:J,0),2))","v":""},null,null,""]
["30000401000000",null,0,{"$f":"IF(E1356<>\"\",CONCATENATE(B1356,A1356,DIGITADOR!$M$1,C1356),\"\")","v":""},null,null,"","","",null,1352,"",{"$f":"IF(R1356=R1355,\"\",IF(E1356<>\"\",CONCATENATE(B1356,A1356,DIGITADOR!$M$1,C1356),\"\"))","v":""},null,{"$f":"IF(N1356=\"\",\"\",INDEX(referentes!S:T,MATCH(N1356,referentes!T:T,0),1))","v":""},null,{"$f":"IF(P1356=\"\",\"\",INDEX(referentes!Y:Z,MATCH(P1356,referentes!Z:Z,0),1))","v":""},"","",null,null,null,null,null,{"$f":"IF(X1356=\"\",\"\",INDEX(referentes!J:K,MATCH(X1356,referentes!J:J,0),2))","v":""},null,null,""]
["30000401000000",null,0,{"$f":"IF(E1357<>\"\",CONCATENATE(B1357,A1357,DIGITADOR!$M$1,C1357),\"\")","v":""},null,null,"","","",null,1353,"",{"$f":"IF(R1357=R1356,\"\",IF(E1357<>\"\",CONCATENATE(B1357,A1357,DIGITADOR!$M$1,C1357),\"\"))","v":""},null,{"$f":"IF(N1357=\"\",\"\",INDEX(referentes!S:T,MATCH(N1357,referentes!T:T,0),1))","v":""},null,{"$f":"IF(P1357=\"\",\"\",INDEX(referentes!Y:Z,MATCH(P1357,referentes!Z:Z,0),1))","v":""},"","",null,null,null,null,null,{"$f":"IF(X1357=\"\",\"\",INDEX(referentes!J:K,MATCH(X1357,referentes!J:J,0),2))","v":""},null,null,""]
["30000401000000",null,0,{"$f":"IF(E1358<>\"\",CONCATENATE(B1358,A1358,DIGITADOR!$M$1,C1358),\"\")","v":""},null,null,"","","",null,1354,"",{"$f":"IF(R1358=R1357,\"\",IF(E1358<>\"\",CONCATENATE(B1358,A1358,DIGITADOR!$M$1,C1358),\"\"))","v":""},null,{"$f":"IF(N1358=\"\",\"\",INDEX(referentes!S:T,MATCH(N1358,referentes!T:T,0),1))","v":""},null,{"$f":"IF(P1358=\"\",\"\",INDEX(referentes!Y:Z,MATCH(P1358,referentes!Z:Z,0),1))","v":""},"","",null,null,null,null,null,{"$f":"IF(X1358=\"\",\"\",INDEX(referentes!J:K,MATCH(X1358,referentes!J:J,0),2))","v":""},null,null,""]
["30000401000000",null,0,{"$f":"IF(E1359<>\"\",CONCATENATE(B1359,A1359,DIGITADOR!$M$1,C1359),\"\")","v":""},null,null,"","","",null,1355,"",{"$f":"IF(R1359=R1358,\"\",IF(E1359<>\"\",CONCATENATE(B1359,A1359,DIGITADOR!$M$1,C1359),\"\"))","v":""},null,{"$f":"IF(N1359=\"\",\"\",INDEX(referentes!S:T,MATCH(N1359,referentes!T:T,0),1))","v":""},null,{"$f":"IF(P1359=\"\",\"\",INDEX(referentes!Y:Z,MATCH(P1359,referentes!Z:Z,0),1))","v":""},"","",null,null,null,null,null,{"$f":"IF(X1359=\"\",\"\",INDEX(referentes!J:K,MATCH(X1359,referentes!J:J,0),2))","v":""},null,null,""]
["30000401000000",null,0,{"$f":"IF(E1360<>\"\",CONCATENATE(B1360,A1360,DIGITADOR!$M$1,C1360),\"\")","v":""},null,null,"","","",null,1356,"",{"$f":"IF(R1360=R1359,\"\",IF(E1360<>\"\",CONCATENATE(B1360,A1360,DIGITADOR!$M$1,C1360),\"\"))","v":""},null,{"$f":"IF(N1360=\"\",\"\",INDEX(referentes!S:T,MATCH(N1360,referentes!T:T,0),1))","v":""},null,{"$f":"IF(P1360=\"\",\"\",INDEX(referentes!Y:Z,MATCH(P1360,referentes!Z:Z,0),1))","v":""},"","",null,null,null,null,null,{"$f":"IF(X1360=\"\",\"\",INDEX(referentes!J:K,MATCH(X1360,referentes!J:J,0),2))","v":""},null,null,""]
["30000401000000",null,0,{"$f":"IF(E1361<>\"\",CONCATENATE(B1361,A1361,DIGITADOR!$M$1,C1361),\"\")","v":""},null,null,"","","",null,1357,"",{"$f":"IF(R1361=R1360,\"\",IF(E1361<>\"\",CONCATENATE(B1361,A1361,DIGITADOR!$M$1,C1361),\"\"))","v":""},null,{"$f":"IF(N1361=\"\",\"\",INDEX(referentes!S:T,MATCH(N1361,referentes!T:T,0),1))","v":""},null,{"$f":"IF(P1361=\"\",\"\",INDEX(referentes!Y:Z,MATCH(P1361,referentes!Z:Z,0),1))","v":""},"","",null,null,null,null,null,{"$f":"IF(X1361=\"\",\"\",INDEX(referentes!J:K,MATCH(X1361,referentes!J:J,0),2))","v":""},null,null,""]
["30000401000000",null,0,{"$f":"IF(E1362<>\"\",CONCATENATE(B1362,A1362,DIGITADOR!$M$1,C1362),\"\")","v":""},null,null,"","","",null,1358,"",{"$f":"IF(R1362=R1361,\"\",IF(E1362<>\"\",CONCATENATE(B1362,A1362,DIGITADOR!$M$1,C1362),\"\"))","v":""},null,{"$f":"IF(N1362=\"\",\"\",INDEX(referentes!S:T,MATCH(N1362,referentes!T:T,0),1))","v":""},null,{"$f":"IF(P1362=\"\",\"\",INDEX(referentes!Y:Z,MATCH(P1362,referentes!Z:Z,0),1))","v":""},"","",null,null,null,null,null,{"$f":"IF(X1362=\"\",\"\",INDEX(referentes!J:K,MATCH(X1362,referentes!J:J,0),2))","v":""},null,null,""]
["30000401000000",null,0,{"$f":"IF(E1363<>\"\",CONCATENATE(B1363,A1363,DIGITADOR!$M$1,C1363),\"\")","v":""},null,null,"","","",null,1359,"",{"$f":"IF(R1363=R1362,\"\",IF(E1363<>\"\",CONCATENATE(B1363,A1363,DIGITADOR!$M$1,C1363),\"\"))","v":""},null,{"$f":"IF(N1363=\"\",\"\",INDEX(referentes!S:T,MATCH(N1363,referentes!T:T,0),1))","v":""},null,{"$f":"IF(P1363=\"\",\"\",INDEX(referentes!Y:Z,MATCH(P1363,referentes!Z:Z,0),1))","v":""},"","",null,null,null,null,null,{"$f":"IF(X1363=\"\",\"\",INDEX(referentes!J:K,MATCH(X1363,referentes!J:J,0),2))","v":""},null,null,""]
["30000401000000",null,0,{"$f":"IF(E1364<>\"\",CONCATENATE(B1364,A1364,DIGITADOR!$M$1,C1364),\"\")","v":""},null,null,"","","",null,1360,"",{"$f":"IF(R1364=R1363,\"\",IF(E1364<>\"\",CONCATENATE(B1364,A1364,DIGITADOR!$M$1,C1364),\"\"))","v":""},null,{"$f":"IF(N1364=\"\",\"\",INDEX(referentes!S:T,MATCH(N1364,referentes!T:T,0),1))","v":""},null,{"$f":"IF(P1364=\"\",\"\",INDEX(referentes!Y:Z,MATCH(P1364,referentes!Z:Z,0),1))","v":""},"","",null,null,null,null,null,{"$f":"IF(X1364=\"\",\"\",INDEX(referentes!J:K,MATCH(X1364,referentes!J:J,0),2))","v":""},null,null,""]
["30000401000000",null,0,{"$f":"IF(E1365<>\"\",CONCATENATE(B1365,A1365,DIGITADOR!$M$1,C1365),\"\")","v":""},null,null,"","","",null,1361,"",{"$f":"IF(R1365=R1364,\"\",IF(E1365<>\"\",CONCATENATE(B1365,A1365,DIGITADOR!$M$1,C1365),\"\"))","v":""},null,{"$f":"IF(N1365=\"\",\"\",INDEX(referentes!S:T,MATCH(N1365,referentes!T:T,0),1))","v":""},null,{"$f":"IF(P1365=\"\",\"\",INDEX(referentes!Y:Z,MATCH(P1365,referentes!Z:Z,0),1))","v":""},"","",null,null,null,null,null,{"$f":"IF(X1365=\"\",\"\",INDEX(referentes!J:K,MATCH(X1365,referentes!J:J,0),2))","v":""},null,null,""]
["30000401000000",null,0,{"$f":"IF(E1366<>\"\",CONCATENATE(B1366,A1366,DIGITADOR!$M$1,C1366),\"\")","v":""},null,null,"","","",null,1362,"",{"$f":"IF(R1366=R1365,\"\",IF(E1366<>\"\",CONCATENATE(B1366,A1366,DIGITADOR!$M$1,C1366),\"\"))","v":""},null,{"$f":"IF(N1366=\"\",\"\",INDEX(referentes!S:T,MATCH(N1366,referentes!T:T,0),1))","v":""},null,{"$f":"IF(P1366=\"\",\"\",INDEX(referentes!Y:Z,MATCH(P1366,referentes!Z:Z,0),1))","v":""},"","",null,null,null,null,null,{"$f":"IF(X1366=\"\",\"\",INDEX(referentes!J:K,MATCH(X1366,referentes!J:J,0),2))","v":""},null,null,""]
["30000401000000",null,0,{"$f":"IF(E1367<>\"\",CONCATENATE(B1367,A1367,DIGITADOR!$M$1,C1367),\"\")","v":""},null,null,"","","",null,1363,"",{"$f":"IF(R1367=R1366,\"\",IF(E1367<>\"\",CONCATENATE(B1367,A1367,DIGITADOR!$M$1,C1367),\"\"))","v":""},null,{"$f":"IF(N1367=\"\",\"\",INDEX(referentes!S:T,MATCH(N1367,referentes!T:T,0),1))","v":""},null,{"$f":"IF(P1367=\"\",\"\",INDEX(referentes!Y:Z,MATCH(P1367,referentes!Z:Z,0),1))","v":""},"","",null,null,null,null,null,{"$f":"IF(X1367=\"\",\"\",INDEX(referentes!J:K,MATCH(X1367,referentes!J:J,0),2))","v":""},null,null,""]
["30000401000000",null,0,{"$f":"IF(E1368<>\"\",CONCATENATE(B1368,A1368,DIGITADOR!$M$1,C1368),\"\")","v":""},null,null,"","","",null,1364,"",{"$f":"IF(R1368=R1367,\"\",IF(E1368<>\"\",CONCATENATE(B1368,A1368,DIGITADOR!$M$1,C1368),\"\"))","v":""},null,{"$f":"IF(N1368=\"\",\"\",INDEX(referentes!S:T,MATCH(N1368,referentes!T:T,0),1))","v":""},null,{"$f":"IF(P1368=\"\",\"\",INDEX(referentes!Y:Z,MATCH(P1368,referentes!Z:Z,0),1))","v":""},"","",null,null,null,null,null,{"$f":"IF(X1368=\"\",\"\",INDEX(referentes!J:K,MATCH(X1368,referentes!J:J,0),2))","v":""},null,null,""]
["30000401000000",null,0,{"$f":"IF(E1369<>\"\",CONCATENATE(B1369,A1369,DIGITADOR!$M$1,C1369),\"\")","v":""},null,null,"","","",null,1365,"",{"$f":"IF(R1369=R1368,\"\",IF(E1369<>\"\",CONCATENATE(B1369,A1369,DIGITADOR!$M$1,C1369),\"\"))","v":""},null,{"$f":"IF(N1369=\"\",\"\",INDEX(referentes!S:T,MATCH(N1369,referentes!T:T,0),1))","v":""},null,{"$f":"IF(P1369=\"\",\"\",INDEX(referentes!Y:Z,MATCH(P1369,referentes!Z:Z,0),1))","v":""},"","",null,null,null,null,null,{"$f":"IF(X1369=\"\",\"\",INDEX(referentes!J:K,MATCH(X1369,referentes!J:J,0),2))","v":""},null,null,""]
["30000401000000",null,0,{"$f":"IF(E1370<>\"\",CONCATENATE(B1370,A1370,DIGITADOR!$M$1,C1370),\"\")","v":""},null,null,"","","",null,1366,"",{"$f":"IF(R1370=R1369,\"\",IF(E1370<>\"\",CONCATENATE(B1370,A1370,DIGITADOR!$M$1,C1370),\"\"))","v":""},null,{"$f":"IF(N1370=\"\",\"\",INDEX(referentes!S:T,MATCH(N1370,referentes!T:T,0),1))","v":""},null,{"$f":"IF(P1370=\"\",\"\",INDEX(referentes!Y:Z,MATCH(P1370,referentes!Z:Z,0),1))","v":""},"","",null,null,null,null,null,{"$f":"IF(X1370=\"\",\"\",INDEX(referentes!J:K,MATCH(X1370,referentes!J:J,0),2))","v":""},null,null,""]
["30000401000000",null,0,{"$f":"IF(E1371<>\"\",CONCATENATE(B1371,A1371,DIGITADOR!$M$1,C1371),\"\")","v":""},null,null,"","","",null,1367,"",{"$f":"IF(R1371=R1370,\"\",IF(E1371<>\"\",CONCATENATE(B1371,A1371,DIGITADOR!$M$1,C1371),\"\"))","v":""},null,{"$f":"IF(N1371=\"\",\"\",INDEX(referentes!S:T,MATCH(N1371,referentes!T:T,0),1))","v":""},null,{"$f":"IF(P1371=\"\",\"\",INDEX(referentes!Y:Z,MATCH(P1371,referentes!Z:Z,0),1))","v":""},"","",null,null,null,null,null,{"$f":"IF(X1371=\"\",\"\",INDEX(referentes!J:K,MATCH(X1371,referentes!J:J,0),2))","v":""},null,null,""]
["30000401000000",null,0,{"$f":"IF(E1372<>\"\",CONCATENATE(B1372,A1372,DIGITADOR!$M$1,C1372),\"\")","v":""},null,null,"","","",null,1368,"",{"$f":"IF(R1372=R1371,\"\",IF(E1372<>\"\",CONCATENATE(B1372,A1372,DIGITADOR!$M$1,C1372),\"\"))","v":""},null,{"$f":"IF(N1372=\"\",\"\",INDEX(referentes!S:T,MATCH(N1372,referentes!T:T,0),1))","v":""},null,{"$f":"IF(P1372=\"\",\"\",INDEX(referentes!Y:Z,MATCH(P1372,referentes!Z:Z,0),1))","v":""},"","",null,null,null,null,null,{"$f":"IF(X1372=\"\",\"\",INDEX(referentes!J:K,MATCH(X1372,referentes!J:J,0),2))","v":""},null,null,""]
["30000401000000",null,0,{"$f":"IF(E1373<>\"\",CONCATENATE(B1373,A1373,DIGITADOR!$M$1,C1373),\"\")","v":""},null,null,"","","",null,1369,"",{"$f":"IF(R1373=R1372,\"\",IF(E1373<>\"\",CONCATENATE(B1373,A1373,DIGITADOR!$M$1,C1373),\"\"))","v":""},null,{"$f":"IF(N1373=\"\",\"\",INDEX(referentes!S:T,MATCH(N1373,referentes!T:T,0),1))","v":""},null,{"$f":"IF(P1373=\"\",\"\",INDEX(referentes!Y:Z,MATCH(P1373,referentes!Z:Z,0),1))","v":""},"","",null,null,null,null,null,{"$f":"IF(X1373=\"\",\"\",INDEX(referentes!J:K,MATCH(X1373,referentes!J:J,0),2))","v":""},null,null,""]
["30000401000000",null,0,{"$f":"IF(E1374<>\"\",CONCATENATE(B1374,A1374,DIGITADOR!$M$1,C1374),\"\")","v":""},null,null,"","","",null,1370,"",{"$f":"IF(R1374=R1373,\"\",IF(E1374<>\"\",CONCATENATE(B1374,A1374,DIGITADOR!$M$1,C1374),\"\"))","v":""},null,{"$f":"IF(N1374=\"\",\"\",INDEX(referentes!S:T,MATCH(N1374,referentes!T:T,0),1))","v":""},null,{"$f":"IF(P1374=\"\",\"\",INDEX(referentes!Y:Z,MATCH(P1374,referentes!Z:Z,0),1))","v":""},"","",null,null,null,null,null,{"$f":"IF(X1374=\"\",\"\",INDEX(referentes!J:K,MATCH(X1374,referentes!J:J,0),2))","v":""},null,null,""]
["30000401000000",null,0,{"$f":"IF(E1375<>\"\",CONCATENATE(B1375,A1375,DIGITADOR!$M$1,C1375),\"\")","v":""},null,null,"","","",null,1371,"",{"$f":"IF(R1375=R1374,\"\",IF(E1375<>\"\",CONCATENATE(B1375,A1375,DIGITADOR!$M$1,C1375),\"\"))","v":""},null,{"$f":"IF(N1375=\"\",\"\",INDEX(referentes!S:T,MATCH(N1375,referentes!T:T,0),1))","v":""},null,{"$f":"IF(P1375=\"\",\"\",INDEX(referentes!Y:Z,MATCH(P1375,referentes!Z:Z,0),1))","v":""},"","",null,null,null,null,null,{"$f":"IF(X1375=\"\",\"\",INDEX(referentes!J:K,MATCH(X1375,referentes!J:J,0),2))","v":""},null,null,""]
["30000401000000",null,0,{"$f":"IF(E1376<>\"\",CONCATENATE(B1376,A1376,DIGITADOR!$M$1,C1376),\"\")","v":""},null,null,"","","",null,1372,"",{"$f":"IF(R1376=R1375,\"\",IF(E1376<>\"\",CONCATENATE(B1376,A1376,DIGITADOR!$M$1,C1376),\"\"))","v":""},null,{"$f":"IF(N1376=\"\",\"\",INDEX(referentes!S:T,MATCH(N1376,referentes!T:T,0),1))","v":""},null,{"$f":"IF(P1376=\"\",\"\",INDEX(referentes!Y:Z,MATCH(P1376,referentes!Z:Z,0),1))","v":""},"","",null,null,null,null,null,{"$f":"IF(X1376=\"\",\"\",INDEX(referentes!J:K,MATCH(X1376,referentes!J:J,0),2))","v":""},null,null,""]
["30000401000000",null,0,{"$f":"IF(E1377<>\"\",CONCATENATE(B1377,A1377,DIGITADOR!$M$1,C1377),\"\")","v":""},null,null,"","","",null,1373,"",{"$f":"IF(R1377=R1376,\"\",IF(E1377<>\"\",CONCATENATE(B1377,A1377,DIGITADOR!$M$1,C1377),\"\"))","v":""},null,{"$f":"IF(N1377=\"\",\"\",INDEX(referentes!S:T,MATCH(N1377,referentes!T:T,0),1))","v":""},null,{"$f":"IF(P1377=\"\",\"\",INDEX(referentes!Y:Z,MATCH(P1377,referentes!Z:Z,0),1))","v":""},"","",null,null,null,null,null,{"$f":"IF(X1377=\"\",\"\",INDEX(referentes!J:K,MATCH(X1377,referentes!J:J,0),2))","v":""},null,null,""]
["30000401000000",null,0,{"$f":"IF(E1378<>\"\",CONCATENATE(B1378,A1378,DIGITADOR!$M$1,C1378),\"\")","v":""},null,null,"","","",null,1374,"",{"$f":"IF(R1378=R1377,\"\",IF(E1378<>\"\",CONCATENATE(B1378,A1378,DIGITADOR!$M$1,C1378),\"\"))","v":""},null,{"$f":"IF(N1378=\"\",\"\",INDEX(referentes!S:T,MATCH(N1378,referentes!T:T,0),1))","v":""},null,{"$f":"IF(P1378=\"\",\"\",INDEX(referentes!Y:Z,MATCH(P1378,referentes!Z:Z,0),1))","v":""},"","",null,null,null,null,null,{"$f":"IF(X1378=\"\",\"\",INDEX(referentes!J:K,MATCH(X1378,referentes!J:J,0),2))","v":""},null,null,""]
["30000401000000",null,0,{"$f":"IF(E1379<>\"\",CONCATENATE(B1379,A1379,DIGITADOR!$M$1,C1379),\"\")","v":""},null,null,"","","",null,1375,"",{"$f":"IF(R1379=R1378,\"\",IF(E1379<>\"\",CONCATENATE(B1379,A1379,DIGITADOR!$M$1,C1379),\"\"))","v":""},null,{"$f":"IF(N1379=\"\",\"\",INDEX(referentes!S:T,MATCH(N1379,referentes!T:T,0),1))","v":""},null,{"$f":"IF(P1379=\"\",\"\",INDEX(referentes!Y:Z,MATCH(P1379,referentes!Z:Z,0),1))","v":""},"","",null,null,null,null,null,{"$f":"IF(X1379=\"\",\"\",INDEX(referentes!J:K,MATCH(X1379,referentes!J:J,0),2))","v":""},null,null,""]
["30000401000000",null,0,{"$f":"IF(E1380<>\"\",CONCATENATE(B1380,A1380,DIGITADOR!$M$1,C1380),\"\")","v":""},null,null,"","","",null,1376,"",{"$f":"IF(R1380=R1379,\"\",IF(E1380<>\"\",CONCATENATE(B1380,A1380,DIGITADOR!$M$1,C1380),\"\"))","v":""},null,{"$f":"IF(N1380=\"\",\"\",INDEX(referentes!S:T,MATCH(N1380,referentes!T:T,0),1))","v":""},null,{"$f":"IF(P1380=\"\",\"\",INDEX(referentes!Y:Z,MATCH(P1380,referentes!Z:Z,0),1))","v":""},"","",null,null,null,null,null,{"$f":"IF(X1380=\"\",\"\",INDEX(referentes!J:K,MATCH(X1380,referentes!J:J,0),2))","v":""},null,null,""]
["30000401000000",null,0,{"$f":"IF(E1381<>\"\",CONCATENATE(B1381,A1381,DIGITADOR!$M$1,C1381),\"\")","v":""},null,null,"","","",null,1377,"",{"$f":"IF(R1381=R1380,\"\",IF(E1381<>\"\",CONCATENATE(B1381,A1381,DIGITADOR!$M$1,C1381),\"\"))","v":""},null,{"$f":"IF(N1381=\"\",\"\",INDEX(referentes!S:T,MATCH(N1381,referentes!T:T,0),1))","v":""},null,{"$f":"IF(P1381=\"\",\"\",INDEX(referentes!Y:Z,MATCH(P1381,referentes!Z:Z,0),1))","v":""},"","",null,null,null,null,null,{"$f":"IF(X1381=\"\",\"\",INDEX(referentes!J:K,MATCH(X1381,referentes!J:J,0),2))","v":""},null,null,""]
["30000401000000",null,0,{"$f":"IF(E1382<>\"\",CONCATENATE(B1382,A1382,DIGITADOR!$M$1,C1382),\"\")","v":""},null,null,"","","",null,1378,"",{"$f":"IF(R1382=R1381,\"\",IF(E1382<>\"\",CONCATENATE(B1382,A1382,DIGITADOR!$M$1,C1382),\"\"))","v":""},null,{"$f":"IF(N1382=\"\",\"\",INDEX(referentes!S:T,MATCH(N1382,referentes!T:T,0),1))","v":""},null,{"$f":"IF(P1382=\"\",\"\",INDEX(referentes!Y:Z,MATCH(P1382,referentes!Z:Z,0),1))","v":""},"","",null,null,null,null,null,{"$f":"IF(X1382=\"\",\"\",INDEX(referentes!J:K,MATCH(X1382,referentes!J:J,0),2))","v":""},null,null,""]
["30000401000000",null,0,{"$f":"IF(E1383<>\"\",CONCATENATE(B1383,A1383,DIGITADOR!$M$1,C1383),\"\")","v":""},null,null,"","","",null,1379,"",{"$f":"IF(R1383=R1382,\"\",IF(E1383<>\"\",CONCATENATE(B1383,A1383,DIGITADOR!$M$1,C1383),\"\"))","v":""},null,{"$f":"IF(N1383=\"\",\"\",INDEX(referentes!S:T,MATCH(N1383,referentes!T:T,0),1))","v":""},null,{"$f":"IF(P1383=\"\",\"\",INDEX(referentes!Y:Z,MATCH(P1383,referentes!Z:Z,0),1))","v":""},"","",null,null,null,null,null,{"$f":"IF(X1383=\"\",\"\",INDEX(referentes!J:K,MATCH(X1383,referentes!J:J,0),2))","v":""},null,null,""]
["30000401000000",null,0,{"$f":"IF(E1384<>\"\",CONCATENATE(B1384,A1384,DIGITADOR!$M$1,C1384),\"\")","v":""},null,null,"","","",null,1380,"",{"$f":"IF(R1384=R1383,\"\",IF(E1384<>\"\",CONCATENATE(B1384,A1384,DIGITADOR!$M$1,C1384),\"\"))","v":""},null,{"$f":"IF(N1384=\"\",\"\",INDEX(referentes!S:T,MATCH(N1384,referentes!T:T,0),1))","v":""},null,{"$f":"IF(P1384=\"\",\"\",INDEX(referentes!Y:Z,MATCH(P1384,referentes!Z:Z,0),1))","v":""},"","",null,null,null,null,null,{"$f":"IF(X1384=\"\",\"\",INDEX(referentes!J:K,MATCH(X1384,referentes!J:J,0),2))","v":""},null,null,""]
["30000401000000",null,0,{"$f":"IF(E1385<>\"\",CONCATENATE(B1385,A1385,DIGITADOR!$M$1,C1385),\"\")","v":""},null,null,"","","",null,1381,"",{"$f":"IF(R1385=R1384,\"\",IF(E1385<>\"\",CONCATENATE(B1385,A1385,DIGITADOR!$M$1,C1385),\"\"))","v":""},null,{"$f":"IF(N1385=\"\",\"\",INDEX(referentes!S:T,MATCH(N1385,referentes!T:T,0),1))","v":""},null,{"$f":"IF(P1385=\"\",\"\",INDEX(referentes!Y:Z,MATCH(P1385,referentes!Z:Z,0),1))","v":""},"","",null,null,null,null,null,{"$f":"IF(X1385=\"\",\"\",INDEX(referentes!J:K,MATCH(X1385,referentes!J:J,0),2))","v":""},null,null,""]
["30000401000000",null,0,{"$f":"IF(E1386<>\"\",CONCATENATE(B1386,A1386,DIGITADOR!$M$1,C1386),\"\")","v":""},null,null,"","","",null,1382,"",{"$f":"IF(R1386=R1385,\"\",IF(E1386<>\"\",CONCATENATE(B1386,A1386,DIGITADOR!$M$1,C1386),\"\"))","v":""},null,{"$f":"IF(N1386=\"\",\"\",INDEX(referentes!S:T,MATCH(N1386,referentes!T:T,0),1))","v":""},null,{"$f":"IF(P1386=\"\",\"\",INDEX(referentes!Y:Z,MATCH(P1386,referentes!Z:Z,0),1))","v":""},"","",null,null,null,null,null,{"$f":"IF(X1386=\"\",\"\",INDEX(referentes!J:K,MATCH(X1386,referentes!J:J,0),2))","v":""},null,null,""]
["30000401000000",null,0,{"$f":"IF(E1387<>\"\",CONCATENATE(B1387,A1387,DIGITADOR!$M$1,C1387),\"\")","v":""},null,null,"","","",null,1383,"",{"$f":"IF(R1387=R1386,\"\",IF(E1387<>\"\",CONCATENATE(B1387,A1387,DIGITADOR!$M$1,C1387),\"\"))","v":""},null,{"$f":"IF(N1387=\"\",\"\",INDEX(referentes!S:T,MATCH(N1387,referentes!T:T,0),1))","v":""},null,{"$f":"IF(P1387=\"\",\"\",INDEX(referentes!Y:Z,MATCH(P1387,referentes!Z:Z,0),1))","v":""},"","",null,null,null,null,null,{"$f":"IF(X1387=\"\",\"\",INDEX(referentes!J:K,MATCH(X1387,referentes!J:J,0),2))","v":""},null,null,""]
["30000401000000",null,0,{"$f":"IF(E1388<>\"\",CONCATENATE(B1388,A1388,DIGITADOR!$M$1,C1388),\"\")","v":""},null,null,"","","",null,1384,"",{"$f":"IF(R1388=R1387,\"\",IF(E1388<>\"\",CONCATENATE(B1388,A1388,DIGITADOR!$M$1,C1388),\"\"))","v":""},null,{"$f":"IF(N1388=\"\",\"\",INDEX(referentes!S:T,MATCH(N1388,referentes!T:T,0),1))","v":""},null,{"$f":"IF(P1388=\"\",\"\",INDEX(referentes!Y:Z,MATCH(P1388,referentes!Z:Z,0),1))","v":""},"","",null,null,null,null,null,{"$f":"IF(X1388=\"\",\"\",INDEX(referentes!J:K,MATCH(X1388,referentes!J:J,0),2))","v":""},null,null,""]
["30000401000000",null,0,{"$f":"IF(E1389<>\"\",CONCATENATE(B1389,A1389,DIGITADOR!$M$1,C1389),\"\")","v":""},null,null,"","","",null,1385,"",{"$f":"IF(R1389=R1388,\"\",IF(E1389<>\"\",CONCATENATE(B1389,A1389,DIGITADOR!$M$1,C1389),\"\"))","v":""},null,{"$f":"IF(N1389=\"\",\"\",INDEX(referentes!S:T,MATCH(N1389,referentes!T:T,0),1))","v":""},null,{"$f":"IF(P1389=\"\",\"\",INDEX(referentes!Y:Z,MATCH(P1389,referentes!Z:Z,0),1))","v":""},"","",null,null,null,null,null,{"$f":"IF(X1389=\"\",\"\",INDEX(referentes!J:K,MATCH(X1389,referentes!J:J,0),2))","v":""},null,null,""]
["30000401000000",null,0,{"$f":"IF(E1390<>\"\",CONCATENATE(B1390,A1390,DIGITADOR!$M$1,C1390),\"\")","v":""},null,null,"","","",null,1386,"",{"$f":"IF(R1390=R1389,\"\",IF(E1390<>\"\",CONCATENATE(B1390,A1390,DIGITADOR!$M$1,C1390),\"\"))","v":""},null,{"$f":"IF(N1390=\"\",\"\",INDEX(referentes!S:T,MATCH(N1390,referentes!T:T,0),1))","v":""},null,{"$f":"IF(P1390=\"\",\"\",INDEX(referentes!Y:Z,MATCH(P1390,referentes!Z:Z,0),1))","v":""},"","",null,null,null,null,null,{"$f":"IF(X1390=\"\",\"\",INDEX(referentes!J:K,MATCH(X1390,referentes!J:J,0),2))","v":""},null,null,""]
["30000401000000",null,0,{"$f":"IF(E1391<>\"\",CONCATENATE(B1391,A1391,DIGITADOR!$M$1,C1391),\"\")","v":""},null,null,"","","",null,1387,"",{"$f":"IF(R1391=R1390,\"\",IF(E1391<>\"\",CONCATENATE(B1391,A1391,DIGITADOR!$M$1,C1391),\"\"))","v":""},null,{"$f":"IF(N1391=\"\",\"\",INDEX(referentes!S:T,MATCH(N1391,referentes!T:T,0),1))","v":""},null,{"$f":"IF(P1391=\"\",\"\",INDEX(referentes!Y:Z,MATCH(P1391,referentes!Z:Z,0),1))","v":""},"","",null,null,null,null,null,{"$f":"IF(X1391=\"\",\"\",INDEX(referentes!J:K,MATCH(X1391,referentes!J:J,0),2))","v":""},null,null,""]
["30000401000000",null,0,{"$f":"IF(E1392<>\"\",CONCATENATE(B1392,A1392,DIGITADOR!$M$1,C1392),\"\")","v":""},null,null,"","","",null,1388,"",{"$f":"IF(R1392=R1391,\"\",IF(E1392<>\"\",CONCATENATE(B1392,A1392,DIGITADOR!$M$1,C1392),\"\"))","v":""},null,{"$f":"IF(N1392=\"\",\"\",INDEX(referentes!S:T,MATCH(N1392,referentes!T:T,0),1))","v":""},null,{"$f":"IF(P1392=\"\",\"\",INDEX(referentes!Y:Z,MATCH(P1392,referentes!Z:Z,0),1))","v":""},"","",null,null,null,null,null,{"$f":"IF(X1392=\"\",\"\",INDEX(referentes!J:K,MATCH(X1392,referentes!J:J,0),2))","v":""},null,null,""]
["30000401000000",null,0,{"$f":"IF(E1393<>\"\",CONCATENATE(B1393,A1393,DIGITADOR!$M$1,C1393),\"\")","v":""},null,null,"","","",null,1389,"",{"$f":"IF(R1393=R1392,\"\",IF(E1393<>\"\",CONCATENATE(B1393,A1393,DIGITADOR!$M$1,C1393),\"\"))","v":""},null,{"$f":"IF(N1393=\"\",\"\",INDEX(referentes!S:T,MATCH(N1393,referentes!T:T,0),1))","v":""},null,{"$f":"IF(P1393=\"\",\"\",INDEX(referentes!Y:Z,MATCH(P1393,referentes!Z:Z,0),1))","v":""},"","",null,null,null,null,null,{"$f":"IF(X1393=\"\",\"\",INDEX(referentes!J:K,MATCH(X1393,referentes!J:J,0),2))","v":""},null,null,""]
["30000401000000",null,0,{"$f":"IF(E1394<>\"\",CONCATENATE(B1394,A1394,DIGITADOR!$M$1,C1394),\"\")","v":""},null,null,"","","",null,1390,"",{"$f":"IF(R1394=R1393,\"\",IF(E1394<>\"\",CONCATENATE(B1394,A1394,DIGITADOR!$M$1,C1394),\"\"))","v":""},null,{"$f":"IF(N1394=\"\",\"\",INDEX(referentes!S:T,MATCH(N1394,referentes!T:T,0),1))","v":""},null,{"$f":"IF(P1394=\"\",\"\",INDEX(referentes!Y:Z,MATCH(P1394,referentes!Z:Z,0),1))","v":""},"","",null,null,null,null,null,{"$f":"IF(X1394=\"\",\"\",INDEX(referentes!J:K,MATCH(X1394,referentes!J:J,0),2))","v":""},null,null,""]
["30000401000000",null,0,{"$f":"IF(E1395<>\"\",CONCATENATE(B1395,A1395,DIGITADOR!$M$1,C1395),\"\")","v":""},null,null,"","","",null,1391,"",{"$f":"IF(R1395=R1394,\"\",IF(E1395<>\"\",CONCATENATE(B1395,A1395,DIGITADOR!$M$1,C1395),\"\"))","v":""},null,{"$f":"IF(N1395=\"\",\"\",INDEX(referentes!S:T,MATCH(N1395,referentes!T:T,0),1))","v":""},null,{"$f":"IF(P1395=\"\",\"\",INDEX(referentes!Y:Z,MATCH(P1395,referentes!Z:Z,0),1))","v":""},"","",null,null,null,null,null,{"$f":"IF(X1395=\"\",\"\",INDEX(referentes!J:K,MATCH(X1395,referentes!J:J,0),2))","v":""},null,null,""]
["30000401000000",null,0,{"$f":"IF(E1396<>\"\",CONCATENATE(B1396,A1396,DIGITADOR!$M$1,C1396),\"\")","v":""},null,null,"","","",null,1392,"",{"$f":"IF(R1396=R1395,\"\",IF(E1396<>\"\",CONCATENATE(B1396,A1396,DIGITADOR!$M$1,C1396),\"\"))","v":""},null,{"$f":"IF(N1396=\"\",\"\",INDEX(referentes!S:T,MATCH(N1396,referentes!T:T,0),1))","v":""},null,{"$f":"IF(P1396=\"\",\"\",INDEX(referentes!Y:Z,MATCH(P1396,referentes!Z:Z,0),1))","v":""},"","",null,null,null,null,null,{"$f":"IF(X1396=\"\",\"\",INDEX(referentes!J:K,MATCH(X1396,referentes!J:J,0),2))","v":""},null,null,""]
["30000401000000",null,0,{"$f":"IF(E1397<>\"\",CONCATENATE(B1397,A1397,DIGITADOR!$M$1,C1397),\"\")","v":""},null,null,"","","",null,1393,"",{"$f":"IF(R1397=R1396,\"\",IF(E1397<>\"\",CONCATENATE(B1397,A1397,DIGITADOR!$M$1,C1397),\"\"))","v":""},null,{"$f":"IF(N1397=\"\",\"\",INDEX(referentes!S:T,MATCH(N1397,referentes!T:T,0),1))","v":""},null,{"$f":"IF(P1397=\"\",\"\",INDEX(referentes!Y:Z,MATCH(P1397,referentes!Z:Z,0),1))","v":""},"","",null,null,null,null,null,{"$f":"IF(X1397=\"\",\"\",INDEX(referentes!J:K,MATCH(X1397,referentes!J:J,0),2))","v":""},null,null,""]
["30000401000000",null,0,{"$f":"IF(E1398<>\"\",CONCATENATE(B1398,A1398,DIGITADOR!$M$1,C1398),\"\")","v":""},null,null,"","","",null,1394,"",{"$f":"IF(R1398=R1397,\"\",IF(E1398<>\"\",CONCATENATE(B1398,A1398,DIGITADOR!$M$1,C1398),\"\"))","v":""},null,{"$f":"IF(N1398=\"\",\"\",INDEX(referentes!S:T,MATCH(N1398,referentes!T:T,0),1))","v":""},null,{"$f":"IF(P1398=\"\",\"\",INDEX(referentes!Y:Z,MATCH(P1398,referentes!Z:Z,0),1))","v":""},"","",null,null,null,null,null,{"$f":"IF(X1398=\"\",\"\",INDEX(referentes!J:K,MATCH(X1398,referentes!J:J,0),2))","v":""},null,null,""]
["30000401000000",null,0,{"$f":"IF(E1399<>\"\",CONCATENATE(B1399,A1399,DIGITADOR!$M$1,C1399),\"\")","v":""},null,null,"","","",null,1395,"",{"$f":"IF(R1399=R1398,\"\",IF(E1399<>\"\",CONCATENATE(B1399,A1399,DIGITADOR!$M$1,C1399),\"\"))","v":""},null,{"$f":"IF(N1399=\"\",\"\",INDEX(referentes!S:T,MATCH(N1399,referentes!T:T,0),1))","v":""},null,{"$f":"IF(P1399=\"\",\"\",INDEX(referentes!Y:Z,MATCH(P1399,referentes!Z:Z,0),1))","v":""},"","",null,null,null,null,null,{"$f":"IF(X1399=\"\",\"\",INDEX(referentes!J:K,MATCH(X1399,referentes!J:J,0),2))","v":""},null,null,""]
["30000401000000",null,0,{"$f":"IF(E1400<>\"\",CONCATENATE(B1400,A1400,DIGITADOR!$M$1,C1400),\"\")","v":""},null,null,"","","",null,1396,"",{"$f":"IF(R1400=R1399,\"\",IF(E1400<>\"\",CONCATENATE(B1400,A1400,DIGITADOR!$M$1,C1400),\"\"))","v":""},null,{"$f":"IF(N1400=\"\",\"\",INDEX(referentes!S:T,MATCH(N1400,referentes!T:T,0),1))","v":""},null,{"$f":"IF(P1400=\"\",\"\",INDEX(referentes!Y:Z,MATCH(P1400,referentes!Z:Z,0),1))","v":""},"","",null,null,null,null,null,{"$f":"IF(X1400=\"\",\"\",INDEX(referentes!J:K,MATCH(X1400,referentes!J:J,0),2))","v":""},null,null,""]
["30000401000000",null,0,{"$f":"IF(E1401<>\"\",CONCATENATE(B1401,A1401,DIGITADOR!$M$1,C1401),\"\")","v":""},null,null,"","","",null,1397,"",{"$f":"IF(R1401=R1400,\"\",IF(E1401<>\"\",CONCATENATE(B1401,A1401,DIGITADOR!$M$1,C1401),\"\"))","v":""},null,{"$f":"IF(N1401=\"\",\"\",INDEX(referentes!S:T,MATCH(N1401,referentes!T:T,0),1))","v":""},null,{"$f":"IF(P1401=\"\",\"\",INDEX(referentes!Y:Z,MATCH(P1401,referentes!Z:Z,0),1))","v":""},"","",null,null,null,null,null,{"$f":"IF(X1401=\"\",\"\",INDEX(referentes!J:K,MATCH(X1401,referentes!J:J,0),2))","v":""},null,null,""]
["30000401000000",null,0,{"$f":"IF(E1402<>\"\",CONCATENATE(B1402,A1402,DIGITADOR!$M$1,C1402),\"\")","v":""},null,null,"","","",null,1398,"",{"$f":"IF(R1402=R1401,\"\",IF(E1402<>\"\",CONCATENATE(B1402,A1402,DIGITADOR!$M$1,C1402),\"\"))","v":""},null,{"$f":"IF(N1402=\"\",\"\",INDEX(referentes!S:T,MATCH(N1402,referentes!T:T,0),1))","v":""},null,{"$f":"IF(P1402=\"\",\"\",INDEX(referentes!Y:Z,MATCH(P1402,referentes!Z:Z,0),1))","v":""},"","",null,null,null,null,null,{"$f":"IF(X1402=\"\",\"\",INDEX(referentes!J:K,MATCH(X1402,referentes!J:J,0),2))","v":""},null,null,""]
["30000401000000",null,0,{"$f":"IF(E1403<>\"\",CONCATENATE(B1403,A1403,DIGITADOR!$M$1,C1403),\"\")","v":""},null,null,"","","",null,1399,"",{"$f":"IF(R1403=R1402,\"\",IF(E1403<>\"\",CONCATENATE(B1403,A1403,DIGITADOR!$M$1,C1403),\"\"))","v":""},null,{"$f":"IF(N1403=\"\",\"\",INDEX(referentes!S:T,MATCH(N1403,referentes!T:T,0),1))","v":""},null,{"$f":"IF(P1403=\"\",\"\",INDEX(referentes!Y:Z,MATCH(P1403,referentes!Z:Z,0),1))","v":""},"","",null,null,null,null,null,{"$f":"IF(X1403=\"\",\"\",INDEX(referentes!J:K,MATCH(X1403,referentes!J:J,0),2))","v":""},null,null,""]
["30000401000000",null,0,{"$f":"IF(E1404<>\"\",CONCATENATE(B1404,A1404,DIGITADOR!$M$1,C1404),\"\")","v":""},null,null,"","","",null,1400,"",{"$f":"IF(R1404=R1403,\"\",IF(E1404<>\"\",CONCATENATE(B1404,A1404,DIGITADOR!$M$1,C1404),\"\"))","v":""},null,{"$f":"IF(N1404=\"\",\"\",INDEX(referentes!S:T,MATCH(N1404,referentes!T:T,0),1))","v":""},null,{"$f":"IF(P1404=\"\",\"\",INDEX(referentes!Y:Z,MATCH(P1404,referentes!Z:Z,0),1))","v":""},"","",null,null,null,null,null,{"$f":"IF(X1404=\"\",\"\",INDEX(referentes!J:K,MATCH(X1404,referentes!J:J,0),2))","v":""},null,null,""]
["30000401000000",null,0,{"$f":"IF(E1405<>\"\",CONCATENATE(B1405,A1405,DIGITADOR!$M$1,C1405),\"\")","v":""},null,null,"","","",null,1401,"",{"$f":"IF(R1405=R1404,\"\",IF(E1405<>\"\",CONCATENATE(B1405,A1405,DIGITADOR!$M$1,C1405),\"\"))","v":""},null,{"$f":"IF(N1405=\"\",\"\",INDEX(referentes!S:T,MATCH(N1405,referentes!T:T,0),1))","v":""},null,{"$f":"IF(P1405=\"\",\"\",INDEX(referentes!Y:Z,MATCH(P1405,referentes!Z:Z,0),1))","v":""},"","",null,null,null,null,null,{"$f":"IF(X1405=\"\",\"\",INDEX(referentes!J:K,MATCH(X1405,referentes!J:J,0),2))","v":""},null,null,""]
["30000401000000",null,0,{"$f":"IF(E1406<>\"\",CONCATENATE(B1406,A1406,DIGITADOR!$M$1,C1406),\"\")","v":""},null,null,"","","",null,1402,"",{"$f":"IF(R1406=R1405,\"\",IF(E1406<>\"\",CONCATENATE(B1406,A1406,DIGITADOR!$M$1,C1406),\"\"))","v":""},null,{"$f":"IF(N1406=\"\",\"\",INDEX(referentes!S:T,MATCH(N1406,referentes!T:T,0),1))","v":""},null,{"$f":"IF(P1406=\"\",\"\",INDEX(referentes!Y:Z,MATCH(P1406,referentes!Z:Z,0),1))","v":""},"","",null,null,null,null,null,{"$f":"IF(X1406=\"\",\"\",INDEX(referentes!J:K,MATCH(X1406,referentes!J:J,0),2))","v":""},null,null,""]
["30000401000000",null,0,{"$f":"IF(E1407<>\"\",CONCATENATE(B1407,A1407,DIGITADOR!$M$1,C1407),\"\")","v":""},null,null,"","","",null,1403,"",{"$f":"IF(R1407=R1406,\"\",IF(E1407<>\"\",CONCATENATE(B1407,A1407,DIGITADOR!$M$1,C1407),\"\"))","v":""},null,{"$f":"IF(N1407=\"\",\"\",INDEX(referentes!S:T,MATCH(N1407,referentes!T:T,0),1))","v":""},null,{"$f":"IF(P1407=\"\",\"\",INDEX(referentes!Y:Z,MATCH(P1407,referentes!Z:Z,0),1))","v":""},"","",null,null,null,null,null,{"$f":"IF(X1407=\"\",\"\",INDEX(referentes!J:K,MATCH(X1407,referentes!J:J,0),2))","v":""},null,null,""]
["30000401000000",null,0,{"$f":"IF(E1408<>\"\",CONCATENATE(B1408,A1408,DIGITADOR!$M$1,C1408),\"\")","v":""},null,null,"","","",null,1404,"",{"$f":"IF(R1408=R1407,\"\",IF(E1408<>\"\",CONCATENATE(B1408,A1408,DIGITADOR!$M$1,C1408),\"\"))","v":""},null,{"$f":"IF(N1408=\"\",\"\",INDEX(referentes!S:T,MATCH(N1408,referentes!T:T,0),1))","v":""},null,{"$f":"IF(P1408=\"\",\"\",INDEX(referentes!Y:Z,MATCH(P1408,referentes!Z:Z,0),1))","v":""},"","",null,null,null,null,null,{"$f":"IF(X1408=\"\",\"\",INDEX(referentes!J:K,MATCH(X1408,referentes!J:J,0),2))","v":""},null,null,""]
["30000401000000",null,0,{"$f":"IF(E1409<>\"\",CONCATENATE(B1409,A1409,DIGITADOR!$M$1,C1409),\"\")","v":""},null,null,"","","",null,1405,"",{"$f":"IF(R1409=R1408,\"\",IF(E1409<>\"\",CONCATENATE(B1409,A1409,DIGITADOR!$M$1,C1409),\"\"))","v":""},null,{"$f":"IF(N1409=\"\",\"\",INDEX(referentes!S:T,MATCH(N1409,referentes!T:T,0),1))","v":""},null,{"$f":"IF(P1409=\"\",\"\",INDEX(referentes!Y:Z,MATCH(P1409,referentes!Z:Z,0),1))","v":""},"","",null,null,null,null,null,{"$f":"IF(X1409=\"\",\"\",INDEX(referentes!J:K,MATCH(X1409,referentes!J:J,0),2))","v":""},null,null,""]
["30000401000000",null,0,{"$f":"IF(E1410<>\"\",CONCATENATE(B1410,A1410,DIGITADOR!$M$1,C1410),\"\")","v":""},null,null,"","","",null,1406,"",{"$f":"IF(R1410=R1409,\"\",IF(E1410<>\"\",CONCATENATE(B1410,A1410,DIGITADOR!$M$1,C1410),\"\"))","v":""},null,{"$f":"IF(N1410=\"\",\"\",INDEX(referentes!S:T,MATCH(N1410,referentes!T:T,0),1))","v":""},null,{"$f":"IF(P1410=\"\",\"\",INDEX(referentes!Y:Z,MATCH(P1410,referentes!Z:Z,0),1))","v":""},"","",null,null,null,null,null,{"$f":"IF(X1410=\"\",\"\",INDEX(referentes!J:K,MATCH(X1410,referentes!J:J,0),2))","v":""},null,null,""]
["30000401000000",null,0,{"$f":"IF(E1411<>\"\",CONCATENATE(B1411,A1411,DIGITADOR!$M$1,C1411),\"\")","v":""},null,null,"","","",null,1407,"",{"$f":"IF(R1411=R1410,\"\",IF(E1411<>\"\",CONCATENATE(B1411,A1411,DIGITADOR!$M$1,C1411),\"\"))","v":""},null,{"$f":"IF(N1411=\"\",\"\",INDEX(referentes!S:T,MATCH(N1411,referentes!T:T,0),1))","v":""},null,{"$f":"IF(P1411=\"\",\"\",INDEX(referentes!Y:Z,MATCH(P1411,referentes!Z:Z,0),1))","v":""},"","",null,null,null,null,null,{"$f":"IF(X1411=\"\",\"\",INDEX(referentes!J:K,MATCH(X1411,referentes!J:J,0),2))","v":""},null,null,""]
["30000401000000",null,0,{"$f":"IF(E1412<>\"\",CONCATENATE(B1412,A1412,DIGITADOR!$M$1,C1412),\"\")","v":""},null,null,"","","",null,1408,"",{"$f":"IF(R1412=R1411,\"\",IF(E1412<>\"\",CONCATENATE(B1412,A1412,DIGITADOR!$M$1,C1412),\"\"))","v":""},null,{"$f":"IF(N1412=\"\",\"\",INDEX(referentes!S:T,MATCH(N1412,referentes!T:T,0),1))","v":""},null,{"$f":"IF(P1412=\"\",\"\",INDEX(referentes!Y:Z,MATCH(P1412,referentes!Z:Z,0),1))","v":""},"","",null,null,null,null,null,{"$f":"IF(X1412=\"\",\"\",INDEX(referentes!J:K,MATCH(X1412,referentes!J:J,0),2))","v":""},null,null,""]
["30000401000000",null,{"$f":"IF(R1413=R1412,C1412,C1412+1)","v":0},{"$f":"IF(E1413<>\"\",CONCATENATE(B1413,A1413,DIGITADOR!$M$1,C1413),\"\")","v":""},null,null,"","","",null,1409,"",{"$f":"IF(R1413=R1412,\"\",IF(E1413<>\"\",CONCATENATE(B1413,A1413,DIGITADOR!$M$1,C1413),\"\"))","v":""},null,{"$f":"IF(N1413=\"\",\"\",INDEX(referentes!S:T,MATCH(N1413,referentes!T:T,0),1))","v":""},null,{"$f":"IF(P1413=\"\",\"\",INDEX(referentes!Y:Z,MATCH(P1413,referentes!Z:Z,0),1))","v":""},"","",null,null,null,null,null,{"$f":"IF(X1413=\"\",\"\",INDEX(referentes!J:K,MATCH(X1413,referentes!J:J,0),2))","v":""},null,null,""]
["30000401000000",null,0,{"$f":"IF(E1414<>\"\",CONCATENATE(B1414,A1414,DIGITADOR!$M$1,C1414),\"\")","v":""},null,null,{"$f":"IF(E1414=\"\", \"\", (E1414+F1414))","v":""},{"$f":"IF(G1414<>\"\",MONTH(G1414),\"\")","v":""},{"$f":"IF(D1414=\"\",\"\",1)","v":""},null,1410,{"$f":"IF(E1414=\"\",\"\",CONCATENATE(D1414,K1414))","v":""},{"$f":"IF(R1414=R1413,\"\",IF(E1414<>\"\",CONCATENATE(B1414,A1414,DIGITADOR!$M$1,C1414),\"\"))","v":""},null,{"$f":"IF(N1414=\"\",\"\",INDEX(referentes!S:T,MATCH(N1414,referentes!T:T,0),1))","v":""},null,{"$f":"IF(P1414=\"\",\"\",INDEX(referentes!Y:Z,MATCH(P1414,referentes!Z:Z,0),1))","v":""},{"$f":"IF(G1414=\"\",\"\",CONCATENATE(G1414,O1414,Q1414))","v":""},{"$f":"IF(E1414=\"\",\"\",\"INVEMAR\")","v":""},null,null,null,null,null,{"$f":"IF(X1414=\"\",\"\",INDEX(referentes!J:K,MATCH(X1414,referentes!J:J,0),2))","v":""},null,null,{"$f":"IF(T1414=\"\",\"\",IF(T1414=T1413,AB1413,AA1414))","v":""}]
[{"$f":"A1414","v":"30000401000000"},null,0,{"$f":"IF(E1415<>\"\",CONCATENATE(B1415,A1415,DIGITADOR!$M$1,C1415),\"\")","v":""},null,null,"","","",null,1411,"",{"$f":"IF(R1415=R1414,\"\",IF(E1415<>\"\",CONCATENATE(B1415,A1415,DIGITADOR!$M$1,C1415),\"\"))","v":""},null,{"$f":"IF(N1415=\"\",\"\",INDEX(referentes!S:T,MATCH(N1415,referentes!T:T,0),1))","v":""},null,{"$f":"IF(P1415=\"\",\"\",INDEX(referentes!Y:Z,MATCH(P1415,referentes!Z:Z,0),1))","v":""},"","",null,null,null,null,null,{"$f":"IF(X1415=\"\",\"\",INDEX(referentes!J:K,MATCH(X1415,referentes!J:J,0),2))","v":""},null,null,""]
["30000401000000",null,0,{"$f":"IF(E1416<>\"\",CONCATENATE(B1416,A1416,DIGITADOR!$M$1,C1416),\"\")","v":""},null,null,"","","",null,1412,"",{"$f":"IF(R1416=R1415,\"\",IF(E1416<>\"\",CONCATENATE(B1416,A1416,DIGITADOR!$M$1,C1416),\"\"))","v":""},null,{"$f":"IF(N1416=\"\",\"\",INDEX(referentes!S:T,MATCH(N1416,referentes!T:T,0),1))","v":""},null,{"$f":"IF(P1416=\"\",\"\",INDEX(referentes!Y:Z,MATCH(P1416,referentes!Z:Z,0),1))","v":""},"","",null,null,null,null,null,{"$f":"IF(X1416=\"\",\"\",INDEX(referentes!J:K,MATCH(X1416,referentes!J:J,0),2))","v":""},null,null,""]
["30000401000000",null,0,{"$f":"IF(E1417<>\"\",CONCATENATE(B1417,A1417,DIGITADOR!$M$1,C1417),\"\")","v":""},null,null,"","","",null,1413,"",{"$f":"IF(R1417=R1416,\"\",IF(E1417<>\"\",CONCATENATE(B1417,A1417,DIGITADOR!$M$1,C1417),\"\"))","v":""},null,{"$f":"IF(N1417=\"\",\"\",INDEX(referentes!S:T,MATCH(N1417,referentes!T:T,0),1))","v":""},null,{"$f":"IF(P1417=\"\",\"\",INDEX(referentes!Y:Z,MATCH(P1417,referentes!Z:Z,0),1))","v":""},"","",null,null,null,null,null,{"$f":"IF(X1417=\"\",\"\",INDEX(referentes!J:K,MATCH(X1417,referentes!J:J,0),2))","v":""},null,null,""]
["30000401000000",null,0,{"$f":"IF(E1418<>\"\",CONCATENATE(B1418,A1418,DIGITADOR!$M$1,C1418),\"\")","v":""},null,null,"","","",null,1414,"",{"$f":"IF(R1418=R1417,\"\",IF(E1418<>\"\",CONCATENATE(B1418,A1418,DIGITADOR!$M$1,C1418),\"\"))","v":""},null,{"$f":"IF(N1418=\"\",\"\",INDEX(referentes!S:T,MATCH(N1418,referentes!T:T,0),1))","v":""},null,{"$f":"IF(P1418=\"\",\"\",INDEX(referentes!Y:Z,MATCH(P1418,referentes!Z:Z,0),1))","v":""},"","",null,null,null,null,null,{"$f":"IF(X1418=\"\",\"\",INDEX(referentes!J:K,MATCH(X1418,referentes!J:J,0),2))","v":""},null,null,""]
["30000401000000",null,0,{"$f":"IF(E1419<>\"\",CONCATENATE(B1419,A1419,DIGITADOR!$M$1,C1419),\"\")","v":""},null,null,"","","",null,1415,"",{"$f":"IF(R1419=R1418,\"\",IF(E1419<>\"\",CONCATENATE(B1419,A1419,DIGITADOR!$M$1,C1419),\"\"))","v":""},null,{"$f":"IF(N1419=\"\",\"\",INDEX(referentes!S:T,MATCH(N1419,referentes!T:T,0),1))","v":""},null,{"$f":"IF(P1419=\"\",\"\",INDEX(referentes!Y:Z,MATCH(P1419,referentes!Z:Z,0),1))","v":""},"","",null,null,null,null,null,{"$f":"IF(X1419=\"\",\"\",INDEX(referentes!J:K,MATCH(X1419,referentes!J:J,0),2))","v":""},null,null,""]
["30000401000000",null,0,{"$f":"IF(E1420<>\"\",CONCATENATE(B1420,A1420,DIGITADOR!$M$1,C1420),\"\")","v":""},null,null,"","","",null,1416,"",{"$f":"IF(R1420=R1419,\"\",IF(E1420<>\"\",CONCATENATE(B1420,A1420,DIGITADOR!$M$1,C1420),\"\"))","v":""},null,{"$f":"IF(N1420=\"\",\"\",INDEX(referentes!S:T,MATCH(N1420,referentes!T:T,0),1))","v":""},null,{"$f":"IF(P1420=\"\",\"\",INDEX(referentes!Y:Z,MATCH(P1420,referentes!Z:Z,0),1))","v":""},"","",null,null,null,null,null,{"$f":"IF(X1420=\"\",\"\",INDEX(referentes!J:K,MATCH(X1420,referentes!J:J,0),2))","v":""},null,null,""]
["30000401000000",null,0,{"$f":"IF(E1421<>\"\",CONCATENATE(B1421,A1421,DIGITADOR!$M$1,C1421),\"\")","v":""},null,null,"","","",null,1417,"",{"$f":"IF(R1421=R1420,\"\",IF(E1421<>\"\",CONCATENATE(B1421,A1421,DIGITADOR!$M$1,C1421),\"\"))","v":""},null,{"$f":"IF(N1421=\"\",\"\",INDEX(referentes!S:T,MATCH(N1421,referentes!T:T,0),1))","v":""},null,{"$f":"IF(P1421=\"\",\"\",INDEX(referentes!Y:Z,MATCH(P1421,referentes!Z:Z,0),1))","v":""},"","",null,null,null,null,null,{"$f":"IF(X1421=\"\",\"\",INDEX(referentes!J:K,MATCH(X1421,referentes!J:J,0),2))","v":""},null,null,""]
["30000401000000",null,0,{"$f":"IF(E1422<>\"\",CONCATENATE(B1422,A1422,DIGITADOR!$M$1,C1422),\"\")","v":""},null,null,"","","",null,1418,"",{"$f":"IF(R1422=R1421,\"\",IF(E1422<>\"\",CONCATENATE(B1422,A1422,DIGITADOR!$M$1,C1422),\"\"))","v":""},null,{"$f":"IF(N1422=\"\",\"\",INDEX(referentes!S:T,MATCH(N1422,referentes!T:T,0),1))","v":""},null,{"$f":"IF(P1422=\"\",\"\",INDEX(referentes!Y:Z,MATCH(P1422,referentes!Z:Z,0),1))","v":""},"","",null,null,null,null,null,{"$f":"IF(X1422=\"\",\"\",INDEX(referentes!J:K,MATCH(X1422,referentes!J:J,0),2))","v":""},null,null,""]
["30000401000000",null,0,{"$f":"IF(E1423<>\"\",CONCATENATE(B1423,A1423,DIGITADOR!$M$1,C1423),\"\")","v":""},null,null,"","","",null,1419,"",{"$f":"IF(R1423=R1422,\"\",IF(E1423<>\"\",CONCATENATE(B1423,A1423,DIGITADOR!$M$1,C1423),\"\"))","v":""},null,{"$f":"IF(N1423=\"\",\"\",INDEX(referentes!S:T,MATCH(N1423,referentes!T:T,0),1))","v":""},null,{"$f":"IF(P1423=\"\",\"\",INDEX(referentes!Y:Z,MATCH(P1423,referentes!Z:Z,0),1))","v":""},"","",null,null,null,null,null,{"$f":"IF(X1423=\"\",\"\",INDEX(referentes!J:K,MATCH(X1423,referentes!J:J,0),2))","v":""},null,null,""]
["30000401000000",null,0,{"$f":"IF(E1424<>\"\",CONCATENATE(B1424,A1424,DIGITADOR!$M$1,C1424),\"\")","v":""},null,null,"","","",null,1420,"",{"$f":"IF(R1424=R1423,\"\",IF(E1424<>\"\",CONCATENATE(B1424,A1424,DIGITADOR!$M$1,C1424),\"\"))","v":""},null,{"$f":"IF(N1424=\"\",\"\",INDEX(referentes!S:T,MATCH(N1424,referentes!T:T,0),1))","v":""},null,{"$f":"IF(P1424=\"\",\"\",INDEX(referentes!Y:Z,MATCH(P1424,referentes!Z:Z,0),1))","v":""},"","",null,null,null,null,null,{"$f":"IF(X1424=\"\",\"\",INDEX(referentes!J:K,MATCH(X1424,referentes!J:J,0),2))","v":""},null,null,""]
["30000401000000",null,0,{"$f":"IF(E1425<>\"\",CONCATENATE(B1425,A1425,DIGITADOR!$M$1,C1425),\"\")","v":""},null,null,"","","",null,1421,"",{"$f":"IF(R1425=R1424,\"\",IF(E1425<>\"\",CONCATENATE(B1425,A1425,DIGITADOR!$M$1,C1425),\"\"))","v":""},null,{"$f":"IF(N1425=\"\",\"\",INDEX(referentes!S:T,MATCH(N1425,referentes!T:T,0),1))","v":""},null,{"$f":"IF(P1425=\"\",\"\",INDEX(referentes!Y:Z,MATCH(P1425,referentes!Z:Z,0),1))","v":""},"","",null,null,null,null,null,{"$f":"IF(X1425=\"\",\"\",INDEX(referentes!J:K,MATCH(X1425,referentes!J:J,0),2))","v":""},null,null,""]
["30000401000000",null,0,{"$f":"IF(E1426<>\"\",CONCATENATE(B1426,A1426,DIGITADOR!$M$1,C1426),\"\")","v":""},null,null,"","","",null,1422,"",{"$f":"IF(R1426=R1425,\"\",IF(E1426<>\"\",CONCATENATE(B1426,A1426,DIGITADOR!$M$1,C1426),\"\"))","v":""},null,{"$f":"IF(N1426=\"\",\"\",INDEX(referentes!S:T,MATCH(N1426,referentes!T:T,0),1))","v":""},null,{"$f":"IF(P1426=\"\",\"\",INDEX(referentes!Y:Z,MATCH(P1426,referentes!Z:Z,0),1))","v":""},"","",null,null,null,null,null,{"$f":"IF(X1426=\"\",\"\",INDEX(referentes!J:K,MATCH(X1426,referentes!J:J,0),2))","v":""},null,null,""]
["30000401000000",null,0,{"$f":"IF(E1427<>\"\",CONCATENATE(B1427,A1427,DIGITADOR!$M$1,C1427),\"\")","v":""},null,null,"","","",null,1423,"",{"$f":"IF(R1427=R1426,\"\",IF(E1427<>\"\",CONCATENATE(B1427,A1427,DIGITADOR!$M$1,C1427),\"\"))","v":""},null,{"$f":"IF(N1427=\"\",\"\",INDEX(referentes!S:T,MATCH(N1427,referentes!T:T,0),1))","v":""},null,{"$f":"IF(P1427=\"\",\"\",INDEX(referentes!Y:Z,MATCH(P1427,referentes!Z:Z,0),1))","v":""},"","",null,null,null,null,null,{"$f":"IF(X1427=\"\",\"\",INDEX(referentes!J:K,MATCH(X1427,referentes!J:J,0),2))","v":""},null,null,""]
["30000401000000",null,0,{"$f":"IF(E1428<>\"\",CONCATENATE(B1428,A1428,DIGITADOR!$M$1,C1428),\"\")","v":""},null,null,"","","",null,1424,"",{"$f":"IF(R1428=R1427,\"\",IF(E1428<>\"\",CONCATENATE(B1428,A1428,DIGITADOR!$M$1,C1428),\"\"))","v":""},null,{"$f":"IF(N1428=\"\",\"\",INDEX(referentes!S:T,MATCH(N1428,referentes!T:T,0),1))","v":""},null,{"$f":"IF(P1428=\"\",\"\",INDEX(referentes!Y:Z,MATCH(P1428,referentes!Z:Z,0),1))","v":""},"","",null,null,null,null,null,{"$f":"IF(X1428=\"\",\"\",INDEX(referentes!J:K,MATCH(X1428,referentes!J:J,0),2))","v":""},null,null,""]
["30000401000000",null,0,{"$f":"IF(E1429<>\"\",CONCATENATE(B1429,A1429,DIGITADOR!$M$1,C1429),\"\")","v":""},null,null,"","","",null,1425,"",{"$f":"IF(R1429=R1428,\"\",IF(E1429<>\"\",CONCATENATE(B1429,A1429,DIGITADOR!$M$1,C1429),\"\"))","v":""},null,{"$f":"IF(N1429=\"\",\"\",INDEX(referentes!S:T,MATCH(N1429,referentes!T:T,0),1))","v":""},null,{"$f":"IF(P1429=\"\",\"\",INDEX(referentes!Y:Z,MATCH(P1429,referentes!Z:Z,0),1))","v":""},"","",null,null,null,null,null,{"$f":"IF(X1429=\"\",\"\",INDEX(referentes!J:K,MATCH(X1429,referentes!J:J,0),2))","v":""},null,null,""]
["30000401000000",null,0,{"$f":"IF(E1430<>\"\",CONCATENATE(B1430,A1430,DIGITADOR!$M$1,C1430),\"\")","v":""},null,null,"","","",null,1426,"",{"$f":"IF(R1430=R1429,\"\",IF(E1430<>\"\",CONCATENATE(B1430,A1430,DIGITADOR!$M$1,C1430),\"\"))","v":""},null,{"$f":"IF(N1430=\"\",\"\",INDEX(referentes!S:T,MATCH(N1430,referentes!T:T,0),1))","v":""},null,{"$f":"IF(P1430=\"\",\"\",INDEX(referentes!Y:Z,MATCH(P1430,referentes!Z:Z,0),1))","v":""},"","",null,null,null,null,null,{"$f":"IF(X1430=\"\",\"\",INDEX(referentes!J:K,MATCH(X1430,referentes!J:J,0),2))","v":""},null,null,""]
["30000401000000",null,0,{"$f":"IF(E1431<>\"\",CONCATENATE(B1431,A1431,DIGITADOR!$M$1,C1431),\"\")","v":""},null,null,"","","",null,1427,"",{"$f":"IF(R1431=R1430,\"\",IF(E1431<>\"\",CONCATENATE(B1431,A1431,DIGITADOR!$M$1,C1431),\"\"))","v":""},null,{"$f":"IF(N1431=\"\",\"\",INDEX(referentes!S:T,MATCH(N1431,referentes!T:T,0),1))","v":""},null,{"$f":"IF(P1431=\"\",\"\",INDEX(referentes!Y:Z,MATCH(P1431,referentes!Z:Z,0),1))","v":""},"","",null,null,null,null,null,{"$f":"IF(X1431=\"\",\"\",INDEX(referentes!J:K,MATCH(X1431,referentes!J:J,0),2))","v":""},null,null,""]
["30000401000000",null,0,{"$f":"IF(E1432<>\"\",CONCATENATE(B1432,A1432,DIGITADOR!$M$1,C1432),\"\")","v":""},null,null,"","","",null,1428,"",{"$f":"IF(R1432=R1431,\"\",IF(E1432<>\"\",CONCATENATE(B1432,A1432,DIGITADOR!$M$1,C1432),\"\"))","v":""},null,{"$f":"IF(N1432=\"\",\"\",INDEX(referentes!S:T,MATCH(N1432,referentes!T:T,0),1))","v":""},null,{"$f":"IF(P1432=\"\",\"\",INDEX(referentes!Y:Z,MATCH(P1432,referentes!Z:Z,0),1))","v":""},"","",null,null,null,null,null,{"$f":"IF(X1432=\"\",\"\",INDEX(referentes!J:K,MATCH(X1432,referentes!J:J,0),2))","v":""},null,null,""]
["30000401000000",null,0,{"$f":"IF(E1433<>\"\",CONCATENATE(B1433,A1433,DIGITADOR!$M$1,C1433),\"\")","v":""},null,null,"","","",null,1429,"",{"$f":"IF(R1433=R1432,\"\",IF(E1433<>\"\",CONCATENATE(B1433,A1433,DIGITADOR!$M$1,C1433),\"\"))","v":""},null,{"$f":"IF(N1433=\"\",\"\",INDEX(referentes!S:T,MATCH(N1433,referentes!T:T,0),1))","v":""},null,{"$f":"IF(P1433=\"\",\"\",INDEX(referentes!Y:Z,MATCH(P1433,referentes!Z:Z,0),1))","v":""},"","",null,null,null,null,null,{"$f":"IF(X1433=\"\",\"\",INDEX(referentes!J:K,MATCH(X1433,referentes!J:J,0),2))","v":""},null,null,""]
["30000401000000",null,0,{"$f":"IF(E1434<>\"\",CONCATENATE(B1434,A1434,DIGITADOR!$M$1,C1434),\"\")","v":""},null,null,"","","",null,1430,"",{"$f":"IF(R1434=R1433,\"\",IF(E1434<>\"\",CONCATENATE(B1434,A1434,DIGITADOR!$M$1,C1434),\"\"))","v":""},null,{"$f":"IF(N1434=\"\",\"\",INDEX(referentes!S:T,MATCH(N1434,referentes!T:T,0),1))","v":""},null,{"$f":"IF(P1434=\"\",\"\",INDEX(referentes!Y:Z,MATCH(P1434,referentes!Z:Z,0),1))","v":""},"","",null,null,null,null,null,{"$f":"IF(X1434=\"\",\"\",INDEX(referentes!J:K,MATCH(X1434,referentes!J:J,0),2))","v":""},null,null,""]
["30000401000000",null,0,{"$f":"IF(E1435<>\"\",CONCATENATE(B1435,A1435,DIGITADOR!$M$1,C1435),\"\")","v":""},null,null,"","","",null,1431,"",{"$f":"IF(R1435=R1434,\"\",IF(E1435<>\"\",CONCATENATE(B1435,A1435,DIGITADOR!$M$1,C1435),\"\"))","v":""},null,{"$f":"IF(N1435=\"\",\"\",INDEX(referentes!S:T,MATCH(N1435,referentes!T:T,0),1))","v":""},null,{"$f":"IF(P1435=\"\",\"\",INDEX(referentes!Y:Z,MATCH(P1435,referentes!Z:Z,0),1))","v":""},"","",null,null,null,null,null,{"$f":"IF(X1435=\"\",\"\",INDEX(referentes!J:K,MATCH(X1435,referentes!J:J,0),2))","v":""},null,null,""]
["30000401000000",null,0,{"$f":"IF(E1436<>\"\",CONCATENATE(B1436,A1436,DIGITADOR!$M$1,C1436),\"\")","v":""},null,null,"","","",null,1432,"",{"$f":"IF(R1436=R1435,\"\",IF(E1436<>\"\",CONCATENATE(B1436,A1436,DIGITADOR!$M$1,C1436),\"\"))","v":""},null,{"$f":"IF(N1436=\"\",\"\",INDEX(referentes!S:T,MATCH(N1436,referentes!T:T,0),1))","v":""},null,{"$f":"IF(P1436=\"\",\"\",INDEX(referentes!Y:Z,MATCH(P1436,referentes!Z:Z,0),1))","v":""},"","",null,null,null,null,null,{"$f":"IF(X1436=\"\",\"\",INDEX(referentes!J:K,MATCH(X1436,referentes!J:J,0),2))","v":""},null,null,""]
["30000401000000",null,0,{"$f":"IF(E1437<>\"\",CONCATENATE(B1437,A1437,DIGITADOR!$M$1,C1437),\"\")","v":""},null,null,"","","",null,1433,"",{"$f":"IF(R1437=R1436,\"\",IF(E1437<>\"\",CONCATENATE(B1437,A1437,DIGITADOR!$M$1,C1437),\"\"))","v":""},null,{"$f":"IF(N1437=\"\",\"\",INDEX(referentes!S:T,MATCH(N1437,referentes!T:T,0),1))","v":""},null,{"$f":"IF(P1437=\"\",\"\",INDEX(referentes!Y:Z,MATCH(P1437,referentes!Z:Z,0),1))","v":""},"","",null,null,null,null,null,{"$f":"IF(X1437=\"\",\"\",INDEX(referentes!J:K,MATCH(X1437,referentes!J:J,0),2))","v":""},null,null,""]
["30000401000000",null,0,{"$f":"IF(E1438<>\"\",CONCATENATE(B1438,A1438,DIGITADOR!$M$1,C1438),\"\")","v":""},null,null,"","","",null,1434,"",{"$f":"IF(R1438=R1437,\"\",IF(E1438<>\"\",CONCATENATE(B1438,A1438,DIGITADOR!$M$1,C1438),\"\"))","v":""},null,{"$f":"IF(N1438=\"\",\"\",INDEX(referentes!S:T,MATCH(N1438,referentes!T:T,0),1))","v":""},null,{"$f":"IF(P1438=\"\",\"\",INDEX(referentes!Y:Z,MATCH(P1438,referentes!Z:Z,0),1))","v":""},"","",null,null,null,null,null,{"$f":"IF(X1438=\"\",\"\",INDEX(referentes!J:K,MATCH(X1438,referentes!J:J,0),2))","v":""},null,null,""]
["30000401000000",null,0,{"$f":"IF(E1439<>\"\",CONCATENATE(B1439,A1439,DIGITADOR!$M$1,C1439),\"\")","v":""},null,null,"","","",null,1435,"",{"$f":"IF(R1439=R1438,\"\",IF(E1439<>\"\",CONCATENATE(B1439,A1439,DIGITADOR!$M$1,C1439),\"\"))","v":""},null,{"$f":"IF(N1439=\"\",\"\",INDEX(referentes!S:T,MATCH(N1439,referentes!T:T,0),1))","v":""},null,{"$f":"IF(P1439=\"\",\"\",INDEX(referentes!Y:Z,MATCH(P1439,referentes!Z:Z,0),1))","v":""},"","",null,null,null,null,null,{"$f":"IF(X1439=\"\",\"\",INDEX(referentes!J:K,MATCH(X1439,referentes!J:J,0),2))","v":""},null,null,""]
["30000401000000",null,0,{"$f":"IF(E1440<>\"\",CONCATENATE(B1440,A1440,DIGITADOR!$M$1,C1440),\"\")","v":""},null,null,"","","",null,1436,"",{"$f":"IF(R1440=R1439,\"\",IF(E1440<>\"\",CONCATENATE(B1440,A1440,DIGITADOR!$M$1,C1440),\"\"))","v":""},null,{"$f":"IF(N1440=\"\",\"\",INDEX(referentes!S:T,MATCH(N1440,referentes!T:T,0),1))","v":""},null,{"$f":"IF(P1440=\"\",\"\",INDEX(referentes!Y:Z,MATCH(P1440,referentes!Z:Z,0),1))","v":""},"","",null,null,null,null,null,{"$f":"IF(X1440=\"\",\"\",INDEX(referentes!J:K,MATCH(X1440,referentes!J:J,0),2))","v":""},null,null,""]
["30000401000000",null,0,{"$f":"IF(E1441<>\"\",CONCATENATE(B1441,A1441,DIGITADOR!$M$1,C1441),\"\")","v":""},null,null,"","","",null,1437,"",{"$f":"IF(R1441=R1440,\"\",IF(E1441<>\"\",CONCATENATE(B1441,A1441,DIGITADOR!$M$1,C1441),\"\"))","v":""},null,{"$f":"IF(N1441=\"\",\"\",INDEX(referentes!S:T,MATCH(N1441,referentes!T:T,0),1))","v":""},null,{"$f":"IF(P1441=\"\",\"\",INDEX(referentes!Y:Z,MATCH(P1441,referentes!Z:Z,0),1))","v":""},"","",null,null,null,null,null,{"$f":"IF(X1441=\"\",\"\",INDEX(referentes!J:K,MATCH(X1441,referentes!J:J,0),2))","v":""},null,null,""]
["30000401000000",null,0,{"$f":"IF(E1442<>\"\",CONCATENATE(B1442,A1442,DIGITADOR!$M$1,C1442),\"\")","v":""},null,null,"","","",null,1438,"",{"$f":"IF(R1442=R1441,\"\",IF(E1442<>\"\",CONCATENATE(B1442,A1442,DIGITADOR!$M$1,C1442),\"\"))","v":""},null,{"$f":"IF(N1442=\"\",\"\",INDEX(referentes!S:T,MATCH(N1442,referentes!T:T,0),1))","v":""},null,{"$f":"IF(P1442=\"\",\"\",INDEX(referentes!Y:Z,MATCH(P1442,referentes!Z:Z,0),1))","v":""},"","",null,null,null,null,null,{"$f":"IF(X1442=\"\",\"\",INDEX(referentes!J:K,MATCH(X1442,referentes!J:J,0),2))","v":""},null,null,""]
["30000401000000",null,0,{"$f":"IF(E1443<>\"\",CONCATENATE(B1443,A1443,DIGITADOR!$M$1,C1443),\"\")","v":""},null,null,"","","",null,1439,"",{"$f":"IF(R1443=R1442,\"\",IF(E1443<>\"\",CONCATENATE(B1443,A1443,DIGITADOR!$M$1,C1443),\"\"))","v":""},null,{"$f":"IF(N1443=\"\",\"\",INDEX(referentes!S:T,MATCH(N1443,referentes!T:T,0),1))","v":""},null,{"$f":"IF(P1443=\"\",\"\",INDEX(referentes!Y:Z,MATCH(P1443,referentes!Z:Z,0),1))","v":""},"","",null,null,null,null,null,{"$f":"IF(X1443=\"\",\"\",INDEX(referentes!J:K,MATCH(X1443,referentes!J:J,0),2))","v":""},null,null,""]
["30000401000000",null,0,{"$f":"IF(E1444<>\"\",CONCATENATE(B1444,A1444,DIGITADOR!$M$1,C1444),\"\")","v":""},null,null,"","","",null,1440,"",{"$f":"IF(R1444=R1443,\"\",IF(E1444<>\"\",CONCATENATE(B1444,A1444,DIGITADOR!$M$1,C1444),\"\"))","v":""},null,{"$f":"IF(N1444=\"\",\"\",INDEX(referentes!S:T,MATCH(N1444,referentes!T:T,0),1))","v":""},null,{"$f":"IF(P1444=\"\",\"\",INDEX(referentes!Y:Z,MATCH(P1444,referentes!Z:Z,0),1))","v":""},"","",null,null,null,null,null,{"$f":"IF(X1444=\"\",\"\",INDEX(referentes!J:K,MATCH(X1444,referentes!J:J,0),2))","v":""},null,null,""]
["30000401000000",null,0,{"$f":"IF(E1445<>\"\",CONCATENATE(B1445,A1445,DIGITADOR!$M$1,C1445),\"\")","v":""},null,null,"","","",null,1441,"",{"$f":"IF(R1445=R1444,\"\",IF(E1445<>\"\",CONCATENATE(B1445,A1445,DIGITADOR!$M$1,C1445),\"\"))","v":""},null,{"$f":"IF(N1445=\"\",\"\",INDEX(referentes!S:T,MATCH(N1445,referentes!T:T,0),1))","v":""},null,{"$f":"IF(P1445=\"\",\"\",INDEX(referentes!Y:Z,MATCH(P1445,referentes!Z:Z,0),1))","v":""},"","",null,null,null,null,null,{"$f":"IF(X1445=\"\",\"\",INDEX(referentes!J:K,MATCH(X1445,referentes!J:J,0),2))","v":""},null,null,""]
["30000401000000",null,0,{"$f":"IF(E1446<>\"\",CONCATENATE(B1446,A1446,DIGITADOR!$M$1,C1446),\"\")","v":""},null,null,"","","",null,1442,"",{"$f":"IF(R1446=R1445,\"\",IF(E1446<>\"\",CONCATENATE(B1446,A1446,DIGITADOR!$M$1,C1446),\"\"))","v":""},null,{"$f":"IF(N1446=\"\",\"\",INDEX(referentes!S:T,MATCH(N1446,referentes!T:T,0),1))","v":""},null,{"$f":"IF(P1446=\"\",\"\",INDEX(referentes!Y:Z,MATCH(P1446,referentes!Z:Z,0),1))","v":""},"","",null,null,null,null,null,{"$f":"IF(X1446=\"\",\"\",INDEX(referentes!J:K,MATCH(X1446,referentes!J:J,0),2))","v":""},null,null,""]
["30000401000000",null,0,{"$f":"IF(E1447<>\"\",CONCATENATE(B1447,A1447,DIGITADOR!$M$1,C1447),\"\")","v":""},null,null,"","","",null,1443,"",{"$f":"IF(R1447=R1446,\"\",IF(E1447<>\"\",CONCATENATE(B1447,A1447,DIGITADOR!$M$1,C1447),\"\"))","v":""},null,{"$f":"IF(N1447=\"\",\"\",INDEX(referentes!S:T,MATCH(N1447,referentes!T:T,0),1))","v":""},null,{"$f":"IF(P1447=\"\",\"\",INDEX(referentes!Y:Z,MATCH(P1447,referentes!Z:Z,0),1))","v":""},"","",null,null,null,null,null,{"$f":"IF(X1447=\"\",\"\",INDEX(referentes!J:K,MATCH(X1447,referentes!J:J,0),2))","v":""},null,null,""]
["30000401000000",null,0,{"$f":"IF(E1448<>\"\",CONCATENATE(B1448,A1448,DIGITADOR!$M$1,C1448),\"\")","v":""},null,null,"","","",null,1444,"",{"$f":"IF(R1448=R1447,\"\",IF(E1448<>\"\",CONCATENATE(B1448,A1448,DIGITADOR!$M$1,C1448),\"\"))","v":""},null,{"$f":"IF(N1448=\"\",\"\",INDEX(referentes!S:T,MATCH(N1448,referentes!T:T,0),1))","v":""},null,{"$f":"IF(P1448=\"\",\"\",INDEX(referentes!Y:Z,MATCH(P1448,referentes!Z:Z,0),1))","v":""},"","",null,null,null,null,null,{"$f":"IF(X1448=\"\",\"\",INDEX(referentes!J:K,MATCH(X1448,referentes!J:J,0),2))","v":""},null,null,""]
["30000401000000",null,0,{"$f":"IF(E1449<>\"\",CONCATENATE(B1449,A1449,DIGITADOR!$M$1,C1449),\"\")","v":""},null,null,"","","",null,1445,"",{"$f":"IF(R1449=R1448,\"\",IF(E1449<>\"\",CONCATENATE(B1449,A1449,DIGITADOR!$M$1,C1449),\"\"))","v":""},null,{"$f":"IF(N1449=\"\",\"\",INDEX(referentes!S:T,MATCH(N1449,referentes!T:T,0),1))","v":""},null,{"$f":"IF(P1449=\"\",\"\",INDEX(referentes!Y:Z,MATCH(P1449,referentes!Z:Z,0),1))","v":""},"","",null,null,null,null,null,{"$f":"IF(X1449=\"\",\"\",INDEX(referentes!J:K,MATCH(X1449,referentes!J:J,0),2))","v":""},null,null,""]
["30000401000000",null,0,{"$f":"IF(E1450<>\"\",CONCATENATE(B1450,A1450,DIGITADOR!$M$1,C1450),\"\")","v":""},null,null,"","","",null,1446,"",{"$f":"IF(R1450=R1449,\"\",IF(E1450<>\"\",CONCATENATE(B1450,A1450,DIGITADOR!$M$1,C1450),\"\"))","v":""},null,{"$f":"IF(N1450=\"\",\"\",INDEX(referentes!S:T,MATCH(N1450,referentes!T:T,0),1))","v":""},null,{"$f":"IF(P1450=\"\",\"\",INDEX(referentes!Y:Z,MATCH(P1450,referentes!Z:Z,0),1))","v":""},"","",null,null,null,null,null,{"$f":"IF(X1450=\"\",\"\",INDEX(referentes!J:K,MATCH(X1450,referentes!J:J,0),2))","v":""},null,null,""]
["30000401000000",null,0,{"$f":"IF(E1451<>\"\",CONCATENATE(B1451,A1451,DIGITADOR!$M$1,C1451),\"\")","v":""},null,null,"","","",null,1447,"",{"$f":"IF(R1451=R1450,\"\",IF(E1451<>\"\",CONCATENATE(B1451,A1451,DIGITADOR!$M$1,C1451),\"\"))","v":""},null,{"$f":"IF(N1451=\"\",\"\",INDEX(referentes!S:T,MATCH(N1451,referentes!T:T,0),1))","v":""},null,{"$f":"IF(P1451=\"\",\"\",INDEX(referentes!Y:Z,MATCH(P1451,referentes!Z:Z,0),1))","v":""},"","",null,null,null,null,null,{"$f":"IF(X1451=\"\",\"\",INDEX(referentes!J:K,MATCH(X1451,referentes!J:J,0),2))","v":""},null,null,""]
["30000401000000",null,0,{"$f":"IF(E1452<>\"\",CONCATENATE(B1452,A1452,DIGITADOR!$M$1,C1452),\"\")","v":""},null,null,"","","",null,1448,"",{"$f":"IF(R1452=R1451,\"\",IF(E1452<>\"\",CONCATENATE(B1452,A1452,DIGITADOR!$M$1,C1452),\"\"))","v":""},null,{"$f":"IF(N1452=\"\",\"\",INDEX(referentes!S:T,MATCH(N1452,referentes!T:T,0),1))","v":""},null,{"$f":"IF(P1452=\"\",\"\",INDEX(referentes!Y:Z,MATCH(P1452,referentes!Z:Z,0),1))","v":""},"","",null,null,null,null,null,{"$f":"IF(X1452=\"\",\"\",INDEX(referentes!J:K,MATCH(X1452,referentes!J:J,0),2))","v":""},null,null,""]
["30000401000000",null,0,{"$f":"IF(E1453<>\"\",CONCATENATE(B1453,A1453,DIGITADOR!$M$1,C1453),\"\")","v":""},null,null,"","","",null,1449,"",{"$f":"IF(R1453=R1452,\"\",IF(E1453<>\"\",CONCATENATE(B1453,A1453,DIGITADOR!$M$1,C1453),\"\"))","v":""},null,{"$f":"IF(N1453=\"\",\"\",INDEX(referentes!S:T,MATCH(N1453,referentes!T:T,0),1))","v":""},null,{"$f":"IF(P1453=\"\",\"\",INDEX(referentes!Y:Z,MATCH(P1453,referentes!Z:Z,0),1))","v":""},"","",null,null,null,null,null,{"$f":"IF(X1453=\"\",\"\",INDEX(referentes!J:K,MATCH(X1453,referentes!J:J,0),2))","v":""},null,null,""]
["30000401000000",null,0,{"$f":"IF(E1454<>\"\",CONCATENATE(B1454,A1454,DIGITADOR!$M$1,C1454),\"\")","v":""},null,null,"","","",null,1450,"",{"$f":"IF(R1454=R1453,\"\",IF(E1454<>\"\",CONCATENATE(B1454,A1454,DIGITADOR!$M$1,C1454),\"\"))","v":""},null,{"$f":"IF(N1454=\"\",\"\",INDEX(referentes!S:T,MATCH(N1454,referentes!T:T,0),1))","v":""},null,{"$f":"IF(P1454=\"\",\"\",INDEX(referentes!Y:Z,MATCH(P1454,referentes!Z:Z,0),1))","v":""},"","",null,null,null,null,null,{"$f":"IF(X1454=\"\",\"\",INDEX(referentes!J:K,MATCH(X1454,referentes!J:J,0),2))","v":""},null,null,""]
["30000401000000",null,0,{"$f":"IF(E1455<>\"\",CONCATENATE(B1455,A1455,DIGITADOR!$M$1,C1455),\"\")","v":""},null,null,"","","",null,1451,"",{"$f":"IF(R1455=R1454,\"\",IF(E1455<>\"\",CONCATENATE(B1455,A1455,DIGITADOR!$M$1,C1455),\"\"))","v":""},null,{"$f":"IF(N1455=\"\",\"\",INDEX(referentes!S:T,MATCH(N1455,referentes!T:T,0),1))","v":""},null,{"$f":"IF(P1455=\"\",\"\",INDEX(referentes!Y:Z,MATCH(P1455,referentes!Z:Z,0),1))","v":""},"","",null,null,null,null,null,{"$f":"IF(X1455=\"\",\"\",INDEX(referentes!J:K,MATCH(X1455,referentes!J:J,0),2))","v":""},null,null,""]
["30000401000000",null,0,{"$f":"IF(E1456<>\"\",CONCATENATE(B1456,A1456,DIGITADOR!$M$1,C1456),\"\")","v":""},null,null,"","","",null,1452,"",{"$f":"IF(R1456=R1455,\"\",IF(E1456<>\"\",CONCATENATE(B1456,A1456,DIGITADOR!$M$1,C1456),\"\"))","v":""},null,{"$f":"IF(N1456=\"\",\"\",INDEX(referentes!S:T,MATCH(N1456,referentes!T:T,0),1))","v":""},null,{"$f":"IF(P1456=\"\",\"\",INDEX(referentes!Y:Z,MATCH(P1456,referentes!Z:Z,0),1))","v":""},"","",null,null,null,null,null,{"$f":"IF(X1456=\"\",\"\",INDEX(referentes!J:K,MATCH(X1456,referentes!J:J,0),2))","v":""},null,null,""]
["30000401000000",null,0,{"$f":"IF(E1457<>\"\",CONCATENATE(B1457,A1457,DIGITADOR!$M$1,C1457),\"\")","v":""},null,null,"","","",null,1453,"",{"$f":"IF(R1457=R1456,\"\",IF(E1457<>\"\",CONCATENATE(B1457,A1457,DIGITADOR!$M$1,C1457),\"\"))","v":""},null,{"$f":"IF(N1457=\"\",\"\",INDEX(referentes!S:T,MATCH(N1457,referentes!T:T,0),1))","v":""},null,{"$f":"IF(P1457=\"\",\"\",INDEX(referentes!Y:Z,MATCH(P1457,referentes!Z:Z,0),1))","v":""},"","",null,null,null,null,null,{"$f":"IF(X1457=\"\",\"\",INDEX(referentes!J:K,MATCH(X1457,referentes!J:J,0),2))","v":""},null,null,""]
["30000401000000",null,0,{"$f":"IF(E1458<>\"\",CONCATENATE(B1458,A1458,DIGITADOR!$M$1,C1458),\"\")","v":""},null,null,"","","",null,1454,"",{"$f":"IF(R1458=R1457,\"\",IF(E1458<>\"\",CONCATENATE(B1458,A1458,DIGITADOR!$M$1,C1458),\"\"))","v":""},null,{"$f":"IF(N1458=\"\",\"\",INDEX(referentes!S:T,MATCH(N1458,referentes!T:T,0),1))","v":""},null,{"$f":"IF(P1458=\"\",\"\",INDEX(referentes!Y:Z,MATCH(P1458,referentes!Z:Z,0),1))","v":""},"","",null,null,null,null,null,{"$f":"IF(X1458=\"\",\"\",INDEX(referentes!J:K,MATCH(X1458,referentes!J:J,0),2))","v":""},null,null,""]
["30000401000000",null,0,{"$f":"IF(E1459<>\"\",CONCATENATE(B1459,A1459,DIGITADOR!$M$1,C1459),\"\")","v":""},null,null,"","","",null,1455,"",{"$f":"IF(R1459=R1458,\"\",IF(E1459<>\"\",CONCATENATE(B1459,A1459,DIGITADOR!$M$1,C1459),\"\"))","v":""},null,{"$f":"IF(N1459=\"\",\"\",INDEX(referentes!S:T,MATCH(N1459,referentes!T:T,0),1))","v":""},null,{"$f":"IF(P1459=\"\",\"\",INDEX(referentes!Y:Z,MATCH(P1459,referentes!Z:Z,0),1))","v":""},"","",null,null,null,null,null,{"$f":"IF(X1459=\"\",\"\",INDEX(referentes!J:K,MATCH(X1459,referentes!J:J,0),2))","v":""},null,null,""]
["30000401000000",null,0,{"$f":"IF(E1460<>\"\",CONCATENATE(B1460,A1460,DIGITADOR!$M$1,C1460),\"\")","v":""},null,null,"","","",null,1456,"",{"$f":"IF(R1460=R1459,\"\",IF(E1460<>\"\",CONCATENATE(B1460,A1460,DIGITADOR!$M$1,C1460),\"\"))","v":""},null,{"$f":"IF(N1460=\"\",\"\",INDEX(referentes!S:T,MATCH(N1460,referentes!T:T,0),1))","v":""},null,{"$f":"IF(P1460=\"\",\"\",INDEX(referentes!Y:Z,MATCH(P1460,referentes!Z:Z,0),1))","v":""},"","",null,null,null,null,null,{"$f":"IF(X1460=\"\",\"\",INDEX(referentes!J:K,MATCH(X1460,referentes!J:J,0),2))","v":""},null,null,""]
["30000401000000",null,0,{"$f":"IF(E1461<>\"\",CONCATENATE(B1461,A1461,DIGITADOR!$M$1,C1461),\"\")","v":""},null,null,"","","",null,1457,"",{"$f":"IF(R1461=R1460,\"\",IF(E1461<>\"\",CONCATENATE(B1461,A1461,DIGITADOR!$M$1,C1461),\"\"))","v":""},null,{"$f":"IF(N1461=\"\",\"\",INDEX(referentes!S:T,MATCH(N1461,referentes!T:T,0),1))","v":""},null,{"$f":"IF(P1461=\"\",\"\",INDEX(referentes!Y:Z,MATCH(P1461,referentes!Z:Z,0),1))","v":""},"","",null,null,null,null,null,{"$f":"IF(X1461=\"\",\"\",INDEX(referentes!J:K,MATCH(X1461,referentes!J:J,0),2))","v":""},null,null,""]
["30000401000000",null,0,{"$f":"IF(E1462<>\"\",CONCATENATE(B1462,A1462,DIGITADOR!$M$1,C1462),\"\")","v":""},null,null,"","","",null,1458,"",{"$f":"IF(R1462=R1461,\"\",IF(E1462<>\"\",CONCATENATE(B1462,A1462,DIGITADOR!$M$1,C1462),\"\"))","v":""},null,{"$f":"IF(N1462=\"\",\"\",INDEX(referentes!S:T,MATCH(N1462,referentes!T:T,0),1))","v":""},null,{"$f":"IF(P1462=\"\",\"\",INDEX(referentes!Y:Z,MATCH(P1462,referentes!Z:Z,0),1))","v":""},"","",null,null,null,null,null,{"$f":"IF(X1462=\"\",\"\",INDEX(referentes!J:K,MATCH(X1462,referentes!J:J,0),2))","v":""},null,null,""]
["30000401000000",null,0,{"$f":"IF(E1463<>\"\",CONCATENATE(B1463,A1463,DIGITADOR!$M$1,C1463),\"\")","v":""},null,null,"","","",null,1459,"",{"$f":"IF(R1463=R1462,\"\",IF(E1463<>\"\",CONCATENATE(B1463,A1463,DIGITADOR!$M$1,C1463),\"\"))","v":""},null,{"$f":"IF(N1463=\"\",\"\",INDEX(referentes!S:T,MATCH(N1463,referentes!T:T,0),1))","v":""},null,{"$f":"IF(P1463=\"\",\"\",INDEX(referentes!Y:Z,MATCH(P1463,referentes!Z:Z,0),1))","v":""},"","",null,null,null,null,null,{"$f":"IF(X1463=\"\",\"\",INDEX(referentes!J:K,MATCH(X1463,referentes!J:J,0),2))","v":""},null,null,""]
["30000401000000",null,0,{"$f":"IF(E1464<>\"\",CONCATENATE(B1464,A1464,DIGITADOR!$M$1,C1464),\"\")","v":""},null,null,"","","",null,1460,"",{"$f":"IF(R1464=R1463,\"\",IF(E1464<>\"\",CONCATENATE(B1464,A1464,DIGITADOR!$M$1,C1464),\"\"))","v":""},null,{"$f":"IF(N1464=\"\",\"\",INDEX(referentes!S:T,MATCH(N1464,referentes!T:T,0),1))","v":""},null,{"$f":"IF(P1464=\"\",\"\",INDEX(referentes!Y:Z,MATCH(P1464,referentes!Z:Z,0),1))","v":""},"","",null,null,null,null,null,{"$f":"IF(X1464=\"\",\"\",INDEX(referentes!J:K,MATCH(X1464,referentes!J:J,0),2))","v":""},null,null,""]
["30000401000000",null,0,{"$f":"IF(E1465<>\"\",CONCATENATE(B1465,A1465,DIGITADOR!$M$1,C1465),\"\")","v":""},null,null,"","","",null,1461,"",{"$f":"IF(R1465=R1464,\"\",IF(E1465<>\"\",CONCATENATE(B1465,A1465,DIGITADOR!$M$1,C1465),\"\"))","v":""},null,{"$f":"IF(N1465=\"\",\"\",INDEX(referentes!S:T,MATCH(N1465,referentes!T:T,0),1))","v":""},null,{"$f":"IF(P1465=\"\",\"\",INDEX(referentes!Y:Z,MATCH(P1465,referentes!Z:Z,0),1))","v":""},"","",null,null,null,null,null,{"$f":"IF(X1465=\"\",\"\",INDEX(referentes!J:K,MATCH(X1465,referentes!J:J,0),2))","v":""},null,null,""]
["30000401000000",null,0,{"$f":"IF(E1466<>\"\",CONCATENATE(B1466,A1466,DIGITADOR!$M$1,C1466),\"\")","v":""},null,null,"","","",null,1462,"",{"$f":"IF(R1466=R1465,\"\",IF(E1466<>\"\",CONCATENATE(B1466,A1466,DIGITADOR!$M$1,C1466),\"\"))","v":""},null,{"$f":"IF(N1466=\"\",\"\",INDEX(referentes!S:T,MATCH(N1466,referentes!T:T,0),1))","v":""},null,{"$f":"IF(P1466=\"\",\"\",INDEX(referentes!Y:Z,MATCH(P1466,referentes!Z:Z,0),1))","v":""},"","",null,null,null,null,null,{"$f":"IF(X1466=\"\",\"\",INDEX(referentes!J:K,MATCH(X1466,referentes!J:J,0),2))","v":""},null,null,""]
["30000401000000",null,0,{"$f":"IF(E1467<>\"\",CONCATENATE(B1467,A1467,DIGITADOR!$M$1,C1467),\"\")","v":""},null,null,"","","",null,1463,"",{"$f":"IF(R1467=R1466,\"\",IF(E1467<>\"\",CONCATENATE(B1467,A1467,DIGITADOR!$M$1,C1467),\"\"))","v":""},null,{"$f":"IF(N1467=\"\",\"\",INDEX(referentes!S:T,MATCH(N1467,referentes!T:T,0),1))","v":""},null,{"$f":"IF(P1467=\"\",\"\",INDEX(referentes!Y:Z,MATCH(P1467,referentes!Z:Z,0),1))","v":""},"","",null,null,null,null,null,{"$f":"IF(X1467=\"\",\"\",INDEX(referentes!J:K,MATCH(X1467,referentes!J:J,0),2))","v":""},null,null,""]
["30000401000000",null,0,{"$f":"IF(E1468<>\"\",CONCATENATE(B1468,A1468,DIGITADOR!$M$1,C1468),\"\")","v":""},null,null,"","","",null,1464,"",{"$f":"IF(R1468=R1467,\"\",IF(E1468<>\"\",CONCATENATE(B1468,A1468,DIGITADOR!$M$1,C1468),\"\"))","v":""},null,{"$f":"IF(N1468=\"\",\"\",INDEX(referentes!S:T,MATCH(N1468,referentes!T:T,0),1))","v":""},null,{"$f":"IF(P1468=\"\",\"\",INDEX(referentes!Y:Z,MATCH(P1468,referentes!Z:Z,0),1))","v":""},"","",null,null,null,null,null,{"$f":"IF(X1468=\"\",\"\",INDEX(referentes!J:K,MATCH(X1468,referentes!J:J,0),2))","v":""},null,null,""]
["30000401000000",null,0,{"$f":"IF(E1469<>\"\",CONCATENATE(B1469,A1469,DIGITADOR!$M$1,C1469),\"\")","v":""},null,null,"","","",null,1465,"",{"$f":"IF(R1469=R1468,\"\",IF(E1469<>\"\",CONCATENATE(B1469,A1469,DIGITADOR!$M$1,C1469),\"\"))","v":""},null,{"$f":"IF(N1469=\"\",\"\",INDEX(referentes!S:T,MATCH(N1469,referentes!T:T,0),1))","v":""},null,{"$f":"IF(P1469=\"\",\"\",INDEX(referentes!Y:Z,MATCH(P1469,referentes!Z:Z,0),1))","v":""},"","",null,null,null,null,null,{"$f":"IF(X1469=\"\",\"\",INDEX(referentes!J:K,MATCH(X1469,referentes!J:J,0),2))","v":""},null,null,""]
["30000401000000",null,0,{"$f":"IF(E1470<>\"\",CONCATENATE(B1470,A1470,DIGITADOR!$M$1,C1470),\"\")","v":""},null,null,"","","",null,1466,"",{"$f":"IF(R1470=R1469,\"\",IF(E1470<>\"\",CONCATENATE(B1470,A1470,DIGITADOR!$M$1,C1470),\"\"))","v":""},null,{"$f":"IF(N1470=\"\",\"\",INDEX(referentes!S:T,MATCH(N1470,referentes!T:T,0),1))","v":""},null,{"$f":"IF(P1470=\"\",\"\",INDEX(referentes!Y:Z,MATCH(P1470,referentes!Z:Z,0),1))","v":""},"","",null,null,null,null,null,{"$f":"IF(X1470=\"\",\"\",INDEX(referentes!J:K,MATCH(X1470,referentes!J:J,0),2))","v":""},null,null,""]
["30000401000000",null,0,{"$f":"IF(E1471<>\"\",CONCATENATE(B1471,A1471,DIGITADOR!$M$1,C1471),\"\")","v":""},null,null,"","","",null,1467,"",{"$f":"IF(R1471=R1470,\"\",IF(E1471<>\"\",CONCATENATE(B1471,A1471,DIGITADOR!$M$1,C1471),\"\"))","v":""},null,{"$f":"IF(N1471=\"\",\"\",INDEX(referentes!S:T,MATCH(N1471,referentes!T:T,0),1))","v":""},null,{"$f":"IF(P1471=\"\",\"\",INDEX(referentes!Y:Z,MATCH(P1471,referentes!Z:Z,0),1))","v":""},"","",null,null,null,null,null,{"$f":"IF(X1471=\"\",\"\",INDEX(referentes!J:K,MATCH(X1471,referentes!J:J,0),2))","v":""},null,null,""]
["30000401000000",null,0,{"$f":"IF(E1472<>\"\",CONCATENATE(B1472,A1472,DIGITADOR!$M$1,C1472),\"\")","v":""},null,null,"","","",null,1468,"",{"$f":"IF(R1472=R1471,\"\",IF(E1472<>\"\",CONCATENATE(B1472,A1472,DIGITADOR!$M$1,C1472),\"\"))","v":""},null,{"$f":"IF(N1472=\"\",\"\",INDEX(referentes!S:T,MATCH(N1472,referentes!T:T,0),1))","v":""},null,{"$f":"IF(P1472=\"\",\"\",INDEX(referentes!Y:Z,MATCH(P1472,referentes!Z:Z,0),1))","v":""},"","",null,null,null,null,null,{"$f":"IF(X1472=\"\",\"\",INDEX(referentes!J:K,MATCH(X1472,referentes!J:J,0),2))","v":""},null,null,""]
["30000401000000",null,0,{"$f":"IF(E1473<>\"\",CONCATENATE(B1473,A1473,DIGITADOR!$M$1,C1473),\"\")","v":""},null,null,"","","",null,1469,"",{"$f":"IF(R1473=R1472,\"\",IF(E1473<>\"\",CONCATENATE(B1473,A1473,DIGITADOR!$M$1,C1473),\"\"))","v":""},null,{"$f":"IF(N1473=\"\",\"\",INDEX(referentes!S:T,MATCH(N1473,referentes!T:T,0),1))","v":""},null,{"$f":"IF(P1473=\"\",\"\",INDEX(referentes!Y:Z,MATCH(P1473,referentes!Z:Z,0),1))","v":""},"","",null,null,null,null,null,{"$f":"IF(X1473=\"\",\"\",INDEX(referentes!J:K,MATCH(X1473,referentes!J:J,0),2))","v":""},null,null,""]
["30000401000000",null,0,{"$f":"IF(E1474<>\"\",CONCATENATE(B1474,A1474,DIGITADOR!$M$1,C1474),\"\")","v":""},null,null,"","","",null,1470,"",{"$f":"IF(R1474=R1473,\"\",IF(E1474<>\"\",CONCATENATE(B1474,A1474,DIGITADOR!$M$1,C1474),\"\"))","v":""},null,{"$f":"IF(N1474=\"\",\"\",INDEX(referentes!S:T,MATCH(N1474,referentes!T:T,0),1))","v":""},null,{"$f":"IF(P1474=\"\",\"\",INDEX(referentes!Y:Z,MATCH(P1474,referentes!Z:Z,0),1))","v":""},"","",null,null,null,null,null,{"$f":"IF(X1474=\"\",\"\",INDEX(referentes!J:K,MATCH(X1474,referentes!J:J,0),2))","v":""},null,null,""]
["30000401000000",null,0,{"$f":"IF(E1475<>\"\",CONCATENATE(B1475,A1475,DIGITADOR!$M$1,C1475),\"\")","v":""},null,null,"","","",null,1471,"",{"$f":"IF(R1475=R1474,\"\",IF(E1475<>\"\",CONCATENATE(B1475,A1475,DIGITADOR!$M$1,C1475),\"\"))","v":""},null,{"$f":"IF(N1475=\"\",\"\",INDEX(referentes!S:T,MATCH(N1475,referentes!T:T,0),1))","v":""},null,{"$f":"IF(P1475=\"\",\"\",INDEX(referentes!Y:Z,MATCH(P1475,referentes!Z:Z,0),1))","v":""},"","",null,null,null,null,null,{"$f":"IF(X1475=\"\",\"\",INDEX(referentes!J:K,MATCH(X1475,referentes!J:J,0),2))","v":""},null,null,""]
["30000401000000",null,0,{"$f":"IF(E1476<>\"\",CONCATENATE(B1476,A1476,DIGITADOR!$M$1,C1476),\"\")","v":""},null,null,"","","",null,1472,"",{"$f":"IF(R1476=R1475,\"\",IF(E1476<>\"\",CONCATENATE(B1476,A1476,DIGITADOR!$M$1,C1476),\"\"))","v":""},null,{"$f":"IF(N1476=\"\",\"\",INDEX(referentes!S:T,MATCH(N1476,referentes!T:T,0),1))","v":""},null,{"$f":"IF(P1476=\"\",\"\",INDEX(referentes!Y:Z,MATCH(P1476,referentes!Z:Z,0),1))","v":""},"","",null,null,null,null,null,{"$f":"IF(X1476=\"\",\"\",INDEX(referentes!J:K,MATCH(X1476,referentes!J:J,0),2))","v":""},null,null,""]
["30000401000000",null,{"$f":"IF(R1477=R1476,C1476,C1476+1)","v":0},{"$f":"IF(E1477<>\"\",CONCATENATE(B1477,A1477,DIGITADOR!$M$1,C1477),\"\")","v":""},null,null,"","","",null,1473,"",{"$f":"IF(R1477=R1476,\"\",IF(E1477<>\"\",CONCATENATE(B1477,A1477,DIGITADOR!$M$1,C1477),\"\"))","v":""},null,{"$f":"IF(N1477=\"\",\"\",INDEX(referentes!S:T,MATCH(N1477,referentes!T:T,0),1))","v":""},null,{"$f":"IF(P1477=\"\",\"\",INDEX(referentes!Y:Z,MATCH(P1477,referentes!Z:Z,0),1))","v":""},"","",null,null,null,null,null,{"$f":"IF(X1477=\"\",\"\",INDEX(referentes!J:K,MATCH(X1477,referentes!J:J,0),2))","v":""},null,null,""]
["30000401000000",null,0,{"$f":"IF(E1478<>\"\",CONCATENATE(B1478,A1478,DIGITADOR!$M$1,C1478),\"\")","v":""},null,null,{"$f":"IF(E1478=\"\", \"\", (E1478+F1478))","v":""},{"$f":"IF(G1478<>\"\",MONTH(G1478),\"\")","v":""},{"$f":"IF(D1478=\"\",\"\",1)","v":""},null,1474,{"$f":"IF(E1478=\"\",\"\",CONCATENATE(D1478,K1478))","v":""},{"$f":"IF(R1478=R1477,\"\",IF(E1478<>\"\",CONCATENATE(B1478,A1478,DIGITADOR!$M$1,C1478),\"\"))","v":""},null,{"$f":"IF(N1478=\"\",\"\",INDEX(referentes!S:T,MATCH(N1478,referentes!T:T,0),1))","v":""},null,{"$f":"IF(P1478=\"\",\"\",INDEX(referentes!Y:Z,MATCH(P1478,referentes!Z:Z,0),1))","v":""},{"$f":"IF(G1478=\"\",\"\",CONCATENATE(G1478,O1478,Q1478))","v":""},{"$f":"IF(E1478=\"\",\"\",\"INVEMAR\")","v":""},null,null,null,null,null,{"$f":"IF(X1478=\"\",\"\",INDEX(referentes!J:K,MATCH(X1478,referentes!J:J,0),2))","v":""},null,null,{"$f":"IF(T1478=\"\",\"\",IF(T1478=T1477,AB1477,AA1478))","v":""}]
[{"$f":"A1478","v":"30000401000000"},null,0,{"$f":"IF(E1479<>\"\",CONCATENATE(B1479,A1479,DIGITADOR!$M$1,C1479),\"\")","v":""},null,null,"","","",null,1475,"",{"$f":"IF(R1479=R1478,\"\",IF(E1479<>\"\",CONCATENATE(B1479,A1479,DIGITADOR!$M$1,C1479),\"\"))","v":""},null,{"$f":"IF(N1479=\"\",\"\",INDEX(referentes!S:T,MATCH(N1479,referentes!T:T,0),1))","v":""},null,{"$f":"IF(P1479=\"\",\"\",INDEX(referentes!Y:Z,MATCH(P1479,referentes!Z:Z,0),1))","v":""},"","",null,null,null,null,null,{"$f":"IF(X1479=\"\",\"\",INDEX(referentes!J:K,MATCH(X1479,referentes!J:J,0),2))","v":""},null,null,""]
["30000401000000",null,0,{"$f":"IF(E1480<>\"\",CONCATENATE(B1480,A1480,DIGITADOR!$M$1,C1480),\"\")","v":""},null,null,"","","",null,1476,"",{"$f":"IF(R1480=R1479,\"\",IF(E1480<>\"\",CONCATENATE(B1480,A1480,DIGITADOR!$M$1,C1480),\"\"))","v":""},null,{"$f":"IF(N1480=\"\",\"\",INDEX(referentes!S:T,MATCH(N1480,referentes!T:T,0),1))","v":""},null,{"$f":"IF(P1480=\"\",\"\",INDEX(referentes!Y:Z,MATCH(P1480,referentes!Z:Z,0),1))","v":""},"","",null,null,null,null,null,{"$f":"IF(X1480=\"\",\"\",INDEX(referentes!J:K,MATCH(X1480,referentes!J:J,0),2))","v":""},null,null,""]
["30000401000000",null,0,{"$f":"IF(E1481<>\"\",CONCATENATE(B1481,A1481,DIGITADOR!$M$1,C1481),\"\")","v":""},null,null,"","","",null,1477,"",{"$f":"IF(R1481=R1480,\"\",IF(E1481<>\"\",CONCATENATE(B1481,A1481,DIGITADOR!$M$1,C1481),\"\"))","v":""},null,{"$f":"IF(N1481=\"\",\"\",INDEX(referentes!S:T,MATCH(N1481,referentes!T:T,0),1))","v":""},null,{"$f":"IF(P1481=\"\",\"\",INDEX(referentes!Y:Z,MATCH(P1481,referentes!Z:Z,0),1))","v":""},"","",null,null,null,null,null,{"$f":"IF(X1481=\"\",\"\",INDEX(referentes!J:K,MATCH(X1481,referentes!J:J,0),2))","v":""},null,null,""]
["30000401000000",null,0,{"$f":"IF(E1482<>\"\",CONCATENATE(B1482,A1482,DIGITADOR!$M$1,C1482),\"\")","v":""},null,null,"","","",null,1478,"",{"$f":"IF(R1482=R1481,\"\",IF(E1482<>\"\",CONCATENATE(B1482,A1482,DIGITADOR!$M$1,C1482),\"\"))","v":""},null,{"$f":"IF(N1482=\"\",\"\",INDEX(referentes!S:T,MATCH(N1482,referentes!T:T,0),1))","v":""},null,{"$f":"IF(P1482=\"\",\"\",INDEX(referentes!Y:Z,MATCH(P1482,referentes!Z:Z,0),1))","v":""},"","",null,null,null,null,null,{"$f":"IF(X1482=\"\",\"\",INDEX(referentes!J:K,MATCH(X1482,referentes!J:J,0),2))","v":""},null,null,""]
["30000401000000",null,0,{"$f":"IF(E1483<>\"\",CONCATENATE(B1483,A1483,DIGITADOR!$M$1,C1483),\"\")","v":""},null,null,"","","",null,1479,"",{"$f":"IF(R1483=R1482,\"\",IF(E1483<>\"\",CONCATENATE(B1483,A1483,DIGITADOR!$M$1,C1483),\"\"))","v":""},null,{"$f":"IF(N1483=\"\",\"\",INDEX(referentes!S:T,MATCH(N1483,referentes!T:T,0),1))","v":""},null,{"$f":"IF(P1483=\"\",\"\",INDEX(referentes!Y:Z,MATCH(P1483,referentes!Z:Z,0),1))","v":""},"","",null,null,null,null,null,{"$f":"IF(X1483=\"\",\"\",INDEX(referentes!J:K,MATCH(X1483,referentes!J:J,0),2))","v":""},null,null,""]
["30000401000000",null,0,{"$f":"IF(E1484<>\"\",CONCATENATE(B1484,A1484,DIGITADOR!$M$1,C1484),\"\")","v":""},null,null,"","","",null,1480,"",{"$f":"IF(R1484=R1483,\"\",IF(E1484<>\"\",CONCATENATE(B1484,A1484,DIGITADOR!$M$1,C1484),\"\"))","v":""},null,{"$f":"IF(N1484=\"\",\"\",INDEX(referentes!S:T,MATCH(N1484,referentes!T:T,0),1))","v":""},null,{"$f":"IF(P1484=\"\",\"\",INDEX(referentes!Y:Z,MATCH(P1484,referentes!Z:Z,0),1))","v":""},"","",null,null,null,null,null,{"$f":"IF(X1484=\"\",\"\",INDEX(referentes!J:K,MATCH(X1484,referentes!J:J,0),2))","v":""},null,null,""]
["30000401000000",null,0,{"$f":"IF(E1485<>\"\",CONCATENATE(B1485,A1485,DIGITADOR!$M$1,C1485),\"\")","v":""},null,null,"","","",null,1481,"",{"$f":"IF(R1485=R1484,\"\",IF(E1485<>\"\",CONCATENATE(B1485,A1485,DIGITADOR!$M$1,C1485),\"\"))","v":""},null,{"$f":"IF(N1485=\"\",\"\",INDEX(referentes!S:T,MATCH(N1485,referentes!T:T,0),1))","v":""},null,{"$f":"IF(P1485=\"\",\"\",INDEX(referentes!Y:Z,MATCH(P1485,referentes!Z:Z,0),1))","v":""},"","",null,null,null,null,null,{"$f":"IF(X1485=\"\",\"\",INDEX(referentes!J:K,MATCH(X1485,referentes!J:J,0),2))","v":""},null,null,""]
["30000401000000",null,0,{"$f":"IF(E1486<>\"\",CONCATENATE(B1486,A1486,DIGITADOR!$M$1,C1486),\"\")","v":""},null,null,"","","",null,1482,"",{"$f":"IF(R1486=R1485,\"\",IF(E1486<>\"\",CONCATENATE(B1486,A1486,DIGITADOR!$M$1,C1486),\"\"))","v":""},null,{"$f":"IF(N1486=\"\",\"\",INDEX(referentes!S:T,MATCH(N1486,referentes!T:T,0),1))","v":""},null,{"$f":"IF(P1486=\"\",\"\",INDEX(referentes!Y:Z,MATCH(P1486,referentes!Z:Z,0),1))","v":""},"","",null,null,null,null,null,{"$f":"IF(X1486=\"\",\"\",INDEX(referentes!J:K,MATCH(X1486,referentes!J:J,0),2))","v":""},null,null,""]
["30000401000000",null,0,{"$f":"IF(E1487<>\"\",CONCATENATE(B1487,A1487,DIGITADOR!$M$1,C1487),\"\")","v":""},null,null,"","","",null,1483,"",{"$f":"IF(R1487=R1486,\"\",IF(E1487<>\"\",CONCATENATE(B1487,A1487,DIGITADOR!$M$1,C1487),\"\"))","v":""},null,{"$f":"IF(N1487=\"\",\"\",INDEX(referentes!S:T,MATCH(N1487,referentes!T:T,0),1))","v":""},null,{"$f":"IF(P1487=\"\",\"\",INDEX(referentes!Y:Z,MATCH(P1487,referentes!Z:Z,0),1))","v":""},"","",null,null,null,null,null,{"$f":"IF(X1487=\"\",\"\",INDEX(referentes!J:K,MATCH(X1487,referentes!J:J,0),2))","v":""},null,null,""]
["30000401000000",null,0,{"$f":"IF(E1488<>\"\",CONCATENATE(B1488,A1488,DIGITADOR!$M$1,C1488),\"\")","v":""},null,null,"","","",null,1484,"",{"$f":"IF(R1488=R1487,\"\",IF(E1488<>\"\",CONCATENATE(B1488,A1488,DIGITADOR!$M$1,C1488),\"\"))","v":""},null,{"$f":"IF(N1488=\"\",\"\",INDEX(referentes!S:T,MATCH(N1488,referentes!T:T,0),1))","v":""},null,{"$f":"IF(P1488=\"\",\"\",INDEX(referentes!Y:Z,MATCH(P1488,referentes!Z:Z,0),1))","v":""},"","",null,null,null,null,null,{"$f":"IF(X1488=\"\",\"\",INDEX(referentes!J:K,MATCH(X1488,referentes!J:J,0),2))","v":""},null,null,""]
["30000401000000",null,0,{"$f":"IF(E1489<>\"\",CONCATENATE(B1489,A1489,DIGITADOR!$M$1,C1489),\"\")","v":""},null,null,"","","",null,1485,"",{"$f":"IF(R1489=R1488,\"\",IF(E1489<>\"\",CONCATENATE(B1489,A1489,DIGITADOR!$M$1,C1489),\"\"))","v":""},null,{"$f":"IF(N1489=\"\",\"\",INDEX(referentes!S:T,MATCH(N1489,referentes!T:T,0),1))","v":""},null,{"$f":"IF(P1489=\"\",\"\",INDEX(referentes!Y:Z,MATCH(P1489,referentes!Z:Z,0),1))","v":""},"","",null,null,null,null,null,{"$f":"IF(X1489=\"\",\"\",INDEX(referentes!J:K,MATCH(X1489,referentes!J:J,0),2))","v":""},null,null,""]
["30000401000000",null,0,{"$f":"IF(E1490<>\"\",CONCATENATE(B1490,A1490,DIGITADOR!$M$1,C1490),\"\")","v":""},null,null,"","","",null,1486,"",{"$f":"IF(R1490=R1489,\"\",IF(E1490<>\"\",CONCATENATE(B1490,A1490,DIGITADOR!$M$1,C1490),\"\"))","v":""},null,{"$f":"IF(N1490=\"\",\"\",INDEX(referentes!S:T,MATCH(N1490,referentes!T:T,0),1))","v":""},null,{"$f":"IF(P1490=\"\",\"\",INDEX(referentes!Y:Z,MATCH(P1490,referentes!Z:Z,0),1))","v":""},"","",null,null,null,null,null,{"$f":"IF(X1490=\"\",\"\",INDEX(referentes!J:K,MATCH(X1490,referentes!J:J,0),2))","v":""},null,null,""]
["30000401000000",null,0,{"$f":"IF(E1491<>\"\",CONCATENATE(B1491,A1491,DIGITADOR!$M$1,C1491),\"\")","v":""},null,null,"","","",null,1487,"",{"$f":"IF(R1491=R1490,\"\",IF(E1491<>\"\",CONCATENATE(B1491,A1491,DIGITADOR!$M$1,C1491),\"\"))","v":""},null,{"$f":"IF(N1491=\"\",\"\",INDEX(referentes!S:T,MATCH(N1491,referentes!T:T,0),1))","v":""},null,{"$f":"IF(P1491=\"\",\"\",INDEX(referentes!Y:Z,MATCH(P1491,referentes!Z:Z,0),1))","v":""},"","",null,null,null,null,null,{"$f":"IF(X1491=\"\",\"\",INDEX(referentes!J:K,MATCH(X1491,referentes!J:J,0),2))","v":""},null,null,""]
["30000401000000",null,0,{"$f":"IF(E1492<>\"\",CONCATENATE(B1492,A1492,DIGITADOR!$M$1,C1492),\"\")","v":""},null,null,"","","",null,1488,"",{"$f":"IF(R1492=R1491,\"\",IF(E1492<>\"\",CONCATENATE(B1492,A1492,DIGITADOR!$M$1,C1492),\"\"))","v":""},null,{"$f":"IF(N1492=\"\",\"\",INDEX(referentes!S:T,MATCH(N1492,referentes!T:T,0),1))","v":""},null,{"$f":"IF(P1492=\"\",\"\",INDEX(referentes!Y:Z,MATCH(P1492,referentes!Z:Z,0),1))","v":""},"","",null,null,null,null,null,{"$f":"IF(X1492=\"\",\"\",INDEX(referentes!J:K,MATCH(X1492,referentes!J:J,0),2))","v":""},null,null,""]
["30000401000000",null,0,{"$f":"IF(E1493<>\"\",CONCATENATE(B1493,A1493,DIGITADOR!$M$1,C1493),\"\")","v":""},null,null,"","","",null,1489,"",{"$f":"IF(R1493=R1492,\"\",IF(E1493<>\"\",CONCATENATE(B1493,A1493,DIGITADOR!$M$1,C1493),\"\"))","v":""},null,{"$f":"IF(N1493=\"\",\"\",INDEX(referentes!S:T,MATCH(N1493,referentes!T:T,0),1))","v":""},null,{"$f":"IF(P1493=\"\",\"\",INDEX(referentes!Y:Z,MATCH(P1493,referentes!Z:Z,0),1))","v":""},"","",null,null,null,null,null,{"$f":"IF(X1493=\"\",\"\",INDEX(referentes!J:K,MATCH(X1493,referentes!J:J,0),2))","v":""},null,null,""]
["30000401000000",null,0,{"$f":"IF(E1494<>\"\",CONCATENATE(B1494,A1494,DIGITADOR!$M$1,C1494),\"\")","v":""},null,null,"","","",null,1490,"",{"$f":"IF(R1494=R1493,\"\",IF(E1494<>\"\",CONCATENATE(B1494,A1494,DIGITADOR!$M$1,C1494),\"\"))","v":""},null,{"$f":"IF(N1494=\"\",\"\",INDEX(referentes!S:T,MATCH(N1494,referentes!T:T,0),1))","v":""},null,{"$f":"IF(P1494=\"\",\"\",INDEX(referentes!Y:Z,MATCH(P1494,referentes!Z:Z,0),1))","v":""},"","",null,null,null,null,null,{"$f":"IF(X1494=\"\",\"\",INDEX(referentes!J:K,MATCH(X1494,referentes!J:J,0),2))","v":""},null,null,""]
["30000401000000",null,0,{"$f":"IF(E1495<>\"\",CONCATENATE(B1495,A1495,DIGITADOR!$M$1,C1495),\"\")","v":""},null,null,"","","",null,1491,"",{"$f":"IF(R1495=R1494,\"\",IF(E1495<>\"\",CONCATENATE(B1495,A1495,DIGITADOR!$M$1,C1495),\"\"))","v":""},null,{"$f":"IF(N1495=\"\",\"\",INDEX(referentes!S:T,MATCH(N1495,referentes!T:T,0),1))","v":""},null,{"$f":"IF(P1495=\"\",\"\",INDEX(referentes!Y:Z,MATCH(P1495,referentes!Z:Z,0),1))","v":""},"","",null,null,null,null,null,{"$f":"IF(X1495=\"\",\"\",INDEX(referentes!J:K,MATCH(X1495,referentes!J:J,0),2))","v":""},null,null,""]
["30000401000000",null,0,{"$f":"IF(E1496<>\"\",CONCATENATE(B1496,A1496,DIGITADOR!$M$1,C1496),\"\")","v":""},null,null,"","","",null,1492,"",{"$f":"IF(R1496=R1495,\"\",IF(E1496<>\"\",CONCATENATE(B1496,A1496,DIGITADOR!$M$1,C1496),\"\"))","v":""},null,{"$f":"IF(N1496=\"\",\"\",INDEX(referentes!S:T,MATCH(N1496,referentes!T:T,0),1))","v":""},null,{"$f":"IF(P1496=\"\",\"\",INDEX(referentes!Y:Z,MATCH(P1496,referentes!Z:Z,0),1))","v":""},"","",null,null,null,null,null,{"$f":"IF(X1496=\"\",\"\",INDEX(referentes!J:K,MATCH(X1496,referentes!J:J,0),2))","v":""},null,null,""]
["30000401000000",null,0,{"$f":"IF(E1497<>\"\",CONCATENATE(B1497,A1497,DIGITADOR!$M$1,C1497),\"\")","v":""},null,null,"","","",null,1493,"",{"$f":"IF(R1497=R1496,\"\",IF(E1497<>\"\",CONCATENATE(B1497,A1497,DIGITADOR!$M$1,C1497),\"\"))","v":""},null,{"$f":"IF(N1497=\"\",\"\",INDEX(referentes!S:T,MATCH(N1497,referentes!T:T,0),1))","v":""},null,{"$f":"IF(P1497=\"\",\"\",INDEX(referentes!Y:Z,MATCH(P1497,referentes!Z:Z,0),1))","v":""},"","",null,null,null,null,null,{"$f":"IF(X1497=\"\",\"\",INDEX(referentes!J:K,MATCH(X1497,referentes!J:J,0),2))","v":""},null,null,""]
["30000401000000",null,0,{"$f":"IF(E1498<>\"\",CONCATENATE(B1498,A1498,DIGITADOR!$M$1,C1498),\"\")","v":""},null,null,"","","",null,1494,"",{"$f":"IF(R1498=R1497,\"\",IF(E1498<>\"\",CONCATENATE(B1498,A1498,DIGITADOR!$M$1,C1498),\"\"))","v":""},null,{"$f":"IF(N1498=\"\",\"\",INDEX(referentes!S:T,MATCH(N1498,referentes!T:T,0),1))","v":""},null,{"$f":"IF(P1498=\"\",\"\",INDEX(referentes!Y:Z,MATCH(P1498,referentes!Z:Z,0),1))","v":""},"","",null,null,null,null,null,{"$f":"IF(X1498=\"\",\"\",INDEX(referentes!J:K,MATCH(X1498,referentes!J:J,0),2))","v":""},null,null,""]
["30000401000000",null,0,{"$f":"IF(E1499<>\"\",CONCATENATE(B1499,A1499,DIGITADOR!$M$1,C1499),\"\")","v":""},null,null,"","","",null,1495,"",{"$f":"IF(R1499=R1498,\"\",IF(E1499<>\"\",CONCATENATE(B1499,A1499,DIGITADOR!$M$1,C1499),\"\"))","v":""},null,{"$f":"IF(N1499=\"\",\"\",INDEX(referentes!S:T,MATCH(N1499,referentes!T:T,0),1))","v":""},null,{"$f":"IF(P1499=\"\",\"\",INDEX(referentes!Y:Z,MATCH(P1499,referentes!Z:Z,0),1))","v":""},"","",null,null,null,null,null,{"$f":"IF(X1499=\"\",\"\",INDEX(referentes!J:K,MATCH(X1499,referentes!J:J,0),2))","v":""},null,null,""]
["30000401000000",null,0,{"$f":"IF(E1500<>\"\",CONCATENATE(B1500,A1500,DIGITADOR!$M$1,C1500),\"\")","v":""},null,null,"","","",null,1496,"",{"$f":"IF(R1500=R1499,\"\",IF(E1500<>\"\",CONCATENATE(B1500,A1500,DIGITADOR!$M$1,C1500),\"\"))","v":""},null,{"$f":"IF(N1500=\"\",\"\",INDEX(referentes!S:T,MATCH(N1500,referentes!T:T,0),1))","v":""},null,{"$f":"IF(P1500=\"\",\"\",INDEX(referentes!Y:Z,MATCH(P1500,referentes!Z:Z,0),1))","v":""},"","",null,null,null,null,null,{"$f":"IF(X1500=\"\",\"\",INDEX(referentes!J:K,MATCH(X1500,referentes!J:J,0),2))","v":""},null,null,""]
["30000401000000",null,0,{"$f":"IF(E1501<>\"\",CONCATENATE(B1501,A1501,DIGITADOR!$M$1,C1501),\"\")","v":""},null,null,"","","",null,1497,"",{"$f":"IF(R1501=R1500,\"\",IF(E1501<>\"\",CONCATENATE(B1501,A1501,DIGITADOR!$M$1,C1501),\"\"))","v":""},null,{"$f":"IF(N1501=\"\",\"\",INDEX(referentes!S:T,MATCH(N1501,referentes!T:T,0),1))","v":""},null,{"$f":"IF(P1501=\"\",\"\",INDEX(referentes!Y:Z,MATCH(P1501,referentes!Z:Z,0),1))","v":""},"","",null,null,null,null,null,{"$f":"IF(X1501=\"\",\"\",INDEX(referentes!J:K,MATCH(X1501,referentes!J:J,0),2))","v":""},null,null,""]
["30000401000000",null,0,{"$f":"IF(E1502<>\"\",CONCATENATE(B1502,A1502,DIGITADOR!$M$1,C1502),\"\")","v":""},null,null,"","","",null,1498,"",{"$f":"IF(R1502=R1501,\"\",IF(E1502<>\"\",CONCATENATE(B1502,A1502,DIGITADOR!$M$1,C1502),\"\"))","v":""},null,{"$f":"IF(N1502=\"\",\"\",INDEX(referentes!S:T,MATCH(N1502,referentes!T:T,0),1))","v":""},null,{"$f":"IF(P1502=\"\",\"\",INDEX(referentes!Y:Z,MATCH(P1502,referentes!Z:Z,0),1))","v":""},"","",null,null,null,null,null,{"$f":"IF(X1502=\"\",\"\",INDEX(referentes!J:K,MATCH(X1502,referentes!J:J,0),2))","v":""},null,null,""]
["30000401000000",null,0,{"$f":"IF(E1503<>\"\",CONCATENATE(B1503,A1503,DIGITADOR!$M$1,C1503),\"\")","v":""},null,null,"","","",null,1499,"",{"$f":"IF(R1503=R1502,\"\",IF(E1503<>\"\",CONCATENATE(B1503,A1503,DIGITADOR!$M$1,C1503),\"\"))","v":""},null,{"$f":"IF(N1503=\"\",\"\",INDEX(referentes!S:T,MATCH(N1503,referentes!T:T,0),1))","v":""},null,{"$f":"IF(P1503=\"\",\"\",INDEX(referentes!Y:Z,MATCH(P1503,referentes!Z:Z,0),1))","v":""},"","",null,null,null,null,null,{"$f":"IF(X1503=\"\",\"\",INDEX(referentes!J:K,MATCH(X1503,referentes!J:J,0),2))","v":""},null,null,""]
["30000401000000",null,0,{"$f":"IF(E1504<>\"\",CONCATENATE(B1504,A1504,DIGITADOR!$M$1,C1504),\"\")","v":""},null,null,"","","",null,1500,"",{"$f":"IF(R1504=R1503,\"\",IF(E1504<>\"\",CONCATENATE(B1504,A1504,DIGITADOR!$M$1,C1504),\"\"))","v":""},null,{"$f":"IF(N1504=\"\",\"\",INDEX(referentes!S:T,MATCH(N1504,referentes!T:T,0),1))","v":""},null,{"$f":"IF(P1504=\"\",\"\",INDEX(referentes!Y:Z,MATCH(P1504,referentes!Z:Z,0),1))","v":""},"","",null,null,null,null,null,{"$f":"IF(X1504=\"\",\"\",INDEX(referentes!J:K,MATCH(X1504,referentes!J:J,0),2))","v":""},null,null,""]
["30000401000000",null,0,{"$f":"IF(E1505<>\"\",CONCATENATE(B1505,A1505,DIGITADOR!$M$1,C1505),\"\")","v":""},null,null,"","","",null,1501,"",{"$f":"IF(R1505=R1504,\"\",IF(E1505<>\"\",CONCATENATE(B1505,A1505,DIGITADOR!$M$1,C1505),\"\"))","v":""},null,{"$f":"IF(N1505=\"\",\"\",INDEX(referentes!S:T,MATCH(N1505,referentes!T:T,0),1))","v":""},null,{"$f":"IF(P1505=\"\",\"\",INDEX(referentes!Y:Z,MATCH(P1505,referentes!Z:Z,0),1))","v":""},"","",null,null,null,null,null,{"$f":"IF(X1505=\"\",\"\",INDEX(referentes!J:K,MATCH(X1505,referentes!J:J,0),2))","v":""},null,null,""]
["30000401000000",null,0,{"$f":"IF(E1506<>\"\",CONCATENATE(B1506,A1506,DIGITADOR!$M$1,C1506),\"\")","v":""},null,null,"","","",null,1502,"",{"$f":"IF(R1506=R1505,\"\",IF(E1506<>\"\",CONCATENATE(B1506,A1506,DIGITADOR!$M$1,C1506),\"\"))","v":""},null,{"$f":"IF(N1506=\"\",\"\",INDEX(referentes!S:T,MATCH(N1506,referentes!T:T,0),1))","v":""},null,{"$f":"IF(P1506=\"\",\"\",INDEX(referentes!Y:Z,MATCH(P1506,referentes!Z:Z,0),1))","v":""},"","",null,null,null,null,null,{"$f":"IF(X1506=\"\",\"\",INDEX(referentes!J:K,MATCH(X1506,referentes!J:J,0),2))","v":""},null,null,""]
["30000401000000",null,0,{"$f":"IF(E1507<>\"\",CONCATENATE(B1507,A1507,DIGITADOR!$M$1,C1507),\"\")","v":""},null,null,"","","",null,1503,"",{"$f":"IF(R1507=R1506,\"\",IF(E1507<>\"\",CONCATENATE(B1507,A1507,DIGITADOR!$M$1,C1507),\"\"))","v":""},null,{"$f":"IF(N1507=\"\",\"\",INDEX(referentes!S:T,MATCH(N1507,referentes!T:T,0),1))","v":""},null,{"$f":"IF(P1507=\"\",\"\",INDEX(referentes!Y:Z,MATCH(P1507,referentes!Z:Z,0),1))","v":""},"","",null,null,null,null,null,{"$f":"IF(X1507=\"\",\"\",INDEX(referentes!J:K,MATCH(X1507,referentes!J:J,0),2))","v":""},null,null,""]
["30000401000000",null,0,{"$f":"IF(E1508<>\"\",CONCATENATE(B1508,A1508,DIGITADOR!$M$1,C1508),\"\")","v":""},null,null,"","","",null,1504,"",{"$f":"IF(R1508=R1507,\"\",IF(E1508<>\"\",CONCATENATE(B1508,A1508,DIGITADOR!$M$1,C1508),\"\"))","v":""},null,{"$f":"IF(N1508=\"\",\"\",INDEX(referentes!S:T,MATCH(N1508,referentes!T:T,0),1))","v":""},null,{"$f":"IF(P1508=\"\",\"\",INDEX(referentes!Y:Z,MATCH(P1508,referentes!Z:Z,0),1))","v":""},"","",null,null,null,null,null,{"$f":"IF(X1508=\"\",\"\",INDEX(referentes!J:K,MATCH(X1508,referentes!J:J,0),2))","v":""},null,null,""]
["30000401000000",null,0,{"$f":"IF(E1509<>\"\",CONCATENATE(B1509,A1509,DIGITADOR!$M$1,C1509),\"\")","v":""},null,null,"","","",null,1505,"",{"$f":"IF(R1509=R1508,\"\",IF(E1509<>\"\",CONCATENATE(B1509,A1509,DIGITADOR!$M$1,C1509),\"\"))","v":""},null,{"$f":"IF(N1509=\"\",\"\",INDEX(referentes!S:T,MATCH(N1509,referentes!T:T,0),1))","v":""},null,{"$f":"IF(P1509=\"\",\"\",INDEX(referentes!Y:Z,MATCH(P1509,referentes!Z:Z,0),1))","v":""},"","",null,null,null,null,null,{"$f":"IF(X1509=\"\",\"\",INDEX(referentes!J:K,MATCH(X1509,referentes!J:J,0),2))","v":""},null,null,""]
["30000401000000",null,0,{"$f":"IF(E1510<>\"\",CONCATENATE(B1510,A1510,DIGITADOR!$M$1,C1510),\"\")","v":""},null,null,"","","",null,1506,"",{"$f":"IF(R1510=R1509,\"\",IF(E1510<>\"\",CONCATENATE(B1510,A1510,DIGITADOR!$M$1,C1510),\"\"))","v":""},null,{"$f":"IF(N1510=\"\",\"\",INDEX(referentes!S:T,MATCH(N1510,referentes!T:T,0),1))","v":""},null,{"$f":"IF(P1510=\"\",\"\",INDEX(referentes!Y:Z,MATCH(P1510,referentes!Z:Z,0),1))","v":""},"","",null,null,null,null,null,{"$f":"IF(X1510=\"\",\"\",INDEX(referentes!J:K,MATCH(X1510,referentes!J:J,0),2))","v":""},null,null,""]
["30000401000000",null,0,{"$f":"IF(E1511<>\"\",CONCATENATE(B1511,A1511,DIGITADOR!$M$1,C1511),\"\")","v":""},null,null,"","","",null,1507,"",{"$f":"IF(R1511=R1510,\"\",IF(E1511<>\"\",CONCATENATE(B1511,A1511,DIGITADOR!$M$1,C1511),\"\"))","v":""},null,{"$f":"IF(N1511=\"\",\"\",INDEX(referentes!S:T,MATCH(N1511,referentes!T:T,0),1))","v":""},null,{"$f":"IF(P1511=\"\",\"\",INDEX(referentes!Y:Z,MATCH(P1511,referentes!Z:Z,0),1))","v":""},"","",null,null,null,null,null,{"$f":"IF(X1511=\"\",\"\",INDEX(referentes!J:K,MATCH(X1511,referentes!J:J,0),2))","v":""},null,null,""]
["30000401000000",null,0,{"$f":"IF(E1512<>\"\",CONCATENATE(B1512,A1512,DIGITADOR!$M$1,C1512),\"\")","v":""},null,null,"","","",null,1508,"",{"$f":"IF(R1512=R1511,\"\",IF(E1512<>\"\",CONCATENATE(B1512,A1512,DIGITADOR!$M$1,C1512),\"\"))","v":""},null,{"$f":"IF(N1512=\"\",\"\",INDEX(referentes!S:T,MATCH(N1512,referentes!T:T,0),1))","v":""},null,{"$f":"IF(P1512=\"\",\"\",INDEX(referentes!Y:Z,MATCH(P1512,referentes!Z:Z,0),1))","v":""},"","",null,null,null,null,null,{"$f":"IF(X1512=\"\",\"\",INDEX(referentes!J:K,MATCH(X1512,referentes!J:J,0),2))","v":""},null,null,""]
["30000401000000",null,0,{"$f":"IF(E1513<>\"\",CONCATENATE(B1513,A1513,DIGITADOR!$M$1,C1513),\"\")","v":""},null,null,"","","",null,1509,"",{"$f":"IF(R1513=R1512,\"\",IF(E1513<>\"\",CONCATENATE(B1513,A1513,DIGITADOR!$M$1,C1513),\"\"))","v":""},null,{"$f":"IF(N1513=\"\",\"\",INDEX(referentes!S:T,MATCH(N1513,referentes!T:T,0),1))","v":""},null,{"$f":"IF(P1513=\"\",\"\",INDEX(referentes!Y:Z,MATCH(P1513,referentes!Z:Z,0),1))","v":""},"","",null,null,null,null,null,{"$f":"IF(X1513=\"\",\"\",INDEX(referentes!J:K,MATCH(X1513,referentes!J:J,0),2))","v":""},null,null,""]
["30000401000000",null,0,{"$f":"IF(E1514<>\"\",CONCATENATE(B1514,A1514,DIGITADOR!$M$1,C1514),\"\")","v":""},null,null,"","","",null,1510,"",{"$f":"IF(R1514=R1513,\"\",IF(E1514<>\"\",CONCATENATE(B1514,A1514,DIGITADOR!$M$1,C1514),\"\"))","v":""},null,{"$f":"IF(N1514=\"\",\"\",INDEX(referentes!S:T,MATCH(N1514,referentes!T:T,0),1))","v":""},null,{"$f":"IF(P1514=\"\",\"\",INDEX(referentes!Y:Z,MATCH(P1514,referentes!Z:Z,0),1))","v":""},"","",null,null,null,null,null,{"$f":"IF(X1514=\"\",\"\",INDEX(referentes!J:K,MATCH(X1514,referentes!J:J,0),2))","v":""},null,null,""]
["30000401000000",null,0,{"$f":"IF(E1515<>\"\",CONCATENATE(B1515,A1515,DIGITADOR!$M$1,C1515),\"\")","v":""},null,null,"","","",null,1511,"",{"$f":"IF(R1515=R1514,\"\",IF(E1515<>\"\",CONCATENATE(B1515,A1515,DIGITADOR!$M$1,C1515),\"\"))","v":""},null,{"$f":"IF(N1515=\"\",\"\",INDEX(referentes!S:T,MATCH(N1515,referentes!T:T,0),1))","v":""},null,{"$f":"IF(P1515=\"\",\"\",INDEX(referentes!Y:Z,MATCH(P1515,referentes!Z:Z,0),1))","v":""},"","",null,null,null,null,null,{"$f":"IF(X1515=\"\",\"\",INDEX(referentes!J:K,MATCH(X1515,referentes!J:J,0),2))","v":""},null,null,""]
["30000401000000",null,0,{"$f":"IF(E1516<>\"\",CONCATENATE(B1516,A1516,DIGITADOR!$M$1,C1516),\"\")","v":""},null,null,"","","",null,1512,"",{"$f":"IF(R1516=R1515,\"\",IF(E1516<>\"\",CONCATENATE(B1516,A1516,DIGITADOR!$M$1,C1516),\"\"))","v":""},null,{"$f":"IF(N1516=\"\",\"\",INDEX(referentes!S:T,MATCH(N1516,referentes!T:T,0),1))","v":""},null,{"$f":"IF(P1516=\"\",\"\",INDEX(referentes!Y:Z,MATCH(P1516,referentes!Z:Z,0),1))","v":""},"","",null,null,null,null,null,{"$f":"IF(X1516=\"\",\"\",INDEX(referentes!J:K,MATCH(X1516,referentes!J:J,0),2))","v":""},null,null,""]
["30000401000000",null,0,{"$f":"IF(E1517<>\"\",CONCATENATE(B1517,A1517,DIGITADOR!$M$1,C1517),\"\")","v":""},null,null,"","","",null,1513,"",{"$f":"IF(R1517=R1516,\"\",IF(E1517<>\"\",CONCATENATE(B1517,A1517,DIGITADOR!$M$1,C1517),\"\"))","v":""},null,{"$f":"IF(N1517=\"\",\"\",INDEX(referentes!S:T,MATCH(N1517,referentes!T:T,0),1))","v":""},null,{"$f":"IF(P1517=\"\",\"\",INDEX(referentes!Y:Z,MATCH(P1517,referentes!Z:Z,0),1))","v":""},"","",null,null,null,null,null,{"$f":"IF(X1517=\"\",\"\",INDEX(referentes!J:K,MATCH(X1517,referentes!J:J,0),2))","v":""},null,null,""]
["30000401000000",null,0,{"$f":"IF(E1518<>\"\",CONCATENATE(B1518,A1518,DIGITADOR!$M$1,C1518),\"\")","v":""},null,null,"","","",null,1514,"",{"$f":"IF(R1518=R1517,\"\",IF(E1518<>\"\",CONCATENATE(B1518,A1518,DIGITADOR!$M$1,C1518),\"\"))","v":""},null,{"$f":"IF(N1518=\"\",\"\",INDEX(referentes!S:T,MATCH(N1518,referentes!T:T,0),1))","v":""},null,{"$f":"IF(P1518=\"\",\"\",INDEX(referentes!Y:Z,MATCH(P1518,referentes!Z:Z,0),1))","v":""},"","",null,null,null,null,null,{"$f":"IF(X1518=\"\",\"\",INDEX(referentes!J:K,MATCH(X1518,referentes!J:J,0),2))","v":""},null,null,""]
["30000401000000",null,0,{"$f":"IF(E1519<>\"\",CONCATENATE(B1519,A1519,DIGITADOR!$M$1,C1519),\"\")","v":""},null,null,"","","",null,1515,"",{"$f":"IF(R1519=R1518,\"\",IF(E1519<>\"\",CONCATENATE(B1519,A1519,DIGITADOR!$M$1,C1519),\"\"))","v":""},null,{"$f":"IF(N1519=\"\",\"\",INDEX(referentes!S:T,MATCH(N1519,referentes!T:T,0),1))","v":""},null,{"$f":"IF(P1519=\"\",\"\",INDEX(referentes!Y:Z,MATCH(P1519,referentes!Z:Z,0),1))","v":""},"","",null,null,null,null,null,{"$f":"IF(X1519=\"\",\"\",INDEX(referentes!J:K,MATCH(X1519,referentes!J:J,0),2))","v":""},null,null,""]
["30000401000000",null,0,{"$f":"IF(E1520<>\"\",CONCATENATE(B1520,A1520,DIGITADOR!$M$1,C1520),\"\")","v":""},null,null,"","","",null,1516,"",{"$f":"IF(R1520=R1519,\"\",IF(E1520<>\"\",CONCATENATE(B1520,A1520,DIGITADOR!$M$1,C1520),\"\"))","v":""},null,{"$f":"IF(N1520=\"\",\"\",INDEX(referentes!S:T,MATCH(N1520,referentes!T:T,0),1))","v":""},null,{"$f":"IF(P1520=\"\",\"\",INDEX(referentes!Y:Z,MATCH(P1520,referentes!Z:Z,0),1))","v":""},"","",null,null,null,null,null,{"$f":"IF(X1520=\"\",\"\",INDEX(referentes!J:K,MATCH(X1520,referentes!J:J,0),2))","v":""},null,null,""]
["30000401000000",null,0,{"$f":"IF(E1521<>\"\",CONCATENATE(B1521,A1521,DIGITADOR!$M$1,C1521),\"\")","v":""},null,null,"","","",null,1517,"",{"$f":"IF(R1521=R1520,\"\",IF(E1521<>\"\",CONCATENATE(B1521,A1521,DIGITADOR!$M$1,C1521),\"\"))","v":""},null,{"$f":"IF(N1521=\"\",\"\",INDEX(referentes!S:T,MATCH(N1521,referentes!T:T,0),1))","v":""},null,{"$f":"IF(P1521=\"\",\"\",INDEX(referentes!Y:Z,MATCH(P1521,referentes!Z:Z,0),1))","v":""},"","",null,null,null,null,null,{"$f":"IF(X1521=\"\",\"\",INDEX(referentes!J:K,MATCH(X1521,referentes!J:J,0),2))","v":""},null,null,""]
["30000401000000",null,0,{"$f":"IF(E1522<>\"\",CONCATENATE(B1522,A1522,DIGITADOR!$M$1,C1522),\"\")","v":""},null,null,"","","",null,1518,"",{"$f":"IF(R1522=R1521,\"\",IF(E1522<>\"\",CONCATENATE(B1522,A1522,DIGITADOR!$M$1,C1522),\"\"))","v":""},null,{"$f":"IF(N1522=\"\",\"\",INDEX(referentes!S:T,MATCH(N1522,referentes!T:T,0),1))","v":""},null,{"$f":"IF(P1522=\"\",\"\",INDEX(referentes!Y:Z,MATCH(P1522,referentes!Z:Z,0),1))","v":""},"","",null,null,null,null,null,{"$f":"IF(X1522=\"\",\"\",INDEX(referentes!J:K,MATCH(X1522,referentes!J:J,0),2))","v":""},null,null,""]
["30000401000000",null,0,{"$f":"IF(E1523<>\"\",CONCATENATE(B1523,A1523,DIGITADOR!$M$1,C1523),\"\")","v":""},null,null,"","","",null,1519,"",{"$f":"IF(R1523=R1522,\"\",IF(E1523<>\"\",CONCATENATE(B1523,A1523,DIGITADOR!$M$1,C1523),\"\"))","v":""},null,{"$f":"IF(N1523=\"\",\"\",INDEX(referentes!S:T,MATCH(N1523,referentes!T:T,0),1))","v":""},null,{"$f":"IF(P1523=\"\",\"\",INDEX(referentes!Y:Z,MATCH(P1523,referentes!Z:Z,0),1))","v":""},"","",null,null,null,null,null,{"$f":"IF(X1523=\"\",\"\",INDEX(referentes!J:K,MATCH(X1523,referentes!J:J,0),2))","v":""},null,null,""]
["30000401000000",null,0,{"$f":"IF(E1524<>\"\",CONCATENATE(B1524,A1524,DIGITADOR!$M$1,C1524),\"\")","v":""},null,null,"","","",null,1520,"",{"$f":"IF(R1524=R1523,\"\",IF(E1524<>\"\",CONCATENATE(B1524,A1524,DIGITADOR!$M$1,C1524),\"\"))","v":""},null,{"$f":"IF(N1524=\"\",\"\",INDEX(referentes!S:T,MATCH(N1524,referentes!T:T,0),1))","v":""},null,{"$f":"IF(P1524=\"\",\"\",INDEX(referentes!Y:Z,MATCH(P1524,referentes!Z:Z,0),1))","v":""},"","",null,null,null,null,null,{"$f":"IF(X1524=\"\",\"\",INDEX(referentes!J:K,MATCH(X1524,referentes!J:J,0),2))","v":""},null,null,""]
["30000401000000",null,0,{"$f":"IF(E1525<>\"\",CONCATENATE(B1525,A1525,DIGITADOR!$M$1,C1525),\"\")","v":""},null,null,"","","",null,1521,"",{"$f":"IF(R1525=R1524,\"\",IF(E1525<>\"\",CONCATENATE(B1525,A1525,DIGITADOR!$M$1,C1525),\"\"))","v":""},null,{"$f":"IF(N1525=\"\",\"\",INDEX(referentes!S:T,MATCH(N1525,referentes!T:T,0),1))","v":""},null,{"$f":"IF(P1525=\"\",\"\",INDEX(referentes!Y:Z,MATCH(P1525,referentes!Z:Z,0),1))","v":""},"","",null,null,null,null,null,{"$f":"IF(X1525=\"\",\"\",INDEX(referentes!J:K,MATCH(X1525,referentes!J:J,0),2))","v":""},null,null,""]
["30000401000000",null,0,{"$f":"IF(E1526<>\"\",CONCATENATE(B1526,A1526,DIGITADOR!$M$1,C1526),\"\")","v":""},null,null,"","","",null,1522,"",{"$f":"IF(R1526=R1525,\"\",IF(E1526<>\"\",CONCATENATE(B1526,A1526,DIGITADOR!$M$1,C1526),\"\"))","v":""},null,{"$f":"IF(N1526=\"\",\"\",INDEX(referentes!S:T,MATCH(N1526,referentes!T:T,0),1))","v":""},null,{"$f":"IF(P1526=\"\",\"\",INDEX(referentes!Y:Z,MATCH(P1526,referentes!Z:Z,0),1))","v":""},"","",null,null,null,null,null,{"$f":"IF(X1526=\"\",\"\",INDEX(referentes!J:K,MATCH(X1526,referentes!J:J,0),2))","v":""},null,null,""]
["30000401000000",null,0,{"$f":"IF(E1527<>\"\",CONCATENATE(B1527,A1527,DIGITADOR!$M$1,C1527),\"\")","v":""},null,null,"","","",null,1523,"",{"$f":"IF(R1527=R1526,\"\",IF(E1527<>\"\",CONCATENATE(B1527,A1527,DIGITADOR!$M$1,C1527),\"\"))","v":""},null,{"$f":"IF(N1527=\"\",\"\",INDEX(referentes!S:T,MATCH(N1527,referentes!T:T,0),1))","v":""},null,{"$f":"IF(P1527=\"\",\"\",INDEX(referentes!Y:Z,MATCH(P1527,referentes!Z:Z,0),1))","v":""},"","",null,null,null,null,null,{"$f":"IF(X1527=\"\",\"\",INDEX(referentes!J:K,MATCH(X1527,referentes!J:J,0),2))","v":""},null,null,""]
["30000401000000",null,0,{"$f":"IF(E1528<>\"\",CONCATENATE(B1528,A1528,DIGITADOR!$M$1,C1528),\"\")","v":""},null,null,"","","",null,1524,"",{"$f":"IF(R1528=R1527,\"\",IF(E1528<>\"\",CONCATENATE(B1528,A1528,DIGITADOR!$M$1,C1528),\"\"))","v":""},null,{"$f":"IF(N1528=\"\",\"\",INDEX(referentes!S:T,MATCH(N1528,referentes!T:T,0),1))","v":""},null,{"$f":"IF(P1528=\"\",\"\",INDEX(referentes!Y:Z,MATCH(P1528,referentes!Z:Z,0),1))","v":""},"","",null,null,null,null,null,{"$f":"IF(X1528=\"\",\"\",INDEX(referentes!J:K,MATCH(X1528,referentes!J:J,0),2))","v":""},null,null,""]
["30000401000000",null,0,{"$f":"IF(E1529<>\"\",CONCATENATE(B1529,A1529,DIGITADOR!$M$1,C1529),\"\")","v":""},null,null,"","","",null,1525,"",{"$f":"IF(R1529=R1528,\"\",IF(E1529<>\"\",CONCATENATE(B1529,A1529,DIGITADOR!$M$1,C1529),\"\"))","v":""},null,{"$f":"IF(N1529=\"\",\"\",INDEX(referentes!S:T,MATCH(N1529,referentes!T:T,0),1))","v":""},null,{"$f":"IF(P1529=\"\",\"\",INDEX(referentes!Y:Z,MATCH(P1529,referentes!Z:Z,0),1))","v":""},"","",null,null,null,null,null,{"$f":"IF(X1529=\"\",\"\",INDEX(referentes!J:K,MATCH(X1529,referentes!J:J,0),2))","v":""},null,null,""]
["30000401000000",null,0,{"$f":"IF(E1530<>\"\",CONCATENATE(B1530,A1530,DIGITADOR!$M$1,C1530),\"\")","v":""},null,null,"","","",null,1526,"",{"$f":"IF(R1530=R1529,\"\",IF(E1530<>\"\",CONCATENATE(B1530,A1530,DIGITADOR!$M$1,C1530),\"\"))","v":""},null,{"$f":"IF(N1530=\"\",\"\",INDEX(referentes!S:T,MATCH(N1530,referentes!T:T,0),1))","v":""},null,{"$f":"IF(P1530=\"\",\"\",INDEX(referentes!Y:Z,MATCH(P1530,referentes!Z:Z,0),1))","v":""},"","",null,null,null,null,null,{"$f":"IF(X1530=\"\",\"\",INDEX(referentes!J:K,MATCH(X1530,referentes!J:J,0),2))","v":""},null,null,""]
["30000401000000",null,0,{"$f":"IF(E1531<>\"\",CONCATENATE(B1531,A1531,DIGITADOR!$M$1,C1531),\"\")","v":""},null,null,"","","",null,1527,"",{"$f":"IF(R1531=R1530,\"\",IF(E1531<>\"\",CONCATENATE(B1531,A1531,DIGITADOR!$M$1,C1531),\"\"))","v":""},null,{"$f":"IF(N1531=\"\",\"\",INDEX(referentes!S:T,MATCH(N1531,referentes!T:T,0),1))","v":""},null,{"$f":"IF(P1531=\"\",\"\",INDEX(referentes!Y:Z,MATCH(P1531,referentes!Z:Z,0),1))","v":""},"","",null,null,null,null,null,{"$f":"IF(X1531=\"\",\"\",INDEX(referentes!J:K,MATCH(X1531,referentes!J:J,0),2))","v":""},null,null,""]
["30000401000000",null,0,{"$f":"IF(E1532<>\"\",CONCATENATE(B1532,A1532,DIGITADOR!$M$1,C1532),\"\")","v":""},null,null,"","","",null,1528,"",{"$f":"IF(R1532=R1531,\"\",IF(E1532<>\"\",CONCATENATE(B1532,A1532,DIGITADOR!$M$1,C1532),\"\"))","v":""},null,{"$f":"IF(N1532=\"\",\"\",INDEX(referentes!S:T,MATCH(N1532,referentes!T:T,0),1))","v":""},null,{"$f":"IF(P1532=\"\",\"\",INDEX(referentes!Y:Z,MATCH(P1532,referentes!Z:Z,0),1))","v":""},"","",null,null,null,null,null,{"$f":"IF(X1532=\"\",\"\",INDEX(referentes!J:K,MATCH(X1532,referentes!J:J,0),2))","v":""},null,null,""]
["30000401000000",null,0,{"$f":"IF(E1533<>\"\",CONCATENATE(B1533,A1533,DIGITADOR!$M$1,C1533),\"\")","v":""},null,null,"","","",null,1529,"",{"$f":"IF(R1533=R1532,\"\",IF(E1533<>\"\",CONCATENATE(B1533,A1533,DIGITADOR!$M$1,C1533),\"\"))","v":""},null,{"$f":"IF(N1533=\"\",\"\",INDEX(referentes!S:T,MATCH(N1533,referentes!T:T,0),1))","v":""},null,{"$f":"IF(P1533=\"\",\"\",INDEX(referentes!Y:Z,MATCH(P1533,referentes!Z:Z,0),1))","v":""},"","",null,null,null,null,null,{"$f":"IF(X1533=\"\",\"\",INDEX(referentes!J:K,MATCH(X1533,referentes!J:J,0),2))","v":""},null,null,""]
["30000401000000",null,0,{"$f":"IF(E1534<>\"\",CONCATENATE(B1534,A1534,DIGITADOR!$M$1,C1534),\"\")","v":""},null,null,"","","",null,1530,"",{"$f":"IF(R1534=R1533,\"\",IF(E1534<>\"\",CONCATENATE(B1534,A1534,DIGITADOR!$M$1,C1534),\"\"))","v":""},null,{"$f":"IF(N1534=\"\",\"\",INDEX(referentes!S:T,MATCH(N1534,referentes!T:T,0),1))","v":""},null,{"$f":"IF(P1534=\"\",\"\",INDEX(referentes!Y:Z,MATCH(P1534,referentes!Z:Z,0),1))","v":""},"","",null,null,null,null,null,{"$f":"IF(X1534=\"\",\"\",INDEX(referentes!J:K,MATCH(X1534,referentes!J:J,0),2))","v":""},null,null,""]
["30000401000000",null,0,{"$f":"IF(E1535<>\"\",CONCATENATE(B1535,A1535,DIGITADOR!$M$1,C1535),\"\")","v":""},null,null,"","","",null,1531,"",{"$f":"IF(R1535=R1534,\"\",IF(E1535<>\"\",CONCATENATE(B1535,A1535,DIGITADOR!$M$1,C1535),\"\"))","v":""},null,{"$f":"IF(N1535=\"\",\"\",INDEX(referentes!S:T,MATCH(N1535,referentes!T:T,0),1))","v":""},null,{"$f":"IF(P1535=\"\",\"\",INDEX(referentes!Y:Z,MATCH(P1535,referentes!Z:Z,0),1))","v":""},"","",null,null,null,null,null,{"$f":"IF(X1535=\"\",\"\",INDEX(referentes!J:K,MATCH(X1535,referentes!J:J,0),2))","v":""},null,null,""]
["30000401000000",null,0,{"$f":"IF(E1536<>\"\",CONCATENATE(B1536,A1536,DIGITADOR!$M$1,C1536),\"\")","v":""},null,null,"","","",null,1532,"",{"$f":"IF(R1536=R1535,\"\",IF(E1536<>\"\",CONCATENATE(B1536,A1536,DIGITADOR!$M$1,C1536),\"\"))","v":""},null,{"$f":"IF(N1536=\"\",\"\",INDEX(referentes!S:T,MATCH(N1536,referentes!T:T,0),1))","v":""},null,{"$f":"IF(P1536=\"\",\"\",INDEX(referentes!Y:Z,MATCH(P1536,referentes!Z:Z,0),1))","v":""},"","",null,null,null,null,null,{"$f":"IF(X1536=\"\",\"\",INDEX(referentes!J:K,MATCH(X1536,referentes!J:J,0),2))","v":""},null,null,""]
["30000401000000",null,0,{"$f":"IF(E1537<>\"\",CONCATENATE(B1537,A1537,DIGITADOR!$M$1,C1537),\"\")","v":""},null,null,"","","",null,1533,"",{"$f":"IF(R1537=R1536,\"\",IF(E1537<>\"\",CONCATENATE(B1537,A1537,DIGITADOR!$M$1,C1537),\"\"))","v":""},null,{"$f":"IF(N1537=\"\",\"\",INDEX(referentes!S:T,MATCH(N1537,referentes!T:T,0),1))","v":""},null,{"$f":"IF(P1537=\"\",\"\",INDEX(referentes!Y:Z,MATCH(P1537,referentes!Z:Z,0),1))","v":""},"","",null,null,null,null,null,{"$f":"IF(X1537=\"\",\"\",INDEX(referentes!J:K,MATCH(X1537,referentes!J:J,0),2))","v":""},null,null,""]
["30000401000000",null,0,{"$f":"IF(E1538<>\"\",CONCATENATE(B1538,A1538,DIGITADOR!$M$1,C1538),\"\")","v":""},null,null,"","","",null,1534,"",{"$f":"IF(R1538=R1537,\"\",IF(E1538<>\"\",CONCATENATE(B1538,A1538,DIGITADOR!$M$1,C1538),\"\"))","v":""},null,{"$f":"IF(N1538=\"\",\"\",INDEX(referentes!S:T,MATCH(N1538,referentes!T:T,0),1))","v":""},null,{"$f":"IF(P1538=\"\",\"\",INDEX(referentes!Y:Z,MATCH(P1538,referentes!Z:Z,0),1))","v":""},"","",null,null,null,null,null,{"$f":"IF(X1538=\"\",\"\",INDEX(referentes!J:K,MATCH(X1538,referentes!J:J,0),2))","v":""},null,null,""]
["30000401000000",null,0,{"$f":"IF(E1539<>\"\",CONCATENATE(B1539,A1539,DIGITADOR!$M$1,C1539),\"\")","v":""},null,null,"","","",null,1535,"",{"$f":"IF(R1539=R1538,\"\",IF(E1539<>\"\",CONCATENATE(B1539,A1539,DIGITADOR!$M$1,C1539),\"\"))","v":""},null,{"$f":"IF(N1539=\"\",\"\",INDEX(referentes!S:T,MATCH(N1539,referentes!T:T,0),1))","v":""},null,{"$f":"IF(P1539=\"\",\"\",INDEX(referentes!Y:Z,MATCH(P1539,referentes!Z:Z,0),1))","v":""},"","",null,null,null,null,null,{"$f":"IF(X1539=\"\",\"\",INDEX(referentes!J:K,MATCH(X1539,referentes!J:J,0),2))","v":""},null,null,""]
["30000401000000",null,0,{"$f":"IF(E1540<>\"\",CONCATENATE(B1540,A1540,DIGITADOR!$M$1,C1540),\"\")","v":""},null,null,"","","",null,1536,"",{"$f":"IF(R1540=R1539,\"\",IF(E1540<>\"\",CONCATENATE(B1540,A1540,DIGITADOR!$M$1,C1540),\"\"))","v":""},null,{"$f":"IF(N1540=\"\",\"\",INDEX(referentes!S:T,MATCH(N1540,referentes!T:T,0),1))","v":""},null,{"$f":"IF(P1540=\"\",\"\",INDEX(referentes!Y:Z,MATCH(P1540,referentes!Z:Z,0),1))","v":""},"","",null,null,null,null,null,{"$f":"IF(X1540=\"\",\"\",INDEX(referentes!J:K,MATCH(X1540,referentes!J:J,0),2))","v":""},null,null,""]
["30000401000000",null,{"$f":"IF(R1541=R1540,C1540,C1540+1)","v":0},{"$f":"IF(E1541<>\"\",CONCATENATE(B1541,A1541,DIGITADOR!$M$1,C1541),\"\")","v":""},null,null,"","","",null,1537,"",{"$f":"IF(R1541=R1540,\"\",IF(E1541<>\"\",CONCATENATE(B1541,A1541,DIGITADOR!$M$1,C1541),\"\"))","v":""},null,{"$f":"IF(N1541=\"\",\"\",INDEX(referentes!S:T,MATCH(N1541,referentes!T:T,0),1))","v":""},null,{"$f":"IF(P1541=\"\",\"\",INDEX(referentes!Y:Z,MATCH(P1541,referentes!Z:Z,0),1))","v":""},"","",null,null,null,null,null,{"$f":"IF(X1541=\"\",\"\",INDEX(referentes!J:K,MATCH(X1541,referentes!J:J,0),2))","v":""},null,null,""]
["30000401000000",null,0,{"$f":"IF(E1542<>\"\",CONCATENATE(B1542,A1542,DIGITADOR!$M$1,C1542),\"\")","v":""},null,null,{"$f":"IF(E1542=\"\", \"\", (E1542+F1542))","v":""},{"$f":"IF(G1542<>\"\",MONTH(G1542),\"\")","v":""},{"$f":"IF(D1542=\"\",\"\",1)","v":""},null,1538,{"$f":"IF(E1542=\"\",\"\",CONCATENATE(D1542,K1542))","v":""},{"$f":"IF(R1542=R1541,\"\",IF(E1542<>\"\",CONCATENATE(B1542,A1542,DIGITADOR!$M$1,C1542),\"\"))","v":""},null,{"$f":"IF(N1542=\"\",\"\",INDEX(referentes!S:T,MATCH(N1542,referentes!T:T,0),1))","v":""},null,{"$f":"IF(P1542=\"\",\"\",INDEX(referentes!Y:Z,MATCH(P1542,referentes!Z:Z,0),1))","v":""},{"$f":"IF(G1542=\"\",\"\",CONCATENATE(G1542,O1542,Q1542))","v":""},{"$f":"IF(E1542=\"\",\"\",\"INVEMAR\")","v":""},null,null,null,null,null,{"$f":"IF(X1542=\"\",\"\",INDEX(referentes!J:K,MATCH(X1542,referentes!J:J,0),2))","v":""},null,null,{"$f":"IF(T1542=\"\",\"\",IF(T1542=T1541,AB1541,AA1542))","v":""}]
[{"$f":"A1542","v":"30000401000000"},null,0,{"$f":"IF(E1543<>\"\",CONCATENATE(B1543,A1543,DIGITADOR!$M$1,C1543),\"\")","v":""},null,null,"","","",null,1539,"",{"$f":"IF(R1543=R1542,\"\",IF(E1543<>\"\",CONCATENATE(B1543,A1543,DIGITADOR!$M$1,C1543),\"\"))","v":""},null,{"$f":"IF(N1543=\"\",\"\",INDEX(referentes!S:T,MATCH(N1543,referentes!T:T,0),1))","v":""},null,{"$f":"IF(P1543=\"\",\"\",INDEX(referentes!Y:Z,MATCH(P1543,referentes!Z:Z,0),1))","v":""},"","",null,null,null,null,null,{"$f":"IF(X1543=\"\",\"\",INDEX(referentes!J:K,MATCH(X1543,referentes!J:J,0),2))","v":""},null,null,""]
["30000401000000",null,0,{"$f":"IF(E1544<>\"\",CONCATENATE(B1544,A1544,DIGITADOR!$M$1,C1544),\"\")","v":""},null,null,"","","",null,1540,"",{"$f":"IF(R1544=R1543,\"\",IF(E1544<>\"\",CONCATENATE(B1544,A1544,DIGITADOR!$M$1,C1544),\"\"))","v":""},null,{"$f":"IF(N1544=\"\",\"\",INDEX(referentes!S:T,MATCH(N1544,referentes!T:T,0),1))","v":""},null,{"$f":"IF(P1544=\"\",\"\",INDEX(referentes!Y:Z,MATCH(P1544,referentes!Z:Z,0),1))","v":""},"","",null,null,null,null,null,{"$f":"IF(X1544=\"\",\"\",INDEX(referentes!J:K,MATCH(X1544,referentes!J:J,0),2))","v":""},null,null,""]
["30000401000000",null,0,{"$f":"IF(E1545<>\"\",CONCATENATE(B1545,A1545,DIGITADOR!$M$1,C1545),\"\")","v":""},null,null,"","","",null,1541,"",{"$f":"IF(R1545=R1544,\"\",IF(E1545<>\"\",CONCATENATE(B1545,A1545,DIGITADOR!$M$1,C1545),\"\"))","v":""},null,{"$f":"IF(N1545=\"\",\"\",INDEX(referentes!S:T,MATCH(N1545,referentes!T:T,0),1))","v":""},null,{"$f":"IF(P1545=\"\",\"\",INDEX(referentes!Y:Z,MATCH(P1545,referentes!Z:Z,0),1))","v":""},"","",null,null,null,null,null,{"$f":"IF(X1545=\"\",\"\",INDEX(referentes!J:K,MATCH(X1545,referentes!J:J,0),2))","v":""},null,null,""]
["30000401000000",null,0,{"$f":"IF(E1546<>\"\",CONCATENATE(B1546,A1546,DIGITADOR!$M$1,C1546),\"\")","v":""},null,null,"","","",null,1542,"",{"$f":"IF(R1546=R1545,\"\",IF(E1546<>\"\",CONCATENATE(B1546,A1546,DIGITADOR!$M$1,C1546),\"\"))","v":""},null,{"$f":"IF(N1546=\"\",\"\",INDEX(referentes!S:T,MATCH(N1546,referentes!T:T,0),1))","v":""},null,{"$f":"IF(P1546=\"\",\"\",INDEX(referentes!Y:Z,MATCH(P1546,referentes!Z:Z,0),1))","v":""},"","",null,null,null,null,null,{"$f":"IF(X1546=\"\",\"\",INDEX(referentes!J:K,MATCH(X1546,referentes!J:J,0),2))","v":""},null,null,""]
["30000401000000",null,0,{"$f":"IF(E1547<>\"\",CONCATENATE(B1547,A1547,DIGITADOR!$M$1,C1547),\"\")","v":""},null,null,"","","",null,1543,"",{"$f":"IF(R1547=R1546,\"\",IF(E1547<>\"\",CONCATENATE(B1547,A1547,DIGITADOR!$M$1,C1547),\"\"))","v":""},null,{"$f":"IF(N1547=\"\",\"\",INDEX(referentes!S:T,MATCH(N1547,referentes!T:T,0),1))","v":""},null,{"$f":"IF(P1547=\"\",\"\",INDEX(referentes!Y:Z,MATCH(P1547,referentes!Z:Z,0),1))","v":""},"","",null,null,null,null,null,{"$f":"IF(X1547=\"\",\"\",INDEX(referentes!J:K,MATCH(X1547,referentes!J:J,0),2))","v":""},null,null,""]
["30000401000000",null,0,{"$f":"IF(E1548<>\"\",CONCATENATE(B1548,A1548,DIGITADOR!$M$1,C1548),\"\")","v":""},null,null,"","","",null,1544,"",{"$f":"IF(R1548=R1547,\"\",IF(E1548<>\"\",CONCATENATE(B1548,A1548,DIGITADOR!$M$1,C1548),\"\"))","v":""},null,{"$f":"IF(N1548=\"\",\"\",INDEX(referentes!S:T,MATCH(N1548,referentes!T:T,0),1))","v":""},null,{"$f":"IF(P1548=\"\",\"\",INDEX(referentes!Y:Z,MATCH(P1548,referentes!Z:Z,0),1))","v":""},"","",null,null,null,null,null,{"$f":"IF(X1548=\"\",\"\",INDEX(referentes!J:K,MATCH(X1548,referentes!J:J,0),2))","v":""},null,null,""]
["30000401000000",null,0,{"$f":"IF(E1549<>\"\",CONCATENATE(B1549,A1549,DIGITADOR!$M$1,C1549),\"\")","v":""},null,null,"","","",null,1545,"",{"$f":"IF(R1549=R1548,\"\",IF(E1549<>\"\",CONCATENATE(B1549,A1549,DIGITADOR!$M$1,C1549),\"\"))","v":""},null,{"$f":"IF(N1549=\"\",\"\",INDEX(referentes!S:T,MATCH(N1549,referentes!T:T,0),1))","v":""},null,{"$f":"IF(P1549=\"\",\"\",INDEX(referentes!Y:Z,MATCH(P1549,referentes!Z:Z,0),1))","v":""},"","",null,null,null,null,null,{"$f":"IF(X1549=\"\",\"\",INDEX(referentes!J:K,MATCH(X1549,referentes!J:J,0),2))","v":""},null,null,""]
["30000401000000",null,0,{"$f":"IF(E1550<>\"\",CONCATENATE(B1550,A1550,DIGITADOR!$M$1,C1550),\"\")","v":""},null,null,"","","",null,1546,"",{"$f":"IF(R1550=R1549,\"\",IF(E1550<>\"\",CONCATENATE(B1550,A1550,DIGITADOR!$M$1,C1550),\"\"))","v":""},null,{"$f":"IF(N1550=\"\",\"\",INDEX(referentes!S:T,MATCH(N1550,referentes!T:T,0),1))","v":""},null,{"$f":"IF(P1550=\"\",\"\",INDEX(referentes!Y:Z,MATCH(P1550,referentes!Z:Z,0),1))","v":""},"","",null,null,null,null,null,{"$f":"IF(X1550=\"\",\"\",INDEX(referentes!J:K,MATCH(X1550,referentes!J:J,0),2))","v":""},null,null,""]
["30000401000000",null,0,{"$f":"IF(E1551<>\"\",CONCATENATE(B1551,A1551,DIGITADOR!$M$1,C1551),\"\")","v":""},null,null,"","","",null,1547,"",{"$f":"IF(R1551=R1550,\"\",IF(E1551<>\"\",CONCATENATE(B1551,A1551,DIGITADOR!$M$1,C1551),\"\"))","v":""},null,{"$f":"IF(N1551=\"\",\"\",INDEX(referentes!S:T,MATCH(N1551,referentes!T:T,0),1))","v":""},null,{"$f":"IF(P1551=\"\",\"\",INDEX(referentes!Y:Z,MATCH(P1551,referentes!Z:Z,0),1))","v":""},"","",null,null,null,null,null,{"$f":"IF(X1551=\"\",\"\",INDEX(referentes!J:K,MATCH(X1551,referentes!J:J,0),2))","v":""},null,null,""]
["30000401000000",null,0,{"$f":"IF(E1552<>\"\",CONCATENATE(B1552,A1552,DIGITADOR!$M$1,C1552),\"\")","v":""},null,null,"","","",null,1548,"",{"$f":"IF(R1552=R1551,\"\",IF(E1552<>\"\",CONCATENATE(B1552,A1552,DIGITADOR!$M$1,C1552),\"\"))","v":""},null,{"$f":"IF(N1552=\"\",\"\",INDEX(referentes!S:T,MATCH(N1552,referentes!T:T,0),1))","v":""},null,{"$f":"IF(P1552=\"\",\"\",INDEX(referentes!Y:Z,MATCH(P1552,referentes!Z:Z,0),1))","v":""},"","",null,null,null,null,null,{"$f":"IF(X1552=\"\",\"\",INDEX(referentes!J:K,MATCH(X1552,referentes!J:J,0),2))","v":""},null,null,""]
["30000401000000",null,0,{"$f":"IF(E1553<>\"\",CONCATENATE(B1553,A1553,DIGITADOR!$M$1,C1553),\"\")","v":""},null,null,"","","",null,1549,"",{"$f":"IF(R1553=R1552,\"\",IF(E1553<>\"\",CONCATENATE(B1553,A1553,DIGITADOR!$M$1,C1553),\"\"))","v":""},null,{"$f":"IF(N1553=\"\",\"\",INDEX(referentes!S:T,MATCH(N1553,referentes!T:T,0),1))","v":""},null,{"$f":"IF(P1553=\"\",\"\",INDEX(referentes!Y:Z,MATCH(P1553,referentes!Z:Z,0),1))","v":""},"","",null,null,null,null,null,{"$f":"IF(X1553=\"\",\"\",INDEX(referentes!J:K,MATCH(X1553,referentes!J:J,0),2))","v":""},null,null,""]
["30000401000000",null,0,{"$f":"IF(E1554<>\"\",CONCATENATE(B1554,A1554,DIGITADOR!$M$1,C1554),\"\")","v":""},null,null,"","","",null,1550,"",{"$f":"IF(R1554=R1553,\"\",IF(E1554<>\"\",CONCATENATE(B1554,A1554,DIGITADOR!$M$1,C1554),\"\"))","v":""},null,{"$f":"IF(N1554=\"\",\"\",INDEX(referentes!S:T,MATCH(N1554,referentes!T:T,0),1))","v":""},null,{"$f":"IF(P1554=\"\",\"\",INDEX(referentes!Y:Z,MATCH(P1554,referentes!Z:Z,0),1))","v":""},"","",null,null,null,null,null,{"$f":"IF(X1554=\"\",\"\",INDEX(referentes!J:K,MATCH(X1554,referentes!J:J,0),2))","v":""},null,null,""]
["30000401000000",null,0,{"$f":"IF(E1555<>\"\",CONCATENATE(B1555,A1555,DIGITADOR!$M$1,C1555),\"\")","v":""},null,null,"","","",null,1551,"",{"$f":"IF(R1555=R1554,\"\",IF(E1555<>\"\",CONCATENATE(B1555,A1555,DIGITADOR!$M$1,C1555),\"\"))","v":""},null,{"$f":"IF(N1555=\"\",\"\",INDEX(referentes!S:T,MATCH(N1555,referentes!T:T,0),1))","v":""},null,{"$f":"IF(P1555=\"\",\"\",INDEX(referentes!Y:Z,MATCH(P1555,referentes!Z:Z,0),1))","v":""},"","",null,null,null,null,null,{"$f":"IF(X1555=\"\",\"\",INDEX(referentes!J:K,MATCH(X1555,referentes!J:J,0),2))","v":""},null,null,""]
["30000401000000",null,0,{"$f":"IF(E1556<>\"\",CONCATENATE(B1556,A1556,DIGITADOR!$M$1,C1556),\"\")","v":""},null,null,"","","",null,1552,"",{"$f":"IF(R1556=R1555,\"\",IF(E1556<>\"\",CONCATENATE(B1556,A1556,DIGITADOR!$M$1,C1556),\"\"))","v":""},null,{"$f":"IF(N1556=\"\",\"\",INDEX(referentes!S:T,MATCH(N1556,referentes!T:T,0),1))","v":""},null,{"$f":"IF(P1556=\"\",\"\",INDEX(referentes!Y:Z,MATCH(P1556,referentes!Z:Z,0),1))","v":""},"","",null,null,null,null,null,{"$f":"IF(X1556=\"\",\"\",INDEX(referentes!J:K,MATCH(X1556,referentes!J:J,0),2))","v":""},null,null,""]
["30000401000000",null,0,{"$f":"IF(E1557<>\"\",CONCATENATE(B1557,A1557,DIGITADOR!$M$1,C1557),\"\")","v":""},null,null,"","","",null,1553,"",{"$f":"IF(R1557=R1556,\"\",IF(E1557<>\"\",CONCATENATE(B1557,A1557,DIGITADOR!$M$1,C1557),\"\"))","v":""},null,{"$f":"IF(N1557=\"\",\"\",INDEX(referentes!S:T,MATCH(N1557,referentes!T:T,0),1))","v":""},null,{"$f":"IF(P1557=\"\",\"\",INDEX(referentes!Y:Z,MATCH(P1557,referentes!Z:Z,0),1))","v":""},"","",null,null,null,null,null,{"$f":"IF(X1557=\"\",\"\",INDEX(referentes!J:K,MATCH(X1557,referentes!J:J,0),2))","v":""},null,null,""]
["30000401000000",null,0,{"$f":"IF(E1558<>\"\",CONCATENATE(B1558,A1558,DIGITADOR!$M$1,C1558),\"\")","v":""},null,null,"","","",null,1554,"",{"$f":"IF(R1558=R1557,\"\",IF(E1558<>\"\",CONCATENATE(B1558,A1558,DIGITADOR!$M$1,C1558),\"\"))","v":""},null,{"$f":"IF(N1558=\"\",\"\",INDEX(referentes!S:T,MATCH(N1558,referentes!T:T,0),1))","v":""},null,{"$f":"IF(P1558=\"\",\"\",INDEX(referentes!Y:Z,MATCH(P1558,referentes!Z:Z,0),1))","v":""},"","",null,null,null,null,null,{"$f":"IF(X1558=\"\",\"\",INDEX(referentes!J:K,MATCH(X1558,referentes!J:J,0),2))","v":""},null,null,""]
["30000401000000",null,0,{"$f":"IF(E1559<>\"\",CONCATENATE(B1559,A1559,DIGITADOR!$M$1,C1559),\"\")","v":""},null,null,"","","",null,1555,"",{"$f":"IF(R1559=R1558,\"\",IF(E1559<>\"\",CONCATENATE(B1559,A1559,DIGITADOR!$M$1,C1559),\"\"))","v":""},null,{"$f":"IF(N1559=\"\",\"\",INDEX(referentes!S:T,MATCH(N1559,referentes!T:T,0),1))","v":""},null,{"$f":"IF(P1559=\"\",\"\",INDEX(referentes!Y:Z,MATCH(P1559,referentes!Z:Z,0),1))","v":""},"","",null,null,null,null,null,{"$f":"IF(X1559=\"\",\"\",INDEX(referentes!J:K,MATCH(X1559,referentes!J:J,0),2))","v":""},null,null,""]
["30000401000000",null,0,{"$f":"IF(E1560<>\"\",CONCATENATE(B1560,A1560,DIGITADOR!$M$1,C1560),\"\")","v":""},null,null,"","","",null,1556,"",{"$f":"IF(R1560=R1559,\"\",IF(E1560<>\"\",CONCATENATE(B1560,A1560,DIGITADOR!$M$1,C1560),\"\"))","v":""},null,{"$f":"IF(N1560=\"\",\"\",INDEX(referentes!S:T,MATCH(N1560,referentes!T:T,0),1))","v":""},null,{"$f":"IF(P1560=\"\",\"\",INDEX(referentes!Y:Z,MATCH(P1560,referentes!Z:Z,0),1))","v":""},"","",null,null,null,null,null,{"$f":"IF(X1560=\"\",\"\",INDEX(referentes!J:K,MATCH(X1560,referentes!J:J,0),2))","v":""},null,null,""]
["30000401000000",null,0,{"$f":"IF(E1561<>\"\",CONCATENATE(B1561,A1561,DIGITADOR!$M$1,C1561),\"\")","v":""},null,null,"","","",null,1557,"",{"$f":"IF(R1561=R1560,\"\",IF(E1561<>\"\",CONCATENATE(B1561,A1561,DIGITADOR!$M$1,C1561),\"\"))","v":""},null,{"$f":"IF(N1561=\"\",\"\",INDEX(referentes!S:T,MATCH(N1561,referentes!T:T,0),1))","v":""},null,{"$f":"IF(P1561=\"\",\"\",INDEX(referentes!Y:Z,MATCH(P1561,referentes!Z:Z,0),1))","v":""},"","",null,null,null,null,null,{"$f":"IF(X1561=\"\",\"\",INDEX(referentes!J:K,MATCH(X1561,referentes!J:J,0),2))","v":""},null,null,""]
["30000401000000",null,0,{"$f":"IF(E1562<>\"\",CONCATENATE(B1562,A1562,DIGITADOR!$M$1,C1562),\"\")","v":""},null,null,"","","",null,1558,"",{"$f":"IF(R1562=R1561,\"\",IF(E1562<>\"\",CONCATENATE(B1562,A1562,DIGITADOR!$M$1,C1562),\"\"))","v":""},null,{"$f":"IF(N1562=\"\",\"\",INDEX(referentes!S:T,MATCH(N1562,referentes!T:T,0),1))","v":""},null,{"$f":"IF(P1562=\"\",\"\",INDEX(referentes!Y:Z,MATCH(P1562,referentes!Z:Z,0),1))","v":""},"","",null,null,null,null,null,{"$f":"IF(X1562=\"\",\"\",INDEX(referentes!J:K,MATCH(X1562,referentes!J:J,0),2))","v":""},null,null,""]
["30000401000000",null,0,{"$f":"IF(E1563<>\"\",CONCATENATE(B1563,A1563,DIGITADOR!$M$1,C1563),\"\")","v":""},null,null,"","","",null,1559,"",{"$f":"IF(R1563=R1562,\"\",IF(E1563<>\"\",CONCATENATE(B1563,A1563,DIGITADOR!$M$1,C1563),\"\"))","v":""},null,{"$f":"IF(N1563=\"\",\"\",INDEX(referentes!S:T,MATCH(N1563,referentes!T:T,0),1))","v":""},null,{"$f":"IF(P1563=\"\",\"\",INDEX(referentes!Y:Z,MATCH(P1563,referentes!Z:Z,0),1))","v":""},"","",null,null,null,null,null,{"$f":"IF(X1563=\"\",\"\",INDEX(referentes!J:K,MATCH(X1563,referentes!J:J,0),2))","v":""},null,null,""]
["30000401000000",null,0,{"$f":"IF(E1564<>\"\",CONCATENATE(B1564,A1564,DIGITADOR!$M$1,C1564),\"\")","v":""},null,null,"","","",null,1560,"",{"$f":"IF(R1564=R1563,\"\",IF(E1564<>\"\",CONCATENATE(B1564,A1564,DIGITADOR!$M$1,C1564),\"\"))","v":""},null,{"$f":"IF(N1564=\"\",\"\",INDEX(referentes!S:T,MATCH(N1564,referentes!T:T,0),1))","v":""},null,{"$f":"IF(P1564=\"\",\"\",INDEX(referentes!Y:Z,MATCH(P1564,referentes!Z:Z,0),1))","v":""},"","",null,null,null,null,null,{"$f":"IF(X1564=\"\",\"\",INDEX(referentes!J:K,MATCH(X1564,referentes!J:J,0),2))","v":""},null,null,""]
["30000401000000",null,0,{"$f":"IF(E1565<>\"\",CONCATENATE(B1565,A1565,DIGITADOR!$M$1,C1565),\"\")","v":""},null,null,"","","",null,1561,"",{"$f":"IF(R1565=R1564,\"\",IF(E1565<>\"\",CONCATENATE(B1565,A1565,DIGITADOR!$M$1,C1565),\"\"))","v":""},null,{"$f":"IF(N1565=\"\",\"\",INDEX(referentes!S:T,MATCH(N1565,referentes!T:T,0),1))","v":""},null,{"$f":"IF(P1565=\"\",\"\",INDEX(referentes!Y:Z,MATCH(P1565,referentes!Z:Z,0),1))","v":""},"","",null,null,null,null,null,{"$f":"IF(X1565=\"\",\"\",INDEX(referentes!J:K,MATCH(X1565,referentes!J:J,0),2))","v":""},null,null,""]
["30000401000000",null,0,{"$f":"IF(E1566<>\"\",CONCATENATE(B1566,A1566,DIGITADOR!$M$1,C1566),\"\")","v":""},null,null,"","","",null,1562,"",{"$f":"IF(R1566=R1565,\"\",IF(E1566<>\"\",CONCATENATE(B1566,A1566,DIGITADOR!$M$1,C1566),\"\"))","v":""},null,{"$f":"IF(N1566=\"\",\"\",INDEX(referentes!S:T,MATCH(N1566,referentes!T:T,0),1))","v":""},null,{"$f":"IF(P1566=\"\",\"\",INDEX(referentes!Y:Z,MATCH(P1566,referentes!Z:Z,0),1))","v":""},"","",null,null,null,null,null,{"$f":"IF(X1566=\"\",\"\",INDEX(referentes!J:K,MATCH(X1566,referentes!J:J,0),2))","v":""},null,null,""]
["30000401000000",null,0,{"$f":"IF(E1567<>\"\",CONCATENATE(B1567,A1567,DIGITADOR!$M$1,C1567),\"\")","v":""},null,null,"","","",null,1563,"",{"$f":"IF(R1567=R1566,\"\",IF(E1567<>\"\",CONCATENATE(B1567,A1567,DIGITADOR!$M$1,C1567),\"\"))","v":""},null,{"$f":"IF(N1567=\"\",\"\",INDEX(referentes!S:T,MATCH(N1567,referentes!T:T,0),1))","v":""},null,{"$f":"IF(P1567=\"\",\"\",INDEX(referentes!Y:Z,MATCH(P1567,referentes!Z:Z,0),1))","v":""},"","",null,null,null,null,null,{"$f":"IF(X1567=\"\",\"\",INDEX(referentes!J:K,MATCH(X1567,referentes!J:J,0),2))","v":""},null,null,""]
["30000401000000",null,0,{"$f":"IF(E1568<>\"\",CONCATENATE(B1568,A1568,DIGITADOR!$M$1,C1568),\"\")","v":""},null,null,"","","",null,1564,"",{"$f":"IF(R1568=R1567,\"\",IF(E1568<>\"\",CONCATENATE(B1568,A1568,DIGITADOR!$M$1,C1568),\"\"))","v":""},null,{"$f":"IF(N1568=\"\",\"\",INDEX(referentes!S:T,MATCH(N1568,referentes!T:T,0),1))","v":""},null,{"$f":"IF(P1568=\"\",\"\",INDEX(referentes!Y:Z,MATCH(P1568,referentes!Z:Z,0),1))","v":""},"","",null,null,null,null,null,{"$f":"IF(X1568=\"\",\"\",INDEX(referentes!J:K,MATCH(X1568,referentes!J:J,0),2))","v":""},null,null,""]
["30000401000000",null,0,{"$f":"IF(E1569<>\"\",CONCATENATE(B1569,A1569,DIGITADOR!$M$1,C1569),\"\")","v":""},null,null,"","","",null,1565,"",{"$f":"IF(R1569=R1568,\"\",IF(E1569<>\"\",CONCATENATE(B1569,A1569,DIGITADOR!$M$1,C1569),\"\"))","v":""},null,{"$f":"IF(N1569=\"\",\"\",INDEX(referentes!S:T,MATCH(N1569,referentes!T:T,0),1))","v":""},null,{"$f":"IF(P1569=\"\",\"\",INDEX(referentes!Y:Z,MATCH(P1569,referentes!Z:Z,0),1))","v":""},"","",null,null,null,null,null,{"$f":"IF(X1569=\"\",\"\",INDEX(referentes!J:K,MATCH(X1569,referentes!J:J,0),2))","v":""},null,null,""]
["30000401000000",null,0,{"$f":"IF(E1570<>\"\",CONCATENATE(B1570,A1570,DIGITADOR!$M$1,C1570),\"\")","v":""},null,null,"","","",null,1566,"",{"$f":"IF(R1570=R1569,\"\",IF(E1570<>\"\",CONCATENATE(B1570,A1570,DIGITADOR!$M$1,C1570),\"\"))","v":""},null,{"$f":"IF(N1570=\"\",\"\",INDEX(referentes!S:T,MATCH(N1570,referentes!T:T,0),1))","v":""},null,{"$f":"IF(P1570=\"\",\"\",INDEX(referentes!Y:Z,MATCH(P1570,referentes!Z:Z,0),1))","v":""},"","",null,null,null,null,null,{"$f":"IF(X1570=\"\",\"\",INDEX(referentes!J:K,MATCH(X1570,referentes!J:J,0),2))","v":""},null,null,""]
["30000401000000",null,0,{"$f":"IF(E1571<>\"\",CONCATENATE(B1571,A1571,DIGITADOR!$M$1,C1571),\"\")","v":""},null,null,"","","",null,1567,"",{"$f":"IF(R1571=R1570,\"\",IF(E1571<>\"\",CONCATENATE(B1571,A1571,DIGITADOR!$M$1,C1571),\"\"))","v":""},null,{"$f":"IF(N1571=\"\",\"\",INDEX(referentes!S:T,MATCH(N1571,referentes!T:T,0),1))","v":""},null,{"$f":"IF(P1571=\"\",\"\",INDEX(referentes!Y:Z,MATCH(P1571,referentes!Z:Z,0),1))","v":""},"","",null,null,null,null,null,{"$f":"IF(X1571=\"\",\"\",INDEX(referentes!J:K,MATCH(X1571,referentes!J:J,0),2))","v":""},null,null,""]
["30000401000000",null,0,{"$f":"IF(E1572<>\"\",CONCATENATE(B1572,A1572,DIGITADOR!$M$1,C1572),\"\")","v":""},null,null,"","","",null,1568,"",{"$f":"IF(R1572=R1571,\"\",IF(E1572<>\"\",CONCATENATE(B1572,A1572,DIGITADOR!$M$1,C1572),\"\"))","v":""},null,{"$f":"IF(N1572=\"\",\"\",INDEX(referentes!S:T,MATCH(N1572,referentes!T:T,0),1))","v":""},null,{"$f":"IF(P1572=\"\",\"\",INDEX(referentes!Y:Z,MATCH(P1572,referentes!Z:Z,0),1))","v":""},"","",null,null,null,null,null,{"$f":"IF(X1572=\"\",\"\",INDEX(referentes!J:K,MATCH(X1572,referentes!J:J,0),2))","v":""},null,null,""]
["30000401000000",null,0,{"$f":"IF(E1573<>\"\",CONCATENATE(B1573,A1573,DIGITADOR!$M$1,C1573),\"\")","v":""},null,null,"","","",null,1569,"",{"$f":"IF(R1573=R1572,\"\",IF(E1573<>\"\",CONCATENATE(B1573,A1573,DIGITADOR!$M$1,C1573),\"\"))","v":""},null,{"$f":"IF(N1573=\"\",\"\",INDEX(referentes!S:T,MATCH(N1573,referentes!T:T,0),1))","v":""},null,{"$f":"IF(P1573=\"\",\"\",INDEX(referentes!Y:Z,MATCH(P1573,referentes!Z:Z,0),1))","v":""},"","",null,null,null,null,null,{"$f":"IF(X1573=\"\",\"\",INDEX(referentes!J:K,MATCH(X1573,referentes!J:J,0),2))","v":""},null,null,""]
["30000401000000",null,0,{"$f":"IF(E1574<>\"\",CONCATENATE(B1574,A1574,DIGITADOR!$M$1,C1574),\"\")","v":""},null,null,"","","",null,1570,"",{"$f":"IF(R1574=R1573,\"\",IF(E1574<>\"\",CONCATENATE(B1574,A1574,DIGITADOR!$M$1,C1574),\"\"))","v":""},null,{"$f":"IF(N1574=\"\",\"\",INDEX(referentes!S:T,MATCH(N1574,referentes!T:T,0),1))","v":""},null,{"$f":"IF(P1574=\"\",\"\",INDEX(referentes!Y:Z,MATCH(P1574,referentes!Z:Z,0),1))","v":""},"","",null,null,null,null,null,{"$f":"IF(X1574=\"\",\"\",INDEX(referentes!J:K,MATCH(X1574,referentes!J:J,0),2))","v":""},null,null,""]
["30000401000000",null,0,{"$f":"IF(E1575<>\"\",CONCATENATE(B1575,A1575,DIGITADOR!$M$1,C1575),\"\")","v":""},null,null,"","","",null,1571,"",{"$f":"IF(R1575=R1574,\"\",IF(E1575<>\"\",CONCATENATE(B1575,A1575,DIGITADOR!$M$1,C1575),\"\"))","v":""},null,{"$f":"IF(N1575=\"\",\"\",INDEX(referentes!S:T,MATCH(N1575,referentes!T:T,0),1))","v":""},null,{"$f":"IF(P1575=\"\",\"\",INDEX(referentes!Y:Z,MATCH(P1575,referentes!Z:Z,0),1))","v":""},"","",null,null,null,null,null,{"$f":"IF(X1575=\"\",\"\",INDEX(referentes!J:K,MATCH(X1575,referentes!J:J,0),2))","v":""},null,null,""]
["30000401000000",null,0,{"$f":"IF(E1576<>\"\",CONCATENATE(B1576,A1576,DIGITADOR!$M$1,C1576),\"\")","v":""},null,null,"","","",null,1572,"",{"$f":"IF(R1576=R1575,\"\",IF(E1576<>\"\",CONCATENATE(B1576,A1576,DIGITADOR!$M$1,C1576),\"\"))","v":""},null,{"$f":"IF(N1576=\"\",\"\",INDEX(referentes!S:T,MATCH(N1576,referentes!T:T,0),1))","v":""},null,{"$f":"IF(P1576=\"\",\"\",INDEX(referentes!Y:Z,MATCH(P1576,referentes!Z:Z,0),1))","v":""},"","",null,null,null,null,null,{"$f":"IF(X1576=\"\",\"\",INDEX(referentes!J:K,MATCH(X1576,referentes!J:J,0),2))","v":""},null,null,""]
["30000401000000",null,0,{"$f":"IF(E1577<>\"\",CONCATENATE(B1577,A1577,DIGITADOR!$M$1,C1577),\"\")","v":""},null,null,"","","",null,1573,"",{"$f":"IF(R1577=R1576,\"\",IF(E1577<>\"\",CONCATENATE(B1577,A1577,DIGITADOR!$M$1,C1577),\"\"))","v":""},null,{"$f":"IF(N1577=\"\",\"\",INDEX(referentes!S:T,MATCH(N1577,referentes!T:T,0),1))","v":""},null,{"$f":"IF(P1577=\"\",\"\",INDEX(referentes!Y:Z,MATCH(P1577,referentes!Z:Z,0),1))","v":""},"","",null,null,null,null,null,{"$f":"IF(X1577=\"\",\"\",INDEX(referentes!J:K,MATCH(X1577,referentes!J:J,0),2))","v":""},null,null,""]
["30000401000000",null,0,{"$f":"IF(E1578<>\"\",CONCATENATE(B1578,A1578,DIGITADOR!$M$1,C1578),\"\")","v":""},null,null,"","","",null,1574,"",{"$f":"IF(R1578=R1577,\"\",IF(E1578<>\"\",CONCATENATE(B1578,A1578,DIGITADOR!$M$1,C1578),\"\"))","v":""},null,{"$f":"IF(N1578=\"\",\"\",INDEX(referentes!S:T,MATCH(N1578,referentes!T:T,0),1))","v":""},null,{"$f":"IF(P1578=\"\",\"\",INDEX(referentes!Y:Z,MATCH(P1578,referentes!Z:Z,0),1))","v":""},"","",null,null,null,null,null,{"$f":"IF(X1578=\"\",\"\",INDEX(referentes!J:K,MATCH(X1578,referentes!J:J,0),2))","v":""},null,null,""]
["30000401000000",null,0,{"$f":"IF(E1579<>\"\",CONCATENATE(B1579,A1579,DIGITADOR!$M$1,C1579),\"\")","v":""},null,null,"","","",null,1575,"",{"$f":"IF(R1579=R1578,\"\",IF(E1579<>\"\",CONCATENATE(B1579,A1579,DIGITADOR!$M$1,C1579),\"\"))","v":""},null,{"$f":"IF(N1579=\"\",\"\",INDEX(referentes!S:T,MATCH(N1579,referentes!T:T,0),1))","v":""},null,{"$f":"IF(P1579=\"\",\"\",INDEX(referentes!Y:Z,MATCH(P1579,referentes!Z:Z,0),1))","v":""},"","",null,null,null,null,null,{"$f":"IF(X1579=\"\",\"\",INDEX(referentes!J:K,MATCH(X1579,referentes!J:J,0),2))","v":""},null,null,""]
["30000401000000",null,0,{"$f":"IF(E1580<>\"\",CONCATENATE(B1580,A1580,DIGITADOR!$M$1,C1580),\"\")","v":""},null,null,"","","",null,1576,"",{"$f":"IF(R1580=R1579,\"\",IF(E1580<>\"\",CONCATENATE(B1580,A1580,DIGITADOR!$M$1,C1580),\"\"))","v":""},null,{"$f":"IF(N1580=\"\",\"\",INDEX(referentes!S:T,MATCH(N1580,referentes!T:T,0),1))","v":""},null,{"$f":"IF(P1580=\"\",\"\",INDEX(referentes!Y:Z,MATCH(P1580,referentes!Z:Z,0),1))","v":""},"","",null,null,null,null,null,{"$f":"IF(X1580=\"\",\"\",INDEX(referentes!J:K,MATCH(X1580,referentes!J:J,0),2))","v":""},null,null,""]
["30000401000000",null,0,{"$f":"IF(E1581<>\"\",CONCATENATE(B1581,A1581,DIGITADOR!$M$1,C1581),\"\")","v":""},null,null,"","","",null,1577,"",{"$f":"IF(R1581=R1580,\"\",IF(E1581<>\"\",CONCATENATE(B1581,A1581,DIGITADOR!$M$1,C1581),\"\"))","v":""},null,{"$f":"IF(N1581=\"\",\"\",INDEX(referentes!S:T,MATCH(N1581,referentes!T:T,0),1))","v":""},null,{"$f":"IF(P1581=\"\",\"\",INDEX(referentes!Y:Z,MATCH(P1581,referentes!Z:Z,0),1))","v":""},"","",null,null,null,null,null,{"$f":"IF(X1581=\"\",\"\",INDEX(referentes!J:K,MATCH(X1581,referentes!J:J,0),2))","v":""},null,null,""]
["30000401000000",null,0,{"$f":"IF(E1582<>\"\",CONCATENATE(B1582,A1582,DIGITADOR!$M$1,C1582),\"\")","v":""},null,null,"","","",null,1578,"",{"$f":"IF(R1582=R1581,\"\",IF(E1582<>\"\",CONCATENATE(B1582,A1582,DIGITADOR!$M$1,C1582),\"\"))","v":""},null,{"$f":"IF(N1582=\"\",\"\",INDEX(referentes!S:T,MATCH(N1582,referentes!T:T,0),1))","v":""},null,{"$f":"IF(P1582=\"\",\"\",INDEX(referentes!Y:Z,MATCH(P1582,referentes!Z:Z,0),1))","v":""},"","",null,null,null,null,null,{"$f":"IF(X1582=\"\",\"\",INDEX(referentes!J:K,MATCH(X1582,referentes!J:J,0),2))","v":""},null,null,""]
["30000401000000",null,0,{"$f":"IF(E1583<>\"\",CONCATENATE(B1583,A1583,DIGITADOR!$M$1,C1583),\"\")","v":""},null,null,"","","",null,1579,"",{"$f":"IF(R1583=R1582,\"\",IF(E1583<>\"\",CONCATENATE(B1583,A1583,DIGITADOR!$M$1,C1583),\"\"))","v":""},null,{"$f":"IF(N1583=\"\",\"\",INDEX(referentes!S:T,MATCH(N1583,referentes!T:T,0),1))","v":""},null,{"$f":"IF(P1583=\"\",\"\",INDEX(referentes!Y:Z,MATCH(P1583,referentes!Z:Z,0),1))","v":""},"","",null,null,null,null,null,{"$f":"IF(X1583=\"\",\"\",INDEX(referentes!J:K,MATCH(X1583,referentes!J:J,0),2))","v":""},null,null,""]
["30000401000000",null,0,{"$f":"IF(E1584<>\"\",CONCATENATE(B1584,A1584,DIGITADOR!$M$1,C1584),\"\")","v":""},null,null,"","","",null,1580,"",{"$f":"IF(R1584=R1583,\"\",IF(E1584<>\"\",CONCATENATE(B1584,A1584,DIGITADOR!$M$1,C1584),\"\"))","v":""},null,{"$f":"IF(N1584=\"\",\"\",INDEX(referentes!S:T,MATCH(N1584,referentes!T:T,0),1))","v":""},null,{"$f":"IF(P1584=\"\",\"\",INDEX(referentes!Y:Z,MATCH(P1584,referentes!Z:Z,0),1))","v":""},"","",null,null,null,null,null,{"$f":"IF(X1584=\"\",\"\",INDEX(referentes!J:K,MATCH(X1584,referentes!J:J,0),2))","v":""},null,null,""]
["30000401000000",null,0,{"$f":"IF(E1585<>\"\",CONCATENATE(B1585,A1585,DIGITADOR!$M$1,C1585),\"\")","v":""},null,null,"","","",null,1581,"",{"$f":"IF(R1585=R1584,\"\",IF(E1585<>\"\",CONCATENATE(B1585,A1585,DIGITADOR!$M$1,C1585),\"\"))","v":""},null,{"$f":"IF(N1585=\"\",\"\",INDEX(referentes!S:T,MATCH(N1585,referentes!T:T,0),1))","v":""},null,{"$f":"IF(P1585=\"\",\"\",INDEX(referentes!Y:Z,MATCH(P1585,referentes!Z:Z,0),1))","v":""},"","",null,null,null,null,null,{"$f":"IF(X1585=\"\",\"\",INDEX(referentes!J:K,MATCH(X1585,referentes!J:J,0),2))","v":""},null,null,""]
["30000401000000",null,0,{"$f":"IF(E1586<>\"\",CONCATENATE(B1586,A1586,DIGITADOR!$M$1,C1586),\"\")","v":""},null,null,"","","",null,1582,"",{"$f":"IF(R1586=R1585,\"\",IF(E1586<>\"\",CONCATENATE(B1586,A1586,DIGITADOR!$M$1,C1586),\"\"))","v":""},null,{"$f":"IF(N1586=\"\",\"\",INDEX(referentes!S:T,MATCH(N1586,referentes!T:T,0),1))","v":""},null,{"$f":"IF(P1586=\"\",\"\",INDEX(referentes!Y:Z,MATCH(P1586,referentes!Z:Z,0),1))","v":""},"","",null,null,null,null,null,{"$f":"IF(X1586=\"\",\"\",INDEX(referentes!J:K,MATCH(X1586,referentes!J:J,0),2))","v":""},null,null,""]
["30000401000000",null,0,{"$f":"IF(E1587<>\"\",CONCATENATE(B1587,A1587,DIGITADOR!$M$1,C1587),\"\")","v":""},null,null,"","","",null,1583,"",{"$f":"IF(R1587=R1586,\"\",IF(E1587<>\"\",CONCATENATE(B1587,A1587,DIGITADOR!$M$1,C1587),\"\"))","v":""},null,{"$f":"IF(N1587=\"\",\"\",INDEX(referentes!S:T,MATCH(N1587,referentes!T:T,0),1))","v":""},null,{"$f":"IF(P1587=\"\",\"\",INDEX(referentes!Y:Z,MATCH(P1587,referentes!Z:Z,0),1))","v":""},"","",null,null,null,null,null,{"$f":"IF(X1587=\"\",\"\",INDEX(referentes!J:K,MATCH(X1587,referentes!J:J,0),2))","v":""},null,null,""]
["30000401000000",null,0,{"$f":"IF(E1588<>\"\",CONCATENATE(B1588,A1588,DIGITADOR!$M$1,C1588),\"\")","v":""},null,null,"","","",null,1584,"",{"$f":"IF(R1588=R1587,\"\",IF(E1588<>\"\",CONCATENATE(B1588,A1588,DIGITADOR!$M$1,C1588),\"\"))","v":""},null,{"$f":"IF(N1588=\"\",\"\",INDEX(referentes!S:T,MATCH(N1588,referentes!T:T,0),1))","v":""},null,{"$f":"IF(P1588=\"\",\"\",INDEX(referentes!Y:Z,MATCH(P1588,referentes!Z:Z,0),1))","v":""},"","",null,null,null,null,null,{"$f":"IF(X1588=\"\",\"\",INDEX(referentes!J:K,MATCH(X1588,referentes!J:J,0),2))","v":""},null,null,""]
["30000401000000",null,0,{"$f":"IF(E1589<>\"\",CONCATENATE(B1589,A1589,DIGITADOR!$M$1,C1589),\"\")","v":""},null,null,"","","",null,1585,"",{"$f":"IF(R1589=R1588,\"\",IF(E1589<>\"\",CONCATENATE(B1589,A1589,DIGITADOR!$M$1,C1589),\"\"))","v":""},null,{"$f":"IF(N1589=\"\",\"\",INDEX(referentes!S:T,MATCH(N1589,referentes!T:T,0),1))","v":""},null,{"$f":"IF(P1589=\"\",\"\",INDEX(referentes!Y:Z,MATCH(P1589,referentes!Z:Z,0),1))","v":""},"","",null,null,null,null,null,{"$f":"IF(X1589=\"\",\"\",INDEX(referentes!J:K,MATCH(X1589,referentes!J:J,0),2))","v":""},null,null,""]
["30000401000000",null,0,{"$f":"IF(E1590<>\"\",CONCATENATE(B1590,A1590,DIGITADOR!$M$1,C1590),\"\")","v":""},null,null,"","","",null,1586,"",{"$f":"IF(R1590=R1589,\"\",IF(E1590<>\"\",CONCATENATE(B1590,A1590,DIGITADOR!$M$1,C1590),\"\"))","v":""},null,{"$f":"IF(N1590=\"\",\"\",INDEX(referentes!S:T,MATCH(N1590,referentes!T:T,0),1))","v":""},null,{"$f":"IF(P1590=\"\",\"\",INDEX(referentes!Y:Z,MATCH(P1590,referentes!Z:Z,0),1))","v":""},"","",null,null,null,null,null,{"$f":"IF(X1590=\"\",\"\",INDEX(referentes!J:K,MATCH(X1590,referentes!J:J,0),2))","v":""},null,null,""]
["30000401000000",null,0,{"$f":"IF(E1591<>\"\",CONCATENATE(B1591,A1591,DIGITADOR!$M$1,C1591),\"\")","v":""},null,null,"","","",null,1587,"",{"$f":"IF(R1591=R1590,\"\",IF(E1591<>\"\",CONCATENATE(B1591,A1591,DIGITADOR!$M$1,C1591),\"\"))","v":""},null,{"$f":"IF(N1591=\"\",\"\",INDEX(referentes!S:T,MATCH(N1591,referentes!T:T,0),1))","v":""},null,{"$f":"IF(P1591=\"\",\"\",INDEX(referentes!Y:Z,MATCH(P1591,referentes!Z:Z,0),1))","v":""},"","",null,null,null,null,null,{"$f":"IF(X1591=\"\",\"\",INDEX(referentes!J:K,MATCH(X1591,referentes!J:J,0),2))","v":""},null,null,""]
["30000401000000",null,0,{"$f":"IF(E1592<>\"\",CONCATENATE(B1592,A1592,DIGITADOR!$M$1,C1592),\"\")","v":""},null,null,"","","",null,1588,"",{"$f":"IF(R1592=R1591,\"\",IF(E1592<>\"\",CONCATENATE(B1592,A1592,DIGITADOR!$M$1,C1592),\"\"))","v":""},null,{"$f":"IF(N1592=\"\",\"\",INDEX(referentes!S:T,MATCH(N1592,referentes!T:T,0),1))","v":""},null,{"$f":"IF(P1592=\"\",\"\",INDEX(referentes!Y:Z,MATCH(P1592,referentes!Z:Z,0),1))","v":""},"","",null,null,null,null,null,{"$f":"IF(X1592=\"\",\"\",INDEX(referentes!J:K,MATCH(X1592,referentes!J:J,0),2))","v":""},null,null,""]
["30000401000000",null,0,{"$f":"IF(E1593<>\"\",CONCATENATE(B1593,A1593,DIGITADOR!$M$1,C1593),\"\")","v":""},null,null,"","","",null,1589,"",{"$f":"IF(R1593=R1592,\"\",IF(E1593<>\"\",CONCATENATE(B1593,A1593,DIGITADOR!$M$1,C1593),\"\"))","v":""},null,{"$f":"IF(N1593=\"\",\"\",INDEX(referentes!S:T,MATCH(N1593,referentes!T:T,0),1))","v":""},null,{"$f":"IF(P1593=\"\",\"\",INDEX(referentes!Y:Z,MATCH(P1593,referentes!Z:Z,0),1))","v":""},"","",null,null,null,null,null,{"$f":"IF(X1593=\"\",\"\",INDEX(referentes!J:K,MATCH(X1593,referentes!J:J,0),2))","v":""},null,null,""]
["30000401000000",null,0,{"$f":"IF(E1594<>\"\",CONCATENATE(B1594,A1594,DIGITADOR!$M$1,C1594),\"\")","v":""},null,null,"","","",null,1590,"",{"$f":"IF(R1594=R1593,\"\",IF(E1594<>\"\",CONCATENATE(B1594,A1594,DIGITADOR!$M$1,C1594),\"\"))","v":""},null,{"$f":"IF(N1594=\"\",\"\",INDEX(referentes!S:T,MATCH(N1594,referentes!T:T,0),1))","v":""},null,{"$f":"IF(P1594=\"\",\"\",INDEX(referentes!Y:Z,MATCH(P1594,referentes!Z:Z,0),1))","v":""},"","",null,null,null,null,null,{"$f":"IF(X1594=\"\",\"\",INDEX(referentes!J:K,MATCH(X1594,referentes!J:J,0),2))","v":""},null,null,""]
["30000401000000",null,0,{"$f":"IF(E1595<>\"\",CONCATENATE(B1595,A1595,DIGITADOR!$M$1,C1595),\"\")","v":""},null,null,"","","",null,1591,"",{"$f":"IF(R1595=R1594,\"\",IF(E1595<>\"\",CONCATENATE(B1595,A1595,DIGITADOR!$M$1,C1595),\"\"))","v":""},null,{"$f":"IF(N1595=\"\",\"\",INDEX(referentes!S:T,MATCH(N1595,referentes!T:T,0),1))","v":""},null,{"$f":"IF(P1595=\"\",\"\",INDEX(referentes!Y:Z,MATCH(P1595,referentes!Z:Z,0),1))","v":""},"","",null,null,null,null,null,{"$f":"IF(X1595=\"\",\"\",INDEX(referentes!J:K,MATCH(X1595,referentes!J:J,0),2))","v":""},null,null,""]
["30000401000000",null,0,{"$f":"IF(E1596<>\"\",CONCATENATE(B1596,A1596,DIGITADOR!$M$1,C1596),\"\")","v":""},null,null,"","","",null,1592,"",{"$f":"IF(R1596=R1595,\"\",IF(E1596<>\"\",CONCATENATE(B1596,A1596,DIGITADOR!$M$1,C1596),\"\"))","v":""},null,{"$f":"IF(N1596=\"\",\"\",INDEX(referentes!S:T,MATCH(N1596,referentes!T:T,0),1))","v":""},null,{"$f":"IF(P1596=\"\",\"\",INDEX(referentes!Y:Z,MATCH(P1596,referentes!Z:Z,0),1))","v":""},"","",null,null,null,null,null,{"$f":"IF(X1596=\"\",\"\",INDEX(referentes!J:K,MATCH(X1596,referentes!J:J,0),2))","v":""},null,null,""]
["30000401000000",null,0,{"$f":"IF(E1597<>\"\",CONCATENATE(B1597,A1597,DIGITADOR!$M$1,C1597),\"\")","v":""},null,null,"","","",null,1593,"",{"$f":"IF(R1597=R1596,\"\",IF(E1597<>\"\",CONCATENATE(B1597,A1597,DIGITADOR!$M$1,C1597),\"\"))","v":""},null,{"$f":"IF(N1597=\"\",\"\",INDEX(referentes!S:T,MATCH(N1597,referentes!T:T,0),1))","v":""},null,{"$f":"IF(P1597=\"\",\"\",INDEX(referentes!Y:Z,MATCH(P1597,referentes!Z:Z,0),1))","v":""},"","",null,null,null,null,null,{"$f":"IF(X1597=\"\",\"\",INDEX(referentes!J:K,MATCH(X1597,referentes!J:J,0),2))","v":""},null,null,""]
["30000401000000",null,0,{"$f":"IF(E1598<>\"\",CONCATENATE(B1598,A1598,DIGITADOR!$M$1,C1598),\"\")","v":""},null,null,"","","",null,1594,"",{"$f":"IF(R1598=R1597,\"\",IF(E1598<>\"\",CONCATENATE(B1598,A1598,DIGITADOR!$M$1,C1598),\"\"))","v":""},null,{"$f":"IF(N1598=\"\",\"\",INDEX(referentes!S:T,MATCH(N1598,referentes!T:T,0),1))","v":""},null,{"$f":"IF(P1598=\"\",\"\",INDEX(referentes!Y:Z,MATCH(P1598,referentes!Z:Z,0),1))","v":""},"","",null,null,null,null,null,{"$f":"IF(X1598=\"\",\"\",INDEX(referentes!J:K,MATCH(X1598,referentes!J:J,0),2))","v":""},null,null,""]
["30000401000000",null,0,{"$f":"IF(E1599<>\"\",CONCATENATE(B1599,A1599,DIGITADOR!$M$1,C1599),\"\")","v":""},null,null,"","","",null,1595,"",{"$f":"IF(R1599=R1598,\"\",IF(E1599<>\"\",CONCATENATE(B1599,A1599,DIGITADOR!$M$1,C1599),\"\"))","v":""},null,{"$f":"IF(N1599=\"\",\"\",INDEX(referentes!S:T,MATCH(N1599,referentes!T:T,0),1))","v":""},null,{"$f":"IF(P1599=\"\",\"\",INDEX(referentes!Y:Z,MATCH(P1599,referentes!Z:Z,0),1))","v":""},"","",null,null,null,null,null,{"$f":"IF(X1599=\"\",\"\",INDEX(referentes!J:K,MATCH(X1599,referentes!J:J,0),2))","v":""},null,null,""]
["30000401000000",null,0,{"$f":"IF(E1600<>\"\",CONCATENATE(B1600,A1600,DIGITADOR!$M$1,C1600),\"\")","v":""},null,null,"","","",null,1596,"",{"$f":"IF(R1600=R1599,\"\",IF(E1600<>\"\",CONCATENATE(B1600,A1600,DIGITADOR!$M$1,C1600),\"\"))","v":""},null,{"$f":"IF(N1600=\"\",\"\",INDEX(referentes!S:T,MATCH(N1600,referentes!T:T,0),1))","v":""},null,{"$f":"IF(P1600=\"\",\"\",INDEX(referentes!Y:Z,MATCH(P1600,referentes!Z:Z,0),1))","v":""},"","",null,null,null,null,null,{"$f":"IF(X1600=\"\",\"\",INDEX(referentes!J:K,MATCH(X1600,referentes!J:J,0),2))","v":""},null,null,""]
["30000401000000",null,0,{"$f":"IF(E1601<>\"\",CONCATENATE(B1601,A1601,DIGITADOR!$M$1,C1601),\"\")","v":""},null,null,"","","",null,1597,"",{"$f":"IF(R1601=R1600,\"\",IF(E1601<>\"\",CONCATENATE(B1601,A1601,DIGITADOR!$M$1,C1601),\"\"))","v":""},null,{"$f":"IF(N1601=\"\",\"\",INDEX(referentes!S:T,MATCH(N1601,referentes!T:T,0),1))","v":""},null,{"$f":"IF(P1601=\"\",\"\",INDEX(referentes!Y:Z,MATCH(P1601,referentes!Z:Z,0),1))","v":""},"","",null,null,null,null,null,{"$f":"IF(X1601=\"\",\"\",INDEX(referentes!J:K,MATCH(X1601,referentes!J:J,0),2))","v":""},null,null,""]
["30000401000000",null,0,{"$f":"IF(E1602<>\"\",CONCATENATE(B1602,A1602,DIGITADOR!$M$1,C1602),\"\")","v":""},null,null,"","","",null,1598,"",{"$f":"IF(R1602=R1601,\"\",IF(E1602<>\"\",CONCATENATE(B1602,A1602,DIGITADOR!$M$1,C1602),\"\"))","v":""},null,{"$f":"IF(N1602=\"\",\"\",INDEX(referentes!S:T,MATCH(N1602,referentes!T:T,0),1))","v":""},null,{"$f":"IF(P1602=\"\",\"\",INDEX(referentes!Y:Z,MATCH(P1602,referentes!Z:Z,0),1))","v":""},"","",null,null,null,null,null,{"$f":"IF(X1602=\"\",\"\",INDEX(referentes!J:K,MATCH(X1602,referentes!J:J,0),2))","v":""},null,null,""]
["30000401000000",null,0,{"$f":"IF(E1603<>\"\",CONCATENATE(B1603,A1603,DIGITADOR!$M$1,C1603),\"\")","v":""},null,null,"","","",null,1599,"",{"$f":"IF(R1603=R1602,\"\",IF(E1603<>\"\",CONCATENATE(B1603,A1603,DIGITADOR!$M$1,C1603),\"\"))","v":""},null,{"$f":"IF(N1603=\"\",\"\",INDEX(referentes!S:T,MATCH(N1603,referentes!T:T,0),1))","v":""},null,{"$f":"IF(P1603=\"\",\"\",INDEX(referentes!Y:Z,MATCH(P1603,referentes!Z:Z,0),1))","v":""},"","",null,null,null,null,null,{"$f":"IF(X1603=\"\",\"\",INDEX(referentes!J:K,MATCH(X1603,referentes!J:J,0),2))","v":""},null,null,""]
["30000401000000",null,0,{"$f":"IF(E1604<>\"\",CONCATENATE(B1604,A1604,DIGITADOR!$M$1,C1604),\"\")","v":""},null,null,"","","",null,1600,"",{"$f":"IF(R1604=R1603,\"\",IF(E1604<>\"\",CONCATENATE(B1604,A1604,DIGITADOR!$M$1,C1604),\"\"))","v":""},null,{"$f":"IF(N1604=\"\",\"\",INDEX(referentes!S:T,MATCH(N1604,referentes!T:T,0),1))","v":""},null,{"$f":"IF(P1604=\"\",\"\",INDEX(referentes!Y:Z,MATCH(P1604,referentes!Z:Z,0),1))","v":""},"","",null,null,null,null,null,{"$f":"IF(X1604=\"\",\"\",INDEX(referentes!J:K,MATCH(X1604,referentes!J:J,0),2))","v":""},null,null,""]
["30000401000000",null,{"$f":"IF(R1605=R1604,C1604,C1604+1)","v":0},{"$f":"IF(E1605<>\"\",CONCATENATE(B1605,A1605,DIGITADOR!$M$1,C1605),\"\")","v":""},null,null,"","","",null,1601,"",{"$f":"IF(R1605=R1604,\"\",IF(E1605<>\"\",CONCATENATE(B1605,A1605,DIGITADOR!$M$1,C1605),\"\"))","v":""},null,{"$f":"IF(N1605=\"\",\"\",INDEX(referentes!S:T,MATCH(N1605,referentes!T:T,0),1))","v":""},null,{"$f":"IF(P1605=\"\",\"\",INDEX(referentes!Y:Z,MATCH(P1605,referentes!Z:Z,0),1))","v":""},"","",null,null,null,null,null,{"$f":"IF(X1605=\"\",\"\",INDEX(referentes!J:K,MATCH(X1605,referentes!J:J,0),2))","v":""},null,null,""]
["30000401000000",null,0,{"$f":"IF(E1606<>\"\",CONCATENATE(B1606,A1606,DIGITADOR!$M$1,C1606),\"\")","v":""},null,null,{"$f":"IF(E1606=\"\", \"\", (E1606+F1606))","v":""},{"$f":"IF(G1606<>\"\",MONTH(G1606),\"\")","v":""},{"$f":"IF(D1606=\"\",\"\",1)","v":""},null,1602,{"$f":"IF(E1606=\"\",\"\",CONCATENATE(D1606,K1606))","v":""},{"$f":"IF(R1606=R1605,\"\",IF(E1606<>\"\",CONCATENATE(B1606,A1606,DIGITADOR!$M$1,C1606),\"\"))","v":""},null,{"$f":"IF(N1606=\"\",\"\",INDEX(referentes!S:T,MATCH(N1606,referentes!T:T,0),1))","v":""},null,{"$f":"IF(P1606=\"\",\"\",INDEX(referentes!Y:Z,MATCH(P1606,referentes!Z:Z,0),1))","v":""},{"$f":"IF(G1606=\"\",\"\",CONCATENATE(G1606,O1606,Q1606))","v":""},{"$f":"IF(E1606=\"\",\"\",\"INVEMAR\")","v":""},null,null,null,null,null,{"$f":"IF(X1606=\"\",\"\",INDEX(referentes!J:K,MATCH(X1606,referentes!J:J,0),2))","v":""},null,null,{"$f":"IF(T1606=\"\",\"\",IF(T1606=T1605,AB1605,AA1606))","v":""}]
[{"$f":"A1606","v":"30000401000000"},null,0,{"$f":"IF(E1607<>\"\",CONCATENATE(B1607,A1607,DIGITADOR!$M$1,C1607),\"\")","v":""},null,null,"","","",null,1603,"",{"$f":"IF(R1607=R1606,\"\",IF(E1607<>\"\",CONCATENATE(B1607,A1607,DIGITADOR!$M$1,C1607),\"\"))","v":""},null,{"$f":"IF(N1607=\"\",\"\",INDEX(referentes!S:T,MATCH(N1607,referentes!T:T,0),1))","v":""},null,{"$f":"IF(P1607=\"\",\"\",INDEX(referentes!Y:Z,MATCH(P1607,referentes!Z:Z,0),1))","v":""},"","",null,null,null,null,null,{"$f":"IF(X1607=\"\",\"\",INDEX(referentes!J:K,MATCH(X1607,referentes!J:J,0),2))","v":""},null,null,""]
["30000401000000",null,0,{"$f":"IF(E1608<>\"\",CONCATENATE(B1608,A1608,DIGITADOR!$M$1,C1608),\"\")","v":""},null,null,"","","",null,1604,"",{"$f":"IF(R1608=R1607,\"\",IF(E1608<>\"\",CONCATENATE(B1608,A1608,DIGITADOR!$M$1,C1608),\"\"))","v":""},null,{"$f":"IF(N1608=\"\",\"\",INDEX(referentes!S:T,MATCH(N1608,referentes!T:T,0),1))","v":""},null,{"$f":"IF(P1608=\"\",\"\",INDEX(referentes!Y:Z,MATCH(P1608,referentes!Z:Z,0),1))","v":""},"","",null,null,null,null,null,{"$f":"IF(X1608=\"\",\"\",INDEX(referentes!J:K,MATCH(X1608,referentes!J:J,0),2))","v":""},null,null,""]
["30000401000000",null,0,{"$f":"IF(E1609<>\"\",CONCATENATE(B1609,A1609,DIGITADOR!$M$1,C1609),\"\")","v":""},null,null,"","","",null,1605,"",{"$f":"IF(R1609=R1608,\"\",IF(E1609<>\"\",CONCATENATE(B1609,A1609,DIGITADOR!$M$1,C1609),\"\"))","v":""},null,{"$f":"IF(N1609=\"\",\"\",INDEX(referentes!S:T,MATCH(N1609,referentes!T:T,0),1))","v":""},null,{"$f":"IF(P1609=\"\",\"\",INDEX(referentes!Y:Z,MATCH(P1609,referentes!Z:Z,0),1))","v":""},"","",null,null,null,null,null,{"$f":"IF(X1609=\"\",\"\",INDEX(referentes!J:K,MATCH(X1609,referentes!J:J,0),2))","v":""},null,null,""]
["30000401000000",null,0,{"$f":"IF(E1610<>\"\",CONCATENATE(B1610,A1610,DIGITADOR!$M$1,C1610),\"\")","v":""},null,null,"","","",null,1606,"",{"$f":"IF(R1610=R1609,\"\",IF(E1610<>\"\",CONCATENATE(B1610,A1610,DIGITADOR!$M$1,C1610),\"\"))","v":""},null,{"$f":"IF(N1610=\"\",\"\",INDEX(referentes!S:T,MATCH(N1610,referentes!T:T,0),1))","v":""},null,{"$f":"IF(P1610=\"\",\"\",INDEX(referentes!Y:Z,MATCH(P1610,referentes!Z:Z,0),1))","v":""},"","",null,null,null,null,null,{"$f":"IF(X1610=\"\",\"\",INDEX(referentes!J:K,MATCH(X1610,referentes!J:J,0),2))","v":""},null,null,""]
["30000401000000",null,0,{"$f":"IF(E1611<>\"\",CONCATENATE(B1611,A1611,DIGITADOR!$M$1,C1611),\"\")","v":""},null,null,"","","",null,1607,"",{"$f":"IF(R1611=R1610,\"\",IF(E1611<>\"\",CONCATENATE(B1611,A1611,DIGITADOR!$M$1,C1611),\"\"))","v":""},null,{"$f":"IF(N1611=\"\",\"\",INDEX(referentes!S:T,MATCH(N1611,referentes!T:T,0),1))","v":""},null,{"$f":"IF(P1611=\"\",\"\",INDEX(referentes!Y:Z,MATCH(P1611,referentes!Z:Z,0),1))","v":""},"","",null,null,null,null,null,{"$f":"IF(X1611=\"\",\"\",INDEX(referentes!J:K,MATCH(X1611,referentes!J:J,0),2))","v":""},null,null,""]
["30000401000000",null,0,{"$f":"IF(E1612<>\"\",CONCATENATE(B1612,A1612,DIGITADOR!$M$1,C1612),\"\")","v":""},null,null,"","","",null,1608,"",{"$f":"IF(R1612=R1611,\"\",IF(E1612<>\"\",CONCATENATE(B1612,A1612,DIGITADOR!$M$1,C1612),\"\"))","v":""},null,{"$f":"IF(N1612=\"\",\"\",INDEX(referentes!S:T,MATCH(N1612,referentes!T:T,0),1))","v":""},null,{"$f":"IF(P1612=\"\",\"\",INDEX(referentes!Y:Z,MATCH(P1612,referentes!Z:Z,0),1))","v":""},"","",null,null,null,null,null,{"$f":"IF(X1612=\"\",\"\",INDEX(referentes!J:K,MATCH(X1612,referentes!J:J,0),2))","v":""},null,null,""]
["30000401000000",null,0,{"$f":"IF(E1613<>\"\",CONCATENATE(B1613,A1613,DIGITADOR!$M$1,C1613),\"\")","v":""},null,null,"","","",null,1609,"",{"$f":"IF(R1613=R1612,\"\",IF(E1613<>\"\",CONCATENATE(B1613,A1613,DIGITADOR!$M$1,C1613),\"\"))","v":""},null,{"$f":"IF(N1613=\"\",\"\",INDEX(referentes!S:T,MATCH(N1613,referentes!T:T,0),1))","v":""},null,{"$f":"IF(P1613=\"\",\"\",INDEX(referentes!Y:Z,MATCH(P1613,referentes!Z:Z,0),1))","v":""},"","",null,null,null,null,null,{"$f":"IF(X1613=\"\",\"\",INDEX(referentes!J:K,MATCH(X1613,referentes!J:J,0),2))","v":""},null,null,""]
["30000401000000",null,0,{"$f":"IF(E1614<>\"\",CONCATENATE(B1614,A1614,DIGITADOR!$M$1,C1614),\"\")","v":""},null,null,"","","",null,1610,"",{"$f":"IF(R1614=R1613,\"\",IF(E1614<>\"\",CONCATENATE(B1614,A1614,DIGITADOR!$M$1,C1614),\"\"))","v":""},null,{"$f":"IF(N1614=\"\",\"\",INDEX(referentes!S:T,MATCH(N1614,referentes!T:T,0),1))","v":""},null,{"$f":"IF(P1614=\"\",\"\",INDEX(referentes!Y:Z,MATCH(P1614,referentes!Z:Z,0),1))","v":""},"","",null,null,null,null,null,{"$f":"IF(X1614=\"\",\"\",INDEX(referentes!J:K,MATCH(X1614,referentes!J:J,0),2))","v":""},null,null,""]
["30000401000000",null,0,{"$f":"IF(E1615<>\"\",CONCATENATE(B1615,A1615,DIGITADOR!$M$1,C1615),\"\")","v":""},null,null,"","","",null,1611,"",{"$f":"IF(R1615=R1614,\"\",IF(E1615<>\"\",CONCATENATE(B1615,A1615,DIGITADOR!$M$1,C1615),\"\"))","v":""},null,{"$f":"IF(N1615=\"\",\"\",INDEX(referentes!S:T,MATCH(N1615,referentes!T:T,0),1))","v":""},null,{"$f":"IF(P1615=\"\",\"\",INDEX(referentes!Y:Z,MATCH(P1615,referentes!Z:Z,0),1))","v":""},"","",null,null,null,null,null,{"$f":"IF(X1615=\"\",\"\",INDEX(referentes!J:K,MATCH(X1615,referentes!J:J,0),2))","v":""},null,null,""]
["30000401000000",null,0,{"$f":"IF(E1616<>\"\",CONCATENATE(B1616,A1616,DIGITADOR!$M$1,C1616),\"\")","v":""},null,null,"","","",null,1612,"",{"$f":"IF(R1616=R1615,\"\",IF(E1616<>\"\",CONCATENATE(B1616,A1616,DIGITADOR!$M$1,C1616),\"\"))","v":""},null,{"$f":"IF(N1616=\"\",\"\",INDEX(referentes!S:T,MATCH(N1616,referentes!T:T,0),1))","v":""},null,{"$f":"IF(P1616=\"\",\"\",INDEX(referentes!Y:Z,MATCH(P1616,referentes!Z:Z,0),1))","v":""},"","",null,null,null,null,null,{"$f":"IF(X1616=\"\",\"\",INDEX(referentes!J:K,MATCH(X1616,referentes!J:J,0),2))","v":""},null,null,""]
["30000401000000",null,0,{"$f":"IF(E1617<>\"\",CONCATENATE(B1617,A1617,DIGITADOR!$M$1,C1617),\"\")","v":""},null,null,"","","",null,1613,"",{"$f":"IF(R1617=R1616,\"\",IF(E1617<>\"\",CONCATENATE(B1617,A1617,DIGITADOR!$M$1,C1617),\"\"))","v":""},null,{"$f":"IF(N1617=\"\",\"\",INDEX(referentes!S:T,MATCH(N1617,referentes!T:T,0),1))","v":""},null,{"$f":"IF(P1617=\"\",\"\",INDEX(referentes!Y:Z,MATCH(P1617,referentes!Z:Z,0),1))","v":""},"","",null,null,null,null,null,{"$f":"IF(X1617=\"\",\"\",INDEX(referentes!J:K,MATCH(X1617,referentes!J:J,0),2))","v":""},null,null,""]
["30000401000000",null,0,{"$f":"IF(E1618<>\"\",CONCATENATE(B1618,A1618,DIGITADOR!$M$1,C1618),\"\")","v":""},null,null,"","","",null,1614,"",{"$f":"IF(R1618=R1617,\"\",IF(E1618<>\"\",CONCATENATE(B1618,A1618,DIGITADOR!$M$1,C1618),\"\"))","v":""},null,{"$f":"IF(N1618=\"\",\"\",INDEX(referentes!S:T,MATCH(N1618,referentes!T:T,0),1))","v":""},null,{"$f":"IF(P1618=\"\",\"\",INDEX(referentes!Y:Z,MATCH(P1618,referentes!Z:Z,0),1))","v":""},"","",null,null,null,null,null,{"$f":"IF(X1618=\"\",\"\",INDEX(referentes!J:K,MATCH(X1618,referentes!J:J,0),2))","v":""},null,null,""]
["30000401000000",null,0,{"$f":"IF(E1619<>\"\",CONCATENATE(B1619,A1619,DIGITADOR!$M$1,C1619),\"\")","v":""},null,null,"","","",null,1615,"",{"$f":"IF(R1619=R1618,\"\",IF(E1619<>\"\",CONCATENATE(B1619,A1619,DIGITADOR!$M$1,C1619),\"\"))","v":""},null,{"$f":"IF(N1619=\"\",\"\",INDEX(referentes!S:T,MATCH(N1619,referentes!T:T,0),1))","v":""},null,{"$f":"IF(P1619=\"\",\"\",INDEX(referentes!Y:Z,MATCH(P1619,referentes!Z:Z,0),1))","v":""},"","",null,null,null,null,null,{"$f":"IF(X1619=\"\",\"\",INDEX(referentes!J:K,MATCH(X1619,referentes!J:J,0),2))","v":""},null,null,""]
["30000401000000",null,0,{"$f":"IF(E1620<>\"\",CONCATENATE(B1620,A1620,DIGITADOR!$M$1,C1620),\"\")","v":""},null,null,"","","",null,1616,"",{"$f":"IF(R1620=R1619,\"\",IF(E1620<>\"\",CONCATENATE(B1620,A1620,DIGITADOR!$M$1,C1620),\"\"))","v":""},null,{"$f":"IF(N1620=\"\",\"\",INDEX(referentes!S:T,MATCH(N1620,referentes!T:T,0),1))","v":""},null,{"$f":"IF(P1620=\"\",\"\",INDEX(referentes!Y:Z,MATCH(P1620,referentes!Z:Z,0),1))","v":""},"","",null,null,null,null,null,{"$f":"IF(X1620=\"\",\"\",INDEX(referentes!J:K,MATCH(X1620,referentes!J:J,0),2))","v":""},null,null,""]
["30000401000000",null,0,{"$f":"IF(E1621<>\"\",CONCATENATE(B1621,A1621,DIGITADOR!$M$1,C1621),\"\")","v":""},null,null,"","","",null,1617,"",{"$f":"IF(R1621=R1620,\"\",IF(E1621<>\"\",CONCATENATE(B1621,A1621,DIGITADOR!$M$1,C1621),\"\"))","v":""},null,{"$f":"IF(N1621=\"\",\"\",INDEX(referentes!S:T,MATCH(N1621,referentes!T:T,0),1))","v":""},null,{"$f":"IF(P1621=\"\",\"\",INDEX(referentes!Y:Z,MATCH(P1621,referentes!Z:Z,0),1))","v":""},"","",null,null,null,null,null,{"$f":"IF(X1621=\"\",\"\",INDEX(referentes!J:K,MATCH(X1621,referentes!J:J,0),2))","v":""},null,null,""]
["30000401000000",null,0,{"$f":"IF(E1622<>\"\",CONCATENATE(B1622,A1622,DIGITADOR!$M$1,C1622),\"\")","v":""},null,null,"","","",null,1618,"",{"$f":"IF(R1622=R1621,\"\",IF(E1622<>\"\",CONCATENATE(B1622,A1622,DIGITADOR!$M$1,C1622),\"\"))","v":""},null,{"$f":"IF(N1622=\"\",\"\",INDEX(referentes!S:T,MATCH(N1622,referentes!T:T,0),1))","v":""},null,{"$f":"IF(P1622=\"\",\"\",INDEX(referentes!Y:Z,MATCH(P1622,referentes!Z:Z,0),1))","v":""},"","",null,null,null,null,null,{"$f":"IF(X1622=\"\",\"\",INDEX(referentes!J:K,MATCH(X1622,referentes!J:J,0),2))","v":""},null,null,""]
["30000401000000",null,0,{"$f":"IF(E1623<>\"\",CONCATENATE(B1623,A1623,DIGITADOR!$M$1,C1623),\"\")","v":""},null,null,"","","",null,1619,"",{"$f":"IF(R1623=R1622,\"\",IF(E1623<>\"\",CONCATENATE(B1623,A1623,DIGITADOR!$M$1,C1623),\"\"))","v":""},null,{"$f":"IF(N1623=\"\",\"\",INDEX(referentes!S:T,MATCH(N1623,referentes!T:T,0),1))","v":""},null,{"$f":"IF(P1623=\"\",\"\",INDEX(referentes!Y:Z,MATCH(P1623,referentes!Z:Z,0),1))","v":""},"","",null,null,null,null,null,{"$f":"IF(X1623=\"\",\"\",INDEX(referentes!J:K,MATCH(X1623,referentes!J:J,0),2))","v":""},null,null,""]
["30000401000000",null,0,{"$f":"IF(E1624<>\"\",CONCATENATE(B1624,A1624,DIGITADOR!$M$1,C1624),\"\")","v":""},null,null,"","","",null,1620,"",{"$f":"IF(R1624=R1623,\"\",IF(E1624<>\"\",CONCATENATE(B1624,A1624,DIGITADOR!$M$1,C1624),\"\"))","v":""},null,{"$f":"IF(N1624=\"\",\"\",INDEX(referentes!S:T,MATCH(N1624,referentes!T:T,0),1))","v":""},null,{"$f":"IF(P1624=\"\",\"\",INDEX(referentes!Y:Z,MATCH(P1624,referentes!Z:Z,0),1))","v":""},"","",null,null,null,null,null,{"$f":"IF(X1624=\"\",\"\",INDEX(referentes!J:K,MATCH(X1624,referentes!J:J,0),2))","v":""},null,null,""]
["30000401000000",null,0,{"$f":"IF(E1625<>\"\",CONCATENATE(B1625,A1625,DIGITADOR!$M$1,C1625),\"\")","v":""},null,null,"","","",null,1621,"",{"$f":"IF(R1625=R1624,\"\",IF(E1625<>\"\",CONCATENATE(B1625,A1625,DIGITADOR!$M$1,C1625),\"\"))","v":""},null,{"$f":"IF(N1625=\"\",\"\",INDEX(referentes!S:T,MATCH(N1625,referentes!T:T,0),1))","v":""},null,{"$f":"IF(P1625=\"\",\"\",INDEX(referentes!Y:Z,MATCH(P1625,referentes!Z:Z,0),1))","v":""},"","",null,null,null,null,null,{"$f":"IF(X1625=\"\",\"\",INDEX(referentes!J:K,MATCH(X1625,referentes!J:J,0),2))","v":""},null,null,""]
["30000401000000",null,0,{"$f":"IF(E1626<>\"\",CONCATENATE(B1626,A1626,DIGITADOR!$M$1,C1626),\"\")","v":""},null,null,"","","",null,1622,"",{"$f":"IF(R1626=R1625,\"\",IF(E1626<>\"\",CONCATENATE(B1626,A1626,DIGITADOR!$M$1,C1626),\"\"))","v":""},null,{"$f":"IF(N1626=\"\",\"\",INDEX(referentes!S:T,MATCH(N1626,referentes!T:T,0),1))","v":""},null,{"$f":"IF(P1626=\"\",\"\",INDEX(referentes!Y:Z,MATCH(P1626,referentes!Z:Z,0),1))","v":""},"","",null,null,null,null,null,{"$f":"IF(X1626=\"\",\"\",INDEX(referentes!J:K,MATCH(X1626,referentes!J:J,0),2))","v":""},null,null,""]
["30000401000000",null,0,{"$f":"IF(E1627<>\"\",CONCATENATE(B1627,A1627,DIGITADOR!$M$1,C1627),\"\")","v":""},null,null,"","","",null,1623,"",{"$f":"IF(R1627=R1626,\"\",IF(E1627<>\"\",CONCATENATE(B1627,A1627,DIGITADOR!$M$1,C1627),\"\"))","v":""},null,{"$f":"IF(N1627=\"\",\"\",INDEX(referentes!S:T,MATCH(N1627,referentes!T:T,0),1))","v":""},null,{"$f":"IF(P1627=\"\",\"\",INDEX(referentes!Y:Z,MATCH(P1627,referentes!Z:Z,0),1))","v":""},"","",null,null,null,null,null,{"$f":"IF(X1627=\"\",\"\",INDEX(referentes!J:K,MATCH(X1627,referentes!J:J,0),2))","v":""},null,null,""]
["30000401000000",null,0,{"$f":"IF(E1628<>\"\",CONCATENATE(B1628,A1628,DIGITADOR!$M$1,C1628),\"\")","v":""},null,null,"","","",null,1624,"",{"$f":"IF(R1628=R1627,\"\",IF(E1628<>\"\",CONCATENATE(B1628,A1628,DIGITADOR!$M$1,C1628),\"\"))","v":""},null,{"$f":"IF(N1628=\"\",\"\",INDEX(referentes!S:T,MATCH(N1628,referentes!T:T,0),1))","v":""},null,{"$f":"IF(P1628=\"\",\"\",INDEX(referentes!Y:Z,MATCH(P1628,referentes!Z:Z,0),1))","v":""},"","",null,null,null,null,null,{"$f":"IF(X1628=\"\",\"\",INDEX(referentes!J:K,MATCH(X1628,referentes!J:J,0),2))","v":""},null,null,""]
["30000401000000",null,0,{"$f":"IF(E1629<>\"\",CONCATENATE(B1629,A1629,DIGITADOR!$M$1,C1629),\"\")","v":""},null,null,"","","",null,1625,"",{"$f":"IF(R1629=R1628,\"\",IF(E1629<>\"\",CONCATENATE(B1629,A1629,DIGITADOR!$M$1,C1629),\"\"))","v":""},null,{"$f":"IF(N1629=\"\",\"\",INDEX(referentes!S:T,MATCH(N1629,referentes!T:T,0),1))","v":""},null,{"$f":"IF(P1629=\"\",\"\",INDEX(referentes!Y:Z,MATCH(P1629,referentes!Z:Z,0),1))","v":""},"","",null,null,null,null,null,{"$f":"IF(X1629=\"\",\"\",INDEX(referentes!J:K,MATCH(X1629,referentes!J:J,0),2))","v":""},null,null,""]
["30000401000000",null,0,{"$f":"IF(E1630<>\"\",CONCATENATE(B1630,A1630,DIGITADOR!$M$1,C1630),\"\")","v":""},null,null,"","","",null,1626,"",{"$f":"IF(R1630=R1629,\"\",IF(E1630<>\"\",CONCATENATE(B1630,A1630,DIGITADOR!$M$1,C1630),\"\"))","v":""},null,{"$f":"IF(N1630=\"\",\"\",INDEX(referentes!S:T,MATCH(N1630,referentes!T:T,0),1))","v":""},null,{"$f":"IF(P1630=\"\",\"\",INDEX(referentes!Y:Z,MATCH(P1630,referentes!Z:Z,0),1))","v":""},"","",null,null,null,null,null,{"$f":"IF(X1630=\"\",\"\",INDEX(referentes!J:K,MATCH(X1630,referentes!J:J,0),2))","v":""},null,null,""]
["30000401000000",null,0,{"$f":"IF(E1631<>\"\",CONCATENATE(B1631,A1631,DIGITADOR!$M$1,C1631),\"\")","v":""},null,null,"","","",null,1627,"",{"$f":"IF(R1631=R1630,\"\",IF(E1631<>\"\",CONCATENATE(B1631,A1631,DIGITADOR!$M$1,C1631),\"\"))","v":""},null,{"$f":"IF(N1631=\"\",\"\",INDEX(referentes!S:T,MATCH(N1631,referentes!T:T,0),1))","v":""},null,{"$f":"IF(P1631=\"\",\"\",INDEX(referentes!Y:Z,MATCH(P1631,referentes!Z:Z,0),1))","v":""},"","",null,null,null,null,null,{"$f":"IF(X1631=\"\",\"\",INDEX(referentes!J:K,MATCH(X1631,referentes!J:J,0),2))","v":""},null,null,""]
["30000401000000",null,0,{"$f":"IF(E1632<>\"\",CONCATENATE(B1632,A1632,DIGITADOR!$M$1,C1632),\"\")","v":""},null,null,"","","",null,1628,"",{"$f":"IF(R1632=R1631,\"\",IF(E1632<>\"\",CONCATENATE(B1632,A1632,DIGITADOR!$M$1,C1632),\"\"))","v":""},null,{"$f":"IF(N1632=\"\",\"\",INDEX(referentes!S:T,MATCH(N1632,referentes!T:T,0),1))","v":""},null,{"$f":"IF(P1632=\"\",\"\",INDEX(referentes!Y:Z,MATCH(P1632,referentes!Z:Z,0),1))","v":""},"","",null,null,null,null,null,{"$f":"IF(X1632=\"\",\"\",INDEX(referentes!J:K,MATCH(X1632,referentes!J:J,0),2))","v":""},null,null,""]
["30000401000000",null,0,{"$f":"IF(E1633<>\"\",CONCATENATE(B1633,A1633,DIGITADOR!$M$1,C1633),\"\")","v":""},null,null,"","","",null,1629,"",{"$f":"IF(R1633=R1632,\"\",IF(E1633<>\"\",CONCATENATE(B1633,A1633,DIGITADOR!$M$1,C1633),\"\"))","v":""},null,{"$f":"IF(N1633=\"\",\"\",INDEX(referentes!S:T,MATCH(N1633,referentes!T:T,0),1))","v":""},null,{"$f":"IF(P1633=\"\",\"\",INDEX(referentes!Y:Z,MATCH(P1633,referentes!Z:Z,0),1))","v":""},"","",null,null,null,null,null,{"$f":"IF(X1633=\"\",\"\",INDEX(referentes!J:K,MATCH(X1633,referentes!J:J,0),2))","v":""},null,null,""]
["30000401000000",null,0,{"$f":"IF(E1634<>\"\",CONCATENATE(B1634,A1634,DIGITADOR!$M$1,C1634),\"\")","v":""},null,null,"","","",null,1630,"",{"$f":"IF(R1634=R1633,\"\",IF(E1634<>\"\",CONCATENATE(B1634,A1634,DIGITADOR!$M$1,C1634),\"\"))","v":""},null,{"$f":"IF(N1634=\"\",\"\",INDEX(referentes!S:T,MATCH(N1634,referentes!T:T,0),1))","v":""},null,{"$f":"IF(P1634=\"\",\"\",INDEX(referentes!Y:Z,MATCH(P1634,referentes!Z:Z,0),1))","v":""},"","",null,null,null,null,null,{"$f":"IF(X1634=\"\",\"\",INDEX(referentes!J:K,MATCH(X1634,referentes!J:J,0),2))","v":""},null,null,""]
["30000401000000",null,0,{"$f":"IF(E1635<>\"\",CONCATENATE(B1635,A1635,DIGITADOR!$M$1,C1635),\"\")","v":""},null,null,"","","",null,1631,"",{"$f":"IF(R1635=R1634,\"\",IF(E1635<>\"\",CONCATENATE(B1635,A1635,DIGITADOR!$M$1,C1635),\"\"))","v":""},null,{"$f":"IF(N1635=\"\",\"\",INDEX(referentes!S:T,MATCH(N1635,referentes!T:T,0),1))","v":""},null,{"$f":"IF(P1635=\"\",\"\",INDEX(referentes!Y:Z,MATCH(P1635,referentes!Z:Z,0),1))","v":""},"","",null,null,null,null,null,{"$f":"IF(X1635=\"\",\"\",INDEX(referentes!J:K,MATCH(X1635,referentes!J:J,0),2))","v":""},null,null,""]
["30000401000000",null,0,{"$f":"IF(E1636<>\"\",CONCATENATE(B1636,A1636,DIGITADOR!$M$1,C1636),\"\")","v":""},null,null,"","","",null,1632,"",{"$f":"IF(R1636=R1635,\"\",IF(E1636<>\"\",CONCATENATE(B1636,A1636,DIGITADOR!$M$1,C1636),\"\"))","v":""},null,{"$f":"IF(N1636=\"\",\"\",INDEX(referentes!S:T,MATCH(N1636,referentes!T:T,0),1))","v":""},null,{"$f":"IF(P1636=\"\",\"\",INDEX(referentes!Y:Z,MATCH(P1636,referentes!Z:Z,0),1))","v":""},"","",null,null,null,null,null,{"$f":"IF(X1636=\"\",\"\",INDEX(referentes!J:K,MATCH(X1636,referentes!J:J,0),2))","v":""},null,null,""]
["30000401000000",null,0,{"$f":"IF(E1637<>\"\",CONCATENATE(B1637,A1637,DIGITADOR!$M$1,C1637),\"\")","v":""},null,null,"","","",null,1633,"",{"$f":"IF(R1637=R1636,\"\",IF(E1637<>\"\",CONCATENATE(B1637,A1637,DIGITADOR!$M$1,C1637),\"\"))","v":""},null,{"$f":"IF(N1637=\"\",\"\",INDEX(referentes!S:T,MATCH(N1637,referentes!T:T,0),1))","v":""},null,{"$f":"IF(P1637=\"\",\"\",INDEX(referentes!Y:Z,MATCH(P1637,referentes!Z:Z,0),1))","v":""},"","",null,null,null,null,null,{"$f":"IF(X1637=\"\",\"\",INDEX(referentes!J:K,MATCH(X1637,referentes!J:J,0),2))","v":""},null,null,""]
["30000401000000",null,0,{"$f":"IF(E1638<>\"\",CONCATENATE(B1638,A1638,DIGITADOR!$M$1,C1638),\"\")","v":""},null,null,"","","",null,1634,"",{"$f":"IF(R1638=R1637,\"\",IF(E1638<>\"\",CONCATENATE(B1638,A1638,DIGITADOR!$M$1,C1638),\"\"))","v":""},null,{"$f":"IF(N1638=\"\",\"\",INDEX(referentes!S:T,MATCH(N1638,referentes!T:T,0),1))","v":""},null,{"$f":"IF(P1638=\"\",\"\",INDEX(referentes!Y:Z,MATCH(P1638,referentes!Z:Z,0),1))","v":""},"","",null,null,null,null,null,{"$f":"IF(X1638=\"\",\"\",INDEX(referentes!J:K,MATCH(X1638,referentes!J:J,0),2))","v":""},null,null,""]
["30000401000000",null,0,{"$f":"IF(E1639<>\"\",CONCATENATE(B1639,A1639,DIGITADOR!$M$1,C1639),\"\")","v":""},null,null,"","","",null,1635,"",{"$f":"IF(R1639=R1638,\"\",IF(E1639<>\"\",CONCATENATE(B1639,A1639,DIGITADOR!$M$1,C1639),\"\"))","v":""},null,{"$f":"IF(N1639=\"\",\"\",INDEX(referentes!S:T,MATCH(N1639,referentes!T:T,0),1))","v":""},null,{"$f":"IF(P1639=\"\",\"\",INDEX(referentes!Y:Z,MATCH(P1639,referentes!Z:Z,0),1))","v":""},"","",null,null,null,null,null,{"$f":"IF(X1639=\"\",\"\",INDEX(referentes!J:K,MATCH(X1639,referentes!J:J,0),2))","v":""},null,null,""]
["30000401000000",null,0,{"$f":"IF(E1640<>\"\",CONCATENATE(B1640,A1640,DIGITADOR!$M$1,C1640),\"\")","v":""},null,null,"","","",null,1636,"",{"$f":"IF(R1640=R1639,\"\",IF(E1640<>\"\",CONCATENATE(B1640,A1640,DIGITADOR!$M$1,C1640),\"\"))","v":""},null,{"$f":"IF(N1640=\"\",\"\",INDEX(referentes!S:T,MATCH(N1640,referentes!T:T,0),1))","v":""},null,{"$f":"IF(P1640=\"\",\"\",INDEX(referentes!Y:Z,MATCH(P1640,referentes!Z:Z,0),1))","v":""},"","",null,null,null,null,null,{"$f":"IF(X1640=\"\",\"\",INDEX(referentes!J:K,MATCH(X1640,referentes!J:J,0),2))","v":""},null,null,""]
["30000401000000",null,0,{"$f":"IF(E1641<>\"\",CONCATENATE(B1641,A1641,DIGITADOR!$M$1,C1641),\"\")","v":""},null,null,"","","",null,1637,"",{"$f":"IF(R1641=R1640,\"\",IF(E1641<>\"\",CONCATENATE(B1641,A1641,DIGITADOR!$M$1,C1641),\"\"))","v":""},null,{"$f":"IF(N1641=\"\",\"\",INDEX(referentes!S:T,MATCH(N1641,referentes!T:T,0),1))","v":""},null,{"$f":"IF(P1641=\"\",\"\",INDEX(referentes!Y:Z,MATCH(P1641,referentes!Z:Z,0),1))","v":""},"","",null,null,null,null,null,{"$f":"IF(X1641=\"\",\"\",INDEX(referentes!J:K,MATCH(X1641,referentes!J:J,0),2))","v":""},null,null,""]
["30000401000000",null,0,{"$f":"IF(E1642<>\"\",CONCATENATE(B1642,A1642,DIGITADOR!$M$1,C1642),\"\")","v":""},null,null,"","","",null,1638,"",{"$f":"IF(R1642=R1641,\"\",IF(E1642<>\"\",CONCATENATE(B1642,A1642,DIGITADOR!$M$1,C1642),\"\"))","v":""},null,{"$f":"IF(N1642=\"\",\"\",INDEX(referentes!S:T,MATCH(N1642,referentes!T:T,0),1))","v":""},null,{"$f":"IF(P1642=\"\",\"\",INDEX(referentes!Y:Z,MATCH(P1642,referentes!Z:Z,0),1))","v":""},"","",null,null,null,null,null,{"$f":"IF(X1642=\"\",\"\",INDEX(referentes!J:K,MATCH(X1642,referentes!J:J,0),2))","v":""},null,null,""]
["30000401000000",null,0,{"$f":"IF(E1643<>\"\",CONCATENATE(B1643,A1643,DIGITADOR!$M$1,C1643),\"\")","v":""},null,null,"","","",null,1639,"",{"$f":"IF(R1643=R1642,\"\",IF(E1643<>\"\",CONCATENATE(B1643,A1643,DIGITADOR!$M$1,C1643),\"\"))","v":""},null,{"$f":"IF(N1643=\"\",\"\",INDEX(referentes!S:T,MATCH(N1643,referentes!T:T,0),1))","v":""},null,{"$f":"IF(P1643=\"\",\"\",INDEX(referentes!Y:Z,MATCH(P1643,referentes!Z:Z,0),1))","v":""},"","",null,null,null,null,null,{"$f":"IF(X1643=\"\",\"\",INDEX(referentes!J:K,MATCH(X1643,referentes!J:J,0),2))","v":""},null,null,""]
["30000401000000",null,0,{"$f":"IF(E1644<>\"\",CONCATENATE(B1644,A1644,DIGITADOR!$M$1,C1644),\"\")","v":""},null,null,"","","",null,1640,"",{"$f":"IF(R1644=R1643,\"\",IF(E1644<>\"\",CONCATENATE(B1644,A1644,DIGITADOR!$M$1,C1644),\"\"))","v":""},null,{"$f":"IF(N1644=\"\",\"\",INDEX(referentes!S:T,MATCH(N1644,referentes!T:T,0),1))","v":""},null,{"$f":"IF(P1644=\"\",\"\",INDEX(referentes!Y:Z,MATCH(P1644,referentes!Z:Z,0),1))","v":""},"","",null,null,null,null,null,{"$f":"IF(X1644=\"\",\"\",INDEX(referentes!J:K,MATCH(X1644,referentes!J:J,0),2))","v":""},null,null,""]
["30000401000000",null,0,{"$f":"IF(E1645<>\"\",CONCATENATE(B1645,A1645,DIGITADOR!$M$1,C1645),\"\")","v":""},null,null,"","","",null,1641,"",{"$f":"IF(R1645=R1644,\"\",IF(E1645<>\"\",CONCATENATE(B1645,A1645,DIGITADOR!$M$1,C1645),\"\"))","v":""},null,{"$f":"IF(N1645=\"\",\"\",INDEX(referentes!S:T,MATCH(N1645,referentes!T:T,0),1))","v":""},null,{"$f":"IF(P1645=\"\",\"\",INDEX(referentes!Y:Z,MATCH(P1645,referentes!Z:Z,0),1))","v":""},"","",null,null,null,null,null,{"$f":"IF(X1645=\"\",\"\",INDEX(referentes!J:K,MATCH(X1645,referentes!J:J,0),2))","v":""},null,null,""]
["30000401000000",null,0,{"$f":"IF(E1646<>\"\",CONCATENATE(B1646,A1646,DIGITADOR!$M$1,C1646),\"\")","v":""},null,null,"","","",null,1642,"",{"$f":"IF(R1646=R1645,\"\",IF(E1646<>\"\",CONCATENATE(B1646,A1646,DIGITADOR!$M$1,C1646),\"\"))","v":""},null,{"$f":"IF(N1646=\"\",\"\",INDEX(referentes!S:T,MATCH(N1646,referentes!T:T,0),1))","v":""},null,{"$f":"IF(P1646=\"\",\"\",INDEX(referentes!Y:Z,MATCH(P1646,referentes!Z:Z,0),1))","v":""},"","",null,null,null,null,null,{"$f":"IF(X1646=\"\",\"\",INDEX(referentes!J:K,MATCH(X1646,referentes!J:J,0),2))","v":""},null,null,""]
["30000401000000",null,0,{"$f":"IF(E1647<>\"\",CONCATENATE(B1647,A1647,DIGITADOR!$M$1,C1647),\"\")","v":""},null,null,"","","",null,1643,"",{"$f":"IF(R1647=R1646,\"\",IF(E1647<>\"\",CONCATENATE(B1647,A1647,DIGITADOR!$M$1,C1647),\"\"))","v":""},null,{"$f":"IF(N1647=\"\",\"\",INDEX(referentes!S:T,MATCH(N1647,referentes!T:T,0),1))","v":""},null,{"$f":"IF(P1647=\"\",\"\",INDEX(referentes!Y:Z,MATCH(P1647,referentes!Z:Z,0),1))","v":""},"","",null,null,null,null,null,{"$f":"IF(X1647=\"\",\"\",INDEX(referentes!J:K,MATCH(X1647,referentes!J:J,0),2))","v":""},null,null,""]
["30000401000000",null,0,{"$f":"IF(E1648<>\"\",CONCATENATE(B1648,A1648,DIGITADOR!$M$1,C1648),\"\")","v":""},null,null,"","","",null,1644,"",{"$f":"IF(R1648=R1647,\"\",IF(E1648<>\"\",CONCATENATE(B1648,A1648,DIGITADOR!$M$1,C1648),\"\"))","v":""},null,{"$f":"IF(N1648=\"\",\"\",INDEX(referentes!S:T,MATCH(N1648,referentes!T:T,0),1))","v":""},null,{"$f":"IF(P1648=\"\",\"\",INDEX(referentes!Y:Z,MATCH(P1648,referentes!Z:Z,0),1))","v":""},"","",null,null,null,null,null,{"$f":"IF(X1648=\"\",\"\",INDEX(referentes!J:K,MATCH(X1648,referentes!J:J,0),2))","v":""},null,null,""]
["30000401000000",null,0,{"$f":"IF(E1649<>\"\",CONCATENATE(B1649,A1649,DIGITADOR!$M$1,C1649),\"\")","v":""},null,null,"","","",null,1645,"",{"$f":"IF(R1649=R1648,\"\",IF(E1649<>\"\",CONCATENATE(B1649,A1649,DIGITADOR!$M$1,C1649),\"\"))","v":""},null,{"$f":"IF(N1649=\"\",\"\",INDEX(referentes!S:T,MATCH(N1649,referentes!T:T,0),1))","v":""},null,{"$f":"IF(P1649=\"\",\"\",INDEX(referentes!Y:Z,MATCH(P1649,referentes!Z:Z,0),1))","v":""},"","",null,null,null,null,null,{"$f":"IF(X1649=\"\",\"\",INDEX(referentes!J:K,MATCH(X1649,referentes!J:J,0),2))","v":""},null,null,""]
["30000401000000",null,0,{"$f":"IF(E1650<>\"\",CONCATENATE(B1650,A1650,DIGITADOR!$M$1,C1650),\"\")","v":""},null,null,"","","",null,1646,"",{"$f":"IF(R1650=R1649,\"\",IF(E1650<>\"\",CONCATENATE(B1650,A1650,DIGITADOR!$M$1,C1650),\"\"))","v":""},null,{"$f":"IF(N1650=\"\",\"\",INDEX(referentes!S:T,MATCH(N1650,referentes!T:T,0),1))","v":""},null,{"$f":"IF(P1650=\"\",\"\",INDEX(referentes!Y:Z,MATCH(P1650,referentes!Z:Z,0),1))","v":""},"","",null,null,null,null,null,{"$f":"IF(X1650=\"\",\"\",INDEX(referentes!J:K,MATCH(X1650,referentes!J:J,0),2))","v":""},null,null,""]
["30000401000000",null,0,{"$f":"IF(E1651<>\"\",CONCATENATE(B1651,A1651,DIGITADOR!$M$1,C1651),\"\")","v":""},null,null,"","","",null,1647,"",{"$f":"IF(R1651=R1650,\"\",IF(E1651<>\"\",CONCATENATE(B1651,A1651,DIGITADOR!$M$1,C1651),\"\"))","v":""},null,{"$f":"IF(N1651=\"\",\"\",INDEX(referentes!S:T,MATCH(N1651,referentes!T:T,0),1))","v":""},null,{"$f":"IF(P1651=\"\",\"\",INDEX(referentes!Y:Z,MATCH(P1651,referentes!Z:Z,0),1))","v":""},"","",null,null,null,null,null,{"$f":"IF(X1651=\"\",\"\",INDEX(referentes!J:K,MATCH(X1651,referentes!J:J,0),2))","v":""},null,null,""]
["30000401000000",null,0,{"$f":"IF(E1652<>\"\",CONCATENATE(B1652,A1652,DIGITADOR!$M$1,C1652),\"\")","v":""},null,null,"","","",null,1648,"",{"$f":"IF(R1652=R1651,\"\",IF(E1652<>\"\",CONCATENATE(B1652,A1652,DIGITADOR!$M$1,C1652),\"\"))","v":""},null,{"$f":"IF(N1652=\"\",\"\",INDEX(referentes!S:T,MATCH(N1652,referentes!T:T,0),1))","v":""},null,{"$f":"IF(P1652=\"\",\"\",INDEX(referentes!Y:Z,MATCH(P1652,referentes!Z:Z,0),1))","v":""},"","",null,null,null,null,null,{"$f":"IF(X1652=\"\",\"\",INDEX(referentes!J:K,MATCH(X1652,referentes!J:J,0),2))","v":""},null,null,""]
["30000401000000",null,0,{"$f":"IF(E1653<>\"\",CONCATENATE(B1653,A1653,DIGITADOR!$M$1,C1653),\"\")","v":""},null,null,"","","",null,1649,"",{"$f":"IF(R1653=R1652,\"\",IF(E1653<>\"\",CONCATENATE(B1653,A1653,DIGITADOR!$M$1,C1653),\"\"))","v":""},null,{"$f":"IF(N1653=\"\",\"\",INDEX(referentes!S:T,MATCH(N1653,referentes!T:T,0),1))","v":""},null,{"$f":"IF(P1653=\"\",\"\",INDEX(referentes!Y:Z,MATCH(P1653,referentes!Z:Z,0),1))","v":""},"","",null,null,null,null,null,{"$f":"IF(X1653=\"\",\"\",INDEX(referentes!J:K,MATCH(X1653,referentes!J:J,0),2))","v":""},null,null,""]
["30000401000000",null,0,{"$f":"IF(E1654<>\"\",CONCATENATE(B1654,A1654,DIGITADOR!$M$1,C1654),\"\")","v":""},null,null,"","","",null,1650,"",{"$f":"IF(R1654=R1653,\"\",IF(E1654<>\"\",CONCATENATE(B1654,A1654,DIGITADOR!$M$1,C1654),\"\"))","v":""},null,{"$f":"IF(N1654=\"\",\"\",INDEX(referentes!S:T,MATCH(N1654,referentes!T:T,0),1))","v":""},null,{"$f":"IF(P1654=\"\",\"\",INDEX(referentes!Y:Z,MATCH(P1654,referentes!Z:Z,0),1))","v":""},"","",null,null,null,null,null,{"$f":"IF(X1654=\"\",\"\",INDEX(referentes!J:K,MATCH(X1654,referentes!J:J,0),2))","v":""},null,null,""]
["30000401000000",null,0,{"$f":"IF(E1655<>\"\",CONCATENATE(B1655,A1655,DIGITADOR!$M$1,C1655),\"\")","v":""},null,null,"","","",null,1651,"",{"$f":"IF(R1655=R1654,\"\",IF(E1655<>\"\",CONCATENATE(B1655,A1655,DIGITADOR!$M$1,C1655),\"\"))","v":""},null,{"$f":"IF(N1655=\"\",\"\",INDEX(referentes!S:T,MATCH(N1655,referentes!T:T,0),1))","v":""},null,{"$f":"IF(P1655=\"\",\"\",INDEX(referentes!Y:Z,MATCH(P1655,referentes!Z:Z,0),1))","v":""},"","",null,null,null,null,null,{"$f":"IF(X1655=\"\",\"\",INDEX(referentes!J:K,MATCH(X1655,referentes!J:J,0),2))","v":""},null,null,""]
["30000401000000",null,0,{"$f":"IF(E1656<>\"\",CONCATENATE(B1656,A1656,DIGITADOR!$M$1,C1656),\"\")","v":""},null,null,"","","",null,1652,"",{"$f":"IF(R1656=R1655,\"\",IF(E1656<>\"\",CONCATENATE(B1656,A1656,DIGITADOR!$M$1,C1656),\"\"))","v":""},null,{"$f":"IF(N1656=\"\",\"\",INDEX(referentes!S:T,MATCH(N1656,referentes!T:T,0),1))","v":""},null,{"$f":"IF(P1656=\"\",\"\",INDEX(referentes!Y:Z,MATCH(P1656,referentes!Z:Z,0),1))","v":""},"","",null,null,null,null,null,{"$f":"IF(X1656=\"\",\"\",INDEX(referentes!J:K,MATCH(X1656,referentes!J:J,0),2))","v":""},null,null,""]
["30000401000000",null,0,{"$f":"IF(E1657<>\"\",CONCATENATE(B1657,A1657,DIGITADOR!$M$1,C1657),\"\")","v":""},null,null,"","","",null,1653,"",{"$f":"IF(R1657=R1656,\"\",IF(E1657<>\"\",CONCATENATE(B1657,A1657,DIGITADOR!$M$1,C1657),\"\"))","v":""},null,{"$f":"IF(N1657=\"\",\"\",INDEX(referentes!S:T,MATCH(N1657,referentes!T:T,0),1))","v":""},null,{"$f":"IF(P1657=\"\",\"\",INDEX(referentes!Y:Z,MATCH(P1657,referentes!Z:Z,0),1))","v":""},"","",null,null,null,null,null,{"$f":"IF(X1657=\"\",\"\",INDEX(referentes!J:K,MATCH(X1657,referentes!J:J,0),2))","v":""},null,null,""]
["30000401000000",null,0,{"$f":"IF(E1658<>\"\",CONCATENATE(B1658,A1658,DIGITADOR!$M$1,C1658),\"\")","v":""},null,null,"","","",null,1654,"",{"$f":"IF(R1658=R1657,\"\",IF(E1658<>\"\",CONCATENATE(B1658,A1658,DIGITADOR!$M$1,C1658),\"\"))","v":""},null,{"$f":"IF(N1658=\"\",\"\",INDEX(referentes!S:T,MATCH(N1658,referentes!T:T,0),1))","v":""},null,{"$f":"IF(P1658=\"\",\"\",INDEX(referentes!Y:Z,MATCH(P1658,referentes!Z:Z,0),1))","v":""},"","",null,null,null,null,null,{"$f":"IF(X1658=\"\",\"\",INDEX(referentes!J:K,MATCH(X1658,referentes!J:J,0),2))","v":""},null,null,""]
["30000401000000",null,0,{"$f":"IF(E1659<>\"\",CONCATENATE(B1659,A1659,DIGITADOR!$M$1,C1659),\"\")","v":""},null,null,"","","",null,1655,"",{"$f":"IF(R1659=R1658,\"\",IF(E1659<>\"\",CONCATENATE(B1659,A1659,DIGITADOR!$M$1,C1659),\"\"))","v":""},null,{"$f":"IF(N1659=\"\",\"\",INDEX(referentes!S:T,MATCH(N1659,referentes!T:T,0),1))","v":""},null,{"$f":"IF(P1659=\"\",\"\",INDEX(referentes!Y:Z,MATCH(P1659,referentes!Z:Z,0),1))","v":""},"","",null,null,null,null,null,{"$f":"IF(X1659=\"\",\"\",INDEX(referentes!J:K,MATCH(X1659,referentes!J:J,0),2))","v":""},null,null,""]
["30000401000000",null,0,{"$f":"IF(E1660<>\"\",CONCATENATE(B1660,A1660,DIGITADOR!$M$1,C1660),\"\")","v":""},null,null,"","","",null,1656,"",{"$f":"IF(R1660=R1659,\"\",IF(E1660<>\"\",CONCATENATE(B1660,A1660,DIGITADOR!$M$1,C1660),\"\"))","v":""},null,{"$f":"IF(N1660=\"\",\"\",INDEX(referentes!S:T,MATCH(N1660,referentes!T:T,0),1))","v":""},null,{"$f":"IF(P1660=\"\",\"\",INDEX(referentes!Y:Z,MATCH(P1660,referentes!Z:Z,0),1))","v":""},"","",null,null,null,null,null,{"$f":"IF(X1660=\"\",\"\",INDEX(referentes!J:K,MATCH(X1660,referentes!J:J,0),2))","v":""},null,null,""]
["30000401000000",null,0,{"$f":"IF(E1661<>\"\",CONCATENATE(B1661,A1661,DIGITADOR!$M$1,C1661),\"\")","v":""},null,null,"","","",null,1657,"",{"$f":"IF(R1661=R1660,\"\",IF(E1661<>\"\",CONCATENATE(B1661,A1661,DIGITADOR!$M$1,C1661),\"\"))","v":""},null,{"$f":"IF(N1661=\"\",\"\",INDEX(referentes!S:T,MATCH(N1661,referentes!T:T,0),1))","v":""},null,{"$f":"IF(P1661=\"\",\"\",INDEX(referentes!Y:Z,MATCH(P1661,referentes!Z:Z,0),1))","v":""},"","",null,null,null,null,null,{"$f":"IF(X1661=\"\",\"\",INDEX(referentes!J:K,MATCH(X1661,referentes!J:J,0),2))","v":""},null,null,""]
["30000401000000",null,0,{"$f":"IF(E1662<>\"\",CONCATENATE(B1662,A1662,DIGITADOR!$M$1,C1662),\"\")","v":""},null,null,"","","",null,1658,"",{"$f":"IF(R1662=R1661,\"\",IF(E1662<>\"\",CONCATENATE(B1662,A1662,DIGITADOR!$M$1,C1662),\"\"))","v":""},null,{"$f":"IF(N1662=\"\",\"\",INDEX(referentes!S:T,MATCH(N1662,referentes!T:T,0),1))","v":""},null,{"$f":"IF(P1662=\"\",\"\",INDEX(referentes!Y:Z,MATCH(P1662,referentes!Z:Z,0),1))","v":""},"","",null,null,null,null,null,{"$f":"IF(X1662=\"\",\"\",INDEX(referentes!J:K,MATCH(X1662,referentes!J:J,0),2))","v":""},null,null,""]
["30000401000000",null,0,{"$f":"IF(E1663<>\"\",CONCATENATE(B1663,A1663,DIGITADOR!$M$1,C1663),\"\")","v":""},null,null,"","","",null,1659,"",{"$f":"IF(R1663=R1662,\"\",IF(E1663<>\"\",CONCATENATE(B1663,A1663,DIGITADOR!$M$1,C1663),\"\"))","v":""},null,{"$f":"IF(N1663=\"\",\"\",INDEX(referentes!S:T,MATCH(N1663,referentes!T:T,0),1))","v":""},null,{"$f":"IF(P1663=\"\",\"\",INDEX(referentes!Y:Z,MATCH(P1663,referentes!Z:Z,0),1))","v":""},"","",null,null,null,null,null,{"$f":"IF(X1663=\"\",\"\",INDEX(referentes!J:K,MATCH(X1663,referentes!J:J,0),2))","v":""},null,null,""]
["30000401000000",null,0,{"$f":"IF(E1664<>\"\",CONCATENATE(B1664,A1664,DIGITADOR!$M$1,C1664),\"\")","v":""},null,null,"","","",null,1660,"",{"$f":"IF(R1664=R1663,\"\",IF(E1664<>\"\",CONCATENATE(B1664,A1664,DIGITADOR!$M$1,C1664),\"\"))","v":""},null,{"$f":"IF(N1664=\"\",\"\",INDEX(referentes!S:T,MATCH(N1664,referentes!T:T,0),1))","v":""},null,{"$f":"IF(P1664=\"\",\"\",INDEX(referentes!Y:Z,MATCH(P1664,referentes!Z:Z,0),1))","v":""},"","",null,null,null,null,null,{"$f":"IF(X1664=\"\",\"\",INDEX(referentes!J:K,MATCH(X1664,referentes!J:J,0),2))","v":""},null,null,""]
["30000401000000",null,0,{"$f":"IF(E1665<>\"\",CONCATENATE(B1665,A1665,DIGITADOR!$M$1,C1665),\"\")","v":""},null,null,"","","",null,1661,"",{"$f":"IF(R1665=R1664,\"\",IF(E1665<>\"\",CONCATENATE(B1665,A1665,DIGITADOR!$M$1,C1665),\"\"))","v":""},null,{"$f":"IF(N1665=\"\",\"\",INDEX(referentes!S:T,MATCH(N1665,referentes!T:T,0),1))","v":""},null,{"$f":"IF(P1665=\"\",\"\",INDEX(referentes!Y:Z,MATCH(P1665,referentes!Z:Z,0),1))","v":""},"","",null,null,null,null,null,{"$f":"IF(X1665=\"\",\"\",INDEX(referentes!J:K,MATCH(X1665,referentes!J:J,0),2))","v":""},null,null,""]
["30000401000000",null,0,{"$f":"IF(E1666<>\"\",CONCATENATE(B1666,A1666,DIGITADOR!$M$1,C1666),\"\")","v":""},null,null,"","","",null,1662,"",{"$f":"IF(R1666=R1665,\"\",IF(E1666<>\"\",CONCATENATE(B1666,A1666,DIGITADOR!$M$1,C1666),\"\"))","v":""},null,{"$f":"IF(N1666=\"\",\"\",INDEX(referentes!S:T,MATCH(N1666,referentes!T:T,0),1))","v":""},null,{"$f":"IF(P1666=\"\",\"\",INDEX(referentes!Y:Z,MATCH(P1666,referentes!Z:Z,0),1))","v":""},"","",null,null,null,null,null,{"$f":"IF(X1666=\"\",\"\",INDEX(referentes!J:K,MATCH(X1666,referentes!J:J,0),2))","v":""},null,null,""]
["30000401000000",null,0,{"$f":"IF(E1667<>\"\",CONCATENATE(B1667,A1667,DIGITADOR!$M$1,C1667),\"\")","v":""},null,null,"","","",null,1663,"",{"$f":"IF(R1667=R1666,\"\",IF(E1667<>\"\",CONCATENATE(B1667,A1667,DIGITADOR!$M$1,C1667),\"\"))","v":""},null,{"$f":"IF(N1667=\"\",\"\",INDEX(referentes!S:T,MATCH(N1667,referentes!T:T,0),1))","v":""},null,{"$f":"IF(P1667=\"\",\"\",INDEX(referentes!Y:Z,MATCH(P1667,referentes!Z:Z,0),1))","v":""},"","",null,null,null,null,null,{"$f":"IF(X1667=\"\",\"\",INDEX(referentes!J:K,MATCH(X1667,referentes!J:J,0),2))","v":""},null,null,""]
["30000401000000",null,0,{"$f":"IF(E1668<>\"\",CONCATENATE(B1668,A1668,DIGITADOR!$M$1,C1668),\"\")","v":""},null,null,"","","",null,1664,"",{"$f":"IF(R1668=R1667,\"\",IF(E1668<>\"\",CONCATENATE(B1668,A1668,DIGITADOR!$M$1,C1668),\"\"))","v":""},null,{"$f":"IF(N1668=\"\",\"\",INDEX(referentes!S:T,MATCH(N1668,referentes!T:T,0),1))","v":""},null,{"$f":"IF(P1668=\"\",\"\",INDEX(referentes!Y:Z,MATCH(P1668,referentes!Z:Z,0),1))","v":""},"","",null,null,null,null,null,{"$f":"IF(X1668=\"\",\"\",INDEX(referentes!J:K,MATCH(X1668,referentes!J:J,0),2))","v":""},null,null,""]
["30000401000000",null,{"$f":"IF(R1669=R1668,C1668,C1668+1)","v":0},{"$f":"IF(E1669<>\"\",CONCATENATE(B1669,A1669,DIGITADOR!$M$1,C1669),\"\")","v":""},null,null,"","","",null,1665,"",{"$f":"IF(R1669=R1668,\"\",IF(E1669<>\"\",CONCATENATE(B1669,A1669,DIGITADOR!$M$1,C1669),\"\"))","v":""},null,{"$f":"IF(N1669=\"\",\"\",INDEX(referentes!S:T,MATCH(N1669,referentes!T:T,0),1))","v":""},null,{"$f":"IF(P1669=\"\",\"\",INDEX(referentes!Y:Z,MATCH(P1669,referentes!Z:Z,0),1))","v":""},"","",null,null,null,null,null,{"$f":"IF(X1669=\"\",\"\",INDEX(referentes!J:K,MATCH(X1669,referentes!J:J,0),2))","v":""},null,null,""]
["30000401000000",null,0,{"$f":"IF(E1670<>\"\",CONCATENATE(B1670,A1670,DIGITADOR!$M$1,C1670),\"\")","v":""},null,null,{"$f":"IF(E1670=\"\", \"\", (E1670+F1670))","v":""},{"$f":"IF(G1670<>\"\",MONTH(G1670),\"\")","v":""},{"$f":"IF(D1670=\"\",\"\",1)","v":""},null,1666,{"$f":"IF(E1670=\"\",\"\",CONCATENATE(D1670,K1670))","v":""},{"$f":"IF(R1670=R1669,\"\",IF(E1670<>\"\",CONCATENATE(B1670,A1670,DIGITADOR!$M$1,C1670),\"\"))","v":""},null,{"$f":"IF(N1670=\"\",\"\",INDEX(referentes!S:T,MATCH(N1670,referentes!T:T,0),1))","v":""},null,{"$f":"IF(P1670=\"\",\"\",INDEX(referentes!Y:Z,MATCH(P1670,referentes!Z:Z,0),1))","v":""},{"$f":"IF(G1670=\"\",\"\",CONCATENATE(G1670,O1670,Q1670))","v":""},{"$f":"IF(E1670=\"\",\"\",\"INVEMAR\")","v":""},null,null,null,null,null,{"$f":"IF(X1670=\"\",\"\",INDEX(referentes!J:K,MATCH(X1670,referentes!J:J,0),2))","v":""},null,null,{"$f":"IF(T1670=\"\",\"\",IF(T1670=T1669,AB1669,AA1670))","v":""}]
[{"$f":"A1670","v":"30000401000000"},null,0,{"$f":"IF(E1671<>\"\",CONCATENATE(B1671,A1671,DIGITADOR!$M$1,C1671),\"\")","v":""},null,null,"","","",null,1667,"",{"$f":"IF(R1671=R1670,\"\",IF(E1671<>\"\",CONCATENATE(B1671,A1671,DIGITADOR!$M$1,C1671),\"\"))","v":""},null,{"$f":"IF(N1671=\"\",\"\",INDEX(referentes!S:T,MATCH(N1671,referentes!T:T,0),1))","v":""},null,{"$f":"IF(P1671=\"\",\"\",INDEX(referentes!Y:Z,MATCH(P1671,referentes!Z:Z,0),1))","v":""},"","",null,null,null,null,null,{"$f":"IF(X1671=\"\",\"\",INDEX(referentes!J:K,MATCH(X1671,referentes!J:J,0),2))","v":""},null,null,""]
["30000401000000",null,0,{"$f":"IF(E1672<>\"\",CONCATENATE(B1672,A1672,DIGITADOR!$M$1,C1672),\"\")","v":""},null,null,"","","",null,1668,"",{"$f":"IF(R1672=R1671,\"\",IF(E1672<>\"\",CONCATENATE(B1672,A1672,DIGITADOR!$M$1,C1672),\"\"))","v":""},null,{"$f":"IF(N1672=\"\",\"\",INDEX(referentes!S:T,MATCH(N1672,referentes!T:T,0),1))","v":""},null,{"$f":"IF(P1672=\"\",\"\",INDEX(referentes!Y:Z,MATCH(P1672,referentes!Z:Z,0),1))","v":""},"","",null,null,null,null,null,{"$f":"IF(X1672=\"\",\"\",INDEX(referentes!J:K,MATCH(X1672,referentes!J:J,0),2))","v":""},null,null,""]
["30000401000000",null,0,{"$f":"IF(E1673<>\"\",CONCATENATE(B1673,A1673,DIGITADOR!$M$1,C1673),\"\")","v":""},null,null,"","","",null,1669,"",{"$f":"IF(R1673=R1672,\"\",IF(E1673<>\"\",CONCATENATE(B1673,A1673,DIGITADOR!$M$1,C1673),\"\"))","v":""},null,{"$f":"IF(N1673=\"\",\"\",INDEX(referentes!S:T,MATCH(N1673,referentes!T:T,0),1))","v":""},null,{"$f":"IF(P1673=\"\",\"\",INDEX(referentes!Y:Z,MATCH(P1673,referentes!Z:Z,0),1))","v":""},"","",null,null,null,null,null,{"$f":"IF(X1673=\"\",\"\",INDEX(referentes!J:K,MATCH(X1673,referentes!J:J,0),2))","v":""},null,null,""]
["30000401000000",null,0,{"$f":"IF(E1674<>\"\",CONCATENATE(B1674,A1674,DIGITADOR!$M$1,C1674),\"\")","v":""},null,null,"","","",null,1670,"",{"$f":"IF(R1674=R1673,\"\",IF(E1674<>\"\",CONCATENATE(B1674,A1674,DIGITADOR!$M$1,C1674),\"\"))","v":""},null,{"$f":"IF(N1674=\"\",\"\",INDEX(referentes!S:T,MATCH(N1674,referentes!T:T,0),1))","v":""},null,{"$f":"IF(P1674=\"\",\"\",INDEX(referentes!Y:Z,MATCH(P1674,referentes!Z:Z,0),1))","v":""},"","",null,null,null,null,null,{"$f":"IF(X1674=\"\",\"\",INDEX(referentes!J:K,MATCH(X1674,referentes!J:J,0),2))","v":""},null,null,""]
["30000401000000",null,0,{"$f":"IF(E1675<>\"\",CONCATENATE(B1675,A1675,DIGITADOR!$M$1,C1675),\"\")","v":""},null,null,"","","",null,1671,"",{"$f":"IF(R1675=R1674,\"\",IF(E1675<>\"\",CONCATENATE(B1675,A1675,DIGITADOR!$M$1,C1675),\"\"))","v":""},null,{"$f":"IF(N1675=\"\",\"\",INDEX(referentes!S:T,MATCH(N1675,referentes!T:T,0),1))","v":""},null,{"$f":"IF(P1675=\"\",\"\",INDEX(referentes!Y:Z,MATCH(P1675,referentes!Z:Z,0),1))","v":""},"","",null,null,null,null,null,{"$f":"IF(X1675=\"\",\"\",INDEX(referentes!J:K,MATCH(X1675,referentes!J:J,0),2))","v":""},null,null,""]
["30000401000000",null,0,{"$f":"IF(E1676<>\"\",CONCATENATE(B1676,A1676,DIGITADOR!$M$1,C1676),\"\")","v":""},null,null,"","","",null,1672,"",{"$f":"IF(R1676=R1675,\"\",IF(E1676<>\"\",CONCATENATE(B1676,A1676,DIGITADOR!$M$1,C1676),\"\"))","v":""},null,{"$f":"IF(N1676=\"\",\"\",INDEX(referentes!S:T,MATCH(N1676,referentes!T:T,0),1))","v":""},null,{"$f":"IF(P1676=\"\",\"\",INDEX(referentes!Y:Z,MATCH(P1676,referentes!Z:Z,0),1))","v":""},"","",null,null,null,null,null,{"$f":"IF(X1676=\"\",\"\",INDEX(referentes!J:K,MATCH(X1676,referentes!J:J,0),2))","v":""},null,null,""]
["30000401000000",null,0,{"$f":"IF(E1677<>\"\",CONCATENATE(B1677,A1677,DIGITADOR!$M$1,C1677),\"\")","v":""},null,null,"","","",null,1673,"",{"$f":"IF(R1677=R1676,\"\",IF(E1677<>\"\",CONCATENATE(B1677,A1677,DIGITADOR!$M$1,C1677),\"\"))","v":""},null,{"$f":"IF(N1677=\"\",\"\",INDEX(referentes!S:T,MATCH(N1677,referentes!T:T,0),1))","v":""},null,{"$f":"IF(P1677=\"\",\"\",INDEX(referentes!Y:Z,MATCH(P1677,referentes!Z:Z,0),1))","v":""},"","",null,null,null,null,null,{"$f":"IF(X1677=\"\",\"\",INDEX(referentes!J:K,MATCH(X1677,referentes!J:J,0),2))","v":""},null,null,""]
["30000401000000",null,0,{"$f":"IF(E1678<>\"\",CONCATENATE(B1678,A1678,DIGITADOR!$M$1,C1678),\"\")","v":""},null,null,"","","",null,1674,"",{"$f":"IF(R1678=R1677,\"\",IF(E1678<>\"\",CONCATENATE(B1678,A1678,DIGITADOR!$M$1,C1678),\"\"))","v":""},null,{"$f":"IF(N1678=\"\",\"\",INDEX(referentes!S:T,MATCH(N1678,referentes!T:T,0),1))","v":""},null,{"$f":"IF(P1678=\"\",\"\",INDEX(referentes!Y:Z,MATCH(P1678,referentes!Z:Z,0),1))","v":""},"","",null,null,null,null,null,{"$f":"IF(X1678=\"\",\"\",INDEX(referentes!J:K,MATCH(X1678,referentes!J:J,0),2))","v":""},null,null,""]
["30000401000000",null,0,{"$f":"IF(E1679<>\"\",CONCATENATE(B1679,A1679,DIGITADOR!$M$1,C1679),\"\")","v":""},null,null,"","","",null,1675,"",{"$f":"IF(R1679=R1678,\"\",IF(E1679<>\"\",CONCATENATE(B1679,A1679,DIGITADOR!$M$1,C1679),\"\"))","v":""},null,{"$f":"IF(N1679=\"\",\"\",INDEX(referentes!S:T,MATCH(N1679,referentes!T:T,0),1))","v":""},null,{"$f":"IF(P1679=\"\",\"\",INDEX(referentes!Y:Z,MATCH(P1679,referentes!Z:Z,0),1))","v":""},"","",null,null,null,null,null,{"$f":"IF(X1679=\"\",\"\",INDEX(referentes!J:K,MATCH(X1679,referentes!J:J,0),2))","v":""},null,null,""]
["30000401000000",null,0,{"$f":"IF(E1680<>\"\",CONCATENATE(B1680,A1680,DIGITADOR!$M$1,C1680),\"\")","v":""},null,null,"","","",null,1676,"",{"$f":"IF(R1680=R1679,\"\",IF(E1680<>\"\",CONCATENATE(B1680,A1680,DIGITADOR!$M$1,C1680),\"\"))","v":""},null,{"$f":"IF(N1680=\"\",\"\",INDEX(referentes!S:T,MATCH(N1680,referentes!T:T,0),1))","v":""},null,{"$f":"IF(P1680=\"\",\"\",INDEX(referentes!Y:Z,MATCH(P1680,referentes!Z:Z,0),1))","v":""},"","",null,null,null,null,null,{"$f":"IF(X1680=\"\",\"\",INDEX(referentes!J:K,MATCH(X1680,referentes!J:J,0),2))","v":""},null,null,""]
["30000401000000",null,0,{"$f":"IF(E1681<>\"\",CONCATENATE(B1681,A1681,DIGITADOR!$M$1,C1681),\"\")","v":""},null,null,"","","",null,1677,"",{"$f":"IF(R1681=R1680,\"\",IF(E1681<>\"\",CONCATENATE(B1681,A1681,DIGITADOR!$M$1,C1681),\"\"))","v":""},null,{"$f":"IF(N1681=\"\",\"\",INDEX(referentes!S:T,MATCH(N1681,referentes!T:T,0),1))","v":""},null,{"$f":"IF(P1681=\"\",\"\",INDEX(referentes!Y:Z,MATCH(P1681,referentes!Z:Z,0),1))","v":""},"","",null,null,null,null,null,{"$f":"IF(X1681=\"\",\"\",INDEX(referentes!J:K,MATCH(X1681,referentes!J:J,0),2))","v":""},null,null,""]
["30000401000000",null,0,{"$f":"IF(E1682<>\"\",CONCATENATE(B1682,A1682,DIGITADOR!$M$1,C1682),\"\")","v":""},null,null,"","","",null,1678,"",{"$f":"IF(R1682=R1681,\"\",IF(E1682<>\"\",CONCATENATE(B1682,A1682,DIGITADOR!$M$1,C1682),\"\"))","v":""},null,{"$f":"IF(N1682=\"\",\"\",INDEX(referentes!S:T,MATCH(N1682,referentes!T:T,0),1))","v":""},null,{"$f":"IF(P1682=\"\",\"\",INDEX(referentes!Y:Z,MATCH(P1682,referentes!Z:Z,0),1))","v":""},"","",null,null,null,null,null,{"$f":"IF(X1682=\"\",\"\",INDEX(referentes!J:K,MATCH(X1682,referentes!J:J,0),2))","v":""},null,null,""]
["30000401000000",null,0,{"$f":"IF(E1683<>\"\",CONCATENATE(B1683,A1683,DIGITADOR!$M$1,C1683),\"\")","v":""},null,null,"","","",null,1679,"",{"$f":"IF(R1683=R1682,\"\",IF(E1683<>\"\",CONCATENATE(B1683,A1683,DIGITADOR!$M$1,C1683),\"\"))","v":""},null,{"$f":"IF(N1683=\"\",\"\",INDEX(referentes!S:T,MATCH(N1683,referentes!T:T,0),1))","v":""},null,{"$f":"IF(P1683=\"\",\"\",INDEX(referentes!Y:Z,MATCH(P1683,referentes!Z:Z,0),1))","v":""},"","",null,null,null,null,null,{"$f":"IF(X1683=\"\",\"\",INDEX(referentes!J:K,MATCH(X1683,referentes!J:J,0),2))","v":""},null,null,""]
["30000401000000",null,0,{"$f":"IF(E1684<>\"\",CONCATENATE(B1684,A1684,DIGITADOR!$M$1,C1684),\"\")","v":""},null,null,"","","",null,1680,"",{"$f":"IF(R1684=R1683,\"\",IF(E1684<>\"\",CONCATENATE(B1684,A1684,DIGITADOR!$M$1,C1684),\"\"))","v":""},null,{"$f":"IF(N1684=\"\",\"\",INDEX(referentes!S:T,MATCH(N1684,referentes!T:T,0),1))","v":""},null,{"$f":"IF(P1684=\"\",\"\",INDEX(referentes!Y:Z,MATCH(P1684,referentes!Z:Z,0),1))","v":""},"","",null,null,null,null,null,{"$f":"IF(X1684=\"\",\"\",INDEX(referentes!J:K,MATCH(X1684,referentes!J:J,0),2))","v":""},null,null,""]
["30000401000000",null,0,{"$f":"IF(E1685<>\"\",CONCATENATE(B1685,A1685,DIGITADOR!$M$1,C1685),\"\")","v":""},null,null,"","","",null,1681,"",{"$f":"IF(R1685=R1684,\"\",IF(E1685<>\"\",CONCATENATE(B1685,A1685,DIGITADOR!$M$1,C1685),\"\"))","v":""},null,{"$f":"IF(N1685=\"\",\"\",INDEX(referentes!S:T,MATCH(N1685,referentes!T:T,0),1))","v":""},null,{"$f":"IF(P1685=\"\",\"\",INDEX(referentes!Y:Z,MATCH(P1685,referentes!Z:Z,0),1))","v":""},"","",null,null,null,null,null,{"$f":"IF(X1685=\"\",\"\",INDEX(referentes!J:K,MATCH(X1685,referentes!J:J,0),2))","v":""},null,null,""]
["30000401000000",null,0,{"$f":"IF(E1686<>\"\",CONCATENATE(B1686,A1686,DIGITADOR!$M$1,C1686),\"\")","v":""},null,null,"","","",null,1682,"",{"$f":"IF(R1686=R1685,\"\",IF(E1686<>\"\",CONCATENATE(B1686,A1686,DIGITADOR!$M$1,C1686),\"\"))","v":""},null,{"$f":"IF(N1686=\"\",\"\",INDEX(referentes!S:T,MATCH(N1686,referentes!T:T,0),1))","v":""},null,{"$f":"IF(P1686=\"\",\"\",INDEX(referentes!Y:Z,MATCH(P1686,referentes!Z:Z,0),1))","v":""},"","",null,null,null,null,null,{"$f":"IF(X1686=\"\",\"\",INDEX(referentes!J:K,MATCH(X1686,referentes!J:J,0),2))","v":""},null,null,""]
["30000401000000",null,0,{"$f":"IF(E1687<>\"\",CONCATENATE(B1687,A1687,DIGITADOR!$M$1,C1687),\"\")","v":""},null,null,"","","",null,1683,"",{"$f":"IF(R1687=R1686,\"\",IF(E1687<>\"\",CONCATENATE(B1687,A1687,DIGITADOR!$M$1,C1687),\"\"))","v":""},null,{"$f":"IF(N1687=\"\",\"\",INDEX(referentes!S:T,MATCH(N1687,referentes!T:T,0),1))","v":""},null,{"$f":"IF(P1687=\"\",\"\",INDEX(referentes!Y:Z,MATCH(P1687,referentes!Z:Z,0),1))","v":""},"","",null,null,null,null,null,{"$f":"IF(X1687=\"\",\"\",INDEX(referentes!J:K,MATCH(X1687,referentes!J:J,0),2))","v":""},null,null,""]
["30000401000000",null,0,{"$f":"IF(E1688<>\"\",CONCATENATE(B1688,A1688,DIGITADOR!$M$1,C1688),\"\")","v":""},null,null,"","","",null,1684,"",{"$f":"IF(R1688=R1687,\"\",IF(E1688<>\"\",CONCATENATE(B1688,A1688,DIGITADOR!$M$1,C1688),\"\"))","v":""},null,{"$f":"IF(N1688=\"\",\"\",INDEX(referentes!S:T,MATCH(N1688,referentes!T:T,0),1))","v":""},null,{"$f":"IF(P1688=\"\",\"\",INDEX(referentes!Y:Z,MATCH(P1688,referentes!Z:Z,0),1))","v":""},"","",null,null,null,null,null,{"$f":"IF(X1688=\"\",\"\",INDEX(referentes!J:K,MATCH(X1688,referentes!J:J,0),2))","v":""},null,null,""]
["30000401000000",null,0,{"$f":"IF(E1689<>\"\",CONCATENATE(B1689,A1689,DIGITADOR!$M$1,C1689),\"\")","v":""},null,null,"","","",null,1685,"",{"$f":"IF(R1689=R1688,\"\",IF(E1689<>\"\",CONCATENATE(B1689,A1689,DIGITADOR!$M$1,C1689),\"\"))","v":""},null,{"$f":"IF(N1689=\"\",\"\",INDEX(referentes!S:T,MATCH(N1689,referentes!T:T,0),1))","v":""},null,{"$f":"IF(P1689=\"\",\"\",INDEX(referentes!Y:Z,MATCH(P1689,referentes!Z:Z,0),1))","v":""},"","",null,null,null,null,null,{"$f":"IF(X1689=\"\",\"\",INDEX(referentes!J:K,MATCH(X1689,referentes!J:J,0),2))","v":""},null,null,""]
["30000401000000",null,0,{"$f":"IF(E1690<>\"\",CONCATENATE(B1690,A1690,DIGITADOR!$M$1,C1690),\"\")","v":""},null,null,"","","",null,1686,"",{"$f":"IF(R1690=R1689,\"\",IF(E1690<>\"\",CONCATENATE(B1690,A1690,DIGITADOR!$M$1,C1690),\"\"))","v":""},null,{"$f":"IF(N1690=\"\",\"\",INDEX(referentes!S:T,MATCH(N1690,referentes!T:T,0),1))","v":""},null,{"$f":"IF(P1690=\"\",\"\",INDEX(referentes!Y:Z,MATCH(P1690,referentes!Z:Z,0),1))","v":""},"","",null,null,null,null,null,{"$f":"IF(X1690=\"\",\"\",INDEX(referentes!J:K,MATCH(X1690,referentes!J:J,0),2))","v":""},null,null,""]
["30000401000000",null,0,{"$f":"IF(E1691<>\"\",CONCATENATE(B1691,A1691,DIGITADOR!$M$1,C1691),\"\")","v":""},null,null,"","","",null,1687,"",{"$f":"IF(R1691=R1690,\"\",IF(E1691<>\"\",CONCATENATE(B1691,A1691,DIGITADOR!$M$1,C1691),\"\"))","v":""},null,{"$f":"IF(N1691=\"\",\"\",INDEX(referentes!S:T,MATCH(N1691,referentes!T:T,0),1))","v":""},null,{"$f":"IF(P1691=\"\",\"\",INDEX(referentes!Y:Z,MATCH(P1691,referentes!Z:Z,0),1))","v":""},"","",null,null,null,null,null,{"$f":"IF(X1691=\"\",\"\",INDEX(referentes!J:K,MATCH(X1691,referentes!J:J,0),2))","v":""},null,null,""]
["30000401000000",null,0,{"$f":"IF(E1692<>\"\",CONCATENATE(B1692,A1692,DIGITADOR!$M$1,C1692),\"\")","v":""},null,null,"","","",null,1688,"",{"$f":"IF(R1692=R1691,\"\",IF(E1692<>\"\",CONCATENATE(B1692,A1692,DIGITADOR!$M$1,C1692),\"\"))","v":""},null,{"$f":"IF(N1692=\"\",\"\",INDEX(referentes!S:T,MATCH(N1692,referentes!T:T,0),1))","v":""},null,{"$f":"IF(P1692=\"\",\"\",INDEX(referentes!Y:Z,MATCH(P1692,referentes!Z:Z,0),1))","v":""},"","",null,null,null,null,null,{"$f":"IF(X1692=\"\",\"\",INDEX(referentes!J:K,MATCH(X1692,referentes!J:J,0),2))","v":""},null,null,""]
["30000401000000",null,0,{"$f":"IF(E1693<>\"\",CONCATENATE(B1693,A1693,DIGITADOR!$M$1,C1693),\"\")","v":""},null,null,"","","",null,1689,"",{"$f":"IF(R1693=R1692,\"\",IF(E1693<>\"\",CONCATENATE(B1693,A1693,DIGITADOR!$M$1,C1693),\"\"))","v":""},null,{"$f":"IF(N1693=\"\",\"\",INDEX(referentes!S:T,MATCH(N1693,referentes!T:T,0),1))","v":""},null,{"$f":"IF(P1693=\"\",\"\",INDEX(referentes!Y:Z,MATCH(P1693,referentes!Z:Z,0),1))","v":""},"","",null,null,null,null,null,{"$f":"IF(X1693=\"\",\"\",INDEX(referentes!J:K,MATCH(X1693,referentes!J:J,0),2))","v":""},null,null,""]
["30000401000000",null,0,{"$f":"IF(E1694<>\"\",CONCATENATE(B1694,A1694,DIGITADOR!$M$1,C1694),\"\")","v":""},null,null,"","","",null,1690,"",{"$f":"IF(R1694=R1693,\"\",IF(E1694<>\"\",CONCATENATE(B1694,A1694,DIGITADOR!$M$1,C1694),\"\"))","v":""},null,{"$f":"IF(N1694=\"\",\"\",INDEX(referentes!S:T,MATCH(N1694,referentes!T:T,0),1))","v":""},null,{"$f":"IF(P1694=\"\",\"\",INDEX(referentes!Y:Z,MATCH(P1694,referentes!Z:Z,0),1))","v":""},"","",null,null,null,null,null,{"$f":"IF(X1694=\"\",\"\",INDEX(referentes!J:K,MATCH(X1694,referentes!J:J,0),2))","v":""},null,null,""]
["30000401000000",null,0,{"$f":"IF(E1695<>\"\",CONCATENATE(B1695,A1695,DIGITADOR!$M$1,C1695),\"\")","v":""},null,null,"","","",null,1691,"",{"$f":"IF(R1695=R1694,\"\",IF(E1695<>\"\",CONCATENATE(B1695,A1695,DIGITADOR!$M$1,C1695),\"\"))","v":""},null,{"$f":"IF(N1695=\"\",\"\",INDEX(referentes!S:T,MATCH(N1695,referentes!T:T,0),1))","v":""},null,{"$f":"IF(P1695=\"\",\"\",INDEX(referentes!Y:Z,MATCH(P1695,referentes!Z:Z,0),1))","v":""},"","",null,null,null,null,null,{"$f":"IF(X1695=\"\",\"\",INDEX(referentes!J:K,MATCH(X1695,referentes!J:J,0),2))","v":""},null,null,""]
["30000401000000",null,0,{"$f":"IF(E1696<>\"\",CONCATENATE(B1696,A1696,DIGITADOR!$M$1,C1696),\"\")","v":""},null,null,"","","",null,1692,"",{"$f":"IF(R1696=R1695,\"\",IF(E1696<>\"\",CONCATENATE(B1696,A1696,DIGITADOR!$M$1,C1696),\"\"))","v":""},null,{"$f":"IF(N1696=\"\",\"\",INDEX(referentes!S:T,MATCH(N1696,referentes!T:T,0),1))","v":""},null,{"$f":"IF(P1696=\"\",\"\",INDEX(referentes!Y:Z,MATCH(P1696,referentes!Z:Z,0),1))","v":""},"","",null,null,null,null,null,{"$f":"IF(X1696=\"\",\"\",INDEX(referentes!J:K,MATCH(X1696,referentes!J:J,0),2))","v":""},null,null,""]
["30000401000000",null,0,{"$f":"IF(E1697<>\"\",CONCATENATE(B1697,A1697,DIGITADOR!$M$1,C1697),\"\")","v":""},null,null,"","","",null,1693,"",{"$f":"IF(R1697=R1696,\"\",IF(E1697<>\"\",CONCATENATE(B1697,A1697,DIGITADOR!$M$1,C1697),\"\"))","v":""},null,{"$f":"IF(N1697=\"\",\"\",INDEX(referentes!S:T,MATCH(N1697,referentes!T:T,0),1))","v":""},null,{"$f":"IF(P1697=\"\",\"\",INDEX(referentes!Y:Z,MATCH(P1697,referentes!Z:Z,0),1))","v":""},"","",null,null,null,null,null,{"$f":"IF(X1697=\"\",\"\",INDEX(referentes!J:K,MATCH(X1697,referentes!J:J,0),2))","v":""},null,null,""]
["30000401000000",null,0,{"$f":"IF(E1698<>\"\",CONCATENATE(B1698,A1698,DIGITADOR!$M$1,C1698),\"\")","v":""},null,null,"","","",null,1694,"",{"$f":"IF(R1698=R1697,\"\",IF(E1698<>\"\",CONCATENATE(B1698,A1698,DIGITADOR!$M$1,C1698),\"\"))","v":""},null,{"$f":"IF(N1698=\"\",\"\",INDEX(referentes!S:T,MATCH(N1698,referentes!T:T,0),1))","v":""},null,{"$f":"IF(P1698=\"\",\"\",INDEX(referentes!Y:Z,MATCH(P1698,referentes!Z:Z,0),1))","v":""},"","",null,null,null,null,null,{"$f":"IF(X1698=\"\",\"\",INDEX(referentes!J:K,MATCH(X1698,referentes!J:J,0),2))","v":""},null,null,""]
["30000401000000",null,0,{"$f":"IF(E1699<>\"\",CONCATENATE(B1699,A1699,DIGITADOR!$M$1,C1699),\"\")","v":""},null,null,"","","",null,1695,"",{"$f":"IF(R1699=R1698,\"\",IF(E1699<>\"\",CONCATENATE(B1699,A1699,DIGITADOR!$M$1,C1699),\"\"))","v":""},null,{"$f":"IF(N1699=\"\",\"\",INDEX(referentes!S:T,MATCH(N1699,referentes!T:T,0),1))","v":""},null,{"$f":"IF(P1699=\"\",\"\",INDEX(referentes!Y:Z,MATCH(P1699,referentes!Z:Z,0),1))","v":""},"","",null,null,null,null,null,{"$f":"IF(X1699=\"\",\"\",INDEX(referentes!J:K,MATCH(X1699,referentes!J:J,0),2))","v":""},null,null,""]
["30000401000000",null,0,{"$f":"IF(E1700<>\"\",CONCATENATE(B1700,A1700,DIGITADOR!$M$1,C1700),\"\")","v":""},null,null,"","","",null,1696,"",{"$f":"IF(R1700=R1699,\"\",IF(E1700<>\"\",CONCATENATE(B1700,A1700,DIGITADOR!$M$1,C1700),\"\"))","v":""},null,{"$f":"IF(N1700=\"\",\"\",INDEX(referentes!S:T,MATCH(N1700,referentes!T:T,0),1))","v":""},null,{"$f":"IF(P1700=\"\",\"\",INDEX(referentes!Y:Z,MATCH(P1700,referentes!Z:Z,0),1))","v":""},"","",null,null,null,null,null,{"$f":"IF(X1700=\"\",\"\",INDEX(referentes!J:K,MATCH(X1700,referentes!J:J,0),2))","v":""},null,null,""]
["30000401000000",null,0,{"$f":"IF(E1701<>\"\",CONCATENATE(B1701,A1701,DIGITADOR!$M$1,C1701),\"\")","v":""},null,null,"","","",null,1697,"",{"$f":"IF(R1701=R1700,\"\",IF(E1701<>\"\",CONCATENATE(B1701,A1701,DIGITADOR!$M$1,C1701),\"\"))","v":""},null,{"$f":"IF(N1701=\"\",\"\",INDEX(referentes!S:T,MATCH(N1701,referentes!T:T,0),1))","v":""},null,{"$f":"IF(P1701=\"\",\"\",INDEX(referentes!Y:Z,MATCH(P1701,referentes!Z:Z,0),1))","v":""},"","",null,null,null,null,null,{"$f":"IF(X1701=\"\",\"\",INDEX(referentes!J:K,MATCH(X1701,referentes!J:J,0),2))","v":""},null,null,""]
["30000401000000",null,0,{"$f":"IF(E1702<>\"\",CONCATENATE(B1702,A1702,DIGITADOR!$M$1,C1702),\"\")","v":""},null,null,"","","",null,1698,"",{"$f":"IF(R1702=R1701,\"\",IF(E1702<>\"\",CONCATENATE(B1702,A1702,DIGITADOR!$M$1,C1702),\"\"))","v":""},null,{"$f":"IF(N1702=\"\",\"\",INDEX(referentes!S:T,MATCH(N1702,referentes!T:T,0),1))","v":""},null,{"$f":"IF(P1702=\"\",\"\",INDEX(referentes!Y:Z,MATCH(P1702,referentes!Z:Z,0),1))","v":""},"","",null,null,null,null,null,{"$f":"IF(X1702=\"\",\"\",INDEX(referentes!J:K,MATCH(X1702,referentes!J:J,0),2))","v":""},null,null,""]
["30000401000000",null,0,{"$f":"IF(E1703<>\"\",CONCATENATE(B1703,A1703,DIGITADOR!$M$1,C1703),\"\")","v":""},null,null,"","","",null,1699,"",{"$f":"IF(R1703=R1702,\"\",IF(E1703<>\"\",CONCATENATE(B1703,A1703,DIGITADOR!$M$1,C1703),\"\"))","v":""},null,{"$f":"IF(N1703=\"\",\"\",INDEX(referentes!S:T,MATCH(N1703,referentes!T:T,0),1))","v":""},null,{"$f":"IF(P1703=\"\",\"\",INDEX(referentes!Y:Z,MATCH(P1703,referentes!Z:Z,0),1))","v":""},"","",null,null,null,null,null,{"$f":"IF(X1703=\"\",\"\",INDEX(referentes!J:K,MATCH(X1703,referentes!J:J,0),2))","v":""},null,null,""]
["30000401000000",null,0,{"$f":"IF(E1704<>\"\",CONCATENATE(B1704,A1704,DIGITADOR!$M$1,C1704),\"\")","v":""},null,null,"","","",null,1700,"",{"$f":"IF(R1704=R1703,\"\",IF(E1704<>\"\",CONCATENATE(B1704,A1704,DIGITADOR!$M$1,C1704),\"\"))","v":""},null,{"$f":"IF(N1704=\"\",\"\",INDEX(referentes!S:T,MATCH(N1704,referentes!T:T,0),1))","v":""},null,{"$f":"IF(P1704=\"\",\"\",INDEX(referentes!Y:Z,MATCH(P1704,referentes!Z:Z,0),1))","v":""},"","",null,null,null,null,null,{"$f":"IF(X1704=\"\",\"\",INDEX(referentes!J:K,MATCH(X1704,referentes!J:J,0),2))","v":""},null,null,""]
["30000401000000",null,0,{"$f":"IF(E1705<>\"\",CONCATENATE(B1705,A1705,DIGITADOR!$M$1,C1705),\"\")","v":""},null,null,"","","",null,1701,"",{"$f":"IF(R1705=R1704,\"\",IF(E1705<>\"\",CONCATENATE(B1705,A1705,DIGITADOR!$M$1,C1705),\"\"))","v":""},null,{"$f":"IF(N1705=\"\",\"\",INDEX(referentes!S:T,MATCH(N1705,referentes!T:T,0),1))","v":""},null,{"$f":"IF(P1705=\"\",\"\",INDEX(referentes!Y:Z,MATCH(P1705,referentes!Z:Z,0),1))","v":""},"","",null,null,null,null,null,{"$f":"IF(X1705=\"\",\"\",INDEX(referentes!J:K,MATCH(X1705,referentes!J:J,0),2))","v":""},null,null,""]
["30000401000000",null,0,{"$f":"IF(E1706<>\"\",CONCATENATE(B1706,A1706,DIGITADOR!$M$1,C1706),\"\")","v":""},null,null,"","","",null,1702,"",{"$f":"IF(R1706=R1705,\"\",IF(E1706<>\"\",CONCATENATE(B1706,A1706,DIGITADOR!$M$1,C1706),\"\"))","v":""},null,{"$f":"IF(N1706=\"\",\"\",INDEX(referentes!S:T,MATCH(N1706,referentes!T:T,0),1))","v":""},null,{"$f":"IF(P1706=\"\",\"\",INDEX(referentes!Y:Z,MATCH(P1706,referentes!Z:Z,0),1))","v":""},"","",null,null,null,null,null,{"$f":"IF(X1706=\"\",\"\",INDEX(referentes!J:K,MATCH(X1706,referentes!J:J,0),2))","v":""},null,null,""]
["30000401000000",null,0,{"$f":"IF(E1707<>\"\",CONCATENATE(B1707,A1707,DIGITADOR!$M$1,C1707),\"\")","v":""},null,null,"","","",null,1703,"",{"$f":"IF(R1707=R1706,\"\",IF(E1707<>\"\",CONCATENATE(B1707,A1707,DIGITADOR!$M$1,C1707),\"\"))","v":""},null,{"$f":"IF(N1707=\"\",\"\",INDEX(referentes!S:T,MATCH(N1707,referentes!T:T,0),1))","v":""},null,{"$f":"IF(P1707=\"\",\"\",INDEX(referentes!Y:Z,MATCH(P1707,referentes!Z:Z,0),1))","v":""},"","",null,null,null,null,null,{"$f":"IF(X1707=\"\",\"\",INDEX(referentes!J:K,MATCH(X1707,referentes!J:J,0),2))","v":""},null,null,""]
["30000401000000",null,0,{"$f":"IF(E1708<>\"\",CONCATENATE(B1708,A1708,DIGITADOR!$M$1,C1708),\"\")","v":""},null,null,"","","",null,1704,"",{"$f":"IF(R1708=R1707,\"\",IF(E1708<>\"\",CONCATENATE(B1708,A1708,DIGITADOR!$M$1,C1708),\"\"))","v":""},null,{"$f":"IF(N1708=\"\",\"\",INDEX(referentes!S:T,MATCH(N1708,referentes!T:T,0),1))","v":""},null,{"$f":"IF(P1708=\"\",\"\",INDEX(referentes!Y:Z,MATCH(P1708,referentes!Z:Z,0),1))","v":""},"","",null,null,null,null,null,{"$f":"IF(X1708=\"\",\"\",INDEX(referentes!J:K,MATCH(X1708,referentes!J:J,0),2))","v":""},null,null,""]
["30000401000000",null,0,{"$f":"IF(E1709<>\"\",CONCATENATE(B1709,A1709,DIGITADOR!$M$1,C1709),\"\")","v":""},null,null,"","","",null,1705,"",{"$f":"IF(R1709=R1708,\"\",IF(E1709<>\"\",CONCATENATE(B1709,A1709,DIGITADOR!$M$1,C1709),\"\"))","v":""},null,{"$f":"IF(N1709=\"\",\"\",INDEX(referentes!S:T,MATCH(N1709,referentes!T:T,0),1))","v":""},null,{"$f":"IF(P1709=\"\",\"\",INDEX(referentes!Y:Z,MATCH(P1709,referentes!Z:Z,0),1))","v":""},"","",null,null,null,null,null,{"$f":"IF(X1709=\"\",\"\",INDEX(referentes!J:K,MATCH(X1709,referentes!J:J,0),2))","v":""},null,null,""]
["30000401000000",null,0,{"$f":"IF(E1710<>\"\",CONCATENATE(B1710,A1710,DIGITADOR!$M$1,C1710),\"\")","v":""},null,null,"","","",null,1706,"",{"$f":"IF(R1710=R1709,\"\",IF(E1710<>\"\",CONCATENATE(B1710,A1710,DIGITADOR!$M$1,C1710),\"\"))","v":""},null,{"$f":"IF(N1710=\"\",\"\",INDEX(referentes!S:T,MATCH(N1710,referentes!T:T,0),1))","v":""},null,{"$f":"IF(P1710=\"\",\"\",INDEX(referentes!Y:Z,MATCH(P1710,referentes!Z:Z,0),1))","v":""},"","",null,null,null,null,null,{"$f":"IF(X1710=\"\",\"\",INDEX(referentes!J:K,MATCH(X1710,referentes!J:J,0),2))","v":""},null,null,""]
["30000401000000",null,0,{"$f":"IF(E1711<>\"\",CONCATENATE(B1711,A1711,DIGITADOR!$M$1,C1711),\"\")","v":""},null,null,"","","",null,1707,"",{"$f":"IF(R1711=R1710,\"\",IF(E1711<>\"\",CONCATENATE(B1711,A1711,DIGITADOR!$M$1,C1711),\"\"))","v":""},null,{"$f":"IF(N1711=\"\",\"\",INDEX(referentes!S:T,MATCH(N1711,referentes!T:T,0),1))","v":""},null,{"$f":"IF(P1711=\"\",\"\",INDEX(referentes!Y:Z,MATCH(P1711,referentes!Z:Z,0),1))","v":""},"","",null,null,null,null,null,{"$f":"IF(X1711=\"\",\"\",INDEX(referentes!J:K,MATCH(X1711,referentes!J:J,0),2))","v":""},null,null,""]
["30000401000000",null,0,{"$f":"IF(E1712<>\"\",CONCATENATE(B1712,A1712,DIGITADOR!$M$1,C1712),\"\")","v":""},null,null,"","","",null,1708,"",{"$f":"IF(R1712=R1711,\"\",IF(E1712<>\"\",CONCATENATE(B1712,A1712,DIGITADOR!$M$1,C1712),\"\"))","v":""},null,{"$f":"IF(N1712=\"\",\"\",INDEX(referentes!S:T,MATCH(N1712,referentes!T:T,0),1))","v":""},null,{"$f":"IF(P1712=\"\",\"\",INDEX(referentes!Y:Z,MATCH(P1712,referentes!Z:Z,0),1))","v":""},"","",null,null,null,null,null,{"$f":"IF(X1712=\"\",\"\",INDEX(referentes!J:K,MATCH(X1712,referentes!J:J,0),2))","v":""},null,null,""]
["30000401000000",null,0,{"$f":"IF(E1713<>\"\",CONCATENATE(B1713,A1713,DIGITADOR!$M$1,C1713),\"\")","v":""},null,null,"","","",null,1709,"",{"$f":"IF(R1713=R1712,\"\",IF(E1713<>\"\",CONCATENATE(B1713,A1713,DIGITADOR!$M$1,C1713),\"\"))","v":""},null,{"$f":"IF(N1713=\"\",\"\",INDEX(referentes!S:T,MATCH(N1713,referentes!T:T,0),1))","v":""},null,{"$f":"IF(P1713=\"\",\"\",INDEX(referentes!Y:Z,MATCH(P1713,referentes!Z:Z,0),1))","v":""},"","",null,null,null,null,null,{"$f":"IF(X1713=\"\",\"\",INDEX(referentes!J:K,MATCH(X1713,referentes!J:J,0),2))","v":""},null,null,""]
["30000401000000",null,0,{"$f":"IF(E1714<>\"\",CONCATENATE(B1714,A1714,DIGITADOR!$M$1,C1714),\"\")","v":""},null,null,"","","",null,1710,"",{"$f":"IF(R1714=R1713,\"\",IF(E1714<>\"\",CONCATENATE(B1714,A1714,DIGITADOR!$M$1,C1714),\"\"))","v":""},null,{"$f":"IF(N1714=\"\",\"\",INDEX(referentes!S:T,MATCH(N1714,referentes!T:T,0),1))","v":""},null,{"$f":"IF(P1714=\"\",\"\",INDEX(referentes!Y:Z,MATCH(P1714,referentes!Z:Z,0),1))","v":""},"","",null,null,null,null,null,{"$f":"IF(X1714=\"\",\"\",INDEX(referentes!J:K,MATCH(X1714,referentes!J:J,0),2))","v":""},null,null,""]
["30000401000000",null,0,{"$f":"IF(E1715<>\"\",CONCATENATE(B1715,A1715,DIGITADOR!$M$1,C1715),\"\")","v":""},null,null,"","","",null,1711,"",{"$f":"IF(R1715=R1714,\"\",IF(E1715<>\"\",CONCATENATE(B1715,A1715,DIGITADOR!$M$1,C1715),\"\"))","v":""},null,{"$f":"IF(N1715=\"\",\"\",INDEX(referentes!S:T,MATCH(N1715,referentes!T:T,0),1))","v":""},null,{"$f":"IF(P1715=\"\",\"\",INDEX(referentes!Y:Z,MATCH(P1715,referentes!Z:Z,0),1))","v":""},"","",null,null,null,null,null,{"$f":"IF(X1715=\"\",\"\",INDEX(referentes!J:K,MATCH(X1715,referentes!J:J,0),2))","v":""},null,null,""]
["30000401000000",null,0,{"$f":"IF(E1716<>\"\",CONCATENATE(B1716,A1716,DIGITADOR!$M$1,C1716),\"\")","v":""},null,null,"","","",null,1712,"",{"$f":"IF(R1716=R1715,\"\",IF(E1716<>\"\",CONCATENATE(B1716,A1716,DIGITADOR!$M$1,C1716),\"\"))","v":""},null,{"$f":"IF(N1716=\"\",\"\",INDEX(referentes!S:T,MATCH(N1716,referentes!T:T,0),1))","v":""},null,{"$f":"IF(P1716=\"\",\"\",INDEX(referentes!Y:Z,MATCH(P1716,referentes!Z:Z,0),1))","v":""},"","",null,null,null,null,null,{"$f":"IF(X1716=\"\",\"\",INDEX(referentes!J:K,MATCH(X1716,referentes!J:J,0),2))","v":""},null,null,""]
["30000401000000",null,0,{"$f":"IF(E1717<>\"\",CONCATENATE(B1717,A1717,DIGITADOR!$M$1,C1717),\"\")","v":""},null,null,"","","",null,1713,"",{"$f":"IF(R1717=R1716,\"\",IF(E1717<>\"\",CONCATENATE(B1717,A1717,DIGITADOR!$M$1,C1717),\"\"))","v":""},null,{"$f":"IF(N1717=\"\",\"\",INDEX(referentes!S:T,MATCH(N1717,referentes!T:T,0),1))","v":""},null,{"$f":"IF(P1717=\"\",\"\",INDEX(referentes!Y:Z,MATCH(P1717,referentes!Z:Z,0),1))","v":""},"","",null,null,null,null,null,{"$f":"IF(X1717=\"\",\"\",INDEX(referentes!J:K,MATCH(X1717,referentes!J:J,0),2))","v":""},null,null,""]
["30000401000000",null,0,{"$f":"IF(E1718<>\"\",CONCATENATE(B1718,A1718,DIGITADOR!$M$1,C1718),\"\")","v":""},null,null,"","","",null,1714,"",{"$f":"IF(R1718=R1717,\"\",IF(E1718<>\"\",CONCATENATE(B1718,A1718,DIGITADOR!$M$1,C1718),\"\"))","v":""},null,{"$f":"IF(N1718=\"\",\"\",INDEX(referentes!S:T,MATCH(N1718,referentes!T:T,0),1))","v":""},null,{"$f":"IF(P1718=\"\",\"\",INDEX(referentes!Y:Z,MATCH(P1718,referentes!Z:Z,0),1))","v":""},"","",null,null,null,null,null,{"$f":"IF(X1718=\"\",\"\",INDEX(referentes!J:K,MATCH(X1718,referentes!J:J,0),2))","v":""},null,null,""]
["30000401000000",null,0,{"$f":"IF(E1719<>\"\",CONCATENATE(B1719,A1719,DIGITADOR!$M$1,C1719),\"\")","v":""},null,null,"","","",null,1715,"",{"$f":"IF(R1719=R1718,\"\",IF(E1719<>\"\",CONCATENATE(B1719,A1719,DIGITADOR!$M$1,C1719),\"\"))","v":""},null,{"$f":"IF(N1719=\"\",\"\",INDEX(referentes!S:T,MATCH(N1719,referentes!T:T,0),1))","v":""},null,{"$f":"IF(P1719=\"\",\"\",INDEX(referentes!Y:Z,MATCH(P1719,referentes!Z:Z,0),1))","v":""},"","",null,null,null,null,null,{"$f":"IF(X1719=\"\",\"\",INDEX(referentes!J:K,MATCH(X1719,referentes!J:J,0),2))","v":""},null,null,""]
["30000401000000",null,0,{"$f":"IF(E1720<>\"\",CONCATENATE(B1720,A1720,DIGITADOR!$M$1,C1720),\"\")","v":""},null,null,"","","",null,1716,"",{"$f":"IF(R1720=R1719,\"\",IF(E1720<>\"\",CONCATENATE(B1720,A1720,DIGITADOR!$M$1,C1720),\"\"))","v":""},null,{"$f":"IF(N1720=\"\",\"\",INDEX(referentes!S:T,MATCH(N1720,referentes!T:T,0),1))","v":""},null,{"$f":"IF(P1720=\"\",\"\",INDEX(referentes!Y:Z,MATCH(P1720,referentes!Z:Z,0),1))","v":""},"","",null,null,null,null,null,{"$f":"IF(X1720=\"\",\"\",INDEX(referentes!J:K,MATCH(X1720,referentes!J:J,0),2))","v":""},null,null,""]
["30000401000000",null,0,{"$f":"IF(E1721<>\"\",CONCATENATE(B1721,A1721,DIGITADOR!$M$1,C1721),\"\")","v":""},null,null,"","","",null,1717,"",{"$f":"IF(R1721=R1720,\"\",IF(E1721<>\"\",CONCATENATE(B1721,A1721,DIGITADOR!$M$1,C1721),\"\"))","v":""},null,{"$f":"IF(N1721=\"\",\"\",INDEX(referentes!S:T,MATCH(N1721,referentes!T:T,0),1))","v":""},null,{"$f":"IF(P1721=\"\",\"\",INDEX(referentes!Y:Z,MATCH(P1721,referentes!Z:Z,0),1))","v":""},"","",null,null,null,null,null,{"$f":"IF(X1721=\"\",\"\",INDEX(referentes!J:K,MATCH(X1721,referentes!J:J,0),2))","v":""},null,null,""]
["30000401000000",null,0,{"$f":"IF(E1722<>\"\",CONCATENATE(B1722,A1722,DIGITADOR!$M$1,C1722),\"\")","v":""},null,null,"","","",null,1718,"",{"$f":"IF(R1722=R1721,\"\",IF(E1722<>\"\",CONCATENATE(B1722,A1722,DIGITADOR!$M$1,C1722),\"\"))","v":""},null,{"$f":"IF(N1722=\"\",\"\",INDEX(referentes!S:T,MATCH(N1722,referentes!T:T,0),1))","v":""},null,{"$f":"IF(P1722=\"\",\"\",INDEX(referentes!Y:Z,MATCH(P1722,referentes!Z:Z,0),1))","v":""},"","",null,null,null,null,null,{"$f":"IF(X1722=\"\",\"\",INDEX(referentes!J:K,MATCH(X1722,referentes!J:J,0),2))","v":""},null,null,""]
["30000401000000",null,0,{"$f":"IF(E1723<>\"\",CONCATENATE(B1723,A1723,DIGITADOR!$M$1,C1723),\"\")","v":""},null,null,"","","",null,1719,"",{"$f":"IF(R1723=R1722,\"\",IF(E1723<>\"\",CONCATENATE(B1723,A1723,DIGITADOR!$M$1,C1723),\"\"))","v":""},null,{"$f":"IF(N1723=\"\",\"\",INDEX(referentes!S:T,MATCH(N1723,referentes!T:T,0),1))","v":""},null,{"$f":"IF(P1723=\"\",\"\",INDEX(referentes!Y:Z,MATCH(P1723,referentes!Z:Z,0),1))","v":""},"","",null,null,null,null,null,{"$f":"IF(X1723=\"\",\"\",INDEX(referentes!J:K,MATCH(X1723,referentes!J:J,0),2))","v":""},null,null,""]
["30000401000000",null,0,{"$f":"IF(E1724<>\"\",CONCATENATE(B1724,A1724,DIGITADOR!$M$1,C1724),\"\")","v":""},null,null,"","","",null,1720,"",{"$f":"IF(R1724=R1723,\"\",IF(E1724<>\"\",CONCATENATE(B1724,A1724,DIGITADOR!$M$1,C1724),\"\"))","v":""},null,{"$f":"IF(N1724=\"\",\"\",INDEX(referentes!S:T,MATCH(N1724,referentes!T:T,0),1))","v":""},null,{"$f":"IF(P1724=\"\",\"\",INDEX(referentes!Y:Z,MATCH(P1724,referentes!Z:Z,0),1))","v":""},"","",null,null,null,null,null,{"$f":"IF(X1724=\"\",\"\",INDEX(referentes!J:K,MATCH(X1724,referentes!J:J,0),2))","v":""},null,null,""]
["30000401000000",null,0,{"$f":"IF(E1725<>\"\",CONCATENATE(B1725,A1725,DIGITADOR!$M$1,C1725),\"\")","v":""},null,null,"","","",null,1721,"",{"$f":"IF(R1725=R1724,\"\",IF(E1725<>\"\",CONCATENATE(B1725,A1725,DIGITADOR!$M$1,C1725),\"\"))","v":""},null,{"$f":"IF(N1725=\"\",\"\",INDEX(referentes!S:T,MATCH(N1725,referentes!T:T,0),1))","v":""},null,{"$f":"IF(P1725=\"\",\"\",INDEX(referentes!Y:Z,MATCH(P1725,referentes!Z:Z,0),1))","v":""},"","",null,null,null,null,null,{"$f":"IF(X1725=\"\",\"\",INDEX(referentes!J:K,MATCH(X1725,referentes!J:J,0),2))","v":""},null,null,""]
["30000401000000",null,0,{"$f":"IF(E1726<>\"\",CONCATENATE(B1726,A1726,DIGITADOR!$M$1,C1726),\"\")","v":""},null,null,"","","",null,1722,"",{"$f":"IF(R1726=R1725,\"\",IF(E1726<>\"\",CONCATENATE(B1726,A1726,DIGITADOR!$M$1,C1726),\"\"))","v":""},null,{"$f":"IF(N1726=\"\",\"\",INDEX(referentes!S:T,MATCH(N1726,referentes!T:T,0),1))","v":""},null,{"$f":"IF(P1726=\"\",\"\",INDEX(referentes!Y:Z,MATCH(P1726,referentes!Z:Z,0),1))","v":""},"","",null,null,null,null,null,{"$f":"IF(X1726=\"\",\"\",INDEX(referentes!J:K,MATCH(X1726,referentes!J:J,0),2))","v":""},null,null,""]
["30000401000000",null,0,{"$f":"IF(E1727<>\"\",CONCATENATE(B1727,A1727,DIGITADOR!$M$1,C1727),\"\")","v":""},null,null,"","","",null,1723,"",{"$f":"IF(R1727=R1726,\"\",IF(E1727<>\"\",CONCATENATE(B1727,A1727,DIGITADOR!$M$1,C1727),\"\"))","v":""},null,{"$f":"IF(N1727=\"\",\"\",INDEX(referentes!S:T,MATCH(N1727,referentes!T:T,0),1))","v":""},null,{"$f":"IF(P1727=\"\",\"\",INDEX(referentes!Y:Z,MATCH(P1727,referentes!Z:Z,0),1))","v":""},"","",null,null,null,null,null,{"$f":"IF(X1727=\"\",\"\",INDEX(referentes!J:K,MATCH(X1727,referentes!J:J,0),2))","v":""},null,null,""]
["30000401000000",null,0,{"$f":"IF(E1728<>\"\",CONCATENATE(B1728,A1728,DIGITADOR!$M$1,C1728),\"\")","v":""},null,null,"","","",null,1724,"",{"$f":"IF(R1728=R1727,\"\",IF(E1728<>\"\",CONCATENATE(B1728,A1728,DIGITADOR!$M$1,C1728),\"\"))","v":""},null,{"$f":"IF(N1728=\"\",\"\",INDEX(referentes!S:T,MATCH(N1728,referentes!T:T,0),1))","v":""},null,{"$f":"IF(P1728=\"\",\"\",INDEX(referentes!Y:Z,MATCH(P1728,referentes!Z:Z,0),1))","v":""},"","",null,null,null,null,null,{"$f":"IF(X1728=\"\",\"\",INDEX(referentes!J:K,MATCH(X1728,referentes!J:J,0),2))","v":""},null,null,""]
["30000401000000",null,0,{"$f":"IF(E1729<>\"\",CONCATENATE(B1729,A1729,DIGITADOR!$M$1,C1729),\"\")","v":""},null,null,"","","",null,1725,"",{"$f":"IF(R1729=R1728,\"\",IF(E1729<>\"\",CONCATENATE(B1729,A1729,DIGITADOR!$M$1,C1729),\"\"))","v":""},null,{"$f":"IF(N1729=\"\",\"\",INDEX(referentes!S:T,MATCH(N1729,referentes!T:T,0),1))","v":""},null,{"$f":"IF(P1729=\"\",\"\",INDEX(referentes!Y:Z,MATCH(P1729,referentes!Z:Z,0),1))","v":""},"","",null,null,null,null,null,{"$f":"IF(X1729=\"\",\"\",INDEX(referentes!J:K,MATCH(X1729,referentes!J:J,0),2))","v":""},null,null,""]
["30000401000000",null,0,{"$f":"IF(E1730<>\"\",CONCATENATE(B1730,A1730,DIGITADOR!$M$1,C1730),\"\")","v":""},null,null,"","","",null,1726,"",{"$f":"IF(R1730=R1729,\"\",IF(E1730<>\"\",CONCATENATE(B1730,A1730,DIGITADOR!$M$1,C1730),\"\"))","v":""},null,{"$f":"IF(N1730=\"\",\"\",INDEX(referentes!S:T,MATCH(N1730,referentes!T:T,0),1))","v":""},null,{"$f":"IF(P1730=\"\",\"\",INDEX(referentes!Y:Z,MATCH(P1730,referentes!Z:Z,0),1))","v":""},"","",null,null,null,null,null,{"$f":"IF(X1730=\"\",\"\",INDEX(referentes!J:K,MATCH(X1730,referentes!J:J,0),2))","v":""},null,null,""]
["30000401000000",null,0,{"$f":"IF(E1731<>\"\",CONCATENATE(B1731,A1731,DIGITADOR!$M$1,C1731),\"\")","v":""},null,null,"","","",null,1727,"",{"$f":"IF(R1731=R1730,\"\",IF(E1731<>\"\",CONCATENATE(B1731,A1731,DIGITADOR!$M$1,C1731),\"\"))","v":""},null,{"$f":"IF(N1731=\"\",\"\",INDEX(referentes!S:T,MATCH(N1731,referentes!T:T,0),1))","v":""},null,{"$f":"IF(P1731=\"\",\"\",INDEX(referentes!Y:Z,MATCH(P1731,referentes!Z:Z,0),1))","v":""},"","",null,null,null,null,null,{"$f":"IF(X1731=\"\",\"\",INDEX(referentes!J:K,MATCH(X1731,referentes!J:J,0),2))","v":""},null,null,""]
["30000401000000",null,0,{"$f":"IF(E1732<>\"\",CONCATENATE(B1732,A1732,DIGITADOR!$M$1,C1732),\"\")","v":""},null,null,"","","",null,1728,"",{"$f":"IF(R1732=R1731,\"\",IF(E1732<>\"\",CONCATENATE(B1732,A1732,DIGITADOR!$M$1,C1732),\"\"))","v":""},null,{"$f":"IF(N1732=\"\",\"\",INDEX(referentes!S:T,MATCH(N1732,referentes!T:T,0),1))","v":""},null,{"$f":"IF(P1732=\"\",\"\",INDEX(referentes!Y:Z,MATCH(P1732,referentes!Z:Z,0),1))","v":""},"","",null,null,null,null,null,{"$f":"IF(X1732=\"\",\"\",INDEX(referentes!J:K,MATCH(X1732,referentes!J:J,0),2))","v":""},null,null,""]
["30000401000000",null,{"$f":"IF(R1733=R1732,C1732,C1732+1)","v":0},{"$f":"IF(E1733<>\"\",CONCATENATE(B1733,A1733,DIGITADOR!$M$1,C1733),\"\")","v":""},null,null,"","","",null,1729,"",{"$f":"IF(R1733=R1732,\"\",IF(E1733<>\"\",CONCATENATE(B1733,A1733,DIGITADOR!$M$1,C1733),\"\"))","v":""},null,{"$f":"IF(N1733=\"\",\"\",INDEX(referentes!S:T,MATCH(N1733,referentes!T:T,0),1))","v":""},null,{"$f":"IF(P1733=\"\",\"\",INDEX(referentes!Y:Z,MATCH(P1733,referentes!Z:Z,0),1))","v":""},"","",null,null,null,null,null,{"$f":"IF(X1733=\"\",\"\",INDEX(referentes!J:K,MATCH(X1733,referentes!J:J,0),2))","v":""},null,null,""]
["30000401000000",null,0,{"$f":"IF(E1734<>\"\",CONCATENATE(B1734,A1734,DIGITADOR!$M$1,C1734),\"\")","v":""},null,null,{"$f":"IF(E1734=\"\", \"\", (E1734+F1734))","v":""},{"$f":"IF(G1734<>\"\",MONTH(G1734),\"\")","v":""},{"$f":"IF(D1734=\"\",\"\",1)","v":""},null,1730,{"$f":"IF(E1734=\"\",\"\",CONCATENATE(D1734,K1734))","v":""},{"$f":"IF(R1734=R1733,\"\",IF(E1734<>\"\",CONCATENATE(B1734,A1734,DIGITADOR!$M$1,C1734),\"\"))","v":""},null,{"$f":"IF(N1734=\"\",\"\",INDEX(referentes!S:T,MATCH(N1734,referentes!T:T,0),1))","v":""},null,{"$f":"IF(P1734=\"\",\"\",INDEX(referentes!Y:Z,MATCH(P1734,referentes!Z:Z,0),1))","v":""},{"$f":"IF(G1734=\"\",\"\",CONCATENATE(G1734,O1734,Q1734))","v":""},{"$f":"IF(E1734=\"\",\"\",\"INVEMAR\")","v":""},null,null,null,null,null,{"$f":"IF(X1734=\"\",\"\",INDEX(referentes!J:K,MATCH(X1734,referentes!J:J,0),2))","v":""},null,null,{"$f":"IF(T1734=\"\",\"\",IF(T1734=T1733,AB1733,AA1734))","v":""}]
[{"$f":"A1734","v":"30000401000000"},null,0,{"$f":"IF(E1735<>\"\",CONCATENATE(B1735,A1735,DIGITADOR!$M$1,C1735),\"\")","v":""},null,null,"","","",null,1731,"",{"$f":"IF(R1735=R1734,\"\",IF(E1735<>\"\",CONCATENATE(B1735,A1735,DIGITADOR!$M$1,C1735),\"\"))","v":""},null,{"$f":"IF(N1735=\"\",\"\",INDEX(referentes!S:T,MATCH(N1735,referentes!T:T,0),1))","v":""},null,{"$f":"IF(P1735=\"\",\"\",INDEX(referentes!Y:Z,MATCH(P1735,referentes!Z:Z,0),1))","v":""},"","",null,null,null,null,null,{"$f":"IF(X1735=\"\",\"\",INDEX(referentes!J:K,MATCH(X1735,referentes!J:J,0),2))","v":""},null,null,""]
["30000401000000",null,0,{"$f":"IF(E1736<>\"\",CONCATENATE(B1736,A1736,DIGITADOR!$M$1,C1736),\"\")","v":""},null,null,"","","",null,1732,"",{"$f":"IF(R1736=R1735,\"\",IF(E1736<>\"\",CONCATENATE(B1736,A1736,DIGITADOR!$M$1,C1736),\"\"))","v":""},null,{"$f":"IF(N1736=\"\",\"\",INDEX(referentes!S:T,MATCH(N1736,referentes!T:T,0),1))","v":""},null,{"$f":"IF(P1736=\"\",\"\",INDEX(referentes!Y:Z,MATCH(P1736,referentes!Z:Z,0),1))","v":""},"","",null,null,null,null,null,{"$f":"IF(X1736=\"\",\"\",INDEX(referentes!J:K,MATCH(X1736,referentes!J:J,0),2))","v":""},null,null,""]
["30000401000000",null,0,{"$f":"IF(E1737<>\"\",CONCATENATE(B1737,A1737,DIGITADOR!$M$1,C1737),\"\")","v":""},null,null,"","","",null,1733,"",{"$f":"IF(R1737=R1736,\"\",IF(E1737<>\"\",CONCATENATE(B1737,A1737,DIGITADOR!$M$1,C1737),\"\"))","v":""},null,{"$f":"IF(N1737=\"\",\"\",INDEX(referentes!S:T,MATCH(N1737,referentes!T:T,0),1))","v":""},null,{"$f":"IF(P1737=\"\",\"\",INDEX(referentes!Y:Z,MATCH(P1737,referentes!Z:Z,0),1))","v":""},"","",null,null,null,null,null,{"$f":"IF(X1737=\"\",\"\",INDEX(referentes!J:K,MATCH(X1737,referentes!J:J,0),2))","v":""},null,null,""]
["30000401000000",null,0,{"$f":"IF(E1738<>\"\",CONCATENATE(B1738,A1738,DIGITADOR!$M$1,C1738),\"\")","v":""},null,null,"","","",null,1734,"",{"$f":"IF(R1738=R1737,\"\",IF(E1738<>\"\",CONCATENATE(B1738,A1738,DIGITADOR!$M$1,C1738),\"\"))","v":""},null,{"$f":"IF(N1738=\"\",\"\",INDEX(referentes!S:T,MATCH(N1738,referentes!T:T,0),1))","v":""},null,{"$f":"IF(P1738=\"\",\"\",INDEX(referentes!Y:Z,MATCH(P1738,referentes!Z:Z,0),1))","v":""},"","",null,null,null,null,null,{"$f":"IF(X1738=\"\",\"\",INDEX(referentes!J:K,MATCH(X1738,referentes!J:J,0),2))","v":""},null,null,""]
["30000401000000",null,0,{"$f":"IF(E1739<>\"\",CONCATENATE(B1739,A1739,DIGITADOR!$M$1,C1739),\"\")","v":""},null,null,"","","",null,1735,"",{"$f":"IF(R1739=R1738,\"\",IF(E1739<>\"\",CONCATENATE(B1739,A1739,DIGITADOR!$M$1,C1739),\"\"))","v":""},null,{"$f":"IF(N1739=\"\",\"\",INDEX(referentes!S:T,MATCH(N1739,referentes!T:T,0),1))","v":""},null,{"$f":"IF(P1739=\"\",\"\",INDEX(referentes!Y:Z,MATCH(P1739,referentes!Z:Z,0),1))","v":""},"","",null,null,null,null,null,{"$f":"IF(X1739=\"\",\"\",INDEX(referentes!J:K,MATCH(X1739,referentes!J:J,0),2))","v":""},null,null,""]
["30000401000000",null,0,{"$f":"IF(E1740<>\"\",CONCATENATE(B1740,A1740,DIGITADOR!$M$1,C1740),\"\")","v":""},null,null,"","","",null,1736,"",{"$f":"IF(R1740=R1739,\"\",IF(E1740<>\"\",CONCATENATE(B1740,A1740,DIGITADOR!$M$1,C1740),\"\"))","v":""},null,{"$f":"IF(N1740=\"\",\"\",INDEX(referentes!S:T,MATCH(N1740,referentes!T:T,0),1))","v":""},null,{"$f":"IF(P1740=\"\",\"\",INDEX(referentes!Y:Z,MATCH(P1740,referentes!Z:Z,0),1))","v":""},"","",null,null,null,null,null,{"$f":"IF(X1740=\"\",\"\",INDEX(referentes!J:K,MATCH(X1740,referentes!J:J,0),2))","v":""},null,null,""]
["30000401000000",null,0,{"$f":"IF(E1741<>\"\",CONCATENATE(B1741,A1741,DIGITADOR!$M$1,C1741),\"\")","v":""},null,null,"","","",null,1737,"",{"$f":"IF(R1741=R1740,\"\",IF(E1741<>\"\",CONCATENATE(B1741,A1741,DIGITADOR!$M$1,C1741),\"\"))","v":""},null,{"$f":"IF(N1741=\"\",\"\",INDEX(referentes!S:T,MATCH(N1741,referentes!T:T,0),1))","v":""},null,{"$f":"IF(P1741=\"\",\"\",INDEX(referentes!Y:Z,MATCH(P1741,referentes!Z:Z,0),1))","v":""},"","",null,null,null,null,null,{"$f":"IF(X1741=\"\",\"\",INDEX(referentes!J:K,MATCH(X1741,referentes!J:J,0),2))","v":""},null,null,""]
["30000401000000",null,0,{"$f":"IF(E1742<>\"\",CONCATENATE(B1742,A1742,DIGITADOR!$M$1,C1742),\"\")","v":""},null,null,"","","",null,1738,"",{"$f":"IF(R1742=R1741,\"\",IF(E1742<>\"\",CONCATENATE(B1742,A1742,DIGITADOR!$M$1,C1742),\"\"))","v":""},null,{"$f":"IF(N1742=\"\",\"\",INDEX(referentes!S:T,MATCH(N1742,referentes!T:T,0),1))","v":""},null,{"$f":"IF(P1742=\"\",\"\",INDEX(referentes!Y:Z,MATCH(P1742,referentes!Z:Z,0),1))","v":""},"","",null,null,null,null,null,{"$f":"IF(X1742=\"\",\"\",INDEX(referentes!J:K,MATCH(X1742,referentes!J:J,0),2))","v":""},null,null,""]
["30000401000000",null,0,{"$f":"IF(E1743<>\"\",CONCATENATE(B1743,A1743,DIGITADOR!$M$1,C1743),\"\")","v":""},null,null,"","","",null,1739,"",{"$f":"IF(R1743=R1742,\"\",IF(E1743<>\"\",CONCATENATE(B1743,A1743,DIGITADOR!$M$1,C1743),\"\"))","v":""},null,{"$f":"IF(N1743=\"\",\"\",INDEX(referentes!S:T,MATCH(N1743,referentes!T:T,0),1))","v":""},null,{"$f":"IF(P1743=\"\",\"\",INDEX(referentes!Y:Z,MATCH(P1743,referentes!Z:Z,0),1))","v":""},"","",null,null,null,null,null,{"$f":"IF(X1743=\"\",\"\",INDEX(referentes!J:K,MATCH(X1743,referentes!J:J,0),2))","v":""},null,null,""]
["30000401000000",null,0,{"$f":"IF(E1744<>\"\",CONCATENATE(B1744,A1744,DIGITADOR!$M$1,C1744),\"\")","v":""},null,null,"","","",null,1740,"",{"$f":"IF(R1744=R1743,\"\",IF(E1744<>\"\",CONCATENATE(B1744,A1744,DIGITADOR!$M$1,C1744),\"\"))","v":""},null,{"$f":"IF(N1744=\"\",\"\",INDEX(referentes!S:T,MATCH(N1744,referentes!T:T,0),1))","v":""},null,{"$f":"IF(P1744=\"\",\"\",INDEX(referentes!Y:Z,MATCH(P1744,referentes!Z:Z,0),1))","v":""},"","",null,null,null,null,null,{"$f":"IF(X1744=\"\",\"\",INDEX(referentes!J:K,MATCH(X1744,referentes!J:J,0),2))","v":""},null,null,""]
["30000401000000",null,0,{"$f":"IF(E1745<>\"\",CONCATENATE(B1745,A1745,DIGITADOR!$M$1,C1745),\"\")","v":""},null,null,"","","",null,1741,"",{"$f":"IF(R1745=R1744,\"\",IF(E1745<>\"\",CONCATENATE(B1745,A1745,DIGITADOR!$M$1,C1745),\"\"))","v":""},null,{"$f":"IF(N1745=\"\",\"\",INDEX(referentes!S:T,MATCH(N1745,referentes!T:T,0),1))","v":""},null,{"$f":"IF(P1745=\"\",\"\",INDEX(referentes!Y:Z,MATCH(P1745,referentes!Z:Z,0),1))","v":""},"","",null,null,null,null,null,{"$f":"IF(X1745=\"\",\"\",INDEX(referentes!J:K,MATCH(X1745,referentes!J:J,0),2))","v":""},null,null,""]
["30000401000000",null,0,{"$f":"IF(E1746<>\"\",CONCATENATE(B1746,A1746,DIGITADOR!$M$1,C1746),\"\")","v":""},null,null,"","","",null,1742,"",{"$f":"IF(R1746=R1745,\"\",IF(E1746<>\"\",CONCATENATE(B1746,A1746,DIGITADOR!$M$1,C1746),\"\"))","v":""},null,{"$f":"IF(N1746=\"\",\"\",INDEX(referentes!S:T,MATCH(N1746,referentes!T:T,0),1))","v":""},null,{"$f":"IF(P1746=\"\",\"\",INDEX(referentes!Y:Z,MATCH(P1746,referentes!Z:Z,0),1))","v":""},"","",null,null,null,null,null,{"$f":"IF(X1746=\"\",\"\",INDEX(referentes!J:K,MATCH(X1746,referentes!J:J,0),2))","v":""},null,null,""]
["30000401000000",null,0,{"$f":"IF(E1747<>\"\",CONCATENATE(B1747,A1747,DIGITADOR!$M$1,C1747),\"\")","v":""},null,null,"","","",null,1743,"",{"$f":"IF(R1747=R1746,\"\",IF(E1747<>\"\",CONCATENATE(B1747,A1747,DIGITADOR!$M$1,C1747),\"\"))","v":""},null,{"$f":"IF(N1747=\"\",\"\",INDEX(referentes!S:T,MATCH(N1747,referentes!T:T,0),1))","v":""},null,{"$f":"IF(P1747=\"\",\"\",INDEX(referentes!Y:Z,MATCH(P1747,referentes!Z:Z,0),1))","v":""},"","",null,null,null,null,null,{"$f":"IF(X1747=\"\",\"\",INDEX(referentes!J:K,MATCH(X1747,referentes!J:J,0),2))","v":""},null,null,""]
["30000401000000",null,0,{"$f":"IF(E1748<>\"\",CONCATENATE(B1748,A1748,DIGITADOR!$M$1,C1748),\"\")","v":""},null,null,"","","",null,1744,"",{"$f":"IF(R1748=R1747,\"\",IF(E1748<>\"\",CONCATENATE(B1748,A1748,DIGITADOR!$M$1,C1748),\"\"))","v":""},null,{"$f":"IF(N1748=\"\",\"\",INDEX(referentes!S:T,MATCH(N1748,referentes!T:T,0),1))","v":""},null,{"$f":"IF(P1748=\"\",\"\",INDEX(referentes!Y:Z,MATCH(P1748,referentes!Z:Z,0),1))","v":""},"","",null,null,null,null,null,{"$f":"IF(X1748=\"\",\"\",INDEX(referentes!J:K,MATCH(X1748,referentes!J:J,0),2))","v":""},null,null,""]
["30000401000000",null,0,{"$f":"IF(E1749<>\"\",CONCATENATE(B1749,A1749,DIGITADOR!$M$1,C1749),\"\")","v":""},null,null,"","","",null,1745,"",{"$f":"IF(R1749=R1748,\"\",IF(E1749<>\"\",CONCATENATE(B1749,A1749,DIGITADOR!$M$1,C1749),\"\"))","v":""},null,{"$f":"IF(N1749=\"\",\"\",INDEX(referentes!S:T,MATCH(N1749,referentes!T:T,0),1))","v":""},null,{"$f":"IF(P1749=\"\",\"\",INDEX(referentes!Y:Z,MATCH(P1749,referentes!Z:Z,0),1))","v":""},"","",null,null,null,null,null,{"$f":"IF(X1749=\"\",\"\",INDEX(referentes!J:K,MATCH(X1749,referentes!J:J,0),2))","v":""},null,null,""]
["30000401000000",null,0,{"$f":"IF(E1750<>\"\",CONCATENATE(B1750,A1750,DIGITADOR!$M$1,C1750),\"\")","v":""},null,null,"","","",null,1746,"",{"$f":"IF(R1750=R1749,\"\",IF(E1750<>\"\",CONCATENATE(B1750,A1750,DIGITADOR!$M$1,C1750),\"\"))","v":""},null,{"$f":"IF(N1750=\"\",\"\",INDEX(referentes!S:T,MATCH(N1750,referentes!T:T,0),1))","v":""},null,{"$f":"IF(P1750=\"\",\"\",INDEX(referentes!Y:Z,MATCH(P1750,referentes!Z:Z,0),1))","v":""},"","",null,null,null,null,null,{"$f":"IF(X1750=\"\",\"\",INDEX(referentes!J:K,MATCH(X1750,referentes!J:J,0),2))","v":""},null,null,""]
["30000401000000",null,0,{"$f":"IF(E1751<>\"\",CONCATENATE(B1751,A1751,DIGITADOR!$M$1,C1751),\"\")","v":""},null,null,"","","",null,1747,"",{"$f":"IF(R1751=R1750,\"\",IF(E1751<>\"\",CONCATENATE(B1751,A1751,DIGITADOR!$M$1,C1751),\"\"))","v":""},null,{"$f":"IF(N1751=\"\",\"\",INDEX(referentes!S:T,MATCH(N1751,referentes!T:T,0),1))","v":""},null,{"$f":"IF(P1751=\"\",\"\",INDEX(referentes!Y:Z,MATCH(P1751,referentes!Z:Z,0),1))","v":""},"","",null,null,null,null,null,{"$f":"IF(X1751=\"\",\"\",INDEX(referentes!J:K,MATCH(X1751,referentes!J:J,0),2))","v":""},null,null,""]
["30000401000000",null,0,{"$f":"IF(E1752<>\"\",CONCATENATE(B1752,A1752,DIGITADOR!$M$1,C1752),\"\")","v":""},null,null,"","","",null,1748,"",{"$f":"IF(R1752=R1751,\"\",IF(E1752<>\"\",CONCATENATE(B1752,A1752,DIGITADOR!$M$1,C1752),\"\"))","v":""},null,{"$f":"IF(N1752=\"\",\"\",INDEX(referentes!S:T,MATCH(N1752,referentes!T:T,0),1))","v":""},null,{"$f":"IF(P1752=\"\",\"\",INDEX(referentes!Y:Z,MATCH(P1752,referentes!Z:Z,0),1))","v":""},"","",null,null,null,null,null,{"$f":"IF(X1752=\"\",\"\",INDEX(referentes!J:K,MATCH(X1752,referentes!J:J,0),2))","v":""},null,null,""]
["30000401000000",null,0,{"$f":"IF(E1753<>\"\",CONCATENATE(B1753,A1753,DIGITADOR!$M$1,C1753),\"\")","v":""},null,null,"","","",null,1749,"",{"$f":"IF(R1753=R1752,\"\",IF(E1753<>\"\",CONCATENATE(B1753,A1753,DIGITADOR!$M$1,C1753),\"\"))","v":""},null,{"$f":"IF(N1753=\"\",\"\",INDEX(referentes!S:T,MATCH(N1753,referentes!T:T,0),1))","v":""},null,{"$f":"IF(P1753=\"\",\"\",INDEX(referentes!Y:Z,MATCH(P1753,referentes!Z:Z,0),1))","v":""},"","",null,null,null,null,null,{"$f":"IF(X1753=\"\",\"\",INDEX(referentes!J:K,MATCH(X1753,referentes!J:J,0),2))","v":""},null,null,""]
["30000401000000",null,0,{"$f":"IF(E1754<>\"\",CONCATENATE(B1754,A1754,DIGITADOR!$M$1,C1754),\"\")","v":""},null,null,"","","",null,1750,"",{"$f":"IF(R1754=R1753,\"\",IF(E1754<>\"\",CONCATENATE(B1754,A1754,DIGITADOR!$M$1,C1754),\"\"))","v":""},null,{"$f":"IF(N1754=\"\",\"\",INDEX(referentes!S:T,MATCH(N1754,referentes!T:T,0),1))","v":""},null,{"$f":"IF(P1754=\"\",\"\",INDEX(referentes!Y:Z,MATCH(P1754,referentes!Z:Z,0),1))","v":""},"","",null,null,null,null,null,{"$f":"IF(X1754=\"\",\"\",INDEX(referentes!J:K,MATCH(X1754,referentes!J:J,0),2))","v":""},null,null,""]
["30000401000000",null,0,{"$f":"IF(E1755<>\"\",CONCATENATE(B1755,A1755,DIGITADOR!$M$1,C1755),\"\")","v":""},null,null,"","","",null,1751,"",{"$f":"IF(R1755=R1754,\"\",IF(E1755<>\"\",CONCATENATE(B1755,A1755,DIGITADOR!$M$1,C1755),\"\"))","v":""},null,{"$f":"IF(N1755=\"\",\"\",INDEX(referentes!S:T,MATCH(N1755,referentes!T:T,0),1))","v":""},null,{"$f":"IF(P1755=\"\",\"\",INDEX(referentes!Y:Z,MATCH(P1755,referentes!Z:Z,0),1))","v":""},"","",null,null,null,null,null,{"$f":"IF(X1755=\"\",\"\",INDEX(referentes!J:K,MATCH(X1755,referentes!J:J,0),2))","v":""},null,null,""]
["30000401000000",null,0,{"$f":"IF(E1756<>\"\",CONCATENATE(B1756,A1756,DIGITADOR!$M$1,C1756),\"\")","v":""},null,null,"","","",null,1752,"",{"$f":"IF(R1756=R1755,\"\",IF(E1756<>\"\",CONCATENATE(B1756,A1756,DIGITADOR!$M$1,C1756),\"\"))","v":""},null,{"$f":"IF(N1756=\"\",\"\",INDEX(referentes!S:T,MATCH(N1756,referentes!T:T,0),1))","v":""},null,{"$f":"IF(P1756=\"\",\"\",INDEX(referentes!Y:Z,MATCH(P1756,referentes!Z:Z,0),1))","v":""},"","",null,null,null,null,null,{"$f":"IF(X1756=\"\",\"\",INDEX(referentes!J:K,MATCH(X1756,referentes!J:J,0),2))","v":""},null,null,""]
["30000401000000",null,0,{"$f":"IF(E1757<>\"\",CONCATENATE(B1757,A1757,DIGITADOR!$M$1,C1757),\"\")","v":""},null,null,"","","",null,1753,"",{"$f":"IF(R1757=R1756,\"\",IF(E1757<>\"\",CONCATENATE(B1757,A1757,DIGITADOR!$M$1,C1757),\"\"))","v":""},null,{"$f":"IF(N1757=\"\",\"\",INDEX(referentes!S:T,MATCH(N1757,referentes!T:T,0),1))","v":""},null,{"$f":"IF(P1757=\"\",\"\",INDEX(referentes!Y:Z,MATCH(P1757,referentes!Z:Z,0),1))","v":""},"","",null,null,null,null,null,{"$f":"IF(X1757=\"\",\"\",INDEX(referentes!J:K,MATCH(X1757,referentes!J:J,0),2))","v":""},null,null,""]
["30000401000000",null,0,{"$f":"IF(E1758<>\"\",CONCATENATE(B1758,A1758,DIGITADOR!$M$1,C1758),\"\")","v":""},null,null,"","","",null,1754,"",{"$f":"IF(R1758=R1757,\"\",IF(E1758<>\"\",CONCATENATE(B1758,A1758,DIGITADOR!$M$1,C1758),\"\"))","v":""},null,{"$f":"IF(N1758=\"\",\"\",INDEX(referentes!S:T,MATCH(N1758,referentes!T:T,0),1))","v":""},null,{"$f":"IF(P1758=\"\",\"\",INDEX(referentes!Y:Z,MATCH(P1758,referentes!Z:Z,0),1))","v":""},"","",null,null,null,null,null,{"$f":"IF(X1758=\"\",\"\",INDEX(referentes!J:K,MATCH(X1758,referentes!J:J,0),2))","v":""},null,null,""]
["30000401000000",null,0,{"$f":"IF(E1759<>\"\",CONCATENATE(B1759,A1759,DIGITADOR!$M$1,C1759),\"\")","v":""},null,null,"","","",null,1755,"",{"$f":"IF(R1759=R1758,\"\",IF(E1759<>\"\",CONCATENATE(B1759,A1759,DIGITADOR!$M$1,C1759),\"\"))","v":""},null,{"$f":"IF(N1759=\"\",\"\",INDEX(referentes!S:T,MATCH(N1759,referentes!T:T,0),1))","v":""},null,{"$f":"IF(P1759=\"\",\"\",INDEX(referentes!Y:Z,MATCH(P1759,referentes!Z:Z,0),1))","v":""},"","",null,null,null,null,null,{"$f":"IF(X1759=\"\",\"\",INDEX(referentes!J:K,MATCH(X1759,referentes!J:J,0),2))","v":""},null,null,""]
["30000401000000",null,0,{"$f":"IF(E1760<>\"\",CONCATENATE(B1760,A1760,DIGITADOR!$M$1,C1760),\"\")","v":""},null,null,"","","",null,1756,"",{"$f":"IF(R1760=R1759,\"\",IF(E1760<>\"\",CONCATENATE(B1760,A1760,DIGITADOR!$M$1,C1760),\"\"))","v":""},null,{"$f":"IF(N1760=\"\",\"\",INDEX(referentes!S:T,MATCH(N1760,referentes!T:T,0),1))","v":""},null,{"$f":"IF(P1760=\"\",\"\",INDEX(referentes!Y:Z,MATCH(P1760,referentes!Z:Z,0),1))","v":""},"","",null,null,null,null,null,{"$f":"IF(X1760=\"\",\"\",INDEX(referentes!J:K,MATCH(X1760,referentes!J:J,0),2))","v":""},null,null,""]
["30000401000000",null,0,{"$f":"IF(E1761<>\"\",CONCATENATE(B1761,A1761,DIGITADOR!$M$1,C1761),\"\")","v":""},null,null,"","","",null,1757,"",{"$f":"IF(R1761=R1760,\"\",IF(E1761<>\"\",CONCATENATE(B1761,A1761,DIGITADOR!$M$1,C1761),\"\"))","v":""},null,{"$f":"IF(N1761=\"\",\"\",INDEX(referentes!S:T,MATCH(N1761,referentes!T:T,0),1))","v":""},null,{"$f":"IF(P1761=\"\",\"\",INDEX(referentes!Y:Z,MATCH(P1761,referentes!Z:Z,0),1))","v":""},"","",null,null,null,null,null,{"$f":"IF(X1761=\"\",\"\",INDEX(referentes!J:K,MATCH(X1761,referentes!J:J,0),2))","v":""},null,null,""]
["30000401000000",null,0,{"$f":"IF(E1762<>\"\",CONCATENATE(B1762,A1762,DIGITADOR!$M$1,C1762),\"\")","v":""},null,null,"","","",null,1758,"",{"$f":"IF(R1762=R1761,\"\",IF(E1762<>\"\",CONCATENATE(B1762,A1762,DIGITADOR!$M$1,C1762),\"\"))","v":""},null,{"$f":"IF(N1762=\"\",\"\",INDEX(referentes!S:T,MATCH(N1762,referentes!T:T,0),1))","v":""},null,{"$f":"IF(P1762=\"\",\"\",INDEX(referentes!Y:Z,MATCH(P1762,referentes!Z:Z,0),1))","v":""},"","",null,null,null,null,null,{"$f":"IF(X1762=\"\",\"\",INDEX(referentes!J:K,MATCH(X1762,referentes!J:J,0),2))","v":""},null,null,""]
["30000401000000",null,0,{"$f":"IF(E1763<>\"\",CONCATENATE(B1763,A1763,DIGITADOR!$M$1,C1763),\"\")","v":""},null,null,"","","",null,1759,"",{"$f":"IF(R1763=R1762,\"\",IF(E1763<>\"\",CONCATENATE(B1763,A1763,DIGITADOR!$M$1,C1763),\"\"))","v":""},null,{"$f":"IF(N1763=\"\",\"\",INDEX(referentes!S:T,MATCH(N1763,referentes!T:T,0),1))","v":""},null,{"$f":"IF(P1763=\"\",\"\",INDEX(referentes!Y:Z,MATCH(P1763,referentes!Z:Z,0),1))","v":""},"","",null,null,null,null,null,{"$f":"IF(X1763=\"\",\"\",INDEX(referentes!J:K,MATCH(X1763,referentes!J:J,0),2))","v":""},null,null,""]
["30000401000000",null,0,{"$f":"IF(E1764<>\"\",CONCATENATE(B1764,A1764,DIGITADOR!$M$1,C1764),\"\")","v":""},null,null,"","","",null,1760,"",{"$f":"IF(R1764=R1763,\"\",IF(E1764<>\"\",CONCATENATE(B1764,A1764,DIGITADOR!$M$1,C1764),\"\"))","v":""},null,{"$f":"IF(N1764=\"\",\"\",INDEX(referentes!S:T,MATCH(N1764,referentes!T:T,0),1))","v":""},null,{"$f":"IF(P1764=\"\",\"\",INDEX(referentes!Y:Z,MATCH(P1764,referentes!Z:Z,0),1))","v":""},"","",null,null,null,null,null,{"$f":"IF(X1764=\"\",\"\",INDEX(referentes!J:K,MATCH(X1764,referentes!J:J,0),2))","v":""},null,null,""]
["30000401000000",null,0,{"$f":"IF(E1765<>\"\",CONCATENATE(B1765,A1765,DIGITADOR!$M$1,C1765),\"\")","v":""},null,null,"","","",null,1761,"",{"$f":"IF(R1765=R1764,\"\",IF(E1765<>\"\",CONCATENATE(B1765,A1765,DIGITADOR!$M$1,C1765),\"\"))","v":""},null,{"$f":"IF(N1765=\"\",\"\",INDEX(referentes!S:T,MATCH(N1765,referentes!T:T,0),1))","v":""},null,{"$f":"IF(P1765=\"\",\"\",INDEX(referentes!Y:Z,MATCH(P1765,referentes!Z:Z,0),1))","v":""},"","",null,null,null,null,null,{"$f":"IF(X1765=\"\",\"\",INDEX(referentes!J:K,MATCH(X1765,referentes!J:J,0),2))","v":""},null,null,""]
["30000401000000",null,0,{"$f":"IF(E1766<>\"\",CONCATENATE(B1766,A1766,DIGITADOR!$M$1,C1766),\"\")","v":""},null,null,"","","",null,1762,"",{"$f":"IF(R1766=R1765,\"\",IF(E1766<>\"\",CONCATENATE(B1766,A1766,DIGITADOR!$M$1,C1766),\"\"))","v":""},null,{"$f":"IF(N1766=\"\",\"\",INDEX(referentes!S:T,MATCH(N1766,referentes!T:T,0),1))","v":""},null,{"$f":"IF(P1766=\"\",\"\",INDEX(referentes!Y:Z,MATCH(P1766,referentes!Z:Z,0),1))","v":""},"","",null,null,null,null,null,{"$f":"IF(X1766=\"\",\"\",INDEX(referentes!J:K,MATCH(X1766,referentes!J:J,0),2))","v":""},null,null,""]
["30000401000000",null,0,{"$f":"IF(E1767<>\"\",CONCATENATE(B1767,A1767,DIGITADOR!$M$1,C1767),\"\")","v":""},null,null,"","","",null,1763,"",{"$f":"IF(R1767=R1766,\"\",IF(E1767<>\"\",CONCATENATE(B1767,A1767,DIGITADOR!$M$1,C1767),\"\"))","v":""},null,{"$f":"IF(N1767=\"\",\"\",INDEX(referentes!S:T,MATCH(N1767,referentes!T:T,0),1))","v":""},null,{"$f":"IF(P1767=\"\",\"\",INDEX(referentes!Y:Z,MATCH(P1767,referentes!Z:Z,0),1))","v":""},"","",null,null,null,null,null,{"$f":"IF(X1767=\"\",\"\",INDEX(referentes!J:K,MATCH(X1767,referentes!J:J,0),2))","v":""},null,null,""]
["30000401000000",null,0,{"$f":"IF(E1768<>\"\",CONCATENATE(B1768,A1768,DIGITADOR!$M$1,C1768),\"\")","v":""},null,null,"","","",null,1764,"",{"$f":"IF(R1768=R1767,\"\",IF(E1768<>\"\",CONCATENATE(B1768,A1768,DIGITADOR!$M$1,C1768),\"\"))","v":""},null,{"$f":"IF(N1768=\"\",\"\",INDEX(referentes!S:T,MATCH(N1768,referentes!T:T,0),1))","v":""},null,{"$f":"IF(P1768=\"\",\"\",INDEX(referentes!Y:Z,MATCH(P1768,referentes!Z:Z,0),1))","v":""},"","",null,null,null,null,null,{"$f":"IF(X1768=\"\",\"\",INDEX(referentes!J:K,MATCH(X1768,referentes!J:J,0),2))","v":""},null,null,""]
["30000401000000",null,0,{"$f":"IF(E1769<>\"\",CONCATENATE(B1769,A1769,DIGITADOR!$M$1,C1769),\"\")","v":""},null,null,"","","",null,1765,"",{"$f":"IF(R1769=R1768,\"\",IF(E1769<>\"\",CONCATENATE(B1769,A1769,DIGITADOR!$M$1,C1769),\"\"))","v":""},null,{"$f":"IF(N1769=\"\",\"\",INDEX(referentes!S:T,MATCH(N1769,referentes!T:T,0),1))","v":""},null,{"$f":"IF(P1769=\"\",\"\",INDEX(referentes!Y:Z,MATCH(P1769,referentes!Z:Z,0),1))","v":""},"","",null,null,null,null,null,{"$f":"IF(X1769=\"\",\"\",INDEX(referentes!J:K,MATCH(X1769,referentes!J:J,0),2))","v":""},null,null,""]
["30000401000000",null,0,{"$f":"IF(E1770<>\"\",CONCATENATE(B1770,A1770,DIGITADOR!$M$1,C1770),\"\")","v":""},null,null,"","","",null,1766,"",{"$f":"IF(R1770=R1769,\"\",IF(E1770<>\"\",CONCATENATE(B1770,A1770,DIGITADOR!$M$1,C1770),\"\"))","v":""},null,{"$f":"IF(N1770=\"\",\"\",INDEX(referentes!S:T,MATCH(N1770,referentes!T:T,0),1))","v":""},null,{"$f":"IF(P1770=\"\",\"\",INDEX(referentes!Y:Z,MATCH(P1770,referentes!Z:Z,0),1))","v":""},"","",null,null,null,null,null,{"$f":"IF(X1770=\"\",\"\",INDEX(referentes!J:K,MATCH(X1770,referentes!J:J,0),2))","v":""},null,null,""]
["30000401000000",null,0,{"$f":"IF(E1771<>\"\",CONCATENATE(B1771,A1771,DIGITADOR!$M$1,C1771),\"\")","v":""},null,null,"","","",null,1767,"",{"$f":"IF(R1771=R1770,\"\",IF(E1771<>\"\",CONCATENATE(B1771,A1771,DIGITADOR!$M$1,C1771),\"\"))","v":""},null,{"$f":"IF(N1771=\"\",\"\",INDEX(referentes!S:T,MATCH(N1771,referentes!T:T,0),1))","v":""},null,{"$f":"IF(P1771=\"\",\"\",INDEX(referentes!Y:Z,MATCH(P1771,referentes!Z:Z,0),1))","v":""},"","",null,null,null,null,null,{"$f":"IF(X1771=\"\",\"\",INDEX(referentes!J:K,MATCH(X1771,referentes!J:J,0),2))","v":""},null,null,""]
["30000401000000",null,0,{"$f":"IF(E1772<>\"\",CONCATENATE(B1772,A1772,DIGITADOR!$M$1,C1772),\"\")","v":""},null,null,"","","",null,1768,"",{"$f":"IF(R1772=R1771,\"\",IF(E1772<>\"\",CONCATENATE(B1772,A1772,DIGITADOR!$M$1,C1772),\"\"))","v":""},null,{"$f":"IF(N1772=\"\",\"\",INDEX(referentes!S:T,MATCH(N1772,referentes!T:T,0),1))","v":""},null,{"$f":"IF(P1772=\"\",\"\",INDEX(referentes!Y:Z,MATCH(P1772,referentes!Z:Z,0),1))","v":""},"","",null,null,null,null,null,{"$f":"IF(X1772=\"\",\"\",INDEX(referentes!J:K,MATCH(X1772,referentes!J:J,0),2))","v":""},null,null,""]
["30000401000000",null,0,{"$f":"IF(E1773<>\"\",CONCATENATE(B1773,A1773,DIGITADOR!$M$1,C1773),\"\")","v":""},null,null,"","","",null,1769,"",{"$f":"IF(R1773=R1772,\"\",IF(E1773<>\"\",CONCATENATE(B1773,A1773,DIGITADOR!$M$1,C1773),\"\"))","v":""},null,{"$f":"IF(N1773=\"\",\"\",INDEX(referentes!S:T,MATCH(N1773,referentes!T:T,0),1))","v":""},null,{"$f":"IF(P1773=\"\",\"\",INDEX(referentes!Y:Z,MATCH(P1773,referentes!Z:Z,0),1))","v":""},"","",null,null,null,null,null,{"$f":"IF(X1773=\"\",\"\",INDEX(referentes!J:K,MATCH(X1773,referentes!J:J,0),2))","v":""},null,null,""]
["30000401000000",null,0,{"$f":"IF(E1774<>\"\",CONCATENATE(B1774,A1774,DIGITADOR!$M$1,C1774),\"\")","v":""},null,null,"","","",null,1770,"",{"$f":"IF(R1774=R1773,\"\",IF(E1774<>\"\",CONCATENATE(B1774,A1774,DIGITADOR!$M$1,C1774),\"\"))","v":""},null,{"$f":"IF(N1774=\"\",\"\",INDEX(referentes!S:T,MATCH(N1774,referentes!T:T,0),1))","v":""},null,{"$f":"IF(P1774=\"\",\"\",INDEX(referentes!Y:Z,MATCH(P1774,referentes!Z:Z,0),1))","v":""},"","",null,null,null,null,null,{"$f":"IF(X1774=\"\",\"\",INDEX(referentes!J:K,MATCH(X1774,referentes!J:J,0),2))","v":""},null,null,""]
["30000401000000",null,0,{"$f":"IF(E1775<>\"\",CONCATENATE(B1775,A1775,DIGITADOR!$M$1,C1775),\"\")","v":""},null,null,"","","",null,1771,"",{"$f":"IF(R1775=R1774,\"\",IF(E1775<>\"\",CONCATENATE(B1775,A1775,DIGITADOR!$M$1,C1775),\"\"))","v":""},null,{"$f":"IF(N1775=\"\",\"\",INDEX(referentes!S:T,MATCH(N1775,referentes!T:T,0),1))","v":""},null,{"$f":"IF(P1775=\"\",\"\",INDEX(referentes!Y:Z,MATCH(P1775,referentes!Z:Z,0),1))","v":""},"","",null,null,null,null,null,{"$f":"IF(X1775=\"\",\"\",INDEX(referentes!J:K,MATCH(X1775,referentes!J:J,0),2))","v":""},null,null,""]
["30000401000000",null,0,{"$f":"IF(E1776<>\"\",CONCATENATE(B1776,A1776,DIGITADOR!$M$1,C1776),\"\")","v":""},null,null,"","","",null,1772,"",{"$f":"IF(R1776=R1775,\"\",IF(E1776<>\"\",CONCATENATE(B1776,A1776,DIGITADOR!$M$1,C1776),\"\"))","v":""},null,{"$f":"IF(N1776=\"\",\"\",INDEX(referentes!S:T,MATCH(N1776,referentes!T:T,0),1))","v":""},null,{"$f":"IF(P1776=\"\",\"\",INDEX(referentes!Y:Z,MATCH(P1776,referentes!Z:Z,0),1))","v":""},"","",null,null,null,null,null,{"$f":"IF(X1776=\"\",\"\",INDEX(referentes!J:K,MATCH(X1776,referentes!J:J,0),2))","v":""},null,null,""]
["30000401000000",null,0,{"$f":"IF(E1777<>\"\",CONCATENATE(B1777,A1777,DIGITADOR!$M$1,C1777),\"\")","v":""},null,null,"","","",null,1773,"",{"$f":"IF(R1777=R1776,\"\",IF(E1777<>\"\",CONCATENATE(B1777,A1777,DIGITADOR!$M$1,C1777),\"\"))","v":""},null,{"$f":"IF(N1777=\"\",\"\",INDEX(referentes!S:T,MATCH(N1777,referentes!T:T,0),1))","v":""},null,{"$f":"IF(P1777=\"\",\"\",INDEX(referentes!Y:Z,MATCH(P1777,referentes!Z:Z,0),1))","v":""},"","",null,null,null,null,null,{"$f":"IF(X1777=\"\",\"\",INDEX(referentes!J:K,MATCH(X1777,referentes!J:J,0),2))","v":""},null,null,""]
["30000401000000",null,0,{"$f":"IF(E1778<>\"\",CONCATENATE(B1778,A1778,DIGITADOR!$M$1,C1778),\"\")","v":""},null,null,"","","",null,1774,"",{"$f":"IF(R1778=R1777,\"\",IF(E1778<>\"\",CONCATENATE(B1778,A1778,DIGITADOR!$M$1,C1778),\"\"))","v":""},null,{"$f":"IF(N1778=\"\",\"\",INDEX(referentes!S:T,MATCH(N1778,referentes!T:T,0),1))","v":""},null,{"$f":"IF(P1778=\"\",\"\",INDEX(referentes!Y:Z,MATCH(P1778,referentes!Z:Z,0),1))","v":""},"","",null,null,null,null,null,{"$f":"IF(X1778=\"\",\"\",INDEX(referentes!J:K,MATCH(X1778,referentes!J:J,0),2))","v":""},null,null,""]
["30000401000000",null,0,{"$f":"IF(E1779<>\"\",CONCATENATE(B1779,A1779,DIGITADOR!$M$1,C1779),\"\")","v":""},null,null,"","","",null,1775,"",{"$f":"IF(R1779=R1778,\"\",IF(E1779<>\"\",CONCATENATE(B1779,A1779,DIGITADOR!$M$1,C1779),\"\"))","v":""},null,{"$f":"IF(N1779=\"\",\"\",INDEX(referentes!S:T,MATCH(N1779,referentes!T:T,0),1))","v":""},null,{"$f":"IF(P1779=\"\",\"\",INDEX(referentes!Y:Z,MATCH(P1779,referentes!Z:Z,0),1))","v":""},"","",null,null,null,null,null,{"$f":"IF(X1779=\"\",\"\",INDEX(referentes!J:K,MATCH(X1779,referentes!J:J,0),2))","v":""},null,null,""]
["30000401000000",null,0,{"$f":"IF(E1780<>\"\",CONCATENATE(B1780,A1780,DIGITADOR!$M$1,C1780),\"\")","v":""},null,null,"","","",null,1776,"",{"$f":"IF(R1780=R1779,\"\",IF(E1780<>\"\",CONCATENATE(B1780,A1780,DIGITADOR!$M$1,C1780),\"\"))","v":""},null,{"$f":"IF(N1780=\"\",\"\",INDEX(referentes!S:T,MATCH(N1780,referentes!T:T,0),1))","v":""},null,{"$f":"IF(P1780=\"\",\"\",INDEX(referentes!Y:Z,MATCH(P1780,referentes!Z:Z,0),1))","v":""},"","",null,null,null,null,null,{"$f":"IF(X1780=\"\",\"\",INDEX(referentes!J:K,MATCH(X1780,referentes!J:J,0),2))","v":""},null,null,""]
["30000401000000",null,0,{"$f":"IF(E1781<>\"\",CONCATENATE(B1781,A1781,DIGITADOR!$M$1,C1781),\"\")","v":""},null,null,"","","",null,1777,"",{"$f":"IF(R1781=R1780,\"\",IF(E1781<>\"\",CONCATENATE(B1781,A1781,DIGITADOR!$M$1,C1781),\"\"))","v":""},null,{"$f":"IF(N1781=\"\",\"\",INDEX(referentes!S:T,MATCH(N1781,referentes!T:T,0),1))","v":""},null,{"$f":"IF(P1781=\"\",\"\",INDEX(referentes!Y:Z,MATCH(P1781,referentes!Z:Z,0),1))","v":""},"","",null,null,null,null,null,{"$f":"IF(X1781=\"\",\"\",INDEX(referentes!J:K,MATCH(X1781,referentes!J:J,0),2))","v":""},null,null,""]
["30000401000000",null,0,{"$f":"IF(E1782<>\"\",CONCATENATE(B1782,A1782,DIGITADOR!$M$1,C1782),\"\")","v":""},null,null,"","","",null,1778,"",{"$f":"IF(R1782=R1781,\"\",IF(E1782<>\"\",CONCATENATE(B1782,A1782,DIGITADOR!$M$1,C1782),\"\"))","v":""},null,{"$f":"IF(N1782=\"\",\"\",INDEX(referentes!S:T,MATCH(N1782,referentes!T:T,0),1))","v":""},null,{"$f":"IF(P1782=\"\",\"\",INDEX(referentes!Y:Z,MATCH(P1782,referentes!Z:Z,0),1))","v":""},"","",null,null,null,null,null,{"$f":"IF(X1782=\"\",\"\",INDEX(referentes!J:K,MATCH(X1782,referentes!J:J,0),2))","v":""},null,null,""]
["30000401000000",null,0,{"$f":"IF(E1783<>\"\",CONCATENATE(B1783,A1783,DIGITADOR!$M$1,C1783),\"\")","v":""},null,null,"","","",null,1779,"",{"$f":"IF(R1783=R1782,\"\",IF(E1783<>\"\",CONCATENATE(B1783,A1783,DIGITADOR!$M$1,C1783),\"\"))","v":""},null,{"$f":"IF(N1783=\"\",\"\",INDEX(referentes!S:T,MATCH(N1783,referentes!T:T,0),1))","v":""},null,{"$f":"IF(P1783=\"\",\"\",INDEX(referentes!Y:Z,MATCH(P1783,referentes!Z:Z,0),1))","v":""},"","",null,null,null,null,null,{"$f":"IF(X1783=\"\",\"\",INDEX(referentes!J:K,MATCH(X1783,referentes!J:J,0),2))","v":""},null,null,""]
["30000401000000",null,0,{"$f":"IF(E1784<>\"\",CONCATENATE(B1784,A1784,DIGITADOR!$M$1,C1784),\"\")","v":""},null,null,"","","",null,1780,"",{"$f":"IF(R1784=R1783,\"\",IF(E1784<>\"\",CONCATENATE(B1784,A1784,DIGITADOR!$M$1,C1784),\"\"))","v":""},null,{"$f":"IF(N1784=\"\",\"\",INDEX(referentes!S:T,MATCH(N1784,referentes!T:T,0),1))","v":""},null,{"$f":"IF(P1784=\"\",\"\",INDEX(referentes!Y:Z,MATCH(P1784,referentes!Z:Z,0),1))","v":""},"","",null,null,null,null,null,{"$f":"IF(X1784=\"\",\"\",INDEX(referentes!J:K,MATCH(X1784,referentes!J:J,0),2))","v":""},null,null,""]
["30000401000000",null,0,{"$f":"IF(E1785<>\"\",CONCATENATE(B1785,A1785,DIGITADOR!$M$1,C1785),\"\")","v":""},null,null,"","","",null,1781,"",{"$f":"IF(R1785=R1784,\"\",IF(E1785<>\"\",CONCATENATE(B1785,A1785,DIGITADOR!$M$1,C1785),\"\"))","v":""},null,{"$f":"IF(N1785=\"\",\"\",INDEX(referentes!S:T,MATCH(N1785,referentes!T:T,0),1))","v":""},null,{"$f":"IF(P1785=\"\",\"\",INDEX(referentes!Y:Z,MATCH(P1785,referentes!Z:Z,0),1))","v":""},"","",null,null,null,null,null,{"$f":"IF(X1785=\"\",\"\",INDEX(referentes!J:K,MATCH(X1785,referentes!J:J,0),2))","v":""},null,null,""]
["30000401000000",null,0,{"$f":"IF(E1786<>\"\",CONCATENATE(B1786,A1786,DIGITADOR!$M$1,C1786),\"\")","v":""},null,null,"","","",null,1782,"",{"$f":"IF(R1786=R1785,\"\",IF(E1786<>\"\",CONCATENATE(B1786,A1786,DIGITADOR!$M$1,C1786),\"\"))","v":""},null,{"$f":"IF(N1786=\"\",\"\",INDEX(referentes!S:T,MATCH(N1786,referentes!T:T,0),1))","v":""},null,{"$f":"IF(P1786=\"\",\"\",INDEX(referentes!Y:Z,MATCH(P1786,referentes!Z:Z,0),1))","v":""},"","",null,null,null,null,null,{"$f":"IF(X1786=\"\",\"\",INDEX(referentes!J:K,MATCH(X1786,referentes!J:J,0),2))","v":""},null,null,""]
["30000401000000",null,0,{"$f":"IF(E1787<>\"\",CONCATENATE(B1787,A1787,DIGITADOR!$M$1,C1787),\"\")","v":""},null,null,"","","",null,1783,"",{"$f":"IF(R1787=R1786,\"\",IF(E1787<>\"\",CONCATENATE(B1787,A1787,DIGITADOR!$M$1,C1787),\"\"))","v":""},null,{"$f":"IF(N1787=\"\",\"\",INDEX(referentes!S:T,MATCH(N1787,referentes!T:T,0),1))","v":""},null,{"$f":"IF(P1787=\"\",\"\",INDEX(referentes!Y:Z,MATCH(P1787,referentes!Z:Z,0),1))","v":""},"","",null,null,null,null,null,{"$f":"IF(X1787=\"\",\"\",INDEX(referentes!J:K,MATCH(X1787,referentes!J:J,0),2))","v":""},null,null,""]
["30000401000000",null,0,{"$f":"IF(E1788<>\"\",CONCATENATE(B1788,A1788,DIGITADOR!$M$1,C1788),\"\")","v":""},null,null,"","","",null,1784,"",{"$f":"IF(R1788=R1787,\"\",IF(E1788<>\"\",CONCATENATE(B1788,A1788,DIGITADOR!$M$1,C1788),\"\"))","v":""},null,{"$f":"IF(N1788=\"\",\"\",INDEX(referentes!S:T,MATCH(N1788,referentes!T:T,0),1))","v":""},null,{"$f":"IF(P1788=\"\",\"\",INDEX(referentes!Y:Z,MATCH(P1788,referentes!Z:Z,0),1))","v":""},"","",null,null,null,null,null,{"$f":"IF(X1788=\"\",\"\",INDEX(referentes!J:K,MATCH(X1788,referentes!J:J,0),2))","v":""},null,null,""]
["30000401000000",null,0,{"$f":"IF(E1789<>\"\",CONCATENATE(B1789,A1789,DIGITADOR!$M$1,C1789),\"\")","v":""},null,null,"","","",null,1785,"",{"$f":"IF(R1789=R1788,\"\",IF(E1789<>\"\",CONCATENATE(B1789,A1789,DIGITADOR!$M$1,C1789),\"\"))","v":""},null,{"$f":"IF(N1789=\"\",\"\",INDEX(referentes!S:T,MATCH(N1789,referentes!T:T,0),1))","v":""},null,{"$f":"IF(P1789=\"\",\"\",INDEX(referentes!Y:Z,MATCH(P1789,referentes!Z:Z,0),1))","v":""},"","",null,null,null,null,null,{"$f":"IF(X1789=\"\",\"\",INDEX(referentes!J:K,MATCH(X1789,referentes!J:J,0),2))","v":""},null,null,""]
["30000401000000",null,0,{"$f":"IF(E1790<>\"\",CONCATENATE(B1790,A1790,DIGITADOR!$M$1,C1790),\"\")","v":""},null,null,"","","",null,1786,"",{"$f":"IF(R1790=R1789,\"\",IF(E1790<>\"\",CONCATENATE(B1790,A1790,DIGITADOR!$M$1,C1790),\"\"))","v":""},null,{"$f":"IF(N1790=\"\",\"\",INDEX(referentes!S:T,MATCH(N1790,referentes!T:T,0),1))","v":""},null,{"$f":"IF(P1790=\"\",\"\",INDEX(referentes!Y:Z,MATCH(P1790,referentes!Z:Z,0),1))","v":""},"","",null,null,null,null,null,{"$f":"IF(X1790=\"\",\"\",INDEX(referentes!J:K,MATCH(X1790,referentes!J:J,0),2))","v":""},null,null,""]
["30000401000000",null,0,{"$f":"IF(E1791<>\"\",CONCATENATE(B1791,A1791,DIGITADOR!$M$1,C1791),\"\")","v":""},null,null,"","","",null,1787,"",{"$f":"IF(R1791=R1790,\"\",IF(E1791<>\"\",CONCATENATE(B1791,A1791,DIGITADOR!$M$1,C1791),\"\"))","v":""},null,{"$f":"IF(N1791=\"\",\"\",INDEX(referentes!S:T,MATCH(N1791,referentes!T:T,0),1))","v":""},null,{"$f":"IF(P1791=\"\",\"\",INDEX(referentes!Y:Z,MATCH(P1791,referentes!Z:Z,0),1))","v":""},"","",null,null,null,null,null,{"$f":"IF(X1791=\"\",\"\",INDEX(referentes!J:K,MATCH(X1791,referentes!J:J,0),2))","v":""},null,null,""]
["30000401000000",null,0,{"$f":"IF(E1792<>\"\",CONCATENATE(B1792,A1792,DIGITADOR!$M$1,C1792),\"\")","v":""},null,null,"","","",null,1788,"",{"$f":"IF(R1792=R1791,\"\",IF(E1792<>\"\",CONCATENATE(B1792,A1792,DIGITADOR!$M$1,C1792),\"\"))","v":""},null,{"$f":"IF(N1792=\"\",\"\",INDEX(referentes!S:T,MATCH(N1792,referentes!T:T,0),1))","v":""},null,{"$f":"IF(P1792=\"\",\"\",INDEX(referentes!Y:Z,MATCH(P1792,referentes!Z:Z,0),1))","v":""},"","",null,null,null,null,null,{"$f":"IF(X1792=\"\",\"\",INDEX(referentes!J:K,MATCH(X1792,referentes!J:J,0),2))","v":""},null,null,""]
["30000401000000",null,0,{"$f":"IF(E1793<>\"\",CONCATENATE(B1793,A1793,DIGITADOR!$M$1,C1793),\"\")","v":""},null,null,"","","",null,1789,"",{"$f":"IF(R1793=R1792,\"\",IF(E1793<>\"\",CONCATENATE(B1793,A1793,DIGITADOR!$M$1,C1793),\"\"))","v":""},null,{"$f":"IF(N1793=\"\",\"\",INDEX(referentes!S:T,MATCH(N1793,referentes!T:T,0),1))","v":""},null,{"$f":"IF(P1793=\"\",\"\",INDEX(referentes!Y:Z,MATCH(P1793,referentes!Z:Z,0),1))","v":""},"","",null,null,null,null,null,{"$f":"IF(X1793=\"\",\"\",INDEX(referentes!J:K,MATCH(X1793,referentes!J:J,0),2))","v":""},null,null,""]
["30000401000000",null,0,{"$f":"IF(E1794<>\"\",CONCATENATE(B1794,A1794,DIGITADOR!$M$1,C1794),\"\")","v":""},null,null,"","","",null,1790,"",{"$f":"IF(R1794=R1793,\"\",IF(E1794<>\"\",CONCATENATE(B1794,A1794,DIGITADOR!$M$1,C1794),\"\"))","v":""},null,{"$f":"IF(N1794=\"\",\"\",INDEX(referentes!S:T,MATCH(N1794,referentes!T:T,0),1))","v":""},null,{"$f":"IF(P1794=\"\",\"\",INDEX(referentes!Y:Z,MATCH(P1794,referentes!Z:Z,0),1))","v":""},"","",null,null,null,null,null,{"$f":"IF(X1794=\"\",\"\",INDEX(referentes!J:K,MATCH(X1794,referentes!J:J,0),2))","v":""},null,null,""]
["30000401000000",null,0,{"$f":"IF(E1795<>\"\",CONCATENATE(B1795,A1795,DIGITADOR!$M$1,C1795),\"\")","v":""},null,null,"","","",null,1791,"",{"$f":"IF(R1795=R1794,\"\",IF(E1795<>\"\",CONCATENATE(B1795,A1795,DIGITADOR!$M$1,C1795),\"\"))","v":""},null,{"$f":"IF(N1795=\"\",\"\",INDEX(referentes!S:T,MATCH(N1795,referentes!T:T,0),1))","v":""},null,{"$f":"IF(P1795=\"\",\"\",INDEX(referentes!Y:Z,MATCH(P1795,referentes!Z:Z,0),1))","v":""},"","",null,null,null,null,null,{"$f":"IF(X1795=\"\",\"\",INDEX(referentes!J:K,MATCH(X1795,referentes!J:J,0),2))","v":""},null,null,""]
["30000401000000",null,0,{"$f":"IF(E1796<>\"\",CONCATENATE(B1796,A1796,DIGITADOR!$M$1,C1796),\"\")","v":""},null,null,"","","",null,1792,"",{"$f":"IF(R1796=R1795,\"\",IF(E1796<>\"\",CONCATENATE(B1796,A1796,DIGITADOR!$M$1,C1796),\"\"))","v":""},null,{"$f":"IF(N1796=\"\",\"\",INDEX(referentes!S:T,MATCH(N1796,referentes!T:T,0),1))","v":""},null,{"$f":"IF(P1796=\"\",\"\",INDEX(referentes!Y:Z,MATCH(P1796,referentes!Z:Z,0),1))","v":""},"","",null,null,null,null,null,{"$f":"IF(X1796=\"\",\"\",INDEX(referentes!J:K,MATCH(X1796,referentes!J:J,0),2))","v":""},null,null,""]
["30000401000000",null,{"$f":"IF(R1797=R1796,C1796,C1796+1)","v":0},{"$f":"IF(E1797<>\"\",CONCATENATE(B1797,A1797,DIGITADOR!$M$1,C1797),\"\")","v":""},null,null,"","","",null,1793,"",{"$f":"IF(R1797=R1796,\"\",IF(E1797<>\"\",CONCATENATE(B1797,A1797,DIGITADOR!$M$1,C1797),\"\"))","v":""},null,{"$f":"IF(N1797=\"\",\"\",INDEX(referentes!S:T,MATCH(N1797,referentes!T:T,0),1))","v":""},null,{"$f":"IF(P1797=\"\",\"\",INDEX(referentes!Y:Z,MATCH(P1797,referentes!Z:Z,0),1))","v":""},"","",null,null,null,null,null,{"$f":"IF(X1797=\"\",\"\",INDEX(referentes!J:K,MATCH(X1797,referentes!J:J,0),2))","v":""},null,null,""]
["30000401000000",null,0,{"$f":"IF(E1798<>\"\",CONCATENATE(B1798,A1798,DIGITADOR!$M$1,C1798),\"\")","v":""},null,null,{"$f":"IF(E1798=\"\", \"\", (E1798+F1798))","v":""},{"$f":"IF(G1798<>\"\",MONTH(G1798),\"\")","v":""},{"$f":"IF(D1798=\"\",\"\",1)","v":""},null,1794,{"$f":"IF(E1798=\"\",\"\",CONCATENATE(D1798,K1798))","v":""},{"$f":"IF(R1798=R1797,\"\",IF(E1798<>\"\",CONCATENATE(B1798,A1798,DIGITADOR!$M$1,C1798),\"\"))","v":""},null,{"$f":"IF(N1798=\"\",\"\",INDEX(referentes!S:T,MATCH(N1798,referentes!T:T,0),1))","v":""},null,{"$f":"IF(P1798=\"\",\"\",INDEX(referentes!Y:Z,MATCH(P1798,referentes!Z:Z,0),1))","v":""},{"$f":"IF(G1798=\"\",\"\",CONCATENATE(G1798,O1798,Q1798))","v":""},{"$f":"IF(E1798=\"\",\"\",\"INVEMAR\")","v":""},null,null,null,null,null,{"$f":"IF(X1798=\"\",\"\",INDEX(referentes!J:K,MATCH(X1798,referentes!J:J,0),2))","v":""},null,null,{"$f":"IF(T1798=\"\",\"\",IF(T1798=T1797,AB1797,AA1798))","v":""}]
[{"$f":"A1798","v":"30000401000000"},null,0,{"$f":"IF(E1799<>\"\",CONCATENATE(B1799,A1799,DIGITADOR!$M$1,C1799),\"\")","v":""},null,null,"","","",null,1795,"",{"$f":"IF(R1799=R1798,\"\",IF(E1799<>\"\",CONCATENATE(B1799,A1799,DIGITADOR!$M$1,C1799),\"\"))","v":""},null,{"$f":"IF(N1799=\"\",\"\",INDEX(referentes!S:T,MATCH(N1799,referentes!T:T,0),1))","v":""},null,{"$f":"IF(P1799=\"\",\"\",INDEX(referentes!Y:Z,MATCH(P1799,referentes!Z:Z,0),1))","v":""},"","",null,null,null,null,null,{"$f":"IF(X1799=\"\",\"\",INDEX(referentes!J:K,MATCH(X1799,referentes!J:J,0),2))","v":""},null,null,""]
["30000401000000",null,0,{"$f":"IF(E1800<>\"\",CONCATENATE(B1800,A1800,DIGITADOR!$M$1,C1800),\"\")","v":""},null,null,"","","",null,1796,"",{"$f":"IF(R1800=R1799,\"\",IF(E1800<>\"\",CONCATENATE(B1800,A1800,DIGITADOR!$M$1,C1800),\"\"))","v":""},null,{"$f":"IF(N1800=\"\",\"\",INDEX(referentes!S:T,MATCH(N1800,referentes!T:T,0),1))","v":""},null,{"$f":"IF(P1800=\"\",\"\",INDEX(referentes!Y:Z,MATCH(P1800,referentes!Z:Z,0),1))","v":""},"","",null,null,null,null,null,{"$f":"IF(X1800=\"\",\"\",INDEX(referentes!J:K,MATCH(X1800,referentes!J:J,0),2))","v":""},null,null,""]
["30000401000000",null,0,{"$f":"IF(E1801<>\"\",CONCATENATE(B1801,A1801,DIGITADOR!$M$1,C1801),\"\")","v":""},null,null,"","","",null,1797,"",{"$f":"IF(R1801=R1800,\"\",IF(E1801<>\"\",CONCATENATE(B1801,A1801,DIGITADOR!$M$1,C1801),\"\"))","v":""},null,{"$f":"IF(N1801=\"\",\"\",INDEX(referentes!S:T,MATCH(N1801,referentes!T:T,0),1))","v":""},null,{"$f":"IF(P1801=\"\",\"\",INDEX(referentes!Y:Z,MATCH(P1801,referentes!Z:Z,0),1))","v":""},"","",null,null,null,null,null,{"$f":"IF(X1801=\"\",\"\",INDEX(referentes!J:K,MATCH(X1801,referentes!J:J,0),2))","v":""},null,null,""]
["30000401000000",null,0,{"$f":"IF(E1802<>\"\",CONCATENATE(B1802,A1802,DIGITADOR!$M$1,C1802),\"\")","v":""},null,null,"","","",null,1798,"",{"$f":"IF(R1802=R1801,\"\",IF(E1802<>\"\",CONCATENATE(B1802,A1802,DIGITADOR!$M$1,C1802),\"\"))","v":""},null,{"$f":"IF(N1802=\"\",\"\",INDEX(referentes!S:T,MATCH(N1802,referentes!T:T,0),1))","v":""},null,{"$f":"IF(P1802=\"\",\"\",INDEX(referentes!Y:Z,MATCH(P1802,referentes!Z:Z,0),1))","v":""},"","",null,null,null,null,null,{"$f":"IF(X1802=\"\",\"\",INDEX(referentes!J:K,MATCH(X1802,referentes!J:J,0),2))","v":""},null,null,""]
["30000401000000",null,0,{"$f":"IF(E1803<>\"\",CONCATENATE(B1803,A1803,DIGITADOR!$M$1,C1803),\"\")","v":""},null,null,"","","",null,1799,"",{"$f":"IF(R1803=R1802,\"\",IF(E1803<>\"\",CONCATENATE(B1803,A1803,DIGITADOR!$M$1,C1803),\"\"))","v":""},null,{"$f":"IF(N1803=\"\",\"\",INDEX(referentes!S:T,MATCH(N1803,referentes!T:T,0),1))","v":""},null,{"$f":"IF(P1803=\"\",\"\",INDEX(referentes!Y:Z,MATCH(P1803,referentes!Z:Z,0),1))","v":""},"","",null,null,null,null,null,{"$f":"IF(X1803=\"\",\"\",INDEX(referentes!J:K,MATCH(X1803,referentes!J:J,0),2))","v":""},null,null,""]
["30000401000000",null,0,{"$f":"IF(E1804<>\"\",CONCATENATE(B1804,A1804,DIGITADOR!$M$1,C1804),\"\")","v":""},null,null,"","","",null,1800,"",{"$f":"IF(R1804=R1803,\"\",IF(E1804<>\"\",CONCATENATE(B1804,A1804,DIGITADOR!$M$1,C1804),\"\"))","v":""},null,{"$f":"IF(N1804=\"\",\"\",INDEX(referentes!S:T,MATCH(N1804,referentes!T:T,0),1))","v":""},null,{"$f":"IF(P1804=\"\",\"\",INDEX(referentes!Y:Z,MATCH(P1804,referentes!Z:Z,0),1))","v":""},"","",null,null,null,null,null,{"$f":"IF(X1804=\"\",\"\",INDEX(referentes!J:K,MATCH(X1804,referentes!J:J,0),2))","v":""},null,null,""]
["30000401000000",null,0,{"$f":"IF(E1805<>\"\",CONCATENATE(B1805,A1805,DIGITADOR!$M$1,C1805),\"\")","v":""},null,null,"","","",null,1801,"",{"$f":"IF(R1805=R1804,\"\",IF(E1805<>\"\",CONCATENATE(B1805,A1805,DIGITADOR!$M$1,C1805),\"\"))","v":""},null,{"$f":"IF(N1805=\"\",\"\",INDEX(referentes!S:T,MATCH(N1805,referentes!T:T,0),1))","v":""},null,{"$f":"IF(P1805=\"\",\"\",INDEX(referentes!Y:Z,MATCH(P1805,referentes!Z:Z,0),1))","v":""},"","",null,null,null,null,null,{"$f":"IF(X1805=\"\",\"\",INDEX(referentes!J:K,MATCH(X1805,referentes!J:J,0),2))","v":""},null,null,""]
["30000401000000",null,0,{"$f":"IF(E1806<>\"\",CONCATENATE(B1806,A1806,DIGITADOR!$M$1,C1806),\"\")","v":""},null,null,"","","",null,1802,"",{"$f":"IF(R1806=R1805,\"\",IF(E1806<>\"\",CONCATENATE(B1806,A1806,DIGITADOR!$M$1,C1806),\"\"))","v":""},null,{"$f":"IF(N1806=\"\",\"\",INDEX(referentes!S:T,MATCH(N1806,referentes!T:T,0),1))","v":""},null,{"$f":"IF(P1806=\"\",\"\",INDEX(referentes!Y:Z,MATCH(P1806,referentes!Z:Z,0),1))","v":""},"","",null,null,null,null,null,{"$f":"IF(X1806=\"\",\"\",INDEX(referentes!J:K,MATCH(X1806,referentes!J:J,0),2))","v":""},null,null,""]
["30000401000000",null,0,{"$f":"IF(E1807<>\"\",CONCATENATE(B1807,A1807,DIGITADOR!$M$1,C1807),\"\")","v":""},null,null,"","","",null,1803,"",{"$f":"IF(R1807=R1806,\"\",IF(E1807<>\"\",CONCATENATE(B1807,A1807,DIGITADOR!$M$1,C1807),\"\"))","v":""},null,{"$f":"IF(N1807=\"\",\"\",INDEX(referentes!S:T,MATCH(N1807,referentes!T:T,0),1))","v":""},null,{"$f":"IF(P1807=\"\",\"\",INDEX(referentes!Y:Z,MATCH(P1807,referentes!Z:Z,0),1))","v":""},"","",null,null,null,null,null,{"$f":"IF(X1807=\"\",\"\",INDEX(referentes!J:K,MATCH(X1807,referentes!J:J,0),2))","v":""},null,null,""]
["30000401000000",null,0,{"$f":"IF(E1808<>\"\",CONCATENATE(B1808,A1808,DIGITADOR!$M$1,C1808),\"\")","v":""},null,null,"","","",null,1804,"",{"$f":"IF(R1808=R1807,\"\",IF(E1808<>\"\",CONCATENATE(B1808,A1808,DIGITADOR!$M$1,C1808),\"\"))","v":""},null,{"$f":"IF(N1808=\"\",\"\",INDEX(referentes!S:T,MATCH(N1808,referentes!T:T,0),1))","v":""},null,{"$f":"IF(P1808=\"\",\"\",INDEX(referentes!Y:Z,MATCH(P1808,referentes!Z:Z,0),1))","v":""},"","",null,null,null,null,null,{"$f":"IF(X1808=\"\",\"\",INDEX(referentes!J:K,MATCH(X1808,referentes!J:J,0),2))","v":""},null,null,""]
["30000401000000",null,0,{"$f":"IF(E1809<>\"\",CONCATENATE(B1809,A1809,DIGITADOR!$M$1,C1809),\"\")","v":""},null,null,"","","",null,1805,"",{"$f":"IF(R1809=R1808,\"\",IF(E1809<>\"\",CONCATENATE(B1809,A1809,DIGITADOR!$M$1,C1809),\"\"))","v":""},null,{"$f":"IF(N1809=\"\",\"\",INDEX(referentes!S:T,MATCH(N1809,referentes!T:T,0),1))","v":""},null,{"$f":"IF(P1809=\"\",\"\",INDEX(referentes!Y:Z,MATCH(P1809,referentes!Z:Z,0),1))","v":""},"","",null,null,null,null,null,{"$f":"IF(X1809=\"\",\"\",INDEX(referentes!J:K,MATCH(X1809,referentes!J:J,0),2))","v":""},null,null,""]
["30000401000000",null,0,{"$f":"IF(E1810<>\"\",CONCATENATE(B1810,A1810,DIGITADOR!$M$1,C1810),\"\")","v":""},null,null,"","","",null,1806,"",{"$f":"IF(R1810=R1809,\"\",IF(E1810<>\"\",CONCATENATE(B1810,A1810,DIGITADOR!$M$1,C1810),\"\"))","v":""},null,{"$f":"IF(N1810=\"\",\"\",INDEX(referentes!S:T,MATCH(N1810,referentes!T:T,0),1))","v":""},null,{"$f":"IF(P1810=\"\",\"\",INDEX(referentes!Y:Z,MATCH(P1810,referentes!Z:Z,0),1))","v":""},"","",null,null,null,null,null,{"$f":"IF(X1810=\"\",\"\",INDEX(referentes!J:K,MATCH(X1810,referentes!J:J,0),2))","v":""},null,null,""]
["30000401000000",null,0,{"$f":"IF(E1811<>\"\",CONCATENATE(B1811,A1811,DIGITADOR!$M$1,C1811),\"\")","v":""},null,null,"","","",null,1807,"",{"$f":"IF(R1811=R1810,\"\",IF(E1811<>\"\",CONCATENATE(B1811,A1811,DIGITADOR!$M$1,C1811),\"\"))","v":""},null,{"$f":"IF(N1811=\"\",\"\",INDEX(referentes!S:T,MATCH(N1811,referentes!T:T,0),1))","v":""},null,{"$f":"IF(P1811=\"\",\"\",INDEX(referentes!Y:Z,MATCH(P1811,referentes!Z:Z,0),1))","v":""},"","",null,null,null,null,null,{"$f":"IF(X1811=\"\",\"\",INDEX(referentes!J:K,MATCH(X1811,referentes!J:J,0),2))","v":""},null,null,""]
["30000401000000",null,0,{"$f":"IF(E1812<>\"\",CONCATENATE(B1812,A1812,DIGITADOR!$M$1,C1812),\"\")","v":""},null,null,"","","",null,1808,"",{"$f":"IF(R1812=R1811,\"\",IF(E1812<>\"\",CONCATENATE(B1812,A1812,DIGITADOR!$M$1,C1812),\"\"))","v":""},null,{"$f":"IF(N1812=\"\",\"\",INDEX(referentes!S:T,MATCH(N1812,referentes!T:T,0),1))","v":""},null,{"$f":"IF(P1812=\"\",\"\",INDEX(referentes!Y:Z,MATCH(P1812,referentes!Z:Z,0),1))","v":""},"","",null,null,null,null,null,{"$f":"IF(X1812=\"\",\"\",INDEX(referentes!J:K,MATCH(X1812,referentes!J:J,0),2))","v":""},null,null,""]
["30000401000000",null,0,{"$f":"IF(E1813<>\"\",CONCATENATE(B1813,A1813,DIGITADOR!$M$1,C1813),\"\")","v":""},null,null,"","","",null,1809,"",{"$f":"IF(R1813=R1812,\"\",IF(E1813<>\"\",CONCATENATE(B1813,A1813,DIGITADOR!$M$1,C1813),\"\"))","v":""},null,{"$f":"IF(N1813=\"\",\"\",INDEX(referentes!S:T,MATCH(N1813,referentes!T:T,0),1))","v":""},null,{"$f":"IF(P1813=\"\",\"\",INDEX(referentes!Y:Z,MATCH(P1813,referentes!Z:Z,0),1))","v":""},"","",null,null,null,null,null,{"$f":"IF(X1813=\"\",\"\",INDEX(referentes!J:K,MATCH(X1813,referentes!J:J,0),2))","v":""},null,null,""]
["30000401000000",null,0,{"$f":"IF(E1814<>\"\",CONCATENATE(B1814,A1814,DIGITADOR!$M$1,C1814),\"\")","v":""},null,null,"","","",null,1810,"",{"$f":"IF(R1814=R1813,\"\",IF(E1814<>\"\",CONCATENATE(B1814,A1814,DIGITADOR!$M$1,C1814),\"\"))","v":""},null,{"$f":"IF(N1814=\"\",\"\",INDEX(referentes!S:T,MATCH(N1814,referentes!T:T,0),1))","v":""},null,{"$f":"IF(P1814=\"\",\"\",INDEX(referentes!Y:Z,MATCH(P1814,referentes!Z:Z,0),1))","v":""},"","",null,null,null,null,null,{"$f":"IF(X1814=\"\",\"\",INDEX(referentes!J:K,MATCH(X1814,referentes!J:J,0),2))","v":""},null,null,""]
["30000401000000",null,0,{"$f":"IF(E1815<>\"\",CONCATENATE(B1815,A1815,DIGITADOR!$M$1,C1815),\"\")","v":""},null,null,"","","",null,1811,"",{"$f":"IF(R1815=R1814,\"\",IF(E1815<>\"\",CONCATENATE(B1815,A1815,DIGITADOR!$M$1,C1815),\"\"))","v":""},null,{"$f":"IF(N1815=\"\",\"\",INDEX(referentes!S:T,MATCH(N1815,referentes!T:T,0),1))","v":""},null,{"$f":"IF(P1815=\"\",\"\",INDEX(referentes!Y:Z,MATCH(P1815,referentes!Z:Z,0),1))","v":""},"","",null,null,null,null,null,{"$f":"IF(X1815=\"\",\"\",INDEX(referentes!J:K,MATCH(X1815,referentes!J:J,0),2))","v":""},null,null,""]
["30000401000000",null,0,{"$f":"IF(E1816<>\"\",CONCATENATE(B1816,A1816,DIGITADOR!$M$1,C1816),\"\")","v":""},null,null,"","","",null,1812,"",{"$f":"IF(R1816=R1815,\"\",IF(E1816<>\"\",CONCATENATE(B1816,A1816,DIGITADOR!$M$1,C1816),\"\"))","v":""},null,{"$f":"IF(N1816=\"\",\"\",INDEX(referentes!S:T,MATCH(N1816,referentes!T:T,0),1))","v":""},null,{"$f":"IF(P1816=\"\",\"\",INDEX(referentes!Y:Z,MATCH(P1816,referentes!Z:Z,0),1))","v":""},"","",null,null,null,null,null,{"$f":"IF(X1816=\"\",\"\",INDEX(referentes!J:K,MATCH(X1816,referentes!J:J,0),2))","v":""},null,null,""]
["30000401000000",null,0,{"$f":"IF(E1817<>\"\",CONCATENATE(B1817,A1817,DIGITADOR!$M$1,C1817),\"\")","v":""},null,null,"","","",null,1813,"",{"$f":"IF(R1817=R1816,\"\",IF(E1817<>\"\",CONCATENATE(B1817,A1817,DIGITADOR!$M$1,C1817),\"\"))","v":""},null,{"$f":"IF(N1817=\"\",\"\",INDEX(referentes!S:T,MATCH(N1817,referentes!T:T,0),1))","v":""},null,{"$f":"IF(P1817=\"\",\"\",INDEX(referentes!Y:Z,MATCH(P1817,referentes!Z:Z,0),1))","v":""},"","",null,null,null,null,null,{"$f":"IF(X1817=\"\",\"\",INDEX(referentes!J:K,MATCH(X1817,referentes!J:J,0),2))","v":""},null,null,""]
["30000401000000",null,0,{"$f":"IF(E1818<>\"\",CONCATENATE(B1818,A1818,DIGITADOR!$M$1,C1818),\"\")","v":""},null,null,"","","",null,1814,"",{"$f":"IF(R1818=R1817,\"\",IF(E1818<>\"\",CONCATENATE(B1818,A1818,DIGITADOR!$M$1,C1818),\"\"))","v":""},null,{"$f":"IF(N1818=\"\",\"\",INDEX(referentes!S:T,MATCH(N1818,referentes!T:T,0),1))","v":""},null,{"$f":"IF(P1818=\"\",\"\",INDEX(referentes!Y:Z,MATCH(P1818,referentes!Z:Z,0),1))","v":""},"","",null,null,null,null,null,{"$f":"IF(X1818=\"\",\"\",INDEX(referentes!J:K,MATCH(X1818,referentes!J:J,0),2))","v":""},null,null,""]
["30000401000000",null,0,{"$f":"IF(E1819<>\"\",CONCATENATE(B1819,A1819,DIGITADOR!$M$1,C1819),\"\")","v":""},null,null,"","","",null,1815,"",{"$f":"IF(R1819=R1818,\"\",IF(E1819<>\"\",CONCATENATE(B1819,A1819,DIGITADOR!$M$1,C1819),\"\"))","v":""},null,{"$f":"IF(N1819=\"\",\"\",INDEX(referentes!S:T,MATCH(N1819,referentes!T:T,0),1))","v":""},null,{"$f":"IF(P1819=\"\",\"\",INDEX(referentes!Y:Z,MATCH(P1819,referentes!Z:Z,0),1))","v":""},"","",null,null,null,null,null,{"$f":"IF(X1819=\"\",\"\",INDEX(referentes!J:K,MATCH(X1819,referentes!J:J,0),2))","v":""},null,null,""]
["30000401000000",null,0,{"$f":"IF(E1820<>\"\",CONCATENATE(B1820,A1820,DIGITADOR!$M$1,C1820),\"\")","v":""},null,null,"","","",null,1816,"",{"$f":"IF(R1820=R1819,\"\",IF(E1820<>\"\",CONCATENATE(B1820,A1820,DIGITADOR!$M$1,C1820),\"\"))","v":""},null,{"$f":"IF(N1820=\"\",\"\",INDEX(referentes!S:T,MATCH(N1820,referentes!T:T,0),1))","v":""},null,{"$f":"IF(P1820=\"\",\"\",INDEX(referentes!Y:Z,MATCH(P1820,referentes!Z:Z,0),1))","v":""},"","",null,null,null,null,null,{"$f":"IF(X1820=\"\",\"\",INDEX(referentes!J:K,MATCH(X1820,referentes!J:J,0),2))","v":""},null,null,""]
["30000401000000",null,0,{"$f":"IF(E1821<>\"\",CONCATENATE(B1821,A1821,DIGITADOR!$M$1,C1821),\"\")","v":""},null,null,"","","",null,1817,"",{"$f":"IF(R1821=R1820,\"\",IF(E1821<>\"\",CONCATENATE(B1821,A1821,DIGITADOR!$M$1,C1821),\"\"))","v":""},null,{"$f":"IF(N1821=\"\",\"\",INDEX(referentes!S:T,MATCH(N1821,referentes!T:T,0),1))","v":""},null,{"$f":"IF(P1821=\"\",\"\",INDEX(referentes!Y:Z,MATCH(P1821,referentes!Z:Z,0),1))","v":""},"","",null,null,null,null,null,{"$f":"IF(X1821=\"\",\"\",INDEX(referentes!J:K,MATCH(X1821,referentes!J:J,0),2))","v":""},null,null,""]
["30000401000000",null,0,{"$f":"IF(E1822<>\"\",CONCATENATE(B1822,A1822,DIGITADOR!$M$1,C1822),\"\")","v":""},null,null,"","","",null,1818,"",{"$f":"IF(R1822=R1821,\"\",IF(E1822<>\"\",CONCATENATE(B1822,A1822,DIGITADOR!$M$1,C1822),\"\"))","v":""},null,{"$f":"IF(N1822=\"\",\"\",INDEX(referentes!S:T,MATCH(N1822,referentes!T:T,0),1))","v":""},null,{"$f":"IF(P1822=\"\",\"\",INDEX(referentes!Y:Z,MATCH(P1822,referentes!Z:Z,0),1))","v":""},"","",null,null,null,null,null,{"$f":"IF(X1822=\"\",\"\",INDEX(referentes!J:K,MATCH(X1822,referentes!J:J,0),2))","v":""},null,null,""]
["30000401000000",null,0,{"$f":"IF(E1823<>\"\",CONCATENATE(B1823,A1823,DIGITADOR!$M$1,C1823),\"\")","v":""},null,null,"","","",null,1819,"",{"$f":"IF(R1823=R1822,\"\",IF(E1823<>\"\",CONCATENATE(B1823,A1823,DIGITADOR!$M$1,C1823),\"\"))","v":""},null,{"$f":"IF(N1823=\"\",\"\",INDEX(referentes!S:T,MATCH(N1823,referentes!T:T,0),1))","v":""},null,{"$f":"IF(P1823=\"\",\"\",INDEX(referentes!Y:Z,MATCH(P1823,referentes!Z:Z,0),1))","v":""},"","",null,null,null,null,null,{"$f":"IF(X1823=\"\",\"\",INDEX(referentes!J:K,MATCH(X1823,referentes!J:J,0),2))","v":""},null,null,""]
["30000401000000",null,0,{"$f":"IF(E1824<>\"\",CONCATENATE(B1824,A1824,DIGITADOR!$M$1,C1824),\"\")","v":""},null,null,"","","",null,1820,"",{"$f":"IF(R1824=R1823,\"\",IF(E1824<>\"\",CONCATENATE(B1824,A1824,DIGITADOR!$M$1,C1824),\"\"))","v":""},null,{"$f":"IF(N1824=\"\",\"\",INDEX(referentes!S:T,MATCH(N1824,referentes!T:T,0),1))","v":""},null,{"$f":"IF(P1824=\"\",\"\",INDEX(referentes!Y:Z,MATCH(P1824,referentes!Z:Z,0),1))","v":""},"","",null,null,null,null,null,{"$f":"IF(X1824=\"\",\"\",INDEX(referentes!J:K,MATCH(X1824,referentes!J:J,0),2))","v":""},null,null,""]
["30000401000000",null,0,{"$f":"IF(E1825<>\"\",CONCATENATE(B1825,A1825,DIGITADOR!$M$1,C1825),\"\")","v":""},null,null,"","","",null,1821,"",{"$f":"IF(R1825=R1824,\"\",IF(E1825<>\"\",CONCATENATE(B1825,A1825,DIGITADOR!$M$1,C1825),\"\"))","v":""},null,{"$f":"IF(N1825=\"\",\"\",INDEX(referentes!S:T,MATCH(N1825,referentes!T:T,0),1))","v":""},null,{"$f":"IF(P1825=\"\",\"\",INDEX(referentes!Y:Z,MATCH(P1825,referentes!Z:Z,0),1))","v":""},"","",null,null,null,null,null,{"$f":"IF(X1825=\"\",\"\",INDEX(referentes!J:K,MATCH(X1825,referentes!J:J,0),2))","v":""},null,null,""]
["30000401000000",null,0,{"$f":"IF(E1826<>\"\",CONCATENATE(B1826,A1826,DIGITADOR!$M$1,C1826),\"\")","v":""},null,null,"","","",null,1822,"",{"$f":"IF(R1826=R1825,\"\",IF(E1826<>\"\",CONCATENATE(B1826,A1826,DIGITADOR!$M$1,C1826),\"\"))","v":""},null,{"$f":"IF(N1826=\"\",\"\",INDEX(referentes!S:T,MATCH(N1826,referentes!T:T,0),1))","v":""},null,{"$f":"IF(P1826=\"\",\"\",INDEX(referentes!Y:Z,MATCH(P1826,referentes!Z:Z,0),1))","v":""},"","",null,null,null,null,null,{"$f":"IF(X1826=\"\",\"\",INDEX(referentes!J:K,MATCH(X1826,referentes!J:J,0),2))","v":""},null,null,""]
["30000401000000",null,0,{"$f":"IF(E1827<>\"\",CONCATENATE(B1827,A1827,DIGITADOR!$M$1,C1827),\"\")","v":""},null,null,"","","",null,1823,"",{"$f":"IF(R1827=R1826,\"\",IF(E1827<>\"\",CONCATENATE(B1827,A1827,DIGITADOR!$M$1,C1827),\"\"))","v":""},null,{"$f":"IF(N1827=\"\",\"\",INDEX(referentes!S:T,MATCH(N1827,referentes!T:T,0),1))","v":""},null,{"$f":"IF(P1827=\"\",\"\",INDEX(referentes!Y:Z,MATCH(P1827,referentes!Z:Z,0),1))","v":""},"","",null,null,null,null,null,{"$f":"IF(X1827=\"\",\"\",INDEX(referentes!J:K,MATCH(X1827,referentes!J:J,0),2))","v":""},null,null,""]
["30000401000000",null,0,{"$f":"IF(E1828<>\"\",CONCATENATE(B1828,A1828,DIGITADOR!$M$1,C1828),\"\")","v":""},null,null,"","","",null,1824,"",{"$f":"IF(R1828=R1827,\"\",IF(E1828<>\"\",CONCATENATE(B1828,A1828,DIGITADOR!$M$1,C1828),\"\"))","v":""},null,{"$f":"IF(N1828=\"\",\"\",INDEX(referentes!S:T,MATCH(N1828,referentes!T:T,0),1))","v":""},null,{"$f":"IF(P1828=\"\",\"\",INDEX(referentes!Y:Z,MATCH(P1828,referentes!Z:Z,0),1))","v":""},"","",null,null,null,null,null,{"$f":"IF(X1828=\"\",\"\",INDEX(referentes!J:K,MATCH(X1828,referentes!J:J,0),2))","v":""},null,null,""]
["30000401000000",null,0,{"$f":"IF(E1829<>\"\",CONCATENATE(B1829,A1829,DIGITADOR!$M$1,C1829),\"\")","v":""},null,null,"","","",null,1825,"",{"$f":"IF(R1829=R1828,\"\",IF(E1829<>\"\",CONCATENATE(B1829,A1829,DIGITADOR!$M$1,C1829),\"\"))","v":""},null,{"$f":"IF(N1829=\"\",\"\",INDEX(referentes!S:T,MATCH(N1829,referentes!T:T,0),1))","v":""},null,{"$f":"IF(P1829=\"\",\"\",INDEX(referentes!Y:Z,MATCH(P1829,referentes!Z:Z,0),1))","v":""},"","",null,null,null,null,null,{"$f":"IF(X1829=\"\",\"\",INDEX(referentes!J:K,MATCH(X1829,referentes!J:J,0),2))","v":""},null,null,""]
["30000401000000",null,0,{"$f":"IF(E1830<>\"\",CONCATENATE(B1830,A1830,DIGITADOR!$M$1,C1830),\"\")","v":""},null,null,"","","",null,1826,"",{"$f":"IF(R1830=R1829,\"\",IF(E1830<>\"\",CONCATENATE(B1830,A1830,DIGITADOR!$M$1,C1830),\"\"))","v":""},null,{"$f":"IF(N1830=\"\",\"\",INDEX(referentes!S:T,MATCH(N1830,referentes!T:T,0),1))","v":""},null,{"$f":"IF(P1830=\"\",\"\",INDEX(referentes!Y:Z,MATCH(P1830,referentes!Z:Z,0),1))","v":""},"","",null,null,null,null,null,{"$f":"IF(X1830=\"\",\"\",INDEX(referentes!J:K,MATCH(X1830,referentes!J:J,0),2))","v":""},null,null,""]
["30000401000000",null,0,{"$f":"IF(E1831<>\"\",CONCATENATE(B1831,A1831,DIGITADOR!$M$1,C1831),\"\")","v":""},null,null,"","","",null,1827,"",{"$f":"IF(R1831=R1830,\"\",IF(E1831<>\"\",CONCATENATE(B1831,A1831,DIGITADOR!$M$1,C1831),\"\"))","v":""},null,{"$f":"IF(N1831=\"\",\"\",INDEX(referentes!S:T,MATCH(N1831,referentes!T:T,0),1))","v":""},null,{"$f":"IF(P1831=\"\",\"\",INDEX(referentes!Y:Z,MATCH(P1831,referentes!Z:Z,0),1))","v":""},"","",null,null,null,null,null,{"$f":"IF(X1831=\"\",\"\",INDEX(referentes!J:K,MATCH(X1831,referentes!J:J,0),2))","v":""},null,null,""]
["30000401000000",null,0,{"$f":"IF(E1832<>\"\",CONCATENATE(B1832,A1832,DIGITADOR!$M$1,C1832),\"\")","v":""},null,null,"","","",null,1828,"",{"$f":"IF(R1832=R1831,\"\",IF(E1832<>\"\",CONCATENATE(B1832,A1832,DIGITADOR!$M$1,C1832),\"\"))","v":""},null,{"$f":"IF(N1832=\"\",\"\",INDEX(referentes!S:T,MATCH(N1832,referentes!T:T,0),1))","v":""},null,{"$f":"IF(P1832=\"\",\"\",INDEX(referentes!Y:Z,MATCH(P1832,referentes!Z:Z,0),1))","v":""},"","",null,null,null,null,null,{"$f":"IF(X1832=\"\",\"\",INDEX(referentes!J:K,MATCH(X1832,referentes!J:J,0),2))","v":""},null,null,""]
["30000401000000",null,0,{"$f":"IF(E1833<>\"\",CONCATENATE(B1833,A1833,DIGITADOR!$M$1,C1833),\"\")","v":""},null,null,"","","",null,1829,"",{"$f":"IF(R1833=R1832,\"\",IF(E1833<>\"\",CONCATENATE(B1833,A1833,DIGITADOR!$M$1,C1833),\"\"))","v":""},null,{"$f":"IF(N1833=\"\",\"\",INDEX(referentes!S:T,MATCH(N1833,referentes!T:T,0),1))","v":""},null,{"$f":"IF(P1833=\"\",\"\",INDEX(referentes!Y:Z,MATCH(P1833,referentes!Z:Z,0),1))","v":""},"","",null,null,null,null,null,{"$f":"IF(X1833=\"\",\"\",INDEX(referentes!J:K,MATCH(X1833,referentes!J:J,0),2))","v":""},null,null,""]
["30000401000000",null,0,{"$f":"IF(E1834<>\"\",CONCATENATE(B1834,A1834,DIGITADOR!$M$1,C1834),\"\")","v":""},null,null,"","","",null,1830,"",{"$f":"IF(R1834=R1833,\"\",IF(E1834<>\"\",CONCATENATE(B1834,A1834,DIGITADOR!$M$1,C1834),\"\"))","v":""},null,{"$f":"IF(N1834=\"\",\"\",INDEX(referentes!S:T,MATCH(N1834,referentes!T:T,0),1))","v":""},null,{"$f":"IF(P1834=\"\",\"\",INDEX(referentes!Y:Z,MATCH(P1834,referentes!Z:Z,0),1))","v":""},"","",null,null,null,null,null,{"$f":"IF(X1834=\"\",\"\",INDEX(referentes!J:K,MATCH(X1834,referentes!J:J,0),2))","v":""},null,null,""]
["30000401000000",null,0,{"$f":"IF(E1835<>\"\",CONCATENATE(B1835,A1835,DIGITADOR!$M$1,C1835),\"\")","v":""},null,null,"","","",null,1831,"",{"$f":"IF(R1835=R1834,\"\",IF(E1835<>\"\",CONCATENATE(B1835,A1835,DIGITADOR!$M$1,C1835),\"\"))","v":""},null,{"$f":"IF(N1835=\"\",\"\",INDEX(referentes!S:T,MATCH(N1835,referentes!T:T,0),1))","v":""},null,{"$f":"IF(P1835=\"\",\"\",INDEX(referentes!Y:Z,MATCH(P1835,referentes!Z:Z,0),1))","v":""},"","",null,null,null,null,null,{"$f":"IF(X1835=\"\",\"\",INDEX(referentes!J:K,MATCH(X1835,referentes!J:J,0),2))","v":""},null,null,""]
["30000401000000",null,0,{"$f":"IF(E1836<>\"\",CONCATENATE(B1836,A1836,DIGITADOR!$M$1,C1836),\"\")","v":""},null,null,"","","",null,1832,"",{"$f":"IF(R1836=R1835,\"\",IF(E1836<>\"\",CONCATENATE(B1836,A1836,DIGITADOR!$M$1,C1836),\"\"))","v":""},null,{"$f":"IF(N1836=\"\",\"\",INDEX(referentes!S:T,MATCH(N1836,referentes!T:T,0),1))","v":""},null,{"$f":"IF(P1836=\"\",\"\",INDEX(referentes!Y:Z,MATCH(P1836,referentes!Z:Z,0),1))","v":""},"","",null,null,null,null,null,{"$f":"IF(X1836=\"\",\"\",INDEX(referentes!J:K,MATCH(X1836,referentes!J:J,0),2))","v":""},null,null,""]
["30000401000000",null,0,{"$f":"IF(E1837<>\"\",CONCATENATE(B1837,A1837,DIGITADOR!$M$1,C1837),\"\")","v":""},null,null,"","","",null,1833,"",{"$f":"IF(R1837=R1836,\"\",IF(E1837<>\"\",CONCATENATE(B1837,A1837,DIGITADOR!$M$1,C1837),\"\"))","v":""},null,{"$f":"IF(N1837=\"\",\"\",INDEX(referentes!S:T,MATCH(N1837,referentes!T:T,0),1))","v":""},null,{"$f":"IF(P1837=\"\",\"\",INDEX(referentes!Y:Z,MATCH(P1837,referentes!Z:Z,0),1))","v":""},"","",null,null,null,null,null,{"$f":"IF(X1837=\"\",\"\",INDEX(referentes!J:K,MATCH(X1837,referentes!J:J,0),2))","v":""},null,null,""]
["30000401000000",null,0,{"$f":"IF(E1838<>\"\",CONCATENATE(B1838,A1838,DIGITADOR!$M$1,C1838),\"\")","v":""},null,null,"","","",null,1834,"",{"$f":"IF(R1838=R1837,\"\",IF(E1838<>\"\",CONCATENATE(B1838,A1838,DIGITADOR!$M$1,C1838),\"\"))","v":""},null,{"$f":"IF(N1838=\"\",\"\",INDEX(referentes!S:T,MATCH(N1838,referentes!T:T,0),1))","v":""},null,{"$f":"IF(P1838=\"\",\"\",INDEX(referentes!Y:Z,MATCH(P1838,referentes!Z:Z,0),1))","v":""},"","",null,null,null,null,null,{"$f":"IF(X1838=\"\",\"\",INDEX(referentes!J:K,MATCH(X1838,referentes!J:J,0),2))","v":""},null,null,""]
["30000401000000",null,0,{"$f":"IF(E1839<>\"\",CONCATENATE(B1839,A1839,DIGITADOR!$M$1,C1839),\"\")","v":""},null,null,"","","",null,1835,"",{"$f":"IF(R1839=R1838,\"\",IF(E1839<>\"\",CONCATENATE(B1839,A1839,DIGITADOR!$M$1,C1839),\"\"))","v":""},null,{"$f":"IF(N1839=\"\",\"\",INDEX(referentes!S:T,MATCH(N1839,referentes!T:T,0),1))","v":""},null,{"$f":"IF(P1839=\"\",\"\",INDEX(referentes!Y:Z,MATCH(P1839,referentes!Z:Z,0),1))","v":""},"","",null,null,null,null,null,{"$f":"IF(X1839=\"\",\"\",INDEX(referentes!J:K,MATCH(X1839,referentes!J:J,0),2))","v":""},null,null,""]
["30000401000000",null,0,{"$f":"IF(E1840<>\"\",CONCATENATE(B1840,A1840,DIGITADOR!$M$1,C1840),\"\")","v":""},null,null,"","","",null,1836,"",{"$f":"IF(R1840=R1839,\"\",IF(E1840<>\"\",CONCATENATE(B1840,A1840,DIGITADOR!$M$1,C1840),\"\"))","v":""},null,{"$f":"IF(N1840=\"\",\"\",INDEX(referentes!S:T,MATCH(N1840,referentes!T:T,0),1))","v":""},null,{"$f":"IF(P1840=\"\",\"\",INDEX(referentes!Y:Z,MATCH(P1840,referentes!Z:Z,0),1))","v":""},"","",null,null,null,null,null,{"$f":"IF(X1840=\"\",\"\",INDEX(referentes!J:K,MATCH(X1840,referentes!J:J,0),2))","v":""},null,null,""]
["30000401000000",null,0,{"$f":"IF(E1841<>\"\",CONCATENATE(B1841,A1841,DIGITADOR!$M$1,C1841),\"\")","v":""},null,null,"","","",null,1837,"",{"$f":"IF(R1841=R1840,\"\",IF(E1841<>\"\",CONCATENATE(B1841,A1841,DIGITADOR!$M$1,C1841),\"\"))","v":""},null,{"$f":"IF(N1841=\"\",\"\",INDEX(referentes!S:T,MATCH(N1841,referentes!T:T,0),1))","v":""},null,{"$f":"IF(P1841=\"\",\"\",INDEX(referentes!Y:Z,MATCH(P1841,referentes!Z:Z,0),1))","v":""},"","",null,null,null,null,null,{"$f":"IF(X1841=\"\",\"\",INDEX(referentes!J:K,MATCH(X1841,referentes!J:J,0),2))","v":""},null,null,""]
["30000401000000",null,0,{"$f":"IF(E1842<>\"\",CONCATENATE(B1842,A1842,DIGITADOR!$M$1,C1842),\"\")","v":""},null,null,"","","",null,1838,"",{"$f":"IF(R1842=R1841,\"\",IF(E1842<>\"\",CONCATENATE(B1842,A1842,DIGITADOR!$M$1,C1842),\"\"))","v":""},null,{"$f":"IF(N1842=\"\",\"\",INDEX(referentes!S:T,MATCH(N1842,referentes!T:T,0),1))","v":""},null,{"$f":"IF(P1842=\"\",\"\",INDEX(referentes!Y:Z,MATCH(P1842,referentes!Z:Z,0),1))","v":""},"","",null,null,null,null,null,{"$f":"IF(X1842=\"\",\"\",INDEX(referentes!J:K,MATCH(X1842,referentes!J:J,0),2))","v":""},null,null,""]
["30000401000000",null,0,{"$f":"IF(E1843<>\"\",CONCATENATE(B1843,A1843,DIGITADOR!$M$1,C1843),\"\")","v":""},null,null,"","","",null,1839,"",{"$f":"IF(R1843=R1842,\"\",IF(E1843<>\"\",CONCATENATE(B1843,A1843,DIGITADOR!$M$1,C1843),\"\"))","v":""},null,{"$f":"IF(N1843=\"\",\"\",INDEX(referentes!S:T,MATCH(N1843,referentes!T:T,0),1))","v":""},null,{"$f":"IF(P1843=\"\",\"\",INDEX(referentes!Y:Z,MATCH(P1843,referentes!Z:Z,0),1))","v":""},"","",null,null,null,null,null,{"$f":"IF(X1843=\"\",\"\",INDEX(referentes!J:K,MATCH(X1843,referentes!J:J,0),2))","v":""},null,null,""]
["30000401000000",null,0,{"$f":"IF(E1844<>\"\",CONCATENATE(B1844,A1844,DIGITADOR!$M$1,C1844),\"\")","v":""},null,null,"","","",null,1840,"",{"$f":"IF(R1844=R1843,\"\",IF(E1844<>\"\",CONCATENATE(B1844,A1844,DIGITADOR!$M$1,C1844),\"\"))","v":""},null,{"$f":"IF(N1844=\"\",\"\",INDEX(referentes!S:T,MATCH(N1844,referentes!T:T,0),1))","v":""},null,{"$f":"IF(P1844=\"\",\"\",INDEX(referentes!Y:Z,MATCH(P1844,referentes!Z:Z,0),1))","v":""},"","",null,null,null,null,null,{"$f":"IF(X1844=\"\",\"\",INDEX(referentes!J:K,MATCH(X1844,referentes!J:J,0),2))","v":""},null,null,""]
["30000401000000",null,0,{"$f":"IF(E1845<>\"\",CONCATENATE(B1845,A1845,DIGITADOR!$M$1,C1845),\"\")","v":""},null,null,"","","",null,1841,"",{"$f":"IF(R1845=R1844,\"\",IF(E1845<>\"\",CONCATENATE(B1845,A1845,DIGITADOR!$M$1,C1845),\"\"))","v":""},null,{"$f":"IF(N1845=\"\",\"\",INDEX(referentes!S:T,MATCH(N1845,referentes!T:T,0),1))","v":""},null,{"$f":"IF(P1845=\"\",\"\",INDEX(referentes!Y:Z,MATCH(P1845,referentes!Z:Z,0),1))","v":""},"","",null,null,null,null,null,{"$f":"IF(X1845=\"\",\"\",INDEX(referentes!J:K,MATCH(X1845,referentes!J:J,0),2))","v":""},null,null,""]
["30000401000000",null,0,{"$f":"IF(E1846<>\"\",CONCATENATE(B1846,A1846,DIGITADOR!$M$1,C1846),\"\")","v":""},null,null,"","","",null,1842,"",{"$f":"IF(R1846=R1845,\"\",IF(E1846<>\"\",CONCATENATE(B1846,A1846,DIGITADOR!$M$1,C1846),\"\"))","v":""},null,{"$f":"IF(N1846=\"\",\"\",INDEX(referentes!S:T,MATCH(N1846,referentes!T:T,0),1))","v":""},null,{"$f":"IF(P1846=\"\",\"\",INDEX(referentes!Y:Z,MATCH(P1846,referentes!Z:Z,0),1))","v":""},"","",null,null,null,null,null,{"$f":"IF(X1846=\"\",\"\",INDEX(referentes!J:K,MATCH(X1846,referentes!J:J,0),2))","v":""},null,null,""]
["30000401000000",null,0,{"$f":"IF(E1847<>\"\",CONCATENATE(B1847,A1847,DIGITADOR!$M$1,C1847),\"\")","v":""},null,null,"","","",null,1843,"",{"$f":"IF(R1847=R1846,\"\",IF(E1847<>\"\",CONCATENATE(B1847,A1847,DIGITADOR!$M$1,C1847),\"\"))","v":""},null,{"$f":"IF(N1847=\"\",\"\",INDEX(referentes!S:T,MATCH(N1847,referentes!T:T,0),1))","v":""},null,{"$f":"IF(P1847=\"\",\"\",INDEX(referentes!Y:Z,MATCH(P1847,referentes!Z:Z,0),1))","v":""},"","",null,null,null,null,null,{"$f":"IF(X1847=\"\",\"\",INDEX(referentes!J:K,MATCH(X1847,referentes!J:J,0),2))","v":""},null,null,""]
["30000401000000",null,0,{"$f":"IF(E1848<>\"\",CONCATENATE(B1848,A1848,DIGITADOR!$M$1,C1848),\"\")","v":""},null,null,"","","",null,1844,"",{"$f":"IF(R1848=R1847,\"\",IF(E1848<>\"\",CONCATENATE(B1848,A1848,DIGITADOR!$M$1,C1848),\"\"))","v":""},null,{"$f":"IF(N1848=\"\",\"\",INDEX(referentes!S:T,MATCH(N1848,referentes!T:T,0),1))","v":""},null,{"$f":"IF(P1848=\"\",\"\",INDEX(referentes!Y:Z,MATCH(P1848,referentes!Z:Z,0),1))","v":""},"","",null,null,null,null,null,{"$f":"IF(X1848=\"\",\"\",INDEX(referentes!J:K,MATCH(X1848,referentes!J:J,0),2))","v":""},null,null,""]
["30000401000000",null,0,{"$f":"IF(E1849<>\"\",CONCATENATE(B1849,A1849,DIGITADOR!$M$1,C1849),\"\")","v":""},null,null,"","","",null,1845,"",{"$f":"IF(R1849=R1848,\"\",IF(E1849<>\"\",CONCATENATE(B1849,A1849,DIGITADOR!$M$1,C1849),\"\"))","v":""},null,{"$f":"IF(N1849=\"\",\"\",INDEX(referentes!S:T,MATCH(N1849,referentes!T:T,0),1))","v":""},null,{"$f":"IF(P1849=\"\",\"\",INDEX(referentes!Y:Z,MATCH(P1849,referentes!Z:Z,0),1))","v":""},"","",null,null,null,null,null,{"$f":"IF(X1849=\"\",\"\",INDEX(referentes!J:K,MATCH(X1849,referentes!J:J,0),2))","v":""},null,null,""]
["30000401000000",null,0,{"$f":"IF(E1850<>\"\",CONCATENATE(B1850,A1850,DIGITADOR!$M$1,C1850),\"\")","v":""},null,null,"","","",null,1846,"",{"$f":"IF(R1850=R1849,\"\",IF(E1850<>\"\",CONCATENATE(B1850,A1850,DIGITADOR!$M$1,C1850),\"\"))","v":""},null,{"$f":"IF(N1850=\"\",\"\",INDEX(referentes!S:T,MATCH(N1850,referentes!T:T,0),1))","v":""},null,{"$f":"IF(P1850=\"\",\"\",INDEX(referentes!Y:Z,MATCH(P1850,referentes!Z:Z,0),1))","v":""},"","",null,null,null,null,null,{"$f":"IF(X1850=\"\",\"\",INDEX(referentes!J:K,MATCH(X1850,referentes!J:J,0),2))","v":""},null,null,""]
["30000401000000",null,0,{"$f":"IF(E1851<>\"\",CONCATENATE(B1851,A1851,DIGITADOR!$M$1,C1851),\"\")","v":""},null,null,"","","",null,1847,"",{"$f":"IF(R1851=R1850,\"\",IF(E1851<>\"\",CONCATENATE(B1851,A1851,DIGITADOR!$M$1,C1851),\"\"))","v":""},null,{"$f":"IF(N1851=\"\",\"\",INDEX(referentes!S:T,MATCH(N1851,referentes!T:T,0),1))","v":""},null,{"$f":"IF(P1851=\"\",\"\",INDEX(referentes!Y:Z,MATCH(P1851,referentes!Z:Z,0),1))","v":""},"","",null,null,null,null,null,{"$f":"IF(X1851=\"\",\"\",INDEX(referentes!J:K,MATCH(X1851,referentes!J:J,0),2))","v":""},null,null,""]
["30000401000000",null,0,{"$f":"IF(E1852<>\"\",CONCATENATE(B1852,A1852,DIGITADOR!$M$1,C1852),\"\")","v":""},null,null,"","","",null,1848,"",{"$f":"IF(R1852=R1851,\"\",IF(E1852<>\"\",CONCATENATE(B1852,A1852,DIGITADOR!$M$1,C1852),\"\"))","v":""},null,{"$f":"IF(N1852=\"\",\"\",INDEX(referentes!S:T,MATCH(N1852,referentes!T:T,0),1))","v":""},null,{"$f":"IF(P1852=\"\",\"\",INDEX(referentes!Y:Z,MATCH(P1852,referentes!Z:Z,0),1))","v":""},"","",null,null,null,null,null,{"$f":"IF(X1852=\"\",\"\",INDEX(referentes!J:K,MATCH(X1852,referentes!J:J,0),2))","v":""},null,null,""]
["30000401000000",null,0,{"$f":"IF(E1853<>\"\",CONCATENATE(B1853,A1853,DIGITADOR!$M$1,C1853),\"\")","v":""},null,null,"","","",null,1849,"",{"$f":"IF(R1853=R1852,\"\",IF(E1853<>\"\",CONCATENATE(B1853,A1853,DIGITADOR!$M$1,C1853),\"\"))","v":""},null,{"$f":"IF(N1853=\"\",\"\",INDEX(referentes!S:T,MATCH(N1853,referentes!T:T,0),1))","v":""},null,{"$f":"IF(P1853=\"\",\"\",INDEX(referentes!Y:Z,MATCH(P1853,referentes!Z:Z,0),1))","v":""},"","",null,null,null,null,null,{"$f":"IF(X1853=\"\",\"\",INDEX(referentes!J:K,MATCH(X1853,referentes!J:J,0),2))","v":""},null,null,""]
["30000401000000",null,0,{"$f":"IF(E1854<>\"\",CONCATENATE(B1854,A1854,DIGITADOR!$M$1,C1854),\"\")","v":""},null,null,"","","",null,1850,"",{"$f":"IF(R1854=R1853,\"\",IF(E1854<>\"\",CONCATENATE(B1854,A1854,DIGITADOR!$M$1,C1854),\"\"))","v":""},null,{"$f":"IF(N1854=\"\",\"\",INDEX(referentes!S:T,MATCH(N1854,referentes!T:T,0),1))","v":""},null,{"$f":"IF(P1854=\"\",\"\",INDEX(referentes!Y:Z,MATCH(P1854,referentes!Z:Z,0),1))","v":""},"","",null,null,null,null,null,{"$f":"IF(X1854=\"\",\"\",INDEX(referentes!J:K,MATCH(X1854,referentes!J:J,0),2))","v":""},null,null,""]
["30000401000000",null,0,{"$f":"IF(E1855<>\"\",CONCATENATE(B1855,A1855,DIGITADOR!$M$1,C1855),\"\")","v":""},null,null,"","","",null,1851,"",{"$f":"IF(R1855=R1854,\"\",IF(E1855<>\"\",CONCATENATE(B1855,A1855,DIGITADOR!$M$1,C1855),\"\"))","v":""},null,{"$f":"IF(N1855=\"\",\"\",INDEX(referentes!S:T,MATCH(N1855,referentes!T:T,0),1))","v":""},null,{"$f":"IF(P1855=\"\",\"\",INDEX(referentes!Y:Z,MATCH(P1855,referentes!Z:Z,0),1))","v":""},"","",null,null,null,null,null,{"$f":"IF(X1855=\"\",\"\",INDEX(referentes!J:K,MATCH(X1855,referentes!J:J,0),2))","v":""},null,null,""]
["30000401000000",null,0,{"$f":"IF(E1856<>\"\",CONCATENATE(B1856,A1856,DIGITADOR!$M$1,C1856),\"\")","v":""},null,null,"","","",null,1852,"",{"$f":"IF(R1856=R1855,\"\",IF(E1856<>\"\",CONCATENATE(B1856,A1856,DIGITADOR!$M$1,C1856),\"\"))","v":""},null,{"$f":"IF(N1856=\"\",\"\",INDEX(referentes!S:T,MATCH(N1856,referentes!T:T,0),1))","v":""},null,{"$f":"IF(P1856=\"\",\"\",INDEX(referentes!Y:Z,MATCH(P1856,referentes!Z:Z,0),1))","v":""},"","",null,null,null,null,null,{"$f":"IF(X1856=\"\",\"\",INDEX(referentes!J:K,MATCH(X1856,referentes!J:J,0),2))","v":""},null,null,""]
["30000401000000",null,0,{"$f":"IF(E1857<>\"\",CONCATENATE(B1857,A1857,DIGITADOR!$M$1,C1857),\"\")","v":""},null,null,"","","",null,1853,"",{"$f":"IF(R1857=R1856,\"\",IF(E1857<>\"\",CONCATENATE(B1857,A1857,DIGITADOR!$M$1,C1857),\"\"))","v":""},null,{"$f":"IF(N1857=\"\",\"\",INDEX(referentes!S:T,MATCH(N1857,referentes!T:T,0),1))","v":""},null,{"$f":"IF(P1857=\"\",\"\",INDEX(referentes!Y:Z,MATCH(P1857,referentes!Z:Z,0),1))","v":""},"","",null,null,null,null,null,{"$f":"IF(X1857=\"\",\"\",INDEX(referentes!J:K,MATCH(X1857,referentes!J:J,0),2))","v":""},null,null,""]
["30000401000000",null,0,{"$f":"IF(E1858<>\"\",CONCATENATE(B1858,A1858,DIGITADOR!$M$1,C1858),\"\")","v":""},null,null,"","","",null,1854,"",{"$f":"IF(R1858=R1857,\"\",IF(E1858<>\"\",CONCATENATE(B1858,A1858,DIGITADOR!$M$1,C1858),\"\"))","v":""},null,{"$f":"IF(N1858=\"\",\"\",INDEX(referentes!S:T,MATCH(N1858,referentes!T:T,0),1))","v":""},null,{"$f":"IF(P1858=\"\",\"\",INDEX(referentes!Y:Z,MATCH(P1858,referentes!Z:Z,0),1))","v":""},"","",null,null,null,null,null,{"$f":"IF(X1858=\"\",\"\",INDEX(referentes!J:K,MATCH(X1858,referentes!J:J,0),2))","v":""},null,null,""]
["30000401000000",null,0,{"$f":"IF(E1859<>\"\",CONCATENATE(B1859,A1859,DIGITADOR!$M$1,C1859),\"\")","v":""},null,null,"","","",null,1855,"",{"$f":"IF(R1859=R1858,\"\",IF(E1859<>\"\",CONCATENATE(B1859,A1859,DIGITADOR!$M$1,C1859),\"\"))","v":""},null,{"$f":"IF(N1859=\"\",\"\",INDEX(referentes!S:T,MATCH(N1859,referentes!T:T,0),1))","v":""},null,{"$f":"IF(P1859=\"\",\"\",INDEX(referentes!Y:Z,MATCH(P1859,referentes!Z:Z,0),1))","v":""},"","",null,null,null,null,null,{"$f":"IF(X1859=\"\",\"\",INDEX(referentes!J:K,MATCH(X1859,referentes!J:J,0),2))","v":""},null,null,""]
["30000401000000",null,0,{"$f":"IF(E1860<>\"\",CONCATENATE(B1860,A1860,DIGITADOR!$M$1,C1860),\"\")","v":""},null,null,"","","",null,1856,"",{"$f":"IF(R1860=R1859,\"\",IF(E1860<>\"\",CONCATENATE(B1860,A1860,DIGITADOR!$M$1,C1860),\"\"))","v":""},null,{"$f":"IF(N1860=\"\",\"\",INDEX(referentes!S:T,MATCH(N1860,referentes!T:T,0),1))","v":""},null,{"$f":"IF(P1860=\"\",\"\",INDEX(referentes!Y:Z,MATCH(P1860,referentes!Z:Z,0),1))","v":""},"","",null,null,null,null,null,{"$f":"IF(X1860=\"\",\"\",INDEX(referentes!J:K,MATCH(X1860,referentes!J:J,0),2))","v":""},null,null,""]
["30000401000000",null,{"$f":"IF(R1861=R1860,C1860,C1860+1)","v":0},{"$f":"IF(E1861<>\"\",CONCATENATE(B1861,A1861,DIGITADOR!$M$1,C1861),\"\")","v":""},null,null,"","","",null,1857,"",{"$f":"IF(R1861=R1860,\"\",IF(E1861<>\"\",CONCATENATE(B1861,A1861,DIGITADOR!$M$1,C1861),\"\"))","v":""},null,{"$f":"IF(N1861=\"\",\"\",INDEX(referentes!S:T,MATCH(N1861,referentes!T:T,0),1))","v":""},null,{"$f":"IF(P1861=\"\",\"\",INDEX(referentes!Y:Z,MATCH(P1861,referentes!Z:Z,0),1))","v":""},"","",null,null,null,null,null,{"$f":"IF(X1861=\"\",\"\",INDEX(referentes!J:K,MATCH(X1861,referentes!J:J,0),2))","v":""},null,null,""]
["30000401000000",null,0,{"$f":"IF(E1862<>\"\",CONCATENATE(B1862,A1862,DIGITADOR!$M$1,C1862),\"\")","v":""},null,null,{"$f":"IF(E1862=\"\", \"\", (E1862+F1862))","v":""},{"$f":"IF(G1862<>\"\",MONTH(G1862),\"\")","v":""},{"$f":"IF(D1862=\"\",\"\",1)","v":""},null,1858,{"$f":"IF(E1862=\"\",\"\",CONCATENATE(D1862,K1862))","v":""},{"$f":"IF(R1862=R1861,\"\",IF(E1862<>\"\",CONCATENATE(B1862,A1862,DIGITADOR!$M$1,C1862),\"\"))","v":""},null,{"$f":"IF(N1862=\"\",\"\",INDEX(referentes!S:T,MATCH(N1862,referentes!T:T,0),1))","v":""},null,{"$f":"IF(P1862=\"\",\"\",INDEX(referentes!Y:Z,MATCH(P1862,referentes!Z:Z,0),1))","v":""},{"$f":"IF(G1862=\"\",\"\",CONCATENATE(G1862,O1862,Q1862))","v":""},{"$f":"IF(E1862=\"\",\"\",\"INVEMAR\")","v":""},null,null,null,null,null,{"$f":"IF(X1862=\"\",\"\",INDEX(referentes!J:K,MATCH(X1862,referentes!J:J,0),2))","v":""},null,null,{"$f":"IF(T1862=\"\",\"\",IF(T1862=T1861,AB1861,AA1862))","v":""}]
[{"$f":"A1862","v":"30000401000000"},null,0,{"$f":"IF(E1863<>\"\",CONCATENATE(B1863,A1863,DIGITADOR!$M$1,C1863),\"\")","v":""},null,null,"","","",null,1859,"",{"$f":"IF(R1863=R1862,\"\",IF(E1863<>\"\",CONCATENATE(B1863,A1863,DIGITADOR!$M$1,C1863),\"\"))","v":""},null,{"$f":"IF(N1863=\"\",\"\",INDEX(referentes!S:T,MATCH(N1863,referentes!T:T,0),1))","v":""},null,{"$f":"IF(P1863=\"\",\"\",INDEX(referentes!Y:Z,MATCH(P1863,referentes!Z:Z,0),1))","v":""},"","",null,null,null,null,null,{"$f":"IF(X1863=\"\",\"\",INDEX(referentes!J:K,MATCH(X1863,referentes!J:J,0),2))","v":""},null,null,""]
["30000401000000",null,0,{"$f":"IF(E1864<>\"\",CONCATENATE(B1864,A1864,DIGITADOR!$M$1,C1864),\"\")","v":""},null,null,"","","",null,1860,"",{"$f":"IF(R1864=R1863,\"\",IF(E1864<>\"\",CONCATENATE(B1864,A1864,DIGITADOR!$M$1,C1864),\"\"))","v":""},null,{"$f":"IF(N1864=\"\",\"\",INDEX(referentes!S:T,MATCH(N1864,referentes!T:T,0),1))","v":""},null,{"$f":"IF(P1864=\"\",\"\",INDEX(referentes!Y:Z,MATCH(P1864,referentes!Z:Z,0),1))","v":""},"","",null,null,null,null,null,{"$f":"IF(X1864=\"\",\"\",INDEX(referentes!J:K,MATCH(X1864,referentes!J:J,0),2))","v":""},null,null,""]
["30000401000000",null,0,{"$f":"IF(E1865<>\"\",CONCATENATE(B1865,A1865,DIGITADOR!$M$1,C1865),\"\")","v":""},null,null,"","","",null,1861,"",{"$f":"IF(R1865=R1864,\"\",IF(E1865<>\"\",CONCATENATE(B1865,A1865,DIGITADOR!$M$1,C1865),\"\"))","v":""},null,{"$f":"IF(N1865=\"\",\"\",INDEX(referentes!S:T,MATCH(N1865,referentes!T:T,0),1))","v":""},null,{"$f":"IF(P1865=\"\",\"\",INDEX(referentes!Y:Z,MATCH(P1865,referentes!Z:Z,0),1))","v":""},"","",null,null,null,null,null,{"$f":"IF(X1865=\"\",\"\",INDEX(referentes!J:K,MATCH(X1865,referentes!J:J,0),2))","v":""},null,null,""]
["30000401000000",null,0,{"$f":"IF(E1866<>\"\",CONCATENATE(B1866,A1866,DIGITADOR!$M$1,C1866),\"\")","v":""},null,null,"","","",null,1862,"",{"$f":"IF(R1866=R1865,\"\",IF(E1866<>\"\",CONCATENATE(B1866,A1866,DIGITADOR!$M$1,C1866),\"\"))","v":""},null,{"$f":"IF(N1866=\"\",\"\",INDEX(referentes!S:T,MATCH(N1866,referentes!T:T,0),1))","v":""},null,{"$f":"IF(P1866=\"\",\"\",INDEX(referentes!Y:Z,MATCH(P1866,referentes!Z:Z,0),1))","v":""},"","",null,null,null,null,null,{"$f":"IF(X1866=\"\",\"\",INDEX(referentes!J:K,MATCH(X1866,referentes!J:J,0),2))","v":""},null,null,""]
["30000401000000",null,0,{"$f":"IF(E1867<>\"\",CONCATENATE(B1867,A1867,DIGITADOR!$M$1,C1867),\"\")","v":""},null,null,"","","",null,1863,"",{"$f":"IF(R1867=R1866,\"\",IF(E1867<>\"\",CONCATENATE(B1867,A1867,DIGITADOR!$M$1,C1867),\"\"))","v":""},null,{"$f":"IF(N1867=\"\",\"\",INDEX(referentes!S:T,MATCH(N1867,referentes!T:T,0),1))","v":""},null,{"$f":"IF(P1867=\"\",\"\",INDEX(referentes!Y:Z,MATCH(P1867,referentes!Z:Z,0),1))","v":""},"","",null,null,null,null,null,{"$f":"IF(X1867=\"\",\"\",INDEX(referentes!J:K,MATCH(X1867,referentes!J:J,0),2))","v":""},null,null,""]
["30000401000000",null,0,{"$f":"IF(E1868<>\"\",CONCATENATE(B1868,A1868,DIGITADOR!$M$1,C1868),\"\")","v":""},null,null,"","","",null,1864,"",{"$f":"IF(R1868=R1867,\"\",IF(E1868<>\"\",CONCATENATE(B1868,A1868,DIGITADOR!$M$1,C1868),\"\"))","v":""},null,{"$f":"IF(N1868=\"\",\"\",INDEX(referentes!S:T,MATCH(N1868,referentes!T:T,0),1))","v":""},null,{"$f":"IF(P1868=\"\",\"\",INDEX(referentes!Y:Z,MATCH(P1868,referentes!Z:Z,0),1))","v":""},"","",null,null,null,null,null,{"$f":"IF(X1868=\"\",\"\",INDEX(referentes!J:K,MATCH(X1868,referentes!J:J,0),2))","v":""},null,null,""]
["30000401000000",null,0,{"$f":"IF(E1869<>\"\",CONCATENATE(B1869,A1869,DIGITADOR!$M$1,C1869),\"\")","v":""},null,null,"","","",null,1865,"",{"$f":"IF(R1869=R1868,\"\",IF(E1869<>\"\",CONCATENATE(B1869,A1869,DIGITADOR!$M$1,C1869),\"\"))","v":""},null,{"$f":"IF(N1869=\"\",\"\",INDEX(referentes!S:T,MATCH(N1869,referentes!T:T,0),1))","v":""},null,{"$f":"IF(P1869=\"\",\"\",INDEX(referentes!Y:Z,MATCH(P1869,referentes!Z:Z,0),1))","v":""},"","",null,null,null,null,null,{"$f":"IF(X1869=\"\",\"\",INDEX(referentes!J:K,MATCH(X1869,referentes!J:J,0),2))","v":""},null,null,""]
["30000401000000",null,0,{"$f":"IF(E1870<>\"\",CONCATENATE(B1870,A1870,DIGITADOR!$M$1,C1870),\"\")","v":""},null,null,"","","",null,1866,"",{"$f":"IF(R1870=R1869,\"\",IF(E1870<>\"\",CONCATENATE(B1870,A1870,DIGITADOR!$M$1,C1870),\"\"))","v":""},null,{"$f":"IF(N1870=\"\",\"\",INDEX(referentes!S:T,MATCH(N1870,referentes!T:T,0),1))","v":""},null,{"$f":"IF(P1870=\"\",\"\",INDEX(referentes!Y:Z,MATCH(P1870,referentes!Z:Z,0),1))","v":""},"","",null,null,null,null,null,{"$f":"IF(X1870=\"\",\"\",INDEX(referentes!J:K,MATCH(X1870,referentes!J:J,0),2))","v":""},null,null,""]
["30000401000000",null,0,{"$f":"IF(E1871<>\"\",CONCATENATE(B1871,A1871,DIGITADOR!$M$1,C1871),\"\")","v":""},null,null,"","","",null,1867,"",{"$f":"IF(R1871=R1870,\"\",IF(E1871<>\"\",CONCATENATE(B1871,A1871,DIGITADOR!$M$1,C1871),\"\"))","v":""},null,{"$f":"IF(N1871=\"\",\"\",INDEX(referentes!S:T,MATCH(N1871,referentes!T:T,0),1))","v":""},null,{"$f":"IF(P1871=\"\",\"\",INDEX(referentes!Y:Z,MATCH(P1871,referentes!Z:Z,0),1))","v":""},"","",null,null,null,null,null,{"$f":"IF(X1871=\"\",\"\",INDEX(referentes!J:K,MATCH(X1871,referentes!J:J,0),2))","v":""},null,null,""]
["30000401000000",null,0,{"$f":"IF(E1872<>\"\",CONCATENATE(B1872,A1872,DIGITADOR!$M$1,C1872),\"\")","v":""},null,null,"","","",null,1868,"",{"$f":"IF(R1872=R1871,\"\",IF(E1872<>\"\",CONCATENATE(B1872,A1872,DIGITADOR!$M$1,C1872),\"\"))","v":""},null,{"$f":"IF(N1872=\"\",\"\",INDEX(referentes!S:T,MATCH(N1872,referentes!T:T,0),1))","v":""},null,{"$f":"IF(P1872=\"\",\"\",INDEX(referentes!Y:Z,MATCH(P1872,referentes!Z:Z,0),1))","v":""},"","",null,null,null,null,null,{"$f":"IF(X1872=\"\",\"\",INDEX(referentes!J:K,MATCH(X1872,referentes!J:J,0),2))","v":""},null,null,""]
["30000401000000",null,0,{"$f":"IF(E1873<>\"\",CONCATENATE(B1873,A1873,DIGITADOR!$M$1,C1873),\"\")","v":""},null,null,"","","",null,1869,"",{"$f":"IF(R1873=R1872,\"\",IF(E1873<>\"\",CONCATENATE(B1873,A1873,DIGITADOR!$M$1,C1873),\"\"))","v":""},null,{"$f":"IF(N1873=\"\",\"\",INDEX(referentes!S:T,MATCH(N1873,referentes!T:T,0),1))","v":""},null,{"$f":"IF(P1873=\"\",\"\",INDEX(referentes!Y:Z,MATCH(P1873,referentes!Z:Z,0),1))","v":""},"","",null,null,null,null,null,{"$f":"IF(X1873=\"\",\"\",INDEX(referentes!J:K,MATCH(X1873,referentes!J:J,0),2))","v":""},null,null,""]
["30000401000000",null,0,{"$f":"IF(E1874<>\"\",CONCATENATE(B1874,A1874,DIGITADOR!$M$1,C1874),\"\")","v":""},null,null,"","","",null,1870,"",{"$f":"IF(R1874=R1873,\"\",IF(E1874<>\"\",CONCATENATE(B1874,A1874,DIGITADOR!$M$1,C1874),\"\"))","v":""},null,{"$f":"IF(N1874=\"\",\"\",INDEX(referentes!S:T,MATCH(N1874,referentes!T:T,0),1))","v":""},null,{"$f":"IF(P1874=\"\",\"\",INDEX(referentes!Y:Z,MATCH(P1874,referentes!Z:Z,0),1))","v":""},"","",null,null,null,null,null,{"$f":"IF(X1874=\"\",\"\",INDEX(referentes!J:K,MATCH(X1874,referentes!J:J,0),2))","v":""},null,null,""]
["30000401000000",null,0,{"$f":"IF(E1875<>\"\",CONCATENATE(B1875,A1875,DIGITADOR!$M$1,C1875),\"\")","v":""},null,null,"","","",null,1871,"",{"$f":"IF(R1875=R1874,\"\",IF(E1875<>\"\",CONCATENATE(B1875,A1875,DIGITADOR!$M$1,C1875),\"\"))","v":""},null,{"$f":"IF(N1875=\"\",\"\",INDEX(referentes!S:T,MATCH(N1875,referentes!T:T,0),1))","v":""},null,{"$f":"IF(P1875=\"\",\"\",INDEX(referentes!Y:Z,MATCH(P1875,referentes!Z:Z,0),1))","v":""},"","",null,null,null,null,null,{"$f":"IF(X1875=\"\",\"\",INDEX(referentes!J:K,MATCH(X1875,referentes!J:J,0),2))","v":""},null,null,""]
["30000401000000",null,0,{"$f":"IF(E1876<>\"\",CONCATENATE(B1876,A1876,DIGITADOR!$M$1,C1876),\"\")","v":""},null,null,"","","",null,1872,"",{"$f":"IF(R1876=R1875,\"\",IF(E1876<>\"\",CONCATENATE(B1876,A1876,DIGITADOR!$M$1,C1876),\"\"))","v":""},null,{"$f":"IF(N1876=\"\",\"\",INDEX(referentes!S:T,MATCH(N1876,referentes!T:T,0),1))","v":""},null,{"$f":"IF(P1876=\"\",\"\",INDEX(referentes!Y:Z,MATCH(P1876,referentes!Z:Z,0),1))","v":""},"","",null,null,null,null,null,{"$f":"IF(X1876=\"\",\"\",INDEX(referentes!J:K,MATCH(X1876,referentes!J:J,0),2))","v":""},null,null,""]
["30000401000000",null,0,{"$f":"IF(E1877<>\"\",CONCATENATE(B1877,A1877,DIGITADOR!$M$1,C1877),\"\")","v":""},null,null,"","","",null,1873,"",{"$f":"IF(R1877=R1876,\"\",IF(E1877<>\"\",CONCATENATE(B1877,A1877,DIGITADOR!$M$1,C1877),\"\"))","v":""},null,{"$f":"IF(N1877=\"\",\"\",INDEX(referentes!S:T,MATCH(N1877,referentes!T:T,0),1))","v":""},null,{"$f":"IF(P1877=\"\",\"\",INDEX(referentes!Y:Z,MATCH(P1877,referentes!Z:Z,0),1))","v":""},"","",null,null,null,null,null,{"$f":"IF(X1877=\"\",\"\",INDEX(referentes!J:K,MATCH(X1877,referentes!J:J,0),2))","v":""},null,null,""]
["30000401000000",null,0,{"$f":"IF(E1878<>\"\",CONCATENATE(B1878,A1878,DIGITADOR!$M$1,C1878),\"\")","v":""},null,null,"","","",null,1874,"",{"$f":"IF(R1878=R1877,\"\",IF(E1878<>\"\",CONCATENATE(B1878,A1878,DIGITADOR!$M$1,C1878),\"\"))","v":""},null,{"$f":"IF(N1878=\"\",\"\",INDEX(referentes!S:T,MATCH(N1878,referentes!T:T,0),1))","v":""},null,{"$f":"IF(P1878=\"\",\"\",INDEX(referentes!Y:Z,MATCH(P1878,referentes!Z:Z,0),1))","v":""},"","",null,null,null,null,null,{"$f":"IF(X1878=\"\",\"\",INDEX(referentes!J:K,MATCH(X1878,referentes!J:J,0),2))","v":""},null,null,""]
["30000401000000",null,0,{"$f":"IF(E1879<>\"\",CONCATENATE(B1879,A1879,DIGITADOR!$M$1,C1879),\"\")","v":""},null,null,"","","",null,1875,"",{"$f":"IF(R1879=R1878,\"\",IF(E1879<>\"\",CONCATENATE(B1879,A1879,DIGITADOR!$M$1,C1879),\"\"))","v":""},null,{"$f":"IF(N1879=\"\",\"\",INDEX(referentes!S:T,MATCH(N1879,referentes!T:T,0),1))","v":""},null,{"$f":"IF(P1879=\"\",\"\",INDEX(referentes!Y:Z,MATCH(P1879,referentes!Z:Z,0),1))","v":""},"","",null,null,null,null,null,{"$f":"IF(X1879=\"\",\"\",INDEX(referentes!J:K,MATCH(X1879,referentes!J:J,0),2))","v":""},null,null,""]
["30000401000000",null,0,{"$f":"IF(E1880<>\"\",CONCATENATE(B1880,A1880,DIGITADOR!$M$1,C1880),\"\")","v":""},null,null,"","","",null,1876,"",{"$f":"IF(R1880=R1879,\"\",IF(E1880<>\"\",CONCATENATE(B1880,A1880,DIGITADOR!$M$1,C1880),\"\"))","v":""},null,{"$f":"IF(N1880=\"\",\"\",INDEX(referentes!S:T,MATCH(N1880,referentes!T:T,0),1))","v":""},null,{"$f":"IF(P1880=\"\",\"\",INDEX(referentes!Y:Z,MATCH(P1880,referentes!Z:Z,0),1))","v":""},"","",null,null,null,null,null,{"$f":"IF(X1880=\"\",\"\",INDEX(referentes!J:K,MATCH(X1880,referentes!J:J,0),2))","v":""},null,null,""]
["30000401000000",null,0,{"$f":"IF(E1881<>\"\",CONCATENATE(B1881,A1881,DIGITADOR!$M$1,C1881),\"\")","v":""},null,null,"","","",null,1877,"",{"$f":"IF(R1881=R1880,\"\",IF(E1881<>\"\",CONCATENATE(B1881,A1881,DIGITADOR!$M$1,C1881),\"\"))","v":""},null,{"$f":"IF(N1881=\"\",\"\",INDEX(referentes!S:T,MATCH(N1881,referentes!T:T,0),1))","v":""},null,{"$f":"IF(P1881=\"\",\"\",INDEX(referentes!Y:Z,MATCH(P1881,referentes!Z:Z,0),1))","v":""},"","",null,null,null,null,null,{"$f":"IF(X1881=\"\",\"\",INDEX(referentes!J:K,MATCH(X1881,referentes!J:J,0),2))","v":""},null,null,""]
["30000401000000",null,0,{"$f":"IF(E1882<>\"\",CONCATENATE(B1882,A1882,DIGITADOR!$M$1,C1882),\"\")","v":""},null,null,"","","",null,1878,"",{"$f":"IF(R1882=R1881,\"\",IF(E1882<>\"\",CONCATENATE(B1882,A1882,DIGITADOR!$M$1,C1882),\"\"))","v":""},null,{"$f":"IF(N1882=\"\",\"\",INDEX(referentes!S:T,MATCH(N1882,referentes!T:T,0),1))","v":""},null,{"$f":"IF(P1882=\"\",\"\",INDEX(referentes!Y:Z,MATCH(P1882,referentes!Z:Z,0),1))","v":""},"","",null,null,null,null,null,{"$f":"IF(X1882=\"\",\"\",INDEX(referentes!J:K,MATCH(X1882,referentes!J:J,0),2))","v":""},null,null,""]
["30000401000000",null,0,{"$f":"IF(E1883<>\"\",CONCATENATE(B1883,A1883,DIGITADOR!$M$1,C1883),\"\")","v":""},null,null,"","","",null,1879,"",{"$f":"IF(R1883=R1882,\"\",IF(E1883<>\"\",CONCATENATE(B1883,A1883,DIGITADOR!$M$1,C1883),\"\"))","v":""},null,{"$f":"IF(N1883=\"\",\"\",INDEX(referentes!S:T,MATCH(N1883,referentes!T:T,0),1))","v":""},null,{"$f":"IF(P1883=\"\",\"\",INDEX(referentes!Y:Z,MATCH(P1883,referentes!Z:Z,0),1))","v":""},"","",null,null,null,null,null,{"$f":"IF(X1883=\"\",\"\",INDEX(referentes!J:K,MATCH(X1883,referentes!J:J,0),2))","v":""},null,null,""]
["30000401000000",null,0,{"$f":"IF(E1884<>\"\",CONCATENATE(B1884,A1884,DIGITADOR!$M$1,C1884),\"\")","v":""},null,null,"","","",null,1880,"",{"$f":"IF(R1884=R1883,\"\",IF(E1884<>\"\",CONCATENATE(B1884,A1884,DIGITADOR!$M$1,C1884),\"\"))","v":""},null,{"$f":"IF(N1884=\"\",\"\",INDEX(referentes!S:T,MATCH(N1884,referentes!T:T,0),1))","v":""},null,{"$f":"IF(P1884=\"\",\"\",INDEX(referentes!Y:Z,MATCH(P1884,referentes!Z:Z,0),1))","v":""},"","",null,null,null,null,null,{"$f":"IF(X1884=\"\",\"\",INDEX(referentes!J:K,MATCH(X1884,referentes!J:J,0),2))","v":""},null,null,""]
["30000401000000",null,0,{"$f":"IF(E1885<>\"\",CONCATENATE(B1885,A1885,DIGITADOR!$M$1,C1885),\"\")","v":""},null,null,"","","",null,1881,"",{"$f":"IF(R1885=R1884,\"\",IF(E1885<>\"\",CONCATENATE(B1885,A1885,DIGITADOR!$M$1,C1885),\"\"))","v":""},null,{"$f":"IF(N1885=\"\",\"\",INDEX(referentes!S:T,MATCH(N1885,referentes!T:T,0),1))","v":""},null,{"$f":"IF(P1885=\"\",\"\",INDEX(referentes!Y:Z,MATCH(P1885,referentes!Z:Z,0),1))","v":""},"","",null,null,null,null,null,{"$f":"IF(X1885=\"\",\"\",INDEX(referentes!J:K,MATCH(X1885,referentes!J:J,0),2))","v":""},null,null,""]
["30000401000000",null,0,{"$f":"IF(E1886<>\"\",CONCATENATE(B1886,A1886,DIGITADOR!$M$1,C1886),\"\")","v":""},null,null,"","","",null,1882,"",{"$f":"IF(R1886=R1885,\"\",IF(E1886<>\"\",CONCATENATE(B1886,A1886,DIGITADOR!$M$1,C1886),\"\"))","v":""},null,{"$f":"IF(N1886=\"\",\"\",INDEX(referentes!S:T,MATCH(N1886,referentes!T:T,0),1))","v":""},null,{"$f":"IF(P1886=\"\",\"\",INDEX(referentes!Y:Z,MATCH(P1886,referentes!Z:Z,0),1))","v":""},"","",null,null,null,null,null,{"$f":"IF(X1886=\"\",\"\",INDEX(referentes!J:K,MATCH(X1886,referentes!J:J,0),2))","v":""},null,null,""]
["30000401000000",null,0,{"$f":"IF(E1887<>\"\",CONCATENATE(B1887,A1887,DIGITADOR!$M$1,C1887),\"\")","v":""},null,null,"","","",null,1883,"",{"$f":"IF(R1887=R1886,\"\",IF(E1887<>\"\",CONCATENATE(B1887,A1887,DIGITADOR!$M$1,C1887),\"\"))","v":""},null,{"$f":"IF(N1887=\"\",\"\",INDEX(referentes!S:T,MATCH(N1887,referentes!T:T,0),1))","v":""},null,{"$f":"IF(P1887=\"\",\"\",INDEX(referentes!Y:Z,MATCH(P1887,referentes!Z:Z,0),1))","v":""},"","",null,null,null,null,null,{"$f":"IF(X1887=\"\",\"\",INDEX(referentes!J:K,MATCH(X1887,referentes!J:J,0),2))","v":""},null,null,""]
["30000401000000",null,0,{"$f":"IF(E1888<>\"\",CONCATENATE(B1888,A1888,DIGITADOR!$M$1,C1888),\"\")","v":""},null,null,"","","",null,1884,"",{"$f":"IF(R1888=R1887,\"\",IF(E1888<>\"\",CONCATENATE(B1888,A1888,DIGITADOR!$M$1,C1888),\"\"))","v":""},null,{"$f":"IF(N1888=\"\",\"\",INDEX(referentes!S:T,MATCH(N1888,referentes!T:T,0),1))","v":""},null,{"$f":"IF(P1888=\"\",\"\",INDEX(referentes!Y:Z,MATCH(P1888,referentes!Z:Z,0),1))","v":""},"","",null,null,null,null,null,{"$f":"IF(X1888=\"\",\"\",INDEX(referentes!J:K,MATCH(X1888,referentes!J:J,0),2))","v":""},null,null,""]
["30000401000000",null,0,{"$f":"IF(E1889<>\"\",CONCATENATE(B1889,A1889,DIGITADOR!$M$1,C1889),\"\")","v":""},null,null,"","","",null,1885,"",{"$f":"IF(R1889=R1888,\"\",IF(E1889<>\"\",CONCATENATE(B1889,A1889,DIGITADOR!$M$1,C1889),\"\"))","v":""},null,{"$f":"IF(N1889=\"\",\"\",INDEX(referentes!S:T,MATCH(N1889,referentes!T:T,0),1))","v":""},null,{"$f":"IF(P1889=\"\",\"\",INDEX(referentes!Y:Z,MATCH(P1889,referentes!Z:Z,0),1))","v":""},"","",null,null,null,null,null,{"$f":"IF(X1889=\"\",\"\",INDEX(referentes!J:K,MATCH(X1889,referentes!J:J,0),2))","v":""},null,null,""]
["30000401000000",null,0,{"$f":"IF(E1890<>\"\",CONCATENATE(B1890,A1890,DIGITADOR!$M$1,C1890),\"\")","v":""},null,null,"","","",null,1886,"",{"$f":"IF(R1890=R1889,\"\",IF(E1890<>\"\",CONCATENATE(B1890,A1890,DIGITADOR!$M$1,C1890),\"\"))","v":""},null,{"$f":"IF(N1890=\"\",\"\",INDEX(referentes!S:T,MATCH(N1890,referentes!T:T,0),1))","v":""},null,{"$f":"IF(P1890=\"\",\"\",INDEX(referentes!Y:Z,MATCH(P1890,referentes!Z:Z,0),1))","v":""},"","",null,null,null,null,null,{"$f":"IF(X1890=\"\",\"\",INDEX(referentes!J:K,MATCH(X1890,referentes!J:J,0),2))","v":""},null,null,""]
["30000401000000",null,0,{"$f":"IF(E1891<>\"\",CONCATENATE(B1891,A1891,DIGITADOR!$M$1,C1891),\"\")","v":""},null,null,"","","",null,1887,"",{"$f":"IF(R1891=R1890,\"\",IF(E1891<>\"\",CONCATENATE(B1891,A1891,DIGITADOR!$M$1,C1891),\"\"))","v":""},null,{"$f":"IF(N1891=\"\",\"\",INDEX(referentes!S:T,MATCH(N1891,referentes!T:T,0),1))","v":""},null,{"$f":"IF(P1891=\"\",\"\",INDEX(referentes!Y:Z,MATCH(P1891,referentes!Z:Z,0),1))","v":""},"","",null,null,null,null,null,{"$f":"IF(X1891=\"\",\"\",INDEX(referentes!J:K,MATCH(X1891,referentes!J:J,0),2))","v":""},null,null,""]
["30000401000000",null,0,{"$f":"IF(E1892<>\"\",CONCATENATE(B1892,A1892,DIGITADOR!$M$1,C1892),\"\")","v":""},null,null,"","","",null,1888,"",{"$f":"IF(R1892=R1891,\"\",IF(E1892<>\"\",CONCATENATE(B1892,A1892,DIGITADOR!$M$1,C1892),\"\"))","v":""},null,{"$f":"IF(N1892=\"\",\"\",INDEX(referentes!S:T,MATCH(N1892,referentes!T:T,0),1))","v":""},null,{"$f":"IF(P1892=\"\",\"\",INDEX(referentes!Y:Z,MATCH(P1892,referentes!Z:Z,0),1))","v":""},"","",null,null,null,null,null,{"$f":"IF(X1892=\"\",\"\",INDEX(referentes!J:K,MATCH(X1892,referentes!J:J,0),2))","v":""},null,null,""]
["30000401000000",null,0,{"$f":"IF(E1893<>\"\",CONCATENATE(B1893,A1893,DIGITADOR!$M$1,C1893),\"\")","v":""},null,null,"","","",null,1889,"",{"$f":"IF(R1893=R1892,\"\",IF(E1893<>\"\",CONCATENATE(B1893,A1893,DIGITADOR!$M$1,C1893),\"\"))","v":""},null,{"$f":"IF(N1893=\"\",\"\",INDEX(referentes!S:T,MATCH(N1893,referentes!T:T,0),1))","v":""},null,{"$f":"IF(P1893=\"\",\"\",INDEX(referentes!Y:Z,MATCH(P1893,referentes!Z:Z,0),1))","v":""},"","",null,null,null,null,null,{"$f":"IF(X1893=\"\",\"\",INDEX(referentes!J:K,MATCH(X1893,referentes!J:J,0),2))","v":""},null,null,""]
["30000401000000",null,0,{"$f":"IF(E1894<>\"\",CONCATENATE(B1894,A1894,DIGITADOR!$M$1,C1894),\"\")","v":""},null,null,"","","",null,1890,"",{"$f":"IF(R1894=R1893,\"\",IF(E1894<>\"\",CONCATENATE(B1894,A1894,DIGITADOR!$M$1,C1894),\"\"))","v":""},null,{"$f":"IF(N1894=\"\",\"\",INDEX(referentes!S:T,MATCH(N1894,referentes!T:T,0),1))","v":""},null,{"$f":"IF(P1894=\"\",\"\",INDEX(referentes!Y:Z,MATCH(P1894,referentes!Z:Z,0),1))","v":""},"","",null,null,null,null,null,{"$f":"IF(X1894=\"\",\"\",INDEX(referentes!J:K,MATCH(X1894,referentes!J:J,0),2))","v":""},null,null,""]
["30000401000000",null,0,{"$f":"IF(E1895<>\"\",CONCATENATE(B1895,A1895,DIGITADOR!$M$1,C1895),\"\")","v":""},null,null,"","","",null,1891,"",{"$f":"IF(R1895=R1894,\"\",IF(E1895<>\"\",CONCATENATE(B1895,A1895,DIGITADOR!$M$1,C1895),\"\"))","v":""},null,{"$f":"IF(N1895=\"\",\"\",INDEX(referentes!S:T,MATCH(N1895,referentes!T:T,0),1))","v":""},null,{"$f":"IF(P1895=\"\",\"\",INDEX(referentes!Y:Z,MATCH(P1895,referentes!Z:Z,0),1))","v":""},"","",null,null,null,null,null,{"$f":"IF(X1895=\"\",\"\",INDEX(referentes!J:K,MATCH(X1895,referentes!J:J,0),2))","v":""},null,null,""]
["30000401000000",null,0,{"$f":"IF(E1896<>\"\",CONCATENATE(B1896,A1896,DIGITADOR!$M$1,C1896),\"\")","v":""},null,null,"","","",null,1892,"",{"$f":"IF(R1896=R1895,\"\",IF(E1896<>\"\",CONCATENATE(B1896,A1896,DIGITADOR!$M$1,C1896),\"\"))","v":""},null,{"$f":"IF(N1896=\"\",\"\",INDEX(referentes!S:T,MATCH(N1896,referentes!T:T,0),1))","v":""},null,{"$f":"IF(P1896=\"\",\"\",INDEX(referentes!Y:Z,MATCH(P1896,referentes!Z:Z,0),1))","v":""},"","",null,null,null,null,null,{"$f":"IF(X1896=\"\",\"\",INDEX(referentes!J:K,MATCH(X1896,referentes!J:J,0),2))","v":""},null,null,""]
["30000401000000",null,0,{"$f":"IF(E1897<>\"\",CONCATENATE(B1897,A1897,DIGITADOR!$M$1,C1897),\"\")","v":""},null,null,"","","",null,1893,"",{"$f":"IF(R1897=R1896,\"\",IF(E1897<>\"\",CONCATENATE(B1897,A1897,DIGITADOR!$M$1,C1897),\"\"))","v":""},null,{"$f":"IF(N1897=\"\",\"\",INDEX(referentes!S:T,MATCH(N1897,referentes!T:T,0),1))","v":""},null,{"$f":"IF(P1897=\"\",\"\",INDEX(referentes!Y:Z,MATCH(P1897,referentes!Z:Z,0),1))","v":""},"","",null,null,null,null,null,{"$f":"IF(X1897=\"\",\"\",INDEX(referentes!J:K,MATCH(X1897,referentes!J:J,0),2))","v":""},null,null,""]
["30000401000000",null,0,{"$f":"IF(E1898<>\"\",CONCATENATE(B1898,A1898,DIGITADOR!$M$1,C1898),\"\")","v":""},null,null,"","","",null,1894,"",{"$f":"IF(R1898=R1897,\"\",IF(E1898<>\"\",CONCATENATE(B1898,A1898,DIGITADOR!$M$1,C1898),\"\"))","v":""},null,{"$f":"IF(N1898=\"\",\"\",INDEX(referentes!S:T,MATCH(N1898,referentes!T:T,0),1))","v":""},null,{"$f":"IF(P1898=\"\",\"\",INDEX(referentes!Y:Z,MATCH(P1898,referentes!Z:Z,0),1))","v":""},"","",null,null,null,null,null,{"$f":"IF(X1898=\"\",\"\",INDEX(referentes!J:K,MATCH(X1898,referentes!J:J,0),2))","v":""},null,null,""]
["30000401000000",null,0,{"$f":"IF(E1899<>\"\",CONCATENATE(B1899,A1899,DIGITADOR!$M$1,C1899),\"\")","v":""},null,null,"","","",null,1895,"",{"$f":"IF(R1899=R1898,\"\",IF(E1899<>\"\",CONCATENATE(B1899,A1899,DIGITADOR!$M$1,C1899),\"\"))","v":""},null,{"$f":"IF(N1899=\"\",\"\",INDEX(referentes!S:T,MATCH(N1899,referentes!T:T,0),1))","v":""},null,{"$f":"IF(P1899=\"\",\"\",INDEX(referentes!Y:Z,MATCH(P1899,referentes!Z:Z,0),1))","v":""},"","",null,null,null,null,null,{"$f":"IF(X1899=\"\",\"\",INDEX(referentes!J:K,MATCH(X1899,referentes!J:J,0),2))","v":""},null,null,""]
["30000401000000",null,0,{"$f":"IF(E1900<>\"\",CONCATENATE(B1900,A1900,DIGITADOR!$M$1,C1900),\"\")","v":""},null,null,"","","",null,1896,"",{"$f":"IF(R1900=R1899,\"\",IF(E1900<>\"\",CONCATENATE(B1900,A1900,DIGITADOR!$M$1,C1900),\"\"))","v":""},null,{"$f":"IF(N1900=\"\",\"\",INDEX(referentes!S:T,MATCH(N1900,referentes!T:T,0),1))","v":""},null,{"$f":"IF(P1900=\"\",\"\",INDEX(referentes!Y:Z,MATCH(P1900,referentes!Z:Z,0),1))","v":""},"","",null,null,null,null,null,{"$f":"IF(X1900=\"\",\"\",INDEX(referentes!J:K,MATCH(X1900,referentes!J:J,0),2))","v":""},null,null,""]
["30000401000000",null,0,{"$f":"IF(E1901<>\"\",CONCATENATE(B1901,A1901,DIGITADOR!$M$1,C1901),\"\")","v":""},null,null,"","","",null,1897,"",{"$f":"IF(R1901=R1900,\"\",IF(E1901<>\"\",CONCATENATE(B1901,A1901,DIGITADOR!$M$1,C1901),\"\"))","v":""},null,{"$f":"IF(N1901=\"\",\"\",INDEX(referentes!S:T,MATCH(N1901,referentes!T:T,0),1))","v":""},null,{"$f":"IF(P1901=\"\",\"\",INDEX(referentes!Y:Z,MATCH(P1901,referentes!Z:Z,0),1))","v":""},"","",null,null,null,null,null,{"$f":"IF(X1901=\"\",\"\",INDEX(referentes!J:K,MATCH(X1901,referentes!J:J,0),2))","v":""},null,null,""]
["30000401000000",null,0,{"$f":"IF(E1902<>\"\",CONCATENATE(B1902,A1902,DIGITADOR!$M$1,C1902),\"\")","v":""},null,null,"","","",null,1898,"",{"$f":"IF(R1902=R1901,\"\",IF(E1902<>\"\",CONCATENATE(B1902,A1902,DIGITADOR!$M$1,C1902),\"\"))","v":""},null,{"$f":"IF(N1902=\"\",\"\",INDEX(referentes!S:T,MATCH(N1902,referentes!T:T,0),1))","v":""},null,{"$f":"IF(P1902=\"\",\"\",INDEX(referentes!Y:Z,MATCH(P1902,referentes!Z:Z,0),1))","v":""},"","",null,null,null,null,null,{"$f":"IF(X1902=\"\",\"\",INDEX(referentes!J:K,MATCH(X1902,referentes!J:J,0),2))","v":""},null,null,""]
["30000401000000",null,0,{"$f":"IF(E1903<>\"\",CONCATENATE(B1903,A1903,DIGITADOR!$M$1,C1903),\"\")","v":""},null,null,"","","",null,1899,"",{"$f":"IF(R1903=R1902,\"\",IF(E1903<>\"\",CONCATENATE(B1903,A1903,DIGITADOR!$M$1,C1903),\"\"))","v":""},null,{"$f":"IF(N1903=\"\",\"\",INDEX(referentes!S:T,MATCH(N1903,referentes!T:T,0),1))","v":""},null,{"$f":"IF(P1903=\"\",\"\",INDEX(referentes!Y:Z,MATCH(P1903,referentes!Z:Z,0),1))","v":""},"","",null,null,null,null,null,{"$f":"IF(X1903=\"\",\"\",INDEX(referentes!J:K,MATCH(X1903,referentes!J:J,0),2))","v":""},null,null,""]
["30000401000000",null,0,{"$f":"IF(E1904<>\"\",CONCATENATE(B1904,A1904,DIGITADOR!$M$1,C1904),\"\")","v":""},null,null,"","","",null,1900,"",{"$f":"IF(R1904=R1903,\"\",IF(E1904<>\"\",CONCATENATE(B1904,A1904,DIGITADOR!$M$1,C1904),\"\"))","v":""},null,{"$f":"IF(N1904=\"\",\"\",INDEX(referentes!S:T,MATCH(N1904,referentes!T:T,0),1))","v":""},null,{"$f":"IF(P1904=\"\",\"\",INDEX(referentes!Y:Z,MATCH(P1904,referentes!Z:Z,0),1))","v":""},"","",null,null,null,null,null,{"$f":"IF(X1904=\"\",\"\",INDEX(referentes!J:K,MATCH(X1904,referentes!J:J,0),2))","v":""},null,null,""]
["30000401000000",null,0,{"$f":"IF(E1905<>\"\",CONCATENATE(B1905,A1905,DIGITADOR!$M$1,C1905),\"\")","v":""},null,null,"","","",null,1901,"",{"$f":"IF(R1905=R1904,\"\",IF(E1905<>\"\",CONCATENATE(B1905,A1905,DIGITADOR!$M$1,C1905),\"\"))","v":""},null,{"$f":"IF(N1905=\"\",\"\",INDEX(referentes!S:T,MATCH(N1905,referentes!T:T,0),1))","v":""},null,{"$f":"IF(P1905=\"\",\"\",INDEX(referentes!Y:Z,MATCH(P1905,referentes!Z:Z,0),1))","v":""},"","",null,null,null,null,null,{"$f":"IF(X1905=\"\",\"\",INDEX(referentes!J:K,MATCH(X1905,referentes!J:J,0),2))","v":""},null,null,""]
["30000401000000",null,0,{"$f":"IF(E1906<>\"\",CONCATENATE(B1906,A1906,DIGITADOR!$M$1,C1906),\"\")","v":""},null,null,"","","",null,1902,"",{"$f":"IF(R1906=R1905,\"\",IF(E1906<>\"\",CONCATENATE(B1906,A1906,DIGITADOR!$M$1,C1906),\"\"))","v":""},null,{"$f":"IF(N1906=\"\",\"\",INDEX(referentes!S:T,MATCH(N1906,referentes!T:T,0),1))","v":""},null,{"$f":"IF(P1906=\"\",\"\",INDEX(referentes!Y:Z,MATCH(P1906,referentes!Z:Z,0),1))","v":""},"","",null,null,null,null,null,{"$f":"IF(X1906=\"\",\"\",INDEX(referentes!J:K,MATCH(X1906,referentes!J:J,0),2))","v":""},null,null,""]
["30000401000000",null,0,{"$f":"IF(E1907<>\"\",CONCATENATE(B1907,A1907,DIGITADOR!$M$1,C1907),\"\")","v":""},null,null,"","","",null,1903,"",{"$f":"IF(R1907=R1906,\"\",IF(E1907<>\"\",CONCATENATE(B1907,A1907,DIGITADOR!$M$1,C1907),\"\"))","v":""},null,{"$f":"IF(N1907=\"\",\"\",INDEX(referentes!S:T,MATCH(N1907,referentes!T:T,0),1))","v":""},null,{"$f":"IF(P1907=\"\",\"\",INDEX(referentes!Y:Z,MATCH(P1907,referentes!Z:Z,0),1))","v":""},"","",null,null,null,null,null,{"$f":"IF(X1907=\"\",\"\",INDEX(referentes!J:K,MATCH(X1907,referentes!J:J,0),2))","v":""},null,null,""]
["30000401000000",null,0,{"$f":"IF(E1908<>\"\",CONCATENATE(B1908,A1908,DIGITADOR!$M$1,C1908),\"\")","v":""},null,null,"","","",null,1904,"",{"$f":"IF(R1908=R1907,\"\",IF(E1908<>\"\",CONCATENATE(B1908,A1908,DIGITADOR!$M$1,C1908),\"\"))","v":""},null,{"$f":"IF(N1908=\"\",\"\",INDEX(referentes!S:T,MATCH(N1908,referentes!T:T,0),1))","v":""},null,{"$f":"IF(P1908=\"\",\"\",INDEX(referentes!Y:Z,MATCH(P1908,referentes!Z:Z,0),1))","v":""},"","",null,null,null,null,null,{"$f":"IF(X1908=\"\",\"\",INDEX(referentes!J:K,MATCH(X1908,referentes!J:J,0),2))","v":""},null,null,""]
["30000401000000",null,0,{"$f":"IF(E1909<>\"\",CONCATENATE(B1909,A1909,DIGITADOR!$M$1,C1909),\"\")","v":""},null,null,"","","",null,1905,"",{"$f":"IF(R1909=R1908,\"\",IF(E1909<>\"\",CONCATENATE(B1909,A1909,DIGITADOR!$M$1,C1909),\"\"))","v":""},null,{"$f":"IF(N1909=\"\",\"\",INDEX(referentes!S:T,MATCH(N1909,referentes!T:T,0),1))","v":""},null,{"$f":"IF(P1909=\"\",\"\",INDEX(referentes!Y:Z,MATCH(P1909,referentes!Z:Z,0),1))","v":""},"","",null,null,null,null,null,{"$f":"IF(X1909=\"\",\"\",INDEX(referentes!J:K,MATCH(X1909,referentes!J:J,0),2))","v":""},null,null,""]
["30000401000000",null,0,{"$f":"IF(E1910<>\"\",CONCATENATE(B1910,A1910,DIGITADOR!$M$1,C1910),\"\")","v":""},null,null,"","","",null,1906,"",{"$f":"IF(R1910=R1909,\"\",IF(E1910<>\"\",CONCATENATE(B1910,A1910,DIGITADOR!$M$1,C1910),\"\"))","v":""},null,{"$f":"IF(N1910=\"\",\"\",INDEX(referentes!S:T,MATCH(N1910,referentes!T:T,0),1))","v":""},null,{"$f":"IF(P1910=\"\",\"\",INDEX(referentes!Y:Z,MATCH(P1910,referentes!Z:Z,0),1))","v":""},"","",null,null,null,null,null,{"$f":"IF(X1910=\"\",\"\",INDEX(referentes!J:K,MATCH(X1910,referentes!J:J,0),2))","v":""},null,null,""]
["30000401000000",null,0,{"$f":"IF(E1911<>\"\",CONCATENATE(B1911,A1911,DIGITADOR!$M$1,C1911),\"\")","v":""},null,null,"","","",null,1907,"",{"$f":"IF(R1911=R1910,\"\",IF(E1911<>\"\",CONCATENATE(B1911,A1911,DIGITADOR!$M$1,C1911),\"\"))","v":""},null,{"$f":"IF(N1911=\"\",\"\",INDEX(referentes!S:T,MATCH(N1911,referentes!T:T,0),1))","v":""},null,{"$f":"IF(P1911=\"\",\"\",INDEX(referentes!Y:Z,MATCH(P1911,referentes!Z:Z,0),1))","v":""},"","",null,null,null,null,null,{"$f":"IF(X1911=\"\",\"\",INDEX(referentes!J:K,MATCH(X1911,referentes!J:J,0),2))","v":""},null,null,""]
["30000401000000",null,0,{"$f":"IF(E1912<>\"\",CONCATENATE(B1912,A1912,DIGITADOR!$M$1,C1912),\"\")","v":""},null,null,"","","",null,1908,"",{"$f":"IF(R1912=R1911,\"\",IF(E1912<>\"\",CONCATENATE(B1912,A1912,DIGITADOR!$M$1,C1912),\"\"))","v":""},null,{"$f":"IF(N1912=\"\",\"\",INDEX(referentes!S:T,MATCH(N1912,referentes!T:T,0),1))","v":""},null,{"$f":"IF(P1912=\"\",\"\",INDEX(referentes!Y:Z,MATCH(P1912,referentes!Z:Z,0),1))","v":""},"","",null,null,null,null,null,{"$f":"IF(X1912=\"\",\"\",INDEX(referentes!J:K,MATCH(X1912,referentes!J:J,0),2))","v":""},null,null,""]
["30000401000000",null,0,{"$f":"IF(E1913<>\"\",CONCATENATE(B1913,A1913,DIGITADOR!$M$1,C1913),\"\")","v":""},null,null,"","","",null,1909,"",{"$f":"IF(R1913=R1912,\"\",IF(E1913<>\"\",CONCATENATE(B1913,A1913,DIGITADOR!$M$1,C1913),\"\"))","v":""},null,{"$f":"IF(N1913=\"\",\"\",INDEX(referentes!S:T,MATCH(N1913,referentes!T:T,0),1))","v":""},null,{"$f":"IF(P1913=\"\",\"\",INDEX(referentes!Y:Z,MATCH(P1913,referentes!Z:Z,0),1))","v":""},"","",null,null,null,null,null,{"$f":"IF(X1913=\"\",\"\",INDEX(referentes!J:K,MATCH(X1913,referentes!J:J,0),2))","v":""},null,null,""]
["30000401000000",null,0,{"$f":"IF(E1914<>\"\",CONCATENATE(B1914,A1914,DIGITADOR!$M$1,C1914),\"\")","v":""},null,null,"","","",null,1910,"",{"$f":"IF(R1914=R1913,\"\",IF(E1914<>\"\",CONCATENATE(B1914,A1914,DIGITADOR!$M$1,C1914),\"\"))","v":""},null,{"$f":"IF(N1914=\"\",\"\",INDEX(referentes!S:T,MATCH(N1914,referentes!T:T,0),1))","v":""},null,{"$f":"IF(P1914=\"\",\"\",INDEX(referentes!Y:Z,MATCH(P1914,referentes!Z:Z,0),1))","v":""},"","",null,null,null,null,null,{"$f":"IF(X1914=\"\",\"\",INDEX(referentes!J:K,MATCH(X1914,referentes!J:J,0),2))","v":""},null,null,""]
["30000401000000",null,0,{"$f":"IF(E1915<>\"\",CONCATENATE(B1915,A1915,DIGITADOR!$M$1,C1915),\"\")","v":""},null,null,"","","",null,1911,"",{"$f":"IF(R1915=R1914,\"\",IF(E1915<>\"\",CONCATENATE(B1915,A1915,DIGITADOR!$M$1,C1915),\"\"))","v":""},null,{"$f":"IF(N1915=\"\",\"\",INDEX(referentes!S:T,MATCH(N1915,referentes!T:T,0),1))","v":""},null,{"$f":"IF(P1915=\"\",\"\",INDEX(referentes!Y:Z,MATCH(P1915,referentes!Z:Z,0),1))","v":""},"","",null,null,null,null,null,{"$f":"IF(X1915=\"\",\"\",INDEX(referentes!J:K,MATCH(X1915,referentes!J:J,0),2))","v":""},null,null,""]
["30000401000000",null,0,{"$f":"IF(E1916<>\"\",CONCATENATE(B1916,A1916,DIGITADOR!$M$1,C1916),\"\")","v":""},null,null,"","","",null,1912,"",{"$f":"IF(R1916=R1915,\"\",IF(E1916<>\"\",CONCATENATE(B1916,A1916,DIGITADOR!$M$1,C1916),\"\"))","v":""},null,{"$f":"IF(N1916=\"\",\"\",INDEX(referentes!S:T,MATCH(N1916,referentes!T:T,0),1))","v":""},null,{"$f":"IF(P1916=\"\",\"\",INDEX(referentes!Y:Z,MATCH(P1916,referentes!Z:Z,0),1))","v":""},"","",null,null,null,null,null,{"$f":"IF(X1916=\"\",\"\",INDEX(referentes!J:K,MATCH(X1916,referentes!J:J,0),2))","v":""},null,null,""]
["30000401000000",null,0,{"$f":"IF(E1917<>\"\",CONCATENATE(B1917,A1917,DIGITADOR!$M$1,C1917),\"\")","v":""},null,null,"","","",null,1913,"",{"$f":"IF(R1917=R1916,\"\",IF(E1917<>\"\",CONCATENATE(B1917,A1917,DIGITADOR!$M$1,C1917),\"\"))","v":""},null,{"$f":"IF(N1917=\"\",\"\",INDEX(referentes!S:T,MATCH(N1917,referentes!T:T,0),1))","v":""},null,{"$f":"IF(P1917=\"\",\"\",INDEX(referentes!Y:Z,MATCH(P1917,referentes!Z:Z,0),1))","v":""},"","",null,null,null,null,null,{"$f":"IF(X1917=\"\",\"\",INDEX(referentes!J:K,MATCH(X1917,referentes!J:J,0),2))","v":""},null,null,""]
["30000401000000",null,0,{"$f":"IF(E1918<>\"\",CONCATENATE(B1918,A1918,DIGITADOR!$M$1,C1918),\"\")","v":""},null,null,"","","",null,1914,"",{"$f":"IF(R1918=R1917,\"\",IF(E1918<>\"\",CONCATENATE(B1918,A1918,DIGITADOR!$M$1,C1918),\"\"))","v":""},null,{"$f":"IF(N1918=\"\",\"\",INDEX(referentes!S:T,MATCH(N1918,referentes!T:T,0),1))","v":""},null,{"$f":"IF(P1918=\"\",\"\",INDEX(referentes!Y:Z,MATCH(P1918,referentes!Z:Z,0),1))","v":""},"","",null,null,null,null,null,{"$f":"IF(X1918=\"\",\"\",INDEX(referentes!J:K,MATCH(X1918,referentes!J:J,0),2))","v":""},null,null,""]
["30000401000000",null,0,{"$f":"IF(E1919<>\"\",CONCATENATE(B1919,A1919,DIGITADOR!$M$1,C1919),\"\")","v":""},null,null,"","","",null,1915,"",{"$f":"IF(R1919=R1918,\"\",IF(E1919<>\"\",CONCATENATE(B1919,A1919,DIGITADOR!$M$1,C1919),\"\"))","v":""},null,{"$f":"IF(N1919=\"\",\"\",INDEX(referentes!S:T,MATCH(N1919,referentes!T:T,0),1))","v":""},null,{"$f":"IF(P1919=\"\",\"\",INDEX(referentes!Y:Z,MATCH(P1919,referentes!Z:Z,0),1))","v":""},"","",null,null,null,null,null,{"$f":"IF(X1919=\"\",\"\",INDEX(referentes!J:K,MATCH(X1919,referentes!J:J,0),2))","v":""},null,null,""]
["30000401000000",null,0,{"$f":"IF(E1920<>\"\",CONCATENATE(B1920,A1920,DIGITADOR!$M$1,C1920),\"\")","v":""},null,null,"","","",null,1916,"",{"$f":"IF(R1920=R1919,\"\",IF(E1920<>\"\",CONCATENATE(B1920,A1920,DIGITADOR!$M$1,C1920),\"\"))","v":""},null,{"$f":"IF(N1920=\"\",\"\",INDEX(referentes!S:T,MATCH(N1920,referentes!T:T,0),1))","v":""},null,{"$f":"IF(P1920=\"\",\"\",INDEX(referentes!Y:Z,MATCH(P1920,referentes!Z:Z,0),1))","v":""},"","",null,null,null,null,null,{"$f":"IF(X1920=\"\",\"\",INDEX(referentes!J:K,MATCH(X1920,referentes!J:J,0),2))","v":""},null,null,""]
["30000401000000",null,0,{"$f":"IF(E1921<>\"\",CONCATENATE(B1921,A1921,DIGITADOR!$M$1,C1921),\"\")","v":""},null,null,"","","",null,1917,"",{"$f":"IF(R1921=R1920,\"\",IF(E1921<>\"\",CONCATENATE(B1921,A1921,DIGITADOR!$M$1,C1921),\"\"))","v":""},null,{"$f":"IF(N1921=\"\",\"\",INDEX(referentes!S:T,MATCH(N1921,referentes!T:T,0),1))","v":""},null,{"$f":"IF(P1921=\"\",\"\",INDEX(referentes!Y:Z,MATCH(P1921,referentes!Z:Z,0),1))","v":""},"","",null,null,null,null,null,{"$f":"IF(X1921=\"\",\"\",INDEX(referentes!J:K,MATCH(X1921,referentes!J:J,0),2))","v":""},null,null,""]
["30000401000000",null,0,{"$f":"IF(E1922<>\"\",CONCATENATE(B1922,A1922,DIGITADOR!$M$1,C1922),\"\")","v":""},null,null,"","","",null,1918,"",{"$f":"IF(R1922=R1921,\"\",IF(E1922<>\"\",CONCATENATE(B1922,A1922,DIGITADOR!$M$1,C1922),\"\"))","v":""},null,{"$f":"IF(N1922=\"\",\"\",INDEX(referentes!S:T,MATCH(N1922,referentes!T:T,0),1))","v":""},null,{"$f":"IF(P1922=\"\",\"\",INDEX(referentes!Y:Z,MATCH(P1922,referentes!Z:Z,0),1))","v":""},"","",null,null,null,null,null,{"$f":"IF(X1922=\"\",\"\",INDEX(referentes!J:K,MATCH(X1922,referentes!J:J,0),2))","v":""},null,null,""]
["30000401000000",null,0,{"$f":"IF(E1923<>\"\",CONCATENATE(B1923,A1923,DIGITADOR!$M$1,C1923),\"\")","v":""},null,null,"","","",null,1919,"",{"$f":"IF(R1923=R1922,\"\",IF(E1923<>\"\",CONCATENATE(B1923,A1923,DIGITADOR!$M$1,C1923),\"\"))","v":""},null,{"$f":"IF(N1923=\"\",\"\",INDEX(referentes!S:T,MATCH(N1923,referentes!T:T,0),1))","v":""},null,{"$f":"IF(P1923=\"\",\"\",INDEX(referentes!Y:Z,MATCH(P1923,referentes!Z:Z,0),1))","v":""},"","",null,null,null,null,null,{"$f":"IF(X1923=\"\",\"\",INDEX(referentes!J:K,MATCH(X1923,referentes!J:J,0),2))","v":""},null,null,""]
["30000401000000",null,0,{"$f":"IF(E1924<>\"\",CONCATENATE(B1924,A1924,DIGITADOR!$M$1,C1924),\"\")","v":""},null,null,"","","",null,1920,"",{"$f":"IF(R1924=R1923,\"\",IF(E1924<>\"\",CONCATENATE(B1924,A1924,DIGITADOR!$M$1,C1924),\"\"))","v":""},null,{"$f":"IF(N1924=\"\",\"\",INDEX(referentes!S:T,MATCH(N1924,referentes!T:T,0),1))","v":""},null,{"$f":"IF(P1924=\"\",\"\",INDEX(referentes!Y:Z,MATCH(P1924,referentes!Z:Z,0),1))","v":""},"","",null,null,null,null,null,{"$f":"IF(X1924=\"\",\"\",INDEX(referentes!J:K,MATCH(X1924,referentes!J:J,0),2))","v":""},null,null,""]
["30000401000000",null,{"$f":"IF(R1925=R1924,C1924,C1924+1)","v":0},{"$f":"IF(E1925<>\"\",CONCATENATE(B1925,A1925,DIGITADOR!$M$1,C1925),\"\")","v":""},null,null,"","","",null,1921,"",{"$f":"IF(R1925=R1924,\"\",IF(E1925<>\"\",CONCATENATE(B1925,A1925,DIGITADOR!$M$1,C1925),\"\"))","v":""},null,{"$f":"IF(N1925=\"\",\"\",INDEX(referentes!S:T,MATCH(N1925,referentes!T:T,0),1))","v":""},null,{"$f":"IF(P1925=\"\",\"\",INDEX(referentes!Y:Z,MATCH(P1925,referentes!Z:Z,0),1))","v":""},"","",null,null,null,null,null,{"$f":"IF(X1925=\"\",\"\",INDEX(referentes!J:K,MATCH(X1925,referentes!J:J,0),2))","v":""},null,null,""]
["30000401000000",null,0,{"$f":"IF(E1926<>\"\",CONCATENATE(B1926,A1926,DIGITADOR!$M$1,C1926),\"\")","v":""},null,null,{"$f":"IF(E1926=\"\", \"\", (E1926+F1926))","v":""},{"$f":"IF(G1926<>\"\",MONTH(G1926),\"\")","v":""},{"$f":"IF(D1926=\"\",\"\",1)","v":""},null,1922,{"$f":"IF(E1926=\"\",\"\",CONCATENATE(D1926,K1926))","v":""},{"$f":"IF(R1926=R1925,\"\",IF(E1926<>\"\",CONCATENATE(B1926,A1926,DIGITADOR!$M$1,C1926),\"\"))","v":""},null,{"$f":"IF(N1926=\"\",\"\",INDEX(referentes!S:T,MATCH(N1926,referentes!T:T,0),1))","v":""},null,{"$f":"IF(P1926=\"\",\"\",INDEX(referentes!Y:Z,MATCH(P1926,referentes!Z:Z,0),1))","v":""},{"$f":"IF(G1926=\"\",\"\",CONCATENATE(G1926,O1926,Q1926))","v":""},{"$f":"IF(E1926=\"\",\"\",\"INVEMAR\")","v":""},null,null,null,null,null,{"$f":"IF(X1926=\"\",\"\",INDEX(referentes!J:K,MATCH(X1926,referentes!J:J,0),2))","v":""},null,null,{"$f":"IF(T1926=\"\",\"\",IF(T1926=T1925,AB1925,AA1926))","v":""}]
[{"$f":"A1926","v":"30000401000000"},null,0,{"$f":"IF(E1927<>\"\",CONCATENATE(B1927,A1927,DIGITADOR!$M$1,C1927),\"\")","v":""},null,null,"","","",null,1923,"",{"$f":"IF(R1927=R1926,\"\",IF(E1927<>\"\",CONCATENATE(B1927,A1927,DIGITADOR!$M$1,C1927),\"\"))","v":""},null,{"$f":"IF(N1927=\"\",\"\",INDEX(referentes!S:T,MATCH(N1927,referentes!T:T,0),1))","v":""},null,{"$f":"IF(P1927=\"\",\"\",INDEX(referentes!Y:Z,MATCH(P1927,referentes!Z:Z,0),1))","v":""},"","",null,null,null,null,null,{"$f":"IF(X1927=\"\",\"\",INDEX(referentes!J:K,MATCH(X1927,referentes!J:J,0),2))","v":""},null,null,""]
["30000401000000",null,0,{"$f":"IF(E1928<>\"\",CONCATENATE(B1928,A1928,DIGITADOR!$M$1,C1928),\"\")","v":""},null,null,"","","",null,1924,"",{"$f":"IF(R1928=R1927,\"\",IF(E1928<>\"\",CONCATENATE(B1928,A1928,DIGITADOR!$M$1,C1928),\"\"))","v":""},null,{"$f":"IF(N1928=\"\",\"\",INDEX(referentes!S:T,MATCH(N1928,referentes!T:T,0),1))","v":""},null,{"$f":"IF(P1928=\"\",\"\",INDEX(referentes!Y:Z,MATCH(P1928,referentes!Z:Z,0),1))","v":""},"","",null,null,null,null,null,{"$f":"IF(X1928=\"\",\"\",INDEX(referentes!J:K,MATCH(X1928,referentes!J:J,0),2))","v":""},null,null,""]
["30000401000000",null,0,{"$f":"IF(E1929<>\"\",CONCATENATE(B1929,A1929,DIGITADOR!$M$1,C1929),\"\")","v":""},null,null,"","","",null,1925,"",{"$f":"IF(R1929=R1928,\"\",IF(E1929<>\"\",CONCATENATE(B1929,A1929,DIGITADOR!$M$1,C1929),\"\"))","v":""},null,{"$f":"IF(N1929=\"\",\"\",INDEX(referentes!S:T,MATCH(N1929,referentes!T:T,0),1))","v":""},null,{"$f":"IF(P1929=\"\",\"\",INDEX(referentes!Y:Z,MATCH(P1929,referentes!Z:Z,0),1))","v":""},"","",null,null,null,null,null,{"$f":"IF(X1929=\"\",\"\",INDEX(referentes!J:K,MATCH(X1929,referentes!J:J,0),2))","v":""},null,null,""]
["30000401000000",null,0,{"$f":"IF(E1930<>\"\",CONCATENATE(B1930,A1930,DIGITADOR!$M$1,C1930),\"\")","v":""},null,null,"","","",null,1926,"",{"$f":"IF(R1930=R1929,\"\",IF(E1930<>\"\",CONCATENATE(B1930,A1930,DIGITADOR!$M$1,C1930),\"\"))","v":""},null,{"$f":"IF(N1930=\"\",\"\",INDEX(referentes!S:T,MATCH(N1930,referentes!T:T,0),1))","v":""},null,{"$f":"IF(P1930=\"\",\"\",INDEX(referentes!Y:Z,MATCH(P1930,referentes!Z:Z,0),1))","v":""},"","",null,null,null,null,null,{"$f":"IF(X1930=\"\",\"\",INDEX(referentes!J:K,MATCH(X1930,referentes!J:J,0),2))","v":""},null,null,""]
["30000401000000",null,0,{"$f":"IF(E1931<>\"\",CONCATENATE(B1931,A1931,DIGITADOR!$M$1,C1931),\"\")","v":""},null,null,"","","",null,1927,"",{"$f":"IF(R1931=R1930,\"\",IF(E1931<>\"\",CONCATENATE(B1931,A1931,DIGITADOR!$M$1,C1931),\"\"))","v":""},null,{"$f":"IF(N1931=\"\",\"\",INDEX(referentes!S:T,MATCH(N1931,referentes!T:T,0),1))","v":""},null,{"$f":"IF(P1931=\"\",\"\",INDEX(referentes!Y:Z,MATCH(P1931,referentes!Z:Z,0),1))","v":""},"","",null,null,null,null,null,{"$f":"IF(X1931=\"\",\"\",INDEX(referentes!J:K,MATCH(X1931,referentes!J:J,0),2))","v":""},null,null,""]
["30000401000000",null,0,{"$f":"IF(E1932<>\"\",CONCATENATE(B1932,A1932,DIGITADOR!$M$1,C1932),\"\")","v":""},null,null,"","","",null,1928,"",{"$f":"IF(R1932=R1931,\"\",IF(E1932<>\"\",CONCATENATE(B1932,A1932,DIGITADOR!$M$1,C1932),\"\"))","v":""},null,{"$f":"IF(N1932=\"\",\"\",INDEX(referentes!S:T,MATCH(N1932,referentes!T:T,0),1))","v":""},null,{"$f":"IF(P1932=\"\",\"\",INDEX(referentes!Y:Z,MATCH(P1932,referentes!Z:Z,0),1))","v":""},"","",null,null,null,null,null,{"$f":"IF(X1932=\"\",\"\",INDEX(referentes!J:K,MATCH(X1932,referentes!J:J,0),2))","v":""},null,null,""]
["30000401000000",null,0,{"$f":"IF(E1933<>\"\",CONCATENATE(B1933,A1933,DIGITADOR!$M$1,C1933),\"\")","v":""},null,null,"","","",null,1929,"",{"$f":"IF(R1933=R1932,\"\",IF(E1933<>\"\",CONCATENATE(B1933,A1933,DIGITADOR!$M$1,C1933),\"\"))","v":""},null,{"$f":"IF(N1933=\"\",\"\",INDEX(referentes!S:T,MATCH(N1933,referentes!T:T,0),1))","v":""},null,{"$f":"IF(P1933=\"\",\"\",INDEX(referentes!Y:Z,MATCH(P1933,referentes!Z:Z,0),1))","v":""},"","",null,null,null,null,null,{"$f":"IF(X1933=\"\",\"\",INDEX(referentes!J:K,MATCH(X1933,referentes!J:J,0),2))","v":""},null,null,""]
["30000401000000",null,0,{"$f":"IF(E1934<>\"\",CONCATENATE(B1934,A1934,DIGITADOR!$M$1,C1934),\"\")","v":""},null,null,"","","",null,1930,"",{"$f":"IF(R1934=R1933,\"\",IF(E1934<>\"\",CONCATENATE(B1934,A1934,DIGITADOR!$M$1,C1934),\"\"))","v":""},null,{"$f":"IF(N1934=\"\",\"\",INDEX(referentes!S:T,MATCH(N1934,referentes!T:T,0),1))","v":""},null,{"$f":"IF(P1934=\"\",\"\",INDEX(referentes!Y:Z,MATCH(P1934,referentes!Z:Z,0),1))","v":""},"","",null,null,null,null,null,{"$f":"IF(X1934=\"\",\"\",INDEX(referentes!J:K,MATCH(X1934,referentes!J:J,0),2))","v":""},null,null,""]
["30000401000000",null,0,{"$f":"IF(E1935<>\"\",CONCATENATE(B1935,A1935,DIGITADOR!$M$1,C1935),\"\")","v":""},null,null,"","","",null,1931,"",{"$f":"IF(R1935=R1934,\"\",IF(E1935<>\"\",CONCATENATE(B1935,A1935,DIGITADOR!$M$1,C1935),\"\"))","v":""},null,{"$f":"IF(N1935=\"\",\"\",INDEX(referentes!S:T,MATCH(N1935,referentes!T:T,0),1))","v":""},null,{"$f":"IF(P1935=\"\",\"\",INDEX(referentes!Y:Z,MATCH(P1935,referentes!Z:Z,0),1))","v":""},"","",null,null,null,null,null,{"$f":"IF(X1935=\"\",\"\",INDEX(referentes!J:K,MATCH(X1935,referentes!J:J,0),2))","v":""},null,null,""]
["30000401000000",null,0,{"$f":"IF(E1936<>\"\",CONCATENATE(B1936,A1936,DIGITADOR!$M$1,C1936),\"\")","v":""},null,null,"","","",null,1932,"",{"$f":"IF(R1936=R1935,\"\",IF(E1936<>\"\",CONCATENATE(B1936,A1936,DIGITADOR!$M$1,C1936),\"\"))","v":""},null,{"$f":"IF(N1936=\"\",\"\",INDEX(referentes!S:T,MATCH(N1936,referentes!T:T,0),1))","v":""},null,{"$f":"IF(P1936=\"\",\"\",INDEX(referentes!Y:Z,MATCH(P1936,referentes!Z:Z,0),1))","v":""},"","",null,null,null,null,null,{"$f":"IF(X1936=\"\",\"\",INDEX(referentes!J:K,MATCH(X1936,referentes!J:J,0),2))","v":""},null,null,""]
["30000401000000",null,0,{"$f":"IF(E1937<>\"\",CONCATENATE(B1937,A1937,DIGITADOR!$M$1,C1937),\"\")","v":""},null,null,"","","",null,1933,"",{"$f":"IF(R1937=R1936,\"\",IF(E1937<>\"\",CONCATENATE(B1937,A1937,DIGITADOR!$M$1,C1937),\"\"))","v":""},null,{"$f":"IF(N1937=\"\",\"\",INDEX(referentes!S:T,MATCH(N1937,referentes!T:T,0),1))","v":""},null,{"$f":"IF(P1937=\"\",\"\",INDEX(referentes!Y:Z,MATCH(P1937,referentes!Z:Z,0),1))","v":""},"","",null,null,null,null,null,{"$f":"IF(X1937=\"\",\"\",INDEX(referentes!J:K,MATCH(X1937,referentes!J:J,0),2))","v":""},null,null,""]
["30000401000000",null,0,{"$f":"IF(E1938<>\"\",CONCATENATE(B1938,A1938,DIGITADOR!$M$1,C1938),\"\")","v":""},null,null,"","","",null,1934,"",{"$f":"IF(R1938=R1937,\"\",IF(E1938<>\"\",CONCATENATE(B1938,A1938,DIGITADOR!$M$1,C1938),\"\"))","v":""},null,{"$f":"IF(N1938=\"\",\"\",INDEX(referentes!S:T,MATCH(N1938,referentes!T:T,0),1))","v":""},null,{"$f":"IF(P1938=\"\",\"\",INDEX(referentes!Y:Z,MATCH(P1938,referentes!Z:Z,0),1))","v":""},"","",null,null,null,null,null,{"$f":"IF(X1938=\"\",\"\",INDEX(referentes!J:K,MATCH(X1938,referentes!J:J,0),2))","v":""},null,null,""]
["30000401000000",null,0,{"$f":"IF(E1939<>\"\",CONCATENATE(B1939,A1939,DIGITADOR!$M$1,C1939),\"\")","v":""},null,null,"","","",null,1935,"",{"$f":"IF(R1939=R1938,\"\",IF(E1939<>\"\",CONCATENATE(B1939,A1939,DIGITADOR!$M$1,C1939),\"\"))","v":""},null,{"$f":"IF(N1939=\"\",\"\",INDEX(referentes!S:T,MATCH(N1939,referentes!T:T,0),1))","v":""},null,{"$f":"IF(P1939=\"\",\"\",INDEX(referentes!Y:Z,MATCH(P1939,referentes!Z:Z,0),1))","v":""},"","",null,null,null,null,null,{"$f":"IF(X1939=\"\",\"\",INDEX(referentes!J:K,MATCH(X1939,referentes!J:J,0),2))","v":""},null,null,""]
["30000401000000",null,0,{"$f":"IF(E1940<>\"\",CONCATENATE(B1940,A1940,DIGITADOR!$M$1,C1940),\"\")","v":""},null,null,"","","",null,1936,"",{"$f":"IF(R1940=R1939,\"\",IF(E1940<>\"\",CONCATENATE(B1940,A1940,DIGITADOR!$M$1,C1940),\"\"))","v":""},null,{"$f":"IF(N1940=\"\",\"\",INDEX(referentes!S:T,MATCH(N1940,referentes!T:T,0),1))","v":""},null,{"$f":"IF(P1940=\"\",\"\",INDEX(referentes!Y:Z,MATCH(P1940,referentes!Z:Z,0),1))","v":""},"","",null,null,null,null,null,{"$f":"IF(X1940=\"\",\"\",INDEX(referentes!J:K,MATCH(X1940,referentes!J:J,0),2))","v":""},null,null,""]
["30000401000000",null,0,{"$f":"IF(E1941<>\"\",CONCATENATE(B1941,A1941,DIGITADOR!$M$1,C1941),\"\")","v":""},null,null,"","","",null,1937,"",{"$f":"IF(R1941=R1940,\"\",IF(E1941<>\"\",CONCATENATE(B1941,A1941,DIGITADOR!$M$1,C1941),\"\"))","v":""},null,{"$f":"IF(N1941=\"\",\"\",INDEX(referentes!S:T,MATCH(N1941,referentes!T:T,0),1))","v":""},null,{"$f":"IF(P1941=\"\",\"\",INDEX(referentes!Y:Z,MATCH(P1941,referentes!Z:Z,0),1))","v":""},"","",null,null,null,null,null,{"$f":"IF(X1941=\"\",\"\",INDEX(referentes!J:K,MATCH(X1941,referentes!J:J,0),2))","v":""},null,null,""]
["30000401000000",null,0,{"$f":"IF(E1942<>\"\",CONCATENATE(B1942,A1942,DIGITADOR!$M$1,C1942),\"\")","v":""},null,null,"","","",null,1938,"",{"$f":"IF(R1942=R1941,\"\",IF(E1942<>\"\",CONCATENATE(B1942,A1942,DIGITADOR!$M$1,C1942),\"\"))","v":""},null,{"$f":"IF(N1942=\"\",\"\",INDEX(referentes!S:T,MATCH(N1942,referentes!T:T,0),1))","v":""},null,{"$f":"IF(P1942=\"\",\"\",INDEX(referentes!Y:Z,MATCH(P1942,referentes!Z:Z,0),1))","v":""},"","",null,null,null,null,null,{"$f":"IF(X1942=\"\",\"\",INDEX(referentes!J:K,MATCH(X1942,referentes!J:J,0),2))","v":""},null,null,""]
["30000401000000",null,0,{"$f":"IF(E1943<>\"\",CONCATENATE(B1943,A1943,DIGITADOR!$M$1,C1943),\"\")","v":""},null,null,"","","",null,1939,"",{"$f":"IF(R1943=R1942,\"\",IF(E1943<>\"\",CONCATENATE(B1943,A1943,DIGITADOR!$M$1,C1943),\"\"))","v":""},null,{"$f":"IF(N1943=\"\",\"\",INDEX(referentes!S:T,MATCH(N1943,referentes!T:T,0),1))","v":""},null,{"$f":"IF(P1943=\"\",\"\",INDEX(referentes!Y:Z,MATCH(P1943,referentes!Z:Z,0),1))","v":""},"","",null,null,null,null,null,{"$f":"IF(X1943=\"\",\"\",INDEX(referentes!J:K,MATCH(X1943,referentes!J:J,0),2))","v":""},null,null,""]
["30000401000000",null,0,{"$f":"IF(E1944<>\"\",CONCATENATE(B1944,A1944,DIGITADOR!$M$1,C1944),\"\")","v":""},null,null,"","","",null,1940,"",{"$f":"IF(R1944=R1943,\"\",IF(E1944<>\"\",CONCATENATE(B1944,A1944,DIGITADOR!$M$1,C1944),\"\"))","v":""},null,{"$f":"IF(N1944=\"\",\"\",INDEX(referentes!S:T,MATCH(N1944,referentes!T:T,0),1))","v":""},null,{"$f":"IF(P1944=\"\",\"\",INDEX(referentes!Y:Z,MATCH(P1944,referentes!Z:Z,0),1))","v":""},"","",null,null,null,null,null,{"$f":"IF(X1944=\"\",\"\",INDEX(referentes!J:K,MATCH(X1944,referentes!J:J,0),2))","v":""},null,null,""]
["30000401000000",null,0,{"$f":"IF(E1945<>\"\",CONCATENATE(B1945,A1945,DIGITADOR!$M$1,C1945),\"\")","v":""},null,null,"","","",null,1941,"",{"$f":"IF(R1945=R1944,\"\",IF(E1945<>\"\",CONCATENATE(B1945,A1945,DIGITADOR!$M$1,C1945),\"\"))","v":""},null,{"$f":"IF(N1945=\"\",\"\",INDEX(referentes!S:T,MATCH(N1945,referentes!T:T,0),1))","v":""},null,{"$f":"IF(P1945=\"\",\"\",INDEX(referentes!Y:Z,MATCH(P1945,referentes!Z:Z,0),1))","v":""},"","",null,null,null,null,null,{"$f":"IF(X1945=\"\",\"\",INDEX(referentes!J:K,MATCH(X1945,referentes!J:J,0),2))","v":""},null,null,""]
["30000401000000",null,0,{"$f":"IF(E1946<>\"\",CONCATENATE(B1946,A1946,DIGITADOR!$M$1,C1946),\"\")","v":""},null,null,"","","",null,1942,"",{"$f":"IF(R1946=R1945,\"\",IF(E1946<>\"\",CONCATENATE(B1946,A1946,DIGITADOR!$M$1,C1946),\"\"))","v":""},null,{"$f":"IF(N1946=\"\",\"\",INDEX(referentes!S:T,MATCH(N1946,referentes!T:T,0),1))","v":""},null,{"$f":"IF(P1946=\"\",\"\",INDEX(referentes!Y:Z,MATCH(P1946,referentes!Z:Z,0),1))","v":""},"","",null,null,null,null,null,{"$f":"IF(X1946=\"\",\"\",INDEX(referentes!J:K,MATCH(X1946,referentes!J:J,0),2))","v":""},null,null,""]
["30000401000000",null,0,{"$f":"IF(E1947<>\"\",CONCATENATE(B1947,A1947,DIGITADOR!$M$1,C1947),\"\")","v":""},null,null,"","","",null,1943,"",{"$f":"IF(R1947=R1946,\"\",IF(E1947<>\"\",CONCATENATE(B1947,A1947,DIGITADOR!$M$1,C1947),\"\"))","v":""},null,{"$f":"IF(N1947=\"\",\"\",INDEX(referentes!S:T,MATCH(N1947,referentes!T:T,0),1))","v":""},null,{"$f":"IF(P1947=\"\",\"\",INDEX(referentes!Y:Z,MATCH(P1947,referentes!Z:Z,0),1))","v":""},"","",null,null,null,null,null,{"$f":"IF(X1947=\"\",\"\",INDEX(referentes!J:K,MATCH(X1947,referentes!J:J,0),2))","v":""},null,null,""]
["30000401000000",null,0,{"$f":"IF(E1948<>\"\",CONCATENATE(B1948,A1948,DIGITADOR!$M$1,C1948),\"\")","v":""},null,null,"","","",null,1944,"",{"$f":"IF(R1948=R1947,\"\",IF(E1948<>\"\",CONCATENATE(B1948,A1948,DIGITADOR!$M$1,C1948),\"\"))","v":""},null,{"$f":"IF(N1948=\"\",\"\",INDEX(referentes!S:T,MATCH(N1948,referentes!T:T,0),1))","v":""},null,{"$f":"IF(P1948=\"\",\"\",INDEX(referentes!Y:Z,MATCH(P1948,referentes!Z:Z,0),1))","v":""},"","",null,null,null,null,null,{"$f":"IF(X1948=\"\",\"\",INDEX(referentes!J:K,MATCH(X1948,referentes!J:J,0),2))","v":""},null,null,""]
["30000401000000",null,0,{"$f":"IF(E1949<>\"\",CONCATENATE(B1949,A1949,DIGITADOR!$M$1,C1949),\"\")","v":""},null,null,"","","",null,1945,"",{"$f":"IF(R1949=R1948,\"\",IF(E1949<>\"\",CONCATENATE(B1949,A1949,DIGITADOR!$M$1,C1949),\"\"))","v":""},null,{"$f":"IF(N1949=\"\",\"\",INDEX(referentes!S:T,MATCH(N1949,referentes!T:T,0),1))","v":""},null,{"$f":"IF(P1949=\"\",\"\",INDEX(referentes!Y:Z,MATCH(P1949,referentes!Z:Z,0),1))","v":""},"","",null,null,null,null,null,{"$f":"IF(X1949=\"\",\"\",INDEX(referentes!J:K,MATCH(X1949,referentes!J:J,0),2))","v":""},null,null,""]
["30000401000000",null,0,{"$f":"IF(E1950<>\"\",CONCATENATE(B1950,A1950,DIGITADOR!$M$1,C1950),\"\")","v":""},null,null,"","","",null,1946,"",{"$f":"IF(R1950=R1949,\"\",IF(E1950<>\"\",CONCATENATE(B1950,A1950,DIGITADOR!$M$1,C1950),\"\"))","v":""},null,{"$f":"IF(N1950=\"\",\"\",INDEX(referentes!S:T,MATCH(N1950,referentes!T:T,0),1))","v":""},null,{"$f":"IF(P1950=\"\",\"\",INDEX(referentes!Y:Z,MATCH(P1950,referentes!Z:Z,0),1))","v":""},"","",null,null,null,null,null,{"$f":"IF(X1950=\"\",\"\",INDEX(referentes!J:K,MATCH(X1950,referentes!J:J,0),2))","v":""},null,null,""]
["30000401000000",null,0,{"$f":"IF(E1951<>\"\",CONCATENATE(B1951,A1951,DIGITADOR!$M$1,C1951),\"\")","v":""},null,null,"","","",null,1947,"",{"$f":"IF(R1951=R1950,\"\",IF(E1951<>\"\",CONCATENATE(B1951,A1951,DIGITADOR!$M$1,C1951),\"\"))","v":""},null,{"$f":"IF(N1951=\"\",\"\",INDEX(referentes!S:T,MATCH(N1951,referentes!T:T,0),1))","v":""},null,{"$f":"IF(P1951=\"\",\"\",INDEX(referentes!Y:Z,MATCH(P1951,referentes!Z:Z,0),1))","v":""},"","",null,null,null,null,null,{"$f":"IF(X1951=\"\",\"\",INDEX(referentes!J:K,MATCH(X1951,referentes!J:J,0),2))","v":""},null,null,""]
["30000401000000",null,0,{"$f":"IF(E1952<>\"\",CONCATENATE(B1952,A1952,DIGITADOR!$M$1,C1952),\"\")","v":""},null,null,"","","",null,1948,"",{"$f":"IF(R1952=R1951,\"\",IF(E1952<>\"\",CONCATENATE(B1952,A1952,DIGITADOR!$M$1,C1952),\"\"))","v":""},null,{"$f":"IF(N1952=\"\",\"\",INDEX(referentes!S:T,MATCH(N1952,referentes!T:T,0),1))","v":""},null,{"$f":"IF(P1952=\"\",\"\",INDEX(referentes!Y:Z,MATCH(P1952,referentes!Z:Z,0),1))","v":""},"","",null,null,null,null,null,{"$f":"IF(X1952=\"\",\"\",INDEX(referentes!J:K,MATCH(X1952,referentes!J:J,0),2))","v":""},null,null,""]
["30000401000000",null,0,{"$f":"IF(E1953<>\"\",CONCATENATE(B1953,A1953,DIGITADOR!$M$1,C1953),\"\")","v":""},null,null,"","","",null,1949,"",{"$f":"IF(R1953=R1952,\"\",IF(E1953<>\"\",CONCATENATE(B1953,A1953,DIGITADOR!$M$1,C1953),\"\"))","v":""},null,{"$f":"IF(N1953=\"\",\"\",INDEX(referentes!S:T,MATCH(N1953,referentes!T:T,0),1))","v":""},null,{"$f":"IF(P1953=\"\",\"\",INDEX(referentes!Y:Z,MATCH(P1953,referentes!Z:Z,0),1))","v":""},"","",null,null,null,null,null,{"$f":"IF(X1953=\"\",\"\",INDEX(referentes!J:K,MATCH(X1953,referentes!J:J,0),2))","v":""},null,null,""]
["30000401000000",null,0,{"$f":"IF(E1954<>\"\",CONCATENATE(B1954,A1954,DIGITADOR!$M$1,C1954),\"\")","v":""},null,null,"","","",null,1950,"",{"$f":"IF(R1954=R1953,\"\",IF(E1954<>\"\",CONCATENATE(B1954,A1954,DIGITADOR!$M$1,C1954),\"\"))","v":""},null,{"$f":"IF(N1954=\"\",\"\",INDEX(referentes!S:T,MATCH(N1954,referentes!T:T,0),1))","v":""},null,{"$f":"IF(P1954=\"\",\"\",INDEX(referentes!Y:Z,MATCH(P1954,referentes!Z:Z,0),1))","v":""},"","",null,null,null,null,null,{"$f":"IF(X1954=\"\",\"\",INDEX(referentes!J:K,MATCH(X1954,referentes!J:J,0),2))","v":""},null,null,""]
["30000401000000",null,0,{"$f":"IF(E1955<>\"\",CONCATENATE(B1955,A1955,DIGITADOR!$M$1,C1955),\"\")","v":""},null,null,"","","",null,1951,"",{"$f":"IF(R1955=R1954,\"\",IF(E1955<>\"\",CONCATENATE(B1955,A1955,DIGITADOR!$M$1,C1955),\"\"))","v":""},null,{"$f":"IF(N1955=\"\",\"\",INDEX(referentes!S:T,MATCH(N1955,referentes!T:T,0),1))","v":""},null,{"$f":"IF(P1955=\"\",\"\",INDEX(referentes!Y:Z,MATCH(P1955,referentes!Z:Z,0),1))","v":""},"","",null,null,null,null,null,{"$f":"IF(X1955=\"\",\"\",INDEX(referentes!J:K,MATCH(X1955,referentes!J:J,0),2))","v":""},null,null,""]
["30000401000000",null,0,{"$f":"IF(E1956<>\"\",CONCATENATE(B1956,A1956,DIGITADOR!$M$1,C1956),\"\")","v":""},null,null,"","","",null,1952,"",{"$f":"IF(R1956=R1955,\"\",IF(E1956<>\"\",CONCATENATE(B1956,A1956,DIGITADOR!$M$1,C1956),\"\"))","v":""},null,{"$f":"IF(N1956=\"\",\"\",INDEX(referentes!S:T,MATCH(N1956,referentes!T:T,0),1))","v":""},null,{"$f":"IF(P1956=\"\",\"\",INDEX(referentes!Y:Z,MATCH(P1956,referentes!Z:Z,0),1))","v":""},"","",null,null,null,null,null,{"$f":"IF(X1956=\"\",\"\",INDEX(referentes!J:K,MATCH(X1956,referentes!J:J,0),2))","v":""},null,null,""]
["30000401000000",null,0,{"$f":"IF(E1957<>\"\",CONCATENATE(B1957,A1957,DIGITADOR!$M$1,C1957),\"\")","v":""},null,null,"","","",null,1953,"",{"$f":"IF(R1957=R1956,\"\",IF(E1957<>\"\",CONCATENATE(B1957,A1957,DIGITADOR!$M$1,C1957),\"\"))","v":""},null,{"$f":"IF(N1957=\"\",\"\",INDEX(referentes!S:T,MATCH(N1957,referentes!T:T,0),1))","v":""},null,{"$f":"IF(P1957=\"\",\"\",INDEX(referentes!Y:Z,MATCH(P1957,referentes!Z:Z,0),1))","v":""},"","",null,null,null,null,null,{"$f":"IF(X1957=\"\",\"\",INDEX(referentes!J:K,MATCH(X1957,referentes!J:J,0),2))","v":""},null,null,""]
["30000401000000",null,0,{"$f":"IF(E1958<>\"\",CONCATENATE(B1958,A1958,DIGITADOR!$M$1,C1958),\"\")","v":""},null,null,"","","",null,1954,"",{"$f":"IF(R1958=R1957,\"\",IF(E1958<>\"\",CONCATENATE(B1958,A1958,DIGITADOR!$M$1,C1958),\"\"))","v":""},null,{"$f":"IF(N1958=\"\",\"\",INDEX(referentes!S:T,MATCH(N1958,referentes!T:T,0),1))","v":""},null,{"$f":"IF(P1958=\"\",\"\",INDEX(referentes!Y:Z,MATCH(P1958,referentes!Z:Z,0),1))","v":""},"","",null,null,null,null,null,{"$f":"IF(X1958=\"\",\"\",INDEX(referentes!J:K,MATCH(X1958,referentes!J:J,0),2))","v":""},null,null,""]
["30000401000000",null,0,{"$f":"IF(E1959<>\"\",CONCATENATE(B1959,A1959,DIGITADOR!$M$1,C1959),\"\")","v":""},null,null,"","","",null,1955,"",{"$f":"IF(R1959=R1958,\"\",IF(E1959<>\"\",CONCATENATE(B1959,A1959,DIGITADOR!$M$1,C1959),\"\"))","v":""},null,{"$f":"IF(N1959=\"\",\"\",INDEX(referentes!S:T,MATCH(N1959,referentes!T:T,0),1))","v":""},null,{"$f":"IF(P1959=\"\",\"\",INDEX(referentes!Y:Z,MATCH(P1959,referentes!Z:Z,0),1))","v":""},"","",null,null,null,null,null,{"$f":"IF(X1959=\"\",\"\",INDEX(referentes!J:K,MATCH(X1959,referentes!J:J,0),2))","v":""},null,null,""]
["30000401000000",null,0,{"$f":"IF(E1960<>\"\",CONCATENATE(B1960,A1960,DIGITADOR!$M$1,C1960),\"\")","v":""},null,null,"","","",null,1956,"",{"$f":"IF(R1960=R1959,\"\",IF(E1960<>\"\",CONCATENATE(B1960,A1960,DIGITADOR!$M$1,C1960),\"\"))","v":""},null,{"$f":"IF(N1960=\"\",\"\",INDEX(referentes!S:T,MATCH(N1960,referentes!T:T,0),1))","v":""},null,{"$f":"IF(P1960=\"\",\"\",INDEX(referentes!Y:Z,MATCH(P1960,referentes!Z:Z,0),1))","v":""},"","",null,null,null,null,null,{"$f":"IF(X1960=\"\",\"\",INDEX(referentes!J:K,MATCH(X1960,referentes!J:J,0),2))","v":""},null,null,""]
["30000401000000",null,0,{"$f":"IF(E1961<>\"\",CONCATENATE(B1961,A1961,DIGITADOR!$M$1,C1961),\"\")","v":""},null,null,"","","",null,1957,"",{"$f":"IF(R1961=R1960,\"\",IF(E1961<>\"\",CONCATENATE(B1961,A1961,DIGITADOR!$M$1,C1961),\"\"))","v":""},null,{"$f":"IF(N1961=\"\",\"\",INDEX(referentes!S:T,MATCH(N1961,referentes!T:T,0),1))","v":""},null,{"$f":"IF(P1961=\"\",\"\",INDEX(referentes!Y:Z,MATCH(P1961,referentes!Z:Z,0),1))","v":""},"","",null,null,null,null,null,{"$f":"IF(X1961=\"\",\"\",INDEX(referentes!J:K,MATCH(X1961,referentes!J:J,0),2))","v":""},null,null,""]
["30000401000000",null,0,{"$f":"IF(E1962<>\"\",CONCATENATE(B1962,A1962,DIGITADOR!$M$1,C1962),\"\")","v":""},null,null,"","","",null,1958,"",{"$f":"IF(R1962=R1961,\"\",IF(E1962<>\"\",CONCATENATE(B1962,A1962,DIGITADOR!$M$1,C1962),\"\"))","v":""},null,{"$f":"IF(N1962=\"\",\"\",INDEX(referentes!S:T,MATCH(N1962,referentes!T:T,0),1))","v":""},null,{"$f":"IF(P1962=\"\",\"\",INDEX(referentes!Y:Z,MATCH(P1962,referentes!Z:Z,0),1))","v":""},"","",null,null,null,null,null,{"$f":"IF(X1962=\"\",\"\",INDEX(referentes!J:K,MATCH(X1962,referentes!J:J,0),2))","v":""},null,null,""]
["30000401000000",null,0,{"$f":"IF(E1963<>\"\",CONCATENATE(B1963,A1963,DIGITADOR!$M$1,C1963),\"\")","v":""},null,null,"","","",null,1959,"",{"$f":"IF(R1963=R1962,\"\",IF(E1963<>\"\",CONCATENATE(B1963,A1963,DIGITADOR!$M$1,C1963),\"\"))","v":""},null,{"$f":"IF(N1963=\"\",\"\",INDEX(referentes!S:T,MATCH(N1963,referentes!T:T,0),1))","v":""},null,{"$f":"IF(P1963=\"\",\"\",INDEX(referentes!Y:Z,MATCH(P1963,referentes!Z:Z,0),1))","v":""},"","",null,null,null,null,null,{"$f":"IF(X1963=\"\",\"\",INDEX(referentes!J:K,MATCH(X1963,referentes!J:J,0),2))","v":""},null,null,""]
["30000401000000",null,0,{"$f":"IF(E1964<>\"\",CONCATENATE(B1964,A1964,DIGITADOR!$M$1,C1964),\"\")","v":""},null,null,"","","",null,1960,"",{"$f":"IF(R1964=R1963,\"\",IF(E1964<>\"\",CONCATENATE(B1964,A1964,DIGITADOR!$M$1,C1964),\"\"))","v":""},null,{"$f":"IF(N1964=\"\",\"\",INDEX(referentes!S:T,MATCH(N1964,referentes!T:T,0),1))","v":""},null,{"$f":"IF(P1964=\"\",\"\",INDEX(referentes!Y:Z,MATCH(P1964,referentes!Z:Z,0),1))","v":""},"","",null,null,null,null,null,{"$f":"IF(X1964=\"\",\"\",INDEX(referentes!J:K,MATCH(X1964,referentes!J:J,0),2))","v":""},null,null,""]
["30000401000000",null,0,{"$f":"IF(E1965<>\"\",CONCATENATE(B1965,A1965,DIGITADOR!$M$1,C1965),\"\")","v":""},null,null,"","","",null,1961,"",{"$f":"IF(R1965=R1964,\"\",IF(E1965<>\"\",CONCATENATE(B1965,A1965,DIGITADOR!$M$1,C1965),\"\"))","v":""},null,{"$f":"IF(N1965=\"\",\"\",INDEX(referentes!S:T,MATCH(N1965,referentes!T:T,0),1))","v":""},null,{"$f":"IF(P1965=\"\",\"\",INDEX(referentes!Y:Z,MATCH(P1965,referentes!Z:Z,0),1))","v":""},"","",null,null,null,null,null,{"$f":"IF(X1965=\"\",\"\",INDEX(referentes!J:K,MATCH(X1965,referentes!J:J,0),2))","v":""},null,null,""]
["30000401000000",null,0,{"$f":"IF(E1966<>\"\",CONCATENATE(B1966,A1966,DIGITADOR!$M$1,C1966),\"\")","v":""},null,null,"","","",null,1962,"",{"$f":"IF(R1966=R1965,\"\",IF(E1966<>\"\",CONCATENATE(B1966,A1966,DIGITADOR!$M$1,C1966),\"\"))","v":""},null,{"$f":"IF(N1966=\"\",\"\",INDEX(referentes!S:T,MATCH(N1966,referentes!T:T,0),1))","v":""},null,{"$f":"IF(P1966=\"\",\"\",INDEX(referentes!Y:Z,MATCH(P1966,referentes!Z:Z,0),1))","v":""},"","",null,null,null,null,null,{"$f":"IF(X1966=\"\",\"\",INDEX(referentes!J:K,MATCH(X1966,referentes!J:J,0),2))","v":""},null,null,""]
["30000401000000",null,0,{"$f":"IF(E1967<>\"\",CONCATENATE(B1967,A1967,DIGITADOR!$M$1,C1967),\"\")","v":""},null,null,"","","",null,1963,"",{"$f":"IF(R1967=R1966,\"\",IF(E1967<>\"\",CONCATENATE(B1967,A1967,DIGITADOR!$M$1,C1967),\"\"))","v":""},null,{"$f":"IF(N1967=\"\",\"\",INDEX(referentes!S:T,MATCH(N1967,referentes!T:T,0),1))","v":""},null,{"$f":"IF(P1967=\"\",\"\",INDEX(referentes!Y:Z,MATCH(P1967,referentes!Z:Z,0),1))","v":""},"","",null,null,null,null,null,{"$f":"IF(X1967=\"\",\"\",INDEX(referentes!J:K,MATCH(X1967,referentes!J:J,0),2))","v":""},null,null,""]
["30000401000000",null,0,{"$f":"IF(E1968<>\"\",CONCATENATE(B1968,A1968,DIGITADOR!$M$1,C1968),\"\")","v":""},null,null,"","","",null,1964,"",{"$f":"IF(R1968=R1967,\"\",IF(E1968<>\"\",CONCATENATE(B1968,A1968,DIGITADOR!$M$1,C1968),\"\"))","v":""},null,{"$f":"IF(N1968=\"\",\"\",INDEX(referentes!S:T,MATCH(N1968,referentes!T:T,0),1))","v":""},null,{"$f":"IF(P1968=\"\",\"\",INDEX(referentes!Y:Z,MATCH(P1968,referentes!Z:Z,0),1))","v":""},"","",null,null,null,null,null,{"$f":"IF(X1968=\"\",\"\",INDEX(referentes!J:K,MATCH(X1968,referentes!J:J,0),2))","v":""},null,null,""]
["30000401000000",null,0,{"$f":"IF(E1969<>\"\",CONCATENATE(B1969,A1969,DIGITADOR!$M$1,C1969),\"\")","v":""},null,null,"","","",null,1965,"",{"$f":"IF(R1969=R1968,\"\",IF(E1969<>\"\",CONCATENATE(B1969,A1969,DIGITADOR!$M$1,C1969),\"\"))","v":""},null,{"$f":"IF(N1969=\"\",\"\",INDEX(referentes!S:T,MATCH(N1969,referentes!T:T,0),1))","v":""},null,{"$f":"IF(P1969=\"\",\"\",INDEX(referentes!Y:Z,MATCH(P1969,referentes!Z:Z,0),1))","v":""},"","",null,null,null,null,null,{"$f":"IF(X1969=\"\",\"\",INDEX(referentes!J:K,MATCH(X1969,referentes!J:J,0),2))","v":""},null,null,""]
["30000401000000",null,0,{"$f":"IF(E1970<>\"\",CONCATENATE(B1970,A1970,DIGITADOR!$M$1,C1970),\"\")","v":""},null,null,"","","",null,1966,"",{"$f":"IF(R1970=R1969,\"\",IF(E1970<>\"\",CONCATENATE(B1970,A1970,DIGITADOR!$M$1,C1970),\"\"))","v":""},null,{"$f":"IF(N1970=\"\",\"\",INDEX(referentes!S:T,MATCH(N1970,referentes!T:T,0),1))","v":""},null,{"$f":"IF(P1970=\"\",\"\",INDEX(referentes!Y:Z,MATCH(P1970,referentes!Z:Z,0),1))","v":""},"","",null,null,null,null,null,{"$f":"IF(X1970=\"\",\"\",INDEX(referentes!J:K,MATCH(X1970,referentes!J:J,0),2))","v":""},null,null,""]
["30000401000000",null,0,{"$f":"IF(E1971<>\"\",CONCATENATE(B1971,A1971,DIGITADOR!$M$1,C1971),\"\")","v":""},null,null,"","","",null,1967,"",{"$f":"IF(R1971=R1970,\"\",IF(E1971<>\"\",CONCATENATE(B1971,A1971,DIGITADOR!$M$1,C1971),\"\"))","v":""},null,{"$f":"IF(N1971=\"\",\"\",INDEX(referentes!S:T,MATCH(N1971,referentes!T:T,0),1))","v":""},null,{"$f":"IF(P1971=\"\",\"\",INDEX(referentes!Y:Z,MATCH(P1971,referentes!Z:Z,0),1))","v":""},"","",null,null,null,null,null,{"$f":"IF(X1971=\"\",\"\",INDEX(referentes!J:K,MATCH(X1971,referentes!J:J,0),2))","v":""},null,null,""]
["30000401000000",null,0,{"$f":"IF(E1972<>\"\",CONCATENATE(B1972,A1972,DIGITADOR!$M$1,C1972),\"\")","v":""},null,null,"","","",null,1968,"",{"$f":"IF(R1972=R1971,\"\",IF(E1972<>\"\",CONCATENATE(B1972,A1972,DIGITADOR!$M$1,C1972),\"\"))","v":""},null,{"$f":"IF(N1972=\"\",\"\",INDEX(referentes!S:T,MATCH(N1972,referentes!T:T,0),1))","v":""},null,{"$f":"IF(P1972=\"\",\"\",INDEX(referentes!Y:Z,MATCH(P1972,referentes!Z:Z,0),1))","v":""},"","",null,null,null,null,null,{"$f":"IF(X1972=\"\",\"\",INDEX(referentes!J:K,MATCH(X1972,referentes!J:J,0),2))","v":""},null,null,""]
["30000401000000",null,0,{"$f":"IF(E1973<>\"\",CONCATENATE(B1973,A1973,DIGITADOR!$M$1,C1973),\"\")","v":""},null,null,"","","",null,1969,"",{"$f":"IF(R1973=R1972,\"\",IF(E1973<>\"\",CONCATENATE(B1973,A1973,DIGITADOR!$M$1,C1973),\"\"))","v":""},null,{"$f":"IF(N1973=\"\",\"\",INDEX(referentes!S:T,MATCH(N1973,referentes!T:T,0),1))","v":""},null,{"$f":"IF(P1973=\"\",\"\",INDEX(referentes!Y:Z,MATCH(P1973,referentes!Z:Z,0),1))","v":""},"","",null,null,null,null,null,{"$f":"IF(X1973=\"\",\"\",INDEX(referentes!J:K,MATCH(X1973,referentes!J:J,0),2))","v":""},null,null,""]
["30000401000000",null,0,{"$f":"IF(E1974<>\"\",CONCATENATE(B1974,A1974,DIGITADOR!$M$1,C1974),\"\")","v":""},null,null,"","","",null,1970,"",{"$f":"IF(R1974=R1973,\"\",IF(E1974<>\"\",CONCATENATE(B1974,A1974,DIGITADOR!$M$1,C1974),\"\"))","v":""},null,{"$f":"IF(N1974=\"\",\"\",INDEX(referentes!S:T,MATCH(N1974,referentes!T:T,0),1))","v":""},null,{"$f":"IF(P1974=\"\",\"\",INDEX(referentes!Y:Z,MATCH(P1974,referentes!Z:Z,0),1))","v":""},"","",null,null,null,null,null,{"$f":"IF(X1974=\"\",\"\",INDEX(referentes!J:K,MATCH(X1974,referentes!J:J,0),2))","v":""},null,null,""]
["30000401000000",null,0,{"$f":"IF(E1975<>\"\",CONCATENATE(B1975,A1975,DIGITADOR!$M$1,C1975),\"\")","v":""},null,null,"","","",null,1971,"",{"$f":"IF(R1975=R1974,\"\",IF(E1975<>\"\",CONCATENATE(B1975,A1975,DIGITADOR!$M$1,C1975),\"\"))","v":""},null,{"$f":"IF(N1975=\"\",\"\",INDEX(referentes!S:T,MATCH(N1975,referentes!T:T,0),1))","v":""},null,{"$f":"IF(P1975=\"\",\"\",INDEX(referentes!Y:Z,MATCH(P1975,referentes!Z:Z,0),1))","v":""},"","",null,null,null,null,null,{"$f":"IF(X1975=\"\",\"\",INDEX(referentes!J:K,MATCH(X1975,referentes!J:J,0),2))","v":""},null,null,""]
["30000401000000",null,0,{"$f":"IF(E1976<>\"\",CONCATENATE(B1976,A1976,DIGITADOR!$M$1,C1976),\"\")","v":""},null,null,"","","",null,1972,"",{"$f":"IF(R1976=R1975,\"\",IF(E1976<>\"\",CONCATENATE(B1976,A1976,DIGITADOR!$M$1,C1976),\"\"))","v":""},null,{"$f":"IF(N1976=\"\",\"\",INDEX(referentes!S:T,MATCH(N1976,referentes!T:T,0),1))","v":""},null,{"$f":"IF(P1976=\"\",\"\",INDEX(referentes!Y:Z,MATCH(P1976,referentes!Z:Z,0),1))","v":""},"","",null,null,null,null,null,{"$f":"IF(X1976=\"\",\"\",INDEX(referentes!J:K,MATCH(X1976,referentes!J:J,0),2))","v":""},null,null,""]
["30000401000000",null,0,{"$f":"IF(E1977<>\"\",CONCATENATE(B1977,A1977,DIGITADOR!$M$1,C1977),\"\")","v":""},null,null,"","","",null,1973,"",{"$f":"IF(R1977=R1976,\"\",IF(E1977<>\"\",CONCATENATE(B1977,A1977,DIGITADOR!$M$1,C1977),\"\"))","v":""},null,{"$f":"IF(N1977=\"\",\"\",INDEX(referentes!S:T,MATCH(N1977,referentes!T:T,0),1))","v":""},null,{"$f":"IF(P1977=\"\",\"\",INDEX(referentes!Y:Z,MATCH(P1977,referentes!Z:Z,0),1))","v":""},"","",null,null,null,null,null,{"$f":"IF(X1977=\"\",\"\",INDEX(referentes!J:K,MATCH(X1977,referentes!J:J,0),2))","v":""},null,null,""]
["30000401000000",null,0,{"$f":"IF(E1978<>\"\",CONCATENATE(B1978,A1978,DIGITADOR!$M$1,C1978),\"\")","v":""},null,null,"","","",null,1974,"",{"$f":"IF(R1978=R1977,\"\",IF(E1978<>\"\",CONCATENATE(B1978,A1978,DIGITADOR!$M$1,C1978),\"\"))","v":""},null,{"$f":"IF(N1978=\"\",\"\",INDEX(referentes!S:T,MATCH(N1978,referentes!T:T,0),1))","v":""},null,{"$f":"IF(P1978=\"\",\"\",INDEX(referentes!Y:Z,MATCH(P1978,referentes!Z:Z,0),1))","v":""},"","",null,null,null,null,null,{"$f":"IF(X1978=\"\",\"\",INDEX(referentes!J:K,MATCH(X1978,referentes!J:J,0),2))","v":""},null,null,""]
["30000401000000",null,0,{"$f":"IF(E1979<>\"\",CONCATENATE(B1979,A1979,DIGITADOR!$M$1,C1979),\"\")","v":""},null,null,"","","",null,1975,"",{"$f":"IF(R1979=R1978,\"\",IF(E1979<>\"\",CONCATENATE(B1979,A1979,DIGITADOR!$M$1,C1979),\"\"))","v":""},null,{"$f":"IF(N1979=\"\",\"\",INDEX(referentes!S:T,MATCH(N1979,referentes!T:T,0),1))","v":""},null,{"$f":"IF(P1979=\"\",\"\",INDEX(referentes!Y:Z,MATCH(P1979,referentes!Z:Z,0),1))","v":""},"","",null,null,null,null,null,{"$f":"IF(X1979=\"\",\"\",INDEX(referentes!J:K,MATCH(X1979,referentes!J:J,0),2))","v":""},null,null,""]
["30000401000000",null,0,{"$f":"IF(E1980<>\"\",CONCATENATE(B1980,A1980,DIGITADOR!$M$1,C1980),\"\")","v":""},null,null,"","","",null,1976,"",{"$f":"IF(R1980=R1979,\"\",IF(E1980<>\"\",CONCATENATE(B1980,A1980,DIGITADOR!$M$1,C1980),\"\"))","v":""},null,{"$f":"IF(N1980=\"\",\"\",INDEX(referentes!S:T,MATCH(N1980,referentes!T:T,0),1))","v":""},null,{"$f":"IF(P1980=\"\",\"\",INDEX(referentes!Y:Z,MATCH(P1980,referentes!Z:Z,0),1))","v":""},"","",null,null,null,null,null,{"$f":"IF(X1980=\"\",\"\",INDEX(referentes!J:K,MATCH(X1980,referentes!J:J,0),2))","v":""},null,null,""]
["30000401000000",null,0,{"$f":"IF(E1981<>\"\",CONCATENATE(B1981,A1981,DIGITADOR!$M$1,C1981),\"\")","v":""},null,null,"","","",null,1977,"",{"$f":"IF(R1981=R1980,\"\",IF(E1981<>\"\",CONCATENATE(B1981,A1981,DIGITADOR!$M$1,C1981),\"\"))","v":""},null,{"$f":"IF(N1981=\"\",\"\",INDEX(referentes!S:T,MATCH(N1981,referentes!T:T,0),1))","v":""},null,{"$f":"IF(P1981=\"\",\"\",INDEX(referentes!Y:Z,MATCH(P1981,referentes!Z:Z,0),1))","v":""},"","",null,null,null,null,null,{"$f":"IF(X1981=\"\",\"\",INDEX(referentes!J:K,MATCH(X1981,referentes!J:J,0),2))","v":""},null,null,""]
["30000401000000",null,0,{"$f":"IF(E1982<>\"\",CONCATENATE(B1982,A1982,DIGITADOR!$M$1,C1982),\"\")","v":""},null,null,"","","",null,1978,"",{"$f":"IF(R1982=R1981,\"\",IF(E1982<>\"\",CONCATENATE(B1982,A1982,DIGITADOR!$M$1,C1982),\"\"))","v":""},null,{"$f":"IF(N1982=\"\",\"\",INDEX(referentes!S:T,MATCH(N1982,referentes!T:T,0),1))","v":""},null,{"$f":"IF(P1982=\"\",\"\",INDEX(referentes!Y:Z,MATCH(P1982,referentes!Z:Z,0),1))","v":""},"","",null,null,null,null,null,{"$f":"IF(X1982=\"\",\"\",INDEX(referentes!J:K,MATCH(X1982,referentes!J:J,0),2))","v":""},null,null,""]
["30000401000000",null,0,{"$f":"IF(E1983<>\"\",CONCATENATE(B1983,A1983,DIGITADOR!$M$1,C1983),\"\")","v":""},null,null,"","","",null,1979,"",{"$f":"IF(R1983=R1982,\"\",IF(E1983<>\"\",CONCATENATE(B1983,A1983,DIGITADOR!$M$1,C1983),\"\"))","v":""},null,{"$f":"IF(N1983=\"\",\"\",INDEX(referentes!S:T,MATCH(N1983,referentes!T:T,0),1))","v":""},null,{"$f":"IF(P1983=\"\",\"\",INDEX(referentes!Y:Z,MATCH(P1983,referentes!Z:Z,0),1))","v":""},"","",null,null,null,null,null,{"$f":"IF(X1983=\"\",\"\",INDEX(referentes!J:K,MATCH(X1983,referentes!J:J,0),2))","v":""},null,null,""]
["30000401000000",null,0,{"$f":"IF(E1984<>\"\",CONCATENATE(B1984,A1984,DIGITADOR!$M$1,C1984),\"\")","v":""},null,null,"","","",null,1980,"",{"$f":"IF(R1984=R1983,\"\",IF(E1984<>\"\",CONCATENATE(B1984,A1984,DIGITADOR!$M$1,C1984),\"\"))","v":""},null,{"$f":"IF(N1984=\"\",\"\",INDEX(referentes!S:T,MATCH(N1984,referentes!T:T,0),1))","v":""},null,{"$f":"IF(P1984=\"\",\"\",INDEX(referentes!Y:Z,MATCH(P1984,referentes!Z:Z,0),1))","v":""},"","",null,null,null,null,null,{"$f":"IF(X1984=\"\",\"\",INDEX(referentes!J:K,MATCH(X1984,referentes!J:J,0),2))","v":""},null,null,""]
["30000401000000",null,0,{"$f":"IF(E1985<>\"\",CONCATENATE(B1985,A1985,DIGITADOR!$M$1,C1985),\"\")","v":""},null,null,"","","",null,1981,"",{"$f":"IF(R1985=R1984,\"\",IF(E1985<>\"\",CONCATENATE(B1985,A1985,DIGITADOR!$M$1,C1985),\"\"))","v":""},null,{"$f":"IF(N1985=\"\",\"\",INDEX(referentes!S:T,MATCH(N1985,referentes!T:T,0),1))","v":""},null,{"$f":"IF(P1985=\"\",\"\",INDEX(referentes!Y:Z,MATCH(P1985,referentes!Z:Z,0),1))","v":""},"","",null,null,null,null,null,{"$f":"IF(X1985=\"\",\"\",INDEX(referentes!J:K,MATCH(X1985,referentes!J:J,0),2))","v":""},null,null,""]
["30000401000000",null,0,{"$f":"IF(E1986<>\"\",CONCATENATE(B1986,A1986,DIGITADOR!$M$1,C1986),\"\")","v":""},null,null,"","","",null,1982,"",{"$f":"IF(R1986=R1985,\"\",IF(E1986<>\"\",CONCATENATE(B1986,A1986,DIGITADOR!$M$1,C1986),\"\"))","v":""},null,{"$f":"IF(N1986=\"\",\"\",INDEX(referentes!S:T,MATCH(N1986,referentes!T:T,0),1))","v":""},null,{"$f":"IF(P1986=\"\",\"\",INDEX(referentes!Y:Z,MATCH(P1986,referentes!Z:Z,0),1))","v":""},"","",null,null,null,null,null,{"$f":"IF(X1986=\"\",\"\",INDEX(referentes!J:K,MATCH(X1986,referentes!J:J,0),2))","v":""},null,null,""]
["30000401000000",null,0,{"$f":"IF(E1987<>\"\",CONCATENATE(B1987,A1987,DIGITADOR!$M$1,C1987),\"\")","v":""},null,null,"","","",null,1983,"",{"$f":"IF(R1987=R1986,\"\",IF(E1987<>\"\",CONCATENATE(B1987,A1987,DIGITADOR!$M$1,C1987),\"\"))","v":""},null,{"$f":"IF(N1987=\"\",\"\",INDEX(referentes!S:T,MATCH(N1987,referentes!T:T,0),1))","v":""},null,{"$f":"IF(P1987=\"\",\"\",INDEX(referentes!Y:Z,MATCH(P1987,referentes!Z:Z,0),1))","v":""},"","",null,null,null,null,null,{"$f":"IF(X1987=\"\",\"\",INDEX(referentes!J:K,MATCH(X1987,referentes!J:J,0),2))","v":""},null,null,""]
["30000401000000",null,0,{"$f":"IF(E1988<>\"\",CONCATENATE(B1988,A1988,DIGITADOR!$M$1,C1988),\"\")","v":""},null,null,"","","",null,1984,"",{"$f":"IF(R1988=R1987,\"\",IF(E1988<>\"\",CONCATENATE(B1988,A1988,DIGITADOR!$M$1,C1988),\"\"))","v":""},null,{"$f":"IF(N1988=\"\",\"\",INDEX(referentes!S:T,MATCH(N1988,referentes!T:T,0),1))","v":""},null,{"$f":"IF(P1988=\"\",\"\",INDEX(referentes!Y:Z,MATCH(P1988,referentes!Z:Z,0),1))","v":""},"","",null,null,null,null,null,{"$f":"IF(X1988=\"\",\"\",INDEX(referentes!J:K,MATCH(X1988,referentes!J:J,0),2))","v":""},null,null,""]
["30000401000000",null,{"$f":"IF(R1989=R1988,C1988,C1988+1)","v":0},{"$f":"IF(E1989<>\"\",CONCATENATE(B1989,A1989,DIGITADOR!$M$1,C1989),\"\")","v":""},null,null,"","","",null,1985,"",{"$f":"IF(R1989=R1988,\"\",IF(E1989<>\"\",CONCATENATE(B1989,A1989,DIGITADOR!$M$1,C1989),\"\"))","v":""},null,{"$f":"IF(N1989=\"\",\"\",INDEX(referentes!S:T,MATCH(N1989,referentes!T:T,0),1))","v":""},null,{"$f":"IF(P1989=\"\",\"\",INDEX(referentes!Y:Z,MATCH(P1989,referentes!Z:Z,0),1))","v":""},"","",null,null,null,null,null,{"$f":"IF(X1989=\"\",\"\",INDEX(referentes!J:K,MATCH(X1989,referentes!J:J,0),2))","v":""},null,null,""]
["30000401000000",null,0,{"$f":"IF(E1990<>\"\",CONCATENATE(B1990,A1990,DIGITADOR!$M$1,C1990),\"\")","v":""},null,null,{"$f":"IF(E1990=\"\", \"\", (E1990+F1990))","v":""},{"$f":"IF(G1990<>\"\",MONTH(G1990),\"\")","v":""},{"$f":"IF(D1990=\"\",\"\",1)","v":""},null,1986,{"$f":"IF(E1990=\"\",\"\",CONCATENATE(D1990,K1990))","v":""},{"$f":"IF(R1990=R1989,\"\",IF(E1990<>\"\",CONCATENATE(B1990,A1990,DIGITADOR!$M$1,C1990),\"\"))","v":""},null,{"$f":"IF(N1990=\"\",\"\",INDEX(referentes!S:T,MATCH(N1990,referentes!T:T,0),1))","v":""},null,{"$f":"IF(P1990=\"\",\"\",INDEX(referentes!Y:Z,MATCH(P1990,referentes!Z:Z,0),1))","v":""},{"$f":"IF(G1990=\"\",\"\",CONCATENATE(G1990,O1990,Q1990))","v":""},{"$f":"IF(E1990=\"\",\"\",\"INVEMAR\")","v":""},null,null,null,null,null,{"$f":"IF(X1990=\"\",\"\",INDEX(referentes!J:K,MATCH(X1990,referentes!J:J,0),2))","v":""},null,null,{"$f":"IF(T1990=\"\",\"\",IF(T1990=T1989,AB1989,AA1990))","v":""}]
[{"$f":"A1990","v":"30000401000000"},null,0,{"$f":"IF(E1991<>\"\",CONCATENATE(B1991,A1991,DIGITADOR!$M$1,C1991),\"\")","v":""},null,null,"","","",null,1987,"",{"$f":"IF(R1991=R1990,\"\",IF(E1991<>\"\",CONCATENATE(B1991,A1991,DIGITADOR!$M$1,C1991),\"\"))","v":""},null,{"$f":"IF(N1991=\"\",\"\",INDEX(referentes!S:T,MATCH(N1991,referentes!T:T,0),1))","v":""},null,{"$f":"IF(P1991=\"\",\"\",INDEX(referentes!Y:Z,MATCH(P1991,referentes!Z:Z,0),1))","v":""},"","",null,null,null,null,null,{"$f":"IF(X1991=\"\",\"\",INDEX(referentes!J:K,MATCH(X1991,referentes!J:J,0),2))","v":""},null,null,""]
["30000401000000",null,0,{"$f":"IF(E1992<>\"\",CONCATENATE(B1992,A1992,DIGITADOR!$M$1,C1992),\"\")","v":""},null,null,"","","",null,1988,"",{"$f":"IF(R1992=R1991,\"\",IF(E1992<>\"\",CONCATENATE(B1992,A1992,DIGITADOR!$M$1,C1992),\"\"))","v":""},null,{"$f":"IF(N1992=\"\",\"\",INDEX(referentes!S:T,MATCH(N1992,referentes!T:T,0),1))","v":""},null,{"$f":"IF(P1992=\"\",\"\",INDEX(referentes!Y:Z,MATCH(P1992,referentes!Z:Z,0),1))","v":""},"","",null,null,null,null,null,{"$f":"IF(X1992=\"\",\"\",INDEX(referentes!J:K,MATCH(X1992,referentes!J:J,0),2))","v":""},null,null,""]
["30000401000000",null,0,{"$f":"IF(E1993<>\"\",CONCATENATE(B1993,A1993,DIGITADOR!$M$1,C1993),\"\")","v":""},null,null,"","","",null,1989,"",{"$f":"IF(R1993=R1992,\"\",IF(E1993<>\"\",CONCATENATE(B1993,A1993,DIGITADOR!$M$1,C1993),\"\"))","v":""},null,{"$f":"IF(N1993=\"\",\"\",INDEX(referentes!S:T,MATCH(N1993,referentes!T:T,0),1))","v":""},null,{"$f":"IF(P1993=\"\",\"\",INDEX(referentes!Y:Z,MATCH(P1993,referentes!Z:Z,0),1))","v":""},"","",null,null,null,null,null,{"$f":"IF(X1993=\"\",\"\",INDEX(referentes!J:K,MATCH(X1993,referentes!J:J,0),2))","v":""},null,null,""]
["30000401000000",null,0,{"$f":"IF(E1994<>\"\",CONCATENATE(B1994,A1994,DIGITADOR!$M$1,C1994),\"\")","v":""},null,null,"","","",null,1990,"",{"$f":"IF(R1994=R1993,\"\",IF(E1994<>\"\",CONCATENATE(B1994,A1994,DIGITADOR!$M$1,C1994),\"\"))","v":""},null,{"$f":"IF(N1994=\"\",\"\",INDEX(referentes!S:T,MATCH(N1994,referentes!T:T,0),1))","v":""},null,{"$f":"IF(P1994=\"\",\"\",INDEX(referentes!Y:Z,MATCH(P1994,referentes!Z:Z,0),1))","v":""},"","",null,null,null,null,null,{"$f":"IF(X1994=\"\",\"\",INDEX(referentes!J:K,MATCH(X1994,referentes!J:J,0),2))","v":""},null,null,""]
["30000401000000",null,0,{"$f":"IF(E1995<>\"\",CONCATENATE(B1995,A1995,DIGITADOR!$M$1,C1995),\"\")","v":""},null,null,"","","",null,1991,"",{"$f":"IF(R1995=R1994,\"\",IF(E1995<>\"\",CONCATENATE(B1995,A1995,DIGITADOR!$M$1,C1995),\"\"))","v":""},null,{"$f":"IF(N1995=\"\",\"\",INDEX(referentes!S:T,MATCH(N1995,referentes!T:T,0),1))","v":""},null,{"$f":"IF(P1995=\"\",\"\",INDEX(referentes!Y:Z,MATCH(P1995,referentes!Z:Z,0),1))","v":""},"","",null,null,null,null,null,{"$f":"IF(X1995=\"\",\"\",INDEX(referentes!J:K,MATCH(X1995,referentes!J:J,0),2))","v":""},null,null,""]
["30000401000000",null,0,{"$f":"IF(E1996<>\"\",CONCATENATE(B1996,A1996,DIGITADOR!$M$1,C1996),\"\")","v":""},null,null,"","","",null,1992,"",{"$f":"IF(R1996=R1995,\"\",IF(E1996<>\"\",CONCATENATE(B1996,A1996,DIGITADOR!$M$1,C1996),\"\"))","v":""},null,{"$f":"IF(N1996=\"\",\"\",INDEX(referentes!S:T,MATCH(N1996,referentes!T:T,0),1))","v":""},null,{"$f":"IF(P1996=\"\",\"\",INDEX(referentes!Y:Z,MATCH(P1996,referentes!Z:Z,0),1))","v":""},"","",null,null,null,null,null,{"$f":"IF(X1996=\"\",\"\",INDEX(referentes!J:K,MATCH(X1996,referentes!J:J,0),2))","v":""},null,null,""]
["30000401000000",null,0,{"$f":"IF(E1997<>\"\",CONCATENATE(B1997,A1997,DIGITADOR!$M$1,C1997),\"\")","v":""},null,null,"","","",null,1993,"",{"$f":"IF(R1997=R1996,\"\",IF(E1997<>\"\",CONCATENATE(B1997,A1997,DIGITADOR!$M$1,C1997),\"\"))","v":""},null,{"$f":"IF(N1997=\"\",\"\",INDEX(referentes!S:T,MATCH(N1997,referentes!T:T,0),1))","v":""},null,{"$f":"IF(P1997=\"\",\"\",INDEX(referentes!Y:Z,MATCH(P1997,referentes!Z:Z,0),1))","v":""},"","",null,null,null,null,null,{"$f":"IF(X1997=\"\",\"\",INDEX(referentes!J:K,MATCH(X1997,referentes!J:J,0),2))","v":""},null,null,""]
["30000401000000",null,0,{"$f":"IF(E1998<>\"\",CONCATENATE(B1998,A1998,DIGITADOR!$M$1,C1998),\"\")","v":""},null,null,"","","",null,1994,"",{"$f":"IF(R1998=R1997,\"\",IF(E1998<>\"\",CONCATENATE(B1998,A1998,DIGITADOR!$M$1,C1998),\"\"))","v":""},null,{"$f":"IF(N1998=\"\",\"\",INDEX(referentes!S:T,MATCH(N1998,referentes!T:T,0),1))","v":""},null,{"$f":"IF(P1998=\"\",\"\",INDEX(referentes!Y:Z,MATCH(P1998,referentes!Z:Z,0),1))","v":""},"","",null,null,null,null,null,{"$f":"IF(X1998=\"\",\"\",INDEX(referentes!J:K,MATCH(X1998,referentes!J:J,0),2))","v":""},null,null,""]
["30000401000000",null,0,{"$f":"IF(E1999<>\"\",CONCATENATE(B1999,A1999,DIGITADOR!$M$1,C1999),\"\")","v":""},null,null,"","","",null,1995,"",{"$f":"IF(R1999=R1998,\"\",IF(E1999<>\"\",CONCATENATE(B1999,A1999,DIGITADOR!$M$1,C1999),\"\"))","v":""},null,{"$f":"IF(N1999=\"\",\"\",INDEX(referentes!S:T,MATCH(N1999,referentes!T:T,0),1))","v":""},null,{"$f":"IF(P1999=\"\",\"\",INDEX(referentes!Y:Z,MATCH(P1999,referentes!Z:Z,0),1))","v":""},"","",null,null,null,null,null,{"$f":"IF(X1999=\"\",\"\",INDEX(referentes!J:K,MATCH(X1999,referentes!J:J,0),2))","v":""},null,null,""]
["30000401000000",null,0,{"$f":"IF(E2000<>\"\",CONCATENATE(B2000,A2000,DIGITADOR!$M$1,C2000),\"\")","v":""},null,null,"","","",null,1996,"",{"$f":"IF(R2000=R1999,\"\",IF(E2000<>\"\",CONCATENATE(B2000,A2000,DIGITADOR!$M$1,C2000),\"\"))","v":""},null,{"$f":"IF(N2000=\"\",\"\",INDEX(referentes!S:T,MATCH(N2000,referentes!T:T,0),1))","v":""},null,{"$f":"IF(P2000=\"\",\"\",INDEX(referentes!Y:Z,MATCH(P2000,referentes!Z:Z,0),1))","v":""},"","",null,null,null,null,null,{"$f":"IF(X2000=\"\",\"\",INDEX(referentes!J:K,MATCH(X2000,referentes!J:J,0),2))","v":""},null,null,""]
["30000401000000",null,0,{"$f":"IF(E2001<>\"\",CONCATENATE(B2001,A2001,DIGITADOR!$M$1,C2001),\"\")","v":""},null,null,"","","",null,1997,"",{"$f":"IF(R2001=R2000,\"\",IF(E2001<>\"\",CONCATENATE(B2001,A2001,DIGITADOR!$M$1,C2001),\"\"))","v":""},null,{"$f":"IF(N2001=\"\",\"\",INDEX(referentes!S:T,MATCH(N2001,referentes!T:T,0),1))","v":""},null,{"$f":"IF(P2001=\"\",\"\",INDEX(referentes!Y:Z,MATCH(P2001,referentes!Z:Z,0),1))","v":""},"","",null,null,null,null,null,{"$f":"IF(X2001=\"\",\"\",INDEX(referentes!J:K,MATCH(X2001,referentes!J:J,0),2))","v":""},null,null,""]
["30000401000000",null,0,{"$f":"IF(E2002<>\"\",CONCATENATE(B2002,A2002,DIGITADOR!$M$1,C2002),\"\")","v":""},null,null,"","","",null,1998,"",{"$f":"IF(R2002=R2001,\"\",IF(E2002<>\"\",CONCATENATE(B2002,A2002,DIGITADOR!$M$1,C2002),\"\"))","v":""},null,{"$f":"IF(N2002=\"\",\"\",INDEX(referentes!S:T,MATCH(N2002,referentes!T:T,0),1))","v":""},null,{"$f":"IF(P2002=\"\",\"\",INDEX(referentes!Y:Z,MATCH(P2002,referentes!Z:Z,0),1))","v":""},"","",null,null,null,null,null,{"$f":"IF(X2002=\"\",\"\",INDEX(referentes!J:K,MATCH(X2002,referentes!J:J,0),2))","v":""},null,null,""]
["30000401000000",null,0,{"$f":"IF(E2003<>\"\",CONCATENATE(B2003,A2003,DIGITADOR!$M$1,C2003),\"\")","v":""},null,null,"","","",null,1999,"",{"$f":"IF(R2003=R2002,\"\",IF(E2003<>\"\",CONCATENATE(B2003,A2003,DIGITADOR!$M$1,C2003),\"\"))","v":""},null,{"$f":"IF(N2003=\"\",\"\",INDEX(referentes!S:T,MATCH(N2003,referentes!T:T,0),1))","v":""},null,{"$f":"IF(P2003=\"\",\"\",INDEX(referentes!Y:Z,MATCH(P2003,referentes!Z:Z,0),1))","v":""},"","",null,null,null,null,null,{"$f":"IF(X2003=\"\",\"\",INDEX(referentes!J:K,MATCH(X2003,referentes!J:J,0),2))","v":""},null,null,""]
["30000401000000",null,0,{"$f":"IF(E2004<>\"\",CONCATENATE(B2004,A2004,DIGITADOR!$M$1,C2004),\"\")","v":""},null,null,"","","",null,2000,"",{"$f":"IF(R2004=R2003,\"\",IF(E2004<>\"\",CONCATENATE(B2004,A2004,DIGITADOR!$M$1,C2004),\"\"))","v":""},null,{"$f":"IF(N2004=\"\",\"\",INDEX(referentes!S:T,MATCH(N2004,referentes!T:T,0),1))","v":""},null,{"$f":"IF(P2004=\"\",\"\",INDEX(referentes!Y:Z,MATCH(P2004,referentes!Z:Z,0),1))","v":""},"","",null,null,null,null,null,{"$f":"IF(X2004=\"\",\"\",INDEX(referentes!J:K,MATCH(X2004,referentes!J:J,0),2))","v":""},null,null,""]

{"sheet":"referentes","index":4,"n_rows":366,"n_cols":26,"rows_kept":366,"cut":false,"hidden":false,"merged":[]}
[null,null,null,null,null,null,null,null,null,"cod_letras","descripcion"]
["Esponja","Esponja",null,"Erecta","Erecta",null,"AAGA","Agaricia agaricites",null,"AAGA","Agaricia agaricites","8.55.2460","CNIDARIA",null,null,null,null,null,48602,"Carros",7,"Carros","Carros-Banco de las Animas",null,3907,"Ameth  Vargas Campo"]
["Alga","Alga",null,"Incrustante","Incrustante",null,"AATL","Antipathes atlantica",null,"AATL","Antipathes atlantica","8.55.1300","CNIDARIA",null,null,null,null,null,48603,"Mussas",8,"Mussas","Mussas-Banco de las Animas",null,4408,"Andres Felipe Acosta Chaparro"]
["Coral","Coral",null,"Calcarea","Calcarea",null,"ABAR","Antipathes barbadensis",null,"ABAR","Antipathes barbadensis","8.55.6730","CNIDARIA",null,null,null,null,null,48604,"UNIMAG",9,"UNIMAG","UNIMAG-Banco de las Animas",null,3956,"Carlos Aponte"]
["Sustrato","Sustrato",null,"Tapete","Tapete",null,"ABER","Actinia bermudensis",null,"ABER","Actinia bermudensis","8.55.1680","CNIDARIA",null,null,null,null,null,null,null,null,null,null,null,1834,"Diana Isabel Gómez López"]
["Organismo","Organismo",null,"Frondosa","Frondosa",null,"ABRA","Amphiroa brasiliana",null,"ABRA","Amphiroa brasiliana","4026.55.320",null,null,null,null,null,null,null,null,null,null,null,null,1775,"Diego Duque"]
[null,null,null,"Costrosa","Costrosa",null,"ACER","Acropora cervicornis",null,"ACER","Acropora cervicornis","8.55.2380","CNIDARIA",null,null,null,null,null,null,null,null,null,null,null,3905,"Juan David González Corredor"]
[null,null,null,"Duro","Duro",null,"ACLA","Agelas clathrodes",null,"ACLA","Agelas clathrodes","4.55.196",null,null,null,null,null,null,null,null,null,null,null,null,8265,"Kevin Samuel Moreno"]
[null,null,null,"Blando","Blando",null,"ACON","Agelas conifera",null,"ACON","Agelas conifera","4.55.197",null,null,null,null,null,null,null,null,null,null,null,null,4227,"Laura Sanchez Valencia"]
[null,null,null,"Cascajo","Cascajo",null,"ACRO","Acropora sp.",null,"ACRO","Acropora sp.","8.46.820","CNIDARIA",null,null,null,null,null,null,null,null,null,null,null,1809,"Raul Navas Camacho"]
[null,null,null,"Arena","Arena",null,"ADIS","Agelas dispar",null,"ADIS","Agelas dispar","4.55.198",null,null,null,null,null,null,null,null,null,null,null,null,5749,"Shanly Carolina Coneo Gómez"]
[null,null,null,"Sedimento libre","Sedimento libre",null,"AELE","Actinoporus elegans",null,"AELE","Actinoporus elegans","8.55.6819","CNIDARIA"]
[null,null,null,"Roca","Roca",null,"AFRA","Agaricia fragilis",null,"AFRA","Agaricia fragilis","8.55.2520","CNIDARIA"]
[null,null,null,null,null,null,"AFUL","Aplysina fulva",null,"AFUL","Aplysina fulva","4.55.149"]
[null,null,null,null,null,null,"AGAR","Agaricia sp.",null,"AGAR","Agaricia sp.","8.46.830","CNIDARIA"]
[null,null,null,null,null,null,"AGEL","Agelas sp.",null,"AGEL","Agelas sp.","4.46.440"]
[null,null,null,null,null,null,"AGRA","Agaricia grahamae",null,"AGRA","Agaricia grahamae","8.55.6396","CNIDARIA"]
[null,null,null,null,null,null,"AHAN","Amphiroa hancockii",null,"AHAN","Amphiroa hancockii","4026.55.350"]
[null,null,null,null,null,null,"AHIR","Antipathes hirta",null,"AHIR","Antipathes hirta","8.55.6630","CNIDARIA"]
[null,null,null,null,null,null,"AHUM","Agaricia humilis",null,"AHUM","Agaricia humilis","8.55.6398","CNIDARIA"]
[null,null,null,null,null,null,"AKRE","Anthopleura krebsi",null,"AKRE","Anthopleura krebsi","8.55.6822","CNIDARIA"]
[null,null,null,null,null,null,"ALAM","Agaricia lamarcki",null,"ALAM","Agaricia lamarcki","8.55.2500","CNIDARIA"]
[null,null,null,null,null,null,"ALEN","Antipathes lenta",null,"ALEN","Antipathes lenta","8.55.5980","CNIDARIA"]
[null,null,null,null,null,null,"AMFR","Amphiroa fragilissima",null,"AMFR","Amphiroa fragilissima","4026.55.340"]
[null,null,null,null,null,null,"AMIR","Alicia mirabilis",null,"AMIR","Alicia mirabilis","8.55.1640","CNIDARIA"]
[null,null,null,null,null,null,"AMPH","Amphiroa sp.",null,"AMPH","Amphiroa sp.","4026.46.370"]
[null,null,null,null,null,null,"ANGR","Antipathes gracilis",null,"ANGR","Antipathes gracilis","8.55.1280","CNIDARIA"]
[null,null,null,null,null,null,"ANOC","Arachnanthus nocturnus",null,"ANOC","Arachnanthus nocturnus","8.18.80","CNIDARIA"]
[null,null,null,null,null,null,"ANTI","Antipathes sp.",null,"ANTI","Antipathes sp.","8.46.510","CNIDARIA"]
[null,null,null,null,null,null,"APAL","Acropora palmata",null,"APAL","Acropora palmata","8.55.2400","CNIDARIA"]
[null,null,null,null,null,null,"APAR","Aplysina archeri",null,"APAR","Aplysina archeri","4.55.146"]
[null,null,null,null,null,null,"APLY","Aplysina sp.",null,"APEN","Antipathes pennacea","8.55.1320","CNIDARIA"]
[null,null,null,null,null,null,"APRO","Acropora prolifera",null,"APLY","Aplysina sp.","4.46.320"]
[null,null,null,null,null,null,"ARIG","Amphiroa rigida",null,"APRO","Acropora prolifera","8.55.2420","CNIDARIA"]
[null,null,null,null,null,null,"ASCH","Agelas schmidti",null,"ARIG","Amphiroa rigida","4026.55.370"]
[null,null,null,null,null,null,"ASOL","Astrangia solitaria",null,"ASCH","Agelas schmidti","4.55.233"]
[null,null,null,null,null,null,"ASYD","Ascidia sydneiensis",null,"ASOL","Astrangia solitaria","8.55.3400","CNIDARIA"]
[null,null,null,null,null,null,"ATAG","Aiptasia tagetes",null,"ASYD","Ascidia sydneiensis","70.46.1059"]
[null,null,null,null,null,null,"ATAN","Antipathes tanacetum",null,"ATAG","Aiptasia tagetes","8.55.6820","CNIDARIA"]
[null,null,null,null,null,null,"ATEN","Agaricia tenuifolia",null,"ATAN","Antipathes tanacetum","8.55.6632","CNIDARIA"]
[null,null,null,null,null,null,"ATRI","Amphiroa tribulus",null,"ATEN","Agaricia tenuifolia","8.55.2480","CNIDARIA"]
[null,null,null,null,null,null,"AUND","Agaricia undata",null,"ATRI","Amphiroa tribulus","4026.55.390"]
[null,null,null,null,null,null,"AWIE","Agelas wiedenmyeri",null,"AUND","Agaricia undata","8.55.2540","CNIDARIA"]
[null,null,null,null,null,null,"DLAB","Diploria labyrinthiformis",null,"AWIE","Agelas wiedenmyeri","4.55.202"]
[null,null,null,null,null,null,"DNEG","Discosoma neglecta",null,"BALA","Balanophyllia sp.","8.46.1300","CNIDARIA"]
[null,null,null,null,null,null,"DNOD","Diodogorgia nodulifera",null,"BANN","Bartholomea annulata","8.55.1900","CNIDARIA"]
[null,null,null,null,null,null,"DSAN","Discosoma sanctithomae",null,"BART","Bartholomea sp.","8.46.720","CNIDARIA"]
[null,null,null,null,null,null,"DSTE","Dichocoenia stellaris",null,"BASB","Briareum asbestinum","8.55.60","CNIDARIA"]
[null,null,null,null,null,null,"DSTO","Dichocoenia stokesii",null,"BFLO","Balanophyllia floridana","8.55.6832","CNIDARIA"]
[null,null,null,null,null,null,"DSTR","Diploria strigosa",null,"BGRA","Bunodosoma granuliferum","8.55.1720","CNIDARIA"]
[null,null,null,null,null,null,"EBAR","Ellisella barbadensis",null,"BMON","Bostrychia montagnei","4026.55.3600"]
[null,null,null,null,null,null,"ECAL","Eunicea calyculata",null,"BRIA","Briareum sp.","8.46.50","CNIDARIA"]
[null,null,null,null,null,null,"ECAR","Erythropodium caribaeorum",null,"CALL","Cinachyra alloclada","4.55.238"]
[null,null,null,null,null,null,"ECFE","Ectyoplasia ferox",null,"CAMA","Caryophyllia maculata","8.46.1140","CNIDARIA"]
[null,null,null,null,null,null,"ECLA","Eunicea clavigera",null,"CARB","Cladocora arbuscula","8.55.3200","CNIDARIA"]
[null,null,null,null,null,null,"ECRU","Epicystis crucifer",null,"CARY","Caryophyllia sp.","8.46.1140","CNIDARIA"]
[null,null,null,null,null,null,"EELO","Ellisella elongata",null,"CASE","Caulerpa sertularioides","4020.55.17671"]
[null,null,null,null,null,null,"EFAS","Eusmilia fastigiata",null,"CAUL","Caulerpa sp.","4020.46.569"]
[null,null,null,null,null,null,"EFUS","Eunicea fusca",null,"CBRE","Colpophyllia breviserialis","8.55.2980","CNIDARIA"]
[null,null,null,null,null,null,"ELAC","Eunicea laciniata",null,"CCUP","Caulerpa cupressoides","4020.55.3578"]
[null,null,null,null,null,null,"ELLI","Ellisella sp.",null,"CFLO","Caryophyllia flos","8.55.6460","CNIDARIA"]
[null,null,null,null,null,null,"EMAM","Eunicea mammosa",null,"CGIG","Condylactis gigantea","8.55.1740","CNIDARIA"]
[null,null,null,null,null,null,"EPAL","Eunicea palmeri",null,"CIMM","Colangia immersa","8.55.6486","CNIDARIA"]
[null,null,null,null,null,null,"EPIN","Eunicea pinta",null,"CINA","Cinachyra sp.","4.46.469"]
[null,null,null,null,null,null,"ERYT","Erythropodium sp.",null,"CINT","Codium intertextum","4020.55.2573"]
[null,null,null,null,null,null,"ESUC","Eunicea succinea",null,"CLAD","Cladopsammia sp.","8.46.1915","CNIDARIA"]
[null,null,null,null,null,null,"ETOU","Eunicea tourneforti",null,"CLAN","Caulerpa lanuginosa","4020.55.21640"]
[null,null,null,null,null,null,"EUNI","Eunicea sp.",null,"CLDO","Cladocora sp.","8.46.970","CNIDARIA"]
[null,null,null,null,null,null,"EUSM","Eusmilia sp.",null,"CLEU","Cirrhipathes leutkeni","8.55.1360","CNIDARIA"]
[null,null,null,null,null,null,"FAVI","Favia sp.",null,"CLIO","Cliona sp.","4.46.375"]
[null,null,null,null,null,null,"FFRA","Favia fragum",null,"CMEX","Caulerpa mexicana","4020.55.10593"]
[null,null,null,null,null,null,"GALA","Galaxaura sp.",null,"CNAT","Colpophyllia natans","8.55.3000","CNIDARIA"]
[null,null,null,null,null,null,"GARD","Gardineroseris sp.",null,"CODI","Codium sp.","4020.46.570"]
[null,null,null,null,null,null,"GFLA","Gorgonia flabellum",null,"COEN","Coenocyathus sp.","8.46.1250","CNIDARIA"]
[null,null,null,null,null,null,"GMAR","Galaxaura marginata",null,"COLA","Colangia sp.","8.46.1900","CNIDARIA"]
[null,null,null,null,null,null,"GOBL","Galaxaura oblongata",null,"COLP","Colpophyllia sp.","8.46.950","CNIDARIA"]
[null,null,null,null,null,null,"GOMA","Gorgonia mariae",null,"COND","Condylactis sp.","8.46.660","CNIDARIA"]
[null,null,null,null,null,null,"GORG","Gorgonia sp.",null,"CPAS","Caulerpa paspaloides","4020.55.21645"]
[null,null,null,null,null,null,"GPLA","Gardineroseris planulata",null,"CPRO","Caulerpa prolifera","4020.55.14599"]
[null,null,null,null,null,null,"GRAC","Gracilaria sp.",null,"CRAC","Caulerpa racemosa","4020.55.16602"]
[null,null,null,null,null,null,"GSUB","Galaxaura subverticillata",null,"CRII","Carijoa riisei","8.55.40","CNIDARIA"]
[null,null,null,null,null,null,"GVEN","Gorgonia ventalina",null,"CSER","Caulerpa serrulata","4020.55.18613"]
[null,null,null,null,null,null,"HALI","Halimeda sp.",null,"CSIM","Colangia simplex","8.55.6834","CNIDARIA"]
[null,null,null,null,null,null,"HCOP","Halimeda copiosa",null,"CTAX","Caulerpa taxifolia","4020.55.19620"]
[null,null,null,null,null,null,"HCUC","Helioseris cucullata",null,"CTRI","Calliactis tricolor","8.55.1880","CNIDARIA"]
[null,null,null,null,null,null,"HDIS","Halimeda discoidea",null,"CVER","Caulerpa verticillata","4020.55.20621"]
[null,null,null,null,null,null,"HELI","Helioseris sp.",null,"DCAR","Discosoma carlgreni","8.55.4500","CNIDARIA"]
[null,null,null,null,null,null,"HFEE","Hippopodina feegeensis",null,"DCAV","Dictyosphaeria cavernosa","4020.55.750"]
[null,null,null,null,null,null,"HGOR","Halimeda goreaui",null,"DCLI","Diploria clivosa","8.55.2860","CNIDARIA"]
[null,null,null,null,null,null,"HINC","Halimeda incrassata",null,"DCYL","Dendrogyra cylindricus","8.55.3580","CNIDARIA"]
[null,null,null,null,null,null,"HLAC","Halimeda lacrimosa",null,"DDIC","Dictyota dichotoma","4024.55.265"]
[null,null,null,null,null,null,"HMON","Halimeda monile",null,"DICH","Dichocoenia sp.","8.46.1070","CNIDARIA"]
[null,null,null,null,null,null,"HOPU","Halimeda opuntia",null,"DICT","Dictyota sp.","4024.46.115"]
[null,null,null,null,null,null,"HPEN","Hypnogorgia pendula",null,"DIIA","Dictyosphaeria sp.","4020.46.743"]
[null,null,null,null,null,null,"HSPO","Hydroides spongicola",null,"DIIS","Dictyopteris sp.","4024.46.105"]
[null,null,null,null,null,null,"HTUN","Halimeda tuna",null,"DIPL","Diploria sp.","8.46.930","CNIDARIA"]
[null,null,null,null,null,null,"HUAT","Heterogorgia uatumani",null,"DISC","Discosoma sp.","8.46.1340","CNIDARIA"]
[null,null,null,null,null,null,"IBIR","Iotrochota birotulata",null,"DLAB","Diploria labyrinthiformis","8.55.2900","CNIDARIA"]
[null,null,null,null,null,null,"ICIL","Iciligorgia sp.",null,"DNEG","Discosoma neglecta","8.55.4460","CNIDARIA"]
[null,null,null,null,null,null,"IOBI","Iotrochota birotulata",null,"DNOD","Diodogorgia nodulifera","8.55.100","CNIDARIA"]
[null,null,null,null,null,null,"IRCI","Ircinia sp.",null,"DSAN","Discosoma sanctithomae","8.55.4480","CNIDARIA"]
[null,null,null,null,null,null,"IRIG","Isophyllastrea rigida",null,"DSTE","Dichocoenia stellaris","8.55.3560","CNIDARIA"]
[null,null,null,null,null,null,"ISCH","Iciligorgia schrammi",null,"DSTO","Dichocoenia stokesii","8.55.3540","CNIDARIA"]
[null,null,null,null,null,null,"ISIA","Isophyllia sp.",null,"DSTR","Diploria strigosa","8.55.2920","CNIDARIA"]
[null,null,null,null,null,null,"ISIN","Isophyllia sinuosa",null,"EBAR","Ellisella barbadensis","8.55.1180","CNIDARIA"]
[null,null,null,null,null,null,"ISOP","Isophyllastrea sp.",null,"ECAL","Eunicea calyculata","8.55.420","CNIDARIA"]
[null,null,null,null,null,null,"ISTR","Ircinia strobilina",null,"ECAR","Erythropodium caribaeorum","8.55.120","CNIDARIA"]
[null,null,null,null,null,null,"JADH","Jania adherens",null,"ECFE","Ectyoplasia ferox","4.55.76"]
[null,null,null,null,null,null,"JANI","Jania sp.",null,"ECLA","Eunicea clavigera","8.55.500","CNIDARIA"]
[null,null,null,null,null,null,"JRUB","Jania rubens",null,"ECRU","Epicystis crucifer","8.55.1780","CNIDARIA"]
[null,null,null,null,null,null,"LALB","Lophogorgia alba",null,"EELO","Ellisella elongata","8.55.1160","CNIDARIA"]
[null,null,null,null,null,null,"LCER","Liagora ceranoides",null,"EFAS","Eusmilia fastigiata","8.55.4000","CNIDARIA"]
[null,null,null,null,null,null,"LCOR","Lebrunia coralligens",null,"EFUS","Eunicea fusca","8.55.520","CNIDARIA"]
[null,null,null,null,null,null,"LCUC","Leptoseris cucullata",null,"ELAC","Eunicea laciniata","8.55.480","CNIDARIA"]
[null,null,null,null,null,null,"BANN","Bartholomea annulata",null,"ELLI","Ellisella sp.","8.46.430","CNIDARIA"]
[null,null,null,null,null,null,"BART","Bartholomea sp.",null,"EMAM","Eunicea mammosa","8.55.400","CNIDARIA"]
[null,null,null,null,null,null,"BASB","Briareum asbestinum",null,"EPAL","Eunicea palmeri","8.55.6836","CNIDARIA"]
[null,null,null,null,null,null,"BFLO","Balanophyllia floridana",null,"EPIN","Eunicea pinta","8.55.6838","CNIDARIA"]
[null,null,null,null,null,null,"BGRA","Bunodosoma granuliferum",null,"ERYT","Erythropodium sp.","8.46.100","CNIDARIA"]
[null,null,null,null,null,null,"BMON","Bostrychia montagnei",null,"ESUC","Eunicea succinea","8.55.340","CNIDARIA"]
[null,null,null,null,null,null,"BRIA","Briareum sp.",null,"ETOU","Eunicea tourneforti","8.55.440","CNIDARIA"]
[null,null,null,null,null,null,"CALL","Cinachyra alloclada",null,"EUNI","Eunicea sp.","8.46.310","CNIDARIA"]
[null,null,null,null,null,null,"CAMA","Caryophyllia maculata",null,"EUSM","Eusmilia sp.","8.46.1180","CNIDARIA"]
[null,null,null,null,null,null,"CARB","Cladocora arbuscula",null,"FAVI","Favia sp.","8.46.920","CNIDARIA"]
[null,null,null,null,null,null,"CARY","Caryophyllia sp.",null,"FFRA","Favia fragum","8.55.2840","CNIDARIA"]
[null,null,null,null,null,null,"CASE","Caulerpa sertularioides",null,"GALA","Galaxaura sp.","4026.46.590"]
[null,null,null,null,null,null,"CAUL","Caulerpa sp.",null,"GARD","Gardineroseris sp.","8.46.870","CNIDARIA"]
[null,null,null,null,null,null,"CBRE","Colpophyllia breviserialis",null,"GFLA","Gorgonia flabellum","8.55.1080","CNIDARIA"]
[null,null,null,null,null,null,"CCUP","Caulerpa cupressoides",null,"GMAR","Galaxaura marginata","4026.55.600"]
[null,null,null,null,null,null,"CFLO","Caryophyllia flos",null,"GOBL","Galaxaura oblongata","4026.55.660"]
[null,null,null,null,null,null,"CGIG","Condylactis gigantea",null,"GOMA","Gorgonia mariae","8.55.6840","CNIDARIA"]
[null,null,null,null,null,null,"CIMM","Colangia immersa",null,"GORG","Gorgonia sp.","8.46.400","CNIDARIA"]
[null,null,null,null,null,null,"CINA","Cinachyra sp.",null,"GPLA","Gardineroseris planulata","8.55.2680","CNIDARIA"]
[null,null,null,null,null,null,"CINT","Codium intertextum",null,"GRAC","Gracilaria sp.","4026.46.1150"]
[null,null,null,null,null,null,"CLAD","Cladopsammia sp.",null,"GSUB","Galaxaura subverticillata","4026.55.630"]
[null,null,null,null,null,null,"CLAN","Caulerpa lanuginosa",null,"GVEN","Gorgonia ventalina","8.55.1040","CNIDARIA"]
[null,null,null,null,null,null,"CLDO","Cladocora sp.",null,"HALI","Halimeda sp.","4020.46.783"]
[null,null,null,null,null,null,"CLEU","Cirrhipathes leutkeni",null,"HCOP","Halimeda copiosa","4020.55.654"]
[null,null,null,null,null,null,"CLIO","Cliona sp.",null,"HCUC","Helioseris cucullata","8.55.2580","CNIDARIA"]
[null,null,null,null,null,null,"CMEX","Caulerpa mexicana",null,"HDIS","Halimeda discoidea","4020.55.1655","CHLOROPHYTA",null,null,"HALIMEDACEAE"]
[null,null,null,null,null,null,"CNAT","Colpophyllia natans",null,"HELI","Helioseris sp.","8.46.850","CNIDARIA"]
[null,null,null,null,null,null,"CODI","Codium sp.",null,"HFEE","Hippopodina feegeensis","40.18.10"]
[null,null,null,null,null,null,"COEN","Coenocyathus sp.",null,"HGOR","Halimeda goreaui","4020.55.2656"]
[null,null,null,null,null,null,"COLA","Colangia sp.",null,"HINC","Halimeda incrassata","4020.55.4658"]
[null,null,null,null,null,null,"COLP","Colpophyllia sp.",null,"HLAC","Halimeda lacrimosa","4020.55.21670"]
[null,null,null,null,null,null,"COND","Condylactis sp.",null,"HMON","Halimeda monile","4020.55.5659"]
[null,null,null,null,null,null,"CPAS","Caulerpa paspaloides",null,"HOPU","Halimeda opuntia","4020.55.7660"]
[null,null,null,null,null,null,"CPRO","Caulerpa prolifera",null,"HPEN","Hypnogorgia pendula","8.55.6660","CNIDARIA"]
[null,null,null,null,null,null,"CRAC","Caulerpa racemosa",null,"HSPO","Hydroides spongicola","54.55.3180"]
[null,null,null,null,null,null,"CRII","Carijoa riisei",null,"HTUN","Halimeda tuna","4020.55.9662"]
[null,null,null,null,null,null,"CSER","Caulerpa serrulata",null,"HUAT","Heterogorgia uatumani","8.55.6842","CNIDARIA"]
[null,null,null,null,null,null,"CSIM","Colangia simplex",null,"IBIR","Iotrochota birotulata","4.55.55","Porifera",null,null,"IOTROCHOTIDAE"]
[null,null,null,null,null,null,"CTAX","Caulerpa taxifolia",null,"ICIL","Iciligorgia sp.","8.46.60","CNIDARIA"]
[null,null,null,null,null,null,"CTRI","Calliactis tricolor",null,"IOBI","Iotrochota birotulata","4.55.55"]
[null,null,null,null,null,null,"CVER","Caulerpa verticillata",null,"IRCI","Ircinia sp.","4.46.475"]
[null,null,null,null,null,null,"DCAR","Discosoma carlgreni",null,"IRIG","Isophyllastrea rigida","8.55.3700","CNIDARIA"]
[null,null,null,null,null,null,"DCAV","Dictyosphaeria cavernosa",null,"ISCH","Iciligorgia schrammi","8.55.80","CNIDARIA"]
[null,null,null,null,null,null,"DCLI","Diploria clivosa",null,"ISIA","Isophyllia sp.","8.46.1110","CNIDARIA"]
[null,null,null,null,null,null,"DCYL","Dendrogyra cylindricus",null,"ISIN","Isophyllia sinuosa","8.55.3680","CNIDARIA"]
[null,null,null,null,null,null,"DDIC","Dictyota dichotoma",null,"ISOP","Isophyllastrea sp.","8.46.1120","CNIDARIA"]
[null,null,null,null,null,null,"DICH","Dichocoenia sp.",null,"ISTR","Ircinia strobilina","4.55.131"]
[null,null,null,null,null,null,"DICT","Dictyota sp.",null,"JADH","Jania adherens","4026.55.240"]
[null,null,null,null,null,null,"DIIA","Dictyosphaeria sp.",null,"JANI","Jania sp.","4026.46.330"]
[null,null,null,null,null,null,"DIIS","Dictyopteris sp.",null,"JRUB","Jania rubens","4026.55.260"]
[null,null,null,null,null,null,"DIPL","Diploria sp.",null,"LALB","Lophogorgia alba","8.55.6848","CNIDARIA"]
[null,null,null,null,null,null,"DISC","Discosoma sp.",null,"LCER","Liagora ceranoides","4026.55.540"]
[null,null,null,null,null,null,"LDAN","Lebrunia danae",null,"LCOR","Lebrunia coralligens","8.55.1600","CNIDARIA"]
[null,null,null,null,null,null,"LEBR","Lebrunia sp.",null,"LCUC","Leptoseris cucullata","8.55.2580","CNIDARIA"]
[null,null,null,null,null,null,"LEPT","Leptoseris sp.",null,"LDAN","Lebrunia danae","8.55.1620","CNIDARIA"]
[null,null,null,null,null,null,"LFAR","Liagora farinosa",null,"LEBR","Lebrunia sp.","8.46.580","CNIDARIA"]
[null,null,null,null,null,null,"LGIA","Lophogorgia sp.",null,"LEPT","Leptoseris sp.","8.46.840","CNIDARIA"]
[null,null,null,null,null,null,"LHEB","Lophogorgia hebes",null,"LFAR","Liagora farinosa","4026.55.530"]
[null,null,null,null,null,null,"LIAG","Liagora sp.",null,"LGIA","Lophogorgia sp.","8.46.360","CNIDARIA"]
[null,null,null,null,null,null,"LMIN","Lophogorgia miniata",null,"LHEB","Lophogorgia hebes","8.55.6844","CNIDARIA"]
[null,null,null,null,null,null,"LMUC","Liagora mucosa",null,"LIAG","Liagora sp.","4026.46.530"]
[null,null,null,null,null,null,"LOBO","Lobophora sp.",null,"LMIN","Lophogorgia miniata","8.55.860","CNIDARIA"]
[null,null,null,null,null,null,"LOPH","Lophogorgi sp.",null,"LMUC","Liagora mucosa","4026.55.3590"]
[null,null,null,null,null,null,"LPIN","Liagora pinnata",null,"LOBO","Lobophora sp.","4024.46.125"]
[null,null,null,null,null,null,"LVAR","Lobophora variegata",null,"LOPH","Lophogorgi sp.","8.46.360","CNIDARIA"]
[null,null,null,null,null,null,"LVIR","Lophogorgia virgulata",null,"LPIN","Liagora pinnata","4026.55.3595"]
[null,null,null,null,null,null,"MADR","Madracis sp.",null,"LVAR","Lobophora variegata","4024.55.295"]
[null,null,null,null,null,null,"MALC","Millepora alcicornis",null,"LVIR","Lophogorgia virgulata","8.55.6846","CNIDARIA"]
[null,null,null,null,null,null,"MALI","Mycetophyllia aliciae",null,"MADR","Madracis sp.","8.46.800","CNIDARIA"]
[null,null,null,null,null,null,"MANG","Mussa angulosa",null,"MALC","Millepora alcicornis","8.55.5600","CNIDARIA"]
[null,null,null,null,null,null,"MANI","Manicina sp.",null,"MALI","Mycetophyllia aliciae","8.55.3800","CNIDARIA"]
[null,null,null,null,null,null,"MANN","Montastraea annularis",null,"MANG","Mussa angulosa","8.55.3640","CNIDARIA"]
[null,null,null,null,null,null,"MARE","Manicina areolata",null,"MANI","Manicina sp.","8.46.940","CNIDARIA"]
[null,null,null,null,null,null,"MART","Martensia sp.",null,"MANN","Montastraea annularis","8.55.3120","CNIDARIA"]
[null,null,null,null,null,null,"MATL","Muricea atlantica",null,"MARE","Manicina areolata","8.55.2940","CNIDARIA"]
[null,null,null,null,null,null,"MCAV","Montastraea cavernosa",null,"MART","Martensia sp.","4026.46.1930"]
[null,null,null,null,null,null,"MCOM","Millepora complanata",null,"MATL","Muricea atlantica","8.55.740","CNIDARIA"]
[null,null,null,null,null,null,"MDAN","Mycetophyllia danaana",null,"MCAV","Montastraea cavernosa","8.55.3140","CNIDARIA"]
[null,null,null,null,null,null,"MDEC","Madracis decactis",null,"MCOM","Millepora complanata","8.55.5620","CNIDARIA"]
[null,null,null,null,null,null,"MEAN","Meandrina sp.",null,"MDAN","Mycetophyllia danaana","8.55.3820","CNIDARIA"]
[null,null,null,null,null,null,"MELO","Muricea elongata",null,"MDEC","Madracis decactis","8.55.2140","CNIDARIA"]
[null,null,null,null,null,null,"MFAV","Montastraea faveolata",null,"MEAN","Meandrina sp.","8.46.1060","CNIDARIA"]
[null,null,null,null,null,null,"MFER","Mycetophyllia ferox",null,"MELO","Muricea elongata","8.55.720","CNIDARIA"]
[null,null,null,null,null,null,"MFLA","Muriceopsis flavida",null,"MFAV","Montastraea faveolata","8.55.3160","CNIDARIA"]
[null,null,null,null,null,null,"MFOR","Madracis formosa",null,"MFER","Mycetophyllia ferox","8.55.3720","CNIDARIA"]
[null,null,null,null,null,null,"MFRA","Montastraea franksi",null,"MFLA","Muriceopsis flavida","8.55.560","CNIDARIA"]
[null,null,null,null,null,null,"MILL","Millepora sp.",null,"MFOR","Madracis formosa","8.55.2120","CNIDARIA"]
[null,null,null,null,null,null,"MJAK","Meandrina jacksoni",null,"MFRA","Montastraea franksi","8.55.3180","CNIDARIA"]
[null,null,null,null,null,null,"MLAM","Mycetophyllia lamarckiana",null,"MILL","Millepora sp.","8.46.1720","CNIDARIA"]
[null,null,null,null,null,null,"MMAY","Manicina mayori",null,"MJAK","Meandrina jacksoni","8.46.1060"]
[null,null,null,null,null,null,"MMEA","Meandrina meandrites",null,"MLAM","Mycetophyllia lamarckiana","8.55.3840","CNIDARIA"]
[null,null,null,null,null,null,"MMIR","Madracis mirabilis",null,"MMAY","Manicina mayori","8.55.6850","CNIDARIA"]
[null,null,null,null,null,null,"MMUR","Muricea muricata",null,"MMEA","Meandrina meandrites","8.55.3520","CNIDARIA"]
[null,null,null,null,null,null,"MONT","Montastraea sp.",null,"MMIR","Madracis mirabilis","8.55.2160","CNIDARIA"]
[null,null,null,null,null,null,"MPEN","Muricea pendula",null,"MMUR","Muricea muricata","8.55.800","CNIDARIA"]
[null,null,null,null,null,null,"MPET","Muriceopsis petila",null,"MONT","Montastraea sp.","8.46.960","CNIDARIA"]
[null,null,null,null,null,null,"MPHA","Madracis pharensis",null,"MPEN","Muricea pendula","8.55.780","CNIDARIA"]
[null,null,null,null,null,null,"MPIN","Muricea pinnata",null,"MPET","Muriceopsis petila","8.55.6852","CNIDARIA"]
[null,null,null,null,null,null,"MREE","Mycetophyllia reesi",null,"MPHA","Madracis pharensis","8.55.2180","CNIDARIA"]
[null,null,null,null,null,null,"MSEN","Madracis senaria",null,"MPIN","Muricea pinnata","8.55.700","CNIDARIA"]
[null,null,null,null,null,null,"MSIS","Muriceopsis sp.",null,"MREE","Mycetophyllia reesi","8.55.3860","CNIDARIA"]
[null,null,null,null,null,null,"MSQU","Millepora squarrosa",null,"MSEN","Madracis senaria","8.55.2220","CNIDARIA"]
[null,null,null,null,null,null,"MULA","Muricea laxa",null,"MSIS","Muriceopsis sp.","8.46.320","CNIDARIA"]
[null,null,null,null,null,null,"MURI","Muricea sp.",null,"MSQU","Millepora squarrosa","8.55.5640","CNIDARIA"]
[null,null,null,null,null,null,"MYCE","Mycetophyllia sp.",null,"MULA","Muricea laxa","8.55.760","CNIDARIA"]
[null,null,null,null,null,null,"NERE","Niphates erecta",null,"MURI","Muricea sp.","8.46.340","CNIDARIA"]
[null,null,null,null,null,null,"NGOR","Nicella goreaui",null,"MYCE","Mycetophyllia sp.","8.46.1130","CNIDARIA"]
[null,null,null,null,null,null,"NICE","Nicella sp.",null,"NERE","Niphates erecta","4.55.97"]
[null,null,null,null,null,null,"NIPH","Niphates sp.",null,"NGOR","Nicella goreaui","8.55.6854","CNIDARIA"]
[null,null,null,null,null,null,"NPOR","Neospongodes portoricensis",null,"NICE","Nicella sp.","8.46.440","CNIDARIA"]
[null,null,null,null,null,null,"NSCH","Nicella schmitti",null,"NIPH","Niphates sp.","4.46.220"]
[null,null,null,null,null,null,"NSPE","Neogoniolithon spectabile",null,"NPOR","Neospongodes portoricensis","8.55.6210","CNIDARIA"]
[null,null,null,null,null,null,"NSTR","Neogoniolithon strictum",null,"NSCH","Nicella schmitti","8.55.1200","CNIDARIA"]
[null,null,null,null,null,null,"OCUL","Oculina sp.",null,"NSPE","Neogoniolithon spectabile","4026.55.190"]
[null,null,null,null,null,null,"ODIF","Oculina diffusa",null,"NSTR","Neogoniolithon strictum","4026.55.3283"]
[null,null,null,null,null,null,"OROB","Oculina robusta",null,"OCUL","Oculina sp.","8.46.1040","CNIDARIA"]
[null,null,null,null,null,null,"OTEN","Oculina tenella",null,"ODIF","Oculina diffusa","8.55.3480","CNIDARIA"]
[null,null,null,null,null,null,"OVAL","Oculina valenciennesi",null,"OROB","Oculina robusta","8.55.6856","CNIDARIA"]
[null,null,null,null,null,null,"OVAR","Oculina varicosa",null,"OTEN","Oculina tenella","8.55.6568","CNIDARIA"]
[null,null,null,null,null,null,"PACE","Pseudopterogorgia acerosa",null,"OVAL","Oculina valenciennesi","8.55.6858","CNIDARIA"]
[null,null,null,null,null,null,"PADI","Padina sp.",null,"OVAR","Oculina varicosa","8.55.6570","CNIDARIA"]
[null,null,null,null,null,null,"PALY","Palythoa sp.",null,"PACE","Pseudopterogorgia acerosa","8.55.980","CNIDARIA"]
[null,null,null,null,null,null,"PAME","Phyllangia americana",null,"PADI","Padina sp.","4024.46.135"]
[null,null,null,null,null,null,"PANC","Pterogorgia anceps",null,"PALY","Palythoa sp.","8.46.570","CNIDARIA"]
[null,null,null,null,null,null,"PARA","Parazoanthus sp.",null,"PAME","Phyllangia americana","8.55.3260","CNIDARIA"]
[null,null,null,null,null,null,"PAST","Porites astreoides",null,"PANC","Pterogorgia anceps","8.55.1120","CNIDARIA"]
[null,null,null,null,null,null,"PAVO","Pavona sp.",null,"PARA","Parazoanthus sp.","8.46.530","CNIDARIA"]
[null,null,null,null,null,null,"PBOE","Padina boergesenii",null,"PAST","Porites astreoides","8.55.5960","CNIDARIA"]
[null,null,null,null,null,null,"PBRA","Porites branneri",null,"PAVO","Pavona sp.","8.46.860","CNIDARIA"]
[null,null,null,null,null,null,"PCAL","Porites californica",null,"PBOE","Padina boergesenii","4024.55.401"]
[null,null,null,null,null,null,"PCAP","Pocillopora capitata",null,"PBRA","Porites branneri","8.55.2780","CNIDARIA"]
[null,null,null,null,null,null,"PCAR","Palythoa caribaeorum",null,"PCAL","Porites californica","8.55.2820","CNIDARIA"]
[null,null,null,null,null,null,"PCHI","Pavona chirriquiensis",null,"PCAP","Pocillopora capitata","8.55.2300","CNIDARIA"]
[null,null,null,null,null,null,"PCIT","Pterogorgia citrina",null,"PCAR","Palythoa caribaeorum","8.55.1560","CNIDARIA"]
[null,null,null,null,null,null,"PCLA","Pavona clavus",null,"PCHI","Pavona chirriquiensis","8.55.6640","CNIDARIA"]
[null,null,null,null,null,null,"PCOL","Porites colonensis",null,"PCIT","Pterogorgia citrina","8.55.1140","CNIDARIA"]
[null,null,null,null,null,null,"PCOR","Phormidium corallyticum",null,"PCLA","Pavona clavus","8.55.2600","CNIDARIA"]
[null,null,null,null,null,null,"PCRU","Pseudoplexaura crucis",null,"PCOL","Porites colonensis","8.55.6582","CNIDARIA"]
[null,null,null,null,null,null,"PDAM","Pocillopora damicornis",null,"PCOR","Phormidium corallyticum","5040.55.40"]
[null,null,null,null,null,null,"PDIC","Plexaurella dichotoma",null,"PCRU","Pseudoplexaura crucis","8.55.6866","CNIDARIA"]
[null,null,null,null,null,null,"PDIV","Porites divaricata",null,"PDAM","Pocillopora damicornis","8.55.2260","CNIDARIA"]
[null,null,null,null,null,null,"PELE","Pocillopora elegans",null,"PDIC","Plexaurella dichotoma","8.55.640","CNIDARIA"]
[null,null,null,null,null,null,"PELI","Pseudopterogorgia elizabethae",null,"PDIV","Porites divaricata","8.55.6584","CNIDARIA"]
[null,null,null,null,null,null,"PENI","Penicillus sp.",null,"PEFF","Pocillopora effusa","8.55.763797 ","CNIDARIA","ANTHOZOA","Scleractinia","Pocilloporidae"]
[null,null,null,null,null,null,"PEYD","Pocillopora eydouxi",null,"PELE","Pocillopora elegans","8.55.2340","CNIDARIA"]
[null,null,null,null,null,null,"PEYS","Peyssonnelia sp.",null,"PELI","Pseudopterogorgia elizabethae","8.55.6722","CNIDARIA"]
[null,null,null,null,null,null,"PFLA","Pseudoplexaura flagellosa",null,"PENI","Penicillus sp.","4020.46.2663"]
[null,null,null,null,null,null,"PFLE","Plexaura flexuosa",null,"PEYD","Pocillopora eydouxi","8.55.2360","CNIDARIA"]
[null,null,null,null,null,null,"PFLO","Phacelocyathus flos",null,"PEYS","Peyssonnelia sp.","4026.46.830"]
[null,null,null,null,null,null,"PFRO","Pavona frondifera",null,"PFLA","Pseudoplexaura flagellosa","8.55.320","CNIDARIA"]
[null,null,null,null,null,null,"PFUR","Porites furcata",null,"PFLE","Plexaura flexuosa","8.55.180","CNIDARIA"]
[null,null,null,null,null,null,"PGIG","Pavona gigantea",null,"PFLO","Phacelocyathus flos","8.55.6460","CNIDARIA"]
[null,null,null,null,null,null,"PGRA","Palythoa grandis",null,"PFRO","Pavona frondifera","8.55.6862","CNIDARIA"]
[null,null,null,null,null,null,"PGRI","Plexaurella grisea",null,"PFUR","Porites furcata","8.55.6586","CNIDARIA"]
[null,null,null,null,null,null,"PGUA","Pterogorgia guadalupensis",null,"PGIG","Pavona gigantea","8.55.2620","CNIDARIA"]
[null,null,null,null,null,null,"PGYM","Padina gymnospora",null,"PGRA","Palythoa grandis","8.55.1580","CNIDARIA"]
[null,null,null,null,null,null,"PHCR","Phymanthus crucifer",null,"PGRI","Plexaurella grisea","8.55.680","CNIDARIA"]
[null,null,null,null,null,null,"PHFL","Phyllactis flosculifera",null,"PGUA","Pterogorgia guadalupensis","8.55.1100","CNIDARIA"]
[null,null,null,null,null,null,"PHOM","Plexaura homomalla",null,"PGYM","Padina gymnospora","4024.55.300"]
[null,null,null,null,null,null,"PJAM","Padina jamaicensis",null,"PHCR","Phymanthus crucifer","8.55.1780","CNIDARIA"]
[null,null,null,null,null,null,"PLEX","Plexaura sp.",null,"PHFL","Phyllactis flosculifera","8.55.6864","CNIDARIA"]
[null,null,null,null,null,null,"PLLA","Plexaurella sp.",null,"PHOM","Plexaura homomalla","8.55.200","CNIDARIA"]
[null,null,null,null,null,null,"PLOB","Porites lobata",null,"PJAM","Padina jamaicensis","4024.46.135"]
[null,null,null,null,null,null,"PMAL","Pavona maldiviensis",null,"PLEX","Plexaura sp.","8.46.280","CNIDARIA"]
[null,null,null,null,null,null,"PMAM","Palythoa mammillosa",null,"PLIG","Pocillopora ligulata","8.55.206959","CNIDARIA","ANTOZOA","Scleractinia"]
[null,null,null,null,null,null,"PMEA","Pocillopora meandrina",null,"PLLA","Plexaurella sp.","8.46.330","CNIDARIA"]
[null,null,null,null,null,null,"PNIN","Plexaura nina",null,"PLOB","Porites lobata","8.55.2790","CNIDARIA"]
[null,null,null,null,null,null,"PNUT","Plexaurella nutans",null,"PMAL","Pavona maldiviensis","8.55.2600","CNIDARIA"]
[null,null,null,null,null,null,"POCI","Pocillopora sp.",null,"PMAM","Palythoa mammillosa","8.55.1540","CNIDARIA"]
[null,null,null,null,null,null,"PORA","Psammocora sp.",null,"PMEA","Pocillopora meandrina","8.55.6814","CNIDARIA","ANTOZOA"]
[null,null,null,null,null,null,"PORI","Porites sp.",null,"PNIN","Plexaura nina","8.55.260","CNIDARIA"]
[null,null,null,null,null,null,"PORO","Porolithon sp.",null,"PNUT","Plexaurella nutans","8.55.620","CNIDARIA"]
[null,null,null,null,null,null,"PPAC","Porolithon pachydermum",null,"POCI","Pocillopora sp.","8.46.810","CNIDARIA"]
[null,null,null,null,null,null,"PPAN","Porites panamensis",null,"PORA","Psammocora sp.","8.46.790","CNIDARIA"]
[null,null,null,null,null,null,"PPAR","Parazoanthus parasiticus",null,"PORI","Porites sp.","8.46.910","CNIDARIA"]
[null,null,null,null,null,null,"PPOR","Porites porites",null,"PORO","Porolithon sp.","4026.46.2320"]
[null,null,null,null,null,null,"PPUE","Parazoanthus puertoricense",null,"PPAC","Porolithon pachydermum","4026.55.3285"]
[null,null,null,null,null,null,"PSAM","Pseudopterogorgia americana",null,"PPAN","Porites panamensis","8.55.2800","CNIDARIA"]
[null,null,null,null,null,null,"PSAN","Padina sanctae-crucis",null,"PPAR","Parazoanthus parasiticus","8.55.1420","CNIDARIA"]
[null,null,null,null,null,null,"PSCA","Pseudocorynactis caribbeorum",null,"PPOR","Porites porites","8.55.2760","CNIDARIA"]
[null,null,null,null,null,null,"PSEU","Pseudoceratina sp.",null,"PPUE","Parazoanthus puertoricense","8.55.1440","CNIDARIA"]
[null,null,null,null,null,null,"PSIA","Pseudopterogorgia sp.",null,"PSAM","Pseudopterogorgia americana","8.55.920","CNIDARIA"]
[null,null,null,null,null,null,"PSPO","Pseudoplexaura porosa",null,"PSAN","Padina sanctae-crucis","4024.55.315"]
[null,null,null,null,null,null,"PSRA","Pseudoplexaura sp.",null,"PSBI","Pseudopterogorgia bipinnata","8.55.960","CNIDARIA"]
[null,null,null,null,null,null,"PSTE","Psammocora stellata",null,"PSCA","Pseudocorynactis caribbeorum","8.55.4440","CNIDARIA"]
[null,null,null,null,null,null,"PSWI","Parazoanthus swiftii",null,"PSEU","Pseudoceratina sp.","4.46.310"]
[null,null,null,null,null,null,"PTER","Pterogorgia sp.",null,"PSIA","Pseudopterogorgia sp.","8.46.390","CNIDARIA"]
[null,null,null,null,null,null,"PVAR","Pavona varians",null,"PSPO","Pseudoplexaura porosa","8.55.280","CNIDARIA"]
[null,null,null,null,null,null,"PWAG","Pseudoplexaura wagenaari",null,"PSRA","Pseudoplexaura sp.","8.46.290","CNIDARIA"]
[null,null,null,null,null,null,"RFLO","Ricordia florida",null,"PSTE","Psammocora stellata","8.55.2000","CNIDARIA"]
[null,null,null,null,null,null,"RHIP","Rhipocephalus sp.",null,"PSWI","Parazoanthus swiftii","8.55.1380","CNIDARIA"]
[null,null,null,null,null,null,"RICO","Ricordia sp.",null,"PTER","Pterogorgia sp.","8.46.420","CNIDARIA"]
[null,null,null,null,null,null,"RMAC","Rhizosmilia maculata",null,"PTUN","Parazoanthus tunicans","8.55.6860","CNIDARIA"]
[null,null,null,null,null,null,"RSAN","Rhodactis sanctithomae",null,"PVAR","Pavona varians","8.55.2640","CNIDARIA"]
[null,null,null,null,null,null,"SARG","Sargassum sp.",null,"PVER","Pocillopora verrucosa","8.55.206954","CNIDARIA","ANTHOZOA","Scleractinia"]
[null,null,null,null,null,null,"SBOU","Solenastrea bournoni",null,"PWAG","Pseudoplexaura wagenaari","8.55.300","CNIDARIA"]
[null,null,null,null,null,null,"SCOL","Scolymia sp.",null,"RFLO","Ricordia florida","8.55.4500","CNIDARIA"]
[null,null,null,null,null,null,"SCUB","Scolymia cubensis",null,"RHIP","Rhipocephalus sp.","4020.46.5688"]
[null,null,null,null,null,null,"SEXS","Swiftia exserta",null,"RICO","Ricordia sp.","8.46.1350","CNIDARIA"]
[null,null,null,null,null,null,"SHEL","Stichodactyla helianthus",null,"RMAC","Rhizosmilia maculata","8.55.4180","CNIDARIA"]
[null,null,null,null,null,null,"SHYA","Solenastrea hyades",null,"RSAN","Rhodactis sanctithomae","8.55.4480","CNIDARIA"]
[null,null,null,null,null,null,"SIDE","Siderastrea sp.",null,"SARG","Sargassum sp.","4024.46.175"]
[null,null,null,null,null,null,"SINT","Stephanocoenia intersepta",null,"SBOU","Solenastrea bournoni","8.55.3240","CNIDARIA"]
[null,null,null,null,null,null,"SLAC","Scolymia lacera",null,"SCOL","Scolymia sp.","8.46.1090","CNIDARIA"]
[null,null,null,null,null,null,"SLUT","Stichopathes lutkeni",null,"SCUB","Scolymia cubensis","8.55.3600","CNIDARIA"]
[null,null,null,null,null,null,"SMIC","Stephanocoenia michelini",null,"SEXS","Swiftia exserta","8.55.6662","CNIDARIA"]
[null,null,null,null,null,null,"SOLE","Solenastrea sp.",null,"SHEL","Stichodactyla helianthus","8.40.650","CNIDARIA"]
[null,null,null,null,null,null,"SRAD","Siderastrea radians",null,"SHYA","Solenastrea hyades","8.55.3220","CNIDARIA"]
[null,null,null,null,null,null,"SROS","Stylaster roseus",null,"SIDE","Siderastrea sp.","8.46.900","CNIDARIA"]
[null,null,null,null,null,null,"SSID","Siderastrea siderea",null,"SINT","Stephanocoenia intersepta","8.55.1980","CNIDARIA"]
[null,null,null,null,null,null,"STCO","Stereotelesto corallina",null,"SLAC","Scolymia lacera","8.55.3620","CNIDARIA"]
[null,null,null,null,null,null,"STEP","Stephanocoenia sp.",null,"SLUT","Stichopathes lutkeni","8.55.1360","CNIDARIA"]
[null,null,null,null,null,null,"STHE","Stoichactis helianthus",null,"SMIC","Stephanocoenia michelini","8.55.1960","CNIDARIA"]
[null,null,null,null,null,null,"STIC","Stichodactyla sp.",null,"SOLE","Solenastrea sp.","8.46.980","CNIDARIA"]
[null,null,null,null,null,null,"STOI","Stoichactis sp.",null,"SRAD","Siderastrea radians","8.55.2740","CNIDARIA"]
[null,null,null,null,null,null,"STYL","Stylaster sp.",null,"SROS","Stylaster roseus","8.55.5900","CNIDARIA"]
[null,null,null,null,null,null,"SWEL","Scolymia wellsi",null,"SSID","Siderastrea siderea","8.55.2720","CNIDARIA"]
[null,null,null,null,null,null,"SWIF","Swiftia sp.",null,"STCO","Stereotelesto corallina","8.55.6870","CNIDARIA"]
[null,null,null,null,null,null,"SZON","Stypopodium zonale",null,"STEP","Stephanocoenia sp.","8.46.780","CNIDARIA"]
[null,null,null,null,null,null,"TAME","Telmatactis americana",null,"STHE","Stoichactis helianthus","8.55.1820","CNIDARIA"]
[null,null,null,null,null,null,"TAUR","Tubastraea aurea",null,"STIC","Stichodactyla sp.","8.40.650","CNIDARIA"]
[null,null,null,null,null,null,"TCOC","Tubastraea coccinea",null,"STOI","Stoichactis sp.","8.46.680","CNIDARIA"]
[null,null,null,null,null,null,"TELE","Telesto sp.",null,"STYL","Stylaster sp.","8.46.1750","CNIDARIA"]
[null,null,null,null,null,null,"TELM","Telmatactis sp.",null,"SWEL","Scolymia wellsi","8.55.6562","CNIDARIA"]
[null,null,null,null,null,null,"TFRU","Telesto fruticulosa",null,"SWIF","Swiftia sp.","8.46.250","CNIDARIA"]
[null,null,null,null,null,null,"TITA","Titanoderma sp.",null,"SZON","Stypopodium zonale","4024.55.330"]
[null,null,null,null,null,null,"TNIV","Thesea nivea",null,"TAME","Telmatactis americana","8.55.1860","CNIDARIA"]
[null,null,null,null,null,null,"TTRI","Turbinaria tricostata",null,"TAUR","Tubastraea aurea","8.55.4260","CNIDARIA"]
[null,null,null,null,null,null,"TTUR","Turbinaria turbinata",null,"TCOC","Tubastraea coccinea","8.55.4280","CNIDARIA"]
[null,null,null,null,null,null,"TUBA","Tubastraea sp.",null,"TELE","Telesto sp.","8.46.10","CNIDARIA"]
[null,null,null,null,null,null,"TURB","Turbinaria sp.",null,"TELM","Telmatactis sp.","8.46.700","CNIDARIA"]
[null,null,null,null,null,null,"UDOT","Udotea sp.",null,"TFRU","Telesto fruticulosa","8.55.6872","CNIDARIA"]
[null,null,null,null,null,null,"UHIS","Ulosa hispida",null,"TITA","Titanoderma sp.","4026.46.2325"]
[null,null,null,null,null,null,"VALO","Valonia sp.",null,"TNIV","Thesea nivea","8.55.6874","CNIDARIA"]
[null,null,null,null,null,null,"VENT","Ventricaria sp.",null,"TRSO","Trididemnum solidum","70.12.70","CHORDATA"]
[null,null,null,null,null,null,"VGLO","Viatrix globulifera",null,"TTRI","Turbinaria tricostata","4024.55.395"]
[null,null,null,null,null,null,"VIAT","Viatrix sp.",null,"TTUR","Turbinaria turbinata","4024.55.400"]
[null,null,null,null,null,null,"VMAC","Valonia macrophysa",null,"TUBA","Tubastraea sp.","8.46.1280","CNIDARIA"]
[null,null,null,null,null,null,"VVEN","Ventricaria ventricosa",null,"TURB","Turbinaria sp.","4024.46.185"]
[null,null,null,null,null,null,"WRAN","Wrangelia sp.",null,"UDOT","Udotea sp.","4020.46.6692"]
[null,null,null,null,null,null,"XMUT","Xestospongia muta",null,"UHIS","Ulosa hispida","4.55.247"]
[null,null,null,null,null,null,"ZOAN","Zoanthus sp.",null,"VALO","Valonia sp.","4020.46.2747"]
[null,null,null,null,null,null,"ZPUL","Zoanthus pulchellus",null,"VENT","Ventricaria sp.","4020.46.3745"]
[null,null,null,null,null,null,"ZSOC","Zoanthus sociatus",null,"VGLO","Viatrix globulifera","8.55.6391","CNIDARIA"]
[null,null,null,null,null,null,"APEN","Antipathes pennacea",null,"VIAT","Viatrix sp.","8.46.2062","CNIDARIA"]
[null,null,null,null,null,null,"BALA","Balanophyllia sp.",null,"VMAC","Valonia macrophysa","4020.55.756"]
[null,null,null,null,null,null,"PSBI","Pseudopterogorgia bipinnata",null,"VVEN","Ventricaria ventricosa","4020.55.754"]
[null,null,null,null,null,null,"PTUN","Parazoanthus tunicans",null,"WRAN","Wrangelia sp.","4026.46.1790"]
[null,null,null,null,null,null,"TRSO","Trididemnum solidum",null,"XMUT","Xestospongia muta","4.55.118"]
[null,null,null,null,null,null,"PEFF","Pocillopora effusa",null,"ZOAN","Zoanthus sp.","8.46.540","CNIDARIA"]
[null,null,null,null,null,null,"PVER","Pocillopora verrucosa",null,"ZPUL","Zoanthus pulchellus","8.55.1500","CNIDARIA"]
[null,null,null,null,null,null,"PLIG","Pocillopora ligulata",null,"ZSOC","Zoanthus sociatus","8.55.1480","CNIDARIA"]

{"sheet":"Otras referencias","index":5,"n_rows":24,"n_cols":5,"rows_kept":24,"cut":false,"hidden":false,"merged":[[0,0,2,10],[4,0,4,1],[11,0,11,2]]}
["Estas son listas para variables con valores que no se encuentran codificados, pero que deben manejarse de manera estandarizada. \nSi se requiere agregar un valor nuevo hagalo debajo de la lista correspondiente"]
[]
[]
[]
["PROFUNDIDAD",null,null,"METODOS"]
["Descripcion","Codigo",null,"NOMBRE_MT","CODIGO"]
["Somero","S",null,"Manual de métodos de SIMAC: Cadena rotulada cada diez eslabones","Car"]
["Medio","M"]
["Profundo","P"]
[]
[]
["CODIGOS LOV"]
["DESCRIPCIÓN","CÓDIGO","GRUPO"]
["Departamento",10,2]
["Sector",20,2]
["Punto",30,2]
["Parcela",35,2]
["Estaciones",40,2]
["Region",50,2]
["Unidad_de_Manejo",60,2]
["Unidad_Ambiental_Costera",70,2]
["Localidad",80,2]
["Bloque_Exploracion",85,2]
["Area",90,2]

{"sheet":"AGD_MUESTREOS","index":6,"n_rows":0,"n_cols":0,"rows_kept":0,"cut":false,"hidden":true,"merged":[]}

{"sheet":"AGD_PARAMETRO","index":7,"n_rows":0,"n_cols":0,"rows_kept":0,"cut":false,"hidden":true,"merged":[]}

{"sheet":"AGD_MUESTRAS","index":8,"n_rows":0,"n_cols":0,"rows_kept":0,"cut":false,"hidden":true,"merged":[]}

{"sheet":"AGD_MUESTRAS_VARIABLES","index":9,"n_rows":0,"n_cols":0,"rows_kept":0,"cut":false,"hidden":true,"merged":[]}

{"sheet":"AGD_AUTORIAS","index":10,"n_rows":0,"n_cols":0,"rows_kept":0,"cut":false,"hidden":true,"merged":[]}