{"text_format":"1","workbook":"xlsx","n_sheets":12,"sheets":["Registro de cambios","configuracion","DIGITADOR","DATOS","referentes","Otras referencias","RESUMEN","AGD_MUESTREOS","AGD_PARAMETRO","AGD_MUESTRAS","AGD_MUESTRAS_VARIABLES","AGD_AUTORIAS"],"not_rendered":{"charts":0,"images":0,"macros":1,"external_links":1,"defined_names":31,"comments":1,"pivot_tables":1},"unopened":[],"bounds":{"document_bytes":16777216,"sheet_cells":100000,"rows_first":2000,"rows_last":500,"rows_between":2000,"halvings":0,"cell_chars":16384,"cell_head_chars":4096},"cells_cut":0,"cells_raw":0,"read":"whole","date_system":"1900"}

{"sheet":"Registro de cambios","index":0,"n_rows":15,"n_cols":7,"rows_kept":15,"cut":false,"hidden":true,"merged":[[2,3,3,3],[2,4,3,4],[2,6,3,6],[1,3,1,6],[2,5,3,5]]}
[]
[null,null,null,"REGISTRO DE CAMBIOS"]
[null,null,null,"VERSIÓN No.","CAMBIO REALIZADO","AUTOR","VIGENTE DESDE"]
[]
[null,null,null,"20241219m","Se actualizaron las funciones de los muestreos, las mayúsculas para el catálogo de vida y las especies como también la lista de opciones para las entidades.","Robert Montero","19/12/2024"]
[null,null,null,"20241028m","Ajutes a la hoja configuracion, se reemplazó el mapeo del código de la especie y el catálogo de vida para tomar los valores ingresados en mayúsculas.","Kevin Moreno","28/10/2024"]
[null,null,null,"20240522i","Actualización del código de la macro.\n\nSe eliminó la URL de la antigua API de portete:\n       http://portete.invemar.org.co:7003/ArgosWebServices-RESTWebService-context-root/rest/1.0\n\nFue reemplazada por la URL de la API de ARGOS:\n       https://argos.invemar.org.co/api/\n\nLa API contiene End Points que permiten tener mayor control, facilitan la descarga de referentes (listas de usuarios, estaciones, especies, etc.) que corresponden a criterios específicos como el proyecto usado en la plantilla para evitar descargar data innecesaria.\n\nDel mismo modo, también permite la carga de información a la BDD del INVEMAR.\n\nLa macro toma los Endpoints desde la hoja configuracion de una tabla llamada \"Configuración referentes\", a la que se le puede modificar las rutas de la API o agregar nuevas. cabe resaltar que se puede \"quemar\" directamente en la macro los Endpoints que lo requieran.","Kevin Moreno","22/05/2024"]
[null,null,null,"20231011m","Se agregó el botón \"Administrador\" que contiene una contraseña que habilita los botones de \"Generar tablas\" y \"Cargar datos\".","Kevin Moreno","2023-10-11"]
[null,null,null,"20210623m","Se cambia el origen de la celda C15 de la hoja configuracion que corresponde a la fecha del monitoreo, estaba \"DIGITADOR,B,7\" se cambia a \"DATOS,G\". Se corrrige primera fila del muestreo por error que no cambiaba consecutivo","Jeison Díaz","2021-06-23"]
[null,null,null,"20210525m","1. Error en la consulta de referente se cambio en la macro la forma en que concatena la variable consulta = cons1 + cons2 + cons3 + cons4 + cons5 + cons6\n2. Se cambio en la hoja de configuracion DATOS,AL por DATOS,D donde toma el muestreo.\n3. En la hoja DATOS columna D se agrego a la muestra el codigo de la estacion \n4. Se agrego que al cambiar la estacion se reinicie el conteo de los punto del transecto\nEliminado mapeo para sustrato y clase de sustrato",null,"2021-05-25"]
[null,null,null,"20201012m","Transecto como consecutivo de ID_MUESTREO (Suprime C y reemplaza por AI en formula AL y D)\nCambio configuracion Notas AJ pasan a aplicar al transecto (MUESTREOS)",null,"2020-10-23"]
[null,null,null,"20200103i","Para trazabilididad la hoja se incluye el nombre del archivo fuente y la posibilidad de anotar el DOI principal del metadato\nPor usabilidad las pestañas que son de interes para el usuario son las verdes\nSi se define mas de un proyecto los referentes de estaciones e investigadores se descargan consecutivo en las mismas columnas\nSe controla la versión para la plantilla mediante comparación dato en AGLOV de la BD.",null,"2020-01-03"]
[null,null,null,"20180413m","Se modifica la generación de los ID de muestreo y se agrega macro que genera número aleatorio en la hoja DIGITADOR.",null,"2018-04-13"]
[null,null,null,"20180502i","Se modifica la columna BJ de la hoja DATOS para que devuelva el nombre de la especie y no el código del SIBM. \nSe modifica la macro de autollenado para que el focus se ubique en la columna BE en la hoja de DATOS.",null,"2018-05-02"]
[null,null,null,"20181219i","Se agrega el muestreo en la hoja de configuracion.",null,"2018-12-19"]

{"sheet":"configuracion","index":1,"n_rows":71,"n_cols":8,"rows_kept":71,"cut":false,"hidden":true,"merged":[[61,0,61,2],[45,0,45,2],[28,0,35,0],[37,0,42,0],[0,0,2,0],[3,0,5,0],[7,0,8,0],[9,0,15,0],[17,0,21,0],[23,0,26,0]]}
["general","urlServicio","https://argos.invemar.org.co/api/"]
[null,"fila de inicio",5]
[null,"fila de fin",510]
["metodologias","Metodologias",88]
[null,"Referentes",500]
[null,"Cantidad maxima de referentes ",500]
["estaciones/investigadores","proyectos",1480]
["Lista especies","metodologias",88]
[null,"proyectos",{"$f":"DIGITADOR!B9","v":1480}]
["MUESTREOS","ID_MUESTREO","DATOS,D"]
[null,"ID_ESTACION","DATOS,O"]
[null,"ID_PROYECTO","DIGITADOR,B,9"]
[null,"ID_METODOLOGIA",88]
[null,"ID_TEMATICAS",205]
[null,"FECHA","DATOS,G"]
[null,"NOTAS","DIGITADOR,B,16"]
[null,"cantidad",505]
["MUETREOS PARAMETROS","ID_MUESTREO","DATOS,D","DATOS,D","DATOS,D","DATOS,D"]
[null,"ID_PARAMETRO",120,1055,1169,1170]
[null,"ID_METODOLOGIA",{"$f":"C4","v":88},{"$f":"C4","v":88},{"$f":"C4","v":88},{"$f":"C4","v":88}]
[null,"ID_UNIDAD_MEDIDA",100,100,100,100]
[null,"VALOR",1,"DIGITADOR,B,5","DIGITADOR,B,12","DIGITADOR,B,11"]
[null,"cantidad",505,505,505,505]
["MUESTRAS","ID_MUESTRA","DATOS,BK"]
[null,"ID_MUESTREO","DATOS,D"]
[null,"NOTAS","DATOS,AJ"]
[null,"ES_REPLICA",1]
[null,"cantidad",505]
["MUESTRAS VARIABLES","ID_PARAMETRO",137,585,823,827,828]
[null,"ID_METODOLOGIA",88,88,88,88,88]
[null,"ID_UNIDAD_MEDIDA",100,100,19,100,100]
[null,"ID_MUESTRA","DATOS,BK","DATOS,BK","DATOS,BK","DATOS,BK","DATOS,BK"]
[null,"ID_METODO",732,732,90,90]
[null,"VALOR","DATOS,BF","DATOS,BG","DATOS,AM","DATOS,AI","DATOS,AA"]
[null,"QUALITY_FLAG",2,2,2,2,2]
[null,"PRECISION"]
[null,"cantidad",505,505,505,505,505]
["AUTORIAS","ID_FUNCIONARIO","DIGITADOR,B,2","DATOS,Y"]
[null,"ID_TAREA",5,4]
[null,"ORDEN",1,2]
[null,"FECHA","DIGITADOR,B,7","DATOS,G"]
[null,"ID_MUESTREO","DATOS,D","DATOS,D"]
[null,"ENTIDAD","DIGITADOR,B,4","DATOS,AA"]
[null,"cantidad",505,505]
[null,null,null,null,null,null,137,"Categoria de vida"]
["REGISTROS GENERADOS",null,null,null,null,null,585,"Especie"]
["MUESTREOS",null,null,null,null,null,823,"Valor"]
["parametro muestreo",null,null,null,null,null,827,"Ubicación"]
["muestra",null,null,null,null,null,828,"Entidad"]
["muestra variable"]
["autoria",null,null,null,null,null,120,"TEMPORADA"]
["registros correctos",null,null,null,null,null,121,"CLASE_SUSTRATO"]
["Fecha de carga",null,null,null,null,null,137,"CAT_VIDA"]
["json error",null,null,null,null,null,579,"SUTRATO"]
["error",null,null,null,null,null,585,"ESPECIE"]
[null,null,null,null,null,null,823,"VALOR_ESLABON"]
[null,null,null,null,null,null,827,"UBICACION_ESPECIFICA"]
["Atributo","Descripción","Código",null,null,null,828,"ENTIDAD"]
["Tipo Nodo","Estaciones",{"$f":"VLOOKUP(B59,'Otras referencias'!A14:C24,2,FALSE)","v":40},null,null,null,860,"AREA"]
[null,null,null,null,null,null,1055,"VERSION_PLANTILLA"]
[null,null,null,null,null,null,1169,"URL_METADATO"]
["CONFIGURACION REFERENTES",null,null,null,null,null,1170,"ARCHIVO_FUENTE"]
["Ruta de la API","Endpoint","Descripción"]
["URL - AGM Campo",{"$f":"CONCATENATE(\"parametros/agmcampo/\",$C$4,\"\")","v":"parametros/agmcampo/88"},"Listado de referentes AGM_CAMPO"]
["URL - Especies",{"$f":"IF($C$8=\"\",\"\",CONCATENATE(\"especies/filt/\",$C$9,\",\",$C$8,\"/\"))","v":"especies/filt/1480,88/"},"Especies por proyecto\n(No todos los proyectos tienen asociados una lista de especies)"]
["URL - Estaciones",{"$f":"CONCATENATE(\"estaciones/\", $C$59, \"/\",$C$9,\"\")","v":"estaciones/40/1480"},"Estaciones/parcelas por proyecto, cambia dependiendo del Tipo de Nodo, cuyo estado sea VIGENTE."]
["URL - Usuarios",{"$f":"CONCATENATE(\"parametros/usersByProject/\",$C$7,\"\")","v":"parametros/usersByProject/1480"},"Usuarios por proyecto."]
["URL - Entidades","estaciones/get-entidades","Listado de entidades."]
["Atributos de la API","codigo_in","nombre_in"]
["Rango de atributos de la API","B70:C71","nombre_in"]
["URL - Plantillas","plantillas/","Endpoint para la carga de datos al sistema."]

{"sheet":"DIGITADOR","index":2,"n_rows":27,"n_cols":4,"rows_kept":27,"cut":false,"hidden":false,"merged":[[25,1,25,2],[26,1,26,2],[11,3,13,9],[5,0,6,0],[0,0,0,1],[0,3,5,9],[6,3,8,9],[9,3,10,9],[24,1,24,2],[14,0,14,1]]}
["Recolección de Datos Estructura Arrecifal - SAMP",null,null,"Recomendaciones generales: \n¡Precaución! No inserte Filas o Columnas.\nEn los casos en que falte un valor a ingresar que provenga de la hoja de referencias, informe para que el administrador del sistema haga las adiciones necesarias.\nEsta es una plantilla programada. Las columnas de color oscuro se llenan automaticamente, principalmente a partir de los contenidos de la hoja de referencias. \nNO UTILICE PUNTO Y COMA (;) en ningun campo, por ser el separador de variables (columnas). Tampoco escriba las unidades de medida, no son necesarias.\nPara el correcto funcionamiento de la hoja debe estar activa la opcion de Excel de ejecutar macros (al abrir la hoja acepte la opcion habilitar macros, mensaje de Excel que aparece en la parte superior de la hoja en un recuadro amarillo). La extensión del archivo debe ser .xlsm\nSe recomienda renombrar el archivo de la siguiente manera: SAMP_Estructura_NombreEstacion_FechaMonitoreo.xlsm"]
["Código Digitador",{"$f":"IF(B3=\"\",\"\",INDEX(referentes!Y:Z,MATCH(B3,referentes!Z:Z,0),1))","v":""}]
["Nombre Digitador"]
["Entidad","INVEMAR"]
["Versión plantilla",{"$f":"'Registro de cambios'!$D$5","v":"20241219m"}]
["Fecha en la que ingresa los datos en esta hoja","DD/MM/AAAA"]
[null,"3000-01-04",null,"Previamente a iniciar el llenado de la plantilla, debe presionar el botón \"Descargar referentes\" para que los referentes de ésta plantilla sean actualizados. \nLuego de llenar completamente la plantilla, haga clic sobre el botón \"Generar tablas\" para que los datos sean organizados antes de cargarlos al Sistema de Información.\nAntes de presionar el botón \"Generar tablas\" verifique que:\na. No haya celdas con valores como \"#N/A\" o \"#¡REF!\"\nb. No se esten aplicando filtros en la hoja de datos \nPara finalizar, presione el botón \"Cargar datos\"."]
[]
["Código Proyecto",{"$f":"IF(B10=\"\",\"\",INDEX('Otras referencias'!F:G,MATCH(DIGITADOR!B10,'Otras referencias'!F:F,0),2))","v":1480}]
["Nombre Proyecto","Sistema de Monitoreo de los Arrecifes Coralinos en Colombia",null,"Si requiere ayuda contacte a:\nKevin S. Moreno (kevin.moreno@invemar.org.co)  - Apoyo técnico software"]
["Nombre del Archivo",{"$f":"MID(CELL(\"FILENAME\",N50),FIND(\"[\",CELL(\"FILENAME\",N50))+1,   FIND(\"]\",CELL(\"FILENAME\",N50))-FIND(\"[\",CELL(\"FILENAME\",N50))-1)","v":"SAMP_Estructura_Arrecifal_20241219m.xlsm"}]
["DOI Metadato",null,null,"El custodio de los datos es el único autorizado para distribuir este conjunto de datos. El observador y el digitador se comprometen a tomar las medidas necesarias para salvaguardar este conjunto de datos de modo que copia de los mismos no sean obtenidas y/o usadas por terceros no relacionados con el propósito para la cual se recolectó."]
["Fuente Plantilla","http://cinto.invemar.org.co/download/Plantillas_ARGOS_Plus/"]
[]
["ATRIBUTOS ADICIONALES"]
["Observaciones generales"]
[]
[]
[null,"REGISTROS GENERADOS","REGISTROS CARGADOS"]
["Muestreos",{"$f":"IF(configuracion!B47=\"\",\"\",configuracion!B47)","v":""},{"$f":"IF(configuracion!C47=\"\",\"\",configuracion!C47)","v":""}]
["Parámetros del muestreo",{"$f":"IF(configuracion!B48=\"\",\"\",configuracion!B48)","v":""},{"$f":"IF(configuracion!C48=\"\",\"\",configuracion!C48)","v":""}]
["Muestras",{"$f":"IF(configuracion!B49=\"\",\"\",configuracion!B49)","v":""},{"$f":"IF(configuracion!C49=\"\",\"\",configuracion!C49)","v":""}]
["Variables",{"$f":"IF(configuracion!B50=\"\",\"\",configuracion!B50)","v":""},{"$f":"IF(configuracion!C50=\"\",\"\",configuracion!C50)","v":""}]
["Autores",{"$f":"IF(configuracion!B51=\"\",\"\",configuracion!B51)","v":""},{"$f":"IF(configuracion!C51=\"\",\"\",configuracion!C51)","v":""}]
["Registros correctos",{"$f":"IF(E25=\"\",\"\",IF(E25=0,0,IF(D25-E25=0,E25,\"Fallaron \"&D25-E25&\" registros\")))","v":""}]
["json error",{"$f":"IF(E26=\"\",\"\",IF(E26=0,0,IF(D26-E26=0,E26,\"Fallaron \"&D26-E26&\" registros\")))","v":""}]
["error",{"$f":"IF(E27=\"\",\"\",IF(E27=0,0,IF(D27-E27=0,E27,\"Fallaron \"&D27-E27&\" registros\")))","v":""}]

{"sheet":"DATOS","index":3,"n_rows":505,"n_cols":64,"rows_kept":505,"cut":false,"hidden":false,"merged":[[1,2,3,2],[2,6,3,6],[3,29,3,31],[3,27,3,28],[3,23,3,24],[3,21,3,22],[3,19,3,20],[2,8,3,8],[1,3,1,6],[1,56,1,61],[1,38,1,43],[1,9,1,13],[1,15,1,35],[2,7,3,7],[2,38,2,43],[2,50,2,55],[3,40,3,41],[3,52,3,53],[1,50,1,55]]}
[{"$f":"DIGITADOR!B7+F5","v":"3000-01-04"}]
[{"$f":"TEXT(A1,\"yyyymmdd\")","v":"30000104"},null,"CODIGO","Datos generales",null,null,null,null,null,"Lugar",null,null,null,null,null,"Datos generales de la muestra",null,null,null,null,null,null,null,null,null,null,null,null,null,null,null,null,null,null,null,null,null,null,"PUNTO",null,null,null,null,null,"CANTIDAD DE ESLABONES",null,null,null,null,null,null,null,null,null,null,null,"Datos de la muestra"]
[null,null,null,null,null,null,"DATE","MES","Muestreo",null,null,null,null,null,null,null,null,null,null,null,null,null,null,null,null,"UNIKE_KEY",null,null,null,null,null,null,null,null,null,null,null,null,"NE",null,null,null,null,null,"CE"]
[null,null,null,"CODMUESTREO","FECHA","HORA",null,null,null,"PREF.",null,"COD.","CADENA","ESTACION","CODBDD","ESLABON (mm)","PROF. COL AGUA (mts)","PROFUNDIDAD MINIMA (mts)","PROFUNDIDAD MAXIMA (mts)","COMPONENTE",null,"METODOLOGIA",null,"DATOS TOMADOS POR",null,null,"ENTIDAD","PROYECTO",null,"SUSTRATO",null,null,"NIVEL","TRANSECTO","UBICACIÓN","OBSERVACIONES TRANSECTO","REPLICA","ID_MUESTREO","VALOR",null,"UNI",null,"METODO","COD_METODO","VALOR","PROF","UNI",null,"METODO","COD_METODO","VALOR","PROF","UNI",null,"METODO","COD_METODO","CAT\nVIDA","COD\nCAT VIDA","CDG\nESPECIE","DESCRIPCIÓN","ESPECIE","NOMBRE_ESPECIE","ID_MUESTRA","CONSECUTIVO"]
[{"$f":"A2","v":"30000104"},{"$f":"DIGITADOR!$B$2","v":""},{"$f":"IF(Z5=Z4,C4,C4+1)","v":1},{"$f":"IF(E5<>\"\",CONCATENATE($A$2,DIGITADOR!$M$1,O5,AH5),\"\")","v":""},null,null,{"$f":"E5+F5","v":"00:00:00"},{"$f":"IF(G5<>\"\",MONTH(G5),\"\")","v":1},1,null,null,null,{"$f":"IF(L5<>\"\",CONCATENATE(J5,L5),\"\")","v":""},{"$f":"IF(M5=\"\",\"\",INDEX('Otras referencias'!$L$2:$N$200,MATCH(M5,'Otras referencias'!$L$2:$L$200,0),3))","v":""},{"$f":"IF(M5=\"\",\"\",INDEX(referentes!$S$2:$S$170,MATCH(N5,referentes!$W$2:$W$170,0),1))","v":""},null,null,null,null,null,null,null,null,null,{"$f":"IF(X5=\"\",\"\",INDEX(referentes!$Y$2:$Z$37,MATCH(X5,referentes!$Z$2:$Z$37,0),1))","v":""},{"$f":"CONCATENATE(G5,O5,Y5,AK5)","v":"01"},null,null,null,{"$f":"IF(D5=\"\",\"\",\"OA\")","v":""},null,{"$f":"IF(D5=\"\",\"\",\"SO\")","v":""},null,null,{"$f":"CONCATENATE(AG5,AH5)","v":""},null,1,{"$f":"IF(E5<>\"\",CONCATENATE(B5,A5,DIGITADOR!$M$1,AH5),\"\")","v":""},{"$f":"IF(D5=\"\",\"\",IF(AND(D5=D4,AI5=AI4,N5=N4),AM4+1,1))","v":""},null,null,null,null,null,null,null,null,null,null,null,null,null,null,null,null,null,null,{"$f":"IF(BE5=\"\",\"\",UPPER(BE5))","v":""},{"$f":"IF(BI5=\"\",\"\",UPPER(BI5))","v":""},{"$f":"IF(BE5=\"\",\"\",INDEX(referentes!$D$2:$E$37,MATCH(BE5,referentes!$D$2:$D$37,0),2))","v":""},null,{"$f":"IF(BI5=\"\",\"\",INDEX(referentes!$J$2:$L$363,MATCH(BI5,referentes!$J$2:$J$363,0),2))","v":""},{"$f":"IF(D5=\"\",\"\",CONCATENATE(D5,BL5))","v":""},1]
[{"$f":"A5","v":"30000104"},{"$f":"DIGITADOR!$B$2","v":""},1,{"$f":"IF(E6<>\"\",CONCATENATE($A$2,DIGITADOR!$M$1,O6,AH6),\"\")","v":""},null,null,{"$f":"E6+F6","v":"00:00:00"},{"$f":"IF(G6<>\"\",MONTH(G6),\"\")","v":1},1,null,null,null,"",{"$f":"IF(M6=\"\",\"\",INDEX('Otras referencias'!$L$2:$N$200,MATCH(M6,'Otras referencias'!$L$2:$L$200,0),3))","v":""},{"$f":"IF(M6=\"\",\"\",INDEX(referentes!$S$2:$S$170,MATCH(N6,referentes!$W$2:$W$170,0),1))","v":""},null,null,null,null,null,null,null,null,null,{"$f":"IF(X6=\"\",\"\",INDEX(referentes!$Y$2:$Z$37,MATCH(X6,referentes!$Z$2:$Z$37,0),1))","v":""},"01",null,null,null,{"$f":"IF(D6=\"\",\"\",\"OA\")","v":""},null,{"$f":"IF(D6=\"\",\"\",\"SO\")","v":""},null,null,{"$f":"CONCATENATE(AG6,AH6)","v":""},null,1,{"$f":"IF(E6<>\"\",CONCATENATE(B6,A6,DIGITADOR!$M$1,AH6),\"\")","v":""},"",null,null,null,null,null,null,null,null,null,null,null,null,null,null,null,null,null,null,{"$f":"IF(BE6=\"\",\"\",UPPER(BE6))","v":""},{"$f":"IF(BI6=\"\",\"\",UPPER(BI6))","v":""},{"$f":"IF(BE6=\"\",\"\",INDEX(referentes!$D$2:$E$37,MATCH(BE6,referentes!$D$2:$D$37,0),2))","v":""},null,{"$f":"IF(BI6=\"\",\"\",INDEX(referentes!$J$2:$L$363,MATCH(BI6,referentes!$J$2:$J$363,0),2))","v":""},"",2]
["30000104",{"$f":"DIGITADOR!$B$2","v":""},1,{"$f":"IF(E7<>\"\",CONCATENATE($A$2,DIGITADOR!$M$1,O7,AH7),\"\")","v":""},null,null,"00:00:00",1,1,null,null,null,"",{"$f":"IF(M7=\"\",\"\",INDEX('Otras referencias'!$L$2:$N$200,MATCH(M7,'Otras referencias'!$L$2:$L$200,0),3))","v":""},{"$f":"IF(M7=\"\",\"\",INDEX(referentes!$S$2:$S$170,MATCH(N7,referentes!$W$2:$W$170,0),1))","v":""},null,null,null,null,null,null,null,null,null,{"$f":"IF(X7=\"\",\"\",INDEX(referentes!$Y$2:$Z$37,MATCH(X7,referentes!$Z$2:$Z$37,0),1))","v":""},"01",null,null,null,"",null,"",null,null,"",null,1,{"$f":"IF(E7<>\"\",CONCATENATE(B7,A7,DIGITADOR!$M$1,AH7),\"\")","v":""},"",null,null,null,null,null,null,null,null,null,null,null,null,null,null,null,null,null,null,"","",{"$f":"IF(BE7=\"\",\"\",INDEX(referentes!$D$2:$E$37,MATCH(BE7,referentes!$D$2:$D$37,0),2))","v":""},null,{"$f":"IF(BI7=\"\",\"\",INDEX(referentes!$J$2:$L$363,MATCH(BI7,referentes!$J$2:$J$363,0),2))","v":""},"",3]
["30000104",{"$f":"DIGITADOR!$B$2","v":""},1,{"$f":"IF(E8<>\"\",CONCATENATE($A$2,DIGITADOR!$M$1,O8,AH8),\"\")","v":""},null,null,"00:00:00",1,1,null,null,null,"",{"$f":"IF(M8=\"\",\"\",INDEX('Otras referencias'!$L$2:$N$200,MATCH(M8,'Otras referencias'!$L$2:$L$200,0),3))","v":""},{"$f":"IF(M8=\"\",\"\",INDEX(referentes!$S$2:$S$170,MATCH(N8,referentes!$W$2:$W$170,0),1))","v":""},null,null,null,null,null,null,null,null,null,{"$f":"IF(X8=\"\",\"\",INDEX(referentes!$Y$2:$Z$37,MATCH(X8,referentes!$Z$2:$Z$37,0),1))","v":""},"01",null,null,null,"",null,"",null,null,{"$f":"CONCATENATE(AG8,AH8)","v":""},null,1,{"$f":"IF(E8<>\"\",CONCATENATE(B8,A8,DIGITADOR!$M$1,AH8),\"\")","v":""},"",null,null,null,null,null,null,null,null,null,null,null,null,null,null,null,null,null,null,"","",{"$f":"IF(BE8=\"\",\"\",INDEX(referentes!$D$2:$E$37,MATCH(BE8,referentes!$D$2:$D$37,0),2))","v":""},null,{"$f":"IF(BI8=\"\",\"\",INDEX(referentes!$J$2:$L$363,MATCH(BI8,referentes!$J$2:$J$363,0),2))","v":""},"",4]
["30000104",{"$f":"DIGITADOR!$B$2","v":""},1,{"$f":"IF(E9<>\"\",CONCATENATE($A$2,DIGITADOR!$M$1,O9,AH9),\"\")","v":""},null,null,"00:00:00",1,1,null,null,null,"",{"$f":"IF(M9=\"\",\"\",INDEX('Otras referencias'!$L$2:$N$200,MATCH(M9,'Otras referencias'!$L$2:$L$200,0),3))","v":""},{"$f":"IF(M9=\"\",\"\",INDEX(referentes!$S$2:$S$170,MATCH(N9,referentes!$W$2:$W$170,0),1))","v":""},null,null,null,null,null,null,null,null,null,{"$f":"IF(X9=\"\",\"\",INDEX(referentes!$Y$2:$Z$37,MATCH(X9,referentes!$Z$2:$Z$37,0),1))","v":""},"01",null,null,null,"",null,"",null,null,"",null,1,{"$f":"IF(E9<>\"\",CONCATENATE(B9,A9,DIGITADOR!$M$1,AH9),\"\")","v":""},"",null,null,null,null,null,null,null,null,null,null,null,null,null,null,null,null,null,null,"","",{"$f":"IF(BE9=\"\",\"\",INDEX(referentes!$D$2:$E$37,MATCH(BE9,referentes!$D$2:$D$37,0),2))","v":""},null,{"$f":"IF(BI9=\"\",\"\",INDEX(referentes!$J$2:$L$363,MATCH(BI9,referentes!$J$2:$J$363,0),2))","v":""},"",5]
["30000104",{"$f":"DIGITADOR!$B$2","v":""},1,{"$f":"IF(E10<>\"\",CONCATENATE($A$2,DIGITADOR!$M$1,O10,AH10),\"\")","v":""},null,null,"00:00:00",1,1,null,null,null,"",{"$f":"IF(M10=\"\",\"\",INDEX('Otras referencias'!$L$2:$N$200,MATCH(M10,'Otras referencias'!$L$2:$L$200,0),3))","v":""},{"$f":"IF(M10=\"\",\"\",INDEX(referentes!$S$2:$S$170,MATCH(N10,referentes!$W$2:$W$170,0),1))","v":""},null,null,null,null,null,null,null,null,null,{"$f":"IF(X10=\"\",\"\",INDEX(referentes!$Y$2:$Z$37,MATCH(X10,referentes!$Z$2:$Z$37,0),1))","v":""},"01",null,null,null,"",null,"",null,null,"",null,1,{"$f":"IF(E10<>\"\",CONCATENATE(B10,A10,DIGITADOR!$M$1,AH10),\"\")","v":""},"",null,null,null,null,null,null,null,null,null,null,null,null,null,null,null,null,null,null,"","",{"$f":"IF(BE10=\"\",\"\",INDEX(referentes!$D$2:$E$37,MATCH(BE10,referentes!$D$2:$D$37,0),2))","v":""},null,{"$f":"IF(BI10=\"\",\"\",INDEX(referentes!$J$2:$L$363,MATCH(BI10,referentes!$J$2:$J$363,0),2))","v":""},"",6]
["30000104",{"$f":"DIGITADOR!$B$2","v":""},1,{"$f":"IF(E11<>\"\",CONCATENATE($A$2,DIGITADOR!$M$1,O11,AH11),\"\")","v":""},null,null,"00:00:00",1,1,null,null,null,"",{"$f":"IF(M11=\"\",\"\",INDEX('Otras referencias'!$L$2:$N$200,MATCH(M11,'Otras referencias'!$L$2:$L$200,0),3))","v":""},{"$f":"IF(M11=\"\",\"\",INDEX(referentes!$S$2:$S$170,MATCH(N11,referentes!$W$2:$W$170,0),1))","v":""},null,null,null,null,null,null,null,null,null,{"$f":"IF(X11=\"\",\"\",INDEX(referentes!$Y$2:$Z$37,MATCH(X11,referentes!$Z$2:$Z$37,0),1))","v":""},"01",null,null,null,"",null,"",null,null,"",null,1,{"$f":"IF(E11<>\"\",CONCATENATE(B11,A11,DIGITADOR!$M$1,AH11),\"\")","v":""},"",null,null,null,null,null,null,null,null,null,null,null,null,null,null,null,null,null,null,"","",{"$f":"IF(BE11=\"\",\"\",INDEX(referentes!$D$2:$E$37,MATCH(BE11,referentes!$D$2:$D$37,0),2))","v":""},null,{"$f":"IF(BI11=\"\",\"\",INDEX(referentes!$J$2:$L$363,MATCH(BI11,referentes!$J$2:$J$363,0),2))","v":""},"",7]
["30000104",{"$f":"DIGITADOR!$B$2","v":""},1,{"$f":"IF(E12<>\"\",CONCATENATE($A$2,DIGITADOR!$M$1,O12,AH12),\"\")","v":""},null,null,"00:00:00",1,1,null,null,null,"",{"$f":"IF(M12=\"\",\"\",INDEX('Otras referencias'!$L$2:$N$200,MATCH(M12,'Otras referencias'!$L$2:$L$200,0),3))","v":""},{"$f":"IF(M12=\"\",\"\",INDEX(referentes!$S$2:$S$170,MATCH(N12,referentes!$W$2:$W$170,0),1))","v":""},null,null,null,null,null,null,null,null,null,{"$f":"IF(X12=\"\",\"\",INDEX(referentes!$Y$2:$Z$37,MATCH(X12,referentes!$Z$2:$Z$37,0),1))","v":""},"01",null,null,null,"",null,"",null,null,"",null,1,{"$f":"IF(E12<>\"\",CONCATENATE(B12,A12,DIGITADOR!$M$1,AH12),\"\")","v":""},"",null,null,null,null,null,null,null,null,null,null,null,null,null,null,null,null,null,null,"","",{"$f":"IF(BE12=\"\",\"\",INDEX(referentes!$D$2:$E$37,MATCH(BE12,referentes!$D$2:$D$37,0),2))","v":""},null,{"$f":"IF(BI12=\"\",\"\",INDEX(referentes!$J$2:$L$363,MATCH(BI12,referentes!$J$2:$J$363,0),2))","v":""},"",8]
["30000104",{"$f":"DIGITADOR!$B$2","v":""},1,{"$f":"IF(E13<>\"\",CONCATENATE($A$2,DIGITADOR!$M$1,O13,AH13),\"\")","v":""},null,null,"00:00:00",1,1,null,null,null,"",{"$f":"IF(M13=\"\",\"\",INDEX('Otras referencias'!$L$2:$N$200,MATCH(M13,'Otras referencias'!$L$2:$L$200,0),3))","v":""},{"$f":"IF(M13=\"\",\"\",INDEX(referentes!$S$2:$S$170,MATCH(N13,referentes!$W$2:$W$170,0),1))","v":""},null,null,null,null,null,null,null,null,null,{"$f":"IF(X13=\"\",\"\",INDEX(referentes!$Y$2:$Z$37,MATCH(X13,referentes!$Z$2:$Z$37,0),1))","v":""},"01",null,null,null,"",null,"",null,null,"",null,1,{"$f":"IF(E13<>\"\",CONCATENATE(B13,A13,DIGITADOR!$M$1,AH13),\"\")","v":""},"",null,null,null,null,null,null,null,null,null,null,null,null,null,null,null,null,null,null,"","",{"$f":"IF(BE13=\"\",\"\",INDEX(referentes!$D$2:$E$37,MATCH(BE13,referentes!$D$2:$D$37,0),2))","v":""},null,{"$f":"IF(BI13=\"\",\"\",INDEX(referentes!$J$2:$L$363,MATCH(BI13,referentes!$J$2:$J$363,0),2))","v":""},"",9]
["30000104",{"$f":"DIGITADOR!$B$2","v":""},1,{"$f":"IF(E14<>\"\",CONCATENATE($A$2,DIGITADOR!$M$1,O14,AH14),\"\")","v":""},null,null,"00:00:00",1,1,null,null,null,"",{"$f":"IF(M14=\"\",\"\",INDEX('Otras referencias'!$L$2:$N$200,MATCH(M14,'Otras referencias'!$L$2:$L$200,0),3))","v":""},{"$f":"IF(M14=\"\",\"\",INDEX(referentes!$S$2:$S$170,MATCH(N14,referentes!$W$2:$W$170,0),1))","v":""},null,null,null,null,null,null,null,null,null,{"$f":"IF(X14=\"\",\"\",INDEX(referentes!$Y$2:$Z$37,MATCH(X14,referentes!$Z$2:$Z$37,0),1))","v":""},"01",null,null,null,"",null,"",null,null,"",null,1,{"$f":"IF(E14<>\"\",CONCATENATE(B14,A14,DIGITADOR!$M$1,AH14),\"\")","v":""},"",null,null,null,null,null,null,null,null,null,null,null,null,null,null,null,null,null,null,"","",{"$f":"IF(BE14=\"\",\"\",INDEX(referentes!$D$2:$E$37,MATCH(BE14,referentes!$D$2:$D$37,0),2))","v":""},null,{"$f":"IF(BI14=\"\",\"\",INDEX(referentes!$J$2:$L$363,MATCH(BI14,referentes!$J$2:$J$363,0),2))","v":""},"",10]
["30000104",{"$f":"DIGITADOR!$B$2","v":""},1,{"$f":"IF(E15<>\"\",CONCATENATE($A$2,DIGITADOR!$M$1,O15,AH15),\"\")","v":""},null,null,"00:00:00",1,1,null,null,null,"",{"$f":"IF(M15=\"\",\"\",INDEX('Otras referencias'!$L$2:$N$200,MATCH(M15,'Otras referencias'!$L$2:$L$200,0),3))","v":""},{"$f":"IF(M15=\"\",\"\",INDEX(referentes!$S$2:$S$170,MATCH(N15,referentes!$W$2:$W$170,0),1))","v":""},null,null,null,null,null,null,null,null,null,{"$f":"IF(X15=\"\",\"\",INDEX(referentes!$Y$2:$Z$37,MATCH(X15,referentes!$Z$2:$Z$37,0),1))","v":""},"01",null,null,null,"",null,"",null,null,"",null,1,{"$f":"IF(E15<>\"\",CONCATENATE(B15,A15,DIGITADOR!$M$1,AH15),\"\")","v":""},"",null,null,null,null,null,null,null,null,null,null,null,null,null,null,null,null,null,null,"","",{"$f":"IF(BE15=\"\",\"\",INDEX(referentes!$D$2:$E$37,MATCH(BE15,referentes!$D$2:$D$37,0),2))","v":""},null,{"$f":"IF(BI15=\"\",\"\",INDEX(referentes!$J$2:$L$363,MATCH(BI15,referentes!$J$2:$J$363,0),2))","v":""},"",11]
["30000104",{"$f":"DIGITADOR!$B$2","v":""},1,{"$f":"IF(E16<>\"\",CONCATENATE($A$2,DIGITADOR!$M$1,O16,AH16),\"\")","v":""},null,null,"00:00:00",1,1,null,null,null,"",{"$f":"IF(M16=\"\",\"\",INDEX('Otras referencias'!$L$2:$N$200,MATCH(M16,'Otras referencias'!$L$2:$L$200,0),3))","v":""},{"$f":"IF(M16=\"\",\"\",INDEX(referentes!$S$2:$S$170,MATCH(N16,referentes!$W$2:$W$170,0),1))","v":""},null,null,null,null,null,null,null,null,null,{"$f":"IF(X16=\"\",\"\",INDEX(referentes!$Y$2:$Z$37,MATCH(X16,referentes!$Z$2:$Z$37,0),1))","v":""},"01",null,null,null,"",null,"",null,null,"",null,1,{"$f":"IF(E16<>\"\",CONCATENATE(B16,A16,DIGITADOR!$M$1,AH16),\"\")","v":""},"",null,null,null,null,null,null,null,null,null,null,null,null,null,null,null,null,null,null,"","",{"$f":"IF(BE16=\"\",\"\",INDEX(referentes!$D$2:$E$37,MATCH(BE16,referentes!$D$2:$D$37,0),2))","v":""},null,{"$f":"IF(BI16=\"\",\"\",INDEX(referentes!$J$2:$L$363,MATCH(BI16,referentes!$J$2:$J$363,0),2))","v":""},"",12]
["30000104",{"$f":"DIGITADOR!$B$2","v":""},1,{"$f":"IF(E17<>\"\",CONCATENATE($A$2,DIGITADOR!$M$1,O17,AH17),\"\")","v":""},null,null,"00:00:00",1,1,null,null,null,"",{"$f":"IF(M17=\"\",\"\",INDEX('Otras referencias'!$L$2:$N$200,MATCH(M17,'Otras referencias'!$L$2:$L$200,0),3))","v":""},{"$f":"IF(M17=\"\",\"\",INDEX(referentes!$S$2:$S$170,MATCH(N17,referentes!$W$2:$W$170,0),1))","v":""},null,null,null,null,null,null,null,null,null,{"$f":"IF(X17=\"\",\"\",INDEX(referentes!$Y$2:$Z$37,MATCH(X17,referentes!$Z$2:$Z$37,0),1))","v":""},"01",null,null,null,"",null,"",null,null,"",null,1,{"$f":"IF(E17<>\"\",CONCATENATE(B17,A17,DIGITADOR!$M$1,AH17),\"\")","v":""},"",null,null,null,null,null,null,null,null,null,null,null,null,null,null,null,null,null,null,"","",{"$f":"IF(BE17=\"\",\"\",INDEX(referentes!$D$2:$E$37,MATCH(BE17,referentes!$D$2:$D$37,0),2))","v":""},null,{"$f":"IF(BI17=\"\",\"\",INDEX(referentes!$J$2:$L$363,MATCH(BI17,referentes!$J$2:$J$363,0),2))","v":""},"",13]
["30000104",{"$f":"DIGITADOR!$B$2","v":""},1,{"$f":"IF(E18<>\"\",CONCATENATE($A$2,DIGITADOR!$M$1,O18,AH18),\"\")","v":""},null,null,"00:00:00",1,1,null,null,null,"",{"$f":"IF(M18=\"\",\"\",INDEX('Otras referencias'!$L$2:$N$200,MATCH(M18,'Otras referencias'!$L$2:$L$200,0),3))","v":""},{"$f":"IF(M18=\"\",\"\",INDEX(referentes!$S$2:$S$170,MATCH(N18,referentes!$W$2:$W$170,0),1))","v":""},null,null,null,null,null,null,null,null,null,{"$f":"IF(X18=\"\",\"\",INDEX(referentes!$Y$2:$Z$37,MATCH(X18,referentes!$Z$2:$Z$37,0),1))","v":""},"01",null,null,null,"",null,"",null,null,"",null,1,{"$f":"IF(E18<>\"\",CONCATENATE(B18,A18,DIGITADOR!$M$1,AH18),\"\")","v":""},"",null,null,null,null,null,null,null,null,null,null,null,null,null,null,null,null,null,null,"","",{"$f":"IF(BE18=\"\",\"\",INDEX(referentes!$D$2:$E$37,MATCH(BE18,referentes!$D$2:$D$37,0),2))","v":""},null,{"$f":"IF(BI18=\"\",\"\",INDEX(referentes!$J$2:$L$363,MATCH(BI18,referentes!$J$2:$J$363,0),2))","v":""},"",14]
["30000104",{"$f":"DIGITADOR!$B$2","v":""},1,{"$f":"IF(E19<>\"\",CONCATENATE($A$2,DIGITADOR!$M$1,O19,AH19),\"\")","v":""},null,null,"00:00:00",1,1,null,null,null,"",{"$f":"IF(M19=\"\",\"\",INDEX('Otras referencias'!$L$2:$N$200,MATCH(M19,'Otras referencias'!$L$2:$L$200,0),3))","v":""},{"$f":"IF(M19=\"\",\"\",INDEX(referentes!$S$2:$S$170,MATCH(N19,referentes!$W$2:$W$170,0),1))","v":""},null,null,null,null,null,null,null,null,null,{"$f":"IF(X19=\"\",\"\",INDEX(referentes!$Y$2:$Z$37,MATCH(X19,referentes!$Z$2:$Z$37,0),1))","v":""},"01",null,null,null,"",null,"",null,null,"",null,1,{"$f":"IF(E19<>\"\",CONCATENATE(B19,A19,DIGITADOR!$M$1,AH19),\"\")","v":""},"",null,null,null,null,null,null,null,null,null,null,null,null,null,null,null,null,null,null,"","",{"$f":"IF(BE19=\"\",\"\",INDEX(referentes!$D$2:$E$37,MATCH(BE19,referentes!$D$2:$D$37,0),2))","v":""},null,{"$f":"IF(BI19=\"\",\"\",INDEX(referentes!$J$2:$L$363,MATCH(BI19,referentes!$J$2:$J$363,0),2))","v":""},"",15]
["30000104",{"$f":"DIGITADOR!$B$2","v":""},1,{"$f":"IF(E20<>\"\",CONCATENATE($A$2,DIGITADOR!$M$1,O20,AH20),\"\")","v":""},null,null,"00:00:00",1,1,null,null,null,"",{"$f":"IF(M20=\"\",\"\",INDEX('Otras referencias'!$L$2:$N$200,MATCH(M20,'Otras referencias'!$L$2:$L$200,0),3))","v":""},{"$f":"IF(M20=\"\",\"\",INDEX(referentes!$S$2:$S$170,MATCH(N20,referentes!$W$2:$W$170,0),1))","v":""},null,null,null,null,null,null,null,null,null,{"$f":"IF(X20=\"\",\"\",INDEX(referentes!$Y$2:$Z$37,MATCH(X20,referentes!$Z$2:$Z$37,0),1))","v":""},"01",null,null,null,"",null,"",null,null,"",null,1,{"$f":"IF(E20<>\"\",CONCATENATE(B20,A20,DIGITADOR!$M$1,AH20),\"\")","v":""},"",null,null,null,null,null,null,null,null,null,null,null,null,null,null,null,null,null,null,"","",{"$f":"IF(BE20=\"\",\"\",INDEX(referentes!$D$2:$E$37,MATCH(BE20,referentes!$D$2:$D$37,0),2))","v":""},null,{"$f":"IF(BI20=\"\",\"\",INDEX(referentes!$J$2:$L$363,MATCH(BI20,referentes!$J$2:$J$363,0),2))","v":""},"",16]
["30000104",{"$f":"DIGITADOR!$B$2","v":""},1,{"$f":"IF(E21<>\"\",CONCATENATE($A$2,DIGITADOR!$M$1,O21,AH21),\"\")","v":""},null,null,"00:00:00",1,1,null,null,null,"",{"$f":"IF(M21=\"\",\"\",INDEX('Otras referencias'!$L$2:$N$200,MATCH(M21,'Otras referencias'!$L$2:$L$200,0),3))","v":""},{"$f":"IF(M21=\"\",\"\",INDEX(referentes!$S$2:$S$170,MATCH(N21,referentes!$W$2:$W$170,0),1))","v":""},null,null,null,null,null,null,null,null,null,{"$f":"IF(X21=\"\",\"\",INDEX(referentes!$Y$2:$Z$37,MATCH(X21,referentes!$Z$2:$Z$37,0),1))","v":""},"01",null,null,null,"",null,"",null,null,"",null,1,{"$f":"IF(E21<>\"\",CONCATENATE(B21,A21,DIGITADOR!$M$1,AH21),\"\")","v":""},"",null,null,null,null,null,null,null,null,null,null,null,null,null,null,null,null,null,null,"","",{"$f":"IF(BE21=\"\",\"\",INDEX(referentes!$D$2:$E$37,MATCH(BE21,referentes!$D$2:$D$37,0),2))","v":""},null,{"$f":"IF(BI21=\"\",\"\",INDEX(referentes!$J$2:$L$363,MATCH(BI21,referentes!$J$2:$J$363,0),2))","v":""},"",17]
["30000104",{"$f":"DIGITADOR!$B$2","v":""},1,{"$f":"IF(E22<>\"\",CONCATENATE($A$2,DIGITADOR!$M$1,O22,AH22),\"\")","v":""},null,null,{"$f":"E22+F22","v":"00:00:00"},{"$f":"IF(G22<>\"\",MONTH(G22),\"\")","v":1},1,null,null,null,"",{"$f":"IF(M22=\"\",\"\",INDEX('Otras referencias'!$L$2:$N$200,MATCH(M22,'Otras referencias'!$L$2:$L$200,0),3))","v":""},{"$f":"IF(M22=\"\",\"\",INDEX(referentes!$S$2:$S$170,MATCH(N22,referentes!$W$2:$W$170,0),1))","v":""},null,null,null,null,null,null,null,null,null,{"$f":"IF(X22=\"\",\"\",INDEX(referentes!$Y$2:$Z$37,MATCH(X22,referentes!$Z$2:$Z$37,0),1))","v":""},"01",null,null,null,"",null,"",null,null,"",null,1,{"$f":"IF(E22<>\"\",CONCATENATE(B22,A22,DIGITADOR!$M$1,AH22),\"\")","v":""},"",null,null,null,null,null,null,null,null,null,null,null,null,null,null,null,null,null,null,"","",{"$f":"IF(BE22=\"\",\"\",INDEX(referentes!$D$2:$E$37,MATCH(BE22,referentes!$D$2:$D$37,0),2))","v":""},null,{"$f":"IF(BI22=\"\",\"\",INDEX(referentes!$J$2:$L$363,MATCH(BI22,referentes!$J$2:$J$363,0),2))","v":""},"",18]
["30000104",{"$f":"DIGITADOR!$B$2","v":""},1,{"$f":"IF(E23<>\"\",CONCATENATE($A$2,DIGITADOR!$M$1,O23,AH23),\"\")","v":""},null,null,"00:00:00",1,1,null,null,null,"",{"$f":"IF(M23=\"\",\"\",INDEX('Otras referencias'!$L$2:$N$200,MATCH(M23,'Otras referencias'!$L$2:$L$200,0),3))","v":""},{"$f":"IF(M23=\"\",\"\",INDEX(referentes!$S$2:$S$170,MATCH(N23,referentes!$W$2:$W$170,0),1))","v":""},null,null,null,null,null,null,null,null,null,{"$f":"IF(X23=\"\",\"\",INDEX(referentes!$Y$2:$Z$37,MATCH(X23,referentes!$Z$2:$Z$37,0),1))","v":""},"01",null,null,null,"",null,"",null,null,"",null,1,{"$f":"IF(E23<>\"\",CONCATENATE(B23,A23,DIGITADOR!$M$1,AH23),\"\")","v":""},"",null,null,null,null,null,null,null,null,null,null,null,null,null,null,null,null,null,null,"","",{"$f":"IF(BE23=\"\",\"\",INDEX(referentes!$D$2:$E$37,MATCH(BE23,referentes!$D$2:$D$37,0),2))","v":""},null,{"$f":"IF(BI23=\"\",\"\",INDEX(referentes!$J$2:$L$363,MATCH(BI23,referentes!$J$2:$J$363,0),2))","v":""},"",19]
["30000104",{"$f":"DIGITADOR!$B$2","v":""},1,{"$f":"IF(E24<>\"\",CONCATENATE($A$2,DIGITADOR!$M$1,O24,AH24),\"\")","v":""},null,null,"00:00:00",1,1,null,null,null,"",{"$f":"IF(M24=\"\",\"\",INDEX('Otras referencias'!$L$2:$N$200,MATCH(M24,'Otras referencias'!$L$2:$L$200,0),3))","v":""},{"$f":"IF(M24=\"\",\"\",INDEX(referentes!$S$2:$S$170,MATCH(N24,referentes!$W$2:$W$170,0),1))","v":""},null,null,null,null,null,null,null,null,null,{"$f":"IF(X24=\"\",\"\",INDEX(referentes!$Y$2:$Z$37,MATCH(X24,referentes!$Z$2:$Z$37,0),1))","v":""},"01",null,null,null,"",null,"",null,null,"",null,1,{"$f":"IF(E24<>\"\",CONCATENATE(B24,A24,DIGITADOR!$M$1,AH24),\"\")","v":""},"",null,null,null,null,null,null,null,null,null,null,null,null,null,null,null,null,null,null,"","",{"$f":"IF(BE24=\"\",\"\",INDEX(referentes!$D$2:$E$37,MATCH(BE24,referentes!$D$2:$D$37,0),2))","v":""},null,{"$f":"IF(BI24=\"\",\"\",INDEX(referentes!$J$2:$L$363,MATCH(BI24,referentes!$J$2:$J$363,0),2))","v":""},"",20]
["30000104",{"$f":"DIGITADOR!$B$2","v":""},1,{"$f":"IF(E25<>\"\",CONCATENATE($A$2,DIGITADOR!$M$1,O25,AH25),\"\")","v":""},null,null,"00:00:00",1,1,null,null,null,"",{"$f":"IF(M25=\"\",\"\",INDEX('Otras referencias'!$L$2:$N$200,MATCH(M25,'Otras referencias'!$L$2:$L$200,0),3))","v":""},{"$f":"IF(M25=\"\",\"\",INDEX(referentes!$S$2:$S$170,MATCH(N25,referentes!$W$2:$W$170,0),1))","v":""},null,null,null,null,null,null,null,null,null,{"$f":"IF(X25=\"\",\"\",INDEX(referentes!$Y$2:$Z$37,MATCH(X25,referentes!$Z$2:$Z$37,0),1))","v":""},"01",null,null,null,"",null,"",null,null,"",null,1,{"$f":"IF(E25<>\"\",CONCATENATE(B25,A25,DIGITADOR!$M$1,AH25),\"\")","v":""},"",null,null,null,null,null,null,null,null,null,null,null,null,null,null,null,null,null,null,"","",{"$f":"IF(BE25=\"\",\"\",INDEX(referentes!$D$2:$E$37,MATCH(BE25,referentes!$D$2:$D$37,0),2))","v":""},null,{"$f":"IF(BI25=\"\",\"\",INDEX(referentes!$J$2:$L$363,MATCH(BI25,referentes!$J$2:$J$363,0),2))","v":""},"",21]
["30000104",{"$f":"DIGITADOR!$B$2","v":""},1,{"$f":"IF(E26<>\"\",CONCATENATE($A$2,DIGITADOR!$M$1,O26,AH26),\"\")","v":""},null,null,"00:00:00",1,1,null,null,null,"",{"$f":"IF(M26=\"\",\"\",INDEX('Otras referencias'!$L$2:$N$200,MATCH(M26,'Otras referencias'!$L$2:$L$200,0),3))","v":""},{"$f":"IF(M26=\"\",\"\",INDEX(referentes!$S$2:$S$170,MATCH(N26,referentes!$W$2:$W$170,0),1))","v":""},null,null,null,null,null,null,null,null,null,{"$f":"IF(X26=\"\",\"\",INDEX(referentes!$Y$2:$Z$37,MATCH(X26,referentes!$Z$2:$Z$37,0),1))","v":""},"01",null,null,null,"",null,"",null,null,"",null,1,{"$f":"IF(E26<>\"\",CONCATENATE(B26,A26,DIGITADOR!$M$1,AH26),\"\")","v":""},"",null,null,null,null,null,null,null,null,null,null,null,null,null,null,null,null,null,null,"","",{"$f":"IF(BE26=\"\",\"\",INDEX(referentes!$D$2:$E$37,MATCH(BE26,referentes!$D$2:$D$37,0),2))","v":""},null,{"$f":"IF(BI26=\"\",\"\",INDEX(referentes!$J$2:$L$363,MATCH(BI26,referentes!$J$2:$J$363,0),2))","v":""},"",22]
["30000104",{"$f":"DIGITADOR!$B$2","v":""},1,{"$f":"IF(E27<>\"\",CONCATENATE($A$2,DIGITADOR!$M$1,O27,AH27),\"\")","v":""},null,null,"00:00:00",1,1,null,null,null,"",{"$f":"IF(M27=\"\",\"\",INDEX('Otras referencias'!$L$2:$N$200,MATCH(M27,'Otras referencias'!$L$2:$L$200,0),3))","v":""},{"$f":"IF(M27=\"\",\"\",INDEX(referentes!$S$2:$S$170,MATCH(N27,referentes!$W$2:$W$170,0),1))","v":""},null,null,null,null,null,null,null,null,null,{"$f":"IF(X27=\"\",\"\",INDEX(referentes!$Y$2:$Z$37,MATCH(X27,referentes!$Z$2:$Z$37,0),1))","v":""},"01",null,null,null,"",null,"",null,null,"",null,1,{"$f":"IF(E27<>\"\",CONCATENATE(B27,A27,DIGITADOR!$M$1,AH27),\"\")","v":""},"",null,null,null,null,null,null,null,null,null,null,null,null,null,null,null,null,null,null,"","",{"$f":"IF(BE27=\"\",\"\",INDEX(referentes!$D$2:$E$37,MATCH(BE27,referentes!$D$2:$D$37,0),2))","v":""},null,{"$f":"IF(BI27=\"\",\"\",INDEX(referentes!$J$2:$L$363,MATCH(BI27,referentes!$J$2:$J$363,0),2))","v":""},"",23]
["30000104",{"$f":"DIGITADOR!$B$2","v":""},1,{"$f":"IF(E28<>\"\",CONCATENATE($A$2,DIGITADOR!$M$1,O28,AH28),\"\")","v":""},null,null,"00:00:00",1,1,null,null,null,"",{"$f":"IF(M28=\"\",\"\",INDEX('Otras referencias'!$L$2:$N$200,MATCH(M28,'Otras referencias'!$L$2:$L$200,0),3))","v":""},{"$f":"IF(M28=\"\",\"\",INDEX(referentes!$S$2:$S$170,MATCH(N28,referentes!$W$2:$W$170,0),1))","v":""},null,null,null,null,null,null,null,null,null,{"$f":"IF(X28=\"\",\"\",INDEX(referentes!$Y$2:$Z$37,MATCH(X28,referentes!$Z$2:$Z$37,0),1))","v":""},"01",null,null,null,"",null,"",null,null,"",null,1,{"$f":"IF(E28<>\"\",CONCATENATE(B28,A28,DIGITADOR!$M$1,AH28),\"\")","v":""},"",null,null,null,null,null,null,null,null,null,null,null,null,null,null,null,null,null,null,"","",{"$f":"IF(BE28=\"\",\"\",INDEX(referentes!$D$2:$E$37,MATCH(BE28,referentes!$D$2:$D$37,0),2))","v":""},null,{"$f":"IF(BI28=\"\",\"\",INDEX(referentes!$J$2:$L$363,MATCH(BI28,referentes!$J$2:$J$363,0),2))","v":""},"",24]
["30000104",{"$f":"DIGITADOR!$B$2","v":""},1,{"$f":"IF(E29<>\"\",CONCATENATE($A$2,DIGITADOR!$M$1,O29,AH29),\"\")","v":""},null,null,"00:00:00",1,1,null,null,null,"",{"$f":"IF(M29=\"\",\"\",INDEX('Otras referencias'!$L$2:$N$200,MATCH(M29,'Otras referencias'!$L$2:$L$200,0),3))","v":""},{"$f":"IF(M29=\"\",\"\",INDEX(referentes!$S$2:$S$170,MATCH(N29,referentes!$W$2:$W$170,0),1))","v":""},null,null,null,null,null,null,null,null,null,{"$f":"IF(X29=\"\",\"\",INDEX(referentes!$Y$2:$Z$37,MATCH(X29,referentes!$Z$2:$Z$37,0),1))","v":""},"01",null,null,null,"",null,"",null,null,"",null,1,{"$f":"IF(E29<>\"\",CONCATENATE(B29,A29,DIGITADOR!$M$1,AH29),\"\")","v":""},"",null,null,null,null,null,null,null,null,null,null,null,null,null,null,null,null,null,null,"","",{"$f":"IF(BE29=\"\",\"\",INDEX(referentes!$D$2:$E$37,MATCH(BE29,referentes!$D$2:$D$37,0),2))","v":""},null,{"$f":"IF(BI29=\"\",\"\",INDEX(referentes!$J$2:$L$363,MATCH(BI29,referentes!$J$2:$J$363,0),2))","v":""},"",25]
["30000104",{"$f":"DIGITADOR!$B$2","v":""},1,{"$f":"IF(E30<>\"\",CONCATENATE($A$2,DIGITADOR!$M$1,O30,AH30),\"\")","v":""},null,null,"00:00:00",1,1,null,null,null,"",{"$f":"IF(M30=\"\",\"\",INDEX('Otras referencias'!$L$2:$N$200,MATCH(M30,'Otras referencias'!$L$2:$L$200,0),3))","v":""},{"$f":"IF(M30=\"\",\"\",INDEX(referentes!$S$2:$S$170,MATCH(N30,referentes!$W$2:$W$170,0),1))","v":""},null,null,null,null,null,null,null,null,null,{"$f":"IF(X30=\"\",\"\",INDEX(referentes!$Y$2:$Z$37,MATCH(X30,referentes!$Z$2:$Z$37,0),1))","v":""},"01",null,null,null,"",null,"",null,null,"",null,1,{"$f":"IF(E30<>\"\",CONCATENATE(B30,A30,DIGITADOR!$M$1,AH30),\"\")","v":""},"",null,null,null,null,null,null,null,null,null,null,null,null,null,null,null,null,null,null,"","",{"$f":"IF(BE30=\"\",\"\",INDEX(referentes!$D$2:$E$37,MATCH(BE30,referentes!$D$2:$D$37,0),2))","v":""},null,{"$f":"IF(BI30=\"\",\"\",INDEX(referentes!$J$2:$L$363,MATCH(BI30,referentes!$J$2:$J$363,0),2))","v":""},"",26]
["30000104",{"$f":"DIGITADOR!$B$2","v":""},1,{"$f":"IF(E31<>\"\",CONCATENATE($A$2,DIGITADOR!$M$1,O31,AH31),\"\")","v":""},null,null,"00:00:00",1,1,null,null,null,"",{"$f":"IF(M31=\"\",\"\",INDEX('Otras referencias'!$L$2:$N$200,MATCH(M31,'Otras referencias'!$L$2:$L$200,0),3))","v":""},{"$f":"IF(M31=\"\",\"\",INDEX(referentes!$S$2:$S$170,MATCH(N31,referentes!$W$2:$W$170,0),1))","v":""},null,null,null,null,null,null,null,null,null,{"$f":"IF(X31=\"\",\"\",INDEX(referentes!$Y$2:$Z$37,MATCH(X31,referentes!$Z$2:$Z$37,0),1))","v":""},"01",null,null,null,"",null,"",null,null,"",null,1,{"$f":"IF(E31<>\"\",CONCATENATE(B31,A31,DIGITADOR!$M$1,AH31),\"\")","v":""},"",null,null,null,null,null,null,null,null,null,null,null,null,null,null,null,null,null,null,"","",{"$f":"IF(BE31=\"\",\"\",INDEX(referentes!$D$2:$E$37,MATCH(BE31,referentes!$D$2:$D$37,0),2))","v":""},null,{"$f":"IF(BI31=\"\",\"\",INDEX(referentes!$J$2:$L$363,MATCH(BI31,referentes!$J$2:$J$363,0),2))","v":""},"",27]
["30000104",{"$f":"DIGITADOR!$B$2","v":""},1,{"$f":"IF(E32<>\"\",CONCATENATE($A$2,DIGITADOR!$M$1,O32,AH32),\"\")","v":""},null,null,"00:00:00",1,1,null,null,null,"",{"$f":"IF(M32=\"\",\"\",INDEX('Otras referencias'!$L$2:$N$200,MATCH(M32,'Otras referencias'!$L$2:$L$200,0),3))","v":""},{"$f":"IF(M32=\"\",\"\",INDEX(referentes!$S$2:$S$170,MATCH(N32,referentes!$W$2:$W$170,0),1))","v":""},null,null,null,null,null,null,null,null,null,{"$f":"IF(X32=\"\",\"\",INDEX(referentes!$Y$2:$Z$37,MATCH(X32,referentes!$Z$2:$Z$37,0),1))","v":""},"01",null,null,null,"",null,"",null,null,"",null,1,{"$f":"IF(E32<>\"\",CONCATENATE(B32,A32,DIGITADOR!$M$1,AH32),\"\")","v":""},"",null,null,null,null,null,null,null,null,null,null,null,null,null,null,null,null,null,null,"","",{"$f":"IF(BE32=\"\",\"\",INDEX(referentes!$D$2:$E$37,MATCH(BE32,referentes!$D$2:$D$37,0),2))","v":""},null,{"$f":"IF(BI32=\"\",\"\",INDEX(referentes!$J$2:$L$363,MATCH(BI32,referentes!$J$2:$J$363,0),2))","v":""},"",28]
["30000104",{"$f":"DIGITADOR!$B$2","v":""},1,{"$f":"IF(E33<>\"\",CONCATENATE($A$2,DIGITADOR!$M$1,O33,AH33),\"\")","v":""},null,null,"00:00:00",1,1,null,null,null,"",{"$f":"IF(M33=\"\",\"\",INDEX('Otras referencias'!$L$2:$N$200,MATCH(M33,'Otras referencias'!$L$2:$L$200,0),3))","v":""},{"$f":"IF(M33=\"\",\"\",INDEX(referentes!$S$2:$S$170,MATCH(N33,referentes!$W$2:$W$170,0),1))","v":""},null,null,null,null,null,null,null,null,null,{"$f":"IF(X33=\"\",\"\",INDEX(referentes!$Y$2:$Z$37,MATCH(X33,referentes!$Z$2:$Z$37,0),1))","v":""},"01",null,null,null,"",null,"",null,null,"",null,1,{"$f":"IF(E33<>\"\",CONCATENATE(B33,A33,DIGITADOR!$M$1,AH33),\"\")","v":""},"",null,null,null,null,null,null,null,null,null,null,null,null,null,null,null,null,null,null,"","",{"$f":"IF(BE33=\"\",\"\",INDEX(referentes!$D$2:$E$37,MATCH(BE33,referentes!$D$2:$D$37,0),2))","v":""},null,{"$f":"IF(BI33=\"\",\"\",INDEX(referentes!$J$2:$L$363,MATCH(BI33,referentes!$J$2:$J$363,0),2))","v":""},"",29]
["30000104",{"$f":"DIGITADOR!$B$2","v":""},1,{"$f":"IF(E34<>\"\",CONCATENATE($A$2,DIGITADOR!$M$1,O34,AH34),\"\")","v":""},null,null,"00:00:00",1,1,null,null,null,"",{"$f":"IF(M34=\"\",\"\",INDEX('Otras referencias'!$L$2:$N$200,MATCH(M34,'Otras referencias'!$L$2:$L$200,0),3))","v":""},{"$f":"IF(M34=\"\",\"\",INDEX(referentes!$S$2:$S$170,MATCH(N34,referentes!$W$2:$W$170,0),1))","v":""},null,null,null,null,null,null,null,null,null,{"$f":"IF(X34=\"\",\"\",INDEX(referentes!$Y$2:$Z$37,MATCH(X34,referentes!$Z$2:$Z$37,0),1))","v":""},"01",null,null,null,"",null,"",null,null,"",null,1,{"$f":"IF(E34<>\"\",CONCATENATE(B34,A34,DIGITADOR!$M$1,AH34),\"\")","v":""},"",null,null,null,null,null,null,null,null,null,null,null,null,null,null,null,null,null,null,"","",{"$f":"IF(BE34=\"\",\"\",INDEX(referentes!$D$2:$E$37,MATCH(BE34,referentes!$D$2:$D$37,0),2))","v":""},null,{"$f":"IF(BI34=\"\",\"\",INDEX(referentes!$J$2:$L$363,MATCH(BI34,referentes!$J$2:$J$363,0),2))","v":""},"",30]
["30000104",{"$f":"DIGITADOR!$B$2","v":""},1,{"$f":"IF(E35<>\"\",CONCATENATE($A$2,DIGITADOR!$M$1,O35,AH35),\"\")","v":""},null,null,"00:00:00",1,1,null,null,null,"",{"$f":"IF(M35=\"\",\"\",INDEX('Otras referencias'!$L$2:$N$200,MATCH(M35,'Otras referencias'!$L$2:$L$200,0),3))","v":""},{"$f":"IF(M35=\"\",\"\",INDEX(referentes!$S$2:$S$170,MATCH(N35,referentes!$W$2:$W$170,0),1))","v":""},null,null,null,null,null,null,null,null,null,{"$f":"IF(X35=\"\",\"\",INDEX(referentes!$Y$2:$Z$37,MATCH(X35,referentes!$Z$2:$Z$37,0),1))","v":""},"01",null,null,null,"",null,"",null,null,"",null,1,{"$f":"IF(E35<>\"\",CONCATENATE(B35,A35,DIGITADOR!$M$1,AH35),\"\")","v":""},"",null,null,null,null,null,null,null,null,null,null,null,null,null,null,null,null,null,null,"","",{"$f":"IF(BE35=\"\",\"\",INDEX(referentes!$D$2:$E$37,MATCH(BE35,referentes!$D$2:$D$37,0),2))","v":""},null,{"$f":"IF(BI35=\"\",\"\",INDEX(referentes!$J$2:$L$363,MATCH(BI35,referentes!$J$2:$J$363,0),2))","v":""},"",31]
["30000104",{"$f":"DIGITADOR!$B$2","v":""},1,{"$f":"IF(E36<>\"\",CONCATENATE($A$2,DIGITADOR!$M$1,O36,AH36),\"\")","v":""},null,null,"00:00:00",1,1,null,null,null,"",{"$f":"IF(M36=\"\",\"\",INDEX('Otras referencias'!$L$2:$N$200,MATCH(M36,'Otras referencias'!$L$2:$L$200,0),3))","v":""},{"$f":"IF(M36=\"\",\"\",INDEX(referentes!$S$2:$S$170,MATCH(N36,referentes!$W$2:$W$170,0),1))","v":""},null,null,null,null,null,null,null,null,null,{"$f":"IF(X36=\"\",\"\",INDEX(referentes!$Y$2:$Z$37,MATCH(X36,referentes!$Z$2:$Z$37,0),1))","v":""},"01",null,null,null,"",null,"",null,null,"",null,1,{"$f":"IF(E36<>\"\",CONCATENATE(B36,A36,DIGITADOR!$M$1,AH36),\"\")","v":""},"",null,null,null,null,null,null,null,null,null,null,null,null,null,null,null,null,null,null,"","",{"$f":"IF(BE36=\"\",\"\",INDEX(referentes!$D$2:$E$37,MATCH(BE36,referentes!$D$2:$D$37,0),2))","v":""},null,{"$f":"IF(BI36=\"\",\"\",INDEX(referentes!$J$2:$L$363,MATCH(BI36,referentes!$J$2:$J$363,0),2))","v":""},"",32]
["30000104",{"$f":"DIGITADOR!$B$2","v":""},1,{"$f":"IF(E37<>\"\",CONCATENATE($A$2,DIGITADOR!$M$1,O37,AH37),\"\")","v":""},null,null,"00:00:00",1,1,null,null,null,"",{"$f":"IF(M37=\"\",\"\",INDEX('Otras referencias'!$L$2:$N$200,MATCH(M37,'Otras referencias'!$L$2:$L$200,0),3))","v":""},{"$f":"IF(M37=\"\",\"\",INDEX(referentes!$S$2:$S$170,MATCH(N37,referentes!$W$2:$W$170,0),1))","v":""},null,null,null,null,null,null,null,null,null,{"$f":"IF(X37=\"\",\"\",INDEX(referentes!$Y$2:$Z$37,MATCH(X37,referentes!$Z$2:$Z$37,0),1))","v":""},"01",null,null,null,"",null,"",null,null,"",null,1,{"$f":"IF(E37<>\"\",CONCATENATE(B37,A37,DIGITADOR!$M$1,AH37),\"\")","v":""},"",null,null,null,null,null,null,null,null,null,null,null,null,null,null,null,null,null,null,"","",{"$f":"IF(BE37=\"\",\"\",INDEX(referentes!$D$2:$E$37,MATCH(BE37,referentes!$D$2:$D$37,0),2))","v":""},null,{"$f":"IF(BI37=\"\",\"\",INDEX(referentes!$J$2:$L$363,MATCH(BI37,referentes!$J$2:$J$363,0),2))","v":""},"",33]
["30000104",{"$f":"DIGITADOR!$B$2","v":""},1,{"$f":"IF(E38<>\"\",CONCATENATE($A$2,DIGITADOR!$M$1,O38,AH38),\"\")","v":""},null,null,"00:00:00",1,1,null,null,null,"",{"$f":"IF(M38=\"\",\"\",INDEX('Otras referencias'!$L$2:$N$200,MATCH(M38,'Otras referencias'!$L$2:$L$200,0),3))","v":""},{"$f":"IF(M38=\"\",\"\",INDEX(referentes!$S$2:$S$170,MATCH(N38,referentes!$W$2:$W$170,0),1))","v":""},null,null,null,null,null,null,null,null,null,{"$f":"IF(X38=\"\",\"\",INDEX(referentes!$Y$2:$Z$37,MATCH(X38,referentes!$Z$2:$Z$37,0),1))","v":""},"01",null,null,null,"",null,"",null,null,"",null,1,{"$f":"IF(E38<>\"\",CONCATENATE(B38,A38,DIGITADOR!$M$1,AH38),\"\")","v":""},"",null,null,null,null,null,null,null,null,null,null,null,null,null,null,null,null,null,null,"","",{"$f":"IF(BE38=\"\",\"\",INDEX(referentes!$D$2:$E$37,MATCH(BE38,referentes!$D$2:$D$37,0),2))","v":""},null,{"$f":"IF(BI38=\"\",\"\",INDEX(referentes!$J$2:$L$363,MATCH(BI38,referentes!$J$2:$J$363,0),2))","v":""},"",34]
["30000104",{"$f":"DIGITADOR!$B$2","v":""},1,{"$f":"IF(E39<>\"\",CONCATENATE($A$2,DIGITADOR!$M$1,O39,AH39),\"\")","v":""},null,null,"00:00:00",1,1,null,null,null,"",{"$f":"IF(M39=\"\",\"\",INDEX('Otras referencias'!$L$2:$N$200,MATCH(M39,'Otras referencias'!$L$2:$L$200,0),3))","v":""},{"$f":"IF(M39=\"\",\"\",INDEX(referentes!$S$2:$S$170,MATCH(N39,referentes!$W$2:$W$170,0),1))","v":""},null,null,null,null,null,null,null,null,null,{"$f":"IF(X39=\"\",\"\",INDEX(referentes!$Y$2:$Z$37,MATCH(X39,referentes!$Z$2:$Z$37,0),1))","v":""},"01",null,null,null,"",null,"",null,null,"",null,1,{"$f":"IF(E39<>\"\",CONCATENATE(B39,A39,DIGITADOR!$M$1,AH39),\"\")","v":""},"",null,null,null,null,null,null,null,null,null,null,null,null,null,null,null,null,null,null,"","",{"$f":"IF(BE39=\"\",\"\",INDEX(referentes!$D$2:$E$37,MATCH(BE39,referentes!$D$2:$D$37,0),2))","v":""},null,{"$f":"IF(BI39=\"\",\"\",INDEX(referentes!$J$2:$L$363,MATCH(BI39,referentes!$J$2:$J$363,0),2))","v":""},"",35]
["30000104",{"$f":"DIGITADOR!$B$2","v":""},1,{"$f":"IF(E40<>\"\",CONCATENATE($A$2,DIGITADOR!$M$1,O40,AH40),\"\")","v":""},null,null,"00:00:00",1,1,null,null,null,"",{"$f":"IF(M40=\"\",\"\",INDEX('Otras referencias'!$L$2:$N$200,MATCH(M40,'Otras referencias'!$L$2:$L$200,0),3))","v":""},{"$f":"IF(M40=\"\",\"\",INDEX(referentes!$S$2:$S$170,MATCH(N40,referentes!$W$2:$W$170,0),1))","v":""},null,null,null,null,null,null,null,null,null,{"$f":"IF(X40=\"\",\"\",INDEX(referentes!$Y$2:$Z$37,MATCH(X40,referentes!$Z$2:$Z$37,0),1))","v":""},"01",null,null,null,"",null,"",null,null,"",null,1,{"$f":"IF(E40<>\"\",CONCATENATE(B40,A40,DIGITADOR!$M$1,AH40),\"\")","v":""},"",null,null,null,null,null,null,null,null,null,null,null,null,null,null,null,null,null,null,"","",{"$f":"IF(BE40=\"\",\"\",INDEX(referentes!$D$2:$E$37,MATCH(BE40,referentes!$D$2:$D$37,0),2))","v":""},null,{"$f":"IF(BI40=\"\",\"\",INDEX(referentes!$J$2:$L$363,MATCH(BI40,referentes!$J$2:$J$363,0),2))","v":""},"",36]
["30000104",{"$f":"DIGITADOR!$B$2","v":""},1,{"$f":"IF(E41<>\"\",CONCATENATE($A$2,DIGITADOR!$M$1,O41,AH41),\"\")","v":""},null,null,"00:00:00",1,1,null,null,null,"",{"$f":"IF(M41=\"\",\"\",INDEX('Otras referencias'!$L$2:$N$200,MATCH(M41,'Otras referencias'!$L$2:$L$200,0),3))","v":""},{"$f":"IF(M41=\"\",\"\",INDEX(referentes!$S$2:$S$170,MATCH(N41,referentes!$W$2:$W$170,0),1))","v":""},null,null,null,null,null,null,null,null,null,{"$f":"IF(X41=\"\",\"\",INDEX(referentes!$Y$2:$Z$37,MATCH(X41,referentes!$Z$2:$Z$37,0),1))","v":""},"01",null,null,null,"",null,"",null,null,"",null,1,{"$f":"IF(E41<>\"\",CONCATENATE(B41,A41,DIGITADOR!$M$1,AH41),\"\")","v":""},"",null,null,null,null,null,null,null,null,null,null,null,null,null,null,null,null,null,null,"","",{"$f":"IF(BE41=\"\",\"\",INDEX(referentes!$D$2:$E$37,MATCH(BE41,referentes!$D$2:$D$37,0),2))","v":""},null,{"$f":"IF(BI41=\"\",\"\",INDEX(referentes!$J$2:$L$363,MATCH(BI41,referentes!$J$2:$J$363,0),2))","v":""},"",37]
["30000104",{"$f":"DIGITADOR!$B$2","v":""},1,{"$f":"IF(E42<>\"\",CONCATENATE($A$2,DIGITADOR!$M$1,O42,AH42),\"\")","v":""},null,null,"00:00:00",1,1,null,null,null,"",{"$f":"IF(M42=\"\",\"\",INDEX('Otras referencias'!$L$2:$N$200,MATCH(M42,'Otras referencias'!$L$2:$L$200,0),3))","v":""},{"$f":"IF(M42=\"\",\"\",INDEX(referentes!$S$2:$S$170,MATCH(N42,referentes!$W$2:$W$170,0),1))","v":""},null,null,null,null,null,null,null,null,null,{"$f":"IF(X42=\"\",\"\",INDEX(referentes!$Y$2:$Z$37,MATCH(X42,referentes!$Z$2:$Z$37,0),1))","v":""},"01",null,null,null,"",null,"",null,null,"",null,1,{"$f":"IF(E42<>\"\",CONCATENATE(B42,A42,DIGITADOR!$M$1,AH42),\"\")","v":""},"",null,null,null,null,null,null,null,null,null,null,null,null,null,null,null,null,null,null,"","",{"$f":"IF(BE42=\"\",\"\",INDEX(referentes!$D$2:$E$37,MATCH(BE42,referentes!$D$2:$D$37,0),2))","v":""},null,{"$f":"IF(BI42=\"\",\"\",INDEX(referentes!$J$2:$L$363,MATCH(BI42,referentes!$J$2:$J$363,0),2))","v":""},"",38]
["30000104",{"$f":"DIGITADOR!$B$2","v":""},1,{"$f":"IF(E43<>\"\",CONCATENATE($A$2,DIGITADOR!$M$1,O43,AH43),\"\")","v":""},null,null,"00:00:00",1,1,null,null,null,"",{"$f":"IF(M43=\"\",\"\",INDEX('Otras referencias'!$L$2:$N$200,MATCH(M43,'Otras referencias'!$L$2:$L$200,0),3))","v":""},{"$f":"IF(M43=\"\",\"\",INDEX(referentes!$S$2:$S$170,MATCH(N43,referentes!$W$2:$W$170,0),1))","v":""},null,null,null,null,null,null,null,null,null,{"$f":"IF(X43=\"\",\"\",INDEX(referentes!$Y$2:$Z$37,MATCH(X43,referentes!$Z$2:$Z$37,0),1))","v":""},"01",null,null,null,"",null,"",null,null,"",null,1,{"$f":"IF(E43<>\"\",CONCATENATE(B43,A43,DIGITADOR!$M$1,AH43),\"\")","v":""},"",null,null,null,null,null,null,null,null,null,null,null,null,null,null,null,null,null,null,"","",{"$f":"IF(BE43=\"\",\"\",INDEX(referentes!$D$2:$E$37,MATCH(BE43,referentes!$D$2:$D$37,0),2))","v":""},null,{"$f":"IF(BI43=\"\",\"\",INDEX(referentes!$J$2:$L$363,MATCH(BI43,referentes!$J$2:$J$363,0),2))","v":""},"",39]
["30000104",{"$f":"DIGITADOR!$B$2","v":""},1,{"$f":"IF(E44<>\"\",CONCATENATE($A$2,DIGITADOR!$M$1,O44,AH44),\"\")","v":""},null,null,"00:00:00",1,1,null,null,null,"",{"$f":"IF(M44=\"\",\"\",INDEX('Otras referencias'!$L$2:$N$200,MATCH(M44,'Otras referencias'!$L$2:$L$200,0),3))","v":""},{"$f":"IF(M44=\"\",\"\",INDEX(referentes!$S$2:$S$170,MATCH(N44,referentes!$W$2:$W$170,0),1))","v":""},null,null,null,null,null,null,null,null,null,{"$f":"IF(X44=\"\",\"\",INDEX(referentes!$Y$2:$Z$37,MATCH(X44,referentes!$Z$2:$Z$37,0),1))","v":""},"01",null,null,null,"",null,"",null,null,"",null,1,{"$f":"IF(E44<>\"\",CONCATENATE(B44,A44,DIGITADOR!$M$1,AH44),\"\")","v":""},"",null,null,null,null,null,null,null,null,null,null,null,null,null,null,null,null,null,null,"","",{"$f":"IF(BE44=\"\",\"\",INDEX(referentes!$D$2:$E$37,MATCH(BE44,referentes!$D$2:$D$37,0),2))","v":""},null,{"$f":"IF(BI44=\"\",\"\",INDEX(referentes!$J$2:$L$363,MATCH(BI44,referentes!$J$2:$J$363,0),2))","v":""},"",40]
["30000104",{"$f":"DIGITADOR!$B$2","v":""},1,{"$f":"IF(E45<>\"\",CONCATENATE($A$2,DIGITADOR!$M$1,O45,AH45),\"\")","v":""},null,null,"00:00:00",1,1,null,null,null,"",{"$f":"IF(M45=\"\",\"\",INDEX('Otras referencias'!$L$2:$N$200,MATCH(M45,'Otras referencias'!$L$2:$L$200,0),3))","v":""},{"$f":"IF(M45=\"\",\"\",INDEX(referentes!$S$2:$S$170,MATCH(N45,referentes!$W$2:$W$170,0),1))","v":""},null,null,null,null,null,null,null,null,null,{"$f":"IF(X45=\"\",\"\",INDEX(referentes!$Y$2:$Z$37,MATCH(X45,referentes!$Z$2:$Z$37,0),1))","v":""},"01",null,null,null,"",null,"",null,null,"",null,1,{"$f":"IF(E45<>\"\",CONCATENATE(B45,A45,DIGITADOR!$M$1,AH45),\"\")","v":""},"",null,null,null,null,null,null,null,null,null,null,null,null,null,null,null,null,null,null,"","",{"$f":"IF(BE45=\"\",\"\",INDEX(referentes!$D$2:$E$37,MATCH(BE45,referentes!$D$2:$D$37,0),2))","v":""},null,{"$f":"IF(BI45=\"\",\"\",INDEX(referentes!$J$2:$L$363,MATCH(BI45,referentes!$J$2:$J$363,0),2))","v":""},"",41]
["30000104",{"$f":"DIGITADOR!$B$2","v":""},1,{"$f":"IF(E46<>\"\",CONCATENATE($A$2,DIGITADOR!$M$1,O46,AH46),\"\")","v":""},null,null,"00:00:00",1,1,null,null,null,"",{"$f":"IF(M46=\"\",\"\",INDEX('Otras referencias'!$L$2:$N$200,MATCH(M46,'Otras referencias'!$L$2:$L$200,0),3))","v":""},{"$f":"IF(M46=\"\",\"\",INDEX(referentes!$S$2:$S$170,MATCH(N46,referentes!$W$2:$W$170,0),1))","v":""},null,null,null,null,null,null,null,null,null,{"$f":"IF(X46=\"\",\"\",INDEX(referentes!$Y$2:$Z$37,MATCH(X46,referentes!$Z$2:$Z$37,0),1))","v":""},"01",null,null,null,"",null,"",null,null,"",null,1,{"$f":"IF(E46<>\"\",CONCATENATE(B46,A46,DIGITADOR!$M$1,AH46),\"\")","v":""},"",null,null,null,null,null,null,null,null,null,null,null,null,null,null,null,null,null,null,"","",{"$f":"IF(BE46=\"\",\"\",INDEX(referentes!$D$2:$E$37,MATCH(BE46,referentes!$D$2:$D$37,0),2))","v":""},null,{"$f":"IF(BI46=\"\",\"\",INDEX(referentes!$J$2:$L$363,MATCH(BI46,referentes!$J$2:$J$363,0),2))","v":""},"",42]
["30000104",{"$f":"DIGITADOR!$B$2","v":""},1,{"$f":"IF(E47<>\"\",CONCATENATE($A$2,DIGITADOR!$M$1,O47,AH47),\"\")","v":""},null,null,"00:00:00",1,1,null,null,null,"",{"$f":"IF(M47=\"\",\"\",INDEX('Otras referencias'!$L$2:$N$200,MATCH(M47,'Otras referencias'!$L$2:$L$200,0),3))","v":""},{"$f":"IF(M47=\"\",\"\",INDEX(referentes!$S$2:$S$170,MATCH(N47,referentes!$W$2:$W$170,0),1))","v":""},null,null,null,null,null,null,null,null,null,{"$f":"IF(X47=\"\",\"\",INDEX(referentes!$Y$2:$Z$37,MATCH(X47,referentes!$Z$2:$Z$37,0),1))","v":""},"01",null,null,null,"",null,"",null,null,"",null,1,{"$f":"IF(E47<>\"\",CONCATENATE(B47,A47,DIGITADOR!$M$1,AH47),\"\")","v":""},"",null,null,null,null,null,null,null,null,null,null,null,null,null,null,null,null,null,null,"","",{"$f":"IF(BE47=\"\",\"\",INDEX(referentes!$D$2:$E$37,MATCH(BE47,referentes!$D$2:$D$37,0),2))","v":""},null,{"$f":"IF(BI47=\"\",\"\",INDEX(referentes!$J$2:$L$363,MATCH(BI47,referentes!$J$2:$J$363,0),2))","v":""},"",43]
["30000104",{"$f":"DIGITADOR!$B$2","v":""},1,{"$f":"IF(E48<>\"\",CONCATENATE($A$2,DIGITADOR!$M$1,O48,AH48),\"\")","v":""},null,null,"00:00:00",1,1,null,null,null,"",{"$f":"IF(M48=\"\",\"\",INDEX('Otras referencias'!$L$2:$N$200,MATCH(M48,'Otras referencias'!$L$2:$L$200,0),3))","v":""},{"$f":"IF(M48=\"\",\"\",INDEX(referentes!$S$2:$S$170,MATCH(N48,referentes!$W$2:$W$170,0),1))","v":""},null,null,null,null,null,null,null,null,null,{"$f":"IF(X48=\"\",\"\",INDEX(referentes!$Y$2:$Z$37,MATCH(X48,referentes!$Z$2:$Z$37,0),1))","v":""},"01",null,null,null,"",null,"",null,null,"",null,1,{"$f":"IF(E48<>\"\",CONCATENATE(B48,A48,DIGITADOR!$M$1,AH48),\"\")","v":""},"",null,null,null,null,null,null,null,null,null,null,null,null,null,null,null,null,null,null,"","",{"$f":"IF(BE48=\"\",\"\",INDEX(referentes!$D$2:$E$37,MATCH(BE48,referentes!$D$2:$D$37,0),2))","v":""},null,{"$f":"IF(BI48=\"\",\"\",INDEX(referentes!$J$2:$L$363,MATCH(BI48,referentes!$J$2:$J$363,0),2))","v":""},"",44]
["30000104",{"$f":"DIGITADOR!$B$2","v":""},1,{"$f":"IF(E49<>\"\",CONCATENATE($A$2,DIGITADOR!$M$1,O49,AH49),\"\")","v":""},null,null,"00:00:00",1,1,null,null,null,"",{"$f":"IF(M49=\"\",\"\",INDEX('Otras referencias'!$L$2:$N$200,MATCH(M49,'Otras referencias'!$L$2:$L$200,0),3))","v":""},{"$f":"IF(M49=\"\",\"\",INDEX(referentes!$S$2:$S$170,MATCH(N49,referentes!$W$2:$W$170,0),1))","v":""},null,null,null,null,null,null,null,null,null,{"$f":"IF(X49=\"\",\"\",INDEX(referentes!$Y$2:$Z$37,MATCH(X49,referentes!$Z$2:$Z$37,0),1))","v":""},"01",null,null,null,"",null,"",null,null,"",null,1,{"$f":"IF(E49<>\"\",CONCATENATE(B49,A49,DIGITADOR!$M$1,AH49),\"\")","v":""},"",null,null,null,null,null,null,null,null,null,null,null,null,null,null,null,null,null,null,"","",{"$f":"IF(BE49=\"\",\"\",INDEX(referentes!$D$2:$E$37,MATCH(BE49,referentes!$D$2:$D$37,0),2))","v":""},null,{"$f":"IF(BI49=\"\",\"\",INDEX(referentes!$J$2:$L$363,MATCH(BI49,referentes!$J$2:$J$363,0),2))","v":""},"",45]
["30000104",{"$f":"DIGITADOR!$B$2","v":""},1,{"$f":"IF(E50<>\"\",CONCATENATE($A$2,DIGITADOR!$M$1,O50,AH50),\"\")","v":""},null,null,"00:00:00",1,1,null,null,null,"",{"$f":"IF(M50=\"\",\"\",INDEX('Otras referencias'!$L$2:$N$200,MATCH(M50,'Otras referencias'!$L$2:$L$200,0),3))","v":""},{"$f":"IF(M50=\"\",\"\",INDEX(referentes!$S$2:$S$170,MATCH(N50,referentes!$W$2:$W$170,0),1))","v":""},null,null,null,null,null,null,null,null,null,{"$f":"IF(X50=\"\",\"\",INDEX(referentes!$Y$2:$Z$37,MATCH(X50,referentes!$Z$2:$Z$37,0),1))","v":""},"01",null,null,null,"",null,"",null,null,"",null,1,{"$f":"IF(E50<>\"\",CONCATENATE(B50,A50,DIGITADOR!$M$1,AH50),\"\")","v":""},"",null,null,null,null,null,null,null,null,null,null,null,null,null,null,null,null,null,null,"","",{"$f":"IF(BE50=\"\",\"\",INDEX(referentes!$D$2:$E$37,MATCH(BE50,referentes!$D$2:$D$37,0),2))","v":""},null,{"$f":"IF(BI50=\"\",\"\",INDEX(referentes!$J$2:$L$363,MATCH(BI50,referentes!$J$2:$J$363,0),2))","v":""},"",46]
["30000104",{"$f":"DIGITADOR!$B$2","v":""},1,{"$f":"IF(E51<>\"\",CONCATENATE($A$2,DIGITADOR!$M$1,O51,AH51),\"\")","v":""},null,null,"00:00:00",1,1,null,null,null,"",{"$f":"IF(M51=\"\",\"\",INDEX('Otras referencias'!$L$2:$N$200,MATCH(M51,'Otras referencias'!$L$2:$L$200,0),3))","v":""},{"$f":"IF(M51=\"\",\"\",INDEX(referentes!$S$2:$S$170,MATCH(N51,referentes!$W$2:$W$170,0),1))","v":""},null,null,null,null,null,null,null,null,null,{"$f":"IF(X51=\"\",\"\",INDEX(referentes!$Y$2:$Z$37,MATCH(X51,referentes!$Z$2:$Z$37,0),1))","v":""},"01",null,null,null,"",null,"",null,null,"",null,1,{"$f":"IF(E51<>\"\",CONCATENATE(B51,A51,DIGITADOR!$M$1,AH51),\"\")","v":""},"",null,null,null,null,null,null,null,null,null,null,null,null,null,null,null,null,null,null,"","",{"$f":"IF(BE51=\"\",\"\",INDEX(referentes!$D$2:$E$37,MATCH(BE51,referentes!$D$2:$D$37,0),2))","v":""},null,{"$f":"IF(BI51=\"\",\"\",INDEX(referentes!$J$2:$L$363,MATCH(BI51,referentes!$J$2:$J$363,0),2))","v":""},"",47]
["30000104",{"$f":"DIGITADOR!$B$2","v":""},1,{"$f":"IF(E52<>\"\",CONCATENATE($A$2,DIGITADOR!$M$1,O52,AH52),\"\")","v":""},null,null,"00:00:00",1,1,null,null,null,"",{"$f":"IF(M52=\"\",\"\",INDEX('Otras referencias'!$L$2:$N$200,MATCH(M52,'Otras referencias'!$L$2:$L$200,0),3))","v":""},{"$f":"IF(M52=\"\",\"\",INDEX(referentes!$S$2:$S$170,MATCH(N52,referentes!$W$2:$W$170,0),1))","v":""},null,null,null,null,null,null,null,null,null,{"$f":"IF(X52=\"\",\"\",INDEX(referentes!$Y$2:$Z$37,MATCH(X52,referentes!$Z$2:$Z$37,0),1))","v":""},"01",null,null,null,"",null,"",null,null,"",null,1,{"$f":"IF(E52<>\"\",CONCATENATE(B52,A52,DIGITADOR!$M$1,AH52),\"\")","v":""},"",null,null,null,null,null,null,null,null,null,null,null,null,null,null,null,null,null,null,"","",{"$f":"IF(BE52=\"\",\"\",INDEX(referentes!$D$2:$E$37,MATCH(BE52,referentes!$D$2:$D$37,0),2))","v":""},null,{"$f":"IF(BI52=\"\",\"\",INDEX(referentes!$J$2:$L$363,MATCH(BI52,referentes!$J$2:$J$363,0),2))","v":""},"",48]
["30000104",{"$f":"DIGITADOR!$B$2","v":""},1,{"$f":"IF(E53<>\"\",CONCATENATE($A$2,DIGITADOR!$M$1,O53,AH53),\"\")","v":""},null,null,"00:00:00",1,1,null,null,null,"",{"$f":"IF(M53=\"\",\"\",INDEX('Otras referencias'!$L$2:$N$200,MATCH(M53,'Otras referencias'!$L$2:$L$200,0),3))","v":""},{"$f":"IF(M53=\"\",\"\",INDEX(referentes!$S$2:$S$170,MATCH(N53,referentes!$W$2:$W$170,0),1))","v":""},null,null,null,null,null,null,null,null,null,{"$f":"IF(X53=\"\",\"\",INDEX(referentes!$Y$2:$Z$37,MATCH(X53,referentes!$Z$2:$Z$37,0),1))","v":""},"01",null,null,null,"",null,"",null,null,"",null,1,{"$f":"IF(E53<>\"\",CONCATENATE(B53,A53,DIGITADOR!$M$1,AH53),\"\")","v":""},"",null,null,null,null,null,null,null,null,null,null,null,null,null,null,null,null,null,null,"","",{"$f":"IF(BE53=\"\",\"\",INDEX(referentes!$D$2:$E$37,MATCH(BE53,referentes!$D$2:$D$37,0),2))","v":""},null,{"$f":"IF(BI53=\"\",\"\",INDEX(referentes!$J$2:$L$363,MATCH(BI53,referentes!$J$2:$J$363,0),2))","v":""},"",49]
["30000104",{"$f":"DIGITADOR!$B$2","v":""},1,{"$f":"IF(E54<>\"\",CONCATENATE($A$2,DIGITADOR!$M$1,O54,AH54),\"\")","v":""},null,null,"00:00:00",1,1,null,null,null,"",{"$f":"IF(M54=\"\",\"\",INDEX('Otras referencias'!$L$2:$N$200,MATCH(M54,'Otras referencias'!$L$2:$L$200,0),3))","v":""},{"$f":"IF(M54=\"\",\"\",INDEX(referentes!$S$2:$S$170,MATCH(N54,referentes!$W$2:$W$170,0),1))","v":""},null,null,null,null,null,null,null,null,null,{"$f":"IF(X54=\"\",\"\",INDEX(referentes!$Y$2:$Z$37,MATCH(X54,referentes!$Z$2:$Z$37,0),1))","v":""},"01",null,null,null,"",null,"",null,null,"",null,1,{"$f":"IF(E54<>\"\",CONCATENATE(B54,A54,DIGITADOR!$M$1,AH54),\"\")","v":""},"",null,null,null,null,null,null,null,null,null,null,null,null,null,null,null,null,null,null,"","",{"$f":"IF(BE54=\"\",\"\",INDEX(referentes!$D$2:$E$37,MATCH(BE54,referentes!$D$2:$D$37,0),2))","v":""},null,{"$f":"IF(BI54=\"\",\"\",INDEX(referentes!$J$2:$L$363,MATCH(BI54,referentes!$J$2:$J$363,0),2))","v":""},"",50]
["30000104",{"$f":"DIGITADOR!$B$2","v":""},1,{"$f":"IF(E55<>\"\",CONCATENATE($A$2,DIGITADOR!$M$1,O55,AH55),\"\")","v":""},null,null,"00:00:00",1,1,null,null,null,"",{"$f":"IF(M55=\"\",\"\",INDEX('Otras referencias'!$L$2:$N$200,MATCH(M55,'Otras referencias'!$L$2:$L$200,0),3))","v":""},{"$f":"IF(M55=\"\",\"\",INDEX(referentes!$S$2:$S$170,MATCH(N55,referentes!$W$2:$W$170,0),1))","v":""},null,null,null,null,null,null,null,null,null,{"$f":"IF(X55=\"\",\"\",INDEX(referentes!$Y$2:$Z$37,MATCH(X55,referentes!$Z$2:$Z$37,0),1))","v":""},"01",null,null,null,"",null,"",null,null,"",null,1,{"$f":"IF(E55<>\"\",CONCATENATE(B55,A55,DIGITADOR!$M$1,AH55),\"\")","v":""},"",null,null,null,null,null,null,null,null,null,null,null,null,null,null,null,null,null,null,"","",{"$f":"IF(BE55=\"\",\"\",INDEX(referentes!$D$2:$E$37,MATCH(BE55,referentes!$D$2:$D$37,0),2))","v":""},null,{"$f":"IF(BI55=\"\",\"\",INDEX(referentes!$J$2:$L$363,MATCH(BI55,referentes!$J$2:$J$363,0),2))","v":""},"",51]
["30000104",{"$f":"DIGITADOR!$B$2","v":""},1,{"$f":"IF(E56<>\"\",CONCATENATE($A$2,DIGITADOR!$M$1,O56,AH56),\"\")","v":""},null,null,"00:00:00",1,1,null,null,null,"",{"$f":"IF(M56=\"\",\"\",INDEX('Otras referencias'!$L$2:$N$200,MATCH(M56,'Otras referencias'!$L$2:$L$200,0),3))","v":""},{"$f":"IF(M56=\"\",\"\",INDEX(referentes!$S$2:$S$170,MATCH(N56,referentes!$W$2:$W$170,0),1))","v":""},null,null,null,null,null,null,null,null,null,{"$f":"IF(X56=\"\",\"\",INDEX(referentes!$Y$2:$Z$37,MATCH(X56,referentes!$Z$2:$Z$37,0),1))","v":""},"01",null,null,null,"",null,"",null,null,"",null,1,{"$f":"IF(E56<>\"\",CONCATENATE(B56,A56,DIGITADOR!$M$1,AH56),\"\")","v":""},"",null,null,null,null,null,null,null,null,null,null,null,null,null,null,null,null,null,null,"","",{"$f":"IF(BE56=\"\",\"\",INDEX(referentes!$D$2:$E$37,MATCH(BE56,referentes!$D$2:$D$37,0),2))","v":""},null,{"$f":"IF(BI56=\"\",\"\",INDEX(referentes!$J$2:$L$363,MATCH(BI56,referentes!$J$2:$J$363,0),2))","v":""},"",52]
["30000104",{"$f":"DIGITADOR!$B$2","v":""},1,{"$f":"IF(E57<>\"\",CONCATENATE($A$2,DIGITADOR!$M$1,O57,AH57),\"\")","v":""},null,null,"00:00:00",1,1,null,null,null,"",{"$f":"IF(M57=\"\",\"\",INDEX('Otras referencias'!$L$2:$N$200,MATCH(M57,'Otras referencias'!$L$2:$L$200,0),3))","v":""},{"$f":"IF(M57=\"\",\"\",INDEX(referentes!$S$2:$S$170,MATCH(N57,referentes!$W$2:$W$170,0),1))","v":""},null,null,null,null,null,null,null,null,null,{"$f":"IF(X57=\"\",\"\",INDEX(referentes!$Y$2:$Z$37,MATCH(X57,referentes!$Z$2:$Z$37,0),1))","v":""},"01",null,null,null,"",null,"",null,null,"",null,1,{"$f":"IF(E57<>\"\",CONCATENATE(B57,A57,DIGITADOR!$M$1,AH57),\"\")","v":""},"",null,null,null,null,null,null,null,null,null,null,null,null,null,null,null,null,null,null,"","",{"$f":"IF(BE57=\"\",\"\",INDEX(referentes!$D$2:$E$37,MATCH(BE57,referentes!$D$2:$D$37,0),2))","v":""},null,{"$f":"IF(BI57=\"\",\"\",INDEX(referentes!$J$2:$L$363,MATCH(BI57,referentes!$J$2:$J$363,0),2))","v":""},"",53]
["30000104",{"$f":"DIGITADOR!$B$2","v":""},1,{"$f":"IF(E58<>\"\",CONCATENATE($A$2,DIGITADOR!$M$1,O58,AH58),\"\")","v":""},null,null,"00:00:00",1,1,null,null,null,"",{"$f":"IF(M58=\"\",\"\",INDEX('Otras referencias'!$L$2:$N$200,MATCH(M58,'Otras referencias'!$L$2:$L$200,0),3))","v":""},{"$f":"IF(M58=\"\",\"\",INDEX(referentes!$S$2:$S$170,MATCH(N58,referentes!$W$2:$W$170,0),1))","v":""},null,null,null,null,null,null,null,null,null,{"$f":"IF(X58=\"\",\"\",INDEX(referentes!$Y$2:$Z$37,MATCH(X58,referentes!$Z$2:$Z$37,0),1))","v":""},"01",null,null,null,"",null,"",null,null,"",null,1,{"$f":"IF(E58<>\"\",CONCATENATE(B58,A58,DIGITADOR!$M$1,AH58),\"\")","v":""},"",null,null,null,null,null,null,null,null,null,null,null,null,null,null,null,null,null,null,"","",{"$f":"IF(BE58=\"\",\"\",INDEX(referentes!$D$2:$E$37,MATCH(BE58,referentes!$D$2:$D$37,0),2))","v":""},null,{"$f":"IF(BI58=\"\",\"\",INDEX(referentes!$J$2:$L$363,MATCH(BI58,referentes!$J$2:$J$363,0),2))","v":""},"",54]
["30000104",{"$f":"DIGITADOR!$B$2","v":""},1,{"$f":"IF(E59<>\"\",CONCATENATE($A$2,DIGITADOR!$M$1,O59,AH59),\"\")","v":""},null,null,"00:00:00",1,1,null,null,null,"",{"$f":"IF(M59=\"\",\"\",INDEX('Otras referencias'!$L$2:$N$200,MATCH(M59,'Otras referencias'!$L$2:$L$200,0),3))","v":""},{"$f":"IF(M59=\"\",\"\",INDEX(referentes!$S$2:$S$170,MATCH(N59,referentes!$W$2:$W$170,0),1))","v":""},null,null,null,null,null,null,null,null,null,{"$f":"IF(X59=\"\",\"\",INDEX(referentes!$Y$2:$Z$37,MATCH(X59,referentes!$Z$2:$Z$37,0),1))","v":""},"01",null,null,null,"",null,"",null,null,"",null,1,{"$f":"IF(E59<>\"\",CONCATENATE(B59,A59,DIGITADOR!$M$1,AH59),\"\")","v":""},"",null,null,null,null,null,null,null,null,null,null,null,null,null,null,null,null,null,null,"","",{"$f":"IF(BE59=\"\",\"\",INDEX(referentes!$D$2:$E$37,MATCH(BE59,referentes!$D$2:$D$37,0),2))","v":""},null,{"$f":"IF(BI59=\"\",\"\",INDEX(referentes!$J$2:$L$363,MATCH(BI59,referentes!$J$2:$J$363,0),2))","v":""},"",55]
["30000104",{"$f":"DIGITADOR!$B$2","v":""},1,{"$f":"IF(E60<>\"\",CONCATENATE($A$2,DIGITADOR!$M$1,O60,AH60),\"\")","v":""},null,null,"00:00:00",1,1,null,null,null,"",{"$f":"IF(M60=\"\",\"\",INDEX('Otras referencias'!$L$2:$N$200,MATCH(M60,'Otras referencias'!$L$2:$L$200,0),3))","v":""},{"$f":"IF(M60=\"\",\"\",INDEX(referentes!$S$2:$S$170,MATCH(N60,referentes!$W$2:$W$170,0),1))","v":""},null,null,null,null,null,null,null,null,null,{"$f":"IF(X60=\"\",\"\",INDEX(referentes!$Y$2:$Z$37,MATCH(X60,referentes!$Z$2:$Z$37,0),1))","v":""},"01",null,null,null,"",null,"",null,null,"",null,1,{"$f":"IF(E60<>\"\",CONCATENATE(B60,A60,DIGITADOR!$M$1,AH60),\"\")","v":""},"",null,null,null,null,null,null,null,null,null,null,null,null,null,null,null,null,null,null,"","",{"$f":"IF(BE60=\"\",\"\",INDEX(referentes!$D$2:$E$37,MATCH(BE60,referentes!$D$2:$D$37,0),2))","v":""},null,{"$f":"IF(BI60=\"\",\"\",INDEX(referentes!$J$2:$L$363,MATCH(BI60,referentes!$J$2:$J$363,0),2))","v":""},"",56]
["30000104",{"$f":"DIGITADOR!$B$2","v":""},1,{"$f":"IF(E61<>\"\",CONCATENATE($A$2,DIGITADOR!$M$1,O61,AH61),\"\")","v":""},null,null,"00:00:00",1,1,null,null,null,"",{"$f":"IF(M61=\"\",\"\",INDEX('Otras referencias'!$L$2:$N$200,MATCH(M61,'Otras referencias'!$L$2:$L$200,0),3))","v":""},{"$f":"IF(M61=\"\",\"\",INDEX(referentes!$S$2:$S$170,MATCH(N61,referentes!$W$2:$W$170,0),1))","v":""},null,null,null,null,null,null,null,null,null,{"$f":"IF(X61=\"\",\"\",INDEX(referentes!$Y$2:$Z$37,MATCH(X61,referentes!$Z$2:$Z$37,0),1))","v":""},"01",null,null,null,"",null,"",null,null,"",null,1,{"$f":"IF(E61<>\"\",CONCATENATE(B61,A61,DIGITADOR!$M$1,AH61),\"\")","v":""},"",null,null,null,null,null,null,null,null,null,null,null,null,null,null,null,null,null,null,"","",{"$f":"IF(BE61=\"\",\"\",INDEX(referentes!$D$2:$E$37,MATCH(BE61,referentes!$D$2:$D$37,0),2))","v":""},null,{"$f":"IF(BI61=\"\",\"\",INDEX(referentes!$J$2:$L$363,MATCH(BI61,referentes!$J$2:$J$363,0),2))","v":""},"",57]
["30000104",{"$f":"DIGITADOR!$B$2","v":""},1,{"$f":"IF(E62<>\"\",CONCATENATE($A$2,DIGITADOR!$M$1,O62,AH62),\"\")","v":""},null,null,"00:00:00",1,1,null,null,null,"",{"$f":"IF(M62=\"\",\"\",INDEX('Otras referencias'!$L$2:$N$200,MATCH(M62,'Otras referencias'!$L$2:$L$200,0),3))","v":""},{"$f":"IF(M62=\"\",\"\",INDEX(referentes!$S$2:$S$170,MATCH(N62,referentes!$W$2:$W$170,0),1))","v":""},null,null,null,null,null,null,null,null,null,{"$f":"IF(X62=\"\",\"\",INDEX(referentes!$Y$2:$Z$37,MATCH(X62,referentes!$Z$2:$Z$37,0),1))","v":""},"01",null,null,null,"",null,"",null,null,"",null,1,{"$f":"IF(E62<>\"\",CONCATENATE(B62,A62,DIGITADOR!$M$1,AH62),\"\")","v":""},"",null,null,null,null,null,null,null,null,null,null,null,null,null,null,null,null,null,null,"","",{"$f":"IF(BE62=\"\",\"\",INDEX(referentes!$D$2:$E$37,MATCH(BE62,referentes!$D$2:$D$37,0),2))","v":""},null,{"$f":"IF(BI62=\"\",\"\",INDEX(referentes!$J$2:$L$363,MATCH(BI62,referentes!$J$2:$J$363,0),2))","v":""},"",58]
["30000104",{"$f":"DIGITADOR!$B$2","v":""},1,{"$f":"IF(E63<>\"\",CONCATENATE($A$2,DIGITADOR!$M$1,O63,AH63),\"\")","v":""},null,null,"00:00:00",1,1,null,null,null,"",{"$f":"IF(M63=\"\",\"\",INDEX('Otras referencias'!$L$2:$N$200,MATCH(M63,'Otras referencias'!$L$2:$L$200,0),3))","v":""},{"$f":"IF(M63=\"\",\"\",INDEX(referentes!$S$2:$S$170,MATCH(N63,referentes!$W$2:$W$170,0),1))","v":""},null,null,null,null,null,null,null,null,null,{"$f":"IF(X63=\"\",\"\",INDEX(referentes!$Y$2:$Z$37,MATCH(X63,referentes!$Z$2:$Z$37,0),1))","v":""},"01",null,null,null,"",null,"",null,null,"",null,1,{"$f":"IF(E63<>\"\",CONCATENATE(B63,A63,DIGITADOR!$M$1,AH63),\"\")","v":""},"",null,null,null,null,null,null,null,null,null,null,null,null,null,null,null,null,null,null,"","",{"$f":"IF(BE63=\"\",\"\",INDEX(referentes!$D$2:$E$37,MATCH(BE63,referentes!$D$2:$D$37,0),2))","v":""},null,{"$f":"IF(BI63=\"\",\"\",INDEX(referentes!$J$2:$L$363,MATCH(BI63,referentes!$J$2:$J$363,0),2))","v":""},"",59]
["30000104",{"$f":"DIGITADOR!$B$2","v":""},1,{"$f":"IF(E64<>\"\",CONCATENATE($A$2,DIGITADOR!$M$1,O64,AH64),\"\")","v":""},null,null,"00:00:00",1,1,null,null,null,"",{"$f":"IF(M64=\"\",\"\",INDEX('Otras referencias'!$L$2:$N$200,MATCH(M64,'Otras referencias'!$L$2:$L$200,0),3))","v":""},{"$f":"IF(M64=\"\",\"\",INDEX(referentes!$S$2:$S$170,MATCH(N64,referentes!$W$2:$W$170,0),1))","v":""},null,null,null,null,null,null,null,null,null,{"$f":"IF(X64=\"\",\"\",INDEX(referentes!$Y$2:$Z$37,MATCH(X64,referentes!$Z$2:$Z$37,0),1))","v":""},"01",null,null,null,"",null,"",null,null,"",null,1,{"$f":"IF(E64<>\"\",CONCATENATE(B64,A64,DIGITADOR!$M$1,AH64),\"\")","v":""},"",null,null,null,null,null,null,null,null,null,null,null,null,null,null,null,null,null,null,"","",{"$f":"IF(BE64=\"\",\"\",INDEX(referentes!$D$2:$E$37,MATCH(BE64,referentes!$D$2:$D$37,0),2))","v":""},null,{"$f":"IF(BI64=\"\",\"\",INDEX(referentes!$J$2:$L$363,MATCH(BI64,referentes!$J$2:$J$363,0),2))","v":""},"",60]
["30000104",{"$f":"DIGITADOR!$B$2","v":""},1,{"$f":"IF(E65<>\"\",CONCATENATE($A$2,DIGITADOR!$M$1,O65,AH65),\"\")","v":""},null,null,"00:00:00",1,1,null,null,null,"",{"$f":"IF(M65=\"\",\"\",INDEX('Otras referencias'!$L$2:$N$200,MATCH(M65,'Otras referencias'!$L$2:$L$200,0),3))","v":""},{"$f":"IF(M65=\"\",\"\",INDEX(referentes!$S$2:$S$170,MATCH(N65,referentes!$W$2:$W$170,0),1))","v":""},null,null,null,null,null,null,null,null,null,{"$f":"IF(X65=\"\",\"\",INDEX(referentes!$Y$2:$Z$37,MATCH(X65,referentes!$Z$2:$Z$37,0),1))","v":""},"01",null,null,null,"",null,"",null,null,"",null,1,{"$f":"IF(E65<>\"\",CONCATENATE(B65,A65,DIGITADOR!$M$1,AH65),\"\")","v":""},"",null,null,null,null,null,null,null,null,null,null,null,null,null,null,null,null,null,null,"","",{"$f":"IF(BE65=\"\",\"\",INDEX(referentes!$D$2:$E$37,MATCH(BE65,referentes!$D$2:$D$37,0),2))","v":""},null,{"$f":"IF(BI65=\"\",\"\",INDEX(referentes!$J$2:$L$363,MATCH(BI65,referentes!$J$2:$J$363,0),2))","v":""},"",61]
["30000104",{"$f":"DIGITADOR!$B$2","v":""},1,{"$f":"IF(E66<>\"\",CONCATENATE($A$2,DIGITADOR!$M$1,O66,AH66),\"\")","v":""},null,null,"00:00:00",1,1,null,null,null,"",{"$f":"IF(M66=\"\",\"\",INDEX('Otras referencias'!$L$2:$N$200,MATCH(M66,'Otras referencias'!$L$2:$L$200,0),3))","v":""},{"$f":"IF(M66=\"\",\"\",INDEX(referentes!$S$2:$S$170,MATCH(N66,referentes!$W$2:$W$170,0),1))","v":""},null,null,null,null,null,null,null,null,null,{"$f":"IF(X66=\"\",\"\",INDEX(referentes!$Y$2:$Z$37,MATCH(X66,referentes!$Z$2:$Z$37,0),1))","v":""},"01",null,null,null,"",null,"",null,null,"",null,1,{"$f":"IF(E66<>\"\",CONCATENATE(B66,A66,DIGITADOR!$M$1,AH66),\"\")","v":""},"",null,null,null,null,null,null,null,null,null,null,null,null,null,null,null,null,null,null,"","",{"$f":"IF(BE66=\"\",\"\",INDEX(referentes!$D$2:$E$37,MATCH(BE66,referentes!$D$2:$D$37,0),2))","v":""},null,{"$f":"IF(BI66=\"\",\"\",INDEX(referentes!$J$2:$L$363,MATCH(BI66,referentes!$J$2:$J$363,0),2))","v":""},"",62]
["30000104",{"$f":"DIGITADOR!$B$2","v":""},1,{"$f":"IF(E67<>\"\",CONCATENATE($A$2,DIGITADOR!$M$1,O67,AH67),\"\")","v":""},null,null,"00:00:00",1,1,null,null,null,"",{"$f":"IF(M67=\"\",\"\",INDEX('Otras referencias'!$L$2:$N$200,MATCH(M67,'Otras referencias'!$L$2:$L$200,0),3))","v":""},{"$f":"IF(M67=\"\",\"\",INDEX(referentes!$S$2:$S$170,MATCH(N67,referentes!$W$2:$W$170,0),1))","v":""},null,null,null,null,null,null,null,null,null,{"$f":"IF(X67=\"\",\"\",INDEX(referentes!$Y$2:$Z$37,MATCH(X67,referentes!$Z$2:$Z$37,0),1))","v":""},"01",null,null,null,"",null,"",null,null,"",null,1,{"$f":"IF(E67<>\"\",CONCATENATE(B67,A67,DIGITADOR!$M$1,AH67),\"\")","v":""},"",null,null,null,null,null,null,null,null,null,null,null,null,null,null,null,null,null,null,"","",{"$f":"IF(BE67=\"\",\"\",INDEX(referentes!$D$2:$E$37,MATCH(BE67,referentes!$D$2:$D$37,0),2))","v":""},null,{"$f":"IF(BI67=\"\",\"\",INDEX(referentes!$J$2:$L$363,MATCH(BI67,referentes!$J$2:$J$363,0),2))","v":""},"",63]
["30000104",{"$f":"DIGITADOR!$B$2","v":""},1,{"$f":"IF(E68<>\"\",CONCATENATE($A$2,DIGITADOR!$M$1,O68,AH68),\"\")","v":""},null,null,"00:00:00",1,1,null,null,null,"",{"$f":"IF(M68=\"\",\"\",INDEX('Otras referencias'!$L$2:$N$200,MATCH(M68,'Otras referencias'!$L$2:$L$200,0),3))","v":""},{"$f":"IF(M68=\"\",\"\",INDEX(referentes!$S$2:$S$170,MATCH(N68,referentes!$W$2:$W$170,0),1))","v":""},null,null,null,null,null,null,null,null,null,{"$f":"IF(X68=\"\",\"\",INDEX(referentes!$Y$2:$Z$37,MATCH(X68,referentes!$Z$2:$Z$37,0),1))","v":""},"01",null,null,null,"",null,"",null,null,"",null,1,{"$f":"IF(E68<>\"\",CONCATENATE(B68,A68,DIGITADOR!$M$1,AH68),\"\")","v":""},"",null,null,null,null,null,null,null,null,null,null,null,null,null,null,null,null,null,null,"","",{"$f":"IF(BE68=\"\",\"\",INDEX(referentes!$D$2:$E$37,MATCH(BE68,referentes!$D$2:$D$37,0),2))","v":""},null,{"$f":"IF(BI68=\"\",\"\",INDEX(referentes!$J$2:$L$363,MATCH(BI68,referentes!$J$2:$J$363,0),2))","v":""},"",64]
["30000104",{"$f":"DIGITADOR!$B$2","v":""},{"$f":"IF(Z69=Z68,C68,C68+1)","v":1},{"$f":"IF(E69<>\"\",CONCATENATE($A$2,DIGITADOR!$M$1,O69,AH69),\"\")","v":""},null,null,{"$f":"E69+F69","v":"00:00:00"},{"$f":"IF(G69<>\"\",MONTH(G69),\"\")","v":1},1,null,null,null,{"$f":"IF(L69<>\"\",CONCATENATE(J69,L69),\"\")","v":""},{"$f":"IF(M69=\"\",\"\",INDEX('Otras referencias'!$L$2:$N$200,MATCH(M69,'Otras referencias'!$L$2:$L$200,0),3))","v":""},{"$f":"IF(M69=\"\",\"\",INDEX(referentes!$S$2:$S$170,MATCH(N69,referentes!$W$2:$W$170,0),1))","v":""},null,null,null,null,null,null,null,null,null,{"$f":"IF(X69=\"\",\"\",INDEX(referentes!$Y$2:$Z$37,MATCH(X69,referentes!$Z$2:$Z$37,0),1))","v":""},{"$f":"CONCATENATE(G69,O69,Y69,AK69)","v":"01"},null,null,null,"",null,"",null,null,"",null,1,{"$f":"IF(E69<>\"\",CONCATENATE(B69,A69,DIGITADOR!$M$1,AH69),\"\")","v":""},{"$f":"IF(D69=\"\",\"\",IF(AND(D69=D68,AI69=AI68,N69=N68),AM68+1,1))","v":""},null,null,null,null,null,null,null,null,null,null,null,null,null,null,null,null,null,null,"","",{"$f":"IF(BE69=\"\",\"\",INDEX(referentes!$D$2:$E$37,MATCH(BE69,referentes!$D$2:$D$37,0),2))","v":""},null,{"$f":"IF(BI69=\"\",\"\",INDEX(referentes!$J$2:$L$363,MATCH(BI69,referentes!$J$2:$J$363,0),2))","v":""},{"$f":"IF(D69=\"\",\"\",CONCATENATE(D69,BL69))","v":""},65]
[{"$f":"A69","v":"30000104"},{"$f":"DIGITADOR!$B$2","v":""},1,{"$f":"IF(E70<>\"\",CONCATENATE($A$2,DIGITADOR!$M$1,O70,AH70),\"\")","v":""},null,null,"00:00:00",1,1,null,null,null,"",{"$f":"IF(M70=\"\",\"\",INDEX('Otras referencias'!$L$2:$N$200,MATCH(M70,'Otras referencias'!$L$2:$L$200,0),3))","v":""},{"$f":"IF(M70=\"\",\"\",INDEX(referentes!$S$2:$S$170,MATCH(N70,referentes!$W$2:$W$170,0),1))","v":""},null,null,null,null,null,null,null,null,null,{"$f":"IF(X70=\"\",\"\",INDEX(referentes!$Y$2:$Z$37,MATCH(X70,referentes!$Z$2:$Z$37,0),1))","v":""},"01",null,null,null,{"$f":"IF(D70=\"\",\"\",\"OA\")","v":""},null,{"$f":"IF(D70=\"\",\"\",\"SO\")","v":""},null,null,{"$f":"CONCATENATE(AG70,AH70)","v":""},null,1,{"$f":"IF(E70<>\"\",CONCATENATE(B70,A70,DIGITADOR!$M$1,AH70),\"\")","v":""},"",null,null,null,null,null,null,null,null,null,null,null,null,null,null,null,null,null,null,{"$f":"IF(BE70=\"\",\"\",UPPER(BE70))","v":""},{"$f":"IF(BI70=\"\",\"\",UPPER(BI70))","v":""},{"$f":"IF(BE70=\"\",\"\",INDEX(referentes!$D$2:$E$37,MATCH(BE70,referentes!$D$2:$D$37,0),2))","v":""},null,{"$f":"IF(BI70=\"\",\"\",INDEX(referentes!$J$2:$L$363,MATCH(BI70,referentes!$J$2:$J$363,0),2))","v":""},"",66]
["30000104",{"$f":"DIGITADOR!$B$2","v":""},1,{"$f":"IF(E71<>\"\",CONCATENATE($A$2,DIGITADOR!$M$1,O71,AH71),\"\")","v":""},null,null,"00:00:00",1,1,null,null,null,"",{"$f":"IF(M71=\"\",\"\",INDEX('Otras referencias'!$L$2:$N$200,MATCH(M71,'Otras referencias'!$L$2:$L$200,0),3))","v":""},{"$f":"IF(M71=\"\",\"\",INDEX(referentes!$S$2:$S$170,MATCH(N71,referentes!$W$2:$W$170,0),1))","v":""},null,null,null,null,null,null,null,null,null,{"$f":"IF(X71=\"\",\"\",INDEX(referentes!$Y$2:$Z$37,MATCH(X71,referentes!$Z$2:$Z$37,0),1))","v":""},"01",null,null,null,"",null,"",null,null,"",null,1,{"$f":"IF(E71<>\"\",CONCATENATE(B71,A71,DIGITADOR!$M$1,AH71),\"\")","v":""},"",null,null,null,null,null,null,null,null,null,null,null,null,null,null,null,null,null,null,"","",{"$f":"IF(BE71=\"\",\"\",INDEX(referentes!$D$2:$E$37,MATCH(BE71,referentes!$D$2:$D$37,0),2))","v":""},null,{"$f":"IF(BI71=\"\",\"\",INDEX(referentes!$J$2:$L$363,MATCH(BI71,referentes!$J$2:$J$363,0),2))","v":""},"",67]
["30000104",{"$f":"DIGITADOR!$B$2","v":""},1,{"$f":"IF(E72<>\"\",CONCATENATE($A$2,DIGITADOR!$M$1,O72,AH72),\"\")","v":""},null,null,"00:00:00",1,1,null,null,null,"",{"$f":"IF(M72=\"\",\"\",INDEX('Otras referencias'!$L$2:$N$200,MATCH(M72,'Otras referencias'!$L$2:$L$200,0),3))","v":""},{"$f":"IF(M72=\"\",\"\",INDEX(referentes!$S$2:$S$170,MATCH(N72,referentes!$W$2:$W$170,0),1))","v":""},null,null,null,null,null,null,null,null,null,{"$f":"IF(X72=\"\",\"\",INDEX(referentes!$Y$2:$Z$37,MATCH(X72,referentes!$Z$2:$Z$37,0),1))","v":""},"01",null,null,null,"",null,"",null,null,"",null,1,{"$f":"IF(E72<>\"\",CONCATENATE(B72,A72,DIGITADOR!$M$1,AH72),\"\")","v":""},"",null,null,null,null,null,null,null,null,null,null,null,null,null,null,null,null,null,null,"","",{"$f":"IF(BE72=\"\",\"\",INDEX(referentes!$D$2:$E$37,MATCH(BE72,referentes!$D$2:$D$37,0),2))","v":""},null,{"$f":"IF(BI72=\"\",\"\",INDEX(referentes!$J$2:$L$363,MATCH(BI72,referentes!$J$2:$J$363,0),2))","v":""},"",68]
["30000104",{"$f":"DIGITADOR!$B$2","v":""},1,{"$f":"IF(E73<>\"\",CONCATENATE($A$2,DIGITADOR!$M$1,O73,AH73),\"\")","v":""},null,null,"00:00:00",1,1,null,null,null,"",{"$f":"IF(M73=\"\",\"\",INDEX('Otras referencias'!$L$2:$N$200,MATCH(M73,'Otras referencias'!$L$2:$L$200,0),3))","v":""},{"$f":"IF(M73=\"\",\"\",INDEX(referentes!$S$2:$S$170,MATCH(N73,referentes!$W$2:$W$170,0),1))","v":""},null,null,null,null,null,null,null,null,null,{"$f":"IF(X73=\"\",\"\",INDEX(referentes!$Y$2:$Z$37,MATCH(X73,referentes!$Z$2:$Z$37,0),1))","v":""},"01",null,null,null,"",null,"",null,null,"",null,1,{"$f":"IF(E73<>\"\",CONCATENATE(B73,A73,DIGITADOR!$M$1,AH73),\"\")","v":""},"",null,null,null,null,null,null,null,null,null,null,null,null,null,null,null,null,null,null,"","",{"$f":"IF(BE73=\"\",\"\",INDEX(referentes!$D$2:$E$37,MATCH(BE73,referentes!$D$2:$D$37,0),2))","v":""},null,{"$f":"IF(BI73=\"\",\"\",INDEX(referentes!$J$2:$L$363,MATCH(BI73,referentes!$J$2:$J$363,0),2))","v":""},"",69]
["30000104",{"$f":"DIGITADOR!$B$2","v":""},1,{"$f":"IF(E74<>\"\",CONCATENATE($A$2,DIGITADOR!$M$1,O74,AH74),\"\")","v":""},null,null,"00:00:00",1,1,null,null,null,"",{"$f":"IF(M74=\"\",\"\",INDEX('Otras referencias'!$L$2:$N$200,MATCH(M74,'Otras referencias'!$L$2:$L$200,0),3))","v":""},{"$f":"IF(M74=\"\",\"\",INDEX(referentes!$S$2:$S$170,MATCH(N74,referentes!$W$2:$W$170,0),1))","v":""},null,null,null,null,null,null,null,null,null,{"$f":"IF(X74=\"\",\"\",INDEX(referentes!$Y$2:$Z$37,MATCH(X74,referentes!$Z$2:$Z$37,0),1))","v":""},"01",null,null,null,"",null,"",null,null,"",null,1,{"$f":"IF(E74<>\"\",CONCATENATE(B74,A74,DIGITADOR!$M$1,AH74),\"\")","v":""},"",null,null,null,null,null,null,null,null,null,null,null,null,null,null,null,null,null,null,"","",{"$f":"IF(BE74=\"\",\"\",INDEX(referentes!$D$2:$E$37,MATCH(BE74,referentes!$D$2:$D$37,0),2))","v":""},null,{"$f":"IF(BI74=\"\",\"\",INDEX(referentes!$J$2:$L$363,MATCH(BI74,referentes!$J$2:$J$363,0),2))","v":""},"",70]
["30000104",{"$f":"DIGITADOR!$B$2","v":""},1,{"$f":"IF(E75<>\"\",CONCATENATE($A$2,DIGITADOR!$M$1,O75,AH75),\"\")","v":""},null,null,"00:00:00",1,1,null,null,null,"",{"$f":"IF(M75=\"\",\"\",INDEX('Otras referencias'!$L$2:$N$200,MATCH(M75,'Otras referencias'!$L$2:$L$200,0),3))","v":""},{"$f":"IF(M75=\"\",\"\",INDEX(referentes!$S$2:$S$170,MATCH(N75,referentes!$W$2:$W$170,0),1))","v":""},null,null,null,null,null,null,null,null,null,{"$f":"IF(X75=\"\",\"\",INDEX(referentes!$Y$2:$Z$37,MATCH(X75,referentes!$Z$2:$Z$37,0),1))","v":""},"01",null,null,null,"",null,"",null,null,"",null,1,{"$f":"IF(E75<>\"\",CONCATENATE(B75,A75,DIGITADOR!$M$1,AH75),\"\")","v":""},"",null,null,null,null,null,null,null,null,null,null,null,null,null,null,null,null,null,null,"","",{"$f":"IF(BE75=\"\",\"\",INDEX(referentes!$D$2:$E$37,MATCH(BE75,referentes!$D$2:$D$37,0),2))","v":""},null,{"$f":"IF(BI75=\"\",\"\",INDEX(referentes!$J$2:$L$363,MATCH(BI75,referentes!$J$2:$J$363,0),2))","v":""},"",71]
["30000104",{"$f":"DIGITADOR!$B$2","v":""},1,{"$f":"IF(E76<>\"\",CONCATENATE($A$2,DIGITADOR!$M$1,O76,AH76),\"\")","v":""},null,null,"00:00:00",1,1,null,null,null,"",{"$f":"IF(M76=\"\",\"\",INDEX('Otras referencias'!$L$2:$N$200,MATCH(M76,'Otras referencias'!$L$2:$L$200,0),3))","v":""},{"$f":"IF(M76=\"\",\"\",INDEX(referentes!$S$2:$S$170,MATCH(N76,referentes!$W$2:$W$170,0),1))","v":""},null,null,null,null,null,null,null,null,null,{"$f":"IF(X76=\"\",\"\",INDEX(referentes!$Y$2:$Z$37,MATCH(X76,referentes!$Z$2:$Z$37,0),1))","v":""},"01",null,null,null,"",null,"",null,null,"",null,1,{"$f":"IF(E76<>\"\",CONCATENATE(B76,A76,DIGITADOR!$M$1,AH76),\"\")","v":""},"",null,null,null,null,null,null,null,null,null,null,null,null,null,null,null,null,null,null,"","",{"$f":"IF(BE76=\"\",\"\",INDEX(referentes!$D$2:$E$37,MATCH(BE76,referentes!$D$2:$D$37,0),2))","v":""},null,{"$f":"IF(BI76=\"\",\"\",INDEX(referentes!$J$2:$L$363,MATCH(BI76,referentes!$J$2:$J$363,0),2))","v":""},"",72]
["30000104",{"$f":"DIGITADOR!$B$2","v":""},1,{"$f":"IF(E77<>\"\",CONCATENATE($A$2,DIGITADOR!$M$1,O77,AH77),\"\")","v":""},null,null,"00:00:00",1,1,null,null,null,"",{"$f":"IF(M77=\"\",\"\",INDEX('Otras referencias'!$L$2:$N$200,MATCH(M77,'Otras referencias'!$L$2:$L$200,0),3))","v":""},{"$f":"IF(M77=\"\",\"\",INDEX(referentes!$S$2:$S$170,MATCH(N77,referentes!$W$2:$W$170,0),1))","v":""},null,null,null,null,null,null,null,null,null,{"$f":"IF(X77=\"\",\"\",INDEX(referentes!$Y$2:$Z$37,MATCH(X77,referentes!$Z$2:$Z$37,0),1))","v":""},"01",null,null,null,"",null,"",null,null,"",null,1,{"$f":"IF(E77<>\"\",CONCATENATE(B77,A77,DIGITADOR!$M$1,AH77),\"\")","v":""},"",null,null,null,null,null,null,null,null,null,null,null,null,null,null,null,null,null,null,"","",{"$f":"IF(BE77=\"\",\"\",INDEX(referentes!$D$2:$E$37,MATCH(BE77,referentes!$D$2:$D$37,0),2))","v":""},null,{"$f":"IF(BI77=\"\",\"\",INDEX(referentes!$J$2:$L$363,MATCH(BI77,referentes!$J$2:$J$363,0),2))","v":""},"",73]
["30000104",{"$f":"DIGITADOR!$B$2","v":""},1,{"$f":"IF(E78<>\"\",CONCATENATE($A$2,DIGITADOR!$M$1,O78,AH78),\"\")","v":""},null,null,"00:00:00",1,1,null,null,null,"",{"$f":"IF(M78=\"\",\"\",INDEX('Otras referencias'!$L$2:$N$200,MATCH(M78,'Otras referencias'!$L$2:$L$200,0),3))","v":""},{"$f":"IF(M78=\"\",\"\",INDEX(referentes!$S$2:$S$170,MATCH(N78,referentes!$W$2:$W$170,0),1))","v":""},null,null,null,null,null,null,null,null,null,{"$f":"IF(X78=\"\",\"\",INDEX(referentes!$Y$2:$Z$37,MATCH(X78,referentes!$Z$2:$Z$37,0),1))","v":""},"01",null,null,null,"",null,"",null,null,"",null,1,{"$f":"IF(E78<>\"\",CONCATENATE(B78,A78,DIGITADOR!$M$1,AH78),\"\")","v":""},"",null,null,null,null,null,null,null,null,null,null,null,null,null,null,null,null,null,null,"","",{"$f":"IF(BE78=\"\",\"\",INDEX(referentes!$D$2:$E$37,MATCH(BE78,referentes!$D$2:$D$37,0),2))","v":""},null,{"$f":"IF(BI78=\"\",\"\",INDEX(referentes!$J$2:$L$363,MATCH(BI78,referentes!$J$2:$J$363,0),2))","v":""},"",74]
["30000104",{"$f":"DIGITADOR!$B$2","v":""},1,{"$f":"IF(E79<>\"\",CONCATENATE($A$2,DIGITADOR!$M$1,O79,AH79),\"\")","v":""},null,null,"00:00:00",1,1,null,null,null,"",{"$f":"IF(M79=\"\",\"\",INDEX('Otras referencias'!$L$2:$N$200,MATCH(M79,'Otras referencias'!$L$2:$L$200,0),3))","v":""},{"$f":"IF(M79=\"\",\"\",INDEX(referentes!$S$2:$S$170,MATCH(N79,referentes!$W$2:$W$170,0),1))","v":""},null,null,null,null,null,null,null,null,null,{"$f":"IF(X79=\"\",\"\",INDEX(referentes!$Y$2:$Z$37,MATCH(X79,referentes!$Z$2:$Z$37,0),1))","v":""},"01",null,null,null,"",null,"",null,null,"",null,1,{"$f":"IF(E79<>\"\",CONCATENATE(B79,A79,DIGITADOR!$M$1,AH79),\"\")","v":""},"",null,null,null,null,null,null,null,null,null,null,null,null,null,null,null,null,null,null,"","",{"$f":"IF(BE79=\"\",\"\",INDEX(referentes!$D$2:$E$37,MATCH(BE79,referentes!$D$2:$D$37,0),2))","v":""},null,{"$f":"IF(BI79=\"\",\"\",INDEX(referentes!$J$2:$L$363,MATCH(BI79,referentes!$J$2:$J$363,0),2))","v":""},"",75]
["30000104",{"$f":"DIGITADOR!$B$2","v":""},1,{"$f":"IF(E80<>\"\",CONCATENATE($A$2,DIGITADOR!$M$1,O80,AH80),\"\")","v":""},null,null,"00:00:00",1,1,null,null,null,"",{"$f":"IF(M80=\"\",\"\",INDEX('Otras referencias'!$L$2:$N$200,MATCH(M80,'Otras referencias'!$L$2:$L$200,0),3))","v":""},{"$f":"IF(M80=\"\",\"\",INDEX(referentes!$S$2:$S$170,MATCH(N80,referentes!$W$2:$W$170,0),1))","v":""},null,null,null,null,null,null,null,null,null,{"$f":"IF(X80=\"\",\"\",INDEX(referentes!$Y$2:$Z$37,MATCH(X80,referentes!$Z$2:$Z$37,0),1))","v":""},"01",null,null,null,"",null,"",null,null,"",null,1,{"$f":"IF(E80<>\"\",CONCATENATE(B80,A80,DIGITADOR!$M$1,AH80),\"\")","v":""},"",null,null,null,null,null,null,null,null,null,null,null,null,null,null,null,null,null,null,"","",{"$f":"IF(BE80=\"\",\"\",INDEX(referentes!$D$2:$E$37,MATCH(BE80,referentes!$D$2:$D$37,0),2))","v":""},null,{"$f":"IF(BI80=\"\",\"\",INDEX(referentes!$J$2:$L$363,MATCH(BI80,referentes!$J$2:$J$363,0),2))","v":""},"",76]
["30000104",{"$f":"DIGITADOR!$B$2","v":""},1,{"$f":"IF(E81<>\"\",CONCATENATE($A$2,DIGITADOR!$M$1,O81,AH81),\"\")","v":""},null,null,"00:00:00",1,1,null,null,null,"",{"$f":"IF(M81=\"\",\"\",INDEX('Otras referencias'!$L$2:$N$200,MATCH(M81,'Otras referencias'!$L$2:$L$200,0),3))","v":""},{"$f":"IF(M81=\"\",\"\",INDEX(referentes!$S$2:$S$170,MATCH(N81,referentes!$W$2:$W$170,0),1))","v":""},null,null,null,null,null,null,null,null,null,{"$f":"IF(X81=\"\",\"\",INDEX(referentes!$Y$2:$Z$37,MATCH(X81,referentes!$Z$2:$Z$37,0),1))","v":""},"01",null,null,null,"",null,"",null,null,"",null,1,{"$f":"IF(E81<>\"\",CONCATENATE(B81,A81,DIGITADOR!$M$1,AH81),\"\")","v":""},"",null,null,null,null,null,null,null,null,null,null,null,null,null,null,null,null,null,null,"","",{"$f":"IF(BE81=\"\",\"\",INDEX(referentes!$D$2:$E$37,MATCH(BE81,referentes!$D$2:$D$37,0),2))","v":""},null,{"$f":"IF(BI81=\"\",\"\",INDEX(referentes!$J$2:$L$363,MATCH(BI81,referentes!$J$2:$J$363,0),2))","v":""},"",77]
["30000104",{"$f":"DIGITADOR!$B$2","v":""},1,{"$f":"IF(E82<>\"\",CONCATENATE($A$2,DIGITADOR!$M$1,O82,AH82),\"\")","v":""},null,null,"00:00:00",1,1,null,null,null,"",{"$f":"IF(M82=\"\",\"\",INDEX('Otras referencias'!$L$2:$N$200,MATCH(M82,'Otras referencias'!$L$2:$L$200,0),3))","v":""},{"$f":"IF(M82=\"\",\"\",INDEX(referentes!$S$2:$S$170,MATCH(N82,referentes!$W$2:$W$170,0),1))","v":""},null,null,null,null,null,null,null,null,null,{"$f":"IF(X82=\"\",\"\",INDEX(referentes!$Y$2:$Z$37,MATCH(X82,referentes!$Z$2:$Z$37,0),1))","v":""},"01",null,null,null,"",null,"",null,null,"",null,1,{"$f":"IF(E82<>\"\",CONCATENATE(B82,A82,DIGITADOR!$M$1,AH82),\"\")","v":""},"",null,null,null,null,null,null,null,null,null,null,null,null,null,null,null,null,null,null,"","",{"$f":"IF(BE82=\"\",\"\",INDEX(referentes!$D$2:$E$37,MATCH(BE82,referentes!$D$2:$D$37,0),2))","v":""},null,{"$f":"IF(BI82=\"\",\"\",INDEX(referentes!$J$2:$L$363,MATCH(BI82,referentes!$J$2:$J$363,0),2))","v":""},"",78]
["30000104",{"$f":"DIGITADOR!$B$2","v":""},1,{"$f":"IF(E83<>\"\",CONCATENATE($A$2,DIGITADOR!$M$1,O83,AH83),\"\")","v":""},null,null,"00:00:00",1,1,null,null,null,"",{"$f":"IF(M83=\"\",\"\",INDEX('Otras referencias'!$L$2:$N$200,MATCH(M83,'Otras referencias'!$L$2:$L$200,0),3))","v":""},{"$f":"IF(M83=\"\",\"\",INDEX(referentes!$S$2:$S$170,MATCH(N83,referentes!$W$2:$W$170,0),1))","v":""},null,null,null,null,null,null,null,null,null,{"$f":"IF(X83=\"\",\"\",INDEX(referentes!$Y$2:$Z$37,MATCH(X83,referentes!$Z$2:$Z$37,0),1))","v":""},"01",null,null,null,"",null,"",null,null,"",null,1,{"$f":"IF(E83<>\"\",CONCATENATE(B83,A83,DIGITADOR!$M$1,AH83),\"\")","v":""},"",null,null,null,null,null,null,null,null,null,null,null,null,null,null,null,null,null,null,"","",{"$f":"IF(BE83=\"\",\"\",INDEX(referentes!$D$2:$E$37,MATCH(BE83,referentes!$D$2:$D$37,0),2))","v":""},null,{"$f":"IF(BI83=\"\",\"\",INDEX(referentes!$J$2:$L$363,MATCH(BI83,referentes!$J$2:$J$363,0),2))","v":""},"",79]
["30000104",{"$f":"DIGITADOR!$B$2","v":""},1,{"$f":"IF(E84<>\"\",CONCATENATE($A$2,DIGITADOR!$M$1,O84,AH84),\"\")","v":""},null,null,"00:00:00",1,1,null,null,null,"",{"$f":"IF(M84=\"\",\"\",INDEX('Otras referencias'!$L$2:$N$200,MATCH(M84,'Otras referencias'!$L$2:$L$200,0),3))","v":""},{"$f":"IF(M84=\"\",\"\",INDEX(referentes!$S$2:$S$170,MATCH(N84,referentes!$W$2:$W$170,0),1))","v":""},null,null,null,null,null,null,null,null,null,{"$f":"IF(X84=\"\",\"\",INDEX(referentes!$Y$2:$Z$37,MATCH(X84,referentes!$Z$2:$Z$37,0),1))","v":""},"01",null,null,null,"",null,"",null,null,"",null,1,{"$f":"IF(E84<>\"\",CONCATENATE(B84,A84,DIGITADOR!$M$1,AH84),\"\")","v":""},"",null,null,null,null,null,null,null,null,null,null,null,null,null,null,null,null,null,null,"","",{"$f":"IF(BE84=\"\",\"\",INDEX(referentes!$D$2:$E$37,MATCH(BE84,referentes!$D$2:$D$37,0),2))","v":""},null,{"$f":"IF(BI84=\"\",\"\",INDEX(referentes!$J$2:$L$363,MATCH(BI84,referentes!$J$2:$J$363,0),2))","v":""},"",80]
["30000104",{"$f":"DIGITADOR!$B$2","v":""},1,{"$f":"IF(E85<>\"\",CONCATENATE($A$2,DIGITADOR!$M$1,O85,AH85),\"\")","v":""},null,null,"00:00:00",1,1,null,null,null,"",{"$f":"IF(M85=\"\",\"\",INDEX('Otras referencias'!$L$2:$N$200,MATCH(M85,'Otras referencias'!$L$2:$L$200,0),3))","v":""},{"$f":"IF(M85=\"\",\"\",INDEX(referentes!$S$2:$S$170,MATCH(N85,referentes!$W$2:$W$170,0),1))","v":""},null,null,null,null,null,null,null,null,null,{"$f":"IF(X85=\"\",\"\",INDEX(referentes!$Y$2:$Z$37,MATCH(X85,referentes!$Z$2:$Z$37,0),1))","v":""},"01",null,null,null,"",null,"",null,null,"",null,1,{"$f":"IF(E85<>\"\",CONCATENATE(B85,A85,DIGITADOR!$M$1,AH85),\"\")","v":""},"",null,null,null,null,null,null,null,null,null,null,null,null,null,null,null,null,null,null,"","",{"$f":"IF(BE85=\"\",\"\",INDEX(referentes!$D$2:$E$37,MATCH(BE85,referentes!$D$2:$D$37,0),2))","v":""},null,{"$f":"IF(BI85=\"\",\"\",INDEX(referentes!$J$2:$L$363,MATCH(BI85,referentes!$J$2:$J$363,0),2))","v":""},"",81]
["30000104",{"$f":"DIGITADOR!$B$2","v":""},1,{"$f":"IF(E86<>\"\",CONCATENATE($A$2,DIGITADOR!$M$1,O86,AH86),\"\")","v":""},null,null,"00:00:00",1,1,null,null,null,"",{"$f":"IF(M86=\"\",\"\",INDEX('Otras referencias'!$L$2:$N$200,MATCH(M86,'Otras referencias'!$L$2:$L$200,0),3))","v":""},{"$f":"IF(M86=\"\",\"\",INDEX(referentes!$S$2:$S$170,MATCH(N86,referentes!$W$2:$W$170,0),1))","v":""},null,null,null,null,null,null,null,null,null,{"$f":"IF(X86=\"\",\"\",INDEX(referentes!$Y$2:$Z$37,MATCH(X86,referentes!$Z$2:$Z$37,0),1))","v":""},"01",null,null,null,"",null,"",null,null,"",null,1,{"$f":"IF(E86<>\"\",CONCATENATE(B86,A86,DIGITADOR!$M$1,AH86),\"\")","v":""},"",null,null,null,null,null,null,null,null,null,null,null,null,null,null,null,null,null,null,"","",{"$f":"IF(BE86=\"\",\"\",INDEX(referentes!$D$2:$E$37,MATCH(BE86,referentes!$D$2:$D$37,0),2))","v":""},null,{"$f":"IF(BI86=\"\",\"\",INDEX(referentes!$J$2:$L$363,MATCH(BI86,referentes!$J$2:$J$363,0),2))","v":""},"",82]
["30000104",{"$f":"DIGITADOR!$B$2","v":""},1,{"$f":"IF(E87<>\"\",CONCATENATE($A$2,DIGITADOR!$M$1,O87,AH87),\"\")","v":""},null,null,"00:00:00",1,1,null,null,null,"",{"$f":"IF(M87=\"\",\"\",INDEX('Otras referencias'!$L$2:$N$200,MATCH(M87,'Otras referencias'!$L$2:$L$200,0),3))","v":""},{"$f":"IF(M87=\"\",\"\",INDEX(referentes!$S$2:$S$170,MATCH(N87,referentes!$W$2:$W$170,0),1))","v":""},null,null,null,null,null,null,null,null,null,{"$f":"IF(X87=\"\",\"\",INDEX(referentes!$Y$2:$Z$37,MATCH(X87,referentes!$Z$2:$Z$37,0),1))","v":""},"01",null,null,null,"",null,"",null,null,"",null,1,{"$f":"IF(E87<>\"\",CONCATENATE(B87,A87,DIGITADOR!$M$1,AH87),\"\")","v":""},"",null,null,null,null,null,null,null,null,null,null,null,null,null,null,null,null,null,null,"","",{"$f":"IF(BE87=\"\",\"\",INDEX(referentes!$D$2:$E$37,MATCH(BE87,referentes!$D$2:$D$37,0),2))","v":""},null,{"$f":"IF(BI87=\"\",\"\",INDEX(referentes!$J$2:$L$363,MATCH(BI87,referentes!$J$2:$J$363,0),2))","v":""},"",83]
["30000104",{"$f":"DIGITADOR!$B$2","v":""},1,{"$f":"IF(E88<>\"\",CONCATENATE($A$2,DIGITADOR!$M$1,O88,AH88),\"\")","v":""},null,null,"00:00:00",1,1,null,null,null,"",{"$f":"IF(M88=\"\",\"\",INDEX('Otras referencias'!$L$2:$N$200,MATCH(M88,'Otras referencias'!$L$2:$L$200,0),3))","v":""},{"$f":"IF(M88=\"\",\"\",INDEX(referentes!$S$2:$S$170,MATCH(N88,referentes!$W$2:$W$170,0),1))","v":""},null,null,null,null,null,null,null,null,null,{"$f":"IF(X88=\"\",\"\",INDEX(referentes!$Y$2:$Z$37,MATCH(X88,referentes!$Z$2:$Z$37,0),1))","v":""},"01",null,null,null,"",null,"",null,null,"",null,1,{"$f":"IF(E88<>\"\",CONCATENATE(B88,A88,DIGITADOR!$M$1,AH88),\"\")","v":""},"",null,null,null,null,null,null,null,null,null,null,null,null,null,null,null,null,null,null,"","",{"$f":"IF(BE88=\"\",\"\",INDEX(referentes!$D$2:$E$37,MATCH(BE88,referentes!$D$2:$D$37,0),2))","v":""},null,{"$f":"IF(BI88=\"\",\"\",INDEX(referentes!$J$2:$L$363,MATCH(BI88,referentes!$J$2:$J$363,0),2))","v":""},"",84]
["30000104",{"$f":"DIGITADOR!$B$2","v":""},1,{"$f":"IF(E89<>\"\",CONCATENATE($A$2,DIGITADOR!$M$1,O89,AH89),\"\")","v":""},null,null,"00:00:00",1,1,null,null,null,"",{"$f":"IF(M89=\"\",\"\",INDEX('Otras referencias'!$L$2:$N$200,MATCH(M89,'Otras referencias'!$L$2:$L$200,0),3))","v":""},{"$f":"IF(M89=\"\",\"\",INDEX(referentes!$S$2:$S$170,MATCH(N89,referentes!$W$2:$W$170,0),1))","v":""},null,null,null,null,null,null,null,null,null,{"$f":"IF(X89=\"\",\"\",INDEX(referentes!$Y$2:$Z$37,MATCH(X89,referentes!$Z$2:$Z$37,0),1))","v":""},"01",null,null,null,"",null,"",null,null,"",null,1,{"$f":"IF(E89<>\"\",CONCATENATE(B89,A89,DIGITADOR!$M$1,AH89),\"\")","v":""},"",null,null,null,null,null,null,null,null,null,null,null,null,null,null,null,null,null,null,"","",{"$f":"IF(BE89=\"\",\"\",INDEX(referentes!$D$2:$E$37,MATCH(BE89,referentes!$D$2:$D$37,0),2))","v":""},null,{"$f":"IF(BI89=\"\",\"\",INDEX(referentes!$J$2:$L$363,MATCH(BI89,referentes!$J$2:$J$363,0),2))","v":""},"",85]
["30000104",{"$f":"DIGITADOR!$B$2","v":""},1,{"$f":"IF(E90<>\"\",CONCATENATE($A$2,DIGITADOR!$M$1,O90,AH90),\"\")","v":""},null,null,"00:00:00",1,1,null,null,null,"",{"$f":"IF(M90=\"\",\"\",INDEX('Otras referencias'!$L$2:$N$200,MATCH(M90,'Otras referencias'!$L$2:$L$200,0),3))","v":""},{"$f":"IF(M90=\"\",\"\",INDEX(referentes!$S$2:$S$170,MATCH(N90,referentes!$W$2:$W$170,0),1))","v":""},null,null,null,null,null,null,null,null,null,{"$f":"IF(X90=\"\",\"\",INDEX(referentes!$Y$2:$Z$37,MATCH(X90,referentes!$Z$2:$Z$37,0),1))","v":""},"01",null,null,null,"",null,"",null,null,"",null,1,{"$f":"IF(E90<>\"\",CONCATENATE(B90,A90,DIGITADOR!$M$1,AH90),\"\")","v":""},"",null,null,null,null,null,null,null,null,null,null,null,null,null,null,null,null,null,null,"","",{"$f":"IF(BE90=\"\",\"\",INDEX(referentes!$D$2:$E$37,MATCH(BE90,referentes!$D$2:$D$37,0),2))","v":""},null,{"$f":"IF(BI90=\"\",\"\",INDEX(referentes!$J$2:$L$363,MATCH(BI90,referentes!$J$2:$J$363,0),2))","v":""},"",86]
["30000104",{"$f":"DIGITADOR!$B$2","v":""},1,{"$f":"IF(E91<>\"\",CONCATENATE($A$2,DIGITADOR!$M$1,O91,AH91),\"\")","v":""},null,null,"00:00:00",1,1,null,null,null,"",{"$f":"IF(M91=\"\",\"\",INDEX('Otras referencias'!$L$2:$N$200,MATCH(M91,'Otras referencias'!$L$2:$L$200,0),3))","v":""},{"$f":"IF(M91=\"\",\"\",INDEX(referentes!$S$2:$S$170,MATCH(N91,referentes!$W$2:$W$170,0),1))","v":""},null,null,null,null,null,null,null,null,null,{"$f":"IF(X91=\"\",\"\",INDEX(referentes!$Y$2:$Z$37,MATCH(X91,referentes!$Z$2:$Z$37,0),1))","v":""},"01",null,null,null,"",null,"",null,null,"",null,1,{"$f":"IF(E91<>\"\",CONCATENATE(B91,A91,DIGITADOR!$M$1,AH91),\"\")","v":""},"",null,null,null,null,null,null,null,null,null,null,null,null,null,null,null,null,null,null,"","",{"$f":"IF(BE91=\"\",\"\",INDEX(referentes!$D$2:$E$37,MATCH(BE91,referentes!$D$2:$D$37,0),2))","v":""},null,{"$f":"IF(BI91=\"\",\"\",INDEX(referentes!$J$2:$L$363,MATCH(BI91,referentes!$J$2:$J$363,0),2))","v":""},"",87]
["30000104",{"$f":"DIGITADOR!$B$2","v":""},1,{"$f":"IF(E92<>\"\",CONCATENATE($A$2,DIGITADOR!$M$1,O92,AH92),\"\")","v":""},null,null,"00:00:00",1,1,null,null,null,"",{"$f":"IF(M92=\"\",\"\",INDEX('Otras referencias'!$L$2:$N$200,MATCH(M92,'Otras referencias'!$L$2:$L$200,0),3))","v":""},{"$f":"IF(M92=\"\",\"\",INDEX(referentes!$S$2:$S$170,MATCH(N92,referentes!$W$2:$W$170,0),1))","v":""},null,null,null,null,null,null,null,null,null,{"$f":"IF(X92=\"\",\"\",INDEX(referentes!$Y$2:$Z$37,MATCH(X92,referentes!$Z$2:$Z$37,0),1))","v":""},"01",null,null,null,"",null,"",null,null,"",null,1,{"$f":"IF(E92<>\"\",CONCATENATE(B92,A92,DIGITADOR!$M$1,AH92),\"\")","v":""},"",null,null,null,null,null,null,null,null,null,null,null,null,null,null,null,null,null,null,"","",{"$f":"IF(BE92=\"\",\"\",INDEX(referentes!$D$2:$E$37,MATCH(BE92,referentes!$D$2:$D$37,0),2))","v":""},null,{"$f":"IF(BI92=\"\",\"\",INDEX(referentes!$J$2:$L$363,MATCH(BI92,referentes!$J$2:$J$363,0),2))","v":""},"",88]
["30000104",{"$f":"DIGITADOR!$B$2","v":""},1,{"$f":"IF(E93<>\"\",CONCATENATE($A$2,DIGITADOR!$M$1,O93,AH93),\"\")","v":""},null,null,"00:00:00",1,1,null,null,null,"",{"$f":"IF(M93=\"\",\"\",INDEX('Otras referencias'!$L$2:$N$200,MATCH(M93,'Otras referencias'!$L$2:$L$200,0),3))","v":""},{"$f":"IF(M93=\"\",\"\",INDEX(referentes!$S$2:$S$170,MATCH(N93,referentes!$W$2:$W$170,0),1))","v":""},null,null,null,null,null,null,null,null,null,{"$f":"IF(X93=\"\",\"\",INDEX(referentes!$Y$2:$Z$37,MATCH(X93,referentes!$Z$2:$Z$37,0),1))","v":""},"01",null,null,null,"",null,"",null,null,"",null,1,{"$f":"IF(E93<>\"\",CONCATENATE(B93,A93,DIGITADOR!$M$1,AH93),\"\")","v":""},"",null,null,null,null,null,null,null,null,null,null,null,null,null,null,null,null,null,null,"","",{"$f":"IF(BE93=\"\",\"\",INDEX(referentes!$D$2:$E$37,MATCH(BE93,referentes!$D$2:$D$37,0),2))","v":""},null,{"$f":"IF(BI93=\"\",\"\",INDEX(referentes!$J$2:$L$363,MATCH(BI93,referentes!$J$2:$J$363,0),2))","v":""},"",89]
["30000104",{"$f":"DIGITADOR!$B$2","v":""},1,{"$f":"IF(E94<>\"\",CONCATENATE($A$2,DIGITADOR!$M$1,O94,AH94),\"\")","v":""},null,null,"00:00:00",1,1,null,null,null,"",{"$f":"IF(M94=\"\",\"\",INDEX('Otras referencias'!$L$2:$N$200,MATCH(M94,'Otras referencias'!$L$2:$L$200,0),3))","v":""},{"$f":"IF(M94=\"\",\"\",INDEX(referentes!$S$2:$S$170,MATCH(N94,referentes!$W$2:$W$170,0),1))","v":""},null,null,null,null,null,null,null,null,null,{"$f":"IF(X94=\"\",\"\",INDEX(referentes!$Y$2:$Z$37,MATCH(X94,referentes!$Z$2:$Z$37,0),1))","v":""},"01",null,null,null,"",null,"",null,null,"",null,1,{"$f":"IF(E94<>\"\",CONCATENATE(B94,A94,DIGITADOR!$M$1,AH94),\"\")","v":""},"",null,null,null,null,null,null,null,null,null,null,null,null,null,null,null,null,null,null,"","",{"$f":"IF(BE94=\"\",\"\",INDEX(referentes!$D$2:$E$37,MATCH(BE94,referentes!$D$2:$D$37,0),2))","v":""},null,{"$f":"IF(BI94=\"\",\"\",INDEX(referentes!$J$2:$L$363,MATCH(BI94,referentes!$J$2:$J$363,0),2))","v":""},"",90]
["30000104",{"$f":"DIGITADOR!$B$2","v":""},1,{"$f":"IF(E95<>\"\",CONCATENATE($A$2,DIGITADOR!$M$1,O95,AH95),\"\")","v":""},null,null,"00:00:00",1,1,null,null,null,"",{"$f":"IF(M95=\"\",\"\",INDEX('Otras referencias'!$L$2:$N$200,MATCH(M95,'Otras referencias'!$L$2:$L$200,0),3))","v":""},{"$f":"IF(M95=\"\",\"\",INDEX(referentes!$S$2:$S$170,MATCH(N95,referentes!$W$2:$W$170,0),1))","v":""},null,null,null,null,null,null,null,null,null,{"$f":"IF(X95=\"\",\"\",INDEX(referentes!$Y$2:$Z$37,MATCH(X95,referentes!$Z$2:$Z$37,0),1))","v":""},"01",null,null,null,"",null,"",null,null,"",null,1,{"$f":"IF(E95<>\"\",CONCATENATE(B95,A95,DIGITADOR!$M$1,AH95),\"\")","v":""},"",null,null,null,null,null,null,null,null,null,null,null,null,null,null,null,null,null,null,"","",{"$f":"IF(BE95=\"\",\"\",INDEX(referentes!$D$2:$E$37,MATCH(BE95,referentes!$D$2:$D$37,0),2))","v":""},null,{"$f":"IF(BI95=\"\",\"\",INDEX(referentes!$J$2:$L$363,MATCH(BI95,referentes!$J$2:$J$363,0),2))","v":""},"",91]
["30000104",{"$f":"DIGITADOR!$B$2","v":""},1,{"$f":"IF(E96<>\"\",CONCATENATE($A$2,DIGITADOR!$M$1,O96,AH96),\"\")","v":""},null,null,"00:00:00",1,1,null,null,null,"",{"$f":"IF(M96=\"\",\"\",INDEX('Otras referencias'!$L$2:$N$200,MATCH(M96,'Otras referencias'!$L$2:$L$200,0),3))","v":""},{"$f":"IF(M96=\"\",\"\",INDEX(referentes!$S$2:$S$170,MATCH(N96,referentes!$W$2:$W$170,0),1))","v":""},null,null,null,null,null,null,null,null,null,{"$f":"IF(X96=\"\",\"\",INDEX(referentes!$Y$2:$Z$37,MATCH(X96,referentes!$Z$2:$Z$37,0),1))","v":""},"01",null,null,null,"",null,"",null,null,"",null,1,{"$f":"IF(E96<>\"\",CONCATENATE(B96,A96,DIGITADOR!$M$1,AH96),\"\")","v":""},"",null,null,null,null,null,null,null,null,null,null,null,null,null,null,null,null,null,null,"","",{"$f":"IF(BE96=\"\",\"\",INDEX(referentes!$D$2:$E$37,MATCH(BE96,referentes!$D$2:$D$37,0),2))","v":""},null,{"$f":"IF(BI96=\"\",\"\",INDEX(referentes!$J$2:$L$363,MATCH(BI96,referentes!$J$2:$J$363,0),2))","v":""},"",92]
["30000104",{"$f":"DIGITADOR!$B$2","v":""},1,{"$f":"IF(E97<>\"\",CONCATENATE($A$2,DIGITADOR!$M$1,O97,AH97),\"\")","v":""},null,null,"00:00:00",1,1,null,null,null,"",{"$f":"IF(M97=\"\",\"\",INDEX('Otras referencias'!$L$2:$N$200,MATCH(M97,'Otras referencias'!$L$2:$L$200,0),3))","v":""},{"$f":"IF(M97=\"\",\"\",INDEX(referentes!$S$2:$S$170,MATCH(N97,referentes!$W$2:$W$170,0),1))","v":""},null,null,null,null,null,null,null,null,null,{"$f":"IF(X97=\"\",\"\",INDEX(referentes!$Y$2:$Z$37,MATCH(X97,referentes!$Z$2:$Z$37,0),1))","v":""},"01",null,null,null,"",null,"",null,null,"",null,1,{"$f":"IF(E97<>\"\",CONCATENATE(B97,A97,DIGITADOR!$M$1,AH97),\"\")","v":""},"",null,null,null,null,null,null,null,null,null,null,null,null,null,null,null,null,null,null,"","",{"$f":"IF(BE97=\"\",\"\",INDEX(referentes!$D$2:$E$37,MATCH(BE97,referentes!$D$2:$D$37,0),2))","v":""},null,{"$f":"IF(BI97=\"\",\"\",INDEX(referentes!$J$2:$L$363,MATCH(BI97,referentes!$J$2:$J$363,0),2))","v":""},"",93]
["30000104",{"$f":"DIGITADOR!$B$2","v":""},1,{"$f":"IF(E98<>\"\",CONCATENATE($A$2,DIGITADOR!$M$1,O98,AH98),\"\")","v":""},null,null,"00:00:00",1,1,null,null,null,"",{"$f":"IF(M98=\"\",\"\",INDEX('Otras referencias'!$L$2:$N$200,MATCH(M98,'Otras referencias'!$L$2:$L$200,0),3))","v":""},{"$f":"IF(M98=\"\",\"\",INDEX(referentes!$S$2:$S$170,MATCH(N98,referentes!$W$2:$W$170,0),1))","v":""},null,null,null,null,null,null,null,null,null,{"$f":"IF(X98=\"\",\"\",INDEX(referentes!$Y$2:$Z$37,MATCH(X98,referentes!$Z$2:$Z$37,0),1))","v":""},"01",null,null,null,"",null,"",null,null,"",null,1,{"$f":"IF(E98<>\"\",CONCATENATE(B98,A98,DIGITADOR!$M$1,AH98),\"\")","v":""},"",null,null,null,null,null,null,null,null,null,null,null,null,null,null,null,null,null,null,"","",{"$f":"IF(BE98=\"\",\"\",INDEX(referentes!$D$2:$E$37,MATCH(BE98,referentes!$D$2:$D$37,0),2))","v":""},null,{"$f":"IF(BI98=\"\",\"\",INDEX(referentes!$J$2:$L$363,MATCH(BI98,referentes!$J$2:$J$363,0),2))","v":""},"",94]
["30000104",{"$f":"DIGITADOR!$B$2","v":""},1,{"$f":"IF(E99<>\"\",CONCATENATE($A$2,DIGITADOR!$M$1,O99,AH99),\"\")","v":""},null,null,"00:00:00",1,1,null,null,null,"",{"$f":"IF(M99=\"\",\"\",INDEX('Otras referencias'!$L$2:$N$200,MATCH(M99,'Otras referencias'!$L$2:$L$200,0),3))","v":""},{"$f":"IF(M99=\"\",\"\",INDEX(referentes!$S$2:$S$170,MATCH(N99,referentes!$W$2:$W$170,0),1))","v":""},null,null,null,null,null,null,null,null,null,{"$f":"IF(X99=\"\",\"\",INDEX(referentes!$Y$2:$Z$37,MATCH(X99,referentes!$Z$2:$Z$37,0),1))","v":""},"01",null,null,null,"",null,"",null,null,"",null,1,{"$f":"IF(E99<>\"\",CONCATENATE(B99,A99,DIGITADOR!$M$1,AH99),\"\")","v":""},"",null,null,null,null,null,null,null,null,null,null,null,null,null,null,null,null,null,null,"","",{"$f":"IF(BE99=\"\",\"\",INDEX(referentes!$D$2:$E$37,MATCH(BE99,referentes!$D$2:$D$37,0),2))","v":""},null,{"$f":"IF(BI99=\"\",\"\",INDEX(referentes!$J$2:$L$363,MATCH(BI99,referentes!$J$2:$J$363,0),2))","v":""},"",95]
["30000104",{"$f":"DIGITADOR!$B$2","v":""},1,{"$f":"IF(E100<>\"\",CONCATENATE($A$2,DIGITADOR!$M$1,O100,AH100),\"\")","v":""},null,null,"00:00:00",1,1,null,null,null,"",{"$f":"IF(M100=\"\",\"\",INDEX('Otras referencias'!$L$2:$N$200,MATCH(M100,'Otras referencias'!$L$2:$L$200,0),3))","v":""},{"$f":"IF(M100=\"\",\"\",INDEX(referentes!$S$2:$S$170,MATCH(N100,referentes!$W$2:$W$170,0),1))","v":""},null,null,null,null,null,null,null,null,null,{"$f":"IF(X100=\"\",\"\",INDEX(referentes!$Y$2:$Z$37,MATCH(X100,referentes!$Z$2:$Z$37,0),1))","v":""},"01",null,null,null,"",null,"",null,null,"",null,1,{"$f":"IF(E100<>\"\",CONCATENATE(B100,A100,DIGITADOR!$M$1,AH100),\"\")","v":""},"",null,null,null,null,null,null,null,null,null,null,null,null,null,null,null,null,null,null,"","",{"$f":"IF(BE100=\"\",\"\",INDEX(referentes!$D$2:$E$37,MATCH(BE100,referentes!$D$2:$D$37,0),2))","v":""},null,{"$f":"IF(BI100=\"\",\"\",INDEX(referentes!$J$2:$L$363,MATCH(BI100,referentes!$J$2:$J$363,0),2))","v":""},"",96]
["30000104",{"$f":"DIGITADOR!$B$2","v":""},1,{"$f":"IF(E101<>\"\",CONCATENATE($A$2,DIGITADOR!$M$1,O101,AH101),\"\")","v":""},null,null,"00:00:00",1,1,null,null,null,"",{"$f":"IF(M101=\"\",\"\",INDEX('Otras referencias'!$L$2:$N$200,MATCH(M101,'Otras referencias'!$L$2:$L$200,0),3))","v":""},{"$f":"IF(M101=\"\",\"\",INDEX(referentes!$S$2:$S$170,MATCH(N101,referentes!$W$2:$W$170,0),1))","v":""},null,null,null,null,null,null,null,null,null,{"$f":"IF(X101=\"\",\"\",INDEX(referentes!$Y$2:$Z$37,MATCH(X101,referentes!$Z$2:$Z$37,0),1))","v":""},"01",null,null,null,"",null,"",null,null,"",null,1,{"$f":"IF(E101<>\"\",CONCATENATE(B101,A101,DIGITADOR!$M$1,AH101),\"\")","v":""},"",null,null,null,null,null,null,null,null,null,null,null,null,null,null,null,null,null,null,"","",{"$f":"IF(BE101=\"\",\"\",INDEX(referentes!$D$2:$E$37,MATCH(BE101,referentes!$D$2:$D$37,0),2))","v":""},null,{"$f":"IF(BI101=\"\",\"\",INDEX(referentes!$J$2:$L$363,MATCH(BI101,referentes!$J$2:$J$363,0),2))","v":""},"",97]
["30000104",{"$f":"DIGITADOR!$B$2","v":""},1,{"$f":"IF(E102<>\"\",CONCATENATE($A$2,DIGITADOR!$M$1,O102,AH102),\"\")","v":""},null,null,"00:00:00",1,1,null,null,null,"",{"$f":"IF(M102=\"\",\"\",INDEX('Otras referencias'!$L$2:$N$200,MATCH(M102,'Otras referencias'!$L$2:$L$200,0),3))","v":""},{"$f":"IF(M102=\"\",\"\",INDEX(referentes!$S$2:$S$170,MATCH(N102,referentes!$W$2:$W$170,0),1))","v":""},null,null,null,null,null,null,null,null,null,{"$f":"IF(X102=\"\",\"\",INDEX(referentes!$Y$2:$Z$37,MATCH(X102,referentes!$Z$2:$Z$37,0),1))","v":""},"01",null,null,null,"",null,"",null,null,"",null,1,{"$f":"IF(E102<>\"\",CONCATENATE(B102,A102,DIGITADOR!$M$1,AH102),\"\")","v":""},"",null,null,null,null,null,null,null,null,null,null,null,null,null,null,null,null,null,null,"","",{"$f":"IF(BE102=\"\",\"\",INDEX(referentes!$D$2:$E$37,MATCH(BE102,referentes!$D$2:$D$37,0),2))","v":""},null,{"$f":"IF(BI102=\"\",\"\",INDEX(referentes!$J$2:$L$363,MATCH(BI102,referentes!$J$2:$J$363,0),2))","v":""},"",98]
["30000104",{"$f":"DIGITADOR!$B$2","v":""},1,{"$f":"IF(E103<>\"\",CONCATENATE($A$2,DIGITADOR!$M$1,O103,AH103),\"\")","v":""},null,null,"00:00:00",1,1,null,null,null,"",{"$f":"IF(M103=\"\",\"\",INDEX('Otras referencias'!$L$2:$N$200,MATCH(M103,'Otras referencias'!$L$2:$L$200,0),3))","v":""},{"$f":"IF(M103=\"\",\"\",INDEX(referentes!$S$2:$S$170,MATCH(N103,referentes!$W$2:$W$170,0),1))","v":""},null,null,null,null,null,null,null,null,null,{"$f":"IF(X103=\"\",\"\",INDEX(referentes!$Y$2:$Z$37,MATCH(X103,referentes!$Z$2:$Z$37,0),1))","v":""},"01",null,null,null,"",null,"",null,null,"",null,1,{"$f":"IF(E103<>\"\",CONCATENATE(B103,A103,DIGITADOR!$M$1,AH103),\"\")","v":""},"",null,null,null,null,null,null,null,null,null,null,null,null,null,null,null,null,null,null,"","",{"$f":"IF(BE103=\"\",\"\",INDEX(referentes!$D$2:$E$37,MATCH(BE103,referentes!$D$2:$D$37,0),2))","v":""},null,{"$f":"IF(BI103=\"\",\"\",INDEX(referentes!$J$2:$L$363,MATCH(BI103,referentes!$J$2:$J$363,0),2))","v":""},"",99]
["30000104",{"$f":"DIGITADOR!$B$2","v":""},1,{"$f":"IF(E104<>\"\",CONCATENATE($A$2,DIGITADOR!$M$1,O104,AH104),\"\")","v":""},null,null,"00:00:00",1,1,null,null,null,"",{"$f":"IF(M104=\"\",\"\",INDEX('Otras referencias'!$L$2:$N$200,MATCH(M104,'Otras referencias'!$L$2:$L$200,0),3))","v":""},{"$f":"IF(M104=\"\",\"\",INDEX(referentes!$S$2:$S$170,MATCH(N104,referentes!$W$2:$W$170,0),1))","v":""},null,null,null,null,null,null,null,null,null,{"$f":"IF(X104=\"\",\"\",INDEX(referentes!$Y$2:$Z$37,MATCH(X104,referentes!$Z$2:$Z$37,0),1))","v":""},"01",null,null,null,"",null,"",null,null,"",null,1,{"$f":"IF(E104<>\"\",CONCATENATE(B104,A104,DIGITADOR!$M$1,AH104),\"\")","v":""},"",null,null,null,null,null,null,null,null,null,null,null,null,null,null,null,null,null,null,"","",{"$f":"IF(BE104=\"\",\"\",INDEX(referentes!$D$2:$E$37,MATCH(BE104,referentes!$D$2:$D$37,0),2))","v":""},null,{"$f":"IF(BI104=\"\",\"\",INDEX(referentes!$J$2:$L$363,MATCH(BI104,referentes!$J$2:$J$363,0),2))","v":""},"",100]
["30000104",{"$f":"DIGITADOR!$B$2","v":""},1,{"$f":"IF(E105<>\"\",CONCATENATE($A$2,DIGITADOR!$M$1,O105,AH105),\"\")","v":""},null,null,{"$f":"E105+F105","v":"00:00:00"},{"$f":"IF(G105<>\"\",MONTH(G105),\"\")","v":1},1,null,{"$f":"IF(J105<>\"\",VLOOKUP(J105,#REF!,1,FALSE),\"\")","v":""},null,{"$f":"IF(L105<>\"\",CONCATENATE(J105,L105),\"\")","v":""},{"$f":"IF(M105=\"\",\"\",INDEX('Otras referencias'!$L$2:$N$200,MATCH(M105,'Otras referencias'!$L$2:$L$200,0),3))","v":""},{"$f":"IF(M105=\"\",\"\",INDEX(referentes!$S$2:$S$170,MATCH(N105,referentes!$W$2:$W$170,0),1))","v":""},null,null,null,null,null,null,null,null,null,{"$f":"IF(X105=\"\",\"\",INDEX(referentes!$Y$2:$Z$37,MATCH(X105,referentes!$Z$2:$Z$37,0),1))","v":""},"01",null,null,null,"",null,"",null,null,"",null,1,{"$f":"IF(E105<>\"\",CONCATENATE(B105,A105,DIGITADOR!$M$1,AH105),\"\")","v":""},"",null,null,null,null,null,null,null,null,null,null,null,null,null,null,null,null,null,null,"","",{"$f":"IF(BE105=\"\",\"\",INDEX(referentes!$D$2:$E$37,MATCH(BE105,referentes!$D$2:$D$37,0),2))","v":""},null,{"$f":"IF(BI105=\"\",\"\",INDEX(referentes!$J$2:$L$363,MATCH(BI105,referentes!$J$2:$J$363,0),2))","v":""},"",101]
["30000104",{"$f":"DIGITADOR!$B$2","v":""},1,{"$f":"IF(E106<>\"\",CONCATENATE($A$2,DIGITADOR!$M$1,O106,AH106),\"\")","v":""},null,null,"00:00:00",1,1,null,{"$f":"IF(J106<>\"\",VLOOKUP(J106,#REF!,1,FALSE),\"\")","v":""},null,"",{"$f":"IF(M106=\"\",\"\",INDEX('Otras referencias'!$L$2:$N$200,MATCH(M106,'Otras referencias'!$L$2:$L$200,0),3))","v":""},{"$f":"IF(M106=\"\",\"\",INDEX(referentes!$S$2:$S$170,MATCH(N106,referentes!$W$2:$W$170,0),1))","v":""},null,null,null,null,null,null,null,null,null,{"$f":"IF(X106=\"\",\"\",INDEX(referentes!$Y$2:$Z$37,MATCH(X106,referentes!$Z$2:$Z$37,0),1))","v":""},"01",null,null,null,"",null,"",null,null,"",null,1,{"$f":"IF(E106<>\"\",CONCATENATE(B106,A106,DIGITADOR!$M$1,AH106),\"\")","v":""},"",null,null,null,null,null,null,null,null,null,null,null,null,null,null,null,null,null,null,"","",{"$f":"IF(BE106=\"\",\"\",INDEX(referentes!$D$2:$E$37,MATCH(BE106,referentes!$D$2:$D$37,0),2))","v":""},null,{"$f":"IF(BI106=\"\",\"\",INDEX(referentes!$J$2:$L$363,MATCH(BI106,referentes!$J$2:$J$363,0),2))","v":""},"",102]
["30000104",{"$f":"DIGITADOR!$B$2","v":""},1,{"$f":"IF(E107<>\"\",CONCATENATE($A$2,DIGITADOR!$M$1,O107,AH107),\"\")","v":""},null,null,"00:00:00",1,1,null,{"$f":"IF(J107<>\"\",VLOOKUP(J107,#REF!,1,FALSE),\"\")","v":""},null,"",{"$f":"IF(M107=\"\",\"\",INDEX('Otras referencias'!$L$2:$N$200,MATCH(M107,'Otras referencias'!$L$2:$L$200,0),3))","v":""},{"$f":"IF(M107=\"\",\"\",INDEX(referentes!$S$2:$S$170,MATCH(N107,referentes!$W$2:$W$170,0),1))","v":""},null,null,null,null,null,null,null,null,null,{"$f":"IF(X107=\"\",\"\",INDEX(referentes!$Y$2:$Z$37,MATCH(X107,referentes!$Z$2:$Z$37,0),1))","v":""},"01",null,null,null,"",null,"",null,null,"",null,1,{"$f":"IF(E107<>\"\",CONCATENATE(B107,A107,DIGITADOR!$M$1,AH107),\"\")","v":""},"",null,null,null,null,null,null,null,null,null,null,null,null,null,null,null,null,null,null,"","",{"$f":"IF(BE107=\"\",\"\",INDEX(referentes!$D$2:$E$37,MATCH(BE107,referentes!$D$2:$D$37,0),2))","v":""},null,{"$f":"IF(BI107=\"\",\"\",INDEX(referentes!$J$2:$L$363,MATCH(BI107,referentes!$J$2:$J$363,0),2))","v":""},"",103]
["30000104",{"$f":"DIGITADOR!$B$2","v":""},1,{"$f":"IF(E108<>\"\",CONCATENATE($A$2,DIGITADOR!$M$1,O108,AH108),\"\")","v":""},null,null,"00:00:00",1,1,null,{"$f":"IF(J108<>\"\",VLOOKUP(J108,#REF!,1,FALSE),\"\")","v":""},null,"",{"$f":"IF(M108=\"\",\"\",INDEX('Otras referencias'!$L$2:$N$200,MATCH(M108,'Otras referencias'!$L$2:$L$200,0),3))","v":""},{"$f":"IF(M108=\"\",\"\",INDEX(referentes!$S$2:$S$170,MATCH(N108,referentes!$W$2:$W$170,0),1))","v":""},null,null,null,null,null,null,null,null,null,{"$f":"IF(X108=\"\",\"\",INDEX(referentes!$Y$2:$Z$37,MATCH(X108,referentes!$Z$2:$Z$37,0),1))","v":""},"01",null,null,null,"",null,"",null,null,"",null,1,{"$f":"IF(E108<>\"\",CONCATENATE(B108,A108,DIGITADOR!$M$1,AH108),\"\")","v":""},"",null,null,null,null,null,null,null,null,null,null,null,null,null,null,null,null,null,null,"","",{"$f":"IF(BE108=\"\",\"\",INDEX(referentes!$D$2:$E$37,MATCH(BE108,referentes!$D$2:$D$37,0),2))","v":""},null,{"$f":"IF(BI108=\"\",\"\",INDEX(referentes!$J$2:$L$363,MATCH(BI108,referentes!$J$2:$J$363,0),2))","v":""},"",104]
["30000104",{"$f":"DIGITADOR!$B$2","v":""},1,{"$f":"IF(E109<>\"\",CONCATENATE($A$2,DIGITADOR!$M$1,O109,AH109),\"\")","v":""},null,null,"00:00:00",1,1,null,{"$f":"IF(J109<>\"\",VLOOKUP(J109,#REF!,1,FALSE),\"\")","v":""},null,"",{"$f":"IF(M109=\"\",\"\",INDEX('Otras referencias'!$L$2:$N$200,MATCH(M109,'Otras referencias'!$L$2:$L$200,0),3))","v":""},{"$f":"IF(M109=\"\",\"\",INDEX(referentes!$S$2:$S$170,MATCH(N109,referentes!$W$2:$W$170,0),1))","v":""},null,null,null,null,null,null,null,null,null,{"$f":"IF(X109=\"\",\"\",INDEX(referentes!$Y$2:$Z$37,MATCH(X109,referentes!$Z$2:$Z$37,0),1))","v":""},"01",null,null,null,"",null,"",null,null,"",null,1,{"$f":"IF(E109<>\"\",CONCATENATE(B109,A109,DIGITADOR!$M$1,AH109),\"\")","v":""},"",null,null,null,null,null,null,null,null,null,null,null,null,null,null,null,null,null,null,"","",{"$f":"IF(BE109=\"\",\"\",INDEX(referentes!$D$2:$E$37,MATCH(BE109,referentes!$D$2:$D$37,0),2))","v":""},null,{"$f":"IF(BI109=\"\",\"\",INDEX(referentes!$J$2:$L$363,MATCH(BI109,referentes!$J$2:$J$363,0),2))","v":""},"",105]
["30000104",{"$f":"DIGITADOR!$B$2","v":""},1,{"$f":"IF(E110<>\"\",CONCATENATE($A$2,DIGITADOR!$M$1,O110,AH110),\"\")","v":""},null,null,"00:00:00",1,1,null,{"$f":"IF(J110<>\"\",VLOOKUP(J110,#REF!,1,FALSE),\"\")","v":""},null,"",{"$f":"IF(M110=\"\",\"\",INDEX('Otras referencias'!$L$2:$N$200,MATCH(M110,'Otras referencias'!$L$2:$L$200,0),3))","v":""},{"$f":"IF(M110=\"\",\"\",INDEX(referentes!$S$2:$S$170,MATCH(N110,referentes!$W$2:$W$170,0),1))","v":""},null,null,null,null,null,null,null,null,null,{"$f":"IF(X110=\"\",\"\",INDEX(referentes!$Y$2:$Z$37,MATCH(X110,referentes!$Z$2:$Z$37,0),1))","v":""},"01",null,null,null,"",null,"",null,null,"",null,1,{"$f":"IF(E110<>\"\",CONCATENATE(B110,A110,DIGITADOR!$M$1,AH110),\"\")","v":""},"",null,null,null,null,null,null,null,null,null,null,null,null,null,null,null,null,null,null,"","",{"$f":"IF(BE110=\"\",\"\",INDEX(referentes!$D$2:$E$37,MATCH(BE110,referentes!$D$2:$D$37,0),2))","v":""},null,{"$f":"IF(BI110=\"\",\"\",INDEX(referentes!$J$2:$L$363,MATCH(BI110,referentes!$J$2:$J$363,0),2))","v":""},"",106]
["30000104",{"$f":"DIGITADOR!$B$2","v":""},1,{"$f":"IF(E111<>\"\",CONCATENATE($A$2,DIGITADOR!$M$1,O111,AH111),\"\")","v":""},null,null,"00:00:00",1,1,null,{"$f":"IF(J111<>\"\",VLOOKUP(J111,#REF!,1,FALSE),\"\")","v":""},null,"",{"$f":"IF(M111=\"\",\"\",INDEX('Otras referencias'!$L$2:$N$200,MATCH(M111,'Otras referencias'!$L$2:$L$200,0),3))","v":""},{"$f":"IF(M111=\"\",\"\",INDEX(referentes!$S$2:$S$170,MATCH(N111,referentes!$W$2:$W$170,0),1))","v":""},null,null,null,null,null,null,null,null,null,{"$f":"IF(X111=\"\",\"\",INDEX(referentes!$Y$2:$Z$37,MATCH(X111,referentes!$Z$2:$Z$37,0),1))","v":""},"01",null,null,null,"",null,"",null,null,"",null,1,{"$f":"IF(E111<>\"\",CONCATENATE(B111,A111,DIGITADOR!$M$1,AH111),\"\")","v":""},"",null,null,null,null,null,null,null,null,null,null,null,null,null,null,null,null,null,null,"","",{"$f":"IF(BE111=\"\",\"\",INDEX(referentes!$D$2:$E$37,MATCH(BE111,referentes!$D$2:$D$37,0),2))","v":""},null,{"$f":"IF(BI111=\"\",\"\",INDEX(referentes!$J$2:$L$363,MATCH(BI111,referentes!$J$2:$J$363,0),2))","v":""},"",107]
["30000104",{"$f":"DIGITADOR!$B$2","v":""},1,{"$f":"IF(E112<>\"\",CONCATENATE($A$2,DIGITADOR!$M$1,O112,AH112),\"\")","v":""},null,null,"00:00:00",1,1,null,{"$f":"IF(J112<>\"\",VLOOKUP(J112,#REF!,1,FALSE),\"\")","v":""},null,"",{"$f":"IF(M112=\"\",\"\",INDEX('Otras referencias'!$L$2:$N$200,MATCH(M112,'Otras referencias'!$L$2:$L$200,0),3))","v":""},{"$f":"IF(M112=\"\",\"\",INDEX(referentes!$S$2:$S$170,MATCH(N112,referentes!$W$2:$W$170,0),1))","v":""},null,null,null,null,null,null,null,null,null,{"$f":"IF(X112=\"\",\"\",INDEX(referentes!$Y$2:$Z$37,MATCH(X112,referentes!$Z$2:$Z$37,0),1))","v":""},"01",null,null,null,"",null,"",null,null,"",null,1,{"$f":"IF(E112<>\"\",CONCATENATE(B112,A112,DIGITADOR!$M$1,AH112),\"\")","v":""},"",null,null,null,null,null,null,null,null,null,null,null,null,null,null,null,null,null,null,"","",{"$f":"IF(BE112=\"\",\"\",INDEX(referentes!$D$2:$E$37,MATCH(BE112,referentes!$D$2:$D$37,0),2))","v":""},null,{"$f":"IF(BI112=\"\",\"\",INDEX(referentes!$J$2:$L$363,MATCH(BI112,referentes!$J$2:$J$363,0),2))","v":""},"",108]
["30000104",{"$f":"DIGITADOR!$B$2","v":""},1,{"$f":"IF(E113<>\"\",CONCATENATE($A$2,DIGITADOR!$M$1,O113,AH113),\"\")","v":""},null,null,"00:00:00",1,1,null,{"$f":"IF(J113<>\"\",VLOOKUP(J113,#REF!,1,FALSE),\"\")","v":""},null,"",{"$f":"IF(M113=\"\",\"\",INDEX('Otras referencias'!$L$2:$N$200,MATCH(M113,'Otras referencias'!$L$2:$L$200,0),3))","v":""},{"$f":"IF(M113=\"\",\"\",INDEX(referentes!$S$2:$S$170,MATCH(N113,referentes!$W$2:$W$170,0),1))","v":""},null,null,null,null,null,null,null,null,null,{"$f":"IF(X113=\"\",\"\",INDEX(referentes!$Y$2:$Z$37,MATCH(X113,referentes!$Z$2:$Z$37,0),1))","v":""},"01",null,null,null,"",null,"",null,null,"",null,1,{"$f":"IF(E113<>\"\",CONCATENATE(B113,A113,DIGITADOR!$M$1,AH113),\"\")","v":""},"",null,null,null,null,null,null,null,null,null,null,null,null,null,null,null,null,null,null,"","",{"$f":"IF(BE113=\"\",\"\",INDEX(referentes!$D$2:$E$37,MATCH(BE113,referentes!$D$2:$D$37,0),2))","v":""},null,{"$f":"IF(BI113=\"\",\"\",INDEX(referentes!$J$2:$L$363,MATCH(BI113,referentes!$J$2:$J$363,0),2))","v":""},"",109]
["30000104",{"$f":"DIGITADOR!$B$2","v":""},1,{"$f":"IF(E114<>\"\",CONCATENATE($A$2,DIGITADOR!$M$1,O114,AH114),\"\")","v":""},null,null,"00:00:00",1,1,null,{"$f":"IF(J114<>\"\",VLOOKUP(J114,#REF!,1,FALSE),\"\")","v":""},null,"",{"$f":"IF(M114=\"\",\"\",INDEX('Otras referencias'!$L$2:$N$200,MATCH(M114,'Otras referencias'!$L$2:$L$200,0),3))","v":""},{"$f":"IF(M114=\"\",\"\",INDEX(referentes!$S$2:$S$170,MATCH(N114,referentes!$W$2:$W$170,0),1))","v":""},null,null,null,null,null,null,null,null,null,{"$f":"IF(X114=\"\",\"\",INDEX(referentes!$Y$2:$Z$37,MATCH(X114,referentes!$Z$2:$Z$37,0),1))","v":""},"01",null,null,null,"",null,"",null,null,"",null,1,{"$f":"IF(E114<>\"\",CONCATENATE(B114,A114,DIGITADOR!$M$1,AH114),\"\")","v":""},"",null,null,null,null,null,null,null,null,null,null,null,null,null,null,null,null,null,null,"","",{"$f":"IF(BE114=\"\",\"\",INDEX(referentes!$D$2:$E$37,MATCH(BE114,referentes!$D$2:$D$37,0),2))","v":""},null,{"$f":"IF(BI114=\"\",\"\",INDEX(referentes!$J$2:$L$363,MATCH(BI114,referentes!$J$2:$J$363,0),2))","v":""},"",110]
["30000104",{"$f":"DIGITADOR!$B$2","v":""},1,{"$f":"IF(E115<>\"\",CONCATENATE($A$2,DIGITADOR!$M$1,O115,AH115),\"\")","v":""},null,null,"00:00:00",1,1,null,{"$f":"IF(J115<>\"\",VLOOKUP(J115,#REF!,1,FALSE),\"\")","v":""},null,"",{"$f":"IF(M115=\"\",\"\",INDEX('Otras referencias'!$L$2:$N$200,MATCH(M115,'Otras referencias'!$L$2:$L$200,0),3))","v":""},{"$f":"IF(M115=\"\",\"\",INDEX(referentes!$S$2:$S$170,MATCH(N115,referentes!$W$2:$W$170,0),1))","v":""},null,null,null,null,null,null,null,null,null,{"$f":"IF(X115=\"\",\"\",INDEX(referentes!$Y$2:$Z$37,MATCH(X115,referentes!$Z$2:$Z$37,0),1))","v":""},"01",null,null,null,"",null,"",null,null,"",null,1,{"$f":"IF(E115<>\"\",CONCATENATE(B115,A115,DIGITADOR!$M$1,AH115),\"\")","v":""},"",null,null,null,null,null,null,null,null,null,null,null,null,null,null,null,null,null,null,"","",{"$f":"IF(BE115=\"\",\"\",INDEX(referentes!$D$2:$E$37,MATCH(BE115,referentes!$D$2:$D$37,0),2))","v":""},null,{"$f":"IF(BI115=\"\",\"\",INDEX(referentes!$J$2:$L$363,MATCH(BI115,referentes!$J$2:$J$363,0),2))","v":""},"",111]
["30000104",{"$f":"DIGITADOR!$B$2","v":""},1,{"$f":"IF(E116<>\"\",CONCATENATE($A$2,DIGITADOR!$M$1,O116,AH116),\"\")","v":""},null,null,"00:00:00",1,1,null,{"$f":"IF(J116<>\"\",VLOOKUP(J116,#REF!,1,FALSE),\"\")","v":""},null,"",{"$f":"IF(M116=\"\",\"\",INDEX('Otras referencias'!$L$2:$N$200,MATCH(M116,'Otras referencias'!$L$2:$L$200,0),3))","v":""},{"$f":"IF(M116=\"\",\"\",INDEX(referentes!$S$2:$S$170,MATCH(N116,referentes!$W$2:$W$170,0),1))","v":""},null,null,null,null,null,null,null,null,null,{"$f":"IF(X116=\"\",\"\",INDEX(referentes!$Y$2:$Z$37,MATCH(X116,referentes!$Z$2:$Z$37,0),1))","v":""},"01",null,null,null,"",null,"",null,null,"",null,1,{"$f":"IF(E116<>\"\",CONCATENATE(B116,A116,DIGITADOR!$M$1,AH116),\"\")","v":""},"",null,null,null,null,null,null,null,null,null,null,null,null,null,null,null,null,null,null,"","",{"$f":"IF(BE116=\"\",\"\",INDEX(referentes!$D$2:$E$37,MATCH(BE116,referentes!$D$2:$D$37,0),2))","v":""},null,{"$f":"IF(BI116=\"\",\"\",INDEX(referentes!$J$2:$L$363,MATCH(BI116,referentes!$J$2:$J$363,0),2))","v":""},"",112]
["30000104",{"$f":"DIGITADOR!$B$2","v":""},1,{"$f":"IF(E117<>\"\",CONCATENATE($A$2,DIGITADOR!$M$1,O117,AH117),\"\")","v":""},null,null,"00:00:00",1,1,null,{"$f":"IF(J117<>\"\",VLOOKUP(J117,#REF!,1,FALSE),\"\")","v":""},null,"",{"$f":"IF(M117=\"\",\"\",INDEX('Otras referencias'!$L$2:$N$200,MATCH(M117,'Otras referencias'!$L$2:$L$200,0),3))","v":""},{"$f":"IF(M117=\"\",\"\",INDEX(referentes!$S$2:$S$170,MATCH(N117,referentes!$W$2:$W$170,0),1))","v":""},null,null,null,null,null,null,null,null,null,{"$f":"IF(X117=\"\",\"\",INDEX(referentes!$Y$2:$Z$37,MATCH(X117,referentes!$Z$2:$Z$37,0),1))","v":""},"01",null,null,null,"",null,"",null,null,"",null,1,{"$f":"IF(E117<>\"\",CONCATENATE(B117,A117,DIGITADOR!$M$1,AH117),\"\")","v":""},"",null,null,null,null,null,null,null,null,null,null,null,null,null,null,null,null,null,null,"","",{"$f":"IF(BE117=\"\",\"\",INDEX(referentes!$D$2:$E$37,MATCH(BE117,referentes!$D$2:$D$37,0),2))","v":""},null,{"$f":"IF(BI117=\"\",\"\",INDEX(referentes!$J$2:$L$363,MATCH(BI117,referentes!$J$2:$J$363,0),2))","v":""},"",113]
["30000104",{"$f":"DIGITADOR!$B$2","v":""},1,{"$f":"IF(E118<>\"\",CONCATENATE($A$2,DIGITADOR!$M$1,O118,AH118),\"\")","v":""},null,null,"00:00:00",1,1,null,{"$f":"IF(J118<>\"\",VLOOKUP(J118,#REF!,1,FALSE),\"\")","v":""},null,"",{"$f":"IF(M118=\"\",\"\",INDEX('Otras referencias'!$L$2:$N$200,MATCH(M118,'Otras referencias'!$L$2:$L$200,0),3))","v":""},{"$f":"IF(M118=\"\",\"\",INDEX(referentes!$S$2:$S$170,MATCH(N118,referentes!$W$2:$W$170,0),1))","v":""},null,null,null,null,null,null,null,null,null,{"$f":"IF(X118=\"\",\"\",INDEX(referentes!$Y$2:$Z$37,MATCH(X118,referentes!$Z$2:$Z$37,0),1))","v":""},"01",null,null,null,"",null,"",null,null,"",null,1,{"$f":"IF(E118<>\"\",CONCATENATE(B118,A118,DIGITADOR!$M$1,AH118),\"\")","v":""},"",null,null,null,null,null,null,null,null,null,null,null,null,null,null,null,null,null,null,"","",{"$f":"IF(BE118=\"\",\"\",INDEX(referentes!$D$2:$E$37,MATCH(BE118,referentes!$D$2:$D$37,0),2))","v":""},null,{"$f":"IF(BI118=\"\",\"\",INDEX(referentes!$J$2:$L$363,MATCH(BI118,referentes!$J$2:$J$363,0),2))","v":""},"",114]
["30000104",{"$f":"DIGITADOR!$B$2","v":""},1,{"$f":"IF(E119<>\"\",CONCATENATE($A$2,DIGITADOR!$M$1,O119,AH119),\"\")","v":""},null,null,"00:00:00",1,1,null,{"$f":"IF(J119<>\"\",VLOOKUP(J119,#REF!,1,FALSE),\"\")","v":""},null,"",{"$f":"IF(M119=\"\",\"\",INDEX('Otras referencias'!$L$2:$N$200,MATCH(M119,'Otras referencias'!$L$2:$L$200,0),3))","v":""},{"$f":"IF(M119=\"\",\"\",INDEX(referentes!$S$2:$S$170,MATCH(N119,referentes!$W$2:$W$170,0),1))","v":""},null,null,null,null,null,null,null,null,null,{"$f":"IF(X119=\"\",\"\",INDEX(referentes!$Y$2:$Z$37,MATCH(X119,referentes!$Z$2:$Z$37,0),1))","v":""},"01",null,null,null,"",null,"",null,null,"",null,1,{"$f":"IF(E119<>\"\",CONCATENATE(B119,A119,DIGITADOR!$M$1,AH119),\"\")","v":""},"",null,null,null,null,null,null,null,null,null,null,null,null,null,null,null,null,null,null,"","",{"$f":"IF(BE119=\"\",\"\",INDEX(referentes!$D$2:$E$37,MATCH(BE119,referentes!$D$2:$D$37,0),2))","v":""},null,{"$f":"IF(BI119=\"\",\"\",INDEX(referentes!$J$2:$L$363,MATCH(BI119,referentes!$J$2:$J$363,0),2))","v":""},"",115]
["30000104",{"$f":"DIGITADOR!$B$2","v":""},1,{"$f":"IF(E120<>\"\",CONCATENATE($A$2,DIGITADOR!$M$1,O120,AH120),\"\")","v":""},null,null,"00:00:00",1,1,null,{"$f":"IF(J120<>\"\",VLOOKUP(J120,#REF!,1,FALSE),\"\")","v":""},null,"",{"$f":"IF(M120=\"\",\"\",INDEX('Otras referencias'!$L$2:$N$200,MATCH(M120,'Otras referencias'!$L$2:$L$200,0),3))","v":""},{"$f":"IF(M120=\"\",\"\",INDEX(referentes!$S$2:$S$170,MATCH(N120,referentes!$W$2:$W$170,0),1))","v":""},null,null,null,null,null,null,null,null,null,{"$f":"IF(X120=\"\",\"\",INDEX(referentes!$Y$2:$Z$37,MATCH(X120,referentes!$Z$2:$Z$37,0),1))","v":""},"01",null,null,null,"",null,"",null,null,"",null,1,{"$f":"IF(E120<>\"\",CONCATENATE(B120,A120,DIGITADOR!$M$1,AH120),\"\")","v":""},"",null,null,null,null,null,null,null,null,null,null,null,null,null,null,null,null,null,null,"","",{"$f":"IF(BE120=\"\",\"\",INDEX(referentes!$D$2:$E$37,MATCH(BE120,referentes!$D$2:$D$37,0),2))","v":""},null,{"$f":"IF(BI120=\"\",\"\",INDEX(referentes!$J$2:$L$363,MATCH(BI120,referentes!$J$2:$J$363,0),2))","v":""},"",116]
["30000104",{"$f":"DIGITADOR!$B$2","v":""},1,{"$f":"IF(E121<>\"\",CONCATENATE($A$2,DIGITADOR!$M$1,O121,AH121),\"\")","v":""},null,null,"00:00:00",1,1,null,{"$f":"IF(J121<>\"\",VLOOKUP(J121,#REF!,1,FALSE),\"\")","v":""},null,"",{"$f":"IF(M121=\"\",\"\",INDEX('Otras referencias'!$L$2:$N$200,MATCH(M121,'Otras referencias'!$L$2:$L$200,0),3))","v":""},{"$f":"IF(M121=\"\",\"\",INDEX(referentes!$S$2:$S$170,MATCH(N121,referentes!$W$2:$W$170,0),1))","v":""},null,null,null,null,null,null,null,null,null,{"$f":"IF(X121=\"\",\"\",INDEX(referentes!$Y$2:$Z$37,MATCH(X121,referentes!$Z$2:$Z$37,0),1))","v":""},"01",null,null,null,"",null,"",null,null,"",null,1,{"$f":"IF(E121<>\"\",CONCATENATE(B121,A121,DIGITADOR!$M$1,AH121),\"\")","v":""},"",null,null,null,null,null,null,null,null,null,null,null,null,null,null,null,null,null,null,"","",{"$f":"IF(BE121=\"\",\"\",INDEX(referentes!$D$2:$E$37,MATCH(BE121,referentes!$D$2:$D$37,0),2))","v":""},null,{"$f":"IF(BI121=\"\",\"\",INDEX(referentes!$J$2:$L$363,MATCH(BI121,referentes!$J$2:$J$363,0),2))","v":""},"",117]
["30000104",{"$f":"DIGITADOR!$B$2","v":""},1,{"$f":"IF(E122<>\"\",CONCATENATE($A$2,DIGITADOR!$M$1,O122,AH122),\"\")","v":""},null,null,"00:00:00",1,1,null,{"$f":"IF(J122<>\"\",VLOOKUP(J122,#REF!,1,FALSE),\"\")","v":""},null,"",{"$f":"IF(M122=\"\",\"\",INDEX('Otras referencias'!$L$2:$N$200,MATCH(M122,'Otras referencias'!$L$2:$L$200,0),3))","v":""},{"$f":"IF(M122=\"\",\"\",INDEX(referentes!$S$2:$S$170,MATCH(N122,referentes!$W$2:$W$170,0),1))","v":""},null,null,null,null,null,null,null,null,null,{"$f":"IF(X122=\"\",\"\",INDEX(referentes!$Y$2:$Z$37,MATCH(X122,referentes!$Z$2:$Z$37,0),1))","v":""},"01",null,null,null,"",null,"",null,null,"",null,1,{"$f":"IF(E122<>\"\",CONCATENATE(B122,A122,DIGITADOR!$M$1,AH122),\"\")","v":""},"",null,null,null,null,null,null,null,null,null,null,null,null,null,null,null,null,null,null,"","",{"$f":"IF(BE122=\"\",\"\",INDEX(referentes!$D$2:$E$37,MATCH(BE122,referentes!$D$2:$D$37,0),2))","v":""},null,{"$f":"IF(BI122=\"\",\"\",INDEX(referentes!$J$2:$L$363,MATCH(BI122,referentes!$J$2:$J$363,0),2))","v":""},"",118]
["30000104",{"$f":"DIGITADOR!$B$2","v":""},1,{"$f":"IF(E123<>\"\",CONCATENATE($A$2,DIGITADOR!$M$1,O123,AH123),\"\")","v":""},null,null,"00:00:00",1,1,null,{"$f":"IF(J123<>\"\",VLOOKUP(J123,#REF!,1,FALSE),\"\")","v":""},null,"",{"$f":"IF(M123=\"\",\"\",INDEX('Otras referencias'!$L$2:$N$200,MATCH(M123,'Otras referencias'!$L$2:$L$200,0),3))","v":""},{"$f":"IF(M123=\"\",\"\",INDEX(referentes!$S$2:$S$170,MATCH(N123,referentes!$W$2:$W$170,0),1))","v":""},null,null,null,null,null,null,null,null,null,{"$f":"IF(X123=\"\",\"\",INDEX(referentes!$Y$2:$Z$37,MATCH(X123,referentes!$Z$2:$Z$37,0),1))","v":""},"01",null,null,null,"",null,"",null,null,"",null,1,{"$f":"IF(E123<>\"\",CONCATENATE(B123,A123,DIGITADOR!$M$1,AH123),\"\")","v":""},"",null,null,null,null,null,null,null,null,null,null,null,null,null,null,null,null,null,null,"","",{"$f":"IF(BE123=\"\",\"\",INDEX(referentes!$D$2:$E$37,MATCH(BE123,referentes!$D$2:$D$37,0),2))","v":""},null,{"$f":"IF(BI123=\"\",\"\",INDEX(referentes!$J$2:$L$363,MATCH(BI123,referentes!$J$2:$J$363,0),2))","v":""},"",119]
["30000104",{"$f":"DIGITADOR!$B$2","v":""},1,{"$f":"IF(E124<>\"\",CONCATENATE($A$2,DIGITADOR!$M$1,O124,AH124),\"\")","v":""},null,null,"00:00:00",1,1,null,{"$f":"IF(J124<>\"\",VLOOKUP(J124,#REF!,1,FALSE),\"\")","v":""},null,"",{"$f":"IF(M124=\"\",\"\",INDEX('Otras referencias'!$L$2:$N$200,MATCH(M124,'Otras referencias'!$L$2:$L$200,0),3))","v":""},{"$f":"IF(M124=\"\",\"\",INDEX(referentes!$S$2:$S$170,MATCH(N124,referentes!$W$2:$W$170,0),1))","v":""},null,null,null,null,null,null,null,null,null,{"$f":"IF(X124=\"\",\"\",INDEX(referentes!$Y$2:$Z$37,MATCH(X124,referentes!$Z$2:$Z$37,0),1))","v":""},"01",null,null,null,"",null,"",null,null,"",null,1,{"$f":"IF(E124<>\"\",CONCATENATE(B124,A124,DIGITADOR!$M$1,AH124),\"\")","v":""},"",null,null,null,null,null,null,null,null,null,null,null,null,null,null,null,null,null,null,"","",{"$f":"IF(BE124=\"\",\"\",INDEX(referentes!$D$2:$E$37,MATCH(BE124,referentes!$D$2:$D$37,0),2))","v":""},null,{"$f":"IF(BI124=\"\",\"\",INDEX(referentes!$J$2:$L$363,MATCH(BI124,referentes!$J$2:$J$363,0),2))","v":""},"",120]
["30000104",{"$f":"DIGITADOR!$B$2","v":""},1,{"$f":"IF(E125<>\"\",CONCATENATE($A$2,DIGITADOR!$M$1,O125,AH125),\"\")","v":""},null,null,"00:00:00",1,1,null,{"$f":"IF(J125<>\"\",VLOOKUP(J125,#REF!,1,FALSE),\"\")","v":""},null,"",{"$f":"IF(M125=\"\",\"\",INDEX('Otras referencias'!$L$2:$N$200,MATCH(M125,'Otras referencias'!$L$2:$L$200,0),3))","v":""},{"$f":"IF(M125=\"\",\"\",INDEX(referentes!$S$2:$S$170,MATCH(N125,referentes!$W$2:$W$170,0),1))","v":""},null,null,null,null,null,null,null,null,null,{"$f":"IF(X125=\"\",\"\",INDEX(referentes!$Y$2:$Z$37,MATCH(X125,referentes!$Z$2:$Z$37,0),1))","v":""},"01",null,null,null,"",null,"",null,null,"",null,1,{"$f":"IF(E125<>\"\",CONCATENATE(B125,A125,DIGITADOR!$M$1,AH125),\"\")","v":""},"",null,null,null,null,null,null,null,null,null,null,null,null,null,null,null,null,null,null,"","",{"$f":"IF(BE125=\"\",\"\",INDEX(referentes!$D$2:$E$37,MATCH(BE125,referentes!$D$2:$D$37,0),2))","v":""},null,{"$f":"IF(BI125=\"\",\"\",INDEX(referentes!$J$2:$L$363,MATCH(BI125,referentes!$J$2:$J$363,0),2))","v":""},"",121]
["30000104",{"$f":"DIGITADOR!$B$2","v":""},1,{"$f":"IF(E126<>\"\",CONCATENATE($A$2,DIGITADOR!$M$1,O126,AH126),\"\")","v":""},null,null,"00:00:00",1,1,null,{"$f":"IF(J126<>\"\",VLOOKUP(J126,#REF!,1,FALSE),\"\")","v":""},null,"",{"$f":"IF(M126=\"\",\"\",INDEX('Otras referencias'!$L$2:$N$200,MATCH(M126,'Otras referencias'!$L$2:$L$200,0),3))","v":""},{"$f":"IF(M126=\"\",\"\",INDEX(referentes!$S$2:$S$170,MATCH(N126,referentes!$W$2:$W$170,0),1))","v":""},null,null,null,null,null,null,null,null,null,{"$f":"IF(X126=\"\",\"\",INDEX(referentes!$Y$2:$Z$37,MATCH(X126,referentes!$Z$2:$Z$37,0),1))","v":""},"01",null,null,null,"",null,"",null,null,"",null,1,{"$f":"IF(E126<>\"\",CONCATENATE(B126,A126,DIGITADOR!$M$1,AH126),\"\")","v":""},"",null,null,null,null,null,null,null,null,null,null,null,null,null,null,null,null,null,null,"","",{"$f":"IF(BE126=\"\",\"\",INDEX(referentes!$D$2:$E$37,MATCH(BE126,referentes!$D$2:$D$37,0),2))","v":""},null,{"$f":"IF(BI126=\"\",\"\",INDEX(referentes!$J$2:$L$363,MATCH(BI126,referentes!$J$2:$J$363,0),2))","v":""},"",122]
["30000104",{"$f":"DIGITADOR!$B$2","v":""},1,{"$f":"IF(E127<>\"\",CONCATENATE($A$2,DIGITADOR!$M$1,O127,AH127),\"\")","v":""},null,null,"00:00:00",1,1,null,{"$f":"IF(J127<>\"\",VLOOKUP(J127,#REF!,1,FALSE),\"\")","v":""},null,"",{"$f":"IF(M127=\"\",\"\",INDEX('Otras referencias'!$L$2:$N$200,MATCH(M127,'Otras referencias'!$L$2:$L$200,0),3))","v":""},{"$f":"IF(M127=\"\",\"\",INDEX(referentes!$S$2:$S$170,MATCH(N127,referentes!$W$2:$W$170,0),1))","v":""},null,null,null,null,null,null,null,null,null,{"$f":"IF(X127=\"\",\"\",INDEX(referentes!$Y$2:$Z$37,MATCH(X127,referentes!$Z$2:$Z$37,0),1))","v":""},"01",null,null,null,"",null,"",null,null,"",null,1,{"$f":"IF(E127<>\"\",CONCATENATE(B127,A127,DIGITADOR!$M$1,AH127),\"\")","v":""},"",null,null,null,null,null,null,null,null,null,null,null,null,null,null,null,null,null,null,"","",{"$f":"IF(BE127=\"\",\"\",INDEX(referentes!$D$2:$E$37,MATCH(BE127,referentes!$D$2:$D$37,0),2))","v":""},null,{"$f":"IF(BI127=\"\",\"\",INDEX(referentes!$J$2:$L$363,MATCH(BI127,referentes!$J$2:$J$363,0),2))","v":""},"",123]
["30000104",{"$f":"DIGITADOR!$B$2","v":""},1,{"$f":"IF(E128<>\"\",CONCATENATE($A$2,DIGITADOR!$M$1,O128,AH128),\"\")","v":""},null,null,"00:00:00",1,1,null,{"$f":"IF(J128<>\"\",VLOOKUP(J128,#REF!,1,FALSE),\"\")","v":""},null,"",{"$f":"IF(M128=\"\",\"\",INDEX('Otras referencias'!$L$2:$N$200,MATCH(M128,'Otras referencias'!$L$2:$L$200,0),3))","v":""},{"$f":"IF(M128=\"\",\"\",INDEX(referentes!$S$2:$S$170,MATCH(N128,referentes!$W$2:$W$170,0),1))","v":""},null,null,null,null,null,null,null,null,null,{"$f":"IF(X128=\"\",\"\",INDEX(referentes!$Y$2:$Z$37,MATCH(X128,referentes!$Z$2:$Z$37,0),1))","v":""},"01",null,null,null,"",null,"",null,null,"",null,1,{"$f":"IF(E128<>\"\",CONCATENATE(B128,A128,DIGITADOR!$M$1,AH128),\"\")","v":""},"",null,null,null,null,null,null,null,null,null,null,null,null,null,null,null,null,null,null,"","",{"$f":"IF(BE128=\"\",\"\",INDEX(referentes!$D$2:$E$37,MATCH(BE128,referentes!$D$2:$D$37,0),2))","v":""},null,{"$f":"IF(BI128=\"\",\"\",INDEX(referentes!$J$2:$L$363,MATCH(BI128,referentes!$J$2:$J$363,0),2))","v":""},"",124]
["30000104",{"$f":"DIGITADOR!$B$2","v":""},1,{"$f":"IF(E129<>\"\",CONCATENATE($A$2,DIGITADOR!$M$1,O129,AH129),\"\")","v":""},null,null,"00:00:00",1,1,null,{"$f":"IF(J129<>\"\",VLOOKUP(J129,#REF!,1,FALSE),\"\")","v":""},null,"",{"$f":"IF(M129=\"\",\"\",INDEX('Otras referencias'!$L$2:$N$200,MATCH(M129,'Otras referencias'!$L$2:$L$200,0),3))","v":""},{"$f":"IF(M129=\"\",\"\",INDEX(referentes!$S$2:$S$170,MATCH(N129,referentes!$W$2:$W$170,0),1))","v":""},null,null,null,null,null,null,null,null,null,{"$f":"IF(X129=\"\",\"\",INDEX(referentes!$Y$2:$Z$37,MATCH(X129,referentes!$Z$2:$Z$37,0),1))","v":""},"01",null,null,null,"",null,"",null,null,"",null,1,{"$f":"IF(E129<>\"\",CONCATENATE(B129,A129,DIGITADOR!$M$1,AH129),\"\")","v":""},"",null,null,null,null,null,null,null,null,null,null,null,null,null,null,null,null,null,null,"","",{"$f":"IF(BE129=\"\",\"\",INDEX(referentes!$D$2:$E$37,MATCH(BE129,referentes!$D$2:$D$37,0),2))","v":""},null,{"$f":"IF(BI129=\"\",\"\",INDEX(referentes!$J$2:$L$363,MATCH(BI129,referentes!$J$2:$J$363,0),2))","v":""},"",125]
["30000104",{"$f":"DIGITADOR!$B$2","v":""},1,{"$f":"IF(E130<>\"\",CONCATENATE($A$2,DIGITADOR!$M$1,O130,AH130),\"\")","v":""},null,null,"00:00:00",1,1,null,{"$f":"IF(J130<>\"\",VLOOKUP(J130,#REF!,1,FALSE),\"\")","v":""},null,"",{"$f":"IF(M130=\"\",\"\",INDEX('Otras referencias'!$L$2:$N$200,MATCH(M130,'Otras referencias'!$L$2:$L$200,0),3))","v":""},{"$f":"IF(M130=\"\",\"\",INDEX(referentes!$S$2:$S$170,MATCH(N130,referentes!$W$2:$W$170,0),1))","v":""},null,null,null,null,null,null,null,null,null,{"$f":"IF(X130=\"\",\"\",INDEX(referentes!$Y$2:$Z$37,MATCH(X130,referentes!$Z$2:$Z$37,0),1))","v":""},"01",null,null,null,"",null,"",null,null,"",null,1,{"$f":"IF(E130<>\"\",CONCATENATE(B130,A130,DIGITADOR!$M$1,AH130),\"\")","v":""},"",null,null,null,null,null,null,null,null,null,null,null,null,null,null,null,null,null,null,"","",{"$f":"IF(BE130=\"\",\"\",INDEX(referentes!$D$2:$E$37,MATCH(BE130,referentes!$D$2:$D$37,0),2))","v":""},null,{"$f":"IF(BI130=\"\",\"\",INDEX(referentes!$J$2:$L$363,MATCH(BI130,referentes!$J$2:$J$363,0),2))","v":""},"",126]
["30000104",{"$f":"DIGITADOR!$B$2","v":""},1,{"$f":"IF(E131<>\"\",CONCATENATE($A$2,DIGITADOR!$M$1,O131,AH131),\"\")","v":""},null,null,"00:00:00",1,1,null,{"$f":"IF(J131<>\"\",VLOOKUP(J131,#REF!,1,FALSE),\"\")","v":""},null,"",{"$f":"IF(M131=\"\",\"\",INDEX('Otras referencias'!$L$2:$N$200,MATCH(M131,'Otras referencias'!$L$2:$L$200,0),3))","v":""},{"$f":"IF(M131=\"\",\"\",INDEX(referentes!$S$2:$S$170,MATCH(N131,referentes!$W$2:$W$170,0),1))","v":""},null,null,null,null,null,null,null,null,null,{"$f":"IF(X131=\"\",\"\",INDEX(referentes!$Y$2:$Z$37,MATCH(X131,referentes!$Z$2:$Z$37,0),1))","v":""},"01",null,null,null,"",null,"",null,null,"",null,1,{"$f":"IF(E131<>\"\",CONCATENATE(B131,A131,DIGITADOR!$M$1,AH131),\"\")","v":""},"",null,null,null,null,null,null,null,null,null,null,null,null,null,null,null,null,null,null,"","",{"$f":"IF(BE131=\"\",\"\",INDEX(referentes!$D$2:$E$37,MATCH(BE131,referentes!$D$2:$D$37,0),2))","v":""},null,{"$f":"IF(BI131=\"\",\"\",INDEX(referentes!$J$2:$L$363,MATCH(BI131,referentes!$J$2:$J$363,0),2))","v":""},"",127]
["30000104",{"$f":"DIGITADOR!$B$2","v":""},1,{"$f":"IF(E132<>\"\",CONCATENATE($A$2,DIGITADOR!$M$1,O132,AH132),\"\")","v":""},null,null,"00:00:00",1,1,null,{"$f":"IF(J132<>\"\",VLOOKUP(J132,#REF!,1,FALSE),\"\")","v":""},null,"",{"$f":"IF(M132=\"\",\"\",INDEX('Otras referencias'!$L$2:$N$200,MATCH(M132,'Otras referencias'!$L$2:$L$200,0),3))","v":""},{"$f":"IF(M132=\"\",\"\",INDEX(referentes!$S$2:$S$170,MATCH(N132,referentes!$W$2:$W$170,0),1))","v":""},null,null,null,null,null,null,null,null,null,{"$f":"IF(X132=\"\",\"\",INDEX(referentes!$Y$2:$Z$37,MATCH(X132,referentes!$Z$2:$Z$37,0),1))","v":""},"01",null,null,null,"",null,"",null,null,"",null,1,{"$f":"IF(E132<>\"\",CONCATENATE(B132,A132,DIGITADOR!$M$1,AH132),\"\")","v":""},"",null,null,null,null,null,null,null,null,null,null,null,null,null,null,null,null,null,null,"","",{"$f":"IF(BE132=\"\",\"\",INDEX(referentes!$D$2:$E$37,MATCH(BE132,referentes!$D$2:$D$37,0),2))","v":""},null,{"$f":"IF(BI132=\"\",\"\",INDEX(referentes!$J$2:$L$363,MATCH(BI132,referentes!$J$2:$J$363,0),2))","v":""},"",128]
["30000104",{"$f":"DIGITADOR!$B$2","v":""},{"$f":"IF(Z133=Z132,C132,C132+1)","v":1},{"$f":"IF(E133<>\"\",CONCATENATE($A$2,DIGITADOR!$M$1,O133,AH133),\"\")","v":""},null,null,"00:00:00",1,1,null,{"$f":"IF(J133<>\"\",VLOOKUP(J133,#REF!,1,FALSE),\"\")","v":""},null,"",{"$f":"IF(M133=\"\",\"\",INDEX('Otras referencias'!$L$2:$N$200,MATCH(M133,'Otras referencias'!$L$2:$L$200,0),3))","v":""},{"$f":"IF(M133=\"\",\"\",INDEX(referentes!$S$2:$S$170,MATCH(N133,referentes!$W$2:$W$170,0),1))","v":""},null,null,null,null,null,null,null,null,null,{"$f":"IF(X133=\"\",\"\",INDEX(referentes!$Y$2:$Z$37,MATCH(X133,referentes!$Z$2:$Z$37,0),1))","v":""},{"$f":"CONCATENATE(G133,O133,Y133,AK133)","v":"01"},null,null,null,"",null,"",null,null,"",null,1,{"$f":"IF(E133<>\"\",CONCATENATE(B133,A133,DIGITADOR!$M$1,AH133),\"\")","v":""},{"$f":"IF(D133=\"\",\"\",IF(AND(D133=D132,AI133=AI132,N133=N132),AM132+1,1))","v":""},null,null,null,null,null,null,null,null,null,null,null,null,null,null,null,null,null,null,"","",{"$f":"IF(BE133=\"\",\"\",INDEX(referentes!$D$2:$E$37,MATCH(BE133,referentes!$D$2:$D$37,0),2))","v":""},null,{"$f":"IF(BI133=\"\",\"\",INDEX(referentes!$J$2:$L$363,MATCH(BI133,referentes!$J$2:$J$363,0),2))","v":""},{"$f":"IF(D133=\"\",\"\",CONCATENATE(D133,BL133))","v":""},129]
[{"$f":"A133","v":"30000104"},{"$f":"DIGITADOR!$B$2","v":""},1,{"$f":"IF(E134<>\"\",CONCATENATE($A$2,DIGITADOR!$M$1,O134,AH134),\"\")","v":""},null,null,"00:00:00",1,1,null,{"$f":"IF(J134<>\"\",VLOOKUP(J134,#REF!,1,FALSE),\"\")","v":""},null,"",{"$f":"IF(M134=\"\",\"\",INDEX('Otras referencias'!$L$2:$N$200,MATCH(M134,'Otras referencias'!$L$2:$L$200,0),3))","v":""},{"$f":"IF(M134=\"\",\"\",INDEX(referentes!$S$2:$S$170,MATCH(N134,referentes!$W$2:$W$170,0),1))","v":""},null,null,null,null,null,null,null,null,null,{"$f":"IF(X134=\"\",\"\",INDEX(referentes!$Y$2:$Z$37,MATCH(X134,referentes!$Z$2:$Z$37,0),1))","v":""},"01",null,null,null,{"$f":"IF(D134=\"\",\"\",\"OA\")","v":""},null,{"$f":"IF(D134=\"\",\"\",\"SO\")","v":""},null,null,{"$f":"CONCATENATE(AG134,AH134)","v":""},null,1,{"$f":"IF(E134<>\"\",CONCATENATE(B134,A134,DIGITADOR!$M$1,AH134),\"\")","v":""},"",null,null,null,null,null,null,null,null,null,null,null,null,null,null,null,null,null,null,{"$f":"IF(BE134=\"\",\"\",UPPER(BE134))","v":""},{"$f":"IF(BI134=\"\",\"\",UPPER(BI134))","v":""},{"$f":"IF(BE134=\"\",\"\",INDEX(referentes!$D$2:$E$37,MATCH(BE134,referentes!$D$2:$D$37,0),2))","v":""},null,{"$f":"IF(BI134=\"\",\"\",INDEX(referentes!$J$2:$L$363,MATCH(BI134,referentes!$J$2:$J$363,0),2))","v":""},"",130]
["30000104",{"$f":"DIGITADOR!$B$2","v":""},1,{"$f":"IF(E135<>\"\",CONCATENATE($A$2,DIGITADOR!$M$1,O135,AH135),\"\")","v":""},null,null,"00:00:00",1,1,null,{"$f":"IF(J135<>\"\",VLOOKUP(J135,#REF!,1,FALSE),\"\")","v":""},null,"",{"$f":"IF(M135=\"\",\"\",INDEX('Otras referencias'!$L$2:$N$200,MATCH(M135,'Otras referencias'!$L$2:$L$200,0),3))","v":""},{"$f":"IF(M135=\"\",\"\",INDEX(referentes!$S$2:$S$170,MATCH(N135,referentes!$W$2:$W$170,0),1))","v":""},null,null,null,null,null,null,null,null,null,{"$f":"IF(X135=\"\",\"\",INDEX(referentes!$Y$2:$Z$37,MATCH(X135,referentes!$Z$2:$Z$37,0),1))","v":""},"01",null,null,null,"",null,"",null,null,"",null,1,{"$f":"IF(E135<>\"\",CONCATENATE(B135,A135,DIGITADOR!$M$1,AH135),\"\")","v":""},"",null,null,null,null,null,null,null,null,null,null,null,null,null,null,null,null,null,null,"","",{"$f":"IF(BE135=\"\",\"\",INDEX(referentes!$D$2:$E$37,MATCH(BE135,referentes!$D$2:$D$37,0),2))","v":""},null,{"$f":"IF(BI135=\"\",\"\",INDEX(referentes!$J$2:$L$363,MATCH(BI135,referentes!$J$2:$J$363,0),2))","v":""},"",131]
["30000104",{"$f":"DIGITADOR!$B$2","v":""},1,{"$f":"IF(E136<>\"\",CONCATENATE($A$2,DIGITADOR!$M$1,O136,AH136),\"\")","v":""},null,null,"00:00:00",1,1,null,{"$f":"IF(J136<>\"\",VLOOKUP(J136,#REF!,1,FALSE),\"\")","v":""},null,"",{"$f":"IF(M136=\"\",\"\",INDEX('Otras referencias'!$L$2:$N$200,MATCH(M136,'Otras referencias'!$L$2:$L$200,0),3))","v":""},{"$f":"IF(M136=\"\",\"\",INDEX(referentes!$S$2:$S$170,MATCH(N136,referentes!$W$2:$W$170,0),1))","v":""},null,null,null,null,null,null,null,null,null,{"$f":"IF(X136=\"\",\"\",INDEX(referentes!$Y$2:$Z$37,MATCH(X136,referentes!$Z$2:$Z$37,0),1))","v":""},"01",null,null,null,"",null,"",null,null,"",null,1,{"$f":"IF(E136<>\"\",CONCATENATE(B136,A136,DIGITADOR!$M$1,AH136),\"\")","v":""},"",null,null,null,null,null,null,null,null,null,null,null,null,null,null,null,null,null,null,"","",{"$f":"IF(BE136=\"\",\"\",INDEX(referentes!$D$2:$E$37,MATCH(BE136,referentes!$D$2:$D$37,0),2))","v":""},null,{"$f":"IF(BI136=\"\",\"\",INDEX(referentes!$J$2:$L$363,MATCH(BI136,referentes!$J$2:$J$363,0),2))","v":""},"",132]
["30000104",{"$f":"DIGITADOR!$B$2","v":""},1,{"$f":"IF(E137<>\"\",CONCATENATE($A$2,DIGITADOR!$M$1,O137,AH137),\"\")","v":""},null,null,"00:00:00",1,1,null,{"$f":"IF(J137<>\"\",VLOOKUP(J137,#REF!,1,FALSE),\"\")","v":""},null,"",{"$f":"IF(M137=\"\",\"\",INDEX('Otras referencias'!$L$2:$N$200,MATCH(M137,'Otras referencias'!$L$2:$L$200,0),3))","v":""},{"$f":"IF(M137=\"\",\"\",INDEX(referentes!$S$2:$S$170,MATCH(N137,referentes!$W$2:$W$170,0),1))","v":""},null,null,null,null,null,null,null,null,null,{"$f":"IF(X137=\"\",\"\",INDEX(referentes!$Y$2:$Z$37,MATCH(X137,referentes!$Z$2:$Z$37,0),1))","v":""},"01",null,null,null,"",null,"",null,null,"",null,1,{"$f":"IF(E137<>\"\",CONCATENATE(B137,A137,DIGITADOR!$M$1,AH137),\"\")","v":""},"",null,null,null,null,null,null,null,null,null,null,null,null,null,null,null,null,null,null,"","",{"$f":"IF(BE137=\"\",\"\",INDEX(referentes!$D$2:$E$37,MATCH(BE137,referentes!$D$2:$D$37,0),2))","v":""},null,{"$f":"IF(BI137=\"\",\"\",INDEX(referentes!$J$2:$L$363,MATCH(BI137,referentes!$J$2:$J$363,0),2))","v":""},"",133]
["30000104",{"$f":"DIGITADOR!$B$2","v":""},1,{"$f":"IF(E138<>\"\",CONCATENATE($A$2,DIGITADOR!$M$1,O138,AH138),\"\")","v":""},null,null,"00:00:00",1,1,null,{"$f":"IF(J138<>\"\",VLOOKUP(J138,#REF!,1,FALSE),\"\")","v":""},null,"",{"$f":"IF(M138=\"\",\"\",INDEX('Otras referencias'!$L$2:$N$200,MATCH(M138,'Otras referencias'!$L$2:$L$200,0),3))","v":""},{"$f":"IF(M138=\"\",\"\",INDEX(referentes!$S$2:$S$170,MATCH(N138,referentes!$W$2:$W$170,0),1))","v":""},null,null,null,null,null,null,null,null,null,{"$f":"IF(X138=\"\",\"\",INDEX(referentes!$Y$2:$Z$37,MATCH(X138,referentes!$Z$2:$Z$37,0),1))","v":""},"01",null,null,null,"",null,"",null,null,"",null,1,{"$f":"IF(E138<>\"\",CONCATENATE(B138,A138,DIGITADOR!$M$1,AH138),\"\")","v":""},"",null,null,null,null,null,null,null,null,null,null,null,null,null,null,null,null,null,null,"","",{"$f":"IF(BE138=\"\",\"\",INDEX(referentes!$D$2:$E$37,MATCH(BE138,referentes!$D$2:$D$37,0),2))","v":""},null,{"$f":"IF(BI138=\"\",\"\",INDEX(referentes!$J$2:$L$363,MATCH(BI138,referentes!$J$2:$J$363,0),2))","v":""},"",134]
["30000104",{"$f":"DIGITADOR!$B$2","v":""},1,{"$f":"IF(E139<>\"\",CONCATENATE($A$2,DIGITADOR!$M$1,O139,AH139),\"\")","v":""},null,null,"00:00:00",1,1,null,{"$f":"IF(J139<>\"\",VLOOKUP(J139,#REF!,1,FALSE),\"\")","v":""},null,"",{"$f":"IF(M139=\"\",\"\",INDEX('Otras referencias'!$L$2:$N$200,MATCH(M139,'Otras referencias'!$L$2:$L$200,0),3))","v":""},{"$f":"IF(M139=\"\",\"\",INDEX(referentes!$S$2:$S$170,MATCH(N139,referentes!$W$2:$W$170,0),1))","v":""},null,null,null,null,null,null,null,null,null,{"$f":"IF(X139=\"\",\"\",INDEX(referentes!$Y$2:$Z$37,MATCH(X139,referentes!$Z$2:$Z$37,0),1))","v":""},"01",null,null,null,"",null,"",null,null,"",null,1,{"$f":"IF(E139<>\"\",CONCATENATE(B139,A139,DIGITADOR!$M$1,AH139),\"\")","v":""},"",null,null,null,null,null,null,null,null,null,null,null,null,null,null,null,null,null,null,"","",{"$f":"IF(BE139=\"\",\"\",INDEX(referentes!$D$2:$E$37,MATCH(BE139,referentes!$D$2:$D$37,0),2))","v":""},null,{"$f":"IF(BI139=\"\",\"\",INDEX(referentes!$J$2:$L$363,MATCH(BI139,referentes!$J$2:$J$363,0),2))","v":""},"",135]
["30000104",{"$f":"DIGITADOR!$B$2","v":""},1,{"$f":"IF(E140<>\"\",CONCATENATE($A$2,DIGITADOR!$M$1,O140,AH140),\"\")","v":""},null,null,"00:00:00",1,1,null,{"$f":"IF(J140<>\"\",VLOOKUP(J140,#REF!,1,FALSE),\"\")","v":""},null,"",{"$f":"IF(M140=\"\",\"\",INDEX('Otras referencias'!$L$2:$N$200,MATCH(M140,'Otras referencias'!$L$2:$L$200,0),3))","v":""},{"$f":"IF(M140=\"\",\"\",INDEX(referentes!$S$2:$S$170,MATCH(N140,referentes!$W$2:$W$170,0),1))","v":""},null,null,null,null,null,null,null,null,null,{"$f":"IF(X140=\"\",\"\",INDEX(referentes!$Y$2:$Z$37,MATCH(X140,referentes!$Z$2:$Z$37,0),1))","v":""},"01",null,null,null,"",null,"",null,null,"",null,1,{"$f":"IF(E140<>\"\",CONCATENATE(B140,A140,DIGITADOR!$M$1,AH140),\"\")","v":""},"",null,null,null,null,null,null,null,null,null,null,null,null,null,null,null,null,null,null,"","",{"$f":"IF(BE140=\"\",\"\",INDEX(referentes!$D$2:$E$37,MATCH(BE140,referentes!$D$2:$D$37,0),2))","v":""},null,{"$f":"IF(BI140=\"\",\"\",INDEX(referentes!$J$2:$L$363,MATCH(BI140,referentes!$J$2:$J$363,0),2))","v":""},"",136]
["30000104",{"$f":"DIGITADOR!$B$2","v":""},1,{"$f":"IF(E141<>\"\",CONCATENATE($A$2,DIGITADOR!$M$1,O141,AH141),\"\")","v":""},null,null,"00:00:00",1,1,null,{"$f":"IF(J141<>\"\",VLOOKUP(J141,#REF!,1,FALSE),\"\")","v":""},null,"",{"$f":"IF(M141=\"\",\"\",INDEX('Otras referencias'!$L$2:$N$200,MATCH(M141,'Otras referencias'!$L$2:$L$200,0),3))","v":""},{"$f":"IF(M141=\"\",\"\",INDEX(referentes!$S$2:$S$170,MATCH(N141,referentes!$W$2:$W$170,0),1))","v":""},null,null,null,null,null,null,null,null,null,{"$f":"IF(X141=\"\",\"\",INDEX(referentes!$Y$2:$Z$37,MATCH(X141,referentes!$Z$2:$Z$37,0),1))","v":""},"01",null,null,null,"",null,"",null,null,"",null,1,{"$f":"IF(E141<>\"\",CONCATENATE(B141,A141,DIGITADOR!$M$1,AH141),\"\")","v":""},"",null,null,null,null,null,null,null,null,null,null,null,null,null,null,null,null,null,null,"","",{"$f":"IF(BE141=\"\",\"\",INDEX(referentes!$D$2:$E$37,MATCH(BE141,referentes!$D$2:$D$37,0),2))","v":""},null,{"$f":"IF(BI141=\"\",\"\",INDEX(referentes!$J$2:$L$363,MATCH(BI141,referentes!$J$2:$J$363,0),2))","v":""},"",137]
["30000104",{"$f":"DIGITADOR!$B$2","v":""},1,{"$f":"IF(E142<>\"\",CONCATENATE($A$2,DIGITADOR!$M$1,O142,AH142),\"\")","v":""},null,null,"00:00:00",1,1,null,{"$f":"IF(J142<>\"\",VLOOKUP(J142,#REF!,1,FALSE),\"\")","v":""},null,"",{"$f":"IF(M142=\"\",\"\",INDEX('Otras referencias'!$L$2:$N$200,MATCH(M142,'Otras referencias'!$L$2:$L$200,0),3))","v":""},{"$f":"IF(M142=\"\",\"\",INDEX(referentes!$S$2:$S$170,MATCH(N142,referentes!$W$2:$W$170,0),1))","v":""},null,null,null,null,null,null,null,null,null,{"$f":"IF(X142=\"\",\"\",INDEX(referentes!$Y$2:$Z$37,MATCH(X142,referentes!$Z$2:$Z$37,0),1))","v":""},"01",null,null,null,"",null,"",null,null,"",null,1,{"$f":"IF(E142<>\"\",CONCATENATE(B142,A142,DIGITADOR!$M$1,AH142),\"\")","v":""},"",null,null,null,null,null,null,null,null,null,null,null,null,null,null,null,null,null,null,"","",{"$f":"IF(BE142=\"\",\"\",INDEX(referentes!$D$2:$E$37,MATCH(BE142,referentes!$D$2:$D$37,0),2))","v":""},null,{"$f":"IF(BI142=\"\",\"\",INDEX(referentes!$J$2:$L$363,MATCH(BI142,referentes!$J$2:$J$363,0),2))","v":""},"",138]
["30000104",{"$f":"DIGITADOR!$B$2","v":""},1,{"$f":"IF(E143<>\"\",CONCATENATE($A$2,DIGITADOR!$M$1,O143,AH143),\"\")","v":""},null,null,"00:00:00",1,1,null,{"$f":"IF(J143<>\"\",VLOOKUP(J143,#REF!,1,FALSE),\"\")","v":""},null,"",{"$f":"IF(M143=\"\",\"\",INDEX('Otras referencias'!$L$2:$N$200,MATCH(M143,'Otras referencias'!$L$2:$L$200,0),3))","v":""},{"$f":"IF(M143=\"\",\"\",INDEX(referentes!$S$2:$S$170,MATCH(N143,referentes!$W$2:$W$170,0),1))","v":""},null,null,null,null,null,null,null,null,null,{"$f":"IF(X143=\"\",\"\",INDEX(referentes!$Y$2:$Z$37,MATCH(X143,referentes!$Z$2:$Z$37,0),1))","v":""},"01",null,null,null,"",null,"",null,null,"",null,1,{"$f":"IF(E143<>\"\",CONCATENATE(B143,A143,DIGITADOR!$M$1,AH143),\"\")","v":""},"",null,null,null,null,null,null,null,null,null,null,null,null,null,null,null,null,null,null,"","",{"$f":"IF(BE143=\"\",\"\",INDEX(referentes!$D$2:$E$37,MATCH(BE143,referentes!$D$2:$D$37,0),2))","v":""},null,{"$f":"IF(BI143=\"\",\"\",INDEX(referentes!$J$2:$L$363,MATCH(BI143,referentes!$J$2:$J$363,0),2))","v":""},"",139]
["30000104",{"$f":"DIGITADOR!$B$2","v":""},1,{"$f":"IF(E144<>\"\",CONCATENATE($A$2,DIGITADOR!$M$1,O144,AH144),\"\")","v":""},null,null,"00:00:00",1,1,null,{"$f":"IF(J144<>\"\",VLOOKUP(J144,#REF!,1,FALSE),\"\")","v":""},null,"",{"$f":"IF(M144=\"\",\"\",INDEX('Otras referencias'!$L$2:$N$200,MATCH(M144,'Otras referencias'!$L$2:$L$200,0),3))","v":""},{"$f":"IF(M144=\"\",\"\",INDEX(referentes!$S$2:$S$170,MATCH(N144,referentes!$W$2:$W$170,0),1))","v":""},null,null,null,null,null,null,null,null,null,{"$f":"IF(X144=\"\",\"\",INDEX(referentes!$Y$2:$Z$37,MATCH(X144,referentes!$Z$2:$Z$37,0),1))","v":""},"01",null,null,null,"",null,"",null,null,"",null,1,{"$f":"IF(E144<>\"\",CONCATENATE(B144,A144,DIGITADOR!$M$1,AH144),\"\")","v":""},"",null,null,null,null,null,null,null,null,null,null,null,null,null,null,null,null,null,null,"","",{"$f":"IF(BE144=\"\",\"\",INDEX(referentes!$D$2:$E$37,MATCH(BE144,referentes!$D$2:$D$37,0),2))","v":""},null,{"$f":"IF(BI144=\"\",\"\",INDEX(referentes!$J$2:$L$363,MATCH(BI144,referentes!$J$2:$J$363,0),2))","v":""},"",140]
["30000104",{"$f":"DIGITADOR!$B$2","v":""},1,{"$f":"IF(E145<>\"\",CONCATENATE($A$2,DIGITADOR!$M$1,O145,AH145),\"\")","v":""},null,null,"00:00:00",1,1,null,{"$f":"IF(J145<>\"\",VLOOKUP(J145,#REF!,1,FALSE),\"\")","v":""},null,"",{"$f":"IF(M145=\"\",\"\",INDEX('Otras referencias'!$L$2:$N$200,MATCH(M145,'Otras referencias'!$L$2:$L$200,0),3))","v":""},{"$f":"IF(M145=\"\",\"\",INDEX(referentes!$S$2:$S$170,MATCH(N145,referentes!$W$2:$W$170,0),1))","v":""},null,null,null,null,null,null,null,null,null,{"$f":"IF(X145=\"\",\"\",INDEX(referentes!$Y$2:$Z$37,MATCH(X145,referentes!$Z$2:$Z$37,0),1))","v":""},"01",null,null,null,"",null,"",null,null,"",null,1,{"$f":"IF(E145<>\"\",CONCATENATE(B145,A145,DIGITADOR!$M$1,AH145),\"\")","v":""},"",null,null,null,null,null,null,null,null,null,null,null,null,null,null,null,null,null,null,"","",{"$f":"IF(BE145=\"\",\"\",INDEX(referentes!$D$2:$E$37,MATCH(BE145,referentes!$D$2:$D$37,0),2))","v":""},null,{"$f":"IF(BI145=\"\",\"\",INDEX(referentes!$J$2:$L$363,MATCH(BI145,referentes!$J$2:$J$363,0),2))","v":""},"",141]
["30000104",{"$f":"DIGITADOR!$B$2","v":""},1,{"$f":"IF(E146<>\"\",CONCATENATE($A$2,DIGITADOR!$M$1,O146,AH146),\"\")","v":""},null,null,"00:00:00",1,1,null,{"$f":"IF(J146<>\"\",VLOOKUP(J146,#REF!,1,FALSE),\"\")","v":""},null,"",{"$f":"IF(M146=\"\",\"\",INDEX('Otras referencias'!$L$2:$N$200,MATCH(M146,'Otras referencias'!$L$2:$L$200,0),3))","v":""},{"$f":"IF(M146=\"\",\"\",INDEX(referentes!$S$2:$S$170,MATCH(N146,referentes!$W$2:$W$170,0),1))","v":""},null,null,null,null,null,null,null,null,null,{"$f":"IF(X146=\"\",\"\",INDEX(referentes!$Y$2:$Z$37,MATCH(X146,referentes!$Z$2:$Z$37,0),1))","v":""},"01",null,null,null,"",null,"",null,null,"",null,1,{"$f":"IF(E146<>\"\",CONCATENATE(B146,A146,DIGITADOR!$M$1,AH146),\"\")","v":""},"",null,null,null,null,null,null,null,null,null,null,null,null,null,null,null,null,null,null,"","",{"$f":"IF(BE146=\"\",\"\",INDEX(referentes!$D$2:$E$37,MATCH(BE146,referentes!$D$2:$D$37,0),2))","v":""},null,{"$f":"IF(BI146=\"\",\"\",INDEX(referentes!$J$2:$L$363,MATCH(BI146,referentes!$J$2:$J$363,0),2))","v":""},"",142]
["30000104",{"$f":"DIGITADOR!$B$2","v":""},1,{"$f":"IF(E147<>\"\",CONCATENATE($A$2,DIGITADOR!$M$1,O147,AH147),\"\")","v":""},null,null,"00:00:00",1,1,null,{"$f":"IF(J147<>\"\",VLOOKUP(J147,#REF!,1,FALSE),\"\")","v":""},null,"",{"$f":"IF(M147=\"\",\"\",INDEX('Otras referencias'!$L$2:$N$200,MATCH(M147,'Otras referencias'!$L$2:$L$200,0),3))","v":""},{"$f":"IF(M147=\"\",\"\",INDEX(referentes!$S$2:$S$170,MATCH(N147,referentes!$W$2:$W$170,0),1))","v":""},null,null,null,null,null,null,null,null,null,{"$f":"IF(X147=\"\",\"\",INDEX(referentes!$Y$2:$Z$37,MATCH(X147,referentes!$Z$2:$Z$37,0),1))","v":""},"01",null,null,null,"",null,"",null,null,"",null,1,{"$f":"IF(E147<>\"\",CONCATENATE(B147,A147,DIGITADOR!$M$1,AH147),\"\")","v":""},"",null,null,null,null,null,null,null,null,null,null,null,null,null,null,null,null,null,null,"","",{"$f":"IF(BE147=\"\",\"\",INDEX(referentes!$D$2:$E$37,MATCH(BE147,referentes!$D$2:$D$37,0),2))","v":""},null,{"$f":"IF(BI147=\"\",\"\",INDEX(referentes!$J$2:$L$363,MATCH(BI147,referentes!$J$2:$J$363,0),2))","v":""},"",143]
["30000104",{"$f":"DIGITADOR!$B$2","v":""},1,{"$f":"IF(E148<>\"\",CONCATENATE($A$2,DIGITADOR!$M$1,O148,AH148),\"\")","v":""},null,null,"00:00:00",1,1,null,{"$f":"IF(J148<>\"\",VLOOKUP(J148,#REF!,1,FALSE),\"\")","v":""},null,"",{"$f":"IF(M148=\"\",\"\",INDEX('Otras referencias'!$L$2:$N$200,MATCH(M148,'Otras referencias'!$L$2:$L$200,0),3))","v":""},{"$f":"IF(M148=\"\",\"\",INDEX(referentes!$S$2:$S$170,MATCH(N148,referentes!$W$2:$W$170,0),1))","v":""},null,null,null,null,null,null,null,null,null,{"$f":"IF(X148=\"\",\"\",INDEX(referentes!$Y$2:$Z$37,MATCH(X148,referentes!$Z$2:$Z$37,0),1))","v":""},"01",null,null,null,"",null,"",null,null,"",null,1,{"$f":"IF(E148<>\"\",CONCATENATE(B148,A148,DIGITADOR!$M$1,AH148),\"\")","v":""},"",null,null,null,null,null,null,null,null,null,null,null,null,null,null,null,null,null,null,"","",{"$f":"IF(BE148=\"\",\"\",INDEX(referentes!$D$2:$E$37,MATCH(BE148,referentes!$D$2:$D$37,0),2))","v":""},null,{"$f":"IF(BI148=\"\",\"\",INDEX(referentes!$J$2:$L$363,MATCH(BI148,referentes!$J$2:$J$363,0),2))","v":""},"",144]
["30000104",{"$f":"DIGITADOR!$B$2","v":""},1,{"$f":"IF(E149<>\"\",CONCATENATE($A$2,DIGITADOR!$M$1,O149,AH149),\"\")","v":""},null,null,"00:00:00",1,1,null,{"$f":"IF(J149<>\"\",VLOOKUP(J149,#REF!,1,FALSE),\"\")","v":""},null,"",{"$f":"IF(M149=\"\",\"\",INDEX('Otras referencias'!$L$2:$N$200,MATCH(M149,'Otras referencias'!$L$2:$L$200,0),3))","v":""},{"$f":"IF(M149=\"\",\"\",INDEX(referentes!$S$2:$S$170,MATCH(N149,referentes!$W$2:$W$170,0),1))","v":""},null,null,null,null,null,null,null,null,null,{"$f":"IF(X149=\"\",\"\",INDEX(referentes!$Y$2:$Z$37,MATCH(X149,referentes!$Z$2:$Z$37,0),1))","v":""},"01",null,null,null,"",null,"",null,null,"",null,1,{"$f":"IF(E149<>\"\",CONCATENATE(B149,A149,DIGITADOR!$M$1,AH149),\"\")","v":""},"",null,null,null,null,null,null,null,null,null,null,null,null,null,null,null,null,null,null,"","",{"$f":"IF(BE149=\"\",\"\",INDEX(referentes!$D$2:$E$37,MATCH(BE149,referentes!$D$2:$D$37,0),2))","v":""},null,{"$f":"IF(BI149=\"\",\"\",INDEX(referentes!$J$2:$L$363,MATCH(BI149,referentes!$J$2:$J$363,0),2))","v":""},"",145]
["30000104",{"$f":"DIGITADOR!$B$2","v":""},1,{"$f":"IF(E150<>\"\",CONCATENATE($A$2,DIGITADOR!$M$1,O150,AH150),\"\")","v":""},null,null,"00:00:00",1,1,null,{"$f":"IF(J150<>\"\",VLOOKUP(J150,#REF!,1,FALSE),\"\")","v":""},null,"",{"$f":"IF(M150=\"\",\"\",INDEX('Otras referencias'!$L$2:$N$200,MATCH(M150,'Otras referencias'!$L$2:$L$200,0),3))","v":""},{"$f":"IF(M150=\"\",\"\",INDEX(referentes!$S$2:$S$170,MATCH(N150,referentes!$W$2:$W$170,0),1))","v":""},null,null,null,null,null,null,null,null,null,{"$f":"IF(X150=\"\",\"\",INDEX(referentes!$Y$2:$Z$37,MATCH(X150,referentes!$Z$2:$Z$37,0),1))","v":""},"01",null,null,null,"",null,"",null,null,"",null,1,{"$f":"IF(E150<>\"\",CONCATENATE(B150,A150,DIGITADOR!$M$1,AH150),\"\")","v":""},"",null,null,null,null,null,null,null,null,null,null,null,null,null,null,null,null,null,null,"","",{"$f":"IF(BE150=\"\",\"\",INDEX(referentes!$D$2:$E$37,MATCH(BE150,referentes!$D$2:$D$37,0),2))","v":""},null,{"$f":"IF(BI150=\"\",\"\",INDEX(referentes!$J$2:$L$363,MATCH(BI150,referentes!$J$2:$J$363,0),2))","v":""},"",146]
["30000104",{"$f":"DIGITADOR!$B$2","v":""},1,{"$f":"IF(E151<>\"\",CONCATENATE($A$2,DIGITADOR!$M$1,O151,AH151),\"\")","v":""},null,null,"00:00:00",1,1,null,{"$f":"IF(J151<>\"\",VLOOKUP(J151,#REF!,1,FALSE),\"\")","v":""},null,"",{"$f":"IF(M151=\"\",\"\",INDEX('Otras referencias'!$L$2:$N$200,MATCH(M151,'Otras referencias'!$L$2:$L$200,0),3))","v":""},{"$f":"IF(M151=\"\",\"\",INDEX(referentes!$S$2:$S$170,MATCH(N151,referentes!$W$2:$W$170,0),1))","v":""},null,null,null,null,null,null,null,null,null,{"$f":"IF(X151=\"\",\"\",INDEX(referentes!$Y$2:$Z$37,MATCH(X151,referentes!$Z$2:$Z$37,0),1))","v":""},"01",null,null,null,"",null,"",null,null,"",null,1,{"$f":"IF(E151<>\"\",CONCATENATE(B151,A151,DIGITADOR!$M$1,AH151),\"\")","v":""},"",null,null,null,null,null,null,null,null,null,null,null,null,null,null,null,null,null,null,"","",{"$f":"IF(BE151=\"\",\"\",INDEX(referentes!$D$2:$E$37,MATCH(BE151,referentes!$D$2:$D$37,0),2))","v":""},null,{"$f":"IF(BI151=\"\",\"\",INDEX(referentes!$J$2:$L$363,MATCH(BI151,referentes!$J$2:$J$363,0),2))","v":""},"",147]
["30000104",{"$f":"DIGITADOR!$B$2","v":""},1,{"$f":"IF(E152<>\"\",CONCATENATE($A$2,DIGITADOR!$M$1,O152,AH152),\"\")","v":""},null,null,"00:00:00",1,1,null,{"$f":"IF(J152<>\"\",VLOOKUP(J152,#REF!,1,FALSE),\"\")","v":""},null,"",{"$f":"IF(M152=\"\",\"\",INDEX('Otras referencias'!$L$2:$N$200,MATCH(M152,'Otras referencias'!$L$2:$L$200,0),3))","v":""},{"$f":"IF(M152=\"\",\"\",INDEX(referentes!$S$2:$S$170,MATCH(N152,referentes!$W$2:$W$170,0),1))","v":""},null,null,null,null,null,null,null,null,null,{"$f":"IF(X152=\"\",\"\",INDEX(referentes!$Y$2:$Z$37,MATCH(X152,referentes!$Z$2:$Z$37,0),1))","v":""},"01",null,null,null,"",null,"",null,null,"",null,1,{"$f":"IF(E152<>\"\",CONCATENATE(B152,A152,DIGITADOR!$M$1,AH152),\"\")","v":""},"",null,null,null,null,null,null,null,null,null,null,null,null,null,null,null,null,null,null,"","",{"$f":"IF(BE152=\"\",\"\",INDEX(referentes!$D$2:$E$37,MATCH(BE152,referentes!$D$2:$D$37,0),2))","v":""},null,{"$f":"IF(BI152=\"\",\"\",INDEX(referentes!$J$2:$L$363,MATCH(BI152,referentes!$J$2:$J$363,0),2))","v":""},"",148]
["30000104",{"$f":"DIGITADOR!$B$2","v":""},1,{"$f":"IF(E153<>\"\",CONCATENATE($A$2,DIGITADOR!$M$1,O153,AH153),\"\")","v":""},null,null,"00:00:00",1,1,null,{"$f":"IF(J153<>\"\",VLOOKUP(J153,#REF!,1,FALSE),\"\")","v":""},null,"",{"$f":"IF(M153=\"\",\"\",INDEX('Otras referencias'!$L$2:$N$200,MATCH(M153,'Otras referencias'!$L$2:$L$200,0),3))","v":""},{"$f":"IF(M153=\"\",\"\",INDEX(referentes!$S$2:$S$170,MATCH(N153,referentes!$W$2:$W$170,0),1))","v":""},null,null,null,null,null,null,null,null,null,{"$f":"IF(X153=\"\",\"\",INDEX(referentes!$Y$2:$Z$37,MATCH(X153,referentes!$Z$2:$Z$37,0),1))","v":""},"01",null,null,null,"",null,"",null,null,"",null,1,{"$f":"IF(E153<>\"\",CONCATENATE(B153,A153,DIGITADOR!$M$1,AH153),\"\")","v":""},"",null,null,null,null,null,null,null,null,null,null,null,null,null,null,null,null,null,null,"","",{"$f":"IF(BE153=\"\",\"\",INDEX(referentes!$D$2:$E$37,MATCH(BE153,referentes!$D$2:$D$37,0),2))","v":""},null,{"$f":"IF(BI153=\"\",\"\",INDEX(referentes!$J$2:$L$363,MATCH(BI153,referentes!$J$2:$J$363,0),2))","v":""},"",149]
["30000104",{"$f":"DIGITADOR!$B$2","v":""},1,{"$f":"IF(E154<>\"\",CONCATENATE($A$2,DIGITADOR!$M$1,O154,AH154),\"\")","v":""},null,null,"00:00:00",1,1,null,{"$f":"IF(J154<>\"\",VLOOKUP(J154,#REF!,1,FALSE),\"\")","v":""},null,"",{"$f":"IF(M154=\"\",\"\",INDEX('Otras referencias'!$L$2:$N$200,MATCH(M154,'Otras referencias'!$L$2:$L$200,0),3))","v":""},{"$f":"IF(M154=\"\",\"\",INDEX(referentes!$S$2:$S$170,MATCH(N154,referentes!$W$2:$W$170,0),1))","v":""},null,null,null,null,null,null,null,null,null,{"$f":"IF(X154=\"\",\"\",INDEX(referentes!$Y$2:$Z$37,MATCH(X154,referentes!$Z$2:$Z$37,0),1))","v":""},"01",null,null,null,"",null,"",null,null,"",null,1,{"$f":"IF(E154<>\"\",CONCATENATE(B154,A154,DIGITADOR!$M$1,AH154),\"\")","v":""},"",null,null,null,null,null,null,null,null,null,null,null,null,null,null,null,null,null,null,"","",{"$f":"IF(BE154=\"\",\"\",INDEX(referentes!$D$2:$E$37,MATCH(BE154,referentes!$D$2:$D$37,0),2))","v":""},null,{"$f":"IF(BI154=\"\",\"\",INDEX(referentes!$J$2:$L$363,MATCH(BI154,referentes!$J$2:$J$363,0),2))","v":""},"",150]
["30000104",{"$f":"DIGITADOR!$B$2","v":""},1,{"$f":"IF(E155<>\"\",CONCATENATE($A$2,DIGITADOR!$M$1,O155,AH155),\"\")","v":""},null,null,"00:00:00",1,1,null,{"$f":"IF(J155<>\"\",VLOOKUP(J155,#REF!,1,FALSE),\"\")","v":""},null,"",{"$f":"IF(M155=\"\",\"\",INDEX('Otras referencias'!$L$2:$N$200,MATCH(M155,'Otras referencias'!$L$2:$L$200,0),3))","v":""},{"$f":"IF(M155=\"\",\"\",INDEX(referentes!$S$2:$S$170,MATCH(N155,referentes!$W$2:$W$170,0),1))","v":""},null,null,null,null,null,null,null,null,null,{"$f":"IF(X155=\"\",\"\",INDEX(referentes!$Y$2:$Z$37,MATCH(X155,referentes!$Z$2:$Z$37,0),1))","v":""},"01",null,null,null,"",null,"",null,null,"",null,1,{"$f":"IF(E155<>\"\",CONCATENATE(B155,A155,DIGITADOR!$M$1,AH155),\"\")","v":""},"",null,null,null,null,null,null,null,null,null,null,null,null,null,null,null,null,null,null,"","",{"$f":"IF(BE155=\"\",\"\",INDEX(referentes!$D$2:$E$37,MATCH(BE155,referentes!$D$2:$D$37,0),2))","v":""},null,{"$f":"IF(BI155=\"\",\"\",INDEX(referentes!$J$2:$L$363,MATCH(BI155,referentes!$J$2:$J$363,0),2))","v":""},"",151]
["30000104",{"$f":"DIGITADOR!$B$2","v":""},1,{"$f":"IF(E156<>\"\",CONCATENATE($A$2,DIGITADOR!$M$1,O156,AH156),\"\")","v":""},null,null,"00:00:00",1,1,null,{"$f":"IF(J156<>\"\",VLOOKUP(J156,#REF!,1,FALSE),\"\")","v":""},null,"",{"$f":"IF(M156=\"\",\"\",INDEX('Otras referencias'!$L$2:$N$200,MATCH(M156,'Otras referencias'!$L$2:$L$200,0),3))","v":""},{"$f":"IF(M156=\"\",\"\",INDEX(referentes!$S$2:$S$170,MATCH(N156,referentes!$W$2:$W$170,0),1))","v":""},null,null,null,null,null,null,null,null,null,{"$f":"IF(X156=\"\",\"\",INDEX(referentes!$Y$2:$Z$37,MATCH(X156,referentes!$Z$2:$Z$37,0),1))","v":""},"01",null,null,null,"",null,"",null,null,"",null,1,{"$f":"IF(E156<>\"\",CONCATENATE(B156,A156,DIGITADOR!$M$1,AH156),\"\")","v":""},"",null,null,null,null,null,null,null,null,null,null,null,null,null,null,null,null,null,null,"","",{"$f":"IF(BE156=\"\",\"\",INDEX(referentes!$D$2:$E$37,MATCH(BE156,referentes!$D$2:$D$37,0),2))","v":""},null,{"$f":"IF(BI156=\"\",\"\",INDEX(referentes!$J$2:$L$363,MATCH(BI156,referentes!$J$2:$J$363,0),2))","v":""},"",152]
["30000104",{"$f":"DIGITADOR!$B$2","v":""},1,{"$f":"IF(E157<>\"\",CONCATENATE($A$2,DIGITADOR!$M$1,O157,AH157),\"\")","v":""},null,null,"00:00:00",1,1,null,{"$f":"IF(J157<>\"\",VLOOKUP(J157,#REF!,1,FALSE),\"\")","v":""},null,"",{"$f":"IF(M157=\"\",\"\",INDEX('Otras referencias'!$L$2:$N$200,MATCH(M157,'Otras referencias'!$L$2:$L$200,0),3))","v":""},{"$f":"IF(M157=\"\",\"\",INDEX(referentes!$S$2:$S$170,MATCH(N157,referentes!$W$2:$W$170,0),1))","v":""},null,null,null,null,null,null,null,null,null,{"$f":"IF(X157=\"\",\"\",INDEX(referentes!$Y$2:$Z$37,MATCH(X157,referentes!$Z$2:$Z$37,0),1))","v":""},"01",null,null,null,"",null,"",null,null,"",null,1,{"$f":"IF(E157<>\"\",CONCATENATE(B157,A157,DIGITADOR!$M$1,AH157),\"\")","v":""},"",null,null,null,null,null,null,null,null,null,null,null,null,null,null,null,null,null,null,"","",{"$f":"IF(BE157=\"\",\"\",INDEX(referentes!$D$2:$E$37,MATCH(BE157,referentes!$D$2:$D$37,0),2))","v":""},null,{"$f":"IF(BI157=\"\",\"\",INDEX(referentes!$J$2:$L$363,MATCH(BI157,referentes!$J$2:$J$363,0),2))","v":""},"",153]
["30000104",{"$f":"DIGITADOR!$B$2","v":""},1,{"$f":"IF(E158<>\"\",CONCATENATE($A$2,DIGITADOR!$M$1,O158,AH158),\"\")","v":""},null,null,"00:00:00",1,1,null,{"$f":"IF(J158<>\"\",VLOOKUP(J158,#REF!,1,FALSE),\"\")","v":""},null,"",{"$f":"IF(M158=\"\",\"\",INDEX('Otras referencias'!$L$2:$N$200,MATCH(M158,'Otras referencias'!$L$2:$L$200,0),3))","v":""},{"$f":"IF(M158=\"\",\"\",INDEX(referentes!$S$2:$S$170,MATCH(N158,referentes!$W$2:$W$170,0),1))","v":""},null,null,null,null,null,null,null,null,null,{"$f":"IF(X158=\"\",\"\",INDEX(referentes!$Y$2:$Z$37,MATCH(X158,referentes!$Z$2:$Z$37,0),1))","v":""},"01",null,null,null,"",null,"",null,null,"",null,1,{"$f":"IF(E158<>\"\",CONCATENATE(B158,A158,DIGITADOR!$M$1,AH158),\"\")","v":""},"",null,null,null,null,null,null,null,null,null,null,null,null,null,null,null,null,null,null,"","",{"$f":"IF(BE158=\"\",\"\",INDEX(referentes!$D$2:$E$37,MATCH(BE158,referentes!$D$2:$D$37,0),2))","v":""},null,{"$f":"IF(BI158=\"\",\"\",INDEX(referentes!$J$2:$L$363,MATCH(BI158,referentes!$J$2:$J$363,0),2))","v":""},"",154]
["30000104",{"$f":"DIGITADOR!$B$2","v":""},1,{"$f":"IF(E159<>\"\",CONCATENATE($A$2,DIGITADOR!$M$1,O159,AH159),\"\")","v":""},null,null,"00:00:00",1,1,null,{"$f":"IF(J159<>\"\",VLOOKUP(J159,#REF!,1,FALSE),\"\")","v":""},null,"",{"$f":"IF(M159=\"\",\"\",INDEX('Otras referencias'!$L$2:$N$200,MATCH(M159,'Otras referencias'!$L$2:$L$200,0),3))","v":""},{"$f":"IF(M159=\"\",\"\",INDEX(referentes!$S$2:$S$170,MATCH(N159,referentes!$W$2:$W$170,0),1))","v":""},null,null,null,null,null,null,null,null,null,{"$f":"IF(X159=\"\",\"\",INDEX(referentes!$Y$2:$Z$37,MATCH(X159,referentes!$Z$2:$Z$37,0),1))","v":""},"01",null,null,null,"",null,"",null,null,"",null,1,{"$f":"IF(E159<>\"\",CONCATENATE(B159,A159,DIGITADOR!$M$1,AH159),\"\")","v":""},"",null,null,null,null,null,null,null,null,null,null,null,null,null,null,null,null,null,null,"","",{"$f":"IF(BE159=\"\",\"\",INDEX(referentes!$D$2:$E$37,MATCH(BE159,referentes!$D$2:$D$37,0),2))","v":""},null,{"$f":"IF(BI159=\"\",\"\",INDEX(referentes!$J$2:$L$363,MATCH(BI159,referentes!$J$2:$J$363,0),2))","v":""},"",155]
["30000104",{"$f":"DIGITADOR!$B$2","v":""},1,{"$f":"IF(E160<>\"\",CONCATENATE($A$2,DIGITADOR!$M$1,O160,AH160),\"\")","v":""},null,null,"00:00:00",1,1,null,{"$f":"IF(J160<>\"\",VLOOKUP(J160,#REF!,1,FALSE),\"\")","v":""},null,"",{"$f":"IF(M160=\"\",\"\",INDEX('Otras referencias'!$L$2:$N$200,MATCH(M160,'Otras referencias'!$L$2:$L$200,0),3))","v":""},{"$f":"IF(M160=\"\",\"\",INDEX(referentes!$S$2:$S$170,MATCH(N160,referentes!$W$2:$W$170,0),1))","v":""},null,null,null,null,null,null,null,null,null,{"$f":"IF(X160=\"\",\"\",INDEX(referentes!$Y$2:$Z$37,MATCH(X160,referentes!$Z$2:$Z$37,0),1))","v":""},"01",null,null,null,"",null,"",null,null,"",null,1,{"$f":"IF(E160<>\"\",CONCATENATE(B160,A160,DIGITADOR!$M$1,AH160),\"\")","v":""},"",null,null,null,null,null,null,null,null,null,null,null,null,null,null,null,null,null,null,"","",{"$f":"IF(BE160=\"\",\"\",INDEX(referentes!$D$2:$E$37,MATCH(BE160,referentes!$D$2:$D$37,0),2))","v":""},null,{"$f":"IF(BI160=\"\",\"\",INDEX(referentes!$J$2:$L$363,MATCH(BI160,referentes!$J$2:$J$363,0),2))","v":""},"",156]
["30000104",{"$f":"DIGITADOR!$B$2","v":""},1,{"$f":"IF(E161<>\"\",CONCATENATE($A$2,DIGITADOR!$M$1,O161,AH161),\"\")","v":""},null,null,"00:00:00",1,1,null,{"$f":"IF(J161<>\"\",VLOOKUP(J161,#REF!,1,FALSE),\"\")","v":""},null,"",{"$f":"IF(M161=\"\",\"\",INDEX('Otras referencias'!$L$2:$N$200,MATCH(M161,'Otras referencias'!$L$2:$L$200,0),3))","v":""},{"$f":"IF(M161=\"\",\"\",INDEX(referentes!$S$2:$S$170,MATCH(N161,referentes!$W$2:$W$170,0),1))","v":""},null,null,null,null,null,null,null,null,null,{"$f":"IF(X161=\"\",\"\",INDEX(referentes!$Y$2:$Z$37,MATCH(X161,referentes!$Z$2:$Z$37,0),1))","v":""},"01",null,null,null,"",null,"",null,null,"",null,1,{"$f":"IF(E161<>\"\",CONCATENATE(B161,A161,DIGITADOR!$M$1,AH161),\"\")","v":""},"",null,null,null,null,null,null,null,null,null,null,null,null,null,null,null,null,null,null,"","",{"$f":"IF(BE161=\"\",\"\",INDEX(referentes!$D$2:$E$37,MATCH(BE161,referentes!$D$2:$D$37,0),2))","v":""},null,{"$f":"IF(BI161=\"\",\"\",INDEX(referentes!$J$2:$L$363,MATCH(BI161,referentes!$J$2:$J$363,0),2))","v":""},"",157]
["30000104",{"$f":"DIGITADOR!$B$2","v":""},1,{"$f":"IF(E162<>\"\",CONCATENATE($A$2,DIGITADOR!$M$1,O162,AH162),\"\")","v":""},null,null,"00:00:00",1,1,null,{"$f":"IF(J162<>\"\",VLOOKUP(J162,#REF!,1,FALSE),\"\")","v":""},null,"",{"$f":"IF(M162=\"\",\"\",INDEX('Otras referencias'!$L$2:$N$200,MATCH(M162,'Otras referencias'!$L$2:$L$200,0),3))","v":""},{"$f":"IF(M162=\"\",\"\",INDEX(referentes!$S$2:$S$170,MATCH(N162,referentes!$W$2:$W$170,0),1))","v":""},null,null,null,null,null,null,null,null,null,{"$f":"IF(X162=\"\",\"\",INDEX(referentes!$Y$2:$Z$37,MATCH(X162,referentes!$Z$2:$Z$37,0),1))","v":""},"01",null,null,null,"",null,"",null,null,"",null,1,{"$f":"IF(E162<>\"\",CONCATENATE(B162,A162,DIGITADOR!$M$1,AH162),\"\")","v":""},"",null,null,null,null,null,null,null,null,null,null,null,null,null,null,null,null,null,null,"","",{"$f":"IF(BE162=\"\",\"\",INDEX(referentes!$D$2:$E$37,MATCH(BE162,referentes!$D$2:$D$37,0),2))","v":""},null,{"$f":"IF(BI162=\"\",\"\",INDEX(referentes!$J$2:$L$363,MATCH(BI162,referentes!$J$2:$J$363,0),2))","v":""},"",158]
["30000104",{"$f":"DIGITADOR!$B$2","v":""},1,{"$f":"IF(E163<>\"\",CONCATENATE($A$2,DIGITADOR!$M$1,O163,AH163),\"\")","v":""},null,null,"00:00:00",1,1,null,{"$f":"IF(J163<>\"\",VLOOKUP(J163,#REF!,1,FALSE),\"\")","v":""},null,"",{"$f":"IF(M163=\"\",\"\",INDEX('Otras referencias'!$L$2:$N$200,MATCH(M163,'Otras referencias'!$L$2:$L$200,0),3))","v":""},{"$f":"IF(M163=\"\",\"\",INDEX(referentes!$S$2:$S$170,MATCH(N163,referentes!$W$2:$W$170,0),1))","v":""},null,null,null,null,null,null,null,null,null,{"$f":"IF(X163=\"\",\"\",INDEX(referentes!$Y$2:$Z$37,MATCH(X163,referentes!$Z$2:$Z$37,0),1))","v":""},"01",null,null,null,"",null,"",null,null,"",null,1,{"$f":"IF(E163<>\"\",CONCATENATE(B163,A163,DIGITADOR!$M$1,AH163),\"\")","v":""},"",null,null,null,null,null,null,null,null,null,null,null,null,null,null,null,null,null,null,"","",{"$f":"IF(BE163=\"\",\"\",INDEX(referentes!$D$2:$E$37,MATCH(BE163,referentes!$D$2:$D$37,0),2))","v":""},null,{"$f":"IF(BI163=\"\",\"\",INDEX(referentes!$J$2:$L$363,MATCH(BI163,referentes!$J$2:$J$363,0),2))","v":""},"",159]
["30000104",{"$f":"DIGITADOR!$B$2","v":""},1,{"$f":"IF(E164<>\"\",CONCATENATE($A$2,DIGITADOR!$M$1,O164,AH164),\"\")","v":""},null,null,"00:00:00",1,1,null,{"$f":"IF(J164<>\"\",VLOOKUP(J164,#REF!,1,FALSE),\"\")","v":""},null,"",{"$f":"IF(M164=\"\",\"\",INDEX('Otras referencias'!$L$2:$N$200,MATCH(M164,'Otras referencias'!$L$2:$L$200,0),3))","v":""},{"$f":"IF(M164=\"\",\"\",INDEX(referentes!$S$2:$S$170,MATCH(N164,referentes!$W$2:$W$170,0),1))","v":""},null,null,null,null,null,null,null,null,null,{"$f":"IF(X164=\"\",\"\",INDEX(referentes!$Y$2:$Z$37,MATCH(X164,referentes!$Z$2:$Z$37,0),1))","v":""},"01",null,null,null,"",null,"",null,null,"",null,1,{"$f":"IF(E164<>\"\",CONCATENATE(B164,A164,DIGITADOR!$M$1,AH164),\"\")","v":""},"",null,null,null,null,null,null,null,null,null,null,null,null,null,null,null,null,null,null,"","",{"$f":"IF(BE164=\"\",\"\",INDEX(referentes!$D$2:$E$37,MATCH(BE164,referentes!$D$2:$D$37,0),2))","v":""},null,{"$f":"IF(BI164=\"\",\"\",INDEX(referentes!$J$2:$L$363,MATCH(BI164,referentes!$J$2:$J$363,0),2))","v":""},"",160]
["30000104",{"$f":"DIGITADOR!$B$2","v":""},1,{"$f":"IF(E165<>\"\",CONCATENATE($A$2,DIGITADOR!$M$1,O165,AH165),\"\")","v":""},null,null,"00:00:00",1,1,null,{"$f":"IF(J165<>\"\",VLOOKUP(J165,#REF!,1,FALSE),\"\")","v":""},null,"",{"$f":"IF(M165=\"\",\"\",INDEX('Otras referencias'!$L$2:$N$200,MATCH(M165,'Otras referencias'!$L$2:$L$200,0),3))","v":""},{"$f":"IF(M165=\"\",\"\",INDEX(referentes!$S$2:$S$170,MATCH(N165,referentes!$W$2:$W$170,0),1))","v":""},null,null,null,null,null,null,null,null,null,{"$f":"IF(X165=\"\",\"\",INDEX(referentes!$Y$2:$Z$37,MATCH(X165,referentes!$Z$2:$Z$37,0),1))","v":""},"01",null,null,null,"",null,"",null,null,"",null,1,{"$f":"IF(E165<>\"\",CONCATENATE(B165,A165,DIGITADOR!$M$1,AH165),\"\")","v":""},"",null,null,null,null,null,null,null,null,null,null,null,null,null,null,null,null,null,null,"","",{"$f":"IF(BE165=\"\",\"\",INDEX(referentes!$D$2:$E$37,MATCH(BE165,referentes!$D$2:$D$37,0),2))","v":""},null,{"$f":"IF(BI165=\"\",\"\",INDEX(referentes!$J$2:$L$363,MATCH(BI165,referentes!$J$2:$J$363,0),2))","v":""},"",161]
["30000104",{"$f":"DIGITADOR!$B$2","v":""},1,{"$f":"IF(E166<>\"\",CONCATENATE($A$2,DIGITADOR!$M$1,O166,AH166),\"\")","v":""},null,null,"00:00:00",1,1,null,{"$f":"IF(J166<>\"\",VLOOKUP(J166,#REF!,1,FALSE),\"\")","v":""},null,"",{"$f":"IF(M166=\"\",\"\",INDEX('Otras referencias'!$L$2:$N$200,MATCH(M166,'Otras referencias'!$L$2:$L$200,0),3))","v":""},{"$f":"IF(M166=\"\",\"\",INDEX(referentes!$S$2:$S$170,MATCH(N166,referentes!$W$2:$W$170,0),1))","v":""},null,null,null,null,null,null,null,null,null,{"$f":"IF(X166=\"\",\"\",INDEX(referentes!$Y$2:$Z$37,MATCH(X166,referentes!$Z$2:$Z$37,0),1))","v":""},"01",null,null,null,"",null,"",null,null,"",null,1,{"$f":"IF(E166<>\"\",CONCATENATE(B166,A166,DIGITADOR!$M$1,AH166),\"\")","v":""},"",null,null,null,null,null,null,null,null,null,null,null,null,null,null,null,null,null,null,"","",{"$f":"IF(BE166=\"\",\"\",INDEX(referentes!$D$2:$E$37,MATCH(BE166,referentes!$D$2:$D$37,0),2))","v":""},null,{"$f":"IF(BI166=\"\",\"\",INDEX(referentes!$J$2:$L$363,MATCH(BI166,referentes!$J$2:$J$363,0),2))","v":""},"",162]
["30000104",{"$f":"DIGITADOR!$B$2","v":""},1,{"$f":"IF(E167<>\"\",CONCATENATE($A$2,DIGITADOR!$M$1,O167,AH167),\"\")","v":""},null,null,"00:00:00",1,1,null,{"$f":"IF(J167<>\"\",VLOOKUP(J167,#REF!,1,FALSE),\"\")","v":""},null,"",{"$f":"IF(M167=\"\",\"\",INDEX('Otras referencias'!$L$2:$N$200,MATCH(M167,'Otras referencias'!$L$2:$L$200,0),3))","v":""},{"$f":"IF(M167=\"\",\"\",INDEX(referentes!$S$2:$S$170,MATCH(N167,referentes!$W$2:$W$170,0),1))","v":""},null,null,null,null,null,null,null,null,null,{"$f":"IF(X167=\"\",\"\",INDEX(referentes!$Y$2:$Z$37,MATCH(X167,referentes!$Z$2:$Z$37,0),1))","v":""},"01",null,null,null,"",null,"",null,null,"",null,1,{"$f":"IF(E167<>\"\",CONCATENATE(B167,A167,DIGITADOR!$M$1,AH167),\"\")","v":""},"",null,null,null,null,null,null,null,null,null,null,null,null,null,null,null,null,null,null,"","",{"$f":"IF(BE167=\"\",\"\",INDEX(referentes!$D$2:$E$37,MATCH(BE167,referentes!$D$2:$D$37,0),2))","v":""},null,{"$f":"IF(BI167=\"\",\"\",INDEX(referentes!$J$2:$L$363,MATCH(BI167,referentes!$J$2:$J$363,0),2))","v":""},"",163]
["30000104",{"$f":"DIGITADOR!$B$2","v":""},1,{"$f":"IF(E168<>\"\",CONCATENATE($A$2,DIGITADOR!$M$1,O168,AH168),\"\")","v":""},null,null,"00:00:00",1,1,null,{"$f":"IF(J168<>\"\",VLOOKUP(J168,#REF!,1,FALSE),\"\")","v":""},null,"",{"$f":"IF(M168=\"\",\"\",INDEX('Otras referencias'!$L$2:$N$200,MATCH(M168,'Otras referencias'!$L$2:$L$200,0),3))","v":""},{"$f":"IF(M168=\"\",\"\",INDEX(referentes!$S$2:$S$170,MATCH(N168,referentes!$W$2:$W$170,0),1))","v":""},null,null,null,null,null,null,null,null,null,{"$f":"IF(X168=\"\",\"\",INDEX(referentes!$Y$2:$Z$37,MATCH(X168,referentes!$Z$2:$Z$37,0),1))","v":""},"01",null,null,null,"",null,"",null,null,"",null,1,{"$f":"IF(E168<>\"\",CONCATENATE(B168,A168,DIGITADOR!$M$1,AH168),\"\")","v":""},"",null,null,null,null,null,null,null,null,null,null,null,null,null,null,null,null,null,null,"","",{"$f":"IF(BE168=\"\",\"\",INDEX(referentes!$D$2:$E$37,MATCH(BE168,referentes!$D$2:$D$37,0),2))","v":""},null,{"$f":"IF(BI168=\"\",\"\",INDEX(referentes!$J$2:$L$363,MATCH(BI168,referentes!$J$2:$J$363,0),2))","v":""},"",164]
["30000104",{"$f":"DIGITADOR!$B$2","v":""},1,{"$f":"IF(E169<>\"\",CONCATENATE($A$2,DIGITADOR!$M$1,O169,AH169),\"\")","v":""},null,null,{"$f":"E169+F169","v":"00:00:00"},{"$f":"IF(G169<>\"\",MONTH(G169),\"\")","v":1},1,null,{"$f":"IF(J169<>\"\",VLOOKUP(J169,#REF!,1,FALSE),\"\")","v":""},null,{"$f":"IF(L169<>\"\",CONCATENATE(J169,L169),\"\")","v":""},{"$f":"IF(M169=\"\",\"\",INDEX('Otras referencias'!$L$2:$N$200,MATCH(M169,'Otras referencias'!$L$2:$L$200,0),3))","v":""},{"$f":"IF(M169=\"\",\"\",INDEX(referentes!$S$2:$S$170,MATCH(N169,referentes!$W$2:$W$170,0),1))","v":""},null,null,null,null,null,null,null,null,null,{"$f":"IF(X169=\"\",\"\",INDEX(referentes!$Y$2:$Z$37,MATCH(X169,referentes!$Z$2:$Z$37,0),1))","v":""},"01",null,null,null,"",null,"",null,null,"",null,1,{"$f":"IF(E169<>\"\",CONCATENATE(B169,A169,DIGITADOR!$M$1,AH169),\"\")","v":""},"",null,null,null,null,null,null,null,null,null,null,null,null,null,null,null,null,null,null,"","",{"$f":"IF(BE169=\"\",\"\",INDEX(referentes!$D$2:$E$37,MATCH(BE169,referentes!$D$2:$D$37,0),2))","v":""},null,{"$f":"IF(BI169=\"\",\"\",INDEX(referentes!$J$2:$L$363,MATCH(BI169,referentes!$J$2:$J$363,0),2))","v":""},"",165]
["30000104",{"$f":"DIGITADOR!$B$2","v":""},1,{"$f":"IF(E170<>\"\",CONCATENATE($A$2,DIGITADOR!$M$1,O170,AH170),\"\")","v":""},null,null,"00:00:00",1,1,null,{"$f":"IF(J170<>\"\",VLOOKUP(J170,#REF!,1,FALSE),\"\")","v":""},null,"",{"$f":"IF(M170=\"\",\"\",INDEX('Otras referencias'!$L$2:$N$200,MATCH(M170,'Otras referencias'!$L$2:$L$200,0),3))","v":""},{"$f":"IF(M170=\"\",\"\",INDEX(referentes!$S$2:$S$170,MATCH(N170,referentes!$W$2:$W$170,0),1))","v":""},null,null,null,null,null,null,null,null,null,{"$f":"IF(X170=\"\",\"\",INDEX(referentes!$Y$2:$Z$37,MATCH(X170,referentes!$Z$2:$Z$37,0),1))","v":""},"01",null,null,null,"",null,"",null,null,"",null,1,{"$f":"IF(E170<>\"\",CONCATENATE(B170,A170,DIGITADOR!$M$1,AH170),\"\")","v":""},"",null,null,null,null,null,null,null,null,null,null,null,null,null,null,null,null,null,null,"","",{"$f":"IF(BE170=\"\",\"\",INDEX(referentes!$D$2:$E$37,MATCH(BE170,referentes!$D$2:$D$37,0),2))","v":""},null,{"$f":"IF(BI170=\"\",\"\",INDEX(referentes!$J$2:$L$363,MATCH(BI170,referentes!$J$2:$J$363,0),2))","v":""},"",166]
["30000104",{"$f":"DIGITADOR!$B$2","v":""},1,{"$f":"IF(E171<>\"\",CONCATENATE($A$2,DIGITADOR!$M$1,O171,AH171),\"\")","v":""},null,null,"00:00:00",1,1,null,{"$f":"IF(J171<>\"\",VLOOKUP(J171,#REF!,1,FALSE),\"\")","v":""},null,"",{"$f":"IF(M171=\"\",\"\",INDEX('Otras referencias'!$L$2:$N$200,MATCH(M171,'Otras referencias'!$L$2:$L$200,0),3))","v":""},{"$f":"IF(M171=\"\",\"\",INDEX(referentes!$S$2:$S$170,MATCH(N171,referentes!$W$2:$W$170,0),1))","v":""},null,null,null,null,null,null,null,null,null,{"$f":"IF(X171=\"\",\"\",INDEX(referentes!$Y$2:$Z$37,MATCH(X171,referentes!$Z$2:$Z$37,0),1))","v":""},"01",null,null,null,"",null,"",null,null,"",null,1,{"$f":"IF(E171<>\"\",CONCATENATE(B171,A171,DIGITADOR!$M$1,AH171),\"\")","v":""},"",null,null,null,null,null,null,null,null,null,null,null,null,null,null,null,null,null,null,"","",{"$f":"IF(BE171=\"\",\"\",INDEX(referentes!$D$2:$E$37,MATCH(BE171,referentes!$D$2:$D$37,0),2))","v":""},null,{"$f":"IF(BI171=\"\",\"\",INDEX(referentes!$J$2:$L$363,MATCH(BI171,referentes!$J$2:$J$363,0),2))","v":""},"",167]
["30000104",{"$f":"DIGITADOR!$B$2","v":""},1,{"$f":"IF(E172<>\"\",CONCATENATE($A$2,DIGITADOR!$M$1,O172,AH172),\"\")","v":""},null,null,"00:00:00",1,1,null,{"$f":"IF(J172<>\"\",VLOOKUP(J172,#REF!,1,FALSE),\"\")","v":""},null,"",{"$f":"IF(M172=\"\",\"\",INDEX('Otras referencias'!$L$2:$N$200,MATCH(M172,'Otras referencias'!$L$2:$L$200,0),3))","v":""},{"$f":"IF(M172=\"\",\"\",INDEX(referentes!$S$2:$S$170,MATCH(N172,referentes!$W$2:$W$170,0),1))","v":""},null,null,null,null,null,null,null,null,null,{"$f":"IF(X172=\"\",\"\",INDEX(referentes!$Y$2:$Z$37,MATCH(X172,referentes!$Z$2:$Z$37,0),1))","v":""},"01",null,null,null,"",null,"",null,null,"",null,1,{"$f":"IF(E172<>\"\",CONCATENATE(B172,A172,DIGITADOR!$M$1,AH172),\"\")","v":""},"",null,null,null,null,null,null,null,null,null,null,null,null,null,null,null,null,null,null,"","",{"$f":"IF(BE172=\"\",\"\",INDEX(referentes!$D$2:$E$37,MATCH(BE172,referentes!$D$2:$D$37,0),2))","v":""},null,{"$f":"IF(BI172=\"\",\"\",INDEX(referentes!$J$2:$L$363,MATCH(BI172,referentes!$J$2:$J$363,0),2))","v":""},"",168]
["30000104",{"$f":"DIGITADOR!$B$2","v":""},1,{"$f":"IF(E173<>\"\",CONCATENATE($A$2,DIGITADOR!$M$1,O173,AH173),\"\")","v":""},null,null,"00:00:00",1,1,null,{"$f":"IF(J173<>\"\",VLOOKUP(J173,#REF!,1,FALSE),\"\")","v":""},null,"",{"$f":"IF(M173=\"\",\"\",INDEX('Otras referencias'!$L$2:$N$200,MATCH(M173,'Otras referencias'!$L$2:$L$200,0),3))","v":""},{"$f":"IF(M173=\"\",\"\",INDEX(referentes!$S$2:$S$170,MATCH(N173,referentes!$W$2:$W$170,0),1))","v":""},null,null,null,null,null,null,null,null,null,{"$f":"IF(X173=\"\",\"\",INDEX(referentes!$Y$2:$Z$37,MATCH(X173,referentes!$Z$2:$Z$37,0),1))","v":""},"01",null,null,null,"",null,"",null,null,"",null,1,{"$f":"IF(E173<>\"\",CONCATENATE(B173,A173,DIGITADOR!$M$1,AH173),\"\")","v":""},"",null,null,null,null,null,null,null,null,null,null,null,null,null,null,null,null,null,null,"","",{"$f":"IF(BE173=\"\",\"\",INDEX(referentes!$D$2:$E$37,MATCH(BE173,referentes!$D$2:$D$37,0),2))","v":""},null,{"$f":"IF(BI173=\"\",\"\",INDEX(referentes!$J$2:$L$363,MATCH(BI173,referentes!$J$2:$J$363,0),2))","v":""},"",169]
["30000104",{"$f":"DIGITADOR!$B$2","v":""},1,{"$f":"IF(E174<>\"\",CONCATENATE($A$2,DIGITADOR!$M$1,O174,AH174),\"\")","v":""},null,null,"00:00:00",1,1,null,{"$f":"IF(J174<>\"\",VLOOKUP(J174,#REF!,1,FALSE),\"\")","v":""},null,"",{"$f":"IF(M174=\"\",\"\",INDEX('Otras referencias'!$L$2:$N$200,MATCH(M174,'Otras referencias'!$L$2:$L$200,0),3))","v":""},{"$f":"IF(M174=\"\",\"\",INDEX(referentes!$S$2:$S$170,MATCH(N174,referentes!$W$2:$W$170,0),1))","v":""},null,null,null,null,null,null,null,null,null,{"$f":"IF(X174=\"\",\"\",INDEX(referentes!$Y$2:$Z$37,MATCH(X174,referentes!$Z$2:$Z$37,0),1))","v":""},"01",null,null,null,"",null,"",null,null,"",null,1,{"$f":"IF(E174<>\"\",CONCATENATE(B174,A174,DIGITADOR!$M$1,AH174),\"\")","v":""},"",null,null,null,null,null,null,null,null,null,null,null,null,null,null,null,null,null,null,"","",{"$f":"IF(BE174=\"\",\"\",INDEX(referentes!$D$2:$E$37,MATCH(BE174,referentes!$D$2:$D$37,0),2))","v":""},null,{"$f":"IF(BI174=\"\",\"\",INDEX(referentes!$J$2:$L$363,MATCH(BI174,referentes!$J$2:$J$363,0),2))","v":""},"",170]
["30000104",{"$f":"DIGITADOR!$B$2","v":""},1,{"$f":"IF(E175<>\"\",CONCATENATE($A$2,DIGITADOR!$M$1,O175,AH175),\"\")","v":""},null,null,"00:00:00",1,1,null,{"$f":"IF(J175<>\"\",VLOOKUP(J175,#REF!,1,FALSE),\"\")","v":""},null,"",{"$f":"IF(M175=\"\",\"\",INDEX('Otras referencias'!$L$2:$N$200,MATCH(M175,'Otras referencias'!$L$2:$L$200,0),3))","v":""},{"$f":"IF(M175=\"\",\"\",INDEX(referentes!$S$2:$S$170,MATCH(N175,referentes!$W$2:$W$170,0),1))","v":""},null,null,null,null,null,null,null,null,null,{"$f":"IF(X175=\"\",\"\",INDEX(referentes!$Y$2:$Z$37,MATCH(X175,referentes!$Z$2:$Z$37,0),1))","v":""},"01",null,null,null,"",null,"",null,null,"",null,1,{"$f":"IF(E175<>\"\",CONCATENATE(B175,A175,DIGITADOR!$M$1,AH175),\"\")","v":""},"",null,null,null,null,null,null,null,null,null,null,null,null,null,null,null,null,null,null,"","",{"$f":"IF(BE175=\"\",\"\",INDEX(referentes!$D$2:$E$37,MATCH(BE175,referentes!$D$2:$D$37,0),2))","v":""},null,{"$f":"IF(BI175=\"\",\"\",INDEX(referentes!$J$2:$L$363,MATCH(BI175,referentes!$J$2:$J$363,0),2))","v":""},"",171]
["30000104",{"$f":"DIGITADOR!$B$2","v":""},1,{"$f":"IF(E176<>\"\",CONCATENATE($A$2,DIGITADOR!$M$1,O176,AH176),\"\")","v":""},null,null,"00:00:00",1,1,null,{"$f":"IF(J176<>\"\",VLOOKUP(J176,#REF!,1,FALSE),\"\")","v":""},null,"",{"$f":"IF(M176=\"\",\"\",INDEX('Otras referencias'!$L$2:$N$200,MATCH(M176,'Otras referencias'!$L$2:$L$200,0),3))","v":""},{"$f":"IF(M176=\"\",\"\",INDEX(referentes!$S$2:$S$170,MATCH(N176,referentes!$W$2:$W$170,0),1))","v":""},null,null,null,null,null,null,null,null,null,{"$f":"IF(X176=\"\",\"\",INDEX(referentes!$Y$2:$Z$37,MATCH(X176,referentes!$Z$2:$Z$37,0),1))","v":""},"01",null,null,null,"",null,"",null,null,"",null,1,{"$f":"IF(E176<>\"\",CONCATENATE(B176,A176,DIGITADOR!$M$1,AH176),\"\")","v":""},"",null,null,null,null,null,null,null,null,null,null,null,null,null,null,null,null,null,null,"","",{"$f":"IF(BE176=\"\",\"\",INDEX(referentes!$D$2:$E$37,MATCH(BE176,referentes!$D$2:$D$37,0),2))","v":""},null,{"$f":"IF(BI176=\"\",\"\",INDEX(referentes!$J$2:$L$363,MATCH(BI176,referentes!$J$2:$J$363,0),2))","v":""},"",172]
["30000104",{"$f":"DIGITADOR!$B$2","v":""},1,{"$f":"IF(E177<>\"\",CONCATENATE($A$2,DIGITADOR!$M$1,O177,AH177),\"\")","v":""},null,null,"00:00:00",1,1,null,{"$f":"IF(J177<>\"\",VLOOKUP(J177,#REF!,1,FALSE),\"\")","v":""},null,"",{"$f":"IF(M177=\"\",\"\",INDEX('Otras referencias'!$L$2:$N$200,MATCH(M177,'Otras referencias'!$L$2:$L$200,0),3))","v":""},{"$f":"IF(M177=\"\",\"\",INDEX(referentes!$S$2:$S$170,MATCH(N177,referentes!$W$2:$W$170,0),1))","v":""},null,null,null,null,null,null,null,null,null,{"$f":"IF(X177=\"\",\"\",INDEX(referentes!$Y$2:$Z$37,MATCH(X177,referentes!$Z$2:$Z$37,0),1))","v":""},"01",null,null,null,"",null,"",null,null,"",null,1,{"$f":"IF(E177<>\"\",CONCATENATE(B177,A177,DIGITADOR!$M$1,AH177),\"\")","v":""},"",null,null,null,null,null,null,null,null,null,null,null,null,null,null,null,null,null,null,"","",{"$f":"IF(BE177=\"\",\"\",INDEX(referentes!$D$2:$E$37,MATCH(BE177,referentes!$D$2:$D$37,0),2))","v":""},null,{"$f":"IF(BI177=\"\",\"\",INDEX(referentes!$J$2:$L$363,MATCH(BI177,referentes!$J$2:$J$363,0),2))","v":""},"",173]
["30000104",{"$f":"DIGITADOR!$B$2","v":""},1,{"$f":"IF(E178<>\"\",CONCATENATE($A$2,DIGITADOR!$M$1,O178,AH178),\"\")","v":""},null,null,"00:00:00",1,1,null,{"$f":"IF(J178<>\"\",VLOOKUP(J178,#REF!,1,FALSE),\"\")","v":""},null,"",{"$f":"IF(M178=\"\",\"\",INDEX('Otras referencias'!$L$2:$N$200,MATCH(M178,'Otras referencias'!$L$2:$L$200,0),3))","v":""},{"$f":"IF(M178=\"\",\"\",INDEX(referentes!$S$2:$S$170,MATCH(N178,referentes!$W$2:$W$170,0),1))","v":""},null,null,null,null,null,null,null,null,null,{"$f":"IF(X178=\"\",\"\",INDEX(referentes!$Y$2:$Z$37,MATCH(X178,referentes!$Z$2:$Z$37,0),1))","v":""},"01",null,null,null,"",null,"",null,null,"",null,1,{"$f":"IF(E178<>\"\",CONCATENATE(B178,A178,DIGITADOR!$M$1,AH178),\"\")","v":""},"",null,null,null,null,null,null,null,null,null,null,null,null,null,null,null,null,null,null,"","",{"$f":"IF(BE178=\"\",\"\",INDEX(referentes!$D$2:$E$37,MATCH(BE178,referentes!$D$2:$D$37,0),2))","v":""},null,{"$f":"IF(BI178=\"\",\"\",INDEX(referentes!$J$2:$L$363,MATCH(BI178,referentes!$J$2:$J$363,0),2))","v":""},"",174]
["30000104",{"$f":"DIGITADOR!$B$2","v":""},1,{"$f":"IF(E179<>\"\",CONCATENATE($A$2,DIGITADOR!$M$1,O179,AH179),\"\")","v":""},null,null,"00:00:00",1,1,null,{"$f":"IF(J179<>\"\",VLOOKUP(J179,#REF!,1,FALSE),\"\")","v":""},null,"",{"$f":"IF(M179=\"\",\"\",INDEX('Otras referencias'!$L$2:$N$200,MATCH(M179,'Otras referencias'!$L$2:$L$200,0),3))","v":""},{"$f":"IF(M179=\"\",\"\",INDEX(referentes!$S$2:$S$170,MATCH(N179,referentes!$W$2:$W$170,0),1))","v":""},null,null,null,null,null,null,null,null,null,{"$f":"IF(X179=\"\",\"\",INDEX(referentes!$Y$2:$Z$37,MATCH(X179,referentes!$Z$2:$Z$37,0),1))","v":""},"01",null,null,null,"",null,"",null,null,"",null,1,{"$f":"IF(E179<>\"\",CONCATENATE(B179,A179,DIGITADOR!$M$1,AH179),\"\")","v":""},"",null,null,null,null,null,null,null,null,null,null,null,null,null,null,null,null,null,null,"","",{"$f":"IF(BE179=\"\",\"\",INDEX(referentes!$D$2:$E$37,MATCH(BE179,referentes!$D$2:$D$37,0),2))","v":""},null,{"$f":"IF(BI179=\"\",\"\",INDEX(referentes!$J$2:$L$363,MATCH(BI179,referentes!$J$2:$J$363,0),2))","v":""},"",175]
["30000104",{"$f":"DIGITADOR!$B$2","v":""},1,{"$f":"IF(E180<>\"\",CONCATENATE($A$2,DIGITADOR!$M$1,O180,AH180),\"\")","v":""},null,null,"00:00:00",1,1,null,{"$f":"IF(J180<>\"\",VLOOKUP(J180,#REF!,1,FALSE),\"\")","v":""},null,"",{"$f":"IF(M180=\"\",\"\",INDEX('Otras referencias'!$L$2:$N$200,MATCH(M180,'Otras referencias'!$L$2:$L$200,0),3))","v":""},{"$f":"IF(M180=\"\",\"\",INDEX(referentes!$S$2:$S$170,MATCH(N180,referentes!$W$2:$W$170,0),1))","v":""},null,null,null,null,null,null,null,null,null,{"$f":"IF(X180=\"\",\"\",INDEX(referentes!$Y$2:$Z$37,MATCH(X180,referentes!$Z$2:$Z$37,0),1))","v":""},"01",null,null,null,"",null,"",null,null,"",null,1,{"$f":"IF(E180<>\"\",CONCATENATE(B180,A180,DIGITADOR!$M$1,AH180),\"\")","v":""},"",null,null,null,null,null,null,null,null,null,null,null,null,null,null,null,null,null,null,"","",{"$f":"IF(BE180=\"\",\"\",INDEX(referentes!$D$2:$E$37,MATCH(BE180,referentes!$D$2:$D$37,0),2))","v":""},null,{"$f":"IF(BI180=\"\",\"\",INDEX(referentes!$J$2:$L$363,MATCH(BI180,referentes!$J$2:$J$363,0),2))","v":""},"",176]
["30000104",{"$f":"DIGITADOR!$B$2","v":""},1,{"$f":"IF(E181<>\"\",CONCATENATE($A$2,DIGITADOR!$M$1,O181,AH181),\"\")","v":""},null,null,"00:00:00",1,1,null,{"$f":"IF(J181<>\"\",VLOOKUP(J181,#REF!,1,FALSE),\"\")","v":""},null,"",{"$f":"IF(M181=\"\",\"\",INDEX('Otras referencias'!$L$2:$N$200,MATCH(M181,'Otras referencias'!$L$2:$L$200,0),3))","v":""},{"$f":"IF(M181=\"\",\"\",INDEX(referentes!$S$2:$S$170,MATCH(N181,referentes!$W$2:$W$170,0),1))","v":""},null,null,null,null,null,null,null,null,null,{"$f":"IF(X181=\"\",\"\",INDEX(referentes!$Y$2:$Z$37,MATCH(X181,referentes!$Z$2:$Z$37,0),1))","v":""},"01",null,null,null,"",null,"",null,null,"",null,1,{"$f":"IF(E181<>\"\",CONCATENATE(B181,A181,DIGITADOR!$M$1,AH181),\"\")","v":""},"",null,null,null,null,null,null,null,null,null,null,null,null,null,null,null,null,null,null,"","",{"$f":"IF(BE181=\"\",\"\",INDEX(referentes!$D$2:$E$37,MATCH(BE181,referentes!$D$2:$D$37,0),2))","v":""},null,{"$f":"IF(BI181=\"\",\"\",INDEX(referentes!$J$2:$L$363,MATCH(BI181,referentes!$J$2:$J$363,0),2))","v":""},"",177]
["30000104",{"$f":"DIGITADOR!$B$2","v":""},1,{"$f":"IF(E182<>\"\",CONCATENATE($A$2,DIGITADOR!$M$1,O182,AH182),\"\")","v":""},null,null,"00:00:00",1,1,null,{"$f":"IF(J182<>\"\",VLOOKUP(J182,#REF!,1,FALSE),\"\")","v":""},null,"",{"$f":"IF(M182=\"\",\"\",INDEX('Otras referencias'!$L$2:$N$200,MATCH(M182,'Otras referencias'!$L$2:$L$200,0),3))","v":""},{"$f":"IF(M182=\"\",\"\",INDEX(referentes!$S$2:$S$170,MATCH(N182,referentes!$W$2:$W$170,0),1))","v":""},null,null,null,null,null,null,null,null,null,{"$f":"IF(X182=\"\",\"\",INDEX(referentes!$Y$2:$Z$37,MATCH(X182,referentes!$Z$2:$Z$37,0),1))","v":""},"01",null,null,null,"",null,"",null,null,"",null,1,{"$f":"IF(E182<>\"\",CONCATENATE(B182,A182,DIGITADOR!$M$1,AH182),\"\")","v":""},"",null,null,null,null,null,null,null,null,null,null,null,null,null,null,null,null,null,null,"","",{"$f":"IF(BE182=\"\",\"\",INDEX(referentes!$D$2:$E$37,MATCH(BE182,referentes!$D$2:$D$37,0),2))","v":""},null,{"$f":"IF(BI182=\"\",\"\",INDEX(referentes!$J$2:$L$363,MATCH(BI182,referentes!$J$2:$J$363,0),2))","v":""},"",178]
["30000104",{"$f":"DIGITADOR!$B$2","v":""},1,{"$f":"IF(E183<>\"\",CONCATENATE($A$2,DIGITADOR!$M$1,O183,AH183),\"\")","v":""},null,null,"00:00:00",1,1,null,{"$f":"IF(J183<>\"\",VLOOKUP(J183,#REF!,1,FALSE),\"\")","v":""},null,"",{"$f":"IF(M183=\"\",\"\",INDEX('Otras referencias'!$L$2:$N$200,MATCH(M183,'Otras referencias'!$L$2:$L$200,0),3))","v":""},{"$f":"IF(M183=\"\",\"\",INDEX(referentes!$S$2:$S$170,MATCH(N183,referentes!$W$2:$W$170,0),1))","v":""},null,null,null,null,null,null,null,null,null,{"$f":"IF(X183=\"\",\"\",INDEX(referentes!$Y$2:$Z$37,MATCH(X183,referentes!$Z$2:$Z$37,0),1))","v":""},"01",null,null,null,"",null,"",null,null,"",null,1,{"$f":"IF(E183<>\"\",CONCATENATE(B183,A183,DIGITADOR!$M$1,AH183),\"\")","v":""},"",null,null,null,null,null,null,null,null,null,null,null,null,null,null,null,null,null,null,"","",{"$f":"IF(BE183=\"\",\"\",INDEX(referentes!$D$2:$E$37,MATCH(BE183,referentes!$D$2:$D$37,0),2))","v":""},null,{"$f":"IF(BI183=\"\",\"\",INDEX(referentes!$J$2:$L$363,MATCH(BI183,referentes!$J$2:$J$363,0),2))","v":""},"",179]
["30000104",{"$f":"DIGITADOR!$B$2","v":""},1,{"$f":"IF(E184<>\"\",CONCATENATE($A$2,DIGITADOR!$M$1,O184,AH184),\"\")","v":""},null,null,"00:00:00",1,1,null,{"$f":"IF(J184<>\"\",VLOOKUP(J184,#REF!,1,FALSE),\"\")","v":""},null,"",{"$f":"IF(M184=\"\",\"\",INDEX('Otras referencias'!$L$2:$N$200,MATCH(M184,'Otras referencias'!$L$2:$L$200,0),3))","v":""},{"$f":"IF(M184=\"\",\"\",INDEX(referentes!$S$2:$S$170,MATCH(N184,referentes!$W$2:$W$170,0),1))","v":""},null,null,null,null,null,null,null,null,null,{"$f":"IF(X184=\"\",\"\",INDEX(referentes!$Y$2:$Z$37,MATCH(X184,referentes!$Z$2:$Z$37,0),1))","v":""},"01",null,null,null,"",null,"",null,null,"",null,1,{"$f":"IF(E184<>\"\",CONCATENATE(B184,A184,DIGITADOR!$M$1,AH184),\"\")","v":""},"",null,null,null,null,null,null,null,null,null,null,null,null,null,null,null,null,null,null,"","",{"$f":"IF(BE184=\"\",\"\",INDEX(referentes!$D$2:$E$37,MATCH(BE184,referentes!$D$2:$D$37,0),2))","v":""},null,{"$f":"IF(BI184=\"\",\"\",INDEX(referentes!$J$2:$L$363,MATCH(BI184,referentes!$J$2:$J$363,0),2))","v":""},"",180]
["30000104",{"$f":"DIGITADOR!$B$2","v":""},1,{"$f":"IF(E185<>\"\",CONCATENATE($A$2,DIGITADOR!$M$1,O185,AH185),\"\")","v":""},null,null,"00:00:00",1,1,null,{"$f":"IF(J185<>\"\",VLOOKUP(J185,#REF!,1,FALSE),\"\")","v":""},null,"",{"$f":"IF(M185=\"\",\"\",INDEX('Otras referencias'!$L$2:$N$200,MATCH(M185,'Otras referencias'!$L$2:$L$200,0),3))","v":""},{"$f":"IF(M185=\"\",\"\",INDEX(referentes!$S$2:$S$170,MATCH(N185,referentes!$W$2:$W$170,0),1))","v":""},null,null,null,null,null,null,null,null,null,{"$f":"IF(X185=\"\",\"\",INDEX(referentes!$Y$2:$Z$37,MATCH(X185,referentes!$Z$2:$Z$37,0),1))","v":""},"01",null,null,null,"",null,"",null,null,"",null,1,{"$f":"IF(E185<>\"\",CONCATENATE(B185,A185,DIGITADOR!$M$1,AH185),\"\")","v":""},"",null,null,null,null,null,null,null,null,null,null,null,null,null,null,null,null,null,null,"","",{"$f":"IF(BE185=\"\",\"\",INDEX(referentes!$D$2:$E$37,MATCH(BE185,referentes!$D$2:$D$37,0),2))","v":""},null,{"$f":"IF(BI185=\"\",\"\",INDEX(referentes!$J$2:$L$363,MATCH(BI185,referentes!$J$2:$J$363,0),2))","v":""},"",181]
["30000104",{"$f":"DIGITADOR!$B$2","v":""},1,{"$f":"IF(E186<>\"\",CONCATENATE($A$2,DIGITADOR!$M$1,O186,AH186),\"\")","v":""},null,null,"00:00:00",1,1,null,{"$f":"IF(J186<>\"\",VLOOKUP(J186,#REF!,1,FALSE),\"\")","v":""},null,"",{"$f":"IF(M186=\"\",\"\",INDEX('Otras referencias'!$L$2:$N$200,MATCH(M186,'Otras referencias'!$L$2:$L$200,0),3))","v":""},{"$f":"IF(M186=\"\",\"\",INDEX(referentes!$S$2:$S$170,MATCH(N186,referentes!$W$2:$W$170,0),1))","v":""},null,null,null,null,null,null,null,null,null,{"$f":"IF(X186=\"\",\"\",INDEX(referentes!$Y$2:$Z$37,MATCH(X186,referentes!$Z$2:$Z$37,0),1))","v":""},"01",null,null,null,"",null,"",null,null,"",null,1,{"$f":"IF(E186<>\"\",CONCATENATE(B186,A186,DIGITADOR!$M$1,AH186),\"\")","v":""},"",null,null,null,null,null,null,null,null,null,null,null,null,null,null,null,null,null,null,"","",{"$f":"IF(BE186=\"\",\"\",INDEX(referentes!$D$2:$E$37,MATCH(BE186,referentes!$D$2:$D$37,0),2))","v":""},null,{"$f":"IF(BI186=\"\",\"\",INDEX(referentes!$J$2:$L$363,MATCH(BI186,referentes!$J$2:$J$363,0),2))","v":""},"",182]
["30000104",{"$f":"DIGITADOR!$B$2","v":""},1,{"$f":"IF(E187<>\"\",CONCATENATE($A$2,DIGITADOR!$M$1,O187,AH187),\"\")","v":""},null,null,"00:00:00",1,1,null,{"$f":"IF(J187<>\"\",VLOOKUP(J187,#REF!,1,FALSE),\"\")","v":""},null,"",{"$f":"IF(M187=\"\",\"\",INDEX('Otras referencias'!$L$2:$N$200,MATCH(M187,'Otras referencias'!$L$2:$L$200,0),3))","v":""},{"$f":"IF(M187=\"\",\"\",INDEX(referentes!$S$2:$S$170,MATCH(N187,referentes!$W$2:$W$170,0),1))","v":""},null,null,null,null,null,null,null,null,null,{"$f":"IF(X187=\"\",\"\",INDEX(referentes!$Y$2:$Z$37,MATCH(X187,referentes!$Z$2:$Z$37,0),1))","v":""},"01",null,null,null,"",null,"",null,null,"",null,1,{"$f":"IF(E187<>\"\",CONCATENATE(B187,A187,DIGITADOR!$M$1,AH187),\"\")","v":""},"",null,null,null,null,null,null,null,null,null,null,null,null,null,null,null,null,null,null,"","",{"$f":"IF(BE187=\"\",\"\",INDEX(referentes!$D$2:$E$37,MATCH(BE187,referentes!$D$2:$D$37,0),2))","v":""},null,{"$f":"IF(BI187=\"\",\"\",INDEX(referentes!$J$2:$L$363,MATCH(BI187,referentes!$J$2:$J$363,0),2))","v":""},"",183]
["30000104",{"$f":"DIGITADOR!$B$2","v":""},1,{"$f":"IF(E188<>\"\",CONCATENATE($A$2,DIGITADOR!$M$1,O188,AH188),\"\")","v":""},null,null,"00:00:00",1,1,null,{"$f":"IF(J188<>\"\",VLOOKUP(J188,#REF!,1,FALSE),\"\")","v":""},null,"",{"$f":"IF(M188=\"\",\"\",INDEX('Otras referencias'!$L$2:$N$200,MATCH(M188,'Otras referencias'!$L$2:$L$200,0),3))","v":""},{"$f":"IF(M188=\"\",\"\",INDEX(referentes!$S$2:$S$170,MATCH(N188,referentes!$W$2:$W$170,0),1))","v":""},null,null,null,null,null,null,null,null,null,{"$f":"IF(X188=\"\",\"\",INDEX(referentes!$Y$2:$Z$37,MATCH(X188,referentes!$Z$2:$Z$37,0),1))","v":""},"01",null,null,null,"",null,"",null,null,"",null,1,{"$f":"IF(E188<>\"\",CONCATENATE(B188,A188,DIGITADOR!$M$1,AH188),\"\")","v":""},"",null,null,null,null,null,null,null,null,null,null,null,null,null,null,null,null,null,null,"","",{"$f":"IF(BE188=\"\",\"\",INDEX(referentes!$D$2:$E$37,MATCH(BE188,referentes!$D$2:$D$37,0),2))","v":""},null,{"$f":"IF(BI188=\"\",\"\",INDEX(referentes!$J$2:$L$363,MATCH(BI188,referentes!$J$2:$J$363,0),2))","v":""},"",184]
["30000104",{"$f":"DIGITADOR!$B$2","v":""},1,{"$f":"IF(E189<>\"\",CONCATENATE($A$2,DIGITADOR!$M$1,O189,AH189),\"\")","v":""},null,null,"00:00:00",1,1,null,{"$f":"IF(J189<>\"\",VLOOKUP(J189,#REF!,1,FALSE),\"\")","v":""},null,"",{"$f":"IF(M189=\"\",\"\",INDEX('Otras referencias'!$L$2:$N$200,MATCH(M189,'Otras referencias'!$L$2:$L$200,0),3))","v":""},{"$f":"IF(M189=\"\",\"\",INDEX(referentes!$S$2:$S$170,MATCH(N189,referentes!$W$2:$W$170,0),1))","v":""},null,null,null,null,null,null,null,null,null,{"$f":"IF(X189=\"\",\"\",INDEX(referentes!$Y$2:$Z$37,MATCH(X189,referentes!$Z$2:$Z$37,0),1))","v":""},"01",null,null,null,"",null,"",null,null,"",null,1,{"$f":"IF(E189<>\"\",CONCATENATE(B189,A189,DIGITADOR!$M$1,AH189),\"\")","v":""},"",null,null,null,null,null,null,null,null,null,null,null,null,null,null,null,null,null,null,"","",{"$f":"IF(BE189=\"\",\"\",INDEX(referentes!$D$2:$E$37,MATCH(BE189,referentes!$D$2:$D$37,0),2))","v":""},null,{"$f":"IF(BI189=\"\",\"\",INDEX(referentes!$J$2:$L$363,MATCH(BI189,referentes!$J$2:$J$363,0),2))","v":""},"",185]
["30000104",{"$f":"DIGITADOR!$B$2","v":""},1,{"$f":"IF(E190<>\"\",CONCATENATE($A$2,DIGITADOR!$M$1,O190,AH190),\"\")","v":""},null,null,"00:00:00",1,1,null,{"$f":"IF(J190<>\"\",VLOOKUP(J190,#REF!,1,FALSE),\"\")","v":""},null,"",{"$f":"IF(M190=\"\",\"\",INDEX('Otras referencias'!$L$2:$N$200,MATCH(M190,'Otras referencias'!$L$2:$L$200,0),3))","v":""},{"$f":"IF(M190=\"\",\"\",INDEX(referentes!$S$2:$S$170,MATCH(N190,referentes!$W$2:$W$170,0),1))","v":""},null,null,null,null,null,null,null,null,null,{"$f":"IF(X190=\"\",\"\",INDEX(referentes!$Y$2:$Z$37,MATCH(X190,referentes!$Z$2:$Z$37,0),1))","v":""},"01",null,null,null,"",null,"",null,null,"",null,1,{"$f":"IF(E190<>\"\",CONCATENATE(B190,A190,DIGITADOR!$M$1,AH190),\"\")","v":""},"",null,null,null,null,null,null,null,null,null,null,null,null,null,null,null,null,null,null,"","",{"$f":"IF(BE190=\"\",\"\",INDEX(referentes!$D$2:$E$37,MATCH(BE190,referentes!$D$2:$D$37,0),2))","v":""},null,{"$f":"IF(BI190=\"\",\"\",INDEX(referentes!$J$2:$L$363,MATCH(BI190,referentes!$J$2:$J$363,0),2))","v":""},"",186]
["30000104",{"$f":"DIGITADOR!$B$2","v":""},1,{"$f":"IF(E191<>\"\",CONCATENATE($A$2,DIGITADOR!$M$1,O191,AH191),\"\")","v":""},null,null,"00:00:00",1,1,null,{"$f":"IF(J191<>\"\",VLOOKUP(J191,#REF!,1,FALSE),\"\")","v":""},null,"",{"$f":"IF(M191=\"\",\"\",INDEX('Otras referencias'!$L$2:$N$200,MATCH(M191,'Otras referencias'!$L$2:$L$200,0),3))","v":""},{"$f":"IF(M191=\"\",\"\",INDEX(referentes!$S$2:$S$170,MATCH(N191,referentes!$W$2:$W$170,0),1))","v":""},null,null,null,null,null,null,null,null,null,{"$f":"IF(X191=\"\",\"\",INDEX(referentes!$Y$2:$Z$37,MATCH(X191,referentes!$Z$2:$Z$37,0),1))","v":""},"01",null,null,null,"",null,"",null,null,"",null,1,{"$f":"IF(E191<>\"\",CONCATENATE(B191,A191,DIGITADOR!$M$1,AH191),\"\")","v":""},"",null,null,null,null,null,null,null,null,null,null,null,null,null,null,null,null,null,null,"","",{"$f":"IF(BE191=\"\",\"\",INDEX(referentes!$D$2:$E$37,MATCH(BE191,referentes!$D$2:$D$37,0),2))","v":""},null,{"$f":"IF(BI191=\"\",\"\",INDEX(referentes!$J$2:$L$363,MATCH(BI191,referentes!$J$2:$J$363,0),2))","v":""},"",187]
["30000104",{"$f":"DIGITADOR!$B$2","v":""},1,{"$f":"IF(E192<>\"\",CONCATENATE($A$2,DIGITADOR!$M$1,O192,AH192),\"\")","v":""},null,null,"00:00:00",1,1,null,{"$f":"IF(J192<>\"\",VLOOKUP(J192,#REF!,1,FALSE),\"\")","v":""},null,"",{"$f":"IF(M192=\"\",\"\",INDEX('Otras referencias'!$L$2:$N$200,MATCH(M192,'Otras referencias'!$L$2:$L$200,0),3))","v":""},{"$f":"IF(M192=\"\",\"\",INDEX(referentes!$S$2:$S$170,MATCH(N192,referentes!$W$2:$W$170,0),1))","v":""},null,null,null,null,null,null,null,null,null,{"$f":"IF(X192=\"\",\"\",INDEX(referentes!$Y$2:$Z$37,MATCH(X192,referentes!$Z$2:$Z$37,0),1))","v":""},"01",null,null,null,"",null,"",null,null,"",null,1,{"$f":"IF(E192<>\"\",CONCATENATE(B192,A192,DIGITADOR!$M$1,AH192),\"\")","v":""},"",null,null,null,null,null,null,null,null,null,null,null,null,null,null,null,null,null,null,"","",{"$f":"IF(BE192=\"\",\"\",INDEX(referentes!$D$2:$E$37,MATCH(BE192,referentes!$D$2:$D$37,0),2))","v":""},null,{"$f":"IF(BI192=\"\",\"\",INDEX(referentes!$J$2:$L$363,MATCH(BI192,referentes!$J$2:$J$363,0),2))","v":""},"",188]
["30000104",{"$f":"DIGITADOR!$B$2","v":""},1,{"$f":"IF(E193<>\"\",CONCATENATE($A$2,DIGITADOR!$M$1,O193,AH193),\"\")","v":""},null,null,"00:00:00",1,1,null,{"$f":"IF(J193<>\"\",VLOOKUP(J193,#REF!,1,FALSE),\"\")","v":""},null,"",{"$f":"IF(M193=\"\",\"\",INDEX('Otras referencias'!$L$2:$N$200,MATCH(M193,'Otras referencias'!$L$2:$L$200,0),3))","v":""},{"$f":"IF(M193=\"\",\"\",INDEX(referentes!$S$2:$S$170,MATCH(N193,referentes!$W$2:$W$170,0),1))","v":""},null,null,null,null,null,null,null,null,null,{"$f":"IF(X193=\"\",\"\",INDEX(referentes!$Y$2:$Z$37,MATCH(X193,referentes!$Z$2:$Z$37,0),1))","v":""},"01",null,null,null,"",null,"",null,null,"",null,1,{"$f":"IF(E193<>\"\",CONCATENATE(B193,A193,DIGITADOR!$M$1,AH193),\"\")","v":""},"",null,null,null,null,null,null,null,null,null,null,null,null,null,null,null,null,null,null,"","",{"$f":"IF(BE193=\"\",\"\",INDEX(referentes!$D$2:$E$37,MATCH(BE193,referentes!$D$2:$D$37,0),2))","v":""},null,{"$f":"IF(BI193=\"\",\"\",INDEX(referentes!$J$2:$L$363,MATCH(BI193,referentes!$J$2:$J$363,0),2))","v":""},"",189]
["30000104",{"$f":"DIGITADOR!$B$2","v":""},1,{"$f":"IF(E194<>\"\",CONCATENATE($A$2,DIGITADOR!$M$1,O194,AH194),\"\")","v":""},null,null,"00:00:00",1,1,null,{"$f":"IF(J194<>\"\",VLOOKUP(J194,#REF!,1,FALSE),\"\")","v":""},null,"",{"$f":"IF(M194=\"\",\"\",INDEX('Otras referencias'!$L$2:$N$200,MATCH(M194,'Otras referencias'!$L$2:$L$200,0),3))","v":""},{"$f":"IF(M194=\"\",\"\",INDEX(referentes!$S$2:$S$170,MATCH(N194,referentes!$W$2:$W$170,0),1))","v":""},null,null,null,null,null,null,null,null,null,{"$f":"IF(X194=\"\",\"\",INDEX(referentes!$Y$2:$Z$37,MATCH(X194,referentes!$Z$2:$Z$37,0),1))","v":""},"01",null,null,null,"",null,"",null,null,"",null,1,{"$f":"IF(E194<>\"\",CONCATENATE(B194,A194,DIGITADOR!$M$1,AH194),\"\")","v":""},"",null,null,null,null,null,null,null,null,null,null,null,null,null,null,null,null,null,null,"","",{"$f":"IF(BE194=\"\",\"\",INDEX(referentes!$D$2:$E$37,MATCH(BE194,referentes!$D$2:$D$37,0),2))","v":""},null,{"$f":"IF(BI194=\"\",\"\",INDEX(referentes!$J$2:$L$363,MATCH(BI194,referentes!$J$2:$J$363,0),2))","v":""},"",190]
["30000104",{"$f":"DIGITADOR!$B$2","v":""},1,{"$f":"IF(E195<>\"\",CONCATENATE($A$2,DIGITADOR!$M$1,O195,AH195),\"\")","v":""},null,null,"00:00:00",1,1,null,{"$f":"IF(J195<>\"\",VLOOKUP(J195,#REF!,1,FALSE),\"\")","v":""},null,"",{"$f":"IF(M195=\"\",\"\",INDEX('Otras referencias'!$L$2:$N$200,MATCH(M195,'Otras referencias'!$L$2:$L$200,0),3))","v":""},{"$f":"IF(M195=\"\",\"\",INDEX(referentes!$S$2:$S$170,MATCH(N195,referentes!$W$2:$W$170,0),1))","v":""},null,null,null,null,null,null,null,null,null,{"$f":"IF(X195=\"\",\"\",INDEX(referentes!$Y$2:$Z$37,MATCH(X195,referentes!$Z$2:$Z$37,0),1))","v":""},"01",null,null,null,"",null,"",null,null,"",null,1,{"$f":"IF(E195<>\"\",CONCATENATE(B195,A195,DIGITADOR!$M$1,AH195),\"\")","v":""},"",null,null,null,null,null,null,null,null,null,null,null,null,null,null,null,null,null,null,"","",{"$f":"IF(BE195=\"\",\"\",INDEX(referentes!$D$2:$E$37,MATCH(BE195,referentes!$D$2:$D$37,0),2))","v":""},null,{"$f":"IF(BI195=\"\",\"\",INDEX(referentes!$J$2:$L$363,MATCH(BI195,referentes!$J$2:$J$363,0),2))","v":""},"",191]
["30000104",{"$f":"DIGITADOR!$B$2","v":""},1,{"$f":"IF(E196<>\"\",CONCATENATE($A$2,DIGITADOR!$M$1,O196,AH196),\"\")","v":""},null,null,"00:00:00",1,1,null,{"$f":"IF(J196<>\"\",VLOOKUP(J196,#REF!,1,FALSE),\"\")","v":""},null,"",{"$f":"IF(M196=\"\",\"\",INDEX('Otras referencias'!$L$2:$N$200,MATCH(M196,'Otras referencias'!$L$2:$L$200,0),3))","v":""},{"$f":"IF(M196=\"\",\"\",INDEX(referentes!$S$2:$S$170,MATCH(N196,referentes!$W$2:$W$170,0),1))","v":""},null,null,null,null,null,null,null,null,null,{"$f":"IF(X196=\"\",\"\",INDEX(referentes!$Y$2:$Z$37,MATCH(X196,referentes!$Z$2:$Z$37,0),1))","v":""},"01",null,null,null,"",null,"",null,null,"",null,1,{"$f":"IF(E196<>\"\",CONCATENATE(B196,A196,DIGITADOR!$M$1,AH196),\"\")","v":""},"",null,null,null,null,null,null,null,null,null,null,null,null,null,null,null,null,null,null,"","",{"$f":"IF(BE196=\"\",\"\",INDEX(referentes!$D$2:$E$37,MATCH(BE196,referentes!$D$2:$D$37,0),2))","v":""},null,{"$f":"IF(BI196=\"\",\"\",INDEX(referentes!$J$2:$L$363,MATCH(BI196,referentes!$J$2:$J$363,0),2))","v":""},"",192]
["30000104",{"$f":"DIGITADOR!$B$2","v":""},{"$f":"IF(Z197=Z196,C196,C196+1)","v":1},{"$f":"IF(E197<>\"\",CONCATENATE($A$2,DIGITADOR!$M$1,O197,AH197),\"\")","v":""},null,null,"00:00:00",1,1,null,{"$f":"IF(J197<>\"\",VLOOKUP(J197,#REF!,1,FALSE),\"\")","v":""},null,"",{"$f":"IF(M197=\"\",\"\",INDEX('Otras referencias'!$L$2:$N$200,MATCH(M197,'Otras referencias'!$L$2:$L$200,0),3))","v":""},{"$f":"IF(M197=\"\",\"\",INDEX(referentes!$S$2:$S$170,MATCH(N197,referentes!$W$2:$W$170,0),1))","v":""},null,null,null,null,null,null,null,null,null,{"$f":"IF(X197=\"\",\"\",INDEX(referentes!$Y$2:$Z$37,MATCH(X197,referentes!$Z$2:$Z$37,0),1))","v":""},{"$f":"CONCATENATE(G197,O197,Y197,AK197)","v":"01"},null,null,null,"",null,"",null,null,"",null,1,{"$f":"IF(E197<>\"\",CONCATENATE(B197,A197,DIGITADOR!$M$1,AH197),\"\")","v":""},{"$f":"IF(D197=\"\",\"\",IF(AND(D197=D196,AI197=AI196,N197=N196),AM196+1,1))","v":""},null,null,null,null,null,null,null,null,null,null,null,null,null,null,null,null,null,null,"","",{"$f":"IF(BE197=\"\",\"\",INDEX(referentes!$D$2:$E$37,MATCH(BE197,referentes!$D$2:$D$37,0),2))","v":""},null,{"$f":"IF(BI197=\"\",\"\",INDEX(referentes!$J$2:$L$363,MATCH(BI197,referentes!$J$2:$J$363,0),2))","v":""},{"$f":"IF(D197=\"\",\"\",CONCATENATE(D197,BL197))","v":""},193]
[{"$f":"A197","v":"30000104"},{"$f":"DIGITADOR!$B$2","v":""},1,{"$f":"IF(E198<>\"\",CONCATENATE($A$2,DIGITADOR!$M$1,O198,AH198),\"\")","v":""},null,null,"00:00:00",1,1,null,{"$f":"IF(J198<>\"\",VLOOKUP(J198,#REF!,1,FALSE),\"\")","v":""},null,"",{"$f":"IF(M198=\"\",\"\",INDEX('Otras referencias'!$L$2:$N$200,MATCH(M198,'Otras referencias'!$L$2:$L$200,0),3))","v":""},{"$f":"IF(M198=\"\",\"\",INDEX(referentes!$S$2:$S$170,MATCH(N198,referentes!$W$2:$W$170,0),1))","v":""},null,null,null,null,null,null,null,null,null,{"$f":"IF(X198=\"\",\"\",INDEX(referentes!$Y$2:$Z$37,MATCH(X198,referentes!$Z$2:$Z$37,0),1))","v":""},"01",null,null,null,{"$f":"IF(D198=\"\",\"\",\"OA\")","v":""},null,{"$f":"IF(D198=\"\",\"\",\"SO\")","v":""},null,null,{"$f":"CONCATENATE(AG198,AH198)","v":""},null,1,{"$f":"IF(E198<>\"\",CONCATENATE(B198,A198,DIGITADOR!$M$1,AH198),\"\")","v":""},"",null,null,null,null,null,null,null,null,null,null,null,null,null,null,null,null,null,null,{"$f":"IF(BE198=\"\",\"\",UPPER(BE198))","v":""},{"$f":"IF(BI198=\"\",\"\",UPPER(BI198))","v":""},{"$f":"IF(BE198=\"\",\"\",INDEX(referentes!$D$2:$E$37,MATCH(BE198,referentes!$D$2:$D$37,0),2))","v":""},null,{"$f":"IF(BI198=\"\",\"\",INDEX(referentes!$J$2:$L$363,MATCH(BI198,referentes!$J$2:$J$363,0),2))","v":""},"",194]
["30000104",{"$f":"DIGITADOR!$B$2","v":""},1,{"$f":"IF(E199<>\"\",CONCATENATE($A$2,DIGITADOR!$M$1,O199,AH199),\"\")","v":""},null,null,"00:00:00",1,1,null,{"$f":"IF(J199<>\"\",VLOOKUP(J199,#REF!,1,FALSE),\"\")","v":""},null,"",{"$f":"IF(M199=\"\",\"\",INDEX('Otras referencias'!$L$2:$N$200,MATCH(M199,'Otras referencias'!$L$2:$L$200,0),3))","v":""},{"$f":"IF(M199=\"\",\"\",INDEX(referentes!$S$2:$S$170,MATCH(N199,referentes!$W$2:$W$170,0),1))","v":""},null,null,null,null,null,null,null,null,null,{"$f":"IF(X199=\"\",\"\",INDEX(referentes!$Y$2:$Z$37,MATCH(X199,referentes!$Z$2:$Z$37,0),1))","v":""},"01",null,null,null,"",null,"",null,null,"",null,1,{"$f":"IF(E199<>\"\",CONCATENATE(B199,A199,DIGITADOR!$M$1,AH199),\"\")","v":""},"",null,null,null,null,null,null,null,null,null,null,null,null,null,null,null,null,null,null,"","",{"$f":"IF(BE199=\"\",\"\",INDEX(referentes!$D$2:$E$37,MATCH(BE199,referentes!$D$2:$D$37,0),2))","v":""},null,{"$f":"IF(BI199=\"\",\"\",INDEX(referentes!$J$2:$L$363,MATCH(BI199,referentes!$J$2:$J$363,0),2))","v":""},"",195]
["30000104",{"$f":"DIGITADOR!$B$2","v":""},1,{"$f":"IF(E200<>\"\",CONCATENATE($A$2,DIGITADOR!$M$1,O200,AH200),\"\")","v":""},null,null,"00:00:00",1,1,null,{"$f":"IF(J200<>\"\",VLOOKUP(J200,#REF!,1,FALSE),\"\")","v":""},null,"",{"$f":"IF(M200=\"\",\"\",INDEX('Otras referencias'!$L$2:$N$200,MATCH(M200,'Otras referencias'!$L$2:$L$200,0),3))","v":""},{"$f":"IF(M200=\"\",\"\",INDEX(referentes!$S$2:$S$170,MATCH(N200,referentes!$W$2:$W$170,0),1))","v":""},null,null,null,null,null,null,null,null,null,{"$f":"IF(X200=\"\",\"\",INDEX(referentes!$Y$2:$Z$37,MATCH(X200,referentes!$Z$2:$Z$37,0),1))","v":""},"01",null,null,null,"",null,"",null,null,"",null,1,{"$f":"IF(E200<>\"\",CONCATENATE(B200,A200,DIGITADOR!$M$1,AH200),\"\")","v":""},"",null,null,null,null,null,null,null,null,null,null,null,null,null,null,null,null,null,null,"","",{"$f":"IF(BE200=\"\",\"\",INDEX(referentes!$D$2:$E$37,MATCH(BE200,referentes!$D$2:$D$37,0),2))","v":""},null,{"$f":"IF(BI200=\"\",\"\",INDEX(referentes!$J$2:$L$363,MATCH(BI200,referentes!$J$2:$J$363,0),2))","v":""},"",196]
["30000104",{"$f":"DIGITADOR!$B$2","v":""},1,{"$f":"IF(E201<>\"\",CONCATENATE($A$2,DIGITADOR!$M$1,O201,AH201),\"\")","v":""},null,null,"00:00:00",1,1,null,{"$f":"IF(J201<>\"\",VLOOKUP(J201,#REF!,1,FALSE),\"\")","v":""},null,"",{"$f":"IF(M201=\"\",\"\",INDEX('Otras referencias'!$L$2:$N$200,MATCH(M201,'Otras referencias'!$L$2:$L$200,0),3))","v":""},{"$f":"IF(M201=\"\",\"\",INDEX(referentes!$S$2:$S$170,MATCH(N201,referentes!$W$2:$W$170,0),1))","v":""},null,null,null,null,null,null,null,null,null,{"$f":"IF(X201=\"\",\"\",INDEX(referentes!$Y$2:$Z$37,MATCH(X201,referentes!$Z$2:$Z$37,0),1))","v":""},"01",null,null,null,"",null,"",null,null,"",null,1,{"$f":"IF(E201<>\"\",CONCATENATE(B201,A201,DIGITADOR!$M$1,AH201),\"\")","v":""},"",null,null,null,null,null,null,null,null,null,null,null,null,null,null,null,null,null,null,"","",{"$f":"IF(BE201=\"\",\"\",INDEX(referentes!$D$2:$E$37,MATCH(BE201,referentes!$D$2:$D$37,0),2))","v":""},null,{"$f":"IF(BI201=\"\",\"\",INDEX(referentes!$J$2:$L$363,MATCH(BI201,referentes!$J$2:$J$363,0),2))","v":""},"",197]
["30000104",{"$f":"DIGITADOR!$B$2","v":""},1,{"$f":"IF(E202<>\"\",CONCATENATE($A$2,DIGITADOR!$M$1,O202,AH202),\"\")","v":""},null,null,"00:00:00",1,1,null,{"$f":"IF(J202<>\"\",VLOOKUP(J202,#REF!,1,FALSE),\"\")","v":""},null,"",{"$f":"IF(M202=\"\",\"\",INDEX('Otras referencias'!$L$2:$N$200,MATCH(M202,'Otras referencias'!$L$2:$L$200,0),3))","v":""},{"$f":"IF(M202=\"\",\"\",INDEX(referentes!$S$2:$S$170,MATCH(N202,referentes!$W$2:$W$170,0),1))","v":""},null,null,null,null,null,null,null,null,null,{"$f":"IF(X202=\"\",\"\",INDEX(referentes!$Y$2:$Z$37,MATCH(X202,referentes!$Z$2:$Z$37,0),1))","v":""},"01",null,null,null,"",null,"",null,null,"",null,1,{"$f":"IF(E202<>\"\",CONCATENATE(B202,A202,DIGITADOR!$M$1,AH202),\"\")","v":""},"",null,null,null,null,null,null,null,null,null,null,null,null,null,null,null,null,null,null,"","",{"$f":"IF(BE202=\"\",\"\",INDEX(referentes!$D$2:$E$37,MATCH(BE202,referentes!$D$2:$D$37,0),2))","v":""},null,{"$f":"IF(BI202=\"\",\"\",INDEX(referentes!$J$2:$L$363,MATCH(BI202,referentes!$J$2:$J$363,0),2))","v":""},"",198]
["30000104",{"$f":"DIGITADOR!$B$2","v":""},1,{"$f":"IF(E203<>\"\",CONCATENATE($A$2,DIGITADOR!$M$1,O203,AH203),\"\")","v":""},null,null,"00:00:00",1,1,null,{"$f":"IF(J203<>\"\",VLOOKUP(J203,#REF!,1,FALSE),\"\")","v":""},null,"",{"$f":"IF(M203=\"\",\"\",INDEX('Otras referencias'!$L$2:$N$200,MATCH(M203,'Otras referencias'!$L$2:$L$200,0),3))","v":""},{"$f":"IF(M203=\"\",\"\",INDEX(referentes!$S$2:$S$170,MATCH(N203,referentes!$W$2:$W$170,0),1))","v":""},null,null,null,null,null,null,null,null,null,{"$f":"IF(X203=\"\",\"\",INDEX(referentes!$Y$2:$Z$37,MATCH(X203,referentes!$Z$2:$Z$37,0),1))","v":""},"01",null,null,null,"",null,"",null,null,"",null,1,{"$f":"IF(E203<>\"\",CONCATENATE(B203,A203,DIGITADOR!$M$1,AH203),\"\")","v":""},"",null,null,null,null,null,null,null,null,null,null,null,null,null,null,null,null,null,null,"","",{"$f":"IF(BE203=\"\",\"\",INDEX(referentes!$D$2:$E$37,MATCH(BE203,referentes!$D$2:$D$37,0),2))","v":""},null,{"$f":"IF(BI203=\"\",\"\",INDEX(referentes!$J$2:$L$363,MATCH(BI203,referentes!$J$2:$J$363,0),2))","v":""},"",199]
["30000104",{"$f":"DIGITADOR!$B$2","v":""},1,{"$f":"IF(E204<>\"\",CONCATENATE($A$2,DIGITADOR!$M$1,O204,AH204),\"\")","v":""},null,null,"00:00:00",1,1,null,{"$f":"IF(J204<>\"\",VLOOKUP(J204,#REF!,1,FALSE),\"\")","v":""},null,"",{"$f":"IF(M204=\"\",\"\",INDEX('Otras referencias'!$L$2:$N$200,MATCH(M204,'Otras referencias'!$L$2:$L$200,0),3))","v":""},{"$f":"IF(M204=\"\",\"\",INDEX(referentes!$S$2:$S$170,MATCH(N204,referentes!$W$2:$W$170,0),1))","v":""},null,null,null,null,null,null,null,null,null,{"$f":"IF(X204=\"\",\"\",INDEX(referentes!$Y$2:$Z$37,MATCH(X204,referentes!$Z$2:$Z$37,0),1))","v":""},"01",null,null,null,"",null,"",null,null,"",null,1,{"$f":"IF(E204<>\"\",CONCATENATE(B204,A204,DIGITADOR!$M$1,AH204),\"\")","v":""},"",null,null,null,null,null,null,null,null,null,null,null,null,null,null,null,null,null,null,"","",{"$f":"IF(BE204=\"\",\"\",INDEX(referentes!$D$2:$E$37,MATCH(BE204,referentes!$D$2:$D$37,0),2))","v":""},null,{"$f":"IF(BI204=\"\",\"\",INDEX(referentes!$J$2:$L$363,MATCH(BI204,referentes!$J$2:$J$363,0),2))","v":""},"",200]
["30000104",{"$f":"DIGITADOR!$B$2","v":""},1,{"$f":"IF(E205<>\"\",CONCATENATE($A$2,DIGITADOR!$M$1,O205,AH205),\"\")","v":""},null,null,"00:00:00",1,null,null,{"$f":"IF(J205<>\"\",VLOOKUP(J205,#REF!,1,FALSE),\"\")","v":""},null,"",{"$f":"IF(M205=\"\",\"\",INDEX('Otras referencias'!$L$2:$N$200,MATCH(M205,'Otras referencias'!$L$2:$L$200,0),3))","v":""},{"$f":"IF(M205=\"\",\"\",INDEX(referentes!$S$2:$S$170,MATCH(N205,referentes!$W$2:$W$170,0),1))","v":""},null,null,null,null,null,null,null,null,null,{"$f":"IF(X205=\"\",\"\",INDEX(referentes!$Y$2:$Z$37,MATCH(X205,referentes!$Z$2:$Z$37,0),1))","v":""},"01",null,null,null,"",null,"",null,null,"",null,1,{"$f":"IF(E205<>\"\",CONCATENATE(B205,A205,DIGITADOR!$M$1,AH205),\"\")","v":""},"",null,null,null,null,null,null,null,null,null,null,null,null,null,null,null,null,null,null,"","",{"$f":"IF(BE205=\"\",\"\",INDEX(referentes!$D$2:$E$37,MATCH(BE205,referentes!$D$2:$D$37,0),2))","v":""},null,{"$f":"IF(BI205=\"\",\"\",INDEX(referentes!$J$2:$L$363,MATCH(BI205,referentes!$J$2:$J$363,0),2))","v":""},"",201]
["30000104",{"$f":"DIGITADOR!$B$2","v":""},1,{"$f":"IF(E206<>\"\",CONCATENATE($A$2,DIGITADOR!$M$1,O206,AH206),\"\")","v":""},null,null,"00:00:00",1,null,null,{"$f":"IF(J206<>\"\",VLOOKUP(J206,#REF!,1,FALSE),\"\")","v":""},null,"",{"$f":"IF(M206=\"\",\"\",INDEX('Otras referencias'!$L$2:$N$200,MATCH(M206,'Otras referencias'!$L$2:$L$200,0),3))","v":""},{"$f":"IF(M206=\"\",\"\",INDEX(referentes!$S$2:$S$170,MATCH(N206,referentes!$W$2:$W$170,0),1))","v":""},null,null,null,null,null,null,null,null,null,{"$f":"IF(X206=\"\",\"\",INDEX(referentes!$Y$2:$Z$37,MATCH(X206,referentes!$Z$2:$Z$37,0),1))","v":""},"01",null,null,null,"",null,"",null,null,"",null,1,{"$f":"IF(E206<>\"\",CONCATENATE(B206,A206,DIGITADOR!$M$1,AH206),\"\")","v":""},"",null,null,null,null,null,null,null,null,null,null,null,null,null,null,null,null,null,null,"","",{"$f":"IF(BE206=\"\",\"\",INDEX(referentes!$D$2:$E$37,MATCH(BE206,referentes!$D$2:$D$37,0),2))","v":""},null,{"$f":"IF(BI206=\"\",\"\",INDEX(referentes!$J$2:$L$363,MATCH(BI206,referentes!$J$2:$J$363,0),2))","v":""},"",202]
["30000104",{"$f":"DIGITADOR!$B$2","v":""},1,{"$f":"IF(E207<>\"\",CONCATENATE($A$2,DIGITADOR!$M$1,O207,AH207),\"\")","v":""},null,null,"00:00:00",1,null,null,{"$f":"IF(J207<>\"\",VLOOKUP(J207,#REF!,1,FALSE),\"\")","v":""},null,"",{"$f":"IF(M207=\"\",\"\",INDEX('Otras referencias'!$L$2:$N$200,MATCH(M207,'Otras referencias'!$L$2:$L$200,0),3))","v":""},{"$f":"IF(M207=\"\",\"\",INDEX(referentes!$S$2:$S$170,MATCH(N207,referentes!$W$2:$W$170,0),1))","v":""},null,null,null,null,null,null,null,null,null,{"$f":"IF(X207=\"\",\"\",INDEX(referentes!$Y$2:$Z$37,MATCH(X207,referentes!$Z$2:$Z$37,0),1))","v":""},"01",null,null,null,"",null,"",null,null,"",null,1,{"$f":"IF(E207<>\"\",CONCATENATE(B207,A207,DIGITADOR!$M$1,AH207),\"\")","v":""},"",null,null,null,null,null,null,null,null,null,null,null,null,null,null,null,null,null,null,"","",{"$f":"IF(BE207=\"\",\"\",INDEX(referentes!$D$2:$E$37,MATCH(BE207,referentes!$D$2:$D$37,0),2))","v":""},null,{"$f":"IF(BI207=\"\",\"\",INDEX(referentes!$J$2:$L$363,MATCH(BI207,referentes!$J$2:$J$363,0),2))","v":""},"",203]
["30000104",{"$f":"DIGITADOR!$B$2","v":""},1,{"$f":"IF(E208<>\"\",CONCATENATE($A$2,DIGITADOR!$M$1,O208,AH208),\"\")","v":""},null,null,"00:00:00",1,null,null,{"$f":"IF(J208<>\"\",VLOOKUP(J208,#REF!,1,FALSE),\"\")","v":""},null,"",{"$f":"IF(M208=\"\",\"\",INDEX('Otras referencias'!$L$2:$N$200,MATCH(M208,'Otras referencias'!$L$2:$L$200,0),3))","v":""},{"$f":"IF(M208=\"\",\"\",INDEX(referentes!$S$2:$S$170,MATCH(N208,referentes!$W$2:$W$170,0),1))","v":""},null,null,null,null,null,null,null,null,null,{"$f":"IF(X208=\"\",\"\",INDEX(referentes!$Y$2:$Z$37,MATCH(X208,referentes!$Z$2:$Z$37,0),1))","v":""},"01",null,null,null,"",null,"",null,null,"",null,1,{"$f":"IF(E208<>\"\",CONCATENATE(B208,A208,DIGITADOR!$M$1,AH208),\"\")","v":""},"",null,null,null,null,null,null,null,null,null,null,null,null,null,null,null,null,null,null,"","",{"$f":"IF(BE208=\"\",\"\",INDEX(referentes!$D$2:$E$37,MATCH(BE208,referentes!$D$2:$D$37,0),2))","v":""},null,{"$f":"IF(BI208=\"\",\"\",INDEX(referentes!$J$2:$L$363,MATCH(BI208,referentes!$J$2:$J$363,0),2))","v":""},"",204]
["30000104",{"$f":"DIGITADOR!$B$2","v":""},1,{"$f":"IF(E209<>\"\",CONCATENATE($A$2,DIGITADOR!$M$1,O209,AH209),\"\")","v":""},null,null,"00:00:00",1,null,null,{"$f":"IF(J209<>\"\",VLOOKUP(J209,#REF!,1,FALSE),\"\")","v":""},null,"",{"$f":"IF(M209=\"\",\"\",INDEX('Otras referencias'!$L$2:$N$200,MATCH(M209,'Otras referencias'!$L$2:$L$200,0),3))","v":""},{"$f":"IF(M209=\"\",\"\",INDEX(referentes!$S$2:$S$170,MATCH(N209,referentes!$W$2:$W$170,0),1))","v":""},null,null,null,null,null,null,null,null,null,{"$f":"IF(X209=\"\",\"\",INDEX(referentes!$Y$2:$Z$37,MATCH(X209,referentes!$Z$2:$Z$37,0),1))","v":""},"01",null,null,null,"",null,"",null,null,"",null,1,{"$f":"IF(E209<>\"\",CONCATENATE(B209,A209,DIGITADOR!$M$1,AH209),\"\")","v":""},"",null,null,null,null,null,null,null,null,null,null,null,null,null,null,null,null,null,null,"","",{"$f":"IF(BE209=\"\",\"\",INDEX(referentes!$D$2:$E$37,MATCH(BE209,referentes!$D$2:$D$37,0),2))","v":""},null,{"$f":"IF(BI209=\"\",\"\",INDEX(referentes!$J$2:$L$363,MATCH(BI209,referentes!$J$2:$J$363,0),2))","v":""},"",205]
["30000104",{"$f":"DIGITADOR!$B$2","v":""},1,{"$f":"IF(E210<>\"\",CONCATENATE($A$2,DIGITADOR!$M$1,O210,AH210),\"\")","v":""},null,null,"00:00:00",1,null,null,{"$f":"IF(J210<>\"\",VLOOKUP(J210,#REF!,1,FALSE),\"\")","v":""},null,"",{"$f":"IF(M210=\"\",\"\",INDEX('Otras referencias'!$L$2:$N$200,MATCH(M210,'Otras referencias'!$L$2:$L$200,0),3))","v":""},{"$f":"IF(M210=\"\",\"\",INDEX(referentes!$S$2:$S$170,MATCH(N210,referentes!$W$2:$W$170,0),1))","v":""},null,null,null,null,null,null,null,null,null,{"$f":"IF(X210=\"\",\"\",INDEX(referentes!$Y$2:$Z$37,MATCH(X210,referentes!$Z$2:$Z$37,0),1))","v":""},"01",null,null,null,"",null,"",null,null,"",null,1,{"$f":"IF(E210<>\"\",CONCATENATE(B210,A210,DIGITADOR!$M$1,AH210),\"\")","v":""},"",null,null,null,null,null,null,null,null,null,null,null,null,null,null,null,null,null,null,"","",{"$f":"IF(BE210=\"\",\"\",INDEX(referentes!$D$2:$E$37,MATCH(BE210,referentes!$D$2:$D$37,0),2))","v":""},null,{"$f":"IF(BI210=\"\",\"\",INDEX(referentes!$J$2:$L$363,MATCH(BI210,referentes!$J$2:$J$363,0),2))","v":""},"",206]
["30000104",{"$f":"DIGITADOR!$B$2","v":""},1,{"$f":"IF(E211<>\"\",CONCATENATE($A$2,DIGITADOR!$M$1,O211,AH211),\"\")","v":""},null,null,"00:00:00",1,null,null,{"$f":"IF(J211<>\"\",VLOOKUP(J211,#REF!,1,FALSE),\"\")","v":""},null,"",{"$f":"IF(M211=\"\",\"\",INDEX('Otras referencias'!$L$2:$N$200,MATCH(M211,'Otras referencias'!$L$2:$L$200,0),3))","v":""},{"$f":"IF(M211=\"\",\"\",INDEX(referentes!$S$2:$S$170,MATCH(N211,referentes!$W$2:$W$170,0),1))","v":""},null,null,null,null,null,null,null,null,null,{"$f":"IF(X211=\"\",\"\",INDEX(referentes!$Y$2:$Z$37,MATCH(X211,referentes!$Z$2:$Z$37,0),1))","v":""},"01",null,null,null,"",null,"",null,null,"",null,1,{"$f":"IF(E211<>\"\",CONCATENATE(B211,A211,DIGITADOR!$M$1,AH211),\"\")","v":""},"",null,null,null,null,null,null,null,null,null,null,null,null,null,null,null,null,null,null,"","",{"$f":"IF(BE211=\"\",\"\",INDEX(referentes!$D$2:$E$37,MATCH(BE211,referentes!$D$2:$D$37,0),2))","v":""},null,{"$f":"IF(BI211=\"\",\"\",INDEX(referentes!$J$2:$L$363,MATCH(BI211,referentes!$J$2:$J$363,0),2))","v":""},"",207]
["30000104",{"$f":"DIGITADOR!$B$2","v":""},1,{"$f":"IF(E212<>\"\",CONCATENATE($A$2,DIGITADOR!$M$1,O212,AH212),\"\")","v":""},null,null,"00:00:00",1,null,null,{"$f":"IF(J212<>\"\",VLOOKUP(J212,#REF!,1,FALSE),\"\")","v":""},null,"",{"$f":"IF(M212=\"\",\"\",INDEX('Otras referencias'!$L$2:$N$200,MATCH(M212,'Otras referencias'!$L$2:$L$200,0),3))","v":""},{"$f":"IF(M212=\"\",\"\",INDEX(referentes!$S$2:$S$170,MATCH(N212,referentes!$W$2:$W$170,0),1))","v":""},null,null,null,null,null,null,null,null,null,{"$f":"IF(X212=\"\",\"\",INDEX(referentes!$Y$2:$Z$37,MATCH(X212,referentes!$Z$2:$Z$37,0),1))","v":""},"01",null,null,null,"",null,"",null,null,"",null,1,{"$f":"IF(E212<>\"\",CONCATENATE(B212,A212,DIGITADOR!$M$1,AH212),\"\")","v":""},"",null,null,null,null,null,null,null,null,null,null,null,null,null,null,null,null,null,null,"","",{"$f":"IF(BE212=\"\",\"\",INDEX(referentes!$D$2:$E$37,MATCH(BE212,referentes!$D$2:$D$37,0),2))","v":""},null,{"$f":"IF(BI212=\"\",\"\",INDEX(referentes!$J$2:$L$363,MATCH(BI212,referentes!$J$2:$J$363,0),2))","v":""},"",208]
["30000104",{"$f":"DIGITADOR!$B$2","v":""},1,{"$f":"IF(E213<>\"\",CONCATENATE($A$2,DIGITADOR!$M$1,O213,AH213),\"\")","v":""},null,null,"00:00:00",1,null,null,{"$f":"IF(J213<>\"\",VLOOKUP(J213,#REF!,1,FALSE),\"\")","v":""},null,"",{"$f":"IF(M213=\"\",\"\",INDEX('Otras referencias'!$L$2:$N$200,MATCH(M213,'Otras referencias'!$L$2:$L$200,0),3))","v":""},{"$f":"IF(M213=\"\",\"\",INDEX(referentes!$S$2:$S$170,MATCH(N213,referentes!$W$2:$W$170,0),1))","v":""},null,null,null,null,null,null,null,null,null,{"$f":"IF(X213=\"\",\"\",INDEX(referentes!$Y$2:$Z$37,MATCH(X213,referentes!$Z$2:$Z$37,0),1))","v":""},"01",null,null,null,"",null,"",null,null,"",null,1,{"$f":"IF(E213<>\"\",CONCATENATE(B213,A213,DIGITADOR!$M$1,AH213),\"\")","v":""},"",null,null,null,null,null,null,null,null,null,null,null,null,null,null,null,null,null,null,"","",{"$f":"IF(BE213=\"\",\"\",INDEX(referentes!$D$2:$E$37,MATCH(BE213,referentes!$D$2:$D$37,0),2))","v":""},null,{"$f":"IF(BI213=\"\",\"\",INDEX(referentes!$J$2:$L$363,MATCH(BI213,referentes!$J$2:$J$363,0),2))","v":""},"",209]
["30000104",{"$f":"DIGITADOR!$B$2","v":""},1,{"$f":"IF(E214<>\"\",CONCATENATE($A$2,DIGITADOR!$M$1,O214,AH214),\"\")","v":""},null,null,"00:00:00",1,null,null,{"$f":"IF(J214<>\"\",VLOOKUP(J214,#REF!,1,FALSE),\"\")","v":""},null,"",{"$f":"IF(M214=\"\",\"\",INDEX('Otras referencias'!$L$2:$N$200,MATCH(M214,'Otras referencias'!$L$2:$L$200,0),3))","v":""},{"$f":"IF(M214=\"\",\"\",INDEX(referentes!$S$2:$S$170,MATCH(N214,referentes!$W$2:$W$170,0),1))","v":""},null,null,null,null,null,null,null,null,null,{"$f":"IF(X214=\"\",\"\",INDEX(referentes!$Y$2:$Z$37,MATCH(X214,referentes!$Z$2:$Z$37,0),1))","v":""},"01",null,null,null,"",null,"",null,null,"",null,1,{"$f":"IF(E214<>\"\",CONCATENATE(B214,A214,DIGITADOR!$M$1,AH214),\"\")","v":""},"",null,null,null,null,null,null,null,null,null,null,null,null,null,null,null,null,null,null,"","",{"$f":"IF(BE214=\"\",\"\",INDEX(referentes!$D$2:$E$37,MATCH(BE214,referentes!$D$2:$D$37,0),2))","v":""},null,{"$f":"IF(BI214=\"\",\"\",INDEX(referentes!$J$2:$L$363,MATCH(BI214,referentes!$J$2:$J$363,0),2))","v":""},"",210]
["30000104",{"$f":"DIGITADOR!$B$2","v":""},1,{"$f":"IF(E215<>\"\",CONCATENATE($A$2,DIGITADOR!$M$1,O215,AH215),\"\")","v":""},null,null,"00:00:00",1,null,null,{"$f":"IF(J215<>\"\",VLOOKUP(J215,#REF!,1,FALSE),\"\")","v":""},null,"",{"$f":"IF(M215=\"\",\"\",INDEX('Otras referencias'!$L$2:$N$200,MATCH(M215,'Otras referencias'!$L$2:$L$200,0),3))","v":""},{"$f":"IF(M215=\"\",\"\",INDEX(referentes!$S$2:$S$170,MATCH(N215,referentes!$W$2:$W$170,0),1))","v":""},null,null,null,null,null,null,null,null,null,{"$f":"IF(X215=\"\",\"\",INDEX(referentes!$Y$2:$Z$37,MATCH(X215,referentes!$Z$2:$Z$37,0),1))","v":""},"01",null,null,null,"",null,"",null,null,"",null,1,{"$f":"IF(E215<>\"\",CONCATENATE(B215,A215,DIGITADOR!$M$1,AH215),\"\")","v":""},"",null,null,null,null,null,null,null,null,null,null,null,null,null,null,null,null,null,null,"","",{"$f":"IF(BE215=\"\",\"\",INDEX(referentes!$D$2:$E$37,MATCH(BE215,referentes!$D$2:$D$37,0),2))","v":""},null,{"$f":"IF(BI215=\"\",\"\",INDEX(referentes!$J$2:$L$363,MATCH(BI215,referentes!$J$2:$J$363,0),2))","v":""},"",211]
["30000104",{"$f":"DIGITADOR!$B$2","v":""},1,{"$f":"IF(E216<>\"\",CONCATENATE($A$2,DIGITADOR!$M$1,O216,AH216),\"\")","v":""},null,null,"00:00:00",1,null,null,{"$f":"IF(J216<>\"\",VLOOKUP(J216,#REF!,1,FALSE),\"\")","v":""},null,"",{"$f":"IF(M216=\"\",\"\",INDEX('Otras referencias'!$L$2:$N$200,MATCH(M216,'Otras referencias'!$L$2:$L$200,0),3))","v":""},{"$f":"IF(M216=\"\",\"\",INDEX(referentes!$S$2:$S$170,MATCH(N216,referentes!$W$2:$W$170,0),1))","v":""},null,null,null,null,null,null,null,null,null,{"$f":"IF(X216=\"\",\"\",INDEX(referentes!$Y$2:$Z$37,MATCH(X216,referentes!$Z$2:$Z$37,0),1))","v":""},"01",null,null,null,"",null,"",null,null,"",null,1,{"$f":"IF(E216<>\"\",CONCATENATE(B216,A216,DIGITADOR!$M$1,AH216),\"\")","v":""},"",null,null,null,null,null,null,null,null,null,null,null,null,null,null,null,null,null,null,"","",{"$f":"IF(BE216=\"\",\"\",INDEX(referentes!$D$2:$E$37,MATCH(BE216,referentes!$D$2:$D$37,0),2))","v":""},null,{"$f":"IF(BI216=\"\",\"\",INDEX(referentes!$J$2:$L$363,MATCH(BI216,referentes!$J$2:$J$363,0),2))","v":""},"",212]
["30000104",{"$f":"DIGITADOR!$B$2","v":""},1,{"$f":"IF(E217<>\"\",CONCATENATE($A$2,DIGITADOR!$M$1,O217,AH217),\"\")","v":""},null,null,"00:00:00",1,null,null,{"$f":"IF(J217<>\"\",VLOOKUP(J217,#REF!,1,FALSE),\"\")","v":""},null,"",{"$f":"IF(M217=\"\",\"\",INDEX('Otras referencias'!$L$2:$N$200,MATCH(M217,'Otras referencias'!$L$2:$L$200,0),3))","v":""},{"$f":"IF(M217=\"\",\"\",INDEX(referentes!$S$2:$S$170,MATCH(N217,referentes!$W$2:$W$170,0),1))","v":""},null,null,null,null,null,null,null,null,null,{"$f":"IF(X217=\"\",\"\",INDEX(referentes!$Y$2:$Z$37,MATCH(X217,referentes!$Z$2:$Z$37,0),1))","v":""},"01",null,null,null,"",null,"",null,null,"",null,1,{"$f":"IF(E217<>\"\",CONCATENATE(B217,A217,DIGITADOR!$M$1,AH217),\"\")","v":""},"",null,null,null,null,null,null,null,null,null,null,null,null,null,null,null,null,null,null,"","",{"$f":"IF(BE217=\"\",\"\",INDEX(referentes!$D$2:$E$37,MATCH(BE217,referentes!$D$2:$D$37,0),2))","v":""},null,{"$f":"IF(BI217=\"\",\"\",INDEX(referentes!$J$2:$L$363,MATCH(BI217,referentes!$J$2:$J$363,0),2))","v":""},"",213]
["30000104",{"$f":"DIGITADOR!$B$2","v":""},1,{"$f":"IF(E218<>\"\",CONCATENATE($A$2,DIGITADOR!$M$1,O218,AH218),\"\")","v":""},null,null,"00:00:00",1,null,null,{"$f":"IF(J218<>\"\",VLOOKUP(J218,#REF!,1,FALSE),\"\")","v":""},null,"",{"$f":"IF(M218=\"\",\"\",INDEX('Otras referencias'!$L$2:$N$200,MATCH(M218,'Otras referencias'!$L$2:$L$200,0),3))","v":""},{"$f":"IF(M218=\"\",\"\",INDEX(referentes!$S$2:$S$170,MATCH(N218,referentes!$W$2:$W$170,0),1))","v":""},null,null,null,null,null,null,null,null,null,{"$f":"IF(X218=\"\",\"\",INDEX(referentes!$Y$2:$Z$37,MATCH(X218,referentes!$Z$2:$Z$37,0),1))","v":""},"01",null,null,null,"",null,"",null,null,"",null,1,{"$f":"IF(E218<>\"\",CONCATENATE(B218,A218,DIGITADOR!$M$1,AH218),\"\")","v":""},"",null,null,null,null,null,null,null,null,null,null,null,null,null,null,null,null,null,null,"","",{"$f":"IF(BE218=\"\",\"\",INDEX(referentes!$D$2:$E$37,MATCH(BE218,referentes!$D$2:$D$37,0),2))","v":""},null,{"$f":"IF(BI218=\"\",\"\",INDEX(referentes!$J$2:$L$363,MATCH(BI218,referentes!$J$2:$J$363,0),2))","v":""},"",214]
["30000104",{"$f":"DIGITADOR!$B$2","v":""},1,{"$f":"IF(E219<>\"\",CONCATENATE($A$2,DIGITADOR!$M$1,O219,AH219),\"\")","v":""},null,null,"00:00:00",1,null,null,{"$f":"IF(J219<>\"\",VLOOKUP(J219,#REF!,1,FALSE),\"\")","v":""},null,"",{"$f":"IF(M219=\"\",\"\",INDEX('Otras referencias'!$L$2:$N$200,MATCH(M219,'Otras referencias'!$L$2:$L$200,0),3))","v":""},{"$f":"IF(M219=\"\",\"\",INDEX(referentes!$S$2:$S$170,MATCH(N219,referentes!$W$2:$W$170,0),1))","v":""},null,null,null,null,null,null,null,null,null,{"$f":"IF(X219=\"\",\"\",INDEX(referentes!$Y$2:$Z$37,MATCH(X219,referentes!$Z$2:$Z$37,0),1))","v":""},"01",null,null,null,"",null,"",null,null,"",null,1,{"$f":"IF(E219<>\"\",CONCATENATE(B219,A219,DIGITADOR!$M$1,AH219),\"\")","v":""},"",null,null,null,null,null,null,null,null,null,null,null,null,null,null,null,null,null,null,"","",{"$f":"IF(BE219=\"\",\"\",INDEX(referentes!$D$2:$E$37,MATCH(BE219,referentes!$D$2:$D$37,0),2))","v":""},null,{"$f":"IF(BI219=\"\",\"\",INDEX(referentes!$J$2:$L$363,MATCH(BI219,referentes!$J$2:$J$363,0),2))","v":""},"",215]
["30000104",{"$f":"DIGITADOR!$B$2","v":""},1,{"$f":"IF(E220<>\"\",CONCATENATE($A$2,DIGITADOR!$M$1,O220,AH220),\"\")","v":""},null,null,"00:00:00",1,null,null,{"$f":"IF(J220<>\"\",VLOOKUP(J220,#REF!,1,FALSE),\"\")","v":""},null,"",{"$f":"IF(M220=\"\",\"\",INDEX('Otras referencias'!$L$2:$N$200,MATCH(M220,'Otras referencias'!$L$2:$L$200,0),3))","v":""},{"$f":"IF(M220=\"\",\"\",INDEX(referentes!$S$2:$S$170,MATCH(N220,referentes!$W$2:$W$170,0),1))","v":""},null,null,null,null,null,null,null,null,null,{"$f":"IF(X220=\"\",\"\",INDEX(referentes!$Y$2:$Z$37,MATCH(X220,referentes!$Z$2:$Z$37,0),1))","v":""},"01",null,null,null,"",null,"",null,null,"",null,1,{"$f":"IF(E220<>\"\",CONCATENATE(B220,A220,DIGITADOR!$M$1,AH220),\"\")","v":""},"",null,null,null,null,null,null,null,null,null,null,null,null,null,null,null,null,null,null,"","",{"$f":"IF(BE220=\"\",\"\",INDEX(referentes!$D$2:$E$37,MATCH(BE220,referentes!$D$2:$D$37,0),2))","v":""},null,{"$f":"IF(BI220=\"\",\"\",INDEX(referentes!$J$2:$L$363,MATCH(BI220,referentes!$J$2:$J$363,0),2))","v":""},"",216]
["30000104",{"$f":"DIGITADOR!$B$2","v":""},1,{"$f":"IF(E221<>\"\",CONCATENATE($A$2,DIGITADOR!$M$1,O221,AH221),\"\")","v":""},null,null,"00:00:00",1,null,null,{"$f":"IF(J221<>\"\",VLOOKUP(J221,#REF!,1,FALSE),\"\")","v":""},null,"",{"$f":"IF(M221=\"\",\"\",INDEX('Otras referencias'!$L$2:$N$200,MATCH(M221,'Otras referencias'!$L$2:$L$200,0),3))","v":""},{"$f":"IF(M221=\"\",\"\",INDEX(referentes!$S$2:$S$170,MATCH(N221,referentes!$W$2:$W$170,0),1))","v":""},null,null,null,null,null,null,null,null,null,{"$f":"IF(X221=\"\",\"\",INDEX(referentes!$Y$2:$Z$37,MATCH(X221,referentes!$Z$2:$Z$37,0),1))","v":""},"01",null,null,null,"",null,"",null,null,"",null,1,{"$f":"IF(E221<>\"\",CONCATENATE(B221,A221,DIGITADOR!$M$1,AH221),\"\")","v":""},"",null,null,null,null,null,null,null,null,null,null,null,null,null,null,null,null,null,null,"","",{"$f":"IF(BE221=\"\",\"\",INDEX(referentes!$D$2:$E$37,MATCH(BE221,referentes!$D$2:$D$37,0),2))","v":""},null,{"$f":"IF(BI221=\"\",\"\",INDEX(referentes!$J$2:$L$363,MATCH(BI221,referentes!$J$2:$J$363,0),2))","v":""},"",217]
["30000104",{"$f":"DIGITADOR!$B$2","v":""},1,{"$f":"IF(E222<>\"\",CONCATENATE($A$2,DIGITADOR!$M$1,O222,AH222),\"\")","v":""},null,null,"00:00:00",1,null,null,{"$f":"IF(J222<>\"\",VLOOKUP(J222,#REF!,1,FALSE),\"\")","v":""},null,"",{"$f":"IF(M222=\"\",\"\",INDEX('Otras referencias'!$L$2:$N$200,MATCH(M222,'Otras referencias'!$L$2:$L$200,0),3))","v":""},{"$f":"IF(M222=\"\",\"\",INDEX(referentes!$S$2:$S$170,MATCH(N222,referentes!$W$2:$W$170,0),1))","v":""},null,null,null,null,null,null,null,null,null,{"$f":"IF(X222=\"\",\"\",INDEX(referentes!$Y$2:$Z$37,MATCH(X222,referentes!$Z$2:$Z$37,0),1))","v":""},"01",null,null,null,"",null,"",null,null,"",null,1,{"$f":"IF(E222<>\"\",CONCATENATE(B222,A222,DIGITADOR!$M$1,AH222),\"\")","v":""},"",null,null,null,null,null,null,null,null,null,null,null,null,null,null,null,null,null,null,"","",{"$f":"IF(BE222=\"\",\"\",INDEX(referentes!$D$2:$E$37,MATCH(BE222,referentes!$D$2:$D$37,0),2))","v":""},null,{"$f":"IF(BI222=\"\",\"\",INDEX(referentes!$J$2:$L$363,MATCH(BI222,referentes!$J$2:$J$363,0),2))","v":""},"",218]
["30000104",{"$f":"DIGITADOR!$B$2","v":""},1,{"$f":"IF(E223<>\"\",CONCATENATE($A$2,DIGITADOR!$M$1,O223,AH223),\"\")","v":""},null,null,"00:00:00",1,null,null,{"$f":"IF(J223<>\"\",VLOOKUP(J223,#REF!,1,FALSE),\"\")","v":""},null,"",{"$f":"IF(M223=\"\",\"\",INDEX('Otras referencias'!$L$2:$N$200,MATCH(M223,'Otras referencias'!$L$2:$L$200,0),3))","v":""},{"$f":"IF(M223=\"\",\"\",INDEX(referentes!$S$2:$S$170,MATCH(N223,referentes!$W$2:$W$170,0),1))","v":""},null,null,null,null,null,null,null,null,null,{"$f":"IF(X223=\"\",\"\",INDEX(referentes!$Y$2:$Z$37,MATCH(X223,referentes!$Z$2:$Z$37,0),1))","v":""},"01",null,null,null,"",null,"",null,null,"",null,1,{"$f":"IF(E223<>\"\",CONCATENATE(B223,A223,DIGITADOR!$M$1,AH223),\"\")","v":""},"",null,null,null,null,null,null,null,null,null,null,null,null,null,null,null,null,null,null,"","",{"$f":"IF(BE223=\"\",\"\",INDEX(referentes!$D$2:$E$37,MATCH(BE223,referentes!$D$2:$D$37,0),2))","v":""},null,{"$f":"IF(BI223=\"\",\"\",INDEX(referentes!$J$2:$L$363,MATCH(BI223,referentes!$J$2:$J$363,0),2))","v":""},"",219]
["30000104",{"$f":"DIGITADOR!$B$2","v":""},1,{"$f":"IF(E224<>\"\",CONCATENATE($A$2,DIGITADOR!$M$1,O224,AH224),\"\")","v":""},null,null,"00:00:00",1,null,null,{"$f":"IF(J224<>\"\",VLOOKUP(J224,#REF!,1,FALSE),\"\")","v":""},null,"",{"$f":"IF(M224=\"\",\"\",INDEX('Otras referencias'!$L$2:$N$200,MATCH(M224,'Otras referencias'!$L$2:$L$200,0),3))","v":""},{"$f":"IF(M224=\"\",\"\",INDEX(referentes!$S$2:$S$170,MATCH(N224,referentes!$W$2:$W$170,0),1))","v":""},null,null,null,null,null,null,null,null,null,{"$f":"IF(X224=\"\",\"\",INDEX(referentes!$Y$2:$Z$37,MATCH(X224,referentes!$Z$2:$Z$37,0),1))","v":""},"01",null,null,null,"",null,"",null,null,"",null,1,{"$f":"IF(E224<>\"\",CONCATENATE(B224,A224,DIGITADOR!$M$1,AH224),\"\")","v":""},"",null,null,null,null,null,null,null,null,null,null,null,null,null,null,null,null,null,null,"","",{"$f":"IF(BE224=\"\",\"\",INDEX(referentes!$D$2:$E$37,MATCH(BE224,referentes!$D$2:$D$37,0),2))","v":""},null,{"$f":"IF(BI224=\"\",\"\",INDEX(referentes!$J$2:$L$363,MATCH(BI224,referentes!$J$2:$J$363,0),2))","v":""},"",220]
["30000104",{"$f":"DIGITADOR!$B$2","v":""},1,{"$f":"IF(E225<>\"\",CONCATENATE($A$2,DIGITADOR!$M$1,O225,AH225),\"\")","v":""},null,null,"00:00:00",1,null,null,{"$f":"IF(J225<>\"\",VLOOKUP(J225,#REF!,1,FALSE),\"\")","v":""},null,"",{"$f":"IF(M225=\"\",\"\",INDEX('Otras referencias'!$L$2:$N$200,MATCH(M225,'Otras referencias'!$L$2:$L$200,0),3))","v":""},{"$f":"IF(M225=\"\",\"\",INDEX(referentes!$S$2:$S$170,MATCH(N225,referentes!$W$2:$W$170,0),1))","v":""},null,null,null,null,null,null,null,null,null,{"$f":"IF(X225=\"\",\"\",INDEX(referentes!$Y$2:$Z$37,MATCH(X225,referentes!$Z$2:$Z$37,0),1))","v":""},"01",null,null,null,"",null,"",null,null,"",null,1,{"$f":"IF(E225<>\"\",CONCATENATE(B225,A225,DIGITADOR!$M$1,AH225),\"\")","v":""},"",null,null,null,null,null,null,null,null,null,null,null,null,null,null,null,null,null,null,"","",{"$f":"IF(BE225=\"\",\"\",INDEX(referentes!$D$2:$E$37,MATCH(BE225,referentes!$D$2:$D$37,0),2))","v":""},null,{"$f":"IF(BI225=\"\",\"\",INDEX(referentes!$J$2:$L$363,MATCH(BI225,referentes!$J$2:$J$363,0),2))","v":""},"",221]
["30000104",{"$f":"DIGITADOR!$B$2","v":""},1,{"$f":"IF(E226<>\"\",CONCATENATE($A$2,DIGITADOR!$M$1,O226,AH226),\"\")","v":""},null,null,"00:00:00",1,null,null,{"$f":"IF(J226<>\"\",VLOOKUP(J226,#REF!,1,FALSE),\"\")","v":""},null,"",{"$f":"IF(M226=\"\",\"\",INDEX('Otras referencias'!$L$2:$N$200,MATCH(M226,'Otras referencias'!$L$2:$L$200,0),3))","v":""},{"$f":"IF(M226=\"\",\"\",INDEX(referentes!$S$2:$S$170,MATCH(N226,referentes!$W$2:$W$170,0),1))","v":""},null,null,null,null,null,null,null,null,null,{"$f":"IF(X226=\"\",\"\",INDEX(referentes!$Y$2:$Z$37,MATCH(X226,referentes!$Z$2:$Z$37,0),1))","v":""},"01",null,null,null,"",null,"",null,null,"",null,1,{"$f":"IF(E226<>\"\",CONCATENATE(B226,A226,DIGITADOR!$M$1,AH226),\"\")","v":""},"",null,null,null,null,null,null,null,null,null,null,null,null,null,null,null,null,null,null,"","",{"$f":"IF(BE226=\"\",\"\",INDEX(referentes!$D$2:$E$37,MATCH(BE226,referentes!$D$2:$D$37,0),2))","v":""},null,{"$f":"IF(BI226=\"\",\"\",INDEX(referentes!$J$2:$L$363,MATCH(BI226,referentes!$J$2:$J$363,0),2))","v":""},"",222]
["30000104",{"$f":"DIGITADOR!$B$2","v":""},1,{"$f":"IF(E227<>\"\",CONCATENATE($A$2,DIGITADOR!$M$1,O227,AH227),\"\")","v":""},null,null,"00:00:00",1,null,null,{"$f":"IF(J227<>\"\",VLOOKUP(J227,#REF!,1,FALSE),\"\")","v":""},null,"",{"$f":"IF(M227=\"\",\"\",INDEX('Otras referencias'!$L$2:$N$200,MATCH(M227,'Otras referencias'!$L$2:$L$200,0),3))","v":""},{"$f":"IF(M227=\"\",\"\",INDEX(referentes!$S$2:$S$170,MATCH(N227,referentes!$W$2:$W$170,0),1))","v":""},null,null,null,null,null,null,null,null,null,{"$f":"IF(X227=\"\",\"\",INDEX(referentes!$Y$2:$Z$37,MATCH(X227,referentes!$Z$2:$Z$37,0),1))","v":""},"01",null,null,null,"",null,"",null,null,"",null,1,{"$f":"IF(E227<>\"\",CONCATENATE(B227,A227,DIGITADOR!$M$1,AH227),\"\")","v":""},"",null,null,null,null,null,null,null,null,null,null,null,null,null,null,null,null,null,null,"","",{"$f":"IF(BE227=\"\",\"\",INDEX(referentes!$D$2:$E$37,MATCH(BE227,referentes!$D$2:$D$37,0),2))","v":""},null,{"$f":"IF(BI227=\"\",\"\",INDEX(referentes!$J$2:$L$363,MATCH(BI227,referentes!$J$2:$J$363,0),2))","v":""},"",223]
["30000104",{"$f":"DIGITADOR!$B$2","v":""},1,{"$f":"IF(E228<>\"\",CONCATENATE($A$2,DIGITADOR!$M$1,O228,AH228),\"\")","v":""},null,null,"00:00:00",1,null,null,{"$f":"IF(J228<>\"\",VLOOKUP(J228,#REF!,1,FALSE),\"\")","v":""},null,"",{"$f":"IF(M228=\"\",\"\",INDEX('Otras referencias'!$L$2:$N$200,MATCH(M228,'Otras referencias'!$L$2:$L$200,0),3))","v":""},{"$f":"IF(M228=\"\",\"\",INDEX(referentes!$S$2:$S$170,MATCH(N228,referentes!$W$2:$W$170,0),1))","v":""},null,null,null,null,null,null,null,null,null,{"$f":"IF(X228=\"\",\"\",INDEX(referentes!$Y$2:$Z$37,MATCH(X228,referentes!$Z$2:$Z$37,0),1))","v":""},"01",null,null,null,"",null,"",null,null,"",null,1,{"$f":"IF(E228<>\"\",CONCATENATE(B228,A228,DIGITADOR!$M$1,AH228),\"\")","v":""},"",null,null,null,null,null,null,null,null,null,null,null,null,null,null,null,null,null,null,"","",{"$f":"IF(BE228=\"\",\"\",INDEX(referentes!$D$2:$E$37,MATCH(BE228,referentes!$D$2:$D$37,0),2))","v":""},null,{"$f":"IF(BI228=\"\",\"\",INDEX(referentes!$J$2:$L$363,MATCH(BI228,referentes!$J$2:$J$363,0),2))","v":""},"",224]
["30000104",{"$f":"DIGITADOR!$B$2","v":""},1,{"$f":"IF(E229<>\"\",CONCATENATE($A$2,DIGITADOR!$M$1,O229,AH229),\"\")","v":""},null,null,"00:00:00",1,null,null,{"$f":"IF(J229<>\"\",VLOOKUP(J229,#REF!,1,FALSE),\"\")","v":""},null,"",{"$f":"IF(M229=\"\",\"\",INDEX('Otras referencias'!$L$2:$N$200,MATCH(M229,'Otras referencias'!$L$2:$L$200,0),3))","v":""},{"$f":"IF(M229=\"\",\"\",INDEX(referentes!$S$2:$S$170,MATCH(N229,referentes!$W$2:$W$170,0),1))","v":""},null,null,null,null,null,null,null,null,null,{"$f":"IF(X229=\"\",\"\",INDEX(referentes!$Y$2:$Z$37,MATCH(X229,referentes!$Z$2:$Z$37,0),1))","v":""},"01",null,null,null,"",null,"",null,null,"",null,1,{"$f":"IF(E229<>\"\",CONCATENATE(B229,A229,DIGITADOR!$M$1,AH229),\"\")","v":""},"",null,null,null,null,null,null,null,null,null,null,null,null,null,null,null,null,null,null,"","",{"$f":"IF(BE229=\"\",\"\",INDEX(referentes!$D$2:$E$37,MATCH(BE229,referentes!$D$2:$D$37,0),2))","v":""},null,{"$f":"IF(BI229=\"\",\"\",INDEX(referentes!$J$2:$L$363,MATCH(BI229,referentes!$J$2:$J$363,0),2))","v":""},"",225]
["30000104",{"$f":"DIGITADOR!$B$2","v":""},1,{"$f":"IF(E230<>\"\",CONCATENATE($A$2,DIGITADOR!$M$1,O230,AH230),\"\")","v":""},null,null,"00:00:00",1,null,null,{"$f":"IF(J230<>\"\",VLOOKUP(J230,#REF!,1,FALSE),\"\")","v":""},null,"",{"$f":"IF(M230=\"\",\"\",INDEX('Otras referencias'!$L$2:$N$200,MATCH(M230,'Otras referencias'!$L$2:$L$200,0),3))","v":""},{"$f":"IF(M230=\"\",\"\",INDEX(referentes!$S$2:$S$170,MATCH(N230,referentes!$W$2:$W$170,0),1))","v":""},null,null,null,null,null,null,null,null,null,{"$f":"IF(X230=\"\",\"\",INDEX(referentes!$Y$2:$Z$37,MATCH(X230,referentes!$Z$2:$Z$37,0),1))","v":""},"01",null,null,null,"",null,"",null,null,"",null,1,{"$f":"IF(E230<>\"\",CONCATENATE(B230,A230,DIGITADOR!$M$1,AH230),\"\")","v":""},"",null,null,null,null,null,null,null,null,null,null,null,null,null,null,null,null,null,null,"","",{"$f":"IF(BE230=\"\",\"\",INDEX(referentes!$D$2:$E$37,MATCH(BE230,referentes!$D$2:$D$37,0),2))","v":""},null,{"$f":"IF(BI230=\"\",\"\",INDEX(referentes!$J$2:$L$363,MATCH(BI230,referentes!$J$2:$J$363,0),2))","v":""},"",226]
["30000104",{"$f":"DIGITADOR!$B$2","v":""},1,{"$f":"IF(E231<>\"\",CONCATENATE($A$2,DIGITADOR!$M$1,O231,AH231),\"\")","v":""},null,null,"00:00:00",1,null,null,{"$f":"IF(J231<>\"\",VLOOKUP(J231,#REF!,1,FALSE),\"\")","v":""},null,"",{"$f":"IF(M231=\"\",\"\",INDEX('Otras referencias'!$L$2:$N$200,MATCH(M231,'Otras referencias'!$L$2:$L$200,0),3))","v":""},{"$f":"IF(M231=\"\",\"\",INDEX(referentes!$S$2:$S$170,MATCH(N231,referentes!$W$2:$W$170,0),1))","v":""},null,null,null,null,null,null,null,null,null,{"$f":"IF(X231=\"\",\"\",INDEX(referentes!$Y$2:$Z$37,MATCH(X231,referentes!$Z$2:$Z$37,0),1))","v":""},"01",null,null,null,"",null,"",null,null,"",null,1,{"$f":"IF(E231<>\"\",CONCATENATE(B231,A231,DIGITADOR!$M$1,AH231),\"\")","v":""},"",null,null,null,null,null,null,null,null,null,null,null,null,null,null,null,null,null,null,"","",{"$f":"IF(BE231=\"\",\"\",INDEX(referentes!$D$2:$E$37,MATCH(BE231,referentes!$D$2:$D$37,0),2))","v":""},null,{"$f":"IF(BI231=\"\",\"\",INDEX(referentes!$J$2:$L$363,MATCH(BI231,referentes!$J$2:$J$363,0),2))","v":""},"",227]
["30000104",{"$f":"DIGITADOR!$B$2","v":""},1,{"$f":"IF(E232<>\"\",CONCATENATE($A$2,DIGITADOR!$M$1,O232,AH232),\"\")","v":""},null,null,"00:00:00",1,null,null,{"$f":"IF(J232<>\"\",VLOOKUP(J232,#REF!,1,FALSE),\"\")","v":""},null,"",{"$f":"IF(M232=\"\",\"\",INDEX('Otras referencias'!$L$2:$N$200,MATCH(M232,'Otras referencias'!$L$2:$L$200,0),3))","v":""},{"$f":"IF(M232=\"\",\"\",INDEX(referentes!$S$2:$S$170,MATCH(N232,referentes!$W$2:$W$170,0),1))","v":""},null,null,null,null,null,null,null,null,null,{"$f":"IF(X232=\"\",\"\",INDEX(referentes!$Y$2:$Z$37,MATCH(X232,referentes!$Z$2:$Z$37,0),1))","v":""},"01",null,null,null,"",null,"",null,null,"",null,1,{"$f":"IF(E232<>\"\",CONCATENATE(B232,A232,DIGITADOR!$M$1,AH232),\"\")","v":""},"",null,null,null,null,null,null,null,null,null,null,null,null,null,null,null,null,null,null,"","",{"$f":"IF(BE232=\"\",\"\",INDEX(referentes!$D$2:$E$37,MATCH(BE232,referentes!$D$2:$D$37,0),2))","v":""},null,{"$f":"IF(BI232=\"\",\"\",INDEX(referentes!$J$2:$L$363,MATCH(BI232,referentes!$J$2:$J$363,0),2))","v":""},"",228]
["30000104",{"$f":"DIGITADOR!$B$2","v":""},1,{"$f":"IF(E233<>\"\",CONCATENATE($A$2,DIGITADOR!$M$1,O233,AH233),\"\")","v":""},null,null,{"$f":"E233+F233","v":"00:00:00"},{"$f":"IF(G233<>\"\",MONTH(G233),\"\")","v":1},null,null,{"$f":"IF(J233<>\"\",VLOOKUP(J233,#REF!,1,FALSE),\"\")","v":""},null,{"$f":"IF(L233<>\"\",CONCATENATE(J233,L233),\"\")","v":""},{"$f":"IF(M233=\"\",\"\",INDEX('Otras referencias'!$L$2:$N$200,MATCH(M233,'Otras referencias'!$L$2:$L$200,0),3))","v":""},{"$f":"IF(M233=\"\",\"\",INDEX(referentes!$S$2:$S$170,MATCH(N233,referentes!$W$2:$W$170,0),1))","v":""},null,null,null,null,null,null,null,null,null,{"$f":"IF(X233=\"\",\"\",INDEX(referentes!$Y$2:$Z$37,MATCH(X233,referentes!$Z$2:$Z$37,0),1))","v":""},"01",null,null,null,"",null,"",null,null,"",null,1,{"$f":"IF(E233<>\"\",CONCATENATE(B233,A233,DIGITADOR!$M$1,AH233),\"\")","v":""},"",null,null,null,null,null,null,null,null,null,null,null,null,null,null,null,null,null,null,"","",{"$f":"IF(BE233=\"\",\"\",INDEX(referentes!$D$2:$E$37,MATCH(BE233,referentes!$D$2:$D$37,0),2))","v":""},null,{"$f":"IF(BI233=\"\",\"\",INDEX(referentes!$J$2:$L$363,MATCH(BI233,referentes!$J$2:$J$363,0),2))","v":""},"",229]
["30000104",{"$f":"DIGITADOR!$B$2","v":""},1,{"$f":"IF(E234<>\"\",CONCATENATE($A$2,DIGITADOR!$M$1,O234,AH234),\"\")","v":""},null,null,"00:00:00",1,null,null,{"$f":"IF(J234<>\"\",VLOOKUP(J234,#REF!,1,FALSE),\"\")","v":""},null,"",{"$f":"IF(M234=\"\",\"\",INDEX('Otras referencias'!$L$2:$N$200,MATCH(M234,'Otras referencias'!$L$2:$L$200,0),3))","v":""},{"$f":"IF(M234=\"\",\"\",INDEX(referentes!$S$2:$S$170,MATCH(N234,referentes!$W$2:$W$170,0),1))","v":""},null,null,null,null,null,null,null,null,null,{"$f":"IF(X234=\"\",\"\",INDEX(referentes!$Y$2:$Z$37,MATCH(X234,referentes!$Z$2:$Z$37,0),1))","v":""},"01",null,null,null,"",null,"",null,null,"",null,1,{"$f":"IF(E234<>\"\",CONCATENATE(B234,A234,DIGITADOR!$M$1,AH234),\"\")","v":""},"",null,null,null,null,null,null,null,null,null,null,null,null,null,null,null,null,null,null,"","",{"$f":"IF(BE234=\"\",\"\",INDEX(referentes!$D$2:$E$37,MATCH(BE234,referentes!$D$2:$D$37,0),2))","v":""},null,{"$f":"IF(BI234=\"\",\"\",INDEX(referentes!$J$2:$L$363,MATCH(BI234,referentes!$J$2:$J$363,0),2))","v":""},"",230]
["30000104",{"$f":"DIGITADOR!$B$2","v":""},1,{"$f":"IF(E235<>\"\",CONCATENATE($A$2,DIGITADOR!$M$1,O235,AH235),\"\")","v":""},null,null,"00:00:00",1,null,null,{"$f":"IF(J235<>\"\",VLOOKUP(J235,#REF!,1,FALSE),\"\")","v":""},null,"",{"$f":"IF(M235=\"\",\"\",INDEX('Otras referencias'!$L$2:$N$200,MATCH(M235,'Otras referencias'!$L$2:$L$200,0),3))","v":""},{"$f":"IF(M235=\"\",\"\",INDEX(referentes!$S$2:$S$170,MATCH(N235,referentes!$W$2:$W$170,0),1))","v":""},null,null,null,null,null,null,null,null,null,{"$f":"IF(X235=\"\",\"\",INDEX(referentes!$Y$2:$Z$37,MATCH(X235,referentes!$Z$2:$Z$37,0),1))","v":""},"01",null,null,null,"",null,"",null,null,"",null,1,{"$f":"IF(E235<>\"\",CONCATENATE(B235,A235,DIGITADOR!$M$1,AH235),\"\")","v":""},"",null,null,null,null,null,null,null,null,null,null,null,null,null,null,null,null,null,null,"","",{"$f":"IF(BE235=\"\",\"\",INDEX(referentes!$D$2:$E$37,MATCH(BE235,referentes!$D$2:$D$37,0),2))","v":""},null,{"$f":"IF(BI235=\"\",\"\",INDEX(referentes!$J$2:$L$363,MATCH(BI235,referentes!$J$2:$J$363,0),2))","v":""},"",231]
["30000104",{"$f":"DIGITADOR!$B$2","v":""},1,{"$f":"IF(E236<>\"\",CONCATENATE($A$2,DIGITADOR!$M$1,O236,AH236),\"\")","v":""},null,null,"00:00:00",1,null,null,{"$f":"IF(J236<>\"\",VLOOKUP(J236,#REF!,1,FALSE),\"\")","v":""},null,"",{"$f":"IF(M236=\"\",\"\",INDEX('Otras referencias'!$L$2:$N$200,MATCH(M236,'Otras referencias'!$L$2:$L$200,0),3))","v":""},{"$f":"IF(M236=\"\",\"\",INDEX(referentes!$S$2:$S$170,MATCH(N236,referentes!$W$2:$W$170,0),1))","v":""},null,null,null,null,null,null,null,null,null,{"$f":"IF(X236=\"\",\"\",INDEX(referentes!$Y$2:$Z$37,MATCH(X236,referentes!$Z$2:$Z$37,0),1))","v":""},"01",null,null,null,"",null,"",null,null,"",null,1,{"$f":"IF(E236<>\"\",CONCATENATE(B236,A236,DIGITADOR!$M$1,AH236),\"\")","v":""},"",null,null,null,null,null,null,null,null,null,null,null,null,null,null,null,null,null,null,"","",{"$f":"IF(BE236=\"\",\"\",INDEX(referentes!$D$2:$E$37,MATCH(BE236,referentes!$D$2:$D$37,0),2))","v":""},null,{"$f":"IF(BI236=\"\",\"\",INDEX(referentes!$J$2:$L$363,MATCH(BI236,referentes!$J$2:$J$363,0),2))","v":""},"",232]
["30000104",{"$f":"DIGITADOR!$B$2","v":""},1,{"$f":"IF(E237<>\"\",CONCATENATE($A$2,DIGITADOR!$M$1,O237,AH237),\"\")","v":""},null,null,"00:00:00",1,null,null,{"$f":"IF(J237<>\"\",VLOOKUP(J237,#REF!,1,FALSE),\"\")","v":""},null,"",{"$f":"IF(M237=\"\",\"\",INDEX('Otras referencias'!$L$2:$N$200,MATCH(M237,'Otras referencias'!$L$2:$L$200,0),3))","v":""},{"$f":"IF(M237=\"\",\"\",INDEX(referentes!$S$2:$S$170,MATCH(N237,referentes!$W$2:$W$170,0),1))","v":""},null,null,null,null,null,null,null,null,null,{"$f":"IF(X237=\"\",\"\",INDEX(referentes!$Y$2:$Z$37,MATCH(X237,referentes!$Z$2:$Z$37,0),1))","v":""},"01",null,null,null,"",null,"",null,null,"",null,1,{"$f":"IF(E237<>\"\",CONCATENATE(B237,A237,DIGITADOR!$M$1,AH237),\"\")","v":""},"",null,null,null,null,null,null,null,null,null,null,null,null,null,null,null,null,null,null,"","",{"$f":"IF(BE237=\"\",\"\",INDEX(referentes!$D$2:$E$37,MATCH(BE237,referentes!$D$2:$D$37,0),2))","v":""},null,{"$f":"IF(BI237=\"\",\"\",INDEX(referentes!$J$2:$L$363,MATCH(BI237,referentes!$J$2:$J$363,0),2))","v":""},"",233]
["30000104",{"$f":"DIGITADOR!$B$2","v":""},1,{"$f":"IF(E238<>\"\",CONCATENATE($A$2,DIGITADOR!$M$1,O238,AH238),\"\")","v":""},null,null,"00:00:00",1,null,null,{"$f":"IF(J238<>\"\",VLOOKUP(J238,#REF!,1,FALSE),\"\")","v":""},null,"",{"$f":"IF(M238=\"\",\"\",INDEX('Otras referencias'!$L$2:$N$200,MATCH(M238,'Otras referencias'!$L$2:$L$200,0),3))","v":""},{"$f":"IF(M238=\"\",\"\",INDEX(referentes!$S$2:$S$170,MATCH(N238,referentes!$W$2:$W$170,0),1))","v":""},null,null,null,null,null,null,null,null,null,{"$f":"IF(X238=\"\",\"\",INDEX(referentes!$Y$2:$Z$37,MATCH(X238,referentes!$Z$2:$Z$37,0),1))","v":""},"01",null,null,null,"",null,"",null,null,"",null,1,{"$f":"IF(E238<>\"\",CONCATENATE(B238,A238,DIGITADOR!$M$1,AH238),\"\")","v":""},"",null,null,null,null,null,null,null,null,null,null,null,null,null,null,null,null,null,null,"","",{"$f":"IF(BE238=\"\",\"\",INDEX(referentes!$D$2:$E$37,MATCH(BE238,referentes!$D$2:$D$37,0),2))","v":""},null,{"$f":"IF(BI238=\"\",\"\",INDEX(referentes!$J$2:$L$363,MATCH(BI238,referentes!$J$2:$J$363,0),2))","v":""},"",234]
["30000104",{"$f":"DIGITADOR!$B$2","v":""},1,{"$f":"IF(E239<>\"\",CONCATENATE($A$2,DIGITADOR!$M$1,O239,AH239),\"\")","v":""},null,null,"00:00:00",1,null,null,{"$f":"IF(J239<>\"\",VLOOKUP(J239,#REF!,1,FALSE),\"\")","v":""},null,"",{"$f":"IF(M239=\"\",\"\",INDEX('Otras referencias'!$L$2:$N$200,MATCH(M239,'Otras referencias'!$L$2:$L$200,0),3))","v":""},{"$f":"IF(M239=\"\",\"\",INDEX(referentes!$S$2:$S$170,MATCH(N239,referentes!$W$2:$W$170,0),1))","v":""},null,null,null,null,null,null,null,null,null,{"$f":"IF(X239=\"\",\"\",INDEX(referentes!$Y$2:$Z$37,MATCH(X239,referentes!$Z$2:$Z$37,0),1))","v":""},"01",null,null,null,"",null,"",null,null,"",null,1,{"$f":"IF(E239<>\"\",CONCATENATE(B239,A239,DIGITADOR!$M$1,AH239),\"\")","v":""},"",null,null,null,null,null,null,null,null,null,null,null,null,null,null,null,null,null,null,"","",{"$f":"IF(BE239=\"\",\"\",INDEX(referentes!$D$2:$E$37,MATCH(BE239,referentes!$D$2:$D$37,0),2))","v":""},null,{"$f":"IF(BI239=\"\",\"\",INDEX(referentes!$J$2:$L$363,MATCH(BI239,referentes!$J$2:$J$363,0),2))","v":""},"",235]
["30000104",{"$f":"DIGITADOR!$B$2","v":""},1,{"$f":"IF(E240<>\"\",CONCATENATE($A$2,DIGITADOR!$M$1,O240,AH240),\"\")","v":""},null,null,"00:00:00",1,null,null,{"$f":"IF(J240<>\"\",VLOOKUP(J240,#REF!,1,FALSE),\"\")","v":""},null,"",{"$f":"IF(M240=\"\",\"\",INDEX('Otras referencias'!$L$2:$N$200,MATCH(M240,'Otras referencias'!$L$2:$L$200,0),3))","v":""},{"$f":"IF(M240=\"\",\"\",INDEX(referentes!$S$2:$S$170,MATCH(N240,referentes!$W$2:$W$170,0),1))","v":""},null,null,null,null,null,null,null,null,null,{"$f":"IF(X240=\"\",\"\",INDEX(referentes!$Y$2:$Z$37,MATCH(X240,referentes!$Z$2:$Z$37,0),1))","v":""},"01",null,null,null,"",null,"",null,null,"",null,1,{"$f":"IF(E240<>\"\",CONCATENATE(B240,A240,DIGITADOR!$M$1,AH240),\"\")","v":""},"",null,null,null,null,null,null,null,null,null,null,null,null,null,null,null,null,null,null,"","",{"$f":"IF(BE240=\"\",\"\",INDEX(referentes!$D$2:$E$37,MATCH(BE240,referentes!$D$2:$D$37,0),2))","v":""},null,{"$f":"IF(BI240=\"\",\"\",INDEX(referentes!$J$2:$L$363,MATCH(BI240,referentes!$J$2:$J$363,0),2))","v":""},"",236]
["30000104",{"$f":"DIGITADOR!$B$2","v":""},1,{"$f":"IF(E241<>\"\",CONCATENATE($A$2,DIGITADOR!$M$1,O241,AH241),\"\")","v":""},null,null,"00:00:00",1,null,null,{"$f":"IF(J241<>\"\",VLOOKUP(J241,#REF!,1,FALSE),\"\")","v":""},null,"",{"$f":"IF(M241=\"\",\"\",INDEX('Otras referencias'!$L$2:$N$200,MATCH(M241,'Otras referencias'!$L$2:$L$200,0),3))","v":""},{"$f":"IF(M241=\"\",\"\",INDEX(referentes!$S$2:$S$170,MATCH(N241,referentes!$W$2:$W$170,0),1))","v":""},null,null,null,null,null,null,null,null,null,{"$f":"IF(X241=\"\",\"\",INDEX(referentes!$Y$2:$Z$37,MATCH(X241,referentes!$Z$2:$Z$37,0),1))","v":""},"01",null,null,null,"",null,"",null,null,"",null,1,{"$f":"IF(E241<>\"\",CONCATENATE(B241,A241,DIGITADOR!$M$1,AH241),\"\")","v":""},"",null,null,null,null,null,null,null,null,null,null,null,null,null,null,null,null,null,null,"","",{"$f":"IF(BE241=\"\",\"\",INDEX(referentes!$D$2:$E$37,MATCH(BE241,referentes!$D$2:$D$37,0),2))","v":""},null,{"$f":"IF(BI241=\"\",\"\",INDEX(referentes!$J$2:$L$363,MATCH(BI241,referentes!$J$2:$J$363,0),2))","v":""},"",237]
["30000104",{"$f":"DIGITADOR!$B$2","v":""},1,{"$f":"IF(E242<>\"\",CONCATENATE($A$2,DIGITADOR!$M$1,O242,AH242),\"\")","v":""},null,null,"00:00:00",1,null,null,{"$f":"IF(J242<>\"\",VLOOKUP(J242,#REF!,1,FALSE),\"\")","v":""},null,"",{"$f":"IF(M242=\"\",\"\",INDEX('Otras referencias'!$L$2:$N$200,MATCH(M242,'Otras referencias'!$L$2:$L$200,0),3))","v":""},{"$f":"IF(M242=\"\",\"\",INDEX(referentes!$S$2:$S$170,MATCH(N242,referentes!$W$2:$W$170,0),1))","v":""},null,null,null,null,null,null,null,null,null,{"$f":"IF(X242=\"\",\"\",INDEX(referentes!$Y$2:$Z$37,MATCH(X242,referentes!$Z$2:$Z$37,0),1))","v":""},"01",null,null,null,"",null,"",null,null,"",null,1,{"$f":"IF(E242<>\"\",CONCATENATE(B242,A242,DIGITADOR!$M$1,AH242),\"\")","v":""},"",null,null,null,null,null,null,null,null,null,null,null,null,null,null,null,null,null,null,"","",{"$f":"IF(BE242=\"\",\"\",INDEX(referentes!$D$2:$E$37,MATCH(BE242,referentes!$D$2:$D$37,0),2))","v":""},null,{"$f":"IF(BI242=\"\",\"\",INDEX(referentes!$J$2:$L$363,MATCH(BI242,referentes!$J$2:$J$363,0),2))","v":""},"",238]
["30000104",{"$f":"DIGITADOR!$B$2","v":""},1,{"$f":"IF(E243<>\"\",CONCATENATE($A$2,DIGITADOR!$M$1,O243,AH243),\"\")","v":""},null,null,"00:00:00",1,null,null,{"$f":"IF(J243<>\"\",VLOOKUP(J243,#REF!,1,FALSE),\"\")","v":""},null,"",{"$f":"IF(M243=\"\",\"\",INDEX('Otras referencias'!$L$2:$N$200,MATCH(M243,'Otras referencias'!$L$2:$L$200,0),3))","v":""},{"$f":"IF(M243=\"\",\"\",INDEX(referentes!$S$2:$S$170,MATCH(N243,referentes!$W$2:$W$170,0),1))","v":""},null,null,null,null,null,null,null,null,null,{"$f":"IF(X243=\"\",\"\",INDEX(referentes!$Y$2:$Z$37,MATCH(X243,referentes!$Z$2:$Z$37,0),1))","v":""},"01",null,null,null,"",null,"",null,null,"",null,1,{"$f":"IF(E243<>\"\",CONCATENATE(B243,A243,DIGITADOR!$M$1,AH243),\"\")","v":""},"",null,null,null,null,null,null,null,null,null,null,null,null,null,null,null,null,null,null,"","",{"$f":"IF(BE243=\"\",\"\",INDEX(referentes!$D$2:$E$37,MATCH(BE243,referentes!$D$2:$D$37,0),2))","v":""},null,{"$f":"IF(BI243=\"\",\"\",INDEX(referentes!$J$2:$L$363,MATCH(BI243,referentes!$J$2:$J$363,0),2))","v":""},"",239]
["30000104",{"$f":"DIGITADOR!$B$2","v":""},1,{"$f":"IF(E244<>\"\",CONCATENATE($A$2,DIGITADOR!$M$1,O244,AH244),\"\")","v":""},null,null,"00:00:00",1,null,null,{"$f":"IF(J244<>\"\",VLOOKUP(J244,#REF!,1,FALSE),\"\")","v":""},null,"",{"$f":"IF(M244=\"\",\"\",INDEX('Otras referencias'!$L$2:$N$200,MATCH(M244,'Otras referencias'!$L$2:$L$200,0),3))","v":""},{"$f":"IF(M244=\"\",\"\",INDEX(referentes!$S$2:$S$170,MATCH(N244,referentes!$W$2:$W$170,0),1))","v":""},null,null,null,null,null,null,null,null,null,{"$f":"IF(X244=\"\",\"\",INDEX(referentes!$Y$2:$Z$37,MATCH(X244,referentes!$Z$2:$Z$37,0),1))","v":""},"01",null,null,null,"",null,"",null,null,"",null,1,{"$f":"IF(E244<>\"\",CONCATENATE(B244,A244,DIGITADOR!$M$1,AH244),\"\")","v":""},"",null,null,null,null,null,null,null,null,null,null,null,null,null,null,null,null,null,null,"","",{"$f":"IF(BE244=\"\",\"\",INDEX(referentes!$D$2:$E$37,MATCH(BE244,referentes!$D$2:$D$37,0),2))","v":""},null,{"$f":"IF(BI244=\"\",\"\",INDEX(referentes!$J$2:$L$363,MATCH(BI244,referentes!$J$2:$J$363,0),2))","v":""},"",240]
["30000104",{"$f":"DIGITADOR!$B$2","v":""},1,{"$f":"IF(E245<>\"\",CONCATENATE($A$2,DIGITADOR!$M$1,O245,AH245),\"\")","v":""},null,null,"00:00:00",1,null,null,{"$f":"IF(J245<>\"\",VLOOKUP(J245,#REF!,1,FALSE),\"\")","v":""},null,"",{"$f":"IF(M245=\"\",\"\",INDEX('Otras referencias'!$L$2:$N$200,MATCH(M245,'Otras referencias'!$L$2:$L$200,0),3))","v":""},{"$f":"IF(M245=\"\",\"\",INDEX(referentes!$S$2:$S$170,MATCH(N245,referentes!$W$2:$W$170,0),1))","v":""},null,null,null,null,null,null,null,null,null,{"$f":"IF(X245=\"\",\"\",INDEX(referentes!$Y$2:$Z$37,MATCH(X245,referentes!$Z$2:$Z$37,0),1))","v":""},"01",null,null,null,"",null,"",null,null,"",null,1,{"$f":"IF(E245<>\"\",CONCATENATE(B245,A245,DIGITADOR!$M$1,AH245),\"\")","v":""},"",null,null,null,null,null,null,null,null,null,null,null,null,null,null,null,null,null,null,"","",{"$f":"IF(BE245=\"\",\"\",INDEX(referentes!$D$2:$E$37,MATCH(BE245,referentes!$D$2:$D$37,0),2))","v":""},null,{"$f":"IF(BI245=\"\",\"\",INDEX(referentes!$J$2:$L$363,MATCH(BI245,referentes!$J$2:$J$363,0),2))","v":""},"",241]
["30000104",{"$f":"DIGITADOR!$B$2","v":""},1,{"$f":"IF(E246<>\"\",CONCATENATE($A$2,DIGITADOR!$M$1,O246,AH246),\"\")","v":""},null,null,"00:00:00",1,null,null,{"$f":"IF(J246<>\"\",VLOOKUP(J246,#REF!,1,FALSE),\"\")","v":""},null,"",{"$f":"IF(M246=\"\",\"\",INDEX('Otras referencias'!$L$2:$N$200,MATCH(M246,'Otras referencias'!$L$2:$L$200,0),3))","v":""},{"$f":"IF(M246=\"\",\"\",INDEX(referentes!$S$2:$S$170,MATCH(N246,referentes!$W$2:$W$170,0),1))","v":""},null,null,null,null,null,null,null,null,null,{"$f":"IF(X246=\"\",\"\",INDEX(referentes!$Y$2:$Z$37,MATCH(X246,referentes!$Z$2:$Z$37,0),1))","v":""},"01",null,null,null,"",null,"",null,null,"",null,1,{"$f":"IF(E246<>\"\",CONCATENATE(B246,A246,DIGITADOR!$M$1,AH246),\"\")","v":""},"",null,null,null,null,null,null,null,null,null,null,null,null,null,null,null,null,null,null,"","",{"$f":"IF(BE246=\"\",\"\",INDEX(referentes!$D$2:$E$37,MATCH(BE246,referentes!$D$2:$D$37,0),2))","v":""},null,{"$f":"IF(BI246=\"\",\"\",INDEX(referentes!$J$2:$L$363,MATCH(BI246,referentes!$J$2:$J$363,0),2))","v":""},"",242]
["30000104",{"$f":"DIGITADOR!$B$2","v":""},1,{"$f":"IF(E247<>\"\",CONCATENATE($A$2,DIGITADOR!$M$1,O247,AH247),\"\")","v":""},null,null,"00:00:00",1,null,null,{"$f":"IF(J247<>\"\",VLOOKUP(J247,#REF!,1,FALSE),\"\")","v":""},null,"",{"$f":"IF(M247=\"\",\"\",INDEX('Otras referencias'!$L$2:$N$200,MATCH(M247,'Otras referencias'!$L$2:$L$200,0),3))","v":""},{"$f":"IF(M247=\"\",\"\",INDEX(referentes!$S$2:$S$170,MATCH(N247,referentes!$W$2:$W$170,0),1))","v":""},null,null,null,null,null,null,null,null,null,{"$f":"IF(X247=\"\",\"\",INDEX(referentes!$Y$2:$Z$37,MATCH(X247,referentes!$Z$2:$Z$37,0),1))","v":""},"01",null,null,null,"",null,"",null,null,"",null,1,{"$f":"IF(E247<>\"\",CONCATENATE(B247,A247,DIGITADOR!$M$1,AH247),\"\")","v":""},"",null,null,null,null,null,null,null,null,null,null,null,null,null,null,null,null,null,null,"","",{"$f":"IF(BE247=\"\",\"\",INDEX(referentes!$D$2:$E$37,MATCH(BE247,referentes!$D$2:$D$37,0),2))","v":""},null,{"$f":"IF(BI247=\"\",\"\",INDEX(referentes!$J$2:$L$363,MATCH(BI247,referentes!$J$2:$J$363,0),2))","v":""},"",243]
["30000104",{"$f":"DIGITADOR!$B$2","v":""},1,{"$f":"IF(E248<>\"\",CONCATENATE($A$2,DIGITADOR!$M$1,O248,AH248),\"\")","v":""},null,null,"00:00:00",1,null,null,{"$f":"IF(J248<>\"\",VLOOKUP(J248,#REF!,1,FALSE),\"\")","v":""},null,"",{"$f":"IF(M248=\"\",\"\",INDEX('Otras referencias'!$L$2:$N$200,MATCH(M248,'Otras referencias'!$L$2:$L$200,0),3))","v":""},{"$f":"IF(M248=\"\",\"\",INDEX(referentes!$S$2:$S$170,MATCH(N248,referentes!$W$2:$W$170,0),1))","v":""},null,null,null,null,null,null,null,null,null,{"$f":"IF(X248=\"\",\"\",INDEX(referentes!$Y$2:$Z$37,MATCH(X248,referentes!$Z$2:$Z$37,0),1))","v":""},"01",null,null,null,"",null,"",null,null,"",null,1,{"$f":"IF(E248<>\"\",CONCATENATE(B248,A248,DIGITADOR!$M$1,AH248),\"\")","v":""},"",null,null,null,null,null,null,null,null,null,null,null,null,null,null,null,null,null,null,"","",{"$f":"IF(BE248=\"\",\"\",INDEX(referentes!$D$2:$E$37,MATCH(BE248,referentes!$D$2:$D$37,0),2))","v":""},null,{"$f":"IF(BI248=\"\",\"\",INDEX(referentes!$J$2:$L$363,MATCH(BI248,referentes!$J$2:$J$363,0),2))","v":""},"",244]
["30000104",{"$f":"DIGITADOR!$B$2","v":""},1,{"$f":"IF(E249<>\"\",CONCATENATE($A$2,DIGITADOR!$M$1,O249,AH249),\"\")","v":""},null,null,"00:00:00",1,null,null,{"$f":"IF(J249<>\"\",VLOOKUP(J249,#REF!,1,FALSE),\"\")","v":""},null,"",{"$f":"IF(M249=\"\",\"\",INDEX('Otras referencias'!$L$2:$N$200,MATCH(M249,'Otras referencias'!$L$2:$L$200,0),3))","v":""},{"$f":"IF(M249=\"\",\"\",INDEX(referentes!$S$2:$S$170,MATCH(N249,referentes!$W$2:$W$170,0),1))","v":""},null,null,null,null,null,null,null,null,null,{"$f":"IF(X249=\"\",\"\",INDEX(referentes!$Y$2:$Z$37,MATCH(X249,referentes!$Z$2:$Z$37,0),1))","v":""},"01",null,null,null,"",null,"",null,null,"",null,1,{"$f":"IF(E249<>\"\",CONCATENATE(B249,A249,DIGITADOR!$M$1,AH249),\"\")","v":""},"",null,null,null,null,null,null,null,null,null,null,null,null,null,null,null,null,null,null,"","",{"$f":"IF(BE249=\"\",\"\",INDEX(referentes!$D$2:$E$37,MATCH(BE249,referentes!$D$2:$D$37,0),2))","v":""},null,{"$f":"IF(BI249=\"\",\"\",INDEX(referentes!$J$2:$L$363,MATCH(BI249,referentes!$J$2:$J$363,0),2))","v":""},"",245]
["30000104",{"$f":"DIGITADOR!$B$2","v":""},1,{"$f":"IF(E250<>\"\",CONCATENATE($A$2,DIGITADOR!$M$1,O250,AH250),\"\")","v":""},null,null,"00:00:00",1,null,null,{"$f":"IF(J250<>\"\",VLOOKUP(J250,#REF!,1,FALSE),\"\")","v":""},null,"",{"$f":"IF(M250=\"\",\"\",INDEX('Otras referencias'!$L$2:$N$200,MATCH(M250,'Otras referencias'!$L$2:$L$200,0),3))","v":""},{"$f":"IF(M250=\"\",\"\",INDEX(referentes!$S$2:$S$170,MATCH(N250,referentes!$W$2:$W$170,0),1))","v":""},null,null,null,null,null,null,null,null,null,{"$f":"IF(X250=\"\",\"\",INDEX(referentes!$Y$2:$Z$37,MATCH(X250,referentes!$Z$2:$Z$37,0),1))","v":""},"01",null,null,null,"",null,"",null,null,"",null,1,{"$f":"IF(E250<>\"\",CONCATENATE(B250,A250,DIGITADOR!$M$1,AH250),\"\")","v":""},"",null,null,null,null,null,null,null,null,null,null,null,null,null,null,null,null,null,null,"","",{"$f":"IF(BE250=\"\",\"\",INDEX(referentes!$D$2:$E$37,MATCH(BE250,referentes!$D$2:$D$37,0),2))","v":""},null,{"$f":"IF(BI250=\"\",\"\",INDEX(referentes!$J$2:$L$363,MATCH(BI250,referentes!$J$2:$J$363,0),2))","v":""},"",246]
["30000104",{"$f":"DIGITADOR!$B$2","v":""},1,{"$f":"IF(E251<>\"\",CONCATENATE($A$2,DIGITADOR!$M$1,O251,AH251),\"\")","v":""},null,null,"00:00:00",1,null,null,{"$f":"IF(J251<>\"\",VLOOKUP(J251,#REF!,1,FALSE),\"\")","v":""},null,"",{"$f":"IF(M251=\"\",\"\",INDEX('Otras referencias'!$L$2:$N$200,MATCH(M251,'Otras referencias'!$L$2:$L$200,0),3))","v":""},{"$f":"IF(M251=\"\",\"\",INDEX(referentes!$S$2:$S$170,MATCH(N251,referentes!$W$2:$W$170,0),1))","v":""},null,null,null,null,null,null,null,null,null,{"$f":"IF(X251=\"\",\"\",INDEX(referentes!$Y$2:$Z$37,MATCH(X251,referentes!$Z$2:$Z$37,0),1))","v":""},"01",null,null,null,"",null,"",null,null,"",null,1,{"$f":"IF(E251<>\"\",CONCATENATE(B251,A251,DIGITADOR!$M$1,AH251),\"\")","v":""},"",null,null,null,null,null,null,null,null,null,null,null,null,null,null,null,null,null,null,"","",{"$f":"IF(BE251=\"\",\"\",INDEX(referentes!$D$2:$E$37,MATCH(BE251,referentes!$D$2:$D$37,0),2))","v":""},null,{"$f":"IF(BI251=\"\",\"\",INDEX(referentes!$J$2:$L$363,MATCH(BI251,referentes!$J$2:$J$363,0),2))","v":""},"",247]
["30000104",{"$f":"DIGITADOR!$B$2","v":""},1,{"$f":"IF(E252<>\"\",CONCATENATE($A$2,DIGITADOR!$M$1,O252,AH252),\"\")","v":""},null,null,"00:00:00",1,null,null,{"$f":"IF(J252<>\"\",VLOOKUP(J252,#REF!,1,FALSE),\"\")","v":""},null,"",{"$f":"IF(M252=\"\",\"\",INDEX('Otras referencias'!$L$2:$N$200,MATCH(M252,'Otras referencias'!$L$2:$L$200,0),3))","v":""},{"$f":"IF(M252=\"\",\"\",INDEX(referentes!$S$2:$S$170,MATCH(N252,referentes!$W$2:$W$170,0),1))","v":""},null,null,null,null,null,null,null,null,null,{"$f":"IF(X252=\"\",\"\",INDEX(referentes!$Y$2:$Z$37,MATCH(X252,referentes!$Z$2:$Z$37,0),1))","v":""},"01",null,null,null,"",null,"",null,null,"",null,1,{"$f":"IF(E252<>\"\",CONCATENATE(B252,A252,DIGITADOR!$M$1,AH252),\"\")","v":""},"",null,null,null,null,null,null,null,null,null,null,null,null,null,null,null,null,null,null,"","",{"$f":"IF(BE252=\"\",\"\",INDEX(referentes!$D$2:$E$37,MATCH(BE252,referentes!$D$2:$D$37,0),2))","v":""},null,{"$f":"IF(BI252=\"\",\"\",INDEX(referentes!$J$2:$L$363,MATCH(BI252,referentes!$J$2:$J$363,0),2))","v":""},"",248]
["30000104",{"$f":"DIGITADOR!$B$2","v":""},1,{"$f":"IF(E253<>\"\",CONCATENATE($A$2,DIGITADOR!$M$1,O253,AH253),\"\")","v":""},null,null,"00:00:00",1,null,null,{"$f":"IF(J253<>\"\",VLOOKUP(J253,#REF!,1,FALSE),\"\")","v":""},null,"",{"$f":"IF(M253=\"\",\"\",INDEX('Otras referencias'!$L$2:$N$200,MATCH(M253,'Otras referencias'!$L$2:$L$200,0),3))","v":""},{"$f":"IF(M253=\"\",\"\",INDEX(referentes!$S$2:$S$170,MATCH(N253,referentes!$W$2:$W$170,0),1))","v":""},null,null,null,null,null,null,null,null,null,{"$f":"IF(X253=\"\",\"\",INDEX(referentes!$Y$2:$Z$37,MATCH(X253,referentes!$Z$2:$Z$37,0),1))","v":""},"01",null,null,null,"",null,"",null,null,"",null,1,{"$f":"IF(E253<>\"\",CONCATENATE(B253,A253,DIGITADOR!$M$1,AH253),\"\")","v":""},"",null,null,null,null,null,null,null,null,null,null,null,null,null,null,null,null,null,null,"","",{"$f":"IF(BE253=\"\",\"\",INDEX(referentes!$D$2:$E$37,MATCH(BE253,referentes!$D$2:$D$37,0),2))","v":""},null,{"$f":"IF(BI253=\"\",\"\",INDEX(referentes!$J$2:$L$363,MATCH(BI253,referentes!$J$2:$J$363,0),2))","v":""},"",249]
["30000104",{"$f":"DIGITADOR!$B$2","v":""},1,{"$f":"IF(E254<>\"\",CONCATENATE($A$2,DIGITADOR!$M$1,O254,AH254),\"\")","v":""},null,null,"00:00:00",1,null,null,{"$f":"IF(J254<>\"\",VLOOKUP(J254,#REF!,1,FALSE),\"\")","v":""},null,"",{"$f":"IF(M254=\"\",\"\",INDEX('Otras referencias'!$L$2:$N$200,MATCH(M254,'Otras referencias'!$L$2:$L$200,0),3))","v":""},{"$f":"IF(M254=\"\",\"\",INDEX(referentes!$S$2:$S$170,MATCH(N254,referentes!$W$2:$W$170,0),1))","v":""},null,null,null,null,null,null,null,null,null,{"$f":"IF(X254=\"\",\"\",INDEX(referentes!$Y$2:$Z$37,MATCH(X254,referentes!$Z$2:$Z$37,0),1))","v":""},"01",null,null,null,"",null,"",null,null,"",null,1,{"$f":"IF(E254<>\"\",CONCATENATE(B254,A254,DIGITADOR!$M$1,AH254),\"\")","v":""},"",null,null,null,null,null,null,null,null,null,null,null,null,null,null,null,null,null,null,"","",{"$f":"IF(BE254=\"\",\"\",INDEX(referentes!$D$2:$E$37,MATCH(BE254,referentes!$D$2:$D$37,0),2))","v":""},null,{"$f":"IF(BI254=\"\",\"\",INDEX(referentes!$J$2:$L$363,MATCH(BI254,referentes!$J$2:$J$363,0),2))","v":""},"",250]
["30000104",{"$f":"DIGITADOR!$B$2","v":""},1,{"$f":"IF(E255<>\"\",CONCATENATE($A$2,DIGITADOR!$M$1,O255,AH255),\"\")","v":""},null,null,"00:00:00",1,null,null,{"$f":"IF(J255<>\"\",VLOOKUP(J255,#REF!,1,FALSE),\"\")","v":""},null,"",{"$f":"IF(M255=\"\",\"\",INDEX('Otras referencias'!$L$2:$N$200,MATCH(M255,'Otras referencias'!$L$2:$L$200,0),3))","v":""},{"$f":"IF(M255=\"\",\"\",INDEX(referentes!$S$2:$S$170,MATCH(N255,referentes!$W$2:$W$170,0),1))","v":""},null,null,null,null,null,null,null,null,null,{"$f":"IF(X255=\"\",\"\",INDEX(referentes!$Y$2:$Z$37,MATCH(X255,referentes!$Z$2:$Z$37,0),1))","v":""},"01",null,null,null,"",null,"",null,null,"",null,1,{"$f":"IF(E255<>\"\",CONCATENATE(B255,A255,DIGITADOR!$M$1,AH255),\"\")","v":""},"",null,null,null,null,null,null,null,null,null,null,null,null,null,null,null,null,null,null,"","",{"$f":"IF(BE255=\"\",\"\",INDEX(referentes!$D$2:$E$37,MATCH(BE255,referentes!$D$2:$D$37,0),2))","v":""},null,{"$f":"IF(BI255=\"\",\"\",INDEX(referentes!$J$2:$L$363,MATCH(BI255,referentes!$J$2:$J$363,0),2))","v":""},"",251]
["30000104",{"$f":"DIGITADOR!$B$2","v":""},1,{"$f":"IF(E256<>\"\",CONCATENATE($A$2,DIGITADOR!$M$1,O256,AH256),\"\")","v":""},null,null,"00:00:00",1,null,null,{"$f":"IF(J256<>\"\",VLOOKUP(J256,#REF!,1,FALSE),\"\")","v":""},null,"",{"$f":"IF(M256=\"\",\"\",INDEX('Otras referencias'!$L$2:$N$200,MATCH(M256,'Otras referencias'!$L$2:$L$200,0),3))","v":""},{"$f":"IF(M256=\"\",\"\",INDEX(referentes!$S$2:$S$170,MATCH(N256,referentes!$W$2:$W$170,0),1))","v":""},null,null,null,null,null,null,null,null,null,{"$f":"IF(X256=\"\",\"\",INDEX(referentes!$Y$2:$Z$37,MATCH(X256,referentes!$Z$2:$Z$37,0),1))","v":""},"01",null,null,null,"",null,"",null,null,"",null,1,{"$f":"IF(E256<>\"\",CONCATENATE(B256,A256,DIGITADOR!$M$1,AH256),\"\")","v":""},"",null,null,null,null,null,null,null,null,null,null,null,null,null,null,null,null,null,null,"","",{"$f":"IF(BE256=\"\",\"\",INDEX(referentes!$D$2:$E$37,MATCH(BE256,referentes!$D$2:$D$37,0),2))","v":""},null,{"$f":"IF(BI256=\"\",\"\",INDEX(referentes!$J$2:$L$363,MATCH(BI256,referentes!$J$2:$J$363,0),2))","v":""},"",252]
["30000104",{"$f":"DIGITADOR!$B$2","v":""},1,{"$f":"IF(E257<>\"\",CONCATENATE($A$2,DIGITADOR!$M$1,O257,AH257),\"\")","v":""},null,null,"00:00:00",1,null,null,{"$f":"IF(J257<>\"\",VLOOKUP(J257,#REF!,1,FALSE),\"\")","v":""},null,"",{"$f":"IF(M257=\"\",\"\",INDEX('Otras referencias'!$L$2:$N$200,MATCH(M257,'Otras referencias'!$L$2:$L$200,0),3))","v":""},{"$f":"IF(M257=\"\",\"\",INDEX(referentes!$S$2:$S$170,MATCH(N257,referentes!$W$2:$W$170,0),1))","v":""},null,null,null,null,null,null,null,null,null,{"$f":"IF(X257=\"\",\"\",INDEX(referentes!$Y$2:$Z$37,MATCH(X257,referentes!$Z$2:$Z$37,0),1))","v":""},"01",null,null,null,"",null,"",null,null,"",null,1,{"$f":"IF(E257<>\"\",CONCATENATE(B257,A257,DIGITADOR!$M$1,AH257),\"\")","v":""},"",null,null,null,null,null,null,null,null,null,null,null,null,null,null,null,null,null,null,"","",{"$f":"IF(BE257=\"\",\"\",INDEX(referentes!$D$2:$E$37,MATCH(BE257,referentes!$D$2:$D$37,0),2))","v":""},null,{"$f":"IF(BI257=\"\",\"\",INDEX(referentes!$J$2:$L$363,MATCH(BI257,referentes!$J$2:$J$363,0),2))","v":""},"",253]
["30000104",{"$f":"DIGITADOR!$B$2","v":""},1,{"$f":"IF(E258<>\"\",CONCATENATE($A$2,DIGITADOR!$M$1,O258,AH258),\"\")","v":""},null,null,"00:00:00",1,null,null,{"$f":"IF(J258<>\"\",VLOOKUP(J258,#REF!,1,FALSE),\"\")","v":""},null,"",{"$f":"IF(M258=\"\",\"\",INDEX('Otras referencias'!$L$2:$N$200,MATCH(M258,'Otras referencias'!$L$2:$L$200,0),3))","v":""},{"$f":"IF(M258=\"\",\"\",INDEX(referentes!$S$2:$S$170,MATCH(N258,referentes!$W$2:$W$170,0),1))","v":""},null,null,null,null,null,null,null,null,null,{"$f":"IF(X258=\"\",\"\",INDEX(referentes!$Y$2:$Z$37,MATCH(X258,referentes!$Z$2:$Z$37,0),1))","v":""},"01",null,null,null,"",null,"",null,null,"",null,1,{"$f":"IF(E258<>\"\",CONCATENATE(B258,A258,DIGITADOR!$M$1,AH258),\"\")","v":""},"",null,null,null,null,null,null,null,null,null,null,null,null,null,null,null,null,null,null,"","",{"$f":"IF(BE258=\"\",\"\",INDEX(referentes!$D$2:$E$37,MATCH(BE258,referentes!$D$2:$D$37,0),2))","v":""},null,{"$f":"IF(BI258=\"\",\"\",INDEX(referentes!$J$2:$L$363,MATCH(BI258,referentes!$J$2:$J$363,0),2))","v":""},"",254]
["30000104",{"$f":"DIGITADOR!$B$2","v":""},1,{"$f":"IF(E259<>\"\",CONCATENATE($A$2,DIGITADOR!$M$1,O259,AH259),\"\")","v":""},null,null,"00:00:00",1,null,null,{"$f":"IF(J259<>\"\",VLOOKUP(J259,#REF!,1,FALSE),\"\")","v":""},null,"",{"$f":"IF(M259=\"\",\"\",INDEX('Otras referencias'!$L$2:$N$200,MATCH(M259,'Otras referencias'!$L$2:$L$200,0),3))","v":""},{"$f":"IF(M259=\"\",\"\",INDEX(referentes!$S$2:$S$170,MATCH(N259,referentes!$W$2:$W$170,0),1))","v":""},null,null,null,null,null,null,null,null,null,{"$f":"IF(X259=\"\",\"\",INDEX(referentes!$Y$2:$Z$37,MATCH(X259,referentes!$Z$2:$Z$37,0),1))","v":""},"01",null,null,null,"",null,"",null,null,"",null,1,{"$f":"IF(E259<>\"\",CONCATENATE(B259,A259,DIGITADOR!$M$1,AH259),\"\")","v":""},"",null,null,null,null,null,null,null,null,null,null,null,null,null,null,null,null,null,null,"","",{"$f":"IF(BE259=\"\",\"\",INDEX(referentes!$D$2:$E$37,MATCH(BE259,referentes!$D$2:$D$37,0),2))","v":""},null,{"$f":"IF(BI259=\"\",\"\",INDEX(referentes!$J$2:$L$363,MATCH(BI259,referentes!$J$2:$J$363,0),2))","v":""},"",255]
["30000104",{"$f":"DIGITADOR!$B$2","v":""},1,{"$f":"IF(E260<>\"\",CONCATENATE($A$2,DIGITADOR!$M$1,O260,AH260),\"\")","v":""},null,null,"00:00:00",1,null,null,{"$f":"IF(J260<>\"\",VLOOKUP(J260,#REF!,1,FALSE),\"\")","v":""},null,"",{"$f":"IF(M260=\"\",\"\",INDEX('Otras referencias'!$L$2:$N$200,MATCH(M260,'Otras referencias'!$L$2:$L$200,0),3))","v":""},{"$f":"IF(M260=\"\",\"\",INDEX(referentes!$S$2:$S$170,MATCH(N260,referentes!$W$2:$W$170,0),1))","v":""},null,null,null,null,null,null,null,null,null,{"$f":"IF(X260=\"\",\"\",INDEX(referentes!$Y$2:$Z$37,MATCH(X260,referentes!$Z$2:$Z$37,0),1))","v":""},"01",null,null,null,"",null,"",null,null,"",null,1,{"$f":"IF(E260<>\"\",CONCATENATE(B260,A260,DIGITADOR!$M$1,AH260),\"\")","v":""},"",null,null,null,null,null,null,null,null,null,null,null,null,null,null,null,null,null,null,"","",{"$f":"IF(BE260=\"\",\"\",INDEX(referentes!$D$2:$E$37,MATCH(BE260,referentes!$D$2:$D$37,0),2))","v":""},null,{"$f":"IF(BI260=\"\",\"\",INDEX(referentes!$J$2:$L$363,MATCH(BI260,referentes!$J$2:$J$363,0),2))","v":""},"",256]
["30000104",{"$f":"DIGITADOR!$B$2","v":""},{"$f":"IF(Z261=Z260,C260,C260+1)","v":1},{"$f":"IF(E261<>\"\",CONCATENATE($A$2,DIGITADOR!$M$1,O261,AH261),\"\")","v":""},null,null,"00:00:00",1,null,null,{"$f":"IF(J261<>\"\",VLOOKUP(J261,#REF!,1,FALSE),\"\")","v":""},null,"",{"$f":"IF(M261=\"\",\"\",INDEX('Otras referencias'!$L$2:$N$200,MATCH(M261,'Otras referencias'!$L$2:$L$200,0),3))","v":""},{"$f":"IF(M261=\"\",\"\",INDEX(referentes!$S$2:$S$170,MATCH(N261,referentes!$W$2:$W$170,0),1))","v":""},null,null,null,null,null,null,null,null,null,{"$f":"IF(X261=\"\",\"\",INDEX(referentes!$Y$2:$Z$37,MATCH(X261,referentes!$Z$2:$Z$37,0),1))","v":""},{"$f":"CONCATENATE(G261,O261,Y261,AK261)","v":"01"},null,null,null,"",null,"",null,null,"",null,1,{"$f":"IF(E261<>\"\",CONCATENATE(B261,A261,DIGITADOR!$M$1,AH261),\"\")","v":""},{"$f":"IF(D261=\"\",\"\",IF(AND(D261=D260,AI261=AI260,N261=N260),AM260+1,1))","v":""},null,null,null,null,null,null,null,null,null,null,null,null,null,null,null,null,null,null,"","",{"$f":"IF(BE261=\"\",\"\",INDEX(referentes!$D$2:$E$37,MATCH(BE261,referentes!$D$2:$D$37,0),2))","v":""},null,{"$f":"IF(BI261=\"\",\"\",INDEX(referentes!$J$2:$L$363,MATCH(BI261,referentes!$J$2:$J$363,0),2))","v":""},{"$f":"IF(D261=\"\",\"\",CONCATENATE(D261,BL261))","v":""},257]
[{"$f":"A261","v":"30000104"},{"$f":"DIGITADOR!$B$2","v":""},1,{"$f":"IF(E262<>\"\",CONCATENATE($A$2,DIGITADOR!$M$1,O262,AH262),\"\")","v":""},null,null,"00:00:00",1,null,null,{"$f":"IF(J262<>\"\",VLOOKUP(J262,#REF!,1,FALSE),\"\")","v":""},null,"",{"$f":"IF(M262=\"\",\"\",INDEX('Otras referencias'!$L$2:$N$200,MATCH(M262,'Otras referencias'!$L$2:$L$200,0),3))","v":""},{"$f":"IF(M262=\"\",\"\",INDEX(referentes!$S$2:$S$170,MATCH(N262,referentes!$W$2:$W$170,0),1))","v":""},null,null,null,null,null,null,null,null,null,{"$f":"IF(X262=\"\",\"\",INDEX(referentes!$Y$2:$Z$37,MATCH(X262,referentes!$Z$2:$Z$37,0),1))","v":""},"01",null,null,null,{"$f":"IF(D262=\"\",\"\",\"OA\")","v":""},null,{"$f":"IF(D262=\"\",\"\",\"SO\")","v":""},null,null,{"$f":"CONCATENATE(AG262,AH262)","v":""},null,1,{"$f":"IF(E262<>\"\",CONCATENATE(B262,A262,DIGITADOR!$M$1,AH262),\"\")","v":""},"",null,null,null,null,null,null,null,null,null,null,null,null,null,null,null,null,null,null,{"$f":"IF(BE262=\"\",\"\",UPPER(BE262))","v":""},{"$f":"IF(BI262=\"\",\"\",UPPER(BI262))","v":""},{"$f":"IF(BE262=\"\",\"\",INDEX(referentes!$D$2:$E$37,MATCH(BE262,referentes!$D$2:$D$37,0),2))","v":""},null,{"$f":"IF(BI262=\"\",\"\",INDEX(referentes!$J$2:$L$363,MATCH(BI262,referentes!$J$2:$J$363,0),2))","v":""},"",258]
["30000104",{"$f":"DIGITADOR!$B$2","v":""},1,{"$f":"IF(E263<>\"\",CONCATENATE($A$2,DIGITADOR!$M$1,O263,AH263),\"\")","v":""},null,null,"00:00:00",1,null,null,{"$f":"IF(J263<>\"\",VLOOKUP(J263,#REF!,1,FALSE),\"\")","v":""},null,"",{"$f":"IF(M263=\"\",\"\",INDEX('Otras referencias'!$L$2:$N$200,MATCH(M263,'Otras referencias'!$L$2:$L$200,0),3))","v":""},{"$f":"IF(M263=\"\",\"\",INDEX(referentes!$S$2:$S$170,MATCH(N263,referentes!$W$2:$W$170,0),1))","v":""},null,null,null,null,null,null,null,null,null,{"$f":"IF(X263=\"\",\"\",INDEX(referentes!$Y$2:$Z$37,MATCH(X263,referentes!$Z$2:$Z$37,0),1))","v":""},"01",null,null,null,"",null,"",null,null,"",null,1,{"$f":"IF(E263<>\"\",CONCATENATE(B263,A263,DIGITADOR!$M$1,AH263),\"\")","v":""},"",null,null,null,null,null,null,null,null,null,null,null,null,null,null,null,null,null,null,"","",{"$f":"IF(BE263=\"\",\"\",INDEX(referentes!$D$2:$E$37,MATCH(BE263,referentes!$D$2:$D$37,0),2))","v":""},null,{"$f":"IF(BI263=\"\",\"\",INDEX(referentes!$J$2:$L$363,MATCH(BI263,referentes!$J$2:$J$363,0),2))","v":""},"",259]
["30000104",{"$f":"DIGITADOR!$B$2","v":""},1,{"$f":"IF(E264<>\"\",CONCATENATE($A$2,DIGITADOR!$M$1,O264,AH264),\"\")","v":""},null,null,"00:00:00",1,null,null,{"$f":"IF(J264<>\"\",VLOOKUP(J264,#REF!,1,FALSE),\"\")","v":""},null,"",{"$f":"IF(M264=\"\",\"\",INDEX('Otras referencias'!$L$2:$N$200,MATCH(M264,'Otras referencias'!$L$2:$L$200,0),3))","v":""},{"$f":"IF(M264=\"\",\"\",INDEX(referentes!$S$2:$S$170,MATCH(N264,referentes!$W$2:$W$170,0),1))","v":""},null,null,null,null,null,null,null,null,null,{"$f":"IF(X264=\"\",\"\",INDEX(referentes!$Y$2:$Z$37,MATCH(X264,referentes!$Z$2:$Z$37,0),1))","v":""},"01",null,null,null,"",null,"",null,null,"",null,1,{"$f":"IF(E264<>\"\",CONCATENATE(B264,A264,DIGITADOR!$M$1,AH264),\"\")","v":""},"",null,null,null,null,null,null,null,null,null,null,null,null,null,null,null,null,null,null,"","",{"$f":"IF(BE264=\"\",\"\",INDEX(referentes!$D$2:$E$37,MATCH(BE264,referentes!$D$2:$D$37,0),2))","v":""},null,{"$f":"IF(BI264=\"\",\"\",INDEX(referentes!$J$2:$L$363,MATCH(BI264,referentes!$J$2:$J$363,0),2))","v":""},"",260]
["30000104",{"$f":"DIGITADOR!$B$2","v":""},1,{"$f":"IF(E265<>\"\",CONCATENATE($A$2,DIGITADOR!$M$1,O265,AH265),\"\")","v":""},null,null,"00:00:00",1,null,null,{"$f":"IF(J265<>\"\",VLOOKUP(J265,#REF!,1,FALSE),\"\")","v":""},null,"",{"$f":"IF(M265=\"\",\"\",INDEX('Otras referencias'!$L$2:$N$200,MATCH(M265,'Otras referencias'!$L$2:$L$200,0),3))","v":""},{"$f":"IF(M265=\"\",\"\",INDEX(referentes!$S$2:$S$170,MATCH(N265,referentes!$W$2:$W$170,0),1))","v":""},null,null,null,null,null,null,null,null,null,{"$f":"IF(X265=\"\",\"\",INDEX(referentes!$Y$2:$Z$37,MATCH(X265,referentes!$Z$2:$Z$37,0),1))","v":""},"01",null,null,null,"",null,"",null,null,"",null,1,{"$f":"IF(E265<>\"\",CONCATENATE(B265,A265,DIGITADOR!$M$1,AH265),\"\")","v":""},"",null,null,null,null,null,null,null,null,null,null,null,null,null,null,null,null,null,null,"","",{"$f":"IF(BE265=\"\",\"\",INDEX(referentes!$D$2:$E$37,MATCH(BE265,referentes!$D$2:$D$37,0),2))","v":""},null,{"$f":"IF(BI265=\"\",\"\",INDEX(referentes!$J$2:$L$363,MATCH(BI265,referentes!$J$2:$J$363,0),2))","v":""},"",261]
["30000104",{"$f":"DIGITADOR!$B$2","v":""},1,{"$f":"IF(E266<>\"\",CONCATENATE($A$2,DIGITADOR!$M$1,O266,AH266),\"\")","v":""},null,null,"00:00:00",1,null,null,{"$f":"IF(J266<>\"\",VLOOKUP(J266,#REF!,1,FALSE),\"\")","v":""},null,"",{"$f":"IF(M266=\"\",\"\",INDEX('Otras referencias'!$L$2:$N$200,MATCH(M266,'Otras referencias'!$L$2:$L$200,0),3))","v":""},{"$f":"IF(M266=\"\",\"\",INDEX(referentes!$S$2:$S$170,MATCH(N266,referentes!$W$2:$W$170,0),1))","v":""},null,null,null,null,null,null,null,null,null,{"$f":"IF(X266=\"\",\"\",INDEX(referentes!$Y$2:$Z$37,MATCH(X266,referentes!$Z$2:$Z$37,0),1))","v":""},"01",null,null,null,"",null,"",null,null,"",null,1,{"$f":"IF(E266<>\"\",CONCATENATE(B266,A266,DIGITADOR!$M$1,AH266),\"\")","v":""},"",null,null,null,null,null,null,null,null,null,null,null,null,null,null,null,null,null,null,"","",{"$f":"IF(BE266=\"\",\"\",INDEX(referentes!$D$2:$E$37,MATCH(BE266,referentes!$D$2:$D$37,0),2))","v":""},null,{"$f":"IF(BI266=\"\",\"\",INDEX(referentes!$J$2:$L$363,MATCH(BI266,referentes!$J$2:$J$363,0),2))","v":""},"",262]
["30000104",{"$f":"DIGITADOR!$B$2","v":""},1,{"$f":"IF(E267<>\"\",CONCATENATE($A$2,DIGITADOR!$M$1,O267,AH267),\"\")","v":""},null,null,"00:00:00",1,null,null,{"$f":"IF(J267<>\"\",VLOOKUP(J267,#REF!,1,FALSE),\"\")","v":""},null,"",{"$f":"IF(M267=\"\",\"\",INDEX('Otras referencias'!$L$2:$N$200,MATCH(M267,'Otras referencias'!$L$2:$L$200,0),3))","v":""},{"$f":"IF(M267=\"\",\"\",INDEX(referentes!$S$2:$S$170,MATCH(N267,referentes!$W$2:$W$170,0),1))","v":""},null,null,null,null,null,null,null,null,null,{"$f":"IF(X267=\"\",\"\",INDEX(referentes!$Y$2:$Z$37,MATCH(X267,referentes!$Z$2:$Z$37,0),1))","v":""},"01",null,null,null,"",null,"",null,null,"",null,1,{"$f":"IF(E267<>\"\",CONCATENATE(B267,A267,DIGITADOR!$M$1,AH267),\"\")","v":""},"",null,null,null,null,null,null,null,null,null,null,null,null,null,null,null,null,null,null,"","",{"$f":"IF(BE267=\"\",\"\",INDEX(referentes!$D$2:$E$37,MATCH(BE267,referentes!$D$2:$D$37,0),2))","v":""},null,{"$f":"IF(BI267=\"\",\"\",INDEX(referentes!$J$2:$L$363,MATCH(BI267,referentes!$J$2:$J$363,0),2))","v":""},"",263]
["30000104",{"$f":"DIGITADOR!$B$2","v":""},1,{"$f":"IF(E268<>\"\",CONCATENATE($A$2,DIGITADOR!$M$1,O268,AH268),\"\")","v":""},null,null,"00:00:00",1,null,null,{"$f":"IF(J268<>\"\",VLOOKUP(J268,#REF!,1,FALSE),\"\")","v":""},null,"",{"$f":"IF(M268=\"\",\"\",INDEX('Otras referencias'!$L$2:$N$200,MATCH(M268,'Otras referencias'!$L$2:$L$200,0),3))","v":""},{"$f":"IF(M268=\"\",\"\",INDEX(referentes!$S$2:$S$170,MATCH(N268,referentes!$W$2:$W$170,0),1))","v":""},null,null,null,null,null,null,null,null,null,{"$f":"IF(X268=\"\",\"\",INDEX(referentes!$Y$2:$Z$37,MATCH(X268,referentes!$Z$2:$Z$37,0),1))","v":""},"01",null,null,null,"",null,"",null,null,"",null,1,{"$f":"IF(E268<>\"\",CONCATENATE(B268,A268,DIGITADOR!$M$1,AH268),\"\")","v":""},"",null,null,null,null,null,null,null,null,null,null,null,null,null,null,null,null,null,null,"","",{"$f":"IF(BE268=\"\",\"\",INDEX(referentes!$D$2:$E$37,MATCH(BE268,referentes!$D$2:$D$37,0),2))","v":""},null,{"$f":"IF(BI268=\"\",\"\",INDEX(referentes!$J$2:$L$363,MATCH(BI268,referentes!$J$2:$J$363,0),2))","v":""},"",264]
["30000104",{"$f":"DIGITADOR!$B$2","v":""},1,{"$f":"IF(E269<>\"\",CONCATENATE($A$2,DIGITADOR!$M$1,O269,AH269),\"\")","v":""},null,null,"00:00:00",1,null,null,{"$f":"IF(J269<>\"\",VLOOKUP(J269,#REF!,1,FALSE),\"\")","v":""},null,"",{"$f":"IF(M269=\"\",\"\",INDEX('Otras referencias'!$L$2:$N$200,MATCH(M269,'Otras referencias'!$L$2:$L$200,0),3))","v":""},{"$f":"IF(M269=\"\",\"\",INDEX(referentes!$S$2:$S$170,MATCH(N269,referentes!$W$2:$W$170,0),1))","v":""},null,null,null,null,null,null,null,null,null,{"$f":"IF(X269=\"\",\"\",INDEX(referentes!$Y$2:$Z$37,MATCH(X269,referentes!$Z$2:$Z$37,0),1))","v":""},"01",null,null,null,"",null,"",null,null,"",null,1,{"$f":"IF(E269<>\"\",CONCATENATE(B269,A269,DIGITADOR!$M$1,AH269),\"\")","v":""},"",null,null,null,null,null,null,null,null,null,null,null,null,null,null,null,null,null,null,"","",{"$f":"IF(BE269=\"\",\"\",INDEX(referentes!$D$2:$E$37,MATCH(BE269,referentes!$D$2:$D$37,0),2))","v":""},null,{"$f":"IF(BI269=\"\",\"\",INDEX(referentes!$J$2:$L$363,MATCH(BI269,referentes!$J$2:$J$363,0),2))","v":""},"",265]
["30000104",{"$f":"DIGITADOR!$B$2","v":""},1,{"$f":"IF(E270<>\"\",CONCATENATE($A$2,DIGITADOR!$M$1,O270,AH270),\"\")","v":""},null,null,"00:00:00",1,null,null,{"$f":"IF(J270<>\"\",VLOOKUP(J270,#REF!,1,FALSE),\"\")","v":""},null,"",{"$f":"IF(M270=\"\",\"\",INDEX('Otras referencias'!$L$2:$N$200,MATCH(M270,'Otras referencias'!$L$2:$L$200,0),3))","v":""},{"$f":"IF(M270=\"\",\"\",INDEX(referentes!$S$2:$S$170,MATCH(N270,referentes!$W$2:$W$170,0),1))","v":""},null,null,null,null,null,null,null,null,null,{"$f":"IF(X270=\"\",\"\",INDEX(referentes!$Y$2:$Z$37,MATCH(X270,referentes!$Z$2:$Z$37,0),1))","v":""},"01",null,null,null,"",null,"",null,null,"",null,1,{"$f":"IF(E270<>\"\",CONCATENATE(B270,A270,DIGITADOR!$M$1,AH270),\"\")","v":""},"",null,null,null,null,null,null,null,null,null,null,null,null,null,null,null,null,null,null,"","",{"$f":"IF(BE270=\"\",\"\",INDEX(referentes!$D$2:$E$37,MATCH(BE270,referentes!$D$2:$D$37,0),2))","v":""},null,{"$f":"IF(BI270=\"\",\"\",INDEX(referentes!$J$2:$L$363,MATCH(BI270,referentes!$J$2:$J$363,0),2))","v":""},"",266]
["30000104",{"$f":"DIGITADOR!$B$2","v":""},1,{"$f":"IF(E271<>\"\",CONCATENATE($A$2,DIGITADOR!$M$1,O271,AH271),\"\")","v":""},null,null,"00:00:00",1,null,null,{"$f":"IF(J271<>\"\",VLOOKUP(J271,#REF!,1,FALSE),\"\")","v":""},null,"",{"$f":"IF(M271=\"\",\"\",INDEX('Otras referencias'!$L$2:$N$200,MATCH(M271,'Otras referencias'!$L$2:$L$200,0),3))","v":""},{"$f":"IF(M271=\"\",\"\",INDEX(referentes!$S$2:$S$170,MATCH(N271,referentes!$W$2:$W$170,0),1))","v":""},null,null,null,null,null,null,null,null,null,{"$f":"IF(X271=\"\",\"\",INDEX(referentes!$Y$2:$Z$37,MATCH(X271,referentes!$Z$2:$Z$37,0),1))","v":""},"01",null,null,null,"",null,"",null,null,"",null,1,{"$f":"IF(E271<>\"\",CONCATENATE(B271,A271,DIGITADOR!$M$1,AH271),\"\")","v":""},"",null,null,null,null,null,null,null,null,null,null,null,null,null,null,null,null,null,null,"","",{"$f":"IF(BE271=\"\",\"\",INDEX(referentes!$D$2:$E$37,MATCH(BE271,referentes!$D$2:$D$37,0),2))","v":""},null,{"$f":"IF(BI271=\"\",\"\",INDEX(referentes!$J$2:$L$363,MATCH(BI271,referentes!$J$2:$J$363,0),2))","v":""},"",267]
["30000104",{"$f":"DIGITADOR!$B$2","v":""},1,{"$f":"IF(E272<>\"\",CONCATENATE($A$2,DIGITADOR!$M$1,O272,AH272),\"\")","v":""},null,null,"00:00:00",1,null,null,{"$f":"IF(J272<>\"\",VLOOKUP(J272,#REF!,1,FALSE),\"\")","v":""},null,"",{"$f":"IF(M272=\"\",\"\",INDEX('Otras referencias'!$L$2:$N$200,MATCH(M272,'Otras referencias'!$L$2:$L$200,0),3))","v":""},{"$f":"IF(M272=\"\",\"\",INDEX(referentes!$S$2:$S$170,MATCH(N272,referentes!$W$2:$W$170,0),1))","v":""},null,null,null,null,null,null,null,null,null,{"$f":"IF(X272=\"\",\"\",INDEX(referentes!$Y$2:$Z$37,MATCH(X272,referentes!$Z$2:$Z$37,0),1))","v":""},"01",null,null,null,"",null,"",null,null,"",null,1,{"$f":"IF(E272<>\"\",CONCATENATE(B272,A272,DIGITADOR!$M$1,AH272),\"\")","v":""},"",null,null,null,null,null,null,null,null,null,null,null,null,null,null,null,null,null,null,"","",{"$f":"IF(BE272=\"\",\"\",INDEX(referentes!$D$2:$E$37,MATCH(BE272,referentes!$D$2:$D$37,0),2))","v":""},null,{"$f":"IF(BI272=\"\",\"\",INDEX(referentes!$J$2:$L$363,MATCH(BI272,referentes!$J$2:$J$363,0),2))","v":""},"",268]
["30000104",{"$f":"DIGITADOR!$B$2","v":""},1,{"$f":"IF(E273<>\"\",CONCATENATE($A$2,DIGITADOR!$M$1,O273,AH273),\"\")","v":""},null,null,"00:00:00",1,null,null,{"$f":"IF(J273<>\"\",VLOOKUP(J273,#REF!,1,FALSE),\"\")","v":""},null,"",{"$f":"IF(M273=\"\",\"\",INDEX('Otras referencias'!$L$2:$N$200,MATCH(M273,'Otras referencias'!$L$2:$L$200,0),3))","v":""},{"$f":"IF(M273=\"\",\"\",INDEX(referentes!$S$2:$S$170,MATCH(N273,referentes!$W$2:$W$170,0),1))","v":""},null,null,null,null,null,null,null,null,null,{"$f":"IF(X273=\"\",\"\",INDEX(referentes!$Y$2:$Z$37,MATCH(X273,referentes!$Z$2:$Z$37,0),1))","v":""},"01",null,null,null,"",null,"",null,null,"",null,1,{"$f":"IF(E273<>\"\",CONCATENATE(B273,A273,DIGITADOR!$M$1,AH273),\"\")","v":""},"",null,null,null,null,null,null,null,null,null,null,null,null,null,null,null,null,null,null,"","",{"$f":"IF(BE273=\"\",\"\",INDEX(referentes!$D$2:$E$37,MATCH(BE273,referentes!$D$2:$D$37,0),2))","v":""},null,{"$f":"IF(BI273=\"\",\"\",INDEX(referentes!$J$2:$L$363,MATCH(BI273,referentes!$J$2:$J$363,0),2))","v":""},"",269]
["30000104",{"$f":"DIGITADOR!$B$2","v":""},1,{"$f":"IF(E274<>\"\",CONCATENATE($A$2,DIGITADOR!$M$1,O274,AH274),\"\")","v":""},null,null,"00:00:00",1,null,null,{"$f":"IF(J274<>\"\",VLOOKUP(J274,#REF!,1,FALSE),\"\")","v":""},null,"",{"$f":"IF(M274=\"\",\"\",INDEX('Otras referencias'!$L$2:$N$200,MATCH(M274,'Otras referencias'!$L$2:$L$200,0),3))","v":""},{"$f":"IF(M274=\"\",\"\",INDEX(referentes!$S$2:$S$170,MATCH(N274,referentes!$W$2:$W$170,0),1))","v":""},null,null,null,null,null,null,null,null,null,{"$f":"IF(X274=\"\",\"\",INDEX(referentes!$Y$2:$Z$37,MATCH(X274,referentes!$Z$2:$Z$37,0),1))","v":""},"01",null,null,null,"",null,"",null,null,"",null,1,{"$f":"IF(E274<>\"\",CONCATENATE(B274,A274,DIGITADOR!$M$1,AH274),\"\")","v":""},"",null,null,null,null,null,null,null,null,null,null,null,null,null,null,null,null,null,null,"","",{"$f":"IF(BE274=\"\",\"\",INDEX(referentes!$D$2:$E$37,MATCH(BE274,referentes!$D$2:$D$37,0),2))","v":""},null,{"$f":"IF(BI274=\"\",\"\",INDEX(referentes!$J$2:$L$363,MATCH(BI274,referentes!$J$2:$J$363,0),2))","v":""},"",270]
["30000104",{"$f":"DIGITADOR!$B$2","v":""},1,{"$f":"IF(E275<>\"\",CONCATENATE($A$2,DIGITADOR!$M$1,O275,AH275),\"\")","v":""},null,null,"00:00:00",1,null,null,{"$f":"IF(J275<>\"\",VLOOKUP(J275,#REF!,1,FALSE),\"\")","v":""},null,"",{"$f":"IF(M275=\"\",\"\",INDEX('Otras referencias'!$L$2:$N$200,MATCH(M275,'Otras referencias'!$L$2:$L$200,0),3))","v":""},{"$f":"IF(M275=\"\",\"\",INDEX(referentes!$S$2:$S$170,MATCH(N275,referentes!$W$2:$W$170,0),1))","v":""},null,null,null,null,null,null,null,null,null,{"$f":"IF(X275=\"\",\"\",INDEX(referentes!$Y$2:$Z$37,MATCH(X275,referentes!$Z$2:$Z$37,0),1))","v":""},"01",null,null,null,"",null,"",null,null,"",null,1,{"$f":"IF(E275<>\"\",CONCATENATE(B275,A275,DIGITADOR!$M$1,AH275),\"\")","v":""},"",null,null,null,null,null,null,null,null,null,null,null,null,null,null,null,null,null,null,"","",{"$f":"IF(BE275=\"\",\"\",INDEX(referentes!$D$2:$E$37,MATCH(BE275,referentes!$D$2:$D$37,0),2))","v":""},null,{"$f":"IF(BI275=\"\",\"\",INDEX(referentes!$J$2:$L$363,MATCH(BI275,referentes!$J$2:$J$363,0),2))","v":""},"",271]
["30000104",{"$f":"DIGITADOR!$B$2","v":""},1,{"$f":"IF(E276<>\"\",CONCATENATE($A$2,DIGITADOR!$M$1,O276,AH276),\"\")","v":""},null,null,"00:00:00",1,null,null,{"$f":"IF(J276<>\"\",VLOOKUP(J276,#REF!,1,FALSE),\"\")","v":""},null,"",{"$f":"IF(M276=\"\",\"\",INDEX('Otras referencias'!$L$2:$N$200,MATCH(M276,'Otras referencias'!$L$2:$L$200,0),3))","v":""},{"$f":"IF(M276=\"\",\"\",INDEX(referentes!$S$2:$S$170,MATCH(N276,referentes!$W$2:$W$170,0),1))","v":""},null,null,null,null,null,null,null,null,null,{"$f":"IF(X276=\"\",\"\",INDEX(referentes!$Y$2:$Z$37,MATCH(X276,referentes!$Z$2:$Z$37,0),1))","v":""},"01",null,null,null,"",null,"",null,null,"",null,1,{"$f":"IF(E276<>\"\",CONCATENATE(B276,A276,DIGITADOR!$M$1,AH276),\"\")","v":""},"",null,null,null,null,null,null,null,null,null,null,null,null,null,null,null,null,null,null,"","",{"$f":"IF(BE276=\"\",\"\",INDEX(referentes!$D$2:$E$37,MATCH(BE276,referentes!$D$2:$D$37,0),2))","v":""},null,{"$f":"IF(BI276=\"\",\"\",INDEX(referentes!$J$2:$L$363,MATCH(BI276,referentes!$J$2:$J$363,0),2))","v":""},"",272]
["30000104",{"$f":"DIGITADOR!$B$2","v":""},1,{"$f":"IF(E277<>\"\",CONCATENATE($A$2,DIGITADOR!$M$1,O277,AH277),\"\")","v":""},null,null,"00:00:00",1,null,null,{"$f":"IF(J277<>\"\",VLOOKUP(J277,#REF!,1,FALSE),\"\")","v":""},null,"",{"$f":"IF(M277=\"\",\"\",INDEX('Otras referencias'!$L$2:$N$200,MATCH(M277,'Otras referencias'!$L$2:$L$200,0),3))","v":""},{"$f":"IF(M277=\"\",\"\",INDEX(referentes!$S$2:$S$170,MATCH(N277,referentes!$W$2:$W$170,0),1))","v":""},null,null,null,null,null,null,null,null,null,{"$f":"IF(X277=\"\",\"\",INDEX(referentes!$Y$2:$Z$37,MATCH(X277,referentes!$Z$2:$Z$37,0),1))","v":""},"01",null,null,null,"",null,"",null,null,"",null,1,{"$f":"IF(E277<>\"\",CONCATENATE(B277,A277,DIGITADOR!$M$1,AH277),\"\")","v":""},"",null,null,null,null,null,null,null,null,null,null,null,null,null,null,null,null,null,null,"","",{"$f":"IF(BE277=\"\",\"\",INDEX(referentes!$D$2:$E$37,MATCH(BE277,referentes!$D$2:$D$37,0),2))","v":""},null,{"$f":"IF(BI277=\"\",\"\",INDEX(referentes!$J$2:$L$363,MATCH(BI277,referentes!$J$2:$J$363,0),2))","v":""},"",273]
["30000104",{"$f":"DIGITADOR!$B$2","v":""},1,{"$f":"IF(E278<>\"\",CONCATENATE($A$2,DIGITADOR!$M$1,O278,AH278),\"\")","v":""},null,null,"00:00:00",1,null,null,{"$f":"IF(J278<>\"\",VLOOKUP(J278,#REF!,1,FALSE),\"\")","v":""},null,"",{"$f":"IF(M278=\"\",\"\",INDEX('Otras referencias'!$L$2:$N$200,MATCH(M278,'Otras referencias'!$L$2:$L$200,0),3))","v":""},{"$f":"IF(M278=\"\",\"\",INDEX(referentes!$S$2:$S$170,MATCH(N278,referentes!$W$2:$W$170,0),1))","v":""},null,null,null,null,null,null,null,null,null,{"$f":"IF(X278=\"\",\"\",INDEX(referentes!$Y$2:$Z$37,MATCH(X278,referentes!$Z$2:$Z$37,0),1))","v":""},"01",null,null,null,"",null,"",null,null,"",null,1,{"$f":"IF(E278<>\"\",CONCATENATE(B278,A278,DIGITADOR!$M$1,AH278),\"\")","v":""},"",null,null,null,null,null,null,null,null,null,null,null,null,null,null,null,null,null,null,"","",{"$f":"IF(BE278=\"\",\"\",INDEX(referentes!$D$2:$E$37,MATCH(BE278,referentes!$D$2:$D$37,0),2))","v":""},null,{"$f":"IF(BI278=\"\",\"\",INDEX(referentes!$J$2:$L$363,MATCH(BI278,referentes!$J$2:$J$363,0),2))","v":""},"",274]
["30000104",{"$f":"DIGITADOR!$B$2","v":""},1,{"$f":"IF(E279<>\"\",CONCATENATE($A$2,DIGITADOR!$M$1,O279,AH279),\"\")","v":""},null,null,"00:00:00",1,null,null,{"$f":"IF(J279<>\"\",VLOOKUP(J279,#REF!,1,FALSE),\"\")","v":""},null,"",{"$f":"IF(M279=\"\",\"\",INDEX('Otras referencias'!$L$2:$N$200,MATCH(M279,'Otras referencias'!$L$2:$L$200,0),3))","v":""},{"$f":"IF(M279=\"\",\"\",INDEX(referentes!$S$2:$S$170,MATCH(N279,referentes!$W$2:$W$170,0),1))","v":""},null,null,null,null,null,null,null,null,null,{"$f":"IF(X279=\"\",\"\",INDEX(referentes!$Y$2:$Z$37,MATCH(X279,referentes!$Z$2:$Z$37,0),1))","v":""},"01",null,null,null,"",null,"",null,null,"",null,1,{"$f":"IF(E279<>\"\",CONCATENATE(B279,A279,DIGITADOR!$M$1,AH279),\"\")","v":""},"",null,null,null,null,null,null,null,null,null,null,null,null,null,null,null,null,null,null,"","",{"$f":"IF(BE279=\"\",\"\",INDEX(referentes!$D$2:$E$37,MATCH(BE279,referentes!$D$2:$D$37,0),2))","v":""},null,{"$f":"IF(BI279=\"\",\"\",INDEX(referentes!$J$2:$L$363,MATCH(BI279,referentes!$J$2:$J$363,0),2))","v":""},"",275]
["30000104",{"$f":"DIGITADOR!$B$2","v":""},1,{"$f":"IF(E280<>\"\",CONCATENATE($A$2,DIGITADOR!$M$1,O280,AH280),\"\")","v":""},null,null,"00:00:00",1,null,null,{"$f":"IF(J280<>\"\",VLOOKUP(J280,#REF!,1,FALSE),\"\")","v":""},null,"",{"$f":"IF(M280=\"\",\"\",INDEX('Otras referencias'!$L$2:$N$200,MATCH(M280,'Otras referencias'!$L$2:$L$200,0),3))","v":""},{"$f":"IF(M280=\"\",\"\",INDEX(referentes!$S$2:$S$170,MATCH(N280,referentes!$W$2:$W$170,0),1))","v":""},null,null,null,null,null,null,null,null,null,{"$f":"IF(X280=\"\",\"\",INDEX(referentes!$Y$2:$Z$37,MATCH(X280,referentes!$Z$2:$Z$37,0),1))","v":""},"01",null,null,null,"",null,"",null,null,"",null,1,{"$f":"IF(E280<>\"\",CONCATENATE(B280,A280,DIGITADOR!$M$1,AH280),\"\")","v":""},"",null,null,null,null,null,null,null,null,null,null,null,null,null,null,null,null,null,null,"","",{"$f":"IF(BE280=\"\",\"\",INDEX(referentes!$D$2:$E$37,MATCH(BE280,referentes!$D$2:$D$37,0),2))","v":""},null,{"$f":"IF(BI280=\"\",\"\",INDEX(referentes!$J$2:$L$363,MATCH(BI280,referentes!$J$2:$J$363,0),2))","v":""},"",276]
["30000104",{"$f":"DIGITADOR!$B$2","v":""},1,{"$f":"IF(E281<>\"\",CONCATENATE($A$2,DIGITADOR!$M$1,O281,AH281),\"\")","v":""},null,null,"00:00:00",1,null,null,{"$f":"IF(J281<>\"\",VLOOKUP(J281,#REF!,1,FALSE),\"\")","v":""},null,"",{"$f":"IF(M281=\"\",\"\",INDEX('Otras referencias'!$L$2:$N$200,MATCH(M281,'Otras referencias'!$L$2:$L$200,0),3))","v":""},{"$f":"IF(M281=\"\",\"\",INDEX(referentes!$S$2:$S$170,MATCH(N281,referentes!$W$2:$W$170,0),1))","v":""},null,null,null,null,null,null,null,null,null,{"$f":"IF(X281=\"\",\"\",INDEX(referentes!$Y$2:$Z$37,MATCH(X281,referentes!$Z$2:$Z$37,0),1))","v":""},"01",null,null,null,"",null,"",null,null,"",null,1,{"$f":"IF(E281<>\"\",CONCATENATE(B281,A281,DIGITADOR!$M$1,AH281),\"\")","v":""},"",null,null,null,null,null,null,null,null,null,null,null,null,null,null,null,null,null,null,"","",{"$f":"IF(BE281=\"\",\"\",INDEX(referentes!$D$2:$E$37,MATCH(BE281,referentes!$D$2:$D$37,0),2))","v":""},null,{"$f":"IF(BI281=\"\",\"\",INDEX(referentes!$J$2:$L$363,MATCH(BI281,referentes!$J$2:$J$363,0),2))","v":""},"",277]
["30000104",{"$f":"DIGITADOR!$B$2","v":""},1,{"$f":"IF(E282<>\"\",CONCATENATE($A$2,DIGITADOR!$M$1,O282,AH282),\"\")","v":""},null,null,"00:00:00",1,null,null,{"$f":"IF(J282<>\"\",VLOOKUP(J282,#REF!,1,FALSE),\"\")","v":""},null,"",{"$f":"IF(M282=\"\",\"\",INDEX('Otras referencias'!$L$2:$N$200,MATCH(M282,'Otras referencias'!$L$2:$L$200,0),3))","v":""},{"$f":"IF(M282=\"\",\"\",INDEX(referentes!$S$2:$S$170,MATCH(N282,referentes!$W$2:$W$170,0),1))","v":""},null,null,null,null,null,null,null,null,null,{"$f":"IF(X282=\"\",\"\",INDEX(referentes!$Y$2:$Z$37,MATCH(X282,referentes!$Z$2:$Z$37,0),1))","v":""},"01",null,null,null,"",null,"",null,null,"",null,1,{"$f":"IF(E282<>\"\",CONCATENATE(B282,A282,DIGITADOR!$M$1,AH282),\"\")","v":""},"",null,null,null,null,null,null,null,null,null,null,null,null,null,null,null,null,null,null,"","",{"$f":"IF(BE282=\"\",\"\",INDEX(referentes!$D$2:$E$37,MATCH(BE282,referentes!$D$2:$D$37,0),2))","v":""},null,{"$f":"IF(BI282=\"\",\"\",INDEX(referentes!$J$2:$L$363,MATCH(BI282,referentes!$J$2:$J$363,0),2))","v":""},"",278]
["30000104",{"$f":"DIGITADOR!$B$2","v":""},1,{"$f":"IF(E283<>\"\",CONCATENATE($A$2,DIGITADOR!$M$1,O283,AH283),\"\")","v":""},null,null,"00:00:00",1,null,null,{"$f":"IF(J283<>\"\",VLOOKUP(J283,#REF!,1,FALSE),\"\")","v":""},null,"",{"$f":"IF(M283=\"\",\"\",INDEX('Otras referencias'!$L$2:$N$200,MATCH(M283,'Otras referencias'!$L$2:$L$200,0),3))","v":""},{"$f":"IF(M283=\"\",\"\",INDEX(referentes!$S$2:$S$170,MATCH(N283,referentes!$W$2:$W$170,0),1))","v":""},null,null,null,null,null,null,null,null,null,{"$f":"IF(X283=\"\",\"\",INDEX(referentes!$Y$2:$Z$37,MATCH(X283,referentes!$Z$2:$Z$37,0),1))","v":""},"01",null,null,null,"",null,"",null,null,"",null,1,{"$f":"IF(E283<>\"\",CONCATENATE(B283,A283,DIGITADOR!$M$1,AH283),\"\")","v":""},"",null,null,null,null,null,null,null,null,null,null,null,null,null,null,null,null,null,null,"","",{"$f":"IF(BE283=\"\",\"\",INDEX(referentes!$D$2:$E$37,MATCH(BE283,referentes!$D$2:$D$37,0),2))","v":""},null,{"$f":"IF(BI283=\"\",\"\",INDEX(referentes!$J$2:$L$363,MATCH(BI283,referentes!$J$2:$J$363,0),2))","v":""},"",279]
["30000104",{"$f":"DIGITADOR!$B$2","v":""},1,{"$f":"IF(E284<>\"\",CONCATENATE($A$2,DIGITADOR!$M$1,O284,AH284),\"\")","v":""},null,null,"00:00:00",1,null,null,{"$f":"IF(J284<>\"\",VLOOKUP(J284,#REF!,1,FALSE),\"\")","v":""},null,"",{"$f":"IF(M284=\"\",\"\",INDEX('Otras referencias'!$L$2:$N$200,MATCH(M284,'Otras referencias'!$L$2:$L$200,0),3))","v":""},{"$f":"IF(M284=\"\",\"\",INDEX(referentes!$S$2:$S$170,MATCH(N284,referentes!$W$2:$W$170,0),1))","v":""},null,null,null,null,null,null,null,null,null,{"$f":"IF(X284=\"\",\"\",INDEX(referentes!$Y$2:$Z$37,MATCH(X284,referentes!$Z$2:$Z$37,0),1))","v":""},"01",null,null,null,"",null,"",null,null,"",null,1,{"$f":"IF(E284<>\"\",CONCATENATE(B284,A284,DIGITADOR!$M$1,AH284),\"\")","v":""},"",null,null,null,null,null,null,null,null,null,null,null,null,null,null,null,null,null,null,"","",{"$f":"IF(BE284=\"\",\"\",INDEX(referentes!$D$2:$E$37,MATCH(BE284,referentes!$D$2:$D$37,0),2))","v":""},null,{"$f":"IF(BI284=\"\",\"\",INDEX(referentes!$J$2:$L$363,MATCH(BI284,referentes!$J$2:$J$363,0),2))","v":""},"",280]
["30000104",{"$f":"DIGITADOR!$B$2","v":""},1,{"$f":"IF(E285<>\"\",CONCATENATE($A$2,DIGITADOR!$M$1,O285,AH285),\"\")","v":""},null,null,"00:00:00",1,null,null,{"$f":"IF(J285<>\"\",VLOOKUP(J285,#REF!,1,FALSE),\"\")","v":""},null,"",{"$f":"IF(M285=\"\",\"\",INDEX('Otras referencias'!$L$2:$N$200,MATCH(M285,'Otras referencias'!$L$2:$L$200,0),3))","v":""},{"$f":"IF(M285=\"\",\"\",INDEX(referentes!$S$2:$S$170,MATCH(N285,referentes!$W$2:$W$170,0),1))","v":""},null,null,null,null,null,null,null,null,null,{"$f":"IF(X285=\"\",\"\",INDEX(referentes!$Y$2:$Z$37,MATCH(X285,referentes!$Z$2:$Z$37,0),1))","v":""},"01",null,null,null,"",null,"",null,null,"",null,1,{"$f":"IF(E285<>\"\",CONCATENATE(B285,A285,DIGITADOR!$M$1,AH285),\"\")","v":""},"",null,null,null,null,null,null,null,null,null,null,null,null,null,null,null,null,null,null,"","",{"$f":"IF(BE285=\"\",\"\",INDEX(referentes!$D$2:$E$37,MATCH(BE285,referentes!$D$2:$D$37,0),2))","v":""},null,{"$f":"IF(BI285=\"\",\"\",INDEX(referentes!$J$2:$L$363,MATCH(BI285,referentes!$J$2:$J$363,0),2))","v":""},"",281]
["30000104",{"$f":"DIGITADOR!$B$2","v":""},1,{"$f":"IF(E286<>\"\",CONCATENATE($A$2,DIGITADOR!$M$1,O286,AH286),\"\")","v":""},null,null,"00:00:00",1,null,null,{"$f":"IF(J286<>\"\",VLOOKUP(J286,#REF!,1,FALSE),\"\")","v":""},null,"",{"$f":"IF(M286=\"\",\"\",INDEX('Otras referencias'!$L$2:$N$200,MATCH(M286,'Otras referencias'!$L$2:$L$200,0),3))","v":""},{"$f":"IF(M286=\"\",\"\",INDEX(referentes!$S$2:$S$170,MATCH(N286,referentes!$W$2:$W$170,0),1))","v":""},null,null,null,null,null,null,null,null,null,{"$f":"IF(X286=\"\",\"\",INDEX(referentes!$Y$2:$Z$37,MATCH(X286,referentes!$Z$2:$Z$37,0),1))","v":""},"01",null,null,null,"",null,"",null,null,"",null,1,{"$f":"IF(E286<>\"\",CONCATENATE(B286,A286,DIGITADOR!$M$1,AH286),\"\")","v":""},"",null,null,null,null,null,null,null,null,null,null,null,null,null,null,null,null,null,null,"","",{"$f":"IF(BE286=\"\",\"\",INDEX(referentes!$D$2:$E$37,MATCH(BE286,referentes!$D$2:$D$37,0),2))","v":""},null,{"$f":"IF(BI286=\"\",\"\",INDEX(referentes!$J$2:$L$363,MATCH(BI286,referentes!$J$2:$J$363,0),2))","v":""},"",282]
["30000104",{"$f":"DIGITADOR!$B$2","v":""},1,{"$f":"IF(E287<>\"\",CONCATENATE($A$2,DIGITADOR!$M$1,O287,AH287),\"\")","v":""},null,null,"00:00:00",1,null,null,{"$f":"IF(J287<>\"\",VLOOKUP(J287,#REF!,1,FALSE),\"\")","v":""},null,"",{"$f":"IF(M287=\"\",\"\",INDEX('Otras referencias'!$L$2:$N$200,MATCH(M287,'Otras referencias'!$L$2:$L$200,0),3))","v":""},{"$f":"IF(M287=\"\",\"\",INDEX(referentes!$S$2:$S$170,MATCH(N287,referentes!$W$2:$W$170,0),1))","v":""},null,null,null,null,null,null,null,null,null,{"$f":"IF(X287=\"\",\"\",INDEX(referentes!$Y$2:$Z$37,MATCH(X287,referentes!$Z$2:$Z$37,0),1))","v":""},"01",null,null,null,"",null,"",null,null,"",null,1,{"$f":"IF(E287<>\"\",CONCATENATE(B287,A287,DIGITADOR!$M$1,AH287),\"\")","v":""},"",null,null,null,null,null,null,null,null,null,null,null,null,null,null,null,null,null,null,"","",{"$f":"IF(BE287=\"\",\"\",INDEX(referentes!$D$2:$E$37,MATCH(BE287,referentes!$D$2:$D$37,0),2))","v":""},null,{"$f":"IF(BI287=\"\",\"\",INDEX(referentes!$J$2:$L$363,MATCH(BI287,referentes!$J$2:$J$363,0),2))","v":""},"",283]
["30000104",{"$f":"DIGITADOR!$B$2","v":""},1,{"$f":"IF(E288<>\"\",CONCATENATE($A$2,DIGITADOR!$M$1,O288,AH288),\"\")","v":""},null,null,"00:00:00",1,null,null,{"$f":"IF(J288<>\"\",VLOOKUP(J288,#REF!,1,FALSE),\"\")","v":""},null,"",{"$f":"IF(M288=\"\",\"\",INDEX('Otras referencias'!$L$2:$N$200,MATCH(M288,'Otras referencias'!$L$2:$L$200,0),3))","v":""},{"$f":"IF(M288=\"\",\"\",INDEX(referentes!$S$2:$S$170,MATCH(N288,referentes!$W$2:$W$170,0),1))","v":""},null,null,null,null,null,null,null,null,null,{"$f":"IF(X288=\"\",\"\",INDEX(referentes!$Y$2:$Z$37,MATCH(X288,referentes!$Z$2:$Z$37,0),1))","v":""},"01",null,null,null,"",null,"",null,null,"",null,1,{"$f":"IF(E288<>\"\",CONCATENATE(B288,A288,DIGITADOR!$M$1,AH288),\"\")","v":""},"",null,null,null,null,null,null,null,null,null,null,null,null,null,null,null,null,null,null,"","",{"$f":"IF(BE288=\"\",\"\",INDEX(referentes!$D$2:$E$37,MATCH(BE288,referentes!$D$2:$D$37,0),2))","v":""},null,{"$f":"IF(BI288=\"\",\"\",INDEX(referentes!$J$2:$L$363,MATCH(BI288,referentes!$J$2:$J$363,0),2))","v":""},"",284]
["30000104",{"$f":"DIGITADOR!$B$2","v":""},1,{"$f":"IF(E289<>\"\",CONCATENATE($A$2,DIGITADOR!$M$1,O289,AH289),\"\")","v":""},null,null,"00:00:00",1,null,null,{"$f":"IF(J289<>\"\",VLOOKUP(J289,#REF!,1,FALSE),\"\")","v":""},null,"",{"$f":"IF(M289=\"\",\"\",INDEX('Otras referencias'!$L$2:$N$200,MATCH(M289,'Otras referencias'!$L$2:$L$200,0),3))","v":""},{"$f":"IF(M289=\"\",\"\",INDEX(referentes!$S$2:$S$170,MATCH(N289,referentes!$W$2:$W$170,0),1))","v":""},null,null,null,null,null,null,null,null,null,{"$f":"IF(X289=\"\",\"\",INDEX(referentes!$Y$2:$Z$37,MATCH(X289,referentes!$Z$2:$Z$37,0),1))","v":""},"01",null,null,null,"",null,"",null,null,"",null,1,{"$f":"IF(E289<>\"\",CONCATENATE(B289,A289,DIGITADOR!$M$1,AH289),\"\")","v":""},"",null,null,null,null,null,null,null,null,null,null,null,null,null,null,null,null,null,null,"","",{"$f":"IF(BE289=\"\",\"\",INDEX(referentes!$D$2:$E$37,MATCH(BE289,referentes!$D$2:$D$37,0),2))","v":""},null,{"$f":"IF(BI289=\"\",\"\",INDEX(referentes!$J$2:$L$363,MATCH(BI289,referentes!$J$2:$J$363,0),2))","v":""},"",285]
["30000104",{"$f":"DIGITADOR!$B$2","v":""},1,{"$f":"IF(E290<>\"\",CONCATENATE($A$2,DIGITADOR!$M$1,O290,AH290),\"\")","v":""},null,null,"00:00:00",1,null,null,{"$f":"IF(J290<>\"\",VLOOKUP(J290,#REF!,1,FALSE),\"\")","v":""},null,"",{"$f":"IF(M290=\"\",\"\",INDEX('Otras referencias'!$L$2:$N$200,MATCH(M290,'Otras referencias'!$L$2:$L$200,0),3))","v":""},{"$f":"IF(M290=\"\",\"\",INDEX(referentes!$S$2:$S$170,MATCH(N290,referentes!$W$2:$W$170,0),1))","v":""},null,null,null,null,null,null,null,null,null,{"$f":"IF(X290=\"\",\"\",INDEX(referentes!$Y$2:$Z$37,MATCH(X290,referentes!$Z$2:$Z$37,0),1))","v":""},"01",null,null,null,"",null,"",null,null,"",null,1,{"$f":"IF(E290<>\"\",CONCATENATE(B290,A290,DIGITADOR!$M$1,AH290),\"\")","v":""},"",null,null,null,null,null,null,null,null,null,null,null,null,null,null,null,null,null,null,"","",{"$f":"IF(BE290=\"\",\"\",INDEX(referentes!$D$2:$E$37,MATCH(BE290,referentes!$D$2:$D$37,0),2))","v":""},null,{"$f":"IF(BI290=\"\",\"\",INDEX(referentes!$J$2:$L$363,MATCH(BI290,referentes!$J$2:$J$363,0),2))","v":""},"",286]
["30000104",{"$f":"DIGITADOR!$B$2","v":""},1,{"$f":"IF(E291<>\"\",CONCATENATE($A$2,DIGITADOR!$M$1,O291,AH291),\"\")","v":""},null,null,"00:00:00",1,null,null,{"$f":"IF(J291<>\"\",VLOOKUP(J291,#REF!,1,FALSE),\"\")","v":""},null,"",{"$f":"IF(M291=\"\",\"\",INDEX('Otras referencias'!$L$2:$N$200,MATCH(M291,'Otras referencias'!$L$2:$L$200,0),3))","v":""},{"$f":"IF(M291=\"\",\"\",INDEX(referentes!$S$2:$S$170,MATCH(N291,referentes!$W$2:$W$170,0),1))","v":""},null,null,null,null,null,null,null,null,null,{"$f":"IF(X291=\"\",\"\",INDEX(referentes!$Y$2:$Z$37,MATCH(X291,referentes!$Z$2:$Z$37,0),1))","v":""},"01",null,null,null,"",null,"",null,null,"",null,1,{"$f":"IF(E291<>\"\",CONCATENATE(B291,A291,DIGITADOR!$M$1,AH291),\"\")","v":""},"",null,null,null,null,null,null,null,null,null,null,null,null,null,null,null,null,null,null,"","",{"$f":"IF(BE291=\"\",\"\",INDEX(referentes!$D$2:$E$37,MATCH(BE291,referentes!$D$2:$D$37,0),2))","v":""},null,{"$f":"IF(BI291=\"\",\"\",INDEX(referentes!$J$2:$L$363,MATCH(BI291,referentes!$J$2:$J$363,0),2))","v":""},"",287]
["30000104",{"$f":"DIGITADOR!$B$2","v":""},1,{"$f":"IF(E292<>\"\",CONCATENATE($A$2,DIGITADOR!$M$1,O292,AH292),\"\")","v":""},null,null,"00:00:00",1,null,null,{"$f":"IF(J292<>\"\",VLOOKUP(J292,#REF!,1,FALSE),\"\")","v":""},null,"",{"$f":"IF(M292=\"\",\"\",INDEX('Otras referencias'!$L$2:$N$200,MATCH(M292,'Otras referencias'!$L$2:$L$200,0),3))","v":""},{"$f":"IF(M292=\"\",\"\",INDEX(referentes!$S$2:$S$170,MATCH(N292,referentes!$W$2:$W$170,0),1))","v":""},null,null,null,null,null,null,null,null,null,{"$f":"IF(X292=\"\",\"\",INDEX(referentes!$Y$2:$Z$37,MATCH(X292,referentes!$Z$2:$Z$37,0),1))","v":""},"01",null,null,null,"",null,"",null,null,"",null,1,{"$f":"IF(E292<>\"\",CONCATENATE(B292,A292,DIGITADOR!$M$1,AH292),\"\")","v":""},"",null,null,null,null,null,null,null,null,null,null,null,null,null,null,null,null,null,null,"","",{"$f":"IF(BE292=\"\",\"\",INDEX(referentes!$D$2:$E$37,MATCH(BE292,referentes!$D$2:$D$37,0),2))","v":""},null,{"$f":"IF(BI292=\"\",\"\",INDEX(referentes!$J$2:$L$363,MATCH(BI292,referentes!$J$2:$J$363,0),2))","v":""},"",288]
["30000104",{"$f":"DIGITADOR!$B$2","v":""},1,{"$f":"IF(E293<>\"\",CONCATENATE($A$2,DIGITADOR!$M$1,O293,AH293),\"\")","v":""},null,null,"00:00:00",1,null,null,{"$f":"IF(J293<>\"\",VLOOKUP(J293,#REF!,1,FALSE),\"\")","v":""},null,"",{"$f":"IF(M293=\"\",\"\",INDEX('Otras referencias'!$L$2:$N$200,MATCH(M293,'Otras referencias'!$L$2:$L$200,0),3))","v":""},{"$f":"IF(M293=\"\",\"\",INDEX(referentes!$S$2:$S$170,MATCH(N293,referentes!$W$2:$W$170,0),1))","v":""},null,null,null,null,null,null,null,null,null,{"$f":"IF(X293=\"\",\"\",INDEX(referentes!$Y$2:$Z$37,MATCH(X293,referentes!$Z$2:$Z$37,0),1))","v":""},"01",null,null,null,"",null,"",null,null,"",null,1,{"$f":"IF(E293<>\"\",CONCATENATE(B293,A293,DIGITADOR!$M$1,AH293),\"\")","v":""},"",null,null,null,null,null,null,null,null,null,null,null,null,null,null,null,null,null,null,"","",{"$f":"IF(BE293=\"\",\"\",INDEX(referentes!$D$2:$E$37,MATCH(BE293,referentes!$D$2:$D$37,0),2))","v":""},null,{"$f":"IF(BI293=\"\",\"\",INDEX(referentes!$J$2:$L$363,MATCH(BI293,referentes!$J$2:$J$363,0),2))","v":""},"",289]
["30000104",{"$f":"DIGITADOR!$B$2","v":""},1,{"$f":"IF(E294<>\"\",CONCATENATE($A$2,DIGITADOR!$M$1,O294,AH294),\"\")","v":""},null,null,"00:00:00",1,null,null,{"$f":"IF(J294<>\"\",VLOOKUP(J294,#REF!,1,FALSE),\"\")","v":""},null,"",{"$f":"IF(M294=\"\",\"\",INDEX('Otras referencias'!$L$2:$N$200,MATCH(M294,'Otras referencias'!$L$2:$L$200,0),3))","v":""},{"$f":"IF(M294=\"\",\"\",INDEX(referentes!$S$2:$S$170,MATCH(N294,referentes!$W$2:$W$170,0),1))","v":""},null,null,null,null,null,null,null,null,null,{"$f":"IF(X294=\"\",\"\",INDEX(referentes!$Y$2:$Z$37,MATCH(X294,referentes!$Z$2:$Z$37,0),1))","v":""},"01",null,null,null,"",null,"",null,null,"",null,1,{"$f":"IF(E294<>\"\",CONCATENATE(B294,A294,DIGITADOR!$M$1,AH294),\"\")","v":""},"",null,null,null,null,null,null,null,null,null,null,null,null,null,null,null,null,null,null,"","",{"$f":"IF(BE294=\"\",\"\",INDEX(referentes!$D$2:$E$37,MATCH(BE294,referentes!$D$2:$D$37,0),2))","v":""},null,{"$f":"IF(BI294=\"\",\"\",INDEX(referentes!$J$2:$L$363,MATCH(BI294,referentes!$J$2:$J$363,0),2))","v":""},"",290]
["30000104",{"$f":"DIGITADOR!$B$2","v":""},1,{"$f":"IF(E295<>\"\",CONCATENATE($A$2,DIGITADOR!$M$1,O295,AH295),\"\")","v":""},null,null,"00:00:00",1,null,null,{"$f":"IF(J295<>\"\",VLOOKUP(J295,#REF!,1,FALSE),\"\")","v":""},null,"",{"$f":"IF(M295=\"\",\"\",INDEX('Otras referencias'!$L$2:$N$200,MATCH(M295,'Otras referencias'!$L$2:$L$200,0),3))","v":""},{"$f":"IF(M295=\"\",\"\",INDEX(referentes!$S$2:$S$170,MATCH(N295,referentes!$W$2:$W$170,0),1))","v":""},null,null,null,null,null,null,null,null,null,{"$f":"IF(X295=\"\",\"\",INDEX(referentes!$Y$2:$Z$37,MATCH(X295,referentes!$Z$2:$Z$37,0),1))","v":""},"01",null,null,null,"",null,"",null,null,"",null,1,{"$f":"IF(E295<>\"\",CONCATENATE(B295,A295,DIGITADOR!$M$1,AH295),\"\")","v":""},"",null,null,null,null,null,null,null,null,null,null,null,null,null,null,null,null,null,null,"","",{"$f":"IF(BE295=\"\",\"\",INDEX(referentes!$D$2:$E$37,MATCH(BE295,referentes!$D$2:$D$37,0),2))","v":""},null,{"$f":"IF(BI295=\"\",\"\",INDEX(referentes!$J$2:$L$363,MATCH(BI295,referentes!$J$2:$J$363,0),2))","v":""},"",291]
["30000104",{"$f":"DIGITADOR!$B$2","v":""},1,{"$f":"IF(E296<>\"\",CONCATENATE($A$2,DIGITADOR!$M$1,O296,AH296),\"\")","v":""},null,null,"00:00:00",1,null,null,{"$f":"IF(J296<>\"\",VLOOKUP(J296,#REF!,1,FALSE),\"\")","v":""},null,"",{"$f":"IF(M296=\"\",\"\",INDEX('Otras referencias'!$L$2:$N$200,MATCH(M296,'Otras referencias'!$L$2:$L$200,0),3))","v":""},{"$f":"IF(M296=\"\",\"\",INDEX(referentes!$S$2:$S$170,MATCH(N296,referentes!$W$2:$W$170,0),1))","v":""},null,null,null,null,null,null,null,null,null,{"$f":"IF(X296=\"\",\"\",INDEX(referentes!$Y$2:$Z$37,MATCH(X296,referentes!$Z$2:$Z$37,0),1))","v":""},"01",null,null,null,"",null,"",null,null,"",null,1,{"$f":"IF(E296<>\"\",CONCATENATE(B296,A296,DIGITADOR!$M$1,AH296),\"\")","v":""},"",null,null,null,null,null,null,null,null,null,null,null,null,null,null,null,null,null,null,"","",{"$f":"IF(BE296=\"\",\"\",INDEX(referentes!$D$2:$E$37,MATCH(BE296,referentes!$D$2:$D$37,0),2))","v":""},null,{"$f":"IF(BI296=\"\",\"\",INDEX(referentes!$J$2:$L$363,MATCH(BI296,referentes!$J$2:$J$363,0),2))","v":""},"",292]
["30000104",{"$f":"DIGITADOR!$B$2","v":""},1,{"$f":"IF(E297<>\"\",CONCATENATE($A$2,DIGITADOR!$M$1,O297,AH297),\"\")","v":""},null,null,{"$f":"E297+F297","v":"00:00:00"},{"$f":"IF(G297<>\"\",MONTH(G297),\"\")","v":1},null,null,{"$f":"IF(J297<>\"\",VLOOKUP(J297,#REF!,1,FALSE),\"\")","v":""},null,{"$f":"IF(L297<>\"\",CONCATENATE(J297,L297),\"\")","v":""},{"$f":"IF(M297=\"\",\"\",INDEX('Otras referencias'!$L$2:$N$200,MATCH(M297,'Otras referencias'!$L$2:$L$200,0),3))","v":""},{"$f":"IF(M297=\"\",\"\",INDEX(referentes!$S$2:$S$170,MATCH(N297,referentes!$W$2:$W$170,0),1))","v":""},null,null,null,null,null,null,null,null,null,{"$f":"IF(X297=\"\",\"\",INDEX(referentes!$Y$2:$Z$37,MATCH(X297,referentes!$Z$2:$Z$37,0),1))","v":""},"01",null,null,null,"",null,"",null,null,"",null,1,{"$f":"IF(E297<>\"\",CONCATENATE(B297,A297,DIGITADOR!$M$1,AH297),\"\")","v":""},"",null,null,null,null,null,null,null,null,null,null,null,null,null,null,null,null,null,null,"","",{"$f":"IF(BE297=\"\",\"\",INDEX(referentes!$D$2:$E$37,MATCH(BE297,referentes!$D$2:$D$37,0),2))","v":""},null,{"$f":"IF(BI297=\"\",\"\",INDEX(referentes!$J$2:$L$363,MATCH(BI297,referentes!$J$2:$J$363,0),2))","v":""},"",293]
["30000104",{"$f":"DIGITADOR!$B$2","v":""},1,{"$f":"IF(E298<>\"\",CONCATENATE($A$2,DIGITADOR!$M$1,O298,AH298),\"\")","v":""},null,null,"00:00:00",1,null,null,{"$f":"IF(J298<>\"\",VLOOKUP(J298,#REF!,1,FALSE),\"\")","v":""},null,"",{"$f":"IF(M298=\"\",\"\",INDEX('Otras referencias'!$L$2:$N$200,MATCH(M298,'Otras referencias'!$L$2:$L$200,0),3))","v":""},{"$f":"IF(M298=\"\",\"\",INDEX(referentes!$S$2:$S$170,MATCH(N298,referentes!$W$2:$W$170,0),1))","v":""},null,null,null,null,null,null,null,null,null,{"$f":"IF(X298=\"\",\"\",INDEX(referentes!$Y$2:$Z$37,MATCH(X298,referentes!$Z$2:$Z$37,0),1))","v":""},"01",null,null,null,"",null,"",null,null,"",null,1,{"$f":"IF(E298<>\"\",CONCATENATE(B298,A298,DIGITADOR!$M$1,AH298),\"\")","v":""},"",null,null,null,null,null,null,null,null,null,null,null,null,null,null,null,null,null,null,"","",{"$f":"IF(BE298=\"\",\"\",INDEX(referentes!$D$2:$E$37,MATCH(BE298,referentes!$D$2:$D$37,0),2))","v":""},null,{"$f":"IF(BI298=\"\",\"\",INDEX(referentes!$J$2:$L$363,MATCH(BI298,referentes!$J$2:$J$363,0),2))","v":""},"",294]
["30000104",{"$f":"DIGITADOR!$B$2","v":""},1,{"$f":"IF(E299<>\"\",CONCATENATE($A$2,DIGITADOR!$M$1,O299,AH299),\"\")","v":""},null,null,"00:00:00",1,null,null,{"$f":"IF(J299<>\"\",VLOOKUP(J299,#REF!,1,FALSE),\"\")","v":""},null,"",{"$f":"IF(M299=\"\",\"\",INDEX('Otras referencias'!$L$2:$N$200,MATCH(M299,'Otras referencias'!$L$2:$L$200,0),3))","v":""},{"$f":"IF(M299=\"\",\"\",INDEX(referentes!$S$2:$S$170,MATCH(N299,referentes!$W$2:$W$170,0),1))","v":""},null,null,null,null,null,null,null,null,null,{"$f":"IF(X299=\"\",\"\",INDEX(referentes!$Y$2:$Z$37,MATCH(X299,referentes!$Z$2:$Z$37,0),1))","v":""},"01",null,null,null,"",null,"",null,null,"",null,1,{"$f":"IF(E299<>\"\",CONCATENATE(B299,A299,DIGITADOR!$M$1,AH299),\"\")","v":""},"",null,null,null,null,null,null,null,null,null,null,null,null,null,null,null,null,null,null,"","",{"$f":"IF(BE299=\"\",\"\",INDEX(referentes!$D$2:$E$37,MATCH(BE299,referentes!$D$2:$D$37,0),2))","v":""},null,{"$f":"IF(BI299=\"\",\"\",INDEX(referentes!$J$2:$L$363,MATCH(BI299,referentes!$J$2:$J$363,0),2))","v":""},"",295]
["30000104",{"$f":"DIGITADOR!$B$2","v":""},1,{"$f":"IF(E300<>\"\",CONCATENATE($A$2,DIGITADOR!$M$1,O300,AH300),\"\")","v":""},null,null,"00:00:00",1,null,null,{"$f":"IF(J300<>\"\",VLOOKUP(J300,#REF!,1,FALSE),\"\")","v":""},null,"",{"$f":"IF(M300=\"\",\"\",INDEX('Otras referencias'!$L$2:$N$200,MATCH(M300,'Otras referencias'!$L$2:$L$200,0),3))","v":""},{"$f":"IF(M300=\"\",\"\",INDEX(referentes!$S$2:$S$170,MATCH(N300,referentes!$W$2:$W$170,0),1))","v":""},null,null,null,null,null,null,null,null,null,{"$f":"IF(X300=\"\",\"\",INDEX(referentes!$Y$2:$Z$37,MATCH(X300,referentes!$Z$2:$Z$37,0),1))","v":""},"01",null,null,null,"",null,"",null,null,"",null,1,{"$f":"IF(E300<>\"\",CONCATENATE(B300,A300,DIGITADOR!$M$1,AH300),\"\")","v":""},"",null,null,null,null,null,null,null,null,null,null,null,null,null,null,null,null,null,null,"","",{"$f":"IF(BE300=\"\",\"\",INDEX(referentes!$D$2:$E$37,MATCH(BE300,referentes!$D$2:$D$37,0),2))","v":""},null,{"$f":"IF(BI300=\"\",\"\",INDEX(referentes!$J$2:$L$363,MATCH(BI300,referentes!$J$2:$J$363,0),2))","v":""},"",296]
["30000104",{"$f":"DIGITADOR!$B$2","v":""},1,{"$f":"IF(E301<>\"\",CONCATENATE($A$2,DIGITADOR!$M$1,O301,AH301),\"\")","v":""},null,null,"00:00:00",1,null,null,{"$f":"IF(J301<>\"\",VLOOKUP(J301,#REF!,1,FALSE),\"\")","v":""},null,"",{"$f":"IF(M301=\"\",\"\",INDEX('Otras referencias'!$L$2:$N$200,MATCH(M301,'Otras referencias'!$L$2:$L$200,0),3))","v":""},{"$f":"IF(M301=\"\",\"\",INDEX(referentes!$S$2:$S$170,MATCH(N301,referentes!$W$2:$W$170,0),1))","v":""},null,null,null,null,null,null,null,null,null,{"$f":"IF(X301=\"\",\"\",INDEX(referentes!$Y$2:$Z$37,MATCH(X301,referentes!$Z$2:$Z$37,0),1))","v":""},"01",null,null,null,"",null,"",null,null,"",null,1,{"$f":"IF(E301<>\"\",CONCATENATE(B301,A301,DIGITADOR!$M$1,AH301),\"\")","v":""},"",null,null,null,null,null,null,null,null,null,null,null,null,null,null,null,null,null,null,"","",{"$f":"IF(BE301=\"\",\"\",INDEX(referentes!$D$2:$E$37,MATCH(BE301,referentes!$D$2:$D$37,0),2))","v":""},null,{"$f":"IF(BI301=\"\",\"\",INDEX(referentes!$J$2:$L$363,MATCH(BI301,referentes!$J$2:$J$363,0),2))","v":""},"",297]
["30000104",{"$f":"DIGITADOR!$B$2","v":""},1,{"$f":"IF(E302<>\"\",CONCATENATE($A$2,DIGITADOR!$M$1,O302,AH302),\"\")","v":""},null,null,"00:00:00",1,null,null,{"$f":"IF(J302<>\"\",VLOOKUP(J302,#REF!,1,FALSE),\"\")","v":""},null,"",{"$f":"IF(M302=\"\",\"\",INDEX('Otras referencias'!$L$2:$N$200,MATCH(M302,'Otras referencias'!$L$2:$L$200,0),3))","v":""},{"$f":"IF(M302=\"\",\"\",INDEX(referentes!$S$2:$S$170,MATCH(N302,referentes!$W$2:$W$170,0),1))","v":""},null,null,null,null,null,null,null,null,null,{"$f":"IF(X302=\"\",\"\",INDEX(referentes!$Y$2:$Z$37,MATCH(X302,referentes!$Z$2:$Z$37,0),1))","v":""},"01",null,null,null,"",null,"",null,null,"",null,1,{"$f":"IF(E302<>\"\",CONCATENATE(B302,A302,DIGITADOR!$M$1,AH302),\"\")","v":""},"",null,null,null,null,null,null,null,null,null,null,null,null,null,null,null,null,null,null,"","",{"$f":"IF(BE302=\"\",\"\",INDEX(referentes!$D$2:$E$37,MATCH(BE302,referentes!$D$2:$D$37,0),2))","v":""},null,{"$f":"IF(BI302=\"\",\"\",INDEX(referentes!$J$2:$L$363,MATCH(BI302,referentes!$J$2:$J$363,0),2))","v":""},"",298]
["30000104",{"$f":"DIGITADOR!$B$2","v":""},1,{"$f":"IF(E303<>\"\",CONCATENATE($A$2,DIGITADOR!$M$1,O303,AH303),\"\")","v":""},null,null,"00:00:00",1,null,null,{"$f":"IF(J303<>\"\",VLOOKUP(J303,#REF!,1,FALSE),\"\")","v":""},null,"",{"$f":"IF(M303=\"\",\"\",INDEX('Otras referencias'!$L$2:$N$200,MATCH(M303,'Otras referencias'!$L$2:$L$200,0),3))","v":""},{"$f":"IF(M303=\"\",\"\",INDEX(referentes!$S$2:$S$170,MATCH(N303,referentes!$W$2:$W$170,0),1))","v":""},null,null,null,null,null,null,null,null,null,{"$f":"IF(X303=\"\",\"\",INDEX(referentes!$Y$2:$Z$37,MATCH(X303,referentes!$Z$2:$Z$37,0),1))","v":""},"01",null,null,null,"",null,"",null,null,"",null,1,{"$f":"IF(E303<>\"\",CONCATENATE(B303,A303,DIGITADOR!$M$1,AH303),\"\")","v":""},"",null,null,null,null,null,null,null,null,null,null,null,null,null,null,null,null,null,null,"","",{"$f":"IF(BE303=\"\",\"\",INDEX(referentes!$D$2:$E$37,MATCH(BE303,referentes!$D$2:$D$37,0),2))","v":""},null,{"$f":"IF(BI303=\"\",\"\",INDEX(referentes!$J$2:$L$363,MATCH(BI303,referentes!$J$2:$J$363,0),2))","v":""},"",299]
["30000104",{"$f":"DIGITADOR!$B$2","v":""},1,{"$f":"IF(E304<>\"\",CONCATENATE($A$2,DIGITADOR!$M$1,O304,AH304),\"\")","v":""},null,null,"00:00:00",1,null,null,{"$f":"IF(J304<>\"\",VLOOKUP(J304,#REF!,1,FALSE),\"\")","v":""},null,"",{"$f":"IF(M304=\"\",\"\",INDEX('Otras referencias'!$L$2:$N$200,MATCH(M304,'Otras referencias'!$L$2:$L$200,0),3))","v":""},{"$f":"IF(M304=\"\",\"\",INDEX(referentes!$S$2:$S$170,MATCH(N304,referentes!$W$2:$W$170,0),1))","v":""},null,null,null,null,null,null,null,null,null,{"$f":"IF(X304=\"\",\"\",INDEX(referentes!$Y$2:$Z$37,MATCH(X304,referentes!$Z$2:$Z$37,0),1))","v":""},"01",null,null,null,"",null,"",null,null,"",null,1,{"$f":"IF(E304<>\"\",CONCATENATE(B304,A304,DIGITADOR!$M$1,AH304),\"\")","v":""},"",null,null,null,null,null,null,null,null,null,null,null,null,null,null,null,null,null,null,"","",{"$f":"IF(BE304=\"\",\"\",INDEX(referentes!$D$2:$E$37,MATCH(BE304,referentes!$D$2:$D$37,0),2))","v":""},null,{"$f":"IF(BI304=\"\",\"\",INDEX(referentes!$J$2:$L$363,MATCH(BI304,referentes!$J$2:$J$363,0),2))","v":""},"",300]
["30000104",{"$f":"DIGITADOR!$B$2","v":""},1,{"$f":"IF(E305<>\"\",CONCATENATE($A$2,DIGITADOR!$M$1,O305,AH305),\"\")","v":""},null,null,"00:00:00",1,null,null,{"$f":"IF(J305<>\"\",VLOOKUP(J305,#REF!,1,FALSE),\"\")","v":""},null,"",{"$f":"IF(M305=\"\",\"\",INDEX('Otras referencias'!$L$2:$N$200,MATCH(M305,'Otras referencias'!$L$2:$L$200,0),3))","v":""},{"$f":"IF(M305=\"\",\"\",INDEX(referentes!$S$2:$S$170,MATCH(N305,referentes!$W$2:$W$170,0),1))","v":""},null,null,null,null,null,null,null,null,null,{"$f":"IF(X305=\"\",\"\",INDEX(referentes!$Y$2:$Z$37,MATCH(X305,referentes!$Z$2:$Z$37,0),1))","v":""},"01",null,null,null,"",null,"",null,null,"",null,1,{"$f":"IF(E305<>\"\",CONCATENATE(B305,A305,DIGITADOR!$M$1,AH305),\"\")","v":""},"",null,null,null,null,null,null,null,null,null,null,null,null,null,null,null,null,null,null,"","",{"$f":"IF(BE305=\"\",\"\",INDEX(referentes!$D$2:$E$37,MATCH(BE305,referentes!$D$2:$D$37,0),2))","v":""},null,{"$f":"IF(BI305=\"\",\"\",INDEX(referentes!$J$2:$L$363,MATCH(BI305,referentes!$J$2:$J$363,0),2))","v":""},"",301]
["30000104",{"$f":"DIGITADOR!$B$2","v":""},1,{"$f":"IF(E306<>\"\",CONCATENATE($A$2,DIGITADOR!$M$1,O306,AH306),\"\")","v":""},null,null,"00:00:00",1,null,null,{"$f":"IF(J306<>\"\",VLOOKUP(J306,#REF!,1,FALSE),\"\")","v":""},null,"",{"$f":"IF(M306=\"\",\"\",INDEX('Otras referencias'!$L$2:$N$200,MATCH(M306,'Otras referencias'!$L$2:$L$200,0),3))","v":""},{"$f":"IF(M306=\"\",\"\",INDEX(referentes!$S$2:$S$170,MATCH(N306,referentes!$W$2:$W$170,0),1))","v":""},null,null,null,null,null,null,null,null,null,{"$f":"IF(X306=\"\",\"\",INDEX(referentes!$Y$2:$Z$37,MATCH(X306,referentes!$Z$2:$Z$37,0),1))","v":""},"01",null,null,null,"",null,"",null,null,"",null,1,{"$f":"IF(E306<>\"\",CONCATENATE(B306,A306,DIGITADOR!$M$1,AH306),\"\")","v":""},"",null,null,null,null,null,null,null,null,null,null,null,null,null,null,null,null,null,null,"","",{"$f":"IF(BE306=\"\",\"\",INDEX(referentes!$D$2:$E$37,MATCH(BE306,referentes!$D$2:$D$37,0),2))","v":""},null,{"$f":"IF(BI306=\"\",\"\",INDEX(referentes!$J$2:$L$363,MATCH(BI306,referentes!$J$2:$J$363,0),2))","v":""},"",302]
["30000104",{"$f":"DIGITADOR!$B$2","v":""},1,{"$f":"IF(E307<>\"\",CONCATENATE($A$2,DIGITADOR!$M$1,O307,AH307),\"\")","v":""},null,null,"00:00:00",1,null,null,null,null,"",{"$f":"IF(M307=\"\",\"\",INDEX('Otras referencias'!$L$2:$N$200,MATCH(M307,'Otras referencias'!$L$2:$L$200,0),3))","v":""},{"$f":"IF(M307=\"\",\"\",INDEX(referentes!$S$2:$S$170,MATCH(N307,referentes!$W$2:$W$170,0),1))","v":""},null,null,null,null,null,null,null,null,null,{"$f":"IF(X307=\"\",\"\",INDEX(referentes!$Y$2:$Z$37,MATCH(X307,referentes!$Z$2:$Z$37,0),1))","v":""},"01",null,null,null,"",null,"",null,null,"",null,1,{"$f":"IF(E307<>\"\",CONCATENATE(B307,A307,DIGITADOR!$M$1,AH307),\"\")","v":""},"",null,null,null,null,null,null,null,null,null,null,null,null,null,null,null,null,null,null,"","",{"$f":"IF(BE307=\"\",\"\",INDEX(referentes!$D$2:$E$37,MATCH(BE307,referentes!$D$2:$D$37,0),2))","v":""},null,{"$f":"IF(BI307=\"\",\"\",INDEX(referentes!$J$2:$L$363,MATCH(BI307,referentes!$J$2:$J$363,0),2))","v":""},"",303]
["30000104",{"$f":"DIGITADOR!$B$2","v":""},1,{"$f":"IF(E308<>\"\",CONCATENATE($A$2,DIGITADOR!$M$1,O308,AH308),\"\")","v":""},null,null,"00:00:00",1,null,null,null,null,"",{"$f":"IF(M308=\"\",\"\",INDEX('Otras referencias'!$L$2:$N$200,MATCH(M308,'Otras referencias'!$L$2:$L$200,0),3))","v":""},{"$f":"IF(M308=\"\",\"\",INDEX(referentes!$S$2:$S$170,MATCH(N308,referentes!$W$2:$W$170,0),1))","v":""},null,null,null,null,null,null,null,null,null,{"$f":"IF(X308=\"\",\"\",INDEX(referentes!$Y$2:$Z$37,MATCH(X308,referentes!$Z$2:$Z$37,0),1))","v":""},"01",null,null,null,"",null,"",null,null,"",null,1,{"$f":"IF(E308<>\"\",CONCATENATE(B308,A308,DIGITADOR!$M$1,AH308),\"\")","v":""},"",null,null,null,null,null,null,null,null,null,null,null,null,null,null,null,null,null,null,"","",{"$f":"IF(BE308=\"\",\"\",INDEX(referentes!$D$2:$E$37,MATCH(BE308,referentes!$D$2:$D$37,0),2))","v":""},null,{"$f":"IF(BI308=\"\",\"\",INDEX(referentes!$J$2:$L$363,MATCH(BI308,referentes!$J$2:$J$363,0),2))","v":""},"",304]
["30000104",{"$f":"DIGITADOR!$B$2","v":""},1,{"$f":"IF(E309<>\"\",CONCATENATE($A$2,DIGITADOR!$M$1,O309,AH309),\"\")","v":""},null,null,"00:00:00",1,null,null,null,null,"",{"$f":"IF(M309=\"\",\"\",INDEX('Otras referencias'!$L$2:$N$200,MATCH(M309,'Otras referencias'!$L$2:$L$200,0),3))","v":""},{"$f":"IF(M309=\"\",\"\",INDEX(referentes!$S$2:$S$170,MATCH(N309,referentes!$W$2:$W$170,0),1))","v":""},null,null,null,null,null,null,null,null,null,{"$f":"IF(X309=\"\",\"\",INDEX(referentes!$Y$2:$Z$37,MATCH(X309,referentes!$Z$2:$Z$37,0),1))","v":""},"01",null,null,null,"",null,"",null,null,"",null,1,{"$f":"IF(E309<>\"\",CONCATENATE(B309,A309,DIGITADOR!$M$1,AH309),\"\")","v":""},"",null,null,null,null,null,null,null,null,null,null,null,null,null,null,null,null,null,null,"","",{"$f":"IF(BE309=\"\",\"\",INDEX(referentes!$D$2:$E$37,MATCH(BE309,referentes!$D$2:$D$37,0),2))","v":""},null,{"$f":"IF(BI309=\"\",\"\",INDEX(referentes!$J$2:$L$363,MATCH(BI309,referentes!$J$2:$J$363,0),2))","v":""},"",305]
["30000104",{"$f":"DIGITADOR!$B$2","v":""},1,{"$f":"IF(E310<>\"\",CONCATENATE($A$2,DIGITADOR!$M$1,O310,AH310),\"\")","v":""},null,null,"00:00:00",1,null,null,null,null,"",{"$f":"IF(M310=\"\",\"\",INDEX('Otras referencias'!$L$2:$N$200,MATCH(M310,'Otras referencias'!$L$2:$L$200,0),3))","v":""},{"$f":"IF(M310=\"\",\"\",INDEX(referentes!$S$2:$S$170,MATCH(N310,referentes!$W$2:$W$170,0),1))","v":""},null,null,null,null,null,null,null,null,null,{"$f":"IF(X310=\"\",\"\",INDEX(referentes!$Y$2:$Z$37,MATCH(X310,referentes!$Z$2:$Z$37,0),1))","v":""},"01",null,null,null,"",null,"",null,null,"",null,1,{"$f":"IF(E310<>\"\",CONCATENATE(B310,A310,DIGITADOR!$M$1,AH310),\"\")","v":""},"",null,null,null,null,null,null,null,null,null,null,null,null,null,null,null,null,null,null,"","",{"$f":"IF(BE310=\"\",\"\",INDEX(referentes!$D$2:$E$37,MATCH(BE310,referentes!$D$2:$D$37,0),2))","v":""},null,{"$f":"IF(BI310=\"\",\"\",INDEX(referentes!$J$2:$L$363,MATCH(BI310,referentes!$J$2:$J$363,0),2))","v":""},"",306]
["30000104",{"$f":"DIGITADOR!$B$2","v":""},1,{"$f":"IF(E311<>\"\",CONCATENATE($A$2,DIGITADOR!$M$1,O311,AH311),\"\")","v":""},null,null,"00:00:00",1,null,null,null,null,"",{"$f":"IF(M311=\"\",\"\",INDEX('Otras referencias'!$L$2:$N$200,MATCH(M311,'Otras referencias'!$L$2:$L$200,0),3))","v":""},{"$f":"IF(M311=\"\",\"\",INDEX(referentes!$S$2:$S$170,MATCH(N311,referentes!$W$2:$W$170,0),1))","v":""},null,null,null,null,null,null,null,null,null,{"$f":"IF(X311=\"\",\"\",INDEX(referentes!$Y$2:$Z$37,MATCH(X311,referentes!$Z$2:$Z$37,0),1))","v":""},"01",null,null,null,"",null,"",null,null,"",null,1,{"$f":"IF(E311<>\"\",CONCATENATE(B311,A311,DIGITADOR!$M$1,AH311),\"\")","v":""},"",null,null,null,null,null,null,null,null,null,null,null,null,null,null,null,null,null,null,"","",{"$f":"IF(BE311=\"\",\"\",INDEX(referentes!$D$2:$E$37,MATCH(BE311,referentes!$D$2:$D$37,0),2))","v":""},null,{"$f":"IF(BI311=\"\",\"\",INDEX(referentes!$J$2:$L$363,MATCH(BI311,referentes!$J$2:$J$363,0),2))","v":""},"",307]
["30000104",{"$f":"DIGITADOR!$B$2","v":""},1,{"$f":"IF(E312<>\"\",CONCATENATE($A$2,DIGITADOR!$M$1,O312,AH312),\"\")","v":""},null,null,"00:00:00",1,null,null,null,null,"",{"$f":"IF(M312=\"\",\"\",INDEX('Otras referencias'!$L$2:$N$200,MATCH(M312,'Otras referencias'!$L$2:$L$200,0),3))","v":""},{"$f":"IF(M312=\"\",\"\",INDEX(referentes!$S$2:$S$170,MATCH(N312,referentes!$W$2:$W$170,0),1))","v":""},null,null,null,null,null,null,null,null,null,{"$f":"IF(X312=\"\",\"\",INDEX(referentes!$Y$2:$Z$37,MATCH(X312,referentes!$Z$2:$Z$37,0),1))","v":""},"01",null,null,null,"",null,"",null,null,"",null,1,{"$f":"IF(E312<>\"\",CONCATENATE(B312,A312,DIGITADOR!$M$1,AH312),\"\")","v":""},"",null,null,null,null,null,null,null,null,null,null,null,null,null,null,null,null,null,null,"","",{"$f":"IF(BE312=\"\",\"\",INDEX(referentes!$D$2:$E$37,MATCH(BE312,referentes!$D$2:$D$37,0),2))","v":""},null,{"$f":"IF(BI312=\"\",\"\",INDEX(referentes!$J$2:$L$363,MATCH(BI312,referentes!$J$2:$J$363,0),2))","v":""},"",308]
["30000104",{"$f":"DIGITADOR!$B$2","v":""},1,{"$f":"IF(E313<>\"\",CONCATENATE($A$2,DIGITADOR!$M$1,O313,AH313),\"\")","v":""},null,null,"00:00:00",1,null,null,null,null,"",{"$f":"IF(M313=\"\",\"\",INDEX('Otras referencias'!$L$2:$N$200,MATCH(M313,'Otras referencias'!$L$2:$L$200,0),3))","v":""},{"$f":"IF(M313=\"\",\"\",INDEX(referentes!$S$2:$S$170,MATCH(N313,referentes!$W$2:$W$170,0),1))","v":""},null,null,null,null,null,null,null,null,null,{"$f":"IF(X313=\"\",\"\",INDEX(referentes!$Y$2:$Z$37,MATCH(X313,referentes!$Z$2:$Z$37,0),1))","v":""},"01",null,null,null,"",null,"",null,null,"",null,1,{"$f":"IF(E313<>\"\",CONCATENATE(B313,A313,DIGITADOR!$M$1,AH313),\"\")","v":""},"",null,null,null,null,null,null,null,null,null,null,null,null,null,null,null,null,null,null,"","",{"$f":"IF(BE313=\"\",\"\",INDEX(referentes!$D$2:$E$37,MATCH(BE313,referentes!$D$2:$D$37,0),2))","v":""},null,{"$f":"IF(BI313=\"\",\"\",INDEX(referentes!$J$2:$L$363,MATCH(BI313,referentes!$J$2:$J$363,0),2))","v":""},"",309]
["30000104",{"$f":"DIGITADOR!$B$2","v":""},1,{"$f":"IF(E314<>\"\",CONCATENATE($A$2,DIGITADOR!$M$1,O314,AH314),\"\")","v":""},null,null,"00:00:00",1,null,null,null,null,"",{"$f":"IF(M314=\"\",\"\",INDEX('Otras referencias'!$L$2:$N$200,MATCH(M314,'Otras referencias'!$L$2:$L$200,0),3))","v":""},{"$f":"IF(M314=\"\",\"\",INDEX(referentes!$S$2:$S$170,MATCH(N314,referentes!$W$2:$W$170,0),1))","v":""},null,null,null,null,null,null,null,null,null,{"$f":"IF(X314=\"\",\"\",INDEX(referentes!$Y$2:$Z$37,MATCH(X314,referentes!$Z$2:$Z$37,0),1))","v":""},"01",null,null,null,"",null,"",null,null,"",null,1,{"$f":"IF(E314<>\"\",CONCATENATE(B314,A314,DIGITADOR!$M$1,AH314),\"\")","v":""},"",null,null,null,null,null,null,null,null,null,null,null,null,null,null,null,null,null,null,"","",{"$f":"IF(BE314=\"\",\"\",INDEX(referentes!$D$2:$E$37,MATCH(BE314,referentes!$D$2:$D$37,0),2))","v":""},null,{"$f":"IF(BI314=\"\",\"\",INDEX(referentes!$J$2:$L$363,MATCH(BI314,referentes!$J$2:$J$363,0),2))","v":""},"",310]
["30000104",{"$f":"DIGITADOR!$B$2","v":""},1,{"$f":"IF(E315<>\"\",CONCATENATE($A$2,DIGITADOR!$M$1,O315,AH315),\"\")","v":""},null,null,"00:00:00",1,null,null,null,null,"",{"$f":"IF(M315=\"\",\"\",INDEX('Otras referencias'!$L$2:$N$200,MATCH(M315,'Otras referencias'!$L$2:$L$200,0),3))","v":""},{"$f":"IF(M315=\"\",\"\",INDEX(referentes!$S$2:$S$170,MATCH(N315,referentes!$W$2:$W$170,0),1))","v":""},null,null,null,null,null,null,null,null,null,{"$f":"IF(X315=\"\",\"\",INDEX(referentes!$Y$2:$Z$37,MATCH(X315,referentes!$Z$2:$Z$37,0),1))","v":""},"01",null,null,null,"",null,"",null,null,"",null,1,{"$f":"IF(E315<>\"\",CONCATENATE(B315,A315,DIGITADOR!$M$1,AH315),\"\")","v":""},"",null,null,null,null,null,null,null,null,null,null,null,null,null,null,null,null,null,null,"","",{"$f":"IF(BE315=\"\",\"\",INDEX(referentes!$D$2:$E$37,MATCH(BE315,referentes!$D$2:$D$37,0),2))","v":""},null,{"$f":"IF(BI315=\"\",\"\",INDEX(referentes!$J$2:$L$363,MATCH(BI315,referentes!$J$2:$J$363,0),2))","v":""},"",311]
["30000104",{"$f":"DIGITADOR!$B$2","v":""},1,{"$f":"IF(E316<>\"\",CONCATENATE($A$2,DIGITADOR!$M$1,O316,AH316),\"\")","v":""},null,null,"00:00:00",1,null,null,null,null,"",{"$f":"IF(M316=\"\",\"\",INDEX('Otras referencias'!$L$2:$N$200,MATCH(M316,'Otras referencias'!$L$2:$L$200,0),3))","v":""},{"$f":"IF(M316=\"\",\"\",INDEX(referentes!$S$2:$S$170,MATCH(N316,referentes!$W$2:$W$170,0),1))","v":""},null,null,null,null,null,null,null,null,null,{"$f":"IF(X316=\"\",\"\",INDEX(referentes!$Y$2:$Z$37,MATCH(X316,referentes!$Z$2:$Z$37,0),1))","v":""},"01",null,null,null,"",null,"",null,null,"",null,1,{"$f":"IF(E316<>\"\",CONCATENATE(B316,A316,DIGITADOR!$M$1,AH316),\"\")","v":""},"",null,null,null,null,null,null,null,null,null,null,null,null,null,null,null,null,null,null,"","",{"$f":"IF(BE316=\"\",\"\",INDEX(referentes!$D$2:$E$37,MATCH(BE316,referentes!$D$2:$D$37,0),2))","v":""},null,{"$f":"IF(BI316=\"\",\"\",INDEX(referentes!$J$2:$L$363,MATCH(BI316,referentes!$J$2:$J$363,0),2))","v":""},"",312]
["30000104",{"$f":"DIGITADOR!$B$2","v":""},1,{"$f":"IF(E317<>\"\",CONCATENATE($A$2,DIGITADOR!$M$1,O317,AH317),\"\")","v":""},null,null,"00:00:00",1,null,null,null,null,"",{"$f":"IF(M317=\"\",\"\",INDEX('Otras referencias'!$L$2:$N$200,MATCH(M317,'Otras referencias'!$L$2:$L$200,0),3))","v":""},{"$f":"IF(M317=\"\",\"\",INDEX(referentes!$S$2:$S$170,MATCH(N317,referentes!$W$2:$W$170,0),1))","v":""},null,null,null,null,null,null,null,null,null,{"$f":"IF(X317=\"\",\"\",INDEX(referentes!$Y$2:$Z$37,MATCH(X317,referentes!$Z$2:$Z$37,0),1))","v":""},"01",null,null,null,"",null,"",null,null,"",null,1,{"$f":"IF(E317<>\"\",CONCATENATE(B317,A317,DIGITADOR!$M$1,AH317),\"\")","v":""},"",null,null,null,null,null,null,null,null,null,null,null,null,null,null,null,null,null,null,"","",{"$f":"IF(BE317=\"\",\"\",INDEX(referentes!$D$2:$E$37,MATCH(BE317,referentes!$D$2:$D$37,0),2))","v":""},null,{"$f":"IF(BI317=\"\",\"\",INDEX(referentes!$J$2:$L$363,MATCH(BI317,referentes!$J$2:$J$363,0),2))","v":""},"",313]
["30000104",{"$f":"DIGITADOR!$B$2","v":""},1,{"$f":"IF(E318<>\"\",CONCATENATE($A$2,DIGITADOR!$M$1,O318,AH318),\"\")","v":""},null,null,"00:00:00",1,null,null,null,null,"",{"$f":"IF(M318=\"\",\"\",INDEX('Otras referencias'!$L$2:$N$200,MATCH(M318,'Otras referencias'!$L$2:$L$200,0),3))","v":""},{"$f":"IF(M318=\"\",\"\",INDEX(referentes!$S$2:$S$170,MATCH(N318,referentes!$W$2:$W$170,0),1))","v":""},null,null,null,null,null,null,null,null,null,{"$f":"IF(X318=\"\",\"\",INDEX(referentes!$Y$2:$Z$37,MATCH(X318,referentes!$Z$2:$Z$37,0),1))","v":""},"01",null,null,null,"",null,"",null,null,"",null,1,{"$f":"IF(E318<>\"\",CONCATENATE(B318,A318,DIGITADOR!$M$1,AH318),\"\")","v":""},"",null,null,null,null,null,null,null,null,null,null,null,null,null,null,null,null,null,null,"","",{"$f":"IF(BE318=\"\",\"\",INDEX(referentes!$D$2:$E$37,MATCH(BE318,referentes!$D$2:$D$37,0),2))","v":""},null,{"$f":"IF(BI318=\"\",\"\",INDEX(referentes!$J$2:$L$363,MATCH(BI318,referentes!$J$2:$J$363,0),2))","v":""},"",314]
["30000104",{"$f":"DIGITADOR!$B$2","v":""},1,{"$f":"IF(E319<>\"\",CONCATENATE($A$2,DIGITADOR!$M$1,O319,AH319),\"\")","v":""},null,null,"00:00:00",1,null,null,null,null,"",{"$f":"IF(M319=\"\",\"\",INDEX('Otras referencias'!$L$2:$N$200,MATCH(M319,'Otras referencias'!$L$2:$L$200,0),3))","v":""},{"$f":"IF(M319=\"\",\"\",INDEX(referentes!$S$2:$S$170,MATCH(N319,referentes!$W$2:$W$170,0),1))","v":""},null,null,null,null,null,null,null,null,null,{"$f":"IF(X319=\"\",\"\",INDEX(referentes!$Y$2:$Z$37,MATCH(X319,referentes!$Z$2:$Z$37,0),1))","v":""},"01",null,null,null,"",null,"",null,null,"",null,1,{"$f":"IF(E319<>\"\",CONCATENATE(B319,A319,DIGITADOR!$M$1,AH319),\"\")","v":""},"",null,null,null,null,null,null,null,null,null,null,null,null,null,null,null,null,null,null,"","",{"$f":"IF(BE319=\"\",\"\",INDEX(referentes!$D$2:$E$37,MATCH(BE319,referentes!$D$2:$D$37,0),2))","v":""},null,{"$f":"IF(BI319=\"\",\"\",INDEX(referentes!$J$2:$L$363,MATCH(BI319,referentes!$J$2:$J$363,0),2))","v":""},"",315]
["30000104",{"$f":"DIGITADOR!$B$2","v":""},1,{"$f":"IF(E320<>\"\",CONCATENATE($A$2,DIGITADOR!$M$1,O320,AH320),\"\")","v":""},null,null,"00:00:00",1,null,null,null,null,"",{"$f":"IF(M320=\"\",\"\",INDEX('Otras referencias'!$L$2:$N$200,MATCH(M320,'Otras referencias'!$L$2:$L$200,0),3))","v":""},{"$f":"IF(M320=\"\",\"\",INDEX(referentes!$S$2:$S$170,MATCH(N320,referentes!$W$2:$W$170,0),1))","v":""},null,null,null,null,null,null,null,null,null,{"$f":"IF(X320=\"\",\"\",INDEX(referentes!$Y$2:$Z$37,MATCH(X320,referentes!$Z$2:$Z$37,0),1))","v":""},"01",null,null,null,"",null,"",null,null,"",null,1,{"$f":"IF(E320<>\"\",CONCATENATE(B320,A320,DIGITADOR!$M$1,AH320),\"\")","v":""},"",null,null,null,null,null,null,null,null,null,null,null,null,null,null,null,null,null,null,"","",{"$f":"IF(BE320=\"\",\"\",INDEX(referentes!$D$2:$E$37,MATCH(BE320,referentes!$D$2:$D$37,0),2))","v":""},null,{"$f":"IF(BI320=\"\",\"\",INDEX(referentes!$J$2:$L$363,MATCH(BI320,referentes!$J$2:$J$363,0),2))","v":""},"",316]
["30000104",{"$f":"DIGITADOR!$B$2","v":""},1,{"$f":"IF(E321<>\"\",CONCATENATE($A$2,DIGITADOR!$M$1,O321,AH321),\"\")","v":""},null,null,"00:00:00",1,null,null,null,null,"",{"$f":"IF(M321=\"\",\"\",INDEX('Otras referencias'!$L$2:$N$200,MATCH(M321,'Otras referencias'!$L$2:$L$200,0),3))","v":""},{"$f":"IF(M321=\"\",\"\",INDEX(referentes!$S$2:$S$170,MATCH(N321,referentes!$W$2:$W$170,0),1))","v":""},null,null,null,null,null,null,null,null,null,{"$f":"IF(X321=\"\",\"\",INDEX(referentes!$Y$2:$Z$37,MATCH(X321,referentes!$Z$2:$Z$37,0),1))","v":""},"01",null,null,null,"",null,"",null,null,"",null,1,{"$f":"IF(E321<>\"\",CONCATENATE(B321,A321,DIGITADOR!$M$1,AH321),\"\")","v":""},"",null,null,null,null,null,null,null,null,null,null,null,null,null,null,null,null,null,null,"","",{"$f":"IF(BE321=\"\",\"\",INDEX(referentes!$D$2:$E$37,MATCH(BE321,referentes!$D$2:$D$37,0),2))","v":""},null,{"$f":"IF(BI321=\"\",\"\",INDEX(referentes!$J$2:$L$363,MATCH(BI321,referentes!$J$2:$J$363,0),2))","v":""},"",317]
["30000104",{"$f":"DIGITADOR!$B$2","v":""},1,{"$f":"IF(E322<>\"\",CONCATENATE($A$2,DIGITADOR!$M$1,O322,AH322),\"\")","v":""},null,null,"00:00:00",1,null,null,null,null,"",{"$f":"IF(M322=\"\",\"\",INDEX('Otras referencias'!$L$2:$N$200,MATCH(M322,'Otras referencias'!$L$2:$L$200,0),3))","v":""},{"$f":"IF(M322=\"\",\"\",INDEX(referentes!$S$2:$S$170,MATCH(N322,referentes!$W$2:$W$170,0),1))","v":""},null,null,null,null,null,null,null,null,null,{"$f":"IF(X322=\"\",\"\",INDEX(referentes!$Y$2:$Z$37,MATCH(X322,referentes!$Z$2:$Z$37,0),1))","v":""},"01",null,null,null,"",null,"",null,null,"",null,1,{"$f":"IF(E322<>\"\",CONCATENATE(B322,A322,DIGITADOR!$M$1,AH322),\"\")","v":""},"",null,null,null,null,null,null,null,null,null,null,null,null,null,null,null,null,null,null,"","",{"$f":"IF(BE322=\"\",\"\",INDEX(referentes!$D$2:$E$37,MATCH(BE322,referentes!$D$2:$D$37,0),2))","v":""},null,{"$f":"IF(BI322=\"\",\"\",INDEX(referentes!$J$2:$L$363,MATCH(BI322,referentes!$J$2:$J$363,0),2))","v":""},"",318]
["30000104",{"$f":"DIGITADOR!$B$2","v":""},1,{"$f":"IF(E323<>\"\",CONCATENATE($A$2,DIGITADOR!$M$1,O323,AH323),\"\")","v":""},null,null,"00:00:00",1,null,null,null,null,"",{"$f":"IF(M323=\"\",\"\",INDEX('Otras referencias'!$L$2:$N$200,MATCH(M323,'Otras referencias'!$L$2:$L$200,0),3))","v":""},{"$f":"IF(M323=\"\",\"\",INDEX(referentes!$S$2:$S$170,MATCH(N323,referentes!$W$2:$W$170,0),1))","v":""},null,null,null,null,null,null,null,null,null,{"$f":"IF(X323=\"\",\"\",INDEX(referentes!$Y$2:$Z$37,MATCH(X323,referentes!$Z$2:$Z$37,0),1))","v":""},"01",null,null,null,"",null,"",null,null,"",null,1,{"$f":"IF(E323<>\"\",CONCATENATE(B323,A323,DIGITADOR!$M$1,AH323),\"\")","v":""},"",null,null,null,null,null,null,null,null,null,null,null,null,null,null,null,null,null,null,"","",{"$f":"IF(BE323=\"\",\"\",INDEX(referentes!$D$2:$E$37,MATCH(BE323,referentes!$D$2:$D$37,0),2))","v":""},null,{"$f":"IF(BI323=\"\",\"\",INDEX(referentes!$J$2:$L$363,MATCH(BI323,referentes!$J$2:$J$363,0),2))","v":""},"",319]
["30000104",{"$f":"DIGITADOR!$B$2","v":""},1,{"$f":"IF(E324<>\"\",CONCATENATE($A$2,DIGITADOR!$M$1,O324,AH324),\"\")","v":""},null,null,"00:00:00",1,null,null,null,null,"",{"$f":"IF(M324=\"\",\"\",INDEX('Otras referencias'!$L$2:$N$200,MATCH(M324,'Otras referencias'!$L$2:$L$200,0),3))","v":""},{"$f":"IF(M324=\"\",\"\",INDEX(referentes!$S$2:$S$170,MATCH(N324,referentes!$W$2:$W$170,0),1))","v":""},null,null,null,null,null,null,null,null,null,{"$f":"IF(X324=\"\",\"\",INDEX(referentes!$Y$2:$Z$37,MATCH(X324,referentes!$Z$2:$Z$37,0),1))","v":""},"01",null,null,null,"",null,"",null,null,"",null,1,{"$f":"IF(E324<>\"\",CONCATENATE(B324,A324,DIGITADOR!$M$1,AH324),\"\")","v":""},"",null,null,null,null,null,null,null,null,null,null,null,null,null,null,null,null,null,null,"","",{"$f":"IF(BE324=\"\",\"\",INDEX(referentes!$D$2:$E$37,MATCH(BE324,referentes!$D$2:$D$37,0),2))","v":""},null,{"$f":"IF(BI324=\"\",\"\",INDEX(referentes!$J$2:$L$363,MATCH(BI324,referentes!$J$2:$J$363,0),2))","v":""},"",320]
["30000104",{"$f":"DIGITADOR!$B$2","v":""},{"$f":"IF(Z325=Z324,C324,C324+1)","v":1},{"$f":"IF(E325<>\"\",CONCATENATE($A$2,DIGITADOR!$M$1,O325,AH325),\"\")","v":""},null,null,"00:00:00",1,null,null,null,null,"",{"$f":"IF(M325=\"\",\"\",INDEX('Otras referencias'!$L$2:$N$200,MATCH(M325,'Otras referencias'!$L$2:$L$200,0),3))","v":""},{"$f":"IF(M325=\"\",\"\",INDEX(referentes!$S$2:$S$170,MATCH(N325,referentes!$W$2:$W$170,0),1))","v":""},null,null,null,null,null,null,null,null,null,{"$f":"IF(X325=\"\",\"\",INDEX(referentes!$Y$2:$Z$37,MATCH(X325,referentes!$Z$2:$Z$37,0),1))","v":""},{"$f":"CONCATENATE(G325,O325,Y325,AK325)","v":"01"},null,null,null,"",null,"",null,null,"",null,1,{"$f":"IF(E325<>\"\",CONCATENATE(B325,A325,DIGITADOR!$M$1,AH325),\"\")","v":""},{"$f":"IF(D325=\"\",\"\",IF(AND(D325=D324,AI325=AI324,N325=N324),AM324+1,1))","v":""},null,null,null,null,null,null,null,null,null,null,null,null,null,null,null,null,null,null,"","",{"$f":"IF(BE325=\"\",\"\",INDEX(referentes!$D$2:$E$37,MATCH(BE325,referentes!$D$2:$D$37,0),2))","v":""},null,{"$f":"IF(BI325=\"\",\"\",INDEX(referentes!$J$2:$L$363,MATCH(BI325,referentes!$J$2:$J$363,0),2))","v":""},{"$f":"IF(D325=\"\",\"\",CONCATENATE(D325,BL325))","v":""},321]
[{"$f":"A325","v":"30000104"},{"$f":"DIGITADOR!$B$2","v":""},1,{"$f":"IF(E326<>\"\",CONCATENATE($A$2,DIGITADOR!$M$1,O326,AH326),\"\")","v":""},null,null,"00:00:00",1,null,null,null,null,"",{"$f":"IF(M326=\"\",\"\",INDEX('Otras referencias'!$L$2:$N$200,MATCH(M326,'Otras referencias'!$L$2:$L$200,0),3))","v":""},{"$f":"IF(M326=\"\",\"\",INDEX(referentes!$S$2:$S$170,MATCH(N326,referentes!$W$2:$W$170,0),1))","v":""},null,null,null,null,null,null,null,null,null,{"$f":"IF(X326=\"\",\"\",INDEX(referentes!$Y$2:$Z$37,MATCH(X326,referentes!$Z$2:$Z$37,0),1))","v":""},"01",null,null,null,{"$f":"IF(D326=\"\",\"\",\"OA\")","v":""},null,{"$f":"IF(D326=\"\",\"\",\"SO\")","v":""},null,null,{"$f":"CONCATENATE(AG326,AH326)","v":""},null,1,{"$f":"IF(E326<>\"\",CONCATENATE(B326,A326,DIGITADOR!$M$1,AH326),\"\")","v":""},"",null,null,null,null,null,null,null,null,null,null,null,null,null,null,null,null,null,null,{"$f":"IF(BE326=\"\",\"\",UPPER(BE326))","v":""},{"$f":"IF(BI326=\"\",\"\",UPPER(BI326))","v":""},{"$f":"IF(BE326=\"\",\"\",INDEX(referentes!$D$2:$E$37,MATCH(BE326,referentes!$D$2:$D$37,0),2))","v":""},null,{"$f":"IF(BI326=\"\",\"\",INDEX(referentes!$J$2:$L$363,MATCH(BI326,referentes!$J$2:$J$363,0),2))","v":""},"",322]
["30000104",{"$f":"DIGITADOR!$B$2","v":""},1,{"$f":"IF(E327<>\"\",CONCATENATE($A$2,DIGITADOR!$M$1,O327,AH327),\"\")","v":""},null,null,"00:00:00",1,null,null,null,null,"",{"$f":"IF(M327=\"\",\"\",INDEX('Otras referencias'!$L$2:$N$200,MATCH(M327,'Otras referencias'!$L$2:$L$200,0),3))","v":""},{"$f":"IF(M327=\"\",\"\",INDEX(referentes!$S$2:$S$170,MATCH(N327,referentes!$W$2:$W$170,0),1))","v":""},null,null,null,null,null,null,null,null,null,{"$f":"IF(X327=\"\",\"\",INDEX(referentes!$Y$2:$Z$37,MATCH(X327,referentes!$Z$2:$Z$37,0),1))","v":""},"01",null,null,null,"",null,"",null,null,"",null,1,{"$f":"IF(E327<>\"\",CONCATENATE(B327,A327,DIGITADOR!$M$1,AH327),\"\")","v":""},"",null,null,null,null,null,null,null,null,null,null,null,null,null,null,null,null,null,null,"","",{"$f":"IF(BE327=\"\",\"\",INDEX(referentes!$D$2:$E$37,MATCH(BE327,referentes!$D$2:$D$37,0),2))","v":""},null,{"$f":"IF(BI327=\"\",\"\",INDEX(referentes!$J$2:$L$363,MATCH(BI327,referentes!$J$2:$J$363,0),2))","v":""},"",323]
["30000104",{"$f":"DIGITADOR!$B$2","v":""},1,{"$f":"IF(E328<>\"\",CONCATENATE($A$2,DIGITADOR!$M$1,O328,AH328),\"\")","v":""},null,null,"00:00:00",1,null,null,null,null,"",{"$f":"IF(M328=\"\",\"\",INDEX('Otras referencias'!$L$2:$N$200,MATCH(M328,'Otras referencias'!$L$2:$L$200,0),3))","v":""},{"$f":"IF(M328=\"\",\"\",INDEX(referentes!$S$2:$S$170,MATCH(N328,referentes!$W$2:$W$170,0),1))","v":""},null,null,null,null,null,null,null,null,null,{"$f":"IF(X328=\"\",\"\",INDEX(referentes!$Y$2:$Z$37,MATCH(X328,referentes!$Z$2:$Z$37,0),1))","v":""},"01",null,null,null,"",null,"",null,null,"",null,1,{"$f":"IF(E328<>\"\",CONCATENATE(B328,A328,DIGITADOR!$M$1,AH328),\"\")","v":""},"",null,null,null,null,null,null,null,null,null,null,null,null,null,null,null,null,null,null,"","",{"$f":"IF(BE328=\"\",\"\",INDEX(referentes!$D$2:$E$37,MATCH(BE328,referentes!$D$2:$D$37,0),2))","v":""},null,{"$f":"IF(BI328=\"\",\"\",INDEX(referentes!$J$2:$L$363,MATCH(BI328,referentes!$J$2:$J$363,0),2))","v":""},"",324]
["30000104",{"$f":"DIGITADOR!$B$2","v":""},1,{"$f":"IF(E329<>\"\",CONCATENATE($A$2,DIGITADOR!$M$1,O329,AH329),\"\")","v":""},null,null,"00:00:00",1,null,null,null,null,"",{"$f":"IF(M329=\"\",\"\",INDEX('Otras referencias'!$L$2:$N$200,MATCH(M329,'Otras referencias'!$L$2:$L$200,0),3))","v":""},{"$f":"IF(M329=\"\",\"\",INDEX(referentes!$S$2:$S$170,MATCH(N329,referentes!$W$2:$W$170,0),1))","v":""},null,null,null,null,null,null,null,null,null,{"$f":"IF(X329=\"\",\"\",INDEX(referentes!$Y$2:$Z$37,MATCH(X329,referentes!$Z$2:$Z$37,0),1))","v":""},"01",null,null,null,"",null,"",null,null,"",null,1,{"$f":"IF(E329<>\"\",CONCATENATE(B329,A329,DIGITADOR!$M$1,AH329),\"\")","v":""},"",null,null,null,null,null,null,null,null,null,null,null,null,null,null,null,null,null,null,"","",{"$f":"IF(BE329=\"\",\"\",INDEX(referentes!$D$2:$E$37,MATCH(BE329,referentes!$D$2:$D$37,0),2))","v":""},null,{"$f":"IF(BI329=\"\",\"\",INDEX(referentes!$J$2:$L$363,MATCH(BI329,referentes!$J$2:$J$363,0),2))","v":""},"",325]
["30000104",{"$f":"DIGITADOR!$B$2","v":""},1,{"$f":"IF(E330<>\"\",CONCATENATE($A$2,DIGITADOR!$M$1,O330,AH330),\"\")","v":""},null,null,"00:00:00",1,null,null,null,null,"",{"$f":"IF(M330=\"\",\"\",INDEX('Otras referencias'!$L$2:$N$200,MATCH(M330,'Otras referencias'!$L$2:$L$200,0),3))","v":""},{"$f":"IF(M330=\"\",\"\",INDEX(referentes!$S$2:$S$170,MATCH(N330,referentes!$W$2:$W$170,0),1))","v":""},null,null,null,null,null,null,null,null,null,{"$f":"IF(X330=\"\",\"\",INDEX(referentes!$Y$2:$Z$37,MATCH(X330,referentes!$Z$2:$Z$37,0),1))","v":""},"01",null,null,null,"",null,"",null,null,"",null,1,{"$f":"IF(E330<>\"\",CONCATENATE(B330,A330,DIGITADOR!$M$1,AH330),\"\")","v":""},"",null,null,null,null,null,null,null,null,null,null,null,null,null,null,null,null,null,null,"","",{"$f":"IF(BE330=\"\",\"\",INDEX(referentes!$D$2:$E$37,MATCH(BE330,referentes!$D$2:$D$37,0),2))","v":""},null,{"$f":"IF(BI330=\"\",\"\",INDEX(referentes!$J$2:$L$363,MATCH(BI330,referentes!$J$2:$J$363,0),2))","v":""},"",326]
["30000104",{"$f":"DIGITADOR!$B$2","v":""},1,{"$f":"IF(E331<>\"\",CONCATENATE($A$2,DIGITADOR!$M$1,O331,AH331),\"\")","v":""},null,null,"00:00:00",1,null,null,null,null,"",{"$f":"IF(M331=\"\",\"\",INDEX('Otras referencias'!$L$2:$N$200,MATCH(M331,'Otras referencias'!$L$2:$L$200,0),3))","v":""},{"$f":"IF(M331=\"\",\"\",INDEX(referentes!$S$2:$S$170,MATCH(N331,referentes!$W$2:$W$170,0),1))","v":""},null,null,null,null,null,null,null,null,null,{"$f":"IF(X331=\"\",\"\",INDEX(referentes!$Y$2:$Z$37,MATCH(X331,referentes!$Z$2:$Z$37,0),1))","v":""},"01",null,null,null,"",null,"",null,null,"",null,1,{"$f":"IF(E331<>\"\",CONCATENATE(B331,A331,DIGITADOR!$M$1,AH331),\"\")","v":""},"",null,null,null,null,null,null,null,null,null,null,null,null,null,null,null,null,null,null,"","",{"$f":"IF(BE331=\"\",\"\",INDEX(referentes!$D$2:$E$37,MATCH(BE331,referentes!$D$2:$D$37,0),2))","v":""},null,{"$f":"IF(BI331=\"\",\"\",INDEX(referentes!$J$2:$L$363,MATCH(BI331,referentes!$J$2:$J$363,0),2))","v":""},"",327]
["30000104",{"$f":"DIGITADOR!$B$2","v":""},1,{"$f":"IF(E332<>\"\",CONCATENATE($A$2,DIGITADOR!$M$1,O332,AH332),\"\")","v":""},null,null,"00:00:00",1,null,null,null,null,"",{"$f":"IF(M332=\"\",\"\",INDEX('Otras referencias'!$L$2:$N$200,MATCH(M332,'Otras referencias'!$L$2:$L$200,0),3))","v":""},{"$f":"IF(M332=\"\",\"\",INDEX(referentes!$S$2:$S$170,MATCH(N332,referentes!$W$2:$W$170,0),1))","v":""},null,null,null,null,null,null,null,null,null,{"$f":"IF(X332=\"\",\"\",INDEX(referentes!$Y$2:$Z$37,MATCH(X332,referentes!$Z$2:$Z$37,0),1))","v":""},"01",null,null,null,"",null,"",null,null,"",null,1,{"$f":"IF(E332<>\"\",CONCATENATE(B332,A332,DIGITADOR!$M$1,AH332),\"\")","v":""},"",null,null,null,null,null,null,null,null,null,null,null,null,null,null,null,null,null,null,"","",{"$f":"IF(BE332=\"\",\"\",INDEX(referentes!$D$2:$E$37,MATCH(BE332,referentes!$D$2:$D$37,0),2))","v":""},null,{"$f":"IF(BI332=\"\",\"\",INDEX(referentes!$J$2:$L$363,MATCH(BI332,referentes!$J$2:$J$363,0),2))","v":""},"",328]
["30000104",{"$f":"DIGITADOR!$B$2","v":""},1,{"$f":"IF(E333<>\"\",CONCATENATE($A$2,DIGITADOR!$M$1,O333,AH333),\"\")","v":""},null,null,"00:00:00",1,null,null,null,null,"",{"$f":"IF(M333=\"\",\"\",INDEX('Otras referencias'!$L$2:$N$200,MATCH(M333,'Otras referencias'!$L$2:$L$200,0),3))","v":""},{"$f":"IF(M333=\"\",\"\",INDEX(referentes!$S$2:$S$170,MATCH(N333,referentes!$W$2:$W$170,0),1))","v":""},null,null,null,null,null,null,null,null,null,{"$f":"IF(X333=\"\",\"\",INDEX(referentes!$Y$2:$Z$37,MATCH(X333,referentes!$Z$2:$Z$37,0),1))","v":""},"01",null,null,null,"",null,"",null,null,"",null,1,{"$f":"IF(E333<>\"\",CONCATENATE(B333,A333,DIGITADOR!$M$1,AH333),\"\")","v":""},"",null,null,null,null,null,null,null,null,null,null,null,null,null,null,null,null,null,null,"","",{"$f":"IF(BE333=\"\",\"\",INDEX(referentes!$D$2:$E$37,MATCH(BE333,referentes!$D$2:$D$37,0),2))","v":""},null,{"$f":"IF(BI333=\"\",\"\",INDEX(referentes!$J$2:$L$363,MATCH(BI333,referentes!$J$2:$J$363,0),2))","v":""},"",329]
["30000104",{"$f":"DIGITADOR!$B$2","v":""},1,{"$f":"IF(E334<>\"\",CONCATENATE($A$2,DIGITADOR!$M$1,O334,AH334),\"\")","v":""},null,null,"00:00:00",1,null,null,null,null,"",{"$f":"IF(M334=\"\",\"\",INDEX('Otras referencias'!$L$2:$N$200,MATCH(M334,'Otras referencias'!$L$2:$L$200,0),3))","v":""},{"$f":"IF(M334=\"\",\"\",INDEX(referentes!$S$2:$S$170,MATCH(N334,referentes!$W$2:$W$170,0),1))","v":""},null,null,null,null,null,null,null,null,null,{"$f":"IF(X334=\"\",\"\",INDEX(referentes!$Y$2:$Z$37,MATCH(X334,referentes!$Z$2:$Z$37,0),1))","v":""},"01",null,null,null,"",null,"",null,null,"",null,1,{"$f":"IF(E334<>\"\",CONCATENATE(B334,A334,DIGITADOR!$M$1,AH334),\"\")","v":""},"",null,null,null,null,null,null,null,null,null,null,null,null,null,null,null,null,null,null,"","",{"$f":"IF(BE334=\"\",\"\",INDEX(referentes!$D$2:$E$37,MATCH(BE334,referentes!$D$2:$D$37,0),2))","v":""},null,{"$f":"IF(BI334=\"\",\"\",INDEX(referentes!$J$2:$L$363,MATCH(BI334,referentes!$J$2:$J$363,0),2))","v":""},"",330]
["30000104",{"$f":"DIGITADOR!$B$2","v":""},1,{"$f":"IF(E335<>\"\",CONCATENATE($A$2,DIGITADOR!$M$1,O335,AH335),\"\")","v":""},null,null,"00:00:00",1,null,null,null,null,"",{"$f":"IF(M335=\"\",\"\",INDEX('Otras referencias'!$L$2:$N$200,MATCH(M335,'Otras referencias'!$L$2:$L$200,0),3))","v":""},{"$f":"IF(M335=\"\",\"\",INDEX(referentes!$S$2:$S$170,MATCH(N335,referentes!$W$2:$W$170,0),1))","v":""},null,null,null,null,null,null,null,null,null,{"$f":"IF(X335=\"\",\"\",INDEX(referentes!$Y$2:$Z$37,MATCH(X335,referentes!$Z$2:$Z$37,0),1))","v":""},"01",null,null,null,"",null,"",null,null,"",null,1,{"$f":"IF(E335<>\"\",CONCATENATE(B335,A335,DIGITADOR!$M$1,AH335),\"\")","v":""},"",null,null,null,null,null,null,null,null,null,null,null,null,null,null,null,null,null,null,"","",{"$f":"IF(BE335=\"\",\"\",INDEX(referentes!$D$2:$E$37,MATCH(BE335,referentes!$D$2:$D$37,0),2))","v":""},null,{"$f":"IF(BI335=\"\",\"\",INDEX(referentes!$J$2:$L$363,MATCH(BI335,referentes!$J$2:$J$363,0),2))","v":""},"",331]
["30000104",{"$f":"DIGITADOR!$B$2","v":""},1,{"$f":"IF(E336<>\"\",CONCATENATE($A$2,DIGITADOR!$M$1,O336,AH336),\"\")","v":""},null,null,"00:00:00",1,null,null,null,null,"",{"$f":"IF(M336=\"\",\"\",INDEX('Otras referencias'!$L$2:$N$200,MATCH(M336,'Otras referencias'!$L$2:$L$200,0),3))","v":""},{"$f":"IF(M336=\"\",\"\",INDEX(referentes!$S$2:$S$170,MATCH(N336,referentes!$W$2:$W$170,0),1))","v":""},null,null,null,null,null,null,null,null,null,{"$f":"IF(X336=\"\",\"\",INDEX(referentes!$Y$2:$Z$37,MATCH(X336,referentes!$Z$2:$Z$37,0),1))","v":""},"01",null,null,null,"",null,"",null,null,"",null,1,{"$f":"IF(E336<>\"\",CONCATENATE(B336,A336,DIGITADOR!$M$1,AH336),\"\")","v":""},"",null,null,null,null,null,null,null,null,null,null,null,null,null,null,null,null,null,null,"","",{"$f":"IF(BE336=\"\",\"\",INDEX(referentes!$D$2:$E$37,MATCH(BE336,referentes!$D$2:$D$37,0),2))","v":""},null,{"$f":"IF(BI336=\"\",\"\",INDEX(referentes!$J$2:$L$363,MATCH(BI336,referentes!$J$2:$J$363,0),2))","v":""},"",332]
["30000104",{"$f":"DIGITADOR!$B$2","v":""},1,{"$f":"IF(E337<>\"\",CONCATENATE($A$2,DIGITADOR!$M$1,O337,AH337),\"\")","v":""},null,null,"00:00:00",1,null,null,null,null,"",{"$f":"IF(M337=\"\",\"\",INDEX('Otras referencias'!$L$2:$N$200,MATCH(M337,'Otras referencias'!$L$2:$L$200,0),3))","v":""},{"$f":"IF(M337=\"\",\"\",INDEX(referentes!$S$2:$S$170,MATCH(N337,referentes!$W$2:$W$170,0),1))","v":""},null,null,null,null,null,null,null,null,null,{"$f":"IF(X337=\"\",\"\",INDEX(referentes!$Y$2:$Z$37,MATCH(X337,referentes!$Z$2:$Z$37,0),1))","v":""},"01",null,null,null,"",null,"",null,null,"",null,1,{"$f":"IF(E337<>\"\",CONCATENATE(B337,A337,DIGITADOR!$M$1,AH337),\"\")","v":""},"",null,null,null,null,null,null,null,null,null,null,null,null,null,null,null,null,null,null,"","",{"$f":"IF(BE337=\"\",\"\",INDEX(referentes!$D$2:$E$37,MATCH(BE337,referentes!$D$2:$D$37,0),2))","v":""},null,{"$f":"IF(BI337=\"\",\"\",INDEX(referentes!$J$2:$L$363,MATCH(BI337,referentes!$J$2:$J$363,0),2))","v":""},"",333]
["30000104",{"$f":"DIGITADOR!$B$2","v":""},1,{"$f":"IF(E338<>\"\",CONCATENATE($A$2,DIGITADOR!$M$1,O338,AH338),\"\")","v":""},null,null,"00:00:00",1,null,null,null,null,"",{"$f":"IF(M338=\"\",\"\",INDEX('Otras referencias'!$L$2:$N$200,MATCH(M338,'Otras referencias'!$L$2:$L$200,0),3))","v":""},{"$f":"IF(M338=\"\",\"\",INDEX(referentes!$S$2:$S$170,MATCH(N338,referentes!$W$2:$W$170,0),1))","v":""},null,null,null,null,null,null,null,null,null,{"$f":"IF(X338=\"\",\"\",INDEX(referentes!$Y$2:$Z$37,MATCH(X338,referentes!$Z$2:$Z$37,0),1))","v":""},"01",null,null,null,"",null,"",null,null,"",null,1,{"$f":"IF(E338<>\"\",CONCATENATE(B338,A338,DIGITADOR!$M$1,AH338),\"\")","v":""},"",null,null,null,null,null,null,null,null,null,null,null,null,null,null,null,null,null,null,"","",{"$f":"IF(BE338=\"\",\"\",INDEX(referentes!$D$2:$E$37,MATCH(BE338,referentes!$D$2:$D$37,0),2))","v":""},null,{"$f":"IF(BI338=\"\",\"\",INDEX(referentes!$J$2:$L$363,MATCH(BI338,referentes!$J$2:$J$363,0),2))","v":""},"",334]
["30000104",{"$f":"DIGITADOR!$B$2","v":""},1,{"$f":"IF(E339<>\"\",CONCATENATE($A$2,DIGITADOR!$M$1,O339,AH339),\"\")","v":""},null,null,"00:00:00",1,null,null,null,null,"",{"$f":"IF(M339=\"\",\"\",INDEX('Otras referencias'!$L$2:$N$200,MATCH(M339,'Otras referencias'!$L$2:$L$200,0),3))","v":""},{"$f":"IF(M339=\"\",\"\",INDEX(referentes!$S$2:$S$170,MATCH(N339,referentes!$W$2:$W$170,0),1))","v":""},null,null,null,null,null,null,null,null,null,{"$f":"IF(X339=\"\",\"\",INDEX(referentes!$Y$2:$Z$37,MATCH(X339,referentes!$Z$2:$Z$37,0),1))","v":""},"01",null,null,null,"",null,"",null,null,"",null,1,{"$f":"IF(E339<>\"\",CONCATENATE(B339,A339,DIGITADOR!$M$1,AH339),\"\")","v":""},"",null,null,null,null,null,null,null,null,null,null,null,null,null,null,null,null,null,null,"","",{"$f":"IF(BE339=\"\",\"\",INDEX(referentes!$D$2:$E$37,MATCH(BE339,referentes!$D$2:$D$37,0),2))","v":""},null,{"$f":"IF(BI339=\"\",\"\",INDEX(referentes!$J$2:$L$363,MATCH(BI339,referentes!$J$2:$J$363,0),2))","v":""},"",335]
["30000104",{"$f":"DIGITADOR!$B$2","v":""},1,{"$f":"IF(E340<>\"\",CONCATENATE($A$2,DIGITADOR!$M$1,O340,AH340),\"\")","v":""},null,null,"00:00:00",1,null,null,null,null,"",{"$f":"IF(M340=\"\",\"\",INDEX('Otras referencias'!$L$2:$N$200,MATCH(M340,'Otras referencias'!$L$2:$L$200,0),3))","v":""},{"$f":"IF(M340=\"\",\"\",INDEX(referentes!$S$2:$S$170,MATCH(N340,referentes!$W$2:$W$170,0),1))","v":""},null,null,null,null,null,null,null,null,null,{"$f":"IF(X340=\"\",\"\",INDEX(referentes!$Y$2:$Z$37,MATCH(X340,referentes!$Z$2:$Z$37,0),1))","v":""},"01",null,null,null,"",null,"",null,null,"",null,1,{"$f":"IF(E340<>\"\",CONCATENATE(B340,A340,DIGITADOR!$M$1,AH340),\"\")","v":""},"",null,null,null,null,null,null,null,null,null,null,null,null,null,null,null,null,null,null,"","",{"$f":"IF(BE340=\"\",\"\",INDEX(referentes!$D$2:$E$37,MATCH(BE340,referentes!$D$2:$D$37,0),2))","v":""},null,{"$f":"IF(BI340=\"\",\"\",INDEX(referentes!$J$2:$L$363,MATCH(BI340,referentes!$J$2:$J$363,0),2))","v":""},"",336]
["30000104",{"$f":"DIGITADOR!$B$2","v":""},1,{"$f":"IF(E341<>\"\",CONCATENATE($A$2,DIGITADOR!$M$1,O341,AH341),\"\")","v":""},null,null,"00:00:00",1,null,null,null,null,"",{"$f":"IF(M341=\"\",\"\",INDEX('Otras referencias'!$L$2:$N$200,MATCH(M341,'Otras referencias'!$L$2:$L$200,0),3))","v":""},{"$f":"IF(M341=\"\",\"\",INDEX(referentes!$S$2:$S$170,MATCH(N341,referentes!$W$2:$W$170,0),1))","v":""},null,null,null,null,null,null,null,null,null,{"$f":"IF(X341=\"\",\"\",INDEX(referentes!$Y$2:$Z$37,MATCH(X341,referentes!$Z$2:$Z$37,0),1))","v":""},"01",null,null,null,"",null,"",null,null,"",null,1,{"$f":"IF(E341<>\"\",CONCATENATE(B341,A341,DIGITADOR!$M$1,AH341),\"\")","v":""},"",null,null,null,null,null,null,null,null,null,null,null,null,null,null,null,null,null,null,"","",{"$f":"IF(BE341=\"\",\"\",INDEX(referentes!$D$2:$E$37,MATCH(BE341,referentes!$D$2:$D$37,0),2))","v":""},null,{"$f":"IF(BI341=\"\",\"\",INDEX(referentes!$J$2:$L$363,MATCH(BI341,referentes!$J$2:$J$363,0),2))","v":""},"",337]
["30000104",{"$f":"DIGITADOR!$B$2","v":""},1,{"$f":"IF(E342<>\"\",CONCATENATE($A$2,DIGITADOR!$M$1,O342,AH342),\"\")","v":""},null,null,"00:00:00",1,null,null,null,null,"",{"$f":"IF(M342=\"\",\"\",INDEX('Otras referencias'!$L$2:$N$200,MATCH(M342,'Otras referencias'!$L$2:$L$200,0),3))","v":""},{"$f":"IF(M342=\"\",\"\",INDEX(referentes!$S$2:$S$170,MATCH(N342,referentes!$W$2:$W$170,0),1))","v":""},null,null,null,null,null,null,null,null,null,{"$f":"IF(X342=\"\",\"\",INDEX(referentes!$Y$2:$Z$37,MATCH(X342,referentes!$Z$2:$Z$37,0),1))","v":""},"01",null,null,null,"",null,"",null,null,"",null,1,{"$f":"IF(E342<>\"\",CONCATENATE(B342,A342,DIGITADOR!$M$1,AH342),\"\")","v":""},"",null,null,null,null,null,null,null,null,null,null,null,null,null,null,null,null,null,null,"","",{"$f":"IF(BE342=\"\",\"\",INDEX(referentes!$D$2:$E$37,MATCH(BE342,referentes!$D$2:$D$37,0),2))","v":""},null,{"$f":"IF(BI342=\"\",\"\",INDEX(referentes!$J$2:$L$363,MATCH(BI342,referentes!$J$2:$J$363,0),2))","v":""},"",338]
["30000104",{"$f":"DIGITADOR!$B$2","v":""},1,{"$f":"IF(E343<>\"\",CONCATENATE($A$2,DIGITADOR!$M$1,O343,AH343),\"\")","v":""},null,null,"00:00:00",1,null,null,null,null,"",{"$f":"IF(M343=\"\",\"\",INDEX('Otras referencias'!$L$2:$N$200,MATCH(M343,'Otras referencias'!$L$2:$L$200,0),3))","v":""},{"$f":"IF(M343=\"\",\"\",INDEX(referentes!$S$2:$S$170,MATCH(N343,referentes!$W$2:$W$170,0),1))","v":""},null,null,null,null,null,null,null,null,null,{"$f":"IF(X343=\"\",\"\",INDEX(referentes!$Y$2:$Z$37,MATCH(X343,referentes!$Z$2:$Z$37,0),1))","v":""},"01",null,null,null,"",null,"",null,null,"",null,1,{"$f":"IF(E343<>\"\",CONCATENATE(B343,A343,DIGITADOR!$M$1,AH343),\"\")","v":""},"",null,null,null,null,null,null,null,null,null,null,null,null,null,null,null,null,null,null,"","",{"$f":"IF(BE343=\"\",\"\",INDEX(referentes!$D$2:$E$37,MATCH(BE343,referentes!$D$2:$D$37,0),2))","v":""},null,{"$f":"IF(BI343=\"\",\"\",INDEX(referentes!$J$2:$L$363,MATCH(BI343,referentes!$J$2:$J$363,0),2))","v":""},"",339]
["30000104",{"$f":"DIGITADOR!$B$2","v":""},1,{"$f":"IF(E344<>\"\",CONCATENATE($A$2,DIGITADOR!$M$1,O344,AH344),\"\")","v":""},null,null,"00:00:00",1,null,null,null,null,"",{"$f":"IF(M344=\"\",\"\",INDEX('Otras referencias'!$L$2:$N$200,MATCH(M344,'Otras referencias'!$L$2:$L$200,0),3))","v":""},{"$f":"IF(M344=\"\",\"\",INDEX(referentes!$S$2:$S$170,MATCH(N344,referentes!$W$2:$W$170,0),1))","v":""},null,null,null,null,null,null,null,null,null,{"$f":"IF(X344=\"\",\"\",INDEX(referentes!$Y$2:$Z$37,MATCH(X344,referentes!$Z$2:$Z$37,0),1))","v":""},"01",null,null,null,"",null,"",null,null,"",null,1,{"$f":"IF(E344<>\"\",CONCATENATE(B344,A344,DIGITADOR!$M$1,AH344),\"\")","v":""},"",null,null,null,null,null,null,null,null,null,null,null,null,null,null,null,null,null,null,"","",{"$f":"IF(BE344=\"\",\"\",INDEX(referentes!$D$2:$E$37,MATCH(BE344,referentes!$D$2:$D$37,0),2))","v":""},null,{"$f":"IF(BI344=\"\",\"\",INDEX(referentes!$J$2:$L$363,MATCH(BI344,referentes!$J$2:$J$363,0),2))","v":""},"",340]
["30000104",{"$f":"DIGITADOR!$B$2","v":""},1,{"$f":"IF(E345<>\"\",CONCATENATE($A$2,DIGITADOR!$M$1,O345,AH345),\"\")","v":""},null,null,"00:00:00",1,null,null,null,null,"",{"$f":"IF(M345=\"\",\"\",INDEX('Otras referencias'!$L$2:$N$200,MATCH(M345,'Otras referencias'!$L$2:$L$200,0),3))","v":""},{"$f":"IF(M345=\"\",\"\",INDEX(referentes!$S$2:$S$170,MATCH(N345,referentes!$W$2:$W$170,0),1))","v":""},null,null,null,null,null,null,null,null,null,{"$f":"IF(X345=\"\",\"\",INDEX(referentes!$Y$2:$Z$37,MATCH(X345,referentes!$Z$2:$Z$37,0),1))","v":""},"01",null,null,null,"",null,"",null,null,"",null,1,{"$f":"IF(E345<>\"\",CONCATENATE(B345,A345,DIGITADOR!$M$1,AH345),\"\")","v":""},"",null,null,null,null,null,null,null,null,null,null,null,null,null,null,null,null,null,null,"","",{"$f":"IF(BE345=\"\",\"\",INDEX(referentes!$D$2:$E$37,MATCH(BE345,referentes!$D$2:$D$37,0),2))","v":""},null,{"$f":"IF(BI345=\"\",\"\",INDEX(referentes!$J$2:$L$363,MATCH(BI345,referentes!$J$2:$J$363,0),2))","v":""},"",341]
["30000104",{"$f":"DIGITADOR!$B$2","v":""},1,{"$f":"IF(E346<>\"\",CONCATENATE($A$2,DIGITADOR!$M$1,O346,AH346),\"\")","v":""},null,null,"00:00:00",1,null,null,null,null,"",{"$f":"IF(M346=\"\",\"\",INDEX('Otras referencias'!$L$2:$N$200,MATCH(M346,'Otras referencias'!$L$2:$L$200,0),3))","v":""},{"$f":"IF(M346=\"\",\"\",INDEX(referentes!$S$2:$S$170,MATCH(N346,referentes!$W$2:$W$170,0),1))","v":""},null,null,null,null,null,null,null,null,null,{"$f":"IF(X346=\"\",\"\",INDEX(referentes!$Y$2:$Z$37,MATCH(X346,referentes!$Z$2:$Z$37,0),1))","v":""},"01",null,null,null,"",null,"",null,null,"",null,1,{"$f":"IF(E346<>\"\",CONCATENATE(B346,A346,DIGITADOR!$M$1,AH346),\"\")","v":""},"",null,null,null,null,null,null,null,null,null,null,null,null,null,null,null,null,null,null,"","",{"$f":"IF(BE346=\"\",\"\",INDEX(referentes!$D$2:$E$37,MATCH(BE346,referentes!$D$2:$D$37,0),2))","v":""},null,{"$f":"IF(BI346=\"\",\"\",INDEX(referentes!$J$2:$L$363,MATCH(BI346,referentes!$J$2:$J$363,0),2))","v":""},"",342]
["30000104",{"$f":"DIGITADOR!$B$2","v":""},1,{"$f":"IF(E347<>\"\",CONCATENATE($A$2,DIGITADOR!$M$1,O347,AH347),\"\")","v":""},null,null,"00:00:00",1,null,null,null,null,"",{"$f":"IF(M347=\"\",\"\",INDEX('Otras referencias'!$L$2:$N$200,MATCH(M347,'Otras referencias'!$L$2:$L$200,0),3))","v":""},{"$f":"IF(M347=\"\",\"\",INDEX(referentes!$S$2:$S$170,MATCH(N347,referentes!$W$2:$W$170,0),1))","v":""},null,null,null,null,null,null,null,null,null,{"$f":"IF(X347=\"\",\"\",INDEX(referentes!$Y$2:$Z$37,MATCH(X347,referentes!$Z$2:$Z$37,0),1))","v":""},"01",null,null,null,"",null,"",null,null,"",null,1,{"$f":"IF(E347<>\"\",CONCATENATE(B347,A347,DIGITADOR!$M$1,AH347),\"\")","v":""},"",null,null,null,null,null,null,null,null,null,null,null,null,null,null,null,null,null,null,"","",{"$f":"IF(BE347=\"\",\"\",INDEX(referentes!$D$2:$E$37,MATCH(BE347,referentes!$D$2:$D$37,0),2))","v":""},null,{"$f":"IF(BI347=\"\",\"\",INDEX(referentes!$J$2:$L$363,MATCH(BI347,referentes!$J$2:$J$363,0),2))","v":""},"",343]
["30000104",{"$f":"DIGITADOR!$B$2","v":""},1,{"$f":"IF(E348<>\"\",CONCATENATE($A$2,DIGITADOR!$M$1,O348,AH348),\"\")","v":""},null,null,"00:00:00",1,null,null,null,null,"",{"$f":"IF(M348=\"\",\"\",INDEX('Otras referencias'!$L$2:$N$200,MATCH(M348,'Otras referencias'!$L$2:$L$200,0),3))","v":""},{"$f":"IF(M348=\"\",\"\",INDEX(referentes!$S$2:$S$170,MATCH(N348,referentes!$W$2:$W$170,0),1))","v":""},null,null,null,null,null,null,null,null,null,{"$f":"IF(X348=\"\",\"\",INDEX(referentes!$Y$2:$Z$37,MATCH(X348,referentes!$Z$2:$Z$37,0),1))","v":""},"01",null,null,null,"",null,"",null,null,"",null,1,{"$f":"IF(E348<>\"\",CONCATENATE(B348,A348,DIGITADOR!$M$1,AH348),\"\")","v":""},"",null,null,null,null,null,null,null,null,null,null,null,null,null,null,null,null,null,null,"","",{"$f":"IF(BE348=\"\",\"\",INDEX(referentes!$D$2:$E$37,MATCH(BE348,referentes!$D$2:$D$37,0),2))","v":""},null,{"$f":"IF(BI348=\"\",\"\",INDEX(referentes!$J$2:$L$363,MATCH(BI348,referentes!$J$2:$J$363,0),2))","v":""},"",344]
["30000104",{"$f":"DIGITADOR!$B$2","v":""},1,{"$f":"IF(E349<>\"\",CONCATENATE($A$2,DIGITADOR!$M$1,O349,AH349),\"\")","v":""},null,null,"00:00:00",1,null,null,null,null,"",{"$f":"IF(M349=\"\",\"\",INDEX('Otras referencias'!$L$2:$N$200,MATCH(M349,'Otras referencias'!$L$2:$L$200,0),3))","v":""},{"$f":"IF(M349=\"\",\"\",INDEX(referentes!$S$2:$S$170,MATCH(N349,referentes!$W$2:$W$170,0),1))","v":""},null,null,null,null,null,null,null,null,null,{"$f":"IF(X349=\"\",\"\",INDEX(referentes!$Y$2:$Z$37,MATCH(X349,referentes!$Z$2:$Z$37,0),1))","v":""},"01",null,null,null,"",null,"",null,null,"",null,1,{"$f":"IF(E349<>\"\",CONCATENATE(B349,A349,DIGITADOR!$M$1,AH349),\"\")","v":""},"",null,null,null,null,null,null,null,null,null,null,null,null,null,null,null,null,null,null,"","",{"$f":"IF(BE349=\"\",\"\",INDEX(referentes!$D$2:$E$37,MATCH(BE349,referentes!$D$2:$D$37,0),2))","v":""},null,{"$f":"IF(BI349=\"\",\"\",INDEX(referentes!$J$2:$L$363,MATCH(BI349,referentes!$J$2:$J$363,0),2))","v":""},"",345]
["30000104",{"$f":"DIGITADOR!$B$2","v":""},1,{"$f":"IF(E350<>\"\",CONCATENATE($A$2,DIGITADOR!$M$1,O350,AH350),\"\")","v":""},null,null,"00:00:00",1,null,null,null,null,"",{"$f":"IF(M350=\"\",\"\",INDEX('Otras referencias'!$L$2:$N$200,MATCH(M350,'Otras referencias'!$L$2:$L$200,0),3))","v":""},{"$f":"IF(M350=\"\",\"\",INDEX(referentes!$S$2:$S$170,MATCH(N350,referentes!$W$2:$W$170,0),1))","v":""},null,null,null,null,null,null,null,null,null,{"$f":"IF(X350=\"\",\"\",INDEX(referentes!$Y$2:$Z$37,MATCH(X350,referentes!$Z$2:$Z$37,0),1))","v":""},"01",null,null,null,"",null,"",null,null,"",null,1,{"$f":"IF(E350<>\"\",CONCATENATE(B350,A350,DIGITADOR!$M$1,AH350),\"\")","v":""},"",null,null,null,null,null,null,null,null,null,null,null,null,null,null,null,null,null,null,"","",{"$f":"IF(BE350=\"\",\"\",INDEX(referentes!$D$2:$E$37,MATCH(BE350,referentes!$D$2:$D$37,0),2))","v":""},null,{"$f":"IF(BI350=\"\",\"\",INDEX(referentes!$J$2:$L$363,MATCH(BI350,referentes!$J$2:$J$363,0),2))","v":""},"",346]
["30000104",{"$f":"DIGITADOR!$B$2","v":""},1,{"$f":"IF(E351<>\"\",CONCATENATE($A$2,DIGITADOR!$M$1,O351,AH351),\"\")","v":""},null,null,"00:00:00",1,null,null,null,null,"",{"$f":"IF(M351=\"\",\"\",INDEX('Otras referencias'!$L$2:$N$200,MATCH(M351,'Otras referencias'!$L$2:$L$200,0),3))","v":""},{"$f":"IF(M351=\"\",\"\",INDEX(referentes!$S$2:$S$170,MATCH(N351,referentes!$W$2:$W$170,0),1))","v":""},null,null,null,null,null,null,null,null,null,{"$f":"IF(X351=\"\",\"\",INDEX(referentes!$Y$2:$Z$37,MATCH(X351,referentes!$Z$2:$Z$37,0),1))","v":""},"01",null,null,null,"",null,"",null,null,"",null,1,{"$f":"IF(E351<>\"\",CONCATENATE(B351,A351,DIGITADOR!$M$1,AH351),\"\")","v":""},"",null,null,null,null,null,null,null,null,null,null,null,null,null,null,null,null,null,null,"","",{"$f":"IF(BE351=\"\",\"\",INDEX(referentes!$D$2:$E$37,MATCH(BE351,referentes!$D$2:$D$37,0),2))","v":""},null,{"$f":"IF(BI351=\"\",\"\",INDEX(referentes!$J$2:$L$363,MATCH(BI351,referentes!$J$2:$J$363,0),2))","v":""},"",347]
["30000104",{"$f":"DIGITADOR!$B$2","v":""},1,{"$f":"IF(E352<>\"\",CONCATENATE($A$2,DIGITADOR!$M$1,O352,AH352),\"\")","v":""},null,null,"00:00:00",1,null,null,null,null,"",{"$f":"IF(M352=\"\",\"\",INDEX('Otras referencias'!$L$2:$N$200,MATCH(M352,'Otras referencias'!$L$2:$L$200,0),3))","v":""},{"$f":"IF(M352=\"\",\"\",INDEX(referentes!$S$2:$S$170,MATCH(N352,referentes!$W$2:$W$170,0),1))","v":""},null,null,null,null,null,null,null,null,null,{"$f":"IF(X352=\"\",\"\",INDEX(referentes!$Y$2:$Z$37,MATCH(X352,referentes!$Z$2:$Z$37,0),1))","v":""},"01",null,null,null,"",null,"",null,null,"",null,1,{"$f":"IF(E352<>\"\",CONCATENATE(B352,A352,DIGITADOR!$M$1,AH352),\"\")","v":""},"",null,null,null,null,null,null,null,null,null,null,null,null,null,null,null,null,null,null,"","",{"$f":"IF(BE352=\"\",\"\",INDEX(referentes!$D$2:$E$37,MATCH(BE352,referentes!$D$2:$D$37,0),2))","v":""},null,{"$f":"IF(BI352=\"\",\"\",INDEX(referentes!$J$2:$L$363,MATCH(BI352,referentes!$J$2:$J$363,0),2))","v":""},"",348]
["30000104",{"$f":"DIGITADOR!$B$2","v":""},1,{"$f":"IF(E353<>\"\",CONCATENATE($A$2,DIGITADOR!$M$1,O353,AH353),\"\")","v":""},null,null,"00:00:00",1,null,null,null,null,"",{"$f":"IF(M353=\"\",\"\",INDEX('Otras referencias'!$L$2:$N$200,MATCH(M353,'Otras referencias'!$L$2:$L$200,0),3))","v":""},{"$f":"IF(M353=\"\",\"\",INDEX(referentes!$S$2:$S$170,MATCH(N353,referentes!$W$2:$W$170,0),1))","v":""},null,null,null,null,null,null,null,null,null,{"$f":"IF(X353=\"\",\"\",INDEX(referentes!$Y$2:$Z$37,MATCH(X353,referentes!$Z$2:$Z$37,0),1))","v":""},"01",null,null,null,"",null,"",null,null,"",null,1,{"$f":"IF(E353<>\"\",CONCATENATE(B353,A353,DIGITADOR!$M$1,AH353),\"\")","v":""},"",null,null,null,null,null,null,null,null,null,null,null,null,null,null,null,null,null,null,"","",{"$f":"IF(BE353=\"\",\"\",INDEX(referentes!$D$2:$E$37,MATCH(BE353,referentes!$D$2:$D$37,0),2))","v":""},null,{"$f":"IF(BI353=\"\",\"\",INDEX(referentes!$J$2:$L$363,MATCH(BI353,referentes!$J$2:$J$363,0),2))","v":""},"",349]
["30000104",{"$f":"DIGITADOR!$B$2","v":""},1,{"$f":"IF(E354<>\"\",CONCATENATE($A$2,DIGITADOR!$M$1,O354,AH354),\"\")","v":""},null,null,"00:00:00",1,null,null,null,null,"",{"$f":"IF(M354=\"\",\"\",INDEX('Otras referencias'!$L$2:$N$200,MATCH(M354,'Otras referencias'!$L$2:$L$200,0),3))","v":""},{"$f":"IF(M354=\"\",\"\",INDEX(referentes!$S$2:$S$170,MATCH(N354,referentes!$W$2:$W$170,0),1))","v":""},null,null,null,null,null,null,null,null,null,{"$f":"IF(X354=\"\",\"\",INDEX(referentes!$Y$2:$Z$37,MATCH(X354,referentes!$Z$2:$Z$37,0),1))","v":""},"01",null,null,null,"",null,"",null,null,"",null,1,{"$f":"IF(E354<>\"\",CONCATENATE(B354,A354,DIGITADOR!$M$1,AH354),\"\")","v":""},"",null,null,null,null,null,null,null,null,null,null,null,null,null,null,null,null,null,null,"","",{"$f":"IF(BE354=\"\",\"\",INDEX(referentes!$D$2:$E$37,MATCH(BE354,referentes!$D$2:$D$37,0),2))","v":""},null,{"$f":"IF(BI354=\"\",\"\",INDEX(referentes!$J$2:$L$363,MATCH(BI354,referentes!$J$2:$J$363,0),2))","v":""},"",350]
["30000104",{"$f":"DIGITADOR!$B$2","v":""},1,{"$f":"IF(E355<>\"\",CONCATENATE($A$2,DIGITADOR!$M$1,O355,AH355),\"\")","v":""},null,null,"00:00:00",1,null,null,null,null,"",{"$f":"IF(M355=\"\",\"\",INDEX('Otras referencias'!$L$2:$N$200,MATCH(M355,'Otras referencias'!$L$2:$L$200,0),3))","v":""},{"$f":"IF(M355=\"\",\"\",INDEX(referentes!$S$2:$S$170,MATCH(N355,referentes!$W$2:$W$170,0),1))","v":""},null,null,null,null,null,null,null,null,null,{"$f":"IF(X355=\"\",\"\",INDEX(referentes!$Y$2:$Z$37,MATCH(X355,referentes!$Z$2:$Z$37,0),1))","v":""},"01",null,null,null,"",null,"",null,null,"",null,1,{"$f":"IF(E355<>\"\",CONCATENATE(B355,A355,DIGITADOR!$M$1,AH355),\"\")","v":""},"",null,null,null,null,null,null,null,null,null,null,null,null,null,null,null,null,null,null,"","",{"$f":"IF(BE355=\"\",\"\",INDEX(referentes!$D$2:$E$37,MATCH(BE355,referentes!$D$2:$D$37,0),2))","v":""},null,{"$f":"IF(BI355=\"\",\"\",INDEX(referentes!$J$2:$L$363,MATCH(BI355,referentes!$J$2:$J$363,0),2))","v":""},"",351]
["30000104",{"$f":"DIGITADOR!$B$2","v":""},1,{"$f":"IF(E356<>\"\",CONCATENATE($A$2,DIGITADOR!$M$1,O356,AH356),\"\")","v":""},null,null,"00:00:00",1,null,null,null,null,"",{"$f":"IF(M356=\"\",\"\",INDEX('Otras referencias'!$L$2:$N$200,MATCH(M356,'Otras referencias'!$L$2:$L$200,0),3))","v":""},{"$f":"IF(M356=\"\",\"\",INDEX(referentes!$S$2:$S$170,MATCH(N356,referentes!$W$2:$W$170,0),1))","v":""},null,null,null,null,null,null,null,null,null,{"$f":"IF(X356=\"\",\"\",INDEX(referentes!$Y$2:$Z$37,MATCH(X356,referentes!$Z$2:$Z$37,0),1))","v":""},"01",null,null,null,"",null,"",null,null,"",null,1,{"$f":"IF(E356<>\"\",CONCATENATE(B356,A356,DIGITADOR!$M$1,AH356),\"\")","v":""},"",null,null,null,null,null,null,null,null,null,null,null,null,null,null,null,null,null,null,"","",{"$f":"IF(BE356=\"\",\"\",INDEX(referentes!$D$2:$E$37,MATCH(BE356,referentes!$D$2:$D$37,0),2))","v":""},null,{"$f":"IF(BI356=\"\",\"\",INDEX(referentes!$J$2:$L$363,MATCH(BI356,referentes!$J$2:$J$363,0),2))","v":""},"",352]
["30000104",{"$f":"DIGITADOR!$B$2","v":""},1,{"$f":"IF(E357<>\"\",CONCATENATE($A$2,DIGITADOR!$M$1,O357,AH357),\"\")","v":""},null,null,"00:00:00",1,null,null,null,null,"",{"$f":"IF(M357=\"\",\"\",INDEX('Otras referencias'!$L$2:$N$200,MATCH(M357,'Otras referencias'!$L$2:$L$200,0),3))","v":""},{"$f":"IF(M357=\"\",\"\",INDEX(referentes!$S$2:$S$170,MATCH(N357,referentes!$W$2:$W$170,0),1))","v":""},null,null,null,null,null,null,null,null,null,{"$f":"IF(X357=\"\",\"\",INDEX(referentes!$Y$2:$Z$37,MATCH(X357,referentes!$Z$2:$Z$37,0),1))","v":""},"01",null,null,null,"",null,"",null,null,"",null,1,{"$f":"IF(E357<>\"\",CONCATENATE(B357,A357,DIGITADOR!$M$1,AH357),\"\")","v":""},"",null,null,null,null,null,null,null,null,null,null,null,null,null,null,null,null,null,null,"","",{"$f":"IF(BE357=\"\",\"\",INDEX(referentes!$D$2:$E$37,MATCH(BE357,referentes!$D$2:$D$37,0),2))","v":""},null,{"$f":"IF(BI357=\"\",\"\",INDEX(referentes!$J$2:$L$363,MATCH(BI357,referentes!$J$2:$J$363,0),2))","v":""},"",353]
["30000104",{"$f":"DIGITADOR!$B$2","v":""},1,{"$f":"IF(E358<>\"\",CONCATENATE($A$2,DIGITADOR!$M$1,O358,AH358),\"\")","v":""},null,null,"00:00:00",1,null,null,null,null,"",{"$f":"IF(M358=\"\",\"\",INDEX('Otras referencias'!$L$2:$N$200,MATCH(M358,'Otras referencias'!$L$2:$L$200,0),3))","v":""},{"$f":"IF(M358=\"\",\"\",INDEX(referentes!$S$2:$S$170,MATCH(N358,referentes!$W$2:$W$170,0),1))","v":""},null,null,null,null,null,null,null,null,null,{"$f":"IF(X358=\"\",\"\",INDEX(referentes!$Y$2:$Z$37,MATCH(X358,referentes!$Z$2:$Z$37,0),1))","v":""},"01",null,null,null,"",null,"",null,null,"",null,1,{"$f":"IF(E358<>\"\",CONCATENATE(B358,A358,DIGITADOR!$M$1,AH358),\"\")","v":""},"",null,null,null,null,null,null,null,null,null,null,null,null,null,null,null,null,null,null,"","",{"$f":"IF(BE358=\"\",\"\",INDEX(referentes!$D$2:$E$37,MATCH(BE358,referentes!$D$2:$D$37,0),2))","v":""},null,{"$f":"IF(BI358=\"\",\"\",INDEX(referentes!$J$2:$L$363,MATCH(BI358,referentes!$J$2:$J$363,0),2))","v":""},"",354]
["30000104",{"$f":"DIGITADOR!$B$2","v":""},1,{"$f":"IF(E359<>\"\",CONCATENATE($A$2,DIGITADOR!$M$1,O359,AH359),\"\")","v":""},null,null,"00:00:00",1,null,null,null,null,"",{"$f":"IF(M359=\"\",\"\",INDEX('Otras referencias'!$L$2:$N$200,MATCH(M359,'Otras referencias'!$L$2:$L$200,0),3))","v":""},{"$f":"IF(M359=\"\",\"\",INDEX(referentes!$S$2:$S$170,MATCH(N359,referentes!$W$2:$W$170,0),1))","v":""},null,null,null,null,null,null,null,null,null,{"$f":"IF(X359=\"\",\"\",INDEX(referentes!$Y$2:$Z$37,MATCH(X359,referentes!$Z$2:$Z$37,0),1))","v":""},"01",null,null,null,"",null,"",null,null,"",null,1,{"$f":"IF(E359<>\"\",CONCATENATE(B359,A359,DIGITADOR!$M$1,AH359),\"\")","v":""},"",null,null,null,null,null,null,null,null,null,null,null,null,null,null,null,null,null,null,"","",{"$f":"IF(BE359=\"\",\"\",INDEX(referentes!$D$2:$E$37,MATCH(BE359,referentes!$D$2:$D$37,0),2))","v":""},null,{"$f":"IF(BI359=\"\",\"\",INDEX(referentes!$J$2:$L$363,MATCH(BI359,referentes!$J$2:$J$363,0),2))","v":""},"",355]
["30000104",{"$f":"DIGITADOR!$B$2","v":""},1,{"$f":"IF(E360<>\"\",CONCATENATE($A$2,DIGITADOR!$M$1,O360,AH360),\"\")","v":""},null,null,"00:00:00",1,null,null,null,null,"",{"$f":"IF(M360=\"\",\"\",INDEX('Otras referencias'!$L$2:$N$200,MATCH(M360,'Otras referencias'!$L$2:$L$200,0),3))","v":""},{"$f":"IF(M360=\"\",\"\",INDEX(referentes!$S$2:$S$170,MATCH(N360,referentes!$W$2:$W$170,0),1))","v":""},null,null,null,null,null,null,null,null,null,{"$f":"IF(X360=\"\",\"\",INDEX(referentes!$Y$2:$Z$37,MATCH(X360,referentes!$Z$2:$Z$37,0),1))","v":""},"01",null,null,null,"",null,"",null,null,"",null,1,{"$f":"IF(E360<>\"\",CONCATENATE(B360,A360,DIGITADOR!$M$1,AH360),\"\")","v":""},"",null,null,null,null,null,null,null,null,null,null,null,null,null,null,null,null,null,null,"","",{"$f":"IF(BE360=\"\",\"\",INDEX(referentes!$D$2:$E$37,MATCH(BE360,referentes!$D$2:$D$37,0),2))","v":""},null,{"$f":"IF(BI360=\"\",\"\",INDEX(referentes!$J$2:$L$363,MATCH(BI360,referentes!$J$2:$J$363,0),2))","v":""},"",356]
["30000104",{"$f":"DIGITADOR!$B$2","v":""},1,{"$f":"IF(E361<>\"\",CONCATENATE($A$2,DIGITADOR!$M$1,O361,AH361),\"\")","v":""},null,null,{"$f":"E361+F361","v":"00:00:00"},{"$f":"IF(G361<>\"\",MONTH(G361),\"\")","v":1},null,null,null,null,{"$f":"IF(L361<>\"\",CONCATENATE(J361,L361),\"\")","v":""},{"$f":"IF(M361=\"\",\"\",INDEX('Otras referencias'!$L$2:$N$200,MATCH(M361,'Otras referencias'!$L$2:$L$200,0),3))","v":""},{"$f":"IF(M361=\"\",\"\",INDEX(referentes!$S$2:$S$170,MATCH(N361,referentes!$W$2:$W$170,0),1))","v":""},null,null,null,null,null,null,null,null,null,{"$f":"IF(X361=\"\",\"\",INDEX(referentes!$Y$2:$Z$37,MATCH(X361,referentes!$Z$2:$Z$37,0),1))","v":""},"01",null,null,null,"",null,"",null,null,"",null,1,{"$f":"IF(E361<>\"\",CONCATENATE(B361,A361,DIGITADOR!$M$1,AH361),\"\")","v":""},"",null,null,null,null,null,null,null,null,null,null,null,null,null,null,null,null,null,null,"","",{"$f":"IF(BE361=\"\",\"\",INDEX(referentes!$D$2:$E$37,MATCH(BE361,referentes!$D$2:$D$37,0),2))","v":""},null,{"$f":"IF(BI361=\"\",\"\",INDEX(referentes!$J$2:$L$363,MATCH(BI361,referentes!$J$2:$J$363,0),2))","v":""},"",357]
["30000104",{"$f":"DIGITADOR!$B$2","v":""},1,{"$f":"IF(E362<>\"\",CONCATENATE($A$2,DIGITADOR!$M$1,O362,AH362),\"\")","v":""},null,null,"00:00:00",1,null,null,null,null,"",{"$f":"IF(M362=\"\",\"\",INDEX('Otras referencias'!$L$2:$N$200,MATCH(M362,'Otras referencias'!$L$2:$L$200,0),3))","v":""},{"$f":"IF(M362=\"\",\"\",INDEX(referentes!$S$2:$S$170,MATCH(N362,referentes!$W$2:$W$170,0),1))","v":""},null,null,null,null,null,null,null,null,null,{"$f":"IF(X362=\"\",\"\",INDEX(referentes!$Y$2:$Z$37,MATCH(X362,referentes!$Z$2:$Z$37,0),1))","v":""},"01",null,null,null,"",null,"",null,null,"",null,1,{"$f":"IF(E362<>\"\",CONCATENATE(B362,A362,DIGITADOR!$M$1,AH362),\"\")","v":""},"",null,null,null,null,null,null,null,null,null,null,null,null,null,null,null,null,null,null,"","",{"$f":"IF(BE362=\"\",\"\",INDEX(referentes!$D$2:$E$37,MATCH(BE362,referentes!$D$2:$D$37,0),2))","v":""},null,{"$f":"IF(BI362=\"\",\"\",INDEX(referentes!$J$2:$L$363,MATCH(BI362,referentes!$J$2:$J$363,0),2))","v":""},"",358]
["30000104",{"$f":"DIGITADOR!$B$2","v":""},1,{"$f":"IF(E363<>\"\",CONCATENATE($A$2,DIGITADOR!$M$1,O363,AH363),\"\")","v":""},null,null,"00:00:00",1,null,null,null,null,"",{"$f":"IF(M363=\"\",\"\",INDEX('Otras referencias'!$L$2:$N$200,MATCH(M363,'Otras referencias'!$L$2:$L$200,0),3))","v":""},{"$f":"IF(M363=\"\",\"\",INDEX(referentes!$S$2:$S$170,MATCH(N363,referentes!$W$2:$W$170,0),1))","v":""},null,null,null,null,null,null,null,null,null,{"$f":"IF(X363=\"\",\"\",INDEX(referentes!$Y$2:$Z$37,MATCH(X363,referentes!$Z$2:$Z$37,0),1))","v":""},"01",null,null,null,"",null,"",null,null,"",null,1,{"$f":"IF(E363<>\"\",CONCATENATE(B363,A363,DIGITADOR!$M$1,AH363),\"\")","v":""},"",null,null,null,null,null,null,null,null,null,null,null,null,null,null,null,null,null,null,"","",{"$f":"IF(BE363=\"\",\"\",INDEX(referentes!$D$2:$E$37,MATCH(BE363,referentes!$D$2:$D$37,0),2))","v":""},null,{"$f":"IF(BI363=\"\",\"\",INDEX(referentes!$J$2:$L$363,MATCH(BI363,referentes!$J$2:$J$363,0),2))","v":""},"",359]
["30000104",{"$f":"DIGITADOR!$B$2","v":""},1,{"$f":"IF(E364<>\"\",CONCATENATE($A$2,DIGITADOR!$M$1,O364,AH364),\"\")","v":""},null,null,"00:00:00",1,null,null,null,null,"",{"$f":"IF(M364=\"\",\"\",INDEX('Otras referencias'!$L$2:$N$200,MATCH(M364,'Otras referencias'!$L$2:$L$200,0),3))","v":""},{"$f":"IF(M364=\"\",\"\",INDEX(referentes!$S$2:$S$170,MATCH(N364,referentes!$W$2:$W$170,0),1))","v":""},null,null,null,null,null,null,null,null,null,{"$f":"IF(X364=\"\",\"\",INDEX(referentes!$Y$2:$Z$37,MATCH(X364,referentes!$Z$2:$Z$37,0),1))","v":""},"01",null,null,null,"",null,"",null,null,"",null,1,{"$f":"IF(E364<>\"\",CONCATENATE(B364,A364,DIGITADOR!$M$1,AH364),\"\")","v":""},"",null,null,null,null,null,null,null,null,null,null,null,null,null,null,null,null,null,null,"","",{"$f":"IF(BE364=\"\",\"\",INDEX(referentes!$D$2:$E$37,MATCH(BE364,referentes!$D$2:$D$37,0),2))","v":""},null,{"$f":"IF(BI364=\"\",\"\",INDEX(referentes!$J$2:$L$363,MATCH(BI364,referentes!$J$2:$J$363,0),2))","v":""},"",360]
["30000104",{"$f":"DIGITADOR!$B$2","v":""},1,{"$f":"IF(E365<>\"\",CONCATENATE($A$2,DIGITADOR!$M$1,O365,AH365),\"\")","v":""},null,null,"00:00:00",1,null,null,null,null,"",{"$f":"IF(M365=\"\",\"\",INDEX('Otras referencias'!$L$2:$N$200,MATCH(M365,'Otras referencias'!$L$2:$L$200,0),3))","v":""},{"$f":"IF(M365=\"\",\"\",INDEX(referentes!$S$2:$S$170,MATCH(N365,referentes!$W$2:$W$170,0),1))","v":""},null,null,null,null,null,null,null,null,null,{"$f":"IF(X365=\"\",\"\",INDEX(referentes!$Y$2:$Z$37,MATCH(X365,referentes!$Z$2:$Z$37,0),1))","v":""},"01",null,null,null,"",null,"",null,null,"",null,1,{"$f":"IF(E365<>\"\",CONCATENATE(B365,A365,DIGITADOR!$M$1,AH365),\"\")","v":""},"",null,null,null,null,null,null,null,null,null,null,null,null,null,null,null,null,null,null,"","",{"$f":"IF(BE365=\"\",\"\",INDEX(referentes!$D$2:$E$37,MATCH(BE365,referentes!$D$2:$D$37,0),2))","v":""},null,{"$f":"IF(BI365=\"\",\"\",INDEX(referentes!$J$2:$L$363,MATCH(BI365,referentes!$J$2:$J$363,0),2))","v":""},"",361]
["30000104",{"$f":"DIGITADOR!$B$2","v":""},1,{"$f":"IF(E366<>\"\",CONCATENATE($A$2,DIGITADOR!$M$1,O366,AH366),\"\")","v":""},null,null,"00:00:00",1,null,null,null,null,"",{"$f":"IF(M366=\"\",\"\",INDEX('Otras referencias'!$L$2:$N$200,MATCH(M366,'Otras referencias'!$L$2:$L$200,0),3))","v":""},{"$f":"IF(M366=\"\",\"\",INDEX(referentes!$S$2:$S$170,MATCH(N366,referentes!$W$2:$W$170,0),1))","v":""},null,null,null,null,null,null,null,null,null,{"$f":"IF(X366=\"\",\"\",INDEX(referentes!$Y$2:$Z$37,MATCH(X366,referentes!$Z$2:$Z$37,0),1))","v":""},"01",null,null,null,"",null,"",null,null,"",null,1,{"$f":"IF(E366<>\"\",CONCATENATE(B366,A366,DIGITADOR!$M$1,AH366),\"\")","v":""},"",null,null,null,null,null,null,null,null,null,null,null,null,null,null,null,null,null,null,"","",{"$f":"IF(BE366=\"\",\"\",INDEX(referentes!$D$2:$E$37,MATCH(BE366,referentes!$D$2:$D$37,0),2))","v":""},null,{"$f":"IF(BI366=\"\",\"\",INDEX(referentes!$J$2:$L$363,MATCH(BI366,referentes!$J$2:$J$363,0),2))","v":""},"",362]
["30000104",{"$f":"DIGITADOR!$B$2","v":""},1,{"$f":"IF(E367<>\"\",CONCATENATE($A$2,DIGITADOR!$M$1,O367,AH367),\"\")","v":""},null,null,"00:00:00",1,null,null,null,null,"",{"$f":"IF(M367=\"\",\"\",INDEX('Otras referencias'!$L$2:$N$200,MATCH(M367,'Otras referencias'!$L$2:$L$200,0),3))","v":""},{"$f":"IF(M367=\"\",\"\",INDEX(referentes!$S$2:$S$170,MATCH(N367,referentes!$W$2:$W$170,0),1))","v":""},null,null,null,null,null,null,null,null,null,{"$f":"IF(X367=\"\",\"\",INDEX(referentes!$Y$2:$Z$37,MATCH(X367,referentes!$Z$2:$Z$37,0),1))","v":""},"01",null,null,null,"",null,"",null,null,"",null,1,{"$f":"IF(E367<>\"\",CONCATENATE(B367,A367,DIGITADOR!$M$1,AH367),\"\")","v":""},"",null,null,null,null,null,null,null,null,null,null,null,null,null,null,null,null,null,null,"","",{"$f":"IF(BE367=\"\",\"\",INDEX(referentes!$D$2:$E$37,MATCH(BE367,referentes!$D$2:$D$37,0),2))","v":""},null,{"$f":"IF(BI367=\"\",\"\",INDEX(referentes!$J$2:$L$363,MATCH(BI367,referentes!$J$2:$J$363,0),2))","v":""},"",363]
["30000104",{"$f":"DIGITADOR!$B$2","v":""},1,{"$f":"IF(E368<>\"\",CONCATENATE($A$2,DIGITADOR!$M$1,O368,AH368),\"\")","v":""},null,null,"00:00:00",1,null,null,null,null,"",{"$f":"IF(M368=\"\",\"\",INDEX('Otras referencias'!$L$2:$N$200,MATCH(M368,'Otras referencias'!$L$2:$L$200,0),3))","v":""},{"$f":"IF(M368=\"\",\"\",INDEX(referentes!$S$2:$S$170,MATCH(N368,referentes!$W$2:$W$170,0),1))","v":""},null,null,null,null,null,null,null,null,null,{"$f":"IF(X368=\"\",\"\",INDEX(referentes!$Y$2:$Z$37,MATCH(X368,referentes!$Z$2:$Z$37,0),1))","v":""},"01",null,null,null,"",null,"",null,null,"",null,1,{"$f":"IF(E368<>\"\",CONCATENATE(B368,A368,DIGITADOR!$M$1,AH368),\"\")","v":""},"",null,null,null,null,null,null,null,null,null,null,null,null,null,null,null,null,null,null,"","",{"$f":"IF(BE368=\"\",\"\",INDEX(referentes!$D$2:$E$37,MATCH(BE368,referentes!$D$2:$D$37,0),2))","v":""},null,{"$f":"IF(BI368=\"\",\"\",INDEX(referentes!$J$2:$L$363,MATCH(BI368,referentes!$J$2:$J$363,0),2))","v":""},"",364]
["30000104",{"$f":"DIGITADOR!$B$2","v":""},1,{"$f":"IF(E369<>\"\",CONCATENATE($A$2,DIGITADOR!$M$1,O369,AH369),\"\")","v":""},null,null,"00:00:00",1,null,null,null,null,"",{"$f":"IF(M369=\"\",\"\",INDEX('Otras referencias'!$L$2:$N$200,MATCH(M369,'Otras referencias'!$L$2:$L$200,0),3))","v":""},{"$f":"IF(M369=\"\",\"\",INDEX(referentes!$S$2:$S$170,MATCH(N369,referentes!$W$2:$W$170,0),1))","v":""},null,null,null,null,null,null,null,null,null,{"$f":"IF(X369=\"\",\"\",INDEX(referentes!$Y$2:$Z$37,MATCH(X369,referentes!$Z$2:$Z$37,0),1))","v":""},"01",null,null,null,"",null,"",null,null,"",null,1,{"$f":"IF(E369<>\"\",CONCATENATE(B369,A369,DIGITADOR!$M$1,AH369),\"\")","v":""},"",null,null,null,null,null,null,null,null,null,null,null,null,null,null,null,null,null,null,"","",{"$f":"IF(BE369=\"\",\"\",INDEX(referentes!$D$2:$E$37,MATCH(BE369,referentes!$D$2:$D$37,0),2))","v":""},null,{"$f":"IF(BI369=\"\",\"\",INDEX(referentes!$J$2:$L$363,MATCH(BI369,referentes!$J$2:$J$363,0),2))","v":""},"",365]
["30000104",{"$f":"DIGITADOR!$B$2","v":""},1,{"$f":"IF(E370<>\"\",CONCATENATE($A$2,DIGITADOR!$M$1,O370,AH370),\"\")","v":""},null,null,"00:00:00",1,null,null,null,null,"",{"$f":"IF(M370=\"\",\"\",INDEX('Otras referencias'!$L$2:$N$200,MATCH(M370,'Otras referencias'!$L$2:$L$200,0),3))","v":""},{"$f":"IF(M370=\"\",\"\",INDEX(referentes!$S$2:$S$170,MATCH(N370,referentes!$W$2:$W$170,0),1))","v":""},null,null,null,null,null,null,null,null,null,{"$f":"IF(X370=\"\",\"\",INDEX(referentes!$Y$2:$Z$37,MATCH(X370,referentes!$Z$2:$Z$37,0),1))","v":""},"01",null,null,null,"",null,"",null,null,"",null,1,{"$f":"IF(E370<>\"\",CONCATENATE(B370,A370,DIGITADOR!$M$1,AH370),\"\")","v":""},"",null,null,null,null,null,null,null,null,null,null,null,null,null,null,null,null,null,null,"","",{"$f":"IF(BE370=\"\",\"\",INDEX(referentes!$D$2:$E$37,MATCH(BE370,referentes!$D$2:$D$37,0),2))","v":""},null,{"$f":"IF(BI370=\"\",\"\",INDEX(referentes!$J$2:$L$363,MATCH(BI370,referentes!$J$2:$J$363,0),2))","v":""},"",366]
["30000104",{"$f":"DIGITADOR!$B$2","v":""},1,{"$f":"IF(E371<>\"\",CONCATENATE($A$2,DIGITADOR!$M$1,O371,AH371),\"\")","v":""},null,null,"00:00:00",1,null,null,null,null,"",{"$f":"IF(M371=\"\",\"\",INDEX('Otras referencias'!$L$2:$N$200,MATCH(M371,'Otras referencias'!$L$2:$L$200,0),3))","v":""},{"$f":"IF(M371=\"\",\"\",INDEX(referentes!$S$2:$S$170,MATCH(N371,referentes!$W$2:$W$170,0),1))","v":""},null,null,null,null,null,null,null,null,null,{"$f":"IF(X371=\"\",\"\",INDEX(referentes!$Y$2:$Z$37,MATCH(X371,referentes!$Z$2:$Z$37,0),1))","v":""},"01",null,null,null,"",null,"",null,null,"",null,1,{"$f":"IF(E371<>\"\",CONCATENATE(B371,A371,DIGITADOR!$M$1,AH371),\"\")","v":""},"",null,null,null,null,null,null,null,null,null,null,null,null,null,null,null,null,null,null,"","",{"$f":"IF(BE371=\"\",\"\",INDEX(referentes!$D$2:$E$37,MATCH(BE371,referentes!$D$2:$D$37,0),2))","v":""},null,{"$f":"IF(BI371=\"\",\"\",INDEX(referentes!$J$2:$L$363,MATCH(BI371,referentes!$J$2:$J$363,0),2))","v":""},"",367]
["30000104",{"$f":"DIGITADOR!$B$2","v":""},1,{"$f":"IF(E372<>\"\",CONCATENATE($A$2,DIGITADOR!$M$1,O372,AH372),\"\")","v":""},null,null,"00:00:00",1,null,null,null,null,"",{"$f":"IF(M372=\"\",\"\",INDEX('Otras referencias'!$L$2:$N$200,MATCH(M372,'Otras referencias'!$L$2:$L$200,0),3))","v":""},{"$f":"IF(M372=\"\",\"\",INDEX(referentes!$S$2:$S$170,MATCH(N372,referentes!$W$2:$W$170,0),1))","v":""},null,null,null,null,null,null,null,null,null,{"$f":"IF(X372=\"\",\"\",INDEX(referentes!$Y$2:$Z$37,MATCH(X372,referentes!$Z$2:$Z$37,0),1))","v":""},"01",null,null,null,"",null,"",null,null,"",null,1,{"$f":"IF(E372<>\"\",CONCATENATE(B372,A372,DIGITADOR!$M$1,AH372),\"\")","v":""},"",null,null,null,null,null,null,null,null,null,null,null,null,null,null,null,null,null,null,"","",{"$f":"IF(BE372=\"\",\"\",INDEX(referentes!$D$2:$E$37,MATCH(BE372,referentes!$D$2:$D$37,0),2))","v":""},null,{"$f":"IF(BI372=\"\",\"\",INDEX(referentes!$J$2:$L$363,MATCH(BI372,referentes!$J$2:$J$363,0),2))","v":""},"",368]
["30000104",{"$f":"DIGITADOR!$B$2","v":""},1,{"$f":"IF(E373<>\"\",CONCATENATE($A$2,DIGITADOR!$M$1,O373,AH373),\"\")","v":""},null,null,"00:00:00",1,null,null,null,null,"",{"$f":"IF(M373=\"\",\"\",INDEX('Otras referencias'!$L$2:$N$200,MATCH(M373,'Otras referencias'!$L$2:$L$200,0),3))","v":""},{"$f":"IF(M373=\"\",\"\",INDEX(referentes!$S$2:$S$170,MATCH(N373,referentes!$W$2:$W$170,0),1))","v":""},null,null,null,null,null,null,null,null,null,{"$f":"IF(X373=\"\",\"\",INDEX(referentes!$Y$2:$Z$37,MATCH(X373,referentes!$Z$2:$Z$37,0),1))","v":""},"01",null,null,null,"",null,"",null,null,"",null,1,{"$f":"IF(E373<>\"\",CONCATENATE(B373,A373,DIGITADOR!$M$1,AH373),\"\")","v":""},"",null,null,null,null,null,null,null,null,null,null,null,null,null,null,null,null,null,null,"","",{"$f":"IF(BE373=\"\",\"\",INDEX(referentes!$D$2:$E$37,MATCH(BE373,referentes!$D$2:$D$37,0),2))","v":""},null,{"$f":"IF(BI373=\"\",\"\",INDEX(referentes!$J$2:$L$363,MATCH(BI373,referentes!$J$2:$J$363,0),2))","v":""},"",369]
["30000104",{"$f":"DIGITADOR!$B$2","v":""},1,{"$f":"IF(E374<>\"\",CONCATENATE($A$2,DIGITADOR!$M$1,O374,AH374),\"\")","v":""},null,null,"00:00:00",1,null,null,null,null,"",{"$f":"IF(M374=\"\",\"\",INDEX('Otras referencias'!$L$2:$N$200,MATCH(M374,'Otras referencias'!$L$2:$L$200,0),3))","v":""},{"$f":"IF(M374=\"\",\"\",INDEX(referentes!$S$2:$S$170,MATCH(N374,referentes!$W$2:$W$170,0),1))","v":""},null,null,null,null,null,null,null,null,null,{"$f":"IF(X374=\"\",\"\",INDEX(referentes!$Y$2:$Z$37,MATCH(X374,referentes!$Z$2:$Z$37,0),1))","v":""},"01",null,null,null,"",null,"",null,null,"",null,1,{"$f":"IF(E374<>\"\",CONCATENATE(B374,A374,DIGITADOR!$M$1,AH374),\"\")","v":""},"",null,null,null,null,null,null,null,null,null,null,null,null,null,null,null,null,null,null,"","",{"$f":"IF(BE374=\"\",\"\",INDEX(referentes!$D$2:$E$37,MATCH(BE374,referentes!$D$2:$D$37,0),2))","v":""},null,{"$f":"IF(BI374=\"\",\"\",INDEX(referentes!$J$2:$L$363,MATCH(BI374,referentes!$J$2:$J$363,0),2))","v":""},"",370]
["30000104",{"$f":"DIGITADOR!$B$2","v":""},1,{"$f":"IF(E375<>\"\",CONCATENATE($A$2,DIGITADOR!$M$1,O375,AH375),\"\")","v":""},null,null,"00:00:00",1,null,null,null,null,"",{"$f":"IF(M375=\"\",\"\",INDEX('Otras referencias'!$L$2:$N$200,MATCH(M375,'Otras referencias'!$L$2:$L$200,0),3))","v":""},{"$f":"IF(M375=\"\",\"\",INDEX(referentes!$S$2:$S$170,MATCH(N375,referentes!$W$2:$W$170,0),1))","v":""},null,null,null,null,null,null,null,null,null,{"$f":"IF(X375=\"\",\"\",INDEX(referentes!$Y$2:$Z$37,MATCH(X375,referentes!$Z$2:$Z$37,0),1))","v":""},"01",null,null,null,"",null,"",null,null,"",null,1,{"$f":"IF(E375<>\"\",CONCATENATE(B375,A375,DIGITADOR!$M$1,AH375),\"\")","v":""},"",null,null,null,null,null,null,null,null,null,null,null,null,null,null,null,null,null,null,"","",{"$f":"IF(BE375=\"\",\"\",INDEX(referentes!$D$2:$E$37,MATCH(BE375,referentes!$D$2:$D$37,0),2))","v":""},null,{"$f":"IF(BI375=\"\",\"\",INDEX(referentes!$J$2:$L$363,MATCH(BI375,referentes!$J$2:$J$363,0),2))","v":""},"",371]
["30000104",{"$f":"DIGITADOR!$B$2","v":""},1,{"$f":"IF(E376<>\"\",CONCATENATE($A$2,DIGITADOR!$M$1,O376,AH376),\"\")","v":""},null,null,"00:00:00",1,null,null,null,null,"",{"$f":"IF(M376=\"\",\"\",INDEX('Otras referencias'!$L$2:$N$200,MATCH(M376,'Otras referencias'!$L$2:$L$200,0),3))","v":""},{"$f":"IF(M376=\"\",\"\",INDEX(referentes!$S$2:$S$170,MATCH(N376,referentes!$W$2:$W$170,0),1))","v":""},null,null,null,null,null,null,null,null,null,{"$f":"IF(X376=\"\",\"\",INDEX(referentes!$Y$2:$Z$37,MATCH(X376,referentes!$Z$2:$Z$37,0),1))","v":""},"01",null,null,null,"",null,"",null,null,"",null,1,{"$f":"IF(E376<>\"\",CONCATENATE(B376,A376,DIGITADOR!$M$1,AH376),\"\")","v":""},"",null,null,null,null,null,null,null,null,null,null,null,null,null,null,null,null,null,null,"","",{"$f":"IF(BE376=\"\",\"\",INDEX(referentes!$D$2:$E$37,MATCH(BE376,referentes!$D$2:$D$37,0),2))","v":""},null,{"$f":"IF(BI376=\"\",\"\",INDEX(referentes!$J$2:$L$363,MATCH(BI376,referentes!$J$2:$J$363,0),2))","v":""},"",372]
["30000104",{"$f":"DIGITADOR!$B$2","v":""},1,{"$f":"IF(E377<>\"\",CONCATENATE($A$2,DIGITADOR!$M$1,O377,AH377),\"\")","v":""},null,null,"00:00:00",1,null,null,null,null,"",{"$f":"IF(M377=\"\",\"\",INDEX('Otras referencias'!$L$2:$N$200,MATCH(M377,'Otras referencias'!$L$2:$L$200,0),3))","v":""},{"$f":"IF(M377=\"\",\"\",INDEX(referentes!$S$2:$S$170,MATCH(N377,referentes!$W$2:$W$170,0),1))","v":""},null,null,null,null,null,null,null,null,null,{"$f":"IF(X377=\"\",\"\",INDEX(referentes!$Y$2:$Z$37,MATCH(X377,referentes!$Z$2:$Z$37,0),1))","v":""},"01",null,null,null,"",null,"",null,null,"",null,1,{"$f":"IF(E377<>\"\",CONCATENATE(B377,A377,DIGITADOR!$M$1,AH377),\"\")","v":""},"",null,null,null,null,null,null,null,null,null,null,null,null,null,null,null,null,null,null,"","",{"$f":"IF(BE377=\"\",\"\",INDEX(referentes!$D$2:$E$37,MATCH(BE377,referentes!$D$2:$D$37,0),2))","v":""},null,{"$f":"IF(BI377=\"\",\"\",INDEX(referentes!$J$2:$L$363,MATCH(BI377,referentes!$J$2:$J$363,0),2))","v":""},"",373]
["30000104",{"$f":"DIGITADOR!$B$2","v":""},1,{"$f":"IF(E378<>\"\",CONCATENATE($A$2,DIGITADOR!$M$1,O378,AH378),\"\")","v":""},null,null,"00:00:00",1,null,null,null,null,"",{"$f":"IF(M378=\"\",\"\",INDEX('Otras referencias'!$L$2:$N$200,MATCH(M378,'Otras referencias'!$L$2:$L$200,0),3))","v":""},{"$f":"IF(M378=\"\",\"\",INDEX(referentes!$S$2:$S$170,MATCH(N378,referentes!$W$2:$W$170,0),1))","v":""},null,null,null,null,null,null,null,null,null,{"$f":"IF(X378=\"\",\"\",INDEX(referentes!$Y$2:$Z$37,MATCH(X378,referentes!$Z$2:$Z$37,0),1))","v":""},"01",null,null,null,"",null,"",null,null,"",null,1,{"$f":"IF(E378<>\"\",CONCATENATE(B378,A378,DIGITADOR!$M$1,AH378),\"\")","v":""},"",null,null,null,null,null,null,null,null,null,null,null,null,null,null,null,null,null,null,"","",{"$f":"IF(BE378=\"\",\"\",INDEX(referentes!$D$2:$E$37,MATCH(BE378,referentes!$D$2:$D$37,0),2))","v":""},null,{"$f":"IF(BI378=\"\",\"\",INDEX(referentes!$J$2:$L$363,MATCH(BI378,referentes!$J$2:$J$363,0),2))","v":""},"",374]
["30000104",{"$f":"DIGITADOR!$B$2","v":""},1,{"$f":"IF(E379<>\"\",CONCATENATE($A$2,DIGITADOR!$M$1,O379,AH379),\"\")","v":""},null,null,"00:00:00",1,null,null,null,null,"",{"$f":"IF(M379=\"\",\"\",INDEX('Otras referencias'!$L$2:$N$200,MATCH(M379,'Otras referencias'!$L$2:$L$200,0),3))","v":""},{"$f":"IF(M379=\"\",\"\",INDEX(referentes!$S$2:$S$170,MATCH(N379,referentes!$W$2:$W$170,0),1))","v":""},null,null,null,null,null,null,null,null,null,{"$f":"IF(X379=\"\",\"\",INDEX(referentes!$Y$2:$Z$37,MATCH(X379,referentes!$Z$2:$Z$37,0),1))","v":""},"01",null,null,null,"",null,"",null,null,"",null,1,{"$f":"IF(E379<>\"\",CONCATENATE(B379,A379,DIGITADOR!$M$1,AH379),\"\")","v":""},"",null,null,null,null,null,null,null,null,null,null,null,null,null,null,null,null,null,null,"","",{"$f":"IF(BE379=\"\",\"\",INDEX(referentes!$D$2:$E$37,MATCH(BE379,referentes!$D$2:$D$37,0),2))","v":""},null,{"$f":"IF(BI379=\"\",\"\",INDEX(referentes!$J$2:$L$363,MATCH(BI379,referentes!$J$2:$J$363,0),2))","v":""},"",375]
["30000104",{"$f":"DIGITADOR!$B$2","v":""},1,{"$f":"IF(E380<>\"\",CONCATENATE($A$2,DIGITADOR!$M$1,O380,AH380),\"\")","v":""},null,null,"00:00:00",1,null,null,null,null,"",{"$f":"IF(M380=\"\",\"\",INDEX('Otras referencias'!$L$2:$N$200,MATCH(M380,'Otras referencias'!$L$2:$L$200,0),3))","v":""},{"$f":"IF(M380=\"\",\"\",INDEX(referentes!$S$2:$S$170,MATCH(N380,referentes!$W$2:$W$170,0),1))","v":""},null,null,null,null,null,null,null,null,null,{"$f":"IF(X380=\"\",\"\",INDEX(referentes!$Y$2:$Z$37,MATCH(X380,referentes!$Z$2:$Z$37,0),1))","v":""},"01",null,null,null,"",null,"",null,null,"",null,1,{"$f":"IF(E380<>\"\",CONCATENATE(B380,A380,DIGITADOR!$M$1,AH380),\"\")","v":""},"",null,null,null,null,null,null,null,null,null,null,null,null,null,null,null,null,null,null,"","",{"$f":"IF(BE380=\"\",\"\",INDEX(referentes!$D$2:$E$37,MATCH(BE380,referentes!$D$2:$D$37,0),2))","v":""},null,{"$f":"IF(BI380=\"\",\"\",INDEX(referentes!$J$2:$L$363,MATCH(BI380,referentes!$J$2:$J$363,0),2))","v":""},"",376]
["30000104",{"$f":"DIGITADOR!$B$2","v":""},1,{"$f":"IF(E381<>\"\",CONCATENATE($A$2,DIGITADOR!$M$1,O381,AH381),\"\")","v":""},null,null,"00:00:00",1,null,null,null,null,"",{"$f":"IF(M381=\"\",\"\",INDEX('Otras referencias'!$L$2:$N$200,MATCH(M381,'Otras referencias'!$L$2:$L$200,0),3))","v":""},{"$f":"IF(M381=\"\",\"\",INDEX(referentes!$S$2:$S$170,MATCH(N381,referentes!$W$2:$W$170,0),1))","v":""},null,null,null,null,null,null,null,null,null,{"$f":"IF(X381=\"\",\"\",INDEX(referentes!$Y$2:$Z$37,MATCH(X381,referentes!$Z$2:$Z$37,0),1))","v":""},"01",null,null,null,"",null,"",null,null,"",null,1,{"$f":"IF(E381<>\"\",CONCATENATE(B381,A381,DIGITADOR!$M$1,AH381),\"\")","v":""},"",null,null,null,null,null,null,null,null,null,null,null,null,null,null,null,null,null,null,"","",{"$f":"IF(BE381=\"\",\"\",INDEX(referentes!$D$2:$E$37,MATCH(BE381,referentes!$D$2:$D$37,0),2))","v":""},null,{"$f":"IF(BI381=\"\",\"\",INDEX(referentes!$J$2:$L$363,MATCH(BI381,referentes!$J$2:$J$363,0),2))","v":""},"",377]
["30000104",{"$f":"DIGITADOR!$B$2","v":""},1,{"$f":"IF(E382<>\"\",CONCATENATE($A$2,DIGITADOR!$M$1,O382,AH382),\"\")","v":""},null,null,"00:00:00",1,null,null,null,null,"",{"$f":"IF(M382=\"\",\"\",INDEX('Otras referencias'!$L$2:$N$200,MATCH(M382,'Otras referencias'!$L$2:$L$200,0),3))","v":""},{"$f":"IF(M382=\"\",\"\",INDEX(referentes!$S$2:$S$170,MATCH(N382,referentes!$W$2:$W$170,0),1))","v":""},null,null,null,null,null,null,null,null,null,{"$f":"IF(X382=\"\",\"\",INDEX(referentes!$Y$2:$Z$37,MATCH(X382,referentes!$Z$2:$Z$37,0),1))","v":""},"01",null,null,null,"",null,"",null,null,"",null,1,{"$f":"IF(E382<>\"\",CONCATENATE(B382,A382,DIGITADOR!$M$1,AH382),\"\")","v":""},"",null,null,null,null,null,null,null,null,null,null,null,null,null,null,null,null,null,null,"","",{"$f":"IF(BE382=\"\",\"\",INDEX(referentes!$D$2:$E$37,MATCH(BE382,referentes!$D$2:$D$37,0),2))","v":""},null,{"$f":"IF(BI382=\"\",\"\",INDEX(referentes!$J$2:$L$363,MATCH(BI382,referentes!$J$2:$J$363,0),2))","v":""},"",378]
["30000104",{"$f":"DIGITADOR!$B$2","v":""},1,{"$f":"IF(E383<>\"\",CONCATENATE($A$2,DIGITADOR!$M$1,O383,AH383),\"\")","v":""},null,null,"00:00:00",1,null,null,null,null,"",{"$f":"IF(M383=\"\",\"\",INDEX('Otras referencias'!$L$2:$N$200,MATCH(M383,'Otras referencias'!$L$2:$L$200,0),3))","v":""},{"$f":"IF(M383=\"\",\"\",INDEX(referentes!$S$2:$S$170,MATCH(N383,referentes!$W$2:$W$170,0),1))","v":""},null,null,null,null,null,null,null,null,null,{"$f":"IF(X383=\"\",\"\",INDEX(referentes!$Y$2:$Z$37,MATCH(X383,referentes!$Z$2:$Z$37,0),1))","v":""},"01",null,null,null,"",null,"",null,null,"",null,1,{"$f":"IF(E383<>\"\",CONCATENATE(B383,A383,DIGITADOR!$M$1,AH383),\"\")","v":""},"",null,null,null,null,null,null,null,null,null,null,null,null,null,null,null,null,null,null,"","",{"$f":"IF(BE383=\"\",\"\",INDEX(referentes!$D$2:$E$37,MATCH(BE383,referentes!$D$2:$D$37,0),2))","v":""},null,{"$f":"IF(BI383=\"\",\"\",INDEX(referentes!$J$2:$L$363,MATCH(BI383,referentes!$J$2:$J$363,0),2))","v":""},"",379]
["30000104",{"$f":"DIGITADOR!$B$2","v":""},1,{"$f":"IF(E384<>\"\",CONCATENATE($A$2,DIGITADOR!$M$1,O384,AH384),\"\")","v":""},null,null,"00:00:00",1,null,null,null,null,"",{"$f":"IF(M384=\"\",\"\",INDEX('Otras referencias'!$L$2:$N$200,MATCH(M384,'Otras referencias'!$L$2:$L$200,0),3))","v":""},{"$f":"IF(M384=\"\",\"\",INDEX(referentes!$S$2:$S$170,MATCH(N384,referentes!$W$2:$W$170,0),1))","v":""},null,null,null,null,null,null,null,null,null,{"$f":"IF(X384=\"\",\"\",INDEX(referentes!$Y$2:$Z$37,MATCH(X384,referentes!$Z$2:$Z$37,0),1))","v":""},"01",null,null,null,"",null,"",null,null,"",null,1,{"$f":"IF(E384<>\"\",CONCATENATE(B384,A384,DIGITADOR!$M$1,AH384),\"\")","v":""},"",null,null,null,null,null,null,null,null,null,null,null,null,null,null,null,null,null,null,"","",{"$f":"IF(BE384=\"\",\"\",INDEX(referentes!$D$2:$E$37,MATCH(BE384,referentes!$D$2:$D$37,0),2))","v":""},null,{"$f":"IF(BI384=\"\",\"\",INDEX(referentes!$J$2:$L$363,MATCH(BI384,referentes!$J$2:$J$363,0),2))","v":""},"",380]
["30000104",{"$f":"DIGITADOR!$B$2","v":""},1,{"$f":"IF(E385<>\"\",CONCATENATE($A$2,DIGITADOR!$M$1,O385,AH385),\"\")","v":""},null,null,"00:00:00",1,null,null,null,null,"",{"$f":"IF(M385=\"\",\"\",INDEX('Otras referencias'!$L$2:$N$200,MATCH(M385,'Otras referencias'!$L$2:$L$200,0),3))","v":""},{"$f":"IF(M385=\"\",\"\",INDEX(referentes!$S$2:$S$170,MATCH(N385,referentes!$W$2:$W$170,0),1))","v":""},null,null,null,null,null,null,null,null,null,{"$f":"IF(X385=\"\",\"\",INDEX(referentes!$Y$2:$Z$37,MATCH(X385,referentes!$Z$2:$Z$37,0),1))","v":""},"01",null,null,null,"",null,"",null,null,"",null,1,{"$f":"IF(E385<>\"\",CONCATENATE(B385,A385,DIGITADOR!$M$1,AH385),\"\")","v":""},"",null,null,null,null,null,null,null,null,null,null,null,null,null,null,null,null,null,null,"","",{"$f":"IF(BE385=\"\",\"\",INDEX(referentes!$D$2:$E$37,MATCH(BE385,referentes!$D$2:$D$37,0),2))","v":""},null,{"$f":"IF(BI385=\"\",\"\",INDEX(referentes!$J$2:$L$363,MATCH(BI385,referentes!$J$2:$J$363,0),2))","v":""},"",381]
["30000104",{"$f":"DIGITADOR!$B$2","v":""},1,{"$f":"IF(E386<>\"\",CONCATENATE($A$2,DIGITADOR!$M$1,O386,AH386),\"\")","v":""},null,null,"00:00:00",1,null,null,null,null,"",{"$f":"IF(M386=\"\",\"\",INDEX('Otras referencias'!$L$2:$N$200,MATCH(M386,'Otras referencias'!$L$2:$L$200,0),3))","v":""},{"$f":"IF(M386=\"\",\"\",INDEX(referentes!$S$2:$S$170,MATCH(N386,referentes!$W$2:$W$170,0),1))","v":""},null,null,null,null,null,null,null,null,null,{"$f":"IF(X386=\"\",\"\",INDEX(referentes!$Y$2:$Z$37,MATCH(X386,referentes!$Z$2:$Z$37,0),1))","v":""},"01",null,null,null,"",null,"",null,null,"",null,1,{"$f":"IF(E386<>\"\",CONCATENATE(B386,A386,DIGITADOR!$M$1,AH386),\"\")","v":""},"",null,null,null,null,null,null,null,null,null,null,null,null,null,null,null,null,null,null,"","",{"$f":"IF(BE386=\"\",\"\",INDEX(referentes!$D$2:$E$37,MATCH(BE386,referentes!$D$2:$D$37,0),2))","v":""},null,{"$f":"IF(BI386=\"\",\"\",INDEX(referentes!$J$2:$L$363,MATCH(BI386,referentes!$J$2:$J$363,0),2))","v":""},"",382]
["30000104",{"$f":"DIGITADOR!$B$2","v":""},1,{"$f":"IF(E387<>\"\",CONCATENATE($A$2,DIGITADOR!$M$1,O387,AH387),\"\")","v":""},null,null,"00:00:00",1,null,null,null,null,"",{"$f":"IF(M387=\"\",\"\",INDEX('Otras referencias'!$L$2:$N$200,MATCH(M387,'Otras referencias'!$L$2:$L$200,0),3))","v":""},{"$f":"IF(M387=\"\",\"\",INDEX(referentes!$S$2:$S$170,MATCH(N387,referentes!$W$2:$W$170,0),1))","v":""},null,null,null,null,null,null,null,null,null,{"$f":"IF(X387=\"\",\"\",INDEX(referentes!$Y$2:$Z$37,MATCH(X387,referentes!$Z$2:$Z$37,0),1))","v":""},"01",null,null,null,"",null,"",null,null,"",null,1,{"$f":"IF(E387<>\"\",CONCATENATE(B387,A387,DIGITADOR!$M$1,AH387),\"\")","v":""},"",null,null,null,null,null,null,null,null,null,null,null,null,null,null,null,null,null,null,"","",{"$f":"IF(BE387=\"\",\"\",INDEX(referentes!$D$2:$E$37,MATCH(BE387,referentes!$D$2:$D$37,0),2))","v":""},null,{"$f":"IF(BI387=\"\",\"\",INDEX(referentes!$J$2:$L$363,MATCH(BI387,referentes!$J$2:$J$363,0),2))","v":""},"",383]
["30000104",{"$f":"DIGITADOR!$B$2","v":""},1,{"$f":"IF(E388<>\"\",CONCATENATE($A$2,DIGITADOR!$M$1,O388,AH388),\"\")","v":""},null,null,"00:00:00",1,null,null,null,null,"",{"$f":"IF(M388=\"\",\"\",INDEX('Otras referencias'!$L$2:$N$200,MATCH(M388,'Otras referencias'!$L$2:$L$200,0),3))","v":""},{"$f":"IF(M388=\"\",\"\",INDEX(referentes!$S$2:$S$170,MATCH(N388,referentes!$W$2:$W$170,0),1))","v":""},null,null,null,null,null,null,null,null,null,{"$f":"IF(X388=\"\",\"\",INDEX(referentes!$Y$2:$Z$37,MATCH(X388,referentes!$Z$2:$Z$37,0),1))","v":""},"01",null,null,null,"",null,"",null,null,"",null,1,{"$f":"IF(E388<>\"\",CONCATENATE(B388,A388,DIGITADOR!$M$1,AH388),\"\")","v":""},"",null,null,null,null,null,null,null,null,null,null,null,null,null,null,null,null,null,null,"","",{"$f":"IF(BE388=\"\",\"\",INDEX(referentes!$D$2:$E$37,MATCH(BE388,referentes!$D$2:$D$37,0),2))","v":""},null,{"$f":"IF(BI388=\"\",\"\",INDEX(referentes!$J$2:$L$363,MATCH(BI388,referentes!$J$2:$J$363,0),2))","v":""},"",384]
["30000104",{"$f":"DIGITADOR!$B$2","v":""},{"$f":"IF(Z389=Z388,C388,C388+1)","v":1},{"$f":"IF(E389<>\"\",CONCATENATE($A$2,DIGITADOR!$M$1,O389,AH389),\"\")","v":""},null,null,"00:00:00",1,null,null,null,null,"",{"$f":"IF(M389=\"\",\"\",INDEX('Otras referencias'!$L$2:$N$200,MATCH(M389,'Otras referencias'!$L$2:$L$200,0),3))","v":""},{"$f":"IF(M389=\"\",\"\",INDEX(referentes!$S$2:$S$170,MATCH(N389,referentes!$W$2:$W$170,0),1))","v":""},null,null,null,null,null,null,null,null,null,{"$f":"IF(X389=\"\",\"\",INDEX(referentes!$Y$2:$Z$37,MATCH(X389,referentes!$Z$2:$Z$37,0),1))","v":""},{"$f":"CONCATENATE(G389,O389,Y389,AK389)","v":"01"},null,null,null,"",null,"",null,null,"",null,1,{"$f":"IF(E389<>\"\",CONCATENATE(B389,A389,DIGITADOR!$M$1,AH389),\"\")","v":""},{"$f":"IF(D389=\"\",\"\",IF(AND(D389=D388,AI389=AI388,N389=N388),AM388+1,1))","v":""},null,null,null,null,null,null,null,null,null,null,null,null,null,null,null,null,null,null,"","",{"$f":"IF(BE389=\"\",\"\",INDEX(referentes!$D$2:$E$37,MATCH(BE389,referentes!$D$2:$D$37,0),2))","v":""},null,{"$f":"IF(BI389=\"\",\"\",INDEX(referentes!$J$2:$L$363,MATCH(BI389,referentes!$J$2:$J$363,0),2))","v":""},{"$f":"IF(D389=\"\",\"\",CONCATENATE(D389,BL389))","v":""},385]
[{"$f":"A389","v":"30000104"},{"$f":"DIGITADOR!$B$2","v":""},1,{"$f":"IF(E390<>\"\",CONCATENATE($A$2,DIGITADOR!$M$1,O390,AH390),\"\")","v":""},null,null,"00:00:00",1,null,null,null,null,"",{"$f":"IF(M390=\"\",\"\",INDEX('Otras referencias'!$L$2:$N$200,MATCH(M390,'Otras referencias'!$L$2:$L$200,0),3))","v":""},{"$f":"IF(M390=\"\",\"\",INDEX(referentes!$S$2:$S$170,MATCH(N390,referentes!$W$2:$W$170,0),1))","v":""},null,null,null,null,null,null,null,null,null,{"$f":"IF(X390=\"\",\"\",INDEX(referentes!$Y$2:$Z$37,MATCH(X390,referentes!$Z$2:$Z$37,0),1))","v":""},"01",null,null,null,{"$f":"IF(D390=\"\",\"\",\"OA\")","v":""},null,{"$f":"IF(D390=\"\",\"\",\"SO\")","v":""},null,null,{"$f":"CONCATENATE(AG390,AH390)","v":""},null,1,{"$f":"IF(E390<>\"\",CONCATENATE(B390,A390,DIGITADOR!$M$1,AH390),\"\")","v":""},"",null,null,null,null,null,null,null,null,null,null,null,null,null,null,null,null,null,null,{"$f":"IF(BE390=\"\",\"\",UPPER(BE390))","v":""},{"$f":"IF(BI390=\"\",\"\",UPPER(BI390))","v":""},{"$f":"IF(BE390=\"\",\"\",INDEX(referentes!$D$2:$E$37,MATCH(BE390,referentes!$D$2:$D$37,0),2))","v":""},null,{"$f":"IF(BI390=\"\",\"\",INDEX(referentes!$J$2:$L$363,MATCH(BI390,referentes!$J$2:$J$363,0),2))","v":""},"",386]
["30000104",{"$f":"DIGITADOR!$B$2","v":""},1,{"$f":"IF(E391<>\"\",CONCATENATE($A$2,DIGITADOR!$M$1,O391,AH391),\"\")","v":""},null,null,"00:00:00",1,null,null,null,null,"",{"$f":"IF(M391=\"\",\"\",INDEX('Otras referencias'!$L$2:$N$200,MATCH(M391,'Otras referencias'!$L$2:$L$200,0),3))","v":""},{"$f":"IF(M391=\"\",\"\",INDEX(referentes!$S$2:$S$170,MATCH(N391,referentes!$W$2:$W$170,0),1))","v":""},null,null,null,null,null,null,null,null,null,{"$f":"IF(X391=\"\",\"\",INDEX(referentes!$Y$2:$Z$37,MATCH(X391,referentes!$Z$2:$Z$37,0),1))","v":""},"01",null,null,null,"",null,"",null,null,"",null,1,{"$f":"IF(E391<>\"\",CONCATENATE(B391,A391,DIGITADOR!$M$1,AH391),\"\")","v":""},"",null,null,null,null,null,null,null,null,null,null,null,null,null,null,null,null,null,null,"","",{"$f":"IF(BE391=\"\",\"\",INDEX(referentes!$D$2:$E$37,MATCH(BE391,referentes!$D$2:$D$37,0),2))","v":""},null,{"$f":"IF(BI391=\"\",\"\",INDEX(referentes!$J$2:$L$363,MATCH(BI391,referentes!$J$2:$J$363,0),2))","v":""},"",387]
["30000104",{"$f":"DIGITADOR!$B$2","v":""},1,{"$f":"IF(E392<>\"\",CONCATENATE($A$2,DIGITADOR!$M$1,O392,AH392),\"\")","v":""},null,null,"00:00:00",1,null,null,null,null,"",{"$f":"IF(M392=\"\",\"\",INDEX('Otras referencias'!$L$2:$N$200,MATCH(M392,'Otras referencias'!$L$2:$L$200,0),3))","v":""},{"$f":"IF(M392=\"\",\"\",INDEX(referentes!$S$2:$S$170,MATCH(N392,referentes!$W$2:$W$170,0),1))","v":""},null,null,null,null,null,null,null,null,null,{"$f":"IF(X392=\"\",\"\",INDEX(referentes!$Y$2:$Z$37,MATCH(X392,referentes!$Z$2:$Z$37,0),1))","v":""},"01",null,null,null,"",null,"",null,null,"",null,1,{"$f":"IF(E392<>\"\",CONCATENATE(B392,A392,DIGITADOR!$M$1,AH392),\"\")","v":""},"",null,null,null,null,null,null,null,null,null,null,null,null,null,null,null,null,null,null,"","",{"$f":"IF(BE392=\"\",\"\",INDEX(referentes!$D$2:$E$37,MATCH(BE392,referentes!$D$2:$D$37,0),2))","v":""},null,{"$f":"IF(BI392=\"\",\"\",INDEX(referentes!$J$2:$L$363,MATCH(BI392,referentes!$J$2:$J$363,0),2))","v":""},"",388]
["30000104",{"$f":"DIGITADOR!$B$2","v":""},1,{"$f":"IF(E393<>\"\",CONCATENATE($A$2,DIGITADOR!$M$1,O393,AH393),\"\")","v":""},null,null,"00:00:00",1,null,null,null,null,"",{"$f":"IF(M393=\"\",\"\",INDEX('Otras referencias'!$L$2:$N$200,MATCH(M393,'Otras referencias'!$L$2:$L$200,0),3))","v":""},{"$f":"IF(M393=\"\",\"\",INDEX(referentes!$S$2:$S$170,MATCH(N393,referentes!$W$2:$W$170,0),1))","v":""},null,null,null,null,null,null,null,null,null,{"$f":"IF(X393=\"\",\"\",INDEX(referentes!$Y$2:$Z$37,MATCH(X393,referentes!$Z$2:$Z$37,0),1))","v":""},"01",null,null,null,"",null,"",null,null,"",null,1,{"$f":"IF(E393<>\"\",CONCATENATE(B393,A393,DIGITADOR!$M$1,AH393),\"\")","v":""},"",null,null,null,null,null,null,null,null,null,null,null,null,null,null,null,null,null,null,"","",{"$f":"IF(BE393=\"\",\"\",INDEX(referentes!$D$2:$E$37,MATCH(BE393,referentes!$D$2:$D$37,0),2))","v":""},null,{"$f":"IF(BI393=\"\",\"\",INDEX(referentes!$J$2:$L$363,MATCH(BI393,referentes!$J$2:$J$363,0),2))","v":""},"",389]
["30000104",{"$f":"DIGITADOR!$B$2","v":""},1,{"$f":"IF(E394<>\"\",CONCATENATE($A$2,DIGITADOR!$M$1,O394,AH394),\"\")","v":""},null,null,"00:00:00",1,null,null,null,null,"",{"$f":"IF(M394=\"\",\"\",INDEX('Otras referencias'!$L$2:$N$200,MATCH(M394,'Otras referencias'!$L$2:$L$200,0),3))","v":""},{"$f":"IF(M394=\"\",\"\",INDEX(referentes!$S$2:$S$170,MATCH(N394,referentes!$W$2:$W$170,0),1))","v":""},null,null,null,null,null,null,null,null,null,{"$f":"IF(X394=\"\",\"\",INDEX(referentes!$Y$2:$Z$37,MATCH(X394,referentes!$Z$2:$Z$37,0),1))","v":""},"01",null,null,null,"",null,"",null,null,"",null,1,{"$f":"IF(E394<>\"\",CONCATENATE(B394,A394,DIGITADOR!$M$1,AH394),\"\")","v":""},"",null,null,null,null,null,null,null,null,null,null,null,null,null,null,null,null,null,null,"","",{"$f":"IF(BE394=\"\",\"\",INDEX(referentes!$D$2:$E$37,MATCH(BE394,referentes!$D$2:$D$37,0),2))","v":""},null,{"$f":"IF(BI394=\"\",\"\",INDEX(referentes!$J$2:$L$363,MATCH(BI394,referentes!$J$2:$J$363,0),2))","v":""},"",390]
["30000104",{"$f":"DIGITADOR!$B$2","v":""},1,{"$f":"IF(E395<>\"\",CONCATENATE($A$2,DIGITADOR!$M$1,O395,AH395),\"\")","v":""},null,null,"00:00:00",1,null,null,null,null,"",{"$f":"IF(M395=\"\",\"\",INDEX('Otras referencias'!$L$2:$N$200,MATCH(M395,'Otras referencias'!$L$2:$L$200,0),3))","v":""},{"$f":"IF(M395=\"\",\"\",INDEX(referentes!$S$2:$S$170,MATCH(N395,referentes!$W$2:$W$170,0),1))","v":""},null,null,null,null,null,null,null,null,null,{"$f":"IF(X395=\"\",\"\",INDEX(referentes!$Y$2:$Z$37,MATCH(X395,referentes!$Z$2:$Z$37,0),1))","v":""},"01",null,null,null,"",null,"",null,null,"",null,1,{"$f":"IF(E395<>\"\",CONCATENATE(B395,A395,DIGITADOR!$M$1,AH395),\"\")","v":""},"",null,null,null,null,null,null,null,null,null,null,null,null,null,null,null,null,null,null,"","",{"$f":"IF(BE395=\"\",\"\",INDEX(referentes!$D$2:$E$37,MATCH(BE395,referentes!$D$2:$D$37,0),2))","v":""},null,{"$f":"IF(BI395=\"\",\"\",INDEX(referentes!$J$2:$L$363,MATCH(BI395,referentes!$J$2:$J$363,0),2))","v":""},"",391]
["30000104",{"$f":"DIGITADOR!$B$2","v":""},1,{"$f":"IF(E396<>\"\",CONCATENATE($A$2,DIGITADOR!$M$1,O396,AH396),\"\")","v":""},null,null,"00:00:00",1,null,null,null,null,"",{"$f":"IF(M396=\"\",\"\",INDEX('Otras referencias'!$L$2:$N$200,MATCH(M396,'Otras referencias'!$L$2:$L$200,0),3))","v":""},{"$f":"IF(M396=\"\",\"\",INDEX(referentes!$S$2:$S$170,MATCH(N396,referentes!$W$2:$W$170,0),1))","v":""},null,null,null,null,null,null,null,null,null,{"$f":"IF(X396=\"\",\"\",INDEX(referentes!$Y$2:$Z$37,MATCH(X396,referentes!$Z$2:$Z$37,0),1))","v":""},"01",null,null,null,"",null,"",null,null,"",null,1,{"$f":"IF(E396<>\"\",CONCATENATE(B396,A396,DIGITADOR!$M$1,AH396),\"\")","v":""},"",null,null,null,null,null,null,null,null,null,null,null,null,null,null,null,null,null,null,"","",{"$f":"IF(BE396=\"\",\"\",INDEX(referentes!$D$2:$E$37,MATCH(BE396,referentes!$D$2:$D$37,0),2))","v":""},null,{"$f":"IF(BI396=\"\",\"\",INDEX(referentes!$J$2:$L$363,MATCH(BI396,referentes!$J$2:$J$363,0),2))","v":""},"",392]
["30000104",{"$f":"DIGITADOR!$B$2","v":""},1,{"$f":"IF(E397<>\"\",CONCATENATE($A$2,DIGITADOR!$M$1,O397,AH397),\"\")","v":""},null,null,"00:00:00",1,null,null,null,null,"",{"$f":"IF(M397=\"\",\"\",INDEX('Otras referencias'!$L$2:$N$200,MATCH(M397,'Otras referencias'!$L$2:$L$200,0),3))","v":""},{"$f":"IF(M397=\"\",\"\",INDEX(referentes!$S$2:$S$170,MATCH(N397,referentes!$W$2:$W$170,0),1))","v":""},null,null,null,null,null,null,null,null,null,{"$f":"IF(X397=\"\",\"\",INDEX(referentes!$Y$2:$Z$37,MATCH(X397,referentes!$Z$2:$Z$37,0),1))","v":""},"01",null,null,null,"",null,"",null,null,"",null,1,{"$f":"IF(E397<>\"\",CONCATENATE(B397,A397,DIGITADOR!$M$1,AH397),\"\")","v":""},"",null,null,null,null,null,null,null,null,null,null,null,null,null,null,null,null,null,null,"","",{"$f":"IF(BE397=\"\",\"\",INDEX(referentes!$D$2:$E$37,MATCH(BE397,referentes!$D$2:$D$37,0),2))","v":""},null,{"$f":"IF(BI397=\"\",\"\",INDEX(referentes!$J$2:$L$363,MATCH(BI397,referentes!$J$2:$J$363,0),2))","v":""},"",393]
["30000104",{"$f":"DIGITADOR!$B$2","v":""},1,{"$f":"IF(E398<>\"\",CONCATENATE($A$2,DIGITADOR!$M$1,O398,AH398),\"\")","v":""},null,null,"00:00:00",1,null,null,null,null,"",{"$f":"IF(M398=\"\",\"\",INDEX('Otras referencias'!$L$2:$N$200,MATCH(M398,'Otras referencias'!$L$2:$L$200,0),3))","v":""},{"$f":"IF(M398=\"\",\"\",INDEX(referentes!$S$2:$S$170,MATCH(N398,referentes!$W$2:$W$170,0),1))","v":""},null,null,null,null,null,null,null,null,null,{"$f":"IF(X398=\"\",\"\",INDEX(referentes!$Y$2:$Z$37,MATCH(X398,referentes!$Z$2:$Z$37,0),1))","v":""},"01",null,null,null,"",null,"",null,null,"",null,1,{"$f":"IF(E398<>\"\",CONCATENATE(B398,A398,DIGITADOR!$M$1,AH398),\"\")","v":""},"",null,null,null,null,null,null,null,null,null,null,null,null,null,null,null,null,null,null,"","",{"$f":"IF(BE398=\"\",\"\",INDEX(referentes!$D$2:$E$37,MATCH(BE398,referentes!$D$2:$D$37,0),2))","v":""},null,{"$f":"IF(BI398=\"\",\"\",INDEX(referentes!$J$2:$L$363,MATCH(BI398,referentes!$J$2:$J$363,0),2))","v":""},"",394]
["30000104",{"$f":"DIGITADOR!$B$2","v":""},1,{"$f":"IF(E399<>\"\",CONCATENATE($A$2,DIGITADOR!$M$1,O399,AH399),\"\")","v":""},null,null,"00:00:00",1,null,null,null,null,"",{"$f":"IF(M399=\"\",\"\",INDEX('Otras referencias'!$L$2:$N$200,MATCH(M399,'Otras referencias'!$L$2:$L$200,0),3))","v":""},{"$f":"IF(M399=\"\",\"\",INDEX(referentes!$S$2:$S$170,MATCH(N399,referentes!$W$2:$W$170,0),1))","v":""},null,null,null,null,null,null,null,null,null,{"$f":"IF(X399=\"\",\"\",INDEX(referentes!$Y$2:$Z$37,MATCH(X399,referentes!$Z$2:$Z$37,0),1))","v":""},"01",null,null,null,"",null,"",null,null,"",null,1,{"$f":"IF(E399<>\"\",CONCATENATE(B399,A399,DIGITADOR!$M$1,AH399),\"\")","v":""},"",null,null,null,null,null,null,null,null,null,null,null,null,null,null,null,null,null,null,"","",{"$f":"IF(BE399=\"\",\"\",INDEX(referentes!$D$2:$E$37,MATCH(BE399,referentes!$D$2:$D$37,0),2))","v":""},null,{"$f":"IF(BI399=\"\",\"\",INDEX(referentes!$J$2:$L$363,MATCH(BI399,referentes!$J$2:$J$363,0),2))","v":""},"",395]
["30000104",{"$f":"DIGITADOR!$B$2","v":""},1,{"$f":"IF(E400<>\"\",CONCATENATE($A$2,DIGITADOR!$M$1,O400,AH400),\"\")","v":""},null,null,"00:00:00",1,null,null,null,null,"",{"$f":"IF(M400=\"\",\"\",INDEX('Otras referencias'!$L$2:$N$200,MATCH(M400,'Otras referencias'!$L$2:$L$200,0),3))","v":""},{"$f":"IF(M400=\"\",\"\",INDEX(referentes!$S$2:$S$170,MATCH(N400,referentes!$W$2:$W$170,0),1))","v":""},null,null,null,null,null,null,null,null,null,{"$f":"IF(X400=\"\",\"\",INDEX(referentes!$Y$2:$Z$37,MATCH(X400,referentes!$Z$2:$Z$37,0),1))","v":""},"01",null,null,null,"",null,"",null,null,"",null,1,{"$f":"IF(E400<>\"\",CONCATENATE(B400,A400,DIGITADOR!$M$1,AH400),\"\")","v":""},"",null,null,null,null,null,null,null,null,null,null,null,null,null,null,null,null,null,null,"","",{"$f":"IF(BE400=\"\",\"\",INDEX(referentes!$D$2:$E$37,MATCH(BE400,referentes!$D$2:$D$37,0),2))","v":""},null,{"$f":"IF(BI400=\"\",\"\",INDEX(referentes!$J$2:$L$363,MATCH(BI400,referentes!$J$2:$J$363,0),2))","v":""},"",396]
["30000104",{"$f":"DIGITADOR!$B$2","v":""},1,{"$f":"IF(E401<>\"\",CONCATENATE($A$2,DIGITADOR!$M$1,O401,AH401),\"\")","v":""},null,null,"00:00:00",1,null,null,null,null,"",{"$f":"IF(M401=\"\",\"\",INDEX('Otras referencias'!$L$2:$N$200,MATCH(M401,'Otras referencias'!$L$2:$L$200,0),3))","v":""},{"$f":"IF(M401=\"\",\"\",INDEX(referentes!$S$2:$S$170,MATCH(N401,referentes!$W$2:$W$170,0),1))","v":""},null,null,null,null,null,null,null,null,null,{"$f":"IF(X401=\"\",\"\",INDEX(referentes!$Y$2:$Z$37,MATCH(X401,referentes!$Z$2:$Z$37,0),1))","v":""},"01",null,null,null,"",null,"",null,null,"",null,1,{"$f":"IF(E401<>\"\",CONCATENATE(B401,A401,DIGITADOR!$M$1,AH401),\"\")","v":""},"",null,null,null,null,null,null,null,null,null,null,null,null,null,null,null,null,null,null,"","",{"$f":"IF(BE401=\"\",\"\",INDEX(referentes!$D$2:$E$37,MATCH(BE401,referentes!$D$2:$D$37,0),2))","v":""},null,{"$f":"IF(BI401=\"\",\"\",INDEX(referentes!$J$2:$L$363,MATCH(BI401,referentes!$J$2:$J$363,0),2))","v":""},"",397]
["30000104",{"$f":"DIGITADOR!$B$2","v":""},1,{"$f":"IF(E402<>\"\",CONCATENATE($A$2,DIGITADOR!$M$1,O402,AH402),\"\")","v":""},null,null,"00:00:00",1,null,null,null,null,"",{"$f":"IF(M402=\"\",\"\",INDEX('Otras referencias'!$L$2:$N$200,MATCH(M402,'Otras referencias'!$L$2:$L$200,0),3))","v":""},{"$f":"IF(M402=\"\",\"\",INDEX(referentes!$S$2:$S$170,MATCH(N402,referentes!$W$2:$W$170,0),1))","v":""},null,null,null,null,null,null,null,null,null,{"$f":"IF(X402=\"\",\"\",INDEX(referentes!$Y$2:$Z$37,MATCH(X402,referentes!$Z$2:$Z$37,0),1))","v":""},"01",null,null,null,"",null,"",null,null,"",null,1,{"$f":"IF(E402<>\"\",CONCATENATE(B402,A402,DIGITADOR!$M$1,AH402),\"\")","v":""},"",null,null,null,null,null,null,null,null,null,null,null,null,null,null,null,null,null,null,"","",{"$f":"IF(BE402=\"\",\"\",INDEX(referentes!$D$2:$E$37,MATCH(BE402,referentes!$D$2:$D$37,0),2))","v":""},null,{"$f":"IF(BI402=\"\",\"\",INDEX(referentes!$J$2:$L$363,MATCH(BI402,referentes!$J$2:$J$363,0),2))","v":""},"",398]
["30000104",{"$f":"DIGITADOR!$B$2","v":""},1,{"$f":"IF(E403<>\"\",CONCATENATE($A$2,DIGITADOR!$M$1,O403,AH403),\"\")","v":""},null,null,"00:00:00",1,null,null,null,null,"",{"$f":"IF(M403=\"\",\"\",INDEX('Otras referencias'!$L$2:$N$200,MATCH(M403,'Otras referencias'!$L$2:$L$200,0),3))","v":""},{"$f":"IF(M403=\"\",\"\",INDEX(referentes!$S$2:$S$170,MATCH(N403,referentes!$W$2:$W$170,0),1))","v":""},null,null,null,null,null,null,null,null,null,{"$f":"IF(X403=\"\",\"\",INDEX(referentes!$Y$2:$Z$37,MATCH(X403,referentes!$Z$2:$Z$37,0),1))","v":""},"01",null,null,null,"",null,"",null,null,"",null,1,{"$f":"IF(E403<>\"\",CONCATENATE(B403,A403,DIGITADOR!$M$1,AH403),\"\")","v":""},"",null,null,null,null,null,null,null,null,null,null,null,null,null,null,null,null,null,null,"","",{"$f":"IF(BE403=\"\",\"\",INDEX(referentes!$D$2:$E$37,MATCH(BE403,referentes!$D$2:$D$37,0),2))","v":""},null,{"$f":"IF(BI403=\"\",\"\",INDEX(referentes!$J$2:$L$363,MATCH(BI403,referentes!$J$2:$J$363,0),2))","v":""},"",399]
["30000104",{"$f":"DIGITADOR!$B$2","v":""},1,{"$f":"IF(E404<>\"\",CONCATENATE($A$2,DIGITADOR!$M$1,O404,AH404),\"\")","v":""},null,null,"00:00:00",1,null,null,null,null,"",{"$f":"IF(M404=\"\",\"\",INDEX('Otras referencias'!$L$2:$N$200,MATCH(M404,'Otras referencias'!$L$2:$L$200,0),3))","v":""},{"$f":"IF(M404=\"\",\"\",INDEX(referentes!$S$2:$S$170,MATCH(N404,referentes!$W$2:$W$170,0),1))","v":""},null,null,null,null,null,null,null,null,null,{"$f":"IF(X404=\"\",\"\",INDEX(referentes!$Y$2:$Z$37,MATCH(X404,referentes!$Z$2:$Z$37,0),1))","v":""},"01",null,null,null,"",null,"",null,null,"",null,1,{"$f":"IF(E404<>\"\",CONCATENATE(B404,A404,DIGITADOR!$M$1,AH404),\"\")","v":""},"",null,null,null,null,null,null,null,null,null,null,null,null,null,null,null,null,null,null,"","",{"$f":"IF(BE404=\"\",\"\",INDEX(referentes!$D$2:$E$37,MATCH(BE404,referentes!$D$2:$D$37,0),2))","v":""},null,{"$f":"IF(BI404=\"\",\"\",INDEX(referentes!$J$2:$L$363,MATCH(BI404,referentes!$J$2:$J$363,0),2))","v":""},"",400]
["30000104",{"$f":"DIGITADOR!$B$2","v":""},1,{"$f":"IF(E405<>\"\",CONCATENATE($A$2,DIGITADOR!$M$1,O405,AH405),\"\")","v":""},null,null,"00:00:00",1,null,null,{"$f":"IF(J405<>\"\",VLOOKUP(J405,#REF!,1,FALSE),\"\")","v":""},null,"",{"$f":"IF(M405=\"\",\"\",INDEX('Otras referencias'!$L$2:$N$200,MATCH(M405,'Otras referencias'!$L$2:$L$200,0),3))","v":""},{"$f":"IF(M405=\"\",\"\",INDEX(referentes!$S$2:$S$170,MATCH(N405,referentes!$W$2:$W$170,0),1))","v":""},null,null,null,null,null,null,null,null,null,{"$f":"IF(X405=\"\",\"\",INDEX(referentes!$Y$2:$Z$37,MATCH(X405,referentes!$Z$2:$Z$37,0),1))","v":""},"01",null,null,null,"",null,"",null,null,"",null,1,{"$f":"IF(E405<>\"\",CONCATENATE(B405,A405,DIGITADOR!$M$1,AH405),\"\")","v":""},"",null,null,null,null,null,null,null,null,null,null,null,null,null,null,null,null,null,null,"","",{"$f":"IF(BE405=\"\",\"\",INDEX(referentes!$D$2:$E$37,MATCH(BE405,referentes!$D$2:$D$37,0),2))","v":""},null,{"$f":"IF(BI405=\"\",\"\",INDEX(referentes!$J$2:$L$363,MATCH(BI405,referentes!$J$2:$J$363,0),2))","v":""},"",401]
["30000104",{"$f":"DIGITADOR!$B$2","v":""},1,{"$f":"IF(E406<>\"\",CONCATENATE($A$2,DIGITADOR!$M$1,O406,AH406),\"\")","v":""},null,null,"00:00:00",1,null,null,{"$f":"IF(J406<>\"\",VLOOKUP(J406,#REF!,1,FALSE),\"\")","v":""},null,"",{"$f":"IF(M406=\"\",\"\",INDEX('Otras referencias'!$L$2:$N$200,MATCH(M406,'Otras referencias'!$L$2:$L$200,0),3))","v":""},{"$f":"IF(M406=\"\",\"\",INDEX(referentes!$S$2:$S$170,MATCH(N406,referentes!$W$2:$W$170,0),1))","v":""},null,null,null,null,null,null,null,null,null,{"$f":"IF(X406=\"\",\"\",INDEX(referentes!$Y$2:$Z$37,MATCH(X406,referentes!$Z$2:$Z$37,0),1))","v":""},"01",null,null,null,"",null,"",null,null,"",null,1,{"$f":"IF(E406<>\"\",CONCATENATE(B406,A406,DIGITADOR!$M$1,AH406),\"\")","v":""},"",null,null,null,null,null,null,null,null,null,null,null,null,null,null,null,null,null,null,"","",{"$f":"IF(BE406=\"\",\"\",INDEX(referentes!$D$2:$E$37,MATCH(BE406,referentes!$D$2:$D$37,0),2))","v":""},null,{"$f":"IF(BI406=\"\",\"\",INDEX(referentes!$J$2:$L$363,MATCH(BI406,referentes!$J$2:$J$363,0),2))","v":""},"",402]
["30000104",{"$f":"DIGITADOR!$B$2","v":""},1,{"$f":"IF(E407<>\"\",CONCATENATE($A$2,DIGITADOR!$M$1,O407,AH407),\"\")","v":""},null,null,"00:00:00",1,null,null,{"$f":"IF(J407<>\"\",VLOOKUP(J407,#REF!,1,FALSE),\"\")","v":""},null,"",{"$f":"IF(M407=\"\",\"\",INDEX('Otras referencias'!$L$2:$N$200,MATCH(M407,'Otras referencias'!$L$2:$L$200,0),3))","v":""},{"$f":"IF(M407=\"\",\"\",INDEX(referentes!$S$2:$S$170,MATCH(N407,referentes!$W$2:$W$170,0),1))","v":""},null,null,null,null,null,null,null,null,null,{"$f":"IF(X407=\"\",\"\",INDEX(referentes!$Y$2:$Z$37,MATCH(X407,referentes!$Z$2:$Z$37,0),1))","v":""},"01",null,null,null,"",null,"",null,null,"",null,1,{"$f":"IF(E407<>\"\",CONCATENATE(B407,A407,DIGITADOR!$M$1,AH407),\"\")","v":""},"",null,null,null,null,null,null,null,null,null,null,null,null,null,null,null,null,null,null,"","",{"$f":"IF(BE407=\"\",\"\",INDEX(referentes!$D$2:$E$37,MATCH(BE407,referentes!$D$2:$D$37,0),2))","v":""},null,{"$f":"IF(BI407=\"\",\"\",INDEX(referentes!$J$2:$L$363,MATCH(BI407,referentes!$J$2:$J$363,0),2))","v":""},"",403]
["30000104",{"$f":"DIGITADOR!$B$2","v":""},1,{"$f":"IF(E408<>\"\",CONCATENATE($A$2,DIGITADOR!$M$1,O408,AH408),\"\")","v":""},null,null,"00:00:00",1,null,null,{"$f":"IF(J408<>\"\",VLOOKUP(J408,#REF!,1,FALSE),\"\")","v":""},null,"",{"$f":"IF(M408=\"\",\"\",INDEX('Otras referencias'!$L$2:$N$200,MATCH(M408,'Otras referencias'!$L$2:$L$200,0),3))","v":""},{"$f":"IF(M408=\"\",\"\",INDEX(referentes!$S$2:$S$170,MATCH(N408,referentes!$W$2:$W$170,0),1))","v":""},null,null,null,null,null,null,null,null,null,{"$f":"IF(X408=\"\",\"\",INDEX(referentes!$Y$2:$Z$37,MATCH(X408,referentes!$Z$2:$Z$37,0),1))","v":""},"01",null,null,null,"",null,"",null,null,"",null,1,{"$f":"IF(E408<>\"\",CONCATENATE(B408,A408,DIGITADOR!$M$1,AH408),\"\")","v":""},"",null,null,null,null,null,null,null,null,null,null,null,null,null,null,null,null,null,null,"","",{"$f":"IF(BE408=\"\",\"\",INDEX(referentes!$D$2:$E$37,MATCH(BE408,referentes!$D$2:$D$37,0),2))","v":""},null,{"$f":"IF(BI408=\"\",\"\",INDEX(referentes!$J$2:$L$363,MATCH(BI408,referentes!$J$2:$J$363,0),2))","v":""},"",404]
["30000104",{"$f":"DIGITADOR!$B$2","v":""},1,{"$f":"IF(E409<>\"\",CONCATENATE($A$2,DIGITADOR!$M$1,O409,AH409),\"\")","v":""},null,null,"00:00:00",1,null,null,{"$f":"IF(J409<>\"\",VLOOKUP(J409,#REF!,1,FALSE),\"\")","v":""},null,"",{"$f":"IF(M409=\"\",\"\",INDEX('Otras referencias'!$L$2:$N$200,MATCH(M409,'Otras referencias'!$L$2:$L$200,0),3))","v":""},{"$f":"IF(M409=\"\",\"\",INDEX(referentes!$S$2:$S$170,MATCH(N409,referentes!$W$2:$W$170,0),1))","v":""},null,null,null,null,null,null,null,null,null,{"$f":"IF(X409=\"\",\"\",INDEX(referentes!$Y$2:$Z$37,MATCH(X409,referentes!$Z$2:$Z$37,0),1))","v":""},"01",null,null,null,"",null,"",null,null,"",null,1,{"$f":"IF(E409<>\"\",CONCATENATE(B409,A409,DIGITADOR!$M$1,AH409),\"\")","v":""},"",null,null,null,null,null,null,null,null,null,null,null,null,null,null,null,null,null,null,"","",{"$f":"IF(BE409=\"\",\"\",INDEX(referentes!$D$2:$E$37,MATCH(BE409,referentes!$D$2:$D$37,0),2))","v":""},null,{"$f":"IF(BI409=\"\",\"\",INDEX(referentes!$J$2:$L$363,MATCH(BI409,referentes!$J$2:$J$363,0),2))","v":""},"",405]
["30000104",{"$f":"DIGITADOR!$B$2","v":""},1,{"$f":"IF(E410<>\"\",CONCATENATE($A$2,DIGITADOR!$M$1,O410,AH410),\"\")","v":""},null,null,"00:00:00",1,null,null,{"$f":"IF(J410<>\"\",VLOOKUP(J410,#REF!,1,FALSE),\"\")","v":""},null,"",{"$f":"IF(M410=\"\",\"\",INDEX('Otras referencias'!$L$2:$N$200,MATCH(M410,'Otras referencias'!$L$2:$L$200,0),3))","v":""},{"$f":"IF(M410=\"\",\"\",INDEX(referentes!$S$2:$S$170,MATCH(N410,referentes!$W$2:$W$170,0),1))","v":""},null,null,null,null,null,null,null,null,null,{"$f":"IF(X410=\"\",\"\",INDEX(referentes!$Y$2:$Z$37,MATCH(X410,referentes!$Z$2:$Z$37,0),1))","v":""},"01",null,null,null,"",null,"",null,null,"",null,1,{"$f":"IF(E410<>\"\",CONCATENATE(B410,A410,DIGITADOR!$M$1,AH410),\"\")","v":""},"",null,null,null,null,null,null,null,null,null,null,null,null,null,null,null,null,null,null,"","",{"$f":"IF(BE410=\"\",\"\",INDEX(referentes!$D$2:$E$37,MATCH(BE410,referentes!$D$2:$D$37,0),2))","v":""},null,{"$f":"IF(BI410=\"\",\"\",INDEX(referentes!$J$2:$L$363,MATCH(BI410,referentes!$J$2:$J$363,0),2))","v":""},"",406]
["30000104",{"$f":"DIGITADOR!$B$2","v":""},1,{"$f":"IF(E411<>\"\",CONCATENATE($A$2,DIGITADOR!$M$1,O411,AH411),\"\")","v":""},null,null,"00:00:00",1,null,null,{"$f":"IF(J411<>\"\",VLOOKUP(J411,#REF!,1,FALSE),\"\")","v":""},null,"",{"$f":"IF(M411=\"\",\"\",INDEX('Otras referencias'!$L$2:$N$200,MATCH(M411,'Otras referencias'!$L$2:$L$200,0),3))","v":""},{"$f":"IF(M411=\"\",\"\",INDEX(referentes!$S$2:$S$170,MATCH(N411,referentes!$W$2:$W$170,0),1))","v":""},null,null,null,null,null,null,null,null,null,{"$f":"IF(X411=\"\",\"\",INDEX(referentes!$Y$2:$Z$37,MATCH(X411,referentes!$Z$2:$Z$37,0),1))","v":""},"01",null,null,null,"",null,"",null,null,"",null,1,{"$f":"IF(E411<>\"\",CONCATENATE(B411,A411,DIGITADOR!$M$1,AH411),\"\")","v":""},"",null,null,null,null,null,null,null,null,null,null,null,null,null,null,null,null,null,null,"","",{"$f":"IF(BE411=\"\",\"\",INDEX(referentes!$D$2:$E$37,MATCH(BE411,referentes!$D$2:$D$37,0),2))","v":""},null,{"$f":"IF(BI411=\"\",\"\",INDEX(referentes!$J$2:$L$363,MATCH(BI411,referentes!$J$2:$J$363,0),2))","v":""},"",407]
["30000104",{"$f":"DIGITADOR!$B$2","v":""},1,{"$f":"IF(E412<>\"\",CONCATENATE($A$2,DIGITADOR!$M$1,O412,AH412),\"\")","v":""},null,null,"00:00:00",1,null,null,{"$f":"IF(J412<>\"\",VLOOKUP(J412,#REF!,1,FALSE),\"\")","v":""},null,"",{"$f":"IF(M412=\"\",\"\",INDEX('Otras referencias'!$L$2:$N$200,MATCH(M412,'Otras referencias'!$L$2:$L$200,0),3))","v":""},{"$f":"IF(M412=\"\",\"\",INDEX(referentes!$S$2:$S$170,MATCH(N412,referentes!$W$2:$W$170,0),1))","v":""},null,null,null,null,null,null,null,null,null,{"$f":"IF(X412=\"\",\"\",INDEX(referentes!$Y$2:$Z$37,MATCH(X412,referentes!$Z$2:$Z$37,0),1))","v":""},"01",null,null,null,"",null,"",null,null,"",null,1,{"$f":"IF(E412<>\"\",CONCATENATE(B412,A412,DIGITADOR!$M$1,AH412),\"\")","v":""},"",null,null,null,null,null,null,null,null,null,null,null,null,null,null,null,null,null,null,"","",{"$f":"IF(BE412=\"\",\"\",INDEX(referentes!$D$2:$E$37,MATCH(BE412,referentes!$D$2:$D$37,0),2))","v":""},null,{"$f":"IF(BI412=\"\",\"\",INDEX(referentes!$J$2:$L$363,MATCH(BI412,referentes!$J$2:$J$363,0),2))","v":""},"",408]
["30000104",{"$f":"DIGITADOR!$B$2","v":""},1,{"$f":"IF(E413<>\"\",CONCATENATE($A$2,DIGITADOR!$M$1,O413,AH413),\"\")","v":""},null,null,"00:00:00",1,null,null,{"$f":"IF(J413<>\"\",VLOOKUP(J413,#REF!,1,FALSE),\"\")","v":""},null,"",{"$f":"IF(M413=\"\",\"\",INDEX('Otras referencias'!$L$2:$N$200,MATCH(M413,'Otras referencias'!$L$2:$L$200,0),3))","v":""},{"$f":"IF(M413=\"\",\"\",INDEX(referentes!$S$2:$S$170,MATCH(N413,referentes!$W$2:$W$170,0),1))","v":""},null,null,null,null,null,null,null,null,null,{"$f":"IF(X413=\"\",\"\",INDEX(referentes!$Y$2:$Z$37,MATCH(X413,referentes!$Z$2:$Z$37,0),1))","v":""},"01",null,null,null,"",null,"",null,null,"",null,1,{"$f":"IF(E413<>\"\",CONCATENATE(B413,A413,DIGITADOR!$M$1,AH413),\"\")","v":""},"",null,null,null,null,null,null,null,null,null,null,null,null,null,null,null,null,null,null,"","",{"$f":"IF(BE413=\"\",\"\",INDEX(referentes!$D$2:$E$37,MATCH(BE413,referentes!$D$2:$D$37,0),2))","v":""},null,{"$f":"IF(BI413=\"\",\"\",INDEX(referentes!$J$2:$L$363,MATCH(BI413,referentes!$J$2:$J$363,0),2))","v":""},"",409]
["30000104",{"$f":"DIGITADOR!$B$2","v":""},1,{"$f":"IF(E414<>\"\",CONCATENATE($A$2,DIGITADOR!$M$1,O414,AH414),\"\")","v":""},null,null,"00:00:00",1,null,null,{"$f":"IF(J414<>\"\",VLOOKUP(J414,#REF!,1,FALSE),\"\")","v":""},null,"",{"$f":"IF(M414=\"\",\"\",INDEX('Otras referencias'!$L$2:$N$200,MATCH(M414,'Otras referencias'!$L$2:$L$200,0),3))","v":""},{"$f":"IF(M414=\"\",\"\",INDEX(referentes!$S$2:$S$170,MATCH(N414,referentes!$W$2:$W$170,0),1))","v":""},null,null,null,null,null,null,null,null,null,{"$f":"IF(X414=\"\",\"\",INDEX(referentes!$Y$2:$Z$37,MATCH(X414,referentes!$Z$2:$Z$37,0),1))","v":""},"01",null,null,null,"",null,"",null,null,"",null,1,{"$f":"IF(E414<>\"\",CONCATENATE(B414,A414,DIGITADOR!$M$1,AH414),\"\")","v":""},"",null,null,null,null,null,null,null,null,null,null,null,null,null,null,null,null,null,null,"","",{"$f":"IF(BE414=\"\",\"\",INDEX(referentes!$D$2:$E$37,MATCH(BE414,referentes!$D$2:$D$37,0),2))","v":""},null,{"$f":"IF(BI414=\"\",\"\",INDEX(referentes!$J$2:$L$363,MATCH(BI414,referentes!$J$2:$J$363,0),2))","v":""},"",410]
["30000104",{"$f":"DIGITADOR!$B$2","v":""},1,{"$f":"IF(E415<>\"\",CONCATENATE($A$2,DIGITADOR!$M$1,O415,AH415),\"\")","v":""},null,null,"00:00:00",1,null,null,{"$f":"IF(J415<>\"\",VLOOKUP(J415,#REF!,1,FALSE),\"\")","v":""},null,"",{"$f":"IF(M415=\"\",\"\",INDEX('Otras referencias'!$L$2:$N$200,MATCH(M415,'Otras referencias'!$L$2:$L$200,0),3))","v":""},{"$f":"IF(M415=\"\",\"\",INDEX(referentes!$S$2:$S$170,MATCH(N415,referentes!$W$2:$W$170,0),1))","v":""},null,null,null,null,null,null,null,null,null,{"$f":"IF(X415=\"\",\"\",INDEX(referentes!$Y$2:$Z$37,MATCH(X415,referentes!$Z$2:$Z$37,0),1))","v":""},"01",null,null,null,"",null,"",null,null,"",null,1,{"$f":"IF(E415<>\"\",CONCATENATE(B415,A415,DIGITADOR!$M$1,AH415),\"\")","v":""},"",null,null,null,null,null,null,null,null,null,null,null,null,null,null,null,null,null,null,"","",{"$f":"IF(BE415=\"\",\"\",INDEX(referentes!$D$2:$E$37,MATCH(BE415,referentes!$D$2:$D$37,0),2))","v":""},null,{"$f":"IF(BI415=\"\",\"\",INDEX(referentes!$J$2:$L$363,MATCH(BI415,referentes!$J$2:$J$363,0),2))","v":""},"",411]
["30000104",{"$f":"DIGITADOR!$B$2","v":""},1,{"$f":"IF(E416<>\"\",CONCATENATE($A$2,DIGITADOR!$M$1,O416,AH416),\"\")","v":""},null,null,"00:00:00",1,null,null,{"$f":"IF(J416<>\"\",VLOOKUP(J416,#REF!,1,FALSE),\"\")","v":""},null,"",{"$f":"IF(M416=\"\",\"\",INDEX('Otras referencias'!$L$2:$N$200,MATCH(M416,'Otras referencias'!$L$2:$L$200,0),3))","v":""},{"$f":"IF(M416=\"\",\"\",INDEX(referentes!$S$2:$S$170,MATCH(N416,referentes!$W$2:$W$170,0),1))","v":""},null,null,null,null,null,null,null,null,null,{"$f":"IF(X416=\"\",\"\",INDEX(referentes!$Y$2:$Z$37,MATCH(X416,referentes!$Z$2:$Z$37,0),1))","v":""},"01",null,null,null,"",null,"",null,null,"",null,1,{"$f":"IF(E416<>\"\",CONCATENATE(B416,A416,DIGITADOR!$M$1,AH416),\"\")","v":""},"",null,null,null,null,null,null,null,null,null,null,null,null,null,null,null,null,null,null,"","",{"$f":"IF(BE416=\"\",\"\",INDEX(referentes!$D$2:$E$37,MATCH(BE416,referentes!$D$2:$D$37,0),2))","v":""},null,{"$f":"IF(BI416=\"\",\"\",INDEX(referentes!$J$2:$L$363,MATCH(BI416,referentes!$J$2:$J$363,0),2))","v":""},"",412]
["30000104",{"$f":"DIGITADOR!$B$2","v":""},1,{"$f":"IF(E417<>\"\",CONCATENATE($A$2,DIGITADOR!$M$1,O417,AH417),\"\")","v":""},null,null,"00:00:00",1,null,null,{"$f":"IF(J417<>\"\",VLOOKUP(J417,#REF!,1,FALSE),\"\")","v":""},null,"",{"$f":"IF(M417=\"\",\"\",INDEX('Otras referencias'!$L$2:$N$200,MATCH(M417,'Otras referencias'!$L$2:$L$200,0),3))","v":""},{"$f":"IF(M417=\"\",\"\",INDEX(referentes!$S$2:$S$170,MATCH(N417,referentes!$W$2:$W$170,0),1))","v":""},null,null,null,null,null,null,null,null,null,{"$f":"IF(X417=\"\",\"\",INDEX(referentes!$Y$2:$Z$37,MATCH(X417,referentes!$Z$2:$Z$37,0),1))","v":""},"01",null,null,null,"",null,"",null,null,"",null,1,{"$f":"IF(E417<>\"\",CONCATENATE(B417,A417,DIGITADOR!$M$1,AH417),\"\")","v":""},"",null,null,null,null,null,null,null,null,null,null,null,null,null,null,null,null,null,null,"","",{"$f":"IF(BE417=\"\",\"\",INDEX(referentes!$D$2:$E$37,MATCH(BE417,referentes!$D$2:$D$37,0),2))","v":""},null,{"$f":"IF(BI417=\"\",\"\",INDEX(referentes!$J$2:$L$363,MATCH(BI417,referentes!$J$2:$J$363,0),2))","v":""},"",413]
["30000104",{"$f":"DIGITADOR!$B$2","v":""},1,{"$f":"IF(E418<>\"\",CONCATENATE($A$2,DIGITADOR!$M$1,O418,AH418),\"\")","v":""},null,null,"00:00:00",1,null,null,{"$f":"IF(J418<>\"\",VLOOKUP(J418,#REF!,1,FALSE),\"\")","v":""},null,"",{"$f":"IF(M418=\"\",\"\",INDEX('Otras referencias'!$L$2:$N$200,MATCH(M418,'Otras referencias'!$L$2:$L$200,0),3))","v":""},{"$f":"IF(M418=\"\",\"\",INDEX(referentes!$S$2:$S$170,MATCH(N418,referentes!$W$2:$W$170,0),1))","v":""},null,null,null,null,null,null,null,null,null,{"$f":"IF(X418=\"\",\"\",INDEX(referentes!$Y$2:$Z$37,MATCH(X418,referentes!$Z$2:$Z$37,0),1))","v":""},"01",null,null,null,"",null,"",null,null,"",null,1,{"$f":"IF(E418<>\"\",CONCATENATE(B418,A418,DIGITADOR!$M$1,AH418),\"\")","v":""},"",null,null,null,null,null,null,null,null,null,null,null,null,null,null,null,null,null,null,"","",{"$f":"IF(BE418=\"\",\"\",INDEX(referentes!$D$2:$E$37,MATCH(BE418,referentes!$D$2:$D$37,0),2))","v":""},null,{"$f":"IF(BI418=\"\",\"\",INDEX(referentes!$J$2:$L$363,MATCH(BI418,referentes!$J$2:$J$363,0),2))","v":""},"",414]
["30000104",{"$f":"DIGITADOR!$B$2","v":""},1,{"$f":"IF(E419<>\"\",CONCATENATE($A$2,DIGITADOR!$M$1,O419,AH419),\"\")","v":""},null,null,"00:00:00",1,null,null,{"$f":"IF(J419<>\"\",VLOOKUP(J419,#REF!,1,FALSE),\"\")","v":""},null,"",{"$f":"IF(M419=\"\",\"\",INDEX('Otras referencias'!$L$2:$N$200,MATCH(M419,'Otras referencias'!$L$2:$L$200,0),3))","v":""},{"$f":"IF(M419=\"\",\"\",INDEX(referentes!$S$2:$S$170,MATCH(N419,referentes!$W$2:$W$170,0),1))","v":""},null,null,null,null,null,null,null,null,null,{"$f":"IF(X419=\"\",\"\",INDEX(referentes!$Y$2:$Z$37,MATCH(X419,referentes!$Z$2:$Z$37,0),1))","v":""},"01",null,null,null,"",null,"",null,null,"",null,1,{"$f":"IF(E419<>\"\",CONCATENATE(B419,A419,DIGITADOR!$M$1,AH419),\"\")","v":""},"",null,null,null,null,null,null,null,null,null,null,null,null,null,null,null,null,null,null,"","",{"$f":"IF(BE419=\"\",\"\",INDEX(referentes!$D$2:$E$37,MATCH(BE419,referentes!$D$2:$D$37,0),2))","v":""},null,{"$f":"IF(BI419=\"\",\"\",INDEX(referentes!$J$2:$L$363,MATCH(BI419,referentes!$J$2:$J$363,0),2))","v":""},"",415]
["30000104",{"$f":"DIGITADOR!$B$2","v":""},1,{"$f":"IF(E420<>\"\",CONCATENATE($A$2,DIGITADOR!$M$1,O420,AH420),\"\")","v":""},null,null,"00:00:00",1,null,null,{"$f":"IF(J420<>\"\",VLOOKUP(J420,#REF!,1,FALSE),\"\")","v":""},null,"",{"$f":"IF(M420=\"\",\"\",INDEX('Otras referencias'!$L$2:$N$200,MATCH(M420,'Otras referencias'!$L$2:$L$200,0),3))","v":""},{"$f":"IF(M420=\"\",\"\",INDEX(referentes!$S$2:$S$170,MATCH(N420,referentes!$W$2:$W$170,0),1))","v":""},null,null,null,null,null,null,null,null,null,{"$f":"IF(X420=\"\",\"\",INDEX(referentes!$Y$2:$Z$37,MATCH(X420,referentes!$Z$2:$Z$37,0),1))","v":""},"01",null,null,null,"",null,"",null,null,"",null,1,{"$f":"IF(E420<>\"\",CONCATENATE(B420,A420,DIGITADOR!$M$1,AH420),\"\")","v":""},"",null,null,null,null,null,null,null,null,null,null,null,null,null,null,null,null,null,null,"","",{"$f":"IF(BE420=\"\",\"\",INDEX(referentes!$D$2:$E$37,MATCH(BE420,referentes!$D$2:$D$37,0),2))","v":""},null,{"$f":"IF(BI420=\"\",\"\",INDEX(referentes!$J$2:$L$363,MATCH(BI420,referentes!$J$2:$J$363,0),2))","v":""},"",416]
["30000104",{"$f":"DIGITADOR!$B$2","v":""},1,{"$f":"IF(E421<>\"\",CONCATENATE($A$2,DIGITADOR!$M$1,O421,AH421),\"\")","v":""},null,null,"00:00:00",1,null,null,{"$f":"IF(J421<>\"\",VLOOKUP(J421,#REF!,1,FALSE),\"\")","v":""},null,"",{"$f":"IF(M421=\"\",\"\",INDEX('Otras referencias'!$L$2:$N$200,MATCH(M421,'Otras referencias'!$L$2:$L$200,0),3))","v":""},{"$f":"IF(M421=\"\",\"\",INDEX(referentes!$S$2:$S$170,MATCH(N421,referentes!$W$2:$W$170,0),1))","v":""},null,null,null,null,null,null,null,null,null,{"$f":"IF(X421=\"\",\"\",INDEX(referentes!$Y$2:$Z$37,MATCH(X421,referentes!$Z$2:$Z$37,0),1))","v":""},"01",null,null,null,"",null,"",null,null,"",null,1,{"$f":"IF(E421<>\"\",CONCATENATE(B421,A421,DIGITADOR!$M$1,AH421),\"\")","v":""},"",null,null,null,null,null,null,null,null,null,null,null,null,null,null,null,null,null,null,"","",{"$f":"IF(BE421=\"\",\"\",INDEX(referentes!$D$2:$E$37,MATCH(BE421,referentes!$D$2:$D$37,0),2))","v":""},null,{"$f":"IF(BI421=\"\",\"\",INDEX(referentes!$J$2:$L$363,MATCH(BI421,referentes!$J$2:$J$363,0),2))","v":""},"",417]
["30000104",{"$f":"DIGITADOR!$B$2","v":""},1,{"$f":"IF(E422<>\"\",CONCATENATE($A$2,DIGITADOR!$M$1,O422,AH422),\"\")","v":""},null,null,"00:00:00",1,null,null,{"$f":"IF(J422<>\"\",VLOOKUP(J422,#REF!,1,FALSE),\"\")","v":""},null,"",{"$f":"IF(M422=\"\",\"\",INDEX('Otras referencias'!$L$2:$N$200,MATCH(M422,'Otras referencias'!$L$2:$L$200,0),3))","v":""},{"$f":"IF(M422=\"\",\"\",INDEX(referentes!$S$2:$S$170,MATCH(N422,referentes!$W$2:$W$170,0),1))","v":""},null,null,null,null,null,null,null,null,null,{"$f":"IF(X422=\"\",\"\",INDEX(referentes!$Y$2:$Z$37,MATCH(X422,referentes!$Z$2:$Z$37,0),1))","v":""},"01",null,null,null,"",null,"",null,null,"",null,1,{"$f":"IF(E422<>\"\",CONCATENATE(B422,A422,DIGITADOR!$M$1,AH422),\"\")","v":""},"",null,null,null,null,null,null,null,null,null,null,null,null,null,null,null,null,null,null,"","",{"$f":"IF(BE422=\"\",\"\",INDEX(referentes!$D$2:$E$37,MATCH(BE422,referentes!$D$2:$D$37,0),2))","v":""},null,{"$f":"IF(BI422=\"\",\"\",INDEX(referentes!$J$2:$L$363,MATCH(BI422,referentes!$J$2:$J$363,0),2))","v":""},"",418]
["30000104",{"$f":"DIGITADOR!$B$2","v":""},1,{"$f":"IF(E423<>\"\",CONCATENATE($A$2,DIGITADOR!$M$1,O423,AH423),\"\")","v":""},null,null,"00:00:00",1,null,null,{"$f":"IF(J423<>\"\",VLOOKUP(J423,#REF!,1,FALSE),\"\")","v":""},null,"",{"$f":"IF(M423=\"\",\"\",INDEX('Otras referencias'!$L$2:$N$200,MATCH(M423,'Otras referencias'!$L$2:$L$200,0),3))","v":""},{"$f":"IF(M423=\"\",\"\",INDEX(referentes!$S$2:$S$170,MATCH(N423,referentes!$W$2:$W$170,0),1))","v":""},null,null,null,null,null,null,null,null,null,{"$f":"IF(X423=\"\",\"\",INDEX(referentes!$Y$2:$Z$37,MATCH(X423,referentes!$Z$2:$Z$37,0),1))","v":""},"01",null,null,null,"",null,"",null,null,"",null,1,{"$f":"IF(E423<>\"\",CONCATENATE(B423,A423,DIGITADOR!$M$1,AH423),\"\")","v":""},"",null,null,null,null,null,null,null,null,null,null,null,null,null,null,null,null,null,null,"","",{"$f":"IF(BE423=\"\",\"\",INDEX(referentes!$D$2:$E$37,MATCH(BE423,referentes!$D$2:$D$37,0),2))","v":""},null,{"$f":"IF(BI423=\"\",\"\",INDEX(referentes!$J$2:$L$363,MATCH(BI423,referentes!$J$2:$J$363,0),2))","v":""},"",419]
["30000104",{"$f":"DIGITADOR!$B$2","v":""},1,{"$f":"IF(E424<>\"\",CONCATENATE($A$2,DIGITADOR!$M$1,O424,AH424),\"\")","v":""},null,null,"00:00:00",1,null,null,{"$f":"IF(J424<>\"\",VLOOKUP(J424,#REF!,1,FALSE),\"\")","v":""},null,"",{"$f":"IF(M424=\"\",\"\",INDEX('Otras referencias'!$L$2:$N$200,MATCH(M424,'Otras referencias'!$L$2:$L$200,0),3))","v":""},{"$f":"IF(M424=\"\",\"\",INDEX(referentes!$S$2:$S$170,MATCH(N424,referentes!$W$2:$W$170,0),1))","v":""},null,null,null,null,null,null,null,null,null,{"$f":"IF(X424=\"\",\"\",INDEX(referentes!$Y$2:$Z$37,MATCH(X424,referentes!$Z$2:$Z$37,0),1))","v":""},"01",null,null,null,"",null,"",null,null,"",null,1,{"$f":"IF(E424<>\"\",CONCATENATE(B424,A424,DIGITADOR!$M$1,AH424),\"\")","v":""},"",null,null,null,null,null,null,null,null,null,null,null,null,null,null,null,null,null,null,"","",{"$f":"IF(BE424=\"\",\"\",INDEX(referentes!$D$2:$E$37,MATCH(BE424,referentes!$D$2:$D$37,0),2))","v":""},null,{"$f":"IF(BI424=\"\",\"\",INDEX(referentes!$J$2:$L$363,MATCH(BI424,referentes!$J$2:$J$363,0),2))","v":""},"",420]
["30000104",{"$f":"DIGITADOR!$B$2","v":""},1,{"$f":"IF(E425<>\"\",CONCATENATE($A$2,DIGITADOR!$M$1,O425,AH425),\"\")","v":""},null,null,{"$f":"E425+F425","v":"00:00:00"},{"$f":"IF(G425<>\"\",MONTH(G425),\"\")","v":1},null,null,{"$f":"IF(J425<>\"\",VLOOKUP(J425,#REF!,1,FALSE),\"\")","v":""},null,{"$f":"IF(L425<>\"\",CONCATENATE(J425,L425),\"\")","v":""},{"$f":"IF(M425=\"\",\"\",INDEX('Otras referencias'!$L$2:$N$200,MATCH(M425,'Otras referencias'!$L$2:$L$200,0),3))","v":""},{"$f":"IF(M425=\"\",\"\",INDEX(referentes!$S$2:$S$170,MATCH(N425,referentes!$W$2:$W$170,0),1))","v":""},null,null,null,null,null,null,null,null,null,{"$f":"IF(X425=\"\",\"\",INDEX(referentes!$Y$2:$Z$37,MATCH(X425,referentes!$Z$2:$Z$37,0),1))","v":""},"01",null,null,null,"",null,"",null,null,"",null,1,{"$f":"IF(E425<>\"\",CONCATENATE(B425,A425,DIGITADOR!$M$1,AH425),\"\")","v":""},"",null,null,null,null,null,null,null,null,null,null,null,null,null,null,null,null,null,null,"","",{"$f":"IF(BE425=\"\",\"\",INDEX(referentes!$D$2:$E$37,MATCH(BE425,referentes!$D$2:$D$37,0),2))","v":""},null,{"$f":"IF(BI425=\"\",\"\",INDEX(referentes!$J$2:$L$363,MATCH(BI425,referentes!$J$2:$J$363,0),2))","v":""},"",421]
["30000104",{"$f":"DIGITADOR!$B$2","v":""},1,{"$f":"IF(E426<>\"\",CONCATENATE($A$2,DIGITADOR!$M$1,O426,AH426),\"\")","v":""},null,null,"00:00:00",1,null,null,{"$f":"IF(J426<>\"\",VLOOKUP(J426,#REF!,1,FALSE),\"\")","v":""},null,"",{"$f":"IF(M426=\"\",\"\",INDEX('Otras referencias'!$L$2:$N$200,MATCH(M426,'Otras referencias'!$L$2:$L$200,0),3))","v":""},{"$f":"IF(M426=\"\",\"\",INDEX(referentes!$S$2:$S$170,MATCH(N426,referentes!$W$2:$W$170,0),1))","v":""},null,null,null,null,null,null,null,null,null,{"$f":"IF(X426=\"\",\"\",INDEX(referentes!$Y$2:$Z$37,MATCH(X426,referentes!$Z$2:$Z$37,0),1))","v":""},"01",null,null,null,"",null,"",null,null,"",null,1,{"$f":"IF(E426<>\"\",CONCATENATE(B426,A426,DIGITADOR!$M$1,AH426),\"\")","v":""},"",null,null,null,null,null,null,null,null,null,null,null,null,null,null,null,null,null,null,"","",{"$f":"IF(BE426=\"\",\"\",INDEX(referentes!$D$2:$E$37,MATCH(BE426,referentes!$D$2:$D$37,0),2))","v":""},null,{"$f":"IF(BI426=\"\",\"\",INDEX(referentes!$J$2:$L$363,MATCH(BI426,referentes!$J$2:$J$363,0),2))","v":""},"",422]
["30000104",{"$f":"DIGITADOR!$B$2","v":""},1,{"$f":"IF(E427<>\"\",CONCATENATE($A$2,DIGITADOR!$M$1,O427,AH427),\"\")","v":""},null,null,"00:00:00",1,null,null,{"$f":"IF(J427<>\"\",VLOOKUP(J427,#REF!,1,FALSE),\"\")","v":""},null,"",{"$f":"IF(M427=\"\",\"\",INDEX('Otras referencias'!$L$2:$N$200,MATCH(M427,'Otras referencias'!$L$2:$L$200,0),3))","v":""},{"$f":"IF(M427=\"\",\"\",INDEX(referentes!$S$2:$S$170,MATCH(N427,referentes!$W$2:$W$170,0),1))","v":""},null,null,null,null,null,null,null,null,null,{"$f":"IF(X427=\"\",\"\",INDEX(referentes!$Y$2:$Z$37,MATCH(X427,referentes!$Z$2:$Z$37,0),1))","v":""},"01",null,null,null,"",null,"",null,null,"",null,1,{"$f":"IF(E427<>\"\",CONCATENATE(B427,A427,DIGITADOR!$M$1,AH427),\"\")","v":""},"",null,null,null,null,null,null,null,null,null,null,null,null,null,null,null,null,null,null,"","",{"$f":"IF(BE427=\"\",\"\",INDEX(referentes!$D$2:$E$37,MATCH(BE427,referentes!$D$2:$D$37,0),2))","v":""},null,{"$f":"IF(BI427=\"\",\"\",INDEX(referentes!$J$2:$L$363,MATCH(BI427,referentes!$J$2:$J$363,0),2))","v":""},"",423]
["30000104",{"$f":"DIGITADOR!$B$2","v":""},1,{"$f":"IF(E428<>\"\",CONCATENATE($A$2,DIGITADOR!$M$1,O428,AH428),\"\")","v":""},null,null,"00:00:00",1,null,null,{"$f":"IF(J428<>\"\",VLOOKUP(J428,#REF!,1,FALSE),\"\")","v":""},null,"",{"$f":"IF(M428=\"\",\"\",INDEX('Otras referencias'!$L$2:$N$200,MATCH(M428,'Otras referencias'!$L$2:$L$200,0),3))","v":""},{"$f":"IF(M428=\"\",\"\",INDEX(referentes!$S$2:$S$170,MATCH(N428,referentes!$W$2:$W$170,0),1))","v":""},null,null,null,null,null,null,null,null,null,{"$f":"IF(X428=\"\",\"\",INDEX(referentes!$Y$2:$Z$37,MATCH(X428,referentes!$Z$2:$Z$37,0),1))","v":""},"01",null,null,null,"",null,"",null,null,"",null,1,{"$f":"IF(E428<>\"\",CONCATENATE(B428,A428,DIGITADOR!$M$1,AH428),\"\")","v":""},"",null,null,null,null,null,null,null,null,null,null,null,null,null,null,null,null,null,null,"","",{"$f":"IF(BE428=\"\",\"\",INDEX(referentes!$D$2:$E$37,MATCH(BE428,referentes!$D$2:$D$37,0),2))","v":""},null,{"$f":"IF(BI428=\"\",\"\",INDEX(referentes!$J$2:$L$363,MATCH(BI428,referentes!$J$2:$J$363,0),2))","v":""},"",424]
["30000104",{"$f":"DIGITADOR!$B$2","v":""},1,{"$f":"IF(E429<>\"\",CONCATENATE($A$2,DIGITADOR!$M$1,O429,AH429),\"\")","v":""},null,null,"00:00:00",1,null,null,{"$f":"IF(J429<>\"\",VLOOKUP(J429,#REF!,1,FALSE),\"\")","v":""},null,"",{"$f":"IF(M429=\"\",\"\",INDEX('Otras referencias'!$L$2:$N$200,MATCH(M429,'Otras referencias'!$L$2:$L$200,0),3))","v":""},{"$f":"IF(M429=\"\",\"\",INDEX(referentes!$S$2:$S$170,MATCH(N429,referentes!$W$2:$W$170,0),1))","v":""},null,null,null,null,null,null,null,null,null,{"$f":"IF(X429=\"\",\"\",INDEX(referentes!$Y$2:$Z$37,MATCH(X429,referentes!$Z$2:$Z$37,0),1))","v":""},"01",null,null,null,"",null,"",null,null,"",null,1,{"$f":"IF(E429<>\"\",CONCATENATE(B429,A429,DIGITADOR!$M$1,AH429),\"\")","v":""},"",null,null,null,null,null,null,null,null,null,null,null,null,null,null,null,null,null,null,"","",{"$f":"IF(BE429=\"\",\"\",INDEX(referentes!$D$2:$E$37,MATCH(BE429,referentes!$D$2:$D$37,0),2))","v":""},null,{"$f":"IF(BI429=\"\",\"\",INDEX(referentes!$J$2:$L$363,MATCH(BI429,referentes!$J$2:$J$363,0),2))","v":""},"",425]
["30000104",{"$f":"DIGITADOR!$B$2","v":""},1,{"$f":"IF(E430<>\"\",CONCATENATE($A$2,DIGITADOR!$M$1,O430,AH430),\"\")","v":""},null,null,"00:00:00",1,null,null,{"$f":"IF(J430<>\"\",VLOOKUP(J430,#REF!,1,FALSE),\"\")","v":""},null,"",{"$f":"IF(M430=\"\",\"\",INDEX('Otras referencias'!$L$2:$N$200,MATCH(M430,'Otras referencias'!$L$2:$L$200,0),3))","v":""},{"$f":"IF(M430=\"\",\"\",INDEX(referentes!$S$2:$S$170,MATCH(N430,referentes!$W$2:$W$170,0),1))","v":""},null,null,null,null,null,null,null,null,null,{"$f":"IF(X430=\"\",\"\",INDEX(referentes!$Y$2:$Z$37,MATCH(X430,referentes!$Z$2:$Z$37,0),1))","v":""},"01",null,null,null,"",null,"",null,null,"",null,1,{"$f":"IF(E430<>\"\",CONCATENATE(B430,A430,DIGITADOR!$M$1,AH430),\"\")","v":""},"",null,null,null,null,null,null,null,null,null,null,null,null,null,null,null,null,null,null,"","",{"$f":"IF(BE430=\"\",\"\",INDEX(referentes!$D$2:$E$37,MATCH(BE430,referentes!$D$2:$D$37,0),2))","v":""},null,{"$f":"IF(BI430=\"\",\"\",INDEX(referentes!$J$2:$L$363,MATCH(BI430,referentes!$J$2:$J$363,0),2))","v":""},"",426]
["30000104",{"$f":"DIGITADOR!$B$2","v":""},1,{"$f":"IF(E431<>\"\",CONCATENATE($A$2,DIGITADOR!$M$1,O431,AH431),\"\")","v":""},null,null,"00:00:00",1,null,null,{"$f":"IF(J431<>\"\",VLOOKUP(J431,#REF!,1,FALSE),\"\")","v":""},null,"",{"$f":"IF(M431=\"\",\"\",INDEX('Otras referencias'!$L$2:$N$200,MATCH(M431,'Otras referencias'!$L$2:$L$200,0),3))","v":""},{"$f":"IF(M431=\"\",\"\",INDEX(referentes!$S$2:$S$170,MATCH(N431,referentes!$W$2:$W$170,0),1))","v":""},null,null,null,null,null,null,null,null,null,{"$f":"IF(X431=\"\",\"\",INDEX(referentes!$Y$2:$Z$37,MATCH(X431,referentes!$Z$2:$Z$37,0),1))","v":""},"01",null,null,null,"",null,"",null,null,"",null,1,{"$f":"IF(E431<>\"\",CONCATENATE(B431,A431,DIGITADOR!$M$1,AH431),\"\")","v":""},"",null,null,null,null,null,null,null,null,null,null,null,null,null,null,null,null,null,null,"","",{"$f":"IF(BE431=\"\",\"\",INDEX(referentes!$D$2:$E$37,MATCH(BE431,referentes!$D$2:$D$37,0),2))","v":""},null,{"$f":"IF(BI431=\"\",\"\",INDEX(referentes!$J$2:$L$363,MATCH(BI431,referentes!$J$2:$J$363,0),2))","v":""},"",427]
["30000104",{"$f":"DIGITADOR!$B$2","v":""},1,{"$f":"IF(E432<>\"\",CONCATENATE($A$2,DIGITADOR!$M$1,O432,AH432),\"\")","v":""},null,null,"00:00:00",1,null,null,{"$f":"IF(J432<>\"\",VLOOKUP(J432,#REF!,1,FALSE),\"\")","v":""},null,"",{"$f":"IF(M432=\"\",\"\",INDEX('Otras referencias'!$L$2:$N$200,MATCH(M432,'Otras referencias'!$L$2:$L$200,0),3))","v":""},{"$f":"IF(M432=\"\",\"\",INDEX(referentes!$S$2:$S$170,MATCH(N432,referentes!$W$2:$W$170,0),1))","v":""},null,null,null,null,null,null,null,null,null,{"$f":"IF(X432=\"\",\"\",INDEX(referentes!$Y$2:$Z$37,MATCH(X432,referentes!$Z$2:$Z$37,0),1))","v":""},"01",null,null,null,"",null,"",null,null,"",null,1,{"$f":"IF(E432<>\"\",CONCATENATE(B432,A432,DIGITADOR!$M$1,AH432),\"\")","v":""},"",null,null,null,null,null,null,null,null,null,null,null,null,null,null,null,null,null,null,"","",{"$f":"IF(BE432=\"\",\"\",INDEX(referentes!$D$2:$E$37,MATCH(BE432,referentes!$D$2:$D$37,0),2))","v":""},null,{"$f":"IF(BI432=\"\",\"\",INDEX(referentes!$J$2:$L$363,MATCH(BI432,referentes!$J$2:$J$363,0),2))","v":""},"",428]
["30000104",{"$f":"DIGITADOR!$B$2","v":""},1,{"$f":"IF(E433<>\"\",CONCATENATE($A$2,DIGITADOR!$M$1,O433,AH433),\"\")","v":""},null,null,"00:00:00",1,null,null,{"$f":"IF(J433<>\"\",VLOOKUP(J433,#REF!,1,FALSE),\"\")","v":""},null,"",{"$f":"IF(M433=\"\",\"\",INDEX('Otras referencias'!$L$2:$N$200,MATCH(M433,'Otras referencias'!$L$2:$L$200,0),3))","v":""},{"$f":"IF(M433=\"\",\"\",INDEX(referentes!$S$2:$S$170,MATCH(N433,referentes!$W$2:$W$170,0),1))","v":""},null,null,null,null,null,null,null,null,null,{"$f":"IF(X433=\"\",\"\",INDEX(referentes!$Y$2:$Z$37,MATCH(X433,referentes!$Z$2:$Z$37,0),1))","v":""},"01",null,null,null,"",null,"",null,null,"",null,1,{"$f":"IF(E433<>\"\",CONCATENATE(B433,A433,DIGITADOR!$M$1,AH433),\"\")","v":""},"",null,null,null,null,null,null,null,null,null,null,null,null,null,null,null,null,null,null,"","",{"$f":"IF(BE433=\"\",\"\",INDEX(referentes!$D$2:$E$37,MATCH(BE433,referentes!$D$2:$D$37,0),2))","v":""},null,{"$f":"IF(BI433=\"\",\"\",INDEX(referentes!$J$2:$L$363,MATCH(BI433,referentes!$J$2:$J$363,0),2))","v":""},"",429]
["30000104",{"$f":"DIGITADOR!$B$2","v":""},1,{"$f":"IF(E434<>\"\",CONCATENATE($A$2,DIGITADOR!$M$1,O434,AH434),\"\")","v":""},null,null,"00:00:00",1,null,null,{"$f":"IF(J434<>\"\",VLOOKUP(J434,#REF!,1,FALSE),\"\")","v":""},null,"",{"$f":"IF(M434=\"\",\"\",INDEX('Otras referencias'!$L$2:$N$200,MATCH(M434,'Otras referencias'!$L$2:$L$200,0),3))","v":""},{"$f":"IF(M434=\"\",\"\",INDEX(referentes!$S$2:$S$170,MATCH(N434,referentes!$W$2:$W$170,0),1))","v":""},null,null,null,null,null,null,null,null,null,{"$f":"IF(X434=\"\",\"\",INDEX(referentes!$Y$2:$Z$37,MATCH(X434,referentes!$Z$2:$Z$37,0),1))","v":""},"01",null,null,null,"",null,"",null,null,"",null,1,{"$f":"IF(E434<>\"\",CONCATENATE(B434,A434,DIGITADOR!$M$1,AH434),\"\")","v":""},"",null,null,null,null,null,null,null,null,null,null,null,null,null,null,null,null,null,null,"","",{"$f":"IF(BE434=\"\",\"\",INDEX(referentes!$D$2:$E$37,MATCH(BE434,referentes!$D$2:$D$37,0),2))","v":""},null,{"$f":"IF(BI434=\"\",\"\",INDEX(referentes!$J$2:$L$363,MATCH(BI434,referentes!$J$2:$J$363,0),2))","v":""},"",430]
["30000104",{"$f":"DIGITADOR!$B$2","v":""},1,{"$f":"IF(E435<>\"\",CONCATENATE($A$2,DIGITADOR!$M$1,O435,AH435),\"\")","v":""},null,null,"00:00:00",1,null,null,{"$f":"IF(J435<>\"\",VLOOKUP(J435,#REF!,1,FALSE),\"\")","v":""},null,"",{"$f":"IF(M435=\"\",\"\",INDEX('Otras referencias'!$L$2:$N$200,MATCH(M435,'Otras referencias'!$L$2:$L$200,0),3))","v":""},{"$f":"IF(M435=\"\",\"\",INDEX(referentes!$S$2:$S$170,MATCH(N435,referentes!$W$2:$W$170,0),1))","v":""},null,null,null,null,null,null,null,null,null,{"$f":"IF(X435=\"\",\"\",INDEX(referentes!$Y$2:$Z$37,MATCH(X435,referentes!$Z$2:$Z$37,0),1))","v":""},"01",null,null,null,"",null,"",null,null,"",null,1,{"$f":"IF(E435<>\"\",CONCATENATE(B435,A435,DIGITADOR!$M$1,AH435),\"\")","v":""},"",null,null,null,null,null,null,null,null,null,null,null,null,null,null,null,null,null,null,"","",{"$f":"IF(BE435=\"\",\"\",INDEX(referentes!$D$2:$E$37,MATCH(BE435,referentes!$D$2:$D$37,0),2))","v":""},null,{"$f":"IF(BI435=\"\",\"\",INDEX(referentes!$J$2:$L$363,MATCH(BI435,referentes!$J$2:$J$363,0),2))","v":""},"",431]
["30000104",{"$f":"DIGITADOR!$B$2","v":""},1,{"$f":"IF(E436<>\"\",CONCATENATE($A$2,DIGITADOR!$M$1,O436,AH436),\"\")","v":""},null,null,"00:00:00",1,null,null,{"$f":"IF(J436<>\"\",VLOOKUP(J436,#REF!,1,FALSE),\"\")","v":""},null,"",{"$f":"IF(M436=\"\",\"\",INDEX('Otras referencias'!$L$2:$N$200,MATCH(M436,'Otras referencias'!$L$2:$L$200,0),3))","v":""},{"$f":"IF(M436=\"\",\"\",INDEX(referentes!$S$2:$S$170,MATCH(N436,referentes!$W$2:$W$170,0),1))","v":""},null,null,null,null,null,null,null,null,null,{"$f":"IF(X436=\"\",\"\",INDEX(referentes!$Y$2:$Z$37,MATCH(X436,referentes!$Z$2:$Z$37,0),1))","v":""},"01",null,null,null,"",null,"",null,null,"",null,1,{"$f":"IF(E436<>\"\",CONCATENATE(B436,A436,DIGITADOR!$M$1,AH436),\"\")","v":""},"",null,null,null,null,null,null,null,null,null,null,null,null,null,null,null,null,null,null,"","",{"$f":"IF(BE436=\"\",\"\",INDEX(referentes!$D$2:$E$37,MATCH(BE436,referentes!$D$2:$D$37,0),2))","v":""},null,{"$f":"IF(BI436=\"\",\"\",INDEX(referentes!$J$2:$L$363,MATCH(BI436,referentes!$J$2:$J$363,0),2))","v":""},"",432]
["30000104",{"$f":"DIGITADOR!$B$2","v":""},1,{"$f":"IF(E437<>\"\",CONCATENATE($A$2,DIGITADOR!$M$1,O437,AH437),\"\")","v":""},null,null,"00:00:00",1,null,null,{"$f":"IF(J437<>\"\",VLOOKUP(J437,#REF!,1,FALSE),\"\")","v":""},null,"",{"$f":"IF(M437=\"\",\"\",INDEX('Otras referencias'!$L$2:$N$200,MATCH(M437,'Otras referencias'!$L$2:$L$200,0),3))","v":""},{"$f":"IF(M437=\"\",\"\",INDEX(referentes!$S$2:$S$170,MATCH(N437,referentes!$W$2:$W$170,0),1))","v":""},null,null,null,null,null,null,null,null,null,{"$f":"IF(X437=\"\",\"\",INDEX(referentes!$Y$2:$Z$37,MATCH(X437,referentes!$Z$2:$Z$37,0),1))","v":""},"01",null,null,null,"",null,"",null,null,"",null,1,{"$f":"IF(E437<>\"\",CONCATENATE(B437,A437,DIGITADOR!$M$1,AH437),\"\")","v":""},"",null,null,null,null,null,null,null,null,null,null,null,null,null,null,null,null,null,null,"","",{"$f":"IF(BE437=\"\",\"\",INDEX(referentes!$D$2:$E$37,MATCH(BE437,referentes!$D$2:$D$37,0),2))","v":""},null,{"$f":"IF(BI437=\"\",\"\",INDEX(referentes!$J$2:$L$363,MATCH(BI437,referentes!$J$2:$J$363,0),2))","v":""},"",433]
["30000104",{"$f":"DIGITADOR!$B$2","v":""},2,{"$f":"IF(E438<>\"\",CONCATENATE($A$2,DIGITADOR!$M$1,O438,AH438),\"\")","v":""},null,null,null,null,null,null,null,null,"",{"$f":"IF(M438=\"\",\"\",INDEX('Otras referencias'!$L$2:$N$200,MATCH(M438,'Otras referencias'!$L$2:$L$200,0),3))","v":""},{"$f":"IF(M438=\"\",\"\",INDEX(referentes!$S$2:$S$170,MATCH(N438,referentes!$W$2:$W$170,0),1))","v":""},null,null,null,null,null,null,null,null,null,{"$f":"IF(X438=\"\",\"\",INDEX(referentes!$Y$2:$Z$37,MATCH(X438,referentes!$Z$2:$Z$37,0),1))","v":""},"1",null,null,null,"",null,"",null,null,"",null,1,{"$f":"IF(E438<>\"\",CONCATENATE(B438,A438,DIGITADOR!$M$1,AH438),\"\")","v":""},"",null,null,null,null,null,null,null,null,null,null,null,null,null,null,null,null,null,null,"","",{"$f":"IF(BE438=\"\",\"\",INDEX(referentes!$D$2:$E$37,MATCH(BE438,referentes!$D$2:$D$37,0),2))","v":""},null,{"$f":"IF(BI438=\"\",\"\",INDEX(referentes!$J$2:$L$363,MATCH(BI438,referentes!$J$2:$J$363,0),2))","v":""},"",434]
["30000104",{"$f":"DIGITADOR!$B$2","v":""},2,{"$f":"IF(E439<>\"\",CONCATENATE($A$2,DIGITADOR!$M$1,O439,AH439),\"\")","v":""},null,null,null,null,null,null,null,null,"",{"$f":"IF(M439=\"\",\"\",INDEX('Otras referencias'!$L$2:$N$200,MATCH(M439,'Otras referencias'!$L$2:$L$200,0),3))","v":""},{"$f":"IF(M439=\"\",\"\",INDEX(referentes!$S$2:$S$170,MATCH(N439,referentes!$W$2:$W$170,0),1))","v":""},null,null,null,null,null,null,null,null,null,{"$f":"IF(X439=\"\",\"\",INDEX(referentes!$Y$2:$Z$37,MATCH(X439,referentes!$Z$2:$Z$37,0),1))","v":""},"1",null,null,null,"",null,"",null,null,"",null,1,{"$f":"IF(E439<>\"\",CONCATENATE(B439,A439,DIGITADOR!$M$1,AH439),\"\")","v":""},"",null,null,null,null,null,null,null,null,null,null,null,null,null,null,null,null,null,null,"","",{"$f":"IF(BE439=\"\",\"\",INDEX(referentes!$D$2:$E$37,MATCH(BE439,referentes!$D$2:$D$37,0),2))","v":""},null,{"$f":"IF(BI439=\"\",\"\",INDEX(referentes!$J$2:$L$363,MATCH(BI439,referentes!$J$2:$J$363,0),2))","v":""},"",435]
["30000104",{"$f":"DIGITADOR!$B$2","v":""},3,{"$f":"IF(E440<>\"\",CONCATENATE($A$2,DIGITADOR!$M$1,O440,AH440),\"\")","v":""},null,null,"00:00:00",1,null,null,{"$f":"IF(J440<>\"\",VLOOKUP(J440,#REF!,1,FALSE),\"\")","v":""},null,"",{"$f":"IF(M440=\"\",\"\",INDEX('Otras referencias'!$L$2:$N$200,MATCH(M440,'Otras referencias'!$L$2:$L$200,0),3))","v":""},{"$f":"IF(M440=\"\",\"\",INDEX(referentes!$S$2:$S$170,MATCH(N440,referentes!$W$2:$W$170,0),1))","v":""},null,null,null,null,null,null,null,null,null,{"$f":"IF(X440=\"\",\"\",INDEX(referentes!$Y$2:$Z$37,MATCH(X440,referentes!$Z$2:$Z$37,0),1))","v":""},"01",null,null,null,"",null,"",null,null,"",null,1,{"$f":"IF(E440<>\"\",CONCATENATE(B440,A440,DIGITADOR!$M$1,AH440),\"\")","v":""},"",null,null,null,null,null,null,null,null,null,null,null,null,null,null,null,null,null,null,"","",{"$f":"IF(BE440=\"\",\"\",INDEX(referentes!$D$2:$E$37,MATCH(BE440,referentes!$D$2:$D$37,0),2))","v":""},null,{"$f":"IF(BI440=\"\",\"\",INDEX(referentes!$J$2:$L$363,MATCH(BI440,referentes!$J$2:$J$363,0),2))","v":""},"",436]
["30000104",{"$f":"DIGITADOR!$B$2","v":""},3,{"$f":"IF(E441<>\"\",CONCATENATE($A$2,DIGITADOR!$M$1,O441,AH441),\"\")","v":""},null,null,"00:00:00",1,null,null,{"$f":"IF(J441<>\"\",VLOOKUP(J441,#REF!,1,FALSE),\"\")","v":""},null,"",{"$f":"IF(M441=\"\",\"\",INDEX('Otras referencias'!$L$2:$N$200,MATCH(M441,'Otras referencias'!$L$2:$L$200,0),3))","v":""},{"$f":"IF(M441=\"\",\"\",INDEX(referentes!$S$2:$S$170,MATCH(N441,referentes!$W$2:$W$170,0),1))","v":""},null,null,null,null,null,null,null,null,null,{"$f":"IF(X441=\"\",\"\",INDEX(referentes!$Y$2:$Z$37,MATCH(X441,referentes!$Z$2:$Z$37,0),1))","v":""},"01",null,null,null,"",null,"",null,null,"",null,1,{"$f":"IF(E441<>\"\",CONCATENATE(B441,A441,DIGITADOR!$M$1,AH441),\"\")","v":""},"",null,null,null,null,null,null,null,null,null,null,null,null,null,null,null,null,null,null,"","",{"$f":"IF(BE441=\"\",\"\",INDEX(referentes!$D$2:$E$37,MATCH(BE441,referentes!$D$2:$D$37,0),2))","v":""},null,{"$f":"IF(BI441=\"\",\"\",INDEX(referentes!$J$2:$L$363,MATCH(BI441,referentes!$J$2:$J$363,0),2))","v":""},"",437]
["30000104",{"$f":"DIGITADOR!$B$2","v":""},3,{"$f":"IF(E442<>\"\",CONCATENATE($A$2,DIGITADOR!$M$1,O442,AH442),\"\")","v":""},null,null,"00:00:00",1,null,null,{"$f":"IF(J442<>\"\",VLOOKUP(J442,#REF!,1,FALSE),\"\")","v":""},null,"",{"$f":"IF(M442=\"\",\"\",INDEX('Otras referencias'!$L$2:$N$200,MATCH(M442,'Otras referencias'!$L$2:$L$200,0),3))","v":""},{"$f":"IF(M442=\"\",\"\",INDEX(referentes!$S$2:$S$170,MATCH(N442,referentes!$W$2:$W$170,0),1))","v":""},null,null,null,null,null,null,null,null,null,{"$f":"IF(X442=\"\",\"\",INDEX(referentes!$Y$2:$Z$37,MATCH(X442,referentes!$Z$2:$Z$37,0),1))","v":""},"01",null,null,null,"",null,"",null,null,"",null,1,{"$f":"IF(E442<>\"\",CONCATENATE(B442,A442,DIGITADOR!$M$1,AH442),\"\")","v":""},"",null,null,null,null,null,null,null,null,null,null,null,null,null,null,null,null,null,null,"","",{"$f":"IF(BE442=\"\",\"\",INDEX(referentes!$D$2:$E$37,MATCH(BE442,referentes!$D$2:$D$37,0),2))","v":""},null,{"$f":"IF(BI442=\"\",\"\",INDEX(referentes!$J$2:$L$363,MATCH(BI442,referentes!$J$2:$J$363,0),2))","v":""},"",438]
["30000104",{"$f":"DIGITADOR!$B$2","v":""},3,{"$f":"IF(E443<>\"\",CONCATENATE($A$2,DIGITADOR!$M$1,O443,AH443),\"\")","v":""},null,null,"00:00:00",1,null,null,{"$f":"IF(J443<>\"\",VLOOKUP(J443,#REF!,1,FALSE),\"\")","v":""},null,"",{"$f":"IF(M443=\"\",\"\",INDEX('Otras referencias'!$L$2:$N$200,MATCH(M443,'Otras referencias'!$L$2:$L$200,0),3))","v":""},{"$f":"IF(M443=\"\",\"\",INDEX(referentes!$S$2:$S$170,MATCH(N443,referentes!$W$2:$W$170,0),1))","v":""},null,null,null,null,null,null,null,null,null,{"$f":"IF(X443=\"\",\"\",INDEX(referentes!$Y$2:$Z$37,MATCH(X443,referentes!$Z$2:$Z$37,0),1))","v":""},"01",null,null,null,"",null,"",null,null,"",null,1,{"$f":"IF(E443<>\"\",CONCATENATE(B443,A443,DIGITADOR!$M$1,AH443),\"\")","v":""},"",null,null,null,null,null,null,null,null,null,null,null,null,null,null,null,null,null,null,"","",{"$f":"IF(BE443=\"\",\"\",INDEX(referentes!$D$2:$E$37,MATCH(BE443,referentes!$D$2:$D$37,0),2))","v":""},null,{"$f":"IF(BI443=\"\",\"\",INDEX(referentes!$J$2:$L$363,MATCH(BI443,referentes!$J$2:$J$363,0),2))","v":""},"",439]
["30000104",{"$f":"DIGITADOR!$B$2","v":""},3,{"$f":"IF(E444<>\"\",CONCATENATE($A$2,DIGITADOR!$M$1,O444,AH444),\"\")","v":""},null,null,"00:00:00",1,null,null,{"$f":"IF(J444<>\"\",VLOOKUP(J444,#REF!,1,FALSE),\"\")","v":""},null,"",{"$f":"IF(M444=\"\",\"\",INDEX('Otras referencias'!$L$2:$N$200,MATCH(M444,'Otras referencias'!$L$2:$L$200,0),3))","v":""},{"$f":"IF(M444=\"\",\"\",INDEX(referentes!$S$2:$S$170,MATCH(N444,referentes!$W$2:$W$170,0),1))","v":""},null,null,null,null,null,null,null,null,null,{"$f":"IF(X444=\"\",\"\",INDEX(referentes!$Y$2:$Z$37,MATCH(X444,referentes!$Z$2:$Z$37,0),1))","v":""},"01",null,null,null,"",null,"",null,null,"",null,1,{"$f":"IF(E444<>\"\",CONCATENATE(B444,A444,DIGITADOR!$M$1,AH444),\"\")","v":""},"",null,null,null,null,null,null,null,null,null,null,null,null,null,null,null,null,null,null,"","",{"$f":"IF(BE444=\"\",\"\",INDEX(referentes!$D$2:$E$37,MATCH(BE444,referentes!$D$2:$D$37,0),2))","v":""},null,{"$f":"IF(BI444=\"\",\"\",INDEX(referentes!$J$2:$L$363,MATCH(BI444,referentes!$J$2:$J$363,0),2))","v":""},"",440]
["30000104",{"$f":"DIGITADOR!$B$2","v":""},3,{"$f":"IF(E445<>\"\",CONCATENATE($A$2,DIGITADOR!$M$1,O445,AH445),\"\")","v":""},null,null,"00:00:00",1,null,null,{"$f":"IF(J445<>\"\",VLOOKUP(J445,#REF!,1,FALSE),\"\")","v":""},null,"",{"$f":"IF(M445=\"\",\"\",INDEX('Otras referencias'!$L$2:$N$200,MATCH(M445,'Otras referencias'!$L$2:$L$200,0),3))","v":""},{"$f":"IF(M445=\"\",\"\",INDEX(referentes!$S$2:$S$170,MATCH(N445,referentes!$W$2:$W$170,0),1))","v":""},null,null,null,null,null,null,null,null,null,{"$f":"IF(X445=\"\",\"\",INDEX(referentes!$Y$2:$Z$37,MATCH(X445,referentes!$Z$2:$Z$37,0),1))","v":""},"01",null,null,null,"",null,"",null,null,"",null,1,{"$f":"IF(E445<>\"\",CONCATENATE(B445,A445,DIGITADOR!$M$1,AH445),\"\")","v":""},"",null,null,null,null,null,null,null,null,null,null,null,null,null,null,null,null,null,null,"","",{"$f":"IF(BE445=\"\",\"\",INDEX(referentes!$D$2:$E$37,MATCH(BE445,referentes!$D$2:$D$37,0),2))","v":""},null,{"$f":"IF(BI445=\"\",\"\",INDEX(referentes!$J$2:$L$363,MATCH(BI445,referentes!$J$2:$J$363,0),2))","v":""},"",441]
["30000104",{"$f":"DIGITADOR!$B$2","v":""},3,{"$f":"IF(E446<>\"\",CONCATENATE($A$2,DIGITADOR!$M$1,O446,AH446),\"\")","v":""},null,null,"00:00:00",1,null,null,{"$f":"IF(J446<>\"\",VLOOKUP(J446,#REF!,1,FALSE),\"\")","v":""},null,"",{"$f":"IF(M446=\"\",\"\",INDEX('Otras referencias'!$L$2:$N$200,MATCH(M446,'Otras referencias'!$L$2:$L$200,0),3))","v":""},{"$f":"IF(M446=\"\",\"\",INDEX(referentes!$S$2:$S$170,MATCH(N446,referentes!$W$2:$W$170,0),1))","v":""},null,null,null,null,null,null,null,null,null,{"$f":"IF(X446=\"\",\"\",INDEX(referentes!$Y$2:$Z$37,MATCH(X446,referentes!$Z$2:$Z$37,0),1))","v":""},"01",null,null,null,"",null,"",null,null,"",null,1,{"$f":"IF(E446<>\"\",CONCATENATE(B446,A446,DIGITADOR!$M$1,AH446),\"\")","v":""},"",null,null,null,null,null,null,null,null,null,null,null,null,null,null,null,null,null,null,"","",{"$f":"IF(BE446=\"\",\"\",INDEX(referentes!$D$2:$E$37,MATCH(BE446,referentes!$D$2:$D$37,0),2))","v":""},null,{"$f":"IF(BI446=\"\",\"\",INDEX(referentes!$J$2:$L$363,MATCH(BI446,referentes!$J$2:$J$363,0),2))","v":""},"",442]
["30000104",{"$f":"DIGITADOR!$B$2","v":""},3,{"$f":"IF(E447<>\"\",CONCATENATE($A$2,DIGITADOR!$M$1,O447,AH447),\"\")","v":""},null,null,"00:00:00",1,null,null,{"$f":"IF(J447<>\"\",VLOOKUP(J447,#REF!,1,FALSE),\"\")","v":""},null,"",{"$f":"IF(M447=\"\",\"\",INDEX('Otras referencias'!$L$2:$N$200,MATCH(M447,'Otras referencias'!$L$2:$L$200,0),3))","v":""},{"$f":"IF(M447=\"\",\"\",INDEX(referentes!$S$2:$S$170,MATCH(N447,referentes!$W$2:$W$170,0),1))","v":""},null,null,null,null,null,null,null,null,null,{"$f":"IF(X447=\"\",\"\",INDEX(referentes!$Y$2:$Z$37,MATCH(X447,referentes!$Z$2:$Z$37,0),1))","v":""},"01",null,null,null,"",null,"",null,null,"",null,1,{"$f":"IF(E447<>\"\",CONCATENATE(B447,A447,DIGITADOR!$M$1,AH447),\"\")","v":""},"",null,null,null,null,null,null,null,null,null,null,null,null,null,null,null,null,null,null,"","",{"$f":"IF(BE447=\"\",\"\",INDEX(referentes!$D$2:$E$37,MATCH(BE447,referentes!$D$2:$D$37,0),2))","v":""},null,{"$f":"IF(BI447=\"\",\"\",INDEX(referentes!$J$2:$L$363,MATCH(BI447,referentes!$J$2:$J$363,0),2))","v":""},"",443]
["30000104",{"$f":"DIGITADOR!$B$2","v":""},3,{"$f":"IF(E448<>\"\",CONCATENATE($A$2,DIGITADOR!$M$1,O448,AH448),\"\")","v":""},null,null,"00:00:00",1,null,null,{"$f":"IF(J448<>\"\",VLOOKUP(J448,#REF!,1,FALSE),\"\")","v":""},null,"",{"$f":"IF(M448=\"\",\"\",INDEX('Otras referencias'!$L$2:$N$200,MATCH(M448,'Otras referencias'!$L$2:$L$200,0),3))","v":""},{"$f":"IF(M448=\"\",\"\",INDEX(referentes!$S$2:$S$170,MATCH(N448,referentes!$W$2:$W$170,0),1))","v":""},null,null,null,null,null,null,null,null,null,{"$f":"IF(X448=\"\",\"\",INDEX(referentes!$Y$2:$Z$37,MATCH(X448,referentes!$Z$2:$Z$37,0),1))","v":""},"01",null,null,null,"",null,"",null,null,"",null,1,{"$f":"IF(E448<>\"\",CONCATENATE(B448,A448,DIGITADOR!$M$1,AH448),\"\")","v":""},"",null,null,null,null,null,null,null,null,null,null,null,null,null,null,null,null,null,null,"","",{"$f":"IF(BE448=\"\",\"\",INDEX(referentes!$D$2:$E$37,MATCH(BE448,referentes!$D$2:$D$37,0),2))","v":""},null,{"$f":"IF(BI448=\"\",\"\",INDEX(referentes!$J$2:$L$363,MATCH(BI448,referentes!$J$2:$J$363,0),2))","v":""},"",444]
["30000104",{"$f":"DIGITADOR!$B$2","v":""},3,{"$f":"IF(E449<>\"\",CONCATENATE($A$2,DIGITADOR!$M$1,O449,AH449),\"\")","v":""},null,null,"00:00:00",1,null,null,{"$f":"IF(J449<>\"\",VLOOKUP(J449,#REF!,1,FALSE),\"\")","v":""},null,"",{"$f":"IF(M449=\"\",\"\",INDEX('Otras referencias'!$L$2:$N$200,MATCH(M449,'Otras referencias'!$L$2:$L$200,0),3))","v":""},{"$f":"IF(M449=\"\",\"\",INDEX(referentes!$S$2:$S$170,MATCH(N449,referentes!$W$2:$W$170,0),1))","v":""},null,null,null,null,null,null,null,null,null,{"$f":"IF(X449=\"\",\"\",INDEX(referentes!$Y$2:$Z$37,MATCH(X449,referentes!$Z$2:$Z$37,0),1))","v":""},"01",null,null,null,"",null,"",null,null,"",null,1,{"$f":"IF(E449<>\"\",CONCATENATE(B449,A449,DIGITADOR!$M$1,AH449),\"\")","v":""},"",null,null,null,null,null,null,null,null,null,null,null,null,null,null,null,null,null,null,"","",{"$f":"IF(BE449=\"\",\"\",INDEX(referentes!$D$2:$E$37,MATCH(BE449,referentes!$D$2:$D$37,0),2))","v":""},null,{"$f":"IF(BI449=\"\",\"\",INDEX(referentes!$J$2:$L$363,MATCH(BI449,referentes!$J$2:$J$363,0),2))","v":""},"",445]
["30000104",{"$f":"DIGITADOR!$B$2","v":""},3,{"$f":"IF(E450<>\"\",CONCATENATE($A$2,DIGITADOR!$M$1,O450,AH450),\"\")","v":""},null,null,"00:00:00",1,null,null,{"$f":"IF(J450<>\"\",VLOOKUP(J450,#REF!,1,FALSE),\"\")","v":""},null,"",{"$f":"IF(M450=\"\",\"\",INDEX('Otras referencias'!$L$2:$N$200,MATCH(M450,'Otras referencias'!$L$2:$L$200,0),3))","v":""},{"$f":"IF(M450=\"\",\"\",INDEX(referentes!$S$2:$S$170,MATCH(N450,referentes!$W$2:$W$170,0),1))","v":""},null,null,null,null,null,null,null,null,null,{"$f":"IF(X450=\"\",\"\",INDEX(referentes!$Y$2:$Z$37,MATCH(X450,referentes!$Z$2:$Z$37,0),1))","v":""},"01",null,null,null,"",null,"",null,null,"",null,1,{"$f":"IF(E450<>\"\",CONCATENATE(B450,A450,DIGITADOR!$M$1,AH450),\"\")","v":""},"",null,null,null,null,null,null,null,null,null,null,null,null,null,null,null,null,null,null,"","",{"$f":"IF(BE450=\"\",\"\",INDEX(referentes!$D$2:$E$37,MATCH(BE450,referentes!$D$2:$D$37,0),2))","v":""},null,{"$f":"IF(BI450=\"\",\"\",INDEX(referentes!$J$2:$L$363,MATCH(BI450,referentes!$J$2:$J$363,0),2))","v":""},"",446]
["30000104",{"$f":"DIGITADOR!$B$2","v":""},3,{"$f":"IF(E451<>\"\",CONCATENATE($A$2,DIGITADOR!$M$1,O451,AH451),\"\")","v":""},null,null,"00:00:00",1,null,null,{"$f":"IF(J451<>\"\",VLOOKUP(J451,#REF!,1,FALSE),\"\")","v":""},null,"",{"$f":"IF(M451=\"\",\"\",INDEX('Otras referencias'!$L$2:$N$200,MATCH(M451,'Otras referencias'!$L$2:$L$200,0),3))","v":""},{"$f":"IF(M451=\"\",\"\",INDEX(referentes!$S$2:$S$170,MATCH(N451,referentes!$W$2:$W$170,0),1))","v":""},null,null,null,null,null,null,null,null,null,{"$f":"IF(X451=\"\",\"\",INDEX(referentes!$Y$2:$Z$37,MATCH(X451,referentes!$Z$2:$Z$37,0),1))","v":""},"01",null,null,null,"",null,"",null,null,"",null,1,{"$f":"IF(E451<>\"\",CONCATENATE(B451,A451,DIGITADOR!$M$1,AH451),\"\")","v":""},"",null,null,null,null,null,null,null,null,null,null,null,null,null,null,null,null,null,null,"","",{"$f":"IF(BE451=\"\",\"\",INDEX(referentes!$D$2:$E$37,MATCH(BE451,referentes!$D$2:$D$37,0),2))","v":""},null,{"$f":"IF(BI451=\"\",\"\",INDEX(referentes!$J$2:$L$363,MATCH(BI451,referentes!$J$2:$J$363,0),2))","v":""},"",447]
["30000104",{"$f":"DIGITADOR!$B$2","v":""},3,{"$f":"IF(E452<>\"\",CONCATENATE($A$2,DIGITADOR!$M$1,O452,AH452),\"\")","v":""},null,null,"00:00:00",1,null,null,{"$f":"IF(J452<>\"\",VLOOKUP(J452,#REF!,1,FALSE),\"\")","v":""},null,"",{"$f":"IF(M452=\"\",\"\",INDEX('Otras referencias'!$L$2:$N$200,MATCH(M452,'Otras referencias'!$L$2:$L$200,0),3))","v":""},{"$f":"IF(M452=\"\",\"\",INDEX(referentes!$S$2:$S$170,MATCH(N452,referentes!$W$2:$W$170,0),1))","v":""},null,null,null,null,null,null,null,null,null,{"$f":"IF(X452=\"\",\"\",INDEX(referentes!$Y$2:$Z$37,MATCH(X452,referentes!$Z$2:$Z$37,0),1))","v":""},"01",null,null,null,"",null,"",null,null,"",null,1,{"$f":"IF(E452<>\"\",CONCATENATE(B452,A452,DIGITADOR!$M$1,AH452),\"\")","v":""},"",null,null,null,null,null,null,null,null,null,null,null,null,null,null,null,null,null,null,"","",{"$f":"IF(BE452=\"\",\"\",INDEX(referentes!$D$2:$E$37,MATCH(BE452,referentes!$D$2:$D$37,0),2))","v":""},null,{"$f":"IF(BI452=\"\",\"\",INDEX(referentes!$J$2:$L$363,MATCH(BI452,referentes!$J$2:$J$363,0),2))","v":""},"",448]
["30000104",{"$f":"DIGITADOR!$B$2","v":""},{"$f":"IF(Z453=Z452,C452,C452+1)","v":3},{"$f":"IF(E453<>\"\",CONCATENATE($A$2,DIGITADOR!$M$1,O453,AH453),\"\")","v":""},null,null,"00:00:00",1,null,null,{"$f":"IF(J453<>\"\",VLOOKUP(J453,#REF!,1,FALSE),\"\")","v":""},null,"",{"$f":"IF(M453=\"\",\"\",INDEX('Otras referencias'!$L$2:$N$200,MATCH(M453,'Otras referencias'!$L$2:$L$200,0),3))","v":""},{"$f":"IF(M453=\"\",\"\",INDEX(referentes!$S$2:$S$170,MATCH(N453,referentes!$W$2:$W$170,0),1))","v":""},null,null,null,null,null,null,null,null,null,{"$f":"IF(X453=\"\",\"\",INDEX(referentes!$Y$2:$Z$37,MATCH(X453,referentes!$Z$2:$Z$37,0),1))","v":""},{"$f":"CONCATENATE(G453,O453,Y453,AK453)","v":"01"},null,null,null,"",null,"",null,null,"",null,1,{"$f":"IF(E453<>\"\",CONCATENATE(B453,A453,DIGITADOR!$M$1,AH453),\"\")","v":""},{"$f":"IF(D453=\"\",\"\",IF(AND(D453=D452,AI453=AI452,N453=N452),AM452+1,1))","v":""},null,null,null,null,null,null,null,null,null,null,null,null,null,null,null,null,null,null,"","",{"$f":"IF(BE453=\"\",\"\",INDEX(referentes!$D$2:$E$37,MATCH(BE453,referentes!$D$2:$D$37,0),2))","v":""},null,{"$f":"IF(BI453=\"\",\"\",INDEX(referentes!$J$2:$L$363,MATCH(BI453,referentes!$J$2:$J$363,0),2))","v":""},{"$f":"IF(D453=\"\",\"\",CONCATENATE(D453,BL453))","v":""},449]
[{"$f":"A453","v":"30000104"},{"$f":"DIGITADOR!$B$2","v":""},3,{"$f":"IF(E454<>\"\",CONCATENATE($A$2,DIGITADOR!$M$1,O454,AH454),\"\")","v":""},null,null,"00:00:00",1,null,null,{"$f":"IF(J454<>\"\",VLOOKUP(J454,#REF!,1,FALSE),\"\")","v":""},null,"",{"$f":"IF(M454=\"\",\"\",INDEX('Otras referencias'!$L$2:$N$200,MATCH(M454,'Otras referencias'!$L$2:$L$200,0),3))","v":""},{"$f":"IF(M454=\"\",\"\",INDEX(referentes!$S$2:$S$170,MATCH(N454,referentes!$W$2:$W$170,0),1))","v":""},null,null,null,null,null,null,null,null,null,{"$f":"IF(X454=\"\",\"\",INDEX(referentes!$Y$2:$Z$37,MATCH(X454,referentes!$Z$2:$Z$37,0),1))","v":""},"01",null,null,null,{"$f":"IF(D454=\"\",\"\",\"OA\")","v":""},null,{"$f":"IF(D454=\"\",\"\",\"SO\")","v":""},null,null,{"$f":"CONCATENATE(AG454,AH454)","v":""},null,1,{"$f":"IF(E454<>\"\",CONCATENATE(B454,A454,DIGITADOR!$M$1,AH454),\"\")","v":""},"",null,null,null,null,null,null,null,null,null,null,null,null,null,null,null,null,null,null,{"$f":"IF(BE454=\"\",\"\",UPPER(BE454))","v":""},{"$f":"IF(BI454=\"\",\"\",UPPER(BI454))","v":""},{"$f":"IF(BE454=\"\",\"\",INDEX(referentes!$D$2:$E$37,MATCH(BE454,referentes!$D$2:$D$37,0),2))","v":""},null,{"$f":"IF(BI454=\"\",\"\",INDEX(referentes!$J$2:$L$363,MATCH(BI454,referentes!$J$2:$J$363,0),2))","v":""},"",450]
["30000104",{"$f":"DIGITADOR!$B$2","v":""},3,{"$f":"IF(E455<>\"\",CONCATENATE($A$2,DIGITADOR!$M$1,O455,AH455),\"\")","v":""},null,null,"00:00:00",1,null,null,{"$f":"IF(J455<>\"\",VLOOKUP(J455,#REF!,1,FALSE),\"\")","v":""},null,"",{"$f":"IF(M455=\"\",\"\",INDEX('Otras referencias'!$L$2:$N$200,MATCH(M455,'Otras referencias'!$L$2:$L$200,0),3))","v":""},{"$f":"IF(M455=\"\",\"\",INDEX(referentes!$S$2:$S$170,MATCH(N455,referentes!$W$2:$W$170,0),1))","v":""},null,null,null,null,null,null,null,null,null,{"$f":"IF(X455=\"\",\"\",INDEX(referentes!$Y$2:$Z$37,MATCH(X455,referentes!$Z$2:$Z$37,0),1))","v":""},"01",null,null,null,"",null,"",null,null,"",null,1,{"$f":"IF(E455<>\"\",CONCATENATE(B455,A455,DIGITADOR!$M$1,AH455),\"\")","v":""},"",null,null,null,null,null,null,null,null,null,null,null,null,null,null,null,null,null,null,"","",{"$f":"IF(BE455=\"\",\"\",INDEX(referentes!$D$2:$E$37,MATCH(BE455,referentes!$D$2:$D$37,0),2))","v":""},null,{"$f":"IF(BI455=\"\",\"\",INDEX(referentes!$J$2:$L$363,MATCH(BI455,referentes!$J$2:$J$363,0),2))","v":""},"",451]
["30000104",{"$f":"DIGITADOR!$B$2","v":""},3,{"$f":"IF(E456<>\"\",CONCATENATE($A$2,DIGITADOR!$M$1,O456,AH456),\"\")","v":""},null,null,"00:00:00",1,null,null,{"$f":"IF(J456<>\"\",VLOOKUP(J456,#REF!,1,FALSE),\"\")","v":""},null,"",{"$f":"IF(M456=\"\",\"\",INDEX('Otras referencias'!$L$2:$N$200,MATCH(M456,'Otras referencias'!$L$2:$L$200,0),3))","v":""},{"$f":"IF(M456=\"\",\"\",INDEX(referentes!$S$2:$S$170,MATCH(N456,referentes!$W$2:$W$170,0),1))","v":""},null,null,null,null,null,null,null,null,null,{"$f":"IF(X456=\"\",\"\",INDEX(referentes!$Y$2:$Z$37,MATCH(X456,referentes!$Z$2:$Z$37,0),1))","v":""},"01",null,null,null,"",null,"",null,null,"",null,1,{"$f":"IF(E456<>\"\",CONCATENATE(B456,A456,DIGITADOR!$M$1,AH456),\"\")","v":""},"",null,null,null,null,null,null,null,null,null,null,null,null,null,null,null,null,null,null,"","",{"$f":"IF(BE456=\"\",\"\",INDEX(referentes!$D$2:$E$37,MATCH(BE456,referentes!$D$2:$D$37,0),2))","v":""},null,{"$f":"IF(BI456=\"\",\"\",INDEX(referentes!$J$2:$L$363,MATCH(BI456,referentes!$J$2:$J$363,0),2))","v":""},"",452]
["30000104",{"$f":"DIGITADOR!$B$2","v":""},3,{"$f":"IF(E457<>\"\",CONCATENATE($A$2,DIGITADOR!$M$1,O457,AH457),\"\")","v":""},null,null,"00:00:00",1,null,null,{"$f":"IF(J457<>\"\",VLOOKUP(J457,#REF!,1,FALSE),\"\")","v":""},null,"",{"$f":"IF(M457=\"\",\"\",INDEX('Otras referencias'!$L$2:$N$200,MATCH(M457,'Otras referencias'!$L$2:$L$200,0),3))","v":""},{"$f":"IF(M457=\"\",\"\",INDEX(referentes!$S$2:$S$170,MATCH(N457,referentes!$W$2:$W$170,0),1))","v":""},null,null,null,null,null,null,null,null,null,{"$f":"IF(X457=\"\",\"\",INDEX(referentes!$Y$2:$Z$37,MATCH(X457,referentes!$Z$2:$Z$37,0),1))","v":""},"01",null,null,null,"",null,"",null,null,"",null,1,{"$f":"IF(E457<>\"\",CONCATENATE(B457,A457,DIGITADOR!$M$1,AH457),\"\")","v":""},"",null,null,null,null,null,null,null,null,null,null,null,null,null,null,null,null,null,null,"","",{"$f":"IF(BE457=\"\",\"\",INDEX(referentes!$D$2:$E$37,MATCH(BE457,referentes!$D$2:$D$37,0),2))","v":""},null,{"$f":"IF(BI457=\"\",\"\",INDEX(referentes!$J$2:$L$363,MATCH(BI457,referentes!$J$2:$J$363,0),2))","v":""},"",453]
["30000104",{"$f":"DIGITADOR!$B$2","v":""},3,{"$f":"IF(E458<>\"\",CONCATENATE($A$2,DIGITADOR!$M$1,O458,AH458),\"\")","v":""},null,null,"00:00:00",1,null,null,{"$f":"IF(J458<>\"\",VLOOKUP(J458,#REF!,1,FALSE),\"\")","v":""},null,"",{"$f":"IF(M458=\"\",\"\",INDEX('Otras referencias'!$L$2:$N$200,MATCH(M458,'Otras referencias'!$L$2:$L$200,0),3))","v":""},{"$f":"IF(M458=\"\",\"\",INDEX(referentes!$S$2:$S$170,MATCH(N458,referentes!$W$2:$W$170,0),1))","v":""},null,null,null,null,null,null,null,null,null,{"$f":"IF(X458=\"\",\"\",INDEX(referentes!$Y$2:$Z$37,MATCH(X458,referentes!$Z$2:$Z$37,0),1))","v":""},"01",null,null,null,"",null,"",null,null,"",null,1,{"$f":"IF(E458<>\"\",CONCATENATE(B458,A458,DIGITADOR!$M$1,AH458),\"\")","v":""},"",null,null,null,null,null,null,null,null,null,null,null,null,null,null,null,null,null,null,"","",{"$f":"IF(BE458=\"\",\"\",INDEX(referentes!$D$2:$E$37,MATCH(BE458,referentes!$D$2:$D$37,0),2))","v":""},null,{"$f":"IF(BI458=\"\",\"\",INDEX(referentes!$J$2:$L$363,MATCH(BI458,referentes!$J$2:$J$363,0),2))","v":""},"",454]
["30000104",{"$f":"DIGITADOR!$B$2","v":""},3,{"$f":"IF(E459<>\"\",CONCATENATE($A$2,DIGITADOR!$M$1,O459,AH459),\"\")","v":""},null,null,"00:00:00",1,null,null,{"$f":"IF(J459<>\"\",VLOOKUP(J459,#REF!,1,FALSE),\"\")","v":""},null,"",{"$f":"IF(M459=\"\",\"\",INDEX('Otras referencias'!$L$2:$N$200,MATCH(M459,'Otras referencias'!$L$2:$L$200,0),3))","v":""},{"$f":"IF(M459=\"\",\"\",INDEX(referentes!$S$2:$S$170,MATCH(N459,referentes!$W$2:$W$170,0),1))","v":""},null,null,null,null,null,null,null,null,null,{"$f":"IF(X459=\"\",\"\",INDEX(referentes!$Y$2:$Z$37,MATCH(X459,referentes!$Z$2:$Z$37,0),1))","v":""},"01",null,null,null,"",null,"",null,null,"",null,1,{"$f":"IF(E459<>\"\",CONCATENATE(B459,A459,DIGITADOR!$M$1,AH459),\"\")","v":""},"",null,null,null,null,null,null,null,null,null,null,null,null,null,null,null,null,null,null,"","",{"$f":"IF(BE459=\"\",\"\",INDEX(referentes!$D$2:$E$37,MATCH(BE459,referentes!$D$2:$D$37,0),2))","v":""},null,{"$f":"IF(BI459=\"\",\"\",INDEX(referentes!$J$2:$L$363,MATCH(BI459,referentes!$J$2:$J$363,0),2))","v":""},"",455]
["30000104",{"$f":"DIGITADOR!$B$2","v":""},3,{"$f":"IF(E460<>\"\",CONCATENATE($A$2,DIGITADOR!$M$1,O460,AH460),\"\")","v":""},null,null,"00:00:00",1,null,null,{"$f":"IF(J460<>\"\",VLOOKUP(J460,#REF!,1,FALSE),\"\")","v":""},null,"",{"$f":"IF(M460=\"\",\"\",INDEX('Otras referencias'!$L$2:$N$200,MATCH(M460,'Otras referencias'!$L$2:$L$200,0),3))","v":""},{"$f":"IF(M460=\"\",\"\",INDEX(referentes!$S$2:$S$170,MATCH(N460,referentes!$W$2:$W$170,0),1))","v":""},null,null,null,null,null,null,null,null,null,{"$f":"IF(X460=\"\",\"\",INDEX(referentes!$Y$2:$Z$37,MATCH(X460,referentes!$Z$2:$Z$37,0),1))","v":""},"01",null,null,null,"",null,"",null,null,"",null,1,{"$f":"IF(E460<>\"\",CONCATENATE(B460,A460,DIGITADOR!$M$1,AH460),\"\")","v":""},"",null,null,null,null,null,null,null,null,null,null,null,null,null,null,null,null,null,null,"","",{"$f":"IF(BE460=\"\",\"\",INDEX(referentes!$D$2:$E$37,MATCH(BE460,referentes!$D$2:$D$37,0),2))","v":""},null,{"$f":"IF(BI460=\"\",\"\",INDEX(referentes!$J$2:$L$363,MATCH(BI460,referentes!$J$2:$J$363,0),2))","v":""},"",456]
["30000104",{"$f":"DIGITADOR!$B$2","v":""},3,{"$f":"IF(E461<>\"\",CONCATENATE($A$2,DIGITADOR!$M$1,O461,AH461),\"\")","v":""},null,null,"00:00:00",1,null,null,{"$f":"IF(J461<>\"\",VLOOKUP(J461,#REF!,1,FALSE),\"\")","v":""},null,"",{"$f":"IF(M461=\"\",\"\",INDEX('Otras referencias'!$L$2:$N$200,MATCH(M461,'Otras referencias'!$L$2:$L$200,0),3))","v":""},{"$f":"IF(M461=\"\",\"\",INDEX(referentes!$S$2:$S$170,MATCH(N461,referentes!$W$2:$W$170,0),1))","v":""},null,null,null,null,null,null,null,null,null,{"$f":"IF(X461=\"\",\"\",INDEX(referentes!$Y$2:$Z$37,MATCH(X461,referentes!$Z$2:$Z$37,0),1))","v":""},"01",null,null,null,"",null,"",null,null,"",null,1,{"$f":"IF(E461<>\"\",CONCATENATE(B461,A461,DIGITADOR!$M$1,AH461),\"\")","v":""},"",null,null,null,null,null,null,null,null,null,null,null,null,null,null,null,null,null,null,"","",{"$f":"IF(BE461=\"\",\"\",INDEX(referentes!$D$2:$E$37,MATCH(BE461,referentes!$D$2:$D$37,0),2))","v":""},null,{"$f":"IF(BI461=\"\",\"\",INDEX(referentes!$J$2:$L$363,MATCH(BI461,referentes!$J$2:$J$363,0),2))","v":""},"",457]
["30000104",{"$f":"DIGITADOR!$B$2","v":""},3,{"$f":"IF(E462<>\"\",CONCATENATE($A$2,DIGITADOR!$M$1,O462,AH462),\"\")","v":""},null,null,"00:00:00",1,null,null,{"$f":"IF(J462<>\"\",VLOOKUP(J462,#REF!,1,FALSE),\"\")","v":""},null,"",{"$f":"IF(M462=\"\",\"\",INDEX('Otras referencias'!$L$2:$N$200,MATCH(M462,'Otras referencias'!$L$2:$L$200,0),3))","v":""},{"$f":"IF(M462=\"\",\"\",INDEX(referentes!$S$2:$S$170,MATCH(N462,referentes!$W$2:$W$170,0),1))","v":""},null,null,null,null,null,null,null,null,null,{"$f":"IF(X462=\"\",\"\",INDEX(referentes!$Y$2:$Z$37,MATCH(X462,referentes!$Z$2:$Z$37,0),1))","v":""},"01",null,null,null,"",null,"",null,null,"",null,1,{"$f":"IF(E462<>\"\",CONCATENATE(B462,A462,DIGITADOR!$M$1,AH462),\"\")","v":""},"",null,null,null,null,null,null,null,null,null,null,null,null,null,null,null,null,null,null,"","",{"$f":"IF(BE462=\"\",\"\",INDEX(referentes!$D$2:$E$37,MATCH(BE462,referentes!$D$2:$D$37,0),2))","v":""},null,{"$f":"IF(BI462=\"\",\"\",INDEX(referentes!$J$2:$L$363,MATCH(BI462,referentes!$J$2:$J$363,0),2))","v":""},"",458]
["30000104",{"$f":"DIGITADOR!$B$2","v":""},3,{"$f":"IF(E463<>\"\",CONCATENATE($A$2,DIGITADOR!$M$1,O463,AH463),\"\")","v":""},null,null,"00:00:00",1,null,null,{"$f":"IF(J463<>\"\",VLOOKUP(J463,#REF!,1,FALSE),\"\")","v":""},null,"",{"$f":"IF(M463=\"\",\"\",INDEX('Otras referencias'!$L$2:$N$200,MATCH(M463,'Otras referencias'!$L$2:$L$200,0),3))","v":""},{"$f":"IF(M463=\"\",\"\",INDEX(referentes!$S$2:$S$170,MATCH(N463,referentes!$W$2:$W$170,0),1))","v":""},null,null,null,null,null,null,null,null,null,{"$f":"IF(X463=\"\",\"\",INDEX(referentes!$Y$2:$Z$37,MATCH(X463,referentes!$Z$2:$Z$37,0),1))","v":""},"01",null,null,null,"",null,"",null,null,"",null,1,{"$f":"IF(E463<>\"\",CONCATENATE(B463,A463,DIGITADOR!$M$1,AH463),\"\")","v":""},"",null,null,null,null,null,null,null,null,null,null,null,null,null,null,null,null,null,null,"","",{"$f":"IF(BE463=\"\",\"\",INDEX(referentes!$D$2:$E$37,MATCH(BE463,referentes!$D$2:$D$37,0),2))","v":""},null,{"$f":"IF(BI463=\"\",\"\",INDEX(referentes!$J$2:$L$363,MATCH(BI463,referentes!$J$2:$J$363,0),2))","v":""},"",459]
["30000104",{"$f":"DIGITADOR!$B$2","v":""},3,{"$f":"IF(E464<>\"\",CONCATENATE($A$2,DIGITADOR!$M$1,O464,AH464),\"\")","v":""},null,null,"00:00:00",1,null,null,{"$f":"IF(J464<>\"\",VLOOKUP(J464,#REF!,1,FALSE),\"\")","v":""},null,"",{"$f":"IF(M464=\"\",\"\",INDEX('Otras referencias'!$L$2:$N$200,MATCH(M464,'Otras referencias'!$L$2:$L$200,0),3))","v":""},{"$f":"IF(M464=\"\",\"\",INDEX(referentes!$S$2:$S$170,MATCH(N464,referentes!$W$2:$W$170,0),1))","v":""},null,null,null,null,null,null,null,null,null,{"$f":"IF(X464=\"\",\"\",INDEX(referentes!$Y$2:$Z$37,MATCH(X464,referentes!$Z$2:$Z$37,0),1))","v":""},"01",null,null,null,"",null,"",null,null,"",null,1,{"$f":"IF(E464<>\"\",CONCATENATE(B464,A464,DIGITADOR!$M$1,AH464),\"\")","v":""},"",null,null,null,null,null,null,null,null,null,null,null,null,null,null,null,null,null,null,"","",{"$f":"IF(BE464=\"\",\"\",INDEX(referentes!$D$2:$E$37,MATCH(BE464,referentes!$D$2:$D$37,0),2))","v":""},null,{"$f":"IF(BI464=\"\",\"\",INDEX(referentes!$J$2:$L$363,MATCH(BI464,referentes!$J$2:$J$363,0),2))","v":""},"",460]
["30000104",{"$f":"DIGITADOR!$B$2","v":""},3,{"$f":"IF(E465<>\"\",CONCATENATE($A$2,DIGITADOR!$M$1,O465,AH465),\"\")","v":""},null,null,"00:00:00",1,null,null,{"$f":"IF(J465<>\"\",VLOOKUP(J465,#REF!,1,FALSE),\"\")","v":""},null,"",{"$f":"IF(M465=\"\",\"\",INDEX('Otras referencias'!$L$2:$N$200,MATCH(M465,'Otras referencias'!$L$2:$L$200,0),3))","v":""},{"$f":"IF(M465=\"\",\"\",INDEX(referentes!$S$2:$S$170,MATCH(N465,referentes!$W$2:$W$170,0),1))","v":""},null,null,null,null,null,null,null,null,null,{"$f":"IF(X465=\"\",\"\",INDEX(referentes!$Y$2:$Z$37,MATCH(X465,referentes!$Z$2:$Z$37,0),1))","v":""},"01",null,null,null,"",null,"",null,null,"",null,1,{"$f":"IF(E465<>\"\",CONCATENATE(B465,A465,DIGITADOR!$M$1,AH465),\"\")","v":""},"",null,null,null,null,null,null,null,null,null,null,null,null,null,null,null,null,null,null,"","",{"$f":"IF(BE465=\"\",\"\",INDEX(referentes!$D$2:$E$37,MATCH(BE465,referentes!$D$2:$D$37,0),2))","v":""},null,{"$f":"IF(BI465=\"\",\"\",INDEX(referentes!$J$2:$L$363,MATCH(BI465,referentes!$J$2:$J$363,0),2))","v":""},"",461]
["30000104",{"$f":"DIGITADOR!$B$2","v":""},3,{"$f":"IF(E466<>\"\",CONCATENATE($A$2,DIGITADOR!$M$1,O466,AH466),\"\")","v":""},null,null,"00:00:00",1,null,null,{"$f":"IF(J466<>\"\",VLOOKUP(J466,#REF!,1,FALSE),\"\")","v":""},null,"",{"$f":"IF(M466=\"\",\"\",INDEX('Otras referencias'!$L$2:$N$200,MATCH(M466,'Otras referencias'!$L$2:$L$200,0),3))","v":""},{"$f":"IF(M466=\"\",\"\",INDEX(referentes!$S$2:$S$170,MATCH(N466,referentes!$W$2:$W$170,0),1))","v":""},null,null,null,null,null,null,null,null,null,{"$f":"IF(X466=\"\",\"\",INDEX(referentes!$Y$2:$Z$37,MATCH(X466,referentes!$Z$2:$Z$37,0),1))","v":""},"01",null,null,null,"",null,"",null,null,"",null,1,{"$f":"IF(E466<>\"\",CONCATENATE(B466,A466,DIGITADOR!$M$1,AH466),\"\")","v":""},"",null,null,null,null,null,null,null,null,null,null,null,null,null,null,null,null,null,null,"","",{"$f":"IF(BE466=\"\",\"\",INDEX(referentes!$D$2:$E$37,MATCH(BE466,referentes!$D$2:$D$37,0),2))","v":""},null,{"$f":"IF(BI466=\"\",\"\",INDEX(referentes!$J$2:$L$363,MATCH(BI466,referentes!$J$2:$J$363,0),2))","v":""},"",462]
["30000104",{"$f":"DIGITADOR!$B$2","v":""},3,{"$f":"IF(E467<>\"\",CONCATENATE($A$2,DIGITADOR!$M$1,O467,AH467),\"\")","v":""},null,null,"00:00:00",1,null,null,{"$f":"IF(J467<>\"\",VLOOKUP(J467,#REF!,1,FALSE),\"\")","v":""},null,"",{"$f":"IF(M467=\"\",\"\",INDEX('Otras referencias'!$L$2:$N$200,MATCH(M467,'Otras referencias'!$L$2:$L$200,0),3))","v":""},{"$f":"IF(M467=\"\",\"\",INDEX(referentes!$S$2:$S$170,MATCH(N467,referentes!$W$2:$W$170,0),1))","v":""},null,null,null,null,null,null,null,null,null,{"$f":"IF(X467=\"\",\"\",INDEX(referentes!$Y$2:$Z$37,MATCH(X467,referentes!$Z$2:$Z$37,0),1))","v":""},"01",null,null,null,"",null,"",null,null,"",null,1,{"$f":"IF(E467<>\"\",CONCATENATE(B467,A467,DIGITADOR!$M$1,AH467),\"\")","v":""},"",null,null,null,null,null,null,null,null,null,null,null,null,null,null,null,null,null,null,"","",{"$f":"IF(BE467=\"\",\"\",INDEX(referentes!$D$2:$E$37,MATCH(BE467,referentes!$D$2:$D$37,0),2))","v":""},null,{"$f":"IF(BI467=\"\",\"\",INDEX(referentes!$J$2:$L$363,MATCH(BI467,referentes!$J$2:$J$363,0),2))","v":""},"",463]
["30000104",{"$f":"DIGITADOR!$B$2","v":""},3,{"$f":"IF(E468<>\"\",CONCATENATE($A$2,DIGITADOR!$M$1,O468,AH468),\"\")","v":""},null,null,"00:00:00",1,null,null,{"$f":"IF(J468<>\"\",VLOOKUP(J468,#REF!,1,FALSE),\"\")","v":""},null,"",{"$f":"IF(M468=\"\",\"\",INDEX('Otras referencias'!$L$2:$N$200,MATCH(M468,'Otras referencias'!$L$2:$L$200,0),3))","v":""},{"$f":"IF(M468=\"\",\"\",INDEX(referentes!$S$2:$S$170,MATCH(N468,referentes!$W$2:$W$170,0),1))","v":""},null,null,null,null,null,null,null,null,null,{"$f":"IF(X468=\"\",\"\",INDEX(referentes!$Y$2:$Z$37,MATCH(X468,referentes!$Z$2:$Z$37,0),1))","v":""},"01",null,null,null,"",null,"",null,null,"",null,1,{"$f":"IF(E468<>\"\",CONCATENATE(B468,A468,DIGITADOR!$M$1,AH468),\"\")","v":""},"",null,null,null,null,null,null,null,null,null,null,null,null,null,null,null,null,null,null,"","",{"$f":"IF(BE468=\"\",\"\",INDEX(referentes!$D$2:$E$37,MATCH(BE468,referentes!$D$2:$D$37,0),2))","v":""},null,{"$f":"IF(BI468=\"\",\"\",INDEX(referentes!$J$2:$L$363,MATCH(BI468,referentes!$J$2:$J$363,0),2))","v":""},"",464]
["30000104",{"$f":"DIGITADOR!$B$2","v":""},3,{"$f":"IF(E469<>\"\",CONCATENATE($A$2,DIGITADOR!$M$1,O469,AH469),\"\")","v":""},null,null,"00:00:00",1,null,null,{"$f":"IF(J469<>\"\",VLOOKUP(J469,#REF!,1,FALSE),\"\")","v":""},null,"",{"$f":"IF(M469=\"\",\"\",INDEX('Otras referencias'!$L$2:$N$200,MATCH(M469,'Otras referencias'!$L$2:$L$200,0),3))","v":""},{"$f":"IF(M469=\"\",\"\",INDEX(referentes!$S$2:$S$170,MATCH(N469,referentes!$W$2:$W$170,0),1))","v":""},null,null,null,null,null,null,null,null,null,{"$f":"IF(X469=\"\",\"\",INDEX(referentes!$Y$2:$Z$37,MATCH(X469,referentes!$Z$2:$Z$37,0),1))","v":""},"01",null,null,null,"",null,"",null,null,"",null,1,{"$f":"IF(E469<>\"\",CONCATENATE(B469,A469,DIGITADOR!$M$1,AH469),\"\")","v":""},"",null,null,null,null,null,null,null,null,null,null,null,null,null,null,null,null,null,null,"","",{"$f":"IF(BE469=\"\",\"\",INDEX(referentes!$D$2:$E$37,MATCH(BE469,referentes!$D$2:$D$37,0),2))","v":""},null,{"$f":"IF(BI469=\"\",\"\",INDEX(referentes!$J$2:$L$363,MATCH(BI469,referentes!$J$2:$J$363,0),2))","v":""},"",465]
["30000104",{"$f":"DIGITADOR!$B$2","v":""},3,{"$f":"IF(E470<>\"\",CONCATENATE($A$2,DIGITADOR!$M$1,O470,AH470),\"\")","v":""},null,null,"00:00:00",1,null,null,{"$f":"IF(J470<>\"\",VLOOKUP(J470,#REF!,1,FALSE),\"\")","v":""},null,"",{"$f":"IF(M470=\"\",\"\",INDEX('Otras referencias'!$L$2:$N$200,MATCH(M470,'Otras referencias'!$L$2:$L$200,0),3))","v":""},{"$f":"IF(M470=\"\",\"\",INDEX(referentes!$S$2:$S$170,MATCH(N470,referentes!$W$2:$W$170,0),1))","v":""},null,null,null,null,null,null,null,null,null,{"$f":"IF(X470=\"\",\"\",INDEX(referentes!$Y$2:$Z$37,MATCH(X470,referentes!$Z$2:$Z$37,0),1))","v":""},"01",null,null,null,"",null,"",null,null,"",null,1,{"$f":"IF(E470<>\"\",CONCATENATE(B470,A470,DIGITADOR!$M$1,AH470),\"\")","v":""},"",null,null,null,null,null,null,null,null,null,null,null,null,null,null,null,null,null,null,"","",{"$f":"IF(BE470=\"\",\"\",INDEX(referentes!$D$2:$E$37,MATCH(BE470,referentes!$D$2:$D$37,0),2))","v":""},null,{"$f":"IF(BI470=\"\",\"\",INDEX(referentes!$J$2:$L$363,MATCH(BI470,referentes!$J$2:$J$363,0),2))","v":""},"",466]
["30000104",{"$f":"DIGITADOR!$B$2","v":""},3,{"$f":"IF(E471<>\"\",CONCATENATE($A$2,DIGITADOR!$M$1,O471,AH471),\"\")","v":""},null,null,"00:00:00",1,null,null,{"$f":"IF(J471<>\"\",VLOOKUP(J471,#REF!,1,FALSE),\"\")","v":""},null,"",{"$f":"IF(M471=\"\",\"\",INDEX('Otras referencias'!$L$2:$N$200,MATCH(M471,'Otras referencias'!$L$2:$L$200,0),3))","v":""},{"$f":"IF(M471=\"\",\"\",INDEX(referentes!$S$2:$S$170,MATCH(N471,referentes!$W$2:$W$170,0),1))","v":""},null,null,null,null,null,null,null,null,null,{"$f":"IF(X471=\"\",\"\",INDEX(referentes!$Y$2:$Z$37,MATCH(X471,referentes!$Z$2:$Z$37,0),1))","v":""},"01",null,null,null,"",null,"",null,null,"",null,1,{"$f":"IF(E471<>\"\",CONCATENATE(B471,A471,DIGITADOR!$M$1,AH471),\"\")","v":""},"",null,null,null,null,null,null,null,null,null,null,null,null,null,null,null,null,null,null,"","",{"$f":"IF(BE471=\"\",\"\",INDEX(referentes!$D$2:$E$37,MATCH(BE471,referentes!$D$2:$D$37,0),2))","v":""},null,{"$f":"IF(BI471=\"\",\"\",INDEX(referentes!$J$2:$L$363,MATCH(BI471,referentes!$J$2:$J$363,0),2))","v":""},"",467]
["30000104",{"$f":"DIGITADOR!$B$2","v":""},3,{"$f":"IF(E472<>\"\",CONCATENATE($A$2,DIGITADOR!$M$1,O472,AH472),\"\")","v":""},null,null,"00:00:00",1,null,null,{"$f":"IF(J472<>\"\",VLOOKUP(J472,#REF!,1,FALSE),\"\")","v":""},null,"",{"$f":"IF(M472=\"\",\"\",INDEX('Otras referencias'!$L$2:$N$200,MATCH(M472,'Otras referencias'!$L$2:$L$200,0),3))","v":""},{"$f":"IF(M472=\"\",\"\",INDEX(referentes!$S$2:$S$170,MATCH(N472,referentes!$W$2:$W$170,0),1))","v":""},null,null,null,null,null,null,null,null,null,{"$f":"IF(X472=\"\",\"\",INDEX(referentes!$Y$2:$Z$37,MATCH(X472,referentes!$Z$2:$Z$37,0),1))","v":""},"01",null,null,null,"",null,"",null,null,"",null,1,{"$f":"IF(E472<>\"\",CONCATENATE(B472,A472,DIGITADOR!$M$1,AH472),\"\")","v":""},"",null,null,null,null,null,null,null,null,null,null,null,null,null,null,null,null,null,null,"","",{"$f":"IF(BE472=\"\",\"\",INDEX(referentes!$D$2:$E$37,MATCH(BE472,referentes!$D$2:$D$37,0),2))","v":""},null,{"$f":"IF(BI472=\"\",\"\",INDEX(referentes!$J$2:$L$363,MATCH(BI472,referentes!$J$2:$J$363,0),2))","v":""},"",468]
["30000104",{"$f":"DIGITADOR!$B$2","v":""},3,{"$f":"IF(E473<>\"\",CONCATENATE($A$2,DIGITADOR!$M$1,O473,AH473),\"\")","v":""},null,null,"00:00:00",1,null,null,{"$f":"IF(J473<>\"\",VLOOKUP(J473,#REF!,1,FALSE),\"\")","v":""},null,"",{"$f":"IF(M473=\"\",\"\",INDEX('Otras referencias'!$L$2:$N$200,MATCH(M473,'Otras referencias'!$L$2:$L$200,0),3))","v":""},{"$f":"IF(M473=\"\",\"\",INDEX(referentes!$S$2:$S$170,MATCH(N473,referentes!$W$2:$W$170,0),1))","v":""},null,null,null,null,null,null,null,null,null,{"$f":"IF(X473=\"\",\"\",INDEX(referentes!$Y$2:$Z$37,MATCH(X473,referentes!$Z$2:$Z$37,0),1))","v":""},"01",null,null,null,"",null,"",null,null,"",null,1,{"$f":"IF(E473<>\"\",CONCATENATE(B473,A473,DIGITADOR!$M$1,AH473),\"\")","v":""},"",null,null,null,null,null,null,null,null,null,null,null,null,null,null,null,null,null,null,"","",{"$f":"IF(BE473=\"\",\"\",INDEX(referentes!$D$2:$E$37,MATCH(BE473,referentes!$D$2:$D$37,0),2))","v":""},null,{"$f":"IF(BI473=\"\",\"\",INDEX(referentes!$J$2:$L$363,MATCH(BI473,referentes!$J$2:$J$363,0),2))","v":""},"",469]
["30000104",{"$f":"DIGITADOR!$B$2","v":""},3,{"$f":"IF(E474<>\"\",CONCATENATE($A$2,DIGITADOR!$M$1,O474,AH474),\"\")","v":""},null,null,"00:00:00",1,null,null,{"$f":"IF(J474<>\"\",VLOOKUP(J474,#REF!,1,FALSE),\"\")","v":""},null,"",{"$f":"IF(M474=\"\",\"\",INDEX('Otras referencias'!$L$2:$N$200,MATCH(M474,'Otras referencias'!$L$2:$L$200,0),3))","v":""},{"$f":"IF(M474=\"\",\"\",INDEX(referentes!$S$2:$S$170,MATCH(N474,referentes!$W$2:$W$170,0),1))","v":""},null,null,null,null,null,null,null,null,null,{"$f":"IF(X474=\"\",\"\",INDEX(referentes!$Y$2:$Z$37,MATCH(X474,referentes!$Z$2:$Z$37,0),1))","v":""},"01",null,null,null,"",null,"",null,null,"",null,1,{"$f":"IF(E474<>\"\",CONCATENATE(B474,A474,DIGITADOR!$M$1,AH474),\"\")","v":""},"",null,null,null,null,null,null,null,null,null,null,null,null,null,null,null,null,null,null,"","",{"$f":"IF(BE474=\"\",\"\",INDEX(referentes!$D$2:$E$37,MATCH(BE474,referentes!$D$2:$D$37,0),2))","v":""},null,{"$f":"IF(BI474=\"\",\"\",INDEX(referentes!$J$2:$L$363,MATCH(BI474,referentes!$J$2:$J$363,0),2))","v":""},"",470]
["30000104",{"$f":"DIGITADOR!$B$2","v":""},3,{"$f":"IF(E475<>\"\",CONCATENATE($A$2,DIGITADOR!$M$1,O475,AH475),\"\")","v":""},null,null,"00:00:00",1,null,null,{"$f":"IF(J475<>\"\",VLOOKUP(J475,#REF!,1,FALSE),\"\")","v":""},null,"",{"$f":"IF(M475=\"\",\"\",INDEX('Otras referencias'!$L$2:$N$200,MATCH(M475,'Otras referencias'!$L$2:$L$200,0),3))","v":""},{"$f":"IF(M475=\"\",\"\",INDEX(referentes!$S$2:$S$170,MATCH(N475,referentes!$W$2:$W$170,0),1))","v":""},null,null,null,null,null,null,null,null,null,{"$f":"IF(X475=\"\",\"\",INDEX(referentes!$Y$2:$Z$37,MATCH(X475,referentes!$Z$2:$Z$37,0),1))","v":""},"01",null,null,null,"",null,"",null,null,"",null,1,{"$f":"IF(E475<>\"\",CONCATENATE(B475,A475,DIGITADOR!$M$1,AH475),\"\")","v":""},"",null,null,null,null,null,null,null,null,null,null,null,null,null,null,null,null,null,null,"","",{"$f":"IF(BE475=\"\",\"\",INDEX(referentes!$D$2:$E$37,MATCH(BE475,referentes!$D$2:$D$37,0),2))","v":""},null,{"$f":"IF(BI475=\"\",\"\",INDEX(referentes!$J$2:$L$363,MATCH(BI475,referentes!$J$2:$J$363,0),2))","v":""},"",471]
["30000104",{"$f":"DIGITADOR!$B$2","v":""},3,{"$f":"IF(E476<>\"\",CONCATENATE($A$2,DIGITADOR!$M$1,O476,AH476),\"\")","v":""},null,null,"00:00:00",1,null,null,{"$f":"IF(J476<>\"\",VLOOKUP(J476,#REF!,1,FALSE),\"\")","v":""},null,"",{"$f":"IF(M476=\"\",\"\",INDEX('Otras referencias'!$L$2:$N$200,MATCH(M476,'Otras referencias'!$L$2:$L$200,0),3))","v":""},{"$f":"IF(M476=\"\",\"\",INDEX(referentes!$S$2:$S$170,MATCH(N476,referentes!$W$2:$W$170,0),1))","v":""},null,null,null,null,null,null,null,null,null,{"$f":"IF(X476=\"\",\"\",INDEX(referentes!$Y$2:$Z$37,MATCH(X476,referentes!$Z$2:$Z$37,0),1))","v":""},"01",null,null,null,"",null,"",null,null,"",null,1,{"$f":"IF(E476<>\"\",CONCATENATE(B476,A476,DIGITADOR!$M$1,AH476),\"\")","v":""},"",null,null,null,null,null,null,null,null,null,null,null,null,null,null,null,null,null,null,"","",{"$f":"IF(BE476=\"\",\"\",INDEX(referentes!$D$2:$E$37,MATCH(BE476,referentes!$D$2:$D$37,0),2))","v":""},null,{"$f":"IF(BI476=\"\",\"\",INDEX(referentes!$J$2:$L$363,MATCH(BI476,referentes!$J$2:$J$363,0),2))","v":""},"",472]
["30000104",{"$f":"DIGITADOR!$B$2","v":""},3,{"$f":"IF(E477<>\"\",CONCATENATE($A$2,DIGITADOR!$M$1,O477,AH477),\"\")","v":""},null,null,"00:00:00",1,null,null,{"$f":"IF(J477<>\"\",VLOOKUP(J477,#REF!,1,FALSE),\"\")","v":""},null,"",{"$f":"IF(M477=\"\",\"\",INDEX('Otras referencias'!$L$2:$N$200,MATCH(M477,'Otras referencias'!$L$2:$L$200,0),3))","v":""},{"$f":"IF(M477=\"\",\"\",INDEX(referentes!$S$2:$S$170,MATCH(N477,referentes!$W$2:$W$170,0),1))","v":""},null,null,null,null,null,null,null,null,null,{"$f":"IF(X477=\"\",\"\",INDEX(referentes!$Y$2:$Z$37,MATCH(X477,referentes!$Z$2:$Z$37,0),1))","v":""},"01",null,null,null,"",null,"",null,null,"",null,1,{"$f":"IF(E477<>\"\",CONCATENATE(B477,A477,DIGITADOR!$M$1,AH477),\"\")","v":""},"",null,null,null,null,null,null,null,null,null,null,null,null,null,null,null,null,null,null,"","",{"$f":"IF(BE477=\"\",\"\",INDEX(referentes!$D$2:$E$37,MATCH(BE477,referentes!$D$2:$D$37,0),2))","v":""},null,{"$f":"IF(BI477=\"\",\"\",INDEX(referentes!$J$2:$L$363,MATCH(BI477,referentes!$J$2:$J$363,0),2))","v":""},"",473]
["30000104",{"$f":"DIGITADOR!$B$2","v":""},3,{"$f":"IF(E478<>\"\",CONCATENATE($A$2,DIGITADOR!$M$1,O478,AH478),\"\")","v":""},null,null,"00:00:00",1,null,null,{"$f":"IF(J478<>\"\",VLOOKUP(J478,#REF!,1,FALSE),\"\")","v":""},null,"",{"$f":"IF(M478=\"\",\"\",INDEX('Otras referencias'!$L$2:$N$200,MATCH(M478,'Otras referencias'!$L$2:$L$200,0),3))","v":""},{"$f":"IF(M478=\"\",\"\",INDEX(referentes!$S$2:$S$170,MATCH(N478,referentes!$W$2:$W$170,0),1))","v":""},null,null,null,null,null,null,null,null,null,{"$f":"IF(X478=\"\",\"\",INDEX(referentes!$Y$2:$Z$37,MATCH(X478,referentes!$Z$2:$Z$37,0),1))","v":""},"01",null,null,null,"",null,"",null,null,"",null,1,{"$f":"IF(E478<>\"\",CONCATENATE(B478,A478,DIGITADOR!$M$1,AH478),\"\")","v":""},"",null,null,null,null,null,null,null,null,null,null,null,null,null,null,null,null,null,null,"","",{"$f":"IF(BE478=\"\",\"\",INDEX(referentes!$D$2:$E$37,MATCH(BE478,referentes!$D$2:$D$37,0),2))","v":""},null,{"$f":"IF(BI478=\"\",\"\",INDEX(referentes!$J$2:$L$363,MATCH(BI478,referentes!$J$2:$J$363,0),2))","v":""},"",474]
["30000104",{"$f":"DIGITADOR!$B$2","v":""},3,{"$f":"IF(E479<>\"\",CONCATENATE($A$2,DIGITADOR!$M$1,O479,AH479),\"\")","v":""},null,null,"00:00:00",1,null,null,{"$f":"IF(J479<>\"\",VLOOKUP(J479,#REF!,1,FALSE),\"\")","v":""},null,"",{"$f":"IF(M479=\"\",\"\",INDEX('Otras referencias'!$L$2:$N$200,MATCH(M479,'Otras referencias'!$L$2:$L$200,0),3))","v":""},{"$f":"IF(M479=\"\",\"\",INDEX(referentes!$S$2:$S$170,MATCH(N479,referentes!$W$2:$W$170,0),1))","v":""},null,null,null,null,null,null,null,null,null,{"$f":"IF(X479=\"\",\"\",INDEX(referentes!$Y$2:$Z$37,MATCH(X479,referentes!$Z$2:$Z$37,0),1))","v":""},"01",null,null,null,"",null,"",null,null,"",null,1,{"$f":"IF(E479<>\"\",CONCATENATE(B479,A479,DIGITADOR!$M$1,AH479),\"\")","v":""},"",null,null,null,null,null,null,null,null,null,null,null,null,null,null,null,null,null,null,"","",{"$f":"IF(BE479=\"\",\"\",INDEX(referentes!$D$2:$E$37,MATCH(BE479,referentes!$D$2:$D$37,0),2))","v":""},null,{"$f":"IF(BI479=\"\",\"\",INDEX(referentes!$J$2:$L$363,MATCH(BI479,referentes!$J$2:$J$363,0),2))","v":""},"",475]
["30000104",{"$f":"DIGITADOR!$B$2","v":""},3,{"$f":"IF(E480<>\"\",CONCATENATE($A$2,DIGITADOR!$M$1,O480,AH480),\"\")","v":""},null,null,"00:00:00",1,null,null,{"$f":"IF(J480<>\"\",VLOOKUP(J480,#REF!,1,FALSE),\"\")","v":""},null,"",{"$f":"IF(M480=\"\",\"\",INDEX('Otras referencias'!$L$2:$N$200,MATCH(M480,'Otras referencias'!$L$2:$L$200,0),3))","v":""},{"$f":"IF(M480=\"\",\"\",INDEX(referentes!$S$2:$S$170,MATCH(N480,referentes!$W$2:$W$170,0),1))","v":""},null,null,null,null,null,null,null,null,null,{"$f":"IF(X480=\"\",\"\",INDEX(referentes!$Y$2:$Z$37,MATCH(X480,referentes!$Z$2:$Z$37,0),1))","v":""},"01",null,null,null,"",null,"",null,null,"",null,1,{"$f":"IF(E480<>\"\",CONCATENATE(B480,A480,DIGITADOR!$M$1,AH480),\"\")","v":""},"",null,null,null,null,null,null,null,null,null,null,null,null,null,null,null,null,null,null,"","",{"$f":"IF(BE480=\"\",\"\",INDEX(referentes!$D$2:$E$37,MATCH(BE480,referentes!$D$2:$D$37,0),2))","v":""},null,{"$f":"IF(BI480=\"\",\"\",INDEX(referentes!$J$2:$L$363,MATCH(BI480,referentes!$J$2:$J$363,0),2))","v":""},"",476]
["30000104",{"$f":"DIGITADOR!$B$2","v":""},3,{"$f":"IF(E481<>\"\",CONCATENATE($A$2,DIGITADOR!$M$1,O481,AH481),\"\")","v":""},null,null,"00:00:00",1,null,null,{"$f":"IF(J481<>\"\",VLOOKUP(J481,#REF!,1,FALSE),\"\")","v":""},null,"",{"$f":"IF(M481=\"\",\"\",INDEX('Otras referencias'!$L$2:$N$200,MATCH(M481,'Otras referencias'!$L$2:$L$200,0),3))","v":""},{"$f":"IF(M481=\"\",\"\",INDEX(referentes!$S$2:$S$170,MATCH(N481,referentes!$W$2:$W$170,0),1))","v":""},null,null,null,null,null,null,null,null,null,{"$f":"IF(X481=\"\",\"\",INDEX(referentes!$Y$2:$Z$37,MATCH(X481,referentes!$Z$2:$Z$37,0),1))","v":""},"01",null,null,null,"",null,"",null,null,"",null,1,{"$f":"IF(E481<>\"\",CONCATENATE(B481,A481,DIGITADOR!$M$1,AH481),\"\")","v":""},"",null,null,null,null,null,null,null,null,null,null,null,null,null,null,null,null,null,null,"","",{"$f":"IF(BE481=\"\",\"\",INDEX(referentes!$D$2:$E$37,MATCH(BE481,referentes!$D$2:$D$37,0),2))","v":""},null,{"$f":"IF(BI481=\"\",\"\",INDEX(referentes!$J$2:$L$363,MATCH(BI481,referentes!$J$2:$J$363,0),2))","v":""},"",477]
["30000104",{"$f":"DIGITADOR!$B$2","v":""},3,{"$f":"IF(E482<>\"\",CONCATENATE($A$2,DIGITADOR!$M$1,O482,AH482),\"\")","v":""},null,null,"00:00:00",1,null,null,{"$f":"IF(J482<>\"\",VLOOKUP(J482,#REF!,1,FALSE),\"\")","v":""},null,"",{"$f":"IF(M482=\"\",\"\",INDEX('Otras referencias'!$L$2:$N$200,MATCH(M482,'Otras referencias'!$L$2:$L$200,0),3))","v":""},{"$f":"IF(M482=\"\",\"\",INDEX(referentes!$S$2:$S$170,MATCH(N482,referentes!$W$2:$W$170,0),1))","v":""},null,null,null,null,null,null,null,null,null,{"$f":"IF(X482=\"\",\"\",INDEX(referentes!$Y$2:$Z$37,MATCH(X482,referentes!$Z$2:$Z$37,0),1))","v":""},"01",null,null,null,"",null,"",null,null,"",null,1,{"$f":"IF(E482<>\"\",CONCATENATE(B482,A482,DIGITADOR!$M$1,AH482),\"\")","v":""},"",null,null,null,null,null,null,null,null,null,null,null,null,null,null,null,null,null,null,"","",{"$f":"IF(BE482=\"\",\"\",INDEX(referentes!$D$2:$E$37,MATCH(BE482,referentes!$D$2:$D$37,0),2))","v":""},null,{"$f":"IF(BI482=\"\",\"\",INDEX(referentes!$J$2:$L$363,MATCH(BI482,referentes!$J$2:$J$363,0),2))","v":""},"",478]
["30000104",{"$f":"DIGITADOR!$B$2","v":""},3,{"$f":"IF(E483<>\"\",CONCATENATE($A$2,DIGITADOR!$M$1,O483,AH483),\"\")","v":""},null,null,"00:00:00",1,null,null,{"$f":"IF(J483<>\"\",VLOOKUP(J483,#REF!,1,FALSE),\"\")","v":""},null,"",{"$f":"IF(M483=\"\",\"\",INDEX('Otras referencias'!$L$2:$N$200,MATCH(M483,'Otras referencias'!$L$2:$L$200,0),3))","v":""},{"$f":"IF(M483=\"\",\"\",INDEX(referentes!$S$2:$S$170,MATCH(N483,referentes!$W$2:$W$170,0),1))","v":""},null,null,null,null,null,null,null,null,null,{"$f":"IF(X483=\"\",\"\",INDEX(referentes!$Y$2:$Z$37,MATCH(X483,referentes!$Z$2:$Z$37,0),1))","v":""},"01",null,null,null,"",null,"",null,null,"",null,1,{"$f":"IF(E483<>\"\",CONCATENATE(B483,A483,DIGITADOR!$M$1,AH483),\"\")","v":""},"",null,null,null,null,null,null,null,null,null,null,null,null,null,null,null,null,null,null,"","",{"$f":"IF(BE483=\"\",\"\",INDEX(referentes!$D$2:$E$37,MATCH(BE483,referentes!$D$2:$D$37,0),2))","v":""},null,{"$f":"IF(BI483=\"\",\"\",INDEX(referentes!$J$2:$L$363,MATCH(BI483,referentes!$J$2:$J$363,0),2))","v":""},"",479]
["30000104",{"$f":"DIGITADOR!$B$2","v":""},3,{"$f":"IF(E484<>\"\",CONCATENATE($A$2,DIGITADOR!$M$1,O484,AH484),\"\")","v":""},null,null,"00:00:00",1,null,null,{"$f":"IF(J484<>\"\",VLOOKUP(J484,#REF!,1,FALSE),\"\")","v":""},null,"",{"$f":"IF(M484=\"\",\"\",INDEX('Otras referencias'!$L$2:$N$200,MATCH(M484,'Otras referencias'!$L$2:$L$200,0),3))","v":""},{"$f":"IF(M484=\"\",\"\",INDEX(referentes!$S$2:$S$170,MATCH(N484,referentes!$W$2:$W$170,0),1))","v":""},null,null,null,null,null,null,null,null,null,{"$f":"IF(X484=\"\",\"\",INDEX(referentes!$Y$2:$Z$37,MATCH(X484,referentes!$Z$2:$Z$37,0),1))","v":""},"01",null,null,null,"",null,"",null,null,"",null,1,{"$f":"IF(E484<>\"\",CONCATENATE(B484,A484,DIGITADOR!$M$1,AH484),\"\")","v":""},"",null,null,null,null,null,null,null,null,null,null,null,null,null,null,null,null,null,null,"","",{"$f":"IF(BE484=\"\",\"\",INDEX(referentes!$D$2:$E$37,MATCH(BE484,referentes!$D$2:$D$37,0),2))","v":""},null,{"$f":"IF(BI484=\"\",\"\",INDEX(referentes!$J$2:$L$363,MATCH(BI484,referentes!$J$2:$J$363,0),2))","v":""},"",480]
["30000104",{"$f":"DIGITADOR!$B$2","v":""},3,{"$f":"IF(E485<>\"\",CONCATENATE($A$2,DIGITADOR!$M$1,O485,AH485),\"\")","v":""},null,null,"00:00:00",1,null,null,{"$f":"IF(J485<>\"\",VLOOKUP(J485,#REF!,1,FALSE),\"\")","v":""},null,"",{"$f":"IF(M485=\"\",\"\",INDEX('Otras referencias'!$L$2:$N$200,MATCH(M485,'Otras referencias'!$L$2:$L$200,0),3))","v":""},{"$f":"IF(M485=\"\",\"\",INDEX(referentes!$S$2:$S$170,MATCH(N485,referentes!$W$2:$W$170,0),1))","v":""},null,null,null,null,null,null,null,null,null,{"$f":"IF(X485=\"\",\"\",INDEX(referentes!$Y$2:$Z$37,MATCH(X485,referentes!$Z$2:$Z$37,0),1))","v":""},"01",null,null,null,"",null,"",null,null,"",null,1,{"$f":"IF(E485<>\"\",CONCATENATE(B485,A485,DIGITADOR!$M$1,AH485),\"\")","v":""},"",null,null,null,null,null,null,null,null,null,null,null,null,null,null,null,null,null,null,"","",{"$f":"IF(BE485=\"\",\"\",INDEX(referentes!$D$2:$E$37,MATCH(BE485,referentes!$D$2:$D$37,0),2))","v":""},null,{"$f":"IF(BI485=\"\",\"\",INDEX(referentes!$J$2:$L$363,MATCH(BI485,referentes!$J$2:$J$363,0),2))","v":""},"",481]
["30000104",{"$f":"DIGITADOR!$B$2","v":""},3,{"$f":"IF(E486<>\"\",CONCATENATE($A$2,DIGITADOR!$M$1,O486,AH486),\"\")","v":""},null,null,"00:00:00",1,null,null,{"$f":"IF(J486<>\"\",VLOOKUP(J486,#REF!,1,FALSE),\"\")","v":""},null,"",{"$f":"IF(M486=\"\",\"\",INDEX('Otras referencias'!$L$2:$N$200,MATCH(M486,'Otras referencias'!$L$2:$L$200,0),3))","v":""},{"$f":"IF(M486=\"\",\"\",INDEX(referentes!$S$2:$S$170,MATCH(N486,referentes!$W$2:$W$170,0),1))","v":""},null,null,null,null,null,null,null,null,null,{"$f":"IF(X486=\"\",\"\",INDEX(referentes!$Y$2:$Z$37,MATCH(X486,referentes!$Z$2:$Z$37,0),1))","v":""},"01",null,null,null,"",null,"",null,null,"",null,1,{"$f":"IF(E486<>\"\",CONCATENATE(B486,A486,DIGITADOR!$M$1,AH486),\"\")","v":""},"",null,null,null,null,null,null,null,null,null,null,null,null,null,null,null,null,null,null,"","",{"$f":"IF(BE486=\"\",\"\",INDEX(referentes!$D$2:$E$37,MATCH(BE486,referentes!$D$2:$D$37,0),2))","v":""},null,{"$f":"IF(BI486=\"\",\"\",INDEX(referentes!$J$2:$L$363,MATCH(BI486,referentes!$J$2:$J$363,0),2))","v":""},"",482]
["30000104",{"$f":"DIGITADOR!$B$2","v":""},3,{"$f":"IF(E487<>\"\",CONCATENATE($A$2,DIGITADOR!$M$1,O487,AH487),\"\")","v":""},null,null,"00:00:00",1,null,null,{"$f":"IF(J487<>\"\",VLOOKUP(J487,#REF!,1,FALSE),\"\")","v":""},null,"",{"$f":"IF(M487=\"\",\"\",INDEX('Otras referencias'!$L$2:$N$200,MATCH(M487,'Otras referencias'!$L$2:$L$200,0),3))","v":""},{"$f":"IF(M487=\"\",\"\",INDEX(referentes!$S$2:$S$170,MATCH(N487,referentes!$W$2:$W$170,0),1))","v":""},null,null,null,null,null,null,null,null,null,{"$f":"IF(X487=\"\",\"\",INDEX(referentes!$Y$2:$Z$37,MATCH(X487,referentes!$Z$2:$Z$37,0),1))","v":""},"01",null,null,null,"",null,"",null,null,"",null,1,{"$f":"IF(E487<>\"\",CONCATENATE(B487,A487,DIGITADOR!$M$1,AH487),\"\")","v":""},"",null,null,null,null,null,null,null,null,null,null,null,null,null,null,null,null,null,null,"","",{"$f":"IF(BE487=\"\",\"\",INDEX(referentes!$D$2:$E$37,MATCH(BE487,referentes!$D$2:$D$37,0),2))","v":""},null,{"$f":"IF(BI487=\"\",\"\",INDEX(referentes!$J$2:$L$363,MATCH(BI487,referentes!$J$2:$J$363,0),2))","v":""},"",483]
["30000104",{"$f":"DIGITADOR!$B$2","v":""},3,{"$f":"IF(E488<>\"\",CONCATENATE($A$2,DIGITADOR!$M$1,O488,AH488),\"\")","v":""},null,null,"00:00:00",1,null,null,{"$f":"IF(J488<>\"\",VLOOKUP(J488,#REF!,1,FALSE),\"\")","v":""},null,"",{"$f":"IF(M488=\"\",\"\",INDEX('Otras referencias'!$L$2:$N$200,MATCH(M488,'Otras referencias'!$L$2:$L$200,0),3))","v":""},{"$f":"IF(M488=\"\",\"\",INDEX(referentes!$S$2:$S$170,MATCH(N488,referentes!$W$2:$W$170,0),1))","v":""},null,null,null,null,null,null,null,null,null,{"$f":"IF(X488=\"\",\"\",INDEX(referentes!$Y$2:$Z$37,MATCH(X488,referentes!$Z$2:$Z$37,0),1))","v":""},"01",null,null,null,"",null,"",null,null,"",null,1,{"$f":"IF(E488<>\"\",CONCATENATE(B488,A488,DIGITADOR!$M$1,AH488),\"\")","v":""},"",null,null,null,null,null,null,null,null,null,null,null,null,null,null,null,null,null,null,"","",{"$f":"IF(BE488=\"\",\"\",INDEX(referentes!$D$2:$E$37,MATCH(BE488,referentes!$D$2:$D$37,0),2))","v":""},null,{"$f":"IF(BI488=\"\",\"\",INDEX(referentes!$J$2:$L$363,MATCH(BI488,referentes!$J$2:$J$363,0),2))","v":""},"",484]
["30000104",{"$f":"DIGITADOR!$B$2","v":""},3,{"$f":"IF(E489<>\"\",CONCATENATE($A$2,DIGITADOR!$M$1,O489,AH489),\"\")","v":""},null,null,{"$f":"E489+F489","v":"00:00:00"},{"$f":"IF(G489<>\"\",MONTH(G489),\"\")","v":1},null,null,{"$f":"IF(J489<>\"\",VLOOKUP(J489,#REF!,1,FALSE),\"\")","v":""},null,{"$f":"IF(L489<>\"\",CONCATENATE(J489,L489),\"\")","v":""},{"$f":"IF(M489=\"\",\"\",INDEX('Otras referencias'!$L$2:$N$200,MATCH(M489,'Otras referencias'!$L$2:$L$200,0),3))","v":""},{"$f":"IF(M489=\"\",\"\",INDEX(referentes!$S$2:$S$170,MATCH(N489,referentes!$W$2:$W$170,0),1))","v":""},null,null,null,null,null,null,null,null,null,{"$f":"IF(X489=\"\",\"\",INDEX(referentes!$Y$2:$Z$37,MATCH(X489,referentes!$Z$2:$Z$37,0),1))","v":""},"01",null,null,null,"",null,"",null,null,"",null,1,{"$f":"IF(E489<>\"\",CONCATENATE(B489,A489,DIGITADOR!$M$1,AH489),\"\")","v":""},"",null,null,null,null,null,null,null,null,null,null,null,null,null,null,null,null,null,null,"","",{"$f":"IF(BE489=\"\",\"\",INDEX(referentes!$D$2:$E$37,MATCH(BE489,referentes!$D$2:$D$37,0),2))","v":""},null,{"$f":"IF(BI489=\"\",\"\",INDEX(referentes!$J$2:$L$363,MATCH(BI489,referentes!$J$2:$J$363,0),2))","v":""},"",485]
["30000104",{"$f":"DIGITADOR!$B$2","v":""},3,{"$f":"IF(E490<>\"\",CONCATENATE($A$2,DIGITADOR!$M$1,O490,AH490),\"\")","v":""},null,null,"00:00:00",1,null,null,{"$f":"IF(J490<>\"\",VLOOKUP(J490,#REF!,1,FALSE),\"\")","v":""},null,"",{"$f":"IF(M490=\"\",\"\",INDEX('Otras referencias'!$L$2:$N$200,MATCH(M490,'Otras referencias'!$L$2:$L$200,0),3))","v":""},{"$f":"IF(M490=\"\",\"\",INDEX(referentes!$S$2:$S$170,MATCH(N490,referentes!$W$2:$W$170,0),1))","v":""},null,null,null,null,null,null,null,null,null,{"$f":"IF(X490=\"\",\"\",INDEX(referentes!$Y$2:$Z$37,MATCH(X490,referentes!$Z$2:$Z$37,0),1))","v":""},"01",null,null,null,"",null,"",null,null,"",null,1,{"$f":"IF(E490<>\"\",CONCATENATE(B490,A490,DIGITADOR!$M$1,AH490),\"\")","v":""},"",null,null,null,null,null,null,null,null,null,null,null,null,null,null,null,null,null,null,"","",{"$f":"IF(BE490=\"\",\"\",INDEX(referentes!$D$2:$E$37,MATCH(BE490,referentes!$D$2:$D$37,0),2))","v":""},null,{"$f":"IF(BI490=\"\",\"\",INDEX(referentes!$J$2:$L$363,MATCH(BI490,referentes!$J$2:$J$363,0),2))","v":""},"",486]
["30000104",{"$f":"DIGITADOR!$B$2","v":""},3,{"$f":"IF(E491<>\"\",CONCATENATE($A$2,DIGITADOR!$M$1,O491,AH491),\"\")","v":""},null,null,"00:00:00",1,null,null,{"$f":"IF(J491<>\"\",VLOOKUP(J491,#REF!,1,FALSE),\"\")","v":""},null,"",{"$f":"IF(M491=\"\",\"\",INDEX('Otras referencias'!$L$2:$N$200,MATCH(M491,'Otras referencias'!$L$2:$L$200,0),3))","v":""},{"$f":"IF(M491=\"\",\"\",INDEX(referentes!$S$2:$S$170,MATCH(N491,referentes!$W$2:$W$170,0),1))","v":""},null,null,null,null,null,null,null,null,null,{"$f":"IF(X491=\"\",\"\",INDEX(referentes!$Y$2:$Z$37,MATCH(X491,referentes!$Z$2:$Z$37,0),1))","v":""},"01",null,null,null,"",null,"",null,null,"",null,1,{"$f":"IF(E491<>\"\",CONCATENATE(B491,A491,DIGITADOR!$M$1,AH491),\"\")","v":""},"",null,null,null,null,null,null,null,null,null,null,null,null,null,null,null,null,null,null,"","",{"$f":"IF(BE491=\"\",\"\",INDEX(referentes!$D$2:$E$37,MATCH(BE491,referentes!$D$2:$D$37,0),2))","v":""},null,{"$f":"IF(BI491=\"\",\"\",INDEX(referentes!$J$2:$L$363,MATCH(BI491,referentes!$J$2:$J$363,0),2))","v":""},"",487]
["30000104",{"$f":"DIGITADOR!$B$2","v":""},3,{"$f":"IF(E492<>\"\",CONCATENATE($A$2,DIGITADOR!$M$1,O492,AH492),\"\")","v":""},null,null,"00:00:00",1,null,null,{"$f":"IF(J492<>\"\",VLOOKUP(J492,#REF!,1,FALSE),\"\")","v":""},null,"",{"$f":"IF(M492=\"\",\"\",INDEX('Otras referencias'!$L$2:$N$200,MATCH(M492,'Otras referencias'!$L$2:$L$200,0),3))","v":""},{"$f":"IF(M492=\"\",\"\",INDEX(referentes!$S$2:$S$170,MATCH(N492,referentes!$W$2:$W$170,0),1))","v":""},null,null,null,null,null,null,null,null,null,{"$f":"IF(X492=\"\",\"\",INDEX(referentes!$Y$2:$Z$37,MATCH(X492,referentes!$Z$2:$Z$37,0),1))","v":""},"01",null,null,null,"",null,"",null,null,"",null,1,{"$f":"IF(E492<>\"\",CONCATENATE(B492,A492,DIGITADOR!$M$1,AH492),\"\")","v":""},"",null,null,null,null,null,null,null,null,null,null,null,null,null,null,null,null,null,null,"","",{"$f":"IF(BE492=\"\",\"\",INDEX(referentes!$D$2:$E$37,MATCH(BE492,referentes!$D$2:$D$37,0),2))","v":""},null,{"$f":"IF(BI492=\"\",\"\",INDEX(referentes!$J$2:$L$363,MATCH(BI492,referentes!$J$2:$J$363,0),2))","v":""},"",488]
["30000104",{"$f":"DIGITADOR!$B$2","v":""},3,{"$f":"IF(E493<>\"\",CONCATENATE($A$2,DIGITADOR!$M$1,O493,AH493),\"\")","v":""},null,null,"00:00:00",1,null,null,{"$f":"IF(J493<>\"\",VLOOKUP(J493,#REF!,1,FALSE),\"\")","v":""},null,"",{"$f":"IF(M493=\"\",\"\",INDEX('Otras referencias'!$L$2:$N$200,MATCH(M493,'Otras referencias'!$L$2:$L$200,0),3))","v":""},{"$f":"IF(M493=\"\",\"\",INDEX(referentes!$S$2:$S$170,MATCH(N493,referentes!$W$2:$W$170,0),1))","v":""},null,null,null,null,null,null,null,null,null,{"$f":"IF(X493=\"\",\"\",INDEX(referentes!$Y$2:$Z$37,MATCH(X493,referentes!$Z$2:$Z$37,0),1))","v":""},"01",null,null,null,"",null,"",null,null,"",null,1,{"$f":"IF(E493<>\"\",CONCATENATE(B493,A493,DIGITADOR!$M$1,AH493),\"\")","v":""},"",null,null,null,null,null,null,null,null,null,null,null,null,null,null,null,null,null,null,"","",{"$f":"IF(BE493=\"\",\"\",INDEX(referentes!$D$2:$E$37,MATCH(BE493,referentes!$D$2:$D$37,0),2))","v":""},null,{"$f":"IF(BI493=\"\",\"\",INDEX(referentes!$J$2:$L$363,MATCH(BI493,referentes!$J$2:$J$363,0),2))","v":""},"",489]
["30000104",{"$f":"DIGITADOR!$B$2","v":""},3,{"$f":"IF(E494<>\"\",CONCATENATE($A$2,DIGITADOR!$M$1,O494,AH494),\"\")","v":""},null,null,"00:00:00",1,null,null,{"$f":"IF(J494<>\"\",VLOOKUP(J494,#REF!,1,FALSE),\"\")","v":""},null,"",{"$f":"IF(M494=\"\",\"\",INDEX('Otras referencias'!$L$2:$N$200,MATCH(M494,'Otras referencias'!$L$2:$L$200,0),3))","v":""},{"$f":"IF(M494=\"\",\"\",INDEX(referentes!$S$2:$S$170,MATCH(N494,referentes!$W$2:$W$170,0),1))","v":""},null,null,null,null,null,null,null,null,null,{"$f":"IF(X494=\"\",\"\",INDEX(referentes!$Y$2:$Z$37,MATCH(X494,referentes!$Z$2:$Z$37,0),1))","v":""},"01",null,null,null,"",null,"",null,null,"",null,1,{"$f":"IF(E494<>\"\",CONCATENATE(B494,A494,DIGITADOR!$M$1,AH494),\"\")","v":""},"",null,null,null,null,null,null,null,null,null,null,null,null,null,null,null,null,null,null,"","",{"$f":"IF(BE494=\"\",\"\",INDEX(referentes!$D$2:$E$37,MATCH(BE494,referentes!$D$2:$D$37,0),2))","v":""},null,{"$f":"IF(BI494=\"\",\"\",INDEX(referentes!$J$2:$L$363,MATCH(BI494,referentes!$J$2:$J$363,0),2))","v":""},"",490]
["30000104",{"$f":"DIGITADOR!$B$2","v":""},3,{"$f":"IF(E495<>\"\",CONCATENATE($A$2,DIGITADOR!$M$1,O495,AH495),\"\")","v":""},null,null,"00:00:00",1,null,null,{"$f":"IF(J495<>\"\",VLOOKUP(J495,#REF!,1,FALSE),\"\")","v":""},null,"",{"$f":"IF(M495=\"\",\"\",INDEX('Otras referencias'!$L$2:$N$200,MATCH(M495,'Otras referencias'!$L$2:$L$200,0),3))","v":""},{"$f":"IF(M495=\"\",\"\",INDEX(referentes!$S$2:$S$170,MATCH(N495,referentes!$W$2:$W$170,0),1))","v":""},null,null,null,null,null,null,null,null,null,{"$f":"IF(X495=\"\",\"\",INDEX(referentes!$Y$2:$Z$37,MATCH(X495,referentes!$Z$2:$Z$37,0),1))","v":""},"01",null,null,null,"",null,"",null,null,"",null,1,{"$f":"IF(E495<>\"\",CONCATENATE(B495,A495,DIGITADOR!$M$1,AH495),\"\")","v":""},"",null,null,null,null,null,null,null,null,null,null,null,null,null,null,null,null,null,null,"","",{"$f":"IF(BE495=\"\",\"\",INDEX(referentes!$D$2:$E$37,MATCH(BE495,referentes!$D$2:$D$37,0),2))","v":""},null,{"$f":"IF(BI495=\"\",\"\",INDEX(referentes!$J$2:$L$363,MATCH(BI495,referentes!$J$2:$J$363,0),2))","v":""},"",491]
["30000104",{"$f":"DIGITADOR!$B$2","v":""},3,{"$f":"IF(E496<>\"\",CONCATENATE($A$2,DIGITADOR!$M$1,O496,AH496),\"\")","v":""},null,null,"00:00:00",1,null,null,{"$f":"IF(J496<>\"\",VLOOKUP(J496,#REF!,1,FALSE),\"\")","v":""},null,"",{"$f":"IF(M496=\"\",\"\",INDEX('Otras referencias'!$L$2:$N$200,MATCH(M496,'Otras referencias'!$L$2:$L$200,0),3))","v":""},{"$f":"IF(M496=\"\",\"\",INDEX(referentes!$S$2:$S$170,MATCH(N496,referentes!$W$2:$W$170,0),1))","v":""},null,null,null,null,null,null,null,null,null,{"$f":"IF(X496=\"\",\"\",INDEX(referentes!$Y$2:$Z$37,MATCH(X496,referentes!$Z$2:$Z$37,0),1))","v":""},"01",null,null,null,"",null,"",null,null,"",null,1,{"$f":"IF(E496<>\"\",CONCATENATE(B496,A496,DIGITADOR!$M$1,AH496),\"\")","v":""},"",null,null,null,null,null,null,null,null,null,null,null,null,null,null,null,null,null,null,"","",{"$f":"IF(BE496=\"\",\"\",INDEX(referentes!$D$2:$E$37,MATCH(BE496,referentes!$D$2:$D$37,0),2))","v":""},null,{"$f":"IF(BI496=\"\",\"\",INDEX(referentes!$J$2:$L$363,MATCH(BI496,referentes!$J$2:$J$363,0),2))","v":""},"",492]
["30000104",{"$f":"DIGITADOR!$B$2","v":""},3,{"$f":"IF(E497<>\"\",CONCATENATE($A$2,DIGITADOR!$M$1,O497,AH497),\"\")","v":""},null,null,"00:00:00",1,null,null,{"$f":"IF(J497<>\"\",VLOOKUP(J497,#REF!,1,FALSE),\"\")","v":""},null,"",{"$f":"IF(M497=\"\",\"\",INDEX('Otras referencias'!$L$2:$N$200,MATCH(M497,'Otras referencias'!$L$2:$L$200,0),3))","v":""},{"$f":"IF(M497=\"\",\"\",INDEX(referentes!$S$2:$S$170,MATCH(N497,referentes!$W$2:$W$170,0),1))","v":""},null,null,null,null,null,null,null,null,null,{"$f":"IF(X497=\"\",\"\",INDEX(referentes!$Y$2:$Z$37,MATCH(X497,referentes!$Z$2:$Z$37,0),1))","v":""},"01",null,null,null,"",null,"",null,null,"",null,1,{"$f":"IF(E497<>\"\",CONCATENATE(B497,A497,DIGITADOR!$M$1,AH497),\"\")","v":""},"",null,null,null,null,null,null,null,null,null,null,null,null,null,null,null,null,null,null,"","",{"$f":"IF(BE497=\"\",\"\",INDEX(referentes!$D$2:$E$37,MATCH(BE497,referentes!$D$2:$D$37,0),2))","v":""},null,{"$f":"IF(BI497=\"\",\"\",INDEX(referentes!$J$2:$L$363,MATCH(BI497,referentes!$J$2:$J$363,0),2))","v":""},"",493]
["30000104",{"$f":"DIGITADOR!$B$2","v":""},3,{"$f":"IF(E498<>\"\",CONCATENATE($A$2,DIGITADOR!$M$1,O498,AH498),\"\")","v":""},null,null,"00:00:00",1,null,null,{"$f":"IF(J498<>\"\",VLOOKUP(J498,#REF!,1,FALSE),\"\")","v":""},null,"",{"$f":"IF(M498=\"\",\"\",INDEX('Otras referencias'!$L$2:$N$200,MATCH(M498,'Otras referencias'!$L$2:$L$200,0),3))","v":""},{"$f":"IF(M498=\"\",\"\",INDEX(referentes!$S$2:$S$170,MATCH(N498,referentes!$W$2:$W$170,0),1))","v":""},null,null,null,null,null,null,null,null,null,{"$f":"IF(X498=\"\",\"\",INDEX(referentes!$Y$2:$Z$37,MATCH(X498,referentes!$Z$2:$Z$37,0),1))","v":""},"01",null,null,null,"",null,"",null,null,"",null,1,{"$f":"IF(E498<>\"\",CONCATENATE(B498,A498,DIGITADOR!$M$1,AH498),\"\")","v":""},"",null,null,null,null,null,null,null,null,null,null,null,null,null,null,null,null,null,null,"","",{"$f":"IF(BE498=\"\",\"\",INDEX(referentes!$D$2:$E$37,MATCH(BE498,referentes!$D$2:$D$37,0),2))","v":""},null,{"$f":"IF(BI498=\"\",\"\",INDEX(referentes!$J$2:$L$363,MATCH(BI498,referentes!$J$2:$J$363,0),2))","v":""},"",494]
["30000104",{"$f":"DIGITADOR!$B$2","v":""},3,{"$f":"IF(E499<>\"\",CONCATENATE($A$2,DIGITADOR!$M$1,O499,AH499),\"\")","v":""},null,null,"00:00:00",1,null,null,{"$f":"IF(J499<>\"\",VLOOKUP(J499,#REF!,1,FALSE),\"\")","v":""},null,"",{"$f":"IF(M499=\"\",\"\",INDEX('Otras referencias'!$L$2:$N$200,MATCH(M499,'Otras referencias'!$L$2:$L$200,0),3))","v":""},{"$f":"IF(M499=\"\",\"\",INDEX(referentes!$S$2:$S$170,MATCH(N499,referentes!$W$2:$W$170,0),1))","v":""},null,null,null,null,null,null,null,null,null,{"$f":"IF(X499=\"\",\"\",INDEX(referentes!$Y$2:$Z$37,MATCH(X499,referentes!$Z$2:$Z$37,0),1))","v":""},"01",null,null,null,"",null,"",null,null,"",null,1,{"$f":"IF(E499<>\"\",CONCATENATE(B499,A499,DIGITADOR!$M$1,AH499),\"\")","v":""},"",null,null,null,null,null,null,null,null,null,null,null,null,null,null,null,null,null,null,"","",{"$f":"IF(BE499=\"\",\"\",INDEX(referentes!$D$2:$E$37,MATCH(BE499,referentes!$D$2:$D$37,0),2))","v":""},null,{"$f":"IF(BI499=\"\",\"\",INDEX(referentes!$J$2:$L$363,MATCH(BI499,referentes!$J$2:$J$363,0),2))","v":""},"",495]
["30000104",{"$f":"DIGITADOR!$B$2","v":""},3,{"$f":"IF(E500<>\"\",CONCATENATE($A$2,DIGITADOR!$M$1,O500,AH500),\"\")","v":""},null,null,"00:00:00",1,null,null,{"$f":"IF(J500<>\"\",VLOOKUP(J500,#REF!,1,FALSE),\"\")","v":""},null,"",{"$f":"IF(M500=\"\",\"\",INDEX('Otras referencias'!$L$2:$N$200,MATCH(M500,'Otras referencias'!$L$2:$L$200,0),3))","v":""},{"$f":"IF(M500=\"\",\"\",INDEX(referentes!$S$2:$S$170,MATCH(N500,referentes!$W$2:$W$170,0),1))","v":""},null,null,null,null,null,null,null,null,null,{"$f":"IF(X500=\"\",\"\",INDEX(referentes!$Y$2:$Z$37,MATCH(X500,referentes!$Z$2:$Z$37,0),1))","v":""},"01",null,null,null,"",null,"",null,null,"",null,1,{"$f":"IF(E500<>\"\",CONCATENATE(B500,A500,DIGITADOR!$M$1,AH500),\"\")","v":""},"",null,null,null,null,null,null,null,null,null,null,null,null,null,null,null,null,null,null,"","",{"$f":"IF(BE500=\"\",\"\",INDEX(referentes!$D$2:$E$37,MATCH(BE500,referentes!$D$2:$D$37,0),2))","v":""},null,{"$f":"IF(BI500=\"\",\"\",INDEX(referentes!$J$2:$L$363,MATCH(BI500,referentes!$J$2:$J$363,0),2))","v":""},"",496]
["30000104",{"$f":"DIGITADOR!$B$2","v":""},3,{"$f":"IF(E501<>\"\",CONCATENATE($A$2,DIGITADOR!$M$1,O501,AH501),\"\")","v":""},null,null,"00:00:00",1,null,null,{"$f":"IF(J501<>\"\",VLOOKUP(J501,#REF!,1,FALSE),\"\")","v":""},null,"",{"$f":"IF(M501=\"\",\"\",INDEX('Otras referencias'!$L$2:$N$200,MATCH(M501,'Otras referencias'!$L$2:$L$200,0),3))","v":""},{"$f":"IF(M501=\"\",\"\",INDEX(referentes!$S$2:$S$170,MATCH(N501,referentes!$W$2:$W$170,0),1))","v":""},null,null,null,null,null,null,null,null,null,{"$f":"IF(X501=\"\",\"\",INDEX(referentes!$Y$2:$Z$37,MATCH(X501,referentes!$Z$2:$Z$37,0),1))","v":""},"01",null,null,null,"",null,"",null,null,"",null,1,{"$f":"IF(E501<>\"\",CONCATENATE(B501,A501,DIGITADOR!$M$1,AH501),\"\")","v":""},"",null,null,null,null,null,null,null,null,null,null,null,null,null,null,null,null,null,null,"","",{"$f":"IF(BE501=\"\",\"\",INDEX(referentes!$D$2:$E$37,MATCH(BE501,referentes!$D$2:$D$37,0),2))","v":""},null,{"$f":"IF(BI501=\"\",\"\",INDEX(referentes!$J$2:$L$363,MATCH(BI501,referentes!$J$2:$J$363,0),2))","v":""},"",497]
["30000104",{"$f":"DIGITADOR!$B$2","v":""},3,{"$f":"IF(E502<>\"\",CONCATENATE($A$2,DIGITADOR!$M$1,O502,AH502),\"\")","v":""},null,null,"00:00:00",1,null,null,{"$f":"IF(J502<>\"\",VLOOKUP(J502,#REF!,1,FALSE),\"\")","v":""},null,"",{"$f":"IF(M502=\"\",\"\",INDEX('Otras referencias'!$L$2:$N$200,MATCH(M502,'Otras referencias'!$L$2:$L$200,0),3))","v":""},{"$f":"IF(M502=\"\",\"\",INDEX(referentes!$S$2:$S$170,MATCH(N502,referentes!$W$2:$W$170,0),1))","v":""},null,null,null,null,null,null,null,null,null,{"$f":"IF(X502=\"\",\"\",INDEX(referentes!$Y$2:$Z$37,MATCH(X502,referentes!$Z$2:$Z$37,0),1))","v":""},"01",null,null,null,"",null,"",null,null,"",null,1,{"$f":"IF(E502<>\"\",CONCATENATE(B502,A502,DIGITADOR!$M$1,AH502),\"\")","v":""},"",null,null,null,null,null,null,null,null,null,null,null,null,null,null,null,null,null,null,"","",{"$f":"IF(BE502=\"\",\"\",INDEX(referentes!$D$2:$E$37,MATCH(BE502,referentes!$D$2:$D$37,0),2))","v":""},null,{"$f":"IF(BI502=\"\",\"\",INDEX(referentes!$J$2:$L$363,MATCH(BI502,referentes!$J$2:$J$363,0),2))","v":""},"",498]
["30000104",{"$f":"DIGITADOR!$B$2","v":""},3,{"$f":"IF(E503<>\"\",CONCATENATE($A$2,DIGITADOR!$M$1,O503,AH503),\"\")","v":""},null,null,"00:00:00",1,null,null,{"$f":"IF(J503<>\"\",VLOOKUP(J503,#REF!,1,FALSE),\"\")","v":""},null,"",{"$f":"IF(M503=\"\",\"\",INDEX('Otras referencias'!$L$2:$N$200,MATCH(M503,'Otras referencias'!$L$2:$L$200,0),3))","v":""},{"$f":"IF(M503=\"\",\"\",INDEX(referentes!$S$2:$S$170,MATCH(N503,referentes!$W$2:$W$170,0),1))","v":""},null,null,null,null,null,null,null,null,null,{"$f":"IF(X503=\"\",\"\",INDEX(referentes!$Y$2:$Z$37,MATCH(X503,referentes!$Z$2:$Z$37,0),1))","v":""},"01",null,null,null,"",null,"",null,null,"",null,1,{"$f":"IF(E503<>\"\",CONCATENATE(B503,A503,DIGITADOR!$M$1,AH503),\"\")","v":""},"",null,null,null,null,null,null,null,null,null,null,null,null,null,null,null,null,null,null,"","",{"$f":"IF(BE503=\"\",\"\",INDEX(referentes!$D$2:$E$37,MATCH(BE503,referentes!$D$2:$D$37,0),2))","v":""},null,{"$f":"IF(BI503=\"\",\"\",INDEX(referentes!$J$2:$L$363,MATCH(BI503,referentes!$J$2:$J$363,0),2))","v":""},"",499]
["30000104",{"$f":"DIGITADOR!$B$2","v":""},3,{"$f":"IF(E504<>\"\",CONCATENATE($A$2,DIGITADOR!$M$1,O504,AH504),\"\")","v":""},null,null,"00:00:00",1,null,null,{"$f":"IF(J504<>\"\",VLOOKUP(J504,#REF!,1,FALSE),\"\")","v":""},null,"",{"$f":"IF(M504=\"\",\"\",INDEX('Otras referencias'!$L$2:$N$200,MATCH(M504,'Otras referencias'!$L$2:$L$200,0),3))","v":""},{"$f":"IF(M504=\"\",\"\",INDEX(referentes!$S$2:$S$170,MATCH(N504,referentes!$W$2:$W$170,0),1))","v":""},null,null,null,null,null,null,null,null,null,{"$f":"IF(X504=\"\",\"\",INDEX(referentes!$Y$2:$Z$37,MATCH(X504,referentes!$Z$2:$Z$37,0),1))","v":""},"01",null,null,null,"",null,"",null,null,"",null,1,{"$f":"IF(E504<>\"\",CONCATENATE(B504,A504,DIGITADOR!$M$1,AH504),\"\")","v":""},"",null,null,null,null,null,null,null,null,null,null,null,null,null,null,null,null,null,null,"","",{"$f":"IF(BE504=\"\",\"\",INDEX(referentes!$D$2:$E$37,MATCH(BE504,referentes!$D$2:$D$37,0),2))","v":""},null,{"$f":"IF(BI504=\"\",\"\",INDEX(referentes!$J$2:$L$363,MATCH(BI504,referentes!$J$2:$J$363,0),2))","v":""},"",500]
[null,null,4,null,"2021-05-04","09:15:00"]

{"sheet":"referentes","index":4,"n_rows":366,"n_cols":26,"rows_kept":366,"cut":false,"hidden":false,"merged":[]}
[null,null,null,null,null,null,null,null,null,"descripcion","cod_letras",null,null,null,null,null,"secuencia_lo","prefijo_cdg_est_loc","secuencia_lo","prefijo_cdg_est_loc","codigo_estacion_loc","descripcion_estacion_loc","lugar"]
["CORALINA","CORALINA",null,"AHCO","Ahermatipicos",null,"AAGA","Agaricia agaricites",null,"AAGA","Agaricia agaricites","8.55.2460","CNIDARIA",null,null,null,null,"ACU",14311,"ACU",1,null,"Acuario 1",null,3907,"Ameth  Vargas Campo"]
["F. Malpelo","Fundacion Malpelo",null,"ANEM","Anémonas",null,"AATL","Antipathes atlantica",null,"AATL","Antipathes atlantica","8.55.1300","CNIDARIA",null,null,null,null,"ACU",14312,"ACU",2,null,"Acuario 2",null,593,"Andrea Polanco"]
["INVEMAR","Instituto de Investigaciones Marinas y Costeras",null,"ASCI","Ascideas",null,"ABAR","Antipathes barbadensis",null,"ABAR","Antipathes barbadensis","8.55.6730","CNIDARIA",null,null,null,null,"AGU",14338,"AGU",1,"se encuentra localizada bien al fondo de la ensenada","Aguacate S",null,4408,"Andres Felipe Acosta Chaparro"]
["ParquesNacionales","Parques Nacionales",null,"BOUL","Cantos rodados",null,"ABER","Actinia bermudensis",null,"ABER","Actinia bermudensis","8.55.1680","CNIDARIA",null,null,null,null,"AZU",14341,"AZU",1,"A unos 60 metros de la costa en marea baja. localizada a 2º 57' 30.6\" N - 78º 10' 41.0\" O","Azufrada 1",null,3956,"Carlos Aponte"]
["PNN_GORGONA","PNN_GORGONA",null,"BRAN","Corales duros ramificados",null,"ABRA","Amphiroa brasiliana",null,"ABRA","Amphiroa brasiliana","4026.55.320",null,null,null,null,null,"AZU",14342,"AZU",2,"A unos 70m de la costa en marea baja","Azufrada 2",null,1834,"Diana Isabel Gómez López"]
["UJTL","UJTL",null,"CALG","Algas calcáreas",null,"ACER","Acropora cervicornis",null,"ACER","Acropora cervicornis","8.55.2380","CNIDARIA",null,null,null,null,"POR",43726,"POR",1,"Bahía Portete","Bahía Portete",null,1775,"Diego Duque"]
["UNal","Universidad Nacional",null,"CMOR","Coralimorfarios",null,"ACLA","Agelas clathrodes",null,"ACLA","Agelas clathrodes","4.55.196",null,null,null,null,null,"BGO",55425,"BGO",1,null,"Bonito Gordo (PNN Tayrona)",null,3646,"Elizabeth Galeano Galeano"]
["UNIVALLE","Universidad del Valle",null,"CYAN","Cianobacteria",null,"ACON","Agelas conifera",null,"ACON","Agelas conifera","4.55.197",null,null,null,null,null,"CTI",14333,"CTI",2,"incluye una parcela en el nivel medio de prof","Cabo Tiburón M",null,1784,"Johanna Carolina Vega Sequeda"]
[null,null,null,"DCOR","Coral muerto",null,"ACRO","Acropora sp.",null,"ACRO","Acropora sp.","8.46.820","CNIDARIA",null,null,null,null,"CTI",14334,"CTI",1,"la estación es una parcela somera (3 m) forma","Cabo Tiburón S",null,6356,"Jose Francisco Campo Campo"]
[null,null,null,"EALG","Algas calcáreas Incrustantes",null,"ADIS","Agelas dispar",null,"ADIS","Agelas dispar","4.55.198",null,null,null,null,null,"CAP",14336,"CAP",1,null,"Capurganá 1",null,3905,"Juan David González Corredor"]
[null,null,null,"ENCO","Corales duros incrustantes",null,"AELE","Actinoporus elegans",null,"AELE","Actinoporus elegans","8.55.6819","CNIDARIA",null,null,null,null,"CAP",14337,"CAP",2,null,"Capurganá 2",null,5705,"Katherine Johanna Mejía Quintero"]
[null,null,null,"ENGR","Gorgonaceos incrustantes",null,"AFRA","Agaricia fragilis",null,"AFRA","Agaricia fragilis","8.55.2520","CNIDARIA",null,null,null,null,"CEY",14331,"CEY",1,"Estación está conformada por  una parcela","Ceycen 1",null,8265,"Kevin Samuel Moreno"]
[null,null,null,"ENSP","Esponjas incrustantes",null,"AFUL","Aplysina fulva",null,"AFUL","Aplysina fulva","4.55.149",null,null,null,null,null,"CEY",14308,"CEY",2,null,"Ceycen 2",null,4227,"Laura Sanchez Valencia"]
[null,null,null,"ERSP","Esponjas erectas",null,"AGAR","Agaricia sp.",null,"AGAR","Agaricia sp.","8.46.830","CNIDARIA",null,null,null,null,"CEY",41651,"CEY",3,null,"Ceycen 3",null,3281,"Leonardo José Arias Alemán (2022)"]
[null,null,null,"FALG","Algas carnosas",null,"AGEL","Agelas sp.",null,"AGEL","Agelas sp.","4.46.440",null,null,null,null,null,"CHE",41705,"CHE",4,null,"Chengue Acropora",null,287,"Marcela Cano Correa"]
[null,null,null,"FOLI","Corales duros foliáceos",null,"AGRA","Agaricia grahamae",null,"AGRA","Agaricia grahamae","8.55.6396","CNIDARIA",null,null,null,null,"CHE",15508,"CHE",3,null,"Chengue Pastos",null,5021,"Maria Juliana Vanegas Gonzalez"]
[null,null,null,"GAPS","Hoyos, grietas, balcones",null,"AHAN","Amphiroa hancockii",null,"AHAN","Amphiroa hancockii","4026.55.350",null,null,null,null,null,"CHE",14297,"CHE",1,"Compartida con CARICOMP.La parcela del nivel somero (3-5 m) presenta una cobertura coralina _x000D_\r\r\naproximada del 29% dada principalmente por Montastraea faveolata y esqueletos de _x000D_\r\r\nAcropora palmata (algunas colonias vivas). _x000D_\r\r\nLas parcelas media (9-10 m) y profunda (15-16) tienen coberturas de 22% y 21%_x000D_\r\r\n respectivamente y están dominadas por una franja amplia de pendiente suave conformada por _x000D_\r\r\n corales masivos e incrustantes de Diploria spp, Montastraea faveolata y M. cavernosa principalmente._x000D_\r\r\n  El relieve de éstas dos últimas parcelas no es fuerte ya que no hay tamaños de colonias considerables, _x000D_\r\r\n  pero si hay una zona de relieve complejo muy cerca de los transectos la cual es dominada por colonias _x000D_\r\r\n  muy grandes de crecimiento montañoso de M. faveolata. En la parcela media se pueden observar además _x000D_\r\r\n  abundantes colonias medianas de gorgonáceos de la especie Eunicea fusca","Chengue..C1",null,1809,"Raul Navas Camacho"]
[null,null,null,"GORG","Gorgonaceo",null,"AHIR","Antipathes hirta",null,"AHIR","Antipathes hirta","8.55.6630","CNIDARIA",null,null,null,null,"CHE",14298,"CHE",2,"Las formaciones coralinas y el tipo de relieve son similares a los de C1 exceptuando _x000D_\r\r\nque en el nivel somero (3-6 m) de C2 hay mayor cobertura coralina (38%), _x000D_\r\r\nse pueden observar además cabezas grandes de Siderastrea siderea y _x000D_\r\r\nlos arrecifes de las parcelas media (9-11 m) y profunda (15-17 m), _x000D_\r\r\ndescienden como un talud de pendiente más fuerte. _x000D_\r\r\nLa cobertura de las parcelas media y profunda es de 40% y 31% _x000D_\r\r\nrespectivamente y dichos niveles presentan abundantes cabezas de Montastraea cavernosa_x000D_\r\r\ny Diploria strigosa, así como algunas colonias de gorgonáceos de tamaño considerable principalmente _x000D_\r\r\ndel género Plexaura sp. Debido a que las parcelas media y profunda están ubicados más hacia afuera _x000D_\r\r\nde la bahía, presentan un poco de oleaje de diciembre a abril por la fuerte acción de los _x000D_\r\r\nvientos alisios, lo cual dificulta el muestreo de los transectos de cadena durante esa _x000D_\r\r\népoca","Chengue..C2",null,5749,"Shanly Carolina Coneo Gómez"]
[null,null,null,"MASS","Corales duros masivos",null,"AHUM","Agaricia humilis",null,"AHUM","Agaricia humilis","8.55.6398","CNIDARIA",null,null,null,null,"CIN",41704,"CIN",2,"Cinto expuesto  Occidente","Cinto expuesto",null,8266,"Zulay Saudith González Herrera"]
[null,null,null,"MILL","Corales milleporinos",null,"AKRE","Anthopleura krebsi",null,"AKRE","Anthopleura krebsi","8.55.6822","CNIDARIA",null,null,null,null,"CIN",41703,"CIN",1,"Cinto protegido Oriente","Cinto protegido"]
[null,null,null,"OTHR","Otros organismos",null,"ALAM","Agaricia lamarcki",null,"ALAM","Agaricia lamarcki","8.55.2500","CNIDARIA",null,null,null,null,"MAL",14325,"MAL",1,null,"El Arrecife"]
[null,null,null,"ROCK","Roca expuesta",null,"ALEN","Antipathes lenta",null,"ALEN","Antipathes lenta","8.55.5980","CNIDARIA",null,null,null,null,"CAN",14315,"CAN",1,null,"El Canal 1"]
[null,null,null,"RUBB","Grava suelta",null,"AMFR","Amphiroa fragilissima",null,"AMFR","Amphiroa fragilissima","4026.55.340",null,null,null,null,null,"CAN",14316,"CAN",2,null,"El Canal 2"]
[null,null,null,"SAND","Sedimento libre",null,"AMIR","Alicia mirabilis",null,"AMIR","Alicia mirabilis","8.55.1640","CNIDARIA",null,null,null,null,"MRO",14303,"MRO",1,null,"El Morro"]
[null,null,null,"TALG","Algas en tapete",null,"AMPH","Amphiroa sp.",null,"AMPH","Amphiroa sp.","4026.46.370",null,null,null,null,null,"EMI",14309,"EMI",1,null,"Emisario 1"]
[null,null,null,"ZOAN","Zoantidios",null,"ANGR","Antipathes gracilis",null,"ANGR","Antipathes gracilis","8.55.1280","CNIDARIA",null,null,null,null,"EMI",14310,"EMI",2,null,"Emisario 2"]
[null,null,null,null,null,null,"ANOC","Arachnanthus nocturnus",null,"ANOC","Arachnanthus nocturnus","8.18.80","CNIDARIA",null,null,null,null,"GAY",14302,"GAY",1,null,"Gayraca 1"]
[null,null,null,null,null,null,"ANTI","Antipathes sp.",null,"ANTI","Antipathes sp.","8.46.510","CNIDARIA",null,null,null,null,"GAY",14323,"GAY",2,null,"Gayraca 2"]
[null,null,null,null,null,null,"APAL","Acropora palmata",null,"APAL","Acropora palmata","8.55.2400","CNIDARIA",null,null,null,null,"GRA",14324,"GRA",1,null,"Granate 1"]
[null,null,null,null,null,null,"APAR","Aplysina archeri",null,"APAR","Aplysina archeri","4.55.146",null,null,null,null,null,"IGU",14339,"IGU",1,null,"Iguana"]
[null,null,null,null,null,null,"APLY","Aplysina sp.",null,"APEN","Antipathes pennacea","8.55.1320","CNIDARIA",null,null,null,null,"ARE",41546,"ARE",1,null,"Isla Arena"]
[null,null,null,null,null,null,"APRO","Acropora prolifera",null,"APLY","Aplysina sp.","4.46.320",null,null,null,null,null,"IGR",41545,"IGR",1,null,"Isla Grande"]
[null,null,null,null,null,null,"ARIG","Amphiroa rigida",null,"APRO","Acropora prolifera","8.55.2420","CNIDARIA",null,null,null,null,"JCA",48967,"JCA",1,"Johnny Cay","Johnny Cay"]
[null,null,null,null,null,null,"ASCH","Agelas schmidti",null,"ARIG","Amphiroa rigida","4026.55.370",null,null,null,null,null,"CHO",14296,"CHO",1,"ubicada a 6º","La Chola 1"]
[null,null,null,null,null,null,"ASOL","Astrangia solitaria",null,"ASCH","Agelas schmidti","4.55.233",null,null,null,null,null,"CHO",14326,"CHO",2,"Parcela media localizada a 6º 0' 47.04","La Chola 2"]
[null,null,null,null,null,null,"ASYD","Ascidia sydneiensis",null,"ASOL","Astrangia solitaria","8.55.3400","CNIDARIA",null,null,null,null,"CHO",14304,"CHO",3,"es una parcela somera localizada a 6º 0' 40.9","La Chola 3"]
[null,null,null,null,null,null,"ATAG","Aiptasia tagetes",null,"ASYD","Ascidia sydneiensis","70.46.1059",null,null,null,null,null,"CHO",14327,"CHO",4,"Cobertura del 33%","La Chola 4"]
[null,null,null,null,null,null,"ATAN","Antipathes tanacetum",null,"ATAG","Aiptasia tagetes","8.55.6820","CNIDARIA",null,null,null,null,"CHO",14328,"CHO",5,null,"La Chola 5"]
[null,null,null,null,null,null,"ATEN","Agaricia tenuifolia",null,"ATAN","Antipathes tanacetum","8.55.6632","CNIDARIA",null,null,null,null,"CHO",14329,"CHO",6,null,"La Chola 6"]
[null,null,null,null,null,null,"ATRI","Amphiroa tribulus",null,"ATEN","Agaricia tenuifolia","8.55.2480","CNIDARIA",null,null,null,null,"COC",37122,"COC",1,null,"La Coca"]
[null,null,null,null,null,null,"AUND","Agaricia undata",null,"ATRI","Amphiroa tribulus","4026.55.390",null,null,null,null,null,"MAL",43098,"MAL",2,null,"La Nevera"]
[null,null,null,null,null,null,"AWIE","Agelas wiedenmyeri",null,"AUND","Agaricia undata","8.55.2540","CNIDARIA",null,null,null,null,"VEN",41695,"VEN",4,null,"La Ventana Norte Externa -VEN 4"]
[null,null,null,null,null,null,"DLAB","Diploria labyrinthiformis",null,"AWIE","Agelas wiedenmyeri","4.55.202",null,null,null,null,null,"VEN",41694,"VEN",3,null,"La Ventana Norte Interna -VEN 3"]
[null,null,null,null,null,null,"DNEG","Discosoma neglecta",null,"BALA","Balanophyllia sp.","8.46.1300","CNIDARIA",null,null,null,null,"VEN",41692,"VEN",1,null,"La Ventana Sur Externa -VEN 1"]
[null,null,null,null,null,null,"DNOD","Diodogorgia nodulifera",null,"BANN","Bartholomea annulata","8.55.1900","CNIDARIA",null,null,null,null,"VEN",41693,"VEN",2,null,"La Ventana Sur Interna -VEN 2"]
[null,null,null,null,null,null,"DSAN","Discosoma sanctithomae",null,"BART","Bartholomea sp.","8.46.720","CNIDARIA",null,null,null,null,"PAL",41547,"PAL",1,null,"Las Palmas"]
[null,null,null,null,null,null,"DSTE","Dichocoenia stellaris",null,"BASB","Briareum asbestinum","8.55.60","CNIDARIA",null,null,null,null,"MAR",41699,"MAR",1,null,"MARACAIBO"]
[null,null,null,null,null,null,"DSTO","Dichocoenia stokesii",null,"BFLO","Balanophyllia floridana","8.55.6832","CNIDARIA",null,null,null,null,"MAN",14305,"MAN",1,"ubicada frente a Isla Mangle en dirección N. Parcela en el nivel somero (4.5-6 m) que presenta una cobertura del 48%. _x000D_\r\r\nSe caracteriza porque la pendiente del fondo es imperceptible y porque presenta un relieve arrecifal _x000D_\r\r\ncomplejo compuesto por colonias muy grandes de Montastraea annularis y M. faveolata principalmente;_x000D_\r\r\n también es posible observar comúnmente Porites astreoides, P. porites y Millepora alcicornis. _x000D_\r\r\n El arrecife no es compacto y por lo tanto pueden observarse frecuentemente considerables parches _x000D_\r\r\n de sedimentos gruesos.","Mangle 1"]
[null,null,null,null,null,null,"DSTR","Diploria strigosa",null,"BGRA","Bunodosoma granuliferum","8.55.1720","CNIDARIA",null,null,null,null,"MAN",14307,"MAN",2,"La estación Mangle 2. Parcela en el nivel medio (9-11.5 m), _x000D_\r\r\nubicada sobre un arrecife muy compacto de relieve complejo, la pendiente del fondo es_x000D_\r\r\n suave y tiene una cobertura coralina del 31% aproximadamente. Se pueden observar corales de _x000D_\r\r\n 19 especies pero los más abundantes son M. franksi, P. astreoides y Agaricia tenuifolia y _x000D_\r\r\n también hay otras importantes como M. annularis, M. faveolata y P. porites entre otros. Después_x000D_\r\r\n de este arrecife, el fondo se precipita en un talud mayor que termina en amplios canales de arena _x000D_\r\r\n a los 15-18 m","Mangle 2"]
[null,null,null,null,null,null,"EBAR","Ellisella barbadensis",null,"BMON","Bostrychia montagnei","4026.55.3600",null,null,null,null,null,"MAZ",14317,"MAZ",1,null,"Manzanillo 1"]
[null,null,null,null,null,null,"ECAL","Eunicea calyculata",null,"BRIA","Briareum sp.","8.46.50","CNIDARIA",null,null,null,null,"MAZ",14318,"MAZ",2,null,"Manzanillo 2"]
[null,null,null,null,null,null,"ECAR","Erythropodium caribaeorum",null,"CALL","Cinachyra alloclada","4.55.238",null,null,null,null,null,"MRC",41698,"MRC",1,"Marcelas place","Marcela's place"]
[null,null,null,null,null,null,"ECFE","Ectyoplasia ferox",null,"CAMA","Caryophyllia maculata","8.46.1140","CNIDARIA",null,null,null,null,"MIN",14306,"MIN",1,"Ubicada hacia el noroeste de Isla Mucura._x000D_\r\r\nEsta estación es una parcela somera (6-7 m)_x000D_\r\r\n con una cobertura coralina del 33% cuyo fondo tiene una pendiente imperceptible y forma _x000D_\r\r\n parte de una terraza muy extensa. Sus arrecifes forman parches alargados que algunas veces _x000D_\r\r\n se conectan entre sí o están separados por áreas de sedimento de origen calcáreo y aparentemente _x000D_\r\r\n son arenas gruesas. Los corales pueden ser cabezas de variados tamaños de Montastraea spp, _x000D_\r\r\n Siderastrea siderea, Colpophyllia natans, Diploria spp. y Porites porites. Las algas y los_x000D_\r\r\n  octocorales son muy abundantes y estos últimos alcanzan tamaños considerables","Minalta"]
[null,null,null,null,null,null,"ECLA","Eunicea clavigera",null,"CARB","Cladocora arbuscula","8.55.3200","CNIDARIA",null,null,null,null,"4400147CORA100",56790,"4400147CORA100",1,null,"Morro Acropora (MRAC)"]
[null,null,null,null,null,null,"ECRU","Epicystis crucifer",null,"CARY","Caryophyllia sp.","8.46.1140","CNIDARIA",null,null,null,null,"NCH",42263,"NCH",1,"Narrow Channel","Narrow Channel"]
[null,null,null,null,null,null,"EELO","Ellisella elongata",null,"CASE","Caulerpa sertularioides","4020.55.17671",null,null,null,null,null,"NEG",41702,"NEG",2,null,"Neguanje expuesto"]
[null,null,null,null,null,null,"EFAS","Eusmilia fastigiata",null,"CAUL","Caulerpa sp.","4020.46.569",null,null,null,null,null,"NEG",41701,"NEG",1,null,"Neguanje protegido"]
[null,null,null,null,null,null,"EFUS","Eunicea fusca",null,"CBRE","Colpophyllia breviserialis","8.55.2980","CNIDARIA",null,null,null,null,"NET",37120,"NET",1,"Bajo coralino en la barrera de providencia, alejado varios km al noroeste de la isla","No Entry"]
[null,null,null,null,null,null,"ELAC","Eunicea laciniata",null,"CCUP","Caulerpa cupressoides","4020.55.3578",null,null,null,null,null,"NET",52325,"NET",2,"Bajo coralino en la barrera de providencia, alejado varios km al noroeste de la isla","No Entry 2"]
[null,null,null,null,null,null,"ELLI","Ellisella sp.",null,"CFLO","Caryophyllia flos","8.55.6460","CNIDARIA",null,null,null,null,"PAV",14300,"PAV",1,"Isla Rosario, Pavitos. El ambiente de esta estación en los tres niveles de profundidad difiere considerablemente al de tesoro _x000D_\r\r\npues pavitos está dominado por corales de crecimiento foliáceo del tipo Agaricia sp,_x000D_\r\r\n los gorgonáceos están prácticamente ausentes y se presentan gran cantidad de esponjas de variados _x000D_\r\r\n tamaños, formas de crecimiento y colores. La parcela somera de monitoreo está ubicada_x000D_\r\r\n  sobre la plataforma o terraza que rodea la Isla Pavitos y presenta una cobertura coralina _x000D_\r\r\n  del 31% y cerca se observa un talud de pendiente fuerte y de sustrato frágil donde _x000D_\r\r\n  se localizan las parcelas de los niveles medio (9-12 m) y profundo (16-18 m)._x000D_\r\r\n  En el nivel somero también pueden observarse comúnmente algunas cabezas medianas de _x000D_\r\r\n  Montastraea annularis y M. faveolata mientras en el profundo hay abundantes colonias _x000D_\r\r\n  de M. franksi. Los niveles medio y profundo presenta una cobertura coralina del 40% y 30%_x000D_\r\r\n   respectivamente_x000D_","Pavitos"]
[null,null,null,null,null,null,"EMAM","Eunicea mammosa",null,"CGIG","Condylactis gigantea","8.55.1740","CNIDARIA",null,null,null,null,"PLA",14295,"PLA",2,"A unos 150m de la costa en marea baja","Playa Blanca norte medio 2"]
[null,null,null,null,null,null,"EPAL","Eunicea palmeri",null,"CIMM","Colangia immersa","8.55.6486","CNIDARIA",null,null,null,null,"PLA",41690,"PLA",3,"Ubicada al norte de la formación coralina","Playa Blanca norte somero 3"]
[null,null,null,null,null,null,"EPIN","Eunicea pinta",null,"CINA","Cinachyra sp.","4.46.469",null,null,null,null,null,"PLA",41691,"PLA",4,"Ubicada al norte de la formación coralina","Playa Blanca sur medio 4"]
[null,null,null,null,null,null,"ERYT","Erythropodium sp.",null,"CINT","Codium intertextum","4020.55.2573",null,null,null,null,null,"PLA",14343,"PLA",1,"Ubicada al sur de la formación coralina","Playa Blanca sur somero 1"]
[null,null,null,null,null,null,"ESUC","Eunicea succinea",null,"CLAD","Cladopsammia sp.","8.46.1915","CNIDARIA",null,null,null,null,"PBLA",52865,"PBLA",1,null,"Playa Blanca-Barú (PNN Corales del Rosario y San Bernardo)"]
[null,null,null,null,null,null,"ETOU","Eunicea tourneforti",null,"CLAN","Caulerpa lanuginosa","4020.55.21640",null,null,null,null,null,"PBR",41548,"PBR",1,null,"Punta Brava"]
[null,null,null,null,null,null,"EUNI","Eunicea sp.",null,"CLDO","Cladocora sp.","8.46.970","CNIDARIA",null,null,null,null,"SFE",14321,"SFE",1,null,"San Felipe 1"]
[null,null,null,null,null,null,"EUSM","Eusmilia sp.",null,"CLEU","Cirrhipathes leutkeni","8.55.1360","CNIDARIA",null,null,null,null,"SFE",14322,"SFE",2,null,"San Felipe 2"]
[null,null,null,null,null,null,"FAVI","Favia sp.",null,"CLIO","Cliona sp.","4.46.375",null,null,null,null,null,"TES",14299,"TES",1,"Isla Rosario, el Tesoro. está ubicada en una cuenca lagunar de poca pendiente y relieve complejo, _x000D_\r\r\npresenta una cobertura aproximada del 45% y se observan cabezas coralinas _x000D_\r\r\ngrandes dominadas por Montastraea annularis. Es posible observar también _x000D_\r\r\notros corales de crecimiento masivo y cobertura importante como M. faveolata, _x000D_\r\r\nDiploria labyrinthiformis y Colpophyllia natans mezclados con parches amplios de arena._x000D_\r\r\n También se presentan abundantes gorgonáceos de los géneros Briareum sp. y Pseudoplexaura sp. _x000D_\r\r\n Después del plano se presenta hacia afuera un talud de pendiente media y relieve complejo donde _x000D_\r\r\n están ubicados las parcelas de los niveles medio (9-12 m) y profundo (16-19 m). El nivel medio _x000D_\r\r\n tiene una cobertura coralina del 24% y es un ambiente de corales masivos mixtos como M. annularis, _x000D_\r\r\n M franksi y C. natans, mientras el profundo presenta una cobertura mayor (35%) y está dominado por M. _x000D_\r\r\n franksi que forma colonias grandes con bordes tipo terraza. En la parcela profunda se presentan colonias _x000D_\r\r\n aisladas de látigos del género Ellisella sp","Tesoro 1"]
[null,null,null,null,null,null,"FFRA","Favia fragum",null,"CMEX","Caulerpa mexicana","4020.55.10593",null,null,null,null,null,"TES",41549,"TES",2,null,"Tesoro Oriental"]
[null,null,null,null,null,null,"GALA","Galaxaura sp.",null,"CNAT","Colpophyllia natans","8.55.3000","CNIDARIA",null,null,null,null,"BAR",14319,"BAR",1,null,"The Bar 1"]
[null,null,null,null,null,null,"GARD","Gardineroseris sp.",null,"CODI","Codium sp.","4020.46.570",null,null,null,null,null,"BAR",14320,"BAR",2,null,"The Bar 2"]
[null,null,null,null,null,null,"GFLA","Gorgonia flabellum",null,"COEN","Coenocyathus sp.","8.46.1250","CNIDARIA",null,null,null,null,"TNT",41697,"TNT",1,"Tintipan 1 Somero","Tintipan 1 Somero"]
[null,null,null,null,null,null,"GMAR","Galaxaura marginata",null,"COLA","Colangia sp.","8.46.1900","CNIDARIA",null,null,null,null,"TNT",41696,"TNT",2,"Tintipan 2 Medio","Tintipan 2 Medio"]
[null,null,null,null,null,null,"GOBL","Galaxaura oblongata",null,"COLP","Colpophyllia sp.","8.46.950","CNIDARIA",null,null,null,null,"TIO",14332,"TIO",1,"localizada al noroeste de Isla Tintipan a 9º","Tiosolda"]
[null,null,null,null,null,null,"GOMA","Gorgonia mariae",null,"COND","Condylactis sp.","8.46.660","CNIDARIA",null,null,null,null,"VAR",49084,"VAR",1,"Varadero 1","Varadero 1"]
[null,null,null,null,null,null,"GORG","Gorgonia sp.",null,"CPAS","Caulerpa paspaloides","4020.55.21645",null,null,null,null,null,"VAR",49085,"VAR",2,"Varadero 2","Varadero 2"]
[null,null,null,null,null,null,"GPLA","Gardineroseris planulata",null,"CPRO","Caulerpa prolifera","4020.55.14599",null,null,null,null,null,"VAR",49086,"VAR",3,"Varadero 3","Varadero 3"]
[null,null,null,null,null,null,"GRAC","Gracilaria sp.",null,"CRAC","Caulerpa racemosa","4020.55.16602",null,null,null,null,null,"WHI",41700,"WHI",1,null,"White  Shoal"]
[null,null,null,null,null,null,"GSUB","Galaxaura subverticillata",null,"CRII","Carijoa riisei","8.55.40","CNIDARIA",null,null,null,null,"WLF",14340,"WLF",1,"La parcela somera está localizada a 12º 30' 4","Wild Life"]
[null,null,null,null,null,null,"GVEN","Gorgonia ventalina",null,"CSER","Caulerpa serrulata","4020.55.18613",null,null,null,null,null,"ZAP",14335,"ZAP",1,"Ubicada afuera de la punta rocosa que cierra la ensenada","Zapsurro M"]
[null,null,null,null,null,null,"HALI","Halimeda sp.",null,"CSIM","Colangia simplex","8.55.6834","CNIDARIA"]
[null,null,null,null,null,null,"HCOP","Halimeda copiosa",null,"CTAX","Caulerpa taxifolia","4020.55.19620"]
[null,null,null,null,null,null,"HCUC","Helioseris cucullata",null,"CTRI","Calliactis tricolor","8.55.1880","CNIDARIA"]
[null,null,null,null,null,null,"HDIS","Halimeda discoidea",null,"CVER","Caulerpa verticillata","4020.55.20621"]
[null,null,null,null,null,null,"HELI","Helioseris sp.",null,"DCAR","Discosoma carlgreni","8.55.4500","CNIDARIA"]
[null,null,null,null,null,null,"HFEE","Hippopodina feegeensis",null,"DCAV","Dictyosphaeria cavernosa","4020.55.750"]
[null,null,null,null,null,null,"HGOR","Halimeda goreaui",null,"DCLI","Diploria clivosa","8.55.2860","CNIDARIA"]
[null,null,null,null,null,null,"HINC","Halimeda incrassata",null,"DCYL","Dendrogyra cylindricus","8.55.3580","CNIDARIA"]
[null,null,null,null,null,null,"HLAC","Halimeda lacrimosa",null,"DDIC","Dictyota dichotoma","4024.55.265"]
[null,null,null,null,null,null,"HMON","Halimeda monile",null,"DICH","Dichocoenia sp.","8.46.1070","CNIDARIA"]
[null,null,null,null,null,null,"HOPU","Halimeda opuntia",null,"DICT","Dictyota sp.","4024.46.115"]
[null,null,null,null,null,null,"HPEN","Hypnogorgia pendula",null,"DIIA","Dictyosphaeria sp.","4020.46.743"]
[null,null,null,null,null,null,"HSPO","Hydroides spongicola",null,"DIIS","Dictyopteris sp.","4024.46.105"]
[null,null,null,null,null,null,"HTUN","Halimeda tuna",null,"DIPL","Diploria sp.","8.46.930","CNIDARIA"]
[null,null,null,null,null,null,"HUAT","Heterogorgia uatumani",null,"DISC","Discosoma sp.","8.46.1340","CNIDARIA"]
[null,null,null,null,null,null,"IBIR","Iotrochota birotulata",null,"DLAB","Diploria labyrinthiformis","8.55.2900","CNIDARIA"]
[null,null,null,null,null,null,"ICIL","Iciligorgia sp.",null,"DNEG","Discosoma neglecta","8.55.4460","CNIDARIA"]
[null,null,null,null,null,null,"IOBI","Iotrochota birotulata",null,"DNOD","Diodogorgia nodulifera","8.55.100","CNIDARIA"]
[null,null,null,null,null,null,"IRCI","Ircinia sp.",null,"DSAN","Discosoma sanctithomae","8.55.4480","CNIDARIA"]
[null,null,null,null,null,null,"IRIG","Isophyllastrea rigida",null,"DSTE","Dichocoenia stellaris","8.55.3560","CNIDARIA"]
[null,null,null,null,null,null,"ISCH","Iciligorgia schrammi",null,"DSTO","Dichocoenia stokesii","8.55.3540","CNIDARIA"]
[null,null,null,null,null,null,"ISIA","Isophyllia sp.",null,"DSTR","Diploria strigosa","8.55.2920","CNIDARIA"]
[null,null,null,null,null,null,"ISIN","Isophyllia sinuosa",null,"EBAR","Ellisella barbadensis","8.55.1180","CNIDARIA"]
[null,null,null,null,null,null,"ISOP","Isophyllastrea sp.",null,"ECAL","Eunicea calyculata","8.55.420","CNIDARIA"]
[null,null,null,null,null,null,"ISTR","Ircinia strobilina",null,"ECAR","Erythropodium caribaeorum","8.55.120","CNIDARIA"]
[null,null,null,null,null,null,"JADH","Jania adherens",null,"ECFE","Ectyoplasia ferox","4.55.76"]
[null,null,null,null,null,null,"JANI","Jania sp.",null,"ECLA","Eunicea clavigera","8.55.500","CNIDARIA"]
[null,null,null,null,null,null,"JRUB","Jania rubens",null,"ECRU","Epicystis crucifer","8.55.1780","CNIDARIA"]
[null,null,null,null,null,null,"LALB","Lophogorgia alba",null,"EELO","Ellisella elongata","8.55.1160","CNIDARIA"]
[null,null,null,null,null,null,"LCER","Liagora ceranoides",null,"EFAS","Eusmilia fastigiata","8.55.4000","CNIDARIA"]
[null,null,null,null,null,null,"LCOR","Lebrunia coralligens",null,"EFUS","Eunicea fusca","8.55.520","CNIDARIA"]
[null,null,null,null,null,null,"LCUC","Leptoseris cucullata",null,"ELAC","Eunicea laciniata","8.55.480","CNIDARIA"]
[null,null,null,null,null,null,"BANN","Bartholomea annulata",null,"ELLI","Ellisella sp.","8.46.430","CNIDARIA"]
[null,null,null,null,null,null,"BART","Bartholomea sp.",null,"EMAM","Eunicea mammosa","8.55.400","CNIDARIA"]
[null,null,null,null,null,null,"BASB","Briareum asbestinum",null,"EPAL","Eunicea palmeri","8.55.6836","CNIDARIA"]
[null,null,null,null,null,null,"BFLO","Balanophyllia floridana",null,"EPIN","Eunicea pinta","8.55.6838","CNIDARIA"]
[null,null,null,null,null,null,"BGRA","Bunodosoma granuliferum",null,"ERYT","Erythropodium sp.","8.46.100","CNIDARIA"]
[null,null,null,null,null,null,"BMON","Bostrychia montagnei",null,"ESUC","Eunicea succinea","8.55.340","CNIDARIA"]
[null,null,null,null,null,null,"BRIA","Briareum sp.",null,"ETOU","Eunicea tourneforti","8.55.440","CNIDARIA"]
[null,null,null,null,null,null,"CALL","Cinachyra alloclada",null,"EUNI","Eunicea sp.","8.46.310","CNIDARIA"]
[null,null,null,null,null,null,"CAMA","Caryophyllia maculata",null,"EUSM","Eusmilia sp.","8.46.1180","CNIDARIA"]
[null,null,null,null,null,null,"CARB","Cladocora arbuscula",null,"FAVI","Favia sp.","8.46.920","CNIDARIA"]
[null,null,null,null,null,null,"CARY","Caryophyllia sp.",null,"FFRA","Favia fragum","8.55.2840","CNIDARIA"]
[null,null,null,null,null,null,"CASE","Caulerpa sertularioides",null,"GALA","Galaxaura sp.","4026.46.590"]
[null,null,null,null,null,null,"CAUL","Caulerpa sp.",null,"GARD","Gardineroseris sp.","8.46.870","CNIDARIA"]
[null,null,null,null,null,null,"CBRE","Colpophyllia breviserialis",null,"GFLA","Gorgonia flabellum","8.55.1080","CNIDARIA"]
[null,null,null,null,null,null,"CCUP","Caulerpa cupressoides",null,"GMAR","Galaxaura marginata","4026.55.600"]
[null,null,null,null,null,null,"CFLO","Caryophyllia flos",null,"GOBL","Galaxaura oblongata","4026.55.660"]
[null,null,null,null,null,null,"CGIG","Condylactis gigantea",null,"GOMA","Gorgonia mariae","8.55.6840","CNIDARIA"]
[null,null,null,null,null,null,"CIMM","Colangia immersa",null,"GORG","Gorgonia sp.","8.46.400","CNIDARIA"]
[null,null,null,null,null,null,"CINA","Cinachyra sp.",null,"GPLA","Gardineroseris planulata","8.55.2680","CNIDARIA"]
[null,null,null,null,null,null,"CINT","Codium intertextum",null,"GRAC","Gracilaria sp.","4026.46.1150"]
[null,null,null,null,null,null,"CLAD","Cladopsammia sp.",null,"GSUB","Galaxaura subverticillata","4026.55.630"]
[null,null,null,null,null,null,"CLAN","Caulerpa lanuginosa",null,"GVEN","Gorgonia ventalina","8.55.1040","CNIDARIA"]
[null,null,null,null,null,null,"CLDO","Cladocora sp.",null,"HALI","Halimeda sp.","4020.46.783"]
[null,null,null,null,null,null,"CLEU","Cirrhipathes leutkeni",null,"HCOP","Halimeda copiosa","4020.55.654"]
[null,null,null,null,null,null,"CLIO","Cliona sp.",null,"HCUC","Helioseris cucullata","8.55.2580","CNIDARIA"]
[null,null,null,null,null,null,"CMEX","Caulerpa mexicana",null,"HDIS","Halimeda discoidea","4020.55.1655","CHLOROPHYTA",null,null,"HALIMEDACEAE"]
[null,null,null,null,null,null,"CNAT","Colpophyllia natans",null,"HELI","Helioseris sp.","8.46.850","CNIDARIA"]
[null,null,null,null,null,null,"CODI","Codium sp.",null,"HFEE","Hippopodina feegeensis","40.18.10"]
[null,null,null,null,null,null,"COEN","Coenocyathus sp.",null,"HGOR","Halimeda goreaui","4020.55.2656"]
[null,null,null,null,null,null,"COLA","Colangia sp.",null,"HINC","Halimeda incrassata","4020.55.4658"]
[null,null,null,null,null,null,"COLP","Colpophyllia sp.",null,"HLAC","Halimeda lacrimosa","4020.55.21670"]
[null,null,null,null,null,null,"COND","Condylactis sp.",null,"HMON","Halimeda monile","4020.55.5659"]
[null,null,null,null,null,null,"CPAS","Caulerpa paspaloides",null,"HOPU","Halimeda opuntia","4020.55.7660"]
[null,null,null,null,null,null,"CPRO","Caulerpa prolifera",null,"HPEN","Hypnogorgia pendula","8.55.6660","CNIDARIA"]
[null,null,null,null,null,null,"CRAC","Caulerpa racemosa",null,"HSPO","Hydroides spongicola","54.55.3180"]
[null,null,null,null,null,null,"CRII","Carijoa riisei",null,"HTUN","Halimeda tuna","4020.55.9662"]
[null,null,null,null,null,null,"CSER","Caulerpa serrulata",null,"HUAT","Heterogorgia uatumani","8.55.6842","CNIDARIA"]
[null,null,null,null,null,null,"CSIM","Colangia simplex",null,"IBIR","Iotrochota birotulata","4.55.55","Porifera",null,null,"IOTROCHOTIDAE"]
[null,null,null,null,null,null,"CTAX","Caulerpa taxifolia",null,"ICIL","Iciligorgia sp.","8.46.60","CNIDARIA"]
[null,null,null,null,null,null,"CTRI","Calliactis tricolor",null,"IOBI","Iotrochota birotulata","4.55.55"]
[null,null,null,null,null,null,"CVER","Caulerpa verticillata",null,"IRCI","Ircinia sp.","4.46.475"]
[null,null,null,null,null,null,"DCAR","Discosoma carlgreni",null,"IRIG","Isophyllastrea rigida","8.55.3700","CNIDARIA"]
[null,null,null,null,null,null,"DCAV","Dictyosphaeria cavernosa",null,"ISCH","Iciligorgia schrammi","8.55.80","CNIDARIA"]
[null,null,null,null,null,null,"DCLI","Diploria clivosa",null,"ISIA","Isophyllia sp.","8.46.1110","CNIDARIA"]
[null,null,null,null,null,null,"DCYL","Dendrogyra cylindricus",null,"ISIN","Isophyllia sinuosa","8.55.3680","CNIDARIA"]
[null,null,null,null,null,null,"DDIC","Dictyota dichotoma",null,"ISOP","Isophyllastrea sp.","8.46.1120","CNIDARIA"]
[null,null,null,null,null,null,"DICH","Dichocoenia sp.",null,"ISTR","Ircinia strobilina","4.55.131"]
[null,null,null,null,null,null,"DICT","Dictyota sp.",null,"JADH","Jania adherens","4026.55.240"]
[null,null,null,null,null,null,"DIIA","Dictyosphaeria sp.",null,"JANI","Jania sp.","4026.46.330"]
[null,null,null,null,null,null,"DIIS","Dictyopteris sp.",null,"JRUB","Jania rubens","4026.55.260"]
[null,null,null,null,null,null,"DIPL","Diploria sp.",null,"LALB","Lophogorgia alba","8.55.6848","CNIDARIA"]
[null,null,null,null,null,null,"DISC","Discosoma sp.",null,"LCER","Liagora ceranoides","4026.55.540"]
[null,null,null,null,null,null,"LDAN","Lebrunia danae",null,"LCOR","Lebrunia coralligens","8.55.1600","CNIDARIA"]
[null,null,null,null,null,null,"LEBR","Lebrunia sp.",null,"LCUC","Leptoseris cucullata","8.55.2580","CNIDARIA"]
[null,null,null,null,null,null,"LEPT","Leptoseris sp.",null,"LDAN","Lebrunia danae","8.55.1620","CNIDARIA"]
[null,null,null,null,null,null,"LFAR","Liagora farinosa",null,"LEBR","Lebrunia sp.","8.46.580","CNIDARIA"]
[null,null,null,null,null,null,"LGIA","Lophogorgia sp.",null,"LEPT","Leptoseris sp.","8.46.840","CNIDARIA"]
[null,null,null,null,null,null,"LHEB","Lophogorgia hebes",null,"LFAR","Liagora farinosa","4026.55.530"]
[null,null,null,null,null,null,"LIAG","Liagora sp.",null,"LGIA","Lophogorgia sp.","8.46.360","CNIDARIA"]
[null,null,null,null,null,null,"LMIN","Lophogorgia miniata",null,"LHEB","Lophogorgia hebes","8.55.6844","CNIDARIA"]
[null,null,null,null,null,null,"LMUC","Liagora mucosa",null,"LIAG","Liagora sp.","4026.46.530"]
[null,null,null,null,null,null,"LOBO","Lobophora sp.",null,"LMIN","Lophogorgia miniata","8.55.860","CNIDARIA"]
[null,null,null,null,null,null,"LOPH","Lophogorgi sp.",null,"LMUC","Liagora mucosa","4026.55.3590"]
[null,null,null,null,null,null,"LPIN","Liagora pinnata",null,"LOBO","Lobophora sp.","4024.46.125"]
[null,null,null,null,null,null,"LVAR","Lobophora variegata",null,"LOPH","Lophogorgi sp.","8.46.360","CNIDARIA"]
[null,null,null,null,null,null,"LVIR","Lophogorgia virgulata",null,"LPIN","Liagora pinnata","4026.55.3595"]
[null,null,null,null,null,null,"MADR","Madracis sp.",null,"LVAR","Lobophora variegata","4024.55.295"]
[null,null,null,null,null,null,"MALC","Millepora alcicornis",null,"LVIR","Lophogorgia virgulata","8.55.6846","CNIDARIA"]
[null,null,null,null,null,null,"MALI","Mycetophyllia aliciae",null,"MADR","Madracis sp.","8.46.800","CNIDARIA"]
[null,null,null,null,null,null,"MANG","Mussa angulosa",null,"MALC","Millepora alcicornis","8.55.5600","CNIDARIA"]
[null,null,null,null,null,null,"MANI","Manicina sp.",null,"MALI","Mycetophyllia aliciae","8.55.3800","CNIDARIA"]
[null,null,null,null,null,null,"MANN","Montastraea annularis",null,"MANG","Mussa angulosa","8.55.3640","CNIDARIA"]
[null,null,null,null,null,null,"MARE","Manicina areolata",null,"MANI","Manicina sp.","8.46.940","CNIDARIA"]
[null,null,null,null,null,null,"MART","Martensia sp.",null,"MANN","Montastraea annularis","8.55.3120","CNIDARIA"]
[null,null,null,null,null,null,"MATL","Muricea atlantica",null,"MARE","Manicina areolata","8.55.2940","CNIDARIA"]
[null,null,null,null,null,null,"MCAV","Montastraea cavernosa",null,"MART","Martensia sp.","4026.46.1930"]
[null,null,null,null,null,null,"MCOM","Millepora complanata",null,"MATL","Muricea atlantica","8.55.740","CNIDARIA"]
[null,null,null,null,null,null,"MDAN","Mycetophyllia danaana",null,"MCAV","Montastraea cavernosa","8.55.3140","CNIDARIA"]
[null,null,null,null,null,null,"MDEC","Madracis decactis",null,"MCOM","Millepora complanata","8.55.5620","CNIDARIA"]
[null,null,null,null,null,null,"MEAN","Meandrina sp.",null,"MDAN","Mycetophyllia danaana","8.55.3820","CNIDARIA"]
[null,null,null,null,null,null,"MELO","Muricea elongata",null,"MDEC","Madracis decactis","8.55.2140","CNIDARIA"]
[null,null,null,null,null,null,"MFAV","Montastraea faveolata",null,"MEAN","Meandrina sp.","8.46.1060","CNIDARIA"]
[null,null,null,null,null,null,"MFER","Mycetophyllia ferox",null,"MELO","Muricea elongata","8.55.720","CNIDARIA"]
[null,null,null,null,null,null,"MFLA","Muriceopsis flavida",null,"MFAV","Montastraea faveolata","8.55.3160","CNIDARIA"]
[null,null,null,null,null,null,"MFOR","Madracis formosa",null,"MFER","Mycetophyllia ferox","8.55.3720","CNIDARIA"]
[null,null,null,null,null,null,"MFRA","Montastraea franksi",null,"MFLA","Muriceopsis flavida","8.55.560","CNIDARIA"]
[null,null,null,null,null,null,"MILL","Millepora sp.",null,"MFOR","Madracis formosa","8.55.2120","CNIDARIA"]
[null,null,null,null,null,null,"MJAK","Meandrina jacksoni",null,"MFRA","Montastraea franksi","8.55.3180","CNIDARIA"]
[null,null,null,null,null,null,"MLAM","Mycetophyllia lamarckiana",null,"MILL","Millepora sp.","8.46.1720","CNIDARIA"]
[null,null,null,null,null,null,"MMAY","Manicina mayori",null,"MJAK","Meandrina jacksoni","8.46.1060"]
[null,null,null,null,null,null,"MMEA","Meandrina meandrites",null,"MLAM","Mycetophyllia lamarckiana","8.55.3840","CNIDARIA"]
[null,null,null,null,null,null,"MMIR","Madracis mirabilis",null,"MMAY","Manicina mayori","8.55.6850","CNIDARIA"]
[null,null,null,null,null,null,"MMUR","Muricea muricata",null,"MMEA","Meandrina meandrites","8.55.3520","CNIDARIA"]
[null,null,null,null,null,null,"MONT","Montastraea sp.",null,"MMIR","Madracis mirabilis","8.55.2160","CNIDARIA"]
[null,null,null,null,null,null,"MPEN","Muricea pendula",null,"MMUR","Muricea muricata","8.55.800","CNIDARIA"]
[null,null,null,null,null,null,"MPET","Muriceopsis petila",null,"MONT","Montastraea sp.","8.46.960","CNIDARIA"]
[null,null,null,null,null,null,"MPHA","Madracis pharensis",null,"MPEN","Muricea pendula","8.55.780","CNIDARIA"]
[null,null,null,null,null,null,"MPIN","Muricea pinnata",null,"MPET","Muriceopsis petila","8.55.6852","CNIDARIA"]
[null,null,null,null,null,null,"MREE","Mycetophyllia reesi",null,"MPHA","Madracis pharensis","8.55.2180","CNIDARIA"]
[null,null,null,null,null,null,"MSEN","Madracis senaria",null,"MPIN","Muricea pinnata","8.55.700","CNIDARIA"]
[null,null,null,null,null,null,"MSIS","Muriceopsis sp.",null,"MREE","Mycetophyllia reesi","8.55.3860","CNIDARIA"]
[null,null,null,null,null,null,"MSQU","Millepora squarrosa",null,"MSEN","Madracis senaria","8.55.2220","CNIDARIA"]
[null,null,null,null,null,null,"MULA","Muricea laxa",null,"MSIS","Muriceopsis sp.","8.46.320","CNIDARIA"]
[null,null,null,null,null,null,"MURI","Muricea sp.",null,"MSQU","Millepora squarrosa","8.55.5640","CNIDARIA"]
[null,null,null,null,null,null,"MYCE","Mycetophyllia sp.",null,"MULA","Muricea laxa","8.55.760","CNIDARIA"]
[null,null,null,null,null,null,"NERE","Niphates erecta",null,"MURI","Muricea sp.","8.46.340","CNIDARIA"]
[null,null,null,null,null,null,"NGOR","Nicella goreaui",null,"MYCE","Mycetophyllia sp.","8.46.1130","CNIDARIA"]
[null,null,null,null,null,null,"NICE","Nicella sp.",null,"NERE","Niphates erecta","4.55.97"]
[null,null,null,null,null,null,"NIPH","Niphates sp.",null,"NGOR","Nicella goreaui","8.55.6854","CNIDARIA"]
[null,null,null,null,null,null,"NPOR","Neospongodes portoricensis",null,"NICE","Nicella sp.","8.46.440","CNIDARIA"]
[null,null,null,null,null,null,"NSCH","Nicella schmitti",null,"NIPH","Niphates sp.","4.46.220"]
[null,null,null,null,null,null,"NSPE","Neogoniolithon spectabile",null,"NPOR","Neospongodes portoricensis","8.55.6210","CNIDARIA"]
[null,null,null,null,null,null,"NSTR","Neogoniolithon strictum",null,"NSCH","Nicella schmitti","8.55.1200","CNIDARIA"]
[null,null,null,null,null,null,"OCUL","Oculina sp.",null,"NSPE","Neogoniolithon spectabile","4026.55.190"]
[null,null,null,null,null,null,"ODIF","Oculina diffusa",null,"NSTR","Neogoniolithon strictum","4026.55.3283"]
[null,null,null,null,null,null,"OROB","Oculina robusta",null,"OCUL","Oculina sp.","8.46.1040","CNIDARIA"]
[null,null,null,null,null,null,"OTEN","Oculina tenella",null,"ODIF","Oculina diffusa","8.55.3480","CNIDARIA"]
[null,null,null,null,null,null,"OVAL","Oculina valenciennesi",null,"OROB","Oculina robusta","8.55.6856","CNIDARIA"]
[null,null,null,null,null,null,"OVAR","Oculina varicosa",null,"OTEN","Oculina tenella","8.55.6568","CNIDARIA"]
[null,null,null,null,null,null,"PACE","Pseudopterogorgia acerosa",null,"OVAL","Oculina valenciennesi","8.55.6858","CNIDARIA"]
[null,null,null,null,null,null,"PADI","Padina sp.",null,"OVAR","Oculina varicosa","8.55.6570","CNIDARIA"]
[null,null,null,null,null,null,"PALY","Palythoa sp.",null,"PACE","Pseudopterogorgia acerosa","8.55.980","CNIDARIA"]
[null,null,null,null,null,null,"PAME","Phyllangia americana",null,"PADI","Padina sp.","4024.46.135"]
[null,null,null,null,null,null,"PANC","Pterogorgia anceps",null,"PALY","Palythoa sp.","8.46.570","CNIDARIA"]
[null,null,null,null,null,null,"PARA","Parazoanthus sp.",null,"PAME","Phyllangia americana","8.55.3260","CNIDARIA"]
[null,null,null,null,null,null,"PAST","Porites astreoides",null,"PANC","Pterogorgia anceps","8.55.1120","CNIDARIA"]
[null,null,null,null,null,null,"PAVO","Pavona sp.",null,"PARA","Parazoanthus sp.","8.46.530","CNIDARIA"]
[null,null,null,null,null,null,"PBOE","Padina boergesenii",null,"PAST","Porites astreoides","8.55.5960","CNIDARIA"]
[null,null,null,null,null,null,"PBRA","Porites branneri",null,"PAVO","Pavona sp.","8.46.860","CNIDARIA"]
[null,null,null,null,null,null,"PCAL","Porites californica",null,"PBOE","Padina boergesenii","4024.55.401"]
[null,null,null,null,null,null,"PCAP","Pocillopora capitata",null,"PBRA","Porites branneri","8.55.2780","CNIDARIA"]
[null,null,null,null,null,null,"PCAR","Palythoa caribaeorum",null,"PCAL","Porites californica","8.55.2820","CNIDARIA"]
[null,null,null,null,null,null,"PCHI","Pavona chirriquiensis",null,"PCAP","Pocillopora capitata","8.55.2300","CNIDARIA"]
[null,null,null,null,null,null,"PCIT","Pterogorgia citrina",null,"PCAR","Palythoa caribaeorum","8.55.1560","CNIDARIA"]
[null,null,null,null,null,null,"PCLA","Pavona clavus",null,"PCHI","Pavona chirriquiensis","8.55.6640","CNIDARIA"]
[null,null,null,null,null,null,"PCOL","Porites colonensis",null,"PCIT","Pterogorgia citrina","8.55.1140","CNIDARIA"]
[null,null,null,null,null,null,"PCOR","Phormidium corallyticum",null,"PCLA","Pavona clavus","8.55.2600","CNIDARIA"]
[null,null,null,null,null,null,"PCRU","Pseudoplexaura crucis",null,"PCOL","Porites colonensis","8.55.6582","CNIDARIA"]
[null,null,null,null,null,null,"PDAM","Pocillopora damicornis",null,"PCOR","Phormidium corallyticum","5040.55.40"]
[null,null,null,null,null,null,"PDIC","Plexaurella dichotoma",null,"PCRU","Pseudoplexaura crucis","8.55.6866","CNIDARIA"]
[null,null,null,null,null,null,"PDIV","Porites divaricata",null,"PDAM","Pocillopora damicornis","8.55.2260","CNIDARIA"]
[null,null,null,null,null,null,"PELE","Pocillopora elegans",null,"PDIC","Plexaurella dichotoma","8.55.640","CNIDARIA"]
[null,null,null,null,null,null,"PELI","Pseudopterogorgia elizabethae",null,"PDIV","Porites divaricata","8.55.6584","CNIDARIA"]
[null,null,null,null,null,null,"PENI","Penicillus sp.",null,"PEFF","Pocillopora effusa","8.55.763797 ","CNIDARIA","ANTHOZOA","Scleractinia","Pocilloporidae"]
[null,null,null,null,null,null,"PEYD","Pocillopora eydouxi",null,"PELE","Pocillopora elegans","8.55.2340","CNIDARIA"]
[null,null,null,null,null,null,"PEYS","Peyssonnelia sp.",null,"PELI","Pseudopterogorgia elizabethae","8.55.6722","CNIDARIA"]
[null,null,null,null,null,null,"PFLA","Pseudoplexaura flagellosa",null,"PENI","Penicillus sp.","4020.46.2663"]
[null,null,null,null,null,null,"PFLE","Plexaura flexuosa",null,"PEYD","Pocillopora eydouxi","8.55.2360","CNIDARIA"]
[null,null,null,null,null,null,"PFLO","Phacelocyathus flos",null,"PEYS","Peyssonnelia sp.","4026.46.830"]
[null,null,null,null,null,null,"PFRO","Pavona frondifera",null,"PFLA","Pseudoplexaura flagellosa","8.55.320","CNIDARIA"]
[null,null,null,null,null,null,"PFUR","Porites furcata",null,"PFLE","Plexaura flexuosa","8.55.180","CNIDARIA"]
[null,null,null,null,null,null,"PGIG","Pavona gigantea",null,"PFLO","Phacelocyathus flos","8.55.6460","CNIDARIA"]
[null,null,null,null,null,null,"PGRA","Palythoa grandis",null,"PFRO","Pavona frondifera","8.55.6862","CNIDARIA"]
[null,null,null,null,null,null,"PGRI","Plexaurella grisea",null,"PFUR","Porites furcata","8.55.6586","CNIDARIA"]
[null,null,null,null,null,null,"PGUA","Pterogorgia guadalupensis",null,"PGIG","Pavona gigantea","8.55.2620","CNIDARIA"]
[null,null,null,null,null,null,"PGYM","Padina gymnospora",null,"PGRA","Palythoa grandis","8.55.1580","CNIDARIA"]
[null,null,null,null,null,null,"PHCR","Phymanthus crucifer",null,"PGRI","Plexaurella grisea","8.55.680","CNIDARIA"]
[null,null,null,null,null,null,"PHFL","Phyllactis flosculifera",null,"PGUA","Pterogorgia guadalupensis","8.55.1100","CNIDARIA"]
[null,null,null,null,null,null,"PHOM","Plexaura homomalla",null,"PGYM","Padina gymnospora","4024.55.300"]
[null,null,null,null,null,null,"PJAM","Padina jamaicensis",null,"PHCR","Phymanthus crucifer","8.55.1780","CNIDARIA"]
[null,null,null,null,null,null,"PLEX","Plexaura sp.",null,"PHFL","Phyllactis flosculifera","8.55.6864","CNIDARIA"]
[null,null,null,null,null,null,"PLLA","Plexaurella sp.",null,"PHOM","Plexaura homomalla","8.55.200","CNIDARIA"]
[null,null,null,null,null,null,"PLOB","Porites lobata",null,"PJAM","Padina jamaicensis","4024.46.135"]
[null,null,null,null,null,null,"PMAL","Pavona maldiviensis",null,"PLEX","Plexaura sp.","8.46.280","CNIDARIA"]
[null,null,null,null,null,null,"PMAM","Palythoa mammillosa",null,"PLIG","Pocillopora ligulata","8.55.206959","CNIDARIA","ANTOZOA","Scleractinia"]
[null,null,null,null,null,null,"PMEA","Pocillopora meandrina",null,"PLLA","Plexaurella sp.","8.46.330","CNIDARIA"]
[null,null,null,null,null,null,"PNIN","Plexaura nina",null,"PLOB","Porites lobata","8.55.2790","CNIDARIA"]
[null,null,null,null,null,null,"PNUT","Plexaurella nutans",null,"PMAL","Pavona maldiviensis","8.55.2600","CNIDARIA"]
[null,null,null,null,null,null,"POCI","Pocillopora sp.",null,"PMAM","Palythoa mammillosa","8.55.1540","CNIDARIA"]
[null,null,null,null,null,null,"PORA","Psammocora sp.",null,"PMEA","Pocillopora meandrina","8.55.6814","CNIDARIA","ANTOZOA"]
[null,null,null,null,null,null,"PORI","Porites sp.",null,"PNIN","Plexaura nina","8.55.260","CNIDARIA"]
[null,null,null,null,null,null,"PORO","Porolithon sp.",null,"PNUT","Plexaurella nutans","8.55.620","CNIDARIA"]
[null,null,null,null,null,null,"PPAC","Porolithon pachydermum",null,"POCI","Pocillopora sp.","8.46.810","CNIDARIA"]
[null,null,null,null,null,null,"PPAN","Porites panamensis",null,"PORA","Psammocora sp.","8.46.790","CNIDARIA"]
[null,null,null,null,null,null,"PPAR","Parazoanthus parasiticus",null,"PORI","Porites sp.","8.46.910","CNIDARIA"]
[null,null,null,null,null,null,"PPOR","Porites porites",null,"PORO","Porolithon sp.","4026.46.2320"]
[null,null,null,null,null,null,"PPUE","Parazoanthus puertoricense",null,"PPAC","Porolithon pachydermum","4026.55.3285"]
[null,null,null,null,null,null,"PSAM","Pseudopterogorgia americana",null,"PPAN","Porites panamensis","8.55.2800","CNIDARIA"]
[null,null,null,null,null,null,"PSAN","Padina sanctae-crucis",null,"PPAR","Parazoanthus parasiticus","8.55.1420","CNIDARIA"]
[null,null,null,null,null,null,"PSCA","Pseudocorynactis caribbeorum",null,"PPOR","Porites porites","8.55.2760","CNIDARIA"]
[null,null,null,null,null,null,"PSEU","Pseudoceratina sp.",null,"PPUE","Parazoanthus puertoricense","8.55.1440","CNIDARIA"]
[null,null,null,null,null,null,"PSIA","Pseudopterogorgia sp.",null,"PSAM","Pseudopterogorgia americana","8.55.920","CNIDARIA"]
[null,null,null,null,null,null,"PSPO","Pseudoplexaura porosa",null,"PSAN","Padina sanctae-crucis","4024.55.315"]
[null,null,null,null,null,null,"PSRA","Pseudoplexaura sp.",null,"PSBI","Pseudopterogorgia bipinnata","8.55.960","CNIDARIA"]
[null,null,null,null,null,null,"PSTE","Psammocora stellata",null,"PSCA","Pseudocorynactis caribbeorum","8.55.4440","CNIDARIA"]
[null,null,null,null,null,null,"PSWI","Parazoanthus swiftii",null,"PSEU","Pseudoceratina sp.","4.46.310"]
[null,null,null,null,null,null,"PTER","Pterogorgia sp.",null,"PSIA","Pseudopterogorgia sp.","8.46.390","CNIDARIA"]
[null,null,null,null,null,null,"PVAR","Pavona varians",null,"PSPO","Pseudoplexaura porosa","8.55.280","CNIDARIA"]
[null,null,null,null,null,null,"PWAG","Pseudoplexaura wagenaari",null,"PSRA","Pseudoplexaura sp.","8.46.290","CNIDARIA"]
[null,null,null,null,null,null,"RFLO","Ricordia florida",null,"PSTE","Psammocora stellata","8.55.2000","CNIDARIA"]
[null,null,null,null,null,null,"RHIP","Rhipocephalus sp.",null,"PSWI","Parazoanthus swiftii","8.55.1380","CNIDARIA"]
[null,null,null,null,null,null,"RICO","Ricordia sp.",null,"PTER","Pterogorgia sp.","8.46.420","CNIDARIA"]
[null,null,null,null,null,null,"RMAC","Rhizosmilia maculata",null,"PTUN","Parazoanthus tunicans","8.55.6860","CNIDARIA"]
[null,null,null,null,null,null,"RSAN","Rhodactis sanctithomae",null,"PVAR","Pavona varians","8.55.2640","CNIDARIA"]
[null,null,null,null,null,null,"SARG","Sargassum sp.",null,"PVER","Pocillopora verrucosa","8.55.206954","CNIDARIA","ANTHOZOA","Scleractinia"]
[null,null,null,null,null,null,"SBOU","Solenastrea bournoni",null,"PWAG","Pseudoplexaura wagenaari","8.55.300","CNIDARIA"]
[null,null,null,null,null,null,"SCOL","Scolymia sp.",null,"RFLO","Ricordia florida","8.55.4500","CNIDARIA"]
[null,null,null,null,null,null,"SCUB","Scolymia cubensis",null,"RHIP","Rhipocephalus sp.","4020.46.5688"]
[null,null,null,null,null,null,"SEXS","Swiftia exserta",null,"RICO","Ricordia sp.","8.46.1350","CNIDARIA"]
[null,null,null,null,null,null,"SHEL","Stichodactyla helianthus",null,"RMAC","Rhizosmilia maculata","8.55.4180","CNIDARIA"]
[null,null,null,null,null,null,"SHYA","Solenastrea hyades",null,"RSAN","Rhodactis sanctithomae","8.55.4480","CNIDARIA"]
[null,null,null,null,null,null,"SIDE","Siderastrea sp.",null,"SARG","Sargassum sp.","4024.46.175"]
[null,null,null,null,null,null,"SINT","Stephanocoenia intersepta",null,"SBOU","Solenastrea bournoni","8.55.3240","CNIDARIA"]
[null,null,null,null,null,null,"SLAC","Scolymia lacera",null,"SCOL","Scolymia sp.","8.46.1090","CNIDARIA"]
[null,null,null,null,null,null,"SLUT","Stichopathes lutkeni",null,"SCUB","Scolymia cubensis","8.55.3600","CNIDARIA"]
[null,null,null,null,null,null,"SMIC","Stephanocoenia michelini",null,"SEXS","Swiftia exserta","8.55.6662","CNIDARIA"]
[null,null,null,null,null,null,"SOLE","Solenastrea sp.",null,"SHEL","Stichodactyla helianthus","8.40.650","CNIDARIA"]
[null,null,null,null,null,null,"SRAD","Siderastrea radians",null,"SHYA","Solenastrea hyades","8.55.3220","CNIDARIA"]
[null,null,null,null,null,null,"SROS","Stylaster roseus",null,"SIDE","Siderastrea sp.","8.46.900","CNIDARIA"]
[null,null,null,null,null,null,"SSID","Siderastrea siderea",null,"SINT","Stephanocoenia intersepta","8.55.1980","CNIDARIA"]
[null,null,null,null,null,null,"STCO","Stereotelesto corallina",null,"SLAC","Scolymia lacera","8.55.3620","CNIDARIA"]
[null,null,null,null,null,null,"STEP","Stephanocoenia sp.",null,"SLUT","Stichopathes lutkeni","8.55.1360","CNIDARIA"]
[null,null,null,null,null,null,"STHE","Stoichactis helianthus",null,"SMIC","Stephanocoenia michelini","8.55.1960","CNIDARIA"]
[null,null,null,null,null,null,"STIC","Stichodactyla sp.",null,"SOLE","Solenastrea sp.","8.46.980","CNIDARIA"]
[null,null,null,null,null,null,"STOI","Stoichactis sp.",null,"SRAD","Siderastrea radians","8.55.2740","CNIDARIA"]
[null,null,null,null,null,null,"STYL","Stylaster sp.",null,"SROS","Stylaster roseus","8.55.5900","CNIDARIA"]
[null,null,null,null,null,null,"SWEL","Scolymia wellsi",null,"SSID","Siderastrea siderea","8.55.2720","CNIDARIA"]
[null,null,null,null,null,null,"SWIF","Swiftia sp.",null,"STCO","Stereotelesto corallina","8.55.6870","CNIDARIA"]
[null,null,null,null,null,null,"SZON","Stypopodium zonale",null,"STEP","Stephanocoenia sp.","8.46.780","CNIDARIA"]
[null,null,null,null,null,null,"TAME","Telmatactis americana",null,"STHE","Stoichactis helianthus","8.55.1820","CNIDARIA"]
[null,null,null,null,null,null,"TAUR","Tubastraea aurea",null,"STIC","Stichodactyla sp.","8.40.650","CNIDARIA"]
[null,null,null,null,null,null,"TCOC","Tubastraea coccinea",null,"STOI","Stoichactis sp.","8.46.680","CNIDARIA"]
[null,null,null,null,null,null,"TELE","Telesto sp.",null,"STYL","Stylaster sp.","8.46.1750","CNIDARIA"]
[null,null,null,null,null,null,"TELM","Telmatactis sp.",null,"SWEL","Scolymia wellsi","8.55.6562","CNIDARIA"]
[null,null,null,null,null,null,"TFRU","Telesto fruticulosa",null,"SWIF","Swiftia sp.","8.46.250","CNIDARIA"]
[null,null,null,null,null,null,"TITA","Titanoderma sp.",null,"SZON","Stypopodium zonale","4024.55.330"]
[null,null,null,null,null,null,"TNIV","Thesea nivea",null,"TAME","Telmatactis americana","8.55.1860","CNIDARIA"]
[null,null,null,null,null,null,"TTRI","Turbinaria tricostata",null,"TAUR","Tubastraea aurea","8.55.4260","CNIDARIA"]
[null,null,null,null,null,null,"TTUR","Turbinaria turbinata",null,"TCOC","Tubastraea coccinea","8.55.4280","CNIDARIA"]
[null,null,null,null,null,null,"TUBA","Tubastraea sp.",null,"TELE","Telesto sp.","8.46.10","CNIDARIA"]
[null,null,null,null,null,null,"TURB","Turbinaria sp.",null,"TELM","Telmatactis sp.","8.46.700","CNIDARIA"]
[null,null,null,null,null,null,"UDOT","Udotea sp.",null,"TFRU","Telesto fruticulosa","8.55.6872","CNIDARIA"]
[null,null,null,null,null,null,"UHIS","Ulosa hispida",null,"TITA","Titanoderma sp.","4026.46.2325"]
[null,null,null,null,null,null,"VALO","Valonia sp.",null,"TNIV","Thesea nivea","8.55.6874","CNIDARIA"]
[null,null,null,null,null,null,"VENT","Ventricaria sp.",null,"TRSO","Trididemnum solidum","70.12.70","CHORDATA"]
[null,null,null,null,null,null,"VGLO","Viatrix globulifera",null,"TTRI","Turbinaria tricostata","4024.55.395"]
[null,null,null,null,null,null,"VIAT","Viatrix sp.",null,"TTUR","Turbinaria turbinata","4024.55.400"]
[null,null,null,null,null,null,"VMAC","Valonia macrophysa",null,"TUBA","Tubastraea sp.","8.46.1280","CNIDARIA"]
[null,null,null,null,null,null,"VVEN","Ventricaria ventricosa",null,"TURB","Turbinaria sp.","4024.46.185"]
[null,null,null,null,null,null,"WRAN","Wrangelia sp.",null,"UDOT","Udotea sp.","4020.46.6692"]
[null,null,null,null,null,null,"XMUT","Xestospongia muta",null,"UHIS","Ulosa hispida","4.55.247"]
[null,null,null,null,null,null,"ZOAN","Zoanthus sp.",null,"VALO","Valonia sp.","4020.46.2747"]
[null,null,null,null,null,null,"ZPUL","Zoanthus pulchellus",null,"VENT","Ventricaria sp.","4020.46.3745"]
[null,null,null,null,null,null,"ZSOC","Zoanthus sociatus",null,"VGLO","Viatrix globulifera","8.55.6391","CNIDARIA"]
[null,null,null,null,null,null,"APEN","Antipathes pennacea",null,"VIAT","Viatrix sp.","8.46.2062","CNIDARIA"]
[null,null,null,null,null,null,"BALA","Balanophyllia sp.",null,"VMAC","Valonia macrophysa","4020.55.756"]
[null,null,null,null,null,null,"PSBI","Pseudopterogorgia bipinnata",null,"VVEN","Ventricaria ventricosa","4020.55.754"]
[null,null,null,null,null,null,"PTUN","Parazoanthus tunicans",null,"WRAN","Wrangelia sp.","4026.46.1790"]
[null,null,null,null,null,null,"TRSO","Trididemnum solidum",null,"XMUT","Xestospongia muta","4.55.118"]
[null,null,null,null,null,null,"PEFF","Pocillopora effusa",null,"ZOAN","Zoanthus sp.","8.46.540","CNIDARIA"]
[null,null,null,null,null,null,"PVER","Pocillopora verrucosa",null,"ZPUL","Zoanthus pulchellus","8.55.1500","CNIDARIA"]
[null,null,null,null,null,null,"PLIG","Pocillopora ligulata",null,"ZSOC","Zoanthus sociatus","8.55.1480","CNIDARIA"]

{"sheet":"Otras referencias","index":5,"n_rows":1001,"n_cols":14,"rows_kept":1001,"cut":false,"hidden":false,"merged":[[0,0,2,10],[4,0,4,1],[4,5,4,6],[11,0,11,2],[4,3,4,4]]}
["Estas son listas para variables con valores que no se encuentran codificados, pero que deben manejarse de manera estandarizada. \nSi se requiere agregar un valor nuevo hagalo debajo de la lista correspondiente"]
[null,null,null,null,null,null,null,null,null,null,null,{"$f":"referentes!T2&referentes!U2","v":"ACU1"},{"$f":"referentes!S2","v":14311},{"$f":"referentes!W2","v":"Acuario 1"}]
[null,null,null,null,null,null,null,null,null,null,null,{"$f":"referentes!T3&referentes!U3","v":"ACU2"},{"$f":"referentes!S3","v":14312},{"$f":"referentes!W3","v":"Acuario 2"}]
[null,null,null,null,null,null,null,null,null,null,null,{"$f":"referentes!T4&referentes!U4","v":"AGU1"},{"$f":"referentes!S4","v":14338},{"$f":"referentes!W4","v":"Aguacate S"}]
["PROFUNDIDAD",null,null,"METODOS",null,"PROYECTOS",null,null,null,null,null,{"$f":"referentes!T5&referentes!U5","v":"AZU1"},{"$f":"referentes!S5","v":14341},{"$f":"referentes!W5","v":"Azufrada 1"}]
["Descripcion","Codigo",null,"NOMBRE_MT","CODIGO","TITULO","ID_PROYECTO",null,null,null,null,{"$f":"referentes!T6&referentes!U6","v":"AZU2"},{"$f":"referentes!S6","v":14342},{"$f":"referentes!W6","v":"Azufrada 2"}]
["Somero","S",null,"Manual de métodos de SIMAC: Cadena rotulada cada diez eslabones","Car","Sistema de Monitoreo de los Arrecifes Coralinos en Colombia",1480,null,null,null,null,{"$f":"referentes!T7&referentes!U7","v":"POR1"},{"$f":"referentes!S7","v":43726},{"$f":"referentes!W7","v":"Bahía Portete"}]
["Medio","M",null,null,null,"CORALINA 002-18",3422,null,null,null,null,{"$f":"referentes!T8&referentes!U8","v":"BGO1"},{"$f":"referentes!S8","v":55425},{"$f":"referentes!W8","v":"Bonito Gordo (PNN Tayrona)"}]
["Profundo","P",null,null,null,null,null,null,null,null,null,{"$f":"referentes!T9&referentes!U9","v":"CTI2"},{"$f":"referentes!S9","v":14333},{"$f":"referentes!W9","v":"Cabo Tiburón M"}]
[null,null,null,null,null,null,null,null,null,null,null,{"$f":"referentes!T10&referentes!U10","v":"CTI1"},{"$f":"referentes!S10","v":14334},{"$f":"referentes!W10","v":"Cabo Tiburón S"}]
[null,null,null,null,null,null,null,null,null,null,null,{"$f":"referentes!T11&referentes!U11","v":"CAP1"},{"$f":"referentes!S11","v":14336},{"$f":"referentes!W11","v":"Capurganá 1"}]
["CODIGOS LOV",null,null,null,null,null,null,null,null,null,null,{"$f":"referentes!T12&referentes!U12","v":"CAP2"},{"$f":"referentes!S12","v":14337},{"$f":"referentes!W12","v":"Capurganá 2"}]
["DESCRIPCIÓN","CÓDIGO","GRUPO",null,null,null,null,null,null,null,null,{"$f":"referentes!T13&referentes!U13","v":"CEY1"},{"$f":"referentes!S13","v":14331},{"$f":"referentes!W13","v":"Ceycen 1"}]
["Departamento",10,2,null,null,null,null,null,null,null,null,{"$f":"referentes!T14&referentes!U14","v":"CEY2"},{"$f":"referentes!S14","v":14308},{"$f":"referentes!W14","v":"Ceycen 2"}]
["Sector",20,2,null,null,null,null,null,null,null,null,{"$f":"referentes!T15&referentes!U15","v":"CEY3"},{"$f":"referentes!S15","v":41651},{"$f":"referentes!W15","v":"Ceycen 3"}]
["Punto",30,2,null,null,null,null,null,null,null,null,{"$f":"referentes!T16&referentes!U16","v":"CHE4"},{"$f":"referentes!S16","v":41705},{"$f":"referentes!W16","v":"Chengue Acropora"}]
["Parcela",35,2,null,null,null,null,null,null,null,null,{"$f":"referentes!T17&referentes!U17","v":"CHE3"},{"$f":"referentes!S17","v":15508},{"$f":"referentes!W17","v":"Chengue Pastos"}]
["Estaciones",40,2,null,null,null,null,null,null,null,null,{"$f":"referentes!T18&referentes!U18","v":"CHE1"},{"$f":"referentes!S18","v":14297},{"$f":"referentes!W18","v":"Chengue..C1"}]
["Region",50,2,null,null,null,null,null,null,null,null,{"$f":"referentes!T19&referentes!U19","v":"CHE2"},{"$f":"referentes!S19","v":14298},{"$f":"referentes!W19","v":"Chengue..C2"}]
["Unidad_de_Manejo",60,2,null,null,null,null,null,null,null,null,{"$f":"referentes!T20&referentes!U20","v":"CIN2"},{"$f":"referentes!S20","v":41704},{"$f":"referentes!W20","v":"Cinto expuesto"}]
["Unidad_Ambiental_Costera",70,2,null,null,null,null,null,null,null,null,{"$f":"referentes!T21&referentes!U21","v":"CIN1"},{"$f":"referentes!S21","v":41703},{"$f":"referentes!W21","v":"Cinto protegido"}]
["Localidad",80,2,null,null,null,null,null,null,null,null,{"$f":"referentes!T22&referentes!U22","v":"MAL1"},{"$f":"referentes!S22","v":14325},{"$f":"referentes!W22","v":"El Arrecife"}]
["Bloque_Exploracion",85,2,null,null,null,null,null,null,null,null,{"$f":"referentes!T23&referentes!U23","v":"CAN1"},{"$f":"referentes!S23","v":14315},{"$f":"referentes!W23","v":"El Canal 1"}]
["Area",90,2,null,null,null,null,null,null,null,null,{"$f":"referentes!T24&referentes!U24","v":"CAN2"},{"$f":"referentes!S24","v":14316},{"$f":"referentes!W24","v":"El Canal 2"}]
[null,null,null,null,null,null,null,null,null,null,null,{"$f":"referentes!T25&referentes!U25","v":"MRO1"},{"$f":"referentes!S25","v":14303},{"$f":"referentes!W25","v":"El Morro"}]
[null,null,null,null,null,null,null,null,null,null,null,{"$f":"referentes!T26&referentes!U26","v":"EMI1"},{"$f":"referentes!S26","v":14309},{"$f":"referentes!W26","v":"Emisario 1"}]
[null,null,null,null,null,null,null,null,null,null,null,{"$f":"referentes!T27&referentes!U27","v":"EMI2"},{"$f":"referentes!S27","v":14310},{"$f":"referentes!W27","v":"Emisario 2"}]
[null,null,null,null,null,null,null,null,null,null,null,{"$f":"referentes!T28&referentes!U28","v":"GAY1"},{"$f":"referentes!S28","v":14302},{"$f":"referentes!W28","v":"Gayraca 1"}]
[null,null,null,null,null,null,null,null,null,null,null,{"$f":"referentes!T29&referentes!U29","v":"GAY2"},{"$f":"referentes!S29","v":14323},{"$f":"referentes!W29","v":"Gayraca 2"}]
[null,null,null,null,null,null,null,null,null,null,null,{"$f":"referentes!T30&referentes!U30","v":"GRA1"},{"$f":"referentes!S30","v":14324},{"$f":"referentes!W30","v":"Granate 1"}]
[null,null,null,null,null,null,null,null,null,null,null,{"$f":"referentes!T31&referentes!U31","v":"IGU1"},{"$f":"referentes!S31","v":14339},{"$f":"referentes!W31","v":"Iguana"}]
[null,null,null,null,null,null,null,null,null,null,null,{"$f":"referentes!T32&referentes!U32","v":"ARE1"},{"$f":"referentes!S32","v":41546},{"$f":"referentes!W32","v":"Isla Arena"}]
[null,null,null,null,null,null,null,null,null,null,null,{"$f":"referentes!T33&referentes!U33","v":"IGR1"},{"$f":"referentes!S33","v":41545},{"$f":"referentes!W33","v":"Isla Grande"}]
[null,null,null,null,null,null,null,null,null,null,null,{"$f":"referentes!T34&referentes!U34","v":"JCA1"},{"$f":"referentes!S34","v":48967},{"$f":"referentes!W34","v":"Johnny Cay"}]
[null,null,null,null,null,null,null,null,null,null,null,{"$f":"referentes!T35&referentes!U35","v":"CHO1"},{"$f":"referentes!S35","v":14296},{"$f":"referentes!W35","v":"La Chola 1"}]
[null,null,null,null,null,null,null,null,null,null,null,{"$f":"referentes!T36&referentes!U36","v":"CHO2"},{"$f":"referentes!S36","v":14326},{"$f":"referentes!W36","v":"La Chola 2"}]
[null,null,null,null,null,null,null,null,null,null,null,{"$f":"referentes!T37&referentes!U37","v":"CHO3"},{"$f":"referentes!S37","v":14304},{"$f":"referentes!W37","v":"La Chola 3"}]
[null,null,null,null,null,null,null,null,null,null,null,{"$f":"referentes!T38&referentes!U38","v":"CHO4"},{"$f":"referentes!S38","v":14327},{"$f":"referentes!W38","v":"La Chola 4"}]
[null,null,null,null,null,null,null,null,null,null,null,{"$f":"referentes!T39&referentes!U39","v":"CHO5"},{"$f":"referentes!S39","v":14328},{"$f":"referentes!W39","v":"La Chola 5"}]
[null,null,null,null,null,null,null,null,null,null,null,{"$f":"referentes!T40&referentes!U40","v":"CHO6"},{"$f":"referentes!S40","v":14329},{"$f":"referentes!W40","v":"La Chola 6"}]
[null,null,null,null,null,null,null,null,null,null,null,{"$f":"referentes!T41&referentes!U41","v":"COC1"},{"$f":"referentes!S41","v":37122},{"$f":"referentes!W41","v":"La Coca"}]
[null,null,null,null,null,null,null,null,null,null,null,{"$f":"referentes!T42&referentes!U42","v":"MAL2"},{"$f":"referentes!S42","v":43098},{"$f":"referentes!W42","v":"La Nevera"}]
[null,null,null,null,null,null,null,null,null,null,null,{"$f":"referentes!T43&referentes!U43","v":"VEN4"},{"$f":"referentes!S43","v":41695},{"$f":"referentes!W43","v":"La Ventana Norte Externa -VEN 4"}]
[null,null,null,null,null,null,null,null,null,null,null,{"$f":"referentes!T44&referentes!U44","v":"VEN3"},{"$f":"referentes!S44","v":41694},{"$f":"referentes!W44","v":"La Ventana Norte Interna -VEN 3"}]
[null,null,null,null,null,null,null,null,null,null,null,{"$f":"referentes!T45&referentes!U45","v":"VEN1"},{"$f":"referentes!S45","v":41692},{"$f":"referentes!W45","v":"La Ventana Sur Externa -VEN 1"}]
[null,null,null,null,null,null,null,null,null,null,null,{"$f":"referentes!T46&referentes!U46","v":"VEN2"},{"$f":"referentes!S46","v":41693},{"$f":"referentes!W46","v":"La Ventana Sur Interna -VEN 2"}]
[null,null,null,null,null,null,null,null,null,null,null,{"$f":"referentes!T47&referentes!U47","v":"PAL1"},{"$f":"referentes!S47","v":41547},{"$f":"referentes!W47","v":"Las Palmas"}]
[null,null,null,null,null,null,null,null,null,null,null,{"$f":"referentes!T48&referentes!U48","v":"MAR1"},{"$f":"referentes!S48","v":41699},{"$f":"referentes!W48","v":"MARACAIBO"}]
[null,null,null,null,null,null,null,null,null,null,null,{"$f":"referentes!T49&referentes!U49","v":"MAN1"},{"$f":"referentes!S49","v":14305},{"$f":"referentes!W49","v":"Mangle 1"}]
[null,null,null,null,null,null,null,null,null,null,null,{"$f":"referentes!T50&referentes!U50","v":"MAN2"},{"$f":"referentes!S50","v":14307},{"$f":"referentes!W50","v":"Mangle 2"}]
[null,null,null,null,null,null,null,null,null,null,null,{"$f":"referentes!T51&referentes!U51","v":"MAZ1"},{"$f":"referentes!S51","v":14317},{"$f":"referentes!W51","v":"Manzanillo 1"}]
[null,null,null,null,null,null,null,null,null,null,null,{"$f":"referentes!T52&referentes!U52","v":"MAZ2"},{"$f":"referentes!S52","v":14318},{"$f":"referentes!W52","v":"Manzanillo 2"}]
[null,null,null,null,null,null,null,null,null,null,null,{"$f":"referentes!T53&referentes!U53","v":"MRC1"},{"$f":"referentes!S53","v":41698},{"$f":"referentes!W53","v":"Marcela's place"}]
[null,null,null,null,null,null,null,null,null,null,null,{"$f":"referentes!T54&referentes!U54","v":"MIN1"},{"$f":"referentes!S54","v":14306},{"$f":"referentes!W54","v":"Minalta"}]
[null,null,null,null,null,null,null,null,null,null,null,{"$f":"referentes!T55&referentes!U55","v":"4400147CORA1001"},{"$f":"referentes!S55","v":56790},{"$f":"referentes!W55","v":"Morro Acropora (MRAC)"}]
[null,null,null,null,null,null,null,null,null,null,null,{"$f":"referentes!T56&referentes!U56","v":"NCH1"},{"$f":"referentes!S56","v":42263},{"$f":"referentes!W56","v":"Narrow Channel"}]
[null,null,null,null,null,null,null,null,null,null,null,{"$f":"referentes!T57&referentes!U57","v":"NEG2"},{"$f":"referentes!S57","v":41702},{"$f":"referentes!W57","v":"Neguanje expuesto"}]
[null,null,null,null,null,null,null,null,null,null,null,{"$f":"referentes!T58&referentes!U58","v":"NEG1"},{"$f":"referentes!S58","v":41701},{"$f":"referentes!W58","v":"Neguanje protegido"}]
[null,null,null,null,null,null,null,null,null,null,null,{"$f":"referentes!T59&referentes!U59","v":"NET1"},{"$f":"referentes!S59","v":37120},{"$f":"referentes!W59","v":"No Entry"}]
[null,null,null,null,null,null,null,null,null,null,null,{"$f":"referentes!T60&referentes!U60","v":"NET2"},{"$f":"referentes!S60","v":52325},{"$f":"referentes!W60","v":"No Entry 2"}]
[null,null,null,null,null,null,null,null,null,null,null,{"$f":"referentes!T61&referentes!U61","v":"PAV1"},{"$f":"referentes!S61","v":14300},{"$f":"referentes!W61","v":"Pavitos"}]
[null,null,null,null,null,null,null,null,null,null,null,{"$f":"referentes!T62&referentes!U62","v":"PLA2"},{"$f":"referentes!S62","v":14295},{"$f":"referentes!W62","v":"Playa Blanca norte medio 2"}]
[null,null,null,null,null,null,null,null,null,null,null,{"$f":"referentes!T63&referentes!U63","v":"PLA3"},{"$f":"referentes!S63","v":41690},{"$f":"referentes!W63","v":"Playa Blanca norte somero 3"}]
[null,null,null,null,null,null,null,null,null,null,null,{"$f":"referentes!T64&referentes!U64","v":"PLA4"},{"$f":"referentes!S64","v":41691},{"$f":"referentes!W64","v":"Playa Blanca sur medio 4"}]
[null,null,null,null,null,null,null,null,null,null,null,{"$f":"referentes!T65&referentes!U65","v":"PLA1"},{"$f":"referentes!S65","v":14343},{"$f":"referentes!W65","v":"Playa Blanca sur somero 1"}]
[null,null,null,null,null,null,null,null,null,null,null,{"$f":"referentes!T66&referentes!U66","v":"PBLA1"},{"$f":"referentes!S66","v":52865},{"$f":"referentes!W66","v":"Playa Blanca-Barú (PNN Corales del Rosario y San Bernardo)"}]
[null,null,null,null,null,null,null,null,null,null,null,{"$f":"referentes!T67&referentes!U67","v":"PBR1"},{"$f":"referentes!S67","v":41548},{"$f":"referentes!W67","v":"Punta Brava"}]
[null,null,null,null,null,null,null,null,null,null,null,{"$f":"referentes!T68&referentes!U68","v":"SFE1"},{"$f":"referentes!S68","v":14321},{"$f":"referentes!W68","v":"San Felipe 1"}]
[null,null,null,null,null,null,null,null,null,null,null,{"$f":"referentes!T69&referentes!U69","v":"SFE2"},{"$f":"referentes!S69","v":14322},{"$f":"referentes!W69","v":"San Felipe 2"}]
[null,null,null,null,null,null,null,null,null,null,null,{"$f":"referentes!T70&referentes!U70","v":"TES1"},{"$f":"referentes!S70","v":14299},{"$f":"referentes!W70","v":"Tesoro 1"}]
[null,null,null,null,null,null,null,null,null,null,null,{"$f":"referentes!T71&referentes!U71","v":"TES2"},{"$f":"referentes!S71","v":41549},{"$f":"referentes!W71","v":"Tesoro Oriental"}]
[null,null,null,null,null,null,null,null,null,null,null,{"$f":"referentes!T72&referentes!U72","v":"BAR1"},{"$f":"referentes!S72","v":14319},{"$f":"referentes!W72","v":"The Bar 1"}]
[null,null,null,null,null,null,null,null,null,null,null,{"$f":"referentes!T73&referentes!U73","v":"BAR2"},{"$f":"referentes!S73","v":14320},{"$f":"referentes!W73","v":"The Bar 2"}]
[null,null,null,null,null,null,null,null,null,null,null,{"$f":"referentes!T74&referentes!U74","v":"TNT1"},{"$f":"referentes!S74","v":41697},{"$f":"referentes!W74","v":"Tintipan 1 Somero"}]
[null,null,null,null,null,null,null,null,null,null,null,{"$f":"referentes!T75&referentes!U75","v":"TNT2"},{"$f":"referentes!S75","v":41696},{"$f":"referentes!W75","v":"Tintipan 2 Medio"}]
[null,null,null,null,null,null,null,null,null,null,null,{"$f":"referentes!T76&referentes!U76","v":"TIO1"},{"$f":"referentes!S76","v":14332},{"$f":"referentes!W76","v":"Tiosolda"}]
[null,null,null,null,null,null,null,null,null,null,null,{"$f":"referentes!T77&referentes!U77","v":"VAR1"},{"$f":"referentes!S77","v":49084},{"$f":"referentes!W77","v":"Varadero 1"}]
[null,null,null,null,null,null,null,null,null,null,null,{"$f":"referentes!T78&referentes!U78","v":"VAR2"},{"$f":"referentes!S78","v":49085},{"$f":"referentes!W78","v":"Varadero 2"}]
[null,null,null,null,null,null,null,null,null,null,null,{"$f":"referentes!T79&referentes!U79","v":"VAR3"},{"$f":"referentes!S79","v":49086},{"$f":"referentes!W79","v":"Varadero 3"}]
[null,null,null,null,null,null,null,null,null,null,null,{"$f":"referentes!T80&referentes!U80","v":"WHI1"},{"$f":"referentes!S80","v":41700},{"$f":"referentes!W80","v":"White  Shoal"}]
[null,null,null,null,null,null,null,null,null,null,null,{"$f":"referentes!T81&referentes!U81","v":"WLF1"},{"$f":"referentes!S81","v":14340},{"$f":"referentes!W81","v":"Wild Life"}]
[null,null,null,null,null,null,null,null,null,null,null,{"$f":"referentes!T82&referentes!U82","v":"ZAP1"},{"$f":"referentes!S82","v":14335},{"$f":"referentes!W82","v":"Zapsurro M"}]
[null,null,null,null,null,null,null,null,null,null,null,{"$f":"referentes!T83&referentes!U83","v":""},{"$f":"referentes!S83","v":0},{"$f":"referentes!W83","v":0}]
[null,null,null,null,null,null,null,null,null,null,null,{"$f":"referentes!T84&referentes!U84","v":""},{"$f":"referentes!S84","v":0},{"$f":"referentes!W84","v":0}]
[null,null,null,null,null,null,null,null,null,null,null,{"$f":"referentes!T85&referentes!U85","v":""},{"$f":"referentes!S85","v":0},{"$f":"referentes!W85","v":0}]
[null,null,null,null,null,null,null,null,null,null,null,{"$f":"referentes!T86&referentes!U86","v":""},{"$f":"referentes!S86","v":0},{"$f":"referentes!W86","v":0}]
[null,null,null,null,null,null,null,null,null,null,null,{"$f":"referentes!T87&referentes!U87","v":""},{"$f":"referentes!S87","v":0},{"$f":"referentes!W87","v":0}]
[null,null,null,null,null,null,null,null,null,null,null,{"$f":"referentes!T88&referentes!U88","v":""},{"$f":"referentes!S88","v":0},{"$f":"referentes!W88","v":0}]
[null,null,null,null,null,null,null,null,null,null,null,{"$f":"referentes!T89&referentes!U89","v":""},{"$f":"referentes!S89","v":0},{"$f":"referentes!W89","v":0}]
[null,null,null,null,null,null,null,null,null,null,null,{"$f":"referentes!T90&referentes!U90","v":""},{"$f":"referentes!S90","v":0},{"$f":"referentes!W90","v":0}]
[null,null,null,null,null,null,null,null,null,null,null,{"$f":"referentes!T91&referentes!U91","v":""},{"$f":"referentes!S91","v":0},{"$f":"referentes!W91","v":0}]
[null,null,null,null,null,null,null,null,null,null,null,{"$f":"referentes!T92&referentes!U92","v":""},{"$f":"referentes!S92","v":0},{"$f":"referentes!W92","v":0}]
[null,null,null,null,null,null,null,null,null,null,null,{"$f":"referentes!T93&referentes!U93","v":""},{"$f":"referentes!S93","v":0},{"$f":"referentes!W93","v":0}]
[null,null,null,null,null,null,null,null,null,null,null,{"$f":"referentes!T94&referentes!U94","v":""},{"$f":"referentes!S94","v":0},{"$f":"referentes!W94","v":0}]
[null,null,null,null,null,null,null,null,null,null,null,{"$f":"referentes!T95&referentes!U95","v":""},{"$f":"referentes!S95","v":0},{"$f":"referentes!W95","v":0}]
[null,null,null,null,null,null,null,null,null,null,null,{"$f":"referentes!T96&referentes!U96","v":""},{"$f":"referentes!S96","v":0},{"$f":"referentes!W96","v":0}]
[null,null,null,null,null,null,null,null,null,null,null,{"$f":"referentes!T97&referentes!U97","v":""},{"$f":"referentes!S97","v":0},{"$f":"referentes!W97","v":0}]
[null,null,null,null,null,null,null,null,null,null,null,{"$f":"referentes!T98&referentes!U98","v":""},{"$f":"referentes!S98","v":0},{"$f":"referentes!W98","v":0}]
[null,null,null,null,null,null,null,null,null,null,null,{"$f":"referentes!T99&referentes!U99","v":""},{"$f":"referentes!S99","v":0},{"$f":"referentes!W99","v":0}]
[null,null,null,null,null,null,null,null,null,null,null,{"$f":"referentes!T100&referentes!U100","v":""},{"$f":"referentes!S100","v":0},{"$f":"referentes!W100","v":0}]
[null,null,null,null,null,null,null,null,null,null,null,{"$f":"referentes!T101&referentes!U101","v":""},{"$f":"referentes!S101","v":0},{"$f":"referentes!W101","v":0}]
[null,null,null,null,null,null,null,null,null,null,null,{"$f":"referentes!T102&referentes!U102","v":""},{"$f":"referentes!S102","v":0},{"$f":"referentes!W102","v":0}]
[null,null,null,null,null,null,null,null,null,null,null,{"$f":"referentes!T103&referentes!U103","v":""},{"$f":"referentes!S103","v":0},{"$f":"referentes!W103","v":0}]
[null,null,null,null,null,null,null,null,null,null,null,{"$f":"referentes!T104&referentes!U104","v":""},{"$f":"referentes!S104","v":0},{"$f":"referentes!W104","v":0}]
[null,null,null,null,null,null,null,null,null,null,null,{"$f":"referentes!T105&referentes!U105","v":""},{"$f":"referentes!S105","v":0},{"$f":"referentes!W105","v":0}]
[null,null,null,null,null,null,null,null,null,null,null,{"$f":"referentes!T106&referentes!U106","v":""},{"$f":"referentes!S106","v":0},{"$f":"referentes!W106","v":0}]
[null,null,null,null,null,null,null,null,null,null,null,{"$f":"referentes!T107&referentes!U107","v":""},{"$f":"referentes!S107","v":0},{"$f":"referentes!W107","v":0}]
[null,null,null,null,null,null,null,null,null,null,null,{"$f":"referentes!T108&referentes!U108","v":""},{"$f":"referentes!S108","v":0},{"$f":"referentes!W108","v":0}]
[null,null,null,null,null,null,null,null,null,null,null,{"$f":"referentes!T109&referentes!U109","v":""},{"$f":"referentes!S109","v":0},{"$f":"referentes!W109","v":0}]
[null,null,null,null,null,null,null,null,null,null,null,{"$f":"referentes!T110&referentes!U110","v":""},{"$f":"referentes!S110","v":0},{"$f":"referentes!W110","v":0}]
[null,null,null,null,null,null,null,null,null,null,null,{"$f":"referentes!T111&referentes!U111","v":""},{"$f":"referentes!S111","v":0},{"$f":"referentes!W111","v":0}]
[null,null,null,null,null,null,null,null,null,null,null,{"$f":"referentes!T112&referentes!U112","v":""},{"$f":"referentes!S112","v":0},{"$f":"referentes!W112","v":0}]
[null,null,null,null,null,null,null,null,null,null,null,{"$f":"referentes!T113&referentes!U113","v":""},{"$f":"referentes!S113","v":0},{"$f":"referentes!W113","v":0}]
[null,null,null,null,null,null,null,null,null,null,null,{"$f":"referentes!T114&referentes!U114","v":""},{"$f":"referentes!S114","v":0},{"$f":"referentes!W114","v":0}]
[null,null,null,null,null,null,null,null,null,null,null,{"$f":"referentes!T115&referentes!U115","v":""},{"$f":"referentes!S115","v":0},{"$f":"referentes!W115","v":0}]
[null,null,null,null,null,null,null,null,null,null,null,{"$f":"referentes!T116&referentes!U116","v":""},{"$f":"referentes!S116","v":0},{"$f":"referentes!W116","v":0}]
[null,null,null,null,null,null,null,null,null,null,null,{"$f":"referentes!T117&referentes!U117","v":""},{"$f":"referentes!S117","v":0},{"$f":"referentes!W117","v":0}]
[null,null,null,null,null,null,null,null,null,null,null,{"$f":"referentes!T118&referentes!U118","v":""},{"$f":"referentes!S118","v":0},{"$f":"referentes!W118","v":0}]
[null,null,null,null,null,null,null,null,null,null,null,{"$f":"referentes!T119&referentes!U119","v":""},{"$f":"referentes!S119","v":0},{"$f":"referentes!W119","v":0}]
[null,null,null,null,null,null,null,null,null,null,null,{"$f":"referentes!T120&referentes!U120","v":""},{"$f":"referentes!S120","v":0},{"$f":"referentes!W120","v":0}]
[null,null,null,null,null,null,null,null,null,null,null,{"$f":"referentes!T121&referentes!U121","v":""},{"$f":"referentes!S121","v":0},{"$f":"referentes!W121","v":0}]
[null,null,null,null,null,null,null,null,null,null,null,{"$f":"referentes!T122&referentes!U122","v":""},{"$f":"referentes!S122","v":0},{"$f":"referentes!W122","v":0}]
[null,null,null,null,null,null,null,null,null,null,null,{"$f":"referentes!T123&referentes!U123","v":""},{"$f":"referentes!S123","v":0},{"$f":"referentes!W123","v":0}]
[null,null,null,null,null,null,null,null,null,null,null,{"$f":"referentes!T124&referentes!U124","v":""},{"$f":"referentes!S124","v":0},{"$f":"referentes!W124","v":0}]
[null,null,null,null,null,null,null,null,null,null,null,{"$f":"referentes!T125&referentes!U125","v":""},{"$f":"referentes!S125","v":0},{"$f":"referentes!W125","v":0}]
[null,null,null,null,null,null,null,null,null,null,null,{"$f":"referentes!T126&referentes!U126","v":""},{"$f":"referentes!S126","v":0},{"$f":"referentes!W126","v":0}]
[null,null,null,null,null,null,null,null,null,null,null,{"$f":"referentes!T127&referentes!U127","v":""},{"$f":"referentes!S127","v":0},{"$f":"referentes!W127","v":0}]
[null,null,null,null,null,null,null,null,null,null,null,{"$f":"referentes!T128&referentes!U128","v":""},{"$f":"referentes!S128","v":0},{"$f":"referentes!W128","v":0}]
[null,null,null,null,null,null,null,null,null,null,null,{"$f":"referentes!T129&referentes!U129","v":""},{"$f":"referentes!S129","v":0},{"$f":"referentes!W129","v":0}]
[null,null,null,null,null,null,null,null,null,null,null,{"$f":"referentes!T130&referentes!U130","v":""},{"$f":"referentes!S130","v":0},{"$f":"referentes!W130","v":0}]
[null,null,null,null,null,null,null,null,null,null,null,{"$f":"referentes!T131&referentes!U131","v":""},{"$f":"referentes!S131","v":0},{"$f":"referentes!W131","v":0}]
[null,null,null,null,null,null,null,null,null,null,null,{"$f":"referentes!T132&referentes!U132","v":""},{"$f":"referentes!S132","v":0},{"$f":"referentes!W132","v":0}]
[null,null,null,null,null,null,null,null,null,null,null,{"$f":"referentes!T133&referentes!U133","v":""},{"$f":"referentes!S133","v":0},{"$f":"referentes!W133","v":0}]
[null,null,null,null,null,null,null,null,null,null,null,{"$f":"referentes!T134&referentes!U134","v":""},{"$f":"referentes!S134","v":0},{"$f":"referentes!W134","v":0}]
[null,null,null,null,null,null,null,null,null,null,null,{"$f":"referentes!T135&referentes!U135","v":""},{"$f":"referentes!S135","v":0},{"$f":"referentes!W135","v":0}]
[null,null,null,null,null,null,null,null,null,null,null,{"$f":"referentes!T136&referentes!U136","v":""},{"$f":"referentes!S136","v":0},{"$f":"referentes!W136","v":0}]
[null,null,null,null,null,null,null,null,null,null,null,{"$f":"referentes!T137&referentes!U137","v":""},{"$f":"referentes!S137","v":0},{"$f":"referentes!W137","v":0}]
[null,null,null,null,null,null,null,null,null,null,null,{"$f":"referentes!T138&referentes!U138","v":""},{"$f":"referentes!S138","v":0},{"$f":"referentes!W138","v":0}]
[null,null,null,null,null,null,null,null,null,null,null,{"$f":"referentes!T139&referentes!U139","v":""},{"$f":"referentes!S139","v":0},{"$f":"referentes!W139","v":0}]
[null,null,null,null,null,null,null,null,null,null,null,{"$f":"referentes!T140&referentes!U140","v":""},{"$f":"referentes!S140","v":0},{"$f":"referentes!W140","v":0}]
[null,null,null,null,null,null,null,null,null,null,null,{"$f":"referentes!T141&referentes!U141","v":""},{"$f":"referentes!S141","v":0},{"$f":"referentes!W141","v":0}]
[null,null,null,null,null,null,null,null,null,null,null,{"$f":"referentes!T142&referentes!U142","v":""},{"$f":"referentes!S142","v":0},{"$f":"referentes!W142","v":0}]
[null,null,null,null,null,null,null,null,null,null,null,{"$f":"referentes!T143&referentes!U143","v":""},{"$f":"referentes!S143","v":0},{"$f":"referentes!W143","v":0}]
[null,null,null,null,null,null,null,null,null,null,null,{"$f":"referentes!T144&referentes!U144","v":""},{"$f":"referentes!S144","v":0},{"$f":"referentes!W144","v":0}]
[null,null,null,null,null,null,null,null,null,null,null,{"$f":"referentes!T145&referentes!U145","v":""},{"$f":"referentes!S145","v":0},{"$f":"referentes!W145","v":0}]
[null,null,null,null,null,null,null,null,null,null,null,{"$f":"referentes!T146&referentes!U146","v":""},{"$f":"referentes!S146","v":0},{"$f":"referentes!W146","v":0}]
[null,null,null,null,null,null,null,null,null,null,null,{"$f":"referentes!T147&referentes!U147","v":""},{"$f":"referentes!S147","v":0},{"$f":"referentes!W147","v":0}]
[null,null,null,null,null,null,null,null,null,null,null,{"$f":"referentes!T148&referentes!U148","v":""},{"$f":"referentes!S148","v":0},{"$f":"referentes!W148","v":0}]
[null,null,null,null,null,null,null,null,null,null,null,{"$f":"referentes!T149&referentes!U149","v":""},{"$f":"referentes!S149","v":0},{"$f":"referentes!W149","v":0}]
[null,null,null,null,null,null,null,null,null,null,null,{"$f":"referentes!T150&referentes!U150","v":""},{"$f":"referentes!S150","v":0},{"$f":"referentes!W150","v":0}]
[null,null,null,null,null,null,null,null,null,null,null,{"$f":"referentes!T151&referentes!U151","v":""},{"$f":"referentes!S151","v":0},{"$f":"referentes!W151","v":0}]
[null,null,null,null,null,null,null,null,null,null,null,{"$f":"referentes!T152&referentes!U152","v":""},{"$f":"referentes!S152","v":0},{"$f":"referentes!W152","v":0}]
[null,null,null,null,null,null,null,null,null,null,null,{"$f":"referentes!T153&referentes!U153","v":""},{"$f":"referentes!S153","v":0},{"$f":"referentes!W153","v":0}]
[null,null,null,null,null,null,null,null,null,null,null,{"$f":"referentes!T154&referentes!U154","v":""},{"$f":"referentes!S154","v":0},{"$f":"referentes!W154","v":0}]
[null,null,null,null,null,null,null,null,null,null,null,{"$f":"referentes!T155&referentes!U155","v":""},{"$f":"referentes!S155","v":0},{"$f":"referentes!W155","v":0}]
[null,null,null,null,null,null,null,null,null,null,null,{"$f":"referentes!T156&referentes!U156","v":""},{"$f":"referentes!S156","v":0},{"$f":"referentes!W156","v":0}]
[null,null,null,null,null,null,null,null,null,null,null,{"$f":"referentes!T157&referentes!U157","v":""},{"$f":"referentes!S157","v":0},{"$f":"referentes!W157","v":0}]
[null,null,null,null,null,null,null,null,null,null,null,{"$f":"referentes!T158&referentes!U158","v":""},{"$f":"referentes!S158","v":0},{"$f":"referentes!W158","v":0}]
[null,null,null,null,null,null,null,null,null,null,null,{"$f":"referentes!T159&referentes!U159","v":""},{"$f":"referentes!S159","v":0},{"$f":"referentes!W159","v":0}]
[null,null,null,null,null,null,null,null,null,null,null,{"$f":"referentes!T160&referentes!U160","v":""},{"$f":"referentes!S160","v":0},{"$f":"referentes!W160","v":0}]
[null,null,null,null,null,null,null,null,null,null,null,{"$f":"referentes!T161&referentes!U161","v":""},{"$f":"referentes!S161","v":0},{"$f":"referentes!W161","v":0}]
[null,null,null,null,null,null,null,null,null,null,null,{"$f":"referentes!T162&referentes!U162","v":""},{"$f":"referentes!S162","v":0},{"$f":"referentes!W162","v":0}]
[null,null,null,null,null,null,null,null,null,null,null,{"$f":"referentes!T163&referentes!U163","v":""},{"$f":"referentes!S163","v":0},{"$f":"referentes!W163","v":0}]
[null,null,null,null,null,null,null,null,null,null,null,{"$f":"referentes!T164&referentes!U164","v":""},{"$f":"referentes!S164","v":0},{"$f":"referentes!W164","v":0}]
[null,null,null,null,null,null,null,null,null,null,null,{"$f":"referentes!T165&referentes!U165","v":""},{"$f":"referentes!S165","v":0},{"$f":"referentes!W165","v":0}]
[null,null,null,null,null,null,null,null,null,null,null,{"$f":"referentes!T166&referentes!U166","v":""},{"$f":"referentes!S166","v":0},{"$f":"referentes!W166","v":0}]
[null,null,null,null,null,null,null,null,null,null,null,{"$f":"referentes!T167&referentes!U167","v":""},{"$f":"referentes!S167","v":0},{"$f":"referentes!W167","v":0}]
[null,null,null,null,null,null,null,null,null,null,null,{"$f":"referentes!T168&referentes!U168","v":""},{"$f":"referentes!S168","v":0},{"$f":"referentes!W168","v":0}]
[null,null,null,null,null,null,null,null,null,null,null,{"$f":"referentes!T169&referentes!U169","v":""},{"$f":"referentes!S169","v":0},{"$f":"referentes!W169","v":0}]
[null,null,null,null,null,null,null,null,null,null,null,{"$f":"referentes!T170&referentes!U170","v":""},{"$f":"referentes!S170","v":0},{"$f":"referentes!W170","v":0}]
[null,null,null,null,null,null,null,null,null,null,null,{"$f":"referentes!T171&referentes!U171","v":""},{"$f":"referentes!S171","v":0},{"$f":"referentes!W171","v":0}]
[null,null,null,null,null,null,null,null,null,null,null,{"$f":"referentes!T172&referentes!U172","v":""},{"$f":"referentes!S172","v":0},{"$f":"referentes!W172","v":0}]
[null,null,null,null,null,null,null,null,null,null,null,{"$f":"referentes!T173&referentes!U173","v":""},{"$f":"referentes!S173","v":0},{"$f":"referentes!W173","v":0}]
[null,null,null,null,null,null,null,null,null,null,null,{"$f":"referentes!T174&referentes!U174","v":""},{"$f":"referentes!S174","v":0},{"$f":"referentes!W174","v":0}]
[null,null,null,null,null,null,null,null,null,null,null,{"$f":"referentes!T175&referentes!U175","v":""},{"$f":"referentes!S175","v":0},{"$f":"referentes!W175","v":0}]
[null,null,null,null,null,null,null,null,null,null,null,{"$f":"referentes!T176&referentes!U176","v":""},{"$f":"referentes!S176","v":0},{"$f":"referentes!W176","v":0}]
[null,null,null,null,null,null,null,null,null,null,null,{"$f":"referentes!T177&referentes!U177","v":""},{"$f":"referentes!S177","v":0},{"$f":"referentes!W177","v":0}]
[null,null,null,null,null,null,null,null,null,null,null,{"$f":"referentes!T178&referentes!U178","v":""},{"$f":"referentes!S178","v":0},{"$f":"referentes!W178","v":0}]
[null,null,null,null,null,null,null,null,null,null,null,{"$f":"referentes!T179&referentes!U179","v":""},{"$f":"referentes!S179","v":0},{"$f":"referentes!W179","v":0}]
[null,null,null,null,null,null,null,null,null,null,null,{"$f":"referentes!T180&referentes!U180","v":""},{"$f":"referentes!S180","v":0},{"$f":"referentes!W180","v":0}]
[null,null,null,null,null,null,null,null,null,null,null,{"$f":"referentes!T181&referentes!U181","v":""},{"$f":"referentes!S181","v":0},{"$f":"referentes!W181","v":0}]
[null,null,null,null,null,null,null,null,null,null,null,{"$f":"referentes!T182&referentes!U182","v":""},{"$f":"referentes!S182","v":0},{"$f":"referentes!W182","v":0}]
[null,null,null,null,null,null,null,null,null,null,null,{"$f":"referentes!T183&referentes!U183","v":""},{"$f":"referentes!S183","v":0},{"$f":"referentes!W183","v":0}]
[null,null,null,null,null,null,null,null,null,null,null,{"$f":"referentes!T184&referentes!U184","v":""},{"$f":"referentes!S184","v":0},{"$f":"referentes!W184","v":0}]
[null,null,null,null,null,null,null,null,null,null,null,{"$f":"referentes!T185&referentes!U185","v":""},{"$f":"referentes!S185","v":0},{"$f":"referentes!W185","v":0}]
[null,null,null,null,null,null,null,null,null,null,null,{"$f":"referentes!T186&referentes!U186","v":""},{"$f":"referentes!S186","v":0},{"$f":"referentes!W186","v":0}]
[null,null,null,null,null,null,null,null,null,null,null,{"$f":"referentes!T187&referentes!U187","v":""},{"$f":"referentes!S187","v":0},{"$f":"referentes!W187","v":0}]
[null,null,null,null,null,null,null,null,null,null,null,{"$f":"referentes!T188&referentes!U188","v":""},{"$f":"referentes!S188","v":0},{"$f":"referentes!W188","v":0}]
[null,null,null,null,null,null,null,null,null,null,null,{"$f":"referentes!T189&referentes!U189","v":""},{"$f":"referentes!S189","v":0},{"$f":"referentes!W189","v":0}]
[null,null,null,null,null,null,null,null,null,null,null,{"$f":"referentes!T190&referentes!U190","v":""},{"$f":"referentes!S190","v":0},{"$f":"referentes!W190","v":0}]
[null,null,null,null,null,null,null,null,null,null,null,{"$f":"referentes!T191&referentes!U191","v":""},{"$f":"referentes!S191","v":0},{"$f":"referentes!W191","v":0}]
[null,null,null,null,null,null,null,null,null,null,null,{"$f":"referentes!T192&referentes!U192","v":""},{"$f":"referentes!S192","v":0},{"$f":"referentes!W192","v":0}]
[null,null,null,null,null,null,null,null,null,null,null,{"$f":"referentes!T193&referentes!U193","v":""},{"$f":"referentes!S193","v":0},{"$f":"referentes!W193","v":0}]
[null,null,null,null,null,null,null,null,null,null,null,{"$f":"referentes!T194&referentes!U194","v":""},{"$f":"referentes!S194","v":0},{"$f":"referentes!W194","v":0}]
[null,null,null,null,null,null,null,null,null,null,null,{"$f":"referentes!T195&referentes!U195","v":""},{"$f":"referentes!S195","v":0},{"$f":"referentes!W195","v":0}]
[null,null,null,null,null,null,null,null,null,null,null,{"$f":"referentes!T196&referentes!U196","v":""},{"$f":"referentes!S196","v":0},{"$f":"referentes!W196","v":0}]
[null,null,null,null,null,null,null,null,null,null,null,{"$f":"referentes!T197&referentes!U197","v":""},{"$f":"referentes!S197","v":0},{"$f":"referentes!W197","v":0}]
[null,null,null,null,null,null,null,null,null,null,null,{"$f":"referentes!T198&referentes!U198","v":""},{"$f":"referentes!S198","v":0},{"$f":"referentes!W198","v":0}]
[null,null,null,null,null,null,null,null,null,null,null,{"$f":"referentes!T199&referentes!U199","v":""},{"$f":"referentes!S199","v":0},{"$f":"referentes!W199","v":0}]
[null,null,null,null,null,null,null,null,null,null,null,{"$f":"referentes!T200&referentes!U200","v":""},{"$f":"referentes!S200","v":0},{"$f":"referentes!W200","v":0}]
[null,null,null,null,null,null,null,null,null,null,null,{"$f":"referentes!T201&referentes!U201","v":""},{"$f":"referentes!S201","v":0},{"$f":"referentes!W201","v":0}]
[null,null,null,null,null,null,null,null,null,null,null,{"$f":"referentes!T202&referentes!U202","v":""},{"$f":"referentes!S202","v":0},{"$f":"referentes!W202","v":0}]
[null,null,null,null,null,null,null,null,null,null,null,{"$f":"referentes!T203&referentes!U203","v":""},{"$f":"referentes!S203","v":0},{"$f":"referentes!W203","v":0}]
[null,null,null,null,null,null,null,null,null,null,null,{"$f":"referentes!T204&referentes!U204","v":""},{"$f":"referentes!S204","v":0},{"$f":"referentes!W204","v":0}]
[null,null,null,null,null,null,null,null,null,null,null,{"$f":"referentes!T205&referentes!U205","v":""},{"$f":"referentes!S205","v":0},{"$f":"referentes!W205","v":0}]
[null,null,null,null,null,null,null,null,null,null,null,{"$f":"referentes!T206&referentes!U206","v":""},{"$f":"referentes!S206","v":0},{"$f":"referentes!W206","v":0}]
[null,null,null,null,null,null,null,null,null,null,null,{"$f":"referentes!T207&referentes!U207","v":""},{"$f":"referentes!S207","v":0},{"$f":"referentes!W207","v":0}]
[null,null,null,null,null,null,null,null,null,null,null,{"$f":"referentes!T208&referentes!U208","v":""},{"$f":"referentes!S208","v":0},{"$f":"referentes!W208","v":0}]
[null,null,null,null,null,null,null,null,null,null,null,{"$f":"referentes!T209&referentes!U209","v":""},{"$f":"referentes!S209","v":0},{"$f":"referentes!W209","v":0}]
[null,null,null,null,null,null,null,null,null,null,null,{"$f":"referentes!T210&referentes!U210","v":""},{"$f":"referentes!S210","v":0},{"$f":"referentes!W210","v":0}]
[null,null,null,null,null,null,null,null,null,null,null,{"$f":"referentes!T211&referentes!U211","v":""},{"$f":"referentes!S211","v":0},{"$f":"referentes!W211","v":0}]
[null,null,null,null,null,null,null,null,null,null,null,{"$f":"referentes!T212&referentes!U212","v":""},{"$f":"referentes!S212","v":0},{"$f":"referentes!W212","v":0}]
[null,null,null,null,null,null,null,null,null,null,null,{"$f":"referentes!T213&referentes!U213","v":""},{"$f":"referentes!S213","v":0},{"$f":"referentes!W213","v":0}]
[null,null,null,null,null,null,null,null,null,null,null,{"$f":"referentes!T214&referentes!U214","v":""},{"$f":"referentes!S214","v":0},{"$f":"referentes!W214","v":0}]
[null,null,null,null,null,null,null,null,null,null,null,{"$f":"referentes!T215&referentes!U215","v":""},{"$f":"referentes!S215","v":0},{"$f":"referentes!W215","v":0}]
[null,null,null,null,null,null,null,null,null,null,null,{"$f":"referentes!T216&referentes!U216","v":""},{"$f":"referentes!S216","v":0},{"$f":"referentes!W216","v":0}]
[null,null,null,null,null,null,null,null,null,null,null,{"$f":"referentes!T217&referentes!U217","v":""},{"$f":"referentes!S217","v":0},{"$f":"referentes!W217","v":0}]
[null,null,null,null,null,null,null,null,null,null,null,{"$f":"referentes!T218&referentes!U218","v":""},{"$f":"referentes!S218","v":0},{"$f":"referentes!W218","v":0}]
[null,null,null,null,null,null,null,null,null,null,null,{"$f":"referentes!T219&referentes!U219","v":""},{"$f":"referentes!S219","v":0},{"$f":"referentes!W219","v":0}]
[null,null,null,null,null,null,null,null,null,null,null,{"$f":"referentes!T220&referentes!U220","v":""},{"$f":"referentes!S220","v":0},{"$f":"referentes!W220","v":0}]
[null,null,null,null,null,null,null,null,null,null,null,{"$f":"referentes!T221&referentes!U221","v":""},{"$f":"referentes!S221","v":0},{"$f":"referentes!W221","v":0}]
[null,null,null,null,null,null,null,null,null,null,null,{"$f":"referentes!T222&referentes!U222","v":""},{"$f":"referentes!S222","v":0},{"$f":"referentes!W222","v":0}]
[null,null,null,null,null,null,null,null,null,null,null,{"$f":"referentes!T223&referentes!U223","v":""},{"$f":"referentes!S223","v":0},{"$f":"referentes!W223","v":0}]
[null,null,null,null,null,null,null,null,null,null,null,{"$f":"referentes!T224&referentes!U224","v":""},{"$f":"referentes!S224","v":0},{"$f":"referentes!W224","v":0}]
[null,null,null,null,null,null,null,null,null,null,null,{"$f":"referentes!T225&referentes!U225","v":""},{"$f":"referentes!S225","v":0},{"$f":"referentes!W225","v":0}]
[null,null,null,null,null,null,null,null,null,null,null,{"$f":"referentes!T226&referentes!U226","v":""},{"$f":"referentes!S226","v":0},{"$f":"referentes!W226","v":0}]
[null,null,null,null,null,null,null,null,null,null,null,{"$f":"referentes!T227&referentes!U227","v":""},{"$f":"referentes!S227","v":0},{"$f":"referentes!W227","v":0}]
[null,null,null,null,null,null,null,null,null,null,null,{"$f":"referentes!T228&referentes!U228","v":""},{"$f":"referentes!S228","v":0},{"$f":"referentes!W228","v":0}]
[null,null,null,null,null,null,null,null,null,null,null,{"$f":"referentes!T229&referentes!U229","v":""},{"$f":"referentes!S229","v":0},{"$f":"referentes!W229","v":0}]
[null,null,null,null,null,null,null,null,null,null,null,{"$f":"referentes!T230&referentes!U230","v":""},{"$f":"referentes!S230","v":0},{"$f":"referentes!W230","v":0}]
[null,null,null,null,null,null,null,null,null,null,null,{"$f":"referentes!T231&referentes!U231","v":""},{"$f":"referentes!S231","v":0},{"$f":"referentes!W231","v":0}]
[null,null,null,null,null,null,null,null,null,null,null,{"$f":"referentes!T232&referentes!U232","v":""},{"$f":"referentes!S232","v":0},{"$f":"referentes!W232","v":0}]
[null,null,null,null,null,null,null,null,null,null,null,{"$f":"referentes!T233&referentes!U233","v":""},{"$f":"referentes!S233","v":0},{"$f":"referentes!W233","v":0}]
[null,null,null,null,null,null,null,null,null,null,null,{"$f":"referentes!T234&referentes!U234","v":""},{"$f":"referentes!S234","v":0},{"$f":"referentes!W234","v":0}]
[null,null,null,null,null,null,null,null,null,null,null,{"$f":"referentes!T235&referentes!U235","v":""},{"$f":"referentes!S235","v":0},{"$f":"referentes!W235","v":0}]
[null,null,null,null,null,null,null,null,null,null,null,{"$f":"referentes!T236&referentes!U236","v":""},{"$f":"referentes!S236","v":0},{"$f":"referentes!W236","v":0}]
[null,null,null,null,null,null,null,null,null,null,null,{"$f":"referentes!T237&referentes!U237","v":""},{"$f":"referentes!S237","v":0},{"$f":"referentes!W237","v":0}]
[null,null,null,null,null,null,null,null,null,null,null,{"$f":"referentes!T238&referentes!U238","v":""},{"$f":"referentes!S238","v":0},{"$f":"referentes!W238","v":0}]
[null,null,null,null,null,null,null,null,null,null,null,{"$f":"referentes!T239&referentes!U239","v":""},{"$f":"referentes!S239","v":0},{"$f":"referentes!W239","v":0}]
[null,null,null,null,null,null,null,null,null,null,null,{"$f":"referentes!T240&referentes!U240","v":""},{"$f":"referentes!S240","v":0},{"$f":"referentes!W240","v":0}]
[null,null,null,null,null,null,null,null,null,null,null,{"$f":"referentes!T241&referentes!U241","v":""},{"$f":"referentes!S241","v":0},{"$f":"referentes!W241","v":0}]
[null,null,null,null,null,null,null,null,null,null,null,{"$f":"referentes!T242&referentes!U242","v":""},{"$f":"referentes!S242","v":0},{"$f":"referentes!W242","v":0}]
[null,null,null,null,null,null,null,null,null,null,null,{"$f":"referentes!T243&referentes!U243","v":""},{"$f":"referentes!S243","v":0},{"$f":"referentes!W243","v":0}]
[null,null,null,null,null,null,null,null,null,null,null,{"$f":"referentes!T244&referentes!U244","v":""},{"$f":"referentes!S244","v":0},{"$f":"referentes!W244","v":0}]
[null,null,null,null,null,null,null,null,null,null,null,{"$f":"referentes!T245&referentes!U245","v":""},{"$f":"referentes!S245","v":0},{"$f":"referentes!W245","v":0}]
[null,null,null,null,null,null,null,null,null,null,null,{"$f":"referentes!T246&referentes!U246","v":""},{"$f":"referentes!S246","v":0},{"$f":"referentes!W246","v":0}]
[null,null,null,null,null,null,null,null,null,null,null,{"$f":"referentes!T247&referentes!U247","v":""},{"$f":"referentes!S247","v":0},{"$f":"referentes!W247","v":0}]
[null,null,null,null,null,null,null,null,null,null,null,{"$f":"referentes!T248&referentes!U248","v":""},{"$f":"referentes!S248","v":0},{"$f":"referentes!W248","v":0}]
[null,null,null,null,null,null,null,null,null,null,null,{"$f":"referentes!T249&referentes!U249","v":""},{"$f":"referentes!S249","v":0},{"$f":"referentes!W249","v":0}]
[null,null,null,null,null,null,null,null,null,null,null,{"$f":"referentes!T250&referentes!U250","v":""},{"$f":"referentes!S250","v":0},{"$f":"referentes!W250","v":0}]
[null,null,null,null,null,null,null,null,null,null,null,{"$f":"referentes!T251&referentes!U251","v":""},{"$f":"referentes!S251","v":0},{"$f":"referentes!W251","v":0}]
[null,null,null,null,null,null,null,null,null,null,null,{"$f":"referentes!T252&referentes!U252","v":""},{"$f":"referentes!S252","v":0},{"$f":"referentes!W252","v":0}]
[null,null,null,null,null,null,null,null,null,null,null,{"$f":"referentes!T253&referentes!U253","v":""},{"$f":"referentes!S253","v":0},{"$f":"referentes!W253","v":0}]
[null,null,null,null,null,null,null,null,null,null,null,{"$f":"referentes!T254&referentes!U254","v":""},{"$f":"referentes!S254","v":0},{"$f":"referentes!W254","v":0}]
[null,null,null,null,null,null,null,null,null,null,null,{"$f":"referentes!T255&referentes!U255","v":""},{"$f":"referentes!S255","v":0},{"$f":"referentes!W255","v":0}]
[null,null,null,null,null,null,null,null,null,null,null,{"$f":"referentes!T256&referentes!U256","v":""},{"$f":"referentes!S256","v":0},{"$f":"referentes!W256","v":0}]
[null,null,null,null,null,null,null,null,null,null,null,{"$f":"referentes!T257&referentes!U257","v":""},{"$f":"referentes!S257","v":0},{"$f":"referentes!W257","v":0}]
[null,null,null,null,null,null,null,null,null,null,null,{"$f":"referentes!T258&referentes!U258","v":""},{"$f":"referentes!S258","v":0},{"$f":"referentes!W258","v":0}]
[null,null,null,null,null,null,null,null,null,null,null,{"$f":"referentes!T259&referentes!U259","v":""},{"$f":"referentes!S259","v":0},{"$f":"referentes!W259","v":0}]
[null,null,null,null,null,null,null,null,null,null,null,{"$f":"referentes!T260&referentes!U260","v":""},{"$f":"referentes!S260","v":0},{"$f":"referentes!W260","v":0}]
[null,null,null,null,null,null,null,null,null,null,null,{"$f":"referentes!T261&referentes!U261","v":""},{"$f":"referentes!S261","v":0},{"$f":"referentes!W261","v":0}]
[null,null,null,null,null,null,null,null,null,null,null,{"$f":"referentes!T262&referentes!U262","v":""},{"$f":"referentes!S262","v":0},{"$f":"referentes!W262","v":0}]
[null,null,null,null,null,null,null,null,null,null,null,{"$f":"referentes!T263&referentes!U263","v":""},{"$f":"referentes!S263","v":0},{"$f":"referentes!W263","v":0}]
[null,null,null,null,null,null,null,null,null,null,null,{"$f":"referentes!T264&referentes!U264","v":""},{"$f":"referentes!S264","v":0},{"$f":"referentes!W264","v":0}]
[null,null,null,null,null,null,null,null,null,null,null,{"$f":"referentes!T265&referentes!U265","v":""},{"$f":"referentes!S265","v":0},{"$f":"referentes!W265","v":0}]
[null,null,null,null,null,null,null,null,null,null,null,{"$f":"referentes!T266&referentes!U266","v":""},{"$f":"referentes!S266","v":0},{"$f":"referentes!W266","v":0}]
[null,null,null,null,null,null,null,null,null,null,null,{"$f":"referentes!T267&referentes!U267","v":""},{"$f":"referentes!S267","v":0},{"$f":"referentes!W267","v":0}]
[null,null,null,null,null,null,null,null,null,null,null,{"$f":"referentes!T268&referentes!U268","v":""},{"$f":"referentes!S268","v":0},{"$f":"referentes!W268","v":0}]
[null,null,null,null,null,null,null,null,null,null,null,{"$f":"referentes!T269&referentes!U269","v":""},{"$f":"referentes!S269","v":0},{"$f":"referentes!W269","v":0}]
[null,null,null,null,null,null,null,null,null,null,null,{"$f":"referentes!T270&referentes!U270","v":""},{"$f":"referentes!S270","v":0},{"$f":"referentes!W270","v":0}]
[null,null,null,null,null,null,null,null,null,null,null,{"$f":"referentes!T271&referentes!U271","v":""},{"$f":"referentes!S271","v":0},{"$f":"referentes!W271","v":0}]
[null,null,null,null,null,null,null,null,null,null,null,{"$f":"referentes!T272&referentes!U272","v":""},{"$f":"referentes!S272","v":0},{"$f":"referentes!W272","v":0}]
[null,null,null,null,null,null,null,null,null,null,null,{"$f":"referentes!T273&referentes!U273","v":""},{"$f":"referentes!S273","v":0},{"$f":"referentes!W273","v":0}]
[null,null,null,null,null,null,null,null,null,null,null,{"$f":"referentes!T274&referentes!U274","v":""},{"$f":"referentes!S274","v":0},{"$f":"referentes!W274","v":0}]
[null,null,null,null,null,null,null,null,null,null,null,{"$f":"referentes!T275&referentes!U275","v":""},{"$f":"referentes!S275","v":0},{"$f":"referentes!W275","v":0}]
[null,null,null,null,null,null,null,null,null,null,null,{"$f":"referentes!T276&referentes!U276","v":""},{"$f":"referentes!S276","v":0},{"$f":"referentes!W276","v":0}]
[null,null,null,null,null,null,null,null,null,null,null,{"$f":"referentes!T277&referentes!U277","v":""},{"$f":"referentes!S277","v":0},{"$f":"referentes!W277","v":0}]
[null,null,null,null,null,null,null,null,null,null,null,{"$f":"referentes!T278&referentes!U278","v":""},{"$f":"referentes!S278","v":0},{"$f":"referentes!W278","v":0}]
[null,null,null,null,null,null,null,null,null,null,null,{"$f":"referentes!T279&referentes!U279","v":""},{"$f":"referentes!S279","v":0},{"$f":"referentes!W279","v":0}]
[null,null,null,null,null,null,null,null,null,null,null,{"$f":"referentes!T280&referentes!U280","v":""},{"$f":"referentes!S280","v":0},{"$f":"referentes!W280","v":0}]
[null,null,null,null,null,null,null,null,null,null,null,{"$f":"referentes!T281&referentes!U281","v":""},{"$f":"referentes!S281","v":0},{"$f":"referentes!W281","v":0}]
[null,null,null,null,null,null,null,null,null,null,null,{"$f":"referentes!T282&referentes!U282","v":""},{"$f":"referentes!S282","v":0},{"$f":"referentes!W282","v":0}]
[null,null,null,null,null,null,null,null,null,null,null,{"$f":"referentes!T283&referentes!U283","v":""},{"$f":"referentes!S283","v":0},{"$f":"referentes!W283","v":0}]
[null,null,null,null,null,null,null,null,null,null,null,{"$f":"referentes!T284&referentes!U284","v":""},{"$f":"referentes!S284","v":0},{"$f":"referentes!W284","v":0}]
[null,null,null,null,null,null,null,null,null,null,null,{"$f":"referentes!T285&referentes!U285","v":""},{"$f":"referentes!S285","v":0},{"$f":"referentes!W285","v":0}]
[null,null,null,null,null,null,null,null,null,null,null,{"$f":"referentes!T286&referentes!U286","v":""},{"$f":"referentes!S286","v":0},{"$f":"referentes!W286","v":0}]
[null,null,null,null,null,null,null,null,null,null,null,{"$f":"referentes!T287&referentes!U287","v":""},{"$f":"referentes!S287","v":0},{"$f":"referentes!W287","v":0}]
[null,null,null,null,null,null,null,null,null,null,null,{"$f":"referentes!T288&referentes!U288","v":""},{"$f":"referentes!S288","v":0},{"$f":"referentes!W288","v":0}]
[null,null,null,null,null,null,null,null,null,null,null,{"$f":"referentes!T289&referentes!U289","v":""},{"$f":"referentes!S289","v":0},{"$f":"referentes!W289","v":0}]
[null,null,null,null,null,null,null,null,null,null,null,{"$f":"referentes!T290&referentes!U290","v":""},{"$f":"referentes!S290","v":0},{"$f":"referentes!W290","v":0}]
[null,null,null,null,null,null,null,null,null,null,null,{"$f":"referentes!T291&referentes!U291","v":""},{"$f":"referentes!S291","v":0},{"$f":"referentes!W291","v":0}]
[null,null,null,null,null,null,null,null,null,null,null,{"$f":"referentes!T292&referentes!U292","v":""},{"$f":"referentes!S292","v":0},{"$f":"referentes!W292","v":0}]
[null,null,null,null,null,null,null,null,null,null,null,{"$f":"referentes!T293&referentes!U293","v":""},{"$f":"referentes!S293","v":0},{"$f":"referentes!W293","v":0}]
[null,null,null,null,null,null,null,null,null,null,null,{"$f":"referentes!T294&referentes!U294","v":""},{"$f":"referentes!S294","v":0},{"$f":"referentes!W294","v":0}]
[null,null,null,null,null,null,null,null,null,null,null,{"$f":"referentes!T295&referentes!U295","v":""},{"$f":"referentes!S295","v":0},{"$f":"referentes!W295","v":0}]
[null,null,null,null,null,null,null,null,null,null,null,{"$f":"referentes!T296&referentes!U296","v":""},{"$f":"referentes!S296","v":0},{"$f":"referentes!W296","v":0}]
[null,null,null,null,null,null,null,null,null,null,null,{"$f":"referentes!T297&referentes!U297","v":""},{"$f":"referentes!S297","v":0},{"$f":"referentes!W297","v":0}]
[null,null,null,null,null,null,null,null,null,null,null,{"$f":"referentes!T298&referentes!U298","v":""},{"$f":"referentes!S298","v":0},{"$f":"referentes!W298","v":0}]
[null,null,null,null,null,null,null,null,null,null,null,{"$f":"referentes!T299&referentes!U299","v":""},{"$f":"referentes!S299","v":0},{"$f":"referentes!W299","v":0}]
[null,null,null,null,null,null,null,null,null,null,null,{"$f":"referentes!T300&referentes!U300","v":""},{"$f":"referentes!S300","v":0},{"$f":"referentes!W300","v":0}]
[null,null,null,null,null,null,null,null,null,null,null,{"$f":"referentes!T301&referentes!U301","v":""},{"$f":"referentes!S301","v":0},{"$f":"referentes!W301","v":0}]
[null,null,null,null,null,null,null,null,null,null,null,{"$f":"referentes!T302&referentes!U302","v":""},{"$f":"referentes!S302","v":0},{"$f":"referentes!W302","v":0}]
[null,null,null,null,null,null,null,null,null,null,null,{"$f":"referentes!T303&referentes!U303","v":""},{"$f":"referentes!S303","v":0},{"$f":"referentes!W303","v":0}]
[null,null,null,null,null,null,null,null,null,null,null,{"$f":"referentes!T304&referentes!U304","v":""},{"$f":"referentes!S304","v":0},{"$f":"referentes!W304","v":0}]
[null,null,null,null,null,null,null,null,null,null,null,{"$f":"referentes!T305&referentes!U305","v":""},{"$f":"referentes!S305","v":0},{"$f":"referentes!W305","v":0}]
[null,null,null,null,null,null,null,null,null,null,null,{"$f":"referentes!T306&referentes!U306","v":""},{"$f":"referentes!S306","v":0},{"$f":"referentes!W306","v":0}]
[null,null,null,null,null,null,null,null,null,null,null,{"$f":"referentes!T307&referentes!U307","v":""},{"$f":"referentes!S307","v":0},{"$f":"referentes!W307","v":0}]
[null,null,null,null,null,null,null,null,null,null,null,{"$f":"referentes!T308&referentes!U308","v":""},{"$f":"referentes!S308","v":0},{"$f":"referentes!W308","v":0}]
[null,null,null,null,null,null,null,null,null,null,null,{"$f":"referentes!T309&referentes!U309","v":""},{"$f":"referentes!S309","v":0},{"$f":"referentes!W309","v":0}]
[null,null,null,null,null,null,null,null,null,null,null,{"$f":"referentes!T310&referentes!U310","v":""},{"$f":"referentes!S310","v":0},{"$f":"referentes!W310","v":0}]
[null,null,null,null,null,null,null,null,null,null,null,{"$f":"referentes!T311&referentes!U311","v":""},{"$f":"referentes!S311","v":0},{"$f":"referentes!W311","v":0}]
[null,null,null,null,null,null,null,null,null,null,null,{"$f":"referentes!T312&referentes!U312","v":""},{"$f":"referentes!S312","v":0},{"$f":"referentes!W312","v":0}]
[null,null,null,null,null,null,null,null,null,null,null,{"$f":"referentes!T313&referentes!U313","v":""},{"$f":"referentes!S313","v":0},{"$f":"referentes!W313","v":0}]
[null,null,null,null,null,null,null,null,null,null,null,{"$f":"referentes!T314&referentes!U314","v":""},{"$f":"referentes!S314","v":0},{"$f":"referentes!W314","v":0}]
[null,null,null,null,null,null,null,null,null,null,null,{"$f":"referentes!T315&referentes!U315","v":""},{"$f":"referentes!S315","v":0},{"$f":"referentes!W315","v":0}]
[null,null,null,null,null,null,null,null,null,null,null,{"$f":"referentes!T316&referentes!U316","v":""},{"$f":"referentes!S316","v":0},{"$f":"referentes!W316","v":0}]
[null,null,null,null,null,null,null,null,null,null,null,{"$f":"referentes!T317&referentes!U317","v":""},{"$f":"referentes!S317","v":0},{"$f":"referentes!W317","v":0}]
[null,null,null,null,null,null,null,null,null,null,null,{"$f":"referentes!T318&referentes!U318","v":""},{"$f":"referentes!S318","v":0},{"$f":"referentes!W318","v":0}]
[null,null,null,null,null,null,null,null,null,null,null,{"$f":"referentes!T319&referentes!U319","v":""},{"$f":"referentes!S319","v":0},{"$f":"referentes!W319","v":0}]
[null,null,null,null,null,null,null,null,null,null,null,{"$f":"referentes!T320&referentes!U320","v":""},{"$f":"referentes!S320","v":0},{"$f":"referentes!W320","v":0}]
[null,null,null,null,null,null,null,null,null,null,null,{"$f":"referentes!T321&referentes!U321","v":""},{"$f":"referentes!S321","v":0},{"$f":"referentes!W321","v":0}]
[null,null,null,null,null,null,null,null,null,null,null,{"$f":"referentes!T322&referentes!U322","v":""},{"$f":"referentes!S322","v":0},{"$f":"referentes!W322","v":0}]
[null,null,null,null,null,null,null,null,null,null,null,{"$f":"referentes!T323&referentes!U323","v":""},{"$f":"referentes!S323","v":0},{"$f":"referentes!W323","v":0}]
[null,null,null,null,null,null,null,null,null,null,null,{"$f":"referentes!T324&referentes!U324","v":""},{"$f":"referentes!S324","v":0},{"$f":"referentes!W324","v":0}]
[null,null,null,null,null,null,null,null,null,null,null,{"$f":"referentes!T325&referentes!U325","v":""},{"$f":"referentes!S325","v":0},{"$f":"referentes!W325","v":0}]
[null,null,null,null,null,null,null,null,null,null,null,{"$f":"referentes!T326&referentes!U326","v":""},{"$f":"referentes!S326","v":0},{"$f":"referentes!W326","v":0}]
[null,null,null,null,null,null,null,null,null,null,null,{"$f":"referentes!T327&referentes!U327","v":""},{"$f":"referentes!S327","v":0},{"$f":"referentes!W327","v":0}]
[null,null,null,null,null,null,null,null,null,null,null,{"$f":"referentes!T328&referentes!U328","v":""},{"$f":"referentes!S328","v":0},{"$f":"referentes!W328","v":0}]
[null,null,null,null,null,null,null,null,null,null,null,{"$f":"referentes!T329&referentes!U329","v":""},{"$f":"referentes!S329","v":0},{"$f":"referentes!W329","v":0}]
[null,null,null,null,null,null,null,null,null,null,null,{"$f":"referentes!T330&referentes!U330","v":""},{"$f":"referentes!S330","v":0},{"$f":"referentes!W330","v":0}]
[null,null,null,null,null,null,null,null,null,null,null,{"$f":"referentes!T331&referentes!U331","v":""},{"$f":"referentes!S331","v":0},{"$f":"referentes!W331","v":0}]
[null,null,null,null,null,null,null,null,null,null,null,{"$f":"referentes!T332&referentes!U332","v":""},{"$f":"referentes!S332","v":0},{"$f":"referentes!W332","v":0}]
[null,null,null,null,null,null,null,null,null,null,null,{"$f":"referentes!T333&referentes!U333","v":""},{"$f":"referentes!S333","v":0},{"$f":"referentes!W333","v":0}]
[null,null,null,null,null,null,null,null,null,null,null,{"$f":"referentes!T334&referentes!U334","v":""},{"$f":"referentes!S334","v":0},{"$f":"referentes!W334","v":0}]
[null,null,null,null,null,null,null,null,null,null,null,{"$f":"referentes!T335&referentes!U335","v":""},{"$f":"referentes!S335","v":0},{"$f":"referentes!W335","v":0}]
[null,null,null,null,null,null,null,null,null,null,null,{"$f":"referentes!T336&referentes!U336","v":""},{"$f":"referentes!S336","v":0},{"$f":"referentes!W336","v":0}]
[null,null,null,null,null,null,null,null,null,null,null,{"$f":"referentes!T337&referentes!U337","v":""},{"$f":"referentes!S337","v":0},{"$f":"referentes!W337","v":0}]
[null,null,null,null,null,null,null,null,null,null,null,{"$f":"referentes!T338&referentes!U338","v":""},{"$f":"referentes!S338","v":0},{"$f":"referentes!W338","v":0}]
[null,null,null,null,null,null,null,null,null,null,null,{"$f":"referentes!T339&referentes!U339","v":""},{"$f":"referentes!S339","v":0},{"$f":"referentes!W339","v":0}]
[null,null,null,null,null,null,null,null,null,null,null,{"$f":"referentes!T340&referentes!U340","v":""},{"$f":"referentes!S340","v":0},{"$f":"referentes!W340","v":0}]
[null,null,null,null,null,null,null,null,null,null,null,{"$f":"referentes!T341&referentes!U341","v":""},{"$f":"referentes!S341","v":0},{"$f":"referentes!W341","v":0}]
[null,null,null,null,null,null,null,null,null,null,null,{"$f":"referentes!T342&referentes!U342","v":""},{"$f":"referentes!S342","v":0},{"$f":"referentes!W342","v":0}]
[null,null,null,null,null,null,null,null,null,null,null,{"$f":"referentes!T343&referentes!U343","v":""},{"$f":"referentes!S343","v":0},{"$f":"referentes!W343","v":0}]
[null,null,null,null,null,null,null,null,null,null,null,{"$f":"referentes!T344&referentes!U344","v":""},{"$f":"referentes!S344","v":0},{"$f":"referentes!W344","v":0}]
[null,null,null,null,null,null,null,null,null,null,null,{"$f":"referentes!T345&referentes!U345","v":""},{"$f":"referentes!S345","v":0},{"$f":"referentes!W345","v":0}]
[null,null,null,null,null,null,null,null,null,null,null,{"$f":"referentes!T346&referentes!U346","v":""},{"$f":"referentes!S346","v":0},{"$f":"referentes!W346","v":0}]
[null,null,null,null,null,null,null,null,null,null,null,{"$f":"referentes!T347&referentes!U347","v":""},{"$f":"referentes!S347","v":0},{"$f":"referentes!W347","v":0}]
[null,null,null,null,null,null,null,null,null,null,null,{"$f":"referentes!T348&referentes!U348","v":""},{"$f":"referentes!S348","v":0},{"$f":"referentes!W348","v":0}]
[null,null,null,null,null,null,null,null,null,null,null,{"$f":"referentes!T349&referentes!U349","v":""},{"$f":"referentes!S349","v":0},{"$f":"referentes!W349","v":0}]
[null,null,null,null,null,null,null,null,null,null,null,{"$f":"referentes!T350&referentes!U350","v":""},{"$f":"referentes!S350","v":0},{"$f":"referentes!W350","v":0}]
[null,null,null,null,null,null,null,null,null,null,null,{"$f":"referentes!T351&referentes!U351","v":""},{"$f":"referentes!S351","v":0},{"$f":"referentes!W351","v":0}]
[null,null,null,null,null,null,null,null,null,null,null,{"$f":"referentes!T352&referentes!U352","v":""},{"$f":"referentes!S352","v":0},{"$f":"referentes!W352","v":0}]
[null,null,null,null,null,null,null,null,null,null,null,{"$f":"referentes!T353&referentes!U353","v":""},{"$f":"referentes!S353","v":0},{"$f":"referentes!W353","v":0}]
[null,null,null,null,null,null,null,null,null,null,null,{"$f":"referentes!T354&referentes!U354","v":""},{"$f":"referentes!S354","v":0},{"$f":"referentes!W354","v":0}]
[null,null,null,null,null,null,null,null,null,null,null,{"$f":"referentes!T355&referentes!U355","v":""},{"$f":"referentes!S355","v":0},{"$f":"referentes!W355","v":0}]
[null,null,null,null,null,null,null,null,null,null,null,{"$f":"referentes!T356&referentes!U356","v":""},{"$f":"referentes!S356","v":0},{"$f":"referentes!W356","v":0}]
[null,null,null,null,null,null,null,null,null,null,null,{"$f":"referentes!T357&referentes!U357","v":""},{"$f":"referentes!S357","v":0},{"$f":"referentes!W357","v":0}]
[null,null,null,null,null,null,null,null,null,null,null,{"$f":"referentes!T358&referentes!U358","v":""},{"$f":"referentes!S358","v":0},{"$f":"referentes!W358","v":0}]
[null,null,null,null,null,null,null,null,null,null,null,{"$f":"referentes!T359&referentes!U359","v":""},{"$f":"referentes!S359","v":0},{"$f":"referentes!W359","v":0}]
[null,null,null,null,null,null,null,null,null,null,null,{"$f":"referentes!T360&referentes!U360","v":""},{"$f":"referentes!S360","v":0},{"$f":"referentes!W360","v":0}]
[null,null,null,null,null,null,null,null,null,null,null,{"$f":"referentes!T361&referentes!U361","v":""},{"$f":"referentes!S361","v":0},{"$f":"referentes!W361","v":0}]
[null,null,null,null,null,null,null,null,null,null,null,{"$f":"referentes!T362&referentes!U362","v":""},{"$f":"referentes!S362","v":0},{"$f":"referentes!W362","v":0}]
[null,null,null,null,null,null,null,null,null,null,null,{"$f":"referentes!T363&referentes!U363","v":""},{"$f":"referentes!S363","v":0},{"$f":"referentes!W363","v":0}]
[null,null,null,null,null,null,null,null,null,null,null,{"$f":"referentes!T364&referentes!U364","v":""},{"$f":"referentes!S364","v":0},{"$f":"referentes!W364","v":0}]
[null,null,null,null,null,null,null,null,null,null,null,{"$f":"referentes!T365&referentes!U365","v":""},{"$f":"referentes!S365","v":0},{"$f":"referentes!W365","v":0}]
[null,null,null,null,null,null,null,null,null,null,null,{"$f":"referentes!T366&referentes!U366","v":""},{"$f":"referentes!S366","v":0},{"$f":"referentes!W366","v":0}]
[null,null,null,null,null,null,null,null,null,null,null,{"$f":"referentes!T367&referentes!U367","v":""},{"$f":"referentes!S367","v":0},{"$f":"referentes!W367","v":0}]
[null,null,null,null,null,null,null,null,null,null,null,{"$f":"referentes!T368&referentes!U368","v":""},{"$f":"referentes!S368","v":0},{"$f":"referentes!W368","v":0}]
[null,null,null,null,null,null,null,null,null,null,null,{"$f":"referentes!T369&referentes!U369","v":""},{"$f":"referentes!S369","v":0},{"$f":"referentes!W369","v":0}]
[null,null,null,null,null,null,null,null,null,null,null,{"$f":"referentes!T370&referentes!U370","v":""},{"$f":"referentes!S370","v":0},{"$f":"referentes!W370","v":0}]
[null,null,null,null,null,null,null,null,null,null,null,{"$f":"referentes!T371&referentes!U371","v":""},{"$f":"referentes!S371","v":0},{"$f":"referentes!W371","v":0}]
[null,null,null,null,null,null,null,null,null,null,null,{"$f":"referentes!T372&referentes!U372","v":""},{"$f":"referentes!S372","v":0},{"$f":"referentes!W372","v":0}]
[null,null,null,null,null,null,null,null,null,null,null,{"$f":"referentes!T373&referentes!U373","v":""},{"$f":"referentes!S373","v":0},{"$f":"referentes!W373","v":0}]
[null,null,null,null,null,null,null,null,null,null,null,{"$f":"referentes!T374&referentes!U374","v":""},{"$f":"referentes!S374","v":0},{"$f":"referentes!W374","v":0}]
[null,null,null,null,null,null,null,null,null,null,null,{"$f":"referentes!T375&referentes!U375","v":""},{"$f":"referentes!S375","v":0},{"$f":"referentes!W375","v":0}]
[null,null,null,null,null,null,null,null,null,null,null,{"$f":"referentes!T376&referentes!U376","v":""},{"$f":"referentes!S376","v":0},{"$f":"referentes!W376","v":0}]
[null,null,null,null,null,null,null,null,null,null,null,{"$f":"referentes!T377&referentes!U377","v":""},{"$f":"referentes!S377","v":0},{"$f":"referentes!W377","v":0}]
[null,null,null,null,null,null,null,null,null,null,null,{"$f":"referentes!T378&referentes!U378","v":""},{"$f":"referentes!S378","v":0},{"$f":"referentes!W378","v":0}]
[null,null,null,null,null,null,null,null,null,null,null,{"$f":"referentes!T379&referentes!U379","v":""},{"$f":"referentes!S379","v":0},{"$f":"referentes!W379","v":0}]
[null,null,null,null,null,null,null,null,null,null,null,{"$f":"referentes!T380&referentes!U380","v":""},{"$f":"referentes!S380","v":0},{"$f":"referentes!W380","v":0}]
[null,null,null,null,null,null,null,null,null,null,null,{"$f":"referentes!T381&referentes!U381","v":""},{"$f":"referentes!S381","v":0},{"$f":"referentes!W381","v":0}]
[null,null,null,null,null,null,null,null,null,null,null,{"$f":"referentes!T382&referentes!U382","v":""},{"$f":"referentes!S382","v":0},{"$f":"referentes!W382","v":0}]
[null,null,null,null,null,null,null,null,null,null,null,{"$f":"referentes!T383&referentes!U383","v":""},{"$f":"referentes!S383","v":0},{"$f":"referentes!W383","v":0}]
[null,null,null,null,null,null,null,null,null,null,null,{"$f":"referentes!T384&referentes!U384","v":""},{"$f":"referentes!S384","v":0},{"$f":"referentes!W384","v":0}]
[null,null,null,null,null,null,null,null,null,null,null,{"$f":"referentes!T385&referentes!U385","v":""},{"$f":"referentes!S385","v":0},{"$f":"referentes!W385","v":0}]
[null,null,null,null,null,null,null,null,null,null,null,{"$f":"referentes!T386&referentes!U386","v":""},{"$f":"referentes!S386","v":0},{"$f":"referentes!W386","v":0}]
[null,null,null,null,null,null,null,null,null,null,null,{"$f":"referentes!T387&referentes!U387","v":""},{"$f":"referentes!S387","v":0},{"$f":"referentes!W387","v":0}]
[null,null,null,null,null,null,null,null,null,null,null,{"$f":"referentes!T388&referentes!U388","v":""},{"$f":"referentes!S388","v":0},{"$f":"referentes!W388","v":0}]
[null,null,null,null,null,null,null,null,null,null,null,{"$f":"referentes!T389&referentes!U389","v":""},{"$f":"referentes!S389","v":0},{"$f":"referentes!W389","v":0}]
[null,null,null,null,null,null,null,null,null,null,null,{"$f":"referentes!T390&referentes!U390","v":""},{"$f":"referentes!S390","v":0},{"$f":"referentes!W390","v":0}]
[null,null,null,null,null,null,null,null,null,null,null,{"$f":"referentes!T391&referentes!U391","v":""},{"$f":"referentes!S391","v":0},{"$f":"referentes!W391","v":0}]
[null,null,null,null,null,null,null,null,null,null,null,{"$f":"referentes!T392&referentes!U392","v":""},{"$f":"referentes!S392","v":0},{"$f":"referentes!W392","v":0}]
[null,null,null,null,null,null,null,null,null,null,null,{"$f":"referentes!T393&referentes!U393","v":""},{"$f":"referentes!S393","v":0},{"$f":"referentes!W393","v":0}]
[null,null,null,null,null,null,null,null,null,null,null,{"$f":"referentes!T394&referentes!U394","v":""},{"$f":"referentes!S394","v":0},{"$f":"referentes!W394","v":0}]
[null,null,null,null,null,null,null,null,null,null,null,{"$f":"referentes!T395&referentes!U395","v":""},{"$f":"referentes!S395","v":0},{"$f":"referentes!W395","v":0}]
[null,null,null,null,null,null,null,null,null,null,null,{"$f":"referentes!T396&referentes!U396","v":""},{"$f":"referentes!S396","v":0},{"$f":"referentes!W396","v":0}]
[null,null,null,null,null,null,null,null,null,null,null,{"$f":"referentes!T397&referentes!U397","v":""},{"$f":"referentes!S397","v":0},{"$f":"referentes!W397","v":0}]
[null,null,null,null,null,null,null,null,null,null,null,{"$f":"referentes!T398&referentes!U398","v":""},{"$f":"referentes!S398","v":0},{"$f":"referentes!W398","v":0}]
[null,null,null,null,null,null,null,null,null,null,null,{"$f":"referentes!T399&referentes!U399","v":""},{"$f":"referentes!S399","v":0},{"$f":"referentes!W399","v":0}]
[null,null,null,null,null,null,null,null,null,null,null,{"$f":"referentes!T400&referentes!U400","v":""},{"$f":"referentes!S400","v":0},{"$f":"referentes!W400","v":0}]
[null,null,null,null,null,null,null,null,null,null,null,{"$f":"referentes!T401&referentes!U401","v":""},{"$f":"referentes!S401","v":0},{"$f":"referentes!W401","v":0}]
[null,null,null,null,null,null,null,null,null,null,null,{"$f":"referentes!T402&referentes!U402","v":""},{"$f":"referentes!S402","v":0},{"$f":"referentes!W402","v":0}]
[null,null,null,null,null,null,null,null,null,null,null,{"$f":"referentes!T403&referentes!U403","v":""},{"$f":"referentes!S403","v":0},{"$f":"referentes!W403","v":0}]
[null,null,null,null,null,null,null,null,null,null,null,{"$f":"referentes!T404&referentes!U404","v":""},{"$f":"referentes!S404","v":0},{"$f":"referentes!W404","v":0}]
[null,null,null,null,null,null,null,null,null,null,null,{"$f":"referentes!T405&referentes!U405","v":""},{"$f":"referentes!S405","v":0},{"$f":"referentes!W405","v":0}]
[null,null,null,null,null,null,null,null,null,null,null,{"$f":"referentes!T406&referentes!U406","v":""},{"$f":"referentes!S406","v":0},{"$f":"referentes!W406","v":0}]
[null,null,null,null,null,null,null,null,null,null,null,{"$f":"referentes!T407&referentes!U407","v":""},{"$f":"referentes!S407","v":0},{"$f":"referentes!W407","v":0}]
[null,null,null,null,null,null,null,null,null,null,null,{"$f":"referentes!T408&referentes!U408","v":""},{"$f":"referentes!S408","v":0},{"$f":"referentes!W408","v":0}]
[null,null,null,null,null,null,null,null,null,null,null,{"$f":"referentes!T409&referentes!U409","v":""},{"$f":"referentes!S409","v":0},{"$f":"referentes!W409","v":0}]
[null,null,null,null,null,null,null,null,null,null,null,{"$f":"referentes!T410&referentes!U410","v":""},{"$f":"referentes!S410","v":0},{"$f":"referentes!W410","v":0}]
[null,null,null,null,null,null,null,null,null,null,null,{"$f":"referentes!T411&referentes!U411","v":""},{"$f":"referentes!S411","v":0},{"$f":"referentes!W411","v":0}]
[null,null,null,null,null,null,null,null,null,null,null,{"$f":"referentes!T412&referentes!U412","v":""},{"$f":"referentes!S412","v":0},{"$f":"referentes!W412","v":0}]
[null,null,null,null,null,null,null,null,null,null,null,{"$f":"referentes!T413&referentes!U413","v":""},{"$f":"referentes!S413","v":0},{"$f":"referentes!W413","v":0}]
[null,null,null,null,null,null,null,null,null,null,null,{"$f":"referentes!T414&referentes!U414","v":""},{"$f":"referentes!S414","v":0},{"$f":"referentes!W414","v":0}]
[null,null,null,null,null,null,null,null,null,null,null,{"$f":"referentes!T415&referentes!U415","v":""},{"$f":"referentes!S415","v":0},{"$f":"referentes!W415","v":0}]
[null,null,null,null,null,null,null,null,null,null,null,{"$f":"referentes!T416&referentes!U416","v":""},{"$f":"referentes!S416","v":0},{"$f":"referentes!W416","v":0}]
[null,null,null,null,null,null,null,null,null,null,null,{"$f":"referentes!T417&referentes!U417","v":""},{"$f":"referentes!S417","v":0},{"$f":"referentes!W417","v":0}]
[null,null,null,null,null,null,null,null,null,null,null,{"$f":"referentes!T418&referentes!U418","v":""},{"$f":"referentes!S418","v":0},{"$f":"referentes!W418","v":0}]
[null,null,null,null,null,null,null,null,null,null,null,{"$f":"referentes!T419&referentes!U419","v":""},{"$f":"referentes!S419","v":0},{"$f":"referentes!W419","v":0}]
[null,null,null,null,null,null,null,null,null,null,null,{"$f":"referentes!T420&referentes!U420","v":""},{"$f":"referentes!S420","v":0},{"$f":"referentes!W420","v":0}]
[null,null,null,null,null,null,null,null,null,null,null,{"$f":"referentes!T421&referentes!U421","v":""},{"$f":"referentes!S421","v":0},{"$f":"referentes!W421","v":0}]
[null,null,null,null,null,null,null,null,null,null,null,{"$f":"referentes!T422&referentes!U422","v":""},{"$f":"referentes!S422","v":0},{"$f":"referentes!W422","v":0}]
[null,null,null,null,null,null,null,null,null,null,null,{"$f":"referentes!T423&referentes!U423","v":""},{"$f":"referentes!S423","v":0},{"$f":"referentes!W423","v":0}]
[null,null,null,null,null,null,null,null,null,null,null,{"$f":"referentes!T424&referentes!U424","v":""},{"$f":"referentes!S424","v":0},{"$f":"referentes!W424","v":0}]
[null,null,null,null,null,null,null,null,null,null,null,{"$f":"referentes!T425&referentes!U425","v":""},{"$f":"referentes!S425","v":0},{"$f":"referentes!W425","v":0}]
[null,null,null,null,null,null,null,null,null,null,null,{"$f":"referentes!T426&referentes!U426","v":""},{"$f":"referentes!S426","v":0},{"$f":"referentes!W426","v":0}]
[null,null,null,null,null,null,null,null,null,null,null,{"$f":"referentes!T427&referentes!U427","v":""},{"$f":"referentes!S427","v":0},{"$f":"referentes!W427","v":0}]
[null,null,null,null,null,null,null,null,null,null,null,{"$f":"referentes!T428&referentes!U428","v":""},{"$f":"referentes!S428","v":0},{"$f":"referentes!W428","v":0}]
[null,null,null,null,null,null,null,null,null,null,null,{"$f":"referentes!T429&referentes!U429","v":""},{"$f":"referentes!S429","v":0},{"$f":"referentes!W429","v":0}]
[null,null,null,null,null,null,null,null,null,null,null,{"$f":"referentes!T430&referentes!U430","v":""},{"$f":"referentes!S430","v":0},{"$f":"referentes!W430","v":0}]
[null,null,null,null,null,null,null,null,null,null,null,{"$f":"referentes!T431&referentes!U431","v":""},{"$f":"referentes!S431","v":0},{"$f":"referentes!W431","v":0}]
[null,null,null,null,null,null,null,null,null,null,null,{"$f":"referentes!T432&referentes!U432","v":""},{"$f":"referentes!S432","v":0},{"$f":"referentes!W432","v":0}]
[null,null,null,null,null,null,null,null,null,null,null,{"$f":"referentes!T433&referentes!U433","v":""},{"$f":"referentes!S433","v":0},{"$f":"referentes!W433","v":0}]
[null,null,null,null,null,null,null,null,null,null,null,{"$f":"referentes!T434&referentes!U434","v":""},{"$f":"referentes!S434","v":0},{"$f":"referentes!W434","v":0}]
[null,null,null,null,null,null,null,null,null,null,null,{"$f":"referentes!T435&referentes!U435","v":""},{"$f":"referentes!S435","v":0},{"$f":"referentes!W435","v":0}]
[null,null,null,null,null,null,null,null,null,null,null,{"$f":"referentes!T436&referentes!U436","v":""},{"$f":"referentes!S436","v":0},{"$f":"referentes!W436","v":0}]
[null,null,null,null,null,null,null,null,null,null,null,{"$f":"referentes!T437&referentes!U437","v":""},{"$f":"referentes!S437","v":0},{"$f":"referentes!W437","v":0}]
[null,null,null,null,null,null,null,null,null,null,null,{"$f":"referentes!T438&referentes!U438","v":""},{"$f":"referentes!S438","v":0},{"$f":"referentes!W438","v":0}]
[null,null,null,null,null,null,null,null,null,null,null,{"$f":"referentes!T439&referentes!U439","v":""},{"$f":"referentes!S439","v":0},{"$f":"referentes!W439","v":0}]
[null,null,null,null,null,null,null,null,null,null,null,{"$f":"referentes!T440&referentes!U440","v":""},{"$f":"referentes!S440","v":0},{"$f":"referentes!W440","v":0}]
[null,null,null,null,null,null,null,null,null,null,null,{"$f":"referentes!T441&referentes!U441","v":""},{"$f":"referentes!S441","v":0},{"$f":"referentes!W441","v":0}]
[null,null,null,null,null,null,null,null,null,null,null,{"$f":"referentes!T442&referentes!U442","v":""},{"$f":"referentes!S442","v":0},{"$f":"referentes!W442","v":0}]
[null,null,null,null,null,null,null,null,null,null,null,{"$f":"referentes!T443&referentes!U443","v":""},{"$f":"referentes!S443","v":0},{"$f":"referentes!W443","v":0}]
[null,null,null,null,null,null,null,null,null,null,null,{"$f":"referentes!T444&referentes!U444","v":""},{"$f":"referentes!S444","v":0},{"$f":"referentes!W444","v":0}]
[null,null,null,null,null,null,null,null,null,null,null,{"$f":"referentes!T445&referentes!U445","v":""},{"$f":"referentes!S445","v":0},{"$f":"referentes!W445","v":0}]
[null,null,null,null,null,null,null,null,null,null,null,{"$f":"referentes!T446&referentes!U446","v":""},{"$f":"referentes!S446","v":0},{"$f":"referentes!W446","v":0}]
[null,null,null,null,null,null,null,null,null,null,null,{"$f":"referentes!T447&referentes!U447","v":""},{"$f":"referentes!S447","v":0},{"$f":"referentes!W447","v":0}]
[null,null,null,null,null,null,null,null,null,null,null,{"$f":"referentes!T448&referentes!U448","v":""},{"$f":"referentes!S448","v":0},{"$f":"referentes!W448","v":0}]
[null,null,null,null,null,null,null,null,null,null,null,{"$f":"referentes!T449&referentes!U449","v":""},{"$f":"referentes!S449","v":0},{"$f":"referentes!W449","v":0}]
[null,null,null,null,null,null,null,null,null,null,null,{"$f":"referentes!T450&referentes!U450","v":""},{"$f":"referentes!S450","v":0},{"$f":"referentes!W450","v":0}]
[null,null,null,null,null,null,null,null,null,null,null,{"$f":"referentes!T451&referentes!U451","v":""},{"$f":"referentes!S451","v":0},{"$f":"referentes!W451","v":0}]
[null,null,null,null,null,null,null,null,null,null,null,{"$f":"referentes!T452&referentes!U452","v":""},{"$f":"referentes!S452","v":0},{"$f":"referentes!W452","v":0}]
[null,null,null,null,null,null,null,null,null,null,null,{"$f":"referentes!T453&referentes!U453","v":""},{"$f":"referentes!S453","v":0},{"$f":"referentes!W453","v":0}]
[null,null,null,null,null,null,null,null,null,null,null,{"$f":"referentes!T454&referentes!U454","v":""},{"$f":"referentes!S454","v":0},{"$f":"referentes!W454","v":0}]
[null,null,null,null,null,null,null,null,null,null,null,{"$f":"referentes!T455&referentes!U455","v":""},{"$f":"referentes!S455","v":0},{"$f":"referentes!W455","v":0}]
[null,null,null,null,null,null,null,null,null,null,null,{"$f":"referentes!T456&referentes!U456","v":""},{"$f":"referentes!S456","v":0},{"$f":"referentes!W456","v":0}]
[null,null,null,null,null,null,null,null,null,null,null,{"$f":"referentes!T457&referentes!U457","v":""},{"$f":"referentes!S457","v":0},{"$f":"referentes!W457","v":0}]
[null,null,null,null,null,null,null,null,null,null,null,{"$f":"referentes!T458&referentes!U458","v":""},{"$f":"referentes!S458","v":0},{"$f":"referentes!W458","v":0}]
[null,null,null,null,null,null,null,null,null,null,null,{"$f":"referentes!T459&referentes!U459","v":""},{"$f":"referentes!S459","v":0},{"$f":"referentes!W459","v":0}]
[null,null,null,null,null,null,null,null,null,null,null,{"$f":"referentes!T460&referentes!U460","v":""},{"$f":"referentes!S460","v":0},{"$f":"referentes!W460","v":0}]
[null,null,null,null,null,null,null,null,null,null,null,{"$f":"referentes!T461&referentes!U461","v":""},{"$f":"referentes!S461","v":0},{"$f":"referentes!W461","v":0}]
[null,null,null,null,null,null,null,null,null,null,null,{"$f":"referentes!T462&referentes!U462","v":""},{"$f":"referentes!S462","v":0},{"$f":"referentes!W462","v":0}]
[null,null,null,null,null,null,null,null,null,null,null,{"$f":"referentes!T463&referentes!U463","v":""},{"$f":"referentes!S463","v":0},{"$f":"referentes!W463","v":0}]
[null,null,null,null,null,null,null,null,null,null,null,{"$f":"referentes!T464&referentes!U464","v":""},{"$f":"referentes!S464","v":0},{"$f":"referentes!W464","v":0}]
[null,null,null,null,null,null,null,null,null,null,null,{"$f":"referentes!T465&referentes!U465","v":""},{"$f":"referentes!S465","v":0},{"$f":"referentes!W465","v":0}]
[null,null,null,null,null,null,null,null,null,null,null,{"$f":"referentes!T466&referentes!U466","v":""},{"$f":"referentes!S466","v":0},{"$f":"referentes!W466","v":0}]
[null,null,null,null,null,null,null,null,null,null,null,{"$f":"referentes!T467&referentes!U467","v":""},{"$f":"referentes!S467","v":0},{"$f":"referentes!W467","v":0}]
[null,null,null,null,null,null,null,null,null,null,null,{"$f":"referentes!T468&referentes!U468","v":""},{"$f":"referentes!S468","v":0},{"$f":"referentes!W468","v":0}]
[null,null,null,null,null,null,null,null,null,null,null,{"$f":"referentes!T469&referentes!U469","v":""},{"$f":"referentes!S469","v":0},{"$f":"referentes!W469","v":0}]
[null,null,null,null,null,null,null,null,null,null,null,{"$f":"referentes!T470&referentes!U470","v":""},{"$f":"referentes!S470","v":0},{"$f":"referentes!W470","v":0}]
[null,null,null,null,null,null,null,null,null,null,null,{"$f":"referentes!T471&referentes!U471","v":""},{"$f":"referentes!S471","v":0},{"$f":"referentes!W471","v":0}]
[null,null,null,null,null,null,null,null,null,null,null,{"$f":"referentes!T472&referentes!U472","v":""},{"$f":"referentes!S472","v":0},{"$f":"referentes!W472","v":0}]
[null,null,null,null,null,null,null,null,null,null,null,{"$f":"referentes!T473&referentes!U473","v":""},{"$f":"referentes!S473","v":0},{"$f":"referentes!W473","v":0}]
[null,null,null,null,null,null,null,null,null,null,null,{"$f":"referentes!T474&referentes!U474","v":""},{"$f":"referentes!S474","v":0},{"$f":"referentes!W474","v":0}]
[null,null,null,null,null,null,null,null,null,null,null,{"$f":"referentes!T475&referentes!U475","v":""},{"$f":"referentes!S475","v":0},{"$f":"referentes!W475","v":0}]
[null,null,null,null,null,null,null,null,null,null,null,{"$f":"referentes!T476&referentes!U476","v":""},{"$f":"referentes!S476","v":0},{"$f":"referentes!W476","v":0}]
[null,null,null,null,null,null,null,null,null,null,null,{"$f":"referentes!T477&referentes!U477","v":""},{"$f":"referentes!S477","v":0},{"$f":"referentes!W477","v":0}]
[null,null,null,null,null,null,null,null,null,null,null,{"$f":"referentes!T478&referentes!U478","v":""},{"$f":"referentes!S478","v":0},{"$f":"referentes!W478","v":0}]
[null,null,null,null,null,null,null,null,null,null,null,{"$f":"referentes!T479&referentes!U479","v":""},{"$f":"referentes!S479","v":0},{"$f":"referentes!W479","v":0}]
[null,null,null,null,null,null,null,null,null,null,null,{"$f":"referentes!T480&referentes!U480","v":""},{"$f":"referentes!S480","v":0},{"$f":"referentes!W480","v":0}]
[null,null,null,null,null,null,null,null,null,null,null,{"$f":"referentes!T481&referentes!U481","v":""},{"$f":"referentes!S481","v":0},{"$f":"referentes!W481","v":0}]
[null,null,null,null,null,null,null,null,null,null,null,{"$f":"referentes!T482&referentes!U482","v":""},{"$f":"referentes!S482","v":0},{"$f":"referentes!W482","v":0}]
[null,null,null,null,null,null,null,null,null,null,null,{"$f":"referentes!T483&referentes!U483","v":""},{"$f":"referentes!S483","v":0},{"$f":"referentes!W483","v":0}]
[null,null,null,null,null,null,null,null,null,null,null,{"$f":"referentes!T484&referentes!U484","v":""},{"$f":"referentes!S484","v":0},{"$f":"referentes!W484","v":0}]
[null,null,null,null,null,null,null,null,null,null,null,{"$f":"referentes!T485&referentes!U485","v":""},{"$f":"referentes!S485","v":0},{"$f":"referentes!W485","v":0}]
[null,null,null,null,null,null,null,null,null,null,null,{"$f":"referentes!T486&referentes!U486","v":""},{"$f":"referentes!S486","v":0},{"$f":"referentes!W486","v":0}]
[null,null,null,null,null,null,null,null,null,null,null,{"$f":"referentes!T487&referentes!U487","v":""},{"$f":"referentes!S487","v":0},{"$f":"referentes!W487","v":0}]
[null,null,null,null,null,null,null,null,null,null,null,{"$f":"referentes!T488&referentes!U488","v":""},{"$f":"referentes!S488","v":0},{"$f":"referentes!W488","v":0}]
[null,null,null,null,null,null,null,null,null,null,null,{"$f":"referentes!T489&referentes!U489","v":""},{"$f":"referentes!S489","v":0},{"$f":"referentes!W489","v":0}]
[null,null,null,null,null,null,null,null,null,null,null,{"$f":"referentes!T490&referentes!U490","v":""},{"$f":"referentes!S490","v":0},{"$f":"referentes!W490","v":0}]
[null,null,null,null,null,null,null,null,null,null,null,{"$f":"referentes!T491&referentes!U491","v":""},{"$f":"referentes!S491","v":0},{"$f":"referentes!W491","v":0}]
[null,null,null,null,null,null,null,null,null,null,null,{"$f":"referentes!T492&referentes!U492","v":""},{"$f":"referentes!S492","v":0},{"$f":"referentes!W492","v":0}]
[null,null,null,null,null,null,null,null,null,null,null,{"$f":"referentes!T493&referentes!U493","v":""},{"$f":"referentes!S493","v":0},{"$f":"referentes!W493","v":0}]
[null,null,null,null,null,null,null,null,null,null,null,{"$f":"referentes!T494&referentes!U494","v":""},{"$f":"referentes!S494","v":0},{"$f":"referentes!W494","v":0}]
[null,null,null,null,null,null,null,null,null,null,null,{"$f":"referentes!T495&referentes!U495","v":""},{"$f":"referentes!S495","v":0},{"$f":"referentes!W495","v":0}]
[null,null,null,null,null,null,null,null,null,null,null,{"$f":"referentes!T496&referentes!U496","v":""},{"$f":"referentes!S496","v":0},{"$f":"referentes!W496","v":0}]
[null,null,null,null,null,null,null,null,null,null,null,{"$f":"referentes!T497&referentes!U497","v":""},{"$f":"referentes!S497","v":0},{"$f":"referentes!W497","v":0}]
[null,null,null,null,null,null,null,null,null,null,null,{"$f":"referentes!T498&referentes!U498","v":""},{"$f":"referentes!S498","v":0},{"$f":"referentes!W498","v":0}]
[null,null,null,null,null,null,null,null,null,null,null,{"$f":"referentes!T499&referentes!U499","v":""},{"$f":"referentes!S499","v":0},{"$f":"referentes!W499","v":0}]
[null,null,null,null,null,null,null,null,null,null,null,{"$f":"referentes!T500&referentes!U500","v":""},{"$f":"referentes!S500","v":0},{"$f":"referentes!W500","v":0}]
[null,null,null,null,null,null,null,null,null,null,null,{"$f":"referentes!T501&referentes!U501","v":""},{"$f":"referentes!S501","v":0},{"$f":"referentes!W501","v":0}]
[null,null,null,null,null,null,null,null,null,null,null,{"$f":"referentes!T502&referentes!U502","v":""},{"$f":"referentes!S502","v":0},{"$f":"referentes!W502","v":0}]
[null,null,null,null,null,null,null,null,null,null,null,{"$f":"referentes!T503&referentes!U503","v":""},{"$f":"referentes!S503","v":0},{"$f":"referentes!W503","v":0}]
[null,null,null,null,null,null,null,null,null,null,null,{"$f":"referentes!T504&referentes!U504","v":""},{"$f":"referentes!S504","v":0},{"$f":"referentes!W504","v":0}]
[null,null,null,null,null,null,null,null,null,null,null,{"$f":"referentes!T505&referentes!U505","v":""},{"$f":"referentes!S505","v":0},{"$f":"referentes!W505","v":0}]
[null,null,null,null,null,null,null,null,null,null,null,{"$f":"referentes!T506&referentes!U506","v":""},{"$f":"referentes!S506","v":0},{"$f":"referentes!W506","v":0}]
[null,null,null,null,null,null,null,null,null,null,null,{"$f":"referentes!T507&referentes!U507","v":""},{"$f":"referentes!S507","v":0},{"$f":"referentes!W507","v":0}]
[null,null,null,null,null,null,null,null,null,null,null,{"$f":"referentes!T508&referentes!U508","v":""},{"$f":"referentes!S508","v":0},{"$f":"referentes!W508","v":0}]
[null,null,null,null,null,null,null,null,null,null,null,{"$f":"referentes!T509&referentes!U509","v":""},{"$f":"referentes!S509","v":0},{"$f":"referentes!W509","v":0}]
[null,null,null,null,null,null,null,null,null,null,null,{"$f":"referentes!T510&referentes!U510","v":""},{"$f":"referentes!S510","v":0},{"$f":"referentes!W510","v":0}]
[null,null,null,null,null,null,null,null,null,null,null,{"$f":"referentes!T511&referentes!U511","v":""},{"$f":"referentes!S511","v":0},{"$f":"referentes!W511","v":0}]
[null,null,null,null,null,null,null,null,null,null,null,{"$f":"referentes!T512&referentes!U512","v":""},{"$f":"referentes!S512","v":0},{"$f":"referentes!W512","v":0}]
[null,null,null,null,null,null,null,null,null,null,null,{"$f":"referentes!T513&referentes!U513","v":""},{"$f":"referentes!S513","v":0},{"$f":"referentes!W513","v":0}]
[null,null,null,null,null,null,null,null,null,null,null,{"$f":"referentes!T514&referentes!U514","v":""},{"$f":"referentes!S514","v":0},{"$f":"referentes!W514","v":0}]
[null,null,null,null,null,null,null,null,null,null,null,{"$f":"referentes!T515&referentes!U515","v":""},{"$f":"referentes!S515","v":0},{"$f":"referentes!W515","v":0}]
[null,null,null,null,null,null,null,null,null,null,null,{"$f":"referentes!T516&referentes!U516","v":""},{"$f":"referentes!S516","v":0},{"$f":"referentes!W516","v":0}]
[null,null,null,null,null,null,null,null,null,null,null,{"$f":"referentes!T517&referentes!U517","v":""},{"$f":"referentes!S517","v":0},{"$f":"referentes!W517","v":0}]
[null,null,null,null,null,null,null,null,null,null,null,{"$f":"referentes!T518&referentes!U518","v":""},{"$f":"referentes!S518","v":0},{"$f":"referentes!W518","v":0}]
[null,null,null,null,null,null,null,null,null,null,null,{"$f":"referentes!T519&referentes!U519","v":""},{"$f":"referentes!S519","v":0},{"$f":"referentes!W519","v":0}]
[null,null,null,null,null,null,null,null,null,null,null,{"$f":"referentes!T520&referentes!U520","v":""},{"$f":"referentes!S520","v":0},{"$f":"referentes!W520","v":0}]
[null,null,null,null,null,null,null,null,null,null,null,{"$f":"referentes!T521&referentes!U521","v":""},{"$f":"referentes!S521","v":0},{"$f":"referentes!W521","v":0}]
[null,null,null,null,null,null,null,null,null,null,null,{"$f":"referentes!T522&referentes!U522","v":""},{"$f":"referentes!S522","v":0},{"$f":"referentes!W522","v":0}]
[null,null,null,null,null,null,null,null,null,null,null,{"$f":"referentes!T523&referentes!U523","v":""},{"$f":"referentes!S523","v":0},{"$f":"referentes!W523","v":0}]
[null,null,null,null,null,null,null,null,null,null,null,{"$f":"referentes!T524&referentes!U524","v":""},{"$f":"referentes!S524","v":0},{"$f":"referentes!W524","v":0}]
[null,null,null,null,null,null,null,null,null,null,null,{"$f":"referentes!T525&referentes!U525","v":""},{"$f":"referentes!S525","v":0},{"$f":"referentes!W525","v":0}]
[null,null,null,null,null,null,null,null,null,null,null,{"$f":"referentes!T526&referentes!U526","v":""},{"$f":"referentes!S526","v":0},{"$f":"referentes!W526","v":0}]
[null,null,null,null,null,null,null,null,null,null,null,{"$f":"referentes!T527&referentes!U527","v":""},{"$f":"referentes!S527","v":0},{"$f":"referentes!W527","v":0}]
[null,null,null,null,null,null,null,null,null,null,null,{"$f":"referentes!T528&referentes!U528","v":""},{"$f":"referentes!S528","v":0},{"$f":"referentes!W528","v":0}]
[null,null,null,null,null,null,null,null,null,null,null,{"$f":"referentes!T529&referentes!U529","v":""},{"$f":"referentes!S529","v":0},{"$f":"referentes!W529","v":0}]
[null,null,null,null,null,null,null,null,null,null,null,{"$f":"referentes!T530&referentes!U530","v":""},{"$f":"referentes!S530","v":0},{"$f":"referentes!W530","v":0}]
[null,null,null,null,null,null,null,null,null,null,null,{"$f":"referentes!T531&referentes!U531","v":""},{"$f":"referentes!S531","v":0},{"$f":"referentes!W531","v":0}]
[null,null,null,null,null,null,null,null,null,null,null,{"$f":"referentes!T532&referentes!U532","v":""},{"$f":"referentes!S532","v":0},{"$f":"referentes!W532","v":0}]
[null,null,null,null,null,null,null,null,null,null,null,{"$f":"referentes!T533&referentes!U533","v":""},{"$f":"referentes!S533","v":0},{"$f":"referentes!W533","v":0}]
[null,null,null,null,null,null,null,null,null,null,null,{"$f":"referentes!T534&referentes!U534","v":""},{"$f":"referentes!S534","v":0},{"$f":"referentes!W534","v":0}]
[null,null,null,null,null,null,null,null,null,null,null,{"$f":"referentes!T535&referentes!U535","v":""},{"$f":"referentes!S535","v":0},{"$f":"referentes!W535","v":0}]
[null,null,null,null,null,null,null,null,null,null,null,{"$f":"referentes!T536&referentes!U536","v":""},{"$f":"referentes!S536","v":0},{"$f":"referentes!W536","v":0}]
[null,null,null,null,null,null,null,null,null,null,null,{"$f":"referentes!T537&referentes!U537","v":""},{"$f":"referentes!S537","v":0},{"$f":"referentes!W537","v":0}]
[null,null,null,null,null,null,null,null,null,null,null,{"$f":"referentes!T538&referentes!U538","v":""},{"$f":"referentes!S538","v":0},{"$f":"referentes!W538","v":0}]
[null,null,null,null,null,null,null,null,null,null,null,{"$f":"referentes!T539&referentes!U539","v":""},{"$f":"referentes!S539","v":0},{"$f":"referentes!W539","v":0}]
[null,null,null,null,null,null,null,null,null,null,null,{"$f":"referentes!T540&referentes!U540","v":""},{"$f":"referentes!S540","v":0},{"$f":"referentes!W540","v":0}]
[null,null,null,null,null,null,null,null,null,null,null,{"$f":"referentes!T541&referentes!U541","v":""},{"$f":"referentes!S541","v":0},{"$f":"referentes!W541","v":0}]
[null,null,null,null,null,null,null,null,null,null,null,{"$f":"referentes!T542&referentes!U542","v":""},{"$f":"referentes!S542","v":0},{"$f":"referentes!W542","v":0}]
[null,null,null,null,null,null,null,null,null,null,null,{"$f":"referentes!T543&referentes!U543","v":""},{"$f":"referentes!S543","v":0},{"$f":"referentes!W543","v":0}]
[null,null,null,null,null,null,null,null,null,null,null,{"$f":"referentes!T544&referentes!U544","v":""},{"$f":"referentes!S544","v":0},{"$f":"referentes!W544","v":0}]
[null,null,null,null,null,null,null,null,null,null,null,{"$f":"referentes!T545&referentes!U545","v":""},{"$f":"referentes!S545","v":0},{"$f":"referentes!W545","v":0}]
[null,null,null,null,null,null,null,null,null,null,null,{"$f":"referentes!T546&referentes!U546","v":""},{"$f":"referentes!S546","v":0},{"$f":"referentes!W546","v":0}]
[null,null,null,null,null,null,null,null,null,null,null,{"$f":"referentes!T547&referentes!U547","v":""},{"$f":"referentes!S547","v":0},{"$f":"referentes!W547","v":0}]
[null,null,null,null,null,null,null,null,null,null,null,{"$f":"referentes!T548&referentes!U548","v":""},{"$f":"referentes!S548","v":0},{"$f":"referentes!W548","v":0}]
[null,null,null,null,null,null,null,null,null,null,null,{"$f":"referentes!T549&referentes!U549","v":""},{"$f":"referentes!S549","v":0},{"$f":"referentes!W549","v":0}]
[null,null,null,null,null,null,null,null,null,null,null,{"$f":"referentes!T550&referentes!U550","v":""},{"$f":"referentes!S550","v":0},{"$f":"referentes!W550","v":0}]
[null,null,null,null,null,null,null,null,null,null,null,{"$f":"referentes!T551&referentes!U551","v":""},{"$f":"referentes!S551","v":0},{"$f":"referentes!W551","v":0}]
[null,null,null,null,null,null,null,null,null,null,null,{"$f":"referentes!T552&referentes!U552","v":""},{"$f":"referentes!S552","v":0},{"$f":"referentes!W552","v":0}]
[null,null,null,null,null,null,null,null,null,null,null,{"$f":"referentes!T553&referentes!U553","v":""},{"$f":"referentes!S553","v":0},{"$f":"referentes!W553","v":0}]
[null,null,null,null,null,null,null,null,null,null,null,{"$f":"referentes!T554&referentes!U554","v":""},{"$f":"referentes!S554","v":0},{"$f":"referentes!W554","v":0}]
[null,null,null,null,null,null,null,null,null,null,null,{"$f":"referentes!T555&referentes!U555","v":""},{"$f":"referentes!S555","v":0},{"$f":"referentes!W555","v":0}]
[null,null,null,null,null,null,null,null,null,null,null,{"$f":"referentes!T556&referentes!U556","v":""},{"$f":"referentes!S556","v":0},{"$f":"referentes!W556","v":0}]
[null,null,null,null,null,null,null,null,null,null,null,{"$f":"referentes!T557&referentes!U557","v":""},{"$f":"referentes!S557","v":0},{"$f":"referentes!W557","v":0}]
[null,null,null,null,null,null,null,null,null,null,null,{"$f":"referentes!T558&referentes!U558","v":""},{"$f":"referentes!S558","v":0},{"$f":"referentes!W558","v":0}]
[null,null,null,null,null,null,null,null,null,null,null,{"$f":"referentes!T559&referentes!U559","v":""},{"$f":"referentes!S559","v":0},{"$f":"referentes!W559","v":0}]
[null,null,null,null,null,null,null,null,null,null,null,{"$f":"referentes!T560&referentes!U560","v":""},{"$f":"referentes!S560","v":0},{"$f":"referentes!W560","v":0}]
[null,null,null,null,null,null,null,null,null,null,null,{"$f":"referentes!T561&referentes!U561","v":""},{"$f":"referentes!S561","v":0},{"$f":"referentes!W561","v":0}]
[null,null,null,null,null,null,null,null,null,null,null,{"$f":"referentes!T562&referentes!U562","v":""},{"$f":"referentes!S562","v":0},{"$f":"referentes!W562","v":0}]
[null,null,null,null,null,null,null,null,null,null,null,{"$f":"referentes!T563&referentes!U563","v":""},{"$f":"referentes!S563","v":0},{"$f":"referentes!W563","v":0}]
[null,null,null,null,null,null,null,null,null,null,null,{"$f":"referentes!T564&referentes!U564","v":""},{"$f":"referentes!S564","v":0},{"$f":"referentes!W564","v":0}]
[null,null,null,null,null,null,null,null,null,null,null,{"$f":"referentes!T565&referentes!U565","v":""},{"$f":"referentes!S565","v":0},{"$f":"referentes!W565","v":0}]
[null,null,null,null,null,null,null,null,null,null,null,{"$f":"referentes!T566&referentes!U566","v":""},{"$f":"referentes!S566","v":0},{"$f":"referentes!W566","v":0}]
[null,null,null,null,null,null,null,null,null,null,null,{"$f":"referentes!T567&referentes!U567","v":""},{"$f":"referentes!S567","v":0},{"$f":"referentes!W567","v":0}]
[null,null,null,null,null,null,null,null,null,null,null,{"$f":"referentes!T568&referentes!U568","v":""},{"$f":"referentes!S568","v":0},{"$f":"referentes!W568","v":0}]
[null,null,null,null,null,null,null,null,null,null,null,{"$f":"referentes!T569&referentes!U569","v":""},{"$f":"referentes!S569","v":0},{"$f":"referentes!W569","v":0}]
[null,null,null,null,null,null,null,null,null,null,null,{"$f":"referentes!T570&referentes!U570","v":""},{"$f":"referentes!S570","v":0},{"$f":"referentes!W570","v":0}]
[null,null,null,null,null,null,null,null,null,null,null,{"$f":"referentes!T571&referentes!U571","v":""},{"$f":"referentes!S571","v":0},{"$f":"referentes!W571","v":0}]
[null,null,null,null,null,null,null,null,null,null,null,{"$f":"referentes!T572&referentes!U572","v":""},{"$f":"referentes!S572","v":0},{"$f":"referentes!W572","v":0}]
[null,null,null,null,null,null,null,null,null,null,null,{"$f":"referentes!T573&referentes!U573","v":""},{"$f":"referentes!S573","v":0},{"$f":"referentes!W573","v":0}]
[null,null,null,null,null,null,null,null,null,null,null,{"$f":"referentes!T574&referentes!U574","v":""},{"$f":"referentes!S574","v":0},{"$f":"referentes!W574","v":0}]
[null,null,null,null,null,null,null,null,null,null,null,{"$f":"referentes!T575&referentes!U575","v":""},{"$f":"referentes!S575","v":0},{"$f":"referentes!W575","v":0}]
[null,null,null,null,null,null,null,null,null,null,null,{"$f":"referentes!T576&referentes!U576","v":""},{"$f":"referentes!S576","v":0},{"$f":"referentes!W576","v":0}]
[null,null,null,null,null,null,null,null,null,null,null,{"$f":"referentes!T577&referentes!U577","v":""},{"$f":"referentes!S577","v":0},{"$f":"referentes!W577","v":0}]
[null,null,null,null,null,null,null,null,null,null,null,{"$f":"referentes!T578&referentes!U578","v":""},{"$f":"referentes!S578","v":0},{"$f":"referentes!W578","v":0}]
[null,null,null,null,null,null,null,null,null,null,null,{"$f":"referentes!T579&referentes!U579","v":""},{"$f":"referentes!S579","v":0},{"$f":"referentes!W579","v":0}]
[null,null,null,null,null,null,null,null,null,null,null,{"$f":"referentes!T580&referentes!U580","v":""},{"$f":"referentes!S580","v":0},{"$f":"referentes!W580","v":0}]
[null,null,null,null,null,null,null,null,null,null,null,{"$f":"referentes!T581&referentes!U581","v":""},{"$f":"referentes!S581","v":0},{"$f":"referentes!W581","v":0}]
[null,null,null,null,null,null,null,null,null,null,null,{"$f":"referentes!T582&referentes!U582","v":""},{"$f":"referentes!S582","v":0},{"$f":"referentes!W582","v":0}]
[null,null,null,null,null,null,null,null,null,null,null,{"$f":"referentes!T583&referentes!U583","v":""},{"$f":"referentes!S583","v":0},{"$f":"referentes!W583","v":0}]
[null,null,null,null,null,null,null,null,null,null,null,{"$f":"referentes!T584&referentes!U584","v":""},{"$f":"referentes!S584","v":0},{"$f":"referentes!W584","v":0}]
[null,null,null,null,null,null,null,null,null,null,null,{"$f":"referentes!T585&referentes!U585","v":""},{"$f":"referentes!S585","v":0},{"$f":"referentes!W585","v":0}]
[null,null,null,null,null,null,null,null,null,null,null,{"$f":"referentes!T586&referentes!U586","v":""},{"$f":"referentes!S586","v":0},{"$f":"referentes!W586","v":0}]
[null,null,null,null,null,null,null,null,null,null,null,{"$f":"referentes!T587&referentes!U587","v":""},{"$f":"referentes!S587","v":0},{"$f":"referentes!W587","v":0}]
[null,null,null,null,null,null,null,null,null,null,null,{"$f":"referentes!T588&referentes!U588","v":""},{"$f":"referentes!S588","v":0},{"$f":"referentes!W588","v":0}]
[null,null,null,null,null,null,null,null,null,null,null,{"$f":"referentes!T589&referentes!U589","v":""},{"$f":"referentes!S589","v":0},{"$f":"referentes!W589","v":0}]
[null,null,null,null,null,null,null,null,null,null,null,{"$f":"referentes!T590&referentes!U590","v":""},{"$f":"referentes!S590","v":0},{"$f":"referentes!W590","v":0}]
[null,null,null,null,null,null,null,null,null,null,null,{"$f":"referentes!T591&referentes!U591","v":""},{"$f":"referentes!S591","v":0},{"$f":"referentes!W591","v":0}]
[null,null,null,null,null,null,null,null,null,null,null,{"$f":"referentes!T592&referentes!U592","v":""},{"$f":"referentes!S592","v":0},{"$f":"referentes!W592","v":0}]
[null,null,null,null,null,null,null,null,null,null,null,{"$f":"referentes!T593&referentes!U593","v":""},{"$f":"referentes!S593","v":0},{"$f":"referentes!W593","v":0}]
[null,null,null,null,null,null,null,null,null,null,null,{"$f":"referentes!T594&referentes!U594","v":""},{"$f":"referentes!S594","v":0},{"$f":"referentes!W594","v":0}]
[null,null,null,null,null,null,null,null,null,null,null,{"$f":"referentes!T595&referentes!U595","v":""},{"$f":"referentes!S595","v":0},{"$f":"referentes!W595","v":0}]
[null,null,null,null,null,null,null,null,null,null,null,{"$f":"referentes!T596&referentes!U596","v":""},{"$f":"referentes!S596","v":0},{"$f":"referentes!W596","v":0}]
[null,null,null,null,null,null,null,null,null,null,null,{"$f":"referentes!T597&referentes!U597","v":""},{"$f":"referentes!S597","v":0},{"$f":"referentes!W597","v":0}]
[null,null,null,null,null,null,null,null,null,null,null,{"$f":"referentes!T598&referentes!U598","v":""},{"$f":"referentes!S598","v":0},{"$f":"referentes!W598","v":0}]
[null,null,null,null,null,null,null,null,null,null,null,{"$f":"referentes!T599&referentes!U599","v":""},{"$f":"referentes!S599","v":0},{"$f":"referentes!W599","v":0}]
[null,null,null,null,null,null,null,null,null,null,null,{"$f":"referentes!T600&referentes!U600","v":""},{"$f":"referentes!S600","v":0},{"$f":"referentes!W600","v":0}]
[null,null,null,null,null,null,null,null,null,null,null,{"$f":"referentes!T601&referentes!U601","v":""},{"$f":"referentes!S601","v":0},{"$f":"referentes!W601","v":0}]
[null,null,null,null,null,null,null,null,null,null,null,{"$f":"referentes!T602&referentes!U602","v":""},{"$f":"referentes!S602","v":0},{"$f":"referentes!W602","v":0}]
[null,null,null,null,null,null,null,null,null,null,null,{"$f":"referentes!T603&referentes!U603","v":""},{"$f":"referentes!S603","v":0},{"$f":"referentes!W603","v":0}]
[null,null,null,null,null,null,null,null,null,null,null,{"$f":"referentes!T604&referentes!U604","v":""},{"$f":"referentes!S604","v":0},{"$f":"referentes!W604","v":0}]
[null,null,null,null,null,null,null,null,null,null,null,{"$f":"referentes!T605&referentes!U605","v":""},{"$f":"referentes!S605","v":0},{"$f":"referentes!W605","v":0}]
[null,null,null,null,null,null,null,null,null,null,null,{"$f":"referentes!T606&referentes!U606","v":""},{"$f":"referentes!S606","v":0},{"$f":"referentes!W606","v":0}]
[null,null,null,null,null,null,null,null,null,null,null,{"$f":"referentes!T607&referentes!U607","v":""},{"$f":"referentes!S607","v":0},{"$f":"referentes!W607","v":0}]
[null,null,null,null,null,null,null,null,null,null,null,{"$f":"referentes!T608&referentes!U608","v":""},{"$f":"referentes!S608","v":0},{"$f":"referentes!W608","v":0}]
[null,null,null,null,null,null,null,null,null,null,null,{"$f":"referentes!T609&referentes!U609","v":""},{"$f":"referentes!S609","v":0},{"$f":"referentes!W609","v":0}]
[null,null,null,null,null,null,null,null,null,null,null,{"$f":"referentes!T610&referentes!U610","v":""},{"$f":"referentes!S610","v":0},{"$f":"referentes!W610","v":0}]
[null,null,null,null,null,null,null,null,null,null,null,{"$f":"referentes!T611&referentes!U611","v":""},{"$f":"referentes!S611","v":0},{"$f":"referentes!W611","v":0}]
[null,null,null,null,null,null,null,null,null,null,null,{"$f":"referentes!T612&referentes!U612","v":""},{"$f":"referentes!S612","v":0},{"$f":"referentes!W612","v":0}]
[null,null,null,null,null,null,null,null,null,null,null,{"$f":"referentes!T613&referentes!U613","v":""},{"$f":"referentes!S613","v":0},{"$f":"referentes!W613","v":0}]
[null,null,null,null,null,null,null,null,null,null,null,{"$f":"referentes!T614&referentes!U614","v":""},{"$f":"referentes!S614","v":0},{"$f":"referentes!W614","v":0}]
[null,null,null,null,null,null,null,null,null,null,null,{"$f":"referentes!T615&referentes!U615","v":""},{"$f":"referentes!S615","v":0},{"$f":"referentes!W615","v":0}]
[null,null,null,null,null,null,null,null,null,null,null,{"$f":"referentes!T616&referentes!U616","v":""},{"$f":"referentes!S616","v":0},{"$f":"referentes!W616","v":0}]
[null,null,null,null,null,null,null,null,null,null,null,{"$f":"referentes!T617&referentes!U617","v":""},{"$f":"referentes!S617","v":0},{"$f":"referentes!W617","v":0}]
[null,null,null,null,null,null,null,null,null,null,null,{"$f":"referentes!T618&referentes!U618","v":""},{"$f":"referentes!S618","v":0},{"$f":"referentes!W618","v":0}]
[null,null,null,null,null,null,null,null,null,null,null,{"$f":"referentes!T619&referentes!U619","v":""},{"$f":"referentes!S619","v":0},{"$f":"referentes!W619","v":0}]
[null,null,null,null,null,null,null,null,null,null,null,{"$f":"referentes!T620&referentes!U620","v":""},{"$f":"referentes!S620","v":0},{"$f":"referentes!W620","v":0}]
[null,null,null,null,null,null,null,null,null,null,null,{"$f":"referentes!T621&referentes!U621","v":""},{"$f":"referentes!S621","v":0},{"$f":"referentes!W621","v":0}]
[null,null,null,null,null,null,null,null,null,null,null,{"$f":"referentes!T622&referentes!U622","v":""},{"$f":"referentes!S622","v":0},{"$f":"referentes!W622","v":0}]
[null,null,null,null,null,null,null,null,null,null,null,{"$f":"referentes!T623&referentes!U623","v":""},{"$f":"referentes!S623","v":0},{"$f":"referentes!W623","v":0}]
[null,null,null,null,null,null,null,null,null,null,null,{"$f":"referentes!T624&referentes!U624","v":""},{"$f":"referentes!S624","v":0},{"$f":"referentes!W624","v":0}]
[null,null,null,null,null,null,null,null,null,null,null,{"$f":"referentes!T625&referentes!U625","v":""},{"$f":"referentes!S625","v":0},{"$f":"referentes!W625","v":0}]
[null,null,null,null,null,null,null,null,null,null,null,{"$f":"referentes!T626&referentes!U626","v":""},{"$f":"referentes!S626","v":0},{"$f":"referentes!W626","v":0}]
[null,null,null,null,null,null,null,null,null,null,null,{"$f":"referentes!T627&referentes!U627","v":""},{"$f":"referentes!S627","v":0},{"$f":"referentes!W627","v":0}]
[null,null,null,null,null,null,null,null,null,null,null,{"$f":"referentes!T628&referentes!U628","v":""},{"$f":"referentes!S628","v":0},{"$f":"referentes!W628","v":0}]
[null,null,null,null,null,null,null,null,null,null,null,{"$f":"referentes!T629&referentes!U629","v":""},{"$f":"referentes!S629","v":0},{"$f":"referentes!W629","v":0}]
[null,null,null,null,null,null,null,null,null,null,null,{"$f":"referentes!T630&referentes!U630","v":""},{"$f":"referentes!S630","v":0},{"$f":"referentes!W630","v":0}]
[null,null,null,null,null,null,null,null,null,null,null,{"$f":"referentes!T631&referentes!U631","v":""},{"$f":"referentes!S631","v":0},{"$f":"referentes!W631","v":0}]
[null,null,null,null,null,null,null,null,null,null,null,{"$f":"referentes!T632&referentes!U632","v":""},{"$f":"referentes!S632","v":0},{"$f":"referentes!W632","v":0}]
[null,null,null,null,null,null,null,null,null,null,null,{"$f":"referentes!T633&referentes!U633","v":""},{"$f":"referentes!S633","v":0},{"$f":"referentes!W633","v":0}]
[null,null,null,null,null,null,null,null,null,null,null,{"$f":"referentes!T634&referentes!U634","v":""},{"$f":"referentes!S634","v":0},{"$f":"referentes!W634","v":0}]
[null,null,null,null,null,null,null,null,null,null,null,{"$f":"referentes!T635&referentes!U635","v":""},{"$f":"referentes!S635","v":0},{"$f":"referentes!W635","v":0}]
[null,null,null,null,null,null,null,null,null,null,null,{"$f":"referentes!T636&referentes!U636","v":""},{"$f":"referentes!S636","v":0},{"$f":"referentes!W636","v":0}]
[null,null,null,null,null,null,null,null,null,null,null,{"$f":"referentes!T637&referentes!U637","v":""},{"$f":"referentes!S637","v":0},{"$f":"referentes!W637","v":0}]
[null,null,null,null,null,null,null,null,null,null,null,{"$f":"referentes!T638&referentes!U638","v":""},{"$f":"referentes!S638","v":0},{"$f":"referentes!W638","v":0}]
[null,null,null,null,null,null,null,null,null,null,null,{"$f":"referentes!T639&referentes!U639","v":""},{"$f":"referentes!S639","v":0},{"$f":"referentes!W639","v":0}]
[null,null,null,null,null,null,null,null,null,null,null,{"$f":"referentes!T640&referentes!U640","v":""},{"$f":"referentes!S640","v":0},{"$f":"referentes!W640","v":0}]
[null,null,null,null,null,null,null,null,null,null,null,{"$f":"referentes!T641&referentes!U641","v":""},{"$f":"referentes!S641","v":0},{"$f":"referentes!W641","v":0}]
[null,null,null,null,null,null,null,null,null,null,null,{"$f":"referentes!T642&referentes!U642","v":""},{"$f":"referentes!S642","v":0},{"$f":"referentes!W642","v":0}]
[null,null,null,null,null,null,null,null,null,null,null,{"$f":"referentes!T643&referentes!U643","v":""},{"$f":"referentes!S643","v":0},{"$f":"referentes!W643","v":0}]
[null,null,null,null,null,null,null,null,null,null,null,{"$f":"referentes!T644&referentes!U644","v":""},{"$f":"referentes!S644","v":0},{"$f":"referentes!W644","v":0}]
[null,null,null,null,null,null,null,null,null,null,null,{"$f":"referentes!T645&referentes!U645","v":""},{"$f":"referentes!S645","v":0},{"$f":"referentes!W645","v":0}]
[null,null,null,null,null,null,null,null,null,null,null,{"$f":"referentes!T646&referentes!U646","v":""},{"$f":"referentes!S646","v":0},{"$f":"referentes!W646","v":0}]
[null,null,null,null,null,null,null,null,null,null,null,{"$f":"referentes!T647&referentes!U647","v":""},{"$f":"referentes!S647","v":0},{"$f":"referentes!W647","v":0}]
[null,null,null,null,null,null,null,null,null,null,null,{"$f":"referentes!T648&referentes!U648","v":""},{"$f":"referentes!S648","v":0},{"$f":"referentes!W648","v":0}]
[null,null,null,null,null,null,null,null,null,null,null,{"$f":"referentes!T649&referentes!U649","v":""},{"$f":"referentes!S649","v":0},{"$f":"referentes!W649","v":0}]
[null,null,null,null,null,null,null,null,null,null,null,{"$f":"referentes!T650&referentes!U650","v":""},{"$f":"referentes!S650","v":0},{"$f":"referentes!W650","v":0}]
[null,null,null,null,null,null,null,null,null,null,null,{"$f":"referentes!T651&referentes!U651","v":""},{"$f":"referentes!S651","v":0},{"$f":"referentes!W651","v":0}]
[null,null,null,null,null,null,null,null,null,null,null,{"$f":"referentes!T652&referentes!U652","v":""},{"$f":"referentes!S652","v":0},{"$f":"referentes!W652","v":0}]
[null,null,null,null,null,null,null,null,null,null,null,{"$f":"referentes!T653&referentes!U653","v":""},{"$f":"referentes!S653","v":0},{"$f":"referentes!W653","v":0}]
[null,null,null,null,null,null,null,null,null,null,null,{"$f":"referentes!T654&referentes!U654","v":""},{"$f":"referentes!S654","v":0},{"$f":"referentes!W654","v":0}]
[null,null,null,null,null,null,null,null,null,null,null,{"$f":"referentes!T655&referentes!U655","v":""},{"$f":"referentes!S655","v":0},{"$f":"referentes!W655","v":0}]
[null,null,null,null,null,null,null,null,null,null,null,{"$f":"referentes!T656&referentes!U656","v":""},{"$f":"referentes!S656","v":0},{"$f":"referentes!W656","v":0}]
[null,null,null,null,null,null,null,null,null,null,null,{"$f":"referentes!T657&referentes!U657","v":""},{"$f":"referentes!S657","v":0},{"$f":"referentes!W657","v":0}]
[null,null,null,null,null,null,null,null,null,null,null,{"$f":"referentes!T658&referentes!U658","v":""},{"$f":"referentes!S658","v":0},{"$f":"referentes!W658","v":0}]
[null,null,null,null,null,null,null,null,null,null,null,{"$f":"referentes!T659&referentes!U659","v":""},{"$f":"referentes!S659","v":0},{"$f":"referentes!W659","v":0}]
[null,null,null,null,null,null,null,null,null,null,null,{"$f":"referentes!T660&referentes!U660","v":""},{"$f":"referentes!S660","v":0},{"$f":"referentes!W660","v":0}]
[null,null,null,null,null,null,null,null,null,null,null,{"$f":"referentes!T661&referentes!U661","v":""},{"$f":"referentes!S661","v":0},{"$f":"referentes!W661","v":0}]
[null,null,null,null,null,null,null,null,null,null,null,{"$f":"referentes!T662&referentes!U662","v":""},{"$f":"referentes!S662","v":0},{"$f":"referentes!W662","v":0}]
[null,null,null,null,null,null,null,null,null,null,null,{"$f":"referentes!T663&referentes!U663","v":""},{"$f":"referentes!S663","v":0},{"$f":"referentes!W663","v":0}]
[null,null,null,null,null,null,null,null,null,null,null,{"$f":"referentes!T664&referentes!U664","v":""},{"$f":"referentes!S664","v":0},{"$f":"referentes!W664","v":0}]
[null,null,null,null,null,null,null,null,null,null,null,{"$f":"referentes!T665&referentes!U665","v":""},{"$f":"referentes!S665","v":0},{"$f":"referentes!W665","v":0}]
[null,null,null,null,null,null,null,null,null,null,null,{"$f":"referentes!T666&referentes!U666","v":""},{"$f":"referentes!S666","v":0},{"$f":"referentes!W666","v":0}]
[null,null,null,null,null,null,null,null,null,null,null,{"$f":"referentes!T667&referentes!U667","v":""},{"$f":"referentes!S667","v":0},{"$f":"referentes!W667","v":0}]
[null,null,null,null,null,null,null,null,null,null,null,{"$f":"referentes!T668&referentes!U668","v":""},{"$f":"referentes!S668","v":0},{"$f":"referentes!W668","v":0}]
[null,null,null,null,null,null,null,null,null,null,null,{"$f":"referentes!T669&referentes!U669","v":""},{"$f":"referentes!S669","v":0},{"$f":"referentes!W669","v":0}]
[null,null,null,null,null,null,null,null,null,null,null,{"$f":"referentes!T670&referentes!U670","v":""},{"$f":"referentes!S670","v":0},{"$f":"referentes!W670","v":0}]
[null,null,null,null,null,null,null,null,null,null,null,{"$f":"referentes!T671&referentes!U671","v":""},{"$f":"referentes!S671","v":0},{"$f":"referentes!W671","v":0}]
[null,null,null,null,null,null,null,null,null,null,null,{"$f":"referentes!T672&referentes!U672","v":""},{"$f":"referentes!S672","v":0},{"$f":"referentes!W672","v":0}]
[null,null,null,null,null,null,null,null,null,null,null,{"$f":"referentes!T673&referentes!U673","v":""},{"$f":"referentes!S673","v":0},{"$f":"referentes!W673","v":0}]
[null,null,null,null,null,null,null,null,null,null,null,{"$f":"referentes!T674&referentes!U674","v":""},{"$f":"referentes!S674","v":0},{"$f":"referentes!W674","v":0}]
[null,null,null,null,null,null,null,null,null,null,null,{"$f":"referentes!T675&referentes!U675","v":""},{"$f":"referentes!S675","v":0},{"$f":"referentes!W675","v":0}]
[null,null,null,null,null,null,null,null,null,null,null,{"$f":"referentes!T676&referentes!U676","v":""},{"$f":"referentes!S676","v":0},{"$f":"referentes!W676","v":0}]
[null,null,null,null,null,null,null,null,null,null,null,{"$f":"referentes!T677&referentes!U677","v":""},{"$f":"referentes!S677","v":0},{"$f":"referentes!W677","v":0}]
[null,null,null,null,null,null,null,null,null,null,null,{"$f":"referentes!T678&referentes!U678","v":""},{"$f":"referentes!S678","v":0},{"$f":"referentes!W678","v":0}]
[null,null,null,null,null,null,null,null,null,null,null,{"$f":"referentes!T679&referentes!U679","v":""},{"$f":"referentes!S679","v":0},{"$f":"referentes!W679","v":0}]
[null,null,null,null,null,null,null,null,null,null,null,{"$f":"referentes!T680&referentes!U680","v":""},{"$f":"referentes!S680","v":0},{"$f":"referentes!W680","v":0}]
[null,null,null,null,null,null,null,null,null,null,null,{"$f":"referentes!T681&referentes!U681","v":""},{"$f":"referentes!S681","v":0},{"$f":"referentes!W681","v":0}]
[null,null,null,null,null,null,null,null,null,null,null,{"$f":"referentes!T682&referentes!U682","v":""},{"$f":"referentes!S682","v":0},{"$f":"referentes!W682","v":0}]
[null,null,null,null,null,null,null,null,null,null,null,{"$f":"referentes!T683&referentes!U683","v":""},{"$f":"referentes!S683","v":0},{"$f":"referentes!W683","v":0}]
[null,null,null,null,null,null,null,null,null,null,null,{"$f":"referentes!T684&referentes!U684","v":""},{"$f":"referentes!S684","v":0},{"$f":"referentes!W684","v":0}]
[null,null,null,null,null,null,null,null,null,null,null,{"$f":"referentes!T685&referentes!U685","v":""},{"$f":"referentes!S685","v":0},{"$f":"referentes!W685","v":0}]
[null,null,null,null,null,null,null,null,null,null,null,{"$f":"referentes!T686&referentes!U686","v":""},{"$f":"referentes!S686","v":0},{"$f":"referentes!W686","v":0}]
[null,null,null,null,null,null,null,null,null,null,null,{"$f":"referentes!T687&referentes!U687","v":""},{"$f":"referentes!S687","v":0},{"$f":"referentes!W687","v":0}]
[null,null,null,null,null,null,null,null,null,null,null,{"$f":"referentes!T688&referentes!U688","v":""},{"$f":"referentes!S688","v":0},{"$f":"referentes!W688","v":0}]
[null,null,null,null,null,null,null,null,null,null,null,{"$f":"referentes!T689&referentes!U689","v":""},{"$f":"referentes!S689","v":0},{"$f":"referentes!W689","v":0}]
[null,null,null,null,null,null,null,null,null,null,null,{"$f":"referentes!T690&referentes!U690","v":""},{"$f":"referentes!S690","v":0},{"$f":"referentes!W690","v":0}]
[null,null,null,null,null,null,null,null,null,null,null,{"$f":"referentes!T691&referentes!U691","v":""},{"$f":"referentes!S691","v":0},{"$f":"referentes!W691","v":0}]
[null,null,null,null,null,null,null,null,null,null,null,{"$f":"referentes!T692&referentes!U692","v":""},{"$f":"referentes!S692","v":0},{"$f":"referentes!W692","v":0}]
[null,null,null,null,null,null,null,null,null,null,null,{"$f":"referentes!T693&referentes!U693","v":""},{"$f":"referentes!S693","v":0},{"$f":"referentes!W693","v":0}]
[null,null,null,null,null,null,null,null,null,null,null,{"$f":"referentes!T694&referentes!U694","v":""},{"$f":"referentes!S694","v":0},{"$f":"referentes!W694","v":0}]
[null,null,null,null,null,null,null,null,null,null,null,{"$f":"referentes!T695&referentes!U695","v":""},{"$f":"referentes!S695","v":0},{"$f":"referentes!W695","v":0}]
[null,null,null,null,null,null,null,null,null,null,null,{"$f":"referentes!T696&referentes!U696","v":""},{"$f":"referentes!S696","v":0},{"$f":"referentes!W696","v":0}]
[null,null,null,null,null,null,null,null,null,null,null,{"$f":"referentes!T697&referentes!U697","v":""},{"$f":"referentes!S697","v":0},{"$f":"referentes!W697","v":0}]
[null,null,null,null,null,null,null,null,null,null,null,{"$f":"referentes!T698&referentes!U698","v":""},{"$f":"referentes!S698","v":0},{"$f":"referentes!W698","v":0}]
[null,null,null,null,null,null,null,null,null,null,null,{"$f":"referentes!T699&referentes!U699","v":""},{"$f":"referentes!S699","v":0},{"$f":"referentes!W699","v":0}]
[null,null,null,null,null,null,null,null,null,null,null,{"$f":"referentes!T700&referentes!U700","v":""},{"$f":"referentes!S700","v":0},{"$f":"referentes!W700","v":0}]
[null,null,null,null,null,null,null,null,null,null,null,{"$f":"referentes!T701&referentes!U701","v":""},{"$f":"referentes!S701","v":0},{"$f":"referentes!W701","v":0}]
[null,null,null,null,null,null,null,null,null,null,null,{"$f":"referentes!T702&referentes!U702","v":""},{"$f":"referentes!S702","v":0},{"$f":"referentes!W702","v":0}]
[null,null,null,null,null,null,null,null,null,null,null,{"$f":"referentes!T703&referentes!U703","v":""},{"$f":"referentes!S703","v":0},{"$f":"referentes!W703","v":0}]
[null,null,null,null,null,null,null,null,null,null,null,{"$f":"referentes!T704&referentes!U704","v":""},{"$f":"referentes!S704","v":0},{"$f":"referentes!W704","v":0}]
[null,null,null,null,null,null,null,null,null,null,null,{"$f":"referentes!T705&referentes!U705","v":""},{"$f":"referentes!S705","v":0},{"$f":"referentes!W705","v":0}]
[null,null,null,null,null,null,null,null,null,null,null,{"$f":"referentes!T706&referentes!U706","v":""},{"$f":"referentes!S706","v":0},{"$f":"referentes!W706","v":0}]
[null,null,null,null,null,null,null,null,null,null,null,{"$f":"referentes!T707&referentes!U707","v":""},{"$f":"referentes!S707","v":0},{"$f":"referentes!W707","v":0}]
[null,null,null,null,null,null,null,null,null,null,null,{"$f":"referentes!T708&referentes!U708","v":""},{"$f":"referentes!S708","v":0},{"$f":"referentes!W708","v":0}]
[null,null,null,null,null,null,null,null,null,null,null,{"$f":"referentes!T709&referentes!U709","v":""},{"$f":"referentes!S709","v":0},{"$f":"referentes!W709","v":0}]
[null,null,null,null,null,null,null,null,null,null,null,{"$f":"referentes!T710&referentes!U710","v":""},{"$f":"referentes!S710","v":0},{"$f":"referentes!W710","v":0}]
[null,null,null,null,null,null,null,null,null,null,null,{"$f":"referentes!T711&referentes!U711","v":""},{"$f":"referentes!S711","v":0},{"$f":"referentes!W711","v":0}]
[null,null,null,null,null,null,null,null,null,null,null,{"$f":"referentes!T712&referentes!U712","v":""},{"$f":"referentes!S712","v":0},{"$f":"referentes!W712","v":0}]
[null,null,null,null,null,null,null,null,null,null,null,{"$f":"referentes!T713&referentes!U713","v":""},{"$f":"referentes!S713","v":0},{"$f":"referentes!W713","v":0}]
[null,null,null,null,null,null,null,null,null,null,null,{"$f":"referentes!T714&referentes!U714","v":""},{"$f":"referentes!S714","v":0},{"$f":"referentes!W714","v":0}]
[null,null,null,null,null,null,null,null,null,null,null,{"$f":"referentes!T715&referentes!U715","v":""},{"$f":"referentes!S715","v":0},{"$f":"referentes!W715","v":0}]
[null,null,null,null,null,null,null,null,null,null,null,{"$f":"referentes!T716&referentes!U716","v":""},{"$f":"referentes!S716","v":0},{"$f":"referentes!W716","v":0}]
[null,null,null,null,null,null,null,null,null,null,null,{"$f":"referentes!T717&referentes!U717","v":""},{"$f":"referentes!S717","v":0},{"$f":"referentes!W717","v":0}]
[null,null,null,null,null,null,null,null,null,null,null,{"$f":"referentes!T718&referentes!U718","v":""},{"$f":"referentes!S718","v":0},{"$f":"referentes!W718","v":0}]
[null,null,null,null,null,null,null,null,null,null,null,{"$f":"referentes!T719&referentes!U719","v":""},{"$f":"referentes!S719","v":0},{"$f":"referentes!W719","v":0}]
[null,null,null,null,null,null,null,null,null,null,null,{"$f":"referentes!T720&referentes!U720","v":""},{"$f":"referentes!S720","v":0},{"$f":"referentes!W720","v":0}]
[null,null,null,null,null,null,null,null,null,null,null,{"$f":"referentes!T721&referentes!U721","v":""},{"$f":"referentes!S721","v":0},{"$f":"referentes!W721","v":0}]
[null,null,null,null,null,null,null,null,null,null,null,{"$f":"referentes!T722&referentes!U722","v":""},{"$f":"referentes!S722","v":0},{"$f":"referentes!W722","v":0}]
[null,null,null,null,null,null,null,null,null,null,null,{"$f":"referentes!T723&referentes!U723","v":""},{"$f":"referentes!S723","v":0},{"$f":"referentes!W723","v":0}]
[null,null,null,null,null,null,null,null,null,null,null,{"$f":"referentes!T724&referentes!U724","v":""},{"$f":"referentes!S724","v":0},{"$f":"referentes!W724","v":0}]
[null,null,null,null,null,null,null,null,null,null,null,{"$f":"referentes!T725&referentes!U725","v":""},{"$f":"referentes!S725","v":0},{"$f":"referentes!W725","v":0}]
[null,null,null,null,null,null,null,null,null,null,null,{"$f":"referentes!T726&referentes!U726","v":""},{"$f":"referentes!S726","v":0},{"$f":"referentes!W726","v":0}]
[null,null,null,null,null,null,null,null,null,null,null,{"$f":"referentes!T727&referentes!U727","v":""},{"$f":"referentes!S727","v":0},{"$f":"referentes!W727","v":0}]
[null,null,null,null,null,null,null,null,null,null,null,{"$f":"referentes!T728&referentes!U728","v":""},{"$f":"referentes!S728","v":0},{"$f":"referentes!W728","v":0}]
[null,null,null,null,null,null,null,null,null,null,null,{"$f":"referentes!T729&referentes!U729","v":""},{"$f":"referentes!S729","v":0},{"$f":"referentes!W729","v":0}]
[null,null,null,null,null,null,null,null,null,null,null,{"$f":"referentes!T730&referentes!U730","v":""},{"$f":"referentes!S730","v":0},{"$f":"referentes!W730","v":0}]
[null,null,null,null,null,null,null,null,null,null,null,{"$f":"referentes!T731&referentes!U731","v":""},{"$f":"referentes!S731","v":0},{"$f":"referentes!W731","v":0}]
[null,null,null,null,null,null,null,null,null,null,null,{"$f":"referentes!T732&referentes!U732","v":""},{"$f":"referentes!S732","v":0},{"$f":"referentes!W732","v":0}]
[null,null,null,null,null,null,null,null,null,null,null,{"$f":"referentes!T733&referentes!U733","v":""},{"$f":"referentes!S733","v":0},{"$f":"referentes!W733","v":0}]
[null,null,null,null,null,null,null,null,null,null,null,{"$f":"referentes!T734&referentes!U734","v":""},{"$f":"referentes!S734","v":0},{"$f":"referentes!W734","v":0}]
[null,null,null,null,null,null,null,null,null,null,null,{"$f":"referentes!T735&referentes!U735","v":""},{"$f":"referentes!S735","v":0},{"$f":"referentes!W735","v":0}]
[null,null,null,null,null,null,null,null,null,null,null,{"$f":"referentes!T736&referentes!U736","v":""},{"$f":"referentes!S736","v":0},{"$f":"referentes!W736","v":0}]
[null,null,null,null,null,null,null,null,null,null,null,{"$f":"referentes!T737&referentes!U737","v":""},{"$f":"referentes!S737","v":0},{"$f":"referentes!W737","v":0}]
[null,null,null,null,null,null,null,null,null,null,null,{"$f":"referentes!T738&referentes!U738","v":""},{"$f":"referentes!S738","v":0},{"$f":"referentes!W738","v":0}]
[null,null,null,null,null,null,null,null,null,null,null,{"$f":"referentes!T739&referentes!U739","v":""},{"$f":"referentes!S739","v":0},{"$f":"referentes!W739","v":0}]
[null,null,null,null,null,null,null,null,null,null,null,{"$f":"referentes!T740&referentes!U740","v":""},{"$f":"referentes!S740","v":0},{"$f":"referentes!W740","v":0}]
[null,null,null,null,null,null,null,null,null,null,null,{"$f":"referentes!T741&referentes!U741","v":""},{"$f":"referentes!S741","v":0},{"$f":"referentes!W741","v":0}]
[null,null,null,null,null,null,null,null,null,null,null,{"$f":"referentes!T742&referentes!U742","v":""},{"$f":"referentes!S742","v":0},{"$f":"referentes!W742","v":0}]
[null,null,null,null,null,null,null,null,null,null,null,{"$f":"referentes!T743&referentes!U743","v":""},{"$f":"referentes!S743","v":0},{"$f":"referentes!W743","v":0}]
[null,null,null,null,null,null,null,null,null,null,null,{"$f":"referentes!T744&referentes!U744","v":""},{"$f":"referentes!S744","v":0},{"$f":"referentes!W744","v":0}]
[null,null,null,null,null,null,null,null,null,null,null,{"$f":"referentes!T745&referentes!U745","v":""},{"$f":"referentes!S745","v":0},{"$f":"referentes!W745","v":0}]
[null,null,null,null,null,null,null,null,null,null,null,{"$f":"referentes!T746&referentes!U746","v":""},{"$f":"referentes!S746","v":0},{"$f":"referentes!W746","v":0}]
[null,null,null,null,null,null,null,null,null,null,null,{"$f":"referentes!T747&referentes!U747","v":""},{"$f":"referentes!S747","v":0},{"$f":"referentes!W747","v":0}]
[null,null,null,null,null,null,null,null,null,null,null,{"$f":"referentes!T748&referentes!U748","v":""},{"$f":"referentes!S748","v":0},{"$f":"referentes!W748","v":0}]
[null,null,null,null,null,null,null,null,null,null,null,{"$f":"referentes!T749&referentes!U749","v":""},{"$f":"referentes!S749","v":0},{"$f":"referentes!W749","v":0}]
[null,null,null,null,null,null,null,null,null,null,null,{"$f":"referentes!T750&referentes!U750","v":""},{"$f":"referentes!S750","v":0},{"$f":"referentes!W750","v":0}]
[null,null,null,null,null,null,null,null,null,null,null,{"$f":"referentes!T751&referentes!U751","v":""},{"$f":"referentes!S751","v":0},{"$f":"referentes!W751","v":0}]
[null,null,null,null,null,null,null,null,null,null,null,{"$f":"referentes!T752&referentes!U752","v":""},{"$f":"referentes!S752","v":0},{"$f":"referentes!W752","v":0}]
[null,null,null,null,null,null,null,null,null,null,null,{"$f":"referentes!T753&referentes!U753","v":""},{"$f":"referentes!S753","v":0},{"$f":"referentes!W753","v":0}]
[null,null,null,null,null,null,null,null,null,null,null,{"$f":"referentes!T754&referentes!U754","v":""},{"$f":"referentes!S754","v":0},{"$f":"referentes!W754","v":0}]
[null,null,null,null,null,null,null,null,null,null,null,{"$f":"referentes!T755&referentes!U755","v":""},{"$f":"referentes!S755","v":0},{"$f":"referentes!W755","v":0}]
[null,null,null,null,null,null,null,null,null,null,null,{"$f":"referentes!T756&referentes!U756","v":""},{"$f":"referentes!S756","v":0},{"$f":"referentes!W756","v":0}]
[null,null,null,null,null,null,null,null,null,null,null,{"$f":"referentes!T757&referentes!U757","v":""},{"$f":"referentes!S757","v":0},{"$f":"referentes!W757","v":0}]
[null,null,null,null,null,null,null,null,null,null,null,{"$f":"referentes!T758&referentes!U758","v":""},{"$f":"referentes!S758","v":0},{"$f":"referentes!W758","v":0}]
[null,null,null,null,null,null,null,null,null,null,null,{"$f":"referentes!T759&referentes!U759","v":""},{"$f":"referentes!S759","v":0},{"$f":"referentes!W759","v":0}]
[null,null,null,null,null,null,null,null,null,null,null,{"$f":"referentes!T760&referentes!U760","v":""},{"$f":"referentes!S760","v":0},{"$f":"referentes!W760","v":0}]
[null,null,null,null,null,null,null,null,null,null,null,{"$f":"referentes!T761&referentes!U761","v":""},{"$f":"referentes!S761","v":0},{"$f":"referentes!W761","v":0}]
[null,null,null,null,null,null,null,null,null,null,null,{"$f":"referentes!T762&referentes!U762","v":""},{"$f":"referentes!S762","v":0},{"$f":"referentes!W762","v":0}]
[null,null,null,null,null,null,null,null,null,null,null,{"$f":"referentes!T763&referentes!U763","v":""},{"$f":"referentes!S763","v":0},{"$f":"referentes!W763","v":0}]
[null,null,null,null,null,null,null,null,null,null,null,{"$f":"referentes!T764&referentes!U764","v":""},{"$f":"referentes!S764","v":0},{"$f":"referentes!W764","v":0}]
[null,null,null,null,null,null,null,null,null,null,null,{"$f":"referentes!T765&referentes!U765","v":""},{"$f":"referentes!S765","v":0},{"$f":"referentes!W765","v":0}]
[null,null,null,null,null,null,null,null,null,null,null,{"$f":"referentes!T766&referentes!U766","v":""},{"$f":"referentes!S766","v":0},{"$f":"referentes!W766","v":0}]
[null,null,null,null,null,null,null,null,null,null,null,{"$f":"referentes!T767&referentes!U767","v":""},{"$f":"referentes!S767","v":0},{"$f":"referentes!W767","v":0}]
[null,null,null,null,null,null,null,null,null,null,null,{"$f":"referentes!T768&referentes!U768","v":""},{"$f":"referentes!S768","v":0},{"$f":"referentes!W768","v":0}]
[null,null,null,null,null,null,null,null,null,null,null,{"$f":"referentes!T769&referentes!U769","v":""},{"$f":"referentes!S769","v":0},{"$f":"referentes!W769","v":0}]
[null,null,null,null,null,null,null,null,null,null,null,{"$f":"referentes!T770&referentes!U770","v":""},{"$f":"referentes!S770","v":0},{"$f":"referentes!W770","v":0}]
[null,null,null,null,null,null,null,null,null,null,null,{"$f":"referentes!T771&referentes!U771","v":""},{"$f":"referentes!S771","v":0},{"$f":"referentes!W771","v":0}]
[null,null,null,null,null,null,null,null,null,null,null,{"$f":"referentes!T772&referentes!U772","v":""},{"$f":"referentes!S772","v":0},{"$f":"referentes!W772","v":0}]
[null,null,null,null,null,null,null,null,null,null,null,{"$f":"referentes!T773&referentes!U773","v":""},{"$f":"referentes!S773","v":0},{"$f":"referentes!W773","v":0}]
[null,null,null,null,null,null,null,null,null,null,null,{"$f":"referentes!T774&referentes!U774","v":""},{"$f":"referentes!S774","v":0},{"$f":"referentes!W774","v":0}]
[null,null,null,null,null,null,null,null,null,null,null,{"$f":"referentes!T775&referentes!U775","v":""},{"$f":"referentes!S775","v":0},{"$f":"referentes!W775","v":0}]
[null,null,null,null,null,null,null,null,null,null,null,{"$f":"referentes!T776&referentes!U776","v":""},{"$f":"referentes!S776","v":0},{"$f":"referentes!W776","v":0}]
[null,null,null,null,null,null,null,null,null,null,null,{"$f":"referentes!T777&referentes!U777","v":""},{"$f":"referentes!S777","v":0},{"$f":"referentes!W777","v":0}]
[null,null,null,null,null,null,null,null,null,null,null,{"$f":"referentes!T778&referentes!U778","v":""},{"$f":"referentes!S778","v":0},{"$f":"referentes!W778","v":0}]
[null,null,null,null,null,null,null,null,null,null,null,{"$f":"referentes!T779&referentes!U779","v":""},{"$f":"referentes!S779","v":0},{"$f":"referentes!W779","v":0}]
[null,null,null,null,null,null,null,null,null,null,null,{"$f":"referentes!T780&referentes!U780","v":""},{"$f":"referentes!S780","v":0},{"$f":"referentes!W780","v":0}]
[null,null,null,null,null,null,null,null,null,null,null,{"$f":"referentes!T781&referentes!U781","v":""},{"$f":"referentes!S781","v":0},{"$f":"referentes!W781","v":0}]
[null,null,null,null,null,null,null,null,null,null,null,{"$f":"referentes!T782&referentes!U782","v":""},{"$f":"referentes!S782","v":0},{"$f":"referentes!W782","v":0}]
[null,null,null,null,null,null,null,null,null,null,null,{"$f":"referentes!T783&referentes!U783","v":""},{"$f":"referentes!S783","v":0},{"$f":"referentes!W783","v":0}]
[null,null,null,null,null,null,null,null,null,null,null,{"$f":"referentes!T784&referentes!U784","v":""},{"$f":"referentes!S784","v":0},{"$f":"referentes!W784","v":0}]
[null,null,null,null,null,null,null,null,null,null,null,{"$f":"referentes!T785&referentes!U785","v":""},{"$f":"referentes!S785","v":0},{"$f":"referentes!W785","v":0}]
[null,null,null,null,null,null,null,null,null,null,null,{"$f":"referentes!T786&referentes!U786","v":""},{"$f":"referentes!S786","v":0},{"$f":"referentes!W786","v":0}]
[null,null,null,null,null,null,null,null,null,null,null,{"$f":"referentes!T787&referentes!U787","v":""},{"$f":"referentes!S787","v":0},{"$f":"referentes!W787","v":0}]
[null,null,null,null,null,null,null,null,null,null,null,{"$f":"referentes!T788&referentes!U788","v":""},{"$f":"referentes!S788","v":0},{"$f":"referentes!W788","v":0}]
[null,null,null,null,null,null,null,null,null,null,null,{"$f":"referentes!T789&referentes!U789","v":""},{"$f":"referentes!S789","v":0},{"$f":"referentes!W789","v":0}]
[null,null,null,null,null,null,null,null,null,null,null,{"$f":"referentes!T790&referentes!U790","v":""},{"$f":"referentes!S790","v":0},{"$f":"referentes!W790","v":0}]
[null,null,null,null,null,null,null,null,null,null,null,{"$f":"referentes!T791&referentes!U791","v":""},{"$f":"referentes!S791","v":0},{"$f":"referentes!W791","v":0}]
[null,null,null,null,null,null,null,null,null,null,null,{"$f":"referentes!T792&referentes!U792","v":""},{"$f":"referentes!S792","v":0},{"$f":"referentes!W792","v":0}]
[null,null,null,null,null,null,null,null,null,null,null,{"$f":"referentes!T793&referentes!U793","v":""},{"$f":"referentes!S793","v":0},{"$f":"referentes!W793","v":0}]
[null,null,null,null,null,null,null,null,null,null,null,{"$f":"referentes!T794&referentes!U794","v":""},{"$f":"referentes!S794","v":0},{"$f":"referentes!W794","v":0}]
[null,null,null,null,null,null,null,null,null,null,null,{"$f":"referentes!T795&referentes!U795","v":""},{"$f":"referentes!S795","v":0},{"$f":"referentes!W795","v":0}]
[null,null,null,null,null,null,null,null,null,null,null,{"$f":"referentes!T796&referentes!U796","v":""},{"$f":"referentes!S796","v":0},{"$f":"referentes!W796","v":0}]
[null,null,null,null,null,null,null,null,null,null,null,{"$f":"referentes!T797&referentes!U797","v":""},{"$f":"referentes!S797","v":0},{"$f":"referentes!W797","v":0}]
[null,null,null,null,null,null,null,null,null,null,null,{"$f":"referentes!T798&referentes!U798","v":""},{"$f":"referentes!S798","v":0},{"$f":"referentes!W798","v":0}]
[null,null,null,null,null,null,null,null,null,null,null,{"$f":"referentes!T799&referentes!U799","v":""},{"$f":"referentes!S799","v":0},{"$f":"referentes!W799","v":0}]
[null,null,null,null,null,null,null,null,null,null,null,{"$f":"referentes!T800&referentes!U800","v":""},{"$f":"referentes!S800","v":0},{"$f":"referentes!W800","v":0}]
[null,null,null,null,null,null,null,null,null,null,null,{"$f":"referentes!T801&referentes!U801","v":""},{"$f":"referentes!S801","v":0},{"$f":"referentes!W801","v":0}]
[null,null,null,null,null,null,null,null,null,null,null,{"$f":"referentes!T802&referentes!U802","v":""},{"$f":"referentes!S802","v":0},{"$f":"referentes!W802","v":0}]
[null,null,null,null,null,null,null,null,null,null,null,{"$f":"referentes!T803&referentes!U803","v":""},{"$f":"referentes!S803","v":0},{"$f":"referentes!W803","v":0}]
[null,null,null,null,null,null,null,null,null,null,null,{"$f":"referentes!T804&referentes!U804","v":""},{"$f":"referentes!S804","v":0},{"$f":"referentes!W804","v":0}]
[null,null,null,null,null,null,null,null,null,null,null,{"$f":"referentes!T805&referentes!U805","v":""},{"$f":"referentes!S805","v":0},{"$f":"referentes!W805","v":0}]
[null,null,null,null,null,null,null,null,null,null,null,{"$f":"referentes!T806&referentes!U806","v":""},{"$f":"referentes!S806","v":0},{"$f":"referentes!W806","v":0}]
[null,null,null,null,null,null,null,null,null,null,null,{"$f":"referentes!T807&referentes!U807","v":""},{"$f":"referentes!S807","v":0},{"$f":"referentes!W807","v":0}]
[null,null,null,null,null,null,null,null,null,null,null,{"$f":"referentes!T808&referentes!U808","v":""},{"$f":"referentes!S808","v":0},{"$f":"referentes!W808","v":0}]
[null,null,null,null,null,null,null,null,null,null,null,{"$f":"referentes!T809&referentes!U809","v":""},{"$f":"referentes!S809","v":0},{"$f":"referentes!W809","v":0}]
[null,null,null,null,null,null,null,null,null,null,null,{"$f":"referentes!T810&referentes!U810","v":""},{"$f":"referentes!S810","v":0},{"$f":"referentes!W810","v":0}]
[null,null,null,null,null,null,null,null,null,null,null,{"$f":"referentes!T811&referentes!U811","v":""},{"$f":"referentes!S811","v":0},{"$f":"referentes!W811","v":0}]
[null,null,null,null,null,null,null,null,null,null,null,{"$f":"referentes!T812&referentes!U812","v":""},{"$f":"referentes!S812","v":0},{"$f":"referentes!W812","v":0}]
[null,null,null,null,null,null,null,null,null,null,null,{"$f":"referentes!T813&referentes!U813","v":""},{"$f":"referentes!S813","v":0},{"$f":"referentes!W813","v":0}]
[null,null,null,null,null,null,null,null,null,null,null,{"$f":"referentes!T814&referentes!U814","v":""},{"$f":"referentes!S814","v":0},{"$f":"referentes!W814","v":0}]
[null,null,null,null,null,null,null,null,null,null,null,{"$f":"referentes!T815&referentes!U815","v":""},{"$f":"referentes!S815","v":0},{"$f":"referentes!W815","v":0}]
[null,null,null,null,null,null,null,null,null,null,null,{"$f":"referentes!T816&referentes!U816","v":""},{"$f":"referentes!S816","v":0},{"$f":"referentes!W816","v":0}]
[null,null,null,null,null,null,null,null,null,null,null,{"$f":"referentes!T817&referentes!U817","v":""},{"$f":"referentes!S817","v":0},{"$f":"referentes!W817","v":0}]
[null,null,null,null,null,null,null,null,null,null,null,{"$f":"referentes!T818&referentes!U818","v":""},{"$f":"referentes!S818","v":0},{"$f":"referentes!W818","v":0}]
[null,null,null,null,null,null,null,null,null,null,null,{"$f":"referentes!T819&referentes!U819","v":""},{"$f":"referentes!S819","v":0},{"$f":"referentes!W819","v":0}]
[null,null,null,null,null,null,null,null,null,null,null,{"$f":"referentes!T820&referentes!U820","v":""},{"$f":"referentes!S820","v":0},{"$f":"referentes!W820","v":0}]
[null,null,null,null,null,null,null,null,null,null,null,{"$f":"referentes!T821&referentes!U821","v":""},{"$f":"referentes!S821","v":0},{"$f":"referentes!W821","v":0}]
[null,null,null,null,null,null,null,null,null,null,null,{"$f":"referentes!T822&referentes!U822","v":""},{"$f":"referentes!S822","v":0},{"$f":"referentes!W822","v":0}]
[null,null,null,null,null,null,null,null,null,null,null,{"$f":"referentes!T823&referentes!U823","v":""},{"$f":"referentes!S823","v":0},{"$f":"referentes!W823","v":0}]
[null,null,null,null,null,null,null,null,null,null,null,{"$f":"referentes!T824&referentes!U824","v":""},{"$f":"referentes!S824","v":0},{"$f":"referentes!W824","v":0}]
[null,null,null,null,null,null,null,null,null,null,null,{"$f":"referentes!T825&referentes!U825","v":""},{"$f":"referentes!S825","v":0},{"$f":"referentes!W825","v":0}]
[null,null,null,null,null,null,null,null,null,null,null,{"$f":"referentes!T826&referentes!U826","v":""},{"$f":"referentes!S826","v":0},{"$f":"referentes!W826","v":0}]
[null,null,null,null,null,null,null,null,null,null,null,{"$f":"referentes!T827&referentes!U827","v":""},{"$f":"referentes!S827","v":0},{"$f":"referentes!W827","v":0}]
[null,null,null,null,null,null,null,null,null,null,null,{"$f":"referentes!T828&referentes!U828","v":""},{"$f":"referentes!S828","v":0},{"$f":"referentes!W828","v":0}]
[null,null,null,null,null,null,null,null,null,null,null,{"$f":"referentes!T829&referentes!U829","v":""},{"$f":"referentes!S829","v":0},{"$f":"referentes!W829","v":0}]
[null,null,null,null,null,null,null,null,null,null,null,{"$f":"referentes!T830&referentes!U830","v":""},{"$f":"referentes!S830","v":0},{"$f":"referentes!W830","v":0}]
[null,null,null,null,null,null,null,null,null,null,null,{"$f":"referentes!T831&referentes!U831","v":""},{"$f":"referentes!S831","v":0},{"$f":"referentes!W831","v":0}]
[null,null,null,null,null,null,null,null,null,null,null,{"$f":"referentes!T832&referentes!U832","v":""},{"$f":"referentes!S832","v":0},{"$f":"referentes!W832","v":0}]
[null,null,null,null,null,null,null,null,null,null,null,{"$f":"referentes!T833&referentes!U833","v":""},{"$f":"referentes!S833","v":0},{"$f":"referentes!W833","v":0}]
[null,null,null,null,null,null,null,null,null,null,null,{"$f":"referentes!T834&referentes!U834","v":""},{"$f":"referentes!S834","v":0},{"$f":"referentes!W834","v":0}]
[null,null,null,null,null,null,null,null,null,null,null,{"$f":"referentes!T835&referentes!U835","v":""},{"$f":"referentes!S835","v":0},{"$f":"referentes!W835","v":0}]
[null,null,null,null,null,null,null,null,null,null,null,{"$f":"referentes!T836&referentes!U836","v":""},{"$f":"referentes!S836","v":0},{"$f":"referentes!W836","v":0}]
[null,null,null,null,null,null,null,null,null,null,null,{"$f":"referentes!T837&referentes!U837","v":""},{"$f":"referentes!S837","v":0},{"$f":"referentes!W837","v":0}]
[null,null,null,null,null,null,null,null,null,null,null,{"$f":"referentes!T838&referentes!U838","v":""},{"$f":"referentes!S838","v":0},{"$f":"referentes!W838","v":0}]
[null,null,null,null,null,null,null,null,null,null,null,{"$f":"referentes!T839&referentes!U839","v":""},{"$f":"referentes!S839","v":0},{"$f":"referentes!W839","v":0}]
[null,null,null,null,null,null,null,null,null,null,null,{"$f":"referentes!T840&referentes!U840","v":""},{"$f":"referentes!S840","v":0},{"$f":"referentes!W840","v":0}]
[null,null,null,null,null,null,null,null,null,null,null,{"$f":"referentes!T841&referentes!U841","v":""},{"$f":"referentes!S841","v":0},{"$f":"referentes!W841","v":0}]
[null,null,null,null,null,null,null,null,null,null,null,{"$f":"referentes!T842&referentes!U842","v":""},{"$f":"referentes!S842","v":0},{"$f":"referentes!W842","v":0}]
[null,null,null,null,null,null,null,null,null,null,null,{"$f":"referentes!T843&referentes!U843","v":""},{"$f":"referentes!S843","v":0},{"$f":"referentes!W843","v":0}]
[null,null,null,null,null,null,null,null,null,null,null,{"$f":"referentes!T844&referentes!U844","v":""},{"$f":"referentes!S844","v":0},{"$f":"referentes!W844","v":0}]
[null,null,null,null,null,null,null,null,null,null,null,{"$f":"referentes!T845&referentes!U845","v":""},{"$f":"referentes!S845","v":0},{"$f":"referentes!W845","v":0}]
[null,null,null,null,null,null,null,null,null,null,null,{"$f":"referentes!T846&referentes!U846","v":""},{"$f":"referentes!S846","v":0},{"$f":"referentes!W846","v":0}]
[null,null,null,null,null,null,null,null,null,null,null,{"$f":"referentes!T847&referentes!U847","v":""},{"$f":"referentes!S847","v":0},{"$f":"referentes!W847","v":0}]
[null,null,null,null,null,null,null,null,null,null,null,{"$f":"referentes!T848&referentes!U848","v":""},{"$f":"referentes!S848","v":0},{"$f":"referentes!W848","v":0}]
[null,null,null,null,null,null,null,null,null,null,null,{"$f":"referentes!T849&referentes!U849","v":""},{"$f":"referentes!S849","v":0},{"$f":"referentes!W849","v":0}]
[null,null,null,null,null,null,null,null,null,null,null,{"$f":"referentes!T850&referentes!U850","v":""},{"$f":"referentes!S850","v":0},{"$f":"referentes!W850","v":0}]
[null,null,null,null,null,null,null,null,null,null,null,{"$f":"referentes!T851&referentes!U851","v":""},{"$f":"referentes!S851","v":0},{"$f":"referentes!W851","v":0}]
[null,null,null,null,null,null,null,null,null,null,null,{"$f":"referentes!T852&referentes!U852","v":""},{"$f":"referentes!S852","v":0},{"$f":"referentes!W852","v":0}]
[null,null,null,null,null,null,null,null,null,null,null,{"$f":"referentes!T853&referentes!U853","v":""},{"$f":"referentes!S853","v":0},{"$f":"referentes!W853","v":0}]
[null,null,null,null,null,null,null,null,null,null,null,{"$f":"referentes!T854&referentes!U854","v":""},{"$f":"referentes!S854","v":0},{"$f":"referentes!W854","v":0}]
[null,null,null,null,null,null,null,null,null,null,null,{"$f":"referentes!T855&referentes!U855","v":""},{"$f":"referentes!S855","v":0},{"$f":"referentes!W855","v":0}]
[null,null,null,null,null,null,null,null,null,null,null,{"$f":"referentes!T856&referentes!U856","v":""},{"$f":"referentes!S856","v":0},{"$f":"referentes!W856","v":0}]
[null,null,null,null,null,null,null,null,null,null,null,{"$f":"referentes!T857&referentes!U857","v":""},{"$f":"referentes!S857","v":0},{"$f":"referentes!W857","v":0}]
[null,null,null,null,null,null,null,null,null,null,null,{"$f":"referentes!T858&referentes!U858","v":""},{"$f":"referentes!S858","v":0},{"$f":"referentes!W858","v":0}]
[null,null,null,null,null,null,null,null,null,null,null,{"$f":"referentes!T859&referentes!U859","v":""},{"$f":"referentes!S859","v":0},{"$f":"referentes!W859","v":0}]
[null,null,null,null,null,null,null,null,null,null,null,{"$f":"referentes!T860&referentes!U860","v":""},{"$f":"referentes!S860","v":0},{"$f":"referentes!W860","v":0}]
[null,null,null,null,null,null,null,null,null,null,null,{"$f":"referentes!T861&referentes!U861","v":""},{"$f":"referentes!S861","v":0},{"$f":"referentes!W861","v":0}]
[null,null,null,null,null,null,null,null,null,null,null,{"$f":"referentes!T862&referentes!U862","v":""},{"$f":"referentes!S862","v":0},{"$f":"referentes!W862","v":0}]
[null,null,null,null,null,null,null,null,null,null,null,{"$f":"referentes!T863&referentes!U863","v":""},{"$f":"referentes!S863","v":0},{"$f":"referentes!W863","v":0}]
[null,null,null,null,null,null,null,null,null,null,null,{"$f":"referentes!T864&referentes!U864","v":""},{"$f":"referentes!S864","v":0},{"$f":"referentes!W864","v":0}]
[null,null,null,null,null,null,null,null,null,null,null,{"$f":"referentes!T865&referentes!U865","v":""},{"$f":"referentes!S865","v":0},{"$f":"referentes!W865","v":0}]
[null,null,null,null,null,null,null,null,null,null,null,{"$f":"referentes!T866&referentes!U866","v":""},{"$f":"referentes!S866","v":0},{"$f":"referentes!W866","v":0}]
[null,null,null,null,null,null,null,null,null,null,null,{"$f":"referentes!T867&referentes!U867","v":""},{"$f":"referentes!S867","v":0},{"$f":"referentes!W867","v":0}]
[null,null,null,null,null,null,null,null,null,null,null,{"$f":"referentes!T868&referentes!U868","v":""},{"$f":"referentes!S868","v":0},{"$f":"referentes!W868","v":0}]
[null,null,null,null,null,null,null,null,null,null,null,{"$f":"referentes!T869&referentes!U869","v":""},{"$f":"referentes!S869","v":0},{"$f":"referentes!W869","v":0}]
[null,null,null,null,null,null,null,null,null,null,null,{"$f":"referentes!T870&referentes!U870","v":""},{"$f":"referentes!S870","v":0},{"$f":"referentes!W870","v":0}]
[null,null,null,null,null,null,null,null,null,null,null,{"$f":"referentes!T871&referentes!U871","v":""},{"$f":"referentes!S871","v":0},{"$f":"referentes!W871","v":0}]
[null,null,null,null,null,null,null,null,null,null,null,{"$f":"referentes!T872&referentes!U872","v":""},{"$f":"referentes!S872","v":0},{"$f":"referentes!W872","v":0}]
[null,null,null,null,null,null,null,null,null,null,null,{"$f":"referentes!T873&referentes!U873","v":""},{"$f":"referentes!S873","v":0},{"$f":"referentes!W873","v":0}]
[null,null,null,null,null,null,null,null,null,null,null,{"$f":"referentes!T874&referentes!U874","v":""},{"$f":"referentes!S874","v":0},{"$f":"referentes!W874","v":0}]
[null,null,null,null,null,null,null,null,null,null,null,{"$f":"referentes!T875&referentes!U875","v":""},{"$f":"referentes!S875","v":0},{"$f":"referentes!W875","v":0}]
[null,null,null,null,null,null,null,null,null,null,null,{"$f":"referentes!T876&referentes!U876","v":""},{"$f":"referentes!S876","v":0},{"$f":"referentes!W876","v":0}]
[null,null,null,null,null,null,null,null,null,null,null,{"$f":"referentes!T877&referentes!U877","v":""},{"$f":"referentes!S877","v":0},{"$f":"referentes!W877","v":0}]
[null,null,null,null,null,null,null,null,null,null,null,{"$f":"referentes!T878&referentes!U878","v":""},{"$f":"referentes!S878","v":0},{"$f":"referentes!W878","v":0}]
[null,null,null,null,null,null,null,null,null,null,null,{"$f":"referentes!T879&referentes!U879","v":""},{"$f":"referentes!S879","v":0},{"$f":"referentes!W879","v":0}]
[null,null,null,null,null,null,null,null,null,null,null,{"$f":"referentes!T880&referentes!U880","v":""},{"$f":"referentes!S880","v":0},{"$f":"referentes!W880","v":0}]
[null,null,null,null,null,null,null,null,null,null,null,{"$f":"referentes!T881&referentes!U881","v":""},{"$f":"referentes!S881","v":0},{"$f":"referentes!W881","v":0}]
[null,null,null,null,null,null,null,null,null,null,null,{"$f":"referentes!T882&referentes!U882","v":""},{"$f":"referentes!S882","v":0},{"$f":"referentes!W882","v":0}]
[null,null,null,null,null,null,null,null,null,null,null,{"$f":"referentes!T883&referentes!U883","v":""},{"$f":"referentes!S883","v":0},{"$f":"referentes!W883","v":0}]
[null,null,null,null,null,null,null,null,null,null,null,{"$f":"referentes!T884&referentes!U884","v":""},{"$f":"referentes!S884","v":0},{"$f":"referentes!W884","v":0}]
[null,null,null,null,null,null,null,null,null,null,null,{"$f":"referentes!T885&referentes!U885","v":""},{"$f":"referentes!S885","v":0},{"$f":"referentes!W885","v":0}]
[null,null,null,null,null,null,null,null,null,null,null,{"$f":"referentes!T886&referentes!U886","v":""},{"$f":"referentes!S886","v":0},{"$f":"referentes!W886","v":0}]
[null,null,null,null,null,null,null,null,null,null,null,{"$f":"referentes!T887&referentes!U887","v":""},{"$f":"referentes!S887","v":0},{"$f":"referentes!W887","v":0}]
[null,null,null,null,null,null,null,null,null,null,null,{"$f":"referentes!T888&referentes!U888","v":""},{"$f":"referentes!S888","v":0},{"$f":"referentes!W888","v":0}]
[null,null,null,null,null,null,null,null,null,null,null,{"$f":"referentes!T889&referentes!U889","v":""},{"$f":"referentes!S889","v":0},{"$f":"referentes!W889","v":0}]
[null,null,null,null,null,null,null,null,null,null,null,{"$f":"referentes!T890&referentes!U890","v":""},{"$f":"referentes!S890","v":0},{"$f":"referentes!W890","v":0}]
[null,null,null,null,null,null,null,null,null,null,null,{"$f":"referentes!T891&referentes!U891","v":""},{"$f":"referentes!S891","v":0},{"$f":"referentes!W891","v":0}]
[null,null,null,null,null,null,null,null,null,null,null,{"$f":"referentes!T892&referentes!U892","v":""},{"$f":"referentes!S892","v":0},{"$f":"referentes!W892","v":0}]
[null,null,null,null,null,null,null,null,null,null,null,{"$f":"referentes!T893&referentes!U893","v":""},{"$f":"referentes!S893","v":0},{"$f":"referentes!W893","v":0}]
[null,null,null,null,null,null,null,null,null,null,null,{"$f":"referentes!T894&referentes!U894","v":""},{"$f":"referentes!S894","v":0},{"$f":"referentes!W894","v":0}]
[null,null,null,null,null,null,null,null,null,null,null,{"$f":"referentes!T895&referentes!U895","v":""},{"$f":"referentes!S895","v":0},{"$f":"referentes!W895","v":0}]
[null,null,null,null,null,null,null,null,null,null,null,{"$f":"referentes!T896&referentes!U896","v":""},{"$f":"referentes!S896","v":0},{"$f":"referentes!W896","v":0}]
[null,null,null,null,null,null,null,null,null,null,null,{"$f":"referentes!T897&referentes!U897","v":""},{"$f":"referentes!S897","v":0},{"$f":"referentes!W897","v":0}]
[null,null,null,null,null,null,null,null,null,null,null,{"$f":"referentes!T898&referentes!U898","v":""},{"$f":"referentes!S898","v":0},{"$f":"referentes!W898","v":0}]
[null,null,null,null,null,null,null,null,null,null,null,{"$f":"referentes!T899&referentes!U899","v":""},{"$f":"referentes!S899","v":0},{"$f":"referentes!W899","v":0}]
[null,null,null,null,null,null,null,null,null,null,null,{"$f":"referentes!T900&referentes!U900","v":""},{"$f":"referentes!S900","v":0},{"$f":"referentes!W900","v":0}]
[null,null,null,null,null,null,null,null,null,null,null,{"$f":"referentes!T901&referentes!U901","v":""},{"$f":"referentes!S901","v":0},{"$f":"referentes!W901","v":0}]
[null,null,null,null,null,null,null,null,null,null,null,{"$f":"referentes!T902&referentes!U902","v":""},{"$f":"referentes!S902","v":0},{"$f":"referentes!W902","v":0}]
[null,null,null,null,null,null,null,null,null,null,null,{"$f":"referentes!T903&referentes!U903","v":""},{"$f":"referentes!S903","v":0},{"$f":"referentes!W903","v":0}]
[null,null,null,null,null,null,null,null,null,null,null,{"$f":"referentes!T904&referentes!U904","v":""},{"$f":"referentes!S904","v":0},{"$f":"referentes!W904","v":0}]
[null,null,null,null,null,null,null,null,null,null,null,{"$f":"referentes!T905&referentes!U905","v":""},{"$f":"referentes!S905","v":0},{"$f":"referentes!W905","v":0}]
[null,null,null,null,null,null,null,null,null,null,null,{"$f":"referentes!T906&referentes!U906","v":""},{"$f":"referentes!S906","v":0},{"$f":"referentes!W906","v":0}]
[null,null,null,null,null,null,null,null,null,null,null,{"$f":"referentes!T907&referentes!U907","v":""},{"$f":"referentes!S907","v":0},{"$f":"referentes!W907","v":0}]
[null,null,null,null,null,null,null,null,null,null,null,{"$f":"referentes!T908&referentes!U908","v":""},{"$f":"referentes!S908","v":0},{"$f":"referentes!W908","v":0}]
[null,null,null,null,null,null,null,null,null,null,null,{"$f":"referentes!T909&referentes!U909","v":""},{"$f":"referentes!S909","v":0},{"$f":"referentes!W909","v":0}]
[null,null,null,null,null,null,null,null,null,null,null,{"$f":"referentes!T910&referentes!U910","v":""},{"$f":"referentes!S910","v":0},{"$f":"referentes!W910","v":0}]
[null,null,null,null,null,null,null,null,null,null,null,{"$f":"referentes!T911&referentes!U911","v":""},{"$f":"referentes!S911","v":0},{"$f":"referentes!W911","v":0}]
[null,null,null,null,null,null,null,null,null,null,null,{"$f":"referentes!T912&referentes!U912","v":""},{"$f":"referentes!S912","v":0},{"$f":"referentes!W912","v":0}]
[null,null,null,null,null,null,null,null,null,null,null,{"$f":"referentes!T913&referentes!U913","v":""},{"$f":"referentes!S913","v":0},{"$f":"referentes!W913","v":0}]
[null,null,null,null,null,null,null,null,null,null,null,{"$f":"referentes!T914&referentes!U914","v":""},{"$f":"referentes!S914","v":0},{"$f":"referentes!W914","v":0}]
[null,null,null,null,null,null,null,null,null,null,null,{"$f":"referentes!T915&referentes!U915","v":""},{"$f":"referentes!S915","v":0},{"$f":"referentes!W915","v":0}]
[null,null,null,null,null,null,null,null,null,null,null,{"$f":"referentes!T916&referentes!U916","v":""},{"$f":"referentes!S916","v":0},{"$f":"referentes!W916","v":0}]
[null,null,null,null,null,null,null,null,null,null,null,{"$f":"referentes!T917&referentes!U917","v":""},{"$f":"referentes!S917","v":0},{"$f":"referentes!W917","v":0}]
[null,null,null,null,null,null,null,null,null,null,null,{"$f":"referentes!T918&referentes!U918","v":""},{"$f":"referentes!S918","v":0},{"$f":"referentes!W918","v":0}]
[null,null,null,null,null,null,null,null,null,null,null,{"$f":"referentes!T919&referentes!U919","v":""},{"$f":"referentes!S919","v":0},{"$f":"referentes!W919","v":0}]
[null,null,null,null,null,null,null,null,null,null,null,{"$f":"referentes!T920&referentes!U920","v":""},{"$f":"referentes!S920","v":0},{"$f":"referentes!W920","v":0}]
[null,null,null,null,null,null,null,null,null,null,null,{"$f":"referentes!T921&referentes!U921","v":""},{"$f":"referentes!S921","v":0},{"$f":"referentes!W921","v":0}]
[null,null,null,null,null,null,null,null,null,null,null,{"$f":"referentes!T922&referentes!U922","v":""},{"$f":"referentes!S922","v":0},{"$f":"referentes!W922","v":0}]
[null,null,null,null,null,null,null,null,null,null,null,{"$f":"referentes!T923&referentes!U923","v":""},{"$f":"referentes!S923","v":0},{"$f":"referentes!W923","v":0}]
[null,null,null,null,null,null,null,null,null,null,null,{"$f":"referentes!T924&referentes!U924","v":""},{"$f":"referentes!S924","v":0},{"$f":"referentes!W924","v":0}]
[null,null,null,null,null,null,null,null,null,null,null,{"$f":"referentes!T925&referentes!U925","v":""},{"$f":"referentes!S925","v":0},{"$f":"referentes!W925","v":0}]
[null,null,null,null,null,null,null,null,null,null,null,{"$f":"referentes!T926&referentes!U926","v":""},{"$f":"referentes!S926","v":0},{"$f":"referentes!W926","v":0}]
[null,null,null,null,null,null,null,null,null,null,null,{"$f":"referentes!T927&referentes!U927","v":""},{"$f":"referentes!S927","v":0},{"$f":"referentes!W927","v":0}]
[null,null,null,null,null,null,null,null,null,null,null,{"$f":"referentes!T928&referentes!U928","v":""},{"$f":"referentes!S928","v":0},{"$f":"referentes!W928","v":0}]
[null,null,null,null,null,null,null,null,null,null,null,{"$f":"referentes!T929&referentes!U929","v":""},{"$f":"referentes!S929","v":0},{"$f":"referentes!W929","v":0}]
[null,null,null,null,null,null,null,null,null,null,null,{"$f":"referentes!T930&referentes!U930","v":""},{"$f":"referentes!S930","v":0},{"$f":"referentes!W930","v":0}]
[null,null,null,null,null,null,null,null,null,null,null,{"$f":"referentes!T931&referentes!U931","v":""},{"$f":"referentes!S931","v":0},{"$f":"referentes!W931","v":0}]
[null,null,null,null,null,null,null,null,null,null,null,{"$f":"referentes!T932&referentes!U932","v":""},{"$f":"referentes!S932","v":0},{"$f":"referentes!W932","v":0}]
[null,null,null,null,null,null,null,null,null,null,null,{"$f":"referentes!T933&referentes!U933","v":""},{"$f":"referentes!S933","v":0},{"$f":"referentes!W933","v":0}]
[null,null,null,null,null,null,null,null,null,null,null,{"$f":"referentes!T934&referentes!U934","v":""},{"$f":"referentes!S934","v":0},{"$f":"referentes!W934","v":0}]
[null,null,null,null,null,null,null,null,null,null,null,{"$f":"referentes!T935&referentes!U935","v":""},{"$f":"referentes!S935","v":0},{"$f":"referentes!W935","v":0}]
[null,null,null,null,null,null,null,null,null,null,null,{"$f":"referentes!T936&referentes!U936","v":""},{"$f":"referentes!S936","v":0},{"$f":"referentes!W936","v":0}]
[null,null,null,null,null,null,null,null,null,null,null,{"$f":"referentes!T937&referentes!U937","v":""},{"$f":"referentes!S937","v":0},{"$f":"referentes!W937","v":0}]
[null,null,null,null,null,null,null,null,null,null,null,{"$f":"referentes!T938&referentes!U938","v":""},{"$f":"referentes!S938","v":0},{"$f":"referentes!W938","v":0}]
[null,null,null,null,null,null,null,null,null,null,null,{"$f":"referentes!T939&referentes!U939","v":""},{"$f":"referentes!S939","v":0},{"$f":"referentes!W939","v":0}]
[null,null,null,null,null,null,null,null,null,null,null,{"$f":"referentes!T940&referentes!U940","v":""},{"$f":"referentes!S940","v":0},{"$f":"referentes!W940","v":0}]
[null,null,null,null,null,null,null,null,null,null,null,{"$f":"referentes!T941&referentes!U941","v":""},{"$f":"referentes!S941","v":0},{"$f":"referentes!W941","v":0}]
[null,null,null,null,null,null,null,null,null,null,null,{"$f":"referentes!T942&referentes!U942","v":""},{"$f":"referentes!S942","v":0},{"$f":"referentes!W942","v":0}]
[null,null,null,null,null,null,null,null,null,null,null,{"$f":"referentes!T943&referentes!U943","v":""},{"$f":"referentes!S943","v":0},{"$f":"referentes!W943","v":0}]
[null,null,null,null,null,null,null,null,null,null,null,{"$f":"referentes!T944&referentes!U944","v":""},{"$f":"referentes!S944","v":0},{"$f":"referentes!W944","v":0}]
[null,null,null,null,null,null,null,null,null,null,null,{"$f":"referentes!T945&referentes!U945","v":""},{"$f":"referentes!S945","v":0},{"$f":"referentes!W945","v":0}]
[null,null,null,null,null,null,null,null,null,null,null,{"$f":"referentes!T946&referentes!U946","v":""},{"$f":"referentes!S946","v":0},{"$f":"referentes!W946","v":0}]
[null,null,null,null,null,null,null,null,null,null,null,{"$f":"referentes!T947&referentes!U947","v":""},{"$f":"referentes!S947","v":0},{"$f":"referentes!W947","v":0}]
[null,null,null,null,null,null,null,null,null,null,null,{"$f":"referentes!T948&referentes!U948","v":""},{"$f":"referentes!S948","v":0},{"$f":"referentes!W948","v":0}]
[null,null,null,null,null,null,null,null,null,null,null,{"$f":"referentes!T949&referentes!U949","v":""},{"$f":"referentes!S949","v":0},{"$f":"referentes!W949","v":0}]
[null,null,null,null,null,null,null,null,null,null,null,{"$f":"referentes!T950&referentes!U950","v":""},{"$f":"referentes!S950","v":0},{"$f":"referentes!W950","v":0}]
[null,null,null,null,null,null,null,null,null,null,null,{"$f":"referentes!T951&referentes!U951","v":""},{"$f":"referentes!S951","v":0},{"$f":"referentes!W951","v":0}]
[null,null,null,null,null,null,null,null,null,null,null,{"$f":"referentes!T952&referentes!U952","v":""},{"$f":"referentes!S952","v":0},{"$f":"referentes!W952","v":0}]
[null,null,null,null,null,null,null,null,null,null,null,{"$f":"referentes!T953&referentes!U953","v":""},{"$f":"referentes!S953","v":0},{"$f":"referentes!W953","v":0}]
[null,null,null,null,null,null,null,null,null,null,null,{"$f":"referentes!T954&referentes!U954","v":""},{"$f":"referentes!S954","v":0},{"$f":"referentes!W954","v":0}]
[null,null,null,null,null,null,null,null,null,null,null,{"$f":"referentes!T955&referentes!U955","v":""},{"$f":"referentes!S955","v":0},{"$f":"referentes!W955","v":0}]
[null,null,null,null,null,null,null,null,null,null,null,{"$f":"referentes!T956&referentes!U956","v":""},{"$f":"referentes!S956","v":0},{"$f":"referentes!W956","v":0}]
[null,null,null,null,null,null,null,null,null,null,null,{"$f":"referentes!T957&referentes!U957","v":""},{"$f":"referentes!S957","v":0},{"$f":"referentes!W957","v":0}]
[null,null,null,null,null,null,null,null,null,null,null,{"$f":"referentes!T958&referentes!U958","v":""},{"$f":"referentes!S958","v":0},{"$f":"referentes!W958","v":0}]
[null,null,null,null,null,null,null,null,null,null,null,{"$f":"referentes!T959&referentes!U959","v":""},{"$f":"referentes!S959","v":0},{"$f":"referentes!W959","v":0}]
[null,null,null,null,null,null,null,null,null,null,null,{"$f":"referentes!T960&referentes!U960","v":""},{"$f":"referentes!S960","v":0},{"$f":"referentes!W960","v":0}]
[null,null,null,null,null,null,null,null,null,null,null,{"$f":"referentes!T961&referentes!U961","v":""},{"$f":"referentes!S961","v":0},{"$f":"referentes!W961","v":0}]
[null,null,null,null,null,null,null,null,null,null,null,{"$f":"referentes!T962&referentes!U962","v":""},{"$f":"referentes!S962","v":0},{"$f":"referentes!W962","v":0}]
[null,null,null,null,null,null,null,null,null,null,null,{"$f":"referentes!T963&referentes!U963","v":""},{"$f":"referentes!S963","v":0},{"$f":"referentes!W963","v":0}]
[null,null,null,null,null,null,null,null,null,null,null,{"$f":"referentes!T964&referentes!U964","v":""},{"$f":"referentes!S964","v":0},{"$f":"referentes!W964","v":0}]
[null,null,null,null,null,null,null,null,null,null,null,{"$f":"referentes!T965&referentes!U965","v":""},{"$f":"referentes!S965","v":0},{"$f":"referentes!W965","v":0}]
[null,null,null,null,null,null,null,null,null,null,null,{"$f":"referentes!T966&referentes!U966","v":""},{"$f":"referentes!S966","v":0},{"$f":"referentes!W966","v":0}]
[null,null,null,null,null,null,null,null,null,null,null,{"$f":"referentes!T967&referentes!U967","v":""},{"$f":"referentes!S967","v":0},{"$f":"referentes!W967","v":0}]
[null,null,null,null,null,null,null,null,null,null,null,{"$f":"referentes!T968&referentes!U968","v":""},{"$f":"referentes!S968","v":0},{"$f":"referentes!W968","v":0}]
[null,null,null,null,null,null,null,null,null,null,null,{"$f":"referentes!T969&referentes!U969","v":""},{"$f":"referentes!S969","v":0},{"$f":"referentes!W969","v":0}]
[null,null,null,null,null,null,null,null,null,null,null,{"$f":"referentes!T970&referentes!U970","v":""},{"$f":"referentes!S970","v":0},{"$f":"referentes!W970","v":0}]
[null,null,null,null,null,null,null,null,null,null,null,{"$f":"referentes!T971&referentes!U971","v":""},{"$f":"referentes!S971","v":0},{"$f":"referentes!W971","v":0}]
[null,null,null,null,null,null,null,null,null,null,null,{"$f":"referentes!T972&referentes!U972","v":""},{"$f":"referentes!S972","v":0},{"$f":"referentes!W972","v":0}]
[null,null,null,null,null,null,null,null,null,null,null,{"$f":"referentes!T973&referentes!U973","v":""},{"$f":"referentes!S973","v":0},{"$f":"referentes!W973","v":0}]
[null,null,null,null,null,null,null,null,null,null,null,{"$f":"referentes!T974&referentes!U974","v":""},{"$f":"referentes!S974","v":0},{"$f":"referentes!W974","v":0}]
[null,null,null,null,null,null,null,null,null,null,null,{"$f":"referentes!T975&referentes!U975","v":""},{"$f":"referentes!S975","v":0},{"$f":"referentes!W975","v":0}]
[null,null,null,null,null,null,null,null,null,null,null,{"$f":"referentes!T976&referentes!U976","v":""},{"$f":"referentes!S976","v":0},{"$f":"referentes!W976","v":0}]
[null,null,null,null,null,null,null,null,null,null,null,{"$f":"referentes!T977&referentes!U977","v":""},{"$f":"referentes!S977","v":0},{"$f":"referentes!W977","v":0}]
[null,null,null,null,null,null,null,null,null,null,null,{"$f":"referentes!T978&referentes!U978","v":""},{"$f":"referentes!S978","v":0},{"$f":"referentes!W978","v":0}]
[null,null,null,null,null,null,null,null,null,null,null,{"$f":"referentes!T979&referentes!U979","v":""},{"$f":"referentes!S979","v":0},{"$f":"referentes!W979","v":0}]
[null,null,null,null,null,null,null,null,null,null,null,{"$f":"referentes!T980&referentes!U980","v":""},{"$f":"referentes!S980","v":0},{"$f":"referentes!W980","v":0}]
[null,null,null,null,null,null,null,null,null,null,null,{"$f":"referentes!T981&referentes!U981","v":""},{"$f":"referentes!S981","v":0},{"$f":"referentes!W981","v":0}]
[null,null,null,null,null,null,null,null,null,null,null,{"$f":"referentes!T982&referentes!U982","v":""},{"$f":"referentes!S982","v":0},{"$f":"referentes!W982","v":0}]
[null,null,null,null,null,null,null,null,null,null,null,{"$f":"referentes!T983&referentes!U983","v":""},{"$f":"referentes!S983","v":0},{"$f":"referentes!W983","v":0}]
[null,null,null,null,null,null,null,null,null,null,null,{"$f":"referentes!T984&referentes!U984","v":""},{"$f":"referentes!S984","v":0},{"$f":"referentes!W984","v":0}]
[null,null,null,null,null,null,null,null,null,null,null,{"$f":"referentes!T985&referentes!U985","v":""},{"$f":"referentes!S985","v":0},{"$f":"referentes!W985","v":0}]
[null,null,null,null,null,null,null,null,null,null,null,{"$f":"referentes!T986&referentes!U986","v":""},{"$f":"referentes!S986","v":0},{"$f":"referentes!W986","v":0}]
[null,null,null,null,null,null,null,null,null,null,null,{"$f":"referentes!T987&referentes!U987","v":""},{"$f":"referentes!S987","v":0},{"$f":"referentes!W987","v":0}]
[null,null,null,null,null,null,null,null,null,null,null,{"$f":"referentes!T988&referentes!U988","v":""},{"$f":"referentes!S988","v":0},{"$f":"referentes!W988","v":0}]
[null,null,null,null,null,null,null,null,null,null,null,{"$f":"referentes!T989&referentes!U989","v":""},{"$f":"referentes!S989","v":0},{"$f":"referentes!W989","v":0}]
[null,null,null,null,null,null,null,null,null,null,null,{"$f":"referentes!T990&referentes!U990","v":""},{"$f":"referentes!S990","v":0},{"$f":"referentes!W990","v":0}]
[null,null,null,null,null,null,null,null,null,null,null,{"$f":"referentes!T991&referentes!U991","v":""},{"$f":"referentes!S991","v":0},{"$f":"referentes!W991","v":0}]
[null,null,null,null,null,null,null,null,null,null,null,{"$f":"referentes!T992&referentes!U992","v":""},{"$f":"referentes!S992","v":0},{"$f":"referentes!W992","v":0}]
[null,null,null,null,null,null,null,null,null,null,null,{"$f":"referentes!T993&referentes!U993","v":""},{"$f":"referentes!S993","v":0},{"$f":"referentes!W993","v":0}]
[null,null,null,null,null,null,null,null,null,null,null,{"$f":"referentes!T994&referentes!U994","v":""},{"$f":"referentes!S994","v":0},{"$f":"referentes!W994","v":0}]
[null,null,null,null,null,null,null,null,null,null,null,{"$f":"referentes!T995&referentes!U995","v":""},{"$f":"referentes!S995","v":0},{"$f":"referentes!W995","v":0}]
[null,null,null,null,null,null,null,null,null,null,null,{"$f":"referentes!T996&referentes!U996","v":""},{"$f":"referentes!S996","v":0},{"$f":"referentes!W996","v":0}]
[null,null,null,null,null,null,null,null,null,null,null,{"$f":"referentes!T997&referentes!U997","v":""},{"$f":"referentes!S997","v":0},{"$f":"referentes!W997","v":0}]
[null,null,null,null,null,null,null,null,null,null,null,{"$f":"referentes!T998&referentes!U998","v":""},{"$f":"referentes!S998","v":0},{"$f":"referentes!W998","v":0}]
[null,null,null,null,null,null,null,null,null,null,null,{"$f":"referentes!T999&referentes!U999","v":""},{"$f":"referentes!S999","v":0},{"$f":"referentes!W999","v":0}]
[null,null,null,null,null,null,null,null,null,null,null,{"$f":"referentes!T1000&referentes!U1000","v":""},{"$f":"referentes!S1000","v":0},{"$f":"referentes!W1000","v":0}]
[null,null,null,null,null,null,null,null,null,null,null,{"$f":"referentes!T1001&referentes!U1001","v":""},{"$f":"referentes!S1001","v":0},{"$f":"referentes!W1001","v":0}]

{"sheet":"RESUMEN","index":6,"n_rows":502,"n_cols":7,"rows_kept":502,"cut":false,"hidden":false,"merged":[]}
["estacion","nivel","transecto","Cuenta de transecto","Etiquetas de columna"]
[{"$f":"IF(DATOS!N5<>\"\",DATOS!N5,\"\")","v":""},{"$f":"IF(DATOS!AG5<>\"\",DATOS!AG5,\"\")","v":""},{"$f":"IF(DATOS!AH5<>\"\",DATOS!AH5,\"\")","v":""},null,"","Total ","Total general"]
[{"$f":"IF(DATOS!N6<>\"\",DATOS!N6,\"\")","v":""},{"$f":"IF(DATOS!AG6<>\"\",DATOS!AG6,\"\")","v":""},{"$f":"IF(DATOS!AH6<>\"\",DATOS!AH6,\"\")","v":""},"Etiquetas de fila"]
[{"$f":"IF(DATOS!N7<>\"\",DATOS!N7,\"\")","v":""},{"$f":"IF(DATOS!AG7<>\"\",DATOS!AG7,\"\")","v":""},{"$f":"IF(DATOS!AH7<>\"\",DATOS!AH7,\"\")","v":""},null,500,500,500]
[{"$f":"IF(DATOS!N8<>\"\",DATOS!N8,\"\")","v":""},{"$f":"IF(DATOS!AG8<>\"\",DATOS!AG8,\"\")","v":""},{"$f":"IF(DATOS!AH8<>\"\",DATOS!AH8,\"\")","v":""},"Total general",500,500,500]
[{"$f":"IF(DATOS!N9<>\"\",DATOS!N9,\"\")","v":""},{"$f":"IF(DATOS!AG9<>\"\",DATOS!AG9,\"\")","v":""},{"$f":"IF(DATOS!AH9<>\"\",DATOS!AH9,\"\")","v":""}]
[{"$f":"IF(DATOS!N10<>\"\",DATOS!N10,\"\")","v":""},{"$f":"IF(DATOS!AG10<>\"\",DATOS!AG10,\"\")","v":""},{"$f":"IF(DATOS!AH10<>\"\",DATOS!AH10,\"\")","v":""}]
[{"$f":"IF(DATOS!N11<>\"\",DATOS!N11,\"\")","v":""},{"$f":"IF(DATOS!AG11<>\"\",DATOS!AG11,\"\")","v":""},{"$f":"IF(DATOS!AH11<>\"\",DATOS!AH11,\"\")","v":""}]
[{"$f":"IF(DATOS!N12<>\"\",DATOS!N12,\"\")","v":""},{"$f":"IF(DATOS!AG12<>\"\",DATOS!AG12,\"\")","v":""},{"$f":"IF(DATOS!AH12<>\"\",DATOS!AH12,\"\")","v":""}]
[{"$f":"IF(DATOS!N13<>\"\",DATOS!N13,\"\")","v":""},{"$f":"IF(DATOS!AG13<>\"\",DATOS!AG13,\"\")","v":""},{"$f":"IF(DATOS!AH13<>\"\",DATOS!AH13,\"\")","v":""}]
[{"$f":"IF(DATOS!N14<>\"\",DATOS!N14,\"\")","v":""},{"$f":"IF(DATOS!AG14<>\"\",DATOS!AG14,\"\")","v":""},{"$f":"IF(DATOS!AH14<>\"\",DATOS!AH14,\"\")","v":""}]
[{"$f":"IF(DATOS!N15<>\"\",DATOS!N15,\"\")","v":""},{"$f":"IF(DATOS!AG15<>\"\",DATOS!AG15,\"\")","v":""},{"$f":"IF(DATOS!AH15<>\"\",DATOS!AH15,\"\")","v":""}]
[{"$f":"IF(DATOS!N16<>\"\",DATOS!N16,\"\")","v":""},{"$f":"IF(DATOS!AG16<>\"\",DATOS!AG16,\"\")","v":""},{"$f":"IF(DATOS!AH16<>\"\",DATOS!AH16,\"\")","v":""}]
[{"$f":"IF(DATOS!N17<>\"\",DATOS!N17,\"\")","v":""},{"$f":"IF(DATOS!AG17<>\"\",DATOS!AG17,\"\")","v":""},{"$f":"IF(DATOS!AH17<>\"\",DATOS!AH17,\"\")","v":""}]
[{"$f":"IF(DATOS!N18<>\"\",DATOS!N18,\"\")","v":""},{"$f":"IF(DATOS!AG18<>\"\",DATOS!AG18,\"\")","v":""},{"$f":"IF(DATOS!AH18<>\"\",DATOS!AH18,\"\")","v":""}]
[{"$f":"IF(DATOS!N19<>\"\",DATOS!N19,\"\")","v":""},{"$f":"IF(DATOS!AG19<>\"\",DATOS!AG19,\"\")","v":""},{"$f":"IF(DATOS!AH19<>\"\",DATOS!AH19,\"\")","v":""}]
[{"$f":"IF(DATOS!N20<>\"\",DATOS!N20,\"\")","v":""},{"$f":"IF(DATOS!AG20<>\"\",DATOS!AG20,\"\")","v":""},{"$f":"IF(DATOS!AH20<>\"\",DATOS!AH20,\"\")","v":""}]
[{"$f":"IF(DATOS!N21<>\"\",DATOS!N21,\"\")","v":""},{"$f":"IF(DATOS!AG21<>\"\",DATOS!AG21,\"\")","v":""},{"$f":"IF(DATOS!AH21<>\"\",DATOS!AH21,\"\")","v":""}]
[{"$f":"IF(DATOS!N22<>\"\",DATOS!N22,\"\")","v":""},{"$f":"IF(DATOS!AG22<>\"\",DATOS!AG22,\"\")","v":""},{"$f":"IF(DATOS!AH22<>\"\",DATOS!AH22,\"\")","v":""}]
[{"$f":"IF(DATOS!N23<>\"\",DATOS!N23,\"\")","v":""},{"$f":"IF(DATOS!AG23<>\"\",DATOS!AG23,\"\")","v":""},{"$f":"IF(DATOS!AH23<>\"\",DATOS!AH23,\"\")","v":""}]
[{"$f":"IF(DATOS!N24<>\"\",DATOS!N24,\"\")","v":""},{"$f":"IF(DATOS!AG24<>\"\",DATOS!AG24,\"\")","v":""},{"$f":"IF(DATOS!AH24<>\"\",DATOS!AH24,\"\")","v":""}]
[{"$f":"IF(DATOS!N25<>\"\",DATOS!N25,\"\")","v":""},{"$f":"IF(DATOS!AG25<>\"\",DATOS!AG25,\"\")","v":""},{"$f":"IF(DATOS!AH25<>\"\",DATOS!AH25,\"\")","v":""}]
[{"$f":"IF(DATOS!N26<>\"\",DATOS!N26,\"\")","v":""},{"$f":"IF(DATOS!AG26<>\"\",DATOS!AG26,\"\")","v":""},{"$f":"IF(DATOS!AH26<>\"\",DATOS!AH26,\"\")","v":""}]
[{"$f":"IF(DATOS!N27<>\"\",DATOS!N27,\"\")","v":""},{"$f":"IF(DATOS!AG27<>\"\",DATOS!AG27,\"\")","v":""},{"$f":"IF(DATOS!AH27<>\"\",DATOS!AH27,\"\")","v":""}]
[{"$f":"IF(DATOS!N28<>\"\",DATOS!N28,\"\")","v":""},{"$f":"IF(DATOS!AG28<>\"\",DATOS!AG28,\"\")","v":""},{"$f":"IF(DATOS!AH28<>\"\",DATOS!AH28,\"\")","v":""}]
[{"$f":"IF(DATOS!N29<>\"\",DATOS!N29,\"\")","v":""},{"$f":"IF(DATOS!AG29<>\"\",DATOS!AG29,\"\")","v":""},{"$f":"IF(DATOS!AH29<>\"\",DATOS!AH29,\"\")","v":""}]
[{"$f":"IF(DATOS!N30<>\"\",DATOS!N30,\"\")","v":""},{"$f":"IF(DATOS!AG30<>\"\",DATOS!AG30,\"\")","v":""},{"$f":"IF(DATOS!AH30<>\"\",DATOS!AH30,\"\")","v":""}]
[{"$f":"IF(DATOS!N31<>\"\",DATOS!N31,\"\")","v":""},{"$f":"IF(DATOS!AG31<>\"\",DATOS!AG31,\"\")","v":""},{"$f":"IF(DATOS!AH31<>\"\",DATOS!AH31,\"\")","v":""}]
[{"$f":"IF(DATOS!N32<>\"\",DATOS!N32,\"\")","v":""},{"$f":"IF(DATOS!AG32<>\"\",DATOS!AG32,\"\")","v":""},{"$f":"IF(DATOS!AH32<>\"\",DATOS!AH32,\"\")","v":""}]
[{"$f":"IF(DATOS!N33<>\"\",DATOS!N33,\"\")","v":""},{"$f":"IF(DATOS!AG33<>\"\",DATOS!AG33,\"\")","v":""},{"$f":"IF(DATOS!AH33<>\"\",DATOS!AH33,\"\")","v":""}]
[{"$f":"DATOS!N34","v":""},{"$f":"IF(DATOS!AG34<>\"\",DATOS!AG34,\"\")","v":""},{"$f":"IF(DATOS!AH34<>\"\",DATOS!AH34,\"\")","v":""}]
[{"$f":"DATOS!N35","v":""},{"$f":"IF(DATOS!AG35<>\"\",DATOS!AG35,\"\")","v":""},{"$f":"IF(DATOS!AH35<>\"\",DATOS!AH35,\"\")","v":""}]
[{"$f":"DATOS!N36","v":""},{"$f":"IF(DATOS!AG36<>\"\",DATOS!AG36,\"\")","v":""},{"$f":"IF(DATOS!AH36<>\"\",DATOS!AH36,\"\")","v":""}]
[{"$f":"DATOS!N37","v":""},{"$f":"IF(DATOS!AG37<>\"\",DATOS!AG37,\"\")","v":""},{"$f":"IF(DATOS!AH37<>\"\",DATOS!AH37,\"\")","v":""}]
[{"$f":"DATOS!N38","v":""},{"$f":"IF(DATOS!AG38<>\"\",DATOS!AG38,\"\")","v":""},{"$f":"IF(DATOS!AH38<>\"\",DATOS!AH38,\"\")","v":""}]
[{"$f":"DATOS!N39","v":""},{"$f":"IF(DATOS!AG39<>\"\",DATOS!AG39,\"\")","v":""},{"$f":"IF(DATOS!AH39<>\"\",DATOS!AH39,\"\")","v":""}]
[{"$f":"DATOS!N40","v":""},{"$f":"IF(DATOS!AG40<>\"\",DATOS!AG40,\"\")","v":""},{"$f":"IF(DATOS!AH40<>\"\",DATOS!AH40,\"\")","v":""}]
[{"$f":"DATOS!N41","v":""},{"$f":"IF(DATOS!AG41<>\"\",DATOS!AG41,\"\")","v":""},{"$f":"IF(DATOS!AH41<>\"\",DATOS!AH41,\"\")","v":""}]
[{"$f":"DATOS!N42","v":""},{"$f":"IF(DATOS!AG42<>\"\",DATOS!AG42,\"\")","v":""},{"$f":"IF(DATOS!AH42<>\"\",DATOS!AH42,\"\")","v":""}]
[{"$f":"DATOS!N43","v":""},{"$f":"IF(DATOS!AG43<>\"\",DATOS!AG43,\"\")","v":""},{"$f":"IF(DATOS!AH43<>\"\",DATOS!AH43,\"\")","v":""}]
[{"$f":"DATOS!N44","v":""},{"$f":"IF(DATOS!AG44<>\"\",DATOS!AG44,\"\")","v":""},{"$f":"IF(DATOS!AH44<>\"\",DATOS!AH44,\"\")","v":""}]
[{"$f":"DATOS!N45","v":""},{"$f":"IF(DATOS!AG45<>\"\",DATOS!AG45,\"\")","v":""},{"$f":"IF(DATOS!AH45<>\"\",DATOS!AH45,\"\")","v":""}]
[{"$f":"DATOS!N46","v":""},{"$f":"IF(DATOS!AG46<>\"\",DATOS!AG46,\"\")","v":""},{"$f":"IF(DATOS!AH46<>\"\",DATOS!AH46,\"\")","v":""}]
[{"$f":"DATOS!N47","v":""},{"$f":"IF(DATOS!AG47<>\"\",DATOS!AG47,\"\")","v":""},{"$f":"IF(DATOS!AH47<>\"\",DATOS!AH47,\"\")","v":""}]
[{"$f":"DATOS!N48","v":""},{"$f":"IF(DATOS!AG48<>\"\",DATOS!AG48,\"\")","v":""},{"$f":"IF(DATOS!AH48<>\"\",DATOS!AH48,\"\")","v":""}]
[{"$f":"DATOS!N49","v":""},{"$f":"IF(DATOS!AG49<>\"\",DATOS!AG49,\"\")","v":""},{"$f":"IF(DATOS!AH49<>\"\",DATOS!AH49,\"\")","v":""}]
[{"$f":"DATOS!N50","v":""},{"$f":"IF(DATOS!AG50<>\"\",DATOS!AG50,\"\")","v":""},{"$f":"IF(DATOS!AH50<>\"\",DATOS!AH50,\"\")","v":""}]
[{"$f":"DATOS!N51","v":""},{"$f":"IF(DATOS!AG51<>\"\",DATOS!AG51,\"\")","v":""},{"$f":"IF(DATOS!AH51<>\"\",DATOS!AH51,\"\")","v":""}]
[{"$f":"DATOS!N52","v":""},{"$f":"IF(DATOS!AG52<>\"\",DATOS!AG52,\"\")","v":""},{"$f":"IF(DATOS!AH52<>\"\",DATOS!AH52,\"\")","v":""}]
[{"$f":"DATOS!N53","v":""},{"$f":"IF(DATOS!AG53<>\"\",DATOS!AG53,\"\")","v":""},{"$f":"IF(DATOS!AH53<>\"\",DATOS!AH53,\"\")","v":""}]
[{"$f":"DATOS!N54","v":""},{"$f":"IF(DATOS!AG54<>\"\",DATOS!AG54,\"\")","v":""},{"$f":"IF(DATOS!AH54<>\"\",DATOS!AH54,\"\")","v":""}]
[{"$f":"DATOS!N55","v":""},{"$f":"IF(DATOS!AG55<>\"\",DATOS!AG55,\"\")","v":""},{"$f":"IF(DATOS!AH55<>\"\",DATOS!AH55,\"\")","v":""}]
[{"$f":"DATOS!N56","v":""},{"$f":"IF(DATOS!AG56<>\"\",DATOS!AG56,\"\")","v":""},{"$f":"IF(DATOS!AH56<>\"\",DATOS!AH56,\"\")","v":""}]
[{"$f":"DATOS!N57","v":""},{"$f":"IF(DATOS!AG57<>\"\",DATOS!AG57,\"\")","v":""},{"$f":"IF(DATOS!AH57<>\"\",DATOS!AH57,\"\")","v":""}]
[{"$f":"DATOS!N58","v":""},{"$f":"IF(DATOS!AG58<>\"\",DATOS!AG58,\"\")","v":""},{"$f":"IF(DATOS!AH58<>\"\",DATOS!AH58,\"\")","v":""}]
[{"$f":"DATOS!N59","v":""},{"$f":"IF(DATOS!AG59<>\"\",DATOS!AG59,\"\")","v":""},{"$f":"IF(DATOS!AH59<>\"\",DATOS!AH59,\"\")","v":""}]
[{"$f":"DATOS!N60","v":""},{"$f":"IF(DATOS!AG60<>\"\",DATOS!AG60,\"\")","v":""},{"$f":"IF(DATOS!AH60<>\"\",DATOS!AH60,\"\")","v":""}]
[{"$f":"DATOS!N61","v":""},{"$f":"IF(DATOS!AG61<>\"\",DATOS!AG61,\"\")","v":""},{"$f":"IF(DATOS!AH61<>\"\",DATOS!AH61,\"\")","v":""}]
[{"$f":"DATOS!N62","v":""},{"$f":"IF(DATOS!AG62<>\"\",DATOS!AG62,\"\")","v":""},{"$f":"IF(DATOS!AH62<>\"\",DATOS!AH62,\"\")","v":""}]
[{"$f":"DATOS!N63","v":""},{"$f":"IF(DATOS!AG63<>\"\",DATOS!AG63,\"\")","v":""},{"$f":"IF(DATOS!AH63<>\"\",DATOS!AH63,\"\")","v":""}]
[{"$f":"DATOS!N64","v":""},{"$f":"IF(DATOS!AG64<>\"\",DATOS!AG64,\"\")","v":""},{"$f":"IF(DATOS!AH64<>\"\",DATOS!AH64,\"\")","v":""}]
[{"$f":"DATOS!N65","v":""},{"$f":"IF(DATOS!AG65<>\"\",DATOS!AG65,\"\")","v":""},{"$f":"IF(DATOS!AH65<>\"\",DATOS!AH65,\"\")","v":""}]
[{"$f":"DATOS!N66","v":""},{"$f":"IF(DATOS!AG66<>\"\",DATOS!AG66,\"\")","v":""},{"$f":"IF(DATOS!AH66<>\"\",DATOS!AH66,\"\")","v":""}]
[{"$f":"DATOS!N67","v":""},{"$f":"IF(DATOS!AG67<>\"\",DATOS!AG67,\"\")","v":""},{"$f":"IF(DATOS!AH67<>\"\",DATOS!AH67,\"\")","v":""}]
[{"$f":"DATOS!N68","v":""},{"$f":"IF(DATOS!AG68<>\"\",DATOS!AG68,\"\")","v":""},{"$f":"IF(DATOS!AH68<>\"\",DATOS!AH68,\"\")","v":""}]
[{"$f":"DATOS!N69","v":""},{"$f":"IF(DATOS!AG69<>\"\",DATOS!AG69,\"\")","v":""},{"$f":"IF(DATOS!AH69<>\"\",DATOS!AH69,\"\")","v":""}]
[{"$f":"DATOS!N70","v":""},{"$f":"IF(DATOS!AG70<>\"\",DATOS!AG70,\"\")","v":""},{"$f":"IF(DATOS!AH70<>\"\",DATOS!AH70,\"\")","v":""}]
[{"$f":"DATOS!N71","v":""},{"$f":"IF(DATOS!AG71<>\"\",DATOS!AG71,\"\")","v":""},{"$f":"IF(DATOS!AH71<>\"\",DATOS!AH71,\"\")","v":""}]
[{"$f":"DATOS!N72","v":""},{"$f":"IF(DATOS!AG72<>\"\",DATOS!AG72,\"\")","v":""},{"$f":"IF(DATOS!AH72<>\"\",DATOS!AH72,\"\")","v":""}]
[{"$f":"DATOS!N73","v":""},{"$f":"IF(DATOS!AG73<>\"\",DATOS!AG73,\"\")","v":""},{"$f":"IF(DATOS!AH73<>\"\",DATOS!AH73,\"\")","v":""}]
[{"$f":"DATOS!N74","v":""},{"$f":"IF(DATOS!AG74<>\"\",DATOS!AG74,\"\")","v":""},{"$f":"IF(DATOS!AH74<>\"\",DATOS!AH74,\"\")","v":""}]
[{"$f":"DATOS!N75","v":""},{"$f":"IF(DATOS!AG75<>\"\",DATOS!AG75,\"\")","v":""},{"$f":"IF(DATOS!AH75<>\"\",DATOS!AH75,\"\")","v":""}]
[{"$f":"DATOS!N76","v":""},{"$f":"IF(DATOS!AG76<>\"\",DATOS!AG76,\"\")","v":""},{"$f":"IF(DATOS!AH76<>\"\",DATOS!AH76,\"\")","v":""}]
[{"$f":"DATOS!N77","v":""},{"$f":"IF(DATOS!AG77<>\"\",DATOS!AG77,\"\")","v":""},{"$f":"IF(DATOS!AH77<>\"\",DATOS!AH77,\"\")","v":""}]
[{"$f":"DATOS!N78","v":""},{"$f":"IF(DATOS!AG78<>\"\",DATOS!AG78,\"\")","v":""},{"$f":"IF(DATOS!AH78<>\"\",DATOS!AH78,\"\")","v":""}]
[{"$f":"DATOS!N79","v":""},{"$f":"IF(DATOS!AG79<>\"\",DATOS!AG79,\"\")","v":""},{"$f":"IF(DATOS!AH79<>\"\",DATOS!AH79,\"\")","v":""}]
[{"$f":"DATOS!N80","v":""},{"$f":"IF(DATOS!AG80<>\"\",DATOS!AG80,\"\")","v":""},{"$f":"IF(DATOS!AH80<>\"\",DATOS!AH80,\"\")","v":""}]
[{"$f":"DATOS!N81","v":""},{"$f":"IF(DATOS!AG81<>\"\",DATOS!AG81,\"\")","v":""},{"$f":"IF(DATOS!AH81<>\"\",DATOS!AH81,\"\")","v":""}]
[{"$f":"DATOS!N82","v":""},{"$f":"IF(DATOS!AG82<>\"\",DATOS!AG82,\"\")","v":""},{"$f":"IF(DATOS!AH82<>\"\",DATOS!AH82,\"\")","v":""}]
[{"$f":"DATOS!N83","v":""},{"$f":"IF(DATOS!AG83<>\"\",DATOS!AG83,\"\")","v":""},{"$f":"IF(DATOS!AH83<>\"\",DATOS!AH83,\"\")","v":""}]
[{"$f":"DATOS!N84","v":""},{"$f":"IF(DATOS!AG84<>\"\",DATOS!AG84,\"\")","v":""},{"$f":"IF(DATOS!AH84<>\"\",DATOS!AH84,\"\")","v":""}]
[{"$f":"DATOS!N85","v":""},{"$f":"IF(DATOS!AG85<>\"\",DATOS!AG85,\"\")","v":""},{"$f":"IF(DATOS!AH85<>\"\",DATOS!AH85,\"\")","v":""}]
[{"$f":"DATOS!N86","v":""},{"$f":"IF(DATOS!AG86<>\"\",DATOS!AG86,\"\")","v":""},{"$f":"IF(DATOS!AH86<>\"\",DATOS!AH86,\"\")","v":""}]
[{"$f":"DATOS!N87","v":""},{"$f":"IF(DATOS!AG87<>\"\",DATOS!AG87,\"\")","v":""},{"$f":"IF(DATOS!AH87<>\"\",DATOS!AH87,\"\")","v":""}]
[{"$f":"DATOS!N88","v":""},{"$f":"IF(DATOS!AG88<>\"\",DATOS!AG88,\"\")","v":""},{"$f":"IF(DATOS!AH88<>\"\",DATOS!AH88,\"\")","v":""}]
[{"$f":"DATOS!N89","v":""},{"$f":"IF(DATOS!AG89<>\"\",DATOS!AG89,\"\")","v":""},{"$f":"IF(DATOS!AH89<>\"\",DATOS!AH89,\"\")","v":""}]
[{"$f":"DATOS!N90","v":""},{"$f":"IF(DATOS!AG90<>\"\",DATOS!AG90,\"\")","v":""},{"$f":"IF(DATOS!AH90<>\"\",DATOS!AH90,\"\")","v":""}]
[{"$f":"DATOS!N91","v":""},{"$f":"IF(DATOS!AG91<>\"\",DATOS!AG91,\"\")","v":""},{"$f":"IF(DATOS!AH91<>\"\",DATOS!AH91,\"\")","v":""}]
[{"$f":"DATOS!N92","v":""},{"$f":"IF(DATOS!AG92<>\"\",DATOS!AG92,\"\")","v":""},{"$f":"IF(DATOS!AH92<>\"\",DATOS!AH92,\"\")","v":""}]
[{"$f":"DATOS!N93","v":""},{"$f":"IF(DATOS!AG93<>\"\",DATOS!AG93,\"\")","v":""},{"$f":"IF(DATOS!AH93<>\"\",DATOS!AH93,\"\")","v":""}]
[{"$f":"DATOS!N94","v":""},{"$f":"IF(DATOS!AG94<>\"\",DATOS!AG94,\"\")","v":""},{"$f":"IF(DATOS!AH94<>\"\",DATOS!AH94,\"\")","v":""}]
[{"$f":"DATOS!N95","v":""},{"$f":"IF(DATOS!AG95<>\"\",DATOS!AG95,\"\")","v":""},{"$f":"IF(DATOS!AH95<>\"\",DATOS!AH95,\"\")","v":""}]
[{"$f":"DATOS!N96","v":""},{"$f":"IF(DATOS!AG96<>\"\",DATOS!AG96,\"\")","v":""},{"$f":"IF(DATOS!AH96<>\"\",DATOS!AH96,\"\")","v":""}]
[{"$f":"DATOS!N97","v":""},{"$f":"IF(DATOS!AG97<>\"\",DATOS!AG97,\"\")","v":""},{"$f":"IF(DATOS!AH97<>\"\",DATOS!AH97,\"\")","v":""}]
[{"$f":"DATOS!N98","v":""},{"$f":"IF(DATOS!AG98<>\"\",DATOS!AG98,\"\")","v":""},{"$f":"IF(DATOS!AH98<>\"\",DATOS!AH98,\"\")","v":""}]
[{"$f":"DATOS!N99","v":""},{"$f":"IF(DATOS!AG99<>\"\",DATOS!AG99,\"\")","v":""},{"$f":"IF(DATOS!AH99<>\"\",DATOS!AH99,\"\")","v":""}]
[{"$f":"DATOS!N100","v":""},{"$f":"IF(DATOS!AG100<>\"\",DATOS!AG100,\"\")","v":""},{"$f":"IF(DATOS!AH100<>\"\",DATOS!AH100,\"\")","v":""}]
[{"$f":"DATOS!N101","v":""},{"$f":"IF(DATOS!AG101<>\"\",DATOS!AG101,\"\")","v":""},{"$f":"IF(DATOS!AH101<>\"\",DATOS!AH101,\"\")","v":""}]
[{"$f":"DATOS!N102","v":""},{"$f":"IF(DATOS!AG102<>\"\",DATOS!AG102,\"\")","v":""},{"$f":"IF(DATOS!AH102<>\"\",DATOS!AH102,\"\")","v":""}]
[{"$f":"DATOS!N103","v":""},{"$f":"IF(DATOS!AG103<>\"\",DATOS!AG103,\"\")","v":""},{"$f":"IF(DATOS!AH103<>\"\",DATOS!AH103,\"\")","v":""}]
[{"$f":"DATOS!N104","v":""},{"$f":"IF(DATOS!AG104<>\"\",DATOS!AG104,\"\")","v":""},{"$f":"IF(DATOS!AH104<>\"\",DATOS!AH104,\"\")","v":""}]
[{"$f":"DATOS!N105","v":""},{"$f":"IF(DATOS!AG105<>\"\",DATOS!AG105,\"\")","v":""},{"$f":"IF(DATOS!AH105<>\"\",DATOS!AH105,\"\")","v":""}]
[{"$f":"DATOS!N106","v":""},{"$f":"IF(DATOS!AG106<>\"\",DATOS!AG106,\"\")","v":""},{"$f":"IF(DATOS!AH106<>\"\",DATOS!AH106,\"\")","v":""}]
[{"$f":"DATOS!N107","v":""},{"$f":"IF(DATOS!AG107<>\"\",DATOS!AG107,\"\")","v":""},{"$f":"IF(DATOS!AH107<>\"\",DATOS!AH107,\"\")","v":""}]
[{"$f":"DATOS!N108","v":""},{"$f":"IF(DATOS!AG108<>\"\",DATOS!AG108,\"\")","v":""},{"$f":"IF(DATOS!AH108<>\"\",DATOS!AH108,\"\")","v":""}]
[{"$f":"DATOS!N109","v":""},{"$f":"IF(DATOS!AG109<>\"\",DATOS!AG109,\"\")","v":""},{"$f":"IF(DATOS!AH109<>\"\",DATOS!AH109,\"\")","v":""}]
[{"$f":"DATOS!N110","v":""},{"$f":"IF(DATOS!AG110<>\"\",DATOS!AG110,\"\")","v":""},{"$f":"IF(DATOS!AH110<>\"\",DATOS!AH110,\"\")","v":""}]
[{"$f":"DATOS!N111","v":""},{"$f":"IF(DATOS!AG111<>\"\",DATOS!AG111,\"\")","v":""},{"$f":"IF(DATOS!AH111<>\"\",DATOS!AH111,\"\")","v":""}]
[{"$f":"DATOS!N112","v":""},{"$f":"IF(DATOS!AG112<>\"\",DATOS!AG112,\"\")","v":""},{"$f":"IF(DATOS!AH112<>\"\",DATOS!AH112,\"\")","v":""}]
[{"$f":"DATOS!N113","v":""},{"$f":"IF(DATOS!AG113<>\"\",DATOS!AG113,\"\")","v":""},{"$f":"IF(DATOS!AH113<>\"\",DATOS!AH113,\"\")","v":""}]
[{"$f":"DATOS!N114","v":""},{"$f":"IF(DATOS!AG114<>\"\",DATOS!AG114,\"\")","v":""},{"$f":"IF(DATOS!AH114<>\"\",DATOS!AH114,\"\")","v":""}]
[{"$f":"DATOS!N115","v":""},{"$f":"IF(DATOS!AG115<>\"\",DATOS!AG115,\"\")","v":""},{"$f":"IF(DATOS!AH115<>\"\",DATOS!AH115,\"\")","v":""}]
[{"$f":"DATOS!N116","v":""},{"$f":"IF(DATOS!AG116<>\"\",DATOS!AG116,\"\")","v":""},{"$f":"IF(DATOS!AH116<>\"\",DATOS!AH116,\"\")","v":""}]
[{"$f":"DATOS!N117","v":""},{"$f":"IF(DATOS!AG117<>\"\",DATOS!AG117,\"\")","v":""},{"$f":"IF(DATOS!AH117<>\"\",DATOS!AH117,\"\")","v":""}]
[{"$f":"DATOS!N118","v":""},{"$f":"IF(DATOS!AG118<>\"\",DATOS!AG118,\"\")","v":""},{"$f":"IF(DATOS!AH118<>\"\",DATOS!AH118,\"\")","v":""}]
[{"$f":"DATOS!N119","v":""},{"$f":"IF(DATOS!AG119<>\"\",DATOS!AG119,\"\")","v":""},{"$f":"IF(DATOS!AH119<>\"\",DATOS!AH119,\"\")","v":""}]
[{"$f":"DATOS!N120","v":""},{"$f":"IF(DATOS!AG120<>\"\",DATOS!AG120,\"\")","v":""},{"$f":"IF(DATOS!AH120<>\"\",DATOS!AH120,\"\")","v":""}]
[{"$f":"DATOS!N121","v":""},{"$f":"IF(DATOS!AG121<>\"\",DATOS!AG121,\"\")","v":""},{"$f":"IF(DATOS!AH121<>\"\",DATOS!AH121,\"\")","v":""}]
[{"$f":"DATOS!N122","v":""},{"$f":"IF(DATOS!AG122<>\"\",DATOS!AG122,\"\")","v":""},{"$f":"IF(DATOS!AH122<>\"\",DATOS!AH122,\"\")","v":""}]
[{"$f":"DATOS!N123","v":""},{"$f":"IF(DATOS!AG123<>\"\",DATOS!AG123,\"\")","v":""},{"$f":"IF(DATOS!AH123<>\"\",DATOS!AH123,\"\")","v":""}]
[{"$f":"DATOS!N124","v":""},{"$f":"IF(DATOS!AG124<>\"\",DATOS!AG124,\"\")","v":""},{"$f":"IF(DATOS!AH124<>\"\",DATOS!AH124,\"\")","v":""}]
[{"$f":"DATOS!N125","v":""},{"$f":"IF(DATOS!AG125<>\"\",DATOS!AG125,\"\")","v":""},{"$f":"IF(DATOS!AH125<>\"\",DATOS!AH125,\"\")","v":""}]
[{"$f":"DATOS!N126","v":""},{"$f":"IF(DATOS!AG126<>\"\",DATOS!AG126,\"\")","v":""},{"$f":"IF(DATOS!AH126<>\"\",DATOS!AH126,\"\")","v":""}]
[{"$f":"DATOS!N127","v":""},{"$f":"IF(DATOS!AG127<>\"\",DATOS!AG127,\"\")","v":""},{"$f":"IF(DATOS!AH127<>\"\",DATOS!AH127,\"\")","v":""}]
[{"$f":"DATOS!N128","v":""},{"$f":"IF(DATOS!AG128<>\"\",DATOS!AG128,\"\")","v":""},{"$f":"IF(DATOS!AH128<>\"\",DATOS!AH128,\"\")","v":""}]
[{"$f":"DATOS!N129","v":""},{"$f":"IF(DATOS!AG129<>\"\",DATOS!AG129,\"\")","v":""},{"$f":"IF(DATOS!AH129<>\"\",DATOS!AH129,\"\")","v":""}]
[{"$f":"DATOS!N130","v":""},{"$f":"IF(DATOS!AG130<>\"\",DATOS!AG130,\"\")","v":""},{"$f":"IF(DATOS!AH130<>\"\",DATOS!AH130,\"\")","v":""}]
[{"$f":"DATOS!N131","v":""},{"$f":"IF(DATOS!AG131<>\"\",DATOS!AG131,\"\")","v":""},{"$f":"IF(DATOS!AH131<>\"\",DATOS!AH131,\"\")","v":""}]
[{"$f":"DATOS!N132","v":""},{"$f":"IF(DATOS!AG132<>\"\",DATOS!AG132,\"\")","v":""},{"$f":"IF(DATOS!AH132<>\"\",DATOS!AH132,\"\")","v":""}]
[{"$f":"DATOS!N133","v":""},{"$f":"IF(DATOS!AG133<>\"\",DATOS!AG133,\"\")","v":""},{"$f":"IF(DATOS!AH133<>\"\",DATOS!AH133,\"\")","v":""}]
[{"$f":"DATOS!N134","v":""},{"$f":"IF(DATOS!AG134<>\"\",DATOS!AG134,\"\")","v":""},{"$f":"IF(DATOS!AH134<>\"\",DATOS!AH134,\"\")","v":""}]
[{"$f":"DATOS!N135","v":""},{"$f":"IF(DATOS!AG135<>\"\",DATOS!AG135,\"\")","v":""},{"$f":"IF(DATOS!AH135<>\"\",DATOS!AH135,\"\")","v":""}]
[{"$f":"DATOS!N136","v":""},{"$f":"IF(DATOS!AG136<>\"\",DATOS!AG136,\"\")","v":""},{"$f":"IF(DATOS!AH136<>\"\",DATOS!AH136,\"\")","v":""}]
[{"$f":"DATOS!N137","v":""},{"$f":"IF(DATOS!AG137<>\"\",DATOS!AG137,\"\")","v":""},{"$f":"IF(DATOS!AH137<>\"\",DATOS!AH137,\"\")","v":""}]
[{"$f":"DATOS!N138","v":""},{"$f":"IF(DATOS!AG138<>\"\",DATOS!AG138,\"\")","v":""},{"$f":"IF(DATOS!AH138<>\"\",DATOS!AH138,\"\")","v":""}]
[{"$f":"DATOS!N139","v":""},{"$f":"IF(DATOS!AG139<>\"\",DATOS!AG139,\"\")","v":""},{"$f":"IF(DATOS!AH139<>\"\",DATOS!AH139,\"\")","v":""}]
[{"$f":"DATOS!N140","v":""},{"$f":"IF(DATOS!AG140<>\"\",DATOS!AG140,\"\")","v":""},{"$f":"IF(DATOS!AH140<>\"\",DATOS!AH140,\"\")","v":""}]
[{"$f":"DATOS!N141","v":""},{"$f":"IF(DATOS!AG141<>\"\",DATOS!AG141,\"\")","v":""},{"$f":"IF(DATOS!AH141<>\"\",DATOS!AH141,\"\")","v":""}]
[{"$f":"DATOS!N142","v":""},{"$f":"IF(DATOS!AG142<>\"\",DATOS!AG142,\"\")","v":""},{"$f":"IF(DATOS!AH142<>\"\",DATOS!AH142,\"\")","v":""}]
[{"$f":"DATOS!N143","v":""},{"$f":"IF(DATOS!AG143<>\"\",DATOS!AG143,\"\")","v":""},{"$f":"IF(DATOS!AH143<>\"\",DATOS!AH143,\"\")","v":""}]
[{"$f":"DATOS!N144","v":""},{"$f":"IF(DATOS!AG144<>\"\",DATOS!AG144,\"\")","v":""},{"$f":"IF(DATOS!AH144<>\"\",DATOS!AH144,\"\")","v":""}]
[{"$f":"DATOS!N145","v":""},{"$f":"IF(DATOS!AG145<>\"\",DATOS!AG145,\"\")","v":""},{"$f":"IF(DATOS!AH145<>\"\",DATOS!AH145,\"\")","v":""}]
[{"$f":"DATOS!N146","v":""},{"$f":"IF(DATOS!AG146<>\"\",DATOS!AG146,\"\")","v":""},{"$f":"IF(DATOS!AH146<>\"\",DATOS!AH146,\"\")","v":""}]
[{"$f":"DATOS!N147","v":""},{"$f":"IF(DATOS!AG147<>\"\",DATOS!AG147,\"\")","v":""},{"$f":"IF(DATOS!AH147<>\"\",DATOS!AH147,\"\")","v":""}]
[{"$f":"DATOS!N148","v":""},{"$f":"IF(DATOS!AG148<>\"\",DATOS!AG148,\"\")","v":""},{"$f":"IF(DATOS!AH148<>\"\",DATOS!AH148,\"\")","v":""}]
[{"$f":"DATOS!N149","v":""},{"$f":"IF(DATOS!AG149<>\"\",DATOS!AG149,\"\")","v":""},{"$f":"IF(DATOS!AH149<>\"\",DATOS!AH149,\"\")","v":""}]
[{"$f":"DATOS!N150","v":""},{"$f":"IF(DATOS!AG150<>\"\",DATOS!AG150,\"\")","v":""},{"$f":"IF(DATOS!AH150<>\"\",DATOS!AH150,\"\")","v":""}]
[{"$f":"DATOS!N151","v":""},{"$f":"IF(DATOS!AG151<>\"\",DATOS!AG151,\"\")","v":""},{"$f":"IF(DATOS!AH151<>\"\",DATOS!AH151,\"\")","v":""}]
[{"$f":"DATOS!N152","v":""},{"$f":"IF(DATOS!AG152<>\"\",DATOS!AG152,\"\")","v":""},{"$f":"IF(DATOS!AH152<>\"\",DATOS!AH152,\"\")","v":""}]
[{"$f":"DATOS!N153","v":""},{"$f":"IF(DATOS!AG153<>\"\",DATOS!AG153,\"\")","v":""},{"$f":"IF(DATOS!AH153<>\"\",DATOS!AH153,\"\")","v":""}]
[{"$f":"DATOS!N154","v":""},{"$f":"IF(DATOS!AG154<>\"\",DATOS!AG154,\"\")","v":""},{"$f":"IF(DATOS!AH154<>\"\",DATOS!AH154,\"\")","v":""}]
[{"$f":"DATOS!N155","v":""},{"$f":"IF(DATOS!AG155<>\"\",DATOS!AG155,\"\")","v":""},{"$f":"IF(DATOS!AH155<>\"\",DATOS!AH155,\"\")","v":""}]
[{"$f":"DATOS!N156","v":""},{"$f":"IF(DATOS!AG156<>\"\",DATOS!AG156,\"\")","v":""},{"$f":"IF(DATOS!AH156<>\"\",DATOS!AH156,\"\")","v":""}]
[{"$f":"DATOS!N157","v":""},{"$f":"IF(DATOS!AG157<>\"\",DATOS!AG157,\"\")","v":""},{"$f":"IF(DATOS!AH157<>\"\",DATOS!AH157,\"\")","v":""}]
[{"$f":"DATOS!N158","v":""},{"$f":"IF(DATOS!AG158<>\"\",DATOS!AG158,\"\")","v":""},{"$f":"IF(DATOS!AH158<>\"\",DATOS!AH158,\"\")","v":""}]
[{"$f":"DATOS!N159","v":""},{"$f":"IF(DATOS!AG159<>\"\",DATOS!AG159,\"\")","v":""},{"$f":"IF(DATOS!AH159<>\"\",DATOS!AH159,\"\")","v":""}]
[{"$f":"DATOS!N160","v":""},{"$f":"IF(DATOS!AG160<>\"\",DATOS!AG160,\"\")","v":""},{"$f":"IF(DATOS!AH160<>\"\",DATOS!AH160,\"\")","v":""}]
[{"$f":"DATOS!N161","v":""},{"$f":"IF(DATOS!AG161<>\"\",DATOS!AG161,\"\")","v":""},{"$f":"IF(DATOS!AH161<>\"\",DATOS!AH161,\"\")","v":""}]
[{"$f":"DATOS!N162","v":""},{"$f":"IF(DATOS!AG162<>\"\",DATOS!AG162,\"\")","v":""},{"$f":"IF(DATOS!AH162<>\"\",DATOS!AH162,\"\")","v":""}]
[{"$f":"DATOS!N163","v":""},{"$f":"IF(DATOS!AG163<>\"\",DATOS!AG163,\"\")","v":""},{"$f":"IF(DATOS!AH163<>\"\",DATOS!AH163,\"\")","v":""}]
[{"$f":"DATOS!N164","v":""},{"$f":"IF(DATOS!AG164<>\"\",DATOS!AG164,\"\")","v":""},{"$f":"IF(DATOS!AH164<>\"\",DATOS!AH164,\"\")","v":""}]
[{"$f":"DATOS!N165","v":""},{"$f":"IF(DATOS!AG165<>\"\",DATOS!AG165,\"\")","v":""},{"$f":"IF(DATOS!AH165<>\"\",DATOS!AH165,\"\")","v":""}]
[{"$f":"DATOS!N166","v":""},{"$f":"IF(DATOS!AG166<>\"\",DATOS!AG166,\"\")","v":""},{"$f":"IF(DATOS!AH166<>\"\",DATOS!AH166,\"\")","v":""}]
[{"$f":"DATOS!N167","v":""},{"$f":"IF(DATOS!AG167<>\"\",DATOS!AG167,\"\")","v":""},{"$f":"IF(DATOS!AH167<>\"\",DATOS!AH167,\"\")","v":""}]
[{"$f":"DATOS!N168","v":""},{"$f":"IF(DATOS!AG168<>\"\",DATOS!AG168,\"\")","v":""},{"$f":"IF(DATOS!AH168<>\"\",DATOS!AH168,\"\")","v":""}]
[{"$f":"DATOS!N169","v":""},{"$f":"IF(DATOS!AG169<>\"\",DATOS!AG169,\"\")","v":""},{"$f":"IF(DATOS!AH169<>\"\",DATOS!AH169,\"\")","v":""}]
[{"$f":"DATOS!N170","v":""},{"$f":"IF(DATOS!AG170<>\"\",DATOS!AG170,\"\")","v":""},{"$f":"IF(DATOS!AH170<>\"\",DATOS!AH170,\"\")","v":""}]
[{"$f":"DATOS!N171","v":""},{"$f":"IF(DATOS!AG171<>\"\",DATOS!AG171,\"\")","v":""},{"$f":"IF(DATOS!AH171<>\"\",DATOS!AH171,\"\")","v":""}]
[{"$f":"DATOS!N172","v":""},{"$f":"IF(DATOS!AG172<>\"\",DATOS!AG172,\"\")","v":""},{"$f":"IF(DATOS!AH172<>\"\",DATOS!AH172,\"\")","v":""}]
[{"$f":"DATOS!N173","v":""},{"$f":"IF(DATOS!AG173<>\"\",DATOS!AG173,\"\")","v":""},{"$f":"IF(DATOS!AH173<>\"\",DATOS!AH173,\"\")","v":""}]
[{"$f":"DATOS!N174","v":""},{"$f":"IF(DATOS!AG174<>\"\",DATOS!AG174,\"\")","v":""},{"$f":"IF(DATOS!AH174<>\"\",DATOS!AH174,\"\")","v":""}]
[{"$f":"DATOS!N175","v":""},{"$f":"IF(DATOS!AG175<>\"\",DATOS!AG175,\"\")","v":""},{"$f":"IF(DATOS!AH175<>\"\",DATOS!AH175,\"\")","v":""}]
[{"$f":"DATOS!N176","v":""},{"$f":"IF(DATOS!AG176<>\"\",DATOS!AG176,\"\")","v":""},{"$f":"IF(DATOS!AH176<>\"\",DATOS!AH176,\"\")","v":""}]
[{"$f":"DATOS!N177","v":""},{"$f":"IF(DATOS!AG177<>\"\",DATOS!AG177,\"\")","v":""},{"$f":"IF(DATOS!AH177<>\"\",DATOS!AH177,\"\")","v":""}]
[{"$f":"DATOS!N178","v":""},{"$f":"IF(DATOS!AG178<>\"\",DATOS!AG178,\"\")","v":""},{"$f":"IF(DATOS!AH178<>\"\",DATOS!AH178,\"\")","v":""}]
[{"$f":"DATOS!N179","v":""},{"$f":"IF(DATOS!AG179<>\"\",DATOS!AG179,\"\")","v":""},{"$f":"IF(DATOS!AH179<>\"\",DATOS!AH179,\"\")","v":""}]
[{"$f":"DATOS!N180","v":""},{"$f":"IF(DATOS!AG180<>\"\",DATOS!AG180,\"\")","v":""},{"$f":"IF(DATOS!AH180<>\"\",DATOS!AH180,\"\")","v":""}]
[{"$f":"DATOS!N181","v":""},{"$f":"IF(DATOS!AG181<>\"\",DATOS!AG181,\"\")","v":""},{"$f":"IF(DATOS!AH181<>\"\",DATOS!AH181,\"\")","v":""}]
[{"$f":"DATOS!N182","v":""},{"$f":"IF(DATOS!AG182<>\"\",DATOS!AG182,\"\")","v":""},{"$f":"IF(DATOS!AH182<>\"\",DATOS!AH182,\"\")","v":""}]
[{"$f":"DATOS!N183","v":""},{"$f":"IF(DATOS!AG183<>\"\",DATOS!AG183,\"\")","v":""},{"$f":"IF(DATOS!AH183<>\"\",DATOS!AH183,\"\")","v":""}]
[{"$f":"DATOS!N184","v":""},{"$f":"IF(DATOS!AG184<>\"\",DATOS!AG184,\"\")","v":""},{"$f":"IF(DATOS!AH184<>\"\",DATOS!AH184,\"\")","v":""}]
[{"$f":"DATOS!N185","v":""},{"$f":"IF(DATOS!AG185<>\"\",DATOS!AG185,\"\")","v":""},{"$f":"IF(DATOS!AH185<>\"\",DATOS!AH185,\"\")","v":""}]
[{"$f":"DATOS!N186","v":""},{"$f":"IF(DATOS!AG186<>\"\",DATOS!AG186,\"\")","v":""},{"$f":"IF(DATOS!AH186<>\"\",DATOS!AH186,\"\")","v":""}]
[{"$f":"DATOS!N187","v":""},{"$f":"IF(DATOS!AG187<>\"\",DATOS!AG187,\"\")","v":""},{"$f":"IF(DATOS!AH187<>\"\",DATOS!AH187,\"\")","v":""}]
[{"$f":"DATOS!N188","v":""},{"$f":"IF(DATOS!AG188<>\"\",DATOS!AG188,\"\")","v":""},{"$f":"IF(DATOS!AH188<>\"\",DATOS!AH188,\"\")","v":""}]
[{"$f":"DATOS!N189","v":""},{"$f":"IF(DATOS!AG189<>\"\",DATOS!AG189,\"\")","v":""},{"$f":"IF(DATOS!AH189<>\"\",DATOS!AH189,\"\")","v":""}]
[{"$f":"DATOS!N190","v":""},{"$f":"IF(DATOS!AG190<>\"\",DATOS!AG190,\"\")","v":""},{"$f":"IF(DATOS!AH190<>\"\",DATOS!AH190,\"\")","v":""}]
[{"$f":"DATOS!N191","v":""},{"$f":"IF(DATOS!AG191<>\"\",DATOS!AG191,\"\")","v":""},{"$f":"IF(DATOS!AH191<>\"\",DATOS!AH191,\"\")","v":""}]
[{"$f":"DATOS!N192","v":""},{"$f":"IF(DATOS!AG192<>\"\",DATOS!AG192,\"\")","v":""},{"$f":"IF(DATOS!AH192<>\"\",DATOS!AH192,\"\")","v":""}]
[{"$f":"DATOS!N193","v":""},{"$f":"IF(DATOS!AG193<>\"\",DATOS!AG193,\"\")","v":""},{"$f":"IF(DATOS!AH193<>\"\",DATOS!AH193,\"\")","v":""}]
[{"$f":"DATOS!N194","v":""},{"$f":"IF(DATOS!AG194<>\"\",DATOS!AG194,\"\")","v":""},{"$f":"IF(DATOS!AH194<>\"\",DATOS!AH194,\"\")","v":""}]
[{"$f":"DATOS!N195","v":""},{"$f":"IF(DATOS!AG195<>\"\",DATOS!AG195,\"\")","v":""},{"$f":"IF(DATOS!AH195<>\"\",DATOS!AH195,\"\")","v":""}]
[{"$f":"DATOS!N196","v":""},{"$f":"IF(DATOS!AG196<>\"\",DATOS!AG196,\"\")","v":""},{"$f":"IF(DATOS!AH196<>\"\",DATOS!AH196,\"\")","v":""}]
[{"$f":"DATOS!N197","v":""},{"$f":"IF(DATOS!AG197<>\"\",DATOS!AG197,\"\")","v":""},{"$f":"IF(DATOS!AH197<>\"\",DATOS!AH197,\"\")","v":""}]
[{"$f":"DATOS!N198","v":""},{"$f":"IF(DATOS!AG198<>\"\",DATOS!AG198,\"\")","v":""},{"$f":"IF(DATOS!AH198<>\"\",DATOS!AH198,\"\")","v":""}]
[{"$f":"DATOS!N199","v":""},{"$f":"IF(DATOS!AG199<>\"\",DATOS!AG199,\"\")","v":""},{"$f":"IF(DATOS!AH199<>\"\",DATOS!AH199,\"\")","v":""}]
[{"$f":"DATOS!N200","v":""},{"$f":"IF(DATOS!AG200<>\"\",DATOS!AG200,\"\")","v":""},{"$f":"IF(DATOS!AH200<>\"\",DATOS!AH200,\"\")","v":""}]
[{"$f":"DATOS!N201","v":""},{"$f":"IF(DATOS!AG201<>\"\",DATOS!AG201,\"\")","v":""},{"$f":"IF(DATOS!AH201<>\"\",DATOS!AH201,\"\")","v":""}]
[{"$f":"DATOS!N202","v":""},{"$f":"IF(DATOS!AG202<>\"\",DATOS!AG202,\"\")","v":""},{"$f":"IF(DATOS!AH202<>\"\",DATOS!AH202,\"\")","v":""}]
[{"$f":"DATOS!N203","v":""},{"$f":"IF(DATOS!AG203<>\"\",DATOS!AG203,\"\")","v":""},{"$f":"IF(DATOS!AH203<>\"\",DATOS!AH203,\"\")","v":""}]
[{"$f":"DATOS!N204","v":""},{"$f":"IF(DATOS!AG204<>\"\",DATOS!AG204,\"\")","v":""},{"$f":"IF(DATOS!AH204<>\"\",DATOS!AH204,\"\")","v":""}]
[{"$f":"DATOS!N205","v":""},{"$f":"IF(DATOS!AG205<>\"\",DATOS!AG205,\"\")","v":""},{"$f":"IF(DATOS!AH205<>\"\",DATOS!AH205,\"\")","v":""}]
[{"$f":"DATOS!N206","v":""},{"$f":"IF(DATOS!AG206<>\"\",DATOS!AG206,\"\")","v":""},{"$f":"IF(DATOS!AH206<>\"\",DATOS!AH206,\"\")","v":""}]
[{"$f":"DATOS!N207","v":""},{"$f":"IF(DATOS!AG207<>\"\",DATOS!AG207,\"\")","v":""},{"$f":"IF(DATOS!AH207<>\"\",DATOS!AH207,\"\")","v":""}]
[{"$f":"DATOS!N208","v":""},{"$f":"IF(DATOS!AG208<>\"\",DATOS!AG208,\"\")","v":""},{"$f":"IF(DATOS!AH208<>\"\",DATOS!AH208,\"\")","v":""}]
[{"$f":"DATOS!N209","v":""},{"$f":"IF(DATOS!AG209<>\"\",DATOS!AG209,\"\")","v":""},{"$f":"IF(DATOS!AH209<>\"\",DATOS!AH209,\"\")","v":""}]
[{"$f":"DATOS!N210","v":""},{"$f":"IF(DATOS!AG210<>\"\",DATOS!AG210,\"\")","v":""},{"$f":"IF(DATOS!AH210<>\"\",DATOS!AH210,\"\")","v":""}]
[{"$f":"DATOS!N211","v":""},{"$f":"IF(DATOS!AG211<>\"\",DATOS!AG211,\"\")","v":""},{"$f":"IF(DATOS!AH211<>\"\",DATOS!AH211,\"\")","v":""}]
[{"$f":"DATOS!N212","v":""},{"$f":"IF(DATOS!AG212<>\"\",DATOS!AG212,\"\")","v":""},{"$f":"IF(DATOS!AH212<>\"\",DATOS!AH212,\"\")","v":""}]
[{"$f":"DATOS!N213","v":""},{"$f":"IF(DATOS!AG213<>\"\",DATOS!AG213,\"\")","v":""},{"$f":"IF(DATOS!AH213<>\"\",DATOS!AH213,\"\")","v":""}]
[{"$f":"DATOS!N214","v":""},{"$f":"IF(DATOS!AG214<>\"\",DATOS!AG214,\"\")","v":""},{"$f":"IF(DATOS!AH214<>\"\",DATOS!AH214,\"\")","v":""}]
[{"$f":"DATOS!N215","v":""},{"$f":"IF(DATOS!AG215<>\"\",DATOS!AG215,\"\")","v":""},{"$f":"IF(DATOS!AH215<>\"\",DATOS!AH215,\"\")","v":""}]
[{"$f":"DATOS!N216","v":""},{"$f":"IF(DATOS!AG216<>\"\",DATOS!AG216,\"\")","v":""},{"$f":"IF(DATOS!AH216<>\"\",DATOS!AH216,\"\")","v":""}]
[{"$f":"DATOS!N217","v":""},{"$f":"IF(DATOS!AG217<>\"\",DATOS!AG217,\"\")","v":""},{"$f":"IF(DATOS!AH217<>\"\",DATOS!AH217,\"\")","v":""}]
[{"$f":"DATOS!N218","v":""},{"$f":"IF(DATOS!AG218<>\"\",DATOS!AG218,\"\")","v":""},{"$f":"IF(DATOS!AH218<>\"\",DATOS!AH218,\"\")","v":""}]
[{"$f":"DATOS!N219","v":""},{"$f":"IF(DATOS!AG219<>\"\",DATOS!AG219,\"\")","v":""},{"$f":"IF(DATOS!AH219<>\"\",DATOS!AH219,\"\")","v":""}]
[{"$f":"DATOS!N220","v":""},{"$f":"IF(DATOS!AG220<>\"\",DATOS!AG220,\"\")","v":""},{"$f":"IF(DATOS!AH220<>\"\",DATOS!AH220,\"\")","v":""}]
[{"$f":"DATOS!N221","v":""},{"$f":"IF(DATOS!AG221<>\"\",DATOS!AG221,\"\")","v":""},{"$f":"IF(DATOS!AH221<>\"\",DATOS!AH221,\"\")","v":""}]
[{"$f":"DATOS!N222","v":""},{"$f":"IF(DATOS!AG222<>\"\",DATOS!AG222,\"\")","v":""},{"$f":"IF(DATOS!AH222<>\"\",DATOS!AH222,\"\")","v":""}]
[{"$f":"DATOS!N223","v":""},{"$f":"IF(DATOS!AG223<>\"\",DATOS!AG223,\"\")","v":""},{"$f":"IF(DATOS!AH223<>\"\",DATOS!AH223,\"\")","v":""}]
[{"$f":"DATOS!N224","v":""},{"$f":"IF(DATOS!AG224<>\"\",DATOS!AG224,\"\")","v":""},{"$f":"IF(DATOS!AH224<>\"\",DATOS!AH224,\"\")","v":""}]
[{"$f":"DATOS!N225","v":""},{"$f":"IF(DATOS!AG225<>\"\",DATOS!AG225,\"\")","v":""},{"$f":"IF(DATOS!AH225<>\"\",DATOS!AH225,\"\")","v":""}]
[{"$f":"DATOS!N226","v":""},{"$f":"IF(DATOS!AG226<>\"\",DATOS!AG226,\"\")","v":""},{"$f":"IF(DATOS!AH226<>\"\",DATOS!AH226,\"\")","v":""}]
[{"$f":"DATOS!N227","v":""},{"$f":"IF(DATOS!AG227<>\"\",DATOS!AG227,\"\")","v":""},{"$f":"IF(DATOS!AH227<>\"\",DATOS!AH227,\"\")","v":""}]
[{"$f":"DATOS!N228","v":""},{"$f":"IF(DATOS!AG228<>\"\",DATOS!AG228,\"\")","v":""},{"$f":"IF(DATOS!AH228<>\"\",DATOS!AH228,\"\")","v":""}]
[{"$f":"DATOS!N229","v":""},{"$f":"IF(DATOS!AG229<>\"\",DATOS!AG229,\"\")","v":""},{"$f":"IF(DATOS!AH229<>\"\",DATOS!AH229,\"\")","v":""}]
[{"$f":"DATOS!N230","v":""},{"$f":"IF(DATOS!AG230<>\"\",DATOS!AG230,\"\")","v":""},{"$f":"IF(DATOS!AH230<>\"\",DATOS!AH230,\"\")","v":""}]
[{"$f":"DATOS!N231","v":""},{"$f":"IF(DATOS!AG231<>\"\",DATOS!AG231,\"\")","v":""},{"$f":"IF(DATOS!AH231<>\"\",DATOS!AH231,\"\")","v":""}]
[{"$f":"DATOS!N232","v":""},{"$f":"IF(DATOS!AG232<>\"\",DATOS!AG232,\"\")","v":""},{"$f":"IF(DATOS!AH232<>\"\",DATOS!AH232,\"\")","v":""}]
[{"$f":"DATOS!N233","v":""},{"$f":"IF(DATOS!AG233<>\"\",DATOS!AG233,\"\")","v":""},{"$f":"IF(DATOS!AH233<>\"\",DATOS!AH233,\"\")","v":""}]
[{"$f":"DATOS!N234","v":""},{"$f":"IF(DATOS!AG234<>\"\",DATOS!AG234,\"\")","v":""},{"$f":"IF(DATOS!AH234<>\"\",DATOS!AH234,\"\")","v":""}]
[{"$f":"DATOS!N235","v":""},{"$f":"IF(DATOS!AG235<>\"\",DATOS!AG235,\"\")","v":""},{"$f":"IF(DATOS!AH235<>\"\",DATOS!AH235,\"\")","v":""}]
[{"$f":"DATOS!N236","v":""},{"$f":"IF(DATOS!AG236<>\"\",DATOS!AG236,\"\")","v":""},{"$f":"IF(DATOS!AH236<>\"\",DATOS!AH236,\"\")","v":""}]
[{"$f":"DATOS!N237","v":""},{"$f":"IF(DATOS!AG237<>\"\",DATOS!AG237,\"\")","v":""},{"$f":"IF(DATOS!AH237<>\"\",DATOS!AH237,\"\")","v":""}]
[{"$f":"DATOS!N238","v":""},{"$f":"IF(DATOS!AG238<>\"\",DATOS!AG238,\"\")","v":""},{"$f":"IF(DATOS!AH238<>\"\",DATOS!AH238,\"\")","v":""}]
[{"$f":"DATOS!N239","v":""},{"$f":"IF(DATOS!AG239<>\"\",DATOS!AG239,\"\")","v":""},{"$f":"IF(DATOS!AH239<>\"\",DATOS!AH239,\"\")","v":""}]
[{"$f":"DATOS!N240","v":""},{"$f":"IF(DATOS!AG240<>\"\",DATOS!AG240,\"\")","v":""},{"$f":"IF(DATOS!AH240<>\"\",DATOS!AH240,\"\")","v":""}]
[{"$f":"DATOS!N241","v":""},{"$f":"IF(DATOS!AG241<>\"\",DATOS!AG241,\"\")","v":""},{"$f":"IF(DATOS!AH241<>\"\",DATOS!AH241,\"\")","v":""}]
[{"$f":"DATOS!N242","v":""},{"$f":"IF(DATOS!AG242<>\"\",DATOS!AG242,\"\")","v":""},{"$f":"IF(DATOS!AH242<>\"\",DATOS!AH242,\"\")","v":""}]
[{"$f":"DATOS!N243","v":""},{"$f":"IF(DATOS!AG243<>\"\",DATOS!AG243,\"\")","v":""},{"$f":"IF(DATOS!AH243<>\"\",DATOS!AH243,\"\")","v":""}]
[{"$f":"DATOS!N244","v":""},{"$f":"IF(DATOS!AG244<>\"\",DATOS!AG244,\"\")","v":""},{"$f":"IF(DATOS!AH244<>\"\",DATOS!AH244,\"\")","v":""}]
[{"$f":"DATOS!N245","v":""},{"$f":"IF(DATOS!AG245<>\"\",DATOS!AG245,\"\")","v":""},{"$f":"IF(DATOS!AH245<>\"\",DATOS!AH245,\"\")","v":""}]
[{"$f":"DATOS!N246","v":""},{"$f":"IF(DATOS!AG246<>\"\",DATOS!AG246,\"\")","v":""},{"$f":"IF(DATOS!AH246<>\"\",DATOS!AH246,\"\")","v":""}]
[{"$f":"DATOS!N247","v":""},{"$f":"IF(DATOS!AG247<>\"\",DATOS!AG247,\"\")","v":""},{"$f":"IF(DATOS!AH247<>\"\",DATOS!AH247,\"\")","v":""}]
[{"$f":"DATOS!N248","v":""},{"$f":"IF(DATOS!AG248<>\"\",DATOS!AG248,\"\")","v":""},{"$f":"IF(DATOS!AH248<>\"\",DATOS!AH248,\"\")","v":""}]
[{"$f":"DATOS!N249","v":""},{"$f":"IF(DATOS!AG249<>\"\",DATOS!AG249,\"\")","v":""},{"$f":"IF(DATOS!AH249<>\"\",DATOS!AH249,\"\")","v":""}]
[{"$f":"DATOS!N250","v":""},{"$f":"IF(DATOS!AG250<>\"\",DATOS!AG250,\"\")","v":""},{"$f":"IF(DATOS!AH250<>\"\",DATOS!AH250,\"\")","v":""}]
[{"$f":"DATOS!N251","v":""},{"$f":"IF(DATOS!AG251<>\"\",DATOS!AG251,\"\")","v":""},{"$f":"IF(DATOS!AH251<>\"\",DATOS!AH251,\"\")","v":""}]
[{"$f":"DATOS!N252","v":""},{"$f":"IF(DATOS!AG252<>\"\",DATOS!AG252,\"\")","v":""},{"$f":"IF(DATOS!AH252<>\"\",DATOS!AH252,\"\")","v":""}]
[{"$f":"DATOS!N253","v":""},{"$f":"IF(DATOS!AG253<>\"\",DATOS!AG253,\"\")","v":""},{"$f":"IF(DATOS!AH253<>\"\",DATOS!AH253,\"\")","v":""}]
[{"$f":"DATOS!N254","v":""},{"$f":"IF(DATOS!AG254<>\"\",DATOS!AG254,\"\")","v":""},{"$f":"IF(DATOS!AH254<>\"\",DATOS!AH254,\"\")","v":""}]
[{"$f":"DATOS!N255","v":""},{"$f":"IF(DATOS!AG255<>\"\",DATOS!AG255,\"\")","v":""},{"$f":"IF(DATOS!AH255<>\"\",DATOS!AH255,\"\")","v":""}]
[{"$f":"DATOS!N256","v":""},{"$f":"IF(DATOS!AG256<>\"\",DATOS!AG256,\"\")","v":""},{"$f":"IF(DATOS!AH256<>\"\",DATOS!AH256,\"\")","v":""}]
[{"$f":"DATOS!N257","v":""},{"$f":"IF(DATOS!AG257<>\"\",DATOS!AG257,\"\")","v":""},{"$f":"IF(DATOS!AH257<>\"\",DATOS!AH257,\"\")","v":""}]
[{"$f":"DATOS!N258","v":""},{"$f":"IF(DATOS!AG258<>\"\",DATOS!AG258,\"\")","v":""},{"$f":"IF(DATOS!AH258<>\"\",DATOS!AH258,\"\")","v":""}]
[{"$f":"DATOS!N259","v":""},{"$f":"IF(DATOS!AG259<>\"\",DATOS!AG259,\"\")","v":""},{"$f":"IF(DATOS!AH259<>\"\",DATOS!AH259,\"\")","v":""}]
[{"$f":"DATOS!N260","v":""},{"$f":"IF(DATOS!AG260<>\"\",DATOS!AG260,\"\")","v":""},{"$f":"IF(DATOS!AH260<>\"\",DATOS!AH260,\"\")","v":""}]
[{"$f":"DATOS!N261","v":""},{"$f":"IF(DATOS!AG261<>\"\",DATOS!AG261,\"\")","v":""},{"$f":"IF(DATOS!AH261<>\"\",DATOS!AH261,\"\")","v":""}]
[{"$f":"DATOS!N262","v":""},{"$f":"IF(DATOS!AG262<>\"\",DATOS!AG262,\"\")","v":""},{"$f":"IF(DATOS!AH262<>\"\",DATOS!AH262,\"\")","v":""}]
[{"$f":"DATOS!N263","v":""},{"$f":"IF(DATOS!AG263<>\"\",DATOS!AG263,\"\")","v":""},{"$f":"IF(DATOS!AH263<>\"\",DATOS!AH263,\"\")","v":""}]
[{"$f":"DATOS!N264","v":""},{"$f":"IF(DATOS!AG264<>\"\",DATOS!AG264,\"\")","v":""},{"$f":"IF(DATOS!AH264<>\"\",DATOS!AH264,\"\")","v":""}]
[{"$f":"DATOS!N265","v":""},{"$f":"IF(DATOS!AG265<>\"\",DATOS!AG265,\"\")","v":""},{"$f":"IF(DATOS!AH265<>\"\",DATOS!AH265,\"\")","v":""}]
[{"$f":"DATOS!N266","v":""},{"$f":"IF(DATOS!AG266<>\"\",DATOS!AG266,\"\")","v":""},{"$f":"IF(DATOS!AH266<>\"\",DATOS!AH266,\"\")","v":""}]
[{"$f":"DATOS!N267","v":""},{"$f":"IF(DATOS!AG267<>\"\",DATOS!AG267,\"\")","v":""},{"$f":"IF(DATOS!AH267<>\"\",DATOS!AH267,\"\")","v":""}]
[{"$f":"DATOS!N268","v":""},{"$f":"IF(DATOS!AG268<>\"\",DATOS!AG268,\"\")","v":""},{"$f":"IF(DATOS!AH268<>\"\",DATOS!AH268,\"\")","v":""}]
[{"$f":"DATOS!N269","v":""},{"$f":"IF(DATOS!AG269<>\"\",DATOS!AG269,\"\")","v":""},{"$f":"IF(DATOS!AH269<>\"\",DATOS!AH269,\"\")","v":""}]
[{"$f":"DATOS!N270","v":""},{"$f":"IF(DATOS!AG270<>\"\",DATOS!AG270,\"\")","v":""},{"$f":"IF(DATOS!AH270<>\"\",DATOS!AH270,\"\")","v":""}]
[{"$f":"DATOS!N271","v":""},{"$f":"IF(DATOS!AG271<>\"\",DATOS!AG271,\"\")","v":""},{"$f":"IF(DATOS!AH271<>\"\",DATOS!AH271,\"\")","v":""}]
[{"$f":"DATOS!N272","v":""},{"$f":"IF(DATOS!AG272<>\"\",DATOS!AG272,\"\")","v":""},{"$f":"IF(DATOS!AH272<>\"\",DATOS!AH272,\"\")","v":""}]
[{"$f":"DATOS!N273","v":""},{"$f":"IF(DATOS!AG273<>\"\",DATOS!AG273,\"\")","v":""},{"$f":"IF(DATOS!AH273<>\"\",DATOS!AH273,\"\")","v":""}]
[{"$f":"DATOS!N274","v":""},{"$f":"IF(DATOS!AG274<>\"\",DATOS!AG274,\"\")","v":""},{"$f":"IF(DATOS!AH274<>\"\",DATOS!AH274,\"\")","v":""}]
[{"$f":"DATOS!N275","v":""},{"$f":"IF(DATOS!AG275<>\"\",DATOS!AG275,\"\")","v":""},{"$f":"IF(DATOS!AH275<>\"\",DATOS!AH275,\"\")","v":""}]
[{"$f":"DATOS!N276","v":""},{"$f":"IF(DATOS!AG276<>\"\",DATOS!AG276,\"\")","v":""},{"$f":"IF(DATOS!AH276<>\"\",DATOS!AH276,\"\")","v":""}]
[{"$f":"DATOS!N277","v":""},{"$f":"IF(DATOS!AG277<>\"\",DATOS!AG277,\"\")","v":""},{"$f":"IF(DATOS!AH277<>\"\",DATOS!AH277,\"\")","v":""}]
[{"$f":"DATOS!N278","v":""},{"$f":"IF(DATOS!AG278<>\"\",DATOS!AG278,\"\")","v":""},{"$f":"IF(DATOS!AH278<>\"\",DATOS!AH278,\"\")","v":""}]
[{"$f":"DATOS!N279","v":""},{"$f":"IF(DATOS!AG279<>\"\",DATOS!AG279,\"\")","v":""},{"$f":"IF(DATOS!AH279<>\"\",DATOS!AH279,\"\")","v":""}]
[{"$f":"DATOS!N280","v":""},{"$f":"IF(DATOS!AG280<>\"\",DATOS!AG280,\"\")","v":""},{"$f":"IF(DATOS!AH280<>\"\",DATOS!AH280,\"\")","v":""}]
[{"$f":"DATOS!N281","v":""},{"$f":"IF(DATOS!AG281<>\"\",DATOS!AG281,\"\")","v":""},{"$f":"IF(DATOS!AH281<>\"\",DATOS!AH281,\"\")","v":""}]
[{"$f":"DATOS!N282","v":""},{"$f":"IF(DATOS!AG282<>\"\",DATOS!AG282,\"\")","v":""},{"$f":"IF(DATOS!AH282<>\"\",DATOS!AH282,\"\")","v":""}]
[{"$f":"DATOS!N283","v":""},{"$f":"IF(DATOS!AG283<>\"\",DATOS!AG283,\"\")","v":""},{"$f":"IF(DATOS!AH283<>\"\",DATOS!AH283,\"\")","v":""}]
[{"$f":"DATOS!N284","v":""},{"$f":"IF(DATOS!AG284<>\"\",DATOS!AG284,\"\")","v":""},{"$f":"IF(DATOS!AH284<>\"\",DATOS!AH284,\"\")","v":""}]
[{"$f":"DATOS!N285","v":""},{"$f":"IF(DATOS!AG285<>\"\",DATOS!AG285,\"\")","v":""},{"$f":"IF(DATOS!AH285<>\"\",DATOS!AH285,\"\")","v":""}]
[{"$f":"DATOS!N286","v":""},{"$f":"IF(DATOS!AG286<>\"\",DATOS!AG286,\"\")","v":""},{"$f":"IF(DATOS!AH286<>\"\",DATOS!AH286,\"\")","v":""}]
[{"$f":"DATOS!N287","v":""},{"$f":"IF(DATOS!AG287<>\"\",DATOS!AG287,\"\")","v":""},{"$f":"IF(DATOS!AH287<>\"\",DATOS!AH287,\"\")","v":""}]
[{"$f":"DATOS!N288","v":""},{"$f":"IF(DATOS!AG288<>\"\",DATOS!AG288,\"\")","v":""},{"$f":"IF(DATOS!AH288<>\"\",DATOS!AH288,\"\")","v":""}]
[{"$f":"DATOS!N289","v":""},{"$f":"IF(DATOS!AG289<>\"\",DATOS!AG289,\"\")","v":""},{"$f":"IF(DATOS!AH289<>\"\",DATOS!AH289,\"\")","v":""}]
[{"$f":"DATOS!N290","v":""},{"$f":"IF(DATOS!AG290<>\"\",DATOS!AG290,\"\")","v":""},{"$f":"IF(DATOS!AH290<>\"\",DATOS!AH290,\"\")","v":""}]
[{"$f":"DATOS!N291","v":""},{"$f":"IF(DATOS!AG291<>\"\",DATOS!AG291,\"\")","v":""},{"$f":"IF(DATOS!AH291<>\"\",DATOS!AH291,\"\")","v":""}]
[{"$f":"DATOS!N292","v":""},{"$f":"IF(DATOS!AG292<>\"\",DATOS!AG292,\"\")","v":""},{"$f":"IF(DATOS!AH292<>\"\",DATOS!AH292,\"\")","v":""}]
[{"$f":"DATOS!N293","v":""},{"$f":"IF(DATOS!AG293<>\"\",DATOS!AG293,\"\")","v":""},{"$f":"IF(DATOS!AH293<>\"\",DATOS!AH293,\"\")","v":""}]
[{"$f":"DATOS!N294","v":""},{"$f":"IF(DATOS!AG294<>\"\",DATOS!AG294,\"\")","v":""},{"$f":"IF(DATOS!AH294<>\"\",DATOS!AH294,\"\")","v":""}]
[{"$f":"DATOS!N295","v":""},{"$f":"IF(DATOS!AG295<>\"\",DATOS!AG295,\"\")","v":""},{"$f":"IF(DATOS!AH295<>\"\",DATOS!AH295,\"\")","v":""}]
[{"$f":"DATOS!N296","v":""},{"$f":"IF(DATOS!AG296<>\"\",DATOS!AG296,\"\")","v":""},{"$f":"IF(DATOS!AH296<>\"\",DATOS!AH296,\"\")","v":""}]
[{"$f":"DATOS!N297","v":""},{"$f":"IF(DATOS!AG297<>\"\",DATOS!AG297,\"\")","v":""},{"$f":"IF(DATOS!AH297<>\"\",DATOS!AH297,\"\")","v":""}]
[{"$f":"DATOS!N298","v":""},{"$f":"IF(DATOS!AG298<>\"\",DATOS!AG298,\"\")","v":""},{"$f":"IF(DATOS!AH298<>\"\",DATOS!AH298,\"\")","v":""}]
[{"$f":"DATOS!N299","v":""},{"$f":"IF(DATOS!AG299<>\"\",DATOS!AG299,\"\")","v":""},{"$f":"IF(DATOS!AH299<>\"\",DATOS!AH299,\"\")","v":""}]
[{"$f":"DATOS!N300","v":""},{"$f":"IF(DATOS!AG300<>\"\",DATOS!AG300,\"\")","v":""},{"$f":"IF(DATOS!AH300<>\"\",DATOS!AH300,\"\")","v":""}]
[{"$f":"DATOS!N301","v":""},{"$f":"IF(DATOS!AG301<>\"\",DATOS!AG301,\"\")","v":""},{"$f":"IF(DATOS!AH301<>\"\",DATOS!AH301,\"\")","v":""}]
[{"$f":"DATOS!N302","v":""},{"$f":"IF(DATOS!AG302<>\"\",DATOS!AG302,\"\")","v":""},{"$f":"IF(DATOS!AH302<>\"\",DATOS!AH302,\"\")","v":""}]
[{"$f":"DATOS!N303","v":""},{"$f":"IF(DATOS!AG303<>\"\",DATOS!AG303,\"\")","v":""},{"$f":"IF(DATOS!AH303<>\"\",DATOS!AH303,\"\")","v":""}]
[{"$f":"DATOS!N304","v":""},{"$f":"IF(DATOS!AG304<>\"\",DATOS!AG304,\"\")","v":""},{"$f":"IF(DATOS!AH304<>\"\",DATOS!AH304,\"\")","v":""}]
[{"$f":"DATOS!N305","v":""},{"$f":"IF(DATOS!AG305<>\"\",DATOS!AG305,\"\")","v":""},{"$f":"IF(DATOS!AH305<>\"\",DATOS!AH305,\"\")","v":""}]
[{"$f":"DATOS!N306","v":""},{"$f":"IF(DATOS!AG306<>\"\",DATOS!AG306,\"\")","v":""},{"$f":"IF(DATOS!AH306<>\"\",DATOS!AH306,\"\")","v":""}]
[{"$f":"DATOS!N307","v":""},{"$f":"IF(DATOS!AG307<>\"\",DATOS!AG307,\"\")","v":""},{"$f":"IF(DATOS!AH307<>\"\",DATOS!AH307,\"\")","v":""}]
[{"$f":"DATOS!N308","v":""},{"$f":"IF(DATOS!AG308<>\"\",DATOS!AG308,\"\")","v":""},{"$f":"IF(DATOS!AH308<>\"\",DATOS!AH308,\"\")","v":""}]
[{"$f":"DATOS!N309","v":""},{"$f":"IF(DATOS!AG309<>\"\",DATOS!AG309,\"\")","v":""},{"$f":"IF(DATOS!AH309<>\"\",DATOS!AH309,\"\")","v":""}]
[{"$f":"DATOS!N310","v":""},{"$f":"IF(DATOS!AG310<>\"\",DATOS!AG310,\"\")","v":""},{"$f":"IF(DATOS!AH310<>\"\",DATOS!AH310,\"\")","v":""}]
[{"$f":"DATOS!N311","v":""},{"$f":"IF(DATOS!AG311<>\"\",DATOS!AG311,\"\")","v":""},{"$f":"IF(DATOS!AH311<>\"\",DATOS!AH311,\"\")","v":""}]
[{"$f":"DATOS!N312","v":""},{"$f":"IF(DATOS!AG312<>\"\",DATOS!AG312,\"\")","v":""},{"$f":"IF(DATOS!AH312<>\"\",DATOS!AH312,\"\")","v":""}]
[{"$f":"DATOS!N313","v":""},{"$f":"IF(DATOS!AG313<>\"\",DATOS!AG313,\"\")","v":""},{"$f":"IF(DATOS!AH313<>\"\",DATOS!AH313,\"\")","v":""}]
[{"$f":"DATOS!N314","v":""},{"$f":"IF(DATOS!AG314<>\"\",DATOS!AG314,\"\")","v":""},{"$f":"IF(DATOS!AH314<>\"\",DATOS!AH314,\"\")","v":""}]
[{"$f":"DATOS!N315","v":""},{"$f":"IF(DATOS!AG315<>\"\",DATOS!AG315,\"\")","v":""},{"$f":"IF(DATOS!AH315<>\"\",DATOS!AH315,\"\")","v":""}]
[{"$f":"DATOS!N316","v":""},{"$f":"IF(DATOS!AG316<>\"\",DATOS!AG316,\"\")","v":""},{"$f":"IF(DATOS!AH316<>\"\",DATOS!AH316,\"\")","v":""}]
[{"$f":"DATOS!N317","v":""},{"$f":"IF(DATOS!AG317<>\"\",DATOS!AG317,\"\")","v":""},{"$f":"IF(DATOS!AH317<>\"\",DATOS!AH317,\"\")","v":""}]
[{"$f":"DATOS!N318","v":""},{"$f":"IF(DATOS!AG318<>\"\",DATOS!AG318,\"\")","v":""},{"$f":"IF(DATOS!AH318<>\"\",DATOS!AH318,\"\")","v":""}]
[{"$f":"DATOS!N319","v":""},{"$f":"IF(DATOS!AG319<>\"\",DATOS!AG319,\"\")","v":""},{"$f":"IF(DATOS!AH319<>\"\",DATOS!AH319,\"\")","v":""}]
[{"$f":"DATOS!N320","v":""},{"$f":"IF(DATOS!AG320<>\"\",DATOS!AG320,\"\")","v":""},{"$f":"IF(DATOS!AH320<>\"\",DATOS!AH320,\"\")","v":""}]
[{"$f":"DATOS!N321","v":""},{"$f":"IF(DATOS!AG321<>\"\",DATOS!AG321,\"\")","v":""},{"$f":"IF(DATOS!AH321<>\"\",DATOS!AH321,\"\")","v":""}]
[{"$f":"DATOS!N322","v":""},{"$f":"IF(DATOS!AG322<>\"\",DATOS!AG322,\"\")","v":""},{"$f":"IF(DATOS!AH322<>\"\",DATOS!AH322,\"\")","v":""}]
[{"$f":"DATOS!N323","v":""},{"$f":"IF(DATOS!AG323<>\"\",DATOS!AG323,\"\")","v":""},{"$f":"IF(DATOS!AH323<>\"\",DATOS!AH323,\"\")","v":""}]
[{"$f":"DATOS!N324","v":""},{"$f":"IF(DATOS!AG324<>\"\",DATOS!AG324,\"\")","v":""},{"$f":"IF(DATOS!AH324<>\"\",DATOS!AH324,\"\")","v":""}]
[{"$f":"DATOS!N325","v":""},{"$f":"IF(DATOS!AG325<>\"\",DATOS!AG325,\"\")","v":""},{"$f":"IF(DATOS!AH325<>\"\",DATOS!AH325,\"\")","v":""}]
[{"$f":"DATOS!N326","v":""},{"$f":"IF(DATOS!AG326<>\"\",DATOS!AG326,\"\")","v":""},{"$f":"IF(DATOS!AH326<>\"\",DATOS!AH326,\"\")","v":""}]
[{"$f":"DATOS!N327","v":""},{"$f":"IF(DATOS!AG327<>\"\",DATOS!AG327,\"\")","v":""},{"$f":"IF(DATOS!AH327<>\"\",DATOS!AH327,\"\")","v":""}]
[{"$f":"DATOS!N328","v":""},{"$f":"IF(DATOS!AG328<>\"\",DATOS!AG328,\"\")","v":""},{"$f":"IF(DATOS!AH328<>\"\",DATOS!AH328,\"\")","v":""}]
[{"$f":"DATOS!N329","v":""},{"$f":"IF(DATOS!AG329<>\"\",DATOS!AG329,\"\")","v":""},{"$f":"IF(DATOS!AH329<>\"\",DATOS!AH329,\"\")","v":""}]
[{"$f":"DATOS!N330","v":""},{"$f":"IF(DATOS!AG330<>\"\",DATOS!AG330,\"\")","v":""},{"$f":"IF(DATOS!AH330<>\"\",DATOS!AH330,\"\")","v":""}]
[{"$f":"DATOS!N331","v":""},{"$f":"IF(DATOS!AG331<>\"\",DATOS!AG331,\"\")","v":""},{"$f":"IF(DATOS!AH331<>\"\",DATOS!AH331,\"\")","v":""}]
[{"$f":"DATOS!N332","v":""},{"$f":"IF(DATOS!AG332<>\"\",DATOS!AG332,\"\")","v":""},{"$f":"IF(DATOS!AH332<>\"\",DATOS!AH332,\"\")","v":""}]
[{"$f":"DATOS!N333","v":""},{"$f":"IF(DATOS!AG333<>\"\",DATOS!AG333,\"\")","v":""},{"$f":"IF(DATOS!AH333<>\"\",DATOS!AH333,\"\")","v":""}]
[{"$f":"DATOS!N334","v":""},{"$f":"IF(DATOS!AG334<>\"\",DATOS!AG334,\"\")","v":""},{"$f":"IF(DATOS!AH334<>\"\",DATOS!AH334,\"\")","v":""}]
[{"$f":"DATOS!N335","v":""},{"$f":"IF(DATOS!AG335<>\"\",DATOS!AG335,\"\")","v":""},{"$f":"IF(DATOS!AH335<>\"\",DATOS!AH335,\"\")","v":""}]
[{"$f":"DATOS!N336","v":""},{"$f":"IF(DATOS!AG336<>\"\",DATOS!AG336,\"\")","v":""},{"$f":"IF(DATOS!AH336<>\"\",DATOS!AH336,\"\")","v":""}]
[{"$f":"DATOS!N337","v":""},{"$f":"IF(DATOS!AG337<>\"\",DATOS!AG337,\"\")","v":""},{"$f":"IF(DATOS!AH337<>\"\",DATOS!AH337,\"\")","v":""}]
[{"$f":"DATOS!N338","v":""},{"$f":"IF(DATOS!AG338<>\"\",DATOS!AG338,\"\")","v":""},{"$f":"IF(DATOS!AH338<>\"\",DATOS!AH338,\"\")","v":""}]
[{"$f":"DATOS!N339","v":""},{"$f":"IF(DATOS!AG339<>\"\",DATOS!AG339,\"\")","v":""},{"$f":"IF(DATOS!AH339<>\"\",DATOS!AH339,\"\")","v":""}]
[{"$f":"DATOS!N340","v":""},{"$f":"IF(DATOS!AG340<>\"\",DATOS!AG340,\"\")","v":""},{"$f":"IF(DATOS!AH340<>\"\",DATOS!AH340,\"\")","v":""}]
[{"$f":"DATOS!N341","v":""},{"$f":"IF(DATOS!AG341<>\"\",DATOS!AG341,\"\")","v":""},{"$f":"IF(DATOS!AH341<>\"\",DATOS!AH341,\"\")","v":""}]
[{"$f":"DATOS!N342","v":""},{"$f":"IF(DATOS!AG342<>\"\",DATOS!AG342,\"\")","v":""},{"$f":"IF(DATOS!AH342<>\"\",DATOS!AH342,\"\")","v":""}]
[{"$f":"DATOS!N343","v":""},{"$f":"IF(DATOS!AG343<>\"\",DATOS!AG343,\"\")","v":""},{"$f":"IF(DATOS!AH343<>\"\",DATOS!AH343,\"\")","v":""}]
[{"$f":"DATOS!N344","v":""},{"$f":"IF(DATOS!AG344<>\"\",DATOS!AG344,\"\")","v":""},{"$f":"IF(DATOS!AH344<>\"\",DATOS!AH344,\"\")","v":""}]
[{"$f":"DATOS!N345","v":""},{"$f":"IF(DATOS!AG345<>\"\",DATOS!AG345,\"\")","v":""},{"$f":"IF(DATOS!AH345<>\"\",DATOS!AH345,\"\")","v":""}]
[{"$f":"DATOS!N346","v":""},{"$f":"IF(DATOS!AG346<>\"\",DATOS!AG346,\"\")","v":""},{"$f":"IF(DATOS!AH346<>\"\",DATOS!AH346,\"\")","v":""}]
[{"$f":"DATOS!N347","v":""},{"$f":"IF(DATOS!AG347<>\"\",DATOS!AG347,\"\")","v":""},{"$f":"IF(DATOS!AH347<>\"\",DATOS!AH347,\"\")","v":""}]
[{"$f":"DATOS!N348","v":""},{"$f":"IF(DATOS!AG348<>\"\",DATOS!AG348,\"\")","v":""},{"$f":"IF(DATOS!AH348<>\"\",DATOS!AH348,\"\")","v":""}]
[{"$f":"DATOS!N349","v":""},{"$f":"IF(DATOS!AG349<>\"\",DATOS!AG349,\"\")","v":""},{"$f":"IF(DATOS!AH349<>\"\",DATOS!AH349,\"\")","v":""}]
[{"$f":"DATOS!N350","v":""},{"$f":"IF(DATOS!AG350<>\"\",DATOS!AG350,\"\")","v":""},{"$f":"IF(DATOS!AH350<>\"\",DATOS!AH350,\"\")","v":""}]
[{"$f":"DATOS!N351","v":""},{"$f":"IF(DATOS!AG351<>\"\",DATOS!AG351,\"\")","v":""},{"$f":"IF(DATOS!AH351<>\"\",DATOS!AH351,\"\")","v":""}]
[{"$f":"DATOS!N352","v":""},{"$f":"IF(DATOS!AG352<>\"\",DATOS!AG352,\"\")","v":""},{"$f":"IF(DATOS!AH352<>\"\",DATOS!AH352,\"\")","v":""}]
[{"$f":"DATOS!N353","v":""},{"$f":"IF(DATOS!AG353<>\"\",DATOS!AG353,\"\")","v":""},{"$f":"IF(DATOS!AH353<>\"\",DATOS!AH353,\"\")","v":""}]
[{"$f":"DATOS!N354","v":""},{"$f":"IF(DATOS!AG354<>\"\",DATOS!AG354,\"\")","v":""},{"$f":"IF(DATOS!AH354<>\"\",DATOS!AH354,\"\")","v":""}]
[{"$f":"DATOS!N355","v":""},{"$f":"IF(DATOS!AG355<>\"\",DATOS!AG355,\"\")","v":""},{"$f":"IF(DATOS!AH355<>\"\",DATOS!AH355,\"\")","v":""}]
[{"$f":"DATOS!N356","v":""},{"$f":"IF(DATOS!AG356<>\"\",DATOS!AG356,\"\")","v":""},{"$f":"IF(DATOS!AH356<>\"\",DATOS!AH356,\"\")","v":""}]
[{"$f":"DATOS!N357","v":""},{"$f":"IF(DATOS!AG357<>\"\",DATOS!AG357,\"\")","v":""},{"$f":"IF(DATOS!AH357<>\"\",DATOS!AH357,\"\")","v":""}]
[{"$f":"DATOS!N358","v":""},{"$f":"IF(DATOS!AG358<>\"\",DATOS!AG358,\"\")","v":""},{"$f":"IF(DATOS!AH358<>\"\",DATOS!AH358,\"\")","v":""}]
[{"$f":"DATOS!N359","v":""},{"$f":"IF(DATOS!AG359<>\"\",DATOS!AG359,\"\")","v":""},{"$f":"IF(DATOS!AH359<>\"\",DATOS!AH359,\"\")","v":""}]
[{"$f":"DATOS!N360","v":""},{"$f":"IF(DATOS!AG360<>\"\",DATOS!AG360,\"\")","v":""},{"$f":"IF(DATOS!AH360<>\"\",DATOS!AH360,\"\")","v":""}]
[{"$f":"DATOS!N361","v":""},{"$f":"IF(DATOS!AG361<>\"\",DATOS!AG361,\"\")","v":""},{"$f":"IF(DATOS!AH361<>\"\",DATOS!AH361,\"\")","v":""}]
[{"$f":"DATOS!N362","v":""},{"$f":"IF(DATOS!AG362<>\"\",DATOS!AG362,\"\")","v":""},{"$f":"IF(DATOS!AH362<>\"\",DATOS!AH362,\"\")","v":""}]
[{"$f":"DATOS!N363","v":""},{"$f":"IF(DATOS!AG363<>\"\",DATOS!AG363,\"\")","v":""},{"$f":"IF(DATOS!AH363<>\"\",DATOS!AH363,\"\")","v":""}]
[{"$f":"DATOS!N364","v":""},{"$f":"IF(DATOS!AG364<>\"\",DATOS!AG364,\"\")","v":""},{"$f":"IF(DATOS!AH364<>\"\",DATOS!AH364,\"\")","v":""}]
[{"$f":"DATOS!N365","v":""},{"$f":"IF(DATOS!AG365<>\"\",DATOS!AG365,\"\")","v":""},{"$f":"IF(DATOS!AH365<>\"\",DATOS!AH365,\"\")","v":""}]
[{"$f":"DATOS!N366","v":""},{"$f":"IF(DATOS!AG366<>\"\",DATOS!AG366,\"\")","v":""},{"$f":"IF(DATOS!AH366<>\"\",DATOS!AH366,\"\")","v":""}]
[{"$f":"DATOS!N367","v":""},{"$f":"IF(DATOS!AG367<>\"\",DATOS!AG367,\"\")","v":""},{"$f":"IF(DATOS!AH367<>\"\",DATOS!AH367,\"\")","v":""}]
[{"$f":"DATOS!N368","v":""},{"$f":"IF(DATOS!AG368<>\"\",DATOS!AG368,\"\")","v":""},{"$f":"IF(DATOS!AH368<>\"\",DATOS!AH368,\"\")","v":""}]
[{"$f":"DATOS!N369","v":""},{"$f":"IF(DATOS!AG369<>\"\",DATOS!AG369,\"\")","v":""},{"$f":"IF(DATOS!AH369<>\"\",DATOS!AH369,\"\")","v":""}]
[{"$f":"DATOS!N370","v":""},{"$f":"IF(DATOS!AG370<>\"\",DATOS!AG370,\"\")","v":""},{"$f":"IF(DATOS!AH370<>\"\",DATOS!AH370,\"\")","v":""}]
[{"$f":"DATOS!N371","v":""},{"$f":"IF(DATOS!AG371<>\"\",DATOS!AG371,\"\")","v":""},{"$f":"IF(DATOS!AH371<>\"\",DATOS!AH371,\"\")","v":""}]
[{"$f":"DATOS!N372","v":""},{"$f":"IF(DATOS!AG372<>\"\",DATOS!AG372,\"\")","v":""},{"$f":"IF(DATOS!AH372<>\"\",DATOS!AH372,\"\")","v":""}]
[{"$f":"DATOS!N373","v":""},{"$f":"IF(DATOS!AG373<>\"\",DATOS!AG373,\"\")","v":""},{"$f":"IF(DATOS!AH373<>\"\",DATOS!AH373,\"\")","v":""}]
[{"$f":"DATOS!N374","v":""},{"$f":"IF(DATOS!AG374<>\"\",DATOS!AG374,\"\")","v":""},{"$f":"IF(DATOS!AH374<>\"\",DATOS!AH374,\"\")","v":""}]
[{"$f":"DATOS!N375","v":""},{"$f":"IF(DATOS!AG375<>\"\",DATOS!AG375,\"\")","v":""},{"$f":"IF(DATOS!AH375<>\"\",DATOS!AH375,\"\")","v":""}]
[{"$f":"DATOS!N376","v":""},{"$f":"IF(DATOS!AG376<>\"\",DATOS!AG376,\"\")","v":""},{"$f":"IF(DATOS!AH376<>\"\",DATOS!AH376,\"\")","v":""}]
[{"$f":"DATOS!N377","v":""},{"$f":"IF(DATOS!AG377<>\"\",DATOS!AG377,\"\")","v":""},{"$f":"IF(DATOS!AH377<>\"\",DATOS!AH377,\"\")","v":""}]
[{"$f":"DATOS!N378","v":""},{"$f":"IF(DATOS!AG378<>\"\",DATOS!AG378,\"\")","v":""},{"$f":"IF(DATOS!AH378<>\"\",DATOS!AH378,\"\")","v":""}]
[{"$f":"DATOS!N379","v":""},{"$f":"IF(DATOS!AG379<>\"\",DATOS!AG379,\"\")","v":""},{"$f":"IF(DATOS!AH379<>\"\",DATOS!AH379,\"\")","v":""}]
[{"$f":"DATOS!N380","v":""},{"$f":"IF(DATOS!AG380<>\"\",DATOS!AG380,\"\")","v":""},{"$f":"IF(DATOS!AH380<>\"\",DATOS!AH380,\"\")","v":""}]
[{"$f":"DATOS!N381","v":""},{"$f":"IF(DATOS!AG381<>\"\",DATOS!AG381,\"\")","v":""},{"$f":"IF(DATOS!AH381<>\"\",DATOS!AH381,\"\")","v":""}]
[{"$f":"DATOS!N382","v":""},{"$f":"IF(DATOS!AG382<>\"\",DATOS!AG382,\"\")","v":""},{"$f":"IF(DATOS!AH382<>\"\",DATOS!AH382,\"\")","v":""}]
[{"$f":"DATOS!N383","v":""},{"$f":"IF(DATOS!AG383<>\"\",DATOS!AG383,\"\")","v":""},{"$f":"IF(DATOS!AH383<>\"\",DATOS!AH383,\"\")","v":""}]
[{"$f":"DATOS!N384","v":""},{"$f":"IF(DATOS!AG384<>\"\",DATOS!AG384,\"\")","v":""},{"$f":"IF(DATOS!AH384<>\"\",DATOS!AH384,\"\")","v":""}]
[{"$f":"DATOS!N385","v":""},{"$f":"IF(DATOS!AG385<>\"\",DATOS!AG385,\"\")","v":""},{"$f":"IF(DATOS!AH385<>\"\",DATOS!AH385,\"\")","v":""}]
[{"$f":"DATOS!N386","v":""},{"$f":"IF(DATOS!AG386<>\"\",DATOS!AG386,\"\")","v":""},{"$f":"IF(DATOS!AH386<>\"\",DATOS!AH386,\"\")","v":""}]
[{"$f":"DATOS!N387","v":""},{"$f":"IF(DATOS!AG387<>\"\",DATOS!AG387,\"\")","v":""},{"$f":"IF(DATOS!AH387<>\"\",DATOS!AH387,\"\")","v":""}]
[{"$f":"DATOS!N388","v":""},{"$f":"IF(DATOS!AG388<>\"\",DATOS!AG388,\"\")","v":""},{"$f":"IF(DATOS!AH388<>\"\",DATOS!AH388,\"\")","v":""}]
[{"$f":"DATOS!N389","v":""},{"$f":"IF(DATOS!AG389<>\"\",DATOS!AG389,\"\")","v":""},{"$f":"IF(DATOS!AH389<>\"\",DATOS!AH389,\"\")","v":""}]
[{"$f":"DATOS!N390","v":""},{"$f":"IF(DATOS!AG390<>\"\",DATOS!AG390,\"\")","v":""},{"$f":"IF(DATOS!AH390<>\"\",DATOS!AH390,\"\")","v":""}]
[{"$f":"DATOS!N391","v":""},{"$f":"IF(DATOS!AG391<>\"\",DATOS!AG391,\"\")","v":""},{"$f":"IF(DATOS!AH391<>\"\",DATOS!AH391,\"\")","v":""}]
[{"$f":"DATOS!N392","v":""},{"$f":"IF(DATOS!AG392<>\"\",DATOS!AG392,\"\")","v":""},{"$f":"IF(DATOS!AH392<>\"\",DATOS!AH392,\"\")","v":""}]
[{"$f":"DATOS!N393","v":""},{"$f":"IF(DATOS!AG393<>\"\",DATOS!AG393,\"\")","v":""},{"$f":"IF(DATOS!AH393<>\"\",DATOS!AH393,\"\")","v":""}]
[{"$f":"DATOS!N394","v":""},{"$f":"IF(DATOS!AG394<>\"\",DATOS!AG394,\"\")","v":""},{"$f":"IF(DATOS!AH394<>\"\",DATOS!AH394,\"\")","v":""}]
[{"$f":"DATOS!N395","v":""},{"$f":"IF(DATOS!AG395<>\"\",DATOS!AG395,\"\")","v":""},{"$f":"IF(DATOS!AH395<>\"\",DATOS!AH395,\"\")","v":""}]
[{"$f":"DATOS!N396","v":""},{"$f":"IF(DATOS!AG396<>\"\",DATOS!AG396,\"\")","v":""},{"$f":"IF(DATOS!AH396<>\"\",DATOS!AH396,\"\")","v":""}]
[{"$f":"DATOS!N397","v":""},{"$f":"IF(DATOS!AG397<>\"\",DATOS!AG397,\"\")","v":""},{"$f":"IF(DATOS!AH397<>\"\",DATOS!AH397,\"\")","v":""}]
[{"$f":"DATOS!N398","v":""},{"$f":"IF(DATOS!AG398<>\"\",DATOS!AG398,\"\")","v":""},{"$f":"IF(DATOS!AH398<>\"\",DATOS!AH398,\"\")","v":""}]
[{"$f":"DATOS!N399","v":""},{"$f":"IF(DATOS!AG399<>\"\",DATOS!AG399,\"\")","v":""},{"$f":"IF(DATOS!AH399<>\"\",DATOS!AH399,\"\")","v":""}]
[{"$f":"DATOS!N400","v":""},{"$f":"IF(DATOS!AG400<>\"\",DATOS!AG400,\"\")","v":""},{"$f":"IF(DATOS!AH400<>\"\",DATOS!AH400,\"\")","v":""}]
[{"$f":"DATOS!N401","v":""},{"$f":"IF(DATOS!AG401<>\"\",DATOS!AG401,\"\")","v":""},{"$f":"IF(DATOS!AH401<>\"\",DATOS!AH401,\"\")","v":""}]
[{"$f":"DATOS!N402","v":""},{"$f":"IF(DATOS!AG402<>\"\",DATOS!AG402,\"\")","v":""},{"$f":"IF(DATOS!AH402<>\"\",DATOS!AH402,\"\")","v":""}]
[{"$f":"DATOS!N403","v":""},{"$f":"IF(DATOS!AG403<>\"\",DATOS!AG403,\"\")","v":""},{"$f":"IF(DATOS!AH403<>\"\",DATOS!AH403,\"\")","v":""}]
[{"$f":"DATOS!N404","v":""},{"$f":"IF(DATOS!AG404<>\"\",DATOS!AG404,\"\")","v":""},{"$f":"IF(DATOS!AH404<>\"\",DATOS!AH404,\"\")","v":""}]
[{"$f":"DATOS!N405","v":""},{"$f":"IF(DATOS!AG405<>\"\",DATOS!AG405,\"\")","v":""},{"$f":"IF(DATOS!AH405<>\"\",DATOS!AH405,\"\")","v":""}]
[{"$f":"DATOS!N406","v":""},{"$f":"IF(DATOS!AG406<>\"\",DATOS!AG406,\"\")","v":""},{"$f":"IF(DATOS!AH406<>\"\",DATOS!AH406,\"\")","v":""}]
[{"$f":"DATOS!N407","v":""},{"$f":"IF(DATOS!AG407<>\"\",DATOS!AG407,\"\")","v":""},{"$f":"IF(DATOS!AH407<>\"\",DATOS!AH407,\"\")","v":""}]
[{"$f":"DATOS!N408","v":""},{"$f":"IF(DATOS!AG408<>\"\",DATOS!AG408,\"\")","v":""},{"$f":"IF(DATOS!AH408<>\"\",DATOS!AH408,\"\")","v":""}]
[{"$f":"DATOS!N409","v":""},{"$f":"IF(DATOS!AG409<>\"\",DATOS!AG409,\"\")","v":""},{"$f":"IF(DATOS!AH409<>\"\",DATOS!AH409,\"\")","v":""}]
[{"$f":"DATOS!N410","v":""},{"$f":"IF(DATOS!AG410<>\"\",DATOS!AG410,\"\")","v":""},{"$f":"IF(DATOS!AH410<>\"\",DATOS!AH410,\"\")","v":""}]
[{"$f":"DATOS!N411","v":""},{"$f":"IF(DATOS!AG411<>\"\",DATOS!AG411,\"\")","v":""},{"$f":"IF(DATOS!AH411<>\"\",DATOS!AH411,\"\")","v":""}]
[{"$f":"DATOS!N412","v":""},{"$f":"IF(DATOS!AG412<>\"\",DATOS!AG412,\"\")","v":""},{"$f":"IF(DATOS!AH412<>\"\",DATOS!AH412,\"\")","v":""}]
[{"$f":"DATOS!N413","v":""},{"$f":"IF(DATOS!AG413<>\"\",DATOS!AG413,\"\")","v":""},{"$f":"IF(DATOS!AH413<>\"\",DATOS!AH413,\"\")","v":""}]
[{"$f":"DATOS!N414","v":""},{"$f":"IF(DATOS!AG414<>\"\",DATOS!AG414,\"\")","v":""},{"$f":"IF(DATOS!AH414<>\"\",DATOS!AH414,\"\")","v":""}]
[{"$f":"DATOS!N415","v":""},{"$f":"IF(DATOS!AG415<>\"\",DATOS!AG415,\"\")","v":""},{"$f":"IF(DATOS!AH415<>\"\",DATOS!AH415,\"\")","v":""}]
[{"$f":"DATOS!N416","v":""},{"$f":"IF(DATOS!AG416<>\"\",DATOS!AG416,\"\")","v":""},{"$f":"IF(DATOS!AH416<>\"\",DATOS!AH416,\"\")","v":""}]
[{"$f":"DATOS!N417","v":""},{"$f":"IF(DATOS!AG417<>\"\",DATOS!AG417,\"\")","v":""},{"$f":"IF(DATOS!AH417<>\"\",DATOS!AH417,\"\")","v":""}]
[{"$f":"DATOS!N418","v":""},{"$f":"IF(DATOS!AG418<>\"\",DATOS!AG418,\"\")","v":""},{"$f":"IF(DATOS!AH418<>\"\",DATOS!AH418,\"\")","v":""}]
[{"$f":"DATOS!N419","v":""},{"$f":"IF(DATOS!AG419<>\"\",DATOS!AG419,\"\")","v":""},{"$f":"IF(DATOS!AH419<>\"\",DATOS!AH419,\"\")","v":""}]
[{"$f":"DATOS!N420","v":""},{"$f":"IF(DATOS!AG420<>\"\",DATOS!AG420,\"\")","v":""},{"$f":"IF(DATOS!AH420<>\"\",DATOS!AH420,\"\")","v":""}]
[{"$f":"DATOS!N421","v":""},{"$f":"IF(DATOS!AG421<>\"\",DATOS!AG421,\"\")","v":""},{"$f":"IF(DATOS!AH421<>\"\",DATOS!AH421,\"\")","v":""}]
[{"$f":"DATOS!N422","v":""},{"$f":"IF(DATOS!AG422<>\"\",DATOS!AG422,\"\")","v":""},{"$f":"IF(DATOS!AH422<>\"\",DATOS!AH422,\"\")","v":""}]
[{"$f":"DATOS!N423","v":""},{"$f":"IF(DATOS!AG423<>\"\",DATOS!AG423,\"\")","v":""},{"$f":"IF(DATOS!AH423<>\"\",DATOS!AH423,\"\")","v":""}]
[{"$f":"DATOS!N424","v":""},{"$f":"IF(DATOS!AG424<>\"\",DATOS!AG424,\"\")","v":""},{"$f":"IF(DATOS!AH424<>\"\",DATOS!AH424,\"\")","v":""}]
[{"$f":"DATOS!N425","v":""},{"$f":"IF(DATOS!AG425<>\"\",DATOS!AG425,\"\")","v":""},{"$f":"IF(DATOS!AH425<>\"\",DATOS!AH425,\"\")","v":""}]
[{"$f":"DATOS!N426","v":""},{"$f":"IF(DATOS!AG426<>\"\",DATOS!AG426,\"\")","v":""},{"$f":"IF(DATOS!AH426<>\"\",DATOS!AH426,\"\")","v":""}]
[{"$f":"DATOS!N427","v":""},{"$f":"IF(DATOS!AG427<>\"\",DATOS!AG427,\"\")","v":""},{"$f":"IF(DATOS!AH427<>\"\",DATOS!AH427,\"\")","v":""}]
[{"$f":"DATOS!N428","v":""},{"$f":"IF(DATOS!AG428<>\"\",DATOS!AG428,\"\")","v":""},{"$f":"IF(DATOS!AH428<>\"\",DATOS!AH428,\"\")","v":""}]
[{"$f":"DATOS!N429","v":""},{"$f":"IF(DATOS!AG429<>\"\",DATOS!AG429,\"\")","v":""},{"$f":"IF(DATOS!AH429<>\"\",DATOS!AH429,\"\")","v":""}]
[{"$f":"DATOS!N430","v":""},{"$f":"IF(DATOS!AG430<>\"\",DATOS!AG430,\"\")","v":""},{"$f":"IF(DATOS!AH430<>\"\",DATOS!AH430,\"\")","v":""}]
[{"$f":"DATOS!N431","v":""},{"$f":"IF(DATOS!AG431<>\"\",DATOS!AG431,\"\")","v":""},{"$f":"IF(DATOS!AH431<>\"\",DATOS!AH431,\"\")","v":""}]
[{"$f":"DATOS!N432","v":""},{"$f":"IF(DATOS!AG432<>\"\",DATOS!AG432,\"\")","v":""},{"$f":"IF(DATOS!AH432<>\"\",DATOS!AH432,\"\")","v":""}]
[{"$f":"DATOS!N433","v":""},{"$f":"IF(DATOS!AG433<>\"\",DATOS!AG433,\"\")","v":""},{"$f":"IF(DATOS!AH433<>\"\",DATOS!AH433,\"\")","v":""}]
[{"$f":"DATOS!N434","v":""},{"$f":"IF(DATOS!AG434<>\"\",DATOS!AG434,\"\")","v":""},{"$f":"IF(DATOS!AH434<>\"\",DATOS!AH434,\"\")","v":""}]
[{"$f":"DATOS!N435","v":""},{"$f":"IF(DATOS!AG435<>\"\",DATOS!AG435,\"\")","v":""},{"$f":"IF(DATOS!AH435<>\"\",DATOS!AH435,\"\")","v":""}]
[{"$f":"DATOS!N436","v":""},{"$f":"IF(DATOS!AG436<>\"\",DATOS!AG436,\"\")","v":""},{"$f":"IF(DATOS!AH436<>\"\",DATOS!AH436,\"\")","v":""}]
[{"$f":"DATOS!N437","v":""},{"$f":"IF(DATOS!AG437<>\"\",DATOS!AG437,\"\")","v":""},{"$f":"IF(DATOS!AH437<>\"\",DATOS!AH437,\"\")","v":""}]
[{"$f":"DATOS!N438","v":""},{"$f":"IF(DATOS!AG438<>\"\",DATOS!AG438,\"\")","v":""},{"$f":"IF(DATOS!AH438<>\"\",DATOS!AH438,\"\")","v":""}]
[{"$f":"DATOS!N439","v":""},{"$f":"IF(DATOS!AG439<>\"\",DATOS!AG439,\"\")","v":""},{"$f":"IF(DATOS!AH439<>\"\",DATOS!AH439,\"\")","v":""}]
[{"$f":"DATOS!N440","v":""},{"$f":"IF(DATOS!AG440<>\"\",DATOS!AG440,\"\")","v":""},{"$f":"IF(DATOS!AH440<>\"\",DATOS!AH440,\"\")","v":""}]
[{"$f":"DATOS!N441","v":""},{"$f":"IF(DATOS!AG441<>\"\",DATOS!AG441,\"\")","v":""},{"$f":"IF(DATOS!AH441<>\"\",DATOS!AH441,\"\")","v":""}]
[{"$f":"DATOS!N442","v":""},{"$f":"IF(DATOS!AG442<>\"\",DATOS!AG442,\"\")","v":""},{"$f":"IF(DATOS!AH442<>\"\",DATOS!AH442,\"\")","v":""}]
[{"$f":"DATOS!N443","v":""},{"$f":"IF(DATOS!AG443<>\"\",DATOS!AG443,\"\")","v":""},{"$f":"IF(DATOS!AH443<>\"\",DATOS!AH443,\"\")","v":""}]
[{"$f":"DATOS!N444","v":""},{"$f":"IF(DATOS!AG444<>\"\",DATOS!AG444,\"\")","v":""},{"$f":"IF(DATOS!AH444<>\"\",DATOS!AH444,\"\")","v":""}]
[{"$f":"DATOS!N445","v":""},{"$f":"IF(DATOS!AG445<>\"\",DATOS!AG445,\"\")","v":""},{"$f":"IF(DATOS!AH445<>\"\",DATOS!AH445,\"\")","v":""}]
[{"$f":"DATOS!N446","v":""},{"$f":"IF(DATOS!AG446<>\"\",DATOS!AG446,\"\")","v":""},{"$f":"IF(DATOS!AH446<>\"\",DATOS!AH446,\"\")","v":""}]
[{"$f":"DATOS!N447","v":""},{"$f":"IF(DATOS!AG447<>\"\",DATOS!AG447,\"\")","v":""},{"$f":"IF(DATOS!AH447<>\"\",DATOS!AH447,\"\")","v":""}]
[{"$f":"DATOS!N448","v":""},{"$f":"IF(DATOS!AG448<>\"\",DATOS!AG448,\"\")","v":""},{"$f":"IF(DATOS!AH448<>\"\",DATOS!AH448,\"\")","v":""}]
[{"$f":"DATOS!N449","v":""},{"$f":"IF(DATOS!AG449<>\"\",DATOS!AG449,\"\")","v":""},{"$f":"IF(DATOS!AH449<>\"\",DATOS!AH449,\"\")","v":""}]
[{"$f":"DATOS!N450","v":""},{"$f":"IF(DATOS!AG450<>\"\",DATOS!AG450,\"\")","v":""},{"$f":"IF(DATOS!AH450<>\"\",DATOS!AH450,\"\")","v":""}]
[{"$f":"DATOS!N451","v":""},{"$f":"IF(DATOS!AG451<>\"\",DATOS!AG451,\"\")","v":""},{"$f":"IF(DATOS!AH451<>\"\",DATOS!AH451,\"\")","v":""}]
[{"$f":"DATOS!N452","v":""},{"$f":"IF(DATOS!AG452<>\"\",DATOS!AG452,\"\")","v":""},{"$f":"IF(DATOS!AH452<>\"\",DATOS!AH452,\"\")","v":""}]
[{"$f":"DATOS!N453","v":""},{"$f":"IF(DATOS!AG453<>\"\",DATOS!AG453,\"\")","v":""},{"$f":"IF(DATOS!AH453<>\"\",DATOS!AH453,\"\")","v":""}]
[{"$f":"DATOS!N454","v":""},{"$f":"IF(DATOS!AG454<>\"\",DATOS!AG454,\"\")","v":""},{"$f":"IF(DATOS!AH454<>\"\",DATOS!AH454,\"\")","v":""}]
[{"$f":"DATOS!N455","v":""},{"$f":"IF(DATOS!AG455<>\"\",DATOS!AG455,\"\")","v":""},{"$f":"IF(DATOS!AH455<>\"\",DATOS!AH455,\"\")","v":""}]
[{"$f":"DATOS!N456","v":""},{"$f":"IF(DATOS!AG456<>\"\",DATOS!AG456,\"\")","v":""},{"$f":"IF(DATOS!AH456<>\"\",DATOS!AH456,\"\")","v":""}]
[{"$f":"DATOS!N457","v":""},{"$f":"IF(DATOS!AG457<>\"\",DATOS!AG457,\"\")","v":""},{"$f":"IF(DATOS!AH457<>\"\",DATOS!AH457,\"\")","v":""}]
[{"$f":"DATOS!N458","v":""},{"$f":"IF(DATOS!AG458<>\"\",DATOS!AG458,\"\")","v":""},{"$f":"IF(DATOS!AH458<>\"\",DATOS!AH458,\"\")","v":""}]
[{"$f":"DATOS!N459","v":""},{"$f":"IF(DATOS!AG459<>\"\",DATOS!AG459,\"\")","v":""},{"$f":"IF(DATOS!AH459<>\"\",DATOS!AH459,\"\")","v":""}]
[{"$f":"DATOS!N460","v":""},{"$f":"IF(DATOS!AG460<>\"\",DATOS!AG460,\"\")","v":""},{"$f":"IF(DATOS!AH460<>\"\",DATOS!AH460,\"\")","v":""}]
[{"$f":"DATOS!N461","v":""},{"$f":"IF(DATOS!AG461<>\"\",DATOS!AG461,\"\")","v":""},{"$f":"IF(DATOS!AH461<>\"\",DATOS!AH461,\"\")","v":""}]
[{"$f":"DATOS!N462","v":""},{"$f":"IF(DATOS!AG462<>\"\",DATOS!AG462,\"\")","v":""},{"$f":"IF(DATOS!AH462<>\"\",DATOS!AH462,\"\")","v":""}]
[{"$f":"DATOS!N463","v":""},{"$f":"IF(DATOS!AG463<>\"\",DATOS!AG463,\"\")","v":""},{"$f":"IF(DATOS!AH463<>\"\",DATOS!AH463,\"\")","v":""}]
[{"$f":"DATOS!N464","v":""},{"$f":"IF(DATOS!AG464<>\"\",DATOS!AG464,\"\")","v":""},{"$f":"IF(DATOS!AH464<>\"\",DATOS!AH464,\"\")","v":""}]
[{"$f":"DATOS!N465","v":""},{"$f":"IF(DATOS!AG465<>\"\",DATOS!AG465,\"\")","v":""},{"$f":"IF(DATOS!AH465<>\"\",DATOS!AH465,\"\")","v":""}]
[{"$f":"DATOS!N466","v":""},{"$f":"IF(DATOS!AG466<>\"\",DATOS!AG466,\"\")","v":""},{"$f":"IF(DATOS!AH466<>\"\",DATOS!AH466,\"\")","v":""}]
[{"$f":"DATOS!N467","v":""},{"$f":"IF(DATOS!AG467<>\"\",DATOS!AG467,\"\")","v":""},{"$f":"IF(DATOS!AH467<>\"\",DATOS!AH467,\"\")","v":""}]
[{"$f":"DATOS!N468","v":""},{"$f":"IF(DATOS!AG468<>\"\",DATOS!AG468,\"\")","v":""},{"$f":"IF(DATOS!AH468<>\"\",DATOS!AH468,\"\")","v":""}]
[{"$f":"DATOS!N469","v":""},{"$f":"IF(DATOS!AG469<>\"\",DATOS!AG469,\"\")","v":""},{"$f":"IF(DATOS!AH469<>\"\",DATOS!AH469,\"\")","v":""}]
[{"$f":"DATOS!N470","v":""},{"$f":"IF(DATOS!AG470<>\"\",DATOS!AG470,\"\")","v":""},{"$f":"IF(DATOS!AH470<>\"\",DATOS!AH470,\"\")","v":""}]
[{"$f":"DATOS!N471","v":""},{"$f":"IF(DATOS!AG471<>\"\",DATOS!AG471,\"\")","v":""},{"$f":"IF(DATOS!AH471<>\"\",DATOS!AH471,\"\")","v":""}]
[{"$f":"DATOS!N472","v":""},{"$f":"IF(DATOS!AG472<>\"\",DATOS!AG472,\"\")","v":""},{"$f":"IF(DATOS!AH472<>\"\",DATOS!AH472,\"\")","v":""}]
[{"$f":"DATOS!N473","v":""},{"$f":"IF(DATOS!AG473<>\"\",DATOS!AG473,\"\")","v":""},{"$f":"IF(DATOS!AH473<>\"\",DATOS!AH473,\"\")","v":""}]
[{"$f":"DATOS!N474","v":""},{"$f":"IF(DATOS!AG474<>\"\",DATOS!AG474,\"\")","v":""},{"$f":"IF(DATOS!AH474<>\"\",DATOS!AH474,\"\")","v":""}]
[{"$f":"DATOS!N475","v":""},{"$f":"IF(DATOS!AG475<>\"\",DATOS!AG475,\"\")","v":""},{"$f":"IF(DATOS!AH475<>\"\",DATOS!AH475,\"\")","v":""}]
[{"$f":"DATOS!N476","v":""},{"$f":"IF(DATOS!AG476<>\"\",DATOS!AG476,\"\")","v":""},{"$f":"IF(DATOS!AH476<>\"\",DATOS!AH476,\"\")","v":""}]
[{"$f":"DATOS!N477","v":""},{"$f":"IF(DATOS!AG477<>\"\",DATOS!AG477,\"\")","v":""},{"$f":"IF(DATOS!AH477<>\"\",DATOS!AH477,\"\")","v":""}]
[{"$f":"DATOS!N478","v":""},{"$f":"IF(DATOS!AG478<>\"\",DATOS!AG478,\"\")","v":""},{"$f":"IF(DATOS!AH478<>\"\",DATOS!AH478,\"\")","v":""}]
[{"$f":"DATOS!N479","v":""},{"$f":"IF(DATOS!AG479<>\"\",DATOS!AG479,\"\")","v":""},{"$f":"IF(DATOS!AH479<>\"\",DATOS!AH479,\"\")","v":""}]
[{"$f":"DATOS!N480","v":""},{"$f":"IF(DATOS!AG480<>\"\",DATOS!AG480,\"\")","v":""},{"$f":"IF(DATOS!AH480<>\"\",DATOS!AH480,\"\")","v":""}]
[{"$f":"DATOS!N481","v":""},{"$f":"IF(DATOS!AG481<>\"\",DATOS!AG481,\"\")","v":""},{"$f":"IF(DATOS!AH481<>\"\",DATOS!AH481,\"\")","v":""}]
[{"$f":"DATOS!N482","v":""},{"$f":"IF(DATOS!AG482<>\"\",DATOS!AG482,\"\")","v":""},{"$f":"IF(DATOS!AH482<>\"\",DATOS!AH482,\"\")","v":""}]
[{"$f":"DATOS!N483","v":""},{"$f":"IF(DATOS!AG483<>\"\",DATOS!AG483,\"\")","v":""},{"$f":"IF(DATOS!AH483<>\"\",DATOS!AH483,\"\")","v":""}]
[{"$f":"DATOS!N484","v":""},{"$f":"IF(DATOS!AG484<>\"\",DATOS!AG484,\"\")","v":""},{"$f":"IF(DATOS!AH484<>\"\",DATOS!AH484,\"\")","v":""}]
[{"$f":"DATOS!N485","v":""},{"$f":"IF(DATOS!AG485<>\"\",DATOS!AG485,\"\")","v":""},{"$f":"IF(DATOS!AH485<>\"\",DATOS!AH485,\"\")","v":""}]
[{"$f":"DATOS!N486","v":""},{"$f":"IF(DATOS!AG486<>\"\",DATOS!AG486,\"\")","v":""},{"$f":"IF(DATOS!AH486<>\"\",DATOS!AH486,\"\")","v":""}]
[{"$f":"DATOS!N487","v":""},{"$f":"IF(DATOS!AG487<>\"\",DATOS!AG487,\"\")","v":""},{"$f":"IF(DATOS!AH487<>\"\",DATOS!AH487,\"\")","v":""}]
[{"$f":"DATOS!N488","v":""},{"$f":"IF(DATOS!AG488<>\"\",DATOS!AG488,\"\")","v":""},{"$f":"IF(DATOS!AH488<>\"\",DATOS!AH488,\"\")","v":""}]
[{"$f":"DATOS!N489","v":""},{"$f":"IF(DATOS!AG489<>\"\",DATOS!AG489,\"\")","v":""},{"$f":"IF(DATOS!AH489<>\"\",DATOS!AH489,\"\")","v":""}]
[{"$f":"DATOS!N490","v":""},{"$f":"IF(DATOS!AG490<>\"\",DATOS!AG490,\"\")","v":""},{"$f":"IF(DATOS!AH490<>\"\",DATOS!AH490,\"\")","v":""}]
[{"$f":"DATOS!N491","v":""},{"$f":"IF(DATOS!AG491<>\"\",DATOS!AG491,\"\")","v":""},{"$f":"IF(DATOS!AH491<>\"\",DATOS!AH491,\"\")","v":""}]
[{"$f":"DATOS!N492","v":""},{"$f":"IF(DATOS!AG492<>\"\",DATOS!AG492,\"\")","v":""},{"$f":"IF(DATOS!AH492<>\"\",DATOS!AH492,\"\")","v":""}]
[{"$f":"DATOS!N493","v":""},{"$f":"IF(DATOS!AG493<>\"\",DATOS!AG493,\"\")","v":""},{"$f":"IF(DATOS!AH493<>\"\",DATOS!AH493,\"\")","v":""}]
[{"$f":"DATOS!N494","v":""},{"$f":"IF(DATOS!AG494<>\"\",DATOS!AG494,\"\")","v":""},{"$f":"IF(DATOS!AH494<>\"\",DATOS!AH494,\"\")","v":""}]
[{"$f":"DATOS!N495","v":""},{"$f":"IF(DATOS!AG495<>\"\",DATOS!AG495,\"\")","v":""},{"$f":"IF(DATOS!AH495<>\"\",DATOS!AH495,\"\")","v":""}]
[{"$f":"DATOS!N496","v":""},{"$f":"IF(DATOS!AG496<>\"\",DATOS!AG496,\"\")","v":""},{"$f":"IF(DATOS!AH496<>\"\",DATOS!AH496,\"\")","v":""}]
[{"$f":"DATOS!N497","v":""},{"$f":"IF(DATOS!AG497<>\"\",DATOS!AG497,\"\")","v":""},{"$f":"IF(DATOS!AH497<>\"\",DATOS!AH497,\"\")","v":""}]
[{"$f":"DATOS!N498","v":""},{"$f":"IF(DATOS!AG498<>\"\",DATOS!AG498,\"\")","v":""},{"$f":"IF(DATOS!AH498<>\"\",DATOS!AH498,\"\")","v":""}]
[{"$f":"DATOS!N499","v":""},{"$f":"IF(DATOS!AG499<>\"\",DATOS!AG499,\"\")","v":""},{"$f":"IF(DATOS!AH499<>\"\",DATOS!AH499,\"\")","v":""}]
[{"$f":"DATOS!N500","v":""},{"$f":"IF(DATOS!AG500<>\"\",DATOS!AG500,\"\")","v":""},{"$f":"IF(DATOS!AH500<>\"\",DATOS!AH500,\"\")","v":""}]
[{"$f":"DATOS!N501","v":""},{"$f":"IF(DATOS!AG501<>\"\",DATOS!AG501,\"\")","v":""},{"$f":"IF(DATOS!AH501<>\"\",DATOS!AH501,\"\")","v":""}]
[{"$f":"DATOS!N502","v":""},{"$f":"IF(DATOS!AG502<>\"\",DATOS!AG502,\"\")","v":""},{"$f":"IF(DATOS!AH502<>\"\",DATOS!AH502,\"\")","v":""}]
[{"$f":"DATOS!N503","v":""},{"$f":"IF(DATOS!AG503<>\"\",DATOS!AG503,\"\")","v":""},{"$f":"IF(DATOS!AH503<>\"\",DATOS!AH503,\"\")","v":""}]
[{"$f":"DATOS!N504","v":""},{"$f":"IF(DATOS!AG504<>\"\",DATOS!AG504,\"\")","v":""},{"$f":"IF(DATOS!AH504<>\"\",DATOS!AH504,\"\")","v":""}]
[null,null,{"$f":"IF(DATOS!AH505<>\"\",DATOS!AH505,\"\")","v":""}]

{"sheet":"AGD_MUESTREOS","index":7,"n_rows":0,"n_cols":0,"rows_kept":0,"cut":false,"hidden":true,"merged":[]}

{"sheet":"AGD_PARAMETRO","index":8,"n_rows":0,"n_cols":0,"rows_kept":0,"cut":false,"hidden":true,"merged":[]}

{"sheet":"AGD_MUESTRAS","index":9,"n_rows":0,"n_cols":0,"rows_kept":0,"cut":false,"hidden":true,"merged":[]}

{"sheet":"AGD_MUESTRAS_VARIABLES","index":10,"n_rows":0,"n_cols":0,"rows_kept":0,"cut":false,"hidden":true,"merged":[]}

{"sheet":"AGD_AUTORIAS","index":11,"n_rows":0,"n_cols":0,"rows_kept":0,"cut":false,"hidden":true,"merged":[]}