{"text_format":"1","workbook":"xlsx","n_sheets":12,"sheets":["Registro de cambios","configuracion","DIGITADOR","DATOS","referentes","OTRAS REFERENTES","Resumen","AGD_MUESTREOS","AGD_PARAMETRO","AGD_MUESTRAS","AGD_MUESTRAS_VARIABLES","AGD_AUTORIAS"],"not_rendered":{"charts":0,"images":0,"macros":1,"external_links":1,"defined_names":31,"comments":1,"pivot_tables":1},"unopened":[],"bounds":{"document_bytes":16777216,"sheet_cells":100000,"rows_first":2000,"rows_last":500,"rows_between":2000,"halvings":0,"cell_chars":16384,"cell_head_chars":4096},"cells_cut":0,"cells_raw":0,"read":"whole","date_system":"1900"}

{"sheet":"Registro de cambios","index":0,"n_rows":18,"n_cols":7,"rows_kept":18,"cut":false,"hidden":true,"merged":[[2,0,2,2],[1,3,1,6],[2,3,3,3],[2,4,3,4],[2,5,3,5],[2,6,3,6]]}
[]
[null,null,null,"REGISTRO DE CAMBIOS"]
["INSERTE en LA FILA 5 copie contenidos",null,null,"VERSIÓN No.","CAMBIO REALIZADO","VIGENTE DESDE\n(DD/MM/AAAA)","AUTOR"]
[]
[null,null,null,"20250527m","Actualización de las fórmulas de cálculo.","2025-05-27","Kevin Moreno"]
[null,null,null,"20250319m","Actualización del código de la macro para la automatización del copiado de filas por registro insertado en la hoja DATOS.","2025-03-19","Kevin Moreno"]
[null,null,null,"20241219m","Se actualizaron las funciones de los muestreos.","19/12/2024","Robert Montero"]
[null,null,null,"20241028m","Ajutes a la hoja configuracion, se reemplazó el mapeo del código de la especie para tomar los valores ingresados en mayúsculas.","28/10/2024","Kevin Moreno"]
[null,null,null,"20240522i","Actualización del código de la macro.\n\nSe eliminó la URL de la antigua API de portete:\n       http://portete.invemar.org.co:7003/ArgosWebServices-RESTWebService-context-root/rest/1.0\n\nFue reemplazada por la URL de la API de ARGOS:\n       https://argos.invemar.org.co/api/\n\nLa API contiene End Points que permiten tener mayor control, facilitan la descarga de referentes (listas de usuarios, estaciones, especies, etc.) que corresponden a criterios específicos como el proyecto usado en la plantilla para evitar descargar data innecesaria.\n\nDel mismo modo, también permite la carga de información a la BDD del INVEMAR.\n\nLa macro toma los Endpoints desde la hoja configuracion de una tabla llamada \"Configuración referentes\", a la que se le puede modificar las rutas de la API o agregar nuevas. cabe resaltar que se puede \"quemar\" directamente en la macro los Endpoints que lo requieran.","22/05/2024","Kevin Moreno"]
[null,null,null,"20211206m","Estaciones referentes y selección de las estaciones","2021-06-23","Julio Bohorquez /\nSantiago Dangond"]
[null,null,null,"20210623m","Se cambia el origen de la celda C15 de la hoja configuracion que corresponde a la fecha del monitoreo, estaba \"DIGITADOR,B,7\" se cambia a \"DATOS,G\"","2021-06-23","Jeison Diaz"]
[null,null,null,"20210525m","1. Error en la consulta de referente se cambio en la macro la forma en que concatena la variable consulta = cons1 + cons2 + cons3 + cons4 + cons5 + cons6\nModifica A1 para que la fecha+hora se la de toma en datos de campo\nSe elimina la recopilacion de sustrato y de mar (C o P) por no aplicar\n2. Se cambio en la hoja de configuracion DATOS,L por DATOS,D donde toma el muestreo.\n3. En la hoja DATOS columna D se agrego a la muestra el codigo de la estacion \nSe elimina Concatenacion columna Z; id muestreo columna R","2021-05-25","Jeison Diaz"]
[null,null,null,"20201022m","Modificadas notas para el transecto y titulo columna censo/banda. \nEl evento en datos para duplicar fila se restringe a las filas 5/499","2020-01-30"]
[null,null,null,"20200130i","Para trazabilididad la hoja se incluye el nombre del archivo fuente y la posibilidad de anotar el DOI principal del metadato Por usabilidad las pestañas que son de interes para el usuario son las verdes\nSi se define mas de un proyecto los referentes de estaciones e investigadores se descargan consecutivo en las mismas columnas\nSe controla la versión para la plantilla mediante comparación dato en AGLOV de la BD.","2020-01-30"]
[null,null,null,"20180418m","Se modifica la generación de los ID de muestreo y se agrega macro que genera número aleatorio en la hoja DIGITADOR.","2018-04-13"]
[null,null,null,"20180523m","Se modifica en la hoja de configuración el campo de donde se toma la especie.","2018-05-23"]
[null,null,null,"20180829m","Se elimina la columna \"MUESTREO\" de la hoja de datos","2018-08-29"]
[null,null,null,"20181219i","Se agrega el muestreo en la hoja de configuracion.","2018-12-19"]

{"sheet":"configuracion","index":1,"n_rows":71,"n_cols":9,"rows_kept":71,"cut":false,"hidden":true,"merged":[[61,0,61,2],[28,0,35,0],[37,0,42,0],[45,0,45,1],[0,0,2,0],[3,0,5,0],[7,0,8,0],[9,0,15,0],[17,0,21,0],[23,0,26,0]]}
["general","urlServicio","https://argos.invemar.org.co/api/"]
[null,"fila de inicio",5]
[null,"fila de fin",510]
["metodologias","Metodologias",89]
[null,"Referentes",1000]
[null,"Cantidad maxima de referentes ",1000]
["estaciones/investigadores","proyectos",{"$f":"DIGITADOR!B9","v":1480}]
["Lista especies","metodologias",89]
[null,"proyectos",{"$f":"DIGITADOR!B9","v":1480}]
["MUESTREOS","ID_MUESTREO","DATOS,D"]
[null,"ID_ESTACION","DATOS,O"]
[null,"ID_PROYECTO","DIGITADOR,B,9"]
[null,"ID_METODOLOGIA",89]
[null,"ID_TEMATICAS",210]
[null,"FECHA","DATOS,G"]
[null,"NOTAS","DIGITADOR,B,16"]
[null,"cantidad",1000]
["parametro muestreo (CABECERAS)","ID_MUESTREO","DATOS,D","DATOS,D","DATOS,D","DATOS,D"]
[null,"ID_PARAMETRO",120,1055,1169,1170]
[null,"ID_METODOLOGIA",89,89,89,89]
[null,"ID_UNIDAD_MEDIDA",100,100,100,100]
[null,"VALOR",1,"DIGITADOR,B,5","DIGITADOR,B,12","DIGITADOR,B,11"]
[null,"cantidad",1000,1000,1000,1000]
["muestra","ID_MUESTRA","DATOS,BC"]
[null,"ID_MUESTREO","DATOS,D"]
[null,"NOTAS","DATOS,AJ"]
[null,"ES_REPLICA",1]
[null,"cantidad",1000]
["muestra variable","ID_PARAMETRO",585,598,732,827,828,829,831]
[null,"ID_METODOLOGIA",89,89,89,89,89,89,89]
[null,"ID_UNIDAD_MEDIDA",100,10,100,100,100,100,19]
[null,"ID_MUESTRA","DATOS,BC","DATOS,BC","DATOS,BC","DATOS,BC","DATOS,BC","DATOS,BC","DATOS,BC"]
[null,"ID_METODO",732,732,90,90,null,null,738]
[null,"VALOR","DATOS,BJ","DATOS,BG","DATOS,AK","DATOS,AI","DATOS,AA","DATOS,Q","DATOS,BF"]
[null,"QUALITY_FLAG",2,2,2,2,2,2,2]
[null,"PRECISION"]
[null,"cantidad",1000,1000,1000,1000,1000,1000,1000]
["autoria","ID_FUNCIONARIO","DIGITADOR,B,2","DATOS,Y"]
[null,"ID_TAREA",5,4]
[null,"ORDEN",1,2]
[null,"FECHA","DIGITADOR,B,7","DATOS,G"]
[null,"ID_MUESTREO","DATOS,D","DATOS,D"]
[null,"ENTIDAD","DIGITADOR,B,4","DIGITADOR,B,4"]
[null,"cantidad",1000,1000]
[]
["REGISTROS GENERADOS",null,"REGISTROS CARGADOS",null," ",120,120,"TEMPORADA"]
["MUESTREOS",null,null,null,null,121,121,"CLASE_SUSTRATO","??"]
["parametro muestreo",null,null,null,null,579,579,"SUTRATO"]
["muestra",null,null,null,null,585,585,"ESPECIE"]
["muestra variable",null,null,null,null,598,598,"LONGITUD RANGO"]
["autoria",null,null,null,null,732,732,"CENSO BANDA"]
["registros correctos",null,null,null,null,827,827,"UBICACION_ESPECIFICA transecto"]
["Fecha de carga",null,null,null,null,828,828,"ENTIDAD"]
["json error",null,null,null,null,829,829,"REGION","???"]
["error",null,null,null,null,831,831,"CANTIDAD"]
[null,null,null,null,null,1055,860,"AREA_P","???"]
[null,null,null,null,null,1169,1055,"VERSION_PLANTILLA"]
["Atributo","Descripción","Código",null,null,1170,1169,"URL_METADATO"]
["Tipo Nodo","Estaciones",{"$f":"VLOOKUP(B59,'OTRAS REFERENTES'!A14:C24,2,FALSE)","v":40},null,null,null,1170,"ARCHIVO_FUENTE"]
[]
[]
["CONFIGURACION REFERENTES"]
["Ruta de la API","Endpoint","Descripción"]
["URL - AGM Campo",{"$f":"CONCATENATE(\"parametros/agmcampo/\",$C$4,\"\")","v":"parametros/agmcampo/89"},"Listado de referentes AGM_CAMPO"]
["URL - Especies",{"$f":"IF($C$8=\"\",\"\",CONCATENATE(\"especies/filt/\",$C$9,\",\",$C$8,\"/\"))","v":"especies/filt/1480,89/"},"Especies por proyecto\n(No todos los proyectos tienen asociados una lista de especies)"]
["URL - Estaciones",{"$f":"CONCATENATE(\"estaciones/\", $C$59, \"/\",$C$9,\"\")","v":"estaciones/40/1480"},"Estaciones/parcelas por proyecto, cambia dependiendo del Tipo de Nodo, cuyo estado sea VIGENTE."]
["URL - Usuarios",{"$f":"CONCATENATE(\"parametros/usersByProject/\",$C$7,\"\")","v":"parametros/usersByProject/1480"},"Usuarios por proyecto."]
["URL - Entidades","estaciones/get-entidades","Listado de entidades."]
["Atributos de la API","codigo_in","nombre_in"]
["Rango de atributos de la API","B70:C71","nombre_in"]
["URL - Plantillas","plantillas/","Endpoint para la carga de datos al sistema."]

{"sheet":"DIGITADOR","index":2,"n_rows":27,"n_cols":4,"rows_kept":27,"cut":false,"hidden":false,"merged":[[14,0,14,1],[11,3,13,9],[5,0,6,0],[0,0,0,1],[0,3,5,9],[6,3,8,9],[9,3,10,9]]}
["Plantilla para la Recolección de Datos Abundancia de Peces- SAMP",null,null,"Recomendaciones generales: \n¡Precaución! No inserte Filas o Columnas.\nEn los casos en que falte un valor a ingresar que provenga de la hoja de referencias, informe para que el administrador del sistema haga las adiciones necesarias.\nEsta es una plantilla programada. Las columnas de color oscuro se llenan automaticamente, principalmente a partir de los contenidos de la hoja de referencias. \nNO UTILICE PUNTO Y COMA (;) en ningun campo, por ser el separador de variables (columnas). Tampoco escriba las unidades de medida, no son necesarias.\nPara el correcto funcionamiento de la hoja debe estar activa la opcion de Excel de ejecutar macros (al abrir la hoja acepte la opcion habilitar macros, mensaje de Excel que aparece en la parte superior de la hoja en un recuadro amarillo). La extensión del archivo debe ser .xlsm\nSe recomienda renombrar el archivo de la siguiente manera: SAMP_Abundancia_NombreEstacion_FechaMonitoreo.xlsm"]
["Código Digitador",{"$f":"IF(B3=\"\",\"\",INDEX(referentes!$Y:$Z,MATCH(DIGITADOR!B3,referentes!$Z:$Z,0),1))","v":""}]
["Nombre Digitador"]
["Entidad","INVEMAR"]
["Versión Plantilla",{"$f":"'Registro de cambios'!$D$5","v":"20250527m"}]
["Fecha en la que ingresa los datos en esta hoja","DD/MM/AAAA"]
[null,"3000-12-12",null,"Previamente a iniciar el llenado de la plantilla, debe presionar el botón \"Descargar referentes\" para que los referentes de ésta plantilla sean actualizados. \nLuego de llenar completamente la plantilla, haga clic sobre el botón \"Generar tablas\" para que los datos sean organizados antes de cargarlos al Sistema de Información.\nAntes de presionar el botón \"Generar tablas\" verifique que:\na. No haya celdas con valores como \"#N/A\" o \"#¡REF!\"\nb. No se esten aplicando filtros en la hoja de datos \nPara finalizar, presione el botón \"Cargar datos\"."]
[]
["Código Proyecto",{"$f":"IF(B10=\"\",\"\",INDEX('OTRAS REFERENTES'!F:G,MATCH(DIGITADOR!B10,'OTRAS REFERENTES'!F:F,0),2))","v":1480}]
["Nombre Proyecto","Sistema de Monitoreo de los Arrecifes Coralinos en Colombia",null,"Si requiere ayuda contacte a:\nKevin S. Moreno (kevin.moreno@invemar.org.co)  - Apoyo técnico software"]
["Nombre del archivo",{"$f":"MID(CELL(\"FILENAME\",N50),FIND(\"[\",CELL(\"FILENAME\",N50))+1,   FIND(\"]\",CELL(\"FILENAME\",N50))-FIND(\"[\",CELL(\"FILENAME\",N50))-1)","v":"SAMP_Abundancia_Peces_20250527m.xlsm"}]
["DOI Metadato",null,null,"El custodio de los datos es el único autorizado para distribuir este conjunto de datos. El observador y el digitador se comprometen a tomar las medidas necesarias para salvaguardar este conjunto de datos de modo que copia de los mismos no sean obtenidas y/o usadas por terceros no relacionados con el propósito para la cual se recolectó."]
["Fuente Plantilla","http://cinto.invemar.org.co/download/Plantillas_ARGOS_Plus/"]
[]
["ATRIBUTOS ADICIONALES"]
["Observaciones generales"]
[]
[]
[null,"REGISTROS GENERADOS","REGISTROS CARGADOS"]
["Muestreos",{"$f":"IF(configuracion!B47=\"\",\"\",configuracion!B47)","v":""},{"$f":"IF(configuracion!C47=\"\",\"\",configuracion!C47)","v":""}]
["Parámetros del muestreo",{"$f":"IF(configuracion!B48=\"\",\"\",configuracion!B48)","v":""},{"$f":"IF(configuracion!C48=\"\",\"\",configuracion!C48)","v":""}]
["Muestras",{"$f":"IF(configuracion!B49=\"\",\"\",configuracion!B49)","v":""},{"$f":"IF(configuracion!C49=\"\",\"\",configuracion!C49)","v":""}]
["Variables",{"$f":"IF(configuracion!B50=\"\",\"\",configuracion!B50)","v":""},{"$f":"IF(configuracion!C50=\"\",\"\",configuracion!C50)","v":""}]
["Autores",{"$f":"IF(configuracion!B51=\"\",\"\",configuracion!B51)","v":""},{"$f":"IF(configuracion!C51=\"\",\"\",configuracion!C51)","v":""}]
["Registros correctos",{"$f":"IF(configuracion!B52=\"\",\"\",configuracion!B52)","v":""},{"$f":"IF(configuracion!C52=\"\",\"\",configuracion!C52)","v":""}]
["json error",{"$f":"IF(configuracion!B53=\"\",\"\",configuracion!B53)","v":""},{"$f":"IF(configuracion!C53=\"\",\"\",configuracion!C53)","v":""}]
["error",{"$f":"IF(configuracion!B54=\"\",\"\",configuracion!B54)","v":""},{"$f":"IF(configuracion!C54=\"\",\"\",configuracion!C54)","v":""}]

{"sheet":"DATOS","index":3,"n_rows":504,"n_cols":63,"rows_kept":504,"cut":false,"hidden":false,"merged":[[1,60,1,61],[1,57,1,59],[1,9,1,13],[2,7,3,7],[1,2,3,2],[2,6,3,6],[3,29,3,31],[3,27,3,28],[3,21,3,22],[3,19,3,20],[2,8,3,8],[1,3,1,6],[3,23,3,24],[1,15,1,36],[1,55,1,56]]}
[{"$f":"E5+F5","v":"00:00:00"}]
[{"$f":"TEXT(A1,\"yyyymmdd\")","v":"19000100"},null,"CODIGO","FECHA",null,null,null,null,null,"LUGAR",null,null,null,null,null,"DATOS GENERALES DE LA MUESTRA",null,null,null,null,null,null,null,null,null,null,null,null,null,null,null,null,null,null,null,null,null,null,null,null,null,null,"CANTIDAD DE ESLABONES",null,null,null,null,null,null,null,null,null,null,null,null,"ESPECIE",null,"Abundancia"]
[null,null,null,"argos",null,null,"DATE","MES","MUESTREO",null,null,null,null,null,null,null,null,null,null,null,null,null,null,null,null,"UNIKE_KEY",null,null,null,null,null,null,null,null,null,null,null,null,null,null,null,null,"CE",null,null,null,null,null,null,null,null,null,null,null,null,null,null,"ABU"]
[null,null,null,"IDMUESTREO","FECHA","HORA",null,null,null,"PREF.",null,"COD.","CADENA","ESTACION","CODBDD","MAR","COD_MAR","ID_MUESTREO (AG_MUESTREO)","PROFUNDIDAD MAXIMA (mts)","COMPONENTE",null,"METODOLOGIA",null,"DATOS TOMADOS POR",null,null,"ENTIDAD","PROYECTO",null,"SUSTRATO",null,null,"NIVEL","TRANSECTO","UBICACIÓN","OBSERVACION TRANSECTO","BANDA","transecto sin fauna?","UNI",null,"METODO","COD_METODO","VALOR","PROF","UNI",null,"METODO","COD_METODO","VALOR","PROF","UNI",null,"METODO","CONSECUTIVO","ID_MUESTRA","CDG\nESPECIE","N.científico","CANTIDAD","LONGITUD","LONGITUD(cm)","FAMILIA","CDG ESPECIE","cod_SIBM"]
[{"$f":"A2","v":"19000100"},{"$f":"DIGITADOR!$B$2","v":""},{"$f":"IF(Z5=Z4,C4,C4+1)","v":0},{"$f":"IF(E5<>\"\",CONCATENATE($A$2,DIGITADOR!$M$1,O5,AH5),\"\")","v":""},null,null,{"$f":"IF(E5=\"\",\"\",E5+F5)","v":""},{"$f":"IF(G5<>\"\",MONTH(G5),\"\")","v":""},null,null,null,null,{"$f":"IF(L5<>\"\",CONCATENATE(J5,L5),\"\")","v":""},{"$f":"IF(M5=\"\",\"\",INDEX('OTRAS REFERENTES'!$M:$O,MATCH(M5,'OTRAS REFERENTES'!$M:$M,0),3))","v":""},{"$f":"IF(M5=\"\",\"\",INDEX('OTRAS REFERENTES'!$M:$O,MATCH(M5,'OTRAS REFERENTES'!$M:$M,0),2))","v":""},null,null,null,null,null,null,null,null,null,{"$f":"IF(X5=\"\",\"\",INDEX(referentes!$Y:$Z,MATCH(DATOS!X5,referentes!$Z:$Z,0),))","v":""},null,null,null,null,"OA",null,"SO",null,null,{"$f":"CONCATENATE(AG5)","v":""},null,null,null,null,null,null,null,null,null,null,null,null,null,null,null,null,null,null,1,{"$f":"IF(D5=\"\",\"\",CONCATENATE(D5,BB5))","v":""},null,{"$f":"IF(BD5=\"\",\"\",INDEX(referentes!$J:$K,MATCH(BD5,referentes!$J:$J,0),2))","v":""},null,null,{"$f":"IF(BG5=\"\",\"\",INDEX(referentes!$G:$H,MATCH(BG5,referentes!$G:$G,0),2))","v":""},{"$f":"IF(BD5=\"\",\"\",INDEX(referentes!$J:$P,MATCH(BD5,referentes!$J:$J,0),7))","v":""},{"$f":"IF(BD5=\"\",\"\",UPPER(BD5))","v":""}]
[{"$f":"A5","v":"19000100"},{"$f":"DIGITADOR!$B$2","v":""},0,{"$f":"IF(E6<>\"\",CONCATENATE($A$2,DIGITADOR!$M$1,O6,AH6),\"\")","v":""},null,null,{"$f":"IF(E6=\"\",\"\",E6+F6)","v":""},"",null,null,null,null,{"$f":"IF(L6<>\"\",CONCATENATE(J6,L6),\"\")","v":""},{"$f":"IF(M6=\"\",\"\",INDEX('OTRAS REFERENTES'!$M:$O,MATCH(M6,'OTRAS REFERENTES'!$M:$M,0),3))","v":""},{"$f":"IF(M6=\"\",\"\",INDEX('OTRAS REFERENTES'!$M:$O,MATCH(M6,'OTRAS REFERENTES'!$M:$M,0),2))","v":""},null,null,null,null,null,null,null,null,null,{"$f":"IF(X6=\"\",\"\",INDEX(referentes!$Y:$Z,MATCH(DATOS!X6,referentes!$Z:$Z,0),))","v":""},null,null,null,null,"OA",null,"SO",null,null,{"$f":"CONCATENATE(AG6)","v":""},null,null,null,null,null,null,null,null,null,null,null,null,null,null,null,null,null,null,2,{"$f":"IF(D6=\"\",\"\",CONCATENATE(D6,BB6))","v":""},null,{"$f":"IF(BD6=\"\",\"\",INDEX(referentes!$J:$K,MATCH(BD6,referentes!$J:$J,0),2))","v":""},null,null,{"$f":"IF(BG6=\"\",\"\",INDEX(referentes!$G:$H,MATCH(BG6,referentes!$G:$G,0),2))","v":""},{"$f":"IF(BD6=\"\",\"\",INDEX(referentes!$J:$P,MATCH(BD6,referentes!$J:$J,0),7))","v":""},{"$f":"IF(BD6=\"\",\"\",UPPER(BD6))","v":""}]
["19000100",{"$f":"DIGITADOR!$B$2","v":""},0,{"$f":"IF(E7<>\"\",CONCATENATE($A$2,DIGITADOR!$M$1,O7,AH7),\"\")","v":""},null,null,"","",null,null,null,null,"",{"$f":"IF(M7=\"\",\"\",INDEX('OTRAS REFERENTES'!$M:$O,MATCH(M7,'OTRAS REFERENTES'!$M:$M,0),3))","v":""},{"$f":"IF(M7=\"\",\"\",INDEX('OTRAS REFERENTES'!$M:$O,MATCH(M7,'OTRAS REFERENTES'!$M:$M,0),2))","v":""},null,null,null,null,null,null,null,null,null,{"$f":"IF(X7=\"\",\"\",INDEX(referentes!$Y:$Z,MATCH(DATOS!X7,referentes!$Z:$Z,0),))","v":""},null,null,null,null,"OA",null,"SO",null,null,{"$f":"CONCATENATE(AG7)","v":""},null,null,null,null,null,null,null,null,null,null,null,null,null,null,null,null,null,null,3,"",null,{"$f":"IF(BD7=\"\",\"\",INDEX(referentes!$J:$K,MATCH(BD7,referentes!$J:$J,0),2))","v":""},null,null,{"$f":"IF(BG7=\"\",\"\",INDEX(referentes!$G:$H,MATCH(BG7,referentes!$G:$G,0),2))","v":""},{"$f":"IF(BD7=\"\",\"\",INDEX(referentes!$J:$P,MATCH(BD7,referentes!$J:$J,0),7))","v":""},""]
["19000100",{"$f":"DIGITADOR!$B$2","v":""},0,{"$f":"IF(E8<>\"\",CONCATENATE($A$2,DIGITADOR!$M$1,O8,AH8),\"\")","v":""},null,null,"","",null,null,null,null,"",{"$f":"IF(M8=\"\",\"\",INDEX('OTRAS REFERENTES'!$M:$O,MATCH(M8,'OTRAS REFERENTES'!$M:$M,0),3))","v":""},{"$f":"IF(M8=\"\",\"\",INDEX('OTRAS REFERENTES'!$M:$O,MATCH(M8,'OTRAS REFERENTES'!$M:$M,0),2))","v":""},null,null,null,null,null,null,null,null,null,{"$f":"IF(X8=\"\",\"\",INDEX(referentes!$Y:$Z,MATCH(DATOS!X8,referentes!$Z:$Z,0),))","v":""},null,null,null,null,"OA",null,"SO",null,null,{"$f":"CONCATENATE(AG8)","v":""},null,null,null,null,null,null,null,null,null,null,null,null,null,null,null,null,null,null,4,"",null,{"$f":"IF(BD8=\"\",\"\",INDEX(referentes!$J:$K,MATCH(BD8,referentes!$J:$J,0),2))","v":""},null,null,{"$f":"IF(BG8=\"\",\"\",INDEX(referentes!$G:$H,MATCH(BG8,referentes!$G:$G,0),2))","v":""},{"$f":"IF(BD8=\"\",\"\",INDEX(referentes!$J:$P,MATCH(BD8,referentes!$J:$J,0),7))","v":""},""]
["19000100",{"$f":"DIGITADOR!$B$2","v":""},0,{"$f":"IF(E9<>\"\",CONCATENATE($A$2,DIGITADOR!$M$1,O9,AH9),\"\")","v":""},null,null,"","",null,null,null,null,"",{"$f":"IF(M9=\"\",\"\",INDEX('OTRAS REFERENTES'!$M:$O,MATCH(M9,'OTRAS REFERENTES'!$M:$M,0),3))","v":""},{"$f":"IF(M9=\"\",\"\",INDEX('OTRAS REFERENTES'!$M:$O,MATCH(M9,'OTRAS REFERENTES'!$M:$M,0),2))","v":""},null,null,null,null,null,null,null,null,null,{"$f":"IF(X9=\"\",\"\",INDEX(referentes!$Y:$Z,MATCH(DATOS!X9,referentes!$Z:$Z,0),))","v":""},null,null,null,null,"OA",null,"SO",null,null,{"$f":"CONCATENATE(AG9)","v":""},null,null,null,null,null,null,null,null,null,null,null,null,null,null,null,null,null,null,5,"",null,{"$f":"IF(BD9=\"\",\"\",INDEX(referentes!$J:$K,MATCH(BD9,referentes!$J:$J,0),2))","v":""},null,null,{"$f":"IF(BG9=\"\",\"\",INDEX(referentes!$G:$H,MATCH(BG9,referentes!$G:$G,0),2))","v":""},{"$f":"IF(BD9=\"\",\"\",INDEX(referentes!$J:$P,MATCH(BD9,referentes!$J:$J,0),7))","v":""},""]
["19000100",{"$f":"DIGITADOR!$B$2","v":""},0,{"$f":"IF(E10<>\"\",CONCATENATE($A$2,DIGITADOR!$M$1,O10,AH10),\"\")","v":""},null,null,"","",null,null,null,null,"",{"$f":"IF(M10=\"\",\"\",INDEX('OTRAS REFERENTES'!$M:$O,MATCH(M10,'OTRAS REFERENTES'!$M:$M,0),3))","v":""},{"$f":"IF(M10=\"\",\"\",INDEX('OTRAS REFERENTES'!$M:$O,MATCH(M10,'OTRAS REFERENTES'!$M:$M,0),2))","v":""},null,null,null,null,null,null,null,null,null,{"$f":"IF(X10=\"\",\"\",INDEX(referentes!$Y:$Z,MATCH(DATOS!X10,referentes!$Z:$Z,0),))","v":""},null,null,null,null,"OA",null,"SO",null,null,"",null,null,null,null,null,null,null,null,null,null,null,null,null,null,null,null,null,null,6,"",null,{"$f":"IF(BD10=\"\",\"\",INDEX(referentes!$J:$K,MATCH(BD10,referentes!$J:$J,0),2))","v":""},null,null,{"$f":"IF(BG10=\"\",\"\",INDEX(referentes!$G:$H,MATCH(BG10,referentes!$G:$G,0),2))","v":""},{"$f":"IF(BD10=\"\",\"\",INDEX(referentes!$J:$P,MATCH(BD10,referentes!$J:$J,0),7))","v":""},""]
["19000100",{"$f":"DIGITADOR!$B$2","v":""},0,{"$f":"IF(E11<>\"\",CONCATENATE($A$2,DIGITADOR!$M$1,O11,AH11),\"\")","v":""},null,null,"","",null,null,null,null,"",{"$f":"IF(M11=\"\",\"\",INDEX('OTRAS REFERENTES'!$M:$O,MATCH(M11,'OTRAS REFERENTES'!$M:$M,0),3))","v":""},{"$f":"IF(M11=\"\",\"\",INDEX('OTRAS REFERENTES'!$M:$O,MATCH(M11,'OTRAS REFERENTES'!$M:$M,0),2))","v":""},null,null,null,null,null,null,null,null,null,{"$f":"IF(X11=\"\",\"\",INDEX(referentes!$Y:$Z,MATCH(DATOS!X11,referentes!$Z:$Z,0),))","v":""},null,null,null,null,"OA",null,"SO",null,null,"",null,null,null,null,null,null,null,null,null,null,null,null,null,null,null,null,null,null,7,"",null,{"$f":"IF(BD11=\"\",\"\",INDEX(referentes!$J:$K,MATCH(BD11,referentes!$J:$J,0),2))","v":""},null,null,{"$f":"IF(BG11=\"\",\"\",INDEX(referentes!$G:$H,MATCH(BG11,referentes!$G:$G,0),2))","v":""},{"$f":"IF(BD11=\"\",\"\",INDEX(referentes!$J:$P,MATCH(BD11,referentes!$J:$J,0),7))","v":""},""]
["19000100",{"$f":"DIGITADOR!$B$2","v":""},0,{"$f":"IF(E12<>\"\",CONCATENATE($A$2,DIGITADOR!$M$1,O12,AH12),\"\")","v":""},null,null,"","",null,null,null,null,"",{"$f":"IF(M12=\"\",\"\",INDEX('OTRAS REFERENTES'!$M:$O,MATCH(M12,'OTRAS REFERENTES'!$M:$M,0),3))","v":""},{"$f":"IF(M12=\"\",\"\",INDEX('OTRAS REFERENTES'!$M:$O,MATCH(M12,'OTRAS REFERENTES'!$M:$M,0),2))","v":""},null,null,null,null,null,null,null,null,null,{"$f":"IF(X12=\"\",\"\",INDEX(referentes!$Y:$Z,MATCH(DATOS!X12,referentes!$Z:$Z,0),))","v":""},null,null,null,null,"OA",null,"SO",null,null,"",null,null,null,null,null,null,null,null,null,null,null,null,null,null,null,null,null,null,8,"",null,{"$f":"IF(BD12=\"\",\"\",INDEX(referentes!$J:$K,MATCH(BD12,referentes!$J:$J,0),2))","v":""},null,null,{"$f":"IF(BG12=\"\",\"\",INDEX(referentes!$G:$H,MATCH(BG12,referentes!$G:$G,0),2))","v":""},{"$f":"IF(BD12=\"\",\"\",INDEX(referentes!$J:$P,MATCH(BD12,referentes!$J:$J,0),7))","v":""},""]
["19000100",{"$f":"DIGITADOR!$B$2","v":""},0,{"$f":"IF(E13<>\"\",CONCATENATE($A$2,DIGITADOR!$M$1,O13,AH13),\"\")","v":""},null,null,"","",null,null,null,null,"",{"$f":"IF(M13=\"\",\"\",INDEX('OTRAS REFERENTES'!$M:$O,MATCH(M13,'OTRAS REFERENTES'!$M:$M,0),3))","v":""},{"$f":"IF(M13=\"\",\"\",INDEX('OTRAS REFERENTES'!$M:$O,MATCH(M13,'OTRAS REFERENTES'!$M:$M,0),2))","v":""},null,null,null,null,null,null,null,null,null,{"$f":"IF(X13=\"\",\"\",INDEX(referentes!$Y:$Z,MATCH(DATOS!X13,referentes!$Z:$Z,0),))","v":""},null,null,null,null,"OA",null,"SO",null,null,"",null,null,null,null,null,null,null,null,null,null,null,null,null,null,null,null,null,null,9,"",null,{"$f":"IF(BD13=\"\",\"\",INDEX(referentes!$J:$K,MATCH(BD13,referentes!$J:$J,0),2))","v":""},null,null,{"$f":"IF(BG13=\"\",\"\",INDEX(referentes!$G:$H,MATCH(BG13,referentes!$G:$G,0),2))","v":""},{"$f":"IF(BD13=\"\",\"\",INDEX(referentes!$J:$P,MATCH(BD13,referentes!$J:$J,0),7))","v":""},""]
["19000100",{"$f":"DIGITADOR!$B$2","v":""},0,{"$f":"IF(E14<>\"\",CONCATENATE($A$2,DIGITADOR!$M$1,O14,AH14),\"\")","v":""},null,null,"","",null,null,null,null,"",{"$f":"IF(M14=\"\",\"\",INDEX('OTRAS REFERENTES'!$M:$O,MATCH(M14,'OTRAS REFERENTES'!$M:$M,0),3))","v":""},{"$f":"IF(M14=\"\",\"\",INDEX('OTRAS REFERENTES'!$M:$O,MATCH(M14,'OTRAS REFERENTES'!$M:$M,0),2))","v":""},null,null,null,null,null,null,null,null,null,{"$f":"IF(X14=\"\",\"\",INDEX(referentes!$Y:$Z,MATCH(DATOS!X14,referentes!$Z:$Z,0),))","v":""},null,null,null,null,"OA",null,"SO",null,null,"",null,null,null,null,null,null,null,null,null,null,null,null,null,null,null,null,null,null,10,"",null,{"$f":"IF(BD14=\"\",\"\",INDEX(referentes!$J:$K,MATCH(BD14,referentes!$J:$J,0),2))","v":""},null,null,{"$f":"IF(BG14=\"\",\"\",INDEX(referentes!$G:$H,MATCH(BG14,referentes!$G:$G,0),2))","v":""},{"$f":"IF(BD14=\"\",\"\",INDEX(referentes!$J:$P,MATCH(BD14,referentes!$J:$J,0),7))","v":""},""]
["19000100",{"$f":"DIGITADOR!$B$2","v":""},0,{"$f":"IF(E15<>\"\",CONCATENATE($A$2,DIGITADOR!$M$1,O15,AH15),\"\")","v":""},null,null,"","",null,null,null,null,"",{"$f":"IF(M15=\"\",\"\",INDEX('OTRAS REFERENTES'!$M:$O,MATCH(M15,'OTRAS REFERENTES'!$M:$M,0),3))","v":""},{"$f":"IF(M15=\"\",\"\",INDEX('OTRAS REFERENTES'!$M:$O,MATCH(M15,'OTRAS REFERENTES'!$M:$M,0),2))","v":""},null,null,null,null,null,null,null,null,null,{"$f":"IF(X15=\"\",\"\",INDEX(referentes!$Y:$Z,MATCH(DATOS!X15,referentes!$Z:$Z,0),))","v":""},null,null,null,null,"OA",null,"SO",null,null,"",null,null,null,null,null,null,null,null,null,null,null,null,null,null,null,null,null,null,11,"",null,{"$f":"IF(BD15=\"\",\"\",INDEX(referentes!$J:$K,MATCH(BD15,referentes!$J:$J,0),2))","v":""},null,null,{"$f":"IF(BG15=\"\",\"\",INDEX(referentes!$G:$H,MATCH(BG15,referentes!$G:$G,0),2))","v":""},{"$f":"IF(BD15=\"\",\"\",INDEX(referentes!$J:$P,MATCH(BD15,referentes!$J:$J,0),7))","v":""},""]
["19000100",{"$f":"DIGITADOR!$B$2","v":""},0,{"$f":"IF(E16<>\"\",CONCATENATE($A$2,DIGITADOR!$M$1,O16,AH16),\"\")","v":""},null,null,"","",null,null,null,null,"",{"$f":"IF(M16=\"\",\"\",INDEX('OTRAS REFERENTES'!$M:$O,MATCH(M16,'OTRAS REFERENTES'!$M:$M,0),3))","v":""},{"$f":"IF(M16=\"\",\"\",INDEX('OTRAS REFERENTES'!$M:$O,MATCH(M16,'OTRAS REFERENTES'!$M:$M,0),2))","v":""},null,null,null,null,null,null,null,null,null,{"$f":"IF(X16=\"\",\"\",INDEX(referentes!$Y:$Z,MATCH(DATOS!X16,referentes!$Z:$Z,0),))","v":""},null,null,null,null,"OA",null,"SO",null,null,"",null,null,null,null,null,null,null,null,null,null,"",null,"",null,null,null,"",null,12,"",null,{"$f":"IF(BD16=\"\",\"\",INDEX(referentes!$J:$K,MATCH(BD16,referentes!$J:$J,0),2))","v":""},null,null,{"$f":"IF(BG16=\"\",\"\",INDEX(referentes!$G:$H,MATCH(BG16,referentes!$G:$G,0),2))","v":""},{"$f":"IF(BD16=\"\",\"\",INDEX(referentes!$J:$P,MATCH(BD16,referentes!$J:$J,0),7))","v":""},""]
["19000100",{"$f":"DIGITADOR!$B$2","v":""},0,{"$f":"IF(E17<>\"\",CONCATENATE($A$2,DIGITADOR!$M$1,O17,AH17),\"\")","v":""},null,null,"","",null,null,null,null,"",{"$f":"IF(M17=\"\",\"\",INDEX('OTRAS REFERENTES'!$M:$O,MATCH(M17,'OTRAS REFERENTES'!$M:$M,0),3))","v":""},{"$f":"IF(M17=\"\",\"\",INDEX('OTRAS REFERENTES'!$M:$O,MATCH(M17,'OTRAS REFERENTES'!$M:$M,0),2))","v":""},null,null,null,null,null,null,null,null,null,{"$f":"IF(X17=\"\",\"\",INDEX(referentes!$Y:$Z,MATCH(DATOS!X17,referentes!$Z:$Z,0),))","v":""},null,null,null,null,"OA",null,"SO",null,null,"",null,null,null,null,null,null,null,null,null,null,"",null,"",null,null,null,"",null,13,"",null,{"$f":"IF(BD17=\"\",\"\",INDEX(referentes!$J:$K,MATCH(BD17,referentes!$J:$J,0),2))","v":""},null,null,{"$f":"IF(BG17=\"\",\"\",INDEX(referentes!$G:$H,MATCH(BG17,referentes!$G:$G,0),2))","v":""},{"$f":"IF(BD17=\"\",\"\",INDEX(referentes!$J:$P,MATCH(BD17,referentes!$J:$J,0),7))","v":""},""]
["19000100",{"$f":"DIGITADOR!$B$2","v":""},0,{"$f":"IF(E18<>\"\",CONCATENATE($A$2,DIGITADOR!$M$1,O18,AH18),\"\")","v":""},null,null,"","",null,null,null,null,"",{"$f":"IF(M18=\"\",\"\",INDEX('OTRAS REFERENTES'!$M:$O,MATCH(M18,'OTRAS REFERENTES'!$M:$M,0),3))","v":""},{"$f":"IF(M18=\"\",\"\",INDEX('OTRAS REFERENTES'!$M:$O,MATCH(M18,'OTRAS REFERENTES'!$M:$M,0),2))","v":""},null,null,null,null,null,null,null,null,null,{"$f":"IF(X18=\"\",\"\",INDEX(referentes!$Y:$Z,MATCH(DATOS!X18,referentes!$Z:$Z,0),))","v":""},null,null,null,null,"OA",null,"SO",null,null,"",null,null,null,null,null,null,null,null,null,null,"",null,"",null,null,null,"",null,14,"",null,{"$f":"IF(BD18=\"\",\"\",INDEX(referentes!$J:$K,MATCH(BD18,referentes!$J:$J,0),2))","v":""},null,null,{"$f":"IF(BG18=\"\",\"\",INDEX(referentes!$G:$H,MATCH(BG18,referentes!$G:$G,0),2))","v":""},{"$f":"IF(BD18=\"\",\"\",INDEX(referentes!$J:$P,MATCH(BD18,referentes!$J:$J,0),7))","v":""},""]
["19000100",{"$f":"DIGITADOR!$B$2","v":""},0,{"$f":"IF(E19<>\"\",CONCATENATE($A$2,DIGITADOR!$M$1,O19,AH19),\"\")","v":""},null,null,"","",null,null,null,null,"",{"$f":"IF(M19=\"\",\"\",INDEX('OTRAS REFERENTES'!$M:$O,MATCH(M19,'OTRAS REFERENTES'!$M:$M,0),3))","v":""},{"$f":"IF(M19=\"\",\"\",INDEX('OTRAS REFERENTES'!$M:$O,MATCH(M19,'OTRAS REFERENTES'!$M:$M,0),2))","v":""},null,null,null,null,null,null,null,null,null,{"$f":"IF(X19=\"\",\"\",INDEX(referentes!$Y:$Z,MATCH(DATOS!X19,referentes!$Z:$Z,0),))","v":""},null,null,null,null,"OA",null,"SO",null,null,"",null,null,null,null,null,null,null,null,null,null,"",null,"",null,null,null,"",null,15,"",null,{"$f":"IF(BD19=\"\",\"\",INDEX(referentes!$J:$K,MATCH(BD19,referentes!$J:$J,0),2))","v":""},null,null,{"$f":"IF(BG19=\"\",\"\",INDEX(referentes!$G:$H,MATCH(BG19,referentes!$G:$G,0),2))","v":""},{"$f":"IF(BD19=\"\",\"\",INDEX(referentes!$J:$P,MATCH(BD19,referentes!$J:$J,0),7))","v":""},""]
["19000100",{"$f":"DIGITADOR!$B$2","v":""},0,{"$f":"IF(E20<>\"\",CONCATENATE($A$2,DIGITADOR!$M$1,O20,AH20),\"\")","v":""},null,null,"","",null,null,null,null,"",{"$f":"IF(M20=\"\",\"\",INDEX('OTRAS REFERENTES'!$M:$O,MATCH(M20,'OTRAS REFERENTES'!$M:$M,0),3))","v":""},{"$f":"IF(M20=\"\",\"\",INDEX('OTRAS REFERENTES'!$M:$O,MATCH(M20,'OTRAS REFERENTES'!$M:$M,0),2))","v":""},null,null,null,null,null,null,null,null,null,{"$f":"IF(X20=\"\",\"\",INDEX(referentes!$Y:$Z,MATCH(DATOS!X20,referentes!$Z:$Z,0),))","v":""},null,null,null,null,"OA",null,"SO",null,null,"",null,null,null,null,null,null,null,null,null,null,"",null,"",null,null,null,"",null,16,"",null,{"$f":"IF(BD20=\"\",\"\",INDEX(referentes!$J:$K,MATCH(BD20,referentes!$J:$J,0),2))","v":""},null,null,{"$f":"IF(BG20=\"\",\"\",INDEX(referentes!$G:$H,MATCH(BG20,referentes!$G:$G,0),2))","v":""},{"$f":"IF(BD20=\"\",\"\",INDEX(referentes!$J:$P,MATCH(BD20,referentes!$J:$J,0),7))","v":""},""]
["19000100",{"$f":"DIGITADOR!$B$2","v":""},0,{"$f":"IF(E21<>\"\",CONCATENATE($A$2,DIGITADOR!$M$1,O21,AH21),\"\")","v":""},null,null,"","",null,null,null,null,"",{"$f":"IF(M21=\"\",\"\",INDEX('OTRAS REFERENTES'!$M:$O,MATCH(M21,'OTRAS REFERENTES'!$M:$M,0),3))","v":""},{"$f":"IF(M21=\"\",\"\",INDEX('OTRAS REFERENTES'!$M:$O,MATCH(M21,'OTRAS REFERENTES'!$M:$M,0),2))","v":""},null,null,null,null,null,null,null,null,null,{"$f":"IF(X21=\"\",\"\",INDEX(referentes!$Y:$Z,MATCH(DATOS!X21,referentes!$Z:$Z,0),))","v":""},null,null,null,null,"OA",null,"SO",null,null,"",null,null,null,null,null,null,null,null,null,null,"",null,"",null,null,null,"",null,17,"",null,{"$f":"IF(BD21=\"\",\"\",INDEX(referentes!$J:$K,MATCH(BD21,referentes!$J:$J,0),2))","v":""},null,null,{"$f":"IF(BG21=\"\",\"\",INDEX(referentes!$G:$H,MATCH(BG21,referentes!$G:$G,0),2))","v":""},{"$f":"IF(BD21=\"\",\"\",INDEX(referentes!$J:$P,MATCH(BD21,referentes!$J:$J,0),7))","v":""},""]
["19000100",{"$f":"DIGITADOR!$B$2","v":""},0,{"$f":"IF(E22<>\"\",CONCATENATE($A$2,DIGITADOR!$M$1,O22,AH22),\"\")","v":""},null,null,"","",null,null,null,null,"",{"$f":"IF(M22=\"\",\"\",INDEX('OTRAS REFERENTES'!$M:$O,MATCH(M22,'OTRAS REFERENTES'!$M:$M,0),3))","v":""},{"$f":"IF(M22=\"\",\"\",INDEX('OTRAS REFERENTES'!$M:$O,MATCH(M22,'OTRAS REFERENTES'!$M:$M,0),2))","v":""},null,null,null,null,null,null,null,null,null,{"$f":"IF(X22=\"\",\"\",INDEX(referentes!$Y:$Z,MATCH(DATOS!X22,referentes!$Z:$Z,0),))","v":""},null,null,null,null,"OA",null,"SO",null,null,"",null,null,null,null,null,null,null,null,null,null,"",null,"",null,null,null,"",null,18,"",null,{"$f":"IF(BD22=\"\",\"\",INDEX(referentes!$J:$K,MATCH(BD22,referentes!$J:$J,0),2))","v":""},null,null,{"$f":"IF(BG22=\"\",\"\",INDEX(referentes!$G:$H,MATCH(BG22,referentes!$G:$G,0),2))","v":""},{"$f":"IF(BD22=\"\",\"\",INDEX(referentes!$J:$P,MATCH(BD22,referentes!$J:$J,0),7))","v":""},""]
["19000100",{"$f":"DIGITADOR!$B$2","v":""},0,{"$f":"IF(E23<>\"\",CONCATENATE($A$2,DIGITADOR!$M$1,O23,AH23),\"\")","v":""},null,null,"","",null,null,null,null,"",{"$f":"IF(M23=\"\",\"\",INDEX('OTRAS REFERENTES'!$M:$O,MATCH(M23,'OTRAS REFERENTES'!$M:$M,0),3))","v":""},{"$f":"IF(M23=\"\",\"\",INDEX('OTRAS REFERENTES'!$M:$O,MATCH(M23,'OTRAS REFERENTES'!$M:$M,0),2))","v":""},null,null,null,null,null,null,null,null,null,{"$f":"IF(X23=\"\",\"\",INDEX(referentes!$Y:$Z,MATCH(DATOS!X23,referentes!$Z:$Z,0),))","v":""},null,null,null,null,"OA",null,"SO",null,null,"",null,null,null,null,null,null,null,null,null,null,"",null,"",null,null,null,"",null,19,"",null,{"$f":"IF(BD23=\"\",\"\",INDEX(referentes!$J:$K,MATCH(BD23,referentes!$J:$J,0),2))","v":""},null,null,{"$f":"IF(BG23=\"\",\"\",INDEX(referentes!$G:$H,MATCH(BG23,referentes!$G:$G,0),2))","v":""},{"$f":"IF(BD23=\"\",\"\",INDEX(referentes!$J:$P,MATCH(BD23,referentes!$J:$J,0),7))","v":""},""]
["19000100",{"$f":"DIGITADOR!$B$2","v":""},0,{"$f":"IF(E24<>\"\",CONCATENATE($A$2,DIGITADOR!$M$1,O24,AH24),\"\")","v":""},null,null,"","",null,null,null,null,"",{"$f":"IF(M24=\"\",\"\",INDEX('OTRAS REFERENTES'!$M:$O,MATCH(M24,'OTRAS REFERENTES'!$M:$M,0),3))","v":""},{"$f":"IF(M24=\"\",\"\",INDEX('OTRAS REFERENTES'!$M:$O,MATCH(M24,'OTRAS REFERENTES'!$M:$M,0),2))","v":""},null,null,null,null,null,null,null,null,null,{"$f":"IF(X24=\"\",\"\",INDEX(referentes!$Y:$Z,MATCH(DATOS!X24,referentes!$Z:$Z,0),))","v":""},null,null,null,null,"OA",null,"SO",null,null,"",null,null,null,null,null,null,null,null,null,null,"",null,"",null,null,null,"",null,20,"",null,{"$f":"IF(BD24=\"\",\"\",INDEX(referentes!$J:$K,MATCH(BD24,referentes!$J:$J,0),2))","v":""},null,null,{"$f":"IF(BG24=\"\",\"\",INDEX(referentes!$G:$H,MATCH(BG24,referentes!$G:$G,0),2))","v":""},{"$f":"IF(BD24=\"\",\"\",INDEX(referentes!$J:$P,MATCH(BD24,referentes!$J:$J,0),7))","v":""},""]
["19000100",{"$f":"DIGITADOR!$B$2","v":""},0,{"$f":"IF(E25<>\"\",CONCATENATE($A$2,DIGITADOR!$M$1,O25,AH25),\"\")","v":""},null,null,"","",null,null,null,null,"",{"$f":"IF(M25=\"\",\"\",INDEX('OTRAS REFERENTES'!$M:$O,MATCH(M25,'OTRAS REFERENTES'!$M:$M,0),3))","v":""},{"$f":"IF(M25=\"\",\"\",INDEX('OTRAS REFERENTES'!$M:$O,MATCH(M25,'OTRAS REFERENTES'!$M:$M,0),2))","v":""},null,null,null,null,null,null,null,null,null,{"$f":"IF(X25=\"\",\"\",INDEX(referentes!$Y:$Z,MATCH(DATOS!X25,referentes!$Z:$Z,0),))","v":""},null,null,null,null,"OA",null,"SO",null,null,"",null,null,null,null,null,null,null,null,null,null,null,null,null,null,null,null,null,null,21,"",null,{"$f":"IF(BD25=\"\",\"\",INDEX(referentes!$J:$K,MATCH(BD25,referentes!$J:$J,0),2))","v":""},null,null,{"$f":"IF(BG25=\"\",\"\",INDEX(referentes!$G:$H,MATCH(BG25,referentes!$G:$G,0),2))","v":""},{"$f":"IF(BD25=\"\",\"\",INDEX(referentes!$J:$P,MATCH(BD25,referentes!$J:$J,0),7))","v":""},""]
["19000100",{"$f":"DIGITADOR!$B$2","v":""},0,{"$f":"IF(E26<>\"\",CONCATENATE($A$2,DIGITADOR!$M$1,O26,AH26),\"\")","v":""},null,null,"","",null,null,null,null,"",{"$f":"IF(M26=\"\",\"\",INDEX('OTRAS REFERENTES'!$M:$O,MATCH(M26,'OTRAS REFERENTES'!$M:$M,0),3))","v":""},{"$f":"IF(M26=\"\",\"\",INDEX('OTRAS REFERENTES'!$M:$O,MATCH(M26,'OTRAS REFERENTES'!$M:$M,0),2))","v":""},null,null,null,null,null,null,null,null,null,{"$f":"IF(X26=\"\",\"\",INDEX(referentes!$Y:$Z,MATCH(DATOS!X26,referentes!$Z:$Z,0),))","v":""},null,null,null,null,"OA",null,"SO",null,null,"",null,null,null,null,null,null,null,null,null,null,null,null,null,null,null,null,null,null,22,"",null,{"$f":"IF(BD26=\"\",\"\",INDEX(referentes!$J:$K,MATCH(BD26,referentes!$J:$J,0),2))","v":""},null,null,{"$f":"IF(BG26=\"\",\"\",INDEX(referentes!$G:$H,MATCH(BG26,referentes!$G:$G,0),2))","v":""},{"$f":"IF(BD26=\"\",\"\",INDEX(referentes!$J:$P,MATCH(BD26,referentes!$J:$J,0),7))","v":""},""]
["19000100",{"$f":"DIGITADOR!$B$2","v":""},0,{"$f":"IF(E27<>\"\",CONCATENATE($A$2,DIGITADOR!$M$1,O27,AH27),\"\")","v":""},null,null,"","",null,null,null,null,"",{"$f":"IF(M27=\"\",\"\",INDEX('OTRAS REFERENTES'!$M:$O,MATCH(M27,'OTRAS REFERENTES'!$M:$M,0),3))","v":""},{"$f":"IF(M27=\"\",\"\",INDEX('OTRAS REFERENTES'!$M:$O,MATCH(M27,'OTRAS REFERENTES'!$M:$M,0),2))","v":""},null,null,null,null,null,null,null,null,null,{"$f":"IF(X27=\"\",\"\",INDEX(referentes!$Y:$Z,MATCH(DATOS!X27,referentes!$Z:$Z,0),))","v":""},null,null,null,null,"OA",null,"SO",null,null,"",null,null,null,null,null,null,null,null,null,null,null,null,null,null,null,null,null,null,23,"",null,{"$f":"IF(BD27=\"\",\"\",INDEX(referentes!$J:$K,MATCH(BD27,referentes!$J:$J,0),2))","v":""},null,null,{"$f":"IF(BG27=\"\",\"\",INDEX(referentes!$G:$H,MATCH(BG27,referentes!$G:$G,0),2))","v":""},{"$f":"IF(BD27=\"\",\"\",INDEX(referentes!$J:$P,MATCH(BD27,referentes!$J:$J,0),7))","v":""},""]
["19000100",{"$f":"DIGITADOR!$B$2","v":""},0,{"$f":"IF(E28<>\"\",CONCATENATE($A$2,DIGITADOR!$M$1,O28,AH28),\"\")","v":""},null,null,"","",null,null,null,null,"",{"$f":"IF(M28=\"\",\"\",INDEX('OTRAS REFERENTES'!$M:$O,MATCH(M28,'OTRAS REFERENTES'!$M:$M,0),3))","v":""},{"$f":"IF(M28=\"\",\"\",INDEX('OTRAS REFERENTES'!$M:$O,MATCH(M28,'OTRAS REFERENTES'!$M:$M,0),2))","v":""},null,null,null,null,null,null,null,null,null,{"$f":"IF(X28=\"\",\"\",INDEX(referentes!$Y:$Z,MATCH(DATOS!X28,referentes!$Z:$Z,0),))","v":""},null,null,null,null,"OA",null,"SO",null,null,"",null,null,null,null,null,null,null,null,null,null,null,null,null,null,null,null,null,null,24,"",null,{"$f":"IF(BD28=\"\",\"\",INDEX(referentes!$J:$K,MATCH(BD28,referentes!$J:$J,0),2))","v":""},null,null,{"$f":"IF(BG28=\"\",\"\",INDEX(referentes!$G:$H,MATCH(BG28,referentes!$G:$G,0),2))","v":""},{"$f":"IF(BD28=\"\",\"\",INDEX(referentes!$J:$P,MATCH(BD28,referentes!$J:$J,0),7))","v":""},""]
["19000100",{"$f":"DIGITADOR!$B$2","v":""},0,{"$f":"IF(E29<>\"\",CONCATENATE($A$2,DIGITADOR!$M$1,O29,AH29),\"\")","v":""},null,null,"","",null,null,null,null,"",{"$f":"IF(M29=\"\",\"\",INDEX('OTRAS REFERENTES'!$M:$O,MATCH(M29,'OTRAS REFERENTES'!$M:$M,0),3))","v":""},{"$f":"IF(M29=\"\",\"\",INDEX('OTRAS REFERENTES'!$M:$O,MATCH(M29,'OTRAS REFERENTES'!$M:$M,0),2))","v":""},null,null,null,null,null,null,null,null,null,{"$f":"IF(X29=\"\",\"\",INDEX(referentes!$Y:$Z,MATCH(DATOS!X29,referentes!$Z:$Z,0),))","v":""},null,null,null,null,"OA",null,"SO",null,null,"",null,null,null,null,null,null,null,null,null,null,null,null,null,null,null,null,null,null,25,"",null,{"$f":"IF(BD29=\"\",\"\",INDEX(referentes!$J:$K,MATCH(BD29,referentes!$J:$J,0),2))","v":""},null,null,{"$f":"IF(BG29=\"\",\"\",INDEX(referentes!$G:$H,MATCH(BG29,referentes!$G:$G,0),2))","v":""},{"$f":"IF(BD29=\"\",\"\",INDEX(referentes!$J:$P,MATCH(BD29,referentes!$J:$J,0),7))","v":""},""]
["19000100",{"$f":"DIGITADOR!$B$2","v":""},0,{"$f":"IF(E30<>\"\",CONCATENATE($A$2,DIGITADOR!$M$1,O30,AH30),\"\")","v":""},null,null,"","",null,null,null,null,"",{"$f":"IF(M30=\"\",\"\",INDEX('OTRAS REFERENTES'!$M:$O,MATCH(M30,'OTRAS REFERENTES'!$M:$M,0),3))","v":""},{"$f":"IF(M30=\"\",\"\",INDEX('OTRAS REFERENTES'!$M:$O,MATCH(M30,'OTRAS REFERENTES'!$M:$M,0),2))","v":""},null,null,null,null,null,null,null,null,null,{"$f":"IF(X30=\"\",\"\",INDEX(referentes!$Y:$Z,MATCH(DATOS!X30,referentes!$Z:$Z,0),))","v":""},null,null,null,null,"OA",null,"SO",null,null,"",null,null,null,null,null,null,null,null,null,null,null,null,null,null,null,null,null,null,26,"",null,{"$f":"IF(BD30=\"\",\"\",INDEX(referentes!$J:$K,MATCH(BD30,referentes!$J:$J,0),2))","v":""},null,null,{"$f":"IF(BG30=\"\",\"\",INDEX(referentes!$G:$H,MATCH(BG30,referentes!$G:$G,0),2))","v":""},{"$f":"IF(BD30=\"\",\"\",INDEX(referentes!$J:$P,MATCH(BD30,referentes!$J:$J,0),7))","v":""},""]
["19000100",{"$f":"DIGITADOR!$B$2","v":""},0,{"$f":"IF(E31<>\"\",CONCATENATE($A$2,DIGITADOR!$M$1,O31,AH31),\"\")","v":""},null,null,"","",null,null,null,null,"",{"$f":"IF(M31=\"\",\"\",INDEX('OTRAS REFERENTES'!$M:$O,MATCH(M31,'OTRAS REFERENTES'!$M:$M,0),3))","v":""},{"$f":"IF(M31=\"\",\"\",INDEX('OTRAS REFERENTES'!$M:$O,MATCH(M31,'OTRAS REFERENTES'!$M:$M,0),2))","v":""},null,null,null,null,null,null,null,null,null,{"$f":"IF(X31=\"\",\"\",INDEX(referentes!$Y:$Z,MATCH(DATOS!X31,referentes!$Z:$Z,0),))","v":""},null,null,null,null,"OA",null,"SO",null,null,"",null,null,null,null,null,null,null,null,null,null,null,null,null,null,null,null,null,null,27,"",null,{"$f":"IF(BD31=\"\",\"\",INDEX(referentes!$J:$K,MATCH(BD31,referentes!$J:$J,0),2))","v":""},null,null,{"$f":"IF(BG31=\"\",\"\",INDEX(referentes!$G:$H,MATCH(BG31,referentes!$G:$G,0),2))","v":""},{"$f":"IF(BD31=\"\",\"\",INDEX(referentes!$J:$P,MATCH(BD31,referentes!$J:$J,0),7))","v":""},""]
["19000100",{"$f":"DIGITADOR!$B$2","v":""},0,{"$f":"IF(E32<>\"\",CONCATENATE($A$2,DIGITADOR!$M$1,O32,AH32),\"\")","v":""},null,null,"","",null,null,null,null,"",{"$f":"IF(M32=\"\",\"\",INDEX('OTRAS REFERENTES'!$M:$O,MATCH(M32,'OTRAS REFERENTES'!$M:$M,0),3))","v":""},{"$f":"IF(M32=\"\",\"\",INDEX('OTRAS REFERENTES'!$M:$O,MATCH(M32,'OTRAS REFERENTES'!$M:$M,0),2))","v":""},null,null,null,null,null,null,null,null,null,{"$f":"IF(X32=\"\",\"\",INDEX(referentes!$Y:$Z,MATCH(DATOS!X32,referentes!$Z:$Z,0),))","v":""},null,null,null,null,"OA",null,"SO",null,null,"",null,null,null,null,null,null,null,null,null,null,null,null,null,null,null,null,null,null,28,"",null,{"$f":"IF(BD32=\"\",\"\",INDEX(referentes!$J:$K,MATCH(BD32,referentes!$J:$J,0),2))","v":""},null,null,{"$f":"IF(BG32=\"\",\"\",INDEX(referentes!$G:$H,MATCH(BG32,referentes!$G:$G,0),2))","v":""},{"$f":"IF(BD32=\"\",\"\",INDEX(referentes!$J:$P,MATCH(BD32,referentes!$J:$J,0),7))","v":""},""]
["19000100",{"$f":"DIGITADOR!$B$2","v":""},0,{"$f":"IF(E33<>\"\",CONCATENATE($A$2,DIGITADOR!$M$1,O33,AH33),\"\")","v":""},null,null,"","",null,null,null,null,"",{"$f":"IF(M33=\"\",\"\",INDEX('OTRAS REFERENTES'!$M:$O,MATCH(M33,'OTRAS REFERENTES'!$M:$M,0),3))","v":""},{"$f":"IF(M33=\"\",\"\",INDEX('OTRAS REFERENTES'!$M:$O,MATCH(M33,'OTRAS REFERENTES'!$M:$M,0),2))","v":""},null,null,null,null,null,null,null,null,null,{"$f":"IF(X33=\"\",\"\",INDEX(referentes!$Y:$Z,MATCH(DATOS!X33,referentes!$Z:$Z,0),))","v":""},null,null,null,null,"OA",null,"SO",null,null,"",null,null,null,null,null,null,null,null,null,null,null,null,null,null,null,null,null,null,29,"",null,{"$f":"IF(BD33=\"\",\"\",INDEX(referentes!$J:$K,MATCH(BD33,referentes!$J:$J,0),2))","v":""},null,null,{"$f":"IF(BG33=\"\",\"\",INDEX(referentes!$G:$H,MATCH(BG33,referentes!$G:$G,0),2))","v":""},{"$f":"IF(BD33=\"\",\"\",INDEX(referentes!$J:$P,MATCH(BD33,referentes!$J:$J,0),7))","v":""},""]
["19000100",{"$f":"DIGITADOR!$B$2","v":""},0,{"$f":"IF(E34<>\"\",CONCATENATE($A$2,DIGITADOR!$M$1,O34,AH34),\"\")","v":""},null,null,"","",null,null,null,null,"",{"$f":"IF(M34=\"\",\"\",INDEX('OTRAS REFERENTES'!$M:$O,MATCH(M34,'OTRAS REFERENTES'!$M:$M,0),3))","v":""},{"$f":"IF(M34=\"\",\"\",INDEX('OTRAS REFERENTES'!$M:$O,MATCH(M34,'OTRAS REFERENTES'!$M:$M,0),2))","v":""},null,null,null,null,null,null,null,null,null,{"$f":"IF(X34=\"\",\"\",INDEX(referentes!$Y:$Z,MATCH(DATOS!X34,referentes!$Z:$Z,0),))","v":""},null,null,null,null,"OA",null,"SO",null,null,"",null,null,null,null,null,null,null,null,null,null,null,null,null,null,null,null,null,null,30,"",null,{"$f":"IF(BD34=\"\",\"\",INDEX(referentes!$J:$K,MATCH(BD34,referentes!$J:$J,0),2))","v":""},null,null,{"$f":"IF(BG34=\"\",\"\",INDEX(referentes!$G:$H,MATCH(BG34,referentes!$G:$G,0),2))","v":""},{"$f":"IF(BD34=\"\",\"\",INDEX(referentes!$J:$P,MATCH(BD34,referentes!$J:$J,0),7))","v":""},""]
["19000100",{"$f":"DIGITADOR!$B$2","v":""},0,{"$f":"IF(E35<>\"\",CONCATENATE($A$2,DIGITADOR!$M$1,O35,AH35),\"\")","v":""},null,null,"","",null,null,null,null,"",{"$f":"IF(M35=\"\",\"\",INDEX('OTRAS REFERENTES'!$M:$O,MATCH(M35,'OTRAS REFERENTES'!$M:$M,0),3))","v":""},{"$f":"IF(M35=\"\",\"\",INDEX('OTRAS REFERENTES'!$M:$O,MATCH(M35,'OTRAS REFERENTES'!$M:$M,0),2))","v":""},null,null,null,null,null,null,null,null,null,{"$f":"IF(X35=\"\",\"\",INDEX(referentes!$Y:$Z,MATCH(DATOS!X35,referentes!$Z:$Z,0),))","v":""},null,null,null,null,"OA",null,"SO",null,null,"",null,null,null,null,null,null,null,null,null,null,null,null,null,null,null,null,null,null,31,"",null,{"$f":"IF(BD35=\"\",\"\",INDEX(referentes!$J:$K,MATCH(BD35,referentes!$J:$J,0),2))","v":""},null,null,{"$f":"IF(BG35=\"\",\"\",INDEX(referentes!$G:$H,MATCH(BG35,referentes!$G:$G,0),2))","v":""},{"$f":"IF(BD35=\"\",\"\",INDEX(referentes!$J:$P,MATCH(BD35,referentes!$J:$J,0),7))","v":""},""]
["19000100",{"$f":"DIGITADOR!$B$2","v":""},0,{"$f":"IF(E36<>\"\",CONCATENATE($A$2,DIGITADOR!$M$1,O36,AH36),\"\")","v":""},null,null,"","",null,null,null,null,"",{"$f":"IF(M36=\"\",\"\",INDEX('OTRAS REFERENTES'!$M:$O,MATCH(M36,'OTRAS REFERENTES'!$M:$M,0),3))","v":""},{"$f":"IF(M36=\"\",\"\",INDEX('OTRAS REFERENTES'!$M:$O,MATCH(M36,'OTRAS REFERENTES'!$M:$M,0),2))","v":""},null,null,null,null,null,null,null,null,null,{"$f":"IF(X36=\"\",\"\",INDEX(referentes!$Y:$Z,MATCH(DATOS!X36,referentes!$Z:$Z,0),))","v":""},null,null,null,null,"OA",null,"SO",null,null,"",null,null,null,null,null,null,null,null,null,null,"",null,"",null,null,null,"",null,32,"",null,{"$f":"IF(BD36=\"\",\"\",INDEX(referentes!$J:$K,MATCH(BD36,referentes!$J:$J,0),2))","v":""},null,null,{"$f":"IF(BG36=\"\",\"\",INDEX(referentes!$G:$H,MATCH(BG36,referentes!$G:$G,0),2))","v":""},{"$f":"IF(BD36=\"\",\"\",INDEX(referentes!$J:$P,MATCH(BD36,referentes!$J:$J,0),7))","v":""},""]
["19000100",{"$f":"DIGITADOR!$B$2","v":""},{"$f":"IF(Z37=Z36,C36,C36+1)","v":0},{"$f":"IF(E37<>\"\",CONCATENATE($A$2,DIGITADOR!$M$1,O37,AH37),\"\")","v":""},null,null,"","",null,null,null,null,"",{"$f":"IF(M37=\"\",\"\",INDEX('OTRAS REFERENTES'!$M:$O,MATCH(M37,'OTRAS REFERENTES'!$M:$M,0),3))","v":""},{"$f":"IF(M37=\"\",\"\",INDEX('OTRAS REFERENTES'!$M:$O,MATCH(M37,'OTRAS REFERENTES'!$M:$M,0),2))","v":""},null,null,null,null,null,null,null,null,null,{"$f":"IF(X37=\"\",\"\",INDEX(referentes!$Y:$Z,MATCH(DATOS!X37,referentes!$Z:$Z,0),))","v":""},null,null,null,null,"OA",null,"SO",null,null,"",null,null,null,null,null,null,null,null,null,null,"",null,"",null,null,null,"",null,33,"",null,{"$f":"IF(BD37=\"\",\"\",INDEX(referentes!$J:$K,MATCH(BD37,referentes!$J:$J,0),2))","v":""},null,null,{"$f":"IF(BG37=\"\",\"\",INDEX(referentes!$G:$H,MATCH(BG37,referentes!$G:$G,0),2))","v":""},{"$f":"IF(BD37=\"\",\"\",INDEX(referentes!$J:$P,MATCH(BD37,referentes!$J:$J,0),7))","v":""},""]
["19000100",{"$f":"DIGITADOR!$B$2","v":""},0,{"$f":"IF(E38<>\"\",CONCATENATE($A$2,DIGITADOR!$M$1,O38,AH38),\"\")","v":""},null,null,"","",null,null,null,null,"",{"$f":"IF(M38=\"\",\"\",INDEX('OTRAS REFERENTES'!$M:$O,MATCH(M38,'OTRAS REFERENTES'!$M:$M,0),3))","v":""},{"$f":"IF(M38=\"\",\"\",INDEX('OTRAS REFERENTES'!$M:$O,MATCH(M38,'OTRAS REFERENTES'!$M:$M,0),2))","v":""},null,null,null,null,null,null,null,null,null,{"$f":"IF(X38=\"\",\"\",INDEX(referentes!$Y:$Z,MATCH(DATOS!X38,referentes!$Z:$Z,0),))","v":""},null,null,null,null,"OA",null,"SO",null,null,"",null,null,null,null,null,null,null,null,null,null,"",null,"",null,null,null,"",null,34,"",null,{"$f":"IF(BD38=\"\",\"\",INDEX(referentes!$J:$K,MATCH(BD38,referentes!$J:$J,0),2))","v":""},null,null,{"$f":"IF(BG38=\"\",\"\",INDEX(referentes!$G:$H,MATCH(BG38,referentes!$G:$G,0),2))","v":""},{"$f":"IF(BD38=\"\",\"\",INDEX(referentes!$J:$P,MATCH(BD38,referentes!$J:$J,0),7))","v":""},""]
["19000100",{"$f":"DIGITADOR!$B$2","v":""},0,{"$f":"IF(E39<>\"\",CONCATENATE($A$2,DIGITADOR!$M$1,O39,AH39),\"\")","v":""},null,null,"","",null,null,null,null,"",{"$f":"IF(M39=\"\",\"\",INDEX('OTRAS REFERENTES'!$M:$O,MATCH(M39,'OTRAS REFERENTES'!$M:$M,0),3))","v":""},{"$f":"IF(M39=\"\",\"\",INDEX('OTRAS REFERENTES'!$M:$O,MATCH(M39,'OTRAS REFERENTES'!$M:$M,0),2))","v":""},null,null,null,null,null,null,null,null,null,{"$f":"IF(X39=\"\",\"\",INDEX(referentes!$Y:$Z,MATCH(DATOS!X39,referentes!$Z:$Z,0),))","v":""},null,null,null,null,"OA",null,"SO",null,null,"",null,null,null,null,null,null,null,null,null,null,"",null,"",null,null,null,"",null,35,"",null,{"$f":"IF(BD39=\"\",\"\",INDEX(referentes!$J:$K,MATCH(BD39,referentes!$J:$J,0),2))","v":""},null,null,{"$f":"IF(BG39=\"\",\"\",INDEX(referentes!$G:$H,MATCH(BG39,referentes!$G:$G,0),2))","v":""},{"$f":"IF(BD39=\"\",\"\",INDEX(referentes!$J:$P,MATCH(BD39,referentes!$J:$J,0),7))","v":""},""]
["19000100",{"$f":"DIGITADOR!$B$2","v":""},0,{"$f":"IF(E40<>\"\",CONCATENATE($A$2,DIGITADOR!$M$1,O40,AH40),\"\")","v":""},null,null,"","",null,null,null,null,"",{"$f":"IF(M40=\"\",\"\",INDEX('OTRAS REFERENTES'!$M:$O,MATCH(M40,'OTRAS REFERENTES'!$M:$M,0),3))","v":""},{"$f":"IF(M40=\"\",\"\",INDEX('OTRAS REFERENTES'!$M:$O,MATCH(M40,'OTRAS REFERENTES'!$M:$M,0),2))","v":""},null,null,null,null,null,null,null,null,null,{"$f":"IF(X40=\"\",\"\",INDEX(referentes!$Y:$Z,MATCH(DATOS!X40,referentes!$Z:$Z,0),))","v":""},null,null,null,null,"OA",null,"SO",null,null,"",null,null,null,null,null,null,null,null,null,null,"",null,"",null,null,null,"",null,36,"",null,{"$f":"IF(BD40=\"\",\"\",INDEX(referentes!$J:$K,MATCH(BD40,referentes!$J:$J,0),2))","v":""},null,null,{"$f":"IF(BG40=\"\",\"\",INDEX(referentes!$G:$H,MATCH(BG40,referentes!$G:$G,0),2))","v":""},{"$f":"IF(BD40=\"\",\"\",INDEX(referentes!$J:$P,MATCH(BD40,referentes!$J:$J,0),7))","v":""},""]
["19000100",{"$f":"DIGITADOR!$B$2","v":""},0,{"$f":"IF(E41<>\"\",CONCATENATE($A$2,DIGITADOR!$M$1,O41,AH41),\"\")","v":""},null,null,"","",null,null,null,null,"",{"$f":"IF(M41=\"\",\"\",INDEX('OTRAS REFERENTES'!$M:$O,MATCH(M41,'OTRAS REFERENTES'!$M:$M,0),3))","v":""},{"$f":"IF(M41=\"\",\"\",INDEX('OTRAS REFERENTES'!$M:$O,MATCH(M41,'OTRAS REFERENTES'!$M:$M,0),2))","v":""},null,null,null,null,null,null,null,null,null,{"$f":"IF(X41=\"\",\"\",INDEX(referentes!$Y:$Z,MATCH(DATOS!X41,referentes!$Z:$Z,0),))","v":""},null,null,null,null,"OA",null,"SO",null,null,"",null,null,null,null,null,null,null,null,null,null,"",null,"",null,null,null,"",null,37,"",null,{"$f":"IF(BD41=\"\",\"\",INDEX(referentes!$J:$K,MATCH(BD41,referentes!$J:$J,0),2))","v":""},null,null,{"$f":"IF(BG41=\"\",\"\",INDEX(referentes!$G:$H,MATCH(BG41,referentes!$G:$G,0),2))","v":""},{"$f":"IF(BD41=\"\",\"\",INDEX(referentes!$J:$P,MATCH(BD41,referentes!$J:$J,0),7))","v":""},""]
["19000100",{"$f":"DIGITADOR!$B$2","v":""},0,{"$f":"IF(E42<>\"\",CONCATENATE($A$2,DIGITADOR!$M$1,O42,AH42),\"\")","v":""},null,null,"","",null,null,null,null,"",{"$f":"IF(M42=\"\",\"\",INDEX('OTRAS REFERENTES'!$M:$O,MATCH(M42,'OTRAS REFERENTES'!$M:$M,0),3))","v":""},{"$f":"IF(M42=\"\",\"\",INDEX('OTRAS REFERENTES'!$M:$O,MATCH(M42,'OTRAS REFERENTES'!$M:$M,0),2))","v":""},null,null,null,null,null,null,null,null,null,{"$f":"IF(X42=\"\",\"\",INDEX(referentes!$Y:$Z,MATCH(DATOS!X42,referentes!$Z:$Z,0),))","v":""},null,null,null,null,"OA",null,"SO",null,null,"",null,null,null,null,null,null,null,null,null,null,"",null,"",null,null,null,"",null,38,"",null,{"$f":"IF(BD42=\"\",\"\",INDEX(referentes!$J:$K,MATCH(BD42,referentes!$J:$J,0),2))","v":""},null,null,{"$f":"IF(BG42=\"\",\"\",INDEX(referentes!$G:$H,MATCH(BG42,referentes!$G:$G,0),2))","v":""},{"$f":"IF(BD42=\"\",\"\",INDEX(referentes!$J:$P,MATCH(BD42,referentes!$J:$J,0),7))","v":""},""]
["19000100",{"$f":"DIGITADOR!$B$2","v":""},0,{"$f":"IF(E43<>\"\",CONCATENATE($A$2,DIGITADOR!$M$1,O43,AH43),\"\")","v":""},null,null,"","",null,null,null,null,"",{"$f":"IF(M43=\"\",\"\",INDEX('OTRAS REFERENTES'!$M:$O,MATCH(M43,'OTRAS REFERENTES'!$M:$M,0),3))","v":""},{"$f":"IF(M43=\"\",\"\",INDEX('OTRAS REFERENTES'!$M:$O,MATCH(M43,'OTRAS REFERENTES'!$M:$M,0),2))","v":""},null,null,null,null,null,null,null,null,null,{"$f":"IF(X43=\"\",\"\",INDEX(referentes!$Y:$Z,MATCH(DATOS!X43,referentes!$Z:$Z,0),))","v":""},null,null,null,null,"OA",null,"SO",null,null,"",null,null,null,null,null,null,null,null,null,null,"",null,"",null,null,null,"",null,39,"",null,{"$f":"IF(BD43=\"\",\"\",INDEX(referentes!$J:$K,MATCH(BD43,referentes!$J:$J,0),2))","v":""},null,null,{"$f":"IF(BG43=\"\",\"\",INDEX(referentes!$G:$H,MATCH(BG43,referentes!$G:$G,0),2))","v":""},{"$f":"IF(BD43=\"\",\"\",INDEX(referentes!$J:$P,MATCH(BD43,referentes!$J:$J,0),7))","v":""},""]
["19000100",{"$f":"DIGITADOR!$B$2","v":""},0,{"$f":"IF(E44<>\"\",CONCATENATE($A$2,DIGITADOR!$M$1,O44,AH44),\"\")","v":""},null,null,"","",null,null,null,null,"",{"$f":"IF(M44=\"\",\"\",INDEX('OTRAS REFERENTES'!$M:$O,MATCH(M44,'OTRAS REFERENTES'!$M:$M,0),3))","v":""},{"$f":"IF(M44=\"\",\"\",INDEX('OTRAS REFERENTES'!$M:$O,MATCH(M44,'OTRAS REFERENTES'!$M:$M,0),2))","v":""},null,null,null,null,null,null,null,null,null,{"$f":"IF(X44=\"\",\"\",INDEX(referentes!$Y:$Z,MATCH(DATOS!X44,referentes!$Z:$Z,0),))","v":""},null,null,null,null,"OA",null,"SO",null,null,"",null,null,null,null,null,null,null,null,null,null,"",null,"",null,null,null,"",null,40,"",null,{"$f":"IF(BD44=\"\",\"\",INDEX(referentes!$J:$K,MATCH(BD44,referentes!$J:$J,0),2))","v":""},null,null,{"$f":"IF(BG44=\"\",\"\",INDEX(referentes!$G:$H,MATCH(BG44,referentes!$G:$G,0),2))","v":""},{"$f":"IF(BD44=\"\",\"\",INDEX(referentes!$J:$P,MATCH(BD44,referentes!$J:$J,0),7))","v":""},""]
["19000100",{"$f":"DIGITADOR!$B$2","v":""},0,{"$f":"IF(E45<>\"\",CONCATENATE($A$2,DIGITADOR!$M$1,O45,AH45),\"\")","v":""},null,null,"","",null,null,null,null,"",{"$f":"IF(M45=\"\",\"\",INDEX('OTRAS REFERENTES'!$M:$O,MATCH(M45,'OTRAS REFERENTES'!$M:$M,0),3))","v":""},{"$f":"IF(M45=\"\",\"\",INDEX('OTRAS REFERENTES'!$M:$O,MATCH(M45,'OTRAS REFERENTES'!$M:$M,0),2))","v":""},null,null,null,null,null,null,null,null,null,{"$f":"IF(X45=\"\",\"\",INDEX(referentes!$Y:$Z,MATCH(DATOS!X45,referentes!$Z:$Z,0),))","v":""},null,null,null,null,"OA",null,"SO",null,null,"",null,null,null,null,null,null,null,null,null,null,{"$f":"IF(AS45<>\"\",VLOOKUP(AS45,#REF!,2,TRUE),\"\")","v":""},null,{"$f":"IF(AU45<>\"\",VLOOKUP(AU45,#REF!,2,FALSE),\"\")","v":""},null,null,null,{"$f":"IF(AY45<>\"\",VLOOKUP(AY45,#REF!,2,TRUE),\"\")","v":""},null,41,"",null,{"$f":"IF(BD45=\"\",\"\",INDEX(referentes!$J:$K,MATCH(BD45,referentes!$J:$J,0),2))","v":""},null,null,{"$f":"IF(BG45=\"\",\"\",INDEX(referentes!$G:$H,MATCH(BG45,referentes!$G:$G,0),2))","v":""},{"$f":"IF(BD45=\"\",\"\",INDEX(referentes!$J:$P,MATCH(BD45,referentes!$J:$J,0),7))","v":""},""]
["19000100",{"$f":"DIGITADOR!$B$2","v":""},0,{"$f":"IF(E46<>\"\",CONCATENATE($A$2,DIGITADOR!$M$1,O46,AH46),\"\")","v":""},null,null,"","",null,null,null,null,"",{"$f":"IF(M46=\"\",\"\",INDEX('OTRAS REFERENTES'!$M:$O,MATCH(M46,'OTRAS REFERENTES'!$M:$M,0),3))","v":""},{"$f":"IF(M46=\"\",\"\",INDEX('OTRAS REFERENTES'!$M:$O,MATCH(M46,'OTRAS REFERENTES'!$M:$M,0),2))","v":""},null,null,null,null,null,null,null,null,null,{"$f":"IF(X46=\"\",\"\",INDEX(referentes!$Y:$Z,MATCH(DATOS!X46,referentes!$Z:$Z,0),))","v":""},null,null,null,null,"OA",null,"SO",null,null,"",null,null,null,null,null,null,null,null,null,null,{"$f":"IF(AS46<>\"\",VLOOKUP(AS46,#REF!,2,TRUE),\"\")","v":""},null,{"$f":"IF(AU46<>\"\",VLOOKUP(AU46,#REF!,2,FALSE),\"\")","v":""},null,null,null,{"$f":"IF(AY46<>\"\",VLOOKUP(AY46,#REF!,2,TRUE),\"\")","v":""},null,42,"",null,{"$f":"IF(BD46=\"\",\"\",INDEX(referentes!$J:$K,MATCH(BD46,referentes!$J:$J,0),2))","v":""},null,null,{"$f":"IF(BG46=\"\",\"\",INDEX(referentes!$G:$H,MATCH(BG46,referentes!$G:$G,0),2))","v":""},{"$f":"IF(BD46=\"\",\"\",INDEX(referentes!$J:$P,MATCH(BD46,referentes!$J:$J,0),7))","v":""},""]
["19000100",{"$f":"DIGITADOR!$B$2","v":""},0,{"$f":"IF(E47<>\"\",CONCATENATE($A$2,DIGITADOR!$M$1,O47,AH47),\"\")","v":""},null,null,"","",null,null,null,null,"",{"$f":"IF(M47=\"\",\"\",INDEX('OTRAS REFERENTES'!$M:$O,MATCH(M47,'OTRAS REFERENTES'!$M:$M,0),3))","v":""},{"$f":"IF(M47=\"\",\"\",INDEX('OTRAS REFERENTES'!$M:$O,MATCH(M47,'OTRAS REFERENTES'!$M:$M,0),2))","v":""},null,null,null,null,null,null,null,null,null,{"$f":"IF(X47=\"\",\"\",INDEX(referentes!$Y:$Z,MATCH(DATOS!X47,referentes!$Z:$Z,0),))","v":""},null,null,null,null,"OA",null,"SO",null,null,"",null,null,null,null,null,null,null,null,null,null,{"$f":"IF(AS47<>\"\",VLOOKUP(AS47,#REF!,2,TRUE),\"\")","v":""},null,{"$f":"IF(AU47<>\"\",VLOOKUP(AU47,#REF!,2,FALSE),\"\")","v":""},null,null,null,{"$f":"IF(AY47<>\"\",VLOOKUP(AY47,#REF!,2,TRUE),\"\")","v":""},null,43,"",null,{"$f":"IF(BD47=\"\",\"\",INDEX(referentes!$J:$K,MATCH(BD47,referentes!$J:$J,0),2))","v":""},null,null,{"$f":"IF(BG47=\"\",\"\",INDEX(referentes!$G:$H,MATCH(BG47,referentes!$G:$G,0),2))","v":""},{"$f":"IF(BD47=\"\",\"\",INDEX(referentes!$J:$P,MATCH(BD47,referentes!$J:$J,0),7))","v":""},""]
["19000100",{"$f":"DIGITADOR!$B$2","v":""},0,{"$f":"IF(E48<>\"\",CONCATENATE($A$2,DIGITADOR!$M$1,O48,AH48),\"\")","v":""},null,null,"","",null,null,null,null,"",{"$f":"IF(M48=\"\",\"\",INDEX('OTRAS REFERENTES'!$M:$O,MATCH(M48,'OTRAS REFERENTES'!$M:$M,0),3))","v":""},{"$f":"IF(M48=\"\",\"\",INDEX('OTRAS REFERENTES'!$M:$O,MATCH(M48,'OTRAS REFERENTES'!$M:$M,0),2))","v":""},null,null,null,null,null,null,null,null,null,{"$f":"IF(X48=\"\",\"\",INDEX(referentes!$Y:$Z,MATCH(DATOS!X48,referentes!$Z:$Z,0),))","v":""},null,null,null,null,"OA",null,"SO",null,null,"",null,null,null,null,null,null,null,null,null,null,{"$f":"IF(AS48<>\"\",VLOOKUP(AS48,#REF!,2,TRUE),\"\")","v":""},null,{"$f":"IF(AU48<>\"\",VLOOKUP(AU48,#REF!,2,FALSE),\"\")","v":""},null,null,null,{"$f":"IF(AY48<>\"\",VLOOKUP(AY48,#REF!,2,TRUE),\"\")","v":""},null,44,"",null,{"$f":"IF(BD48=\"\",\"\",INDEX(referentes!$J:$K,MATCH(BD48,referentes!$J:$J,0),2))","v":""},null,null,{"$f":"IF(BG48=\"\",\"\",INDEX(referentes!$G:$H,MATCH(BG48,referentes!$G:$G,0),2))","v":""},{"$f":"IF(BD48=\"\",\"\",INDEX(referentes!$J:$P,MATCH(BD48,referentes!$J:$J,0),7))","v":""},""]
["19000100",{"$f":"DIGITADOR!$B$2","v":""},0,{"$f":"IF(E49<>\"\",CONCATENATE($A$2,DIGITADOR!$M$1,O49,AH49),\"\")","v":""},null,null,"","",null,null,null,null,"",{"$f":"IF(M49=\"\",\"\",INDEX('OTRAS REFERENTES'!$M:$O,MATCH(M49,'OTRAS REFERENTES'!$M:$M,0),3))","v":""},{"$f":"IF(M49=\"\",\"\",INDEX('OTRAS REFERENTES'!$M:$O,MATCH(M49,'OTRAS REFERENTES'!$M:$M,0),2))","v":""},null,null,null,null,null,null,null,null,null,{"$f":"IF(X49=\"\",\"\",INDEX(referentes!$Y:$Z,MATCH(DATOS!X49,referentes!$Z:$Z,0),))","v":""},null,null,null,null,"OA",null,"SO",null,null,"",null,null,null,null,null,null,null,null,null,null,{"$f":"IF(AS49<>\"\",VLOOKUP(AS49,#REF!,2,TRUE),\"\")","v":""},null,{"$f":"IF(AU49<>\"\",VLOOKUP(AU49,#REF!,2,FALSE),\"\")","v":""},null,null,null,{"$f":"IF(AY49<>\"\",VLOOKUP(AY49,#REF!,2,TRUE),\"\")","v":""},null,45,"",null,{"$f":"IF(BD49=\"\",\"\",INDEX(referentes!$J:$K,MATCH(BD49,referentes!$J:$J,0),2))","v":""},null,null,{"$f":"IF(BG49=\"\",\"\",INDEX(referentes!$G:$H,MATCH(BG49,referentes!$G:$G,0),2))","v":""},{"$f":"IF(BD49=\"\",\"\",INDEX(referentes!$J:$P,MATCH(BD49,referentes!$J:$J,0),7))","v":""},""]
["19000100",{"$f":"DIGITADOR!$B$2","v":""},0,{"$f":"IF(E50<>\"\",CONCATENATE($A$2,DIGITADOR!$M$1,O50,AH50),\"\")","v":""},null,null,"","",null,null,null,null,"",{"$f":"IF(M50=\"\",\"\",INDEX('OTRAS REFERENTES'!$M:$O,MATCH(M50,'OTRAS REFERENTES'!$M:$M,0),3))","v":""},{"$f":"IF(M50=\"\",\"\",INDEX('OTRAS REFERENTES'!$M:$O,MATCH(M50,'OTRAS REFERENTES'!$M:$M,0),2))","v":""},null,null,null,null,null,null,null,null,null,{"$f":"IF(X50=\"\",\"\",INDEX(referentes!$Y:$Z,MATCH(DATOS!X50,referentes!$Z:$Z,0),))","v":""},null,null,null,null,"OA",null,"SO",null,null,"",null,null,null,null,null,null,null,null,null,null,{"$f":"IF(AS50<>\"\",VLOOKUP(AS50,#REF!,2,TRUE),\"\")","v":""},null,{"$f":"IF(AU50<>\"\",VLOOKUP(AU50,#REF!,2,FALSE),\"\")","v":""},null,null,null,{"$f":"IF(AY50<>\"\",VLOOKUP(AY50,#REF!,2,TRUE),\"\")","v":""},null,46,"",null,{"$f":"IF(BD50=\"\",\"\",INDEX(referentes!$J:$K,MATCH(BD50,referentes!$J:$J,0),2))","v":""},null,null,{"$f":"IF(BG50=\"\",\"\",INDEX(referentes!$G:$H,MATCH(BG50,referentes!$G:$G,0),2))","v":""},{"$f":"IF(BD50=\"\",\"\",INDEX(referentes!$J:$P,MATCH(BD50,referentes!$J:$J,0),7))","v":""},""]
["19000100",{"$f":"DIGITADOR!$B$2","v":""},0,{"$f":"IF(E51<>\"\",CONCATENATE($A$2,DIGITADOR!$M$1,O51,AH51),\"\")","v":""},null,null,"","",null,null,null,null,"",{"$f":"IF(M51=\"\",\"\",INDEX('OTRAS REFERENTES'!$M:$O,MATCH(M51,'OTRAS REFERENTES'!$M:$M,0),3))","v":""},{"$f":"IF(M51=\"\",\"\",INDEX('OTRAS REFERENTES'!$M:$O,MATCH(M51,'OTRAS REFERENTES'!$M:$M,0),2))","v":""},null,null,null,null,null,null,null,null,null,{"$f":"IF(X51=\"\",\"\",INDEX(referentes!$Y:$Z,MATCH(DATOS!X51,referentes!$Z:$Z,0),))","v":""},null,null,null,null,"OA",null,"SO",null,null,"",null,null,null,null,null,null,null,null,null,null,{"$f":"IF(AS51<>\"\",VLOOKUP(AS51,#REF!,2,TRUE),\"\")","v":""},null,{"$f":"IF(AU51<>\"\",VLOOKUP(AU51,#REF!,2,FALSE),\"\")","v":""},null,null,null,{"$f":"IF(AY51<>\"\",VLOOKUP(AY51,#REF!,2,TRUE),\"\")","v":""},null,47,"",null,{"$f":"IF(BD51=\"\",\"\",INDEX(referentes!$J:$K,MATCH(BD51,referentes!$J:$J,0),2))","v":""},null,null,{"$f":"IF(BG51=\"\",\"\",INDEX(referentes!$G:$H,MATCH(BG51,referentes!$G:$G,0),2))","v":""},{"$f":"IF(BD51=\"\",\"\",INDEX(referentes!$J:$P,MATCH(BD51,referentes!$J:$J,0),7))","v":""},""]
["19000100",{"$f":"DIGITADOR!$B$2","v":""},0,{"$f":"IF(E52<>\"\",CONCATENATE($A$2,DIGITADOR!$M$1,O52,AH52),\"\")","v":""},null,null,"","",null,null,null,null,"",{"$f":"IF(M52=\"\",\"\",INDEX('OTRAS REFERENTES'!$M:$O,MATCH(M52,'OTRAS REFERENTES'!$M:$M,0),3))","v":""},{"$f":"IF(M52=\"\",\"\",INDEX('OTRAS REFERENTES'!$M:$O,MATCH(M52,'OTRAS REFERENTES'!$M:$M,0),2))","v":""},null,null,null,null,null,null,null,null,null,{"$f":"IF(X52=\"\",\"\",INDEX(referentes!$Y:$Z,MATCH(DATOS!X52,referentes!$Z:$Z,0),))","v":""},null,null,null,null,"OA",null,"SO",null,null,"",null,null,null,null,null,null,null,null,null,null,{"$f":"IF(AS52<>\"\",VLOOKUP(AS52,#REF!,2,TRUE),\"\")","v":""},null,{"$f":"IF(AU52<>\"\",VLOOKUP(AU52,#REF!,2,FALSE),\"\")","v":""},null,null,null,{"$f":"IF(AY52<>\"\",VLOOKUP(AY52,#REF!,2,TRUE),\"\")","v":""},null,48,"",null,{"$f":"IF(BD52=\"\",\"\",INDEX(referentes!$J:$K,MATCH(BD52,referentes!$J:$J,0),2))","v":""},null,null,{"$f":"IF(BG52=\"\",\"\",INDEX(referentes!$G:$H,MATCH(BG52,referentes!$G:$G,0),2))","v":""},{"$f":"IF(BD52=\"\",\"\",INDEX(referentes!$J:$P,MATCH(BD52,referentes!$J:$J,0),7))","v":""},""]
["19000100",{"$f":"DIGITADOR!$B$2","v":""},0,{"$f":"IF(E53<>\"\",CONCATENATE($A$2,DIGITADOR!$M$1,O53,AH53),\"\")","v":""},null,null,"","",null,null,null,null,"",{"$f":"IF(M53=\"\",\"\",INDEX('OTRAS REFERENTES'!$M:$O,MATCH(M53,'OTRAS REFERENTES'!$M:$M,0),3))","v":""},{"$f":"IF(M53=\"\",\"\",INDEX('OTRAS REFERENTES'!$M:$O,MATCH(M53,'OTRAS REFERENTES'!$M:$M,0),2))","v":""},null,null,null,null,null,null,null,null,null,{"$f":"IF(X53=\"\",\"\",INDEX(referentes!$Y:$Z,MATCH(DATOS!X53,referentes!$Z:$Z,0),))","v":""},null,null,null,null,"OA",null,"SO",null,null,"",null,null,null,null,null,null,null,null,null,null,{"$f":"IF(AS53<>\"\",VLOOKUP(AS53,#REF!,2,TRUE),\"\")","v":""},null,{"$f":"IF(AU53<>\"\",VLOOKUP(AU53,#REF!,2,FALSE),\"\")","v":""},null,null,null,{"$f":"IF(AY53<>\"\",VLOOKUP(AY53,#REF!,2,TRUE),\"\")","v":""},null,49,"",null,{"$f":"IF(BD53=\"\",\"\",INDEX(referentes!$J:$K,MATCH(BD53,referentes!$J:$J,0),2))","v":""},null,null,{"$f":"IF(BG53=\"\",\"\",INDEX(referentes!$G:$H,MATCH(BG53,referentes!$G:$G,0),2))","v":""},{"$f":"IF(BD53=\"\",\"\",INDEX(referentes!$J:$P,MATCH(BD53,referentes!$J:$J,0),7))","v":""},""]
["19000100",{"$f":"DIGITADOR!$B$2","v":""},0,{"$f":"IF(E54<>\"\",CONCATENATE($A$2,DIGITADOR!$M$1,O54,AH54),\"\")","v":""},null,null,"","",null,null,null,null,"",{"$f":"IF(M54=\"\",\"\",INDEX('OTRAS REFERENTES'!$M:$O,MATCH(M54,'OTRAS REFERENTES'!$M:$M,0),3))","v":""},{"$f":"IF(M54=\"\",\"\",INDEX('OTRAS REFERENTES'!$M:$O,MATCH(M54,'OTRAS REFERENTES'!$M:$M,0),2))","v":""},null,null,null,null,null,null,null,null,null,{"$f":"IF(X54=\"\",\"\",INDEX(referentes!$Y:$Z,MATCH(DATOS!X54,referentes!$Z:$Z,0),))","v":""},null,null,null,null,"OA",null,"SO",null,null,"",null,null,null,null,null,null,null,null,null,null,{"$f":"IF(AS54<>\"\",VLOOKUP(AS54,#REF!,2,TRUE),\"\")","v":""},null,{"$f":"IF(AU54<>\"\",VLOOKUP(AU54,#REF!,2,FALSE),\"\")","v":""},null,null,null,{"$f":"IF(AY54<>\"\",VLOOKUP(AY54,#REF!,2,TRUE),\"\")","v":""},null,50,"",null,{"$f":"IF(BD54=\"\",\"\",INDEX(referentes!$J:$K,MATCH(BD54,referentes!$J:$J,0),2))","v":""},null,null,{"$f":"IF(BG54=\"\",\"\",INDEX(referentes!$G:$H,MATCH(BG54,referentes!$G:$G,0),2))","v":""},{"$f":"IF(BD54=\"\",\"\",INDEX(referentes!$J:$P,MATCH(BD54,referentes!$J:$J,0),7))","v":""},""]
["19000100",{"$f":"DIGITADOR!$B$2","v":""},0,{"$f":"IF(E55<>\"\",CONCATENATE($A$2,DIGITADOR!$M$1,O55,AH55),\"\")","v":""},null,null,"","",null,null,null,null,"",{"$f":"IF(M55=\"\",\"\",INDEX('OTRAS REFERENTES'!$M:$O,MATCH(M55,'OTRAS REFERENTES'!$M:$M,0),3))","v":""},{"$f":"IF(M55=\"\",\"\",INDEX('OTRAS REFERENTES'!$M:$O,MATCH(M55,'OTRAS REFERENTES'!$M:$M,0),2))","v":""},null,null,null,null,null,null,null,null,null,{"$f":"IF(X55=\"\",\"\",INDEX(referentes!$Y:$Z,MATCH(DATOS!X55,referentes!$Z:$Z,0),))","v":""},null,null,null,null,"OA",null,"SO",null,null,"",null,null,null,null,null,null,null,null,null,null,{"$f":"IF(AS55<>\"\",VLOOKUP(AS55,#REF!,2,TRUE),\"\")","v":""},null,{"$f":"IF(AU55<>\"\",VLOOKUP(AU55,#REF!,2,FALSE),\"\")","v":""},null,null,null,{"$f":"IF(AY55<>\"\",VLOOKUP(AY55,#REF!,2,TRUE),\"\")","v":""},null,51,"",null,{"$f":"IF(BD55=\"\",\"\",INDEX(referentes!$J:$K,MATCH(BD55,referentes!$J:$J,0),2))","v":""},null,null,{"$f":"IF(BG55=\"\",\"\",INDEX(referentes!$G:$H,MATCH(BG55,referentes!$G:$G,0),2))","v":""},{"$f":"IF(BD55=\"\",\"\",INDEX(referentes!$J:$P,MATCH(BD55,referentes!$J:$J,0),7))","v":""},""]
["19000100",{"$f":"DIGITADOR!$B$2","v":""},0,{"$f":"IF(E56<>\"\",CONCATENATE($A$2,DIGITADOR!$M$1,O56,AH56),\"\")","v":""},null,null,"","",null,null,null,null,"",{"$f":"IF(M56=\"\",\"\",INDEX('OTRAS REFERENTES'!$M:$O,MATCH(M56,'OTRAS REFERENTES'!$M:$M,0),3))","v":""},{"$f":"IF(M56=\"\",\"\",INDEX('OTRAS REFERENTES'!$M:$O,MATCH(M56,'OTRAS REFERENTES'!$M:$M,0),2))","v":""},null,null,null,null,null,null,null,null,null,{"$f":"IF(X56=\"\",\"\",INDEX(referentes!$Y:$Z,MATCH(DATOS!X56,referentes!$Z:$Z,0),))","v":""},null,null,null,null,"OA",null,"SO",null,null,"",null,null,null,null,null,null,null,null,null,null,{"$f":"IF(AS56<>\"\",VLOOKUP(AS56,#REF!,2,TRUE),\"\")","v":""},null,{"$f":"IF(AU56<>\"\",VLOOKUP(AU56,#REF!,2,FALSE),\"\")","v":""},null,null,null,{"$f":"IF(AY56<>\"\",VLOOKUP(AY56,#REF!,2,TRUE),\"\")","v":""},null,52,"",null,{"$f":"IF(BD56=\"\",\"\",INDEX(referentes!$J:$K,MATCH(BD56,referentes!$J:$J,0),2))","v":""},null,null,{"$f":"IF(BG56=\"\",\"\",INDEX(referentes!$G:$H,MATCH(BG56,referentes!$G:$G,0),2))","v":""},{"$f":"IF(BD56=\"\",\"\",INDEX(referentes!$J:$P,MATCH(BD56,referentes!$J:$J,0),7))","v":""},""]
["19000100",{"$f":"DIGITADOR!$B$2","v":""},0,{"$f":"IF(E57<>\"\",CONCATENATE($A$2,DIGITADOR!$M$1,O57,AH57),\"\")","v":""},null,null,"","",null,null,null,null,"",{"$f":"IF(M57=\"\",\"\",INDEX('OTRAS REFERENTES'!$M:$O,MATCH(M57,'OTRAS REFERENTES'!$M:$M,0),3))","v":""},{"$f":"IF(M57=\"\",\"\",INDEX('OTRAS REFERENTES'!$M:$O,MATCH(M57,'OTRAS REFERENTES'!$M:$M,0),2))","v":""},null,null,null,null,null,null,null,null,null,{"$f":"IF(X57=\"\",\"\",INDEX(referentes!$Y:$Z,MATCH(DATOS!X57,referentes!$Z:$Z,0),))","v":""},null,null,null,null,"OA",null,"SO",null,null,"",null,null,null,null,null,null,null,null,null,null,{"$f":"IF(AS57<>\"\",VLOOKUP(AS57,#REF!,2,TRUE),\"\")","v":""},null,{"$f":"IF(AU57<>\"\",VLOOKUP(AU57,#REF!,2,FALSE),\"\")","v":""},null,null,null,{"$f":"IF(AY57<>\"\",VLOOKUP(AY57,#REF!,2,TRUE),\"\")","v":""},null,53,"",null,{"$f":"IF(BD57=\"\",\"\",INDEX(referentes!$J:$K,MATCH(BD57,referentes!$J:$J,0),2))","v":""},null,null,{"$f":"IF(BG57=\"\",\"\",INDEX(referentes!$G:$H,MATCH(BG57,referentes!$G:$G,0),2))","v":""},{"$f":"IF(BD57=\"\",\"\",INDEX(referentes!$J:$P,MATCH(BD57,referentes!$J:$J,0),7))","v":""},""]
["19000100",{"$f":"DIGITADOR!$B$2","v":""},0,{"$f":"IF(E58<>\"\",CONCATENATE($A$2,DIGITADOR!$M$1,O58,AH58),\"\")","v":""},null,null,"","",null,null,null,null,"",{"$f":"IF(M58=\"\",\"\",INDEX('OTRAS REFERENTES'!$M:$O,MATCH(M58,'OTRAS REFERENTES'!$M:$M,0),3))","v":""},{"$f":"IF(M58=\"\",\"\",INDEX('OTRAS REFERENTES'!$M:$O,MATCH(M58,'OTRAS REFERENTES'!$M:$M,0),2))","v":""},null,null,null,null,null,null,null,null,null,{"$f":"IF(X58=\"\",\"\",INDEX(referentes!$Y:$Z,MATCH(DATOS!X58,referentes!$Z:$Z,0),))","v":""},null,null,null,null,"OA",null,"SO",null,null,"",null,null,null,null,null,null,null,null,null,null,{"$f":"IF(AS58<>\"\",VLOOKUP(AS58,#REF!,2,TRUE),\"\")","v":""},null,{"$f":"IF(AU58<>\"\",VLOOKUP(AU58,#REF!,2,FALSE),\"\")","v":""},null,null,null,{"$f":"IF(AY58<>\"\",VLOOKUP(AY58,#REF!,2,TRUE),\"\")","v":""},null,54,"",null,{"$f":"IF(BD58=\"\",\"\",INDEX(referentes!$J:$K,MATCH(BD58,referentes!$J:$J,0),2))","v":""},null,null,{"$f":"IF(BG58=\"\",\"\",INDEX(referentes!$G:$H,MATCH(BG58,referentes!$G:$G,0),2))","v":""},{"$f":"IF(BD58=\"\",\"\",INDEX(referentes!$J:$P,MATCH(BD58,referentes!$J:$J,0),7))","v":""},""]
["19000100",{"$f":"DIGITADOR!$B$2","v":""},0,{"$f":"IF(E59<>\"\",CONCATENATE($A$2,DIGITADOR!$M$1,O59,AH59),\"\")","v":""},null,null,"","",null,null,null,null,"",{"$f":"IF(M59=\"\",\"\",INDEX('OTRAS REFERENTES'!$M:$O,MATCH(M59,'OTRAS REFERENTES'!$M:$M,0),3))","v":""},{"$f":"IF(M59=\"\",\"\",INDEX('OTRAS REFERENTES'!$M:$O,MATCH(M59,'OTRAS REFERENTES'!$M:$M,0),2))","v":""},null,null,null,null,null,null,null,null,null,{"$f":"IF(X59=\"\",\"\",INDEX(referentes!$Y:$Z,MATCH(DATOS!X59,referentes!$Z:$Z,0),))","v":""},null,null,null,null,"OA",null,"SO",null,null,"",null,null,null,null,null,null,null,null,null,null,{"$f":"IF(AS59<>\"\",VLOOKUP(AS59,#REF!,2,TRUE),\"\")","v":""},null,{"$f":"IF(AU59<>\"\",VLOOKUP(AU59,#REF!,2,FALSE),\"\")","v":""},null,null,null,{"$f":"IF(AY59<>\"\",VLOOKUP(AY59,#REF!,2,TRUE),\"\")","v":""},null,55,"",null,{"$f":"IF(BD59=\"\",\"\",INDEX(referentes!$J:$K,MATCH(BD59,referentes!$J:$J,0),2))","v":""},null,null,{"$f":"IF(BG59=\"\",\"\",INDEX(referentes!$G:$H,MATCH(BG59,referentes!$G:$G,0),2))","v":""},{"$f":"IF(BD59=\"\",\"\",INDEX(referentes!$J:$P,MATCH(BD59,referentes!$J:$J,0),7))","v":""},""]
["19000100",{"$f":"DIGITADOR!$B$2","v":""},0,{"$f":"IF(E60<>\"\",CONCATENATE($A$2,DIGITADOR!$M$1,O60,AH60),\"\")","v":""},null,null,"","",null,null,null,null,"",{"$f":"IF(M60=\"\",\"\",INDEX('OTRAS REFERENTES'!$M:$O,MATCH(M60,'OTRAS REFERENTES'!$M:$M,0),3))","v":""},{"$f":"IF(M60=\"\",\"\",INDEX('OTRAS REFERENTES'!$M:$O,MATCH(M60,'OTRAS REFERENTES'!$M:$M,0),2))","v":""},null,null,null,null,null,null,null,null,null,{"$f":"IF(X60=\"\",\"\",INDEX(referentes!$Y:$Z,MATCH(DATOS!X60,referentes!$Z:$Z,0),))","v":""},null,null,null,null,"OA",null,"SO",null,null,"",null,null,null,null,null,null,null,null,null,null,{"$f":"IF(AS60<>\"\",VLOOKUP(AS60,#REF!,2,TRUE),\"\")","v":""},null,{"$f":"IF(AU60<>\"\",VLOOKUP(AU60,#REF!,2,FALSE),\"\")","v":""},null,null,null,{"$f":"IF(AY60<>\"\",VLOOKUP(AY60,#REF!,2,TRUE),\"\")","v":""},null,56,"",null,{"$f":"IF(BD60=\"\",\"\",INDEX(referentes!$J:$K,MATCH(BD60,referentes!$J:$J,0),2))","v":""},null,null,{"$f":"IF(BG60=\"\",\"\",INDEX(referentes!$G:$H,MATCH(BG60,referentes!$G:$G,0),2))","v":""},{"$f":"IF(BD60=\"\",\"\",INDEX(referentes!$J:$P,MATCH(BD60,referentes!$J:$J,0),7))","v":""},""]
["19000100",{"$f":"DIGITADOR!$B$2","v":""},0,{"$f":"IF(E61<>\"\",CONCATENATE($A$2,DIGITADOR!$M$1,O61,AH61),\"\")","v":""},null,null,"","",null,null,null,null,"",{"$f":"IF(M61=\"\",\"\",INDEX('OTRAS REFERENTES'!$M:$O,MATCH(M61,'OTRAS REFERENTES'!$M:$M,0),3))","v":""},{"$f":"IF(M61=\"\",\"\",INDEX('OTRAS REFERENTES'!$M:$O,MATCH(M61,'OTRAS REFERENTES'!$M:$M,0),2))","v":""},null,null,null,null,null,null,null,null,null,{"$f":"IF(X61=\"\",\"\",INDEX(referentes!$Y:$Z,MATCH(DATOS!X61,referentes!$Z:$Z,0),))","v":""},null,null,null,null,"OA",null,"SO",null,null,"",null,null,null,null,null,null,null,null,null,null,{"$f":"IF(AS61<>\"\",VLOOKUP(AS61,#REF!,2,TRUE),\"\")","v":""},null,{"$f":"IF(AU61<>\"\",VLOOKUP(AU61,#REF!,2,FALSE),\"\")","v":""},null,null,null,{"$f":"IF(AY61<>\"\",VLOOKUP(AY61,#REF!,2,TRUE),\"\")","v":""},null,57,"",null,{"$f":"IF(BD61=\"\",\"\",INDEX(referentes!$J:$K,MATCH(BD61,referentes!$J:$J,0),2))","v":""},null,null,{"$f":"IF(BG61=\"\",\"\",INDEX(referentes!$G:$H,MATCH(BG61,referentes!$G:$G,0),2))","v":""},{"$f":"IF(BD61=\"\",\"\",INDEX(referentes!$J:$P,MATCH(BD61,referentes!$J:$J,0),7))","v":""},""]
["19000100",{"$f":"DIGITADOR!$B$2","v":""},0,{"$f":"IF(E62<>\"\",CONCATENATE($A$2,DIGITADOR!$M$1,O62,AH62),\"\")","v":""},null,null,"","",null,null,null,null,"",{"$f":"IF(M62=\"\",\"\",INDEX('OTRAS REFERENTES'!$M:$O,MATCH(M62,'OTRAS REFERENTES'!$M:$M,0),3))","v":""},{"$f":"IF(M62=\"\",\"\",INDEX('OTRAS REFERENTES'!$M:$O,MATCH(M62,'OTRAS REFERENTES'!$M:$M,0),2))","v":""},null,null,null,null,null,null,null,null,null,{"$f":"IF(X62=\"\",\"\",INDEX(referentes!$Y:$Z,MATCH(DATOS!X62,referentes!$Z:$Z,0),))","v":""},null,null,null,null,"OA",null,"SO",null,null,"",null,null,null,null,null,null,null,null,null,null,{"$f":"IF(AS62<>\"\",VLOOKUP(AS62,#REF!,2,TRUE),\"\")","v":""},null,{"$f":"IF(AU62<>\"\",VLOOKUP(AU62,#REF!,2,FALSE),\"\")","v":""},null,null,null,{"$f":"IF(AY62<>\"\",VLOOKUP(AY62,#REF!,2,TRUE),\"\")","v":""},null,58,"",null,{"$f":"IF(BD62=\"\",\"\",INDEX(referentes!$J:$K,MATCH(BD62,referentes!$J:$J,0),2))","v":""},null,null,{"$f":"IF(BG62=\"\",\"\",INDEX(referentes!$G:$H,MATCH(BG62,referentes!$G:$G,0),2))","v":""},{"$f":"IF(BD62=\"\",\"\",INDEX(referentes!$J:$P,MATCH(BD62,referentes!$J:$J,0),7))","v":""},""]
["19000100",{"$f":"DIGITADOR!$B$2","v":""},0,{"$f":"IF(E63<>\"\",CONCATENATE($A$2,DIGITADOR!$M$1,O63,AH63),\"\")","v":""},null,null,"","",null,null,null,null,"",{"$f":"IF(M63=\"\",\"\",INDEX('OTRAS REFERENTES'!$M:$O,MATCH(M63,'OTRAS REFERENTES'!$M:$M,0),3))","v":""},{"$f":"IF(M63=\"\",\"\",INDEX('OTRAS REFERENTES'!$M:$O,MATCH(M63,'OTRAS REFERENTES'!$M:$M,0),2))","v":""},null,null,null,null,null,null,null,null,null,{"$f":"IF(X63=\"\",\"\",INDEX(referentes!$Y:$Z,MATCH(DATOS!X63,referentes!$Z:$Z,0),))","v":""},null,null,null,null,"OA",null,"SO",null,null,"",null,null,null,null,null,null,null,null,null,null,{"$f":"IF(AS63<>\"\",VLOOKUP(AS63,#REF!,2,TRUE),\"\")","v":""},null,{"$f":"IF(AU63<>\"\",VLOOKUP(AU63,#REF!,2,FALSE),\"\")","v":""},null,null,null,{"$f":"IF(AY63<>\"\",VLOOKUP(AY63,#REF!,2,TRUE),\"\")","v":""},null,59,"",null,{"$f":"IF(BD63=\"\",\"\",INDEX(referentes!$J:$K,MATCH(BD63,referentes!$J:$J,0),2))","v":""},null,null,{"$f":"IF(BG63=\"\",\"\",INDEX(referentes!$G:$H,MATCH(BG63,referentes!$G:$G,0),2))","v":""},{"$f":"IF(BD63=\"\",\"\",INDEX(referentes!$J:$P,MATCH(BD63,referentes!$J:$J,0),7))","v":""},""]
["19000100",{"$f":"DIGITADOR!$B$2","v":""},0,{"$f":"IF(E64<>\"\",CONCATENATE($A$2,DIGITADOR!$M$1,O64,AH64),\"\")","v":""},null,null,"","",null,null,null,null,"",{"$f":"IF(M64=\"\",\"\",INDEX('OTRAS REFERENTES'!$M:$O,MATCH(M64,'OTRAS REFERENTES'!$M:$M,0),3))","v":""},{"$f":"IF(M64=\"\",\"\",INDEX('OTRAS REFERENTES'!$M:$O,MATCH(M64,'OTRAS REFERENTES'!$M:$M,0),2))","v":""},null,null,null,null,null,null,null,null,null,{"$f":"IF(X64=\"\",\"\",INDEX(referentes!$Y:$Z,MATCH(DATOS!X64,referentes!$Z:$Z,0),))","v":""},null,null,null,null,"OA",null,"SO",null,null,"",null,null,null,null,null,null,null,null,null,null,{"$f":"IF(AS64<>\"\",VLOOKUP(AS64,#REF!,2,TRUE),\"\")","v":""},null,{"$f":"IF(AU64<>\"\",VLOOKUP(AU64,#REF!,2,FALSE),\"\")","v":""},null,null,null,{"$f":"IF(AY64<>\"\",VLOOKUP(AY64,#REF!,2,TRUE),\"\")","v":""},null,60,"",null,{"$f":"IF(BD64=\"\",\"\",INDEX(referentes!$J:$K,MATCH(BD64,referentes!$J:$J,0),2))","v":""},null,null,{"$f":"IF(BG64=\"\",\"\",INDEX(referentes!$G:$H,MATCH(BG64,referentes!$G:$G,0),2))","v":""},{"$f":"IF(BD64=\"\",\"\",INDEX(referentes!$J:$P,MATCH(BD64,referentes!$J:$J,0),7))","v":""},""]
["19000100",{"$f":"DIGITADOR!$B$2","v":""},0,{"$f":"IF(E65<>\"\",CONCATENATE($A$2,DIGITADOR!$M$1,O65,AH65),\"\")","v":""},null,null,"","",null,null,null,null,"",{"$f":"IF(M65=\"\",\"\",INDEX('OTRAS REFERENTES'!$M:$O,MATCH(M65,'OTRAS REFERENTES'!$M:$M,0),3))","v":""},{"$f":"IF(M65=\"\",\"\",INDEX('OTRAS REFERENTES'!$M:$O,MATCH(M65,'OTRAS REFERENTES'!$M:$M,0),2))","v":""},null,null,null,null,null,null,null,null,null,{"$f":"IF(X65=\"\",\"\",INDEX(referentes!$Y:$Z,MATCH(DATOS!X65,referentes!$Z:$Z,0),))","v":""},null,null,null,null,"OA",null,"SO",null,null,"",null,null,null,null,null,null,null,null,null,null,{"$f":"IF(AS65<>\"\",VLOOKUP(AS65,#REF!,2,TRUE),\"\")","v":""},null,{"$f":"IF(AU65<>\"\",VLOOKUP(AU65,#REF!,2,FALSE),\"\")","v":""},null,null,null,{"$f":"IF(AY65<>\"\",VLOOKUP(AY65,#REF!,2,TRUE),\"\")","v":""},null,61,"",null,{"$f":"IF(BD65=\"\",\"\",INDEX(referentes!$J:$K,MATCH(BD65,referentes!$J:$J,0),2))","v":""},null,null,{"$f":"IF(BG65=\"\",\"\",INDEX(referentes!$G:$H,MATCH(BG65,referentes!$G:$G,0),2))","v":""},{"$f":"IF(BD65=\"\",\"\",INDEX(referentes!$J:$P,MATCH(BD65,referentes!$J:$J,0),7))","v":""},""]
["19000100",{"$f":"DIGITADOR!$B$2","v":""},0,{"$f":"IF(E66<>\"\",CONCATENATE($A$2,DIGITADOR!$M$1,O66,AH66),\"\")","v":""},null,null,"","",null,null,null,null,"",{"$f":"IF(M66=\"\",\"\",INDEX('OTRAS REFERENTES'!$M:$O,MATCH(M66,'OTRAS REFERENTES'!$M:$M,0),3))","v":""},{"$f":"IF(M66=\"\",\"\",INDEX('OTRAS REFERENTES'!$M:$O,MATCH(M66,'OTRAS REFERENTES'!$M:$M,0),2))","v":""},null,null,null,null,null,null,null,null,null,{"$f":"IF(X66=\"\",\"\",INDEX(referentes!$Y:$Z,MATCH(DATOS!X66,referentes!$Z:$Z,0),))","v":""},null,null,null,null,"OA",null,"SO",null,null,"",null,null,null,null,null,null,null,null,null,null,{"$f":"IF(AS66<>\"\",VLOOKUP(AS66,#REF!,2,TRUE),\"\")","v":""},null,{"$f":"IF(AU66<>\"\",VLOOKUP(AU66,#REF!,2,FALSE),\"\")","v":""},null,null,null,{"$f":"IF(AY66<>\"\",VLOOKUP(AY66,#REF!,2,TRUE),\"\")","v":""},null,62,"",null,{"$f":"IF(BD66=\"\",\"\",INDEX(referentes!$J:$K,MATCH(BD66,referentes!$J:$J,0),2))","v":""},null,null,{"$f":"IF(BG66=\"\",\"\",INDEX(referentes!$G:$H,MATCH(BG66,referentes!$G:$G,0),2))","v":""},{"$f":"IF(BD66=\"\",\"\",INDEX(referentes!$J:$P,MATCH(BD66,referentes!$J:$J,0),7))","v":""},""]
["19000100",{"$f":"DIGITADOR!$B$2","v":""},0,{"$f":"IF(E67<>\"\",CONCATENATE($A$2,DIGITADOR!$M$1,O67,AH67),\"\")","v":""},null,null,"","",null,null,null,null,"",{"$f":"IF(M67=\"\",\"\",INDEX('OTRAS REFERENTES'!$M:$O,MATCH(M67,'OTRAS REFERENTES'!$M:$M,0),3))","v":""},{"$f":"IF(M67=\"\",\"\",INDEX('OTRAS REFERENTES'!$M:$O,MATCH(M67,'OTRAS REFERENTES'!$M:$M,0),2))","v":""},null,null,null,null,null,null,null,null,null,{"$f":"IF(X67=\"\",\"\",INDEX(referentes!$Y:$Z,MATCH(DATOS!X67,referentes!$Z:$Z,0),))","v":""},null,null,null,null,"OA",null,"SO",null,null,"",null,null,null,null,null,null,null,null,null,null,{"$f":"IF(AS67<>\"\",VLOOKUP(AS67,#REF!,2,TRUE),\"\")","v":""},null,{"$f":"IF(AU67<>\"\",VLOOKUP(AU67,#REF!,2,FALSE),\"\")","v":""},null,null,null,{"$f":"IF(AY67<>\"\",VLOOKUP(AY67,#REF!,2,TRUE),\"\")","v":""},null,63,"",null,{"$f":"IF(BD67=\"\",\"\",INDEX(referentes!$J:$K,MATCH(BD67,referentes!$J:$J,0),2))","v":""},null,null,{"$f":"IF(BG67=\"\",\"\",INDEX(referentes!$G:$H,MATCH(BG67,referentes!$G:$G,0),2))","v":""},{"$f":"IF(BD67=\"\",\"\",INDEX(referentes!$J:$P,MATCH(BD67,referentes!$J:$J,0),7))","v":""},""]
["19000100",{"$f":"DIGITADOR!$B$2","v":""},0,{"$f":"IF(E68<>\"\",CONCATENATE($A$2,DIGITADOR!$M$1,O68,AH68),\"\")","v":""},null,null,"","",null,null,null,null,"",{"$f":"IF(M68=\"\",\"\",INDEX('OTRAS REFERENTES'!$M:$O,MATCH(M68,'OTRAS REFERENTES'!$M:$M,0),3))","v":""},{"$f":"IF(M68=\"\",\"\",INDEX('OTRAS REFERENTES'!$M:$O,MATCH(M68,'OTRAS REFERENTES'!$M:$M,0),2))","v":""},null,null,null,null,null,null,null,null,null,{"$f":"IF(X68=\"\",\"\",INDEX(referentes!$Y:$Z,MATCH(DATOS!X68,referentes!$Z:$Z,0),))","v":""},null,null,null,null,"OA",null,"SO",null,null,"",null,null,null,null,null,null,null,null,null,null,{"$f":"IF(AS68<>\"\",VLOOKUP(AS68,#REF!,2,TRUE),\"\")","v":""},null,{"$f":"IF(AU68<>\"\",VLOOKUP(AU68,#REF!,2,FALSE),\"\")","v":""},null,null,null,{"$f":"IF(AY68<>\"\",VLOOKUP(AY68,#REF!,2,TRUE),\"\")","v":""},null,64,"",null,{"$f":"IF(BD68=\"\",\"\",INDEX(referentes!$J:$K,MATCH(BD68,referentes!$J:$J,0),2))","v":""},null,null,{"$f":"IF(BG68=\"\",\"\",INDEX(referentes!$G:$H,MATCH(BG68,referentes!$G:$G,0),2))","v":""},{"$f":"IF(BD68=\"\",\"\",INDEX(referentes!$J:$P,MATCH(BD68,referentes!$J:$J,0),7))","v":""},""]
["19000100",{"$f":"DIGITADOR!$B$2","v":""},{"$f":"IF(Z69=Z68,C68,C68+1)","v":0},{"$f":"IF(E69<>\"\",CONCATENATE($A$2,DIGITADOR!$M$1,O69,AH69),\"\")","v":""},null,null,"",{"$f":"IF(G69<>\"\",MONTH(G69),\"\")","v":""},null,null,null,null,"",{"$f":"IF(M69=\"\",\"\",INDEX('OTRAS REFERENTES'!$M:$O,MATCH(M69,'OTRAS REFERENTES'!$M:$M,0),3))","v":""},{"$f":"IF(M69=\"\",\"\",INDEX('OTRAS REFERENTES'!$M:$O,MATCH(M69,'OTRAS REFERENTES'!$M:$M,0),2))","v":""},null,null,null,null,null,null,null,null,null,{"$f":"IF(X69=\"\",\"\",INDEX(referentes!$Y:$Z,MATCH(DATOS!X69,referentes!$Z:$Z,0),))","v":""},null,null,null,null,"OA",null,"SO",null,null,"",null,null,null,null,null,null,null,null,null,null,{"$f":"IF(AS69<>\"\",VLOOKUP(AS69,#REF!,2,TRUE),\"\")","v":""},null,{"$f":"IF(AU69<>\"\",VLOOKUP(AU69,#REF!,2,FALSE),\"\")","v":""},null,null,null,{"$f":"IF(AY69<>\"\",VLOOKUP(AY69,#REF!,2,TRUE),\"\")","v":""},null,65,"",null,{"$f":"IF(BD69=\"\",\"\",INDEX(referentes!$J:$K,MATCH(BD69,referentes!$J:$J,0),2))","v":""},null,null,{"$f":"IF(BG69=\"\",\"\",INDEX(referentes!$G:$H,MATCH(BG69,referentes!$G:$G,0),2))","v":""},{"$f":"IF(BD69=\"\",\"\",INDEX(referentes!$J:$P,MATCH(BD69,referentes!$J:$J,0),7))","v":""},""]
[{"$f":"A69","v":"19000100"},{"$f":"DIGITADOR!$B$2","v":""},0,{"$f":"IF(E70<>\"\",CONCATENATE($A$2,DIGITADOR!$M$1,O70,AH70),\"\")","v":""},null,null,{"$f":"IF(E70=\"\",\"\",E70+F70)","v":""},"",null,null,null,null,{"$f":"IF(L70<>\"\",CONCATENATE(J70,L70),\"\")","v":""},{"$f":"IF(M70=\"\",\"\",INDEX('OTRAS REFERENTES'!$M:$O,MATCH(M70,'OTRAS REFERENTES'!$M:$M,0),3))","v":""},{"$f":"IF(M70=\"\",\"\",INDEX('OTRAS REFERENTES'!$M:$O,MATCH(M70,'OTRAS REFERENTES'!$M:$M,0),2))","v":""},null,null,null,null,null,null,null,null,null,{"$f":"IF(X70=\"\",\"\",INDEX(referentes!$Y:$Z,MATCH(DATOS!X70,referentes!$Z:$Z,0),))","v":""},null,null,null,null,"OA",null,"SO",null,null,{"$f":"CONCATENATE(AG70)","v":""},null,null,null,null,null,null,null,null,null,null,{"$f":"IF(AS70<>\"\",VLOOKUP(AS70,#REF!,2,TRUE),\"\")","v":""},null,{"$f":"IF(AU70<>\"\",VLOOKUP(AU70,#REF!,2,FALSE),\"\")","v":""},null,null,null,{"$f":"IF(AY70<>\"\",VLOOKUP(AY70,#REF!,2,TRUE),\"\")","v":""},null,66,{"$f":"IF(D70=\"\",\"\",CONCATENATE(D70,BB70))","v":""},null,{"$f":"IF(BD70=\"\",\"\",INDEX(referentes!$J:$K,MATCH(BD70,referentes!$J:$J,0),2))","v":""},null,null,{"$f":"IF(BG70=\"\",\"\",INDEX(referentes!$G:$H,MATCH(BG70,referentes!$G:$G,0),2))","v":""},{"$f":"IF(BD70=\"\",\"\",INDEX(referentes!$J:$P,MATCH(BD70,referentes!$J:$J,0),7))","v":""},{"$f":"IF(BD70=\"\",\"\",UPPER(BD70))","v":""}]
["19000100",{"$f":"DIGITADOR!$B$2","v":""},0,{"$f":"IF(E71<>\"\",CONCATENATE($A$2,DIGITADOR!$M$1,O71,AH71),\"\")","v":""},null,null,"","",null,null,null,null,"",{"$f":"IF(M71=\"\",\"\",INDEX('OTRAS REFERENTES'!$M:$O,MATCH(M71,'OTRAS REFERENTES'!$M:$M,0),3))","v":""},{"$f":"IF(M71=\"\",\"\",INDEX('OTRAS REFERENTES'!$M:$O,MATCH(M71,'OTRAS REFERENTES'!$M:$M,0),2))","v":""},null,null,null,null,null,null,null,null,null,{"$f":"IF(X71=\"\",\"\",INDEX(referentes!$Y:$Z,MATCH(DATOS!X71,referentes!$Z:$Z,0),))","v":""},null,null,null,null,"OA",null,"SO",null,null,"",null,null,null,null,null,null,null,null,null,null,{"$f":"IF(AS71<>\"\",VLOOKUP(AS71,#REF!,2,TRUE),\"\")","v":""},null,{"$f":"IF(AU71<>\"\",VLOOKUP(AU71,#REF!,2,FALSE),\"\")","v":""},null,null,null,{"$f":"IF(AY71<>\"\",VLOOKUP(AY71,#REF!,2,TRUE),\"\")","v":""},null,67,"",null,{"$f":"IF(BD71=\"\",\"\",INDEX(referentes!$J:$K,MATCH(BD71,referentes!$J:$J,0),2))","v":""},null,null,{"$f":"IF(BG71=\"\",\"\",INDEX(referentes!$G:$H,MATCH(BG71,referentes!$G:$G,0),2))","v":""},{"$f":"IF(BD71=\"\",\"\",INDEX(referentes!$J:$P,MATCH(BD71,referentes!$J:$J,0),7))","v":""},""]
["19000100",{"$f":"DIGITADOR!$B$2","v":""},0,{"$f":"IF(E72<>\"\",CONCATENATE($A$2,DIGITADOR!$M$1,O72,AH72),\"\")","v":""},null,null,"","",null,null,null,null,"",{"$f":"IF(M72=\"\",\"\",INDEX('OTRAS REFERENTES'!$M:$O,MATCH(M72,'OTRAS REFERENTES'!$M:$M,0),3))","v":""},{"$f":"IF(M72=\"\",\"\",INDEX('OTRAS REFERENTES'!$M:$O,MATCH(M72,'OTRAS REFERENTES'!$M:$M,0),2))","v":""},null,null,null,null,null,null,null,null,null,{"$f":"IF(X72=\"\",\"\",INDEX(referentes!$Y:$Z,MATCH(DATOS!X72,referentes!$Z:$Z,0),))","v":""},null,null,null,null,"OA",null,"SO",null,null,"",null,null,null,null,null,null,null,null,null,null,{"$f":"IF(AS72<>\"\",VLOOKUP(AS72,#REF!,2,TRUE),\"\")","v":""},null,{"$f":"IF(AU72<>\"\",VLOOKUP(AU72,#REF!,2,FALSE),\"\")","v":""},null,null,null,{"$f":"IF(AY72<>\"\",VLOOKUP(AY72,#REF!,2,TRUE),\"\")","v":""},null,68,"",null,{"$f":"IF(BD72=\"\",\"\",INDEX(referentes!$J:$K,MATCH(BD72,referentes!$J:$J,0),2))","v":""},null,null,{"$f":"IF(BG72=\"\",\"\",INDEX(referentes!$G:$H,MATCH(BG72,referentes!$G:$G,0),2))","v":""},{"$f":"IF(BD72=\"\",\"\",INDEX(referentes!$J:$P,MATCH(BD72,referentes!$J:$J,0),7))","v":""},""]
["19000100",{"$f":"DIGITADOR!$B$2","v":""},0,{"$f":"IF(E73<>\"\",CONCATENATE($A$2,DIGITADOR!$M$1,O73,AH73),\"\")","v":""},null,null,"","",null,null,null,null,"",{"$f":"IF(M73=\"\",\"\",INDEX('OTRAS REFERENTES'!$M:$O,MATCH(M73,'OTRAS REFERENTES'!$M:$M,0),3))","v":""},{"$f":"IF(M73=\"\",\"\",INDEX('OTRAS REFERENTES'!$M:$O,MATCH(M73,'OTRAS REFERENTES'!$M:$M,0),2))","v":""},null,null,null,null,null,null,null,null,null,{"$f":"IF(X73=\"\",\"\",INDEX(referentes!$Y:$Z,MATCH(DATOS!X73,referentes!$Z:$Z,0),))","v":""},null,null,null,null,"OA",null,"SO",null,null,"",null,null,null,null,null,null,null,null,null,null,{"$f":"IF(AS73<>\"\",VLOOKUP(AS73,#REF!,2,TRUE),\"\")","v":""},null,{"$f":"IF(AU73<>\"\",VLOOKUP(AU73,#REF!,2,FALSE),\"\")","v":""},null,null,null,{"$f":"IF(AY73<>\"\",VLOOKUP(AY73,#REF!,2,TRUE),\"\")","v":""},null,69,"",null,{"$f":"IF(BD73=\"\",\"\",INDEX(referentes!$J:$K,MATCH(BD73,referentes!$J:$J,0),2))","v":""},null,null,{"$f":"IF(BG73=\"\",\"\",INDEX(referentes!$G:$H,MATCH(BG73,referentes!$G:$G,0),2))","v":""},{"$f":"IF(BD73=\"\",\"\",INDEX(referentes!$J:$P,MATCH(BD73,referentes!$J:$J,0),7))","v":""},""]
["19000100",{"$f":"DIGITADOR!$B$2","v":""},0,{"$f":"IF(E74<>\"\",CONCATENATE($A$2,DIGITADOR!$M$1,O74,AH74),\"\")","v":""},null,null,"","",null,null,null,null,"",{"$f":"IF(M74=\"\",\"\",INDEX('OTRAS REFERENTES'!$M:$O,MATCH(M74,'OTRAS REFERENTES'!$M:$M,0),3))","v":""},{"$f":"IF(M74=\"\",\"\",INDEX('OTRAS REFERENTES'!$M:$O,MATCH(M74,'OTRAS REFERENTES'!$M:$M,0),2))","v":""},null,null,null,null,null,null,null,null,null,{"$f":"IF(X74=\"\",\"\",INDEX(referentes!$Y:$Z,MATCH(DATOS!X74,referentes!$Z:$Z,0),))","v":""},null,null,null,null,"OA",null,"SO",null,null,"",null,null,null,null,null,null,null,null,null,null,{"$f":"IF(AS74<>\"\",VLOOKUP(AS74,#REF!,2,TRUE),\"\")","v":""},null,{"$f":"IF(AU74<>\"\",VLOOKUP(AU74,#REF!,2,FALSE),\"\")","v":""},null,null,null,{"$f":"IF(AY74<>\"\",VLOOKUP(AY74,#REF!,2,TRUE),\"\")","v":""},null,70,"",null,{"$f":"IF(BD74=\"\",\"\",INDEX(referentes!$J:$K,MATCH(BD74,referentes!$J:$J,0),2))","v":""},null,null,{"$f":"IF(BG74=\"\",\"\",INDEX(referentes!$G:$H,MATCH(BG74,referentes!$G:$G,0),2))","v":""},{"$f":"IF(BD74=\"\",\"\",INDEX(referentes!$J:$P,MATCH(BD74,referentes!$J:$J,0),7))","v":""},""]
["19000100",{"$f":"DIGITADOR!$B$2","v":""},0,{"$f":"IF(E75<>\"\",CONCATENATE($A$2,DIGITADOR!$M$1,O75,AH75),\"\")","v":""},null,null,"","",null,null,null,null,"",{"$f":"IF(M75=\"\",\"\",INDEX('OTRAS REFERENTES'!$M:$O,MATCH(M75,'OTRAS REFERENTES'!$M:$M,0),3))","v":""},{"$f":"IF(M75=\"\",\"\",INDEX('OTRAS REFERENTES'!$M:$O,MATCH(M75,'OTRAS REFERENTES'!$M:$M,0),2))","v":""},null,null,null,null,null,null,null,null,null,{"$f":"IF(X75=\"\",\"\",INDEX(referentes!$Y:$Z,MATCH(DATOS!X75,referentes!$Z:$Z,0),))","v":""},null,null,null,null,"OA",null,"SO",null,null,"",null,null,null,null,null,null,null,null,null,null,{"$f":"IF(AS75<>\"\",VLOOKUP(AS75,#REF!,2,TRUE),\"\")","v":""},null,{"$f":"IF(AU75<>\"\",VLOOKUP(AU75,#REF!,2,FALSE),\"\")","v":""},null,null,null,{"$f":"IF(AY75<>\"\",VLOOKUP(AY75,#REF!,2,TRUE),\"\")","v":""},null,71,"",null,{"$f":"IF(BD75=\"\",\"\",INDEX(referentes!$J:$K,MATCH(BD75,referentes!$J:$J,0),2))","v":""},null,null,{"$f":"IF(BG75=\"\",\"\",INDEX(referentes!$G:$H,MATCH(BG75,referentes!$G:$G,0),2))","v":""},{"$f":"IF(BD75=\"\",\"\",INDEX(referentes!$J:$P,MATCH(BD75,referentes!$J:$J,0),7))","v":""},""]
["19000100",{"$f":"DIGITADOR!$B$2","v":""},0,{"$f":"IF(E76<>\"\",CONCATENATE($A$2,DIGITADOR!$M$1,O76,AH76),\"\")","v":""},null,null,"","",null,null,null,null,"",{"$f":"IF(M76=\"\",\"\",INDEX('OTRAS REFERENTES'!$M:$O,MATCH(M76,'OTRAS REFERENTES'!$M:$M,0),3))","v":""},{"$f":"IF(M76=\"\",\"\",INDEX('OTRAS REFERENTES'!$M:$O,MATCH(M76,'OTRAS REFERENTES'!$M:$M,0),2))","v":""},null,null,null,null,null,null,null,null,null,{"$f":"IF(X76=\"\",\"\",INDEX(referentes!$Y:$Z,MATCH(DATOS!X76,referentes!$Z:$Z,0),))","v":""},null,null,null,null,"OA",null,"SO",null,null,"",null,null,null,null,null,null,null,null,null,null,{"$f":"IF(AS76<>\"\",VLOOKUP(AS76,#REF!,2,TRUE),\"\")","v":""},null,{"$f":"IF(AU76<>\"\",VLOOKUP(AU76,#REF!,2,FALSE),\"\")","v":""},null,null,null,{"$f":"IF(AY76<>\"\",VLOOKUP(AY76,#REF!,2,TRUE),\"\")","v":""},null,72,"",null,{"$f":"IF(BD76=\"\",\"\",INDEX(referentes!$J:$K,MATCH(BD76,referentes!$J:$J,0),2))","v":""},null,null,{"$f":"IF(BG76=\"\",\"\",INDEX(referentes!$G:$H,MATCH(BG76,referentes!$G:$G,0),2))","v":""},{"$f":"IF(BD76=\"\",\"\",INDEX(referentes!$J:$P,MATCH(BD76,referentes!$J:$J,0),7))","v":""},""]
["19000100",{"$f":"DIGITADOR!$B$2","v":""},0,{"$f":"IF(E77<>\"\",CONCATENATE($A$2,DIGITADOR!$M$1,O77,AH77),\"\")","v":""},null,null,"","",null,null,null,null,"",{"$f":"IF(M77=\"\",\"\",INDEX('OTRAS REFERENTES'!$M:$O,MATCH(M77,'OTRAS REFERENTES'!$M:$M,0),3))","v":""},{"$f":"IF(M77=\"\",\"\",INDEX('OTRAS REFERENTES'!$M:$O,MATCH(M77,'OTRAS REFERENTES'!$M:$M,0),2))","v":""},null,null,null,null,null,null,null,null,null,{"$f":"IF(X77=\"\",\"\",INDEX(referentes!$Y:$Z,MATCH(DATOS!X77,referentes!$Z:$Z,0),))","v":""},null,null,null,null,"OA",null,"SO",null,null,"",null,null,null,null,null,null,null,null,null,null,{"$f":"IF(AS77<>\"\",VLOOKUP(AS77,#REF!,2,TRUE),\"\")","v":""},null,{"$f":"IF(AU77<>\"\",VLOOKUP(AU77,#REF!,2,FALSE),\"\")","v":""},null,null,null,{"$f":"IF(AY77<>\"\",VLOOKUP(AY77,#REF!,2,TRUE),\"\")","v":""},null,73,"",null,{"$f":"IF(BD77=\"\",\"\",INDEX(referentes!$J:$K,MATCH(BD77,referentes!$J:$J,0),2))","v":""},null,null,{"$f":"IF(BG77=\"\",\"\",INDEX(referentes!$G:$H,MATCH(BG77,referentes!$G:$G,0),2))","v":""},{"$f":"IF(BD77=\"\",\"\",INDEX(referentes!$J:$P,MATCH(BD77,referentes!$J:$J,0),7))","v":""},""]
["19000100",{"$f":"DIGITADOR!$B$2","v":""},0,{"$f":"IF(E78<>\"\",CONCATENATE($A$2,DIGITADOR!$M$1,O78,AH78),\"\")","v":""},null,null,"","",null,null,null,null,"",{"$f":"IF(M78=\"\",\"\",INDEX('OTRAS REFERENTES'!$M:$O,MATCH(M78,'OTRAS REFERENTES'!$M:$M,0),3))","v":""},{"$f":"IF(M78=\"\",\"\",INDEX('OTRAS REFERENTES'!$M:$O,MATCH(M78,'OTRAS REFERENTES'!$M:$M,0),2))","v":""},null,null,null,null,null,null,null,null,null,{"$f":"IF(X78=\"\",\"\",INDEX(referentes!$Y:$Z,MATCH(DATOS!X78,referentes!$Z:$Z,0),))","v":""},null,null,null,null,"OA",null,"SO",null,null,"",null,null,null,null,null,null,null,null,null,null,{"$f":"IF(AS78<>\"\",VLOOKUP(AS78,#REF!,2,TRUE),\"\")","v":""},null,{"$f":"IF(AU78<>\"\",VLOOKUP(AU78,#REF!,2,FALSE),\"\")","v":""},null,null,null,{"$f":"IF(AY78<>\"\",VLOOKUP(AY78,#REF!,2,TRUE),\"\")","v":""},null,74,"",null,{"$f":"IF(BD78=\"\",\"\",INDEX(referentes!$J:$K,MATCH(BD78,referentes!$J:$J,0),2))","v":""},null,null,{"$f":"IF(BG78=\"\",\"\",INDEX(referentes!$G:$H,MATCH(BG78,referentes!$G:$G,0),2))","v":""},{"$f":"IF(BD78=\"\",\"\",INDEX(referentes!$J:$P,MATCH(BD78,referentes!$J:$J,0),7))","v":""},""]
["19000100",{"$f":"DIGITADOR!$B$2","v":""},0,{"$f":"IF(E79<>\"\",CONCATENATE($A$2,DIGITADOR!$M$1,O79,AH79),\"\")","v":""},null,null,"","",null,null,null,null,"",{"$f":"IF(M79=\"\",\"\",INDEX('OTRAS REFERENTES'!$M:$O,MATCH(M79,'OTRAS REFERENTES'!$M:$M,0),3))","v":""},{"$f":"IF(M79=\"\",\"\",INDEX('OTRAS REFERENTES'!$M:$O,MATCH(M79,'OTRAS REFERENTES'!$M:$M,0),2))","v":""},null,null,null,null,null,null,null,null,null,{"$f":"IF(X79=\"\",\"\",INDEX(referentes!$Y:$Z,MATCH(DATOS!X79,referentes!$Z:$Z,0),))","v":""},null,null,null,null,"OA",null,"SO",null,null,"",null,null,null,null,null,null,null,null,null,null,{"$f":"IF(AS79<>\"\",VLOOKUP(AS79,#REF!,2,TRUE),\"\")","v":""},null,{"$f":"IF(AU79<>\"\",VLOOKUP(AU79,#REF!,2,FALSE),\"\")","v":""},null,null,null,{"$f":"IF(AY79<>\"\",VLOOKUP(AY79,#REF!,2,TRUE),\"\")","v":""},null,75,"",null,{"$f":"IF(BD79=\"\",\"\",INDEX(referentes!$J:$K,MATCH(BD79,referentes!$J:$J,0),2))","v":""},null,null,{"$f":"IF(BG79=\"\",\"\",INDEX(referentes!$G:$H,MATCH(BG79,referentes!$G:$G,0),2))","v":""},{"$f":"IF(BD79=\"\",\"\",INDEX(referentes!$J:$P,MATCH(BD79,referentes!$J:$J,0),7))","v":""},""]
["19000100",{"$f":"DIGITADOR!$B$2","v":""},0,{"$f":"IF(E80<>\"\",CONCATENATE($A$2,DIGITADOR!$M$1,O80,AH80),\"\")","v":""},null,null,"","",null,null,null,null,"",{"$f":"IF(M80=\"\",\"\",INDEX('OTRAS REFERENTES'!$M:$O,MATCH(M80,'OTRAS REFERENTES'!$M:$M,0),3))","v":""},{"$f":"IF(M80=\"\",\"\",INDEX('OTRAS REFERENTES'!$M:$O,MATCH(M80,'OTRAS REFERENTES'!$M:$M,0),2))","v":""},null,null,null,null,null,null,null,null,null,{"$f":"IF(X80=\"\",\"\",INDEX(referentes!$Y:$Z,MATCH(DATOS!X80,referentes!$Z:$Z,0),))","v":""},null,null,null,null,"OA",null,"SO",null,null,"",null,null,null,null,null,null,null,null,null,null,{"$f":"IF(AS80<>\"\",VLOOKUP(AS80,#REF!,2,TRUE),\"\")","v":""},null,{"$f":"IF(AU80<>\"\",VLOOKUP(AU80,#REF!,2,FALSE),\"\")","v":""},null,null,null,{"$f":"IF(AY80<>\"\",VLOOKUP(AY80,#REF!,2,TRUE),\"\")","v":""},null,76,"",null,{"$f":"IF(BD80=\"\",\"\",INDEX(referentes!$J:$K,MATCH(BD80,referentes!$J:$J,0),2))","v":""},null,null,{"$f":"IF(BG80=\"\",\"\",INDEX(referentes!$G:$H,MATCH(BG80,referentes!$G:$G,0),2))","v":""},{"$f":"IF(BD80=\"\",\"\",INDEX(referentes!$J:$P,MATCH(BD80,referentes!$J:$J,0),7))","v":""},""]
["19000100",{"$f":"DIGITADOR!$B$2","v":""},0,{"$f":"IF(E81<>\"\",CONCATENATE($A$2,DIGITADOR!$M$1,O81,AH81),\"\")","v":""},null,null,"","",null,null,null,null,"",{"$f":"IF(M81=\"\",\"\",INDEX('OTRAS REFERENTES'!$M:$O,MATCH(M81,'OTRAS REFERENTES'!$M:$M,0),3))","v":""},{"$f":"IF(M81=\"\",\"\",INDEX('OTRAS REFERENTES'!$M:$O,MATCH(M81,'OTRAS REFERENTES'!$M:$M,0),2))","v":""},null,null,null,null,null,null,null,null,null,{"$f":"IF(X81=\"\",\"\",INDEX(referentes!$Y:$Z,MATCH(DATOS!X81,referentes!$Z:$Z,0),))","v":""},null,null,null,null,"OA",null,"SO",null,null,"",null,null,null,null,null,null,null,null,null,null,{"$f":"IF(AS81<>\"\",VLOOKUP(AS81,#REF!,2,TRUE),\"\")","v":""},null,{"$f":"IF(AU81<>\"\",VLOOKUP(AU81,#REF!,2,FALSE),\"\")","v":""},null,null,null,{"$f":"IF(AY81<>\"\",VLOOKUP(AY81,#REF!,2,TRUE),\"\")","v":""},null,77,"",null,{"$f":"IF(BD81=\"\",\"\",INDEX(referentes!$J:$K,MATCH(BD81,referentes!$J:$J,0),2))","v":""},null,null,{"$f":"IF(BG81=\"\",\"\",INDEX(referentes!$G:$H,MATCH(BG81,referentes!$G:$G,0),2))","v":""},{"$f":"IF(BD81=\"\",\"\",INDEX(referentes!$J:$P,MATCH(BD81,referentes!$J:$J,0),7))","v":""},""]
["19000100",{"$f":"DIGITADOR!$B$2","v":""},0,{"$f":"IF(E82<>\"\",CONCATENATE($A$2,DIGITADOR!$M$1,O82,AH82),\"\")","v":""},null,null,"","",null,null,null,null,"",{"$f":"IF(M82=\"\",\"\",INDEX('OTRAS REFERENTES'!$M:$O,MATCH(M82,'OTRAS REFERENTES'!$M:$M,0),3))","v":""},{"$f":"IF(M82=\"\",\"\",INDEX('OTRAS REFERENTES'!$M:$O,MATCH(M82,'OTRAS REFERENTES'!$M:$M,0),2))","v":""},null,null,null,null,null,null,null,null,null,{"$f":"IF(X82=\"\",\"\",INDEX(referentes!$Y:$Z,MATCH(DATOS!X82,referentes!$Z:$Z,0),))","v":""},null,null,null,null,"OA",null,"SO",null,null,"",null,null,null,null,null,null,null,null,null,null,{"$f":"IF(AS82<>\"\",VLOOKUP(AS82,#REF!,2,TRUE),\"\")","v":""},null,{"$f":"IF(AU82<>\"\",VLOOKUP(AU82,#REF!,2,FALSE),\"\")","v":""},null,null,null,{"$f":"IF(AY82<>\"\",VLOOKUP(AY82,#REF!,2,TRUE),\"\")","v":""},null,78,"",null,{"$f":"IF(BD82=\"\",\"\",INDEX(referentes!$J:$K,MATCH(BD82,referentes!$J:$J,0),2))","v":""},null,null,{"$f":"IF(BG82=\"\",\"\",INDEX(referentes!$G:$H,MATCH(BG82,referentes!$G:$G,0),2))","v":""},{"$f":"IF(BD82=\"\",\"\",INDEX(referentes!$J:$P,MATCH(BD82,referentes!$J:$J,0),7))","v":""},""]
["19000100",{"$f":"DIGITADOR!$B$2","v":""},0,{"$f":"IF(E83<>\"\",CONCATENATE($A$2,DIGITADOR!$M$1,O83,AH83),\"\")","v":""},null,null,"","",null,null,null,null,"",{"$f":"IF(M83=\"\",\"\",INDEX('OTRAS REFERENTES'!$M:$O,MATCH(M83,'OTRAS REFERENTES'!$M:$M,0),3))","v":""},{"$f":"IF(M83=\"\",\"\",INDEX('OTRAS REFERENTES'!$M:$O,MATCH(M83,'OTRAS REFERENTES'!$M:$M,0),2))","v":""},null,null,null,null,null,null,null,null,null,{"$f":"IF(X83=\"\",\"\",INDEX(referentes!$Y:$Z,MATCH(DATOS!X83,referentes!$Z:$Z,0),))","v":""},null,null,null,null,"OA",null,"SO",null,null,"",null,null,null,null,null,null,null,null,null,null,{"$f":"IF(AS83<>\"\",VLOOKUP(AS83,#REF!,2,TRUE),\"\")","v":""},null,{"$f":"IF(AU83<>\"\",VLOOKUP(AU83,#REF!,2,FALSE),\"\")","v":""},null,null,null,{"$f":"IF(AY83<>\"\",VLOOKUP(AY83,#REF!,2,TRUE),\"\")","v":""},null,79,"",null,{"$f":"IF(BD83=\"\",\"\",INDEX(referentes!$J:$K,MATCH(BD83,referentes!$J:$J,0),2))","v":""},null,null,{"$f":"IF(BG83=\"\",\"\",INDEX(referentes!$G:$H,MATCH(BG83,referentes!$G:$G,0),2))","v":""},{"$f":"IF(BD83=\"\",\"\",INDEX(referentes!$J:$P,MATCH(BD83,referentes!$J:$J,0),7))","v":""},""]
["19000100",{"$f":"DIGITADOR!$B$2","v":""},0,{"$f":"IF(E84<>\"\",CONCATENATE($A$2,DIGITADOR!$M$1,O84,AH84),\"\")","v":""},null,null,"","",null,null,null,null,"",{"$f":"IF(M84=\"\",\"\",INDEX('OTRAS REFERENTES'!$M:$O,MATCH(M84,'OTRAS REFERENTES'!$M:$M,0),3))","v":""},{"$f":"IF(M84=\"\",\"\",INDEX('OTRAS REFERENTES'!$M:$O,MATCH(M84,'OTRAS REFERENTES'!$M:$M,0),2))","v":""},null,null,null,null,null,null,null,null,null,{"$f":"IF(X84=\"\",\"\",INDEX(referentes!$Y:$Z,MATCH(DATOS!X84,referentes!$Z:$Z,0),))","v":""},null,null,null,null,"OA",null,"SO",null,null,"",null,null,null,null,null,null,null,null,null,null,{"$f":"IF(AS84<>\"\",VLOOKUP(AS84,#REF!,2,TRUE),\"\")","v":""},null,{"$f":"IF(AU84<>\"\",VLOOKUP(AU84,#REF!,2,FALSE),\"\")","v":""},null,null,null,{"$f":"IF(AY84<>\"\",VLOOKUP(AY84,#REF!,2,TRUE),\"\")","v":""},null,80,"",null,{"$f":"IF(BD84=\"\",\"\",INDEX(referentes!$J:$K,MATCH(BD84,referentes!$J:$J,0),2))","v":""},null,null,{"$f":"IF(BG84=\"\",\"\",INDEX(referentes!$G:$H,MATCH(BG84,referentes!$G:$G,0),2))","v":""},{"$f":"IF(BD84=\"\",\"\",INDEX(referentes!$J:$P,MATCH(BD84,referentes!$J:$J,0),7))","v":""},""]
["19000100",{"$f":"DIGITADOR!$B$2","v":""},0,{"$f":"IF(E85<>\"\",CONCATENATE($A$2,DIGITADOR!$M$1,O85,AH85),\"\")","v":""},null,null,"","",null,null,null,null,"",{"$f":"IF(M85=\"\",\"\",INDEX('OTRAS REFERENTES'!$M:$O,MATCH(M85,'OTRAS REFERENTES'!$M:$M,0),3))","v":""},{"$f":"IF(M85=\"\",\"\",INDEX('OTRAS REFERENTES'!$M:$O,MATCH(M85,'OTRAS REFERENTES'!$M:$M,0),2))","v":""},null,null,null,null,null,null,null,null,null,{"$f":"IF(X85=\"\",\"\",INDEX(referentes!$Y:$Z,MATCH(DATOS!X85,referentes!$Z:$Z,0),))","v":""},null,null,null,null,"OA",null,"SO",null,null,"",null,null,null,null,null,null,null,null,null,null,{"$f":"IF(AS85<>\"\",VLOOKUP(AS85,#REF!,2,TRUE),\"\")","v":""},null,{"$f":"IF(AU85<>\"\",VLOOKUP(AU85,#REF!,2,FALSE),\"\")","v":""},null,null,null,{"$f":"IF(AY85<>\"\",VLOOKUP(AY85,#REF!,2,TRUE),\"\")","v":""},null,81,"",null,{"$f":"IF(BD85=\"\",\"\",INDEX(referentes!$J:$K,MATCH(BD85,referentes!$J:$J,0),2))","v":""},null,null,{"$f":"IF(BG85=\"\",\"\",INDEX(referentes!$G:$H,MATCH(BG85,referentes!$G:$G,0),2))","v":""},{"$f":"IF(BD85=\"\",\"\",INDEX(referentes!$J:$P,MATCH(BD85,referentes!$J:$J,0),7))","v":""},""]
["19000100",{"$f":"DIGITADOR!$B$2","v":""},0,{"$f":"IF(E86<>\"\",CONCATENATE($A$2,DIGITADOR!$M$1,O86,AH86),\"\")","v":""},null,null,"","",null,null,null,null,"",{"$f":"IF(M86=\"\",\"\",INDEX('OTRAS REFERENTES'!$M:$O,MATCH(M86,'OTRAS REFERENTES'!$M:$M,0),3))","v":""},{"$f":"IF(M86=\"\",\"\",INDEX('OTRAS REFERENTES'!$M:$O,MATCH(M86,'OTRAS REFERENTES'!$M:$M,0),2))","v":""},null,null,null,null,null,null,null,null,null,{"$f":"IF(X86=\"\",\"\",INDEX(referentes!$Y:$Z,MATCH(DATOS!X86,referentes!$Z:$Z,0),))","v":""},null,null,null,null,"OA",null,"SO",null,null,"",null,null,null,null,null,null,null,null,null,null,{"$f":"IF(AS86<>\"\",VLOOKUP(AS86,#REF!,2,TRUE),\"\")","v":""},null,{"$f":"IF(AU86<>\"\",VLOOKUP(AU86,#REF!,2,FALSE),\"\")","v":""},null,null,null,{"$f":"IF(AY86<>\"\",VLOOKUP(AY86,#REF!,2,TRUE),\"\")","v":""},null,82,"",null,{"$f":"IF(BD86=\"\",\"\",INDEX(referentes!$J:$K,MATCH(BD86,referentes!$J:$J,0),2))","v":""},null,null,{"$f":"IF(BG86=\"\",\"\",INDEX(referentes!$G:$H,MATCH(BG86,referentes!$G:$G,0),2))","v":""},{"$f":"IF(BD86=\"\",\"\",INDEX(referentes!$J:$P,MATCH(BD86,referentes!$J:$J,0),7))","v":""},""]
["19000100",{"$f":"DIGITADOR!$B$2","v":""},0,{"$f":"IF(E87<>\"\",CONCATENATE($A$2,DIGITADOR!$M$1,O87,AH87),\"\")","v":""},null,null,"","",null,null,null,null,"",{"$f":"IF(M87=\"\",\"\",INDEX('OTRAS REFERENTES'!$M:$O,MATCH(M87,'OTRAS REFERENTES'!$M:$M,0),3))","v":""},{"$f":"IF(M87=\"\",\"\",INDEX('OTRAS REFERENTES'!$M:$O,MATCH(M87,'OTRAS REFERENTES'!$M:$M,0),2))","v":""},null,null,null,null,null,null,null,null,null,{"$f":"IF(X87=\"\",\"\",INDEX(referentes!$Y:$Z,MATCH(DATOS!X87,referentes!$Z:$Z,0),))","v":""},null,null,null,null,"OA",null,"SO",null,null,"",null,null,null,null,null,null,null,null,null,null,{"$f":"IF(AS87<>\"\",VLOOKUP(AS87,#REF!,2,TRUE),\"\")","v":""},null,{"$f":"IF(AU87<>\"\",VLOOKUP(AU87,#REF!,2,FALSE),\"\")","v":""},null,null,null,{"$f":"IF(AY87<>\"\",VLOOKUP(AY87,#REF!,2,TRUE),\"\")","v":""},null,83,"",null,{"$f":"IF(BD87=\"\",\"\",INDEX(referentes!$J:$K,MATCH(BD87,referentes!$J:$J,0),2))","v":""},null,null,{"$f":"IF(BG87=\"\",\"\",INDEX(referentes!$G:$H,MATCH(BG87,referentes!$G:$G,0),2))","v":""},{"$f":"IF(BD87=\"\",\"\",INDEX(referentes!$J:$P,MATCH(BD87,referentes!$J:$J,0),7))","v":""},""]
["19000100",{"$f":"DIGITADOR!$B$2","v":""},0,{"$f":"IF(E88<>\"\",CONCATENATE($A$2,DIGITADOR!$M$1,O88,AH88),\"\")","v":""},null,null,"","",null,null,null,null,"",{"$f":"IF(M88=\"\",\"\",INDEX('OTRAS REFERENTES'!$M:$O,MATCH(M88,'OTRAS REFERENTES'!$M:$M,0),3))","v":""},{"$f":"IF(M88=\"\",\"\",INDEX('OTRAS REFERENTES'!$M:$O,MATCH(M88,'OTRAS REFERENTES'!$M:$M,0),2))","v":""},null,null,null,null,null,null,null,null,null,{"$f":"IF(X88=\"\",\"\",INDEX(referentes!$Y:$Z,MATCH(DATOS!X88,referentes!$Z:$Z,0),))","v":""},null,null,null,null,"OA",null,"SO",null,null,"",null,null,null,null,null,null,null,null,null,null,{"$f":"IF(AS88<>\"\",VLOOKUP(AS88,#REF!,2,TRUE),\"\")","v":""},null,{"$f":"IF(AU88<>\"\",VLOOKUP(AU88,#REF!,2,FALSE),\"\")","v":""},null,null,null,{"$f":"IF(AY88<>\"\",VLOOKUP(AY88,#REF!,2,TRUE),\"\")","v":""},null,84,"",null,{"$f":"IF(BD88=\"\",\"\",INDEX(referentes!$J:$K,MATCH(BD88,referentes!$J:$J,0),2))","v":""},null,null,{"$f":"IF(BG88=\"\",\"\",INDEX(referentes!$G:$H,MATCH(BG88,referentes!$G:$G,0),2))","v":""},{"$f":"IF(BD88=\"\",\"\",INDEX(referentes!$J:$P,MATCH(BD88,referentes!$J:$J,0),7))","v":""},""]
["19000100",{"$f":"DIGITADOR!$B$2","v":""},0,{"$f":"IF(E89<>\"\",CONCATENATE($A$2,DIGITADOR!$M$1,O89,AH89),\"\")","v":""},null,null,"","",null,null,null,null,"",{"$f":"IF(M89=\"\",\"\",INDEX('OTRAS REFERENTES'!$M:$O,MATCH(M89,'OTRAS REFERENTES'!$M:$M,0),3))","v":""},{"$f":"IF(M89=\"\",\"\",INDEX('OTRAS REFERENTES'!$M:$O,MATCH(M89,'OTRAS REFERENTES'!$M:$M,0),2))","v":""},null,null,null,null,null,null,null,null,null,{"$f":"IF(X89=\"\",\"\",INDEX(referentes!$Y:$Z,MATCH(DATOS!X89,referentes!$Z:$Z,0),))","v":""},null,null,null,null,"OA",null,"SO",null,null,"",null,null,null,null,null,null,null,null,null,null,{"$f":"IF(AS89<>\"\",VLOOKUP(AS89,#REF!,2,TRUE),\"\")","v":""},null,{"$f":"IF(AU89<>\"\",VLOOKUP(AU89,#REF!,2,FALSE),\"\")","v":""},null,null,null,{"$f":"IF(AY89<>\"\",VLOOKUP(AY89,#REF!,2,TRUE),\"\")","v":""},null,85,"",null,{"$f":"IF(BD89=\"\",\"\",INDEX(referentes!$J:$K,MATCH(BD89,referentes!$J:$J,0),2))","v":""},null,null,{"$f":"IF(BG89=\"\",\"\",INDEX(referentes!$G:$H,MATCH(BG89,referentes!$G:$G,0),2))","v":""},{"$f":"IF(BD89=\"\",\"\",INDEX(referentes!$J:$P,MATCH(BD89,referentes!$J:$J,0),7))","v":""},""]
["19000100",{"$f":"DIGITADOR!$B$2","v":""},0,{"$f":"IF(E90<>\"\",CONCATENATE($A$2,DIGITADOR!$M$1,O90,AH90),\"\")","v":""},null,null,"","",null,null,null,null,"",{"$f":"IF(M90=\"\",\"\",INDEX('OTRAS REFERENTES'!$M:$O,MATCH(M90,'OTRAS REFERENTES'!$M:$M,0),3))","v":""},{"$f":"IF(M90=\"\",\"\",INDEX('OTRAS REFERENTES'!$M:$O,MATCH(M90,'OTRAS REFERENTES'!$M:$M,0),2))","v":""},null,null,null,null,null,null,null,null,null,{"$f":"IF(X90=\"\",\"\",INDEX(referentes!$Y:$Z,MATCH(DATOS!X90,referentes!$Z:$Z,0),))","v":""},null,null,null,null,"OA",null,"SO",null,null,"",null,null,null,null,null,null,null,null,null,null,{"$f":"IF(AS90<>\"\",VLOOKUP(AS90,#REF!,2,TRUE),\"\")","v":""},null,{"$f":"IF(AU90<>\"\",VLOOKUP(AU90,#REF!,2,FALSE),\"\")","v":""},null,null,null,{"$f":"IF(AY90<>\"\",VLOOKUP(AY90,#REF!,2,TRUE),\"\")","v":""},null,86,"",null,{"$f":"IF(BD90=\"\",\"\",INDEX(referentes!$J:$K,MATCH(BD90,referentes!$J:$J,0),2))","v":""},null,null,{"$f":"IF(BG90=\"\",\"\",INDEX(referentes!$G:$H,MATCH(BG90,referentes!$G:$G,0),2))","v":""},{"$f":"IF(BD90=\"\",\"\",INDEX(referentes!$J:$P,MATCH(BD90,referentes!$J:$J,0),7))","v":""},""]
["19000100",{"$f":"DIGITADOR!$B$2","v":""},0,{"$f":"IF(E91<>\"\",CONCATENATE($A$2,DIGITADOR!$M$1,O91,AH91),\"\")","v":""},null,null,"","",null,null,null,null,"",{"$f":"IF(M91=\"\",\"\",INDEX('OTRAS REFERENTES'!$M:$O,MATCH(M91,'OTRAS REFERENTES'!$M:$M,0),3))","v":""},{"$f":"IF(M91=\"\",\"\",INDEX('OTRAS REFERENTES'!$M:$O,MATCH(M91,'OTRAS REFERENTES'!$M:$M,0),2))","v":""},null,null,null,null,null,null,null,null,null,{"$f":"IF(X91=\"\",\"\",INDEX(referentes!$Y:$Z,MATCH(DATOS!X91,referentes!$Z:$Z,0),))","v":""},null,null,null,null,"OA",null,"SO",null,null,"",null,null,null,null,null,null,null,null,null,null,{"$f":"IF(AS91<>\"\",VLOOKUP(AS91,#REF!,2,TRUE),\"\")","v":""},null,{"$f":"IF(AU91<>\"\",VLOOKUP(AU91,#REF!,2,FALSE),\"\")","v":""},null,null,null,{"$f":"IF(AY91<>\"\",VLOOKUP(AY91,#REF!,2,TRUE),\"\")","v":""},null,87,"",null,{"$f":"IF(BD91=\"\",\"\",INDEX(referentes!$J:$K,MATCH(BD91,referentes!$J:$J,0),2))","v":""},null,null,{"$f":"IF(BG91=\"\",\"\",INDEX(referentes!$G:$H,MATCH(BG91,referentes!$G:$G,0),2))","v":""},{"$f":"IF(BD91=\"\",\"\",INDEX(referentes!$J:$P,MATCH(BD91,referentes!$J:$J,0),7))","v":""},""]
["19000100",{"$f":"DIGITADOR!$B$2","v":""},0,{"$f":"IF(E92<>\"\",CONCATENATE($A$2,DIGITADOR!$M$1,O92,AH92),\"\")","v":""},null,null,"","",null,null,null,null,"",{"$f":"IF(M92=\"\",\"\",INDEX('OTRAS REFERENTES'!$M:$O,MATCH(M92,'OTRAS REFERENTES'!$M:$M,0),3))","v":""},{"$f":"IF(M92=\"\",\"\",INDEX('OTRAS REFERENTES'!$M:$O,MATCH(M92,'OTRAS REFERENTES'!$M:$M,0),2))","v":""},null,null,null,null,null,null,null,null,null,{"$f":"IF(X92=\"\",\"\",INDEX(referentes!$Y:$Z,MATCH(DATOS!X92,referentes!$Z:$Z,0),))","v":""},null,null,null,null,"OA",null,"SO",null,null,"",null,null,null,null,null,null,null,null,null,null,{"$f":"IF(AS92<>\"\",VLOOKUP(AS92,#REF!,2,TRUE),\"\")","v":""},null,{"$f":"IF(AU92<>\"\",VLOOKUP(AU92,#REF!,2,FALSE),\"\")","v":""},null,null,null,{"$f":"IF(AY92<>\"\",VLOOKUP(AY92,#REF!,2,TRUE),\"\")","v":""},null,88,"",null,{"$f":"IF(BD92=\"\",\"\",INDEX(referentes!$J:$K,MATCH(BD92,referentes!$J:$J,0),2))","v":""},null,null,{"$f":"IF(BG92=\"\",\"\",INDEX(referentes!$G:$H,MATCH(BG92,referentes!$G:$G,0),2))","v":""},{"$f":"IF(BD92=\"\",\"\",INDEX(referentes!$J:$P,MATCH(BD92,referentes!$J:$J,0),7))","v":""},""]
["19000100",{"$f":"DIGITADOR!$B$2","v":""},0,{"$f":"IF(E93<>\"\",CONCATENATE($A$2,DIGITADOR!$M$1,O93,AH93),\"\")","v":""},null,null,"","",null,null,null,null,"",{"$f":"IF(M93=\"\",\"\",INDEX('OTRAS REFERENTES'!$M:$O,MATCH(M93,'OTRAS REFERENTES'!$M:$M,0),3))","v":""},{"$f":"IF(M93=\"\",\"\",INDEX('OTRAS REFERENTES'!$M:$O,MATCH(M93,'OTRAS REFERENTES'!$M:$M,0),2))","v":""},null,null,null,null,null,null,null,null,null,{"$f":"IF(X93=\"\",\"\",INDEX(referentes!$Y:$Z,MATCH(DATOS!X93,referentes!$Z:$Z,0),))","v":""},null,null,null,null,"OA",null,"SO",null,null,"",null,null,null,null,null,null,null,null,null,null,{"$f":"IF(AS93<>\"\",VLOOKUP(AS93,#REF!,2,TRUE),\"\")","v":""},null,{"$f":"IF(AU93<>\"\",VLOOKUP(AU93,#REF!,2,FALSE),\"\")","v":""},null,null,null,{"$f":"IF(AY93<>\"\",VLOOKUP(AY93,#REF!,2,TRUE),\"\")","v":""},null,89,"",null,{"$f":"IF(BD93=\"\",\"\",INDEX(referentes!$J:$K,MATCH(BD93,referentes!$J:$J,0),2))","v":""},null,null,{"$f":"IF(BG93=\"\",\"\",INDEX(referentes!$G:$H,MATCH(BG93,referentes!$G:$G,0),2))","v":""},{"$f":"IF(BD93=\"\",\"\",INDEX(referentes!$J:$P,MATCH(BD93,referentes!$J:$J,0),7))","v":""},""]
["19000100",{"$f":"DIGITADOR!$B$2","v":""},0,{"$f":"IF(E94<>\"\",CONCATENATE($A$2,DIGITADOR!$M$1,O94,AH94),\"\")","v":""},null,null,"","",null,null,null,null,"",{"$f":"IF(M94=\"\",\"\",INDEX('OTRAS REFERENTES'!$M:$O,MATCH(M94,'OTRAS REFERENTES'!$M:$M,0),3))","v":""},{"$f":"IF(M94=\"\",\"\",INDEX('OTRAS REFERENTES'!$M:$O,MATCH(M94,'OTRAS REFERENTES'!$M:$M,0),2))","v":""},null,null,null,null,null,null,null,null,null,{"$f":"IF(X94=\"\",\"\",INDEX(referentes!$Y:$Z,MATCH(DATOS!X94,referentes!$Z:$Z,0),))","v":""},null,null,null,null,"OA",null,"SO",null,null,"",null,null,null,null,null,null,null,null,null,null,{"$f":"IF(AS94<>\"\",VLOOKUP(AS94,#REF!,2,TRUE),\"\")","v":""},null,{"$f":"IF(AU94<>\"\",VLOOKUP(AU94,#REF!,2,FALSE),\"\")","v":""},null,null,null,{"$f":"IF(AY94<>\"\",VLOOKUP(AY94,#REF!,2,TRUE),\"\")","v":""},null,90,"",null,{"$f":"IF(BD94=\"\",\"\",INDEX(referentes!$J:$K,MATCH(BD94,referentes!$J:$J,0),2))","v":""},null,null,{"$f":"IF(BG94=\"\",\"\",INDEX(referentes!$G:$H,MATCH(BG94,referentes!$G:$G,0),2))","v":""},{"$f":"IF(BD94=\"\",\"\",INDEX(referentes!$J:$P,MATCH(BD94,referentes!$J:$J,0),7))","v":""},""]
["19000100",{"$f":"DIGITADOR!$B$2","v":""},0,{"$f":"IF(E95<>\"\",CONCATENATE($A$2,DIGITADOR!$M$1,O95,AH95),\"\")","v":""},null,null,"","",null,null,null,null,"",{"$f":"IF(M95=\"\",\"\",INDEX('OTRAS REFERENTES'!$M:$O,MATCH(M95,'OTRAS REFERENTES'!$M:$M,0),3))","v":""},{"$f":"IF(M95=\"\",\"\",INDEX('OTRAS REFERENTES'!$M:$O,MATCH(M95,'OTRAS REFERENTES'!$M:$M,0),2))","v":""},null,null,null,null,null,null,null,null,null,{"$f":"IF(X95=\"\",\"\",INDEX(referentes!$Y:$Z,MATCH(DATOS!X95,referentes!$Z:$Z,0),))","v":""},null,null,null,null,"OA",null,"SO",null,null,"",null,null,null,null,null,null,null,null,null,null,{"$f":"IF(AS95<>\"\",VLOOKUP(AS95,#REF!,2,TRUE),\"\")","v":""},null,{"$f":"IF(AU95<>\"\",VLOOKUP(AU95,#REF!,2,FALSE),\"\")","v":""},null,null,null,{"$f":"IF(AY95<>\"\",VLOOKUP(AY95,#REF!,2,TRUE),\"\")","v":""},null,91,"",null,{"$f":"IF(BD95=\"\",\"\",INDEX(referentes!$J:$K,MATCH(BD95,referentes!$J:$J,0),2))","v":""},null,null,{"$f":"IF(BG95=\"\",\"\",INDEX(referentes!$G:$H,MATCH(BG95,referentes!$G:$G,0),2))","v":""},{"$f":"IF(BD95=\"\",\"\",INDEX(referentes!$J:$P,MATCH(BD95,referentes!$J:$J,0),7))","v":""},""]
["19000100",{"$f":"DIGITADOR!$B$2","v":""},0,{"$f":"IF(E96<>\"\",CONCATENATE($A$2,DIGITADOR!$M$1,O96,AH96),\"\")","v":""},null,null,"","",null,null,null,null,"",{"$f":"IF(M96=\"\",\"\",INDEX('OTRAS REFERENTES'!$M:$O,MATCH(M96,'OTRAS REFERENTES'!$M:$M,0),3))","v":""},{"$f":"IF(M96=\"\",\"\",INDEX('OTRAS REFERENTES'!$M:$O,MATCH(M96,'OTRAS REFERENTES'!$M:$M,0),2))","v":""},null,null,null,null,null,null,null,null,null,{"$f":"IF(X96=\"\",\"\",INDEX(referentes!$Y:$Z,MATCH(DATOS!X96,referentes!$Z:$Z,0),))","v":""},null,null,null,null,"OA",null,"SO",null,null,"",null,null,null,null,null,null,null,null,null,null,{"$f":"IF(AS96<>\"\",VLOOKUP(AS96,#REF!,2,TRUE),\"\")","v":""},null,{"$f":"IF(AU96<>\"\",VLOOKUP(AU96,#REF!,2,FALSE),\"\")","v":""},null,null,null,{"$f":"IF(AY96<>\"\",VLOOKUP(AY96,#REF!,2,TRUE),\"\")","v":""},null,92,"",null,{"$f":"IF(BD96=\"\",\"\",INDEX(referentes!$J:$K,MATCH(BD96,referentes!$J:$J,0),2))","v":""},null,null,{"$f":"IF(BG96=\"\",\"\",INDEX(referentes!$G:$H,MATCH(BG96,referentes!$G:$G,0),2))","v":""},{"$f":"IF(BD96=\"\",\"\",INDEX(referentes!$J:$P,MATCH(BD96,referentes!$J:$J,0),7))","v":""},""]
["19000100",{"$f":"DIGITADOR!$B$2","v":""},0,{"$f":"IF(E97<>\"\",CONCATENATE($A$2,DIGITADOR!$M$1,O97,AH97),\"\")","v":""},null,null,"","",null,null,null,null,"",{"$f":"IF(M97=\"\",\"\",INDEX('OTRAS REFERENTES'!$M:$O,MATCH(M97,'OTRAS REFERENTES'!$M:$M,0),3))","v":""},{"$f":"IF(M97=\"\",\"\",INDEX('OTRAS REFERENTES'!$M:$O,MATCH(M97,'OTRAS REFERENTES'!$M:$M,0),2))","v":""},null,null,null,null,null,null,null,null,null,{"$f":"IF(X97=\"\",\"\",INDEX(referentes!$Y:$Z,MATCH(DATOS!X97,referentes!$Z:$Z,0),))","v":""},null,null,null,null,"OA",null,"SO",null,null,"",null,null,null,null,null,null,null,null,null,null,{"$f":"IF(AS97<>\"\",VLOOKUP(AS97,#REF!,2,TRUE),\"\")","v":""},null,{"$f":"IF(AU97<>\"\",VLOOKUP(AU97,#REF!,2,FALSE),\"\")","v":""},null,null,null,{"$f":"IF(AY97<>\"\",VLOOKUP(AY97,#REF!,2,TRUE),\"\")","v":""},null,93,"",null,{"$f":"IF(BD97=\"\",\"\",INDEX(referentes!$J:$K,MATCH(BD97,referentes!$J:$J,0),2))","v":""},null,null,{"$f":"IF(BG97=\"\",\"\",INDEX(referentes!$G:$H,MATCH(BG97,referentes!$G:$G,0),2))","v":""},{"$f":"IF(BD97=\"\",\"\",INDEX(referentes!$J:$P,MATCH(BD97,referentes!$J:$J,0),7))","v":""},""]
["19000100",{"$f":"DIGITADOR!$B$2","v":""},0,{"$f":"IF(E98<>\"\",CONCATENATE($A$2,DIGITADOR!$M$1,O98,AH98),\"\")","v":""},null,null,"","",null,null,null,null,"",{"$f":"IF(M98=\"\",\"\",INDEX('OTRAS REFERENTES'!$M:$O,MATCH(M98,'OTRAS REFERENTES'!$M:$M,0),3))","v":""},{"$f":"IF(M98=\"\",\"\",INDEX('OTRAS REFERENTES'!$M:$O,MATCH(M98,'OTRAS REFERENTES'!$M:$M,0),2))","v":""},null,null,null,null,null,null,null,null,null,{"$f":"IF(X98=\"\",\"\",INDEX(referentes!$Y:$Z,MATCH(DATOS!X98,referentes!$Z:$Z,0),))","v":""},null,null,null,null,"OA",null,"SO",null,null,"",null,null,null,null,null,null,null,null,null,null,{"$f":"IF(AS98<>\"\",VLOOKUP(AS98,#REF!,2,TRUE),\"\")","v":""},null,{"$f":"IF(AU98<>\"\",VLOOKUP(AU98,#REF!,2,FALSE),\"\")","v":""},null,null,null,{"$f":"IF(AY98<>\"\",VLOOKUP(AY98,#REF!,2,TRUE),\"\")","v":""},null,94,"",null,{"$f":"IF(BD98=\"\",\"\",INDEX(referentes!$J:$K,MATCH(BD98,referentes!$J:$J,0),2))","v":""},null,null,{"$f":"IF(BG98=\"\",\"\",INDEX(referentes!$G:$H,MATCH(BG98,referentes!$G:$G,0),2))","v":""},{"$f":"IF(BD98=\"\",\"\",INDEX(referentes!$J:$P,MATCH(BD98,referentes!$J:$J,0),7))","v":""},""]
["19000100",{"$f":"DIGITADOR!$B$2","v":""},0,{"$f":"IF(E99<>\"\",CONCATENATE($A$2,DIGITADOR!$M$1,O99,AH99),\"\")","v":""},null,null,"","",null,null,null,null,"",{"$f":"IF(M99=\"\",\"\",INDEX('OTRAS REFERENTES'!$M:$O,MATCH(M99,'OTRAS REFERENTES'!$M:$M,0),3))","v":""},{"$f":"IF(M99=\"\",\"\",INDEX('OTRAS REFERENTES'!$M:$O,MATCH(M99,'OTRAS REFERENTES'!$M:$M,0),2))","v":""},null,null,null,null,null,null,null,null,null,{"$f":"IF(X99=\"\",\"\",INDEX(referentes!$Y:$Z,MATCH(DATOS!X99,referentes!$Z:$Z,0),))","v":""},null,null,null,null,"OA",null,"SO",null,null,"",null,null,null,null,null,null,null,null,null,null,{"$f":"IF(AS99<>\"\",VLOOKUP(AS99,#REF!,2,TRUE),\"\")","v":""},null,{"$f":"IF(AU99<>\"\",VLOOKUP(AU99,#REF!,2,FALSE),\"\")","v":""},null,null,null,{"$f":"IF(AY99<>\"\",VLOOKUP(AY99,#REF!,2,TRUE),\"\")","v":""},null,95,"",null,{"$f":"IF(BD99=\"\",\"\",INDEX(referentes!$J:$K,MATCH(BD99,referentes!$J:$J,0),2))","v":""},null,null,{"$f":"IF(BG99=\"\",\"\",INDEX(referentes!$G:$H,MATCH(BG99,referentes!$G:$G,0),2))","v":""},{"$f":"IF(BD99=\"\",\"\",INDEX(referentes!$J:$P,MATCH(BD99,referentes!$J:$J,0),7))","v":""},""]
["19000100",{"$f":"DIGITADOR!$B$2","v":""},0,{"$f":"IF(E100<>\"\",CONCATENATE($A$2,DIGITADOR!$M$1,O100,AH100),\"\")","v":""},null,null,"","",null,null,null,null,"",{"$f":"IF(M100=\"\",\"\",INDEX('OTRAS REFERENTES'!$M:$O,MATCH(M100,'OTRAS REFERENTES'!$M:$M,0),3))","v":""},{"$f":"IF(M100=\"\",\"\",INDEX('OTRAS REFERENTES'!$M:$O,MATCH(M100,'OTRAS REFERENTES'!$M:$M,0),2))","v":""},null,null,null,null,null,null,null,null,null,{"$f":"IF(X100=\"\",\"\",INDEX(referentes!$Y:$Z,MATCH(DATOS!X100,referentes!$Z:$Z,0),))","v":""},null,null,null,null,"OA",null,"SO",null,null,"",null,null,null,null,null,null,null,null,null,null,{"$f":"IF(AS100<>\"\",VLOOKUP(AS100,#REF!,2,TRUE),\"\")","v":""},null,{"$f":"IF(AU100<>\"\",VLOOKUP(AU100,#REF!,2,FALSE),\"\")","v":""},null,null,null,{"$f":"IF(AY100<>\"\",VLOOKUP(AY100,#REF!,2,TRUE),\"\")","v":""},null,96,"",null,{"$f":"IF(BD100=\"\",\"\",INDEX(referentes!$J:$K,MATCH(BD100,referentes!$J:$J,0),2))","v":""},null,null,{"$f":"IF(BG100=\"\",\"\",INDEX(referentes!$G:$H,MATCH(BG100,referentes!$G:$G,0),2))","v":""},{"$f":"IF(BD100=\"\",\"\",INDEX(referentes!$J:$P,MATCH(BD100,referentes!$J:$J,0),7))","v":""},""]
["19000100",{"$f":"DIGITADOR!$B$2","v":""},0,{"$f":"IF(E101<>\"\",CONCATENATE($A$2,DIGITADOR!$M$1,O101,AH101),\"\")","v":""},null,null,"","",null,null,null,null,"",{"$f":"IF(M101=\"\",\"\",INDEX('OTRAS REFERENTES'!$M:$O,MATCH(M101,'OTRAS REFERENTES'!$M:$M,0),3))","v":""},{"$f":"IF(M101=\"\",\"\",INDEX('OTRAS REFERENTES'!$M:$O,MATCH(M101,'OTRAS REFERENTES'!$M:$M,0),2))","v":""},null,null,null,null,null,null,null,null,null,{"$f":"IF(X101=\"\",\"\",INDEX(referentes!$Y:$Z,MATCH(DATOS!X101,referentes!$Z:$Z,0),))","v":""},null,null,null,null,"OA",null,"SO",null,null,"",null,null,null,null,null,null,null,null,null,null,{"$f":"IF(AS101<>\"\",VLOOKUP(AS101,#REF!,2,TRUE),\"\")","v":""},null,{"$f":"IF(AU101<>\"\",VLOOKUP(AU101,#REF!,2,FALSE),\"\")","v":""},null,null,null,{"$f":"IF(AY101<>\"\",VLOOKUP(AY101,#REF!,2,TRUE),\"\")","v":""},null,97,"",null,{"$f":"IF(BD101=\"\",\"\",INDEX(referentes!$J:$K,MATCH(BD101,referentes!$J:$J,0),2))","v":""},null,null,{"$f":"IF(BG101=\"\",\"\",INDEX(referentes!$G:$H,MATCH(BG101,referentes!$G:$G,0),2))","v":""},{"$f":"IF(BD101=\"\",\"\",INDEX(referentes!$J:$P,MATCH(BD101,referentes!$J:$J,0),7))","v":""},""]
["19000100",{"$f":"DIGITADOR!$B$2","v":""},0,{"$f":"IF(E102<>\"\",CONCATENATE($A$2,DIGITADOR!$M$1,O102,AH102),\"\")","v":""},null,null,"","",null,null,null,null,"",{"$f":"IF(M102=\"\",\"\",INDEX('OTRAS REFERENTES'!$M:$O,MATCH(M102,'OTRAS REFERENTES'!$M:$M,0),3))","v":""},{"$f":"IF(M102=\"\",\"\",INDEX('OTRAS REFERENTES'!$M:$O,MATCH(M102,'OTRAS REFERENTES'!$M:$M,0),2))","v":""},null,null,null,null,null,null,null,null,null,{"$f":"IF(X102=\"\",\"\",INDEX(referentes!$Y:$Z,MATCH(DATOS!X102,referentes!$Z:$Z,0),))","v":""},null,null,null,null,"OA",null,"SO",null,null,"",null,null,null,null,null,null,null,null,null,null,{"$f":"IF(AS102<>\"\",VLOOKUP(AS102,#REF!,2,TRUE),\"\")","v":""},null,{"$f":"IF(AU102<>\"\",VLOOKUP(AU102,#REF!,2,FALSE),\"\")","v":""},null,null,null,{"$f":"IF(AY102<>\"\",VLOOKUP(AY102,#REF!,2,TRUE),\"\")","v":""},null,98,"",null,{"$f":"IF(BD102=\"\",\"\",INDEX(referentes!$J:$K,MATCH(BD102,referentes!$J:$J,0),2))","v":""},null,null,{"$f":"IF(BG102=\"\",\"\",INDEX(referentes!$G:$H,MATCH(BG102,referentes!$G:$G,0),2))","v":""},{"$f":"IF(BD102=\"\",\"\",INDEX(referentes!$J:$P,MATCH(BD102,referentes!$J:$J,0),7))","v":""},""]
["19000100",{"$f":"DIGITADOR!$B$2","v":""},0,{"$f":"IF(E103<>\"\",CONCATENATE($A$2,DIGITADOR!$M$1,O103,AH103),\"\")","v":""},null,null,"","",null,null,null,null,"",{"$f":"IF(M103=\"\",\"\",INDEX('OTRAS REFERENTES'!$M:$O,MATCH(M103,'OTRAS REFERENTES'!$M:$M,0),3))","v":""},{"$f":"IF(M103=\"\",\"\",INDEX('OTRAS REFERENTES'!$M:$O,MATCH(M103,'OTRAS REFERENTES'!$M:$M,0),2))","v":""},null,null,null,null,null,null,null,null,null,{"$f":"IF(X103=\"\",\"\",INDEX(referentes!$Y:$Z,MATCH(DATOS!X103,referentes!$Z:$Z,0),))","v":""},null,null,null,null,"OA",null,"SO",null,null,"",null,null,null,null,null,null,null,null,null,null,{"$f":"IF(AS103<>\"\",VLOOKUP(AS103,#REF!,2,TRUE),\"\")","v":""},null,{"$f":"IF(AU103<>\"\",VLOOKUP(AU103,#REF!,2,FALSE),\"\")","v":""},null,null,null,{"$f":"IF(AY103<>\"\",VLOOKUP(AY103,#REF!,2,TRUE),\"\")","v":""},null,99,"",null,{"$f":"IF(BD103=\"\",\"\",INDEX(referentes!$J:$K,MATCH(BD103,referentes!$J:$J,0),2))","v":""},null,null,{"$f":"IF(BG103=\"\",\"\",INDEX(referentes!$G:$H,MATCH(BG103,referentes!$G:$G,0),2))","v":""},{"$f":"IF(BD103=\"\",\"\",INDEX(referentes!$J:$P,MATCH(BD103,referentes!$J:$J,0),7))","v":""},""]
["19000100",{"$f":"DIGITADOR!$B$2","v":""},0,{"$f":"IF(E104<>\"\",CONCATENATE($A$2,DIGITADOR!$M$1,O104,AH104),\"\")","v":""},null,null,"","",null,null,null,null,"",{"$f":"IF(M104=\"\",\"\",INDEX('OTRAS REFERENTES'!$M:$O,MATCH(M104,'OTRAS REFERENTES'!$M:$M,0),3))","v":""},{"$f":"IF(M104=\"\",\"\",INDEX('OTRAS REFERENTES'!$M:$O,MATCH(M104,'OTRAS REFERENTES'!$M:$M,0),2))","v":""},null,null,null,null,null,null,null,null,null,{"$f":"IF(X104=\"\",\"\",INDEX(referentes!$Y:$Z,MATCH(DATOS!X104,referentes!$Z:$Z,0),))","v":""},null,null,null,null,"OA",null,"SO",null,null,"",null,null,null,null,null,null,null,null,null,null,{"$f":"IF(AS104<>\"\",VLOOKUP(AS104,#REF!,2,TRUE),\"\")","v":""},null,{"$f":"IF(AU104<>\"\",VLOOKUP(AU104,#REF!,2,FALSE),\"\")","v":""},null,null,null,{"$f":"IF(AY104<>\"\",VLOOKUP(AY104,#REF!,2,TRUE),\"\")","v":""},null,100,"",null,{"$f":"IF(BD104=\"\",\"\",INDEX(referentes!$J:$K,MATCH(BD104,referentes!$J:$J,0),2))","v":""},null,null,{"$f":"IF(BG104=\"\",\"\",INDEX(referentes!$G:$H,MATCH(BG104,referentes!$G:$G,0),2))","v":""},{"$f":"IF(BD104=\"\",\"\",INDEX(referentes!$J:$P,MATCH(BD104,referentes!$J:$J,0),7))","v":""},""]
["19000100",{"$f":"DIGITADOR!$B$2","v":""},{"$f":"IF(Z105=Z104,C104,C104+1)","v":0},{"$f":"IF(E105<>\"\",CONCATENATE($A$2,DIGITADOR!$M$1,O105,AH105),\"\")","v":""},null,null,"","",null,null,null,null,"",{"$f":"IF(M105=\"\",\"\",INDEX('OTRAS REFERENTES'!$M:$O,MATCH(M105,'OTRAS REFERENTES'!$M:$M,0),3))","v":""},{"$f":"IF(M105=\"\",\"\",INDEX('OTRAS REFERENTES'!$M:$O,MATCH(M105,'OTRAS REFERENTES'!$M:$M,0),2))","v":""},null,null,null,null,null,null,null,null,null,{"$f":"IF(X105=\"\",\"\",INDEX(referentes!$Y:$Z,MATCH(DATOS!X105,referentes!$Z:$Z,0),))","v":""},null,null,null,null,"OA",null,"SO",null,null,"",null,null,null,null,null,null,null,null,null,null,{"$f":"IF(AS105<>\"\",VLOOKUP(AS105,#REF!,2,TRUE),\"\")","v":""},null,{"$f":"IF(AU105<>\"\",VLOOKUP(AU105,#REF!,2,FALSE),\"\")","v":""},null,null,null,{"$f":"IF(AY105<>\"\",VLOOKUP(AY105,#REF!,2,TRUE),\"\")","v":""},null,101,"",null,{"$f":"IF(BD105=\"\",\"\",INDEX(referentes!$J:$K,MATCH(BD105,referentes!$J:$J,0),2))","v":""},null,null,{"$f":"IF(BG105=\"\",\"\",INDEX(referentes!$G:$H,MATCH(BG105,referentes!$G:$G,0),2))","v":""},{"$f":"IF(BD105=\"\",\"\",INDEX(referentes!$J:$P,MATCH(BD105,referentes!$J:$J,0),7))","v":""},""]
["19000100",{"$f":"DIGITADOR!$B$2","v":""},0,{"$f":"IF(E106<>\"\",CONCATENATE($A$2,DIGITADOR!$M$1,O106,AH106),\"\")","v":""},null,null,"","",null,null,null,null,"",{"$f":"IF(M106=\"\",\"\",INDEX('OTRAS REFERENTES'!$M:$O,MATCH(M106,'OTRAS REFERENTES'!$M:$M,0),3))","v":""},{"$f":"IF(M106=\"\",\"\",INDEX('OTRAS REFERENTES'!$M:$O,MATCH(M106,'OTRAS REFERENTES'!$M:$M,0),2))","v":""},null,null,null,null,null,null,null,null,null,{"$f":"IF(X106=\"\",\"\",INDEX(referentes!$Y:$Z,MATCH(DATOS!X106,referentes!$Z:$Z,0),))","v":""},null,null,null,null,"OA",null,"SO",null,null,"",null,null,null,null,null,null,null,null,null,null,{"$f":"IF(AS106<>\"\",VLOOKUP(AS106,#REF!,2,TRUE),\"\")","v":""},null,{"$f":"IF(AU106<>\"\",VLOOKUP(AU106,#REF!,2,FALSE),\"\")","v":""},null,null,null,{"$f":"IF(AY106<>\"\",VLOOKUP(AY106,#REF!,2,TRUE),\"\")","v":""},null,102,"",null,{"$f":"IF(BD106=\"\",\"\",INDEX(referentes!$J:$K,MATCH(BD106,referentes!$J:$J,0),2))","v":""},null,null,{"$f":"IF(BG106=\"\",\"\",INDEX(referentes!$G:$H,MATCH(BG106,referentes!$G:$G,0),2))","v":""},{"$f":"IF(BD106=\"\",\"\",INDEX(referentes!$J:$P,MATCH(BD106,referentes!$J:$J,0),7))","v":""},""]
["19000100",{"$f":"DIGITADOR!$B$2","v":""},0,{"$f":"IF(E107<>\"\",CONCATENATE($A$2,DIGITADOR!$M$1,O107,AH107),\"\")","v":""},null,null,"","",null,null,null,null,"",{"$f":"IF(M107=\"\",\"\",INDEX('OTRAS REFERENTES'!$M:$O,MATCH(M107,'OTRAS REFERENTES'!$M:$M,0),3))","v":""},{"$f":"IF(M107=\"\",\"\",INDEX('OTRAS REFERENTES'!$M:$O,MATCH(M107,'OTRAS REFERENTES'!$M:$M,0),2))","v":""},null,null,null,null,null,null,null,null,null,{"$f":"IF(X107=\"\",\"\",INDEX(referentes!$Y:$Z,MATCH(DATOS!X107,referentes!$Z:$Z,0),))","v":""},null,null,null,null,"OA",null,"SO",null,null,"",null,null,null,null,null,null,null,null,null,null,{"$f":"IF(AS107<>\"\",VLOOKUP(AS107,#REF!,2,TRUE),\"\")","v":""},null,{"$f":"IF(AU107<>\"\",VLOOKUP(AU107,#REF!,2,FALSE),\"\")","v":""},null,null,null,{"$f":"IF(AY107<>\"\",VLOOKUP(AY107,#REF!,2,TRUE),\"\")","v":""},null,103,"",null,{"$f":"IF(BD107=\"\",\"\",INDEX(referentes!$J:$K,MATCH(BD107,referentes!$J:$J,0),2))","v":""},null,null,{"$f":"IF(BG107=\"\",\"\",INDEX(referentes!$G:$H,MATCH(BG107,referentes!$G:$G,0),2))","v":""},{"$f":"IF(BD107=\"\",\"\",INDEX(referentes!$J:$P,MATCH(BD107,referentes!$J:$J,0),7))","v":""},""]
["19000100",{"$f":"DIGITADOR!$B$2","v":""},0,{"$f":"IF(E108<>\"\",CONCATENATE($A$2,DIGITADOR!$M$1,O108,AH108),\"\")","v":""},null,null,"","",null,null,null,null,"",{"$f":"IF(M108=\"\",\"\",INDEX('OTRAS REFERENTES'!$M:$O,MATCH(M108,'OTRAS REFERENTES'!$M:$M,0),3))","v":""},{"$f":"IF(M108=\"\",\"\",INDEX('OTRAS REFERENTES'!$M:$O,MATCH(M108,'OTRAS REFERENTES'!$M:$M,0),2))","v":""},null,null,null,null,null,null,null,null,null,{"$f":"IF(X108=\"\",\"\",INDEX(referentes!$Y:$Z,MATCH(DATOS!X108,referentes!$Z:$Z,0),))","v":""},null,null,null,null,"OA",null,"SO",null,null,"",null,null,null,null,null,null,null,null,null,null,{"$f":"IF(AS108<>\"\",VLOOKUP(AS108,#REF!,2,TRUE),\"\")","v":""},null,{"$f":"IF(AU108<>\"\",VLOOKUP(AU108,#REF!,2,FALSE),\"\")","v":""},null,null,null,{"$f":"IF(AY108<>\"\",VLOOKUP(AY108,#REF!,2,TRUE),\"\")","v":""},null,104,"",null,{"$f":"IF(BD108=\"\",\"\",INDEX(referentes!$J:$K,MATCH(BD108,referentes!$J:$J,0),2))","v":""},null,null,{"$f":"IF(BG108=\"\",\"\",INDEX(referentes!$G:$H,MATCH(BG108,referentes!$G:$G,0),2))","v":""},{"$f":"IF(BD108=\"\",\"\",INDEX(referentes!$J:$P,MATCH(BD108,referentes!$J:$J,0),7))","v":""},""]
["19000100",{"$f":"DIGITADOR!$B$2","v":""},0,{"$f":"IF(E109<>\"\",CONCATENATE($A$2,DIGITADOR!$M$1,O109,AH109),\"\")","v":""},null,null,"","",null,null,null,null,"",{"$f":"IF(M109=\"\",\"\",INDEX('OTRAS REFERENTES'!$M:$O,MATCH(M109,'OTRAS REFERENTES'!$M:$M,0),3))","v":""},{"$f":"IF(M109=\"\",\"\",INDEX('OTRAS REFERENTES'!$M:$O,MATCH(M109,'OTRAS REFERENTES'!$M:$M,0),2))","v":""},null,null,null,null,null,null,null,null,null,{"$f":"IF(X109=\"\",\"\",INDEX(referentes!$Y:$Z,MATCH(DATOS!X109,referentes!$Z:$Z,0),))","v":""},null,null,null,null,"OA",null,"SO",null,null,"",null,null,null,null,null,null,null,null,null,null,{"$f":"IF(AS109<>\"\",VLOOKUP(AS109,#REF!,2,TRUE),\"\")","v":""},null,{"$f":"IF(AU109<>\"\",VLOOKUP(AU109,#REF!,2,FALSE),\"\")","v":""},null,null,null,{"$f":"IF(AY109<>\"\",VLOOKUP(AY109,#REF!,2,TRUE),\"\")","v":""},null,105,"",null,{"$f":"IF(BD109=\"\",\"\",INDEX(referentes!$J:$K,MATCH(BD109,referentes!$J:$J,0),2))","v":""},null,null,{"$f":"IF(BG109=\"\",\"\",INDEX(referentes!$G:$H,MATCH(BG109,referentes!$G:$G,0),2))","v":""},{"$f":"IF(BD109=\"\",\"\",INDEX(referentes!$J:$P,MATCH(BD109,referentes!$J:$J,0),7))","v":""},""]
["19000100",{"$f":"DIGITADOR!$B$2","v":""},0,{"$f":"IF(E110<>\"\",CONCATENATE($A$2,DIGITADOR!$M$1,O110,AH110),\"\")","v":""},null,null,"","",null,null,null,null,"",{"$f":"IF(M110=\"\",\"\",INDEX('OTRAS REFERENTES'!$M:$O,MATCH(M110,'OTRAS REFERENTES'!$M:$M,0),3))","v":""},{"$f":"IF(M110=\"\",\"\",INDEX('OTRAS REFERENTES'!$M:$O,MATCH(M110,'OTRAS REFERENTES'!$M:$M,0),2))","v":""},null,null,null,null,null,null,null,null,null,{"$f":"IF(X110=\"\",\"\",INDEX(referentes!$Y:$Z,MATCH(DATOS!X110,referentes!$Z:$Z,0),))","v":""},null,null,null,null,"OA",null,"SO",null,null,"",null,null,null,null,null,null,null,null,null,null,{"$f":"IF(AS110<>\"\",VLOOKUP(AS110,#REF!,2,TRUE),\"\")","v":""},null,{"$f":"IF(AU110<>\"\",VLOOKUP(AU110,#REF!,2,FALSE),\"\")","v":""},null,null,null,{"$f":"IF(AY110<>\"\",VLOOKUP(AY110,#REF!,2,TRUE),\"\")","v":""},null,106,"",null,{"$f":"IF(BD110=\"\",\"\",INDEX(referentes!$J:$K,MATCH(BD110,referentes!$J:$J,0),2))","v":""},null,null,{"$f":"IF(BG110=\"\",\"\",INDEX(referentes!$G:$H,MATCH(BG110,referentes!$G:$G,0),2))","v":""},{"$f":"IF(BD110=\"\",\"\",INDEX(referentes!$J:$P,MATCH(BD110,referentes!$J:$J,0),7))","v":""},""]
["19000100",{"$f":"DIGITADOR!$B$2","v":""},0,{"$f":"IF(E111<>\"\",CONCATENATE($A$2,DIGITADOR!$M$1,O111,AH111),\"\")","v":""},null,null,"","",null,null,null,null,"",{"$f":"IF(M111=\"\",\"\",INDEX('OTRAS REFERENTES'!$M:$O,MATCH(M111,'OTRAS REFERENTES'!$M:$M,0),3))","v":""},{"$f":"IF(M111=\"\",\"\",INDEX('OTRAS REFERENTES'!$M:$O,MATCH(M111,'OTRAS REFERENTES'!$M:$M,0),2))","v":""},null,null,null,null,null,null,null,null,null,{"$f":"IF(X111=\"\",\"\",INDEX(referentes!$Y:$Z,MATCH(DATOS!X111,referentes!$Z:$Z,0),))","v":""},null,null,null,null,"OA",null,"SO",null,null,"",null,null,null,null,null,null,null,null,null,null,{"$f":"IF(AS111<>\"\",VLOOKUP(AS111,#REF!,2,TRUE),\"\")","v":""},null,{"$f":"IF(AU111<>\"\",VLOOKUP(AU111,#REF!,2,FALSE),\"\")","v":""},null,null,null,{"$f":"IF(AY111<>\"\",VLOOKUP(AY111,#REF!,2,TRUE),\"\")","v":""},null,107,"",null,{"$f":"IF(BD111=\"\",\"\",INDEX(referentes!$J:$K,MATCH(BD111,referentes!$J:$J,0),2))","v":""},null,null,{"$f":"IF(BG111=\"\",\"\",INDEX(referentes!$G:$H,MATCH(BG111,referentes!$G:$G,0),2))","v":""},{"$f":"IF(BD111=\"\",\"\",INDEX(referentes!$J:$P,MATCH(BD111,referentes!$J:$J,0),7))","v":""},""]
["19000100",{"$f":"DIGITADOR!$B$2","v":""},0,{"$f":"IF(E112<>\"\",CONCATENATE($A$2,DIGITADOR!$M$1,O112,AH112),\"\")","v":""},null,null,"","",null,null,null,null,"",{"$f":"IF(M112=\"\",\"\",INDEX('OTRAS REFERENTES'!$M:$O,MATCH(M112,'OTRAS REFERENTES'!$M:$M,0),3))","v":""},{"$f":"IF(M112=\"\",\"\",INDEX('OTRAS REFERENTES'!$M:$O,MATCH(M112,'OTRAS REFERENTES'!$M:$M,0),2))","v":""},null,null,null,null,null,null,null,null,null,{"$f":"IF(X112=\"\",\"\",INDEX(referentes!$Y:$Z,MATCH(DATOS!X112,referentes!$Z:$Z,0),))","v":""},null,null,null,null,"OA",null,"SO",null,null,"",null,null,null,null,null,null,null,null,null,null,{"$f":"IF(AS112<>\"\",VLOOKUP(AS112,#REF!,2,TRUE),\"\")","v":""},null,{"$f":"IF(AU112<>\"\",VLOOKUP(AU112,#REF!,2,FALSE),\"\")","v":""},null,null,null,{"$f":"IF(AY112<>\"\",VLOOKUP(AY112,#REF!,2,TRUE),\"\")","v":""},null,108,"",null,{"$f":"IF(BD112=\"\",\"\",INDEX(referentes!$J:$K,MATCH(BD112,referentes!$J:$J,0),2))","v":""},null,null,{"$f":"IF(BG112=\"\",\"\",INDEX(referentes!$G:$H,MATCH(BG112,referentes!$G:$G,0),2))","v":""},{"$f":"IF(BD112=\"\",\"\",INDEX(referentes!$J:$P,MATCH(BD112,referentes!$J:$J,0),7))","v":""},""]
["19000100",{"$f":"DIGITADOR!$B$2","v":""},0,{"$f":"IF(E113<>\"\",CONCATENATE($A$2,DIGITADOR!$M$1,O113,AH113),\"\")","v":""},null,null,"","",null,null,null,null,"",{"$f":"IF(M113=\"\",\"\",INDEX('OTRAS REFERENTES'!$M:$O,MATCH(M113,'OTRAS REFERENTES'!$M:$M,0),3))","v":""},{"$f":"IF(M113=\"\",\"\",INDEX('OTRAS REFERENTES'!$M:$O,MATCH(M113,'OTRAS REFERENTES'!$M:$M,0),2))","v":""},null,null,null,null,null,null,null,null,null,{"$f":"IF(X113=\"\",\"\",INDEX(referentes!$Y:$Z,MATCH(DATOS!X113,referentes!$Z:$Z,0),))","v":""},null,null,null,null,"OA",null,"SO",null,null,"",null,null,null,null,null,null,null,null,null,null,{"$f":"IF(AS113<>\"\",VLOOKUP(AS113,#REF!,2,TRUE),\"\")","v":""},null,{"$f":"IF(AU113<>\"\",VLOOKUP(AU113,#REF!,2,FALSE),\"\")","v":""},null,null,null,{"$f":"IF(AY113<>\"\",VLOOKUP(AY113,#REF!,2,TRUE),\"\")","v":""},null,109,"",null,{"$f":"IF(BD113=\"\",\"\",INDEX(referentes!$J:$K,MATCH(BD113,referentes!$J:$J,0),2))","v":""},null,null,{"$f":"IF(BG113=\"\",\"\",INDEX(referentes!$G:$H,MATCH(BG113,referentes!$G:$G,0),2))","v":""},{"$f":"IF(BD113=\"\",\"\",INDEX(referentes!$J:$P,MATCH(BD113,referentes!$J:$J,0),7))","v":""},""]
["19000100",{"$f":"DIGITADOR!$B$2","v":""},0,{"$f":"IF(E114<>\"\",CONCATENATE($A$2,DIGITADOR!$M$1,O114,AH114),\"\")","v":""},null,null,"","",null,null,null,null,"",{"$f":"IF(M114=\"\",\"\",INDEX('OTRAS REFERENTES'!$M:$O,MATCH(M114,'OTRAS REFERENTES'!$M:$M,0),3))","v":""},{"$f":"IF(M114=\"\",\"\",INDEX('OTRAS REFERENTES'!$M:$O,MATCH(M114,'OTRAS REFERENTES'!$M:$M,0),2))","v":""},null,null,null,null,null,null,null,null,null,{"$f":"IF(X114=\"\",\"\",INDEX(referentes!$Y:$Z,MATCH(DATOS!X114,referentes!$Z:$Z,0),))","v":""},null,null,null,null,"OA",null,"SO",null,null,"",null,null,null,null,null,null,null,null,null,null,{"$f":"IF(AS114<>\"\",VLOOKUP(AS114,#REF!,2,TRUE),\"\")","v":""},null,{"$f":"IF(AU114<>\"\",VLOOKUP(AU114,#REF!,2,FALSE),\"\")","v":""},null,null,null,{"$f":"IF(AY114<>\"\",VLOOKUP(AY114,#REF!,2,TRUE),\"\")","v":""},null,110,"",null,{"$f":"IF(BD114=\"\",\"\",INDEX(referentes!$J:$K,MATCH(BD114,referentes!$J:$J,0),2))","v":""},null,null,{"$f":"IF(BG114=\"\",\"\",INDEX(referentes!$G:$H,MATCH(BG114,referentes!$G:$G,0),2))","v":""},{"$f":"IF(BD114=\"\",\"\",INDEX(referentes!$J:$P,MATCH(BD114,referentes!$J:$J,0),7))","v":""},""]
["19000100",{"$f":"DIGITADOR!$B$2","v":""},0,{"$f":"IF(E115<>\"\",CONCATENATE($A$2,DIGITADOR!$M$1,O115,AH115),\"\")","v":""},null,null,"","",null,null,null,null,"",{"$f":"IF(M115=\"\",\"\",INDEX('OTRAS REFERENTES'!$M:$O,MATCH(M115,'OTRAS REFERENTES'!$M:$M,0),3))","v":""},{"$f":"IF(M115=\"\",\"\",INDEX('OTRAS REFERENTES'!$M:$O,MATCH(M115,'OTRAS REFERENTES'!$M:$M,0),2))","v":""},null,null,null,null,null,null,null,null,null,{"$f":"IF(X115=\"\",\"\",INDEX(referentes!$Y:$Z,MATCH(DATOS!X115,referentes!$Z:$Z,0),))","v":""},null,null,null,null,"OA",null,"SO",null,null,"",null,null,null,null,null,null,null,null,null,null,{"$f":"IF(AS115<>\"\",VLOOKUP(AS115,#REF!,2,TRUE),\"\")","v":""},null,{"$f":"IF(AU115<>\"\",VLOOKUP(AU115,#REF!,2,FALSE),\"\")","v":""},null,null,null,{"$f":"IF(AY115<>\"\",VLOOKUP(AY115,#REF!,2,TRUE),\"\")","v":""},null,111,"",null,{"$f":"IF(BD115=\"\",\"\",INDEX(referentes!$J:$K,MATCH(BD115,referentes!$J:$J,0),2))","v":""},null,null,{"$f":"IF(BG115=\"\",\"\",INDEX(referentes!$G:$H,MATCH(BG115,referentes!$G:$G,0),2))","v":""},{"$f":"IF(BD115=\"\",\"\",INDEX(referentes!$J:$P,MATCH(BD115,referentes!$J:$J,0),7))","v":""},""]
["19000100",{"$f":"DIGITADOR!$B$2","v":""},0,{"$f":"IF(E116<>\"\",CONCATENATE($A$2,DIGITADOR!$M$1,O116,AH116),\"\")","v":""},null,null,"","",null,null,null,null,"",{"$f":"IF(M116=\"\",\"\",INDEX('OTRAS REFERENTES'!$M:$O,MATCH(M116,'OTRAS REFERENTES'!$M:$M,0),3))","v":""},{"$f":"IF(M116=\"\",\"\",INDEX('OTRAS REFERENTES'!$M:$O,MATCH(M116,'OTRAS REFERENTES'!$M:$M,0),2))","v":""},null,null,null,null,null,null,null,null,null,{"$f":"IF(X116=\"\",\"\",INDEX(referentes!$Y:$Z,MATCH(DATOS!X116,referentes!$Z:$Z,0),))","v":""},null,null,null,null,"OA",null,"SO",null,null,"",null,null,null,null,null,null,null,null,null,null,{"$f":"IF(AS116<>\"\",VLOOKUP(AS116,#REF!,2,TRUE),\"\")","v":""},null,{"$f":"IF(AU116<>\"\",VLOOKUP(AU116,#REF!,2,FALSE),\"\")","v":""},null,null,null,{"$f":"IF(AY116<>\"\",VLOOKUP(AY116,#REF!,2,TRUE),\"\")","v":""},null,112,"",null,{"$f":"IF(BD116=\"\",\"\",INDEX(referentes!$J:$K,MATCH(BD116,referentes!$J:$J,0),2))","v":""},null,null,{"$f":"IF(BG116=\"\",\"\",INDEX(referentes!$G:$H,MATCH(BG116,referentes!$G:$G,0),2))","v":""},{"$f":"IF(BD116=\"\",\"\",INDEX(referentes!$J:$P,MATCH(BD116,referentes!$J:$J,0),7))","v":""},""]
["19000100",{"$f":"DIGITADOR!$B$2","v":""},0,{"$f":"IF(E117<>\"\",CONCATENATE($A$2,DIGITADOR!$M$1,O117,AH117),\"\")","v":""},null,null,"","",null,null,null,null,"",{"$f":"IF(M117=\"\",\"\",INDEX('OTRAS REFERENTES'!$M:$O,MATCH(M117,'OTRAS REFERENTES'!$M:$M,0),3))","v":""},{"$f":"IF(M117=\"\",\"\",INDEX('OTRAS REFERENTES'!$M:$O,MATCH(M117,'OTRAS REFERENTES'!$M:$M,0),2))","v":""},null,null,null,null,null,null,null,null,null,{"$f":"IF(X117=\"\",\"\",INDEX(referentes!$Y:$Z,MATCH(DATOS!X117,referentes!$Z:$Z,0),))","v":""},null,null,null,null,"OA",null,"SO",null,null,"",null,null,null,null,null,null,null,null,null,null,{"$f":"IF(AS117<>\"\",VLOOKUP(AS117,#REF!,2,TRUE),\"\")","v":""},null,{"$f":"IF(AU117<>\"\",VLOOKUP(AU117,#REF!,2,FALSE),\"\")","v":""},null,null,null,{"$f":"IF(AY117<>\"\",VLOOKUP(AY117,#REF!,2,TRUE),\"\")","v":""},null,113,"",null,{"$f":"IF(BD117=\"\",\"\",INDEX(referentes!$J:$K,MATCH(BD117,referentes!$J:$J,0),2))","v":""},null,null,{"$f":"IF(BG117=\"\",\"\",INDEX(referentes!$G:$H,MATCH(BG117,referentes!$G:$G,0),2))","v":""},{"$f":"IF(BD117=\"\",\"\",INDEX(referentes!$J:$P,MATCH(BD117,referentes!$J:$J,0),7))","v":""},""]
["19000100",{"$f":"DIGITADOR!$B$2","v":""},0,{"$f":"IF(E118<>\"\",CONCATENATE($A$2,DIGITADOR!$M$1,O118,AH118),\"\")","v":""},null,null,"","",null,null,null,null,"",{"$f":"IF(M118=\"\",\"\",INDEX('OTRAS REFERENTES'!$M:$O,MATCH(M118,'OTRAS REFERENTES'!$M:$M,0),3))","v":""},{"$f":"IF(M118=\"\",\"\",INDEX('OTRAS REFERENTES'!$M:$O,MATCH(M118,'OTRAS REFERENTES'!$M:$M,0),2))","v":""},null,null,null,null,null,null,null,null,null,{"$f":"IF(X118=\"\",\"\",INDEX(referentes!$Y:$Z,MATCH(DATOS!X118,referentes!$Z:$Z,0),))","v":""},null,null,null,null,"OA",null,"SO",null,null,"",null,null,null,null,null,null,null,null,null,null,{"$f":"IF(AS118<>\"\",VLOOKUP(AS118,#REF!,2,TRUE),\"\")","v":""},null,{"$f":"IF(AU118<>\"\",VLOOKUP(AU118,#REF!,2,FALSE),\"\")","v":""},null,null,null,{"$f":"IF(AY118<>\"\",VLOOKUP(AY118,#REF!,2,TRUE),\"\")","v":""},null,114,"",null,{"$f":"IF(BD118=\"\",\"\",INDEX(referentes!$J:$K,MATCH(BD118,referentes!$J:$J,0),2))","v":""},null,null,{"$f":"IF(BG118=\"\",\"\",INDEX(referentes!$G:$H,MATCH(BG118,referentes!$G:$G,0),2))","v":""},{"$f":"IF(BD118=\"\",\"\",INDEX(referentes!$J:$P,MATCH(BD118,referentes!$J:$J,0),7))","v":""},""]
["19000100",{"$f":"DIGITADOR!$B$2","v":""},0,{"$f":"IF(E119<>\"\",CONCATENATE($A$2,DIGITADOR!$M$1,O119,AH119),\"\")","v":""},null,null,"","",null,null,null,null,"",{"$f":"IF(M119=\"\",\"\",INDEX('OTRAS REFERENTES'!$M:$O,MATCH(M119,'OTRAS REFERENTES'!$M:$M,0),3))","v":""},{"$f":"IF(M119=\"\",\"\",INDEX('OTRAS REFERENTES'!$M:$O,MATCH(M119,'OTRAS REFERENTES'!$M:$M,0),2))","v":""},null,null,null,null,null,null,null,null,null,{"$f":"IF(X119=\"\",\"\",INDEX(referentes!$Y:$Z,MATCH(DATOS!X119,referentes!$Z:$Z,0),))","v":""},null,null,null,null,"OA",null,"SO",null,null,"",null,null,null,null,null,null,null,null,null,null,{"$f":"IF(AS119<>\"\",VLOOKUP(AS119,#REF!,2,TRUE),\"\")","v":""},null,{"$f":"IF(AU119<>\"\",VLOOKUP(AU119,#REF!,2,FALSE),\"\")","v":""},null,null,null,{"$f":"IF(AY119<>\"\",VLOOKUP(AY119,#REF!,2,TRUE),\"\")","v":""},null,115,"",null,{"$f":"IF(BD119=\"\",\"\",INDEX(referentes!$J:$K,MATCH(BD119,referentes!$J:$J,0),2))","v":""},null,null,{"$f":"IF(BG119=\"\",\"\",INDEX(referentes!$G:$H,MATCH(BG119,referentes!$G:$G,0),2))","v":""},{"$f":"IF(BD119=\"\",\"\",INDEX(referentes!$J:$P,MATCH(BD119,referentes!$J:$J,0),7))","v":""},""]
["19000100",{"$f":"DIGITADOR!$B$2","v":""},0,{"$f":"IF(E120<>\"\",CONCATENATE($A$2,DIGITADOR!$M$1,O120,AH120),\"\")","v":""},null,null,"","",null,null,null,null,"",{"$f":"IF(M120=\"\",\"\",INDEX('OTRAS REFERENTES'!$M:$O,MATCH(M120,'OTRAS REFERENTES'!$M:$M,0),3))","v":""},{"$f":"IF(M120=\"\",\"\",INDEX('OTRAS REFERENTES'!$M:$O,MATCH(M120,'OTRAS REFERENTES'!$M:$M,0),2))","v":""},null,null,null,null,null,null,null,null,null,{"$f":"IF(X120=\"\",\"\",INDEX(referentes!$Y:$Z,MATCH(DATOS!X120,referentes!$Z:$Z,0),))","v":""},null,null,null,null,"OA",null,"SO",null,null,"",null,null,null,null,null,null,null,null,null,null,{"$f":"IF(AS120<>\"\",VLOOKUP(AS120,#REF!,2,TRUE),\"\")","v":""},null,{"$f":"IF(AU120<>\"\",VLOOKUP(AU120,#REF!,2,FALSE),\"\")","v":""},null,null,null,{"$f":"IF(AY120<>\"\",VLOOKUP(AY120,#REF!,2,TRUE),\"\")","v":""},null,116,"",null,{"$f":"IF(BD120=\"\",\"\",INDEX(referentes!$J:$K,MATCH(BD120,referentes!$J:$J,0),2))","v":""},null,null,{"$f":"IF(BG120=\"\",\"\",INDEX(referentes!$G:$H,MATCH(BG120,referentes!$G:$G,0),2))","v":""},{"$f":"IF(BD120=\"\",\"\",INDEX(referentes!$J:$P,MATCH(BD120,referentes!$J:$J,0),7))","v":""},""]
["19000100",{"$f":"DIGITADOR!$B$2","v":""},0,{"$f":"IF(E121<>\"\",CONCATENATE($A$2,DIGITADOR!$M$1,O121,AH121),\"\")","v":""},null,null,"","",null,null,null,null,"",{"$f":"IF(M121=\"\",\"\",INDEX('OTRAS REFERENTES'!$M:$O,MATCH(M121,'OTRAS REFERENTES'!$M:$M,0),3))","v":""},{"$f":"IF(M121=\"\",\"\",INDEX('OTRAS REFERENTES'!$M:$O,MATCH(M121,'OTRAS REFERENTES'!$M:$M,0),2))","v":""},null,null,null,null,null,null,null,null,null,{"$f":"IF(X121=\"\",\"\",INDEX(referentes!$Y:$Z,MATCH(DATOS!X121,referentes!$Z:$Z,0),))","v":""},null,null,null,null,"OA",null,"SO",null,null,"",null,null,null,null,null,null,null,null,null,null,{"$f":"IF(AS121<>\"\",VLOOKUP(AS121,#REF!,2,TRUE),\"\")","v":""},null,{"$f":"IF(AU121<>\"\",VLOOKUP(AU121,#REF!,2,FALSE),\"\")","v":""},null,null,null,{"$f":"IF(AY121<>\"\",VLOOKUP(AY121,#REF!,2,TRUE),\"\")","v":""},null,117,"",null,{"$f":"IF(BD121=\"\",\"\",INDEX(referentes!$J:$K,MATCH(BD121,referentes!$J:$J,0),2))","v":""},null,null,{"$f":"IF(BG121=\"\",\"\",INDEX(referentes!$G:$H,MATCH(BG121,referentes!$G:$G,0),2))","v":""},{"$f":"IF(BD121=\"\",\"\",INDEX(referentes!$J:$P,MATCH(BD121,referentes!$J:$J,0),7))","v":""},""]
["19000100",{"$f":"DIGITADOR!$B$2","v":""},0,{"$f":"IF(E122<>\"\",CONCATENATE($A$2,DIGITADOR!$M$1,O122,AH122),\"\")","v":""},null,null,"","",null,null,null,null,"",{"$f":"IF(M122=\"\",\"\",INDEX('OTRAS REFERENTES'!$M:$O,MATCH(M122,'OTRAS REFERENTES'!$M:$M,0),3))","v":""},{"$f":"IF(M122=\"\",\"\",INDEX('OTRAS REFERENTES'!$M:$O,MATCH(M122,'OTRAS REFERENTES'!$M:$M,0),2))","v":""},null,null,null,null,null,null,null,null,null,{"$f":"IF(X122=\"\",\"\",INDEX(referentes!$Y:$Z,MATCH(DATOS!X122,referentes!$Z:$Z,0),))","v":""},null,null,null,null,"OA",null,"SO",null,null,"",null,null,null,null,null,null,null,null,null,null,{"$f":"IF(AS122<>\"\",VLOOKUP(AS122,#REF!,2,TRUE),\"\")","v":""},null,{"$f":"IF(AU122<>\"\",VLOOKUP(AU122,#REF!,2,FALSE),\"\")","v":""},null,null,null,{"$f":"IF(AY122<>\"\",VLOOKUP(AY122,#REF!,2,TRUE),\"\")","v":""},null,118,"",null,{"$f":"IF(BD122=\"\",\"\",INDEX(referentes!$J:$K,MATCH(BD122,referentes!$J:$J,0),2))","v":""},null,null,{"$f":"IF(BG122=\"\",\"\",INDEX(referentes!$G:$H,MATCH(BG122,referentes!$G:$G,0),2))","v":""},{"$f":"IF(BD122=\"\",\"\",INDEX(referentes!$J:$P,MATCH(BD122,referentes!$J:$J,0),7))","v":""},""]
["19000100",{"$f":"DIGITADOR!$B$2","v":""},0,{"$f":"IF(E123<>\"\",CONCATENATE($A$2,DIGITADOR!$M$1,O123,AH123),\"\")","v":""},null,null,"","",null,null,null,null,"",{"$f":"IF(M123=\"\",\"\",INDEX('OTRAS REFERENTES'!$M:$O,MATCH(M123,'OTRAS REFERENTES'!$M:$M,0),3))","v":""},{"$f":"IF(M123=\"\",\"\",INDEX('OTRAS REFERENTES'!$M:$O,MATCH(M123,'OTRAS REFERENTES'!$M:$M,0),2))","v":""},null,null,null,null,null,null,null,null,null,{"$f":"IF(X123=\"\",\"\",INDEX(referentes!$Y:$Z,MATCH(DATOS!X123,referentes!$Z:$Z,0),))","v":""},null,null,null,null,"OA",null,"SO",null,null,"",null,null,null,null,null,null,null,null,null,null,{"$f":"IF(AS123<>\"\",VLOOKUP(AS123,#REF!,2,TRUE),\"\")","v":""},null,{"$f":"IF(AU123<>\"\",VLOOKUP(AU123,#REF!,2,FALSE),\"\")","v":""},null,null,null,{"$f":"IF(AY123<>\"\",VLOOKUP(AY123,#REF!,2,TRUE),\"\")","v":""},null,119,"",null,{"$f":"IF(BD123=\"\",\"\",INDEX(referentes!$J:$K,MATCH(BD123,referentes!$J:$J,0),2))","v":""},null,null,{"$f":"IF(BG123=\"\",\"\",INDEX(referentes!$G:$H,MATCH(BG123,referentes!$G:$G,0),2))","v":""},{"$f":"IF(BD123=\"\",\"\",INDEX(referentes!$J:$P,MATCH(BD123,referentes!$J:$J,0),7))","v":""},""]
["19000100",{"$f":"DIGITADOR!$B$2","v":""},0,{"$f":"IF(E124<>\"\",CONCATENATE($A$2,DIGITADOR!$M$1,O124,AH124),\"\")","v":""},null,null,"","",null,null,null,null,"",{"$f":"IF(M124=\"\",\"\",INDEX('OTRAS REFERENTES'!$M:$O,MATCH(M124,'OTRAS REFERENTES'!$M:$M,0),3))","v":""},{"$f":"IF(M124=\"\",\"\",INDEX('OTRAS REFERENTES'!$M:$O,MATCH(M124,'OTRAS REFERENTES'!$M:$M,0),2))","v":""},null,null,null,null,null,null,null,null,null,{"$f":"IF(X124=\"\",\"\",INDEX(referentes!$Y:$Z,MATCH(DATOS!X124,referentes!$Z:$Z,0),))","v":""},null,null,null,null,"OA",null,"SO",null,null,"",null,null,null,null,null,null,null,null,null,null,{"$f":"IF(AS124<>\"\",VLOOKUP(AS124,#REF!,2,TRUE),\"\")","v":""},null,{"$f":"IF(AU124<>\"\",VLOOKUP(AU124,#REF!,2,FALSE),\"\")","v":""},null,null,null,{"$f":"IF(AY124<>\"\",VLOOKUP(AY124,#REF!,2,TRUE),\"\")","v":""},null,120,"",null,{"$f":"IF(BD124=\"\",\"\",INDEX(referentes!$J:$K,MATCH(BD124,referentes!$J:$J,0),2))","v":""},null,null,{"$f":"IF(BG124=\"\",\"\",INDEX(referentes!$G:$H,MATCH(BG124,referentes!$G:$G,0),2))","v":""},{"$f":"IF(BD124=\"\",\"\",INDEX(referentes!$J:$P,MATCH(BD124,referentes!$J:$J,0),7))","v":""},""]
["19000100",{"$f":"DIGITADOR!$B$2","v":""},0,{"$f":"IF(E125<>\"\",CONCATENATE($A$2,DIGITADOR!$M$1,O125,AH125),\"\")","v":""},null,null,"","",null,null,null,null,"",{"$f":"IF(M125=\"\",\"\",INDEX('OTRAS REFERENTES'!$M:$O,MATCH(M125,'OTRAS REFERENTES'!$M:$M,0),3))","v":""},{"$f":"IF(M125=\"\",\"\",INDEX('OTRAS REFERENTES'!$M:$O,MATCH(M125,'OTRAS REFERENTES'!$M:$M,0),2))","v":""},null,null,null,null,null,null,null,null,null,{"$f":"IF(X125=\"\",\"\",INDEX(referentes!$Y:$Z,MATCH(DATOS!X125,referentes!$Z:$Z,0),))","v":""},null,null,null,null,"OA",null,"SO",null,null,"",null,null,null,null,null,null,null,null,null,null,{"$f":"IF(AS125<>\"\",VLOOKUP(AS125,#REF!,2,TRUE),\"\")","v":""},null,{"$f":"IF(AU125<>\"\",VLOOKUP(AU125,#REF!,2,FALSE),\"\")","v":""},null,null,null,{"$f":"IF(AY125<>\"\",VLOOKUP(AY125,#REF!,2,TRUE),\"\")","v":""},null,121,"",null,{"$f":"IF(BD125=\"\",\"\",INDEX(referentes!$J:$K,MATCH(BD125,referentes!$J:$J,0),2))","v":""},null,null,{"$f":"IF(BG125=\"\",\"\",INDEX(referentes!$G:$H,MATCH(BG125,referentes!$G:$G,0),2))","v":""},{"$f":"IF(BD125=\"\",\"\",INDEX(referentes!$J:$P,MATCH(BD125,referentes!$J:$J,0),7))","v":""},""]
["19000100",{"$f":"DIGITADOR!$B$2","v":""},0,{"$f":"IF(E126<>\"\",CONCATENATE($A$2,DIGITADOR!$M$1,O126,AH126),\"\")","v":""},null,null,"","",null,null,null,null,"",{"$f":"IF(M126=\"\",\"\",INDEX('OTRAS REFERENTES'!$M:$O,MATCH(M126,'OTRAS REFERENTES'!$M:$M,0),3))","v":""},{"$f":"IF(M126=\"\",\"\",INDEX('OTRAS REFERENTES'!$M:$O,MATCH(M126,'OTRAS REFERENTES'!$M:$M,0),2))","v":""},null,null,null,null,null,null,null,null,null,{"$f":"IF(X126=\"\",\"\",INDEX(referentes!$Y:$Z,MATCH(DATOS!X126,referentes!$Z:$Z,0),))","v":""},null,null,null,null,"OA",null,"SO",null,null,"",null,null,null,null,null,null,null,null,null,null,{"$f":"IF(AS126<>\"\",VLOOKUP(AS126,#REF!,2,TRUE),\"\")","v":""},null,{"$f":"IF(AU126<>\"\",VLOOKUP(AU126,#REF!,2,FALSE),\"\")","v":""},null,null,null,{"$f":"IF(AY126<>\"\",VLOOKUP(AY126,#REF!,2,TRUE),\"\")","v":""},null,122,"",null,{"$f":"IF(BD126=\"\",\"\",INDEX(referentes!$J:$K,MATCH(BD126,referentes!$J:$J,0),2))","v":""},null,null,{"$f":"IF(BG126=\"\",\"\",INDEX(referentes!$G:$H,MATCH(BG126,referentes!$G:$G,0),2))","v":""},{"$f":"IF(BD126=\"\",\"\",INDEX(referentes!$J:$P,MATCH(BD126,referentes!$J:$J,0),7))","v":""},""]
["19000100",{"$f":"DIGITADOR!$B$2","v":""},0,{"$f":"IF(E127<>\"\",CONCATENATE($A$2,DIGITADOR!$M$1,O127,AH127),\"\")","v":""},null,null,"","",null,null,null,null,"",{"$f":"IF(M127=\"\",\"\",INDEX('OTRAS REFERENTES'!$M:$O,MATCH(M127,'OTRAS REFERENTES'!$M:$M,0),3))","v":""},{"$f":"IF(M127=\"\",\"\",INDEX('OTRAS REFERENTES'!$M:$O,MATCH(M127,'OTRAS REFERENTES'!$M:$M,0),2))","v":""},null,null,null,null,null,null,null,null,null,{"$f":"IF(X127=\"\",\"\",INDEX(referentes!$Y:$Z,MATCH(DATOS!X127,referentes!$Z:$Z,0),))","v":""},null,null,null,null,"OA",null,"SO",null,null,"",null,null,null,null,null,null,null,null,null,null,{"$f":"IF(AS127<>\"\",VLOOKUP(AS127,#REF!,2,TRUE),\"\")","v":""},null,{"$f":"IF(AU127<>\"\",VLOOKUP(AU127,#REF!,2,FALSE),\"\")","v":""},null,null,null,{"$f":"IF(AY127<>\"\",VLOOKUP(AY127,#REF!,2,TRUE),\"\")","v":""},null,123,"",null,{"$f":"IF(BD127=\"\",\"\",INDEX(referentes!$J:$K,MATCH(BD127,referentes!$J:$J,0),2))","v":""},null,null,{"$f":"IF(BG127=\"\",\"\",INDEX(referentes!$G:$H,MATCH(BG127,referentes!$G:$G,0),2))","v":""},{"$f":"IF(BD127=\"\",\"\",INDEX(referentes!$J:$P,MATCH(BD127,referentes!$J:$J,0),7))","v":""},""]
["19000100",{"$f":"DIGITADOR!$B$2","v":""},0,{"$f":"IF(E128<>\"\",CONCATENATE($A$2,DIGITADOR!$M$1,O128,AH128),\"\")","v":""},null,null,"","",null,null,null,null,"",{"$f":"IF(M128=\"\",\"\",INDEX('OTRAS REFERENTES'!$M:$O,MATCH(M128,'OTRAS REFERENTES'!$M:$M,0),3))","v":""},{"$f":"IF(M128=\"\",\"\",INDEX('OTRAS REFERENTES'!$M:$O,MATCH(M128,'OTRAS REFERENTES'!$M:$M,0),2))","v":""},null,null,null,null,null,null,null,null,null,{"$f":"IF(X128=\"\",\"\",INDEX(referentes!$Y:$Z,MATCH(DATOS!X128,referentes!$Z:$Z,0),))","v":""},null,null,null,null,"OA",null,"SO",null,null,"",null,null,null,null,null,null,null,null,null,null,{"$f":"IF(AS128<>\"\",VLOOKUP(AS128,#REF!,2,TRUE),\"\")","v":""},null,{"$f":"IF(AU128<>\"\",VLOOKUP(AU128,#REF!,2,FALSE),\"\")","v":""},null,null,null,{"$f":"IF(AY128<>\"\",VLOOKUP(AY128,#REF!,2,TRUE),\"\")","v":""},null,124,"",null,{"$f":"IF(BD128=\"\",\"\",INDEX(referentes!$J:$K,MATCH(BD128,referentes!$J:$J,0),2))","v":""},null,null,{"$f":"IF(BG128=\"\",\"\",INDEX(referentes!$G:$H,MATCH(BG128,referentes!$G:$G,0),2))","v":""},{"$f":"IF(BD128=\"\",\"\",INDEX(referentes!$J:$P,MATCH(BD128,referentes!$J:$J,0),7))","v":""},""]
["19000100",{"$f":"DIGITADOR!$B$2","v":""},0,{"$f":"IF(E129<>\"\",CONCATENATE($A$2,DIGITADOR!$M$1,O129,AH129),\"\")","v":""},null,null,"","",null,null,null,null,"",{"$f":"IF(M129=\"\",\"\",INDEX('OTRAS REFERENTES'!$M:$O,MATCH(M129,'OTRAS REFERENTES'!$M:$M,0),3))","v":""},{"$f":"IF(M129=\"\",\"\",INDEX('OTRAS REFERENTES'!$M:$O,MATCH(M129,'OTRAS REFERENTES'!$M:$M,0),2))","v":""},null,null,null,null,null,null,null,null,null,{"$f":"IF(X129=\"\",\"\",INDEX(referentes!$Y:$Z,MATCH(DATOS!X129,referentes!$Z:$Z,0),))","v":""},null,null,null,null,"OA",null,"SO",null,null,"",null,null,null,null,null,null,null,null,null,null,{"$f":"IF(AS129<>\"\",VLOOKUP(AS129,#REF!,2,TRUE),\"\")","v":""},null,{"$f":"IF(AU129<>\"\",VLOOKUP(AU129,#REF!,2,FALSE),\"\")","v":""},null,null,null,{"$f":"IF(AY129<>\"\",VLOOKUP(AY129,#REF!,2,TRUE),\"\")","v":""},null,125,"",null,{"$f":"IF(BD129=\"\",\"\",INDEX(referentes!$J:$K,MATCH(BD129,referentes!$J:$J,0),2))","v":""},null,null,{"$f":"IF(BG129=\"\",\"\",INDEX(referentes!$G:$H,MATCH(BG129,referentes!$G:$G,0),2))","v":""},{"$f":"IF(BD129=\"\",\"\",INDEX(referentes!$J:$P,MATCH(BD129,referentes!$J:$J,0),7))","v":""},""]
["19000100",{"$f":"DIGITADOR!$B$2","v":""},0,{"$f":"IF(E130<>\"\",CONCATENATE($A$2,DIGITADOR!$M$1,O130,AH130),\"\")","v":""},null,null,"","",null,null,null,null,"",{"$f":"IF(M130=\"\",\"\",INDEX('OTRAS REFERENTES'!$M:$O,MATCH(M130,'OTRAS REFERENTES'!$M:$M,0),3))","v":""},{"$f":"IF(M130=\"\",\"\",INDEX('OTRAS REFERENTES'!$M:$O,MATCH(M130,'OTRAS REFERENTES'!$M:$M,0),2))","v":""},null,null,null,null,null,null,null,null,null,{"$f":"IF(X130=\"\",\"\",INDEX(referentes!$Y:$Z,MATCH(DATOS!X130,referentes!$Z:$Z,0),))","v":""},null,null,null,null,"OA",null,"SO",null,null,"",null,null,null,null,null,null,null,null,null,null,{"$f":"IF(AS130<>\"\",VLOOKUP(AS130,#REF!,2,TRUE),\"\")","v":""},null,{"$f":"IF(AU130<>\"\",VLOOKUP(AU130,#REF!,2,FALSE),\"\")","v":""},null,null,null,{"$f":"IF(AY130<>\"\",VLOOKUP(AY130,#REF!,2,TRUE),\"\")","v":""},null,126,"",null,{"$f":"IF(BD130=\"\",\"\",INDEX(referentes!$J:$K,MATCH(BD130,referentes!$J:$J,0),2))","v":""},null,null,{"$f":"IF(BG130=\"\",\"\",INDEX(referentes!$G:$H,MATCH(BG130,referentes!$G:$G,0),2))","v":""},{"$f":"IF(BD130=\"\",\"\",INDEX(referentes!$J:$P,MATCH(BD130,referentes!$J:$J,0),7))","v":""},""]
["19000100",{"$f":"DIGITADOR!$B$2","v":""},0,{"$f":"IF(E131<>\"\",CONCATENATE($A$2,DIGITADOR!$M$1,O131,AH131),\"\")","v":""},null,null,"","",null,null,null,null,"",{"$f":"IF(M131=\"\",\"\",INDEX('OTRAS REFERENTES'!$M:$O,MATCH(M131,'OTRAS REFERENTES'!$M:$M,0),3))","v":""},{"$f":"IF(M131=\"\",\"\",INDEX('OTRAS REFERENTES'!$M:$O,MATCH(M131,'OTRAS REFERENTES'!$M:$M,0),2))","v":""},null,null,null,null,null,null,null,null,null,{"$f":"IF(X131=\"\",\"\",INDEX(referentes!$Y:$Z,MATCH(DATOS!X131,referentes!$Z:$Z,0),))","v":""},null,null,null,null,"OA",null,"SO",null,null,"",null,null,null,null,null,null,null,null,null,null,{"$f":"IF(AS131<>\"\",VLOOKUP(AS131,#REF!,2,TRUE),\"\")","v":""},null,{"$f":"IF(AU131<>\"\",VLOOKUP(AU131,#REF!,2,FALSE),\"\")","v":""},null,null,null,{"$f":"IF(AY131<>\"\",VLOOKUP(AY131,#REF!,2,TRUE),\"\")","v":""},null,127,"",null,{"$f":"IF(BD131=\"\",\"\",INDEX(referentes!$J:$K,MATCH(BD131,referentes!$J:$J,0),2))","v":""},null,null,{"$f":"IF(BG131=\"\",\"\",INDEX(referentes!$G:$H,MATCH(BG131,referentes!$G:$G,0),2))","v":""},{"$f":"IF(BD131=\"\",\"\",INDEX(referentes!$J:$P,MATCH(BD131,referentes!$J:$J,0),7))","v":""},""]
["19000100",{"$f":"DIGITADOR!$B$2","v":""},0,{"$f":"IF(E132<>\"\",CONCATENATE($A$2,DIGITADOR!$M$1,O132,AH132),\"\")","v":""},null,null,"","",null,null,null,null,"",{"$f":"IF(M132=\"\",\"\",INDEX('OTRAS REFERENTES'!$M:$O,MATCH(M132,'OTRAS REFERENTES'!$M:$M,0),3))","v":""},{"$f":"IF(M132=\"\",\"\",INDEX('OTRAS REFERENTES'!$M:$O,MATCH(M132,'OTRAS REFERENTES'!$M:$M,0),2))","v":""},null,null,null,null,null,null,null,null,null,{"$f":"IF(X132=\"\",\"\",INDEX(referentes!$Y:$Z,MATCH(DATOS!X132,referentes!$Z:$Z,0),))","v":""},null,null,null,null,"OA",null,"SO",null,null,"",null,null,null,null,null,null,null,null,null,null,{"$f":"IF(AS132<>\"\",VLOOKUP(AS132,#REF!,2,TRUE),\"\")","v":""},null,{"$f":"IF(AU132<>\"\",VLOOKUP(AU132,#REF!,2,FALSE),\"\")","v":""},null,null,null,{"$f":"IF(AY132<>\"\",VLOOKUP(AY132,#REF!,2,TRUE),\"\")","v":""},null,128,"",null,{"$f":"IF(BD132=\"\",\"\",INDEX(referentes!$J:$K,MATCH(BD132,referentes!$J:$J,0),2))","v":""},null,null,{"$f":"IF(BG132=\"\",\"\",INDEX(referentes!$G:$H,MATCH(BG132,referentes!$G:$G,0),2))","v":""},{"$f":"IF(BD132=\"\",\"\",INDEX(referentes!$J:$P,MATCH(BD132,referentes!$J:$J,0),7))","v":""},""]
["19000100",{"$f":"DIGITADOR!$B$2","v":""},0,{"$f":"IF(E133<>\"\",CONCATENATE($A$2,DIGITADOR!$M$1,O133,AH133),\"\")","v":""},null,null,"",{"$f":"IF(G133<>\"\",MONTH(G133),\"\")","v":""},null,null,null,null,"",{"$f":"IF(M133=\"\",\"\",INDEX('OTRAS REFERENTES'!$M:$O,MATCH(M133,'OTRAS REFERENTES'!$M:$M,0),3))","v":""},{"$f":"IF(M133=\"\",\"\",INDEX('OTRAS REFERENTES'!$M:$O,MATCH(M133,'OTRAS REFERENTES'!$M:$M,0),2))","v":""},null,null,null,null,null,null,null,null,null,{"$f":"IF(X133=\"\",\"\",INDEX(referentes!$Y:$Z,MATCH(DATOS!X133,referentes!$Z:$Z,0),))","v":""},null,null,null,null,"OA",null,"SO",null,null,"",null,null,null,null,null,null,null,null,null,null,{"$f":"IF(AS133<>\"\",VLOOKUP(AS133,#REF!,2,TRUE),\"\")","v":""},null,{"$f":"IF(AU133<>\"\",VLOOKUP(AU133,#REF!,2,FALSE),\"\")","v":""},null,null,null,{"$f":"IF(AY133<>\"\",VLOOKUP(AY133,#REF!,2,TRUE),\"\")","v":""},null,129,"",null,{"$f":"IF(BD133=\"\",\"\",INDEX(referentes!$J:$K,MATCH(BD133,referentes!$J:$J,0),2))","v":""},null,null,{"$f":"IF(BG133=\"\",\"\",INDEX(referentes!$G:$H,MATCH(BG133,referentes!$G:$G,0),2))","v":""},{"$f":"IF(BD133=\"\",\"\",INDEX(referentes!$J:$P,MATCH(BD133,referentes!$J:$J,0),7))","v":""},""]
[{"$f":"A133","v":"19000100"},{"$f":"DIGITADOR!$B$2","v":""},0,{"$f":"IF(E134<>\"\",CONCATENATE($A$2,DIGITADOR!$M$1,O134,AH134),\"\")","v":""},null,null,{"$f":"IF(E134=\"\",\"\",E134+F134)","v":""},"",null,null,null,null,{"$f":"IF(L134<>\"\",CONCATENATE(J134,L134),\"\")","v":""},{"$f":"IF(M134=\"\",\"\",INDEX('OTRAS REFERENTES'!$M:$O,MATCH(M134,'OTRAS REFERENTES'!$M:$M,0),3))","v":""},{"$f":"IF(M134=\"\",\"\",INDEX('OTRAS REFERENTES'!$M:$O,MATCH(M134,'OTRAS REFERENTES'!$M:$M,0),2))","v":""},null,null,null,null,null,null,null,null,null,{"$f":"IF(X134=\"\",\"\",INDEX(referentes!$Y:$Z,MATCH(DATOS!X134,referentes!$Z:$Z,0),))","v":""},null,null,null,null,"OA",null,"SO",null,null,{"$f":"CONCATENATE(AG134)","v":""},null,null,null,null,null,null,null,null,null,null,{"$f":"IF(AS134<>\"\",VLOOKUP(AS134,#REF!,2,TRUE),\"\")","v":""},null,{"$f":"IF(AU134<>\"\",VLOOKUP(AU134,#REF!,2,FALSE),\"\")","v":""},null,null,null,{"$f":"IF(AY134<>\"\",VLOOKUP(AY134,#REF!,2,TRUE),\"\")","v":""},null,130,{"$f":"IF(D134=\"\",\"\",CONCATENATE(D134,BB134))","v":""},null,{"$f":"IF(BD134=\"\",\"\",INDEX(referentes!$J:$K,MATCH(BD134,referentes!$J:$J,0),2))","v":""},null,null,{"$f":"IF(BG134=\"\",\"\",INDEX(referentes!$G:$H,MATCH(BG134,referentes!$G:$G,0),2))","v":""},{"$f":"IF(BD134=\"\",\"\",INDEX(referentes!$J:$P,MATCH(BD134,referentes!$J:$J,0),7))","v":""},{"$f":"IF(BD134=\"\",\"\",UPPER(BD134))","v":""}]
["19000100",{"$f":"DIGITADOR!$B$2","v":""},0,{"$f":"IF(E135<>\"\",CONCATENATE($A$2,DIGITADOR!$M$1,O135,AH135),\"\")","v":""},null,null,"","",null,null,null,null,"",{"$f":"IF(M135=\"\",\"\",INDEX('OTRAS REFERENTES'!$M:$O,MATCH(M135,'OTRAS REFERENTES'!$M:$M,0),3))","v":""},{"$f":"IF(M135=\"\",\"\",INDEX('OTRAS REFERENTES'!$M:$O,MATCH(M135,'OTRAS REFERENTES'!$M:$M,0),2))","v":""},null,null,null,null,null,null,null,null,null,{"$f":"IF(X135=\"\",\"\",INDEX(referentes!$Y:$Z,MATCH(DATOS!X135,referentes!$Z:$Z,0),))","v":""},null,null,null,null,"OA",null,"SO",null,null,"",null,null,null,null,null,null,null,null,null,null,{"$f":"IF(AS135<>\"\",VLOOKUP(AS135,#REF!,2,TRUE),\"\")","v":""},null,{"$f":"IF(AU135<>\"\",VLOOKUP(AU135,#REF!,2,FALSE),\"\")","v":""},null,null,null,{"$f":"IF(AY135<>\"\",VLOOKUP(AY135,#REF!,2,TRUE),\"\")","v":""},null,131,"",null,{"$f":"IF(BD135=\"\",\"\",INDEX(referentes!$J:$K,MATCH(BD135,referentes!$J:$J,0),2))","v":""},null,null,{"$f":"IF(BG135=\"\",\"\",INDEX(referentes!$G:$H,MATCH(BG135,referentes!$G:$G,0),2))","v":""},{"$f":"IF(BD135=\"\",\"\",INDEX(referentes!$J:$P,MATCH(BD135,referentes!$J:$J,0),7))","v":""},""]
["19000100",{"$f":"DIGITADOR!$B$2","v":""},0,{"$f":"IF(E136<>\"\",CONCATENATE($A$2,DIGITADOR!$M$1,O136,AH136),\"\")","v":""},null,null,"","",null,null,null,null,"",{"$f":"IF(M136=\"\",\"\",INDEX('OTRAS REFERENTES'!$M:$O,MATCH(M136,'OTRAS REFERENTES'!$M:$M,0),3))","v":""},{"$f":"IF(M136=\"\",\"\",INDEX('OTRAS REFERENTES'!$M:$O,MATCH(M136,'OTRAS REFERENTES'!$M:$M,0),2))","v":""},null,null,null,null,null,null,null,null,null,{"$f":"IF(X136=\"\",\"\",INDEX(referentes!$Y:$Z,MATCH(DATOS!X136,referentes!$Z:$Z,0),))","v":""},null,null,null,null,"OA",null,"SO",null,null,"",null,null,null,null,null,null,null,null,null,null,{"$f":"IF(AS136<>\"\",VLOOKUP(AS136,#REF!,2,TRUE),\"\")","v":""},null,{"$f":"IF(AU136<>\"\",VLOOKUP(AU136,#REF!,2,FALSE),\"\")","v":""},null,null,null,{"$f":"IF(AY136<>\"\",VLOOKUP(AY136,#REF!,2,TRUE),\"\")","v":""},null,132,"",null,{"$f":"IF(BD136=\"\",\"\",INDEX(referentes!$J:$K,MATCH(BD136,referentes!$J:$J,0),2))","v":""},null,null,{"$f":"IF(BG136=\"\",\"\",INDEX(referentes!$G:$H,MATCH(BG136,referentes!$G:$G,0),2))","v":""},{"$f":"IF(BD136=\"\",\"\",INDEX(referentes!$J:$P,MATCH(BD136,referentes!$J:$J,0),7))","v":""},""]
["19000100",{"$f":"DIGITADOR!$B$2","v":""},0,{"$f":"IF(E137<>\"\",CONCATENATE($A$2,DIGITADOR!$M$1,O137,AH137),\"\")","v":""},null,null,"","",null,null,null,null,"",{"$f":"IF(M137=\"\",\"\",INDEX('OTRAS REFERENTES'!$M:$O,MATCH(M137,'OTRAS REFERENTES'!$M:$M,0),3))","v":""},{"$f":"IF(M137=\"\",\"\",INDEX('OTRAS REFERENTES'!$M:$O,MATCH(M137,'OTRAS REFERENTES'!$M:$M,0),2))","v":""},null,null,null,null,null,null,null,null,null,{"$f":"IF(X137=\"\",\"\",INDEX(referentes!$Y:$Z,MATCH(DATOS!X137,referentes!$Z:$Z,0),))","v":""},null,null,null,null,"OA",null,"SO",null,null,"",null,null,null,null,null,null,null,null,null,null,{"$f":"IF(AS137<>\"\",VLOOKUP(AS137,#REF!,2,TRUE),\"\")","v":""},null,{"$f":"IF(AU137<>\"\",VLOOKUP(AU137,#REF!,2,FALSE),\"\")","v":""},null,null,null,{"$f":"IF(AY137<>\"\",VLOOKUP(AY137,#REF!,2,TRUE),\"\")","v":""},null,133,"",null,{"$f":"IF(BD137=\"\",\"\",INDEX(referentes!$J:$K,MATCH(BD137,referentes!$J:$J,0),2))","v":""},null,null,{"$f":"IF(BG137=\"\",\"\",INDEX(referentes!$G:$H,MATCH(BG137,referentes!$G:$G,0),2))","v":""},{"$f":"IF(BD137=\"\",\"\",INDEX(referentes!$J:$P,MATCH(BD137,referentes!$J:$J,0),7))","v":""},""]
["19000100",{"$f":"DIGITADOR!$B$2","v":""},0,{"$f":"IF(E138<>\"\",CONCATENATE($A$2,DIGITADOR!$M$1,O138,AH138),\"\")","v":""},null,null,"","",null,null,null,null,"",{"$f":"IF(M138=\"\",\"\",INDEX('OTRAS REFERENTES'!$M:$O,MATCH(M138,'OTRAS REFERENTES'!$M:$M,0),3))","v":""},{"$f":"IF(M138=\"\",\"\",INDEX('OTRAS REFERENTES'!$M:$O,MATCH(M138,'OTRAS REFERENTES'!$M:$M,0),2))","v":""},null,null,null,null,null,null,null,null,null,{"$f":"IF(X138=\"\",\"\",INDEX(referentes!$Y:$Z,MATCH(DATOS!X138,referentes!$Z:$Z,0),))","v":""},null,null,null,null,"OA",null,"SO",null,null,"",null,null,null,null,null,null,null,null,null,null,{"$f":"IF(AS138<>\"\",VLOOKUP(AS138,#REF!,2,TRUE),\"\")","v":""},null,{"$f":"IF(AU138<>\"\",VLOOKUP(AU138,#REF!,2,FALSE),\"\")","v":""},null,null,null,{"$f":"IF(AY138<>\"\",VLOOKUP(AY138,#REF!,2,TRUE),\"\")","v":""},null,134,"",null,{"$f":"IF(BD138=\"\",\"\",INDEX(referentes!$J:$K,MATCH(BD138,referentes!$J:$J,0),2))","v":""},null,null,{"$f":"IF(BG138=\"\",\"\",INDEX(referentes!$G:$H,MATCH(BG138,referentes!$G:$G,0),2))","v":""},{"$f":"IF(BD138=\"\",\"\",INDEX(referentes!$J:$P,MATCH(BD138,referentes!$J:$J,0),7))","v":""},""]
["19000100",{"$f":"DIGITADOR!$B$2","v":""},0,{"$f":"IF(E139<>\"\",CONCATENATE($A$2,DIGITADOR!$M$1,O139,AH139),\"\")","v":""},null,null,"","",null,null,null,null,"",{"$f":"IF(M139=\"\",\"\",INDEX('OTRAS REFERENTES'!$M:$O,MATCH(M139,'OTRAS REFERENTES'!$M:$M,0),3))","v":""},{"$f":"IF(M139=\"\",\"\",INDEX('OTRAS REFERENTES'!$M:$O,MATCH(M139,'OTRAS REFERENTES'!$M:$M,0),2))","v":""},null,null,null,null,null,null,null,null,null,{"$f":"IF(X139=\"\",\"\",INDEX(referentes!$Y:$Z,MATCH(DATOS!X139,referentes!$Z:$Z,0),))","v":""},null,null,null,null,"OA",null,"SO",null,null,"",null,null,null,null,null,null,null,null,null,null,{"$f":"IF(AS139<>\"\",VLOOKUP(AS139,#REF!,2,TRUE),\"\")","v":""},null,{"$f":"IF(AU139<>\"\",VLOOKUP(AU139,#REF!,2,FALSE),\"\")","v":""},null,null,null,{"$f":"IF(AY139<>\"\",VLOOKUP(AY139,#REF!,2,TRUE),\"\")","v":""},null,135,"",null,{"$f":"IF(BD139=\"\",\"\",INDEX(referentes!$J:$K,MATCH(BD139,referentes!$J:$J,0),2))","v":""},null,null,{"$f":"IF(BG139=\"\",\"\",INDEX(referentes!$G:$H,MATCH(BG139,referentes!$G:$G,0),2))","v":""},{"$f":"IF(BD139=\"\",\"\",INDEX(referentes!$J:$P,MATCH(BD139,referentes!$J:$J,0),7))","v":""},""]
["19000100",{"$f":"DIGITADOR!$B$2","v":""},0,{"$f":"IF(E140<>\"\",CONCATENATE($A$2,DIGITADOR!$M$1,O140,AH140),\"\")","v":""},null,null,"","",null,null,null,null,"",{"$f":"IF(M140=\"\",\"\",INDEX('OTRAS REFERENTES'!$M:$O,MATCH(M140,'OTRAS REFERENTES'!$M:$M,0),3))","v":""},{"$f":"IF(M140=\"\",\"\",INDEX('OTRAS REFERENTES'!$M:$O,MATCH(M140,'OTRAS REFERENTES'!$M:$M,0),2))","v":""},null,null,null,null,null,null,null,null,null,{"$f":"IF(X140=\"\",\"\",INDEX(referentes!$Y:$Z,MATCH(DATOS!X140,referentes!$Z:$Z,0),))","v":""},null,null,null,null,"OA",null,"SO",null,null,"",null,null,null,null,null,null,null,null,null,null,{"$f":"IF(AS140<>\"\",VLOOKUP(AS140,#REF!,2,TRUE),\"\")","v":""},null,{"$f":"IF(AU140<>\"\",VLOOKUP(AU140,#REF!,2,FALSE),\"\")","v":""},null,null,null,{"$f":"IF(AY140<>\"\",VLOOKUP(AY140,#REF!,2,TRUE),\"\")","v":""},null,136,"",null,{"$f":"IF(BD140=\"\",\"\",INDEX(referentes!$J:$K,MATCH(BD140,referentes!$J:$J,0),2))","v":""},null,null,{"$f":"IF(BG140=\"\",\"\",INDEX(referentes!$G:$H,MATCH(BG140,referentes!$G:$G,0),2))","v":""},{"$f":"IF(BD140=\"\",\"\",INDEX(referentes!$J:$P,MATCH(BD140,referentes!$J:$J,0),7))","v":""},""]
["19000100",{"$f":"DIGITADOR!$B$2","v":""},0,{"$f":"IF(E141<>\"\",CONCATENATE($A$2,DIGITADOR!$M$1,O141,AH141),\"\")","v":""},null,null,"","",null,null,null,null,"",{"$f":"IF(M141=\"\",\"\",INDEX('OTRAS REFERENTES'!$M:$O,MATCH(M141,'OTRAS REFERENTES'!$M:$M,0),3))","v":""},{"$f":"IF(M141=\"\",\"\",INDEX('OTRAS REFERENTES'!$M:$O,MATCH(M141,'OTRAS REFERENTES'!$M:$M,0),2))","v":""},null,null,null,null,null,null,null,null,null,{"$f":"IF(X141=\"\",\"\",INDEX(referentes!$Y:$Z,MATCH(DATOS!X141,referentes!$Z:$Z,0),))","v":""},null,null,null,null,"OA",null,"SO",null,null,"",null,null,null,null,null,null,null,null,null,null,{"$f":"IF(AS141<>\"\",VLOOKUP(AS141,#REF!,2,TRUE),\"\")","v":""},null,{"$f":"IF(AU141<>\"\",VLOOKUP(AU141,#REF!,2,FALSE),\"\")","v":""},null,null,null,{"$f":"IF(AY141<>\"\",VLOOKUP(AY141,#REF!,2,TRUE),\"\")","v":""},null,137,"",null,{"$f":"IF(BD141=\"\",\"\",INDEX(referentes!$J:$K,MATCH(BD141,referentes!$J:$J,0),2))","v":""},null,null,{"$f":"IF(BG141=\"\",\"\",INDEX(referentes!$G:$H,MATCH(BG141,referentes!$G:$G,0),2))","v":""},{"$f":"IF(BD141=\"\",\"\",INDEX(referentes!$J:$P,MATCH(BD141,referentes!$J:$J,0),7))","v":""},""]
["19000100",{"$f":"DIGITADOR!$B$2","v":""},0,{"$f":"IF(E142<>\"\",CONCATENATE($A$2,DIGITADOR!$M$1,O142,AH142),\"\")","v":""},null,null,"","",null,null,null,null,"",{"$f":"IF(M142=\"\",\"\",INDEX('OTRAS REFERENTES'!$M:$O,MATCH(M142,'OTRAS REFERENTES'!$M:$M,0),3))","v":""},{"$f":"IF(M142=\"\",\"\",INDEX('OTRAS REFERENTES'!$M:$O,MATCH(M142,'OTRAS REFERENTES'!$M:$M,0),2))","v":""},null,null,null,null,null,null,null,null,null,{"$f":"IF(X142=\"\",\"\",INDEX(referentes!$Y:$Z,MATCH(DATOS!X142,referentes!$Z:$Z,0),))","v":""},null,null,null,null,"OA",null,"SO",null,null,"",null,null,null,null,null,null,null,null,null,null,{"$f":"IF(AS142<>\"\",VLOOKUP(AS142,#REF!,2,TRUE),\"\")","v":""},null,{"$f":"IF(AU142<>\"\",VLOOKUP(AU142,#REF!,2,FALSE),\"\")","v":""},null,null,null,{"$f":"IF(AY142<>\"\",VLOOKUP(AY142,#REF!,2,TRUE),\"\")","v":""},null,138,"",null,{"$f":"IF(BD142=\"\",\"\",INDEX(referentes!$J:$K,MATCH(BD142,referentes!$J:$J,0),2))","v":""},null,null,{"$f":"IF(BG142=\"\",\"\",INDEX(referentes!$G:$H,MATCH(BG142,referentes!$G:$G,0),2))","v":""},{"$f":"IF(BD142=\"\",\"\",INDEX(referentes!$J:$P,MATCH(BD142,referentes!$J:$J,0),7))","v":""},""]
["19000100",{"$f":"DIGITADOR!$B$2","v":""},0,{"$f":"IF(E143<>\"\",CONCATENATE($A$2,DIGITADOR!$M$1,O143,AH143),\"\")","v":""},null,null,"","",null,null,null,null,"",{"$f":"IF(M143=\"\",\"\",INDEX('OTRAS REFERENTES'!$M:$O,MATCH(M143,'OTRAS REFERENTES'!$M:$M,0),3))","v":""},{"$f":"IF(M143=\"\",\"\",INDEX('OTRAS REFERENTES'!$M:$O,MATCH(M143,'OTRAS REFERENTES'!$M:$M,0),2))","v":""},null,null,null,null,null,null,null,null,null,{"$f":"IF(X143=\"\",\"\",INDEX(referentes!$Y:$Z,MATCH(DATOS!X143,referentes!$Z:$Z,0),))","v":""},null,null,null,null,"OA",null,"SO",null,null,"",null,null,null,null,null,null,null,null,null,null,{"$f":"IF(AS143<>\"\",VLOOKUP(AS143,#REF!,2,TRUE),\"\")","v":""},null,{"$f":"IF(AU143<>\"\",VLOOKUP(AU143,#REF!,2,FALSE),\"\")","v":""},null,null,null,{"$f":"IF(AY143<>\"\",VLOOKUP(AY143,#REF!,2,TRUE),\"\")","v":""},null,139,"",null,{"$f":"IF(BD143=\"\",\"\",INDEX(referentes!$J:$K,MATCH(BD143,referentes!$J:$J,0),2))","v":""},null,null,{"$f":"IF(BG143=\"\",\"\",INDEX(referentes!$G:$H,MATCH(BG143,referentes!$G:$G,0),2))","v":""},{"$f":"IF(BD143=\"\",\"\",INDEX(referentes!$J:$P,MATCH(BD143,referentes!$J:$J,0),7))","v":""},""]
["19000100",{"$f":"DIGITADOR!$B$2","v":""},0,{"$f":"IF(E144<>\"\",CONCATENATE($A$2,DIGITADOR!$M$1,O144,AH144),\"\")","v":""},null,null,"","",null,null,null,null,"",{"$f":"IF(M144=\"\",\"\",INDEX('OTRAS REFERENTES'!$M:$O,MATCH(M144,'OTRAS REFERENTES'!$M:$M,0),3))","v":""},{"$f":"IF(M144=\"\",\"\",INDEX('OTRAS REFERENTES'!$M:$O,MATCH(M144,'OTRAS REFERENTES'!$M:$M,0),2))","v":""},null,null,null,null,null,null,null,null,null,{"$f":"IF(X144=\"\",\"\",INDEX(referentes!$Y:$Z,MATCH(DATOS!X144,referentes!$Z:$Z,0),))","v":""},null,null,null,null,"OA",null,"SO",null,null,"",null,null,null,null,null,null,null,null,null,null,{"$f":"IF(AS144<>\"\",VLOOKUP(AS144,#REF!,2,TRUE),\"\")","v":""},null,{"$f":"IF(AU144<>\"\",VLOOKUP(AU144,#REF!,2,FALSE),\"\")","v":""},null,null,null,{"$f":"IF(AY144<>\"\",VLOOKUP(AY144,#REF!,2,TRUE),\"\")","v":""},null,140,"",null,{"$f":"IF(BD144=\"\",\"\",INDEX(referentes!$J:$K,MATCH(BD144,referentes!$J:$J,0),2))","v":""},null,null,{"$f":"IF(BG144=\"\",\"\",INDEX(referentes!$G:$H,MATCH(BG144,referentes!$G:$G,0),2))","v":""},{"$f":"IF(BD144=\"\",\"\",INDEX(referentes!$J:$P,MATCH(BD144,referentes!$J:$J,0),7))","v":""},""]
["19000100",{"$f":"DIGITADOR!$B$2","v":""},0,{"$f":"IF(E145<>\"\",CONCATENATE($A$2,DIGITADOR!$M$1,O145,AH145),\"\")","v":""},null,null,"","",null,null,null,null,"",{"$f":"IF(M145=\"\",\"\",INDEX('OTRAS REFERENTES'!$M:$O,MATCH(M145,'OTRAS REFERENTES'!$M:$M,0),3))","v":""},{"$f":"IF(M145=\"\",\"\",INDEX('OTRAS REFERENTES'!$M:$O,MATCH(M145,'OTRAS REFERENTES'!$M:$M,0),2))","v":""},null,null,null,null,null,null,null,null,null,{"$f":"IF(X145=\"\",\"\",INDEX(referentes!$Y:$Z,MATCH(DATOS!X145,referentes!$Z:$Z,0),))","v":""},null,null,null,null,"OA",null,"SO",null,null,"",null,null,null,null,null,null,null,null,null,null,{"$f":"IF(AS145<>\"\",VLOOKUP(AS145,#REF!,2,TRUE),\"\")","v":""},null,{"$f":"IF(AU145<>\"\",VLOOKUP(AU145,#REF!,2,FALSE),\"\")","v":""},null,null,null,{"$f":"IF(AY145<>\"\",VLOOKUP(AY145,#REF!,2,TRUE),\"\")","v":""},null,141,"",null,{"$f":"IF(BD145=\"\",\"\",INDEX(referentes!$J:$K,MATCH(BD145,referentes!$J:$J,0),2))","v":""},null,null,{"$f":"IF(BG145=\"\",\"\",INDEX(referentes!$G:$H,MATCH(BG145,referentes!$G:$G,0),2))","v":""},{"$f":"IF(BD145=\"\",\"\",INDEX(referentes!$J:$P,MATCH(BD145,referentes!$J:$J,0),7))","v":""},""]
["19000100",{"$f":"DIGITADOR!$B$2","v":""},0,{"$f":"IF(E146<>\"\",CONCATENATE($A$2,DIGITADOR!$M$1,O146,AH146),\"\")","v":""},null,null,"","",null,null,null,null,"",{"$f":"IF(M146=\"\",\"\",INDEX('OTRAS REFERENTES'!$M:$O,MATCH(M146,'OTRAS REFERENTES'!$M:$M,0),3))","v":""},{"$f":"IF(M146=\"\",\"\",INDEX('OTRAS REFERENTES'!$M:$O,MATCH(M146,'OTRAS REFERENTES'!$M:$M,0),2))","v":""},null,null,null,null,null,null,null,null,null,{"$f":"IF(X146=\"\",\"\",INDEX(referentes!$Y:$Z,MATCH(DATOS!X146,referentes!$Z:$Z,0),))","v":""},null,null,null,null,"OA",null,"SO",null,null,"",null,null,null,null,null,null,null,null,null,null,{"$f":"IF(AS146<>\"\",VLOOKUP(AS146,#REF!,2,TRUE),\"\")","v":""},null,{"$f":"IF(AU146<>\"\",VLOOKUP(AU146,#REF!,2,FALSE),\"\")","v":""},null,null,null,{"$f":"IF(AY146<>\"\",VLOOKUP(AY146,#REF!,2,TRUE),\"\")","v":""},null,142,"",null,{"$f":"IF(BD146=\"\",\"\",INDEX(referentes!$J:$K,MATCH(BD146,referentes!$J:$J,0),2))","v":""},null,null,{"$f":"IF(BG146=\"\",\"\",INDEX(referentes!$G:$H,MATCH(BG146,referentes!$G:$G,0),2))","v":""},{"$f":"IF(BD146=\"\",\"\",INDEX(referentes!$J:$P,MATCH(BD146,referentes!$J:$J,0),7))","v":""},""]
["19000100",{"$f":"DIGITADOR!$B$2","v":""},0,{"$f":"IF(E147<>\"\",CONCATENATE($A$2,DIGITADOR!$M$1,O147,AH147),\"\")","v":""},null,null,"","",null,null,null,null,"",{"$f":"IF(M147=\"\",\"\",INDEX('OTRAS REFERENTES'!$M:$O,MATCH(M147,'OTRAS REFERENTES'!$M:$M,0),3))","v":""},{"$f":"IF(M147=\"\",\"\",INDEX('OTRAS REFERENTES'!$M:$O,MATCH(M147,'OTRAS REFERENTES'!$M:$M,0),2))","v":""},null,null,null,null,null,null,null,null,null,{"$f":"IF(X147=\"\",\"\",INDEX(referentes!$Y:$Z,MATCH(DATOS!X147,referentes!$Z:$Z,0),))","v":""},null,null,null,null,"OA",null,"SO",null,null,"",null,null,null,null,null,null,null,null,null,null,{"$f":"IF(AS147<>\"\",VLOOKUP(AS147,#REF!,2,TRUE),\"\")","v":""},null,{"$f":"IF(AU147<>\"\",VLOOKUP(AU147,#REF!,2,FALSE),\"\")","v":""},null,null,null,{"$f":"IF(AY147<>\"\",VLOOKUP(AY147,#REF!,2,TRUE),\"\")","v":""},null,143,"",null,{"$f":"IF(BD147=\"\",\"\",INDEX(referentes!$J:$K,MATCH(BD147,referentes!$J:$J,0),2))","v":""},null,null,{"$f":"IF(BG147=\"\",\"\",INDEX(referentes!$G:$H,MATCH(BG147,referentes!$G:$G,0),2))","v":""},{"$f":"IF(BD147=\"\",\"\",INDEX(referentes!$J:$P,MATCH(BD147,referentes!$J:$J,0),7))","v":""},""]
["19000100",{"$f":"DIGITADOR!$B$2","v":""},0,{"$f":"IF(E148<>\"\",CONCATENATE($A$2,DIGITADOR!$M$1,O148,AH148),\"\")","v":""},null,null,"","",null,null,null,null,"",{"$f":"IF(M148=\"\",\"\",INDEX('OTRAS REFERENTES'!$M:$O,MATCH(M148,'OTRAS REFERENTES'!$M:$M,0),3))","v":""},{"$f":"IF(M148=\"\",\"\",INDEX('OTRAS REFERENTES'!$M:$O,MATCH(M148,'OTRAS REFERENTES'!$M:$M,0),2))","v":""},null,null,null,null,null,null,null,null,null,{"$f":"IF(X148=\"\",\"\",INDEX(referentes!$Y:$Z,MATCH(DATOS!X148,referentes!$Z:$Z,0),))","v":""},null,null,null,null,"OA",null,"SO",null,null,"",null,null,null,null,null,null,null,null,null,null,{"$f":"IF(AS148<>\"\",VLOOKUP(AS148,#REF!,2,TRUE),\"\")","v":""},null,{"$f":"IF(AU148<>\"\",VLOOKUP(AU148,#REF!,2,FALSE),\"\")","v":""},null,null,null,{"$f":"IF(AY148<>\"\",VLOOKUP(AY148,#REF!,2,TRUE),\"\")","v":""},null,144,"",null,{"$f":"IF(BD148=\"\",\"\",INDEX(referentes!$J:$K,MATCH(BD148,referentes!$J:$J,0),2))","v":""},null,null,{"$f":"IF(BG148=\"\",\"\",INDEX(referentes!$G:$H,MATCH(BG148,referentes!$G:$G,0),2))","v":""},{"$f":"IF(BD148=\"\",\"\",INDEX(referentes!$J:$P,MATCH(BD148,referentes!$J:$J,0),7))","v":""},""]
["19000100",{"$f":"DIGITADOR!$B$2","v":""},0,{"$f":"IF(E149<>\"\",CONCATENATE($A$2,DIGITADOR!$M$1,O149,AH149),\"\")","v":""},null,null,"","",null,null,null,null,"",{"$f":"IF(M149=\"\",\"\",INDEX('OTRAS REFERENTES'!$M:$O,MATCH(M149,'OTRAS REFERENTES'!$M:$M,0),3))","v":""},{"$f":"IF(M149=\"\",\"\",INDEX('OTRAS REFERENTES'!$M:$O,MATCH(M149,'OTRAS REFERENTES'!$M:$M,0),2))","v":""},null,null,null,null,null,null,null,null,null,{"$f":"IF(X149=\"\",\"\",INDEX(referentes!$Y:$Z,MATCH(DATOS!X149,referentes!$Z:$Z,0),))","v":""},null,null,null,null,"OA",null,"SO",null,null,"",null,null,null,null,null,null,null,null,null,null,{"$f":"IF(AS149<>\"\",VLOOKUP(AS149,#REF!,2,TRUE),\"\")","v":""},null,{"$f":"IF(AU149<>\"\",VLOOKUP(AU149,#REF!,2,FALSE),\"\")","v":""},null,null,null,{"$f":"IF(AY149<>\"\",VLOOKUP(AY149,#REF!,2,TRUE),\"\")","v":""},null,145,"",null,{"$f":"IF(BD149=\"\",\"\",INDEX(referentes!$J:$K,MATCH(BD149,referentes!$J:$J,0),2))","v":""},null,null,{"$f":"IF(BG149=\"\",\"\",INDEX(referentes!$G:$H,MATCH(BG149,referentes!$G:$G,0),2))","v":""},{"$f":"IF(BD149=\"\",\"\",INDEX(referentes!$J:$P,MATCH(BD149,referentes!$J:$J,0),7))","v":""},""]
["19000100",{"$f":"DIGITADOR!$B$2","v":""},0,{"$f":"IF(E150<>\"\",CONCATENATE($A$2,DIGITADOR!$M$1,O150,AH150),\"\")","v":""},null,null,"","",null,null,null,null,"",{"$f":"IF(M150=\"\",\"\",INDEX('OTRAS REFERENTES'!$M:$O,MATCH(M150,'OTRAS REFERENTES'!$M:$M,0),3))","v":""},{"$f":"IF(M150=\"\",\"\",INDEX('OTRAS REFERENTES'!$M:$O,MATCH(M150,'OTRAS REFERENTES'!$M:$M,0),2))","v":""},null,null,null,null,null,null,null,null,null,{"$f":"IF(X150=\"\",\"\",INDEX(referentes!$Y:$Z,MATCH(DATOS!X150,referentes!$Z:$Z,0),))","v":""},null,null,null,null,"OA",null,"SO",null,null,"",null,null,null,null,null,null,null,null,null,null,{"$f":"IF(AS150<>\"\",VLOOKUP(AS150,#REF!,2,TRUE),\"\")","v":""},null,{"$f":"IF(AU150<>\"\",VLOOKUP(AU150,#REF!,2,FALSE),\"\")","v":""},null,null,null,{"$f":"IF(AY150<>\"\",VLOOKUP(AY150,#REF!,2,TRUE),\"\")","v":""},null,146,"",null,{"$f":"IF(BD150=\"\",\"\",INDEX(referentes!$J:$K,MATCH(BD150,referentes!$J:$J,0),2))","v":""},null,null,{"$f":"IF(BG150=\"\",\"\",INDEX(referentes!$G:$H,MATCH(BG150,referentes!$G:$G,0),2))","v":""},{"$f":"IF(BD150=\"\",\"\",INDEX(referentes!$J:$P,MATCH(BD150,referentes!$J:$J,0),7))","v":""},""]
["19000100",{"$f":"DIGITADOR!$B$2","v":""},0,{"$f":"IF(E151<>\"\",CONCATENATE($A$2,DIGITADOR!$M$1,O151,AH151),\"\")","v":""},null,null,"","",null,null,null,null,"",{"$f":"IF(M151=\"\",\"\",INDEX('OTRAS REFERENTES'!$M:$O,MATCH(M151,'OTRAS REFERENTES'!$M:$M,0),3))","v":""},{"$f":"IF(M151=\"\",\"\",INDEX('OTRAS REFERENTES'!$M:$O,MATCH(M151,'OTRAS REFERENTES'!$M:$M,0),2))","v":""},null,null,null,null,null,null,null,null,null,{"$f":"IF(X151=\"\",\"\",INDEX(referentes!$Y:$Z,MATCH(DATOS!X151,referentes!$Z:$Z,0),))","v":""},null,null,null,null,"OA",null,"SO",null,null,"",null,null,null,null,null,null,null,null,null,null,{"$f":"IF(AS151<>\"\",VLOOKUP(AS151,#REF!,2,TRUE),\"\")","v":""},null,{"$f":"IF(AU151<>\"\",VLOOKUP(AU151,#REF!,2,FALSE),\"\")","v":""},null,null,null,{"$f":"IF(AY151<>\"\",VLOOKUP(AY151,#REF!,2,TRUE),\"\")","v":""},null,147,"",null,{"$f":"IF(BD151=\"\",\"\",INDEX(referentes!$J:$K,MATCH(BD151,referentes!$J:$J,0),2))","v":""},null,null,{"$f":"IF(BG151=\"\",\"\",INDEX(referentes!$G:$H,MATCH(BG151,referentes!$G:$G,0),2))","v":""},{"$f":"IF(BD151=\"\",\"\",INDEX(referentes!$J:$P,MATCH(BD151,referentes!$J:$J,0),7))","v":""},""]
["19000100",{"$f":"DIGITADOR!$B$2","v":""},0,{"$f":"IF(E152<>\"\",CONCATENATE($A$2,DIGITADOR!$M$1,O152,AH152),\"\")","v":""},null,null,"","",null,null,null,null,"",{"$f":"IF(M152=\"\",\"\",INDEX('OTRAS REFERENTES'!$M:$O,MATCH(M152,'OTRAS REFERENTES'!$M:$M,0),3))","v":""},{"$f":"IF(M152=\"\",\"\",INDEX('OTRAS REFERENTES'!$M:$O,MATCH(M152,'OTRAS REFERENTES'!$M:$M,0),2))","v":""},null,null,null,null,null,null,null,null,null,{"$f":"IF(X152=\"\",\"\",INDEX(referentes!$Y:$Z,MATCH(DATOS!X152,referentes!$Z:$Z,0),))","v":""},null,null,null,null,"OA",null,"SO",null,null,"",null,null,null,null,null,null,null,null,null,null,{"$f":"IF(AS152<>\"\",VLOOKUP(AS152,#REF!,2,TRUE),\"\")","v":""},null,{"$f":"IF(AU152<>\"\",VLOOKUP(AU152,#REF!,2,FALSE),\"\")","v":""},null,null,null,{"$f":"IF(AY152<>\"\",VLOOKUP(AY152,#REF!,2,TRUE),\"\")","v":""},null,148,"",null,{"$f":"IF(BD152=\"\",\"\",INDEX(referentes!$J:$K,MATCH(BD152,referentes!$J:$J,0),2))","v":""},null,null,{"$f":"IF(BG152=\"\",\"\",INDEX(referentes!$G:$H,MATCH(BG152,referentes!$G:$G,0),2))","v":""},{"$f":"IF(BD152=\"\",\"\",INDEX(referentes!$J:$P,MATCH(BD152,referentes!$J:$J,0),7))","v":""},""]
["19000100",{"$f":"DIGITADOR!$B$2","v":""},0,{"$f":"IF(E153<>\"\",CONCATENATE($A$2,DIGITADOR!$M$1,O153,AH153),\"\")","v":""},null,null,"","",null,null,null,null,"",{"$f":"IF(M153=\"\",\"\",INDEX('OTRAS REFERENTES'!$M:$O,MATCH(M153,'OTRAS REFERENTES'!$M:$M,0),3))","v":""},{"$f":"IF(M153=\"\",\"\",INDEX('OTRAS REFERENTES'!$M:$O,MATCH(M153,'OTRAS REFERENTES'!$M:$M,0),2))","v":""},null,null,null,null,null,null,null,null,null,{"$f":"IF(X153=\"\",\"\",INDEX(referentes!$Y:$Z,MATCH(DATOS!X153,referentes!$Z:$Z,0),))","v":""},null,null,null,null,"OA",null,"SO",null,null,"",null,null,null,null,null,null,null,null,null,null,{"$f":"IF(AS153<>\"\",VLOOKUP(AS153,#REF!,2,TRUE),\"\")","v":""},null,{"$f":"IF(AU153<>\"\",VLOOKUP(AU153,#REF!,2,FALSE),\"\")","v":""},null,null,null,{"$f":"IF(AY153<>\"\",VLOOKUP(AY153,#REF!,2,TRUE),\"\")","v":""},null,149,"",null,{"$f":"IF(BD153=\"\",\"\",INDEX(referentes!$J:$K,MATCH(BD153,referentes!$J:$J,0),2))","v":""},null,null,{"$f":"IF(BG153=\"\",\"\",INDEX(referentes!$G:$H,MATCH(BG153,referentes!$G:$G,0),2))","v":""},{"$f":"IF(BD153=\"\",\"\",INDEX(referentes!$J:$P,MATCH(BD153,referentes!$J:$J,0),7))","v":""},""]
["19000100",{"$f":"DIGITADOR!$B$2","v":""},0,{"$f":"IF(E154<>\"\",CONCATENATE($A$2,DIGITADOR!$M$1,O154,AH154),\"\")","v":""},null,null,"","",null,null,null,null,"",{"$f":"IF(M154=\"\",\"\",INDEX('OTRAS REFERENTES'!$M:$O,MATCH(M154,'OTRAS REFERENTES'!$M:$M,0),3))","v":""},{"$f":"IF(M154=\"\",\"\",INDEX('OTRAS REFERENTES'!$M:$O,MATCH(M154,'OTRAS REFERENTES'!$M:$M,0),2))","v":""},null,null,null,null,null,null,null,null,null,{"$f":"IF(X154=\"\",\"\",INDEX(referentes!$Y:$Z,MATCH(DATOS!X154,referentes!$Z:$Z,0),))","v":""},null,null,null,null,"OA",null,"SO",null,null,"",null,null,null,null,null,null,null,null,null,null,{"$f":"IF(AS154<>\"\",VLOOKUP(AS154,#REF!,2,TRUE),\"\")","v":""},null,{"$f":"IF(AU154<>\"\",VLOOKUP(AU154,#REF!,2,FALSE),\"\")","v":""},null,null,null,{"$f":"IF(AY154<>\"\",VLOOKUP(AY154,#REF!,2,TRUE),\"\")","v":""},null,150,"",null,{"$f":"IF(BD154=\"\",\"\",INDEX(referentes!$J:$K,MATCH(BD154,referentes!$J:$J,0),2))","v":""},null,null,{"$f":"IF(BG154=\"\",\"\",INDEX(referentes!$G:$H,MATCH(BG154,referentes!$G:$G,0),2))","v":""},{"$f":"IF(BD154=\"\",\"\",INDEX(referentes!$J:$P,MATCH(BD154,referentes!$J:$J,0),7))","v":""},""]
["19000100",{"$f":"DIGITADOR!$B$2","v":""},0,{"$f":"IF(E155<>\"\",CONCATENATE($A$2,DIGITADOR!$M$1,O155,AH155),\"\")","v":""},null,null,"","",null,null,null,null,"",{"$f":"IF(M155=\"\",\"\",INDEX('OTRAS REFERENTES'!$M:$O,MATCH(M155,'OTRAS REFERENTES'!$M:$M,0),3))","v":""},{"$f":"IF(M155=\"\",\"\",INDEX('OTRAS REFERENTES'!$M:$O,MATCH(M155,'OTRAS REFERENTES'!$M:$M,0),2))","v":""},null,null,null,null,null,null,null,null,null,{"$f":"IF(X155=\"\",\"\",INDEX(referentes!$Y:$Z,MATCH(DATOS!X155,referentes!$Z:$Z,0),))","v":""},null,null,null,null,"OA",null,"SO",null,null,"",null,null,null,null,null,null,null,null,null,null,{"$f":"IF(AS155<>\"\",VLOOKUP(AS155,#REF!,2,TRUE),\"\")","v":""},null,{"$f":"IF(AU155<>\"\",VLOOKUP(AU155,#REF!,2,FALSE),\"\")","v":""},null,null,null,{"$f":"IF(AY155<>\"\",VLOOKUP(AY155,#REF!,2,TRUE),\"\")","v":""},null,151,"",null,{"$f":"IF(BD155=\"\",\"\",INDEX(referentes!$J:$K,MATCH(BD155,referentes!$J:$J,0),2))","v":""},null,null,{"$f":"IF(BG155=\"\",\"\",INDEX(referentes!$G:$H,MATCH(BG155,referentes!$G:$G,0),2))","v":""},{"$f":"IF(BD155=\"\",\"\",INDEX(referentes!$J:$P,MATCH(BD155,referentes!$J:$J,0),7))","v":""},""]
["19000100",{"$f":"DIGITADOR!$B$2","v":""},0,{"$f":"IF(E156<>\"\",CONCATENATE($A$2,DIGITADOR!$M$1,O156,AH156),\"\")","v":""},null,null,"","",null,null,null,null,"",{"$f":"IF(M156=\"\",\"\",INDEX('OTRAS REFERENTES'!$M:$O,MATCH(M156,'OTRAS REFERENTES'!$M:$M,0),3))","v":""},{"$f":"IF(M156=\"\",\"\",INDEX('OTRAS REFERENTES'!$M:$O,MATCH(M156,'OTRAS REFERENTES'!$M:$M,0),2))","v":""},null,null,null,null,null,null,null,null,null,{"$f":"IF(X156=\"\",\"\",INDEX(referentes!$Y:$Z,MATCH(DATOS!X156,referentes!$Z:$Z,0),))","v":""},null,null,null,null,"OA",null,"SO",null,null,"",null,null,null,null,null,null,null,null,null,null,{"$f":"IF(AS156<>\"\",VLOOKUP(AS156,#REF!,2,TRUE),\"\")","v":""},null,{"$f":"IF(AU156<>\"\",VLOOKUP(AU156,#REF!,2,FALSE),\"\")","v":""},null,null,null,{"$f":"IF(AY156<>\"\",VLOOKUP(AY156,#REF!,2,TRUE),\"\")","v":""},null,152,"",null,{"$f":"IF(BD156=\"\",\"\",INDEX(referentes!$J:$K,MATCH(BD156,referentes!$J:$J,0),2))","v":""},null,null,{"$f":"IF(BG156=\"\",\"\",INDEX(referentes!$G:$H,MATCH(BG156,referentes!$G:$G,0),2))","v":""},{"$f":"IF(BD156=\"\",\"\",INDEX(referentes!$J:$P,MATCH(BD156,referentes!$J:$J,0),7))","v":""},""]
["19000100",{"$f":"DIGITADOR!$B$2","v":""},0,{"$f":"IF(E157<>\"\",CONCATENATE($A$2,DIGITADOR!$M$1,O157,AH157),\"\")","v":""},null,null,"","",null,null,null,null,"",{"$f":"IF(M157=\"\",\"\",INDEX('OTRAS REFERENTES'!$M:$O,MATCH(M157,'OTRAS REFERENTES'!$M:$M,0),3))","v":""},{"$f":"IF(M157=\"\",\"\",INDEX('OTRAS REFERENTES'!$M:$O,MATCH(M157,'OTRAS REFERENTES'!$M:$M,0),2))","v":""},null,null,null,null,null,null,null,null,null,{"$f":"IF(X157=\"\",\"\",INDEX(referentes!$Y:$Z,MATCH(DATOS!X157,referentes!$Z:$Z,0),))","v":""},null,null,null,null,"OA",null,"SO",null,null,"",null,null,null,null,null,null,null,null,null,null,{"$f":"IF(AS157<>\"\",VLOOKUP(AS157,#REF!,2,TRUE),\"\")","v":""},null,{"$f":"IF(AU157<>\"\",VLOOKUP(AU157,#REF!,2,FALSE),\"\")","v":""},null,null,null,{"$f":"IF(AY157<>\"\",VLOOKUP(AY157,#REF!,2,TRUE),\"\")","v":""},null,153,"",null,{"$f":"IF(BD157=\"\",\"\",INDEX(referentes!$J:$K,MATCH(BD157,referentes!$J:$J,0),2))","v":""},null,null,{"$f":"IF(BG157=\"\",\"\",INDEX(referentes!$G:$H,MATCH(BG157,referentes!$G:$G,0),2))","v":""},{"$f":"IF(BD157=\"\",\"\",INDEX(referentes!$J:$P,MATCH(BD157,referentes!$J:$J,0),7))","v":""},""]
["19000100",{"$f":"DIGITADOR!$B$2","v":""},0,{"$f":"IF(E158<>\"\",CONCATENATE($A$2,DIGITADOR!$M$1,O158,AH158),\"\")","v":""},null,null,"","",null,null,null,null,"",{"$f":"IF(M158=\"\",\"\",INDEX('OTRAS REFERENTES'!$M:$O,MATCH(M158,'OTRAS REFERENTES'!$M:$M,0),3))","v":""},{"$f":"IF(M158=\"\",\"\",INDEX('OTRAS REFERENTES'!$M:$O,MATCH(M158,'OTRAS REFERENTES'!$M:$M,0),2))","v":""},null,null,null,null,null,null,null,null,null,{"$f":"IF(X158=\"\",\"\",INDEX(referentes!$Y:$Z,MATCH(DATOS!X158,referentes!$Z:$Z,0),))","v":""},null,null,null,null,"OA",null,"SO",null,null,"",null,null,null,null,null,null,null,null,null,null,{"$f":"IF(AS158<>\"\",VLOOKUP(AS158,#REF!,2,TRUE),\"\")","v":""},null,{"$f":"IF(AU158<>\"\",VLOOKUP(AU158,#REF!,2,FALSE),\"\")","v":""},null,null,null,{"$f":"IF(AY158<>\"\",VLOOKUP(AY158,#REF!,2,TRUE),\"\")","v":""},null,154,"",null,{"$f":"IF(BD158=\"\",\"\",INDEX(referentes!$J:$K,MATCH(BD158,referentes!$J:$J,0),2))","v":""},null,null,{"$f":"IF(BG158=\"\",\"\",INDEX(referentes!$G:$H,MATCH(BG158,referentes!$G:$G,0),2))","v":""},{"$f":"IF(BD158=\"\",\"\",INDEX(referentes!$J:$P,MATCH(BD158,referentes!$J:$J,0),7))","v":""},""]
["19000100",{"$f":"DIGITADOR!$B$2","v":""},0,{"$f":"IF(E159<>\"\",CONCATENATE($A$2,DIGITADOR!$M$1,O159,AH159),\"\")","v":""},null,null,"","",null,null,null,null,"",{"$f":"IF(M159=\"\",\"\",INDEX('OTRAS REFERENTES'!$M:$O,MATCH(M159,'OTRAS REFERENTES'!$M:$M,0),3))","v":""},{"$f":"IF(M159=\"\",\"\",INDEX('OTRAS REFERENTES'!$M:$O,MATCH(M159,'OTRAS REFERENTES'!$M:$M,0),2))","v":""},null,null,null,null,null,null,null,null,null,{"$f":"IF(X159=\"\",\"\",INDEX(referentes!$Y:$Z,MATCH(DATOS!X159,referentes!$Z:$Z,0),))","v":""},null,null,null,null,"OA",null,"SO",null,null,"",null,null,null,null,null,null,null,null,null,null,{"$f":"IF(AS159<>\"\",VLOOKUP(AS159,#REF!,2,TRUE),\"\")","v":""},null,{"$f":"IF(AU159<>\"\",VLOOKUP(AU159,#REF!,2,FALSE),\"\")","v":""},null,null,null,{"$f":"IF(AY159<>\"\",VLOOKUP(AY159,#REF!,2,TRUE),\"\")","v":""},null,155,"",null,{"$f":"IF(BD159=\"\",\"\",INDEX(referentes!$J:$K,MATCH(BD159,referentes!$J:$J,0),2))","v":""},null,null,{"$f":"IF(BG159=\"\",\"\",INDEX(referentes!$G:$H,MATCH(BG159,referentes!$G:$G,0),2))","v":""},{"$f":"IF(BD159=\"\",\"\",INDEX(referentes!$J:$P,MATCH(BD159,referentes!$J:$J,0),7))","v":""},""]
["19000100",{"$f":"DIGITADOR!$B$2","v":""},0,{"$f":"IF(E160<>\"\",CONCATENATE($A$2,DIGITADOR!$M$1,O160,AH160),\"\")","v":""},null,null,"","",null,null,null,null,"",{"$f":"IF(M160=\"\",\"\",INDEX('OTRAS REFERENTES'!$M:$O,MATCH(M160,'OTRAS REFERENTES'!$M:$M,0),3))","v":""},{"$f":"IF(M160=\"\",\"\",INDEX('OTRAS REFERENTES'!$M:$O,MATCH(M160,'OTRAS REFERENTES'!$M:$M,0),2))","v":""},null,null,null,null,null,null,null,null,null,{"$f":"IF(X160=\"\",\"\",INDEX(referentes!$Y:$Z,MATCH(DATOS!X160,referentes!$Z:$Z,0),))","v":""},null,null,null,null,"OA",null,"SO",null,null,"",null,null,null,null,null,null,null,null,null,null,{"$f":"IF(AS160<>\"\",VLOOKUP(AS160,#REF!,2,TRUE),\"\")","v":""},null,{"$f":"IF(AU160<>\"\",VLOOKUP(AU160,#REF!,2,FALSE),\"\")","v":""},null,null,null,{"$f":"IF(AY160<>\"\",VLOOKUP(AY160,#REF!,2,TRUE),\"\")","v":""},null,156,"",null,{"$f":"IF(BD160=\"\",\"\",INDEX(referentes!$J:$K,MATCH(BD160,referentes!$J:$J,0),2))","v":""},null,null,{"$f":"IF(BG160=\"\",\"\",INDEX(referentes!$G:$H,MATCH(BG160,referentes!$G:$G,0),2))","v":""},{"$f":"IF(BD160=\"\",\"\",INDEX(referentes!$J:$P,MATCH(BD160,referentes!$J:$J,0),7))","v":""},""]
["19000100",{"$f":"DIGITADOR!$B$2","v":""},0,{"$f":"IF(E161<>\"\",CONCATENATE($A$2,DIGITADOR!$M$1,O161,AH161),\"\")","v":""},null,null,"","",null,null,null,null,"",{"$f":"IF(M161=\"\",\"\",INDEX('OTRAS REFERENTES'!$M:$O,MATCH(M161,'OTRAS REFERENTES'!$M:$M,0),3))","v":""},{"$f":"IF(M161=\"\",\"\",INDEX('OTRAS REFERENTES'!$M:$O,MATCH(M161,'OTRAS REFERENTES'!$M:$M,0),2))","v":""},null,null,null,null,null,null,null,null,null,{"$f":"IF(X161=\"\",\"\",INDEX(referentes!$Y:$Z,MATCH(DATOS!X161,referentes!$Z:$Z,0),))","v":""},null,null,null,null,"OA",null,"SO",null,null,"",null,null,null,null,null,null,null,null,null,null,{"$f":"IF(AS161<>\"\",VLOOKUP(AS161,#REF!,2,TRUE),\"\")","v":""},null,{"$f":"IF(AU161<>\"\",VLOOKUP(AU161,#REF!,2,FALSE),\"\")","v":""},null,null,null,{"$f":"IF(AY161<>\"\",VLOOKUP(AY161,#REF!,2,TRUE),\"\")","v":""},null,157,"",null,{"$f":"IF(BD161=\"\",\"\",INDEX(referentes!$J:$K,MATCH(BD161,referentes!$J:$J,0),2))","v":""},null,null,{"$f":"IF(BG161=\"\",\"\",INDEX(referentes!$G:$H,MATCH(BG161,referentes!$G:$G,0),2))","v":""},{"$f":"IF(BD161=\"\",\"\",INDEX(referentes!$J:$P,MATCH(BD161,referentes!$J:$J,0),7))","v":""},""]
["19000100",{"$f":"DIGITADOR!$B$2","v":""},0,{"$f":"IF(E162<>\"\",CONCATENATE($A$2,DIGITADOR!$M$1,O162,AH162),\"\")","v":""},null,null,"","",null,null,null,null,"",{"$f":"IF(M162=\"\",\"\",INDEX('OTRAS REFERENTES'!$M:$O,MATCH(M162,'OTRAS REFERENTES'!$M:$M,0),3))","v":""},{"$f":"IF(M162=\"\",\"\",INDEX('OTRAS REFERENTES'!$M:$O,MATCH(M162,'OTRAS REFERENTES'!$M:$M,0),2))","v":""},null,null,null,null,null,null,null,null,null,{"$f":"IF(X162=\"\",\"\",INDEX(referentes!$Y:$Z,MATCH(DATOS!X162,referentes!$Z:$Z,0),))","v":""},null,null,null,null,"OA",null,"SO",null,null,"",null,null,null,null,null,null,null,null,null,null,{"$f":"IF(AS162<>\"\",VLOOKUP(AS162,#REF!,2,TRUE),\"\")","v":""},null,{"$f":"IF(AU162<>\"\",VLOOKUP(AU162,#REF!,2,FALSE),\"\")","v":""},null,null,null,{"$f":"IF(AY162<>\"\",VLOOKUP(AY162,#REF!,2,TRUE),\"\")","v":""},null,158,"",null,{"$f":"IF(BD162=\"\",\"\",INDEX(referentes!$J:$K,MATCH(BD162,referentes!$J:$J,0),2))","v":""},null,null,{"$f":"IF(BG162=\"\",\"\",INDEX(referentes!$G:$H,MATCH(BG162,referentes!$G:$G,0),2))","v":""},{"$f":"IF(BD162=\"\",\"\",INDEX(referentes!$J:$P,MATCH(BD162,referentes!$J:$J,0),7))","v":""},""]
["19000100",{"$f":"DIGITADOR!$B$2","v":""},0,{"$f":"IF(E163<>\"\",CONCATENATE($A$2,DIGITADOR!$M$1,O163,AH163),\"\")","v":""},null,null,"","",null,null,null,null,"",{"$f":"IF(M163=\"\",\"\",INDEX('OTRAS REFERENTES'!$M:$O,MATCH(M163,'OTRAS REFERENTES'!$M:$M,0),3))","v":""},{"$f":"IF(M163=\"\",\"\",INDEX('OTRAS REFERENTES'!$M:$O,MATCH(M163,'OTRAS REFERENTES'!$M:$M,0),2))","v":""},null,null,null,null,null,null,null,null,null,{"$f":"IF(X163=\"\",\"\",INDEX(referentes!$Y:$Z,MATCH(DATOS!X163,referentes!$Z:$Z,0),))","v":""},null,null,null,null,"OA",null,"SO",null,null,"",null,null,null,null,null,null,null,null,null,null,{"$f":"IF(AS163<>\"\",VLOOKUP(AS163,#REF!,2,TRUE),\"\")","v":""},null,{"$f":"IF(AU163<>\"\",VLOOKUP(AU163,#REF!,2,FALSE),\"\")","v":""},null,null,null,{"$f":"IF(AY163<>\"\",VLOOKUP(AY163,#REF!,2,TRUE),\"\")","v":""},null,159,"",null,{"$f":"IF(BD163=\"\",\"\",INDEX(referentes!$J:$K,MATCH(BD163,referentes!$J:$J,0),2))","v":""},null,null,{"$f":"IF(BG163=\"\",\"\",INDEX(referentes!$G:$H,MATCH(BG163,referentes!$G:$G,0),2))","v":""},{"$f":"IF(BD163=\"\",\"\",INDEX(referentes!$J:$P,MATCH(BD163,referentes!$J:$J,0),7))","v":""},""]
["19000100",{"$f":"DIGITADOR!$B$2","v":""},0,{"$f":"IF(E164<>\"\",CONCATENATE($A$2,DIGITADOR!$M$1,O164,AH164),\"\")","v":""},null,null,"","",null,null,null,null,"",{"$f":"IF(M164=\"\",\"\",INDEX('OTRAS REFERENTES'!$M:$O,MATCH(M164,'OTRAS REFERENTES'!$M:$M,0),3))","v":""},{"$f":"IF(M164=\"\",\"\",INDEX('OTRAS REFERENTES'!$M:$O,MATCH(M164,'OTRAS REFERENTES'!$M:$M,0),2))","v":""},null,null,null,null,null,null,null,null,null,{"$f":"IF(X164=\"\",\"\",INDEX(referentes!$Y:$Z,MATCH(DATOS!X164,referentes!$Z:$Z,0),))","v":""},null,null,null,null,"OA",null,"SO",null,null,"",null,null,null,null,null,null,null,null,null,null,{"$f":"IF(AS164<>\"\",VLOOKUP(AS164,#REF!,2,TRUE),\"\")","v":""},null,{"$f":"IF(AU164<>\"\",VLOOKUP(AU164,#REF!,2,FALSE),\"\")","v":""},null,null,null,{"$f":"IF(AY164<>\"\",VLOOKUP(AY164,#REF!,2,TRUE),\"\")","v":""},null,160,"",null,{"$f":"IF(BD164=\"\",\"\",INDEX(referentes!$J:$K,MATCH(BD164,referentes!$J:$J,0),2))","v":""},null,null,{"$f":"IF(BG164=\"\",\"\",INDEX(referentes!$G:$H,MATCH(BG164,referentes!$G:$G,0),2))","v":""},{"$f":"IF(BD164=\"\",\"\",INDEX(referentes!$J:$P,MATCH(BD164,referentes!$J:$J,0),7))","v":""},""]
["19000100",{"$f":"DIGITADOR!$B$2","v":""},0,{"$f":"IF(E165<>\"\",CONCATENATE($A$2,DIGITADOR!$M$1,O165,AH165),\"\")","v":""},null,null,"","",null,null,null,null,"",{"$f":"IF(M165=\"\",\"\",INDEX('OTRAS REFERENTES'!$M:$O,MATCH(M165,'OTRAS REFERENTES'!$M:$M,0),3))","v":""},{"$f":"IF(M165=\"\",\"\",INDEX('OTRAS REFERENTES'!$M:$O,MATCH(M165,'OTRAS REFERENTES'!$M:$M,0),2))","v":""},null,null,null,null,null,null,null,null,null,{"$f":"IF(X165=\"\",\"\",INDEX(referentes!$Y:$Z,MATCH(DATOS!X165,referentes!$Z:$Z,0),))","v":""},null,null,null,null,"OA",null,"SO",null,null,"",null,null,null,null,null,null,null,null,null,null,{"$f":"IF(AS165<>\"\",VLOOKUP(AS165,#REF!,2,TRUE),\"\")","v":""},null,{"$f":"IF(AU165<>\"\",VLOOKUP(AU165,#REF!,2,FALSE),\"\")","v":""},null,null,null,{"$f":"IF(AY165<>\"\",VLOOKUP(AY165,#REF!,2,TRUE),\"\")","v":""},null,161,"",null,{"$f":"IF(BD165=\"\",\"\",INDEX(referentes!$J:$K,MATCH(BD165,referentes!$J:$J,0),2))","v":""},null,null,{"$f":"IF(BG165=\"\",\"\",INDEX(referentes!$G:$H,MATCH(BG165,referentes!$G:$G,0),2))","v":""},{"$f":"IF(BD165=\"\",\"\",INDEX(referentes!$J:$P,MATCH(BD165,referentes!$J:$J,0),7))","v":""},""]
["19000100",{"$f":"DIGITADOR!$B$2","v":""},0,{"$f":"IF(E166<>\"\",CONCATENATE($A$2,DIGITADOR!$M$1,O166,AH166),\"\")","v":""},null,null,"","",null,null,null,null,"",{"$f":"IF(M166=\"\",\"\",INDEX('OTRAS REFERENTES'!$M:$O,MATCH(M166,'OTRAS REFERENTES'!$M:$M,0),3))","v":""},{"$f":"IF(M166=\"\",\"\",INDEX('OTRAS REFERENTES'!$M:$O,MATCH(M166,'OTRAS REFERENTES'!$M:$M,0),2))","v":""},null,null,null,null,null,null,null,null,null,{"$f":"IF(X166=\"\",\"\",INDEX(referentes!$Y:$Z,MATCH(DATOS!X166,referentes!$Z:$Z,0),))","v":""},null,null,null,null,"OA",null,"SO",null,null,"",null,null,null,null,null,null,null,null,null,null,{"$f":"IF(AS166<>\"\",VLOOKUP(AS166,#REF!,2,TRUE),\"\")","v":""},null,{"$f":"IF(AU166<>\"\",VLOOKUP(AU166,#REF!,2,FALSE),\"\")","v":""},null,null,null,{"$f":"IF(AY166<>\"\",VLOOKUP(AY166,#REF!,2,TRUE),\"\")","v":""},null,162,"",null,{"$f":"IF(BD166=\"\",\"\",INDEX(referentes!$J:$K,MATCH(BD166,referentes!$J:$J,0),2))","v":""},null,null,{"$f":"IF(BG166=\"\",\"\",INDEX(referentes!$G:$H,MATCH(BG166,referentes!$G:$G,0),2))","v":""},{"$f":"IF(BD166=\"\",\"\",INDEX(referentes!$J:$P,MATCH(BD166,referentes!$J:$J,0),7))","v":""},""]
["19000100",{"$f":"DIGITADOR!$B$2","v":""},0,{"$f":"IF(E167<>\"\",CONCATENATE($A$2,DIGITADOR!$M$1,O167,AH167),\"\")","v":""},null,null,"","",null,null,null,null,"",{"$f":"IF(M167=\"\",\"\",INDEX('OTRAS REFERENTES'!$M:$O,MATCH(M167,'OTRAS REFERENTES'!$M:$M,0),3))","v":""},{"$f":"IF(M167=\"\",\"\",INDEX('OTRAS REFERENTES'!$M:$O,MATCH(M167,'OTRAS REFERENTES'!$M:$M,0),2))","v":""},null,null,null,null,null,null,null,null,null,{"$f":"IF(X167=\"\",\"\",INDEX(referentes!$Y:$Z,MATCH(DATOS!X167,referentes!$Z:$Z,0),))","v":""},null,null,null,null,"OA",null,"SO",null,null,"",null,null,null,null,null,null,null,null,null,null,{"$f":"IF(AS167<>\"\",VLOOKUP(AS167,#REF!,2,TRUE),\"\")","v":""},null,{"$f":"IF(AU167<>\"\",VLOOKUP(AU167,#REF!,2,FALSE),\"\")","v":""},null,null,null,{"$f":"IF(AY167<>\"\",VLOOKUP(AY167,#REF!,2,TRUE),\"\")","v":""},null,163,"",null,{"$f":"IF(BD167=\"\",\"\",INDEX(referentes!$J:$K,MATCH(BD167,referentes!$J:$J,0),2))","v":""},null,null,{"$f":"IF(BG167=\"\",\"\",INDEX(referentes!$G:$H,MATCH(BG167,referentes!$G:$G,0),2))","v":""},{"$f":"IF(BD167=\"\",\"\",INDEX(referentes!$J:$P,MATCH(BD167,referentes!$J:$J,0),7))","v":""},""]
["19000100",{"$f":"DIGITADOR!$B$2","v":""},0,{"$f":"IF(E168<>\"\",CONCATENATE($A$2,DIGITADOR!$M$1,O168,AH168),\"\")","v":""},null,null,"","",null,null,null,null,"",{"$f":"IF(M168=\"\",\"\",INDEX('OTRAS REFERENTES'!$M:$O,MATCH(M168,'OTRAS REFERENTES'!$M:$M,0),3))","v":""},{"$f":"IF(M168=\"\",\"\",INDEX('OTRAS REFERENTES'!$M:$O,MATCH(M168,'OTRAS REFERENTES'!$M:$M,0),2))","v":""},null,null,null,null,null,null,null,null,null,{"$f":"IF(X168=\"\",\"\",INDEX(referentes!$Y:$Z,MATCH(DATOS!X168,referentes!$Z:$Z,0),))","v":""},null,null,null,null,"OA",null,"SO",null,null,"",null,null,null,null,null,null,null,null,null,null,{"$f":"IF(AS168<>\"\",VLOOKUP(AS168,#REF!,2,TRUE),\"\")","v":""},null,{"$f":"IF(AU168<>\"\",VLOOKUP(AU168,#REF!,2,FALSE),\"\")","v":""},null,null,null,{"$f":"IF(AY168<>\"\",VLOOKUP(AY168,#REF!,2,TRUE),\"\")","v":""},null,164,"",null,{"$f":"IF(BD168=\"\",\"\",INDEX(referentes!$J:$K,MATCH(BD168,referentes!$J:$J,0),2))","v":""},null,null,{"$f":"IF(BG168=\"\",\"\",INDEX(referentes!$G:$H,MATCH(BG168,referentes!$G:$G,0),2))","v":""},{"$f":"IF(BD168=\"\",\"\",INDEX(referentes!$J:$P,MATCH(BD168,referentes!$J:$J,0),7))","v":""},""]
["19000100",{"$f":"DIGITADOR!$B$2","v":""},{"$f":"IF(Z169=Z168,C168,C168+1)","v":0},{"$f":"IF(E169<>\"\",CONCATENATE($A$2,DIGITADOR!$M$1,O169,AH169),\"\")","v":""},null,null,"","",null,null,null,null,"",{"$f":"IF(M169=\"\",\"\",INDEX('OTRAS REFERENTES'!$M:$O,MATCH(M169,'OTRAS REFERENTES'!$M:$M,0),3))","v":""},{"$f":"IF(M169=\"\",\"\",INDEX('OTRAS REFERENTES'!$M:$O,MATCH(M169,'OTRAS REFERENTES'!$M:$M,0),2))","v":""},null,null,null,null,null,null,null,null,null,{"$f":"IF(X169=\"\",\"\",INDEX(referentes!$Y:$Z,MATCH(DATOS!X169,referentes!$Z:$Z,0),))","v":""},null,null,null,null,"OA",null,"SO",null,null,"",null,null,null,null,null,null,null,null,null,null,{"$f":"IF(AS169<>\"\",VLOOKUP(AS169,#REF!,2,TRUE),\"\")","v":""},null,{"$f":"IF(AU169<>\"\",VLOOKUP(AU169,#REF!,2,FALSE),\"\")","v":""},null,null,null,{"$f":"IF(AY169<>\"\",VLOOKUP(AY169,#REF!,2,TRUE),\"\")","v":""},null,165,"",null,{"$f":"IF(BD169=\"\",\"\",INDEX(referentes!$J:$K,MATCH(BD169,referentes!$J:$J,0),2))","v":""},null,null,{"$f":"IF(BG169=\"\",\"\",INDEX(referentes!$G:$H,MATCH(BG169,referentes!$G:$G,0),2))","v":""},{"$f":"IF(BD169=\"\",\"\",INDEX(referentes!$J:$P,MATCH(BD169,referentes!$J:$J,0),7))","v":""},""]
["19000100",{"$f":"DIGITADOR!$B$2","v":""},0,{"$f":"IF(E170<>\"\",CONCATENATE($A$2,DIGITADOR!$M$1,O170,AH170),\"\")","v":""},null,null,"","",null,null,null,null,"",{"$f":"IF(M170=\"\",\"\",INDEX('OTRAS REFERENTES'!$M:$O,MATCH(M170,'OTRAS REFERENTES'!$M:$M,0),3))","v":""},{"$f":"IF(M170=\"\",\"\",INDEX('OTRAS REFERENTES'!$M:$O,MATCH(M170,'OTRAS REFERENTES'!$M:$M,0),2))","v":""},null,null,null,null,null,null,null,null,null,{"$f":"IF(X170=\"\",\"\",INDEX(referentes!$Y:$Z,MATCH(DATOS!X170,referentes!$Z:$Z,0),))","v":""},null,null,null,null,"OA",null,"SO",null,null,"",null,null,null,null,null,null,null,null,null,null,{"$f":"IF(AS170<>\"\",VLOOKUP(AS170,#REF!,2,TRUE),\"\")","v":""},null,{"$f":"IF(AU170<>\"\",VLOOKUP(AU170,#REF!,2,FALSE),\"\")","v":""},null,null,null,{"$f":"IF(AY170<>\"\",VLOOKUP(AY170,#REF!,2,TRUE),\"\")","v":""},null,166,"",null,{"$f":"IF(BD170=\"\",\"\",INDEX(referentes!$J:$K,MATCH(BD170,referentes!$J:$J,0),2))","v":""},null,null,{"$f":"IF(BG170=\"\",\"\",INDEX(referentes!$G:$H,MATCH(BG170,referentes!$G:$G,0),2))","v":""},{"$f":"IF(BD170=\"\",\"\",INDEX(referentes!$J:$P,MATCH(BD170,referentes!$J:$J,0),7))","v":""},""]
["19000100",{"$f":"DIGITADOR!$B$2","v":""},0,{"$f":"IF(E171<>\"\",CONCATENATE($A$2,DIGITADOR!$M$1,O171,AH171),\"\")","v":""},null,null,"","",null,null,null,null,"",{"$f":"IF(M171=\"\",\"\",INDEX('OTRAS REFERENTES'!$M:$O,MATCH(M171,'OTRAS REFERENTES'!$M:$M,0),3))","v":""},{"$f":"IF(M171=\"\",\"\",INDEX('OTRAS REFERENTES'!$M:$O,MATCH(M171,'OTRAS REFERENTES'!$M:$M,0),2))","v":""},null,null,null,null,null,null,null,null,null,{"$f":"IF(X171=\"\",\"\",INDEX(referentes!$Y:$Z,MATCH(DATOS!X171,referentes!$Z:$Z,0),))","v":""},null,null,null,null,"OA",null,"SO",null,null,"",null,null,null,null,null,null,null,null,null,null,{"$f":"IF(AS171<>\"\",VLOOKUP(AS171,#REF!,2,TRUE),\"\")","v":""},null,{"$f":"IF(AU171<>\"\",VLOOKUP(AU171,#REF!,2,FALSE),\"\")","v":""},null,null,null,{"$f":"IF(AY171<>\"\",VLOOKUP(AY171,#REF!,2,TRUE),\"\")","v":""},null,167,"",null,{"$f":"IF(BD171=\"\",\"\",INDEX(referentes!$J:$K,MATCH(BD171,referentes!$J:$J,0),2))","v":""},null,null,{"$f":"IF(BG171=\"\",\"\",INDEX(referentes!$G:$H,MATCH(BG171,referentes!$G:$G,0),2))","v":""},{"$f":"IF(BD171=\"\",\"\",INDEX(referentes!$J:$P,MATCH(BD171,referentes!$J:$J,0),7))","v":""},""]
["19000100",{"$f":"DIGITADOR!$B$2","v":""},0,{"$f":"IF(E172<>\"\",CONCATENATE($A$2,DIGITADOR!$M$1,O172,AH172),\"\")","v":""},null,null,"","",null,null,null,null,"",{"$f":"IF(M172=\"\",\"\",INDEX('OTRAS REFERENTES'!$M:$O,MATCH(M172,'OTRAS REFERENTES'!$M:$M,0),3))","v":""},{"$f":"IF(M172=\"\",\"\",INDEX('OTRAS REFERENTES'!$M:$O,MATCH(M172,'OTRAS REFERENTES'!$M:$M,0),2))","v":""},null,null,null,null,null,null,null,null,null,{"$f":"IF(X172=\"\",\"\",INDEX(referentes!$Y:$Z,MATCH(DATOS!X172,referentes!$Z:$Z,0),))","v":""},null,null,null,null,"OA",null,"SO",null,null,"",null,null,null,null,null,null,null,null,null,null,{"$f":"IF(AS172<>\"\",VLOOKUP(AS172,#REF!,2,TRUE),\"\")","v":""},null,{"$f":"IF(AU172<>\"\",VLOOKUP(AU172,#REF!,2,FALSE),\"\")","v":""},null,null,null,{"$f":"IF(AY172<>\"\",VLOOKUP(AY172,#REF!,2,TRUE),\"\")","v":""},null,168,"",null,{"$f":"IF(BD172=\"\",\"\",INDEX(referentes!$J:$K,MATCH(BD172,referentes!$J:$J,0),2))","v":""},null,null,{"$f":"IF(BG172=\"\",\"\",INDEX(referentes!$G:$H,MATCH(BG172,referentes!$G:$G,0),2))","v":""},{"$f":"IF(BD172=\"\",\"\",INDEX(referentes!$J:$P,MATCH(BD172,referentes!$J:$J,0),7))","v":""},""]
["19000100",{"$f":"DIGITADOR!$B$2","v":""},0,{"$f":"IF(E173<>\"\",CONCATENATE($A$2,DIGITADOR!$M$1,O173,AH173),\"\")","v":""},null,null,"","",null,null,null,null,"",{"$f":"IF(M173=\"\",\"\",INDEX('OTRAS REFERENTES'!$M:$O,MATCH(M173,'OTRAS REFERENTES'!$M:$M,0),3))","v":""},{"$f":"IF(M173=\"\",\"\",INDEX('OTRAS REFERENTES'!$M:$O,MATCH(M173,'OTRAS REFERENTES'!$M:$M,0),2))","v":""},null,null,null,null,null,null,null,null,null,{"$f":"IF(X173=\"\",\"\",INDEX(referentes!$Y:$Z,MATCH(DATOS!X173,referentes!$Z:$Z,0),))","v":""},null,null,null,null,"OA",null,"SO",null,null,"",null,null,null,null,null,null,null,null,null,null,{"$f":"IF(AS173<>\"\",VLOOKUP(AS173,#REF!,2,TRUE),\"\")","v":""},null,{"$f":"IF(AU173<>\"\",VLOOKUP(AU173,#REF!,2,FALSE),\"\")","v":""},null,null,null,{"$f":"IF(AY173<>\"\",VLOOKUP(AY173,#REF!,2,TRUE),\"\")","v":""},null,169,"",null,{"$f":"IF(BD173=\"\",\"\",INDEX(referentes!$J:$K,MATCH(BD173,referentes!$J:$J,0),2))","v":""},null,null,{"$f":"IF(BG173=\"\",\"\",INDEX(referentes!$G:$H,MATCH(BG173,referentes!$G:$G,0),2))","v":""},{"$f":"IF(BD173=\"\",\"\",INDEX(referentes!$J:$P,MATCH(BD173,referentes!$J:$J,0),7))","v":""},""]
["19000100",{"$f":"DIGITADOR!$B$2","v":""},0,{"$f":"IF(E174<>\"\",CONCATENATE($A$2,DIGITADOR!$M$1,O174,AH174),\"\")","v":""},null,null,"","",null,null,null,null,"",{"$f":"IF(M174=\"\",\"\",INDEX('OTRAS REFERENTES'!$M:$O,MATCH(M174,'OTRAS REFERENTES'!$M:$M,0),3))","v":""},{"$f":"IF(M174=\"\",\"\",INDEX('OTRAS REFERENTES'!$M:$O,MATCH(M174,'OTRAS REFERENTES'!$M:$M,0),2))","v":""},null,null,null,null,null,null,null,null,null,{"$f":"IF(X174=\"\",\"\",INDEX(referentes!$Y:$Z,MATCH(DATOS!X174,referentes!$Z:$Z,0),))","v":""},null,null,null,null,"OA",null,"SO",null,null,"",null,null,null,null,null,null,null,null,null,null,{"$f":"IF(AS174<>\"\",VLOOKUP(AS174,#REF!,2,TRUE),\"\")","v":""},null,{"$f":"IF(AU174<>\"\",VLOOKUP(AU174,#REF!,2,FALSE),\"\")","v":""},null,null,null,{"$f":"IF(AY174<>\"\",VLOOKUP(AY174,#REF!,2,TRUE),\"\")","v":""},null,170,"",null,{"$f":"IF(BD174=\"\",\"\",INDEX(referentes!$J:$K,MATCH(BD174,referentes!$J:$J,0),2))","v":""},null,null,{"$f":"IF(BG174=\"\",\"\",INDEX(referentes!$G:$H,MATCH(BG174,referentes!$G:$G,0),2))","v":""},{"$f":"IF(BD174=\"\",\"\",INDEX(referentes!$J:$P,MATCH(BD174,referentes!$J:$J,0),7))","v":""},""]
["19000100",{"$f":"DIGITADOR!$B$2","v":""},0,{"$f":"IF(E175<>\"\",CONCATENATE($A$2,DIGITADOR!$M$1,O175,AH175),\"\")","v":""},null,null,"","",null,null,null,null,"",{"$f":"IF(M175=\"\",\"\",INDEX('OTRAS REFERENTES'!$M:$O,MATCH(M175,'OTRAS REFERENTES'!$M:$M,0),3))","v":""},{"$f":"IF(M175=\"\",\"\",INDEX('OTRAS REFERENTES'!$M:$O,MATCH(M175,'OTRAS REFERENTES'!$M:$M,0),2))","v":""},null,null,null,null,null,null,null,null,null,{"$f":"IF(X175=\"\",\"\",INDEX(referentes!$Y:$Z,MATCH(DATOS!X175,referentes!$Z:$Z,0),))","v":""},null,null,null,null,"OA",null,"SO",null,null,"",null,null,null,null,null,null,null,null,null,null,{"$f":"IF(AS175<>\"\",VLOOKUP(AS175,#REF!,2,TRUE),\"\")","v":""},null,{"$f":"IF(AU175<>\"\",VLOOKUP(AU175,#REF!,2,FALSE),\"\")","v":""},null,null,null,{"$f":"IF(AY175<>\"\",VLOOKUP(AY175,#REF!,2,TRUE),\"\")","v":""},null,171,"",null,{"$f":"IF(BD175=\"\",\"\",INDEX(referentes!$J:$K,MATCH(BD175,referentes!$J:$J,0),2))","v":""},null,null,{"$f":"IF(BG175=\"\",\"\",INDEX(referentes!$G:$H,MATCH(BG175,referentes!$G:$G,0),2))","v":""},{"$f":"IF(BD175=\"\",\"\",INDEX(referentes!$J:$P,MATCH(BD175,referentes!$J:$J,0),7))","v":""},""]
["19000100",{"$f":"DIGITADOR!$B$2","v":""},0,{"$f":"IF(E176<>\"\",CONCATENATE($A$2,DIGITADOR!$M$1,O176,AH176),\"\")","v":""},null,null,"","",null,null,null,null,"",{"$f":"IF(M176=\"\",\"\",INDEX('OTRAS REFERENTES'!$M:$O,MATCH(M176,'OTRAS REFERENTES'!$M:$M,0),3))","v":""},{"$f":"IF(M176=\"\",\"\",INDEX('OTRAS REFERENTES'!$M:$O,MATCH(M176,'OTRAS REFERENTES'!$M:$M,0),2))","v":""},null,null,null,null,null,null,null,null,null,{"$f":"IF(X176=\"\",\"\",INDEX(referentes!$Y:$Z,MATCH(DATOS!X176,referentes!$Z:$Z,0),))","v":""},null,null,null,null,"OA",null,"SO",null,null,"",null,null,null,null,null,null,null,null,null,null,{"$f":"IF(AS176<>\"\",VLOOKUP(AS176,#REF!,2,TRUE),\"\")","v":""},null,{"$f":"IF(AU176<>\"\",VLOOKUP(AU176,#REF!,2,FALSE),\"\")","v":""},null,null,null,{"$f":"IF(AY176<>\"\",VLOOKUP(AY176,#REF!,2,TRUE),\"\")","v":""},null,172,"",null,{"$f":"IF(BD176=\"\",\"\",INDEX(referentes!$J:$K,MATCH(BD176,referentes!$J:$J,0),2))","v":""},null,null,{"$f":"IF(BG176=\"\",\"\",INDEX(referentes!$G:$H,MATCH(BG176,referentes!$G:$G,0),2))","v":""},{"$f":"IF(BD176=\"\",\"\",INDEX(referentes!$J:$P,MATCH(BD176,referentes!$J:$J,0),7))","v":""},""]
["19000100",{"$f":"DIGITADOR!$B$2","v":""},0,{"$f":"IF(E177<>\"\",CONCATENATE($A$2,DIGITADOR!$M$1,O177,AH177),\"\")","v":""},null,null,"","",null,null,null,null,"",{"$f":"IF(M177=\"\",\"\",INDEX('OTRAS REFERENTES'!$M:$O,MATCH(M177,'OTRAS REFERENTES'!$M:$M,0),3))","v":""},{"$f":"IF(M177=\"\",\"\",INDEX('OTRAS REFERENTES'!$M:$O,MATCH(M177,'OTRAS REFERENTES'!$M:$M,0),2))","v":""},null,null,null,null,null,null,null,null,null,{"$f":"IF(X177=\"\",\"\",INDEX(referentes!$Y:$Z,MATCH(DATOS!X177,referentes!$Z:$Z,0),))","v":""},null,null,null,null,"OA",null,"SO",null,null,"",null,null,null,null,null,null,null,null,null,null,{"$f":"IF(AS177<>\"\",VLOOKUP(AS177,#REF!,2,TRUE),\"\")","v":""},null,{"$f":"IF(AU177<>\"\",VLOOKUP(AU177,#REF!,2,FALSE),\"\")","v":""},null,null,null,{"$f":"IF(AY177<>\"\",VLOOKUP(AY177,#REF!,2,TRUE),\"\")","v":""},null,173,"",null,{"$f":"IF(BD177=\"\",\"\",INDEX(referentes!$J:$K,MATCH(BD177,referentes!$J:$J,0),2))","v":""},null,null,{"$f":"IF(BG177=\"\",\"\",INDEX(referentes!$G:$H,MATCH(BG177,referentes!$G:$G,0),2))","v":""},{"$f":"IF(BD177=\"\",\"\",INDEX(referentes!$J:$P,MATCH(BD177,referentes!$J:$J,0),7))","v":""},""]
["19000100",{"$f":"DIGITADOR!$B$2","v":""},0,{"$f":"IF(E178<>\"\",CONCATENATE($A$2,DIGITADOR!$M$1,O178,AH178),\"\")","v":""},null,null,"","",null,null,null,null,"",{"$f":"IF(M178=\"\",\"\",INDEX('OTRAS REFERENTES'!$M:$O,MATCH(M178,'OTRAS REFERENTES'!$M:$M,0),3))","v":""},{"$f":"IF(M178=\"\",\"\",INDEX('OTRAS REFERENTES'!$M:$O,MATCH(M178,'OTRAS REFERENTES'!$M:$M,0),2))","v":""},null,null,null,null,null,null,null,null,null,{"$f":"IF(X178=\"\",\"\",INDEX(referentes!$Y:$Z,MATCH(DATOS!X178,referentes!$Z:$Z,0),))","v":""},null,null,null,null,"OA",null,"SO",null,null,"",null,null,null,null,null,null,null,null,null,null,{"$f":"IF(AS178<>\"\",VLOOKUP(AS178,#REF!,2,TRUE),\"\")","v":""},null,{"$f":"IF(AU178<>\"\",VLOOKUP(AU178,#REF!,2,FALSE),\"\")","v":""},null,null,null,{"$f":"IF(AY178<>\"\",VLOOKUP(AY178,#REF!,2,TRUE),\"\")","v":""},null,174,"",null,{"$f":"IF(BD178=\"\",\"\",INDEX(referentes!$J:$K,MATCH(BD178,referentes!$J:$J,0),2))","v":""},null,null,{"$f":"IF(BG178=\"\",\"\",INDEX(referentes!$G:$H,MATCH(BG178,referentes!$G:$G,0),2))","v":""},{"$f":"IF(BD178=\"\",\"\",INDEX(referentes!$J:$P,MATCH(BD178,referentes!$J:$J,0),7))","v":""},""]
["19000100",{"$f":"DIGITADOR!$B$2","v":""},0,{"$f":"IF(E179<>\"\",CONCATENATE($A$2,DIGITADOR!$M$1,O179,AH179),\"\")","v":""},null,null,"","",null,null,null,null,"",{"$f":"IF(M179=\"\",\"\",INDEX('OTRAS REFERENTES'!$M:$O,MATCH(M179,'OTRAS REFERENTES'!$M:$M,0),3))","v":""},{"$f":"IF(M179=\"\",\"\",INDEX('OTRAS REFERENTES'!$M:$O,MATCH(M179,'OTRAS REFERENTES'!$M:$M,0),2))","v":""},null,null,null,null,null,null,null,null,null,{"$f":"IF(X179=\"\",\"\",INDEX(referentes!$Y:$Z,MATCH(DATOS!X179,referentes!$Z:$Z,0),))","v":""},null,null,null,null,"OA",null,"SO",null,null,"",null,null,null,null,null,null,null,null,null,null,{"$f":"IF(AS179<>\"\",VLOOKUP(AS179,#REF!,2,TRUE),\"\")","v":""},null,{"$f":"IF(AU179<>\"\",VLOOKUP(AU179,#REF!,2,FALSE),\"\")","v":""},null,null,null,{"$f":"IF(AY179<>\"\",VLOOKUP(AY179,#REF!,2,TRUE),\"\")","v":""},null,175,"",null,{"$f":"IF(BD179=\"\",\"\",INDEX(referentes!$J:$K,MATCH(BD179,referentes!$J:$J,0),2))","v":""},null,null,{"$f":"IF(BG179=\"\",\"\",INDEX(referentes!$G:$H,MATCH(BG179,referentes!$G:$G,0),2))","v":""},{"$f":"IF(BD179=\"\",\"\",INDEX(referentes!$J:$P,MATCH(BD179,referentes!$J:$J,0),7))","v":""},""]
["19000100",{"$f":"DIGITADOR!$B$2","v":""},0,{"$f":"IF(E180<>\"\",CONCATENATE($A$2,DIGITADOR!$M$1,O180,AH180),\"\")","v":""},null,null,"","",null,null,null,null,"",{"$f":"IF(M180=\"\",\"\",INDEX('OTRAS REFERENTES'!$M:$O,MATCH(M180,'OTRAS REFERENTES'!$M:$M,0),3))","v":""},{"$f":"IF(M180=\"\",\"\",INDEX('OTRAS REFERENTES'!$M:$O,MATCH(M180,'OTRAS REFERENTES'!$M:$M,0),2))","v":""},null,null,null,null,null,null,null,null,null,{"$f":"IF(X180=\"\",\"\",INDEX(referentes!$Y:$Z,MATCH(DATOS!X180,referentes!$Z:$Z,0),))","v":""},null,null,null,null,"OA",null,"SO",null,null,"",null,null,null,null,null,null,null,null,null,null,{"$f":"IF(AS180<>\"\",VLOOKUP(AS180,#REF!,2,TRUE),\"\")","v":""},null,{"$f":"IF(AU180<>\"\",VLOOKUP(AU180,#REF!,2,FALSE),\"\")","v":""},null,null,null,{"$f":"IF(AY180<>\"\",VLOOKUP(AY180,#REF!,2,TRUE),\"\")","v":""},null,176,"",null,{"$f":"IF(BD180=\"\",\"\",INDEX(referentes!$J:$K,MATCH(BD180,referentes!$J:$J,0),2))","v":""},null,null,{"$f":"IF(BG180=\"\",\"\",INDEX(referentes!$G:$H,MATCH(BG180,referentes!$G:$G,0),2))","v":""},{"$f":"IF(BD180=\"\",\"\",INDEX(referentes!$J:$P,MATCH(BD180,referentes!$J:$J,0),7))","v":""},""]
["19000100",{"$f":"DIGITADOR!$B$2","v":""},0,{"$f":"IF(E181<>\"\",CONCATENATE($A$2,DIGITADOR!$M$1,O181,AH181),\"\")","v":""},null,null,"","",null,null,null,null,"",{"$f":"IF(M181=\"\",\"\",INDEX('OTRAS REFERENTES'!$M:$O,MATCH(M181,'OTRAS REFERENTES'!$M:$M,0),3))","v":""},{"$f":"IF(M181=\"\",\"\",INDEX('OTRAS REFERENTES'!$M:$O,MATCH(M181,'OTRAS REFERENTES'!$M:$M,0),2))","v":""},null,null,null,null,null,null,null,null,null,{"$f":"IF(X181=\"\",\"\",INDEX(referentes!$Y:$Z,MATCH(DATOS!X181,referentes!$Z:$Z,0),))","v":""},null,null,null,null,"OA",null,"SO",null,null,"",null,null,null,null,null,null,null,null,null,null,{"$f":"IF(AS181<>\"\",VLOOKUP(AS181,#REF!,2,TRUE),\"\")","v":""},null,{"$f":"IF(AU181<>\"\",VLOOKUP(AU181,#REF!,2,FALSE),\"\")","v":""},null,null,null,{"$f":"IF(AY181<>\"\",VLOOKUP(AY181,#REF!,2,TRUE),\"\")","v":""},null,177,"",null,{"$f":"IF(BD181=\"\",\"\",INDEX(referentes!$J:$K,MATCH(BD181,referentes!$J:$J,0),2))","v":""},null,null,{"$f":"IF(BG181=\"\",\"\",INDEX(referentes!$G:$H,MATCH(BG181,referentes!$G:$G,0),2))","v":""},{"$f":"IF(BD181=\"\",\"\",INDEX(referentes!$J:$P,MATCH(BD181,referentes!$J:$J,0),7))","v":""},""]
["19000100",{"$f":"DIGITADOR!$B$2","v":""},0,{"$f":"IF(E182<>\"\",CONCATENATE($A$2,DIGITADOR!$M$1,O182,AH182),\"\")","v":""},null,null,"","",null,null,null,null,"",{"$f":"IF(M182=\"\",\"\",INDEX('OTRAS REFERENTES'!$M:$O,MATCH(M182,'OTRAS REFERENTES'!$M:$M,0),3))","v":""},{"$f":"IF(M182=\"\",\"\",INDEX('OTRAS REFERENTES'!$M:$O,MATCH(M182,'OTRAS REFERENTES'!$M:$M,0),2))","v":""},null,null,null,null,null,null,null,null,null,{"$f":"IF(X182=\"\",\"\",INDEX(referentes!$Y:$Z,MATCH(DATOS!X182,referentes!$Z:$Z,0),))","v":""},null,null,null,null,"OA",null,"SO",null,null,"",null,null,null,null,null,null,null,null,null,null,{"$f":"IF(AS182<>\"\",VLOOKUP(AS182,#REF!,2,TRUE),\"\")","v":""},null,{"$f":"IF(AU182<>\"\",VLOOKUP(AU182,#REF!,2,FALSE),\"\")","v":""},null,null,null,{"$f":"IF(AY182<>\"\",VLOOKUP(AY182,#REF!,2,TRUE),\"\")","v":""},null,178,"",null,{"$f":"IF(BD182=\"\",\"\",INDEX(referentes!$J:$K,MATCH(BD182,referentes!$J:$J,0),2))","v":""},null,null,{"$f":"IF(BG182=\"\",\"\",INDEX(referentes!$G:$H,MATCH(BG182,referentes!$G:$G,0),2))","v":""},{"$f":"IF(BD182=\"\",\"\",INDEX(referentes!$J:$P,MATCH(BD182,referentes!$J:$J,0),7))","v":""},""]
["19000100",{"$f":"DIGITADOR!$B$2","v":""},0,{"$f":"IF(E183<>\"\",CONCATENATE($A$2,DIGITADOR!$M$1,O183,AH183),\"\")","v":""},null,null,"","",null,null,null,null,"",{"$f":"IF(M183=\"\",\"\",INDEX('OTRAS REFERENTES'!$M:$O,MATCH(M183,'OTRAS REFERENTES'!$M:$M,0),3))","v":""},{"$f":"IF(M183=\"\",\"\",INDEX('OTRAS REFERENTES'!$M:$O,MATCH(M183,'OTRAS REFERENTES'!$M:$M,0),2))","v":""},null,null,null,null,null,null,null,null,null,{"$f":"IF(X183=\"\",\"\",INDEX(referentes!$Y:$Z,MATCH(DATOS!X183,referentes!$Z:$Z,0),))","v":""},null,null,null,null,"OA",null,"SO",null,null,"",null,null,null,null,null,null,null,null,null,null,{"$f":"IF(AS183<>\"\",VLOOKUP(AS183,#REF!,2,TRUE),\"\")","v":""},null,{"$f":"IF(AU183<>\"\",VLOOKUP(AU183,#REF!,2,FALSE),\"\")","v":""},null,null,null,{"$f":"IF(AY183<>\"\",VLOOKUP(AY183,#REF!,2,TRUE),\"\")","v":""},null,179,"",null,{"$f":"IF(BD183=\"\",\"\",INDEX(referentes!$J:$K,MATCH(BD183,referentes!$J:$J,0),2))","v":""},null,null,{"$f":"IF(BG183=\"\",\"\",INDEX(referentes!$G:$H,MATCH(BG183,referentes!$G:$G,0),2))","v":""},{"$f":"IF(BD183=\"\",\"\",INDEX(referentes!$J:$P,MATCH(BD183,referentes!$J:$J,0),7))","v":""},""]
["19000100",{"$f":"DIGITADOR!$B$2","v":""},0,{"$f":"IF(E184<>\"\",CONCATENATE($A$2,DIGITADOR!$M$1,O184,AH184),\"\")","v":""},null,null,"","",null,null,null,null,"",{"$f":"IF(M184=\"\",\"\",INDEX('OTRAS REFERENTES'!$M:$O,MATCH(M184,'OTRAS REFERENTES'!$M:$M,0),3))","v":""},{"$f":"IF(M184=\"\",\"\",INDEX('OTRAS REFERENTES'!$M:$O,MATCH(M184,'OTRAS REFERENTES'!$M:$M,0),2))","v":""},null,null,null,null,null,null,null,null,null,{"$f":"IF(X184=\"\",\"\",INDEX(referentes!$Y:$Z,MATCH(DATOS!X184,referentes!$Z:$Z,0),))","v":""},null,null,null,null,"OA",null,"SO",null,null,"",null,null,null,null,null,null,null,null,null,null,{"$f":"IF(AS184<>\"\",VLOOKUP(AS184,#REF!,2,TRUE),\"\")","v":""},null,{"$f":"IF(AU184<>\"\",VLOOKUP(AU184,#REF!,2,FALSE),\"\")","v":""},null,null,null,{"$f":"IF(AY184<>\"\",VLOOKUP(AY184,#REF!,2,TRUE),\"\")","v":""},null,180,"",null,{"$f":"IF(BD184=\"\",\"\",INDEX(referentes!$J:$K,MATCH(BD184,referentes!$J:$J,0),2))","v":""},null,null,{"$f":"IF(BG184=\"\",\"\",INDEX(referentes!$G:$H,MATCH(BG184,referentes!$G:$G,0),2))","v":""},{"$f":"IF(BD184=\"\",\"\",INDEX(referentes!$J:$P,MATCH(BD184,referentes!$J:$J,0),7))","v":""},""]
["19000100",{"$f":"DIGITADOR!$B$2","v":""},0,{"$f":"IF(E185<>\"\",CONCATENATE($A$2,DIGITADOR!$M$1,O185,AH185),\"\")","v":""},null,null,"","",null,null,null,null,"",{"$f":"IF(M185=\"\",\"\",INDEX('OTRAS REFERENTES'!$M:$O,MATCH(M185,'OTRAS REFERENTES'!$M:$M,0),3))","v":""},{"$f":"IF(M185=\"\",\"\",INDEX('OTRAS REFERENTES'!$M:$O,MATCH(M185,'OTRAS REFERENTES'!$M:$M,0),2))","v":""},null,null,null,null,null,null,null,null,null,{"$f":"IF(X185=\"\",\"\",INDEX(referentes!$Y:$Z,MATCH(DATOS!X185,referentes!$Z:$Z,0),))","v":""},null,null,null,null,"OA",null,"SO",null,null,"",null,null,null,null,null,null,null,null,null,null,{"$f":"IF(AS185<>\"\",VLOOKUP(AS185,#REF!,2,TRUE),\"\")","v":""},null,{"$f":"IF(AU185<>\"\",VLOOKUP(AU185,#REF!,2,FALSE),\"\")","v":""},null,null,null,{"$f":"IF(AY185<>\"\",VLOOKUP(AY185,#REF!,2,TRUE),\"\")","v":""},null,181,"",null,{"$f":"IF(BD185=\"\",\"\",INDEX(referentes!$J:$K,MATCH(BD185,referentes!$J:$J,0),2))","v":""},null,null,{"$f":"IF(BG185=\"\",\"\",INDEX(referentes!$G:$H,MATCH(BG185,referentes!$G:$G,0),2))","v":""},{"$f":"IF(BD185=\"\",\"\",INDEX(referentes!$J:$P,MATCH(BD185,referentes!$J:$J,0),7))","v":""},""]
["19000100",{"$f":"DIGITADOR!$B$2","v":""},0,{"$f":"IF(E186<>\"\",CONCATENATE($A$2,DIGITADOR!$M$1,O186,AH186),\"\")","v":""},null,null,"","",null,null,null,null,"",{"$f":"IF(M186=\"\",\"\",INDEX('OTRAS REFERENTES'!$M:$O,MATCH(M186,'OTRAS REFERENTES'!$M:$M,0),3))","v":""},{"$f":"IF(M186=\"\",\"\",INDEX('OTRAS REFERENTES'!$M:$O,MATCH(M186,'OTRAS REFERENTES'!$M:$M,0),2))","v":""},null,null,null,null,null,null,null,null,null,{"$f":"IF(X186=\"\",\"\",INDEX(referentes!$Y:$Z,MATCH(DATOS!X186,referentes!$Z:$Z,0),))","v":""},null,null,null,null,"OA",null,"SO",null,null,"",null,null,null,null,null,null,null,null,null,null,{"$f":"IF(AS186<>\"\",VLOOKUP(AS186,#REF!,2,TRUE),\"\")","v":""},null,{"$f":"IF(AU186<>\"\",VLOOKUP(AU186,#REF!,2,FALSE),\"\")","v":""},null,null,null,{"$f":"IF(AY186<>\"\",VLOOKUP(AY186,#REF!,2,TRUE),\"\")","v":""},null,182,"",null,{"$f":"IF(BD186=\"\",\"\",INDEX(referentes!$J:$K,MATCH(BD186,referentes!$J:$J,0),2))","v":""},null,null,{"$f":"IF(BG186=\"\",\"\",INDEX(referentes!$G:$H,MATCH(BG186,referentes!$G:$G,0),2))","v":""},{"$f":"IF(BD186=\"\",\"\",INDEX(referentes!$J:$P,MATCH(BD186,referentes!$J:$J,0),7))","v":""},""]
["19000100",{"$f":"DIGITADOR!$B$2","v":""},0,{"$f":"IF(E187<>\"\",CONCATENATE($A$2,DIGITADOR!$M$1,O187,AH187),\"\")","v":""},null,null,"","",null,null,null,null,"",{"$f":"IF(M187=\"\",\"\",INDEX('OTRAS REFERENTES'!$M:$O,MATCH(M187,'OTRAS REFERENTES'!$M:$M,0),3))","v":""},{"$f":"IF(M187=\"\",\"\",INDEX('OTRAS REFERENTES'!$M:$O,MATCH(M187,'OTRAS REFERENTES'!$M:$M,0),2))","v":""},null,null,null,null,null,null,null,null,null,{"$f":"IF(X187=\"\",\"\",INDEX(referentes!$Y:$Z,MATCH(DATOS!X187,referentes!$Z:$Z,0),))","v":""},null,null,null,null,"OA",null,"SO",null,null,"",null,null,null,null,null,null,null,null,null,null,{"$f":"IF(AS187<>\"\",VLOOKUP(AS187,#REF!,2,TRUE),\"\")","v":""},null,{"$f":"IF(AU187<>\"\",VLOOKUP(AU187,#REF!,2,FALSE),\"\")","v":""},null,null,null,{"$f":"IF(AY187<>\"\",VLOOKUP(AY187,#REF!,2,TRUE),\"\")","v":""},null,183,"",null,{"$f":"IF(BD187=\"\",\"\",INDEX(referentes!$J:$K,MATCH(BD187,referentes!$J:$J,0),2))","v":""},null,null,{"$f":"IF(BG187=\"\",\"\",INDEX(referentes!$G:$H,MATCH(BG187,referentes!$G:$G,0),2))","v":""},{"$f":"IF(BD187=\"\",\"\",INDEX(referentes!$J:$P,MATCH(BD187,referentes!$J:$J,0),7))","v":""},""]
["19000100",{"$f":"DIGITADOR!$B$2","v":""},0,{"$f":"IF(E188<>\"\",CONCATENATE($A$2,DIGITADOR!$M$1,O188,AH188),\"\")","v":""},null,null,"","",null,null,null,null,"",{"$f":"IF(M188=\"\",\"\",INDEX('OTRAS REFERENTES'!$M:$O,MATCH(M188,'OTRAS REFERENTES'!$M:$M,0),3))","v":""},{"$f":"IF(M188=\"\",\"\",INDEX('OTRAS REFERENTES'!$M:$O,MATCH(M188,'OTRAS REFERENTES'!$M:$M,0),2))","v":""},null,null,null,null,null,null,null,null,null,{"$f":"IF(X188=\"\",\"\",INDEX(referentes!$Y:$Z,MATCH(DATOS!X188,referentes!$Z:$Z,0),))","v":""},null,null,null,null,"OA",null,"SO",null,null,"",null,null,null,null,null,null,null,null,null,null,{"$f":"IF(AS188<>\"\",VLOOKUP(AS188,#REF!,2,TRUE),\"\")","v":""},null,{"$f":"IF(AU188<>\"\",VLOOKUP(AU188,#REF!,2,FALSE),\"\")","v":""},null,null,null,{"$f":"IF(AY188<>\"\",VLOOKUP(AY188,#REF!,2,TRUE),\"\")","v":""},null,184,"",null,{"$f":"IF(BD188=\"\",\"\",INDEX(referentes!$J:$K,MATCH(BD188,referentes!$J:$J,0),2))","v":""},null,null,{"$f":"IF(BG188=\"\",\"\",INDEX(referentes!$G:$H,MATCH(BG188,referentes!$G:$G,0),2))","v":""},{"$f":"IF(BD188=\"\",\"\",INDEX(referentes!$J:$P,MATCH(BD188,referentes!$J:$J,0),7))","v":""},""]
["19000100",{"$f":"DIGITADOR!$B$2","v":""},0,{"$f":"IF(E189<>\"\",CONCATENATE($A$2,DIGITADOR!$M$1,O189,AH189),\"\")","v":""},null,null,"","",null,null,null,null,"",{"$f":"IF(M189=\"\",\"\",INDEX('OTRAS REFERENTES'!$M:$O,MATCH(M189,'OTRAS REFERENTES'!$M:$M,0),3))","v":""},{"$f":"IF(M189=\"\",\"\",INDEX('OTRAS REFERENTES'!$M:$O,MATCH(M189,'OTRAS REFERENTES'!$M:$M,0),2))","v":""},null,null,null,null,null,null,null,null,null,{"$f":"IF(X189=\"\",\"\",INDEX(referentes!$Y:$Z,MATCH(DATOS!X189,referentes!$Z:$Z,0),))","v":""},null,null,null,null,"OA",null,"SO",null,null,"",null,null,null,null,null,null,null,null,null,null,{"$f":"IF(AS189<>\"\",VLOOKUP(AS189,#REF!,2,TRUE),\"\")","v":""},null,{"$f":"IF(AU189<>\"\",VLOOKUP(AU189,#REF!,2,FALSE),\"\")","v":""},null,null,null,{"$f":"IF(AY189<>\"\",VLOOKUP(AY189,#REF!,2,TRUE),\"\")","v":""},null,185,"",null,{"$f":"IF(BD189=\"\",\"\",INDEX(referentes!$J:$K,MATCH(BD189,referentes!$J:$J,0),2))","v":""},null,null,{"$f":"IF(BG189=\"\",\"\",INDEX(referentes!$G:$H,MATCH(BG189,referentes!$G:$G,0),2))","v":""},{"$f":"IF(BD189=\"\",\"\",INDEX(referentes!$J:$P,MATCH(BD189,referentes!$J:$J,0),7))","v":""},""]
["19000100",{"$f":"DIGITADOR!$B$2","v":""},0,{"$f":"IF(E190<>\"\",CONCATENATE($A$2,DIGITADOR!$M$1,O190,AH190),\"\")","v":""},null,null,"","",null,null,null,null,"",{"$f":"IF(M190=\"\",\"\",INDEX('OTRAS REFERENTES'!$M:$O,MATCH(M190,'OTRAS REFERENTES'!$M:$M,0),3))","v":""},{"$f":"IF(M190=\"\",\"\",INDEX('OTRAS REFERENTES'!$M:$O,MATCH(M190,'OTRAS REFERENTES'!$M:$M,0),2))","v":""},null,null,null,null,null,null,null,null,null,{"$f":"IF(X190=\"\",\"\",INDEX(referentes!$Y:$Z,MATCH(DATOS!X190,referentes!$Z:$Z,0),))","v":""},null,null,null,null,"OA",null,"SO",null,null,"",null,null,null,null,null,null,null,null,null,null,{"$f":"IF(AS190<>\"\",VLOOKUP(AS190,#REF!,2,TRUE),\"\")","v":""},null,{"$f":"IF(AU190<>\"\",VLOOKUP(AU190,#REF!,2,FALSE),\"\")","v":""},null,null,null,{"$f":"IF(AY190<>\"\",VLOOKUP(AY190,#REF!,2,TRUE),\"\")","v":""},null,186,"",null,{"$f":"IF(BD190=\"\",\"\",INDEX(referentes!$J:$K,MATCH(BD190,referentes!$J:$J,0),2))","v":""},null,null,{"$f":"IF(BG190=\"\",\"\",INDEX(referentes!$G:$H,MATCH(BG190,referentes!$G:$G,0),2))","v":""},{"$f":"IF(BD190=\"\",\"\",INDEX(referentes!$J:$P,MATCH(BD190,referentes!$J:$J,0),7))","v":""},""]
["19000100",{"$f":"DIGITADOR!$B$2","v":""},0,{"$f":"IF(E191<>\"\",CONCATENATE($A$2,DIGITADOR!$M$1,O191,AH191),\"\")","v":""},null,null,"","",null,null,null,null,"",{"$f":"IF(M191=\"\",\"\",INDEX('OTRAS REFERENTES'!$M:$O,MATCH(M191,'OTRAS REFERENTES'!$M:$M,0),3))","v":""},{"$f":"IF(M191=\"\",\"\",INDEX('OTRAS REFERENTES'!$M:$O,MATCH(M191,'OTRAS REFERENTES'!$M:$M,0),2))","v":""},null,null,null,null,null,null,null,null,null,{"$f":"IF(X191=\"\",\"\",INDEX(referentes!$Y:$Z,MATCH(DATOS!X191,referentes!$Z:$Z,0),))","v":""},null,null,null,null,"OA",null,"SO",null,null,"",null,null,null,null,null,null,null,null,null,null,{"$f":"IF(AS191<>\"\",VLOOKUP(AS191,#REF!,2,TRUE),\"\")","v":""},null,{"$f":"IF(AU191<>\"\",VLOOKUP(AU191,#REF!,2,FALSE),\"\")","v":""},null,null,null,{"$f":"IF(AY191<>\"\",VLOOKUP(AY191,#REF!,2,TRUE),\"\")","v":""},null,187,"",null,{"$f":"IF(BD191=\"\",\"\",INDEX(referentes!$J:$K,MATCH(BD191,referentes!$J:$J,0),2))","v":""},null,null,{"$f":"IF(BG191=\"\",\"\",INDEX(referentes!$G:$H,MATCH(BG191,referentes!$G:$G,0),2))","v":""},{"$f":"IF(BD191=\"\",\"\",INDEX(referentes!$J:$P,MATCH(BD191,referentes!$J:$J,0),7))","v":""},""]
["19000100",{"$f":"DIGITADOR!$B$2","v":""},0,{"$f":"IF(E192<>\"\",CONCATENATE($A$2,DIGITADOR!$M$1,O192,AH192),\"\")","v":""},null,null,"","",null,null,null,null,"",{"$f":"IF(M192=\"\",\"\",INDEX('OTRAS REFERENTES'!$M:$O,MATCH(M192,'OTRAS REFERENTES'!$M:$M,0),3))","v":""},{"$f":"IF(M192=\"\",\"\",INDEX('OTRAS REFERENTES'!$M:$O,MATCH(M192,'OTRAS REFERENTES'!$M:$M,0),2))","v":""},null,null,null,null,null,null,null,null,null,{"$f":"IF(X192=\"\",\"\",INDEX(referentes!$Y:$Z,MATCH(DATOS!X192,referentes!$Z:$Z,0),))","v":""},null,null,null,null,"OA",null,"SO",null,null,"",null,null,null,null,null,null,null,null,null,null,{"$f":"IF(AS192<>\"\",VLOOKUP(AS192,#REF!,2,TRUE),\"\")","v":""},null,{"$f":"IF(AU192<>\"\",VLOOKUP(AU192,#REF!,2,FALSE),\"\")","v":""},null,null,null,{"$f":"IF(AY192<>\"\",VLOOKUP(AY192,#REF!,2,TRUE),\"\")","v":""},null,188,"",null,{"$f":"IF(BD192=\"\",\"\",INDEX(referentes!$J:$K,MATCH(BD192,referentes!$J:$J,0),2))","v":""},null,null,{"$f":"IF(BG192=\"\",\"\",INDEX(referentes!$G:$H,MATCH(BG192,referentes!$G:$G,0),2))","v":""},{"$f":"IF(BD192=\"\",\"\",INDEX(referentes!$J:$P,MATCH(BD192,referentes!$J:$J,0),7))","v":""},""]
["19000100",{"$f":"DIGITADOR!$B$2","v":""},0,{"$f":"IF(E193<>\"\",CONCATENATE($A$2,DIGITADOR!$M$1,O193,AH193),\"\")","v":""},null,null,"","",null,null,null,null,"",{"$f":"IF(M193=\"\",\"\",INDEX('OTRAS REFERENTES'!$M:$O,MATCH(M193,'OTRAS REFERENTES'!$M:$M,0),3))","v":""},{"$f":"IF(M193=\"\",\"\",INDEX('OTRAS REFERENTES'!$M:$O,MATCH(M193,'OTRAS REFERENTES'!$M:$M,0),2))","v":""},null,null,null,null,null,null,null,null,null,{"$f":"IF(X193=\"\",\"\",INDEX(referentes!$Y:$Z,MATCH(DATOS!X193,referentes!$Z:$Z,0),))","v":""},null,null,null,null,"OA",null,"SO",null,null,"",null,null,null,null,null,null,null,null,null,null,{"$f":"IF(AS193<>\"\",VLOOKUP(AS193,#REF!,2,TRUE),\"\")","v":""},null,{"$f":"IF(AU193<>\"\",VLOOKUP(AU193,#REF!,2,FALSE),\"\")","v":""},null,null,null,{"$f":"IF(AY193<>\"\",VLOOKUP(AY193,#REF!,2,TRUE),\"\")","v":""},null,189,"",null,{"$f":"IF(BD193=\"\",\"\",INDEX(referentes!$J:$K,MATCH(BD193,referentes!$J:$J,0),2))","v":""},null,null,{"$f":"IF(BG193=\"\",\"\",INDEX(referentes!$G:$H,MATCH(BG193,referentes!$G:$G,0),2))","v":""},{"$f":"IF(BD193=\"\",\"\",INDEX(referentes!$J:$P,MATCH(BD193,referentes!$J:$J,0),7))","v":""},""]
["19000100",{"$f":"DIGITADOR!$B$2","v":""},0,{"$f":"IF(E194<>\"\",CONCATENATE($A$2,DIGITADOR!$M$1,O194,AH194),\"\")","v":""},null,null,"","",null,null,null,null,"",{"$f":"IF(M194=\"\",\"\",INDEX('OTRAS REFERENTES'!$M:$O,MATCH(M194,'OTRAS REFERENTES'!$M:$M,0),3))","v":""},{"$f":"IF(M194=\"\",\"\",INDEX('OTRAS REFERENTES'!$M:$O,MATCH(M194,'OTRAS REFERENTES'!$M:$M,0),2))","v":""},null,null,null,null,null,null,null,null,null,{"$f":"IF(X194=\"\",\"\",INDEX(referentes!$Y:$Z,MATCH(DATOS!X194,referentes!$Z:$Z,0),))","v":""},null,null,null,null,"OA",null,"SO",null,null,"",null,null,null,null,null,null,null,null,null,null,{"$f":"IF(AS194<>\"\",VLOOKUP(AS194,#REF!,2,TRUE),\"\")","v":""},null,{"$f":"IF(AU194<>\"\",VLOOKUP(AU194,#REF!,2,FALSE),\"\")","v":""},null,null,null,{"$f":"IF(AY194<>\"\",VLOOKUP(AY194,#REF!,2,TRUE),\"\")","v":""},null,190,"",null,{"$f":"IF(BD194=\"\",\"\",INDEX(referentes!$J:$K,MATCH(BD194,referentes!$J:$J,0),2))","v":""},null,null,{"$f":"IF(BG194=\"\",\"\",INDEX(referentes!$G:$H,MATCH(BG194,referentes!$G:$G,0),2))","v":""},{"$f":"IF(BD194=\"\",\"\",INDEX(referentes!$J:$P,MATCH(BD194,referentes!$J:$J,0),7))","v":""},""]
["19000100",{"$f":"DIGITADOR!$B$2","v":""},0,{"$f":"IF(E195<>\"\",CONCATENATE($A$2,DIGITADOR!$M$1,O195,AH195),\"\")","v":""},null,null,"","",null,null,null,null,"",{"$f":"IF(M195=\"\",\"\",INDEX('OTRAS REFERENTES'!$M:$O,MATCH(M195,'OTRAS REFERENTES'!$M:$M,0),3))","v":""},{"$f":"IF(M195=\"\",\"\",INDEX('OTRAS REFERENTES'!$M:$O,MATCH(M195,'OTRAS REFERENTES'!$M:$M,0),2))","v":""},null,null,null,null,null,null,null,null,null,{"$f":"IF(X195=\"\",\"\",INDEX(referentes!$Y:$Z,MATCH(DATOS!X195,referentes!$Z:$Z,0),))","v":""},null,null,null,null,"OA",null,"SO",null,null,"",null,null,null,null,null,null,null,null,null,null,{"$f":"IF(AS195<>\"\",VLOOKUP(AS195,#REF!,2,TRUE),\"\")","v":""},null,{"$f":"IF(AU195<>\"\",VLOOKUP(AU195,#REF!,2,FALSE),\"\")","v":""},null,null,null,{"$f":"IF(AY195<>\"\",VLOOKUP(AY195,#REF!,2,TRUE),\"\")","v":""},null,191,"",null,{"$f":"IF(BD195=\"\",\"\",INDEX(referentes!$J:$K,MATCH(BD195,referentes!$J:$J,0),2))","v":""},null,null,{"$f":"IF(BG195=\"\",\"\",INDEX(referentes!$G:$H,MATCH(BG195,referentes!$G:$G,0),2))","v":""},{"$f":"IF(BD195=\"\",\"\",INDEX(referentes!$J:$P,MATCH(BD195,referentes!$J:$J,0),7))","v":""},""]
["19000100",{"$f":"DIGITADOR!$B$2","v":""},0,{"$f":"IF(E196<>\"\",CONCATENATE($A$2,DIGITADOR!$M$1,O196,AH196),\"\")","v":""},null,null,"","",null,null,null,null,"",{"$f":"IF(M196=\"\",\"\",INDEX('OTRAS REFERENTES'!$M:$O,MATCH(M196,'OTRAS REFERENTES'!$M:$M,0),3))","v":""},{"$f":"IF(M196=\"\",\"\",INDEX('OTRAS REFERENTES'!$M:$O,MATCH(M196,'OTRAS REFERENTES'!$M:$M,0),2))","v":""},null,null,null,null,null,null,null,null,null,{"$f":"IF(X196=\"\",\"\",INDEX(referentes!$Y:$Z,MATCH(DATOS!X196,referentes!$Z:$Z,0),))","v":""},null,null,null,null,"OA",null,"SO",null,null,"",null,null,null,null,null,null,null,null,null,null,{"$f":"IF(AS196<>\"\",VLOOKUP(AS196,#REF!,2,TRUE),\"\")","v":""},null,{"$f":"IF(AU196<>\"\",VLOOKUP(AU196,#REF!,2,FALSE),\"\")","v":""},null,null,null,{"$f":"IF(AY196<>\"\",VLOOKUP(AY196,#REF!,2,TRUE),\"\")","v":""},null,192,"",null,{"$f":"IF(BD196=\"\",\"\",INDEX(referentes!$J:$K,MATCH(BD196,referentes!$J:$J,0),2))","v":""},null,null,{"$f":"IF(BG196=\"\",\"\",INDEX(referentes!$G:$H,MATCH(BG196,referentes!$G:$G,0),2))","v":""},{"$f":"IF(BD196=\"\",\"\",INDEX(referentes!$J:$P,MATCH(BD196,referentes!$J:$J,0),7))","v":""},""]
["19000100",{"$f":"DIGITADOR!$B$2","v":""},0,{"$f":"IF(E197<>\"\",CONCATENATE($A$2,DIGITADOR!$M$1,O197,AH197),\"\")","v":""},null,null,"",{"$f":"IF(G197<>\"\",MONTH(G197),\"\")","v":""},null,null,null,null,"",{"$f":"IF(M197=\"\",\"\",INDEX('OTRAS REFERENTES'!$M:$O,MATCH(M197,'OTRAS REFERENTES'!$M:$M,0),3))","v":""},{"$f":"IF(M197=\"\",\"\",INDEX('OTRAS REFERENTES'!$M:$O,MATCH(M197,'OTRAS REFERENTES'!$M:$M,0),2))","v":""},null,null,null,null,null,null,null,null,null,{"$f":"IF(X197=\"\",\"\",INDEX(referentes!$Y:$Z,MATCH(DATOS!X197,referentes!$Z:$Z,0),))","v":""},null,null,null,null,"OA",null,"SO",null,null,"",null,null,null,null,null,null,null,null,null,null,{"$f":"IF(AS197<>\"\",VLOOKUP(AS197,#REF!,2,TRUE),\"\")","v":""},null,{"$f":"IF(AU197<>\"\",VLOOKUP(AU197,#REF!,2,FALSE),\"\")","v":""},null,null,null,{"$f":"IF(AY197<>\"\",VLOOKUP(AY197,#REF!,2,TRUE),\"\")","v":""},null,193,"",null,{"$f":"IF(BD197=\"\",\"\",INDEX(referentes!$J:$K,MATCH(BD197,referentes!$J:$J,0),2))","v":""},null,null,{"$f":"IF(BG197=\"\",\"\",INDEX(referentes!$G:$H,MATCH(BG197,referentes!$G:$G,0),2))","v":""},{"$f":"IF(BD197=\"\",\"\",INDEX(referentes!$J:$P,MATCH(BD197,referentes!$J:$J,0),7))","v":""},""]
[{"$f":"A197","v":"19000100"},{"$f":"DIGITADOR!$B$2","v":""},0,{"$f":"IF(E198<>\"\",CONCATENATE($A$2,DIGITADOR!$M$1,O198,AH198),\"\")","v":""},null,null,{"$f":"IF(E198=\"\",\"\",E198+F198)","v":""},"",null,null,null,null,{"$f":"IF(L198<>\"\",CONCATENATE(J198,L198),\"\")","v":""},{"$f":"IF(M198=\"\",\"\",INDEX('OTRAS REFERENTES'!$M:$O,MATCH(M198,'OTRAS REFERENTES'!$M:$M,0),3))","v":""},{"$f":"IF(M198=\"\",\"\",INDEX('OTRAS REFERENTES'!$M:$O,MATCH(M198,'OTRAS REFERENTES'!$M:$M,0),2))","v":""},null,null,null,null,null,null,null,null,null,{"$f":"IF(X198=\"\",\"\",INDEX(referentes!$Y:$Z,MATCH(DATOS!X198,referentes!$Z:$Z,0),))","v":""},null,null,null,null,"OA",null,"SO",null,null,{"$f":"CONCATENATE(AG198)","v":""},null,null,null,null,null,null,null,null,null,null,{"$f":"IF(AS198<>\"\",VLOOKUP(AS198,#REF!,2,TRUE),\"\")","v":""},null,{"$f":"IF(AU198<>\"\",VLOOKUP(AU198,#REF!,2,FALSE),\"\")","v":""},null,null,null,{"$f":"IF(AY198<>\"\",VLOOKUP(AY198,#REF!,2,TRUE),\"\")","v":""},null,194,{"$f":"IF(D198=\"\",\"\",CONCATENATE(D198,BB198))","v":""},null,{"$f":"IF(BD198=\"\",\"\",INDEX(referentes!$J:$K,MATCH(BD198,referentes!$J:$J,0),2))","v":""},null,null,{"$f":"IF(BG198=\"\",\"\",INDEX(referentes!$G:$H,MATCH(BG198,referentes!$G:$G,0),2))","v":""},{"$f":"IF(BD198=\"\",\"\",INDEX(referentes!$J:$P,MATCH(BD198,referentes!$J:$J,0),7))","v":""},{"$f":"IF(BD198=\"\",\"\",UPPER(BD198))","v":""}]
["19000100",{"$f":"DIGITADOR!$B$2","v":""},0,{"$f":"IF(E199<>\"\",CONCATENATE($A$2,DIGITADOR!$M$1,O199,AH199),\"\")","v":""},null,null,"","",null,null,null,null,"",{"$f":"IF(M199=\"\",\"\",INDEX('OTRAS REFERENTES'!$M:$O,MATCH(M199,'OTRAS REFERENTES'!$M:$M,0),3))","v":""},{"$f":"IF(M199=\"\",\"\",INDEX('OTRAS REFERENTES'!$M:$O,MATCH(M199,'OTRAS REFERENTES'!$M:$M,0),2))","v":""},null,null,null,null,null,null,null,null,null,{"$f":"IF(X199=\"\",\"\",INDEX(referentes!$Y:$Z,MATCH(DATOS!X199,referentes!$Z:$Z,0),))","v":""},null,null,null,null,"OA",null,"SO",null,null,"",null,null,null,null,null,null,null,null,null,null,{"$f":"IF(AS199<>\"\",VLOOKUP(AS199,#REF!,2,TRUE),\"\")","v":""},null,{"$f":"IF(AU199<>\"\",VLOOKUP(AU199,#REF!,2,FALSE),\"\")","v":""},null,null,null,{"$f":"IF(AY199<>\"\",VLOOKUP(AY199,#REF!,2,TRUE),\"\")","v":""},null,195,"",null,{"$f":"IF(BD199=\"\",\"\",INDEX(referentes!$J:$K,MATCH(BD199,referentes!$J:$J,0),2))","v":""},null,null,{"$f":"IF(BG199=\"\",\"\",INDEX(referentes!$G:$H,MATCH(BG199,referentes!$G:$G,0),2))","v":""},{"$f":"IF(BD199=\"\",\"\",INDEX(referentes!$J:$P,MATCH(BD199,referentes!$J:$J,0),7))","v":""},""]
["19000100",{"$f":"DIGITADOR!$B$2","v":""},0,{"$f":"IF(E200<>\"\",CONCATENATE($A$2,DIGITADOR!$M$1,O200,AH200),\"\")","v":""},null,null,"","",null,null,null,null,"",{"$f":"IF(M200=\"\",\"\",INDEX('OTRAS REFERENTES'!$M:$O,MATCH(M200,'OTRAS REFERENTES'!$M:$M,0),3))","v":""},{"$f":"IF(M200=\"\",\"\",INDEX('OTRAS REFERENTES'!$M:$O,MATCH(M200,'OTRAS REFERENTES'!$M:$M,0),2))","v":""},null,null,null,null,null,null,null,null,null,{"$f":"IF(X200=\"\",\"\",INDEX(referentes!$Y:$Z,MATCH(DATOS!X200,referentes!$Z:$Z,0),))","v":""},null,null,null,null,"OA",null,"SO",null,null,"",null,null,null,null,null,null,null,null,null,null,{"$f":"IF(AS200<>\"\",VLOOKUP(AS200,#REF!,2,TRUE),\"\")","v":""},null,{"$f":"IF(AU200<>\"\",VLOOKUP(AU200,#REF!,2,FALSE),\"\")","v":""},null,null,null,{"$f":"IF(AY200<>\"\",VLOOKUP(AY200,#REF!,2,TRUE),\"\")","v":""},null,196,"",null,{"$f":"IF(BD200=\"\",\"\",INDEX(referentes!$J:$K,MATCH(BD200,referentes!$J:$J,0),2))","v":""},null,null,{"$f":"IF(BG200=\"\",\"\",INDEX(referentes!$G:$H,MATCH(BG200,referentes!$G:$G,0),2))","v":""},{"$f":"IF(BD200=\"\",\"\",INDEX(referentes!$J:$P,MATCH(BD200,referentes!$J:$J,0),7))","v":""},""]
["19000100",{"$f":"DIGITADOR!$B$2","v":""},0,{"$f":"IF(E201<>\"\",CONCATENATE($A$2,DIGITADOR!$M$1,O201,AH201),\"\")","v":""},null,null,"","",null,null,null,null,"",{"$f":"IF(M201=\"\",\"\",INDEX('OTRAS REFERENTES'!$M:$O,MATCH(M201,'OTRAS REFERENTES'!$M:$M,0),3))","v":""},{"$f":"IF(M201=\"\",\"\",INDEX('OTRAS REFERENTES'!$M:$O,MATCH(M201,'OTRAS REFERENTES'!$M:$M,0),2))","v":""},null,null,null,null,null,null,null,null,null,{"$f":"IF(X201=\"\",\"\",INDEX(referentes!$Y:$Z,MATCH(DATOS!X201,referentes!$Z:$Z,0),))","v":""},null,null,null,null,"OA",null,"SO",null,null,"",null,null,null,null,null,null,null,null,null,null,{"$f":"IF(AS201<>\"\",VLOOKUP(AS201,#REF!,2,TRUE),\"\")","v":""},null,{"$f":"IF(AU201<>\"\",VLOOKUP(AU201,#REF!,2,FALSE),\"\")","v":""},null,null,null,{"$f":"IF(AY201<>\"\",VLOOKUP(AY201,#REF!,2,TRUE),\"\")","v":""},null,197,"",null,{"$f":"IF(BD201=\"\",\"\",INDEX(referentes!$J:$K,MATCH(BD201,referentes!$J:$J,0),2))","v":""},null,null,{"$f":"IF(BG201=\"\",\"\",INDEX(referentes!$G:$H,MATCH(BG201,referentes!$G:$G,0),2))","v":""},{"$f":"IF(BD201=\"\",\"\",INDEX(referentes!$J:$P,MATCH(BD201,referentes!$J:$J,0),7))","v":""},""]
["19000100",{"$f":"DIGITADOR!$B$2","v":""},0,{"$f":"IF(E202<>\"\",CONCATENATE($A$2,DIGITADOR!$M$1,O202,AH202),\"\")","v":""},null,null,"","",null,null,null,null,"",{"$f":"IF(M202=\"\",\"\",INDEX('OTRAS REFERENTES'!$M:$O,MATCH(M202,'OTRAS REFERENTES'!$M:$M,0),3))","v":""},{"$f":"IF(M202=\"\",\"\",INDEX('OTRAS REFERENTES'!$M:$O,MATCH(M202,'OTRAS REFERENTES'!$M:$M,0),2))","v":""},null,null,null,null,null,null,null,null,null,{"$f":"IF(X202=\"\",\"\",INDEX(referentes!$Y:$Z,MATCH(DATOS!X202,referentes!$Z:$Z,0),))","v":""},null,null,null,null,"OA",null,"SO",null,null,"",null,null,null,null,null,null,null,null,null,null,{"$f":"IF(AS202<>\"\",VLOOKUP(AS202,#REF!,2,TRUE),\"\")","v":""},null,{"$f":"IF(AU202<>\"\",VLOOKUP(AU202,#REF!,2,FALSE),\"\")","v":""},null,null,null,{"$f":"IF(AY202<>\"\",VLOOKUP(AY202,#REF!,2,TRUE),\"\")","v":""},null,198,"",null,{"$f":"IF(BD202=\"\",\"\",INDEX(referentes!$J:$K,MATCH(BD202,referentes!$J:$J,0),2))","v":""},null,null,{"$f":"IF(BG202=\"\",\"\",INDEX(referentes!$G:$H,MATCH(BG202,referentes!$G:$G,0),2))","v":""},{"$f":"IF(BD202=\"\",\"\",INDEX(referentes!$J:$P,MATCH(BD202,referentes!$J:$J,0),7))","v":""},""]
["19000100",{"$f":"DIGITADOR!$B$2","v":""},0,{"$f":"IF(E203<>\"\",CONCATENATE($A$2,DIGITADOR!$M$1,O203,AH203),\"\")","v":""},null,null,"","",null,null,null,null,"",{"$f":"IF(M203=\"\",\"\",INDEX('OTRAS REFERENTES'!$M:$O,MATCH(M203,'OTRAS REFERENTES'!$M:$M,0),3))","v":""},{"$f":"IF(M203=\"\",\"\",INDEX('OTRAS REFERENTES'!$M:$O,MATCH(M203,'OTRAS REFERENTES'!$M:$M,0),2))","v":""},null,null,null,null,null,null,null,null,null,{"$f":"IF(X203=\"\",\"\",INDEX(referentes!$Y:$Z,MATCH(DATOS!X203,referentes!$Z:$Z,0),))","v":""},null,null,null,null,"OA",null,"SO",null,null,"",null,null,null,null,null,null,null,null,null,null,{"$f":"IF(AS203<>\"\",VLOOKUP(AS203,#REF!,2,TRUE),\"\")","v":""},null,{"$f":"IF(AU203<>\"\",VLOOKUP(AU203,#REF!,2,FALSE),\"\")","v":""},null,null,null,{"$f":"IF(AY203<>\"\",VLOOKUP(AY203,#REF!,2,TRUE),\"\")","v":""},null,199,"",null,{"$f":"IF(BD203=\"\",\"\",INDEX(referentes!$J:$K,MATCH(BD203,referentes!$J:$J,0),2))","v":""},null,null,{"$f":"IF(BG203=\"\",\"\",INDEX(referentes!$G:$H,MATCH(BG203,referentes!$G:$G,0),2))","v":""},{"$f":"IF(BD203=\"\",\"\",INDEX(referentes!$J:$P,MATCH(BD203,referentes!$J:$J,0),7))","v":""},""]
["19000100",{"$f":"DIGITADOR!$B$2","v":""},0,{"$f":"IF(E204<>\"\",CONCATENATE($A$2,DIGITADOR!$M$1,O204,AH204),\"\")","v":""},null,null,"","",null,null,null,null,"",{"$f":"IF(M204=\"\",\"\",INDEX('OTRAS REFERENTES'!$M:$O,MATCH(M204,'OTRAS REFERENTES'!$M:$M,0),3))","v":""},{"$f":"IF(M204=\"\",\"\",INDEX('OTRAS REFERENTES'!$M:$O,MATCH(M204,'OTRAS REFERENTES'!$M:$M,0),2))","v":""},null,null,null,null,null,null,null,null,null,{"$f":"IF(X204=\"\",\"\",INDEX(referentes!$Y:$Z,MATCH(DATOS!X204,referentes!$Z:$Z,0),))","v":""},null,null,null,null,"OA",null,"SO",null,null,"",null,null,null,null,null,null,null,null,null,null,{"$f":"IF(AS204<>\"\",VLOOKUP(AS204,#REF!,2,TRUE),\"\")","v":""},null,{"$f":"IF(AU204<>\"\",VLOOKUP(AU204,#REF!,2,FALSE),\"\")","v":""},null,null,null,{"$f":"IF(AY204<>\"\",VLOOKUP(AY204,#REF!,2,TRUE),\"\")","v":""},null,200,"",null,{"$f":"IF(BD204=\"\",\"\",INDEX(referentes!$J:$K,MATCH(BD204,referentes!$J:$J,0),2))","v":""},null,null,{"$f":"IF(BG204=\"\",\"\",INDEX(referentes!$G:$H,MATCH(BG204,referentes!$G:$G,0),2))","v":""},{"$f":"IF(BD204=\"\",\"\",INDEX(referentes!$J:$P,MATCH(BD204,referentes!$J:$J,0),7))","v":""},""]
["19000100",{"$f":"DIGITADOR!$B$2","v":""},0,{"$f":"IF(E205<>\"\",CONCATENATE($A$2,DIGITADOR!$M$1,O205,AH205),\"\")","v":""},null,null,"","",null,null,null,null,"",{"$f":"IF(M205=\"\",\"\",INDEX('OTRAS REFERENTES'!$M:$O,MATCH(M205,'OTRAS REFERENTES'!$M:$M,0),3))","v":""},{"$f":"IF(M205=\"\",\"\",INDEX('OTRAS REFERENTES'!$M:$O,MATCH(M205,'OTRAS REFERENTES'!$M:$M,0),2))","v":""},null,null,null,null,null,null,null,null,null,{"$f":"IF(X205=\"\",\"\",INDEX(referentes!$Y:$Z,MATCH(DATOS!X205,referentes!$Z:$Z,0),))","v":""},null,null,null,null,"OA",null,"SO",null,null,"",null,null,null,null,null,null,null,null,null,null,{"$f":"IF(AS205<>\"\",VLOOKUP(AS205,#REF!,2,TRUE),\"\")","v":""},null,{"$f":"IF(AU205<>\"\",VLOOKUP(AU205,#REF!,2,FALSE),\"\")","v":""},null,null,null,{"$f":"IF(AY205<>\"\",VLOOKUP(AY205,#REF!,2,TRUE),\"\")","v":""},null,201,"",null,{"$f":"IF(BD205=\"\",\"\",INDEX(referentes!$J:$K,MATCH(BD205,referentes!$J:$J,0),2))","v":""},null,null,{"$f":"IF(BG205=\"\",\"\",INDEX(referentes!$G:$H,MATCH(BG205,referentes!$G:$G,0),2))","v":""},{"$f":"IF(BD205=\"\",\"\",INDEX(referentes!$J:$P,MATCH(BD205,referentes!$J:$J,0),7))","v":""},""]
["19000100",{"$f":"DIGITADOR!$B$2","v":""},0,{"$f":"IF(E206<>\"\",CONCATENATE($A$2,DIGITADOR!$M$1,O206,AH206),\"\")","v":""},null,null,"","",null,null,null,null,"",{"$f":"IF(M206=\"\",\"\",INDEX('OTRAS REFERENTES'!$M:$O,MATCH(M206,'OTRAS REFERENTES'!$M:$M,0),3))","v":""},{"$f":"IF(M206=\"\",\"\",INDEX('OTRAS REFERENTES'!$M:$O,MATCH(M206,'OTRAS REFERENTES'!$M:$M,0),2))","v":""},null,null,null,null,null,null,null,null,null,{"$f":"IF(X206=\"\",\"\",INDEX(referentes!$Y:$Z,MATCH(DATOS!X206,referentes!$Z:$Z,0),))","v":""},null,null,null,null,"OA",null,"SO",null,null,"",null,null,null,null,null,null,null,null,null,null,{"$f":"IF(AS206<>\"\",VLOOKUP(AS206,#REF!,2,TRUE),\"\")","v":""},null,{"$f":"IF(AU206<>\"\",VLOOKUP(AU206,#REF!,2,FALSE),\"\")","v":""},null,null,null,{"$f":"IF(AY206<>\"\",VLOOKUP(AY206,#REF!,2,TRUE),\"\")","v":""},null,202,"",null,{"$f":"IF(BD206=\"\",\"\",INDEX(referentes!$J:$K,MATCH(BD206,referentes!$J:$J,0),2))","v":""},null,null,{"$f":"IF(BG206=\"\",\"\",INDEX(referentes!$G:$H,MATCH(BG206,referentes!$G:$G,0),2))","v":""},{"$f":"IF(BD206=\"\",\"\",INDEX(referentes!$J:$P,MATCH(BD206,referentes!$J:$J,0),7))","v":""},""]
["19000100",{"$f":"DIGITADOR!$B$2","v":""},0,{"$f":"IF(E207<>\"\",CONCATENATE($A$2,DIGITADOR!$M$1,O207,AH207),\"\")","v":""},null,null,"","",null,null,null,null,"",{"$f":"IF(M207=\"\",\"\",INDEX('OTRAS REFERENTES'!$M:$O,MATCH(M207,'OTRAS REFERENTES'!$M:$M,0),3))","v":""},{"$f":"IF(M207=\"\",\"\",INDEX('OTRAS REFERENTES'!$M:$O,MATCH(M207,'OTRAS REFERENTES'!$M:$M,0),2))","v":""},null,null,null,null,null,null,null,null,null,{"$f":"IF(X207=\"\",\"\",INDEX(referentes!$Y:$Z,MATCH(DATOS!X207,referentes!$Z:$Z,0),))","v":""},null,null,null,null,"OA",null,"SO",null,null,"",null,null,null,null,null,null,null,null,null,null,{"$f":"IF(AS207<>\"\",VLOOKUP(AS207,#REF!,2,TRUE),\"\")","v":""},null,{"$f":"IF(AU207<>\"\",VLOOKUP(AU207,#REF!,2,FALSE),\"\")","v":""},null,null,null,{"$f":"IF(AY207<>\"\",VLOOKUP(AY207,#REF!,2,TRUE),\"\")","v":""},null,203,"",null,{"$f":"IF(BD207=\"\",\"\",INDEX(referentes!$J:$K,MATCH(BD207,referentes!$J:$J,0),2))","v":""},null,null,{"$f":"IF(BG207=\"\",\"\",INDEX(referentes!$G:$H,MATCH(BG207,referentes!$G:$G,0),2))","v":""},{"$f":"IF(BD207=\"\",\"\",INDEX(referentes!$J:$P,MATCH(BD207,referentes!$J:$J,0),7))","v":""},""]
["19000100",{"$f":"DIGITADOR!$B$2","v":""},0,{"$f":"IF(E208<>\"\",CONCATENATE($A$2,DIGITADOR!$M$1,O208,AH208),\"\")","v":""},null,null,"","",null,null,null,null,"",{"$f":"IF(M208=\"\",\"\",INDEX('OTRAS REFERENTES'!$M:$O,MATCH(M208,'OTRAS REFERENTES'!$M:$M,0),3))","v":""},{"$f":"IF(M208=\"\",\"\",INDEX('OTRAS REFERENTES'!$M:$O,MATCH(M208,'OTRAS REFERENTES'!$M:$M,0),2))","v":""},null,null,null,null,null,null,null,null,null,{"$f":"IF(X208=\"\",\"\",INDEX(referentes!$Y:$Z,MATCH(DATOS!X208,referentes!$Z:$Z,0),))","v":""},null,null,null,null,"OA",null,"SO",null,null,"",null,null,null,null,null,null,null,null,null,null,{"$f":"IF(AS208<>\"\",VLOOKUP(AS208,#REF!,2,TRUE),\"\")","v":""},null,{"$f":"IF(AU208<>\"\",VLOOKUP(AU208,#REF!,2,FALSE),\"\")","v":""},null,null,null,{"$f":"IF(AY208<>\"\",VLOOKUP(AY208,#REF!,2,TRUE),\"\")","v":""},null,204,"",null,{"$f":"IF(BD208=\"\",\"\",INDEX(referentes!$J:$K,MATCH(BD208,referentes!$J:$J,0),2))","v":""},null,null,{"$f":"IF(BG208=\"\",\"\",INDEX(referentes!$G:$H,MATCH(BG208,referentes!$G:$G,0),2))","v":""},{"$f":"IF(BD208=\"\",\"\",INDEX(referentes!$J:$P,MATCH(BD208,referentes!$J:$J,0),7))","v":""},""]
["19000100",{"$f":"DIGITADOR!$B$2","v":""},0,{"$f":"IF(E209<>\"\",CONCATENATE($A$2,DIGITADOR!$M$1,O209,AH209),\"\")","v":""},null,null,"","",null,null,null,null,"",{"$f":"IF(M209=\"\",\"\",INDEX('OTRAS REFERENTES'!$M:$O,MATCH(M209,'OTRAS REFERENTES'!$M:$M,0),3))","v":""},{"$f":"IF(M209=\"\",\"\",INDEX('OTRAS REFERENTES'!$M:$O,MATCH(M209,'OTRAS REFERENTES'!$M:$M,0),2))","v":""},null,null,null,null,null,null,null,null,null,{"$f":"IF(X209=\"\",\"\",INDEX(referentes!$Y:$Z,MATCH(DATOS!X209,referentes!$Z:$Z,0),))","v":""},null,null,null,null,"OA",null,"SO",null,null,"",null,null,null,null,null,null,null,null,null,null,{"$f":"IF(AS209<>\"\",VLOOKUP(AS209,#REF!,2,TRUE),\"\")","v":""},null,{"$f":"IF(AU209<>\"\",VLOOKUP(AU209,#REF!,2,FALSE),\"\")","v":""},null,null,null,{"$f":"IF(AY209<>\"\",VLOOKUP(AY209,#REF!,2,TRUE),\"\")","v":""},null,205,"",null,{"$f":"IF(BD209=\"\",\"\",INDEX(referentes!$J:$K,MATCH(BD209,referentes!$J:$J,0),2))","v":""},null,null,{"$f":"IF(BG209=\"\",\"\",INDEX(referentes!$G:$H,MATCH(BG209,referentes!$G:$G,0),2))","v":""},{"$f":"IF(BD209=\"\",\"\",INDEX(referentes!$J:$P,MATCH(BD209,referentes!$J:$J,0),7))","v":""},""]
["19000100",{"$f":"DIGITADOR!$B$2","v":""},0,{"$f":"IF(E210<>\"\",CONCATENATE($A$2,DIGITADOR!$M$1,O210,AH210),\"\")","v":""},null,null,"","",null,null,null,null,"",{"$f":"IF(M210=\"\",\"\",INDEX('OTRAS REFERENTES'!$M:$O,MATCH(M210,'OTRAS REFERENTES'!$M:$M,0),3))","v":""},{"$f":"IF(M210=\"\",\"\",INDEX('OTRAS REFERENTES'!$M:$O,MATCH(M210,'OTRAS REFERENTES'!$M:$M,0),2))","v":""},null,null,null,null,null,null,null,null,null,{"$f":"IF(X210=\"\",\"\",INDEX(referentes!$Y:$Z,MATCH(DATOS!X210,referentes!$Z:$Z,0),))","v":""},null,null,null,null,"OA",null,"SO",null,null,"",null,null,null,null,null,null,null,null,null,null,{"$f":"IF(AS210<>\"\",VLOOKUP(AS210,#REF!,2,TRUE),\"\")","v":""},null,{"$f":"IF(AU210<>\"\",VLOOKUP(AU210,#REF!,2,FALSE),\"\")","v":""},null,null,null,{"$f":"IF(AY210<>\"\",VLOOKUP(AY210,#REF!,2,TRUE),\"\")","v":""},null,206,"",null,{"$f":"IF(BD210=\"\",\"\",INDEX(referentes!$J:$K,MATCH(BD210,referentes!$J:$J,0),2))","v":""},null,null,{"$f":"IF(BG210=\"\",\"\",INDEX(referentes!$G:$H,MATCH(BG210,referentes!$G:$G,0),2))","v":""},{"$f":"IF(BD210=\"\",\"\",INDEX(referentes!$J:$P,MATCH(BD210,referentes!$J:$J,0),7))","v":""},""]
["19000100",{"$f":"DIGITADOR!$B$2","v":""},0,{"$f":"IF(E211<>\"\",CONCATENATE($A$2,DIGITADOR!$M$1,O211,AH211),\"\")","v":""},null,null,"","",null,null,null,null,"",{"$f":"IF(M211=\"\",\"\",INDEX('OTRAS REFERENTES'!$M:$O,MATCH(M211,'OTRAS REFERENTES'!$M:$M,0),3))","v":""},{"$f":"IF(M211=\"\",\"\",INDEX('OTRAS REFERENTES'!$M:$O,MATCH(M211,'OTRAS REFERENTES'!$M:$M,0),2))","v":""},null,null,null,null,null,null,null,null,null,{"$f":"IF(X211=\"\",\"\",INDEX(referentes!$Y:$Z,MATCH(DATOS!X211,referentes!$Z:$Z,0),))","v":""},null,null,null,null,"OA",null,"SO",null,null,"",null,null,null,null,null,null,null,null,null,null,{"$f":"IF(AS211<>\"\",VLOOKUP(AS211,#REF!,2,TRUE),\"\")","v":""},null,{"$f":"IF(AU211<>\"\",VLOOKUP(AU211,#REF!,2,FALSE),\"\")","v":""},null,null,null,{"$f":"IF(AY211<>\"\",VLOOKUP(AY211,#REF!,2,TRUE),\"\")","v":""},null,207,"",null,{"$f":"IF(BD211=\"\",\"\",INDEX(referentes!$J:$K,MATCH(BD211,referentes!$J:$J,0),2))","v":""},null,null,{"$f":"IF(BG211=\"\",\"\",INDEX(referentes!$G:$H,MATCH(BG211,referentes!$G:$G,0),2))","v":""},{"$f":"IF(BD211=\"\",\"\",INDEX(referentes!$J:$P,MATCH(BD211,referentes!$J:$J,0),7))","v":""},""]
["19000100",{"$f":"DIGITADOR!$B$2","v":""},0,{"$f":"IF(E212<>\"\",CONCATENATE($A$2,DIGITADOR!$M$1,O212,AH212),\"\")","v":""},null,null,"","",null,null,null,null,"",{"$f":"IF(M212=\"\",\"\",INDEX('OTRAS REFERENTES'!$M:$O,MATCH(M212,'OTRAS REFERENTES'!$M:$M,0),3))","v":""},{"$f":"IF(M212=\"\",\"\",INDEX('OTRAS REFERENTES'!$M:$O,MATCH(M212,'OTRAS REFERENTES'!$M:$M,0),2))","v":""},null,null,null,null,null,null,null,null,null,{"$f":"IF(X212=\"\",\"\",INDEX(referentes!$Y:$Z,MATCH(DATOS!X212,referentes!$Z:$Z,0),))","v":""},null,null,null,null,"OA",null,"SO",null,null,"",null,null,null,null,null,null,null,null,null,null,{"$f":"IF(AS212<>\"\",VLOOKUP(AS212,#REF!,2,TRUE),\"\")","v":""},null,{"$f":"IF(AU212<>\"\",VLOOKUP(AU212,#REF!,2,FALSE),\"\")","v":""},null,null,null,{"$f":"IF(AY212<>\"\",VLOOKUP(AY212,#REF!,2,TRUE),\"\")","v":""},null,208,"",null,{"$f":"IF(BD212=\"\",\"\",INDEX(referentes!$J:$K,MATCH(BD212,referentes!$J:$J,0),2))","v":""},null,null,{"$f":"IF(BG212=\"\",\"\",INDEX(referentes!$G:$H,MATCH(BG212,referentes!$G:$G,0),2))","v":""},{"$f":"IF(BD212=\"\",\"\",INDEX(referentes!$J:$P,MATCH(BD212,referentes!$J:$J,0),7))","v":""},""]
["19000100",{"$f":"DIGITADOR!$B$2","v":""},0,{"$f":"IF(E213<>\"\",CONCATENATE($A$2,DIGITADOR!$M$1,O213,AH213),\"\")","v":""},null,null,"","",null,null,null,null,"",{"$f":"IF(M213=\"\",\"\",INDEX('OTRAS REFERENTES'!$M:$O,MATCH(M213,'OTRAS REFERENTES'!$M:$M,0),3))","v":""},{"$f":"IF(M213=\"\",\"\",INDEX('OTRAS REFERENTES'!$M:$O,MATCH(M213,'OTRAS REFERENTES'!$M:$M,0),2))","v":""},null,null,null,null,null,null,null,null,null,{"$f":"IF(X213=\"\",\"\",INDEX(referentes!$Y:$Z,MATCH(DATOS!X213,referentes!$Z:$Z,0),))","v":""},null,null,null,null,"OA",null,"SO",null,null,"",null,null,null,null,null,null,null,null,null,null,{"$f":"IF(AS213<>\"\",VLOOKUP(AS213,#REF!,2,TRUE),\"\")","v":""},null,{"$f":"IF(AU213<>\"\",VLOOKUP(AU213,#REF!,2,FALSE),\"\")","v":""},null,null,null,{"$f":"IF(AY213<>\"\",VLOOKUP(AY213,#REF!,2,TRUE),\"\")","v":""},null,209,"",null,{"$f":"IF(BD213=\"\",\"\",INDEX(referentes!$J:$K,MATCH(BD213,referentes!$J:$J,0),2))","v":""},null,null,{"$f":"IF(BG213=\"\",\"\",INDEX(referentes!$G:$H,MATCH(BG213,referentes!$G:$G,0),2))","v":""},{"$f":"IF(BD213=\"\",\"\",INDEX(referentes!$J:$P,MATCH(BD213,referentes!$J:$J,0),7))","v":""},""]
["19000100",{"$f":"DIGITADOR!$B$2","v":""},0,{"$f":"IF(E214<>\"\",CONCATENATE($A$2,DIGITADOR!$M$1,O214,AH214),\"\")","v":""},null,null,"","",null,null,null,null,"",{"$f":"IF(M214=\"\",\"\",INDEX('OTRAS REFERENTES'!$M:$O,MATCH(M214,'OTRAS REFERENTES'!$M:$M,0),3))","v":""},{"$f":"IF(M214=\"\",\"\",INDEX('OTRAS REFERENTES'!$M:$O,MATCH(M214,'OTRAS REFERENTES'!$M:$M,0),2))","v":""},null,null,null,null,null,null,null,null,null,{"$f":"IF(X214=\"\",\"\",INDEX(referentes!$Y:$Z,MATCH(DATOS!X214,referentes!$Z:$Z,0),))","v":""},null,null,null,null,"OA",null,"SO",null,null,"",null,null,null,null,null,null,null,null,null,null,{"$f":"IF(AS214<>\"\",VLOOKUP(AS214,#REF!,2,TRUE),\"\")","v":""},null,{"$f":"IF(AU214<>\"\",VLOOKUP(AU214,#REF!,2,FALSE),\"\")","v":""},null,null,null,{"$f":"IF(AY214<>\"\",VLOOKUP(AY214,#REF!,2,TRUE),\"\")","v":""},null,210,"",null,{"$f":"IF(BD214=\"\",\"\",INDEX(referentes!$J:$K,MATCH(BD214,referentes!$J:$J,0),2))","v":""},null,null,{"$f":"IF(BG214=\"\",\"\",INDEX(referentes!$G:$H,MATCH(BG214,referentes!$G:$G,0),2))","v":""},{"$f":"IF(BD214=\"\",\"\",INDEX(referentes!$J:$P,MATCH(BD214,referentes!$J:$J,0),7))","v":""},""]
["19000100",{"$f":"DIGITADOR!$B$2","v":""},0,{"$f":"IF(E215<>\"\",CONCATENATE($A$2,DIGITADOR!$M$1,O215,AH215),\"\")","v":""},null,null,"","",null,null,null,null,"",{"$f":"IF(M215=\"\",\"\",INDEX('OTRAS REFERENTES'!$M:$O,MATCH(M215,'OTRAS REFERENTES'!$M:$M,0),3))","v":""},{"$f":"IF(M215=\"\",\"\",INDEX('OTRAS REFERENTES'!$M:$O,MATCH(M215,'OTRAS REFERENTES'!$M:$M,0),2))","v":""},null,null,null,null,null,null,null,null,null,{"$f":"IF(X215=\"\",\"\",INDEX(referentes!$Y:$Z,MATCH(DATOS!X215,referentes!$Z:$Z,0),))","v":""},null,null,null,null,"OA",null,"SO",null,null,"",null,null,null,null,null,null,null,null,null,null,{"$f":"IF(AS215<>\"\",VLOOKUP(AS215,#REF!,2,TRUE),\"\")","v":""},null,{"$f":"IF(AU215<>\"\",VLOOKUP(AU215,#REF!,2,FALSE),\"\")","v":""},null,null,null,{"$f":"IF(AY215<>\"\",VLOOKUP(AY215,#REF!,2,TRUE),\"\")","v":""},null,211,"",null,{"$f":"IF(BD215=\"\",\"\",INDEX(referentes!$J:$K,MATCH(BD215,referentes!$J:$J,0),2))","v":""},null,null,{"$f":"IF(BG215=\"\",\"\",INDEX(referentes!$G:$H,MATCH(BG215,referentes!$G:$G,0),2))","v":""},{"$f":"IF(BD215=\"\",\"\",INDEX(referentes!$J:$P,MATCH(BD215,referentes!$J:$J,0),7))","v":""},""]
["19000100",{"$f":"DIGITADOR!$B$2","v":""},0,{"$f":"IF(E216<>\"\",CONCATENATE($A$2,DIGITADOR!$M$1,O216,AH216),\"\")","v":""},null,null,"","",null,null,null,null,"",{"$f":"IF(M216=\"\",\"\",INDEX('OTRAS REFERENTES'!$M:$O,MATCH(M216,'OTRAS REFERENTES'!$M:$M,0),3))","v":""},{"$f":"IF(M216=\"\",\"\",INDEX('OTRAS REFERENTES'!$M:$O,MATCH(M216,'OTRAS REFERENTES'!$M:$M,0),2))","v":""},null,null,null,null,null,null,null,null,null,{"$f":"IF(X216=\"\",\"\",INDEX(referentes!$Y:$Z,MATCH(DATOS!X216,referentes!$Z:$Z,0),))","v":""},null,null,null,null,"OA",null,"SO",null,null,"",null,null,null,null,null,null,null,null,null,null,{"$f":"IF(AS216<>\"\",VLOOKUP(AS216,#REF!,2,TRUE),\"\")","v":""},null,{"$f":"IF(AU216<>\"\",VLOOKUP(AU216,#REF!,2,FALSE),\"\")","v":""},null,null,null,{"$f":"IF(AY216<>\"\",VLOOKUP(AY216,#REF!,2,TRUE),\"\")","v":""},null,212,"",null,{"$f":"IF(BD216=\"\",\"\",INDEX(referentes!$J:$K,MATCH(BD216,referentes!$J:$J,0),2))","v":""},null,null,{"$f":"IF(BG216=\"\",\"\",INDEX(referentes!$G:$H,MATCH(BG216,referentes!$G:$G,0),2))","v":""},{"$f":"IF(BD216=\"\",\"\",INDEX(referentes!$J:$P,MATCH(BD216,referentes!$J:$J,0),7))","v":""},""]
["19000100",{"$f":"DIGITADOR!$B$2","v":""},0,{"$f":"IF(E217<>\"\",CONCATENATE($A$2,DIGITADOR!$M$1,O217,AH217),\"\")","v":""},null,null,"","",null,null,null,null,"",{"$f":"IF(M217=\"\",\"\",INDEX('OTRAS REFERENTES'!$M:$O,MATCH(M217,'OTRAS REFERENTES'!$M:$M,0),3))","v":""},{"$f":"IF(M217=\"\",\"\",INDEX('OTRAS REFERENTES'!$M:$O,MATCH(M217,'OTRAS REFERENTES'!$M:$M,0),2))","v":""},null,null,null,null,null,null,null,null,null,{"$f":"IF(X217=\"\",\"\",INDEX(referentes!$Y:$Z,MATCH(DATOS!X217,referentes!$Z:$Z,0),))","v":""},null,null,null,null,"OA",null,"SO",null,null,"",null,null,null,null,null,null,null,null,null,null,{"$f":"IF(AS217<>\"\",VLOOKUP(AS217,#REF!,2,TRUE),\"\")","v":""},null,{"$f":"IF(AU217<>\"\",VLOOKUP(AU217,#REF!,2,FALSE),\"\")","v":""},null,null,null,{"$f":"IF(AY217<>\"\",VLOOKUP(AY217,#REF!,2,TRUE),\"\")","v":""},null,213,"",null,{"$f":"IF(BD217=\"\",\"\",INDEX(referentes!$J:$K,MATCH(BD217,referentes!$J:$J,0),2))","v":""},null,null,{"$f":"IF(BG217=\"\",\"\",INDEX(referentes!$G:$H,MATCH(BG217,referentes!$G:$G,0),2))","v":""},{"$f":"IF(BD217=\"\",\"\",INDEX(referentes!$J:$P,MATCH(BD217,referentes!$J:$J,0),7))","v":""},""]
["19000100",{"$f":"DIGITADOR!$B$2","v":""},0,{"$f":"IF(E218<>\"\",CONCATENATE($A$2,DIGITADOR!$M$1,O218,AH218),\"\")","v":""},null,null,"","",null,null,null,null,"",{"$f":"IF(M218=\"\",\"\",INDEX('OTRAS REFERENTES'!$M:$O,MATCH(M218,'OTRAS REFERENTES'!$M:$M,0),3))","v":""},{"$f":"IF(M218=\"\",\"\",INDEX('OTRAS REFERENTES'!$M:$O,MATCH(M218,'OTRAS REFERENTES'!$M:$M,0),2))","v":""},null,null,null,null,null,null,null,null,null,{"$f":"IF(X218=\"\",\"\",INDEX(referentes!$Y:$Z,MATCH(DATOS!X218,referentes!$Z:$Z,0),))","v":""},null,null,null,null,"OA",null,"SO",null,null,"",null,null,null,null,null,null,null,null,null,null,{"$f":"IF(AS218<>\"\",VLOOKUP(AS218,#REF!,2,TRUE),\"\")","v":""},null,{"$f":"IF(AU218<>\"\",VLOOKUP(AU218,#REF!,2,FALSE),\"\")","v":""},null,null,null,{"$f":"IF(AY218<>\"\",VLOOKUP(AY218,#REF!,2,TRUE),\"\")","v":""},null,214,"",null,{"$f":"IF(BD218=\"\",\"\",INDEX(referentes!$J:$K,MATCH(BD218,referentes!$J:$J,0),2))","v":""},null,null,{"$f":"IF(BG218=\"\",\"\",INDEX(referentes!$G:$H,MATCH(BG218,referentes!$G:$G,0),2))","v":""},{"$f":"IF(BD218=\"\",\"\",INDEX(referentes!$J:$P,MATCH(BD218,referentes!$J:$J,0),7))","v":""},""]
["19000100",{"$f":"DIGITADOR!$B$2","v":""},0,{"$f":"IF(E219<>\"\",CONCATENATE($A$2,DIGITADOR!$M$1,O219,AH219),\"\")","v":""},null,null,"","",null,null,null,null,"",{"$f":"IF(M219=\"\",\"\",INDEX('OTRAS REFERENTES'!$M:$O,MATCH(M219,'OTRAS REFERENTES'!$M:$M,0),3))","v":""},{"$f":"IF(M219=\"\",\"\",INDEX('OTRAS REFERENTES'!$M:$O,MATCH(M219,'OTRAS REFERENTES'!$M:$M,0),2))","v":""},null,null,null,null,null,null,null,null,null,{"$f":"IF(X219=\"\",\"\",INDEX(referentes!$Y:$Z,MATCH(DATOS!X219,referentes!$Z:$Z,0),))","v":""},null,null,null,null,"OA",null,"SO",null,null,"",null,null,null,null,null,null,null,null,null,null,{"$f":"IF(AS219<>\"\",VLOOKUP(AS219,#REF!,2,TRUE),\"\")","v":""},null,{"$f":"IF(AU219<>\"\",VLOOKUP(AU219,#REF!,2,FALSE),\"\")","v":""},null,null,null,{"$f":"IF(AY219<>\"\",VLOOKUP(AY219,#REF!,2,TRUE),\"\")","v":""},null,215,"",null,{"$f":"IF(BD219=\"\",\"\",INDEX(referentes!$J:$K,MATCH(BD219,referentes!$J:$J,0),2))","v":""},null,null,{"$f":"IF(BG219=\"\",\"\",INDEX(referentes!$G:$H,MATCH(BG219,referentes!$G:$G,0),2))","v":""},{"$f":"IF(BD219=\"\",\"\",INDEX(referentes!$J:$P,MATCH(BD219,referentes!$J:$J,0),7))","v":""},""]
["19000100",{"$f":"DIGITADOR!$B$2","v":""},0,{"$f":"IF(E220<>\"\",CONCATENATE($A$2,DIGITADOR!$M$1,O220,AH220),\"\")","v":""},null,null,"","",null,null,null,null,"",{"$f":"IF(M220=\"\",\"\",INDEX('OTRAS REFERENTES'!$M:$O,MATCH(M220,'OTRAS REFERENTES'!$M:$M,0),3))","v":""},{"$f":"IF(M220=\"\",\"\",INDEX('OTRAS REFERENTES'!$M:$O,MATCH(M220,'OTRAS REFERENTES'!$M:$M,0),2))","v":""},null,null,null,null,null,null,null,null,null,{"$f":"IF(X220=\"\",\"\",INDEX(referentes!$Y:$Z,MATCH(DATOS!X220,referentes!$Z:$Z,0),))","v":""},null,null,null,null,"OA",null,"SO",null,null,"",null,null,null,null,null,null,null,null,null,null,{"$f":"IF(AS220<>\"\",VLOOKUP(AS220,#REF!,2,TRUE),\"\")","v":""},null,{"$f":"IF(AU220<>\"\",VLOOKUP(AU220,#REF!,2,FALSE),\"\")","v":""},null,null,null,{"$f":"IF(AY220<>\"\",VLOOKUP(AY220,#REF!,2,TRUE),\"\")","v":""},null,216,"",null,{"$f":"IF(BD220=\"\",\"\",INDEX(referentes!$J:$K,MATCH(BD220,referentes!$J:$J,0),2))","v":""},null,null,{"$f":"IF(BG220=\"\",\"\",INDEX(referentes!$G:$H,MATCH(BG220,referentes!$G:$G,0),2))","v":""},{"$f":"IF(BD220=\"\",\"\",INDEX(referentes!$J:$P,MATCH(BD220,referentes!$J:$J,0),7))","v":""},""]
["19000100",{"$f":"DIGITADOR!$B$2","v":""},0,{"$f":"IF(E221<>\"\",CONCATENATE($A$2,DIGITADOR!$M$1,O221,AH221),\"\")","v":""},null,null,"","",null,null,null,null,"",{"$f":"IF(M221=\"\",\"\",INDEX('OTRAS REFERENTES'!$M:$O,MATCH(M221,'OTRAS REFERENTES'!$M:$M,0),3))","v":""},{"$f":"IF(M221=\"\",\"\",INDEX('OTRAS REFERENTES'!$M:$O,MATCH(M221,'OTRAS REFERENTES'!$M:$M,0),2))","v":""},null,null,null,null,null,null,null,null,null,{"$f":"IF(X221=\"\",\"\",INDEX(referentes!$Y:$Z,MATCH(DATOS!X221,referentes!$Z:$Z,0),))","v":""},null,null,null,null,"OA",null,"SO",null,null,"",null,null,null,null,null,null,null,null,null,null,{"$f":"IF(AS221<>\"\",VLOOKUP(AS221,#REF!,2,TRUE),\"\")","v":""},null,{"$f":"IF(AU221<>\"\",VLOOKUP(AU221,#REF!,2,FALSE),\"\")","v":""},null,null,null,{"$f":"IF(AY221<>\"\",VLOOKUP(AY221,#REF!,2,TRUE),\"\")","v":""},null,217,"",null,{"$f":"IF(BD221=\"\",\"\",INDEX(referentes!$J:$K,MATCH(BD221,referentes!$J:$J,0),2))","v":""},null,null,{"$f":"IF(BG221=\"\",\"\",INDEX(referentes!$G:$H,MATCH(BG221,referentes!$G:$G,0),2))","v":""},{"$f":"IF(BD221=\"\",\"\",INDEX(referentes!$J:$P,MATCH(BD221,referentes!$J:$J,0),7))","v":""},""]
["19000100",{"$f":"DIGITADOR!$B$2","v":""},0,{"$f":"IF(E222<>\"\",CONCATENATE($A$2,DIGITADOR!$M$1,O222,AH222),\"\")","v":""},null,null,"","",null,null,null,null,"",{"$f":"IF(M222=\"\",\"\",INDEX('OTRAS REFERENTES'!$M:$O,MATCH(M222,'OTRAS REFERENTES'!$M:$M,0),3))","v":""},{"$f":"IF(M222=\"\",\"\",INDEX('OTRAS REFERENTES'!$M:$O,MATCH(M222,'OTRAS REFERENTES'!$M:$M,0),2))","v":""},null,null,null,null,null,null,null,null,null,{"$f":"IF(X222=\"\",\"\",INDEX(referentes!$Y:$Z,MATCH(DATOS!X222,referentes!$Z:$Z,0),))","v":""},null,null,null,null,"OA",null,"SO",null,null,"",null,null,null,null,null,null,null,null,null,null,{"$f":"IF(AS222<>\"\",VLOOKUP(AS222,#REF!,2,TRUE),\"\")","v":""},null,{"$f":"IF(AU222<>\"\",VLOOKUP(AU222,#REF!,2,FALSE),\"\")","v":""},null,null,null,{"$f":"IF(AY222<>\"\",VLOOKUP(AY222,#REF!,2,TRUE),\"\")","v":""},null,218,"",null,{"$f":"IF(BD222=\"\",\"\",INDEX(referentes!$J:$K,MATCH(BD222,referentes!$J:$J,0),2))","v":""},null,null,{"$f":"IF(BG222=\"\",\"\",INDEX(referentes!$G:$H,MATCH(BG222,referentes!$G:$G,0),2))","v":""},{"$f":"IF(BD222=\"\",\"\",INDEX(referentes!$J:$P,MATCH(BD222,referentes!$J:$J,0),7))","v":""},""]
["19000100",{"$f":"DIGITADOR!$B$2","v":""},0,{"$f":"IF(E223<>\"\",CONCATENATE($A$2,DIGITADOR!$M$1,O223,AH223),\"\")","v":""},null,null,"","",null,null,null,null,"",{"$f":"IF(M223=\"\",\"\",INDEX('OTRAS REFERENTES'!$M:$O,MATCH(M223,'OTRAS REFERENTES'!$M:$M,0),3))","v":""},{"$f":"IF(M223=\"\",\"\",INDEX('OTRAS REFERENTES'!$M:$O,MATCH(M223,'OTRAS REFERENTES'!$M:$M,0),2))","v":""},null,null,null,null,null,null,null,null,null,{"$f":"IF(X223=\"\",\"\",INDEX(referentes!$Y:$Z,MATCH(DATOS!X223,referentes!$Z:$Z,0),))","v":""},null,null,null,null,"OA",null,"SO",null,null,"",null,null,null,null,null,null,null,null,null,null,{"$f":"IF(AS223<>\"\",VLOOKUP(AS223,#REF!,2,TRUE),\"\")","v":""},null,{"$f":"IF(AU223<>\"\",VLOOKUP(AU223,#REF!,2,FALSE),\"\")","v":""},null,null,null,{"$f":"IF(AY223<>\"\",VLOOKUP(AY223,#REF!,2,TRUE),\"\")","v":""},null,219,"",null,{"$f":"IF(BD223=\"\",\"\",INDEX(referentes!$J:$K,MATCH(BD223,referentes!$J:$J,0),2))","v":""},null,null,{"$f":"IF(BG223=\"\",\"\",INDEX(referentes!$G:$H,MATCH(BG223,referentes!$G:$G,0),2))","v":""},{"$f":"IF(BD223=\"\",\"\",INDEX(referentes!$J:$P,MATCH(BD223,referentes!$J:$J,0),7))","v":""},""]
["19000100",{"$f":"DIGITADOR!$B$2","v":""},0,{"$f":"IF(E224<>\"\",CONCATENATE($A$2,DIGITADOR!$M$1,O224,AH224),\"\")","v":""},null,null,"","",null,null,null,null,"",{"$f":"IF(M224=\"\",\"\",INDEX('OTRAS REFERENTES'!$M:$O,MATCH(M224,'OTRAS REFERENTES'!$M:$M,0),3))","v":""},{"$f":"IF(M224=\"\",\"\",INDEX('OTRAS REFERENTES'!$M:$O,MATCH(M224,'OTRAS REFERENTES'!$M:$M,0),2))","v":""},null,null,null,null,null,null,null,null,null,{"$f":"IF(X224=\"\",\"\",INDEX(referentes!$Y:$Z,MATCH(DATOS!X224,referentes!$Z:$Z,0),))","v":""},null,null,null,null,"OA",null,"SO",null,null,"",null,null,null,null,null,null,null,null,null,null,{"$f":"IF(AS224<>\"\",VLOOKUP(AS224,#REF!,2,TRUE),\"\")","v":""},null,{"$f":"IF(AU224<>\"\",VLOOKUP(AU224,#REF!,2,FALSE),\"\")","v":""},null,null,null,{"$f":"IF(AY224<>\"\",VLOOKUP(AY224,#REF!,2,TRUE),\"\")","v":""},null,220,"",null,{"$f":"IF(BD224=\"\",\"\",INDEX(referentes!$J:$K,MATCH(BD224,referentes!$J:$J,0),2))","v":""},null,null,{"$f":"IF(BG224=\"\",\"\",INDEX(referentes!$G:$H,MATCH(BG224,referentes!$G:$G,0),2))","v":""},{"$f":"IF(BD224=\"\",\"\",INDEX(referentes!$J:$P,MATCH(BD224,referentes!$J:$J,0),7))","v":""},""]
["19000100",{"$f":"DIGITADOR!$B$2","v":""},0,{"$f":"IF(E225<>\"\",CONCATENATE($A$2,DIGITADOR!$M$1,O225,AH225),\"\")","v":""},null,null,"","",null,null,null,null,"",{"$f":"IF(M225=\"\",\"\",INDEX('OTRAS REFERENTES'!$M:$O,MATCH(M225,'OTRAS REFERENTES'!$M:$M,0),3))","v":""},{"$f":"IF(M225=\"\",\"\",INDEX('OTRAS REFERENTES'!$M:$O,MATCH(M225,'OTRAS REFERENTES'!$M:$M,0),2))","v":""},null,null,null,null,null,null,null,null,null,{"$f":"IF(X225=\"\",\"\",INDEX(referentes!$Y:$Z,MATCH(DATOS!X225,referentes!$Z:$Z,0),))","v":""},null,null,null,null,"OA",null,"SO",null,null,"",null,null,null,null,null,null,null,null,null,null,{"$f":"IF(AS225<>\"\",VLOOKUP(AS225,#REF!,2,TRUE),\"\")","v":""},null,{"$f":"IF(AU225<>\"\",VLOOKUP(AU225,#REF!,2,FALSE),\"\")","v":""},null,null,null,{"$f":"IF(AY225<>\"\",VLOOKUP(AY225,#REF!,2,TRUE),\"\")","v":""},null,221,"",null,{"$f":"IF(BD225=\"\",\"\",INDEX(referentes!$J:$K,MATCH(BD225,referentes!$J:$J,0),2))","v":""},null,null,{"$f":"IF(BG225=\"\",\"\",INDEX(referentes!$G:$H,MATCH(BG225,referentes!$G:$G,0),2))","v":""},{"$f":"IF(BD225=\"\",\"\",INDEX(referentes!$J:$P,MATCH(BD225,referentes!$J:$J,0),7))","v":""},""]
["19000100",{"$f":"DIGITADOR!$B$2","v":""},0,{"$f":"IF(E226<>\"\",CONCATENATE($A$2,DIGITADOR!$M$1,O226,AH226),\"\")","v":""},null,null,"","",null,null,null,null,"",{"$f":"IF(M226=\"\",\"\",INDEX('OTRAS REFERENTES'!$M:$O,MATCH(M226,'OTRAS REFERENTES'!$M:$M,0),3))","v":""},{"$f":"IF(M226=\"\",\"\",INDEX('OTRAS REFERENTES'!$M:$O,MATCH(M226,'OTRAS REFERENTES'!$M:$M,0),2))","v":""},null,null,null,null,null,null,null,null,null,{"$f":"IF(X226=\"\",\"\",INDEX(referentes!$Y:$Z,MATCH(DATOS!X226,referentes!$Z:$Z,0),))","v":""},null,null,null,null,"OA",null,"SO",null,null,"",null,null,null,null,null,null,null,null,null,null,{"$f":"IF(AS226<>\"\",VLOOKUP(AS226,#REF!,2,TRUE),\"\")","v":""},null,{"$f":"IF(AU226<>\"\",VLOOKUP(AU226,#REF!,2,FALSE),\"\")","v":""},null,null,null,{"$f":"IF(AY226<>\"\",VLOOKUP(AY226,#REF!,2,TRUE),\"\")","v":""},null,222,"",null,{"$f":"IF(BD226=\"\",\"\",INDEX(referentes!$J:$K,MATCH(BD226,referentes!$J:$J,0),2))","v":""},null,null,{"$f":"IF(BG226=\"\",\"\",INDEX(referentes!$G:$H,MATCH(BG226,referentes!$G:$G,0),2))","v":""},{"$f":"IF(BD226=\"\",\"\",INDEX(referentes!$J:$P,MATCH(BD226,referentes!$J:$J,0),7))","v":""},""]
["19000100",{"$f":"DIGITADOR!$B$2","v":""},0,{"$f":"IF(E227<>\"\",CONCATENATE($A$2,DIGITADOR!$M$1,O227,AH227),\"\")","v":""},null,null,"","",null,null,null,null,"",{"$f":"IF(M227=\"\",\"\",INDEX('OTRAS REFERENTES'!$M:$O,MATCH(M227,'OTRAS REFERENTES'!$M:$M,0),3))","v":""},{"$f":"IF(M227=\"\",\"\",INDEX('OTRAS REFERENTES'!$M:$O,MATCH(M227,'OTRAS REFERENTES'!$M:$M,0),2))","v":""},null,null,null,null,null,null,null,null,null,{"$f":"IF(X227=\"\",\"\",INDEX(referentes!$Y:$Z,MATCH(DATOS!X227,referentes!$Z:$Z,0),))","v":""},null,null,null,null,"OA",null,"SO",null,null,"",null,null,null,null,null,null,null,null,null,null,{"$f":"IF(AS227<>\"\",VLOOKUP(AS227,#REF!,2,TRUE),\"\")","v":""},null,{"$f":"IF(AU227<>\"\",VLOOKUP(AU227,#REF!,2,FALSE),\"\")","v":""},null,null,null,{"$f":"IF(AY227<>\"\",VLOOKUP(AY227,#REF!,2,TRUE),\"\")","v":""},null,223,"",null,{"$f":"IF(BD227=\"\",\"\",INDEX(referentes!$J:$K,MATCH(BD227,referentes!$J:$J,0),2))","v":""},null,null,{"$f":"IF(BG227=\"\",\"\",INDEX(referentes!$G:$H,MATCH(BG227,referentes!$G:$G,0),2))","v":""},{"$f":"IF(BD227=\"\",\"\",INDEX(referentes!$J:$P,MATCH(BD227,referentes!$J:$J,0),7))","v":""},""]
["19000100",{"$f":"DIGITADOR!$B$2","v":""},0,{"$f":"IF(E228<>\"\",CONCATENATE($A$2,DIGITADOR!$M$1,O228,AH228),\"\")","v":""},null,null,"","",null,null,null,null,"",{"$f":"IF(M228=\"\",\"\",INDEX('OTRAS REFERENTES'!$M:$O,MATCH(M228,'OTRAS REFERENTES'!$M:$M,0),3))","v":""},{"$f":"IF(M228=\"\",\"\",INDEX('OTRAS REFERENTES'!$M:$O,MATCH(M228,'OTRAS REFERENTES'!$M:$M,0),2))","v":""},null,null,null,null,null,null,null,null,null,{"$f":"IF(X228=\"\",\"\",INDEX(referentes!$Y:$Z,MATCH(DATOS!X228,referentes!$Z:$Z,0),))","v":""},null,null,null,null,"OA",null,"SO",null,null,"",null,null,null,null,null,null,null,null,null,null,{"$f":"IF(AS228<>\"\",VLOOKUP(AS228,#REF!,2,TRUE),\"\")","v":""},null,{"$f":"IF(AU228<>\"\",VLOOKUP(AU228,#REF!,2,FALSE),\"\")","v":""},null,null,null,{"$f":"IF(AY228<>\"\",VLOOKUP(AY228,#REF!,2,TRUE),\"\")","v":""},null,224,"",null,{"$f":"IF(BD228=\"\",\"\",INDEX(referentes!$J:$K,MATCH(BD228,referentes!$J:$J,0),2))","v":""},null,null,{"$f":"IF(BG228=\"\",\"\",INDEX(referentes!$G:$H,MATCH(BG228,referentes!$G:$G,0),2))","v":""},{"$f":"IF(BD228=\"\",\"\",INDEX(referentes!$J:$P,MATCH(BD228,referentes!$J:$J,0),7))","v":""},""]
["19000100",{"$f":"DIGITADOR!$B$2","v":""},0,{"$f":"IF(E229<>\"\",CONCATENATE($A$2,DIGITADOR!$M$1,O229,AH229),\"\")","v":""},null,null,"","",null,null,null,null,"",{"$f":"IF(M229=\"\",\"\",INDEX('OTRAS REFERENTES'!$M:$O,MATCH(M229,'OTRAS REFERENTES'!$M:$M,0),3))","v":""},{"$f":"IF(M229=\"\",\"\",INDEX('OTRAS REFERENTES'!$M:$O,MATCH(M229,'OTRAS REFERENTES'!$M:$M,0),2))","v":""},null,null,null,null,null,null,null,null,null,{"$f":"IF(X229=\"\",\"\",INDEX(referentes!$Y:$Z,MATCH(DATOS!X229,referentes!$Z:$Z,0),))","v":""},null,null,null,null,"OA",null,"SO",null,null,"",null,null,null,null,null,null,null,null,null,null,{"$f":"IF(AS229<>\"\",VLOOKUP(AS229,#REF!,2,TRUE),\"\")","v":""},null,{"$f":"IF(AU229<>\"\",VLOOKUP(AU229,#REF!,2,FALSE),\"\")","v":""},null,null,null,{"$f":"IF(AY229<>\"\",VLOOKUP(AY229,#REF!,2,TRUE),\"\")","v":""},null,225,"",null,{"$f":"IF(BD229=\"\",\"\",INDEX(referentes!$J:$K,MATCH(BD229,referentes!$J:$J,0),2))","v":""},null,null,{"$f":"IF(BG229=\"\",\"\",INDEX(referentes!$G:$H,MATCH(BG229,referentes!$G:$G,0),2))","v":""},{"$f":"IF(BD229=\"\",\"\",INDEX(referentes!$J:$P,MATCH(BD229,referentes!$J:$J,0),7))","v":""},""]
["19000100",{"$f":"DIGITADOR!$B$2","v":""},0,{"$f":"IF(E230<>\"\",CONCATENATE($A$2,DIGITADOR!$M$1,O230,AH230),\"\")","v":""},null,null,"","",null,null,null,null,"",{"$f":"IF(M230=\"\",\"\",INDEX('OTRAS REFERENTES'!$M:$O,MATCH(M230,'OTRAS REFERENTES'!$M:$M,0),3))","v":""},{"$f":"IF(M230=\"\",\"\",INDEX('OTRAS REFERENTES'!$M:$O,MATCH(M230,'OTRAS REFERENTES'!$M:$M,0),2))","v":""},null,null,null,null,null,null,null,null,null,{"$f":"IF(X230=\"\",\"\",INDEX(referentes!$Y:$Z,MATCH(DATOS!X230,referentes!$Z:$Z,0),))","v":""},null,null,null,null,"OA",null,"SO",null,null,"",null,null,null,null,null,null,null,null,null,null,{"$f":"IF(AS230<>\"\",VLOOKUP(AS230,#REF!,2,TRUE),\"\")","v":""},null,{"$f":"IF(AU230<>\"\",VLOOKUP(AU230,#REF!,2,FALSE),\"\")","v":""},null,null,null,{"$f":"IF(AY230<>\"\",VLOOKUP(AY230,#REF!,2,TRUE),\"\")","v":""},null,226,"",null,{"$f":"IF(BD230=\"\",\"\",INDEX(referentes!$J:$K,MATCH(BD230,referentes!$J:$J,0),2))","v":""},null,null,{"$f":"IF(BG230=\"\",\"\",INDEX(referentes!$G:$H,MATCH(BG230,referentes!$G:$G,0),2))","v":""},{"$f":"IF(BD230=\"\",\"\",INDEX(referentes!$J:$P,MATCH(BD230,referentes!$J:$J,0),7))","v":""},""]
["19000100",{"$f":"DIGITADOR!$B$2","v":""},0,{"$f":"IF(E231<>\"\",CONCATENATE($A$2,DIGITADOR!$M$1,O231,AH231),\"\")","v":""},null,null,"","",null,null,null,null,"",{"$f":"IF(M231=\"\",\"\",INDEX('OTRAS REFERENTES'!$M:$O,MATCH(M231,'OTRAS REFERENTES'!$M:$M,0),3))","v":""},{"$f":"IF(M231=\"\",\"\",INDEX('OTRAS REFERENTES'!$M:$O,MATCH(M231,'OTRAS REFERENTES'!$M:$M,0),2))","v":""},null,null,null,null,null,null,null,null,null,{"$f":"IF(X231=\"\",\"\",INDEX(referentes!$Y:$Z,MATCH(DATOS!X231,referentes!$Z:$Z,0),))","v":""},null,null,null,null,"OA",null,"SO",null,null,"",null,null,null,null,null,null,null,null,null,null,{"$f":"IF(AS231<>\"\",VLOOKUP(AS231,#REF!,2,TRUE),\"\")","v":""},null,{"$f":"IF(AU231<>\"\",VLOOKUP(AU231,#REF!,2,FALSE),\"\")","v":""},null,null,null,{"$f":"IF(AY231<>\"\",VLOOKUP(AY231,#REF!,2,TRUE),\"\")","v":""},null,227,"",null,{"$f":"IF(BD231=\"\",\"\",INDEX(referentes!$J:$K,MATCH(BD231,referentes!$J:$J,0),2))","v":""},null,null,{"$f":"IF(BG231=\"\",\"\",INDEX(referentes!$G:$H,MATCH(BG231,referentes!$G:$G,0),2))","v":""},{"$f":"IF(BD231=\"\",\"\",INDEX(referentes!$J:$P,MATCH(BD231,referentes!$J:$J,0),7))","v":""},""]
["19000100",{"$f":"DIGITADOR!$B$2","v":""},0,{"$f":"IF(E232<>\"\",CONCATENATE($A$2,DIGITADOR!$M$1,O232,AH232),\"\")","v":""},null,null,"","",null,null,null,null,"",{"$f":"IF(M232=\"\",\"\",INDEX('OTRAS REFERENTES'!$M:$O,MATCH(M232,'OTRAS REFERENTES'!$M:$M,0),3))","v":""},{"$f":"IF(M232=\"\",\"\",INDEX('OTRAS REFERENTES'!$M:$O,MATCH(M232,'OTRAS REFERENTES'!$M:$M,0),2))","v":""},null,null,null,null,null,null,null,null,null,{"$f":"IF(X232=\"\",\"\",INDEX(referentes!$Y:$Z,MATCH(DATOS!X232,referentes!$Z:$Z,0),))","v":""},null,null,null,null,"OA",null,"SO",null,null,"",null,null,null,null,null,null,null,null,null,null,{"$f":"IF(AS232<>\"\",VLOOKUP(AS232,#REF!,2,TRUE),\"\")","v":""},null,{"$f":"IF(AU232<>\"\",VLOOKUP(AU232,#REF!,2,FALSE),\"\")","v":""},null,null,null,{"$f":"IF(AY232<>\"\",VLOOKUP(AY232,#REF!,2,TRUE),\"\")","v":""},null,228,"",null,{"$f":"IF(BD232=\"\",\"\",INDEX(referentes!$J:$K,MATCH(BD232,referentes!$J:$J,0),2))","v":""},null,null,{"$f":"IF(BG232=\"\",\"\",INDEX(referentes!$G:$H,MATCH(BG232,referentes!$G:$G,0),2))","v":""},{"$f":"IF(BD232=\"\",\"\",INDEX(referentes!$J:$P,MATCH(BD232,referentes!$J:$J,0),7))","v":""},""]
["19000100",{"$f":"DIGITADOR!$B$2","v":""},{"$f":"IF(Z233=Z232,C232,C232+1)","v":0},{"$f":"IF(E233<>\"\",CONCATENATE($A$2,DIGITADOR!$M$1,O233,AH233),\"\")","v":""},null,null,"","",null,null,null,null,"",{"$f":"IF(M233=\"\",\"\",INDEX('OTRAS REFERENTES'!$M:$O,MATCH(M233,'OTRAS REFERENTES'!$M:$M,0),3))","v":""},{"$f":"IF(M233=\"\",\"\",INDEX('OTRAS REFERENTES'!$M:$O,MATCH(M233,'OTRAS REFERENTES'!$M:$M,0),2))","v":""},null,null,null,null,null,null,null,null,null,{"$f":"IF(X233=\"\",\"\",INDEX(referentes!$Y:$Z,MATCH(DATOS!X233,referentes!$Z:$Z,0),))","v":""},null,null,null,null,"OA",null,"SO",null,null,"",null,null,null,null,null,null,null,null,null,null,{"$f":"IF(AS233<>\"\",VLOOKUP(AS233,#REF!,2,TRUE),\"\")","v":""},null,{"$f":"IF(AU233<>\"\",VLOOKUP(AU233,#REF!,2,FALSE),\"\")","v":""},null,null,null,{"$f":"IF(AY233<>\"\",VLOOKUP(AY233,#REF!,2,TRUE),\"\")","v":""},null,229,"",null,{"$f":"IF(BD233=\"\",\"\",INDEX(referentes!$J:$K,MATCH(BD233,referentes!$J:$J,0),2))","v":""},null,null,{"$f":"IF(BG233=\"\",\"\",INDEX(referentes!$G:$H,MATCH(BG233,referentes!$G:$G,0),2))","v":""},{"$f":"IF(BD233=\"\",\"\",INDEX(referentes!$J:$P,MATCH(BD233,referentes!$J:$J,0),7))","v":""},""]
["19000100",{"$f":"DIGITADOR!$B$2","v":""},0,{"$f":"IF(E234<>\"\",CONCATENATE($A$2,DIGITADOR!$M$1,O234,AH234),\"\")","v":""},null,null,"","",null,null,null,null,"",{"$f":"IF(M234=\"\",\"\",INDEX('OTRAS REFERENTES'!$M:$O,MATCH(M234,'OTRAS REFERENTES'!$M:$M,0),3))","v":""},{"$f":"IF(M234=\"\",\"\",INDEX('OTRAS REFERENTES'!$M:$O,MATCH(M234,'OTRAS REFERENTES'!$M:$M,0),2))","v":""},null,null,null,null,null,null,null,null,null,{"$f":"IF(X234=\"\",\"\",INDEX(referentes!$Y:$Z,MATCH(DATOS!X234,referentes!$Z:$Z,0),))","v":""},null,null,null,null,"OA",null,"SO",null,null,"",null,null,null,null,null,null,null,null,null,null,{"$f":"IF(AS234<>\"\",VLOOKUP(AS234,#REF!,2,TRUE),\"\")","v":""},null,{"$f":"IF(AU234<>\"\",VLOOKUP(AU234,#REF!,2,FALSE),\"\")","v":""},null,null,null,{"$f":"IF(AY234<>\"\",VLOOKUP(AY234,#REF!,2,TRUE),\"\")","v":""},null,230,"",null,{"$f":"IF(BD234=\"\",\"\",INDEX(referentes!$J:$K,MATCH(BD234,referentes!$J:$J,0),2))","v":""},null,null,{"$f":"IF(BG234=\"\",\"\",INDEX(referentes!$G:$H,MATCH(BG234,referentes!$G:$G,0),2))","v":""},{"$f":"IF(BD234=\"\",\"\",INDEX(referentes!$J:$P,MATCH(BD234,referentes!$J:$J,0),7))","v":""},""]
["19000100",{"$f":"DIGITADOR!$B$2","v":""},0,{"$f":"IF(E235<>\"\",CONCATENATE($A$2,DIGITADOR!$M$1,O235,AH235),\"\")","v":""},null,null,"","",null,null,null,null,"",{"$f":"IF(M235=\"\",\"\",INDEX('OTRAS REFERENTES'!$M:$O,MATCH(M235,'OTRAS REFERENTES'!$M:$M,0),3))","v":""},{"$f":"IF(M235=\"\",\"\",INDEX('OTRAS REFERENTES'!$M:$O,MATCH(M235,'OTRAS REFERENTES'!$M:$M,0),2))","v":""},null,null,null,null,null,null,null,null,null,{"$f":"IF(X235=\"\",\"\",INDEX(referentes!$Y:$Z,MATCH(DATOS!X235,referentes!$Z:$Z,0),))","v":""},null,null,null,null,"OA",null,"SO",null,null,"",null,null,null,null,null,null,null,null,null,null,{"$f":"IF(AS235<>\"\",VLOOKUP(AS235,#REF!,2,TRUE),\"\")","v":""},null,{"$f":"IF(AU235<>\"\",VLOOKUP(AU235,#REF!,2,FALSE),\"\")","v":""},null,null,null,{"$f":"IF(AY235<>\"\",VLOOKUP(AY235,#REF!,2,TRUE),\"\")","v":""},null,231,"",null,{"$f":"IF(BD235=\"\",\"\",INDEX(referentes!$J:$K,MATCH(BD235,referentes!$J:$J,0),2))","v":""},null,null,{"$f":"IF(BG235=\"\",\"\",INDEX(referentes!$G:$H,MATCH(BG235,referentes!$G:$G,0),2))","v":""},{"$f":"IF(BD235=\"\",\"\",INDEX(referentes!$J:$P,MATCH(BD235,referentes!$J:$J,0),7))","v":""},""]
["19000100",{"$f":"DIGITADOR!$B$2","v":""},0,{"$f":"IF(E236<>\"\",CONCATENATE($A$2,DIGITADOR!$M$1,O236,AH236),\"\")","v":""},null,null,"","",null,null,null,null,"",{"$f":"IF(M236=\"\",\"\",INDEX('OTRAS REFERENTES'!$M:$O,MATCH(M236,'OTRAS REFERENTES'!$M:$M,0),3))","v":""},{"$f":"IF(M236=\"\",\"\",INDEX('OTRAS REFERENTES'!$M:$O,MATCH(M236,'OTRAS REFERENTES'!$M:$M,0),2))","v":""},null,null,null,null,null,null,null,null,null,{"$f":"IF(X236=\"\",\"\",INDEX(referentes!$Y:$Z,MATCH(DATOS!X236,referentes!$Z:$Z,0),))","v":""},null,null,null,null,"OA",null,"SO",null,null,"",null,null,null,null,null,null,null,null,null,null,{"$f":"IF(AS236<>\"\",VLOOKUP(AS236,#REF!,2,TRUE),\"\")","v":""},null,{"$f":"IF(AU236<>\"\",VLOOKUP(AU236,#REF!,2,FALSE),\"\")","v":""},null,null,null,{"$f":"IF(AY236<>\"\",VLOOKUP(AY236,#REF!,2,TRUE),\"\")","v":""},null,232,"",null,{"$f":"IF(BD236=\"\",\"\",INDEX(referentes!$J:$K,MATCH(BD236,referentes!$J:$J,0),2))","v":""},null,null,{"$f":"IF(BG236=\"\",\"\",INDEX(referentes!$G:$H,MATCH(BG236,referentes!$G:$G,0),2))","v":""},{"$f":"IF(BD236=\"\",\"\",INDEX(referentes!$J:$P,MATCH(BD236,referentes!$J:$J,0),7))","v":""},""]
["19000100",{"$f":"DIGITADOR!$B$2","v":""},0,{"$f":"IF(E237<>\"\",CONCATENATE($A$2,DIGITADOR!$M$1,O237,AH237),\"\")","v":""},null,null,"","",null,null,null,null,"",{"$f":"IF(M237=\"\",\"\",INDEX('OTRAS REFERENTES'!$M:$O,MATCH(M237,'OTRAS REFERENTES'!$M:$M,0),3))","v":""},{"$f":"IF(M237=\"\",\"\",INDEX('OTRAS REFERENTES'!$M:$O,MATCH(M237,'OTRAS REFERENTES'!$M:$M,0),2))","v":""},null,null,null,null,null,null,null,null,null,{"$f":"IF(X237=\"\",\"\",INDEX(referentes!$Y:$Z,MATCH(DATOS!X237,referentes!$Z:$Z,0),))","v":""},null,null,null,null,"OA",null,"SO",null,null,"",null,null,null,null,null,null,null,null,null,null,{"$f":"IF(AS237<>\"\",VLOOKUP(AS237,#REF!,2,TRUE),\"\")","v":""},null,{"$f":"IF(AU237<>\"\",VLOOKUP(AU237,#REF!,2,FALSE),\"\")","v":""},null,null,null,{"$f":"IF(AY237<>\"\",VLOOKUP(AY237,#REF!,2,TRUE),\"\")","v":""},null,233,"",null,{"$f":"IF(BD237=\"\",\"\",INDEX(referentes!$J:$K,MATCH(BD237,referentes!$J:$J,0),2))","v":""},null,null,{"$f":"IF(BG237=\"\",\"\",INDEX(referentes!$G:$H,MATCH(BG237,referentes!$G:$G,0),2))","v":""},{"$f":"IF(BD237=\"\",\"\",INDEX(referentes!$J:$P,MATCH(BD237,referentes!$J:$J,0),7))","v":""},""]
["19000100",{"$f":"DIGITADOR!$B$2","v":""},0,{"$f":"IF(E238<>\"\",CONCATENATE($A$2,DIGITADOR!$M$1,O238,AH238),\"\")","v":""},null,null,"","",null,null,null,null,"",{"$f":"IF(M238=\"\",\"\",INDEX('OTRAS REFERENTES'!$M:$O,MATCH(M238,'OTRAS REFERENTES'!$M:$M,0),3))","v":""},{"$f":"IF(M238=\"\",\"\",INDEX('OTRAS REFERENTES'!$M:$O,MATCH(M238,'OTRAS REFERENTES'!$M:$M,0),2))","v":""},null,null,null,null,null,null,null,null,null,{"$f":"IF(X238=\"\",\"\",INDEX(referentes!$Y:$Z,MATCH(DATOS!X238,referentes!$Z:$Z,0),))","v":""},null,null,null,null,"OA",null,"SO",null,null,"",null,null,null,null,null,null,null,null,null,null,{"$f":"IF(AS238<>\"\",VLOOKUP(AS238,#REF!,2,TRUE),\"\")","v":""},null,{"$f":"IF(AU238<>\"\",VLOOKUP(AU238,#REF!,2,FALSE),\"\")","v":""},null,null,null,{"$f":"IF(AY238<>\"\",VLOOKUP(AY238,#REF!,2,TRUE),\"\")","v":""},null,234,"",null,{"$f":"IF(BD238=\"\",\"\",INDEX(referentes!$J:$K,MATCH(BD238,referentes!$J:$J,0),2))","v":""},null,null,{"$f":"IF(BG238=\"\",\"\",INDEX(referentes!$G:$H,MATCH(BG238,referentes!$G:$G,0),2))","v":""},{"$f":"IF(BD238=\"\",\"\",INDEX(referentes!$J:$P,MATCH(BD238,referentes!$J:$J,0),7))","v":""},""]
["19000100",{"$f":"DIGITADOR!$B$2","v":""},0,{"$f":"IF(E239<>\"\",CONCATENATE($A$2,DIGITADOR!$M$1,O239,AH239),\"\")","v":""},null,null,"","",null,null,null,null,"",{"$f":"IF(M239=\"\",\"\",INDEX('OTRAS REFERENTES'!$M:$O,MATCH(M239,'OTRAS REFERENTES'!$M:$M,0),3))","v":""},{"$f":"IF(M239=\"\",\"\",INDEX('OTRAS REFERENTES'!$M:$O,MATCH(M239,'OTRAS REFERENTES'!$M:$M,0),2))","v":""},null,null,null,null,null,null,null,null,null,{"$f":"IF(X239=\"\",\"\",INDEX(referentes!$Y:$Z,MATCH(DATOS!X239,referentes!$Z:$Z,0),))","v":""},null,null,null,null,"OA",null,"SO",null,null,"",null,null,null,null,null,null,null,null,null,null,{"$f":"IF(AS239<>\"\",VLOOKUP(AS239,#REF!,2,TRUE),\"\")","v":""},null,{"$f":"IF(AU239<>\"\",VLOOKUP(AU239,#REF!,2,FALSE),\"\")","v":""},null,null,null,{"$f":"IF(AY239<>\"\",VLOOKUP(AY239,#REF!,2,TRUE),\"\")","v":""},null,235,"",null,{"$f":"IF(BD239=\"\",\"\",INDEX(referentes!$J:$K,MATCH(BD239,referentes!$J:$J,0),2))","v":""},null,null,{"$f":"IF(BG239=\"\",\"\",INDEX(referentes!$G:$H,MATCH(BG239,referentes!$G:$G,0),2))","v":""},{"$f":"IF(BD239=\"\",\"\",INDEX(referentes!$J:$P,MATCH(BD239,referentes!$J:$J,0),7))","v":""},""]
["19000100",{"$f":"DIGITADOR!$B$2","v":""},0,{"$f":"IF(E240<>\"\",CONCATENATE($A$2,DIGITADOR!$M$1,O240,AH240),\"\")","v":""},null,null,"","",null,null,null,null,"",{"$f":"IF(M240=\"\",\"\",INDEX('OTRAS REFERENTES'!$M:$O,MATCH(M240,'OTRAS REFERENTES'!$M:$M,0),3))","v":""},{"$f":"IF(M240=\"\",\"\",INDEX('OTRAS REFERENTES'!$M:$O,MATCH(M240,'OTRAS REFERENTES'!$M:$M,0),2))","v":""},null,null,null,null,null,null,null,null,null,{"$f":"IF(X240=\"\",\"\",INDEX(referentes!$Y:$Z,MATCH(DATOS!X240,referentes!$Z:$Z,0),))","v":""},null,null,null,null,"OA",null,"SO",null,null,"",null,null,null,null,null,null,null,null,null,null,{"$f":"IF(AS240<>\"\",VLOOKUP(AS240,#REF!,2,TRUE),\"\")","v":""},null,{"$f":"IF(AU240<>\"\",VLOOKUP(AU240,#REF!,2,FALSE),\"\")","v":""},null,null,null,{"$f":"IF(AY240<>\"\",VLOOKUP(AY240,#REF!,2,TRUE),\"\")","v":""},null,236,"",null,{"$f":"IF(BD240=\"\",\"\",INDEX(referentes!$J:$K,MATCH(BD240,referentes!$J:$J,0),2))","v":""},null,null,{"$f":"IF(BG240=\"\",\"\",INDEX(referentes!$G:$H,MATCH(BG240,referentes!$G:$G,0),2))","v":""},{"$f":"IF(BD240=\"\",\"\",INDEX(referentes!$J:$P,MATCH(BD240,referentes!$J:$J,0),7))","v":""},""]
["19000100",{"$f":"DIGITADOR!$B$2","v":""},0,{"$f":"IF(E241<>\"\",CONCATENATE($A$2,DIGITADOR!$M$1,O241,AH241),\"\")","v":""},null,null,"","",null,null,null,null,"",{"$f":"IF(M241=\"\",\"\",INDEX('OTRAS REFERENTES'!$M:$O,MATCH(M241,'OTRAS REFERENTES'!$M:$M,0),3))","v":""},{"$f":"IF(M241=\"\",\"\",INDEX('OTRAS REFERENTES'!$M:$O,MATCH(M241,'OTRAS REFERENTES'!$M:$M,0),2))","v":""},null,null,null,null,null,null,null,null,null,{"$f":"IF(X241=\"\",\"\",INDEX(referentes!$Y:$Z,MATCH(DATOS!X241,referentes!$Z:$Z,0),))","v":""},null,null,null,null,"OA",null,"SO",null,null,"",null,null,null,null,null,null,null,null,null,null,{"$f":"IF(AS241<>\"\",VLOOKUP(AS241,#REF!,2,TRUE),\"\")","v":""},null,{"$f":"IF(AU241<>\"\",VLOOKUP(AU241,#REF!,2,FALSE),\"\")","v":""},null,null,null,{"$f":"IF(AY241<>\"\",VLOOKUP(AY241,#REF!,2,TRUE),\"\")","v":""},null,237,"",null,{"$f":"IF(BD241=\"\",\"\",INDEX(referentes!$J:$K,MATCH(BD241,referentes!$J:$J,0),2))","v":""},null,null,{"$f":"IF(BG241=\"\",\"\",INDEX(referentes!$G:$H,MATCH(BG241,referentes!$G:$G,0),2))","v":""},{"$f":"IF(BD241=\"\",\"\",INDEX(referentes!$J:$P,MATCH(BD241,referentes!$J:$J,0),7))","v":""},""]
["19000100",{"$f":"DIGITADOR!$B$2","v":""},0,{"$f":"IF(E242<>\"\",CONCATENATE($A$2,DIGITADOR!$M$1,O242,AH242),\"\")","v":""},null,null,"","",null,null,null,null,"",{"$f":"IF(M242=\"\",\"\",INDEX('OTRAS REFERENTES'!$M:$O,MATCH(M242,'OTRAS REFERENTES'!$M:$M,0),3))","v":""},{"$f":"IF(M242=\"\",\"\",INDEX('OTRAS REFERENTES'!$M:$O,MATCH(M242,'OTRAS REFERENTES'!$M:$M,0),2))","v":""},null,null,null,null,null,null,null,null,null,{"$f":"IF(X242=\"\",\"\",INDEX(referentes!$Y:$Z,MATCH(DATOS!X242,referentes!$Z:$Z,0),))","v":""},null,null,null,null,"OA",null,"SO",null,null,"",null,null,null,null,null,null,null,null,null,null,{"$f":"IF(AS242<>\"\",VLOOKUP(AS242,#REF!,2,TRUE),\"\")","v":""},null,{"$f":"IF(AU242<>\"\",VLOOKUP(AU242,#REF!,2,FALSE),\"\")","v":""},null,null,null,{"$f":"IF(AY242<>\"\",VLOOKUP(AY242,#REF!,2,TRUE),\"\")","v":""},null,238,"",null,{"$f":"IF(BD242=\"\",\"\",INDEX(referentes!$J:$K,MATCH(BD242,referentes!$J:$J,0),2))","v":""},null,null,{"$f":"IF(BG242=\"\",\"\",INDEX(referentes!$G:$H,MATCH(BG242,referentes!$G:$G,0),2))","v":""},{"$f":"IF(BD242=\"\",\"\",INDEX(referentes!$J:$P,MATCH(BD242,referentes!$J:$J,0),7))","v":""},""]
["19000100",{"$f":"DIGITADOR!$B$2","v":""},0,{"$f":"IF(E243<>\"\",CONCATENATE($A$2,DIGITADOR!$M$1,O243,AH243),\"\")","v":""},null,null,"","",null,null,null,null,"",{"$f":"IF(M243=\"\",\"\",INDEX('OTRAS REFERENTES'!$M:$O,MATCH(M243,'OTRAS REFERENTES'!$M:$M,0),3))","v":""},{"$f":"IF(M243=\"\",\"\",INDEX('OTRAS REFERENTES'!$M:$O,MATCH(M243,'OTRAS REFERENTES'!$M:$M,0),2))","v":""},null,null,null,null,null,null,null,null,null,{"$f":"IF(X243=\"\",\"\",INDEX(referentes!$Y:$Z,MATCH(DATOS!X243,referentes!$Z:$Z,0),))","v":""},null,null,null,null,"OA",null,"SO",null,null,"",null,null,null,null,null,null,null,null,null,null,{"$f":"IF(AS243<>\"\",VLOOKUP(AS243,#REF!,2,TRUE),\"\")","v":""},null,{"$f":"IF(AU243<>\"\",VLOOKUP(AU243,#REF!,2,FALSE),\"\")","v":""},null,null,null,{"$f":"IF(AY243<>\"\",VLOOKUP(AY243,#REF!,2,TRUE),\"\")","v":""},null,239,"",null,{"$f":"IF(BD243=\"\",\"\",INDEX(referentes!$J:$K,MATCH(BD243,referentes!$J:$J,0),2))","v":""},null,null,{"$f":"IF(BG243=\"\",\"\",INDEX(referentes!$G:$H,MATCH(BG243,referentes!$G:$G,0),2))","v":""},{"$f":"IF(BD243=\"\",\"\",INDEX(referentes!$J:$P,MATCH(BD243,referentes!$J:$J,0),7))","v":""},""]
["19000100",{"$f":"DIGITADOR!$B$2","v":""},0,{"$f":"IF(E244<>\"\",CONCATENATE($A$2,DIGITADOR!$M$1,O244,AH244),\"\")","v":""},null,null,"","",null,null,null,null,"",{"$f":"IF(M244=\"\",\"\",INDEX('OTRAS REFERENTES'!$M:$O,MATCH(M244,'OTRAS REFERENTES'!$M:$M,0),3))","v":""},{"$f":"IF(M244=\"\",\"\",INDEX('OTRAS REFERENTES'!$M:$O,MATCH(M244,'OTRAS REFERENTES'!$M:$M,0),2))","v":""},null,null,null,null,null,null,null,null,null,{"$f":"IF(X244=\"\",\"\",INDEX(referentes!$Y:$Z,MATCH(DATOS!X244,referentes!$Z:$Z,0),))","v":""},null,null,null,null,"OA",null,"SO",null,null,"",null,null,null,null,null,null,null,null,null,null,{"$f":"IF(AS244<>\"\",VLOOKUP(AS244,#REF!,2,TRUE),\"\")","v":""},null,{"$f":"IF(AU244<>\"\",VLOOKUP(AU244,#REF!,2,FALSE),\"\")","v":""},null,null,null,{"$f":"IF(AY244<>\"\",VLOOKUP(AY244,#REF!,2,TRUE),\"\")","v":""},null,240,"",null,{"$f":"IF(BD244=\"\",\"\",INDEX(referentes!$J:$K,MATCH(BD244,referentes!$J:$J,0),2))","v":""},null,null,{"$f":"IF(BG244=\"\",\"\",INDEX(referentes!$G:$H,MATCH(BG244,referentes!$G:$G,0),2))","v":""},{"$f":"IF(BD244=\"\",\"\",INDEX(referentes!$J:$P,MATCH(BD244,referentes!$J:$J,0),7))","v":""},""]
["19000100",{"$f":"DIGITADOR!$B$2","v":""},0,{"$f":"IF(E245<>\"\",CONCATENATE($A$2,DIGITADOR!$M$1,O245,AH245),\"\")","v":""},null,null,"","",null,null,null,null,"",{"$f":"IF(M245=\"\",\"\",INDEX('OTRAS REFERENTES'!$M:$O,MATCH(M245,'OTRAS REFERENTES'!$M:$M,0),3))","v":""},{"$f":"IF(M245=\"\",\"\",INDEX('OTRAS REFERENTES'!$M:$O,MATCH(M245,'OTRAS REFERENTES'!$M:$M,0),2))","v":""},null,null,null,null,null,null,null,null,null,{"$f":"IF(X245=\"\",\"\",INDEX(referentes!$Y:$Z,MATCH(DATOS!X245,referentes!$Z:$Z,0),))","v":""},null,null,null,null,"OA",null,"SO",null,null,"",null,null,null,null,null,null,null,null,null,null,{"$f":"IF(AS245<>\"\",VLOOKUP(AS245,#REF!,2,TRUE),\"\")","v":""},null,{"$f":"IF(AU245<>\"\",VLOOKUP(AU245,#REF!,2,FALSE),\"\")","v":""},null,null,null,{"$f":"IF(AY245<>\"\",VLOOKUP(AY245,#REF!,2,TRUE),\"\")","v":""},null,241,"",null,{"$f":"IF(BD245=\"\",\"\",INDEX(referentes!$J:$K,MATCH(BD245,referentes!$J:$J,0),2))","v":""},null,null,{"$f":"IF(BG245=\"\",\"\",INDEX(referentes!$G:$H,MATCH(BG245,referentes!$G:$G,0),2))","v":""},{"$f":"IF(BD245=\"\",\"\",INDEX(referentes!$J:$P,MATCH(BD245,referentes!$J:$J,0),7))","v":""},""]
["19000100",{"$f":"DIGITADOR!$B$2","v":""},0,{"$f":"IF(E246<>\"\",CONCATENATE($A$2,DIGITADOR!$M$1,O246,AH246),\"\")","v":""},null,null,"","",null,null,null,null,"",{"$f":"IF(M246=\"\",\"\",INDEX('OTRAS REFERENTES'!$M:$O,MATCH(M246,'OTRAS REFERENTES'!$M:$M,0),3))","v":""},{"$f":"IF(M246=\"\",\"\",INDEX('OTRAS REFERENTES'!$M:$O,MATCH(M246,'OTRAS REFERENTES'!$M:$M,0),2))","v":""},null,null,null,null,null,null,null,null,null,{"$f":"IF(X246=\"\",\"\",INDEX(referentes!$Y:$Z,MATCH(DATOS!X246,referentes!$Z:$Z,0),))","v":""},null,null,null,null,"OA",null,"SO",null,null,"",null,null,null,null,null,null,null,null,null,null,{"$f":"IF(AS246<>\"\",VLOOKUP(AS246,#REF!,2,TRUE),\"\")","v":""},null,{"$f":"IF(AU246<>\"\",VLOOKUP(AU246,#REF!,2,FALSE),\"\")","v":""},null,null,null,{"$f":"IF(AY246<>\"\",VLOOKUP(AY246,#REF!,2,TRUE),\"\")","v":""},null,242,"",null,{"$f":"IF(BD246=\"\",\"\",INDEX(referentes!$J:$K,MATCH(BD246,referentes!$J:$J,0),2))","v":""},null,null,{"$f":"IF(BG246=\"\",\"\",INDEX(referentes!$G:$H,MATCH(BG246,referentes!$G:$G,0),2))","v":""},{"$f":"IF(BD246=\"\",\"\",INDEX(referentes!$J:$P,MATCH(BD246,referentes!$J:$J,0),7))","v":""},""]
["19000100",{"$f":"DIGITADOR!$B$2","v":""},0,{"$f":"IF(E247<>\"\",CONCATENATE($A$2,DIGITADOR!$M$1,O247,AH247),\"\")","v":""},null,null,"","",null,null,null,null,"",{"$f":"IF(M247=\"\",\"\",INDEX('OTRAS REFERENTES'!$M:$O,MATCH(M247,'OTRAS REFERENTES'!$M:$M,0),3))","v":""},{"$f":"IF(M247=\"\",\"\",INDEX('OTRAS REFERENTES'!$M:$O,MATCH(M247,'OTRAS REFERENTES'!$M:$M,0),2))","v":""},null,null,null,null,null,null,null,null,null,{"$f":"IF(X247=\"\",\"\",INDEX(referentes!$Y:$Z,MATCH(DATOS!X247,referentes!$Z:$Z,0),))","v":""},null,null,null,null,"OA",null,"SO",null,null,"",null,null,null,null,null,null,null,null,null,null,{"$f":"IF(AS247<>\"\",VLOOKUP(AS247,#REF!,2,TRUE),\"\")","v":""},null,{"$f":"IF(AU247<>\"\",VLOOKUP(AU247,#REF!,2,FALSE),\"\")","v":""},null,null,null,{"$f":"IF(AY247<>\"\",VLOOKUP(AY247,#REF!,2,TRUE),\"\")","v":""},null,243,"",null,{"$f":"IF(BD247=\"\",\"\",INDEX(referentes!$J:$K,MATCH(BD247,referentes!$J:$J,0),2))","v":""},null,null,{"$f":"IF(BG247=\"\",\"\",INDEX(referentes!$G:$H,MATCH(BG247,referentes!$G:$G,0),2))","v":""},{"$f":"IF(BD247=\"\",\"\",INDEX(referentes!$J:$P,MATCH(BD247,referentes!$J:$J,0),7))","v":""},""]
["19000100",{"$f":"DIGITADOR!$B$2","v":""},0,{"$f":"IF(E248<>\"\",CONCATENATE($A$2,DIGITADOR!$M$1,O248,AH248),\"\")","v":""},null,null,"","",null,null,null,null,"",{"$f":"IF(M248=\"\",\"\",INDEX('OTRAS REFERENTES'!$M:$O,MATCH(M248,'OTRAS REFERENTES'!$M:$M,0),3))","v":""},{"$f":"IF(M248=\"\",\"\",INDEX('OTRAS REFERENTES'!$M:$O,MATCH(M248,'OTRAS REFERENTES'!$M:$M,0),2))","v":""},null,null,null,null,null,null,null,null,null,{"$f":"IF(X248=\"\",\"\",INDEX(referentes!$Y:$Z,MATCH(DATOS!X248,referentes!$Z:$Z,0),))","v":""},null,null,null,null,"OA",null,"SO",null,null,"",null,null,null,null,null,null,null,null,null,null,{"$f":"IF(AS248<>\"\",VLOOKUP(AS248,#REF!,2,TRUE),\"\")","v":""},null,{"$f":"IF(AU248<>\"\",VLOOKUP(AU248,#REF!,2,FALSE),\"\")","v":""},null,null,null,{"$f":"IF(AY248<>\"\",VLOOKUP(AY248,#REF!,2,TRUE),\"\")","v":""},null,244,"",null,{"$f":"IF(BD248=\"\",\"\",INDEX(referentes!$J:$K,MATCH(BD248,referentes!$J:$J,0),2))","v":""},null,null,{"$f":"IF(BG248=\"\",\"\",INDEX(referentes!$G:$H,MATCH(BG248,referentes!$G:$G,0),2))","v":""},{"$f":"IF(BD248=\"\",\"\",INDEX(referentes!$J:$P,MATCH(BD248,referentes!$J:$J,0),7))","v":""},""]
["19000100",{"$f":"DIGITADOR!$B$2","v":""},0,{"$f":"IF(E249<>\"\",CONCATENATE($A$2,DIGITADOR!$M$1,O249,AH249),\"\")","v":""},null,null,"","",null,null,null,null,"",{"$f":"IF(M249=\"\",\"\",INDEX('OTRAS REFERENTES'!$M:$O,MATCH(M249,'OTRAS REFERENTES'!$M:$M,0),3))","v":""},{"$f":"IF(M249=\"\",\"\",INDEX('OTRAS REFERENTES'!$M:$O,MATCH(M249,'OTRAS REFERENTES'!$M:$M,0),2))","v":""},null,null,null,null,null,null,null,null,null,{"$f":"IF(X249=\"\",\"\",INDEX(referentes!$Y:$Z,MATCH(DATOS!X249,referentes!$Z:$Z,0),))","v":""},null,null,null,null,"OA",null,"SO",null,null,"",null,null,null,null,null,null,null,null,null,null,{"$f":"IF(AS249<>\"\",VLOOKUP(AS249,#REF!,2,TRUE),\"\")","v":""},null,{"$f":"IF(AU249<>\"\",VLOOKUP(AU249,#REF!,2,FALSE),\"\")","v":""},null,null,null,{"$f":"IF(AY249<>\"\",VLOOKUP(AY249,#REF!,2,TRUE),\"\")","v":""},null,245,"",null,{"$f":"IF(BD249=\"\",\"\",INDEX(referentes!$J:$K,MATCH(BD249,referentes!$J:$J,0),2))","v":""},null,null,{"$f":"IF(BG249=\"\",\"\",INDEX(referentes!$G:$H,MATCH(BG249,referentes!$G:$G,0),2))","v":""},{"$f":"IF(BD249=\"\",\"\",INDEX(referentes!$J:$P,MATCH(BD249,referentes!$J:$J,0),7))","v":""},""]
["19000100",{"$f":"DIGITADOR!$B$2","v":""},0,{"$f":"IF(E250<>\"\",CONCATENATE($A$2,DIGITADOR!$M$1,O250,AH250),\"\")","v":""},null,null,"","",null,null,null,null,"",{"$f":"IF(M250=\"\",\"\",INDEX('OTRAS REFERENTES'!$M:$O,MATCH(M250,'OTRAS REFERENTES'!$M:$M,0),3))","v":""},{"$f":"IF(M250=\"\",\"\",INDEX('OTRAS REFERENTES'!$M:$O,MATCH(M250,'OTRAS REFERENTES'!$M:$M,0),2))","v":""},null,null,null,null,null,null,null,null,null,{"$f":"IF(X250=\"\",\"\",INDEX(referentes!$Y:$Z,MATCH(DATOS!X250,referentes!$Z:$Z,0),))","v":""},null,null,null,null,"OA",null,"SO",null,null,"",null,null,null,null,null,null,null,null,null,null,{"$f":"IF(AS250<>\"\",VLOOKUP(AS250,#REF!,2,TRUE),\"\")","v":""},null,{"$f":"IF(AU250<>\"\",VLOOKUP(AU250,#REF!,2,FALSE),\"\")","v":""},null,null,null,{"$f":"IF(AY250<>\"\",VLOOKUP(AY250,#REF!,2,TRUE),\"\")","v":""},null,246,"",null,{"$f":"IF(BD250=\"\",\"\",INDEX(referentes!$J:$K,MATCH(BD250,referentes!$J:$J,0),2))","v":""},null,null,{"$f":"IF(BG250=\"\",\"\",INDEX(referentes!$G:$H,MATCH(BG250,referentes!$G:$G,0),2))","v":""},{"$f":"IF(BD250=\"\",\"\",INDEX(referentes!$J:$P,MATCH(BD250,referentes!$J:$J,0),7))","v":""},""]
["19000100",{"$f":"DIGITADOR!$B$2","v":""},0,{"$f":"IF(E251<>\"\",CONCATENATE($A$2,DIGITADOR!$M$1,O251,AH251),\"\")","v":""},null,null,"","",null,null,null,null,"",{"$f":"IF(M251=\"\",\"\",INDEX('OTRAS REFERENTES'!$M:$O,MATCH(M251,'OTRAS REFERENTES'!$M:$M,0),3))","v":""},{"$f":"IF(M251=\"\",\"\",INDEX('OTRAS REFERENTES'!$M:$O,MATCH(M251,'OTRAS REFERENTES'!$M:$M,0),2))","v":""},null,null,null,null,null,null,null,null,null,{"$f":"IF(X251=\"\",\"\",INDEX(referentes!$Y:$Z,MATCH(DATOS!X251,referentes!$Z:$Z,0),))","v":""},null,null,null,null,"OA",null,"SO",null,null,"",null,null,null,null,null,null,null,null,null,null,{"$f":"IF(AS251<>\"\",VLOOKUP(AS251,#REF!,2,TRUE),\"\")","v":""},null,{"$f":"IF(AU251<>\"\",VLOOKUP(AU251,#REF!,2,FALSE),\"\")","v":""},null,null,null,{"$f":"IF(AY251<>\"\",VLOOKUP(AY251,#REF!,2,TRUE),\"\")","v":""},null,247,"",null,{"$f":"IF(BD251=\"\",\"\",INDEX(referentes!$J:$K,MATCH(BD251,referentes!$J:$J,0),2))","v":""},null,null,{"$f":"IF(BG251=\"\",\"\",INDEX(referentes!$G:$H,MATCH(BG251,referentes!$G:$G,0),2))","v":""},{"$f":"IF(BD251=\"\",\"\",INDEX(referentes!$J:$P,MATCH(BD251,referentes!$J:$J,0),7))","v":""},""]
["19000100",{"$f":"DIGITADOR!$B$2","v":""},0,{"$f":"IF(E252<>\"\",CONCATENATE($A$2,DIGITADOR!$M$1,O252,AH252),\"\")","v":""},null,null,"","",null,null,null,null,"",{"$f":"IF(M252=\"\",\"\",INDEX('OTRAS REFERENTES'!$M:$O,MATCH(M252,'OTRAS REFERENTES'!$M:$M,0),3))","v":""},{"$f":"IF(M252=\"\",\"\",INDEX('OTRAS REFERENTES'!$M:$O,MATCH(M252,'OTRAS REFERENTES'!$M:$M,0),2))","v":""},null,null,null,null,null,null,null,null,null,{"$f":"IF(X252=\"\",\"\",INDEX(referentes!$Y:$Z,MATCH(DATOS!X252,referentes!$Z:$Z,0),))","v":""},null,null,null,null,"OA",null,"SO",null,null,"",null,null,null,null,null,null,null,null,null,null,{"$f":"IF(AS252<>\"\",VLOOKUP(AS252,#REF!,2,TRUE),\"\")","v":""},null,{"$f":"IF(AU252<>\"\",VLOOKUP(AU252,#REF!,2,FALSE),\"\")","v":""},null,null,null,{"$f":"IF(AY252<>\"\",VLOOKUP(AY252,#REF!,2,TRUE),\"\")","v":""},null,248,"",null,{"$f":"IF(BD252=\"\",\"\",INDEX(referentes!$J:$K,MATCH(BD252,referentes!$J:$J,0),2))","v":""},null,null,{"$f":"IF(BG252=\"\",\"\",INDEX(referentes!$G:$H,MATCH(BG252,referentes!$G:$G,0),2))","v":""},{"$f":"IF(BD252=\"\",\"\",INDEX(referentes!$J:$P,MATCH(BD252,referentes!$J:$J,0),7))","v":""},""]
["19000100",{"$f":"DIGITADOR!$B$2","v":""},0,{"$f":"IF(E253<>\"\",CONCATENATE($A$2,DIGITADOR!$M$1,O253,AH253),\"\")","v":""},null,null,"","",null,null,null,null,"",{"$f":"IF(M253=\"\",\"\",INDEX('OTRAS REFERENTES'!$M:$O,MATCH(M253,'OTRAS REFERENTES'!$M:$M,0),3))","v":""},{"$f":"IF(M253=\"\",\"\",INDEX('OTRAS REFERENTES'!$M:$O,MATCH(M253,'OTRAS REFERENTES'!$M:$M,0),2))","v":""},null,null,null,null,null,null,null,null,null,{"$f":"IF(X253=\"\",\"\",INDEX(referentes!$Y:$Z,MATCH(DATOS!X253,referentes!$Z:$Z,0),))","v":""},null,null,null,null,"OA",null,"SO",null,null,"",null,null,null,null,null,null,null,null,null,null,{"$f":"IF(AS253<>\"\",VLOOKUP(AS253,#REF!,2,TRUE),\"\")","v":""},null,{"$f":"IF(AU253<>\"\",VLOOKUP(AU253,#REF!,2,FALSE),\"\")","v":""},null,null,null,{"$f":"IF(AY253<>\"\",VLOOKUP(AY253,#REF!,2,TRUE),\"\")","v":""},null,249,"",null,{"$f":"IF(BD253=\"\",\"\",INDEX(referentes!$J:$K,MATCH(BD253,referentes!$J:$J,0),2))","v":""},null,null,{"$f":"IF(BG253=\"\",\"\",INDEX(referentes!$G:$H,MATCH(BG253,referentes!$G:$G,0),2))","v":""},{"$f":"IF(BD253=\"\",\"\",INDEX(referentes!$J:$P,MATCH(BD253,referentes!$J:$J,0),7))","v":""},""]
["19000100",{"$f":"DIGITADOR!$B$2","v":""},0,{"$f":"IF(E254<>\"\",CONCATENATE($A$2,DIGITADOR!$M$1,O254,AH254),\"\")","v":""},null,null,"","",null,null,null,null,"",{"$f":"IF(M254=\"\",\"\",INDEX('OTRAS REFERENTES'!$M:$O,MATCH(M254,'OTRAS REFERENTES'!$M:$M,0),3))","v":""},{"$f":"IF(M254=\"\",\"\",INDEX('OTRAS REFERENTES'!$M:$O,MATCH(M254,'OTRAS REFERENTES'!$M:$M,0),2))","v":""},null,null,null,null,null,null,null,null,null,{"$f":"IF(X254=\"\",\"\",INDEX(referentes!$Y:$Z,MATCH(DATOS!X254,referentes!$Z:$Z,0),))","v":""},null,null,null,null,"OA",null,"SO",null,null,"",null,null,null,null,null,null,null,null,null,null,{"$f":"IF(AS254<>\"\",VLOOKUP(AS254,#REF!,2,TRUE),\"\")","v":""},null,{"$f":"IF(AU254<>\"\",VLOOKUP(AU254,#REF!,2,FALSE),\"\")","v":""},null,null,null,{"$f":"IF(AY254<>\"\",VLOOKUP(AY254,#REF!,2,TRUE),\"\")","v":""},null,250,"",null,{"$f":"IF(BD254=\"\",\"\",INDEX(referentes!$J:$K,MATCH(BD254,referentes!$J:$J,0),2))","v":""},null,null,{"$f":"IF(BG254=\"\",\"\",INDEX(referentes!$G:$H,MATCH(BG254,referentes!$G:$G,0),2))","v":""},{"$f":"IF(BD254=\"\",\"\",INDEX(referentes!$J:$P,MATCH(BD254,referentes!$J:$J,0),7))","v":""},""]
["19000100",{"$f":"DIGITADOR!$B$2","v":""},0,{"$f":"IF(E255<>\"\",CONCATENATE($A$2,DIGITADOR!$M$1,O255,AH255),\"\")","v":""},null,null,"","",null,null,null,null,"",{"$f":"IF(M255=\"\",\"\",INDEX('OTRAS REFERENTES'!$M:$O,MATCH(M255,'OTRAS REFERENTES'!$M:$M,0),3))","v":""},{"$f":"IF(M255=\"\",\"\",INDEX('OTRAS REFERENTES'!$M:$O,MATCH(M255,'OTRAS REFERENTES'!$M:$M,0),2))","v":""},null,null,null,null,null,null,null,null,null,{"$f":"IF(X255=\"\",\"\",INDEX(referentes!$Y:$Z,MATCH(DATOS!X255,referentes!$Z:$Z,0),))","v":""},null,null,null,null,"OA",null,"SO",null,null,"",null,null,null,null,null,null,null,null,null,null,{"$f":"IF(AS255<>\"\",VLOOKUP(AS255,#REF!,2,TRUE),\"\")","v":""},null,{"$f":"IF(AU255<>\"\",VLOOKUP(AU255,#REF!,2,FALSE),\"\")","v":""},null,null,null,{"$f":"IF(AY255<>\"\",VLOOKUP(AY255,#REF!,2,TRUE),\"\")","v":""},null,251,"",null,{"$f":"IF(BD255=\"\",\"\",INDEX(referentes!$J:$K,MATCH(BD255,referentes!$J:$J,0),2))","v":""},null,null,{"$f":"IF(BG255=\"\",\"\",INDEX(referentes!$G:$H,MATCH(BG255,referentes!$G:$G,0),2))","v":""},{"$f":"IF(BD255=\"\",\"\",INDEX(referentes!$J:$P,MATCH(BD255,referentes!$J:$J,0),7))","v":""},""]
["19000100",{"$f":"DIGITADOR!$B$2","v":""},0,{"$f":"IF(E256<>\"\",CONCATENATE($A$2,DIGITADOR!$M$1,O256,AH256),\"\")","v":""},null,null,"","",null,null,null,null,"",{"$f":"IF(M256=\"\",\"\",INDEX('OTRAS REFERENTES'!$M:$O,MATCH(M256,'OTRAS REFERENTES'!$M:$M,0),3))","v":""},{"$f":"IF(M256=\"\",\"\",INDEX('OTRAS REFERENTES'!$M:$O,MATCH(M256,'OTRAS REFERENTES'!$M:$M,0),2))","v":""},null,null,null,null,null,null,null,null,null,{"$f":"IF(X256=\"\",\"\",INDEX(referentes!$Y:$Z,MATCH(DATOS!X256,referentes!$Z:$Z,0),))","v":""},null,null,null,null,"OA",null,"SO",null,null,"",null,null,null,null,null,null,null,null,null,null,{"$f":"IF(AS256<>\"\",VLOOKUP(AS256,#REF!,2,TRUE),\"\")","v":""},null,{"$f":"IF(AU256<>\"\",VLOOKUP(AU256,#REF!,2,FALSE),\"\")","v":""},null,null,null,{"$f":"IF(AY256<>\"\",VLOOKUP(AY256,#REF!,2,TRUE),\"\")","v":""},null,252,"",null,{"$f":"IF(BD256=\"\",\"\",INDEX(referentes!$J:$K,MATCH(BD256,referentes!$J:$J,0),2))","v":""},null,null,{"$f":"IF(BG256=\"\",\"\",INDEX(referentes!$G:$H,MATCH(BG256,referentes!$G:$G,0),2))","v":""},{"$f":"IF(BD256=\"\",\"\",INDEX(referentes!$J:$P,MATCH(BD256,referentes!$J:$J,0),7))","v":""},""]
["19000100",{"$f":"DIGITADOR!$B$2","v":""},0,{"$f":"IF(E257<>\"\",CONCATENATE($A$2,DIGITADOR!$M$1,O257,AH257),\"\")","v":""},null,null,"","",null,null,null,null,"",{"$f":"IF(M257=\"\",\"\",INDEX('OTRAS REFERENTES'!$M:$O,MATCH(M257,'OTRAS REFERENTES'!$M:$M,0),3))","v":""},{"$f":"IF(M257=\"\",\"\",INDEX('OTRAS REFERENTES'!$M:$O,MATCH(M257,'OTRAS REFERENTES'!$M:$M,0),2))","v":""},null,null,null,null,null,null,null,null,null,{"$f":"IF(X257=\"\",\"\",INDEX(referentes!$Y:$Z,MATCH(DATOS!X257,referentes!$Z:$Z,0),))","v":""},null,null,null,null,"OA",null,"SO",null,null,"",null,null,null,null,null,null,null,null,null,null,{"$f":"IF(AS257<>\"\",VLOOKUP(AS257,#REF!,2,TRUE),\"\")","v":""},null,{"$f":"IF(AU257<>\"\",VLOOKUP(AU257,#REF!,2,FALSE),\"\")","v":""},null,null,null,{"$f":"IF(AY257<>\"\",VLOOKUP(AY257,#REF!,2,TRUE),\"\")","v":""},null,253,"",null,{"$f":"IF(BD257=\"\",\"\",INDEX(referentes!$J:$K,MATCH(BD257,referentes!$J:$J,0),2))","v":""},null,null,{"$f":"IF(BG257=\"\",\"\",INDEX(referentes!$G:$H,MATCH(BG257,referentes!$G:$G,0),2))","v":""},{"$f":"IF(BD257=\"\",\"\",INDEX(referentes!$J:$P,MATCH(BD257,referentes!$J:$J,0),7))","v":""},""]
["19000100",{"$f":"DIGITADOR!$B$2","v":""},0,{"$f":"IF(E258<>\"\",CONCATENATE($A$2,DIGITADOR!$M$1,O258,AH258),\"\")","v":""},null,null,"","",null,null,null,null,"",{"$f":"IF(M258=\"\",\"\",INDEX('OTRAS REFERENTES'!$M:$O,MATCH(M258,'OTRAS REFERENTES'!$M:$M,0),3))","v":""},{"$f":"IF(M258=\"\",\"\",INDEX('OTRAS REFERENTES'!$M:$O,MATCH(M258,'OTRAS REFERENTES'!$M:$M,0),2))","v":""},null,null,null,null,null,null,null,null,null,{"$f":"IF(X258=\"\",\"\",INDEX(referentes!$Y:$Z,MATCH(DATOS!X258,referentes!$Z:$Z,0),))","v":""},null,null,null,null,"OA",null,"SO",null,null,"",null,null,null,null,null,null,null,null,null,null,{"$f":"IF(AS258<>\"\",VLOOKUP(AS258,#REF!,2,TRUE),\"\")","v":""},null,{"$f":"IF(AU258<>\"\",VLOOKUP(AU258,#REF!,2,FALSE),\"\")","v":""},null,null,null,{"$f":"IF(AY258<>\"\",VLOOKUP(AY258,#REF!,2,TRUE),\"\")","v":""},null,254,"",null,{"$f":"IF(BD258=\"\",\"\",INDEX(referentes!$J:$K,MATCH(BD258,referentes!$J:$J,0),2))","v":""},null,null,{"$f":"IF(BG258=\"\",\"\",INDEX(referentes!$G:$H,MATCH(BG258,referentes!$G:$G,0),2))","v":""},{"$f":"IF(BD258=\"\",\"\",INDEX(referentes!$J:$P,MATCH(BD258,referentes!$J:$J,0),7))","v":""},""]
["19000100",{"$f":"DIGITADOR!$B$2","v":""},0,{"$f":"IF(E259<>\"\",CONCATENATE($A$2,DIGITADOR!$M$1,O259,AH259),\"\")","v":""},null,null,"","",null,null,null,null,"",{"$f":"IF(M259=\"\",\"\",INDEX('OTRAS REFERENTES'!$M:$O,MATCH(M259,'OTRAS REFERENTES'!$M:$M,0),3))","v":""},{"$f":"IF(M259=\"\",\"\",INDEX('OTRAS REFERENTES'!$M:$O,MATCH(M259,'OTRAS REFERENTES'!$M:$M,0),2))","v":""},null,null,null,null,null,null,null,null,null,{"$f":"IF(X259=\"\",\"\",INDEX(referentes!$Y:$Z,MATCH(DATOS!X259,referentes!$Z:$Z,0),))","v":""},null,null,null,null,"OA",null,"SO",null,null,"",null,null,null,null,null,null,null,null,null,null,{"$f":"IF(AS259<>\"\",VLOOKUP(AS259,#REF!,2,TRUE),\"\")","v":""},null,{"$f":"IF(AU259<>\"\",VLOOKUP(AU259,#REF!,2,FALSE),\"\")","v":""},null,null,null,{"$f":"IF(AY259<>\"\",VLOOKUP(AY259,#REF!,2,TRUE),\"\")","v":""},null,255,"",null,{"$f":"IF(BD259=\"\",\"\",INDEX(referentes!$J:$K,MATCH(BD259,referentes!$J:$J,0),2))","v":""},null,null,{"$f":"IF(BG259=\"\",\"\",INDEX(referentes!$G:$H,MATCH(BG259,referentes!$G:$G,0),2))","v":""},{"$f":"IF(BD259=\"\",\"\",INDEX(referentes!$J:$P,MATCH(BD259,referentes!$J:$J,0),7))","v":""},""]
["19000100",{"$f":"DIGITADOR!$B$2","v":""},0,{"$f":"IF(E260<>\"\",CONCATENATE($A$2,DIGITADOR!$M$1,O260,AH260),\"\")","v":""},null,null,"","",null,null,null,null,"",{"$f":"IF(M260=\"\",\"\",INDEX('OTRAS REFERENTES'!$M:$O,MATCH(M260,'OTRAS REFERENTES'!$M:$M,0),3))","v":""},{"$f":"IF(M260=\"\",\"\",INDEX('OTRAS REFERENTES'!$M:$O,MATCH(M260,'OTRAS REFERENTES'!$M:$M,0),2))","v":""},null,null,null,null,null,null,null,null,null,{"$f":"IF(X260=\"\",\"\",INDEX(referentes!$Y:$Z,MATCH(DATOS!X260,referentes!$Z:$Z,0),))","v":""},null,null,null,null,"OA",null,"SO",null,null,"",null,null,null,null,null,null,null,null,null,null,{"$f":"IF(AS260<>\"\",VLOOKUP(AS260,#REF!,2,TRUE),\"\")","v":""},null,{"$f":"IF(AU260<>\"\",VLOOKUP(AU260,#REF!,2,FALSE),\"\")","v":""},null,null,null,{"$f":"IF(AY260<>\"\",VLOOKUP(AY260,#REF!,2,TRUE),\"\")","v":""},null,256,"",null,{"$f":"IF(BD260=\"\",\"\",INDEX(referentes!$J:$K,MATCH(BD260,referentes!$J:$J,0),2))","v":""},null,null,{"$f":"IF(BG260=\"\",\"\",INDEX(referentes!$G:$H,MATCH(BG260,referentes!$G:$G,0),2))","v":""},{"$f":"IF(BD260=\"\",\"\",INDEX(referentes!$J:$P,MATCH(BD260,referentes!$J:$J,0),7))","v":""},""]
["19000100",{"$f":"DIGITADOR!$B$2","v":""},0,{"$f":"IF(E261<>\"\",CONCATENATE($A$2,DIGITADOR!$M$1,O261,AH261),\"\")","v":""},null,null,"",{"$f":"IF(G261<>\"\",MONTH(G261),\"\")","v":""},null,null,null,null,"",{"$f":"IF(M261=\"\",\"\",INDEX('OTRAS REFERENTES'!$M:$O,MATCH(M261,'OTRAS REFERENTES'!$M:$M,0),3))","v":""},{"$f":"IF(M261=\"\",\"\",INDEX('OTRAS REFERENTES'!$M:$O,MATCH(M261,'OTRAS REFERENTES'!$M:$M,0),2))","v":""},null,null,null,null,null,null,null,null,null,{"$f":"IF(X261=\"\",\"\",INDEX(referentes!$Y:$Z,MATCH(DATOS!X261,referentes!$Z:$Z,0),))","v":""},null,null,null,null,"OA",null,"SO",null,null,"",null,null,null,null,null,null,null,null,null,null,{"$f":"IF(AS261<>\"\",VLOOKUP(AS261,#REF!,2,TRUE),\"\")","v":""},null,{"$f":"IF(AU261<>\"\",VLOOKUP(AU261,#REF!,2,FALSE),\"\")","v":""},null,null,null,{"$f":"IF(AY261<>\"\",VLOOKUP(AY261,#REF!,2,TRUE),\"\")","v":""},null,257,"",null,{"$f":"IF(BD261=\"\",\"\",INDEX(referentes!$J:$K,MATCH(BD261,referentes!$J:$J,0),2))","v":""},null,null,{"$f":"IF(BG261=\"\",\"\",INDEX(referentes!$G:$H,MATCH(BG261,referentes!$G:$G,0),2))","v":""},{"$f":"IF(BD261=\"\",\"\",INDEX(referentes!$J:$P,MATCH(BD261,referentes!$J:$J,0),7))","v":""},""]
[{"$f":"A261","v":"19000100"},{"$f":"DIGITADOR!$B$2","v":""},0,{"$f":"IF(E262<>\"\",CONCATENATE($A$2,DIGITADOR!$M$1,O262,AH262),\"\")","v":""},null,null,{"$f":"IF(E262=\"\",\"\",E262+F262)","v":""},"",null,null,null,null,{"$f":"IF(L262<>\"\",CONCATENATE(J262,L262),\"\")","v":""},{"$f":"IF(M262=\"\",\"\",INDEX('OTRAS REFERENTES'!$M:$O,MATCH(M262,'OTRAS REFERENTES'!$M:$M,0),3))","v":""},{"$f":"IF(M262=\"\",\"\",INDEX('OTRAS REFERENTES'!$M:$O,MATCH(M262,'OTRAS REFERENTES'!$M:$M,0),2))","v":""},null,null,null,null,null,null,null,null,null,{"$f":"IF(X262=\"\",\"\",INDEX(referentes!$Y:$Z,MATCH(DATOS!X262,referentes!$Z:$Z,0),))","v":""},null,null,null,null,"OA",null,"SO",null,null,{"$f":"CONCATENATE(AG262)","v":""},null,null,null,null,null,null,null,null,null,null,{"$f":"IF(AS262<>\"\",VLOOKUP(AS262,#REF!,2,TRUE),\"\")","v":""},null,{"$f":"IF(AU262<>\"\",VLOOKUP(AU262,#REF!,2,FALSE),\"\")","v":""},null,null,null,{"$f":"IF(AY262<>\"\",VLOOKUP(AY262,#REF!,2,TRUE),\"\")","v":""},null,258,{"$f":"IF(D262=\"\",\"\",CONCATENATE(D262,BB262))","v":""},null,{"$f":"IF(BD262=\"\",\"\",INDEX(referentes!$J:$K,MATCH(BD262,referentes!$J:$J,0),2))","v":""},null,null,{"$f":"IF(BG262=\"\",\"\",INDEX(referentes!$G:$H,MATCH(BG262,referentes!$G:$G,0),2))","v":""},{"$f":"IF(BD262=\"\",\"\",INDEX(referentes!$J:$P,MATCH(BD262,referentes!$J:$J,0),7))","v":""},{"$f":"IF(BD262=\"\",\"\",UPPER(BD262))","v":""}]
["19000100",{"$f":"DIGITADOR!$B$2","v":""},0,{"$f":"IF(E263<>\"\",CONCATENATE($A$2,DIGITADOR!$M$1,O263,AH263),\"\")","v":""},null,null,"","",null,null,null,null,"",{"$f":"IF(M263=\"\",\"\",INDEX('OTRAS REFERENTES'!$M:$O,MATCH(M263,'OTRAS REFERENTES'!$M:$M,0),3))","v":""},{"$f":"IF(M263=\"\",\"\",INDEX('OTRAS REFERENTES'!$M:$O,MATCH(M263,'OTRAS REFERENTES'!$M:$M,0),2))","v":""},null,null,null,null,null,null,null,null,null,{"$f":"IF(X263=\"\",\"\",INDEX(referentes!$Y:$Z,MATCH(DATOS!X263,referentes!$Z:$Z,0),))","v":""},null,null,null,null,"OA",null,"SO",null,null,"",null,null,null,null,null,null,null,null,null,null,{"$f":"IF(AS263<>\"\",VLOOKUP(AS263,#REF!,2,TRUE),\"\")","v":""},null,{"$f":"IF(AU263<>\"\",VLOOKUP(AU263,#REF!,2,FALSE),\"\")","v":""},null,null,null,{"$f":"IF(AY263<>\"\",VLOOKUP(AY263,#REF!,2,TRUE),\"\")","v":""},null,259,"",null,{"$f":"IF(BD263=\"\",\"\",INDEX(referentes!$J:$K,MATCH(BD263,referentes!$J:$J,0),2))","v":""},null,null,{"$f":"IF(BG263=\"\",\"\",INDEX(referentes!$G:$H,MATCH(BG263,referentes!$G:$G,0),2))","v":""},{"$f":"IF(BD263=\"\",\"\",INDEX(referentes!$J:$P,MATCH(BD263,referentes!$J:$J,0),7))","v":""},""]
["19000100",{"$f":"DIGITADOR!$B$2","v":""},0,{"$f":"IF(E264<>\"\",CONCATENATE($A$2,DIGITADOR!$M$1,O264,AH264),\"\")","v":""},null,null,"","",null,null,null,null,"",{"$f":"IF(M264=\"\",\"\",INDEX('OTRAS REFERENTES'!$M:$O,MATCH(M264,'OTRAS REFERENTES'!$M:$M,0),3))","v":""},{"$f":"IF(M264=\"\",\"\",INDEX('OTRAS REFERENTES'!$M:$O,MATCH(M264,'OTRAS REFERENTES'!$M:$M,0),2))","v":""},null,null,null,null,null,null,null,null,null,{"$f":"IF(X264=\"\",\"\",INDEX(referentes!$Y:$Z,MATCH(DATOS!X264,referentes!$Z:$Z,0),))","v":""},null,null,null,null,"OA",null,"SO",null,null,"",null,null,null,null,null,null,null,null,null,null,{"$f":"IF(AS264<>\"\",VLOOKUP(AS264,#REF!,2,TRUE),\"\")","v":""},null,{"$f":"IF(AU264<>\"\",VLOOKUP(AU264,#REF!,2,FALSE),\"\")","v":""},null,null,null,{"$f":"IF(AY264<>\"\",VLOOKUP(AY264,#REF!,2,TRUE),\"\")","v":""},null,260,"",null,{"$f":"IF(BD264=\"\",\"\",INDEX(referentes!$J:$K,MATCH(BD264,referentes!$J:$J,0),2))","v":""},null,null,{"$f":"IF(BG264=\"\",\"\",INDEX(referentes!$G:$H,MATCH(BG264,referentes!$G:$G,0),2))","v":""},{"$f":"IF(BD264=\"\",\"\",INDEX(referentes!$J:$P,MATCH(BD264,referentes!$J:$J,0),7))","v":""},""]
["19000100",{"$f":"DIGITADOR!$B$2","v":""},0,{"$f":"IF(E265<>\"\",CONCATENATE($A$2,DIGITADOR!$M$1,O265,AH265),\"\")","v":""},null,null,"","",null,null,null,null,"",{"$f":"IF(M265=\"\",\"\",INDEX('OTRAS REFERENTES'!$M:$O,MATCH(M265,'OTRAS REFERENTES'!$M:$M,0),3))","v":""},{"$f":"IF(M265=\"\",\"\",INDEX('OTRAS REFERENTES'!$M:$O,MATCH(M265,'OTRAS REFERENTES'!$M:$M,0),2))","v":""},null,null,null,null,null,null,null,null,null,{"$f":"IF(X265=\"\",\"\",INDEX(referentes!$Y:$Z,MATCH(DATOS!X265,referentes!$Z:$Z,0),))","v":""},null,null,null,null,"OA",null,"SO",null,null,"",null,null,null,null,null,null,null,null,null,null,{"$f":"IF(AS265<>\"\",VLOOKUP(AS265,#REF!,2,TRUE),\"\")","v":""},null,{"$f":"IF(AU265<>\"\",VLOOKUP(AU265,#REF!,2,FALSE),\"\")","v":""},null,null,null,{"$f":"IF(AY265<>\"\",VLOOKUP(AY265,#REF!,2,TRUE),\"\")","v":""},null,261,"",null,{"$f":"IF(BD265=\"\",\"\",INDEX(referentes!$J:$K,MATCH(BD265,referentes!$J:$J,0),2))","v":""},null,null,{"$f":"IF(BG265=\"\",\"\",INDEX(referentes!$G:$H,MATCH(BG265,referentes!$G:$G,0),2))","v":""},{"$f":"IF(BD265=\"\",\"\",INDEX(referentes!$J:$P,MATCH(BD265,referentes!$J:$J,0),7))","v":""},""]
["19000100",{"$f":"DIGITADOR!$B$2","v":""},0,{"$f":"IF(E266<>\"\",CONCATENATE($A$2,DIGITADOR!$M$1,O266,AH266),\"\")","v":""},null,null,"","",null,null,null,null,"",{"$f":"IF(M266=\"\",\"\",INDEX('OTRAS REFERENTES'!$M:$O,MATCH(M266,'OTRAS REFERENTES'!$M:$M,0),3))","v":""},{"$f":"IF(M266=\"\",\"\",INDEX('OTRAS REFERENTES'!$M:$O,MATCH(M266,'OTRAS REFERENTES'!$M:$M,0),2))","v":""},null,null,null,null,null,null,null,null,null,{"$f":"IF(X266=\"\",\"\",INDEX(referentes!$Y:$Z,MATCH(DATOS!X266,referentes!$Z:$Z,0),))","v":""},null,null,null,null,"OA",null,"SO",null,null,"",null,null,null,null,null,null,null,null,null,null,{"$f":"IF(AS266<>\"\",VLOOKUP(AS266,#REF!,2,TRUE),\"\")","v":""},null,{"$f":"IF(AU266<>\"\",VLOOKUP(AU266,#REF!,2,FALSE),\"\")","v":""},null,null,null,{"$f":"IF(AY266<>\"\",VLOOKUP(AY266,#REF!,2,TRUE),\"\")","v":""},null,262,"",null,{"$f":"IF(BD266=\"\",\"\",INDEX(referentes!$J:$K,MATCH(BD266,referentes!$J:$J,0),2))","v":""},null,null,{"$f":"IF(BG266=\"\",\"\",INDEX(referentes!$G:$H,MATCH(BG266,referentes!$G:$G,0),2))","v":""},{"$f":"IF(BD266=\"\",\"\",INDEX(referentes!$J:$P,MATCH(BD266,referentes!$J:$J,0),7))","v":""},""]
["19000100",{"$f":"DIGITADOR!$B$2","v":""},0,{"$f":"IF(E267<>\"\",CONCATENATE($A$2,DIGITADOR!$M$1,O267,AH267),\"\")","v":""},null,null,"","",null,null,null,null,"",{"$f":"IF(M267=\"\",\"\",INDEX('OTRAS REFERENTES'!$M:$O,MATCH(M267,'OTRAS REFERENTES'!$M:$M,0),3))","v":""},{"$f":"IF(M267=\"\",\"\",INDEX('OTRAS REFERENTES'!$M:$O,MATCH(M267,'OTRAS REFERENTES'!$M:$M,0),2))","v":""},null,null,null,null,null,null,null,null,null,{"$f":"IF(X267=\"\",\"\",INDEX(referentes!$Y:$Z,MATCH(DATOS!X267,referentes!$Z:$Z,0),))","v":""},null,null,null,null,"OA",null,"SO",null,null,"",null,null,null,null,null,null,null,null,null,null,{"$f":"IF(AS267<>\"\",VLOOKUP(AS267,#REF!,2,TRUE),\"\")","v":""},null,{"$f":"IF(AU267<>\"\",VLOOKUP(AU267,#REF!,2,FALSE),\"\")","v":""},null,null,null,{"$f":"IF(AY267<>\"\",VLOOKUP(AY267,#REF!,2,TRUE),\"\")","v":""},null,263,"",null,{"$f":"IF(BD267=\"\",\"\",INDEX(referentes!$J:$K,MATCH(BD267,referentes!$J:$J,0),2))","v":""},null,null,{"$f":"IF(BG267=\"\",\"\",INDEX(referentes!$G:$H,MATCH(BG267,referentes!$G:$G,0),2))","v":""},{"$f":"IF(BD267=\"\",\"\",INDEX(referentes!$J:$P,MATCH(BD267,referentes!$J:$J,0),7))","v":""},""]
["19000100",{"$f":"DIGITADOR!$B$2","v":""},0,{"$f":"IF(E268<>\"\",CONCATENATE($A$2,DIGITADOR!$M$1,O268,AH268),\"\")","v":""},null,null,"","",null,null,null,null,"",{"$f":"IF(M268=\"\",\"\",INDEX('OTRAS REFERENTES'!$M:$O,MATCH(M268,'OTRAS REFERENTES'!$M:$M,0),3))","v":""},{"$f":"IF(M268=\"\",\"\",INDEX('OTRAS REFERENTES'!$M:$O,MATCH(M268,'OTRAS REFERENTES'!$M:$M,0),2))","v":""},null,null,null,null,null,null,null,null,null,{"$f":"IF(X268=\"\",\"\",INDEX(referentes!$Y:$Z,MATCH(DATOS!X268,referentes!$Z:$Z,0),))","v":""},null,null,null,null,"OA",null,"SO",null,null,"",null,null,null,null,null,null,null,null,null,null,{"$f":"IF(AS268<>\"\",VLOOKUP(AS268,#REF!,2,TRUE),\"\")","v":""},null,{"$f":"IF(AU268<>\"\",VLOOKUP(AU268,#REF!,2,FALSE),\"\")","v":""},null,null,null,{"$f":"IF(AY268<>\"\",VLOOKUP(AY268,#REF!,2,TRUE),\"\")","v":""},null,264,"",null,{"$f":"IF(BD268=\"\",\"\",INDEX(referentes!$J:$K,MATCH(BD268,referentes!$J:$J,0),2))","v":""},null,null,{"$f":"IF(BG268=\"\",\"\",INDEX(referentes!$G:$H,MATCH(BG268,referentes!$G:$G,0),2))","v":""},{"$f":"IF(BD268=\"\",\"\",INDEX(referentes!$J:$P,MATCH(BD268,referentes!$J:$J,0),7))","v":""},""]
["19000100",{"$f":"DIGITADOR!$B$2","v":""},0,{"$f":"IF(E269<>\"\",CONCATENATE($A$2,DIGITADOR!$M$1,O269,AH269),\"\")","v":""},null,null,"","",null,null,null,null,"",{"$f":"IF(M269=\"\",\"\",INDEX('OTRAS REFERENTES'!$M:$O,MATCH(M269,'OTRAS REFERENTES'!$M:$M,0),3))","v":""},{"$f":"IF(M269=\"\",\"\",INDEX('OTRAS REFERENTES'!$M:$O,MATCH(M269,'OTRAS REFERENTES'!$M:$M,0),2))","v":""},null,null,null,null,null,null,null,null,null,{"$f":"IF(X269=\"\",\"\",INDEX(referentes!$Y:$Z,MATCH(DATOS!X269,referentes!$Z:$Z,0),))","v":""},null,null,null,null,"OA",null,"SO",null,null,"",null,null,null,null,null,null,null,null,null,null,{"$f":"IF(AS269<>\"\",VLOOKUP(AS269,#REF!,2,TRUE),\"\")","v":""},null,{"$f":"IF(AU269<>\"\",VLOOKUP(AU269,#REF!,2,FALSE),\"\")","v":""},null,null,null,{"$f":"IF(AY269<>\"\",VLOOKUP(AY269,#REF!,2,TRUE),\"\")","v":""},null,265,"",null,{"$f":"IF(BD269=\"\",\"\",INDEX(referentes!$J:$K,MATCH(BD269,referentes!$J:$J,0),2))","v":""},null,null,{"$f":"IF(BG269=\"\",\"\",INDEX(referentes!$G:$H,MATCH(BG269,referentes!$G:$G,0),2))","v":""},{"$f":"IF(BD269=\"\",\"\",INDEX(referentes!$J:$P,MATCH(BD269,referentes!$J:$J,0),7))","v":""},""]
["19000100",{"$f":"DIGITADOR!$B$2","v":""},0,{"$f":"IF(E270<>\"\",CONCATENATE($A$2,DIGITADOR!$M$1,O270,AH270),\"\")","v":""},null,null,"","",null,null,null,null,"",{"$f":"IF(M270=\"\",\"\",INDEX('OTRAS REFERENTES'!$M:$O,MATCH(M270,'OTRAS REFERENTES'!$M:$M,0),3))","v":""},{"$f":"IF(M270=\"\",\"\",INDEX('OTRAS REFERENTES'!$M:$O,MATCH(M270,'OTRAS REFERENTES'!$M:$M,0),2))","v":""},null,null,null,null,null,null,null,null,null,{"$f":"IF(X270=\"\",\"\",INDEX(referentes!$Y:$Z,MATCH(DATOS!X270,referentes!$Z:$Z,0),))","v":""},null,null,null,null,"OA",null,"SO",null,null,"",null,null,null,null,null,null,null,null,null,null,{"$f":"IF(AS270<>\"\",VLOOKUP(AS270,#REF!,2,TRUE),\"\")","v":""},null,{"$f":"IF(AU270<>\"\",VLOOKUP(AU270,#REF!,2,FALSE),\"\")","v":""},null,null,null,{"$f":"IF(AY270<>\"\",VLOOKUP(AY270,#REF!,2,TRUE),\"\")","v":""},null,266,"",null,{"$f":"IF(BD270=\"\",\"\",INDEX(referentes!$J:$K,MATCH(BD270,referentes!$J:$J,0),2))","v":""},null,null,{"$f":"IF(BG270=\"\",\"\",INDEX(referentes!$G:$H,MATCH(BG270,referentes!$G:$G,0),2))","v":""},{"$f":"IF(BD270=\"\",\"\",INDEX(referentes!$J:$P,MATCH(BD270,referentes!$J:$J,0),7))","v":""},""]
["19000100",{"$f":"DIGITADOR!$B$2","v":""},0,{"$f":"IF(E271<>\"\",CONCATENATE($A$2,DIGITADOR!$M$1,O271,AH271),\"\")","v":""},null,null,"","",null,null,null,null,"",{"$f":"IF(M271=\"\",\"\",INDEX('OTRAS REFERENTES'!$M:$O,MATCH(M271,'OTRAS REFERENTES'!$M:$M,0),3))","v":""},{"$f":"IF(M271=\"\",\"\",INDEX('OTRAS REFERENTES'!$M:$O,MATCH(M271,'OTRAS REFERENTES'!$M:$M,0),2))","v":""},null,null,null,null,null,null,null,null,null,{"$f":"IF(X271=\"\",\"\",INDEX(referentes!$Y:$Z,MATCH(DATOS!X271,referentes!$Z:$Z,0),))","v":""},null,null,null,null,"OA",null,"SO",null,null,"",null,null,null,null,null,null,null,null,null,null,{"$f":"IF(AS271<>\"\",VLOOKUP(AS271,#REF!,2,TRUE),\"\")","v":""},null,{"$f":"IF(AU271<>\"\",VLOOKUP(AU271,#REF!,2,FALSE),\"\")","v":""},null,null,null,{"$f":"IF(AY271<>\"\",VLOOKUP(AY271,#REF!,2,TRUE),\"\")","v":""},null,267,"",null,{"$f":"IF(BD271=\"\",\"\",INDEX(referentes!$J:$K,MATCH(BD271,referentes!$J:$J,0),2))","v":""},null,null,{"$f":"IF(BG271=\"\",\"\",INDEX(referentes!$G:$H,MATCH(BG271,referentes!$G:$G,0),2))","v":""},{"$f":"IF(BD271=\"\",\"\",INDEX(referentes!$J:$P,MATCH(BD271,referentes!$J:$J,0),7))","v":""},""]
["19000100",{"$f":"DIGITADOR!$B$2","v":""},0,{"$f":"IF(E272<>\"\",CONCATENATE($A$2,DIGITADOR!$M$1,O272,AH272),\"\")","v":""},null,null,"","",null,null,null,null,"",{"$f":"IF(M272=\"\",\"\",INDEX('OTRAS REFERENTES'!$M:$O,MATCH(M272,'OTRAS REFERENTES'!$M:$M,0),3))","v":""},{"$f":"IF(M272=\"\",\"\",INDEX('OTRAS REFERENTES'!$M:$O,MATCH(M272,'OTRAS REFERENTES'!$M:$M,0),2))","v":""},null,null,null,null,null,null,null,null,null,{"$f":"IF(X272=\"\",\"\",INDEX(referentes!$Y:$Z,MATCH(DATOS!X272,referentes!$Z:$Z,0),))","v":""},null,null,null,null,"OA",null,"SO",null,null,"",null,null,null,null,null,null,null,null,null,null,{"$f":"IF(AS272<>\"\",VLOOKUP(AS272,#REF!,2,TRUE),\"\")","v":""},null,{"$f":"IF(AU272<>\"\",VLOOKUP(AU272,#REF!,2,FALSE),\"\")","v":""},null,null,null,{"$f":"IF(AY272<>\"\",VLOOKUP(AY272,#REF!,2,TRUE),\"\")","v":""},null,268,"",null,{"$f":"IF(BD272=\"\",\"\",INDEX(referentes!$J:$K,MATCH(BD272,referentes!$J:$J,0),2))","v":""},null,null,{"$f":"IF(BG272=\"\",\"\",INDEX(referentes!$G:$H,MATCH(BG272,referentes!$G:$G,0),2))","v":""},{"$f":"IF(BD272=\"\",\"\",INDEX(referentes!$J:$P,MATCH(BD272,referentes!$J:$J,0),7))","v":""},""]
["19000100",{"$f":"DIGITADOR!$B$2","v":""},0,{"$f":"IF(E273<>\"\",CONCATENATE($A$2,DIGITADOR!$M$1,O273,AH273),\"\")","v":""},null,null,"","",null,null,null,null,"",{"$f":"IF(M273=\"\",\"\",INDEX('OTRAS REFERENTES'!$M:$O,MATCH(M273,'OTRAS REFERENTES'!$M:$M,0),3))","v":""},{"$f":"IF(M273=\"\",\"\",INDEX('OTRAS REFERENTES'!$M:$O,MATCH(M273,'OTRAS REFERENTES'!$M:$M,0),2))","v":""},null,null,null,null,null,null,null,null,null,{"$f":"IF(X273=\"\",\"\",INDEX(referentes!$Y:$Z,MATCH(DATOS!X273,referentes!$Z:$Z,0),))","v":""},null,null,null,null,"OA",null,"SO",null,null,"",null,null,null,null,null,null,null,null,null,null,{"$f":"IF(AS273<>\"\",VLOOKUP(AS273,#REF!,2,TRUE),\"\")","v":""},null,{"$f":"IF(AU273<>\"\",VLOOKUP(AU273,#REF!,2,FALSE),\"\")","v":""},null,null,null,{"$f":"IF(AY273<>\"\",VLOOKUP(AY273,#REF!,2,TRUE),\"\")","v":""},null,269,"",null,{"$f":"IF(BD273=\"\",\"\",INDEX(referentes!$J:$K,MATCH(BD273,referentes!$J:$J,0),2))","v":""},null,null,{"$f":"IF(BG273=\"\",\"\",INDEX(referentes!$G:$H,MATCH(BG273,referentes!$G:$G,0),2))","v":""},{"$f":"IF(BD273=\"\",\"\",INDEX(referentes!$J:$P,MATCH(BD273,referentes!$J:$J,0),7))","v":""},""]
["19000100",{"$f":"DIGITADOR!$B$2","v":""},0,{"$f":"IF(E274<>\"\",CONCATENATE($A$2,DIGITADOR!$M$1,O274,AH274),\"\")","v":""},null,null,"","",null,null,null,null,"",{"$f":"IF(M274=\"\",\"\",INDEX('OTRAS REFERENTES'!$M:$O,MATCH(M274,'OTRAS REFERENTES'!$M:$M,0),3))","v":""},{"$f":"IF(M274=\"\",\"\",INDEX('OTRAS REFERENTES'!$M:$O,MATCH(M274,'OTRAS REFERENTES'!$M:$M,0),2))","v":""},null,null,null,null,null,null,null,null,null,{"$f":"IF(X274=\"\",\"\",INDEX(referentes!$Y:$Z,MATCH(DATOS!X274,referentes!$Z:$Z,0),))","v":""},null,null,null,null,"OA",null,"SO",null,null,"",null,null,null,null,null,null,null,null,null,null,{"$f":"IF(AS274<>\"\",VLOOKUP(AS274,#REF!,2,TRUE),\"\")","v":""},null,{"$f":"IF(AU274<>\"\",VLOOKUP(AU274,#REF!,2,FALSE),\"\")","v":""},null,null,null,{"$f":"IF(AY274<>\"\",VLOOKUP(AY274,#REF!,2,TRUE),\"\")","v":""},null,270,"",null,{"$f":"IF(BD274=\"\",\"\",INDEX(referentes!$J:$K,MATCH(BD274,referentes!$J:$J,0),2))","v":""},null,null,{"$f":"IF(BG274=\"\",\"\",INDEX(referentes!$G:$H,MATCH(BG274,referentes!$G:$G,0),2))","v":""},{"$f":"IF(BD274=\"\",\"\",INDEX(referentes!$J:$P,MATCH(BD274,referentes!$J:$J,0),7))","v":""},""]
["19000100",{"$f":"DIGITADOR!$B$2","v":""},0,{"$f":"IF(E275<>\"\",CONCATENATE($A$2,DIGITADOR!$M$1,O275,AH275),\"\")","v":""},null,null,"","",null,null,null,null,"",{"$f":"IF(M275=\"\",\"\",INDEX('OTRAS REFERENTES'!$M:$O,MATCH(M275,'OTRAS REFERENTES'!$M:$M,0),3))","v":""},{"$f":"IF(M275=\"\",\"\",INDEX('OTRAS REFERENTES'!$M:$O,MATCH(M275,'OTRAS REFERENTES'!$M:$M,0),2))","v":""},null,null,null,null,null,null,null,null,null,{"$f":"IF(X275=\"\",\"\",INDEX(referentes!$Y:$Z,MATCH(DATOS!X275,referentes!$Z:$Z,0),))","v":""},null,null,null,null,"OA",null,"SO",null,null,"",null,null,null,null,null,null,null,null,null,null,{"$f":"IF(AS275<>\"\",VLOOKUP(AS275,#REF!,2,TRUE),\"\")","v":""},null,{"$f":"IF(AU275<>\"\",VLOOKUP(AU275,#REF!,2,FALSE),\"\")","v":""},null,null,null,{"$f":"IF(AY275<>\"\",VLOOKUP(AY275,#REF!,2,TRUE),\"\")","v":""},null,271,"",null,{"$f":"IF(BD275=\"\",\"\",INDEX(referentes!$J:$K,MATCH(BD275,referentes!$J:$J,0),2))","v":""},null,null,{"$f":"IF(BG275=\"\",\"\",INDEX(referentes!$G:$H,MATCH(BG275,referentes!$G:$G,0),2))","v":""},{"$f":"IF(BD275=\"\",\"\",INDEX(referentes!$J:$P,MATCH(BD275,referentes!$J:$J,0),7))","v":""},""]
["19000100",{"$f":"DIGITADOR!$B$2","v":""},0,{"$f":"IF(E276<>\"\",CONCATENATE($A$2,DIGITADOR!$M$1,O276,AH276),\"\")","v":""},null,null,"","",null,null,null,null,"",{"$f":"IF(M276=\"\",\"\",INDEX('OTRAS REFERENTES'!$M:$O,MATCH(M276,'OTRAS REFERENTES'!$M:$M,0),3))","v":""},{"$f":"IF(M276=\"\",\"\",INDEX('OTRAS REFERENTES'!$M:$O,MATCH(M276,'OTRAS REFERENTES'!$M:$M,0),2))","v":""},null,null,null,null,null,null,null,null,null,{"$f":"IF(X276=\"\",\"\",INDEX(referentes!$Y:$Z,MATCH(DATOS!X276,referentes!$Z:$Z,0),))","v":""},null,null,null,null,"OA",null,"SO",null,null,"",null,null,null,null,null,null,null,null,null,null,{"$f":"IF(AS276<>\"\",VLOOKUP(AS276,#REF!,2,TRUE),\"\")","v":""},null,{"$f":"IF(AU276<>\"\",VLOOKUP(AU276,#REF!,2,FALSE),\"\")","v":""},null,null,null,{"$f":"IF(AY276<>\"\",VLOOKUP(AY276,#REF!,2,TRUE),\"\")","v":""},null,272,"",null,{"$f":"IF(BD276=\"\",\"\",INDEX(referentes!$J:$K,MATCH(BD276,referentes!$J:$J,0),2))","v":""},null,null,{"$f":"IF(BG276=\"\",\"\",INDEX(referentes!$G:$H,MATCH(BG276,referentes!$G:$G,0),2))","v":""},{"$f":"IF(BD276=\"\",\"\",INDEX(referentes!$J:$P,MATCH(BD276,referentes!$J:$J,0),7))","v":""},""]
["19000100",{"$f":"DIGITADOR!$B$2","v":""},0,{"$f":"IF(E277<>\"\",CONCATENATE($A$2,DIGITADOR!$M$1,O277,AH277),\"\")","v":""},null,null,"","",null,null,null,null,"",{"$f":"IF(M277=\"\",\"\",INDEX('OTRAS REFERENTES'!$M:$O,MATCH(M277,'OTRAS REFERENTES'!$M:$M,0),3))","v":""},{"$f":"IF(M277=\"\",\"\",INDEX('OTRAS REFERENTES'!$M:$O,MATCH(M277,'OTRAS REFERENTES'!$M:$M,0),2))","v":""},null,null,null,null,null,null,null,null,null,{"$f":"IF(X277=\"\",\"\",INDEX(referentes!$Y:$Z,MATCH(DATOS!X277,referentes!$Z:$Z,0),))","v":""},null,null,null,null,"OA",null,"SO",null,null,"",null,null,null,null,null,null,null,null,null,null,{"$f":"IF(AS277<>\"\",VLOOKUP(AS277,#REF!,2,TRUE),\"\")","v":""},null,{"$f":"IF(AU277<>\"\",VLOOKUP(AU277,#REF!,2,FALSE),\"\")","v":""},null,null,null,{"$f":"IF(AY277<>\"\",VLOOKUP(AY277,#REF!,2,TRUE),\"\")","v":""},null,273,"",null,{"$f":"IF(BD277=\"\",\"\",INDEX(referentes!$J:$K,MATCH(BD277,referentes!$J:$J,0),2))","v":""},null,null,{"$f":"IF(BG277=\"\",\"\",INDEX(referentes!$G:$H,MATCH(BG277,referentes!$G:$G,0),2))","v":""},{"$f":"IF(BD277=\"\",\"\",INDEX(referentes!$J:$P,MATCH(BD277,referentes!$J:$J,0),7))","v":""},""]
["19000100",{"$f":"DIGITADOR!$B$2","v":""},0,{"$f":"IF(E278<>\"\",CONCATENATE($A$2,DIGITADOR!$M$1,O278,AH278),\"\")","v":""},null,null,"","",null,null,null,null,"",{"$f":"IF(M278=\"\",\"\",INDEX('OTRAS REFERENTES'!$M:$O,MATCH(M278,'OTRAS REFERENTES'!$M:$M,0),3))","v":""},{"$f":"IF(M278=\"\",\"\",INDEX('OTRAS REFERENTES'!$M:$O,MATCH(M278,'OTRAS REFERENTES'!$M:$M,0),2))","v":""},null,null,null,null,null,null,null,null,null,{"$f":"IF(X278=\"\",\"\",INDEX(referentes!$Y:$Z,MATCH(DATOS!X278,referentes!$Z:$Z,0),))","v":""},null,null,null,null,"OA",null,"SO",null,null,"",null,null,null,null,null,null,null,null,null,null,{"$f":"IF(AS278<>\"\",VLOOKUP(AS278,#REF!,2,TRUE),\"\")","v":""},null,{"$f":"IF(AU278<>\"\",VLOOKUP(AU278,#REF!,2,FALSE),\"\")","v":""},null,null,null,{"$f":"IF(AY278<>\"\",VLOOKUP(AY278,#REF!,2,TRUE),\"\")","v":""},null,274,"",null,{"$f":"IF(BD278=\"\",\"\",INDEX(referentes!$J:$K,MATCH(BD278,referentes!$J:$J,0),2))","v":""},null,null,{"$f":"IF(BG278=\"\",\"\",INDEX(referentes!$G:$H,MATCH(BG278,referentes!$G:$G,0),2))","v":""},{"$f":"IF(BD278=\"\",\"\",INDEX(referentes!$J:$P,MATCH(BD278,referentes!$J:$J,0),7))","v":""},""]
["19000100",{"$f":"DIGITADOR!$B$2","v":""},0,{"$f":"IF(E279<>\"\",CONCATENATE($A$2,DIGITADOR!$M$1,O279,AH279),\"\")","v":""},null,null,"","",null,null,null,null,"",{"$f":"IF(M279=\"\",\"\",INDEX('OTRAS REFERENTES'!$M:$O,MATCH(M279,'OTRAS REFERENTES'!$M:$M,0),3))","v":""},{"$f":"IF(M279=\"\",\"\",INDEX('OTRAS REFERENTES'!$M:$O,MATCH(M279,'OTRAS REFERENTES'!$M:$M,0),2))","v":""},null,null,null,null,null,null,null,null,null,{"$f":"IF(X279=\"\",\"\",INDEX(referentes!$Y:$Z,MATCH(DATOS!X279,referentes!$Z:$Z,0),))","v":""},null,null,null,null,"OA",null,"SO",null,null,"",null,null,null,null,null,null,null,null,null,null,{"$f":"IF(AS279<>\"\",VLOOKUP(AS279,#REF!,2,TRUE),\"\")","v":""},null,{"$f":"IF(AU279<>\"\",VLOOKUP(AU279,#REF!,2,FALSE),\"\")","v":""},null,null,null,{"$f":"IF(AY279<>\"\",VLOOKUP(AY279,#REF!,2,TRUE),\"\")","v":""},null,275,"",null,{"$f":"IF(BD279=\"\",\"\",INDEX(referentes!$J:$K,MATCH(BD279,referentes!$J:$J,0),2))","v":""},null,null,{"$f":"IF(BG279=\"\",\"\",INDEX(referentes!$G:$H,MATCH(BG279,referentes!$G:$G,0),2))","v":""},{"$f":"IF(BD279=\"\",\"\",INDEX(referentes!$J:$P,MATCH(BD279,referentes!$J:$J,0),7))","v":""},""]
["19000100",{"$f":"DIGITADOR!$B$2","v":""},0,{"$f":"IF(E280<>\"\",CONCATENATE($A$2,DIGITADOR!$M$1,O280,AH280),\"\")","v":""},null,null,"","",null,null,null,null,"",{"$f":"IF(M280=\"\",\"\",INDEX('OTRAS REFERENTES'!$M:$O,MATCH(M280,'OTRAS REFERENTES'!$M:$M,0),3))","v":""},{"$f":"IF(M280=\"\",\"\",INDEX('OTRAS REFERENTES'!$M:$O,MATCH(M280,'OTRAS REFERENTES'!$M:$M,0),2))","v":""},null,null,null,null,null,null,null,null,null,{"$f":"IF(X280=\"\",\"\",INDEX(referentes!$Y:$Z,MATCH(DATOS!X280,referentes!$Z:$Z,0),))","v":""},null,null,null,null,"OA",null,"SO",null,null,"",null,null,null,null,null,null,null,null,null,null,{"$f":"IF(AS280<>\"\",VLOOKUP(AS280,#REF!,2,TRUE),\"\")","v":""},null,{"$f":"IF(AU280<>\"\",VLOOKUP(AU280,#REF!,2,FALSE),\"\")","v":""},null,null,null,{"$f":"IF(AY280<>\"\",VLOOKUP(AY280,#REF!,2,TRUE),\"\")","v":""},null,276,"",null,{"$f":"IF(BD280=\"\",\"\",INDEX(referentes!$J:$K,MATCH(BD280,referentes!$J:$J,0),2))","v":""},null,null,{"$f":"IF(BG280=\"\",\"\",INDEX(referentes!$G:$H,MATCH(BG280,referentes!$G:$G,0),2))","v":""},{"$f":"IF(BD280=\"\",\"\",INDEX(referentes!$J:$P,MATCH(BD280,referentes!$J:$J,0),7))","v":""},""]
["19000100",{"$f":"DIGITADOR!$B$2","v":""},0,{"$f":"IF(E281<>\"\",CONCATENATE($A$2,DIGITADOR!$M$1,O281,AH281),\"\")","v":""},null,null,"","",null,null,null,null,"",{"$f":"IF(M281=\"\",\"\",INDEX('OTRAS REFERENTES'!$M:$O,MATCH(M281,'OTRAS REFERENTES'!$M:$M,0),3))","v":""},{"$f":"IF(M281=\"\",\"\",INDEX('OTRAS REFERENTES'!$M:$O,MATCH(M281,'OTRAS REFERENTES'!$M:$M,0),2))","v":""},null,null,null,null,null,null,null,null,null,{"$f":"IF(X281=\"\",\"\",INDEX(referentes!$Y:$Z,MATCH(DATOS!X281,referentes!$Z:$Z,0),))","v":""},null,null,null,null,"OA",null,"SO",null,null,"",null,null,null,null,null,null,null,null,null,null,{"$f":"IF(AS281<>\"\",VLOOKUP(AS281,#REF!,2,TRUE),\"\")","v":""},null,{"$f":"IF(AU281<>\"\",VLOOKUP(AU281,#REF!,2,FALSE),\"\")","v":""},null,null,null,{"$f":"IF(AY281<>\"\",VLOOKUP(AY281,#REF!,2,TRUE),\"\")","v":""},null,277,"",null,{"$f":"IF(BD281=\"\",\"\",INDEX(referentes!$J:$K,MATCH(BD281,referentes!$J:$J,0),2))","v":""},null,null,{"$f":"IF(BG281=\"\",\"\",INDEX(referentes!$G:$H,MATCH(BG281,referentes!$G:$G,0),2))","v":""},{"$f":"IF(BD281=\"\",\"\",INDEX(referentes!$J:$P,MATCH(BD281,referentes!$J:$J,0),7))","v":""},""]
["19000100",{"$f":"DIGITADOR!$B$2","v":""},0,{"$f":"IF(E282<>\"\",CONCATENATE($A$2,DIGITADOR!$M$1,O282,AH282),\"\")","v":""},null,null,"","",null,null,null,null,"",{"$f":"IF(M282=\"\",\"\",INDEX('OTRAS REFERENTES'!$M:$O,MATCH(M282,'OTRAS REFERENTES'!$M:$M,0),3))","v":""},{"$f":"IF(M282=\"\",\"\",INDEX('OTRAS REFERENTES'!$M:$O,MATCH(M282,'OTRAS REFERENTES'!$M:$M,0),2))","v":""},null,null,null,null,null,null,null,null,null,{"$f":"IF(X282=\"\",\"\",INDEX(referentes!$Y:$Z,MATCH(DATOS!X282,referentes!$Z:$Z,0),))","v":""},null,null,null,null,"OA",null,"SO",null,null,"",null,null,null,null,null,null,null,null,null,null,{"$f":"IF(AS282<>\"\",VLOOKUP(AS282,#REF!,2,TRUE),\"\")","v":""},null,{"$f":"IF(AU282<>\"\",VLOOKUP(AU282,#REF!,2,FALSE),\"\")","v":""},null,null,null,{"$f":"IF(AY282<>\"\",VLOOKUP(AY282,#REF!,2,TRUE),\"\")","v":""},null,278,"",null,{"$f":"IF(BD282=\"\",\"\",INDEX(referentes!$J:$K,MATCH(BD282,referentes!$J:$J,0),2))","v":""},null,null,{"$f":"IF(BG282=\"\",\"\",INDEX(referentes!$G:$H,MATCH(BG282,referentes!$G:$G,0),2))","v":""},{"$f":"IF(BD282=\"\",\"\",INDEX(referentes!$J:$P,MATCH(BD282,referentes!$J:$J,0),7))","v":""},""]
["19000100",{"$f":"DIGITADOR!$B$2","v":""},0,{"$f":"IF(E283<>\"\",CONCATENATE($A$2,DIGITADOR!$M$1,O283,AH283),\"\")","v":""},null,null,"","",null,null,null,null,"",{"$f":"IF(M283=\"\",\"\",INDEX('OTRAS REFERENTES'!$M:$O,MATCH(M283,'OTRAS REFERENTES'!$M:$M,0),3))","v":""},{"$f":"IF(M283=\"\",\"\",INDEX('OTRAS REFERENTES'!$M:$O,MATCH(M283,'OTRAS REFERENTES'!$M:$M,0),2))","v":""},null,null,null,null,null,null,null,null,null,{"$f":"IF(X283=\"\",\"\",INDEX(referentes!$Y:$Z,MATCH(DATOS!X283,referentes!$Z:$Z,0),))","v":""},null,null,null,null,"OA",null,"SO",null,null,"",null,null,null,null,null,null,null,null,null,null,{"$f":"IF(AS283<>\"\",VLOOKUP(AS283,#REF!,2,TRUE),\"\")","v":""},null,{"$f":"IF(AU283<>\"\",VLOOKUP(AU283,#REF!,2,FALSE),\"\")","v":""},null,null,null,{"$f":"IF(AY283<>\"\",VLOOKUP(AY283,#REF!,2,TRUE),\"\")","v":""},null,279,"",null,{"$f":"IF(BD283=\"\",\"\",INDEX(referentes!$J:$K,MATCH(BD283,referentes!$J:$J,0),2))","v":""},null,null,{"$f":"IF(BG283=\"\",\"\",INDEX(referentes!$G:$H,MATCH(BG283,referentes!$G:$G,0),2))","v":""},{"$f":"IF(BD283=\"\",\"\",INDEX(referentes!$J:$P,MATCH(BD283,referentes!$J:$J,0),7))","v":""},""]
["19000100",{"$f":"DIGITADOR!$B$2","v":""},0,{"$f":"IF(E284<>\"\",CONCATENATE($A$2,DIGITADOR!$M$1,O284,AH284),\"\")","v":""},null,null,"","",null,null,null,null,"",{"$f":"IF(M284=\"\",\"\",INDEX('OTRAS REFERENTES'!$M:$O,MATCH(M284,'OTRAS REFERENTES'!$M:$M,0),3))","v":""},{"$f":"IF(M284=\"\",\"\",INDEX('OTRAS REFERENTES'!$M:$O,MATCH(M284,'OTRAS REFERENTES'!$M:$M,0),2))","v":""},null,null,null,null,null,null,null,null,null,{"$f":"IF(X284=\"\",\"\",INDEX(referentes!$Y:$Z,MATCH(DATOS!X284,referentes!$Z:$Z,0),))","v":""},null,null,null,null,"OA",null,"SO",null,null,"",null,null,null,null,null,null,null,null,null,null,{"$f":"IF(AS284<>\"\",VLOOKUP(AS284,#REF!,2,TRUE),\"\")","v":""},null,{"$f":"IF(AU284<>\"\",VLOOKUP(AU284,#REF!,2,FALSE),\"\")","v":""},null,null,null,{"$f":"IF(AY284<>\"\",VLOOKUP(AY284,#REF!,2,TRUE),\"\")","v":""},null,280,"",null,{"$f":"IF(BD284=\"\",\"\",INDEX(referentes!$J:$K,MATCH(BD284,referentes!$J:$J,0),2))","v":""},null,null,{"$f":"IF(BG284=\"\",\"\",INDEX(referentes!$G:$H,MATCH(BG284,referentes!$G:$G,0),2))","v":""},{"$f":"IF(BD284=\"\",\"\",INDEX(referentes!$J:$P,MATCH(BD284,referentes!$J:$J,0),7))","v":""},""]
["19000100",{"$f":"DIGITADOR!$B$2","v":""},0,{"$f":"IF(E285<>\"\",CONCATENATE($A$2,DIGITADOR!$M$1,O285,AH285),\"\")","v":""},null,null,"","",null,null,null,null,"",{"$f":"IF(M285=\"\",\"\",INDEX('OTRAS REFERENTES'!$M:$O,MATCH(M285,'OTRAS REFERENTES'!$M:$M,0),3))","v":""},{"$f":"IF(M285=\"\",\"\",INDEX('OTRAS REFERENTES'!$M:$O,MATCH(M285,'OTRAS REFERENTES'!$M:$M,0),2))","v":""},null,null,null,null,null,null,null,null,null,{"$f":"IF(X285=\"\",\"\",INDEX(referentes!$Y:$Z,MATCH(DATOS!X285,referentes!$Z:$Z,0),))","v":""},null,null,null,null,"OA",null,"SO",null,null,"",null,null,null,null,null,null,null,null,null,null,{"$f":"IF(AS285<>\"\",VLOOKUP(AS285,#REF!,2,TRUE),\"\")","v":""},null,{"$f":"IF(AU285<>\"\",VLOOKUP(AU285,#REF!,2,FALSE),\"\")","v":""},null,null,null,{"$f":"IF(AY285<>\"\",VLOOKUP(AY285,#REF!,2,TRUE),\"\")","v":""},null,281,"",null,{"$f":"IF(BD285=\"\",\"\",INDEX(referentes!$J:$K,MATCH(BD285,referentes!$J:$J,0),2))","v":""},null,null,{"$f":"IF(BG285=\"\",\"\",INDEX(referentes!$G:$H,MATCH(BG285,referentes!$G:$G,0),2))","v":""},{"$f":"IF(BD285=\"\",\"\",INDEX(referentes!$J:$P,MATCH(BD285,referentes!$J:$J,0),7))","v":""},""]
["19000100",{"$f":"DIGITADOR!$B$2","v":""},0,{"$f":"IF(E286<>\"\",CONCATENATE($A$2,DIGITADOR!$M$1,O286,AH286),\"\")","v":""},null,null,"","",null,null,null,null,"",{"$f":"IF(M286=\"\",\"\",INDEX('OTRAS REFERENTES'!$M:$O,MATCH(M286,'OTRAS REFERENTES'!$M:$M,0),3))","v":""},{"$f":"IF(M286=\"\",\"\",INDEX('OTRAS REFERENTES'!$M:$O,MATCH(M286,'OTRAS REFERENTES'!$M:$M,0),2))","v":""},null,null,null,null,null,null,null,null,null,{"$f":"IF(X286=\"\",\"\",INDEX(referentes!$Y:$Z,MATCH(DATOS!X286,referentes!$Z:$Z,0),))","v":""},null,null,null,null,"OA",null,"SO",null,null,"",null,null,null,null,null,null,null,null,null,null,{"$f":"IF(AS286<>\"\",VLOOKUP(AS286,#REF!,2,TRUE),\"\")","v":""},null,{"$f":"IF(AU286<>\"\",VLOOKUP(AU286,#REF!,2,FALSE),\"\")","v":""},null,null,null,{"$f":"IF(AY286<>\"\",VLOOKUP(AY286,#REF!,2,TRUE),\"\")","v":""},null,282,"",null,{"$f":"IF(BD286=\"\",\"\",INDEX(referentes!$J:$K,MATCH(BD286,referentes!$J:$J,0),2))","v":""},null,null,{"$f":"IF(BG286=\"\",\"\",INDEX(referentes!$G:$H,MATCH(BG286,referentes!$G:$G,0),2))","v":""},{"$f":"IF(BD286=\"\",\"\",INDEX(referentes!$J:$P,MATCH(BD286,referentes!$J:$J,0),7))","v":""},""]
["19000100",{"$f":"DIGITADOR!$B$2","v":""},0,{"$f":"IF(E287<>\"\",CONCATENATE($A$2,DIGITADOR!$M$1,O287,AH287),\"\")","v":""},null,null,"","",null,null,null,null,"",{"$f":"IF(M287=\"\",\"\",INDEX('OTRAS REFERENTES'!$M:$O,MATCH(M287,'OTRAS REFERENTES'!$M:$M,0),3))","v":""},{"$f":"IF(M287=\"\",\"\",INDEX('OTRAS REFERENTES'!$M:$O,MATCH(M287,'OTRAS REFERENTES'!$M:$M,0),2))","v":""},null,null,null,null,null,null,null,null,null,{"$f":"IF(X287=\"\",\"\",INDEX(referentes!$Y:$Z,MATCH(DATOS!X287,referentes!$Z:$Z,0),))","v":""},null,null,null,null,"OA",null,"SO",null,null,"",null,null,null,null,null,null,null,null,null,null,{"$f":"IF(AS287<>\"\",VLOOKUP(AS287,#REF!,2,TRUE),\"\")","v":""},null,{"$f":"IF(AU287<>\"\",VLOOKUP(AU287,#REF!,2,FALSE),\"\")","v":""},null,null,null,{"$f":"IF(AY287<>\"\",VLOOKUP(AY287,#REF!,2,TRUE),\"\")","v":""},null,283,"",null,{"$f":"IF(BD287=\"\",\"\",INDEX(referentes!$J:$K,MATCH(BD287,referentes!$J:$J,0),2))","v":""},null,null,{"$f":"IF(BG287=\"\",\"\",INDEX(referentes!$G:$H,MATCH(BG287,referentes!$G:$G,0),2))","v":""},{"$f":"IF(BD287=\"\",\"\",INDEX(referentes!$J:$P,MATCH(BD287,referentes!$J:$J,0),7))","v":""},""]
["19000100",{"$f":"DIGITADOR!$B$2","v":""},0,{"$f":"IF(E288<>\"\",CONCATENATE($A$2,DIGITADOR!$M$1,O288,AH288),\"\")","v":""},null,null,"","",null,null,null,null,"",{"$f":"IF(M288=\"\",\"\",INDEX('OTRAS REFERENTES'!$M:$O,MATCH(M288,'OTRAS REFERENTES'!$M:$M,0),3))","v":""},{"$f":"IF(M288=\"\",\"\",INDEX('OTRAS REFERENTES'!$M:$O,MATCH(M288,'OTRAS REFERENTES'!$M:$M,0),2))","v":""},null,null,null,null,null,null,null,null,null,{"$f":"IF(X288=\"\",\"\",INDEX(referentes!$Y:$Z,MATCH(DATOS!X288,referentes!$Z:$Z,0),))","v":""},null,null,null,null,"OA",null,"SO",null,null,"",null,null,null,null,null,null,null,null,null,null,{"$f":"IF(AS288<>\"\",VLOOKUP(AS288,#REF!,2,TRUE),\"\")","v":""},null,{"$f":"IF(AU288<>\"\",VLOOKUP(AU288,#REF!,2,FALSE),\"\")","v":""},null,null,null,{"$f":"IF(AY288<>\"\",VLOOKUP(AY288,#REF!,2,TRUE),\"\")","v":""},null,284,"",null,{"$f":"IF(BD288=\"\",\"\",INDEX(referentes!$J:$K,MATCH(BD288,referentes!$J:$J,0),2))","v":""},null,null,{"$f":"IF(BG288=\"\",\"\",INDEX(referentes!$G:$H,MATCH(BG288,referentes!$G:$G,0),2))","v":""},{"$f":"IF(BD288=\"\",\"\",INDEX(referentes!$J:$P,MATCH(BD288,referentes!$J:$J,0),7))","v":""},""]
["19000100",{"$f":"DIGITADOR!$B$2","v":""},0,{"$f":"IF(E289<>\"\",CONCATENATE($A$2,DIGITADOR!$M$1,O289,AH289),\"\")","v":""},null,null,"","",null,null,null,null,"",{"$f":"IF(M289=\"\",\"\",INDEX('OTRAS REFERENTES'!$M:$O,MATCH(M289,'OTRAS REFERENTES'!$M:$M,0),3))","v":""},{"$f":"IF(M289=\"\",\"\",INDEX('OTRAS REFERENTES'!$M:$O,MATCH(M289,'OTRAS REFERENTES'!$M:$M,0),2))","v":""},null,null,null,null,null,null,null,null,null,{"$f":"IF(X289=\"\",\"\",INDEX(referentes!$Y:$Z,MATCH(DATOS!X289,referentes!$Z:$Z,0),))","v":""},null,null,null,null,"OA",null,"SO",null,null,"",null,null,null,null,null,null,null,null,null,null,{"$f":"IF(AS289<>\"\",VLOOKUP(AS289,#REF!,2,TRUE),\"\")","v":""},null,{"$f":"IF(AU289<>\"\",VLOOKUP(AU289,#REF!,2,FALSE),\"\")","v":""},null,null,null,{"$f":"IF(AY289<>\"\",VLOOKUP(AY289,#REF!,2,TRUE),\"\")","v":""},null,285,"",null,{"$f":"IF(BD289=\"\",\"\",INDEX(referentes!$J:$K,MATCH(BD289,referentes!$J:$J,0),2))","v":""},null,null,{"$f":"IF(BG289=\"\",\"\",INDEX(referentes!$G:$H,MATCH(BG289,referentes!$G:$G,0),2))","v":""},{"$f":"IF(BD289=\"\",\"\",INDEX(referentes!$J:$P,MATCH(BD289,referentes!$J:$J,0),7))","v":""},""]
["19000100",{"$f":"DIGITADOR!$B$2","v":""},0,{"$f":"IF(E290<>\"\",CONCATENATE($A$2,DIGITADOR!$M$1,O290,AH290),\"\")","v":""},null,null,"","",null,null,null,null,"",{"$f":"IF(M290=\"\",\"\",INDEX('OTRAS REFERENTES'!$M:$O,MATCH(M290,'OTRAS REFERENTES'!$M:$M,0),3))","v":""},{"$f":"IF(M290=\"\",\"\",INDEX('OTRAS REFERENTES'!$M:$O,MATCH(M290,'OTRAS REFERENTES'!$M:$M,0),2))","v":""},null,null,null,null,null,null,null,null,null,{"$f":"IF(X290=\"\",\"\",INDEX(referentes!$Y:$Z,MATCH(DATOS!X290,referentes!$Z:$Z,0),))","v":""},null,null,null,null,"OA",null,"SO",null,null,"",null,null,null,null,null,null,null,null,null,null,{"$f":"IF(AS290<>\"\",VLOOKUP(AS290,#REF!,2,TRUE),\"\")","v":""},null,{"$f":"IF(AU290<>\"\",VLOOKUP(AU290,#REF!,2,FALSE),\"\")","v":""},null,null,null,{"$f":"IF(AY290<>\"\",VLOOKUP(AY290,#REF!,2,TRUE),\"\")","v":""},null,286,"",null,{"$f":"IF(BD290=\"\",\"\",INDEX(referentes!$J:$K,MATCH(BD290,referentes!$J:$J,0),2))","v":""},null,null,{"$f":"IF(BG290=\"\",\"\",INDEX(referentes!$G:$H,MATCH(BG290,referentes!$G:$G,0),2))","v":""},{"$f":"IF(BD290=\"\",\"\",INDEX(referentes!$J:$P,MATCH(BD290,referentes!$J:$J,0),7))","v":""},""]
["19000100",{"$f":"DIGITADOR!$B$2","v":""},0,{"$f":"IF(E291<>\"\",CONCATENATE($A$2,DIGITADOR!$M$1,O291,AH291),\"\")","v":""},null,null,"","",null,null,null,null,"",{"$f":"IF(M291=\"\",\"\",INDEX('OTRAS REFERENTES'!$M:$O,MATCH(M291,'OTRAS REFERENTES'!$M:$M,0),3))","v":""},{"$f":"IF(M291=\"\",\"\",INDEX('OTRAS REFERENTES'!$M:$O,MATCH(M291,'OTRAS REFERENTES'!$M:$M,0),2))","v":""},null,null,null,null,null,null,null,null,null,{"$f":"IF(X291=\"\",\"\",INDEX(referentes!$Y:$Z,MATCH(DATOS!X291,referentes!$Z:$Z,0),))","v":""},null,null,null,null,"OA",null,"SO",null,null,"",null,null,null,null,null,null,null,null,null,null,{"$f":"IF(AS291<>\"\",VLOOKUP(AS291,#REF!,2,TRUE),\"\")","v":""},null,{"$f":"IF(AU291<>\"\",VLOOKUP(AU291,#REF!,2,FALSE),\"\")","v":""},null,null,null,{"$f":"IF(AY291<>\"\",VLOOKUP(AY291,#REF!,2,TRUE),\"\")","v":""},null,287,"",null,{"$f":"IF(BD291=\"\",\"\",INDEX(referentes!$J:$K,MATCH(BD291,referentes!$J:$J,0),2))","v":""},null,null,{"$f":"IF(BG291=\"\",\"\",INDEX(referentes!$G:$H,MATCH(BG291,referentes!$G:$G,0),2))","v":""},{"$f":"IF(BD291=\"\",\"\",INDEX(referentes!$J:$P,MATCH(BD291,referentes!$J:$J,0),7))","v":""},""]
["19000100",{"$f":"DIGITADOR!$B$2","v":""},0,{"$f":"IF(E292<>\"\",CONCATENATE($A$2,DIGITADOR!$M$1,O292,AH292),\"\")","v":""},null,null,"","",null,null,null,null,"",{"$f":"IF(M292=\"\",\"\",INDEX('OTRAS REFERENTES'!$M:$O,MATCH(M292,'OTRAS REFERENTES'!$M:$M,0),3))","v":""},{"$f":"IF(M292=\"\",\"\",INDEX('OTRAS REFERENTES'!$M:$O,MATCH(M292,'OTRAS REFERENTES'!$M:$M,0),2))","v":""},null,null,null,null,null,null,null,null,null,{"$f":"IF(X292=\"\",\"\",INDEX(referentes!$Y:$Z,MATCH(DATOS!X292,referentes!$Z:$Z,0),))","v":""},null,null,null,null,"OA",null,"SO",null,null,"",null,null,null,null,null,null,null,null,null,null,{"$f":"IF(AS292<>\"\",VLOOKUP(AS292,#REF!,2,TRUE),\"\")","v":""},null,{"$f":"IF(AU292<>\"\",VLOOKUP(AU292,#REF!,2,FALSE),\"\")","v":""},null,null,null,{"$f":"IF(AY292<>\"\",VLOOKUP(AY292,#REF!,2,TRUE),\"\")","v":""},null,288,"",null,{"$f":"IF(BD292=\"\",\"\",INDEX(referentes!$J:$K,MATCH(BD292,referentes!$J:$J,0),2))","v":""},null,null,{"$f":"IF(BG292=\"\",\"\",INDEX(referentes!$G:$H,MATCH(BG292,referentes!$G:$G,0),2))","v":""},{"$f":"IF(BD292=\"\",\"\",INDEX(referentes!$J:$P,MATCH(BD292,referentes!$J:$J,0),7))","v":""},""]
["19000100",{"$f":"DIGITADOR!$B$2","v":""},0,{"$f":"IF(E293<>\"\",CONCATENATE($A$2,DIGITADOR!$M$1,O293,AH293),\"\")","v":""},null,null,"","",null,null,null,null,"",{"$f":"IF(M293=\"\",\"\",INDEX('OTRAS REFERENTES'!$M:$O,MATCH(M293,'OTRAS REFERENTES'!$M:$M,0),3))","v":""},{"$f":"IF(M293=\"\",\"\",INDEX('OTRAS REFERENTES'!$M:$O,MATCH(M293,'OTRAS REFERENTES'!$M:$M,0),2))","v":""},null,null,null,null,null,null,null,null,null,{"$f":"IF(X293=\"\",\"\",INDEX(referentes!$Y:$Z,MATCH(DATOS!X293,referentes!$Z:$Z,0),))","v":""},null,null,null,null,"OA",null,"SO",null,null,"",null,null,null,null,null,null,null,null,null,null,{"$f":"IF(AS293<>\"\",VLOOKUP(AS293,#REF!,2,TRUE),\"\")","v":""},null,{"$f":"IF(AU293<>\"\",VLOOKUP(AU293,#REF!,2,FALSE),\"\")","v":""},null,null,null,{"$f":"IF(AY293<>\"\",VLOOKUP(AY293,#REF!,2,TRUE),\"\")","v":""},null,289,"",null,{"$f":"IF(BD293=\"\",\"\",INDEX(referentes!$J:$K,MATCH(BD293,referentes!$J:$J,0),2))","v":""},null,null,{"$f":"IF(BG293=\"\",\"\",INDEX(referentes!$G:$H,MATCH(BG293,referentes!$G:$G,0),2))","v":""},{"$f":"IF(BD293=\"\",\"\",INDEX(referentes!$J:$P,MATCH(BD293,referentes!$J:$J,0),7))","v":""},""]
["19000100",{"$f":"DIGITADOR!$B$2","v":""},0,{"$f":"IF(E294<>\"\",CONCATENATE($A$2,DIGITADOR!$M$1,O294,AH294),\"\")","v":""},null,null,"","",null,null,null,null,"",{"$f":"IF(M294=\"\",\"\",INDEX('OTRAS REFERENTES'!$M:$O,MATCH(M294,'OTRAS REFERENTES'!$M:$M,0),3))","v":""},{"$f":"IF(M294=\"\",\"\",INDEX('OTRAS REFERENTES'!$M:$O,MATCH(M294,'OTRAS REFERENTES'!$M:$M,0),2))","v":""},null,null,null,null,null,null,null,null,null,{"$f":"IF(X294=\"\",\"\",INDEX(referentes!$Y:$Z,MATCH(DATOS!X294,referentes!$Z:$Z,0),))","v":""},null,null,null,null,"OA",null,"SO",null,null,"",null,null,null,null,null,null,null,null,null,null,{"$f":"IF(AS294<>\"\",VLOOKUP(AS294,#REF!,2,TRUE),\"\")","v":""},null,{"$f":"IF(AU294<>\"\",VLOOKUP(AU294,#REF!,2,FALSE),\"\")","v":""},null,null,null,{"$f":"IF(AY294<>\"\",VLOOKUP(AY294,#REF!,2,TRUE),\"\")","v":""},null,290,"",null,{"$f":"IF(BD294=\"\",\"\",INDEX(referentes!$J:$K,MATCH(BD294,referentes!$J:$J,0),2))","v":""},null,null,{"$f":"IF(BG294=\"\",\"\",INDEX(referentes!$G:$H,MATCH(BG294,referentes!$G:$G,0),2))","v":""},{"$f":"IF(BD294=\"\",\"\",INDEX(referentes!$J:$P,MATCH(BD294,referentes!$J:$J,0),7))","v":""},""]
["19000100",{"$f":"DIGITADOR!$B$2","v":""},0,{"$f":"IF(E295<>\"\",CONCATENATE($A$2,DIGITADOR!$M$1,O295,AH295),\"\")","v":""},null,null,"","",null,null,null,null,"",{"$f":"IF(M295=\"\",\"\",INDEX('OTRAS REFERENTES'!$M:$O,MATCH(M295,'OTRAS REFERENTES'!$M:$M,0),3))","v":""},{"$f":"IF(M295=\"\",\"\",INDEX('OTRAS REFERENTES'!$M:$O,MATCH(M295,'OTRAS REFERENTES'!$M:$M,0),2))","v":""},null,null,null,null,null,null,null,null,null,{"$f":"IF(X295=\"\",\"\",INDEX(referentes!$Y:$Z,MATCH(DATOS!X295,referentes!$Z:$Z,0),))","v":""},null,null,null,null,"OA",null,"SO",null,null,"",null,null,null,null,null,null,null,null,null,null,{"$f":"IF(AS295<>\"\",VLOOKUP(AS295,#REF!,2,TRUE),\"\")","v":""},null,{"$f":"IF(AU295<>\"\",VLOOKUP(AU295,#REF!,2,FALSE),\"\")","v":""},null,null,null,{"$f":"IF(AY295<>\"\",VLOOKUP(AY295,#REF!,2,TRUE),\"\")","v":""},null,291,"",null,{"$f":"IF(BD295=\"\",\"\",INDEX(referentes!$J:$K,MATCH(BD295,referentes!$J:$J,0),2))","v":""},null,null,{"$f":"IF(BG295=\"\",\"\",INDEX(referentes!$G:$H,MATCH(BG295,referentes!$G:$G,0),2))","v":""},{"$f":"IF(BD295=\"\",\"\",INDEX(referentes!$J:$P,MATCH(BD295,referentes!$J:$J,0),7))","v":""},""]
["19000100",{"$f":"DIGITADOR!$B$2","v":""},0,{"$f":"IF(E296<>\"\",CONCATENATE($A$2,DIGITADOR!$M$1,O296,AH296),\"\")","v":""},null,null,"","",null,null,null,null,"",{"$f":"IF(M296=\"\",\"\",INDEX('OTRAS REFERENTES'!$M:$O,MATCH(M296,'OTRAS REFERENTES'!$M:$M,0),3))","v":""},{"$f":"IF(M296=\"\",\"\",INDEX('OTRAS REFERENTES'!$M:$O,MATCH(M296,'OTRAS REFERENTES'!$M:$M,0),2))","v":""},null,null,null,null,null,null,null,null,null,{"$f":"IF(X296=\"\",\"\",INDEX(referentes!$Y:$Z,MATCH(DATOS!X296,referentes!$Z:$Z,0),))","v":""},null,null,null,null,"OA",null,"SO",null,null,"",null,null,null,null,null,null,null,null,null,null,{"$f":"IF(AS296<>\"\",VLOOKUP(AS296,#REF!,2,TRUE),\"\")","v":""},null,{"$f":"IF(AU296<>\"\",VLOOKUP(AU296,#REF!,2,FALSE),\"\")","v":""},null,null,null,{"$f":"IF(AY296<>\"\",VLOOKUP(AY296,#REF!,2,TRUE),\"\")","v":""},null,292,"",null,{"$f":"IF(BD296=\"\",\"\",INDEX(referentes!$J:$K,MATCH(BD296,referentes!$J:$J,0),2))","v":""},null,null,{"$f":"IF(BG296=\"\",\"\",INDEX(referentes!$G:$H,MATCH(BG296,referentes!$G:$G,0),2))","v":""},{"$f":"IF(BD296=\"\",\"\",INDEX(referentes!$J:$P,MATCH(BD296,referentes!$J:$J,0),7))","v":""},""]
["19000100",{"$f":"DIGITADOR!$B$2","v":""},{"$f":"IF(Z297=Z296,C296,C296+1)","v":0},{"$f":"IF(E297<>\"\",CONCATENATE($A$2,DIGITADOR!$M$1,O297,AH297),\"\")","v":""},null,null,"","",null,null,null,null,"",{"$f":"IF(M297=\"\",\"\",INDEX('OTRAS REFERENTES'!$M:$O,MATCH(M297,'OTRAS REFERENTES'!$M:$M,0),3))","v":""},{"$f":"IF(M297=\"\",\"\",INDEX('OTRAS REFERENTES'!$M:$O,MATCH(M297,'OTRAS REFERENTES'!$M:$M,0),2))","v":""},null,null,null,null,null,null,null,null,null,{"$f":"IF(X297=\"\",\"\",INDEX(referentes!$Y:$Z,MATCH(DATOS!X297,referentes!$Z:$Z,0),))","v":""},null,null,null,null,"OA",null,"SO",null,null,"",null,null,null,null,null,null,null,null,null,null,{"$f":"IF(AS297<>\"\",VLOOKUP(AS297,#REF!,2,TRUE),\"\")","v":""},null,{"$f":"IF(AU297<>\"\",VLOOKUP(AU297,#REF!,2,FALSE),\"\")","v":""},null,null,null,{"$f":"IF(AY297<>\"\",VLOOKUP(AY297,#REF!,2,TRUE),\"\")","v":""},null,293,"",null,{"$f":"IF(BD297=\"\",\"\",INDEX(referentes!$J:$K,MATCH(BD297,referentes!$J:$J,0),2))","v":""},null,null,{"$f":"IF(BG297=\"\",\"\",INDEX(referentes!$G:$H,MATCH(BG297,referentes!$G:$G,0),2))","v":""},{"$f":"IF(BD297=\"\",\"\",INDEX(referentes!$J:$P,MATCH(BD297,referentes!$J:$J,0),7))","v":""},""]
["19000100",{"$f":"DIGITADOR!$B$2","v":""},0,{"$f":"IF(E298<>\"\",CONCATENATE($A$2,DIGITADOR!$M$1,O298,AH298),\"\")","v":""},null,null,"","",null,null,null,null,"",{"$f":"IF(M298=\"\",\"\",INDEX('OTRAS REFERENTES'!$M:$O,MATCH(M298,'OTRAS REFERENTES'!$M:$M,0),3))","v":""},{"$f":"IF(M298=\"\",\"\",INDEX('OTRAS REFERENTES'!$M:$O,MATCH(M298,'OTRAS REFERENTES'!$M:$M,0),2))","v":""},null,null,null,null,null,null,null,null,null,{"$f":"IF(X298=\"\",\"\",INDEX(referentes!$Y:$Z,MATCH(DATOS!X298,referentes!$Z:$Z,0),))","v":""},null,null,null,null,"OA",null,"SO",null,null,"",null,null,null,null,null,null,null,null,null,null,{"$f":"IF(AS298<>\"\",VLOOKUP(AS298,#REF!,2,TRUE),\"\")","v":""},null,{"$f":"IF(AU298<>\"\",VLOOKUP(AU298,#REF!,2,FALSE),\"\")","v":""},null,null,null,{"$f":"IF(AY298<>\"\",VLOOKUP(AY298,#REF!,2,TRUE),\"\")","v":""},null,294,"",null,{"$f":"IF(BD298=\"\",\"\",INDEX(referentes!$J:$K,MATCH(BD298,referentes!$J:$J,0),2))","v":""},null,null,{"$f":"IF(BG298=\"\",\"\",INDEX(referentes!$G:$H,MATCH(BG298,referentes!$G:$G,0),2))","v":""},{"$f":"IF(BD298=\"\",\"\",INDEX(referentes!$J:$P,MATCH(BD298,referentes!$J:$J,0),7))","v":""},""]
["19000100",{"$f":"DIGITADOR!$B$2","v":""},0,{"$f":"IF(E299<>\"\",CONCATENATE($A$2,DIGITADOR!$M$1,O299,AH299),\"\")","v":""},null,null,"","",null,null,null,null,"",{"$f":"IF(M299=\"\",\"\",INDEX('OTRAS REFERENTES'!$M:$O,MATCH(M299,'OTRAS REFERENTES'!$M:$M,0),3))","v":""},{"$f":"IF(M299=\"\",\"\",INDEX('OTRAS REFERENTES'!$M:$O,MATCH(M299,'OTRAS REFERENTES'!$M:$M,0),2))","v":""},null,null,null,null,null,null,null,null,null,{"$f":"IF(X299=\"\",\"\",INDEX(referentes!$Y:$Z,MATCH(DATOS!X299,referentes!$Z:$Z,0),))","v":""},null,null,null,null,"OA",null,"SO",null,null,"",null,null,null,null,null,null,null,null,null,null,{"$f":"IF(AS299<>\"\",VLOOKUP(AS299,#REF!,2,TRUE),\"\")","v":""},null,{"$f":"IF(AU299<>\"\",VLOOKUP(AU299,#REF!,2,FALSE),\"\")","v":""},null,null,null,{"$f":"IF(AY299<>\"\",VLOOKUP(AY299,#REF!,2,TRUE),\"\")","v":""},null,295,"",null,{"$f":"IF(BD299=\"\",\"\",INDEX(referentes!$J:$K,MATCH(BD299,referentes!$J:$J,0),2))","v":""},null,null,{"$f":"IF(BG299=\"\",\"\",INDEX(referentes!$G:$H,MATCH(BG299,referentes!$G:$G,0),2))","v":""},{"$f":"IF(BD299=\"\",\"\",INDEX(referentes!$J:$P,MATCH(BD299,referentes!$J:$J,0),7))","v":""},""]
["19000100",{"$f":"DIGITADOR!$B$2","v":""},0,{"$f":"IF(E300<>\"\",CONCATENATE($A$2,DIGITADOR!$M$1,O300,AH300),\"\")","v":""},null,null,"","",null,null,null,null,"",{"$f":"IF(M300=\"\",\"\",INDEX('OTRAS REFERENTES'!$M:$O,MATCH(M300,'OTRAS REFERENTES'!$M:$M,0),3))","v":""},{"$f":"IF(M300=\"\",\"\",INDEX('OTRAS REFERENTES'!$M:$O,MATCH(M300,'OTRAS REFERENTES'!$M:$M,0),2))","v":""},null,null,null,null,null,null,null,null,null,{"$f":"IF(X300=\"\",\"\",INDEX(referentes!$Y:$Z,MATCH(DATOS!X300,referentes!$Z:$Z,0),))","v":""},null,null,null,null,"OA",null,"SO",null,null,"",null,null,null,null,null,null,null,null,null,null,{"$f":"IF(AS300<>\"\",VLOOKUP(AS300,#REF!,2,TRUE),\"\")","v":""},null,{"$f":"IF(AU300<>\"\",VLOOKUP(AU300,#REF!,2,FALSE),\"\")","v":""},null,null,null,{"$f":"IF(AY300<>\"\",VLOOKUP(AY300,#REF!,2,TRUE),\"\")","v":""},null,296,"",null,{"$f":"IF(BD300=\"\",\"\",INDEX(referentes!$J:$K,MATCH(BD300,referentes!$J:$J,0),2))","v":""},null,null,{"$f":"IF(BG300=\"\",\"\",INDEX(referentes!$G:$H,MATCH(BG300,referentes!$G:$G,0),2))","v":""},{"$f":"IF(BD300=\"\",\"\",INDEX(referentes!$J:$P,MATCH(BD300,referentes!$J:$J,0),7))","v":""},""]
["19000100",{"$f":"DIGITADOR!$B$2","v":""},0,{"$f":"IF(E301<>\"\",CONCATENATE($A$2,DIGITADOR!$M$1,O301,AH301),\"\")","v":""},null,null,"","",null,null,null,null,"",{"$f":"IF(M301=\"\",\"\",INDEX('OTRAS REFERENTES'!$M:$O,MATCH(M301,'OTRAS REFERENTES'!$M:$M,0),3))","v":""},{"$f":"IF(M301=\"\",\"\",INDEX('OTRAS REFERENTES'!$M:$O,MATCH(M301,'OTRAS REFERENTES'!$M:$M,0),2))","v":""},null,null,null,null,null,null,null,null,null,{"$f":"IF(X301=\"\",\"\",INDEX(referentes!$Y:$Z,MATCH(DATOS!X301,referentes!$Z:$Z,0),))","v":""},null,null,null,null,"OA",null,"SO",null,null,"",null,null,null,null,null,null,null,null,null,null,{"$f":"IF(AS301<>\"\",VLOOKUP(AS301,#REF!,2,TRUE),\"\")","v":""},null,{"$f":"IF(AU301<>\"\",VLOOKUP(AU301,#REF!,2,FALSE),\"\")","v":""},null,null,null,{"$f":"IF(AY301<>\"\",VLOOKUP(AY301,#REF!,2,TRUE),\"\")","v":""},null,297,"",null,{"$f":"IF(BD301=\"\",\"\",INDEX(referentes!$J:$K,MATCH(BD301,referentes!$J:$J,0),2))","v":""},null,null,{"$f":"IF(BG301=\"\",\"\",INDEX(referentes!$G:$H,MATCH(BG301,referentes!$G:$G,0),2))","v":""},{"$f":"IF(BD301=\"\",\"\",INDEX(referentes!$J:$P,MATCH(BD301,referentes!$J:$J,0),7))","v":""},""]
["19000100",{"$f":"DIGITADOR!$B$2","v":""},0,{"$f":"IF(E302<>\"\",CONCATENATE($A$2,DIGITADOR!$M$1,O302,AH302),\"\")","v":""},null,null,"","",null,null,null,null,"",{"$f":"IF(M302=\"\",\"\",INDEX('OTRAS REFERENTES'!$M:$O,MATCH(M302,'OTRAS REFERENTES'!$M:$M,0),3))","v":""},{"$f":"IF(M302=\"\",\"\",INDEX('OTRAS REFERENTES'!$M:$O,MATCH(M302,'OTRAS REFERENTES'!$M:$M,0),2))","v":""},null,null,null,null,null,null,null,null,null,{"$f":"IF(X302=\"\",\"\",INDEX(referentes!$Y:$Z,MATCH(DATOS!X302,referentes!$Z:$Z,0),))","v":""},null,null,null,null,"OA",null,"SO",null,null,"",null,null,null,null,null,null,null,null,null,null,{"$f":"IF(AS302<>\"\",VLOOKUP(AS302,#REF!,2,TRUE),\"\")","v":""},null,{"$f":"IF(AU302<>\"\",VLOOKUP(AU302,#REF!,2,FALSE),\"\")","v":""},null,null,null,{"$f":"IF(AY302<>\"\",VLOOKUP(AY302,#REF!,2,TRUE),\"\")","v":""},null,298,"",null,{"$f":"IF(BD302=\"\",\"\",INDEX(referentes!$J:$K,MATCH(BD302,referentes!$J:$J,0),2))","v":""},null,null,{"$f":"IF(BG302=\"\",\"\",INDEX(referentes!$G:$H,MATCH(BG302,referentes!$G:$G,0),2))","v":""},{"$f":"IF(BD302=\"\",\"\",INDEX(referentes!$J:$P,MATCH(BD302,referentes!$J:$J,0),7))","v":""},""]
["19000100",{"$f":"DIGITADOR!$B$2","v":""},0,{"$f":"IF(E303<>\"\",CONCATENATE($A$2,DIGITADOR!$M$1,O303,AH303),\"\")","v":""},null,null,"","",null,null,null,null,"",{"$f":"IF(M303=\"\",\"\",INDEX('OTRAS REFERENTES'!$M:$O,MATCH(M303,'OTRAS REFERENTES'!$M:$M,0),3))","v":""},{"$f":"IF(M303=\"\",\"\",INDEX('OTRAS REFERENTES'!$M:$O,MATCH(M303,'OTRAS REFERENTES'!$M:$M,0),2))","v":""},null,null,null,null,null,null,null,null,null,{"$f":"IF(X303=\"\",\"\",INDEX(referentes!$Y:$Z,MATCH(DATOS!X303,referentes!$Z:$Z,0),))","v":""},null,null,null,null,"OA",null,"SO",null,null,"",null,null,null,null,null,null,null,null,null,null,{"$f":"IF(AS303<>\"\",VLOOKUP(AS303,#REF!,2,TRUE),\"\")","v":""},null,{"$f":"IF(AU303<>\"\",VLOOKUP(AU303,#REF!,2,FALSE),\"\")","v":""},null,null,null,{"$f":"IF(AY303<>\"\",VLOOKUP(AY303,#REF!,2,TRUE),\"\")","v":""},null,299,"",null,{"$f":"IF(BD303=\"\",\"\",INDEX(referentes!$J:$K,MATCH(BD303,referentes!$J:$J,0),2))","v":""},null,null,{"$f":"IF(BG303=\"\",\"\",INDEX(referentes!$G:$H,MATCH(BG303,referentes!$G:$G,0),2))","v":""},{"$f":"IF(BD303=\"\",\"\",INDEX(referentes!$J:$P,MATCH(BD303,referentes!$J:$J,0),7))","v":""},""]
["19000100",{"$f":"DIGITADOR!$B$2","v":""},0,{"$f":"IF(E304<>\"\",CONCATENATE($A$2,DIGITADOR!$M$1,O304,AH304),\"\")","v":""},null,null,"","",null,null,null,null,"",{"$f":"IF(M304=\"\",\"\",INDEX('OTRAS REFERENTES'!$M:$O,MATCH(M304,'OTRAS REFERENTES'!$M:$M,0),3))","v":""},{"$f":"IF(M304=\"\",\"\",INDEX('OTRAS REFERENTES'!$M:$O,MATCH(M304,'OTRAS REFERENTES'!$M:$M,0),2))","v":""},null,null,null,null,null,null,null,null,null,{"$f":"IF(X304=\"\",\"\",INDEX(referentes!$Y:$Z,MATCH(DATOS!X304,referentes!$Z:$Z,0),))","v":""},null,null,null,null,"OA",null,"SO",null,null,"",null,null,null,null,null,null,null,null,null,null,{"$f":"IF(AS304<>\"\",VLOOKUP(AS304,#REF!,2,TRUE),\"\")","v":""},null,{"$f":"IF(AU304<>\"\",VLOOKUP(AU304,#REF!,2,FALSE),\"\")","v":""},null,null,null,{"$f":"IF(AY304<>\"\",VLOOKUP(AY304,#REF!,2,TRUE),\"\")","v":""},null,300,"",null,{"$f":"IF(BD304=\"\",\"\",INDEX(referentes!$J:$K,MATCH(BD304,referentes!$J:$J,0),2))","v":""},null,null,{"$f":"IF(BG304=\"\",\"\",INDEX(referentes!$G:$H,MATCH(BG304,referentes!$G:$G,0),2))","v":""},{"$f":"IF(BD304=\"\",\"\",INDEX(referentes!$J:$P,MATCH(BD304,referentes!$J:$J,0),7))","v":""},""]
["19000100",{"$f":"DIGITADOR!$B$2","v":""},0,{"$f":"IF(E305<>\"\",CONCATENATE($A$2,DIGITADOR!$M$1,O305,AH305),\"\")","v":""},null,null,"","",null,null,null,null,"",{"$f":"IF(M305=\"\",\"\",INDEX('OTRAS REFERENTES'!$M:$O,MATCH(M305,'OTRAS REFERENTES'!$M:$M,0),3))","v":""},{"$f":"IF(M305=\"\",\"\",INDEX('OTRAS REFERENTES'!$M:$O,MATCH(M305,'OTRAS REFERENTES'!$M:$M,0),2))","v":""},null,null,null,null,null,null,null,null,null,{"$f":"IF(X305=\"\",\"\",INDEX(referentes!$Y:$Z,MATCH(DATOS!X305,referentes!$Z:$Z,0),))","v":""},null,null,null,null,"OA",null,"SO",null,null,"",null,null,null,null,null,null,null,null,null,null,{"$f":"IF(AS305<>\"\",VLOOKUP(AS305,#REF!,2,TRUE),\"\")","v":""},null,{"$f":"IF(AU305<>\"\",VLOOKUP(AU305,#REF!,2,FALSE),\"\")","v":""},null,null,null,{"$f":"IF(AY305<>\"\",VLOOKUP(AY305,#REF!,2,TRUE),\"\")","v":""},null,301,"",null,{"$f":"IF(BD305=\"\",\"\",INDEX(referentes!$J:$K,MATCH(BD305,referentes!$J:$J,0),2))","v":""},null,null,{"$f":"IF(BG305=\"\",\"\",INDEX(referentes!$G:$H,MATCH(BG305,referentes!$G:$G,0),2))","v":""},{"$f":"IF(BD305=\"\",\"\",INDEX(referentes!$J:$P,MATCH(BD305,referentes!$J:$J,0),7))","v":""},""]
["19000100",{"$f":"DIGITADOR!$B$2","v":""},0,{"$f":"IF(E306<>\"\",CONCATENATE($A$2,DIGITADOR!$M$1,O306,AH306),\"\")","v":""},null,null,"","",null,null,null,null,"",{"$f":"IF(M306=\"\",\"\",INDEX('OTRAS REFERENTES'!$M:$O,MATCH(M306,'OTRAS REFERENTES'!$M:$M,0),3))","v":""},{"$f":"IF(M306=\"\",\"\",INDEX('OTRAS REFERENTES'!$M:$O,MATCH(M306,'OTRAS REFERENTES'!$M:$M,0),2))","v":""},null,null,null,null,null,null,null,null,null,{"$f":"IF(X306=\"\",\"\",INDEX(referentes!$Y:$Z,MATCH(DATOS!X306,referentes!$Z:$Z,0),))","v":""},null,null,null,null,"OA",null,"SO",null,null,"",null,null,null,null,null,null,null,null,null,null,{"$f":"IF(AS306<>\"\",VLOOKUP(AS306,#REF!,2,TRUE),\"\")","v":""},null,{"$f":"IF(AU306<>\"\",VLOOKUP(AU306,#REF!,2,FALSE),\"\")","v":""},null,null,null,{"$f":"IF(AY306<>\"\",VLOOKUP(AY306,#REF!,2,TRUE),\"\")","v":""},null,302,"",null,{"$f":"IF(BD306=\"\",\"\",INDEX(referentes!$J:$K,MATCH(BD306,referentes!$J:$J,0),2))","v":""},null,null,{"$f":"IF(BG306=\"\",\"\",INDEX(referentes!$G:$H,MATCH(BG306,referentes!$G:$G,0),2))","v":""},{"$f":"IF(BD306=\"\",\"\",INDEX(referentes!$J:$P,MATCH(BD306,referentes!$J:$J,0),7))","v":""},""]
["19000100",{"$f":"DIGITADOR!$B$2","v":""},0,{"$f":"IF(E307<>\"\",CONCATENATE($A$2,DIGITADOR!$M$1,O307,AH307),\"\")","v":""},null,null,"","",null,null,null,null,"",{"$f":"IF(M307=\"\",\"\",INDEX('OTRAS REFERENTES'!$M:$O,MATCH(M307,'OTRAS REFERENTES'!$M:$M,0),3))","v":""},{"$f":"IF(M307=\"\",\"\",INDEX('OTRAS REFERENTES'!$M:$O,MATCH(M307,'OTRAS REFERENTES'!$M:$M,0),2))","v":""},null,null,null,null,null,null,null,null,null,{"$f":"IF(X307=\"\",\"\",INDEX(referentes!$Y:$Z,MATCH(DATOS!X307,referentes!$Z:$Z,0),))","v":""},null,null,null,null,"OA",null,"SO",null,null,"",null,null,null,null,null,null,null,null,null,null,{"$f":"IF(AS307<>\"\",VLOOKUP(AS307,#REF!,2,TRUE),\"\")","v":""},null,{"$f":"IF(AU307<>\"\",VLOOKUP(AU307,#REF!,2,FALSE),\"\")","v":""},null,null,null,{"$f":"IF(AY307<>\"\",VLOOKUP(AY307,#REF!,2,TRUE),\"\")","v":""},null,303,"",null,{"$f":"IF(BD307=\"\",\"\",INDEX(referentes!$J:$K,MATCH(BD307,referentes!$J:$J,0),2))","v":""},null,null,{"$f":"IF(BG307=\"\",\"\",INDEX(referentes!$G:$H,MATCH(BG307,referentes!$G:$G,0),2))","v":""},{"$f":"IF(BD307=\"\",\"\",INDEX(referentes!$J:$P,MATCH(BD307,referentes!$J:$J,0),7))","v":""},""]
["19000100",{"$f":"DIGITADOR!$B$2","v":""},0,{"$f":"IF(E308<>\"\",CONCATENATE($A$2,DIGITADOR!$M$1,O308,AH308),\"\")","v":""},null,null,"","",null,null,null,null,"",{"$f":"IF(M308=\"\",\"\",INDEX('OTRAS REFERENTES'!$M:$O,MATCH(M308,'OTRAS REFERENTES'!$M:$M,0),3))","v":""},{"$f":"IF(M308=\"\",\"\",INDEX('OTRAS REFERENTES'!$M:$O,MATCH(M308,'OTRAS REFERENTES'!$M:$M,0),2))","v":""},null,null,null,null,null,null,null,null,null,{"$f":"IF(X308=\"\",\"\",INDEX(referentes!$Y:$Z,MATCH(DATOS!X308,referentes!$Z:$Z,0),))","v":""},null,null,null,null,"OA",null,"SO",null,null,"",null,null,null,null,null,null,null,null,null,null,{"$f":"IF(AS308<>\"\",VLOOKUP(AS308,#REF!,2,TRUE),\"\")","v":""},null,{"$f":"IF(AU308<>\"\",VLOOKUP(AU308,#REF!,2,FALSE),\"\")","v":""},null,null,null,{"$f":"IF(AY308<>\"\",VLOOKUP(AY308,#REF!,2,TRUE),\"\")","v":""},null,304,"",null,{"$f":"IF(BD308=\"\",\"\",INDEX(referentes!$J:$K,MATCH(BD308,referentes!$J:$J,0),2))","v":""},null,null,{"$f":"IF(BG308=\"\",\"\",INDEX(referentes!$G:$H,MATCH(BG308,referentes!$G:$G,0),2))","v":""},{"$f":"IF(BD308=\"\",\"\",INDEX(referentes!$J:$P,MATCH(BD308,referentes!$J:$J,0),7))","v":""},""]
["19000100",{"$f":"DIGITADOR!$B$2","v":""},0,{"$f":"IF(E309<>\"\",CONCATENATE($A$2,DIGITADOR!$M$1,O309,AH309),\"\")","v":""},null,null,"","",null,null,null,null,"",{"$f":"IF(M309=\"\",\"\",INDEX('OTRAS REFERENTES'!$M:$O,MATCH(M309,'OTRAS REFERENTES'!$M:$M,0),3))","v":""},{"$f":"IF(M309=\"\",\"\",INDEX('OTRAS REFERENTES'!$M:$O,MATCH(M309,'OTRAS REFERENTES'!$M:$M,0),2))","v":""},null,null,null,null,null,null,null,null,null,{"$f":"IF(X309=\"\",\"\",INDEX(referentes!$Y:$Z,MATCH(DATOS!X309,referentes!$Z:$Z,0),))","v":""},null,null,null,null,"OA",null,"SO",null,null,"",null,null,null,null,null,null,null,null,null,null,{"$f":"IF(AS309<>\"\",VLOOKUP(AS309,#REF!,2,TRUE),\"\")","v":""},null,{"$f":"IF(AU309<>\"\",VLOOKUP(AU309,#REF!,2,FALSE),\"\")","v":""},null,null,null,{"$f":"IF(AY309<>\"\",VLOOKUP(AY309,#REF!,2,TRUE),\"\")","v":""},null,305,"",null,{"$f":"IF(BD309=\"\",\"\",INDEX(referentes!$J:$K,MATCH(BD309,referentes!$J:$J,0),2))","v":""},null,null,{"$f":"IF(BG309=\"\",\"\",INDEX(referentes!$G:$H,MATCH(BG309,referentes!$G:$G,0),2))","v":""},{"$f":"IF(BD309=\"\",\"\",INDEX(referentes!$J:$P,MATCH(BD309,referentes!$J:$J,0),7))","v":""},""]
["19000100",{"$f":"DIGITADOR!$B$2","v":""},0,{"$f":"IF(E310<>\"\",CONCATENATE($A$2,DIGITADOR!$M$1,O310,AH310),\"\")","v":""},null,null,"","",null,null,null,null,"",{"$f":"IF(M310=\"\",\"\",INDEX('OTRAS REFERENTES'!$M:$O,MATCH(M310,'OTRAS REFERENTES'!$M:$M,0),3))","v":""},{"$f":"IF(M310=\"\",\"\",INDEX('OTRAS REFERENTES'!$M:$O,MATCH(M310,'OTRAS REFERENTES'!$M:$M,0),2))","v":""},null,null,null,null,null,null,null,null,null,{"$f":"IF(X310=\"\",\"\",INDEX(referentes!$Y:$Z,MATCH(DATOS!X310,referentes!$Z:$Z,0),))","v":""},null,null,null,null,"OA",null,"SO",null,null,"",null,null,null,null,null,null,null,null,null,null,{"$f":"IF(AS310<>\"\",VLOOKUP(AS310,#REF!,2,TRUE),\"\")","v":""},null,{"$f":"IF(AU310<>\"\",VLOOKUP(AU310,#REF!,2,FALSE),\"\")","v":""},null,null,null,{"$f":"IF(AY310<>\"\",VLOOKUP(AY310,#REF!,2,TRUE),\"\")","v":""},null,306,"",null,{"$f":"IF(BD310=\"\",\"\",INDEX(referentes!$J:$K,MATCH(BD310,referentes!$J:$J,0),2))","v":""},null,null,{"$f":"IF(BG310=\"\",\"\",INDEX(referentes!$G:$H,MATCH(BG310,referentes!$G:$G,0),2))","v":""},{"$f":"IF(BD310=\"\",\"\",INDEX(referentes!$J:$P,MATCH(BD310,referentes!$J:$J,0),7))","v":""},""]
["19000100",{"$f":"DIGITADOR!$B$2","v":""},0,{"$f":"IF(E311<>\"\",CONCATENATE($A$2,DIGITADOR!$M$1,O311,AH311),\"\")","v":""},null,null,"","",null,null,null,null,"",{"$f":"IF(M311=\"\",\"\",INDEX('OTRAS REFERENTES'!$M:$O,MATCH(M311,'OTRAS REFERENTES'!$M:$M,0),3))","v":""},{"$f":"IF(M311=\"\",\"\",INDEX('OTRAS REFERENTES'!$M:$O,MATCH(M311,'OTRAS REFERENTES'!$M:$M,0),2))","v":""},null,null,null,null,null,null,null,null,null,{"$f":"IF(X311=\"\",\"\",INDEX(referentes!$Y:$Z,MATCH(DATOS!X311,referentes!$Z:$Z,0),))","v":""},null,null,null,null,"OA",null,"SO",null,null,"",null,null,null,null,null,null,null,null,null,null,{"$f":"IF(AS311<>\"\",VLOOKUP(AS311,#REF!,2,TRUE),\"\")","v":""},null,{"$f":"IF(AU311<>\"\",VLOOKUP(AU311,#REF!,2,FALSE),\"\")","v":""},null,null,null,{"$f":"IF(AY311<>\"\",VLOOKUP(AY311,#REF!,2,TRUE),\"\")","v":""},null,307,"",null,{"$f":"IF(BD311=\"\",\"\",INDEX(referentes!$J:$K,MATCH(BD311,referentes!$J:$J,0),2))","v":""},null,null,{"$f":"IF(BG311=\"\",\"\",INDEX(referentes!$G:$H,MATCH(BG311,referentes!$G:$G,0),2))","v":""},{"$f":"IF(BD311=\"\",\"\",INDEX(referentes!$J:$P,MATCH(BD311,referentes!$J:$J,0),7))","v":""},""]
["19000100",{"$f":"DIGITADOR!$B$2","v":""},0,{"$f":"IF(E312<>\"\",CONCATENATE($A$2,DIGITADOR!$M$1,O312,AH312),\"\")","v":""},null,null,"","",null,null,null,null,"",{"$f":"IF(M312=\"\",\"\",INDEX('OTRAS REFERENTES'!$M:$O,MATCH(M312,'OTRAS REFERENTES'!$M:$M,0),3))","v":""},{"$f":"IF(M312=\"\",\"\",INDEX('OTRAS REFERENTES'!$M:$O,MATCH(M312,'OTRAS REFERENTES'!$M:$M,0),2))","v":""},null,null,null,null,null,null,null,null,null,{"$f":"IF(X312=\"\",\"\",INDEX(referentes!$Y:$Z,MATCH(DATOS!X312,referentes!$Z:$Z,0),))","v":""},null,null,null,null,"OA",null,"SO",null,null,"",null,null,null,null,null,null,null,null,null,null,{"$f":"IF(AS312<>\"\",VLOOKUP(AS312,#REF!,2,TRUE),\"\")","v":""},null,{"$f":"IF(AU312<>\"\",VLOOKUP(AU312,#REF!,2,FALSE),\"\")","v":""},null,null,null,{"$f":"IF(AY312<>\"\",VLOOKUP(AY312,#REF!,2,TRUE),\"\")","v":""},null,308,"",null,{"$f":"IF(BD312=\"\",\"\",INDEX(referentes!$J:$K,MATCH(BD312,referentes!$J:$J,0),2))","v":""},null,null,{"$f":"IF(BG312=\"\",\"\",INDEX(referentes!$G:$H,MATCH(BG312,referentes!$G:$G,0),2))","v":""},{"$f":"IF(BD312=\"\",\"\",INDEX(referentes!$J:$P,MATCH(BD312,referentes!$J:$J,0),7))","v":""},""]
["19000100",{"$f":"DIGITADOR!$B$2","v":""},0,{"$f":"IF(E313<>\"\",CONCATENATE($A$2,DIGITADOR!$M$1,O313,AH313),\"\")","v":""},null,null,"","",null,null,null,null,"",{"$f":"IF(M313=\"\",\"\",INDEX('OTRAS REFERENTES'!$M:$O,MATCH(M313,'OTRAS REFERENTES'!$M:$M,0),3))","v":""},{"$f":"IF(M313=\"\",\"\",INDEX('OTRAS REFERENTES'!$M:$O,MATCH(M313,'OTRAS REFERENTES'!$M:$M,0),2))","v":""},null,null,null,null,null,null,null,null,null,{"$f":"IF(X313=\"\",\"\",INDEX(referentes!$Y:$Z,MATCH(DATOS!X313,referentes!$Z:$Z,0),))","v":""},null,null,null,null,"OA",null,"SO",null,null,"",null,null,null,null,null,null,null,null,null,null,{"$f":"IF(AS313<>\"\",VLOOKUP(AS313,#REF!,2,TRUE),\"\")","v":""},null,{"$f":"IF(AU313<>\"\",VLOOKUP(AU313,#REF!,2,FALSE),\"\")","v":""},null,null,null,{"$f":"IF(AY313<>\"\",VLOOKUP(AY313,#REF!,2,TRUE),\"\")","v":""},null,309,"",null,{"$f":"IF(BD313=\"\",\"\",INDEX(referentes!$J:$K,MATCH(BD313,referentes!$J:$J,0),2))","v":""},null,null,{"$f":"IF(BG313=\"\",\"\",INDEX(referentes!$G:$H,MATCH(BG313,referentes!$G:$G,0),2))","v":""},{"$f":"IF(BD313=\"\",\"\",INDEX(referentes!$J:$P,MATCH(BD313,referentes!$J:$J,0),7))","v":""},""]
["19000100",{"$f":"DIGITADOR!$B$2","v":""},0,{"$f":"IF(E314<>\"\",CONCATENATE($A$2,DIGITADOR!$M$1,O314,AH314),\"\")","v":""},null,null,"","",null,null,null,null,"",{"$f":"IF(M314=\"\",\"\",INDEX('OTRAS REFERENTES'!$M:$O,MATCH(M314,'OTRAS REFERENTES'!$M:$M,0),3))","v":""},{"$f":"IF(M314=\"\",\"\",INDEX('OTRAS REFERENTES'!$M:$O,MATCH(M314,'OTRAS REFERENTES'!$M:$M,0),2))","v":""},null,null,null,null,null,null,null,null,null,{"$f":"IF(X314=\"\",\"\",INDEX(referentes!$Y:$Z,MATCH(DATOS!X314,referentes!$Z:$Z,0),))","v":""},null,null,null,null,"OA",null,"SO",null,null,"",null,null,null,null,null,null,null,null,null,null,{"$f":"IF(AS314<>\"\",VLOOKUP(AS314,#REF!,2,TRUE),\"\")","v":""},null,{"$f":"IF(AU314<>\"\",VLOOKUP(AU314,#REF!,2,FALSE),\"\")","v":""},null,null,null,{"$f":"IF(AY314<>\"\",VLOOKUP(AY314,#REF!,2,TRUE),\"\")","v":""},null,310,"",null,{"$f":"IF(BD314=\"\",\"\",INDEX(referentes!$J:$K,MATCH(BD314,referentes!$J:$J,0),2))","v":""},null,null,{"$f":"IF(BG314=\"\",\"\",INDEX(referentes!$G:$H,MATCH(BG314,referentes!$G:$G,0),2))","v":""},{"$f":"IF(BD314=\"\",\"\",INDEX(referentes!$J:$P,MATCH(BD314,referentes!$J:$J,0),7))","v":""},""]
["19000100",{"$f":"DIGITADOR!$B$2","v":""},0,{"$f":"IF(E315<>\"\",CONCATENATE($A$2,DIGITADOR!$M$1,O315,AH315),\"\")","v":""},null,null,"","",null,null,null,null,"",{"$f":"IF(M315=\"\",\"\",INDEX('OTRAS REFERENTES'!$M:$O,MATCH(M315,'OTRAS REFERENTES'!$M:$M,0),3))","v":""},{"$f":"IF(M315=\"\",\"\",INDEX('OTRAS REFERENTES'!$M:$O,MATCH(M315,'OTRAS REFERENTES'!$M:$M,0),2))","v":""},null,null,null,null,null,null,null,null,null,{"$f":"IF(X315=\"\",\"\",INDEX(referentes!$Y:$Z,MATCH(DATOS!X315,referentes!$Z:$Z,0),))","v":""},null,null,null,null,"OA",null,"SO",null,null,"",null,null,null,null,null,null,null,null,null,null,{"$f":"IF(AS315<>\"\",VLOOKUP(AS315,#REF!,2,TRUE),\"\")","v":""},null,{"$f":"IF(AU315<>\"\",VLOOKUP(AU315,#REF!,2,FALSE),\"\")","v":""},null,null,null,{"$f":"IF(AY315<>\"\",VLOOKUP(AY315,#REF!,2,TRUE),\"\")","v":""},null,311,"",null,{"$f":"IF(BD315=\"\",\"\",INDEX(referentes!$J:$K,MATCH(BD315,referentes!$J:$J,0),2))","v":""},null,null,{"$f":"IF(BG315=\"\",\"\",INDEX(referentes!$G:$H,MATCH(BG315,referentes!$G:$G,0),2))","v":""},{"$f":"IF(BD315=\"\",\"\",INDEX(referentes!$J:$P,MATCH(BD315,referentes!$J:$J,0),7))","v":""},""]
["19000100",{"$f":"DIGITADOR!$B$2","v":""},0,{"$f":"IF(E316<>\"\",CONCATENATE($A$2,DIGITADOR!$M$1,O316,AH316),\"\")","v":""},null,null,"","",null,null,null,null,"",{"$f":"IF(M316=\"\",\"\",INDEX('OTRAS REFERENTES'!$M:$O,MATCH(M316,'OTRAS REFERENTES'!$M:$M,0),3))","v":""},{"$f":"IF(M316=\"\",\"\",INDEX('OTRAS REFERENTES'!$M:$O,MATCH(M316,'OTRAS REFERENTES'!$M:$M,0),2))","v":""},null,null,null,null,null,null,null,null,null,{"$f":"IF(X316=\"\",\"\",INDEX(referentes!$Y:$Z,MATCH(DATOS!X316,referentes!$Z:$Z,0),))","v":""},null,null,null,null,"OA",null,"SO",null,null,"",null,null,null,null,null,null,null,null,null,null,{"$f":"IF(AS316<>\"\",VLOOKUP(AS316,#REF!,2,TRUE),\"\")","v":""},null,{"$f":"IF(AU316<>\"\",VLOOKUP(AU316,#REF!,2,FALSE),\"\")","v":""},null,null,null,{"$f":"IF(AY316<>\"\",VLOOKUP(AY316,#REF!,2,TRUE),\"\")","v":""},null,312,"",null,{"$f":"IF(BD316=\"\",\"\",INDEX(referentes!$J:$K,MATCH(BD316,referentes!$J:$J,0),2))","v":""},null,null,{"$f":"IF(BG316=\"\",\"\",INDEX(referentes!$G:$H,MATCH(BG316,referentes!$G:$G,0),2))","v":""},{"$f":"IF(BD316=\"\",\"\",INDEX(referentes!$J:$P,MATCH(BD316,referentes!$J:$J,0),7))","v":""},""]
["19000100",{"$f":"DIGITADOR!$B$2","v":""},0,{"$f":"IF(E317<>\"\",CONCATENATE($A$2,DIGITADOR!$M$1,O317,AH317),\"\")","v":""},null,null,"","",null,null,null,null,"",{"$f":"IF(M317=\"\",\"\",INDEX('OTRAS REFERENTES'!$M:$O,MATCH(M317,'OTRAS REFERENTES'!$M:$M,0),3))","v":""},{"$f":"IF(M317=\"\",\"\",INDEX('OTRAS REFERENTES'!$M:$O,MATCH(M317,'OTRAS REFERENTES'!$M:$M,0),2))","v":""},null,null,null,null,null,null,null,null,null,{"$f":"IF(X317=\"\",\"\",INDEX(referentes!$Y:$Z,MATCH(DATOS!X317,referentes!$Z:$Z,0),))","v":""},null,null,null,null,"OA",null,"SO",null,null,"",null,null,null,null,null,null,null,null,null,null,{"$f":"IF(AS317<>\"\",VLOOKUP(AS317,#REF!,2,TRUE),\"\")","v":""},null,{"$f":"IF(AU317<>\"\",VLOOKUP(AU317,#REF!,2,FALSE),\"\")","v":""},null,null,null,{"$f":"IF(AY317<>\"\",VLOOKUP(AY317,#REF!,2,TRUE),\"\")","v":""},null,313,"",null,{"$f":"IF(BD317=\"\",\"\",INDEX(referentes!$J:$K,MATCH(BD317,referentes!$J:$J,0),2))","v":""},null,null,{"$f":"IF(BG317=\"\",\"\",INDEX(referentes!$G:$H,MATCH(BG317,referentes!$G:$G,0),2))","v":""},{"$f":"IF(BD317=\"\",\"\",INDEX(referentes!$J:$P,MATCH(BD317,referentes!$J:$J,0),7))","v":""},""]
["19000100",{"$f":"DIGITADOR!$B$2","v":""},0,{"$f":"IF(E318<>\"\",CONCATENATE($A$2,DIGITADOR!$M$1,O318,AH318),\"\")","v":""},null,null,"","",null,null,null,null,"",{"$f":"IF(M318=\"\",\"\",INDEX('OTRAS REFERENTES'!$M:$O,MATCH(M318,'OTRAS REFERENTES'!$M:$M,0),3))","v":""},{"$f":"IF(M318=\"\",\"\",INDEX('OTRAS REFERENTES'!$M:$O,MATCH(M318,'OTRAS REFERENTES'!$M:$M,0),2))","v":""},null,null,null,null,null,null,null,null,null,{"$f":"IF(X318=\"\",\"\",INDEX(referentes!$Y:$Z,MATCH(DATOS!X318,referentes!$Z:$Z,0),))","v":""},null,null,null,null,"OA",null,"SO",null,null,"",null,null,null,null,null,null,null,null,null,null,{"$f":"IF(AS318<>\"\",VLOOKUP(AS318,#REF!,2,TRUE),\"\")","v":""},null,{"$f":"IF(AU318<>\"\",VLOOKUP(AU318,#REF!,2,FALSE),\"\")","v":""},null,null,null,{"$f":"IF(AY318<>\"\",VLOOKUP(AY318,#REF!,2,TRUE),\"\")","v":""},null,314,"",null,{"$f":"IF(BD318=\"\",\"\",INDEX(referentes!$J:$K,MATCH(BD318,referentes!$J:$J,0),2))","v":""},null,null,{"$f":"IF(BG318=\"\",\"\",INDEX(referentes!$G:$H,MATCH(BG318,referentes!$G:$G,0),2))","v":""},{"$f":"IF(BD318=\"\",\"\",INDEX(referentes!$J:$P,MATCH(BD318,referentes!$J:$J,0),7))","v":""},""]
["19000100",{"$f":"DIGITADOR!$B$2","v":""},0,{"$f":"IF(E319<>\"\",CONCATENATE($A$2,DIGITADOR!$M$1,O319,AH319),\"\")","v":""},null,null,"","",null,null,null,null,"",{"$f":"IF(M319=\"\",\"\",INDEX('OTRAS REFERENTES'!$M:$O,MATCH(M319,'OTRAS REFERENTES'!$M:$M,0),3))","v":""},{"$f":"IF(M319=\"\",\"\",INDEX('OTRAS REFERENTES'!$M:$O,MATCH(M319,'OTRAS REFERENTES'!$M:$M,0),2))","v":""},null,null,null,null,null,null,null,null,null,{"$f":"IF(X319=\"\",\"\",INDEX(referentes!$Y:$Z,MATCH(DATOS!X319,referentes!$Z:$Z,0),))","v":""},null,null,null,null,"OA",null,"SO",null,null,"",null,null,null,null,null,null,null,null,null,null,{"$f":"IF(AS319<>\"\",VLOOKUP(AS319,#REF!,2,TRUE),\"\")","v":""},null,{"$f":"IF(AU319<>\"\",VLOOKUP(AU319,#REF!,2,FALSE),\"\")","v":""},null,null,null,{"$f":"IF(AY319<>\"\",VLOOKUP(AY319,#REF!,2,TRUE),\"\")","v":""},null,315,"",null,{"$f":"IF(BD319=\"\",\"\",INDEX(referentes!$J:$K,MATCH(BD319,referentes!$J:$J,0),2))","v":""},null,null,{"$f":"IF(BG319=\"\",\"\",INDEX(referentes!$G:$H,MATCH(BG319,referentes!$G:$G,0),2))","v":""},{"$f":"IF(BD319=\"\",\"\",INDEX(referentes!$J:$P,MATCH(BD319,referentes!$J:$J,0),7))","v":""},""]
["19000100",{"$f":"DIGITADOR!$B$2","v":""},0,{"$f":"IF(E320<>\"\",CONCATENATE($A$2,DIGITADOR!$M$1,O320,AH320),\"\")","v":""},null,null,"","",null,null,null,null,"",{"$f":"IF(M320=\"\",\"\",INDEX('OTRAS REFERENTES'!$M:$O,MATCH(M320,'OTRAS REFERENTES'!$M:$M,0),3))","v":""},{"$f":"IF(M320=\"\",\"\",INDEX('OTRAS REFERENTES'!$M:$O,MATCH(M320,'OTRAS REFERENTES'!$M:$M,0),2))","v":""},null,null,null,null,null,null,null,null,null,{"$f":"IF(X320=\"\",\"\",INDEX(referentes!$Y:$Z,MATCH(DATOS!X320,referentes!$Z:$Z,0),))","v":""},null,null,null,null,"OA",null,"SO",null,null,"",null,null,null,null,null,null,null,null,null,null,{"$f":"IF(AS320<>\"\",VLOOKUP(AS320,#REF!,2,TRUE),\"\")","v":""},null,{"$f":"IF(AU320<>\"\",VLOOKUP(AU320,#REF!,2,FALSE),\"\")","v":""},null,null,null,{"$f":"IF(AY320<>\"\",VLOOKUP(AY320,#REF!,2,TRUE),\"\")","v":""},null,316,"",null,{"$f":"IF(BD320=\"\",\"\",INDEX(referentes!$J:$K,MATCH(BD320,referentes!$J:$J,0),2))","v":""},null,null,{"$f":"IF(BG320=\"\",\"\",INDEX(referentes!$G:$H,MATCH(BG320,referentes!$G:$G,0),2))","v":""},{"$f":"IF(BD320=\"\",\"\",INDEX(referentes!$J:$P,MATCH(BD320,referentes!$J:$J,0),7))","v":""},""]
["19000100",{"$f":"DIGITADOR!$B$2","v":""},0,{"$f":"IF(E321<>\"\",CONCATENATE($A$2,DIGITADOR!$M$1,O321,AH321),\"\")","v":""},null,null,"","",null,null,null,null,"",{"$f":"IF(M321=\"\",\"\",INDEX('OTRAS REFERENTES'!$M:$O,MATCH(M321,'OTRAS REFERENTES'!$M:$M,0),3))","v":""},{"$f":"IF(M321=\"\",\"\",INDEX('OTRAS REFERENTES'!$M:$O,MATCH(M321,'OTRAS REFERENTES'!$M:$M,0),2))","v":""},null,null,null,null,null,null,null,null,null,{"$f":"IF(X321=\"\",\"\",INDEX(referentes!$Y:$Z,MATCH(DATOS!X321,referentes!$Z:$Z,0),))","v":""},null,null,null,null,"OA",null,"SO",null,null,"",null,null,null,null,null,null,null,null,null,null,{"$f":"IF(AS321<>\"\",VLOOKUP(AS321,#REF!,2,TRUE),\"\")","v":""},null,{"$f":"IF(AU321<>\"\",VLOOKUP(AU321,#REF!,2,FALSE),\"\")","v":""},null,null,null,{"$f":"IF(AY321<>\"\",VLOOKUP(AY321,#REF!,2,TRUE),\"\")","v":""},null,317,"",null,{"$f":"IF(BD321=\"\",\"\",INDEX(referentes!$J:$K,MATCH(BD321,referentes!$J:$J,0),2))","v":""},null,null,{"$f":"IF(BG321=\"\",\"\",INDEX(referentes!$G:$H,MATCH(BG321,referentes!$G:$G,0),2))","v":""},{"$f":"IF(BD321=\"\",\"\",INDEX(referentes!$J:$P,MATCH(BD321,referentes!$J:$J,0),7))","v":""},""]
["19000100",{"$f":"DIGITADOR!$B$2","v":""},0,{"$f":"IF(E322<>\"\",CONCATENATE($A$2,DIGITADOR!$M$1,O322,AH322),\"\")","v":""},null,null,"","",null,null,null,null,"",{"$f":"IF(M322=\"\",\"\",INDEX('OTRAS REFERENTES'!$M:$O,MATCH(M322,'OTRAS REFERENTES'!$M:$M,0),3))","v":""},{"$f":"IF(M322=\"\",\"\",INDEX('OTRAS REFERENTES'!$M:$O,MATCH(M322,'OTRAS REFERENTES'!$M:$M,0),2))","v":""},null,null,null,null,null,null,null,null,null,{"$f":"IF(X322=\"\",\"\",INDEX(referentes!$Y:$Z,MATCH(DATOS!X322,referentes!$Z:$Z,0),))","v":""},null,null,null,null,"OA",null,"SO",null,null,"",null,null,null,null,null,null,null,null,null,null,{"$f":"IF(AS322<>\"\",VLOOKUP(AS322,#REF!,2,TRUE),\"\")","v":""},null,{"$f":"IF(AU322<>\"\",VLOOKUP(AU322,#REF!,2,FALSE),\"\")","v":""},null,null,null,{"$f":"IF(AY322<>\"\",VLOOKUP(AY322,#REF!,2,TRUE),\"\")","v":""},null,318,"",null,{"$f":"IF(BD322=\"\",\"\",INDEX(referentes!$J:$K,MATCH(BD322,referentes!$J:$J,0),2))","v":""},null,null,{"$f":"IF(BG322=\"\",\"\",INDEX(referentes!$G:$H,MATCH(BG322,referentes!$G:$G,0),2))","v":""},{"$f":"IF(BD322=\"\",\"\",INDEX(referentes!$J:$P,MATCH(BD322,referentes!$J:$J,0),7))","v":""},""]
["19000100",{"$f":"DIGITADOR!$B$2","v":""},0,{"$f":"IF(E323<>\"\",CONCATENATE($A$2,DIGITADOR!$M$1,O323,AH323),\"\")","v":""},null,null,"","",null,null,null,null,"",{"$f":"IF(M323=\"\",\"\",INDEX('OTRAS REFERENTES'!$M:$O,MATCH(M323,'OTRAS REFERENTES'!$M:$M,0),3))","v":""},{"$f":"IF(M323=\"\",\"\",INDEX('OTRAS REFERENTES'!$M:$O,MATCH(M323,'OTRAS REFERENTES'!$M:$M,0),2))","v":""},null,null,null,null,null,null,null,null,null,{"$f":"IF(X323=\"\",\"\",INDEX(referentes!$Y:$Z,MATCH(DATOS!X323,referentes!$Z:$Z,0),))","v":""},null,null,null,null,"OA",null,"SO",null,null,"",null,null,null,null,null,null,null,null,null,null,{"$f":"IF(AS323<>\"\",VLOOKUP(AS323,#REF!,2,TRUE),\"\")","v":""},null,{"$f":"IF(AU323<>\"\",VLOOKUP(AU323,#REF!,2,FALSE),\"\")","v":""},null,null,null,{"$f":"IF(AY323<>\"\",VLOOKUP(AY323,#REF!,2,TRUE),\"\")","v":""},null,319,"",null,{"$f":"IF(BD323=\"\",\"\",INDEX(referentes!$J:$K,MATCH(BD323,referentes!$J:$J,0),2))","v":""},null,null,{"$f":"IF(BG323=\"\",\"\",INDEX(referentes!$G:$H,MATCH(BG323,referentes!$G:$G,0),2))","v":""},{"$f":"IF(BD323=\"\",\"\",INDEX(referentes!$J:$P,MATCH(BD323,referentes!$J:$J,0),7))","v":""},""]
["19000100",{"$f":"DIGITADOR!$B$2","v":""},0,{"$f":"IF(E324<>\"\",CONCATENATE($A$2,DIGITADOR!$M$1,O324,AH324),\"\")","v":""},null,null,"","",null,null,null,null,"",{"$f":"IF(M324=\"\",\"\",INDEX('OTRAS REFERENTES'!$M:$O,MATCH(M324,'OTRAS REFERENTES'!$M:$M,0),3))","v":""},{"$f":"IF(M324=\"\",\"\",INDEX('OTRAS REFERENTES'!$M:$O,MATCH(M324,'OTRAS REFERENTES'!$M:$M,0),2))","v":""},null,null,null,null,null,null,null,null,null,{"$f":"IF(X324=\"\",\"\",INDEX(referentes!$Y:$Z,MATCH(DATOS!X324,referentes!$Z:$Z,0),))","v":""},null,null,null,null,"OA",null,"SO",null,null,"",null,null,null,null,null,null,null,null,null,null,{"$f":"IF(AS324<>\"\",VLOOKUP(AS324,#REF!,2,TRUE),\"\")","v":""},null,{"$f":"IF(AU324<>\"\",VLOOKUP(AU324,#REF!,2,FALSE),\"\")","v":""},null,null,null,{"$f":"IF(AY324<>\"\",VLOOKUP(AY324,#REF!,2,TRUE),\"\")","v":""},null,320,"",null,{"$f":"IF(BD324=\"\",\"\",INDEX(referentes!$J:$K,MATCH(BD324,referentes!$J:$J,0),2))","v":""},null,null,{"$f":"IF(BG324=\"\",\"\",INDEX(referentes!$G:$H,MATCH(BG324,referentes!$G:$G,0),2))","v":""},{"$f":"IF(BD324=\"\",\"\",INDEX(referentes!$J:$P,MATCH(BD324,referentes!$J:$J,0),7))","v":""},""]
["19000100",{"$f":"DIGITADOR!$B$2","v":""},0,{"$f":"IF(E325<>\"\",CONCATENATE($A$2,DIGITADOR!$M$1,O325,AH325),\"\")","v":""},null,null,"",{"$f":"IF(G325<>\"\",MONTH(G325),\"\")","v":""},null,null,null,null,"",{"$f":"IF(M325=\"\",\"\",INDEX('OTRAS REFERENTES'!$M:$O,MATCH(M325,'OTRAS REFERENTES'!$M:$M,0),3))","v":""},{"$f":"IF(M325=\"\",\"\",INDEX('OTRAS REFERENTES'!$M:$O,MATCH(M325,'OTRAS REFERENTES'!$M:$M,0),2))","v":""},null,null,null,null,null,null,null,null,null,{"$f":"IF(X325=\"\",\"\",INDEX(referentes!$Y:$Z,MATCH(DATOS!X325,referentes!$Z:$Z,0),))","v":""},null,null,null,null,"OA",null,"SO",null,null,"",null,null,null,null,null,null,null,null,null,null,{"$f":"IF(AS325<>\"\",VLOOKUP(AS325,#REF!,2,TRUE),\"\")","v":""},null,{"$f":"IF(AU325<>\"\",VLOOKUP(AU325,#REF!,2,FALSE),\"\")","v":""},null,null,null,{"$f":"IF(AY325<>\"\",VLOOKUP(AY325,#REF!,2,TRUE),\"\")","v":""},null,321,"",null,{"$f":"IF(BD325=\"\",\"\",INDEX(referentes!$J:$K,MATCH(BD325,referentes!$J:$J,0),2))","v":""},null,null,{"$f":"IF(BG325=\"\",\"\",INDEX(referentes!$G:$H,MATCH(BG325,referentes!$G:$G,0),2))","v":""},{"$f":"IF(BD325=\"\",\"\",INDEX(referentes!$J:$P,MATCH(BD325,referentes!$J:$J,0),7))","v":""},""]
[{"$f":"A325","v":"19000100"},{"$f":"DIGITADOR!$B$2","v":""},0,{"$f":"IF(E326<>\"\",CONCATENATE($A$2,DIGITADOR!$M$1,O326,AH326),\"\")","v":""},null,null,{"$f":"IF(E326=\"\",\"\",E326+F326)","v":""},"",null,null,null,null,{"$f":"IF(L326<>\"\",CONCATENATE(J326,L326),\"\")","v":""},{"$f":"IF(M326=\"\",\"\",INDEX('OTRAS REFERENTES'!$M:$O,MATCH(M326,'OTRAS REFERENTES'!$M:$M,0),3))","v":""},{"$f":"IF(M326=\"\",\"\",INDEX('OTRAS REFERENTES'!$M:$O,MATCH(M326,'OTRAS REFERENTES'!$M:$M,0),2))","v":""},null,null,null,null,null,null,null,null,null,{"$f":"IF(X326=\"\",\"\",INDEX(referentes!$Y:$Z,MATCH(DATOS!X326,referentes!$Z:$Z,0),))","v":""},null,null,null,null,"OA",null,"SO",null,null,{"$f":"CONCATENATE(AG326)","v":""},null,null,null,null,null,null,null,null,null,null,{"$f":"IF(AS326<>\"\",VLOOKUP(AS326,#REF!,2,TRUE),\"\")","v":""},null,{"$f":"IF(AU326<>\"\",VLOOKUP(AU326,#REF!,2,FALSE),\"\")","v":""},null,null,null,{"$f":"IF(AY326<>\"\",VLOOKUP(AY326,#REF!,2,TRUE),\"\")","v":""},null,322,{"$f":"IF(D326=\"\",\"\",CONCATENATE(D326,BB326))","v":""},null,{"$f":"IF(BD326=\"\",\"\",INDEX(referentes!$J:$K,MATCH(BD326,referentes!$J:$J,0),2))","v":""},null,null,{"$f":"IF(BG326=\"\",\"\",INDEX(referentes!$G:$H,MATCH(BG326,referentes!$G:$G,0),2))","v":""},{"$f":"IF(BD326=\"\",\"\",INDEX(referentes!$J:$P,MATCH(BD326,referentes!$J:$J,0),7))","v":""},{"$f":"IF(BD326=\"\",\"\",UPPER(BD326))","v":""}]
["19000100",{"$f":"DIGITADOR!$B$2","v":""},0,{"$f":"IF(E327<>\"\",CONCATENATE($A$2,DIGITADOR!$M$1,O327,AH327),\"\")","v":""},null,null,"","",null,null,null,null,"",{"$f":"IF(M327=\"\",\"\",INDEX('OTRAS REFERENTES'!$M:$O,MATCH(M327,'OTRAS REFERENTES'!$M:$M,0),3))","v":""},{"$f":"IF(M327=\"\",\"\",INDEX('OTRAS REFERENTES'!$M:$O,MATCH(M327,'OTRAS REFERENTES'!$M:$M,0),2))","v":""},null,null,null,null,null,null,null,null,null,{"$f":"IF(X327=\"\",\"\",INDEX(referentes!$Y:$Z,MATCH(DATOS!X327,referentes!$Z:$Z,0),))","v":""},null,null,null,null,"OA",null,"SO",null,null,"",null,null,null,null,null,null,null,null,null,null,{"$f":"IF(AS327<>\"\",VLOOKUP(AS327,#REF!,2,TRUE),\"\")","v":""},null,{"$f":"IF(AU327<>\"\",VLOOKUP(AU327,#REF!,2,FALSE),\"\")","v":""},null,null,null,{"$f":"IF(AY327<>\"\",VLOOKUP(AY327,#REF!,2,TRUE),\"\")","v":""},null,323,"",null,{"$f":"IF(BD327=\"\",\"\",INDEX(referentes!$J:$K,MATCH(BD327,referentes!$J:$J,0),2))","v":""},null,null,{"$f":"IF(BG327=\"\",\"\",INDEX(referentes!$G:$H,MATCH(BG327,referentes!$G:$G,0),2))","v":""},{"$f":"IF(BD327=\"\",\"\",INDEX(referentes!$J:$P,MATCH(BD327,referentes!$J:$J,0),7))","v":""},""]
["19000100",{"$f":"DIGITADOR!$B$2","v":""},0,{"$f":"IF(E328<>\"\",CONCATENATE($A$2,DIGITADOR!$M$1,O328,AH328),\"\")","v":""},null,null,"","",null,null,null,null,"",{"$f":"IF(M328=\"\",\"\",INDEX('OTRAS REFERENTES'!$M:$O,MATCH(M328,'OTRAS REFERENTES'!$M:$M,0),3))","v":""},{"$f":"IF(M328=\"\",\"\",INDEX('OTRAS REFERENTES'!$M:$O,MATCH(M328,'OTRAS REFERENTES'!$M:$M,0),2))","v":""},null,null,null,null,null,null,null,null,null,{"$f":"IF(X328=\"\",\"\",INDEX(referentes!$Y:$Z,MATCH(DATOS!X328,referentes!$Z:$Z,0),))","v":""},null,null,null,null,"OA",null,"SO",null,null,"",null,null,null,null,null,null,null,null,null,null,{"$f":"IF(AS328<>\"\",VLOOKUP(AS328,#REF!,2,TRUE),\"\")","v":""},null,{"$f":"IF(AU328<>\"\",VLOOKUP(AU328,#REF!,2,FALSE),\"\")","v":""},null,null,null,{"$f":"IF(AY328<>\"\",VLOOKUP(AY328,#REF!,2,TRUE),\"\")","v":""},null,324,"",null,{"$f":"IF(BD328=\"\",\"\",INDEX(referentes!$J:$K,MATCH(BD328,referentes!$J:$J,0),2))","v":""},null,null,{"$f":"IF(BG328=\"\",\"\",INDEX(referentes!$G:$H,MATCH(BG328,referentes!$G:$G,0),2))","v":""},{"$f":"IF(BD328=\"\",\"\",INDEX(referentes!$J:$P,MATCH(BD328,referentes!$J:$J,0),7))","v":""},""]
["19000100",{"$f":"DIGITADOR!$B$2","v":""},0,{"$f":"IF(E329<>\"\",CONCATENATE($A$2,DIGITADOR!$M$1,O329,AH329),\"\")","v":""},null,null,"","",null,null,null,null,"",{"$f":"IF(M329=\"\",\"\",INDEX('OTRAS REFERENTES'!$M:$O,MATCH(M329,'OTRAS REFERENTES'!$M:$M,0),3))","v":""},{"$f":"IF(M329=\"\",\"\",INDEX('OTRAS REFERENTES'!$M:$O,MATCH(M329,'OTRAS REFERENTES'!$M:$M,0),2))","v":""},null,null,null,null,null,null,null,null,null,{"$f":"IF(X329=\"\",\"\",INDEX(referentes!$Y:$Z,MATCH(DATOS!X329,referentes!$Z:$Z,0),))","v":""},null,null,null,null,"OA",null,"SO",null,null,"",null,null,null,null,null,null,null,null,null,null,{"$f":"IF(AS329<>\"\",VLOOKUP(AS329,#REF!,2,TRUE),\"\")","v":""},null,{"$f":"IF(AU329<>\"\",VLOOKUP(AU329,#REF!,2,FALSE),\"\")","v":""},null,null,null,{"$f":"IF(AY329<>\"\",VLOOKUP(AY329,#REF!,2,TRUE),\"\")","v":""},null,325,"",null,{"$f":"IF(BD329=\"\",\"\",INDEX(referentes!$J:$K,MATCH(BD329,referentes!$J:$J,0),2))","v":""},null,null,{"$f":"IF(BG329=\"\",\"\",INDEX(referentes!$G:$H,MATCH(BG329,referentes!$G:$G,0),2))","v":""},{"$f":"IF(BD329=\"\",\"\",INDEX(referentes!$J:$P,MATCH(BD329,referentes!$J:$J,0),7))","v":""},""]
["19000100",{"$f":"DIGITADOR!$B$2","v":""},0,{"$f":"IF(E330<>\"\",CONCATENATE($A$2,DIGITADOR!$M$1,O330,AH330),\"\")","v":""},null,null,"","",null,null,null,null,"",{"$f":"IF(M330=\"\",\"\",INDEX('OTRAS REFERENTES'!$M:$O,MATCH(M330,'OTRAS REFERENTES'!$M:$M,0),3))","v":""},{"$f":"IF(M330=\"\",\"\",INDEX('OTRAS REFERENTES'!$M:$O,MATCH(M330,'OTRAS REFERENTES'!$M:$M,0),2))","v":""},null,null,null,null,null,null,null,null,null,{"$f":"IF(X330=\"\",\"\",INDEX(referentes!$Y:$Z,MATCH(DATOS!X330,referentes!$Z:$Z,0),))","v":""},null,null,null,null,"OA",null,"SO",null,null,"",null,null,null,null,null,null,null,null,null,null,{"$f":"IF(AS330<>\"\",VLOOKUP(AS330,#REF!,2,TRUE),\"\")","v":""},null,{"$f":"IF(AU330<>\"\",VLOOKUP(AU330,#REF!,2,FALSE),\"\")","v":""},null,null,null,{"$f":"IF(AY330<>\"\",VLOOKUP(AY330,#REF!,2,TRUE),\"\")","v":""},null,326,"",null,{"$f":"IF(BD330=\"\",\"\",INDEX(referentes!$J:$K,MATCH(BD330,referentes!$J:$J,0),2))","v":""},null,null,{"$f":"IF(BG330=\"\",\"\",INDEX(referentes!$G:$H,MATCH(BG330,referentes!$G:$G,0),2))","v":""},{"$f":"IF(BD330=\"\",\"\",INDEX(referentes!$J:$P,MATCH(BD330,referentes!$J:$J,0),7))","v":""},""]
["19000100",{"$f":"DIGITADOR!$B$2","v":""},0,{"$f":"IF(E331<>\"\",CONCATENATE($A$2,DIGITADOR!$M$1,O331,AH331),\"\")","v":""},null,null,"","",null,null,null,null,"",{"$f":"IF(M331=\"\",\"\",INDEX('OTRAS REFERENTES'!$M:$O,MATCH(M331,'OTRAS REFERENTES'!$M:$M,0),3))","v":""},{"$f":"IF(M331=\"\",\"\",INDEX('OTRAS REFERENTES'!$M:$O,MATCH(M331,'OTRAS REFERENTES'!$M:$M,0),2))","v":""},null,null,null,null,null,null,null,null,null,{"$f":"IF(X331=\"\",\"\",INDEX(referentes!$Y:$Z,MATCH(DATOS!X331,referentes!$Z:$Z,0),))","v":""},null,null,null,null,"OA",null,"SO",null,null,"",null,null,null,null,null,null,null,null,null,null,{"$f":"IF(AS331<>\"\",VLOOKUP(AS331,#REF!,2,TRUE),\"\")","v":""},null,{"$f":"IF(AU331<>\"\",VLOOKUP(AU331,#REF!,2,FALSE),\"\")","v":""},null,null,null,{"$f":"IF(AY331<>\"\",VLOOKUP(AY331,#REF!,2,TRUE),\"\")","v":""},null,327,"",null,{"$f":"IF(BD331=\"\",\"\",INDEX(referentes!$J:$K,MATCH(BD331,referentes!$J:$J,0),2))","v":""},null,null,{"$f":"IF(BG331=\"\",\"\",INDEX(referentes!$G:$H,MATCH(BG331,referentes!$G:$G,0),2))","v":""},{"$f":"IF(BD331=\"\",\"\",INDEX(referentes!$J:$P,MATCH(BD331,referentes!$J:$J,0),7))","v":""},""]
["19000100",{"$f":"DIGITADOR!$B$2","v":""},0,{"$f":"IF(E332<>\"\",CONCATENATE($A$2,DIGITADOR!$M$1,O332,AH332),\"\")","v":""},null,null,"","",null,null,null,null,"",{"$f":"IF(M332=\"\",\"\",INDEX('OTRAS REFERENTES'!$M:$O,MATCH(M332,'OTRAS REFERENTES'!$M:$M,0),3))","v":""},{"$f":"IF(M332=\"\",\"\",INDEX('OTRAS REFERENTES'!$M:$O,MATCH(M332,'OTRAS REFERENTES'!$M:$M,0),2))","v":""},null,null,null,null,null,null,null,null,null,{"$f":"IF(X332=\"\",\"\",INDEX(referentes!$Y:$Z,MATCH(DATOS!X332,referentes!$Z:$Z,0),))","v":""},null,null,null,null,"OA",null,"SO",null,null,"",null,null,null,null,null,null,null,null,null,null,{"$f":"IF(AS332<>\"\",VLOOKUP(AS332,#REF!,2,TRUE),\"\")","v":""},null,{"$f":"IF(AU332<>\"\",VLOOKUP(AU332,#REF!,2,FALSE),\"\")","v":""},null,null,null,{"$f":"IF(AY332<>\"\",VLOOKUP(AY332,#REF!,2,TRUE),\"\")","v":""},null,328,"",null,{"$f":"IF(BD332=\"\",\"\",INDEX(referentes!$J:$K,MATCH(BD332,referentes!$J:$J,0),2))","v":""},null,null,{"$f":"IF(BG332=\"\",\"\",INDEX(referentes!$G:$H,MATCH(BG332,referentes!$G:$G,0),2))","v":""},{"$f":"IF(BD332=\"\",\"\",INDEX(referentes!$J:$P,MATCH(BD332,referentes!$J:$J,0),7))","v":""},""]
["19000100",{"$f":"DIGITADOR!$B$2","v":""},0,{"$f":"IF(E333<>\"\",CONCATENATE($A$2,DIGITADOR!$M$1,O333,AH333),\"\")","v":""},null,null,"","",null,null,null,null,"",{"$f":"IF(M333=\"\",\"\",INDEX('OTRAS REFERENTES'!$M:$O,MATCH(M333,'OTRAS REFERENTES'!$M:$M,0),3))","v":""},{"$f":"IF(M333=\"\",\"\",INDEX('OTRAS REFERENTES'!$M:$O,MATCH(M333,'OTRAS REFERENTES'!$M:$M,0),2))","v":""},null,null,null,null,null,null,null,null,null,{"$f":"IF(X333=\"\",\"\",INDEX(referentes!$Y:$Z,MATCH(DATOS!X333,referentes!$Z:$Z,0),))","v":""},null,null,null,null,"OA",null,"SO",null,null,"",null,null,null,null,null,null,null,null,null,null,{"$f":"IF(AS333<>\"\",VLOOKUP(AS333,#REF!,2,TRUE),\"\")","v":""},null,{"$f":"IF(AU333<>\"\",VLOOKUP(AU333,#REF!,2,FALSE),\"\")","v":""},null,null,null,{"$f":"IF(AY333<>\"\",VLOOKUP(AY333,#REF!,2,TRUE),\"\")","v":""},null,329,"",null,{"$f":"IF(BD333=\"\",\"\",INDEX(referentes!$J:$K,MATCH(BD333,referentes!$J:$J,0),2))","v":""},null,null,{"$f":"IF(BG333=\"\",\"\",INDEX(referentes!$G:$H,MATCH(BG333,referentes!$G:$G,0),2))","v":""},{"$f":"IF(BD333=\"\",\"\",INDEX(referentes!$J:$P,MATCH(BD333,referentes!$J:$J,0),7))","v":""},""]
["19000100",{"$f":"DIGITADOR!$B$2","v":""},0,{"$f":"IF(E334<>\"\",CONCATENATE($A$2,DIGITADOR!$M$1,O334,AH334),\"\")","v":""},null,null,"","",null,null,null,null,"",{"$f":"IF(M334=\"\",\"\",INDEX('OTRAS REFERENTES'!$M:$O,MATCH(M334,'OTRAS REFERENTES'!$M:$M,0),3))","v":""},{"$f":"IF(M334=\"\",\"\",INDEX('OTRAS REFERENTES'!$M:$O,MATCH(M334,'OTRAS REFERENTES'!$M:$M,0),2))","v":""},null,null,null,null,null,null,null,null,null,{"$f":"IF(X334=\"\",\"\",INDEX(referentes!$Y:$Z,MATCH(DATOS!X334,referentes!$Z:$Z,0),))","v":""},null,null,null,null,"OA",null,"SO",null,null,"",null,null,null,null,null,null,null,null,null,null,{"$f":"IF(AS334<>\"\",VLOOKUP(AS334,#REF!,2,TRUE),\"\")","v":""},null,{"$f":"IF(AU334<>\"\",VLOOKUP(AU334,#REF!,2,FALSE),\"\")","v":""},null,null,null,{"$f":"IF(AY334<>\"\",VLOOKUP(AY334,#REF!,2,TRUE),\"\")","v":""},null,330,"",null,{"$f":"IF(BD334=\"\",\"\",INDEX(referentes!$J:$K,MATCH(BD334,referentes!$J:$J,0),2))","v":""},null,null,{"$f":"IF(BG334=\"\",\"\",INDEX(referentes!$G:$H,MATCH(BG334,referentes!$G:$G,0),2))","v":""},{"$f":"IF(BD334=\"\",\"\",INDEX(referentes!$J:$P,MATCH(BD334,referentes!$J:$J,0),7))","v":""},""]
["19000100",{"$f":"DIGITADOR!$B$2","v":""},0,{"$f":"IF(E335<>\"\",CONCATENATE($A$2,DIGITADOR!$M$1,O335,AH335),\"\")","v":""},null,null,"","",null,null,null,null,"",{"$f":"IF(M335=\"\",\"\",INDEX('OTRAS REFERENTES'!$M:$O,MATCH(M335,'OTRAS REFERENTES'!$M:$M,0),3))","v":""},{"$f":"IF(M335=\"\",\"\",INDEX('OTRAS REFERENTES'!$M:$O,MATCH(M335,'OTRAS REFERENTES'!$M:$M,0),2))","v":""},null,null,null,null,null,null,null,null,null,{"$f":"IF(X335=\"\",\"\",INDEX(referentes!$Y:$Z,MATCH(DATOS!X335,referentes!$Z:$Z,0),))","v":""},null,null,null,null,"OA",null,"SO",null,null,"",null,null,null,null,null,null,null,null,null,null,{"$f":"IF(AS335<>\"\",VLOOKUP(AS335,#REF!,2,TRUE),\"\")","v":""},null,{"$f":"IF(AU335<>\"\",VLOOKUP(AU335,#REF!,2,FALSE),\"\")","v":""},null,null,null,{"$f":"IF(AY335<>\"\",VLOOKUP(AY335,#REF!,2,TRUE),\"\")","v":""},null,331,"",null,{"$f":"IF(BD335=\"\",\"\",INDEX(referentes!$J:$K,MATCH(BD335,referentes!$J:$J,0),2))","v":""},null,null,{"$f":"IF(BG335=\"\",\"\",INDEX(referentes!$G:$H,MATCH(BG335,referentes!$G:$G,0),2))","v":""},{"$f":"IF(BD335=\"\",\"\",INDEX(referentes!$J:$P,MATCH(BD335,referentes!$J:$J,0),7))","v":""},""]
["19000100",{"$f":"DIGITADOR!$B$2","v":""},0,{"$f":"IF(E336<>\"\",CONCATENATE($A$2,DIGITADOR!$M$1,O336,AH336),\"\")","v":""},null,null,"","",null,null,null,null,"",{"$f":"IF(M336=\"\",\"\",INDEX('OTRAS REFERENTES'!$M:$O,MATCH(M336,'OTRAS REFERENTES'!$M:$M,0),3))","v":""},{"$f":"IF(M336=\"\",\"\",INDEX('OTRAS REFERENTES'!$M:$O,MATCH(M336,'OTRAS REFERENTES'!$M:$M,0),2))","v":""},null,null,null,null,null,null,null,null,null,{"$f":"IF(X336=\"\",\"\",INDEX(referentes!$Y:$Z,MATCH(DATOS!X336,referentes!$Z:$Z,0),))","v":""},null,null,null,null,"OA",null,"SO",null,null,"",null,null,null,null,null,null,null,null,null,null,{"$f":"IF(AS336<>\"\",VLOOKUP(AS336,#REF!,2,TRUE),\"\")","v":""},null,{"$f":"IF(AU336<>\"\",VLOOKUP(AU336,#REF!,2,FALSE),\"\")","v":""},null,null,null,{"$f":"IF(AY336<>\"\",VLOOKUP(AY336,#REF!,2,TRUE),\"\")","v":""},null,332,"",null,{"$f":"IF(BD336=\"\",\"\",INDEX(referentes!$J:$K,MATCH(BD336,referentes!$J:$J,0),2))","v":""},null,null,{"$f":"IF(BG336=\"\",\"\",INDEX(referentes!$G:$H,MATCH(BG336,referentes!$G:$G,0),2))","v":""},{"$f":"IF(BD336=\"\",\"\",INDEX(referentes!$J:$P,MATCH(BD336,referentes!$J:$J,0),7))","v":""},""]
["19000100",{"$f":"DIGITADOR!$B$2","v":""},0,{"$f":"IF(E337<>\"\",CONCATENATE($A$2,DIGITADOR!$M$1,O337,AH337),\"\")","v":""},null,null,"","",null,null,null,null,"",{"$f":"IF(M337=\"\",\"\",INDEX('OTRAS REFERENTES'!$M:$O,MATCH(M337,'OTRAS REFERENTES'!$M:$M,0),3))","v":""},{"$f":"IF(M337=\"\",\"\",INDEX('OTRAS REFERENTES'!$M:$O,MATCH(M337,'OTRAS REFERENTES'!$M:$M,0),2))","v":""},null,null,null,null,null,null,null,null,null,{"$f":"IF(X337=\"\",\"\",INDEX(referentes!$Y:$Z,MATCH(DATOS!X337,referentes!$Z:$Z,0),))","v":""},null,null,null,null,"OA",null,"SO",null,null,"",null,null,null,null,null,null,null,null,null,null,{"$f":"IF(AS337<>\"\",VLOOKUP(AS337,#REF!,2,TRUE),\"\")","v":""},null,{"$f":"IF(AU337<>\"\",VLOOKUP(AU337,#REF!,2,FALSE),\"\")","v":""},null,null,null,{"$f":"IF(AY337<>\"\",VLOOKUP(AY337,#REF!,2,TRUE),\"\")","v":""},null,333,"",null,{"$f":"IF(BD337=\"\",\"\",INDEX(referentes!$J:$K,MATCH(BD337,referentes!$J:$J,0),2))","v":""},null,null,{"$f":"IF(BG337=\"\",\"\",INDEX(referentes!$G:$H,MATCH(BG337,referentes!$G:$G,0),2))","v":""},{"$f":"IF(BD337=\"\",\"\",INDEX(referentes!$J:$P,MATCH(BD337,referentes!$J:$J,0),7))","v":""},""]
["19000100",{"$f":"DIGITADOR!$B$2","v":""},0,{"$f":"IF(E338<>\"\",CONCATENATE($A$2,DIGITADOR!$M$1,O338,AH338),\"\")","v":""},null,null,"","",null,null,null,null,"",{"$f":"IF(M338=\"\",\"\",INDEX('OTRAS REFERENTES'!$M:$O,MATCH(M338,'OTRAS REFERENTES'!$M:$M,0),3))","v":""},{"$f":"IF(M338=\"\",\"\",INDEX('OTRAS REFERENTES'!$M:$O,MATCH(M338,'OTRAS REFERENTES'!$M:$M,0),2))","v":""},null,null,null,null,null,null,null,null,null,{"$f":"IF(X338=\"\",\"\",INDEX(referentes!$Y:$Z,MATCH(DATOS!X338,referentes!$Z:$Z,0),))","v":""},null,null,null,null,"OA",null,"SO",null,null,"",null,null,null,null,null,null,null,null,null,null,{"$f":"IF(AS338<>\"\",VLOOKUP(AS338,#REF!,2,TRUE),\"\")","v":""},null,{"$f":"IF(AU338<>\"\",VLOOKUP(AU338,#REF!,2,FALSE),\"\")","v":""},null,null,null,{"$f":"IF(AY338<>\"\",VLOOKUP(AY338,#REF!,2,TRUE),\"\")","v":""},null,334,"",null,{"$f":"IF(BD338=\"\",\"\",INDEX(referentes!$J:$K,MATCH(BD338,referentes!$J:$J,0),2))","v":""},null,null,{"$f":"IF(BG338=\"\",\"\",INDEX(referentes!$G:$H,MATCH(BG338,referentes!$G:$G,0),2))","v":""},{"$f":"IF(BD338=\"\",\"\",INDEX(referentes!$J:$P,MATCH(BD338,referentes!$J:$J,0),7))","v":""},""]
["19000100",{"$f":"DIGITADOR!$B$2","v":""},0,{"$f":"IF(E339<>\"\",CONCATENATE($A$2,DIGITADOR!$M$1,O339,AH339),\"\")","v":""},null,null,"","",null,null,null,null,"",{"$f":"IF(M339=\"\",\"\",INDEX('OTRAS REFERENTES'!$M:$O,MATCH(M339,'OTRAS REFERENTES'!$M:$M,0),3))","v":""},{"$f":"IF(M339=\"\",\"\",INDEX('OTRAS REFERENTES'!$M:$O,MATCH(M339,'OTRAS REFERENTES'!$M:$M,0),2))","v":""},null,null,null,null,null,null,null,null,null,{"$f":"IF(X339=\"\",\"\",INDEX(referentes!$Y:$Z,MATCH(DATOS!X339,referentes!$Z:$Z,0),))","v":""},null,null,null,null,"OA",null,"SO",null,null,"",null,null,null,null,null,null,null,null,null,null,{"$f":"IF(AS339<>\"\",VLOOKUP(AS339,#REF!,2,TRUE),\"\")","v":""},null,{"$f":"IF(AU339<>\"\",VLOOKUP(AU339,#REF!,2,FALSE),\"\")","v":""},null,null,null,{"$f":"IF(AY339<>\"\",VLOOKUP(AY339,#REF!,2,TRUE),\"\")","v":""},null,335,"",null,{"$f":"IF(BD339=\"\",\"\",INDEX(referentes!$J:$K,MATCH(BD339,referentes!$J:$J,0),2))","v":""},null,null,{"$f":"IF(BG339=\"\",\"\",INDEX(referentes!$G:$H,MATCH(BG339,referentes!$G:$G,0),2))","v":""},{"$f":"IF(BD339=\"\",\"\",INDEX(referentes!$J:$P,MATCH(BD339,referentes!$J:$J,0),7))","v":""},""]
["19000100",{"$f":"DIGITADOR!$B$2","v":""},0,{"$f":"IF(E340<>\"\",CONCATENATE($A$2,DIGITADOR!$M$1,O340,AH340),\"\")","v":""},null,null,"","",null,null,null,null,"",{"$f":"IF(M340=\"\",\"\",INDEX('OTRAS REFERENTES'!$M:$O,MATCH(M340,'OTRAS REFERENTES'!$M:$M,0),3))","v":""},{"$f":"IF(M340=\"\",\"\",INDEX('OTRAS REFERENTES'!$M:$O,MATCH(M340,'OTRAS REFERENTES'!$M:$M,0),2))","v":""},null,null,null,null,null,null,null,null,null,{"$f":"IF(X340=\"\",\"\",INDEX(referentes!$Y:$Z,MATCH(DATOS!X340,referentes!$Z:$Z,0),))","v":""},null,null,null,null,"OA",null,"SO",null,null,"",null,null,null,null,null,null,null,null,null,null,{"$f":"IF(AS340<>\"\",VLOOKUP(AS340,#REF!,2,TRUE),\"\")","v":""},null,{"$f":"IF(AU340<>\"\",VLOOKUP(AU340,#REF!,2,FALSE),\"\")","v":""},null,null,null,{"$f":"IF(AY340<>\"\",VLOOKUP(AY340,#REF!,2,TRUE),\"\")","v":""},null,336,"",null,{"$f":"IF(BD340=\"\",\"\",INDEX(referentes!$J:$K,MATCH(BD340,referentes!$J:$J,0),2))","v":""},null,null,{"$f":"IF(BG340=\"\",\"\",INDEX(referentes!$G:$H,MATCH(BG340,referentes!$G:$G,0),2))","v":""},{"$f":"IF(BD340=\"\",\"\",INDEX(referentes!$J:$P,MATCH(BD340,referentes!$J:$J,0),7))","v":""},""]
["19000100",{"$f":"DIGITADOR!$B$2","v":""},0,{"$f":"IF(E341<>\"\",CONCATENATE($A$2,DIGITADOR!$M$1,O341,AH341),\"\")","v":""},null,null,"","",null,null,null,null,"",{"$f":"IF(M341=\"\",\"\",INDEX('OTRAS REFERENTES'!$M:$O,MATCH(M341,'OTRAS REFERENTES'!$M:$M,0),3))","v":""},{"$f":"IF(M341=\"\",\"\",INDEX('OTRAS REFERENTES'!$M:$O,MATCH(M341,'OTRAS REFERENTES'!$M:$M,0),2))","v":""},null,null,null,null,null,null,null,null,null,{"$f":"IF(X341=\"\",\"\",INDEX(referentes!$Y:$Z,MATCH(DATOS!X341,referentes!$Z:$Z,0),))","v":""},null,null,null,null,"OA",null,"SO",null,null,"",null,null,null,null,null,null,null,null,null,null,{"$f":"IF(AS341<>\"\",VLOOKUP(AS341,#REF!,2,TRUE),\"\")","v":""},null,{"$f":"IF(AU341<>\"\",VLOOKUP(AU341,#REF!,2,FALSE),\"\")","v":""},null,null,null,{"$f":"IF(AY341<>\"\",VLOOKUP(AY341,#REF!,2,TRUE),\"\")","v":""},null,337,"",null,{"$f":"IF(BD341=\"\",\"\",INDEX(referentes!$J:$K,MATCH(BD341,referentes!$J:$J,0),2))","v":""},null,null,{"$f":"IF(BG341=\"\",\"\",INDEX(referentes!$G:$H,MATCH(BG341,referentes!$G:$G,0),2))","v":""},{"$f":"IF(BD341=\"\",\"\",INDEX(referentes!$J:$P,MATCH(BD341,referentes!$J:$J,0),7))","v":""},""]
["19000100",{"$f":"DIGITADOR!$B$2","v":""},0,{"$f":"IF(E342<>\"\",CONCATENATE($A$2,DIGITADOR!$M$1,O342,AH342),\"\")","v":""},null,null,"","",null,null,null,null,"",{"$f":"IF(M342=\"\",\"\",INDEX('OTRAS REFERENTES'!$M:$O,MATCH(M342,'OTRAS REFERENTES'!$M:$M,0),3))","v":""},{"$f":"IF(M342=\"\",\"\",INDEX('OTRAS REFERENTES'!$M:$O,MATCH(M342,'OTRAS REFERENTES'!$M:$M,0),2))","v":""},null,null,null,null,null,null,null,null,null,{"$f":"IF(X342=\"\",\"\",INDEX(referentes!$Y:$Z,MATCH(DATOS!X342,referentes!$Z:$Z,0),))","v":""},null,null,null,null,"OA",null,"SO",null,null,"",null,null,null,null,null,null,null,null,null,null,{"$f":"IF(AS342<>\"\",VLOOKUP(AS342,#REF!,2,TRUE),\"\")","v":""},null,{"$f":"IF(AU342<>\"\",VLOOKUP(AU342,#REF!,2,FALSE),\"\")","v":""},null,null,null,{"$f":"IF(AY342<>\"\",VLOOKUP(AY342,#REF!,2,TRUE),\"\")","v":""},null,338,"",null,{"$f":"IF(BD342=\"\",\"\",INDEX(referentes!$J:$K,MATCH(BD342,referentes!$J:$J,0),2))","v":""},null,null,{"$f":"IF(BG342=\"\",\"\",INDEX(referentes!$G:$H,MATCH(BG342,referentes!$G:$G,0),2))","v":""},{"$f":"IF(BD342=\"\",\"\",INDEX(referentes!$J:$P,MATCH(BD342,referentes!$J:$J,0),7))","v":""},""]
["19000100",{"$f":"DIGITADOR!$B$2","v":""},0,{"$f":"IF(E343<>\"\",CONCATENATE($A$2,DIGITADOR!$M$1,O343,AH343),\"\")","v":""},null,null,"","",null,null,null,null,"",{"$f":"IF(M343=\"\",\"\",INDEX('OTRAS REFERENTES'!$M:$O,MATCH(M343,'OTRAS REFERENTES'!$M:$M,0),3))","v":""},{"$f":"IF(M343=\"\",\"\",INDEX('OTRAS REFERENTES'!$M:$O,MATCH(M343,'OTRAS REFERENTES'!$M:$M,0),2))","v":""},null,null,null,null,null,null,null,null,null,{"$f":"IF(X343=\"\",\"\",INDEX(referentes!$Y:$Z,MATCH(DATOS!X343,referentes!$Z:$Z,0),))","v":""},null,null,null,null,"OA",null,"SO",null,null,"",null,null,null,null,null,null,null,null,null,null,{"$f":"IF(AS343<>\"\",VLOOKUP(AS343,#REF!,2,TRUE),\"\")","v":""},null,{"$f":"IF(AU343<>\"\",VLOOKUP(AU343,#REF!,2,FALSE),\"\")","v":""},null,null,null,{"$f":"IF(AY343<>\"\",VLOOKUP(AY343,#REF!,2,TRUE),\"\")","v":""},null,339,"",null,{"$f":"IF(BD343=\"\",\"\",INDEX(referentes!$J:$K,MATCH(BD343,referentes!$J:$J,0),2))","v":""},null,null,{"$f":"IF(BG343=\"\",\"\",INDEX(referentes!$G:$H,MATCH(BG343,referentes!$G:$G,0),2))","v":""},{"$f":"IF(BD343=\"\",\"\",INDEX(referentes!$J:$P,MATCH(BD343,referentes!$J:$J,0),7))","v":""},""]
["19000100",{"$f":"DIGITADOR!$B$2","v":""},0,{"$f":"IF(E344<>\"\",CONCATENATE($A$2,DIGITADOR!$M$1,O344,AH344),\"\")","v":""},null,null,"","",null,null,null,null,"",{"$f":"IF(M344=\"\",\"\",INDEX('OTRAS REFERENTES'!$M:$O,MATCH(M344,'OTRAS REFERENTES'!$M:$M,0),3))","v":""},{"$f":"IF(M344=\"\",\"\",INDEX('OTRAS REFERENTES'!$M:$O,MATCH(M344,'OTRAS REFERENTES'!$M:$M,0),2))","v":""},null,null,null,null,null,null,null,null,null,{"$f":"IF(X344=\"\",\"\",INDEX(referentes!$Y:$Z,MATCH(DATOS!X344,referentes!$Z:$Z,0),))","v":""},null,null,null,null,"OA",null,"SO",null,null,"",null,null,null,null,null,null,null,null,null,null,{"$f":"IF(AS344<>\"\",VLOOKUP(AS344,#REF!,2,TRUE),\"\")","v":""},null,{"$f":"IF(AU344<>\"\",VLOOKUP(AU344,#REF!,2,FALSE),\"\")","v":""},null,null,null,{"$f":"IF(AY344<>\"\",VLOOKUP(AY344,#REF!,2,TRUE),\"\")","v":""},null,340,"",null,{"$f":"IF(BD344=\"\",\"\",INDEX(referentes!$J:$K,MATCH(BD344,referentes!$J:$J,0),2))","v":""},null,null,{"$f":"IF(BG344=\"\",\"\",INDEX(referentes!$G:$H,MATCH(BG344,referentes!$G:$G,0),2))","v":""},{"$f":"IF(BD344=\"\",\"\",INDEX(referentes!$J:$P,MATCH(BD344,referentes!$J:$J,0),7))","v":""},""]
["19000100",{"$f":"DIGITADOR!$B$2","v":""},0,{"$f":"IF(E345<>\"\",CONCATENATE($A$2,DIGITADOR!$M$1,O345,AH345),\"\")","v":""},null,null,"","",null,null,null,null,"",{"$f":"IF(M345=\"\",\"\",INDEX('OTRAS REFERENTES'!$M:$O,MATCH(M345,'OTRAS REFERENTES'!$M:$M,0),3))","v":""},{"$f":"IF(M345=\"\",\"\",INDEX('OTRAS REFERENTES'!$M:$O,MATCH(M345,'OTRAS REFERENTES'!$M:$M,0),2))","v":""},null,null,null,null,null,null,null,null,null,{"$f":"IF(X345=\"\",\"\",INDEX(referentes!$Y:$Z,MATCH(DATOS!X345,referentes!$Z:$Z,0),))","v":""},null,null,null,null,"OA",null,"SO",null,null,"",null,null,null,null,null,null,null,null,null,null,{"$f":"IF(AS345<>\"\",VLOOKUP(AS345,#REF!,2,TRUE),\"\")","v":""},null,{"$f":"IF(AU345<>\"\",VLOOKUP(AU345,#REF!,2,FALSE),\"\")","v":""},null,null,null,{"$f":"IF(AY345<>\"\",VLOOKUP(AY345,#REF!,2,TRUE),\"\")","v":""},null,341,"",null,{"$f":"IF(BD345=\"\",\"\",INDEX(referentes!$J:$K,MATCH(BD345,referentes!$J:$J,0),2))","v":""},null,null,{"$f":"IF(BG345=\"\",\"\",INDEX(referentes!$G:$H,MATCH(BG345,referentes!$G:$G,0),2))","v":""},{"$f":"IF(BD345=\"\",\"\",INDEX(referentes!$J:$P,MATCH(BD345,referentes!$J:$J,0),7))","v":""},""]
["19000100",{"$f":"DIGITADOR!$B$2","v":""},0,{"$f":"IF(E346<>\"\",CONCATENATE($A$2,DIGITADOR!$M$1,O346,AH346),\"\")","v":""},null,null,"","",null,null,null,null,"",{"$f":"IF(M346=\"\",\"\",INDEX('OTRAS REFERENTES'!$M:$O,MATCH(M346,'OTRAS REFERENTES'!$M:$M,0),3))","v":""},{"$f":"IF(M346=\"\",\"\",INDEX('OTRAS REFERENTES'!$M:$O,MATCH(M346,'OTRAS REFERENTES'!$M:$M,0),2))","v":""},null,null,null,null,null,null,null,null,null,{"$f":"IF(X346=\"\",\"\",INDEX(referentes!$Y:$Z,MATCH(DATOS!X346,referentes!$Z:$Z,0),))","v":""},null,null,null,null,"OA",null,"SO",null,null,"",null,null,null,null,null,null,null,null,null,null,{"$f":"IF(AS346<>\"\",VLOOKUP(AS346,#REF!,2,TRUE),\"\")","v":""},null,{"$f":"IF(AU346<>\"\",VLOOKUP(AU346,#REF!,2,FALSE),\"\")","v":""},null,null,null,{"$f":"IF(AY346<>\"\",VLOOKUP(AY346,#REF!,2,TRUE),\"\")","v":""},null,342,"",null,{"$f":"IF(BD346=\"\",\"\",INDEX(referentes!$J:$K,MATCH(BD346,referentes!$J:$J,0),2))","v":""},null,null,{"$f":"IF(BG346=\"\",\"\",INDEX(referentes!$G:$H,MATCH(BG346,referentes!$G:$G,0),2))","v":""},{"$f":"IF(BD346=\"\",\"\",INDEX(referentes!$J:$P,MATCH(BD346,referentes!$J:$J,0),7))","v":""},""]
["19000100",{"$f":"DIGITADOR!$B$2","v":""},0,{"$f":"IF(E347<>\"\",CONCATENATE($A$2,DIGITADOR!$M$1,O347,AH347),\"\")","v":""},null,null,"","",null,null,null,null,"",{"$f":"IF(M347=\"\",\"\",INDEX('OTRAS REFERENTES'!$M:$O,MATCH(M347,'OTRAS REFERENTES'!$M:$M,0),3))","v":""},{"$f":"IF(M347=\"\",\"\",INDEX('OTRAS REFERENTES'!$M:$O,MATCH(M347,'OTRAS REFERENTES'!$M:$M,0),2))","v":""},null,null,null,null,null,null,null,null,null,{"$f":"IF(X347=\"\",\"\",INDEX(referentes!$Y:$Z,MATCH(DATOS!X347,referentes!$Z:$Z,0),))","v":""},null,null,null,null,"OA",null,"SO",null,null,"",null,null,null,null,null,null,null,null,null,null,{"$f":"IF(AS347<>\"\",VLOOKUP(AS347,#REF!,2,TRUE),\"\")","v":""},null,{"$f":"IF(AU347<>\"\",VLOOKUP(AU347,#REF!,2,FALSE),\"\")","v":""},null,null,null,{"$f":"IF(AY347<>\"\",VLOOKUP(AY347,#REF!,2,TRUE),\"\")","v":""},null,343,"",null,{"$f":"IF(BD347=\"\",\"\",INDEX(referentes!$J:$K,MATCH(BD347,referentes!$J:$J,0),2))","v":""},null,null,{"$f":"IF(BG347=\"\",\"\",INDEX(referentes!$G:$H,MATCH(BG347,referentes!$G:$G,0),2))","v":""},{"$f":"IF(BD347=\"\",\"\",INDEX(referentes!$J:$P,MATCH(BD347,referentes!$J:$J,0),7))","v":""},""]
["19000100",{"$f":"DIGITADOR!$B$2","v":""},0,{"$f":"IF(E348<>\"\",CONCATENATE($A$2,DIGITADOR!$M$1,O348,AH348),\"\")","v":""},null,null,"","",null,null,null,null,"",{"$f":"IF(M348=\"\",\"\",INDEX('OTRAS REFERENTES'!$M:$O,MATCH(M348,'OTRAS REFERENTES'!$M:$M,0),3))","v":""},{"$f":"IF(M348=\"\",\"\",INDEX('OTRAS REFERENTES'!$M:$O,MATCH(M348,'OTRAS REFERENTES'!$M:$M,0),2))","v":""},null,null,null,null,null,null,null,null,null,{"$f":"IF(X348=\"\",\"\",INDEX(referentes!$Y:$Z,MATCH(DATOS!X348,referentes!$Z:$Z,0),))","v":""},null,null,null,null,"OA",null,"SO",null,null,"",null,null,null,null,null,null,null,null,null,null,{"$f":"IF(AS348<>\"\",VLOOKUP(AS348,#REF!,2,TRUE),\"\")","v":""},null,{"$f":"IF(AU348<>\"\",VLOOKUP(AU348,#REF!,2,FALSE),\"\")","v":""},null,null,null,{"$f":"IF(AY348<>\"\",VLOOKUP(AY348,#REF!,2,TRUE),\"\")","v":""},null,344,"",null,{"$f":"IF(BD348=\"\",\"\",INDEX(referentes!$J:$K,MATCH(BD348,referentes!$J:$J,0),2))","v":""},null,null,{"$f":"IF(BG348=\"\",\"\",INDEX(referentes!$G:$H,MATCH(BG348,referentes!$G:$G,0),2))","v":""},{"$f":"IF(BD348=\"\",\"\",INDEX(referentes!$J:$P,MATCH(BD348,referentes!$J:$J,0),7))","v":""},""]
["19000100",{"$f":"DIGITADOR!$B$2","v":""},0,{"$f":"IF(E349<>\"\",CONCATENATE($A$2,DIGITADOR!$M$1,O349,AH349),\"\")","v":""},null,null,"","",null,null,null,null,"",{"$f":"IF(M349=\"\",\"\",INDEX('OTRAS REFERENTES'!$M:$O,MATCH(M349,'OTRAS REFERENTES'!$M:$M,0),3))","v":""},{"$f":"IF(M349=\"\",\"\",INDEX('OTRAS REFERENTES'!$M:$O,MATCH(M349,'OTRAS REFERENTES'!$M:$M,0),2))","v":""},null,null,null,null,null,null,null,null,null,{"$f":"IF(X349=\"\",\"\",INDEX(referentes!$Y:$Z,MATCH(DATOS!X349,referentes!$Z:$Z,0),))","v":""},null,null,null,null,"OA",null,"SO",null,null,"",null,null,null,null,null,null,null,null,null,null,{"$f":"IF(AS349<>\"\",VLOOKUP(AS349,#REF!,2,TRUE),\"\")","v":""},null,{"$f":"IF(AU349<>\"\",VLOOKUP(AU349,#REF!,2,FALSE),\"\")","v":""},null,null,null,{"$f":"IF(AY349<>\"\",VLOOKUP(AY349,#REF!,2,TRUE),\"\")","v":""},null,345,"",null,{"$f":"IF(BD349=\"\",\"\",INDEX(referentes!$J:$K,MATCH(BD349,referentes!$J:$J,0),2))","v":""},null,null,{"$f":"IF(BG349=\"\",\"\",INDEX(referentes!$G:$H,MATCH(BG349,referentes!$G:$G,0),2))","v":""},{"$f":"IF(BD349=\"\",\"\",INDEX(referentes!$J:$P,MATCH(BD349,referentes!$J:$J,0),7))","v":""},""]
["19000100",{"$f":"DIGITADOR!$B$2","v":""},0,{"$f":"IF(E350<>\"\",CONCATENATE($A$2,DIGITADOR!$M$1,O350,AH350),\"\")","v":""},null,null,"","",null,null,null,null,"",{"$f":"IF(M350=\"\",\"\",INDEX('OTRAS REFERENTES'!$M:$O,MATCH(M350,'OTRAS REFERENTES'!$M:$M,0),3))","v":""},{"$f":"IF(M350=\"\",\"\",INDEX('OTRAS REFERENTES'!$M:$O,MATCH(M350,'OTRAS REFERENTES'!$M:$M,0),2))","v":""},null,null,null,null,null,null,null,null,null,{"$f":"IF(X350=\"\",\"\",INDEX(referentes!$Y:$Z,MATCH(DATOS!X350,referentes!$Z:$Z,0),))","v":""},null,null,null,null,"OA",null,"SO",null,null,"",null,null,null,null,null,null,null,null,null,null,{"$f":"IF(AS350<>\"\",VLOOKUP(AS350,#REF!,2,TRUE),\"\")","v":""},null,{"$f":"IF(AU350<>\"\",VLOOKUP(AU350,#REF!,2,FALSE),\"\")","v":""},null,null,null,{"$f":"IF(AY350<>\"\",VLOOKUP(AY350,#REF!,2,TRUE),\"\")","v":""},null,346,"",null,{"$f":"IF(BD350=\"\",\"\",INDEX(referentes!$J:$K,MATCH(BD350,referentes!$J:$J,0),2))","v":""},null,null,{"$f":"IF(BG350=\"\",\"\",INDEX(referentes!$G:$H,MATCH(BG350,referentes!$G:$G,0),2))","v":""},{"$f":"IF(BD350=\"\",\"\",INDEX(referentes!$J:$P,MATCH(BD350,referentes!$J:$J,0),7))","v":""},""]
["19000100",{"$f":"DIGITADOR!$B$2","v":""},0,{"$f":"IF(E351<>\"\",CONCATENATE($A$2,DIGITADOR!$M$1,O351,AH351),\"\")","v":""},null,null,"","",null,null,null,null,"",{"$f":"IF(M351=\"\",\"\",INDEX('OTRAS REFERENTES'!$M:$O,MATCH(M351,'OTRAS REFERENTES'!$M:$M,0),3))","v":""},{"$f":"IF(M351=\"\",\"\",INDEX('OTRAS REFERENTES'!$M:$O,MATCH(M351,'OTRAS REFERENTES'!$M:$M,0),2))","v":""},null,null,null,null,null,null,null,null,null,{"$f":"IF(X351=\"\",\"\",INDEX(referentes!$Y:$Z,MATCH(DATOS!X351,referentes!$Z:$Z,0),))","v":""},null,null,null,null,"OA",null,"SO",null,null,"",null,null,null,null,null,null,null,null,null,null,{"$f":"IF(AS351<>\"\",VLOOKUP(AS351,#REF!,2,TRUE),\"\")","v":""},null,{"$f":"IF(AU351<>\"\",VLOOKUP(AU351,#REF!,2,FALSE),\"\")","v":""},null,null,null,{"$f":"IF(AY351<>\"\",VLOOKUP(AY351,#REF!,2,TRUE),\"\")","v":""},null,347,"",null,{"$f":"IF(BD351=\"\",\"\",INDEX(referentes!$J:$K,MATCH(BD351,referentes!$J:$J,0),2))","v":""},null,null,{"$f":"IF(BG351=\"\",\"\",INDEX(referentes!$G:$H,MATCH(BG351,referentes!$G:$G,0),2))","v":""},{"$f":"IF(BD351=\"\",\"\",INDEX(referentes!$J:$P,MATCH(BD351,referentes!$J:$J,0),7))","v":""},""]
["19000100",{"$f":"DIGITADOR!$B$2","v":""},0,{"$f":"IF(E352<>\"\",CONCATENATE($A$2,DIGITADOR!$M$1,O352,AH352),\"\")","v":""},null,null,"","",null,null,null,null,"",{"$f":"IF(M352=\"\",\"\",INDEX('OTRAS REFERENTES'!$M:$O,MATCH(M352,'OTRAS REFERENTES'!$M:$M,0),3))","v":""},{"$f":"IF(M352=\"\",\"\",INDEX('OTRAS REFERENTES'!$M:$O,MATCH(M352,'OTRAS REFERENTES'!$M:$M,0),2))","v":""},null,null,null,null,null,null,null,null,null,{"$f":"IF(X352=\"\",\"\",INDEX(referentes!$Y:$Z,MATCH(DATOS!X352,referentes!$Z:$Z,0),))","v":""},null,null,null,null,"OA",null,"SO",null,null,"",null,null,null,null,null,null,null,null,null,null,{"$f":"IF(AS352<>\"\",VLOOKUP(AS352,#REF!,2,TRUE),\"\")","v":""},null,{"$f":"IF(AU352<>\"\",VLOOKUP(AU352,#REF!,2,FALSE),\"\")","v":""},null,null,null,{"$f":"IF(AY352<>\"\",VLOOKUP(AY352,#REF!,2,TRUE),\"\")","v":""},null,348,"",null,{"$f":"IF(BD352=\"\",\"\",INDEX(referentes!$J:$K,MATCH(BD352,referentes!$J:$J,0),2))","v":""},null,null,{"$f":"IF(BG352=\"\",\"\",INDEX(referentes!$G:$H,MATCH(BG352,referentes!$G:$G,0),2))","v":""},{"$f":"IF(BD352=\"\",\"\",INDEX(referentes!$J:$P,MATCH(BD352,referentes!$J:$J,0),7))","v":""},""]
["19000100",{"$f":"DIGITADOR!$B$2","v":""},0,{"$f":"IF(E353<>\"\",CONCATENATE($A$2,DIGITADOR!$M$1,O353,AH353),\"\")","v":""},null,null,"","",null,null,null,null,"",{"$f":"IF(M353=\"\",\"\",INDEX('OTRAS REFERENTES'!$M:$O,MATCH(M353,'OTRAS REFERENTES'!$M:$M,0),3))","v":""},{"$f":"IF(M353=\"\",\"\",INDEX('OTRAS REFERENTES'!$M:$O,MATCH(M353,'OTRAS REFERENTES'!$M:$M,0),2))","v":""},null,null,null,null,null,null,null,null,null,{"$f":"IF(X353=\"\",\"\",INDEX(referentes!$Y:$Z,MATCH(DATOS!X353,referentes!$Z:$Z,0),))","v":""},null,null,null,null,"OA",null,"SO",null,null,"",null,null,null,null,null,null,null,null,null,null,{"$f":"IF(AS353<>\"\",VLOOKUP(AS353,#REF!,2,TRUE),\"\")","v":""},null,{"$f":"IF(AU353<>\"\",VLOOKUP(AU353,#REF!,2,FALSE),\"\")","v":""},null,null,null,{"$f":"IF(AY353<>\"\",VLOOKUP(AY353,#REF!,2,TRUE),\"\")","v":""},null,349,"",null,{"$f":"IF(BD353=\"\",\"\",INDEX(referentes!$J:$K,MATCH(BD353,referentes!$J:$J,0),2))","v":""},null,null,{"$f":"IF(BG353=\"\",\"\",INDEX(referentes!$G:$H,MATCH(BG353,referentes!$G:$G,0),2))","v":""},{"$f":"IF(BD353=\"\",\"\",INDEX(referentes!$J:$P,MATCH(BD353,referentes!$J:$J,0),7))","v":""},""]
["19000100",{"$f":"DIGITADOR!$B$2","v":""},0,{"$f":"IF(E354<>\"\",CONCATENATE($A$2,DIGITADOR!$M$1,O354,AH354),\"\")","v":""},null,null,"","",null,null,null,null,"",{"$f":"IF(M354=\"\",\"\",INDEX('OTRAS REFERENTES'!$M:$O,MATCH(M354,'OTRAS REFERENTES'!$M:$M,0),3))","v":""},{"$f":"IF(M354=\"\",\"\",INDEX('OTRAS REFERENTES'!$M:$O,MATCH(M354,'OTRAS REFERENTES'!$M:$M,0),2))","v":""},null,null,null,null,null,null,null,null,null,{"$f":"IF(X354=\"\",\"\",INDEX(referentes!$Y:$Z,MATCH(DATOS!X354,referentes!$Z:$Z,0),))","v":""},null,null,null,null,"OA",null,"SO",null,null,"",null,null,null,null,null,null,null,null,null,null,{"$f":"IF(AS354<>\"\",VLOOKUP(AS354,#REF!,2,TRUE),\"\")","v":""},null,{"$f":"IF(AU354<>\"\",VLOOKUP(AU354,#REF!,2,FALSE),\"\")","v":""},null,null,null,{"$f":"IF(AY354<>\"\",VLOOKUP(AY354,#REF!,2,TRUE),\"\")","v":""},null,350,"",null,{"$f":"IF(BD354=\"\",\"\",INDEX(referentes!$J:$K,MATCH(BD354,referentes!$J:$J,0),2))","v":""},null,null,{"$f":"IF(BG354=\"\",\"\",INDEX(referentes!$G:$H,MATCH(BG354,referentes!$G:$G,0),2))","v":""},{"$f":"IF(BD354=\"\",\"\",INDEX(referentes!$J:$P,MATCH(BD354,referentes!$J:$J,0),7))","v":""},""]
["19000100",{"$f":"DIGITADOR!$B$2","v":""},0,{"$f":"IF(E355<>\"\",CONCATENATE($A$2,DIGITADOR!$M$1,O355,AH355),\"\")","v":""},null,null,"","",null,null,null,null,"",{"$f":"IF(M355=\"\",\"\",INDEX('OTRAS REFERENTES'!$M:$O,MATCH(M355,'OTRAS REFERENTES'!$M:$M,0),3))","v":""},{"$f":"IF(M355=\"\",\"\",INDEX('OTRAS REFERENTES'!$M:$O,MATCH(M355,'OTRAS REFERENTES'!$M:$M,0),2))","v":""},null,null,null,null,null,null,null,null,null,{"$f":"IF(X355=\"\",\"\",INDEX(referentes!$Y:$Z,MATCH(DATOS!X355,referentes!$Z:$Z,0),))","v":""},null,null,null,null,"OA",null,"SO",null,null,"",null,null,null,null,null,null,null,null,null,null,{"$f":"IF(AS355<>\"\",VLOOKUP(AS355,#REF!,2,TRUE),\"\")","v":""},null,{"$f":"IF(AU355<>\"\",VLOOKUP(AU355,#REF!,2,FALSE),\"\")","v":""},null,null,null,{"$f":"IF(AY355<>\"\",VLOOKUP(AY355,#REF!,2,TRUE),\"\")","v":""},null,351,"",null,{"$f":"IF(BD355=\"\",\"\",INDEX(referentes!$J:$K,MATCH(BD355,referentes!$J:$J,0),2))","v":""},null,null,{"$f":"IF(BG355=\"\",\"\",INDEX(referentes!$G:$H,MATCH(BG355,referentes!$G:$G,0),2))","v":""},{"$f":"IF(BD355=\"\",\"\",INDEX(referentes!$J:$P,MATCH(BD355,referentes!$J:$J,0),7))","v":""},""]
["19000100",{"$f":"DIGITADOR!$B$2","v":""},0,{"$f":"IF(E356<>\"\",CONCATENATE($A$2,DIGITADOR!$M$1,O356,AH356),\"\")","v":""},null,null,"","",null,null,null,null,"",{"$f":"IF(M356=\"\",\"\",INDEX('OTRAS REFERENTES'!$M:$O,MATCH(M356,'OTRAS REFERENTES'!$M:$M,0),3))","v":""},{"$f":"IF(M356=\"\",\"\",INDEX('OTRAS REFERENTES'!$M:$O,MATCH(M356,'OTRAS REFERENTES'!$M:$M,0),2))","v":""},null,null,null,null,null,null,null,null,null,{"$f":"IF(X356=\"\",\"\",INDEX(referentes!$Y:$Z,MATCH(DATOS!X356,referentes!$Z:$Z,0),))","v":""},null,null,null,null,"OA",null,"SO",null,null,"",null,null,null,null,null,null,null,null,null,null,{"$f":"IF(AS356<>\"\",VLOOKUP(AS356,#REF!,2,TRUE),\"\")","v":""},null,{"$f":"IF(AU356<>\"\",VLOOKUP(AU356,#REF!,2,FALSE),\"\")","v":""},null,null,null,{"$f":"IF(AY356<>\"\",VLOOKUP(AY356,#REF!,2,TRUE),\"\")","v":""},null,352,"",null,{"$f":"IF(BD356=\"\",\"\",INDEX(referentes!$J:$K,MATCH(BD356,referentes!$J:$J,0),2))","v":""},null,null,{"$f":"IF(BG356=\"\",\"\",INDEX(referentes!$G:$H,MATCH(BG356,referentes!$G:$G,0),2))","v":""},{"$f":"IF(BD356=\"\",\"\",INDEX(referentes!$J:$P,MATCH(BD356,referentes!$J:$J,0),7))","v":""},""]
["19000100",{"$f":"DIGITADOR!$B$2","v":""},0,{"$f":"IF(E357<>\"\",CONCATENATE($A$2,DIGITADOR!$M$1,O357,AH357),\"\")","v":""},null,null,"","",null,null,null,null,"",{"$f":"IF(M357=\"\",\"\",INDEX('OTRAS REFERENTES'!$M:$O,MATCH(M357,'OTRAS REFERENTES'!$M:$M,0),3))","v":""},{"$f":"IF(M357=\"\",\"\",INDEX('OTRAS REFERENTES'!$M:$O,MATCH(M357,'OTRAS REFERENTES'!$M:$M,0),2))","v":""},null,null,null,null,null,null,null,null,null,{"$f":"IF(X357=\"\",\"\",INDEX(referentes!$Y:$Z,MATCH(DATOS!X357,referentes!$Z:$Z,0),))","v":""},null,null,null,null,"OA",null,"SO",null,null,"",null,null,null,null,null,null,null,null,null,null,{"$f":"IF(AS357<>\"\",VLOOKUP(AS357,#REF!,2,TRUE),\"\")","v":""},null,{"$f":"IF(AU357<>\"\",VLOOKUP(AU357,#REF!,2,FALSE),\"\")","v":""},null,null,null,{"$f":"IF(AY357<>\"\",VLOOKUP(AY357,#REF!,2,TRUE),\"\")","v":""},null,353,"",null,{"$f":"IF(BD357=\"\",\"\",INDEX(referentes!$J:$K,MATCH(BD357,referentes!$J:$J,0),2))","v":""},null,null,{"$f":"IF(BG357=\"\",\"\",INDEX(referentes!$G:$H,MATCH(BG357,referentes!$G:$G,0),2))","v":""},{"$f":"IF(BD357=\"\",\"\",INDEX(referentes!$J:$P,MATCH(BD357,referentes!$J:$J,0),7))","v":""},""]
["19000100",{"$f":"DIGITADOR!$B$2","v":""},0,{"$f":"IF(E358<>\"\",CONCATENATE($A$2,DIGITADOR!$M$1,O358,AH358),\"\")","v":""},null,null,"","",null,null,null,null,"",{"$f":"IF(M358=\"\",\"\",INDEX('OTRAS REFERENTES'!$M:$O,MATCH(M358,'OTRAS REFERENTES'!$M:$M,0),3))","v":""},{"$f":"IF(M358=\"\",\"\",INDEX('OTRAS REFERENTES'!$M:$O,MATCH(M358,'OTRAS REFERENTES'!$M:$M,0),2))","v":""},null,null,null,null,null,null,null,null,null,{"$f":"IF(X358=\"\",\"\",INDEX(referentes!$Y:$Z,MATCH(DATOS!X358,referentes!$Z:$Z,0),))","v":""},null,null,null,null,"OA",null,"SO",null,null,"",null,null,null,null,null,null,null,null,null,null,{"$f":"IF(AS358<>\"\",VLOOKUP(AS358,#REF!,2,TRUE),\"\")","v":""},null,{"$f":"IF(AU358<>\"\",VLOOKUP(AU358,#REF!,2,FALSE),\"\")","v":""},null,null,null,{"$f":"IF(AY358<>\"\",VLOOKUP(AY358,#REF!,2,TRUE),\"\")","v":""},null,354,"",null,{"$f":"IF(BD358=\"\",\"\",INDEX(referentes!$J:$K,MATCH(BD358,referentes!$J:$J,0),2))","v":""},null,null,{"$f":"IF(BG358=\"\",\"\",INDEX(referentes!$G:$H,MATCH(BG358,referentes!$G:$G,0),2))","v":""},{"$f":"IF(BD358=\"\",\"\",INDEX(referentes!$J:$P,MATCH(BD358,referentes!$J:$J,0),7))","v":""},""]
["19000100",{"$f":"DIGITADOR!$B$2","v":""},0,{"$f":"IF(E359<>\"\",CONCATENATE($A$2,DIGITADOR!$M$1,O359,AH359),\"\")","v":""},null,null,"","",null,null,null,null,"",{"$f":"IF(M359=\"\",\"\",INDEX('OTRAS REFERENTES'!$M:$O,MATCH(M359,'OTRAS REFERENTES'!$M:$M,0),3))","v":""},{"$f":"IF(M359=\"\",\"\",INDEX('OTRAS REFERENTES'!$M:$O,MATCH(M359,'OTRAS REFERENTES'!$M:$M,0),2))","v":""},null,null,null,null,null,null,null,null,null,{"$f":"IF(X359=\"\",\"\",INDEX(referentes!$Y:$Z,MATCH(DATOS!X359,referentes!$Z:$Z,0),))","v":""},null,null,null,null,"OA",null,"SO",null,null,"",null,null,null,null,null,null,null,null,null,null,{"$f":"IF(AS359<>\"\",VLOOKUP(AS359,#REF!,2,TRUE),\"\")","v":""},null,{"$f":"IF(AU359<>\"\",VLOOKUP(AU359,#REF!,2,FALSE),\"\")","v":""},null,null,null,{"$f":"IF(AY359<>\"\",VLOOKUP(AY359,#REF!,2,TRUE),\"\")","v":""},null,355,"",null,{"$f":"IF(BD359=\"\",\"\",INDEX(referentes!$J:$K,MATCH(BD359,referentes!$J:$J,0),2))","v":""},null,null,{"$f":"IF(BG359=\"\",\"\",INDEX(referentes!$G:$H,MATCH(BG359,referentes!$G:$G,0),2))","v":""},{"$f":"IF(BD359=\"\",\"\",INDEX(referentes!$J:$P,MATCH(BD359,referentes!$J:$J,0),7))","v":""},""]
["19000100",{"$f":"DIGITADOR!$B$2","v":""},0,{"$f":"IF(E360<>\"\",CONCATENATE($A$2,DIGITADOR!$M$1,O360,AH360),\"\")","v":""},null,null,"","",null,null,null,null,"",{"$f":"IF(M360=\"\",\"\",INDEX('OTRAS REFERENTES'!$M:$O,MATCH(M360,'OTRAS REFERENTES'!$M:$M,0),3))","v":""},{"$f":"IF(M360=\"\",\"\",INDEX('OTRAS REFERENTES'!$M:$O,MATCH(M360,'OTRAS REFERENTES'!$M:$M,0),2))","v":""},null,null,null,null,null,null,null,null,null,{"$f":"IF(X360=\"\",\"\",INDEX(referentes!$Y:$Z,MATCH(DATOS!X360,referentes!$Z:$Z,0),))","v":""},null,null,null,null,"OA",null,"SO",null,null,"",null,null,null,null,null,null,null,null,null,null,{"$f":"IF(AS360<>\"\",VLOOKUP(AS360,#REF!,2,TRUE),\"\")","v":""},null,{"$f":"IF(AU360<>\"\",VLOOKUP(AU360,#REF!,2,FALSE),\"\")","v":""},null,null,null,{"$f":"IF(AY360<>\"\",VLOOKUP(AY360,#REF!,2,TRUE),\"\")","v":""},null,356,"",null,{"$f":"IF(BD360=\"\",\"\",INDEX(referentes!$J:$K,MATCH(BD360,referentes!$J:$J,0),2))","v":""},null,null,{"$f":"IF(BG360=\"\",\"\",INDEX(referentes!$G:$H,MATCH(BG360,referentes!$G:$G,0),2))","v":""},{"$f":"IF(BD360=\"\",\"\",INDEX(referentes!$J:$P,MATCH(BD360,referentes!$J:$J,0),7))","v":""},""]
["19000100",{"$f":"DIGITADOR!$B$2","v":""},{"$f":"IF(Z361=Z360,C360,C360+1)","v":0},{"$f":"IF(E361<>\"\",CONCATENATE($A$2,DIGITADOR!$M$1,O361,AH361),\"\")","v":""},null,null,"","",null,null,null,null,"",{"$f":"IF(M361=\"\",\"\",INDEX('OTRAS REFERENTES'!$M:$O,MATCH(M361,'OTRAS REFERENTES'!$M:$M,0),3))","v":""},{"$f":"IF(M361=\"\",\"\",INDEX('OTRAS REFERENTES'!$M:$O,MATCH(M361,'OTRAS REFERENTES'!$M:$M,0),2))","v":""},null,null,null,null,null,null,null,null,null,{"$f":"IF(X361=\"\",\"\",INDEX(referentes!$Y:$Z,MATCH(DATOS!X361,referentes!$Z:$Z,0),))","v":""},null,null,null,null,"OA",null,"SO",null,null,"",null,null,null,null,null,null,null,null,null,null,{"$f":"IF(AS361<>\"\",VLOOKUP(AS361,#REF!,2,TRUE),\"\")","v":""},null,{"$f":"IF(AU361<>\"\",VLOOKUP(AU361,#REF!,2,FALSE),\"\")","v":""},null,null,null,{"$f":"IF(AY361<>\"\",VLOOKUP(AY361,#REF!,2,TRUE),\"\")","v":""},null,357,"",null,{"$f":"IF(BD361=\"\",\"\",INDEX(referentes!$J:$K,MATCH(BD361,referentes!$J:$J,0),2))","v":""},null,null,{"$f":"IF(BG361=\"\",\"\",INDEX(referentes!$G:$H,MATCH(BG361,referentes!$G:$G,0),2))","v":""},{"$f":"IF(BD361=\"\",\"\",INDEX(referentes!$J:$P,MATCH(BD361,referentes!$J:$J,0),7))","v":""},""]
["19000100",{"$f":"DIGITADOR!$B$2","v":""},0,{"$f":"IF(E362<>\"\",CONCATENATE($A$2,DIGITADOR!$M$1,O362,AH362),\"\")","v":""},null,null,"","",null,null,null,null,"",{"$f":"IF(M362=\"\",\"\",INDEX('OTRAS REFERENTES'!$M:$O,MATCH(M362,'OTRAS REFERENTES'!$M:$M,0),3))","v":""},{"$f":"IF(M362=\"\",\"\",INDEX('OTRAS REFERENTES'!$M:$O,MATCH(M362,'OTRAS REFERENTES'!$M:$M,0),2))","v":""},null,null,null,null,null,null,null,null,null,{"$f":"IF(X362=\"\",\"\",INDEX(referentes!$Y:$Z,MATCH(DATOS!X362,referentes!$Z:$Z,0),))","v":""},null,null,null,null,"OA",null,"SO",null,null,"",null,null,null,null,null,null,null,null,null,null,{"$f":"IF(AS362<>\"\",VLOOKUP(AS362,#REF!,2,TRUE),\"\")","v":""},null,{"$f":"IF(AU362<>\"\",VLOOKUP(AU362,#REF!,2,FALSE),\"\")","v":""},null,null,null,{"$f":"IF(AY362<>\"\",VLOOKUP(AY362,#REF!,2,TRUE),\"\")","v":""},null,358,"",null,{"$f":"IF(BD362=\"\",\"\",INDEX(referentes!$J:$K,MATCH(BD362,referentes!$J:$J,0),2))","v":""},null,null,{"$f":"IF(BG362=\"\",\"\",INDEX(referentes!$G:$H,MATCH(BG362,referentes!$G:$G,0),2))","v":""},{"$f":"IF(BD362=\"\",\"\",INDEX(referentes!$J:$P,MATCH(BD362,referentes!$J:$J,0),7))","v":""},""]
["19000100",{"$f":"DIGITADOR!$B$2","v":""},0,{"$f":"IF(E363<>\"\",CONCATENATE($A$2,DIGITADOR!$M$1,O363,AH363),\"\")","v":""},null,null,"","",null,null,null,null,"",{"$f":"IF(M363=\"\",\"\",INDEX('OTRAS REFERENTES'!$M:$O,MATCH(M363,'OTRAS REFERENTES'!$M:$M,0),3))","v":""},{"$f":"IF(M363=\"\",\"\",INDEX('OTRAS REFERENTES'!$M:$O,MATCH(M363,'OTRAS REFERENTES'!$M:$M,0),2))","v":""},null,null,null,null,null,null,null,null,null,{"$f":"IF(X363=\"\",\"\",INDEX(referentes!$Y:$Z,MATCH(DATOS!X363,referentes!$Z:$Z,0),))","v":""},null,null,null,null,"OA",null,"SO",null,null,"",null,null,null,null,null,null,null,null,null,null,{"$f":"IF(AS363<>\"\",VLOOKUP(AS363,#REF!,2,TRUE),\"\")","v":""},null,{"$f":"IF(AU363<>\"\",VLOOKUP(AU363,#REF!,2,FALSE),\"\")","v":""},null,null,null,{"$f":"IF(AY363<>\"\",VLOOKUP(AY363,#REF!,2,TRUE),\"\")","v":""},null,359,"",null,{"$f":"IF(BD363=\"\",\"\",INDEX(referentes!$J:$K,MATCH(BD363,referentes!$J:$J,0),2))","v":""},null,null,{"$f":"IF(BG363=\"\",\"\",INDEX(referentes!$G:$H,MATCH(BG363,referentes!$G:$G,0),2))","v":""},{"$f":"IF(BD363=\"\",\"\",INDEX(referentes!$J:$P,MATCH(BD363,referentes!$J:$J,0),7))","v":""},""]
["19000100",{"$f":"DIGITADOR!$B$2","v":""},0,{"$f":"IF(E364<>\"\",CONCATENATE($A$2,DIGITADOR!$M$1,O364,AH364),\"\")","v":""},null,null,"","",null,null,null,null,"",{"$f":"IF(M364=\"\",\"\",INDEX('OTRAS REFERENTES'!$M:$O,MATCH(M364,'OTRAS REFERENTES'!$M:$M,0),3))","v":""},{"$f":"IF(M364=\"\",\"\",INDEX('OTRAS REFERENTES'!$M:$O,MATCH(M364,'OTRAS REFERENTES'!$M:$M,0),2))","v":""},null,null,null,null,null,null,null,null,null,{"$f":"IF(X364=\"\",\"\",INDEX(referentes!$Y:$Z,MATCH(DATOS!X364,referentes!$Z:$Z,0),))","v":""},null,null,null,null,"OA",null,"SO",null,null,"",null,null,null,null,null,null,null,null,null,null,{"$f":"IF(AS364<>\"\",VLOOKUP(AS364,#REF!,2,TRUE),\"\")","v":""},null,{"$f":"IF(AU364<>\"\",VLOOKUP(AU364,#REF!,2,FALSE),\"\")","v":""},null,null,null,{"$f":"IF(AY364<>\"\",VLOOKUP(AY364,#REF!,2,TRUE),\"\")","v":""},null,360,"",null,{"$f":"IF(BD364=\"\",\"\",INDEX(referentes!$J:$K,MATCH(BD364,referentes!$J:$J,0),2))","v":""},null,null,{"$f":"IF(BG364=\"\",\"\",INDEX(referentes!$G:$H,MATCH(BG364,referentes!$G:$G,0),2))","v":""},{"$f":"IF(BD364=\"\",\"\",INDEX(referentes!$J:$P,MATCH(BD364,referentes!$J:$J,0),7))","v":""},""]
["19000100",{"$f":"DIGITADOR!$B$2","v":""},0,{"$f":"IF(E365<>\"\",CONCATENATE($A$2,DIGITADOR!$M$1,O365,AH365),\"\")","v":""},null,null,"","",null,null,null,null,"",{"$f":"IF(M365=\"\",\"\",INDEX('OTRAS REFERENTES'!$M:$O,MATCH(M365,'OTRAS REFERENTES'!$M:$M,0),3))","v":""},{"$f":"IF(M365=\"\",\"\",INDEX('OTRAS REFERENTES'!$M:$O,MATCH(M365,'OTRAS REFERENTES'!$M:$M,0),2))","v":""},null,null,null,null,null,null,null,null,null,{"$f":"IF(X365=\"\",\"\",INDEX(referentes!$Y:$Z,MATCH(DATOS!X365,referentes!$Z:$Z,0),))","v":""},null,null,null,null,"OA",null,"SO",null,null,"",null,null,null,null,null,null,null,null,null,null,{"$f":"IF(AS365<>\"\",VLOOKUP(AS365,#REF!,2,TRUE),\"\")","v":""},null,{"$f":"IF(AU365<>\"\",VLOOKUP(AU365,#REF!,2,FALSE),\"\")","v":""},null,null,null,{"$f":"IF(AY365<>\"\",VLOOKUP(AY365,#REF!,2,TRUE),\"\")","v":""},null,361,"",null,{"$f":"IF(BD365=\"\",\"\",INDEX(referentes!$J:$K,MATCH(BD365,referentes!$J:$J,0),2))","v":""},null,null,{"$f":"IF(BG365=\"\",\"\",INDEX(referentes!$G:$H,MATCH(BG365,referentes!$G:$G,0),2))","v":""},{"$f":"IF(BD365=\"\",\"\",INDEX(referentes!$J:$P,MATCH(BD365,referentes!$J:$J,0),7))","v":""},""]
["19000100",{"$f":"DIGITADOR!$B$2","v":""},0,{"$f":"IF(E366<>\"\",CONCATENATE($A$2,DIGITADOR!$M$1,O366,AH366),\"\")","v":""},null,null,"","",null,null,null,null,"",{"$f":"IF(M366=\"\",\"\",INDEX('OTRAS REFERENTES'!$M:$O,MATCH(M366,'OTRAS REFERENTES'!$M:$M,0),3))","v":""},{"$f":"IF(M366=\"\",\"\",INDEX('OTRAS REFERENTES'!$M:$O,MATCH(M366,'OTRAS REFERENTES'!$M:$M,0),2))","v":""},null,null,null,null,null,null,null,null,null,{"$f":"IF(X366=\"\",\"\",INDEX(referentes!$Y:$Z,MATCH(DATOS!X366,referentes!$Z:$Z,0),))","v":""},null,null,null,null,"OA",null,"SO",null,null,"",null,null,null,null,null,null,null,null,null,null,{"$f":"IF(AS366<>\"\",VLOOKUP(AS366,#REF!,2,TRUE),\"\")","v":""},null,{"$f":"IF(AU366<>\"\",VLOOKUP(AU366,#REF!,2,FALSE),\"\")","v":""},null,null,null,{"$f":"IF(AY366<>\"\",VLOOKUP(AY366,#REF!,2,TRUE),\"\")","v":""},null,362,"",null,{"$f":"IF(BD366=\"\",\"\",INDEX(referentes!$J:$K,MATCH(BD366,referentes!$J:$J,0),2))","v":""},null,null,{"$f":"IF(BG366=\"\",\"\",INDEX(referentes!$G:$H,MATCH(BG366,referentes!$G:$G,0),2))","v":""},{"$f":"IF(BD366=\"\",\"\",INDEX(referentes!$J:$P,MATCH(BD366,referentes!$J:$J,0),7))","v":""},""]
["19000100",{"$f":"DIGITADOR!$B$2","v":""},0,{"$f":"IF(E367<>\"\",CONCATENATE($A$2,DIGITADOR!$M$1,O367,AH367),\"\")","v":""},null,null,"","",null,null,null,null,"",{"$f":"IF(M367=\"\",\"\",INDEX('OTRAS REFERENTES'!$M:$O,MATCH(M367,'OTRAS REFERENTES'!$M:$M,0),3))","v":""},{"$f":"IF(M367=\"\",\"\",INDEX('OTRAS REFERENTES'!$M:$O,MATCH(M367,'OTRAS REFERENTES'!$M:$M,0),2))","v":""},null,null,null,null,null,null,null,null,null,{"$f":"IF(X367=\"\",\"\",INDEX(referentes!$Y:$Z,MATCH(DATOS!X367,referentes!$Z:$Z,0),))","v":""},null,null,null,null,"OA",null,"SO",null,null,"",null,null,null,null,null,null,null,null,null,null,{"$f":"IF(AS367<>\"\",VLOOKUP(AS367,#REF!,2,TRUE),\"\")","v":""},null,{"$f":"IF(AU367<>\"\",VLOOKUP(AU367,#REF!,2,FALSE),\"\")","v":""},null,null,null,{"$f":"IF(AY367<>\"\",VLOOKUP(AY367,#REF!,2,TRUE),\"\")","v":""},null,363,"",null,{"$f":"IF(BD367=\"\",\"\",INDEX(referentes!$J:$K,MATCH(BD367,referentes!$J:$J,0),2))","v":""},null,null,{"$f":"IF(BG367=\"\",\"\",INDEX(referentes!$G:$H,MATCH(BG367,referentes!$G:$G,0),2))","v":""},{"$f":"IF(BD367=\"\",\"\",INDEX(referentes!$J:$P,MATCH(BD367,referentes!$J:$J,0),7))","v":""},""]
["19000100",{"$f":"DIGITADOR!$B$2","v":""},0,{"$f":"IF(E368<>\"\",CONCATENATE($A$2,DIGITADOR!$M$1,O368,AH368),\"\")","v":""},null,null,"","",null,null,null,null,"",{"$f":"IF(M368=\"\",\"\",INDEX('OTRAS REFERENTES'!$M:$O,MATCH(M368,'OTRAS REFERENTES'!$M:$M,0),3))","v":""},{"$f":"IF(M368=\"\",\"\",INDEX('OTRAS REFERENTES'!$M:$O,MATCH(M368,'OTRAS REFERENTES'!$M:$M,0),2))","v":""},null,null,null,null,null,null,null,null,null,{"$f":"IF(X368=\"\",\"\",INDEX(referentes!$Y:$Z,MATCH(DATOS!X368,referentes!$Z:$Z,0),))","v":""},null,null,null,null,"OA",null,"SO",null,null,"",null,null,null,null,null,null,null,null,null,null,{"$f":"IF(AS368<>\"\",VLOOKUP(AS368,#REF!,2,TRUE),\"\")","v":""},null,{"$f":"IF(AU368<>\"\",VLOOKUP(AU368,#REF!,2,FALSE),\"\")","v":""},null,null,null,{"$f":"IF(AY368<>\"\",VLOOKUP(AY368,#REF!,2,TRUE),\"\")","v":""},null,364,"",null,{"$f":"IF(BD368=\"\",\"\",INDEX(referentes!$J:$K,MATCH(BD368,referentes!$J:$J,0),2))","v":""},null,null,{"$f":"IF(BG368=\"\",\"\",INDEX(referentes!$G:$H,MATCH(BG368,referentes!$G:$G,0),2))","v":""},{"$f":"IF(BD368=\"\",\"\",INDEX(referentes!$J:$P,MATCH(BD368,referentes!$J:$J,0),7))","v":""},""]
["19000100",{"$f":"DIGITADOR!$B$2","v":""},0,{"$f":"IF(E369<>\"\",CONCATENATE($A$2,DIGITADOR!$M$1,O369,AH369),\"\")","v":""},null,null,"","",null,null,null,null,"",{"$f":"IF(M369=\"\",\"\",INDEX('OTRAS REFERENTES'!$M:$O,MATCH(M369,'OTRAS REFERENTES'!$M:$M,0),3))","v":""},{"$f":"IF(M369=\"\",\"\",INDEX('OTRAS REFERENTES'!$M:$O,MATCH(M369,'OTRAS REFERENTES'!$M:$M,0),2))","v":""},null,null,null,null,null,null,null,null,null,{"$f":"IF(X369=\"\",\"\",INDEX(referentes!$Y:$Z,MATCH(DATOS!X369,referentes!$Z:$Z,0),))","v":""},null,null,null,null,"OA",null,"SO",null,null,"",null,null,null,null,null,null,null,null,null,null,{"$f":"IF(AS369<>\"\",VLOOKUP(AS369,#REF!,2,TRUE),\"\")","v":""},null,{"$f":"IF(AU369<>\"\",VLOOKUP(AU369,#REF!,2,FALSE),\"\")","v":""},null,null,null,{"$f":"IF(AY369<>\"\",VLOOKUP(AY369,#REF!,2,TRUE),\"\")","v":""},null,365,"",null,{"$f":"IF(BD369=\"\",\"\",INDEX(referentes!$J:$K,MATCH(BD369,referentes!$J:$J,0),2))","v":""},null,null,{"$f":"IF(BG369=\"\",\"\",INDEX(referentes!$G:$H,MATCH(BG369,referentes!$G:$G,0),2))","v":""},{"$f":"IF(BD369=\"\",\"\",INDEX(referentes!$J:$P,MATCH(BD369,referentes!$J:$J,0),7))","v":""},""]
["19000100",{"$f":"DIGITADOR!$B$2","v":""},0,{"$f":"IF(E370<>\"\",CONCATENATE($A$2,DIGITADOR!$M$1,O370,AH370),\"\")","v":""},null,null,"","",null,null,null,null,"",{"$f":"IF(M370=\"\",\"\",INDEX('OTRAS REFERENTES'!$M:$O,MATCH(M370,'OTRAS REFERENTES'!$M:$M,0),3))","v":""},{"$f":"IF(M370=\"\",\"\",INDEX('OTRAS REFERENTES'!$M:$O,MATCH(M370,'OTRAS REFERENTES'!$M:$M,0),2))","v":""},null,null,null,null,null,null,null,null,null,{"$f":"IF(X370=\"\",\"\",INDEX(referentes!$Y:$Z,MATCH(DATOS!X370,referentes!$Z:$Z,0),))","v":""},null,null,null,null,"OA",null,"SO",null,null,"",null,null,null,null,null,null,null,null,null,null,{"$f":"IF(AS370<>\"\",VLOOKUP(AS370,#REF!,2,TRUE),\"\")","v":""},null,{"$f":"IF(AU370<>\"\",VLOOKUP(AU370,#REF!,2,FALSE),\"\")","v":""},null,null,null,{"$f":"IF(AY370<>\"\",VLOOKUP(AY370,#REF!,2,TRUE),\"\")","v":""},null,366,"",null,{"$f":"IF(BD370=\"\",\"\",INDEX(referentes!$J:$K,MATCH(BD370,referentes!$J:$J,0),2))","v":""},null,null,{"$f":"IF(BG370=\"\",\"\",INDEX(referentes!$G:$H,MATCH(BG370,referentes!$G:$G,0),2))","v":""},{"$f":"IF(BD370=\"\",\"\",INDEX(referentes!$J:$P,MATCH(BD370,referentes!$J:$J,0),7))","v":""},""]
["19000100",{"$f":"DIGITADOR!$B$2","v":""},0,{"$f":"IF(E371<>\"\",CONCATENATE($A$2,DIGITADOR!$M$1,O371,AH371),\"\")","v":""},null,null,"","",null,null,null,null,"",{"$f":"IF(M371=\"\",\"\",INDEX('OTRAS REFERENTES'!$M:$O,MATCH(M371,'OTRAS REFERENTES'!$M:$M,0),3))","v":""},{"$f":"IF(M371=\"\",\"\",INDEX('OTRAS REFERENTES'!$M:$O,MATCH(M371,'OTRAS REFERENTES'!$M:$M,0),2))","v":""},null,null,null,null,null,null,null,null,null,{"$f":"IF(X371=\"\",\"\",INDEX(referentes!$Y:$Z,MATCH(DATOS!X371,referentes!$Z:$Z,0),))","v":""},null,null,null,null,"OA",null,"SO",null,null,"",null,null,null,null,null,null,null,null,null,null,{"$f":"IF(AS371<>\"\",VLOOKUP(AS371,#REF!,2,TRUE),\"\")","v":""},null,{"$f":"IF(AU371<>\"\",VLOOKUP(AU371,#REF!,2,FALSE),\"\")","v":""},null,null,null,{"$f":"IF(AY371<>\"\",VLOOKUP(AY371,#REF!,2,TRUE),\"\")","v":""},null,367,"",null,{"$f":"IF(BD371=\"\",\"\",INDEX(referentes!$J:$K,MATCH(BD371,referentes!$J:$J,0),2))","v":""},null,null,{"$f":"IF(BG371=\"\",\"\",INDEX(referentes!$G:$H,MATCH(BG371,referentes!$G:$G,0),2))","v":""},{"$f":"IF(BD371=\"\",\"\",INDEX(referentes!$J:$P,MATCH(BD371,referentes!$J:$J,0),7))","v":""},""]
["19000100",{"$f":"DIGITADOR!$B$2","v":""},0,{"$f":"IF(E372<>\"\",CONCATENATE($A$2,DIGITADOR!$M$1,O372,AH372),\"\")","v":""},null,null,"","",null,null,null,null,"",{"$f":"IF(M372=\"\",\"\",INDEX('OTRAS REFERENTES'!$M:$O,MATCH(M372,'OTRAS REFERENTES'!$M:$M,0),3))","v":""},{"$f":"IF(M372=\"\",\"\",INDEX('OTRAS REFERENTES'!$M:$O,MATCH(M372,'OTRAS REFERENTES'!$M:$M,0),2))","v":""},null,null,null,null,null,null,null,null,null,{"$f":"IF(X372=\"\",\"\",INDEX(referentes!$Y:$Z,MATCH(DATOS!X372,referentes!$Z:$Z,0),))","v":""},null,null,null,null,"OA",null,"SO",null,null,"",null,null,null,null,null,null,null,null,null,null,{"$f":"IF(AS372<>\"\",VLOOKUP(AS372,#REF!,2,TRUE),\"\")","v":""},null,{"$f":"IF(AU372<>\"\",VLOOKUP(AU372,#REF!,2,FALSE),\"\")","v":""},null,null,null,{"$f":"IF(AY372<>\"\",VLOOKUP(AY372,#REF!,2,TRUE),\"\")","v":""},null,368,"",null,{"$f":"IF(BD372=\"\",\"\",INDEX(referentes!$J:$K,MATCH(BD372,referentes!$J:$J,0),2))","v":""},null,null,{"$f":"IF(BG372=\"\",\"\",INDEX(referentes!$G:$H,MATCH(BG372,referentes!$G:$G,0),2))","v":""},{"$f":"IF(BD372=\"\",\"\",INDEX(referentes!$J:$P,MATCH(BD372,referentes!$J:$J,0),7))","v":""},""]
["19000100",{"$f":"DIGITADOR!$B$2","v":""},0,{"$f":"IF(E373<>\"\",CONCATENATE($A$2,DIGITADOR!$M$1,O373,AH373),\"\")","v":""},null,null,"","",null,null,null,null,"",{"$f":"IF(M373=\"\",\"\",INDEX('OTRAS REFERENTES'!$M:$O,MATCH(M373,'OTRAS REFERENTES'!$M:$M,0),3))","v":""},{"$f":"IF(M373=\"\",\"\",INDEX('OTRAS REFERENTES'!$M:$O,MATCH(M373,'OTRAS REFERENTES'!$M:$M,0),2))","v":""},null,null,null,null,null,null,null,null,null,{"$f":"IF(X373=\"\",\"\",INDEX(referentes!$Y:$Z,MATCH(DATOS!X373,referentes!$Z:$Z,0),))","v":""},null,null,null,null,"OA",null,"SO",null,null,"",null,null,null,null,null,null,null,null,null,null,{"$f":"IF(AS373<>\"\",VLOOKUP(AS373,#REF!,2,TRUE),\"\")","v":""},null,{"$f":"IF(AU373<>\"\",VLOOKUP(AU373,#REF!,2,FALSE),\"\")","v":""},null,null,null,{"$f":"IF(AY373<>\"\",VLOOKUP(AY373,#REF!,2,TRUE),\"\")","v":""},null,369,"",null,{"$f":"IF(BD373=\"\",\"\",INDEX(referentes!$J:$K,MATCH(BD373,referentes!$J:$J,0),2))","v":""},null,null,{"$f":"IF(BG373=\"\",\"\",INDEX(referentes!$G:$H,MATCH(BG373,referentes!$G:$G,0),2))","v":""},{"$f":"IF(BD373=\"\",\"\",INDEX(referentes!$J:$P,MATCH(BD373,referentes!$J:$J,0),7))","v":""},""]
["19000100",{"$f":"DIGITADOR!$B$2","v":""},0,{"$f":"IF(E374<>\"\",CONCATENATE($A$2,DIGITADOR!$M$1,O374,AH374),\"\")","v":""},null,null,"","",null,null,null,null,"",{"$f":"IF(M374=\"\",\"\",INDEX('OTRAS REFERENTES'!$M:$O,MATCH(M374,'OTRAS REFERENTES'!$M:$M,0),3))","v":""},{"$f":"IF(M374=\"\",\"\",INDEX('OTRAS REFERENTES'!$M:$O,MATCH(M374,'OTRAS REFERENTES'!$M:$M,0),2))","v":""},null,null,null,null,null,null,null,null,null,{"$f":"IF(X374=\"\",\"\",INDEX(referentes!$Y:$Z,MATCH(DATOS!X374,referentes!$Z:$Z,0),))","v":""},null,null,null,null,"OA",null,"SO",null,null,"",null,null,null,null,null,null,null,null,null,null,{"$f":"IF(AS374<>\"\",VLOOKUP(AS374,#REF!,2,TRUE),\"\")","v":""},null,{"$f":"IF(AU374<>\"\",VLOOKUP(AU374,#REF!,2,FALSE),\"\")","v":""},null,null,null,{"$f":"IF(AY374<>\"\",VLOOKUP(AY374,#REF!,2,TRUE),\"\")","v":""},null,370,"",null,{"$f":"IF(BD374=\"\",\"\",INDEX(referentes!$J:$K,MATCH(BD374,referentes!$J:$J,0),2))","v":""},null,null,{"$f":"IF(BG374=\"\",\"\",INDEX(referentes!$G:$H,MATCH(BG374,referentes!$G:$G,0),2))","v":""},{"$f":"IF(BD374=\"\",\"\",INDEX(referentes!$J:$P,MATCH(BD374,referentes!$J:$J,0),7))","v":""},""]
["19000100",{"$f":"DIGITADOR!$B$2","v":""},0,{"$f":"IF(E375<>\"\",CONCATENATE($A$2,DIGITADOR!$M$1,O375,AH375),\"\")","v":""},null,null,"","",null,null,null,null,"",{"$f":"IF(M375=\"\",\"\",INDEX('OTRAS REFERENTES'!$M:$O,MATCH(M375,'OTRAS REFERENTES'!$M:$M,0),3))","v":""},{"$f":"IF(M375=\"\",\"\",INDEX('OTRAS REFERENTES'!$M:$O,MATCH(M375,'OTRAS REFERENTES'!$M:$M,0),2))","v":""},null,null,null,null,null,null,null,null,null,{"$f":"IF(X375=\"\",\"\",INDEX(referentes!$Y:$Z,MATCH(DATOS!X375,referentes!$Z:$Z,0),))","v":""},null,null,null,null,"OA",null,"SO",null,null,"",null,null,null,null,null,null,null,null,null,null,{"$f":"IF(AS375<>\"\",VLOOKUP(AS375,#REF!,2,TRUE),\"\")","v":""},null,{"$f":"IF(AU375<>\"\",VLOOKUP(AU375,#REF!,2,FALSE),\"\")","v":""},null,null,null,{"$f":"IF(AY375<>\"\",VLOOKUP(AY375,#REF!,2,TRUE),\"\")","v":""},null,371,"",null,{"$f":"IF(BD375=\"\",\"\",INDEX(referentes!$J:$K,MATCH(BD375,referentes!$J:$J,0),2))","v":""},null,null,{"$f":"IF(BG375=\"\",\"\",INDEX(referentes!$G:$H,MATCH(BG375,referentes!$G:$G,0),2))","v":""},{"$f":"IF(BD375=\"\",\"\",INDEX(referentes!$J:$P,MATCH(BD375,referentes!$J:$J,0),7))","v":""},""]
["19000100",{"$f":"DIGITADOR!$B$2","v":""},0,{"$f":"IF(E376<>\"\",CONCATENATE($A$2,DIGITADOR!$M$1,O376,AH376),\"\")","v":""},null,null,"","",null,null,null,null,"",{"$f":"IF(M376=\"\",\"\",INDEX('OTRAS REFERENTES'!$M:$O,MATCH(M376,'OTRAS REFERENTES'!$M:$M,0),3))","v":""},{"$f":"IF(M376=\"\",\"\",INDEX('OTRAS REFERENTES'!$M:$O,MATCH(M376,'OTRAS REFERENTES'!$M:$M,0),2))","v":""},null,null,null,null,null,null,null,null,null,{"$f":"IF(X376=\"\",\"\",INDEX(referentes!$Y:$Z,MATCH(DATOS!X376,referentes!$Z:$Z,0),))","v":""},null,null,null,null,"OA",null,"SO",null,null,"",null,null,null,null,null,null,null,null,null,null,{"$f":"IF(AS376<>\"\",VLOOKUP(AS376,#REF!,2,TRUE),\"\")","v":""},null,{"$f":"IF(AU376<>\"\",VLOOKUP(AU376,#REF!,2,FALSE),\"\")","v":""},null,null,null,{"$f":"IF(AY376<>\"\",VLOOKUP(AY376,#REF!,2,TRUE),\"\")","v":""},null,372,"",null,{"$f":"IF(BD376=\"\",\"\",INDEX(referentes!$J:$K,MATCH(BD376,referentes!$J:$J,0),2))","v":""},null,null,{"$f":"IF(BG376=\"\",\"\",INDEX(referentes!$G:$H,MATCH(BG376,referentes!$G:$G,0),2))","v":""},{"$f":"IF(BD376=\"\",\"\",INDEX(referentes!$J:$P,MATCH(BD376,referentes!$J:$J,0),7))","v":""},""]
["19000100",{"$f":"DIGITADOR!$B$2","v":""},0,{"$f":"IF(E377<>\"\",CONCATENATE($A$2,DIGITADOR!$M$1,O377,AH377),\"\")","v":""},null,null,"","",null,null,null,null,"",{"$f":"IF(M377=\"\",\"\",INDEX('OTRAS REFERENTES'!$M:$O,MATCH(M377,'OTRAS REFERENTES'!$M:$M,0),3))","v":""},{"$f":"IF(M377=\"\",\"\",INDEX('OTRAS REFERENTES'!$M:$O,MATCH(M377,'OTRAS REFERENTES'!$M:$M,0),2))","v":""},null,null,null,null,null,null,null,null,null,{"$f":"IF(X377=\"\",\"\",INDEX(referentes!$Y:$Z,MATCH(DATOS!X377,referentes!$Z:$Z,0),))","v":""},null,null,null,null,"OA",null,"SO",null,null,"",null,null,null,null,null,null,null,null,null,null,{"$f":"IF(AS377<>\"\",VLOOKUP(AS377,#REF!,2,TRUE),\"\")","v":""},null,{"$f":"IF(AU377<>\"\",VLOOKUP(AU377,#REF!,2,FALSE),\"\")","v":""},null,null,null,{"$f":"IF(AY377<>\"\",VLOOKUP(AY377,#REF!,2,TRUE),\"\")","v":""},null,373,"",null,{"$f":"IF(BD377=\"\",\"\",INDEX(referentes!$J:$K,MATCH(BD377,referentes!$J:$J,0),2))","v":""},null,null,{"$f":"IF(BG377=\"\",\"\",INDEX(referentes!$G:$H,MATCH(BG377,referentes!$G:$G,0),2))","v":""},{"$f":"IF(BD377=\"\",\"\",INDEX(referentes!$J:$P,MATCH(BD377,referentes!$J:$J,0),7))","v":""},""]
["19000100",{"$f":"DIGITADOR!$B$2","v":""},0,{"$f":"IF(E378<>\"\",CONCATENATE($A$2,DIGITADOR!$M$1,O378,AH378),\"\")","v":""},null,null,"","",null,null,null,null,"",{"$f":"IF(M378=\"\",\"\",INDEX('OTRAS REFERENTES'!$M:$O,MATCH(M378,'OTRAS REFERENTES'!$M:$M,0),3))","v":""},{"$f":"IF(M378=\"\",\"\",INDEX('OTRAS REFERENTES'!$M:$O,MATCH(M378,'OTRAS REFERENTES'!$M:$M,0),2))","v":""},null,null,null,null,null,null,null,null,null,{"$f":"IF(X378=\"\",\"\",INDEX(referentes!$Y:$Z,MATCH(DATOS!X378,referentes!$Z:$Z,0),))","v":""},null,null,null,null,"OA",null,"SO",null,null,"",null,null,null,null,null,null,null,null,null,null,{"$f":"IF(AS378<>\"\",VLOOKUP(AS378,#REF!,2,TRUE),\"\")","v":""},null,{"$f":"IF(AU378<>\"\",VLOOKUP(AU378,#REF!,2,FALSE),\"\")","v":""},null,null,null,{"$f":"IF(AY378<>\"\",VLOOKUP(AY378,#REF!,2,TRUE),\"\")","v":""},null,374,"",null,{"$f":"IF(BD378=\"\",\"\",INDEX(referentes!$J:$K,MATCH(BD378,referentes!$J:$J,0),2))","v":""},null,null,{"$f":"IF(BG378=\"\",\"\",INDEX(referentes!$G:$H,MATCH(BG378,referentes!$G:$G,0),2))","v":""},{"$f":"IF(BD378=\"\",\"\",INDEX(referentes!$J:$P,MATCH(BD378,referentes!$J:$J,0),7))","v":""},""]
["19000100",{"$f":"DIGITADOR!$B$2","v":""},0,{"$f":"IF(E379<>\"\",CONCATENATE($A$2,DIGITADOR!$M$1,O379,AH379),\"\")","v":""},null,null,"","",null,null,null,null,"",{"$f":"IF(M379=\"\",\"\",INDEX('OTRAS REFERENTES'!$M:$O,MATCH(M379,'OTRAS REFERENTES'!$M:$M,0),3))","v":""},{"$f":"IF(M379=\"\",\"\",INDEX('OTRAS REFERENTES'!$M:$O,MATCH(M379,'OTRAS REFERENTES'!$M:$M,0),2))","v":""},null,null,null,null,null,null,null,null,null,{"$f":"IF(X379=\"\",\"\",INDEX(referentes!$Y:$Z,MATCH(DATOS!X379,referentes!$Z:$Z,0),))","v":""},null,null,null,null,"OA",null,"SO",null,null,"",null,null,null,null,null,null,null,null,null,null,{"$f":"IF(AS379<>\"\",VLOOKUP(AS379,#REF!,2,TRUE),\"\")","v":""},null,{"$f":"IF(AU379<>\"\",VLOOKUP(AU379,#REF!,2,FALSE),\"\")","v":""},null,null,null,{"$f":"IF(AY379<>\"\",VLOOKUP(AY379,#REF!,2,TRUE),\"\")","v":""},null,375,"",null,{"$f":"IF(BD379=\"\",\"\",INDEX(referentes!$J:$K,MATCH(BD379,referentes!$J:$J,0),2))","v":""},null,null,{"$f":"IF(BG379=\"\",\"\",INDEX(referentes!$G:$H,MATCH(BG379,referentes!$G:$G,0),2))","v":""},{"$f":"IF(BD379=\"\",\"\",INDEX(referentes!$J:$P,MATCH(BD379,referentes!$J:$J,0),7))","v":""},""]
["19000100",{"$f":"DIGITADOR!$B$2","v":""},0,{"$f":"IF(E380<>\"\",CONCATENATE($A$2,DIGITADOR!$M$1,O380,AH380),\"\")","v":""},null,null,"","",null,null,null,null,"",{"$f":"IF(M380=\"\",\"\",INDEX('OTRAS REFERENTES'!$M:$O,MATCH(M380,'OTRAS REFERENTES'!$M:$M,0),3))","v":""},{"$f":"IF(M380=\"\",\"\",INDEX('OTRAS REFERENTES'!$M:$O,MATCH(M380,'OTRAS REFERENTES'!$M:$M,0),2))","v":""},null,null,null,null,null,null,null,null,null,{"$f":"IF(X380=\"\",\"\",INDEX(referentes!$Y:$Z,MATCH(DATOS!X380,referentes!$Z:$Z,0),))","v":""},null,null,null,null,"OA",null,"SO",null,null,"",null,null,null,null,null,null,null,null,null,null,{"$f":"IF(AS380<>\"\",VLOOKUP(AS380,#REF!,2,TRUE),\"\")","v":""},null,{"$f":"IF(AU380<>\"\",VLOOKUP(AU380,#REF!,2,FALSE),\"\")","v":""},null,null,null,{"$f":"IF(AY380<>\"\",VLOOKUP(AY380,#REF!,2,TRUE),\"\")","v":""},null,376,"",null,{"$f":"IF(BD380=\"\",\"\",INDEX(referentes!$J:$K,MATCH(BD380,referentes!$J:$J,0),2))","v":""},null,null,{"$f":"IF(BG380=\"\",\"\",INDEX(referentes!$G:$H,MATCH(BG380,referentes!$G:$G,0),2))","v":""},{"$f":"IF(BD380=\"\",\"\",INDEX(referentes!$J:$P,MATCH(BD380,referentes!$J:$J,0),7))","v":""},""]
["19000100",{"$f":"DIGITADOR!$B$2","v":""},0,{"$f":"IF(E381<>\"\",CONCATENATE($A$2,DIGITADOR!$M$1,O381,AH381),\"\")","v":""},null,null,"","",null,null,null,null,"",{"$f":"IF(M381=\"\",\"\",INDEX('OTRAS REFERENTES'!$M:$O,MATCH(M381,'OTRAS REFERENTES'!$M:$M,0),3))","v":""},{"$f":"IF(M381=\"\",\"\",INDEX('OTRAS REFERENTES'!$M:$O,MATCH(M381,'OTRAS REFERENTES'!$M:$M,0),2))","v":""},null,null,null,null,null,null,null,null,null,{"$f":"IF(X381=\"\",\"\",INDEX(referentes!$Y:$Z,MATCH(DATOS!X381,referentes!$Z:$Z,0),))","v":""},null,null,null,null,"OA",null,"SO",null,null,"",null,null,null,null,null,null,null,null,null,null,{"$f":"IF(AS381<>\"\",VLOOKUP(AS381,#REF!,2,TRUE),\"\")","v":""},null,{"$f":"IF(AU381<>\"\",VLOOKUP(AU381,#REF!,2,FALSE),\"\")","v":""},null,null,null,{"$f":"IF(AY381<>\"\",VLOOKUP(AY381,#REF!,2,TRUE),\"\")","v":""},null,377,"",null,{"$f":"IF(BD381=\"\",\"\",INDEX(referentes!$J:$K,MATCH(BD381,referentes!$J:$J,0),2))","v":""},null,null,{"$f":"IF(BG381=\"\",\"\",INDEX(referentes!$G:$H,MATCH(BG381,referentes!$G:$G,0),2))","v":""},{"$f":"IF(BD381=\"\",\"\",INDEX(referentes!$J:$P,MATCH(BD381,referentes!$J:$J,0),7))","v":""},""]
["19000100",{"$f":"DIGITADOR!$B$2","v":""},0,{"$f":"IF(E382<>\"\",CONCATENATE($A$2,DIGITADOR!$M$1,O382,AH382),\"\")","v":""},null,null,"","",null,null,null,null,"",{"$f":"IF(M382=\"\",\"\",INDEX('OTRAS REFERENTES'!$M:$O,MATCH(M382,'OTRAS REFERENTES'!$M:$M,0),3))","v":""},{"$f":"IF(M382=\"\",\"\",INDEX('OTRAS REFERENTES'!$M:$O,MATCH(M382,'OTRAS REFERENTES'!$M:$M,0),2))","v":""},null,null,null,null,null,null,null,null,null,{"$f":"IF(X382=\"\",\"\",INDEX(referentes!$Y:$Z,MATCH(DATOS!X382,referentes!$Z:$Z,0),))","v":""},null,null,null,null,"OA",null,"SO",null,null,"",null,null,null,null,null,null,null,null,null,null,{"$f":"IF(AS382<>\"\",VLOOKUP(AS382,#REF!,2,TRUE),\"\")","v":""},null,{"$f":"IF(AU382<>\"\",VLOOKUP(AU382,#REF!,2,FALSE),\"\")","v":""},null,null,null,{"$f":"IF(AY382<>\"\",VLOOKUP(AY382,#REF!,2,TRUE),\"\")","v":""},null,378,"",null,{"$f":"IF(BD382=\"\",\"\",INDEX(referentes!$J:$K,MATCH(BD382,referentes!$J:$J,0),2))","v":""},null,null,{"$f":"IF(BG382=\"\",\"\",INDEX(referentes!$G:$H,MATCH(BG382,referentes!$G:$G,0),2))","v":""},{"$f":"IF(BD382=\"\",\"\",INDEX(referentes!$J:$P,MATCH(BD382,referentes!$J:$J,0),7))","v":""},""]
["19000100",{"$f":"DIGITADOR!$B$2","v":""},0,{"$f":"IF(E383<>\"\",CONCATENATE($A$2,DIGITADOR!$M$1,O383,AH383),\"\")","v":""},null,null,"","",null,null,null,null,"",{"$f":"IF(M383=\"\",\"\",INDEX('OTRAS REFERENTES'!$M:$O,MATCH(M383,'OTRAS REFERENTES'!$M:$M,0),3))","v":""},{"$f":"IF(M383=\"\",\"\",INDEX('OTRAS REFERENTES'!$M:$O,MATCH(M383,'OTRAS REFERENTES'!$M:$M,0),2))","v":""},null,null,null,null,null,null,null,null,null,{"$f":"IF(X383=\"\",\"\",INDEX(referentes!$Y:$Z,MATCH(DATOS!X383,referentes!$Z:$Z,0),))","v":""},null,null,null,null,"OA",null,"SO",null,null,"",null,null,null,null,null,null,null,null,null,null,{"$f":"IF(AS383<>\"\",VLOOKUP(AS383,#REF!,2,TRUE),\"\")","v":""},null,{"$f":"IF(AU383<>\"\",VLOOKUP(AU383,#REF!,2,FALSE),\"\")","v":""},null,null,null,{"$f":"IF(AY383<>\"\",VLOOKUP(AY383,#REF!,2,TRUE),\"\")","v":""},null,379,"",null,{"$f":"IF(BD383=\"\",\"\",INDEX(referentes!$J:$K,MATCH(BD383,referentes!$J:$J,0),2))","v":""},null,null,{"$f":"IF(BG383=\"\",\"\",INDEX(referentes!$G:$H,MATCH(BG383,referentes!$G:$G,0),2))","v":""},{"$f":"IF(BD383=\"\",\"\",INDEX(referentes!$J:$P,MATCH(BD383,referentes!$J:$J,0),7))","v":""},""]
["19000100",{"$f":"DIGITADOR!$B$2","v":""},0,{"$f":"IF(E384<>\"\",CONCATENATE($A$2,DIGITADOR!$M$1,O384,AH384),\"\")","v":""},null,null,"","",null,null,null,null,"",{"$f":"IF(M384=\"\",\"\",INDEX('OTRAS REFERENTES'!$M:$O,MATCH(M384,'OTRAS REFERENTES'!$M:$M,0),3))","v":""},{"$f":"IF(M384=\"\",\"\",INDEX('OTRAS REFERENTES'!$M:$O,MATCH(M384,'OTRAS REFERENTES'!$M:$M,0),2))","v":""},null,null,null,null,null,null,null,null,null,{"$f":"IF(X384=\"\",\"\",INDEX(referentes!$Y:$Z,MATCH(DATOS!X384,referentes!$Z:$Z,0),))","v":""},null,null,null,null,"OA",null,"SO",null,null,"",null,null,null,null,null,null,null,null,null,null,{"$f":"IF(AS384<>\"\",VLOOKUP(AS384,#REF!,2,TRUE),\"\")","v":""},null,{"$f":"IF(AU384<>\"\",VLOOKUP(AU384,#REF!,2,FALSE),\"\")","v":""},null,null,null,{"$f":"IF(AY384<>\"\",VLOOKUP(AY384,#REF!,2,TRUE),\"\")","v":""},null,380,"",null,{"$f":"IF(BD384=\"\",\"\",INDEX(referentes!$J:$K,MATCH(BD384,referentes!$J:$J,0),2))","v":""},null,null,{"$f":"IF(BG384=\"\",\"\",INDEX(referentes!$G:$H,MATCH(BG384,referentes!$G:$G,0),2))","v":""},{"$f":"IF(BD384=\"\",\"\",INDEX(referentes!$J:$P,MATCH(BD384,referentes!$J:$J,0),7))","v":""},""]
["19000100",{"$f":"DIGITADOR!$B$2","v":""},0,{"$f":"IF(E385<>\"\",CONCATENATE($A$2,DIGITADOR!$M$1,O385,AH385),\"\")","v":""},null,null,"","",null,null,null,null,"",{"$f":"IF(M385=\"\",\"\",INDEX('OTRAS REFERENTES'!$M:$O,MATCH(M385,'OTRAS REFERENTES'!$M:$M,0),3))","v":""},{"$f":"IF(M385=\"\",\"\",INDEX('OTRAS REFERENTES'!$M:$O,MATCH(M385,'OTRAS REFERENTES'!$M:$M,0),2))","v":""},null,null,null,null,null,null,null,null,null,{"$f":"IF(X385=\"\",\"\",INDEX(referentes!$Y:$Z,MATCH(DATOS!X385,referentes!$Z:$Z,0),))","v":""},null,null,null,null,"OA",null,"SO",null,null,"",null,null,null,null,null,null,null,null,null,null,{"$f":"IF(AS385<>\"\",VLOOKUP(AS385,#REF!,2,TRUE),\"\")","v":""},null,{"$f":"IF(AU385<>\"\",VLOOKUP(AU385,#REF!,2,FALSE),\"\")","v":""},null,null,null,{"$f":"IF(AY385<>\"\",VLOOKUP(AY385,#REF!,2,TRUE),\"\")","v":""},null,381,"",null,{"$f":"IF(BD385=\"\",\"\",INDEX(referentes!$J:$K,MATCH(BD385,referentes!$J:$J,0),2))","v":""},null,null,{"$f":"IF(BG385=\"\",\"\",INDEX(referentes!$G:$H,MATCH(BG385,referentes!$G:$G,0),2))","v":""},{"$f":"IF(BD385=\"\",\"\",INDEX(referentes!$J:$P,MATCH(BD385,referentes!$J:$J,0),7))","v":""},""]
["19000100",{"$f":"DIGITADOR!$B$2","v":""},0,{"$f":"IF(E386<>\"\",CONCATENATE($A$2,DIGITADOR!$M$1,O386,AH386),\"\")","v":""},null,null,"","",null,null,null,null,"",{"$f":"IF(M386=\"\",\"\",INDEX('OTRAS REFERENTES'!$M:$O,MATCH(M386,'OTRAS REFERENTES'!$M:$M,0),3))","v":""},{"$f":"IF(M386=\"\",\"\",INDEX('OTRAS REFERENTES'!$M:$O,MATCH(M386,'OTRAS REFERENTES'!$M:$M,0),2))","v":""},null,null,null,null,null,null,null,null,null,{"$f":"IF(X386=\"\",\"\",INDEX(referentes!$Y:$Z,MATCH(DATOS!X386,referentes!$Z:$Z,0),))","v":""},null,null,null,null,"OA",null,"SO",null,null,"",null,null,null,null,null,null,null,null,null,null,{"$f":"IF(AS386<>\"\",VLOOKUP(AS386,#REF!,2,TRUE),\"\")","v":""},null,{"$f":"IF(AU386<>\"\",VLOOKUP(AU386,#REF!,2,FALSE),\"\")","v":""},null,null,null,{"$f":"IF(AY386<>\"\",VLOOKUP(AY386,#REF!,2,TRUE),\"\")","v":""},null,382,"",null,{"$f":"IF(BD386=\"\",\"\",INDEX(referentes!$J:$K,MATCH(BD386,referentes!$J:$J,0),2))","v":""},null,null,{"$f":"IF(BG386=\"\",\"\",INDEX(referentes!$G:$H,MATCH(BG386,referentes!$G:$G,0),2))","v":""},{"$f":"IF(BD386=\"\",\"\",INDEX(referentes!$J:$P,MATCH(BD386,referentes!$J:$J,0),7))","v":""},""]
["19000100",{"$f":"DIGITADOR!$B$2","v":""},0,{"$f":"IF(E387<>\"\",CONCATENATE($A$2,DIGITADOR!$M$1,O387,AH387),\"\")","v":""},null,null,"","",null,null,null,null,"",{"$f":"IF(M387=\"\",\"\",INDEX('OTRAS REFERENTES'!$M:$O,MATCH(M387,'OTRAS REFERENTES'!$M:$M,0),3))","v":""},{"$f":"IF(M387=\"\",\"\",INDEX('OTRAS REFERENTES'!$M:$O,MATCH(M387,'OTRAS REFERENTES'!$M:$M,0),2))","v":""},null,null,null,null,null,null,null,null,null,{"$f":"IF(X387=\"\",\"\",INDEX(referentes!$Y:$Z,MATCH(DATOS!X387,referentes!$Z:$Z,0),))","v":""},null,null,null,null,"OA",null,"SO",null,null,"",null,null,null,null,null,null,null,null,null,null,{"$f":"IF(AS387<>\"\",VLOOKUP(AS387,#REF!,2,TRUE),\"\")","v":""},null,{"$f":"IF(AU387<>\"\",VLOOKUP(AU387,#REF!,2,FALSE),\"\")","v":""},null,null,null,{"$f":"IF(AY387<>\"\",VLOOKUP(AY387,#REF!,2,TRUE),\"\")","v":""},null,383,"",null,{"$f":"IF(BD387=\"\",\"\",INDEX(referentes!$J:$K,MATCH(BD387,referentes!$J:$J,0),2))","v":""},null,null,{"$f":"IF(BG387=\"\",\"\",INDEX(referentes!$G:$H,MATCH(BG387,referentes!$G:$G,0),2))","v":""},{"$f":"IF(BD387=\"\",\"\",INDEX(referentes!$J:$P,MATCH(BD387,referentes!$J:$J,0),7))","v":""},""]
["19000100",{"$f":"DIGITADOR!$B$2","v":""},0,{"$f":"IF(E388<>\"\",CONCATENATE($A$2,DIGITADOR!$M$1,O388,AH388),\"\")","v":""},null,null,"","",null,null,null,null,"",{"$f":"IF(M388=\"\",\"\",INDEX('OTRAS REFERENTES'!$M:$O,MATCH(M388,'OTRAS REFERENTES'!$M:$M,0),3))","v":""},{"$f":"IF(M388=\"\",\"\",INDEX('OTRAS REFERENTES'!$M:$O,MATCH(M388,'OTRAS REFERENTES'!$M:$M,0),2))","v":""},null,null,null,null,null,null,null,null,null,{"$f":"IF(X388=\"\",\"\",INDEX(referentes!$Y:$Z,MATCH(DATOS!X388,referentes!$Z:$Z,0),))","v":""},null,null,null,null,"OA",null,"SO",null,null,"",null,null,null,null,null,null,null,null,null,null,{"$f":"IF(AS388<>\"\",VLOOKUP(AS388,#REF!,2,TRUE),\"\")","v":""},null,{"$f":"IF(AU388<>\"\",VLOOKUP(AU388,#REF!,2,FALSE),\"\")","v":""},null,null,null,{"$f":"IF(AY388<>\"\",VLOOKUP(AY388,#REF!,2,TRUE),\"\")","v":""},null,384,"",null,{"$f":"IF(BD388=\"\",\"\",INDEX(referentes!$J:$K,MATCH(BD388,referentes!$J:$J,0),2))","v":""},null,null,{"$f":"IF(BG388=\"\",\"\",INDEX(referentes!$G:$H,MATCH(BG388,referentes!$G:$G,0),2))","v":""},{"$f":"IF(BD388=\"\",\"\",INDEX(referentes!$J:$P,MATCH(BD388,referentes!$J:$J,0),7))","v":""},""]
["19000100",{"$f":"DIGITADOR!$B$2","v":""},0,{"$f":"IF(E389<>\"\",CONCATENATE($A$2,DIGITADOR!$M$1,O389,AH389),\"\")","v":""},null,null,"",{"$f":"IF(G389<>\"\",MONTH(G389),\"\")","v":""},null,null,null,null,"",{"$f":"IF(M389=\"\",\"\",INDEX('OTRAS REFERENTES'!$M:$O,MATCH(M389,'OTRAS REFERENTES'!$M:$M,0),3))","v":""},{"$f":"IF(M389=\"\",\"\",INDEX('OTRAS REFERENTES'!$M:$O,MATCH(M389,'OTRAS REFERENTES'!$M:$M,0),2))","v":""},null,null,null,null,null,null,null,null,null,{"$f":"IF(X389=\"\",\"\",INDEX(referentes!$Y:$Z,MATCH(DATOS!X389,referentes!$Z:$Z,0),))","v":""},null,null,null,null,"OA",null,"SO",null,null,"",null,null,null,null,null,null,null,null,null,null,{"$f":"IF(AS389<>\"\",VLOOKUP(AS389,#REF!,2,TRUE),\"\")","v":""},null,{"$f":"IF(AU389<>\"\",VLOOKUP(AU389,#REF!,2,FALSE),\"\")","v":""},null,null,null,{"$f":"IF(AY389<>\"\",VLOOKUP(AY389,#REF!,2,TRUE),\"\")","v":""},null,385,"",null,{"$f":"IF(BD389=\"\",\"\",INDEX(referentes!$J:$K,MATCH(BD389,referentes!$J:$J,0),2))","v":""},null,null,{"$f":"IF(BG389=\"\",\"\",INDEX(referentes!$G:$H,MATCH(BG389,referentes!$G:$G,0),2))","v":""},{"$f":"IF(BD389=\"\",\"\",INDEX(referentes!$J:$P,MATCH(BD389,referentes!$J:$J,0),7))","v":""},""]
[{"$f":"A389","v":"19000100"},{"$f":"DIGITADOR!$B$2","v":""},0,{"$f":"IF(E390<>\"\",CONCATENATE($A$2,DIGITADOR!$M$1,O390,AH390),\"\")","v":""},null,null,{"$f":"IF(E390=\"\",\"\",E390+F390)","v":""},"",null,null,null,null,{"$f":"IF(L390<>\"\",CONCATENATE(J390,L390),\"\")","v":""},{"$f":"IF(M390=\"\",\"\",INDEX('OTRAS REFERENTES'!$M:$O,MATCH(M390,'OTRAS REFERENTES'!$M:$M,0),3))","v":""},{"$f":"IF(M390=\"\",\"\",INDEX('OTRAS REFERENTES'!$M:$O,MATCH(M390,'OTRAS REFERENTES'!$M:$M,0),2))","v":""},null,null,null,null,null,null,null,null,null,{"$f":"IF(X390=\"\",\"\",INDEX(referentes!$Y:$Z,MATCH(DATOS!X390,referentes!$Z:$Z,0),))","v":""},null,null,null,null,"OA",null,"SO",null,null,{"$f":"CONCATENATE(AG390)","v":""},null,null,null,null,null,null,null,null,null,null,{"$f":"IF(AS390<>\"\",VLOOKUP(AS390,#REF!,2,TRUE),\"\")","v":""},null,{"$f":"IF(AU390<>\"\",VLOOKUP(AU390,#REF!,2,FALSE),\"\")","v":""},null,null,null,{"$f":"IF(AY390<>\"\",VLOOKUP(AY390,#REF!,2,TRUE),\"\")","v":""},null,386,{"$f":"IF(D390=\"\",\"\",CONCATENATE(D390,BB390))","v":""},null,{"$f":"IF(BD390=\"\",\"\",INDEX(referentes!$J:$K,MATCH(BD390,referentes!$J:$J,0),2))","v":""},null,null,{"$f":"IF(BG390=\"\",\"\",INDEX(referentes!$G:$H,MATCH(BG390,referentes!$G:$G,0),2))","v":""},{"$f":"IF(BD390=\"\",\"\",INDEX(referentes!$J:$P,MATCH(BD390,referentes!$J:$J,0),7))","v":""},{"$f":"IF(BD390=\"\",\"\",UPPER(BD390))","v":""}]
["19000100",{"$f":"DIGITADOR!$B$2","v":""},0,{"$f":"IF(E391<>\"\",CONCATENATE($A$2,DIGITADOR!$M$1,O391,AH391),\"\")","v":""},null,null,"","",null,null,null,null,"",{"$f":"IF(M391=\"\",\"\",INDEX('OTRAS REFERENTES'!$M:$O,MATCH(M391,'OTRAS REFERENTES'!$M:$M,0),3))","v":""},{"$f":"IF(M391=\"\",\"\",INDEX('OTRAS REFERENTES'!$M:$O,MATCH(M391,'OTRAS REFERENTES'!$M:$M,0),2))","v":""},null,null,null,null,null,null,null,null,null,{"$f":"IF(X391=\"\",\"\",INDEX(referentes!$Y:$Z,MATCH(DATOS!X391,referentes!$Z:$Z,0),))","v":""},null,null,null,null,"OA",null,"SO",null,null,"",null,null,null,null,null,null,null,null,null,null,{"$f":"IF(AS391<>\"\",VLOOKUP(AS391,#REF!,2,TRUE),\"\")","v":""},null,{"$f":"IF(AU391<>\"\",VLOOKUP(AU391,#REF!,2,FALSE),\"\")","v":""},null,null,null,{"$f":"IF(AY391<>\"\",VLOOKUP(AY391,#REF!,2,TRUE),\"\")","v":""},null,387,"",null,{"$f":"IF(BD391=\"\",\"\",INDEX(referentes!$J:$K,MATCH(BD391,referentes!$J:$J,0),2))","v":""},null,null,{"$f":"IF(BG391=\"\",\"\",INDEX(referentes!$G:$H,MATCH(BG391,referentes!$G:$G,0),2))","v":""},{"$f":"IF(BD391=\"\",\"\",INDEX(referentes!$J:$P,MATCH(BD391,referentes!$J:$J,0),7))","v":""},""]
["19000100",{"$f":"DIGITADOR!$B$2","v":""},0,{"$f":"IF(E392<>\"\",CONCATENATE($A$2,DIGITADOR!$M$1,O392,AH392),\"\")","v":""},null,null,"","",null,null,null,null,"",{"$f":"IF(M392=\"\",\"\",INDEX('OTRAS REFERENTES'!$M:$O,MATCH(M392,'OTRAS REFERENTES'!$M:$M,0),3))","v":""},{"$f":"IF(M392=\"\",\"\",INDEX('OTRAS REFERENTES'!$M:$O,MATCH(M392,'OTRAS REFERENTES'!$M:$M,0),2))","v":""},null,null,null,null,null,null,null,null,null,{"$f":"IF(X392=\"\",\"\",INDEX(referentes!$Y:$Z,MATCH(DATOS!X392,referentes!$Z:$Z,0),))","v":""},null,null,null,null,"OA",null,"SO",null,null,"",null,null,null,null,null,null,null,null,null,null,{"$f":"IF(AS392<>\"\",VLOOKUP(AS392,#REF!,2,TRUE),\"\")","v":""},null,{"$f":"IF(AU392<>\"\",VLOOKUP(AU392,#REF!,2,FALSE),\"\")","v":""},null,null,null,{"$f":"IF(AY392<>\"\",VLOOKUP(AY392,#REF!,2,TRUE),\"\")","v":""},null,388,"",null,{"$f":"IF(BD392=\"\",\"\",INDEX(referentes!$J:$K,MATCH(BD392,referentes!$J:$J,0),2))","v":""},null,null,{"$f":"IF(BG392=\"\",\"\",INDEX(referentes!$G:$H,MATCH(BG392,referentes!$G:$G,0),2))","v":""},{"$f":"IF(BD392=\"\",\"\",INDEX(referentes!$J:$P,MATCH(BD392,referentes!$J:$J,0),7))","v":""},""]
["19000100",{"$f":"DIGITADOR!$B$2","v":""},0,{"$f":"IF(E393<>\"\",CONCATENATE($A$2,DIGITADOR!$M$1,O393,AH393),\"\")","v":""},null,null,"","",null,null,null,null,"",{"$f":"IF(M393=\"\",\"\",INDEX('OTRAS REFERENTES'!$M:$O,MATCH(M393,'OTRAS REFERENTES'!$M:$M,0),3))","v":""},{"$f":"IF(M393=\"\",\"\",INDEX('OTRAS REFERENTES'!$M:$O,MATCH(M393,'OTRAS REFERENTES'!$M:$M,0),2))","v":""},null,null,null,null,null,null,null,null,null,{"$f":"IF(X393=\"\",\"\",INDEX(referentes!$Y:$Z,MATCH(DATOS!X393,referentes!$Z:$Z,0),))","v":""},null,null,null,null,"OA",null,"SO",null,null,"",null,null,null,null,null,null,null,null,null,null,{"$f":"IF(AS393<>\"\",VLOOKUP(AS393,#REF!,2,TRUE),\"\")","v":""},null,{"$f":"IF(AU393<>\"\",VLOOKUP(AU393,#REF!,2,FALSE),\"\")","v":""},null,null,null,{"$f":"IF(AY393<>\"\",VLOOKUP(AY393,#REF!,2,TRUE),\"\")","v":""},null,389,"",null,{"$f":"IF(BD393=\"\",\"\",INDEX(referentes!$J:$K,MATCH(BD393,referentes!$J:$J,0),2))","v":""},null,null,{"$f":"IF(BG393=\"\",\"\",INDEX(referentes!$G:$H,MATCH(BG393,referentes!$G:$G,0),2))","v":""},{"$f":"IF(BD393=\"\",\"\",INDEX(referentes!$J:$P,MATCH(BD393,referentes!$J:$J,0),7))","v":""},""]
["19000100",{"$f":"DIGITADOR!$B$2","v":""},0,{"$f":"IF(E394<>\"\",CONCATENATE($A$2,DIGITADOR!$M$1,O394,AH394),\"\")","v":""},null,null,"","",null,null,null,null,"",{"$f":"IF(M394=\"\",\"\",INDEX('OTRAS REFERENTES'!$M:$O,MATCH(M394,'OTRAS REFERENTES'!$M:$M,0),3))","v":""},{"$f":"IF(M394=\"\",\"\",INDEX('OTRAS REFERENTES'!$M:$O,MATCH(M394,'OTRAS REFERENTES'!$M:$M,0),2))","v":""},null,null,null,null,null,null,null,null,null,{"$f":"IF(X394=\"\",\"\",INDEX(referentes!$Y:$Z,MATCH(DATOS!X394,referentes!$Z:$Z,0),))","v":""},null,null,null,null,"OA",null,"SO",null,null,"",null,null,null,null,null,null,null,null,null,null,{"$f":"IF(AS394<>\"\",VLOOKUP(AS394,#REF!,2,TRUE),\"\")","v":""},null,{"$f":"IF(AU394<>\"\",VLOOKUP(AU394,#REF!,2,FALSE),\"\")","v":""},null,null,null,{"$f":"IF(AY394<>\"\",VLOOKUP(AY394,#REF!,2,TRUE),\"\")","v":""},null,390,"",null,{"$f":"IF(BD394=\"\",\"\",INDEX(referentes!$J:$K,MATCH(BD394,referentes!$J:$J,0),2))","v":""},null,null,{"$f":"IF(BG394=\"\",\"\",INDEX(referentes!$G:$H,MATCH(BG394,referentes!$G:$G,0),2))","v":""},{"$f":"IF(BD394=\"\",\"\",INDEX(referentes!$J:$P,MATCH(BD394,referentes!$J:$J,0),7))","v":""},""]
["19000100",{"$f":"DIGITADOR!$B$2","v":""},0,{"$f":"IF(E395<>\"\",CONCATENATE($A$2,DIGITADOR!$M$1,O395,AH395),\"\")","v":""},null,null,"","",null,null,null,null,"",{"$f":"IF(M395=\"\",\"\",INDEX('OTRAS REFERENTES'!$M:$O,MATCH(M395,'OTRAS REFERENTES'!$M:$M,0),3))","v":""},{"$f":"IF(M395=\"\",\"\",INDEX('OTRAS REFERENTES'!$M:$O,MATCH(M395,'OTRAS REFERENTES'!$M:$M,0),2))","v":""},null,null,null,null,null,null,null,null,null,{"$f":"IF(X395=\"\",\"\",INDEX(referentes!$Y:$Z,MATCH(DATOS!X395,referentes!$Z:$Z,0),))","v":""},null,null,null,null,"OA",null,"SO",null,null,"",null,null,null,null,null,null,null,null,null,null,{"$f":"IF(AS395<>\"\",VLOOKUP(AS395,#REF!,2,TRUE),\"\")","v":""},null,{"$f":"IF(AU395<>\"\",VLOOKUP(AU395,#REF!,2,FALSE),\"\")","v":""},null,null,null,{"$f":"IF(AY395<>\"\",VLOOKUP(AY395,#REF!,2,TRUE),\"\")","v":""},null,391,"",null,{"$f":"IF(BD395=\"\",\"\",INDEX(referentes!$J:$K,MATCH(BD395,referentes!$J:$J,0),2))","v":""},null,null,{"$f":"IF(BG395=\"\",\"\",INDEX(referentes!$G:$H,MATCH(BG395,referentes!$G:$G,0),2))","v":""},{"$f":"IF(BD395=\"\",\"\",INDEX(referentes!$J:$P,MATCH(BD395,referentes!$J:$J,0),7))","v":""},""]
["19000100",{"$f":"DIGITADOR!$B$2","v":""},0,{"$f":"IF(E396<>\"\",CONCATENATE($A$2,DIGITADOR!$M$1,O396,AH396),\"\")","v":""},null,null,"","",null,null,null,null,"",{"$f":"IF(M396=\"\",\"\",INDEX('OTRAS REFERENTES'!$M:$O,MATCH(M396,'OTRAS REFERENTES'!$M:$M,0),3))","v":""},{"$f":"IF(M396=\"\",\"\",INDEX('OTRAS REFERENTES'!$M:$O,MATCH(M396,'OTRAS REFERENTES'!$M:$M,0),2))","v":""},null,null,null,null,null,null,null,null,null,{"$f":"IF(X396=\"\",\"\",INDEX(referentes!$Y:$Z,MATCH(DATOS!X396,referentes!$Z:$Z,0),))","v":""},null,null,null,null,"OA",null,"SO",null,null,"",null,null,null,null,null,null,null,null,null,null,{"$f":"IF(AS396<>\"\",VLOOKUP(AS396,#REF!,2,TRUE),\"\")","v":""},null,{"$f":"IF(AU396<>\"\",VLOOKUP(AU396,#REF!,2,FALSE),\"\")","v":""},null,null,null,{"$f":"IF(AY396<>\"\",VLOOKUP(AY396,#REF!,2,TRUE),\"\")","v":""},null,392,"",null,{"$f":"IF(BD396=\"\",\"\",INDEX(referentes!$J:$K,MATCH(BD396,referentes!$J:$J,0),2))","v":""},null,null,{"$f":"IF(BG396=\"\",\"\",INDEX(referentes!$G:$H,MATCH(BG396,referentes!$G:$G,0),2))","v":""},{"$f":"IF(BD396=\"\",\"\",INDEX(referentes!$J:$P,MATCH(BD396,referentes!$J:$J,0),7))","v":""},""]
["19000100",{"$f":"DIGITADOR!$B$2","v":""},0,{"$f":"IF(E397<>\"\",CONCATENATE($A$2,DIGITADOR!$M$1,O397,AH397),\"\")","v":""},null,null,"","",null,null,null,null,"",{"$f":"IF(M397=\"\",\"\",INDEX('OTRAS REFERENTES'!$M:$O,MATCH(M397,'OTRAS REFERENTES'!$M:$M,0),3))","v":""},{"$f":"IF(M397=\"\",\"\",INDEX('OTRAS REFERENTES'!$M:$O,MATCH(M397,'OTRAS REFERENTES'!$M:$M,0),2))","v":""},null,null,null,null,null,null,null,null,null,{"$f":"IF(X397=\"\",\"\",INDEX(referentes!$Y:$Z,MATCH(DATOS!X397,referentes!$Z:$Z,0),))","v":""},null,null,null,null,"OA",null,"SO",null,null,"",null,null,null,null,null,null,null,null,null,null,{"$f":"IF(AS397<>\"\",VLOOKUP(AS397,#REF!,2,TRUE),\"\")","v":""},null,{"$f":"IF(AU397<>\"\",VLOOKUP(AU397,#REF!,2,FALSE),\"\")","v":""},null,null,null,{"$f":"IF(AY397<>\"\",VLOOKUP(AY397,#REF!,2,TRUE),\"\")","v":""},null,393,"",null,{"$f":"IF(BD397=\"\",\"\",INDEX(referentes!$J:$K,MATCH(BD397,referentes!$J:$J,0),2))","v":""},null,null,{"$f":"IF(BG397=\"\",\"\",INDEX(referentes!$G:$H,MATCH(BG397,referentes!$G:$G,0),2))","v":""},{"$f":"IF(BD397=\"\",\"\",INDEX(referentes!$J:$P,MATCH(BD397,referentes!$J:$J,0),7))","v":""},""]
["19000100",{"$f":"DIGITADOR!$B$2","v":""},0,{"$f":"IF(E398<>\"\",CONCATENATE($A$2,DIGITADOR!$M$1,O398,AH398),\"\")","v":""},null,null,"","",null,null,null,null,"",{"$f":"IF(M398=\"\",\"\",INDEX('OTRAS REFERENTES'!$M:$O,MATCH(M398,'OTRAS REFERENTES'!$M:$M,0),3))","v":""},{"$f":"IF(M398=\"\",\"\",INDEX('OTRAS REFERENTES'!$M:$O,MATCH(M398,'OTRAS REFERENTES'!$M:$M,0),2))","v":""},null,null,null,null,null,null,null,null,null,{"$f":"IF(X398=\"\",\"\",INDEX(referentes!$Y:$Z,MATCH(DATOS!X398,referentes!$Z:$Z,0),))","v":""},null,null,null,null,"OA",null,"SO",null,null,"",null,null,null,null,null,null,null,null,null,null,{"$f":"IF(AS398<>\"\",VLOOKUP(AS398,#REF!,2,TRUE),\"\")","v":""},null,{"$f":"IF(AU398<>\"\",VLOOKUP(AU398,#REF!,2,FALSE),\"\")","v":""},null,null,null,{"$f":"IF(AY398<>\"\",VLOOKUP(AY398,#REF!,2,TRUE),\"\")","v":""},null,394,"",null,{"$f":"IF(BD398=\"\",\"\",INDEX(referentes!$J:$K,MATCH(BD398,referentes!$J:$J,0),2))","v":""},null,null,{"$f":"IF(BG398=\"\",\"\",INDEX(referentes!$G:$H,MATCH(BG398,referentes!$G:$G,0),2))","v":""},{"$f":"IF(BD398=\"\",\"\",INDEX(referentes!$J:$P,MATCH(BD398,referentes!$J:$J,0),7))","v":""},""]
["19000100",{"$f":"DIGITADOR!$B$2","v":""},0,{"$f":"IF(E399<>\"\",CONCATENATE($A$2,DIGITADOR!$M$1,O399,AH399),\"\")","v":""},null,null,"","",null,null,null,null,"",{"$f":"IF(M399=\"\",\"\",INDEX('OTRAS REFERENTES'!$M:$O,MATCH(M399,'OTRAS REFERENTES'!$M:$M,0),3))","v":""},{"$f":"IF(M399=\"\",\"\",INDEX('OTRAS REFERENTES'!$M:$O,MATCH(M399,'OTRAS REFERENTES'!$M:$M,0),2))","v":""},null,null,null,null,null,null,null,null,null,{"$f":"IF(X399=\"\",\"\",INDEX(referentes!$Y:$Z,MATCH(DATOS!X399,referentes!$Z:$Z,0),))","v":""},null,null,null,null,"OA",null,"SO",null,null,"",null,null,null,null,null,null,null,null,null,null,{"$f":"IF(AS399<>\"\",VLOOKUP(AS399,#REF!,2,TRUE),\"\")","v":""},null,{"$f":"IF(AU399<>\"\",VLOOKUP(AU399,#REF!,2,FALSE),\"\")","v":""},null,null,null,{"$f":"IF(AY399<>\"\",VLOOKUP(AY399,#REF!,2,TRUE),\"\")","v":""},null,395,"",null,{"$f":"IF(BD399=\"\",\"\",INDEX(referentes!$J:$K,MATCH(BD399,referentes!$J:$J,0),2))","v":""},null,null,{"$f":"IF(BG399=\"\",\"\",INDEX(referentes!$G:$H,MATCH(BG399,referentes!$G:$G,0),2))","v":""},{"$f":"IF(BD399=\"\",\"\",INDEX(referentes!$J:$P,MATCH(BD399,referentes!$J:$J,0),7))","v":""},""]
["19000100",{"$f":"DIGITADOR!$B$2","v":""},0,{"$f":"IF(E400<>\"\",CONCATENATE($A$2,DIGITADOR!$M$1,O400,AH400),\"\")","v":""},null,null,"","",null,null,null,null,"",{"$f":"IF(M400=\"\",\"\",INDEX('OTRAS REFERENTES'!$M:$O,MATCH(M400,'OTRAS REFERENTES'!$M:$M,0),3))","v":""},{"$f":"IF(M400=\"\",\"\",INDEX('OTRAS REFERENTES'!$M:$O,MATCH(M400,'OTRAS REFERENTES'!$M:$M,0),2))","v":""},null,null,null,null,null,null,null,null,null,{"$f":"IF(X400=\"\",\"\",INDEX(referentes!$Y:$Z,MATCH(DATOS!X400,referentes!$Z:$Z,0),))","v":""},null,null,null,null,"OA",null,"SO",null,null,"",null,null,null,null,null,null,null,null,null,null,{"$f":"IF(AS400<>\"\",VLOOKUP(AS400,#REF!,2,TRUE),\"\")","v":""},null,{"$f":"IF(AU400<>\"\",VLOOKUP(AU400,#REF!,2,FALSE),\"\")","v":""},null,null,null,{"$f":"IF(AY400<>\"\",VLOOKUP(AY400,#REF!,2,TRUE),\"\")","v":""},null,396,"",null,{"$f":"IF(BD400=\"\",\"\",INDEX(referentes!$J:$K,MATCH(BD400,referentes!$J:$J,0),2))","v":""},null,null,{"$f":"IF(BG400=\"\",\"\",INDEX(referentes!$G:$H,MATCH(BG400,referentes!$G:$G,0),2))","v":""},{"$f":"IF(BD400=\"\",\"\",INDEX(referentes!$J:$P,MATCH(BD400,referentes!$J:$J,0),7))","v":""},""]
["19000100",{"$f":"DIGITADOR!$B$2","v":""},0,{"$f":"IF(E401<>\"\",CONCATENATE($A$2,DIGITADOR!$M$1,O401,AH401),\"\")","v":""},null,null,"","",null,null,null,null,"",{"$f":"IF(M401=\"\",\"\",INDEX('OTRAS REFERENTES'!$M:$O,MATCH(M401,'OTRAS REFERENTES'!$M:$M,0),3))","v":""},{"$f":"IF(M401=\"\",\"\",INDEX('OTRAS REFERENTES'!$M:$O,MATCH(M401,'OTRAS REFERENTES'!$M:$M,0),2))","v":""},null,null,null,null,null,null,null,null,null,{"$f":"IF(X401=\"\",\"\",INDEX(referentes!$Y:$Z,MATCH(DATOS!X401,referentes!$Z:$Z,0),))","v":""},null,null,null,null,"OA",null,"SO",null,null,"",null,null,null,null,null,null,null,null,null,null,{"$f":"IF(AS401<>\"\",VLOOKUP(AS401,#REF!,2,TRUE),\"\")","v":""},null,{"$f":"IF(AU401<>\"\",VLOOKUP(AU401,#REF!,2,FALSE),\"\")","v":""},null,null,null,{"$f":"IF(AY401<>\"\",VLOOKUP(AY401,#REF!,2,TRUE),\"\")","v":""},null,397,"",null,{"$f":"IF(BD401=\"\",\"\",INDEX(referentes!$J:$K,MATCH(BD401,referentes!$J:$J,0),2))","v":""},null,null,{"$f":"IF(BG401=\"\",\"\",INDEX(referentes!$G:$H,MATCH(BG401,referentes!$G:$G,0),2))","v":""},{"$f":"IF(BD401=\"\",\"\",INDEX(referentes!$J:$P,MATCH(BD401,referentes!$J:$J,0),7))","v":""},""]
["19000100",{"$f":"DIGITADOR!$B$2","v":""},0,{"$f":"IF(E402<>\"\",CONCATENATE($A$2,DIGITADOR!$M$1,O402,AH402),\"\")","v":""},null,null,"","",null,null,null,null,"",{"$f":"IF(M402=\"\",\"\",INDEX('OTRAS REFERENTES'!$M:$O,MATCH(M402,'OTRAS REFERENTES'!$M:$M,0),3))","v":""},{"$f":"IF(M402=\"\",\"\",INDEX('OTRAS REFERENTES'!$M:$O,MATCH(M402,'OTRAS REFERENTES'!$M:$M,0),2))","v":""},null,null,null,null,null,null,null,null,null,{"$f":"IF(X402=\"\",\"\",INDEX(referentes!$Y:$Z,MATCH(DATOS!X402,referentes!$Z:$Z,0),))","v":""},null,null,null,null,"OA",null,"SO",null,null,"",null,null,null,null,null,null,null,null,null,null,{"$f":"IF(AS402<>\"\",VLOOKUP(AS402,#REF!,2,TRUE),\"\")","v":""},null,{"$f":"IF(AU402<>\"\",VLOOKUP(AU402,#REF!,2,FALSE),\"\")","v":""},null,null,null,{"$f":"IF(AY402<>\"\",VLOOKUP(AY402,#REF!,2,TRUE),\"\")","v":""},null,398,"",null,{"$f":"IF(BD402=\"\",\"\",INDEX(referentes!$J:$K,MATCH(BD402,referentes!$J:$J,0),2))","v":""},null,null,{"$f":"IF(BG402=\"\",\"\",INDEX(referentes!$G:$H,MATCH(BG402,referentes!$G:$G,0),2))","v":""},{"$f":"IF(BD402=\"\",\"\",INDEX(referentes!$J:$P,MATCH(BD402,referentes!$J:$J,0),7))","v":""},""]
["19000100",{"$f":"DIGITADOR!$B$2","v":""},0,{"$f":"IF(E403<>\"\",CONCATENATE($A$2,DIGITADOR!$M$1,O403,AH403),\"\")","v":""},null,null,"","",null,null,null,null,"",{"$f":"IF(M403=\"\",\"\",INDEX('OTRAS REFERENTES'!$M:$O,MATCH(M403,'OTRAS REFERENTES'!$M:$M,0),3))","v":""},{"$f":"IF(M403=\"\",\"\",INDEX('OTRAS REFERENTES'!$M:$O,MATCH(M403,'OTRAS REFERENTES'!$M:$M,0),2))","v":""},null,null,null,null,null,null,null,null,null,{"$f":"IF(X403=\"\",\"\",INDEX(referentes!$Y:$Z,MATCH(DATOS!X403,referentes!$Z:$Z,0),))","v":""},null,null,null,null,"OA",null,"SO",null,null,"",null,null,null,null,null,null,null,null,null,null,{"$f":"IF(AS403<>\"\",VLOOKUP(AS403,#REF!,2,TRUE),\"\")","v":""},null,{"$f":"IF(AU403<>\"\",VLOOKUP(AU403,#REF!,2,FALSE),\"\")","v":""},null,null,null,{"$f":"IF(AY403<>\"\",VLOOKUP(AY403,#REF!,2,TRUE),\"\")","v":""},null,399,"",null,{"$f":"IF(BD403=\"\",\"\",INDEX(referentes!$J:$K,MATCH(BD403,referentes!$J:$J,0),2))","v":""},null,null,{"$f":"IF(BG403=\"\",\"\",INDEX(referentes!$G:$H,MATCH(BG403,referentes!$G:$G,0),2))","v":""},{"$f":"IF(BD403=\"\",\"\",INDEX(referentes!$J:$P,MATCH(BD403,referentes!$J:$J,0),7))","v":""},""]
["19000100",{"$f":"DIGITADOR!$B$2","v":""},0,{"$f":"IF(E404<>\"\",CONCATENATE($A$2,DIGITADOR!$M$1,O404,AH404),\"\")","v":""},null,null,"","",null,null,null,null,"",{"$f":"IF(M404=\"\",\"\",INDEX('OTRAS REFERENTES'!$M:$O,MATCH(M404,'OTRAS REFERENTES'!$M:$M,0),3))","v":""},{"$f":"IF(M404=\"\",\"\",INDEX('OTRAS REFERENTES'!$M:$O,MATCH(M404,'OTRAS REFERENTES'!$M:$M,0),2))","v":""},null,null,null,null,null,null,null,null,null,{"$f":"IF(X404=\"\",\"\",INDEX(referentes!$Y:$Z,MATCH(DATOS!X404,referentes!$Z:$Z,0),))","v":""},null,null,null,null,"OA",null,"SO",null,null,"",null,null,null,null,null,null,null,null,null,null,{"$f":"IF(AS404<>\"\",VLOOKUP(AS404,#REF!,2,TRUE),\"\")","v":""},null,{"$f":"IF(AU404<>\"\",VLOOKUP(AU404,#REF!,2,FALSE),\"\")","v":""},null,null,null,{"$f":"IF(AY404<>\"\",VLOOKUP(AY404,#REF!,2,TRUE),\"\")","v":""},null,400,"",null,{"$f":"IF(BD404=\"\",\"\",INDEX(referentes!$J:$K,MATCH(BD404,referentes!$J:$J,0),2))","v":""},null,null,{"$f":"IF(BG404=\"\",\"\",INDEX(referentes!$G:$H,MATCH(BG404,referentes!$G:$G,0),2))","v":""},{"$f":"IF(BD404=\"\",\"\",INDEX(referentes!$J:$P,MATCH(BD404,referentes!$J:$J,0),7))","v":""},""]
["19000100",{"$f":"DIGITADOR!$B$2","v":""},0,{"$f":"IF(E405<>\"\",CONCATENATE($A$2,DIGITADOR!$M$1,O405,AH405),\"\")","v":""},null,null,"","",null,null,null,null,"",{"$f":"IF(M405=\"\",\"\",INDEX('OTRAS REFERENTES'!$M:$O,MATCH(M405,'OTRAS REFERENTES'!$M:$M,0),3))","v":""},{"$f":"IF(M405=\"\",\"\",INDEX('OTRAS REFERENTES'!$M:$O,MATCH(M405,'OTRAS REFERENTES'!$M:$M,0),2))","v":""},null,null,null,null,null,null,null,null,null,{"$f":"IF(X405=\"\",\"\",INDEX(referentes!$Y:$Z,MATCH(DATOS!X405,referentes!$Z:$Z,0),))","v":""},null,null,null,null,"OA",null,"SO",null,null,"",null,null,null,null,null,null,null,null,null,null,{"$f":"IF(AS405<>\"\",VLOOKUP(AS405,#REF!,2,TRUE),\"\")","v":""},null,{"$f":"IF(AU405<>\"\",VLOOKUP(AU405,#REF!,2,FALSE),\"\")","v":""},null,null,null,{"$f":"IF(AY405<>\"\",VLOOKUP(AY405,#REF!,2,TRUE),\"\")","v":""},null,401,"",null,{"$f":"IF(BD405=\"\",\"\",INDEX(referentes!$J:$K,MATCH(BD405,referentes!$J:$J,0),2))","v":""},null,null,{"$f":"IF(BG405=\"\",\"\",INDEX(referentes!$G:$H,MATCH(BG405,referentes!$G:$G,0),2))","v":""},{"$f":"IF(BD405=\"\",\"\",INDEX(referentes!$J:$P,MATCH(BD405,referentes!$J:$J,0),7))","v":""},""]
["19000100",{"$f":"DIGITADOR!$B$2","v":""},0,{"$f":"IF(E406<>\"\",CONCATENATE($A$2,DIGITADOR!$M$1,O406,AH406),\"\")","v":""},null,null,"","",null,null,null,null,"",{"$f":"IF(M406=\"\",\"\",INDEX('OTRAS REFERENTES'!$M:$O,MATCH(M406,'OTRAS REFERENTES'!$M:$M,0),3))","v":""},{"$f":"IF(M406=\"\",\"\",INDEX('OTRAS REFERENTES'!$M:$O,MATCH(M406,'OTRAS REFERENTES'!$M:$M,0),2))","v":""},null,null,null,null,null,null,null,null,null,{"$f":"IF(X406=\"\",\"\",INDEX(referentes!$Y:$Z,MATCH(DATOS!X406,referentes!$Z:$Z,0),))","v":""},null,null,null,null,"OA",null,"SO",null,null,"",null,null,null,null,null,null,null,null,null,null,{"$f":"IF(AS406<>\"\",VLOOKUP(AS406,#REF!,2,TRUE),\"\")","v":""},null,{"$f":"IF(AU406<>\"\",VLOOKUP(AU406,#REF!,2,FALSE),\"\")","v":""},null,null,null,{"$f":"IF(AY406<>\"\",VLOOKUP(AY406,#REF!,2,TRUE),\"\")","v":""},null,402,"",null,{"$f":"IF(BD406=\"\",\"\",INDEX(referentes!$J:$K,MATCH(BD406,referentes!$J:$J,0),2))","v":""},null,null,{"$f":"IF(BG406=\"\",\"\",INDEX(referentes!$G:$H,MATCH(BG406,referentes!$G:$G,0),2))","v":""},{"$f":"IF(BD406=\"\",\"\",INDEX(referentes!$J:$P,MATCH(BD406,referentes!$J:$J,0),7))","v":""},""]
["19000100",{"$f":"DIGITADOR!$B$2","v":""},0,{"$f":"IF(E407<>\"\",CONCATENATE($A$2,DIGITADOR!$M$1,O407,AH407),\"\")","v":""},null,null,"","",null,null,null,null,"",{"$f":"IF(M407=\"\",\"\",INDEX('OTRAS REFERENTES'!$M:$O,MATCH(M407,'OTRAS REFERENTES'!$M:$M,0),3))","v":""},{"$f":"IF(M407=\"\",\"\",INDEX('OTRAS REFERENTES'!$M:$O,MATCH(M407,'OTRAS REFERENTES'!$M:$M,0),2))","v":""},null,null,null,null,null,null,null,null,null,{"$f":"IF(X407=\"\",\"\",INDEX(referentes!$Y:$Z,MATCH(DATOS!X407,referentes!$Z:$Z,0),))","v":""},null,null,null,null,"OA",null,"SO",null,null,"",null,null,null,null,null,null,null,null,null,null,{"$f":"IF(AS407<>\"\",VLOOKUP(AS407,#REF!,2,TRUE),\"\")","v":""},null,{"$f":"IF(AU407<>\"\",VLOOKUP(AU407,#REF!,2,FALSE),\"\")","v":""},null,null,null,{"$f":"IF(AY407<>\"\",VLOOKUP(AY407,#REF!,2,TRUE),\"\")","v":""},null,403,"",null,{"$f":"IF(BD407=\"\",\"\",INDEX(referentes!$J:$K,MATCH(BD407,referentes!$J:$J,0),2))","v":""},null,null,{"$f":"IF(BG407=\"\",\"\",INDEX(referentes!$G:$H,MATCH(BG407,referentes!$G:$G,0),2))","v":""},{"$f":"IF(BD407=\"\",\"\",INDEX(referentes!$J:$P,MATCH(BD407,referentes!$J:$J,0),7))","v":""},""]
["19000100",{"$f":"DIGITADOR!$B$2","v":""},0,{"$f":"IF(E408<>\"\",CONCATENATE($A$2,DIGITADOR!$M$1,O408,AH408),\"\")","v":""},null,null,"","",null,null,null,null,"",{"$f":"IF(M408=\"\",\"\",INDEX('OTRAS REFERENTES'!$M:$O,MATCH(M408,'OTRAS REFERENTES'!$M:$M,0),3))","v":""},{"$f":"IF(M408=\"\",\"\",INDEX('OTRAS REFERENTES'!$M:$O,MATCH(M408,'OTRAS REFERENTES'!$M:$M,0),2))","v":""},null,null,null,null,null,null,null,null,null,{"$f":"IF(X408=\"\",\"\",INDEX(referentes!$Y:$Z,MATCH(DATOS!X408,referentes!$Z:$Z,0),))","v":""},null,null,null,null,"OA",null,"SO",null,null,"",null,null,null,null,null,null,null,null,null,null,{"$f":"IF(AS408<>\"\",VLOOKUP(AS408,#REF!,2,TRUE),\"\")","v":""},null,{"$f":"IF(AU408<>\"\",VLOOKUP(AU408,#REF!,2,FALSE),\"\")","v":""},null,null,null,{"$f":"IF(AY408<>\"\",VLOOKUP(AY408,#REF!,2,TRUE),\"\")","v":""},null,404,"",null,{"$f":"IF(BD408=\"\",\"\",INDEX(referentes!$J:$K,MATCH(BD408,referentes!$J:$J,0),2))","v":""},null,null,{"$f":"IF(BG408=\"\",\"\",INDEX(referentes!$G:$H,MATCH(BG408,referentes!$G:$G,0),2))","v":""},{"$f":"IF(BD408=\"\",\"\",INDEX(referentes!$J:$P,MATCH(BD408,referentes!$J:$J,0),7))","v":""},""]
["19000100",{"$f":"DIGITADOR!$B$2","v":""},0,{"$f":"IF(E409<>\"\",CONCATENATE($A$2,DIGITADOR!$M$1,O409,AH409),\"\")","v":""},null,null,"","",null,null,null,null,"",{"$f":"IF(M409=\"\",\"\",INDEX('OTRAS REFERENTES'!$M:$O,MATCH(M409,'OTRAS REFERENTES'!$M:$M,0),3))","v":""},{"$f":"IF(M409=\"\",\"\",INDEX('OTRAS REFERENTES'!$M:$O,MATCH(M409,'OTRAS REFERENTES'!$M:$M,0),2))","v":""},null,null,null,null,null,null,null,null,null,{"$f":"IF(X409=\"\",\"\",INDEX(referentes!$Y:$Z,MATCH(DATOS!X409,referentes!$Z:$Z,0),))","v":""},null,null,null,null,"OA",null,"SO",null,null,"",null,null,null,null,null,null,null,null,null,null,{"$f":"IF(AS409<>\"\",VLOOKUP(AS409,#REF!,2,TRUE),\"\")","v":""},null,{"$f":"IF(AU409<>\"\",VLOOKUP(AU409,#REF!,2,FALSE),\"\")","v":""},null,null,null,{"$f":"IF(AY409<>\"\",VLOOKUP(AY409,#REF!,2,TRUE),\"\")","v":""},null,405,"",null,{"$f":"IF(BD409=\"\",\"\",INDEX(referentes!$J:$K,MATCH(BD409,referentes!$J:$J,0),2))","v":""},null,null,{"$f":"IF(BG409=\"\",\"\",INDEX(referentes!$G:$H,MATCH(BG409,referentes!$G:$G,0),2))","v":""},{"$f":"IF(BD409=\"\",\"\",INDEX(referentes!$J:$P,MATCH(BD409,referentes!$J:$J,0),7))","v":""},""]
["19000100",{"$f":"DIGITADOR!$B$2","v":""},0,{"$f":"IF(E410<>\"\",CONCATENATE($A$2,DIGITADOR!$M$1,O410,AH410),\"\")","v":""},null,null,"","",null,null,null,null,"",{"$f":"IF(M410=\"\",\"\",INDEX('OTRAS REFERENTES'!$M:$O,MATCH(M410,'OTRAS REFERENTES'!$M:$M,0),3))","v":""},{"$f":"IF(M410=\"\",\"\",INDEX('OTRAS REFERENTES'!$M:$O,MATCH(M410,'OTRAS REFERENTES'!$M:$M,0),2))","v":""},null,null,null,null,null,null,null,null,null,{"$f":"IF(X410=\"\",\"\",INDEX(referentes!$Y:$Z,MATCH(DATOS!X410,referentes!$Z:$Z,0),))","v":""},null,null,null,null,"OA",null,"SO",null,null,"",null,null,null,null,null,null,null,null,null,null,{"$f":"IF(AS410<>\"\",VLOOKUP(AS410,#REF!,2,TRUE),\"\")","v":""},null,{"$f":"IF(AU410<>\"\",VLOOKUP(AU410,#REF!,2,FALSE),\"\")","v":""},null,null,null,{"$f":"IF(AY410<>\"\",VLOOKUP(AY410,#REF!,2,TRUE),\"\")","v":""},null,406,"",null,{"$f":"IF(BD410=\"\",\"\",INDEX(referentes!$J:$K,MATCH(BD410,referentes!$J:$J,0),2))","v":""},null,null,{"$f":"IF(BG410=\"\",\"\",INDEX(referentes!$G:$H,MATCH(BG410,referentes!$G:$G,0),2))","v":""},{"$f":"IF(BD410=\"\",\"\",INDEX(referentes!$J:$P,MATCH(BD410,referentes!$J:$J,0),7))","v":""},""]
["19000100",{"$f":"DIGITADOR!$B$2","v":""},0,{"$f":"IF(E411<>\"\",CONCATENATE($A$2,DIGITADOR!$M$1,O411,AH411),\"\")","v":""},null,null,"","",null,null,null,null,"",{"$f":"IF(M411=\"\",\"\",INDEX('OTRAS REFERENTES'!$M:$O,MATCH(M411,'OTRAS REFERENTES'!$M:$M,0),3))","v":""},{"$f":"IF(M411=\"\",\"\",INDEX('OTRAS REFERENTES'!$M:$O,MATCH(M411,'OTRAS REFERENTES'!$M:$M,0),2))","v":""},null,null,null,null,null,null,null,null,null,{"$f":"IF(X411=\"\",\"\",INDEX(referentes!$Y:$Z,MATCH(DATOS!X411,referentes!$Z:$Z,0),))","v":""},null,null,null,null,"OA",null,"SO",null,null,"",null,null,null,null,null,null,null,null,null,null,{"$f":"IF(AS411<>\"\",VLOOKUP(AS411,#REF!,2,TRUE),\"\")","v":""},null,{"$f":"IF(AU411<>\"\",VLOOKUP(AU411,#REF!,2,FALSE),\"\")","v":""},null,null,null,{"$f":"IF(AY411<>\"\",VLOOKUP(AY411,#REF!,2,TRUE),\"\")","v":""},null,407,"",null,{"$f":"IF(BD411=\"\",\"\",INDEX(referentes!$J:$K,MATCH(BD411,referentes!$J:$J,0),2))","v":""},null,null,{"$f":"IF(BG411=\"\",\"\",INDEX(referentes!$G:$H,MATCH(BG411,referentes!$G:$G,0),2))","v":""},{"$f":"IF(BD411=\"\",\"\",INDEX(referentes!$J:$P,MATCH(BD411,referentes!$J:$J,0),7))","v":""},""]
["19000100",{"$f":"DIGITADOR!$B$2","v":""},0,{"$f":"IF(E412<>\"\",CONCATENATE($A$2,DIGITADOR!$M$1,O412,AH412),\"\")","v":""},null,null,"","",null,null,null,null,"",{"$f":"IF(M412=\"\",\"\",INDEX('OTRAS REFERENTES'!$M:$O,MATCH(M412,'OTRAS REFERENTES'!$M:$M,0),3))","v":""},{"$f":"IF(M412=\"\",\"\",INDEX('OTRAS REFERENTES'!$M:$O,MATCH(M412,'OTRAS REFERENTES'!$M:$M,0),2))","v":""},null,null,null,null,null,null,null,null,null,{"$f":"IF(X412=\"\",\"\",INDEX(referentes!$Y:$Z,MATCH(DATOS!X412,referentes!$Z:$Z,0),))","v":""},null,null,null,null,"OA",null,"SO",null,null,"",null,null,null,null,null,null,null,null,null,null,{"$f":"IF(AS412<>\"\",VLOOKUP(AS412,#REF!,2,TRUE),\"\")","v":""},null,{"$f":"IF(AU412<>\"\",VLOOKUP(AU412,#REF!,2,FALSE),\"\")","v":""},null,null,null,{"$f":"IF(AY412<>\"\",VLOOKUP(AY412,#REF!,2,TRUE),\"\")","v":""},null,408,"",null,{"$f":"IF(BD412=\"\",\"\",INDEX(referentes!$J:$K,MATCH(BD412,referentes!$J:$J,0),2))","v":""},null,null,{"$f":"IF(BG412=\"\",\"\",INDEX(referentes!$G:$H,MATCH(BG412,referentes!$G:$G,0),2))","v":""},{"$f":"IF(BD412=\"\",\"\",INDEX(referentes!$J:$P,MATCH(BD412,referentes!$J:$J,0),7))","v":""},""]
["19000100",{"$f":"DIGITADOR!$B$2","v":""},0,{"$f":"IF(E413<>\"\",CONCATENATE($A$2,DIGITADOR!$M$1,O413,AH413),\"\")","v":""},null,null,"","",null,null,null,null,"",{"$f":"IF(M413=\"\",\"\",INDEX('OTRAS REFERENTES'!$M:$O,MATCH(M413,'OTRAS REFERENTES'!$M:$M,0),3))","v":""},{"$f":"IF(M413=\"\",\"\",INDEX('OTRAS REFERENTES'!$M:$O,MATCH(M413,'OTRAS REFERENTES'!$M:$M,0),2))","v":""},null,null,null,null,null,null,null,null,null,{"$f":"IF(X413=\"\",\"\",INDEX(referentes!$Y:$Z,MATCH(DATOS!X413,referentes!$Z:$Z,0),))","v":""},null,null,null,null,"OA",null,"SO",null,null,"",null,null,null,null,null,null,null,null,null,null,{"$f":"IF(AS413<>\"\",VLOOKUP(AS413,#REF!,2,TRUE),\"\")","v":""},null,{"$f":"IF(AU413<>\"\",VLOOKUP(AU413,#REF!,2,FALSE),\"\")","v":""},null,null,null,{"$f":"IF(AY413<>\"\",VLOOKUP(AY413,#REF!,2,TRUE),\"\")","v":""},null,409,"",null,{"$f":"IF(BD413=\"\",\"\",INDEX(referentes!$J:$K,MATCH(BD413,referentes!$J:$J,0),2))","v":""},null,null,{"$f":"IF(BG413=\"\",\"\",INDEX(referentes!$G:$H,MATCH(BG413,referentes!$G:$G,0),2))","v":""},{"$f":"IF(BD413=\"\",\"\",INDEX(referentes!$J:$P,MATCH(BD413,referentes!$J:$J,0),7))","v":""},""]
["19000100",{"$f":"DIGITADOR!$B$2","v":""},0,{"$f":"IF(E414<>\"\",CONCATENATE($A$2,DIGITADOR!$M$1,O414,AH414),\"\")","v":""},null,null,"","",null,null,null,null,"",{"$f":"IF(M414=\"\",\"\",INDEX('OTRAS REFERENTES'!$M:$O,MATCH(M414,'OTRAS REFERENTES'!$M:$M,0),3))","v":""},{"$f":"IF(M414=\"\",\"\",INDEX('OTRAS REFERENTES'!$M:$O,MATCH(M414,'OTRAS REFERENTES'!$M:$M,0),2))","v":""},null,null,null,null,null,null,null,null,null,{"$f":"IF(X414=\"\",\"\",INDEX(referentes!$Y:$Z,MATCH(DATOS!X414,referentes!$Z:$Z,0),))","v":""},null,null,null,null,"OA",null,"SO",null,null,"",null,null,null,null,null,null,null,null,null,null,{"$f":"IF(AS414<>\"\",VLOOKUP(AS414,#REF!,2,TRUE),\"\")","v":""},null,{"$f":"IF(AU414<>\"\",VLOOKUP(AU414,#REF!,2,FALSE),\"\")","v":""},null,null,null,{"$f":"IF(AY414<>\"\",VLOOKUP(AY414,#REF!,2,TRUE),\"\")","v":""},null,410,"",null,{"$f":"IF(BD414=\"\",\"\",INDEX(referentes!$J:$K,MATCH(BD414,referentes!$J:$J,0),2))","v":""},null,null,{"$f":"IF(BG414=\"\",\"\",INDEX(referentes!$G:$H,MATCH(BG414,referentes!$G:$G,0),2))","v":""},{"$f":"IF(BD414=\"\",\"\",INDEX(referentes!$J:$P,MATCH(BD414,referentes!$J:$J,0),7))","v":""},""]
["19000100",{"$f":"DIGITADOR!$B$2","v":""},0,{"$f":"IF(E415<>\"\",CONCATENATE($A$2,DIGITADOR!$M$1,O415,AH415),\"\")","v":""},null,null,"","",null,null,null,null,"",{"$f":"IF(M415=\"\",\"\",INDEX('OTRAS REFERENTES'!$M:$O,MATCH(M415,'OTRAS REFERENTES'!$M:$M,0),3))","v":""},{"$f":"IF(M415=\"\",\"\",INDEX('OTRAS REFERENTES'!$M:$O,MATCH(M415,'OTRAS REFERENTES'!$M:$M,0),2))","v":""},null,null,null,null,null,null,null,null,null,{"$f":"IF(X415=\"\",\"\",INDEX(referentes!$Y:$Z,MATCH(DATOS!X415,referentes!$Z:$Z,0),))","v":""},null,null,null,null,"OA",null,"SO",null,null,"",null,null,null,null,null,null,null,null,null,null,{"$f":"IF(AS415<>\"\",VLOOKUP(AS415,#REF!,2,TRUE),\"\")","v":""},null,{"$f":"IF(AU415<>\"\",VLOOKUP(AU415,#REF!,2,FALSE),\"\")","v":""},null,null,null,{"$f":"IF(AY415<>\"\",VLOOKUP(AY415,#REF!,2,TRUE),\"\")","v":""},null,411,"",null,{"$f":"IF(BD415=\"\",\"\",INDEX(referentes!$J:$K,MATCH(BD415,referentes!$J:$J,0),2))","v":""},null,null,{"$f":"IF(BG415=\"\",\"\",INDEX(referentes!$G:$H,MATCH(BG415,referentes!$G:$G,0),2))","v":""},{"$f":"IF(BD415=\"\",\"\",INDEX(referentes!$J:$P,MATCH(BD415,referentes!$J:$J,0),7))","v":""},""]
["19000100",{"$f":"DIGITADOR!$B$2","v":""},0,{"$f":"IF(E416<>\"\",CONCATENATE($A$2,DIGITADOR!$M$1,O416,AH416),\"\")","v":""},null,null,"","",null,null,null,null,"",{"$f":"IF(M416=\"\",\"\",INDEX('OTRAS REFERENTES'!$M:$O,MATCH(M416,'OTRAS REFERENTES'!$M:$M,0),3))","v":""},{"$f":"IF(M416=\"\",\"\",INDEX('OTRAS REFERENTES'!$M:$O,MATCH(M416,'OTRAS REFERENTES'!$M:$M,0),2))","v":""},null,null,null,null,null,null,null,null,null,{"$f":"IF(X416=\"\",\"\",INDEX(referentes!$Y:$Z,MATCH(DATOS!X416,referentes!$Z:$Z,0),))","v":""},null,null,null,null,"OA",null,"SO",null,null,"",null,null,null,null,null,null,null,null,null,null,{"$f":"IF(AS416<>\"\",VLOOKUP(AS416,#REF!,2,TRUE),\"\")","v":""},null,{"$f":"IF(AU416<>\"\",VLOOKUP(AU416,#REF!,2,FALSE),\"\")","v":""},null,null,null,{"$f":"IF(AY416<>\"\",VLOOKUP(AY416,#REF!,2,TRUE),\"\")","v":""},null,412,"",null,{"$f":"IF(BD416=\"\",\"\",INDEX(referentes!$J:$K,MATCH(BD416,referentes!$J:$J,0),2))","v":""},null,null,{"$f":"IF(BG416=\"\",\"\",INDEX(referentes!$G:$H,MATCH(BG416,referentes!$G:$G,0),2))","v":""},{"$f":"IF(BD416=\"\",\"\",INDEX(referentes!$J:$P,MATCH(BD416,referentes!$J:$J,0),7))","v":""},""]
["19000100",{"$f":"DIGITADOR!$B$2","v":""},0,{"$f":"IF(E417<>\"\",CONCATENATE($A$2,DIGITADOR!$M$1,O417,AH417),\"\")","v":""},null,null,"","",null,null,null,null,"",{"$f":"IF(M417=\"\",\"\",INDEX('OTRAS REFERENTES'!$M:$O,MATCH(M417,'OTRAS REFERENTES'!$M:$M,0),3))","v":""},{"$f":"IF(M417=\"\",\"\",INDEX('OTRAS REFERENTES'!$M:$O,MATCH(M417,'OTRAS REFERENTES'!$M:$M,0),2))","v":""},null,null,null,null,null,null,null,null,null,{"$f":"IF(X417=\"\",\"\",INDEX(referentes!$Y:$Z,MATCH(DATOS!X417,referentes!$Z:$Z,0),))","v":""},null,null,null,null,"OA",null,"SO",null,null,"",null,null,null,null,null,null,null,null,null,null,{"$f":"IF(AS417<>\"\",VLOOKUP(AS417,#REF!,2,TRUE),\"\")","v":""},null,{"$f":"IF(AU417<>\"\",VLOOKUP(AU417,#REF!,2,FALSE),\"\")","v":""},null,null,null,{"$f":"IF(AY417<>\"\",VLOOKUP(AY417,#REF!,2,TRUE),\"\")","v":""},null,413,"",null,{"$f":"IF(BD417=\"\",\"\",INDEX(referentes!$J:$K,MATCH(BD417,referentes!$J:$J,0),2))","v":""},null,null,{"$f":"IF(BG417=\"\",\"\",INDEX(referentes!$G:$H,MATCH(BG417,referentes!$G:$G,0),2))","v":""},{"$f":"IF(BD417=\"\",\"\",INDEX(referentes!$J:$P,MATCH(BD417,referentes!$J:$J,0),7))","v":""},""]
["19000100",{"$f":"DIGITADOR!$B$2","v":""},0,{"$f":"IF(E418<>\"\",CONCATENATE($A$2,DIGITADOR!$M$1,O418,AH418),\"\")","v":""},null,null,"","",null,null,null,null,"",{"$f":"IF(M418=\"\",\"\",INDEX('OTRAS REFERENTES'!$M:$O,MATCH(M418,'OTRAS REFERENTES'!$M:$M,0),3))","v":""},{"$f":"IF(M418=\"\",\"\",INDEX('OTRAS REFERENTES'!$M:$O,MATCH(M418,'OTRAS REFERENTES'!$M:$M,0),2))","v":""},null,null,null,null,null,null,null,null,null,{"$f":"IF(X418=\"\",\"\",INDEX(referentes!$Y:$Z,MATCH(DATOS!X418,referentes!$Z:$Z,0),))","v":""},null,null,null,null,"OA",null,"SO",null,null,"",null,null,null,null,null,null,null,null,null,null,{"$f":"IF(AS418<>\"\",VLOOKUP(AS418,#REF!,2,TRUE),\"\")","v":""},null,{"$f":"IF(AU418<>\"\",VLOOKUP(AU418,#REF!,2,FALSE),\"\")","v":""},null,null,null,{"$f":"IF(AY418<>\"\",VLOOKUP(AY418,#REF!,2,TRUE),\"\")","v":""},null,414,"",null,{"$f":"IF(BD418=\"\",\"\",INDEX(referentes!$J:$K,MATCH(BD418,referentes!$J:$J,0),2))","v":""},null,null,{"$f":"IF(BG418=\"\",\"\",INDEX(referentes!$G:$H,MATCH(BG418,referentes!$G:$G,0),2))","v":""},{"$f":"IF(BD418=\"\",\"\",INDEX(referentes!$J:$P,MATCH(BD418,referentes!$J:$J,0),7))","v":""},""]
["19000100",{"$f":"DIGITADOR!$B$2","v":""},0,{"$f":"IF(E419<>\"\",CONCATENATE($A$2,DIGITADOR!$M$1,O419,AH419),\"\")","v":""},null,null,"","",null,null,null,null,"",{"$f":"IF(M419=\"\",\"\",INDEX('OTRAS REFERENTES'!$M:$O,MATCH(M419,'OTRAS REFERENTES'!$M:$M,0),3))","v":""},{"$f":"IF(M419=\"\",\"\",INDEX('OTRAS REFERENTES'!$M:$O,MATCH(M419,'OTRAS REFERENTES'!$M:$M,0),2))","v":""},null,null,null,null,null,null,null,null,null,{"$f":"IF(X419=\"\",\"\",INDEX(referentes!$Y:$Z,MATCH(DATOS!X419,referentes!$Z:$Z,0),))","v":""},null,null,null,null,"OA",null,"SO",null,null,"",null,null,null,null,null,null,null,null,null,null,{"$f":"IF(AS419<>\"\",VLOOKUP(AS419,#REF!,2,TRUE),\"\")","v":""},null,{"$f":"IF(AU419<>\"\",VLOOKUP(AU419,#REF!,2,FALSE),\"\")","v":""},null,null,null,{"$f":"IF(AY419<>\"\",VLOOKUP(AY419,#REF!,2,TRUE),\"\")","v":""},null,415,"",null,{"$f":"IF(BD419=\"\",\"\",INDEX(referentes!$J:$K,MATCH(BD419,referentes!$J:$J,0),2))","v":""},null,null,{"$f":"IF(BG419=\"\",\"\",INDEX(referentes!$G:$H,MATCH(BG419,referentes!$G:$G,0),2))","v":""},{"$f":"IF(BD419=\"\",\"\",INDEX(referentes!$J:$P,MATCH(BD419,referentes!$J:$J,0),7))","v":""},""]
["19000100",{"$f":"DIGITADOR!$B$2","v":""},0,{"$f":"IF(E420<>\"\",CONCATENATE($A$2,DIGITADOR!$M$1,O420,AH420),\"\")","v":""},null,null,"","",null,null,null,null,"",{"$f":"IF(M420=\"\",\"\",INDEX('OTRAS REFERENTES'!$M:$O,MATCH(M420,'OTRAS REFERENTES'!$M:$M,0),3))","v":""},{"$f":"IF(M420=\"\",\"\",INDEX('OTRAS REFERENTES'!$M:$O,MATCH(M420,'OTRAS REFERENTES'!$M:$M,0),2))","v":""},null,null,null,null,null,null,null,null,null,{"$f":"IF(X420=\"\",\"\",INDEX(referentes!$Y:$Z,MATCH(DATOS!X420,referentes!$Z:$Z,0),))","v":""},null,null,null,null,"OA",null,"SO",null,null,"",null,null,null,null,null,null,null,null,null,null,{"$f":"IF(AS420<>\"\",VLOOKUP(AS420,#REF!,2,TRUE),\"\")","v":""},null,{"$f":"IF(AU420<>\"\",VLOOKUP(AU420,#REF!,2,FALSE),\"\")","v":""},null,null,null,{"$f":"IF(AY420<>\"\",VLOOKUP(AY420,#REF!,2,TRUE),\"\")","v":""},null,416,"",null,{"$f":"IF(BD420=\"\",\"\",INDEX(referentes!$J:$K,MATCH(BD420,referentes!$J:$J,0),2))","v":""},null,null,{"$f":"IF(BG420=\"\",\"\",INDEX(referentes!$G:$H,MATCH(BG420,referentes!$G:$G,0),2))","v":""},{"$f":"IF(BD420=\"\",\"\",INDEX(referentes!$J:$P,MATCH(BD420,referentes!$J:$J,0),7))","v":""},""]
["19000100",{"$f":"DIGITADOR!$B$2","v":""},0,{"$f":"IF(E421<>\"\",CONCATENATE($A$2,DIGITADOR!$M$1,O421,AH421),\"\")","v":""},null,null,"","",null,null,null,null,"",{"$f":"IF(M421=\"\",\"\",INDEX('OTRAS REFERENTES'!$M:$O,MATCH(M421,'OTRAS REFERENTES'!$M:$M,0),3))","v":""},{"$f":"IF(M421=\"\",\"\",INDEX('OTRAS REFERENTES'!$M:$O,MATCH(M421,'OTRAS REFERENTES'!$M:$M,0),2))","v":""},null,null,null,null,null,null,null,null,null,{"$f":"IF(X421=\"\",\"\",INDEX(referentes!$Y:$Z,MATCH(DATOS!X421,referentes!$Z:$Z,0),))","v":""},null,null,null,null,"OA",null,"SO",null,null,"",null,null,null,null,null,null,null,null,null,null,{"$f":"IF(AS421<>\"\",VLOOKUP(AS421,#REF!,2,TRUE),\"\")","v":""},null,{"$f":"IF(AU421<>\"\",VLOOKUP(AU421,#REF!,2,FALSE),\"\")","v":""},null,null,null,{"$f":"IF(AY421<>\"\",VLOOKUP(AY421,#REF!,2,TRUE),\"\")","v":""},null,417,"",null,{"$f":"IF(BD421=\"\",\"\",INDEX(referentes!$J:$K,MATCH(BD421,referentes!$J:$J,0),2))","v":""},null,null,{"$f":"IF(BG421=\"\",\"\",INDEX(referentes!$G:$H,MATCH(BG421,referentes!$G:$G,0),2))","v":""},{"$f":"IF(BD421=\"\",\"\",INDEX(referentes!$J:$P,MATCH(BD421,referentes!$J:$J,0),7))","v":""},""]
["19000100",{"$f":"DIGITADOR!$B$2","v":""},0,{"$f":"IF(E422<>\"\",CONCATENATE($A$2,DIGITADOR!$M$1,O422,AH422),\"\")","v":""},null,null,"","",null,null,null,null,"",{"$f":"IF(M422=\"\",\"\",INDEX('OTRAS REFERENTES'!$M:$O,MATCH(M422,'OTRAS REFERENTES'!$M:$M,0),3))","v":""},{"$f":"IF(M422=\"\",\"\",INDEX('OTRAS REFERENTES'!$M:$O,MATCH(M422,'OTRAS REFERENTES'!$M:$M,0),2))","v":""},null,null,null,null,null,null,null,null,null,{"$f":"IF(X422=\"\",\"\",INDEX(referentes!$Y:$Z,MATCH(DATOS!X422,referentes!$Z:$Z,0),))","v":""},null,null,null,null,"OA",null,"SO",null,null,"",null,null,null,null,null,null,null,null,null,null,{"$f":"IF(AS422<>\"\",VLOOKUP(AS422,#REF!,2,TRUE),\"\")","v":""},null,{"$f":"IF(AU422<>\"\",VLOOKUP(AU422,#REF!,2,FALSE),\"\")","v":""},null,null,null,{"$f":"IF(AY422<>\"\",VLOOKUP(AY422,#REF!,2,TRUE),\"\")","v":""},null,418,"",null,{"$f":"IF(BD422=\"\",\"\",INDEX(referentes!$J:$K,MATCH(BD422,referentes!$J:$J,0),2))","v":""},null,null,{"$f":"IF(BG422=\"\",\"\",INDEX(referentes!$G:$H,MATCH(BG422,referentes!$G:$G,0),2))","v":""},{"$f":"IF(BD422=\"\",\"\",INDEX(referentes!$J:$P,MATCH(BD422,referentes!$J:$J,0),7))","v":""},""]
["19000100",{"$f":"DIGITADOR!$B$2","v":""},0,{"$f":"IF(E423<>\"\",CONCATENATE($A$2,DIGITADOR!$M$1,O423,AH423),\"\")","v":""},null,null,"","",null,null,null,null,"",{"$f":"IF(M423=\"\",\"\",INDEX('OTRAS REFERENTES'!$M:$O,MATCH(M423,'OTRAS REFERENTES'!$M:$M,0),3))","v":""},{"$f":"IF(M423=\"\",\"\",INDEX('OTRAS REFERENTES'!$M:$O,MATCH(M423,'OTRAS REFERENTES'!$M:$M,0),2))","v":""},null,null,null,null,null,null,null,null,null,{"$f":"IF(X423=\"\",\"\",INDEX(referentes!$Y:$Z,MATCH(DATOS!X423,referentes!$Z:$Z,0),))","v":""},null,null,null,null,"OA",null,"SO",null,null,"",null,null,null,null,null,null,null,null,null,null,{"$f":"IF(AS423<>\"\",VLOOKUP(AS423,#REF!,2,TRUE),\"\")","v":""},null,{"$f":"IF(AU423<>\"\",VLOOKUP(AU423,#REF!,2,FALSE),\"\")","v":""},null,null,null,{"$f":"IF(AY423<>\"\",VLOOKUP(AY423,#REF!,2,TRUE),\"\")","v":""},null,419,"",null,{"$f":"IF(BD423=\"\",\"\",INDEX(referentes!$J:$K,MATCH(BD423,referentes!$J:$J,0),2))","v":""},null,null,{"$f":"IF(BG423=\"\",\"\",INDEX(referentes!$G:$H,MATCH(BG423,referentes!$G:$G,0),2))","v":""},{"$f":"IF(BD423=\"\",\"\",INDEX(referentes!$J:$P,MATCH(BD423,referentes!$J:$J,0),7))","v":""},""]
["19000100",{"$f":"DIGITADOR!$B$2","v":""},0,{"$f":"IF(E424<>\"\",CONCATENATE($A$2,DIGITADOR!$M$1,O424,AH424),\"\")","v":""},null,null,"","",null,null,null,null,"",{"$f":"IF(M424=\"\",\"\",INDEX('OTRAS REFERENTES'!$M:$O,MATCH(M424,'OTRAS REFERENTES'!$M:$M,0),3))","v":""},{"$f":"IF(M424=\"\",\"\",INDEX('OTRAS REFERENTES'!$M:$O,MATCH(M424,'OTRAS REFERENTES'!$M:$M,0),2))","v":""},null,null,null,null,null,null,null,null,null,{"$f":"IF(X424=\"\",\"\",INDEX(referentes!$Y:$Z,MATCH(DATOS!X424,referentes!$Z:$Z,0),))","v":""},null,null,null,null,"OA",null,"SO",null,null,"",null,null,null,null,null,null,null,null,null,null,{"$f":"IF(AS424<>\"\",VLOOKUP(AS424,#REF!,2,TRUE),\"\")","v":""},null,{"$f":"IF(AU424<>\"\",VLOOKUP(AU424,#REF!,2,FALSE),\"\")","v":""},null,null,null,{"$f":"IF(AY424<>\"\",VLOOKUP(AY424,#REF!,2,TRUE),\"\")","v":""},null,420,"",null,{"$f":"IF(BD424=\"\",\"\",INDEX(referentes!$J:$K,MATCH(BD424,referentes!$J:$J,0),2))","v":""},null,null,{"$f":"IF(BG424=\"\",\"\",INDEX(referentes!$G:$H,MATCH(BG424,referentes!$G:$G,0),2))","v":""},{"$f":"IF(BD424=\"\",\"\",INDEX(referentes!$J:$P,MATCH(BD424,referentes!$J:$J,0),7))","v":""},""]
["19000100",{"$f":"DIGITADOR!$B$2","v":""},{"$f":"IF(Z425=Z424,C424,C424+1)","v":0},{"$f":"IF(E425<>\"\",CONCATENATE($A$2,DIGITADOR!$M$1,O425,AH425),\"\")","v":""},null,null,"","",null,null,null,null,"",{"$f":"IF(M425=\"\",\"\",INDEX('OTRAS REFERENTES'!$M:$O,MATCH(M425,'OTRAS REFERENTES'!$M:$M,0),3))","v":""},{"$f":"IF(M425=\"\",\"\",INDEX('OTRAS REFERENTES'!$M:$O,MATCH(M425,'OTRAS REFERENTES'!$M:$M,0),2))","v":""},null,null,null,null,null,null,null,null,null,{"$f":"IF(X425=\"\",\"\",INDEX(referentes!$Y:$Z,MATCH(DATOS!X425,referentes!$Z:$Z,0),))","v":""},null,null,null,null,"OA",null,"SO",null,null,"",null,null,null,null,null,null,null,null,null,null,{"$f":"IF(AS425<>\"\",VLOOKUP(AS425,#REF!,2,TRUE),\"\")","v":""},null,{"$f":"IF(AU425<>\"\",VLOOKUP(AU425,#REF!,2,FALSE),\"\")","v":""},null,null,null,{"$f":"IF(AY425<>\"\",VLOOKUP(AY425,#REF!,2,TRUE),\"\")","v":""},null,421,"",null,{"$f":"IF(BD425=\"\",\"\",INDEX(referentes!$J:$K,MATCH(BD425,referentes!$J:$J,0),2))","v":""},null,null,{"$f":"IF(BG425=\"\",\"\",INDEX(referentes!$G:$H,MATCH(BG425,referentes!$G:$G,0),2))","v":""},{"$f":"IF(BD425=\"\",\"\",INDEX(referentes!$J:$P,MATCH(BD425,referentes!$J:$J,0),7))","v":""},""]
["19000100",{"$f":"DIGITADOR!$B$2","v":""},0,{"$f":"IF(E426<>\"\",CONCATENATE($A$2,DIGITADOR!$M$1,O426,AH426),\"\")","v":""},null,null,"","",null,null,null,null,"",{"$f":"IF(M426=\"\",\"\",INDEX('OTRAS REFERENTES'!$M:$O,MATCH(M426,'OTRAS REFERENTES'!$M:$M,0),3))","v":""},{"$f":"IF(M426=\"\",\"\",INDEX('OTRAS REFERENTES'!$M:$O,MATCH(M426,'OTRAS REFERENTES'!$M:$M,0),2))","v":""},null,null,null,null,null,null,null,null,null,{"$f":"IF(X426=\"\",\"\",INDEX(referentes!$Y:$Z,MATCH(DATOS!X426,referentes!$Z:$Z,0),))","v":""},null,null,null,null,"OA",null,"SO",null,null,"",null,null,null,null,null,null,null,null,null,null,{"$f":"IF(AS426<>\"\",VLOOKUP(AS426,#REF!,2,TRUE),\"\")","v":""},null,{"$f":"IF(AU426<>\"\",VLOOKUP(AU426,#REF!,2,FALSE),\"\")","v":""},null,null,null,{"$f":"IF(AY426<>\"\",VLOOKUP(AY426,#REF!,2,TRUE),\"\")","v":""},null,422,"",null,{"$f":"IF(BD426=\"\",\"\",INDEX(referentes!$J:$K,MATCH(BD426,referentes!$J:$J,0),2))","v":""},null,null,{"$f":"IF(BG426=\"\",\"\",INDEX(referentes!$G:$H,MATCH(BG426,referentes!$G:$G,0),2))","v":""},{"$f":"IF(BD426=\"\",\"\",INDEX(referentes!$J:$P,MATCH(BD426,referentes!$J:$J,0),7))","v":""},""]
["19000100",{"$f":"DIGITADOR!$B$2","v":""},0,{"$f":"IF(E427<>\"\",CONCATENATE($A$2,DIGITADOR!$M$1,O427,AH427),\"\")","v":""},null,null,"","",null,null,null,null,"",{"$f":"IF(M427=\"\",\"\",INDEX('OTRAS REFERENTES'!$M:$O,MATCH(M427,'OTRAS REFERENTES'!$M:$M,0),3))","v":""},{"$f":"IF(M427=\"\",\"\",INDEX('OTRAS REFERENTES'!$M:$O,MATCH(M427,'OTRAS REFERENTES'!$M:$M,0),2))","v":""},null,null,null,null,null,null,null,null,null,{"$f":"IF(X427=\"\",\"\",INDEX(referentes!$Y:$Z,MATCH(DATOS!X427,referentes!$Z:$Z,0),))","v":""},null,null,null,null,"OA",null,"SO",null,null,"",null,null,null,null,null,null,null,null,null,null,{"$f":"IF(AS427<>\"\",VLOOKUP(AS427,#REF!,2,TRUE),\"\")","v":""},null,{"$f":"IF(AU427<>\"\",VLOOKUP(AU427,#REF!,2,FALSE),\"\")","v":""},null,null,null,{"$f":"IF(AY427<>\"\",VLOOKUP(AY427,#REF!,2,TRUE),\"\")","v":""},null,423,"",null,{"$f":"IF(BD427=\"\",\"\",INDEX(referentes!$J:$K,MATCH(BD427,referentes!$J:$J,0),2))","v":""},null,null,{"$f":"IF(BG427=\"\",\"\",INDEX(referentes!$G:$H,MATCH(BG427,referentes!$G:$G,0),2))","v":""},{"$f":"IF(BD427=\"\",\"\",INDEX(referentes!$J:$P,MATCH(BD427,referentes!$J:$J,0),7))","v":""},""]
["19000100",{"$f":"DIGITADOR!$B$2","v":""},0,{"$f":"IF(E428<>\"\",CONCATENATE($A$2,DIGITADOR!$M$1,O428,AH428),\"\")","v":""},null,null,"","",null,null,null,null,"",{"$f":"IF(M428=\"\",\"\",INDEX('OTRAS REFERENTES'!$M:$O,MATCH(M428,'OTRAS REFERENTES'!$M:$M,0),3))","v":""},{"$f":"IF(M428=\"\",\"\",INDEX('OTRAS REFERENTES'!$M:$O,MATCH(M428,'OTRAS REFERENTES'!$M:$M,0),2))","v":""},null,null,null,null,null,null,null,null,null,{"$f":"IF(X428=\"\",\"\",INDEX(referentes!$Y:$Z,MATCH(DATOS!X428,referentes!$Z:$Z,0),))","v":""},null,null,null,null,"OA",null,"SO",null,null,"",null,null,null,null,null,null,null,null,null,null,{"$f":"IF(AS428<>\"\",VLOOKUP(AS428,#REF!,2,TRUE),\"\")","v":""},null,{"$f":"IF(AU428<>\"\",VLOOKUP(AU428,#REF!,2,FALSE),\"\")","v":""},null,null,null,{"$f":"IF(AY428<>\"\",VLOOKUP(AY428,#REF!,2,TRUE),\"\")","v":""},null,424,"",null,{"$f":"IF(BD428=\"\",\"\",INDEX(referentes!$J:$K,MATCH(BD428,referentes!$J:$J,0),2))","v":""},null,null,{"$f":"IF(BG428=\"\",\"\",INDEX(referentes!$G:$H,MATCH(BG428,referentes!$G:$G,0),2))","v":""},{"$f":"IF(BD428=\"\",\"\",INDEX(referentes!$J:$P,MATCH(BD428,referentes!$J:$J,0),7))","v":""},""]
["19000100",{"$f":"DIGITADOR!$B$2","v":""},0,{"$f":"IF(E429<>\"\",CONCATENATE($A$2,DIGITADOR!$M$1,O429,AH429),\"\")","v":""},null,null,"","",null,null,null,null,"",{"$f":"IF(M429=\"\",\"\",INDEX('OTRAS REFERENTES'!$M:$O,MATCH(M429,'OTRAS REFERENTES'!$M:$M,0),3))","v":""},{"$f":"IF(M429=\"\",\"\",INDEX('OTRAS REFERENTES'!$M:$O,MATCH(M429,'OTRAS REFERENTES'!$M:$M,0),2))","v":""},null,null,null,null,null,null,null,null,null,{"$f":"IF(X429=\"\",\"\",INDEX(referentes!$Y:$Z,MATCH(DATOS!X429,referentes!$Z:$Z,0),))","v":""},null,null,null,null,"OA",null,"SO",null,null,"",null,null,null,null,null,null,null,null,null,null,{"$f":"IF(AS429<>\"\",VLOOKUP(AS429,#REF!,2,TRUE),\"\")","v":""},null,{"$f":"IF(AU429<>\"\",VLOOKUP(AU429,#REF!,2,FALSE),\"\")","v":""},null,null,null,{"$f":"IF(AY429<>\"\",VLOOKUP(AY429,#REF!,2,TRUE),\"\")","v":""},null,425,"",null,{"$f":"IF(BD429=\"\",\"\",INDEX(referentes!$J:$K,MATCH(BD429,referentes!$J:$J,0),2))","v":""},null,null,{"$f":"IF(BG429=\"\",\"\",INDEX(referentes!$G:$H,MATCH(BG429,referentes!$G:$G,0),2))","v":""},{"$f":"IF(BD429=\"\",\"\",INDEX(referentes!$J:$P,MATCH(BD429,referentes!$J:$J,0),7))","v":""},""]
["19000100",{"$f":"DIGITADOR!$B$2","v":""},0,{"$f":"IF(E430<>\"\",CONCATENATE($A$2,DIGITADOR!$M$1,O430,AH430),\"\")","v":""},null,null,"","",null,null,null,null,"",{"$f":"IF(M430=\"\",\"\",INDEX('OTRAS REFERENTES'!$M:$O,MATCH(M430,'OTRAS REFERENTES'!$M:$M,0),3))","v":""},{"$f":"IF(M430=\"\",\"\",INDEX('OTRAS REFERENTES'!$M:$O,MATCH(M430,'OTRAS REFERENTES'!$M:$M,0),2))","v":""},null,null,null,null,null,null,null,null,null,{"$f":"IF(X430=\"\",\"\",INDEX(referentes!$Y:$Z,MATCH(DATOS!X430,referentes!$Z:$Z,0),))","v":""},null,null,null,null,"OA",null,"SO",null,null,"",null,null,null,null,null,null,null,null,null,null,{"$f":"IF(AS430<>\"\",VLOOKUP(AS430,#REF!,2,TRUE),\"\")","v":""},null,{"$f":"IF(AU430<>\"\",VLOOKUP(AU430,#REF!,2,FALSE),\"\")","v":""},null,null,null,{"$f":"IF(AY430<>\"\",VLOOKUP(AY430,#REF!,2,TRUE),\"\")","v":""},null,426,"",null,{"$f":"IF(BD430=\"\",\"\",INDEX(referentes!$J:$K,MATCH(BD430,referentes!$J:$J,0),2))","v":""},null,null,{"$f":"IF(BG430=\"\",\"\",INDEX(referentes!$G:$H,MATCH(BG430,referentes!$G:$G,0),2))","v":""},{"$f":"IF(BD430=\"\",\"\",INDEX(referentes!$J:$P,MATCH(BD430,referentes!$J:$J,0),7))","v":""},""]
["19000100",{"$f":"DIGITADOR!$B$2","v":""},0,{"$f":"IF(E431<>\"\",CONCATENATE($A$2,DIGITADOR!$M$1,O431,AH431),\"\")","v":""},null,null,"","",null,null,null,null,"",{"$f":"IF(M431=\"\",\"\",INDEX('OTRAS REFERENTES'!$M:$O,MATCH(M431,'OTRAS REFERENTES'!$M:$M,0),3))","v":""},{"$f":"IF(M431=\"\",\"\",INDEX('OTRAS REFERENTES'!$M:$O,MATCH(M431,'OTRAS REFERENTES'!$M:$M,0),2))","v":""},null,null,null,null,null,null,null,null,null,{"$f":"IF(X431=\"\",\"\",INDEX(referentes!$Y:$Z,MATCH(DATOS!X431,referentes!$Z:$Z,0),))","v":""},null,null,null,null,"OA",null,"SO",null,null,"",null,null,null,null,null,null,null,null,null,null,{"$f":"IF(AS431<>\"\",VLOOKUP(AS431,#REF!,2,TRUE),\"\")","v":""},null,{"$f":"IF(AU431<>\"\",VLOOKUP(AU431,#REF!,2,FALSE),\"\")","v":""},null,null,null,{"$f":"IF(AY431<>\"\",VLOOKUP(AY431,#REF!,2,TRUE),\"\")","v":""},null,427,"",null,{"$f":"IF(BD431=\"\",\"\",INDEX(referentes!$J:$K,MATCH(BD431,referentes!$J:$J,0),2))","v":""},null,null,{"$f":"IF(BG431=\"\",\"\",INDEX(referentes!$G:$H,MATCH(BG431,referentes!$G:$G,0),2))","v":""},{"$f":"IF(BD431=\"\",\"\",INDEX(referentes!$J:$P,MATCH(BD431,referentes!$J:$J,0),7))","v":""},""]
["19000100",{"$f":"DIGITADOR!$B$2","v":""},0,{"$f":"IF(E432<>\"\",CONCATENATE($A$2,DIGITADOR!$M$1,O432,AH432),\"\")","v":""},null,null,"","",null,null,null,null,"",{"$f":"IF(M432=\"\",\"\",INDEX('OTRAS REFERENTES'!$M:$O,MATCH(M432,'OTRAS REFERENTES'!$M:$M,0),3))","v":""},{"$f":"IF(M432=\"\",\"\",INDEX('OTRAS REFERENTES'!$M:$O,MATCH(M432,'OTRAS REFERENTES'!$M:$M,0),2))","v":""},null,null,null,null,null,null,null,null,null,{"$f":"IF(X432=\"\",\"\",INDEX(referentes!$Y:$Z,MATCH(DATOS!X432,referentes!$Z:$Z,0),))","v":""},null,null,null,null,"OA",null,"SO",null,null,"",null,null,null,null,null,null,null,null,null,null,{"$f":"IF(AS432<>\"\",VLOOKUP(AS432,#REF!,2,TRUE),\"\")","v":""},null,{"$f":"IF(AU432<>\"\",VLOOKUP(AU432,#REF!,2,FALSE),\"\")","v":""},null,null,null,{"$f":"IF(AY432<>\"\",VLOOKUP(AY432,#REF!,2,TRUE),\"\")","v":""},null,428,"",null,{"$f":"IF(BD432=\"\",\"\",INDEX(referentes!$J:$K,MATCH(BD432,referentes!$J:$J,0),2))","v":""},null,null,{"$f":"IF(BG432=\"\",\"\",INDEX(referentes!$G:$H,MATCH(BG432,referentes!$G:$G,0),2))","v":""},{"$f":"IF(BD432=\"\",\"\",INDEX(referentes!$J:$P,MATCH(BD432,referentes!$J:$J,0),7))","v":""},""]
["19000100",{"$f":"DIGITADOR!$B$2","v":""},0,{"$f":"IF(E433<>\"\",CONCATENATE($A$2,DIGITADOR!$M$1,O433,AH433),\"\")","v":""},null,null,"","",null,null,null,null,"",{"$f":"IF(M433=\"\",\"\",INDEX('OTRAS REFERENTES'!$M:$O,MATCH(M433,'OTRAS REFERENTES'!$M:$M,0),3))","v":""},{"$f":"IF(M433=\"\",\"\",INDEX('OTRAS REFERENTES'!$M:$O,MATCH(M433,'OTRAS REFERENTES'!$M:$M,0),2))","v":""},null,null,null,null,null,null,null,null,null,{"$f":"IF(X433=\"\",\"\",INDEX(referentes!$Y:$Z,MATCH(DATOS!X433,referentes!$Z:$Z,0),))","v":""},null,null,null,null,"OA",null,"SO",null,null,"",null,null,null,null,null,null,null,null,null,null,{"$f":"IF(AS433<>\"\",VLOOKUP(AS433,#REF!,2,TRUE),\"\")","v":""},null,{"$f":"IF(AU433<>\"\",VLOOKUP(AU433,#REF!,2,FALSE),\"\")","v":""},null,null,null,{"$f":"IF(AY433<>\"\",VLOOKUP(AY433,#REF!,2,TRUE),\"\")","v":""},null,429,"",null,{"$f":"IF(BD433=\"\",\"\",INDEX(referentes!$J:$K,MATCH(BD433,referentes!$J:$J,0),2))","v":""},null,null,{"$f":"IF(BG433=\"\",\"\",INDEX(referentes!$G:$H,MATCH(BG433,referentes!$G:$G,0),2))","v":""},{"$f":"IF(BD433=\"\",\"\",INDEX(referentes!$J:$P,MATCH(BD433,referentes!$J:$J,0),7))","v":""},""]
["19000100",{"$f":"DIGITADOR!$B$2","v":""},0,{"$f":"IF(E434<>\"\",CONCATENATE($A$2,DIGITADOR!$M$1,O434,AH434),\"\")","v":""},null,null,"","",null,null,null,null,"",{"$f":"IF(M434=\"\",\"\",INDEX('OTRAS REFERENTES'!$M:$O,MATCH(M434,'OTRAS REFERENTES'!$M:$M,0),3))","v":""},{"$f":"IF(M434=\"\",\"\",INDEX('OTRAS REFERENTES'!$M:$O,MATCH(M434,'OTRAS REFERENTES'!$M:$M,0),2))","v":""},null,null,null,null,null,null,null,null,null,{"$f":"IF(X434=\"\",\"\",INDEX(referentes!$Y:$Z,MATCH(DATOS!X434,referentes!$Z:$Z,0),))","v":""},null,null,null,null,"OA",null,"SO",null,null,"",null,null,null,null,null,null,null,null,null,null,{"$f":"IF(AS434<>\"\",VLOOKUP(AS434,#REF!,2,TRUE),\"\")","v":""},null,{"$f":"IF(AU434<>\"\",VLOOKUP(AU434,#REF!,2,FALSE),\"\")","v":""},null,null,null,{"$f":"IF(AY434<>\"\",VLOOKUP(AY434,#REF!,2,TRUE),\"\")","v":""},null,430,"",null,{"$f":"IF(BD434=\"\",\"\",INDEX(referentes!$J:$K,MATCH(BD434,referentes!$J:$J,0),2))","v":""},null,null,{"$f":"IF(BG434=\"\",\"\",INDEX(referentes!$G:$H,MATCH(BG434,referentes!$G:$G,0),2))","v":""},{"$f":"IF(BD434=\"\",\"\",INDEX(referentes!$J:$P,MATCH(BD434,referentes!$J:$J,0),7))","v":""},""]
["19000100",{"$f":"DIGITADOR!$B$2","v":""},0,{"$f":"IF(E435<>\"\",CONCATENATE($A$2,DIGITADOR!$M$1,O435,AH435),\"\")","v":""},null,null,"","",null,null,null,null,"",{"$f":"IF(M435=\"\",\"\",INDEX('OTRAS REFERENTES'!$M:$O,MATCH(M435,'OTRAS REFERENTES'!$M:$M,0),3))","v":""},{"$f":"IF(M435=\"\",\"\",INDEX('OTRAS REFERENTES'!$M:$O,MATCH(M435,'OTRAS REFERENTES'!$M:$M,0),2))","v":""},null,null,null,null,null,null,null,null,null,{"$f":"IF(X435=\"\",\"\",INDEX(referentes!$Y:$Z,MATCH(DATOS!X435,referentes!$Z:$Z,0),))","v":""},null,null,null,null,"OA",null,"SO",null,null,"",null,null,null,null,null,null,null,null,null,null,{"$f":"IF(AS435<>\"\",VLOOKUP(AS435,#REF!,2,TRUE),\"\")","v":""},null,{"$f":"IF(AU435<>\"\",VLOOKUP(AU435,#REF!,2,FALSE),\"\")","v":""},null,null,null,{"$f":"IF(AY435<>\"\",VLOOKUP(AY435,#REF!,2,TRUE),\"\")","v":""},null,431,"",null,{"$f":"IF(BD435=\"\",\"\",INDEX(referentes!$J:$K,MATCH(BD435,referentes!$J:$J,0),2))","v":""},null,null,{"$f":"IF(BG435=\"\",\"\",INDEX(referentes!$G:$H,MATCH(BG435,referentes!$G:$G,0),2))","v":""},{"$f":"IF(BD435=\"\",\"\",INDEX(referentes!$J:$P,MATCH(BD435,referentes!$J:$J,0),7))","v":""},""]
["19000100",{"$f":"DIGITADOR!$B$2","v":""},0,{"$f":"IF(E436<>\"\",CONCATENATE($A$2,DIGITADOR!$M$1,O436,AH436),\"\")","v":""},null,null,"","",null,null,null,null,"",{"$f":"IF(M436=\"\",\"\",INDEX('OTRAS REFERENTES'!$M:$O,MATCH(M436,'OTRAS REFERENTES'!$M:$M,0),3))","v":""},{"$f":"IF(M436=\"\",\"\",INDEX('OTRAS REFERENTES'!$M:$O,MATCH(M436,'OTRAS REFERENTES'!$M:$M,0),2))","v":""},null,null,null,null,null,null,null,null,null,{"$f":"IF(X436=\"\",\"\",INDEX(referentes!$Y:$Z,MATCH(DATOS!X436,referentes!$Z:$Z,0),))","v":""},null,null,null,null,"OA",null,"SO",null,null,"",null,null,null,null,null,null,null,null,null,null,{"$f":"IF(AS436<>\"\",VLOOKUP(AS436,#REF!,2,TRUE),\"\")","v":""},null,{"$f":"IF(AU436<>\"\",VLOOKUP(AU436,#REF!,2,FALSE),\"\")","v":""},null,null,null,{"$f":"IF(AY436<>\"\",VLOOKUP(AY436,#REF!,2,TRUE),\"\")","v":""},null,432,"",null,{"$f":"IF(BD436=\"\",\"\",INDEX(referentes!$J:$K,MATCH(BD436,referentes!$J:$J,0),2))","v":""},null,null,{"$f":"IF(BG436=\"\",\"\",INDEX(referentes!$G:$H,MATCH(BG436,referentes!$G:$G,0),2))","v":""},{"$f":"IF(BD436=\"\",\"\",INDEX(referentes!$J:$P,MATCH(BD436,referentes!$J:$J,0),7))","v":""},""]
["19000100",{"$f":"DIGITADOR!$B$2","v":""},0,{"$f":"IF(E437<>\"\",CONCATENATE($A$2,DIGITADOR!$M$1,O437,AH437),\"\")","v":""},null,null,"","",null,null,null,null,"",{"$f":"IF(M437=\"\",\"\",INDEX('OTRAS REFERENTES'!$M:$O,MATCH(M437,'OTRAS REFERENTES'!$M:$M,0),3))","v":""},{"$f":"IF(M437=\"\",\"\",INDEX('OTRAS REFERENTES'!$M:$O,MATCH(M437,'OTRAS REFERENTES'!$M:$M,0),2))","v":""},null,null,null,null,null,null,null,null,null,{"$f":"IF(X437=\"\",\"\",INDEX(referentes!$Y:$Z,MATCH(DATOS!X437,referentes!$Z:$Z,0),))","v":""},null,null,null,null,"OA",null,"SO",null,null,"",null,null,null,null,null,null,null,null,null,null,{"$f":"IF(AS437<>\"\",VLOOKUP(AS437,#REF!,2,TRUE),\"\")","v":""},null,{"$f":"IF(AU437<>\"\",VLOOKUP(AU437,#REF!,2,FALSE),\"\")","v":""},null,null,null,{"$f":"IF(AY437<>\"\",VLOOKUP(AY437,#REF!,2,TRUE),\"\")","v":""},null,433,"",null,{"$f":"IF(BD437=\"\",\"\",INDEX(referentes!$J:$K,MATCH(BD437,referentes!$J:$J,0),2))","v":""},null,null,{"$f":"IF(BG437=\"\",\"\",INDEX(referentes!$G:$H,MATCH(BG437,referentes!$G:$G,0),2))","v":""},{"$f":"IF(BD437=\"\",\"\",INDEX(referentes!$J:$P,MATCH(BD437,referentes!$J:$J,0),7))","v":""},""]
["19000100",{"$f":"DIGITADOR!$B$2","v":""},0,{"$f":"IF(E438<>\"\",CONCATENATE($A$2,DIGITADOR!$M$1,O438,AH438),\"\")","v":""},null,null,"","",null,null,null,null,"",{"$f":"IF(M438=\"\",\"\",INDEX('OTRAS REFERENTES'!$M:$O,MATCH(M438,'OTRAS REFERENTES'!$M:$M,0),3))","v":""},{"$f":"IF(M438=\"\",\"\",INDEX('OTRAS REFERENTES'!$M:$O,MATCH(M438,'OTRAS REFERENTES'!$M:$M,0),2))","v":""},null,null,null,null,null,null,null,null,null,{"$f":"IF(X438=\"\",\"\",INDEX(referentes!$Y:$Z,MATCH(DATOS!X438,referentes!$Z:$Z,0),))","v":""},null,null,null,null,"OA",null,"SO",null,null,"",null,null,null,null,null,null,null,null,null,null,{"$f":"IF(AS438<>\"\",VLOOKUP(AS438,#REF!,2,TRUE),\"\")","v":""},null,{"$f":"IF(AU438<>\"\",VLOOKUP(AU438,#REF!,2,FALSE),\"\")","v":""},null,null,null,{"$f":"IF(AY438<>\"\",VLOOKUP(AY438,#REF!,2,TRUE),\"\")","v":""},null,434,"",null,{"$f":"IF(BD438=\"\",\"\",INDEX(referentes!$J:$K,MATCH(BD438,referentes!$J:$J,0),2))","v":""},null,null,{"$f":"IF(BG438=\"\",\"\",INDEX(referentes!$G:$H,MATCH(BG438,referentes!$G:$G,0),2))","v":""},{"$f":"IF(BD438=\"\",\"\",INDEX(referentes!$J:$P,MATCH(BD438,referentes!$J:$J,0),7))","v":""},""]
["19000100",{"$f":"DIGITADOR!$B$2","v":""},0,{"$f":"IF(E439<>\"\",CONCATENATE($A$2,DIGITADOR!$M$1,O439,AH439),\"\")","v":""},null,null,"","",null,null,null,null,"",{"$f":"IF(M439=\"\",\"\",INDEX('OTRAS REFERENTES'!$M:$O,MATCH(M439,'OTRAS REFERENTES'!$M:$M,0),3))","v":""},{"$f":"IF(M439=\"\",\"\",INDEX('OTRAS REFERENTES'!$M:$O,MATCH(M439,'OTRAS REFERENTES'!$M:$M,0),2))","v":""},null,null,null,null,null,null,null,null,null,{"$f":"IF(X439=\"\",\"\",INDEX(referentes!$Y:$Z,MATCH(DATOS!X439,referentes!$Z:$Z,0),))","v":""},null,null,null,null,"OA",null,"SO",null,null,"",null,null,null,null,null,null,null,null,null,null,{"$f":"IF(AS439<>\"\",VLOOKUP(AS439,#REF!,2,TRUE),\"\")","v":""},null,{"$f":"IF(AU439<>\"\",VLOOKUP(AU439,#REF!,2,FALSE),\"\")","v":""},null,null,null,{"$f":"IF(AY439<>\"\",VLOOKUP(AY439,#REF!,2,TRUE),\"\")","v":""},null,435,"",null,{"$f":"IF(BD439=\"\",\"\",INDEX(referentes!$J:$K,MATCH(BD439,referentes!$J:$J,0),2))","v":""},null,null,{"$f":"IF(BG439=\"\",\"\",INDEX(referentes!$G:$H,MATCH(BG439,referentes!$G:$G,0),2))","v":""},{"$f":"IF(BD439=\"\",\"\",INDEX(referentes!$J:$P,MATCH(BD439,referentes!$J:$J,0),7))","v":""},""]
["19000100",{"$f":"DIGITADOR!$B$2","v":""},0,{"$f":"IF(E440<>\"\",CONCATENATE($A$2,DIGITADOR!$M$1,O440,AH440),\"\")","v":""},null,null,"","",null,null,null,null,"",{"$f":"IF(M440=\"\",\"\",INDEX('OTRAS REFERENTES'!$M:$O,MATCH(M440,'OTRAS REFERENTES'!$M:$M,0),3))","v":""},{"$f":"IF(M440=\"\",\"\",INDEX('OTRAS REFERENTES'!$M:$O,MATCH(M440,'OTRAS REFERENTES'!$M:$M,0),2))","v":""},null,null,null,null,null,null,null,null,null,{"$f":"IF(X440=\"\",\"\",INDEX(referentes!$Y:$Z,MATCH(DATOS!X440,referentes!$Z:$Z,0),))","v":""},null,null,null,null,"OA",null,"SO",null,null,"",null,null,null,null,null,null,null,null,null,null,{"$f":"IF(AS440<>\"\",VLOOKUP(AS440,#REF!,2,TRUE),\"\")","v":""},null,{"$f":"IF(AU440<>\"\",VLOOKUP(AU440,#REF!,2,FALSE),\"\")","v":""},null,null,null,{"$f":"IF(AY440<>\"\",VLOOKUP(AY440,#REF!,2,TRUE),\"\")","v":""},null,436,"",null,{"$f":"IF(BD440=\"\",\"\",INDEX(referentes!$J:$K,MATCH(BD440,referentes!$J:$J,0),2))","v":""},null,null,{"$f":"IF(BG440=\"\",\"\",INDEX(referentes!$G:$H,MATCH(BG440,referentes!$G:$G,0),2))","v":""},{"$f":"IF(BD440=\"\",\"\",INDEX(referentes!$J:$P,MATCH(BD440,referentes!$J:$J,0),7))","v":""},""]
["19000100",{"$f":"DIGITADOR!$B$2","v":""},0,{"$f":"IF(E441<>\"\",CONCATENATE($A$2,DIGITADOR!$M$1,O441,AH441),\"\")","v":""},null,null,"","",null,null,null,null,"",{"$f":"IF(M441=\"\",\"\",INDEX('OTRAS REFERENTES'!$M:$O,MATCH(M441,'OTRAS REFERENTES'!$M:$M,0),3))","v":""},{"$f":"IF(M441=\"\",\"\",INDEX('OTRAS REFERENTES'!$M:$O,MATCH(M441,'OTRAS REFERENTES'!$M:$M,0),2))","v":""},null,null,null,null,null,null,null,null,null,{"$f":"IF(X441=\"\",\"\",INDEX(referentes!$Y:$Z,MATCH(DATOS!X441,referentes!$Z:$Z,0),))","v":""},null,null,null,null,"OA",null,"SO",null,null,"",null,null,null,null,null,null,null,null,null,null,{"$f":"IF(AS441<>\"\",VLOOKUP(AS441,#REF!,2,TRUE),\"\")","v":""},null,{"$f":"IF(AU441<>\"\",VLOOKUP(AU441,#REF!,2,FALSE),\"\")","v":""},null,null,null,{"$f":"IF(AY441<>\"\",VLOOKUP(AY441,#REF!,2,TRUE),\"\")","v":""},null,437,"",null,{"$f":"IF(BD441=\"\",\"\",INDEX(referentes!$J:$K,MATCH(BD441,referentes!$J:$J,0),2))","v":""},null,null,{"$f":"IF(BG441=\"\",\"\",INDEX(referentes!$G:$H,MATCH(BG441,referentes!$G:$G,0),2))","v":""},{"$f":"IF(BD441=\"\",\"\",INDEX(referentes!$J:$P,MATCH(BD441,referentes!$J:$J,0),7))","v":""},""]
["19000100",{"$f":"DIGITADOR!$B$2","v":""},0,{"$f":"IF(E442<>\"\",CONCATENATE($A$2,DIGITADOR!$M$1,O442,AH442),\"\")","v":""},null,null,"","",null,null,null,null,"",{"$f":"IF(M442=\"\",\"\",INDEX('OTRAS REFERENTES'!$M:$O,MATCH(M442,'OTRAS REFERENTES'!$M:$M,0),3))","v":""},{"$f":"IF(M442=\"\",\"\",INDEX('OTRAS REFERENTES'!$M:$O,MATCH(M442,'OTRAS REFERENTES'!$M:$M,0),2))","v":""},null,null,null,null,null,null,null,null,null,{"$f":"IF(X442=\"\",\"\",INDEX(referentes!$Y:$Z,MATCH(DATOS!X442,referentes!$Z:$Z,0),))","v":""},null,null,null,null,"OA",null,"SO",null,null,"",null,null,null,null,null,null,null,null,null,null,{"$f":"IF(AS442<>\"\",VLOOKUP(AS442,#REF!,2,TRUE),\"\")","v":""},null,{"$f":"IF(AU442<>\"\",VLOOKUP(AU442,#REF!,2,FALSE),\"\")","v":""},null,null,null,{"$f":"IF(AY442<>\"\",VLOOKUP(AY442,#REF!,2,TRUE),\"\")","v":""},null,438,"",null,{"$f":"IF(BD442=\"\",\"\",INDEX(referentes!$J:$K,MATCH(BD442,referentes!$J:$J,0),2))","v":""},null,null,{"$f":"IF(BG442=\"\",\"\",INDEX(referentes!$G:$H,MATCH(BG442,referentes!$G:$G,0),2))","v":""},{"$f":"IF(BD442=\"\",\"\",INDEX(referentes!$J:$P,MATCH(BD442,referentes!$J:$J,0),7))","v":""},""]
["19000100",{"$f":"DIGITADOR!$B$2","v":""},0,{"$f":"IF(E443<>\"\",CONCATENATE($A$2,DIGITADOR!$M$1,O443,AH443),\"\")","v":""},null,null,"","",null,null,null,null,"",{"$f":"IF(M443=\"\",\"\",INDEX('OTRAS REFERENTES'!$M:$O,MATCH(M443,'OTRAS REFERENTES'!$M:$M,0),3))","v":""},{"$f":"IF(M443=\"\",\"\",INDEX('OTRAS REFERENTES'!$M:$O,MATCH(M443,'OTRAS REFERENTES'!$M:$M,0),2))","v":""},null,null,null,null,null,null,null,null,null,{"$f":"IF(X443=\"\",\"\",INDEX(referentes!$Y:$Z,MATCH(DATOS!X443,referentes!$Z:$Z,0),))","v":""},null,null,null,null,"OA",null,"SO",null,null,"",null,null,null,null,null,null,null,null,null,null,{"$f":"IF(AS443<>\"\",VLOOKUP(AS443,#REF!,2,TRUE),\"\")","v":""},null,{"$f":"IF(AU443<>\"\",VLOOKUP(AU443,#REF!,2,FALSE),\"\")","v":""},null,null,null,{"$f":"IF(AY443<>\"\",VLOOKUP(AY443,#REF!,2,TRUE),\"\")","v":""},null,439,"",null,{"$f":"IF(BD443=\"\",\"\",INDEX(referentes!$J:$K,MATCH(BD443,referentes!$J:$J,0),2))","v":""},null,null,{"$f":"IF(BG443=\"\",\"\",INDEX(referentes!$G:$H,MATCH(BG443,referentes!$G:$G,0),2))","v":""},{"$f":"IF(BD443=\"\",\"\",INDEX(referentes!$J:$P,MATCH(BD443,referentes!$J:$J,0),7))","v":""},""]
["19000100",{"$f":"DIGITADOR!$B$2","v":""},0,{"$f":"IF(E444<>\"\",CONCATENATE($A$2,DIGITADOR!$M$1,O444,AH444),\"\")","v":""},null,null,"","",null,null,null,null,"",{"$f":"IF(M444=\"\",\"\",INDEX('OTRAS REFERENTES'!$M:$O,MATCH(M444,'OTRAS REFERENTES'!$M:$M,0),3))","v":""},{"$f":"IF(M444=\"\",\"\",INDEX('OTRAS REFERENTES'!$M:$O,MATCH(M444,'OTRAS REFERENTES'!$M:$M,0),2))","v":""},null,null,null,null,null,null,null,null,null,{"$f":"IF(X444=\"\",\"\",INDEX(referentes!$Y:$Z,MATCH(DATOS!X444,referentes!$Z:$Z,0),))","v":""},null,null,null,null,"OA",null,"SO",null,null,"",null,null,null,null,null,null,null,null,null,null,{"$f":"IF(AS444<>\"\",VLOOKUP(AS444,#REF!,2,TRUE),\"\")","v":""},null,{"$f":"IF(AU444<>\"\",VLOOKUP(AU444,#REF!,2,FALSE),\"\")","v":""},null,null,null,{"$f":"IF(AY444<>\"\",VLOOKUP(AY444,#REF!,2,TRUE),\"\")","v":""},null,440,"",null,{"$f":"IF(BD444=\"\",\"\",INDEX(referentes!$J:$K,MATCH(BD444,referentes!$J:$J,0),2))","v":""},null,null,{"$f":"IF(BG444=\"\",\"\",INDEX(referentes!$G:$H,MATCH(BG444,referentes!$G:$G,0),2))","v":""},{"$f":"IF(BD444=\"\",\"\",INDEX(referentes!$J:$P,MATCH(BD444,referentes!$J:$J,0),7))","v":""},""]
["19000100",{"$f":"DIGITADOR!$B$2","v":""},0,{"$f":"IF(E445<>\"\",CONCATENATE($A$2,DIGITADOR!$M$1,O445,AH445),\"\")","v":""},null,null,"","",null,null,null,null,"",{"$f":"IF(M445=\"\",\"\",INDEX('OTRAS REFERENTES'!$M:$O,MATCH(M445,'OTRAS REFERENTES'!$M:$M,0),3))","v":""},{"$f":"IF(M445=\"\",\"\",INDEX('OTRAS REFERENTES'!$M:$O,MATCH(M445,'OTRAS REFERENTES'!$M:$M,0),2))","v":""},null,null,null,null,null,null,null,null,null,{"$f":"IF(X445=\"\",\"\",INDEX(referentes!$Y:$Z,MATCH(DATOS!X445,referentes!$Z:$Z,0),))","v":""},null,null,null,null,"OA",null,"SO",null,null,"",null,null,null,null,null,null,null,null,null,null,{"$f":"IF(AS445<>\"\",VLOOKUP(AS445,#REF!,2,TRUE),\"\")","v":""},null,{"$f":"IF(AU445<>\"\",VLOOKUP(AU445,#REF!,2,FALSE),\"\")","v":""},null,null,null,{"$f":"IF(AY445<>\"\",VLOOKUP(AY445,#REF!,2,TRUE),\"\")","v":""},null,441,"",null,{"$f":"IF(BD445=\"\",\"\",INDEX(referentes!$J:$K,MATCH(BD445,referentes!$J:$J,0),2))","v":""},null,null,{"$f":"IF(BG445=\"\",\"\",INDEX(referentes!$G:$H,MATCH(BG445,referentes!$G:$G,0),2))","v":""},{"$f":"IF(BD445=\"\",\"\",INDEX(referentes!$J:$P,MATCH(BD445,referentes!$J:$J,0),7))","v":""},""]
["19000100",{"$f":"DIGITADOR!$B$2","v":""},0,{"$f":"IF(E446<>\"\",CONCATENATE($A$2,DIGITADOR!$M$1,O446,AH446),\"\")","v":""},null,null,"","",null,null,null,null,"",{"$f":"IF(M446=\"\",\"\",INDEX('OTRAS REFERENTES'!$M:$O,MATCH(M446,'OTRAS REFERENTES'!$M:$M,0),3))","v":""},{"$f":"IF(M446=\"\",\"\",INDEX('OTRAS REFERENTES'!$M:$O,MATCH(M446,'OTRAS REFERENTES'!$M:$M,0),2))","v":""},null,null,null,null,null,null,null,null,null,{"$f":"IF(X446=\"\",\"\",INDEX(referentes!$Y:$Z,MATCH(DATOS!X446,referentes!$Z:$Z,0),))","v":""},null,null,null,null,"OA",null,"SO",null,null,"",null,null,null,null,null,null,null,null,null,null,{"$f":"IF(AS446<>\"\",VLOOKUP(AS446,#REF!,2,TRUE),\"\")","v":""},null,{"$f":"IF(AU446<>\"\",VLOOKUP(AU446,#REF!,2,FALSE),\"\")","v":""},null,null,null,{"$f":"IF(AY446<>\"\",VLOOKUP(AY446,#REF!,2,TRUE),\"\")","v":""},null,442,"",null,{"$f":"IF(BD446=\"\",\"\",INDEX(referentes!$J:$K,MATCH(BD446,referentes!$J:$J,0),2))","v":""},null,null,{"$f":"IF(BG446=\"\",\"\",INDEX(referentes!$G:$H,MATCH(BG446,referentes!$G:$G,0),2))","v":""},{"$f":"IF(BD446=\"\",\"\",INDEX(referentes!$J:$P,MATCH(BD446,referentes!$J:$J,0),7))","v":""},""]
["19000100",{"$f":"DIGITADOR!$B$2","v":""},0,{"$f":"IF(E447<>\"\",CONCATENATE($A$2,DIGITADOR!$M$1,O447,AH447),\"\")","v":""},null,null,"","",null,null,null,null,"",{"$f":"IF(M447=\"\",\"\",INDEX('OTRAS REFERENTES'!$M:$O,MATCH(M447,'OTRAS REFERENTES'!$M:$M,0),3))","v":""},{"$f":"IF(M447=\"\",\"\",INDEX('OTRAS REFERENTES'!$M:$O,MATCH(M447,'OTRAS REFERENTES'!$M:$M,0),2))","v":""},null,null,null,null,null,null,null,null,null,{"$f":"IF(X447=\"\",\"\",INDEX(referentes!$Y:$Z,MATCH(DATOS!X447,referentes!$Z:$Z,0),))","v":""},null,null,null,null,"OA",null,"SO",null,null,"",null,null,null,null,null,null,null,null,null,null,{"$f":"IF(AS447<>\"\",VLOOKUP(AS447,#REF!,2,TRUE),\"\")","v":""},null,{"$f":"IF(AU447<>\"\",VLOOKUP(AU447,#REF!,2,FALSE),\"\")","v":""},null,null,null,{"$f":"IF(AY447<>\"\",VLOOKUP(AY447,#REF!,2,TRUE),\"\")","v":""},null,443,"",null,{"$f":"IF(BD447=\"\",\"\",INDEX(referentes!$J:$K,MATCH(BD447,referentes!$J:$J,0),2))","v":""},null,null,{"$f":"IF(BG447=\"\",\"\",INDEX(referentes!$G:$H,MATCH(BG447,referentes!$G:$G,0),2))","v":""},{"$f":"IF(BD447=\"\",\"\",INDEX(referentes!$J:$P,MATCH(BD447,referentes!$J:$J,0),7))","v":""},""]
["19000100",{"$f":"DIGITADOR!$B$2","v":""},0,{"$f":"IF(E448<>\"\",CONCATENATE($A$2,DIGITADOR!$M$1,O448,AH448),\"\")","v":""},null,null,"","",null,null,null,null,"",{"$f":"IF(M448=\"\",\"\",INDEX('OTRAS REFERENTES'!$M:$O,MATCH(M448,'OTRAS REFERENTES'!$M:$M,0),3))","v":""},{"$f":"IF(M448=\"\",\"\",INDEX('OTRAS REFERENTES'!$M:$O,MATCH(M448,'OTRAS REFERENTES'!$M:$M,0),2))","v":""},null,null,null,null,null,null,null,null,null,{"$f":"IF(X448=\"\",\"\",INDEX(referentes!$Y:$Z,MATCH(DATOS!X448,referentes!$Z:$Z,0),))","v":""},null,null,null,null,"OA",null,"SO",null,null,"",null,null,null,null,null,null,null,null,null,null,{"$f":"IF(AS448<>\"\",VLOOKUP(AS448,#REF!,2,TRUE),\"\")","v":""},null,{"$f":"IF(AU448<>\"\",VLOOKUP(AU448,#REF!,2,FALSE),\"\")","v":""},null,null,null,{"$f":"IF(AY448<>\"\",VLOOKUP(AY448,#REF!,2,TRUE),\"\")","v":""},null,444,"",null,{"$f":"IF(BD448=\"\",\"\",INDEX(referentes!$J:$K,MATCH(BD448,referentes!$J:$J,0),2))","v":""},null,null,{"$f":"IF(BG448=\"\",\"\",INDEX(referentes!$G:$H,MATCH(BG448,referentes!$G:$G,0),2))","v":""},{"$f":"IF(BD448=\"\",\"\",INDEX(referentes!$J:$P,MATCH(BD448,referentes!$J:$J,0),7))","v":""},""]
["19000100",{"$f":"DIGITADOR!$B$2","v":""},0,{"$f":"IF(E449<>\"\",CONCATENATE($A$2,DIGITADOR!$M$1,O449,AH449),\"\")","v":""},null,null,"","",null,null,null,null,"",{"$f":"IF(M449=\"\",\"\",INDEX('OTRAS REFERENTES'!$M:$O,MATCH(M449,'OTRAS REFERENTES'!$M:$M,0),3))","v":""},{"$f":"IF(M449=\"\",\"\",INDEX('OTRAS REFERENTES'!$M:$O,MATCH(M449,'OTRAS REFERENTES'!$M:$M,0),2))","v":""},null,null,null,null,null,null,null,null,null,{"$f":"IF(X449=\"\",\"\",INDEX(referentes!$Y:$Z,MATCH(DATOS!X449,referentes!$Z:$Z,0),))","v":""},null,null,null,null,"OA",null,"SO",null,null,"",null,null,null,null,null,null,null,null,null,null,{"$f":"IF(AS449<>\"\",VLOOKUP(AS449,#REF!,2,TRUE),\"\")","v":""},null,{"$f":"IF(AU449<>\"\",VLOOKUP(AU449,#REF!,2,FALSE),\"\")","v":""},null,null,null,{"$f":"IF(AY449<>\"\",VLOOKUP(AY449,#REF!,2,TRUE),\"\")","v":""},null,445,"",null,{"$f":"IF(BD449=\"\",\"\",INDEX(referentes!$J:$K,MATCH(BD449,referentes!$J:$J,0),2))","v":""},null,null,{"$f":"IF(BG449=\"\",\"\",INDEX(referentes!$G:$H,MATCH(BG449,referentes!$G:$G,0),2))","v":""},{"$f":"IF(BD449=\"\",\"\",INDEX(referentes!$J:$P,MATCH(BD449,referentes!$J:$J,0),7))","v":""},""]
["19000100",{"$f":"DIGITADOR!$B$2","v":""},0,{"$f":"IF(E450<>\"\",CONCATENATE($A$2,DIGITADOR!$M$1,O450,AH450),\"\")","v":""},null,null,"","",null,null,null,null,"",{"$f":"IF(M450=\"\",\"\",INDEX('OTRAS REFERENTES'!$M:$O,MATCH(M450,'OTRAS REFERENTES'!$M:$M,0),3))","v":""},{"$f":"IF(M450=\"\",\"\",INDEX('OTRAS REFERENTES'!$M:$O,MATCH(M450,'OTRAS REFERENTES'!$M:$M,0),2))","v":""},null,null,null,null,null,null,null,null,null,{"$f":"IF(X450=\"\",\"\",INDEX(referentes!$Y:$Z,MATCH(DATOS!X450,referentes!$Z:$Z,0),))","v":""},null,null,null,null,"OA",null,"SO",null,null,"",null,null,null,null,null,null,null,null,null,null,{"$f":"IF(AS450<>\"\",VLOOKUP(AS450,#REF!,2,TRUE),\"\")","v":""},null,{"$f":"IF(AU450<>\"\",VLOOKUP(AU450,#REF!,2,FALSE),\"\")","v":""},null,null,null,{"$f":"IF(AY450<>\"\",VLOOKUP(AY450,#REF!,2,TRUE),\"\")","v":""},null,446,"",null,{"$f":"IF(BD450=\"\",\"\",INDEX(referentes!$J:$K,MATCH(BD450,referentes!$J:$J,0),2))","v":""},null,null,{"$f":"IF(BG450=\"\",\"\",INDEX(referentes!$G:$H,MATCH(BG450,referentes!$G:$G,0),2))","v":""},{"$f":"IF(BD450=\"\",\"\",INDEX(referentes!$J:$P,MATCH(BD450,referentes!$J:$J,0),7))","v":""},""]
["19000100",{"$f":"DIGITADOR!$B$2","v":""},0,{"$f":"IF(E451<>\"\",CONCATENATE($A$2,DIGITADOR!$M$1,O451,AH451),\"\")","v":""},null,null,"","",null,null,null,null,"",{"$f":"IF(M451=\"\",\"\",INDEX('OTRAS REFERENTES'!$M:$O,MATCH(M451,'OTRAS REFERENTES'!$M:$M,0),3))","v":""},{"$f":"IF(M451=\"\",\"\",INDEX('OTRAS REFERENTES'!$M:$O,MATCH(M451,'OTRAS REFERENTES'!$M:$M,0),2))","v":""},null,null,null,null,null,null,null,null,null,{"$f":"IF(X451=\"\",\"\",INDEX(referentes!$Y:$Z,MATCH(DATOS!X451,referentes!$Z:$Z,0),))","v":""},null,null,null,null,"OA",null,"SO",null,null,"",null,null,null,null,null,null,null,null,null,null,{"$f":"IF(AS451<>\"\",VLOOKUP(AS451,#REF!,2,TRUE),\"\")","v":""},null,{"$f":"IF(AU451<>\"\",VLOOKUP(AU451,#REF!,2,FALSE),\"\")","v":""},null,null,null,{"$f":"IF(AY451<>\"\",VLOOKUP(AY451,#REF!,2,TRUE),\"\")","v":""},null,447,"",null,{"$f":"IF(BD451=\"\",\"\",INDEX(referentes!$J:$K,MATCH(BD451,referentes!$J:$J,0),2))","v":""},null,null,{"$f":"IF(BG451=\"\",\"\",INDEX(referentes!$G:$H,MATCH(BG451,referentes!$G:$G,0),2))","v":""},{"$f":"IF(BD451=\"\",\"\",INDEX(referentes!$J:$P,MATCH(BD451,referentes!$J:$J,0),7))","v":""},""]
["19000100",{"$f":"DIGITADOR!$B$2","v":""},0,{"$f":"IF(E452<>\"\",CONCATENATE($A$2,DIGITADOR!$M$1,O452,AH452),\"\")","v":""},null,null,"","",null,null,null,null,"",{"$f":"IF(M452=\"\",\"\",INDEX('OTRAS REFERENTES'!$M:$O,MATCH(M452,'OTRAS REFERENTES'!$M:$M,0),3))","v":""},{"$f":"IF(M452=\"\",\"\",INDEX('OTRAS REFERENTES'!$M:$O,MATCH(M452,'OTRAS REFERENTES'!$M:$M,0),2))","v":""},null,null,null,null,null,null,null,null,null,{"$f":"IF(X452=\"\",\"\",INDEX(referentes!$Y:$Z,MATCH(DATOS!X452,referentes!$Z:$Z,0),))","v":""},null,null,null,null,"OA",null,"SO",null,null,"",null,null,null,null,null,null,null,null,null,null,{"$f":"IF(AS452<>\"\",VLOOKUP(AS452,#REF!,2,TRUE),\"\")","v":""},null,{"$f":"IF(AU452<>\"\",VLOOKUP(AU452,#REF!,2,FALSE),\"\")","v":""},null,null,null,{"$f":"IF(AY452<>\"\",VLOOKUP(AY452,#REF!,2,TRUE),\"\")","v":""},null,448,"",null,{"$f":"IF(BD452=\"\",\"\",INDEX(referentes!$J:$K,MATCH(BD452,referentes!$J:$J,0),2))","v":""},null,null,{"$f":"IF(BG452=\"\",\"\",INDEX(referentes!$G:$H,MATCH(BG452,referentes!$G:$G,0),2))","v":""},{"$f":"IF(BD452=\"\",\"\",INDEX(referentes!$J:$P,MATCH(BD452,referentes!$J:$J,0),7))","v":""},""]
["19000100",{"$f":"DIGITADOR!$B$2","v":""},0,{"$f":"IF(E453<>\"\",CONCATENATE($A$2,DIGITADOR!$M$1,O453,AH453),\"\")","v":""},null,null,"",{"$f":"IF(G453<>\"\",MONTH(G453),\"\")","v":""},null,null,null,null,"",{"$f":"IF(M453=\"\",\"\",INDEX('OTRAS REFERENTES'!$M:$O,MATCH(M453,'OTRAS REFERENTES'!$M:$M,0),3))","v":""},{"$f":"IF(M453=\"\",\"\",INDEX('OTRAS REFERENTES'!$M:$O,MATCH(M453,'OTRAS REFERENTES'!$M:$M,0),2))","v":""},null,null,null,null,null,null,null,null,null,{"$f":"IF(X453=\"\",\"\",INDEX(referentes!$Y:$Z,MATCH(DATOS!X453,referentes!$Z:$Z,0),))","v":""},null,null,null,null,"OA",null,"SO",null,null,"",null,null,null,null,null,null,null,null,null,null,{"$f":"IF(AS453<>\"\",VLOOKUP(AS453,#REF!,2,TRUE),\"\")","v":""},null,{"$f":"IF(AU453<>\"\",VLOOKUP(AU453,#REF!,2,FALSE),\"\")","v":""},null,null,null,{"$f":"IF(AY453<>\"\",VLOOKUP(AY453,#REF!,2,TRUE),\"\")","v":""},null,449,"",null,{"$f":"IF(BD453=\"\",\"\",INDEX(referentes!$J:$K,MATCH(BD453,referentes!$J:$J,0),2))","v":""},null,null,{"$f":"IF(BG453=\"\",\"\",INDEX(referentes!$G:$H,MATCH(BG453,referentes!$G:$G,0),2))","v":""},{"$f":"IF(BD453=\"\",\"\",INDEX(referentes!$J:$P,MATCH(BD453,referentes!$J:$J,0),7))","v":""},""]
[{"$f":"A453","v":"19000100"},{"$f":"DIGITADOR!$B$2","v":""},0,{"$f":"IF(E454<>\"\",CONCATENATE($A$2,DIGITADOR!$M$1,O454,AH454),\"\")","v":""},null,null,{"$f":"IF(E454=\"\",\"\",E454+F454)","v":""},"",null,null,null,null,{"$f":"IF(L454<>\"\",CONCATENATE(J454,L454),\"\")","v":""},{"$f":"IF(M454=\"\",\"\",INDEX('OTRAS REFERENTES'!$M:$O,MATCH(M454,'OTRAS REFERENTES'!$M:$M,0),3))","v":""},{"$f":"IF(M454=\"\",\"\",INDEX('OTRAS REFERENTES'!$M:$O,MATCH(M454,'OTRAS REFERENTES'!$M:$M,0),2))","v":""},null,null,null,null,null,null,null,null,null,{"$f":"IF(X454=\"\",\"\",INDEX(referentes!$Y:$Z,MATCH(DATOS!X454,referentes!$Z:$Z,0),))","v":""},null,null,null,null,"OA",null,"SO",null,null,{"$f":"CONCATENATE(AG454)","v":""},null,null,null,null,null,null,null,null,null,null,{"$f":"IF(AS454<>\"\",VLOOKUP(AS454,#REF!,2,TRUE),\"\")","v":""},null,{"$f":"IF(AU454<>\"\",VLOOKUP(AU454,#REF!,2,FALSE),\"\")","v":""},null,null,null,{"$f":"IF(AY454<>\"\",VLOOKUP(AY454,#REF!,2,TRUE),\"\")","v":""},null,450,{"$f":"IF(D454=\"\",\"\",CONCATENATE(D454,BB454))","v":""},null,{"$f":"IF(BD454=\"\",\"\",INDEX(referentes!$J:$K,MATCH(BD454,referentes!$J:$J,0),2))","v":""},null,null,{"$f":"IF(BG454=\"\",\"\",INDEX(referentes!$G:$H,MATCH(BG454,referentes!$G:$G,0),2))","v":""},{"$f":"IF(BD454=\"\",\"\",INDEX(referentes!$J:$P,MATCH(BD454,referentes!$J:$J,0),7))","v":""},{"$f":"IF(BD454=\"\",\"\",UPPER(BD454))","v":""}]
["19000100",{"$f":"DIGITADOR!$B$2","v":""},0,{"$f":"IF(E455<>\"\",CONCATENATE($A$2,DIGITADOR!$M$1,O455,AH455),\"\")","v":""},null,null,"","",null,null,null,null,"",{"$f":"IF(M455=\"\",\"\",INDEX('OTRAS REFERENTES'!$M:$O,MATCH(M455,'OTRAS REFERENTES'!$M:$M,0),3))","v":""},{"$f":"IF(M455=\"\",\"\",INDEX('OTRAS REFERENTES'!$M:$O,MATCH(M455,'OTRAS REFERENTES'!$M:$M,0),2))","v":""},null,null,null,null,null,null,null,null,null,{"$f":"IF(X455=\"\",\"\",INDEX(referentes!$Y:$Z,MATCH(DATOS!X455,referentes!$Z:$Z,0),))","v":""},null,null,null,null,"OA",null,"SO",null,null,"",null,null,null,null,null,null,null,null,null,null,{"$f":"IF(AS455<>\"\",VLOOKUP(AS455,#REF!,2,TRUE),\"\")","v":""},null,{"$f":"IF(AU455<>\"\",VLOOKUP(AU455,#REF!,2,FALSE),\"\")","v":""},null,null,null,{"$f":"IF(AY455<>\"\",VLOOKUP(AY455,#REF!,2,TRUE),\"\")","v":""},null,451,"",null,{"$f":"IF(BD455=\"\",\"\",INDEX(referentes!$J:$K,MATCH(BD455,referentes!$J:$J,0),2))","v":""},null,null,{"$f":"IF(BG455=\"\",\"\",INDEX(referentes!$G:$H,MATCH(BG455,referentes!$G:$G,0),2))","v":""},{"$f":"IF(BD455=\"\",\"\",INDEX(referentes!$J:$P,MATCH(BD455,referentes!$J:$J,0),7))","v":""},""]
["19000100",{"$f":"DIGITADOR!$B$2","v":""},0,{"$f":"IF(E456<>\"\",CONCATENATE($A$2,DIGITADOR!$M$1,O456,AH456),\"\")","v":""},null,null,"","",null,null,null,null,"",{"$f":"IF(M456=\"\",\"\",INDEX('OTRAS REFERENTES'!$M:$O,MATCH(M456,'OTRAS REFERENTES'!$M:$M,0),3))","v":""},{"$f":"IF(M456=\"\",\"\",INDEX('OTRAS REFERENTES'!$M:$O,MATCH(M456,'OTRAS REFERENTES'!$M:$M,0),2))","v":""},null,null,null,null,null,null,null,null,null,{"$f":"IF(X456=\"\",\"\",INDEX(referentes!$Y:$Z,MATCH(DATOS!X456,referentes!$Z:$Z,0),))","v":""},null,null,null,null,"OA",null,"SO",null,null,"",null,null,null,null,null,null,null,null,null,null,{"$f":"IF(AS456<>\"\",VLOOKUP(AS456,#REF!,2,TRUE),\"\")","v":""},null,{"$f":"IF(AU456<>\"\",VLOOKUP(AU456,#REF!,2,FALSE),\"\")","v":""},null,null,null,{"$f":"IF(AY456<>\"\",VLOOKUP(AY456,#REF!,2,TRUE),\"\")","v":""},null,452,"",null,{"$f":"IF(BD456=\"\",\"\",INDEX(referentes!$J:$K,MATCH(BD456,referentes!$J:$J,0),2))","v":""},null,null,{"$f":"IF(BG456=\"\",\"\",INDEX(referentes!$G:$H,MATCH(BG456,referentes!$G:$G,0),2))","v":""},{"$f":"IF(BD456=\"\",\"\",INDEX(referentes!$J:$P,MATCH(BD456,referentes!$J:$J,0),7))","v":""},""]
["19000100",{"$f":"DIGITADOR!$B$2","v":""},0,{"$f":"IF(E457<>\"\",CONCATENATE($A$2,DIGITADOR!$M$1,O457,AH457),\"\")","v":""},null,null,"","",null,null,null,null,"",{"$f":"IF(M457=\"\",\"\",INDEX('OTRAS REFERENTES'!$M:$O,MATCH(M457,'OTRAS REFERENTES'!$M:$M,0),3))","v":""},{"$f":"IF(M457=\"\",\"\",INDEX('OTRAS REFERENTES'!$M:$O,MATCH(M457,'OTRAS REFERENTES'!$M:$M,0),2))","v":""},null,null,null,null,null,null,null,null,null,{"$f":"IF(X457=\"\",\"\",INDEX(referentes!$Y:$Z,MATCH(DATOS!X457,referentes!$Z:$Z,0),))","v":""},null,null,null,null,"OA",null,"SO",null,null,"",null,null,null,null,null,null,null,null,null,null,{"$f":"IF(AS457<>\"\",VLOOKUP(AS457,#REF!,2,TRUE),\"\")","v":""},null,{"$f":"IF(AU457<>\"\",VLOOKUP(AU457,#REF!,2,FALSE),\"\")","v":""},null,null,null,{"$f":"IF(AY457<>\"\",VLOOKUP(AY457,#REF!,2,TRUE),\"\")","v":""},null,453,"",null,{"$f":"IF(BD457=\"\",\"\",INDEX(referentes!$J:$K,MATCH(BD457,referentes!$J:$J,0),2))","v":""},null,null,{"$f":"IF(BG457=\"\",\"\",INDEX(referentes!$G:$H,MATCH(BG457,referentes!$G:$G,0),2))","v":""},{"$f":"IF(BD457=\"\",\"\",INDEX(referentes!$J:$P,MATCH(BD457,referentes!$J:$J,0),7))","v":""},""]
["19000100",{"$f":"DIGITADOR!$B$2","v":""},0,{"$f":"IF(E458<>\"\",CONCATENATE($A$2,DIGITADOR!$M$1,O458,AH458),\"\")","v":""},null,null,"","",null,null,null,null,"",{"$f":"IF(M458=\"\",\"\",INDEX('OTRAS REFERENTES'!$M:$O,MATCH(M458,'OTRAS REFERENTES'!$M:$M,0),3))","v":""},{"$f":"IF(M458=\"\",\"\",INDEX('OTRAS REFERENTES'!$M:$O,MATCH(M458,'OTRAS REFERENTES'!$M:$M,0),2))","v":""},null,null,null,null,null,null,null,null,null,{"$f":"IF(X458=\"\",\"\",INDEX(referentes!$Y:$Z,MATCH(DATOS!X458,referentes!$Z:$Z,0),))","v":""},null,null,null,null,"OA",null,"SO",null,null,"",null,null,null,null,null,null,null,null,null,null,{"$f":"IF(AS458<>\"\",VLOOKUP(AS458,#REF!,2,TRUE),\"\")","v":""},null,{"$f":"IF(AU458<>\"\",VLOOKUP(AU458,#REF!,2,FALSE),\"\")","v":""},null,null,null,{"$f":"IF(AY458<>\"\",VLOOKUP(AY458,#REF!,2,TRUE),\"\")","v":""},null,454,"",null,{"$f":"IF(BD458=\"\",\"\",INDEX(referentes!$J:$K,MATCH(BD458,referentes!$J:$J,0),2))","v":""},null,null,{"$f":"IF(BG458=\"\",\"\",INDEX(referentes!$G:$H,MATCH(BG458,referentes!$G:$G,0),2))","v":""},{"$f":"IF(BD458=\"\",\"\",INDEX(referentes!$J:$P,MATCH(BD458,referentes!$J:$J,0),7))","v":""},""]
["19000100",{"$f":"DIGITADOR!$B$2","v":""},0,{"$f":"IF(E459<>\"\",CONCATENATE($A$2,DIGITADOR!$M$1,O459,AH459),\"\")","v":""},null,null,"","",null,null,null,null,"",{"$f":"IF(M459=\"\",\"\",INDEX('OTRAS REFERENTES'!$M:$O,MATCH(M459,'OTRAS REFERENTES'!$M:$M,0),3))","v":""},{"$f":"IF(M459=\"\",\"\",INDEX('OTRAS REFERENTES'!$M:$O,MATCH(M459,'OTRAS REFERENTES'!$M:$M,0),2))","v":""},null,null,null,null,null,null,null,null,null,{"$f":"IF(X459=\"\",\"\",INDEX(referentes!$Y:$Z,MATCH(DATOS!X459,referentes!$Z:$Z,0),))","v":""},null,null,null,null,"OA",null,"SO",null,null,"",null,null,null,null,null,null,null,null,null,null,{"$f":"IF(AS459<>\"\",VLOOKUP(AS459,#REF!,2,TRUE),\"\")","v":""},null,{"$f":"IF(AU459<>\"\",VLOOKUP(AU459,#REF!,2,FALSE),\"\")","v":""},null,null,null,{"$f":"IF(AY459<>\"\",VLOOKUP(AY459,#REF!,2,TRUE),\"\")","v":""},null,455,"",null,{"$f":"IF(BD459=\"\",\"\",INDEX(referentes!$J:$K,MATCH(BD459,referentes!$J:$J,0),2))","v":""},null,null,{"$f":"IF(BG459=\"\",\"\",INDEX(referentes!$G:$H,MATCH(BG459,referentes!$G:$G,0),2))","v":""},{"$f":"IF(BD459=\"\",\"\",INDEX(referentes!$J:$P,MATCH(BD459,referentes!$J:$J,0),7))","v":""},""]
["19000100",{"$f":"DIGITADOR!$B$2","v":""},0,{"$f":"IF(E460<>\"\",CONCATENATE($A$2,DIGITADOR!$M$1,O460,AH460),\"\")","v":""},null,null,"","",null,null,null,null,"",{"$f":"IF(M460=\"\",\"\",INDEX('OTRAS REFERENTES'!$M:$O,MATCH(M460,'OTRAS REFERENTES'!$M:$M,0),3))","v":""},{"$f":"IF(M460=\"\",\"\",INDEX('OTRAS REFERENTES'!$M:$O,MATCH(M460,'OTRAS REFERENTES'!$M:$M,0),2))","v":""},null,null,null,null,null,null,null,null,null,{"$f":"IF(X460=\"\",\"\",INDEX(referentes!$Y:$Z,MATCH(DATOS!X460,referentes!$Z:$Z,0),))","v":""},null,null,null,null,"OA",null,"SO",null,null,"",null,null,null,null,null,null,null,null,null,null,{"$f":"IF(AS460<>\"\",VLOOKUP(AS460,#REF!,2,TRUE),\"\")","v":""},null,{"$f":"IF(AU460<>\"\",VLOOKUP(AU460,#REF!,2,FALSE),\"\")","v":""},null,null,null,{"$f":"IF(AY460<>\"\",VLOOKUP(AY460,#REF!,2,TRUE),\"\")","v":""},null,456,"",null,{"$f":"IF(BD460=\"\",\"\",INDEX(referentes!$J:$K,MATCH(BD460,referentes!$J:$J,0),2))","v":""},null,null,{"$f":"IF(BG460=\"\",\"\",INDEX(referentes!$G:$H,MATCH(BG460,referentes!$G:$G,0),2))","v":""},{"$f":"IF(BD460=\"\",\"\",INDEX(referentes!$J:$P,MATCH(BD460,referentes!$J:$J,0),7))","v":""},""]
["19000100",{"$f":"DIGITADOR!$B$2","v":""},0,{"$f":"IF(E461<>\"\",CONCATENATE($A$2,DIGITADOR!$M$1,O461,AH461),\"\")","v":""},null,null,"","",null,null,null,null,"",{"$f":"IF(M461=\"\",\"\",INDEX('OTRAS REFERENTES'!$M:$O,MATCH(M461,'OTRAS REFERENTES'!$M:$M,0),3))","v":""},{"$f":"IF(M461=\"\",\"\",INDEX('OTRAS REFERENTES'!$M:$O,MATCH(M461,'OTRAS REFERENTES'!$M:$M,0),2))","v":""},null,null,null,null,null,null,null,null,null,{"$f":"IF(X461=\"\",\"\",INDEX(referentes!$Y:$Z,MATCH(DATOS!X461,referentes!$Z:$Z,0),))","v":""},null,null,null,null,"OA",null,"SO",null,null,"",null,null,null,null,null,null,null,null,null,null,{"$f":"IF(AS461<>\"\",VLOOKUP(AS461,#REF!,2,TRUE),\"\")","v":""},null,{"$f":"IF(AU461<>\"\",VLOOKUP(AU461,#REF!,2,FALSE),\"\")","v":""},null,null,null,{"$f":"IF(AY461<>\"\",VLOOKUP(AY461,#REF!,2,TRUE),\"\")","v":""},null,457,"",null,{"$f":"IF(BD461=\"\",\"\",INDEX(referentes!$J:$K,MATCH(BD461,referentes!$J:$J,0),2))","v":""},null,null,{"$f":"IF(BG461=\"\",\"\",INDEX(referentes!$G:$H,MATCH(BG461,referentes!$G:$G,0),2))","v":""},{"$f":"IF(BD461=\"\",\"\",INDEX(referentes!$J:$P,MATCH(BD461,referentes!$J:$J,0),7))","v":""},""]
["19000100",{"$f":"DIGITADOR!$B$2","v":""},0,{"$f":"IF(E462<>\"\",CONCATENATE($A$2,DIGITADOR!$M$1,O462,AH462),\"\")","v":""},null,null,"","",null,null,null,null,"",{"$f":"IF(M462=\"\",\"\",INDEX('OTRAS REFERENTES'!$M:$O,MATCH(M462,'OTRAS REFERENTES'!$M:$M,0),3))","v":""},{"$f":"IF(M462=\"\",\"\",INDEX('OTRAS REFERENTES'!$M:$O,MATCH(M462,'OTRAS REFERENTES'!$M:$M,0),2))","v":""},null,null,null,null,null,null,null,null,null,{"$f":"IF(X462=\"\",\"\",INDEX(referentes!$Y:$Z,MATCH(DATOS!X462,referentes!$Z:$Z,0),))","v":""},null,null,null,null,"OA",null,"SO",null,null,"",null,null,null,null,null,null,null,null,null,null,{"$f":"IF(AS462<>\"\",VLOOKUP(AS462,#REF!,2,TRUE),\"\")","v":""},null,{"$f":"IF(AU462<>\"\",VLOOKUP(AU462,#REF!,2,FALSE),\"\")","v":""},null,null,null,{"$f":"IF(AY462<>\"\",VLOOKUP(AY462,#REF!,2,TRUE),\"\")","v":""},null,458,"",null,{"$f":"IF(BD462=\"\",\"\",INDEX(referentes!$J:$K,MATCH(BD462,referentes!$J:$J,0),2))","v":""},null,null,{"$f":"IF(BG462=\"\",\"\",INDEX(referentes!$G:$H,MATCH(BG462,referentes!$G:$G,0),2))","v":""},{"$f":"IF(BD462=\"\",\"\",INDEX(referentes!$J:$P,MATCH(BD462,referentes!$J:$J,0),7))","v":""},""]
["19000100",{"$f":"DIGITADOR!$B$2","v":""},0,{"$f":"IF(E463<>\"\",CONCATENATE($A$2,DIGITADOR!$M$1,O463,AH463),\"\")","v":""},null,null,"","",null,null,null,null,"",{"$f":"IF(M463=\"\",\"\",INDEX('OTRAS REFERENTES'!$M:$O,MATCH(M463,'OTRAS REFERENTES'!$M:$M,0),3))","v":""},{"$f":"IF(M463=\"\",\"\",INDEX('OTRAS REFERENTES'!$M:$O,MATCH(M463,'OTRAS REFERENTES'!$M:$M,0),2))","v":""},null,null,null,null,null,null,null,null,null,{"$f":"IF(X463=\"\",\"\",INDEX(referentes!$Y:$Z,MATCH(DATOS!X463,referentes!$Z:$Z,0),))","v":""},null,null,null,null,"OA",null,"SO",null,null,"",null,null,null,null,null,null,null,null,null,null,{"$f":"IF(AS463<>\"\",VLOOKUP(AS463,#REF!,2,TRUE),\"\")","v":""},null,{"$f":"IF(AU463<>\"\",VLOOKUP(AU463,#REF!,2,FALSE),\"\")","v":""},null,null,null,{"$f":"IF(AY463<>\"\",VLOOKUP(AY463,#REF!,2,TRUE),\"\")","v":""},null,459,"",null,{"$f":"IF(BD463=\"\",\"\",INDEX(referentes!$J:$K,MATCH(BD463,referentes!$J:$J,0),2))","v":""},null,null,{"$f":"IF(BG463=\"\",\"\",INDEX(referentes!$G:$H,MATCH(BG463,referentes!$G:$G,0),2))","v":""},{"$f":"IF(BD463=\"\",\"\",INDEX(referentes!$J:$P,MATCH(BD463,referentes!$J:$J,0),7))","v":""},""]
["19000100",{"$f":"DIGITADOR!$B$2","v":""},0,{"$f":"IF(E464<>\"\",CONCATENATE($A$2,DIGITADOR!$M$1,O464,AH464),\"\")","v":""},null,null,"","",null,null,null,null,"",{"$f":"IF(M464=\"\",\"\",INDEX('OTRAS REFERENTES'!$M:$O,MATCH(M464,'OTRAS REFERENTES'!$M:$M,0),3))","v":""},{"$f":"IF(M464=\"\",\"\",INDEX('OTRAS REFERENTES'!$M:$O,MATCH(M464,'OTRAS REFERENTES'!$M:$M,0),2))","v":""},null,null,null,null,null,null,null,null,null,{"$f":"IF(X464=\"\",\"\",INDEX(referentes!$Y:$Z,MATCH(DATOS!X464,referentes!$Z:$Z,0),))","v":""},null,null,null,null,"OA",null,"SO",null,null,"",null,null,null,null,null,null,null,null,null,null,{"$f":"IF(AS464<>\"\",VLOOKUP(AS464,#REF!,2,TRUE),\"\")","v":""},null,{"$f":"IF(AU464<>\"\",VLOOKUP(AU464,#REF!,2,FALSE),\"\")","v":""},null,null,null,{"$f":"IF(AY464<>\"\",VLOOKUP(AY464,#REF!,2,TRUE),\"\")","v":""},null,460,"",null,{"$f":"IF(BD464=\"\",\"\",INDEX(referentes!$J:$K,MATCH(BD464,referentes!$J:$J,0),2))","v":""},null,null,{"$f":"IF(BG464=\"\",\"\",INDEX(referentes!$G:$H,MATCH(BG464,referentes!$G:$G,0),2))","v":""},{"$f":"IF(BD464=\"\",\"\",INDEX(referentes!$J:$P,MATCH(BD464,referentes!$J:$J,0),7))","v":""},""]
["19000100",{"$f":"DIGITADOR!$B$2","v":""},0,{"$f":"IF(E465<>\"\",CONCATENATE($A$2,DIGITADOR!$M$1,O465,AH465),\"\")","v":""},null,null,"","",null,null,null,null,"",{"$f":"IF(M465=\"\",\"\",INDEX('OTRAS REFERENTES'!$M:$O,MATCH(M465,'OTRAS REFERENTES'!$M:$M,0),3))","v":""},{"$f":"IF(M465=\"\",\"\",INDEX('OTRAS REFERENTES'!$M:$O,MATCH(M465,'OTRAS REFERENTES'!$M:$M,0),2))","v":""},null,null,null,null,null,null,null,null,null,{"$f":"IF(X465=\"\",\"\",INDEX(referentes!$Y:$Z,MATCH(DATOS!X465,referentes!$Z:$Z,0),))","v":""},null,null,null,null,"OA",null,"SO",null,null,"",null,null,null,null,null,null,null,null,null,null,{"$f":"IF(AS465<>\"\",VLOOKUP(AS465,#REF!,2,TRUE),\"\")","v":""},null,{"$f":"IF(AU465<>\"\",VLOOKUP(AU465,#REF!,2,FALSE),\"\")","v":""},null,null,null,{"$f":"IF(AY465<>\"\",VLOOKUP(AY465,#REF!,2,TRUE),\"\")","v":""},null,461,"",null,{"$f":"IF(BD465=\"\",\"\",INDEX(referentes!$J:$K,MATCH(BD465,referentes!$J:$J,0),2))","v":""},null,null,{"$f":"IF(BG465=\"\",\"\",INDEX(referentes!$G:$H,MATCH(BG465,referentes!$G:$G,0),2))","v":""},{"$f":"IF(BD465=\"\",\"\",INDEX(referentes!$J:$P,MATCH(BD465,referentes!$J:$J,0),7))","v":""},""]
["19000100",{"$f":"DIGITADOR!$B$2","v":""},0,{"$f":"IF(E466<>\"\",CONCATENATE($A$2,DIGITADOR!$M$1,O466,AH466),\"\")","v":""},null,null,"","",null,null,null,null,"",{"$f":"IF(M466=\"\",\"\",INDEX('OTRAS REFERENTES'!$M:$O,MATCH(M466,'OTRAS REFERENTES'!$M:$M,0),3))","v":""},{"$f":"IF(M466=\"\",\"\",INDEX('OTRAS REFERENTES'!$M:$O,MATCH(M466,'OTRAS REFERENTES'!$M:$M,0),2))","v":""},null,null,null,null,null,null,null,null,null,{"$f":"IF(X466=\"\",\"\",INDEX(referentes!$Y:$Z,MATCH(DATOS!X466,referentes!$Z:$Z,0),))","v":""},null,null,null,null,"OA",null,"SO",null,null,"",null,null,null,null,null,null,null,null,null,null,{"$f":"IF(AS466<>\"\",VLOOKUP(AS466,#REF!,2,TRUE),\"\")","v":""},null,{"$f":"IF(AU466<>\"\",VLOOKUP(AU466,#REF!,2,FALSE),\"\")","v":""},null,null,null,{"$f":"IF(AY466<>\"\",VLOOKUP(AY466,#REF!,2,TRUE),\"\")","v":""},null,462,"",null,{"$f":"IF(BD466=\"\",\"\",INDEX(referentes!$J:$K,MATCH(BD466,referentes!$J:$J,0),2))","v":""},null,null,{"$f":"IF(BG466=\"\",\"\",INDEX(referentes!$G:$H,MATCH(BG466,referentes!$G:$G,0),2))","v":""},{"$f":"IF(BD466=\"\",\"\",INDEX(referentes!$J:$P,MATCH(BD466,referentes!$J:$J,0),7))","v":""},""]
["19000100",{"$f":"DIGITADOR!$B$2","v":""},0,{"$f":"IF(E467<>\"\",CONCATENATE($A$2,DIGITADOR!$M$1,O467,AH467),\"\")","v":""},null,null,"","",null,null,null,null,"",{"$f":"IF(M467=\"\",\"\",INDEX('OTRAS REFERENTES'!$M:$O,MATCH(M467,'OTRAS REFERENTES'!$M:$M,0),3))","v":""},{"$f":"IF(M467=\"\",\"\",INDEX('OTRAS REFERENTES'!$M:$O,MATCH(M467,'OTRAS REFERENTES'!$M:$M,0),2))","v":""},null,null,null,null,null,null,null,null,null,{"$f":"IF(X467=\"\",\"\",INDEX(referentes!$Y:$Z,MATCH(DATOS!X467,referentes!$Z:$Z,0),))","v":""},null,null,null,null,"OA",null,"SO",null,null,"",null,null,null,null,null,null,null,null,null,null,{"$f":"IF(AS467<>\"\",VLOOKUP(AS467,#REF!,2,TRUE),\"\")","v":""},null,{"$f":"IF(AU467<>\"\",VLOOKUP(AU467,#REF!,2,FALSE),\"\")","v":""},null,null,null,{"$f":"IF(AY467<>\"\",VLOOKUP(AY467,#REF!,2,TRUE),\"\")","v":""},null,463,"",null,{"$f":"IF(BD467=\"\",\"\",INDEX(referentes!$J:$K,MATCH(BD467,referentes!$J:$J,0),2))","v":""},null,null,{"$f":"IF(BG467=\"\",\"\",INDEX(referentes!$G:$H,MATCH(BG467,referentes!$G:$G,0),2))","v":""},{"$f":"IF(BD467=\"\",\"\",INDEX(referentes!$J:$P,MATCH(BD467,referentes!$J:$J,0),7))","v":""},""]
["19000100",{"$f":"DIGITADOR!$B$2","v":""},0,{"$f":"IF(E468<>\"\",CONCATENATE($A$2,DIGITADOR!$M$1,O468,AH468),\"\")","v":""},null,null,"","",null,null,null,null,"",{"$f":"IF(M468=\"\",\"\",INDEX('OTRAS REFERENTES'!$M:$O,MATCH(M468,'OTRAS REFERENTES'!$M:$M,0),3))","v":""},{"$f":"IF(M468=\"\",\"\",INDEX('OTRAS REFERENTES'!$M:$O,MATCH(M468,'OTRAS REFERENTES'!$M:$M,0),2))","v":""},null,null,null,null,null,null,null,null,null,{"$f":"IF(X468=\"\",\"\",INDEX(referentes!$Y:$Z,MATCH(DATOS!X468,referentes!$Z:$Z,0),))","v":""},null,null,null,null,"OA",null,"SO",null,null,"",null,null,null,null,null,null,null,null,null,null,{"$f":"IF(AS468<>\"\",VLOOKUP(AS468,#REF!,2,TRUE),\"\")","v":""},null,{"$f":"IF(AU468<>\"\",VLOOKUP(AU468,#REF!,2,FALSE),\"\")","v":""},null,null,null,{"$f":"IF(AY468<>\"\",VLOOKUP(AY468,#REF!,2,TRUE),\"\")","v":""},null,464,"",null,{"$f":"IF(BD468=\"\",\"\",INDEX(referentes!$J:$K,MATCH(BD468,referentes!$J:$J,0),2))","v":""},null,null,{"$f":"IF(BG468=\"\",\"\",INDEX(referentes!$G:$H,MATCH(BG468,referentes!$G:$G,0),2))","v":""},{"$f":"IF(BD468=\"\",\"\",INDEX(referentes!$J:$P,MATCH(BD468,referentes!$J:$J,0),7))","v":""},""]
["19000100",{"$f":"DIGITADOR!$B$2","v":""},0,{"$f":"IF(E469<>\"\",CONCATENATE($A$2,DIGITADOR!$M$1,O469,AH469),\"\")","v":""},null,null,"","",null,null,null,null,"",{"$f":"IF(M469=\"\",\"\",INDEX('OTRAS REFERENTES'!$M:$O,MATCH(M469,'OTRAS REFERENTES'!$M:$M,0),3))","v":""},{"$f":"IF(M469=\"\",\"\",INDEX('OTRAS REFERENTES'!$M:$O,MATCH(M469,'OTRAS REFERENTES'!$M:$M,0),2))","v":""},null,null,null,null,null,null,null,null,null,{"$f":"IF(X469=\"\",\"\",INDEX(referentes!$Y:$Z,MATCH(DATOS!X469,referentes!$Z:$Z,0),))","v":""},null,null,null,null,"OA",null,"SO",null,null,"",null,null,null,null,null,null,null,null,null,null,{"$f":"IF(AS469<>\"\",VLOOKUP(AS469,#REF!,2,TRUE),\"\")","v":""},null,{"$f":"IF(AU469<>\"\",VLOOKUP(AU469,#REF!,2,FALSE),\"\")","v":""},null,null,null,{"$f":"IF(AY469<>\"\",VLOOKUP(AY469,#REF!,2,TRUE),\"\")","v":""},null,465,"",null,{"$f":"IF(BD469=\"\",\"\",INDEX(referentes!$J:$K,MATCH(BD469,referentes!$J:$J,0),2))","v":""},null,null,{"$f":"IF(BG469=\"\",\"\",INDEX(referentes!$G:$H,MATCH(BG469,referentes!$G:$G,0),2))","v":""},{"$f":"IF(BD469=\"\",\"\",INDEX(referentes!$J:$P,MATCH(BD469,referentes!$J:$J,0),7))","v":""},""]
["19000100",{"$f":"DIGITADOR!$B$2","v":""},0,{"$f":"IF(E470<>\"\",CONCATENATE($A$2,DIGITADOR!$M$1,O470,AH470),\"\")","v":""},null,null,"","",null,null,null,null,"",{"$f":"IF(M470=\"\",\"\",INDEX('OTRAS REFERENTES'!$M:$O,MATCH(M470,'OTRAS REFERENTES'!$M:$M,0),3))","v":""},{"$f":"IF(M470=\"\",\"\",INDEX('OTRAS REFERENTES'!$M:$O,MATCH(M470,'OTRAS REFERENTES'!$M:$M,0),2))","v":""},null,null,null,null,null,null,null,null,null,{"$f":"IF(X470=\"\",\"\",INDEX(referentes!$Y:$Z,MATCH(DATOS!X470,referentes!$Z:$Z,0),))","v":""},null,null,null,null,"OA",null,"SO",null,null,"",null,null,null,null,null,null,null,null,null,null,{"$f":"IF(AS470<>\"\",VLOOKUP(AS470,#REF!,2,TRUE),\"\")","v":""},null,{"$f":"IF(AU470<>\"\",VLOOKUP(AU470,#REF!,2,FALSE),\"\")","v":""},null,null,null,{"$f":"IF(AY470<>\"\",VLOOKUP(AY470,#REF!,2,TRUE),\"\")","v":""},null,466,"",null,{"$f":"IF(BD470=\"\",\"\",INDEX(referentes!$J:$K,MATCH(BD470,referentes!$J:$J,0),2))","v":""},null,null,{"$f":"IF(BG470=\"\",\"\",INDEX(referentes!$G:$H,MATCH(BG470,referentes!$G:$G,0),2))","v":""},{"$f":"IF(BD470=\"\",\"\",INDEX(referentes!$J:$P,MATCH(BD470,referentes!$J:$J,0),7))","v":""},""]
["19000100",{"$f":"DIGITADOR!$B$2","v":""},0,{"$f":"IF(E471<>\"\",CONCATENATE($A$2,DIGITADOR!$M$1,O471,AH471),\"\")","v":""},null,null,"","",null,null,null,null,"",{"$f":"IF(M471=\"\",\"\",INDEX('OTRAS REFERENTES'!$M:$O,MATCH(M471,'OTRAS REFERENTES'!$M:$M,0),3))","v":""},{"$f":"IF(M471=\"\",\"\",INDEX('OTRAS REFERENTES'!$M:$O,MATCH(M471,'OTRAS REFERENTES'!$M:$M,0),2))","v":""},null,null,null,null,null,null,null,null,null,{"$f":"IF(X471=\"\",\"\",INDEX(referentes!$Y:$Z,MATCH(DATOS!X471,referentes!$Z:$Z,0),))","v":""},null,null,null,null,"OA",null,"SO",null,null,"",null,null,null,null,null,null,null,null,null,null,{"$f":"IF(AS471<>\"\",VLOOKUP(AS471,#REF!,2,TRUE),\"\")","v":""},null,{"$f":"IF(AU471<>\"\",VLOOKUP(AU471,#REF!,2,FALSE),\"\")","v":""},null,null,null,{"$f":"IF(AY471<>\"\",VLOOKUP(AY471,#REF!,2,TRUE),\"\")","v":""},null,467,"",null,{"$f":"IF(BD471=\"\",\"\",INDEX(referentes!$J:$K,MATCH(BD471,referentes!$J:$J,0),2))","v":""},null,null,{"$f":"IF(BG471=\"\",\"\",INDEX(referentes!$G:$H,MATCH(BG471,referentes!$G:$G,0),2))","v":""},{"$f":"IF(BD471=\"\",\"\",INDEX(referentes!$J:$P,MATCH(BD471,referentes!$J:$J,0),7))","v":""},""]
["19000100",{"$f":"DIGITADOR!$B$2","v":""},0,{"$f":"IF(E472<>\"\",CONCATENATE($A$2,DIGITADOR!$M$1,O472,AH472),\"\")","v":""},null,null,"","",null,null,null,null,"",{"$f":"IF(M472=\"\",\"\",INDEX('OTRAS REFERENTES'!$M:$O,MATCH(M472,'OTRAS REFERENTES'!$M:$M,0),3))","v":""},{"$f":"IF(M472=\"\",\"\",INDEX('OTRAS REFERENTES'!$M:$O,MATCH(M472,'OTRAS REFERENTES'!$M:$M,0),2))","v":""},null,null,null,null,null,null,null,null,null,{"$f":"IF(X472=\"\",\"\",INDEX(referentes!$Y:$Z,MATCH(DATOS!X472,referentes!$Z:$Z,0),))","v":""},null,null,null,null,"OA",null,"SO",null,null,"",null,null,null,null,null,null,null,null,null,null,{"$f":"IF(AS472<>\"\",VLOOKUP(AS472,#REF!,2,TRUE),\"\")","v":""},null,{"$f":"IF(AU472<>\"\",VLOOKUP(AU472,#REF!,2,FALSE),\"\")","v":""},null,null,null,{"$f":"IF(AY472<>\"\",VLOOKUP(AY472,#REF!,2,TRUE),\"\")","v":""},null,468,"",null,{"$f":"IF(BD472=\"\",\"\",INDEX(referentes!$J:$K,MATCH(BD472,referentes!$J:$J,0),2))","v":""},null,null,{"$f":"IF(BG472=\"\",\"\",INDEX(referentes!$G:$H,MATCH(BG472,referentes!$G:$G,0),2))","v":""},{"$f":"IF(BD472=\"\",\"\",INDEX(referentes!$J:$P,MATCH(BD472,referentes!$J:$J,0),7))","v":""},""]
["19000100",{"$f":"DIGITADOR!$B$2","v":""},0,{"$f":"IF(E473<>\"\",CONCATENATE($A$2,DIGITADOR!$M$1,O473,AH473),\"\")","v":""},null,null,"","",null,null,null,null,"",{"$f":"IF(M473=\"\",\"\",INDEX('OTRAS REFERENTES'!$M:$O,MATCH(M473,'OTRAS REFERENTES'!$M:$M,0),3))","v":""},{"$f":"IF(M473=\"\",\"\",INDEX('OTRAS REFERENTES'!$M:$O,MATCH(M473,'OTRAS REFERENTES'!$M:$M,0),2))","v":""},null,null,null,null,null,null,null,null,null,{"$f":"IF(X473=\"\",\"\",INDEX(referentes!$Y:$Z,MATCH(DATOS!X473,referentes!$Z:$Z,0),))","v":""},null,null,null,null,"OA",null,"SO",null,null,"",null,null,null,null,null,null,null,null,null,null,{"$f":"IF(AS473<>\"\",VLOOKUP(AS473,#REF!,2,TRUE),\"\")","v":""},null,{"$f":"IF(AU473<>\"\",VLOOKUP(AU473,#REF!,2,FALSE),\"\")","v":""},null,null,null,{"$f":"IF(AY473<>\"\",VLOOKUP(AY473,#REF!,2,TRUE),\"\")","v":""},null,469,"",null,{"$f":"IF(BD473=\"\",\"\",INDEX(referentes!$J:$K,MATCH(BD473,referentes!$J:$J,0),2))","v":""},null,null,{"$f":"IF(BG473=\"\",\"\",INDEX(referentes!$G:$H,MATCH(BG473,referentes!$G:$G,0),2))","v":""},{"$f":"IF(BD473=\"\",\"\",INDEX(referentes!$J:$P,MATCH(BD473,referentes!$J:$J,0),7))","v":""},""]
["19000100",{"$f":"DIGITADOR!$B$2","v":""},0,{"$f":"IF(E474<>\"\",CONCATENATE($A$2,DIGITADOR!$M$1,O474,AH474),\"\")","v":""},null,null,"","",null,null,null,null,"",{"$f":"IF(M474=\"\",\"\",INDEX('OTRAS REFERENTES'!$M:$O,MATCH(M474,'OTRAS REFERENTES'!$M:$M,0),3))","v":""},{"$f":"IF(M474=\"\",\"\",INDEX('OTRAS REFERENTES'!$M:$O,MATCH(M474,'OTRAS REFERENTES'!$M:$M,0),2))","v":""},null,null,null,null,null,null,null,null,null,{"$f":"IF(X474=\"\",\"\",INDEX(referentes!$Y:$Z,MATCH(DATOS!X474,referentes!$Z:$Z,0),))","v":""},null,null,null,null,"OA",null,"SO",null,null,"",null,null,null,null,null,null,null,null,null,null,{"$f":"IF(AS474<>\"\",VLOOKUP(AS474,#REF!,2,TRUE),\"\")","v":""},null,{"$f":"IF(AU474<>\"\",VLOOKUP(AU474,#REF!,2,FALSE),\"\")","v":""},null,null,null,{"$f":"IF(AY474<>\"\",VLOOKUP(AY474,#REF!,2,TRUE),\"\")","v":""},null,470,"",null,{"$f":"IF(BD474=\"\",\"\",INDEX(referentes!$J:$K,MATCH(BD474,referentes!$J:$J,0),2))","v":""},null,null,{"$f":"IF(BG474=\"\",\"\",INDEX(referentes!$G:$H,MATCH(BG474,referentes!$G:$G,0),2))","v":""},{"$f":"IF(BD474=\"\",\"\",INDEX(referentes!$J:$P,MATCH(BD474,referentes!$J:$J,0),7))","v":""},""]
["19000100",{"$f":"DIGITADOR!$B$2","v":""},0,{"$f":"IF(E475<>\"\",CONCATENATE($A$2,DIGITADOR!$M$1,O475,AH475),\"\")","v":""},null,null,"","",null,null,null,null,"",{"$f":"IF(M475=\"\",\"\",INDEX('OTRAS REFERENTES'!$M:$O,MATCH(M475,'OTRAS REFERENTES'!$M:$M,0),3))","v":""},{"$f":"IF(M475=\"\",\"\",INDEX('OTRAS REFERENTES'!$M:$O,MATCH(M475,'OTRAS REFERENTES'!$M:$M,0),2))","v":""},null,null,null,null,null,null,null,null,null,{"$f":"IF(X475=\"\",\"\",INDEX(referentes!$Y:$Z,MATCH(DATOS!X475,referentes!$Z:$Z,0),))","v":""},null,null,null,null,"OA",null,"SO",null,null,"",null,null,null,null,null,null,null,null,null,null,{"$f":"IF(AS475<>\"\",VLOOKUP(AS475,#REF!,2,TRUE),\"\")","v":""},null,{"$f":"IF(AU475<>\"\",VLOOKUP(AU475,#REF!,2,FALSE),\"\")","v":""},null,null,null,{"$f":"IF(AY475<>\"\",VLOOKUP(AY475,#REF!,2,TRUE),\"\")","v":""},null,471,"",null,{"$f":"IF(BD475=\"\",\"\",INDEX(referentes!$J:$K,MATCH(BD475,referentes!$J:$J,0),2))","v":""},null,null,{"$f":"IF(BG475=\"\",\"\",INDEX(referentes!$G:$H,MATCH(BG475,referentes!$G:$G,0),2))","v":""},{"$f":"IF(BD475=\"\",\"\",INDEX(referentes!$J:$P,MATCH(BD475,referentes!$J:$J,0),7))","v":""},""]
["19000100",{"$f":"DIGITADOR!$B$2","v":""},0,{"$f":"IF(E476<>\"\",CONCATENATE($A$2,DIGITADOR!$M$1,O476,AH476),\"\")","v":""},null,null,"","",null,null,null,null,"",{"$f":"IF(M476=\"\",\"\",INDEX('OTRAS REFERENTES'!$M:$O,MATCH(M476,'OTRAS REFERENTES'!$M:$M,0),3))","v":""},{"$f":"IF(M476=\"\",\"\",INDEX('OTRAS REFERENTES'!$M:$O,MATCH(M476,'OTRAS REFERENTES'!$M:$M,0),2))","v":""},null,null,null,null,null,null,null,null,null,{"$f":"IF(X476=\"\",\"\",INDEX(referentes!$Y:$Z,MATCH(DATOS!X476,referentes!$Z:$Z,0),))","v":""},null,null,null,null,"OA",null,"SO",null,null,"",null,null,null,null,null,null,null,null,null,null,{"$f":"IF(AS476<>\"\",VLOOKUP(AS476,#REF!,2,TRUE),\"\")","v":""},null,{"$f":"IF(AU476<>\"\",VLOOKUP(AU476,#REF!,2,FALSE),\"\")","v":""},null,null,null,{"$f":"IF(AY476<>\"\",VLOOKUP(AY476,#REF!,2,TRUE),\"\")","v":""},null,472,"",null,{"$f":"IF(BD476=\"\",\"\",INDEX(referentes!$J:$K,MATCH(BD476,referentes!$J:$J,0),2))","v":""},null,null,{"$f":"IF(BG476=\"\",\"\",INDEX(referentes!$G:$H,MATCH(BG476,referentes!$G:$G,0),2))","v":""},{"$f":"IF(BD476=\"\",\"\",INDEX(referentes!$J:$P,MATCH(BD476,referentes!$J:$J,0),7))","v":""},""]
["19000100",{"$f":"DIGITADOR!$B$2","v":""},0,{"$f":"IF(E477<>\"\",CONCATENATE($A$2,DIGITADOR!$M$1,O477,AH477),\"\")","v":""},null,null,"","",null,null,null,null,"",{"$f":"IF(M477=\"\",\"\",INDEX('OTRAS REFERENTES'!$M:$O,MATCH(M477,'OTRAS REFERENTES'!$M:$M,0),3))","v":""},{"$f":"IF(M477=\"\",\"\",INDEX('OTRAS REFERENTES'!$M:$O,MATCH(M477,'OTRAS REFERENTES'!$M:$M,0),2))","v":""},null,null,null,null,null,null,null,null,null,{"$f":"IF(X477=\"\",\"\",INDEX(referentes!$Y:$Z,MATCH(DATOS!X477,referentes!$Z:$Z,0),))","v":""},null,null,null,null,"OA",null,"SO",null,null,"",null,null,null,null,null,null,null,null,null,null,{"$f":"IF(AS477<>\"\",VLOOKUP(AS477,#REF!,2,TRUE),\"\")","v":""},null,{"$f":"IF(AU477<>\"\",VLOOKUP(AU477,#REF!,2,FALSE),\"\")","v":""},null,null,null,{"$f":"IF(AY477<>\"\",VLOOKUP(AY477,#REF!,2,TRUE),\"\")","v":""},null,473,"",null,{"$f":"IF(BD477=\"\",\"\",INDEX(referentes!$J:$K,MATCH(BD477,referentes!$J:$J,0),2))","v":""},null,null,{"$f":"IF(BG477=\"\",\"\",INDEX(referentes!$G:$H,MATCH(BG477,referentes!$G:$G,0),2))","v":""},{"$f":"IF(BD477=\"\",\"\",INDEX(referentes!$J:$P,MATCH(BD477,referentes!$J:$J,0),7))","v":""},""]
["19000100",{"$f":"DIGITADOR!$B$2","v":""},0,{"$f":"IF(E478<>\"\",CONCATENATE($A$2,DIGITADOR!$M$1,O478,AH478),\"\")","v":""},null,null,"","",null,null,null,null,"",{"$f":"IF(M478=\"\",\"\",INDEX('OTRAS REFERENTES'!$M:$O,MATCH(M478,'OTRAS REFERENTES'!$M:$M,0),3))","v":""},{"$f":"IF(M478=\"\",\"\",INDEX('OTRAS REFERENTES'!$M:$O,MATCH(M478,'OTRAS REFERENTES'!$M:$M,0),2))","v":""},null,null,null,null,null,null,null,null,null,{"$f":"IF(X478=\"\",\"\",INDEX(referentes!$Y:$Z,MATCH(DATOS!X478,referentes!$Z:$Z,0),))","v":""},null,null,null,null,"OA",null,"SO",null,null,"",null,null,null,null,null,null,null,null,null,null,{"$f":"IF(AS478<>\"\",VLOOKUP(AS478,#REF!,2,TRUE),\"\")","v":""},null,{"$f":"IF(AU478<>\"\",VLOOKUP(AU478,#REF!,2,FALSE),\"\")","v":""},null,null,null,{"$f":"IF(AY478<>\"\",VLOOKUP(AY478,#REF!,2,TRUE),\"\")","v":""},null,474,"",null,{"$f":"IF(BD478=\"\",\"\",INDEX(referentes!$J:$K,MATCH(BD478,referentes!$J:$J,0),2))","v":""},null,null,{"$f":"IF(BG478=\"\",\"\",INDEX(referentes!$G:$H,MATCH(BG478,referentes!$G:$G,0),2))","v":""},{"$f":"IF(BD478=\"\",\"\",INDEX(referentes!$J:$P,MATCH(BD478,referentes!$J:$J,0),7))","v":""},""]
["19000100",{"$f":"DIGITADOR!$B$2","v":""},0,{"$f":"IF(E479<>\"\",CONCATENATE($A$2,DIGITADOR!$M$1,O479,AH479),\"\")","v":""},null,null,"","",null,null,null,null,"",{"$f":"IF(M479=\"\",\"\",INDEX('OTRAS REFERENTES'!$M:$O,MATCH(M479,'OTRAS REFERENTES'!$M:$M,0),3))","v":""},{"$f":"IF(M479=\"\",\"\",INDEX('OTRAS REFERENTES'!$M:$O,MATCH(M479,'OTRAS REFERENTES'!$M:$M,0),2))","v":""},null,null,null,null,null,null,null,null,null,{"$f":"IF(X479=\"\",\"\",INDEX(referentes!$Y:$Z,MATCH(DATOS!X479,referentes!$Z:$Z,0),))","v":""},null,null,null,null,"OA",null,"SO",null,null,"",null,null,null,null,null,null,null,null,null,null,{"$f":"IF(AS479<>\"\",VLOOKUP(AS479,#REF!,2,TRUE),\"\")","v":""},null,{"$f":"IF(AU479<>\"\",VLOOKUP(AU479,#REF!,2,FALSE),\"\")","v":""},null,null,null,{"$f":"IF(AY479<>\"\",VLOOKUP(AY479,#REF!,2,TRUE),\"\")","v":""},null,475,"",null,{"$f":"IF(BD479=\"\",\"\",INDEX(referentes!$J:$K,MATCH(BD479,referentes!$J:$J,0),2))","v":""},null,null,{"$f":"IF(BG479=\"\",\"\",INDEX(referentes!$G:$H,MATCH(BG479,referentes!$G:$G,0),2))","v":""},{"$f":"IF(BD479=\"\",\"\",INDEX(referentes!$J:$P,MATCH(BD479,referentes!$J:$J,0),7))","v":""},""]
["19000100",{"$f":"DIGITADOR!$B$2","v":""},0,{"$f":"IF(E480<>\"\",CONCATENATE($A$2,DIGITADOR!$M$1,O480,AH480),\"\")","v":""},null,null,"","",null,null,null,null,"",{"$f":"IF(M480=\"\",\"\",INDEX('OTRAS REFERENTES'!$M:$O,MATCH(M480,'OTRAS REFERENTES'!$M:$M,0),3))","v":""},{"$f":"IF(M480=\"\",\"\",INDEX('OTRAS REFERENTES'!$M:$O,MATCH(M480,'OTRAS REFERENTES'!$M:$M,0),2))","v":""},null,null,null,null,null,null,null,null,null,{"$f":"IF(X480=\"\",\"\",INDEX(referentes!$Y:$Z,MATCH(DATOS!X480,referentes!$Z:$Z,0),))","v":""},null,null,null,null,"OA",null,"SO",null,null,"",null,null,null,null,null,null,null,null,null,null,{"$f":"IF(AS480<>\"\",VLOOKUP(AS480,#REF!,2,TRUE),\"\")","v":""},null,{"$f":"IF(AU480<>\"\",VLOOKUP(AU480,#REF!,2,FALSE),\"\")","v":""},null,null,null,{"$f":"IF(AY480<>\"\",VLOOKUP(AY480,#REF!,2,TRUE),\"\")","v":""},null,476,"",null,{"$f":"IF(BD480=\"\",\"\",INDEX(referentes!$J:$K,MATCH(BD480,referentes!$J:$J,0),2))","v":""},null,null,{"$f":"IF(BG480=\"\",\"\",INDEX(referentes!$G:$H,MATCH(BG480,referentes!$G:$G,0),2))","v":""},{"$f":"IF(BD480=\"\",\"\",INDEX(referentes!$J:$P,MATCH(BD480,referentes!$J:$J,0),7))","v":""},""]
["19000100",{"$f":"DIGITADOR!$B$2","v":""},0,{"$f":"IF(E481<>\"\",CONCATENATE($A$2,DIGITADOR!$M$1,O481,AH481),\"\")","v":""},null,null,"","",null,null,null,null,"",{"$f":"IF(M481=\"\",\"\",INDEX('OTRAS REFERENTES'!$M:$O,MATCH(M481,'OTRAS REFERENTES'!$M:$M,0),3))","v":""},{"$f":"IF(M481=\"\",\"\",INDEX('OTRAS REFERENTES'!$M:$O,MATCH(M481,'OTRAS REFERENTES'!$M:$M,0),2))","v":""},null,null,null,null,null,null,null,null,null,{"$f":"IF(X481=\"\",\"\",INDEX(referentes!$Y:$Z,MATCH(DATOS!X481,referentes!$Z:$Z,0),))","v":""},null,null,null,null,"OA",null,"SO",null,null,"",null,null,null,null,null,null,null,null,null,null,{"$f":"IF(AS481<>\"\",VLOOKUP(AS481,#REF!,2,TRUE),\"\")","v":""},null,{"$f":"IF(AU481<>\"\",VLOOKUP(AU481,#REF!,2,FALSE),\"\")","v":""},null,null,null,{"$f":"IF(AY481<>\"\",VLOOKUP(AY481,#REF!,2,TRUE),\"\")","v":""},null,477,"",null,{"$f":"IF(BD481=\"\",\"\",INDEX(referentes!$J:$K,MATCH(BD481,referentes!$J:$J,0),2))","v":""},null,null,{"$f":"IF(BG481=\"\",\"\",INDEX(referentes!$G:$H,MATCH(BG481,referentes!$G:$G,0),2))","v":""},{"$f":"IF(BD481=\"\",\"\",INDEX(referentes!$J:$P,MATCH(BD481,referentes!$J:$J,0),7))","v":""},""]
["19000100",{"$f":"DIGITADOR!$B$2","v":""},0,{"$f":"IF(E482<>\"\",CONCATENATE($A$2,DIGITADOR!$M$1,O482,AH482),\"\")","v":""},null,null,"","",null,null,null,null,"",{"$f":"IF(M482=\"\",\"\",INDEX('OTRAS REFERENTES'!$M:$O,MATCH(M482,'OTRAS REFERENTES'!$M:$M,0),3))","v":""},{"$f":"IF(M482=\"\",\"\",INDEX('OTRAS REFERENTES'!$M:$O,MATCH(M482,'OTRAS REFERENTES'!$M:$M,0),2))","v":""},null,null,null,null,null,null,null,null,null,{"$f":"IF(X482=\"\",\"\",INDEX(referentes!$Y:$Z,MATCH(DATOS!X482,referentes!$Z:$Z,0),))","v":""},null,null,null,null,"OA",null,"SO",null,null,"",null,null,null,null,null,null,null,null,null,null,{"$f":"IF(AS482<>\"\",VLOOKUP(AS482,#REF!,2,TRUE),\"\")","v":""},null,{"$f":"IF(AU482<>\"\",VLOOKUP(AU482,#REF!,2,FALSE),\"\")","v":""},null,null,null,{"$f":"IF(AY482<>\"\",VLOOKUP(AY482,#REF!,2,TRUE),\"\")","v":""},null,478,"",null,{"$f":"IF(BD482=\"\",\"\",INDEX(referentes!$J:$K,MATCH(BD482,referentes!$J:$J,0),2))","v":""},null,null,{"$f":"IF(BG482=\"\",\"\",INDEX(referentes!$G:$H,MATCH(BG482,referentes!$G:$G,0),2))","v":""},{"$f":"IF(BD482=\"\",\"\",INDEX(referentes!$J:$P,MATCH(BD482,referentes!$J:$J,0),7))","v":""},""]
["19000100",{"$f":"DIGITADOR!$B$2","v":""},0,{"$f":"IF(E483<>\"\",CONCATENATE($A$2,DIGITADOR!$M$1,O483,AH483),\"\")","v":""},null,null,"","",null,null,null,null,"",{"$f":"IF(M483=\"\",\"\",INDEX('OTRAS REFERENTES'!$M:$O,MATCH(M483,'OTRAS REFERENTES'!$M:$M,0),3))","v":""},{"$f":"IF(M483=\"\",\"\",INDEX('OTRAS REFERENTES'!$M:$O,MATCH(M483,'OTRAS REFERENTES'!$M:$M,0),2))","v":""},null,null,null,null,null,null,null,null,null,{"$f":"IF(X483=\"\",\"\",INDEX(referentes!$Y:$Z,MATCH(DATOS!X483,referentes!$Z:$Z,0),))","v":""},null,null,null,null,"OA",null,"SO",null,null,"",null,null,null,null,null,null,null,null,null,null,{"$f":"IF(AS483<>\"\",VLOOKUP(AS483,#REF!,2,TRUE),\"\")","v":""},null,{"$f":"IF(AU483<>\"\",VLOOKUP(AU483,#REF!,2,FALSE),\"\")","v":""},null,null,null,{"$f":"IF(AY483<>\"\",VLOOKUP(AY483,#REF!,2,TRUE),\"\")","v":""},null,479,"",null,{"$f":"IF(BD483=\"\",\"\",INDEX(referentes!$J:$K,MATCH(BD483,referentes!$J:$J,0),2))","v":""},null,null,{"$f":"IF(BG483=\"\",\"\",INDEX(referentes!$G:$H,MATCH(BG483,referentes!$G:$G,0),2))","v":""},{"$f":"IF(BD483=\"\",\"\",INDEX(referentes!$J:$P,MATCH(BD483,referentes!$J:$J,0),7))","v":""},""]
["19000100",{"$f":"DIGITADOR!$B$2","v":""},0,{"$f":"IF(E484<>\"\",CONCATENATE($A$2,DIGITADOR!$M$1,O484,AH484),\"\")","v":""},null,null,"","",null,null,null,null,"",{"$f":"IF(M484=\"\",\"\",INDEX('OTRAS REFERENTES'!$M:$O,MATCH(M484,'OTRAS REFERENTES'!$M:$M,0),3))","v":""},{"$f":"IF(M484=\"\",\"\",INDEX('OTRAS REFERENTES'!$M:$O,MATCH(M484,'OTRAS REFERENTES'!$M:$M,0),2))","v":""},null,null,null,null,null,null,null,null,null,{"$f":"IF(X484=\"\",\"\",INDEX(referentes!$Y:$Z,MATCH(DATOS!X484,referentes!$Z:$Z,0),))","v":""},null,null,null,null,"OA",null,"SO",null,null,"",null,null,null,null,null,null,null,null,null,null,{"$f":"IF(AS484<>\"\",VLOOKUP(AS484,#REF!,2,TRUE),\"\")","v":""},null,{"$f":"IF(AU484<>\"\",VLOOKUP(AU484,#REF!,2,FALSE),\"\")","v":""},null,null,null,{"$f":"IF(AY484<>\"\",VLOOKUP(AY484,#REF!,2,TRUE),\"\")","v":""},null,480,"",null,{"$f":"IF(BD484=\"\",\"\",INDEX(referentes!$J:$K,MATCH(BD484,referentes!$J:$J,0),2))","v":""},null,null,{"$f":"IF(BG484=\"\",\"\",INDEX(referentes!$G:$H,MATCH(BG484,referentes!$G:$G,0),2))","v":""},{"$f":"IF(BD484=\"\",\"\",INDEX(referentes!$J:$P,MATCH(BD484,referentes!$J:$J,0),7))","v":""},""]
["19000100",{"$f":"DIGITADOR!$B$2","v":""},0,{"$f":"IF(E485<>\"\",CONCATENATE($A$2,DIGITADOR!$M$1,O485,AH485),\"\")","v":""},null,null,"","",null,null,null,null,"",{"$f":"IF(M485=\"\",\"\",INDEX('OTRAS REFERENTES'!$M:$O,MATCH(M485,'OTRAS REFERENTES'!$M:$M,0),3))","v":""},{"$f":"IF(M485=\"\",\"\",INDEX('OTRAS REFERENTES'!$M:$O,MATCH(M485,'OTRAS REFERENTES'!$M:$M,0),2))","v":""},null,null,null,null,null,null,null,null,null,{"$f":"IF(X485=\"\",\"\",INDEX(referentes!$Y:$Z,MATCH(DATOS!X485,referentes!$Z:$Z,0),))","v":""},null,null,null,null,"OA",null,"SO",null,null,"",null,null,null,null,null,null,null,null,null,null,{"$f":"IF(AS485<>\"\",VLOOKUP(AS485,#REF!,2,TRUE),\"\")","v":""},null,{"$f":"IF(AU485<>\"\",VLOOKUP(AU485,#REF!,2,FALSE),\"\")","v":""},null,null,null,{"$f":"IF(AY485<>\"\",VLOOKUP(AY485,#REF!,2,TRUE),\"\")","v":""},null,481,"",null,{"$f":"IF(BD485=\"\",\"\",INDEX(referentes!$J:$K,MATCH(BD485,referentes!$J:$J,0),2))","v":""},null,null,{"$f":"IF(BG485=\"\",\"\",INDEX(referentes!$G:$H,MATCH(BG485,referentes!$G:$G,0),2))","v":""},{"$f":"IF(BD485=\"\",\"\",INDEX(referentes!$J:$P,MATCH(BD485,referentes!$J:$J,0),7))","v":""},""]
["19000100",{"$f":"DIGITADOR!$B$2","v":""},0,{"$f":"IF(E486<>\"\",CONCATENATE($A$2,DIGITADOR!$M$1,O486,AH486),\"\")","v":""},null,null,"","",null,null,null,null,"",{"$f":"IF(M486=\"\",\"\",INDEX('OTRAS REFERENTES'!$M:$O,MATCH(M486,'OTRAS REFERENTES'!$M:$M,0),3))","v":""},{"$f":"IF(M486=\"\",\"\",INDEX('OTRAS REFERENTES'!$M:$O,MATCH(M486,'OTRAS REFERENTES'!$M:$M,0),2))","v":""},null,null,null,null,null,null,null,null,null,{"$f":"IF(X486=\"\",\"\",INDEX(referentes!$Y:$Z,MATCH(DATOS!X486,referentes!$Z:$Z,0),))","v":""},null,null,null,null,"OA",null,"SO",null,null,"",null,null,null,null,null,null,null,null,null,null,{"$f":"IF(AS486<>\"\",VLOOKUP(AS486,#REF!,2,TRUE),\"\")","v":""},null,{"$f":"IF(AU486<>\"\",VLOOKUP(AU486,#REF!,2,FALSE),\"\")","v":""},null,null,null,{"$f":"IF(AY486<>\"\",VLOOKUP(AY486,#REF!,2,TRUE),\"\")","v":""},null,482,"",null,{"$f":"IF(BD486=\"\",\"\",INDEX(referentes!$J:$K,MATCH(BD486,referentes!$J:$J,0),2))","v":""},null,null,{"$f":"IF(BG486=\"\",\"\",INDEX(referentes!$G:$H,MATCH(BG486,referentes!$G:$G,0),2))","v":""},{"$f":"IF(BD486=\"\",\"\",INDEX(referentes!$J:$P,MATCH(BD486,referentes!$J:$J,0),7))","v":""},""]
["19000100",{"$f":"DIGITADOR!$B$2","v":""},0,{"$f":"IF(E487<>\"\",CONCATENATE($A$2,DIGITADOR!$M$1,O487,AH487),\"\")","v":""},null,null,"","",null,null,null,null,"",{"$f":"IF(M487=\"\",\"\",INDEX('OTRAS REFERENTES'!$M:$O,MATCH(M487,'OTRAS REFERENTES'!$M:$M,0),3))","v":""},{"$f":"IF(M487=\"\",\"\",INDEX('OTRAS REFERENTES'!$M:$O,MATCH(M487,'OTRAS REFERENTES'!$M:$M,0),2))","v":""},null,null,null,null,null,null,null,null,null,{"$f":"IF(X487=\"\",\"\",INDEX(referentes!$Y:$Z,MATCH(DATOS!X487,referentes!$Z:$Z,0),))","v":""},null,null,null,null,"OA",null,"SO",null,null,"",null,null,null,null,null,null,null,null,null,null,{"$f":"IF(AS487<>\"\",VLOOKUP(AS487,#REF!,2,TRUE),\"\")","v":""},null,{"$f":"IF(AU487<>\"\",VLOOKUP(AU487,#REF!,2,FALSE),\"\")","v":""},null,null,null,{"$f":"IF(AY487<>\"\",VLOOKUP(AY487,#REF!,2,TRUE),\"\")","v":""},null,483,"",null,{"$f":"IF(BD487=\"\",\"\",INDEX(referentes!$J:$K,MATCH(BD487,referentes!$J:$J,0),2))","v":""},null,null,{"$f":"IF(BG487=\"\",\"\",INDEX(referentes!$G:$H,MATCH(BG487,referentes!$G:$G,0),2))","v":""},{"$f":"IF(BD487=\"\",\"\",INDEX(referentes!$J:$P,MATCH(BD487,referentes!$J:$J,0),7))","v":""},""]
["19000100",{"$f":"DIGITADOR!$B$2","v":""},0,{"$f":"IF(E488<>\"\",CONCATENATE($A$2,DIGITADOR!$M$1,O488,AH488),\"\")","v":""},null,null,"","",null,null,null,null,"",{"$f":"IF(M488=\"\",\"\",INDEX('OTRAS REFERENTES'!$M:$O,MATCH(M488,'OTRAS REFERENTES'!$M:$M,0),3))","v":""},{"$f":"IF(M488=\"\",\"\",INDEX('OTRAS REFERENTES'!$M:$O,MATCH(M488,'OTRAS REFERENTES'!$M:$M,0),2))","v":""},null,null,null,null,null,null,null,null,null,{"$f":"IF(X488=\"\",\"\",INDEX(referentes!$Y:$Z,MATCH(DATOS!X488,referentes!$Z:$Z,0),))","v":""},null,null,null,null,"OA",null,"SO",null,null,"",null,null,null,null,null,null,null,null,null,null,{"$f":"IF(AS488<>\"\",VLOOKUP(AS488,#REF!,2,TRUE),\"\")","v":""},null,{"$f":"IF(AU488<>\"\",VLOOKUP(AU488,#REF!,2,FALSE),\"\")","v":""},null,null,null,{"$f":"IF(AY488<>\"\",VLOOKUP(AY488,#REF!,2,TRUE),\"\")","v":""},null,484,"",null,{"$f":"IF(BD488=\"\",\"\",INDEX(referentes!$J:$K,MATCH(BD488,referentes!$J:$J,0),2))","v":""},null,null,{"$f":"IF(BG488=\"\",\"\",INDEX(referentes!$G:$H,MATCH(BG488,referentes!$G:$G,0),2))","v":""},{"$f":"IF(BD488=\"\",\"\",INDEX(referentes!$J:$P,MATCH(BD488,referentes!$J:$J,0),7))","v":""},""]
["19000100",{"$f":"DIGITADOR!$B$2","v":""},{"$f":"IF(Z489=Z488,C488,C488+1)","v":0},{"$f":"IF(E489<>\"\",CONCATENATE($A$2,DIGITADOR!$M$1,O489,AH489),\"\")","v":""},null,null,"","",null,null,null,null,"",{"$f":"IF(M489=\"\",\"\",INDEX('OTRAS REFERENTES'!$M:$O,MATCH(M489,'OTRAS REFERENTES'!$M:$M,0),3))","v":""},{"$f":"IF(M489=\"\",\"\",INDEX('OTRAS REFERENTES'!$M:$O,MATCH(M489,'OTRAS REFERENTES'!$M:$M,0),2))","v":""},null,null,null,null,null,null,null,null,null,{"$f":"IF(X489=\"\",\"\",INDEX(referentes!$Y:$Z,MATCH(DATOS!X489,referentes!$Z:$Z,0),))","v":""},null,null,null,null,"OA",null,"SO",null,null,"",null,null,null,null,null,null,null,null,null,null,{"$f":"IF(AS489<>\"\",VLOOKUP(AS489,#REF!,2,TRUE),\"\")","v":""},null,{"$f":"IF(AU489<>\"\",VLOOKUP(AU489,#REF!,2,FALSE),\"\")","v":""},null,null,null,{"$f":"IF(AY489<>\"\",VLOOKUP(AY489,#REF!,2,TRUE),\"\")","v":""},null,485,"",null,{"$f":"IF(BD489=\"\",\"\",INDEX(referentes!$J:$K,MATCH(BD489,referentes!$J:$J,0),2))","v":""},null,null,{"$f":"IF(BG489=\"\",\"\",INDEX(referentes!$G:$H,MATCH(BG489,referentes!$G:$G,0),2))","v":""},{"$f":"IF(BD489=\"\",\"\",INDEX(referentes!$J:$P,MATCH(BD489,referentes!$J:$J,0),7))","v":""},""]
["19000100",{"$f":"DIGITADOR!$B$2","v":""},0,{"$f":"IF(E490<>\"\",CONCATENATE($A$2,DIGITADOR!$M$1,O490,AH490),\"\")","v":""},null,null,"","",null,null,null,null,"",{"$f":"IF(M490=\"\",\"\",INDEX('OTRAS REFERENTES'!$M:$O,MATCH(M490,'OTRAS REFERENTES'!$M:$M,0),3))","v":""},{"$f":"IF(M490=\"\",\"\",INDEX('OTRAS REFERENTES'!$M:$O,MATCH(M490,'OTRAS REFERENTES'!$M:$M,0),2))","v":""},null,null,null,null,null,null,null,null,null,{"$f":"IF(X490=\"\",\"\",INDEX(referentes!$Y:$Z,MATCH(DATOS!X490,referentes!$Z:$Z,0),))","v":""},null,null,null,null,"OA",null,"SO",null,null,"",null,null,null,null,null,null,null,null,null,null,{"$f":"IF(AS490<>\"\",VLOOKUP(AS490,#REF!,2,TRUE),\"\")","v":""},null,{"$f":"IF(AU490<>\"\",VLOOKUP(AU490,#REF!,2,FALSE),\"\")","v":""},null,null,null,{"$f":"IF(AY490<>\"\",VLOOKUP(AY490,#REF!,2,TRUE),\"\")","v":""},null,486,"",null,{"$f":"IF(BD490=\"\",\"\",INDEX(referentes!$J:$K,MATCH(BD490,referentes!$J:$J,0),2))","v":""},null,null,{"$f":"IF(BG490=\"\",\"\",INDEX(referentes!$G:$H,MATCH(BG490,referentes!$G:$G,0),2))","v":""},{"$f":"IF(BD490=\"\",\"\",INDEX(referentes!$J:$P,MATCH(BD490,referentes!$J:$J,0),7))","v":""},""]
["19000100",{"$f":"DIGITADOR!$B$2","v":""},0,{"$f":"IF(E491<>\"\",CONCATENATE($A$2,DIGITADOR!$M$1,O491,AH491),\"\")","v":""},null,null,"","",null,null,null,null,"",{"$f":"IF(M491=\"\",\"\",INDEX('OTRAS REFERENTES'!$M:$O,MATCH(M491,'OTRAS REFERENTES'!$M:$M,0),3))","v":""},{"$f":"IF(M491=\"\",\"\",INDEX('OTRAS REFERENTES'!$M:$O,MATCH(M491,'OTRAS REFERENTES'!$M:$M,0),2))","v":""},null,null,null,null,null,null,null,null,null,{"$f":"IF(X491=\"\",\"\",INDEX(referentes!$Y:$Z,MATCH(DATOS!X491,referentes!$Z:$Z,0),))","v":""},null,null,null,null,"OA",null,"SO",null,null,"",null,null,null,null,null,null,null,null,null,null,{"$f":"IF(AS491<>\"\",VLOOKUP(AS491,#REF!,2,TRUE),\"\")","v":""},null,{"$f":"IF(AU491<>\"\",VLOOKUP(AU491,#REF!,2,FALSE),\"\")","v":""},null,null,null,{"$f":"IF(AY491<>\"\",VLOOKUP(AY491,#REF!,2,TRUE),\"\")","v":""},null,487,"",null,{"$f":"IF(BD491=\"\",\"\",INDEX(referentes!$J:$K,MATCH(BD491,referentes!$J:$J,0),2))","v":""},null,null,{"$f":"IF(BG491=\"\",\"\",INDEX(referentes!$G:$H,MATCH(BG491,referentes!$G:$G,0),2))","v":""},{"$f":"IF(BD491=\"\",\"\",INDEX(referentes!$J:$P,MATCH(BD491,referentes!$J:$J,0),7))","v":""},""]
["19000100",{"$f":"DIGITADOR!$B$2","v":""},0,{"$f":"IF(E492<>\"\",CONCATENATE($A$2,DIGITADOR!$M$1,O492,AH492),\"\")","v":""},null,null,"","",null,null,null,null,"",{"$f":"IF(M492=\"\",\"\",INDEX('OTRAS REFERENTES'!$M:$O,MATCH(M492,'OTRAS REFERENTES'!$M:$M,0),3))","v":""},{"$f":"IF(M492=\"\",\"\",INDEX('OTRAS REFERENTES'!$M:$O,MATCH(M492,'OTRAS REFERENTES'!$M:$M,0),2))","v":""},null,null,null,null,null,null,null,null,null,{"$f":"IF(X492=\"\",\"\",INDEX(referentes!$Y:$Z,MATCH(DATOS!X492,referentes!$Z:$Z,0),))","v":""},null,null,null,null,"OA",null,"SO",null,null,"",null,null,null,null,null,null,null,null,null,null,{"$f":"IF(AS492<>\"\",VLOOKUP(AS492,#REF!,2,TRUE),\"\")","v":""},null,{"$f":"IF(AU492<>\"\",VLOOKUP(AU492,#REF!,2,FALSE),\"\")","v":""},null,null,null,{"$f":"IF(AY492<>\"\",VLOOKUP(AY492,#REF!,2,TRUE),\"\")","v":""},null,488,"",null,{"$f":"IF(BD492=\"\",\"\",INDEX(referentes!$J:$K,MATCH(BD492,referentes!$J:$J,0),2))","v":""},null,null,{"$f":"IF(BG492=\"\",\"\",INDEX(referentes!$G:$H,MATCH(BG492,referentes!$G:$G,0),2))","v":""},{"$f":"IF(BD492=\"\",\"\",INDEX(referentes!$J:$P,MATCH(BD492,referentes!$J:$J,0),7))","v":""},""]
["19000100",{"$f":"DIGITADOR!$B$2","v":""},0,{"$f":"IF(E493<>\"\",CONCATENATE($A$2,DIGITADOR!$M$1,O493,AH493),\"\")","v":""},null,null,"","",null,null,null,null,"",{"$f":"IF(M493=\"\",\"\",INDEX('OTRAS REFERENTES'!$M:$O,MATCH(M493,'OTRAS REFERENTES'!$M:$M,0),3))","v":""},{"$f":"IF(M493=\"\",\"\",INDEX('OTRAS REFERENTES'!$M:$O,MATCH(M493,'OTRAS REFERENTES'!$M:$M,0),2))","v":""},null,null,null,null,null,null,null,null,null,{"$f":"IF(X493=\"\",\"\",INDEX(referentes!$Y:$Z,MATCH(DATOS!X493,referentes!$Z:$Z,0),))","v":""},null,null,null,null,"OA",null,"SO",null,null,"",null,null,null,null,null,null,null,null,null,null,{"$f":"IF(AS493<>\"\",VLOOKUP(AS493,#REF!,2,TRUE),\"\")","v":""},null,{"$f":"IF(AU493<>\"\",VLOOKUP(AU493,#REF!,2,FALSE),\"\")","v":""},null,null,null,{"$f":"IF(AY493<>\"\",VLOOKUP(AY493,#REF!,2,TRUE),\"\")","v":""},null,489,"",null,{"$f":"IF(BD493=\"\",\"\",INDEX(referentes!$J:$K,MATCH(BD493,referentes!$J:$J,0),2))","v":""},null,null,{"$f":"IF(BG493=\"\",\"\",INDEX(referentes!$G:$H,MATCH(BG493,referentes!$G:$G,0),2))","v":""},{"$f":"IF(BD493=\"\",\"\",INDEX(referentes!$J:$P,MATCH(BD493,referentes!$J:$J,0),7))","v":""},""]
["19000100",{"$f":"DIGITADOR!$B$2","v":""},0,{"$f":"IF(E494<>\"\",CONCATENATE($A$2,DIGITADOR!$M$1,O494,AH494),\"\")","v":""},null,null,"","",null,null,null,null,"",{"$f":"IF(M494=\"\",\"\",INDEX('OTRAS REFERENTES'!$M:$O,MATCH(M494,'OTRAS REFERENTES'!$M:$M,0),3))","v":""},{"$f":"IF(M494=\"\",\"\",INDEX('OTRAS REFERENTES'!$M:$O,MATCH(M494,'OTRAS REFERENTES'!$M:$M,0),2))","v":""},null,null,null,null,null,null,null,null,null,{"$f":"IF(X494=\"\",\"\",INDEX(referentes!$Y:$Z,MATCH(DATOS!X494,referentes!$Z:$Z,0),))","v":""},null,null,null,null,"OA",null,"SO",null,null,"",null,null,null,null,null,null,null,null,null,null,{"$f":"IF(AS494<>\"\",VLOOKUP(AS494,#REF!,2,TRUE),\"\")","v":""},null,{"$f":"IF(AU494<>\"\",VLOOKUP(AU494,#REF!,2,FALSE),\"\")","v":""},null,null,null,{"$f":"IF(AY494<>\"\",VLOOKUP(AY494,#REF!,2,TRUE),\"\")","v":""},null,490,"",null,{"$f":"IF(BD494=\"\",\"\",INDEX(referentes!$J:$K,MATCH(BD494,referentes!$J:$J,0),2))","v":""},null,null,{"$f":"IF(BG494=\"\",\"\",INDEX(referentes!$G:$H,MATCH(BG494,referentes!$G:$G,0),2))","v":""},{"$f":"IF(BD494=\"\",\"\",INDEX(referentes!$J:$P,MATCH(BD494,referentes!$J:$J,0),7))","v":""},""]
["19000100",{"$f":"DIGITADOR!$B$2","v":""},0,{"$f":"IF(E495<>\"\",CONCATENATE($A$2,DIGITADOR!$M$1,O495,AH495),\"\")","v":""},null,null,"","",null,null,null,null,"",{"$f":"IF(M495=\"\",\"\",INDEX('OTRAS REFERENTES'!$M:$O,MATCH(M495,'OTRAS REFERENTES'!$M:$M,0),3))","v":""},{"$f":"IF(M495=\"\",\"\",INDEX('OTRAS REFERENTES'!$M:$O,MATCH(M495,'OTRAS REFERENTES'!$M:$M,0),2))","v":""},null,null,null,null,null,null,null,null,null,{"$f":"IF(X495=\"\",\"\",INDEX(referentes!$Y:$Z,MATCH(DATOS!X495,referentes!$Z:$Z,0),))","v":""},null,null,null,null,"OA",null,"SO",null,null,"",null,null,null,null,null,null,null,null,null,null,{"$f":"IF(AS495<>\"\",VLOOKUP(AS495,#REF!,2,TRUE),\"\")","v":""},null,{"$f":"IF(AU495<>\"\",VLOOKUP(AU495,#REF!,2,FALSE),\"\")","v":""},null,null,null,{"$f":"IF(AY495<>\"\",VLOOKUP(AY495,#REF!,2,TRUE),\"\")","v":""},null,491,"",null,{"$f":"IF(BD495=\"\",\"\",INDEX(referentes!$J:$K,MATCH(BD495,referentes!$J:$J,0),2))","v":""},null,null,{"$f":"IF(BG495=\"\",\"\",INDEX(referentes!$G:$H,MATCH(BG495,referentes!$G:$G,0),2))","v":""},{"$f":"IF(BD495=\"\",\"\",INDEX(referentes!$J:$P,MATCH(BD495,referentes!$J:$J,0),7))","v":""},""]
["19000100",{"$f":"DIGITADOR!$B$2","v":""},0,{"$f":"IF(E496<>\"\",CONCATENATE($A$2,DIGITADOR!$M$1,O496,AH496),\"\")","v":""},null,null,"","",null,null,null,null,"",{"$f":"IF(M496=\"\",\"\",INDEX('OTRAS REFERENTES'!$M:$O,MATCH(M496,'OTRAS REFERENTES'!$M:$M,0),3))","v":""},{"$f":"IF(M496=\"\",\"\",INDEX('OTRAS REFERENTES'!$M:$O,MATCH(M496,'OTRAS REFERENTES'!$M:$M,0),2))","v":""},null,null,null,null,null,null,null,null,null,{"$f":"IF(X496=\"\",\"\",INDEX(referentes!$Y:$Z,MATCH(DATOS!X496,referentes!$Z:$Z,0),))","v":""},null,null,null,null,"OA",null,"SO",null,null,"",null,null,null,null,null,null,null,null,null,null,{"$f":"IF(AS496<>\"\",VLOOKUP(AS496,#REF!,2,TRUE),\"\")","v":""},null,{"$f":"IF(AU496<>\"\",VLOOKUP(AU496,#REF!,2,FALSE),\"\")","v":""},null,null,null,{"$f":"IF(AY496<>\"\",VLOOKUP(AY496,#REF!,2,TRUE),\"\")","v":""},null,492,"",null,{"$f":"IF(BD496=\"\",\"\",INDEX(referentes!$J:$K,MATCH(BD496,referentes!$J:$J,0),2))","v":""},null,null,{"$f":"IF(BG496=\"\",\"\",INDEX(referentes!$G:$H,MATCH(BG496,referentes!$G:$G,0),2))","v":""},{"$f":"IF(BD496=\"\",\"\",INDEX(referentes!$J:$P,MATCH(BD496,referentes!$J:$J,0),7))","v":""},""]
["19000100",{"$f":"DIGITADOR!$B$2","v":""},0,{"$f":"IF(E497<>\"\",CONCATENATE($A$2,DIGITADOR!$M$1,O497,AH497),\"\")","v":""},null,null,"","",null,null,null,null,"",{"$f":"IF(M497=\"\",\"\",INDEX('OTRAS REFERENTES'!$M:$O,MATCH(M497,'OTRAS REFERENTES'!$M:$M,0),3))","v":""},{"$f":"IF(M497=\"\",\"\",INDEX('OTRAS REFERENTES'!$M:$O,MATCH(M497,'OTRAS REFERENTES'!$M:$M,0),2))","v":""},null,null,null,null,null,null,null,null,null,{"$f":"IF(X497=\"\",\"\",INDEX(referentes!$Y:$Z,MATCH(DATOS!X497,referentes!$Z:$Z,0),))","v":""},null,null,null,null,"OA",null,"SO",null,null,"",null,null,null,null,null,null,null,null,null,null,{"$f":"IF(AS497<>\"\",VLOOKUP(AS497,#REF!,2,TRUE),\"\")","v":""},null,{"$f":"IF(AU497<>\"\",VLOOKUP(AU497,#REF!,2,FALSE),\"\")","v":""},null,null,null,{"$f":"IF(AY497<>\"\",VLOOKUP(AY497,#REF!,2,TRUE),\"\")","v":""},null,493,"",null,{"$f":"IF(BD497=\"\",\"\",INDEX(referentes!$J:$K,MATCH(BD497,referentes!$J:$J,0),2))","v":""},null,null,{"$f":"IF(BG497=\"\",\"\",INDEX(referentes!$G:$H,MATCH(BG497,referentes!$G:$G,0),2))","v":""},{"$f":"IF(BD497=\"\",\"\",INDEX(referentes!$J:$P,MATCH(BD497,referentes!$J:$J,0),7))","v":""},""]
["19000100",{"$f":"DIGITADOR!$B$2","v":""},0,{"$f":"IF(E498<>\"\",CONCATENATE($A$2,DIGITADOR!$M$1,O498,AH498),\"\")","v":""},null,null,"","",null,null,null,null,"",{"$f":"IF(M498=\"\",\"\",INDEX('OTRAS REFERENTES'!$M:$O,MATCH(M498,'OTRAS REFERENTES'!$M:$M,0),3))","v":""},{"$f":"IF(M498=\"\",\"\",INDEX('OTRAS REFERENTES'!$M:$O,MATCH(M498,'OTRAS REFERENTES'!$M:$M,0),2))","v":""},null,null,null,null,null,null,null,null,null,{"$f":"IF(X498=\"\",\"\",INDEX(referentes!$Y:$Z,MATCH(DATOS!X498,referentes!$Z:$Z,0),))","v":""},null,null,null,null,"OA",null,"SO",null,null,"",null,null,null,null,null,null,null,null,null,null,{"$f":"IF(AS498<>\"\",VLOOKUP(AS498,#REF!,2,TRUE),\"\")","v":""},null,{"$f":"IF(AU498<>\"\",VLOOKUP(AU498,#REF!,2,FALSE),\"\")","v":""},null,null,null,{"$f":"IF(AY498<>\"\",VLOOKUP(AY498,#REF!,2,TRUE),\"\")","v":""},null,494,"",null,{"$f":"IF(BD498=\"\",\"\",INDEX(referentes!$J:$K,MATCH(BD498,referentes!$J:$J,0),2))","v":""},null,null,{"$f":"IF(BG498=\"\",\"\",INDEX(referentes!$G:$H,MATCH(BG498,referentes!$G:$G,0),2))","v":""},{"$f":"IF(BD498=\"\",\"\",INDEX(referentes!$J:$P,MATCH(BD498,referentes!$J:$J,0),7))","v":""},""]
["19000100",{"$f":"DIGITADOR!$B$2","v":""},0,{"$f":"IF(E499<>\"\",CONCATENATE($A$2,DIGITADOR!$M$1,O499,AH499),\"\")","v":""},null,null,"","",null,null,null,null,"",{"$f":"IF(M499=\"\",\"\",INDEX('OTRAS REFERENTES'!$M:$O,MATCH(M499,'OTRAS REFERENTES'!$M:$M,0),3))","v":""},{"$f":"IF(M499=\"\",\"\",INDEX('OTRAS REFERENTES'!$M:$O,MATCH(M499,'OTRAS REFERENTES'!$M:$M,0),2))","v":""},null,null,null,null,null,null,null,null,null,{"$f":"IF(X499=\"\",\"\",INDEX(referentes!$Y:$Z,MATCH(DATOS!X499,referentes!$Z:$Z,0),))","v":""},null,null,null,null,"OA",null,"SO",null,null,"",null,null,null,null,null,null,null,null,null,null,{"$f":"IF(AS499<>\"\",VLOOKUP(AS499,#REF!,2,TRUE),\"\")","v":""},null,{"$f":"IF(AU499<>\"\",VLOOKUP(AU499,#REF!,2,FALSE),\"\")","v":""},null,null,null,{"$f":"IF(AY499<>\"\",VLOOKUP(AY499,#REF!,2,TRUE),\"\")","v":""},null,495,"",null,{"$f":"IF(BD499=\"\",\"\",INDEX(referentes!$J:$K,MATCH(BD499,referentes!$J:$J,0),2))","v":""},null,null,{"$f":"IF(BG499=\"\",\"\",INDEX(referentes!$G:$H,MATCH(BG499,referentes!$G:$G,0),2))","v":""},{"$f":"IF(BD499=\"\",\"\",INDEX(referentes!$J:$P,MATCH(BD499,referentes!$J:$J,0),7))","v":""},""]
["19000100",{"$f":"DIGITADOR!$B$2","v":""},0,{"$f":"IF(E500<>\"\",CONCATENATE($A$2,DIGITADOR!$M$1,O500,AH500),\"\")","v":""},null,null,"","",null,null,null,null,"",{"$f":"IF(M500=\"\",\"\",INDEX('OTRAS REFERENTES'!$M:$O,MATCH(M500,'OTRAS REFERENTES'!$M:$M,0),3))","v":""},{"$f":"IF(M500=\"\",\"\",INDEX('OTRAS REFERENTES'!$M:$O,MATCH(M500,'OTRAS REFERENTES'!$M:$M,0),2))","v":""},null,null,null,null,null,null,null,null,null,{"$f":"IF(X500=\"\",\"\",INDEX(referentes!$Y:$Z,MATCH(DATOS!X500,referentes!$Z:$Z,0),))","v":""},null,null,null,null,"OA",null,"SO",null,null,"",null,null,null,null,null,null,null,null,null,null,{"$f":"IF(AS500<>\"\",VLOOKUP(AS500,#REF!,2,TRUE),\"\")","v":""},null,{"$f":"IF(AU500<>\"\",VLOOKUP(AU500,#REF!,2,FALSE),\"\")","v":""},null,null,null,{"$f":"IF(AY500<>\"\",VLOOKUP(AY500,#REF!,2,TRUE),\"\")","v":""},null,496,"",null,{"$f":"IF(BD500=\"\",\"\",INDEX(referentes!$J:$K,MATCH(BD500,referentes!$J:$J,0),2))","v":""},null,null,{"$f":"IF(BG500=\"\",\"\",INDEX(referentes!$G:$H,MATCH(BG500,referentes!$G:$G,0),2))","v":""},{"$f":"IF(BD500=\"\",\"\",INDEX(referentes!$J:$P,MATCH(BD500,referentes!$J:$J,0),7))","v":""},{"$f":"IF(BD500=\"\",\"\",UPPER(BD500))","v":""}]
["19000100",{"$f":"DIGITADOR!$B$2","v":""},0,{"$f":"IF(E501<>\"\",CONCATENATE($A$2,DIGITADOR!$M$1,O501,AH501),\"\")","v":""},null,null,"","",null,null,null,null,"",{"$f":"IF(M501=\"\",\"\",INDEX('OTRAS REFERENTES'!$M:$O,MATCH(M501,'OTRAS REFERENTES'!$M:$M,0),3))","v":""},{"$f":"IF(M501=\"\",\"\",INDEX('OTRAS REFERENTES'!$M:$O,MATCH(M501,'OTRAS REFERENTES'!$M:$M,0),2))","v":""},null,null,null,null,null,null,null,null,null,{"$f":"IF(X501=\"\",\"\",INDEX(referentes!$Y:$Z,MATCH(DATOS!X501,referentes!$Z:$Z,0),))","v":""},null,null,null,null,"OA",null,"SO",null,null,"",null,null,null,null,null,null,null,null,null,null,{"$f":"IF(AS501<>\"\",VLOOKUP(AS501,#REF!,2,TRUE),\"\")","v":""},null,{"$f":"IF(AU501<>\"\",VLOOKUP(AU501,#REF!,2,FALSE),\"\")","v":""},null,null,null,{"$f":"IF(AY501<>\"\",VLOOKUP(AY501,#REF!,2,TRUE),\"\")","v":""},null,497,"",null,{"$f":"IF(BD501=\"\",\"\",INDEX(referentes!$J:$K,MATCH(BD501,referentes!$J:$J,0),2))","v":""},null,null,{"$f":"IF(BG501=\"\",\"\",INDEX(referentes!$G:$H,MATCH(BG501,referentes!$G:$G,0),2))","v":""},{"$f":"IF(BD501=\"\",\"\",INDEX(referentes!$J:$P,MATCH(BD501,referentes!$J:$J,0),7))","v":""},""]
["19000100",{"$f":"DIGITADOR!$B$2","v":""},0,{"$f":"IF(E502<>\"\",CONCATENATE($A$2,DIGITADOR!$M$1,O502,AH502),\"\")","v":""},null,null,"","",null,null,null,null,"",{"$f":"IF(M502=\"\",\"\",INDEX('OTRAS REFERENTES'!$M:$O,MATCH(M502,'OTRAS REFERENTES'!$M:$M,0),3))","v":""},{"$f":"IF(M502=\"\",\"\",INDEX('OTRAS REFERENTES'!$M:$O,MATCH(M502,'OTRAS REFERENTES'!$M:$M,0),2))","v":""},null,null,null,null,null,null,null,null,null,{"$f":"IF(X502=\"\",\"\",INDEX(referentes!$Y:$Z,MATCH(DATOS!X502,referentes!$Z:$Z,0),))","v":""},null,null,null,null,"OA",null,"SO",null,null,"",null,null,null,null,null,null,null,null,null,null,{"$f":"IF(AS502<>\"\",VLOOKUP(AS502,#REF!,2,TRUE),\"\")","v":""},null,{"$f":"IF(AU502<>\"\",VLOOKUP(AU502,#REF!,2,FALSE),\"\")","v":""},null,null,null,{"$f":"IF(AY502<>\"\",VLOOKUP(AY502,#REF!,2,TRUE),\"\")","v":""},null,498,"",null,{"$f":"IF(BD502=\"\",\"\",INDEX(referentes!$J:$K,MATCH(BD502,referentes!$J:$J,0),2))","v":""},null,null,{"$f":"IF(BG502=\"\",\"\",INDEX(referentes!$G:$H,MATCH(BG502,referentes!$G:$G,0),2))","v":""},{"$f":"IF(BD502=\"\",\"\",INDEX(referentes!$J:$P,MATCH(BD502,referentes!$J:$J,0),7))","v":""},""]
["19000100",{"$f":"DIGITADOR!$B$2","v":""},0,{"$f":"IF(E503<>\"\",CONCATENATE($A$2,DIGITADOR!$M$1,O503,AH503),\"\")","v":""},null,null,"","",null,null,null,null,"",{"$f":"IF(M503=\"\",\"\",INDEX('OTRAS REFERENTES'!$M:$O,MATCH(M503,'OTRAS REFERENTES'!$M:$M,0),3))","v":""},{"$f":"IF(M503=\"\",\"\",INDEX('OTRAS REFERENTES'!$M:$O,MATCH(M503,'OTRAS REFERENTES'!$M:$M,0),2))","v":""},null,null,null,null,null,null,null,null,null,{"$f":"IF(X503=\"\",\"\",INDEX(referentes!$Y:$Z,MATCH(DATOS!X503,referentes!$Z:$Z,0),))","v":""},null,null,null,null,"OA",null,"SO",null,null,"",null,null,null,null,null,null,null,null,null,null,{"$f":"IF(AS503<>\"\",VLOOKUP(AS503,#REF!,2,TRUE),\"\")","v":""},null,{"$f":"IF(AU503<>\"\",VLOOKUP(AU503,#REF!,2,FALSE),\"\")","v":""},null,null,null,{"$f":"IF(AY503<>\"\",VLOOKUP(AY503,#REF!,2,TRUE),\"\")","v":""},null,498,"",null,{"$f":"IF(BD503=\"\",\"\",INDEX(referentes!$J:$K,MATCH(BD503,referentes!$J:$J,0),2))","v":""},null,null,{"$f":"IF(BG503=\"\",\"\",INDEX(referentes!$G:$H,MATCH(BG503,referentes!$G:$G,0),2))","v":""},{"$f":"IF(BD503=\"\",\"\",INDEX(referentes!$J:$P,MATCH(BD503,referentes!$J:$J,0),7))","v":""},""]
["19000100",{"$f":"DIGITADOR!$B$2","v":""},{"$f":"IF(Z504=Z503,C503,C503+1)","v":0},{"$f":"IF(E504<>\"\",CONCATENATE($A$2,DIGITADOR!$M$1,O504,AH504),\"\")","v":""},null,null,{"$f":"IF(E504=\"\",\"\",E504+F504)","v":""},{"$f":"IF(G504<>\"\",MONTH(G504),\"\")","v":""},null,null,null,null,{"$f":"IF(L504<>\"\",CONCATENATE(J504,L504),\"\")","v":""},{"$f":"IF(M504=\"\",\"\",INDEX('OTRAS REFERENTES'!$M:$O,MATCH(M504,'OTRAS REFERENTES'!$M:$M,0),3))","v":""},{"$f":"IF(M504=\"\",\"\",INDEX('OTRAS REFERENTES'!$M:$O,MATCH(M504,'OTRAS REFERENTES'!$M:$M,0),2))","v":""},null,null,null,null,null,null,null,null,null,{"$f":"IF(X504=\"\",\"\",INDEX(referentes!$Y:$Z,MATCH(DATOS!X504,referentes!$Z:$Z,0),))","v":""},null,null,null,null,"OA",null,"SO",null,null,{"$f":"CONCATENATE(AG504)","v":""},null,null,null,null,null,null,null,null,null,null,{"$f":"IF(AS504<>\"\",VLOOKUP(AS504,#REF!,2,TRUE),\"\")","v":""},null,{"$f":"IF(AU504<>\"\",VLOOKUP(AU504,#REF!,2,FALSE),\"\")","v":""},null,null,null,{"$f":"IF(AY504<>\"\",VLOOKUP(AY504,#REF!,2,TRUE),\"\")","v":""},null,498,{"$f":"IF(D504=\"\",\"\",CONCATENATE(D504,BB504))","v":""},null,{"$f":"IF(BD504=\"\",\"\",INDEX(referentes!$J:$K,MATCH(BD504,referentes!$J:$J,0),2))","v":""},null,null,{"$f":"IF(BG504=\"\",\"\",INDEX(referentes!$G:$H,MATCH(BG504,referentes!$G:$G,0),2))","v":""},{"$f":"IF(BD504=\"\",\"\",INDEX(referentes!$J:$P,MATCH(BD504,referentes!$J:$J,0),7))","v":""},{"$f":"IF(BD504=\"\",\"\",UPPER(BD504))","v":""}]

{"sheet":"referentes","index":4,"n_rows":435,"n_cols":26,"rows_kept":435,"cut":false,"hidden":false,"merged":[]}
[null,null,null,null,null,null,null,null,null,"cod_letras","descripcion","clave_sibm","phylum","clase","orden","familia","genero",null,"secuencia_loc","prefijo_cdg_est_loc","codigo_estacion_loc","descripcion_estacion_loc","lugar"]
["CORALINA","CORALINA",null,"EPSP","Epinephelus sp",null,"A","0-5",null,"AAFF","Apogon affinis","70.55.346","","","","APOGONIDAE","",null,14311,"ACU",1,"","Acuario 1",null,3907,"Ameth  Vargas Campo"]
["F. Malpelo","Fundacion Malpelo",null,"EPUS","Epinephelus sp.",null,"B","6-10",null,"AASP","Acanthemblemaria aspera","70.55.577","","","","CHAENOPSIDAE",null,null,14312,"ACU",2,"","Acuario 2",null,593,"Andrea Polanco"]
["INVEMAR","Instituto de Investigaciones Marinas y Costeras",null,"FCOM","Fistularia commersonii",null,"C","11-20",null,"AATR","Apogon atradorsatus","70.55.3219","","","","APOGONIDAE","",null,14338,"AGU",1,"se encuentra localizada bien al fondo de la ensenada","Aguacate S",null,4408,"Andres Felipe Acosta Chaparro"]
["ParquesNacionales","Parques Nacionales",null,"FFLA","Forcipiger flavissimus",null,"D","21-30",null,"ABAH","Acanthurus bahianus","70.55.666","","","","ACANTHURIDAE","",null,14341,"AZU",1,"A unos 60 metros de la costa en marea baja. localizada a 2º 57' 30.6\" N - 78º 10' 41.0\" O","Azufrada 1",null,3956,"Carlos Aponte"]
["PNN_GORGONA","PNN_GORGONA",null,"FICO","Fistularia corneta",null,"E","31-40",null,"ABCO","Abudefduf concolor","70.55.2706","","","","POMACENTRIDAE","",null,14342,"AZU",2,"A unos 70m de la costa en marea baja","Azufrada 2",null,1834,"Diana Isabel Gómez López"]
["UJTL","UJTL",null,"GCAS","Gymnothorax castaneus",null,"F",">40",null,"ABET","Acanthemblemaria betinensis","70.55.578","","","","CHAENOPSIDAE","",null,43726,"POR",1,"Bahía Portete","Bahía Portete",null,1775,"Diego Duque"]
["UNal","Universidad Nacional",null,"GCIR","Ginglymostoma cirratum",null,null,null,null,"ABIN","Apogon binotatus","70.55.348","","","","APOGONIDAE","",null,55425,"BGO",1,"","Bonito Gordo (PNN Tayrona)",null,3646,"Elizabeth Galeano Galeano"]
["UNIVALLE","Universidad del Valle",null,"GDOV","Gymnothorax dovii",null,null,null,null,"ACAE","Anisotremus caesius","70.55.3217","","","","HAEMULIDAE","",null,14333,"CTI",2,"incluye una parcela en el nivel medio de prof","Cabo Tiburón M",null,1784,"Johanna Carolina Vega Sequeda"]
[null,null,null,"GPAN","Gymnothorax panamensis",null,null,null,null,"ACAN","Acanthurus sp.","70.46.339","","","","ACANTHURIDAE","",null,14334,"CTI",1,"la estación es una parcela somera (3 m) forma","Cabo Tiburón S",null,6356,"Jose Francisco Campo Campo"]
[null,null,null,"GSPE","Gnathanodon speciosus",null,null,null,null,"ACAT","Acanthemblemaria sp.","70.46.288","","","","CHAENOPSIDAE","",null,14336,"CAP",1,"","Capurganá 1",null,3905,"Juan David González Corredor"]
[null,null,null,"GUND","Gymnothorax undulatus",null,null,null,null,"ACHI","Acanthurus chirurgus","70.55.667","","","","ACANTHURIDAE","",null,14337,"CAP",2,"","Capurganá 2",null,5705,"Katherine Johanna Mejía Quintero"]
[null,null,null,"GYFL","Gymnothorax flavimarginatus",null,null,null,null,"ACNI","Acanthurus nigricans","70.55.3214","","","","ACANTHURIDAE","",null,58217,"FAN",1,"Estación de monitoreo de Corales en la cara del fantasma","Cara del Fantasma",null,8265,"Kevin Samuel Moreno"]
[null,null,null,"GZEB","Gymnomuraena zebra",null,null,null,null,"ACOE","Acanthurus coeruleus","70.55.668","","","","ACANTHURIDAE","",null,14331,"CEY",1,"Estación está conformada por  una parcela","Ceycen 1",null,4227,"Laura Sanchez Valencia"]
[null,null,null,"HADI","Halichoeres dispilus",null,null,null,null,"ACSP","Acanthemblemaria spinosa","70.55.3213","","","","CHAENOPSIDAE","",null,14308,"CEY",2,"","Ceycen 2",null,3281,"Leonardo José Arias Alemán (2022)"]
[null,null,null,"HAEM","Haemulon sp.",null,null,null,null,"ACTR","Acanthurus triostegus","70.55.3215","","","","ACANTHURIDAE","",null,41651,"CEY",3,"","Ceycen 3",null,287,"Marcela Cano Correa"]
[null,null,null,"HALD","Halichoeres discolor",null,null,null,null,"ADOV","Apogon dovii","70.55.2665","","","","APOGONIDAE","",null,41705,"CHE",4,"","Chengue Acropora",null,5021,"Maria Juliana Vanegas Gonzalez"]
[null,null,null,"HAME","Halichoeres melanotis",null,null,null,null,"AFUR","Aphareus furca","70.40.2230","","","","LUTJANIDAE","",null,15508,"CHE",3,"","Chengue Pastos",null,1809,"Raul Navas Camacho"]
[null,null,null,"HCHI","Halichoeres chierchiae",null,null,null,null,"AHIA","Ablennes hians","70.55.203","","","","BELONIDAE","",null,14297,"CHE",1,"Compartida con CARICOMP.La parcela del nivel somero (3-5 m) presenta una cobertura coralina _x000D_\r\r\naproximada del 29% dada principalmente por Montastraea faveolata y esqueletos de _x000D_\r\r\nAcropora palmata (algunas colonias vivas). _x000D_\r\r\nLas parcelas media (9-10 m) y profunda (15-16) tienen coberturas de 22% y 21%_x000D_\r\r\n respectivamente y están dominadas por una franja amplia de pendiente suave conformada por _x000D_\r\r\n corales masivos e incrustantes de Diploria spp, Montastraea faveolata y M. cavernosa principalmente._x000D_\r\r\n  El relieve de éstas dos últimas parcelas no es fuerte ya que no hay tamaños de colonias considerables, _x000D_\r\r\n  pero si hay una zona de relieve complejo muy cerca de los transectos la cual es dominada por colonias _x000D_\r\r\n  muy grandes de crecimiento montañoso de M. faveolata. En la parcela media se pueden observar además _x000D_\r\r\n  abundantes colonias medianas de gorgonáceos de la especie Eunicea fusca","Chengue..C1",null,4167,"Santiago Millan"]
[null,null,null,"HCRU","Heteropriacanthus cruentatus",null,null,null,null,"AHIS","Arothron hispidus","70.55.2784","","","","TETRAODONTIDAE","",null,14298,"CHE",2,"Las formaciones coralinas y el tipo de relieve son similares a los de C1 exceptuando _x000D_\r\r\nque en el nivel somero (3-6 m) de C2 hay mayor cobertura coralina (38%), _x000D_\r\r\nse pueden observar además cabezas grandes de Siderastrea siderea y _x000D_\r\r\nlos arrecifes de las parcelas media (9-11 m) y profunda (15-17 m), _x000D_\r\r\ndescienden como un talud de pendiente más fuerte. _x000D_\r\r\nLa cobertura de las parcelas media y profunda es de 40% y 31% _x000D_\r\r\nrespectivamente y dichos niveles presentan abundantes cabezas de Montastraea cavernosa_x000D_\r\r\ny Diploria strigosa, así como algunas colonias de gorgonáceos de tamaño considerable principalmente _x000D_\r\r\ndel género Plexaura sp. Debido a que las parcelas media y profunda están ubicados más hacia afuera _x000D_\r\r\nde la bahía, presentan un poco de oleaje de diciembre a abril por la fuerte acción de los _x000D_\r\r\nvientos alisios, lo cual dificulta el muestreo de los transectos de cadena durante esa _x000D_\r\r\népoca","Chengue..C2",null,5749,"Shanly Carolina Coneo Gómez"]
[null,null,null,"HFLA","Haemulon flaviguttatus",null,null,null,null,"AMAC","Aulostomus maculatus","70.55.247","","","","AULOSTOMIDAE","",null,41704,"CIN",2,"Cinto expuesto  Occidente","Cinto expuesto",null,8266,"Zulay Saudith González Herrera"]
[null,null,null,"HGUN","Hoplopagrus guntheri",null,null,null,null,"AMAR","Acanthemblemaria maria","70.55.2054","","","","CHAENOPSIDAE","",null,41703,"CIN",1,"Cinto protegido Oriente","Cinto protegido"]
[null,null,null,"HING","Hippocampus ingens",null,null,null,null,"AMEL","Arothron meleagris","70.55.2774","","","","TETRAODONTIDAE","",null,14325,"MAL",1,"","El Arrecife"]
[null,null,null,"HMAC","Haemulon maculicauda",null,null,null,null,"AMUL","Alphestes multiguttatus (Günther, 1867)","70.55.1056214","CHORDATA","ACTINOPTERYGII","PERCIFORMES","SERRANIDAE","Alphestes",null,14315,"CAN",1,"","El Canal 1"]
[null,null,null,"HMAL","Halichoeres malpelo",null,null,null,null,"ANAR","Aetobatus narinari","70.55.40","","","","MYLIOBATIDAE","",null,14316,"CAN",2,"","El Canal 2"]
[null,null,null,"HNIC","Halichoeres nicholsi",null,null,null,null,"ANIS","Anisotremus sp.","70.46.219","","","","HAEMULIDAE","",null,14303,"MRO",1,"","El Morro"]
[null,null,null,"HNOT","Halichoeres notospilus",null,null,null,null,"APAC","Apogon pacifici","70.55.2363","","","","APOGONIDAE","",null,14309,"EMI",1,"","Emisario 1"]
[null,null,null,"HPAS","Holacanthus passer",null,null,null,null,"APIN","Amblycirrhitus pinos","70.55.512","","","","CIRRHITIDAE","",null,14310,"EMI",2,"","Emisario 2"]
[null,null,null,"HSAE","Hemiramphus saltator",null,null,null,null,"APLA","Apogon lachneri","70.55.349","","","","APOGONIDAE","",null,14302,"GAY",1,"","Gayraca 1"]
[null,null,null,"HSEX","Haemulon sexfasciatum",null,null,null,null,"APMA","Apogon maculatus","70.55.351","","","","APOGONIDAE","",null,14323,"GAY",2,"","Gayraca 2"]
[null,null,null,"HSTE","Haemulon steindachneri",null,null,null,null,"APOG","Apogon sp.","70.46.183","","","","APOGONIDAE","",null,14324,"GRA",1,"","Granate 1"]
[null,null,null,"JNIG","Johnrandallia nigrirostris",null,null,null,null,"APOL","Acanthostracion polygonius","70.55.750","","","","OSTRACIIDAE","",null,14339,"IGU",1,"","Iguana"]
[null,null,null,"KANA","Kyphosus analogus",null,null,null,null,"APSE","Apogon pseudomaculatus","70.55.355","","","","APOGONIDAE","",null,41546,"ARE",1,"","Isla Arena"]
[null,null,null,"KELE","Kyphosus elegans",null,null,null,null,"AQUA","Acanthostracion quadricornis","70.55.751","","","","OSTRACIIDAE","",null,41545,"IGR",1,"","Isla Grande"]
[null,null,null,"KYPH","Kyphosus sp.",null,null,null,null,"ARIV","Acanthemblemaria rivasi","70.55.579","","","","CHAENOPSIDAE","",null,48967,"JCA",1,"Johnny Cay","Johnny Cay"]
[null,null,null,"LARA","Lutjanus aratus",null,null,null,null,"ARUB","Axoclinus rubinoffi","70.55.3267","","","","TRIPTERYGIIDAE","",null,14296,"CHO",1,"ubicada a 6º","La Chola 1"]
[null,null,null,"LARG","Lutjanus argentiventris",null,null,null,null,"ASAX","Abudefduf saxatilis","70.55.513","","","","POMACENTRIDAE","",null,14326,"CHO",2,"Parcela media localizada a 6º 0' 47.04","La Chola 2"]
[null,null,null,"LBIM","Lepidonectes bimaculata",null,null,null,null,"ASCR","Aluterus scriptus","70.55.743","","","","MONACANTHIDAE","",null,14304,"CHO",3,"es una parcela somera localizada a 6º 0' 40.9","La Chola 3"]
[null,null,null,"LDAL","Lythrypnus dalli",null,null,null,null,"ASTE","Acanthemblemaria stephensi","70.46.288","","","","CHAENOPSIDAE","",null,14327,"CHO",4,"Cobertura del 33%","La Chola 4"]
[null,null,null,"LDEN","Labrisomus dendriticus",null,null,null,null,"ASUR","Anisotremus surinamensis","70.55.431","","","","HAEMULIDAE","",null,14328,"CHO",5,"","La Chola 5"]
[null,null,null,"LGUT","Lutjanus guttatus",null,null,null,null,"ATAE","Anisotremus taeniatus","70.55.3218","","","","HAEMULIDAE","",null,14329,"CHO",6,"","La Chola 6"]
[null,null,null,"LINE","Lutjanus inermis",null,null,null,null,"ATAR","Abudefduf taurus","70.55.514","","","","POMACENTRIDAE","",null,37122,"COC",1,"","La Coca"]
[null,null,null,"LIOP","Liopropoma sp.",null,null,null,null,"ATOW","Apogon townsendi","70.55.357","","","","APOGONIDAE","",null,43098,"MAL",2,"","La Nevera"]
[null,null,null,"LJOR","Lutjanus jordani",null,null,null,null,"ATRO","Abudefduf troschelii","70.55.2664","","","","POMACENTRIDAE","",null,41695,"VEN",4,"","La Ventana Norte Externa -VEN 4"]
[null,null,null,"LNOV","Lutjanus novemfasciatus",null,null,null,null,"AUCH","Aulostomus chinensis","70.55.3220","","","","AULOSTOMIDAE","",null,41694,"VEN",3,"","La Ventana Norte Interna -VEN 3"]
[null,null,null,"LSYN","Lutjanus synagris",null,null,null,null,"AVIR","Anisotremus virginicus","70.55.432","","","","HAEMULIDAE","",null,41692,"VEN",1,"","La Ventana Sur Externa -VEN 1"]
[null,null,null,"LUCO","Lutjanus colorado",null,null,null,null,"AXAN","Acanthurus xanthopterus","70.55.3216","","","","ACANTHURIDAE","",null,41693,"VEN",2,"","La Ventana Sur Interna -VEN 2"]
[null,null,null,"LUTJ","Lutjanus sp.",null,null,null,null,"BDIP","Bodianus diplotaenia","70.55.3221","","","","LABRIDAE","",null,41547,"PAL",1,"","Las Palmas"]
[null,null,null,"LUVI","Lutjanus viridis",null,null,null,null,"BLUN","Bothus lunatus","70.55.699","","","","BOTHIDAE","",null,41699,"MAR",1,"","MARACAIBO"]
[null,null,null,"MALA","Malacoctenus sp.",null,null,null,null,"BOTH","Bothus sp.","70.46.360","","","","BOTHIDAE","",null,14305,"MAN",1,"ubicada frente a Isla Mangle en dirección N. Parcela en el nivel somero (4.5-6 m) que presenta una cobertura del 48%. _x000D_\r\r\nSe caracteriza porque la pendiente del fondo es imperceptible y porque presenta un relieve arrecifal _x000D_\r\r\ncomplejo compuesto por colonias muy grandes de Montastraea annularis y M. faveolata principalmente;_x000D_\r\r\n también es posible observar comúnmente Porites astreoides, P. porites y Millepora alcicornis. _x000D_\r\r\n El arrecife no es compacto y por lo tanto pueden observarse frecuentemente considerables parches _x000D_\r\r\n de sedimentos gruesos.","Mangle 1"]
[null,null,null,"MBAI","Microspathodon bairdii",null,null,null,null,"BPOL","Balistes polylepis","70.55.2708","","","","BALISTIDAE","",null,14307,"MAN",2,"La estación Mangle 2. Parcela en el nivel medio (9-11.5 m), _x000D_\r\r\nubicada sobre un arrecife muy compacto de relieve complejo, la pendiente del fondo es_x000D_\r\r\n suave y tiene una cobertura coralina del 31% aproximadamente. Se pueden observar corales de _x000D_\r\r\n 19 especies pero los más abundantes son M. franksi, P. astreoides y Agaricia tenuifolia y _x000D_\r\r\n también hay otras importantes como M. annularis, M. faveolata y P. porites entre otros. Después_x000D_\r\r\n de este arrecife, el fondo se precipita en un talud mayor que termina en amplios canales de arena _x000D_\r\r\n a los 15-18 m","Mangle 2"]
[null,null,null,"MBER","Myripristis berndti",null,null,null,null,"BPUL","Bodianus pulchellus","70.55.526","","","","LABRIDAE","",null,14317,"MAZ",1,"","Manzanillo 1"]
[null,null,null,"MBIR","Manta birostris",null,null,null,null,"BRUF","Bodianus rufus","70.55.527","","","","LABRIDAE","",null,14318,"MAZ",2,"","Manzanillo 2"]
[null,null,null,"MBRE","Malacanthus brevirostris",null,null,null,null,"BVET","Balistes vetula","70.55.735","","","","BALISTIDAE","",null,41698,"MRC",1,"Marcelas place","Marcela's place"]
[null,null,null,"MCLE","Muraena clepsydra",null,null,null,null,"CABA","Caranx bartholomaei","70.55.375","","","","CARANGIDAE","",null,14306,"MIN",1,"Ubicada hacia el noroeste de Isla Mucura._x000D_\r\r\nEsta estación es una parcela somera (6-7 m)_x000D_\r\r\n con una cobertura coralina del 33% cuyo fondo tiene una pendiente imperceptible y forma _x000D_\r\r\n parte de una terraza muy extensa. Sus arrecifes forman parches alargados que algunas veces _x000D_\r\r\n se conectan entre sí o están separados por áreas de sedimento de origen calcáreo y aparentemente _x000D_\r\r\n son arenas gruesas. Los corales pueden ser cabezas de variados tamaños de Montastraea spp, _x000D_\r\r\n Siderastrea siderea, Colpophyllia natans, Diploria spp. y Porites porites. Las algas y los_x000D_\r\r\n  octocorales son muy abundantes y estos últimos alcanzan tamaños considerables","Minalta"]
[null,null,null,"MDEN","Mulloidichthys dentatus",null,null,null,null,"CACA","Caranx caninus","70.55.2636","","","","CARANGIDAE","",null,56790,"4400147CORA100",1,"","Morro Acropora (MRAC)"]
[null,null,null,"MDOR","Microspathodon dorsalis",null,null,null,null,"CACU","Chaetodon aculeatus","70.55.3223","","","","CHAETODONTIDAE","",null,42263,"NCH",1,"Narrow Channel","Narrow Channel"]
[null,null,null,"MLEI","Myripristis leiognathus",null,null,null,null,"CAFI","Caulolatinus affinis","70.55.2635","","","","MELACANTHIDAE","",null,41702,"NEG",2,"","Neguanje expuesto"]
[null,null,null,"MLEN","Muraena lentiginosa",null,null,null,null,"CALA","Calamus sp.","70.46.227","","","","SPARIDAE","",null,41701,"NEG",1,"","Neguanje protegido"]
[null,null,null,"MNIG","Melichthys niger",null,null,null,null,"CANA","Calamus penna","70.55.455","","","","SPARIDAE","",null,37120,"NET",1,"Bajo coralino en la barrera de providencia, alejado varios km al noroeste de la isla","No Entry"]
[null,null,null,"MOLF","Mycteroperca olfax",null,null,null,null,"CANT","Chilomycterus antennatus","70.55.765","","","","DIODONTIDAE","",null,52325,"NET",2,"Bajo coralino en la barrera de providencia, alejado varios km al noroeste de la isla","No Entry 2"]
[null,null,null,"MVID","Melichthys vidua",null,null,null,null,"CAPE","Calamus pennatula","70.55.456","","","","SPARIDAE","",null,14300,"PAV",1,"Isla Rosario, Pavitos. El ambiente de esta estación en los tres niveles de profundidad difiere considerablemente al de tesoro _x000D_\r\r\npues pavitos está dominado por corales de crecimiento foliáceo del tipo Agaricia sp,_x000D_\r\r\n los gorgonáceos están prácticamente ausentes y se presentan gran cantidad de esponjas de variados _x000D_\r\r\n tamaños, formas de crecimiento y colores. La parcela somera de monitoreo está ubicada_x000D_\r\r\n  sobre la plataforma o terraza que rodea la Isla Pavitos y presenta una cobertura coralina _x000D_\r\r\n  del 31% y cerca se observa un talud de pendiente fuerte y de sustrato frágil donde _x000D_\r\r\n  se localizan las parcelas de los niveles medio (9-12 m) y profundo (16-18 m)._x000D_\r\r\n  En el nivel somero también pueden observarse comúnmente algunas cabezas medianas de _x000D_\r\r\n  Montastraea annularis y M. faveolata mientras en el profundo hay abundantes colonias _x000D_\r\r\n  de M. franksi. Los niveles medio y profundo presenta una cobertura coralina del 40% y 30%_x000D_\r\r\n   respectivamente_x000D_","Pavitos"]
[null,null,null,"MXEN","Mycteroperca xenarcha",null,null,null,null,"CARG","Centropyge argi","70.55.505","","","","POMACANTHIDAE","",null,14295,"PLA",2,"A unos 150m de la costa en marea baja","Playa Blanca norte medio 2"]
[null,null,null,"MYCT","Mycteroperca sp.",null,null,null,null,"CATR","Chromis atrilobata","70.55.2655","","","","POMACENTRIDAE","",null,41690,"PLA",3,"Ubicada al norte de la formación coralina","Playa Blanca norte somero 3"]
[null,null,null,"MYVE","Mycteroperca venenosa",null,null,null,null,"CAUS","Caranx latus","70.55.378","","","","CARANGIDAE","",null,41691,"PLA",4,"Ubicada al norte de la formación coralina","Playa Blanca sur medio 4"]
[null,null,null,"NDEN","Nicholsina denticulata",null,null,null,null,"CBAH","Coralliozetus bahamensis","70.55.2548","","","","CHAENOPSIDAE","",null,14343,"PLA",1,"Ubicada al sur de la formación coralina","Playa Blanca sur somero 1"]
[null,null,null,"NTAE","Novaculichthys taeniourus",null,null,null,null,"CBAJ","Calamus bajonado","70.55.453","","","","SPARIDAE","",null,52865,"PBLA",1,"","Playa Blanca-Barú (PNN Corales del Rosario y San Bernardo)"]
[null,null,null,"OGCO","Ogcocephalus sp.",null,null,null,null,"CCAB","Caranx caballus","70.55.2637","","","","CARANGIDAE","",null,41548,"PBR",1,"","Punta Brava"]
[null,null,null,"OMEL","Ostracion meleagris",null,null,null,null,"CCAL","Calamus calamus","70.55.454","","","","SPARIDAE","",null,14321,"SFE",1,"","San Felipe 1"]
[null,null,null,"OPAN","Opistognathus panamensis",null,null,null,null,"CCAP","Chaetodon capistratus","70.55.500","","","","CHAETODONTIDAE","",null,14322,"SFE",2,"","San Felipe 2"]
[null,null,null,"OTYP","Oxycirrhites typus",null,null,null,null,"CCHA","Chanos chanos","70.55.3268","","","","CHANIDAE","",null,14299,"TES",1,"Isla Rosario, el Tesoro. está ubicada en una cuenca lagunar de poca pendiente y relieve complejo, _x000D_\r\r\npresenta una cobertura aproximada del 45% y se observan cabezas coralinas _x000D_\r\r\ngrandes dominadas por Montastraea annularis. Es posible observar también _x000D_\r\r\notros corales de crecimiento masivo y cobertura importante como M. faveolata, _x000D_\r\r\nDiploria labyrinthiformis y Colpophyllia natans mezclados con parches amplios de arena._x000D_\r\r\n También se presentan abundantes gorgonáceos de los géneros Briareum sp. y Pseudoplexaura sp. _x000D_\r\r\n Después del plano se presenta hacia afuera un talud de pendiente media y relieve complejo donde _x000D_\r\r\n están ubicados las parcelas de los niveles medio (9-12 m) y profundo (16-19 m). El nivel medio _x000D_\r\r\n tiene una cobertura coralina del 24% y es un ambiente de corales masivos mixtos como M. annularis, _x000D_\r\r\n M franksi y C. natans, mientras el profundo presenta una cobertura mayor (35%) y está dominado por M. _x000D_\r\r\n franksi que forma colonias grandes con bordes tipo terraza. En la parcela profunda se presentan colonias _x000D_\r\r\n aisladas de látigos del género Ellisella sp","Tesoro 1"]
[null,null,null,"OXAN","Odontoscion xanthops",null,null,null,null,"CCRU","Cephalopholis cruentata (Lacepède, 1802)","70.55.283","CHORDATA","","","SERRANIDAE","",null,41549,"TES",2,"","Tesoro Oriental"]
[null,null,null,"PACO","Paranthias colonus",null,null,null,null,"CCRY","Caranx crysos","70.55.376","","","","CARANGIDAE","",null,14319,"BAR",1,"","The Bar 1"]
[null,null,null,"PAZA","Plagiotremus azaleus",null,null,null,null,"CCYA","Chromis cyanea","70.55.515","","","","POMACENTRIDAE","",null,14320,"BAR",2,"","The Bar 2"]
[null,null,null,"PLAT","Prionurus laticlavius",null,null,null,null,"CDIC","Coryphopterus dicrus","70.55.618","","","","GOBIIDAE","",null,41697,"TNT",1,"Tintipan 1 Somero","Tintipan 1 Somero"]
[null,null,null,"PNAU","Pseudobalistes naufragium",null,null,null,null,"CDUM","Cantherines dumerilii","70.55.3222","","","","MONACANTHIDAE","",null,41696,"TNT",2,"Tintipan 2 Medio","Tintipan 2 Medio"]
[null,null,null,"PRIA","Priacanthus sp.",null,null,null,null,"CEID","Coryphopterus eidolon","70.55.619","","","","GOBIIDAE","",null,14332,"TIO",1,"localizada al noroeste de Isla Tintipan a 9º","Tiosolda"]
[null,null,null,"PVOL","Pterois volitans",null,null,null,null,"CEPH","Cephalopholis sp.","70.46.162","","","","SERRANIDAE","",null,49084,"VAR",1,"Varadero 1","Varadero 1"]
[null,null,null,"PZON","Pomacanthus zonipectus",null,null,null,null,"CFAB","Chaetodipterus faber","70.55.665","","","","EPHIPPIDAE","",null,49085,"VAR",2,"Varadero 2","Varadero 2"]
[null,null,null,"RBIC","Rypticus bicolor",null,null,null,null,"CFUL","Cephalopolis fulva","70.55.284","","","","SERRANIDAE","",null,49086,"VAR",3,"Varadero 3","Varadero 3"]
[null,null,null,"RREM","Remora remora",null,null,null,null,"CFUR","Chaetodon falcifer","70.55.3371","","","","CHAETODONTIDAE","",null,41700,"WHI",1,"","White  Shoal"]
[null,null,null,"RTYP","Rhincodon typus",null,null,null,null,"CGAL","Carcharhinus galapagensis","70.46.4","","","","CARCHARHINIDAE","",null,14340,"WLF",1,"La parcela somera está localizada a 12º 30' 4","Wild Life"]
[null,null,null,"SACA","Stegastes acapulcoensis",null,null,null,null,"CGLA","Coryphopterus glaucofraenum","70.55.620","","","","GOBIIDAE","",null,14335,"ZAP",1,"Ubicada afuera de la punta rocosa que cierra la ensenada","Zapsurro M"]
[null,null,null,"SANN","Sphoeroides annulatus",null,null,null,null,"CHI","Chilomycterus sp.","70.46.389","","","","DIODONTIDAE",""]
[null,null,null,"SARC","Stegastes arcifrons",null,null,null,null,"CHIP","Caranx hippos","70.55.377","","","","CARANGIDAE",""]
[null,null,null,"SBAN","Stethojulis bandanensis",null,null,null,null,"CHUM","Chaetodon humeralis","70.55.2649","","","","CHAETODONTIDAE",""]
[null,null,null,"SCAR","Scarus sp.",null,null,null,null,"CINS","Chromis insolata","70.55.516","","","","POMACENTRIDAE",""]
[null,null,null,"SCES","Scorpaenodes sp.",null,null,null,null,"CJAN","Canthigaster janthinopthera","70.55.3365","","","","TETRAODONTIDAE",""]
[null,null,null,"SCOB","Scomberomorus sp.",null,null,null,null,"CLIP","Coryphopterus lipernes","70.55.622","","","","GOBIIDAE",""]
[null,null,null,"SCO3","Scarus compressus",null,null,null,null,"CLPA","Clepticus parrai","70.55.528","","","","LABRIDAE",""]
[null,null,null,"SENA","Scorpaena sp.",null,null,null,null,"CLUG","Caranx lugubris","70.55.2525","","","","CARANGIDAE",""]
[null,null,null,"SENS","Sphyraena ensis",null,null,null,null,"CMAR","Ctenochaetus marginatus","70.55.3269","CHORDATA","","","ACANTHURIDAE",""]
[null,null,null,"SFAS","Serranus fasciatus",null,null,null,null,"CMCR","Cantherines macrocerus","70.55.744","","","","MONACANTHIDAE",""]
[null,null,null,"SFLA","Stegastes flavilatus",null,null,null,null,"CMEL","Caranx melampygus","70.55.2711","","","","CARANGIDAE",""]
[null,null,null,"SGHO","Scarus ghobban",null,null,null,null,"CMUL","Chromis multilineata","70.55.517","","","","POMACENTRIDAE",""]
[null,null,null,"SHIS","Scorpaena histrio",null,null,null,null,"COCA","Coralliozetus cardonae","70.55.581","","","","CHAENOPSIDAE",""]
[null,null,null,"SLAL","Seriola lalandi",null,null,null,null,"COCE","Chaetodon ocellatus","70.55.501","","","","CHAETODONTIDAE",""]
[null,null,null,"SLEW","Sphyrna lewini",null,null,null,null,"CORA","Coralliozetus sp.","70.46.290","","","","CHAENOPSIDAE",""]
[null,null,null,"SLOB","Sphoeroides lobatus",null,null,null,null,"CORY","Coryphopterus sp.","70.46.318","","","","GOBIIDAE",""]
[null,null,null,"SLUC","Sphyraena lucasana",null,null,null,null,"COSM","Cosmocampus sp.","70.46.145","","","","SYNGNATHIDAE",""]
[null,null,null,"SOCY","Sectator ocyurus",null,null,null,null,"COXY","Cirrhitichthys oxycephalus","70.55.2777","","","","CIRRHITIDAE",""]
[null,null,null,"SPLU","Scorpaena plumieri",null,null,null,null,"CPAN","Cephalopholis panamensis","70.55.3231","","","","SERRANIDAE",""]
[null,null,null,"SPSP","Sparisoma sp.",null,null,null,null,"CPER","Coryphopterus personatus","70.55.623","","","","GOBIIDAE",""]
[null,null,null,"SRIV","Seriola rivoliana",null,null,null,null,"CPUL","Cantherines pullus","70.55.745","","","","MONACANTHIDAE",""]
[null,null,null,"SRUR","Scarus rubroviolaceus",null,null,null,null,"CPUN","Canthigaster punctatissima","70.55.2663","","","","TETRAODONTIDAE",""]
[null,null,null,"SSCA","Strongylura scapularis",null,null,null,null,"CRET","Chilomycterus reticulatus","70.55.3224","","","","DIODONTIDAE",""]
[null,null,null,"SSIE","Scomberomorus sierra",null,null,null,null,"CRIV","Cirrhithus rivulatus","70.55.2786","","","","CIRRHITIDAE",""]
[null,null,null,"SSUB","Sargocentron suborbitalis",null,null,null,null,"CROS","Canthigaster rostrata","70.55.755","","","","TETRAODONTIDAE",""]
[null,null,null,"STLE","Stegastes leucorus",null,null,null,null,"CRRO","Cryptotomus roseus","70.55.541","","","","SCARIDAE",""]
[null,null,null,"SVER","Sufflamen verres",null,null,null,null,"CRUB","Caranx ruber","70.55.379","","","","CARANGIDAE",""]
[null,null,null,"SYLA","Synodus lacertinus",null,null,null,null,"CSED","Chaetodon sedentarius","70.55.502","","","","CHAETODONTIDAE",""]
[null,null,null,"SYNO","Synodus sp.",null,null,null,null,"CSEX","Caranx sexfasciatus","70.55.2710","","","","CARANGIDAE",""]
[null,null,null,"TALB","Thunnus albacares",null,null,null,null,"CSTR","Chaetodon striatus","70.55.503","","","","CHAETODONTIDAE",""]
[null,null,null,"TCRO","Tylosurus crocodilus",null,null,null,null,"CSUF","Canthidermis sufflamen","70.55.736","","","","BALISTIDAE",""]
[null,null,null,"TLUC","Thalassoma lucasanum",null,null,null,null,"CTHR","Coryphopterus thrix","70.55.624","","","","GOBIIDAE",""]
[null,null,null,"TOBE","Triaenodon obesus",null,null,null,null,"CTUS","Canthidermis maculatus","70.55.737","","","","BALISTIDAE",""]
[null,null,null,"TSTI","Trachinotus stilbe",null,null,null,null,"CURO","Coryphopterus urospilus","70.55.2714","","","","GOBIIDAE",""]
[null,null,null,"TYLO","Tylosurus sp.",null,null,null,null,"DAME","Dasyatis americana","70.55.34","","","","DASYATIDAE",""]
[null,null,null,"XMEN","Xanthichthys mento",null,null,null,null,"DBIV","Diplectrum bivittatum","70.55.286","","","","SERRANIDAE",""]
[null,null,null,"ZCOR","Zanclus cornutus",null,null,null,null,"DDER","Dermatolepis dermatolepis","70.55.3225","","","","SERRANIDAE",""]
[null,null,null,"AAFF","Apogon affinis",null,null,null,null,"DECA","Decapterus sp.","70.46.196","","","","CARANGIDAE",""]
[null,null,null,"AASP","Acanthemblemaria aspera",null,null,null,null,"DEXC","Doryrhamphus excisus","70.55.2798","","","","SYNGNATHIDAE",""]
[null,null,null,"ABAH","Acanthurus bahianus",null,null,null,null,"DHOL","Diodon holocanthus","70.55.767","","","","DIODONTIDAE",""]
[null,null,null,"ABET","Acanthemblemaria betinensis",null,null,null,null,"DHYS","Diodon hystrix","70.55.768","","","","DIODONTIDAE",""]
[null,null,null,"ABIN","Apogon binotatus",null,null,null,null,"EADS","Epinephelus adscensionis","70.55.289","","","","SERRANIDAE",""]
[null,null,null,"ACHI","Acanthurus chirurgus",null,null,null,null,"EAFF","Elops affinis","70.55.2722","","","","ELOPIDAE",""]
[null,null,null,"ACOE","Acanthurus coeruleus",null,null,null,null,"EANA","Epinephelus analogus","70.55.2723","","","","SERRANIDAE",""]
[null,null,null,"ACSP","Acanthemblemaria spinosa",null,null,null,null,"EATL","Emmelichthyops atlanticus","70.55.2530","","","","INERMIIDAE",""]
[null,null,null,"AMAC","Aulostomus maculatus",null,null,null,null,"EBIP","Elagatis bipinnulata","70.55.384","","","","CARANGIDAE",""]
[null,null,null,"AMAR","Acanthemblemaria maria",null,null,null,null,"ECAT","Echidna catenata","70.55.58","","","","MURAENIDAE",""]
[null,null,null,"APIN","Amblycirrhitus pinos",null,null,null,null,"ECHE","Echeneis sp.","70.46.189","","","","ECHENEIDAE",""]
[null,null,null,"APLA","Apogon lachneri",null,null,null,null,"EDIG","Elacatinus digueti","70.55.3227","","","","GOBIIDAE",""]
[null,null,null,"APMA","Apogon maculatus",null,null,null,null,"EDIL","Elacatinus dilepis","70.55.626","","","","GOBIIDAE",""]
[null,null,null,"APOL","Acanthostracion polygonius",null,null,null,null,"EEVE","Elacatinus evelynae","70.55.2557","","","","GOBIIDAE",""]
[null,null,null,"APSE","Apogon pseudomaculatus",null,null,null,null,"EGUT","Epinephelus guttatus","70.55.2723","","","","SERRANIDAE",""]
[null,null,null,"AQUA","Acanthostracion quadricornis",null,null,null,null,"EHOR","Elacatinus horsti","70.55.627","","","","GOBIIDAE",""]
[null,null,null,"ARIV","Acanthemblemaria rivasi",null,null,null,null,"EILL","Elacatinus illecebrosum","70.55.628","","","","GOBIIDAE",""]
[null,null,null,"ASAX","Abudefduf saxatilis",null,null,null,null,"EINO","Elacatinus inornatus","70.55.3227","","","","GOBIIDAE",""]
[null,null,null,"ASUR","Anisotremus surinamensis",null,null,null,null,"EITA","Epinephelus itajara","70.55.292","","","","SERRANIDAE",""]
[null,null,null,"ATAR","Abudefduf taurus",null,null,null,null,"ELAB","Epinephelus labriformis","70.55.2020","","","","SERRANIDAE",""]
[null,null,null,"ATOW","Apogon townsendi",null,null,null,null,"ELAN","Equetus lanceolatus","70.55.469","","","","SCIAENIDAE",""]
[null,null,null,"AVIR","Anisotremus virginicus",null,null,null,null,"ELPU","Elacatinus punticulatus","70.55.3229","","","","GOBIIDAE",""]
[null,null,null,"BLUN","Bothus lunatus",null,null,null,null,"ELUS","Elacatinus sp.","70.46.319","","","","GOBIIDAE",""]
[null,null,null,"BPUL","Bodianus pulchellus",null,null,null,null,"EMBL","Emblemariopsis sp.","70.46.293","","","","CHAENOPSIDAE",""]
[null,null,null,"BRUF","Bodianus rufus",null,null,null,null,"EMOR","Epinephelus morio","70.55.293","","","","SERRANIDAE",""]
[null,null,null,"BVET","Balistes vetula",null,null,null,null,"EMPA","Emblemaria pandionis","70.55.3363","","","","CHAENOPSIDAE",""]
[null,null,null,"CABA","Caranx bartholomaei",null,null,null,null,"ENAU","Echeneis naucrates","70.55.368","","","","ECHENEIDAE",""]
[null,null,null,"CACU","Chaetodon aculeatus",null,null,null,null,"ENEB","Echidna nebulosa","70.55.3226","","","","MURAENIDAE",""]
[null,null,null,"CANA","Calamus penna",null,null,null,null,"ENEU","Echeneis neucratoides","70.55.369","","","","ECHENEIDAE",""]
[null,null,null,"CANT","Chilomycterus antennatus",null,null,null,null,"ENNE","Enneanectes sp.","70.46.280","","","","TRIPTERYGIIDAE",""]
[null,null,null,"CAPE","Calamus pennatula",null,null,null,null,"EPAN","Epinephelus panamensis","70.55.3231","","","","SERRANIDAE",""]
[null,null,null,"CARG","Centropyge argi",null,null,null,null,"EPRO","Elacatinus prochilos","70.46.319","","","","GOBIIDAE",""]
[null,null,null,"CAUS","Caranx latus",null,null,null,null,"EPSP","Epinephelus sp","70.46.165","","","","SERRANIDAE",""]
[null,null,null,"CBAH","Coralliozetus bahamensis",null,null,null,null,"EPUN","Equetus punctatus","70.55.470","","","","SCIAENIDAE",""]
[null,null,null,"CBAJ","Calamus bajonado",null,null,null,null,"EPUS","Epinephelus sp.","70.46.165","","","","SERRANIDAE",""]
[null,null,null,"CCAL","Calamus calamus",null,null,null,null,"ESAU","Elacatinus saucrum","70.55.632","","","","GOBIIDAE",""]
[null,null,null,"CCAP","Chaetodon capistratus",null,null,null,null,"ESEN","Engyophrys senta","70.55.702","","","","BOTHIDAE",""]
[null,null,null,"CCRY","Caranx crysos",null,null,null,null,"ESTR","Epinephelus striatus","70.55.296","","","","SERRANIDAE",""]
[null,null,null,"CCYA","Chromis cyanea",null,null,null,null,"EXAN","Elacatinus xanthiprora","70.55.2561","","","","GOBIIDAE",""]
[null,null,null,"CDIC","Coryphopterus dicrus",null,null,null,null,"FCOM","Fistularia commersonii","70.55.3232","","","","FISTULARIIDAE",""]
[null,null,null,"CEID","Coryphopterus eidolon",null,null,null,null,"FFLA","Forcipiger flavissimus","70.55.3371","","","","CHAETODONTIDAE",""]
[null,null,null,"CFAB","Chaetodipterus faber",null,null,null,null,"FICO","Fistularia corneta","70.55.3233","","","","FISTULARIIDAE",""]
[null,null,null,"CFUL","Cephalopolis fulva",null,null,null,null,"FTAB","Fistularia tabacaria","70.55.249","","","","FISTULARIIDAE",""]
[null,null,null,"CGLA","Coryphopterus glaucofraenum",null,null,null,null,"GCAS","Gymnothorax castaneus","70.55.2728","","","","MURAENIDAE",""]
[null,null,null,"CHI","Chilomycterus sp.",null,null,null,null,"GCIN","Gerres cinereus","70.55.429","","","","GERREIDAE",""]
[null,null,null,"CHIP","Caranx hippos",null,null,null,null,"GCIR","Ginglymostoma cirratum","70.55.1","","","","GINGLYMOSTOMATIDAE",""]
[null,null,null,"CINS","Chromis insolata",null,null,null,null,"GDOV","Gymnothorax dovii","70.55.2729","","","","MURAENIDAE",""]
[null,null,null,"CLIP","Coryphopterus lipernes",null,null,null,null,"GERR","Gerres sp.","70.46.218","","","","GERREIDAE",""]
[null,null,null,"CLPA","Clepticus parrai",null,null,null,null,"GFUN","Gymnothorax funebris","70.55.62","","","","MURAENIDAE",""]
[null,null,null,"CMCR","Cantherines macrocerus",null,null,null,null,"GLOR","Gramma loreto","70.55.333","","","","GRAMMATIDAE",""]
[null,null,null,"CMUL","Chromis multilineata",null,null,null,null,"GMEL","Gramma melacara","70.55.334","","","","GRAMMATIDAE",""]
[null,null,null,"COCA","Coralliozetus cardonae",null,null,null,null,"GMIL","Gymnothorax miliaris","70.55.64","","","","MURAENIDAE",""]
[null,null,null,"COCE","Chaetodon ocellatus",null,null,null,null,"GMOR","Gymnothorax moringa","70.55.65","","","","MURAENIDAE",""]
[null,null,null,"CPER","Coryphopterus personatus",null,null,null,null,"GPAN","Gymnothorax panamensis","70.55.3235","","","","MURAENIDAE",""]
[null,null,null,"CPUL","Cantherines pullus",null,null,null,null,"GSAE","Gobionellus saepapallens","70.55.639","","","","GOBIIDAE",""]
[null,null,null,"CROS","Canthigaster rostrata",null,null,null,null,"GSPE","Gnathanodon speciosus","70.55.3270","","","","CARANGIDAE",""]
[null,null,null,"CRRO","Cryptotomus roseus",null,null,null,null,"GTHO","Gnatholepis thompsoni","70.55.635","","","","GOBIIDAE",""]
[null,null,null,"CRUB","Caranx ruber",null,null,null,null,"GUND","Gymnothorax undulatus","70.55.2697","","","","MURAENIDAE",""]
[null,null,null,"CSED","Chaetodon sedentarius",null,null,null,null,"GVIC","Gymnothorax vicinus","70.55.67","","","","MURAENIDAE",""]
[null,null,null,"CSTR","Chaetodon striatus",null,null,null,null,"GYFL","Gymnothorax flavimarginatus","70.55.3234","","","","MURAENIDAE",""]
[null,null,null,"CSUF","Canthidermis sufflamen",null,null,null,null,"GZEB","Gymnomuraena zebra","70.55.2787","","","","MURAENIDAE",""]
[null,null,null,"CTHR","Coryphopterus thrix",null,null,null,null,"HABE","Hypoplectrus aberrans","70.55.2082","","","","SERRANIDAE",""]
[null,null,null,"DAME","Dasyatis americana",null,null,null,null,"HADI","Halichoeres dispilus","70.55.3239","","","","LABRIDAE",""]
[null,null,null,"DBIV","Diplectrum bivittatum",null,null,null,null,"HADS","Holocentrus adscensionis","70.55.225","","","","HOLOCENTRIDAE",""]
[null,null,null,"DECA","Decapterus sp.",null,null,null,null,"HAEM","Haemulon sp.","70.46.221","","","","HAEMULIDAE",""]
[null,null,null,"ECAT","Echidna catenata",null,null,null,null,"HALB","Haemulon album","70.55.434","","","","HAEMULIDAE",""]
[null,null,null,"ECHE","Echeneis sp.",null,null,null,null,"HALC","Halichoeres sp.","70.46.269","","","","LABRIDAE",""]
[null,null,null,"EDIL","Elacatinus dilepis",null,null,null,null,"HALD","Halichoeres discolor","70.55.3238","","","","LABRIDAE",""]
[null,null,null,"EGUT","Epinephelus guttatus",null,null,null,null,"HAMA","Halichoeres maculipinna (Müller & Troschel, 1848)","70.55.534","CHORDATA","","","LABRIDAE",""]
[null,null,null,"EHOR","Elacatinus horsti",null,null,null,null,"HAME","Halichoeres melanotis","70.55.3241","","","","LABRIDAE",""]
[null,null,null,"EILL","Elacatinus illecebrosum",null,null,null,null,"HAUR","Haemulon aurolineatum","70.55.435","","","","HAEMULIDAE",""]
[null,null,null,"ELAN","Equetus lanceolatus",null,null,null,null,"HBIV","Halichoeres bivittatus","70.55.531","","","","LABRIDAE",""]
[null,null,null,"EMOR","Epinephelus morio",null,null,null,null,"HBON","Haemulon bonariense","70.55.436","","","","HAEMULIDAE",""]
[null,null,null,"EMPA","Emblemaria pandionis",null,null,null,null,"HCAR","Haemulon carbonarium","70.55.438","","","","HAEMULIDAE",""]
[null,null,null,"ENAU","Echeneis naucrates",null,null,null,null,"HCHI","Halichoeres chierchiae","70.55.3237","","","","LABRIDAE",""]
[null,null,null,"ENEU","Echeneis neucratoides",null,null,null,null,"HCHR","Haemulon chrysargyreum","70.55.439","","","","HAEMULIDAE",""]
[null,null,null,"ENNE","Enneanectes sp.",null,null,null,null,"HCIL","Holacanthus ciliaris","70.55.506","","","","POMACANTHIDAE",""]
[null,null,null,"EPRO","Elacatinus prochilos",null,null,null,null,"HCOR","Holocentrus coruscum","70.55.231","","","","HOLOCENTRIDAE",""]
[null,null,null,"ESAU","Elacatinus saucrum",null,null,null,null,"HCRU","Heteropriacanthus cruentatus","70.55.343","","","","PRIACANTHIDAE",""]
[null,null,null,"ESEN","Engyophrys senta",null,null,null,null,"HCYA","Halichoeres cyanocephalus","70.55.2600","","","","LABRIDAE",""]
[null,null,null,"ESTR","Epinephelus striatus",null,null,null,null,"HETE","Heteroconger sp.","70.46.59","","","","CONGRIDAE",""]
[null,null,null,"EXAN","Elacatinus xanthiprora",null,null,null,null,"HFLA","Haemulon flaviguttatus","70.55.3236","","","","HAEMULIDAE",""]
[null,null,null,"FTAB","Fistularia tabacaria",null,null,null,null,"HFLO","Haemulon flavolineatum","70.55.3236","","","","HAEMULIDAE",""]
[null,null,null,"GCIN","Gerres cinereus",null,null,null,null,"HGAR","Halichoeres garnoti","70.55.533","","","","LABRIDAE",""]
[null,null,null,"GERR","Gerres sp.",null,null,null,null,"HGUM","Hypoplectrus gummigutta","70.55.297","","","","SERRANIDAE",""]
[null,null,null,"GLOR","Gramma loreto",null,null,null,null,"HGUN","Hoplopagrus guntheri","70.55.2790","","","","LUTJANIDAE",""]
[null,null,null,"GMEL","Gramma melacara",null,null,null,null,"HGUT","Hypoplectrus guttavarius","70.55.298","","","","SERRANIDAE",""]
[null,null,null,"GMIL","Gymnothorax miliaris",null,null,null,null,"HHUM","Harengula humeralis","70.55.125","","","","CLUPEIDAE",""]
[null,null,null,"GMOR","Gymnothorax moringa",null,null,null,null,"HIND","Hypoplectrus indigo","70.55.299","","","","SERRANIDAE",""]
[null,null,null,"GSAE","Gobionellus saepapallens",null,null,null,null,"HING","Hippocampus ingens","70.55.2405","","","","SYNGNATHIDAE",""]
[null,null,null,"GTHO","Gnatholepis thompsoni",null,null,null,null,"HLON","Heteroconger longissimus","70.55.91","","","","CONGRIDAE",""]
[null,null,null,"GVIC","Gymnothorax vicinus",null,null,null,null,"HMAC","Haemulon maculicauda","70.55.2731","","","","HAEMULIDAE",""]
[null,null,null,"HABE","Hypoplectrus aberrans",null,null,null,null,"HMAL","Halichoeres malpelo","70.55.3240","","","","LABRIDAE",""]
[null,null,null,"HADS","Holocentrus adscensionis",null,null,null,null,"HMAR","Haemulon macrostomum","70.55.441","","","","HAEMULIDAE",""]
[null,null,null,"HALB","Haemulon album",null,null,null,null,"HMEL","Haemulon melanurum","70.55.442","","","","HAEMULIDAE",""]
[null,null,null,"HALC","Halichoeres sp.",null,null,null,null,"HNIC","Halichoeres nicholsi","70.55.3242","","","","LABRIDAE",""]
[null,null,null,"HAMA","Halichoeres maculipinna (Müller & Troschel, 1848)",null,null,null,null,"HNIG","Hypoplectrus nigricans","70.55.300","","","","SERRANIDAE",""]
[null,null,null,"HAUR","Haemulon aurolineatum",null,null,null,null,"HNOT","Halichoeres notospilus","70.55.3243","","","","LABRIDAE",""]
[null,null,null,"HBON","Haemulon bonariense",null,null,null,null,"HPAR","Haemulon parra","70.55.443","","","","HAEMULIDAE",""]
[null,null,null,"HCAR","Haemulon carbonarium",null,null,null,null,"HPAS","Holacanthus passer","70.55.2652","","","","POMACANTHIDAE",""]
[null,null,null,"HCHR","Haemulon chrysargyreum",null,null,null,null,"HPIC","Halichoeres pictus","70.55.535","","","","LABRIDAE",""]
[null,null,null,"HCIL","Holacanthus ciliaris",null,null,null,null,"HPLA","Hypoplectrus planifrons","70.46.166","","","","SERRANIDAE",""]
[null,null,null,"HCOR","Holocentrus coruscum",null,null,null,null,"HPLU","Haemulon plumieri","70.55.444","","","","HAEMULIDAE",""]
[null,null,null,"HCYA","Halichoeres cyanocephalus",null,null,null,null,"HPOE","Halichoeres poeyi","70.55.536","","","","LABRIDAE",""]
[null,null,null,"HETE","Heteroconger sp.",null,null,null,null,"HPRO","Hypoplectrus providencianus","70.55.2406","","","","SERRANIDAE",""]
[null,null,null,"HFLO","Haemulon flavolineatum",null,null,null,null,"HPUE","Hypoplectrus puella","70.55.301","","","","SERRANIDAE",""]
[null,null,null,"HGAR","Halichoeres garnoti",null,null,null,null,"HRAD","Halichoeres radiatus","70.55.537","","","","LABRIDAE",""]
[null,null,null,"HGUM","Hypoplectrus gummigutta",null,null,null,null,"HRUF","Holocentrus rufus","70.55.226","","","","HOLOCENTRIDAE",""]
[null,null,null,"HGUT","Hypoplectrus guttavarius",null,null,null,null,"HSAE","Hemiramphus saltator","70.55.2734","","","","HEMIRAMPHIDAE",""]
[null,null,null,"HHUM","Harengula humeralis",null,null,null,null,"HSCI","Haemulon sciurus","70.55.445","","","","HAEMULIDAE",""]
[null,null,null,"HIND","Hypoplectrus indigo",null,null,null,null,"HSEX","Haemulon sexfasciatum","70.55.2730","","","","HAEMULIDAE",""]
[null,null,null,"HLON","Heteroconger longissimus",null,null,null,null,"HSP1","Hypoplectrus n. sp. 1 (tan hamlet)","70.46.166","","","","SERRANIDAE",""]
[null,null,null,"HMAR","Haemulon macrostomum",null,null,null,null,"HSP2","Hypoplectrus n. sp. 2 (lagrima)","70.46.166","","","","SERRANIDAE",""]
[null,null,null,"HMEL","Haemulon melanurum",null,null,null,null,"HSTE","Haemulon steindachneri","70.55.446","","","","HAEMULIDAE",""]
[null,null,null,"HNIG","Hypoplectrus nigricans",null,null,null,null,"HSTR","Haemulon striatum","70.55.447","","","","HAEMULIDAE",""]
[null,null,null,"HPAR","Haemulon parra",null,null,null,null,"HTRI","Holacanthus tricolor","70.55.507","","","","POMACANTHIDAE",""]
[null,null,null,"HPIC","Halichoeres pictus",null,null,null,null,"HUNI","Hypoplectrus unicolor","70.55.302","","","","SERRANIDAE",""]
[null,null,null,"HPLA","Hypoplectrus planifrons",null,null,null,null,"HVEX","Holocentrus vexillarius","70.55.232","","","","HOLOCENTRIDAE",""]
[null,null,null,"HPLU","Haemulon plumieri",null,null,null,null,"HYPO","Hypoplectrus sp.","70.46.166","","","","SERRANIDAE",""]
[null,null,null,"HPOE","Halichoeres poeyi",null,null,null,null,"IVIT","Inermia vittata","70.55.451","","","","INERMIIDAE",""]
[null,null,null,"HPRO","Hypoplectrus providencianus",null,null,null,null,"JENK","Jenkinsia sp.","70.46.79","","","","CLUPEIDAE",""]
[null,null,null,"HPUE","Hypoplectrus puella",null,null,null,null,"JNIG","Johnrandallia nigrirostris","70.55.2643","","","","CHAETODONTIDAE",""]
[null,null,null,"HRAD","Halichoeres radiatus",null,null,null,null,"KANA","Kyphosus analogus","70.55.2737","","","","KYPHOSIDAE",""]
[null,null,null,"HRUF","Holocentrus rufus",null,null,null,null,"KELE","Kyphosus elegans","70.55.2736","","","","KYPHOSIDAE",""]
[null,null,null,"HSCI","Haemulon sciurus",null,null,null,null,"KSEC","Kyphosus sectatrix","70.55.511","","","","KYPHOSIDAE",""]
[null,null,null,"HSP1","Hypoplectrus n. sp. 1 (tan hamlet)",null,null,null,null,"KYPH","Kyphosus sp.","70.46.259","","","","KYPHOSIDAE",""]
[null,null,null,"HSP2","Hypoplectrus n. sp. 2 (lagrima)",null,null,null,null,"LABR","Labrisomus sp.","70.46.284","","","","LABRISOMIDAE",""]
[null,null,null,"HSTR","Haemulon striatum",null,null,null,null,"LANA","Lutjanus analis","70.55.406","","","","LUTJANIDAE",""]
[null,null,null,"HTRI","Holacanthus tricolor",null,null,null,null,"LAPO","Lutjanus apodus","70.55.407","","","","LUTJANIDAE",""]
[null,null,null,"HUNI","Hypoplectrus unicolor",null,null,null,null,"LARA","Lutjanus aratus","70.55.2742","","","","LUTJANIDAE",""]
[null,null,null,"HVEX","Holocentrus vexillarius",null,null,null,null,"LARG","Lutjanus argentiventris","70.55.2634","","","","LUTJANIDAE",""]
[null,null,null,"HYPO","Hypoplectrus sp.",null,null,null,null,"LBIM","Lepidonectes bimaculata","70.55.3271","","","","TRIPTERYGIIDAE",""]
[null,null,null,"IVIT","Inermia vittata",null,null,null,null,"LBUC","Lutjanus buccanella","70.55.408","","","","LUTJANIDAE",""]
[null,null,null,"JENK","Jenkinsia sp.",null,null,null,null,"LCYA","Lutjanus cyanopterus","70.55.409","","","","LUTJANIDAE",""]
[null,null,null,"KSEC","Kyphosus sectatrix",null,null,null,null,"LDAL","Lythrypnus dalli","70.55.2010","","","","GOBIIDAE",""]
[null,null,null,"LABR","Labrisomus sp.",null,null,null,null,"LDEN","Labrisomus dendriticus","70.55.3246","","","","LABRISOMIDAE",""]
[null,null,null,"LANA","Lutjanus analis",null,null,null,null,"LGRI","Lutjanus griseus","70.55.410","","","","LUTJANIDAE",""]
[null,null,null,"LAPO","Lutjanus apodus",null,null,null,null,"LGUT","Lutjanus guttatus","70.55.2680","","","","LUTJANIDAE",""]
[null,null,null,"LBUC","Lutjanus buccanella",null,null,null,null,"LINE","Lutjanus inermis","70.55.2741","","","","LUTJANIDAE",""]
[null,null,null,"LCYA","Lutjanus cyanopterus",null,null,null,null,"LIOP","Liopropoma sp.","70.46.167","","","","SERRANIDAE",""]
[null,null,null,"LGRI","Lutjanus griseus",null,null,null,null,"LJOC","Lutjanus jocu","70.55.411","","","","LUTJANIDAE",""]
[null,null,null,"LJOC","Lutjanus jocu",null,null,null,null,"LJOR","Lutjanus jordani","70.55.2681","","","","LUTJANIDAE",""]
[null,null,null,"LMAH","Lutjanus mahogoni",null,null,null,null,"LMAH","Lutjanus mahogoni","70.55.412","","","","LUTJANIDAE",""]
[null,null,null,"LMAX","Lachnolaimus maximus",null,null,null,null,"LMAX","Lachnolaimus maximus","70.55.538","","","","LABRIDAE",""]
[null,null,null,"LRUB","Liopropoma rubre",null,null,null,null,"LNOV","Lutjanus novemfasciatus","70.55.2740","","","","LUTJANIDAE",""]
[null,null,null,"LTRI","Lactophrys trigonus",null,null,null,null,"LRUB","Liopropoma rubre","70.55.304","","","","SERRANIDAE",""]
[null,null,null,"LZIN","Lucayablennius zingaro",null,null,null,null,"LSYN","Lutjanus synagris","70.55.414","","","","LUTJANIDAE",""]
[null,null,null,"MABO","Malacoctenus boehlkei",null,null,null,null,"LTRI","Lactophrys trigonus","70.55.752","","","","OSTRACIIDAE",""]
[null,null,null,"MACU","Mycteroperca acutirostris",null,null,null,null,"LUCO","Lutjanus colorado","70.55.2739","","","","LUTJANIDAE",""]
[null,null,null,"MBON","Mycteroperca bonaci",null,null,null,null,"LUTJ","Lutjanus sp.","70.46.210","","","","LUTJANIDAE",""]
[null,null,null,"MCHR","Microspathodon chrysurus",null,null,null,null,"LUVI","Lutjanus viridis","70.55.2648","","","","LUTJANIDAE",""]
[null,null,null,"MINT","Mycteroperca interstitialis",null,null,null,null,"LZIN","Lucayablennius zingaro","70.55.586","","","","CHAENOPSIDAE",""]
[null,null,null,"MJAC","Myripristis jacobus",null,null,null,null,"MABO","Malacoctenus boehlkei","70.55.2541","","","","LABRISOMIDAE",""]
[null,null,null,"MMAC","Malacoctenus macropus",null,null,null,null,"MACU","Mycteroperca acutirostris","70.55.305","","","","SERRANIDAE",""]
[null,null,null,"MMIL","Muraena miliaris",null,null,null,null,"MALA","Malacoctenus sp.","70.46.285","","","","LABRISOMIDAE",""]
[null,null,null,"MONA","Monacanthus sp.",null,null,null,null,"MBAI","Microspathodon bairdii","70.55.3248","","","","POMACENTRIDAE",""]
[null,null,null,"MPHE","Mycteroperca phenax",null,null,null,null,"MBER","Myripristis berndti","70.55.3252","","","","HOLOCENTRIDAE",""]
[null,null,null,"MPLU","Malacanthus plumieri",null,null,null,null,"MBIR","Manta birostris","70.55.41","","","","MYLIOBATIDAE",""]
[null,null,null,"MTIG","Mycteroperca tigris",null,null,null,null,"MBON","Mycteroperca bonaci","70.55.306","","","","SERRANIDAE",""]
[null,null,null,"MTRI","Malacoctenus triangulatus",null,null,null,null,"MBRE","Malacanthus brevirostris","70.55.2744","","","","MALACANTHIDAE",""]
[null,null,null,"MTUC","Monacanthus tuckeri",null,null,null,null,"MCHR","Microspathodon chrysurus","70.55.519","","","","POMACENTRIDAE",""]
[null,null,null,"MUMA","Mulloidichthys martinicus",null,null,null,null,"MCLE","Muraena clepsydra","70.55.2658","","","","MURAENIDAE",""]
[null,null,null,"MYBR","Myrichthys breviceps",null,null,null,null,"MDEN","Mulloidichthys dentatus","70.55.2698","","","","MULLIDAE",""]
[null,null,null,"NMAR","Neoniphon marianus",null,null,null,null,"MDOR","Microspathodon dorsalis","70.55.3249","","","","POMACENTRIDAE",""]
[null,null,null,"OAUR","Opisthognathus aurifrons",null,null,null,null,"MINT","Mycteroperca interstitialis","70.55.308","","","","SERRANIDAE",""]
[null,null,null,"OCHR","Ocyurus chrysurus",null,null,null,null,"MJAC","Myripristis jacobus","70.55.227","","","","HOLOCENTRIDAE",""]
[null,null,null,"ODEN","Odontoscion dentex",null,null,null,null,"MLEI","Myripristis leiognathus","70.55.2661","","","","HOLOCENTRIDAE",""]
[null,null,null,"OMAC","Opistognathus macrognathus",null,null,null,null,"MLEN","Muraena lentiginosa","70.55.2656","","","","MURAENIDAE",""]
[null,null,null,"OPMA","Ophioblennius macclurei",null,null,null,null,"MMAC","Malacoctenus macropus","70.55.568","","","","LABRISOMIDAE",""]
[null,null,null,"PACU","Pareques acuminatus",null,null,null,null,"MMIL","Muraena miliaris","70.55.3250","","","","MURAENIDAE",""]
[null,null,null,"PAFU","Paranthias furcifer",null,null,null,null,"MNIG","Melichthys niger","70.55.738","","","","BALISTIDAE",""]
[null,null,null,"PARC","Pomacanthus arcuatus",null,null,null,null,"MOLF","Mycteroperca olfax","70.55.3251","","","","SERRANIDAE",""]
[null,null,null,"PARE","Priacanthus arenatus",null,null,null,null,"MONA","Monacanthus sp.","70.46.381","","","","MONACANTHIDAE",""]
[null,null,null,"PEM","Pempheris sp.",null,null,null,null,"MPHE","Mycteroperca phenax","70.55.309","","","","SERRANIDAE",""]
[null,null,null,"PHEL","Ptereleotris helenae",null,null,null,null,"MPLU","Malacanthus plumieri","70.55.366","","","","MALACANTHIDAE",""]
[null,null,null,"PHIP","Priolepis hipoliti",null,null,null,null,"MTIG","Mycteroperca tigris","70.55.310","","","","SERRANIDAE",""]
[null,null,null,"PINC","Parasphyraenops incisus",null,null,null,null,"MTRI","Malacoctenus triangulatus","70.55.569","","","","LABRISOMIDAE",""]
[null,null,null,"POPA","Pomacanthus paru",null,null,null,null,"MTUC","Monacanthus tuckeri","70.55.747","","","","MONACANTHIDAE",""]
[null,null,null,"PXEN","Phaeoptyx xenus",null,null,null,null,"MUMA","Mulloidichthys martinicus","70.55.494","","","","MULLIDAE",""]
[null,null,null,"RHBI","Rhinesomus bicaudalis",null,null,null,null,"MVID","Melichthys vidua","70.55.3247","","","","BALISTIDAE",""]
[null,null,null,"RSAP","Rypticus saponaceus",null,null,null,null,"MXEN","Mycteroperca xenarcha","70.55.2791","","","","SERRANIDAE",""]
[null,null,null,"RSUB","Rypticus subbifrenatus",null,null,null,null,"MYBR","Myrichthys breviceps","70.55.77","","","","OPHICHTHIDAE",""]
[null,null,null,"RTRI","Rhinesomus triqueter",null,null,null,null,"MYCT","Mycteroperca sp.","70.46.168","","","","SERRANIDAE",""]
[null,null,null,"SADU","Stegastes adustus",null,null,null,null,"MYVE","Mycteroperca venenosa","70.55.311","","","","SERRANIDAE",""]
[null,null,null,"SARA","Sparisoma radians",null,null,null,null,"NDEN","Nicholsina denticulata","70.55.3253","","","","SCARIDAE",""]
[null,null,null,"SATO","Sparisoma atomarium",null,null,null,null,"NMAR","Neoniphon marianus","70.55.228","","","","HOLOCENTRIDAE",""]
[null,null,null,"SBAL","Serranus baldwini",null,null,null,null,"NTAE","Novaculichthys taeniourus","70.55.3272","","","","LABRIDAE",""]
[null,null,null,"SBAR","Sphyraena barracuda",null,null,null,null,"OATL","Ophioblennius atlanticus","70.55.595","","","","BLENNIIDAE",""]
[null,null,null,"SCAV","Scomberomorus cavalla",null,null,null,null,"OAUR","Opisthognathus aurifrons","70.55.339","","","","OPISTOGNATHIDAE",""]
[null,null,null,"SCCO","Scarus coelestinus",null,null,null,null,"OCHR","Ocyurus chrysurus","70.55.416","","","","LUTJANIDAE",""]
[null,null,null,"SCHI","Serranus chionaraia",null,null,null,null,"ODEN","Odontoscion dentex","70.55.479","","","","SCIAENIDAE",""]
[null,null,null,"SCHR","Sparisoma chrysopterum",null,null,null,null,"OGCO","Ogcocephalus sp.","70.46.114","","","","OGCOCEPHALIDAE",""]
[null,null,null,"SCRO","Scarus croicensis",null,null,null,null,"OMAC","Opistognathus macrognathus","70.55.2022","","","","OPISTOGNATHIDAE",""]
[null,null,null,"SDIE","Stegastes diencaeus",null,null,null,null,"OMEL","Ostracion meleagris","70.55.3273","","","","OSTRACIIDAE",""]
[null,null,null,"SERR","Serranus sp.",null,null,null,null,"OPAN","Opistognathus panamensis","70.55.3369","","","","OPISTOGNATHIDAE",""]
[null,null,null,"SFUS","Stegastes fuscus",null,null,null,null,"OPMA","Ophioblennius macclurei","70.55.595","","","","BLENNIIDAE",""]
[null,null,null,"SGUA","Scarus guacamaia",null,null,null,null,"OSTE","Ophioblennius steindachneri","70.55.2657","","","","BLENNIIDAE",""]
[null,null,null,"SISE","Scarus iseri",null,null,null,null,"OTYP","Oxycirrhites typus","70.55.2802","","","","CIRRHITIDAE",""]
[null,null,null,"SLEU","Stegastes leucostictus",null,null,null,null,"OXAN","Odontoscion xanthops","70.55.3254","","","","SCIAENIDAE",""]
[null,null,null,"SPAC","Sphoeroides pachygaster",null,null,null,null,"PACO","Paranthias colonus","70.55.2751","","","","SERRANIDAE",""]
[null,null,null,"SPAR","Stegastes partitus",null,null,null,null,"PACU","Pareques acuminatus","70.55.482","","","","SCIAENIDAE",""]
[null,null,null,"SREG","Scomberomorus regalis",null,null,null,null,"PAFU","Paranthias furcifer","70.55.312","","","","SERRANIDAE",""]
[null,null,null,"SRUB","Sparisoma rubripinne",null,null,null,null,"PARC","Pomacanthus arcuatus","70.55.508","","","","POMACANTHIDAE",""]
[null,null,null,"SSAU","Synodus saurus",null,null,null,null,"PARE","Priacanthus arenatus","70.55.344","","","","PRIACANTHIDAE",""]
[null,null,null,"SSPL","Sphoeroides spengleri",null,null,null,null,"PAZA","Plagiotremus azaleus","70.55.2803","","","","BLENNIIDAE",""]
[null,null,null,"STAB","Serranus tabacarius",null,null,null,null,"PEM","Pempheris sp.","70.46.253","","","","PEMPHERIDAE",""]
[null,null,null,"STAE","Scarus taeniopterus",null,null,null,null,"PHEL","Ptereleotris helenae","70.55.664","","","","MICRODESMIDAE",""]
[null,null,null,"AATR","Apogon atradorsatus",null,null,null,null,"PHIP","Priolepis hipoliti","70.55.656","","","","GOBIIDAE",""]
[null,null,null,"ABCO","Abudefduf concolor",null,null,null,null,"PINC","Parasphyraenops incisus","70.55.313","","","","SERRANIDAE",""]
[null,null,null,"ACAE","Anisotremus caesius",null,null,null,null,"PLAT","Prionurus laticlavius","70.55.3255","","","","ACANTHURIDAE",""]
[null,null,null,"ACAN","Acanthurus sp.",null,null,null,null,"PMAC","Pseudupeneus maculatus","70.55.496","","","","MULLIDAE",""]
[null,null,null,"ACAT","Acanthemblemaria sp.",null,null,null,null,"PNAU","Pseudobalistes naufragium","70.55.3274","","","","BALISTIDAE",""]
[null,null,null,"ACNI","Acanthurus nigricans",null,null,null,null,"POPA","Pomacanthus paru","70.55.509","","","","POMACANTHIDAE",""]
[null,null,null,"ACTR","Acanthurus triostegus",null,null,null,null,"PRIA","Priacanthus sp.","70.46.181","","","","PRIACANTHIDAE",""]
[null,null,null,"ADOV","Apogon dovii",null,null,null,null,"PSCH","Pempheris schomburgkii","70.55.499","","","","PEMPHERIDAE",""]
[null,null,null,"AFUR","Aphareus furca",null,null,null,null,"PSGR","Pseudupeneus grandisquamis","70.55.2755","","","","MULLIDAE",""]
[null,null,null,"AHIA","Ablennes hians",null,null,null,null,"PVOL","Pterois volitans","70.55.3355","","","","SCORPAENIDAE",""]
[null,null,null,"AHIS","Arothron hispidus",null,null,null,null,"PXEN","Phaeoptyx xenus","70.55.363","","","","APOGONIDAE",""]
[null,null,null,"AMEL","Arothron meleagris",null,null,null,null,"PZON","Pomacanthus zonipectus","70.55.2788","","","","POMACANTHIDAE",""]
[null,null,null,"ANAR","Aetobatus narinari",null,null,null,null,"RBIC","Rypticus bicolor","70.55.2759","","","","SERRANIDAE",""]
[null,null,null,"ANIS","Anisotremus sp.",null,null,null,null,"RHBI","Rhinesomus bicaudalis","70.55.753","","","","OSTRACIIDAE",""]
[null,null,null,"APAC","Apogon pacifici",null,null,null,null,"RREM","Remora remora","70.55.370","","","","ECHENEIDAE",""]
[null,null,null,"APOG","Apogon sp.",null,null,null,null,"RSAP","Rypticus saponaceus","70.55.320","","","","SERRANIDAE",""]
[null,null,null,"ARUB","Axoclinus rubinoffi",null,null,null,null,"RSUB","Rypticus subbifrenatus","70.55.321","","","","SERRANIDAE",""]
[null,null,null,"ASCR","Aluterus scriptus",null,null,null,null,"RTRI","Rhinesomus triqueter","70.55.754","","","","OSTRACIIDAE",""]
[null,null,null,"ASTE","Acanthemblemaria stephensi",null,null,null,null,"RTYP","Rhincodon typus","70.55.2","","","","RHINCODONTIDAE",""]
[null,null,null,"ATAE","Anisotremus taeniatus",null,null,null,null,"SACA","Stegastes acapulcoensis","70.55.2653","","","","POMACENTRIDAE",""]
[null,null,null,"ATRO","Abudefduf troschelii",null,null,null,null,"SADU","Stegastes adustus","70.55.521","","","","POMACENTRIDAE",""]
[null,null,null,"AUCH","Aulostomus chinensis",null,null,null,null,"SANN","Sphoeroides annulatus","70.55.2688","","","","TETRAODONTIDAE",""]
[null,null,null,"AXAN","Acanthurus xanthopterus",null,null,null,null,"SARA","Sparisoma radians","70.55.552","","","","SCARIDAE",""]
[null,null,null,"BDIP","Bodianus diplotaenia",null,null,null,null,"SARC","Stegastes arcifrons","70.55.3259","","","","POMACENTRIDAE",""]
[null,null,null,"BOTH","Bothus sp.",null,null,null,null,"SATO","Sparisoma atomarium","70.55.549","","","","SCARIDAE",""]
[null,null,null,"BPOL","Balistes polylepis",null,null,null,null,"SAUR","Sparisoma aurofrenatum","70.55.550","","","","SCARIDAE",""]
[null,null,null,"CACA","Caranx caninus",null,null,null,null,"SBAL","Serranus baldwini","70.55.325","","","","SERRANIDAE",""]
[null,null,null,"CAFI","Caulolatinus affinis",null,null,null,null,"SBAN","Stethojulis bandanensis","70.55.3275","","","","LABRIDAE",""]
[null,null,null,"CALA","Calamus sp.",null,null,null,null,"SBAR","Sphyraena barracuda","70.55.669","","","","SPHYRAENIDAE",""]
[null,null,null,"CATR","Chromis atrilobata",null,null,null,null,"SBRA","Scomberomorus brasiliensis","70.55.682","","","","SCOMBRIDAE",""]
[null,null,null,"CCAB","Caranx caballus",null,null,null,null,"SCAR","Scarus sp.","70.46.275","","","","SCARIDAE",""]
[null,null,null,"CCHA","Chanos chanos",null,null,null,null,"SCAV","Scomberomorus cavalla","70.55.683","","","","SCOMBRIDAE",""]
[null,null,null,"CDUM","Cantherines dumerilii",null,null,null,null,"SCCO","Scarus coelestinus","70.55.543","","","","SCARIDAE",""]
[null,null,null,"CEPH","Cephalopholis sp.",null,null,null,null,"SCES","Scorpaenodes sp.","70.46.156","","","","SCORPAENIDAE",""]
[null,null,null,"CFUR","Chaetodon falcifer",null,null,null,null,"SCHI","Serranus chionaraia","70.55.326","","","","SERRANIDAE",""]
[null,null,null,"CGAL","Carcharhinus galapagensis",null,null,null,null,"SCHR","Sparisoma chrysopterum","70.55.551","","","","SCARIDAE",""]
[null,null,null,"CHUM","Chaetodon humeralis",null,null,null,null,"SCO3","Scarus compressus","70.55.3256","","","","SCARIDAE",""]
[null,null,null,"CJAN","Canthigaster janthinopthera",null,null,null,null,"SCOB","Scomberomorus sp.","70.46.350","","","","SCOMBRIDAE",""]
[null,null,null,"CLUG","Caranx lugubris",null,null,null,null,"SCOE","Scarus coeruleus","70.55.544","","","","SCARIDAE",""]
[null,null,null,"CMAR","Ctenochaetus marginatus",null,null,null,null,"SCRO","Scarus croicensis","70.55.545","","","","SCARIDAE",""]
[null,null,null,"CMEL","Caranx melampygus",null,null,null,null,"SDIE","Stegastes diencaeus","70.55.520","","","","POMACENTRIDAE",""]
[null,null,null,"CORA","Coralliozetus sp.",null,null,null,null,"SENA","Scorpaena sp.","70.46.155","","","","SCORPAENIDAE",""]
[null,null,null,"CORY","Coryphopterus sp.",null,null,null,null,"SENS","Sphyraena ensis","70.55.2689","","","","SPHYRAENIDAE",""]
[null,null,null,"COSM","Cosmocampus sp.",null,null,null,null,"SERR","Serranus sp.","70.46.175","CHORDATA","","","SERRANIDAE",""]
[null,null,null,"CPAN","Cephalopholis panamensis",null,null,null,null,"SFAS","Serranus fasciatus","70.46.175","","","","SERRANIDAE",""]
[null,null,null,"CPUN","Canthigaster punctatissima",null,null,null,null,"SFLA","Stegastes flavilatus","70.55.2768","","","","POMACENTRIDAE",""]
[null,null,null,"CRET","Chilomycterus reticulatus",null,null,null,null,"SFUS","Stegastes fuscus","70.55.3260","","","","POMACENTRIDAE",""]
[null,null,null,"CRIV","Cirrhithus rivulatus",null,null,null,null,"SGHO","Scarus ghobban","70.55.2760","","","","SCARIDAE",""]
[null,null,null,"CSEX","Caranx sexfasciatus",null,null,null,null,"SGUA","Scarus guacamaia","70.55.546","","","","SCARIDAE",""]
[null,null,null,"CTUS","Canthidermis maculatus",null,null,null,null,"SHIS","Scorpaena histrio","70.55.2390","","","","SCORPAENIDAE",""]
[null,null,null,"CURO","Coryphopterus urospilus",null,null,null,null,"SISE","Scarus iseri","70.55.3576","","","","SCARIDAE",""]
[null,null,null,"DDER","Dermatolepis dermatolepis",null,null,null,null,"SLAL","Seriola lalandi","70.55.2763","","","","CARANGIDAE",""]
[null,null,null,"DEXC","Doryrhamphus excisus",null,null,null,null,"SLEU","Stegastes leucostictus","70.55.522","","","","POMACENTRIDAE",""]
[null,null,null,"DHOL","Diodon holocanthus",null,null,null,null,"SLEW","Sphyrna lewini","70.55.19","","","","SPHYRNIDAE",""]
[null,null,null,"EADS","Epinephelus adscensionis",null,null,null,null,"SLOB","Sphoeroides lobatus","70.55.2632","","","","TETRAODONTIDAE",""]
[null,null,null,"EAFF","Elops affinis",null,null,null,null,"SLUC","Sphyraena lucasana","70.55.3258","","","","SPHYRAENIDAE",""]
[null,null,null,"EBIP","Elagatis bipinnulata",null,null,null,null,"SMYS","Scorpaena mystes","70.55.2660","","","","SCORPAENIDAE",""]
[null,null,null,"EDIG","Elacatinus digueti",null,null,null,null,"SOCY","Sectator ocyurus","70.55.2799","","","","KYPHOSIDAE",""]
[null,null,null,"EINO","Elacatinus inornatus",null,null,null,null,"SPAC","Sphoeroides pachygaster","70.55.761","","","","TETRAODONTIDAE",""]
[null,null,null,"EITA","Epinephelus itajara",null,null,null,null,"SPAR","Stegastes partitus","70.55.523","","","","POMACENTRIDAE",""]
[null,null,null,"ELAB","Epinephelus labriformis",null,null,null,null,"SPER","Scarus perrico","70.55.3257","","","","SCARIDAE",""]
[null,null,null,"ELUS","Elacatinus sp.",null,null,null,null,"SPIC","Sphyraena picudilla","70.55.671","","","","SPHYRAENIDAE",""]
[null,null,null,"EMBL","Emblemariopsis sp.",null,null,null,null,"SPLA","Stegastes planifrons","70.55.524","","","","POMACENTRIDAE",""]
[null,null,null,"ENEB","Echidna nebulosa",null,null,null,null,"SPLU","Scorpaena plumieri","70.55.264","","","","SCORPAENIDAE",""]
[null,null,null,"EPAN","Epinephelus panamensis",null,null,null,null,"SPSI","Serranus psittacinus","70.55.2659","","","","SERRANIDAE",""]
[null,null,null,"STIG","Serranus tigrinus",null,null,null,null,"SPSP","Sparisoma sp.","70.46.276","","","","SCARIDAE",""]
[null,null,null,"STOR","Serranus tortugarum",null,null,null,null,"SQEN","Sphyraena qenie","70.55.3367","","","","SPHYRAENIDAE",""]
[null,null,null,"SVAR","Stegastes variabilis",null,null,null,null,"SREC","Stegastes rectifraenum","70.55.2767","","","","POMACENTRIDAE",""]
[null,null,null,"SVET","Scarus vetula",null,null,null,null,"SREG","Scomberomorus regalis","70.55.684","","","","SCOMBRIDAE",""]
[null,null,null,"SVEX","Sargocentron vexillarium",null,null,null,null,"SRIV","Seriola rivoliana","70.55.396","","","","CARANGIDAE",""]
[null,null,null,"SVIR","Sparisoma viride",null,null,null,null,"SRUB","Sparisoma rubripinne","70.55.553","","","","SCARIDAE",""]
[null,null,null,"SYIN","Synodus intermedius",null,null,null,null,"SRUR","Scarus rubroviolaceus","70.46.275","","","","SCARIDAE",""]
[null,null,null,"TBIF","Thalassoma bifasciatum",null,null,null,null,"SSAU","Synodus saurus","70.55.144","","","","SYNODONTIDAE",""]
[null,null,null,"TFAL","Trachinotus falcatus",null,null,null,null,"SSCA","Strongylura scapularis","70.55.3262","","","","BELONIDAE",""]
[null,null,null,"UJAM","Urobatis jamaicensis",null,null,null,null,"SSIE","Scomberomorus sierra","70.55.2686","","","","SCOMBRIDAE",""]
[null,null,null,"XMAR","Xyrichtys martinicensis",null,null,null,null,"SSPL","Sphoeroides spengleri","70.55.762","","","","TETRAODONTIDAE",""]
[null,null,null,"XNOV","Xyrichtys novacula",null,null,null,null,"SSUB","Sargocentron suborbitalis","70.55.2639","","","","HOLOCENTRIDAE",""]
[null,null,null,"XRIN","Xanthichthys ringens",null,null,null,null,"STAB","Serranus tabacarius","70.55.331","","","","SERRANIDAE",""]
[null,null,null,"XSPL","Xyrichthys splendens",null,null,null,null,"STAE","Scarus taeniopterus","70.55.547","","","","SCARIDAE",""]
[null,null,null,"COXY","Cirrhitichthys oxycephalus",null,null,null,null,"STIG","Serranus tigrinus","70.55.331","","","","SERRANIDAE",""]
[null,null,null,"DHYS","Diodon hystrix",null,null,null,null,"STLE","Stegastes leucorus","70.55.3261","","","","POMACENTRIDAE",""]
[null,null,null,"EEVE","Elacatinus evelynae",null,null,null,null,"STOR","Serranus tortugarum","70.55.332","","","","SERRANIDAE",""]
[null,null,null,"ELPU","Elacatinus punticulatus",null,null,null,null,"SVAR","Stegastes variabilis","70.55.525","","","","POMACENTRIDAE",""]
[null,null,null,"EATL","Emmelichthyops atlanticus",null,null,null,null,"SVER","Sufflamen verres","70.55.2795","","","","BALISTIDAE",""]
[null,null,null,"EANA","Epinephelus analogus",null,null,null,null,"SVET","Scarus vetula","70.55.548","","","","SCARIDAE",""]
[null,null,null,"EPUN","Equetus punctatus",null,null,null,null,"SVEX","Sargocentron vexillarium","70.55.232","","","","HOLOCENTRIDAE",""]
[null,null,null,"GFUN","Gymnothorax funebris",null,null,null,null,"SVIR","Sparisoma viride","70.55.554","","","","SCARIDAE",""]
[null,null,null,"HBIV","Halichoeres bivittatus",null,null,null,null,"SXYR","Scorpaenodes xyris","70.55.2761","","","","SCORPAENIDAE",""]
[null,null,null,"OATL","Ophioblennius atlanticus",null,null,null,null,"SYIN","Synodus intermedius","70.55.142","","","","SYNODONTIDAE",""]
[null,null,null,"OSTE","Ophioblennius steindachneri",null,null,null,null,"SYLA","Synodus lacertinus","70.55.2654","","","","SYNODONTIDAE",""]
[null,null,null,"PSCH","Pempheris schomburgkii",null,null,null,null,"SYNO","Synodus sp.","70.46.88","","","","SYNODONTIDAE",""]
[null,null,null,"PSGR","Pseudupeneus grandisquamis",null,null,null,null,"TACU","Tylosurus acus pacificus","70.58.3","","","","BELONIDAE",""]
[null,null,null,"PMAC","Pseudupeneus maculatus",null,null,null,null,"TALB","Thunnus albacares","70.55.2567","CHORDATA","","","SCOMBRIDAE",""]
[null,null,null,"SCOE","Scarus coeruleus",null,null,null,null,"TBIF","Thalassoma bifasciatum","70.55.539","CHORDATA","","","LABRIDAE",""]
[null,null,null,"SPER","Scarus perrico",null,null,null,null,"TCRO","Tylosurus crocodilus","70.55.208","CHORDATA","","","BELONIDAE",""]
[null,null,null,"SBRA","Scomberomorus brasiliensis",null,null,null,null,"TFAL","Trachinotus falcatus","70.55.399","CHORDATA","","","CARANGIDAE",""]
[null,null,null,"SMYS","Scorpaena mystes",null,null,null,null,"TGRA","Thalassoma grammaticum","70.55.3263","CHORDATA","","","LABRIDAE",""]
[null,null,null,"SXYR","Scorpaenodes xyris",null,null,null,null,"TLUC","Thalassoma lucasanum","70.55.2662","CHORDATA","","","LABRIDAE",""]
[null,null,null,"SPSI","Serranus psittacinus",null,null,null,null,"TOBE","Triaenodon obesus","70.55.2796","CHORDATA","","","CARCHARHINIDAE",""]
[null,null,null,"SAUR","Sparisoma aurofrenatum",null,null,null,null,"TSTI","Trachinotus stilbe","70.55.3264","CHORDATA","","","CARANGIDAE",""]
[null,null,null,"SPIC","Sphyraena picudilla",null,null,null,null,"TYLO","Tylosurus sp.","70.46.126","CHORDATA","","","BELONIDAE",""]
[null,null,null,"SQEN","Sphyraena qenie",null,null,null,null,"UJAM","Urobatis jamaicensis","70.55.38","","","","UROTRYGONIDAE",""]
[null,null,null,"SPLA","Stegastes planifrons",null,null,null,null,"XMAR","Xyrichtys martinicensis","70.55.2538","","","","LABRIDAE",""]
[null,null,null,"SREC","Stegastes rectifraenum",null,null,null,null,"XMEN","Xanthichthys mento","70.55.3265","","","","BALISTIDAE",""]
[null,null,null,"TACU","Tylosurus acus pacificus",null,null,null,null,"XNOV","Xyrichtys novacula","70.55.540","","","","LABRIDAE",""]
[null,null,null,"CCRU","Cephalopholis cruentata (Lacepède, 1802)",null,null,null,null,"XRIN","Xanthichthys ringens","70.55.739","","","","BALISTIDAE",""]
[null,null,null,"AMUL","Alphestes multiguttatus (Günther, 1867)",null,null,null,null,"XSPL","Xyrichthys splendens","70.55.2539","","","","LABRIDAE",""]
[null,null,null,"TGRA","Thalassoma grammaticum",null,null,null,null,"ZCOR","Zanclus cornutus","70.55.3276","","","","ZANCLIDAE",""]

{"sheet":"OTRAS REFERENTES","index":5,"n_rows":169,"n_cols":18,"rows_kept":169,"cut":false,"hidden":false,"merged":[[0,0,2,10],[4,0,4,1],[4,5,4,6],[11,0,11,2]]}
["Estas son listas para variables con valores que no se encuentran codificados, pero que deben manejarse de manera estandarizada. \nSi se requiere agregar un valor nuevo hagalo debajo de la lista correspondiente"]
[null,null,null,null,null,null,null,null,null,null,null,null,{"$f":"IF(OR(referentes!U2=96222,referentes!U2=\"\"),\"\",referentes!T2&referentes!U2)","v":"ACU1"},{"$f":"referentes!S2","v":14311},{"$f":"referentes!W2","v":"Acuario 1"},null,{"$f":"IF(OR(referentes!U2=96222,referentes!U2=\"\"),\"\",referentes!T2)","v":"ACU"},{"$f":"IFERROR(INDEX( $Q$2:$Q$150, MATCH(0, INDEX(COUNTIF($R$1:R1,$Q$2:$Q$150), 0, 0), 0)), \"\")","v":"ACU"}]
[null,null,null,null,null,null,null,null,null,null,null,null,{"$f":"IF(OR(referentes!U3=96222,referentes!U3=\"\"),\"\",referentes!T3&referentes!U3)","v":"ACU2"},{"$f":"referentes!S3","v":14312},{"$f":"referentes!W3","v":"Acuario 2"},null,{"$f":"IF(OR(referentes!U3=96222,referentes!U3=\"\"),\"\",referentes!T3)","v":"ACU"},{"$f":"IFERROR(INDEX( $Q$2:$Q$150, MATCH(0, INDEX(COUNTIF($R$1:R2,$Q$2:$Q$150), 0, 0), 0)), \"\")","v":"AGU"}]
[null,null,null,null,null,null,null,null,null,null,null,null,{"$f":"IF(OR(referentes!U4=96222,referentes!U4=\"\"),\"\",referentes!T4&referentes!U4)","v":"AGU1"},{"$f":"referentes!S4","v":14338},{"$f":"referentes!W4","v":"Aguacate S"},null,{"$f":"IF(OR(referentes!U4=96222,referentes!U4=\"\"),\"\",referentes!T4)","v":"AGU"},{"$f":"IFERROR(INDEX( $Q$2:$Q$150, MATCH(0, INDEX(COUNTIF($R$1:R3,$Q$2:$Q$150), 0, 0), 0)), \"\")","v":"AZU"}]
["PROFUNDIDAD",null,null,"METODOS",null,"PROYECTOS",null,null,null,null,null,null,{"$f":"IF(OR(referentes!U5=96222,referentes!U5=\"\"),\"\",referentes!T5&referentes!U5)","v":"AZU1"},{"$f":"referentes!S5","v":14341},{"$f":"referentes!W5","v":"Azufrada 1"},null,{"$f":"IF(OR(referentes!U5=96222,referentes!U5=\"\"),\"\",referentes!T5)","v":"AZU"},{"$f":"IFERROR(INDEX( $Q$2:$Q$150, MATCH(0, INDEX(COUNTIF($R$1:R4,$Q$2:$Q$150), 0, 0), 0)), \"\")","v":"POR"}]
["Descripcion","Codigo",null,"NOMBRE_MT","CODIGO","TITULO","ID_PROYECTO",null,null,null,null,null,{"$f":"IF(OR(referentes!U6=96222,referentes!U6=\"\"),\"\",referentes!T6&referentes!U6)","v":"AZU2"},{"$f":"referentes!S6","v":14342},{"$f":"referentes!W6","v":"Azufrada 2"},null,{"$f":"IF(OR(referentes!U6=96222,referentes!U6=\"\"),\"\",referentes!T6)","v":"AZU"},{"$f":"IFERROR(INDEX( $Q$2:$Q$150, MATCH(0, INDEX(COUNTIF($R$1:R5,$Q$2:$Q$150), 0, 0), 0)), \"\")","v":"BGO"}]
["Somero","S",null,"Manual de métodos de SIMAC: Cadena rotulada cada diez eslabones","Car","Sistema de Monitoreo de los Arrecifes Coralinos en Colombia",1480,null,null,null,null,null,{"$f":"IF(OR(referentes!U7=96222,referentes!U7=\"\"),\"\",referentes!T7&referentes!U7)","v":"POR1"},{"$f":"referentes!S7","v":43726},{"$f":"referentes!W7","v":"Bahía Portete"},null,{"$f":"IF(OR(referentes!U7=96222,referentes!U7=\"\"),\"\",referentes!T7)","v":"POR"},{"$f":"IFERROR(INDEX( $Q$2:$Q$150, MATCH(0, INDEX(COUNTIF($R$1:R6,$Q$2:$Q$150), 0, 0), 0)), \"\")","v":"CTI"}]
["Medio","M",null,null,null,"CORALINA 002-18",3422,null,null,null,null,null,{"$f":"IF(OR(referentes!U8=96222,referentes!U8=\"\"),\"\",referentes!T8&referentes!U8)","v":"BGO1"},{"$f":"referentes!S8","v":55425},{"$f":"referentes!W8","v":"Bonito Gordo (PNN Tayrona)"},null,{"$f":"IF(OR(referentes!U8=96222,referentes!U8=\"\"),\"\",referentes!T8)","v":"BGO"},{"$f":"IFERROR(INDEX( $Q$2:$Q$150, MATCH(0, INDEX(COUNTIF($R$1:R7,$Q$2:$Q$150), 0, 0), 0)), \"\")","v":"CAP"}]
["Profundo","P",null,null,null,null,null,null,null,null,null,null,{"$f":"IF(OR(referentes!U9=96222,referentes!U9=\"\"),\"\",referentes!T9&referentes!U9)","v":"CTI2"},{"$f":"referentes!S9","v":14333},{"$f":"referentes!W9","v":"Cabo Tiburón M"},null,{"$f":"IF(OR(referentes!U9=96222,referentes!U9=\"\"),\"\",referentes!T9)","v":"CTI"},{"$f":"IFERROR(INDEX( $Q$2:$Q$150, MATCH(0, INDEX(COUNTIF($R$1:R8,$Q$2:$Q$150), 0, 0), 0)), \"\")","v":"FAN"}]
[null,null,null,null,null,null,null,null,null,null,null,null,{"$f":"IF(OR(referentes!U10=96222,referentes!U10=\"\"),\"\",referentes!T10&referentes!U10)","v":"CTI1"},{"$f":"referentes!S10","v":14334},{"$f":"referentes!W10","v":"Cabo Tiburón S"},null,{"$f":"IF(OR(referentes!U10=96222,referentes!U10=\"\"),\"\",referentes!T10)","v":"CTI"},{"$f":"IFERROR(INDEX( $Q$2:$Q$150, MATCH(0, INDEX(COUNTIF($R$1:R9,$Q$2:$Q$150), 0, 0), 0)), \"\")","v":"CEY"}]
[null,null,null,null,null,null,null,null,null,null,null,null,{"$f":"IF(OR(referentes!U11=96222,referentes!U11=\"\"),\"\",referentes!T11&referentes!U11)","v":"CAP1"},{"$f":"referentes!S11","v":14336},{"$f":"referentes!W11","v":"Capurganá 1"},null,{"$f":"IF(OR(referentes!U11=96222,referentes!U11=\"\"),\"\",referentes!T11)","v":"CAP"},{"$f":"IFERROR(INDEX( $Q$2:$Q$150, MATCH(0, INDEX(COUNTIF($R$1:R10,$Q$2:$Q$150), 0, 0), 0)), \"\")","v":"CHE"}]
["CODIGOS LOV",null,null,null,null,null,null,null,null,null,null,null,{"$f":"IF(OR(referentes!U12=96222,referentes!U12=\"\"),\"\",referentes!T12&referentes!U12)","v":"CAP2"},{"$f":"referentes!S12","v":14337},{"$f":"referentes!W12","v":"Capurganá 2"},null,{"$f":"IF(OR(referentes!U12=96222,referentes!U12=\"\"),\"\",referentes!T12)","v":"CAP"},{"$f":"IFERROR(INDEX( $Q$2:$Q$150, MATCH(0, INDEX(COUNTIF($R$1:R11,$Q$2:$Q$150), 0, 0), 0)), \"\")","v":"CIN"}]
["DESCRIPCIÓN","CÓDIGO","GRUPO",null,null,null,null,null,null,null,null,null,{"$f":"IF(OR(referentes!U13=96222,referentes!U13=\"\"),\"\",referentes!T13&referentes!U13)","v":"FAN1"},{"$f":"referentes!S13","v":58217},{"$f":"referentes!W13","v":"Cara del Fantasma"},null,{"$f":"IF(OR(referentes!U13=96222,referentes!U13=\"\"),\"\",referentes!T13)","v":"FAN"},{"$f":"IFERROR(INDEX( $Q$2:$Q$150, MATCH(0, INDEX(COUNTIF($R$1:R12,$Q$2:$Q$150), 0, 0), 0)), \"\")","v":"MAL"}]
["Departamento",10,2,null,null,null,null,null,null,null,null,null,{"$f":"IF(OR(referentes!U14=96222,referentes!U14=\"\"),\"\",referentes!T14&referentes!U14)","v":"CEY1"},{"$f":"referentes!S14","v":14331},{"$f":"referentes!W14","v":"Ceycen 1"},null,{"$f":"IF(OR(referentes!U14=96222,referentes!U14=\"\"),\"\",referentes!T14)","v":"CEY"},{"$f":"IFERROR(INDEX( $Q$2:$Q$150, MATCH(0, INDEX(COUNTIF($R$1:R13,$Q$2:$Q$150), 0, 0), 0)), \"\")","v":"CAN"}]
["Sector",20,2,null,null,null,null,null,null,null,null,null,{"$f":"IF(OR(referentes!U15=96222,referentes!U15=\"\"),\"\",referentes!T15&referentes!U15)","v":"CEY2"},{"$f":"referentes!S15","v":14308},{"$f":"referentes!W15","v":"Ceycen 2"},null,{"$f":"IF(OR(referentes!U15=96222,referentes!U15=\"\"),\"\",referentes!T15)","v":"CEY"},{"$f":"IFERROR(INDEX( $Q$2:$Q$150, MATCH(0, INDEX(COUNTIF($R$1:R14,$Q$2:$Q$150), 0, 0), 0)), \"\")","v":"MRO"}]
["Punto",30,2,null,null,null,null,null,null,null,null,null,{"$f":"IF(OR(referentes!U16=96222,referentes!U16=\"\"),\"\",referentes!T16&referentes!U16)","v":"CEY3"},{"$f":"referentes!S16","v":41651},{"$f":"referentes!W16","v":"Ceycen 3"},null,{"$f":"IF(OR(referentes!U16=96222,referentes!U16=\"\"),\"\",referentes!T16)","v":"CEY"},{"$f":"IFERROR(INDEX( $Q$2:$Q$150, MATCH(0, INDEX(COUNTIF($R$1:R15,$Q$2:$Q$150), 0, 0), 0)), \"\")","v":"EMI"}]
["Parcela",35,2,null,null,null,null,null,null,null,null,null,{"$f":"IF(OR(referentes!U17=96222,referentes!U17=\"\"),\"\",referentes!T17&referentes!U17)","v":"CHE4"},{"$f":"referentes!S17","v":41705},{"$f":"referentes!W17","v":"Chengue Acropora"},null,{"$f":"IF(OR(referentes!U17=96222,referentes!U17=\"\"),\"\",referentes!T17)","v":"CHE"},{"$f":"IFERROR(INDEX( $Q$2:$Q$150, MATCH(0, INDEX(COUNTIF($R$1:R16,$Q$2:$Q$150), 0, 0), 0)), \"\")","v":"GAY"}]
["Estaciones",40,2,null,null,null,null,null,null,null,null,null,{"$f":"IF(OR(referentes!U18=96222,referentes!U18=\"\"),\"\",referentes!T18&referentes!U18)","v":"CHE3"},{"$f":"referentes!S18","v":15508},{"$f":"referentes!W18","v":"Chengue Pastos"},null,{"$f":"IF(OR(referentes!U18=96222,referentes!U18=\"\"),\"\",referentes!T18)","v":"CHE"},{"$f":"IFERROR(INDEX( $Q$2:$Q$150, MATCH(0, INDEX(COUNTIF($R$1:R17,$Q$2:$Q$150), 0, 0), 0)), \"\")","v":"GRA"}]
["Region",50,2,null,null,null,null,null,null,null,null,null,{"$f":"IF(OR(referentes!U19=96222,referentes!U19=\"\"),\"\",referentes!T19&referentes!U19)","v":"CHE1"},{"$f":"referentes!S19","v":14297},{"$f":"referentes!W19","v":"Chengue..C1"},null,{"$f":"IF(OR(referentes!U19=96222,referentes!U19=\"\"),\"\",referentes!T19)","v":"CHE"},{"$f":"IFERROR(INDEX( $Q$2:$Q$150, MATCH(0, INDEX(COUNTIF($R$1:R18,$Q$2:$Q$150), 0, 0), 0)), \"\")","v":"IGU"}]
["Unidad_de_Manejo",60,2,null,null,null,null,null,null,null,null,null,{"$f":"IF(OR(referentes!U20=96222,referentes!U20=\"\"),\"\",referentes!T20&referentes!U20)","v":"CHE2"},{"$f":"referentes!S20","v":14298},{"$f":"referentes!W20","v":"Chengue..C2"},null,{"$f":"IF(OR(referentes!U20=96222,referentes!U20=\"\"),\"\",referentes!T20)","v":"CHE"},{"$f":"IFERROR(INDEX( $Q$2:$Q$150, MATCH(0, INDEX(COUNTIF($R$1:R19,$Q$2:$Q$150), 0, 0), 0)), \"\")","v":"ARE"}]
["Unidad_Ambiental_Costera",70,2,null,null,null,null,null,null,null,null,null,{"$f":"IF(OR(referentes!U21=96222,referentes!U21=\"\"),\"\",referentes!T21&referentes!U21)","v":"CIN2"},{"$f":"referentes!S21","v":41704},{"$f":"referentes!W21","v":"Cinto expuesto"},null,{"$f":"IF(OR(referentes!U21=96222,referentes!U21=\"\"),\"\",referentes!T21)","v":"CIN"},{"$f":"IFERROR(INDEX( $Q$2:$Q$150, MATCH(0, INDEX(COUNTIF($R$1:R20,$Q$2:$Q$150), 0, 0), 0)), \"\")","v":"IGR"}]
["Localidad",80,2,null,null,null,null,null,null,null,null,null,{"$f":"IF(OR(referentes!U22=96222,referentes!U22=\"\"),\"\",referentes!T22&referentes!U22)","v":"CIN1"},{"$f":"referentes!S22","v":41703},{"$f":"referentes!W22","v":"Cinto protegido"},null,{"$f":"IF(OR(referentes!U22=96222,referentes!U22=\"\"),\"\",referentes!T22)","v":"CIN"},{"$f":"IFERROR(INDEX( $Q$2:$Q$150, MATCH(0, INDEX(COUNTIF($R$1:R21,$Q$2:$Q$150), 0, 0), 0)), \"\")","v":"JCA"}]
["Bloque_Exploracion",85,2,null,null,null,null,null,null,null,null,null,{"$f":"IF(OR(referentes!U23=96222,referentes!U23=\"\"),\"\",referentes!T23&referentes!U23)","v":"MAL1"},{"$f":"referentes!S23","v":14325},{"$f":"referentes!W23","v":"El Arrecife"},null,{"$f":"IF(OR(referentes!U23=96222,referentes!U23=\"\"),\"\",referentes!T23)","v":"MAL"},{"$f":"IFERROR(INDEX( $Q$2:$Q$150, MATCH(0, INDEX(COUNTIF($R$1:R22,$Q$2:$Q$150), 0, 0), 0)), \"\")","v":"CHO"}]
["Area",90,2,null,null,null,null,null,null,null,null,null,{"$f":"IF(OR(referentes!U24=96222,referentes!U24=\"\"),\"\",referentes!T24&referentes!U24)","v":"CAN1"},{"$f":"referentes!S24","v":14315},{"$f":"referentes!W24","v":"El Canal 1"},null,{"$f":"IF(OR(referentes!U24=96222,referentes!U24=\"\"),\"\",referentes!T24)","v":"CAN"},{"$f":"IFERROR(INDEX( $Q$2:$Q$150, MATCH(0, INDEX(COUNTIF($R$1:R23,$Q$2:$Q$150), 0, 0), 0)), \"\")","v":"COC"}]
[null,null,null,null,null,null,null,null,null,null,null,null,{"$f":"IF(OR(referentes!U25=96222,referentes!U25=\"\"),\"\",referentes!T25&referentes!U25)","v":"CAN2"},{"$f":"referentes!S25","v":14316},{"$f":"referentes!W25","v":"El Canal 2"},null,{"$f":"IF(OR(referentes!U25=96222,referentes!U25=\"\"),\"\",referentes!T25)","v":"CAN"},{"$f":"IFERROR(INDEX( $Q$2:$Q$150, MATCH(0, INDEX(COUNTIF($R$1:R24,$Q$2:$Q$150), 0, 0), 0)), \"\")","v":"VEN"}]
[null,null,null,null,null,null,null,null,null,null,null,null,{"$f":"IF(OR(referentes!U26=96222,referentes!U26=\"\"),\"\",referentes!T26&referentes!U26)","v":"MRO1"},{"$f":"referentes!S26","v":14303},{"$f":"referentes!W26","v":"El Morro"},null,{"$f":"IF(OR(referentes!U26=96222,referentes!U26=\"\"),\"\",referentes!T26)","v":"MRO"},{"$f":"IFERROR(INDEX( $Q$2:$Q$150, MATCH(0, INDEX(COUNTIF($R$1:R25,$Q$2:$Q$150), 0, 0), 0)), \"\")","v":"PAL"}]
[null,null,null,null,null,null,null,null,null,null,null,null,{"$f":"IF(OR(referentes!U27=96222,referentes!U27=\"\"),\"\",referentes!T27&referentes!U27)","v":"EMI1"},{"$f":"referentes!S27","v":14309},{"$f":"referentes!W27","v":"Emisario 1"},null,{"$f":"IF(OR(referentes!U27=96222,referentes!U27=\"\"),\"\",referentes!T27)","v":"EMI"},{"$f":"IFERROR(INDEX( $Q$2:$Q$150, MATCH(0, INDEX(COUNTIF($R$1:R26,$Q$2:$Q$150), 0, 0), 0)), \"\")","v":"MAR"}]
[null,null,null,null,null,null,null,null,null,null,null,null,{"$f":"IF(OR(referentes!U28=96222,referentes!U28=\"\"),\"\",referentes!T28&referentes!U28)","v":"EMI2"},{"$f":"referentes!S28","v":14310},{"$f":"referentes!W28","v":"Emisario 2"},null,{"$f":"IF(OR(referentes!U28=96222,referentes!U28=\"\"),\"\",referentes!T28)","v":"EMI"},{"$f":"IFERROR(INDEX( $Q$2:$Q$150, MATCH(0, INDEX(COUNTIF($R$1:R27,$Q$2:$Q$150), 0, 0), 0)), \"\")","v":"MAN"}]
[null,null,null,null,null,null,null,null,null,null,null,null,{"$f":"IF(OR(referentes!U29=96222,referentes!U29=\"\"),\"\",referentes!T29&referentes!U29)","v":"GAY1"},{"$f":"referentes!S29","v":14302},{"$f":"referentes!W29","v":"Gayraca 1"},null,{"$f":"IF(OR(referentes!U29=96222,referentes!U29=\"\"),\"\",referentes!T29)","v":"GAY"},{"$f":"IFERROR(INDEX( $Q$2:$Q$150, MATCH(0, INDEX(COUNTIF($R$1:R28,$Q$2:$Q$150), 0, 0), 0)), \"\")","v":"MAZ"}]
[null,null,null,null,null,null,null,null,null,null,null,null,{"$f":"IF(OR(referentes!U30=96222,referentes!U30=\"\"),\"\",referentes!T30&referentes!U30)","v":"GAY2"},{"$f":"referentes!S30","v":14323},{"$f":"referentes!W30","v":"Gayraca 2"},null,{"$f":"IF(OR(referentes!U30=96222,referentes!U30=\"\"),\"\",referentes!T30)","v":"GAY"},{"$f":"IFERROR(INDEX( $Q$2:$Q$150, MATCH(0, INDEX(COUNTIF($R$1:R29,$Q$2:$Q$150), 0, 0), 0)), \"\")","v":"MRC"}]
[null,null,null,null,null,null,null,null,null,null,null,null,{"$f":"IF(OR(referentes!U31=96222,referentes!U31=\"\"),\"\",referentes!T31&referentes!U31)","v":"GRA1"},{"$f":"referentes!S31","v":14324},{"$f":"referentes!W31","v":"Granate 1"},null,{"$f":"IF(OR(referentes!U31=96222,referentes!U31=\"\"),\"\",referentes!T31)","v":"GRA"},{"$f":"IFERROR(INDEX( $Q$2:$Q$150, MATCH(0, INDEX(COUNTIF($R$1:R30,$Q$2:$Q$150), 0, 0), 0)), \"\")","v":"MIN"}]
[null,null,null,null,null,null,null,null,null,null,null,null,{"$f":"IF(OR(referentes!U32=96222,referentes!U32=\"\"),\"\",referentes!T32&referentes!U32)","v":"IGU1"},{"$f":"referentes!S32","v":14339},{"$f":"referentes!W32","v":"Iguana"},null,{"$f":"IF(OR(referentes!U32=96222,referentes!U32=\"\"),\"\",referentes!T32)","v":"IGU"},{"$f":"IFERROR(INDEX( $Q$2:$Q$150, MATCH(0, INDEX(COUNTIF($R$1:R31,$Q$2:$Q$150), 0, 0), 0)), \"\")","v":"4400147CORA100"}]
[null,null,null,null,null,null,null,null,null,null,null,null,{"$f":"IF(OR(referentes!U33=96222,referentes!U33=\"\"),\"\",referentes!T33&referentes!U33)","v":"ARE1"},{"$f":"referentes!S33","v":41546},{"$f":"referentes!W33","v":"Isla Arena"},null,{"$f":"IF(OR(referentes!U33=96222,referentes!U33=\"\"),\"\",referentes!T33)","v":"ARE"},{"$f":"IFERROR(INDEX( $Q$2:$Q$150, MATCH(0, INDEX(COUNTIF($R$1:R32,$Q$2:$Q$150), 0, 0), 0)), \"\")","v":"NCH"}]
[null,null,null,null,null,null,null,null,null,null,null,null,{"$f":"IF(OR(referentes!U34=96222,referentes!U34=\"\"),\"\",referentes!T34&referentes!U34)","v":"IGR1"},{"$f":"referentes!S34","v":41545},{"$f":"referentes!W34","v":"Isla Grande"},null,{"$f":"IF(OR(referentes!U34=96222,referentes!U34=\"\"),\"\",referentes!T34)","v":"IGR"},{"$f":"IFERROR(INDEX( $Q$2:$Q$150, MATCH(0, INDEX(COUNTIF($R$1:R33,$Q$2:$Q$150), 0, 0), 0)), \"\")","v":"NEG"}]
[null,null,null,null,null,null,null,null,null,null,null,null,{"$f":"IF(OR(referentes!U35=96222,referentes!U35=\"\"),\"\",referentes!T35&referentes!U35)","v":"JCA1"},{"$f":"referentes!S35","v":48967},{"$f":"referentes!W35","v":"Johnny Cay"},null,{"$f":"IF(OR(referentes!U35=96222,referentes!U35=\"\"),\"\",referentes!T35)","v":"JCA"},{"$f":"IFERROR(INDEX( $Q$2:$Q$150, MATCH(0, INDEX(COUNTIF($R$1:R34,$Q$2:$Q$150), 0, 0), 0)), \"\")","v":"NET"}]
[null,null,null,null,null,null,null,null,null,null,null,null,{"$f":"IF(OR(referentes!U36=96222,referentes!U36=\"\"),\"\",referentes!T36&referentes!U36)","v":"CHO1"},{"$f":"referentes!S36","v":14296},{"$f":"referentes!W36","v":"La Chola 1"},null,{"$f":"IF(OR(referentes!U36=96222,referentes!U36=\"\"),\"\",referentes!T36)","v":"CHO"},{"$f":"IFERROR(INDEX( $Q$2:$Q$150, MATCH(0, INDEX(COUNTIF($R$1:R35,$Q$2:$Q$150), 0, 0), 0)), \"\")","v":"PAV"}]
[null,null,null,null,null,null,null,null,null,null,null,null,{"$f":"IF(OR(referentes!U37=96222,referentes!U37=\"\"),\"\",referentes!T37&referentes!U37)","v":"CHO2"},{"$f":"referentes!S37","v":14326},{"$f":"referentes!W37","v":"La Chola 2"},null,{"$f":"IF(OR(referentes!U37=96222,referentes!U37=\"\"),\"\",referentes!T37)","v":"CHO"},{"$f":"IFERROR(INDEX( $Q$2:$Q$150, MATCH(0, INDEX(COUNTIF($R$1:R36,$Q$2:$Q$150), 0, 0), 0)), \"\")","v":"PLA"}]
[null,null,null,null,null,null,null,null,null,null,null,null,{"$f":"IF(OR(referentes!U38=96222,referentes!U38=\"\"),\"\",referentes!T38&referentes!U38)","v":"CHO3"},{"$f":"referentes!S38","v":14304},{"$f":"referentes!W38","v":"La Chola 3"},null,{"$f":"IF(OR(referentes!U38=96222,referentes!U38=\"\"),\"\",referentes!T38)","v":"CHO"},{"$f":"IFERROR(INDEX( $Q$2:$Q$150, MATCH(0, INDEX(COUNTIF($R$1:R37,$Q$2:$Q$150), 0, 0), 0)), \"\")","v":"PBLA"}]
[null,null,null,null,null,null,null,null,null,null,null,null,{"$f":"IF(OR(referentes!U39=96222,referentes!U39=\"\"),\"\",referentes!T39&referentes!U39)","v":"CHO4"},{"$f":"referentes!S39","v":14327},{"$f":"referentes!W39","v":"La Chola 4"},null,{"$f":"IF(OR(referentes!U39=96222,referentes!U39=\"\"),\"\",referentes!T39)","v":"CHO"},{"$f":"IFERROR(INDEX( $Q$2:$Q$150, MATCH(0, INDEX(COUNTIF($R$1:R38,$Q$2:$Q$150), 0, 0), 0)), \"\")","v":"PBR"}]
[null,null,null,null,null,null,null,null,null,null,null,null,{"$f":"IF(OR(referentes!U40=96222,referentes!U40=\"\"),\"\",referentes!T40&referentes!U40)","v":"CHO5"},{"$f":"referentes!S40","v":14328},{"$f":"referentes!W40","v":"La Chola 5"},null,{"$f":"IF(OR(referentes!U40=96222,referentes!U40=\"\"),\"\",referentes!T40)","v":"CHO"},{"$f":"IFERROR(INDEX( $Q$2:$Q$150, MATCH(0, INDEX(COUNTIF($R$1:R39,$Q$2:$Q$150), 0, 0), 0)), \"\")","v":"SFE"}]
[null,null,null,null,null,null,null,null,null,null,null,null,{"$f":"IF(OR(referentes!U41=96222,referentes!U41=\"\"),\"\",referentes!T41&referentes!U41)","v":"CHO6"},{"$f":"referentes!S41","v":14329},{"$f":"referentes!W41","v":"La Chola 6"},null,{"$f":"IF(OR(referentes!U41=96222,referentes!U41=\"\"),\"\",referentes!T41)","v":"CHO"},{"$f":"IFERROR(INDEX( $Q$2:$Q$150, MATCH(0, INDEX(COUNTIF($R$1:R40,$Q$2:$Q$150), 0, 0), 0)), \"\")","v":"TES"}]
[null,null,null,null,null,null,null,null,null,null,null,null,{"$f":"IF(OR(referentes!U42=96222,referentes!U42=\"\"),\"\",referentes!T42&referentes!U42)","v":"COC1"},{"$f":"referentes!S42","v":37122},{"$f":"referentes!W42","v":"La Coca"},null,{"$f":"IF(OR(referentes!U42=96222,referentes!U42=\"\"),\"\",referentes!T42)","v":"COC"},{"$f":"IFERROR(INDEX( $Q$2:$Q$150, MATCH(0, INDEX(COUNTIF($R$1:R41,$Q$2:$Q$150), 0, 0), 0)), \"\")","v":"BAR"}]
[null,null,null,null,null,null,null,null,null,null,null,null,{"$f":"IF(OR(referentes!U43=96222,referentes!U43=\"\"),\"\",referentes!T43&referentes!U43)","v":"MAL2"},{"$f":"referentes!S43","v":43098},{"$f":"referentes!W43","v":"La Nevera"},null,{"$f":"IF(OR(referentes!U43=96222,referentes!U43=\"\"),\"\",referentes!T43)","v":"MAL"},{"$f":"IFERROR(INDEX( $Q$2:$Q$150, MATCH(0, INDEX(COUNTIF($R$1:R42,$Q$2:$Q$150), 0, 0), 0)), \"\")","v":"TNT"}]
[null,null,null,null,null,null,null,null,null,null,null,null,{"$f":"IF(OR(referentes!U44=96222,referentes!U44=\"\"),\"\",referentes!T44&referentes!U44)","v":"VEN4"},{"$f":"referentes!S44","v":41695},{"$f":"referentes!W44","v":"La Ventana Norte Externa -VEN 4"},null,{"$f":"IF(OR(referentes!U44=96222,referentes!U44=\"\"),\"\",referentes!T44)","v":"VEN"},{"$f":"IFERROR(INDEX( $Q$2:$Q$150, MATCH(0, INDEX(COUNTIF($R$1:R43,$Q$2:$Q$150), 0, 0), 0)), \"\")","v":"TIO"}]
[null,null,null,null,null,null,null,null,null,null,null,null,{"$f":"IF(OR(referentes!U45=96222,referentes!U45=\"\"),\"\",referentes!T45&referentes!U45)","v":"VEN3"},{"$f":"referentes!S45","v":41694},{"$f":"referentes!W45","v":"La Ventana Norte Interna -VEN 3"},null,{"$f":"IF(OR(referentes!U45=96222,referentes!U45=\"\"),\"\",referentes!T45)","v":"VEN"},{"$f":"IFERROR(INDEX( $Q$2:$Q$150, MATCH(0, INDEX(COUNTIF($R$1:R44,$Q$2:$Q$150), 0, 0), 0)), \"\")","v":"VAR"}]
[null,null,null,null,null,null,null,null,null,null,null,null,{"$f":"IF(OR(referentes!U46=96222,referentes!U46=\"\"),\"\",referentes!T46&referentes!U46)","v":"VEN1"},{"$f":"referentes!S46","v":41692},{"$f":"referentes!W46","v":"La Ventana Sur Externa -VEN 1"},null,{"$f":"IF(OR(referentes!U46=96222,referentes!U46=\"\"),\"\",referentes!T46)","v":"VEN"},{"$f":"IFERROR(INDEX( $Q$2:$Q$150, MATCH(0, INDEX(COUNTIF($R$1:R45,$Q$2:$Q$150), 0, 0), 0)), \"\")","v":"WHI"}]
[null,null,null,null,null,null,null,null,null,null,null,null,{"$f":"IF(OR(referentes!U47=96222,referentes!U47=\"\"),\"\",referentes!T47&referentes!U47)","v":"VEN2"},{"$f":"referentes!S47","v":41693},{"$f":"referentes!W47","v":"La Ventana Sur Interna -VEN 2"},null,{"$f":"IF(OR(referentes!U47=96222,referentes!U47=\"\"),\"\",referentes!T47)","v":"VEN"},{"$f":"IFERROR(INDEX( $Q$2:$Q$150, MATCH(0, INDEX(COUNTIF($R$1:R46,$Q$2:$Q$150), 0, 0), 0)), \"\")","v":"WLF"}]
[null,null,null,null,null,null,null,null,null,null,null,null,{"$f":"IF(OR(referentes!U48=96222,referentes!U48=\"\"),\"\",referentes!T48&referentes!U48)","v":"PAL1"},{"$f":"referentes!S48","v":41547},{"$f":"referentes!W48","v":"Las Palmas"},null,{"$f":"IF(OR(referentes!U48=96222,referentes!U48=\"\"),\"\",referentes!T48)","v":"PAL"},{"$f":"IFERROR(INDEX( $Q$2:$Q$150, MATCH(0, INDEX(COUNTIF($R$1:R47,$Q$2:$Q$150), 0, 0), 0)), \"\")","v":"ZAP"}]
[null,null,null,null,null,null,null,null,null,null,null,null,{"$f":"IF(OR(referentes!U49=96222,referentes!U49=\"\"),\"\",referentes!T49&referentes!U49)","v":"MAR1"},{"$f":"referentes!S49","v":41699},{"$f":"referentes!W49","v":"MARACAIBO"},null,{"$f":"IF(OR(referentes!U49=96222,referentes!U49=\"\"),\"\",referentes!T49)","v":"MAR"},{"$f":"IFERROR(INDEX( $Q$2:$Q$150, MATCH(0, INDEX(COUNTIF($R$1:R48,$Q$2:$Q$150), 0, 0), 0)), \"\")","v":""}]
[null,null,null,null,null,null,null,null,null,null,null,null,{"$f":"IF(OR(referentes!U50=96222,referentes!U50=\"\"),\"\",referentes!T50&referentes!U50)","v":"MAN1"},{"$f":"referentes!S50","v":14305},{"$f":"referentes!W50","v":"Mangle 1"},null,{"$f":"IF(OR(referentes!U50=96222,referentes!U50=\"\"),\"\",referentes!T50)","v":"MAN"},{"$f":"IFERROR(INDEX( $Q$2:$Q$150, MATCH(0, INDEX(COUNTIF($R$1:R49,$Q$2:$Q$150), 0, 0), 0)), \"\")","v":""}]
[null,null,null,null,null,null,null,null,null,null,null,null,{"$f":"IF(OR(referentes!U51=96222,referentes!U51=\"\"),\"\",referentes!T51&referentes!U51)","v":"MAN2"},{"$f":"referentes!S51","v":14307},{"$f":"referentes!W51","v":"Mangle 2"},null,{"$f":"IF(OR(referentes!U51=96222,referentes!U51=\"\"),\"\",referentes!T51)","v":"MAN"},{"$f":"IFERROR(INDEX( $Q$2:$Q$150, MATCH(0, INDEX(COUNTIF($R$1:R50,$Q$2:$Q$150), 0, 0), 0)), \"\")","v":""}]
[null,null,null,null,null,null,null,null,null,null,null,null,{"$f":"IF(OR(referentes!U52=96222,referentes!U52=\"\"),\"\",referentes!T52&referentes!U52)","v":"MAZ1"},{"$f":"referentes!S52","v":14317},{"$f":"referentes!W52","v":"Manzanillo 1"},null,{"$f":"IF(OR(referentes!U52=96222,referentes!U52=\"\"),\"\",referentes!T52)","v":"MAZ"},{"$f":"IFERROR(INDEX( $Q$2:$Q$150, MATCH(0, INDEX(COUNTIF($R$1:R51,$Q$2:$Q$150), 0, 0), 0)), \"\")","v":""}]
[null,null,null,null,null,null,null,null,null,null,null,null,{"$f":"IF(OR(referentes!U53=96222,referentes!U53=\"\"),\"\",referentes!T53&referentes!U53)","v":"MAZ2"},{"$f":"referentes!S53","v":14318},{"$f":"referentes!W53","v":"Manzanillo 2"},null,{"$f":"IF(OR(referentes!U53=96222,referentes!U53=\"\"),\"\",referentes!T53)","v":"MAZ"},{"$f":"IFERROR(INDEX( $Q$2:$Q$150, MATCH(0, INDEX(COUNTIF($R$1:R52,$Q$2:$Q$150), 0, 0), 0)), \"\")","v":""}]
[null,null,null,null,null,null,null,null,null,null,null,null,{"$f":"IF(OR(referentes!U54=96222,referentes!U54=\"\"),\"\",referentes!T54&referentes!U54)","v":"MRC1"},{"$f":"referentes!S54","v":41698},{"$f":"referentes!W54","v":"Marcela's place"},null,{"$f":"IF(OR(referentes!U54=96222,referentes!U54=\"\"),\"\",referentes!T54)","v":"MRC"},{"$f":"IFERROR(INDEX( $Q$2:$Q$150, MATCH(0, INDEX(COUNTIF($R$1:R53,$Q$2:$Q$150), 0, 0), 0)), \"\")","v":""}]
[null,null,null,null,null,null,null,null,null,null,null,null,{"$f":"IF(OR(referentes!U55=96222,referentes!U55=\"\"),\"\",referentes!T55&referentes!U55)","v":"MIN1"},{"$f":"referentes!S55","v":14306},{"$f":"referentes!W55","v":"Minalta"},null,{"$f":"IF(OR(referentes!U55=96222,referentes!U55=\"\"),\"\",referentes!T55)","v":"MIN"},{"$f":"IFERROR(INDEX( $Q$2:$Q$150, MATCH(0, INDEX(COUNTIF($R$1:R54,$Q$2:$Q$150), 0, 0), 0)), \"\")","v":""}]
[null,null,null,null,null,null,null,null,null,null,null,null,{"$f":"IF(OR(referentes!U56=96222,referentes!U56=\"\"),\"\",referentes!T56&referentes!U56)","v":"4400147CORA1001"},{"$f":"referentes!S56","v":56790},{"$f":"referentes!W56","v":"Morro Acropora (MRAC)"},null,{"$f":"IF(OR(referentes!U56=96222,referentes!U56=\"\"),\"\",referentes!T56)","v":"4400147CORA100"},{"$f":"IFERROR(INDEX( $Q$2:$Q$150, MATCH(0, INDEX(COUNTIF($R$1:R55,$Q$2:$Q$150), 0, 0), 0)), \"\")","v":""}]
[null,null,null,null,null,null,null,null,null,null,null,null,{"$f":"IF(OR(referentes!U57=96222,referentes!U57=\"\"),\"\",referentes!T57&referentes!U57)","v":"NCH1"},{"$f":"referentes!S57","v":42263},{"$f":"referentes!W57","v":"Narrow Channel"},null,{"$f":"IF(OR(referentes!U57=96222,referentes!U57=\"\"),\"\",referentes!T57)","v":"NCH"},{"$f":"IFERROR(INDEX( $Q$2:$Q$150, MATCH(0, INDEX(COUNTIF($R$1:R56,$Q$2:$Q$150), 0, 0), 0)), \"\")","v":""}]
[null,null,null,null,null,null,null,null,null,null,null,null,{"$f":"IF(OR(referentes!U58=96222,referentes!U58=\"\"),\"\",referentes!T58&referentes!U58)","v":"NEG2"},{"$f":"referentes!S58","v":41702},{"$f":"referentes!W58","v":"Neguanje expuesto"},null,{"$f":"IF(OR(referentes!U58=96222,referentes!U58=\"\"),\"\",referentes!T58)","v":"NEG"},{"$f":"IFERROR(INDEX( $Q$2:$Q$150, MATCH(0, INDEX(COUNTIF($R$1:R57,$Q$2:$Q$150), 0, 0), 0)), \"\")","v":""}]
[null,null,null,null,null,null,null,null,null,null,null,null,{"$f":"IF(OR(referentes!U59=96222,referentes!U59=\"\"),\"\",referentes!T59&referentes!U59)","v":"NEG1"},{"$f":"referentes!S59","v":41701},{"$f":"referentes!W59","v":"Neguanje protegido"},null,{"$f":"IF(OR(referentes!U59=96222,referentes!U59=\"\"),\"\",referentes!T59)","v":"NEG"},{"$f":"IFERROR(INDEX( $Q$2:$Q$150, MATCH(0, INDEX(COUNTIF($R$1:R58,$Q$2:$Q$150), 0, 0), 0)), \"\")","v":""}]
[null,null,null,null,null,null,null,null,null,null,null,null,{"$f":"IF(OR(referentes!U60=96222,referentes!U60=\"\"),\"\",referentes!T60&referentes!U60)","v":"NET1"},{"$f":"referentes!S60","v":37120},{"$f":"referentes!W60","v":"No Entry"},null,{"$f":"IF(OR(referentes!U60=96222,referentes!U60=\"\"),\"\",referentes!T60)","v":"NET"},{"$f":"IFERROR(INDEX( $Q$2:$Q$150, MATCH(0, INDEX(COUNTIF($R$1:R59,$Q$2:$Q$150), 0, 0), 0)), \"\")","v":""}]
[null,null,null,null,null,null,null,null,null,null,null,null,{"$f":"IF(OR(referentes!U61=96222,referentes!U61=\"\"),\"\",referentes!T61&referentes!U61)","v":"NET2"},{"$f":"referentes!S61","v":52325},{"$f":"referentes!W61","v":"No Entry 2"},null,{"$f":"IF(OR(referentes!U61=96222,referentes!U61=\"\"),\"\",referentes!T61)","v":"NET"},{"$f":"IFERROR(INDEX( $Q$2:$Q$150, MATCH(0, INDEX(COUNTIF($R$1:R60,$Q$2:$Q$150), 0, 0), 0)), \"\")","v":""}]
[null,null,null,null,null,null,null,null,null,null,null,null,{"$f":"IF(OR(referentes!U62=96222,referentes!U62=\"\"),\"\",referentes!T62&referentes!U62)","v":"PAV1"},{"$f":"referentes!S62","v":14300},{"$f":"referentes!W62","v":"Pavitos"},null,{"$f":"IF(OR(referentes!U62=96222,referentes!U62=\"\"),\"\",referentes!T62)","v":"PAV"},{"$f":"IFERROR(INDEX( $Q$2:$Q$150, MATCH(0, INDEX(COUNTIF($R$1:R61,$Q$2:$Q$150), 0, 0), 0)), \"\")","v":""}]
[null,null,null,null,null,null,null,null,null,null,null,null,{"$f":"IF(OR(referentes!U63=96222,referentes!U63=\"\"),\"\",referentes!T63&referentes!U63)","v":"PLA2"},{"$f":"referentes!S63","v":14295},{"$f":"referentes!W63","v":"Playa Blanca norte medio 2"},null,{"$f":"IF(OR(referentes!U63=96222,referentes!U63=\"\"),\"\",referentes!T63)","v":"PLA"},{"$f":"IFERROR(INDEX( $Q$2:$Q$150, MATCH(0, INDEX(COUNTIF($R$1:R62,$Q$2:$Q$150), 0, 0), 0)), \"\")","v":""}]
[null,null,null,null,null,null,null,null,null,null,null,null,{"$f":"IF(OR(referentes!U64=96222,referentes!U64=\"\"),\"\",referentes!T64&referentes!U64)","v":"PLA3"},{"$f":"referentes!S64","v":41690},{"$f":"referentes!W64","v":"Playa Blanca norte somero 3"},null,{"$f":"IF(OR(referentes!U64=96222,referentes!U64=\"\"),\"\",referentes!T64)","v":"PLA"},{"$f":"IFERROR(INDEX( $Q$2:$Q$150, MATCH(0, INDEX(COUNTIF($R$1:R63,$Q$2:$Q$150), 0, 0), 0)), \"\")","v":""}]
[null,null,null,null,null,null,null,null,null,null,null,null,{"$f":"IF(OR(referentes!U65=96222,referentes!U65=\"\"),\"\",referentes!T65&referentes!U65)","v":"PLA4"},{"$f":"referentes!S65","v":41691},{"$f":"referentes!W65","v":"Playa Blanca sur medio 4"},null,{"$f":"IF(OR(referentes!U65=96222,referentes!U65=\"\"),\"\",referentes!T65)","v":"PLA"},{"$f":"IFERROR(INDEX( $Q$2:$Q$150, MATCH(0, INDEX(COUNTIF($R$1:R64,$Q$2:$Q$150), 0, 0), 0)), \"\")","v":""}]
[null,null,null,null,null,null,null,null,null,null,null,null,{"$f":"IF(OR(referentes!U66=96222,referentes!U66=\"\"),\"\",referentes!T66&referentes!U66)","v":"PLA1"},{"$f":"referentes!S66","v":14343},{"$f":"referentes!W66","v":"Playa Blanca sur somero 1"},null,{"$f":"IF(OR(referentes!U66=96222,referentes!U66=\"\"),\"\",referentes!T66)","v":"PLA"},{"$f":"IFERROR(INDEX( $Q$2:$Q$150, MATCH(0, INDEX(COUNTIF($R$1:R65,$Q$2:$Q$150), 0, 0), 0)), \"\")","v":""}]
[null,null,null,null,null,null,null,null,null,null,null,null,{"$f":"IF(OR(referentes!U67=96222,referentes!U67=\"\"),\"\",referentes!T67&referentes!U67)","v":"PBLA1"},{"$f":"referentes!S67","v":52865},{"$f":"referentes!W67","v":"Playa Blanca-Barú (PNN Corales del Rosario y San Bernardo)"},null,{"$f":"IF(OR(referentes!U67=96222,referentes!U67=\"\"),\"\",referentes!T67)","v":"PBLA"},{"$f":"IFERROR(INDEX( $Q$2:$Q$150, MATCH(0, INDEX(COUNTIF($R$1:R66,$Q$2:$Q$150), 0, 0), 0)), \"\")","v":""}]
[null,null,null,null,null,null,null,null,null,null,null,null,{"$f":"IF(OR(referentes!U68=96222,referentes!U68=\"\"),\"\",referentes!T68&referentes!U68)","v":"PBR1"},{"$f":"referentes!S68","v":41548},{"$f":"referentes!W68","v":"Punta Brava"},null,{"$f":"IF(OR(referentes!U68=96222,referentes!U68=\"\"),\"\",referentes!T68)","v":"PBR"},{"$f":"IFERROR(INDEX( $Q$2:$Q$150, MATCH(0, INDEX(COUNTIF($R$1:R67,$Q$2:$Q$150), 0, 0), 0)), \"\")","v":""}]
[null,null,null,null,null,null,null,null,null,null,null,null,{"$f":"IF(OR(referentes!U69=96222,referentes!U69=\"\"),\"\",referentes!T69&referentes!U69)","v":"SFE1"},{"$f":"referentes!S69","v":14321},{"$f":"referentes!W69","v":"San Felipe 1"},null,{"$f":"IF(OR(referentes!U69=96222,referentes!U69=\"\"),\"\",referentes!T69)","v":"SFE"},{"$f":"IFERROR(INDEX( $Q$2:$Q$150, MATCH(0, INDEX(COUNTIF($R$1:R68,$Q$2:$Q$150), 0, 0), 0)), \"\")","v":""}]
[null,null,null,null,null,null,null,null,null,null,null,null,{"$f":"IF(OR(referentes!U70=96222,referentes!U70=\"\"),\"\",referentes!T70&referentes!U70)","v":"SFE2"},{"$f":"referentes!S70","v":14322},{"$f":"referentes!W70","v":"San Felipe 2"},null,{"$f":"IF(OR(referentes!U70=96222,referentes!U70=\"\"),\"\",referentes!T70)","v":"SFE"},{"$f":"IFERROR(INDEX( $Q$2:$Q$150, MATCH(0, INDEX(COUNTIF($R$1:R69,$Q$2:$Q$150), 0, 0), 0)), \"\")","v":""}]
[null,null,null,null,null,null,null,null,null,null,null,null,{"$f":"IF(OR(referentes!U71=96222,referentes!U71=\"\"),\"\",referentes!T71&referentes!U71)","v":"TES1"},{"$f":"referentes!S71","v":14299},{"$f":"referentes!W71","v":"Tesoro 1"},null,{"$f":"IF(OR(referentes!U71=96222,referentes!U71=\"\"),\"\",referentes!T71)","v":"TES"},{"$f":"IFERROR(INDEX( $Q$2:$Q$150, MATCH(0, INDEX(COUNTIF($R$1:R70,$Q$2:$Q$150), 0, 0), 0)), \"\")","v":""}]
[null,null,null,null,null,null,null,null,null,null,null,null,{"$f":"IF(OR(referentes!U72=96222,referentes!U72=\"\"),\"\",referentes!T72&referentes!U72)","v":"TES2"},{"$f":"referentes!S72","v":41549},{"$f":"referentes!W72","v":"Tesoro Oriental"},null,{"$f":"IF(OR(referentes!U72=96222,referentes!U72=\"\"),\"\",referentes!T72)","v":"TES"},{"$f":"IFERROR(INDEX( $Q$2:$Q$150, MATCH(0, INDEX(COUNTIF($R$1:R71,$Q$2:$Q$150), 0, 0), 0)), \"\")","v":""}]
[null,null,null,null,null,null,null,null,null,null,null,null,{"$f":"IF(OR(referentes!U73=96222,referentes!U73=\"\"),\"\",referentes!T73&referentes!U73)","v":"BAR1"},{"$f":"referentes!S73","v":14319},{"$f":"referentes!W73","v":"The Bar 1"},null,{"$f":"IF(OR(referentes!U73=96222,referentes!U73=\"\"),\"\",referentes!T73)","v":"BAR"},{"$f":"IFERROR(INDEX( $Q$2:$Q$150, MATCH(0, INDEX(COUNTIF($R$1:R72,$Q$2:$Q$150), 0, 0), 0)), \"\")","v":""}]
[null,null,null,null,null,null,null,null,null,null,null,null,{"$f":"IF(OR(referentes!U74=96222,referentes!U74=\"\"),\"\",referentes!T74&referentes!U74)","v":"BAR2"},{"$f":"referentes!S74","v":14320},{"$f":"referentes!W74","v":"The Bar 2"},null,{"$f":"IF(OR(referentes!U74=96222,referentes!U74=\"\"),\"\",referentes!T74)","v":"BAR"},{"$f":"IFERROR(INDEX( $Q$2:$Q$150, MATCH(0, INDEX(COUNTIF($R$1:R73,$Q$2:$Q$150), 0, 0), 0)), \"\")","v":""}]
[null,null,null,null,null,null,null,null,null,null,null,null,{"$f":"IF(OR(referentes!U75=96222,referentes!U75=\"\"),\"\",referentes!T75&referentes!U75)","v":"TNT1"},{"$f":"referentes!S75","v":41697},{"$f":"referentes!W75","v":"Tintipan 1 Somero"},null,{"$f":"IF(OR(referentes!U75=96222,referentes!U75=\"\"),\"\",referentes!T75)","v":"TNT"},{"$f":"IFERROR(INDEX( $Q$2:$Q$150, MATCH(0, INDEX(COUNTIF($R$1:R74,$Q$2:$Q$150), 0, 0), 0)), \"\")","v":""}]
[null,null,null,null,null,null,null,null,null,null,null,null,{"$f":"IF(OR(referentes!U76=96222,referentes!U76=\"\"),\"\",referentes!T76&referentes!U76)","v":"TNT2"},{"$f":"referentes!S76","v":41696},{"$f":"referentes!W76","v":"Tintipan 2 Medio"},null,{"$f":"IF(OR(referentes!U76=96222,referentes!U76=\"\"),\"\",referentes!T76)","v":"TNT"},{"$f":"IFERROR(INDEX( $Q$2:$Q$150, MATCH(0, INDEX(COUNTIF($R$1:R75,$Q$2:$Q$150), 0, 0), 0)), \"\")","v":""}]
[null,null,null,null,null,null,null,null,null,null,null,null,{"$f":"IF(OR(referentes!U77=96222,referentes!U77=\"\"),\"\",referentes!T77&referentes!U77)","v":"TIO1"},{"$f":"referentes!S77","v":14332},{"$f":"referentes!W77","v":"Tiosolda"},null,{"$f":"IF(OR(referentes!U77=96222,referentes!U77=\"\"),\"\",referentes!T77)","v":"TIO"},{"$f":"IFERROR(INDEX( $Q$2:$Q$150, MATCH(0, INDEX(COUNTIF($R$1:R76,$Q$2:$Q$150), 0, 0), 0)), \"\")","v":""}]
[null,null,null,null,null,null,null,null,null,null,null,null,{"$f":"IF(OR(referentes!U78=96222,referentes!U78=\"\"),\"\",referentes!T78&referentes!U78)","v":"VAR1"},{"$f":"referentes!S78","v":49084},{"$f":"referentes!W78","v":"Varadero 1"},null,{"$f":"IF(OR(referentes!U78=96222,referentes!U78=\"\"),\"\",referentes!T78)","v":"VAR"},{"$f":"IFERROR(INDEX( $Q$2:$Q$150, MATCH(0, INDEX(COUNTIF($R$1:R77,$Q$2:$Q$150), 0, 0), 0)), \"\")","v":""}]
[null,null,null,null,null,null,null,null,null,null,null,null,{"$f":"IF(OR(referentes!U79=96222,referentes!U79=\"\"),\"\",referentes!T79&referentes!U79)","v":"VAR2"},{"$f":"referentes!S79","v":49085},{"$f":"referentes!W79","v":"Varadero 2"},null,{"$f":"IF(OR(referentes!U79=96222,referentes!U79=\"\"),\"\",referentes!T79)","v":"VAR"},{"$f":"IFERROR(INDEX( $Q$2:$Q$150, MATCH(0, INDEX(COUNTIF($R$1:R78,$Q$2:$Q$150), 0, 0), 0)), \"\")","v":""}]
[null,null,null,null,null,null,null,null,null,null,null,null,{"$f":"IF(OR(referentes!U80=96222,referentes!U80=\"\"),\"\",referentes!T80&referentes!U80)","v":"VAR3"},{"$f":"referentes!S80","v":49086},{"$f":"referentes!W80","v":"Varadero 3"},null,{"$f":"IF(OR(referentes!U80=96222,referentes!U80=\"\"),\"\",referentes!T80)","v":"VAR"},{"$f":"IFERROR(INDEX( $Q$2:$Q$150, MATCH(0, INDEX(COUNTIF($R$1:R79,$Q$2:$Q$150), 0, 0), 0)), \"\")","v":""}]
[null,null,null,null,null,null,null,null,null,null,null,null,{"$f":"IF(OR(referentes!U81=96222,referentes!U81=\"\"),\"\",referentes!T81&referentes!U81)","v":"WHI1"},{"$f":"referentes!S81","v":41700},{"$f":"referentes!W81","v":"White  Shoal"},null,{"$f":"IF(OR(referentes!U81=96222,referentes!U81=\"\"),\"\",referentes!T81)","v":"WHI"},{"$f":"IFERROR(INDEX( $Q$2:$Q$150, MATCH(0, INDEX(COUNTIF($R$1:R80,$Q$2:$Q$150), 0, 0), 0)), \"\")","v":""}]
[null,null,null,null,null,null,null,null,null,null,null,null,{"$f":"IF(OR(referentes!U82=96222,referentes!U82=\"\"),\"\",referentes!T82&referentes!U82)","v":"WLF1"},{"$f":"referentes!S82","v":14340},{"$f":"referentes!W82","v":"Wild Life"},null,{"$f":"IF(OR(referentes!U82=96222,referentes!U82=\"\"),\"\",referentes!T82)","v":"WLF"},{"$f":"IFERROR(INDEX( $Q$2:$Q$150, MATCH(0, INDEX(COUNTIF($R$1:R81,$Q$2:$Q$150), 0, 0), 0)), \"\")","v":""}]
[null,null,null,null,null,null,null,null,null,null,null,null,{"$f":"IF(OR(referentes!U83=96222,referentes!U83=\"\"),\"\",referentes!T83&referentes!U83)","v":"ZAP1"},{"$f":"referentes!S83","v":14335},{"$f":"referentes!W83","v":"Zapsurro M"},null,{"$f":"IF(OR(referentes!U83=96222,referentes!U83=\"\"),\"\",referentes!T83)","v":"ZAP"},{"$f":"IFERROR(INDEX( $Q$2:$Q$150, MATCH(0, INDEX(COUNTIF($R$1:R82,$Q$2:$Q$150), 0, 0), 0)), \"\")","v":""}]
[null,null,null,null,null,null,null,null,null,null,null,null,{"$f":"IF(OR(referentes!U84=96222,referentes!U84=\"\"),\"\",referentes!T84&referentes!U84)","v":""},{"$f":"referentes!S84","v":0},{"$f":"referentes!W84","v":0},null,{"$f":"IF(OR(referentes!U84=96222,referentes!U84=\"\"),\"\",referentes!T84)","v":""},{"$f":"IFERROR(INDEX( $Q$2:$Q$150, MATCH(0, INDEX(COUNTIF($R$1:R83,$Q$2:$Q$150), 0, 0), 0)), \"\")","v":""}]
[null,null,null,null,null,null,null,null,null,null,null,null,{"$f":"IF(OR(referentes!U85=96222,referentes!U85=\"\"),\"\",referentes!T85&referentes!U85)","v":""},{"$f":"referentes!S85","v":0},{"$f":"referentes!W85","v":0},null,{"$f":"IF(OR(referentes!U85=96222,referentes!U85=\"\"),\"\",referentes!T85)","v":""},{"$f":"IFERROR(INDEX( $Q$2:$Q$150, MATCH(0, INDEX(COUNTIF($R$1:R84,$Q$2:$Q$150), 0, 0), 0)), \"\")","v":""}]
[null,null,null,null,null,null,null,null,null,null,null,null,{"$f":"IF(OR(referentes!U86=96222,referentes!U86=\"\"),\"\",referentes!T86&referentes!U86)","v":""},{"$f":"referentes!S86","v":0},{"$f":"referentes!W86","v":0},null,{"$f":"IF(OR(referentes!U86=96222,referentes!U86=\"\"),\"\",referentes!T86)","v":""},{"$f":"IFERROR(INDEX( $Q$2:$Q$150, MATCH(0, INDEX(COUNTIF($R$1:R85,$Q$2:$Q$150), 0, 0), 0)), \"\")","v":""}]
[null,null,null,null,null,null,null,null,null,null,null,null,{"$f":"IF(OR(referentes!U87=96222,referentes!U87=\"\"),\"\",referentes!T87&referentes!U87)","v":""},{"$f":"referentes!S87","v":0},{"$f":"referentes!W87","v":0},null,{"$f":"IF(OR(referentes!U87=96222,referentes!U87=\"\"),\"\",referentes!T87)","v":""},{"$f":"IFERROR(INDEX( $Q$2:$Q$150, MATCH(0, INDEX(COUNTIF($R$1:R86,$Q$2:$Q$150), 0, 0), 0)), \"\")","v":""}]
[null,null,null,null,null,null,null,null,null,null,null,null,{"$f":"IF(OR(referentes!U88=96222,referentes!U88=\"\"),\"\",referentes!T88&referentes!U88)","v":""},{"$f":"referentes!S88","v":0},{"$f":"referentes!W88","v":0},null,{"$f":"IF(OR(referentes!U88=96222,referentes!U88=\"\"),\"\",referentes!T88)","v":""},{"$f":"IFERROR(INDEX( $Q$2:$Q$150, MATCH(0, INDEX(COUNTIF($R$1:R87,$Q$2:$Q$150), 0, 0), 0)), \"\")","v":""}]
[null,null,null,null,null,null,null,null,null,null,null,null,{"$f":"IF(OR(referentes!U89=96222,referentes!U89=\"\"),\"\",referentes!T89&referentes!U89)","v":""},{"$f":"referentes!S89","v":0},{"$f":"referentes!W89","v":0},null,{"$f":"IF(OR(referentes!U89=96222,referentes!U89=\"\"),\"\",referentes!T89)","v":""},{"$f":"IFERROR(INDEX( $Q$2:$Q$150, MATCH(0, INDEX(COUNTIF($R$1:R88,$Q$2:$Q$150), 0, 0), 0)), \"\")","v":""}]
[null,null,null,null,null,null,null,null,null,null,null,null,{"$f":"IF(OR(referentes!U90=96222,referentes!U90=\"\"),\"\",referentes!T90&referentes!U90)","v":""},{"$f":"referentes!S90","v":0},{"$f":"referentes!W90","v":0},null,{"$f":"IF(OR(referentes!U90=96222,referentes!U90=\"\"),\"\",referentes!T90)","v":""},{"$f":"IFERROR(INDEX( $Q$2:$Q$150, MATCH(0, INDEX(COUNTIF($R$1:R89,$Q$2:$Q$150), 0, 0), 0)), \"\")","v":""}]
[null,null,null,null,null,null,null,null,null,null,null,null,{"$f":"IF(OR(referentes!U91=96222,referentes!U91=\"\"),\"\",referentes!T91&referentes!U91)","v":""},{"$f":"referentes!S91","v":0},{"$f":"referentes!W91","v":0},null,{"$f":"IF(OR(referentes!U91=96222,referentes!U91=\"\"),\"\",referentes!T91)","v":""},{"$f":"IFERROR(INDEX( $Q$2:$Q$150, MATCH(0, INDEX(COUNTIF($R$1:R90,$Q$2:$Q$150), 0, 0), 0)), \"\")","v":""}]
[null,null,null,null,null,null,null,null,null,null,null,null,{"$f":"IF(OR(referentes!U92=96222,referentes!U92=\"\"),\"\",referentes!T92&referentes!U92)","v":""},{"$f":"referentes!S92","v":0},{"$f":"referentes!W92","v":0},null,{"$f":"IF(OR(referentes!U92=96222,referentes!U92=\"\"),\"\",referentes!T92)","v":""},{"$f":"IFERROR(INDEX( $Q$2:$Q$150, MATCH(0, INDEX(COUNTIF($R$1:R91,$Q$2:$Q$150), 0, 0), 0)), \"\")","v":""}]
[null,null,null,null,null,null,null,null,null,null,null,null,{"$f":"IF(OR(referentes!U93=96222,referentes!U93=\"\"),\"\",referentes!T93&referentes!U93)","v":""},{"$f":"referentes!S93","v":0},{"$f":"referentes!W93","v":0},null,{"$f":"IF(OR(referentes!U93=96222,referentes!U93=\"\"),\"\",referentes!T93)","v":""},{"$f":"IFERROR(INDEX( $Q$2:$Q$150, MATCH(0, INDEX(COUNTIF($R$1:R92,$Q$2:$Q$150), 0, 0), 0)), \"\")","v":""}]
[null,null,null,null,null,null,null,null,null,null,null,null,{"$f":"IF(OR(referentes!U94=96222,referentes!U94=\"\"),\"\",referentes!T94&referentes!U94)","v":""},{"$f":"referentes!S94","v":0},{"$f":"referentes!W94","v":0},null,{"$f":"IF(OR(referentes!U94=96222,referentes!U94=\"\"),\"\",referentes!T94)","v":""},{"$f":"IFERROR(INDEX( $Q$2:$Q$150, MATCH(0, INDEX(COUNTIF($R$1:R93,$Q$2:$Q$150), 0, 0), 0)), \"\")","v":""}]
[null,null,null,null,null,null,null,null,null,null,null,null,{"$f":"IF(OR(referentes!U95=96222,referentes!U95=\"\"),\"\",referentes!T95&referentes!U95)","v":""},{"$f":"referentes!S95","v":0},{"$f":"referentes!W95","v":0},null,{"$f":"IF(OR(referentes!U95=96222,referentes!U95=\"\"),\"\",referentes!T95)","v":""},{"$f":"IFERROR(INDEX( $Q$2:$Q$150, MATCH(0, INDEX(COUNTIF($R$1:R94,$Q$2:$Q$150), 0, 0), 0)), \"\")","v":""}]
[null,null,null,null,null,null,null,null,null,null,null,null,{"$f":"IF(OR(referentes!U96=96222,referentes!U96=\"\"),\"\",referentes!T96&referentes!U96)","v":""},{"$f":"referentes!S96","v":0},{"$f":"referentes!W96","v":0},null,{"$f":"IF(OR(referentes!U96=96222,referentes!U96=\"\"),\"\",referentes!T96)","v":""},{"$f":"IFERROR(INDEX( $Q$2:$Q$150, MATCH(0, INDEX(COUNTIF($R$1:R95,$Q$2:$Q$150), 0, 0), 0)), \"\")","v":""}]
[null,null,null,null,null,null,null,null,null,null,null,null,{"$f":"IF(OR(referentes!U97=96222,referentes!U97=\"\"),\"\",referentes!T97&referentes!U97)","v":""},{"$f":"referentes!S97","v":0},{"$f":"referentes!W97","v":0},null,{"$f":"IF(OR(referentes!U97=96222,referentes!U97=\"\"),\"\",referentes!T97)","v":""},{"$f":"IFERROR(INDEX( $Q$2:$Q$150, MATCH(0, INDEX(COUNTIF($R$1:R96,$Q$2:$Q$150), 0, 0), 0)), \"\")","v":""}]
[null,null,null,null,null,null,null,null,null,null,null,null,{"$f":"IF(OR(referentes!U98=96222,referentes!U98=\"\"),\"\",referentes!T98&referentes!U98)","v":""},{"$f":"referentes!S98","v":0},{"$f":"referentes!W98","v":0},null,{"$f":"IF(OR(referentes!U98=96222,referentes!U98=\"\"),\"\",referentes!T98)","v":""},{"$f":"IFERROR(INDEX( $Q$2:$Q$150, MATCH(0, INDEX(COUNTIF($R$1:R97,$Q$2:$Q$150), 0, 0), 0)), \"\")","v":""}]
[null,null,null,null,null,null,null,null,null,null,null,null,{"$f":"IF(OR(referentes!U99=96222,referentes!U99=\"\"),\"\",referentes!T99&referentes!U99)","v":""},{"$f":"referentes!S99","v":0},{"$f":"referentes!W99","v":0},null,{"$f":"IF(OR(referentes!U99=96222,referentes!U99=\"\"),\"\",referentes!T99)","v":""}]
[null,null,null,null,null,null,null,null,null,null,null,null,{"$f":"IF(OR(referentes!U100=96222,referentes!U100=\"\"),\"\",referentes!T100&referentes!U100)","v":""},{"$f":"referentes!S100","v":0},{"$f":"referentes!W100","v":0},null,{"$f":"IF(OR(referentes!U100=96222,referentes!U100=\"\"),\"\",referentes!T100)","v":""}]
[null,null,null,null,null,null,null,null,null,null,null,null,{"$f":"IF(OR(referentes!U101=96222,referentes!U101=\"\"),\"\",referentes!T101&referentes!U101)","v":""},{"$f":"referentes!S101","v":0},{"$f":"referentes!W101","v":0},null,{"$f":"IF(OR(referentes!U101=96222,referentes!U101=\"\"),\"\",referentes!T101)","v":""}]
[null,null,null,null,null,null,null,null,null,null,null,null,{"$f":"IF(OR(referentes!U102=96222,referentes!U102=\"\"),\"\",referentes!T102&referentes!U102)","v":""},{"$f":"referentes!S102","v":0},{"$f":"referentes!W102","v":0},null,{"$f":"IF(OR(referentes!U102=96222,referentes!U102=\"\"),\"\",referentes!T102)","v":""}]
[null,null,null,null,null,null,null,null,null,null,null,null,{"$f":"IF(OR(referentes!U103=96222,referentes!U103=\"\"),\"\",referentes!T103&referentes!U103)","v":""},{"$f":"referentes!S103","v":0},{"$f":"referentes!W103","v":0},null,{"$f":"IF(OR(referentes!U103=96222,referentes!U103=\"\"),\"\",referentes!T103)","v":""}]
[null,null,null,null,null,null,null,null,null,null,null,null,{"$f":"IF(OR(referentes!U104=96222,referentes!U104=\"\"),\"\",referentes!T104&referentes!U104)","v":""},{"$f":"referentes!S104","v":0},{"$f":"referentes!W104","v":0},null,{"$f":"IF(OR(referentes!U104=96222,referentes!U104=\"\"),\"\",referentes!T104)","v":""}]
[null,null,null,null,null,null,null,null,null,null,null,null,{"$f":"IF(OR(referentes!U105=96222,referentes!U105=\"\"),\"\",referentes!T105&referentes!U105)","v":""},{"$f":"referentes!S105","v":0},{"$f":"referentes!W105","v":0},null,{"$f":"IF(OR(referentes!U105=96222,referentes!U105=\"\"),\"\",referentes!T105)","v":""}]
[null,null,null,null,null,null,null,null,null,null,null,null,{"$f":"IF(OR(referentes!U106=96222,referentes!U106=\"\"),\"\",referentes!T106&referentes!U106)","v":""},{"$f":"referentes!S106","v":0},{"$f":"referentes!W106","v":0},null,{"$f":"IF(OR(referentes!U106=96222,referentes!U106=\"\"),\"\",referentes!T106)","v":""}]
[null,null,null,null,null,null,null,null,null,null,null,null,{"$f":"IF(OR(referentes!U107=96222,referentes!U107=\"\"),\"\",referentes!T107&referentes!U107)","v":""},{"$f":"referentes!S107","v":0},{"$f":"referentes!W107","v":0},null,{"$f":"IF(OR(referentes!U107=96222,referentes!U107=\"\"),\"\",referentes!T107)","v":""}]
[null,null,null,null,null,null,null,null,null,null,null,null,{"$f":"IF(OR(referentes!U108=96222,referentes!U108=\"\"),\"\",referentes!T108&referentes!U108)","v":""},{"$f":"referentes!S108","v":0},{"$f":"referentes!W108","v":0},null,{"$f":"IF(OR(referentes!U108=96222,referentes!U108=\"\"),\"\",referentes!T108)","v":""}]
[null,null,null,null,null,null,null,null,null,null,null,null,{"$f":"IF(OR(referentes!U109=96222,referentes!U109=\"\"),\"\",referentes!T109&referentes!U109)","v":""},{"$f":"referentes!S109","v":0},{"$f":"referentes!W109","v":0},null,{"$f":"IF(OR(referentes!U109=96222,referentes!U109=\"\"),\"\",referentes!T109)","v":""}]
[null,null,null,null,null,null,null,null,null,null,null,null,{"$f":"IF(OR(referentes!U110=96222,referentes!U110=\"\"),\"\",referentes!T110&referentes!U110)","v":""},{"$f":"referentes!S110","v":0},{"$f":"referentes!W110","v":0},null,{"$f":"IF(OR(referentes!U110=96222,referentes!U110=\"\"),\"\",referentes!T110)","v":""}]
[null,null,null,null,null,null,null,null,null,null,null,null,{"$f":"IF(OR(referentes!U111=96222,referentes!U111=\"\"),\"\",referentes!T111&referentes!U111)","v":""},{"$f":"referentes!S111","v":0},{"$f":"referentes!W111","v":0},null,{"$f":"IF(OR(referentes!U111=96222,referentes!U111=\"\"),\"\",referentes!T111)","v":""}]
[null,null,null,null,null,null,null,null,null,null,null,null,{"$f":"IF(OR(referentes!U112=96222,referentes!U112=\"\"),\"\",referentes!T112&referentes!U112)","v":""},{"$f":"referentes!S112","v":0},{"$f":"referentes!W112","v":0},null,{"$f":"IF(OR(referentes!U112=96222,referentes!U112=\"\"),\"\",referentes!T112)","v":""}]
[null,null,null,null,null,null,null,null,null,null,null,null,{"$f":"IF(OR(referentes!U113=96222,referentes!U113=\"\"),\"\",referentes!T113&referentes!U113)","v":""},{"$f":"referentes!S113","v":0},{"$f":"referentes!W113","v":0},null,{"$f":"IF(OR(referentes!U113=96222,referentes!U113=\"\"),\"\",referentes!T113)","v":""}]
[null,null,null,null,null,null,null,null,null,null,null,null,{"$f":"IF(OR(referentes!U114=96222,referentes!U114=\"\"),\"\",referentes!T114&referentes!U114)","v":""},{"$f":"referentes!S114","v":0},{"$f":"referentes!W114","v":0},null,{"$f":"IF(OR(referentes!U114=96222,referentes!U114=\"\"),\"\",referentes!T114)","v":""}]
[null,null,null,null,null,null,null,null,null,null,null,null,{"$f":"IF(OR(referentes!U115=96222,referentes!U115=\"\"),\"\",referentes!T115&referentes!U115)","v":""},{"$f":"referentes!S115","v":0},{"$f":"referentes!W115","v":0},null,{"$f":"IF(OR(referentes!U115=96222,referentes!U115=\"\"),\"\",referentes!T115)","v":""}]
[null,null,null,null,null,null,null,null,null,null,null,null,{"$f":"IF(OR(referentes!U116=96222,referentes!U116=\"\"),\"\",referentes!T116&referentes!U116)","v":""},{"$f":"referentes!S116","v":0},{"$f":"referentes!W116","v":0},null,{"$f":"IF(OR(referentes!U116=96222,referentes!U116=\"\"),\"\",referentes!T116)","v":""}]
[null,null,null,null,null,null,null,null,null,null,null,null,{"$f":"IF(OR(referentes!U117=96222,referentes!U117=\"\"),\"\",referentes!T117&referentes!U117)","v":""},{"$f":"referentes!S117","v":0},{"$f":"referentes!W117","v":0},null,{"$f":"IF(OR(referentes!U117=96222,referentes!U117=\"\"),\"\",referentes!T117)","v":""}]
[null,null,null,null,null,null,null,null,null,null,null,null,{"$f":"IF(OR(referentes!U118=96222,referentes!U118=\"\"),\"\",referentes!T118&referentes!U118)","v":""},{"$f":"referentes!S118","v":0},{"$f":"referentes!W118","v":0},null,{"$f":"IF(OR(referentes!U118=96222,referentes!U118=\"\"),\"\",referentes!T118)","v":""}]
[null,null,null,null,null,null,null,null,null,null,null,null,{"$f":"IF(OR(referentes!U119=96222,referentes!U119=\"\"),\"\",referentes!T119&referentes!U119)","v":""},{"$f":"referentes!S119","v":0},{"$f":"referentes!W119","v":0},null,{"$f":"IF(OR(referentes!U119=96222,referentes!U119=\"\"),\"\",referentes!T119)","v":""}]
[null,null,null,null,null,null,null,null,null,null,null,null,{"$f":"IF(OR(referentes!U120=96222,referentes!U120=\"\"),\"\",referentes!T120&referentes!U120)","v":""},{"$f":"referentes!S120","v":0},{"$f":"referentes!W120","v":0},null,{"$f":"IF(OR(referentes!U120=96222,referentes!U120=\"\"),\"\",referentes!T120)","v":""}]
[null,null,null,null,null,null,null,null,null,null,null,null,{"$f":"IF(OR(referentes!U121=96222,referentes!U121=\"\"),\"\",referentes!T121&referentes!U121)","v":""},{"$f":"referentes!S121","v":0},{"$f":"referentes!W121","v":0},null,{"$f":"IF(OR(referentes!U121=96222,referentes!U121=\"\"),\"\",referentes!T121)","v":""}]
[null,null,null,null,null,null,null,null,null,null,null,null,{"$f":"IF(OR(referentes!U122=96222,referentes!U122=\"\"),\"\",referentes!T122&referentes!U122)","v":""},{"$f":"referentes!S122","v":0},{"$f":"referentes!W122","v":0},null,{"$f":"IF(OR(referentes!U122=96222,referentes!U122=\"\"),\"\",referentes!T122)","v":""}]
[null,null,null,null,null,null,null,null,null,null,null,null,{"$f":"IF(OR(referentes!U123=96222,referentes!U123=\"\"),\"\",referentes!T123&referentes!U123)","v":""},{"$f":"referentes!S123","v":0},{"$f":"referentes!W123","v":0},null,{"$f":"IF(OR(referentes!U123=96222,referentes!U123=\"\"),\"\",referentes!T123)","v":""}]
[null,null,null,null,null,null,null,null,null,null,null,null,{"$f":"IF(OR(referentes!U124=96222,referentes!U124=\"\"),\"\",referentes!T124&referentes!U124)","v":""},{"$f":"referentes!S124","v":0},{"$f":"referentes!W124","v":0},null,{"$f":"IF(OR(referentes!U124=96222,referentes!U124=\"\"),\"\",referentes!T124)","v":""}]
[null,null,null,null,null,null,null,null,null,null,null,null,{"$f":"IF(OR(referentes!U125=96222,referentes!U125=\"\"),\"\",referentes!T125&referentes!U125)","v":""},{"$f":"referentes!S125","v":0},{"$f":"referentes!W125","v":0},null,{"$f":"IF(OR(referentes!U125=96222,referentes!U125=\"\"),\"\",referentes!T125)","v":""}]
[null,null,null,null,null,null,null,null,null,null,null,null,{"$f":"IF(OR(referentes!U126=96222,referentes!U126=\"\"),\"\",referentes!T126&referentes!U126)","v":""},{"$f":"referentes!S126","v":0},{"$f":"referentes!W126","v":0},null,{"$f":"IF(OR(referentes!U126=96222,referentes!U126=\"\"),\"\",referentes!T126)","v":""}]
[null,null,null,null,null,null,null,null,null,null,null,null,{"$f":"IF(OR(referentes!U127=96222,referentes!U127=\"\"),\"\",referentes!T127&referentes!U127)","v":""},{"$f":"referentes!S127","v":0},{"$f":"referentes!W127","v":0},null,{"$f":"IF(OR(referentes!U127=96222,referentes!U127=\"\"),\"\",referentes!T127)","v":""}]
[null,null,null,null,null,null,null,null,null,null,null,null,{"$f":"IF(OR(referentes!U128=96222,referentes!U128=\"\"),\"\",referentes!T128&referentes!U128)","v":""},{"$f":"referentes!S128","v":0},{"$f":"referentes!W128","v":0},null,{"$f":"IF(OR(referentes!U128=96222,referentes!U128=\"\"),\"\",referentes!T128)","v":""}]
[null,null,null,null,null,null,null,null,null,null,null,null,{"$f":"IF(OR(referentes!U129=96222,referentes!U129=\"\"),\"\",referentes!T129&referentes!U129)","v":""},{"$f":"referentes!S129","v":0},{"$f":"referentes!W129","v":0},null,{"$f":"IF(OR(referentes!U129=96222,referentes!U129=\"\"),\"\",referentes!T129)","v":""}]
[null,null,null,null,null,null,null,null,null,null,null,null,{"$f":"IF(OR(referentes!U130=96222,referentes!U130=\"\"),\"\",referentes!T130&referentes!U130)","v":""},{"$f":"referentes!S130","v":0},{"$f":"referentes!W130","v":0},null,{"$f":"IF(OR(referentes!U130=96222,referentes!U130=\"\"),\"\",referentes!T130)","v":""}]
[null,null,null,null,null,null,null,null,null,null,null,null,{"$f":"IF(OR(referentes!U131=96222,referentes!U131=\"\"),\"\",referentes!T131&referentes!U131)","v":""},{"$f":"referentes!S131","v":0},{"$f":"referentes!W131","v":0},null,{"$f":"IF(OR(referentes!U131=96222,referentes!U131=\"\"),\"\",referentes!T131)","v":""}]
[null,null,null,null,null,null,null,null,null,null,null,null,{"$f":"IF(OR(referentes!U132=96222,referentes!U132=\"\"),\"\",referentes!T132&referentes!U132)","v":""},{"$f":"referentes!S132","v":0},{"$f":"referentes!W132","v":0},null,{"$f":"IF(OR(referentes!U132=96222,referentes!U132=\"\"),\"\",referentes!T132)","v":""}]
[null,null,null,null,null,null,null,null,null,null,null,null,{"$f":"IF(OR(referentes!U133=96222,referentes!U133=\"\"),\"\",referentes!T133&referentes!U133)","v":""},{"$f":"referentes!S133","v":0},{"$f":"referentes!W133","v":0},null,{"$f":"IF(OR(referentes!U133=96222,referentes!U133=\"\"),\"\",referentes!T133)","v":""}]
[null,null,null,null,null,null,null,null,null,null,null,null,{"$f":"IF(OR(referentes!U134=96222,referentes!U134=\"\"),\"\",referentes!T134&referentes!U134)","v":""},{"$f":"referentes!S134","v":0},{"$f":"referentes!W134","v":0},null,{"$f":"IF(OR(referentes!U134=96222,referentes!U134=\"\"),\"\",referentes!T134)","v":""}]
[null,null,null,null,null,null,null,null,null,null,null,null,{"$f":"IF(OR(referentes!U135=96222,referentes!U135=\"\"),\"\",referentes!T135&referentes!U135)","v":""},{"$f":"referentes!S135","v":0},{"$f":"referentes!W135","v":0},null,{"$f":"IF(OR(referentes!U135=96222,referentes!U135=\"\"),\"\",referentes!T135)","v":""}]
[null,null,null,null,null,null,null,null,null,null,null,null,{"$f":"IF(OR(referentes!U136=96222,referentes!U136=\"\"),\"\",referentes!T136&referentes!U136)","v":""},{"$f":"referentes!S136","v":0},{"$f":"referentes!W136","v":0},null,{"$f":"IF(OR(referentes!U136=96222,referentes!U136=\"\"),\"\",referentes!T136)","v":""}]
[null,null,null,null,null,null,null,null,null,null,null,null,{"$f":"IF(OR(referentes!U137=96222,referentes!U137=\"\"),\"\",referentes!T137&referentes!U137)","v":""},{"$f":"referentes!S137","v":0},{"$f":"referentes!W137","v":0},null,{"$f":"IF(OR(referentes!U137=96222,referentes!U137=\"\"),\"\",referentes!T137)","v":""}]
[null,null,null,null,null,null,null,null,null,null,null,null,{"$f":"IF(OR(referentes!U138=96222,referentes!U138=\"\"),\"\",referentes!T138&referentes!U138)","v":""},{"$f":"referentes!S138","v":0},{"$f":"referentes!W138","v":0},null,{"$f":"IF(OR(referentes!U138=96222,referentes!U138=\"\"),\"\",referentes!T138)","v":""}]
[null,null,null,null,null,null,null,null,null,null,null,null,{"$f":"IF(OR(referentes!U139=96222,referentes!U139=\"\"),\"\",referentes!T139&referentes!U139)","v":""},{"$f":"referentes!S139","v":0},{"$f":"referentes!W139","v":0},null,{"$f":"IF(OR(referentes!U139=96222,referentes!U139=\"\"),\"\",referentes!T139)","v":""}]
[null,null,null,null,null,null,null,null,null,null,null,null,{"$f":"IF(OR(referentes!U140=96222,referentes!U140=\"\"),\"\",referentes!T140&referentes!U140)","v":""},{"$f":"referentes!S140","v":0},{"$f":"referentes!W140","v":0},null,{"$f":"IF(OR(referentes!U140=96222,referentes!U140=\"\"),\"\",referentes!T140)","v":""}]
[null,null,null,null,null,null,null,null,null,null,null,null,{"$f":"IF(OR(referentes!U141=96222,referentes!U141=\"\"),\"\",referentes!T141&referentes!U141)","v":""},{"$f":"referentes!S141","v":0},{"$f":"referentes!W141","v":0},null,{"$f":"IF(OR(referentes!U141=96222,referentes!U141=\"\"),\"\",referentes!T141)","v":""}]
[null,null,null,null,null,null,null,null,null,null,null,null,{"$f":"IF(OR(referentes!U142=96222,referentes!U142=\"\"),\"\",referentes!T142&referentes!U142)","v":""},{"$f":"referentes!S142","v":0},{"$f":"referentes!W142","v":0},null,{"$f":"IF(OR(referentes!U142=96222,referentes!U142=\"\"),\"\",referentes!T142)","v":""}]
[null,null,null,null,null,null,null,null,null,null,null,null,{"$f":"IF(OR(referentes!U143=96222,referentes!U143=\"\"),\"\",referentes!T143&referentes!U143)","v":""},{"$f":"referentes!S143","v":0},{"$f":"referentes!W143","v":0},null,{"$f":"IF(OR(referentes!U143=96222,referentes!U143=\"\"),\"\",referentes!T143)","v":""}]
[null,null,null,null,null,null,null,null,null,null,null,null,{"$f":"IF(OR(referentes!U144=96222,referentes!U144=\"\"),\"\",referentes!T144&referentes!U144)","v":""},{"$f":"referentes!S144","v":0},{"$f":"referentes!W144","v":0},null,{"$f":"IF(OR(referentes!U144=96222,referentes!U144=\"\"),\"\",referentes!T144)","v":""}]
[null,null,null,null,null,null,null,null,null,null,null,null,{"$f":"IF(OR(referentes!U145=96222,referentes!U145=\"\"),\"\",referentes!T145&referentes!U145)","v":""},{"$f":"referentes!S145","v":0},{"$f":"referentes!W145","v":0},null,{"$f":"IF(OR(referentes!U145=96222,referentes!U145=\"\"),\"\",referentes!T145)","v":""}]
[null,null,null,null,null,null,null,null,null,null,null,null,{"$f":"IF(OR(referentes!U146=96222,referentes!U146=\"\"),\"\",referentes!T146&referentes!U146)","v":""},{"$f":"referentes!S146","v":0},{"$f":"referentes!W146","v":0},null,{"$f":"IF(OR(referentes!U146=96222,referentes!U146=\"\"),\"\",referentes!T146)","v":""}]
[null,null,null,null,null,null,null,null,null,null,null,null,{"$f":"IF(OR(referentes!U147=96222,referentes!U147=\"\"),\"\",referentes!T147&referentes!U147)","v":""},{"$f":"referentes!S147","v":0},{"$f":"referentes!W147","v":0},null,{"$f":"IF(OR(referentes!U147=96222,referentes!U147=\"\"),\"\",referentes!T147)","v":""}]
[null,null,null,null,null,null,null,null,null,null,null,null,{"$f":"IF(OR(referentes!U148=96222,referentes!U148=\"\"),\"\",referentes!T148&referentes!U148)","v":""},{"$f":"referentes!S148","v":0},{"$f":"referentes!W148","v":0},null,{"$f":"IF(OR(referentes!U148=96222,referentes!U148=\"\"),\"\",referentes!T148)","v":""}]
[null,null,null,null,null,null,null,null,null,null,null,null,{"$f":"IF(OR(referentes!U149=96222,referentes!U149=\"\"),\"\",referentes!T149&referentes!U149)","v":""},{"$f":"referentes!S149","v":0},{"$f":"referentes!W149","v":0},null,{"$f":"IF(OR(referentes!U149=96222,referentes!U149=\"\"),\"\",referentes!T149)","v":""}]
[null,null,null,null,null,null,null,null,null,null,null,null,{"$f":"IF(OR(referentes!U150=96222,referentes!U150=\"\"),\"\",referentes!T150&referentes!U150)","v":""},{"$f":"referentes!S150","v":0},{"$f":"referentes!W150","v":0},null,{"$f":"IF(OR(referentes!U150=96222,referentes!U150=\"\"),\"\",referentes!T150)","v":""}]
[null,null,null,null,null,null,null,null,null,null,null,null,{"$f":"IF(OR(referentes!U151=96222,referentes!U151=\"\"),\"\",referentes!T151&referentes!U151)","v":""},{"$f":"referentes!S151","v":0},{"$f":"referentes!W151","v":0},null,{"$f":"IF(OR(referentes!U151=96222,referentes!U151=\"\"),\"\",referentes!T151)","v":""}]
[null,null,null,null,null,null,null,null,null,null,null,null,{"$f":"IF(OR(referentes!U152=96222,referentes!U152=\"\"),\"\",referentes!T152&referentes!U152)","v":""},{"$f":"referentes!S152","v":0},{"$f":"referentes!W152","v":0},null,{"$f":"IF(OR(referentes!U152=96222,referentes!U152=\"\"),\"\",referentes!T152)","v":""}]
[null,null,null,null,null,null,null,null,null,null,null,null,{"$f":"IF(OR(referentes!U153=96222,referentes!U153=\"\"),\"\",referentes!T153&referentes!U153)","v":""},{"$f":"referentes!S153","v":0},{"$f":"referentes!W153","v":0},null,{"$f":"IF(OR(referentes!U153=96222,referentes!U153=\"\"),\"\",referentes!T153)","v":""}]
[null,null,null,null,null,null,null,null,null,null,null,null,{"$f":"IF(OR(referentes!U154=96222,referentes!U154=\"\"),\"\",referentes!T154&referentes!U154)","v":""},{"$f":"referentes!S154","v":0},{"$f":"referentes!W154","v":0},null,{"$f":"IF(OR(referentes!U154=96222,referentes!U154=\"\"),\"\",referentes!T154)","v":""}]
[null,null,null,null,null,null,null,null,null,null,null,null,{"$f":"IF(OR(referentes!U155=96222,referentes!U155=\"\"),\"\",referentes!T155&referentes!U155)","v":""},{"$f":"referentes!S155","v":0},{"$f":"referentes!W155","v":0},null,{"$f":"IF(OR(referentes!U155=96222,referentes!U155=\"\"),\"\",referentes!T155)","v":""}]
[null,null,null,null,null,null,null,null,null,null,null,null,{"$f":"IF(OR(referentes!U156=96222,referentes!U156=\"\"),\"\",referentes!T156&referentes!U156)","v":""},{"$f":"referentes!S156","v":0},{"$f":"referentes!W156","v":0},null,{"$f":"IF(OR(referentes!U156=96222,referentes!U156=\"\"),\"\",referentes!T156)","v":""}]
[null,null,null,null,null,null,null,null,null,null,null,null,{"$f":"IF(OR(referentes!U157=96222,referentes!U157=\"\"),\"\",referentes!T157&referentes!U157)","v":""},{"$f":"referentes!S157","v":0},{"$f":"referentes!W157","v":0},null,{"$f":"IF(OR(referentes!U157=96222,referentes!U157=\"\"),\"\",referentes!T157)","v":""}]
[null,null,null,null,null,null,null,null,null,null,null,null,{"$f":"IF(OR(referentes!U158=96222,referentes!U158=\"\"),\"\",referentes!T158&referentes!U158)","v":""},{"$f":"referentes!S158","v":0},{"$f":"referentes!W158","v":0},null,{"$f":"IF(OR(referentes!U158=96222,referentes!U158=\"\"),\"\",referentes!T158)","v":""}]
[null,null,null,null,null,null,null,null,null,null,null,null,{"$f":"IF(OR(referentes!U159=96222,referentes!U159=\"\"),\"\",referentes!T159&referentes!U159)","v":""},{"$f":"referentes!S159","v":0},{"$f":"referentes!W159","v":0},null,{"$f":"IF(OR(referentes!U159=96222,referentes!U159=\"\"),\"\",referentes!T159)","v":""}]
[null,null,null,null,null,null,null,null,null,null,null,null,{"$f":"IF(OR(referentes!U160=96222,referentes!U160=\"\"),\"\",referentes!T160&referentes!U160)","v":""},{"$f":"referentes!S160","v":0},{"$f":"referentes!W160","v":0},null,{"$f":"IF(OR(referentes!U160=96222,referentes!U160=\"\"),\"\",referentes!T160)","v":""}]
[null,null,null,null,null,null,null,null,null,null,null,null,{"$f":"IF(OR(referentes!U161=96222,referentes!U161=\"\"),\"\",referentes!T161&referentes!U161)","v":""},{"$f":"referentes!S161","v":0},{"$f":"referentes!W161","v":0},null,{"$f":"IF(OR(referentes!U161=96222,referentes!U161=\"\"),\"\",referentes!T161)","v":""}]
[null,null,null,null,null,null,null,null,null,null,null,null,{"$f":"IF(OR(referentes!U162=96222,referentes!U162=\"\"),\"\",referentes!T162&referentes!U162)","v":""},{"$f":"referentes!S162","v":0},{"$f":"referentes!W162","v":0},null,{"$f":"IF(OR(referentes!U162=96222,referentes!U162=\"\"),\"\",referentes!T162)","v":""}]
[null,null,null,null,null,null,null,null,null,null,null,null,{"$f":"IF(OR(referentes!U163=96222,referentes!U163=\"\"),\"\",referentes!T163&referentes!U163)","v":""},{"$f":"referentes!S163","v":0},{"$f":"referentes!W163","v":0},null,{"$f":"IF(OR(referentes!U163=96222,referentes!U163=\"\"),\"\",referentes!T163)","v":""}]
[null,null,null,null,null,null,null,null,null,null,null,null,{"$f":"IF(OR(referentes!U164=96222,referentes!U164=\"\"),\"\",referentes!T164&referentes!U164)","v":""},{"$f":"referentes!S164","v":0},{"$f":"referentes!W164","v":0},null,{"$f":"IF(OR(referentes!U164=96222,referentes!U164=\"\"),\"\",referentes!T164)","v":""}]
[null,null,null,null,null,null,null,null,null,null,null,null,{"$f":"IF(OR(referentes!U165=96222,referentes!U165=\"\"),\"\",referentes!T165&referentes!U165)","v":""},{"$f":"referentes!S165","v":0},{"$f":"referentes!W165","v":0},null,{"$f":"IF(OR(referentes!U165=96222,referentes!U165=\"\"),\"\",referentes!T165)","v":""}]
[null,null,null,null,null,null,null,null,null,null,null,null,{"$f":"IF(OR(referentes!U166=96222,referentes!U166=\"\"),\"\",referentes!T166&referentes!U166)","v":""},{"$f":"referentes!S166","v":0},{"$f":"referentes!W166","v":0},null,{"$f":"IF(OR(referentes!U166=96222,referentes!U166=\"\"),\"\",referentes!T166)","v":""}]
[null,null,null,null,null,null,null,null,null,null,null,null,{"$f":"IF(OR(referentes!U167=96222,referentes!U167=\"\"),\"\",referentes!T167&referentes!U167)","v":""},{"$f":"referentes!S167","v":0},{"$f":"referentes!W167","v":0},null,{"$f":"IF(OR(referentes!U167=96222,referentes!U167=\"\"),\"\",referentes!T167)","v":""}]
[null,null,null,null,null,null,null,null,null,null,null,null,{"$f":"IF(OR(referentes!U168=96222,referentes!U168=\"\"),\"\",referentes!T168&referentes!U168)","v":""},{"$f":"referentes!S168","v":0},{"$f":"referentes!W168","v":0},null,{"$f":"IF(OR(referentes!U168=96222,referentes!U168=\"\"),\"\",referentes!T168)","v":""}]
[null,null,null,null,null,null,null,null,null,null,null,null,{"$f":"IF(OR(referentes!U169=96222,referentes!U169=\"\"),\"\",referentes!T169&referentes!U169)","v":""},{"$f":"referentes!S169","v":0},{"$f":"referentes!W169","v":0},null,{"$f":"IF(OR(referentes!U169=96222,referentes!U169=\"\"),\"\",referentes!T169)","v":""}]

{"sheet":"Resumen","index":6,"n_rows":501,"n_cols":18,"rows_kept":501,"cut":false,"hidden":false,"merged":[]}
["estacion","nivel","senso","Cuenta de senso","Etiquetas de columna"]
[{"$f":"IF(DATOS!N5<>\"\",DATOS!N5,\"\")","v":""},{"$f":"IF(DATOS!AG5<>\"\",DATOS!AG5,\"\")","v":""},{"$f":"IF(DATOS!AK5<>\"\",DATOS!AK5,\"\")","v":""},null,"","Total ","M",null,null,null,null,null,null,null,null,null,"Total M","Total general"]
[{"$f":"IF(DATOS!N6<>\"\",DATOS!N6,\"\")","v":""},{"$f":"IF(DATOS!AG6<>\"\",DATOS!AG6,\"\")","v":""},{"$f":"IF(DATOS!AK6<>\"\",DATOS!AK6,\"\")","v":""},"Etiquetas de fila",null,null,1,9,10,2,3,4,5,6,7,8]
[{"$f":"IF(DATOS!N7<>\"\",DATOS!N7,\"\")","v":""},{"$f":"IF(DATOS!AG7<>\"\",DATOS!AG7,\"\")","v":""},{"$f":"IF(DATOS!AK7<>\"\",DATOS!AK7,\"\")","v":""},null,460,460,null,null,null,null,null,null,null,null,null,null,null,460]
[{"$f":"IF(DATOS!N8<>\"\",DATOS!N8,\"\")","v":""},{"$f":"IF(DATOS!AG8<>\"\",DATOS!AG8,\"\")","v":""},{"$f":"IF(DATOS!AK8<>\"\",DATOS!AK8,\"\")","v":""},"El Arrecife",null,null,4,4,5,4,3,4,5,4,4,3,40,40]
[{"$f":"IF(DATOS!N9<>\"\",DATOS!N9,\"\")","v":""},{"$f":"IF(DATOS!AG9<>\"\",DATOS!AG9,\"\")","v":""},{"$f":"IF(DATOS!AK9<>\"\",DATOS!AK9,\"\")","v":""},"Total general",460,460,4,4,5,4,3,4,5,4,4,3,40,500]
[{"$f":"IF(DATOS!N10<>\"\",DATOS!N10,\"\")","v":""},{"$f":"IF(DATOS!AG10<>\"\",DATOS!AG10,\"\")","v":""},{"$f":"IF(DATOS!AK10<>\"\",DATOS!AK10,\"\")","v":""}]
[{"$f":"IF(DATOS!N11<>\"\",DATOS!N11,\"\")","v":""},{"$f":"IF(DATOS!AG11<>\"\",DATOS!AG11,\"\")","v":""},{"$f":"IF(DATOS!AK11<>\"\",DATOS!AK11,\"\")","v":""}]
[{"$f":"IF(DATOS!N12<>\"\",DATOS!N12,\"\")","v":""},{"$f":"IF(DATOS!AG12<>\"\",DATOS!AG12,\"\")","v":""},{"$f":"IF(DATOS!AK12<>\"\",DATOS!AK12,\"\")","v":""}]
[{"$f":"IF(DATOS!N13<>\"\",DATOS!N13,\"\")","v":""},{"$f":"IF(DATOS!AG13<>\"\",DATOS!AG13,\"\")","v":""},{"$f":"IF(DATOS!AK13<>\"\",DATOS!AK13,\"\")","v":""}]
[{"$f":"IF(DATOS!N14<>\"\",DATOS!N14,\"\")","v":""},{"$f":"IF(DATOS!AG14<>\"\",DATOS!AG14,\"\")","v":""},{"$f":"IF(DATOS!AK14<>\"\",DATOS!AK14,\"\")","v":""}]
[{"$f":"IF(DATOS!N15<>\"\",DATOS!N15,\"\")","v":""},{"$f":"IF(DATOS!AG15<>\"\",DATOS!AG15,\"\")","v":""},{"$f":"IF(DATOS!AK15<>\"\",DATOS!AK15,\"\")","v":""}]
[{"$f":"IF(DATOS!N16<>\"\",DATOS!N16,\"\")","v":""},{"$f":"IF(DATOS!AG16<>\"\",DATOS!AG16,\"\")","v":""},{"$f":"IF(DATOS!AK16<>\"\",DATOS!AK16,\"\")","v":""}]
[{"$f":"IF(DATOS!N17<>\"\",DATOS!N17,\"\")","v":""},{"$f":"IF(DATOS!AG17<>\"\",DATOS!AG17,\"\")","v":""},{"$f":"IF(DATOS!AK17<>\"\",DATOS!AK17,\"\")","v":""}]
[{"$f":"IF(DATOS!N18<>\"\",DATOS!N18,\"\")","v":""},{"$f":"IF(DATOS!AG18<>\"\",DATOS!AG18,\"\")","v":""},{"$f":"IF(DATOS!AK18<>\"\",DATOS!AK18,\"\")","v":""}]
[{"$f":"IF(DATOS!N19<>\"\",DATOS!N19,\"\")","v":""},{"$f":"IF(DATOS!AG19<>\"\",DATOS!AG19,\"\")","v":""},{"$f":"IF(DATOS!AK19<>\"\",DATOS!AK19,\"\")","v":""}]
[{"$f":"IF(DATOS!N20<>\"\",DATOS!N20,\"\")","v":""},{"$f":"IF(DATOS!AG20<>\"\",DATOS!AG20,\"\")","v":""},{"$f":"IF(DATOS!AK20<>\"\",DATOS!AK20,\"\")","v":""}]
[{"$f":"IF(DATOS!N21<>\"\",DATOS!N21,\"\")","v":""},{"$f":"IF(DATOS!AG21<>\"\",DATOS!AG21,\"\")","v":""},{"$f":"IF(DATOS!AK21<>\"\",DATOS!AK21,\"\")","v":""}]
[{"$f":"IF(DATOS!N22<>\"\",DATOS!N22,\"\")","v":""},{"$f":"IF(DATOS!AG22<>\"\",DATOS!AG22,\"\")","v":""},{"$f":"IF(DATOS!AK22<>\"\",DATOS!AK22,\"\")","v":""}]
[{"$f":"IF(DATOS!N23<>\"\",DATOS!N23,\"\")","v":""},{"$f":"IF(DATOS!AG23<>\"\",DATOS!AG23,\"\")","v":""},{"$f":"IF(DATOS!AK23<>\"\",DATOS!AK23,\"\")","v":""}]
[{"$f":"IF(DATOS!N24<>\"\",DATOS!N24,\"\")","v":""},{"$f":"IF(DATOS!AG24<>\"\",DATOS!AG24,\"\")","v":""},{"$f":"IF(DATOS!AK24<>\"\",DATOS!AK24,\"\")","v":""}]
[{"$f":"IF(DATOS!N25<>\"\",DATOS!N25,\"\")","v":""},{"$f":"IF(DATOS!AG25<>\"\",DATOS!AG25,\"\")","v":""},{"$f":"IF(DATOS!AK25<>\"\",DATOS!AK25,\"\")","v":""}]
[{"$f":"IF(DATOS!N26<>\"\",DATOS!N26,\"\")","v":""},{"$f":"IF(DATOS!AG26<>\"\",DATOS!AG26,\"\")","v":""},{"$f":"IF(DATOS!AK26<>\"\",DATOS!AK26,\"\")","v":""}]
[{"$f":"IF(DATOS!N27<>\"\",DATOS!N27,\"\")","v":""},{"$f":"IF(DATOS!AG27<>\"\",DATOS!AG27,\"\")","v":""},{"$f":"IF(DATOS!AK27<>\"\",DATOS!AK27,\"\")","v":""}]
[{"$f":"IF(DATOS!N28<>\"\",DATOS!N28,\"\")","v":""},{"$f":"IF(DATOS!AG28<>\"\",DATOS!AG28,\"\")","v":""},{"$f":"IF(DATOS!AK28<>\"\",DATOS!AK28,\"\")","v":""}]
[{"$f":"IF(DATOS!N29<>\"\",DATOS!N29,\"\")","v":""},{"$f":"IF(DATOS!AG29<>\"\",DATOS!AG29,\"\")","v":""},{"$f":"IF(DATOS!AK29<>\"\",DATOS!AK29,\"\")","v":""}]
[{"$f":"IF(DATOS!N30<>\"\",DATOS!N30,\"\")","v":""},{"$f":"IF(DATOS!AG30<>\"\",DATOS!AG30,\"\")","v":""},{"$f":"IF(DATOS!AK30<>\"\",DATOS!AK30,\"\")","v":""}]
[{"$f":"IF(DATOS!N31<>\"\",DATOS!N31,\"\")","v":""},{"$f":"IF(DATOS!AG31<>\"\",DATOS!AG31,\"\")","v":""},{"$f":"IF(DATOS!AK31<>\"\",DATOS!AK31,\"\")","v":""}]
[{"$f":"IF(DATOS!N32<>\"\",DATOS!N32,\"\")","v":""},{"$f":"IF(DATOS!AG32<>\"\",DATOS!AG32,\"\")","v":""},{"$f":"IF(DATOS!AK32<>\"\",DATOS!AK32,\"\")","v":""}]
[{"$f":"IF(DATOS!N33<>\"\",DATOS!N33,\"\")","v":""},{"$f":"IF(DATOS!AG33<>\"\",DATOS!AG33,\"\")","v":""},{"$f":"IF(DATOS!AK33<>\"\",DATOS!AK33,\"\")","v":""}]
[{"$f":"IF(DATOS!N34<>\"\",DATOS!N34,\"\")","v":""},{"$f":"IF(DATOS!AG34<>\"\",DATOS!AG34,\"\")","v":""},{"$f":"IF(DATOS!AK34<>\"\",DATOS!AK34,\"\")","v":""}]
[{"$f":"IF(DATOS!N35<>\"\",DATOS!N35,\"\")","v":""},{"$f":"IF(DATOS!AG35<>\"\",DATOS!AG35,\"\")","v":""},{"$f":"IF(DATOS!AK35<>\"\",DATOS!AK35,\"\")","v":""}]
[{"$f":"IF(DATOS!N36<>\"\",DATOS!N36,\"\")","v":""},{"$f":"IF(DATOS!AG36<>\"\",DATOS!AG36,\"\")","v":""},{"$f":"IF(DATOS!AK36<>\"\",DATOS!AK36,\"\")","v":""}]
[{"$f":"IF(DATOS!N37<>\"\",DATOS!N37,\"\")","v":""},{"$f":"IF(DATOS!AG37<>\"\",DATOS!AG37,\"\")","v":""},{"$f":"IF(DATOS!AK37<>\"\",DATOS!AK37,\"\")","v":""}]
[{"$f":"IF(DATOS!N38<>\"\",DATOS!N38,\"\")","v":""},{"$f":"IF(DATOS!AG38<>\"\",DATOS!AG38,\"\")","v":""},{"$f":"IF(DATOS!AK38<>\"\",DATOS!AK38,\"\")","v":""}]
[{"$f":"IF(DATOS!N39<>\"\",DATOS!N39,\"\")","v":""},{"$f":"IF(DATOS!AG39<>\"\",DATOS!AG39,\"\")","v":""},{"$f":"IF(DATOS!AK39<>\"\",DATOS!AK39,\"\")","v":""}]
[{"$f":"IF(DATOS!N40<>\"\",DATOS!N40,\"\")","v":""},{"$f":"IF(DATOS!AG40<>\"\",DATOS!AG40,\"\")","v":""},{"$f":"IF(DATOS!AK40<>\"\",DATOS!AK40,\"\")","v":""}]
[{"$f":"IF(DATOS!N41<>\"\",DATOS!N41,\"\")","v":""},{"$f":"IF(DATOS!AG41<>\"\",DATOS!AG41,\"\")","v":""},{"$f":"IF(DATOS!AK41<>\"\",DATOS!AK41,\"\")","v":""}]
[{"$f":"IF(DATOS!N42<>\"\",DATOS!N42,\"\")","v":""},{"$f":"IF(DATOS!AG42<>\"\",DATOS!AG42,\"\")","v":""},{"$f":"IF(DATOS!AK42<>\"\",DATOS!AK42,\"\")","v":""}]
[{"$f":"IF(DATOS!N43<>\"\",DATOS!N43,\"\")","v":""},{"$f":"IF(DATOS!AG43<>\"\",DATOS!AG43,\"\")","v":""},{"$f":"IF(DATOS!AK43<>\"\",DATOS!AK43,\"\")","v":""}]
[{"$f":"IF(DATOS!N44<>\"\",DATOS!N44,\"\")","v":""},{"$f":"IF(DATOS!AG44<>\"\",DATOS!AG44,\"\")","v":""},{"$f":"IF(DATOS!AK44<>\"\",DATOS!AK44,\"\")","v":""}]
[{"$f":"IF(DATOS!N45<>\"\",DATOS!N45,\"\")","v":""},{"$f":"IF(DATOS!AG45<>\"\",DATOS!AG45,\"\")","v":""},{"$f":"IF(DATOS!AK45<>\"\",DATOS!AK45,\"\")","v":""}]
[{"$f":"IF(DATOS!N46<>\"\",DATOS!N46,\"\")","v":""},{"$f":"IF(DATOS!AG46<>\"\",DATOS!AG46,\"\")","v":""},{"$f":"IF(DATOS!AK46<>\"\",DATOS!AK46,\"\")","v":""}]
[{"$f":"IF(DATOS!N47<>\"\",DATOS!N47,\"\")","v":""},{"$f":"IF(DATOS!AG47<>\"\",DATOS!AG47,\"\")","v":""},{"$f":"IF(DATOS!AK47<>\"\",DATOS!AK47,\"\")","v":""}]
[{"$f":"IF(DATOS!N48<>\"\",DATOS!N48,\"\")","v":""},{"$f":"IF(DATOS!AG48<>\"\",DATOS!AG48,\"\")","v":""},{"$f":"IF(DATOS!AK48<>\"\",DATOS!AK48,\"\")","v":""}]
[{"$f":"IF(DATOS!N49<>\"\",DATOS!N49,\"\")","v":""},{"$f":"IF(DATOS!AG49<>\"\",DATOS!AG49,\"\")","v":""},{"$f":"IF(DATOS!AK49<>\"\",DATOS!AK49,\"\")","v":""}]
[{"$f":"IF(DATOS!N50<>\"\",DATOS!N50,\"\")","v":""},{"$f":"IF(DATOS!AG50<>\"\",DATOS!AG50,\"\")","v":""},{"$f":"IF(DATOS!AK50<>\"\",DATOS!AK50,\"\")","v":""}]
[{"$f":"IF(DATOS!N51<>\"\",DATOS!N51,\"\")","v":""},{"$f":"IF(DATOS!AG51<>\"\",DATOS!AG51,\"\")","v":""},{"$f":"IF(DATOS!AK51<>\"\",DATOS!AK51,\"\")","v":""}]
[{"$f":"IF(DATOS!N52<>\"\",DATOS!N52,\"\")","v":""},{"$f":"IF(DATOS!AG52<>\"\",DATOS!AG52,\"\")","v":""},{"$f":"IF(DATOS!AK52<>\"\",DATOS!AK52,\"\")","v":""}]
[{"$f":"IF(DATOS!N53<>\"\",DATOS!N53,\"\")","v":""},{"$f":"IF(DATOS!AG53<>\"\",DATOS!AG53,\"\")","v":""},{"$f":"IF(DATOS!AK53<>\"\",DATOS!AK53,\"\")","v":""}]
[{"$f":"IF(DATOS!N54<>\"\",DATOS!N54,\"\")","v":""},{"$f":"IF(DATOS!AG54<>\"\",DATOS!AG54,\"\")","v":""},{"$f":"IF(DATOS!AK54<>\"\",DATOS!AK54,\"\")","v":""}]
[{"$f":"IF(DATOS!N55<>\"\",DATOS!N55,\"\")","v":""},{"$f":"IF(DATOS!AG55<>\"\",DATOS!AG55,\"\")","v":""},{"$f":"IF(DATOS!AK55<>\"\",DATOS!AK55,\"\")","v":""}]
[{"$f":"IF(DATOS!N56<>\"\",DATOS!N56,\"\")","v":""},{"$f":"IF(DATOS!AG56<>\"\",DATOS!AG56,\"\")","v":""},{"$f":"IF(DATOS!AK56<>\"\",DATOS!AK56,\"\")","v":""}]
[{"$f":"IF(DATOS!N57<>\"\",DATOS!N57,\"\")","v":""},{"$f":"IF(DATOS!AG57<>\"\",DATOS!AG57,\"\")","v":""},{"$f":"IF(DATOS!AK57<>\"\",DATOS!AK57,\"\")","v":""}]
[{"$f":"IF(DATOS!N58<>\"\",DATOS!N58,\"\")","v":""},{"$f":"IF(DATOS!AG58<>\"\",DATOS!AG58,\"\")","v":""},{"$f":"IF(DATOS!AK58<>\"\",DATOS!AK58,\"\")","v":""}]
[{"$f":"IF(DATOS!N59<>\"\",DATOS!N59,\"\")","v":""},{"$f":"IF(DATOS!AG59<>\"\",DATOS!AG59,\"\")","v":""},{"$f":"IF(DATOS!AK59<>\"\",DATOS!AK59,\"\")","v":""}]
[{"$f":"IF(DATOS!N60<>\"\",DATOS!N60,\"\")","v":""},{"$f":"IF(DATOS!AG60<>\"\",DATOS!AG60,\"\")","v":""},{"$f":"IF(DATOS!AK60<>\"\",DATOS!AK60,\"\")","v":""}]
[{"$f":"IF(DATOS!N61<>\"\",DATOS!N61,\"\")","v":""},{"$f":"IF(DATOS!AG61<>\"\",DATOS!AG61,\"\")","v":""},{"$f":"IF(DATOS!AK61<>\"\",DATOS!AK61,\"\")","v":""}]
[{"$f":"IF(DATOS!N62<>\"\",DATOS!N62,\"\")","v":""},{"$f":"IF(DATOS!AG62<>\"\",DATOS!AG62,\"\")","v":""},{"$f":"IF(DATOS!AK62<>\"\",DATOS!AK62,\"\")","v":""}]
[{"$f":"IF(DATOS!N63<>\"\",DATOS!N63,\"\")","v":""},{"$f":"IF(DATOS!AG63<>\"\",DATOS!AG63,\"\")","v":""},{"$f":"IF(DATOS!AK63<>\"\",DATOS!AK63,\"\")","v":""}]
[{"$f":"IF(DATOS!N64<>\"\",DATOS!N64,\"\")","v":""},{"$f":"IF(DATOS!AG64<>\"\",DATOS!AG64,\"\")","v":""},{"$f":"IF(DATOS!AK64<>\"\",DATOS!AK64,\"\")","v":""}]
[{"$f":"IF(DATOS!N65<>\"\",DATOS!N65,\"\")","v":""},{"$f":"IF(DATOS!AG65<>\"\",DATOS!AG65,\"\")","v":""},{"$f":"IF(DATOS!AK65<>\"\",DATOS!AK65,\"\")","v":""}]
[{"$f":"IF(DATOS!N66<>\"\",DATOS!N66,\"\")","v":""},{"$f":"IF(DATOS!AG66<>\"\",DATOS!AG66,\"\")","v":""},{"$f":"IF(DATOS!AK66<>\"\",DATOS!AK66,\"\")","v":""}]
[{"$f":"IF(DATOS!N67<>\"\",DATOS!N67,\"\")","v":""},{"$f":"IF(DATOS!AG67<>\"\",DATOS!AG67,\"\")","v":""},{"$f":"IF(DATOS!AK67<>\"\",DATOS!AK67,\"\")","v":""}]
[{"$f":"IF(DATOS!N68<>\"\",DATOS!N68,\"\")","v":""},{"$f":"IF(DATOS!AG68<>\"\",DATOS!AG68,\"\")","v":""},{"$f":"IF(DATOS!AK68<>\"\",DATOS!AK68,\"\")","v":""}]
[{"$f":"IF(DATOS!N69<>\"\",DATOS!N69,\"\")","v":""},{"$f":"IF(DATOS!AG69<>\"\",DATOS!AG69,\"\")","v":""},{"$f":"IF(DATOS!AK69<>\"\",DATOS!AK69,\"\")","v":""}]
[{"$f":"IF(DATOS!N70<>\"\",DATOS!N70,\"\")","v":""},{"$f":"IF(DATOS!AG70<>\"\",DATOS!AG70,\"\")","v":""},{"$f":"IF(DATOS!AK70<>\"\",DATOS!AK70,\"\")","v":""}]
[{"$f":"IF(DATOS!N71<>\"\",DATOS!N71,\"\")","v":""},{"$f":"IF(DATOS!AG71<>\"\",DATOS!AG71,\"\")","v":""},{"$f":"IF(DATOS!AK71<>\"\",DATOS!AK71,\"\")","v":""}]
[{"$f":"IF(DATOS!N72<>\"\",DATOS!N72,\"\")","v":""},{"$f":"IF(DATOS!AG72<>\"\",DATOS!AG72,\"\")","v":""},{"$f":"IF(DATOS!AK72<>\"\",DATOS!AK72,\"\")","v":""}]
[{"$f":"IF(DATOS!N73<>\"\",DATOS!N73,\"\")","v":""},{"$f":"IF(DATOS!AG73<>\"\",DATOS!AG73,\"\")","v":""},{"$f":"IF(DATOS!AK73<>\"\",DATOS!AK73,\"\")","v":""}]
[{"$f":"IF(DATOS!N74<>\"\",DATOS!N74,\"\")","v":""},{"$f":"IF(DATOS!AG74<>\"\",DATOS!AG74,\"\")","v":""},{"$f":"IF(DATOS!AK74<>\"\",DATOS!AK74,\"\")","v":""}]
[{"$f":"IF(DATOS!N75<>\"\",DATOS!N75,\"\")","v":""},{"$f":"IF(DATOS!AG75<>\"\",DATOS!AG75,\"\")","v":""},{"$f":"IF(DATOS!AK75<>\"\",DATOS!AK75,\"\")","v":""}]
[{"$f":"IF(DATOS!N76<>\"\",DATOS!N76,\"\")","v":""},{"$f":"IF(DATOS!AG76<>\"\",DATOS!AG76,\"\")","v":""},{"$f":"IF(DATOS!AK76<>\"\",DATOS!AK76,\"\")","v":""}]
[{"$f":"IF(DATOS!N77<>\"\",DATOS!N77,\"\")","v":""},{"$f":"IF(DATOS!AG77<>\"\",DATOS!AG77,\"\")","v":""},{"$f":"IF(DATOS!AK77<>\"\",DATOS!AK77,\"\")","v":""}]
[{"$f":"IF(DATOS!N78<>\"\",DATOS!N78,\"\")","v":""},{"$f":"IF(DATOS!AG78<>\"\",DATOS!AG78,\"\")","v":""},{"$f":"IF(DATOS!AK78<>\"\",DATOS!AK78,\"\")","v":""}]
[{"$f":"IF(DATOS!N79<>\"\",DATOS!N79,\"\")","v":""},{"$f":"IF(DATOS!AG79<>\"\",DATOS!AG79,\"\")","v":""},{"$f":"IF(DATOS!AK79<>\"\",DATOS!AK79,\"\")","v":""}]
[{"$f":"IF(DATOS!N80<>\"\",DATOS!N80,\"\")","v":""},{"$f":"IF(DATOS!AG80<>\"\",DATOS!AG80,\"\")","v":""},{"$f":"IF(DATOS!AK80<>\"\",DATOS!AK80,\"\")","v":""}]
[{"$f":"IF(DATOS!N81<>\"\",DATOS!N81,\"\")","v":""},{"$f":"IF(DATOS!AG81<>\"\",DATOS!AG81,\"\")","v":""},{"$f":"IF(DATOS!AK81<>\"\",DATOS!AK81,\"\")","v":""}]
[{"$f":"IF(DATOS!N82<>\"\",DATOS!N82,\"\")","v":""},{"$f":"IF(DATOS!AG82<>\"\",DATOS!AG82,\"\")","v":""},{"$f":"IF(DATOS!AK82<>\"\",DATOS!AK82,\"\")","v":""}]
[{"$f":"IF(DATOS!N83<>\"\",DATOS!N83,\"\")","v":""},{"$f":"IF(DATOS!AG83<>\"\",DATOS!AG83,\"\")","v":""},{"$f":"IF(DATOS!AK83<>\"\",DATOS!AK83,\"\")","v":""}]
[{"$f":"IF(DATOS!N84<>\"\",DATOS!N84,\"\")","v":""},{"$f":"IF(DATOS!AG84<>\"\",DATOS!AG84,\"\")","v":""},{"$f":"IF(DATOS!AK84<>\"\",DATOS!AK84,\"\")","v":""}]
[{"$f":"IF(DATOS!N85<>\"\",DATOS!N85,\"\")","v":""},{"$f":"IF(DATOS!AG85<>\"\",DATOS!AG85,\"\")","v":""},{"$f":"IF(DATOS!AK85<>\"\",DATOS!AK85,\"\")","v":""}]
[{"$f":"IF(DATOS!N86<>\"\",DATOS!N86,\"\")","v":""},{"$f":"IF(DATOS!AG86<>\"\",DATOS!AG86,\"\")","v":""},{"$f":"IF(DATOS!AK86<>\"\",DATOS!AK86,\"\")","v":""}]
[{"$f":"IF(DATOS!N87<>\"\",DATOS!N87,\"\")","v":""},{"$f":"IF(DATOS!AG87<>\"\",DATOS!AG87,\"\")","v":""},{"$f":"IF(DATOS!AK87<>\"\",DATOS!AK87,\"\")","v":""}]
[{"$f":"IF(DATOS!N88<>\"\",DATOS!N88,\"\")","v":""},{"$f":"IF(DATOS!AG88<>\"\",DATOS!AG88,\"\")","v":""},{"$f":"IF(DATOS!AK88<>\"\",DATOS!AK88,\"\")","v":""}]
[{"$f":"IF(DATOS!N89<>\"\",DATOS!N89,\"\")","v":""},{"$f":"IF(DATOS!AG89<>\"\",DATOS!AG89,\"\")","v":""},{"$f":"IF(DATOS!AK89<>\"\",DATOS!AK89,\"\")","v":""}]
[{"$f":"IF(DATOS!N90<>\"\",DATOS!N90,\"\")","v":""},{"$f":"IF(DATOS!AG90<>\"\",DATOS!AG90,\"\")","v":""},{"$f":"IF(DATOS!AK90<>\"\",DATOS!AK90,\"\")","v":""}]
[{"$f":"IF(DATOS!N91<>\"\",DATOS!N91,\"\")","v":""},{"$f":"IF(DATOS!AG91<>\"\",DATOS!AG91,\"\")","v":""},{"$f":"IF(DATOS!AK91<>\"\",DATOS!AK91,\"\")","v":""}]
[{"$f":"IF(DATOS!N92<>\"\",DATOS!N92,\"\")","v":""},{"$f":"IF(DATOS!AG92<>\"\",DATOS!AG92,\"\")","v":""},{"$f":"IF(DATOS!AK92<>\"\",DATOS!AK92,\"\")","v":""}]
[{"$f":"IF(DATOS!N93<>\"\",DATOS!N93,\"\")","v":""},{"$f":"IF(DATOS!AG93<>\"\",DATOS!AG93,\"\")","v":""},{"$f":"IF(DATOS!AK93<>\"\",DATOS!AK93,\"\")","v":""}]
[{"$f":"IF(DATOS!N94<>\"\",DATOS!N94,\"\")","v":""},{"$f":"IF(DATOS!AG94<>\"\",DATOS!AG94,\"\")","v":""},{"$f":"IF(DATOS!AK94<>\"\",DATOS!AK94,\"\")","v":""}]
[{"$f":"IF(DATOS!N95<>\"\",DATOS!N95,\"\")","v":""},{"$f":"IF(DATOS!AG95<>\"\",DATOS!AG95,\"\")","v":""},{"$f":"IF(DATOS!AK95<>\"\",DATOS!AK95,\"\")","v":""}]
[{"$f":"IF(DATOS!N96<>\"\",DATOS!N96,\"\")","v":""},{"$f":"IF(DATOS!AG96<>\"\",DATOS!AG96,\"\")","v":""},{"$f":"IF(DATOS!AK96<>\"\",DATOS!AK96,\"\")","v":""}]
[{"$f":"IF(DATOS!N97<>\"\",DATOS!N97,\"\")","v":""},{"$f":"IF(DATOS!AG97<>\"\",DATOS!AG97,\"\")","v":""},{"$f":"IF(DATOS!AK97<>\"\",DATOS!AK97,\"\")","v":""}]
[{"$f":"IF(DATOS!N98<>\"\",DATOS!N98,\"\")","v":""},{"$f":"IF(DATOS!AG98<>\"\",DATOS!AG98,\"\")","v":""},{"$f":"IF(DATOS!AK98<>\"\",DATOS!AK98,\"\")","v":""}]
[{"$f":"IF(DATOS!N99<>\"\",DATOS!N99,\"\")","v":""},{"$f":"IF(DATOS!AG99<>\"\",DATOS!AG99,\"\")","v":""},{"$f":"IF(DATOS!AK99<>\"\",DATOS!AK99,\"\")","v":""}]
[{"$f":"IF(DATOS!N100<>\"\",DATOS!N100,\"\")","v":""},{"$f":"IF(DATOS!AG100<>\"\",DATOS!AG100,\"\")","v":""},{"$f":"IF(DATOS!AK100<>\"\",DATOS!AK100,\"\")","v":""}]
[{"$f":"IF(DATOS!N101<>\"\",DATOS!N101,\"\")","v":""},{"$f":"IF(DATOS!AG101<>\"\",DATOS!AG101,\"\")","v":""},{"$f":"IF(DATOS!AK101<>\"\",DATOS!AK101,\"\")","v":""}]
[{"$f":"IF(DATOS!N102<>\"\",DATOS!N102,\"\")","v":""},{"$f":"IF(DATOS!AG102<>\"\",DATOS!AG102,\"\")","v":""},{"$f":"IF(DATOS!AK102<>\"\",DATOS!AK102,\"\")","v":""}]
[{"$f":"IF(DATOS!N103<>\"\",DATOS!N103,\"\")","v":""},{"$f":"IF(DATOS!AG103<>\"\",DATOS!AG103,\"\")","v":""},{"$f":"IF(DATOS!AK103<>\"\",DATOS!AK103,\"\")","v":""}]
[{"$f":"IF(DATOS!N104<>\"\",DATOS!N104,\"\")","v":""},{"$f":"IF(DATOS!AG104<>\"\",DATOS!AG104,\"\")","v":""},{"$f":"IF(DATOS!AK104<>\"\",DATOS!AK104,\"\")","v":""}]
[{"$f":"IF(DATOS!N105<>\"\",DATOS!N105,\"\")","v":""},{"$f":"IF(DATOS!AG105<>\"\",DATOS!AG105,\"\")","v":""},{"$f":"IF(DATOS!AK105<>\"\",DATOS!AK105,\"\")","v":""}]
[{"$f":"IF(DATOS!N106<>\"\",DATOS!N106,\"\")","v":""},{"$f":"IF(DATOS!AG106<>\"\",DATOS!AG106,\"\")","v":""},{"$f":"IF(DATOS!AK106<>\"\",DATOS!AK106,\"\")","v":""}]
[{"$f":"IF(DATOS!N107<>\"\",DATOS!N107,\"\")","v":""},{"$f":"IF(DATOS!AG107<>\"\",DATOS!AG107,\"\")","v":""},{"$f":"IF(DATOS!AK107<>\"\",DATOS!AK107,\"\")","v":""}]
[{"$f":"IF(DATOS!N108<>\"\",DATOS!N108,\"\")","v":""},{"$f":"IF(DATOS!AG108<>\"\",DATOS!AG108,\"\")","v":""},{"$f":"IF(DATOS!AK108<>\"\",DATOS!AK108,\"\")","v":""}]
[{"$f":"IF(DATOS!N109<>\"\",DATOS!N109,\"\")","v":""},{"$f":"IF(DATOS!AG109<>\"\",DATOS!AG109,\"\")","v":""},{"$f":"IF(DATOS!AK109<>\"\",DATOS!AK109,\"\")","v":""}]
[{"$f":"IF(DATOS!N110<>\"\",DATOS!N110,\"\")","v":""},{"$f":"IF(DATOS!AG110<>\"\",DATOS!AG110,\"\")","v":""},{"$f":"IF(DATOS!AK110<>\"\",DATOS!AK110,\"\")","v":""}]
[{"$f":"IF(DATOS!N111<>\"\",DATOS!N111,\"\")","v":""},{"$f":"IF(DATOS!AG111<>\"\",DATOS!AG111,\"\")","v":""},{"$f":"IF(DATOS!AK111<>\"\",DATOS!AK111,\"\")","v":""}]
[{"$f":"IF(DATOS!N112<>\"\",DATOS!N112,\"\")","v":""},{"$f":"IF(DATOS!AG112<>\"\",DATOS!AG112,\"\")","v":""},{"$f":"IF(DATOS!AK112<>\"\",DATOS!AK112,\"\")","v":""}]
[{"$f":"IF(DATOS!N113<>\"\",DATOS!N113,\"\")","v":""},{"$f":"IF(DATOS!AG113<>\"\",DATOS!AG113,\"\")","v":""},{"$f":"IF(DATOS!AK113<>\"\",DATOS!AK113,\"\")","v":""}]
[{"$f":"IF(DATOS!N114<>\"\",DATOS!N114,\"\")","v":""},{"$f":"IF(DATOS!AG114<>\"\",DATOS!AG114,\"\")","v":""},{"$f":"IF(DATOS!AK114<>\"\",DATOS!AK114,\"\")","v":""}]
[{"$f":"IF(DATOS!N115<>\"\",DATOS!N115,\"\")","v":""},{"$f":"IF(DATOS!AG115<>\"\",DATOS!AG115,\"\")","v":""},{"$f":"IF(DATOS!AK115<>\"\",DATOS!AK115,\"\")","v":""}]
[{"$f":"IF(DATOS!N116<>\"\",DATOS!N116,\"\")","v":""},{"$f":"IF(DATOS!AG116<>\"\",DATOS!AG116,\"\")","v":""},{"$f":"IF(DATOS!AK116<>\"\",DATOS!AK116,\"\")","v":""}]
[{"$f":"IF(DATOS!N117<>\"\",DATOS!N117,\"\")","v":""},{"$f":"IF(DATOS!AG117<>\"\",DATOS!AG117,\"\")","v":""},{"$f":"IF(DATOS!AK117<>\"\",DATOS!AK117,\"\")","v":""}]
[{"$f":"IF(DATOS!N118<>\"\",DATOS!N118,\"\")","v":""},{"$f":"IF(DATOS!AG118<>\"\",DATOS!AG118,\"\")","v":""},{"$f":"IF(DATOS!AK118<>\"\",DATOS!AK118,\"\")","v":""}]
[{"$f":"IF(DATOS!N119<>\"\",DATOS!N119,\"\")","v":""},{"$f":"IF(DATOS!AG119<>\"\",DATOS!AG119,\"\")","v":""},{"$f":"IF(DATOS!AK119<>\"\",DATOS!AK119,\"\")","v":""}]
[{"$f":"IF(DATOS!N120<>\"\",DATOS!N120,\"\")","v":""},{"$f":"IF(DATOS!AG120<>\"\",DATOS!AG120,\"\")","v":""},{"$f":"IF(DATOS!AK120<>\"\",DATOS!AK120,\"\")","v":""}]
[{"$f":"IF(DATOS!N121<>\"\",DATOS!N121,\"\")","v":""},{"$f":"IF(DATOS!AG121<>\"\",DATOS!AG121,\"\")","v":""},{"$f":"IF(DATOS!AK121<>\"\",DATOS!AK121,\"\")","v":""}]
[{"$f":"IF(DATOS!N122<>\"\",DATOS!N122,\"\")","v":""},{"$f":"IF(DATOS!AG122<>\"\",DATOS!AG122,\"\")","v":""},{"$f":"IF(DATOS!AK122<>\"\",DATOS!AK122,\"\")","v":""}]
[{"$f":"IF(DATOS!N123<>\"\",DATOS!N123,\"\")","v":""},{"$f":"IF(DATOS!AG123<>\"\",DATOS!AG123,\"\")","v":""},{"$f":"IF(DATOS!AK123<>\"\",DATOS!AK123,\"\")","v":""}]
[{"$f":"IF(DATOS!N124<>\"\",DATOS!N124,\"\")","v":""},{"$f":"IF(DATOS!AG124<>\"\",DATOS!AG124,\"\")","v":""},{"$f":"IF(DATOS!AK124<>\"\",DATOS!AK124,\"\")","v":""}]
[{"$f":"IF(DATOS!N125<>\"\",DATOS!N125,\"\")","v":""},{"$f":"IF(DATOS!AG125<>\"\",DATOS!AG125,\"\")","v":""},{"$f":"IF(DATOS!AK125<>\"\",DATOS!AK125,\"\")","v":""}]
[{"$f":"IF(DATOS!N126<>\"\",DATOS!N126,\"\")","v":""},{"$f":"IF(DATOS!AG126<>\"\",DATOS!AG126,\"\")","v":""},{"$f":"IF(DATOS!AK126<>\"\",DATOS!AK126,\"\")","v":""}]
[{"$f":"IF(DATOS!N127<>\"\",DATOS!N127,\"\")","v":""},{"$f":"IF(DATOS!AG127<>\"\",DATOS!AG127,\"\")","v":""},{"$f":"IF(DATOS!AK127<>\"\",DATOS!AK127,\"\")","v":""}]
[{"$f":"IF(DATOS!N128<>\"\",DATOS!N128,\"\")","v":""},{"$f":"IF(DATOS!AG128<>\"\",DATOS!AG128,\"\")","v":""},{"$f":"IF(DATOS!AK128<>\"\",DATOS!AK128,\"\")","v":""}]
[{"$f":"IF(DATOS!N129<>\"\",DATOS!N129,\"\")","v":""},{"$f":"IF(DATOS!AG129<>\"\",DATOS!AG129,\"\")","v":""},{"$f":"IF(DATOS!AK129<>\"\",DATOS!AK129,\"\")","v":""}]
[{"$f":"IF(DATOS!N130<>\"\",DATOS!N130,\"\")","v":""},{"$f":"IF(DATOS!AG130<>\"\",DATOS!AG130,\"\")","v":""},{"$f":"IF(DATOS!AK130<>\"\",DATOS!AK130,\"\")","v":""}]
[{"$f":"IF(DATOS!N131<>\"\",DATOS!N131,\"\")","v":""},{"$f":"IF(DATOS!AG131<>\"\",DATOS!AG131,\"\")","v":""},{"$f":"IF(DATOS!AK131<>\"\",DATOS!AK131,\"\")","v":""}]
[{"$f":"IF(DATOS!N132<>\"\",DATOS!N132,\"\")","v":""},{"$f":"IF(DATOS!AG132<>\"\",DATOS!AG132,\"\")","v":""},{"$f":"IF(DATOS!AK132<>\"\",DATOS!AK132,\"\")","v":""}]
[{"$f":"IF(DATOS!N133<>\"\",DATOS!N133,\"\")","v":""},{"$f":"IF(DATOS!AG133<>\"\",DATOS!AG133,\"\")","v":""},{"$f":"IF(DATOS!AK133<>\"\",DATOS!AK133,\"\")","v":""}]
[{"$f":"IF(DATOS!N134<>\"\",DATOS!N134,\"\")","v":""},{"$f":"IF(DATOS!AG134<>\"\",DATOS!AG134,\"\")","v":""},{"$f":"IF(DATOS!AK134<>\"\",DATOS!AK134,\"\")","v":""}]
[{"$f":"IF(DATOS!N135<>\"\",DATOS!N135,\"\")","v":""},{"$f":"IF(DATOS!AG135<>\"\",DATOS!AG135,\"\")","v":""},{"$f":"IF(DATOS!AK135<>\"\",DATOS!AK135,\"\")","v":""}]
[{"$f":"IF(DATOS!N136<>\"\",DATOS!N136,\"\")","v":""},{"$f":"IF(DATOS!AG136<>\"\",DATOS!AG136,\"\")","v":""},{"$f":"IF(DATOS!AK136<>\"\",DATOS!AK136,\"\")","v":""}]
[{"$f":"IF(DATOS!N137<>\"\",DATOS!N137,\"\")","v":""},{"$f":"IF(DATOS!AG137<>\"\",DATOS!AG137,\"\")","v":""},{"$f":"IF(DATOS!AK137<>\"\",DATOS!AK137,\"\")","v":""}]
[{"$f":"IF(DATOS!N138<>\"\",DATOS!N138,\"\")","v":""},{"$f":"IF(DATOS!AG138<>\"\",DATOS!AG138,\"\")","v":""},{"$f":"IF(DATOS!AK138<>\"\",DATOS!AK138,\"\")","v":""}]
[{"$f":"IF(DATOS!N139<>\"\",DATOS!N139,\"\")","v":""},{"$f":"IF(DATOS!AG139<>\"\",DATOS!AG139,\"\")","v":""},{"$f":"IF(DATOS!AK139<>\"\",DATOS!AK139,\"\")","v":""}]
[{"$f":"IF(DATOS!N140<>\"\",DATOS!N140,\"\")","v":""},{"$f":"IF(DATOS!AG140<>\"\",DATOS!AG140,\"\")","v":""},{"$f":"IF(DATOS!AK140<>\"\",DATOS!AK140,\"\")","v":""}]
[{"$f":"IF(DATOS!N141<>\"\",DATOS!N141,\"\")","v":""},{"$f":"IF(DATOS!AG141<>\"\",DATOS!AG141,\"\")","v":""},{"$f":"IF(DATOS!AK141<>\"\",DATOS!AK141,\"\")","v":""}]
[{"$f":"IF(DATOS!N142<>\"\",DATOS!N142,\"\")","v":""},{"$f":"IF(DATOS!AG142<>\"\",DATOS!AG142,\"\")","v":""},{"$f":"IF(DATOS!AK142<>\"\",DATOS!AK142,\"\")","v":""}]
[{"$f":"IF(DATOS!N143<>\"\",DATOS!N143,\"\")","v":""},{"$f":"IF(DATOS!AG143<>\"\",DATOS!AG143,\"\")","v":""},{"$f":"IF(DATOS!AK143<>\"\",DATOS!AK143,\"\")","v":""}]
[{"$f":"IF(DATOS!N144<>\"\",DATOS!N144,\"\")","v":""},{"$f":"IF(DATOS!AG144<>\"\",DATOS!AG144,\"\")","v":""},{"$f":"IF(DATOS!AK144<>\"\",DATOS!AK144,\"\")","v":""}]
[{"$f":"IF(DATOS!N145<>\"\",DATOS!N145,\"\")","v":""},{"$f":"IF(DATOS!AG145<>\"\",DATOS!AG145,\"\")","v":""},{"$f":"IF(DATOS!AK145<>\"\",DATOS!AK145,\"\")","v":""}]
[{"$f":"IF(DATOS!N146<>\"\",DATOS!N146,\"\")","v":""},{"$f":"IF(DATOS!AG146<>\"\",DATOS!AG146,\"\")","v":""},{"$f":"IF(DATOS!AK146<>\"\",DATOS!AK146,\"\")","v":""}]
[{"$f":"IF(DATOS!N147<>\"\",DATOS!N147,\"\")","v":""},{"$f":"IF(DATOS!AG147<>\"\",DATOS!AG147,\"\")","v":""},{"$f":"IF(DATOS!AK147<>\"\",DATOS!AK147,\"\")","v":""}]
[{"$f":"IF(DATOS!N148<>\"\",DATOS!N148,\"\")","v":""},{"$f":"IF(DATOS!AG148<>\"\",DATOS!AG148,\"\")","v":""},{"$f":"IF(DATOS!AK148<>\"\",DATOS!AK148,\"\")","v":""}]
[{"$f":"IF(DATOS!N149<>\"\",DATOS!N149,\"\")","v":""},{"$f":"IF(DATOS!AG149<>\"\",DATOS!AG149,\"\")","v":""},{"$f":"IF(DATOS!AK149<>\"\",DATOS!AK149,\"\")","v":""}]
[{"$f":"IF(DATOS!N150<>\"\",DATOS!N150,\"\")","v":""},{"$f":"IF(DATOS!AG150<>\"\",DATOS!AG150,\"\")","v":""},{"$f":"IF(DATOS!AK150<>\"\",DATOS!AK150,\"\")","v":""}]
[{"$f":"IF(DATOS!N151<>\"\",DATOS!N151,\"\")","v":""},{"$f":"IF(DATOS!AG151<>\"\",DATOS!AG151,\"\")","v":""},{"$f":"IF(DATOS!AK151<>\"\",DATOS!AK151,\"\")","v":""}]
[{"$f":"IF(DATOS!N152<>\"\",DATOS!N152,\"\")","v":""},{"$f":"IF(DATOS!AG152<>\"\",DATOS!AG152,\"\")","v":""},{"$f":"IF(DATOS!AK152<>\"\",DATOS!AK152,\"\")","v":""}]
[{"$f":"IF(DATOS!N153<>\"\",DATOS!N153,\"\")","v":""},{"$f":"IF(DATOS!AG153<>\"\",DATOS!AG153,\"\")","v":""},{"$f":"IF(DATOS!AK153<>\"\",DATOS!AK153,\"\")","v":""}]
[{"$f":"IF(DATOS!N154<>\"\",DATOS!N154,\"\")","v":""},{"$f":"IF(DATOS!AG154<>\"\",DATOS!AG154,\"\")","v":""},{"$f":"IF(DATOS!AK154<>\"\",DATOS!AK154,\"\")","v":""}]
[{"$f":"IF(DATOS!N155<>\"\",DATOS!N155,\"\")","v":""},{"$f":"IF(DATOS!AG155<>\"\",DATOS!AG155,\"\")","v":""},{"$f":"IF(DATOS!AK155<>\"\",DATOS!AK155,\"\")","v":""}]
[{"$f":"IF(DATOS!N156<>\"\",DATOS!N156,\"\")","v":""},{"$f":"IF(DATOS!AG156<>\"\",DATOS!AG156,\"\")","v":""},{"$f":"IF(DATOS!AK156<>\"\",DATOS!AK156,\"\")","v":""}]
[{"$f":"IF(DATOS!N157<>\"\",DATOS!N157,\"\")","v":""},{"$f":"IF(DATOS!AG157<>\"\",DATOS!AG157,\"\")","v":""},{"$f":"IF(DATOS!AK157<>\"\",DATOS!AK157,\"\")","v":""}]
[{"$f":"IF(DATOS!N158<>\"\",DATOS!N158,\"\")","v":""},{"$f":"IF(DATOS!AG158<>\"\",DATOS!AG158,\"\")","v":""},{"$f":"IF(DATOS!AK158<>\"\",DATOS!AK158,\"\")","v":""}]
[{"$f":"IF(DATOS!N159<>\"\",DATOS!N159,\"\")","v":""},{"$f":"IF(DATOS!AG159<>\"\",DATOS!AG159,\"\")","v":""},{"$f":"IF(DATOS!AK159<>\"\",DATOS!AK159,\"\")","v":""}]
[{"$f":"IF(DATOS!N160<>\"\",DATOS!N160,\"\")","v":""},{"$f":"IF(DATOS!AG160<>\"\",DATOS!AG160,\"\")","v":""},{"$f":"IF(DATOS!AK160<>\"\",DATOS!AK160,\"\")","v":""}]
[{"$f":"IF(DATOS!N161<>\"\",DATOS!N161,\"\")","v":""},{"$f":"IF(DATOS!AG161<>\"\",DATOS!AG161,\"\")","v":""},{"$f":"IF(DATOS!AK161<>\"\",DATOS!AK161,\"\")","v":""}]
[{"$f":"IF(DATOS!N162<>\"\",DATOS!N162,\"\")","v":""},{"$f":"IF(DATOS!AG162<>\"\",DATOS!AG162,\"\")","v":""},{"$f":"IF(DATOS!AK162<>\"\",DATOS!AK162,\"\")","v":""}]
[{"$f":"IF(DATOS!N163<>\"\",DATOS!N163,\"\")","v":""},{"$f":"IF(DATOS!AG163<>\"\",DATOS!AG163,\"\")","v":""},{"$f":"IF(DATOS!AK163<>\"\",DATOS!AK163,\"\")","v":""}]
[{"$f":"IF(DATOS!N164<>\"\",DATOS!N164,\"\")","v":""},{"$f":"IF(DATOS!AG164<>\"\",DATOS!AG164,\"\")","v":""},{"$f":"IF(DATOS!AK164<>\"\",DATOS!AK164,\"\")","v":""}]
[{"$f":"IF(DATOS!N165<>\"\",DATOS!N165,\"\")","v":""},{"$f":"IF(DATOS!AG165<>\"\",DATOS!AG165,\"\")","v":""},{"$f":"IF(DATOS!AK165<>\"\",DATOS!AK165,\"\")","v":""}]
[{"$f":"IF(DATOS!N166<>\"\",DATOS!N166,\"\")","v":""},{"$f":"IF(DATOS!AG166<>\"\",DATOS!AG166,\"\")","v":""},{"$f":"IF(DATOS!AK166<>\"\",DATOS!AK166,\"\")","v":""}]
[{"$f":"IF(DATOS!N167<>\"\",DATOS!N167,\"\")","v":""},{"$f":"IF(DATOS!AG167<>\"\",DATOS!AG167,\"\")","v":""},{"$f":"IF(DATOS!AK167<>\"\",DATOS!AK167,\"\")","v":""}]
[{"$f":"IF(DATOS!N168<>\"\",DATOS!N168,\"\")","v":""},{"$f":"IF(DATOS!AG168<>\"\",DATOS!AG168,\"\")","v":""},{"$f":"IF(DATOS!AK168<>\"\",DATOS!AK168,\"\")","v":""}]
[{"$f":"IF(DATOS!N169<>\"\",DATOS!N169,\"\")","v":""},{"$f":"IF(DATOS!AG169<>\"\",DATOS!AG169,\"\")","v":""},{"$f":"IF(DATOS!AK169<>\"\",DATOS!AK169,\"\")","v":""}]
[{"$f":"IF(DATOS!N170<>\"\",DATOS!N170,\"\")","v":""},{"$f":"IF(DATOS!AG170<>\"\",DATOS!AG170,\"\")","v":""},{"$f":"IF(DATOS!AK170<>\"\",DATOS!AK170,\"\")","v":""}]
[{"$f":"IF(DATOS!N171<>\"\",DATOS!N171,\"\")","v":""},{"$f":"IF(DATOS!AG171<>\"\",DATOS!AG171,\"\")","v":""},{"$f":"IF(DATOS!AK171<>\"\",DATOS!AK171,\"\")","v":""}]
[{"$f":"IF(DATOS!N172<>\"\",DATOS!N172,\"\")","v":""},{"$f":"IF(DATOS!AG172<>\"\",DATOS!AG172,\"\")","v":""},{"$f":"IF(DATOS!AK172<>\"\",DATOS!AK172,\"\")","v":""}]
[{"$f":"IF(DATOS!N173<>\"\",DATOS!N173,\"\")","v":""},{"$f":"IF(DATOS!AG173<>\"\",DATOS!AG173,\"\")","v":""},{"$f":"IF(DATOS!AK173<>\"\",DATOS!AK173,\"\")","v":""}]
[{"$f":"IF(DATOS!N174<>\"\",DATOS!N174,\"\")","v":""},{"$f":"IF(DATOS!AG174<>\"\",DATOS!AG174,\"\")","v":""},{"$f":"IF(DATOS!AK174<>\"\",DATOS!AK174,\"\")","v":""}]
[{"$f":"IF(DATOS!N175<>\"\",DATOS!N175,\"\")","v":""},{"$f":"IF(DATOS!AG175<>\"\",DATOS!AG175,\"\")","v":""},{"$f":"IF(DATOS!AK175<>\"\",DATOS!AK175,\"\")","v":""}]
[{"$f":"IF(DATOS!N176<>\"\",DATOS!N176,\"\")","v":""},{"$f":"IF(DATOS!AG176<>\"\",DATOS!AG176,\"\")","v":""},{"$f":"IF(DATOS!AK176<>\"\",DATOS!AK176,\"\")","v":""}]
[{"$f":"IF(DATOS!N177<>\"\",DATOS!N177,\"\")","v":""},{"$f":"IF(DATOS!AG177<>\"\",DATOS!AG177,\"\")","v":""},{"$f":"IF(DATOS!AK177<>\"\",DATOS!AK177,\"\")","v":""}]
[{"$f":"IF(DATOS!N178<>\"\",DATOS!N178,\"\")","v":""},{"$f":"IF(DATOS!AG178<>\"\",DATOS!AG178,\"\")","v":""},{"$f":"IF(DATOS!AK178<>\"\",DATOS!AK178,\"\")","v":""}]
[{"$f":"IF(DATOS!N179<>\"\",DATOS!N179,\"\")","v":""},{"$f":"IF(DATOS!AG179<>\"\",DATOS!AG179,\"\")","v":""},{"$f":"IF(DATOS!AK179<>\"\",DATOS!AK179,\"\")","v":""}]
[{"$f":"IF(DATOS!N180<>\"\",DATOS!N180,\"\")","v":""},{"$f":"IF(DATOS!AG180<>\"\",DATOS!AG180,\"\")","v":""},{"$f":"IF(DATOS!AK180<>\"\",DATOS!AK180,\"\")","v":""}]
[{"$f":"IF(DATOS!N181<>\"\",DATOS!N181,\"\")","v":""},{"$f":"IF(DATOS!AG181<>\"\",DATOS!AG181,\"\")","v":""},{"$f":"IF(DATOS!AK181<>\"\",DATOS!AK181,\"\")","v":""}]
[{"$f":"IF(DATOS!N182<>\"\",DATOS!N182,\"\")","v":""},{"$f":"IF(DATOS!AG182<>\"\",DATOS!AG182,\"\")","v":""},{"$f":"IF(DATOS!AK182<>\"\",DATOS!AK182,\"\")","v":""}]
[{"$f":"IF(DATOS!N183<>\"\",DATOS!N183,\"\")","v":""},{"$f":"IF(DATOS!AG183<>\"\",DATOS!AG183,\"\")","v":""},{"$f":"IF(DATOS!AK183<>\"\",DATOS!AK183,\"\")","v":""}]
[{"$f":"IF(DATOS!N184<>\"\",DATOS!N184,\"\")","v":""},{"$f":"IF(DATOS!AG184<>\"\",DATOS!AG184,\"\")","v":""},{"$f":"IF(DATOS!AK184<>\"\",DATOS!AK184,\"\")","v":""}]
[{"$f":"IF(DATOS!N185<>\"\",DATOS!N185,\"\")","v":""},{"$f":"IF(DATOS!AG185<>\"\",DATOS!AG185,\"\")","v":""},{"$f":"IF(DATOS!AK185<>\"\",DATOS!AK185,\"\")","v":""}]
[{"$f":"IF(DATOS!N186<>\"\",DATOS!N186,\"\")","v":""},{"$f":"IF(DATOS!AG186<>\"\",DATOS!AG186,\"\")","v":""},{"$f":"IF(DATOS!AK186<>\"\",DATOS!AK186,\"\")","v":""}]
[{"$f":"IF(DATOS!N187<>\"\",DATOS!N187,\"\")","v":""},{"$f":"IF(DATOS!AG187<>\"\",DATOS!AG187,\"\")","v":""},{"$f":"IF(DATOS!AK187<>\"\",DATOS!AK187,\"\")","v":""}]
[{"$f":"IF(DATOS!N188<>\"\",DATOS!N188,\"\")","v":""},{"$f":"IF(DATOS!AG188<>\"\",DATOS!AG188,\"\")","v":""},{"$f":"IF(DATOS!AK188<>\"\",DATOS!AK188,\"\")","v":""}]
[{"$f":"IF(DATOS!N189<>\"\",DATOS!N189,\"\")","v":""},{"$f":"IF(DATOS!AG189<>\"\",DATOS!AG189,\"\")","v":""},{"$f":"IF(DATOS!AK189<>\"\",DATOS!AK189,\"\")","v":""}]
[{"$f":"IF(DATOS!N190<>\"\",DATOS!N190,\"\")","v":""},{"$f":"IF(DATOS!AG190<>\"\",DATOS!AG190,\"\")","v":""},{"$f":"IF(DATOS!AK190<>\"\",DATOS!AK190,\"\")","v":""}]
[{"$f":"IF(DATOS!N191<>\"\",DATOS!N191,\"\")","v":""},{"$f":"IF(DATOS!AG191<>\"\",DATOS!AG191,\"\")","v":""},{"$f":"IF(DATOS!AK191<>\"\",DATOS!AK191,\"\")","v":""}]
[{"$f":"IF(DATOS!N192<>\"\",DATOS!N192,\"\")","v":""},{"$f":"IF(DATOS!AG192<>\"\",DATOS!AG192,\"\")","v":""},{"$f":"IF(DATOS!AK192<>\"\",DATOS!AK192,\"\")","v":""}]
[{"$f":"IF(DATOS!N193<>\"\",DATOS!N193,\"\")","v":""},{"$f":"IF(DATOS!AG193<>\"\",DATOS!AG193,\"\")","v":""},{"$f":"IF(DATOS!AK193<>\"\",DATOS!AK193,\"\")","v":""}]
[{"$f":"IF(DATOS!N194<>\"\",DATOS!N194,\"\")","v":""},{"$f":"IF(DATOS!AG194<>\"\",DATOS!AG194,\"\")","v":""},{"$f":"IF(DATOS!AK194<>\"\",DATOS!AK194,\"\")","v":""}]
[{"$f":"IF(DATOS!N195<>\"\",DATOS!N195,\"\")","v":""},{"$f":"IF(DATOS!AG195<>\"\",DATOS!AG195,\"\")","v":""},{"$f":"IF(DATOS!AK195<>\"\",DATOS!AK195,\"\")","v":""}]
[{"$f":"IF(DATOS!N196<>\"\",DATOS!N196,\"\")","v":""},{"$f":"IF(DATOS!AG196<>\"\",DATOS!AG196,\"\")","v":""},{"$f":"IF(DATOS!AK196<>\"\",DATOS!AK196,\"\")","v":""}]
[{"$f":"IF(DATOS!N197<>\"\",DATOS!N197,\"\")","v":""},{"$f":"IF(DATOS!AG197<>\"\",DATOS!AG197,\"\")","v":""},{"$f":"IF(DATOS!AK197<>\"\",DATOS!AK197,\"\")","v":""}]
[{"$f":"IF(DATOS!N198<>\"\",DATOS!N198,\"\")","v":""},{"$f":"IF(DATOS!AG198<>\"\",DATOS!AG198,\"\")","v":""},{"$f":"IF(DATOS!AK198<>\"\",DATOS!AK198,\"\")","v":""}]
[{"$f":"IF(DATOS!N199<>\"\",DATOS!N199,\"\")","v":""},{"$f":"IF(DATOS!AG199<>\"\",DATOS!AG199,\"\")","v":""},{"$f":"IF(DATOS!AK199<>\"\",DATOS!AK199,\"\")","v":""}]
[{"$f":"IF(DATOS!N200<>\"\",DATOS!N200,\"\")","v":""},{"$f":"IF(DATOS!AG200<>\"\",DATOS!AG200,\"\")","v":""},{"$f":"IF(DATOS!AK200<>\"\",DATOS!AK200,\"\")","v":""}]
[{"$f":"IF(DATOS!N201<>\"\",DATOS!N201,\"\")","v":""},{"$f":"IF(DATOS!AG201<>\"\",DATOS!AG201,\"\")","v":""},{"$f":"IF(DATOS!AK201<>\"\",DATOS!AK201,\"\")","v":""}]
[{"$f":"IF(DATOS!N202<>\"\",DATOS!N202,\"\")","v":""},{"$f":"IF(DATOS!AG202<>\"\",DATOS!AG202,\"\")","v":""},{"$f":"IF(DATOS!AK202<>\"\",DATOS!AK202,\"\")","v":""}]
[{"$f":"IF(DATOS!N203<>\"\",DATOS!N203,\"\")","v":""},{"$f":"IF(DATOS!AG203<>\"\",DATOS!AG203,\"\")","v":""},{"$f":"IF(DATOS!AK203<>\"\",DATOS!AK203,\"\")","v":""}]
[{"$f":"IF(DATOS!N204<>\"\",DATOS!N204,\"\")","v":""},{"$f":"IF(DATOS!AG204<>\"\",DATOS!AG204,\"\")","v":""},{"$f":"IF(DATOS!AK204<>\"\",DATOS!AK204,\"\")","v":""}]
[{"$f":"IF(DATOS!N205<>\"\",DATOS!N205,\"\")","v":""},{"$f":"IF(DATOS!AG205<>\"\",DATOS!AG205,\"\")","v":""},{"$f":"IF(DATOS!AK205<>\"\",DATOS!AK205,\"\")","v":""}]
[{"$f":"IF(DATOS!N206<>\"\",DATOS!N206,\"\")","v":""},{"$f":"IF(DATOS!AG206<>\"\",DATOS!AG206,\"\")","v":""},{"$f":"IF(DATOS!AK206<>\"\",DATOS!AK206,\"\")","v":""}]
[{"$f":"IF(DATOS!N207<>\"\",DATOS!N207,\"\")","v":""},{"$f":"IF(DATOS!AG207<>\"\",DATOS!AG207,\"\")","v":""},{"$f":"IF(DATOS!AK207<>\"\",DATOS!AK207,\"\")","v":""}]
[{"$f":"IF(DATOS!N208<>\"\",DATOS!N208,\"\")","v":""},{"$f":"IF(DATOS!AG208<>\"\",DATOS!AG208,\"\")","v":""},{"$f":"IF(DATOS!AK208<>\"\",DATOS!AK208,\"\")","v":""}]
[{"$f":"IF(DATOS!N209<>\"\",DATOS!N209,\"\")","v":""},{"$f":"IF(DATOS!AG209<>\"\",DATOS!AG209,\"\")","v":""},{"$f":"IF(DATOS!AK209<>\"\",DATOS!AK209,\"\")","v":""}]
[{"$f":"IF(DATOS!N210<>\"\",DATOS!N210,\"\")","v":""},{"$f":"IF(DATOS!AG210<>\"\",DATOS!AG210,\"\")","v":""},{"$f":"IF(DATOS!AK210<>\"\",DATOS!AK210,\"\")","v":""}]
[{"$f":"IF(DATOS!N211<>\"\",DATOS!N211,\"\")","v":""},{"$f":"IF(DATOS!AG211<>\"\",DATOS!AG211,\"\")","v":""},{"$f":"IF(DATOS!AK211<>\"\",DATOS!AK211,\"\")","v":""}]
[{"$f":"IF(DATOS!N212<>\"\",DATOS!N212,\"\")","v":""},{"$f":"IF(DATOS!AG212<>\"\",DATOS!AG212,\"\")","v":""},{"$f":"IF(DATOS!AK212<>\"\",DATOS!AK212,\"\")","v":""}]
[{"$f":"IF(DATOS!N213<>\"\",DATOS!N213,\"\")","v":""},{"$f":"IF(DATOS!AG213<>\"\",DATOS!AG213,\"\")","v":""},{"$f":"IF(DATOS!AK213<>\"\",DATOS!AK213,\"\")","v":""}]
[{"$f":"IF(DATOS!N214<>\"\",DATOS!N214,\"\")","v":""},{"$f":"IF(DATOS!AG214<>\"\",DATOS!AG214,\"\")","v":""},{"$f":"IF(DATOS!AK214<>\"\",DATOS!AK214,\"\")","v":""}]
[{"$f":"IF(DATOS!N215<>\"\",DATOS!N215,\"\")","v":""},{"$f":"IF(DATOS!AG215<>\"\",DATOS!AG215,\"\")","v":""},{"$f":"IF(DATOS!AK215<>\"\",DATOS!AK215,\"\")","v":""}]
[{"$f":"IF(DATOS!N216<>\"\",DATOS!N216,\"\")","v":""},{"$f":"IF(DATOS!AG216<>\"\",DATOS!AG216,\"\")","v":""},{"$f":"IF(DATOS!AK216<>\"\",DATOS!AK216,\"\")","v":""}]
[{"$f":"IF(DATOS!N217<>\"\",DATOS!N217,\"\")","v":""},{"$f":"IF(DATOS!AG217<>\"\",DATOS!AG217,\"\")","v":""},{"$f":"IF(DATOS!AK217<>\"\",DATOS!AK217,\"\")","v":""}]
[{"$f":"IF(DATOS!N218<>\"\",DATOS!N218,\"\")","v":""},{"$f":"IF(DATOS!AG218<>\"\",DATOS!AG218,\"\")","v":""},{"$f":"IF(DATOS!AK218<>\"\",DATOS!AK218,\"\")","v":""}]
[{"$f":"IF(DATOS!N219<>\"\",DATOS!N219,\"\")","v":""},{"$f":"IF(DATOS!AG219<>\"\",DATOS!AG219,\"\")","v":""},{"$f":"IF(DATOS!AK219<>\"\",DATOS!AK219,\"\")","v":""}]
[{"$f":"IF(DATOS!N220<>\"\",DATOS!N220,\"\")","v":""},{"$f":"IF(DATOS!AG220<>\"\",DATOS!AG220,\"\")","v":""},{"$f":"IF(DATOS!AK220<>\"\",DATOS!AK220,\"\")","v":""}]
[{"$f":"IF(DATOS!N221<>\"\",DATOS!N221,\"\")","v":""},{"$f":"IF(DATOS!AG221<>\"\",DATOS!AG221,\"\")","v":""},{"$f":"IF(DATOS!AK221<>\"\",DATOS!AK221,\"\")","v":""}]
[{"$f":"IF(DATOS!N222<>\"\",DATOS!N222,\"\")","v":""},{"$f":"IF(DATOS!AG222<>\"\",DATOS!AG222,\"\")","v":""},{"$f":"IF(DATOS!AK222<>\"\",DATOS!AK222,\"\")","v":""}]
[{"$f":"IF(DATOS!N223<>\"\",DATOS!N223,\"\")","v":""},{"$f":"IF(DATOS!AG223<>\"\",DATOS!AG223,\"\")","v":""},{"$f":"IF(DATOS!AK223<>\"\",DATOS!AK223,\"\")","v":""}]
[{"$f":"IF(DATOS!N224<>\"\",DATOS!N224,\"\")","v":""},{"$f":"IF(DATOS!AG224<>\"\",DATOS!AG224,\"\")","v":""},{"$f":"IF(DATOS!AK224<>\"\",DATOS!AK224,\"\")","v":""}]
[{"$f":"IF(DATOS!N225<>\"\",DATOS!N225,\"\")","v":""},{"$f":"IF(DATOS!AG225<>\"\",DATOS!AG225,\"\")","v":""},{"$f":"IF(DATOS!AK225<>\"\",DATOS!AK225,\"\")","v":""}]
[{"$f":"IF(DATOS!N226<>\"\",DATOS!N226,\"\")","v":""},{"$f":"IF(DATOS!AG226<>\"\",DATOS!AG226,\"\")","v":""},{"$f":"IF(DATOS!AK226<>\"\",DATOS!AK226,\"\")","v":""}]
[{"$f":"IF(DATOS!N227<>\"\",DATOS!N227,\"\")","v":""},{"$f":"IF(DATOS!AG227<>\"\",DATOS!AG227,\"\")","v":""},{"$f":"IF(DATOS!AK227<>\"\",DATOS!AK227,\"\")","v":""}]
[{"$f":"IF(DATOS!N228<>\"\",DATOS!N228,\"\")","v":""},{"$f":"IF(DATOS!AG228<>\"\",DATOS!AG228,\"\")","v":""},{"$f":"IF(DATOS!AK228<>\"\",DATOS!AK228,\"\")","v":""}]
[{"$f":"IF(DATOS!N229<>\"\",DATOS!N229,\"\")","v":""},{"$f":"IF(DATOS!AG229<>\"\",DATOS!AG229,\"\")","v":""},{"$f":"IF(DATOS!AK229<>\"\",DATOS!AK229,\"\")","v":""}]
[{"$f":"IF(DATOS!N230<>\"\",DATOS!N230,\"\")","v":""},{"$f":"IF(DATOS!AG230<>\"\",DATOS!AG230,\"\")","v":""},{"$f":"IF(DATOS!AK230<>\"\",DATOS!AK230,\"\")","v":""}]
[{"$f":"IF(DATOS!N231<>\"\",DATOS!N231,\"\")","v":""},{"$f":"IF(DATOS!AG231<>\"\",DATOS!AG231,\"\")","v":""},{"$f":"IF(DATOS!AK231<>\"\",DATOS!AK231,\"\")","v":""}]
[{"$f":"IF(DATOS!N232<>\"\",DATOS!N232,\"\")","v":""},{"$f":"IF(DATOS!AG232<>\"\",DATOS!AG232,\"\")","v":""},{"$f":"IF(DATOS!AK232<>\"\",DATOS!AK232,\"\")","v":""}]
[{"$f":"IF(DATOS!N233<>\"\",DATOS!N233,\"\")","v":""},{"$f":"IF(DATOS!AG233<>\"\",DATOS!AG233,\"\")","v":""},{"$f":"IF(DATOS!AK233<>\"\",DATOS!AK233,\"\")","v":""}]
[{"$f":"IF(DATOS!N234<>\"\",DATOS!N234,\"\")","v":""},{"$f":"IF(DATOS!AG234<>\"\",DATOS!AG234,\"\")","v":""},{"$f":"IF(DATOS!AK234<>\"\",DATOS!AK234,\"\")","v":""}]
[{"$f":"IF(DATOS!N235<>\"\",DATOS!N235,\"\")","v":""},{"$f":"IF(DATOS!AG235<>\"\",DATOS!AG235,\"\")","v":""},{"$f":"IF(DATOS!AK235<>\"\",DATOS!AK235,\"\")","v":""}]
[{"$f":"IF(DATOS!N236<>\"\",DATOS!N236,\"\")","v":""},{"$f":"IF(DATOS!AG236<>\"\",DATOS!AG236,\"\")","v":""},{"$f":"IF(DATOS!AK236<>\"\",DATOS!AK236,\"\")","v":""}]
[{"$f":"IF(DATOS!N237<>\"\",DATOS!N237,\"\")","v":""},{"$f":"IF(DATOS!AG237<>\"\",DATOS!AG237,\"\")","v":""},{"$f":"IF(DATOS!AK237<>\"\",DATOS!AK237,\"\")","v":""}]
[{"$f":"IF(DATOS!N238<>\"\",DATOS!N238,\"\")","v":""},{"$f":"IF(DATOS!AG238<>\"\",DATOS!AG238,\"\")","v":""},{"$f":"IF(DATOS!AK238<>\"\",DATOS!AK238,\"\")","v":""}]
[{"$f":"IF(DATOS!N239<>\"\",DATOS!N239,\"\")","v":""},{"$f":"IF(DATOS!AG239<>\"\",DATOS!AG239,\"\")","v":""},{"$f":"IF(DATOS!AK239<>\"\",DATOS!AK239,\"\")","v":""}]
[{"$f":"IF(DATOS!N240<>\"\",DATOS!N240,\"\")","v":""},{"$f":"IF(DATOS!AG240<>\"\",DATOS!AG240,\"\")","v":""},{"$f":"IF(DATOS!AK240<>\"\",DATOS!AK240,\"\")","v":""}]
[{"$f":"IF(DATOS!N241<>\"\",DATOS!N241,\"\")","v":""},{"$f":"IF(DATOS!AG241<>\"\",DATOS!AG241,\"\")","v":""},{"$f":"IF(DATOS!AK241<>\"\",DATOS!AK241,\"\")","v":""}]
[{"$f":"IF(DATOS!N242<>\"\",DATOS!N242,\"\")","v":""},{"$f":"IF(DATOS!AG242<>\"\",DATOS!AG242,\"\")","v":""},{"$f":"IF(DATOS!AK242<>\"\",DATOS!AK242,\"\")","v":""}]
[{"$f":"IF(DATOS!N243<>\"\",DATOS!N243,\"\")","v":""},{"$f":"IF(DATOS!AG243<>\"\",DATOS!AG243,\"\")","v":""},{"$f":"IF(DATOS!AK243<>\"\",DATOS!AK243,\"\")","v":""}]
[{"$f":"IF(DATOS!N244<>\"\",DATOS!N244,\"\")","v":""},{"$f":"IF(DATOS!AG244<>\"\",DATOS!AG244,\"\")","v":""},{"$f":"IF(DATOS!AK244<>\"\",DATOS!AK244,\"\")","v":""}]
[{"$f":"IF(DATOS!N245<>\"\",DATOS!N245,\"\")","v":""},{"$f":"IF(DATOS!AG245<>\"\",DATOS!AG245,\"\")","v":""},{"$f":"IF(DATOS!AK245<>\"\",DATOS!AK245,\"\")","v":""}]
[{"$f":"IF(DATOS!N246<>\"\",DATOS!N246,\"\")","v":""},{"$f":"IF(DATOS!AG246<>\"\",DATOS!AG246,\"\")","v":""},{"$f":"IF(DATOS!AK246<>\"\",DATOS!AK246,\"\")","v":""}]
[{"$f":"IF(DATOS!N247<>\"\",DATOS!N247,\"\")","v":""},{"$f":"IF(DATOS!AG247<>\"\",DATOS!AG247,\"\")","v":""},{"$f":"IF(DATOS!AK247<>\"\",DATOS!AK247,\"\")","v":""}]
[{"$f":"IF(DATOS!N248<>\"\",DATOS!N248,\"\")","v":""},{"$f":"IF(DATOS!AG248<>\"\",DATOS!AG248,\"\")","v":""},{"$f":"IF(DATOS!AK248<>\"\",DATOS!AK248,\"\")","v":""}]
[{"$f":"IF(DATOS!N249<>\"\",DATOS!N249,\"\")","v":""},{"$f":"IF(DATOS!AG249<>\"\",DATOS!AG249,\"\")","v":""},{"$f":"IF(DATOS!AK249<>\"\",DATOS!AK249,\"\")","v":""}]
[{"$f":"IF(DATOS!N250<>\"\",DATOS!N250,\"\")","v":""},{"$f":"IF(DATOS!AG250<>\"\",DATOS!AG250,\"\")","v":""},{"$f":"IF(DATOS!AK250<>\"\",DATOS!AK250,\"\")","v":""}]
[{"$f":"IF(DATOS!N251<>\"\",DATOS!N251,\"\")","v":""},{"$f":"IF(DATOS!AG251<>\"\",DATOS!AG251,\"\")","v":""},{"$f":"IF(DATOS!AK251<>\"\",DATOS!AK251,\"\")","v":""}]
[{"$f":"IF(DATOS!N252<>\"\",DATOS!N252,\"\")","v":""},{"$f":"IF(DATOS!AG252<>\"\",DATOS!AG252,\"\")","v":""},{"$f":"IF(DATOS!AK252<>\"\",DATOS!AK252,\"\")","v":""}]
[{"$f":"IF(DATOS!N253<>\"\",DATOS!N253,\"\")","v":""},{"$f":"IF(DATOS!AG253<>\"\",DATOS!AG253,\"\")","v":""},{"$f":"IF(DATOS!AK253<>\"\",DATOS!AK253,\"\")","v":""}]
[{"$f":"IF(DATOS!N254<>\"\",DATOS!N254,\"\")","v":""},{"$f":"IF(DATOS!AG254<>\"\",DATOS!AG254,\"\")","v":""},{"$f":"IF(DATOS!AK254<>\"\",DATOS!AK254,\"\")","v":""}]
[{"$f":"IF(DATOS!N255<>\"\",DATOS!N255,\"\")","v":""},{"$f":"IF(DATOS!AG255<>\"\",DATOS!AG255,\"\")","v":""},{"$f":"IF(DATOS!AK255<>\"\",DATOS!AK255,\"\")","v":""}]
[{"$f":"IF(DATOS!N256<>\"\",DATOS!N256,\"\")","v":""},{"$f":"IF(DATOS!AG256<>\"\",DATOS!AG256,\"\")","v":""},{"$f":"IF(DATOS!AK256<>\"\",DATOS!AK256,\"\")","v":""}]
[{"$f":"IF(DATOS!N257<>\"\",DATOS!N257,\"\")","v":""},{"$f":"IF(DATOS!AG257<>\"\",DATOS!AG257,\"\")","v":""},{"$f":"IF(DATOS!AK257<>\"\",DATOS!AK257,\"\")","v":""}]
[{"$f":"IF(DATOS!N258<>\"\",DATOS!N258,\"\")","v":""},{"$f":"IF(DATOS!AG258<>\"\",DATOS!AG258,\"\")","v":""},{"$f":"IF(DATOS!AK258<>\"\",DATOS!AK258,\"\")","v":""}]
[{"$f":"IF(DATOS!N259<>\"\",DATOS!N259,\"\")","v":""},{"$f":"IF(DATOS!AG259<>\"\",DATOS!AG259,\"\")","v":""},{"$f":"IF(DATOS!AK259<>\"\",DATOS!AK259,\"\")","v":""}]
[{"$f":"IF(DATOS!N260<>\"\",DATOS!N260,\"\")","v":""},{"$f":"IF(DATOS!AG260<>\"\",DATOS!AG260,\"\")","v":""},{"$f":"IF(DATOS!AK260<>\"\",DATOS!AK260,\"\")","v":""}]
[{"$f":"IF(DATOS!N261<>\"\",DATOS!N261,\"\")","v":""},{"$f":"IF(DATOS!AG261<>\"\",DATOS!AG261,\"\")","v":""},{"$f":"IF(DATOS!AK261<>\"\",DATOS!AK261,\"\")","v":""}]
[{"$f":"IF(DATOS!N262<>\"\",DATOS!N262,\"\")","v":""},{"$f":"IF(DATOS!AG262<>\"\",DATOS!AG262,\"\")","v":""},{"$f":"IF(DATOS!AK262<>\"\",DATOS!AK262,\"\")","v":""}]
[{"$f":"IF(DATOS!N263<>\"\",DATOS!N263,\"\")","v":""},{"$f":"IF(DATOS!AG263<>\"\",DATOS!AG263,\"\")","v":""},{"$f":"IF(DATOS!AK263<>\"\",DATOS!AK263,\"\")","v":""}]
[{"$f":"IF(DATOS!N264<>\"\",DATOS!N264,\"\")","v":""},{"$f":"IF(DATOS!AG264<>\"\",DATOS!AG264,\"\")","v":""},{"$f":"IF(DATOS!AK264<>\"\",DATOS!AK264,\"\")","v":""}]
[{"$f":"IF(DATOS!N265<>\"\",DATOS!N265,\"\")","v":""},{"$f":"IF(DATOS!AG265<>\"\",DATOS!AG265,\"\")","v":""},{"$f":"IF(DATOS!AK265<>\"\",DATOS!AK265,\"\")","v":""}]
[{"$f":"IF(DATOS!N266<>\"\",DATOS!N266,\"\")","v":""},{"$f":"IF(DATOS!AG266<>\"\",DATOS!AG266,\"\")","v":""},{"$f":"IF(DATOS!AK266<>\"\",DATOS!AK266,\"\")","v":""}]
[{"$f":"IF(DATOS!N267<>\"\",DATOS!N267,\"\")","v":""},{"$f":"IF(DATOS!AG267<>\"\",DATOS!AG267,\"\")","v":""},{"$f":"IF(DATOS!AK267<>\"\",DATOS!AK267,\"\")","v":""}]
[{"$f":"IF(DATOS!N268<>\"\",DATOS!N268,\"\")","v":""},{"$f":"IF(DATOS!AG268<>\"\",DATOS!AG268,\"\")","v":""},{"$f":"IF(DATOS!AK268<>\"\",DATOS!AK268,\"\")","v":""}]
[{"$f":"IF(DATOS!N269<>\"\",DATOS!N269,\"\")","v":""},{"$f":"IF(DATOS!AG269<>\"\",DATOS!AG269,\"\")","v":""},{"$f":"IF(DATOS!AK269<>\"\",DATOS!AK269,\"\")","v":""}]
[{"$f":"IF(DATOS!N270<>\"\",DATOS!N270,\"\")","v":""},{"$f":"IF(DATOS!AG270<>\"\",DATOS!AG270,\"\")","v":""},{"$f":"IF(DATOS!AK270<>\"\",DATOS!AK270,\"\")","v":""}]
[{"$f":"IF(DATOS!N271<>\"\",DATOS!N271,\"\")","v":""},{"$f":"IF(DATOS!AG271<>\"\",DATOS!AG271,\"\")","v":""},{"$f":"IF(DATOS!AK271<>\"\",DATOS!AK271,\"\")","v":""}]
[{"$f":"IF(DATOS!N272<>\"\",DATOS!N272,\"\")","v":""},{"$f":"IF(DATOS!AG272<>\"\",DATOS!AG272,\"\")","v":""},{"$f":"IF(DATOS!AK272<>\"\",DATOS!AK272,\"\")","v":""}]
[{"$f":"IF(DATOS!N273<>\"\",DATOS!N273,\"\")","v":""},{"$f":"IF(DATOS!AG273<>\"\",DATOS!AG273,\"\")","v":""},{"$f":"IF(DATOS!AK273<>\"\",DATOS!AK273,\"\")","v":""}]
[{"$f":"IF(DATOS!N274<>\"\",DATOS!N274,\"\")","v":""},{"$f":"IF(DATOS!AG274<>\"\",DATOS!AG274,\"\")","v":""},{"$f":"IF(DATOS!AK274<>\"\",DATOS!AK274,\"\")","v":""}]
[{"$f":"IF(DATOS!N275<>\"\",DATOS!N275,\"\")","v":""},{"$f":"IF(DATOS!AG275<>\"\",DATOS!AG275,\"\")","v":""},{"$f":"IF(DATOS!AK275<>\"\",DATOS!AK275,\"\")","v":""}]
[{"$f":"IF(DATOS!N276<>\"\",DATOS!N276,\"\")","v":""},{"$f":"IF(DATOS!AG276<>\"\",DATOS!AG276,\"\")","v":""},{"$f":"IF(DATOS!AK276<>\"\",DATOS!AK276,\"\")","v":""}]
[{"$f":"IF(DATOS!N277<>\"\",DATOS!N277,\"\")","v":""},{"$f":"IF(DATOS!AG277<>\"\",DATOS!AG277,\"\")","v":""},{"$f":"IF(DATOS!AK277<>\"\",DATOS!AK277,\"\")","v":""}]
[{"$f":"IF(DATOS!N278<>\"\",DATOS!N278,\"\")","v":""},{"$f":"IF(DATOS!AG278<>\"\",DATOS!AG278,\"\")","v":""},{"$f":"IF(DATOS!AK278<>\"\",DATOS!AK278,\"\")","v":""}]
[{"$f":"IF(DATOS!N279<>\"\",DATOS!N279,\"\")","v":""},{"$f":"IF(DATOS!AG279<>\"\",DATOS!AG279,\"\")","v":""},{"$f":"IF(DATOS!AK279<>\"\",DATOS!AK279,\"\")","v":""}]
[{"$f":"IF(DATOS!N280<>\"\",DATOS!N280,\"\")","v":""},{"$f":"IF(DATOS!AG280<>\"\",DATOS!AG280,\"\")","v":""},{"$f":"IF(DATOS!AK280<>\"\",DATOS!AK280,\"\")","v":""}]
[{"$f":"IF(DATOS!N281<>\"\",DATOS!N281,\"\")","v":""},{"$f":"IF(DATOS!AG281<>\"\",DATOS!AG281,\"\")","v":""},{"$f":"IF(DATOS!AK281<>\"\",DATOS!AK281,\"\")","v":""}]
[{"$f":"IF(DATOS!N282<>\"\",DATOS!N282,\"\")","v":""},{"$f":"IF(DATOS!AG282<>\"\",DATOS!AG282,\"\")","v":""},{"$f":"IF(DATOS!AK282<>\"\",DATOS!AK282,\"\")","v":""}]
[{"$f":"IF(DATOS!N283<>\"\",DATOS!N283,\"\")","v":""},{"$f":"IF(DATOS!AG283<>\"\",DATOS!AG283,\"\")","v":""},{"$f":"IF(DATOS!AK283<>\"\",DATOS!AK283,\"\")","v":""}]
[{"$f":"IF(DATOS!N284<>\"\",DATOS!N284,\"\")","v":""},{"$f":"IF(DATOS!AG284<>\"\",DATOS!AG284,\"\")","v":""},{"$f":"IF(DATOS!AK284<>\"\",DATOS!AK284,\"\")","v":""}]
[{"$f":"IF(DATOS!N285<>\"\",DATOS!N285,\"\")","v":""},{"$f":"IF(DATOS!AG285<>\"\",DATOS!AG285,\"\")","v":""},{"$f":"IF(DATOS!AK285<>\"\",DATOS!AK285,\"\")","v":""}]
[{"$f":"IF(DATOS!N286<>\"\",DATOS!N286,\"\")","v":""},{"$f":"IF(DATOS!AG286<>\"\",DATOS!AG286,\"\")","v":""},{"$f":"IF(DATOS!AK286<>\"\",DATOS!AK286,\"\")","v":""}]
[{"$f":"IF(DATOS!N287<>\"\",DATOS!N287,\"\")","v":""},{"$f":"IF(DATOS!AG287<>\"\",DATOS!AG287,\"\")","v":""},{"$f":"IF(DATOS!AK287<>\"\",DATOS!AK287,\"\")","v":""}]
[{"$f":"IF(DATOS!N288<>\"\",DATOS!N288,\"\")","v":""},{"$f":"IF(DATOS!AG288<>\"\",DATOS!AG288,\"\")","v":""},{"$f":"IF(DATOS!AK288<>\"\",DATOS!AK288,\"\")","v":""}]
[{"$f":"IF(DATOS!N289<>\"\",DATOS!N289,\"\")","v":""},{"$f":"IF(DATOS!AG289<>\"\",DATOS!AG289,\"\")","v":""},{"$f":"IF(DATOS!AK289<>\"\",DATOS!AK289,\"\")","v":""}]
[{"$f":"IF(DATOS!N290<>\"\",DATOS!N290,\"\")","v":""},{"$f":"IF(DATOS!AG290<>\"\",DATOS!AG290,\"\")","v":""},{"$f":"IF(DATOS!AK290<>\"\",DATOS!AK290,\"\")","v":""}]
[{"$f":"IF(DATOS!N291<>\"\",DATOS!N291,\"\")","v":""},{"$f":"IF(DATOS!AG291<>\"\",DATOS!AG291,\"\")","v":""},{"$f":"IF(DATOS!AK291<>\"\",DATOS!AK291,\"\")","v":""}]
[{"$f":"IF(DATOS!N292<>\"\",DATOS!N292,\"\")","v":""},{"$f":"IF(DATOS!AG292<>\"\",DATOS!AG292,\"\")","v":""},{"$f":"IF(DATOS!AK292<>\"\",DATOS!AK292,\"\")","v":""}]
[{"$f":"IF(DATOS!N293<>\"\",DATOS!N293,\"\")","v":""},{"$f":"IF(DATOS!AG293<>\"\",DATOS!AG293,\"\")","v":""},{"$f":"IF(DATOS!AK293<>\"\",DATOS!AK293,\"\")","v":""}]
[{"$f":"IF(DATOS!N294<>\"\",DATOS!N294,\"\")","v":""},{"$f":"IF(DATOS!AG294<>\"\",DATOS!AG294,\"\")","v":""},{"$f":"IF(DATOS!AK294<>\"\",DATOS!AK294,\"\")","v":""}]
[{"$f":"IF(DATOS!N295<>\"\",DATOS!N295,\"\")","v":""},{"$f":"IF(DATOS!AG295<>\"\",DATOS!AG295,\"\")","v":""},{"$f":"IF(DATOS!AK295<>\"\",DATOS!AK295,\"\")","v":""}]
[{"$f":"IF(DATOS!N296<>\"\",DATOS!N296,\"\")","v":""},{"$f":"IF(DATOS!AG296<>\"\",DATOS!AG296,\"\")","v":""},{"$f":"IF(DATOS!AK296<>\"\",DATOS!AK296,\"\")","v":""}]
[{"$f":"IF(DATOS!N297<>\"\",DATOS!N297,\"\")","v":""},{"$f":"IF(DATOS!AG297<>\"\",DATOS!AG297,\"\")","v":""},{"$f":"IF(DATOS!AK297<>\"\",DATOS!AK297,\"\")","v":""}]
[{"$f":"IF(DATOS!N298<>\"\",DATOS!N298,\"\")","v":""},{"$f":"IF(DATOS!AG298<>\"\",DATOS!AG298,\"\")","v":""},{"$f":"IF(DATOS!AK298<>\"\",DATOS!AK298,\"\")","v":""}]
[{"$f":"IF(DATOS!N299<>\"\",DATOS!N299,\"\")","v":""},{"$f":"IF(DATOS!AG299<>\"\",DATOS!AG299,\"\")","v":""},{"$f":"IF(DATOS!AK299<>\"\",DATOS!AK299,\"\")","v":""}]
[{"$f":"IF(DATOS!N300<>\"\",DATOS!N300,\"\")","v":""},{"$f":"IF(DATOS!AG300<>\"\",DATOS!AG300,\"\")","v":""},{"$f":"IF(DATOS!AK300<>\"\",DATOS!AK300,\"\")","v":""}]
[{"$f":"IF(DATOS!N301<>\"\",DATOS!N301,\"\")","v":""},{"$f":"IF(DATOS!AG301<>\"\",DATOS!AG301,\"\")","v":""},{"$f":"IF(DATOS!AK301<>\"\",DATOS!AK301,\"\")","v":""}]
[{"$f":"IF(DATOS!N302<>\"\",DATOS!N302,\"\")","v":""},{"$f":"IF(DATOS!AG302<>\"\",DATOS!AG302,\"\")","v":""},{"$f":"IF(DATOS!AK302<>\"\",DATOS!AK302,\"\")","v":""}]
[{"$f":"IF(DATOS!N303<>\"\",DATOS!N303,\"\")","v":""},{"$f":"IF(DATOS!AG303<>\"\",DATOS!AG303,\"\")","v":""},{"$f":"IF(DATOS!AK303<>\"\",DATOS!AK303,\"\")","v":""}]
[{"$f":"IF(DATOS!N304<>\"\",DATOS!N304,\"\")","v":""},{"$f":"IF(DATOS!AG304<>\"\",DATOS!AG304,\"\")","v":""},{"$f":"IF(DATOS!AK304<>\"\",DATOS!AK304,\"\")","v":""}]
[{"$f":"IF(DATOS!N305<>\"\",DATOS!N305,\"\")","v":""},{"$f":"IF(DATOS!AG305<>\"\",DATOS!AG305,\"\")","v":""},{"$f":"IF(DATOS!AK305<>\"\",DATOS!AK305,\"\")","v":""}]
[{"$f":"IF(DATOS!N306<>\"\",DATOS!N306,\"\")","v":""},{"$f":"IF(DATOS!AG306<>\"\",DATOS!AG306,\"\")","v":""},{"$f":"IF(DATOS!AK306<>\"\",DATOS!AK306,\"\")","v":""}]
[{"$f":"IF(DATOS!N307<>\"\",DATOS!N307,\"\")","v":""},{"$f":"IF(DATOS!AG307<>\"\",DATOS!AG307,\"\")","v":""},{"$f":"IF(DATOS!AK307<>\"\",DATOS!AK307,\"\")","v":""}]
[{"$f":"IF(DATOS!N308<>\"\",DATOS!N308,\"\")","v":""},{"$f":"IF(DATOS!AG308<>\"\",DATOS!AG308,\"\")","v":""},{"$f":"IF(DATOS!AK308<>\"\",DATOS!AK308,\"\")","v":""}]
[{"$f":"IF(DATOS!N309<>\"\",DATOS!N309,\"\")","v":""},{"$f":"IF(DATOS!AG309<>\"\",DATOS!AG309,\"\")","v":""},{"$f":"IF(DATOS!AK309<>\"\",DATOS!AK309,\"\")","v":""}]
[{"$f":"IF(DATOS!N310<>\"\",DATOS!N310,\"\")","v":""},{"$f":"IF(DATOS!AG310<>\"\",DATOS!AG310,\"\")","v":""},{"$f":"IF(DATOS!AK310<>\"\",DATOS!AK310,\"\")","v":""}]
[{"$f":"IF(DATOS!N311<>\"\",DATOS!N311,\"\")","v":""},{"$f":"IF(DATOS!AG311<>\"\",DATOS!AG311,\"\")","v":""},{"$f":"IF(DATOS!AK311<>\"\",DATOS!AK311,\"\")","v":""}]
[{"$f":"IF(DATOS!N312<>\"\",DATOS!N312,\"\")","v":""},{"$f":"IF(DATOS!AG312<>\"\",DATOS!AG312,\"\")","v":""},{"$f":"IF(DATOS!AK312<>\"\",DATOS!AK312,\"\")","v":""}]
[{"$f":"IF(DATOS!N313<>\"\",DATOS!N313,\"\")","v":""},{"$f":"IF(DATOS!AG313<>\"\",DATOS!AG313,\"\")","v":""},{"$f":"IF(DATOS!AK313<>\"\",DATOS!AK313,\"\")","v":""}]
[{"$f":"IF(DATOS!N314<>\"\",DATOS!N314,\"\")","v":""},{"$f":"IF(DATOS!AG314<>\"\",DATOS!AG314,\"\")","v":""},{"$f":"IF(DATOS!AK314<>\"\",DATOS!AK314,\"\")","v":""}]
[{"$f":"IF(DATOS!N315<>\"\",DATOS!N315,\"\")","v":""},{"$f":"IF(DATOS!AG315<>\"\",DATOS!AG315,\"\")","v":""},{"$f":"IF(DATOS!AK315<>\"\",DATOS!AK315,\"\")","v":""}]
[{"$f":"IF(DATOS!N316<>\"\",DATOS!N316,\"\")","v":""},{"$f":"IF(DATOS!AG316<>\"\",DATOS!AG316,\"\")","v":""},{"$f":"IF(DATOS!AK316<>\"\",DATOS!AK316,\"\")","v":""}]
[{"$f":"IF(DATOS!N317<>\"\",DATOS!N317,\"\")","v":""},{"$f":"IF(DATOS!AG317<>\"\",DATOS!AG317,\"\")","v":""},{"$f":"IF(DATOS!AK317<>\"\",DATOS!AK317,\"\")","v":""}]
[{"$f":"IF(DATOS!N318<>\"\",DATOS!N318,\"\")","v":""},{"$f":"IF(DATOS!AG318<>\"\",DATOS!AG318,\"\")","v":""},{"$f":"IF(DATOS!AK318<>\"\",DATOS!AK318,\"\")","v":""}]
[{"$f":"IF(DATOS!N319<>\"\",DATOS!N319,\"\")","v":""},{"$f":"IF(DATOS!AG319<>\"\",DATOS!AG319,\"\")","v":""},{"$f":"IF(DATOS!AK319<>\"\",DATOS!AK319,\"\")","v":""}]
[{"$f":"IF(DATOS!N320<>\"\",DATOS!N320,\"\")","v":""},{"$f":"IF(DATOS!AG320<>\"\",DATOS!AG320,\"\")","v":""},{"$f":"IF(DATOS!AK320<>\"\",DATOS!AK320,\"\")","v":""}]
[{"$f":"IF(DATOS!N321<>\"\",DATOS!N321,\"\")","v":""},{"$f":"IF(DATOS!AG321<>\"\",DATOS!AG321,\"\")","v":""},{"$f":"IF(DATOS!AK321<>\"\",DATOS!AK321,\"\")","v":""}]
[{"$f":"IF(DATOS!N322<>\"\",DATOS!N322,\"\")","v":""},{"$f":"IF(DATOS!AG322<>\"\",DATOS!AG322,\"\")","v":""},{"$f":"IF(DATOS!AK322<>\"\",DATOS!AK322,\"\")","v":""}]
[{"$f":"IF(DATOS!N323<>\"\",DATOS!N323,\"\")","v":""},{"$f":"IF(DATOS!AG323<>\"\",DATOS!AG323,\"\")","v":""},{"$f":"IF(DATOS!AK323<>\"\",DATOS!AK323,\"\")","v":""}]
[{"$f":"IF(DATOS!N324<>\"\",DATOS!N324,\"\")","v":""},{"$f":"IF(DATOS!AG324<>\"\",DATOS!AG324,\"\")","v":""},{"$f":"IF(DATOS!AK324<>\"\",DATOS!AK324,\"\")","v":""}]
[{"$f":"IF(DATOS!N325<>\"\",DATOS!N325,\"\")","v":""},{"$f":"IF(DATOS!AG325<>\"\",DATOS!AG325,\"\")","v":""},{"$f":"IF(DATOS!AK325<>\"\",DATOS!AK325,\"\")","v":""}]
[{"$f":"IF(DATOS!N326<>\"\",DATOS!N326,\"\")","v":""},{"$f":"IF(DATOS!AG326<>\"\",DATOS!AG326,\"\")","v":""},{"$f":"IF(DATOS!AK326<>\"\",DATOS!AK326,\"\")","v":""}]
[{"$f":"IF(DATOS!N327<>\"\",DATOS!N327,\"\")","v":""},{"$f":"IF(DATOS!AG327<>\"\",DATOS!AG327,\"\")","v":""},{"$f":"IF(DATOS!AK327<>\"\",DATOS!AK327,\"\")","v":""}]
[{"$f":"IF(DATOS!N328<>\"\",DATOS!N328,\"\")","v":""},{"$f":"IF(DATOS!AG328<>\"\",DATOS!AG328,\"\")","v":""},{"$f":"IF(DATOS!AK328<>\"\",DATOS!AK328,\"\")","v":""}]
[{"$f":"IF(DATOS!N329<>\"\",DATOS!N329,\"\")","v":""},{"$f":"IF(DATOS!AG329<>\"\",DATOS!AG329,\"\")","v":""},{"$f":"IF(DATOS!AK329<>\"\",DATOS!AK329,\"\")","v":""}]
[{"$f":"IF(DATOS!N330<>\"\",DATOS!N330,\"\")","v":""},{"$f":"IF(DATOS!AG330<>\"\",DATOS!AG330,\"\")","v":""},{"$f":"IF(DATOS!AK330<>\"\",DATOS!AK330,\"\")","v":""}]
[{"$f":"IF(DATOS!N331<>\"\",DATOS!N331,\"\")","v":""},{"$f":"IF(DATOS!AG331<>\"\",DATOS!AG331,\"\")","v":""},{"$f":"IF(DATOS!AK331<>\"\",DATOS!AK331,\"\")","v":""}]
[{"$f":"IF(DATOS!N332<>\"\",DATOS!N332,\"\")","v":""},{"$f":"IF(DATOS!AG332<>\"\",DATOS!AG332,\"\")","v":""},{"$f":"IF(DATOS!AK332<>\"\",DATOS!AK332,\"\")","v":""}]
[{"$f":"IF(DATOS!N333<>\"\",DATOS!N333,\"\")","v":""},{"$f":"IF(DATOS!AG333<>\"\",DATOS!AG333,\"\")","v":""},{"$f":"IF(DATOS!AK333<>\"\",DATOS!AK333,\"\")","v":""}]
[{"$f":"IF(DATOS!N334<>\"\",DATOS!N334,\"\")","v":""},{"$f":"IF(DATOS!AG334<>\"\",DATOS!AG334,\"\")","v":""},{"$f":"IF(DATOS!AK334<>\"\",DATOS!AK334,\"\")","v":""}]
[{"$f":"IF(DATOS!N335<>\"\",DATOS!N335,\"\")","v":""},{"$f":"IF(DATOS!AG335<>\"\",DATOS!AG335,\"\")","v":""},{"$f":"IF(DATOS!AK335<>\"\",DATOS!AK335,\"\")","v":""}]
[{"$f":"IF(DATOS!N336<>\"\",DATOS!N336,\"\")","v":""},{"$f":"IF(DATOS!AG336<>\"\",DATOS!AG336,\"\")","v":""},{"$f":"IF(DATOS!AK336<>\"\",DATOS!AK336,\"\")","v":""}]
[{"$f":"IF(DATOS!N337<>\"\",DATOS!N337,\"\")","v":""},{"$f":"IF(DATOS!AG337<>\"\",DATOS!AG337,\"\")","v":""},{"$f":"IF(DATOS!AK337<>\"\",DATOS!AK337,\"\")","v":""}]
[{"$f":"IF(DATOS!N338<>\"\",DATOS!N338,\"\")","v":""},{"$f":"IF(DATOS!AG338<>\"\",DATOS!AG338,\"\")","v":""},{"$f":"IF(DATOS!AK338<>\"\",DATOS!AK338,\"\")","v":""}]
[{"$f":"IF(DATOS!N339<>\"\",DATOS!N339,\"\")","v":""},{"$f":"IF(DATOS!AG339<>\"\",DATOS!AG339,\"\")","v":""},{"$f":"IF(DATOS!AK339<>\"\",DATOS!AK339,\"\")","v":""}]
[{"$f":"IF(DATOS!N340<>\"\",DATOS!N340,\"\")","v":""},{"$f":"IF(DATOS!AG340<>\"\",DATOS!AG340,\"\")","v":""},{"$f":"IF(DATOS!AK340<>\"\",DATOS!AK340,\"\")","v":""}]
[{"$f":"IF(DATOS!N341<>\"\",DATOS!N341,\"\")","v":""},{"$f":"IF(DATOS!AG341<>\"\",DATOS!AG341,\"\")","v":""},{"$f":"IF(DATOS!AK341<>\"\",DATOS!AK341,\"\")","v":""}]
[{"$f":"IF(DATOS!N342<>\"\",DATOS!N342,\"\")","v":""},{"$f":"IF(DATOS!AG342<>\"\",DATOS!AG342,\"\")","v":""},{"$f":"IF(DATOS!AK342<>\"\",DATOS!AK342,\"\")","v":""}]
[{"$f":"IF(DATOS!N343<>\"\",DATOS!N343,\"\")","v":""},{"$f":"IF(DATOS!AG343<>\"\",DATOS!AG343,\"\")","v":""},{"$f":"IF(DATOS!AK343<>\"\",DATOS!AK343,\"\")","v":""}]
[{"$f":"IF(DATOS!N344<>\"\",DATOS!N344,\"\")","v":""},{"$f":"IF(DATOS!AG344<>\"\",DATOS!AG344,\"\")","v":""},{"$f":"IF(DATOS!AK344<>\"\",DATOS!AK344,\"\")","v":""}]
[{"$f":"IF(DATOS!N345<>\"\",DATOS!N345,\"\")","v":""},{"$f":"IF(DATOS!AG345<>\"\",DATOS!AG345,\"\")","v":""},{"$f":"IF(DATOS!AK345<>\"\",DATOS!AK345,\"\")","v":""}]
[{"$f":"IF(DATOS!N346<>\"\",DATOS!N346,\"\")","v":""},{"$f":"IF(DATOS!AG346<>\"\",DATOS!AG346,\"\")","v":""},{"$f":"IF(DATOS!AK346<>\"\",DATOS!AK346,\"\")","v":""}]
[{"$f":"IF(DATOS!N347<>\"\",DATOS!N347,\"\")","v":""},{"$f":"IF(DATOS!AG347<>\"\",DATOS!AG347,\"\")","v":""},{"$f":"IF(DATOS!AK347<>\"\",DATOS!AK347,\"\")","v":""}]
[{"$f":"IF(DATOS!N348<>\"\",DATOS!N348,\"\")","v":""},{"$f":"IF(DATOS!AG348<>\"\",DATOS!AG348,\"\")","v":""},{"$f":"IF(DATOS!AK348<>\"\",DATOS!AK348,\"\")","v":""}]
[{"$f":"IF(DATOS!N349<>\"\",DATOS!N349,\"\")","v":""},{"$f":"IF(DATOS!AG349<>\"\",DATOS!AG349,\"\")","v":""},{"$f":"IF(DATOS!AK349<>\"\",DATOS!AK349,\"\")","v":""}]
[{"$f":"IF(DATOS!N350<>\"\",DATOS!N350,\"\")","v":""},{"$f":"IF(DATOS!AG350<>\"\",DATOS!AG350,\"\")","v":""},{"$f":"IF(DATOS!AK350<>\"\",DATOS!AK350,\"\")","v":""}]
[{"$f":"IF(DATOS!N351<>\"\",DATOS!N351,\"\")","v":""},{"$f":"IF(DATOS!AG351<>\"\",DATOS!AG351,\"\")","v":""},{"$f":"IF(DATOS!AK351<>\"\",DATOS!AK351,\"\")","v":""}]
[{"$f":"IF(DATOS!N352<>\"\",DATOS!N352,\"\")","v":""},{"$f":"IF(DATOS!AG352<>\"\",DATOS!AG352,\"\")","v":""},{"$f":"IF(DATOS!AK352<>\"\",DATOS!AK352,\"\")","v":""}]
[{"$f":"IF(DATOS!N353<>\"\",DATOS!N353,\"\")","v":""},{"$f":"IF(DATOS!AG353<>\"\",DATOS!AG353,\"\")","v":""},{"$f":"IF(DATOS!AK353<>\"\",DATOS!AK353,\"\")","v":""}]
[{"$f":"IF(DATOS!N354<>\"\",DATOS!N354,\"\")","v":""},{"$f":"IF(DATOS!AG354<>\"\",DATOS!AG354,\"\")","v":""},{"$f":"IF(DATOS!AK354<>\"\",DATOS!AK354,\"\")","v":""}]
[{"$f":"IF(DATOS!N355<>\"\",DATOS!N355,\"\")","v":""},{"$f":"IF(DATOS!AG355<>\"\",DATOS!AG355,\"\")","v":""},{"$f":"IF(DATOS!AK355<>\"\",DATOS!AK355,\"\")","v":""}]
[{"$f":"IF(DATOS!N356<>\"\",DATOS!N356,\"\")","v":""},{"$f":"IF(DATOS!AG356<>\"\",DATOS!AG356,\"\")","v":""},{"$f":"IF(DATOS!AK356<>\"\",DATOS!AK356,\"\")","v":""}]
[{"$f":"IF(DATOS!N357<>\"\",DATOS!N357,\"\")","v":""},{"$f":"IF(DATOS!AG357<>\"\",DATOS!AG357,\"\")","v":""},{"$f":"IF(DATOS!AK357<>\"\",DATOS!AK357,\"\")","v":""}]
[{"$f":"IF(DATOS!N358<>\"\",DATOS!N358,\"\")","v":""},{"$f":"IF(DATOS!AG358<>\"\",DATOS!AG358,\"\")","v":""},{"$f":"IF(DATOS!AK358<>\"\",DATOS!AK358,\"\")","v":""}]
[{"$f":"IF(DATOS!N359<>\"\",DATOS!N359,\"\")","v":""},{"$f":"IF(DATOS!AG359<>\"\",DATOS!AG359,\"\")","v":""},{"$f":"IF(DATOS!AK359<>\"\",DATOS!AK359,\"\")","v":""}]
[{"$f":"IF(DATOS!N360<>\"\",DATOS!N360,\"\")","v":""},{"$f":"IF(DATOS!AG360<>\"\",DATOS!AG360,\"\")","v":""},{"$f":"IF(DATOS!AK360<>\"\",DATOS!AK360,\"\")","v":""}]
[{"$f":"IF(DATOS!N361<>\"\",DATOS!N361,\"\")","v":""},{"$f":"IF(DATOS!AG361<>\"\",DATOS!AG361,\"\")","v":""},{"$f":"IF(DATOS!AK361<>\"\",DATOS!AK361,\"\")","v":""}]
[{"$f":"IF(DATOS!N362<>\"\",DATOS!N362,\"\")","v":""},{"$f":"IF(DATOS!AG362<>\"\",DATOS!AG362,\"\")","v":""},{"$f":"IF(DATOS!AK362<>\"\",DATOS!AK362,\"\")","v":""}]
[{"$f":"IF(DATOS!N363<>\"\",DATOS!N363,\"\")","v":""},{"$f":"IF(DATOS!AG363<>\"\",DATOS!AG363,\"\")","v":""},{"$f":"IF(DATOS!AK363<>\"\",DATOS!AK363,\"\")","v":""}]
[{"$f":"IF(DATOS!N364<>\"\",DATOS!N364,\"\")","v":""},{"$f":"IF(DATOS!AG364<>\"\",DATOS!AG364,\"\")","v":""},{"$f":"IF(DATOS!AK364<>\"\",DATOS!AK364,\"\")","v":""}]
[{"$f":"IF(DATOS!N365<>\"\",DATOS!N365,\"\")","v":""},{"$f":"IF(DATOS!AG365<>\"\",DATOS!AG365,\"\")","v":""},{"$f":"IF(DATOS!AK365<>\"\",DATOS!AK365,\"\")","v":""}]
[{"$f":"IF(DATOS!N366<>\"\",DATOS!N366,\"\")","v":""},{"$f":"IF(DATOS!AG366<>\"\",DATOS!AG366,\"\")","v":""},{"$f":"IF(DATOS!AK366<>\"\",DATOS!AK366,\"\")","v":""}]
[{"$f":"IF(DATOS!N367<>\"\",DATOS!N367,\"\")","v":""},{"$f":"IF(DATOS!AG367<>\"\",DATOS!AG367,\"\")","v":""},{"$f":"IF(DATOS!AK367<>\"\",DATOS!AK367,\"\")","v":""}]
[{"$f":"IF(DATOS!N368<>\"\",DATOS!N368,\"\")","v":""},{"$f":"IF(DATOS!AG368<>\"\",DATOS!AG368,\"\")","v":""},{"$f":"IF(DATOS!AK368<>\"\",DATOS!AK368,\"\")","v":""}]
[{"$f":"IF(DATOS!N369<>\"\",DATOS!N369,\"\")","v":""},{"$f":"IF(DATOS!AG369<>\"\",DATOS!AG369,\"\")","v":""},{"$f":"IF(DATOS!AK369<>\"\",DATOS!AK369,\"\")","v":""}]
[{"$f":"IF(DATOS!N370<>\"\",DATOS!N370,\"\")","v":""},{"$f":"IF(DATOS!AG370<>\"\",DATOS!AG370,\"\")","v":""},{"$f":"IF(DATOS!AK370<>\"\",DATOS!AK370,\"\")","v":""}]
[{"$f":"IF(DATOS!N371<>\"\",DATOS!N371,\"\")","v":""},{"$f":"IF(DATOS!AG371<>\"\",DATOS!AG371,\"\")","v":""},{"$f":"IF(DATOS!AK371<>\"\",DATOS!AK371,\"\")","v":""}]
[{"$f":"IF(DATOS!N372<>\"\",DATOS!N372,\"\")","v":""},{"$f":"IF(DATOS!AG372<>\"\",DATOS!AG372,\"\")","v":""},{"$f":"IF(DATOS!AK372<>\"\",DATOS!AK372,\"\")","v":""}]
[{"$f":"IF(DATOS!N373<>\"\",DATOS!N373,\"\")","v":""},{"$f":"IF(DATOS!AG373<>\"\",DATOS!AG373,\"\")","v":""},{"$f":"IF(DATOS!AK373<>\"\",DATOS!AK373,\"\")","v":""}]
[{"$f":"IF(DATOS!N374<>\"\",DATOS!N374,\"\")","v":""},{"$f":"IF(DATOS!AG374<>\"\",DATOS!AG374,\"\")","v":""},{"$f":"IF(DATOS!AK374<>\"\",DATOS!AK374,\"\")","v":""}]
[{"$f":"IF(DATOS!N375<>\"\",DATOS!N375,\"\")","v":""},{"$f":"IF(DATOS!AG375<>\"\",DATOS!AG375,\"\")","v":""},{"$f":"IF(DATOS!AK375<>\"\",DATOS!AK375,\"\")","v":""}]
[{"$f":"IF(DATOS!N376<>\"\",DATOS!N376,\"\")","v":""},{"$f":"IF(DATOS!AG376<>\"\",DATOS!AG376,\"\")","v":""},{"$f":"IF(DATOS!AK376<>\"\",DATOS!AK376,\"\")","v":""}]
[{"$f":"IF(DATOS!N377<>\"\",DATOS!N377,\"\")","v":""},{"$f":"IF(DATOS!AG377<>\"\",DATOS!AG377,\"\")","v":""},{"$f":"IF(DATOS!AK377<>\"\",DATOS!AK377,\"\")","v":""}]
[{"$f":"IF(DATOS!N378<>\"\",DATOS!N378,\"\")","v":""},{"$f":"IF(DATOS!AG378<>\"\",DATOS!AG378,\"\")","v":""},{"$f":"IF(DATOS!AK378<>\"\",DATOS!AK378,\"\")","v":""}]
[{"$f":"IF(DATOS!N379<>\"\",DATOS!N379,\"\")","v":""},{"$f":"IF(DATOS!AG379<>\"\",DATOS!AG379,\"\")","v":""},{"$f":"IF(DATOS!AK379<>\"\",DATOS!AK379,\"\")","v":""}]
[{"$f":"IF(DATOS!N380<>\"\",DATOS!N380,\"\")","v":""},{"$f":"IF(DATOS!AG380<>\"\",DATOS!AG380,\"\")","v":""},{"$f":"IF(DATOS!AK380<>\"\",DATOS!AK380,\"\")","v":""}]
[{"$f":"IF(DATOS!N381<>\"\",DATOS!N381,\"\")","v":""},{"$f":"IF(DATOS!AG381<>\"\",DATOS!AG381,\"\")","v":""},{"$f":"IF(DATOS!AK381<>\"\",DATOS!AK381,\"\")","v":""}]
[{"$f":"IF(DATOS!N382<>\"\",DATOS!N382,\"\")","v":""},{"$f":"IF(DATOS!AG382<>\"\",DATOS!AG382,\"\")","v":""},{"$f":"IF(DATOS!AK382<>\"\",DATOS!AK382,\"\")","v":""}]
[{"$f":"IF(DATOS!N383<>\"\",DATOS!N383,\"\")","v":""},{"$f":"IF(DATOS!AG383<>\"\",DATOS!AG383,\"\")","v":""},{"$f":"IF(DATOS!AK383<>\"\",DATOS!AK383,\"\")","v":""}]
[{"$f":"IF(DATOS!N384<>\"\",DATOS!N384,\"\")","v":""},{"$f":"IF(DATOS!AG384<>\"\",DATOS!AG384,\"\")","v":""},{"$f":"IF(DATOS!AK384<>\"\",DATOS!AK384,\"\")","v":""}]
[{"$f":"IF(DATOS!N385<>\"\",DATOS!N385,\"\")","v":""},{"$f":"IF(DATOS!AG385<>\"\",DATOS!AG385,\"\")","v":""},{"$f":"IF(DATOS!AK385<>\"\",DATOS!AK385,\"\")","v":""}]
[{"$f":"IF(DATOS!N386<>\"\",DATOS!N386,\"\")","v":""},{"$f":"IF(DATOS!AG386<>\"\",DATOS!AG386,\"\")","v":""},{"$f":"IF(DATOS!AK386<>\"\",DATOS!AK386,\"\")","v":""}]
[{"$f":"IF(DATOS!N387<>\"\",DATOS!N387,\"\")","v":""},{"$f":"IF(DATOS!AG387<>\"\",DATOS!AG387,\"\")","v":""},{"$f":"IF(DATOS!AK387<>\"\",DATOS!AK387,\"\")","v":""}]
[{"$f":"IF(DATOS!N388<>\"\",DATOS!N388,\"\")","v":""},{"$f":"IF(DATOS!AG388<>\"\",DATOS!AG388,\"\")","v":""},{"$f":"IF(DATOS!AK388<>\"\",DATOS!AK388,\"\")","v":""}]
[{"$f":"IF(DATOS!N389<>\"\",DATOS!N389,\"\")","v":""},{"$f":"IF(DATOS!AG389<>\"\",DATOS!AG389,\"\")","v":""},{"$f":"IF(DATOS!AK389<>\"\",DATOS!AK389,\"\")","v":""}]
[{"$f":"IF(DATOS!N390<>\"\",DATOS!N390,\"\")","v":""},{"$f":"IF(DATOS!AG390<>\"\",DATOS!AG390,\"\")","v":""},{"$f":"IF(DATOS!AK390<>\"\",DATOS!AK390,\"\")","v":""}]
[{"$f":"IF(DATOS!N391<>\"\",DATOS!N391,\"\")","v":""},{"$f":"IF(DATOS!AG391<>\"\",DATOS!AG391,\"\")","v":""},{"$f":"IF(DATOS!AK391<>\"\",DATOS!AK391,\"\")","v":""}]
[{"$f":"IF(DATOS!N392<>\"\",DATOS!N392,\"\")","v":""},{"$f":"IF(DATOS!AG392<>\"\",DATOS!AG392,\"\")","v":""},{"$f":"IF(DATOS!AK392<>\"\",DATOS!AK392,\"\")","v":""}]
[{"$f":"IF(DATOS!N393<>\"\",DATOS!N393,\"\")","v":""},{"$f":"IF(DATOS!AG393<>\"\",DATOS!AG393,\"\")","v":""},{"$f":"IF(DATOS!AK393<>\"\",DATOS!AK393,\"\")","v":""}]
[{"$f":"IF(DATOS!N394<>\"\",DATOS!N394,\"\")","v":""},{"$f":"IF(DATOS!AG394<>\"\",DATOS!AG394,\"\")","v":""},{"$f":"IF(DATOS!AK394<>\"\",DATOS!AK394,\"\")","v":""}]
[{"$f":"IF(DATOS!N395<>\"\",DATOS!N395,\"\")","v":""},{"$f":"IF(DATOS!AG395<>\"\",DATOS!AG395,\"\")","v":""},{"$f":"IF(DATOS!AK395<>\"\",DATOS!AK395,\"\")","v":""}]
[{"$f":"IF(DATOS!N396<>\"\",DATOS!N396,\"\")","v":""},{"$f":"IF(DATOS!AG396<>\"\",DATOS!AG396,\"\")","v":""},{"$f":"IF(DATOS!AK396<>\"\",DATOS!AK396,\"\")","v":""}]
[{"$f":"IF(DATOS!N397<>\"\",DATOS!N397,\"\")","v":""},{"$f":"IF(DATOS!AG397<>\"\",DATOS!AG397,\"\")","v":""},{"$f":"IF(DATOS!AK397<>\"\",DATOS!AK397,\"\")","v":""}]
[{"$f":"IF(DATOS!N398<>\"\",DATOS!N398,\"\")","v":""},{"$f":"IF(DATOS!AG398<>\"\",DATOS!AG398,\"\")","v":""},{"$f":"IF(DATOS!AK398<>\"\",DATOS!AK398,\"\")","v":""}]
[{"$f":"IF(DATOS!N399<>\"\",DATOS!N399,\"\")","v":""},{"$f":"IF(DATOS!AG399<>\"\",DATOS!AG399,\"\")","v":""},{"$f":"IF(DATOS!AK399<>\"\",DATOS!AK399,\"\")","v":""}]
[{"$f":"IF(DATOS!N400<>\"\",DATOS!N400,\"\")","v":""},{"$f":"IF(DATOS!AG400<>\"\",DATOS!AG400,\"\")","v":""},{"$f":"IF(DATOS!AK400<>\"\",DATOS!AK400,\"\")","v":""}]
[{"$f":"IF(DATOS!N401<>\"\",DATOS!N401,\"\")","v":""},{"$f":"IF(DATOS!AG401<>\"\",DATOS!AG401,\"\")","v":""},{"$f":"IF(DATOS!AK401<>\"\",DATOS!AK401,\"\")","v":""}]
[{"$f":"IF(DATOS!N402<>\"\",DATOS!N402,\"\")","v":""},{"$f":"IF(DATOS!AG402<>\"\",DATOS!AG402,\"\")","v":""},{"$f":"IF(DATOS!AK402<>\"\",DATOS!AK402,\"\")","v":""}]
[{"$f":"IF(DATOS!N403<>\"\",DATOS!N403,\"\")","v":""},{"$f":"IF(DATOS!AG403<>\"\",DATOS!AG403,\"\")","v":""},{"$f":"IF(DATOS!AK403<>\"\",DATOS!AK403,\"\")","v":""}]
[{"$f":"IF(DATOS!N404<>\"\",DATOS!N404,\"\")","v":""},{"$f":"IF(DATOS!AG404<>\"\",DATOS!AG404,\"\")","v":""},{"$f":"IF(DATOS!AK404<>\"\",DATOS!AK404,\"\")","v":""}]
[{"$f":"IF(DATOS!N405<>\"\",DATOS!N405,\"\")","v":""},{"$f":"IF(DATOS!AG405<>\"\",DATOS!AG405,\"\")","v":""},{"$f":"IF(DATOS!AK405<>\"\",DATOS!AK405,\"\")","v":""}]
[{"$f":"IF(DATOS!N406<>\"\",DATOS!N406,\"\")","v":""},{"$f":"IF(DATOS!AG406<>\"\",DATOS!AG406,\"\")","v":""},{"$f":"IF(DATOS!AK406<>\"\",DATOS!AK406,\"\")","v":""}]
[{"$f":"IF(DATOS!N407<>\"\",DATOS!N407,\"\")","v":""},{"$f":"IF(DATOS!AG407<>\"\",DATOS!AG407,\"\")","v":""},{"$f":"IF(DATOS!AK407<>\"\",DATOS!AK407,\"\")","v":""}]
[{"$f":"IF(DATOS!N408<>\"\",DATOS!N408,\"\")","v":""},{"$f":"IF(DATOS!AG408<>\"\",DATOS!AG408,\"\")","v":""},{"$f":"IF(DATOS!AK408<>\"\",DATOS!AK408,\"\")","v":""}]
[{"$f":"IF(DATOS!N409<>\"\",DATOS!N409,\"\")","v":""},{"$f":"IF(DATOS!AG409<>\"\",DATOS!AG409,\"\")","v":""},{"$f":"IF(DATOS!AK409<>\"\",DATOS!AK409,\"\")","v":""}]
[{"$f":"IF(DATOS!N410<>\"\",DATOS!N410,\"\")","v":""},{"$f":"IF(DATOS!AG410<>\"\",DATOS!AG410,\"\")","v":""},{"$f":"IF(DATOS!AK410<>\"\",DATOS!AK410,\"\")","v":""}]
[{"$f":"IF(DATOS!N411<>\"\",DATOS!N411,\"\")","v":""},{"$f":"IF(DATOS!AG411<>\"\",DATOS!AG411,\"\")","v":""},{"$f":"IF(DATOS!AK411<>\"\",DATOS!AK411,\"\")","v":""}]
[{"$f":"IF(DATOS!N412<>\"\",DATOS!N412,\"\")","v":""},{"$f":"IF(DATOS!AG412<>\"\",DATOS!AG412,\"\")","v":""},{"$f":"IF(DATOS!AK412<>\"\",DATOS!AK412,\"\")","v":""}]
[{"$f":"IF(DATOS!N413<>\"\",DATOS!N413,\"\")","v":""},{"$f":"IF(DATOS!AG413<>\"\",DATOS!AG413,\"\")","v":""},{"$f":"IF(DATOS!AK413<>\"\",DATOS!AK413,\"\")","v":""}]
[{"$f":"IF(DATOS!N414<>\"\",DATOS!N414,\"\")","v":""},{"$f":"IF(DATOS!AG414<>\"\",DATOS!AG414,\"\")","v":""},{"$f":"IF(DATOS!AK414<>\"\",DATOS!AK414,\"\")","v":""}]
[{"$f":"IF(DATOS!N415<>\"\",DATOS!N415,\"\")","v":""},{"$f":"IF(DATOS!AG415<>\"\",DATOS!AG415,\"\")","v":""},{"$f":"IF(DATOS!AK415<>\"\",DATOS!AK415,\"\")","v":""}]
[{"$f":"IF(DATOS!N416<>\"\",DATOS!N416,\"\")","v":""},{"$f":"IF(DATOS!AG416<>\"\",DATOS!AG416,\"\")","v":""},{"$f":"IF(DATOS!AK416<>\"\",DATOS!AK416,\"\")","v":""}]
[{"$f":"IF(DATOS!N417<>\"\",DATOS!N417,\"\")","v":""},{"$f":"IF(DATOS!AG417<>\"\",DATOS!AG417,\"\")","v":""},{"$f":"IF(DATOS!AK417<>\"\",DATOS!AK417,\"\")","v":""}]
[{"$f":"IF(DATOS!N418<>\"\",DATOS!N418,\"\")","v":""},{"$f":"IF(DATOS!AG418<>\"\",DATOS!AG418,\"\")","v":""},{"$f":"IF(DATOS!AK418<>\"\",DATOS!AK418,\"\")","v":""}]
[{"$f":"IF(DATOS!N419<>\"\",DATOS!N419,\"\")","v":""},{"$f":"IF(DATOS!AG419<>\"\",DATOS!AG419,\"\")","v":""},{"$f":"IF(DATOS!AK419<>\"\",DATOS!AK419,\"\")","v":""}]
[{"$f":"IF(DATOS!N420<>\"\",DATOS!N420,\"\")","v":""},{"$f":"IF(DATOS!AG420<>\"\",DATOS!AG420,\"\")","v":""},{"$f":"IF(DATOS!AK420<>\"\",DATOS!AK420,\"\")","v":""}]
[{"$f":"IF(DATOS!N421<>\"\",DATOS!N421,\"\")","v":""},{"$f":"IF(DATOS!AG421<>\"\",DATOS!AG421,\"\")","v":""},{"$f":"IF(DATOS!AK421<>\"\",DATOS!AK421,\"\")","v":""}]
[{"$f":"IF(DATOS!N422<>\"\",DATOS!N422,\"\")","v":""},{"$f":"IF(DATOS!AG422<>\"\",DATOS!AG422,\"\")","v":""},{"$f":"IF(DATOS!AK422<>\"\",DATOS!AK422,\"\")","v":""}]
[{"$f":"IF(DATOS!N423<>\"\",DATOS!N423,\"\")","v":""},{"$f":"IF(DATOS!AG423<>\"\",DATOS!AG423,\"\")","v":""},{"$f":"IF(DATOS!AK423<>\"\",DATOS!AK423,\"\")","v":""}]
[{"$f":"IF(DATOS!N424<>\"\",DATOS!N424,\"\")","v":""},{"$f":"IF(DATOS!AG424<>\"\",DATOS!AG424,\"\")","v":""},{"$f":"IF(DATOS!AK424<>\"\",DATOS!AK424,\"\")","v":""}]
[{"$f":"IF(DATOS!N425<>\"\",DATOS!N425,\"\")","v":""},{"$f":"IF(DATOS!AG425<>\"\",DATOS!AG425,\"\")","v":""},{"$f":"IF(DATOS!AK425<>\"\",DATOS!AK425,\"\")","v":""}]
[{"$f":"IF(DATOS!N426<>\"\",DATOS!N426,\"\")","v":""},{"$f":"IF(DATOS!AG426<>\"\",DATOS!AG426,\"\")","v":""},{"$f":"IF(DATOS!AK426<>\"\",DATOS!AK426,\"\")","v":""}]
[{"$f":"IF(DATOS!N427<>\"\",DATOS!N427,\"\")","v":""},{"$f":"IF(DATOS!AG427<>\"\",DATOS!AG427,\"\")","v":""},{"$f":"IF(DATOS!AK427<>\"\",DATOS!AK427,\"\")","v":""}]
[{"$f":"IF(DATOS!N428<>\"\",DATOS!N428,\"\")","v":""},{"$f":"IF(DATOS!AG428<>\"\",DATOS!AG428,\"\")","v":""},{"$f":"IF(DATOS!AK428<>\"\",DATOS!AK428,\"\")","v":""}]
[{"$f":"IF(DATOS!N429<>\"\",DATOS!N429,\"\")","v":""},{"$f":"IF(DATOS!AG429<>\"\",DATOS!AG429,\"\")","v":""},{"$f":"IF(DATOS!AK429<>\"\",DATOS!AK429,\"\")","v":""}]
[{"$f":"IF(DATOS!N430<>\"\",DATOS!N430,\"\")","v":""},{"$f":"IF(DATOS!AG430<>\"\",DATOS!AG430,\"\")","v":""},{"$f":"IF(DATOS!AK430<>\"\",DATOS!AK430,\"\")","v":""}]
[{"$f":"IF(DATOS!N431<>\"\",DATOS!N431,\"\")","v":""},{"$f":"IF(DATOS!AG431<>\"\",DATOS!AG431,\"\")","v":""},{"$f":"IF(DATOS!AK431<>\"\",DATOS!AK431,\"\")","v":""}]
[{"$f":"IF(DATOS!N432<>\"\",DATOS!N432,\"\")","v":""},{"$f":"IF(DATOS!AG432<>\"\",DATOS!AG432,\"\")","v":""},{"$f":"IF(DATOS!AK432<>\"\",DATOS!AK432,\"\")","v":""}]
[{"$f":"IF(DATOS!N433<>\"\",DATOS!N433,\"\")","v":""},{"$f":"IF(DATOS!AG433<>\"\",DATOS!AG433,\"\")","v":""},{"$f":"IF(DATOS!AK433<>\"\",DATOS!AK433,\"\")","v":""}]
[{"$f":"IF(DATOS!N434<>\"\",DATOS!N434,\"\")","v":""},{"$f":"IF(DATOS!AG434<>\"\",DATOS!AG434,\"\")","v":""},{"$f":"IF(DATOS!AK434<>\"\",DATOS!AK434,\"\")","v":""}]
[{"$f":"IF(DATOS!N435<>\"\",DATOS!N435,\"\")","v":""},{"$f":"IF(DATOS!AG435<>\"\",DATOS!AG435,\"\")","v":""},{"$f":"IF(DATOS!AK435<>\"\",DATOS!AK435,\"\")","v":""}]
[{"$f":"IF(DATOS!N436<>\"\",DATOS!N436,\"\")","v":""},{"$f":"IF(DATOS!AG436<>\"\",DATOS!AG436,\"\")","v":""},{"$f":"IF(DATOS!AK436<>\"\",DATOS!AK436,\"\")","v":""}]
[{"$f":"IF(DATOS!N437<>\"\",DATOS!N437,\"\")","v":""},{"$f":"IF(DATOS!AG437<>\"\",DATOS!AG437,\"\")","v":""},{"$f":"IF(DATOS!AK437<>\"\",DATOS!AK437,\"\")","v":""}]
[{"$f":"IF(DATOS!N438<>\"\",DATOS!N438,\"\")","v":""},{"$f":"IF(DATOS!AG438<>\"\",DATOS!AG438,\"\")","v":""},{"$f":"IF(DATOS!AK438<>\"\",DATOS!AK438,\"\")","v":""}]
[{"$f":"IF(DATOS!N439<>\"\",DATOS!N439,\"\")","v":""},{"$f":"IF(DATOS!AG439<>\"\",DATOS!AG439,\"\")","v":""},{"$f":"IF(DATOS!AK439<>\"\",DATOS!AK439,\"\")","v":""}]
[{"$f":"IF(DATOS!N440<>\"\",DATOS!N440,\"\")","v":""},{"$f":"IF(DATOS!AG440<>\"\",DATOS!AG440,\"\")","v":""},{"$f":"IF(DATOS!AK440<>\"\",DATOS!AK440,\"\")","v":""}]
[{"$f":"IF(DATOS!N441<>\"\",DATOS!N441,\"\")","v":""},{"$f":"IF(DATOS!AG441<>\"\",DATOS!AG441,\"\")","v":""},{"$f":"IF(DATOS!AK441<>\"\",DATOS!AK441,\"\")","v":""}]
[{"$f":"IF(DATOS!N442<>\"\",DATOS!N442,\"\")","v":""},{"$f":"IF(DATOS!AG442<>\"\",DATOS!AG442,\"\")","v":""},{"$f":"IF(DATOS!AK442<>\"\",DATOS!AK442,\"\")","v":""}]
[{"$f":"IF(DATOS!N443<>\"\",DATOS!N443,\"\")","v":""},{"$f":"IF(DATOS!AG443<>\"\",DATOS!AG443,\"\")","v":""},{"$f":"IF(DATOS!AK443<>\"\",DATOS!AK443,\"\")","v":""}]
[{"$f":"IF(DATOS!N444<>\"\",DATOS!N444,\"\")","v":""},{"$f":"IF(DATOS!AG444<>\"\",DATOS!AG444,\"\")","v":""},{"$f":"IF(DATOS!AK444<>\"\",DATOS!AK444,\"\")","v":""}]
[{"$f":"IF(DATOS!N445<>\"\",DATOS!N445,\"\")","v":""},{"$f":"IF(DATOS!AG445<>\"\",DATOS!AG445,\"\")","v":""},{"$f":"IF(DATOS!AK445<>\"\",DATOS!AK445,\"\")","v":""}]
[{"$f":"IF(DATOS!N446<>\"\",DATOS!N446,\"\")","v":""},{"$f":"IF(DATOS!AG446<>\"\",DATOS!AG446,\"\")","v":""},{"$f":"IF(DATOS!AK446<>\"\",DATOS!AK446,\"\")","v":""}]
[{"$f":"IF(DATOS!N447<>\"\",DATOS!N447,\"\")","v":""},{"$f":"IF(DATOS!AG447<>\"\",DATOS!AG447,\"\")","v":""},{"$f":"IF(DATOS!AK447<>\"\",DATOS!AK447,\"\")","v":""}]
[{"$f":"IF(DATOS!N448<>\"\",DATOS!N448,\"\")","v":""},{"$f":"IF(DATOS!AG448<>\"\",DATOS!AG448,\"\")","v":""},{"$f":"IF(DATOS!AK448<>\"\",DATOS!AK448,\"\")","v":""}]
[{"$f":"IF(DATOS!N449<>\"\",DATOS!N449,\"\")","v":""},{"$f":"IF(DATOS!AG449<>\"\",DATOS!AG449,\"\")","v":""},{"$f":"IF(DATOS!AK449<>\"\",DATOS!AK449,\"\")","v":""}]
[{"$f":"IF(DATOS!N450<>\"\",DATOS!N450,\"\")","v":""},{"$f":"IF(DATOS!AG450<>\"\",DATOS!AG450,\"\")","v":""},{"$f":"IF(DATOS!AK450<>\"\",DATOS!AK450,\"\")","v":""}]
[{"$f":"IF(DATOS!N451<>\"\",DATOS!N451,\"\")","v":""},{"$f":"IF(DATOS!AG451<>\"\",DATOS!AG451,\"\")","v":""},{"$f":"IF(DATOS!AK451<>\"\",DATOS!AK451,\"\")","v":""}]
[{"$f":"IF(DATOS!N452<>\"\",DATOS!N452,\"\")","v":""},{"$f":"IF(DATOS!AG452<>\"\",DATOS!AG452,\"\")","v":""},{"$f":"IF(DATOS!AK452<>\"\",DATOS!AK452,\"\")","v":""}]
[{"$f":"IF(DATOS!N453<>\"\",DATOS!N453,\"\")","v":""},{"$f":"IF(DATOS!AG453<>\"\",DATOS!AG453,\"\")","v":""},{"$f":"IF(DATOS!AK453<>\"\",DATOS!AK453,\"\")","v":""}]
[{"$f":"IF(DATOS!N454<>\"\",DATOS!N454,\"\")","v":""},{"$f":"IF(DATOS!AG454<>\"\",DATOS!AG454,\"\")","v":""},{"$f":"IF(DATOS!AK454<>\"\",DATOS!AK454,\"\")","v":""}]
[{"$f":"IF(DATOS!N455<>\"\",DATOS!N455,\"\")","v":""},{"$f":"IF(DATOS!AG455<>\"\",DATOS!AG455,\"\")","v":""},{"$f":"IF(DATOS!AK455<>\"\",DATOS!AK455,\"\")","v":""}]
[{"$f":"IF(DATOS!N456<>\"\",DATOS!N456,\"\")","v":""},{"$f":"IF(DATOS!AG456<>\"\",DATOS!AG456,\"\")","v":""},{"$f":"IF(DATOS!AK456<>\"\",DATOS!AK456,\"\")","v":""}]
[{"$f":"IF(DATOS!N457<>\"\",DATOS!N457,\"\")","v":""},{"$f":"IF(DATOS!AG457<>\"\",DATOS!AG457,\"\")","v":""},{"$f":"IF(DATOS!AK457<>\"\",DATOS!AK457,\"\")","v":""}]
[{"$f":"IF(DATOS!N458<>\"\",DATOS!N458,\"\")","v":""},{"$f":"IF(DATOS!AG458<>\"\",DATOS!AG458,\"\")","v":""},{"$f":"IF(DATOS!AK458<>\"\",DATOS!AK458,\"\")","v":""}]
[{"$f":"IF(DATOS!N459<>\"\",DATOS!N459,\"\")","v":""},{"$f":"IF(DATOS!AG459<>\"\",DATOS!AG459,\"\")","v":""},{"$f":"IF(DATOS!AK459<>\"\",DATOS!AK459,\"\")","v":""}]
[{"$f":"IF(DATOS!N460<>\"\",DATOS!N460,\"\")","v":""},{"$f":"IF(DATOS!AG460<>\"\",DATOS!AG460,\"\")","v":""},{"$f":"IF(DATOS!AK460<>\"\",DATOS!AK460,\"\")","v":""}]
[{"$f":"IF(DATOS!N461<>\"\",DATOS!N461,\"\")","v":""},{"$f":"IF(DATOS!AG461<>\"\",DATOS!AG461,\"\")","v":""},{"$f":"IF(DATOS!AK461<>\"\",DATOS!AK461,\"\")","v":""}]
[{"$f":"IF(DATOS!N462<>\"\",DATOS!N462,\"\")","v":""},{"$f":"IF(DATOS!AG462<>\"\",DATOS!AG462,\"\")","v":""},{"$f":"IF(DATOS!AK462<>\"\",DATOS!AK462,\"\")","v":""}]
[{"$f":"IF(DATOS!N463<>\"\",DATOS!N463,\"\")","v":""},{"$f":"IF(DATOS!AG463<>\"\",DATOS!AG463,\"\")","v":""},{"$f":"IF(DATOS!AK463<>\"\",DATOS!AK463,\"\")","v":""}]
[{"$f":"IF(DATOS!N464<>\"\",DATOS!N464,\"\")","v":""},{"$f":"IF(DATOS!AG464<>\"\",DATOS!AG464,\"\")","v":""},{"$f":"IF(DATOS!AK464<>\"\",DATOS!AK464,\"\")","v":""}]
[{"$f":"IF(DATOS!N465<>\"\",DATOS!N465,\"\")","v":""},{"$f":"IF(DATOS!AG465<>\"\",DATOS!AG465,\"\")","v":""},{"$f":"IF(DATOS!AK465<>\"\",DATOS!AK465,\"\")","v":""}]
[{"$f":"IF(DATOS!N466<>\"\",DATOS!N466,\"\")","v":""},{"$f":"IF(DATOS!AG466<>\"\",DATOS!AG466,\"\")","v":""},{"$f":"IF(DATOS!AK466<>\"\",DATOS!AK466,\"\")","v":""}]
[{"$f":"IF(DATOS!N467<>\"\",DATOS!N467,\"\")","v":""},{"$f":"IF(DATOS!AG467<>\"\",DATOS!AG467,\"\")","v":""},{"$f":"IF(DATOS!AK467<>\"\",DATOS!AK467,\"\")","v":""}]
[{"$f":"IF(DATOS!N468<>\"\",DATOS!N468,\"\")","v":""},{"$f":"IF(DATOS!AG468<>\"\",DATOS!AG468,\"\")","v":""},{"$f":"IF(DATOS!AK468<>\"\",DATOS!AK468,\"\")","v":""}]
[{"$f":"IF(DATOS!N469<>\"\",DATOS!N469,\"\")","v":""},{"$f":"IF(DATOS!AG469<>\"\",DATOS!AG469,\"\")","v":""},{"$f":"IF(DATOS!AK469<>\"\",DATOS!AK469,\"\")","v":""}]
[{"$f":"IF(DATOS!N470<>\"\",DATOS!N470,\"\")","v":""},{"$f":"IF(DATOS!AG470<>\"\",DATOS!AG470,\"\")","v":""},{"$f":"IF(DATOS!AK470<>\"\",DATOS!AK470,\"\")","v":""}]
[{"$f":"IF(DATOS!N471<>\"\",DATOS!N471,\"\")","v":""},{"$f":"IF(DATOS!AG471<>\"\",DATOS!AG471,\"\")","v":""},{"$f":"IF(DATOS!AK471<>\"\",DATOS!AK471,\"\")","v":""}]
[{"$f":"IF(DATOS!N472<>\"\",DATOS!N472,\"\")","v":""},{"$f":"IF(DATOS!AG472<>\"\",DATOS!AG472,\"\")","v":""},{"$f":"IF(DATOS!AK472<>\"\",DATOS!AK472,\"\")","v":""}]
[{"$f":"IF(DATOS!N473<>\"\",DATOS!N473,\"\")","v":""},{"$f":"IF(DATOS!AG473<>\"\",DATOS!AG473,\"\")","v":""},{"$f":"IF(DATOS!AK473<>\"\",DATOS!AK473,\"\")","v":""}]
[{"$f":"IF(DATOS!N474<>\"\",DATOS!N474,\"\")","v":""},{"$f":"IF(DATOS!AG474<>\"\",DATOS!AG474,\"\")","v":""},{"$f":"IF(DATOS!AK474<>\"\",DATOS!AK474,\"\")","v":""}]
[{"$f":"IF(DATOS!N475<>\"\",DATOS!N475,\"\")","v":""},{"$f":"IF(DATOS!AG475<>\"\",DATOS!AG475,\"\")","v":""},{"$f":"IF(DATOS!AK475<>\"\",DATOS!AK475,\"\")","v":""}]
[{"$f":"IF(DATOS!N476<>\"\",DATOS!N476,\"\")","v":""},{"$f":"IF(DATOS!AG476<>\"\",DATOS!AG476,\"\")","v":""},{"$f":"IF(DATOS!AK476<>\"\",DATOS!AK476,\"\")","v":""}]
[{"$f":"IF(DATOS!N477<>\"\",DATOS!N477,\"\")","v":""},{"$f":"IF(DATOS!AG477<>\"\",DATOS!AG477,\"\")","v":""},{"$f":"IF(DATOS!AK477<>\"\",DATOS!AK477,\"\")","v":""}]
[{"$f":"IF(DATOS!N478<>\"\",DATOS!N478,\"\")","v":""},{"$f":"IF(DATOS!AG478<>\"\",DATOS!AG478,\"\")","v":""},{"$f":"IF(DATOS!AK478<>\"\",DATOS!AK478,\"\")","v":""}]
[{"$f":"IF(DATOS!N479<>\"\",DATOS!N479,\"\")","v":""},{"$f":"IF(DATOS!AG479<>\"\",DATOS!AG479,\"\")","v":""},{"$f":"IF(DATOS!AK479<>\"\",DATOS!AK479,\"\")","v":""}]
[{"$f":"IF(DATOS!N480<>\"\",DATOS!N480,\"\")","v":""},{"$f":"IF(DATOS!AG480<>\"\",DATOS!AG480,\"\")","v":""},{"$f":"IF(DATOS!AK480<>\"\",DATOS!AK480,\"\")","v":""}]
[{"$f":"IF(DATOS!N481<>\"\",DATOS!N481,\"\")","v":""},{"$f":"IF(DATOS!AG481<>\"\",DATOS!AG481,\"\")","v":""},{"$f":"IF(DATOS!AK481<>\"\",DATOS!AK481,\"\")","v":""}]
[{"$f":"IF(DATOS!N482<>\"\",DATOS!N482,\"\")","v":""},{"$f":"IF(DATOS!AG482<>\"\",DATOS!AG482,\"\")","v":""},{"$f":"IF(DATOS!AK482<>\"\",DATOS!AK482,\"\")","v":""}]
[{"$f":"IF(DATOS!N483<>\"\",DATOS!N483,\"\")","v":""},{"$f":"IF(DATOS!AG483<>\"\",DATOS!AG483,\"\")","v":""},{"$f":"IF(DATOS!AK483<>\"\",DATOS!AK483,\"\")","v":""}]
[{"$f":"IF(DATOS!N484<>\"\",DATOS!N484,\"\")","v":""},{"$f":"IF(DATOS!AG484<>\"\",DATOS!AG484,\"\")","v":""},{"$f":"IF(DATOS!AK484<>\"\",DATOS!AK484,\"\")","v":""}]
[{"$f":"IF(DATOS!N485<>\"\",DATOS!N485,\"\")","v":""},{"$f":"IF(DATOS!AG485<>\"\",DATOS!AG485,\"\")","v":""},{"$f":"IF(DATOS!AK485<>\"\",DATOS!AK485,\"\")","v":""}]
[{"$f":"IF(DATOS!N486<>\"\",DATOS!N486,\"\")","v":""},{"$f":"IF(DATOS!AG486<>\"\",DATOS!AG486,\"\")","v":""},{"$f":"IF(DATOS!AK486<>\"\",DATOS!AK486,\"\")","v":""}]
[{"$f":"IF(DATOS!N487<>\"\",DATOS!N487,\"\")","v":""},{"$f":"IF(DATOS!AG487<>\"\",DATOS!AG487,\"\")","v":""},{"$f":"IF(DATOS!AK487<>\"\",DATOS!AK487,\"\")","v":""}]
[{"$f":"IF(DATOS!N488<>\"\",DATOS!N488,\"\")","v":""},{"$f":"IF(DATOS!AG488<>\"\",DATOS!AG488,\"\")","v":""},{"$f":"IF(DATOS!AK488<>\"\",DATOS!AK488,\"\")","v":""}]
[{"$f":"IF(DATOS!N489<>\"\",DATOS!N489,\"\")","v":""},{"$f":"IF(DATOS!AG489<>\"\",DATOS!AG489,\"\")","v":""},{"$f":"IF(DATOS!AK489<>\"\",DATOS!AK489,\"\")","v":""}]
[{"$f":"IF(DATOS!N490<>\"\",DATOS!N490,\"\")","v":""},{"$f":"IF(DATOS!AG490<>\"\",DATOS!AG490,\"\")","v":""},{"$f":"IF(DATOS!AK490<>\"\",DATOS!AK490,\"\")","v":""}]
[{"$f":"IF(DATOS!N491<>\"\",DATOS!N491,\"\")","v":""},{"$f":"IF(DATOS!AG491<>\"\",DATOS!AG491,\"\")","v":""},{"$f":"IF(DATOS!AK491<>\"\",DATOS!AK491,\"\")","v":""}]
[{"$f":"IF(DATOS!N492<>\"\",DATOS!N492,\"\")","v":""},{"$f":"IF(DATOS!AG492<>\"\",DATOS!AG492,\"\")","v":""},{"$f":"IF(DATOS!AK492<>\"\",DATOS!AK492,\"\")","v":""}]
[{"$f":"IF(DATOS!N493<>\"\",DATOS!N493,\"\")","v":""},{"$f":"IF(DATOS!AG493<>\"\",DATOS!AG493,\"\")","v":""},{"$f":"IF(DATOS!AK493<>\"\",DATOS!AK493,\"\")","v":""}]
[{"$f":"IF(DATOS!N494<>\"\",DATOS!N494,\"\")","v":""},{"$f":"IF(DATOS!AG494<>\"\",DATOS!AG494,\"\")","v":""},{"$f":"IF(DATOS!AK494<>\"\",DATOS!AK494,\"\")","v":""}]
[{"$f":"IF(DATOS!N495<>\"\",DATOS!N495,\"\")","v":""},{"$f":"IF(DATOS!AG495<>\"\",DATOS!AG495,\"\")","v":""},{"$f":"IF(DATOS!AK495<>\"\",DATOS!AK495,\"\")","v":""}]
[{"$f":"IF(DATOS!N496<>\"\",DATOS!N496,\"\")","v":""},{"$f":"IF(DATOS!AG496<>\"\",DATOS!AG496,\"\")","v":""},{"$f":"IF(DATOS!AK496<>\"\",DATOS!AK496,\"\")","v":""}]
[{"$f":"IF(DATOS!N497<>\"\",DATOS!N497,\"\")","v":""},{"$f":"IF(DATOS!AG497<>\"\",DATOS!AG497,\"\")","v":""},{"$f":"IF(DATOS!AK497<>\"\",DATOS!AK497,\"\")","v":""}]
[{"$f":"IF(DATOS!N498<>\"\",DATOS!N498,\"\")","v":""},{"$f":"IF(DATOS!AG498<>\"\",DATOS!AG498,\"\")","v":""},{"$f":"IF(DATOS!AK498<>\"\",DATOS!AK498,\"\")","v":""}]
[{"$f":"IF(DATOS!N499<>\"\",DATOS!N499,\"\")","v":""},{"$f":"IF(DATOS!AG499<>\"\",DATOS!AG499,\"\")","v":""},{"$f":"IF(DATOS!AK499<>\"\",DATOS!AK499,\"\")","v":""}]
[{"$f":"IF(DATOS!N500<>\"\",DATOS!N500,\"\")","v":""},{"$f":"IF(DATOS!AG500<>\"\",DATOS!AG500,\"\")","v":""},{"$f":"IF(DATOS!AK500<>\"\",DATOS!AK500,\"\")","v":""}]
[{"$f":"IF(DATOS!N501<>\"\",DATOS!N501,\"\")","v":""},{"$f":"IF(DATOS!AG501<>\"\",DATOS!AG501,\"\")","v":""},{"$f":"IF(DATOS!AK501<>\"\",DATOS!AK501,\"\")","v":""}]
[{"$f":"IF(DATOS!N502<>\"\",DATOS!N502,\"\")","v":""},{"$f":"IF(DATOS!AG502<>\"\",DATOS!AG502,\"\")","v":""},{"$f":"IF(DATOS!AK502<>\"\",DATOS!AK502,\"\")","v":""}]
[{"$f":"IF(DATOS!N503<>\"\",DATOS!N503,\"\")","v":""},{"$f":"IF(DATOS!AG503<>\"\",DATOS!AG503,\"\")","v":""},{"$f":"IF(DATOS!AK503<>\"\",DATOS!AK503,\"\")","v":""}]
[{"$f":"IF(DATOS!N504<>\"\",DATOS!N504,\"\")","v":""},{"$f":"IF(DATOS!AG504<>\"\",DATOS!AG504,\"\")","v":""},{"$f":"IF(DATOS!AK504<>\"\",DATOS!AK504,\"\")","v":""}]

{"sheet":"AGD_MUESTREOS","index":7,"n_rows":0,"n_cols":0,"rows_kept":0,"cut":false,"hidden":true,"merged":[]}

{"sheet":"AGD_PARAMETRO","index":8,"n_rows":0,"n_cols":0,"rows_kept":0,"cut":false,"hidden":true,"merged":[]}

{"sheet":"AGD_MUESTRAS","index":9,"n_rows":0,"n_cols":0,"rows_kept":0,"cut":false,"hidden":true,"merged":[]}

{"sheet":"AGD_MUESTRAS_VARIABLES","index":10,"n_rows":0,"n_cols":0,"rows_kept":0,"cut":false,"hidden":true,"merged":[]}

{"sheet":"AGD_AUTORIAS","index":11,"n_rows":0,"n_cols":0,"rows_kept":0,"cut":false,"hidden":true,"merged":[]}