{"text_format":"1","workbook":"xlsx","n_sheets":11,"sheets":["Registro de cambios","configuracion","DIGITADOR","DATOS","referentes","Otras referencias","AGD_MUESTREOS","AGD_PARAMETRO","AGD_MUESTRAS","AGD_MUESTRAS_VARIABLES","AGD_AUTORIAS"],"not_rendered":{"charts":0,"images":0,"macros":1,"external_links":2,"defined_names":32,"comments":0,"pivot_tables":0},"unopened":[],"bounds":{"document_bytes":16777216,"sheet_cells":100000,"rows_first":2000,"rows_last":500,"rows_between":2000,"halvings":0,"cell_chars":16384,"cell_head_chars":4096},"cells_cut":0,"cells_raw":0,"read":"whole","date_system":"1900"}

{"sheet":"Registro de cambios","index":0,"n_rows":8,"n_cols":6,"rows_kept":8,"cut":false,"hidden":true,"merged":[[1,3,1,5]]}
[]
[null,null,null,"REGISTRO DE CAMBIOS"]
[null,null,null,"VERSIÓN No.","CAMBIO REALIZADO","VIGENTE DESDE"]
[null,null,null,"20240614i","*Se modifica el código de descarga referentes y carga de datos, implementando las nevas API, servicios para descarga y carga de datos:\nhttps://argos.invemar.org.co/api/\n\n* Se incluye el botón denominado \"\"validación datos\"\" en la hoja DIGITADOR, proceso encargado de validar la información ingresada.","2024-06-14"]
[null,null,null,"20211013i","Se agregaron las columnas nro de asilamientos. Lleva ademas comodin despues de la ultima columna para no modificar formulas si se insertan atributos","2021-10-13"]
[null,null,null,"20201120i","Se realizo la configuración y actualización de las plantillas CONFIGURACIÓN, DATOS y DIGITADOR. Fuente simac samp","2020-11-27"]
[null,null,null,20201211]
[null,null,null,"20201223i"]

{"sheet":"configuracion","index":1,"n_rows":66,"n_cols":17,"rows_kept":66,"cut":false,"hidden":true,"merged":[[28,0,35,0],[37,0,42,0],[45,0,45,1],[0,0,2,0],[3,0,5,0],[7,0,8,0],[9,0,15,0],[17,0,21,0],[23,0,26,0]]}
["general","urlServicio","https://argos.invemar.org.co/api/","Nodo Estaciones ",40]
[null,"fila de inicio",5]
[null,"fila de fin",100]
["metodologias","Metodologias",860]
[null,"Referentes",200]
[null,"Cantidad maxima de referentes ",200]
["estaciones/investigadores","proyectos",2050]
["Lista especies","metodologias",860]
[null,"proyectos",2050]
["MUESTREOS","ID_MUESTREO","DATOS,C"]
[null,"ID_ESTACION","DATOS,K"]
[null,"ID_PROYECTO",2050]
[null,"ID_METODOLOGIA",{"$f":"C4","v":860}]
[null,"ID_TEMATICAS",254]
[null,"FECHA","DATOS,G"]
[null,"NOTAS","DATOS,P"]
[null,"cantidad",100]
["parametro muestreo","ID_MUESTREO","DATOS,C","DATOS,C","DATOS,C","DATOS,C","DATOS,C"]
[null,"ID_PARAMETRO",127,1055,1169,1170,119]
[null,"ID_METODOLOGIA",{"$f":"C4","v":860},{"$f":"C4","v":860},{"$f":"C4","v":860},{"$f":"C4","v":860},860]
[null,"ID_UNIDAD_MEDIDA",100,100,100,100,100]
[null,"VALOR","DATOS,F","DIGITADOR,B,6","DIGITADOR,B,13","DIGITADOR,B,12","DATOS,Q"]
[null,"cantidad",100,100,100,100,100]
["muestra","ID_MUESTRA","DATOS,D"]
[null,"ID_MUESTREO","DATOS,B"]
[null,"NOTAS","DATOS,P"]
[null,"ES_REPLICA",1]
[null,"cantidad",100]
["muestra variable","ID_PARAMETRO",122,123,118,126,156,138,229,230,232,1215,1216,1217,1218,1229,1230]
[null,"ID_METODOLOGIA",860,860,860,860,860,860,860,860,860,860,860,860,860,860,860]
[null,"ID_UNIDAD_MEDIDA",0,100,100,0,100,100,100,100,100,100,100,100,100,100,100]
[null,"ID_MUESTRA","DATOS,D","DATOS,D","DATOS,D","DATOS,D","DATOS,D","DATOS,D","DATOS,D","DATOS,D","DATOS,D","DATOS,D","DATOS,D","DATOS,D","DATOS,D","DATOS,D","DATOS,D"]
[null,"ID_METODO"]
[null,"VALOR","DATOS,AG","DATOS,AW","DATOS,R","DATOS,AL","DATOS,AR","DATOS,AE","DATOS,AT","DATOS,AV","DATOS,AB","DATOS,AX","DATOS,AU","DATOS,AS","DATOS,AQ","DATOS,AI","DATOS,AJ"]
[null,"QUALITY_FLAG",2,2,2,2,2,2,2,2,2,2,2,2,2,2,2]
[null,"PRECISION",0,0,0,0,0,0,0,0,0,0,0,0,0,0,0]
[null,"cantidad",200,200,200,200,200,200,200,200,200,200,200,200,200,200,200]
["autoria","ID_FUNCIONARIO","DIGITADOR,B,2","DATOS,I"]
[null,"ID_TAREA",5,4]
[null,"ORDEN",1,4]
[null,"FECHA","DIGITADOR,B,8","DATOS,G"]
[null,"ID_MUESTREO","DATOS,C","DATOS,C"]
[null,"ENTIDAD","DIGITADOR,B,5","DIGITADOR,B,5"]
[null,"cantidad",200,200]
[null,null,null,null,null,null,null,null,null,null,null,null,null,null,119,119]
["REGISTROS GENERADOS",null,"REGISTROS CARGADOS",null,118,"PROFUNDIDAD_VLR_EV",11,null,null,null,null,null,null,null,122,122]
["MUESTREOS",null,null,null,118,"PROFUNDIDAD_COD_EV",100,null,null,null,null,null,null,null,123,123]
["parametro muestreo",null,null,null,119,"SUSTRATO_MS",100,null,null,null,null,null,null,null,118,118]
["muestra",null,null,null,122,"CONCENTRACION_EV",0,null,null,null,null,null,null,null,126,126]
["muestra variable",null,null,null,123,"UNIDADES_EV",100,null,null,null,null,null,null,null,156,156]
["autoria",null,null,null,126,"LIMITE_DETECCION_EV",0,null,null,null,null,null,null,null,118,118]
["registros correctos",null,null,null,127,"CODIGO_PROYECTO_MS",100,null,null,null,null,null,null,null,138,138]
["Fecha de carga",null,null,null,138,"ID_ESPECIE",100,null,null,null,null,null,null,null,229,229]
["json error",null,null,null,156,"MEDIO_CULTIVO",100,null,null,null,null,null,null,null,230,230]
["error",null,null,null,229,"METODO_EXTRAER_ADN",100,null,null,null,null,null,null,null,232,232]
[null,null,null,null,230,"METODO_SECUENCIA",100,null,null,null,null,null,null,null,1215,1215]
[null,null,null,null,232,"PRIMER",100,null,null,null,null,null,null,null,1216,1216]
["CAMPOS OBLIGATORIOS",null,null,null,1055,"VERSION_PLANTILLA",100,null,null,null,null,null,null,null,1217,1217]
["DIGITADOR,B,3",null,null,null,1169,"URL_METADATO",100,null,null,null,null,null,null,null,1218,1218]
["DIGITADOR,B,4",null,null,null,1170,"ARCHIVO_FUENTE",100]
["DIGITADOR,B,8",null,null,null,1215,"FACTOR_VIRULENCIA",100]
["DIGITADOR,B,13",null,null,null,1216,"METODO_AMPLIFICACION",100]
[null,null,null,null,1217,"TECNICA_BIOQUIMICAS",100]
[null,null,null,null,1218,"SIEMBRA_AISLAMIENTO",100]
[null,null,null,null,1229,"AISLAMINENTOS CONFIRMADO",100]
[null,null,null,null,1230,"AISLAMIENTOS NO CONFIRMADO",100]

{"sheet":"DIGITADOR","index":2,"n_rows":28,"n_cols":13,"rows_kept":28,"cut":false,"hidden":false,"merged":[[18,0,18,1],[12,3,14,9],[6,0,7,0],[0,0,0,1],[0,3,6,9],[11,3,11,9],[7,3,10,9]]}
["Monitoreo Calidad Sanitaria Aguas",null,null,"Recomendaciones generales: \n- ¡Precaución! No inserte Filas o Columnas.\n- En los casos en que falte un valor a ingresar que provenga de la hoja de referencias, informe para que el administrador del sistema haga las adiciones necesarias.\nEsta es una plantilla programada. Las columnas de color oscuro se llenan automáticamente, principalmente a partir de los contenidos de la hoja de referencias. \nNO UTILICE PUNTO Y COMA (;) en ningún campo, por ser el separador de variables (columnas). Tampoco escriba las unidades de medida, no son necesarias.\n- Para el correcto funcionamiento de la hoja debe estar activa la opción de Excel de ejecutar macros (al abrir la hoja acepte la opción habilitar macros, mensaje de Excel que aparece en la parte superior de la hoja en un recuadro amarillo). La extensión del archivo debe ser .xlsm\n- Se recomienda renombrar el archivo de la siguiente manera: Departamento_proyecto_sustrato-númeromuestreo_año.xlsm",null,null,null,null,null,null,null,null,2738]
["CODIGO",{"$f":"IF(B3=\"\",\"\",INDEX(referentes!BA:BB,MATCH(DIGITADOR!B3,referentes!BB:BB,0),1))","v":""}]
["NOMBRE"]
["ENTIDAD"]
["COD_ENTIDAD",{"$f":"IF(B4=\"\",\"\",INDEX('Otras referencias'!$F:$G,MATCH(B4,'Otras referencias'!$G:$G,0),1))","v":""}]
["Plantilla",{"$f":"'Registro de cambios'!$D$4","v":"20240614i"}]
["Fecha en la que ingresa los datos en esta hoja","3000-01-01"," "]
[null,"3000-01-01",null,"* Instrucciones para el adecuado diligenciamiento y uso de la plantilla:\n\n- Previo al iniciar el llenado de la plantilla, verifique que tenga la versión vigente, descárguela si es necesario.\n- presione el botón \"Descargar referentes\" para que los referentes de ésta plantilla sean actualizados.\n- Diligencie los datos en la hoja \"VALIDACION\"\n- Presionar el botón \"Estandarizar datos\" para copiar los datos a la hoja \"DATOS\"\n- Presionar el botón \"Validacion datos\" para validar los datos diligenciados\n- Luego de validar los datos con éxito, haga clic sobre el botón \"Generar tablas\" para que los datos sean organizados antes de cargarlos al Sistema de Información.\n- Antes de presionar el botón \"Generar tablas\" verifique que:\na. No haya celdas con valores como \"#N/A\" o \"#¡REF!\".\nb. No se estén aplicando filtros en la hoja de datos.\nPara transferir los datos de esta plantilla a la base de datos del sistema, presione el botón \"Cargar datos\". "]
[]
["Cod_Proyecto",2050]
["Nombre","Monitoreo microbiológicos REDCAM"]
["Nombre del archivo",{"$f":"MID(CELL(\"FILENAME\",N50),FIND(\"[\",CELL(\"FILENAME\",N50))+1,FIND(\"]\",CELL(\"FILENAME\",N50))-FIND(\"[\",CELL(\"FILENAME\",N50))-1)","v":"REDCAM_Microbiologico20240614i.xlsm"},null,"Si requiere ayuda contacte a:\nJefe Laboratorio Servicios de información (jefatura.labsis@invemar.org.co) - Apoyo técnico software"]
["DOI Metadato",null,null,"El custodio de los datos es el único autorizado para distribuir este conjunto de datos. El observador y el digitador se comprometen a tomar las medidas necesarias para salvaguardar este conjunto de datos de modo que copia de los mismos no sean obtenidas y/o usadas por terceros no relacionados con el propósito para la cual se recolectó."]
["Fuente Plantilla","http://cinto.invemar.org.co/download/Plantillas_ARGOS_Plus/"]
[]
[]
[]
[]
["REGISTROS GENERADOS",null,"REGISTROS CARGADOS"]
["MUESTREOS",{"$f":"configuracion!B47","v":0},{"$f":"configuracion!C47","v":0}]
["parametro muestreo",{"$f":"configuracion!B48","v":0},{"$f":"configuracion!C48","v":0}]
["muestra",{"$f":"configuracion!B49","v":0},{"$f":"configuracion!C49","v":0}]
["muestra variable",{"$f":"configuracion!B50","v":0},{"$f":"configuracion!C50","v":0}]
["autoria",{"$f":"configuracion!B51","v":0},{"$f":"configuracion!C51","v":0}]
["registros correctos",{"$f":"configuracion!B52","v":0},{"$f":"configuracion!C52","v":0}]
["Fecha de carga",{"$f":"configuracion!B53","v":0},{"$f":"configuracion!C53","v":0}]
["json error",{"$f":"configuracion!B54","v":0},{"$f":"configuracion!C54","v":0}]
["error",{"$f":"configuracion!B55","v":0},{"$f":"configuracion!C55","v":0}]

{"sheet":"DATOS","index":3,"n_rows":100,"n_cols":50,"rows_kept":100,"cut":false,"hidden":false,"merged":[[0,5,2,15],[0,20,2,37],[3,8,3,9]]}
[{"$f":"DIGITADOR!B8","v":"3000-01-01"},null,null,null,null,null,null,null,null,null,null,null,null,null,null,null,null,null,null,null,"PRUEBAS Y RESULTADOS LABORATORIO"]
[{"$f":"CONCATENATE(YEAR(A1),TEXT(A1,\"mmdd\"))","v":"30000101"},null,null,null,null,null,null,null,null,null,null,null,null,null,null,null,null,null,null,null,null,null,null,null,null,null,null,null,null,null,null,null,null,null,null,null,null,null,null,"COMODIN"]
[]
[{"$f":"DIGITADOR!$B$2","v":""},"ID_MUESTREO2","ID_MUESTREO","ID_MUESTRA",null,"PROYECTO FINANCIA","FECHA HORA\n(DD/MM/AAAA HH:MM)",null,"INVESTIGADOR",null,"ID ESTACION","ESTACION","LUGAR","SUSTRATO DE LA\nMUESTRA","PROFUNDIDAD TOMA MUESTRA","NOTAS","CDG\nSUSTRATO","CDG PROFUNDIDAD",null,null,"METODO DE SIEMBRA Y AISLAMIENTO","MEDIO DE CULTIVO","METODO PRUEBA BIOQUIMICA",null,"PERFIL RESULTADO","METODO EXTRACCION ADN","METODO AMPLIFICACION IDENTIFICACION MOLECULAR","PRIMER","METODO SECUENCIACION",null,"CDG ESPECIE ","ESPECIE","NUMERO DE UFC","UNIDADES","AISLAMIENTOS CONFIRMADOS","AISLAMIENTOS NO CONFIRMADOS","FACTOR DE VIRULENCIA","LIMITE DE CUANTIFICACION (>LC)","DUP FILA",null,null,null,"CDG SIEMBRA","CDG MEDIO","CDG BIOQUIMICA","CDG EXTRACCION","CDG AMPLIFICACION","CDG SECUENCIACION","CDG UNIDADES","CDG VIRULENCIA"]
[{"$f":"IF(H5<>\"\",$A$2,\"\")","v":""},{"$f":"IF( L5<>\"\", CONCATENATE(YEAR(G5),TEXT(G5,\"mmdd\"),DIGITADOR!$B$2,DATOS!K5,DIGITADOR!$M$1),\"\")","v":""},{"$f":"IF( L5<>\"\", IF(K5<>K4,CONCATENATE(YEAR(G5),TEXT(G5,\"mmdd\"),DIGITADOR!$B$2,DATOS!K5,DIGITADOR!$M$1),\"\"),\"\")","v":""},{"$f":"IF(K5<>\"\",CONCATENATE(B5,ROW()),\"\")","v":""},null,null,null,null,{"$f":"IF(J5=\"\",\"\",INDEX(referentes!$BA$2:$BB$131,MATCH(DATOS!J5,referentes!$BB$2:$BB$131,0),1))","v":""},null,{"$f":"IF(L5=\"\",\"\",INDEX([2]referentes!$AR:$AV,MATCH(L5,[2]referentes!$AS:$AS,0),1))","v":""},null,{"$f":"IF(L5=\"\",\"\",INDEX([2]referentes!$AR:$AV,MATCH(L5,[2]referentes!$AS:$AS,0),5))","v":""},null,null,null,{"$f":"IF(N5=\"\",\"\",INDEX('Otras referencias'!$A$6:$B$9,MATCH(DATOS!N5,'Otras referencias'!$B$6:$B$9,0),1))","v":""},{"$f":"IF(O5=\"\",\"\",INDEX(referentes!$G:$H,MATCH(O5,referentes!$H:$H,0),1))","v":""},null,null,null,null,null,null,null,null,null,null,null,null,{"$f":"IF(AF5<>\"\",INDEX(referentes!$AK$2:$AL$15,MATCH(DATOS!AF5,referentes!$AL$2:$AL$15,0),1),\"\")","v":""},null,null,null,null,null,null,null,null,null,null,null,{"$f":"IF(U5=\"\",\"\",INDEX(referentes!$J:$K,MATCH(U5,referentes!$K:$K,0),1))","v":""},{"$f":"IF(V5=\"\",\"\",INDEX(referentes!$M:$N,MATCH(V5,referentes!$N:$N,0),1))","v":""},{"$f":"IF(W5=\"\",\"\",INDEX(referentes!$P:$Q,MATCH(W5,referentes!$Q:$Q,0),1))","v":""},{"$f":"IF(Z5=\"\",\"\",INDEX(referentes!$S:$T,MATCH(Z5,referentes!$T:$T,0),1))","v":""},{"$f":"IF(AA5=\"\",\"\",INDEX(referentes!$V:$W,MATCH(AA5,referentes!$W:$W,0),1))","v":""},{"$f":"IF(AC5=\"\",\"\",INDEX(referentes!$Y:$Z,MATCH(AC5,referentes!$Z:$Z,0),1))","v":""},{"$f":"IF(AH5=\"\",\"\",INDEX(referentes!$AE:$AF,MATCH(AH5,referentes!$AF:$AF,0),1))","v":""},{"$f":"IF(AK5=\"\",\"\",INDEX(referentes!$AH:$AI,MATCH(AK5,referentes!$AI:$AI,0),1))","v":""}]
[{"$f":"IF(H6<>\"\",$A$2,\"\")","v":""},{"$f":"IF( L6<>\"\", CONCATENATE(YEAR(G6),TEXT(G6,\"mmdd\"),DIGITADOR!$B$2,DATOS!K6,DIGITADOR!$M$1),\"\")","v":""},{"$f":"IF( L6<>\"\", IF(K6<>K5,CONCATENATE(YEAR(G6),TEXT(G6,\"mmdd\"),DIGITADOR!$B$2,DATOS!K6,DIGITADOR!$M$1),\"\"),\"\")","v":""},{"$f":"IF(K6<>\"\",CONCATENATE(B6,ROW()),\"\")","v":""},null,null,null,null,{"$f":"IF(J6=\"\",\"\",INDEX(referentes!$BA$2:$BB$131,MATCH(DATOS!J6,referentes!$BB$2:$BB$131,0),1))","v":""},null,{"$f":"IF(L6=\"\",\"\",INDEX([2]referentes!$AR:$AV,MATCH(L6,[2]referentes!$AS:$AS,0),1))","v":""},null,{"$f":"IF(L6=\"\",\"\",INDEX([2]referentes!$AR:$AV,MATCH(L6,[2]referentes!$AS:$AS,0),5))","v":""},null,null,null,{"$f":"IF(N6=\"\",\"\",INDEX('Otras referencias'!$A$6:$B$9,MATCH(DATOS!N6,'Otras referencias'!$B$6:$B$9,0),1))","v":""},{"$f":"IF(O6=\"\",\"\",INDEX(referentes!$G:$H,MATCH(O6,referentes!$H:$H,0),1))","v":""},null,null,null,null,null,null,null,null,null,null,null,null,{"$f":"IF(AF6<>\"\",INDEX(referentes!$AK$2:$AL$15,MATCH(DATOS!AF6,referentes!$AL$2:$AL$15,0),1),\"\")","v":""},null,null,null,null,null,null,null,null,null,null,null,{"$f":"IF(U6=\"\",\"\",INDEX(referentes!$J:$K,MATCH(U6,referentes!$K:$K,0),1))","v":""},{"$f":"IF(V6=\"\",\"\",INDEX(referentes!$M:$N,MATCH(V6,referentes!$N:$N,0),1))","v":""},{"$f":"IF(W6=\"\",\"\",INDEX(referentes!$P:$Q,MATCH(W6,referentes!$Q:$Q,0),1))","v":""},{"$f":"IF(Z6=\"\",\"\",INDEX(referentes!$S:$T,MATCH(Z6,referentes!$T:$T,0),1))","v":""},{"$f":"IF(AA6=\"\",\"\",INDEX(referentes!$V:$W,MATCH(AA6,referentes!$W:$W,0),1))","v":""},{"$f":"IF(AC6=\"\",\"\",INDEX(referentes!$Y:$Z,MATCH(AC6,referentes!$Z:$Z,0),1))","v":""},{"$f":"IF(AH6=\"\",\"\",INDEX(referentes!$AE:$AF,MATCH(AH6,referentes!$AF:$AF,0),1))","v":""},{"$f":"IF(AK6=\"\",\"\",INDEX(referentes!$AH:$AI,MATCH(AK6,referentes!$AI:$AI,0),1))","v":""}]
["",{"$f":"IF( L7<>\"\", CONCATENATE(YEAR(G7),TEXT(G7,\"mmdd\"),DIGITADOR!$B$2,DATOS!K7,DIGITADOR!$M$1),\"\")","v":""},{"$f":"IF( L7<>\"\", IF(K7<>K6,CONCATENATE(YEAR(G7),TEXT(G7,\"mmdd\"),DIGITADOR!$B$2,DATOS!K7,DIGITADOR!$M$1),\"\"),\"\")","v":""},"",null,null,null,null,{"$f":"IF(J7=\"\",\"\",INDEX(referentes!$BA$2:$BB$131,MATCH(DATOS!J7,referentes!$BB$2:$BB$131,0),1))","v":""},null,{"$f":"IF(L7=\"\",\"\",INDEX([2]referentes!$AR:$AV,MATCH(L7,[2]referentes!$AS:$AS,0),1))","v":""},null,{"$f":"IF(L7=\"\",\"\",INDEX([2]referentes!$AR:$AV,MATCH(L7,[2]referentes!$AS:$AS,0),5))","v":""},null,null,null,{"$f":"IF(N7=\"\",\"\",INDEX('Otras referencias'!$A$6:$B$9,MATCH(DATOS!N7,'Otras referencias'!$B$6:$B$9,0),1))","v":""},{"$f":"IF(O7=\"\",\"\",INDEX(referentes!$G:$H,MATCH(O7,referentes!$H:$H,0),1))","v":""},null,null,null,null,null,null,null,null,null,null,null,null,{"$f":"IF(AF7<>\"\",INDEX(referentes!$AK$2:$AL$15,MATCH(DATOS!AF7,referentes!$AL$2:$AL$15,0),1),\"\")","v":""},null,null,null,null,null,null,null,null,null,null,null,{"$f":"IF(U7=\"\",\"\",INDEX(referentes!$J:$K,MATCH(U7,referentes!$K:$K,0),1))","v":""},{"$f":"IF(V7=\"\",\"\",INDEX(referentes!$M:$N,MATCH(V7,referentes!$N:$N,0),1))","v":""},{"$f":"IF(W7=\"\",\"\",INDEX(referentes!$P:$Q,MATCH(W7,referentes!$Q:$Q,0),1))","v":""},{"$f":"IF(Z7=\"\",\"\",INDEX(referentes!$S:$T,MATCH(Z7,referentes!$T:$T,0),1))","v":""},{"$f":"IF(AA7=\"\",\"\",INDEX(referentes!$V:$W,MATCH(AA7,referentes!$W:$W,0),1))","v":""},{"$f":"IF(AC7=\"\",\"\",INDEX(referentes!$Y:$Z,MATCH(AC7,referentes!$Z:$Z,0),1))","v":""},{"$f":"IF(AH7=\"\",\"\",INDEX(referentes!$AE:$AF,MATCH(AH7,referentes!$AF:$AF,0),1))","v":""},{"$f":"IF(AK7=\"\",\"\",INDEX(referentes!$AH:$AI,MATCH(AK7,referentes!$AI:$AI,0),1))","v":""}]
["",{"$f":"IF( L8<>\"\", CONCATENATE(YEAR(G8),TEXT(G8,\"mmdd\"),DIGITADOR!$B$2,DATOS!K8,DIGITADOR!$M$1),\"\")","v":""},{"$f":"IF( L8<>\"\", IF(K8<>K7,CONCATENATE(YEAR(G8),TEXT(G8,\"mmdd\"),DIGITADOR!$B$2,DATOS!K8,DIGITADOR!$M$1),\"\"),\"\")","v":""},"",null,null,null,null,{"$f":"IF(J8=\"\",\"\",INDEX(referentes!$BA$2:$BB$131,MATCH(DATOS!J8,referentes!$BB$2:$BB$131,0),1))","v":""},null,{"$f":"IF(L8=\"\",\"\",INDEX([2]referentes!$AR:$AV,MATCH(L8,[2]referentes!$AS:$AS,0),1))","v":""},null,{"$f":"IF(L8=\"\",\"\",INDEX([2]referentes!$AR:$AV,MATCH(L8,[2]referentes!$AS:$AS,0),5))","v":""},null,null,null,{"$f":"IF(N8=\"\",\"\",INDEX('Otras referencias'!$A$6:$B$9,MATCH(DATOS!N8,'Otras referencias'!$B$6:$B$9,0),1))","v":""},{"$f":"IF(O8=\"\",\"\",INDEX(referentes!$G:$H,MATCH(O8,referentes!$H:$H,0),1))","v":""},null,null,null,null,null,null,null,null,null,null,null,null,{"$f":"IF(AF8<>\"\",INDEX(referentes!$AK$2:$AL$15,MATCH(DATOS!AF8,referentes!$AL$2:$AL$15,0),1),\"\")","v":""},null,null,null,null,null,null,null,null,null,null,null,{"$f":"IF(U8=\"\",\"\",INDEX(referentes!$J:$K,MATCH(U8,referentes!$K:$K,0),1))","v":""},{"$f":"IF(V8=\"\",\"\",INDEX(referentes!$M:$N,MATCH(V8,referentes!$N:$N,0),1))","v":""},{"$f":"IF(W8=\"\",\"\",INDEX(referentes!$P:$Q,MATCH(W8,referentes!$Q:$Q,0),1))","v":""},{"$f":"IF(Z8=\"\",\"\",INDEX(referentes!$S:$T,MATCH(Z8,referentes!$T:$T,0),1))","v":""},{"$f":"IF(AA8=\"\",\"\",INDEX(referentes!$V:$W,MATCH(AA8,referentes!$W:$W,0),1))","v":""},{"$f":"IF(AC8=\"\",\"\",INDEX(referentes!$Y:$Z,MATCH(AC8,referentes!$Z:$Z,0),1))","v":""},{"$f":"IF(AH8=\"\",\"\",INDEX(referentes!$AE:$AF,MATCH(AH8,referentes!$AF:$AF,0),1))","v":""},{"$f":"IF(AK8=\"\",\"\",INDEX(referentes!$AH:$AI,MATCH(AK8,referentes!$AI:$AI,0),1))","v":""}]
["",{"$f":"IF( L9<>\"\", CONCATENATE(YEAR(G9),TEXT(G9,\"mmdd\"),DIGITADOR!$B$2,DATOS!K9,DIGITADOR!$M$1),\"\")","v":""},{"$f":"IF( L9<>\"\", IF(K9<>K8,CONCATENATE(YEAR(G9),TEXT(G9,\"mmdd\"),DIGITADOR!$B$2,DATOS!K9,DIGITADOR!$M$1),\"\"),\"\")","v":""},"",null,null,null,null,{"$f":"IF(J9=\"\",\"\",INDEX(referentes!$BA$2:$BB$131,MATCH(DATOS!J9,referentes!$BB$2:$BB$131,0),1))","v":""},null,{"$f":"IF(L9=\"\",\"\",INDEX([2]referentes!$AR:$AV,MATCH(L9,[2]referentes!$AS:$AS,0),1))","v":""},null,{"$f":"IF(L9=\"\",\"\",INDEX([2]referentes!$AR:$AV,MATCH(L9,[2]referentes!$AS:$AS,0),5))","v":""},null,null,null,{"$f":"IF(N9=\"\",\"\",INDEX('Otras referencias'!$A$6:$B$9,MATCH(DATOS!N9,'Otras referencias'!$B$6:$B$9,0),1))","v":""},{"$f":"IF(O9=\"\",\"\",INDEX(referentes!$G:$H,MATCH(O9,referentes!$H:$H,0),1))","v":""},null,null,null,null,null,null,null,null,null,null,null,null,{"$f":"IF(AF9<>\"\",INDEX(referentes!$AK$2:$AL$15,MATCH(DATOS!AF9,referentes!$AL$2:$AL$15,0),1),\"\")","v":""},null,null,null,null,null,null,null,null,null,null,null,{"$f":"IF(U9=\"\",\"\",INDEX(referentes!$J:$K,MATCH(U9,referentes!$K:$K,0),1))","v":""},{"$f":"IF(V9=\"\",\"\",INDEX(referentes!$M:$N,MATCH(V9,referentes!$N:$N,0),1))","v":""},{"$f":"IF(W9=\"\",\"\",INDEX(referentes!$P:$Q,MATCH(W9,referentes!$Q:$Q,0),1))","v":""},{"$f":"IF(Z9=\"\",\"\",INDEX(referentes!$S:$T,MATCH(Z9,referentes!$T:$T,0),1))","v":""},{"$f":"IF(AA9=\"\",\"\",INDEX(referentes!$V:$W,MATCH(AA9,referentes!$W:$W,0),1))","v":""},{"$f":"IF(AC9=\"\",\"\",INDEX(referentes!$Y:$Z,MATCH(AC9,referentes!$Z:$Z,0),1))","v":""},{"$f":"IF(AH9=\"\",\"\",INDEX(referentes!$AE:$AF,MATCH(AH9,referentes!$AF:$AF,0),1))","v":""},{"$f":"IF(AK9=\"\",\"\",INDEX(referentes!$AH:$AI,MATCH(AK9,referentes!$AI:$AI,0),1))","v":""}]
["",{"$f":"IF( L10<>\"\", CONCATENATE(YEAR(G10),TEXT(G10,\"mmdd\"),DIGITADOR!$B$2,DATOS!K10,DIGITADOR!$M$1),\"\")","v":""},{"$f":"IF( L10<>\"\", IF(K10<>K9,CONCATENATE(YEAR(G10),TEXT(G10,\"mmdd\"),DIGITADOR!$B$2,DATOS!K10,DIGITADOR!$M$1),\"\"),\"\")","v":""},{"$f":"IF(K10<>\"\",CONCATENATE(B10,ROW()),\"\")","v":""},null,null,null,null,{"$f":"IF(J10=\"\",\"\",INDEX(referentes!$BA$2:$BB$131,MATCH(DATOS!J10,referentes!$BB$2:$BB$131,0),1))","v":""},null,{"$f":"IF(L10=\"\",\"\",INDEX([2]referentes!$AR:$AV,MATCH(L10,[2]referentes!$AS:$AS,0),1))","v":""},null,{"$f":"IF(L10=\"\",\"\",INDEX([2]referentes!$AR:$AV,MATCH(L10,[2]referentes!$AS:$AS,0),5))","v":""},null,null,null,{"$f":"IF(N10=\"\",\"\",INDEX('Otras referencias'!$A$6:$B$9,MATCH(DATOS!N10,'Otras referencias'!$B$6:$B$9,0),1))","v":""},{"$f":"IF(O10=\"\",\"\",INDEX(referentes!$G:$H,MATCH(O10,referentes!$H:$H,0),1))","v":""},null,null,null,null,null,null,null,null,null,null,null,null,{"$f":"IF(AF10<>\"\",INDEX(referentes!$AK$2:$AL$15,MATCH(DATOS!AF10,referentes!$AL$2:$AL$15,0),1),\"\")","v":""},null,null,null,null,null,null,null,null,null,null,null,{"$f":"IF(U10=\"\",\"\",INDEX(referentes!$J:$K,MATCH(U10,referentes!$K:$K,0),1))","v":""},{"$f":"IF(V10=\"\",\"\",INDEX(referentes!$M:$N,MATCH(V10,referentes!$N:$N,0),1))","v":""},{"$f":"IF(W10=\"\",\"\",INDEX(referentes!$P:$Q,MATCH(W10,referentes!$Q:$Q,0),1))","v":""},{"$f":"IF(Z10=\"\",\"\",INDEX(referentes!$S:$T,MATCH(Z10,referentes!$T:$T,0),1))","v":""},{"$f":"IF(AA10=\"\",\"\",INDEX(referentes!$V:$W,MATCH(AA10,referentes!$W:$W,0),1))","v":""},{"$f":"IF(AC10=\"\",\"\",INDEX(referentes!$Y:$Z,MATCH(AC10,referentes!$Z:$Z,0),1))","v":""},{"$f":"IF(AH10=\"\",\"\",INDEX(referentes!$AE:$AF,MATCH(AH10,referentes!$AF:$AF,0),1))","v":""},{"$f":"IF(AK10=\"\",\"\",INDEX(referentes!$AH:$AI,MATCH(AK10,referentes!$AI:$AI,0),1))","v":""}]
["",{"$f":"IF( L11<>\"\", CONCATENATE(YEAR(G11),TEXT(G11,\"mmdd\"),DIGITADOR!$B$2,DATOS!K11,DIGITADOR!$M$1),\"\")","v":""},{"$f":"IF( L11<>\"\", IF(K11<>K10,CONCATENATE(YEAR(G11),TEXT(G11,\"mmdd\"),DIGITADOR!$B$2,DATOS!K11,DIGITADOR!$M$1),\"\"),\"\")","v":""},"",null,null,null,null,{"$f":"IF(J11=\"\",\"\",INDEX(referentes!$BA$2:$BB$131,MATCH(DATOS!J11,referentes!$BB$2:$BB$131,0),1))","v":""},null,{"$f":"IF(L11=\"\",\"\",INDEX([2]referentes!$AR:$AV,MATCH(L11,[2]referentes!$AS:$AS,0),1))","v":""},null,{"$f":"IF(L11=\"\",\"\",INDEX([2]referentes!$AR:$AV,MATCH(L11,[2]referentes!$AS:$AS,0),5))","v":""},null,null,null,{"$f":"IF(N11=\"\",\"\",INDEX('Otras referencias'!$A$6:$B$9,MATCH(DATOS!N11,'Otras referencias'!$B$6:$B$9,0),1))","v":""},{"$f":"IF(O11=\"\",\"\",INDEX(referentes!$G:$H,MATCH(O11,referentes!$H:$H,0),1))","v":""},null,null,null,null,null,null,null,null,null,null,null,null,{"$f":"IF(AF11<>\"\",INDEX(referentes!$AK$2:$AL$15,MATCH(DATOS!AF11,referentes!$AL$2:$AL$15,0),1),\"\")","v":""},null,null,null,null,null,null,null,null,null,null,null,{"$f":"IF(U11=\"\",\"\",INDEX(referentes!$J:$K,MATCH(U11,referentes!$K:$K,0),1))","v":""},{"$f":"IF(V11=\"\",\"\",INDEX(referentes!$M:$N,MATCH(V11,referentes!$N:$N,0),1))","v":""},{"$f":"IF(W11=\"\",\"\",INDEX(referentes!$P:$Q,MATCH(W11,referentes!$Q:$Q,0),1))","v":""},{"$f":"IF(Z11=\"\",\"\",INDEX(referentes!$S:$T,MATCH(Z11,referentes!$T:$T,0),1))","v":""},{"$f":"IF(AA11=\"\",\"\",INDEX(referentes!$V:$W,MATCH(AA11,referentes!$W:$W,0),1))","v":""},{"$f":"IF(AC11=\"\",\"\",INDEX(referentes!$Y:$Z,MATCH(AC11,referentes!$Z:$Z,0),1))","v":""},{"$f":"IF(AH11=\"\",\"\",INDEX(referentes!$AE:$AF,MATCH(AH11,referentes!$AF:$AF,0),1))","v":""},{"$f":"IF(AK11=\"\",\"\",INDEX(referentes!$AH:$AI,MATCH(AK11,referentes!$AI:$AI,0),1))","v":""}]
["",{"$f":"IF( L12<>\"\", CONCATENATE(YEAR(G12),TEXT(G12,\"mmdd\"),DIGITADOR!$B$2,DATOS!K12,DIGITADOR!$M$1),\"\")","v":""},{"$f":"IF( L12<>\"\", IF(K12<>K11,CONCATENATE(YEAR(G12),TEXT(G12,\"mmdd\"),DIGITADOR!$B$2,DATOS!K12,DIGITADOR!$M$1),\"\"),\"\")","v":""},"",null,null,null,null,{"$f":"IF(J12=\"\",\"\",INDEX(referentes!$BA$2:$BB$131,MATCH(DATOS!J12,referentes!$BB$2:$BB$131,0),1))","v":""},null,{"$f":"IF(L12=\"\",\"\",INDEX([2]referentes!$AR:$AV,MATCH(L12,[2]referentes!$AS:$AS,0),1))","v":""},null,{"$f":"IF(L12=\"\",\"\",INDEX([2]referentes!$AR:$AV,MATCH(L12,[2]referentes!$AS:$AS,0),5))","v":""},null,null,null,{"$f":"IF(N12=\"\",\"\",INDEX('Otras referencias'!$A$6:$B$9,MATCH(DATOS!N12,'Otras referencias'!$B$6:$B$9,0),1))","v":""},{"$f":"IF(O12=\"\",\"\",INDEX(referentes!$G:$H,MATCH(O12,referentes!$H:$H,0),1))","v":""},null,null,null,null,null,null,null,null,null,null,null,null,{"$f":"IF(AF12<>\"\",INDEX(referentes!$AK$2:$AL$15,MATCH(DATOS!AF12,referentes!$AL$2:$AL$15,0),1),\"\")","v":""},null,null,null,null,null,null,null,null,null,null,null,{"$f":"IF(U12=\"\",\"\",INDEX(referentes!$J:$K,MATCH(U12,referentes!$K:$K,0),1))","v":""},{"$f":"IF(V12=\"\",\"\",INDEX(referentes!$M:$N,MATCH(V12,referentes!$N:$N,0),1))","v":""},{"$f":"IF(W12=\"\",\"\",INDEX(referentes!$P:$Q,MATCH(W12,referentes!$Q:$Q,0),1))","v":""},{"$f":"IF(Z12=\"\",\"\",INDEX(referentes!$S:$T,MATCH(Z12,referentes!$T:$T,0),1))","v":""},{"$f":"IF(AA12=\"\",\"\",INDEX(referentes!$V:$W,MATCH(AA12,referentes!$W:$W,0),1))","v":""},{"$f":"IF(AC12=\"\",\"\",INDEX(referentes!$Y:$Z,MATCH(AC12,referentes!$Z:$Z,0),1))","v":""},{"$f":"IF(AH12=\"\",\"\",INDEX(referentes!$AE:$AF,MATCH(AH12,referentes!$AF:$AF,0),1))","v":""},{"$f":"IF(AK12=\"\",\"\",INDEX(referentes!$AH:$AI,MATCH(AK12,referentes!$AI:$AI,0),1))","v":""}]
["",{"$f":"IF( L13<>\"\", CONCATENATE(YEAR(G13),TEXT(G13,\"mmdd\"),DIGITADOR!$B$2,DATOS!K13,DIGITADOR!$M$1),\"\")","v":""},{"$f":"IF( L13<>\"\", IF(K13<>K12,CONCATENATE(YEAR(G13),TEXT(G13,\"mmdd\"),DIGITADOR!$B$2,DATOS!K13,DIGITADOR!$M$1),\"\"),\"\")","v":""},"",null,null,null,null,{"$f":"IF(J13=\"\",\"\",INDEX(referentes!$BA$2:$BB$131,MATCH(DATOS!J13,referentes!$BB$2:$BB$131,0),1))","v":""},null,{"$f":"IF(L13=\"\",\"\",INDEX([2]referentes!$AR:$AV,MATCH(L13,[2]referentes!$AS:$AS,0),1))","v":""},null,{"$f":"IF(L13=\"\",\"\",INDEX([2]referentes!$AR:$AV,MATCH(L13,[2]referentes!$AS:$AS,0),5))","v":""},null,null,null,{"$f":"IF(N13=\"\",\"\",INDEX('Otras referencias'!$A$6:$B$9,MATCH(DATOS!N13,'Otras referencias'!$B$6:$B$9,0),1))","v":""},{"$f":"IF(O13=\"\",\"\",INDEX(referentes!$G:$H,MATCH(O13,referentes!$H:$H,0),1))","v":""},null,null,null,null,null,null,null,null,null,null,null,null,{"$f":"IF(AF13<>\"\",INDEX(referentes!$AK$2:$AL$15,MATCH(DATOS!AF13,referentes!$AL$2:$AL$15,0),1),\"\")","v":""},null,null,null,null,null,null,null,null,null,null,null,{"$f":"IF(U13=\"\",\"\",INDEX(referentes!$J:$K,MATCH(U13,referentes!$K:$K,0),1))","v":""},{"$f":"IF(V13=\"\",\"\",INDEX(referentes!$M:$N,MATCH(V13,referentes!$N:$N,0),1))","v":""},{"$f":"IF(W13=\"\",\"\",INDEX(referentes!$P:$Q,MATCH(W13,referentes!$Q:$Q,0),1))","v":""},{"$f":"IF(Z13=\"\",\"\",INDEX(referentes!$S:$T,MATCH(Z13,referentes!$T:$T,0),1))","v":""},{"$f":"IF(AA13=\"\",\"\",INDEX(referentes!$V:$W,MATCH(AA13,referentes!$W:$W,0),1))","v":""},{"$f":"IF(AC13=\"\",\"\",INDEX(referentes!$Y:$Z,MATCH(AC13,referentes!$Z:$Z,0),1))","v":""},{"$f":"IF(AH13=\"\",\"\",INDEX(referentes!$AE:$AF,MATCH(AH13,referentes!$AF:$AF,0),1))","v":""},{"$f":"IF(AK13=\"\",\"\",INDEX(referentes!$AH:$AI,MATCH(AK13,referentes!$AI:$AI,0),1))","v":""}]
["",{"$f":"IF( L14<>\"\", CONCATENATE(YEAR(G14),TEXT(G14,\"mmdd\"),DIGITADOR!$B$2,DATOS!K14,DIGITADOR!$M$1),\"\")","v":""},{"$f":"IF( L14<>\"\", IF(K14<>K13,CONCATENATE(YEAR(G14),TEXT(G14,\"mmdd\"),DIGITADOR!$B$2,DATOS!K14,DIGITADOR!$M$1),\"\"),\"\")","v":""},"",null,null,null,null,{"$f":"IF(J14=\"\",\"\",INDEX(referentes!$BA$2:$BB$131,MATCH(DATOS!J14,referentes!$BB$2:$BB$131,0),1))","v":""},null,{"$f":"IF(L14=\"\",\"\",INDEX([2]referentes!$AR:$AV,MATCH(L14,[2]referentes!$AS:$AS,0),1))","v":""},null,{"$f":"IF(L14=\"\",\"\",INDEX([2]referentes!$AR:$AV,MATCH(L14,[2]referentes!$AS:$AS,0),5))","v":""},null,null,null,{"$f":"IF(N14=\"\",\"\",INDEX('Otras referencias'!$A$6:$B$9,MATCH(DATOS!N14,'Otras referencias'!$B$6:$B$9,0),1))","v":""},{"$f":"IF(O14=\"\",\"\",INDEX(referentes!$G:$H,MATCH(O14,referentes!$H:$H,0),1))","v":""},null,null,null,null,null,null,null,null,null,null,null,null,{"$f":"IF(AF14<>\"\",INDEX(referentes!$AK$2:$AL$15,MATCH(DATOS!AF14,referentes!$AL$2:$AL$15,0),1),\"\")","v":""},null,null,null,null,null,null,null,null,null,null,null,{"$f":"IF(U14=\"\",\"\",INDEX(referentes!$J:$K,MATCH(U14,referentes!$K:$K,0),1))","v":""},{"$f":"IF(V14=\"\",\"\",INDEX(referentes!$M:$N,MATCH(V14,referentes!$N:$N,0),1))","v":""},{"$f":"IF(W14=\"\",\"\",INDEX(referentes!$P:$Q,MATCH(W14,referentes!$Q:$Q,0),1))","v":""},{"$f":"IF(Z14=\"\",\"\",INDEX(referentes!$S:$T,MATCH(Z14,referentes!$T:$T,0),1))","v":""},{"$f":"IF(AA14=\"\",\"\",INDEX(referentes!$V:$W,MATCH(AA14,referentes!$W:$W,0),1))","v":""},{"$f":"IF(AC14=\"\",\"\",INDEX(referentes!$Y:$Z,MATCH(AC14,referentes!$Z:$Z,0),1))","v":""},{"$f":"IF(AH14=\"\",\"\",INDEX(referentes!$AE:$AF,MATCH(AH14,referentes!$AF:$AF,0),1))","v":""},{"$f":"IF(AK14=\"\",\"\",INDEX(referentes!$AH:$AI,MATCH(AK14,referentes!$AI:$AI,0),1))","v":""}]
["",{"$f":"IF( L15<>\"\", CONCATENATE(YEAR(G15),TEXT(G15,\"mmdd\"),DIGITADOR!$B$2,DATOS!K15,DIGITADOR!$M$1),\"\")","v":""},{"$f":"IF( L15<>\"\", IF(K15<>K14,CONCATENATE(YEAR(G15),TEXT(G15,\"mmdd\"),DIGITADOR!$B$2,DATOS!K15,DIGITADOR!$M$1),\"\"),\"\")","v":""},"",null,null,null,null,{"$f":"IF(J15=\"\",\"\",INDEX(referentes!$BA$2:$BB$131,MATCH(DATOS!J15,referentes!$BB$2:$BB$131,0),1))","v":""},null,{"$f":"IF(L15=\"\",\"\",INDEX([2]referentes!$AR:$AV,MATCH(L15,[2]referentes!$AS:$AS,0),1))","v":""},null,{"$f":"IF(L15=\"\",\"\",INDEX([2]referentes!$AR:$AV,MATCH(L15,[2]referentes!$AS:$AS,0),5))","v":""},null,null,null,{"$f":"IF(N15=\"\",\"\",INDEX('Otras referencias'!$A$6:$B$9,MATCH(DATOS!N15,'Otras referencias'!$B$6:$B$9,0),1))","v":""},{"$f":"IF(O15=\"\",\"\",INDEX(referentes!$G:$H,MATCH(O15,referentes!$H:$H,0),1))","v":""},null,null,null,null,null,null,null,null,null,null,null,null,{"$f":"IF(AF15<>\"\",INDEX(referentes!$AK$2:$AL$15,MATCH(DATOS!AF15,referentes!$AL$2:$AL$15,0),1),\"\")","v":""},null,null,null,null,null,null,null,null,null,null,null,{"$f":"IF(U15=\"\",\"\",INDEX(referentes!$J:$K,MATCH(U15,referentes!$K:$K,0),1))","v":""},{"$f":"IF(V15=\"\",\"\",INDEX(referentes!$M:$N,MATCH(V15,referentes!$N:$N,0),1))","v":""},{"$f":"IF(W15=\"\",\"\",INDEX(referentes!$P:$Q,MATCH(W15,referentes!$Q:$Q,0),1))","v":""},{"$f":"IF(Z15=\"\",\"\",INDEX(referentes!$S:$T,MATCH(Z15,referentes!$T:$T,0),1))","v":""},{"$f":"IF(AA15=\"\",\"\",INDEX(referentes!$V:$W,MATCH(AA15,referentes!$W:$W,0),1))","v":""},{"$f":"IF(AC15=\"\",\"\",INDEX(referentes!$Y:$Z,MATCH(AC15,referentes!$Z:$Z,0),1))","v":""},{"$f":"IF(AH15=\"\",\"\",INDEX(referentes!$AE:$AF,MATCH(AH15,referentes!$AF:$AF,0),1))","v":""},{"$f":"IF(AK15=\"\",\"\",INDEX(referentes!$AH:$AI,MATCH(AK15,referentes!$AI:$AI,0),1))","v":""}]
["",{"$f":"IF( L16<>\"\", CONCATENATE(YEAR(G16),TEXT(G16,\"mmdd\"),DIGITADOR!$B$2,DATOS!K16,DIGITADOR!$M$1),\"\")","v":""},{"$f":"IF( L16<>\"\", IF(K16<>K15,CONCATENATE(YEAR(G16),TEXT(G16,\"mmdd\"),DIGITADOR!$B$2,DATOS!K16,DIGITADOR!$M$1),\"\"),\"\")","v":""},"",null,null,null,null,{"$f":"IF(J16=\"\",\"\",INDEX(referentes!$BA$2:$BB$131,MATCH(DATOS!J16,referentes!$BB$2:$BB$131,0),1))","v":""},null,{"$f":"IF(L16=\"\",\"\",INDEX([2]referentes!$AR:$AV,MATCH(L16,[2]referentes!$AS:$AS,0),1))","v":""},null,{"$f":"IF(L16=\"\",\"\",INDEX([2]referentes!$AR:$AV,MATCH(L16,[2]referentes!$AS:$AS,0),5))","v":""},null,null,null,{"$f":"IF(N16=\"\",\"\",INDEX('Otras referencias'!$A$6:$B$9,MATCH(DATOS!N16,'Otras referencias'!$B$6:$B$9,0),1))","v":""},{"$f":"IF(O16=\"\",\"\",INDEX(referentes!$G:$H,MATCH(O16,referentes!$H:$H,0),1))","v":""},null,null,null,null,null,null,null,null,null,null,null,null,{"$f":"IF(AF16<>\"\",INDEX(referentes!$AK$2:$AL$15,MATCH(DATOS!AF16,referentes!$AL$2:$AL$15,0),1),\"\")","v":""},null,null,null,null,null,null,null,null,null,null,null,{"$f":"IF(U16=\"\",\"\",INDEX(referentes!$J:$K,MATCH(U16,referentes!$K:$K,0),1))","v":""},{"$f":"IF(V16=\"\",\"\",INDEX(referentes!$M:$N,MATCH(V16,referentes!$N:$N,0),1))","v":""},{"$f":"IF(W16=\"\",\"\",INDEX(referentes!$P:$Q,MATCH(W16,referentes!$Q:$Q,0),1))","v":""},{"$f":"IF(Z16=\"\",\"\",INDEX(referentes!$S:$T,MATCH(Z16,referentes!$T:$T,0),1))","v":""},{"$f":"IF(AA16=\"\",\"\",INDEX(referentes!$V:$W,MATCH(AA16,referentes!$W:$W,0),1))","v":""},{"$f":"IF(AC16=\"\",\"\",INDEX(referentes!$Y:$Z,MATCH(AC16,referentes!$Z:$Z,0),1))","v":""},{"$f":"IF(AH16=\"\",\"\",INDEX(referentes!$AE:$AF,MATCH(AH16,referentes!$AF:$AF,0),1))","v":""},{"$f":"IF(AK16=\"\",\"\",INDEX(referentes!$AH:$AI,MATCH(AK16,referentes!$AI:$AI,0),1))","v":""}]
["",{"$f":"IF( L17<>\"\", CONCATENATE(YEAR(G17),TEXT(G17,\"mmdd\"),DIGITADOR!$B$2,DATOS!K17,DIGITADOR!$M$1),\"\")","v":""},{"$f":"IF( L17<>\"\", IF(K17<>K16,CONCATENATE(YEAR(G17),TEXT(G17,\"mmdd\"),DIGITADOR!$B$2,DATOS!K17,DIGITADOR!$M$1),\"\"),\"\")","v":""},"",null,null,null,null,{"$f":"IF(J17=\"\",\"\",INDEX(referentes!$BA$2:$BB$131,MATCH(DATOS!J17,referentes!$BB$2:$BB$131,0),1))","v":""},null,{"$f":"IF(L17=\"\",\"\",INDEX([2]referentes!$AR:$AV,MATCH(L17,[2]referentes!$AS:$AS,0),1))","v":""},null,{"$f":"IF(L17=\"\",\"\",INDEX([2]referentes!$AR:$AV,MATCH(L17,[2]referentes!$AS:$AS,0),5))","v":""},null,null,null,{"$f":"IF(N17=\"\",\"\",INDEX('Otras referencias'!$A$6:$B$9,MATCH(DATOS!N17,'Otras referencias'!$B$6:$B$9,0),1))","v":""},{"$f":"IF(O17=\"\",\"\",INDEX(referentes!$G:$H,MATCH(O17,referentes!$H:$H,0),1))","v":""},null,null,null,null,null,null,null,null,null,null,null,null,{"$f":"IF(AF17<>\"\",INDEX(referentes!$AK$2:$AL$15,MATCH(DATOS!AF17,referentes!$AL$2:$AL$15,0),1),\"\")","v":""},null,null,null,null,null,null,null,null,null,null,null,{"$f":"IF(U17=\"\",\"\",INDEX(referentes!$J:$K,MATCH(U17,referentes!$K:$K,0),1))","v":""},{"$f":"IF(V17=\"\",\"\",INDEX(referentes!$M:$N,MATCH(V17,referentes!$N:$N,0),1))","v":""},{"$f":"IF(W17=\"\",\"\",INDEX(referentes!$P:$Q,MATCH(W17,referentes!$Q:$Q,0),1))","v":""},{"$f":"IF(Z17=\"\",\"\",INDEX(referentes!$S:$T,MATCH(Z17,referentes!$T:$T,0),1))","v":""},{"$f":"IF(AA17=\"\",\"\",INDEX(referentes!$V:$W,MATCH(AA17,referentes!$W:$W,0),1))","v":""},{"$f":"IF(AC17=\"\",\"\",INDEX(referentes!$Y:$Z,MATCH(AC17,referentes!$Z:$Z,0),1))","v":""},{"$f":"IF(AH17=\"\",\"\",INDEX(referentes!$AE:$AF,MATCH(AH17,referentes!$AF:$AF,0),1))","v":""},{"$f":"IF(AK17=\"\",\"\",INDEX(referentes!$AH:$AI,MATCH(AK17,referentes!$AI:$AI,0),1))","v":""}]
["",{"$f":"IF( L18<>\"\", CONCATENATE(YEAR(G18),TEXT(G18,\"mmdd\"),DIGITADOR!$B$2,DATOS!K18,DIGITADOR!$M$1),\"\")","v":""},{"$f":"IF( L18<>\"\", IF(K18<>K17,CONCATENATE(YEAR(G18),TEXT(G18,\"mmdd\"),DIGITADOR!$B$2,DATOS!K18,DIGITADOR!$M$1),\"\"),\"\")","v":""},"",null,null,null,null,{"$f":"IF(J18=\"\",\"\",INDEX(referentes!$BA$2:$BB$131,MATCH(DATOS!J18,referentes!$BB$2:$BB$131,0),1))","v":""},null,{"$f":"IF(L18=\"\",\"\",INDEX([2]referentes!$AR:$AV,MATCH(L18,[2]referentes!$AS:$AS,0),1))","v":""},null,{"$f":"IF(L18=\"\",\"\",INDEX([2]referentes!$AR:$AV,MATCH(L18,[2]referentes!$AS:$AS,0),5))","v":""},null,null,null,{"$f":"IF(N18=\"\",\"\",INDEX('Otras referencias'!$A$6:$B$9,MATCH(DATOS!N18,'Otras referencias'!$B$6:$B$9,0),1))","v":""},{"$f":"IF(O18=\"\",\"\",INDEX(referentes!$G:$H,MATCH(O18,referentes!$H:$H,0),1))","v":""},null,null,null,null,null,null,null,null,null,null,null,null,{"$f":"IF(AF18<>\"\",INDEX(referentes!$AK$2:$AL$15,MATCH(DATOS!AF18,referentes!$AL$2:$AL$15,0),1),\"\")","v":""},null,null,null,null,null,null,null,null,null,null,null,{"$f":"IF(U18=\"\",\"\",INDEX(referentes!$J:$K,MATCH(U18,referentes!$K:$K,0),1))","v":""},{"$f":"IF(V18=\"\",\"\",INDEX(referentes!$M:$N,MATCH(V18,referentes!$N:$N,0),1))","v":""},{"$f":"IF(W18=\"\",\"\",INDEX(referentes!$P:$Q,MATCH(W18,referentes!$Q:$Q,0),1))","v":""},{"$f":"IF(Z18=\"\",\"\",INDEX(referentes!$S:$T,MATCH(Z18,referentes!$T:$T,0),1))","v":""},{"$f":"IF(AA18=\"\",\"\",INDEX(referentes!$V:$W,MATCH(AA18,referentes!$W:$W,0),1))","v":""},{"$f":"IF(AC18=\"\",\"\",INDEX(referentes!$Y:$Z,MATCH(AC18,referentes!$Z:$Z,0),1))","v":""},{"$f":"IF(AH18=\"\",\"\",INDEX(referentes!$AE:$AF,MATCH(AH18,referentes!$AF:$AF,0),1))","v":""},{"$f":"IF(AK18=\"\",\"\",INDEX(referentes!$AH:$AI,MATCH(AK18,referentes!$AI:$AI,0),1))","v":""}]
["",{"$f":"IF( L19<>\"\", CONCATENATE(YEAR(G19),TEXT(G19,\"mmdd\"),DIGITADOR!$B$2,DATOS!K19,DIGITADOR!$M$1),\"\")","v":""},{"$f":"IF( L19<>\"\", IF(K19<>K18,CONCATENATE(YEAR(G19),TEXT(G19,\"mmdd\"),DIGITADOR!$B$2,DATOS!K19,DIGITADOR!$M$1),\"\"),\"\")","v":""},"",null,null,null,null,{"$f":"IF(J19=\"\",\"\",INDEX(referentes!$BA$2:$BB$131,MATCH(DATOS!J19,referentes!$BB$2:$BB$131,0),1))","v":""},null,{"$f":"IF(L19=\"\",\"\",INDEX([2]referentes!$AR:$AV,MATCH(L19,[2]referentes!$AS:$AS,0),1))","v":""},null,{"$f":"IF(L19=\"\",\"\",INDEX([2]referentes!$AR:$AV,MATCH(L19,[2]referentes!$AS:$AS,0),5))","v":""},null,null,null,{"$f":"IF(N19=\"\",\"\",INDEX('Otras referencias'!$A$6:$B$9,MATCH(DATOS!N19,'Otras referencias'!$B$6:$B$9,0),1))","v":""},{"$f":"IF(O19=\"\",\"\",INDEX(referentes!$G:$H,MATCH(O19,referentes!$H:$H,0),1))","v":""},null,null,null,null,null,null,null,null,null,null,null,null,{"$f":"IF(AF19<>\"\",INDEX(referentes!$AK$2:$AL$15,MATCH(DATOS!AF19,referentes!$AL$2:$AL$15,0),1),\"\")","v":""},null,null,null,null,null,null,null,null,null,null,null,{"$f":"IF(U19=\"\",\"\",INDEX(referentes!$J:$K,MATCH(U19,referentes!$K:$K,0),1))","v":""},{"$f":"IF(V19=\"\",\"\",INDEX(referentes!$M:$N,MATCH(V19,referentes!$N:$N,0),1))","v":""},{"$f":"IF(W19=\"\",\"\",INDEX(referentes!$P:$Q,MATCH(W19,referentes!$Q:$Q,0),1))","v":""},{"$f":"IF(Z19=\"\",\"\",INDEX(referentes!$S:$T,MATCH(Z19,referentes!$T:$T,0),1))","v":""},{"$f":"IF(AA19=\"\",\"\",INDEX(referentes!$V:$W,MATCH(AA19,referentes!$W:$W,0),1))","v":""},{"$f":"IF(AC19=\"\",\"\",INDEX(referentes!$Y:$Z,MATCH(AC19,referentes!$Z:$Z,0),1))","v":""},{"$f":"IF(AH19=\"\",\"\",INDEX(referentes!$AE:$AF,MATCH(AH19,referentes!$AF:$AF,0),1))","v":""},{"$f":"IF(AK19=\"\",\"\",INDEX(referentes!$AH:$AI,MATCH(AK19,referentes!$AI:$AI,0),1))","v":""}]
["",{"$f":"IF( L20<>\"\", CONCATENATE(YEAR(G20),TEXT(G20,\"mmdd\"),DIGITADOR!$B$2,DATOS!K20,DIGITADOR!$M$1),\"\")","v":""},{"$f":"IF( L20<>\"\", IF(K20<>K19,CONCATENATE(YEAR(G20),TEXT(G20,\"mmdd\"),DIGITADOR!$B$2,DATOS!K20,DIGITADOR!$M$1),\"\"),\"\")","v":""},"",null,null,null,null,{"$f":"IF(J20=\"\",\"\",INDEX(referentes!$BA$2:$BB$131,MATCH(DATOS!J20,referentes!$BB$2:$BB$131,0),1))","v":""},null,{"$f":"IF(L20=\"\",\"\",INDEX([2]referentes!$AR:$AV,MATCH(L20,[2]referentes!$AS:$AS,0),1))","v":""},null,{"$f":"IF(L20=\"\",\"\",INDEX([2]referentes!$AR:$AV,MATCH(L20,[2]referentes!$AS:$AS,0),5))","v":""},null,null,null,{"$f":"IF(N20=\"\",\"\",INDEX('Otras referencias'!$A$6:$B$9,MATCH(DATOS!N20,'Otras referencias'!$B$6:$B$9,0),1))","v":""},{"$f":"IF(O20=\"\",\"\",INDEX(referentes!$G:$H,MATCH(O20,referentes!$H:$H,0),1))","v":""},null,null,null,null,null,null,null,null,null,null,null,null,{"$f":"IF(AF20<>\"\",INDEX(referentes!$AK$2:$AL$15,MATCH(DATOS!AF20,referentes!$AL$2:$AL$15,0),1),\"\")","v":""},null,null,null,null,null,null,null,null,null,null,null,{"$f":"IF(U20=\"\",\"\",INDEX(referentes!$J:$K,MATCH(U20,referentes!$K:$K,0),1))","v":""},{"$f":"IF(V20=\"\",\"\",INDEX(referentes!$M:$N,MATCH(V20,referentes!$N:$N,0),1))","v":""},{"$f":"IF(W20=\"\",\"\",INDEX(referentes!$P:$Q,MATCH(W20,referentes!$Q:$Q,0),1))","v":""},{"$f":"IF(Z20=\"\",\"\",INDEX(referentes!$S:$T,MATCH(Z20,referentes!$T:$T,0),1))","v":""},{"$f":"IF(AA20=\"\",\"\",INDEX(referentes!$V:$W,MATCH(AA20,referentes!$W:$W,0),1))","v":""},{"$f":"IF(AC20=\"\",\"\",INDEX(referentes!$Y:$Z,MATCH(AC20,referentes!$Z:$Z,0),1))","v":""},{"$f":"IF(AH20=\"\",\"\",INDEX(referentes!$AE:$AF,MATCH(AH20,referentes!$AF:$AF,0),1))","v":""},{"$f":"IF(AK20=\"\",\"\",INDEX(referentes!$AH:$AI,MATCH(AK20,referentes!$AI:$AI,0),1))","v":""}]
["",{"$f":"IF( L21<>\"\", CONCATENATE(YEAR(G21),TEXT(G21,\"mmdd\"),DIGITADOR!$B$2,DATOS!K21,DIGITADOR!$M$1),\"\")","v":""},{"$f":"IF( L21<>\"\", IF(K21<>K20,CONCATENATE(YEAR(G21),TEXT(G21,\"mmdd\"),DIGITADOR!$B$2,DATOS!K21,DIGITADOR!$M$1),\"\"),\"\")","v":""},"",null,null,null,null,{"$f":"IF(J21=\"\",\"\",INDEX(referentes!$BA$2:$BB$131,MATCH(DATOS!J21,referentes!$BB$2:$BB$131,0),1))","v":""},null,{"$f":"IF(L21=\"\",\"\",INDEX([2]referentes!$AR:$AV,MATCH(L21,[2]referentes!$AS:$AS,0),1))","v":""},null,{"$f":"IF(L21=\"\",\"\",INDEX([2]referentes!$AR:$AV,MATCH(L21,[2]referentes!$AS:$AS,0),5))","v":""},null,null,null,{"$f":"IF(N21=\"\",\"\",INDEX('Otras referencias'!$A$6:$B$9,MATCH(DATOS!N21,'Otras referencias'!$B$6:$B$9,0),1))","v":""},{"$f":"IF(O21=\"\",\"\",INDEX(referentes!$G:$H,MATCH(O21,referentes!$H:$H,0),1))","v":""},null,null,null,null,null,null,null,null,null,null,null,null,{"$f":"IF(AF21<>\"\",INDEX(referentes!$AK$2:$AL$15,MATCH(DATOS!AF21,referentes!$AL$2:$AL$15,0),1),\"\")","v":""},null,null,null,null,null,null,null,null,null,null,null,{"$f":"IF(U21=\"\",\"\",INDEX(referentes!$J:$K,MATCH(U21,referentes!$K:$K,0),1))","v":""},{"$f":"IF(V21=\"\",\"\",INDEX(referentes!$M:$N,MATCH(V21,referentes!$N:$N,0),1))","v":""},{"$f":"IF(W21=\"\",\"\",INDEX(referentes!$P:$Q,MATCH(W21,referentes!$Q:$Q,0),1))","v":""},{"$f":"IF(Z21=\"\",\"\",INDEX(referentes!$S:$T,MATCH(Z21,referentes!$T:$T,0),1))","v":""},{"$f":"IF(AA21=\"\",\"\",INDEX(referentes!$V:$W,MATCH(AA21,referentes!$W:$W,0),1))","v":""},{"$f":"IF(AC21=\"\",\"\",INDEX(referentes!$Y:$Z,MATCH(AC21,referentes!$Z:$Z,0),1))","v":""},{"$f":"IF(AH21=\"\",\"\",INDEX(referentes!$AE:$AF,MATCH(AH21,referentes!$AF:$AF,0),1))","v":""},{"$f":"IF(AK21=\"\",\"\",INDEX(referentes!$AH:$AI,MATCH(AK21,referentes!$AI:$AI,0),1))","v":""}]
["",{"$f":"IF( L22<>\"\", CONCATENATE(YEAR(G22),TEXT(G22,\"mmdd\"),DIGITADOR!$B$2,DATOS!K22,DIGITADOR!$M$1),\"\")","v":""},{"$f":"IF( L22<>\"\", IF(K22<>K21,CONCATENATE(YEAR(G22),TEXT(G22,\"mmdd\"),DIGITADOR!$B$2,DATOS!K22,DIGITADOR!$M$1),\"\"),\"\")","v":""},"",null,null,null,null,{"$f":"IF(J22=\"\",\"\",INDEX(referentes!$BA$2:$BB$131,MATCH(DATOS!J22,referentes!$BB$2:$BB$131,0),1))","v":""},null,{"$f":"IF(L22=\"\",\"\",INDEX([2]referentes!$AR:$AV,MATCH(L22,[2]referentes!$AS:$AS,0),1))","v":""},null,{"$f":"IF(L22=\"\",\"\",INDEX([2]referentes!$AR:$AV,MATCH(L22,[2]referentes!$AS:$AS,0),5))","v":""},null,null,null,{"$f":"IF(N22=\"\",\"\",INDEX('Otras referencias'!$A$6:$B$9,MATCH(DATOS!N22,'Otras referencias'!$B$6:$B$9,0),1))","v":""},{"$f":"IF(O22=\"\",\"\",INDEX(referentes!$G:$H,MATCH(O22,referentes!$H:$H,0),1))","v":""},null,null,null,null,null,null,null,null,null,null,null,null,{"$f":"IF(AF22<>\"\",INDEX(referentes!$AK$2:$AL$15,MATCH(DATOS!AF22,referentes!$AL$2:$AL$15,0),1),\"\")","v":""},null,null,null,null,null,null,null,null,null,null,null,{"$f":"IF(U22=\"\",\"\",INDEX(referentes!$J:$K,MATCH(U22,referentes!$K:$K,0),1))","v":""},{"$f":"IF(V22=\"\",\"\",INDEX(referentes!$M:$N,MATCH(V22,referentes!$N:$N,0),1))","v":""},{"$f":"IF(W22=\"\",\"\",INDEX(referentes!$P:$Q,MATCH(W22,referentes!$Q:$Q,0),1))","v":""},{"$f":"IF(Z22=\"\",\"\",INDEX(referentes!$S:$T,MATCH(Z22,referentes!$T:$T,0),1))","v":""},{"$f":"IF(AA22=\"\",\"\",INDEX(referentes!$V:$W,MATCH(AA22,referentes!$W:$W,0),1))","v":""},{"$f":"IF(AC22=\"\",\"\",INDEX(referentes!$Y:$Z,MATCH(AC22,referentes!$Z:$Z,0),1))","v":""},{"$f":"IF(AH22=\"\",\"\",INDEX(referentes!$AE:$AF,MATCH(AH22,referentes!$AF:$AF,0),1))","v":""},{"$f":"IF(AK22=\"\",\"\",INDEX(referentes!$AH:$AI,MATCH(AK22,referentes!$AI:$AI,0),1))","v":""}]
["",{"$f":"IF( L23<>\"\", CONCATENATE(YEAR(G23),TEXT(G23,\"mmdd\"),DIGITADOR!$B$2,DATOS!K23,DIGITADOR!$M$1),\"\")","v":""},{"$f":"IF( L23<>\"\", IF(K23<>K22,CONCATENATE(YEAR(G23),TEXT(G23,\"mmdd\"),DIGITADOR!$B$2,DATOS!K23,DIGITADOR!$M$1),\"\"),\"\")","v":""},"",null,null,null,null,{"$f":"IF(J23=\"\",\"\",INDEX(referentes!$BA$2:$BB$131,MATCH(DATOS!J23,referentes!$BB$2:$BB$131,0),1))","v":""},null,{"$f":"IF(L23=\"\",\"\",INDEX([2]referentes!$AR:$AV,MATCH(L23,[2]referentes!$AS:$AS,0),1))","v":""},null,{"$f":"IF(L23=\"\",\"\",INDEX([2]referentes!$AR:$AV,MATCH(L23,[2]referentes!$AS:$AS,0),5))","v":""},null,null,null,{"$f":"IF(N23=\"\",\"\",INDEX('Otras referencias'!$A$6:$B$9,MATCH(DATOS!N23,'Otras referencias'!$B$6:$B$9,0),1))","v":""},{"$f":"IF(O23=\"\",\"\",INDEX(referentes!$G:$H,MATCH(O23,referentes!$H:$H,0),1))","v":""},null,null,null,null,null,null,null,null,null,null,null,null,{"$f":"IF(AF23<>\"\",INDEX(referentes!$AK$2:$AL$15,MATCH(DATOS!AF23,referentes!$AL$2:$AL$15,0),1),\"\")","v":""},null,null,null,null,null,null,null,null,null,null,null,{"$f":"IF(U23=\"\",\"\",INDEX(referentes!$J:$K,MATCH(U23,referentes!$K:$K,0),1))","v":""},{"$f":"IF(V23=\"\",\"\",INDEX(referentes!$M:$N,MATCH(V23,referentes!$N:$N,0),1))","v":""},{"$f":"IF(W23=\"\",\"\",INDEX(referentes!$P:$Q,MATCH(W23,referentes!$Q:$Q,0),1))","v":""},{"$f":"IF(Z23=\"\",\"\",INDEX(referentes!$S:$T,MATCH(Z23,referentes!$T:$T,0),1))","v":""},{"$f":"IF(AA23=\"\",\"\",INDEX(referentes!$V:$W,MATCH(AA23,referentes!$W:$W,0),1))","v":""},{"$f":"IF(AC23=\"\",\"\",INDEX(referentes!$Y:$Z,MATCH(AC23,referentes!$Z:$Z,0),1))","v":""},{"$f":"IF(AH23=\"\",\"\",INDEX(referentes!$AE:$AF,MATCH(AH23,referentes!$AF:$AF,0),1))","v":""},{"$f":"IF(AK23=\"\",\"\",INDEX(referentes!$AH:$AI,MATCH(AK23,referentes!$AI:$AI,0),1))","v":""}]
["",{"$f":"IF( L24<>\"\", CONCATENATE(YEAR(G24),TEXT(G24,\"mmdd\"),DIGITADOR!$B$2,DATOS!K24,DIGITADOR!$M$1),\"\")","v":""},{"$f":"IF( L24<>\"\", IF(K24<>K23,CONCATENATE(YEAR(G24),TEXT(G24,\"mmdd\"),DIGITADOR!$B$2,DATOS!K24,DIGITADOR!$M$1),\"\"),\"\")","v":""},"",null,null,null,null,{"$f":"IF(J24=\"\",\"\",INDEX(referentes!$BA$2:$BB$131,MATCH(DATOS!J24,referentes!$BB$2:$BB$131,0),1))","v":""},null,{"$f":"IF(L24=\"\",\"\",INDEX([2]referentes!$AR:$AV,MATCH(L24,[2]referentes!$AS:$AS,0),1))","v":""},null,{"$f":"IF(L24=\"\",\"\",INDEX([2]referentes!$AR:$AV,MATCH(L24,[2]referentes!$AS:$AS,0),5))","v":""},null,null,null,{"$f":"IF(N24=\"\",\"\",INDEX('Otras referencias'!$A$6:$B$9,MATCH(DATOS!N24,'Otras referencias'!$B$6:$B$9,0),1))","v":""},{"$f":"IF(O24=\"\",\"\",INDEX(referentes!$G:$H,MATCH(O24,referentes!$H:$H,0),1))","v":""},null,null,null,null,null,null,null,null,null,null,null,null,{"$f":"IF(AF24<>\"\",INDEX(referentes!$AK$2:$AL$15,MATCH(DATOS!AF24,referentes!$AL$2:$AL$15,0),1),\"\")","v":""},null,null,null,null,null,null,null,null,null,null,null,{"$f":"IF(U24=\"\",\"\",INDEX(referentes!$J:$K,MATCH(U24,referentes!$K:$K,0),1))","v":""},{"$f":"IF(V24=\"\",\"\",INDEX(referentes!$M:$N,MATCH(V24,referentes!$N:$N,0),1))","v":""},{"$f":"IF(W24=\"\",\"\",INDEX(referentes!$P:$Q,MATCH(W24,referentes!$Q:$Q,0),1))","v":""},{"$f":"IF(Z24=\"\",\"\",INDEX(referentes!$S:$T,MATCH(Z24,referentes!$T:$T,0),1))","v":""},{"$f":"IF(AA24=\"\",\"\",INDEX(referentes!$V:$W,MATCH(AA24,referentes!$W:$W,0),1))","v":""},{"$f":"IF(AC24=\"\",\"\",INDEX(referentes!$Y:$Z,MATCH(AC24,referentes!$Z:$Z,0),1))","v":""},{"$f":"IF(AH24=\"\",\"\",INDEX(referentes!$AE:$AF,MATCH(AH24,referentes!$AF:$AF,0),1))","v":""},{"$f":"IF(AK24=\"\",\"\",INDEX(referentes!$AH:$AI,MATCH(AK24,referentes!$AI:$AI,0),1))","v":""}]
["",{"$f":"IF( L25<>\"\", CONCATENATE(YEAR(G25),TEXT(G25,\"mmdd\"),DIGITADOR!$B$2,DATOS!K25,DIGITADOR!$M$1),\"\")","v":""},{"$f":"IF( L25<>\"\", IF(K25<>K24,CONCATENATE(YEAR(G25),TEXT(G25,\"mmdd\"),DIGITADOR!$B$2,DATOS!K25,DIGITADOR!$M$1),\"\"),\"\")","v":""},"",null,null,null,null,{"$f":"IF(J25=\"\",\"\",INDEX(referentes!$BA$2:$BB$131,MATCH(DATOS!J25,referentes!$BB$2:$BB$131,0),1))","v":""},null,{"$f":"IF(L25=\"\",\"\",INDEX([2]referentes!$AR:$AV,MATCH(L25,[2]referentes!$AS:$AS,0),1))","v":""},null,{"$f":"IF(L25=\"\",\"\",INDEX([2]referentes!$AR:$AV,MATCH(L25,[2]referentes!$AS:$AS,0),5))","v":""},null,null,null,{"$f":"IF(N25=\"\",\"\",INDEX('Otras referencias'!$A$6:$B$9,MATCH(DATOS!N25,'Otras referencias'!$B$6:$B$9,0),1))","v":""},{"$f":"IF(O25=\"\",\"\",INDEX(referentes!$G:$H,MATCH(O25,referentes!$H:$H,0),1))","v":""},null,null,null,null,null,null,null,null,null,null,null,null,{"$f":"IF(AF25<>\"\",INDEX(referentes!$AK$2:$AL$15,MATCH(DATOS!AF25,referentes!$AL$2:$AL$15,0),1),\"\")","v":""},null,null,null,null,null,null,null,null,null,null,null,{"$f":"IF(U25=\"\",\"\",INDEX(referentes!$J:$K,MATCH(U25,referentes!$K:$K,0),1))","v":""},{"$f":"IF(V25=\"\",\"\",INDEX(referentes!$M:$N,MATCH(V25,referentes!$N:$N,0),1))","v":""},{"$f":"IF(W25=\"\",\"\",INDEX(referentes!$P:$Q,MATCH(W25,referentes!$Q:$Q,0),1))","v":""},{"$f":"IF(Z25=\"\",\"\",INDEX(referentes!$S:$T,MATCH(Z25,referentes!$T:$T,0),1))","v":""},{"$f":"IF(AA25=\"\",\"\",INDEX(referentes!$V:$W,MATCH(AA25,referentes!$W:$W,0),1))","v":""},{"$f":"IF(AC25=\"\",\"\",INDEX(referentes!$Y:$Z,MATCH(AC25,referentes!$Z:$Z,0),1))","v":""},{"$f":"IF(AH25=\"\",\"\",INDEX(referentes!$AE:$AF,MATCH(AH25,referentes!$AF:$AF,0),1))","v":""},{"$f":"IF(AK25=\"\",\"\",INDEX(referentes!$AH:$AI,MATCH(AK25,referentes!$AI:$AI,0),1))","v":""}]
["",{"$f":"IF( L26<>\"\", CONCATENATE(YEAR(G26),TEXT(G26,\"mmdd\"),DIGITADOR!$B$2,DATOS!K26,DIGITADOR!$M$1),\"\")","v":""},{"$f":"IF( L26<>\"\", IF(K26<>K25,CONCATENATE(YEAR(G26),TEXT(G26,\"mmdd\"),DIGITADOR!$B$2,DATOS!K26,DIGITADOR!$M$1),\"\"),\"\")","v":""},"",null,null,null,null,{"$f":"IF(J26=\"\",\"\",INDEX(referentes!$BA$2:$BB$131,MATCH(DATOS!J26,referentes!$BB$2:$BB$131,0),1))","v":""},null,{"$f":"IF(L26=\"\",\"\",INDEX([2]referentes!$AR:$AV,MATCH(L26,[2]referentes!$AS:$AS,0),1))","v":""},null,{"$f":"IF(L26=\"\",\"\",INDEX([2]referentes!$AR:$AV,MATCH(L26,[2]referentes!$AS:$AS,0),5))","v":""},null,null,null,{"$f":"IF(N26=\"\",\"\",INDEX('Otras referencias'!$A$6:$B$9,MATCH(DATOS!N26,'Otras referencias'!$B$6:$B$9,0),1))","v":""},{"$f":"IF(O26=\"\",\"\",INDEX(referentes!$G:$H,MATCH(O26,referentes!$H:$H,0),1))","v":""},null,null,null,null,null,null,null,null,null,null,null,null,{"$f":"IF(AF26<>\"\",INDEX(referentes!$AK$2:$AL$15,MATCH(DATOS!AF26,referentes!$AL$2:$AL$15,0),1),\"\")","v":""},null,null,null,null,null,null,null,null,null,null,null,{"$f":"IF(U26=\"\",\"\",INDEX(referentes!$J:$K,MATCH(U26,referentes!$K:$K,0),1))","v":""},{"$f":"IF(V26=\"\",\"\",INDEX(referentes!$M:$N,MATCH(V26,referentes!$N:$N,0),1))","v":""},{"$f":"IF(W26=\"\",\"\",INDEX(referentes!$P:$Q,MATCH(W26,referentes!$Q:$Q,0),1))","v":""},{"$f":"IF(Z26=\"\",\"\",INDEX(referentes!$S:$T,MATCH(Z26,referentes!$T:$T,0),1))","v":""},{"$f":"IF(AA26=\"\",\"\",INDEX(referentes!$V:$W,MATCH(AA26,referentes!$W:$W,0),1))","v":""},{"$f":"IF(AC26=\"\",\"\",INDEX(referentes!$Y:$Z,MATCH(AC26,referentes!$Z:$Z,0),1))","v":""},{"$f":"IF(AH26=\"\",\"\",INDEX(referentes!$AE:$AF,MATCH(AH26,referentes!$AF:$AF,0),1))","v":""},{"$f":"IF(AK26=\"\",\"\",INDEX(referentes!$AH:$AI,MATCH(AK26,referentes!$AI:$AI,0),1))","v":""}]
["",{"$f":"IF( L27<>\"\", CONCATENATE(YEAR(G27),TEXT(G27,\"mmdd\"),DIGITADOR!$B$2,DATOS!K27,DIGITADOR!$M$1),\"\")","v":""},{"$f":"IF( L27<>\"\", IF(K27<>K26,CONCATENATE(YEAR(G27),TEXT(G27,\"mmdd\"),DIGITADOR!$B$2,DATOS!K27,DIGITADOR!$M$1),\"\"),\"\")","v":""},"",null,null,null,null,{"$f":"IF(J27=\"\",\"\",INDEX(referentes!$BA$2:$BB$131,MATCH(DATOS!J27,referentes!$BB$2:$BB$131,0),1))","v":""},null,{"$f":"IF(L27=\"\",\"\",INDEX([2]referentes!$AR:$AV,MATCH(L27,[2]referentes!$AS:$AS,0),1))","v":""},null,{"$f":"IF(L27=\"\",\"\",INDEX([2]referentes!$AR:$AV,MATCH(L27,[2]referentes!$AS:$AS,0),5))","v":""},null,null,null,{"$f":"IF(N27=\"\",\"\",INDEX('Otras referencias'!$A$6:$B$9,MATCH(DATOS!N27,'Otras referencias'!$B$6:$B$9,0),1))","v":""},{"$f":"IF(O27=\"\",\"\",INDEX(referentes!$G:$H,MATCH(O27,referentes!$H:$H,0),1))","v":""},null,null,null,null,null,null,null,null,null,null,null,null,{"$f":"IF(AF27<>\"\",INDEX(referentes!$AK$2:$AL$15,MATCH(DATOS!AF27,referentes!$AL$2:$AL$15,0),1),\"\")","v":""},null,null,null,null,null,null,null,null,null,null,null,{"$f":"IF(U27=\"\",\"\",INDEX(referentes!$J:$K,MATCH(U27,referentes!$K:$K,0),1))","v":""},{"$f":"IF(V27=\"\",\"\",INDEX(referentes!$M:$N,MATCH(V27,referentes!$N:$N,0),1))","v":""},{"$f":"IF(W27=\"\",\"\",INDEX(referentes!$P:$Q,MATCH(W27,referentes!$Q:$Q,0),1))","v":""},{"$f":"IF(Z27=\"\",\"\",INDEX(referentes!$S:$T,MATCH(Z27,referentes!$T:$T,0),1))","v":""},{"$f":"IF(AA27=\"\",\"\",INDEX(referentes!$V:$W,MATCH(AA27,referentes!$W:$W,0),1))","v":""},{"$f":"IF(AC27=\"\",\"\",INDEX(referentes!$Y:$Z,MATCH(AC27,referentes!$Z:$Z,0),1))","v":""},{"$f":"IF(AH27=\"\",\"\",INDEX(referentes!$AE:$AF,MATCH(AH27,referentes!$AF:$AF,0),1))","v":""},{"$f":"IF(AK27=\"\",\"\",INDEX(referentes!$AH:$AI,MATCH(AK27,referentes!$AI:$AI,0),1))","v":""}]
["",{"$f":"IF( L28<>\"\", CONCATENATE(YEAR(G28),TEXT(G28,\"mmdd\"),DIGITADOR!$B$2,DATOS!K28,DIGITADOR!$M$1),\"\")","v":""},{"$f":"IF( L28<>\"\", IF(K28<>K27,CONCATENATE(YEAR(G28),TEXT(G28,\"mmdd\"),DIGITADOR!$B$2,DATOS!K28,DIGITADOR!$M$1),\"\"),\"\")","v":""},"",null,null,null,null,{"$f":"IF(J28=\"\",\"\",INDEX(referentes!$BA$2:$BB$131,MATCH(DATOS!J28,referentes!$BB$2:$BB$131,0),1))","v":""},null,{"$f":"IF(L28=\"\",\"\",INDEX([2]referentes!$AR:$AV,MATCH(L28,[2]referentes!$AS:$AS,0),1))","v":""},null,{"$f":"IF(L28=\"\",\"\",INDEX([2]referentes!$AR:$AV,MATCH(L28,[2]referentes!$AS:$AS,0),5))","v":""},null,null,null,{"$f":"IF(N28=\"\",\"\",INDEX('Otras referencias'!$A$6:$B$9,MATCH(DATOS!N28,'Otras referencias'!$B$6:$B$9,0),1))","v":""},{"$f":"IF(O28=\"\",\"\",INDEX(referentes!$G:$H,MATCH(O28,referentes!$H:$H,0),1))","v":""},null,null,null,null,null,null,null,null,null,null,null,null,{"$f":"IF(AF28<>\"\",INDEX(referentes!$AK$2:$AL$15,MATCH(DATOS!AF28,referentes!$AL$2:$AL$15,0),1),\"\")","v":""},null,null,null,null,null,null,null,null,null,null,null,{"$f":"IF(U28=\"\",\"\",INDEX(referentes!$J:$K,MATCH(U28,referentes!$K:$K,0),1))","v":""},{"$f":"IF(V28=\"\",\"\",INDEX(referentes!$M:$N,MATCH(V28,referentes!$N:$N,0),1))","v":""},{"$f":"IF(W28=\"\",\"\",INDEX(referentes!$P:$Q,MATCH(W28,referentes!$Q:$Q,0),1))","v":""},{"$f":"IF(Z28=\"\",\"\",INDEX(referentes!$S:$T,MATCH(Z28,referentes!$T:$T,0),1))","v":""},{"$f":"IF(AA28=\"\",\"\",INDEX(referentes!$V:$W,MATCH(AA28,referentes!$W:$W,0),1))","v":""},{"$f":"IF(AC28=\"\",\"\",INDEX(referentes!$Y:$Z,MATCH(AC28,referentes!$Z:$Z,0),1))","v":""},{"$f":"IF(AH28=\"\",\"\",INDEX(referentes!$AE:$AF,MATCH(AH28,referentes!$AF:$AF,0),1))","v":""},{"$f":"IF(AK28=\"\",\"\",INDEX(referentes!$AH:$AI,MATCH(AK28,referentes!$AI:$AI,0),1))","v":""}]
["",{"$f":"IF( L29<>\"\", CONCATENATE(YEAR(G29),TEXT(G29,\"mmdd\"),DIGITADOR!$B$2,DATOS!K29,DIGITADOR!$M$1),\"\")","v":""},{"$f":"IF( L29<>\"\", IF(K29<>K28,CONCATENATE(YEAR(G29),TEXT(G29,\"mmdd\"),DIGITADOR!$B$2,DATOS!K29,DIGITADOR!$M$1),\"\"),\"\")","v":""},"",null,null,null,null,{"$f":"IF(J29=\"\",\"\",INDEX(referentes!$BA$2:$BB$131,MATCH(DATOS!J29,referentes!$BB$2:$BB$131,0),1))","v":""},null,{"$f":"IF(L29=\"\",\"\",INDEX([2]referentes!$AR:$AV,MATCH(L29,[2]referentes!$AS:$AS,0),1))","v":""},null,{"$f":"IF(L29=\"\",\"\",INDEX([2]referentes!$AR:$AV,MATCH(L29,[2]referentes!$AS:$AS,0),5))","v":""},null,null,null,{"$f":"IF(N29=\"\",\"\",INDEX('Otras referencias'!$A$6:$B$9,MATCH(DATOS!N29,'Otras referencias'!$B$6:$B$9,0),1))","v":""},{"$f":"IF(O29=\"\",\"\",INDEX(referentes!$G:$H,MATCH(O29,referentes!$H:$H,0),1))","v":""},null,null,null,null,null,null,null,null,null,null,null,null,{"$f":"IF(AF29<>\"\",INDEX(referentes!$AK$2:$AL$15,MATCH(DATOS!AF29,referentes!$AL$2:$AL$15,0),1),\"\")","v":""},null,null,null,null,null,null,null,null,null,null,null,{"$f":"IF(U29=\"\",\"\",INDEX(referentes!$J:$K,MATCH(U29,referentes!$K:$K,0),1))","v":""},{"$f":"IF(V29=\"\",\"\",INDEX(referentes!$M:$N,MATCH(V29,referentes!$N:$N,0),1))","v":""},{"$f":"IF(W29=\"\",\"\",INDEX(referentes!$P:$Q,MATCH(W29,referentes!$Q:$Q,0),1))","v":""},{"$f":"IF(Z29=\"\",\"\",INDEX(referentes!$S:$T,MATCH(Z29,referentes!$T:$T,0),1))","v":""},{"$f":"IF(AA29=\"\",\"\",INDEX(referentes!$V:$W,MATCH(AA29,referentes!$W:$W,0),1))","v":""},{"$f":"IF(AC29=\"\",\"\",INDEX(referentes!$Y:$Z,MATCH(AC29,referentes!$Z:$Z,0),1))","v":""},{"$f":"IF(AH29=\"\",\"\",INDEX(referentes!$AE:$AF,MATCH(AH29,referentes!$AF:$AF,0),1))","v":""},{"$f":"IF(AK29=\"\",\"\",INDEX(referentes!$AH:$AI,MATCH(AK29,referentes!$AI:$AI,0),1))","v":""}]
["",{"$f":"IF( L30<>\"\", CONCATENATE(YEAR(G30),TEXT(G30,\"mmdd\"),DIGITADOR!$B$2,DATOS!K30,DIGITADOR!$M$1),\"\")","v":""},{"$f":"IF( L30<>\"\", IF(K30<>K29,CONCATENATE(YEAR(G30),TEXT(G30,\"mmdd\"),DIGITADOR!$B$2,DATOS!K30,DIGITADOR!$M$1),\"\"),\"\")","v":""},"",null,null,null,null,{"$f":"IF(J30=\"\",\"\",INDEX(referentes!$BA$2:$BB$131,MATCH(DATOS!J30,referentes!$BB$2:$BB$131,0),1))","v":""},null,{"$f":"IF(L30=\"\",\"\",INDEX([2]referentes!$AR:$AV,MATCH(L30,[2]referentes!$AS:$AS,0),1))","v":""},null,{"$f":"IF(L30=\"\",\"\",INDEX([2]referentes!$AR:$AV,MATCH(L30,[2]referentes!$AS:$AS,0),5))","v":""},null,null,null,{"$f":"IF(N30=\"\",\"\",INDEX('Otras referencias'!$A$6:$B$9,MATCH(DATOS!N30,'Otras referencias'!$B$6:$B$9,0),1))","v":""},{"$f":"IF(O30=\"\",\"\",INDEX(referentes!$G:$H,MATCH(O30,referentes!$H:$H,0),1))","v":""},null,null,null,null,null,null,null,null,null,null,null,null,{"$f":"IF(AF30<>\"\",INDEX(referentes!$AK$2:$AL$15,MATCH(DATOS!AF30,referentes!$AL$2:$AL$15,0),1),\"\")","v":""},null,null,null,null,null,null,null,null,null,null,null,{"$f":"IF(U30=\"\",\"\",INDEX(referentes!$J:$K,MATCH(U30,referentes!$K:$K,0),1))","v":""},{"$f":"IF(V30=\"\",\"\",INDEX(referentes!$M:$N,MATCH(V30,referentes!$N:$N,0),1))","v":""},{"$f":"IF(W30=\"\",\"\",INDEX(referentes!$P:$Q,MATCH(W30,referentes!$Q:$Q,0),1))","v":""},{"$f":"IF(Z30=\"\",\"\",INDEX(referentes!$S:$T,MATCH(Z30,referentes!$T:$T,0),1))","v":""},{"$f":"IF(AA30=\"\",\"\",INDEX(referentes!$V:$W,MATCH(AA30,referentes!$W:$W,0),1))","v":""},{"$f":"IF(AC30=\"\",\"\",INDEX(referentes!$Y:$Z,MATCH(AC30,referentes!$Z:$Z,0),1))","v":""},{"$f":"IF(AH30=\"\",\"\",INDEX(referentes!$AE:$AF,MATCH(AH30,referentes!$AF:$AF,0),1))","v":""},{"$f":"IF(AK30=\"\",\"\",INDEX(referentes!$AH:$AI,MATCH(AK30,referentes!$AI:$AI,0),1))","v":""}]
["",{"$f":"IF( L31<>\"\", CONCATENATE(YEAR(G31),TEXT(G31,\"mmdd\"),DIGITADOR!$B$2,DATOS!K31,DIGITADOR!$M$1),\"\")","v":""},{"$f":"IF( L31<>\"\", IF(K31<>K30,CONCATENATE(YEAR(G31),TEXT(G31,\"mmdd\"),DIGITADOR!$B$2,DATOS!K31,DIGITADOR!$M$1),\"\"),\"\")","v":""},"",null,null,null,null,{"$f":"IF(J31=\"\",\"\",INDEX(referentes!$BA$2:$BB$131,MATCH(DATOS!J31,referentes!$BB$2:$BB$131,0),1))","v":""},null,{"$f":"IF(L31=\"\",\"\",INDEX([2]referentes!$AR:$AV,MATCH(L31,[2]referentes!$AS:$AS,0),1))","v":""},null,{"$f":"IF(L31=\"\",\"\",INDEX([2]referentes!$AR:$AV,MATCH(L31,[2]referentes!$AS:$AS,0),5))","v":""},null,null,null,{"$f":"IF(N31=\"\",\"\",INDEX('Otras referencias'!$A$6:$B$9,MATCH(DATOS!N31,'Otras referencias'!$B$6:$B$9,0),1))","v":""},{"$f":"IF(O31=\"\",\"\",INDEX(referentes!$G:$H,MATCH(O31,referentes!$H:$H,0),1))","v":""},null,null,null,null,null,null,null,null,null,null,null,null,{"$f":"IF(AF31<>\"\",INDEX(referentes!$AK$2:$AL$15,MATCH(DATOS!AF31,referentes!$AL$2:$AL$15,0),1),\"\")","v":""},null,null,null,null,null,null,null,null,null,null,null,{"$f":"IF(U31=\"\",\"\",INDEX(referentes!$J:$K,MATCH(U31,referentes!$K:$K,0),1))","v":""},{"$f":"IF(V31=\"\",\"\",INDEX(referentes!$M:$N,MATCH(V31,referentes!$N:$N,0),1))","v":""},{"$f":"IF(W31=\"\",\"\",INDEX(referentes!$P:$Q,MATCH(W31,referentes!$Q:$Q,0),1))","v":""},{"$f":"IF(Z31=\"\",\"\",INDEX(referentes!$S:$T,MATCH(Z31,referentes!$T:$T,0),1))","v":""},{"$f":"IF(AA31=\"\",\"\",INDEX(referentes!$V:$W,MATCH(AA31,referentes!$W:$W,0),1))","v":""},{"$f":"IF(AC31=\"\",\"\",INDEX(referentes!$Y:$Z,MATCH(AC31,referentes!$Z:$Z,0),1))","v":""},{"$f":"IF(AH31=\"\",\"\",INDEX(referentes!$AE:$AF,MATCH(AH31,referentes!$AF:$AF,0),1))","v":""},{"$f":"IF(AK31=\"\",\"\",INDEX(referentes!$AH:$AI,MATCH(AK31,referentes!$AI:$AI,0),1))","v":""}]
["",{"$f":"IF( L32<>\"\", CONCATENATE(YEAR(G32),TEXT(G32,\"mmdd\"),DIGITADOR!$B$2,DATOS!K32,DIGITADOR!$M$1),\"\")","v":""},{"$f":"IF( L32<>\"\", IF(K32<>K31,CONCATENATE(YEAR(G32),TEXT(G32,\"mmdd\"),DIGITADOR!$B$2,DATOS!K32,DIGITADOR!$M$1),\"\"),\"\")","v":""},"",null,null,null,null,{"$f":"IF(J32=\"\",\"\",INDEX(referentes!$BA$2:$BB$131,MATCH(DATOS!J32,referentes!$BB$2:$BB$131,0),1))","v":""},null,{"$f":"IF(L32=\"\",\"\",INDEX([2]referentes!$AR:$AV,MATCH(L32,[2]referentes!$AS:$AS,0),1))","v":""},null,{"$f":"IF(L32=\"\",\"\",INDEX([2]referentes!$AR:$AV,MATCH(L32,[2]referentes!$AS:$AS,0),5))","v":""},null,null,null,{"$f":"IF(N32=\"\",\"\",INDEX('Otras referencias'!$A$6:$B$9,MATCH(DATOS!N32,'Otras referencias'!$B$6:$B$9,0),1))","v":""},{"$f":"IF(O32=\"\",\"\",INDEX(referentes!$G:$H,MATCH(O32,referentes!$H:$H,0),1))","v":""},null,null,null,null,null,null,null,null,null,null,null,null,{"$f":"IF(AF32<>\"\",INDEX(referentes!$AK$2:$AL$15,MATCH(DATOS!AF32,referentes!$AL$2:$AL$15,0),1),\"\")","v":""},null,null,null,null,null,null,null,null,null,null,null,{"$f":"IF(U32=\"\",\"\",INDEX(referentes!$J:$K,MATCH(U32,referentes!$K:$K,0),1))","v":""},{"$f":"IF(V32=\"\",\"\",INDEX(referentes!$M:$N,MATCH(V32,referentes!$N:$N,0),1))","v":""},{"$f":"IF(W32=\"\",\"\",INDEX(referentes!$P:$Q,MATCH(W32,referentes!$Q:$Q,0),1))","v":""},{"$f":"IF(Z32=\"\",\"\",INDEX(referentes!$S:$T,MATCH(Z32,referentes!$T:$T,0),1))","v":""},{"$f":"IF(AA32=\"\",\"\",INDEX(referentes!$V:$W,MATCH(AA32,referentes!$W:$W,0),1))","v":""},{"$f":"IF(AC32=\"\",\"\",INDEX(referentes!$Y:$Z,MATCH(AC32,referentes!$Z:$Z,0),1))","v":""},{"$f":"IF(AH32=\"\",\"\",INDEX(referentes!$AE:$AF,MATCH(AH32,referentes!$AF:$AF,0),1))","v":""},{"$f":"IF(AK32=\"\",\"\",INDEX(referentes!$AH:$AI,MATCH(AK32,referentes!$AI:$AI,0),1))","v":""}]
["",{"$f":"IF( L33<>\"\", CONCATENATE(YEAR(G33),TEXT(G33,\"mmdd\"),DIGITADOR!$B$2,DATOS!K33,DIGITADOR!$M$1),\"\")","v":""},{"$f":"IF( L33<>\"\", IF(K33<>K32,CONCATENATE(YEAR(G33),TEXT(G33,\"mmdd\"),DIGITADOR!$B$2,DATOS!K33,DIGITADOR!$M$1),\"\"),\"\")","v":""},"",null,null,null,null,{"$f":"IF(J33=\"\",\"\",INDEX(referentes!$BA$2:$BB$131,MATCH(DATOS!J33,referentes!$BB$2:$BB$131,0),1))","v":""},null,{"$f":"IF(L33=\"\",\"\",INDEX([2]referentes!$AR:$AV,MATCH(L33,[2]referentes!$AS:$AS,0),1))","v":""},null,{"$f":"IF(L33=\"\",\"\",INDEX([2]referentes!$AR:$AV,MATCH(L33,[2]referentes!$AS:$AS,0),5))","v":""},null,null,null,{"$f":"IF(N33=\"\",\"\",INDEX('Otras referencias'!$A$6:$B$9,MATCH(DATOS!N33,'Otras referencias'!$B$6:$B$9,0),1))","v":""},{"$f":"IF(O33=\"\",\"\",INDEX(referentes!$G:$H,MATCH(O33,referentes!$H:$H,0),1))","v":""},null,null,null,null,null,null,null,null,null,null,null,null,{"$f":"IF(AF33<>\"\",INDEX(referentes!$AK$2:$AL$15,MATCH(DATOS!AF33,referentes!$AL$2:$AL$15,0),1),\"\")","v":""},null,null,null,null,null,null,null,null,null,null,null,{"$f":"IF(U33=\"\",\"\",INDEX(referentes!$J:$K,MATCH(U33,referentes!$K:$K,0),1))","v":""},{"$f":"IF(V33=\"\",\"\",INDEX(referentes!$M:$N,MATCH(V33,referentes!$N:$N,0),1))","v":""},{"$f":"IF(W33=\"\",\"\",INDEX(referentes!$P:$Q,MATCH(W33,referentes!$Q:$Q,0),1))","v":""},{"$f":"IF(Z33=\"\",\"\",INDEX(referentes!$S:$T,MATCH(Z33,referentes!$T:$T,0),1))","v":""},{"$f":"IF(AA33=\"\",\"\",INDEX(referentes!$V:$W,MATCH(AA33,referentes!$W:$W,0),1))","v":""},{"$f":"IF(AC33=\"\",\"\",INDEX(referentes!$Y:$Z,MATCH(AC33,referentes!$Z:$Z,0),1))","v":""},{"$f":"IF(AH33=\"\",\"\",INDEX(referentes!$AE:$AF,MATCH(AH33,referentes!$AF:$AF,0),1))","v":""},{"$f":"IF(AK33=\"\",\"\",INDEX(referentes!$AH:$AI,MATCH(AK33,referentes!$AI:$AI,0),1))","v":""}]
["",{"$f":"IF( L34<>\"\", CONCATENATE(YEAR(G34),TEXT(G34,\"mmdd\"),DIGITADOR!$B$2,DATOS!K34,DIGITADOR!$M$1),\"\")","v":""},{"$f":"IF( L34<>\"\", IF(K34<>K33,CONCATENATE(YEAR(G34),TEXT(G34,\"mmdd\"),DIGITADOR!$B$2,DATOS!K34,DIGITADOR!$M$1),\"\"),\"\")","v":""},"",null,null,null,null,{"$f":"IF(J34=\"\",\"\",INDEX(referentes!$BA$2:$BB$131,MATCH(DATOS!J34,referentes!$BB$2:$BB$131,0),1))","v":""},null,{"$f":"IF(L34=\"\",\"\",INDEX([2]referentes!$AR:$AV,MATCH(L34,[2]referentes!$AS:$AS,0),1))","v":""},null,{"$f":"IF(L34=\"\",\"\",INDEX([2]referentes!$AR:$AV,MATCH(L34,[2]referentes!$AS:$AS,0),5))","v":""},null,null,null,{"$f":"IF(N34=\"\",\"\",INDEX('Otras referencias'!$A$6:$B$9,MATCH(DATOS!N34,'Otras referencias'!$B$6:$B$9,0),1))","v":""},{"$f":"IF(O34=\"\",\"\",INDEX(referentes!$G:$H,MATCH(O34,referentes!$H:$H,0),1))","v":""},null,null,null,null,null,null,null,null,null,null,null,null,{"$f":"IF(AF34<>\"\",INDEX(referentes!$AK$2:$AL$15,MATCH(DATOS!AF34,referentes!$AL$2:$AL$15,0),1),\"\")","v":""},null,null,null,null,null,null,null,null,null,null,null,{"$f":"IF(U34=\"\",\"\",INDEX(referentes!$J:$K,MATCH(U34,referentes!$K:$K,0),1))","v":""},{"$f":"IF(V34=\"\",\"\",INDEX(referentes!$M:$N,MATCH(V34,referentes!$N:$N,0),1))","v":""},{"$f":"IF(W34=\"\",\"\",INDEX(referentes!$P:$Q,MATCH(W34,referentes!$Q:$Q,0),1))","v":""},{"$f":"IF(Z34=\"\",\"\",INDEX(referentes!$S:$T,MATCH(Z34,referentes!$T:$T,0),1))","v":""},{"$f":"IF(AA34=\"\",\"\",INDEX(referentes!$V:$W,MATCH(AA34,referentes!$W:$W,0),1))","v":""},{"$f":"IF(AC34=\"\",\"\",INDEX(referentes!$Y:$Z,MATCH(AC34,referentes!$Z:$Z,0),1))","v":""},{"$f":"IF(AH34=\"\",\"\",INDEX(referentes!$AE:$AF,MATCH(AH34,referentes!$AF:$AF,0),1))","v":""},{"$f":"IF(AK34=\"\",\"\",INDEX(referentes!$AH:$AI,MATCH(AK34,referentes!$AI:$AI,0),1))","v":""}]
["",{"$f":"IF( L35<>\"\", CONCATENATE(YEAR(G35),TEXT(G35,\"mmdd\"),DIGITADOR!$B$2,DATOS!K35,DIGITADOR!$M$1),\"\")","v":""},{"$f":"IF( L35<>\"\", IF(K35<>K34,CONCATENATE(YEAR(G35),TEXT(G35,\"mmdd\"),DIGITADOR!$B$2,DATOS!K35,DIGITADOR!$M$1),\"\"),\"\")","v":""},"",null,null,null,null,{"$f":"IF(J35=\"\",\"\",INDEX(referentes!$BA$2:$BB$131,MATCH(DATOS!J35,referentes!$BB$2:$BB$131,0),1))","v":""},null,{"$f":"IF(L35=\"\",\"\",INDEX([2]referentes!$AR:$AV,MATCH(L35,[2]referentes!$AS:$AS,0),1))","v":""},null,{"$f":"IF(L35=\"\",\"\",INDEX([2]referentes!$AR:$AV,MATCH(L35,[2]referentes!$AS:$AS,0),5))","v":""},null,null,null,{"$f":"IF(N35=\"\",\"\",INDEX('Otras referencias'!$A$6:$B$9,MATCH(DATOS!N35,'Otras referencias'!$B$6:$B$9,0),1))","v":""},{"$f":"IF(O35=\"\",\"\",INDEX(referentes!$G:$H,MATCH(O35,referentes!$H:$H,0),1))","v":""},null,null,null,null,null,null,null,null,null,null,null,null,{"$f":"IF(AF35<>\"\",INDEX(referentes!$AK$2:$AL$15,MATCH(DATOS!AF35,referentes!$AL$2:$AL$15,0),1),\"\")","v":""},null,null,null,null,null,null,null,null,null,null,null,{"$f":"IF(U35=\"\",\"\",INDEX(referentes!$J:$K,MATCH(U35,referentes!$K:$K,0),1))","v":""},{"$f":"IF(V35=\"\",\"\",INDEX(referentes!$M:$N,MATCH(V35,referentes!$N:$N,0),1))","v":""},{"$f":"IF(W35=\"\",\"\",INDEX(referentes!$P:$Q,MATCH(W35,referentes!$Q:$Q,0),1))","v":""},{"$f":"IF(Z35=\"\",\"\",INDEX(referentes!$S:$T,MATCH(Z35,referentes!$T:$T,0),1))","v":""},{"$f":"IF(AA35=\"\",\"\",INDEX(referentes!$V:$W,MATCH(AA35,referentes!$W:$W,0),1))","v":""},{"$f":"IF(AC35=\"\",\"\",INDEX(referentes!$Y:$Z,MATCH(AC35,referentes!$Z:$Z,0),1))","v":""},{"$f":"IF(AH35=\"\",\"\",INDEX(referentes!$AE:$AF,MATCH(AH35,referentes!$AF:$AF,0),1))","v":""},{"$f":"IF(AK35=\"\",\"\",INDEX(referentes!$AH:$AI,MATCH(AK35,referentes!$AI:$AI,0),1))","v":""}]
["",{"$f":"IF( L36<>\"\", CONCATENATE(YEAR(G36),TEXT(G36,\"mmdd\"),DIGITADOR!$B$2,DATOS!K36,DIGITADOR!$M$1),\"\")","v":""},{"$f":"IF( L36<>\"\", IF(K36<>K35,CONCATENATE(YEAR(G36),TEXT(G36,\"mmdd\"),DIGITADOR!$B$2,DATOS!K36,DIGITADOR!$M$1),\"\"),\"\")","v":""},"",null,null,null,null,{"$f":"IF(J36=\"\",\"\",INDEX(referentes!$BA$2:$BB$131,MATCH(DATOS!J36,referentes!$BB$2:$BB$131,0),1))","v":""},null,{"$f":"IF(L36=\"\",\"\",INDEX([2]referentes!$AR:$AV,MATCH(L36,[2]referentes!$AS:$AS,0),1))","v":""},null,{"$f":"IF(L36=\"\",\"\",INDEX([2]referentes!$AR:$AV,MATCH(L36,[2]referentes!$AS:$AS,0),5))","v":""},null,null,null,{"$f":"IF(N36=\"\",\"\",INDEX('Otras referencias'!$A$6:$B$9,MATCH(DATOS!N36,'Otras referencias'!$B$6:$B$9,0),1))","v":""},{"$f":"IF(O36=\"\",\"\",INDEX(referentes!$G:$H,MATCH(O36,referentes!$H:$H,0),1))","v":""},null,null,null,null,null,null,null,null,null,null,null,null,{"$f":"IF(AF36<>\"\",INDEX(referentes!$AK$2:$AL$15,MATCH(DATOS!AF36,referentes!$AL$2:$AL$15,0),1),\"\")","v":""},null,null,null,null,null,null,null,null,null,null,null,{"$f":"IF(U36=\"\",\"\",INDEX(referentes!$J:$K,MATCH(U36,referentes!$K:$K,0),1))","v":""},{"$f":"IF(V36=\"\",\"\",INDEX(referentes!$M:$N,MATCH(V36,referentes!$N:$N,0),1))","v":""},{"$f":"IF(W36=\"\",\"\",INDEX(referentes!$P:$Q,MATCH(W36,referentes!$Q:$Q,0),1))","v":""},{"$f":"IF(Z36=\"\",\"\",INDEX(referentes!$S:$T,MATCH(Z36,referentes!$T:$T,0),1))","v":""},{"$f":"IF(AA36=\"\",\"\",INDEX(referentes!$V:$W,MATCH(AA36,referentes!$W:$W,0),1))","v":""},{"$f":"IF(AC36=\"\",\"\",INDEX(referentes!$Y:$Z,MATCH(AC36,referentes!$Z:$Z,0),1))","v":""},{"$f":"IF(AH36=\"\",\"\",INDEX(referentes!$AE:$AF,MATCH(AH36,referentes!$AF:$AF,0),1))","v":""},{"$f":"IF(AK36=\"\",\"\",INDEX(referentes!$AH:$AI,MATCH(AK36,referentes!$AI:$AI,0),1))","v":""}]
["",{"$f":"IF( L37<>\"\", CONCATENATE(YEAR(G37),TEXT(G37,\"mmdd\"),DIGITADOR!$B$2,DATOS!K37,DIGITADOR!$M$1),\"\")","v":""},{"$f":"IF( L37<>\"\", IF(K37<>K36,CONCATENATE(YEAR(G37),TEXT(G37,\"mmdd\"),DIGITADOR!$B$2,DATOS!K37,DIGITADOR!$M$1),\"\"),\"\")","v":""},"",null,null,null,null,{"$f":"IF(J37=\"\",\"\",INDEX(referentes!$BA$2:$BB$131,MATCH(DATOS!J37,referentes!$BB$2:$BB$131,0),1))","v":""},null,{"$f":"IF(L37=\"\",\"\",INDEX([2]referentes!$AR:$AV,MATCH(L37,[2]referentes!$AS:$AS,0),1))","v":""},null,{"$f":"IF(L37=\"\",\"\",INDEX([2]referentes!$AR:$AV,MATCH(L37,[2]referentes!$AS:$AS,0),5))","v":""},null,null,null,{"$f":"IF(N37=\"\",\"\",INDEX('Otras referencias'!$A$6:$B$9,MATCH(DATOS!N37,'Otras referencias'!$B$6:$B$9,0),1))","v":""},{"$f":"IF(O37=\"\",\"\",INDEX(referentes!$G:$H,MATCH(O37,referentes!$H:$H,0),1))","v":""},null,null,null,null,null,null,null,null,null,null,null,null,{"$f":"IF(AF37<>\"\",INDEX(referentes!$AK$2:$AL$15,MATCH(DATOS!AF37,referentes!$AL$2:$AL$15,0),1),\"\")","v":""},null,null,null,null,null,null,null,null,null,null,null,{"$f":"IF(U37=\"\",\"\",INDEX(referentes!$J:$K,MATCH(U37,referentes!$K:$K,0),1))","v":""},{"$f":"IF(V37=\"\",\"\",INDEX(referentes!$M:$N,MATCH(V37,referentes!$N:$N,0),1))","v":""},{"$f":"IF(W37=\"\",\"\",INDEX(referentes!$P:$Q,MATCH(W37,referentes!$Q:$Q,0),1))","v":""},{"$f":"IF(Z37=\"\",\"\",INDEX(referentes!$S:$T,MATCH(Z37,referentes!$T:$T,0),1))","v":""},{"$f":"IF(AA37=\"\",\"\",INDEX(referentes!$V:$W,MATCH(AA37,referentes!$W:$W,0),1))","v":""},{"$f":"IF(AC37=\"\",\"\",INDEX(referentes!$Y:$Z,MATCH(AC37,referentes!$Z:$Z,0),1))","v":""},{"$f":"IF(AH37=\"\",\"\",INDEX(referentes!$AE:$AF,MATCH(AH37,referentes!$AF:$AF,0),1))","v":""},{"$f":"IF(AK37=\"\",\"\",INDEX(referentes!$AH:$AI,MATCH(AK37,referentes!$AI:$AI,0),1))","v":""}]
["",{"$f":"IF( L38<>\"\", CONCATENATE(YEAR(G38),TEXT(G38,\"mmdd\"),DIGITADOR!$B$2,DATOS!K38,DIGITADOR!$M$1),\"\")","v":""},{"$f":"IF( L38<>\"\", IF(K38<>K37,CONCATENATE(YEAR(G38),TEXT(G38,\"mmdd\"),DIGITADOR!$B$2,DATOS!K38,DIGITADOR!$M$1),\"\"),\"\")","v":""},"",null,null,null,null,{"$f":"IF(J38=\"\",\"\",INDEX(referentes!$BA$2:$BB$131,MATCH(DATOS!J38,referentes!$BB$2:$BB$131,0),1))","v":""},null,{"$f":"IF(L38=\"\",\"\",INDEX([2]referentes!$AR:$AV,MATCH(L38,[2]referentes!$AS:$AS,0),1))","v":""},null,{"$f":"IF(L38=\"\",\"\",INDEX([2]referentes!$AR:$AV,MATCH(L38,[2]referentes!$AS:$AS,0),5))","v":""},null,null,null,{"$f":"IF(N38=\"\",\"\",INDEX('Otras referencias'!$A$6:$B$9,MATCH(DATOS!N38,'Otras referencias'!$B$6:$B$9,0),1))","v":""},{"$f":"IF(O38=\"\",\"\",INDEX(referentes!$G:$H,MATCH(O38,referentes!$H:$H,0),1))","v":""},null,null,null,null,null,null,null,null,null,null,null,null,{"$f":"IF(AF38<>\"\",INDEX(referentes!$AK$2:$AL$15,MATCH(DATOS!AF38,referentes!$AL$2:$AL$15,0),1),\"\")","v":""},null,null,null,null,null,null,null,null,null,null,null,{"$f":"IF(U38=\"\",\"\",INDEX(referentes!$J:$K,MATCH(U38,referentes!$K:$K,0),1))","v":""},{"$f":"IF(V38=\"\",\"\",INDEX(referentes!$M:$N,MATCH(V38,referentes!$N:$N,0),1))","v":""},{"$f":"IF(W38=\"\",\"\",INDEX(referentes!$P:$Q,MATCH(W38,referentes!$Q:$Q,0),1))","v":""},{"$f":"IF(Z38=\"\",\"\",INDEX(referentes!$S:$T,MATCH(Z38,referentes!$T:$T,0),1))","v":""},{"$f":"IF(AA38=\"\",\"\",INDEX(referentes!$V:$W,MATCH(AA38,referentes!$W:$W,0),1))","v":""},{"$f":"IF(AC38=\"\",\"\",INDEX(referentes!$Y:$Z,MATCH(AC38,referentes!$Z:$Z,0),1))","v":""},{"$f":"IF(AH38=\"\",\"\",INDEX(referentes!$AE:$AF,MATCH(AH38,referentes!$AF:$AF,0),1))","v":""},{"$f":"IF(AK38=\"\",\"\",INDEX(referentes!$AH:$AI,MATCH(AK38,referentes!$AI:$AI,0),1))","v":""}]
["",{"$f":"IF( L39<>\"\", CONCATENATE(YEAR(G39),TEXT(G39,\"mmdd\"),DIGITADOR!$B$2,DATOS!K39,DIGITADOR!$M$1),\"\")","v":""},{"$f":"IF( L39<>\"\", IF(K39<>K38,CONCATENATE(YEAR(G39),TEXT(G39,\"mmdd\"),DIGITADOR!$B$2,DATOS!K39,DIGITADOR!$M$1),\"\"),\"\")","v":""},"",null,null,null,null,{"$f":"IF(J39=\"\",\"\",INDEX(referentes!$BA$2:$BB$131,MATCH(DATOS!J39,referentes!$BB$2:$BB$131,0),1))","v":""},null,{"$f":"IF(L39=\"\",\"\",INDEX([2]referentes!$AR:$AV,MATCH(L39,[2]referentes!$AS:$AS,0),1))","v":""},null,{"$f":"IF(L39=\"\",\"\",INDEX([2]referentes!$AR:$AV,MATCH(L39,[2]referentes!$AS:$AS,0),5))","v":""},null,null,null,{"$f":"IF(N39=\"\",\"\",INDEX('Otras referencias'!$A$6:$B$9,MATCH(DATOS!N39,'Otras referencias'!$B$6:$B$9,0),1))","v":""},{"$f":"IF(O39=\"\",\"\",INDEX(referentes!$G:$H,MATCH(O39,referentes!$H:$H,0),1))","v":""},null,null,null,null,null,null,null,null,null,null,null,null,{"$f":"IF(AF39<>\"\",INDEX(referentes!$AK$2:$AL$15,MATCH(DATOS!AF39,referentes!$AL$2:$AL$15,0),1),\"\")","v":""},null,null,null,null,null,null,null,null,null,null,null,{"$f":"IF(U39=\"\",\"\",INDEX(referentes!$J:$K,MATCH(U39,referentes!$K:$K,0),1))","v":""},{"$f":"IF(V39=\"\",\"\",INDEX(referentes!$M:$N,MATCH(V39,referentes!$N:$N,0),1))","v":""},{"$f":"IF(W39=\"\",\"\",INDEX(referentes!$P:$Q,MATCH(W39,referentes!$Q:$Q,0),1))","v":""},{"$f":"IF(Z39=\"\",\"\",INDEX(referentes!$S:$T,MATCH(Z39,referentes!$T:$T,0),1))","v":""},{"$f":"IF(AA39=\"\",\"\",INDEX(referentes!$V:$W,MATCH(AA39,referentes!$W:$W,0),1))","v":""},{"$f":"IF(AC39=\"\",\"\",INDEX(referentes!$Y:$Z,MATCH(AC39,referentes!$Z:$Z,0),1))","v":""},{"$f":"IF(AH39=\"\",\"\",INDEX(referentes!$AE:$AF,MATCH(AH39,referentes!$AF:$AF,0),1))","v":""},{"$f":"IF(AK39=\"\",\"\",INDEX(referentes!$AH:$AI,MATCH(AK39,referentes!$AI:$AI,0),1))","v":""}]
["",{"$f":"IF( L40<>\"\", CONCATENATE(YEAR(G40),TEXT(G40,\"mmdd\"),DIGITADOR!$B$2,DATOS!K40,DIGITADOR!$M$1),\"\")","v":""},{"$f":"IF( L40<>\"\", IF(K40<>K39,CONCATENATE(YEAR(G40),TEXT(G40,\"mmdd\"),DIGITADOR!$B$2,DATOS!K40,DIGITADOR!$M$1),\"\"),\"\")","v":""},"",null,null,null,null,{"$f":"IF(J40=\"\",\"\",INDEX(referentes!$BA$2:$BB$131,MATCH(DATOS!J40,referentes!$BB$2:$BB$131,0),1))","v":""},null,{"$f":"IF(L40=\"\",\"\",INDEX([2]referentes!$AR:$AV,MATCH(L40,[2]referentes!$AS:$AS,0),1))","v":""},null,{"$f":"IF(L40=\"\",\"\",INDEX([2]referentes!$AR:$AV,MATCH(L40,[2]referentes!$AS:$AS,0),5))","v":""},null,null,null,{"$f":"IF(N40=\"\",\"\",INDEX('Otras referencias'!$A$6:$B$9,MATCH(DATOS!N40,'Otras referencias'!$B$6:$B$9,0),1))","v":""},{"$f":"IF(O40=\"\",\"\",INDEX(referentes!$G:$H,MATCH(O40,referentes!$H:$H,0),1))","v":""},null,null,null,null,null,null,null,null,null,null,null,null,{"$f":"IF(AF40<>\"\",INDEX(referentes!$AK$2:$AL$15,MATCH(DATOS!AF40,referentes!$AL$2:$AL$15,0),1),\"\")","v":""},null,null,null,null,null,null,null,null,null,null,null,{"$f":"IF(U40=\"\",\"\",INDEX(referentes!$J:$K,MATCH(U40,referentes!$K:$K,0),1))","v":""},{"$f":"IF(V40=\"\",\"\",INDEX(referentes!$M:$N,MATCH(V40,referentes!$N:$N,0),1))","v":""},{"$f":"IF(W40=\"\",\"\",INDEX(referentes!$P:$Q,MATCH(W40,referentes!$Q:$Q,0),1))","v":""},{"$f":"IF(Z40=\"\",\"\",INDEX(referentes!$S:$T,MATCH(Z40,referentes!$T:$T,0),1))","v":""},{"$f":"IF(AA40=\"\",\"\",INDEX(referentes!$V:$W,MATCH(AA40,referentes!$W:$W,0),1))","v":""},{"$f":"IF(AC40=\"\",\"\",INDEX(referentes!$Y:$Z,MATCH(AC40,referentes!$Z:$Z,0),1))","v":""},{"$f":"IF(AH40=\"\",\"\",INDEX(referentes!$AE:$AF,MATCH(AH40,referentes!$AF:$AF,0),1))","v":""},{"$f":"IF(AK40=\"\",\"\",INDEX(referentes!$AH:$AI,MATCH(AK40,referentes!$AI:$AI,0),1))","v":""}]
["",{"$f":"IF( L41<>\"\", CONCATENATE(YEAR(G41),TEXT(G41,\"mmdd\"),DIGITADOR!$B$2,DATOS!K41,DIGITADOR!$M$1),\"\")","v":""},{"$f":"IF( L41<>\"\", IF(K41<>K40,CONCATENATE(YEAR(G41),TEXT(G41,\"mmdd\"),DIGITADOR!$B$2,DATOS!K41,DIGITADOR!$M$1),\"\"),\"\")","v":""},"",null,null,null,null,{"$f":"IF(J41=\"\",\"\",INDEX(referentes!$BA$2:$BB$131,MATCH(DATOS!J41,referentes!$BB$2:$BB$131,0),1))","v":""},null,{"$f":"IF(L41=\"\",\"\",INDEX([2]referentes!$AR:$AV,MATCH(L41,[2]referentes!$AS:$AS,0),1))","v":""},null,{"$f":"IF(L41=\"\",\"\",INDEX([2]referentes!$AR:$AV,MATCH(L41,[2]referentes!$AS:$AS,0),5))","v":""},null,null,null,{"$f":"IF(N41=\"\",\"\",INDEX('Otras referencias'!$A$6:$B$9,MATCH(DATOS!N41,'Otras referencias'!$B$6:$B$9,0),1))","v":""},{"$f":"IF(O41=\"\",\"\",INDEX(referentes!$G:$H,MATCH(O41,referentes!$H:$H,0),1))","v":""},null,null,null,null,null,null,null,null,null,null,null,null,{"$f":"IF(AF41<>\"\",INDEX(referentes!$AK$2:$AL$15,MATCH(DATOS!AF41,referentes!$AL$2:$AL$15,0),1),\"\")","v":""},null,null,null,null,null,null,null,null,null,null,null,{"$f":"IF(U41=\"\",\"\",INDEX(referentes!$J:$K,MATCH(U41,referentes!$K:$K,0),1))","v":""},{"$f":"IF(V41=\"\",\"\",INDEX(referentes!$M:$N,MATCH(V41,referentes!$N:$N,0),1))","v":""},{"$f":"IF(W41=\"\",\"\",INDEX(referentes!$P:$Q,MATCH(W41,referentes!$Q:$Q,0),1))","v":""},{"$f":"IF(Z41=\"\",\"\",INDEX(referentes!$S:$T,MATCH(Z41,referentes!$T:$T,0),1))","v":""},{"$f":"IF(AA41=\"\",\"\",INDEX(referentes!$V:$W,MATCH(AA41,referentes!$W:$W,0),1))","v":""},{"$f":"IF(AC41=\"\",\"\",INDEX(referentes!$Y:$Z,MATCH(AC41,referentes!$Z:$Z,0),1))","v":""},{"$f":"IF(AH41=\"\",\"\",INDEX(referentes!$AE:$AF,MATCH(AH41,referentes!$AF:$AF,0),1))","v":""},{"$f":"IF(AK41=\"\",\"\",INDEX(referentes!$AH:$AI,MATCH(AK41,referentes!$AI:$AI,0),1))","v":""}]
["",{"$f":"IF( L42<>\"\", CONCATENATE(YEAR(G42),TEXT(G42,\"mmdd\"),DIGITADOR!$B$2,DATOS!K42,DIGITADOR!$M$1),\"\")","v":""},{"$f":"IF( L42<>\"\", IF(K42<>K41,CONCATENATE(YEAR(G42),TEXT(G42,\"mmdd\"),DIGITADOR!$B$2,DATOS!K42,DIGITADOR!$M$1),\"\"),\"\")","v":""},"",null,null,null,null,{"$f":"IF(J42=\"\",\"\",INDEX(referentes!$BA$2:$BB$131,MATCH(DATOS!J42,referentes!$BB$2:$BB$131,0),1))","v":""},null,{"$f":"IF(L42=\"\",\"\",INDEX([2]referentes!$AR:$AV,MATCH(L42,[2]referentes!$AS:$AS,0),1))","v":""},null,{"$f":"IF(L42=\"\",\"\",INDEX([2]referentes!$AR:$AV,MATCH(L42,[2]referentes!$AS:$AS,0),5))","v":""},null,null,null,{"$f":"IF(N42=\"\",\"\",INDEX('Otras referencias'!$A$6:$B$9,MATCH(DATOS!N42,'Otras referencias'!$B$6:$B$9,0),1))","v":""},{"$f":"IF(O42=\"\",\"\",INDEX(referentes!$G:$H,MATCH(O42,referentes!$H:$H,0),1))","v":""},null,null,null,null,null,null,null,null,null,null,null,null,{"$f":"IF(AF42<>\"\",INDEX(referentes!$AK$2:$AL$15,MATCH(DATOS!AF42,referentes!$AL$2:$AL$15,0),1),\"\")","v":""},null,null,null,null,null,null,null,null,null,null,null,{"$f":"IF(U42=\"\",\"\",INDEX(referentes!$J:$K,MATCH(U42,referentes!$K:$K,0),1))","v":""},{"$f":"IF(V42=\"\",\"\",INDEX(referentes!$M:$N,MATCH(V42,referentes!$N:$N,0),1))","v":""},{"$f":"IF(W42=\"\",\"\",INDEX(referentes!$P:$Q,MATCH(W42,referentes!$Q:$Q,0),1))","v":""},{"$f":"IF(Z42=\"\",\"\",INDEX(referentes!$S:$T,MATCH(Z42,referentes!$T:$T,0),1))","v":""},{"$f":"IF(AA42=\"\",\"\",INDEX(referentes!$V:$W,MATCH(AA42,referentes!$W:$W,0),1))","v":""},{"$f":"IF(AC42=\"\",\"\",INDEX(referentes!$Y:$Z,MATCH(AC42,referentes!$Z:$Z,0),1))","v":""},{"$f":"IF(AH42=\"\",\"\",INDEX(referentes!$AE:$AF,MATCH(AH42,referentes!$AF:$AF,0),1))","v":""},{"$f":"IF(AK42=\"\",\"\",INDEX(referentes!$AH:$AI,MATCH(AK42,referentes!$AI:$AI,0),1))","v":""}]
["",{"$f":"IF( L43<>\"\", CONCATENATE(YEAR(G43),TEXT(G43,\"mmdd\"),DIGITADOR!$B$2,DATOS!K43,DIGITADOR!$M$1),\"\")","v":""},{"$f":"IF( L43<>\"\", IF(K43<>K42,CONCATENATE(YEAR(G43),TEXT(G43,\"mmdd\"),DIGITADOR!$B$2,DATOS!K43,DIGITADOR!$M$1),\"\"),\"\")","v":""},"",null,null,null,null,{"$f":"IF(J43=\"\",\"\",INDEX(referentes!$BA$2:$BB$131,MATCH(DATOS!J43,referentes!$BB$2:$BB$131,0),1))","v":""},null,{"$f":"IF(L43=\"\",\"\",INDEX([2]referentes!$AR:$AV,MATCH(L43,[2]referentes!$AS:$AS,0),1))","v":""},null,{"$f":"IF(L43=\"\",\"\",INDEX([2]referentes!$AR:$AV,MATCH(L43,[2]referentes!$AS:$AS,0),5))","v":""},null,null,null,{"$f":"IF(N43=\"\",\"\",INDEX('Otras referencias'!$A$6:$B$9,MATCH(DATOS!N43,'Otras referencias'!$B$6:$B$9,0),1))","v":""},{"$f":"IF(O43=\"\",\"\",INDEX(referentes!$G:$H,MATCH(O43,referentes!$H:$H,0),1))","v":""},null,null,null,null,null,null,null,null,null,null,null,null,{"$f":"IF(AF43<>\"\",INDEX(referentes!$AK$2:$AL$15,MATCH(DATOS!AF43,referentes!$AL$2:$AL$15,0),1),\"\")","v":""},null,null,null,null,null,null,null,null,null,null,null,{"$f":"IF(U43=\"\",\"\",INDEX(referentes!$J:$K,MATCH(U43,referentes!$K:$K,0),1))","v":""},{"$f":"IF(V43=\"\",\"\",INDEX(referentes!$M:$N,MATCH(V43,referentes!$N:$N,0),1))","v":""},{"$f":"IF(W43=\"\",\"\",INDEX(referentes!$P:$Q,MATCH(W43,referentes!$Q:$Q,0),1))","v":""},{"$f":"IF(Z43=\"\",\"\",INDEX(referentes!$S:$T,MATCH(Z43,referentes!$T:$T,0),1))","v":""},{"$f":"IF(AA43=\"\",\"\",INDEX(referentes!$V:$W,MATCH(AA43,referentes!$W:$W,0),1))","v":""},{"$f":"IF(AC43=\"\",\"\",INDEX(referentes!$Y:$Z,MATCH(AC43,referentes!$Z:$Z,0),1))","v":""},{"$f":"IF(AH43=\"\",\"\",INDEX(referentes!$AE:$AF,MATCH(AH43,referentes!$AF:$AF,0),1))","v":""},{"$f":"IF(AK43=\"\",\"\",INDEX(referentes!$AH:$AI,MATCH(AK43,referentes!$AI:$AI,0),1))","v":""}]
["",{"$f":"IF( L44<>\"\", CONCATENATE(YEAR(G44),TEXT(G44,\"mmdd\"),DIGITADOR!$B$2,DATOS!K44,DIGITADOR!$M$1),\"\")","v":""},{"$f":"IF( L44<>\"\", IF(K44<>K43,CONCATENATE(YEAR(G44),TEXT(G44,\"mmdd\"),DIGITADOR!$B$2,DATOS!K44,DIGITADOR!$M$1),\"\"),\"\")","v":""},"",null,null,null,null,{"$f":"IF(J44=\"\",\"\",INDEX(referentes!$BA$2:$BB$131,MATCH(DATOS!J44,referentes!$BB$2:$BB$131,0),1))","v":""},null,{"$f":"IF(L44=\"\",\"\",INDEX([2]referentes!$AR:$AV,MATCH(L44,[2]referentes!$AS:$AS,0),1))","v":""},null,{"$f":"IF(L44=\"\",\"\",INDEX([2]referentes!$AR:$AV,MATCH(L44,[2]referentes!$AS:$AS,0),5))","v":""},null,null,null,{"$f":"IF(N44=\"\",\"\",INDEX('Otras referencias'!$A$6:$B$9,MATCH(DATOS!N44,'Otras referencias'!$B$6:$B$9,0),1))","v":""},{"$f":"IF(O44=\"\",\"\",INDEX(referentes!$G:$H,MATCH(O44,referentes!$H:$H,0),1))","v":""},null,null,null,null,null,null,null,null,null,null,null,null,{"$f":"IF(AF44<>\"\",INDEX(referentes!$AK$2:$AL$15,MATCH(DATOS!AF44,referentes!$AL$2:$AL$15,0),1),\"\")","v":""},null,null,null,null,null,null,null,null,null,null,null,{"$f":"IF(U44=\"\",\"\",INDEX(referentes!$J:$K,MATCH(U44,referentes!$K:$K,0),1))","v":""},{"$f":"IF(V44=\"\",\"\",INDEX(referentes!$M:$N,MATCH(V44,referentes!$N:$N,0),1))","v":""},{"$f":"IF(W44=\"\",\"\",INDEX(referentes!$P:$Q,MATCH(W44,referentes!$Q:$Q,0),1))","v":""},{"$f":"IF(Z44=\"\",\"\",INDEX(referentes!$S:$T,MATCH(Z44,referentes!$T:$T,0),1))","v":""},{"$f":"IF(AA44=\"\",\"\",INDEX(referentes!$V:$W,MATCH(AA44,referentes!$W:$W,0),1))","v":""},{"$f":"IF(AC44=\"\",\"\",INDEX(referentes!$Y:$Z,MATCH(AC44,referentes!$Z:$Z,0),1))","v":""},{"$f":"IF(AH44=\"\",\"\",INDEX(referentes!$AE:$AF,MATCH(AH44,referentes!$AF:$AF,0),1))","v":""},{"$f":"IF(AK44=\"\",\"\",INDEX(referentes!$AH:$AI,MATCH(AK44,referentes!$AI:$AI,0),1))","v":""}]
["",{"$f":"IF( L45<>\"\", CONCATENATE(YEAR(G45),TEXT(G45,\"mmdd\"),DIGITADOR!$B$2,DATOS!K45,DIGITADOR!$M$1),\"\")","v":""},{"$f":"IF( L45<>\"\", IF(K45<>K44,CONCATENATE(YEAR(G45),TEXT(G45,\"mmdd\"),DIGITADOR!$B$2,DATOS!K45,DIGITADOR!$M$1),\"\"),\"\")","v":""},"",null,null,null,null,{"$f":"IF(J45=\"\",\"\",INDEX(referentes!$BA$2:$BB$131,MATCH(DATOS!J45,referentes!$BB$2:$BB$131,0),1))","v":""},null,{"$f":"IF(L45=\"\",\"\",INDEX([2]referentes!$AR:$AV,MATCH(L45,[2]referentes!$AS:$AS,0),1))","v":""},null,{"$f":"IF(L45=\"\",\"\",INDEX([2]referentes!$AR:$AV,MATCH(L45,[2]referentes!$AS:$AS,0),5))","v":""},null,null,null,{"$f":"IF(N45=\"\",\"\",INDEX('Otras referencias'!$A$6:$B$9,MATCH(DATOS!N45,'Otras referencias'!$B$6:$B$9,0),1))","v":""},{"$f":"IF(O45=\"\",\"\",INDEX(referentes!$G:$H,MATCH(O45,referentes!$H:$H,0),1))","v":""},null,null,null,null,null,null,null,null,null,null,null,null,{"$f":"IF(AF45<>\"\",INDEX(referentes!$AK$2:$AL$15,MATCH(DATOS!AF45,referentes!$AL$2:$AL$15,0),1),\"\")","v":""},null,null,null,null,null,null,null,null,null,null,null,{"$f":"IF(U45=\"\",\"\",INDEX(referentes!$J:$K,MATCH(U45,referentes!$K:$K,0),1))","v":""},{"$f":"IF(V45=\"\",\"\",INDEX(referentes!$M:$N,MATCH(V45,referentes!$N:$N,0),1))","v":""},{"$f":"IF(W45=\"\",\"\",INDEX(referentes!$P:$Q,MATCH(W45,referentes!$Q:$Q,0),1))","v":""},{"$f":"IF(Z45=\"\",\"\",INDEX(referentes!$S:$T,MATCH(Z45,referentes!$T:$T,0),1))","v":""},{"$f":"IF(AA45=\"\",\"\",INDEX(referentes!$V:$W,MATCH(AA45,referentes!$W:$W,0),1))","v":""},{"$f":"IF(AC45=\"\",\"\",INDEX(referentes!$Y:$Z,MATCH(AC45,referentes!$Z:$Z,0),1))","v":""},{"$f":"IF(AH45=\"\",\"\",INDEX(referentes!$AE:$AF,MATCH(AH45,referentes!$AF:$AF,0),1))","v":""},{"$f":"IF(AK45=\"\",\"\",INDEX(referentes!$AH:$AI,MATCH(AK45,referentes!$AI:$AI,0),1))","v":""}]
["",{"$f":"IF( L46<>\"\", CONCATENATE(YEAR(G46),TEXT(G46,\"mmdd\"),DIGITADOR!$B$2,DATOS!K46,DIGITADOR!$M$1),\"\")","v":""},{"$f":"IF( L46<>\"\", IF(K46<>K45,CONCATENATE(YEAR(G46),TEXT(G46,\"mmdd\"),DIGITADOR!$B$2,DATOS!K46,DIGITADOR!$M$1),\"\"),\"\")","v":""},"",null,null,null,null,{"$f":"IF(J46=\"\",\"\",INDEX(referentes!$BA$2:$BB$131,MATCH(DATOS!J46,referentes!$BB$2:$BB$131,0),1))","v":""},null,{"$f":"IF(L46=\"\",\"\",INDEX([2]referentes!$AR:$AV,MATCH(L46,[2]referentes!$AS:$AS,0),1))","v":""},null,{"$f":"IF(L46=\"\",\"\",INDEX([2]referentes!$AR:$AV,MATCH(L46,[2]referentes!$AS:$AS,0),5))","v":""},null,null,null,{"$f":"IF(N46=\"\",\"\",INDEX('Otras referencias'!$A$6:$B$9,MATCH(DATOS!N46,'Otras referencias'!$B$6:$B$9,0),1))","v":""},{"$f":"IF(O46=\"\",\"\",INDEX(referentes!$G:$H,MATCH(O46,referentes!$H:$H,0),1))","v":""},null,null,null,null,null,null,null,null,null,null,null,null,{"$f":"IF(AF46<>\"\",INDEX(referentes!$AK$2:$AL$15,MATCH(DATOS!AF46,referentes!$AL$2:$AL$15,0),1),\"\")","v":""},null,null,null,null,null,null,null,null,null,null,null,{"$f":"IF(U46=\"\",\"\",INDEX(referentes!$J:$K,MATCH(U46,referentes!$K:$K,0),1))","v":""},{"$f":"IF(V46=\"\",\"\",INDEX(referentes!$M:$N,MATCH(V46,referentes!$N:$N,0),1))","v":""},{"$f":"IF(W46=\"\",\"\",INDEX(referentes!$P:$Q,MATCH(W46,referentes!$Q:$Q,0),1))","v":""},{"$f":"IF(Z46=\"\",\"\",INDEX(referentes!$S:$T,MATCH(Z46,referentes!$T:$T,0),1))","v":""},{"$f":"IF(AA46=\"\",\"\",INDEX(referentes!$V:$W,MATCH(AA46,referentes!$W:$W,0),1))","v":""},{"$f":"IF(AC46=\"\",\"\",INDEX(referentes!$Y:$Z,MATCH(AC46,referentes!$Z:$Z,0),1))","v":""},{"$f":"IF(AH46=\"\",\"\",INDEX(referentes!$AE:$AF,MATCH(AH46,referentes!$AF:$AF,0),1))","v":""},{"$f":"IF(AK46=\"\",\"\",INDEX(referentes!$AH:$AI,MATCH(AK46,referentes!$AI:$AI,0),1))","v":""}]
["",{"$f":"IF( L47<>\"\", CONCATENATE(YEAR(G47),TEXT(G47,\"mmdd\"),DIGITADOR!$B$2,DATOS!K47,DIGITADOR!$M$1),\"\")","v":""},{"$f":"IF( L47<>\"\", IF(K47<>K46,CONCATENATE(YEAR(G47),TEXT(G47,\"mmdd\"),DIGITADOR!$B$2,DATOS!K47,DIGITADOR!$M$1),\"\"),\"\")","v":""},"",null,null,null,null,{"$f":"IF(J47=\"\",\"\",INDEX(referentes!$BA$2:$BB$131,MATCH(DATOS!J47,referentes!$BB$2:$BB$131,0),1))","v":""},null,{"$f":"IF(L47=\"\",\"\",INDEX([2]referentes!$AR:$AV,MATCH(L47,[2]referentes!$AS:$AS,0),1))","v":""},null,{"$f":"IF(L47=\"\",\"\",INDEX([2]referentes!$AR:$AV,MATCH(L47,[2]referentes!$AS:$AS,0),5))","v":""},null,null,null,{"$f":"IF(N47=\"\",\"\",INDEX('Otras referencias'!$A$6:$B$9,MATCH(DATOS!N47,'Otras referencias'!$B$6:$B$9,0),1))","v":""},{"$f":"IF(O47=\"\",\"\",INDEX(referentes!$G:$H,MATCH(O47,referentes!$H:$H,0),1))","v":""},null,null,null,null,null,null,null,null,null,null,null,null,{"$f":"IF(AF47<>\"\",INDEX(referentes!$AK$2:$AL$15,MATCH(DATOS!AF47,referentes!$AL$2:$AL$15,0),1),\"\")","v":""},null,null,null,null,null,null,null,null,null,null,null,{"$f":"IF(U47=\"\",\"\",INDEX(referentes!$J:$K,MATCH(U47,referentes!$K:$K,0),1))","v":""},{"$f":"IF(V47=\"\",\"\",INDEX(referentes!$M:$N,MATCH(V47,referentes!$N:$N,0),1))","v":""},{"$f":"IF(W47=\"\",\"\",INDEX(referentes!$P:$Q,MATCH(W47,referentes!$Q:$Q,0),1))","v":""},{"$f":"IF(Z47=\"\",\"\",INDEX(referentes!$S:$T,MATCH(Z47,referentes!$T:$T,0),1))","v":""},{"$f":"IF(AA47=\"\",\"\",INDEX(referentes!$V:$W,MATCH(AA47,referentes!$W:$W,0),1))","v":""},{"$f":"IF(AC47=\"\",\"\",INDEX(referentes!$Y:$Z,MATCH(AC47,referentes!$Z:$Z,0),1))","v":""},{"$f":"IF(AH47=\"\",\"\",INDEX(referentes!$AE:$AF,MATCH(AH47,referentes!$AF:$AF,0),1))","v":""},{"$f":"IF(AK47=\"\",\"\",INDEX(referentes!$AH:$AI,MATCH(AK47,referentes!$AI:$AI,0),1))","v":""}]
["",{"$f":"IF( L48<>\"\", CONCATENATE(YEAR(G48),TEXT(G48,\"mmdd\"),DIGITADOR!$B$2,DATOS!K48,DIGITADOR!$M$1),\"\")","v":""},{"$f":"IF( L48<>\"\", IF(K48<>K47,CONCATENATE(YEAR(G48),TEXT(G48,\"mmdd\"),DIGITADOR!$B$2,DATOS!K48,DIGITADOR!$M$1),\"\"),\"\")","v":""},"",null,null,null,null,{"$f":"IF(J48=\"\",\"\",INDEX(referentes!$BA$2:$BB$131,MATCH(DATOS!J48,referentes!$BB$2:$BB$131,0),1))","v":""},null,{"$f":"IF(L48=\"\",\"\",INDEX([2]referentes!$AR:$AV,MATCH(L48,[2]referentes!$AS:$AS,0),1))","v":""},null,{"$f":"IF(L48=\"\",\"\",INDEX([2]referentes!$AR:$AV,MATCH(L48,[2]referentes!$AS:$AS,0),5))","v":""},null,null,null,{"$f":"IF(N48=\"\",\"\",INDEX('Otras referencias'!$A$6:$B$9,MATCH(DATOS!N48,'Otras referencias'!$B$6:$B$9,0),1))","v":""},{"$f":"IF(O48=\"\",\"\",INDEX(referentes!$G:$H,MATCH(O48,referentes!$H:$H,0),1))","v":""},null,null,null,null,null,null,null,null,null,null,null,null,{"$f":"IF(AF48<>\"\",INDEX(referentes!$AK$2:$AL$15,MATCH(DATOS!AF48,referentes!$AL$2:$AL$15,0),1),\"\")","v":""},null,null,null,null,null,null,null,null,null,null,null,{"$f":"IF(U48=\"\",\"\",INDEX(referentes!$J:$K,MATCH(U48,referentes!$K:$K,0),1))","v":""},{"$f":"IF(V48=\"\",\"\",INDEX(referentes!$M:$N,MATCH(V48,referentes!$N:$N,0),1))","v":""},{"$f":"IF(W48=\"\",\"\",INDEX(referentes!$P:$Q,MATCH(W48,referentes!$Q:$Q,0),1))","v":""},{"$f":"IF(Z48=\"\",\"\",INDEX(referentes!$S:$T,MATCH(Z48,referentes!$T:$T,0),1))","v":""},{"$f":"IF(AA48=\"\",\"\",INDEX(referentes!$V:$W,MATCH(AA48,referentes!$W:$W,0),1))","v":""},{"$f":"IF(AC48=\"\",\"\",INDEX(referentes!$Y:$Z,MATCH(AC48,referentes!$Z:$Z,0),1))","v":""},{"$f":"IF(AH48=\"\",\"\",INDEX(referentes!$AE:$AF,MATCH(AH48,referentes!$AF:$AF,0),1))","v":""},{"$f":"IF(AK48=\"\",\"\",INDEX(referentes!$AH:$AI,MATCH(AK48,referentes!$AI:$AI,0),1))","v":""}]
["",{"$f":"IF( L49<>\"\", CONCATENATE(YEAR(G49),TEXT(G49,\"mmdd\"),DIGITADOR!$B$2,DATOS!K49,DIGITADOR!$M$1),\"\")","v":""},{"$f":"IF( L49<>\"\", IF(K49<>K48,CONCATENATE(YEAR(G49),TEXT(G49,\"mmdd\"),DIGITADOR!$B$2,DATOS!K49,DIGITADOR!$M$1),\"\"),\"\")","v":""},"",null,null,null,null,{"$f":"IF(J49=\"\",\"\",INDEX(referentes!$BA$2:$BB$131,MATCH(DATOS!J49,referentes!$BB$2:$BB$131,0),1))","v":""},null,{"$f":"IF(L49=\"\",\"\",INDEX([2]referentes!$AR:$AV,MATCH(L49,[2]referentes!$AS:$AS,0),1))","v":""},null,{"$f":"IF(L49=\"\",\"\",INDEX([2]referentes!$AR:$AV,MATCH(L49,[2]referentes!$AS:$AS,0),5))","v":""},null,null,null,{"$f":"IF(N49=\"\",\"\",INDEX('Otras referencias'!$A$6:$B$9,MATCH(DATOS!N49,'Otras referencias'!$B$6:$B$9,0),1))","v":""},{"$f":"IF(O49=\"\",\"\",INDEX(referentes!$G:$H,MATCH(O49,referentes!$H:$H,0),1))","v":""},null,null,null,null,null,null,null,null,null,null,null,null,{"$f":"IF(AF49<>\"\",INDEX(referentes!$AK$2:$AL$15,MATCH(DATOS!AF49,referentes!$AL$2:$AL$15,0),1),\"\")","v":""},null,null,null,null,null,null,null,null,null,null,null,{"$f":"IF(U49=\"\",\"\",INDEX(referentes!$J:$K,MATCH(U49,referentes!$K:$K,0),1))","v":""},{"$f":"IF(V49=\"\",\"\",INDEX(referentes!$M:$N,MATCH(V49,referentes!$N:$N,0),1))","v":""},{"$f":"IF(W49=\"\",\"\",INDEX(referentes!$P:$Q,MATCH(W49,referentes!$Q:$Q,0),1))","v":""},{"$f":"IF(Z49=\"\",\"\",INDEX(referentes!$S:$T,MATCH(Z49,referentes!$T:$T,0),1))","v":""},{"$f":"IF(AA49=\"\",\"\",INDEX(referentes!$V:$W,MATCH(AA49,referentes!$W:$W,0),1))","v":""},{"$f":"IF(AC49=\"\",\"\",INDEX(referentes!$Y:$Z,MATCH(AC49,referentes!$Z:$Z,0),1))","v":""},{"$f":"IF(AH49=\"\",\"\",INDEX(referentes!$AE:$AF,MATCH(AH49,referentes!$AF:$AF,0),1))","v":""},{"$f":"IF(AK49=\"\",\"\",INDEX(referentes!$AH:$AI,MATCH(AK49,referentes!$AI:$AI,0),1))","v":""}]
["",{"$f":"IF( L50<>\"\", CONCATENATE(YEAR(G50),TEXT(G50,\"mmdd\"),DIGITADOR!$B$2,DATOS!K50,DIGITADOR!$M$1),\"\")","v":""},{"$f":"IF( L50<>\"\", IF(K50<>K49,CONCATENATE(YEAR(G50),TEXT(G50,\"mmdd\"),DIGITADOR!$B$2,DATOS!K50,DIGITADOR!$M$1),\"\"),\"\")","v":""},"",null,null,null,null,{"$f":"IF(J50=\"\",\"\",INDEX(referentes!$BA$2:$BB$131,MATCH(DATOS!J50,referentes!$BB$2:$BB$131,0),1))","v":""},null,{"$f":"IF(L50=\"\",\"\",INDEX([2]referentes!$AR:$AV,MATCH(L50,[2]referentes!$AS:$AS,0),1))","v":""},null,{"$f":"IF(L50=\"\",\"\",INDEX([2]referentes!$AR:$AV,MATCH(L50,[2]referentes!$AS:$AS,0),5))","v":""},null,null,null,{"$f":"IF(N50=\"\",\"\",INDEX('Otras referencias'!$A$6:$B$9,MATCH(DATOS!N50,'Otras referencias'!$B$6:$B$9,0),1))","v":""},{"$f":"IF(O50=\"\",\"\",INDEX(referentes!$G:$H,MATCH(O50,referentes!$H:$H,0),1))","v":""},null,null,null,null,null,null,null,null,null,null,null,null,{"$f":"IF(AF50<>\"\",INDEX(referentes!$AK$2:$AL$15,MATCH(DATOS!AF50,referentes!$AL$2:$AL$15,0),1),\"\")","v":""},null,null,null,null,null,null,null,null,null,null,null,{"$f":"IF(U50=\"\",\"\",INDEX(referentes!$J:$K,MATCH(U50,referentes!$K:$K,0),1))","v":""},{"$f":"IF(V50=\"\",\"\",INDEX(referentes!$M:$N,MATCH(V50,referentes!$N:$N,0),1))","v":""},{"$f":"IF(W50=\"\",\"\",INDEX(referentes!$P:$Q,MATCH(W50,referentes!$Q:$Q,0),1))","v":""},{"$f":"IF(Z50=\"\",\"\",INDEX(referentes!$S:$T,MATCH(Z50,referentes!$T:$T,0),1))","v":""},{"$f":"IF(AA50=\"\",\"\",INDEX(referentes!$V:$W,MATCH(AA50,referentes!$W:$W,0),1))","v":""},{"$f":"IF(AC50=\"\",\"\",INDEX(referentes!$Y:$Z,MATCH(AC50,referentes!$Z:$Z,0),1))","v":""},{"$f":"IF(AH50=\"\",\"\",INDEX(referentes!$AE:$AF,MATCH(AH50,referentes!$AF:$AF,0),1))","v":""},{"$f":"IF(AK50=\"\",\"\",INDEX(referentes!$AH:$AI,MATCH(AK50,referentes!$AI:$AI,0),1))","v":""}]
["",{"$f":"IF( L51<>\"\", CONCATENATE(YEAR(G51),TEXT(G51,\"mmdd\"),DIGITADOR!$B$2,DATOS!K51,DIGITADOR!$M$1),\"\")","v":""},{"$f":"IF( L51<>\"\", IF(K51<>K50,CONCATENATE(YEAR(G51),TEXT(G51,\"mmdd\"),DIGITADOR!$B$2,DATOS!K51,DIGITADOR!$M$1),\"\"),\"\")","v":""},"",null,null,null,null,{"$f":"IF(J51=\"\",\"\",INDEX(referentes!$BA$2:$BB$131,MATCH(DATOS!J51,referentes!$BB$2:$BB$131,0),1))","v":""},null,{"$f":"IF(L51=\"\",\"\",INDEX([2]referentes!$AR:$AV,MATCH(L51,[2]referentes!$AS:$AS,0),1))","v":""},null,{"$f":"IF(L51=\"\",\"\",INDEX([2]referentes!$AR:$AV,MATCH(L51,[2]referentes!$AS:$AS,0),5))","v":""},null,null,null,{"$f":"IF(N51=\"\",\"\",INDEX('Otras referencias'!$A$6:$B$9,MATCH(DATOS!N51,'Otras referencias'!$B$6:$B$9,0),1))","v":""},{"$f":"IF(O51=\"\",\"\",INDEX(referentes!$G:$H,MATCH(O51,referentes!$H:$H,0),1))","v":""},null,null,null,null,null,null,null,null,null,null,null,null,{"$f":"IF(AF51<>\"\",INDEX(referentes!$AK$2:$AL$15,MATCH(DATOS!AF51,referentes!$AL$2:$AL$15,0),1),\"\")","v":""},null,null,null,null,null,null,null,null,null,null,null,{"$f":"IF(U51=\"\",\"\",INDEX(referentes!$J:$K,MATCH(U51,referentes!$K:$K,0),1))","v":""},{"$f":"IF(V51=\"\",\"\",INDEX(referentes!$M:$N,MATCH(V51,referentes!$N:$N,0),1))","v":""},{"$f":"IF(W51=\"\",\"\",INDEX(referentes!$P:$Q,MATCH(W51,referentes!$Q:$Q,0),1))","v":""},{"$f":"IF(Z51=\"\",\"\",INDEX(referentes!$S:$T,MATCH(Z51,referentes!$T:$T,0),1))","v":""},{"$f":"IF(AA51=\"\",\"\",INDEX(referentes!$V:$W,MATCH(AA51,referentes!$W:$W,0),1))","v":""},{"$f":"IF(AC51=\"\",\"\",INDEX(referentes!$Y:$Z,MATCH(AC51,referentes!$Z:$Z,0),1))","v":""},{"$f":"IF(AH51=\"\",\"\",INDEX(referentes!$AE:$AF,MATCH(AH51,referentes!$AF:$AF,0),1))","v":""},{"$f":"IF(AK51=\"\",\"\",INDEX(referentes!$AH:$AI,MATCH(AK51,referentes!$AI:$AI,0),1))","v":""}]
["",{"$f":"IF( L52<>\"\", CONCATENATE(YEAR(G52),TEXT(G52,\"mmdd\"),DIGITADOR!$B$2,DATOS!K52,DIGITADOR!$M$1),\"\")","v":""},{"$f":"IF( L52<>\"\", IF(K52<>K51,CONCATENATE(YEAR(G52),TEXT(G52,\"mmdd\"),DIGITADOR!$B$2,DATOS!K52,DIGITADOR!$M$1),\"\"),\"\")","v":""},"",null,null,null,null,{"$f":"IF(J52=\"\",\"\",INDEX(referentes!$BA$2:$BB$131,MATCH(DATOS!J52,referentes!$BB$2:$BB$131,0),1))","v":""},null,{"$f":"IF(L52=\"\",\"\",INDEX([2]referentes!$AR:$AV,MATCH(L52,[2]referentes!$AS:$AS,0),1))","v":""},null,{"$f":"IF(L52=\"\",\"\",INDEX([2]referentes!$AR:$AV,MATCH(L52,[2]referentes!$AS:$AS,0),5))","v":""},null,null,null,{"$f":"IF(N52=\"\",\"\",INDEX('Otras referencias'!$A$6:$B$9,MATCH(DATOS!N52,'Otras referencias'!$B$6:$B$9,0),1))","v":""},{"$f":"IF(O52=\"\",\"\",INDEX(referentes!$G:$H,MATCH(O52,referentes!$H:$H,0),1))","v":""},null,null,null,null,null,null,null,null,null,null,null,null,{"$f":"IF(AF52<>\"\",INDEX(referentes!$AK$2:$AL$15,MATCH(DATOS!AF52,referentes!$AL$2:$AL$15,0),1),\"\")","v":""},null,null,null,null,null,null,null,null,null,null,null,{"$f":"IF(U52=\"\",\"\",INDEX(referentes!$J:$K,MATCH(U52,referentes!$K:$K,0),1))","v":""},{"$f":"IF(V52=\"\",\"\",INDEX(referentes!$M:$N,MATCH(V52,referentes!$N:$N,0),1))","v":""},{"$f":"IF(W52=\"\",\"\",INDEX(referentes!$P:$Q,MATCH(W52,referentes!$Q:$Q,0),1))","v":""},{"$f":"IF(Z52=\"\",\"\",INDEX(referentes!$S:$T,MATCH(Z52,referentes!$T:$T,0),1))","v":""},{"$f":"IF(AA52=\"\",\"\",INDEX(referentes!$V:$W,MATCH(AA52,referentes!$W:$W,0),1))","v":""},{"$f":"IF(AC52=\"\",\"\",INDEX(referentes!$Y:$Z,MATCH(AC52,referentes!$Z:$Z,0),1))","v":""},{"$f":"IF(AH52=\"\",\"\",INDEX(referentes!$AE:$AF,MATCH(AH52,referentes!$AF:$AF,0),1))","v":""},{"$f":"IF(AK52=\"\",\"\",INDEX(referentes!$AH:$AI,MATCH(AK52,referentes!$AI:$AI,0),1))","v":""}]
["",{"$f":"IF( L53<>\"\", CONCATENATE(YEAR(G53),TEXT(G53,\"mmdd\"),DIGITADOR!$B$2,DATOS!K53,DIGITADOR!$M$1),\"\")","v":""},{"$f":"IF( L53<>\"\", IF(K53<>K52,CONCATENATE(YEAR(G53),TEXT(G53,\"mmdd\"),DIGITADOR!$B$2,DATOS!K53,DIGITADOR!$M$1),\"\"),\"\")","v":""},"",null,null,null,null,{"$f":"IF(J53=\"\",\"\",INDEX(referentes!$BA$2:$BB$131,MATCH(DATOS!J53,referentes!$BB$2:$BB$131,0),1))","v":""},null,{"$f":"IF(L53=\"\",\"\",INDEX([2]referentes!$AR:$AV,MATCH(L53,[2]referentes!$AS:$AS,0),1))","v":""},null,{"$f":"IF(L53=\"\",\"\",INDEX([2]referentes!$AR:$AV,MATCH(L53,[2]referentes!$AS:$AS,0),5))","v":""},null,null,null,{"$f":"IF(N53=\"\",\"\",INDEX('Otras referencias'!$A$6:$B$9,MATCH(DATOS!N53,'Otras referencias'!$B$6:$B$9,0),1))","v":""},{"$f":"IF(O53=\"\",\"\",INDEX(referentes!$G:$H,MATCH(O53,referentes!$H:$H,0),1))","v":""},null,null,null,null,null,null,null,null,null,null,null,null,{"$f":"IF(AF53<>\"\",INDEX(referentes!$AK$2:$AL$15,MATCH(DATOS!AF53,referentes!$AL$2:$AL$15,0),1),\"\")","v":""},null,null,null,null,null,null,null,null,null,null,null,{"$f":"IF(U53=\"\",\"\",INDEX(referentes!$J:$K,MATCH(U53,referentes!$K:$K,0),1))","v":""},{"$f":"IF(V53=\"\",\"\",INDEX(referentes!$M:$N,MATCH(V53,referentes!$N:$N,0),1))","v":""},{"$f":"IF(W53=\"\",\"\",INDEX(referentes!$P:$Q,MATCH(W53,referentes!$Q:$Q,0),1))","v":""},{"$f":"IF(Z53=\"\",\"\",INDEX(referentes!$S:$T,MATCH(Z53,referentes!$T:$T,0),1))","v":""},{"$f":"IF(AA53=\"\",\"\",INDEX(referentes!$V:$W,MATCH(AA53,referentes!$W:$W,0),1))","v":""},{"$f":"IF(AC53=\"\",\"\",INDEX(referentes!$Y:$Z,MATCH(AC53,referentes!$Z:$Z,0),1))","v":""},{"$f":"IF(AH53=\"\",\"\",INDEX(referentes!$AE:$AF,MATCH(AH53,referentes!$AF:$AF,0),1))","v":""},{"$f":"IF(AK53=\"\",\"\",INDEX(referentes!$AH:$AI,MATCH(AK53,referentes!$AI:$AI,0),1))","v":""}]
["",{"$f":"IF( L54<>\"\", CONCATENATE(YEAR(G54),TEXT(G54,\"mmdd\"),DIGITADOR!$B$2,DATOS!K54,DIGITADOR!$M$1),\"\")","v":""},{"$f":"IF( L54<>\"\", IF(K54<>K53,CONCATENATE(YEAR(G54),TEXT(G54,\"mmdd\"),DIGITADOR!$B$2,DATOS!K54,DIGITADOR!$M$1),\"\"),\"\")","v":""},"",null,null,null,null,{"$f":"IF(J54=\"\",\"\",INDEX(referentes!$BA$2:$BB$131,MATCH(DATOS!J54,referentes!$BB$2:$BB$131,0),1))","v":""},null,{"$f":"IF(L54=\"\",\"\",INDEX([2]referentes!$AR:$AV,MATCH(L54,[2]referentes!$AS:$AS,0),1))","v":""},null,{"$f":"IF(L54=\"\",\"\",INDEX([2]referentes!$AR:$AV,MATCH(L54,[2]referentes!$AS:$AS,0),5))","v":""},null,null,null,{"$f":"IF(N54=\"\",\"\",INDEX('Otras referencias'!$A$6:$B$9,MATCH(DATOS!N54,'Otras referencias'!$B$6:$B$9,0),1))","v":""},{"$f":"IF(O54=\"\",\"\",INDEX(referentes!$G:$H,MATCH(O54,referentes!$H:$H,0),1))","v":""},null,null,null,null,null,null,null,null,null,null,null,null,{"$f":"IF(AF54<>\"\",INDEX(referentes!$AK$2:$AL$15,MATCH(DATOS!AF54,referentes!$AL$2:$AL$15,0),1),\"\")","v":""},null,null,null,null,null,null,null,null,null,null,null,{"$f":"IF(U54=\"\",\"\",INDEX(referentes!$J:$K,MATCH(U54,referentes!$K:$K,0),1))","v":""},{"$f":"IF(V54=\"\",\"\",INDEX(referentes!$M:$N,MATCH(V54,referentes!$N:$N,0),1))","v":""},{"$f":"IF(W54=\"\",\"\",INDEX(referentes!$P:$Q,MATCH(W54,referentes!$Q:$Q,0),1))","v":""},{"$f":"IF(Z54=\"\",\"\",INDEX(referentes!$S:$T,MATCH(Z54,referentes!$T:$T,0),1))","v":""},{"$f":"IF(AA54=\"\",\"\",INDEX(referentes!$V:$W,MATCH(AA54,referentes!$W:$W,0),1))","v":""},{"$f":"IF(AC54=\"\",\"\",INDEX(referentes!$Y:$Z,MATCH(AC54,referentes!$Z:$Z,0),1))","v":""},{"$f":"IF(AH54=\"\",\"\",INDEX(referentes!$AE:$AF,MATCH(AH54,referentes!$AF:$AF,0),1))","v":""},{"$f":"IF(AK54=\"\",\"\",INDEX(referentes!$AH:$AI,MATCH(AK54,referentes!$AI:$AI,0),1))","v":""}]
["",{"$f":"IF( L55<>\"\", CONCATENATE(YEAR(G55),TEXT(G55,\"mmdd\"),DIGITADOR!$B$2,DATOS!K55,DIGITADOR!$M$1),\"\")","v":""},{"$f":"IF( L55<>\"\", IF(K55<>K54,CONCATENATE(YEAR(G55),TEXT(G55,\"mmdd\"),DIGITADOR!$B$2,DATOS!K55,DIGITADOR!$M$1),\"\"),\"\")","v":""},"",null,null,null,null,{"$f":"IF(J55=\"\",\"\",INDEX(referentes!$BA$2:$BB$131,MATCH(DATOS!J55,referentes!$BB$2:$BB$131,0),1))","v":""},null,{"$f":"IF(L55=\"\",\"\",INDEX([2]referentes!$AR:$AV,MATCH(L55,[2]referentes!$AS:$AS,0),1))","v":""},null,{"$f":"IF(L55=\"\",\"\",INDEX([2]referentes!$AR:$AV,MATCH(L55,[2]referentes!$AS:$AS,0),5))","v":""},null,null,null,{"$f":"IF(N55=\"\",\"\",INDEX('Otras referencias'!$A$6:$B$9,MATCH(DATOS!N55,'Otras referencias'!$B$6:$B$9,0),1))","v":""},{"$f":"IF(O55=\"\",\"\",INDEX(referentes!$G:$H,MATCH(O55,referentes!$H:$H,0),1))","v":""},null,null,null,null,null,null,null,null,null,null,null,null,{"$f":"IF(AF55<>\"\",INDEX(referentes!$AK$2:$AL$15,MATCH(DATOS!AF55,referentes!$AL$2:$AL$15,0),1),\"\")","v":""},null,null,null,null,null,null,null,null,null,null,null,{"$f":"IF(U55=\"\",\"\",INDEX(referentes!$J:$K,MATCH(U55,referentes!$K:$K,0),1))","v":""},{"$f":"IF(V55=\"\",\"\",INDEX(referentes!$M:$N,MATCH(V55,referentes!$N:$N,0),1))","v":""},{"$f":"IF(W55=\"\",\"\",INDEX(referentes!$P:$Q,MATCH(W55,referentes!$Q:$Q,0),1))","v":""},{"$f":"IF(Z55=\"\",\"\",INDEX(referentes!$S:$T,MATCH(Z55,referentes!$T:$T,0),1))","v":""},{"$f":"IF(AA55=\"\",\"\",INDEX(referentes!$V:$W,MATCH(AA55,referentes!$W:$W,0),1))","v":""},{"$f":"IF(AC55=\"\",\"\",INDEX(referentes!$Y:$Z,MATCH(AC55,referentes!$Z:$Z,0),1))","v":""},{"$f":"IF(AH55=\"\",\"\",INDEX(referentes!$AE:$AF,MATCH(AH55,referentes!$AF:$AF,0),1))","v":""},{"$f":"IF(AK55=\"\",\"\",INDEX(referentes!$AH:$AI,MATCH(AK55,referentes!$AI:$AI,0),1))","v":""}]
["",{"$f":"IF( L56<>\"\", CONCATENATE(YEAR(G56),TEXT(G56,\"mmdd\"),DIGITADOR!$B$2,DATOS!K56,DIGITADOR!$M$1),\"\")","v":""},{"$f":"IF( L56<>\"\", IF(K56<>K55,CONCATENATE(YEAR(G56),TEXT(G56,\"mmdd\"),DIGITADOR!$B$2,DATOS!K56,DIGITADOR!$M$1),\"\"),\"\")","v":""},"",null,null,null,null,{"$f":"IF(J56=\"\",\"\",INDEX(referentes!$BA$2:$BB$131,MATCH(DATOS!J56,referentes!$BB$2:$BB$131,0),1))","v":""},null,{"$f":"IF(L56=\"\",\"\",INDEX([2]referentes!$AR:$AV,MATCH(L56,[2]referentes!$AS:$AS,0),1))","v":""},null,{"$f":"IF(L56=\"\",\"\",INDEX([2]referentes!$AR:$AV,MATCH(L56,[2]referentes!$AS:$AS,0),5))","v":""},null,null,null,{"$f":"IF(N56=\"\",\"\",INDEX('Otras referencias'!$A$6:$B$9,MATCH(DATOS!N56,'Otras referencias'!$B$6:$B$9,0),1))","v":""},{"$f":"IF(O56=\"\",\"\",INDEX(referentes!$G:$H,MATCH(O56,referentes!$H:$H,0),1))","v":""},null,null,null,null,null,null,null,null,null,null,null,null,{"$f":"IF(AF56<>\"\",INDEX(referentes!$AK$2:$AL$15,MATCH(DATOS!AF56,referentes!$AL$2:$AL$15,0),1),\"\")","v":""},null,null,null,null,null,null,null,null,null,null,null,{"$f":"IF(U56=\"\",\"\",INDEX(referentes!$J:$K,MATCH(U56,referentes!$K:$K,0),1))","v":""},{"$f":"IF(V56=\"\",\"\",INDEX(referentes!$M:$N,MATCH(V56,referentes!$N:$N,0),1))","v":""},{"$f":"IF(W56=\"\",\"\",INDEX(referentes!$P:$Q,MATCH(W56,referentes!$Q:$Q,0),1))","v":""},{"$f":"IF(Z56=\"\",\"\",INDEX(referentes!$S:$T,MATCH(Z56,referentes!$T:$T,0),1))","v":""},{"$f":"IF(AA56=\"\",\"\",INDEX(referentes!$V:$W,MATCH(AA56,referentes!$W:$W,0),1))","v":""},{"$f":"IF(AC56=\"\",\"\",INDEX(referentes!$Y:$Z,MATCH(AC56,referentes!$Z:$Z,0),1))","v":""},{"$f":"IF(AH56=\"\",\"\",INDEX(referentes!$AE:$AF,MATCH(AH56,referentes!$AF:$AF,0),1))","v":""},{"$f":"IF(AK56=\"\",\"\",INDEX(referentes!$AH:$AI,MATCH(AK56,referentes!$AI:$AI,0),1))","v":""}]
["",{"$f":"IF( L57<>\"\", CONCATENATE(YEAR(G57),TEXT(G57,\"mmdd\"),DIGITADOR!$B$2,DATOS!K57,DIGITADOR!$M$1),\"\")","v":""},{"$f":"IF( L57<>\"\", IF(K57<>K56,CONCATENATE(YEAR(G57),TEXT(G57,\"mmdd\"),DIGITADOR!$B$2,DATOS!K57,DIGITADOR!$M$1),\"\"),\"\")","v":""},"",null,null,null,null,{"$f":"IF(J57=\"\",\"\",INDEX(referentes!$BA$2:$BB$131,MATCH(DATOS!J57,referentes!$BB$2:$BB$131,0),1))","v":""},null,{"$f":"IF(L57=\"\",\"\",INDEX([2]referentes!$AR:$AV,MATCH(L57,[2]referentes!$AS:$AS,0),1))","v":""},null,{"$f":"IF(L57=\"\",\"\",INDEX([2]referentes!$AR:$AV,MATCH(L57,[2]referentes!$AS:$AS,0),5))","v":""},null,null,null,{"$f":"IF(N57=\"\",\"\",INDEX('Otras referencias'!$A$6:$B$9,MATCH(DATOS!N57,'Otras referencias'!$B$6:$B$9,0),1))","v":""},{"$f":"IF(O57=\"\",\"\",INDEX(referentes!$G:$H,MATCH(O57,referentes!$H:$H,0),1))","v":""},null,null,null,null,null,null,null,null,null,null,null,null,{"$f":"IF(AF57<>\"\",INDEX(referentes!$AK$2:$AL$15,MATCH(DATOS!AF57,referentes!$AL$2:$AL$15,0),1),\"\")","v":""},null,null,null,null,null,null,null,null,null,null,null,{"$f":"IF(U57=\"\",\"\",INDEX(referentes!$J:$K,MATCH(U57,referentes!$K:$K,0),1))","v":""},{"$f":"IF(V57=\"\",\"\",INDEX(referentes!$M:$N,MATCH(V57,referentes!$N:$N,0),1))","v":""},{"$f":"IF(W57=\"\",\"\",INDEX(referentes!$P:$Q,MATCH(W57,referentes!$Q:$Q,0),1))","v":""},{"$f":"IF(Z57=\"\",\"\",INDEX(referentes!$S:$T,MATCH(Z57,referentes!$T:$T,0),1))","v":""},{"$f":"IF(AA57=\"\",\"\",INDEX(referentes!$V:$W,MATCH(AA57,referentes!$W:$W,0),1))","v":""},{"$f":"IF(AC57=\"\",\"\",INDEX(referentes!$Y:$Z,MATCH(AC57,referentes!$Z:$Z,0),1))","v":""},{"$f":"IF(AH57=\"\",\"\",INDEX(referentes!$AE:$AF,MATCH(AH57,referentes!$AF:$AF,0),1))","v":""},{"$f":"IF(AK57=\"\",\"\",INDEX(referentes!$AH:$AI,MATCH(AK57,referentes!$AI:$AI,0),1))","v":""}]
["",{"$f":"IF( L58<>\"\", CONCATENATE(YEAR(G58),TEXT(G58,\"mmdd\"),DIGITADOR!$B$2,DATOS!K58,DIGITADOR!$M$1),\"\")","v":""},{"$f":"IF( L58<>\"\", IF(K58<>K57,CONCATENATE(YEAR(G58),TEXT(G58,\"mmdd\"),DIGITADOR!$B$2,DATOS!K58,DIGITADOR!$M$1),\"\"),\"\")","v":""},"",null,null,null,null,{"$f":"IF(J58=\"\",\"\",INDEX(referentes!$BA$2:$BB$131,MATCH(DATOS!J58,referentes!$BB$2:$BB$131,0),1))","v":""},null,{"$f":"IF(L58=\"\",\"\",INDEX([2]referentes!$AR:$AV,MATCH(L58,[2]referentes!$AS:$AS,0),1))","v":""},null,{"$f":"IF(L58=\"\",\"\",INDEX([2]referentes!$AR:$AV,MATCH(L58,[2]referentes!$AS:$AS,0),5))","v":""},null,null,null,{"$f":"IF(N58=\"\",\"\",INDEX('Otras referencias'!$A$6:$B$9,MATCH(DATOS!N58,'Otras referencias'!$B$6:$B$9,0),1))","v":""},{"$f":"IF(O58=\"\",\"\",INDEX(referentes!$G:$H,MATCH(O58,referentes!$H:$H,0),1))","v":""},null,null,null,null,null,null,null,null,null,null,null,null,{"$f":"IF(AF58<>\"\",INDEX(referentes!$AK$2:$AL$15,MATCH(DATOS!AF58,referentes!$AL$2:$AL$15,0),1),\"\")","v":""},null,null,null,null,null,null,null,null,null,null,null,{"$f":"IF(U58=\"\",\"\",INDEX(referentes!$J:$K,MATCH(U58,referentes!$K:$K,0),1))","v":""},{"$f":"IF(V58=\"\",\"\",INDEX(referentes!$M:$N,MATCH(V58,referentes!$N:$N,0),1))","v":""},{"$f":"IF(W58=\"\",\"\",INDEX(referentes!$P:$Q,MATCH(W58,referentes!$Q:$Q,0),1))","v":""},{"$f":"IF(Z58=\"\",\"\",INDEX(referentes!$S:$T,MATCH(Z58,referentes!$T:$T,0),1))","v":""},{"$f":"IF(AA58=\"\",\"\",INDEX(referentes!$V:$W,MATCH(AA58,referentes!$W:$W,0),1))","v":""},{"$f":"IF(AC58=\"\",\"\",INDEX(referentes!$Y:$Z,MATCH(AC58,referentes!$Z:$Z,0),1))","v":""},{"$f":"IF(AH58=\"\",\"\",INDEX(referentes!$AE:$AF,MATCH(AH58,referentes!$AF:$AF,0),1))","v":""},{"$f":"IF(AK58=\"\",\"\",INDEX(referentes!$AH:$AI,MATCH(AK58,referentes!$AI:$AI,0),1))","v":""}]
["",{"$f":"IF( L59<>\"\", CONCATENATE(YEAR(G59),TEXT(G59,\"mmdd\"),DIGITADOR!$B$2,DATOS!K59,DIGITADOR!$M$1),\"\")","v":""},{"$f":"IF( L59<>\"\", IF(K59<>K58,CONCATENATE(YEAR(G59),TEXT(G59,\"mmdd\"),DIGITADOR!$B$2,DATOS!K59,DIGITADOR!$M$1),\"\"),\"\")","v":""},"",null,null,null,null,{"$f":"IF(J59=\"\",\"\",INDEX(referentes!$BA$2:$BB$131,MATCH(DATOS!J59,referentes!$BB$2:$BB$131,0),1))","v":""},null,{"$f":"IF(L59=\"\",\"\",INDEX([2]referentes!$AR:$AV,MATCH(L59,[2]referentes!$AS:$AS,0),1))","v":""},null,{"$f":"IF(L59=\"\",\"\",INDEX([2]referentes!$AR:$AV,MATCH(L59,[2]referentes!$AS:$AS,0),5))","v":""},null,null,null,{"$f":"IF(N59=\"\",\"\",INDEX('Otras referencias'!$A$6:$B$9,MATCH(DATOS!N59,'Otras referencias'!$B$6:$B$9,0),1))","v":""},{"$f":"IF(O59=\"\",\"\",INDEX(referentes!$G:$H,MATCH(O59,referentes!$H:$H,0),1))","v":""},null,null,null,null,null,null,null,null,null,null,null,null,{"$f":"IF(AF59<>\"\",INDEX(referentes!$AK$2:$AL$15,MATCH(DATOS!AF59,referentes!$AL$2:$AL$15,0),1),\"\")","v":""},null,null,null,null,null,null,null,null,null,null,null,{"$f":"IF(U59=\"\",\"\",INDEX(referentes!$J:$K,MATCH(U59,referentes!$K:$K,0),1))","v":""},{"$f":"IF(V59=\"\",\"\",INDEX(referentes!$M:$N,MATCH(V59,referentes!$N:$N,0),1))","v":""},{"$f":"IF(W59=\"\",\"\",INDEX(referentes!$P:$Q,MATCH(W59,referentes!$Q:$Q,0),1))","v":""},{"$f":"IF(Z59=\"\",\"\",INDEX(referentes!$S:$T,MATCH(Z59,referentes!$T:$T,0),1))","v":""},{"$f":"IF(AA59=\"\",\"\",INDEX(referentes!$V:$W,MATCH(AA59,referentes!$W:$W,0),1))","v":""},{"$f":"IF(AC59=\"\",\"\",INDEX(referentes!$Y:$Z,MATCH(AC59,referentes!$Z:$Z,0),1))","v":""},{"$f":"IF(AH59=\"\",\"\",INDEX(referentes!$AE:$AF,MATCH(AH59,referentes!$AF:$AF,0),1))","v":""},{"$f":"IF(AK59=\"\",\"\",INDEX(referentes!$AH:$AI,MATCH(AK59,referentes!$AI:$AI,0),1))","v":""}]
["",{"$f":"IF( L60<>\"\", CONCATENATE(YEAR(G60),TEXT(G60,\"mmdd\"),DIGITADOR!$B$2,DATOS!K60,DIGITADOR!$M$1),\"\")","v":""},{"$f":"IF( L60<>\"\", IF(K60<>K59,CONCATENATE(YEAR(G60),TEXT(G60,\"mmdd\"),DIGITADOR!$B$2,DATOS!K60,DIGITADOR!$M$1),\"\"),\"\")","v":""},"",null,null,null,null,{"$f":"IF(J60=\"\",\"\",INDEX(referentes!$BA$2:$BB$131,MATCH(DATOS!J60,referentes!$BB$2:$BB$131,0),1))","v":""},null,{"$f":"IF(L60=\"\",\"\",INDEX([2]referentes!$AR:$AV,MATCH(L60,[2]referentes!$AS:$AS,0),1))","v":""},null,{"$f":"IF(L60=\"\",\"\",INDEX([2]referentes!$AR:$AV,MATCH(L60,[2]referentes!$AS:$AS,0),5))","v":""},null,null,null,{"$f":"IF(N60=\"\",\"\",INDEX('Otras referencias'!$A$6:$B$9,MATCH(DATOS!N60,'Otras referencias'!$B$6:$B$9,0),1))","v":""},{"$f":"IF(O60=\"\",\"\",INDEX(referentes!$G:$H,MATCH(O60,referentes!$H:$H,0),1))","v":""},null,null,null,null,null,null,null,null,null,null,null,null,{"$f":"IF(AF60<>\"\",INDEX(referentes!$AK$2:$AL$15,MATCH(DATOS!AF60,referentes!$AL$2:$AL$15,0),1),\"\")","v":""},null,null,null,null,null,null,null,null,null,null,null,{"$f":"IF(U60=\"\",\"\",INDEX(referentes!$J:$K,MATCH(U60,referentes!$K:$K,0),1))","v":""},{"$f":"IF(V60=\"\",\"\",INDEX(referentes!$M:$N,MATCH(V60,referentes!$N:$N,0),1))","v":""},{"$f":"IF(W60=\"\",\"\",INDEX(referentes!$P:$Q,MATCH(W60,referentes!$Q:$Q,0),1))","v":""},{"$f":"IF(Z60=\"\",\"\",INDEX(referentes!$S:$T,MATCH(Z60,referentes!$T:$T,0),1))","v":""},{"$f":"IF(AA60=\"\",\"\",INDEX(referentes!$V:$W,MATCH(AA60,referentes!$W:$W,0),1))","v":""},{"$f":"IF(AC60=\"\",\"\",INDEX(referentes!$Y:$Z,MATCH(AC60,referentes!$Z:$Z,0),1))","v":""},{"$f":"IF(AH60=\"\",\"\",INDEX(referentes!$AE:$AF,MATCH(AH60,referentes!$AF:$AF,0),1))","v":""},{"$f":"IF(AK60=\"\",\"\",INDEX(referentes!$AH:$AI,MATCH(AK60,referentes!$AI:$AI,0),1))","v":""}]
["",{"$f":"IF( L61<>\"\", CONCATENATE(YEAR(G61),TEXT(G61,\"mmdd\"),DIGITADOR!$B$2,DATOS!K61,DIGITADOR!$M$1),\"\")","v":""},{"$f":"IF( L61<>\"\", IF(K61<>K60,CONCATENATE(YEAR(G61),TEXT(G61,\"mmdd\"),DIGITADOR!$B$2,DATOS!K61,DIGITADOR!$M$1),\"\"),\"\")","v":""},"",null,null,null,null,{"$f":"IF(J61=\"\",\"\",INDEX(referentes!$BA$2:$BB$131,MATCH(DATOS!J61,referentes!$BB$2:$BB$131,0),1))","v":""},null,{"$f":"IF(L61=\"\",\"\",INDEX([2]referentes!$AR:$AV,MATCH(L61,[2]referentes!$AS:$AS,0),1))","v":""},null,{"$f":"IF(L61=\"\",\"\",INDEX([2]referentes!$AR:$AV,MATCH(L61,[2]referentes!$AS:$AS,0),5))","v":""},null,null,null,{"$f":"IF(N61=\"\",\"\",INDEX('Otras referencias'!$A$6:$B$9,MATCH(DATOS!N61,'Otras referencias'!$B$6:$B$9,0),1))","v":""},{"$f":"IF(O61=\"\",\"\",INDEX(referentes!$G:$H,MATCH(O61,referentes!$H:$H,0),1))","v":""},null,null,null,null,null,null,null,null,null,null,null,null,{"$f":"IF(AF61<>\"\",INDEX(referentes!$AK$2:$AL$15,MATCH(DATOS!AF61,referentes!$AL$2:$AL$15,0),1),\"\")","v":""},null,null,null,null,null,null,null,null,null,null,null,{"$f":"IF(U61=\"\",\"\",INDEX(referentes!$J:$K,MATCH(U61,referentes!$K:$K,0),1))","v":""},{"$f":"IF(V61=\"\",\"\",INDEX(referentes!$M:$N,MATCH(V61,referentes!$N:$N,0),1))","v":""},{"$f":"IF(W61=\"\",\"\",INDEX(referentes!$P:$Q,MATCH(W61,referentes!$Q:$Q,0),1))","v":""},{"$f":"IF(Z61=\"\",\"\",INDEX(referentes!$S:$T,MATCH(Z61,referentes!$T:$T,0),1))","v":""},{"$f":"IF(AA61=\"\",\"\",INDEX(referentes!$V:$W,MATCH(AA61,referentes!$W:$W,0),1))","v":""},{"$f":"IF(AC61=\"\",\"\",INDEX(referentes!$Y:$Z,MATCH(AC61,referentes!$Z:$Z,0),1))","v":""},{"$f":"IF(AH61=\"\",\"\",INDEX(referentes!$AE:$AF,MATCH(AH61,referentes!$AF:$AF,0),1))","v":""},{"$f":"IF(AK61=\"\",\"\",INDEX(referentes!$AH:$AI,MATCH(AK61,referentes!$AI:$AI,0),1))","v":""}]
["",{"$f":"IF( L62<>\"\", CONCATENATE(YEAR(G62),TEXT(G62,\"mmdd\"),DIGITADOR!$B$2,DATOS!K62,DIGITADOR!$M$1),\"\")","v":""},{"$f":"IF( L62<>\"\", IF(K62<>K61,CONCATENATE(YEAR(G62),TEXT(G62,\"mmdd\"),DIGITADOR!$B$2,DATOS!K62,DIGITADOR!$M$1),\"\"),\"\")","v":""},"",null,null,null,null,{"$f":"IF(J62=\"\",\"\",INDEX(referentes!$BA$2:$BB$131,MATCH(DATOS!J62,referentes!$BB$2:$BB$131,0),1))","v":""},null,{"$f":"IF(L62=\"\",\"\",INDEX([2]referentes!$AR:$AV,MATCH(L62,[2]referentes!$AS:$AS,0),1))","v":""},null,{"$f":"IF(L62=\"\",\"\",INDEX([2]referentes!$AR:$AV,MATCH(L62,[2]referentes!$AS:$AS,0),5))","v":""},null,null,null,{"$f":"IF(N62=\"\",\"\",INDEX('Otras referencias'!$A$6:$B$9,MATCH(DATOS!N62,'Otras referencias'!$B$6:$B$9,0),1))","v":""},{"$f":"IF(O62=\"\",\"\",INDEX(referentes!$G:$H,MATCH(O62,referentes!$H:$H,0),1))","v":""},null,null,null,null,null,null,null,null,null,null,null,null,{"$f":"IF(AF62<>\"\",INDEX(referentes!$AK$2:$AL$15,MATCH(DATOS!AF62,referentes!$AL$2:$AL$15,0),1),\"\")","v":""},null,null,null,null,null,null,null,null,null,null,null,{"$f":"IF(U62=\"\",\"\",INDEX(referentes!$J:$K,MATCH(U62,referentes!$K:$K,0),1))","v":""},{"$f":"IF(V62=\"\",\"\",INDEX(referentes!$M:$N,MATCH(V62,referentes!$N:$N,0),1))","v":""},{"$f":"IF(W62=\"\",\"\",INDEX(referentes!$P:$Q,MATCH(W62,referentes!$Q:$Q,0),1))","v":""},{"$f":"IF(Z62=\"\",\"\",INDEX(referentes!$S:$T,MATCH(Z62,referentes!$T:$T,0),1))","v":""},{"$f":"IF(AA62=\"\",\"\",INDEX(referentes!$V:$W,MATCH(AA62,referentes!$W:$W,0),1))","v":""},{"$f":"IF(AC62=\"\",\"\",INDEX(referentes!$Y:$Z,MATCH(AC62,referentes!$Z:$Z,0),1))","v":""},{"$f":"IF(AH62=\"\",\"\",INDEX(referentes!$AE:$AF,MATCH(AH62,referentes!$AF:$AF,0),1))","v":""},{"$f":"IF(AK62=\"\",\"\",INDEX(referentes!$AH:$AI,MATCH(AK62,referentes!$AI:$AI,0),1))","v":""}]
["",{"$f":"IF( L63<>\"\", CONCATENATE(YEAR(G63),TEXT(G63,\"mmdd\"),DIGITADOR!$B$2,DATOS!K63,DIGITADOR!$M$1),\"\")","v":""},{"$f":"IF( L63<>\"\", IF(K63<>K62,CONCATENATE(YEAR(G63),TEXT(G63,\"mmdd\"),DIGITADOR!$B$2,DATOS!K63,DIGITADOR!$M$1),\"\"),\"\")","v":""},"",null,null,null,null,{"$f":"IF(J63=\"\",\"\",INDEX(referentes!$BA$2:$BB$131,MATCH(DATOS!J63,referentes!$BB$2:$BB$131,0),1))","v":""},null,{"$f":"IF(L63=\"\",\"\",INDEX([2]referentes!$AR:$AV,MATCH(L63,[2]referentes!$AS:$AS,0),1))","v":""},null,{"$f":"IF(L63=\"\",\"\",INDEX([2]referentes!$AR:$AV,MATCH(L63,[2]referentes!$AS:$AS,0),5))","v":""},null,null,null,{"$f":"IF(N63=\"\",\"\",INDEX('Otras referencias'!$A$6:$B$9,MATCH(DATOS!N63,'Otras referencias'!$B$6:$B$9,0),1))","v":""},{"$f":"IF(O63=\"\",\"\",INDEX(referentes!$G:$H,MATCH(O63,referentes!$H:$H,0),1))","v":""},null,null,null,null,null,null,null,null,null,null,null,null,{"$f":"IF(AF63<>\"\",INDEX(referentes!$AK$2:$AL$15,MATCH(DATOS!AF63,referentes!$AL$2:$AL$15,0),1),\"\")","v":""},null,null,null,null,null,null,null,null,null,null,null,{"$f":"IF(U63=\"\",\"\",INDEX(referentes!$J:$K,MATCH(U63,referentes!$K:$K,0),1))","v":""},{"$f":"IF(V63=\"\",\"\",INDEX(referentes!$M:$N,MATCH(V63,referentes!$N:$N,0),1))","v":""},{"$f":"IF(W63=\"\",\"\",INDEX(referentes!$P:$Q,MATCH(W63,referentes!$Q:$Q,0),1))","v":""},{"$f":"IF(Z63=\"\",\"\",INDEX(referentes!$S:$T,MATCH(Z63,referentes!$T:$T,0),1))","v":""},{"$f":"IF(AA63=\"\",\"\",INDEX(referentes!$V:$W,MATCH(AA63,referentes!$W:$W,0),1))","v":""},{"$f":"IF(AC63=\"\",\"\",INDEX(referentes!$Y:$Z,MATCH(AC63,referentes!$Z:$Z,0),1))","v":""},{"$f":"IF(AH63=\"\",\"\",INDEX(referentes!$AE:$AF,MATCH(AH63,referentes!$AF:$AF,0),1))","v":""},{"$f":"IF(AK63=\"\",\"\",INDEX(referentes!$AH:$AI,MATCH(AK63,referentes!$AI:$AI,0),1))","v":""}]
["",{"$f":"IF( L64<>\"\", CONCATENATE(YEAR(G64),TEXT(G64,\"mmdd\"),DIGITADOR!$B$2,DATOS!K64,DIGITADOR!$M$1),\"\")","v":""},{"$f":"IF( L64<>\"\", IF(K64<>K63,CONCATENATE(YEAR(G64),TEXT(G64,\"mmdd\"),DIGITADOR!$B$2,DATOS!K64,DIGITADOR!$M$1),\"\"),\"\")","v":""},"",null,null,null,null,{"$f":"IF(J64=\"\",\"\",INDEX(referentes!$BA$2:$BB$131,MATCH(DATOS!J64,referentes!$BB$2:$BB$131,0),1))","v":""},null,{"$f":"IF(L64=\"\",\"\",INDEX([2]referentes!$AR:$AV,MATCH(L64,[2]referentes!$AS:$AS,0),1))","v":""},null,{"$f":"IF(L64=\"\",\"\",INDEX([2]referentes!$AR:$AV,MATCH(L64,[2]referentes!$AS:$AS,0),5))","v":""},null,null,null,{"$f":"IF(N64=\"\",\"\",INDEX('Otras referencias'!$A$6:$B$9,MATCH(DATOS!N64,'Otras referencias'!$B$6:$B$9,0),1))","v":""},{"$f":"IF(O64=\"\",\"\",INDEX(referentes!$G:$H,MATCH(O64,referentes!$H:$H,0),1))","v":""},null,null,null,null,null,null,null,null,null,null,null,null,{"$f":"IF(AF64<>\"\",INDEX(referentes!$AK$2:$AL$15,MATCH(DATOS!AF64,referentes!$AL$2:$AL$15,0),1),\"\")","v":""},null,null,null,null,null,null,null,null,null,null,null,{"$f":"IF(U64=\"\",\"\",INDEX(referentes!$J:$K,MATCH(U64,referentes!$K:$K,0),1))","v":""},{"$f":"IF(V64=\"\",\"\",INDEX(referentes!$M:$N,MATCH(V64,referentes!$N:$N,0),1))","v":""},{"$f":"IF(W64=\"\",\"\",INDEX(referentes!$P:$Q,MATCH(W64,referentes!$Q:$Q,0),1))","v":""},{"$f":"IF(Z64=\"\",\"\",INDEX(referentes!$S:$T,MATCH(Z64,referentes!$T:$T,0),1))","v":""},{"$f":"IF(AA64=\"\",\"\",INDEX(referentes!$V:$W,MATCH(AA64,referentes!$W:$W,0),1))","v":""},{"$f":"IF(AC64=\"\",\"\",INDEX(referentes!$Y:$Z,MATCH(AC64,referentes!$Z:$Z,0),1))","v":""},{"$f":"IF(AH64=\"\",\"\",INDEX(referentes!$AE:$AF,MATCH(AH64,referentes!$AF:$AF,0),1))","v":""},{"$f":"IF(AK64=\"\",\"\",INDEX(referentes!$AH:$AI,MATCH(AK64,referentes!$AI:$AI,0),1))","v":""}]
["",{"$f":"IF( L65<>\"\", CONCATENATE(YEAR(G65),TEXT(G65,\"mmdd\"),DIGITADOR!$B$2,DATOS!K65,DIGITADOR!$M$1),\"\")","v":""},{"$f":"IF( L65<>\"\", IF(K65<>K64,CONCATENATE(YEAR(G65),TEXT(G65,\"mmdd\"),DIGITADOR!$B$2,DATOS!K65,DIGITADOR!$M$1),\"\"),\"\")","v":""},"",null,null,null,null,{"$f":"IF(J65=\"\",\"\",INDEX(referentes!$BA$2:$BB$131,MATCH(DATOS!J65,referentes!$BB$2:$BB$131,0),1))","v":""},null,{"$f":"IF(L65=\"\",\"\",INDEX([2]referentes!$AR:$AV,MATCH(L65,[2]referentes!$AS:$AS,0),1))","v":""},null,{"$f":"IF(L65=\"\",\"\",INDEX([2]referentes!$AR:$AV,MATCH(L65,[2]referentes!$AS:$AS,0),5))","v":""},null,null,null,{"$f":"IF(N65=\"\",\"\",INDEX('Otras referencias'!$A$6:$B$9,MATCH(DATOS!N65,'Otras referencias'!$B$6:$B$9,0),1))","v":""},{"$f":"IF(O65=\"\",\"\",INDEX(referentes!$G:$H,MATCH(O65,referentes!$H:$H,0),1))","v":""},null,null,null,null,null,null,null,null,null,null,null,null,{"$f":"IF(AF65<>\"\",INDEX(referentes!$AK$2:$AL$15,MATCH(DATOS!AF65,referentes!$AL$2:$AL$15,0),1),\"\")","v":""},null,null,null,null,null,null,null,null,null,null,null,{"$f":"IF(U65=\"\",\"\",INDEX(referentes!$J:$K,MATCH(U65,referentes!$K:$K,0),1))","v":""},{"$f":"IF(V65=\"\",\"\",INDEX(referentes!$M:$N,MATCH(V65,referentes!$N:$N,0),1))","v":""},{"$f":"IF(W65=\"\",\"\",INDEX(referentes!$P:$Q,MATCH(W65,referentes!$Q:$Q,0),1))","v":""},{"$f":"IF(Z65=\"\",\"\",INDEX(referentes!$S:$T,MATCH(Z65,referentes!$T:$T,0),1))","v":""},{"$f":"IF(AA65=\"\",\"\",INDEX(referentes!$V:$W,MATCH(AA65,referentes!$W:$W,0),1))","v":""},{"$f":"IF(AC65=\"\",\"\",INDEX(referentes!$Y:$Z,MATCH(AC65,referentes!$Z:$Z,0),1))","v":""},{"$f":"IF(AH65=\"\",\"\",INDEX(referentes!$AE:$AF,MATCH(AH65,referentes!$AF:$AF,0),1))","v":""},{"$f":"IF(AK65=\"\",\"\",INDEX(referentes!$AH:$AI,MATCH(AK65,referentes!$AI:$AI,0),1))","v":""}]
["",{"$f":"IF( L66<>\"\", CONCATENATE(YEAR(G66),TEXT(G66,\"mmdd\"),DIGITADOR!$B$2,DATOS!K66,DIGITADOR!$M$1),\"\")","v":""},{"$f":"IF( L66<>\"\", IF(K66<>K65,CONCATENATE(YEAR(G66),TEXT(G66,\"mmdd\"),DIGITADOR!$B$2,DATOS!K66,DIGITADOR!$M$1),\"\"),\"\")","v":""},"",null,null,null,null,{"$f":"IF(J66=\"\",\"\",INDEX(referentes!$BA$2:$BB$131,MATCH(DATOS!J66,referentes!$BB$2:$BB$131,0),1))","v":""},null,{"$f":"IF(L66=\"\",\"\",INDEX([2]referentes!$AR:$AV,MATCH(L66,[2]referentes!$AS:$AS,0),1))","v":""},null,{"$f":"IF(L66=\"\",\"\",INDEX([2]referentes!$AR:$AV,MATCH(L66,[2]referentes!$AS:$AS,0),5))","v":""},null,null,null,{"$f":"IF(N66=\"\",\"\",INDEX('Otras referencias'!$A$6:$B$9,MATCH(DATOS!N66,'Otras referencias'!$B$6:$B$9,0),1))","v":""},{"$f":"IF(O66=\"\",\"\",INDEX(referentes!$G:$H,MATCH(O66,referentes!$H:$H,0),1))","v":""},null,null,null,null,null,null,null,null,null,null,null,null,{"$f":"IF(AF66<>\"\",INDEX(referentes!$AK$2:$AL$15,MATCH(DATOS!AF66,referentes!$AL$2:$AL$15,0),1),\"\")","v":""},null,null,null,null,null,null,null,null,null,null,null,{"$f":"IF(U66=\"\",\"\",INDEX(referentes!$J:$K,MATCH(U66,referentes!$K:$K,0),1))","v":""},{"$f":"IF(V66=\"\",\"\",INDEX(referentes!$M:$N,MATCH(V66,referentes!$N:$N,0),1))","v":""},{"$f":"IF(W66=\"\",\"\",INDEX(referentes!$P:$Q,MATCH(W66,referentes!$Q:$Q,0),1))","v":""},{"$f":"IF(Z66=\"\",\"\",INDEX(referentes!$S:$T,MATCH(Z66,referentes!$T:$T,0),1))","v":""},{"$f":"IF(AA66=\"\",\"\",INDEX(referentes!$V:$W,MATCH(AA66,referentes!$W:$W,0),1))","v":""},{"$f":"IF(AC66=\"\",\"\",INDEX(referentes!$Y:$Z,MATCH(AC66,referentes!$Z:$Z,0),1))","v":""},{"$f":"IF(AH66=\"\",\"\",INDEX(referentes!$AE:$AF,MATCH(AH66,referentes!$AF:$AF,0),1))","v":""},{"$f":"IF(AK66=\"\",\"\",INDEX(referentes!$AH:$AI,MATCH(AK66,referentes!$AI:$AI,0),1))","v":""}]
["",{"$f":"IF( L67<>\"\", CONCATENATE(YEAR(G67),TEXT(G67,\"mmdd\"),DIGITADOR!$B$2,DATOS!K67,DIGITADOR!$M$1),\"\")","v":""},{"$f":"IF( L67<>\"\", IF(K67<>K66,CONCATENATE(YEAR(G67),TEXT(G67,\"mmdd\"),DIGITADOR!$B$2,DATOS!K67,DIGITADOR!$M$1),\"\"),\"\")","v":""},"",null,null,null,null,{"$f":"IF(J67=\"\",\"\",INDEX(referentes!$BA$2:$BB$131,MATCH(DATOS!J67,referentes!$BB$2:$BB$131,0),1))","v":""},null,{"$f":"IF(L67=\"\",\"\",INDEX([2]referentes!$AR:$AV,MATCH(L67,[2]referentes!$AS:$AS,0),1))","v":""},null,{"$f":"IF(L67=\"\",\"\",INDEX([2]referentes!$AR:$AV,MATCH(L67,[2]referentes!$AS:$AS,0),5))","v":""},null,null,null,{"$f":"IF(N67=\"\",\"\",INDEX('Otras referencias'!$A$6:$B$9,MATCH(DATOS!N67,'Otras referencias'!$B$6:$B$9,0),1))","v":""},{"$f":"IF(O67=\"\",\"\",INDEX(referentes!$G:$H,MATCH(O67,referentes!$H:$H,0),1))","v":""},null,null,null,null,null,null,null,null,null,null,null,null,{"$f":"IF(AF67<>\"\",INDEX(referentes!$AK$2:$AL$15,MATCH(DATOS!AF67,referentes!$AL$2:$AL$15,0),1),\"\")","v":""},null,null,null,null,null,null,null,null,null,null,null,{"$f":"IF(U67=\"\",\"\",INDEX(referentes!$J:$K,MATCH(U67,referentes!$K:$K,0),1))","v":""},{"$f":"IF(V67=\"\",\"\",INDEX(referentes!$M:$N,MATCH(V67,referentes!$N:$N,0),1))","v":""},{"$f":"IF(W67=\"\",\"\",INDEX(referentes!$P:$Q,MATCH(W67,referentes!$Q:$Q,0),1))","v":""},{"$f":"IF(Z67=\"\",\"\",INDEX(referentes!$S:$T,MATCH(Z67,referentes!$T:$T,0),1))","v":""},{"$f":"IF(AA67=\"\",\"\",INDEX(referentes!$V:$W,MATCH(AA67,referentes!$W:$W,0),1))","v":""},{"$f":"IF(AC67=\"\",\"\",INDEX(referentes!$Y:$Z,MATCH(AC67,referentes!$Z:$Z,0),1))","v":""},{"$f":"IF(AH67=\"\",\"\",INDEX(referentes!$AE:$AF,MATCH(AH67,referentes!$AF:$AF,0),1))","v":""},{"$f":"IF(AK67=\"\",\"\",INDEX(referentes!$AH:$AI,MATCH(AK67,referentes!$AI:$AI,0),1))","v":""}]
["",{"$f":"IF( L68<>\"\", CONCATENATE(YEAR(G68),TEXT(G68,\"mmdd\"),DIGITADOR!$B$2,DATOS!K68,DIGITADOR!$M$1),\"\")","v":""},{"$f":"IF( L68<>\"\", IF(K68<>K67,CONCATENATE(YEAR(G68),TEXT(G68,\"mmdd\"),DIGITADOR!$B$2,DATOS!K68,DIGITADOR!$M$1),\"\"),\"\")","v":""},"",null,null,null,null,{"$f":"IF(J68=\"\",\"\",INDEX(referentes!$BA$2:$BB$131,MATCH(DATOS!J68,referentes!$BB$2:$BB$131,0),1))","v":""},null,{"$f":"IF(L68=\"\",\"\",INDEX([2]referentes!$AR:$AV,MATCH(L68,[2]referentes!$AS:$AS,0),1))","v":""},null,{"$f":"IF(L68=\"\",\"\",INDEX([2]referentes!$AR:$AV,MATCH(L68,[2]referentes!$AS:$AS,0),5))","v":""},null,null,null,{"$f":"IF(N68=\"\",\"\",INDEX('Otras referencias'!$A$6:$B$9,MATCH(DATOS!N68,'Otras referencias'!$B$6:$B$9,0),1))","v":""},{"$f":"IF(O68=\"\",\"\",INDEX(referentes!$G:$H,MATCH(O68,referentes!$H:$H,0),1))","v":""},null,null,null,null,null,null,null,null,null,null,null,null,{"$f":"IF(AF68<>\"\",INDEX(referentes!$AK$2:$AL$15,MATCH(DATOS!AF68,referentes!$AL$2:$AL$15,0),1),\"\")","v":""},null,null,null,null,null,null,null,null,null,null,null,{"$f":"IF(U68=\"\",\"\",INDEX(referentes!$J:$K,MATCH(U68,referentes!$K:$K,0),1))","v":""},{"$f":"IF(V68=\"\",\"\",INDEX(referentes!$M:$N,MATCH(V68,referentes!$N:$N,0),1))","v":""},{"$f":"IF(W68=\"\",\"\",INDEX(referentes!$P:$Q,MATCH(W68,referentes!$Q:$Q,0),1))","v":""},{"$f":"IF(Z68=\"\",\"\",INDEX(referentes!$S:$T,MATCH(Z68,referentes!$T:$T,0),1))","v":""},{"$f":"IF(AA68=\"\",\"\",INDEX(referentes!$V:$W,MATCH(AA68,referentes!$W:$W,0),1))","v":""},{"$f":"IF(AC68=\"\",\"\",INDEX(referentes!$Y:$Z,MATCH(AC68,referentes!$Z:$Z,0),1))","v":""},{"$f":"IF(AH68=\"\",\"\",INDEX(referentes!$AE:$AF,MATCH(AH68,referentes!$AF:$AF,0),1))","v":""},{"$f":"IF(AK68=\"\",\"\",INDEX(referentes!$AH:$AI,MATCH(AK68,referentes!$AI:$AI,0),1))","v":""}]
["",{"$f":"IF( L69<>\"\", CONCATENATE(YEAR(G69),TEXT(G69,\"mmdd\"),DIGITADOR!$B$2,DATOS!K69,DIGITADOR!$M$1),\"\")","v":""},{"$f":"IF( L69<>\"\", IF(K69<>K68,CONCATENATE(YEAR(G69),TEXT(G69,\"mmdd\"),DIGITADOR!$B$2,DATOS!K69,DIGITADOR!$M$1),\"\"),\"\")","v":""},"",null,null,null,null,{"$f":"IF(J69=\"\",\"\",INDEX(referentes!$BA$2:$BB$131,MATCH(DATOS!J69,referentes!$BB$2:$BB$131,0),1))","v":""},null,{"$f":"IF(L69=\"\",\"\",INDEX([2]referentes!$AR:$AV,MATCH(L69,[2]referentes!$AS:$AS,0),1))","v":""},null,{"$f":"IF(L69=\"\",\"\",INDEX([2]referentes!$AR:$AV,MATCH(L69,[2]referentes!$AS:$AS,0),5))","v":""},null,null,null,{"$f":"IF(N69=\"\",\"\",INDEX('Otras referencias'!$A$6:$B$9,MATCH(DATOS!N69,'Otras referencias'!$B$6:$B$9,0),1))","v":""},{"$f":"IF(O69=\"\",\"\",INDEX(referentes!$G:$H,MATCH(O69,referentes!$H:$H,0),1))","v":""},null,null,null,null,null,null,null,null,null,null,null,null,{"$f":"IF(AF69<>\"\",INDEX(referentes!$AK$2:$AL$15,MATCH(DATOS!AF69,referentes!$AL$2:$AL$15,0),1),\"\")","v":""},null,null,null,null,null,null,null,null,null,null,null,{"$f":"IF(U69=\"\",\"\",INDEX(referentes!$J:$K,MATCH(U69,referentes!$K:$K,0),1))","v":""},{"$f":"IF(V69=\"\",\"\",INDEX(referentes!$M:$N,MATCH(V69,referentes!$N:$N,0),1))","v":""},{"$f":"IF(W69=\"\",\"\",INDEX(referentes!$P:$Q,MATCH(W69,referentes!$Q:$Q,0),1))","v":""},{"$f":"IF(Z69=\"\",\"\",INDEX(referentes!$S:$T,MATCH(Z69,referentes!$T:$T,0),1))","v":""},{"$f":"IF(AA69=\"\",\"\",INDEX(referentes!$V:$W,MATCH(AA69,referentes!$W:$W,0),1))","v":""},{"$f":"IF(AC69=\"\",\"\",INDEX(referentes!$Y:$Z,MATCH(AC69,referentes!$Z:$Z,0),1))","v":""},{"$f":"IF(AH69=\"\",\"\",INDEX(referentes!$AE:$AF,MATCH(AH69,referentes!$AF:$AF,0),1))","v":""},{"$f":"IF(AK69=\"\",\"\",INDEX(referentes!$AH:$AI,MATCH(AK69,referentes!$AI:$AI,0),1))","v":""}]
[{"$f":"IF(H70<>\"\",$A$2,\"\")","v":""},{"$f":"IF( L70<>\"\", CONCATENATE(YEAR(G70),TEXT(G70,\"mmdd\"),DIGITADOR!$B$2,DATOS!K70,DIGITADOR!$M$1),\"\")","v":""},{"$f":"IF( L70<>\"\", IF(K70<>K69,CONCATENATE(YEAR(G70),TEXT(G70,\"mmdd\"),DIGITADOR!$B$2,DATOS!K70,DIGITADOR!$M$1),\"\"),\"\")","v":""},{"$f":"IF(K70<>\"\",CONCATENATE(B70,ROW()),\"\")","v":""},null,null,null,null,{"$f":"IF(J70=\"\",\"\",INDEX(referentes!$BA$2:$BB$131,MATCH(DATOS!J70,referentes!$BB$2:$BB$131,0),1))","v":""},null,{"$f":"IF(L70=\"\",\"\",INDEX([2]referentes!$AR:$AV,MATCH(L70,[2]referentes!$AS:$AS,0),1))","v":""},null,{"$f":"IF(L70=\"\",\"\",INDEX([2]referentes!$AR:$AV,MATCH(L70,[2]referentes!$AS:$AS,0),5))","v":""},null,null,null,{"$f":"IF(N70=\"\",\"\",INDEX('Otras referencias'!$A$6:$B$9,MATCH(DATOS!N70,'Otras referencias'!$B$6:$B$9,0),1))","v":""},{"$f":"IF(O70=\"\",\"\",INDEX(referentes!$G:$H,MATCH(O70,referentes!$H:$H,0),1))","v":""},null,null,null,null,null,null,null,null,null,null,null,null,{"$f":"IF(AF70<>\"\",INDEX(referentes!$AK$2:$AL$15,MATCH(DATOS!AF70,referentes!$AL$2:$AL$15,0),1),\"\")","v":""},null,null,null,null,null,null,null,null,null,null,null,{"$f":"IF(U70=\"\",\"\",INDEX(referentes!$J:$K,MATCH(U70,referentes!$K:$K,0),1))","v":""},{"$f":"IF(V70=\"\",\"\",INDEX(referentes!$M:$N,MATCH(V70,referentes!$N:$N,0),1))","v":""},{"$f":"IF(W70=\"\",\"\",INDEX(referentes!$P:$Q,MATCH(W70,referentes!$Q:$Q,0),1))","v":""},{"$f":"IF(Z70=\"\",\"\",INDEX(referentes!$S:$T,MATCH(Z70,referentes!$T:$T,0),1))","v":""},{"$f":"IF(AA70=\"\",\"\",INDEX(referentes!$V:$W,MATCH(AA70,referentes!$W:$W,0),1))","v":""},{"$f":"IF(AC70=\"\",\"\",INDEX(referentes!$Y:$Z,MATCH(AC70,referentes!$Z:$Z,0),1))","v":""},{"$f":"IF(AH70=\"\",\"\",INDEX(referentes!$AE:$AF,MATCH(AH70,referentes!$AF:$AF,0),1))","v":""},{"$f":"IF(AK70=\"\",\"\",INDEX(referentes!$AH:$AI,MATCH(AK70,referentes!$AI:$AI,0),1))","v":""}]
["",{"$f":"IF( L71<>\"\", CONCATENATE(YEAR(G71),TEXT(G71,\"mmdd\"),DIGITADOR!$B$2,DATOS!K71,DIGITADOR!$M$1),\"\")","v":""},{"$f":"IF( L71<>\"\", IF(K71<>K70,CONCATENATE(YEAR(G71),TEXT(G71,\"mmdd\"),DIGITADOR!$B$2,DATOS!K71,DIGITADOR!$M$1),\"\"),\"\")","v":""},"",null,null,null,null,{"$f":"IF(J71=\"\",\"\",INDEX(referentes!$BA$2:$BB$131,MATCH(DATOS!J71,referentes!$BB$2:$BB$131,0),1))","v":""},null,{"$f":"IF(L71=\"\",\"\",INDEX([2]referentes!$AR:$AV,MATCH(L71,[2]referentes!$AS:$AS,0),1))","v":""},null,{"$f":"IF(L71=\"\",\"\",INDEX([2]referentes!$AR:$AV,MATCH(L71,[2]referentes!$AS:$AS,0),5))","v":""},null,null,null,{"$f":"IF(N71=\"\",\"\",INDEX('Otras referencias'!$A$6:$B$9,MATCH(DATOS!N71,'Otras referencias'!$B$6:$B$9,0),1))","v":""},{"$f":"IF(O71=\"\",\"\",INDEX(referentes!$G:$H,MATCH(O71,referentes!$H:$H,0),1))","v":""},null,null,null,null,null,null,null,null,null,null,null,null,{"$f":"IF(AF71<>\"\",INDEX(referentes!$AK$2:$AL$15,MATCH(DATOS!AF71,referentes!$AL$2:$AL$15,0),1),\"\")","v":""},null,null,null,null,null,null,null,null,null,null,null,{"$f":"IF(U71=\"\",\"\",INDEX(referentes!$J:$K,MATCH(U71,referentes!$K:$K,0),1))","v":""},{"$f":"IF(V71=\"\",\"\",INDEX(referentes!$M:$N,MATCH(V71,referentes!$N:$N,0),1))","v":""},{"$f":"IF(W71=\"\",\"\",INDEX(referentes!$P:$Q,MATCH(W71,referentes!$Q:$Q,0),1))","v":""},{"$f":"IF(Z71=\"\",\"\",INDEX(referentes!$S:$T,MATCH(Z71,referentes!$T:$T,0),1))","v":""},{"$f":"IF(AA71=\"\",\"\",INDEX(referentes!$V:$W,MATCH(AA71,referentes!$W:$W,0),1))","v":""},{"$f":"IF(AC71=\"\",\"\",INDEX(referentes!$Y:$Z,MATCH(AC71,referentes!$Z:$Z,0),1))","v":""},{"$f":"IF(AH71=\"\",\"\",INDEX(referentes!$AE:$AF,MATCH(AH71,referentes!$AF:$AF,0),1))","v":""},{"$f":"IF(AK71=\"\",\"\",INDEX(referentes!$AH:$AI,MATCH(AK71,referentes!$AI:$AI,0),1))","v":""}]
["",{"$f":"IF( L72<>\"\", CONCATENATE(YEAR(G72),TEXT(G72,\"mmdd\"),DIGITADOR!$B$2,DATOS!K72,DIGITADOR!$M$1),\"\")","v":""},{"$f":"IF( L72<>\"\", IF(K72<>K71,CONCATENATE(YEAR(G72),TEXT(G72,\"mmdd\"),DIGITADOR!$B$2,DATOS!K72,DIGITADOR!$M$1),\"\"),\"\")","v":""},"",null,null,null,null,{"$f":"IF(J72=\"\",\"\",INDEX(referentes!$BA$2:$BB$131,MATCH(DATOS!J72,referentes!$BB$2:$BB$131,0),1))","v":""},null,{"$f":"IF(L72=\"\",\"\",INDEX([2]referentes!$AR:$AV,MATCH(L72,[2]referentes!$AS:$AS,0),1))","v":""},null,{"$f":"IF(L72=\"\",\"\",INDEX([2]referentes!$AR:$AV,MATCH(L72,[2]referentes!$AS:$AS,0),5))","v":""},null,null,null,{"$f":"IF(N72=\"\",\"\",INDEX('Otras referencias'!$A$6:$B$9,MATCH(DATOS!N72,'Otras referencias'!$B$6:$B$9,0),1))","v":""},{"$f":"IF(O72=\"\",\"\",INDEX(referentes!$G:$H,MATCH(O72,referentes!$H:$H,0),1))","v":""},null,null,null,null,null,null,null,null,null,null,null,null,{"$f":"IF(AF72<>\"\",INDEX(referentes!$AK$2:$AL$15,MATCH(DATOS!AF72,referentes!$AL$2:$AL$15,0),1),\"\")","v":""},null,null,null,null,null,null,null,null,null,null,null,{"$f":"IF(U72=\"\",\"\",INDEX(referentes!$J:$K,MATCH(U72,referentes!$K:$K,0),1))","v":""},{"$f":"IF(V72=\"\",\"\",INDEX(referentes!$M:$N,MATCH(V72,referentes!$N:$N,0),1))","v":""},{"$f":"IF(W72=\"\",\"\",INDEX(referentes!$P:$Q,MATCH(W72,referentes!$Q:$Q,0),1))","v":""},{"$f":"IF(Z72=\"\",\"\",INDEX(referentes!$S:$T,MATCH(Z72,referentes!$T:$T,0),1))","v":""},{"$f":"IF(AA72=\"\",\"\",INDEX(referentes!$V:$W,MATCH(AA72,referentes!$W:$W,0),1))","v":""},{"$f":"IF(AC72=\"\",\"\",INDEX(referentes!$Y:$Z,MATCH(AC72,referentes!$Z:$Z,0),1))","v":""},{"$f":"IF(AH72=\"\",\"\",INDEX(referentes!$AE:$AF,MATCH(AH72,referentes!$AF:$AF,0),1))","v":""},{"$f":"IF(AK72=\"\",\"\",INDEX(referentes!$AH:$AI,MATCH(AK72,referentes!$AI:$AI,0),1))","v":""}]
["",{"$f":"IF( L73<>\"\", CONCATENATE(YEAR(G73),TEXT(G73,\"mmdd\"),DIGITADOR!$B$2,DATOS!K73,DIGITADOR!$M$1),\"\")","v":""},{"$f":"IF( L73<>\"\", IF(K73<>K72,CONCATENATE(YEAR(G73),TEXT(G73,\"mmdd\"),DIGITADOR!$B$2,DATOS!K73,DIGITADOR!$M$1),\"\"),\"\")","v":""},"",null,null,null,null,{"$f":"IF(J73=\"\",\"\",INDEX(referentes!$BA$2:$BB$131,MATCH(DATOS!J73,referentes!$BB$2:$BB$131,0),1))","v":""},null,{"$f":"IF(L73=\"\",\"\",INDEX([2]referentes!$AR:$AV,MATCH(L73,[2]referentes!$AS:$AS,0),1))","v":""},null,{"$f":"IF(L73=\"\",\"\",INDEX([2]referentes!$AR:$AV,MATCH(L73,[2]referentes!$AS:$AS,0),5))","v":""},null,null,null,{"$f":"IF(N73=\"\",\"\",INDEX('Otras referencias'!$A$6:$B$9,MATCH(DATOS!N73,'Otras referencias'!$B$6:$B$9,0),1))","v":""},{"$f":"IF(O73=\"\",\"\",INDEX(referentes!$G:$H,MATCH(O73,referentes!$H:$H,0),1))","v":""},null,null,null,null,null,null,null,null,null,null,null,null,{"$f":"IF(AF73<>\"\",INDEX(referentes!$AK$2:$AL$15,MATCH(DATOS!AF73,referentes!$AL$2:$AL$15,0),1),\"\")","v":""},null,null,null,null,null,null,null,null,null,null,null,{"$f":"IF(U73=\"\",\"\",INDEX(referentes!$J:$K,MATCH(U73,referentes!$K:$K,0),1))","v":""},{"$f":"IF(V73=\"\",\"\",INDEX(referentes!$M:$N,MATCH(V73,referentes!$N:$N,0),1))","v":""},{"$f":"IF(W73=\"\",\"\",INDEX(referentes!$P:$Q,MATCH(W73,referentes!$Q:$Q,0),1))","v":""},{"$f":"IF(Z73=\"\",\"\",INDEX(referentes!$S:$T,MATCH(Z73,referentes!$T:$T,0),1))","v":""},{"$f":"IF(AA73=\"\",\"\",INDEX(referentes!$V:$W,MATCH(AA73,referentes!$W:$W,0),1))","v":""},{"$f":"IF(AC73=\"\",\"\",INDEX(referentes!$Y:$Z,MATCH(AC73,referentes!$Z:$Z,0),1))","v":""},{"$f":"IF(AH73=\"\",\"\",INDEX(referentes!$AE:$AF,MATCH(AH73,referentes!$AF:$AF,0),1))","v":""},{"$f":"IF(AK73=\"\",\"\",INDEX(referentes!$AH:$AI,MATCH(AK73,referentes!$AI:$AI,0),1))","v":""}]
["",{"$f":"IF( L74<>\"\", CONCATENATE(YEAR(G74),TEXT(G74,\"mmdd\"),DIGITADOR!$B$2,DATOS!K74,DIGITADOR!$M$1),\"\")","v":""},{"$f":"IF( L74<>\"\", IF(K74<>K73,CONCATENATE(YEAR(G74),TEXT(G74,\"mmdd\"),DIGITADOR!$B$2,DATOS!K74,DIGITADOR!$M$1),\"\"),\"\")","v":""},"",null,null,null,null,{"$f":"IF(J74=\"\",\"\",INDEX(referentes!$BA$2:$BB$131,MATCH(DATOS!J74,referentes!$BB$2:$BB$131,0),1))","v":""},null,{"$f":"IF(L74=\"\",\"\",INDEX([2]referentes!$AR:$AV,MATCH(L74,[2]referentes!$AS:$AS,0),1))","v":""},null,{"$f":"IF(L74=\"\",\"\",INDEX([2]referentes!$AR:$AV,MATCH(L74,[2]referentes!$AS:$AS,0),5))","v":""},null,null,null,{"$f":"IF(N74=\"\",\"\",INDEX('Otras referencias'!$A$6:$B$9,MATCH(DATOS!N74,'Otras referencias'!$B$6:$B$9,0),1))","v":""},{"$f":"IF(O74=\"\",\"\",INDEX(referentes!$G:$H,MATCH(O74,referentes!$H:$H,0),1))","v":""},null,null,null,null,null,null,null,null,null,null,null,null,{"$f":"IF(AF74<>\"\",INDEX(referentes!$AK$2:$AL$15,MATCH(DATOS!AF74,referentes!$AL$2:$AL$15,0),1),\"\")","v":""},null,null,null,null,null,null,null,null,null,null,null,{"$f":"IF(U74=\"\",\"\",INDEX(referentes!$J:$K,MATCH(U74,referentes!$K:$K,0),1))","v":""},{"$f":"IF(V74=\"\",\"\",INDEX(referentes!$M:$N,MATCH(V74,referentes!$N:$N,0),1))","v":""},{"$f":"IF(W74=\"\",\"\",INDEX(referentes!$P:$Q,MATCH(W74,referentes!$Q:$Q,0),1))","v":""},{"$f":"IF(Z74=\"\",\"\",INDEX(referentes!$S:$T,MATCH(Z74,referentes!$T:$T,0),1))","v":""},{"$f":"IF(AA74=\"\",\"\",INDEX(referentes!$V:$W,MATCH(AA74,referentes!$W:$W,0),1))","v":""},{"$f":"IF(AC74=\"\",\"\",INDEX(referentes!$Y:$Z,MATCH(AC74,referentes!$Z:$Z,0),1))","v":""},{"$f":"IF(AH74=\"\",\"\",INDEX(referentes!$AE:$AF,MATCH(AH74,referentes!$AF:$AF,0),1))","v":""},{"$f":"IF(AK74=\"\",\"\",INDEX(referentes!$AH:$AI,MATCH(AK74,referentes!$AI:$AI,0),1))","v":""}]
["",{"$f":"IF( L75<>\"\", CONCATENATE(YEAR(G75),TEXT(G75,\"mmdd\"),DIGITADOR!$B$2,DATOS!K75,DIGITADOR!$M$1),\"\")","v":""},{"$f":"IF( L75<>\"\", IF(K75<>K74,CONCATENATE(YEAR(G75),TEXT(G75,\"mmdd\"),DIGITADOR!$B$2,DATOS!K75,DIGITADOR!$M$1),\"\"),\"\")","v":""},"",null,null,null,null,{"$f":"IF(J75=\"\",\"\",INDEX(referentes!$BA$2:$BB$131,MATCH(DATOS!J75,referentes!$BB$2:$BB$131,0),1))","v":""},null,{"$f":"IF(L75=\"\",\"\",INDEX([2]referentes!$AR:$AV,MATCH(L75,[2]referentes!$AS:$AS,0),1))","v":""},null,{"$f":"IF(L75=\"\",\"\",INDEX([2]referentes!$AR:$AV,MATCH(L75,[2]referentes!$AS:$AS,0),5))","v":""},null,null,null,{"$f":"IF(N75=\"\",\"\",INDEX('Otras referencias'!$A$6:$B$9,MATCH(DATOS!N75,'Otras referencias'!$B$6:$B$9,0),1))","v":""},{"$f":"IF(O75=\"\",\"\",INDEX(referentes!$G:$H,MATCH(O75,referentes!$H:$H,0),1))","v":""},null,null,null,null,null,null,null,null,null,null,null,null,{"$f":"IF(AF75<>\"\",INDEX(referentes!$AK$2:$AL$15,MATCH(DATOS!AF75,referentes!$AL$2:$AL$15,0),1),\"\")","v":""},null,null,null,null,null,null,null,null,null,null,null,{"$f":"IF(U75=\"\",\"\",INDEX(referentes!$J:$K,MATCH(U75,referentes!$K:$K,0),1))","v":""},{"$f":"IF(V75=\"\",\"\",INDEX(referentes!$M:$N,MATCH(V75,referentes!$N:$N,0),1))","v":""},{"$f":"IF(W75=\"\",\"\",INDEX(referentes!$P:$Q,MATCH(W75,referentes!$Q:$Q,0),1))","v":""},{"$f":"IF(Z75=\"\",\"\",INDEX(referentes!$S:$T,MATCH(Z75,referentes!$T:$T,0),1))","v":""},{"$f":"IF(AA75=\"\",\"\",INDEX(referentes!$V:$W,MATCH(AA75,referentes!$W:$W,0),1))","v":""},{"$f":"IF(AC75=\"\",\"\",INDEX(referentes!$Y:$Z,MATCH(AC75,referentes!$Z:$Z,0),1))","v":""},{"$f":"IF(AH75=\"\",\"\",INDEX(referentes!$AE:$AF,MATCH(AH75,referentes!$AF:$AF,0),1))","v":""},{"$f":"IF(AK75=\"\",\"\",INDEX(referentes!$AH:$AI,MATCH(AK75,referentes!$AI:$AI,0),1))","v":""}]
["",{"$f":"IF( L76<>\"\", CONCATENATE(YEAR(G76),TEXT(G76,\"mmdd\"),DIGITADOR!$B$2,DATOS!K76,DIGITADOR!$M$1),\"\")","v":""},{"$f":"IF( L76<>\"\", IF(K76<>K75,CONCATENATE(YEAR(G76),TEXT(G76,\"mmdd\"),DIGITADOR!$B$2,DATOS!K76,DIGITADOR!$M$1),\"\"),\"\")","v":""},"",null,null,null,null,{"$f":"IF(J76=\"\",\"\",INDEX(referentes!$BA$2:$BB$131,MATCH(DATOS!J76,referentes!$BB$2:$BB$131,0),1))","v":""},null,{"$f":"IF(L76=\"\",\"\",INDEX([2]referentes!$AR:$AV,MATCH(L76,[2]referentes!$AS:$AS,0),1))","v":""},null,{"$f":"IF(L76=\"\",\"\",INDEX([2]referentes!$AR:$AV,MATCH(L76,[2]referentes!$AS:$AS,0),5))","v":""},null,null,null,{"$f":"IF(N76=\"\",\"\",INDEX('Otras referencias'!$A$6:$B$9,MATCH(DATOS!N76,'Otras referencias'!$B$6:$B$9,0),1))","v":""},{"$f":"IF(O76=\"\",\"\",INDEX(referentes!$G:$H,MATCH(O76,referentes!$H:$H,0),1))","v":""},null,null,null,null,null,null,null,null,null,null,null,null,{"$f":"IF(AF76<>\"\",INDEX(referentes!$AK$2:$AL$15,MATCH(DATOS!AF76,referentes!$AL$2:$AL$15,0),1),\"\")","v":""},null,null,null,null,null,null,null,null,null,null,null,{"$f":"IF(U76=\"\",\"\",INDEX(referentes!$J:$K,MATCH(U76,referentes!$K:$K,0),1))","v":""},{"$f":"IF(V76=\"\",\"\",INDEX(referentes!$M:$N,MATCH(V76,referentes!$N:$N,0),1))","v":""},{"$f":"IF(W76=\"\",\"\",INDEX(referentes!$P:$Q,MATCH(W76,referentes!$Q:$Q,0),1))","v":""},{"$f":"IF(Z76=\"\",\"\",INDEX(referentes!$S:$T,MATCH(Z76,referentes!$T:$T,0),1))","v":""},{"$f":"IF(AA76=\"\",\"\",INDEX(referentes!$V:$W,MATCH(AA76,referentes!$W:$W,0),1))","v":""},{"$f":"IF(AC76=\"\",\"\",INDEX(referentes!$Y:$Z,MATCH(AC76,referentes!$Z:$Z,0),1))","v":""},{"$f":"IF(AH76=\"\",\"\",INDEX(referentes!$AE:$AF,MATCH(AH76,referentes!$AF:$AF,0),1))","v":""},{"$f":"IF(AK76=\"\",\"\",INDEX(referentes!$AH:$AI,MATCH(AK76,referentes!$AI:$AI,0),1))","v":""}]
["",{"$f":"IF( L77<>\"\", CONCATENATE(YEAR(G77),TEXT(G77,\"mmdd\"),DIGITADOR!$B$2,DATOS!K77,DIGITADOR!$M$1),\"\")","v":""},{"$f":"IF( L77<>\"\", IF(K77<>K76,CONCATENATE(YEAR(G77),TEXT(G77,\"mmdd\"),DIGITADOR!$B$2,DATOS!K77,DIGITADOR!$M$1),\"\"),\"\")","v":""},"",null,null,null,null,{"$f":"IF(J77=\"\",\"\",INDEX(referentes!$BA$2:$BB$131,MATCH(DATOS!J77,referentes!$BB$2:$BB$131,0),1))","v":""},null,{"$f":"IF(L77=\"\",\"\",INDEX([2]referentes!$AR:$AV,MATCH(L77,[2]referentes!$AS:$AS,0),1))","v":""},null,{"$f":"IF(L77=\"\",\"\",INDEX([2]referentes!$AR:$AV,MATCH(L77,[2]referentes!$AS:$AS,0),5))","v":""},null,null,null,{"$f":"IF(N77=\"\",\"\",INDEX('Otras referencias'!$A$6:$B$9,MATCH(DATOS!N77,'Otras referencias'!$B$6:$B$9,0),1))","v":""},{"$f":"IF(O77=\"\",\"\",INDEX(referentes!$G:$H,MATCH(O77,referentes!$H:$H,0),1))","v":""},null,null,null,null,null,null,null,null,null,null,null,null,{"$f":"IF(AF77<>\"\",INDEX(referentes!$AK$2:$AL$15,MATCH(DATOS!AF77,referentes!$AL$2:$AL$15,0),1),\"\")","v":""},null,null,null,null,null,null,null,null,null,null,null,{"$f":"IF(U77=\"\",\"\",INDEX(referentes!$J:$K,MATCH(U77,referentes!$K:$K,0),1))","v":""},{"$f":"IF(V77=\"\",\"\",INDEX(referentes!$M:$N,MATCH(V77,referentes!$N:$N,0),1))","v":""},{"$f":"IF(W77=\"\",\"\",INDEX(referentes!$P:$Q,MATCH(W77,referentes!$Q:$Q,0),1))","v":""},{"$f":"IF(Z77=\"\",\"\",INDEX(referentes!$S:$T,MATCH(Z77,referentes!$T:$T,0),1))","v":""},{"$f":"IF(AA77=\"\",\"\",INDEX(referentes!$V:$W,MATCH(AA77,referentes!$W:$W,0),1))","v":""},{"$f":"IF(AC77=\"\",\"\",INDEX(referentes!$Y:$Z,MATCH(AC77,referentes!$Z:$Z,0),1))","v":""},{"$f":"IF(AH77=\"\",\"\",INDEX(referentes!$AE:$AF,MATCH(AH77,referentes!$AF:$AF,0),1))","v":""},{"$f":"IF(AK77=\"\",\"\",INDEX(referentes!$AH:$AI,MATCH(AK77,referentes!$AI:$AI,0),1))","v":""}]
["",{"$f":"IF( L78<>\"\", CONCATENATE(YEAR(G78),TEXT(G78,\"mmdd\"),DIGITADOR!$B$2,DATOS!K78,DIGITADOR!$M$1),\"\")","v":""},{"$f":"IF( L78<>\"\", IF(K78<>K77,CONCATENATE(YEAR(G78),TEXT(G78,\"mmdd\"),DIGITADOR!$B$2,DATOS!K78,DIGITADOR!$M$1),\"\"),\"\")","v":""},"",null,null,null,null,{"$f":"IF(J78=\"\",\"\",INDEX(referentes!$BA$2:$BB$131,MATCH(DATOS!J78,referentes!$BB$2:$BB$131,0),1))","v":""},null,{"$f":"IF(L78=\"\",\"\",INDEX([2]referentes!$AR:$AV,MATCH(L78,[2]referentes!$AS:$AS,0),1))","v":""},null,{"$f":"IF(L78=\"\",\"\",INDEX([2]referentes!$AR:$AV,MATCH(L78,[2]referentes!$AS:$AS,0),5))","v":""},null,null,null,{"$f":"IF(N78=\"\",\"\",INDEX('Otras referencias'!$A$6:$B$9,MATCH(DATOS!N78,'Otras referencias'!$B$6:$B$9,0),1))","v":""},{"$f":"IF(O78=\"\",\"\",INDEX(referentes!$G:$H,MATCH(O78,referentes!$H:$H,0),1))","v":""},null,null,null,null,null,null,null,null,null,null,null,null,{"$f":"IF(AF78<>\"\",INDEX(referentes!$AK$2:$AL$15,MATCH(DATOS!AF78,referentes!$AL$2:$AL$15,0),1),\"\")","v":""},null,null,null,null,null,null,null,null,null,null,null,{"$f":"IF(U78=\"\",\"\",INDEX(referentes!$J:$K,MATCH(U78,referentes!$K:$K,0),1))","v":""},{"$f":"IF(V78=\"\",\"\",INDEX(referentes!$M:$N,MATCH(V78,referentes!$N:$N,0),1))","v":""},{"$f":"IF(W78=\"\",\"\",INDEX(referentes!$P:$Q,MATCH(W78,referentes!$Q:$Q,0),1))","v":""},{"$f":"IF(Z78=\"\",\"\",INDEX(referentes!$S:$T,MATCH(Z78,referentes!$T:$T,0),1))","v":""},{"$f":"IF(AA78=\"\",\"\",INDEX(referentes!$V:$W,MATCH(AA78,referentes!$W:$W,0),1))","v":""},{"$f":"IF(AC78=\"\",\"\",INDEX(referentes!$Y:$Z,MATCH(AC78,referentes!$Z:$Z,0),1))","v":""},{"$f":"IF(AH78=\"\",\"\",INDEX(referentes!$AE:$AF,MATCH(AH78,referentes!$AF:$AF,0),1))","v":""},{"$f":"IF(AK78=\"\",\"\",INDEX(referentes!$AH:$AI,MATCH(AK78,referentes!$AI:$AI,0),1))","v":""}]
["",{"$f":"IF( L79<>\"\", CONCATENATE(YEAR(G79),TEXT(G79,\"mmdd\"),DIGITADOR!$B$2,DATOS!K79,DIGITADOR!$M$1),\"\")","v":""},{"$f":"IF( L79<>\"\", IF(K79<>K78,CONCATENATE(YEAR(G79),TEXT(G79,\"mmdd\"),DIGITADOR!$B$2,DATOS!K79,DIGITADOR!$M$1),\"\"),\"\")","v":""},"",null,null,null,null,{"$f":"IF(J79=\"\",\"\",INDEX(referentes!$BA$2:$BB$131,MATCH(DATOS!J79,referentes!$BB$2:$BB$131,0),1))","v":""},null,{"$f":"IF(L79=\"\",\"\",INDEX([2]referentes!$AR:$AV,MATCH(L79,[2]referentes!$AS:$AS,0),1))","v":""},null,{"$f":"IF(L79=\"\",\"\",INDEX([2]referentes!$AR:$AV,MATCH(L79,[2]referentes!$AS:$AS,0),5))","v":""},null,null,null,{"$f":"IF(N79=\"\",\"\",INDEX('Otras referencias'!$A$6:$B$9,MATCH(DATOS!N79,'Otras referencias'!$B$6:$B$9,0),1))","v":""},{"$f":"IF(O79=\"\",\"\",INDEX(referentes!$G:$H,MATCH(O79,referentes!$H:$H,0),1))","v":""},null,null,null,null,null,null,null,null,null,null,null,null,{"$f":"IF(AF79<>\"\",INDEX(referentes!$AK$2:$AL$15,MATCH(DATOS!AF79,referentes!$AL$2:$AL$15,0),1),\"\")","v":""},null,null,null,null,null,null,null,null,null,null,null,{"$f":"IF(U79=\"\",\"\",INDEX(referentes!$J:$K,MATCH(U79,referentes!$K:$K,0),1))","v":""},{"$f":"IF(V79=\"\",\"\",INDEX(referentes!$M:$N,MATCH(V79,referentes!$N:$N,0),1))","v":""},{"$f":"IF(W79=\"\",\"\",INDEX(referentes!$P:$Q,MATCH(W79,referentes!$Q:$Q,0),1))","v":""},{"$f":"IF(Z79=\"\",\"\",INDEX(referentes!$S:$T,MATCH(Z79,referentes!$T:$T,0),1))","v":""},{"$f":"IF(AA79=\"\",\"\",INDEX(referentes!$V:$W,MATCH(AA79,referentes!$W:$W,0),1))","v":""},{"$f":"IF(AC79=\"\",\"\",INDEX(referentes!$Y:$Z,MATCH(AC79,referentes!$Z:$Z,0),1))","v":""},{"$f":"IF(AH79=\"\",\"\",INDEX(referentes!$AE:$AF,MATCH(AH79,referentes!$AF:$AF,0),1))","v":""},{"$f":"IF(AK79=\"\",\"\",INDEX(referentes!$AH:$AI,MATCH(AK79,referentes!$AI:$AI,0),1))","v":""}]
["",{"$f":"IF( L80<>\"\", CONCATENATE(YEAR(G80),TEXT(G80,\"mmdd\"),DIGITADOR!$B$2,DATOS!K80,DIGITADOR!$M$1),\"\")","v":""},{"$f":"IF( L80<>\"\", IF(K80<>K79,CONCATENATE(YEAR(G80),TEXT(G80,\"mmdd\"),DIGITADOR!$B$2,DATOS!K80,DIGITADOR!$M$1),\"\"),\"\")","v":""},"",null,null,null,null,{"$f":"IF(J80=\"\",\"\",INDEX(referentes!$BA$2:$BB$131,MATCH(DATOS!J80,referentes!$BB$2:$BB$131,0),1))","v":""},null,{"$f":"IF(L80=\"\",\"\",INDEX([2]referentes!$AR:$AV,MATCH(L80,[2]referentes!$AS:$AS,0),1))","v":""},null,{"$f":"IF(L80=\"\",\"\",INDEX([2]referentes!$AR:$AV,MATCH(L80,[2]referentes!$AS:$AS,0),5))","v":""},null,null,null,{"$f":"IF(N80=\"\",\"\",INDEX('Otras referencias'!$A$6:$B$9,MATCH(DATOS!N80,'Otras referencias'!$B$6:$B$9,0),1))","v":""},{"$f":"IF(O80=\"\",\"\",INDEX(referentes!$G:$H,MATCH(O80,referentes!$H:$H,0),1))","v":""},null,null,null,null,null,null,null,null,null,null,null,null,{"$f":"IF(AF80<>\"\",INDEX(referentes!$AK$2:$AL$15,MATCH(DATOS!AF80,referentes!$AL$2:$AL$15,0),1),\"\")","v":""},null,null,null,null,null,null,null,null,null,null,null,{"$f":"IF(U80=\"\",\"\",INDEX(referentes!$J:$K,MATCH(U80,referentes!$K:$K,0),1))","v":""},{"$f":"IF(V80=\"\",\"\",INDEX(referentes!$M:$N,MATCH(V80,referentes!$N:$N,0),1))","v":""},{"$f":"IF(W80=\"\",\"\",INDEX(referentes!$P:$Q,MATCH(W80,referentes!$Q:$Q,0),1))","v":""},{"$f":"IF(Z80=\"\",\"\",INDEX(referentes!$S:$T,MATCH(Z80,referentes!$T:$T,0),1))","v":""},{"$f":"IF(AA80=\"\",\"\",INDEX(referentes!$V:$W,MATCH(AA80,referentes!$W:$W,0),1))","v":""},{"$f":"IF(AC80=\"\",\"\",INDEX(referentes!$Y:$Z,MATCH(AC80,referentes!$Z:$Z,0),1))","v":""},{"$f":"IF(AH80=\"\",\"\",INDEX(referentes!$AE:$AF,MATCH(AH80,referentes!$AF:$AF,0),1))","v":""},{"$f":"IF(AK80=\"\",\"\",INDEX(referentes!$AH:$AI,MATCH(AK80,referentes!$AI:$AI,0),1))","v":""}]
["",{"$f":"IF( L81<>\"\", CONCATENATE(YEAR(G81),TEXT(G81,\"mmdd\"),DIGITADOR!$B$2,DATOS!K81,DIGITADOR!$M$1),\"\")","v":""},{"$f":"IF( L81<>\"\", IF(K81<>K80,CONCATENATE(YEAR(G81),TEXT(G81,\"mmdd\"),DIGITADOR!$B$2,DATOS!K81,DIGITADOR!$M$1),\"\"),\"\")","v":""},"",null,null,null,null,{"$f":"IF(J81=\"\",\"\",INDEX(referentes!$BA$2:$BB$131,MATCH(DATOS!J81,referentes!$BB$2:$BB$131,0),1))","v":""},null,{"$f":"IF(L81=\"\",\"\",INDEX([2]referentes!$AR:$AV,MATCH(L81,[2]referentes!$AS:$AS,0),1))","v":""},null,{"$f":"IF(L81=\"\",\"\",INDEX([2]referentes!$AR:$AV,MATCH(L81,[2]referentes!$AS:$AS,0),5))","v":""},null,null,null,{"$f":"IF(N81=\"\",\"\",INDEX('Otras referencias'!$A$6:$B$9,MATCH(DATOS!N81,'Otras referencias'!$B$6:$B$9,0),1))","v":""},{"$f":"IF(O81=\"\",\"\",INDEX(referentes!$G:$H,MATCH(O81,referentes!$H:$H,0),1))","v":""},null,null,null,null,null,null,null,null,null,null,null,null,{"$f":"IF(AF81<>\"\",INDEX(referentes!$AK$2:$AL$15,MATCH(DATOS!AF81,referentes!$AL$2:$AL$15,0),1),\"\")","v":""},null,null,null,null,null,null,null,null,null,null,null,{"$f":"IF(U81=\"\",\"\",INDEX(referentes!$J:$K,MATCH(U81,referentes!$K:$K,0),1))","v":""},{"$f":"IF(V81=\"\",\"\",INDEX(referentes!$M:$N,MATCH(V81,referentes!$N:$N,0),1))","v":""},{"$f":"IF(W81=\"\",\"\",INDEX(referentes!$P:$Q,MATCH(W81,referentes!$Q:$Q,0),1))","v":""},{"$f":"IF(Z81=\"\",\"\",INDEX(referentes!$S:$T,MATCH(Z81,referentes!$T:$T,0),1))","v":""},{"$f":"IF(AA81=\"\",\"\",INDEX(referentes!$V:$W,MATCH(AA81,referentes!$W:$W,0),1))","v":""},{"$f":"IF(AC81=\"\",\"\",INDEX(referentes!$Y:$Z,MATCH(AC81,referentes!$Z:$Z,0),1))","v":""},{"$f":"IF(AH81=\"\",\"\",INDEX(referentes!$AE:$AF,MATCH(AH81,referentes!$AF:$AF,0),1))","v":""},{"$f":"IF(AK81=\"\",\"\",INDEX(referentes!$AH:$AI,MATCH(AK81,referentes!$AI:$AI,0),1))","v":""}]
["",{"$f":"IF( L82<>\"\", CONCATENATE(YEAR(G82),TEXT(G82,\"mmdd\"),DIGITADOR!$B$2,DATOS!K82,DIGITADOR!$M$1),\"\")","v":""},{"$f":"IF( L82<>\"\", IF(K82<>K81,CONCATENATE(YEAR(G82),TEXT(G82,\"mmdd\"),DIGITADOR!$B$2,DATOS!K82,DIGITADOR!$M$1),\"\"),\"\")","v":""},"",null,null,null,null,{"$f":"IF(J82=\"\",\"\",INDEX(referentes!$BA$2:$BB$131,MATCH(DATOS!J82,referentes!$BB$2:$BB$131,0),1))","v":""},null,{"$f":"IF(L82=\"\",\"\",INDEX([2]referentes!$AR:$AV,MATCH(L82,[2]referentes!$AS:$AS,0),1))","v":""},null,{"$f":"IF(L82=\"\",\"\",INDEX([2]referentes!$AR:$AV,MATCH(L82,[2]referentes!$AS:$AS,0),5))","v":""},null,null,null,{"$f":"IF(N82=\"\",\"\",INDEX('Otras referencias'!$A$6:$B$9,MATCH(DATOS!N82,'Otras referencias'!$B$6:$B$9,0),1))","v":""},{"$f":"IF(O82=\"\",\"\",INDEX(referentes!$G:$H,MATCH(O82,referentes!$H:$H,0),1))","v":""},null,null,null,null,null,null,null,null,null,null,null,null,{"$f":"IF(AF82<>\"\",INDEX(referentes!$AK$2:$AL$15,MATCH(DATOS!AF82,referentes!$AL$2:$AL$15,0),1),\"\")","v":""},null,null,null,null,null,null,null,null,null,null,null,{"$f":"IF(U82=\"\",\"\",INDEX(referentes!$J:$K,MATCH(U82,referentes!$K:$K,0),1))","v":""},{"$f":"IF(V82=\"\",\"\",INDEX(referentes!$M:$N,MATCH(V82,referentes!$N:$N,0),1))","v":""},{"$f":"IF(W82=\"\",\"\",INDEX(referentes!$P:$Q,MATCH(W82,referentes!$Q:$Q,0),1))","v":""},{"$f":"IF(Z82=\"\",\"\",INDEX(referentes!$S:$T,MATCH(Z82,referentes!$T:$T,0),1))","v":""},{"$f":"IF(AA82=\"\",\"\",INDEX(referentes!$V:$W,MATCH(AA82,referentes!$W:$W,0),1))","v":""},{"$f":"IF(AC82=\"\",\"\",INDEX(referentes!$Y:$Z,MATCH(AC82,referentes!$Z:$Z,0),1))","v":""},{"$f":"IF(AH82=\"\",\"\",INDEX(referentes!$AE:$AF,MATCH(AH82,referentes!$AF:$AF,0),1))","v":""},{"$f":"IF(AK82=\"\",\"\",INDEX(referentes!$AH:$AI,MATCH(AK82,referentes!$AI:$AI,0),1))","v":""}]
["",{"$f":"IF( L83<>\"\", CONCATENATE(YEAR(G83),TEXT(G83,\"mmdd\"),DIGITADOR!$B$2,DATOS!K83,DIGITADOR!$M$1),\"\")","v":""},{"$f":"IF( L83<>\"\", IF(K83<>K82,CONCATENATE(YEAR(G83),TEXT(G83,\"mmdd\"),DIGITADOR!$B$2,DATOS!K83,DIGITADOR!$M$1),\"\"),\"\")","v":""},"",null,null,null,null,{"$f":"IF(J83=\"\",\"\",INDEX(referentes!$BA$2:$BB$131,MATCH(DATOS!J83,referentes!$BB$2:$BB$131,0),1))","v":""},null,{"$f":"IF(L83=\"\",\"\",INDEX([2]referentes!$AR:$AV,MATCH(L83,[2]referentes!$AS:$AS,0),1))","v":""},null,{"$f":"IF(L83=\"\",\"\",INDEX([2]referentes!$AR:$AV,MATCH(L83,[2]referentes!$AS:$AS,0),5))","v":""},null,null,null,{"$f":"IF(N83=\"\",\"\",INDEX('Otras referencias'!$A$6:$B$9,MATCH(DATOS!N83,'Otras referencias'!$B$6:$B$9,0),1))","v":""},{"$f":"IF(O83=\"\",\"\",INDEX(referentes!$G:$H,MATCH(O83,referentes!$H:$H,0),1))","v":""},null,null,null,null,null,null,null,null,null,null,null,null,{"$f":"IF(AF83<>\"\",INDEX(referentes!$AK$2:$AL$15,MATCH(DATOS!AF83,referentes!$AL$2:$AL$15,0),1),\"\")","v":""},null,null,null,null,null,null,null,null,null,null,null,{"$f":"IF(U83=\"\",\"\",INDEX(referentes!$J:$K,MATCH(U83,referentes!$K:$K,0),1))","v":""},{"$f":"IF(V83=\"\",\"\",INDEX(referentes!$M:$N,MATCH(V83,referentes!$N:$N,0),1))","v":""},{"$f":"IF(W83=\"\",\"\",INDEX(referentes!$P:$Q,MATCH(W83,referentes!$Q:$Q,0),1))","v":""},{"$f":"IF(Z83=\"\",\"\",INDEX(referentes!$S:$T,MATCH(Z83,referentes!$T:$T,0),1))","v":""},{"$f":"IF(AA83=\"\",\"\",INDEX(referentes!$V:$W,MATCH(AA83,referentes!$W:$W,0),1))","v":""},{"$f":"IF(AC83=\"\",\"\",INDEX(referentes!$Y:$Z,MATCH(AC83,referentes!$Z:$Z,0),1))","v":""},{"$f":"IF(AH83=\"\",\"\",INDEX(referentes!$AE:$AF,MATCH(AH83,referentes!$AF:$AF,0),1))","v":""},{"$f":"IF(AK83=\"\",\"\",INDEX(referentes!$AH:$AI,MATCH(AK83,referentes!$AI:$AI,0),1))","v":""}]
["",{"$f":"IF( L84<>\"\", CONCATENATE(YEAR(G84),TEXT(G84,\"mmdd\"),DIGITADOR!$B$2,DATOS!K84,DIGITADOR!$M$1),\"\")","v":""},{"$f":"IF( L84<>\"\", IF(K84<>K83,CONCATENATE(YEAR(G84),TEXT(G84,\"mmdd\"),DIGITADOR!$B$2,DATOS!K84,DIGITADOR!$M$1),\"\"),\"\")","v":""},"",null,null,null,null,{"$f":"IF(J84=\"\",\"\",INDEX(referentes!$BA$2:$BB$131,MATCH(DATOS!J84,referentes!$BB$2:$BB$131,0),1))","v":""},null,{"$f":"IF(L84=\"\",\"\",INDEX([2]referentes!$AR:$AV,MATCH(L84,[2]referentes!$AS:$AS,0),1))","v":""},null,{"$f":"IF(L84=\"\",\"\",INDEX([2]referentes!$AR:$AV,MATCH(L84,[2]referentes!$AS:$AS,0),5))","v":""},null,null,null,{"$f":"IF(N84=\"\",\"\",INDEX('Otras referencias'!$A$6:$B$9,MATCH(DATOS!N84,'Otras referencias'!$B$6:$B$9,0),1))","v":""},{"$f":"IF(O84=\"\",\"\",INDEX(referentes!$G:$H,MATCH(O84,referentes!$H:$H,0),1))","v":""},null,null,null,null,null,null,null,null,null,null,null,null,{"$f":"IF(AF84<>\"\",INDEX(referentes!$AK$2:$AL$15,MATCH(DATOS!AF84,referentes!$AL$2:$AL$15,0),1),\"\")","v":""},null,null,null,null,null,null,null,null,null,null,null,{"$f":"IF(U84=\"\",\"\",INDEX(referentes!$J:$K,MATCH(U84,referentes!$K:$K,0),1))","v":""},{"$f":"IF(V84=\"\",\"\",INDEX(referentes!$M:$N,MATCH(V84,referentes!$N:$N,0),1))","v":""},{"$f":"IF(W84=\"\",\"\",INDEX(referentes!$P:$Q,MATCH(W84,referentes!$Q:$Q,0),1))","v":""},{"$f":"IF(Z84=\"\",\"\",INDEX(referentes!$S:$T,MATCH(Z84,referentes!$T:$T,0),1))","v":""},{"$f":"IF(AA84=\"\",\"\",INDEX(referentes!$V:$W,MATCH(AA84,referentes!$W:$W,0),1))","v":""},{"$f":"IF(AC84=\"\",\"\",INDEX(referentes!$Y:$Z,MATCH(AC84,referentes!$Z:$Z,0),1))","v":""},{"$f":"IF(AH84=\"\",\"\",INDEX(referentes!$AE:$AF,MATCH(AH84,referentes!$AF:$AF,0),1))","v":""},{"$f":"IF(AK84=\"\",\"\",INDEX(referentes!$AH:$AI,MATCH(AK84,referentes!$AI:$AI,0),1))","v":""}]
["",{"$f":"IF( L85<>\"\", CONCATENATE(YEAR(G85),TEXT(G85,\"mmdd\"),DIGITADOR!$B$2,DATOS!K85,DIGITADOR!$M$1),\"\")","v":""},{"$f":"IF( L85<>\"\", IF(K85<>K84,CONCATENATE(YEAR(G85),TEXT(G85,\"mmdd\"),DIGITADOR!$B$2,DATOS!K85,DIGITADOR!$M$1),\"\"),\"\")","v":""},"",null,null,null,null,{"$f":"IF(J85=\"\",\"\",INDEX(referentes!$BA$2:$BB$131,MATCH(DATOS!J85,referentes!$BB$2:$BB$131,0),1))","v":""},null,{"$f":"IF(L85=\"\",\"\",INDEX([2]referentes!$AR:$AV,MATCH(L85,[2]referentes!$AS:$AS,0),1))","v":""},null,{"$f":"IF(L85=\"\",\"\",INDEX([2]referentes!$AR:$AV,MATCH(L85,[2]referentes!$AS:$AS,0),5))","v":""},null,null,null,{"$f":"IF(N85=\"\",\"\",INDEX('Otras referencias'!$A$6:$B$9,MATCH(DATOS!N85,'Otras referencias'!$B$6:$B$9,0),1))","v":""},{"$f":"IF(O85=\"\",\"\",INDEX(referentes!$G:$H,MATCH(O85,referentes!$H:$H,0),1))","v":""},null,null,null,null,null,null,null,null,null,null,null,null,{"$f":"IF(AF85<>\"\",INDEX(referentes!$AK$2:$AL$15,MATCH(DATOS!AF85,referentes!$AL$2:$AL$15,0),1),\"\")","v":""},null,null,null,null,null,null,null,null,null,null,null,{"$f":"IF(U85=\"\",\"\",INDEX(referentes!$J:$K,MATCH(U85,referentes!$K:$K,0),1))","v":""},{"$f":"IF(V85=\"\",\"\",INDEX(referentes!$M:$N,MATCH(V85,referentes!$N:$N,0),1))","v":""},{"$f":"IF(W85=\"\",\"\",INDEX(referentes!$P:$Q,MATCH(W85,referentes!$Q:$Q,0),1))","v":""},{"$f":"IF(Z85=\"\",\"\",INDEX(referentes!$S:$T,MATCH(Z85,referentes!$T:$T,0),1))","v":""},{"$f":"IF(AA85=\"\",\"\",INDEX(referentes!$V:$W,MATCH(AA85,referentes!$W:$W,0),1))","v":""},{"$f":"IF(AC85=\"\",\"\",INDEX(referentes!$Y:$Z,MATCH(AC85,referentes!$Z:$Z,0),1))","v":""},{"$f":"IF(AH85=\"\",\"\",INDEX(referentes!$AE:$AF,MATCH(AH85,referentes!$AF:$AF,0),1))","v":""},{"$f":"IF(AK85=\"\",\"\",INDEX(referentes!$AH:$AI,MATCH(AK85,referentes!$AI:$AI,0),1))","v":""}]
["",{"$f":"IF( L86<>\"\", CONCATENATE(YEAR(G86),TEXT(G86,\"mmdd\"),DIGITADOR!$B$2,DATOS!K86,DIGITADOR!$M$1),\"\")","v":""},{"$f":"IF( L86<>\"\", IF(K86<>K85,CONCATENATE(YEAR(G86),TEXT(G86,\"mmdd\"),DIGITADOR!$B$2,DATOS!K86,DIGITADOR!$M$1),\"\"),\"\")","v":""},"",null,null,null,null,{"$f":"IF(J86=\"\",\"\",INDEX(referentes!$BA$2:$BB$131,MATCH(DATOS!J86,referentes!$BB$2:$BB$131,0),1))","v":""},null,{"$f":"IF(L86=\"\",\"\",INDEX([2]referentes!$AR:$AV,MATCH(L86,[2]referentes!$AS:$AS,0),1))","v":""},null,{"$f":"IF(L86=\"\",\"\",INDEX([2]referentes!$AR:$AV,MATCH(L86,[2]referentes!$AS:$AS,0),5))","v":""},null,null,null,{"$f":"IF(N86=\"\",\"\",INDEX('Otras referencias'!$A$6:$B$9,MATCH(DATOS!N86,'Otras referencias'!$B$6:$B$9,0),1))","v":""},{"$f":"IF(O86=\"\",\"\",INDEX(referentes!$G:$H,MATCH(O86,referentes!$H:$H,0),1))","v":""},null,null,null,null,null,null,null,null,null,null,null,null,{"$f":"IF(AF86<>\"\",INDEX(referentes!$AK$2:$AL$15,MATCH(DATOS!AF86,referentes!$AL$2:$AL$15,0),1),\"\")","v":""},null,null,null,null,null,null,null,null,null,null,null,{"$f":"IF(U86=\"\",\"\",INDEX(referentes!$J:$K,MATCH(U86,referentes!$K:$K,0),1))","v":""},{"$f":"IF(V86=\"\",\"\",INDEX(referentes!$M:$N,MATCH(V86,referentes!$N:$N,0),1))","v":""},{"$f":"IF(W86=\"\",\"\",INDEX(referentes!$P:$Q,MATCH(W86,referentes!$Q:$Q,0),1))","v":""},{"$f":"IF(Z86=\"\",\"\",INDEX(referentes!$S:$T,MATCH(Z86,referentes!$T:$T,0),1))","v":""},{"$f":"IF(AA86=\"\",\"\",INDEX(referentes!$V:$W,MATCH(AA86,referentes!$W:$W,0),1))","v":""},{"$f":"IF(AC86=\"\",\"\",INDEX(referentes!$Y:$Z,MATCH(AC86,referentes!$Z:$Z,0),1))","v":""},{"$f":"IF(AH86=\"\",\"\",INDEX(referentes!$AE:$AF,MATCH(AH86,referentes!$AF:$AF,0),1))","v":""},{"$f":"IF(AK86=\"\",\"\",INDEX(referentes!$AH:$AI,MATCH(AK86,referentes!$AI:$AI,0),1))","v":""}]
["",{"$f":"IF( L87<>\"\", CONCATENATE(YEAR(G87),TEXT(G87,\"mmdd\"),DIGITADOR!$B$2,DATOS!K87,DIGITADOR!$M$1),\"\")","v":""},{"$f":"IF( L87<>\"\", IF(K87<>K86,CONCATENATE(YEAR(G87),TEXT(G87,\"mmdd\"),DIGITADOR!$B$2,DATOS!K87,DIGITADOR!$M$1),\"\"),\"\")","v":""},"",null,null,null,null,{"$f":"IF(J87=\"\",\"\",INDEX(referentes!$BA$2:$BB$131,MATCH(DATOS!J87,referentes!$BB$2:$BB$131,0),1))","v":""},null,{"$f":"IF(L87=\"\",\"\",INDEX([2]referentes!$AR:$AV,MATCH(L87,[2]referentes!$AS:$AS,0),1))","v":""},null,{"$f":"IF(L87=\"\",\"\",INDEX([2]referentes!$AR:$AV,MATCH(L87,[2]referentes!$AS:$AS,0),5))","v":""},null,null,null,{"$f":"IF(N87=\"\",\"\",INDEX('Otras referencias'!$A$6:$B$9,MATCH(DATOS!N87,'Otras referencias'!$B$6:$B$9,0),1))","v":""},{"$f":"IF(O87=\"\",\"\",INDEX(referentes!$G:$H,MATCH(O87,referentes!$H:$H,0),1))","v":""},null,null,null,null,null,null,null,null,null,null,null,null,{"$f":"IF(AF87<>\"\",INDEX(referentes!$AK$2:$AL$15,MATCH(DATOS!AF87,referentes!$AL$2:$AL$15,0),1),\"\")","v":""},null,null,null,null,null,null,null,null,null,null,null,{"$f":"IF(U87=\"\",\"\",INDEX(referentes!$J:$K,MATCH(U87,referentes!$K:$K,0),1))","v":""},{"$f":"IF(V87=\"\",\"\",INDEX(referentes!$M:$N,MATCH(V87,referentes!$N:$N,0),1))","v":""},{"$f":"IF(W87=\"\",\"\",INDEX(referentes!$P:$Q,MATCH(W87,referentes!$Q:$Q,0),1))","v":""},{"$f":"IF(Z87=\"\",\"\",INDEX(referentes!$S:$T,MATCH(Z87,referentes!$T:$T,0),1))","v":""},{"$f":"IF(AA87=\"\",\"\",INDEX(referentes!$V:$W,MATCH(AA87,referentes!$W:$W,0),1))","v":""},{"$f":"IF(AC87=\"\",\"\",INDEX(referentes!$Y:$Z,MATCH(AC87,referentes!$Z:$Z,0),1))","v":""},{"$f":"IF(AH87=\"\",\"\",INDEX(referentes!$AE:$AF,MATCH(AH87,referentes!$AF:$AF,0),1))","v":""},{"$f":"IF(AK87=\"\",\"\",INDEX(referentes!$AH:$AI,MATCH(AK87,referentes!$AI:$AI,0),1))","v":""}]
["",{"$f":"IF( L88<>\"\", CONCATENATE(YEAR(G88),TEXT(G88,\"mmdd\"),DIGITADOR!$B$2,DATOS!K88,DIGITADOR!$M$1),\"\")","v":""},{"$f":"IF( L88<>\"\", IF(K88<>K87,CONCATENATE(YEAR(G88),TEXT(G88,\"mmdd\"),DIGITADOR!$B$2,DATOS!K88,DIGITADOR!$M$1),\"\"),\"\")","v":""},"",null,null,null,null,{"$f":"IF(J88=\"\",\"\",INDEX(referentes!$BA$2:$BB$131,MATCH(DATOS!J88,referentes!$BB$2:$BB$131,0),1))","v":""},null,{"$f":"IF(L88=\"\",\"\",INDEX([2]referentes!$AR:$AV,MATCH(L88,[2]referentes!$AS:$AS,0),1))","v":""},null,{"$f":"IF(L88=\"\",\"\",INDEX([2]referentes!$AR:$AV,MATCH(L88,[2]referentes!$AS:$AS,0),5))","v":""},null,null,null,{"$f":"IF(N88=\"\",\"\",INDEX('Otras referencias'!$A$6:$B$9,MATCH(DATOS!N88,'Otras referencias'!$B$6:$B$9,0),1))","v":""},{"$f":"IF(O88=\"\",\"\",INDEX(referentes!$G:$H,MATCH(O88,referentes!$H:$H,0),1))","v":""},null,null,null,null,null,null,null,null,null,null,null,null,{"$f":"IF(AF88<>\"\",INDEX(referentes!$AK$2:$AL$15,MATCH(DATOS!AF88,referentes!$AL$2:$AL$15,0),1),\"\")","v":""},null,null,null,null,null,null,null,null,null,null,null,{"$f":"IF(U88=\"\",\"\",INDEX(referentes!$J:$K,MATCH(U88,referentes!$K:$K,0),1))","v":""},{"$f":"IF(V88=\"\",\"\",INDEX(referentes!$M:$N,MATCH(V88,referentes!$N:$N,0),1))","v":""},{"$f":"IF(W88=\"\",\"\",INDEX(referentes!$P:$Q,MATCH(W88,referentes!$Q:$Q,0),1))","v":""},{"$f":"IF(Z88=\"\",\"\",INDEX(referentes!$S:$T,MATCH(Z88,referentes!$T:$T,0),1))","v":""},{"$f":"IF(AA88=\"\",\"\",INDEX(referentes!$V:$W,MATCH(AA88,referentes!$W:$W,0),1))","v":""},{"$f":"IF(AC88=\"\",\"\",INDEX(referentes!$Y:$Z,MATCH(AC88,referentes!$Z:$Z,0),1))","v":""},{"$f":"IF(AH88=\"\",\"\",INDEX(referentes!$AE:$AF,MATCH(AH88,referentes!$AF:$AF,0),1))","v":""},{"$f":"IF(AK88=\"\",\"\",INDEX(referentes!$AH:$AI,MATCH(AK88,referentes!$AI:$AI,0),1))","v":""}]
["",{"$f":"IF( L89<>\"\", CONCATENATE(YEAR(G89),TEXT(G89,\"mmdd\"),DIGITADOR!$B$2,DATOS!K89,DIGITADOR!$M$1),\"\")","v":""},{"$f":"IF( L89<>\"\", IF(K89<>K88,CONCATENATE(YEAR(G89),TEXT(G89,\"mmdd\"),DIGITADOR!$B$2,DATOS!K89,DIGITADOR!$M$1),\"\"),\"\")","v":""},"",null,null,null,null,{"$f":"IF(J89=\"\",\"\",INDEX(referentes!$BA$2:$BB$131,MATCH(DATOS!J89,referentes!$BB$2:$BB$131,0),1))","v":""},null,{"$f":"IF(L89=\"\",\"\",INDEX([2]referentes!$AR:$AV,MATCH(L89,[2]referentes!$AS:$AS,0),1))","v":""},null,{"$f":"IF(L89=\"\",\"\",INDEX([2]referentes!$AR:$AV,MATCH(L89,[2]referentes!$AS:$AS,0),5))","v":""},null,null,null,{"$f":"IF(N89=\"\",\"\",INDEX('Otras referencias'!$A$6:$B$9,MATCH(DATOS!N89,'Otras referencias'!$B$6:$B$9,0),1))","v":""},{"$f":"IF(O89=\"\",\"\",INDEX(referentes!$G:$H,MATCH(O89,referentes!$H:$H,0),1))","v":""},null,null,null,null,null,null,null,null,null,null,null,null,{"$f":"IF(AF89<>\"\",INDEX(referentes!$AK$2:$AL$15,MATCH(DATOS!AF89,referentes!$AL$2:$AL$15,0),1),\"\")","v":""},null,null,null,null,null,null,null,null,null,null,null,{"$f":"IF(U89=\"\",\"\",INDEX(referentes!$J:$K,MATCH(U89,referentes!$K:$K,0),1))","v":""},{"$f":"IF(V89=\"\",\"\",INDEX(referentes!$M:$N,MATCH(V89,referentes!$N:$N,0),1))","v":""},{"$f":"IF(W89=\"\",\"\",INDEX(referentes!$P:$Q,MATCH(W89,referentes!$Q:$Q,0),1))","v":""},{"$f":"IF(Z89=\"\",\"\",INDEX(referentes!$S:$T,MATCH(Z89,referentes!$T:$T,0),1))","v":""},{"$f":"IF(AA89=\"\",\"\",INDEX(referentes!$V:$W,MATCH(AA89,referentes!$W:$W,0),1))","v":""},{"$f":"IF(AC89=\"\",\"\",INDEX(referentes!$Y:$Z,MATCH(AC89,referentes!$Z:$Z,0),1))","v":""},{"$f":"IF(AH89=\"\",\"\",INDEX(referentes!$AE:$AF,MATCH(AH89,referentes!$AF:$AF,0),1))","v":""},{"$f":"IF(AK89=\"\",\"\",INDEX(referentes!$AH:$AI,MATCH(AK89,referentes!$AI:$AI,0),1))","v":""}]
["",{"$f":"IF( L90<>\"\", CONCATENATE(YEAR(G90),TEXT(G90,\"mmdd\"),DIGITADOR!$B$2,DATOS!K90,DIGITADOR!$M$1),\"\")","v":""},{"$f":"IF( L90<>\"\", IF(K90<>K89,CONCATENATE(YEAR(G90),TEXT(G90,\"mmdd\"),DIGITADOR!$B$2,DATOS!K90,DIGITADOR!$M$1),\"\"),\"\")","v":""},"",null,null,null,null,{"$f":"IF(J90=\"\",\"\",INDEX(referentes!$BA$2:$BB$131,MATCH(DATOS!J90,referentes!$BB$2:$BB$131,0),1))","v":""},null,{"$f":"IF(L90=\"\",\"\",INDEX([2]referentes!$AR:$AV,MATCH(L90,[2]referentes!$AS:$AS,0),1))","v":""},null,{"$f":"IF(L90=\"\",\"\",INDEX([2]referentes!$AR:$AV,MATCH(L90,[2]referentes!$AS:$AS,0),5))","v":""},null,null,null,{"$f":"IF(N90=\"\",\"\",INDEX('Otras referencias'!$A$6:$B$9,MATCH(DATOS!N90,'Otras referencias'!$B$6:$B$9,0),1))","v":""},{"$f":"IF(O90=\"\",\"\",INDEX(referentes!$G:$H,MATCH(O90,referentes!$H:$H,0),1))","v":""},null,null,null,null,null,null,null,null,null,null,null,null,{"$f":"IF(AF90<>\"\",INDEX(referentes!$AK$2:$AL$15,MATCH(DATOS!AF90,referentes!$AL$2:$AL$15,0),1),\"\")","v":""},null,null,null,null,null,null,null,null,null,null,null,{"$f":"IF(U90=\"\",\"\",INDEX(referentes!$J:$K,MATCH(U90,referentes!$K:$K,0),1))","v":""},{"$f":"IF(V90=\"\",\"\",INDEX(referentes!$M:$N,MATCH(V90,referentes!$N:$N,0),1))","v":""},{"$f":"IF(W90=\"\",\"\",INDEX(referentes!$P:$Q,MATCH(W90,referentes!$Q:$Q,0),1))","v":""},{"$f":"IF(Z90=\"\",\"\",INDEX(referentes!$S:$T,MATCH(Z90,referentes!$T:$T,0),1))","v":""},{"$f":"IF(AA90=\"\",\"\",INDEX(referentes!$V:$W,MATCH(AA90,referentes!$W:$W,0),1))","v":""},{"$f":"IF(AC90=\"\",\"\",INDEX(referentes!$Y:$Z,MATCH(AC90,referentes!$Z:$Z,0),1))","v":""},{"$f":"IF(AH90=\"\",\"\",INDEX(referentes!$AE:$AF,MATCH(AH90,referentes!$AF:$AF,0),1))","v":""},{"$f":"IF(AK90=\"\",\"\",INDEX(referentes!$AH:$AI,MATCH(AK90,referentes!$AI:$AI,0),1))","v":""}]
["",{"$f":"IF( L91<>\"\", CONCATENATE(YEAR(G91),TEXT(G91,\"mmdd\"),DIGITADOR!$B$2,DATOS!K91,DIGITADOR!$M$1),\"\")","v":""},{"$f":"IF( L91<>\"\", IF(K91<>K90,CONCATENATE(YEAR(G91),TEXT(G91,\"mmdd\"),DIGITADOR!$B$2,DATOS!K91,DIGITADOR!$M$1),\"\"),\"\")","v":""},"",null,null,null,null,{"$f":"IF(J91=\"\",\"\",INDEX(referentes!$BA$2:$BB$131,MATCH(DATOS!J91,referentes!$BB$2:$BB$131,0),1))","v":""},null,{"$f":"IF(L91=\"\",\"\",INDEX([2]referentes!$AR:$AV,MATCH(L91,[2]referentes!$AS:$AS,0),1))","v":""},null,{"$f":"IF(L91=\"\",\"\",INDEX([2]referentes!$AR:$AV,MATCH(L91,[2]referentes!$AS:$AS,0),5))","v":""},null,null,null,{"$f":"IF(N91=\"\",\"\",INDEX('Otras referencias'!$A$6:$B$9,MATCH(DATOS!N91,'Otras referencias'!$B$6:$B$9,0),1))","v":""},{"$f":"IF(O91=\"\",\"\",INDEX(referentes!$G:$H,MATCH(O91,referentes!$H:$H,0),1))","v":""},null,null,null,null,null,null,null,null,null,null,null,null,{"$f":"IF(AF91<>\"\",INDEX(referentes!$AK$2:$AL$15,MATCH(DATOS!AF91,referentes!$AL$2:$AL$15,0),1),\"\")","v":""},null,null,null,null,null,null,null,null,null,null,null,{"$f":"IF(U91=\"\",\"\",INDEX(referentes!$J:$K,MATCH(U91,referentes!$K:$K,0),1))","v":""},{"$f":"IF(V91=\"\",\"\",INDEX(referentes!$M:$N,MATCH(V91,referentes!$N:$N,0),1))","v":""},{"$f":"IF(W91=\"\",\"\",INDEX(referentes!$P:$Q,MATCH(W91,referentes!$Q:$Q,0),1))","v":""},{"$f":"IF(Z91=\"\",\"\",INDEX(referentes!$S:$T,MATCH(Z91,referentes!$T:$T,0),1))","v":""},{"$f":"IF(AA91=\"\",\"\",INDEX(referentes!$V:$W,MATCH(AA91,referentes!$W:$W,0),1))","v":""},{"$f":"IF(AC91=\"\",\"\",INDEX(referentes!$Y:$Z,MATCH(AC91,referentes!$Z:$Z,0),1))","v":""},{"$f":"IF(AH91=\"\",\"\",INDEX(referentes!$AE:$AF,MATCH(AH91,referentes!$AF:$AF,0),1))","v":""},{"$f":"IF(AK91=\"\",\"\",INDEX(referentes!$AH:$AI,MATCH(AK91,referentes!$AI:$AI,0),1))","v":""}]
["",{"$f":"IF( L92<>\"\", CONCATENATE(YEAR(G92),TEXT(G92,\"mmdd\"),DIGITADOR!$B$2,DATOS!K92,DIGITADOR!$M$1),\"\")","v":""},{"$f":"IF( L92<>\"\", IF(K92<>K91,CONCATENATE(YEAR(G92),TEXT(G92,\"mmdd\"),DIGITADOR!$B$2,DATOS!K92,DIGITADOR!$M$1),\"\"),\"\")","v":""},"",null,null,null,null,{"$f":"IF(J92=\"\",\"\",INDEX(referentes!$BA$2:$BB$131,MATCH(DATOS!J92,referentes!$BB$2:$BB$131,0),1))","v":""},null,{"$f":"IF(L92=\"\",\"\",INDEX([2]referentes!$AR:$AV,MATCH(L92,[2]referentes!$AS:$AS,0),1))","v":""},null,{"$f":"IF(L92=\"\",\"\",INDEX([2]referentes!$AR:$AV,MATCH(L92,[2]referentes!$AS:$AS,0),5))","v":""},null,null,null,{"$f":"IF(N92=\"\",\"\",INDEX('Otras referencias'!$A$6:$B$9,MATCH(DATOS!N92,'Otras referencias'!$B$6:$B$9,0),1))","v":""},{"$f":"IF(O92=\"\",\"\",INDEX(referentes!$G:$H,MATCH(O92,referentes!$H:$H,0),1))","v":""},null,null,null,null,null,null,null,null,null,null,null,null,{"$f":"IF(AF92<>\"\",INDEX(referentes!$AK$2:$AL$15,MATCH(DATOS!AF92,referentes!$AL$2:$AL$15,0),1),\"\")","v":""},null,null,null,null,null,null,null,null,null,null,null,{"$f":"IF(U92=\"\",\"\",INDEX(referentes!$J:$K,MATCH(U92,referentes!$K:$K,0),1))","v":""},{"$f":"IF(V92=\"\",\"\",INDEX(referentes!$M:$N,MATCH(V92,referentes!$N:$N,0),1))","v":""},{"$f":"IF(W92=\"\",\"\",INDEX(referentes!$P:$Q,MATCH(W92,referentes!$Q:$Q,0),1))","v":""},{"$f":"IF(Z92=\"\",\"\",INDEX(referentes!$S:$T,MATCH(Z92,referentes!$T:$T,0),1))","v":""},{"$f":"IF(AA92=\"\",\"\",INDEX(referentes!$V:$W,MATCH(AA92,referentes!$W:$W,0),1))","v":""},{"$f":"IF(AC92=\"\",\"\",INDEX(referentes!$Y:$Z,MATCH(AC92,referentes!$Z:$Z,0),1))","v":""},{"$f":"IF(AH92=\"\",\"\",INDEX(referentes!$AE:$AF,MATCH(AH92,referentes!$AF:$AF,0),1))","v":""},{"$f":"IF(AK92=\"\",\"\",INDEX(referentes!$AH:$AI,MATCH(AK92,referentes!$AI:$AI,0),1))","v":""}]
["",{"$f":"IF( L93<>\"\", CONCATENATE(YEAR(G93),TEXT(G93,\"mmdd\"),DIGITADOR!$B$2,DATOS!K93,DIGITADOR!$M$1),\"\")","v":""},{"$f":"IF( L93<>\"\", IF(K93<>K92,CONCATENATE(YEAR(G93),TEXT(G93,\"mmdd\"),DIGITADOR!$B$2,DATOS!K93,DIGITADOR!$M$1),\"\"),\"\")","v":""},"",null,null,null,null,{"$f":"IF(J93=\"\",\"\",INDEX(referentes!$BA$2:$BB$131,MATCH(DATOS!J93,referentes!$BB$2:$BB$131,0),1))","v":""},null,{"$f":"IF(L93=\"\",\"\",INDEX([2]referentes!$AR:$AV,MATCH(L93,[2]referentes!$AS:$AS,0),1))","v":""},null,{"$f":"IF(L93=\"\",\"\",INDEX([2]referentes!$AR:$AV,MATCH(L93,[2]referentes!$AS:$AS,0),5))","v":""},null,null,null,{"$f":"IF(N93=\"\",\"\",INDEX('Otras referencias'!$A$6:$B$9,MATCH(DATOS!N93,'Otras referencias'!$B$6:$B$9,0),1))","v":""},{"$f":"IF(O93=\"\",\"\",INDEX(referentes!$G:$H,MATCH(O93,referentes!$H:$H,0),1))","v":""},null,null,null,null,null,null,null,null,null,null,null,null,{"$f":"IF(AF93<>\"\",INDEX(referentes!$AK$2:$AL$15,MATCH(DATOS!AF93,referentes!$AL$2:$AL$15,0),1),\"\")","v":""},null,null,null,null,null,null,null,null,null,null,null,{"$f":"IF(U93=\"\",\"\",INDEX(referentes!$J:$K,MATCH(U93,referentes!$K:$K,0),1))","v":""},{"$f":"IF(V93=\"\",\"\",INDEX(referentes!$M:$N,MATCH(V93,referentes!$N:$N,0),1))","v":""},{"$f":"IF(W93=\"\",\"\",INDEX(referentes!$P:$Q,MATCH(W93,referentes!$Q:$Q,0),1))","v":""},{"$f":"IF(Z93=\"\",\"\",INDEX(referentes!$S:$T,MATCH(Z93,referentes!$T:$T,0),1))","v":""},{"$f":"IF(AA93=\"\",\"\",INDEX(referentes!$V:$W,MATCH(AA93,referentes!$W:$W,0),1))","v":""},{"$f":"IF(AC93=\"\",\"\",INDEX(referentes!$Y:$Z,MATCH(AC93,referentes!$Z:$Z,0),1))","v":""},{"$f":"IF(AH93=\"\",\"\",INDEX(referentes!$AE:$AF,MATCH(AH93,referentes!$AF:$AF,0),1))","v":""},{"$f":"IF(AK93=\"\",\"\",INDEX(referentes!$AH:$AI,MATCH(AK93,referentes!$AI:$AI,0),1))","v":""}]
["",{"$f":"IF( L94<>\"\", CONCATENATE(YEAR(G94),TEXT(G94,\"mmdd\"),DIGITADOR!$B$2,DATOS!K94,DIGITADOR!$M$1),\"\")","v":""},{"$f":"IF( L94<>\"\", IF(K94<>K93,CONCATENATE(YEAR(G94),TEXT(G94,\"mmdd\"),DIGITADOR!$B$2,DATOS!K94,DIGITADOR!$M$1),\"\"),\"\")","v":""},"",null,null,null,null,{"$f":"IF(J94=\"\",\"\",INDEX(referentes!$BA$2:$BB$131,MATCH(DATOS!J94,referentes!$BB$2:$BB$131,0),1))","v":""},null,{"$f":"IF(L94=\"\",\"\",INDEX([2]referentes!$AR:$AV,MATCH(L94,[2]referentes!$AS:$AS,0),1))","v":""},null,{"$f":"IF(L94=\"\",\"\",INDEX([2]referentes!$AR:$AV,MATCH(L94,[2]referentes!$AS:$AS,0),5))","v":""},null,null,null,{"$f":"IF(N94=\"\",\"\",INDEX('Otras referencias'!$A$6:$B$9,MATCH(DATOS!N94,'Otras referencias'!$B$6:$B$9,0),1))","v":""},{"$f":"IF(O94=\"\",\"\",INDEX(referentes!$G:$H,MATCH(O94,referentes!$H:$H,0),1))","v":""},null,null,null,null,null,null,null,null,null,null,null,null,{"$f":"IF(AF94<>\"\",INDEX(referentes!$AK$2:$AL$15,MATCH(DATOS!AF94,referentes!$AL$2:$AL$15,0),1),\"\")","v":""},null,null,null,null,null,null,null,null,null,null,null,{"$f":"IF(U94=\"\",\"\",INDEX(referentes!$J:$K,MATCH(U94,referentes!$K:$K,0),1))","v":""},{"$f":"IF(V94=\"\",\"\",INDEX(referentes!$M:$N,MATCH(V94,referentes!$N:$N,0),1))","v":""},{"$f":"IF(W94=\"\",\"\",INDEX(referentes!$P:$Q,MATCH(W94,referentes!$Q:$Q,0),1))","v":""},{"$f":"IF(Z94=\"\",\"\",INDEX(referentes!$S:$T,MATCH(Z94,referentes!$T:$T,0),1))","v":""},{"$f":"IF(AA94=\"\",\"\",INDEX(referentes!$V:$W,MATCH(AA94,referentes!$W:$W,0),1))","v":""},{"$f":"IF(AC94=\"\",\"\",INDEX(referentes!$Y:$Z,MATCH(AC94,referentes!$Z:$Z,0),1))","v":""},{"$f":"IF(AH94=\"\",\"\",INDEX(referentes!$AE:$AF,MATCH(AH94,referentes!$AF:$AF,0),1))","v":""},{"$f":"IF(AK94=\"\",\"\",INDEX(referentes!$AH:$AI,MATCH(AK94,referentes!$AI:$AI,0),1))","v":""}]
["",{"$f":"IF( L95<>\"\", CONCATENATE(YEAR(G95),TEXT(G95,\"mmdd\"),DIGITADOR!$B$2,DATOS!K95,DIGITADOR!$M$1),\"\")","v":""},{"$f":"IF( L95<>\"\", IF(K95<>K94,CONCATENATE(YEAR(G95),TEXT(G95,\"mmdd\"),DIGITADOR!$B$2,DATOS!K95,DIGITADOR!$M$1),\"\"),\"\")","v":""},"",null,null,null,null,{"$f":"IF(J95=\"\",\"\",INDEX(referentes!$BA$2:$BB$131,MATCH(DATOS!J95,referentes!$BB$2:$BB$131,0),1))","v":""},null,{"$f":"IF(L95=\"\",\"\",INDEX([2]referentes!$AR:$AV,MATCH(L95,[2]referentes!$AS:$AS,0),1))","v":""},null,{"$f":"IF(L95=\"\",\"\",INDEX([2]referentes!$AR:$AV,MATCH(L95,[2]referentes!$AS:$AS,0),5))","v":""},null,null,null,{"$f":"IF(N95=\"\",\"\",INDEX('Otras referencias'!$A$6:$B$9,MATCH(DATOS!N95,'Otras referencias'!$B$6:$B$9,0),1))","v":""},{"$f":"IF(O95=\"\",\"\",INDEX(referentes!$G:$H,MATCH(O95,referentes!$H:$H,0),1))","v":""},null,null,null,null,null,null,null,null,null,null,null,null,{"$f":"IF(AF95<>\"\",INDEX(referentes!$AK$2:$AL$15,MATCH(DATOS!AF95,referentes!$AL$2:$AL$15,0),1),\"\")","v":""},null,null,null,null,null,null,null,null,null,null,null,{"$f":"IF(U95=\"\",\"\",INDEX(referentes!$J:$K,MATCH(U95,referentes!$K:$K,0),1))","v":""},{"$f":"IF(V95=\"\",\"\",INDEX(referentes!$M:$N,MATCH(V95,referentes!$N:$N,0),1))","v":""},{"$f":"IF(W95=\"\",\"\",INDEX(referentes!$P:$Q,MATCH(W95,referentes!$Q:$Q,0),1))","v":""},{"$f":"IF(Z95=\"\",\"\",INDEX(referentes!$S:$T,MATCH(Z95,referentes!$T:$T,0),1))","v":""},{"$f":"IF(AA95=\"\",\"\",INDEX(referentes!$V:$W,MATCH(AA95,referentes!$W:$W,0),1))","v":""},{"$f":"IF(AC95=\"\",\"\",INDEX(referentes!$Y:$Z,MATCH(AC95,referentes!$Z:$Z,0),1))","v":""},{"$f":"IF(AH95=\"\",\"\",INDEX(referentes!$AE:$AF,MATCH(AH95,referentes!$AF:$AF,0),1))","v":""},{"$f":"IF(AK95=\"\",\"\",INDEX(referentes!$AH:$AI,MATCH(AK95,referentes!$AI:$AI,0),1))","v":""}]
["",{"$f":"IF( L96<>\"\", CONCATENATE(YEAR(G96),TEXT(G96,\"mmdd\"),DIGITADOR!$B$2,DATOS!K96,DIGITADOR!$M$1),\"\")","v":""},{"$f":"IF( L96<>\"\", IF(K96<>K95,CONCATENATE(YEAR(G96),TEXT(G96,\"mmdd\"),DIGITADOR!$B$2,DATOS!K96,DIGITADOR!$M$1),\"\"),\"\")","v":""},"",null,null,null,null,{"$f":"IF(J96=\"\",\"\",INDEX(referentes!$BA$2:$BB$131,MATCH(DATOS!J96,referentes!$BB$2:$BB$131,0),1))","v":""},null,{"$f":"IF(L96=\"\",\"\",INDEX([2]referentes!$AR:$AV,MATCH(L96,[2]referentes!$AS:$AS,0),1))","v":""},null,{"$f":"IF(L96=\"\",\"\",INDEX([2]referentes!$AR:$AV,MATCH(L96,[2]referentes!$AS:$AS,0),5))","v":""},null,null,null,{"$f":"IF(N96=\"\",\"\",INDEX('Otras referencias'!$A$6:$B$9,MATCH(DATOS!N96,'Otras referencias'!$B$6:$B$9,0),1))","v":""},{"$f":"IF(O96=\"\",\"\",INDEX(referentes!$G:$H,MATCH(O96,referentes!$H:$H,0),1))","v":""},null,null,null,null,null,null,null,null,null,null,null,null,{"$f":"IF(AF96<>\"\",INDEX(referentes!$AK$2:$AL$15,MATCH(DATOS!AF96,referentes!$AL$2:$AL$15,0),1),\"\")","v":""},null,null,null,null,null,null,null,null,null,null,null,{"$f":"IF(U96=\"\",\"\",INDEX(referentes!$J:$K,MATCH(U96,referentes!$K:$K,0),1))","v":""},{"$f":"IF(V96=\"\",\"\",INDEX(referentes!$M:$N,MATCH(V96,referentes!$N:$N,0),1))","v":""},{"$f":"IF(W96=\"\",\"\",INDEX(referentes!$P:$Q,MATCH(W96,referentes!$Q:$Q,0),1))","v":""},{"$f":"IF(Z96=\"\",\"\",INDEX(referentes!$S:$T,MATCH(Z96,referentes!$T:$T,0),1))","v":""},{"$f":"IF(AA96=\"\",\"\",INDEX(referentes!$V:$W,MATCH(AA96,referentes!$W:$W,0),1))","v":""},{"$f":"IF(AC96=\"\",\"\",INDEX(referentes!$Y:$Z,MATCH(AC96,referentes!$Z:$Z,0),1))","v":""},{"$f":"IF(AH96=\"\",\"\",INDEX(referentes!$AE:$AF,MATCH(AH96,referentes!$AF:$AF,0),1))","v":""},{"$f":"IF(AK96=\"\",\"\",INDEX(referentes!$AH:$AI,MATCH(AK96,referentes!$AI:$AI,0),1))","v":""}]
["",{"$f":"IF( L97<>\"\", CONCATENATE(YEAR(G97),TEXT(G97,\"mmdd\"),DIGITADOR!$B$2,DATOS!K97,DIGITADOR!$M$1),\"\")","v":""},{"$f":"IF( L97<>\"\", IF(K97<>K96,CONCATENATE(YEAR(G97),TEXT(G97,\"mmdd\"),DIGITADOR!$B$2,DATOS!K97,DIGITADOR!$M$1),\"\"),\"\")","v":""},"",null,null,null,null,{"$f":"IF(J97=\"\",\"\",INDEX(referentes!$BA$2:$BB$131,MATCH(DATOS!J97,referentes!$BB$2:$BB$131,0),1))","v":""},null,{"$f":"IF(L97=\"\",\"\",INDEX([2]referentes!$AR:$AV,MATCH(L97,[2]referentes!$AS:$AS,0),1))","v":""},null,{"$f":"IF(L97=\"\",\"\",INDEX([2]referentes!$AR:$AV,MATCH(L97,[2]referentes!$AS:$AS,0),5))","v":""},null,null,null,{"$f":"IF(N97=\"\",\"\",INDEX('Otras referencias'!$A$6:$B$9,MATCH(DATOS!N97,'Otras referencias'!$B$6:$B$9,0),1))","v":""},{"$f":"IF(O97=\"\",\"\",INDEX(referentes!$G:$H,MATCH(O97,referentes!$H:$H,0),1))","v":""},null,null,null,null,null,null,null,null,null,null,null,null,{"$f":"IF(AF97<>\"\",INDEX(referentes!$AK$2:$AL$15,MATCH(DATOS!AF97,referentes!$AL$2:$AL$15,0),1),\"\")","v":""},null,null,null,null,null,null,null,null,null,null,null,{"$f":"IF(U97=\"\",\"\",INDEX(referentes!$J:$K,MATCH(U97,referentes!$K:$K,0),1))","v":""},{"$f":"IF(V97=\"\",\"\",INDEX(referentes!$M:$N,MATCH(V97,referentes!$N:$N,0),1))","v":""},{"$f":"IF(W97=\"\",\"\",INDEX(referentes!$P:$Q,MATCH(W97,referentes!$Q:$Q,0),1))","v":""},{"$f":"IF(Z97=\"\",\"\",INDEX(referentes!$S:$T,MATCH(Z97,referentes!$T:$T,0),1))","v":""},{"$f":"IF(AA97=\"\",\"\",INDEX(referentes!$V:$W,MATCH(AA97,referentes!$W:$W,0),1))","v":""},{"$f":"IF(AC97=\"\",\"\",INDEX(referentes!$Y:$Z,MATCH(AC97,referentes!$Z:$Z,0),1))","v":""},{"$f":"IF(AH97=\"\",\"\",INDEX(referentes!$AE:$AF,MATCH(AH97,referentes!$AF:$AF,0),1))","v":""},{"$f":"IF(AK97=\"\",\"\",INDEX(referentes!$AH:$AI,MATCH(AK97,referentes!$AI:$AI,0),1))","v":""}]
["",{"$f":"IF( L98<>\"\", CONCATENATE(YEAR(G98),TEXT(G98,\"mmdd\"),DIGITADOR!$B$2,DATOS!K98,DIGITADOR!$M$1),\"\")","v":""},{"$f":"IF( L98<>\"\", IF(K98<>K97,CONCATENATE(YEAR(G98),TEXT(G98,\"mmdd\"),DIGITADOR!$B$2,DATOS!K98,DIGITADOR!$M$1),\"\"),\"\")","v":""},"",null,null,null,null,{"$f":"IF(J98=\"\",\"\",INDEX(referentes!$BA$2:$BB$131,MATCH(DATOS!J98,referentes!$BB$2:$BB$131,0),1))","v":""},null,{"$f":"IF(L98=\"\",\"\",INDEX([2]referentes!$AR:$AV,MATCH(L98,[2]referentes!$AS:$AS,0),1))","v":""},null,{"$f":"IF(L98=\"\",\"\",INDEX([2]referentes!$AR:$AV,MATCH(L98,[2]referentes!$AS:$AS,0),5))","v":""},null,null,null,{"$f":"IF(N98=\"\",\"\",INDEX('Otras referencias'!$A$6:$B$9,MATCH(DATOS!N98,'Otras referencias'!$B$6:$B$9,0),1))","v":""},{"$f":"IF(O98=\"\",\"\",INDEX(referentes!$G:$H,MATCH(O98,referentes!$H:$H,0),1))","v":""},null,null,null,null,null,null,null,null,null,null,null,null,{"$f":"IF(AF98<>\"\",INDEX(referentes!$AK$2:$AL$15,MATCH(DATOS!AF98,referentes!$AL$2:$AL$15,0),1),\"\")","v":""},null,null,null,null,null,null,null,null,null,null,null,{"$f":"IF(U98=\"\",\"\",INDEX(referentes!$J:$K,MATCH(U98,referentes!$K:$K,0),1))","v":""},{"$f":"IF(V98=\"\",\"\",INDEX(referentes!$M:$N,MATCH(V98,referentes!$N:$N,0),1))","v":""},{"$f":"IF(W98=\"\",\"\",INDEX(referentes!$P:$Q,MATCH(W98,referentes!$Q:$Q,0),1))","v":""},{"$f":"IF(Z98=\"\",\"\",INDEX(referentes!$S:$T,MATCH(Z98,referentes!$T:$T,0),1))","v":""},{"$f":"IF(AA98=\"\",\"\",INDEX(referentes!$V:$W,MATCH(AA98,referentes!$W:$W,0),1))","v":""},{"$f":"IF(AC98=\"\",\"\",INDEX(referentes!$Y:$Z,MATCH(AC98,referentes!$Z:$Z,0),1))","v":""},{"$f":"IF(AH98=\"\",\"\",INDEX(referentes!$AE:$AF,MATCH(AH98,referentes!$AF:$AF,0),1))","v":""},{"$f":"IF(AK98=\"\",\"\",INDEX(referentes!$AH:$AI,MATCH(AK98,referentes!$AI:$AI,0),1))","v":""}]
["",{"$f":"IF( L99<>\"\", CONCATENATE(YEAR(G99),TEXT(G99,\"mmdd\"),DIGITADOR!$B$2,DATOS!K99,DIGITADOR!$M$1),\"\")","v":""},{"$f":"IF( L99<>\"\", IF(K99<>K98,CONCATENATE(YEAR(G99),TEXT(G99,\"mmdd\"),DIGITADOR!$B$2,DATOS!K99,DIGITADOR!$M$1),\"\"),\"\")","v":""},"",null,null,null,null,{"$f":"IF(J99=\"\",\"\",INDEX(referentes!$BA$2:$BB$131,MATCH(DATOS!J99,referentes!$BB$2:$BB$131,0),1))","v":""},null,{"$f":"IF(L99=\"\",\"\",INDEX([2]referentes!$AR:$AV,MATCH(L99,[2]referentes!$AS:$AS,0),1))","v":""},null,{"$f":"IF(L99=\"\",\"\",INDEX([2]referentes!$AR:$AV,MATCH(L99,[2]referentes!$AS:$AS,0),5))","v":""},null,null,null,{"$f":"IF(N99=\"\",\"\",INDEX('Otras referencias'!$A$6:$B$9,MATCH(DATOS!N99,'Otras referencias'!$B$6:$B$9,0),1))","v":""},{"$f":"IF(O99=\"\",\"\",INDEX(referentes!$G:$H,MATCH(O99,referentes!$H:$H,0),1))","v":""},null,null,null,null,null,null,null,null,null,null,null,null,{"$f":"IF(AF99<>\"\",INDEX(referentes!$AK$2:$AL$15,MATCH(DATOS!AF99,referentes!$AL$2:$AL$15,0),1),\"\")","v":""},null,null,null,null,null,null,null,null,null,null,null,{"$f":"IF(U99=\"\",\"\",INDEX(referentes!$J:$K,MATCH(U99,referentes!$K:$K,0),1))","v":""},{"$f":"IF(V99=\"\",\"\",INDEX(referentes!$M:$N,MATCH(V99,referentes!$N:$N,0),1))","v":""},{"$f":"IF(W99=\"\",\"\",INDEX(referentes!$P:$Q,MATCH(W99,referentes!$Q:$Q,0),1))","v":""},{"$f":"IF(Z99=\"\",\"\",INDEX(referentes!$S:$T,MATCH(Z99,referentes!$T:$T,0),1))","v":""},{"$f":"IF(AA99=\"\",\"\",INDEX(referentes!$V:$W,MATCH(AA99,referentes!$W:$W,0),1))","v":""},{"$f":"IF(AC99=\"\",\"\",INDEX(referentes!$Y:$Z,MATCH(AC99,referentes!$Z:$Z,0),1))","v":""},{"$f":"IF(AH99=\"\",\"\",INDEX(referentes!$AE:$AF,MATCH(AH99,referentes!$AF:$AF,0),1))","v":""},{"$f":"IF(AK99=\"\",\"\",INDEX(referentes!$AH:$AI,MATCH(AK99,referentes!$AI:$AI,0),1))","v":""}]
["",{"$f":"IF( L100<>\"\", CONCATENATE(YEAR(G100),TEXT(G100,\"mmdd\"),DIGITADOR!$B$2,DATOS!K100,DIGITADOR!$M$1),\"\")","v":""},{"$f":"IF( L100<>\"\", IF(K100<>K99,CONCATENATE(YEAR(G100),TEXT(G100,\"mmdd\"),DIGITADOR!$B$2,DATOS!K100,DIGITADOR!$M$1),\"\"),\"\")","v":""},"",null,null,null,null,{"$f":"IF(J100=\"\",\"\",INDEX(referentes!$BA$2:$BB$131,MATCH(DATOS!J100,referentes!$BB$2:$BB$131,0),1))","v":""},null,{"$f":"IF(L100=\"\",\"\",INDEX([2]referentes!$AR:$AV,MATCH(L100,[2]referentes!$AS:$AS,0),1))","v":""},null,{"$f":"IF(L100=\"\",\"\",INDEX([2]referentes!$AR:$AV,MATCH(L100,[2]referentes!$AS:$AS,0),5))","v":""},null,null,null,{"$f":"IF(N100=\"\",\"\",INDEX('Otras referencias'!$A$6:$B$9,MATCH(DATOS!N100,'Otras referencias'!$B$6:$B$9,0),1))","v":""},{"$f":"IF(O100=\"\",\"\",INDEX(referentes!$G:$H,MATCH(O100,referentes!$H:$H,0),1))","v":""},null,null,null,null,null,null,null,null,null,null,null,null,{"$f":"IF(AF100<>\"\",INDEX(referentes!$AK$2:$AL$15,MATCH(DATOS!AF100,referentes!$AL$2:$AL$15,0),1),\"\")","v":""},null,null,null,null,null,null,null,null,null,null,null,{"$f":"IF(U100=\"\",\"\",INDEX(referentes!$J:$K,MATCH(U100,referentes!$K:$K,0),1))","v":""},{"$f":"IF(V100=\"\",\"\",INDEX(referentes!$M:$N,MATCH(V100,referentes!$N:$N,0),1))","v":""},{"$f":"IF(W100=\"\",\"\",INDEX(referentes!$P:$Q,MATCH(W100,referentes!$Q:$Q,0),1))","v":""},{"$f":"IF(Z100=\"\",\"\",INDEX(referentes!$S:$T,MATCH(Z100,referentes!$T:$T,0),1))","v":""},{"$f":"IF(AA100=\"\",\"\",INDEX(referentes!$V:$W,MATCH(AA100,referentes!$W:$W,0),1))","v":""},{"$f":"IF(AC100=\"\",\"\",INDEX(referentes!$Y:$Z,MATCH(AC100,referentes!$Z:$Z,0),1))","v":""},{"$f":"IF(AH100=\"\",\"\",INDEX(referentes!$AE:$AF,MATCH(AH100,referentes!$AF:$AF,0),1))","v":""},{"$f":"IF(AK100=\"\",\"\",INDEX(referentes!$AH:$AI,MATCH(AK100,referentes!$AI:$AI,0),1))","v":""}]

{"sheet":"referentes","index":4,"n_rows":0,"n_cols":0,"rows_kept":0,"cut":false,"hidden":false,"merged":[]}

{"sheet":"Otras referencias","index":5,"n_rows":20,"n_cols":10,"rows_kept":20,"cut":false,"hidden":false,"merged":[[4,25,4,27],[4,0,4,1],[4,12,4,13]]}
["Listas fijas. Agregue los elementos a la lista"]
[]
[]
[]
["Sustrato",null,null,"PRIMER",null,null,"Entidad"]
["SA","Agua",null,"pVC-F2: TTAAGCSTTTTCRCTGAGAATG                                                                    pVCm-R1: AGTCACTTAACCATACAACCCG",null,"UNIVALLE","Universidad del Valle",null,null,{"$f":"IF(N5=\"\",\"\",INDEX('Otras referencias'!$A:$B,MATCH(N5,'Otras referencias'!$B:$B,0),1))","v":""}]
["SS","Sedimento",null,"gyrB- F:GAGAACCCGACAGAAGCGAAG                                                                       gyrB- R: CCTAGTGCGGTGATCAGTGTTG",null,"CORALINA","Corporación Autonoma "]
["OA","Organismo Animal",null,"Tlh -F: AAAGCGGATTATGCAGAAGCA CTG                                     Tlh-R: GCTACTTTCTAGCATTTTCTCTG C",null,"CORPOGUAJIRA","Corporación Autónoma Regional de la Guajira"]
["OV","Organismo Vegetal",null,"vvhA- F: AATCGGCAACGTCAGATGGT                                          vvhA-R: GCCGTAAACCGAAAACAGCG",null,"UNal","Universidad Nacional de Colombia"]
[null,null,null,"ToxR-F:GACCAGGGCTTTGAGGTGGACGAC                                 ToxR-R: AGGATACGGCACTTGAGTAAGACTC",null,"CORPOURABA","Corporación Autónoma Regional del Uraba"]
[null,null,null,null,null,"CVS","Corporación Regional de Valle del Sinu y San Jorge"]
[null,null,null,null,null,"CARDIQUE","Corporacion Autonoma Regional del Canal del Dique"]
[null,null,null,null,null,"CARSUCRE","Corporacion Autonoma Regional de Sucre"]
[null,null,null,null,null,"CODECHOCO","Corporacion para el Desarrollo Sostenible del Choco"]
[null,null,null,null,null,"CRA","Corporacion Autonoma Regional del Atlàntico"]
[null,null,null,null,null,"CRC","Corporacion Autonoma Regional del Cauca"]
[null,null,null,null,null,"CVC","Corporacion  Autonoma Regional del Valle del Cauca"]
[null,null,null,null,null,"CORPONARIÑO","Corporacion Autonoma Regional de Nariño"]
[null,null,null,null,null,"CORPAMAG","Corporación Autónoma Regional del Magdalena"]
[null,null,null,null,null,"INVEMAR","Instituto de Investigaciones Marinas y Costera"]

{"sheet":"AGD_MUESTREOS","index":6,"n_rows":0,"n_cols":0,"rows_kept":0,"cut":false,"hidden":true,"merged":[]}

{"sheet":"AGD_PARAMETRO","index":7,"n_rows":0,"n_cols":0,"rows_kept":0,"cut":false,"hidden":true,"merged":[]}

{"sheet":"AGD_MUESTRAS","index":8,"n_rows":0,"n_cols":0,"rows_kept":0,"cut":false,"hidden":true,"merged":[]}

{"sheet":"AGD_MUESTRAS_VARIABLES","index":9,"n_rows":0,"n_cols":0,"rows_kept":0,"cut":false,"hidden":true,"merged":[]}

{"sheet":"AGD_AUTORIAS","index":10,"n_rows":0,"n_cols":0,"rows_kept":0,"cut":false,"hidden":true,"merged":[]}