{"text_format":"1","workbook":"xlsx","n_sheets":16,"sheets":["Registro de cambios","configuracion_mip_ss","configuracion_mip_sa","configuracion_map","DIGITADOR","referentes","otras referencias","DATOS_MIP_SS","DATOS_MIP_SA","DATOS_MAP","MUESTRAS","AGD_MUESTREOS","AGD_PARAMETRO","AGD_MUESTRAS","AGD_MUESTRAS_VARIABLES","AGD_AUTORIAS"],"not_rendered":{"charts":0,"images":0,"macros":1,"external_links":1,"defined_names":142,"comments":5,"pivot_tables":0},"unopened":[],"bounds":{"document_bytes":16777216,"sheet_cells":100000,"rows_first":2000,"rows_last":500,"rows_between":2000,"halvings":0,"cell_chars":16384,"cell_head_chars":4096},"cells_cut":0,"cells_raw":0,"read":"whole","date_system":"1900"}

{"sheet":"Registro de cambios","index":0,"n_rows":13,"n_cols":11,"rows_kept":13,"cut":false,"hidden":true,"merged":[[10,5,10,9],[12,5,12,9],[11,5,11,9],[9,5,9,9],[1,3,1,10],[2,5,2,9],[8,5,8,9],[7,5,7,9],[6,5,6,9],[5,5,5,9],[4,5,4,9],[3,5,3,9]]}
[]
[null,null,null,"REGISTRO DE CAMBIOS"]
[null,null,null,"VERSIÓN No.","AUTOR","CAMBIO REALIZADO",null,null,null,null,"VIGENTE DESDE"]
[null,null,null,"20241024i","Jair Valdes","Se configuran las tres metodologías, para ingresar las observaciones en la base de datos, parametro \"NOTAS\" del objeto \"AGD_MUESTRAS\".",null,null,null,null,"2024-10-24"]
[null,null,null,"20240614i","Jair Valdes","Se modifica el código de descarga referentes y carga de datos, implementado las nuevas API, servicios para descarga y carga de datos:\n\nhttps://argos.invemar.org.co/api/",null,null,null,null,"2024-06-14"]
[null,null,null,"20240228i","Jair Valdes","* Se corrige las fórmulas basadas en las descargas de los referentes de cada temática.\n\n* Se actualiza la URL del servicio REST utilizado para descargar el catalogo de estaciones en la hoja \"referentes\".",null,null,null,null,"2024-02-28"]
[null,null,null,"20230728i","Jair Valdes","* Se corrige la macro que valida los datos, ya que no se ejecutada completamente el procedimiento por una instrucción que suspendía la macro, se eliminó dicha instrucción para que se completara el procedimiento de ejecución.\n\n* Se añaden tres nuevos atributos en el ingreso de datos de microplásticos en agua ( hora final de arrastre, profundidad de arrastre y área de la red) y se elimina el atributo volumen filtrado ya que se decide aplicarse el cálculo programado en la base de datos (PL/SQL).\n\n* Con base a estos cambios se configura la hoja para el reporte de microplásticos en agua y se hacen pruebas de generación de tablas, funcionando todo correctamente.\n\n* Se ajustan algunas formulas optimizándolas para evitar modificarlas en futuros procesos.",null,null,null,null,"2023-07-28"]
[null,null,null,"20230210i","Jair Valdes","* Se incluyen tres hojas de datos que abarcan las tres temáticas del componenete basura marina.\n\n* Se incluyen tres hojas de configuración, cada una ajustada con base a la estructura de datos de cada temática.\n\n* Se agrega un botón \"Validación de datos\" en la hoja \"DIGITADOR\" que valida los datos obligatorios.\n\n* Se modifica el código de las macros, adaptandolo a los procesos de descarga de referentes, procesamiento de datos y carga de datos a la BD para las tres temáticas del componente de basura marina.",null,null,null,null,"2023-02-10"]
[null,null,null,"20230103i","Jair Valdes","* Se modifica la estructua de la hoja DATOS\n\n* Se programa una nueva macro que valida los datos obligatorios y se crea un nuevo botón que ejecuta la acción de validación",null,null,null,null,"2023-03-01"]
[null,null,null,"20221202i","Kevin Moreno","Se recreó la hoja DATOS, añadiendo nuevos referentes.",null,null,null,null,"2022-02-12"]
[null,null,null,"20220921m","Kevin Moreno","Se agregó las columnas Entidad, Proyecto Financia en la hoja DATOS.",null,null,null,null,"2022-09-21"]
[null,null,null,"20220509i",null,"Se modifica la generación de los ID de muestreo y se modifica macro que genera número aleatorio en la hoja DIGITADOR, por otro lado  se mapeo cada uno de los campos tales como: Fecha, hora,estación, recolector,analis laboratorio,temporada_turismo,matriz,zona_playa,transecto,cuadrante,forma,tipo de origen,color cantidad,area,nombre polimero,concentración,peso arena seca,observaciones.",null,null,null,null,"2022-05-09"]
[null,null,null,"20220420m",null,"Se modifica la generación de los ID de muestreo y se agrega macro que genera número aleatorio en la hoja DIGITADOR.",null,null,null,null,"2018-04-13"]

{"sheet":"configuracion_mip_ss","index":1,"n_rows":86,"n_cols":19,"rows_kept":86,"cut":false,"hidden":true,"merged":[[28,0,35,0],[37,0,42,0],[45,0,45,1],[0,0,2,0],[3,0,5,0],[7,0,8,0],[9,0,15,0],[17,0,21,0],[23,0,26,0]]}
["general","urlServicio","https://argos.invemar.org.co/api/","nodo estacion",40]
[null,"fila de inicio",10]
[null,"fila de fin",300]
["metodologias","Metodologias",867]
[null,"Referentes",500]
[null,"Cantidad maxima de referentes ",500]
["estaciones/investigadores","proyectos",2060]
["Lista especies","metodologias"]
[null,"proyectos"]
["MUESTREOS","ID_MUESTREO","DATOS_MIP_SS,D"]
[null,"ID_ESTACION","DATOS_MIP_SS,J"]
[null,"ID_PROYECTO",2060]
[null,"ID_METODOLOGIA",867]
[null,"ID_TEMATICAS",255]
[null,"FECHA","DATOS_MIP_SS,K"]
[null,"NOTAS"]
[null,"cantidad",2000]
["parametro muestreo (CABECERAS)","ID_MUESTREO","DATOS_MIP_SS,D","DATOS_MIP_SS,D","DATOS_MIP_SS,D","DATOS_MIP_SS,D","DATOS_MIP_SS,D","DATOS_MIP_SS,D","DATOS_MIP_SS,D"]
[null,"ID_PARAMETRO",127,1169,1170,1055,825,1245,1240]
[null,"ID_METODOLOGIA",867,867,867,867,867,867,867]
[null,"ID_UNIDAD_MEDIDA",100,100,100,100,0,100,100]
[null,"VALOR","DIGITADOR,B,9","DIGITADOR,B,12","DIGITADOR,B,11","DIGITADOR,B,8","DATOS_MIP_SS,W","DATOS_MIP_SS,M","DATOS_MIP_SS,L"]
[null,"cantidad",2000,2000,2000,2000,2000,2000,2000]
["muestra","ID_MUESTRA","DATOS_MIP_SS,F"]
[null,"ID_MUESTREO","DATOS_MIP_SS,E"]
[null,"NOTAS","DATOS_MIP_SS,AZ"]
[null,"ES_REPLICA",1]
[null,"cantidad",2000]
["muestra variable","ID_PARAMETRO",1244,1708,1707,1706,118,1224,287,123,597,598,1182,841,876,1225,860,1709,1246]
[null,"ID_METODOLOGIA",867,867,867,867,867,867,867,867,867,867,867,867,867,867,867,867,867]
[null,"ID_UNIDAD_MEDIDA",100,100,100,100,100,100,100,100,100,100,100,100,11,0,109,69,69]
[null,"ID_MUESTRA","DATOS_MIP_SS,F","DATOS_MIP_SS,F","DATOS_MIP_SS,F","DATOS_MIP_SS,F","DATOS_MIP_SS,F","DATOS_MIP_SS,F","DATOS_MIP_SS,F","DATOS_MIP_SS,F","DATOS_MIP_SS,F","DATOS_MIP_SS,F","DATOS_MIP_SS,F","DATOS_MIP_SS,F","DATOS_MIP_SS,F","DATOS_MIP_SS,F","DATOS_MIP_SS,F","DATOS_MIP_SS,F","DATOS_MIP_SS,F"]
[null,"ID_METODO"]
[null,"VALOR","DATOS_MIP_SS,N","DATOS_MIP_SS,P","DATOS_MIP_SS,Q","DATOS_MIP_SS,O","DATOS_MIP_SS,R","DATOS_MIP_SS,S","DATOS_MIP_SS,T","DATOS_MIP_SS,U","DATOS_MIP_SS,AB","DATOS_MIP_SS,AC","DATOS_MIP_SS,AG","DATOS_MIP_SS,AH","DATOS_MIP_SS,AO","DATOS_MIP_SS,AS","DATOS_MIP_SS,AU","DATOS_MIP_SS,AW","DATOS_MIP_SS,AX"]
[null,"QUALITY_FLAG"]
[null,"PRECISION"]
[null,"cantidad",2000,2000,2000,2000,2000,2000,2000,2000,2000,2000,2000,2000,2000,2000,2000,2000,2000]
["autoria","ID_FUNCIONARIO","DIGITADOR,B,2","DATOS_MIP_SS,AB,3","DATOS_MIP_SS,AE,3","DATOS_MIP_SS,AB,5","DATOS_MIP_SS,AE,5"]
[null,"ID_TAREA",5,"DATOS_MIP_SS,AB,4","DATOS_MIP_SS,AE,4","DATOS_MIP_SS,AB,6","DATOS_MIP_SS,AE,6"]
[null,"ORDEN","DATOS_MIP_SS,AF,8","DATOS_MIP_SS,AB,8","DATOS_MIP_SS,AC,8","DATOS_MIP_SS,AD,8","DATOS_MIP_SS,AE,8"]
[null,"FECHA","DIGITADOR,B,7","DATOS_MIP_SS,K","DATOS_MIP_SS,K","DATOS_MIP_SS,K","DATOS_MIP_SS,K"]
[null,"ID_MUESTREO","DATOS_MIP_SS,D","DATOS_MIP_SS,D","DATOS_MIP_SS,D","DATOS_MIP_SS,D","DATOS_MIP_SS,D"]
[null,"ENTIDAD","DATOS_MIP_SS,AA,8","DATOS_MIP_SS,AA,8","DATOS_MIP_SS,AA,8","DATOS_MIP_SS,AA,8","DATOS_MIP_SS,AA,8"]
[null,"cantidad",2000,2000,2000,2000,2000]
[]
["REGISTROS GENERADOS",null,"REGISTROS CARGADOS",null,null,122,"CONCENTRACION"]
["MUESTREOS",null,0,null,null,123,"UNIDADES_EV","AGM_UNIDADES_MEDIDA",0]
["parametro muestreo",null,0,null,null,127,"PROYECTO_FINANCIO",null,1005]
["muestra",null,0,null,null,287,"COLOR","AG_LOV",2093]
["muestra variable",null,0,null,null,622,"OBSERVACIONES"]
["autoria",null,0,null,null,825,"MUESTREO"]
["registros correctos",null,null,null,null,828,"ENTIDAD"]
["Fecha de carga",null,null,null,null,841,"CUADRANTE"]
["json error",null,null,null,null,860,"AREA"]
["error",null,null,null,null,1055,"VERSION_PLANTILLA"]
[null,null,null,null,null,1169,"URL_METADATO"]
[null,null,null,null,null,1170,"ARCHIVO_FUENTE"]
["OBLIGATORIOS",null,null,null,null,1182,"TRANSECTO","AG_LOV",1114]
["DIGITADOR,B,3",null,null,null,null,1224,"FORMA"]
["DIGITADOR,B,7",null,null,null,null,1225,"CANTIDAD","AG_LOV",1116]
["DIGITADOR,B,10",null,null,null,null,1228,"NOMBRE_POLIMERO","AG_LOV",2094]
["DIGITADOR,B,12",null,null,null,null,1240,"MATRIZ","AG_LOV",1120]
["DATOS_MIP_SS,AA,2",null,null,null,null,1241,"TIPO_DE_ORIGEN","AG_LOV",2091]
["DATOS_MIP_SS,AA,3",null,null,null,null,1244,"ZONA_DE_PLAYA","AG_LOV",2092]
["DATOS_MIP_SS,AA,4",null,null,null,null,1245,"TEMPORADA_TURISMO"]
["DATOS_MIP_SS,W",null,null,null,null,1246,"PESO_ARENA_SECA"]
["DATOS_MIP_SS,X",null,null,null,null,1706,"METODO_MUESTREO"]
["DATOS_MIP_SS,AB",null,null,null,null,1707,"TAMANO_PARTICULA"]
["DATOS_MIP_SS,AC",null,null,null,null,1708,"PROCEDIMIENTO"]
["DATOS_MIP_SS,AD"]
["DATOS_MIP_SS,AE"]
["DATOS_MIP_SS,AF"]
["DATOS_MIP_SS,AG"]
["DATOS_MIP_SS,AH"]
["DATOS_MIP_SS,AI"]
["DATOS_MIP_SS,AJ"]
["DATOS_MIP_SS,AK"]
["DATOS_MIP_SS,AL"]
["DATOS_MIP_SS,AN"]
["DATOS_MIP_SS,AO"]
["DATOS_MIP_SS,AP"]
["DATOS_MIP_SS,AQ"]
["DATOS_MIP_SS,AR"]
["DATOS_MIP_SS,AS"]
["DATOS_MIP_SS,AU"]
["DATOS_MIP_SS,AY"]

{"sheet":"configuracion_mip_sa","index":2,"n_rows":83,"n_cols":20,"rows_kept":83,"cut":false,"hidden":true,"merged":[[28,0,35,0],[37,0,42,0],[45,0,45,1],[0,0,2,0],[3,0,5,0],[7,0,8,0],[9,0,15,0],[17,0,21,0],[23,0,26,0]]}
["general","urlServicio","https://argos.invemar.org.co/api/","nodo estacion",40]
[null,"fila de inicio",10]
[null,"fila de fin",300]
["metodologias","Metodologias",865]
[null,"Referentes",500]
[null,"Cantidad maxima de referentes ",500]
["estaciones/investigadores","proyectos",2060]
["Lista especies","metodologias"]
[null,"proyectos"]
["MUESTREOS","ID_MUESTREO","DATOS_MIP_SA,D"]
[null,"ID_ESTACION","DATOS_MIP_SA,J"]
[null,"ID_PROYECTO",2060]
[null,"ID_METODOLOGIA",865]
[null,"ID_TEMATICAS",255]
[null,"FECHA","DATOS_MIP_SA,K"]
[null,"NOTAS"]
[null,"cantidad",2000]
["parametro muestreo (CABECERAS)","ID_MUESTREO","DATOS_MIP_SA,D","DATOS_MIP_SA,D","DATOS_MIP_SA,D","DATOS_MIP_SA,D","DATOS_MIP_SA,D","DATOS_MIP_SA,D","DATOS_MIP_SA,D","DATOS_MIP_SA,D","DATOS_MIP_SA,D"]
[null,"ID_PARAMETRO",127,1169,1170,1055,825,1245,1240,118,860]
[null,"ID_METODOLOGIA",865,865,865,865,865,865,865,865,865]
[null,"ID_UNIDAD_MEDIDA",100,100,100,100,0,100,100,0,109]
[null,"VALOR","DIGITADOR,B,9","DIGITADOR,B,12","DIGITADOR,B,11","DIGITADOR,B,8","DATOS_MIP_SA,W","DATOS_MIP_SA,M","DATOS_MIP_SA,L","DATOS_MIP_SA,AL","DATOS_MIP_SA,AR"]
[null,"cantidad",2000,2000,2000,2000,2000,2000,2000,2000,2000]
["muestra","ID_MUESTRA","DATOS_MIP_SA,F"]
[null,"ID_MUESTREO","DATOS_MIP_SA,E"]
[null,"NOTAS","DATOS_MIP_SA,AZ"]
[null,"ES_REPLICA",1]
[null,"cantidad",2000]
["muestra variable","ID_PARAMETRO",1708,1707,1706,118,1224,287,597,598,1253,1255,1182,118,1225,1257,1259,1261,1177,1178]
[null,"ID_METODOLOGIA",865,865,865,865,865,865,865,865,865,865,865,865,865,865,865,865,865,865]
[null,"ID_UNIDAD_MEDIDA",100,100,100,100,100,100,100,100,100,100,100,11,0,100,100,100,100,100]
[null,"ID_MUESTRA","DATOS_MIP_SA,F","DATOS_MIP_SA,F","DATOS_MIP_SA,F","DATOS_MIP_SA,F","DATOS_MIP_SA,F","DATOS_MIP_SA,F","DATOS_MIP_SA,F","DATOS_MIP_SA,F","DATOS_MIP_SA,F","DATOS_MIP_SA,F","DATOS_MIP_SA,F","DATOS_MIP_SA,F","DATOS_MIP_SA,F","DATOS_MIP_SA,F","DATOS_MIP_SA,F","DATOS_MIP_SA,F","DATOS_MIP_SA,F","DATOS_MIP_SA,F"]
[null,"ID_METODO"]
[null,"VALOR","DATOS_MIP_SA,P","DATOS_MIP_SA,Q","DATOS_MIP_SA,O","DATOS_MIP_SA,R","DATOS_MIP_SA,S","DATOS_MIP_SA,T","DATOS_MIP_SA,AB","DATOS_MIP_SA,AC","DATOS_MIP_SA,AD","DATOS_MIP_SA,AE","DATOS_MIP_SA,AJ","DATOS_MIP_SA,AP","DATOS_MIP_SA,AX","DATOS_MIP_SA,AQ","DATOS_MIP_SA,AS","DATOS_MIP_SA,AT","DATOS_MIP_SA,AG","DATOS_MIP_SA,AH"]
[null,"QUALITY_FLAG"]
[null,"PRECISION"]
[null,"cantidad",2000,2000,2000,2000,2000,2000,2000,2000,2000,2000,2000,2000,2000,2000,2000,2000,2000,2000]
["autoria","ID_FUNCIONARIO","DIGITADOR,B,2","DATOS_MIP_SA,AB,3","DATOS_MIP_SA,AE,3","DATOS_MIP_SA,AB,5","DATOS_MIP_SA,AE,5"]
[null,"ID_TAREA",5,"DATOS_MIP_SA,AB,4","DATOS_MIP_SA,AE,4","DATOS_MIP_SA,AB,6","DATOS_MIP_SA,AE,6"]
[null,"ORDEN","DATOS_MIP_SA,AF,8","DATOS_MIP_SA,AB,8","DATOS_MIP_SA,AC,8","DATOS_MIP_SA,AD,8","DATOS_MIP_SA,AE,8"]
[null,"FECHA","DIGITADOR,B,7","DATOS_MIP_SA,K","DATOS_MIP_SA,K","DATOS_MIP_SA,K","DATOS_MIP_SA,K"]
[null,"ID_MUESTREO","DATOS_MIP_SA,D","DATOS_MIP_SA,D","DATOS_MIP_SA,D","DATOS_MIP_SA,D","DATOS_MIP_SA,D"]
[null,"ENTIDAD","DATOS_MIP_SA,AA,8","DATOS_MIP_SA,AA,8","DATOS_MIP_SA,AA,8","DATOS_MIP_SA,AA,8","DATOS_MIP_SA,AA,8"]
[null,"cantidad",2000,2000,2000,2000,2000]
[]
["REGISTROS GENERADOS",null,"REGISTROS CARGADOS",null,null,122,"CONCENTRACION"]
["MUESTREOS",null,null,null,null,123,"UNIDADES_EV","AGM_UNIDADES_MEDIDA",0]
["parametro muestreo",null,null,null,null,127,"PROYECTO_FINANCIO",null,1005]
["muestra",null,null,null,null,287,"COLOR","AG_LOV",2093]
["muestra variable",null,null,null,null,622,"OBSERVACIONES"]
["autoria",null,null,null,null,825,"MUESTREO"]
["registros correctos",null,null,null,null,828,"ENTIDAD"]
["Fecha de carga",null,null,null,null,841,"CUADRANTE"]
["json error",null,null,null,null,860,"AREA"]
["error",null,null,null,null,1055,"VERSION_PLANTILLA"]
[null,null,null,null,null,1169,"URL_METADATO"]
[null,null,null,null,null,1170,"ARCHIVO_FUENTE"]
["OBLIGATORIOS",null,null,null,null,1182,"TRANSECTO","AG_LOV",1114]
["DIGITADOR,B,3",null,null,null,null,1224,"FORMA"]
["DIGITADOR,B,7",null,null,null,null,1225,"CANTIDAD","AG_LOV",1116]
["DIGITADOR,B,10",null,null,null,null,1228,"NOMBRE_POLIMERO","AG_LOV",2094]
["DIGITADOR,B,12",null,null,null,null,1240,"MATRIZ","AG_LOV",1120]
["DATOS_MIP_SA,AA,2",null,null,null,null,1241,"TIPO_DE_ORIGEN","AG_LOV",2091]
["DATOS_MIP_SA,AA,3",null,null,null,null,1244,"ZONA_DE_PLAYA","AG_LOV",2092]
["DATOS_MIP_SA,AA,4",null,null,null,null,1245,"TEMPORADA_TURISMO"]
["DATOS_MIP_SA,W",null,null,null,null,1246,"PESO_ARENA_SECA"]
["DATOS_MIP_SA,X",null,null,null,null,1706,"METODO_MUESTREO"]
["DATOS_MIP_SA,AB",null,null,null,null,1707,"TAMANO_PARTICULA"]
["DATOS_MIP_SA,AC",null,null,null,null,1708,"PROCEDIMIENTO"]
["DATOS_MIP_SA,AF",null,null,null,null,118,"PROFUNDIDAD"]
["DATOS_MIP_SA,AG",null,null,null,null,1177,"HORA INI"]
["DATOS_MIP_SA,AH",null,null,null,null,1178,"HORA FINAL"]
["DATOS_MIP_SA,AI",null,null,null,null,597,"LATITUD"]
["DATOS_MIP_SA,AJ",null,null,null,null,1253,"lat final"]
["DATOS_MIP_SA,AM",null,null,null,null,1255,"lon final"]
["DATOS_MIP_SA,AN",null,null,null,null,1257,"Vel nudos"]
["DATOS_MIP_SA,AO",null,null,null,null,1259,"flujo. Inicial"]
["DATOS_MIP_SA,AP",null,null,null,null,1261,"flujo. Final"]
["DATOS_MIP_SA,AQ",null,null,null,null,1056]
["DATOS_MIP_SA,AU",null,null,null,null,860,"AREA"]
["DATOS_MIP_SA,AW"]
["DATOS_MIP_SA,AY"]
["DATOS_MIP_SA,AX"]

{"sheet":"configuracion_map","index":3,"n_rows":86,"n_cols":17,"rows_kept":86,"cut":false,"hidden":true,"merged":[[28,0,35,0],[37,0,42,0],[45,0,45,1],[0,0,2,0],[3,0,5,0],[7,0,8,0],[9,0,15,0],[17,0,21,0],[23,0,26,0]]}
["general","urlServicio","https://argos.invemar.org.co/api/","nodo estacion",40]
[null,"fila de inicio",10]
[null,"fila de fin",300]
["metodologias","Metodologias",866]
[null,"Referentes",500]
[null,"Cantidad maxima de referentes ",500]
["estaciones/investigadores","proyectos",2060]
["Lista especies","metodologias"]
[null,"proyectos"]
["MUESTREOS","ID_MUESTREO","DATOS_MAP,D"]
[null,"ID_ESTACION","DATOS_MAP,J"]
[null,"ID_PROYECTO",2060]
[null,"ID_METODOLOGIA",866]
[null,"ID_TEMATICAS",255]
[null,"FECHA","DATOS_MAP,K"]
[null,"NOTAS"]
[null,"cantidad",2000]
["parametro muestreo (CABECERAS)","ID_MUESTREO","DATOS_MAP,D","DATOS_MAP,D","DATOS_MAP,D","DATOS_MAP,D","DATOS_MAP,D","DATOS_MAP,D","DATOS_MAP,D"]
[null,"ID_PARAMETRO",127,1169,1170,1055,825,1245,1240]
[null,"ID_METODOLOGIA",866,866,866,866,866,866,866]
[null,"ID_UNIDAD_MEDIDA",100,100,100,100,0,100,100]
[null,"VALOR","DIGITADOR,B,9","DIGITADOR,B,12","DIGITADOR,B,11","DIGITADOR,B,8","DATOS_MAP,W","DATOS_MAP,M","DATOS_MAP,L"]
[null,"cantidad",2000,2000,2000,2000,2000,2000,2000]
["muestra","ID_MUESTRA","DATOS_MAP,F"]
[null,"ID_MUESTREO","DATOS_MAP,E"]
[null,"NOTAS","DATOS_MAP,AZ"]
[null,"ES_REPLICA",1]
[null,"cantidad",2000]
["muestra variable","ID_PARAMETRO",1244,1708,1707,1706,118,1725,123,597,598,1182,841,118,1225,860,1729]
[null,"ID_METODOLOGIA",866,866,866,866,866,866,866,866,866,866,866,866,866,866,866]
[null,"ID_UNIDAD_MEDIDA",100,100,100,100,100,100,100,100,100,100,100,11,0,109,69]
[null,"ID_MUESTRA","DATOS_MAP,F","DATOS_MAP,F","DATOS_MAP,F","DATOS_MAP,F","DATOS_MAP,F","DATOS_MAP,F","DATOS_MAP,F","DATOS_MAP,F","DATOS_MAP,F","DATOS_MAP,F","DATOS_MAP,F","DATOS_MAP,F","DATOS_MAP,F","DATOS_MAP,F","DATOS_MAP,F"]
[null,"ID_METODO"]
[null,"VALOR","DATOS_MAP,N","DATOS_MAP,P","DATOS_MAP,Q","DATOS_MAP,O","DATOS_MAP,R","DATOS_MAP,S","DATOS_MAP,U","DATOS_MAP,AB","DATOS_MAP,AC","DATOS_MAP,AG","DATOS_MAP,AH","DATOS_MAP,AO","DATOS_MAP,AS","DATOS_MAP,AU","DATOS_MAP,AX"]
[null,"QUALITY_FLAG"]
[null,"PRECISION"]
[null,"cantidad",2000,2000,2000,2000,2000,2000,2000,2000,2000,2000,2000,2000,2000,2000,2000]
["autoria","ID_FUNCIONARIO","DIGITADOR,B,2","DATOS_MAP,AB,3","DATOS_MAP,AE,3","DATOS_MAP,AB,5","DATOS_MAP,AE,5"]
[null,"ID_TAREA",5,"DATOS_MAP,AB,4","DATOS_MAP,AE,4","DATOS_MAP,AB,6","DATOS_MAP,AE,6"]
[null,"ORDEN","DATOS_MAP,AF,8","DATOS_MAP,AB,8","DATOS_MAP,AC,8","DATOS_MAP,AD,8","DATOS_MAP,AE,8"]
[null,"FECHA","DIGITADOR,B,7","DATOS_MAP,K","DATOS_MAP,K","DATOS_MAP,K","DATOS_MAP,K"]
[null,"ID_MUESTREO","DATOS_MAP,D","DATOS_MAP,D","DATOS_MAP,D","DATOS_MAP,D","DATOS_MAP,D"]
[null,"ENTIDAD","DATOS_MAP,AA,8","DATOS_MAP,AA,8","DATOS_MAP,AA,8","DATOS_MAP,AA,8","DATOS_MAP,AA,8"]
[null,"cantidad",2000,2000,2000,2000,2000]
[]
["REGISTROS GENERADOS",null,"REGISTROS CARGADOS",null,null,122,"CONCENTRACION"]
["MUESTREOS",null,null,null,null,123,"UNIDADES_EV","AGM_UNIDADES_MEDIDA",0]
["parametro muestreo",null,null,null,null,127,"PROYECTO_FINANCIO",null,1005]
["muestra",null,null,null,null,287,"COLOR","AG_LOV",2093]
["muestra variable",null,null,null,null,622,"OBSERVACIONES"]
["autoria",null,null,null,null,825,"MUESTREO"]
["registros correctos",null,null,null,null,828,"ENTIDAD"]
["Fecha de carga",null,null,null,null,841,"CUADRANTE"]
["json error",null,null,null,null,860,"AREA"]
["error",null,null,null,null,1055,"VERSION_PLANTILLA"]
[null,null,null,null,null,1169,"URL_METADATO"]
[null,null,null,null,null,1170,"ARCHIVO_FUENTE"]
["OBLIGATORIOS",null,null,null,null,1182,"TRANSECTO","AG_LOV",1114]
["DIGITADOR,B,3",null,null,null,null,1224,"FORMA"]
["DIGITADOR,B,7",null,null,null,null,1225,"CANTIDAD","AG_LOV",1116]
["DIGITADOR,B,10",null,null,null,null,1228,"NOMBRE_POLIMERO","AG_LOV",2094]
["DIGITADOR,B,12",null,null,null,null,1240,"MATRIZ","AG_LOV",1120]
["DATOS_MAP,AA,2",null,null,null,null,1241,"TIPO_DE_ORIGEN","AG_LOV",2091]
["DATOS_MAP,AA,3",null,null,null,null,1244,"ZONA_DE_PLAYA","AG_LOV",2092]
["DATOS_MAP,AA,4",null,null,null,null,1245,"TEMPORADA_TURISMO"]
["DATOS_MAP,W",null,null,null,null,1246,"PESO_ARENA_SECA"]
["DATOS_MAP,X",null,null,null,null,1706,"METODO_MUESTREO"]
["DATOS_MAP,AB",null,null,null,null,1707,"TAMANO_PARTICULA"]
["DATOS_MAP,AC",null,null,null,null,1708,"PROCEDIMIENTO"]
["DATOS_MAP,AD"]
["DATOS_MAP,AE"]
["DATOS_MAP,AF"]
["DATOS_MAP,AG"]
["DATOS_MAP,AH"]
["DATOS_MAP,AI"]
["DATOS_MAP,AJ"]
["DATOS_MAP,AK"]
["DATOS_MAP,AL"]
["DATOS_MAP,AN"]
["DATOS_MAP,AO"]
["DATOS_MAP,AP"]
["DATOS_MAP,AQ"]
["DATOS_MAP,AS"]
["DATOS_MAP,AU"]
["DATOS_MAP,AX"]
["DATOS_MAP,AY"]

{"sheet":"DIGITADOR","index":4,"n_rows":25,"n_cols":22,"rows_kept":25,"cut":false,"hidden":false,"merged":[[15,0,15,1],[5,0,6,0],[0,0,0,1],[0,3,5,10],[6,3,8,10],[9,3,10,10],[11,3,13,10]]}
[null,null,null,"Recomendaciones generales: \n- ¡Precaución! No inserte Filas o Columnas.\n- En los casos en que falte un valor a ingresar que provenga de la hoja de referencias, informe para que el administrador del sistema haga las adiciones necesarias.\nEsta es una plantilla programada. Las columnas de color oscuro se llenan automaticamente, principalmente a partir de los contenidos de la hoja de referencias. \nNO UTILICE PUNTO Y COMA (;) en ningun campo, por ser el separador de variables (columnas). Tampoco escriba las unidades de medida, no son necesarias.\n- Para el correcto funcionamiento de la hoja debe estar activa la opcion de Excel de ejecutar macros (al abrir la hoja acepte la opcion habilitar macros, mensaje de Excel que aparece en la parte superior de la hoja en un recuadro amarillo). La extensión del archivo debe ser .xlsm\n- Se recomienda renombrar el archivo de la siguiente manera: Departamento_proyecto_sustrato-muestreo-año.xlsm",null,null,null,null,null,null,null,null,1138,null,null,{"$f":"IF(A1<>\"\",INDEX('otras referencias'!$X$6:$Y$8,MATCH(DIGITADOR!A1,'otras referencias'!$Y$6:$Y$8,0),1),\"\")","v":""},{"$f":"IF(A1<>\"\",INDEX('otras referencias'!$X$6:$Z$8,MATCH(DIGITADOR!A1,'otras referencias'!$Y$6:$Y$8,0),3),\"\")","v":""},null,null,null,null,"http://portete.invemar.org.co:7003/ArgosWebServices-RESTWebService-context-root/rest/1.0/referente?finder=Metodologia;VAR_METODOLOGIA=866&limit=500"]
["CODIGO",{"$f":"IF(B3<>\"\",IF(OR(P1=\"DATOS_MIP_SA\",P1=\"DATOS_MAP\"),INDEX(referentes!$AN$2:$AO$50,MATCH(B3,referentes!$AO$2:$AO$50,0),1),IF(P1=\"DATOS_MIP_SS\",INDEX(referentes!$AT$2:$AU$50,MATCH(B3,referentes!$AU$2:$AU$50,0),1),\"\")),\"\")","v":""}]
["NOMBRE"]
[]
[]
["Fecha en la que ingresa los datos en esta hoja","DD/MM/AAAA"]
[null,"3000-01-01",null,"* Seguir las siguientes instrucciones para el adecuado diligenciamiento y uso de la plantilla:\n\n- En la celda \"A1\", seleccionar la temática que desee.\n- Presionar el botón \"Descargar referentes\" para que el referente de ésta plantilla sean actualizados. \n- Diligenciar los datos en la hoja que se activó.\n- Una vez diligenciados los datos, debe presionar el botón \"Validación de datos\" para corroborar que todo esté en orden.\n- En caso de errores, corregir el error y volver a presionar el botón hasta la aprobación de la validación de datos.\n- Luego presionar el botón \"Generar tablas\" para que los datos sean organizados antes de cargarlos al Sistema de Información.\n- Antes de presionar el botón \"Generar tablas\" verifique que:\na. No haya celdas con valores como \"#N/A\" o \"#¡REF!\".\nb. No se estén aplicando filtros en la hoja de datos.\n- Para finalizar, presione el botón \"Cargar datos\"."]
["Versión",{"$f":"'Registro de cambios'!$D$4","v":"20241024i"}]
["Id Financiador del proyecto",{"$f":"IF(B10<>\"\",IF(P1=\"DATOS_MIP_SA\",INDEX(referentes!$P$2:$Q$70,MATCH(B10,referentes!$Q$2:$Q$70,0),1),IF(P1=\"DATOS_MIP_SS\",INDEX(referentes!$Y$2:$Z$70,MATCH(B10,referentes!$Z$2:$Z$70,0),1),IF(P1=\"DATOS_MAP\",INDEX(referentes!$S$2:$T$70,MATCH(B10,referentes!$T$2:$T$70,0),1)))),\"\")","v":""}]
["Nombre del financiador del proyecto",null,null,"Si requiere ayuda contacte a:\nJefe Laboratorio Servicios de información (jefatura.labsis@invemar.org.co)  - Apoyo técnico software"]
["Nombre del archivo",{"$f":"MID(CELL(\"FILENAME\",N50),FIND(\"[\",CELL(\"FILENAME\",N50))+1,   FIND(\"]\",CELL(\"FILENAME\",N50))-FIND(\"[\",CELL(\"FILENAME\",N50))-1)","v":"REDCAM_Basura_Marina_20241024i.xlsm"}]
["URL - DOI Metadato",null,null,"El custodio de los datos es el único autorizado para distribuir este conjunto de datos. El observador y el digitador se comprometen a tomar las medidas necesarias para salvaguardar este conjunto de datos de modo que copia de los mismos no sean obtenidas y/o usadas por terceros no relacionados con el propósito para la cual se recolectó."]
["Fuente Plantilla","http://cinto.invemar.org.co/download/Plantillas_ARGOS_Plus/"]
[]
[]
["REGISTROS GENERADOS",null,"REGISTROS CARGADOS"]
["Muestreos",{"$f":"IF($P$1=\"\",\"\",IF($P$1=\"DATOS_MIP_SS\",IF(configuracion_mip_ss!B47=\"\",\"\",configuracion_mip_ss!B47),IF($P$1=\"DATOS_MIP_SA\",IF(configuracion_mip_sa!B47=\"\",\"\",configuracion_mip_sa!B47),IF($P$1=\"DATOS_MAP\",IF(configuracion_map!B47=\"\",\"\",configuracion_map!B47)))))","v":""},{"$f":"IF($P$1=\"\",\"\",IF($P$1=\"DATOS_MIP_SS\",IF(configuracion_mip_ss!C47=\"\",\"\",configuracion_mip_ss!C47),IF($P$1=\"DATOS_MIP_SA\",IF(configuracion_mip_sa!C47=\"\",\"\",configuracion_mip_sa!C47),IF($P$1=\"DATOS_MAP\",IF(configuracion_map!C47=\"\",\"\",configuracion_map!C47),\"\"))))","v":""}]
["Parametros muestreos",{"$f":"IF($P$1=\"\",\"\",IF($P$1=\"DATOS_MIP_SS\",IF(configuracion_mip_ss!B48=\"\",\"\",configuracion_mip_ss!B48),IF($P$1=\"DATOS_MIP_SA\",IF(configuracion_mip_sa!B48=\"\",\"\",configuracion_mip_sa!B48),IF($P$1=\"DATOS_MAP\",IF(configuracion_map!B48=\"\",\"\",configuracion_map!B48)))))","v":""},{"$f":"IF($P$1=\"\",\"\",IF($P$1=\"DATOS_MIP_SS\",IF(configuracion_mip_ss!C48=\"\",\"\",configuracion_mip_ss!C48),IF($P$1=\"DATOS_MIP_SA\",IF(configuracion_mip_sa!C48=\"\",\"\",configuracion_mip_sa!C48),IF($P$1=\"DATOS_MAP\",IF(configuracion_map!C48=\"\",\"\",configuracion_map!C48),\"\"))))","v":""}]
["Muestras",{"$f":"IF($P$1=\"\",\"\",IF($P$1=\"DATOS_MIP_SS\",IF(configuracion_mip_ss!B49=\"\",\"\",configuracion_mip_ss!B49),IF($P$1=\"DATOS_MIP_SA\",IF(configuracion_mip_sa!B49=\"\",\"\",configuracion_mip_sa!B49),IF($P$1=\"DATOS_MAP\",IF(configuracion_map!B49=\"\",\"\",configuracion_map!B49)))))","v":""},{"$f":"IF($P$1=\"\",\"\",IF($P$1=\"DATOS_MIP_SS\",IF(configuracion_mip_ss!C49=\"\",\"\",configuracion_mip_ss!C49),IF($P$1=\"DATOS_MIP_SA\",IF(configuracion_mip_sa!C49=\"\",\"\",configuracion_mip_sa!C49),IF($P$1=\"DATOS_MAP\",IF(configuracion_map!C49=\"\",\"\",configuracion_map!C49),\"\"))))","v":""}]
["muestras variables",{"$f":"IF($P$1=\"\",\"\",IF($P$1=\"DATOS_MIP_SS\",IF(configuracion_mip_ss!B50=\"\",\"\",configuracion_mip_ss!B50),IF($P$1=\"DATOS_MIP_SA\",IF(configuracion_mip_sa!B50=\"\",\"\",configuracion_mip_sa!B50),IF($P$1=\"DATOS_MAP\",IF(configuracion_map!B50=\"\",\"\",configuracion_map!B50)))))","v":""},{"$f":"IF($P$1=\"\",\"\",IF($P$1=\"DATOS_MIP_SS\",IF(configuracion_mip_ss!C50=\"\",\"\",configuracion_mip_ss!C50),IF($P$1=\"DATOS_MIP_SA\",IF(configuracion_mip_sa!C50=\"\",\"\",configuracion_mip_sa!C50),IF($P$1=\"DATOS_MAP\",IF(configuracion_map!C50=\"\",\"\",configuracion_map!C50),\"\"))))","v":""}]
["autorias",{"$f":"IF($P$1=\"\",\"\",IF($P$1=\"DATOS_MIP_SS\",IF(configuracion_mip_ss!B51=\"\",\"\",configuracion_mip_ss!B51),IF($P$1=\"DATOS_MIP_SA\",IF(configuracion_mip_sa!B51=\"\",\"\",configuracion_mip_sa!B51),IF($P$1=\"DATOS_MAP\",IF(configuracion_map!B51=\"\",\"\",configuracion_map!B51)))))","v":""},{"$f":"IF($P$1=\"\",\"\",IF($P$1=\"DATOS_MIP_SS\",IF(configuracion_mip_ss!C51=\"\",\"\",configuracion_mip_ss!C51),IF($P$1=\"DATOS_MIP_SA\",IF(configuracion_mip_sa!C51=\"\",\"\",configuracion_mip_sa!C51),IF($P$1=\"DATOS_MAP\",IF(configuracion_map!C51=\"\",\"\",configuracion_map!C51),\"\"))))","v":""}]
["registros correctos",{"$f":"IF($P$1=\"\",\"\",IF($P$1=\"DATOS_MIP_SS\",IF(configuracion_mip_ss!B52=\"\",\"\",configuracion_mip_ss!B52),IF($P$1=\"DATOS_MIP_SA\",IF(configuracion_mip_sa!B52=\"\",\"\",configuracion_mip_sa!B52),IF($P$1=\"DATOS_MAP\",IF(configuracion_map!B52=\"\",\"\",configuracion_map!B52)))))","v":""},{"$f":"IF($P$1=\"\",\"\",IF($P$1=\"DATOS_MIP_SS\",IF(configuracion_mip_ss!C52=\"\",\"\",configuracion_mip_ss!C52),IF($P$1=\"DATOS_MIP_SA\",IF(configuracion_mip_sa!C52=\"\",\"\",configuracion_mip_sa!C52),IF($P$1=\"DATOS_MAP\",IF(configuracion_map!C52=\"\",\"\",configuracion_map!C52),\"\"))))","v":""}]
["Fecha de carga",{"$f":"IF($P$1=\"\",\"\",IF($P$1=\"DATOS_MIP_SS\",IF(configuracion_mip_ss!B53=\"\",\"\",configuracion_mip_ss!B53),IF($P$1=\"DATOS_MIP_SA\",IF(configuracion_mip_sa!B53=\"\",\"\",configuracion_mip_sa!B53),IF($P$1=\"DATOS_MAP\",IF(configuracion_map!B53=\"\",\"\",configuracion_map!B53)))))","v":""},{"$f":"IF($P$1=\"\",\"\",IF($P$1=\"DATOS_MIP_SS\",IF(configuracion_mip_ss!C53=\"\",\"\",configuracion_mip_ss!C53),IF($P$1=\"DATOS_MIP_SA\",IF(configuracion_mip_sa!C53=\"\",\"\",configuracion_mip_sa!C53),IF($P$1=\"DATOS_MAP\",IF(configuracion_map!C53=\"\",\"\",configuracion_map!C53),\"\"))))","v":""}]
["json error",{"$f":"IF($P$1=\"\",\"\",IF($P$1=\"DATOS_MIP_SS\",IF(configuracion_mip_ss!B54=\"\",\"\",configuracion_mip_ss!B54),IF($P$1=\"DATOS_MIP_SA\",IF(configuracion_mip_sa!B54=\"\",\"\",configuracion_mip_sa!B54),IF($P$1=\"DATOS_MAP\",IF(configuracion_map!B54=\"\",\"\",configuracion_map!B54)))))","v":""},{"$f":"IF($P$1=\"\",\"\",IF($P$1=\"DATOS_MIP_SS\",IF(configuracion_mip_ss!C54=\"\",\"\",configuracion_mip_ss!C54),IF($P$1=\"DATOS_MIP_SA\",IF(configuracion_mip_sa!C54=\"\",\"\",configuracion_mip_sa!C54),IF($P$1=\"DATOS_MAP\",IF(configuracion_map!C54=\"\",\"\",configuracion_map!C54),\"\"))))","v":""}]
["error",{"$f":"IF($P$1=\"\",\"\",IF($P$1=\"DATOS_MIP_SS\",IF(configuracion_mip_ss!B55=\"\",\"\",configuracion_mip_ss!B55),IF($P$1=\"DATOS_MIP_SA\",IF(configuracion_mip_sa!B55=\"\",\"\",configuracion_mip_sa!B55),IF($P$1=\"DATOS_MAP\",IF(configuracion_map!B55=\"\",\"\",configuracion_map!B55)))))","v":""},{"$f":"IF($P$1=\"\",\"\",IF($P$1=\"DATOS_MIP_SS\",IF(configuracion_mip_ss!C55=\"\",\"\",configuracion_mip_ss!C55),IF($P$1=\"DATOS_MIP_SA\",IF(configuracion_mip_sa!C55=\"\",\"\",configuracion_mip_sa!C55),IF($P$1=\"DATOS_MAP\",IF(configuracion_map!C55=\"\",\"\",configuracion_map!C55),\"\"))))","v":""}]

{"sheet":"referentes","index":5,"n_rows":0,"n_cols":0,"rows_kept":0,"cut":false,"hidden":false,"merged":[]}

{"sheet":"otras referencias","index":6,"n_rows":95,"n_cols":26,"rows_kept":95,"cut":false,"hidden":false,"merged":[[4,23,4,24],[4,20,4,21],[4,17,4,18],[4,14,4,15],[0,0,2,10],[4,0,4,1],[4,5,4,6],[4,8,4,9],[4,11,4,12]]}
["Estas son listas para variables con valores que no se encuentran codificados, pero que deben manejarse de manera estandarizada. \nSi se requiere agregar un valor nuevo hagalo debajo de la lista correspondiente"]
[]
[]
[]
["TRANSECTOS",null,null,"METODOS",null,"ESTACION",null,null,"PROYECTO",null,null,"UNIDADES_DE_MEDIDA",null,null,"UNIDADES_PESO_MUESTRA",null,null,"ROL USUARIO",null,null,"FORMA",null,null,"TEMATICAS"]
[1,null,null,"NOMBRE_MT","CODIGO","Descripcion","Codigo",null,"Descripcion","Codigo",null,"Descripcion","Codigo",null,"Descripcion","Codigo",null,"Rol","Id Rol",null,"FILA","Filamento",null,"DATOS_MIP_SS","Monitoreo de basuras - microplásticos en arena de playa y sedimentos","configuracion_mip_ss"]
[2,null,null,"Manual de métodos de SIMAC: Cadena rotulada cada diez eslabones","Car",{"$f":"CONCATENATE(referentes!AF2,\"-\",referentes!AG2, \" \",referentes!AI2)","v":"- "},{"$f":"referentes!AE2","v":0},null,"Básuras marinas",2060,null,"unidades/m2",136,null,"g",69,null,"Colectó muestra",10,null,"PELI","Película",null,"DATOS_MIP_SA","Monitoreo de basuras - microplásticos en agua","configuracion_mip_sa"]
[3,null,null,null,null,{"$f":"CONCATENATE(referentes!AF3,\"-\",referentes!AG3, \" \",referentes!AI3)","v":"- "},{"$f":"referentes!AE3","v":0},null,null,null,null,"unidades/kg p.s",152,null,"kg",116,null,"Procesó muestra",11,null,"ESP","Espuma",null,"DATOS_MAP","Monitoreo de basuras - macroplásticos","configuracion_map"]
["NA",null,null,null,null,{"$f":"CONCATENATE(referentes!AF4,\"-\",referentes!AG4, \" \",referentes!AI4)","v":"- "},{"$f":"referentes!AE4","v":0},null,null,null,null,null,null,null,null,null,null,"Verificó  resultados -Jefe Sección",3472,null,"FRG","Fragmento"]
[null,null,null,null,null,{"$f":"CONCATENATE(referentes!AF5,\"-\",referentes!AG5, \" \",referentes!AI5)","v":"- "},{"$f":"referentes!AE5","v":0},null,null,null,null,null,null,null,null,null,null,"Verificó resultados - Jefe Laboratorio",3473,null,"GRAN","Granulo"]
[null,null,null,null,null,{"$f":"CONCATENATE(referentes!AF6,\"-\",referentes!AG6, \" \",referentes!AI6)","v":"- "},{"$f":"referentes!AE6","v":0},null,null,null,null,null,null,null,null,null,null,"Verificó resutados -  Jefe Calidad",3474,null,"PEL","Pellet"]
[null,null,null,null,null,{"$f":"CONCATENATE(referentes!AF7,\"-\",referentes!AG7, \" \",referentes!AI7)","v":"- "},{"$f":"referentes!AE7","v":0},null,null,null,null,null,null,null,null,null,null,null,null,null,"ND","No detectado"]
[null,null,null,null,null,{"$f":"CONCATENATE(referentes!AF8,\"-\",referentes!AG8, \" \",referentes!AI8)","v":"- "},{"$f":"referentes!AE8","v":0}]
[null,null,null,null,null,{"$f":"CONCATENATE(referentes!AF9,\"-\",referentes!AG9, \" \",referentes!AI9)","v":"- "},{"$f":"referentes!AE9","v":0}]
[null,null,null,null,null,{"$f":"CONCATENATE(referentes!AF10,\"-\",referentes!AG10, \" \",referentes!AI10)","v":"- "},{"$f":"referentes!AE10","v":0}]
[null,null,null,null,null,{"$f":"CONCATENATE(referentes!AF11,\"-\",referentes!AG11, \" \",referentes!AI11)","v":"- "},{"$f":"referentes!AE11","v":0}]
[null,null,null,null,null,{"$f":"CONCATENATE(referentes!AF12,\"-\",referentes!AG12, \" \",referentes!AI12)","v":"- "},{"$f":"referentes!AE12","v":0}]
[null,null,null,null,null,{"$f":"CONCATENATE(referentes!AF13,\"-\",referentes!AG13, \" \",referentes!AI13)","v":"- "},{"$f":"referentes!AE13","v":0}]
[null,null,null,null,null,{"$f":"CONCATENATE(referentes!AF14,\"-\",referentes!AG14, \" \",referentes!AI14)","v":"- "},{"$f":"referentes!AE14","v":0}]
[null,null,null,null,null,{"$f":"CONCATENATE(referentes!AF15,\"-\",referentes!AG15, \" \",referentes!AI15)","v":"- "},{"$f":"referentes!AE15","v":0}]
[null,null,null,null,null,{"$f":"CONCATENATE(referentes!AF16,\"-\",referentes!AG16, \" \",referentes!AI16)","v":"- "},{"$f":"referentes!AE16","v":0}]
[null,null,null,null,null,{"$f":"CONCATENATE(referentes!AF17,\"-\",referentes!AG17, \" \",referentes!AI17)","v":"- "},{"$f":"referentes!AE17","v":0}]
[null,null,null,null,null,{"$f":"CONCATENATE(referentes!AF18,\"-\",referentes!AG18, \" \",referentes!AI18)","v":"- "},{"$f":"referentes!AE18","v":0}]
[null,null,null,null,null,{"$f":"CONCATENATE(referentes!AF19,\"-\",referentes!AG19, \" \",referentes!AI19)","v":"- "},{"$f":"referentes!AE19","v":0}]
[null,null,null,null,null,{"$f":"CONCATENATE(referentes!AF20,\"-\",referentes!AG20, \" \",referentes!AI20)","v":"- "},{"$f":"referentes!AE20","v":0}]
[null,null,null,null,null,{"$f":"CONCATENATE(referentes!AF21,\"-\",referentes!AG21, \" \",referentes!AI21)","v":"- "},{"$f":"referentes!AE21","v":0}]
[null,null,null,null,null,{"$f":"CONCATENATE(referentes!AF22,\"-\",referentes!AG22, \" \",referentes!AI22)","v":"- "},{"$f":"referentes!AE22","v":0}]
[null,null,null,null,null,{"$f":"CONCATENATE(referentes!AF23,\"-\",referentes!AG23, \" \",referentes!AI23)","v":"- "},{"$f":"referentes!AE23","v":0}]
[null,null,null,null,null,{"$f":"CONCATENATE(referentes!AF24,\"-\",referentes!AG24, \" \",referentes!AI24)","v":"- "},{"$f":"referentes!AE24","v":0}]
[null,null,null,null,null,{"$f":"CONCATENATE(referentes!AF25,\"-\",referentes!AG25, \" \",referentes!AI25)","v":"- "},{"$f":"referentes!AE25","v":0}]
[null,null,null,null,null,{"$f":"CONCATENATE(referentes!AF26,\"-\",referentes!AG26, \" \",referentes!AI26)","v":"- "},{"$f":"referentes!AE26","v":0}]
[null,null,null,null,null,{"$f":"CONCATENATE(referentes!AF27,\"-\",referentes!AG27, \" \",referentes!AI27)","v":"- "},{"$f":"referentes!AE27","v":0}]
[null,null,null,null,null,{"$f":"CONCATENATE(referentes!AF28,\"-\",referentes!AG28, \" \",referentes!AI28)","v":"- "},{"$f":"referentes!AE28","v":0}]
[null,null,null,null,null,{"$f":"CONCATENATE(referentes!AF29,\"-\",referentes!AG29, \" \",referentes!AI29)","v":"- "},{"$f":"referentes!AE29","v":0}]
[null,null,null,null,null,{"$f":"CONCATENATE(referentes!AF30,\"-\",referentes!AG30, \" \",referentes!AI30)","v":"- "},{"$f":"referentes!AE30","v":0}]
[null,null,null,null,null,{"$f":"CONCATENATE(referentes!AF31,\"-\",referentes!AG31, \" \",referentes!AI31)","v":"- "},{"$f":"referentes!AE31","v":0}]
[null,null,null,null,null,{"$f":"CONCATENATE(referentes!AF32,\"-\",referentes!AG32, \" \",referentes!AI32)","v":"- "},{"$f":"referentes!AE32","v":0}]
[null,null,null,null,null,{"$f":"CONCATENATE(referentes!AF33,\"-\",referentes!AG33, \" \",referentes!AI33)","v":"- "},{"$f":"referentes!AE33","v":0}]
[null,null,null,null,null,{"$f":"CONCATENATE(referentes!AF34,\"-\",referentes!AG34, \" \",referentes!AI34)","v":"- "},{"$f":"referentes!AE34","v":0}]
[null,null,null,null,null,{"$f":"CONCATENATE(referentes!AF35,\"-\",referentes!AG35, \" \",referentes!AI35)","v":"- "},{"$f":"referentes!AE35","v":0}]
[null,null,null,null,null,{"$f":"CONCATENATE(referentes!AF36,\"-\",referentes!AG36, \" \",referentes!AI36)","v":"- "},{"$f":"referentes!AE36","v":0}]
[null,null,null,null,null,{"$f":"CONCATENATE(referentes!AF37,\"-\",referentes!AG37, \" \",referentes!AI37)","v":"- "},{"$f":"referentes!AE37","v":0}]
[null,null,null,null,null,{"$f":"CONCATENATE(referentes!AF38,\"-\",referentes!AG38, \" \",referentes!AI38)","v":"- "},{"$f":"referentes!AE38","v":0}]
[null,null,null,null,null,{"$f":"CONCATENATE(referentes!AF39,\"-\",referentes!AG39, \" \",referentes!AI39)","v":"- "},{"$f":"referentes!AE39","v":0}]
[null,null,null,null,null,{"$f":"CONCATENATE(referentes!AF40,\"-\",referentes!AG40, \" \",referentes!AI40)","v":"- "},{"$f":"referentes!AE40","v":0}]
[null,null,null,null,null,{"$f":"CONCATENATE(referentes!AF41,\"-\",referentes!AG41, \" \",referentes!AI41)","v":"- "},{"$f":"referentes!AE41","v":0}]
[null,null,null,null,null,{"$f":"CONCATENATE(referentes!AF42,\"-\",referentes!AG42, \" \",referentes!AI42)","v":"- "},{"$f":"referentes!AE42","v":0}]
[null,null,null,null,null,{"$f":"CONCATENATE(referentes!AF43,\"-\",referentes!AG43, \" \",referentes!AI43)","v":"- "},{"$f":"referentes!AE43","v":0}]
[null,null,null,null,null,{"$f":"CONCATENATE(referentes!AF44,\"-\",referentes!AG44, \" \",referentes!AI44)","v":"- "},{"$f":"referentes!AE44","v":0}]
[null,null,null,null,null,{"$f":"CONCATENATE(referentes!AF45,\"-\",referentes!AG45, \" \",referentes!AI45)","v":"- "},{"$f":"referentes!AE45","v":0}]
[null,null,null,null,null,{"$f":"CONCATENATE(referentes!AF46,\"-\",referentes!AG46, \" \",referentes!AI46)","v":"- "},{"$f":"referentes!AE46","v":0}]
[null,null,null,null,null,{"$f":"CONCATENATE(referentes!AF47,\"-\",referentes!AG47, \" \",referentes!AI47)","v":"- "},{"$f":"referentes!AE47","v":0}]
[null,null,null,null,null,{"$f":"CONCATENATE(referentes!AF48,\"-\",referentes!AG48, \" \",referentes!AI48)","v":"- "},{"$f":"referentes!AE48","v":0}]
[null,null,null,null,null,{"$f":"CONCATENATE(referentes!AF49,\"-\",referentes!AG49, \" \",referentes!AI49)","v":"- "},{"$f":"referentes!AE49","v":0}]
[null,null,null,null,null,{"$f":"CONCATENATE(referentes!AF50,\"-\",referentes!AG50, \" \",referentes!AI50)","v":"- "},{"$f":"referentes!AE50","v":0}]
[null,null,null,null,null,{"$f":"CONCATENATE(referentes!AF51,\"-\",referentes!AG51, \" \",referentes!AI51)","v":"- "},{"$f":"referentes!AE51","v":0}]
[null,null,null,null,null,{"$f":"CONCATENATE(referentes!AF52,\"-\",referentes!AG52, \" \",referentes!AI52)","v":"- "},{"$f":"referentes!AE52","v":0}]
[null,null,null,null,null,{"$f":"CONCATENATE(referentes!AF53,\"-\",referentes!AG53, \" \",referentes!AI53)","v":"- "},{"$f":"referentes!AE53","v":0}]
[null,null,null,null,null,{"$f":"CONCATENATE(referentes!AF54,\"-\",referentes!AG54, \" \",referentes!AI54)","v":"- "},{"$f":"referentes!AE54","v":0}]
[null,null,null,null,null,{"$f":"CONCATENATE(referentes!AF55,\"-\",referentes!AG55, \" \",referentes!AI55)","v":"- "},{"$f":"referentes!AE55","v":0}]
[null,null,null,null,null,{"$f":"CONCATENATE(referentes!AF56,\"-\",referentes!AG56, \" \",referentes!AI56)","v":"- "},{"$f":"referentes!AE56","v":0}]
[null,null,null,null,null,{"$f":"CONCATENATE(referentes!AF57,\"-\",referentes!AG57, \" \",referentes!AI57)","v":"- "},{"$f":"referentes!AE57","v":0}]
[null,null,null,null,null,{"$f":"CONCATENATE(referentes!AF58,\"-\",referentes!AG58, \" \",referentes!AI58)","v":"- "},{"$f":"referentes!AE58","v":0}]
[null,null,null,null,null,{"$f":"CONCATENATE(referentes!AF59,\"-\",referentes!AG59, \" \",referentes!AI59)","v":"- "},{"$f":"referentes!AE59","v":0}]
[null,null,null,null,null,{"$f":"CONCATENATE(referentes!AF60,\"-\",referentes!AG60, \" \",referentes!AI60)","v":"- "},{"$f":"referentes!AE60","v":0}]
[null,null,null,null,null,{"$f":"CONCATENATE(referentes!AF61,\"-\",referentes!AG61, \" \",referentes!AI61)","v":"- "},{"$f":"referentes!AE61","v":0}]
[null,null,null,null,null,{"$f":"CONCATENATE(referentes!AF62,\"-\",referentes!AG62, \" \",referentes!AI62)","v":"- "},{"$f":"referentes!AE62","v":0}]
[null,null,null,null,null,{"$f":"CONCATENATE(referentes!AF63,\"-\",referentes!AG63, \" \",referentes!AI63)","v":"- "},{"$f":"referentes!AE63","v":0}]
[null,null,null,null,null,{"$f":"CONCATENATE(referentes!AF64,\"-\",referentes!AG64, \" \",referentes!AI64)","v":"- "},{"$f":"referentes!AE64","v":0}]
[null,null,null,null,null,{"$f":"CONCATENATE(referentes!AF65,\"-\",referentes!AG65, \" \",referentes!AI65)","v":"- "},{"$f":"referentes!AE65","v":0}]
[null,null,null,null,null,{"$f":"CONCATENATE(referentes!AF66,\"-\",referentes!AG66, \" \",referentes!AI66)","v":"- "},{"$f":"referentes!AE66","v":0}]
[null,null,null,null,null,{"$f":"CONCATENATE(referentes!AF67,\"-\",referentes!AG67, \" \",referentes!AI67)","v":"- "},{"$f":"referentes!AE67","v":0}]
[null,null,null,null,null,{"$f":"CONCATENATE(referentes!AF68,\"-\",referentes!AG68, \" \",referentes!AI68)","v":"- "},{"$f":"referentes!AE68","v":0}]
[null,null,null,null,null,{"$f":"CONCATENATE(referentes!AF69,\"-\",referentes!AG69, \" \",referentes!AI69)","v":"- "},{"$f":"referentes!AE69","v":0}]
[null,null,null,null,null,{"$f":"CONCATENATE(referentes!AF70,\"-\",referentes!AG70, \" \",referentes!AI70)","v":"- "},{"$f":"referentes!AE70","v":0}]
[null,null,null,null,null,{"$f":"CONCATENATE(referentes!AF71,\"-\",referentes!AG71, \" \",referentes!AI71)","v":"- "},{"$f":"referentes!AE71","v":0}]
[null,null,null,null,null,{"$f":"CONCATENATE(referentes!AF72,\"-\",referentes!AG72, \" \",referentes!AI72)","v":"- "},{"$f":"referentes!AE72","v":0}]
[null,null,null,null,null,{"$f":"CONCATENATE(referentes!AF73,\"-\",referentes!AG73, \" \",referentes!AI73)","v":"- "},{"$f":"referentes!AE73","v":0}]
[null,null,null,null,null,{"$f":"CONCATENATE(referentes!AF74,\"-\",referentes!AG74, \" \",referentes!AI74)","v":"- "},{"$f":"referentes!AE74","v":0}]
[null,null,null,null,null,{"$f":"CONCATENATE(referentes!AF75,\"-\",referentes!AG75, \" \",referentes!AI75)","v":"- "},{"$f":"referentes!AE75","v":0}]
[null,null,null,null,null,{"$f":"CONCATENATE(referentes!AF76,\"-\",referentes!AG76, \" \",referentes!AI76)","v":"- "},{"$f":"referentes!AE76","v":0}]
[null,null,null,null,null,{"$f":"CONCATENATE(referentes!AF77,\"-\",referentes!AG77, \" \",referentes!AI77)","v":"- "},{"$f":"referentes!AE77","v":0}]
[null,null,null,null,null,{"$f":"CONCATENATE(referentes!AF78,\"-\",referentes!AG78, \" \",referentes!AI78)","v":"- "},{"$f":"referentes!AE78","v":0}]
[null,null,null,null,null,{"$f":"CONCATENATE(referentes!AF79,\"-\",referentes!AG79, \" \",referentes!AI79)","v":"- "},{"$f":"referentes!AE79","v":0}]
[null,null,null,null,null,{"$f":"CONCATENATE(referentes!AF80,\"-\",referentes!AG80, \" \",referentes!AI80)","v":"- "},{"$f":"referentes!AE80","v":0}]
[null,null,null,null,null,{"$f":"CONCATENATE(referentes!AF81,\"-\",referentes!AG81, \" \",referentes!AI81)","v":"- "},{"$f":"referentes!AE81","v":0}]
[null,null,null,null,null,{"$f":"CONCATENATE(referentes!AF82,\"-\",referentes!AG82, \" \",referentes!AI82)","v":"- "},{"$f":"referentes!AE82","v":0}]
[null,null,null,null,null,{"$f":"CONCATENATE(referentes!AF83,\"-\",referentes!AG83, \" \",referentes!AI83)","v":"- "},{"$f":"referentes!AE83","v":0}]
[null,null,null,null,null,{"$f":"CONCATENATE(referentes!AF84,\"-\",referentes!AG84, \" \",referentes!AI84)","v":"- "},{"$f":"referentes!AE84","v":0}]
[null,null,null,null,null,{"$f":"CONCATENATE(referentes!AF85,\"-\",referentes!AG85, \" \",referentes!AI85)","v":"- "},{"$f":"referentes!AE85","v":0}]
[null,null,null,null,null,{"$f":"CONCATENATE(referentes!AF86,\"-\",referentes!AG86, \" \",referentes!AI86)","v":"- "},{"$f":"referentes!AE86","v":0}]
[null,null,null,null,null,{"$f":"CONCATENATE(referentes!AF87,\"-\",referentes!AG87, \" \",referentes!AI87)","v":"- "},{"$f":"referentes!AE87","v":0}]
[null,null,null,null,null,{"$f":"CONCATENATE(referentes!AF88,\"-\",referentes!AG88, \" \",referentes!AI88)","v":"- "},{"$f":"referentes!AE88","v":0}]
[null,null,null,null,null,{"$f":"CONCATENATE(referentes!AF89,\"-\",referentes!AG89, \" \",referentes!AI89)","v":"- "},{"$f":"referentes!AE89","v":0}]
[null,null,null,null,null,{"$f":"CONCATENATE(referentes!AF90,\"-\",referentes!AG90, \" \",referentes!AI90)","v":"- "},{"$f":"referentes!AE90","v":0}]

{"sheet":"DATOS_MIP_SS","index":7,"n_rows":309,"n_cols":52,"rows_kept":309,"cut":false,"hidden":true,"merged":[[2,28,2,29],[3,28,3,29],[4,28,4,29],[5,28,5,29],[1,26,1,30]]}
[]
[null,null,null,null,null,null,null,null,null,null,null,null,null,null,null,null,null,null,null,null,null,null,null,"Entidad"]
[null,null,null,null,null,null,null,null,null,null,null,null,null,null,null,null,null,null,null,null,null,null,null,"Investigador",null,null,null,{"$f":"IF(AA3<>\"\",INDEX(referentes!$AT$2:$AU$50,MATCH(DATOS_MIP_SS!AA3,referentes!$AU$2:$AU$50,0),1),\"\")","v":""},null,null,{"$f":"IF(AC3<>\"\",INDEX(referentes!$AT$2:$AU$50,MATCH(DATOS_MIP_SS!AC3,referentes!$AU$2:$AU$50,0),1),\"\")","v":""}]
[null,null,null,null,null,null,null,null,null,null,null,null,null,null,null,null,null,null,null,null,null,null,null,"Rol",null,null,null,{"$f":"IF(AA4<>\"\",INDEX('otras referencias'!$R$7:$S$11,MATCH(DATOS_MIP_SS!AA4,'otras referencias'!$R$7:$R$11,0),2),\"\")","v":""},null,null,{"$f":"IF(AC4<>\"\",INDEX('otras referencias'!$R$7:$S$11,MATCH(DATOS_MIP_SS!AC4,'otras referencias'!$R$7:$R$11,0),2),\"\")","v":""}]
[null,null,null,null,null,null,null,null,null,null,null,null,null,null,null,null,null,null,null,null,null,null,null,"Investigador",null,null,null,{"$f":"IF(AA5<>\"\",INDEX(referentes!$AT$2:$AU$50,MATCH(DATOS_MIP_SS!AA5,referentes!$AU$2:$AU$50,0),1),\"\")","v":""},null,null,{"$f":"IF(AC5<>\"\",INDEX(referentes!$AT$2:$AU$50,MATCH(DATOS_MIP_SS!AC5,referentes!$AU$2:$AU$50,0),1),\"\")","v":""}]
[null,null,null,null,null,null,null,null,null,null,null,null,null,null,null,null,null,null,null,null,null,null,null,"Rol",null,null,null,{"$f":"IF(AA6<>\"\",INDEX('otras referencias'!$R$7:$S$11,MATCH(DATOS_MIP_SS!AA6,'otras referencias'!$R$7:$R$11,0),2),\"\")","v":""},null,null,{"$f":"IF(AC6<>\"\",INDEX('otras referencias'!$R$7:$S$11,MATCH(DATOS_MIP_SS!AC6,'otras referencias'!$R$7:$R$11,0),2),\"\")","v":""}]
[]
[null,null,null,null,null,null,null,null,null,null,null,null,null,null,null,null,null,null,null,null,null,null,null,null,null,null,{"$f":"IF(AA2<>\"\",INDEX(referentes!$V$2:$W$25,MATCH(DATOS_MIP_SS!AA2,referentes!$W$2:$W$25,0),1),\"\")","v":""},{"$f":"IF(AB4<>\"\",1,\"\")","v":""},{"$f":"IF(AE4<>\"\",IF(AE4=AB4,AB8+1,1),\"\")","v":""},{"$f":"IF(AB6<>\"\",IF(AB6=AE4,AC8+1,IF(AB6=AB4,AB8+1,1)),\"\")","v":""},{"$f":"IF(AE6<>\"\",IF(AE6=AB6,AD8+1,IF(AE6=AE4,AC8+1,IF(AE6=AB4,AB8+1,1))),\"\")","v":""},{"$f":"MAX(AB8:AE8)+1","v":1}]
[null,null,null,"ID_AGD_MUESTREO","ID_MUESTREO","ID_MUESTRA","ID_RECOLECTOR","ID_ENTIDAD","columna vacia","ID_ESTACION","DATE","ID_MATRIZ","ID_TEMPORADA_TURISMO","ID_ZONA_MONITOREO","ID_METODO_MUESTREO","ID_TECNICA (PROCEDIMIENTO)","ID_VARIABLE","ID_PROFUNDIDAD_CUALITATIVA","ID_FORMAS_MICROPLASTICOS","ID_COLOR","ID_UNIDAD_PESO_MUESTRA",null,"MUESTREO","ESTACION","columna vacia",null,"NOMBRE ESTACION","LATITUD","LONGITUD","FECHA","HORA","MATRIZ","TRANSECTO","CUADRANTE","TEMPORADA DE TURISMO","ZONA DE MONITOREO","MÉTODO MUESTREO","TÉCNICA",null,"PROFUNDIDAD CUALITATIVA","PROFUNDIDAD (m)","VARIABLE","FORMAS MICROPLÁSTICOS","COLOR","CANTIDAD","UNIDAD MICROPLÁSTICOS","AREA MUESTREO (m2)",null,"PESO HÚMEDO MUESTRA","PESO SECO MUESTRA","UNIDAD PESO MUESTRA","OBSERVACIONES"]
[null,null,null,{"$f":"IF(E10=\"\",\"\",E10)","v":""},{"$f":"IF(J10=\"\",\"\",CONCATENATE(AD10,DIGITADOR!$B$2,DIGITADOR!$M$1,J10))","v":""},{"$f":"IF(J10=\"\",\"\",CONCATENATE(DIGITADOR!$B$2,AD10,DIGITADOR!$M$1,J10,ROW()))","v":""},null,null,null,{"$f":"IF(X10=\"\",\"\", INDEX(referentes!$AN:$AR,MATCH(DATOS_MIP_SS!X10,referentes!$AO:$AO,0),1))","v":""},{"$f":"IF(AD10=\"\",\"\",AD10+AE10)","v":""},{"$f":"IF(AF10=\"\",\"\", INDEX(referentes!D:E,MATCH(DATOS_MIP_SS!AF10,referentes!$E:$E,0),1))","v":""},{"$f":"IF(AI10=\"\",\"\", INDEX(referentes!A:B,MATCH(DATOS_MIP_SS!AI10,referentes!$B:$B,0),1))","v":""},{"$f":"IF(AJ10=\"\",\"\", INDEX(referentes!G:H,MATCH(DATOS_MIP_SS!AJ10,referentes!$H:$H,0),1))","v":""},{"$f":"IF(AK10=\"\",\"\", INDEX(referentes!$AB$2:$AC$10,MATCH(DATOS_MIP_SS!AK10,referentes!$AC$2:$AC$10,0),1))","v":""},{"$f":"IF(AL10=\"\",\"\", INDEX(referentes!$AH:$AI,MATCH(DATOS_MIP_SS!AL10,referentes!$AI:$AI,0),1))","v":""},{"$f":"IF(AP10=\"\",\"\", INDEX(referentes!$AE$2:$AF$10,MATCH(DATOS_MIP_SS!AP10,referentes!$AF$2:$AF$10,0),1))","v":""},{"$f":"IF(AN10=\"\",\"\", INDEX(referentes!$AK$2:$AL$10,MATCH(DATOS_MIP_SS!AN10,referentes!$AL$2:$AL$10,0),1))","v":""},{"$f":"IF(AQ10=\"\",\"\", INDEX(referentes!J:K,MATCH(DATOS_MIP_SS!AQ10,referentes!$K:$K,0),1))","v":""},{"$f":"IF(AR10=\"\",\"\", INDEX(referentes!$M$2:$N$20,MATCH(DATOS_MIP_SS!AR10,referentes!$N$2:$N$20,0),1))","v":""},{"$f":"IF(AY10=\"\",\"\", INDEX('otras referencias'!O:P,MATCH(AY10,'otras referencias'!$O:$O,0),2))","v":""},null,null,null,null,null,{"$f":"IF(X10<>\"\",INDEX(referentes!$AN:$AR,MATCH(DATOS_MIP_SS!X10,referentes!$AO:$AO,0),5),\"\")","v":""}]
[null,null,null,{"$f":"IF(E11=\"\",\"\",IF(E11=E10,\"\",E11))","v":""},{"$f":"IF(J11=\"\",\"\",CONCATENATE(AD11,DIGITADOR!$B$2,DIGITADOR!$M$1,J11))","v":""},{"$f":"IF(J11=\"\",\"\",CONCATENATE(DIGITADOR!$B$2,AD11,DIGITADOR!$M$1,J11,ROW()))","v":""},null,null,null,{"$f":"IF(X11=\"\",\"\", INDEX(referentes!$AN:$AR,MATCH(DATOS_MIP_SS!X11,referentes!$AO:$AO,0),1))","v":""},{"$f":"IF(AD11=\"\",\"\",AD11+AE11)","v":""},{"$f":"IF(AF11=\"\",\"\", INDEX(referentes!D:E,MATCH(DATOS_MIP_SS!AF11,referentes!$E:$E,0),1))","v":""},{"$f":"IF(AI11=\"\",\"\", INDEX(referentes!A:B,MATCH(DATOS_MIP_SS!AI11,referentes!$B:$B,0),1))","v":""},{"$f":"IF(AJ11=\"\",\"\", INDEX(referentes!G:H,MATCH(DATOS_MIP_SS!AJ11,referentes!$H:$H,0),1))","v":""},{"$f":"IF(AK11=\"\",\"\", INDEX(referentes!$AB$2:$AC$10,MATCH(DATOS_MIP_SS!AK11,referentes!$AC$2:$AC$10,0),1))","v":""},{"$f":"IF(AL11=\"\",\"\", INDEX(referentes!$AH:$AI,MATCH(DATOS_MIP_SS!AL11,referentes!$AI:$AI,0),1))","v":""},{"$f":"IF(AP11=\"\",\"\", INDEX(referentes!$AE$2:$AF$10,MATCH(DATOS_MIP_SS!AP11,referentes!$AF$2:$AF$10,0),1))","v":""},{"$f":"IF(AN11=\"\",\"\", INDEX(referentes!$AK$2:$AL$10,MATCH(DATOS_MIP_SS!AN11,referentes!$AL$2:$AL$10,0),1))","v":""},{"$f":"IF(AQ11=\"\",\"\", INDEX(referentes!J:K,MATCH(DATOS_MIP_SS!AQ11,referentes!$K:$K,0),1))","v":""},{"$f":"IF(AR11=\"\",\"\", INDEX(referentes!$M$2:$N$20,MATCH(DATOS_MIP_SS!AR11,referentes!$N$2:$N$20,0),1))","v":""},{"$f":"IF(AY11=\"\",\"\", INDEX('otras referencias'!O:P,MATCH(AY11,'otras referencias'!$O:$O,0),2))","v":""},null,null,null,null,null,{"$f":"IF(X11<>\"\",INDEX(referentes!$AN:$AR,MATCH(DATOS_MIP_SS!X11,referentes!$AO:$AO,0),5),\"\")","v":""}]
[null,null,null,{"$f":"IF(E12=\"\",\"\",IF(E12=E11,\"\",E12))","v":""},{"$f":"IF(J12=\"\",\"\",CONCATENATE(AD12,DIGITADOR!$B$2,DIGITADOR!$M$1,J12))","v":""},{"$f":"IF(J12=\"\",\"\",CONCATENATE(DIGITADOR!$B$2,AD12,DIGITADOR!$M$1,J12,ROW()))","v":""},null,null,null,{"$f":"IF(X12=\"\",\"\", INDEX(referentes!$AN:$AR,MATCH(DATOS_MIP_SS!X12,referentes!$AO:$AO,0),1))","v":""},"",{"$f":"IF(AF12=\"\",\"\", INDEX(referentes!D:E,MATCH(DATOS_MIP_SS!AF12,referentes!$E:$E,0),1))","v":""},{"$f":"IF(AI12=\"\",\"\", INDEX(referentes!A:B,MATCH(DATOS_MIP_SS!AI12,referentes!$B:$B,0),1))","v":""},{"$f":"IF(AJ12=\"\",\"\", INDEX(referentes!G:H,MATCH(DATOS_MIP_SS!AJ12,referentes!$H:$H,0),1))","v":""},{"$f":"IF(AK12=\"\",\"\", INDEX(referentes!$AB$2:$AC$10,MATCH(DATOS_MIP_SS!AK12,referentes!$AC$2:$AC$10,0),1))","v":""},{"$f":"IF(AL12=\"\",\"\", INDEX(referentes!$AH:$AI,MATCH(DATOS_MIP_SS!AL12,referentes!$AI:$AI,0),1))","v":""},{"$f":"IF(AP12=\"\",\"\", INDEX(referentes!$AE$2:$AF$10,MATCH(DATOS_MIP_SS!AP12,referentes!$AF$2:$AF$10,0),1))","v":""},{"$f":"IF(AN12=\"\",\"\", INDEX(referentes!$AK$2:$AL$10,MATCH(DATOS_MIP_SS!AN12,referentes!$AL$2:$AL$10,0),1))","v":""},{"$f":"IF(AQ12=\"\",\"\", INDEX(referentes!J:K,MATCH(DATOS_MIP_SS!AQ12,referentes!$K:$K,0),1))","v":""},{"$f":"IF(AR12=\"\",\"\", INDEX(referentes!$M$2:$N$20,MATCH(DATOS_MIP_SS!AR12,referentes!$N$2:$N$20,0),1))","v":""},{"$f":"IF(AY12=\"\",\"\", INDEX('otras referencias'!O:P,MATCH(AY12,'otras referencias'!$O:$O,0),2))","v":""},null,null,null,null,null,{"$f":"IF(X12<>\"\",INDEX(referentes!$AN:$AR,MATCH(DATOS_MIP_SS!X12,referentes!$AO:$AO,0),5),\"\")","v":""}]
[null,null,null,"",{"$f":"IF(J13=\"\",\"\",CONCATENATE(AD13,DIGITADOR!$B$2,DIGITADOR!$M$1,J13))","v":""},{"$f":"IF(J13=\"\",\"\",CONCATENATE(DIGITADOR!$B$2,AD13,DIGITADOR!$M$1,J13,ROW()))","v":""},null,null,null,{"$f":"IF(X13=\"\",\"\", INDEX(referentes!$AN:$AR,MATCH(DATOS_MIP_SS!X13,referentes!$AO:$AO,0),1))","v":""},"",{"$f":"IF(AF13=\"\",\"\", INDEX(referentes!D:E,MATCH(DATOS_MIP_SS!AF13,referentes!$E:$E,0),1))","v":""},{"$f":"IF(AI13=\"\",\"\", INDEX(referentes!A:B,MATCH(DATOS_MIP_SS!AI13,referentes!$B:$B,0),1))","v":""},{"$f":"IF(AJ13=\"\",\"\", INDEX(referentes!G:H,MATCH(DATOS_MIP_SS!AJ13,referentes!$H:$H,0),1))","v":""},{"$f":"IF(AK13=\"\",\"\", INDEX(referentes!$AB$2:$AC$10,MATCH(DATOS_MIP_SS!AK13,referentes!$AC$2:$AC$10,0),1))","v":""},{"$f":"IF(AL13=\"\",\"\", INDEX(referentes!$AH:$AI,MATCH(DATOS_MIP_SS!AL13,referentes!$AI:$AI,0),1))","v":""},{"$f":"IF(AP13=\"\",\"\", INDEX(referentes!$AE$2:$AF$10,MATCH(DATOS_MIP_SS!AP13,referentes!$AF$2:$AF$10,0),1))","v":""},{"$f":"IF(AN13=\"\",\"\", INDEX(referentes!$AK$2:$AL$10,MATCH(DATOS_MIP_SS!AN13,referentes!$AL$2:$AL$10,0),1))","v":""},{"$f":"IF(AQ13=\"\",\"\", INDEX(referentes!J:K,MATCH(DATOS_MIP_SS!AQ13,referentes!$K:$K,0),1))","v":""},{"$f":"IF(AR13=\"\",\"\", INDEX(referentes!$M$2:$N$20,MATCH(DATOS_MIP_SS!AR13,referentes!$N$2:$N$20,0),1))","v":""},{"$f":"IF(AY13=\"\",\"\", INDEX('otras referencias'!O:P,MATCH(AY13,'otras referencias'!$O:$O,0),2))","v":""},null,null,null,null,null,{"$f":"IF(X13<>\"\",INDEX(referentes!$AN:$AR,MATCH(DATOS_MIP_SS!X13,referentes!$AO:$AO,0),5),\"\")","v":""}]
[null,null,null,"",{"$f":"IF(J14=\"\",\"\",CONCATENATE(AD14,DIGITADOR!$B$2,DIGITADOR!$M$1,J14))","v":""},{"$f":"IF(J14=\"\",\"\",CONCATENATE(DIGITADOR!$B$2,AD14,DIGITADOR!$M$1,J14,ROW()))","v":""},null,null,null,{"$f":"IF(X14=\"\",\"\", INDEX(referentes!$AN:$AR,MATCH(DATOS_MIP_SS!X14,referentes!$AO:$AO,0),1))","v":""},"",{"$f":"IF(AF14=\"\",\"\", INDEX(referentes!D:E,MATCH(DATOS_MIP_SS!AF14,referentes!$E:$E,0),1))","v":""},{"$f":"IF(AI14=\"\",\"\", INDEX(referentes!A:B,MATCH(DATOS_MIP_SS!AI14,referentes!$B:$B,0),1))","v":""},{"$f":"IF(AJ14=\"\",\"\", INDEX(referentes!G:H,MATCH(DATOS_MIP_SS!AJ14,referentes!$H:$H,0),1))","v":""},{"$f":"IF(AK14=\"\",\"\", INDEX(referentes!$AB$2:$AC$10,MATCH(DATOS_MIP_SS!AK14,referentes!$AC$2:$AC$10,0),1))","v":""},{"$f":"IF(AL14=\"\",\"\", INDEX(referentes!$AH:$AI,MATCH(DATOS_MIP_SS!AL14,referentes!$AI:$AI,0),1))","v":""},{"$f":"IF(AP14=\"\",\"\", INDEX(referentes!$AE$2:$AF$10,MATCH(DATOS_MIP_SS!AP14,referentes!$AF$2:$AF$10,0),1))","v":""},{"$f":"IF(AN14=\"\",\"\", INDEX(referentes!$AK$2:$AL$10,MATCH(DATOS_MIP_SS!AN14,referentes!$AL$2:$AL$10,0),1))","v":""},{"$f":"IF(AQ14=\"\",\"\", INDEX(referentes!J:K,MATCH(DATOS_MIP_SS!AQ14,referentes!$K:$K,0),1))","v":""},{"$f":"IF(AR14=\"\",\"\", INDEX(referentes!$M$2:$N$20,MATCH(DATOS_MIP_SS!AR14,referentes!$N$2:$N$20,0),1))","v":""},{"$f":"IF(AY14=\"\",\"\", INDEX('otras referencias'!O:P,MATCH(AY14,'otras referencias'!$O:$O,0),2))","v":""},null,null,null,null,null,{"$f":"IF(X14<>\"\",INDEX(referentes!$AN:$AR,MATCH(DATOS_MIP_SS!X14,referentes!$AO:$AO,0),5),\"\")","v":""}]
[null,null,null,"",{"$f":"IF(J15=\"\",\"\",CONCATENATE(AD15,DIGITADOR!$B$2,DIGITADOR!$M$1,J15))","v":""},{"$f":"IF(J15=\"\",\"\",CONCATENATE(DIGITADOR!$B$2,AD15,DIGITADOR!$M$1,J15,ROW()))","v":""},null,null,null,{"$f":"IF(X15=\"\",\"\", INDEX(referentes!$AN:$AR,MATCH(DATOS_MIP_SS!X15,referentes!$AO:$AO,0),1))","v":""},"",{"$f":"IF(AF15=\"\",\"\", INDEX(referentes!D:E,MATCH(DATOS_MIP_SS!AF15,referentes!$E:$E,0),1))","v":""},{"$f":"IF(AI15=\"\",\"\", INDEX(referentes!A:B,MATCH(DATOS_MIP_SS!AI15,referentes!$B:$B,0),1))","v":""},{"$f":"IF(AJ15=\"\",\"\", INDEX(referentes!G:H,MATCH(DATOS_MIP_SS!AJ15,referentes!$H:$H,0),1))","v":""},{"$f":"IF(AK15=\"\",\"\", INDEX(referentes!$AB$2:$AC$10,MATCH(DATOS_MIP_SS!AK15,referentes!$AC$2:$AC$10,0),1))","v":""},{"$f":"IF(AL15=\"\",\"\", INDEX(referentes!$AH:$AI,MATCH(DATOS_MIP_SS!AL15,referentes!$AI:$AI,0),1))","v":""},{"$f":"IF(AP15=\"\",\"\", INDEX(referentes!$AE$2:$AF$10,MATCH(DATOS_MIP_SS!AP15,referentes!$AF$2:$AF$10,0),1))","v":""},{"$f":"IF(AN15=\"\",\"\", INDEX(referentes!$AK$2:$AL$10,MATCH(DATOS_MIP_SS!AN15,referentes!$AL$2:$AL$10,0),1))","v":""},{"$f":"IF(AQ15=\"\",\"\", INDEX(referentes!J:K,MATCH(DATOS_MIP_SS!AQ15,referentes!$K:$K,0),1))","v":""},{"$f":"IF(AR15=\"\",\"\", INDEX(referentes!$M$2:$N$20,MATCH(DATOS_MIP_SS!AR15,referentes!$N$2:$N$20,0),1))","v":""},{"$f":"IF(AY15=\"\",\"\", INDEX('otras referencias'!O:P,MATCH(AY15,'otras referencias'!$O:$O,0),2))","v":""},null,null,null,null,null,{"$f":"IF(X15<>\"\",INDEX(referentes!$AN:$AR,MATCH(DATOS_MIP_SS!X15,referentes!$AO:$AO,0),5),\"\")","v":""}]
[null,null,null,"",{"$f":"IF(J16=\"\",\"\",CONCATENATE(AD16,DIGITADOR!$B$2,DIGITADOR!$M$1,J16))","v":""},{"$f":"IF(J16=\"\",\"\",CONCATENATE(DIGITADOR!$B$2,AD16,DIGITADOR!$M$1,J16,ROW()))","v":""},null,null,null,{"$f":"IF(X16=\"\",\"\", INDEX(referentes!$AN:$AR,MATCH(DATOS_MIP_SS!X16,referentes!$AO:$AO,0),1))","v":""},"",{"$f":"IF(AF16=\"\",\"\", INDEX(referentes!D:E,MATCH(DATOS_MIP_SS!AF16,referentes!$E:$E,0),1))","v":""},{"$f":"IF(AI16=\"\",\"\", INDEX(referentes!A:B,MATCH(DATOS_MIP_SS!AI16,referentes!$B:$B,0),1))","v":""},{"$f":"IF(AJ16=\"\",\"\", INDEX(referentes!G:H,MATCH(DATOS_MIP_SS!AJ16,referentes!$H:$H,0),1))","v":""},{"$f":"IF(AK16=\"\",\"\", INDEX(referentes!$AB$2:$AC$10,MATCH(DATOS_MIP_SS!AK16,referentes!$AC$2:$AC$10,0),1))","v":""},{"$f":"IF(AL16=\"\",\"\", INDEX(referentes!$AH:$AI,MATCH(DATOS_MIP_SS!AL16,referentes!$AI:$AI,0),1))","v":""},{"$f":"IF(AP16=\"\",\"\", INDEX(referentes!$AE$2:$AF$10,MATCH(DATOS_MIP_SS!AP16,referentes!$AF$2:$AF$10,0),1))","v":""},{"$f":"IF(AN16=\"\",\"\", INDEX(referentes!$AK$2:$AL$10,MATCH(DATOS_MIP_SS!AN16,referentes!$AL$2:$AL$10,0),1))","v":""},{"$f":"IF(AQ16=\"\",\"\", INDEX(referentes!J:K,MATCH(DATOS_MIP_SS!AQ16,referentes!$K:$K,0),1))","v":""},{"$f":"IF(AR16=\"\",\"\", INDEX(referentes!$M$2:$N$20,MATCH(DATOS_MIP_SS!AR16,referentes!$N$2:$N$20,0),1))","v":""},{"$f":"IF(AY16=\"\",\"\", INDEX('otras referencias'!O:P,MATCH(AY16,'otras referencias'!$O:$O,0),2))","v":""},null,null,null,null,null,{"$f":"IF(X16<>\"\",INDEX(referentes!$AN:$AR,MATCH(DATOS_MIP_SS!X16,referentes!$AO:$AO,0),5),\"\")","v":""}]
[null,null,null,"",{"$f":"IF(J17=\"\",\"\",CONCATENATE(AD17,DIGITADOR!$B$2,DIGITADOR!$M$1,J17))","v":""},{"$f":"IF(J17=\"\",\"\",CONCATENATE(DIGITADOR!$B$2,AD17,DIGITADOR!$M$1,J17,ROW()))","v":""},null,null,null,{"$f":"IF(X17=\"\",\"\", INDEX(referentes!$AN:$AR,MATCH(DATOS_MIP_SS!X17,referentes!$AO:$AO,0),1))","v":""},"",{"$f":"IF(AF17=\"\",\"\", INDEX(referentes!D:E,MATCH(DATOS_MIP_SS!AF17,referentes!$E:$E,0),1))","v":""},{"$f":"IF(AI17=\"\",\"\", INDEX(referentes!A:B,MATCH(DATOS_MIP_SS!AI17,referentes!$B:$B,0),1))","v":""},{"$f":"IF(AJ17=\"\",\"\", INDEX(referentes!G:H,MATCH(DATOS_MIP_SS!AJ17,referentes!$H:$H,0),1))","v":""},{"$f":"IF(AK17=\"\",\"\", INDEX(referentes!$AB$2:$AC$10,MATCH(DATOS_MIP_SS!AK17,referentes!$AC$2:$AC$10,0),1))","v":""},{"$f":"IF(AL17=\"\",\"\", INDEX(referentes!$AH:$AI,MATCH(DATOS_MIP_SS!AL17,referentes!$AI:$AI,0),1))","v":""},{"$f":"IF(AP17=\"\",\"\", INDEX(referentes!$AE$2:$AF$10,MATCH(DATOS_MIP_SS!AP17,referentes!$AF$2:$AF$10,0),1))","v":""},{"$f":"IF(AN17=\"\",\"\", INDEX(referentes!$AK$2:$AL$10,MATCH(DATOS_MIP_SS!AN17,referentes!$AL$2:$AL$10,0),1))","v":""},{"$f":"IF(AQ17=\"\",\"\", INDEX(referentes!J:K,MATCH(DATOS_MIP_SS!AQ17,referentes!$K:$K,0),1))","v":""},{"$f":"IF(AR17=\"\",\"\", INDEX(referentes!$M$2:$N$20,MATCH(DATOS_MIP_SS!AR17,referentes!$N$2:$N$20,0),1))","v":""},{"$f":"IF(AY17=\"\",\"\", INDEX('otras referencias'!O:P,MATCH(AY17,'otras referencias'!$O:$O,0),2))","v":""},null,null,null,null,null,{"$f":"IF(X17<>\"\",INDEX(referentes!$AN:$AR,MATCH(DATOS_MIP_SS!X17,referentes!$AO:$AO,0),5),\"\")","v":""}]
[null,null,null,"",{"$f":"IF(J18=\"\",\"\",CONCATENATE(AD18,DIGITADOR!$B$2,DIGITADOR!$M$1,J18))","v":""},{"$f":"IF(J18=\"\",\"\",CONCATENATE(DIGITADOR!$B$2,AD18,DIGITADOR!$M$1,J18,ROW()))","v":""},null,null,null,{"$f":"IF(X18=\"\",\"\", INDEX(referentes!$AN:$AR,MATCH(DATOS_MIP_SS!X18,referentes!$AO:$AO,0),1))","v":""},"",{"$f":"IF(AF18=\"\",\"\", INDEX(referentes!D:E,MATCH(DATOS_MIP_SS!AF18,referentes!$E:$E,0),1))","v":""},{"$f":"IF(AI18=\"\",\"\", INDEX(referentes!A:B,MATCH(DATOS_MIP_SS!AI18,referentes!$B:$B,0),1))","v":""},{"$f":"IF(AJ18=\"\",\"\", INDEX(referentes!G:H,MATCH(DATOS_MIP_SS!AJ18,referentes!$H:$H,0),1))","v":""},{"$f":"IF(AK18=\"\",\"\", INDEX(referentes!$AB$2:$AC$10,MATCH(DATOS_MIP_SS!AK18,referentes!$AC$2:$AC$10,0),1))","v":""},{"$f":"IF(AL18=\"\",\"\", INDEX(referentes!$AH:$AI,MATCH(DATOS_MIP_SS!AL18,referentes!$AI:$AI,0),1))","v":""},{"$f":"IF(AP18=\"\",\"\", INDEX(referentes!$AE$2:$AF$10,MATCH(DATOS_MIP_SS!AP18,referentes!$AF$2:$AF$10,0),1))","v":""},{"$f":"IF(AN18=\"\",\"\", INDEX(referentes!$AK$2:$AL$10,MATCH(DATOS_MIP_SS!AN18,referentes!$AL$2:$AL$10,0),1))","v":""},{"$f":"IF(AQ18=\"\",\"\", INDEX(referentes!J:K,MATCH(DATOS_MIP_SS!AQ18,referentes!$K:$K,0),1))","v":""},{"$f":"IF(AR18=\"\",\"\", INDEX(referentes!$M$2:$N$20,MATCH(DATOS_MIP_SS!AR18,referentes!$N$2:$N$20,0),1))","v":""},{"$f":"IF(AY18=\"\",\"\", INDEX('otras referencias'!O:P,MATCH(AY18,'otras referencias'!$O:$O,0),2))","v":""},null,null,null,null,null,{"$f":"IF(X18<>\"\",INDEX(referentes!$AN:$AR,MATCH(DATOS_MIP_SS!X18,referentes!$AO:$AO,0),5),\"\")","v":""}]
[null,null,null,"",{"$f":"IF(J19=\"\",\"\",CONCATENATE(AD19,DIGITADOR!$B$2,DIGITADOR!$M$1,J19))","v":""},{"$f":"IF(J19=\"\",\"\",CONCATENATE(DIGITADOR!$B$2,AD19,DIGITADOR!$M$1,J19,ROW()))","v":""},null,null,null,{"$f":"IF(X19=\"\",\"\", INDEX(referentes!$AN:$AR,MATCH(DATOS_MIP_SS!X19,referentes!$AO:$AO,0),1))","v":""},"",{"$f":"IF(AF19=\"\",\"\", INDEX(referentes!D:E,MATCH(DATOS_MIP_SS!AF19,referentes!$E:$E,0),1))","v":""},{"$f":"IF(AI19=\"\",\"\", INDEX(referentes!A:B,MATCH(DATOS_MIP_SS!AI19,referentes!$B:$B,0),1))","v":""},{"$f":"IF(AJ19=\"\",\"\", INDEX(referentes!G:H,MATCH(DATOS_MIP_SS!AJ19,referentes!$H:$H,0),1))","v":""},{"$f":"IF(AK19=\"\",\"\", INDEX(referentes!$AB$2:$AC$10,MATCH(DATOS_MIP_SS!AK19,referentes!$AC$2:$AC$10,0),1))","v":""},{"$f":"IF(AL19=\"\",\"\", INDEX(referentes!$AH:$AI,MATCH(DATOS_MIP_SS!AL19,referentes!$AI:$AI,0),1))","v":""},{"$f":"IF(AP19=\"\",\"\", INDEX(referentes!$AE$2:$AF$10,MATCH(DATOS_MIP_SS!AP19,referentes!$AF$2:$AF$10,0),1))","v":""},{"$f":"IF(AN19=\"\",\"\", INDEX(referentes!$AK$2:$AL$10,MATCH(DATOS_MIP_SS!AN19,referentes!$AL$2:$AL$10,0),1))","v":""},{"$f":"IF(AQ19=\"\",\"\", INDEX(referentes!J:K,MATCH(DATOS_MIP_SS!AQ19,referentes!$K:$K,0),1))","v":""},{"$f":"IF(AR19=\"\",\"\", INDEX(referentes!$M$2:$N$20,MATCH(DATOS_MIP_SS!AR19,referentes!$N$2:$N$20,0),1))","v":""},{"$f":"IF(AY19=\"\",\"\", INDEX('otras referencias'!O:P,MATCH(AY19,'otras referencias'!$O:$O,0),2))","v":""},null,null,null,null,null,{"$f":"IF(X19<>\"\",INDEX(referentes!$AN:$AR,MATCH(DATOS_MIP_SS!X19,referentes!$AO:$AO,0),5),\"\")","v":""}]
[null,null,null,"",{"$f":"IF(J20=\"\",\"\",CONCATENATE(AD20,DIGITADOR!$B$2,DIGITADOR!$M$1,J20))","v":""},{"$f":"IF(J20=\"\",\"\",CONCATENATE(DIGITADOR!$B$2,AD20,DIGITADOR!$M$1,J20,ROW()))","v":""},null,null,null,{"$f":"IF(X20=\"\",\"\", INDEX(referentes!$AN:$AR,MATCH(DATOS_MIP_SS!X20,referentes!$AO:$AO,0),1))","v":""},"",{"$f":"IF(AF20=\"\",\"\", INDEX(referentes!D:E,MATCH(DATOS_MIP_SS!AF20,referentes!$E:$E,0),1))","v":""},{"$f":"IF(AI20=\"\",\"\", INDEX(referentes!A:B,MATCH(DATOS_MIP_SS!AI20,referentes!$B:$B,0),1))","v":""},{"$f":"IF(AJ20=\"\",\"\", INDEX(referentes!G:H,MATCH(DATOS_MIP_SS!AJ20,referentes!$H:$H,0),1))","v":""},{"$f":"IF(AK20=\"\",\"\", INDEX(referentes!$AB$2:$AC$10,MATCH(DATOS_MIP_SS!AK20,referentes!$AC$2:$AC$10,0),1))","v":""},{"$f":"IF(AL20=\"\",\"\", INDEX(referentes!$AH:$AI,MATCH(DATOS_MIP_SS!AL20,referentes!$AI:$AI,0),1))","v":""},{"$f":"IF(AP20=\"\",\"\", INDEX(referentes!$AE$2:$AF$10,MATCH(DATOS_MIP_SS!AP20,referentes!$AF$2:$AF$10,0),1))","v":""},{"$f":"IF(AN20=\"\",\"\", INDEX(referentes!$AK$2:$AL$10,MATCH(DATOS_MIP_SS!AN20,referentes!$AL$2:$AL$10,0),1))","v":""},{"$f":"IF(AQ20=\"\",\"\", INDEX(referentes!J:K,MATCH(DATOS_MIP_SS!AQ20,referentes!$K:$K,0),1))","v":""},{"$f":"IF(AR20=\"\",\"\", INDEX(referentes!$M$2:$N$20,MATCH(DATOS_MIP_SS!AR20,referentes!$N$2:$N$20,0),1))","v":""},{"$f":"IF(AY20=\"\",\"\", INDEX('otras referencias'!O:P,MATCH(AY20,'otras referencias'!$O:$O,0),2))","v":""},null,null,null,null,null,{"$f":"IF(X20<>\"\",INDEX(referentes!$AN:$AR,MATCH(DATOS_MIP_SS!X20,referentes!$AO:$AO,0),5),\"\")","v":""}]
[null,null,null,"",{"$f":"IF(J21=\"\",\"\",CONCATENATE(AD21,DIGITADOR!$B$2,DIGITADOR!$M$1,J21))","v":""},{"$f":"IF(J21=\"\",\"\",CONCATENATE(DIGITADOR!$B$2,AD21,DIGITADOR!$M$1,J21,ROW()))","v":""},null,null,null,{"$f":"IF(X21=\"\",\"\", INDEX(referentes!$AN:$AR,MATCH(DATOS_MIP_SS!X21,referentes!$AO:$AO,0),1))","v":""},"",{"$f":"IF(AF21=\"\",\"\", INDEX(referentes!D:E,MATCH(DATOS_MIP_SS!AF21,referentes!$E:$E,0),1))","v":""},{"$f":"IF(AI21=\"\",\"\", INDEX(referentes!A:B,MATCH(DATOS_MIP_SS!AI21,referentes!$B:$B,0),1))","v":""},{"$f":"IF(AJ21=\"\",\"\", INDEX(referentes!G:H,MATCH(DATOS_MIP_SS!AJ21,referentes!$H:$H,0),1))","v":""},{"$f":"IF(AK21=\"\",\"\", INDEX(referentes!$AB$2:$AC$10,MATCH(DATOS_MIP_SS!AK21,referentes!$AC$2:$AC$10,0),1))","v":""},{"$f":"IF(AL21=\"\",\"\", INDEX(referentes!$AH:$AI,MATCH(DATOS_MIP_SS!AL21,referentes!$AI:$AI,0),1))","v":""},{"$f":"IF(AP21=\"\",\"\", INDEX(referentes!$AE$2:$AF$10,MATCH(DATOS_MIP_SS!AP21,referentes!$AF$2:$AF$10,0),1))","v":""},{"$f":"IF(AN21=\"\",\"\", INDEX(referentes!$AK$2:$AL$10,MATCH(DATOS_MIP_SS!AN21,referentes!$AL$2:$AL$10,0),1))","v":""},{"$f":"IF(AQ21=\"\",\"\", INDEX(referentes!J:K,MATCH(DATOS_MIP_SS!AQ21,referentes!$K:$K,0),1))","v":""},{"$f":"IF(AR21=\"\",\"\", INDEX(referentes!$M$2:$N$20,MATCH(DATOS_MIP_SS!AR21,referentes!$N$2:$N$20,0),1))","v":""},{"$f":"IF(AY21=\"\",\"\", INDEX('otras referencias'!O:P,MATCH(AY21,'otras referencias'!$O:$O,0),2))","v":""},null,null,null,null,null,{"$f":"IF(X21<>\"\",INDEX(referentes!$AN:$AR,MATCH(DATOS_MIP_SS!X21,referentes!$AO:$AO,0),5),\"\")","v":""}]
[null,null,null,"",{"$f":"IF(J22=\"\",\"\",CONCATENATE(AD22,DIGITADOR!$B$2,DIGITADOR!$M$1,J22))","v":""},{"$f":"IF(J22=\"\",\"\",CONCATENATE(DIGITADOR!$B$2,AD22,DIGITADOR!$M$1,J22,ROW()))","v":""},null,null,null,{"$f":"IF(X22=\"\",\"\", INDEX(referentes!$AN:$AR,MATCH(DATOS_MIP_SS!X22,referentes!$AO:$AO,0),1))","v":""},"",{"$f":"IF(AF22=\"\",\"\", INDEX(referentes!D:E,MATCH(DATOS_MIP_SS!AF22,referentes!$E:$E,0),1))","v":""},{"$f":"IF(AI22=\"\",\"\", INDEX(referentes!A:B,MATCH(DATOS_MIP_SS!AI22,referentes!$B:$B,0),1))","v":""},{"$f":"IF(AJ22=\"\",\"\", INDEX(referentes!G:H,MATCH(DATOS_MIP_SS!AJ22,referentes!$H:$H,0),1))","v":""},{"$f":"IF(AK22=\"\",\"\", INDEX(referentes!$AB$2:$AC$10,MATCH(DATOS_MIP_SS!AK22,referentes!$AC$2:$AC$10,0),1))","v":""},{"$f":"IF(AL22=\"\",\"\", INDEX(referentes!$AH:$AI,MATCH(DATOS_MIP_SS!AL22,referentes!$AI:$AI,0),1))","v":""},{"$f":"IF(AP22=\"\",\"\", INDEX(referentes!$AE$2:$AF$10,MATCH(DATOS_MIP_SS!AP22,referentes!$AF$2:$AF$10,0),1))","v":""},{"$f":"IF(AN22=\"\",\"\", INDEX(referentes!$AK$2:$AL$10,MATCH(DATOS_MIP_SS!AN22,referentes!$AL$2:$AL$10,0),1))","v":""},{"$f":"IF(AQ22=\"\",\"\", INDEX(referentes!J:K,MATCH(DATOS_MIP_SS!AQ22,referentes!$K:$K,0),1))","v":""},{"$f":"IF(AR22=\"\",\"\", INDEX(referentes!$M$2:$N$20,MATCH(DATOS_MIP_SS!AR22,referentes!$N$2:$N$20,0),1))","v":""},{"$f":"IF(AY22=\"\",\"\", INDEX('otras referencias'!O:P,MATCH(AY22,'otras referencias'!$O:$O,0),2))","v":""},null,null,null,null,null,{"$f":"IF(X22<>\"\",INDEX(referentes!$AN:$AR,MATCH(DATOS_MIP_SS!X22,referentes!$AO:$AO,0),5),\"\")","v":""}]
[null,null,null,"",{"$f":"IF(J23=\"\",\"\",CONCATENATE(AD23,DIGITADOR!$B$2,DIGITADOR!$M$1,J23))","v":""},{"$f":"IF(J23=\"\",\"\",CONCATENATE(DIGITADOR!$B$2,AD23,DIGITADOR!$M$1,J23,ROW()))","v":""},null,null,null,{"$f":"IF(X23=\"\",\"\", INDEX(referentes!$AN:$AR,MATCH(DATOS_MIP_SS!X23,referentes!$AO:$AO,0),1))","v":""},"",{"$f":"IF(AF23=\"\",\"\", INDEX(referentes!D:E,MATCH(DATOS_MIP_SS!AF23,referentes!$E:$E,0),1))","v":""},{"$f":"IF(AI23=\"\",\"\", INDEX(referentes!A:B,MATCH(DATOS_MIP_SS!AI23,referentes!$B:$B,0),1))","v":""},{"$f":"IF(AJ23=\"\",\"\", INDEX(referentes!G:H,MATCH(DATOS_MIP_SS!AJ23,referentes!$H:$H,0),1))","v":""},{"$f":"IF(AK23=\"\",\"\", INDEX(referentes!$AB$2:$AC$10,MATCH(DATOS_MIP_SS!AK23,referentes!$AC$2:$AC$10,0),1))","v":""},{"$f":"IF(AL23=\"\",\"\", INDEX(referentes!$AH:$AI,MATCH(DATOS_MIP_SS!AL23,referentes!$AI:$AI,0),1))","v":""},{"$f":"IF(AP23=\"\",\"\", INDEX(referentes!$AE$2:$AF$10,MATCH(DATOS_MIP_SS!AP23,referentes!$AF$2:$AF$10,0),1))","v":""},{"$f":"IF(AN23=\"\",\"\", INDEX(referentes!$AK$2:$AL$10,MATCH(DATOS_MIP_SS!AN23,referentes!$AL$2:$AL$10,0),1))","v":""},{"$f":"IF(AQ23=\"\",\"\", INDEX(referentes!J:K,MATCH(DATOS_MIP_SS!AQ23,referentes!$K:$K,0),1))","v":""},{"$f":"IF(AR23=\"\",\"\", INDEX(referentes!$M$2:$N$20,MATCH(DATOS_MIP_SS!AR23,referentes!$N$2:$N$20,0),1))","v":""},{"$f":"IF(AY23=\"\",\"\", INDEX('otras referencias'!O:P,MATCH(AY23,'otras referencias'!$O:$O,0),2))","v":""},null,null,null,null,null,{"$f":"IF(X23<>\"\",INDEX(referentes!$AN:$AR,MATCH(DATOS_MIP_SS!X23,referentes!$AO:$AO,0),5),\"\")","v":""}]
[null,null,null,"",{"$f":"IF(J24=\"\",\"\",CONCATENATE(AD24,DIGITADOR!$B$2,DIGITADOR!$M$1,J24))","v":""},{"$f":"IF(J24=\"\",\"\",CONCATENATE(DIGITADOR!$B$2,AD24,DIGITADOR!$M$1,J24,ROW()))","v":""},null,null,null,{"$f":"IF(X24=\"\",\"\", INDEX(referentes!$AN:$AR,MATCH(DATOS_MIP_SS!X24,referentes!$AO:$AO,0),1))","v":""},"",{"$f":"IF(AF24=\"\",\"\", INDEX(referentes!D:E,MATCH(DATOS_MIP_SS!AF24,referentes!$E:$E,0),1))","v":""},{"$f":"IF(AI24=\"\",\"\", INDEX(referentes!A:B,MATCH(DATOS_MIP_SS!AI24,referentes!$B:$B,0),1))","v":""},{"$f":"IF(AJ24=\"\",\"\", INDEX(referentes!G:H,MATCH(DATOS_MIP_SS!AJ24,referentes!$H:$H,0),1))","v":""},{"$f":"IF(AK24=\"\",\"\", INDEX(referentes!$AB$2:$AC$10,MATCH(DATOS_MIP_SS!AK24,referentes!$AC$2:$AC$10,0),1))","v":""},{"$f":"IF(AL24=\"\",\"\", INDEX(referentes!$AH:$AI,MATCH(DATOS_MIP_SS!AL24,referentes!$AI:$AI,0),1))","v":""},{"$f":"IF(AP24=\"\",\"\", INDEX(referentes!$AE$2:$AF$10,MATCH(DATOS_MIP_SS!AP24,referentes!$AF$2:$AF$10,0),1))","v":""},{"$f":"IF(AN24=\"\",\"\", INDEX(referentes!$AK$2:$AL$10,MATCH(DATOS_MIP_SS!AN24,referentes!$AL$2:$AL$10,0),1))","v":""},{"$f":"IF(AQ24=\"\",\"\", INDEX(referentes!J:K,MATCH(DATOS_MIP_SS!AQ24,referentes!$K:$K,0),1))","v":""},{"$f":"IF(AR24=\"\",\"\", INDEX(referentes!$M$2:$N$20,MATCH(DATOS_MIP_SS!AR24,referentes!$N$2:$N$20,0),1))","v":""},{"$f":"IF(AY24=\"\",\"\", INDEX('otras referencias'!O:P,MATCH(AY24,'otras referencias'!$O:$O,0),2))","v":""},null,null,null,null,null,{"$f":"IF(X24<>\"\",INDEX(referentes!$AN:$AR,MATCH(DATOS_MIP_SS!X24,referentes!$AO:$AO,0),5),\"\")","v":""}]
[null,null,null,"",{"$f":"IF(J25=\"\",\"\",CONCATENATE(AD25,DIGITADOR!$B$2,DIGITADOR!$M$1,J25))","v":""},{"$f":"IF(J25=\"\",\"\",CONCATENATE(DIGITADOR!$B$2,AD25,DIGITADOR!$M$1,J25,ROW()))","v":""},null,null,null,{"$f":"IF(X25=\"\",\"\", INDEX(referentes!$AN:$AR,MATCH(DATOS_MIP_SS!X25,referentes!$AO:$AO,0),1))","v":""},"",{"$f":"IF(AF25=\"\",\"\", INDEX(referentes!D:E,MATCH(DATOS_MIP_SS!AF25,referentes!$E:$E,0),1))","v":""},{"$f":"IF(AI25=\"\",\"\", INDEX(referentes!A:B,MATCH(DATOS_MIP_SS!AI25,referentes!$B:$B,0),1))","v":""},{"$f":"IF(AJ25=\"\",\"\", INDEX(referentes!G:H,MATCH(DATOS_MIP_SS!AJ25,referentes!$H:$H,0),1))","v":""},{"$f":"IF(AK25=\"\",\"\", INDEX(referentes!$AB$2:$AC$10,MATCH(DATOS_MIP_SS!AK25,referentes!$AC$2:$AC$10,0),1))","v":""},{"$f":"IF(AL25=\"\",\"\", INDEX(referentes!$AH:$AI,MATCH(DATOS_MIP_SS!AL25,referentes!$AI:$AI,0),1))","v":""},{"$f":"IF(AP25=\"\",\"\", INDEX(referentes!$AE$2:$AF$10,MATCH(DATOS_MIP_SS!AP25,referentes!$AF$2:$AF$10,0),1))","v":""},{"$f":"IF(AN25=\"\",\"\", INDEX(referentes!$AK$2:$AL$10,MATCH(DATOS_MIP_SS!AN25,referentes!$AL$2:$AL$10,0),1))","v":""},{"$f":"IF(AQ25=\"\",\"\", INDEX(referentes!J:K,MATCH(DATOS_MIP_SS!AQ25,referentes!$K:$K,0),1))","v":""},{"$f":"IF(AR25=\"\",\"\", INDEX(referentes!$M$2:$N$20,MATCH(DATOS_MIP_SS!AR25,referentes!$N$2:$N$20,0),1))","v":""},{"$f":"IF(AY25=\"\",\"\", INDEX('otras referencias'!O:P,MATCH(AY25,'otras referencias'!$O:$O,0),2))","v":""},null,null,null,null,null,{"$f":"IF(X25<>\"\",INDEX(referentes!$AN:$AR,MATCH(DATOS_MIP_SS!X25,referentes!$AO:$AO,0),5),\"\")","v":""}]
[null,null,null,"",{"$f":"IF(J26=\"\",\"\",CONCATENATE(AD26,DIGITADOR!$B$2,DIGITADOR!$M$1,J26))","v":""},{"$f":"IF(J26=\"\",\"\",CONCATENATE(DIGITADOR!$B$2,AD26,DIGITADOR!$M$1,J26,ROW()))","v":""},null,null,null,{"$f":"IF(X26=\"\",\"\", INDEX(referentes!$AN:$AR,MATCH(DATOS_MIP_SS!X26,referentes!$AO:$AO,0),1))","v":""},"",{"$f":"IF(AF26=\"\",\"\", INDEX(referentes!D:E,MATCH(DATOS_MIP_SS!AF26,referentes!$E:$E,0),1))","v":""},{"$f":"IF(AI26=\"\",\"\", INDEX(referentes!A:B,MATCH(DATOS_MIP_SS!AI26,referentes!$B:$B,0),1))","v":""},{"$f":"IF(AJ26=\"\",\"\", INDEX(referentes!G:H,MATCH(DATOS_MIP_SS!AJ26,referentes!$H:$H,0),1))","v":""},{"$f":"IF(AK26=\"\",\"\", INDEX(referentes!$AB$2:$AC$10,MATCH(DATOS_MIP_SS!AK26,referentes!$AC$2:$AC$10,0),1))","v":""},{"$f":"IF(AL26=\"\",\"\", INDEX(referentes!$AH:$AI,MATCH(DATOS_MIP_SS!AL26,referentes!$AI:$AI,0),1))","v":""},{"$f":"IF(AP26=\"\",\"\", INDEX(referentes!$AE$2:$AF$10,MATCH(DATOS_MIP_SS!AP26,referentes!$AF$2:$AF$10,0),1))","v":""},{"$f":"IF(AN26=\"\",\"\", INDEX(referentes!$AK$2:$AL$10,MATCH(DATOS_MIP_SS!AN26,referentes!$AL$2:$AL$10,0),1))","v":""},{"$f":"IF(AQ26=\"\",\"\", INDEX(referentes!J:K,MATCH(DATOS_MIP_SS!AQ26,referentes!$K:$K,0),1))","v":""},{"$f":"IF(AR26=\"\",\"\", INDEX(referentes!$M$2:$N$20,MATCH(DATOS_MIP_SS!AR26,referentes!$N$2:$N$20,0),1))","v":""},{"$f":"IF(AY26=\"\",\"\", INDEX('otras referencias'!O:P,MATCH(AY26,'otras referencias'!$O:$O,0),2))","v":""},null,null,null,null,null,{"$f":"IF(X26<>\"\",INDEX(referentes!$AN:$AR,MATCH(DATOS_MIP_SS!X26,referentes!$AO:$AO,0),5),\"\")","v":""}]
[null,null,null,"",{"$f":"IF(J27=\"\",\"\",CONCATENATE(AD27,DIGITADOR!$B$2,DIGITADOR!$M$1,J27))","v":""},{"$f":"IF(J27=\"\",\"\",CONCATENATE(DIGITADOR!$B$2,AD27,DIGITADOR!$M$1,J27,ROW()))","v":""},null,null,null,{"$f":"IF(X27=\"\",\"\", INDEX(referentes!$AN:$AR,MATCH(DATOS_MIP_SS!X27,referentes!$AO:$AO,0),1))","v":""},"",{"$f":"IF(AF27=\"\",\"\", INDEX(referentes!D:E,MATCH(DATOS_MIP_SS!AF27,referentes!$E:$E,0),1))","v":""},{"$f":"IF(AI27=\"\",\"\", INDEX(referentes!A:B,MATCH(DATOS_MIP_SS!AI27,referentes!$B:$B,0),1))","v":""},{"$f":"IF(AJ27=\"\",\"\", INDEX(referentes!G:H,MATCH(DATOS_MIP_SS!AJ27,referentes!$H:$H,0),1))","v":""},{"$f":"IF(AK27=\"\",\"\", INDEX(referentes!$AB$2:$AC$10,MATCH(DATOS_MIP_SS!AK27,referentes!$AC$2:$AC$10,0),1))","v":""},{"$f":"IF(AL27=\"\",\"\", INDEX(referentes!$AH:$AI,MATCH(DATOS_MIP_SS!AL27,referentes!$AI:$AI,0),1))","v":""},{"$f":"IF(AP27=\"\",\"\", INDEX(referentes!$AE$2:$AF$10,MATCH(DATOS_MIP_SS!AP27,referentes!$AF$2:$AF$10,0),1))","v":""},{"$f":"IF(AN27=\"\",\"\", INDEX(referentes!$AK$2:$AL$10,MATCH(DATOS_MIP_SS!AN27,referentes!$AL$2:$AL$10,0),1))","v":""},{"$f":"IF(AQ27=\"\",\"\", INDEX(referentes!J:K,MATCH(DATOS_MIP_SS!AQ27,referentes!$K:$K,0),1))","v":""},{"$f":"IF(AR27=\"\",\"\", INDEX(referentes!$M$2:$N$20,MATCH(DATOS_MIP_SS!AR27,referentes!$N$2:$N$20,0),1))","v":""},{"$f":"IF(AY27=\"\",\"\", INDEX('otras referencias'!O:P,MATCH(AY27,'otras referencias'!$O:$O,0),2))","v":""},null,null,null,null,null,{"$f":"IF(X27<>\"\",INDEX(referentes!$AN:$AR,MATCH(DATOS_MIP_SS!X27,referentes!$AO:$AO,0),5),\"\")","v":""}]
[null,null,null,"",{"$f":"IF(J28=\"\",\"\",CONCATENATE(AD28,DIGITADOR!$B$2,DIGITADOR!$M$1,J28))","v":""},{"$f":"IF(J28=\"\",\"\",CONCATENATE(DIGITADOR!$B$2,AD28,DIGITADOR!$M$1,J28,ROW()))","v":""},null,null,null,{"$f":"IF(X28=\"\",\"\", INDEX(referentes!$AN:$AR,MATCH(DATOS_MIP_SS!X28,referentes!$AO:$AO,0),1))","v":""},"",{"$f":"IF(AF28=\"\",\"\", INDEX(referentes!D:E,MATCH(DATOS_MIP_SS!AF28,referentes!$E:$E,0),1))","v":""},{"$f":"IF(AI28=\"\",\"\", INDEX(referentes!A:B,MATCH(DATOS_MIP_SS!AI28,referentes!$B:$B,0),1))","v":""},{"$f":"IF(AJ28=\"\",\"\", INDEX(referentes!G:H,MATCH(DATOS_MIP_SS!AJ28,referentes!$H:$H,0),1))","v":""},{"$f":"IF(AK28=\"\",\"\", INDEX(referentes!$AB$2:$AC$10,MATCH(DATOS_MIP_SS!AK28,referentes!$AC$2:$AC$10,0),1))","v":""},{"$f":"IF(AL28=\"\",\"\", INDEX(referentes!$AH:$AI,MATCH(DATOS_MIP_SS!AL28,referentes!$AI:$AI,0),1))","v":""},{"$f":"IF(AP28=\"\",\"\", INDEX(referentes!$AE$2:$AF$10,MATCH(DATOS_MIP_SS!AP28,referentes!$AF$2:$AF$10,0),1))","v":""},{"$f":"IF(AN28=\"\",\"\", INDEX(referentes!$AK$2:$AL$10,MATCH(DATOS_MIP_SS!AN28,referentes!$AL$2:$AL$10,0),1))","v":""},{"$f":"IF(AQ28=\"\",\"\", INDEX(referentes!J:K,MATCH(DATOS_MIP_SS!AQ28,referentes!$K:$K,0),1))","v":""},{"$f":"IF(AR28=\"\",\"\", INDEX(referentes!$M$2:$N$20,MATCH(DATOS_MIP_SS!AR28,referentes!$N$2:$N$20,0),1))","v":""},{"$f":"IF(AY28=\"\",\"\", INDEX('otras referencias'!O:P,MATCH(AY28,'otras referencias'!$O:$O,0),2))","v":""},null,null,null,null,null,{"$f":"IF(X28<>\"\",INDEX(referentes!$AN:$AR,MATCH(DATOS_MIP_SS!X28,referentes!$AO:$AO,0),5),\"\")","v":""}]
[null,null,null,"",{"$f":"IF(J29=\"\",\"\",CONCATENATE(AD29,DIGITADOR!$B$2,DIGITADOR!$M$1,J29))","v":""},{"$f":"IF(J29=\"\",\"\",CONCATENATE(DIGITADOR!$B$2,AD29,DIGITADOR!$M$1,J29,ROW()))","v":""},null,null,null,{"$f":"IF(X29=\"\",\"\", INDEX(referentes!$AN:$AR,MATCH(DATOS_MIP_SS!X29,referentes!$AO:$AO,0),1))","v":""},"",{"$f":"IF(AF29=\"\",\"\", INDEX(referentes!D:E,MATCH(DATOS_MIP_SS!AF29,referentes!$E:$E,0),1))","v":""},{"$f":"IF(AI29=\"\",\"\", INDEX(referentes!A:B,MATCH(DATOS_MIP_SS!AI29,referentes!$B:$B,0),1))","v":""},{"$f":"IF(AJ29=\"\",\"\", INDEX(referentes!G:H,MATCH(DATOS_MIP_SS!AJ29,referentes!$H:$H,0),1))","v":""},{"$f":"IF(AK29=\"\",\"\", INDEX(referentes!$AB$2:$AC$10,MATCH(DATOS_MIP_SS!AK29,referentes!$AC$2:$AC$10,0),1))","v":""},{"$f":"IF(AL29=\"\",\"\", INDEX(referentes!$AH:$AI,MATCH(DATOS_MIP_SS!AL29,referentes!$AI:$AI,0),1))","v":""},{"$f":"IF(AP29=\"\",\"\", INDEX(referentes!$AE$2:$AF$10,MATCH(DATOS_MIP_SS!AP29,referentes!$AF$2:$AF$10,0),1))","v":""},{"$f":"IF(AN29=\"\",\"\", INDEX(referentes!$AK$2:$AL$10,MATCH(DATOS_MIP_SS!AN29,referentes!$AL$2:$AL$10,0),1))","v":""},{"$f":"IF(AQ29=\"\",\"\", INDEX(referentes!J:K,MATCH(DATOS_MIP_SS!AQ29,referentes!$K:$K,0),1))","v":""},{"$f":"IF(AR29=\"\",\"\", INDEX(referentes!$M$2:$N$20,MATCH(DATOS_MIP_SS!AR29,referentes!$N$2:$N$20,0),1))","v":""},{"$f":"IF(AY29=\"\",\"\", INDEX('otras referencias'!O:P,MATCH(AY29,'otras referencias'!$O:$O,0),2))","v":""},null,null,null,null,null,{"$f":"IF(X29<>\"\",INDEX(referentes!$AN:$AR,MATCH(DATOS_MIP_SS!X29,referentes!$AO:$AO,0),5),\"\")","v":""}]
[null,null,null,"",{"$f":"IF(J30=\"\",\"\",CONCATENATE(AD30,DIGITADOR!$B$2,DIGITADOR!$M$1,J30))","v":""},{"$f":"IF(J30=\"\",\"\",CONCATENATE(DIGITADOR!$B$2,AD30,DIGITADOR!$M$1,J30,ROW()))","v":""},null,null,null,{"$f":"IF(X30=\"\",\"\", INDEX(referentes!$AN:$AR,MATCH(DATOS_MIP_SS!X30,referentes!$AO:$AO,0),1))","v":""},"",{"$f":"IF(AF30=\"\",\"\", INDEX(referentes!D:E,MATCH(DATOS_MIP_SS!AF30,referentes!$E:$E,0),1))","v":""},{"$f":"IF(AI30=\"\",\"\", INDEX(referentes!A:B,MATCH(DATOS_MIP_SS!AI30,referentes!$B:$B,0),1))","v":""},{"$f":"IF(AJ30=\"\",\"\", INDEX(referentes!G:H,MATCH(DATOS_MIP_SS!AJ30,referentes!$H:$H,0),1))","v":""},{"$f":"IF(AK30=\"\",\"\", INDEX(referentes!$AB$2:$AC$10,MATCH(DATOS_MIP_SS!AK30,referentes!$AC$2:$AC$10,0),1))","v":""},{"$f":"IF(AL30=\"\",\"\", INDEX(referentes!$AH:$AI,MATCH(DATOS_MIP_SS!AL30,referentes!$AI:$AI,0),1))","v":""},{"$f":"IF(AP30=\"\",\"\", INDEX(referentes!$AE$2:$AF$10,MATCH(DATOS_MIP_SS!AP30,referentes!$AF$2:$AF$10,0),1))","v":""},{"$f":"IF(AN30=\"\",\"\", INDEX(referentes!$AK$2:$AL$10,MATCH(DATOS_MIP_SS!AN30,referentes!$AL$2:$AL$10,0),1))","v":""},{"$f":"IF(AQ30=\"\",\"\", INDEX(referentes!J:K,MATCH(DATOS_MIP_SS!AQ30,referentes!$K:$K,0),1))","v":""},{"$f":"IF(AR30=\"\",\"\", INDEX(referentes!$M$2:$N$20,MATCH(DATOS_MIP_SS!AR30,referentes!$N$2:$N$20,0),1))","v":""},{"$f":"IF(AY30=\"\",\"\", INDEX('otras referencias'!O:P,MATCH(AY30,'otras referencias'!$O:$O,0),2))","v":""},null,null,null,null,null,{"$f":"IF(X30<>\"\",INDEX(referentes!$AN:$AR,MATCH(DATOS_MIP_SS!X30,referentes!$AO:$AO,0),5),\"\")","v":""}]
[null,null,null,"",{"$f":"IF(J31=\"\",\"\",CONCATENATE(AD31,DIGITADOR!$B$2,DIGITADOR!$M$1,J31))","v":""},{"$f":"IF(J31=\"\",\"\",CONCATENATE(DIGITADOR!$B$2,AD31,DIGITADOR!$M$1,J31,ROW()))","v":""},null,null,null,{"$f":"IF(X31=\"\",\"\", INDEX(referentes!$AN:$AR,MATCH(DATOS_MIP_SS!X31,referentes!$AO:$AO,0),1))","v":""},"",{"$f":"IF(AF31=\"\",\"\", INDEX(referentes!D:E,MATCH(DATOS_MIP_SS!AF31,referentes!$E:$E,0),1))","v":""},{"$f":"IF(AI31=\"\",\"\", INDEX(referentes!A:B,MATCH(DATOS_MIP_SS!AI31,referentes!$B:$B,0),1))","v":""},{"$f":"IF(AJ31=\"\",\"\", INDEX(referentes!G:H,MATCH(DATOS_MIP_SS!AJ31,referentes!$H:$H,0),1))","v":""},{"$f":"IF(AK31=\"\",\"\", INDEX(referentes!$AB$2:$AC$10,MATCH(DATOS_MIP_SS!AK31,referentes!$AC$2:$AC$10,0),1))","v":""},{"$f":"IF(AL31=\"\",\"\", INDEX(referentes!$AH:$AI,MATCH(DATOS_MIP_SS!AL31,referentes!$AI:$AI,0),1))","v":""},{"$f":"IF(AP31=\"\",\"\", INDEX(referentes!$AE$2:$AF$10,MATCH(DATOS_MIP_SS!AP31,referentes!$AF$2:$AF$10,0),1))","v":""},{"$f":"IF(AN31=\"\",\"\", INDEX(referentes!$AK$2:$AL$10,MATCH(DATOS_MIP_SS!AN31,referentes!$AL$2:$AL$10,0),1))","v":""},{"$f":"IF(AQ31=\"\",\"\", INDEX(referentes!J:K,MATCH(DATOS_MIP_SS!AQ31,referentes!$K:$K,0),1))","v":""},{"$f":"IF(AR31=\"\",\"\", INDEX(referentes!$M$2:$N$20,MATCH(DATOS_MIP_SS!AR31,referentes!$N$2:$N$20,0),1))","v":""},{"$f":"IF(AY31=\"\",\"\", INDEX('otras referencias'!O:P,MATCH(AY31,'otras referencias'!$O:$O,0),2))","v":""},null,null,null,null,null,{"$f":"IF(X31<>\"\",INDEX(referentes!$AN:$AR,MATCH(DATOS_MIP_SS!X31,referentes!$AO:$AO,0),5),\"\")","v":""}]
[null,null,null,"",{"$f":"IF(J32=\"\",\"\",CONCATENATE(AD32,DIGITADOR!$B$2,DIGITADOR!$M$1,J32))","v":""},{"$f":"IF(J32=\"\",\"\",CONCATENATE(DIGITADOR!$B$2,AD32,DIGITADOR!$M$1,J32,ROW()))","v":""},null,null,null,{"$f":"IF(X32=\"\",\"\", INDEX(referentes!$AN:$AR,MATCH(DATOS_MIP_SS!X32,referentes!$AO:$AO,0),1))","v":""},"",{"$f":"IF(AF32=\"\",\"\", INDEX(referentes!D:E,MATCH(DATOS_MIP_SS!AF32,referentes!$E:$E,0),1))","v":""},{"$f":"IF(AI32=\"\",\"\", INDEX(referentes!A:B,MATCH(DATOS_MIP_SS!AI32,referentes!$B:$B,0),1))","v":""},{"$f":"IF(AJ32=\"\",\"\", INDEX(referentes!G:H,MATCH(DATOS_MIP_SS!AJ32,referentes!$H:$H,0),1))","v":""},{"$f":"IF(AK32=\"\",\"\", INDEX(referentes!$AB$2:$AC$10,MATCH(DATOS_MIP_SS!AK32,referentes!$AC$2:$AC$10,0),1))","v":""},{"$f":"IF(AL32=\"\",\"\", INDEX(referentes!$AH:$AI,MATCH(DATOS_MIP_SS!AL32,referentes!$AI:$AI,0),1))","v":""},{"$f":"IF(AP32=\"\",\"\", INDEX(referentes!$AE$2:$AF$10,MATCH(DATOS_MIP_SS!AP32,referentes!$AF$2:$AF$10,0),1))","v":""},{"$f":"IF(AN32=\"\",\"\", INDEX(referentes!$AK$2:$AL$10,MATCH(DATOS_MIP_SS!AN32,referentes!$AL$2:$AL$10,0),1))","v":""},{"$f":"IF(AQ32=\"\",\"\", INDEX(referentes!J:K,MATCH(DATOS_MIP_SS!AQ32,referentes!$K:$K,0),1))","v":""},{"$f":"IF(AR32=\"\",\"\", INDEX(referentes!$M$2:$N$20,MATCH(DATOS_MIP_SS!AR32,referentes!$N$2:$N$20,0),1))","v":""},{"$f":"IF(AY32=\"\",\"\", INDEX('otras referencias'!O:P,MATCH(AY32,'otras referencias'!$O:$O,0),2))","v":""},null,null,null,null,null,{"$f":"IF(X32<>\"\",INDEX(referentes!$AN:$AR,MATCH(DATOS_MIP_SS!X32,referentes!$AO:$AO,0),5),\"\")","v":""}]
[null,null,null,"",{"$f":"IF(J33=\"\",\"\",CONCATENATE(AD33,DIGITADOR!$B$2,DIGITADOR!$M$1,J33))","v":""},{"$f":"IF(J33=\"\",\"\",CONCATENATE(DIGITADOR!$B$2,AD33,DIGITADOR!$M$1,J33,ROW()))","v":""},null,null,null,{"$f":"IF(X33=\"\",\"\", INDEX(referentes!$AN:$AR,MATCH(DATOS_MIP_SS!X33,referentes!$AO:$AO,0),1))","v":""},"",{"$f":"IF(AF33=\"\",\"\", INDEX(referentes!D:E,MATCH(DATOS_MIP_SS!AF33,referentes!$E:$E,0),1))","v":""},{"$f":"IF(AI33=\"\",\"\", INDEX(referentes!A:B,MATCH(DATOS_MIP_SS!AI33,referentes!$B:$B,0),1))","v":""},{"$f":"IF(AJ33=\"\",\"\", INDEX(referentes!G:H,MATCH(DATOS_MIP_SS!AJ33,referentes!$H:$H,0),1))","v":""},{"$f":"IF(AK33=\"\",\"\", INDEX(referentes!$AB$2:$AC$10,MATCH(DATOS_MIP_SS!AK33,referentes!$AC$2:$AC$10,0),1))","v":""},{"$f":"IF(AL33=\"\",\"\", INDEX(referentes!$AH:$AI,MATCH(DATOS_MIP_SS!AL33,referentes!$AI:$AI,0),1))","v":""},{"$f":"IF(AP33=\"\",\"\", INDEX(referentes!$AE$2:$AF$10,MATCH(DATOS_MIP_SS!AP33,referentes!$AF$2:$AF$10,0),1))","v":""},{"$f":"IF(AN33=\"\",\"\", INDEX(referentes!$AK$2:$AL$10,MATCH(DATOS_MIP_SS!AN33,referentes!$AL$2:$AL$10,0),1))","v":""},{"$f":"IF(AQ33=\"\",\"\", INDEX(referentes!J:K,MATCH(DATOS_MIP_SS!AQ33,referentes!$K:$K,0),1))","v":""},{"$f":"IF(AR33=\"\",\"\", INDEX(referentes!$M$2:$N$20,MATCH(DATOS_MIP_SS!AR33,referentes!$N$2:$N$20,0),1))","v":""},{"$f":"IF(AY33=\"\",\"\", INDEX('otras referencias'!O:P,MATCH(AY33,'otras referencias'!$O:$O,0),2))","v":""},null,null,null,null,null,{"$f":"IF(X33<>\"\",INDEX(referentes!$AN:$AR,MATCH(DATOS_MIP_SS!X33,referentes!$AO:$AO,0),5),\"\")","v":""}]
[null,null,null,"",{"$f":"IF(J34=\"\",\"\",CONCATENATE(AD34,DIGITADOR!$B$2,DIGITADOR!$M$1,J34))","v":""},{"$f":"IF(J34=\"\",\"\",CONCATENATE(DIGITADOR!$B$2,AD34,DIGITADOR!$M$1,J34,ROW()))","v":""},null,null,null,{"$f":"IF(X34=\"\",\"\", INDEX(referentes!$AN:$AR,MATCH(DATOS_MIP_SS!X34,referentes!$AO:$AO,0),1))","v":""},"",{"$f":"IF(AF34=\"\",\"\", INDEX(referentes!D:E,MATCH(DATOS_MIP_SS!AF34,referentes!$E:$E,0),1))","v":""},{"$f":"IF(AI34=\"\",\"\", INDEX(referentes!A:B,MATCH(DATOS_MIP_SS!AI34,referentes!$B:$B,0),1))","v":""},{"$f":"IF(AJ34=\"\",\"\", INDEX(referentes!G:H,MATCH(DATOS_MIP_SS!AJ34,referentes!$H:$H,0),1))","v":""},{"$f":"IF(AK34=\"\",\"\", INDEX(referentes!$AB$2:$AC$10,MATCH(DATOS_MIP_SS!AK34,referentes!$AC$2:$AC$10,0),1))","v":""},{"$f":"IF(AL34=\"\",\"\", INDEX(referentes!$AH:$AI,MATCH(DATOS_MIP_SS!AL34,referentes!$AI:$AI,0),1))","v":""},{"$f":"IF(AP34=\"\",\"\", INDEX(referentes!$AE$2:$AF$10,MATCH(DATOS_MIP_SS!AP34,referentes!$AF$2:$AF$10,0),1))","v":""},{"$f":"IF(AN34=\"\",\"\", INDEX(referentes!$AK$2:$AL$10,MATCH(DATOS_MIP_SS!AN34,referentes!$AL$2:$AL$10,0),1))","v":""},{"$f":"IF(AQ34=\"\",\"\", INDEX(referentes!J:K,MATCH(DATOS_MIP_SS!AQ34,referentes!$K:$K,0),1))","v":""},{"$f":"IF(AR34=\"\",\"\", INDEX(referentes!$M$2:$N$20,MATCH(DATOS_MIP_SS!AR34,referentes!$N$2:$N$20,0),1))","v":""},{"$f":"IF(AY34=\"\",\"\", INDEX('otras referencias'!O:P,MATCH(AY34,'otras referencias'!$O:$O,0),2))","v":""},null,null,null,null,null,{"$f":"IF(X34<>\"\",INDEX(referentes!$AN:$AR,MATCH(DATOS_MIP_SS!X34,referentes!$AO:$AO,0),5),\"\")","v":""}]
[null,null,null,"",{"$f":"IF(J35=\"\",\"\",CONCATENATE(AD35,DIGITADOR!$B$2,DIGITADOR!$M$1,J35))","v":""},{"$f":"IF(J35=\"\",\"\",CONCATENATE(DIGITADOR!$B$2,AD35,DIGITADOR!$M$1,J35,ROW()))","v":""},null,null,null,{"$f":"IF(X35=\"\",\"\", INDEX(referentes!$AN:$AR,MATCH(DATOS_MIP_SS!X35,referentes!$AO:$AO,0),1))","v":""},"",{"$f":"IF(AF35=\"\",\"\", INDEX(referentes!D:E,MATCH(DATOS_MIP_SS!AF35,referentes!$E:$E,0),1))","v":""},{"$f":"IF(AI35=\"\",\"\", INDEX(referentes!A:B,MATCH(DATOS_MIP_SS!AI35,referentes!$B:$B,0),1))","v":""},{"$f":"IF(AJ35=\"\",\"\", INDEX(referentes!G:H,MATCH(DATOS_MIP_SS!AJ35,referentes!$H:$H,0),1))","v":""},{"$f":"IF(AK35=\"\",\"\", INDEX(referentes!$AB$2:$AC$10,MATCH(DATOS_MIP_SS!AK35,referentes!$AC$2:$AC$10,0),1))","v":""},{"$f":"IF(AL35=\"\",\"\", INDEX(referentes!$AH:$AI,MATCH(DATOS_MIP_SS!AL35,referentes!$AI:$AI,0),1))","v":""},{"$f":"IF(AP35=\"\",\"\", INDEX(referentes!$AE$2:$AF$10,MATCH(DATOS_MIP_SS!AP35,referentes!$AF$2:$AF$10,0),1))","v":""},{"$f":"IF(AN35=\"\",\"\", INDEX(referentes!$AK$2:$AL$10,MATCH(DATOS_MIP_SS!AN35,referentes!$AL$2:$AL$10,0),1))","v":""},{"$f":"IF(AQ35=\"\",\"\", INDEX(referentes!J:K,MATCH(DATOS_MIP_SS!AQ35,referentes!$K:$K,0),1))","v":""},{"$f":"IF(AR35=\"\",\"\", INDEX(referentes!$M$2:$N$20,MATCH(DATOS_MIP_SS!AR35,referentes!$N$2:$N$20,0),1))","v":""},{"$f":"IF(AY35=\"\",\"\", INDEX('otras referencias'!O:P,MATCH(AY35,'otras referencias'!$O:$O,0),2))","v":""},null,null,null,null,null,{"$f":"IF(X35<>\"\",INDEX(referentes!$AN:$AR,MATCH(DATOS_MIP_SS!X35,referentes!$AO:$AO,0),5),\"\")","v":""}]
[null,null,null,"",{"$f":"IF(J36=\"\",\"\",CONCATENATE(AD36,DIGITADOR!$B$2,DIGITADOR!$M$1,J36))","v":""},{"$f":"IF(J36=\"\",\"\",CONCATENATE(DIGITADOR!$B$2,AD36,DIGITADOR!$M$1,J36,ROW()))","v":""},null,null,null,{"$f":"IF(X36=\"\",\"\", INDEX(referentes!$AN:$AR,MATCH(DATOS_MIP_SS!X36,referentes!$AO:$AO,0),1))","v":""},"",{"$f":"IF(AF36=\"\",\"\", INDEX(referentes!D:E,MATCH(DATOS_MIP_SS!AF36,referentes!$E:$E,0),1))","v":""},{"$f":"IF(AI36=\"\",\"\", INDEX(referentes!A:B,MATCH(DATOS_MIP_SS!AI36,referentes!$B:$B,0),1))","v":""},{"$f":"IF(AJ36=\"\",\"\", INDEX(referentes!G:H,MATCH(DATOS_MIP_SS!AJ36,referentes!$H:$H,0),1))","v":""},{"$f":"IF(AK36=\"\",\"\", INDEX(referentes!$AB$2:$AC$10,MATCH(DATOS_MIP_SS!AK36,referentes!$AC$2:$AC$10,0),1))","v":""},{"$f":"IF(AL36=\"\",\"\", INDEX(referentes!$AH:$AI,MATCH(DATOS_MIP_SS!AL36,referentes!$AI:$AI,0),1))","v":""},{"$f":"IF(AP36=\"\",\"\", INDEX(referentes!$AE$2:$AF$10,MATCH(DATOS_MIP_SS!AP36,referentes!$AF$2:$AF$10,0),1))","v":""},{"$f":"IF(AN36=\"\",\"\", INDEX(referentes!$AK$2:$AL$10,MATCH(DATOS_MIP_SS!AN36,referentes!$AL$2:$AL$10,0),1))","v":""},{"$f":"IF(AQ36=\"\",\"\", INDEX(referentes!J:K,MATCH(DATOS_MIP_SS!AQ36,referentes!$K:$K,0),1))","v":""},{"$f":"IF(AR36=\"\",\"\", INDEX(referentes!$M$2:$N$20,MATCH(DATOS_MIP_SS!AR36,referentes!$N$2:$N$20,0),1))","v":""},{"$f":"IF(AY36=\"\",\"\", INDEX('otras referencias'!O:P,MATCH(AY36,'otras referencias'!$O:$O,0),2))","v":""},null,null,null,null,null,{"$f":"IF(X36<>\"\",INDEX(referentes!$AN:$AR,MATCH(DATOS_MIP_SS!X36,referentes!$AO:$AO,0),5),\"\")","v":""}]
[null,null,null,"",{"$f":"IF(J37=\"\",\"\",CONCATENATE(AD37,DIGITADOR!$B$2,DIGITADOR!$M$1,J37))","v":""},{"$f":"IF(J37=\"\",\"\",CONCATENATE(DIGITADOR!$B$2,AD37,DIGITADOR!$M$1,J37,ROW()))","v":""},null,null,null,{"$f":"IF(X37=\"\",\"\", INDEX(referentes!$AN:$AR,MATCH(DATOS_MIP_SS!X37,referentes!$AO:$AO,0),1))","v":""},"",{"$f":"IF(AF37=\"\",\"\", INDEX(referentes!D:E,MATCH(DATOS_MIP_SS!AF37,referentes!$E:$E,0),1))","v":""},{"$f":"IF(AI37=\"\",\"\", INDEX(referentes!A:B,MATCH(DATOS_MIP_SS!AI37,referentes!$B:$B,0),1))","v":""},{"$f":"IF(AJ37=\"\",\"\", INDEX(referentes!G:H,MATCH(DATOS_MIP_SS!AJ37,referentes!$H:$H,0),1))","v":""},{"$f":"IF(AK37=\"\",\"\", INDEX(referentes!$AB$2:$AC$10,MATCH(DATOS_MIP_SS!AK37,referentes!$AC$2:$AC$10,0),1))","v":""},{"$f":"IF(AL37=\"\",\"\", INDEX(referentes!$AH:$AI,MATCH(DATOS_MIP_SS!AL37,referentes!$AI:$AI,0),1))","v":""},{"$f":"IF(AP37=\"\",\"\", INDEX(referentes!$AE$2:$AF$10,MATCH(DATOS_MIP_SS!AP37,referentes!$AF$2:$AF$10,0),1))","v":""},{"$f":"IF(AN37=\"\",\"\", INDEX(referentes!$AK$2:$AL$10,MATCH(DATOS_MIP_SS!AN37,referentes!$AL$2:$AL$10,0),1))","v":""},{"$f":"IF(AQ37=\"\",\"\", INDEX(referentes!J:K,MATCH(DATOS_MIP_SS!AQ37,referentes!$K:$K,0),1))","v":""},{"$f":"IF(AR37=\"\",\"\", INDEX(referentes!$M$2:$N$20,MATCH(DATOS_MIP_SS!AR37,referentes!$N$2:$N$20,0),1))","v":""},{"$f":"IF(AY37=\"\",\"\", INDEX('otras referencias'!O:P,MATCH(AY37,'otras referencias'!$O:$O,0),2))","v":""},null,null,null,null,null,{"$f":"IF(X37<>\"\",INDEX(referentes!$AN:$AR,MATCH(DATOS_MIP_SS!X37,referentes!$AO:$AO,0),5),\"\")","v":""}]
[null,null,null,"",{"$f":"IF(J38=\"\",\"\",CONCATENATE(AD38,DIGITADOR!$B$2,DIGITADOR!$M$1,J38))","v":""},{"$f":"IF(J38=\"\",\"\",CONCATENATE(DIGITADOR!$B$2,AD38,DIGITADOR!$M$1,J38,ROW()))","v":""},null,null,null,{"$f":"IF(X38=\"\",\"\", INDEX(referentes!$AN:$AR,MATCH(DATOS_MIP_SS!X38,referentes!$AO:$AO,0),1))","v":""},"",{"$f":"IF(AF38=\"\",\"\", INDEX(referentes!D:E,MATCH(DATOS_MIP_SS!AF38,referentes!$E:$E,0),1))","v":""},{"$f":"IF(AI38=\"\",\"\", INDEX(referentes!A:B,MATCH(DATOS_MIP_SS!AI38,referentes!$B:$B,0),1))","v":""},{"$f":"IF(AJ38=\"\",\"\", INDEX(referentes!G:H,MATCH(DATOS_MIP_SS!AJ38,referentes!$H:$H,0),1))","v":""},{"$f":"IF(AK38=\"\",\"\", INDEX(referentes!$AB$2:$AC$10,MATCH(DATOS_MIP_SS!AK38,referentes!$AC$2:$AC$10,0),1))","v":""},{"$f":"IF(AL38=\"\",\"\", INDEX(referentes!$AH:$AI,MATCH(DATOS_MIP_SS!AL38,referentes!$AI:$AI,0),1))","v":""},{"$f":"IF(AP38=\"\",\"\", INDEX(referentes!$AE$2:$AF$10,MATCH(DATOS_MIP_SS!AP38,referentes!$AF$2:$AF$10,0),1))","v":""},{"$f":"IF(AN38=\"\",\"\", INDEX(referentes!$AK$2:$AL$10,MATCH(DATOS_MIP_SS!AN38,referentes!$AL$2:$AL$10,0),1))","v":""},{"$f":"IF(AQ38=\"\",\"\", INDEX(referentes!J:K,MATCH(DATOS_MIP_SS!AQ38,referentes!$K:$K,0),1))","v":""},{"$f":"IF(AR38=\"\",\"\", INDEX(referentes!$M$2:$N$20,MATCH(DATOS_MIP_SS!AR38,referentes!$N$2:$N$20,0),1))","v":""},{"$f":"IF(AY38=\"\",\"\", INDEX('otras referencias'!O:P,MATCH(AY38,'otras referencias'!$O:$O,0),2))","v":""},null,null,null,null,null,{"$f":"IF(X38<>\"\",INDEX(referentes!$AN:$AR,MATCH(DATOS_MIP_SS!X38,referentes!$AO:$AO,0),5),\"\")","v":""}]
[null,null,null,"",{"$f":"IF(J39=\"\",\"\",CONCATENATE(AD39,DIGITADOR!$B$2,DIGITADOR!$M$1,J39))","v":""},{"$f":"IF(J39=\"\",\"\",CONCATENATE(DIGITADOR!$B$2,AD39,DIGITADOR!$M$1,J39,ROW()))","v":""},null,null,null,{"$f":"IF(X39=\"\",\"\", INDEX(referentes!$AN:$AR,MATCH(DATOS_MIP_SS!X39,referentes!$AO:$AO,0),1))","v":""},"",{"$f":"IF(AF39=\"\",\"\", INDEX(referentes!D:E,MATCH(DATOS_MIP_SS!AF39,referentes!$E:$E,0),1))","v":""},{"$f":"IF(AI39=\"\",\"\", INDEX(referentes!A:B,MATCH(DATOS_MIP_SS!AI39,referentes!$B:$B,0),1))","v":""},{"$f":"IF(AJ39=\"\",\"\", INDEX(referentes!G:H,MATCH(DATOS_MIP_SS!AJ39,referentes!$H:$H,0),1))","v":""},{"$f":"IF(AK39=\"\",\"\", INDEX(referentes!$AB$2:$AC$10,MATCH(DATOS_MIP_SS!AK39,referentes!$AC$2:$AC$10,0),1))","v":""},{"$f":"IF(AL39=\"\",\"\", INDEX(referentes!$AH:$AI,MATCH(DATOS_MIP_SS!AL39,referentes!$AI:$AI,0),1))","v":""},{"$f":"IF(AP39=\"\",\"\", INDEX(referentes!$AE$2:$AF$10,MATCH(DATOS_MIP_SS!AP39,referentes!$AF$2:$AF$10,0),1))","v":""},{"$f":"IF(AN39=\"\",\"\", INDEX(referentes!$AK$2:$AL$10,MATCH(DATOS_MIP_SS!AN39,referentes!$AL$2:$AL$10,0),1))","v":""},{"$f":"IF(AQ39=\"\",\"\", INDEX(referentes!J:K,MATCH(DATOS_MIP_SS!AQ39,referentes!$K:$K,0),1))","v":""},{"$f":"IF(AR39=\"\",\"\", INDEX(referentes!$M$2:$N$20,MATCH(DATOS_MIP_SS!AR39,referentes!$N$2:$N$20,0),1))","v":""},{"$f":"IF(AY39=\"\",\"\", INDEX('otras referencias'!O:P,MATCH(AY39,'otras referencias'!$O:$O,0),2))","v":""},null,null,null,null,null,{"$f":"IF(X39<>\"\",INDEX(referentes!$AN:$AR,MATCH(DATOS_MIP_SS!X39,referentes!$AO:$AO,0),5),\"\")","v":""}]
[null,null,null,"",{"$f":"IF(J40=\"\",\"\",CONCATENATE(AD40,DIGITADOR!$B$2,DIGITADOR!$M$1,J40))","v":""},{"$f":"IF(J40=\"\",\"\",CONCATENATE(DIGITADOR!$B$2,AD40,DIGITADOR!$M$1,J40,ROW()))","v":""},null,null,null,{"$f":"IF(X40=\"\",\"\", INDEX(referentes!$AN:$AR,MATCH(DATOS_MIP_SS!X40,referentes!$AO:$AO,0),1))","v":""},"",{"$f":"IF(AF40=\"\",\"\", INDEX(referentes!D:E,MATCH(DATOS_MIP_SS!AF40,referentes!$E:$E,0),1))","v":""},{"$f":"IF(AI40=\"\",\"\", INDEX(referentes!A:B,MATCH(DATOS_MIP_SS!AI40,referentes!$B:$B,0),1))","v":""},{"$f":"IF(AJ40=\"\",\"\", INDEX(referentes!G:H,MATCH(DATOS_MIP_SS!AJ40,referentes!$H:$H,0),1))","v":""},{"$f":"IF(AK40=\"\",\"\", INDEX(referentes!$AB$2:$AC$10,MATCH(DATOS_MIP_SS!AK40,referentes!$AC$2:$AC$10,0),1))","v":""},{"$f":"IF(AL40=\"\",\"\", INDEX(referentes!$AH:$AI,MATCH(DATOS_MIP_SS!AL40,referentes!$AI:$AI,0),1))","v":""},{"$f":"IF(AP40=\"\",\"\", INDEX(referentes!$AE$2:$AF$10,MATCH(DATOS_MIP_SS!AP40,referentes!$AF$2:$AF$10,0),1))","v":""},{"$f":"IF(AN40=\"\",\"\", INDEX(referentes!$AK$2:$AL$10,MATCH(DATOS_MIP_SS!AN40,referentes!$AL$2:$AL$10,0),1))","v":""},{"$f":"IF(AQ40=\"\",\"\", INDEX(referentes!J:K,MATCH(DATOS_MIP_SS!AQ40,referentes!$K:$K,0),1))","v":""},{"$f":"IF(AR40=\"\",\"\", INDEX(referentes!$M$2:$N$20,MATCH(DATOS_MIP_SS!AR40,referentes!$N$2:$N$20,0),1))","v":""},{"$f":"IF(AY40=\"\",\"\", INDEX('otras referencias'!O:P,MATCH(AY40,'otras referencias'!$O:$O,0),2))","v":""},null,null,null,null,null,{"$f":"IF(X40<>\"\",INDEX(referentes!$AN:$AR,MATCH(DATOS_MIP_SS!X40,referentes!$AO:$AO,0),5),\"\")","v":""}]
[null,null,null,"",{"$f":"IF(J41=\"\",\"\",CONCATENATE(AD41,DIGITADOR!$B$2,DIGITADOR!$M$1,J41))","v":""},{"$f":"IF(J41=\"\",\"\",CONCATENATE(DIGITADOR!$B$2,AD41,DIGITADOR!$M$1,J41,ROW()))","v":""},null,null,null,{"$f":"IF(X41=\"\",\"\", INDEX(referentes!$AN:$AR,MATCH(DATOS_MIP_SS!X41,referentes!$AO:$AO,0),1))","v":""},"",{"$f":"IF(AF41=\"\",\"\", INDEX(referentes!D:E,MATCH(DATOS_MIP_SS!AF41,referentes!$E:$E,0),1))","v":""},{"$f":"IF(AI41=\"\",\"\", INDEX(referentes!A:B,MATCH(DATOS_MIP_SS!AI41,referentes!$B:$B,0),1))","v":""},{"$f":"IF(AJ41=\"\",\"\", INDEX(referentes!G:H,MATCH(DATOS_MIP_SS!AJ41,referentes!$H:$H,0),1))","v":""},{"$f":"IF(AK41=\"\",\"\", INDEX(referentes!$AB$2:$AC$10,MATCH(DATOS_MIP_SS!AK41,referentes!$AC$2:$AC$10,0),1))","v":""},{"$f":"IF(AL41=\"\",\"\", INDEX(referentes!$AH:$AI,MATCH(DATOS_MIP_SS!AL41,referentes!$AI:$AI,0),1))","v":""},{"$f":"IF(AP41=\"\",\"\", INDEX(referentes!$AE$2:$AF$10,MATCH(DATOS_MIP_SS!AP41,referentes!$AF$2:$AF$10,0),1))","v":""},{"$f":"IF(AN41=\"\",\"\", INDEX(referentes!$AK$2:$AL$10,MATCH(DATOS_MIP_SS!AN41,referentes!$AL$2:$AL$10,0),1))","v":""},{"$f":"IF(AQ41=\"\",\"\", INDEX(referentes!J:K,MATCH(DATOS_MIP_SS!AQ41,referentes!$K:$K,0),1))","v":""},{"$f":"IF(AR41=\"\",\"\", INDEX(referentes!$M$2:$N$20,MATCH(DATOS_MIP_SS!AR41,referentes!$N$2:$N$20,0),1))","v":""},{"$f":"IF(AY41=\"\",\"\", INDEX('otras referencias'!O:P,MATCH(AY41,'otras referencias'!$O:$O,0),2))","v":""},null,null,null,null,null,{"$f":"IF(X41<>\"\",INDEX(referentes!$AN:$AR,MATCH(DATOS_MIP_SS!X41,referentes!$AO:$AO,0),5),\"\")","v":""}]
[null,null,null,"",{"$f":"IF(J42=\"\",\"\",CONCATENATE(AD42,DIGITADOR!$B$2,DIGITADOR!$M$1,J42))","v":""},{"$f":"IF(J42=\"\",\"\",CONCATENATE(DIGITADOR!$B$2,AD42,DIGITADOR!$M$1,J42,ROW()))","v":""},null,null,null,{"$f":"IF(X42=\"\",\"\", INDEX(referentes!$AN:$AR,MATCH(DATOS_MIP_SS!X42,referentes!$AO:$AO,0),1))","v":""},"",{"$f":"IF(AF42=\"\",\"\", INDEX(referentes!D:E,MATCH(DATOS_MIP_SS!AF42,referentes!$E:$E,0),1))","v":""},{"$f":"IF(AI42=\"\",\"\", INDEX(referentes!A:B,MATCH(DATOS_MIP_SS!AI42,referentes!$B:$B,0),1))","v":""},{"$f":"IF(AJ42=\"\",\"\", INDEX(referentes!G:H,MATCH(DATOS_MIP_SS!AJ42,referentes!$H:$H,0),1))","v":""},{"$f":"IF(AK42=\"\",\"\", INDEX(referentes!$AB$2:$AC$10,MATCH(DATOS_MIP_SS!AK42,referentes!$AC$2:$AC$10,0),1))","v":""},{"$f":"IF(AL42=\"\",\"\", INDEX(referentes!$AH:$AI,MATCH(DATOS_MIP_SS!AL42,referentes!$AI:$AI,0),1))","v":""},{"$f":"IF(AP42=\"\",\"\", INDEX(referentes!$AE$2:$AF$10,MATCH(DATOS_MIP_SS!AP42,referentes!$AF$2:$AF$10,0),1))","v":""},{"$f":"IF(AN42=\"\",\"\", INDEX(referentes!$AK$2:$AL$10,MATCH(DATOS_MIP_SS!AN42,referentes!$AL$2:$AL$10,0),1))","v":""},{"$f":"IF(AQ42=\"\",\"\", INDEX(referentes!J:K,MATCH(DATOS_MIP_SS!AQ42,referentes!$K:$K,0),1))","v":""},{"$f":"IF(AR42=\"\",\"\", INDEX(referentes!$M$2:$N$20,MATCH(DATOS_MIP_SS!AR42,referentes!$N$2:$N$20,0),1))","v":""},{"$f":"IF(AY42=\"\",\"\", INDEX('otras referencias'!O:P,MATCH(AY42,'otras referencias'!$O:$O,0),2))","v":""},null,null,null,null,null,{"$f":"IF(X42<>\"\",INDEX(referentes!$AN:$AR,MATCH(DATOS_MIP_SS!X42,referentes!$AO:$AO,0),5),\"\")","v":""}]
[null,null,null,"",{"$f":"IF(J43=\"\",\"\",CONCATENATE(AD43,DIGITADOR!$B$2,DIGITADOR!$M$1,J43))","v":""},{"$f":"IF(J43=\"\",\"\",CONCATENATE(DIGITADOR!$B$2,AD43,DIGITADOR!$M$1,J43,ROW()))","v":""},null,null,null,{"$f":"IF(X43=\"\",\"\", INDEX(referentes!$AN:$AR,MATCH(DATOS_MIP_SS!X43,referentes!$AO:$AO,0),1))","v":""},"",{"$f":"IF(AF43=\"\",\"\", INDEX(referentes!D:E,MATCH(DATOS_MIP_SS!AF43,referentes!$E:$E,0),1))","v":""},{"$f":"IF(AI43=\"\",\"\", INDEX(referentes!A:B,MATCH(DATOS_MIP_SS!AI43,referentes!$B:$B,0),1))","v":""},{"$f":"IF(AJ43=\"\",\"\", INDEX(referentes!G:H,MATCH(DATOS_MIP_SS!AJ43,referentes!$H:$H,0),1))","v":""},{"$f":"IF(AK43=\"\",\"\", INDEX(referentes!$AB$2:$AC$10,MATCH(DATOS_MIP_SS!AK43,referentes!$AC$2:$AC$10,0),1))","v":""},{"$f":"IF(AL43=\"\",\"\", INDEX(referentes!$AH:$AI,MATCH(DATOS_MIP_SS!AL43,referentes!$AI:$AI,0),1))","v":""},{"$f":"IF(AP43=\"\",\"\", INDEX(referentes!$AE$2:$AF$10,MATCH(DATOS_MIP_SS!AP43,referentes!$AF$2:$AF$10,0),1))","v":""},{"$f":"IF(AN43=\"\",\"\", INDEX(referentes!$AK$2:$AL$10,MATCH(DATOS_MIP_SS!AN43,referentes!$AL$2:$AL$10,0),1))","v":""},{"$f":"IF(AQ43=\"\",\"\", INDEX(referentes!J:K,MATCH(DATOS_MIP_SS!AQ43,referentes!$K:$K,0),1))","v":""},{"$f":"IF(AR43=\"\",\"\", INDEX(referentes!$M$2:$N$20,MATCH(DATOS_MIP_SS!AR43,referentes!$N$2:$N$20,0),1))","v":""},{"$f":"IF(AY43=\"\",\"\", INDEX('otras referencias'!O:P,MATCH(AY43,'otras referencias'!$O:$O,0),2))","v":""},null,null,null,null,null,{"$f":"IF(X43<>\"\",INDEX(referentes!$AN:$AR,MATCH(DATOS_MIP_SS!X43,referentes!$AO:$AO,0),5),\"\")","v":""}]
[null,null,null,"",{"$f":"IF(J44=\"\",\"\",CONCATENATE(AD44,DIGITADOR!$B$2,DIGITADOR!$M$1,J44))","v":""},{"$f":"IF(J44=\"\",\"\",CONCATENATE(DIGITADOR!$B$2,AD44,DIGITADOR!$M$1,J44,ROW()))","v":""},null,null,null,{"$f":"IF(X44=\"\",\"\", INDEX(referentes!$AN:$AR,MATCH(DATOS_MIP_SS!X44,referentes!$AO:$AO,0),1))","v":""},"",{"$f":"IF(AF44=\"\",\"\", INDEX(referentes!D:E,MATCH(DATOS_MIP_SS!AF44,referentes!$E:$E,0),1))","v":""},{"$f":"IF(AI44=\"\",\"\", INDEX(referentes!A:B,MATCH(DATOS_MIP_SS!AI44,referentes!$B:$B,0),1))","v":""},{"$f":"IF(AJ44=\"\",\"\", INDEX(referentes!G:H,MATCH(DATOS_MIP_SS!AJ44,referentes!$H:$H,0),1))","v":""},{"$f":"IF(AK44=\"\",\"\", INDEX(referentes!$AB$2:$AC$10,MATCH(DATOS_MIP_SS!AK44,referentes!$AC$2:$AC$10,0),1))","v":""},{"$f":"IF(AL44=\"\",\"\", INDEX(referentes!$AH:$AI,MATCH(DATOS_MIP_SS!AL44,referentes!$AI:$AI,0),1))","v":""},{"$f":"IF(AP44=\"\",\"\", INDEX(referentes!$AE$2:$AF$10,MATCH(DATOS_MIP_SS!AP44,referentes!$AF$2:$AF$10,0),1))","v":""},{"$f":"IF(AN44=\"\",\"\", INDEX(referentes!$AK$2:$AL$10,MATCH(DATOS_MIP_SS!AN44,referentes!$AL$2:$AL$10,0),1))","v":""},{"$f":"IF(AQ44=\"\",\"\", INDEX(referentes!J:K,MATCH(DATOS_MIP_SS!AQ44,referentes!$K:$K,0),1))","v":""},{"$f":"IF(AR44=\"\",\"\", INDEX(referentes!$M$2:$N$20,MATCH(DATOS_MIP_SS!AR44,referentes!$N$2:$N$20,0),1))","v":""},{"$f":"IF(AY44=\"\",\"\", INDEX('otras referencias'!O:P,MATCH(AY44,'otras referencias'!$O:$O,0),2))","v":""},null,null,null,null,null,{"$f":"IF(X44<>\"\",INDEX(referentes!$AN:$AR,MATCH(DATOS_MIP_SS!X44,referentes!$AO:$AO,0),5),\"\")","v":""}]
[null,null,null,"",{"$f":"IF(J45=\"\",\"\",CONCATENATE(AD45,DIGITADOR!$B$2,DIGITADOR!$M$1,J45))","v":""},{"$f":"IF(J45=\"\",\"\",CONCATENATE(DIGITADOR!$B$2,AD45,DIGITADOR!$M$1,J45,ROW()))","v":""},null,null,null,{"$f":"IF(X45=\"\",\"\", INDEX(referentes!$AN:$AR,MATCH(DATOS_MIP_SS!X45,referentes!$AO:$AO,0),1))","v":""},"",{"$f":"IF(AF45=\"\",\"\", INDEX(referentes!D:E,MATCH(DATOS_MIP_SS!AF45,referentes!$E:$E,0),1))","v":""},{"$f":"IF(AI45=\"\",\"\", INDEX(referentes!A:B,MATCH(DATOS_MIP_SS!AI45,referentes!$B:$B,0),1))","v":""},{"$f":"IF(AJ45=\"\",\"\", INDEX(referentes!G:H,MATCH(DATOS_MIP_SS!AJ45,referentes!$H:$H,0),1))","v":""},{"$f":"IF(AK45=\"\",\"\", INDEX(referentes!$AB$2:$AC$10,MATCH(DATOS_MIP_SS!AK45,referentes!$AC$2:$AC$10,0),1))","v":""},{"$f":"IF(AL45=\"\",\"\", INDEX(referentes!$AH:$AI,MATCH(DATOS_MIP_SS!AL45,referentes!$AI:$AI,0),1))","v":""},{"$f":"IF(AP45=\"\",\"\", INDEX(referentes!$AE$2:$AF$10,MATCH(DATOS_MIP_SS!AP45,referentes!$AF$2:$AF$10,0),1))","v":""},{"$f":"IF(AN45=\"\",\"\", INDEX(referentes!$AK$2:$AL$10,MATCH(DATOS_MIP_SS!AN45,referentes!$AL$2:$AL$10,0),1))","v":""},{"$f":"IF(AQ45=\"\",\"\", INDEX(referentes!J:K,MATCH(DATOS_MIP_SS!AQ45,referentes!$K:$K,0),1))","v":""},{"$f":"IF(AR45=\"\",\"\", INDEX(referentes!$M$2:$N$20,MATCH(DATOS_MIP_SS!AR45,referentes!$N$2:$N$20,0),1))","v":""},{"$f":"IF(AY45=\"\",\"\", INDEX('otras referencias'!O:P,MATCH(AY45,'otras referencias'!$O:$O,0),2))","v":""},null,null,null,null,null,{"$f":"IF(X45<>\"\",INDEX(referentes!$AN:$AR,MATCH(DATOS_MIP_SS!X45,referentes!$AO:$AO,0),5),\"\")","v":""}]
[null,null,null,"",{"$f":"IF(J46=\"\",\"\",CONCATENATE(AD46,DIGITADOR!$B$2,DIGITADOR!$M$1,J46))","v":""},{"$f":"IF(J46=\"\",\"\",CONCATENATE(DIGITADOR!$B$2,AD46,DIGITADOR!$M$1,J46,ROW()))","v":""},null,null,null,{"$f":"IF(X46=\"\",\"\", INDEX(referentes!$AN:$AR,MATCH(DATOS_MIP_SS!X46,referentes!$AO:$AO,0),1))","v":""},"",{"$f":"IF(AF46=\"\",\"\", INDEX(referentes!D:E,MATCH(DATOS_MIP_SS!AF46,referentes!$E:$E,0),1))","v":""},{"$f":"IF(AI46=\"\",\"\", INDEX(referentes!A:B,MATCH(DATOS_MIP_SS!AI46,referentes!$B:$B,0),1))","v":""},{"$f":"IF(AJ46=\"\",\"\", INDEX(referentes!G:H,MATCH(DATOS_MIP_SS!AJ46,referentes!$H:$H,0),1))","v":""},{"$f":"IF(AK46=\"\",\"\", INDEX(referentes!$AB$2:$AC$10,MATCH(DATOS_MIP_SS!AK46,referentes!$AC$2:$AC$10,0),1))","v":""},{"$f":"IF(AL46=\"\",\"\", INDEX(referentes!$AH:$AI,MATCH(DATOS_MIP_SS!AL46,referentes!$AI:$AI,0),1))","v":""},{"$f":"IF(AP46=\"\",\"\", INDEX(referentes!$AE$2:$AF$10,MATCH(DATOS_MIP_SS!AP46,referentes!$AF$2:$AF$10,0),1))","v":""},{"$f":"IF(AN46=\"\",\"\", INDEX(referentes!$AK$2:$AL$10,MATCH(DATOS_MIP_SS!AN46,referentes!$AL$2:$AL$10,0),1))","v":""},{"$f":"IF(AQ46=\"\",\"\", INDEX(referentes!J:K,MATCH(DATOS_MIP_SS!AQ46,referentes!$K:$K,0),1))","v":""},{"$f":"IF(AR46=\"\",\"\", INDEX(referentes!$M$2:$N$20,MATCH(DATOS_MIP_SS!AR46,referentes!$N$2:$N$20,0),1))","v":""},{"$f":"IF(AY46=\"\",\"\", INDEX('otras referencias'!O:P,MATCH(AY46,'otras referencias'!$O:$O,0),2))","v":""},null,null,null,null,null,{"$f":"IF(X46<>\"\",INDEX(referentes!$AN:$AR,MATCH(DATOS_MIP_SS!X46,referentes!$AO:$AO,0),5),\"\")","v":""}]
[null,null,null,"",{"$f":"IF(J47=\"\",\"\",CONCATENATE(AD47,DIGITADOR!$B$2,DIGITADOR!$M$1,J47))","v":""},{"$f":"IF(J47=\"\",\"\",CONCATENATE(DIGITADOR!$B$2,AD47,DIGITADOR!$M$1,J47,ROW()))","v":""},null,null,null,{"$f":"IF(X47=\"\",\"\", INDEX(referentes!$AN:$AR,MATCH(DATOS_MIP_SS!X47,referentes!$AO:$AO,0),1))","v":""},"",{"$f":"IF(AF47=\"\",\"\", INDEX(referentes!D:E,MATCH(DATOS_MIP_SS!AF47,referentes!$E:$E,0),1))","v":""},{"$f":"IF(AI47=\"\",\"\", INDEX(referentes!A:B,MATCH(DATOS_MIP_SS!AI47,referentes!$B:$B,0),1))","v":""},{"$f":"IF(AJ47=\"\",\"\", INDEX(referentes!G:H,MATCH(DATOS_MIP_SS!AJ47,referentes!$H:$H,0),1))","v":""},{"$f":"IF(AK47=\"\",\"\", INDEX(referentes!$AB$2:$AC$10,MATCH(DATOS_MIP_SS!AK47,referentes!$AC$2:$AC$10,0),1))","v":""},{"$f":"IF(AL47=\"\",\"\", INDEX(referentes!$AH:$AI,MATCH(DATOS_MIP_SS!AL47,referentes!$AI:$AI,0),1))","v":""},{"$f":"IF(AP47=\"\",\"\", INDEX(referentes!$AE$2:$AF$10,MATCH(DATOS_MIP_SS!AP47,referentes!$AF$2:$AF$10,0),1))","v":""},{"$f":"IF(AN47=\"\",\"\", INDEX(referentes!$AK$2:$AL$10,MATCH(DATOS_MIP_SS!AN47,referentes!$AL$2:$AL$10,0),1))","v":""},{"$f":"IF(AQ47=\"\",\"\", INDEX(referentes!J:K,MATCH(DATOS_MIP_SS!AQ47,referentes!$K:$K,0),1))","v":""},{"$f":"IF(AR47=\"\",\"\", INDEX(referentes!$M$2:$N$20,MATCH(DATOS_MIP_SS!AR47,referentes!$N$2:$N$20,0),1))","v":""},{"$f":"IF(AY47=\"\",\"\", INDEX('otras referencias'!O:P,MATCH(AY47,'otras referencias'!$O:$O,0),2))","v":""},null,null,null,null,null,{"$f":"IF(X47<>\"\",INDEX(referentes!$AN:$AR,MATCH(DATOS_MIP_SS!X47,referentes!$AO:$AO,0),5),\"\")","v":""}]
[null,null,null,"",{"$f":"IF(J48=\"\",\"\",CONCATENATE(AD48,DIGITADOR!$B$2,DIGITADOR!$M$1,J48))","v":""},{"$f":"IF(J48=\"\",\"\",CONCATENATE(DIGITADOR!$B$2,AD48,DIGITADOR!$M$1,J48,ROW()))","v":""},null,null,null,{"$f":"IF(X48=\"\",\"\", INDEX(referentes!$AN:$AR,MATCH(DATOS_MIP_SS!X48,referentes!$AO:$AO,0),1))","v":""},"",{"$f":"IF(AF48=\"\",\"\", INDEX(referentes!D:E,MATCH(DATOS_MIP_SS!AF48,referentes!$E:$E,0),1))","v":""},{"$f":"IF(AI48=\"\",\"\", INDEX(referentes!A:B,MATCH(DATOS_MIP_SS!AI48,referentes!$B:$B,0),1))","v":""},{"$f":"IF(AJ48=\"\",\"\", INDEX(referentes!G:H,MATCH(DATOS_MIP_SS!AJ48,referentes!$H:$H,0),1))","v":""},{"$f":"IF(AK48=\"\",\"\", INDEX(referentes!$AB$2:$AC$10,MATCH(DATOS_MIP_SS!AK48,referentes!$AC$2:$AC$10,0),1))","v":""},{"$f":"IF(AL48=\"\",\"\", INDEX(referentes!$AH:$AI,MATCH(DATOS_MIP_SS!AL48,referentes!$AI:$AI,0),1))","v":""},{"$f":"IF(AP48=\"\",\"\", INDEX(referentes!$AE$2:$AF$10,MATCH(DATOS_MIP_SS!AP48,referentes!$AF$2:$AF$10,0),1))","v":""},{"$f":"IF(AN48=\"\",\"\", INDEX(referentes!$AK$2:$AL$10,MATCH(DATOS_MIP_SS!AN48,referentes!$AL$2:$AL$10,0),1))","v":""},{"$f":"IF(AQ48=\"\",\"\", INDEX(referentes!J:K,MATCH(DATOS_MIP_SS!AQ48,referentes!$K:$K,0),1))","v":""},{"$f":"IF(AR48=\"\",\"\", INDEX(referentes!$M$2:$N$20,MATCH(DATOS_MIP_SS!AR48,referentes!$N$2:$N$20,0),1))","v":""},{"$f":"IF(AY48=\"\",\"\", INDEX('otras referencias'!O:P,MATCH(AY48,'otras referencias'!$O:$O,0),2))","v":""},null,null,null,null,null,{"$f":"IF(X48<>\"\",INDEX(referentes!$AN:$AR,MATCH(DATOS_MIP_SS!X48,referentes!$AO:$AO,0),5),\"\")","v":""}]
[null,null,null,"",{"$f":"IF(J49=\"\",\"\",CONCATENATE(AD49,DIGITADOR!$B$2,DIGITADOR!$M$1,J49))","v":""},{"$f":"IF(J49=\"\",\"\",CONCATENATE(DIGITADOR!$B$2,AD49,DIGITADOR!$M$1,J49,ROW()))","v":""},null,null,null,{"$f":"IF(X49=\"\",\"\", INDEX(referentes!$AN:$AR,MATCH(DATOS_MIP_SS!X49,referentes!$AO:$AO,0),1))","v":""},"",{"$f":"IF(AF49=\"\",\"\", INDEX(referentes!D:E,MATCH(DATOS_MIP_SS!AF49,referentes!$E:$E,0),1))","v":""},{"$f":"IF(AI49=\"\",\"\", INDEX(referentes!A:B,MATCH(DATOS_MIP_SS!AI49,referentes!$B:$B,0),1))","v":""},{"$f":"IF(AJ49=\"\",\"\", INDEX(referentes!G:H,MATCH(DATOS_MIP_SS!AJ49,referentes!$H:$H,0),1))","v":""},{"$f":"IF(AK49=\"\",\"\", INDEX(referentes!$AB$2:$AC$10,MATCH(DATOS_MIP_SS!AK49,referentes!$AC$2:$AC$10,0),1))","v":""},{"$f":"IF(AL49=\"\",\"\", INDEX(referentes!$AH:$AI,MATCH(DATOS_MIP_SS!AL49,referentes!$AI:$AI,0),1))","v":""},{"$f":"IF(AP49=\"\",\"\", INDEX(referentes!$AE$2:$AF$10,MATCH(DATOS_MIP_SS!AP49,referentes!$AF$2:$AF$10,0),1))","v":""},{"$f":"IF(AN49=\"\",\"\", INDEX(referentes!$AK$2:$AL$10,MATCH(DATOS_MIP_SS!AN49,referentes!$AL$2:$AL$10,0),1))","v":""},{"$f":"IF(AQ49=\"\",\"\", INDEX(referentes!J:K,MATCH(DATOS_MIP_SS!AQ49,referentes!$K:$K,0),1))","v":""},{"$f":"IF(AR49=\"\",\"\", INDEX(referentes!$M$2:$N$20,MATCH(DATOS_MIP_SS!AR49,referentes!$N$2:$N$20,0),1))","v":""},{"$f":"IF(AY49=\"\",\"\", INDEX('otras referencias'!O:P,MATCH(AY49,'otras referencias'!$O:$O,0),2))","v":""},null,null,null,null,null,{"$f":"IF(X49<>\"\",INDEX(referentes!$AN:$AR,MATCH(DATOS_MIP_SS!X49,referentes!$AO:$AO,0),5),\"\")","v":""}]
[null,null,null,"",{"$f":"IF(J50=\"\",\"\",CONCATENATE(AD50,DIGITADOR!$B$2,DIGITADOR!$M$1,J50))","v":""},{"$f":"IF(J50=\"\",\"\",CONCATENATE(DIGITADOR!$B$2,AD50,DIGITADOR!$M$1,J50,ROW()))","v":""},null,null,null,{"$f":"IF(X50=\"\",\"\", INDEX(referentes!$AN:$AR,MATCH(DATOS_MIP_SS!X50,referentes!$AO:$AO,0),1))","v":""},"",{"$f":"IF(AF50=\"\",\"\", INDEX(referentes!D:E,MATCH(DATOS_MIP_SS!AF50,referentes!$E:$E,0),1))","v":""},{"$f":"IF(AI50=\"\",\"\", INDEX(referentes!A:B,MATCH(DATOS_MIP_SS!AI50,referentes!$B:$B,0),1))","v":""},{"$f":"IF(AJ50=\"\",\"\", INDEX(referentes!G:H,MATCH(DATOS_MIP_SS!AJ50,referentes!$H:$H,0),1))","v":""},{"$f":"IF(AK50=\"\",\"\", INDEX(referentes!$AB$2:$AC$10,MATCH(DATOS_MIP_SS!AK50,referentes!$AC$2:$AC$10,0),1))","v":""},{"$f":"IF(AL50=\"\",\"\", INDEX(referentes!$AH:$AI,MATCH(DATOS_MIP_SS!AL50,referentes!$AI:$AI,0),1))","v":""},{"$f":"IF(AP50=\"\",\"\", INDEX(referentes!$AE$2:$AF$10,MATCH(DATOS_MIP_SS!AP50,referentes!$AF$2:$AF$10,0),1))","v":""},{"$f":"IF(AN50=\"\",\"\", INDEX(referentes!$AK$2:$AL$10,MATCH(DATOS_MIP_SS!AN50,referentes!$AL$2:$AL$10,0),1))","v":""},{"$f":"IF(AQ50=\"\",\"\", INDEX(referentes!J:K,MATCH(DATOS_MIP_SS!AQ50,referentes!$K:$K,0),1))","v":""},{"$f":"IF(AR50=\"\",\"\", INDEX(referentes!$M$2:$N$20,MATCH(DATOS_MIP_SS!AR50,referentes!$N$2:$N$20,0),1))","v":""},{"$f":"IF(AY50=\"\",\"\", INDEX('otras referencias'!O:P,MATCH(AY50,'otras referencias'!$O:$O,0),2))","v":""},null,null,null,null,null,{"$f":"IF(X50<>\"\",INDEX(referentes!$AN:$AR,MATCH(DATOS_MIP_SS!X50,referentes!$AO:$AO,0),5),\"\")","v":""}]
[null,null,null,"",{"$f":"IF(J51=\"\",\"\",CONCATENATE(AD51,DIGITADOR!$B$2,DIGITADOR!$M$1,J51))","v":""},{"$f":"IF(J51=\"\",\"\",CONCATENATE(DIGITADOR!$B$2,AD51,DIGITADOR!$M$1,J51,ROW()))","v":""},null,null,null,{"$f":"IF(X51=\"\",\"\", INDEX(referentes!$AN:$AR,MATCH(DATOS_MIP_SS!X51,referentes!$AO:$AO,0),1))","v":""},"",{"$f":"IF(AF51=\"\",\"\", INDEX(referentes!D:E,MATCH(DATOS_MIP_SS!AF51,referentes!$E:$E,0),1))","v":""},{"$f":"IF(AI51=\"\",\"\", INDEX(referentes!A:B,MATCH(DATOS_MIP_SS!AI51,referentes!$B:$B,0),1))","v":""},{"$f":"IF(AJ51=\"\",\"\", INDEX(referentes!G:H,MATCH(DATOS_MIP_SS!AJ51,referentes!$H:$H,0),1))","v":""},{"$f":"IF(AK51=\"\",\"\", INDEX(referentes!$AB$2:$AC$10,MATCH(DATOS_MIP_SS!AK51,referentes!$AC$2:$AC$10,0),1))","v":""},{"$f":"IF(AL51=\"\",\"\", INDEX(referentes!$AH:$AI,MATCH(DATOS_MIP_SS!AL51,referentes!$AI:$AI,0),1))","v":""},{"$f":"IF(AP51=\"\",\"\", INDEX(referentes!$AE$2:$AF$10,MATCH(DATOS_MIP_SS!AP51,referentes!$AF$2:$AF$10,0),1))","v":""},{"$f":"IF(AN51=\"\",\"\", INDEX(referentes!$AK$2:$AL$10,MATCH(DATOS_MIP_SS!AN51,referentes!$AL$2:$AL$10,0),1))","v":""},{"$f":"IF(AQ51=\"\",\"\", INDEX(referentes!J:K,MATCH(DATOS_MIP_SS!AQ51,referentes!$K:$K,0),1))","v":""},{"$f":"IF(AR51=\"\",\"\", INDEX(referentes!$M$2:$N$20,MATCH(DATOS_MIP_SS!AR51,referentes!$N$2:$N$20,0),1))","v":""},{"$f":"IF(AY51=\"\",\"\", INDEX('otras referencias'!O:P,MATCH(AY51,'otras referencias'!$O:$O,0),2))","v":""},null,null,null,null,null,{"$f":"IF(X51<>\"\",INDEX(referentes!$AN:$AR,MATCH(DATOS_MIP_SS!X51,referentes!$AO:$AO,0),5),\"\")","v":""}]
[null,null,null,"",{"$f":"IF(J52=\"\",\"\",CONCATENATE(AD52,DIGITADOR!$B$2,DIGITADOR!$M$1,J52))","v":""},{"$f":"IF(J52=\"\",\"\",CONCATENATE(DIGITADOR!$B$2,AD52,DIGITADOR!$M$1,J52,ROW()))","v":""},null,null,null,{"$f":"IF(X52=\"\",\"\", INDEX(referentes!$AN:$AR,MATCH(DATOS_MIP_SS!X52,referentes!$AO:$AO,0),1))","v":""},"",{"$f":"IF(AF52=\"\",\"\", INDEX(referentes!D:E,MATCH(DATOS_MIP_SS!AF52,referentes!$E:$E,0),1))","v":""},{"$f":"IF(AI52=\"\",\"\", INDEX(referentes!A:B,MATCH(DATOS_MIP_SS!AI52,referentes!$B:$B,0),1))","v":""},{"$f":"IF(AJ52=\"\",\"\", INDEX(referentes!G:H,MATCH(DATOS_MIP_SS!AJ52,referentes!$H:$H,0),1))","v":""},{"$f":"IF(AK52=\"\",\"\", INDEX(referentes!$AB$2:$AC$10,MATCH(DATOS_MIP_SS!AK52,referentes!$AC$2:$AC$10,0),1))","v":""},{"$f":"IF(AL52=\"\",\"\", INDEX(referentes!$AH:$AI,MATCH(DATOS_MIP_SS!AL52,referentes!$AI:$AI,0),1))","v":""},{"$f":"IF(AP52=\"\",\"\", INDEX(referentes!$AE$2:$AF$10,MATCH(DATOS_MIP_SS!AP52,referentes!$AF$2:$AF$10,0),1))","v":""},{"$f":"IF(AN52=\"\",\"\", INDEX(referentes!$AK$2:$AL$10,MATCH(DATOS_MIP_SS!AN52,referentes!$AL$2:$AL$10,0),1))","v":""},{"$f":"IF(AQ52=\"\",\"\", INDEX(referentes!J:K,MATCH(DATOS_MIP_SS!AQ52,referentes!$K:$K,0),1))","v":""},{"$f":"IF(AR52=\"\",\"\", INDEX(referentes!$M$2:$N$20,MATCH(DATOS_MIP_SS!AR52,referentes!$N$2:$N$20,0),1))","v":""},{"$f":"IF(AY52=\"\",\"\", INDEX('otras referencias'!O:P,MATCH(AY52,'otras referencias'!$O:$O,0),2))","v":""},null,null,null,null,null,{"$f":"IF(X52<>\"\",INDEX(referentes!$AN:$AR,MATCH(DATOS_MIP_SS!X52,referentes!$AO:$AO,0),5),\"\")","v":""}]
[null,null,null,"",{"$f":"IF(J53=\"\",\"\",CONCATENATE(AD53,DIGITADOR!$B$2,DIGITADOR!$M$1,J53))","v":""},{"$f":"IF(J53=\"\",\"\",CONCATENATE(DIGITADOR!$B$2,AD53,DIGITADOR!$M$1,J53,ROW()))","v":""},null,null,null,{"$f":"IF(X53=\"\",\"\", INDEX(referentes!$AN:$AR,MATCH(DATOS_MIP_SS!X53,referentes!$AO:$AO,0),1))","v":""},"",{"$f":"IF(AF53=\"\",\"\", INDEX(referentes!D:E,MATCH(DATOS_MIP_SS!AF53,referentes!$E:$E,0),1))","v":""},{"$f":"IF(AI53=\"\",\"\", INDEX(referentes!A:B,MATCH(DATOS_MIP_SS!AI53,referentes!$B:$B,0),1))","v":""},{"$f":"IF(AJ53=\"\",\"\", INDEX(referentes!G:H,MATCH(DATOS_MIP_SS!AJ53,referentes!$H:$H,0),1))","v":""},{"$f":"IF(AK53=\"\",\"\", INDEX(referentes!$AB$2:$AC$10,MATCH(DATOS_MIP_SS!AK53,referentes!$AC$2:$AC$10,0),1))","v":""},{"$f":"IF(AL53=\"\",\"\", INDEX(referentes!$AH:$AI,MATCH(DATOS_MIP_SS!AL53,referentes!$AI:$AI,0),1))","v":""},{"$f":"IF(AP53=\"\",\"\", INDEX(referentes!$AE$2:$AF$10,MATCH(DATOS_MIP_SS!AP53,referentes!$AF$2:$AF$10,0),1))","v":""},{"$f":"IF(AN53=\"\",\"\", INDEX(referentes!$AK$2:$AL$10,MATCH(DATOS_MIP_SS!AN53,referentes!$AL$2:$AL$10,0),1))","v":""},{"$f":"IF(AQ53=\"\",\"\", INDEX(referentes!J:K,MATCH(DATOS_MIP_SS!AQ53,referentes!$K:$K,0),1))","v":""},{"$f":"IF(AR53=\"\",\"\", INDEX(referentes!$M$2:$N$20,MATCH(DATOS_MIP_SS!AR53,referentes!$N$2:$N$20,0),1))","v":""},{"$f":"IF(AY53=\"\",\"\", INDEX('otras referencias'!O:P,MATCH(AY53,'otras referencias'!$O:$O,0),2))","v":""},null,null,null,null,null,{"$f":"IF(X53<>\"\",INDEX(referentes!$AN:$AR,MATCH(DATOS_MIP_SS!X53,referentes!$AO:$AO,0),5),\"\")","v":""}]
[null,null,null,"",{"$f":"IF(J54=\"\",\"\",CONCATENATE(AD54,DIGITADOR!$B$2,DIGITADOR!$M$1,J54))","v":""},{"$f":"IF(J54=\"\",\"\",CONCATENATE(DIGITADOR!$B$2,AD54,DIGITADOR!$M$1,J54,ROW()))","v":""},null,null,null,{"$f":"IF(X54=\"\",\"\", INDEX(referentes!$AN:$AR,MATCH(DATOS_MIP_SS!X54,referentes!$AO:$AO,0),1))","v":""},"",{"$f":"IF(AF54=\"\",\"\", INDEX(referentes!D:E,MATCH(DATOS_MIP_SS!AF54,referentes!$E:$E,0),1))","v":""},{"$f":"IF(AI54=\"\",\"\", INDEX(referentes!A:B,MATCH(DATOS_MIP_SS!AI54,referentes!$B:$B,0),1))","v":""},{"$f":"IF(AJ54=\"\",\"\", INDEX(referentes!G:H,MATCH(DATOS_MIP_SS!AJ54,referentes!$H:$H,0),1))","v":""},{"$f":"IF(AK54=\"\",\"\", INDEX(referentes!$AB$2:$AC$10,MATCH(DATOS_MIP_SS!AK54,referentes!$AC$2:$AC$10,0),1))","v":""},{"$f":"IF(AL54=\"\",\"\", INDEX(referentes!$AH:$AI,MATCH(DATOS_MIP_SS!AL54,referentes!$AI:$AI,0),1))","v":""},{"$f":"IF(AP54=\"\",\"\", INDEX(referentes!$AE$2:$AF$10,MATCH(DATOS_MIP_SS!AP54,referentes!$AF$2:$AF$10,0),1))","v":""},{"$f":"IF(AN54=\"\",\"\", INDEX(referentes!$AK$2:$AL$10,MATCH(DATOS_MIP_SS!AN54,referentes!$AL$2:$AL$10,0),1))","v":""},{"$f":"IF(AQ54=\"\",\"\", INDEX(referentes!J:K,MATCH(DATOS_MIP_SS!AQ54,referentes!$K:$K,0),1))","v":""},{"$f":"IF(AR54=\"\",\"\", INDEX(referentes!$M$2:$N$20,MATCH(DATOS_MIP_SS!AR54,referentes!$N$2:$N$20,0),1))","v":""},{"$f":"IF(AY54=\"\",\"\", INDEX('otras referencias'!O:P,MATCH(AY54,'otras referencias'!$O:$O,0),2))","v":""},null,null,null,null,null,{"$f":"IF(X54<>\"\",INDEX(referentes!$AN:$AR,MATCH(DATOS_MIP_SS!X54,referentes!$AO:$AO,0),5),\"\")","v":""}]
[null,null,null,"",{"$f":"IF(J55=\"\",\"\",CONCATENATE(AD55,DIGITADOR!$B$2,DIGITADOR!$M$1,J55))","v":""},{"$f":"IF(J55=\"\",\"\",CONCATENATE(DIGITADOR!$B$2,AD55,DIGITADOR!$M$1,J55,ROW()))","v":""},null,null,null,{"$f":"IF(X55=\"\",\"\", INDEX(referentes!$AN:$AR,MATCH(DATOS_MIP_SS!X55,referentes!$AO:$AO,0),1))","v":""},"",{"$f":"IF(AF55=\"\",\"\", INDEX(referentes!D:E,MATCH(DATOS_MIP_SS!AF55,referentes!$E:$E,0),1))","v":""},{"$f":"IF(AI55=\"\",\"\", INDEX(referentes!A:B,MATCH(DATOS_MIP_SS!AI55,referentes!$B:$B,0),1))","v":""},{"$f":"IF(AJ55=\"\",\"\", INDEX(referentes!G:H,MATCH(DATOS_MIP_SS!AJ55,referentes!$H:$H,0),1))","v":""},{"$f":"IF(AK55=\"\",\"\", INDEX(referentes!$AB$2:$AC$10,MATCH(DATOS_MIP_SS!AK55,referentes!$AC$2:$AC$10,0),1))","v":""},{"$f":"IF(AL55=\"\",\"\", INDEX(referentes!$AH:$AI,MATCH(DATOS_MIP_SS!AL55,referentes!$AI:$AI,0),1))","v":""},{"$f":"IF(AP55=\"\",\"\", INDEX(referentes!$AE$2:$AF$10,MATCH(DATOS_MIP_SS!AP55,referentes!$AF$2:$AF$10,0),1))","v":""},{"$f":"IF(AN55=\"\",\"\", INDEX(referentes!$AK$2:$AL$10,MATCH(DATOS_MIP_SS!AN55,referentes!$AL$2:$AL$10,0),1))","v":""},{"$f":"IF(AQ55=\"\",\"\", INDEX(referentes!J:K,MATCH(DATOS_MIP_SS!AQ55,referentes!$K:$K,0),1))","v":""},{"$f":"IF(AR55=\"\",\"\", INDEX(referentes!$M$2:$N$20,MATCH(DATOS_MIP_SS!AR55,referentes!$N$2:$N$20,0),1))","v":""},{"$f":"IF(AY55=\"\",\"\", INDEX('otras referencias'!O:P,MATCH(AY55,'otras referencias'!$O:$O,0),2))","v":""},null,null,null,null,null,{"$f":"IF(X55<>\"\",INDEX(referentes!$AN:$AR,MATCH(DATOS_MIP_SS!X55,referentes!$AO:$AO,0),5),\"\")","v":""}]
[null,null,null,"",{"$f":"IF(J56=\"\",\"\",CONCATENATE(AD56,DIGITADOR!$B$2,DIGITADOR!$M$1,J56))","v":""},{"$f":"IF(J56=\"\",\"\",CONCATENATE(DIGITADOR!$B$2,AD56,DIGITADOR!$M$1,J56,ROW()))","v":""},null,null,null,{"$f":"IF(X56=\"\",\"\", INDEX(referentes!$AN:$AR,MATCH(DATOS_MIP_SS!X56,referentes!$AO:$AO,0),1))","v":""},"",{"$f":"IF(AF56=\"\",\"\", INDEX(referentes!D:E,MATCH(DATOS_MIP_SS!AF56,referentes!$E:$E,0),1))","v":""},{"$f":"IF(AI56=\"\",\"\", INDEX(referentes!A:B,MATCH(DATOS_MIP_SS!AI56,referentes!$B:$B,0),1))","v":""},{"$f":"IF(AJ56=\"\",\"\", INDEX(referentes!G:H,MATCH(DATOS_MIP_SS!AJ56,referentes!$H:$H,0),1))","v":""},{"$f":"IF(AK56=\"\",\"\", INDEX(referentes!$AB$2:$AC$10,MATCH(DATOS_MIP_SS!AK56,referentes!$AC$2:$AC$10,0),1))","v":""},{"$f":"IF(AL56=\"\",\"\", INDEX(referentes!$AH:$AI,MATCH(DATOS_MIP_SS!AL56,referentes!$AI:$AI,0),1))","v":""},{"$f":"IF(AP56=\"\",\"\", INDEX(referentes!$AE$2:$AF$10,MATCH(DATOS_MIP_SS!AP56,referentes!$AF$2:$AF$10,0),1))","v":""},{"$f":"IF(AN56=\"\",\"\", INDEX(referentes!$AK$2:$AL$10,MATCH(DATOS_MIP_SS!AN56,referentes!$AL$2:$AL$10,0),1))","v":""},{"$f":"IF(AQ56=\"\",\"\", INDEX(referentes!J:K,MATCH(DATOS_MIP_SS!AQ56,referentes!$K:$K,0),1))","v":""},{"$f":"IF(AR56=\"\",\"\", INDEX(referentes!$M$2:$N$20,MATCH(DATOS_MIP_SS!AR56,referentes!$N$2:$N$20,0),1))","v":""},{"$f":"IF(AY56=\"\",\"\", INDEX('otras referencias'!O:P,MATCH(AY56,'otras referencias'!$O:$O,0),2))","v":""},null,null,null,null,null,{"$f":"IF(X56<>\"\",INDEX(referentes!$AN:$AR,MATCH(DATOS_MIP_SS!X56,referentes!$AO:$AO,0),5),\"\")","v":""}]
[null,null,null,"",{"$f":"IF(J57=\"\",\"\",CONCATENATE(AD57,DIGITADOR!$B$2,DIGITADOR!$M$1,J57))","v":""},{"$f":"IF(J57=\"\",\"\",CONCATENATE(DIGITADOR!$B$2,AD57,DIGITADOR!$M$1,J57,ROW()))","v":""},null,null,null,{"$f":"IF(X57=\"\",\"\", INDEX(referentes!$AN:$AR,MATCH(DATOS_MIP_SS!X57,referentes!$AO:$AO,0),1))","v":""},"",{"$f":"IF(AF57=\"\",\"\", INDEX(referentes!D:E,MATCH(DATOS_MIP_SS!AF57,referentes!$E:$E,0),1))","v":""},{"$f":"IF(AI57=\"\",\"\", INDEX(referentes!A:B,MATCH(DATOS_MIP_SS!AI57,referentes!$B:$B,0),1))","v":""},{"$f":"IF(AJ57=\"\",\"\", INDEX(referentes!G:H,MATCH(DATOS_MIP_SS!AJ57,referentes!$H:$H,0),1))","v":""},{"$f":"IF(AK57=\"\",\"\", INDEX(referentes!$AB$2:$AC$10,MATCH(DATOS_MIP_SS!AK57,referentes!$AC$2:$AC$10,0),1))","v":""},{"$f":"IF(AL57=\"\",\"\", INDEX(referentes!$AH:$AI,MATCH(DATOS_MIP_SS!AL57,referentes!$AI:$AI,0),1))","v":""},{"$f":"IF(AP57=\"\",\"\", INDEX(referentes!$AE$2:$AF$10,MATCH(DATOS_MIP_SS!AP57,referentes!$AF$2:$AF$10,0),1))","v":""},{"$f":"IF(AN57=\"\",\"\", INDEX(referentes!$AK$2:$AL$10,MATCH(DATOS_MIP_SS!AN57,referentes!$AL$2:$AL$10,0),1))","v":""},{"$f":"IF(AQ57=\"\",\"\", INDEX(referentes!J:K,MATCH(DATOS_MIP_SS!AQ57,referentes!$K:$K,0),1))","v":""},{"$f":"IF(AR57=\"\",\"\", INDEX(referentes!$M$2:$N$20,MATCH(DATOS_MIP_SS!AR57,referentes!$N$2:$N$20,0),1))","v":""},{"$f":"IF(AY57=\"\",\"\", INDEX('otras referencias'!O:P,MATCH(AY57,'otras referencias'!$O:$O,0),2))","v":""},null,null,null,null,null,{"$f":"IF(X57<>\"\",INDEX(referentes!$AN:$AR,MATCH(DATOS_MIP_SS!X57,referentes!$AO:$AO,0),5),\"\")","v":""}]
[null,null,null,"",{"$f":"IF(J58=\"\",\"\",CONCATENATE(AD58,DIGITADOR!$B$2,DIGITADOR!$M$1,J58))","v":""},{"$f":"IF(J58=\"\",\"\",CONCATENATE(DIGITADOR!$B$2,AD58,DIGITADOR!$M$1,J58,ROW()))","v":""},null,null,null,{"$f":"IF(X58=\"\",\"\", INDEX(referentes!$AN:$AR,MATCH(DATOS_MIP_SS!X58,referentes!$AO:$AO,0),1))","v":""},"",{"$f":"IF(AF58=\"\",\"\", INDEX(referentes!D:E,MATCH(DATOS_MIP_SS!AF58,referentes!$E:$E,0),1))","v":""},{"$f":"IF(AI58=\"\",\"\", INDEX(referentes!A:B,MATCH(DATOS_MIP_SS!AI58,referentes!$B:$B,0),1))","v":""},{"$f":"IF(AJ58=\"\",\"\", INDEX(referentes!G:H,MATCH(DATOS_MIP_SS!AJ58,referentes!$H:$H,0),1))","v":""},{"$f":"IF(AK58=\"\",\"\", INDEX(referentes!$AB$2:$AC$10,MATCH(DATOS_MIP_SS!AK58,referentes!$AC$2:$AC$10,0),1))","v":""},{"$f":"IF(AL58=\"\",\"\", INDEX(referentes!$AH:$AI,MATCH(DATOS_MIP_SS!AL58,referentes!$AI:$AI,0),1))","v":""},{"$f":"IF(AP58=\"\",\"\", INDEX(referentes!$AE$2:$AF$10,MATCH(DATOS_MIP_SS!AP58,referentes!$AF$2:$AF$10,0),1))","v":""},{"$f":"IF(AN58=\"\",\"\", INDEX(referentes!$AK$2:$AL$10,MATCH(DATOS_MIP_SS!AN58,referentes!$AL$2:$AL$10,0),1))","v":""},{"$f":"IF(AQ58=\"\",\"\", INDEX(referentes!J:K,MATCH(DATOS_MIP_SS!AQ58,referentes!$K:$K,0),1))","v":""},{"$f":"IF(AR58=\"\",\"\", INDEX(referentes!$M$2:$N$20,MATCH(DATOS_MIP_SS!AR58,referentes!$N$2:$N$20,0),1))","v":""},{"$f":"IF(AY58=\"\",\"\", INDEX('otras referencias'!O:P,MATCH(AY58,'otras referencias'!$O:$O,0),2))","v":""},null,null,null,null,null,{"$f":"IF(X58<>\"\",INDEX(referentes!$AN:$AR,MATCH(DATOS_MIP_SS!X58,referentes!$AO:$AO,0),5),\"\")","v":""}]
[null,null,null,"",{"$f":"IF(J59=\"\",\"\",CONCATENATE(AD59,DIGITADOR!$B$2,DIGITADOR!$M$1,J59))","v":""},{"$f":"IF(J59=\"\",\"\",CONCATENATE(DIGITADOR!$B$2,AD59,DIGITADOR!$M$1,J59,ROW()))","v":""},null,null,null,{"$f":"IF(X59=\"\",\"\", INDEX(referentes!$AN:$AR,MATCH(DATOS_MIP_SS!X59,referentes!$AO:$AO,0),1))","v":""},"",{"$f":"IF(AF59=\"\",\"\", INDEX(referentes!D:E,MATCH(DATOS_MIP_SS!AF59,referentes!$E:$E,0),1))","v":""},{"$f":"IF(AI59=\"\",\"\", INDEX(referentes!A:B,MATCH(DATOS_MIP_SS!AI59,referentes!$B:$B,0),1))","v":""},{"$f":"IF(AJ59=\"\",\"\", INDEX(referentes!G:H,MATCH(DATOS_MIP_SS!AJ59,referentes!$H:$H,0),1))","v":""},{"$f":"IF(AK59=\"\",\"\", INDEX(referentes!$AB$2:$AC$10,MATCH(DATOS_MIP_SS!AK59,referentes!$AC$2:$AC$10,0),1))","v":""},{"$f":"IF(AL59=\"\",\"\", INDEX(referentes!$AH:$AI,MATCH(DATOS_MIP_SS!AL59,referentes!$AI:$AI,0),1))","v":""},{"$f":"IF(AP59=\"\",\"\", INDEX(referentes!$AE$2:$AF$10,MATCH(DATOS_MIP_SS!AP59,referentes!$AF$2:$AF$10,0),1))","v":""},{"$f":"IF(AN59=\"\",\"\", INDEX(referentes!$AK$2:$AL$10,MATCH(DATOS_MIP_SS!AN59,referentes!$AL$2:$AL$10,0),1))","v":""},{"$f":"IF(AQ59=\"\",\"\", INDEX(referentes!J:K,MATCH(DATOS_MIP_SS!AQ59,referentes!$K:$K,0),1))","v":""},{"$f":"IF(AR59=\"\",\"\", INDEX(referentes!$M$2:$N$20,MATCH(DATOS_MIP_SS!AR59,referentes!$N$2:$N$20,0),1))","v":""},{"$f":"IF(AY59=\"\",\"\", INDEX('otras referencias'!O:P,MATCH(AY59,'otras referencias'!$O:$O,0),2))","v":""},null,null,null,null,null,{"$f":"IF(X59<>\"\",INDEX(referentes!$AN:$AR,MATCH(DATOS_MIP_SS!X59,referentes!$AO:$AO,0),5),\"\")","v":""}]
[null,null,null,"",{"$f":"IF(J60=\"\",\"\",CONCATENATE(AD60,DIGITADOR!$B$2,DIGITADOR!$M$1,J60))","v":""},{"$f":"IF(J60=\"\",\"\",CONCATENATE(DIGITADOR!$B$2,AD60,DIGITADOR!$M$1,J60,ROW()))","v":""},null,null,null,{"$f":"IF(X60=\"\",\"\", INDEX(referentes!$AN:$AR,MATCH(DATOS_MIP_SS!X60,referentes!$AO:$AO,0),1))","v":""},"",{"$f":"IF(AF60=\"\",\"\", INDEX(referentes!D:E,MATCH(DATOS_MIP_SS!AF60,referentes!$E:$E,0),1))","v":""},{"$f":"IF(AI60=\"\",\"\", INDEX(referentes!A:B,MATCH(DATOS_MIP_SS!AI60,referentes!$B:$B,0),1))","v":""},{"$f":"IF(AJ60=\"\",\"\", INDEX(referentes!G:H,MATCH(DATOS_MIP_SS!AJ60,referentes!$H:$H,0),1))","v":""},{"$f":"IF(AK60=\"\",\"\", INDEX(referentes!$AB$2:$AC$10,MATCH(DATOS_MIP_SS!AK60,referentes!$AC$2:$AC$10,0),1))","v":""},{"$f":"IF(AL60=\"\",\"\", INDEX(referentes!$AH:$AI,MATCH(DATOS_MIP_SS!AL60,referentes!$AI:$AI,0),1))","v":""},{"$f":"IF(AP60=\"\",\"\", INDEX(referentes!$AE$2:$AF$10,MATCH(DATOS_MIP_SS!AP60,referentes!$AF$2:$AF$10,0),1))","v":""},{"$f":"IF(AN60=\"\",\"\", INDEX(referentes!$AK$2:$AL$10,MATCH(DATOS_MIP_SS!AN60,referentes!$AL$2:$AL$10,0),1))","v":""},{"$f":"IF(AQ60=\"\",\"\", INDEX(referentes!J:K,MATCH(DATOS_MIP_SS!AQ60,referentes!$K:$K,0),1))","v":""},{"$f":"IF(AR60=\"\",\"\", INDEX(referentes!$M$2:$N$20,MATCH(DATOS_MIP_SS!AR60,referentes!$N$2:$N$20,0),1))","v":""},{"$f":"IF(AY60=\"\",\"\", INDEX('otras referencias'!O:P,MATCH(AY60,'otras referencias'!$O:$O,0),2))","v":""},null,null,null,null,null,{"$f":"IF(X60<>\"\",INDEX(referentes!$AN:$AR,MATCH(DATOS_MIP_SS!X60,referentes!$AO:$AO,0),5),\"\")","v":""}]
[null,null,null,"",{"$f":"IF(J61=\"\",\"\",CONCATENATE(AD61,DIGITADOR!$B$2,DIGITADOR!$M$1,J61))","v":""},{"$f":"IF(J61=\"\",\"\",CONCATENATE(DIGITADOR!$B$2,AD61,DIGITADOR!$M$1,J61,ROW()))","v":""},null,null,null,{"$f":"IF(X61=\"\",\"\", INDEX(referentes!$AN:$AR,MATCH(DATOS_MIP_SS!X61,referentes!$AO:$AO,0),1))","v":""},"",{"$f":"IF(AF61=\"\",\"\", INDEX(referentes!D:E,MATCH(DATOS_MIP_SS!AF61,referentes!$E:$E,0),1))","v":""},{"$f":"IF(AI61=\"\",\"\", INDEX(referentes!A:B,MATCH(DATOS_MIP_SS!AI61,referentes!$B:$B,0),1))","v":""},{"$f":"IF(AJ61=\"\",\"\", INDEX(referentes!G:H,MATCH(DATOS_MIP_SS!AJ61,referentes!$H:$H,0),1))","v":""},{"$f":"IF(AK61=\"\",\"\", INDEX(referentes!$AB$2:$AC$10,MATCH(DATOS_MIP_SS!AK61,referentes!$AC$2:$AC$10,0),1))","v":""},{"$f":"IF(AL61=\"\",\"\", INDEX(referentes!$AH:$AI,MATCH(DATOS_MIP_SS!AL61,referentes!$AI:$AI,0),1))","v":""},{"$f":"IF(AP61=\"\",\"\", INDEX(referentes!$AE$2:$AF$10,MATCH(DATOS_MIP_SS!AP61,referentes!$AF$2:$AF$10,0),1))","v":""},{"$f":"IF(AN61=\"\",\"\", INDEX(referentes!$AK$2:$AL$10,MATCH(DATOS_MIP_SS!AN61,referentes!$AL$2:$AL$10,0),1))","v":""},{"$f":"IF(AQ61=\"\",\"\", INDEX(referentes!J:K,MATCH(DATOS_MIP_SS!AQ61,referentes!$K:$K,0),1))","v":""},{"$f":"IF(AR61=\"\",\"\", INDEX(referentes!$M$2:$N$20,MATCH(DATOS_MIP_SS!AR61,referentes!$N$2:$N$20,0),1))","v":""},{"$f":"IF(AY61=\"\",\"\", INDEX('otras referencias'!O:P,MATCH(AY61,'otras referencias'!$O:$O,0),2))","v":""},null,null,null,null,null,{"$f":"IF(X61<>\"\",INDEX(referentes!$AN:$AR,MATCH(DATOS_MIP_SS!X61,referentes!$AO:$AO,0),5),\"\")","v":""}]
[null,null,null,"",{"$f":"IF(J62=\"\",\"\",CONCATENATE(AD62,DIGITADOR!$B$2,DIGITADOR!$M$1,J62))","v":""},{"$f":"IF(J62=\"\",\"\",CONCATENATE(DIGITADOR!$B$2,AD62,DIGITADOR!$M$1,J62,ROW()))","v":""},null,null,null,{"$f":"IF(X62=\"\",\"\", INDEX(referentes!$AN:$AR,MATCH(DATOS_MIP_SS!X62,referentes!$AO:$AO,0),1))","v":""},"",{"$f":"IF(AF62=\"\",\"\", INDEX(referentes!D:E,MATCH(DATOS_MIP_SS!AF62,referentes!$E:$E,0),1))","v":""},{"$f":"IF(AI62=\"\",\"\", INDEX(referentes!A:B,MATCH(DATOS_MIP_SS!AI62,referentes!$B:$B,0),1))","v":""},{"$f":"IF(AJ62=\"\",\"\", INDEX(referentes!G:H,MATCH(DATOS_MIP_SS!AJ62,referentes!$H:$H,0),1))","v":""},{"$f":"IF(AK62=\"\",\"\", INDEX(referentes!$AB$2:$AC$10,MATCH(DATOS_MIP_SS!AK62,referentes!$AC$2:$AC$10,0),1))","v":""},{"$f":"IF(AL62=\"\",\"\", INDEX(referentes!$AH:$AI,MATCH(DATOS_MIP_SS!AL62,referentes!$AI:$AI,0),1))","v":""},{"$f":"IF(AP62=\"\",\"\", INDEX(referentes!$AE$2:$AF$10,MATCH(DATOS_MIP_SS!AP62,referentes!$AF$2:$AF$10,0),1))","v":""},{"$f":"IF(AN62=\"\",\"\", INDEX(referentes!$AK$2:$AL$10,MATCH(DATOS_MIP_SS!AN62,referentes!$AL$2:$AL$10,0),1))","v":""},{"$f":"IF(AQ62=\"\",\"\", INDEX(referentes!J:K,MATCH(DATOS_MIP_SS!AQ62,referentes!$K:$K,0),1))","v":""},{"$f":"IF(AR62=\"\",\"\", INDEX(referentes!$M$2:$N$20,MATCH(DATOS_MIP_SS!AR62,referentes!$N$2:$N$20,0),1))","v":""},{"$f":"IF(AY62=\"\",\"\", INDEX('otras referencias'!O:P,MATCH(AY62,'otras referencias'!$O:$O,0),2))","v":""},null,null,null,null,null,{"$f":"IF(X62<>\"\",INDEX(referentes!$AN:$AR,MATCH(DATOS_MIP_SS!X62,referentes!$AO:$AO,0),5),\"\")","v":""}]
[null,null,null,"",{"$f":"IF(J63=\"\",\"\",CONCATENATE(AD63,DIGITADOR!$B$2,DIGITADOR!$M$1,J63))","v":""},{"$f":"IF(J63=\"\",\"\",CONCATENATE(DIGITADOR!$B$2,AD63,DIGITADOR!$M$1,J63,ROW()))","v":""},null,null,null,{"$f":"IF(X63=\"\",\"\", INDEX(referentes!$AN:$AR,MATCH(DATOS_MIP_SS!X63,referentes!$AO:$AO,0),1))","v":""},"",{"$f":"IF(AF63=\"\",\"\", INDEX(referentes!D:E,MATCH(DATOS_MIP_SS!AF63,referentes!$E:$E,0),1))","v":""},{"$f":"IF(AI63=\"\",\"\", INDEX(referentes!A:B,MATCH(DATOS_MIP_SS!AI63,referentes!$B:$B,0),1))","v":""},{"$f":"IF(AJ63=\"\",\"\", INDEX(referentes!G:H,MATCH(DATOS_MIP_SS!AJ63,referentes!$H:$H,0),1))","v":""},{"$f":"IF(AK63=\"\",\"\", INDEX(referentes!$AB$2:$AC$10,MATCH(DATOS_MIP_SS!AK63,referentes!$AC$2:$AC$10,0),1))","v":""},{"$f":"IF(AL63=\"\",\"\", INDEX(referentes!$AH:$AI,MATCH(DATOS_MIP_SS!AL63,referentes!$AI:$AI,0),1))","v":""},{"$f":"IF(AP63=\"\",\"\", INDEX(referentes!$AE$2:$AF$10,MATCH(DATOS_MIP_SS!AP63,referentes!$AF$2:$AF$10,0),1))","v":""},{"$f":"IF(AN63=\"\",\"\", INDEX(referentes!$AK$2:$AL$10,MATCH(DATOS_MIP_SS!AN63,referentes!$AL$2:$AL$10,0),1))","v":""},{"$f":"IF(AQ63=\"\",\"\", INDEX(referentes!J:K,MATCH(DATOS_MIP_SS!AQ63,referentes!$K:$K,0),1))","v":""},{"$f":"IF(AR63=\"\",\"\", INDEX(referentes!$M$2:$N$20,MATCH(DATOS_MIP_SS!AR63,referentes!$N$2:$N$20,0),1))","v":""},{"$f":"IF(AY63=\"\",\"\", INDEX('otras referencias'!O:P,MATCH(AY63,'otras referencias'!$O:$O,0),2))","v":""},null,null,null,null,null,{"$f":"IF(X63<>\"\",INDEX(referentes!$AN:$AR,MATCH(DATOS_MIP_SS!X63,referentes!$AO:$AO,0),5),\"\")","v":""}]
[null,null,null,"",{"$f":"IF(J64=\"\",\"\",CONCATENATE(AD64,DIGITADOR!$B$2,DIGITADOR!$M$1,J64))","v":""},{"$f":"IF(J64=\"\",\"\",CONCATENATE(DIGITADOR!$B$2,AD64,DIGITADOR!$M$1,J64,ROW()))","v":""},null,null,null,{"$f":"IF(X64=\"\",\"\", INDEX(referentes!$AN:$AR,MATCH(DATOS_MIP_SS!X64,referentes!$AO:$AO,0),1))","v":""},"",{"$f":"IF(AF64=\"\",\"\", INDEX(referentes!D:E,MATCH(DATOS_MIP_SS!AF64,referentes!$E:$E,0),1))","v":""},{"$f":"IF(AI64=\"\",\"\", INDEX(referentes!A:B,MATCH(DATOS_MIP_SS!AI64,referentes!$B:$B,0),1))","v":""},{"$f":"IF(AJ64=\"\",\"\", INDEX(referentes!G:H,MATCH(DATOS_MIP_SS!AJ64,referentes!$H:$H,0),1))","v":""},{"$f":"IF(AK64=\"\",\"\", INDEX(referentes!$AB$2:$AC$10,MATCH(DATOS_MIP_SS!AK64,referentes!$AC$2:$AC$10,0),1))","v":""},{"$f":"IF(AL64=\"\",\"\", INDEX(referentes!$AH:$AI,MATCH(DATOS_MIP_SS!AL64,referentes!$AI:$AI,0),1))","v":""},{"$f":"IF(AP64=\"\",\"\", INDEX(referentes!$AE$2:$AF$10,MATCH(DATOS_MIP_SS!AP64,referentes!$AF$2:$AF$10,0),1))","v":""},{"$f":"IF(AN64=\"\",\"\", INDEX(referentes!$AK$2:$AL$10,MATCH(DATOS_MIP_SS!AN64,referentes!$AL$2:$AL$10,0),1))","v":""},{"$f":"IF(AQ64=\"\",\"\", INDEX(referentes!J:K,MATCH(DATOS_MIP_SS!AQ64,referentes!$K:$K,0),1))","v":""},{"$f":"IF(AR64=\"\",\"\", INDEX(referentes!$M$2:$N$20,MATCH(DATOS_MIP_SS!AR64,referentes!$N$2:$N$20,0),1))","v":""},{"$f":"IF(AY64=\"\",\"\", INDEX('otras referencias'!O:P,MATCH(AY64,'otras referencias'!$O:$O,0),2))","v":""},null,null,null,null,null,{"$f":"IF(X64<>\"\",INDEX(referentes!$AN:$AR,MATCH(DATOS_MIP_SS!X64,referentes!$AO:$AO,0),5),\"\")","v":""}]
[null,null,null,"",{"$f":"IF(J65=\"\",\"\",CONCATENATE(AD65,DIGITADOR!$B$2,DIGITADOR!$M$1,J65))","v":""},{"$f":"IF(J65=\"\",\"\",CONCATENATE(DIGITADOR!$B$2,AD65,DIGITADOR!$M$1,J65,ROW()))","v":""},null,null,null,{"$f":"IF(X65=\"\",\"\", INDEX(referentes!$AN:$AR,MATCH(DATOS_MIP_SS!X65,referentes!$AO:$AO,0),1))","v":""},"",{"$f":"IF(AF65=\"\",\"\", INDEX(referentes!D:E,MATCH(DATOS_MIP_SS!AF65,referentes!$E:$E,0),1))","v":""},{"$f":"IF(AI65=\"\",\"\", INDEX(referentes!A:B,MATCH(DATOS_MIP_SS!AI65,referentes!$B:$B,0),1))","v":""},{"$f":"IF(AJ65=\"\",\"\", INDEX(referentes!G:H,MATCH(DATOS_MIP_SS!AJ65,referentes!$H:$H,0),1))","v":""},{"$f":"IF(AK65=\"\",\"\", INDEX(referentes!$AB$2:$AC$10,MATCH(DATOS_MIP_SS!AK65,referentes!$AC$2:$AC$10,0),1))","v":""},{"$f":"IF(AL65=\"\",\"\", INDEX(referentes!$AH:$AI,MATCH(DATOS_MIP_SS!AL65,referentes!$AI:$AI,0),1))","v":""},{"$f":"IF(AP65=\"\",\"\", INDEX(referentes!$AE$2:$AF$10,MATCH(DATOS_MIP_SS!AP65,referentes!$AF$2:$AF$10,0),1))","v":""},{"$f":"IF(AN65=\"\",\"\", INDEX(referentes!$AK$2:$AL$10,MATCH(DATOS_MIP_SS!AN65,referentes!$AL$2:$AL$10,0),1))","v":""},{"$f":"IF(AQ65=\"\",\"\", INDEX(referentes!J:K,MATCH(DATOS_MIP_SS!AQ65,referentes!$K:$K,0),1))","v":""},{"$f":"IF(AR65=\"\",\"\", INDEX(referentes!$M$2:$N$20,MATCH(DATOS_MIP_SS!AR65,referentes!$N$2:$N$20,0),1))","v":""},{"$f":"IF(AY65=\"\",\"\", INDEX('otras referencias'!O:P,MATCH(AY65,'otras referencias'!$O:$O,0),2))","v":""},null,null,null,null,null,{"$f":"IF(X65<>\"\",INDEX(referentes!$AN:$AR,MATCH(DATOS_MIP_SS!X65,referentes!$AO:$AO,0),5),\"\")","v":""}]
[null,null,null,"",{"$f":"IF(J66=\"\",\"\",CONCATENATE(AD66,DIGITADOR!$B$2,DIGITADOR!$M$1,J66))","v":""},{"$f":"IF(J66=\"\",\"\",CONCATENATE(DIGITADOR!$B$2,AD66,DIGITADOR!$M$1,J66,ROW()))","v":""},null,null,null,{"$f":"IF(X66=\"\",\"\", INDEX(referentes!$AN:$AR,MATCH(DATOS_MIP_SS!X66,referentes!$AO:$AO,0),1))","v":""},"",{"$f":"IF(AF66=\"\",\"\", INDEX(referentes!D:E,MATCH(DATOS_MIP_SS!AF66,referentes!$E:$E,0),1))","v":""},{"$f":"IF(AI66=\"\",\"\", INDEX(referentes!A:B,MATCH(DATOS_MIP_SS!AI66,referentes!$B:$B,0),1))","v":""},{"$f":"IF(AJ66=\"\",\"\", INDEX(referentes!G:H,MATCH(DATOS_MIP_SS!AJ66,referentes!$H:$H,0),1))","v":""},{"$f":"IF(AK66=\"\",\"\", INDEX(referentes!$AB$2:$AC$10,MATCH(DATOS_MIP_SS!AK66,referentes!$AC$2:$AC$10,0),1))","v":""},{"$f":"IF(AL66=\"\",\"\", INDEX(referentes!$AH:$AI,MATCH(DATOS_MIP_SS!AL66,referentes!$AI:$AI,0),1))","v":""},{"$f":"IF(AP66=\"\",\"\", INDEX(referentes!$AE$2:$AF$10,MATCH(DATOS_MIP_SS!AP66,referentes!$AF$2:$AF$10,0),1))","v":""},{"$f":"IF(AN66=\"\",\"\", INDEX(referentes!$AK$2:$AL$10,MATCH(DATOS_MIP_SS!AN66,referentes!$AL$2:$AL$10,0),1))","v":""},{"$f":"IF(AQ66=\"\",\"\", INDEX(referentes!J:K,MATCH(DATOS_MIP_SS!AQ66,referentes!$K:$K,0),1))","v":""},{"$f":"IF(AR66=\"\",\"\", INDEX(referentes!$M$2:$N$20,MATCH(DATOS_MIP_SS!AR66,referentes!$N$2:$N$20,0),1))","v":""},{"$f":"IF(AY66=\"\",\"\", INDEX('otras referencias'!O:P,MATCH(AY66,'otras referencias'!$O:$O,0),2))","v":""},null,null,null,null,null,{"$f":"IF(X66<>\"\",INDEX(referentes!$AN:$AR,MATCH(DATOS_MIP_SS!X66,referentes!$AO:$AO,0),5),\"\")","v":""}]
[null,null,null,"",{"$f":"IF(J67=\"\",\"\",CONCATENATE(AD67,DIGITADOR!$B$2,DIGITADOR!$M$1,J67))","v":""},{"$f":"IF(J67=\"\",\"\",CONCATENATE(DIGITADOR!$B$2,AD67,DIGITADOR!$M$1,J67,ROW()))","v":""},null,null,null,{"$f":"IF(X67=\"\",\"\", INDEX(referentes!$AN:$AR,MATCH(DATOS_MIP_SS!X67,referentes!$AO:$AO,0),1))","v":""},"",{"$f":"IF(AF67=\"\",\"\", INDEX(referentes!D:E,MATCH(DATOS_MIP_SS!AF67,referentes!$E:$E,0),1))","v":""},{"$f":"IF(AI67=\"\",\"\", INDEX(referentes!A:B,MATCH(DATOS_MIP_SS!AI67,referentes!$B:$B,0),1))","v":""},{"$f":"IF(AJ67=\"\",\"\", INDEX(referentes!G:H,MATCH(DATOS_MIP_SS!AJ67,referentes!$H:$H,0),1))","v":""},{"$f":"IF(AK67=\"\",\"\", INDEX(referentes!$AB$2:$AC$10,MATCH(DATOS_MIP_SS!AK67,referentes!$AC$2:$AC$10,0),1))","v":""},{"$f":"IF(AL67=\"\",\"\", INDEX(referentes!$AH:$AI,MATCH(DATOS_MIP_SS!AL67,referentes!$AI:$AI,0),1))","v":""},{"$f":"IF(AP67=\"\",\"\", INDEX(referentes!$AE$2:$AF$10,MATCH(DATOS_MIP_SS!AP67,referentes!$AF$2:$AF$10,0),1))","v":""},{"$f":"IF(AN67=\"\",\"\", INDEX(referentes!$AK$2:$AL$10,MATCH(DATOS_MIP_SS!AN67,referentes!$AL$2:$AL$10,0),1))","v":""},{"$f":"IF(AQ67=\"\",\"\", INDEX(referentes!J:K,MATCH(DATOS_MIP_SS!AQ67,referentes!$K:$K,0),1))","v":""},{"$f":"IF(AR67=\"\",\"\", INDEX(referentes!$M$2:$N$20,MATCH(DATOS_MIP_SS!AR67,referentes!$N$2:$N$20,0),1))","v":""},{"$f":"IF(AY67=\"\",\"\", INDEX('otras referencias'!O:P,MATCH(AY67,'otras referencias'!$O:$O,0),2))","v":""},null,null,null,null,null,{"$f":"IF(X67<>\"\",INDEX(referentes!$AN:$AR,MATCH(DATOS_MIP_SS!X67,referentes!$AO:$AO,0),5),\"\")","v":""}]
[null,null,null,"",{"$f":"IF(J68=\"\",\"\",CONCATENATE(AD68,DIGITADOR!$B$2,DIGITADOR!$M$1,J68))","v":""},{"$f":"IF(J68=\"\",\"\",CONCATENATE(DIGITADOR!$B$2,AD68,DIGITADOR!$M$1,J68,ROW()))","v":""},null,null,null,{"$f":"IF(X68=\"\",\"\", INDEX(referentes!$AN:$AR,MATCH(DATOS_MIP_SS!X68,referentes!$AO:$AO,0),1))","v":""},"",{"$f":"IF(AF68=\"\",\"\", INDEX(referentes!D:E,MATCH(DATOS_MIP_SS!AF68,referentes!$E:$E,0),1))","v":""},{"$f":"IF(AI68=\"\",\"\", INDEX(referentes!A:B,MATCH(DATOS_MIP_SS!AI68,referentes!$B:$B,0),1))","v":""},{"$f":"IF(AJ68=\"\",\"\", INDEX(referentes!G:H,MATCH(DATOS_MIP_SS!AJ68,referentes!$H:$H,0),1))","v":""},{"$f":"IF(AK68=\"\",\"\", INDEX(referentes!$AB$2:$AC$10,MATCH(DATOS_MIP_SS!AK68,referentes!$AC$2:$AC$10,0),1))","v":""},{"$f":"IF(AL68=\"\",\"\", INDEX(referentes!$AH:$AI,MATCH(DATOS_MIP_SS!AL68,referentes!$AI:$AI,0),1))","v":""},{"$f":"IF(AP68=\"\",\"\", INDEX(referentes!$AE$2:$AF$10,MATCH(DATOS_MIP_SS!AP68,referentes!$AF$2:$AF$10,0),1))","v":""},{"$f":"IF(AN68=\"\",\"\", INDEX(referentes!$AK$2:$AL$10,MATCH(DATOS_MIP_SS!AN68,referentes!$AL$2:$AL$10,0),1))","v":""},{"$f":"IF(AQ68=\"\",\"\", INDEX(referentes!J:K,MATCH(DATOS_MIP_SS!AQ68,referentes!$K:$K,0),1))","v":""},{"$f":"IF(AR68=\"\",\"\", INDEX(referentes!$M$2:$N$20,MATCH(DATOS_MIP_SS!AR68,referentes!$N$2:$N$20,0),1))","v":""},{"$f":"IF(AY68=\"\",\"\", INDEX('otras referencias'!O:P,MATCH(AY68,'otras referencias'!$O:$O,0),2))","v":""},null,null,null,null,null,{"$f":"IF(X68<>\"\",INDEX(referentes!$AN:$AR,MATCH(DATOS_MIP_SS!X68,referentes!$AO:$AO,0),5),\"\")","v":""}]
[null,null,null,"",{"$f":"IF(J69=\"\",\"\",CONCATENATE(AD69,DIGITADOR!$B$2,DIGITADOR!$M$1,J69))","v":""},{"$f":"IF(J69=\"\",\"\",CONCATENATE(DIGITADOR!$B$2,AD69,DIGITADOR!$M$1,J69,ROW()))","v":""},null,null,null,{"$f":"IF(X69=\"\",\"\", INDEX(referentes!$AN:$AR,MATCH(DATOS_MIP_SS!X69,referentes!$AO:$AO,0),1))","v":""},"",{"$f":"IF(AF69=\"\",\"\", INDEX(referentes!D:E,MATCH(DATOS_MIP_SS!AF69,referentes!$E:$E,0),1))","v":""},{"$f":"IF(AI69=\"\",\"\", INDEX(referentes!A:B,MATCH(DATOS_MIP_SS!AI69,referentes!$B:$B,0),1))","v":""},{"$f":"IF(AJ69=\"\",\"\", INDEX(referentes!G:H,MATCH(DATOS_MIP_SS!AJ69,referentes!$H:$H,0),1))","v":""},{"$f":"IF(AK69=\"\",\"\", INDEX(referentes!$AB$2:$AC$10,MATCH(DATOS_MIP_SS!AK69,referentes!$AC$2:$AC$10,0),1))","v":""},{"$f":"IF(AL69=\"\",\"\", INDEX(referentes!$AH:$AI,MATCH(DATOS_MIP_SS!AL69,referentes!$AI:$AI,0),1))","v":""},{"$f":"IF(AP69=\"\",\"\", INDEX(referentes!$AE$2:$AF$10,MATCH(DATOS_MIP_SS!AP69,referentes!$AF$2:$AF$10,0),1))","v":""},{"$f":"IF(AN69=\"\",\"\", INDEX(referentes!$AK$2:$AL$10,MATCH(DATOS_MIP_SS!AN69,referentes!$AL$2:$AL$10,0),1))","v":""},{"$f":"IF(AQ69=\"\",\"\", INDEX(referentes!J:K,MATCH(DATOS_MIP_SS!AQ69,referentes!$K:$K,0),1))","v":""},{"$f":"IF(AR69=\"\",\"\", INDEX(referentes!$M$2:$N$20,MATCH(DATOS_MIP_SS!AR69,referentes!$N$2:$N$20,0),1))","v":""},{"$f":"IF(AY69=\"\",\"\", INDEX('otras referencias'!O:P,MATCH(AY69,'otras referencias'!$O:$O,0),2))","v":""},null,null,null,null,null,{"$f":"IF(X69<>\"\",INDEX(referentes!$AN:$AR,MATCH(DATOS_MIP_SS!X69,referentes!$AO:$AO,0),5),\"\")","v":""}]
[null,null,null,"",{"$f":"IF(J70=\"\",\"\",CONCATENATE(AD70,DIGITADOR!$B$2,DIGITADOR!$M$1,J70))","v":""},{"$f":"IF(J70=\"\",\"\",CONCATENATE(DIGITADOR!$B$2,AD70,DIGITADOR!$M$1,J70,ROW()))","v":""},null,null,null,{"$f":"IF(X70=\"\",\"\", INDEX(referentes!$AN:$AR,MATCH(DATOS_MIP_SS!X70,referentes!$AO:$AO,0),1))","v":""},"",{"$f":"IF(AF70=\"\",\"\", INDEX(referentes!D:E,MATCH(DATOS_MIP_SS!AF70,referentes!$E:$E,0),1))","v":""},{"$f":"IF(AI70=\"\",\"\", INDEX(referentes!A:B,MATCH(DATOS_MIP_SS!AI70,referentes!$B:$B,0),1))","v":""},{"$f":"IF(AJ70=\"\",\"\", INDEX(referentes!G:H,MATCH(DATOS_MIP_SS!AJ70,referentes!$H:$H,0),1))","v":""},{"$f":"IF(AK70=\"\",\"\", INDEX(referentes!$AB$2:$AC$10,MATCH(DATOS_MIP_SS!AK70,referentes!$AC$2:$AC$10,0),1))","v":""},{"$f":"IF(AL70=\"\",\"\", INDEX(referentes!$AH:$AI,MATCH(DATOS_MIP_SS!AL70,referentes!$AI:$AI,0),1))","v":""},{"$f":"IF(AP70=\"\",\"\", INDEX(referentes!$AE$2:$AF$10,MATCH(DATOS_MIP_SS!AP70,referentes!$AF$2:$AF$10,0),1))","v":""},{"$f":"IF(AN70=\"\",\"\", INDEX(referentes!$AK$2:$AL$10,MATCH(DATOS_MIP_SS!AN70,referentes!$AL$2:$AL$10,0),1))","v":""},{"$f":"IF(AQ70=\"\",\"\", INDEX(referentes!J:K,MATCH(DATOS_MIP_SS!AQ70,referentes!$K:$K,0),1))","v":""},{"$f":"IF(AR70=\"\",\"\", INDEX(referentes!$M$2:$N$20,MATCH(DATOS_MIP_SS!AR70,referentes!$N$2:$N$20,0),1))","v":""},{"$f":"IF(AY70=\"\",\"\", INDEX('otras referencias'!O:P,MATCH(AY70,'otras referencias'!$O:$O,0),2))","v":""},null,null,null,null,null,{"$f":"IF(X70<>\"\",INDEX(referentes!$AN:$AR,MATCH(DATOS_MIP_SS!X70,referentes!$AO:$AO,0),5),\"\")","v":""}]
[null,null,null,"",{"$f":"IF(J71=\"\",\"\",CONCATENATE(AD71,DIGITADOR!$B$2,DIGITADOR!$M$1,J71))","v":""},{"$f":"IF(J71=\"\",\"\",CONCATENATE(DIGITADOR!$B$2,AD71,DIGITADOR!$M$1,J71,ROW()))","v":""},null,null,null,{"$f":"IF(X71=\"\",\"\", INDEX(referentes!$AN:$AR,MATCH(DATOS_MIP_SS!X71,referentes!$AO:$AO,0),1))","v":""},"",{"$f":"IF(AF71=\"\",\"\", INDEX(referentes!D:E,MATCH(DATOS_MIP_SS!AF71,referentes!$E:$E,0),1))","v":""},{"$f":"IF(AI71=\"\",\"\", INDEX(referentes!A:B,MATCH(DATOS_MIP_SS!AI71,referentes!$B:$B,0),1))","v":""},{"$f":"IF(AJ71=\"\",\"\", INDEX(referentes!G:H,MATCH(DATOS_MIP_SS!AJ71,referentes!$H:$H,0),1))","v":""},{"$f":"IF(AK71=\"\",\"\", INDEX(referentes!$AB$2:$AC$10,MATCH(DATOS_MIP_SS!AK71,referentes!$AC$2:$AC$10,0),1))","v":""},{"$f":"IF(AL71=\"\",\"\", INDEX(referentes!$AH:$AI,MATCH(DATOS_MIP_SS!AL71,referentes!$AI:$AI,0),1))","v":""},{"$f":"IF(AP71=\"\",\"\", INDEX(referentes!$AE$2:$AF$10,MATCH(DATOS_MIP_SS!AP71,referentes!$AF$2:$AF$10,0),1))","v":""},{"$f":"IF(AN71=\"\",\"\", INDEX(referentes!$AK$2:$AL$10,MATCH(DATOS_MIP_SS!AN71,referentes!$AL$2:$AL$10,0),1))","v":""},{"$f":"IF(AQ71=\"\",\"\", INDEX(referentes!J:K,MATCH(DATOS_MIP_SS!AQ71,referentes!$K:$K,0),1))","v":""},{"$f":"IF(AR71=\"\",\"\", INDEX(referentes!$M$2:$N$20,MATCH(DATOS_MIP_SS!AR71,referentes!$N$2:$N$20,0),1))","v":""},{"$f":"IF(AY71=\"\",\"\", INDEX('otras referencias'!O:P,MATCH(AY71,'otras referencias'!$O:$O,0),2))","v":""},null,null,null,null,null,{"$f":"IF(X71<>\"\",INDEX(referentes!$AN:$AR,MATCH(DATOS_MIP_SS!X71,referentes!$AO:$AO,0),5),\"\")","v":""}]
[null,null,null,"",{"$f":"IF(J72=\"\",\"\",CONCATENATE(AD72,DIGITADOR!$B$2,DIGITADOR!$M$1,J72))","v":""},{"$f":"IF(J72=\"\",\"\",CONCATENATE(DIGITADOR!$B$2,AD72,DIGITADOR!$M$1,J72,ROW()))","v":""},null,null,null,{"$f":"IF(X72=\"\",\"\", INDEX(referentes!$AN:$AR,MATCH(DATOS_MIP_SS!X72,referentes!$AO:$AO,0),1))","v":""},"",{"$f":"IF(AF72=\"\",\"\", INDEX(referentes!D:E,MATCH(DATOS_MIP_SS!AF72,referentes!$E:$E,0),1))","v":""},{"$f":"IF(AI72=\"\",\"\", INDEX(referentes!A:B,MATCH(DATOS_MIP_SS!AI72,referentes!$B:$B,0),1))","v":""},{"$f":"IF(AJ72=\"\",\"\", INDEX(referentes!G:H,MATCH(DATOS_MIP_SS!AJ72,referentes!$H:$H,0),1))","v":""},{"$f":"IF(AK72=\"\",\"\", INDEX(referentes!$AB$2:$AC$10,MATCH(DATOS_MIP_SS!AK72,referentes!$AC$2:$AC$10,0),1))","v":""},{"$f":"IF(AL72=\"\",\"\", INDEX(referentes!$AH:$AI,MATCH(DATOS_MIP_SS!AL72,referentes!$AI:$AI,0),1))","v":""},{"$f":"IF(AP72=\"\",\"\", INDEX(referentes!$AE$2:$AF$10,MATCH(DATOS_MIP_SS!AP72,referentes!$AF$2:$AF$10,0),1))","v":""},{"$f":"IF(AN72=\"\",\"\", INDEX(referentes!$AK$2:$AL$10,MATCH(DATOS_MIP_SS!AN72,referentes!$AL$2:$AL$10,0),1))","v":""},{"$f":"IF(AQ72=\"\",\"\", INDEX(referentes!J:K,MATCH(DATOS_MIP_SS!AQ72,referentes!$K:$K,0),1))","v":""},{"$f":"IF(AR72=\"\",\"\", INDEX(referentes!$M$2:$N$20,MATCH(DATOS_MIP_SS!AR72,referentes!$N$2:$N$20,0),1))","v":""},{"$f":"IF(AY72=\"\",\"\", INDEX('otras referencias'!O:P,MATCH(AY72,'otras referencias'!$O:$O,0),2))","v":""},null,null,null,null,null,{"$f":"IF(X72<>\"\",INDEX(referentes!$AN:$AR,MATCH(DATOS_MIP_SS!X72,referentes!$AO:$AO,0),5),\"\")","v":""}]
[null,null,null,"",{"$f":"IF(J73=\"\",\"\",CONCATENATE(AD73,DIGITADOR!$B$2,DIGITADOR!$M$1,J73))","v":""},{"$f":"IF(J73=\"\",\"\",CONCATENATE(DIGITADOR!$B$2,AD73,DIGITADOR!$M$1,J73,ROW()))","v":""},null,null,null,{"$f":"IF(X73=\"\",\"\", INDEX(referentes!$AN:$AR,MATCH(DATOS_MIP_SS!X73,referentes!$AO:$AO,0),1))","v":""},"",{"$f":"IF(AF73=\"\",\"\", INDEX(referentes!D:E,MATCH(DATOS_MIP_SS!AF73,referentes!$E:$E,0),1))","v":""},{"$f":"IF(AI73=\"\",\"\", INDEX(referentes!A:B,MATCH(DATOS_MIP_SS!AI73,referentes!$B:$B,0),1))","v":""},{"$f":"IF(AJ73=\"\",\"\", INDEX(referentes!G:H,MATCH(DATOS_MIP_SS!AJ73,referentes!$H:$H,0),1))","v":""},{"$f":"IF(AK73=\"\",\"\", INDEX(referentes!$AB$2:$AC$10,MATCH(DATOS_MIP_SS!AK73,referentes!$AC$2:$AC$10,0),1))","v":""},{"$f":"IF(AL73=\"\",\"\", INDEX(referentes!$AH:$AI,MATCH(DATOS_MIP_SS!AL73,referentes!$AI:$AI,0),1))","v":""},{"$f":"IF(AP73=\"\",\"\", INDEX(referentes!$AE$2:$AF$10,MATCH(DATOS_MIP_SS!AP73,referentes!$AF$2:$AF$10,0),1))","v":""},{"$f":"IF(AN73=\"\",\"\", INDEX(referentes!$AK$2:$AL$10,MATCH(DATOS_MIP_SS!AN73,referentes!$AL$2:$AL$10,0),1))","v":""},{"$f":"IF(AQ73=\"\",\"\", INDEX(referentes!J:K,MATCH(DATOS_MIP_SS!AQ73,referentes!$K:$K,0),1))","v":""},{"$f":"IF(AR73=\"\",\"\", INDEX(referentes!$M$2:$N$20,MATCH(DATOS_MIP_SS!AR73,referentes!$N$2:$N$20,0),1))","v":""},{"$f":"IF(AY73=\"\",\"\", INDEX('otras referencias'!O:P,MATCH(AY73,'otras referencias'!$O:$O,0),2))","v":""},null,null,null,null,null,{"$f":"IF(X73<>\"\",INDEX(referentes!$AN:$AR,MATCH(DATOS_MIP_SS!X73,referentes!$AO:$AO,0),5),\"\")","v":""}]
[null,null,null,"",{"$f":"IF(J74=\"\",\"\",CONCATENATE(AD74,DIGITADOR!$B$2,DIGITADOR!$M$1,J74))","v":""},{"$f":"IF(J74=\"\",\"\",CONCATENATE(DIGITADOR!$B$2,AD74,DIGITADOR!$M$1,J74,ROW()))","v":""},null,null,null,{"$f":"IF(X74=\"\",\"\", INDEX(referentes!$AN:$AR,MATCH(DATOS_MIP_SS!X74,referentes!$AO:$AO,0),1))","v":""},"",{"$f":"IF(AF74=\"\",\"\", INDEX(referentes!D:E,MATCH(DATOS_MIP_SS!AF74,referentes!$E:$E,0),1))","v":""},{"$f":"IF(AI74=\"\",\"\", INDEX(referentes!A:B,MATCH(DATOS_MIP_SS!AI74,referentes!$B:$B,0),1))","v":""},{"$f":"IF(AJ74=\"\",\"\", INDEX(referentes!G:H,MATCH(DATOS_MIP_SS!AJ74,referentes!$H:$H,0),1))","v":""},{"$f":"IF(AK74=\"\",\"\", INDEX(referentes!$AB$2:$AC$10,MATCH(DATOS_MIP_SS!AK74,referentes!$AC$2:$AC$10,0),1))","v":""},{"$f":"IF(AL74=\"\",\"\", INDEX(referentes!$AH:$AI,MATCH(DATOS_MIP_SS!AL74,referentes!$AI:$AI,0),1))","v":""},{"$f":"IF(AP74=\"\",\"\", INDEX(referentes!$AE$2:$AF$10,MATCH(DATOS_MIP_SS!AP74,referentes!$AF$2:$AF$10,0),1))","v":""},{"$f":"IF(AN74=\"\",\"\", INDEX(referentes!$AK$2:$AL$10,MATCH(DATOS_MIP_SS!AN74,referentes!$AL$2:$AL$10,0),1))","v":""},{"$f":"IF(AQ74=\"\",\"\", INDEX(referentes!J:K,MATCH(DATOS_MIP_SS!AQ74,referentes!$K:$K,0),1))","v":""},{"$f":"IF(AR74=\"\",\"\", INDEX(referentes!$M$2:$N$20,MATCH(DATOS_MIP_SS!AR74,referentes!$N$2:$N$20,0),1))","v":""},{"$f":"IF(AY74=\"\",\"\", INDEX('otras referencias'!O:P,MATCH(AY74,'otras referencias'!$O:$O,0),2))","v":""},null,null,null,null,null,{"$f":"IF(X74<>\"\",INDEX(referentes!$AN:$AR,MATCH(DATOS_MIP_SS!X74,referentes!$AO:$AO,0),5),\"\")","v":""}]
[null,null,null,"",{"$f":"IF(J75=\"\",\"\",CONCATENATE(AD75,DIGITADOR!$B$2,DIGITADOR!$M$1,J75))","v":""},{"$f":"IF(J75=\"\",\"\",CONCATENATE(DIGITADOR!$B$2,AD75,DIGITADOR!$M$1,J75,ROW()))","v":""},null,null,null,{"$f":"IF(X75=\"\",\"\", INDEX(referentes!$AN:$AR,MATCH(DATOS_MIP_SS!X75,referentes!$AO:$AO,0),1))","v":""},{"$f":"IF(AD75=\"\",\"\",AD75+AE75)","v":""},{"$f":"IF(AF75=\"\",\"\", INDEX(referentes!D:E,MATCH(DATOS_MIP_SS!AF75,referentes!$E:$E,0),1))","v":""},{"$f":"IF(AI75=\"\",\"\", INDEX(referentes!A:B,MATCH(DATOS_MIP_SS!AI75,referentes!$B:$B,0),1))","v":""},{"$f":"IF(AJ75=\"\",\"\", INDEX(referentes!G:H,MATCH(DATOS_MIP_SS!AJ75,referentes!$H:$H,0),1))","v":""},{"$f":"IF(AK75=\"\",\"\", INDEX(referentes!$AB$2:$AC$10,MATCH(DATOS_MIP_SS!AK75,referentes!$AC$2:$AC$10,0),1))","v":""},{"$f":"IF(AL75=\"\",\"\", INDEX(referentes!$AH:$AI,MATCH(DATOS_MIP_SS!AL75,referentes!$AI:$AI,0),1))","v":""},{"$f":"IF(AP75=\"\",\"\", INDEX(referentes!$AE$2:$AF$10,MATCH(DATOS_MIP_SS!AP75,referentes!$AF$2:$AF$10,0),1))","v":""},{"$f":"IF(AN75=\"\",\"\", INDEX(referentes!$AK$2:$AL$10,MATCH(DATOS_MIP_SS!AN75,referentes!$AL$2:$AL$10,0),1))","v":""},{"$f":"IF(AQ75=\"\",\"\", INDEX(referentes!J:K,MATCH(DATOS_MIP_SS!AQ75,referentes!$K:$K,0),1))","v":""},{"$f":"IF(AR75=\"\",\"\", INDEX(referentes!$M$2:$N$20,MATCH(DATOS_MIP_SS!AR75,referentes!$N$2:$N$20,0),1))","v":""},{"$f":"IF(AY75=\"\",\"\", INDEX('otras referencias'!O:P,MATCH(AY75,'otras referencias'!$O:$O,0),2))","v":""},null,null,null,null,null,{"$f":"IF(X75<>\"\",INDEX(referentes!$AN:$AR,MATCH(DATOS_MIP_SS!X75,referentes!$AO:$AO,0),5),\"\")","v":""}]
[null,null,null,{"$f":"IF(E76=\"\",\"\",IF(E76=E75,\"\",E76))","v":""},{"$f":"IF(J76=\"\",\"\",CONCATENATE(AD76,DIGITADOR!$B$2,DIGITADOR!$M$1,J76))","v":""},{"$f":"IF(J76=\"\",\"\",CONCATENATE(DIGITADOR!$B$2,AD76,DIGITADOR!$M$1,J76,ROW()))","v":""},null,null,null,{"$f":"IF(X76=\"\",\"\", INDEX(referentes!$AN:$AR,MATCH(DATOS_MIP_SS!X76,referentes!$AO:$AO,0),1))","v":""},"",{"$f":"IF(AF76=\"\",\"\", INDEX(referentes!D:E,MATCH(DATOS_MIP_SS!AF76,referentes!$E:$E,0),1))","v":""},{"$f":"IF(AI76=\"\",\"\", INDEX(referentes!A:B,MATCH(DATOS_MIP_SS!AI76,referentes!$B:$B,0),1))","v":""},{"$f":"IF(AJ76=\"\",\"\", INDEX(referentes!G:H,MATCH(DATOS_MIP_SS!AJ76,referentes!$H:$H,0),1))","v":""},{"$f":"IF(AK76=\"\",\"\", INDEX(referentes!$AB$2:$AC$10,MATCH(DATOS_MIP_SS!AK76,referentes!$AC$2:$AC$10,0),1))","v":""},{"$f":"IF(AL76=\"\",\"\", INDEX(referentes!$AH:$AI,MATCH(DATOS_MIP_SS!AL76,referentes!$AI:$AI,0),1))","v":""},{"$f":"IF(AP76=\"\",\"\", INDEX(referentes!$AE$2:$AF$10,MATCH(DATOS_MIP_SS!AP76,referentes!$AF$2:$AF$10,0),1))","v":""},{"$f":"IF(AN76=\"\",\"\", INDEX(referentes!$AK$2:$AL$10,MATCH(DATOS_MIP_SS!AN76,referentes!$AL$2:$AL$10,0),1))","v":""},{"$f":"IF(AQ76=\"\",\"\", INDEX(referentes!J:K,MATCH(DATOS_MIP_SS!AQ76,referentes!$K:$K,0),1))","v":""},{"$f":"IF(AR76=\"\",\"\", INDEX(referentes!$M$2:$N$20,MATCH(DATOS_MIP_SS!AR76,referentes!$N$2:$N$20,0),1))","v":""},{"$f":"IF(AY76=\"\",\"\", INDEX('otras referencias'!O:P,MATCH(AY76,'otras referencias'!$O:$O,0),2))","v":""},null,null,null,null,null,{"$f":"IF(X76<>\"\",INDEX(referentes!$AN:$AR,MATCH(DATOS_MIP_SS!X76,referentes!$AO:$AO,0),5),\"\")","v":""}]
[null,null,null,"",{"$f":"IF(J77=\"\",\"\",CONCATENATE(AD77,DIGITADOR!$B$2,DIGITADOR!$M$1,J77))","v":""},{"$f":"IF(J77=\"\",\"\",CONCATENATE(DIGITADOR!$B$2,AD77,DIGITADOR!$M$1,J77,ROW()))","v":""},null,null,null,{"$f":"IF(X77=\"\",\"\", INDEX(referentes!$AN:$AR,MATCH(DATOS_MIP_SS!X77,referentes!$AO:$AO,0),1))","v":""},"",{"$f":"IF(AF77=\"\",\"\", INDEX(referentes!D:E,MATCH(DATOS_MIP_SS!AF77,referentes!$E:$E,0),1))","v":""},{"$f":"IF(AI77=\"\",\"\", INDEX(referentes!A:B,MATCH(DATOS_MIP_SS!AI77,referentes!$B:$B,0),1))","v":""},{"$f":"IF(AJ77=\"\",\"\", INDEX(referentes!G:H,MATCH(DATOS_MIP_SS!AJ77,referentes!$H:$H,0),1))","v":""},{"$f":"IF(AK77=\"\",\"\", INDEX(referentes!$AB$2:$AC$10,MATCH(DATOS_MIP_SS!AK77,referentes!$AC$2:$AC$10,0),1))","v":""},{"$f":"IF(AL77=\"\",\"\", INDEX(referentes!$AH:$AI,MATCH(DATOS_MIP_SS!AL77,referentes!$AI:$AI,0),1))","v":""},{"$f":"IF(AP77=\"\",\"\", INDEX(referentes!$AE$2:$AF$10,MATCH(DATOS_MIP_SS!AP77,referentes!$AF$2:$AF$10,0),1))","v":""},{"$f":"IF(AN77=\"\",\"\", INDEX(referentes!$AK$2:$AL$10,MATCH(DATOS_MIP_SS!AN77,referentes!$AL$2:$AL$10,0),1))","v":""},{"$f":"IF(AQ77=\"\",\"\", INDEX(referentes!J:K,MATCH(DATOS_MIP_SS!AQ77,referentes!$K:$K,0),1))","v":""},{"$f":"IF(AR77=\"\",\"\", INDEX(referentes!$M$2:$N$20,MATCH(DATOS_MIP_SS!AR77,referentes!$N$2:$N$20,0),1))","v":""},{"$f":"IF(AY77=\"\",\"\", INDEX('otras referencias'!O:P,MATCH(AY77,'otras referencias'!$O:$O,0),2))","v":""},null,null,null,null,null,{"$f":"IF(X77<>\"\",INDEX(referentes!$AN:$AR,MATCH(DATOS_MIP_SS!X77,referentes!$AO:$AO,0),5),\"\")","v":""}]
[null,null,null,"",{"$f":"IF(J78=\"\",\"\",CONCATENATE(AD78,DIGITADOR!$B$2,DIGITADOR!$M$1,J78))","v":""},{"$f":"IF(J78=\"\",\"\",CONCATENATE(DIGITADOR!$B$2,AD78,DIGITADOR!$M$1,J78,ROW()))","v":""},null,null,null,{"$f":"IF(X78=\"\",\"\", INDEX(referentes!$AN:$AR,MATCH(DATOS_MIP_SS!X78,referentes!$AO:$AO,0),1))","v":""},"",{"$f":"IF(AF78=\"\",\"\", INDEX(referentes!D:E,MATCH(DATOS_MIP_SS!AF78,referentes!$E:$E,0),1))","v":""},{"$f":"IF(AI78=\"\",\"\", INDEX(referentes!A:B,MATCH(DATOS_MIP_SS!AI78,referentes!$B:$B,0),1))","v":""},{"$f":"IF(AJ78=\"\",\"\", INDEX(referentes!G:H,MATCH(DATOS_MIP_SS!AJ78,referentes!$H:$H,0),1))","v":""},{"$f":"IF(AK78=\"\",\"\", INDEX(referentes!$AB$2:$AC$10,MATCH(DATOS_MIP_SS!AK78,referentes!$AC$2:$AC$10,0),1))","v":""},{"$f":"IF(AL78=\"\",\"\", INDEX(referentes!$AH:$AI,MATCH(DATOS_MIP_SS!AL78,referentes!$AI:$AI,0),1))","v":""},{"$f":"IF(AP78=\"\",\"\", INDEX(referentes!$AE$2:$AF$10,MATCH(DATOS_MIP_SS!AP78,referentes!$AF$2:$AF$10,0),1))","v":""},{"$f":"IF(AN78=\"\",\"\", INDEX(referentes!$AK$2:$AL$10,MATCH(DATOS_MIP_SS!AN78,referentes!$AL$2:$AL$10,0),1))","v":""},{"$f":"IF(AQ78=\"\",\"\", INDEX(referentes!J:K,MATCH(DATOS_MIP_SS!AQ78,referentes!$K:$K,0),1))","v":""},{"$f":"IF(AR78=\"\",\"\", INDEX(referentes!$M$2:$N$20,MATCH(DATOS_MIP_SS!AR78,referentes!$N$2:$N$20,0),1))","v":""},{"$f":"IF(AY78=\"\",\"\", INDEX('otras referencias'!O:P,MATCH(AY78,'otras referencias'!$O:$O,0),2))","v":""},null,null,null,null,null,{"$f":"IF(X78<>\"\",INDEX(referentes!$AN:$AR,MATCH(DATOS_MIP_SS!X78,referentes!$AO:$AO,0),5),\"\")","v":""}]
[null,null,null,"",{"$f":"IF(J79=\"\",\"\",CONCATENATE(AD79,DIGITADOR!$B$2,DIGITADOR!$M$1,J79))","v":""},{"$f":"IF(J79=\"\",\"\",CONCATENATE(DIGITADOR!$B$2,AD79,DIGITADOR!$M$1,J79,ROW()))","v":""},null,null,null,{"$f":"IF(X79=\"\",\"\", INDEX(referentes!$AN:$AR,MATCH(DATOS_MIP_SS!X79,referentes!$AO:$AO,0),1))","v":""},"",{"$f":"IF(AF79=\"\",\"\", INDEX(referentes!D:E,MATCH(DATOS_MIP_SS!AF79,referentes!$E:$E,0),1))","v":""},{"$f":"IF(AI79=\"\",\"\", INDEX(referentes!A:B,MATCH(DATOS_MIP_SS!AI79,referentes!$B:$B,0),1))","v":""},{"$f":"IF(AJ79=\"\",\"\", INDEX(referentes!G:H,MATCH(DATOS_MIP_SS!AJ79,referentes!$H:$H,0),1))","v":""},{"$f":"IF(AK79=\"\",\"\", INDEX(referentes!$AB$2:$AC$10,MATCH(DATOS_MIP_SS!AK79,referentes!$AC$2:$AC$10,0),1))","v":""},{"$f":"IF(AL79=\"\",\"\", INDEX(referentes!$AH:$AI,MATCH(DATOS_MIP_SS!AL79,referentes!$AI:$AI,0),1))","v":""},{"$f":"IF(AP79=\"\",\"\", INDEX(referentes!$AE$2:$AF$10,MATCH(DATOS_MIP_SS!AP79,referentes!$AF$2:$AF$10,0),1))","v":""},{"$f":"IF(AN79=\"\",\"\", INDEX(referentes!$AK$2:$AL$10,MATCH(DATOS_MIP_SS!AN79,referentes!$AL$2:$AL$10,0),1))","v":""},{"$f":"IF(AQ79=\"\",\"\", INDEX(referentes!J:K,MATCH(DATOS_MIP_SS!AQ79,referentes!$K:$K,0),1))","v":""},{"$f":"IF(AR79=\"\",\"\", INDEX(referentes!$M$2:$N$20,MATCH(DATOS_MIP_SS!AR79,referentes!$N$2:$N$20,0),1))","v":""},{"$f":"IF(AY79=\"\",\"\", INDEX('otras referencias'!O:P,MATCH(AY79,'otras referencias'!$O:$O,0),2))","v":""},null,null,null,null,null,{"$f":"IF(X79<>\"\",INDEX(referentes!$AN:$AR,MATCH(DATOS_MIP_SS!X79,referentes!$AO:$AO,0),5),\"\")","v":""}]
[null,null,null,"",{"$f":"IF(J80=\"\",\"\",CONCATENATE(AD80,DIGITADOR!$B$2,DIGITADOR!$M$1,J80))","v":""},{"$f":"IF(J80=\"\",\"\",CONCATENATE(DIGITADOR!$B$2,AD80,DIGITADOR!$M$1,J80,ROW()))","v":""},null,null,null,{"$f":"IF(X80=\"\",\"\", INDEX(referentes!$AN:$AR,MATCH(DATOS_MIP_SS!X80,referentes!$AO:$AO,0),1))","v":""},"",{"$f":"IF(AF80=\"\",\"\", INDEX(referentes!D:E,MATCH(DATOS_MIP_SS!AF80,referentes!$E:$E,0),1))","v":""},{"$f":"IF(AI80=\"\",\"\", INDEX(referentes!A:B,MATCH(DATOS_MIP_SS!AI80,referentes!$B:$B,0),1))","v":""},{"$f":"IF(AJ80=\"\",\"\", INDEX(referentes!G:H,MATCH(DATOS_MIP_SS!AJ80,referentes!$H:$H,0),1))","v":""},{"$f":"IF(AK80=\"\",\"\", INDEX(referentes!$AB$2:$AC$10,MATCH(DATOS_MIP_SS!AK80,referentes!$AC$2:$AC$10,0),1))","v":""},{"$f":"IF(AL80=\"\",\"\", INDEX(referentes!$AH:$AI,MATCH(DATOS_MIP_SS!AL80,referentes!$AI:$AI,0),1))","v":""},{"$f":"IF(AP80=\"\",\"\", INDEX(referentes!$AE$2:$AF$10,MATCH(DATOS_MIP_SS!AP80,referentes!$AF$2:$AF$10,0),1))","v":""},{"$f":"IF(AN80=\"\",\"\", INDEX(referentes!$AK$2:$AL$10,MATCH(DATOS_MIP_SS!AN80,referentes!$AL$2:$AL$10,0),1))","v":""},{"$f":"IF(AQ80=\"\",\"\", INDEX(referentes!J:K,MATCH(DATOS_MIP_SS!AQ80,referentes!$K:$K,0),1))","v":""},{"$f":"IF(AR80=\"\",\"\", INDEX(referentes!$M$2:$N$20,MATCH(DATOS_MIP_SS!AR80,referentes!$N$2:$N$20,0),1))","v":""},{"$f":"IF(AY80=\"\",\"\", INDEX('otras referencias'!O:P,MATCH(AY80,'otras referencias'!$O:$O,0),2))","v":""},null,null,null,null,null,{"$f":"IF(X80<>\"\",INDEX(referentes!$AN:$AR,MATCH(DATOS_MIP_SS!X80,referentes!$AO:$AO,0),5),\"\")","v":""}]
[null,null,null,"",{"$f":"IF(J81=\"\",\"\",CONCATENATE(AD81,DIGITADOR!$B$2,DIGITADOR!$M$1,J81))","v":""},{"$f":"IF(J81=\"\",\"\",CONCATENATE(DIGITADOR!$B$2,AD81,DIGITADOR!$M$1,J81,ROW()))","v":""},null,null,null,{"$f":"IF(X81=\"\",\"\", INDEX(referentes!$AN:$AR,MATCH(DATOS_MIP_SS!X81,referentes!$AO:$AO,0),1))","v":""},"",{"$f":"IF(AF81=\"\",\"\", INDEX(referentes!D:E,MATCH(DATOS_MIP_SS!AF81,referentes!$E:$E,0),1))","v":""},{"$f":"IF(AI81=\"\",\"\", INDEX(referentes!A:B,MATCH(DATOS_MIP_SS!AI81,referentes!$B:$B,0),1))","v":""},{"$f":"IF(AJ81=\"\",\"\", INDEX(referentes!G:H,MATCH(DATOS_MIP_SS!AJ81,referentes!$H:$H,0),1))","v":""},{"$f":"IF(AK81=\"\",\"\", INDEX(referentes!$AB$2:$AC$10,MATCH(DATOS_MIP_SS!AK81,referentes!$AC$2:$AC$10,0),1))","v":""},{"$f":"IF(AL81=\"\",\"\", INDEX(referentes!$AH:$AI,MATCH(DATOS_MIP_SS!AL81,referentes!$AI:$AI,0),1))","v":""},{"$f":"IF(AP81=\"\",\"\", INDEX(referentes!$AE$2:$AF$10,MATCH(DATOS_MIP_SS!AP81,referentes!$AF$2:$AF$10,0),1))","v":""},{"$f":"IF(AN81=\"\",\"\", INDEX(referentes!$AK$2:$AL$10,MATCH(DATOS_MIP_SS!AN81,referentes!$AL$2:$AL$10,0),1))","v":""},{"$f":"IF(AQ81=\"\",\"\", INDEX(referentes!J:K,MATCH(DATOS_MIP_SS!AQ81,referentes!$K:$K,0),1))","v":""},{"$f":"IF(AR81=\"\",\"\", INDEX(referentes!$M$2:$N$20,MATCH(DATOS_MIP_SS!AR81,referentes!$N$2:$N$20,0),1))","v":""},{"$f":"IF(AY81=\"\",\"\", INDEX('otras referencias'!O:P,MATCH(AY81,'otras referencias'!$O:$O,0),2))","v":""},null,null,null,null,null,{"$f":"IF(X81<>\"\",INDEX(referentes!$AN:$AR,MATCH(DATOS_MIP_SS!X81,referentes!$AO:$AO,0),5),\"\")","v":""}]
[null,null,null,"",{"$f":"IF(J82=\"\",\"\",CONCATENATE(AD82,DIGITADOR!$B$2,DIGITADOR!$M$1,J82))","v":""},{"$f":"IF(J82=\"\",\"\",CONCATENATE(DIGITADOR!$B$2,AD82,DIGITADOR!$M$1,J82,ROW()))","v":""},null,null,null,{"$f":"IF(X82=\"\",\"\", INDEX(referentes!$AN:$AR,MATCH(DATOS_MIP_SS!X82,referentes!$AO:$AO,0),1))","v":""},"",{"$f":"IF(AF82=\"\",\"\", INDEX(referentes!D:E,MATCH(DATOS_MIP_SS!AF82,referentes!$E:$E,0),1))","v":""},{"$f":"IF(AI82=\"\",\"\", INDEX(referentes!A:B,MATCH(DATOS_MIP_SS!AI82,referentes!$B:$B,0),1))","v":""},{"$f":"IF(AJ82=\"\",\"\", INDEX(referentes!G:H,MATCH(DATOS_MIP_SS!AJ82,referentes!$H:$H,0),1))","v":""},{"$f":"IF(AK82=\"\",\"\", INDEX(referentes!$AB$2:$AC$10,MATCH(DATOS_MIP_SS!AK82,referentes!$AC$2:$AC$10,0),1))","v":""},{"$f":"IF(AL82=\"\",\"\", INDEX(referentes!$AH:$AI,MATCH(DATOS_MIP_SS!AL82,referentes!$AI:$AI,0),1))","v":""},{"$f":"IF(AP82=\"\",\"\", INDEX(referentes!$AE$2:$AF$10,MATCH(DATOS_MIP_SS!AP82,referentes!$AF$2:$AF$10,0),1))","v":""},{"$f":"IF(AN82=\"\",\"\", INDEX(referentes!$AK$2:$AL$10,MATCH(DATOS_MIP_SS!AN82,referentes!$AL$2:$AL$10,0),1))","v":""},{"$f":"IF(AQ82=\"\",\"\", INDEX(referentes!J:K,MATCH(DATOS_MIP_SS!AQ82,referentes!$K:$K,0),1))","v":""},{"$f":"IF(AR82=\"\",\"\", INDEX(referentes!$M$2:$N$20,MATCH(DATOS_MIP_SS!AR82,referentes!$N$2:$N$20,0),1))","v":""},{"$f":"IF(AY82=\"\",\"\", INDEX('otras referencias'!O:P,MATCH(AY82,'otras referencias'!$O:$O,0),2))","v":""},null,null,null,null,null,{"$f":"IF(X82<>\"\",INDEX(referentes!$AN:$AR,MATCH(DATOS_MIP_SS!X82,referentes!$AO:$AO,0),5),\"\")","v":""}]
[null,null,null,"",{"$f":"IF(J83=\"\",\"\",CONCATENATE(AD83,DIGITADOR!$B$2,DIGITADOR!$M$1,J83))","v":""},{"$f":"IF(J83=\"\",\"\",CONCATENATE(DIGITADOR!$B$2,AD83,DIGITADOR!$M$1,J83,ROW()))","v":""},null,null,null,{"$f":"IF(X83=\"\",\"\", INDEX(referentes!$AN:$AR,MATCH(DATOS_MIP_SS!X83,referentes!$AO:$AO,0),1))","v":""},"",{"$f":"IF(AF83=\"\",\"\", INDEX(referentes!D:E,MATCH(DATOS_MIP_SS!AF83,referentes!$E:$E,0),1))","v":""},{"$f":"IF(AI83=\"\",\"\", INDEX(referentes!A:B,MATCH(DATOS_MIP_SS!AI83,referentes!$B:$B,0),1))","v":""},{"$f":"IF(AJ83=\"\",\"\", INDEX(referentes!G:H,MATCH(DATOS_MIP_SS!AJ83,referentes!$H:$H,0),1))","v":""},{"$f":"IF(AK83=\"\",\"\", INDEX(referentes!$AB$2:$AC$10,MATCH(DATOS_MIP_SS!AK83,referentes!$AC$2:$AC$10,0),1))","v":""},{"$f":"IF(AL83=\"\",\"\", INDEX(referentes!$AH:$AI,MATCH(DATOS_MIP_SS!AL83,referentes!$AI:$AI,0),1))","v":""},{"$f":"IF(AP83=\"\",\"\", INDEX(referentes!$AE$2:$AF$10,MATCH(DATOS_MIP_SS!AP83,referentes!$AF$2:$AF$10,0),1))","v":""},{"$f":"IF(AN83=\"\",\"\", INDEX(referentes!$AK$2:$AL$10,MATCH(DATOS_MIP_SS!AN83,referentes!$AL$2:$AL$10,0),1))","v":""},{"$f":"IF(AQ83=\"\",\"\", INDEX(referentes!J:K,MATCH(DATOS_MIP_SS!AQ83,referentes!$K:$K,0),1))","v":""},{"$f":"IF(AR83=\"\",\"\", INDEX(referentes!$M$2:$N$20,MATCH(DATOS_MIP_SS!AR83,referentes!$N$2:$N$20,0),1))","v":""},{"$f":"IF(AY83=\"\",\"\", INDEX('otras referencias'!O:P,MATCH(AY83,'otras referencias'!$O:$O,0),2))","v":""},null,null,null,null,null,{"$f":"IF(X83<>\"\",INDEX(referentes!$AN:$AR,MATCH(DATOS_MIP_SS!X83,referentes!$AO:$AO,0),5),\"\")","v":""}]
[null,null,null,"",{"$f":"IF(J84=\"\",\"\",CONCATENATE(AD84,DIGITADOR!$B$2,DIGITADOR!$M$1,J84))","v":""},{"$f":"IF(J84=\"\",\"\",CONCATENATE(DIGITADOR!$B$2,AD84,DIGITADOR!$M$1,J84,ROW()))","v":""},null,null,null,{"$f":"IF(X84=\"\",\"\", INDEX(referentes!$AN:$AR,MATCH(DATOS_MIP_SS!X84,referentes!$AO:$AO,0),1))","v":""},"",{"$f":"IF(AF84=\"\",\"\", INDEX(referentes!D:E,MATCH(DATOS_MIP_SS!AF84,referentes!$E:$E,0),1))","v":""},{"$f":"IF(AI84=\"\",\"\", INDEX(referentes!A:B,MATCH(DATOS_MIP_SS!AI84,referentes!$B:$B,0),1))","v":""},{"$f":"IF(AJ84=\"\",\"\", INDEX(referentes!G:H,MATCH(DATOS_MIP_SS!AJ84,referentes!$H:$H,0),1))","v":""},{"$f":"IF(AK84=\"\",\"\", INDEX(referentes!$AB$2:$AC$10,MATCH(DATOS_MIP_SS!AK84,referentes!$AC$2:$AC$10,0),1))","v":""},{"$f":"IF(AL84=\"\",\"\", INDEX(referentes!$AH:$AI,MATCH(DATOS_MIP_SS!AL84,referentes!$AI:$AI,0),1))","v":""},{"$f":"IF(AP84=\"\",\"\", INDEX(referentes!$AE$2:$AF$10,MATCH(DATOS_MIP_SS!AP84,referentes!$AF$2:$AF$10,0),1))","v":""},{"$f":"IF(AN84=\"\",\"\", INDEX(referentes!$AK$2:$AL$10,MATCH(DATOS_MIP_SS!AN84,referentes!$AL$2:$AL$10,0),1))","v":""},{"$f":"IF(AQ84=\"\",\"\", INDEX(referentes!J:K,MATCH(DATOS_MIP_SS!AQ84,referentes!$K:$K,0),1))","v":""},{"$f":"IF(AR84=\"\",\"\", INDEX(referentes!$M$2:$N$20,MATCH(DATOS_MIP_SS!AR84,referentes!$N$2:$N$20,0),1))","v":""},{"$f":"IF(AY84=\"\",\"\", INDEX('otras referencias'!O:P,MATCH(AY84,'otras referencias'!$O:$O,0),2))","v":""},null,null,null,null,null,{"$f":"IF(X84<>\"\",INDEX(referentes!$AN:$AR,MATCH(DATOS_MIP_SS!X84,referentes!$AO:$AO,0),5),\"\")","v":""}]
[null,null,null,"",{"$f":"IF(J85=\"\",\"\",CONCATENATE(AD85,DIGITADOR!$B$2,DIGITADOR!$M$1,J85))","v":""},{"$f":"IF(J85=\"\",\"\",CONCATENATE(DIGITADOR!$B$2,AD85,DIGITADOR!$M$1,J85,ROW()))","v":""},null,null,null,{"$f":"IF(X85=\"\",\"\", INDEX(referentes!$AN:$AR,MATCH(DATOS_MIP_SS!X85,referentes!$AO:$AO,0),1))","v":""},"",{"$f":"IF(AF85=\"\",\"\", INDEX(referentes!D:E,MATCH(DATOS_MIP_SS!AF85,referentes!$E:$E,0),1))","v":""},{"$f":"IF(AI85=\"\",\"\", INDEX(referentes!A:B,MATCH(DATOS_MIP_SS!AI85,referentes!$B:$B,0),1))","v":""},{"$f":"IF(AJ85=\"\",\"\", INDEX(referentes!G:H,MATCH(DATOS_MIP_SS!AJ85,referentes!$H:$H,0),1))","v":""},{"$f":"IF(AK85=\"\",\"\", INDEX(referentes!$AB$2:$AC$10,MATCH(DATOS_MIP_SS!AK85,referentes!$AC$2:$AC$10,0),1))","v":""},{"$f":"IF(AL85=\"\",\"\", INDEX(referentes!$AH:$AI,MATCH(DATOS_MIP_SS!AL85,referentes!$AI:$AI,0),1))","v":""},{"$f":"IF(AP85=\"\",\"\", INDEX(referentes!$AE$2:$AF$10,MATCH(DATOS_MIP_SS!AP85,referentes!$AF$2:$AF$10,0),1))","v":""},{"$f":"IF(AN85=\"\",\"\", INDEX(referentes!$AK$2:$AL$10,MATCH(DATOS_MIP_SS!AN85,referentes!$AL$2:$AL$10,0),1))","v":""},{"$f":"IF(AQ85=\"\",\"\", INDEX(referentes!J:K,MATCH(DATOS_MIP_SS!AQ85,referentes!$K:$K,0),1))","v":""},{"$f":"IF(AR85=\"\",\"\", INDEX(referentes!$M$2:$N$20,MATCH(DATOS_MIP_SS!AR85,referentes!$N$2:$N$20,0),1))","v":""},{"$f":"IF(AY85=\"\",\"\", INDEX('otras referencias'!O:P,MATCH(AY85,'otras referencias'!$O:$O,0),2))","v":""},null,null,null,null,null,{"$f":"IF(X85<>\"\",INDEX(referentes!$AN:$AR,MATCH(DATOS_MIP_SS!X85,referentes!$AO:$AO,0),5),\"\")","v":""}]
[null,null,null,"",{"$f":"IF(J86=\"\",\"\",CONCATENATE(AD86,DIGITADOR!$B$2,DIGITADOR!$M$1,J86))","v":""},{"$f":"IF(J86=\"\",\"\",CONCATENATE(DIGITADOR!$B$2,AD86,DIGITADOR!$M$1,J86,ROW()))","v":""},null,null,null,{"$f":"IF(X86=\"\",\"\", INDEX(referentes!$AN:$AR,MATCH(DATOS_MIP_SS!X86,referentes!$AO:$AO,0),1))","v":""},"",{"$f":"IF(AF86=\"\",\"\", INDEX(referentes!D:E,MATCH(DATOS_MIP_SS!AF86,referentes!$E:$E,0),1))","v":""},{"$f":"IF(AI86=\"\",\"\", INDEX(referentes!A:B,MATCH(DATOS_MIP_SS!AI86,referentes!$B:$B,0),1))","v":""},{"$f":"IF(AJ86=\"\",\"\", INDEX(referentes!G:H,MATCH(DATOS_MIP_SS!AJ86,referentes!$H:$H,0),1))","v":""},{"$f":"IF(AK86=\"\",\"\", INDEX(referentes!$AB$2:$AC$10,MATCH(DATOS_MIP_SS!AK86,referentes!$AC$2:$AC$10,0),1))","v":""},{"$f":"IF(AL86=\"\",\"\", INDEX(referentes!$AH:$AI,MATCH(DATOS_MIP_SS!AL86,referentes!$AI:$AI,0),1))","v":""},{"$f":"IF(AP86=\"\",\"\", INDEX(referentes!$AE$2:$AF$10,MATCH(DATOS_MIP_SS!AP86,referentes!$AF$2:$AF$10,0),1))","v":""},{"$f":"IF(AN86=\"\",\"\", INDEX(referentes!$AK$2:$AL$10,MATCH(DATOS_MIP_SS!AN86,referentes!$AL$2:$AL$10,0),1))","v":""},{"$f":"IF(AQ86=\"\",\"\", INDEX(referentes!J:K,MATCH(DATOS_MIP_SS!AQ86,referentes!$K:$K,0),1))","v":""},{"$f":"IF(AR86=\"\",\"\", INDEX(referentes!$M$2:$N$20,MATCH(DATOS_MIP_SS!AR86,referentes!$N$2:$N$20,0),1))","v":""},{"$f":"IF(AY86=\"\",\"\", INDEX('otras referencias'!O:P,MATCH(AY86,'otras referencias'!$O:$O,0),2))","v":""},null,null,null,null,null,{"$f":"IF(X86<>\"\",INDEX(referentes!$AN:$AR,MATCH(DATOS_MIP_SS!X86,referentes!$AO:$AO,0),5),\"\")","v":""}]
[null,null,null,"",{"$f":"IF(J87=\"\",\"\",CONCATENATE(AD87,DIGITADOR!$B$2,DIGITADOR!$M$1,J87))","v":""},{"$f":"IF(J87=\"\",\"\",CONCATENATE(DIGITADOR!$B$2,AD87,DIGITADOR!$M$1,J87,ROW()))","v":""},null,null,null,{"$f":"IF(X87=\"\",\"\", INDEX(referentes!$AN:$AR,MATCH(DATOS_MIP_SS!X87,referentes!$AO:$AO,0),1))","v":""},"",{"$f":"IF(AF87=\"\",\"\", INDEX(referentes!D:E,MATCH(DATOS_MIP_SS!AF87,referentes!$E:$E,0),1))","v":""},{"$f":"IF(AI87=\"\",\"\", INDEX(referentes!A:B,MATCH(DATOS_MIP_SS!AI87,referentes!$B:$B,0),1))","v":""},{"$f":"IF(AJ87=\"\",\"\", INDEX(referentes!G:H,MATCH(DATOS_MIP_SS!AJ87,referentes!$H:$H,0),1))","v":""},{"$f":"IF(AK87=\"\",\"\", INDEX(referentes!$AB$2:$AC$10,MATCH(DATOS_MIP_SS!AK87,referentes!$AC$2:$AC$10,0),1))","v":""},{"$f":"IF(AL87=\"\",\"\", INDEX(referentes!$AH:$AI,MATCH(DATOS_MIP_SS!AL87,referentes!$AI:$AI,0),1))","v":""},{"$f":"IF(AP87=\"\",\"\", INDEX(referentes!$AE$2:$AF$10,MATCH(DATOS_MIP_SS!AP87,referentes!$AF$2:$AF$10,0),1))","v":""},{"$f":"IF(AN87=\"\",\"\", INDEX(referentes!$AK$2:$AL$10,MATCH(DATOS_MIP_SS!AN87,referentes!$AL$2:$AL$10,0),1))","v":""},{"$f":"IF(AQ87=\"\",\"\", INDEX(referentes!J:K,MATCH(DATOS_MIP_SS!AQ87,referentes!$K:$K,0),1))","v":""},{"$f":"IF(AR87=\"\",\"\", INDEX(referentes!$M$2:$N$20,MATCH(DATOS_MIP_SS!AR87,referentes!$N$2:$N$20,0),1))","v":""},{"$f":"IF(AY87=\"\",\"\", INDEX('otras referencias'!O:P,MATCH(AY87,'otras referencias'!$O:$O,0),2))","v":""},null,null,null,null,null,{"$f":"IF(X87<>\"\",INDEX(referentes!$AN:$AR,MATCH(DATOS_MIP_SS!X87,referentes!$AO:$AO,0),5),\"\")","v":""}]
[null,null,null,"",{"$f":"IF(J88=\"\",\"\",CONCATENATE(AD88,DIGITADOR!$B$2,DIGITADOR!$M$1,J88))","v":""},{"$f":"IF(J88=\"\",\"\",CONCATENATE(DIGITADOR!$B$2,AD88,DIGITADOR!$M$1,J88,ROW()))","v":""},null,null,null,{"$f":"IF(X88=\"\",\"\", INDEX(referentes!$AN:$AR,MATCH(DATOS_MIP_SS!X88,referentes!$AO:$AO,0),1))","v":""},"",{"$f":"IF(AF88=\"\",\"\", INDEX(referentes!D:E,MATCH(DATOS_MIP_SS!AF88,referentes!$E:$E,0),1))","v":""},{"$f":"IF(AI88=\"\",\"\", INDEX(referentes!A:B,MATCH(DATOS_MIP_SS!AI88,referentes!$B:$B,0),1))","v":""},{"$f":"IF(AJ88=\"\",\"\", INDEX(referentes!G:H,MATCH(DATOS_MIP_SS!AJ88,referentes!$H:$H,0),1))","v":""},{"$f":"IF(AK88=\"\",\"\", INDEX(referentes!$AB$2:$AC$10,MATCH(DATOS_MIP_SS!AK88,referentes!$AC$2:$AC$10,0),1))","v":""},{"$f":"IF(AL88=\"\",\"\", INDEX(referentes!$AH:$AI,MATCH(DATOS_MIP_SS!AL88,referentes!$AI:$AI,0),1))","v":""},{"$f":"IF(AP88=\"\",\"\", INDEX(referentes!$AE$2:$AF$10,MATCH(DATOS_MIP_SS!AP88,referentes!$AF$2:$AF$10,0),1))","v":""},{"$f":"IF(AN88=\"\",\"\", INDEX(referentes!$AK$2:$AL$10,MATCH(DATOS_MIP_SS!AN88,referentes!$AL$2:$AL$10,0),1))","v":""},{"$f":"IF(AQ88=\"\",\"\", INDEX(referentes!J:K,MATCH(DATOS_MIP_SS!AQ88,referentes!$K:$K,0),1))","v":""},{"$f":"IF(AR88=\"\",\"\", INDEX(referentes!$M$2:$N$20,MATCH(DATOS_MIP_SS!AR88,referentes!$N$2:$N$20,0),1))","v":""},{"$f":"IF(AY88=\"\",\"\", INDEX('otras referencias'!O:P,MATCH(AY88,'otras referencias'!$O:$O,0),2))","v":""},null,null,null,null,null,{"$f":"IF(X88<>\"\",INDEX(referentes!$AN:$AR,MATCH(DATOS_MIP_SS!X88,referentes!$AO:$AO,0),5),\"\")","v":""}]
[null,null,null,"",{"$f":"IF(J89=\"\",\"\",CONCATENATE(AD89,DIGITADOR!$B$2,DIGITADOR!$M$1,J89))","v":""},{"$f":"IF(J89=\"\",\"\",CONCATENATE(DIGITADOR!$B$2,AD89,DIGITADOR!$M$1,J89,ROW()))","v":""},null,null,null,{"$f":"IF(X89=\"\",\"\", INDEX(referentes!$AN:$AR,MATCH(DATOS_MIP_SS!X89,referentes!$AO:$AO,0),1))","v":""},"",{"$f":"IF(AF89=\"\",\"\", INDEX(referentes!D:E,MATCH(DATOS_MIP_SS!AF89,referentes!$E:$E,0),1))","v":""},{"$f":"IF(AI89=\"\",\"\", INDEX(referentes!A:B,MATCH(DATOS_MIP_SS!AI89,referentes!$B:$B,0),1))","v":""},{"$f":"IF(AJ89=\"\",\"\", INDEX(referentes!G:H,MATCH(DATOS_MIP_SS!AJ89,referentes!$H:$H,0),1))","v":""},{"$f":"IF(AK89=\"\",\"\", INDEX(referentes!$AB$2:$AC$10,MATCH(DATOS_MIP_SS!AK89,referentes!$AC$2:$AC$10,0),1))","v":""},{"$f":"IF(AL89=\"\",\"\", INDEX(referentes!$AH:$AI,MATCH(DATOS_MIP_SS!AL89,referentes!$AI:$AI,0),1))","v":""},{"$f":"IF(AP89=\"\",\"\", INDEX(referentes!$AE$2:$AF$10,MATCH(DATOS_MIP_SS!AP89,referentes!$AF$2:$AF$10,0),1))","v":""},{"$f":"IF(AN89=\"\",\"\", INDEX(referentes!$AK$2:$AL$10,MATCH(DATOS_MIP_SS!AN89,referentes!$AL$2:$AL$10,0),1))","v":""},{"$f":"IF(AQ89=\"\",\"\", INDEX(referentes!J:K,MATCH(DATOS_MIP_SS!AQ89,referentes!$K:$K,0),1))","v":""},{"$f":"IF(AR89=\"\",\"\", INDEX(referentes!$M$2:$N$20,MATCH(DATOS_MIP_SS!AR89,referentes!$N$2:$N$20,0),1))","v":""},{"$f":"IF(AY89=\"\",\"\", INDEX('otras referencias'!O:P,MATCH(AY89,'otras referencias'!$O:$O,0),2))","v":""},null,null,null,null,null,{"$f":"IF(X89<>\"\",INDEX(referentes!$AN:$AR,MATCH(DATOS_MIP_SS!X89,referentes!$AO:$AO,0),5),\"\")","v":""}]
[null,null,null,"",{"$f":"IF(J90=\"\",\"\",CONCATENATE(AD90,DIGITADOR!$B$2,DIGITADOR!$M$1,J90))","v":""},{"$f":"IF(J90=\"\",\"\",CONCATENATE(DIGITADOR!$B$2,AD90,DIGITADOR!$M$1,J90,ROW()))","v":""},null,null,null,{"$f":"IF(X90=\"\",\"\", INDEX(referentes!$AN:$AR,MATCH(DATOS_MIP_SS!X90,referentes!$AO:$AO,0),1))","v":""},"",{"$f":"IF(AF90=\"\",\"\", INDEX(referentes!D:E,MATCH(DATOS_MIP_SS!AF90,referentes!$E:$E,0),1))","v":""},{"$f":"IF(AI90=\"\",\"\", INDEX(referentes!A:B,MATCH(DATOS_MIP_SS!AI90,referentes!$B:$B,0),1))","v":""},{"$f":"IF(AJ90=\"\",\"\", INDEX(referentes!G:H,MATCH(DATOS_MIP_SS!AJ90,referentes!$H:$H,0),1))","v":""},{"$f":"IF(AK90=\"\",\"\", INDEX(referentes!$AB$2:$AC$10,MATCH(DATOS_MIP_SS!AK90,referentes!$AC$2:$AC$10,0),1))","v":""},{"$f":"IF(AL90=\"\",\"\", INDEX(referentes!$AH:$AI,MATCH(DATOS_MIP_SS!AL90,referentes!$AI:$AI,0),1))","v":""},{"$f":"IF(AP90=\"\",\"\", INDEX(referentes!$AE$2:$AF$10,MATCH(DATOS_MIP_SS!AP90,referentes!$AF$2:$AF$10,0),1))","v":""},{"$f":"IF(AN90=\"\",\"\", INDEX(referentes!$AK$2:$AL$10,MATCH(DATOS_MIP_SS!AN90,referentes!$AL$2:$AL$10,0),1))","v":""},{"$f":"IF(AQ90=\"\",\"\", INDEX(referentes!J:K,MATCH(DATOS_MIP_SS!AQ90,referentes!$K:$K,0),1))","v":""},{"$f":"IF(AR90=\"\",\"\", INDEX(referentes!$M$2:$N$20,MATCH(DATOS_MIP_SS!AR90,referentes!$N$2:$N$20,0),1))","v":""},{"$f":"IF(AY90=\"\",\"\", INDEX('otras referencias'!O:P,MATCH(AY90,'otras referencias'!$O:$O,0),2))","v":""},null,null,null,null,null,{"$f":"IF(X90<>\"\",INDEX(referentes!$AN:$AR,MATCH(DATOS_MIP_SS!X90,referentes!$AO:$AO,0),5),\"\")","v":""}]
[null,null,null,"",{"$f":"IF(J91=\"\",\"\",CONCATENATE(AD91,DIGITADOR!$B$2,DIGITADOR!$M$1,J91))","v":""},{"$f":"IF(J91=\"\",\"\",CONCATENATE(DIGITADOR!$B$2,AD91,DIGITADOR!$M$1,J91,ROW()))","v":""},null,null,null,{"$f":"IF(X91=\"\",\"\", INDEX(referentes!$AN:$AR,MATCH(DATOS_MIP_SS!X91,referentes!$AO:$AO,0),1))","v":""},"",{"$f":"IF(AF91=\"\",\"\", INDEX(referentes!D:E,MATCH(DATOS_MIP_SS!AF91,referentes!$E:$E,0),1))","v":""},{"$f":"IF(AI91=\"\",\"\", INDEX(referentes!A:B,MATCH(DATOS_MIP_SS!AI91,referentes!$B:$B,0),1))","v":""},{"$f":"IF(AJ91=\"\",\"\", INDEX(referentes!G:H,MATCH(DATOS_MIP_SS!AJ91,referentes!$H:$H,0),1))","v":""},{"$f":"IF(AK91=\"\",\"\", INDEX(referentes!$AB$2:$AC$10,MATCH(DATOS_MIP_SS!AK91,referentes!$AC$2:$AC$10,0),1))","v":""},{"$f":"IF(AL91=\"\",\"\", INDEX(referentes!$AH:$AI,MATCH(DATOS_MIP_SS!AL91,referentes!$AI:$AI,0),1))","v":""},{"$f":"IF(AP91=\"\",\"\", INDEX(referentes!$AE$2:$AF$10,MATCH(DATOS_MIP_SS!AP91,referentes!$AF$2:$AF$10,0),1))","v":""},{"$f":"IF(AN91=\"\",\"\", INDEX(referentes!$AK$2:$AL$10,MATCH(DATOS_MIP_SS!AN91,referentes!$AL$2:$AL$10,0),1))","v":""},{"$f":"IF(AQ91=\"\",\"\", INDEX(referentes!J:K,MATCH(DATOS_MIP_SS!AQ91,referentes!$K:$K,0),1))","v":""},{"$f":"IF(AR91=\"\",\"\", INDEX(referentes!$M$2:$N$20,MATCH(DATOS_MIP_SS!AR91,referentes!$N$2:$N$20,0),1))","v":""},{"$f":"IF(AY91=\"\",\"\", INDEX('otras referencias'!O:P,MATCH(AY91,'otras referencias'!$O:$O,0),2))","v":""},null,null,null,null,null,{"$f":"IF(X91<>\"\",INDEX(referentes!$AN:$AR,MATCH(DATOS_MIP_SS!X91,referentes!$AO:$AO,0),5),\"\")","v":""}]
[null,null,null,"",{"$f":"IF(J92=\"\",\"\",CONCATENATE(AD92,DIGITADOR!$B$2,DIGITADOR!$M$1,J92))","v":""},{"$f":"IF(J92=\"\",\"\",CONCATENATE(DIGITADOR!$B$2,AD92,DIGITADOR!$M$1,J92,ROW()))","v":""},null,null,null,{"$f":"IF(X92=\"\",\"\", INDEX(referentes!$AN:$AR,MATCH(DATOS_MIP_SS!X92,referentes!$AO:$AO,0),1))","v":""},"",{"$f":"IF(AF92=\"\",\"\", INDEX(referentes!D:E,MATCH(DATOS_MIP_SS!AF92,referentes!$E:$E,0),1))","v":""},{"$f":"IF(AI92=\"\",\"\", INDEX(referentes!A:B,MATCH(DATOS_MIP_SS!AI92,referentes!$B:$B,0),1))","v":""},{"$f":"IF(AJ92=\"\",\"\", INDEX(referentes!G:H,MATCH(DATOS_MIP_SS!AJ92,referentes!$H:$H,0),1))","v":""},{"$f":"IF(AK92=\"\",\"\", INDEX(referentes!$AB$2:$AC$10,MATCH(DATOS_MIP_SS!AK92,referentes!$AC$2:$AC$10,0),1))","v":""},{"$f":"IF(AL92=\"\",\"\", INDEX(referentes!$AH:$AI,MATCH(DATOS_MIP_SS!AL92,referentes!$AI:$AI,0),1))","v":""},{"$f":"IF(AP92=\"\",\"\", INDEX(referentes!$AE$2:$AF$10,MATCH(DATOS_MIP_SS!AP92,referentes!$AF$2:$AF$10,0),1))","v":""},{"$f":"IF(AN92=\"\",\"\", INDEX(referentes!$AK$2:$AL$10,MATCH(DATOS_MIP_SS!AN92,referentes!$AL$2:$AL$10,0),1))","v":""},{"$f":"IF(AQ92=\"\",\"\", INDEX(referentes!J:K,MATCH(DATOS_MIP_SS!AQ92,referentes!$K:$K,0),1))","v":""},{"$f":"IF(AR92=\"\",\"\", INDEX(referentes!$M$2:$N$20,MATCH(DATOS_MIP_SS!AR92,referentes!$N$2:$N$20,0),1))","v":""},{"$f":"IF(AY92=\"\",\"\", INDEX('otras referencias'!O:P,MATCH(AY92,'otras referencias'!$O:$O,0),2))","v":""},null,null,null,null,null,{"$f":"IF(X92<>\"\",INDEX(referentes!$AN:$AR,MATCH(DATOS_MIP_SS!X92,referentes!$AO:$AO,0),5),\"\")","v":""}]
[null,null,null,"",{"$f":"IF(J93=\"\",\"\",CONCATENATE(AD93,DIGITADOR!$B$2,DIGITADOR!$M$1,J93))","v":""},{"$f":"IF(J93=\"\",\"\",CONCATENATE(DIGITADOR!$B$2,AD93,DIGITADOR!$M$1,J93,ROW()))","v":""},null,null,null,{"$f":"IF(X93=\"\",\"\", INDEX(referentes!$AN:$AR,MATCH(DATOS_MIP_SS!X93,referentes!$AO:$AO,0),1))","v":""},"",{"$f":"IF(AF93=\"\",\"\", INDEX(referentes!D:E,MATCH(DATOS_MIP_SS!AF93,referentes!$E:$E,0),1))","v":""},{"$f":"IF(AI93=\"\",\"\", INDEX(referentes!A:B,MATCH(DATOS_MIP_SS!AI93,referentes!$B:$B,0),1))","v":""},{"$f":"IF(AJ93=\"\",\"\", INDEX(referentes!G:H,MATCH(DATOS_MIP_SS!AJ93,referentes!$H:$H,0),1))","v":""},{"$f":"IF(AK93=\"\",\"\", INDEX(referentes!$AB$2:$AC$10,MATCH(DATOS_MIP_SS!AK93,referentes!$AC$2:$AC$10,0),1))","v":""},{"$f":"IF(AL93=\"\",\"\", INDEX(referentes!$AH:$AI,MATCH(DATOS_MIP_SS!AL93,referentes!$AI:$AI,0),1))","v":""},{"$f":"IF(AP93=\"\",\"\", INDEX(referentes!$AE$2:$AF$10,MATCH(DATOS_MIP_SS!AP93,referentes!$AF$2:$AF$10,0),1))","v":""},{"$f":"IF(AN93=\"\",\"\", INDEX(referentes!$AK$2:$AL$10,MATCH(DATOS_MIP_SS!AN93,referentes!$AL$2:$AL$10,0),1))","v":""},{"$f":"IF(AQ93=\"\",\"\", INDEX(referentes!J:K,MATCH(DATOS_MIP_SS!AQ93,referentes!$K:$K,0),1))","v":""},{"$f":"IF(AR93=\"\",\"\", INDEX(referentes!$M$2:$N$20,MATCH(DATOS_MIP_SS!AR93,referentes!$N$2:$N$20,0),1))","v":""},{"$f":"IF(AY93=\"\",\"\", INDEX('otras referencias'!O:P,MATCH(AY93,'otras referencias'!$O:$O,0),2))","v":""},null,null,null,null,null,{"$f":"IF(X93<>\"\",INDEX(referentes!$AN:$AR,MATCH(DATOS_MIP_SS!X93,referentes!$AO:$AO,0),5),\"\")","v":""}]
[null,null,null,"",{"$f":"IF(J94=\"\",\"\",CONCATENATE(AD94,DIGITADOR!$B$2,DIGITADOR!$M$1,J94))","v":""},{"$f":"IF(J94=\"\",\"\",CONCATENATE(DIGITADOR!$B$2,AD94,DIGITADOR!$M$1,J94,ROW()))","v":""},null,null,null,{"$f":"IF(X94=\"\",\"\", INDEX(referentes!$AN:$AR,MATCH(DATOS_MIP_SS!X94,referentes!$AO:$AO,0),1))","v":""},"",{"$f":"IF(AF94=\"\",\"\", INDEX(referentes!D:E,MATCH(DATOS_MIP_SS!AF94,referentes!$E:$E,0),1))","v":""},{"$f":"IF(AI94=\"\",\"\", INDEX(referentes!A:B,MATCH(DATOS_MIP_SS!AI94,referentes!$B:$B,0),1))","v":""},{"$f":"IF(AJ94=\"\",\"\", INDEX(referentes!G:H,MATCH(DATOS_MIP_SS!AJ94,referentes!$H:$H,0),1))","v":""},{"$f":"IF(AK94=\"\",\"\", INDEX(referentes!$AB$2:$AC$10,MATCH(DATOS_MIP_SS!AK94,referentes!$AC$2:$AC$10,0),1))","v":""},{"$f":"IF(AL94=\"\",\"\", INDEX(referentes!$AH:$AI,MATCH(DATOS_MIP_SS!AL94,referentes!$AI:$AI,0),1))","v":""},{"$f":"IF(AP94=\"\",\"\", INDEX(referentes!$AE$2:$AF$10,MATCH(DATOS_MIP_SS!AP94,referentes!$AF$2:$AF$10,0),1))","v":""},{"$f":"IF(AN94=\"\",\"\", INDEX(referentes!$AK$2:$AL$10,MATCH(DATOS_MIP_SS!AN94,referentes!$AL$2:$AL$10,0),1))","v":""},{"$f":"IF(AQ94=\"\",\"\", INDEX(referentes!J:K,MATCH(DATOS_MIP_SS!AQ94,referentes!$K:$K,0),1))","v":""},{"$f":"IF(AR94=\"\",\"\", INDEX(referentes!$M$2:$N$20,MATCH(DATOS_MIP_SS!AR94,referentes!$N$2:$N$20,0),1))","v":""},{"$f":"IF(AY94=\"\",\"\", INDEX('otras referencias'!O:P,MATCH(AY94,'otras referencias'!$O:$O,0),2))","v":""},null,null,null,null,null,{"$f":"IF(X94<>\"\",INDEX(referentes!$AN:$AR,MATCH(DATOS_MIP_SS!X94,referentes!$AO:$AO,0),5),\"\")","v":""}]
[null,null,null,"",{"$f":"IF(J95=\"\",\"\",CONCATENATE(AD95,DIGITADOR!$B$2,DIGITADOR!$M$1,J95))","v":""},{"$f":"IF(J95=\"\",\"\",CONCATENATE(DIGITADOR!$B$2,AD95,DIGITADOR!$M$1,J95,ROW()))","v":""},null,null,null,{"$f":"IF(X95=\"\",\"\", INDEX(referentes!$AN:$AR,MATCH(DATOS_MIP_SS!X95,referentes!$AO:$AO,0),1))","v":""},"",{"$f":"IF(AF95=\"\",\"\", INDEX(referentes!D:E,MATCH(DATOS_MIP_SS!AF95,referentes!$E:$E,0),1))","v":""},{"$f":"IF(AI95=\"\",\"\", INDEX(referentes!A:B,MATCH(DATOS_MIP_SS!AI95,referentes!$B:$B,0),1))","v":""},{"$f":"IF(AJ95=\"\",\"\", INDEX(referentes!G:H,MATCH(DATOS_MIP_SS!AJ95,referentes!$H:$H,0),1))","v":""},{"$f":"IF(AK95=\"\",\"\", INDEX(referentes!$AB$2:$AC$10,MATCH(DATOS_MIP_SS!AK95,referentes!$AC$2:$AC$10,0),1))","v":""},{"$f":"IF(AL95=\"\",\"\", INDEX(referentes!$AH:$AI,MATCH(DATOS_MIP_SS!AL95,referentes!$AI:$AI,0),1))","v":""},{"$f":"IF(AP95=\"\",\"\", INDEX(referentes!$AE$2:$AF$10,MATCH(DATOS_MIP_SS!AP95,referentes!$AF$2:$AF$10,0),1))","v":""},{"$f":"IF(AN95=\"\",\"\", INDEX(referentes!$AK$2:$AL$10,MATCH(DATOS_MIP_SS!AN95,referentes!$AL$2:$AL$10,0),1))","v":""},{"$f":"IF(AQ95=\"\",\"\", INDEX(referentes!J:K,MATCH(DATOS_MIP_SS!AQ95,referentes!$K:$K,0),1))","v":""},{"$f":"IF(AR95=\"\",\"\", INDEX(referentes!$M$2:$N$20,MATCH(DATOS_MIP_SS!AR95,referentes!$N$2:$N$20,0),1))","v":""},{"$f":"IF(AY95=\"\",\"\", INDEX('otras referencias'!O:P,MATCH(AY95,'otras referencias'!$O:$O,0),2))","v":""},null,null,null,null,null,{"$f":"IF(X95<>\"\",INDEX(referentes!$AN:$AR,MATCH(DATOS_MIP_SS!X95,referentes!$AO:$AO,0),5),\"\")","v":""}]
[null,null,null,"",{"$f":"IF(J96=\"\",\"\",CONCATENATE(AD96,DIGITADOR!$B$2,DIGITADOR!$M$1,J96))","v":""},{"$f":"IF(J96=\"\",\"\",CONCATENATE(DIGITADOR!$B$2,AD96,DIGITADOR!$M$1,J96,ROW()))","v":""},null,null,null,{"$f":"IF(X96=\"\",\"\", INDEX(referentes!$AN:$AR,MATCH(DATOS_MIP_SS!X96,referentes!$AO:$AO,0),1))","v":""},"",{"$f":"IF(AF96=\"\",\"\", INDEX(referentes!D:E,MATCH(DATOS_MIP_SS!AF96,referentes!$E:$E,0),1))","v":""},{"$f":"IF(AI96=\"\",\"\", INDEX(referentes!A:B,MATCH(DATOS_MIP_SS!AI96,referentes!$B:$B,0),1))","v":""},{"$f":"IF(AJ96=\"\",\"\", INDEX(referentes!G:H,MATCH(DATOS_MIP_SS!AJ96,referentes!$H:$H,0),1))","v":""},{"$f":"IF(AK96=\"\",\"\", INDEX(referentes!$AB$2:$AC$10,MATCH(DATOS_MIP_SS!AK96,referentes!$AC$2:$AC$10,0),1))","v":""},{"$f":"IF(AL96=\"\",\"\", INDEX(referentes!$AH:$AI,MATCH(DATOS_MIP_SS!AL96,referentes!$AI:$AI,0),1))","v":""},{"$f":"IF(AP96=\"\",\"\", INDEX(referentes!$AE$2:$AF$10,MATCH(DATOS_MIP_SS!AP96,referentes!$AF$2:$AF$10,0),1))","v":""},{"$f":"IF(AN96=\"\",\"\", INDEX(referentes!$AK$2:$AL$10,MATCH(DATOS_MIP_SS!AN96,referentes!$AL$2:$AL$10,0),1))","v":""},{"$f":"IF(AQ96=\"\",\"\", INDEX(referentes!J:K,MATCH(DATOS_MIP_SS!AQ96,referentes!$K:$K,0),1))","v":""},{"$f":"IF(AR96=\"\",\"\", INDEX(referentes!$M$2:$N$20,MATCH(DATOS_MIP_SS!AR96,referentes!$N$2:$N$20,0),1))","v":""},{"$f":"IF(AY96=\"\",\"\", INDEX('otras referencias'!O:P,MATCH(AY96,'otras referencias'!$O:$O,0),2))","v":""},null,null,null,null,null,{"$f":"IF(X96<>\"\",INDEX(referentes!$AN:$AR,MATCH(DATOS_MIP_SS!X96,referentes!$AO:$AO,0),5),\"\")","v":""}]
[null,null,null,"",{"$f":"IF(J97=\"\",\"\",CONCATENATE(AD97,DIGITADOR!$B$2,DIGITADOR!$M$1,J97))","v":""},{"$f":"IF(J97=\"\",\"\",CONCATENATE(DIGITADOR!$B$2,AD97,DIGITADOR!$M$1,J97,ROW()))","v":""},null,null,null,{"$f":"IF(X97=\"\",\"\", INDEX(referentes!$AN:$AR,MATCH(DATOS_MIP_SS!X97,referentes!$AO:$AO,0),1))","v":""},"",{"$f":"IF(AF97=\"\",\"\", INDEX(referentes!D:E,MATCH(DATOS_MIP_SS!AF97,referentes!$E:$E,0),1))","v":""},{"$f":"IF(AI97=\"\",\"\", INDEX(referentes!A:B,MATCH(DATOS_MIP_SS!AI97,referentes!$B:$B,0),1))","v":""},{"$f":"IF(AJ97=\"\",\"\", INDEX(referentes!G:H,MATCH(DATOS_MIP_SS!AJ97,referentes!$H:$H,0),1))","v":""},{"$f":"IF(AK97=\"\",\"\", INDEX(referentes!$AB$2:$AC$10,MATCH(DATOS_MIP_SS!AK97,referentes!$AC$2:$AC$10,0),1))","v":""},{"$f":"IF(AL97=\"\",\"\", INDEX(referentes!$AH:$AI,MATCH(DATOS_MIP_SS!AL97,referentes!$AI:$AI,0),1))","v":""},{"$f":"IF(AP97=\"\",\"\", INDEX(referentes!$AE$2:$AF$10,MATCH(DATOS_MIP_SS!AP97,referentes!$AF$2:$AF$10,0),1))","v":""},{"$f":"IF(AN97=\"\",\"\", INDEX(referentes!$AK$2:$AL$10,MATCH(DATOS_MIP_SS!AN97,referentes!$AL$2:$AL$10,0),1))","v":""},{"$f":"IF(AQ97=\"\",\"\", INDEX(referentes!J:K,MATCH(DATOS_MIP_SS!AQ97,referentes!$K:$K,0),1))","v":""},{"$f":"IF(AR97=\"\",\"\", INDEX(referentes!$M$2:$N$20,MATCH(DATOS_MIP_SS!AR97,referentes!$N$2:$N$20,0),1))","v":""},{"$f":"IF(AY97=\"\",\"\", INDEX('otras referencias'!O:P,MATCH(AY97,'otras referencias'!$O:$O,0),2))","v":""},null,null,null,null,null,{"$f":"IF(X97<>\"\",INDEX(referentes!$AN:$AR,MATCH(DATOS_MIP_SS!X97,referentes!$AO:$AO,0),5),\"\")","v":""}]
[null,null,null,"",{"$f":"IF(J98=\"\",\"\",CONCATENATE(AD98,DIGITADOR!$B$2,DIGITADOR!$M$1,J98))","v":""},{"$f":"IF(J98=\"\",\"\",CONCATENATE(DIGITADOR!$B$2,AD98,DIGITADOR!$M$1,J98,ROW()))","v":""},null,null,null,{"$f":"IF(X98=\"\",\"\", INDEX(referentes!$AN:$AR,MATCH(DATOS_MIP_SS!X98,referentes!$AO:$AO,0),1))","v":""},"",{"$f":"IF(AF98=\"\",\"\", INDEX(referentes!D:E,MATCH(DATOS_MIP_SS!AF98,referentes!$E:$E,0),1))","v":""},{"$f":"IF(AI98=\"\",\"\", INDEX(referentes!A:B,MATCH(DATOS_MIP_SS!AI98,referentes!$B:$B,0),1))","v":""},{"$f":"IF(AJ98=\"\",\"\", INDEX(referentes!G:H,MATCH(DATOS_MIP_SS!AJ98,referentes!$H:$H,0),1))","v":""},{"$f":"IF(AK98=\"\",\"\", INDEX(referentes!$AB$2:$AC$10,MATCH(DATOS_MIP_SS!AK98,referentes!$AC$2:$AC$10,0),1))","v":""},{"$f":"IF(AL98=\"\",\"\", INDEX(referentes!$AH:$AI,MATCH(DATOS_MIP_SS!AL98,referentes!$AI:$AI,0),1))","v":""},{"$f":"IF(AP98=\"\",\"\", INDEX(referentes!$AE$2:$AF$10,MATCH(DATOS_MIP_SS!AP98,referentes!$AF$2:$AF$10,0),1))","v":""},{"$f":"IF(AN98=\"\",\"\", INDEX(referentes!$AK$2:$AL$10,MATCH(DATOS_MIP_SS!AN98,referentes!$AL$2:$AL$10,0),1))","v":""},{"$f":"IF(AQ98=\"\",\"\", INDEX(referentes!J:K,MATCH(DATOS_MIP_SS!AQ98,referentes!$K:$K,0),1))","v":""},{"$f":"IF(AR98=\"\",\"\", INDEX(referentes!$M$2:$N$20,MATCH(DATOS_MIP_SS!AR98,referentes!$N$2:$N$20,0),1))","v":""},{"$f":"IF(AY98=\"\",\"\", INDEX('otras referencias'!O:P,MATCH(AY98,'otras referencias'!$O:$O,0),2))","v":""},null,null,null,null,null,{"$f":"IF(X98<>\"\",INDEX(referentes!$AN:$AR,MATCH(DATOS_MIP_SS!X98,referentes!$AO:$AO,0),5),\"\")","v":""}]
[null,null,null,"",{"$f":"IF(J99=\"\",\"\",CONCATENATE(AD99,DIGITADOR!$B$2,DIGITADOR!$M$1,J99))","v":""},{"$f":"IF(J99=\"\",\"\",CONCATENATE(DIGITADOR!$B$2,AD99,DIGITADOR!$M$1,J99,ROW()))","v":""},null,null,null,{"$f":"IF(X99=\"\",\"\", INDEX(referentes!$AN:$AR,MATCH(DATOS_MIP_SS!X99,referentes!$AO:$AO,0),1))","v":""},"",{"$f":"IF(AF99=\"\",\"\", INDEX(referentes!D:E,MATCH(DATOS_MIP_SS!AF99,referentes!$E:$E,0),1))","v":""},{"$f":"IF(AI99=\"\",\"\", INDEX(referentes!A:B,MATCH(DATOS_MIP_SS!AI99,referentes!$B:$B,0),1))","v":""},{"$f":"IF(AJ99=\"\",\"\", INDEX(referentes!G:H,MATCH(DATOS_MIP_SS!AJ99,referentes!$H:$H,0),1))","v":""},{"$f":"IF(AK99=\"\",\"\", INDEX(referentes!$AB$2:$AC$10,MATCH(DATOS_MIP_SS!AK99,referentes!$AC$2:$AC$10,0),1))","v":""},{"$f":"IF(AL99=\"\",\"\", INDEX(referentes!$AH:$AI,MATCH(DATOS_MIP_SS!AL99,referentes!$AI:$AI,0),1))","v":""},{"$f":"IF(AP99=\"\",\"\", INDEX(referentes!$AE$2:$AF$10,MATCH(DATOS_MIP_SS!AP99,referentes!$AF$2:$AF$10,0),1))","v":""},{"$f":"IF(AN99=\"\",\"\", INDEX(referentes!$AK$2:$AL$10,MATCH(DATOS_MIP_SS!AN99,referentes!$AL$2:$AL$10,0),1))","v":""},{"$f":"IF(AQ99=\"\",\"\", INDEX(referentes!J:K,MATCH(DATOS_MIP_SS!AQ99,referentes!$K:$K,0),1))","v":""},{"$f":"IF(AR99=\"\",\"\", INDEX(referentes!$M$2:$N$20,MATCH(DATOS_MIP_SS!AR99,referentes!$N$2:$N$20,0),1))","v":""},{"$f":"IF(AY99=\"\",\"\", INDEX('otras referencias'!O:P,MATCH(AY99,'otras referencias'!$O:$O,0),2))","v":""},null,null,null,null,null,{"$f":"IF(X99<>\"\",INDEX(referentes!$AN:$AR,MATCH(DATOS_MIP_SS!X99,referentes!$AO:$AO,0),5),\"\")","v":""}]
[null,null,null,"",{"$f":"IF(J100=\"\",\"\",CONCATENATE(AD100,DIGITADOR!$B$2,DIGITADOR!$M$1,J100))","v":""},{"$f":"IF(J100=\"\",\"\",CONCATENATE(DIGITADOR!$B$2,AD100,DIGITADOR!$M$1,J100,ROW()))","v":""},null,null,null,{"$f":"IF(X100=\"\",\"\", INDEX(referentes!$AN:$AR,MATCH(DATOS_MIP_SS!X100,referentes!$AO:$AO,0),1))","v":""},"",{"$f":"IF(AF100=\"\",\"\", INDEX(referentes!D:E,MATCH(DATOS_MIP_SS!AF100,referentes!$E:$E,0),1))","v":""},{"$f":"IF(AI100=\"\",\"\", INDEX(referentes!A:B,MATCH(DATOS_MIP_SS!AI100,referentes!$B:$B,0),1))","v":""},{"$f":"IF(AJ100=\"\",\"\", INDEX(referentes!G:H,MATCH(DATOS_MIP_SS!AJ100,referentes!$H:$H,0),1))","v":""},{"$f":"IF(AK100=\"\",\"\", INDEX(referentes!$AB$2:$AC$10,MATCH(DATOS_MIP_SS!AK100,referentes!$AC$2:$AC$10,0),1))","v":""},{"$f":"IF(AL100=\"\",\"\", INDEX(referentes!$AH:$AI,MATCH(DATOS_MIP_SS!AL100,referentes!$AI:$AI,0),1))","v":""},{"$f":"IF(AP100=\"\",\"\", INDEX(referentes!$AE$2:$AF$10,MATCH(DATOS_MIP_SS!AP100,referentes!$AF$2:$AF$10,0),1))","v":""},{"$f":"IF(AN100=\"\",\"\", INDEX(referentes!$AK$2:$AL$10,MATCH(DATOS_MIP_SS!AN100,referentes!$AL$2:$AL$10,0),1))","v":""},{"$f":"IF(AQ100=\"\",\"\", INDEX(referentes!J:K,MATCH(DATOS_MIP_SS!AQ100,referentes!$K:$K,0),1))","v":""},{"$f":"IF(AR100=\"\",\"\", INDEX(referentes!$M$2:$N$20,MATCH(DATOS_MIP_SS!AR100,referentes!$N$2:$N$20,0),1))","v":""},{"$f":"IF(AY100=\"\",\"\", INDEX('otras referencias'!O:P,MATCH(AY100,'otras referencias'!$O:$O,0),2))","v":""},null,null,null,null,null,{"$f":"IF(X100<>\"\",INDEX(referentes!$AN:$AR,MATCH(DATOS_MIP_SS!X100,referentes!$AO:$AO,0),5),\"\")","v":""}]
[null,null,null,"",{"$f":"IF(J101=\"\",\"\",CONCATENATE(AD101,DIGITADOR!$B$2,DIGITADOR!$M$1,J101))","v":""},{"$f":"IF(J101=\"\",\"\",CONCATENATE(DIGITADOR!$B$2,AD101,DIGITADOR!$M$1,J101,ROW()))","v":""},null,null,null,{"$f":"IF(X101=\"\",\"\", INDEX(referentes!$AN:$AR,MATCH(DATOS_MIP_SS!X101,referentes!$AO:$AO,0),1))","v":""},"",{"$f":"IF(AF101=\"\",\"\", INDEX(referentes!D:E,MATCH(DATOS_MIP_SS!AF101,referentes!$E:$E,0),1))","v":""},{"$f":"IF(AI101=\"\",\"\", INDEX(referentes!A:B,MATCH(DATOS_MIP_SS!AI101,referentes!$B:$B,0),1))","v":""},{"$f":"IF(AJ101=\"\",\"\", INDEX(referentes!G:H,MATCH(DATOS_MIP_SS!AJ101,referentes!$H:$H,0),1))","v":""},{"$f":"IF(AK101=\"\",\"\", INDEX(referentes!$AB$2:$AC$10,MATCH(DATOS_MIP_SS!AK101,referentes!$AC$2:$AC$10,0),1))","v":""},{"$f":"IF(AL101=\"\",\"\", INDEX(referentes!$AH:$AI,MATCH(DATOS_MIP_SS!AL101,referentes!$AI:$AI,0),1))","v":""},{"$f":"IF(AP101=\"\",\"\", INDEX(referentes!$AE$2:$AF$10,MATCH(DATOS_MIP_SS!AP101,referentes!$AF$2:$AF$10,0),1))","v":""},{"$f":"IF(AN101=\"\",\"\", INDEX(referentes!$AK$2:$AL$10,MATCH(DATOS_MIP_SS!AN101,referentes!$AL$2:$AL$10,0),1))","v":""},{"$f":"IF(AQ101=\"\",\"\", INDEX(referentes!J:K,MATCH(DATOS_MIP_SS!AQ101,referentes!$K:$K,0),1))","v":""},{"$f":"IF(AR101=\"\",\"\", INDEX(referentes!$M$2:$N$20,MATCH(DATOS_MIP_SS!AR101,referentes!$N$2:$N$20,0),1))","v":""},{"$f":"IF(AY101=\"\",\"\", INDEX('otras referencias'!O:P,MATCH(AY101,'otras referencias'!$O:$O,0),2))","v":""},null,null,null,null,null,{"$f":"IF(X101<>\"\",INDEX(referentes!$AN:$AR,MATCH(DATOS_MIP_SS!X101,referentes!$AO:$AO,0),5),\"\")","v":""}]
[null,null,null,"",{"$f":"IF(J102=\"\",\"\",CONCATENATE(AD102,DIGITADOR!$B$2,DIGITADOR!$M$1,J102))","v":""},{"$f":"IF(J102=\"\",\"\",CONCATENATE(DIGITADOR!$B$2,AD102,DIGITADOR!$M$1,J102,ROW()))","v":""},null,null,null,{"$f":"IF(X102=\"\",\"\", INDEX(referentes!$AN:$AR,MATCH(DATOS_MIP_SS!X102,referentes!$AO:$AO,0),1))","v":""},"",{"$f":"IF(AF102=\"\",\"\", INDEX(referentes!D:E,MATCH(DATOS_MIP_SS!AF102,referentes!$E:$E,0),1))","v":""},{"$f":"IF(AI102=\"\",\"\", INDEX(referentes!A:B,MATCH(DATOS_MIP_SS!AI102,referentes!$B:$B,0),1))","v":""},{"$f":"IF(AJ102=\"\",\"\", INDEX(referentes!G:H,MATCH(DATOS_MIP_SS!AJ102,referentes!$H:$H,0),1))","v":""},{"$f":"IF(AK102=\"\",\"\", INDEX(referentes!$AB$2:$AC$10,MATCH(DATOS_MIP_SS!AK102,referentes!$AC$2:$AC$10,0),1))","v":""},{"$f":"IF(AL102=\"\",\"\", INDEX(referentes!$AH:$AI,MATCH(DATOS_MIP_SS!AL102,referentes!$AI:$AI,0),1))","v":""},{"$f":"IF(AP102=\"\",\"\", INDEX(referentes!$AE$2:$AF$10,MATCH(DATOS_MIP_SS!AP102,referentes!$AF$2:$AF$10,0),1))","v":""},{"$f":"IF(AN102=\"\",\"\", INDEX(referentes!$AK$2:$AL$10,MATCH(DATOS_MIP_SS!AN102,referentes!$AL$2:$AL$10,0),1))","v":""},{"$f":"IF(AQ102=\"\",\"\", INDEX(referentes!J:K,MATCH(DATOS_MIP_SS!AQ102,referentes!$K:$K,0),1))","v":""},{"$f":"IF(AR102=\"\",\"\", INDEX(referentes!$M$2:$N$20,MATCH(DATOS_MIP_SS!AR102,referentes!$N$2:$N$20,0),1))","v":""},{"$f":"IF(AY102=\"\",\"\", INDEX('otras referencias'!O:P,MATCH(AY102,'otras referencias'!$O:$O,0),2))","v":""},null,null,null,null,null,{"$f":"IF(X102<>\"\",INDEX(referentes!$AN:$AR,MATCH(DATOS_MIP_SS!X102,referentes!$AO:$AO,0),5),\"\")","v":""}]
[null,null,null,"",{"$f":"IF(J103=\"\",\"\",CONCATENATE(AD103,DIGITADOR!$B$2,DIGITADOR!$M$1,J103))","v":""},{"$f":"IF(J103=\"\",\"\",CONCATENATE(DIGITADOR!$B$2,AD103,DIGITADOR!$M$1,J103,ROW()))","v":""},null,null,null,{"$f":"IF(X103=\"\",\"\", INDEX(referentes!$AN:$AR,MATCH(DATOS_MIP_SS!X103,referentes!$AO:$AO,0),1))","v":""},"",{"$f":"IF(AF103=\"\",\"\", INDEX(referentes!D:E,MATCH(DATOS_MIP_SS!AF103,referentes!$E:$E,0),1))","v":""},{"$f":"IF(AI103=\"\",\"\", INDEX(referentes!A:B,MATCH(DATOS_MIP_SS!AI103,referentes!$B:$B,0),1))","v":""},{"$f":"IF(AJ103=\"\",\"\", INDEX(referentes!G:H,MATCH(DATOS_MIP_SS!AJ103,referentes!$H:$H,0),1))","v":""},{"$f":"IF(AK103=\"\",\"\", INDEX(referentes!$AB$2:$AC$10,MATCH(DATOS_MIP_SS!AK103,referentes!$AC$2:$AC$10,0),1))","v":""},{"$f":"IF(AL103=\"\",\"\", INDEX(referentes!$AH:$AI,MATCH(DATOS_MIP_SS!AL103,referentes!$AI:$AI,0),1))","v":""},{"$f":"IF(AP103=\"\",\"\", INDEX(referentes!$AE$2:$AF$10,MATCH(DATOS_MIP_SS!AP103,referentes!$AF$2:$AF$10,0),1))","v":""},{"$f":"IF(AN103=\"\",\"\", INDEX(referentes!$AK$2:$AL$10,MATCH(DATOS_MIP_SS!AN103,referentes!$AL$2:$AL$10,0),1))","v":""},{"$f":"IF(AQ103=\"\",\"\", INDEX(referentes!J:K,MATCH(DATOS_MIP_SS!AQ103,referentes!$K:$K,0),1))","v":""},{"$f":"IF(AR103=\"\",\"\", INDEX(referentes!$M$2:$N$20,MATCH(DATOS_MIP_SS!AR103,referentes!$N$2:$N$20,0),1))","v":""},{"$f":"IF(AY103=\"\",\"\", INDEX('otras referencias'!O:P,MATCH(AY103,'otras referencias'!$O:$O,0),2))","v":""},null,null,null,null,null,{"$f":"IF(X103<>\"\",INDEX(referentes!$AN:$AR,MATCH(DATOS_MIP_SS!X103,referentes!$AO:$AO,0),5),\"\")","v":""}]
[null,null,null,"",{"$f":"IF(J104=\"\",\"\",CONCATENATE(AD104,DIGITADOR!$B$2,DIGITADOR!$M$1,J104))","v":""},{"$f":"IF(J104=\"\",\"\",CONCATENATE(DIGITADOR!$B$2,AD104,DIGITADOR!$M$1,J104,ROW()))","v":""},null,null,null,{"$f":"IF(X104=\"\",\"\", INDEX(referentes!$AN:$AR,MATCH(DATOS_MIP_SS!X104,referentes!$AO:$AO,0),1))","v":""},"",{"$f":"IF(AF104=\"\",\"\", INDEX(referentes!D:E,MATCH(DATOS_MIP_SS!AF104,referentes!$E:$E,0),1))","v":""},{"$f":"IF(AI104=\"\",\"\", INDEX(referentes!A:B,MATCH(DATOS_MIP_SS!AI104,referentes!$B:$B,0),1))","v":""},{"$f":"IF(AJ104=\"\",\"\", INDEX(referentes!G:H,MATCH(DATOS_MIP_SS!AJ104,referentes!$H:$H,0),1))","v":""},{"$f":"IF(AK104=\"\",\"\", INDEX(referentes!$AB$2:$AC$10,MATCH(DATOS_MIP_SS!AK104,referentes!$AC$2:$AC$10,0),1))","v":""},{"$f":"IF(AL104=\"\",\"\", INDEX(referentes!$AH:$AI,MATCH(DATOS_MIP_SS!AL104,referentes!$AI:$AI,0),1))","v":""},{"$f":"IF(AP104=\"\",\"\", INDEX(referentes!$AE$2:$AF$10,MATCH(DATOS_MIP_SS!AP104,referentes!$AF$2:$AF$10,0),1))","v":""},{"$f":"IF(AN104=\"\",\"\", INDEX(referentes!$AK$2:$AL$10,MATCH(DATOS_MIP_SS!AN104,referentes!$AL$2:$AL$10,0),1))","v":""},{"$f":"IF(AQ104=\"\",\"\", INDEX(referentes!J:K,MATCH(DATOS_MIP_SS!AQ104,referentes!$K:$K,0),1))","v":""},{"$f":"IF(AR104=\"\",\"\", INDEX(referentes!$M$2:$N$20,MATCH(DATOS_MIP_SS!AR104,referentes!$N$2:$N$20,0),1))","v":""},{"$f":"IF(AY104=\"\",\"\", INDEX('otras referencias'!O:P,MATCH(AY104,'otras referencias'!$O:$O,0),2))","v":""},null,null,null,null,null,{"$f":"IF(X104<>\"\",INDEX(referentes!$AN:$AR,MATCH(DATOS_MIP_SS!X104,referentes!$AO:$AO,0),5),\"\")","v":""}]
[null,null,null,"",{"$f":"IF(J105=\"\",\"\",CONCATENATE(AD105,DIGITADOR!$B$2,DIGITADOR!$M$1,J105))","v":""},{"$f":"IF(J105=\"\",\"\",CONCATENATE(DIGITADOR!$B$2,AD105,DIGITADOR!$M$1,J105,ROW()))","v":""},null,null,null,{"$f":"IF(X105=\"\",\"\", INDEX(referentes!$AN:$AR,MATCH(DATOS_MIP_SS!X105,referentes!$AO:$AO,0),1))","v":""},"",{"$f":"IF(AF105=\"\",\"\", INDEX(referentes!D:E,MATCH(DATOS_MIP_SS!AF105,referentes!$E:$E,0),1))","v":""},{"$f":"IF(AI105=\"\",\"\", INDEX(referentes!A:B,MATCH(DATOS_MIP_SS!AI105,referentes!$B:$B,0),1))","v":""},{"$f":"IF(AJ105=\"\",\"\", INDEX(referentes!G:H,MATCH(DATOS_MIP_SS!AJ105,referentes!$H:$H,0),1))","v":""},{"$f":"IF(AK105=\"\",\"\", INDEX(referentes!$AB$2:$AC$10,MATCH(DATOS_MIP_SS!AK105,referentes!$AC$2:$AC$10,0),1))","v":""},{"$f":"IF(AL105=\"\",\"\", INDEX(referentes!$AH:$AI,MATCH(DATOS_MIP_SS!AL105,referentes!$AI:$AI,0),1))","v":""},{"$f":"IF(AP105=\"\",\"\", INDEX(referentes!$AE$2:$AF$10,MATCH(DATOS_MIP_SS!AP105,referentes!$AF$2:$AF$10,0),1))","v":""},{"$f":"IF(AN105=\"\",\"\", INDEX(referentes!$AK$2:$AL$10,MATCH(DATOS_MIP_SS!AN105,referentes!$AL$2:$AL$10,0),1))","v":""},{"$f":"IF(AQ105=\"\",\"\", INDEX(referentes!J:K,MATCH(DATOS_MIP_SS!AQ105,referentes!$K:$K,0),1))","v":""},{"$f":"IF(AR105=\"\",\"\", INDEX(referentes!$M$2:$N$20,MATCH(DATOS_MIP_SS!AR105,referentes!$N$2:$N$20,0),1))","v":""},{"$f":"IF(AY105=\"\",\"\", INDEX('otras referencias'!O:P,MATCH(AY105,'otras referencias'!$O:$O,0),2))","v":""},null,null,null,null,null,{"$f":"IF(X105<>\"\",INDEX(referentes!$AN:$AR,MATCH(DATOS_MIP_SS!X105,referentes!$AO:$AO,0),5),\"\")","v":""}]
[null,null,null,"",{"$f":"IF(J106=\"\",\"\",CONCATENATE(AD106,DIGITADOR!$B$2,DIGITADOR!$M$1,J106))","v":""},{"$f":"IF(J106=\"\",\"\",CONCATENATE(DIGITADOR!$B$2,AD106,DIGITADOR!$M$1,J106,ROW()))","v":""},null,null,null,{"$f":"IF(X106=\"\",\"\", INDEX(referentes!$AN:$AR,MATCH(DATOS_MIP_SS!X106,referentes!$AO:$AO,0),1))","v":""},"",{"$f":"IF(AF106=\"\",\"\", INDEX(referentes!D:E,MATCH(DATOS_MIP_SS!AF106,referentes!$E:$E,0),1))","v":""},{"$f":"IF(AI106=\"\",\"\", INDEX(referentes!A:B,MATCH(DATOS_MIP_SS!AI106,referentes!$B:$B,0),1))","v":""},{"$f":"IF(AJ106=\"\",\"\", INDEX(referentes!G:H,MATCH(DATOS_MIP_SS!AJ106,referentes!$H:$H,0),1))","v":""},{"$f":"IF(AK106=\"\",\"\", INDEX(referentes!$AB$2:$AC$10,MATCH(DATOS_MIP_SS!AK106,referentes!$AC$2:$AC$10,0),1))","v":""},{"$f":"IF(AL106=\"\",\"\", INDEX(referentes!$AH:$AI,MATCH(DATOS_MIP_SS!AL106,referentes!$AI:$AI,0),1))","v":""},{"$f":"IF(AP106=\"\",\"\", INDEX(referentes!$AE$2:$AF$10,MATCH(DATOS_MIP_SS!AP106,referentes!$AF$2:$AF$10,0),1))","v":""},{"$f":"IF(AN106=\"\",\"\", INDEX(referentes!$AK$2:$AL$10,MATCH(DATOS_MIP_SS!AN106,referentes!$AL$2:$AL$10,0),1))","v":""},{"$f":"IF(AQ106=\"\",\"\", INDEX(referentes!J:K,MATCH(DATOS_MIP_SS!AQ106,referentes!$K:$K,0),1))","v":""},{"$f":"IF(AR106=\"\",\"\", INDEX(referentes!$M$2:$N$20,MATCH(DATOS_MIP_SS!AR106,referentes!$N$2:$N$20,0),1))","v":""},{"$f":"IF(AY106=\"\",\"\", INDEX('otras referencias'!O:P,MATCH(AY106,'otras referencias'!$O:$O,0),2))","v":""},null,null,null,null,null,{"$f":"IF(X106<>\"\",INDEX(referentes!$AN:$AR,MATCH(DATOS_MIP_SS!X106,referentes!$AO:$AO,0),5),\"\")","v":""}]
[null,null,null,"",{"$f":"IF(J107=\"\",\"\",CONCATENATE(AD107,DIGITADOR!$B$2,DIGITADOR!$M$1,J107))","v":""},{"$f":"IF(J107=\"\",\"\",CONCATENATE(DIGITADOR!$B$2,AD107,DIGITADOR!$M$1,J107,ROW()))","v":""},null,null,null,{"$f":"IF(X107=\"\",\"\", INDEX(referentes!$AN:$AR,MATCH(DATOS_MIP_SS!X107,referentes!$AO:$AO,0),1))","v":""},"",{"$f":"IF(AF107=\"\",\"\", INDEX(referentes!D:E,MATCH(DATOS_MIP_SS!AF107,referentes!$E:$E,0),1))","v":""},{"$f":"IF(AI107=\"\",\"\", INDEX(referentes!A:B,MATCH(DATOS_MIP_SS!AI107,referentes!$B:$B,0),1))","v":""},{"$f":"IF(AJ107=\"\",\"\", INDEX(referentes!G:H,MATCH(DATOS_MIP_SS!AJ107,referentes!$H:$H,0),1))","v":""},{"$f":"IF(AK107=\"\",\"\", INDEX(referentes!$AB$2:$AC$10,MATCH(DATOS_MIP_SS!AK107,referentes!$AC$2:$AC$10,0),1))","v":""},{"$f":"IF(AL107=\"\",\"\", INDEX(referentes!$AH:$AI,MATCH(DATOS_MIP_SS!AL107,referentes!$AI:$AI,0),1))","v":""},{"$f":"IF(AP107=\"\",\"\", INDEX(referentes!$AE$2:$AF$10,MATCH(DATOS_MIP_SS!AP107,referentes!$AF$2:$AF$10,0),1))","v":""},{"$f":"IF(AN107=\"\",\"\", INDEX(referentes!$AK$2:$AL$10,MATCH(DATOS_MIP_SS!AN107,referentes!$AL$2:$AL$10,0),1))","v":""},{"$f":"IF(AQ107=\"\",\"\", INDEX(referentes!J:K,MATCH(DATOS_MIP_SS!AQ107,referentes!$K:$K,0),1))","v":""},{"$f":"IF(AR107=\"\",\"\", INDEX(referentes!$M$2:$N$20,MATCH(DATOS_MIP_SS!AR107,referentes!$N$2:$N$20,0),1))","v":""},{"$f":"IF(AY107=\"\",\"\", INDEX('otras referencias'!O:P,MATCH(AY107,'otras referencias'!$O:$O,0),2))","v":""},null,null,null,null,null,{"$f":"IF(X107<>\"\",INDEX(referentes!$AN:$AR,MATCH(DATOS_MIP_SS!X107,referentes!$AO:$AO,0),5),\"\")","v":""}]
[null,null,null,"",{"$f":"IF(J108=\"\",\"\",CONCATENATE(AD108,DIGITADOR!$B$2,DIGITADOR!$M$1,J108))","v":""},{"$f":"IF(J108=\"\",\"\",CONCATENATE(DIGITADOR!$B$2,AD108,DIGITADOR!$M$1,J108,ROW()))","v":""},null,null,null,{"$f":"IF(X108=\"\",\"\", INDEX(referentes!$AN:$AR,MATCH(DATOS_MIP_SS!X108,referentes!$AO:$AO,0),1))","v":""},"",{"$f":"IF(AF108=\"\",\"\", INDEX(referentes!D:E,MATCH(DATOS_MIP_SS!AF108,referentes!$E:$E,0),1))","v":""},{"$f":"IF(AI108=\"\",\"\", INDEX(referentes!A:B,MATCH(DATOS_MIP_SS!AI108,referentes!$B:$B,0),1))","v":""},{"$f":"IF(AJ108=\"\",\"\", INDEX(referentes!G:H,MATCH(DATOS_MIP_SS!AJ108,referentes!$H:$H,0),1))","v":""},{"$f":"IF(AK108=\"\",\"\", INDEX(referentes!$AB$2:$AC$10,MATCH(DATOS_MIP_SS!AK108,referentes!$AC$2:$AC$10,0),1))","v":""},{"$f":"IF(AL108=\"\",\"\", INDEX(referentes!$AH:$AI,MATCH(DATOS_MIP_SS!AL108,referentes!$AI:$AI,0),1))","v":""},{"$f":"IF(AP108=\"\",\"\", INDEX(referentes!$AE$2:$AF$10,MATCH(DATOS_MIP_SS!AP108,referentes!$AF$2:$AF$10,0),1))","v":""},{"$f":"IF(AN108=\"\",\"\", INDEX(referentes!$AK$2:$AL$10,MATCH(DATOS_MIP_SS!AN108,referentes!$AL$2:$AL$10,0),1))","v":""},{"$f":"IF(AQ108=\"\",\"\", INDEX(referentes!J:K,MATCH(DATOS_MIP_SS!AQ108,referentes!$K:$K,0),1))","v":""},{"$f":"IF(AR108=\"\",\"\", INDEX(referentes!$M$2:$N$20,MATCH(DATOS_MIP_SS!AR108,referentes!$N$2:$N$20,0),1))","v":""},{"$f":"IF(AY108=\"\",\"\", INDEX('otras referencias'!O:P,MATCH(AY108,'otras referencias'!$O:$O,0),2))","v":""},null,null,null,null,null,{"$f":"IF(X108<>\"\",INDEX(referentes!$AN:$AR,MATCH(DATOS_MIP_SS!X108,referentes!$AO:$AO,0),5),\"\")","v":""}]
[null,null,null,"",{"$f":"IF(J109=\"\",\"\",CONCATENATE(AD109,DIGITADOR!$B$2,DIGITADOR!$M$1,J109))","v":""},{"$f":"IF(J109=\"\",\"\",CONCATENATE(DIGITADOR!$B$2,AD109,DIGITADOR!$M$1,J109,ROW()))","v":""},null,null,null,{"$f":"IF(X109=\"\",\"\", INDEX(referentes!$AN:$AR,MATCH(DATOS_MIP_SS!X109,referentes!$AO:$AO,0),1))","v":""},"",{"$f":"IF(AF109=\"\",\"\", INDEX(referentes!D:E,MATCH(DATOS_MIP_SS!AF109,referentes!$E:$E,0),1))","v":""},{"$f":"IF(AI109=\"\",\"\", INDEX(referentes!A:B,MATCH(DATOS_MIP_SS!AI109,referentes!$B:$B,0),1))","v":""},{"$f":"IF(AJ109=\"\",\"\", INDEX(referentes!G:H,MATCH(DATOS_MIP_SS!AJ109,referentes!$H:$H,0),1))","v":""},{"$f":"IF(AK109=\"\",\"\", INDEX(referentes!$AB$2:$AC$10,MATCH(DATOS_MIP_SS!AK109,referentes!$AC$2:$AC$10,0),1))","v":""},{"$f":"IF(AL109=\"\",\"\", INDEX(referentes!$AH:$AI,MATCH(DATOS_MIP_SS!AL109,referentes!$AI:$AI,0),1))","v":""},{"$f":"IF(AP109=\"\",\"\", INDEX(referentes!$AE$2:$AF$10,MATCH(DATOS_MIP_SS!AP109,referentes!$AF$2:$AF$10,0),1))","v":""},{"$f":"IF(AN109=\"\",\"\", INDEX(referentes!$AK$2:$AL$10,MATCH(DATOS_MIP_SS!AN109,referentes!$AL$2:$AL$10,0),1))","v":""},{"$f":"IF(AQ109=\"\",\"\", INDEX(referentes!J:K,MATCH(DATOS_MIP_SS!AQ109,referentes!$K:$K,0),1))","v":""},{"$f":"IF(AR109=\"\",\"\", INDEX(referentes!$M$2:$N$20,MATCH(DATOS_MIP_SS!AR109,referentes!$N$2:$N$20,0),1))","v":""},{"$f":"IF(AY109=\"\",\"\", INDEX('otras referencias'!O:P,MATCH(AY109,'otras referencias'!$O:$O,0),2))","v":""},null,null,null,null,null,{"$f":"IF(X109<>\"\",INDEX(referentes!$AN:$AR,MATCH(DATOS_MIP_SS!X109,referentes!$AO:$AO,0),5),\"\")","v":""}]
[null,null,null,"",{"$f":"IF(J110=\"\",\"\",CONCATENATE(AD110,DIGITADOR!$B$2,DIGITADOR!$M$1,J110))","v":""},{"$f":"IF(J110=\"\",\"\",CONCATENATE(DIGITADOR!$B$2,AD110,DIGITADOR!$M$1,J110,ROW()))","v":""},null,null,null,{"$f":"IF(X110=\"\",\"\", INDEX(referentes!$AN:$AR,MATCH(DATOS_MIP_SS!X110,referentes!$AO:$AO,0),1))","v":""},"",{"$f":"IF(AF110=\"\",\"\", INDEX(referentes!D:E,MATCH(DATOS_MIP_SS!AF110,referentes!$E:$E,0),1))","v":""},{"$f":"IF(AI110=\"\",\"\", INDEX(referentes!A:B,MATCH(DATOS_MIP_SS!AI110,referentes!$B:$B,0),1))","v":""},{"$f":"IF(AJ110=\"\",\"\", INDEX(referentes!G:H,MATCH(DATOS_MIP_SS!AJ110,referentes!$H:$H,0),1))","v":""},{"$f":"IF(AK110=\"\",\"\", INDEX(referentes!$AB$2:$AC$10,MATCH(DATOS_MIP_SS!AK110,referentes!$AC$2:$AC$10,0),1))","v":""},{"$f":"IF(AL110=\"\",\"\", INDEX(referentes!$AH:$AI,MATCH(DATOS_MIP_SS!AL110,referentes!$AI:$AI,0),1))","v":""},{"$f":"IF(AP110=\"\",\"\", INDEX(referentes!$AE$2:$AF$10,MATCH(DATOS_MIP_SS!AP110,referentes!$AF$2:$AF$10,0),1))","v":""},{"$f":"IF(AN110=\"\",\"\", INDEX(referentes!$AK$2:$AL$10,MATCH(DATOS_MIP_SS!AN110,referentes!$AL$2:$AL$10,0),1))","v":""},{"$f":"IF(AQ110=\"\",\"\", INDEX(referentes!J:K,MATCH(DATOS_MIP_SS!AQ110,referentes!$K:$K,0),1))","v":""},{"$f":"IF(AR110=\"\",\"\", INDEX(referentes!$M$2:$N$20,MATCH(DATOS_MIP_SS!AR110,referentes!$N$2:$N$20,0),1))","v":""},{"$f":"IF(AY110=\"\",\"\", INDEX('otras referencias'!O:P,MATCH(AY110,'otras referencias'!$O:$O,0),2))","v":""},null,null,null,null,null,{"$f":"IF(X110<>\"\",INDEX(referentes!$AN:$AR,MATCH(DATOS_MIP_SS!X110,referentes!$AO:$AO,0),5),\"\")","v":""}]
[null,null,null,"",{"$f":"IF(J111=\"\",\"\",CONCATENATE(AD111,DIGITADOR!$B$2,DIGITADOR!$M$1,J111))","v":""},{"$f":"IF(J111=\"\",\"\",CONCATENATE(DIGITADOR!$B$2,AD111,DIGITADOR!$M$1,J111,ROW()))","v":""},null,null,null,{"$f":"IF(X111=\"\",\"\", INDEX(referentes!$AN:$AR,MATCH(DATOS_MIP_SS!X111,referentes!$AO:$AO,0),1))","v":""},"",{"$f":"IF(AF111=\"\",\"\", INDEX(referentes!D:E,MATCH(DATOS_MIP_SS!AF111,referentes!$E:$E,0),1))","v":""},{"$f":"IF(AI111=\"\",\"\", INDEX(referentes!A:B,MATCH(DATOS_MIP_SS!AI111,referentes!$B:$B,0),1))","v":""},{"$f":"IF(AJ111=\"\",\"\", INDEX(referentes!G:H,MATCH(DATOS_MIP_SS!AJ111,referentes!$H:$H,0),1))","v":""},{"$f":"IF(AK111=\"\",\"\", INDEX(referentes!$AB$2:$AC$10,MATCH(DATOS_MIP_SS!AK111,referentes!$AC$2:$AC$10,0),1))","v":""},{"$f":"IF(AL111=\"\",\"\", INDEX(referentes!$AH:$AI,MATCH(DATOS_MIP_SS!AL111,referentes!$AI:$AI,0),1))","v":""},{"$f":"IF(AP111=\"\",\"\", INDEX(referentes!$AE$2:$AF$10,MATCH(DATOS_MIP_SS!AP111,referentes!$AF$2:$AF$10,0),1))","v":""},{"$f":"IF(AN111=\"\",\"\", INDEX(referentes!$AK$2:$AL$10,MATCH(DATOS_MIP_SS!AN111,referentes!$AL$2:$AL$10,0),1))","v":""},{"$f":"IF(AQ111=\"\",\"\", INDEX(referentes!J:K,MATCH(DATOS_MIP_SS!AQ111,referentes!$K:$K,0),1))","v":""},{"$f":"IF(AR111=\"\",\"\", INDEX(referentes!$M$2:$N$20,MATCH(DATOS_MIP_SS!AR111,referentes!$N$2:$N$20,0),1))","v":""},{"$f":"IF(AY111=\"\",\"\", INDEX('otras referencias'!O:P,MATCH(AY111,'otras referencias'!$O:$O,0),2))","v":""},null,null,null,null,null,{"$f":"IF(X111<>\"\",INDEX(referentes!$AN:$AR,MATCH(DATOS_MIP_SS!X111,referentes!$AO:$AO,0),5),\"\")","v":""}]
[null,null,null,"",{"$f":"IF(J112=\"\",\"\",CONCATENATE(AD112,DIGITADOR!$B$2,DIGITADOR!$M$1,J112))","v":""},{"$f":"IF(J112=\"\",\"\",CONCATENATE(DIGITADOR!$B$2,AD112,DIGITADOR!$M$1,J112,ROW()))","v":""},null,null,null,{"$f":"IF(X112=\"\",\"\", INDEX(referentes!$AN:$AR,MATCH(DATOS_MIP_SS!X112,referentes!$AO:$AO,0),1))","v":""},"",{"$f":"IF(AF112=\"\",\"\", INDEX(referentes!D:E,MATCH(DATOS_MIP_SS!AF112,referentes!$E:$E,0),1))","v":""},{"$f":"IF(AI112=\"\",\"\", INDEX(referentes!A:B,MATCH(DATOS_MIP_SS!AI112,referentes!$B:$B,0),1))","v":""},{"$f":"IF(AJ112=\"\",\"\", INDEX(referentes!G:H,MATCH(DATOS_MIP_SS!AJ112,referentes!$H:$H,0),1))","v":""},{"$f":"IF(AK112=\"\",\"\", INDEX(referentes!$AB$2:$AC$10,MATCH(DATOS_MIP_SS!AK112,referentes!$AC$2:$AC$10,0),1))","v":""},{"$f":"IF(AL112=\"\",\"\", INDEX(referentes!$AH:$AI,MATCH(DATOS_MIP_SS!AL112,referentes!$AI:$AI,0),1))","v":""},{"$f":"IF(AP112=\"\",\"\", INDEX(referentes!$AE$2:$AF$10,MATCH(DATOS_MIP_SS!AP112,referentes!$AF$2:$AF$10,0),1))","v":""},{"$f":"IF(AN112=\"\",\"\", INDEX(referentes!$AK$2:$AL$10,MATCH(DATOS_MIP_SS!AN112,referentes!$AL$2:$AL$10,0),1))","v":""},{"$f":"IF(AQ112=\"\",\"\", INDEX(referentes!J:K,MATCH(DATOS_MIP_SS!AQ112,referentes!$K:$K,0),1))","v":""},{"$f":"IF(AR112=\"\",\"\", INDEX(referentes!$M$2:$N$20,MATCH(DATOS_MIP_SS!AR112,referentes!$N$2:$N$20,0),1))","v":""},{"$f":"IF(AY112=\"\",\"\", INDEX('otras referencias'!O:P,MATCH(AY112,'otras referencias'!$O:$O,0),2))","v":""},null,null,null,null,null,{"$f":"IF(X112<>\"\",INDEX(referentes!$AN:$AR,MATCH(DATOS_MIP_SS!X112,referentes!$AO:$AO,0),5),\"\")","v":""}]
[null,null,null,"",{"$f":"IF(J113=\"\",\"\",CONCATENATE(AD113,DIGITADOR!$B$2,DIGITADOR!$M$1,J113))","v":""},{"$f":"IF(J113=\"\",\"\",CONCATENATE(DIGITADOR!$B$2,AD113,DIGITADOR!$M$1,J113,ROW()))","v":""},null,null,null,{"$f":"IF(X113=\"\",\"\", INDEX(referentes!$AN:$AR,MATCH(DATOS_MIP_SS!X113,referentes!$AO:$AO,0),1))","v":""},"",{"$f":"IF(AF113=\"\",\"\", INDEX(referentes!D:E,MATCH(DATOS_MIP_SS!AF113,referentes!$E:$E,0),1))","v":""},{"$f":"IF(AI113=\"\",\"\", INDEX(referentes!A:B,MATCH(DATOS_MIP_SS!AI113,referentes!$B:$B,0),1))","v":""},{"$f":"IF(AJ113=\"\",\"\", INDEX(referentes!G:H,MATCH(DATOS_MIP_SS!AJ113,referentes!$H:$H,0),1))","v":""},{"$f":"IF(AK113=\"\",\"\", INDEX(referentes!$AB$2:$AC$10,MATCH(DATOS_MIP_SS!AK113,referentes!$AC$2:$AC$10,0),1))","v":""},{"$f":"IF(AL113=\"\",\"\", INDEX(referentes!$AH:$AI,MATCH(DATOS_MIP_SS!AL113,referentes!$AI:$AI,0),1))","v":""},{"$f":"IF(AP113=\"\",\"\", INDEX(referentes!$AE$2:$AF$10,MATCH(DATOS_MIP_SS!AP113,referentes!$AF$2:$AF$10,0),1))","v":""},{"$f":"IF(AN113=\"\",\"\", INDEX(referentes!$AK$2:$AL$10,MATCH(DATOS_MIP_SS!AN113,referentes!$AL$2:$AL$10,0),1))","v":""},{"$f":"IF(AQ113=\"\",\"\", INDEX(referentes!J:K,MATCH(DATOS_MIP_SS!AQ113,referentes!$K:$K,0),1))","v":""},{"$f":"IF(AR113=\"\",\"\", INDEX(referentes!$M$2:$N$20,MATCH(DATOS_MIP_SS!AR113,referentes!$N$2:$N$20,0),1))","v":""},{"$f":"IF(AY113=\"\",\"\", INDEX('otras referencias'!O:P,MATCH(AY113,'otras referencias'!$O:$O,0),2))","v":""},null,null,null,null,null,{"$f":"IF(X113<>\"\",INDEX(referentes!$AN:$AR,MATCH(DATOS_MIP_SS!X113,referentes!$AO:$AO,0),5),\"\")","v":""}]
[null,null,null,"",{"$f":"IF(J114=\"\",\"\",CONCATENATE(AD114,DIGITADOR!$B$2,DIGITADOR!$M$1,J114))","v":""},{"$f":"IF(J114=\"\",\"\",CONCATENATE(DIGITADOR!$B$2,AD114,DIGITADOR!$M$1,J114,ROW()))","v":""},null,null,null,{"$f":"IF(X114=\"\",\"\", INDEX(referentes!$AN:$AR,MATCH(DATOS_MIP_SS!X114,referentes!$AO:$AO,0),1))","v":""},"",{"$f":"IF(AF114=\"\",\"\", INDEX(referentes!D:E,MATCH(DATOS_MIP_SS!AF114,referentes!$E:$E,0),1))","v":""},{"$f":"IF(AI114=\"\",\"\", INDEX(referentes!A:B,MATCH(DATOS_MIP_SS!AI114,referentes!$B:$B,0),1))","v":""},{"$f":"IF(AJ114=\"\",\"\", INDEX(referentes!G:H,MATCH(DATOS_MIP_SS!AJ114,referentes!$H:$H,0),1))","v":""},{"$f":"IF(AK114=\"\",\"\", INDEX(referentes!$AB$2:$AC$10,MATCH(DATOS_MIP_SS!AK114,referentes!$AC$2:$AC$10,0),1))","v":""},{"$f":"IF(AL114=\"\",\"\", INDEX(referentes!$AH:$AI,MATCH(DATOS_MIP_SS!AL114,referentes!$AI:$AI,0),1))","v":""},{"$f":"IF(AP114=\"\",\"\", INDEX(referentes!$AE$2:$AF$10,MATCH(DATOS_MIP_SS!AP114,referentes!$AF$2:$AF$10,0),1))","v":""},{"$f":"IF(AN114=\"\",\"\", INDEX(referentes!$AK$2:$AL$10,MATCH(DATOS_MIP_SS!AN114,referentes!$AL$2:$AL$10,0),1))","v":""},{"$f":"IF(AQ114=\"\",\"\", INDEX(referentes!J:K,MATCH(DATOS_MIP_SS!AQ114,referentes!$K:$K,0),1))","v":""},{"$f":"IF(AR114=\"\",\"\", INDEX(referentes!$M$2:$N$20,MATCH(DATOS_MIP_SS!AR114,referentes!$N$2:$N$20,0),1))","v":""},{"$f":"IF(AY114=\"\",\"\", INDEX('otras referencias'!O:P,MATCH(AY114,'otras referencias'!$O:$O,0),2))","v":""},null,null,null,null,null,{"$f":"IF(X114<>\"\",INDEX(referentes!$AN:$AR,MATCH(DATOS_MIP_SS!X114,referentes!$AO:$AO,0),5),\"\")","v":""}]
[null,null,null,"",{"$f":"IF(J115=\"\",\"\",CONCATENATE(AD115,DIGITADOR!$B$2,DIGITADOR!$M$1,J115))","v":""},{"$f":"IF(J115=\"\",\"\",CONCATENATE(DIGITADOR!$B$2,AD115,DIGITADOR!$M$1,J115,ROW()))","v":""},null,null,null,{"$f":"IF(X115=\"\",\"\", INDEX(referentes!$AN:$AR,MATCH(DATOS_MIP_SS!X115,referentes!$AO:$AO,0),1))","v":""},"",{"$f":"IF(AF115=\"\",\"\", INDEX(referentes!D:E,MATCH(DATOS_MIP_SS!AF115,referentes!$E:$E,0),1))","v":""},{"$f":"IF(AI115=\"\",\"\", INDEX(referentes!A:B,MATCH(DATOS_MIP_SS!AI115,referentes!$B:$B,0),1))","v":""},{"$f":"IF(AJ115=\"\",\"\", INDEX(referentes!G:H,MATCH(DATOS_MIP_SS!AJ115,referentes!$H:$H,0),1))","v":""},{"$f":"IF(AK115=\"\",\"\", INDEX(referentes!$AB$2:$AC$10,MATCH(DATOS_MIP_SS!AK115,referentes!$AC$2:$AC$10,0),1))","v":""},{"$f":"IF(AL115=\"\",\"\", INDEX(referentes!$AH:$AI,MATCH(DATOS_MIP_SS!AL115,referentes!$AI:$AI,0),1))","v":""},{"$f":"IF(AP115=\"\",\"\", INDEX(referentes!$AE$2:$AF$10,MATCH(DATOS_MIP_SS!AP115,referentes!$AF$2:$AF$10,0),1))","v":""},{"$f":"IF(AN115=\"\",\"\", INDEX(referentes!$AK$2:$AL$10,MATCH(DATOS_MIP_SS!AN115,referentes!$AL$2:$AL$10,0),1))","v":""},{"$f":"IF(AQ115=\"\",\"\", INDEX(referentes!J:K,MATCH(DATOS_MIP_SS!AQ115,referentes!$K:$K,0),1))","v":""},{"$f":"IF(AR115=\"\",\"\", INDEX(referentes!$M$2:$N$20,MATCH(DATOS_MIP_SS!AR115,referentes!$N$2:$N$20,0),1))","v":""},{"$f":"IF(AY115=\"\",\"\", INDEX('otras referencias'!O:P,MATCH(AY115,'otras referencias'!$O:$O,0),2))","v":""},null,null,null,null,null,{"$f":"IF(X115<>\"\",INDEX(referentes!$AN:$AR,MATCH(DATOS_MIP_SS!X115,referentes!$AO:$AO,0),5),\"\")","v":""}]
[null,null,null,"",{"$f":"IF(J116=\"\",\"\",CONCATENATE(AD116,DIGITADOR!$B$2,DIGITADOR!$M$1,J116))","v":""},{"$f":"IF(J116=\"\",\"\",CONCATENATE(DIGITADOR!$B$2,AD116,DIGITADOR!$M$1,J116,ROW()))","v":""},null,null,null,{"$f":"IF(X116=\"\",\"\", INDEX(referentes!$AN:$AR,MATCH(DATOS_MIP_SS!X116,referentes!$AO:$AO,0),1))","v":""},"",{"$f":"IF(AF116=\"\",\"\", INDEX(referentes!D:E,MATCH(DATOS_MIP_SS!AF116,referentes!$E:$E,0),1))","v":""},{"$f":"IF(AI116=\"\",\"\", INDEX(referentes!A:B,MATCH(DATOS_MIP_SS!AI116,referentes!$B:$B,0),1))","v":""},{"$f":"IF(AJ116=\"\",\"\", INDEX(referentes!G:H,MATCH(DATOS_MIP_SS!AJ116,referentes!$H:$H,0),1))","v":""},{"$f":"IF(AK116=\"\",\"\", INDEX(referentes!$AB$2:$AC$10,MATCH(DATOS_MIP_SS!AK116,referentes!$AC$2:$AC$10,0),1))","v":""},{"$f":"IF(AL116=\"\",\"\", INDEX(referentes!$AH:$AI,MATCH(DATOS_MIP_SS!AL116,referentes!$AI:$AI,0),1))","v":""},{"$f":"IF(AP116=\"\",\"\", INDEX(referentes!$AE$2:$AF$10,MATCH(DATOS_MIP_SS!AP116,referentes!$AF$2:$AF$10,0),1))","v":""},{"$f":"IF(AN116=\"\",\"\", INDEX(referentes!$AK$2:$AL$10,MATCH(DATOS_MIP_SS!AN116,referentes!$AL$2:$AL$10,0),1))","v":""},{"$f":"IF(AQ116=\"\",\"\", INDEX(referentes!J:K,MATCH(DATOS_MIP_SS!AQ116,referentes!$K:$K,0),1))","v":""},{"$f":"IF(AR116=\"\",\"\", INDEX(referentes!$M$2:$N$20,MATCH(DATOS_MIP_SS!AR116,referentes!$N$2:$N$20,0),1))","v":""},{"$f":"IF(AY116=\"\",\"\", INDEX('otras referencias'!O:P,MATCH(AY116,'otras referencias'!$O:$O,0),2))","v":""},null,null,null,null,null,{"$f":"IF(X116<>\"\",INDEX(referentes!$AN:$AR,MATCH(DATOS_MIP_SS!X116,referentes!$AO:$AO,0),5),\"\")","v":""}]
[null,null,null,"",{"$f":"IF(J117=\"\",\"\",CONCATENATE(AD117,DIGITADOR!$B$2,DIGITADOR!$M$1,J117))","v":""},{"$f":"IF(J117=\"\",\"\",CONCATENATE(DIGITADOR!$B$2,AD117,DIGITADOR!$M$1,J117,ROW()))","v":""},null,null,null,{"$f":"IF(X117=\"\",\"\", INDEX(referentes!$AN:$AR,MATCH(DATOS_MIP_SS!X117,referentes!$AO:$AO,0),1))","v":""},"",{"$f":"IF(AF117=\"\",\"\", INDEX(referentes!D:E,MATCH(DATOS_MIP_SS!AF117,referentes!$E:$E,0),1))","v":""},{"$f":"IF(AI117=\"\",\"\", INDEX(referentes!A:B,MATCH(DATOS_MIP_SS!AI117,referentes!$B:$B,0),1))","v":""},{"$f":"IF(AJ117=\"\",\"\", INDEX(referentes!G:H,MATCH(DATOS_MIP_SS!AJ117,referentes!$H:$H,0),1))","v":""},{"$f":"IF(AK117=\"\",\"\", INDEX(referentes!$AB$2:$AC$10,MATCH(DATOS_MIP_SS!AK117,referentes!$AC$2:$AC$10,0),1))","v":""},{"$f":"IF(AL117=\"\",\"\", INDEX(referentes!$AH:$AI,MATCH(DATOS_MIP_SS!AL117,referentes!$AI:$AI,0),1))","v":""},{"$f":"IF(AP117=\"\",\"\", INDEX(referentes!$AE$2:$AF$10,MATCH(DATOS_MIP_SS!AP117,referentes!$AF$2:$AF$10,0),1))","v":""},{"$f":"IF(AN117=\"\",\"\", INDEX(referentes!$AK$2:$AL$10,MATCH(DATOS_MIP_SS!AN117,referentes!$AL$2:$AL$10,0),1))","v":""},{"$f":"IF(AQ117=\"\",\"\", INDEX(referentes!J:K,MATCH(DATOS_MIP_SS!AQ117,referentes!$K:$K,0),1))","v":""},{"$f":"IF(AR117=\"\",\"\", INDEX(referentes!$M$2:$N$20,MATCH(DATOS_MIP_SS!AR117,referentes!$N$2:$N$20,0),1))","v":""},{"$f":"IF(AY117=\"\",\"\", INDEX('otras referencias'!O:P,MATCH(AY117,'otras referencias'!$O:$O,0),2))","v":""},null,null,null,null,null,{"$f":"IF(X117<>\"\",INDEX(referentes!$AN:$AR,MATCH(DATOS_MIP_SS!X117,referentes!$AO:$AO,0),5),\"\")","v":""}]
[null,null,null,"",{"$f":"IF(J118=\"\",\"\",CONCATENATE(AD118,DIGITADOR!$B$2,DIGITADOR!$M$1,J118))","v":""},{"$f":"IF(J118=\"\",\"\",CONCATENATE(DIGITADOR!$B$2,AD118,DIGITADOR!$M$1,J118,ROW()))","v":""},null,null,null,{"$f":"IF(X118=\"\",\"\", INDEX(referentes!$AN:$AR,MATCH(DATOS_MIP_SS!X118,referentes!$AO:$AO,0),1))","v":""},"",{"$f":"IF(AF118=\"\",\"\", INDEX(referentes!D:E,MATCH(DATOS_MIP_SS!AF118,referentes!$E:$E,0),1))","v":""},{"$f":"IF(AI118=\"\",\"\", INDEX(referentes!A:B,MATCH(DATOS_MIP_SS!AI118,referentes!$B:$B,0),1))","v":""},{"$f":"IF(AJ118=\"\",\"\", INDEX(referentes!G:H,MATCH(DATOS_MIP_SS!AJ118,referentes!$H:$H,0),1))","v":""},{"$f":"IF(AK118=\"\",\"\", INDEX(referentes!$AB$2:$AC$10,MATCH(DATOS_MIP_SS!AK118,referentes!$AC$2:$AC$10,0),1))","v":""},{"$f":"IF(AL118=\"\",\"\", INDEX(referentes!$AH:$AI,MATCH(DATOS_MIP_SS!AL118,referentes!$AI:$AI,0),1))","v":""},{"$f":"IF(AP118=\"\",\"\", INDEX(referentes!$AE$2:$AF$10,MATCH(DATOS_MIP_SS!AP118,referentes!$AF$2:$AF$10,0),1))","v":""},{"$f":"IF(AN118=\"\",\"\", INDEX(referentes!$AK$2:$AL$10,MATCH(DATOS_MIP_SS!AN118,referentes!$AL$2:$AL$10,0),1))","v":""},{"$f":"IF(AQ118=\"\",\"\", INDEX(referentes!J:K,MATCH(DATOS_MIP_SS!AQ118,referentes!$K:$K,0),1))","v":""},{"$f":"IF(AR118=\"\",\"\", INDEX(referentes!$M$2:$N$20,MATCH(DATOS_MIP_SS!AR118,referentes!$N$2:$N$20,0),1))","v":""},{"$f":"IF(AY118=\"\",\"\", INDEX('otras referencias'!O:P,MATCH(AY118,'otras referencias'!$O:$O,0),2))","v":""},null,null,null,null,null,{"$f":"IF(X118<>\"\",INDEX(referentes!$AN:$AR,MATCH(DATOS_MIP_SS!X118,referentes!$AO:$AO,0),5),\"\")","v":""}]
[null,null,null,"",{"$f":"IF(J119=\"\",\"\",CONCATENATE(AD119,DIGITADOR!$B$2,DIGITADOR!$M$1,J119))","v":""},{"$f":"IF(J119=\"\",\"\",CONCATENATE(DIGITADOR!$B$2,AD119,DIGITADOR!$M$1,J119,ROW()))","v":""},null,null,null,{"$f":"IF(X119=\"\",\"\", INDEX(referentes!$AN:$AR,MATCH(DATOS_MIP_SS!X119,referentes!$AO:$AO,0),1))","v":""},"",{"$f":"IF(AF119=\"\",\"\", INDEX(referentes!D:E,MATCH(DATOS_MIP_SS!AF119,referentes!$E:$E,0),1))","v":""},{"$f":"IF(AI119=\"\",\"\", INDEX(referentes!A:B,MATCH(DATOS_MIP_SS!AI119,referentes!$B:$B,0),1))","v":""},{"$f":"IF(AJ119=\"\",\"\", INDEX(referentes!G:H,MATCH(DATOS_MIP_SS!AJ119,referentes!$H:$H,0),1))","v":""},{"$f":"IF(AK119=\"\",\"\", INDEX(referentes!$AB$2:$AC$10,MATCH(DATOS_MIP_SS!AK119,referentes!$AC$2:$AC$10,0),1))","v":""},{"$f":"IF(AL119=\"\",\"\", INDEX(referentes!$AH:$AI,MATCH(DATOS_MIP_SS!AL119,referentes!$AI:$AI,0),1))","v":""},{"$f":"IF(AP119=\"\",\"\", INDEX(referentes!$AE$2:$AF$10,MATCH(DATOS_MIP_SS!AP119,referentes!$AF$2:$AF$10,0),1))","v":""},{"$f":"IF(AN119=\"\",\"\", INDEX(referentes!$AK$2:$AL$10,MATCH(DATOS_MIP_SS!AN119,referentes!$AL$2:$AL$10,0),1))","v":""},{"$f":"IF(AQ119=\"\",\"\", INDEX(referentes!J:K,MATCH(DATOS_MIP_SS!AQ119,referentes!$K:$K,0),1))","v":""},{"$f":"IF(AR119=\"\",\"\", INDEX(referentes!$M$2:$N$20,MATCH(DATOS_MIP_SS!AR119,referentes!$N$2:$N$20,0),1))","v":""},{"$f":"IF(AY119=\"\",\"\", INDEX('otras referencias'!O:P,MATCH(AY119,'otras referencias'!$O:$O,0),2))","v":""},null,null,null,null,null,{"$f":"IF(X119<>\"\",INDEX(referentes!$AN:$AR,MATCH(DATOS_MIP_SS!X119,referentes!$AO:$AO,0),5),\"\")","v":""}]
[null,null,null,"",{"$f":"IF(J120=\"\",\"\",CONCATENATE(AD120,DIGITADOR!$B$2,DIGITADOR!$M$1,J120))","v":""},{"$f":"IF(J120=\"\",\"\",CONCATENATE(DIGITADOR!$B$2,AD120,DIGITADOR!$M$1,J120,ROW()))","v":""},null,null,null,{"$f":"IF(X120=\"\",\"\", INDEX(referentes!$AN:$AR,MATCH(DATOS_MIP_SS!X120,referentes!$AO:$AO,0),1))","v":""},"",{"$f":"IF(AF120=\"\",\"\", INDEX(referentes!D:E,MATCH(DATOS_MIP_SS!AF120,referentes!$E:$E,0),1))","v":""},{"$f":"IF(AI120=\"\",\"\", INDEX(referentes!A:B,MATCH(DATOS_MIP_SS!AI120,referentes!$B:$B,0),1))","v":""},{"$f":"IF(AJ120=\"\",\"\", INDEX(referentes!G:H,MATCH(DATOS_MIP_SS!AJ120,referentes!$H:$H,0),1))","v":""},{"$f":"IF(AK120=\"\",\"\", INDEX(referentes!$AB$2:$AC$10,MATCH(DATOS_MIP_SS!AK120,referentes!$AC$2:$AC$10,0),1))","v":""},{"$f":"IF(AL120=\"\",\"\", INDEX(referentes!$AH:$AI,MATCH(DATOS_MIP_SS!AL120,referentes!$AI:$AI,0),1))","v":""},{"$f":"IF(AP120=\"\",\"\", INDEX(referentes!$AE$2:$AF$10,MATCH(DATOS_MIP_SS!AP120,referentes!$AF$2:$AF$10,0),1))","v":""},{"$f":"IF(AN120=\"\",\"\", INDEX(referentes!$AK$2:$AL$10,MATCH(DATOS_MIP_SS!AN120,referentes!$AL$2:$AL$10,0),1))","v":""},{"$f":"IF(AQ120=\"\",\"\", INDEX(referentes!J:K,MATCH(DATOS_MIP_SS!AQ120,referentes!$K:$K,0),1))","v":""},{"$f":"IF(AR120=\"\",\"\", INDEX(referentes!$M$2:$N$20,MATCH(DATOS_MIP_SS!AR120,referentes!$N$2:$N$20,0),1))","v":""},{"$f":"IF(AY120=\"\",\"\", INDEX('otras referencias'!O:P,MATCH(AY120,'otras referencias'!$O:$O,0),2))","v":""},null,null,null,null,null,{"$f":"IF(X120<>\"\",INDEX(referentes!$AN:$AR,MATCH(DATOS_MIP_SS!X120,referentes!$AO:$AO,0),5),\"\")","v":""}]
[null,null,null,"",{"$f":"IF(J121=\"\",\"\",CONCATENATE(AD121,DIGITADOR!$B$2,DIGITADOR!$M$1,J121))","v":""},{"$f":"IF(J121=\"\",\"\",CONCATENATE(DIGITADOR!$B$2,AD121,DIGITADOR!$M$1,J121,ROW()))","v":""},null,null,null,{"$f":"IF(X121=\"\",\"\", INDEX(referentes!$AN:$AR,MATCH(DATOS_MIP_SS!X121,referentes!$AO:$AO,0),1))","v":""},"",{"$f":"IF(AF121=\"\",\"\", INDEX(referentes!D:E,MATCH(DATOS_MIP_SS!AF121,referentes!$E:$E,0),1))","v":""},{"$f":"IF(AI121=\"\",\"\", INDEX(referentes!A:B,MATCH(DATOS_MIP_SS!AI121,referentes!$B:$B,0),1))","v":""},{"$f":"IF(AJ121=\"\",\"\", INDEX(referentes!G:H,MATCH(DATOS_MIP_SS!AJ121,referentes!$H:$H,0),1))","v":""},{"$f":"IF(AK121=\"\",\"\", INDEX(referentes!$AB$2:$AC$10,MATCH(DATOS_MIP_SS!AK121,referentes!$AC$2:$AC$10,0),1))","v":""},{"$f":"IF(AL121=\"\",\"\", INDEX(referentes!$AH:$AI,MATCH(DATOS_MIP_SS!AL121,referentes!$AI:$AI,0),1))","v":""},{"$f":"IF(AP121=\"\",\"\", INDEX(referentes!$AE$2:$AF$10,MATCH(DATOS_MIP_SS!AP121,referentes!$AF$2:$AF$10,0),1))","v":""},{"$f":"IF(AN121=\"\",\"\", INDEX(referentes!$AK$2:$AL$10,MATCH(DATOS_MIP_SS!AN121,referentes!$AL$2:$AL$10,0),1))","v":""},{"$f":"IF(AQ121=\"\",\"\", INDEX(referentes!J:K,MATCH(DATOS_MIP_SS!AQ121,referentes!$K:$K,0),1))","v":""},{"$f":"IF(AR121=\"\",\"\", INDEX(referentes!$M$2:$N$20,MATCH(DATOS_MIP_SS!AR121,referentes!$N$2:$N$20,0),1))","v":""},{"$f":"IF(AY121=\"\",\"\", INDEX('otras referencias'!O:P,MATCH(AY121,'otras referencias'!$O:$O,0),2))","v":""},null,null,null,null,null,{"$f":"IF(X121<>\"\",INDEX(referentes!$AN:$AR,MATCH(DATOS_MIP_SS!X121,referentes!$AO:$AO,0),5),\"\")","v":""}]
[null,null,null,"",{"$f":"IF(J122=\"\",\"\",CONCATENATE(AD122,DIGITADOR!$B$2,DIGITADOR!$M$1,J122))","v":""},{"$f":"IF(J122=\"\",\"\",CONCATENATE(DIGITADOR!$B$2,AD122,DIGITADOR!$M$1,J122,ROW()))","v":""},null,null,null,{"$f":"IF(X122=\"\",\"\", INDEX(referentes!$AN:$AR,MATCH(DATOS_MIP_SS!X122,referentes!$AO:$AO,0),1))","v":""},"",{"$f":"IF(AF122=\"\",\"\", INDEX(referentes!D:E,MATCH(DATOS_MIP_SS!AF122,referentes!$E:$E,0),1))","v":""},{"$f":"IF(AI122=\"\",\"\", INDEX(referentes!A:B,MATCH(DATOS_MIP_SS!AI122,referentes!$B:$B,0),1))","v":""},{"$f":"IF(AJ122=\"\",\"\", INDEX(referentes!G:H,MATCH(DATOS_MIP_SS!AJ122,referentes!$H:$H,0),1))","v":""},{"$f":"IF(AK122=\"\",\"\", INDEX(referentes!$AB$2:$AC$10,MATCH(DATOS_MIP_SS!AK122,referentes!$AC$2:$AC$10,0),1))","v":""},{"$f":"IF(AL122=\"\",\"\", INDEX(referentes!$AH:$AI,MATCH(DATOS_MIP_SS!AL122,referentes!$AI:$AI,0),1))","v":""},{"$f":"IF(AP122=\"\",\"\", INDEX(referentes!$AE$2:$AF$10,MATCH(DATOS_MIP_SS!AP122,referentes!$AF$2:$AF$10,0),1))","v":""},{"$f":"IF(AN122=\"\",\"\", INDEX(referentes!$AK$2:$AL$10,MATCH(DATOS_MIP_SS!AN122,referentes!$AL$2:$AL$10,0),1))","v":""},{"$f":"IF(AQ122=\"\",\"\", INDEX(referentes!J:K,MATCH(DATOS_MIP_SS!AQ122,referentes!$K:$K,0),1))","v":""},{"$f":"IF(AR122=\"\",\"\", INDEX(referentes!$M$2:$N$20,MATCH(DATOS_MIP_SS!AR122,referentes!$N$2:$N$20,0),1))","v":""},{"$f":"IF(AY122=\"\",\"\", INDEX('otras referencias'!O:P,MATCH(AY122,'otras referencias'!$O:$O,0),2))","v":""},null,null,null,null,null,{"$f":"IF(X122<>\"\",INDEX(referentes!$AN:$AR,MATCH(DATOS_MIP_SS!X122,referentes!$AO:$AO,0),5),\"\")","v":""}]
[null,null,null,"",{"$f":"IF(J123=\"\",\"\",CONCATENATE(AD123,DIGITADOR!$B$2,DIGITADOR!$M$1,J123))","v":""},{"$f":"IF(J123=\"\",\"\",CONCATENATE(DIGITADOR!$B$2,AD123,DIGITADOR!$M$1,J123,ROW()))","v":""},null,null,null,{"$f":"IF(X123=\"\",\"\", INDEX(referentes!$AN:$AR,MATCH(DATOS_MIP_SS!X123,referentes!$AO:$AO,0),1))","v":""},"",{"$f":"IF(AF123=\"\",\"\", INDEX(referentes!D:E,MATCH(DATOS_MIP_SS!AF123,referentes!$E:$E,0),1))","v":""},{"$f":"IF(AI123=\"\",\"\", INDEX(referentes!A:B,MATCH(DATOS_MIP_SS!AI123,referentes!$B:$B,0),1))","v":""},{"$f":"IF(AJ123=\"\",\"\", INDEX(referentes!G:H,MATCH(DATOS_MIP_SS!AJ123,referentes!$H:$H,0),1))","v":""},{"$f":"IF(AK123=\"\",\"\", INDEX(referentes!$AB$2:$AC$10,MATCH(DATOS_MIP_SS!AK123,referentes!$AC$2:$AC$10,0),1))","v":""},{"$f":"IF(AL123=\"\",\"\", INDEX(referentes!$AH:$AI,MATCH(DATOS_MIP_SS!AL123,referentes!$AI:$AI,0),1))","v":""},{"$f":"IF(AP123=\"\",\"\", INDEX(referentes!$AE$2:$AF$10,MATCH(DATOS_MIP_SS!AP123,referentes!$AF$2:$AF$10,0),1))","v":""},{"$f":"IF(AN123=\"\",\"\", INDEX(referentes!$AK$2:$AL$10,MATCH(DATOS_MIP_SS!AN123,referentes!$AL$2:$AL$10,0),1))","v":""},{"$f":"IF(AQ123=\"\",\"\", INDEX(referentes!J:K,MATCH(DATOS_MIP_SS!AQ123,referentes!$K:$K,0),1))","v":""},{"$f":"IF(AR123=\"\",\"\", INDEX(referentes!$M$2:$N$20,MATCH(DATOS_MIP_SS!AR123,referentes!$N$2:$N$20,0),1))","v":""},{"$f":"IF(AY123=\"\",\"\", INDEX('otras referencias'!O:P,MATCH(AY123,'otras referencias'!$O:$O,0),2))","v":""},null,null,null,null,null,{"$f":"IF(X123<>\"\",INDEX(referentes!$AN:$AR,MATCH(DATOS_MIP_SS!X123,referentes!$AO:$AO,0),5),\"\")","v":""}]
[null,null,null,"",{"$f":"IF(J124=\"\",\"\",CONCATENATE(AD124,DIGITADOR!$B$2,DIGITADOR!$M$1,J124))","v":""},{"$f":"IF(J124=\"\",\"\",CONCATENATE(DIGITADOR!$B$2,AD124,DIGITADOR!$M$1,J124,ROW()))","v":""},null,null,null,{"$f":"IF(X124=\"\",\"\", INDEX(referentes!$AN:$AR,MATCH(DATOS_MIP_SS!X124,referentes!$AO:$AO,0),1))","v":""},"",{"$f":"IF(AF124=\"\",\"\", INDEX(referentes!D:E,MATCH(DATOS_MIP_SS!AF124,referentes!$E:$E,0),1))","v":""},{"$f":"IF(AI124=\"\",\"\", INDEX(referentes!A:B,MATCH(DATOS_MIP_SS!AI124,referentes!$B:$B,0),1))","v":""},{"$f":"IF(AJ124=\"\",\"\", INDEX(referentes!G:H,MATCH(DATOS_MIP_SS!AJ124,referentes!$H:$H,0),1))","v":""},{"$f":"IF(AK124=\"\",\"\", INDEX(referentes!$AB$2:$AC$10,MATCH(DATOS_MIP_SS!AK124,referentes!$AC$2:$AC$10,0),1))","v":""},{"$f":"IF(AL124=\"\",\"\", INDEX(referentes!$AH:$AI,MATCH(DATOS_MIP_SS!AL124,referentes!$AI:$AI,0),1))","v":""},{"$f":"IF(AP124=\"\",\"\", INDEX(referentes!$AE$2:$AF$10,MATCH(DATOS_MIP_SS!AP124,referentes!$AF$2:$AF$10,0),1))","v":""},{"$f":"IF(AN124=\"\",\"\", INDEX(referentes!$AK$2:$AL$10,MATCH(DATOS_MIP_SS!AN124,referentes!$AL$2:$AL$10,0),1))","v":""},{"$f":"IF(AQ124=\"\",\"\", INDEX(referentes!J:K,MATCH(DATOS_MIP_SS!AQ124,referentes!$K:$K,0),1))","v":""},{"$f":"IF(AR124=\"\",\"\", INDEX(referentes!$M$2:$N$20,MATCH(DATOS_MIP_SS!AR124,referentes!$N$2:$N$20,0),1))","v":""},{"$f":"IF(AY124=\"\",\"\", INDEX('otras referencias'!O:P,MATCH(AY124,'otras referencias'!$O:$O,0),2))","v":""},null,null,null,null,null,{"$f":"IF(X124<>\"\",INDEX(referentes!$AN:$AR,MATCH(DATOS_MIP_SS!X124,referentes!$AO:$AO,0),5),\"\")","v":""}]
[null,null,null,"",{"$f":"IF(J125=\"\",\"\",CONCATENATE(AD125,DIGITADOR!$B$2,DIGITADOR!$M$1,J125))","v":""},{"$f":"IF(J125=\"\",\"\",CONCATENATE(DIGITADOR!$B$2,AD125,DIGITADOR!$M$1,J125,ROW()))","v":""},null,null,null,{"$f":"IF(X125=\"\",\"\", INDEX(referentes!$AN:$AR,MATCH(DATOS_MIP_SS!X125,referentes!$AO:$AO,0),1))","v":""},"",{"$f":"IF(AF125=\"\",\"\", INDEX(referentes!D:E,MATCH(DATOS_MIP_SS!AF125,referentes!$E:$E,0),1))","v":""},{"$f":"IF(AI125=\"\",\"\", INDEX(referentes!A:B,MATCH(DATOS_MIP_SS!AI125,referentes!$B:$B,0),1))","v":""},{"$f":"IF(AJ125=\"\",\"\", INDEX(referentes!G:H,MATCH(DATOS_MIP_SS!AJ125,referentes!$H:$H,0),1))","v":""},{"$f":"IF(AK125=\"\",\"\", INDEX(referentes!$AB$2:$AC$10,MATCH(DATOS_MIP_SS!AK125,referentes!$AC$2:$AC$10,0),1))","v":""},{"$f":"IF(AL125=\"\",\"\", INDEX(referentes!$AH:$AI,MATCH(DATOS_MIP_SS!AL125,referentes!$AI:$AI,0),1))","v":""},{"$f":"IF(AP125=\"\",\"\", INDEX(referentes!$AE$2:$AF$10,MATCH(DATOS_MIP_SS!AP125,referentes!$AF$2:$AF$10,0),1))","v":""},{"$f":"IF(AN125=\"\",\"\", INDEX(referentes!$AK$2:$AL$10,MATCH(DATOS_MIP_SS!AN125,referentes!$AL$2:$AL$10,0),1))","v":""},{"$f":"IF(AQ125=\"\",\"\", INDEX(referentes!J:K,MATCH(DATOS_MIP_SS!AQ125,referentes!$K:$K,0),1))","v":""},{"$f":"IF(AR125=\"\",\"\", INDEX(referentes!$M$2:$N$20,MATCH(DATOS_MIP_SS!AR125,referentes!$N$2:$N$20,0),1))","v":""},{"$f":"IF(AY125=\"\",\"\", INDEX('otras referencias'!O:P,MATCH(AY125,'otras referencias'!$O:$O,0),2))","v":""},null,null,null,null,null,{"$f":"IF(X125<>\"\",INDEX(referentes!$AN:$AR,MATCH(DATOS_MIP_SS!X125,referentes!$AO:$AO,0),5),\"\")","v":""}]
[null,null,null,"",{"$f":"IF(J126=\"\",\"\",CONCATENATE(AD126,DIGITADOR!$B$2,DIGITADOR!$M$1,J126))","v":""},{"$f":"IF(J126=\"\",\"\",CONCATENATE(DIGITADOR!$B$2,AD126,DIGITADOR!$M$1,J126,ROW()))","v":""},null,null,null,{"$f":"IF(X126=\"\",\"\", INDEX(referentes!$AN:$AR,MATCH(DATOS_MIP_SS!X126,referentes!$AO:$AO,0),1))","v":""},"",{"$f":"IF(AF126=\"\",\"\", INDEX(referentes!D:E,MATCH(DATOS_MIP_SS!AF126,referentes!$E:$E,0),1))","v":""},{"$f":"IF(AI126=\"\",\"\", INDEX(referentes!A:B,MATCH(DATOS_MIP_SS!AI126,referentes!$B:$B,0),1))","v":""},{"$f":"IF(AJ126=\"\",\"\", INDEX(referentes!G:H,MATCH(DATOS_MIP_SS!AJ126,referentes!$H:$H,0),1))","v":""},{"$f":"IF(AK126=\"\",\"\", INDEX(referentes!$AB$2:$AC$10,MATCH(DATOS_MIP_SS!AK126,referentes!$AC$2:$AC$10,0),1))","v":""},{"$f":"IF(AL126=\"\",\"\", INDEX(referentes!$AH:$AI,MATCH(DATOS_MIP_SS!AL126,referentes!$AI:$AI,0),1))","v":""},{"$f":"IF(AP126=\"\",\"\", INDEX(referentes!$AE$2:$AF$10,MATCH(DATOS_MIP_SS!AP126,referentes!$AF$2:$AF$10,0),1))","v":""},{"$f":"IF(AN126=\"\",\"\", INDEX(referentes!$AK$2:$AL$10,MATCH(DATOS_MIP_SS!AN126,referentes!$AL$2:$AL$10,0),1))","v":""},{"$f":"IF(AQ126=\"\",\"\", INDEX(referentes!J:K,MATCH(DATOS_MIP_SS!AQ126,referentes!$K:$K,0),1))","v":""},{"$f":"IF(AR126=\"\",\"\", INDEX(referentes!$M$2:$N$20,MATCH(DATOS_MIP_SS!AR126,referentes!$N$2:$N$20,0),1))","v":""},{"$f":"IF(AY126=\"\",\"\", INDEX('otras referencias'!O:P,MATCH(AY126,'otras referencias'!$O:$O,0),2))","v":""},null,null,null,null,null,{"$f":"IF(X126<>\"\",INDEX(referentes!$AN:$AR,MATCH(DATOS_MIP_SS!X126,referentes!$AO:$AO,0),5),\"\")","v":""}]
[null,null,null,"",{"$f":"IF(J127=\"\",\"\",CONCATENATE(AD127,DIGITADOR!$B$2,DIGITADOR!$M$1,J127))","v":""},{"$f":"IF(J127=\"\",\"\",CONCATENATE(DIGITADOR!$B$2,AD127,DIGITADOR!$M$1,J127,ROW()))","v":""},null,null,null,{"$f":"IF(X127=\"\",\"\", INDEX(referentes!$AN:$AR,MATCH(DATOS_MIP_SS!X127,referentes!$AO:$AO,0),1))","v":""},"",{"$f":"IF(AF127=\"\",\"\", INDEX(referentes!D:E,MATCH(DATOS_MIP_SS!AF127,referentes!$E:$E,0),1))","v":""},{"$f":"IF(AI127=\"\",\"\", INDEX(referentes!A:B,MATCH(DATOS_MIP_SS!AI127,referentes!$B:$B,0),1))","v":""},{"$f":"IF(AJ127=\"\",\"\", INDEX(referentes!G:H,MATCH(DATOS_MIP_SS!AJ127,referentes!$H:$H,0),1))","v":""},{"$f":"IF(AK127=\"\",\"\", INDEX(referentes!$AB$2:$AC$10,MATCH(DATOS_MIP_SS!AK127,referentes!$AC$2:$AC$10,0),1))","v":""},{"$f":"IF(AL127=\"\",\"\", INDEX(referentes!$AH:$AI,MATCH(DATOS_MIP_SS!AL127,referentes!$AI:$AI,0),1))","v":""},{"$f":"IF(AP127=\"\",\"\", INDEX(referentes!$AE$2:$AF$10,MATCH(DATOS_MIP_SS!AP127,referentes!$AF$2:$AF$10,0),1))","v":""},{"$f":"IF(AN127=\"\",\"\", INDEX(referentes!$AK$2:$AL$10,MATCH(DATOS_MIP_SS!AN127,referentes!$AL$2:$AL$10,0),1))","v":""},{"$f":"IF(AQ127=\"\",\"\", INDEX(referentes!J:K,MATCH(DATOS_MIP_SS!AQ127,referentes!$K:$K,0),1))","v":""},{"$f":"IF(AR127=\"\",\"\", INDEX(referentes!$M$2:$N$20,MATCH(DATOS_MIP_SS!AR127,referentes!$N$2:$N$20,0),1))","v":""},{"$f":"IF(AY127=\"\",\"\", INDEX('otras referencias'!O:P,MATCH(AY127,'otras referencias'!$O:$O,0),2))","v":""},null,null,null,null,null,{"$f":"IF(X127<>\"\",INDEX(referentes!$AN:$AR,MATCH(DATOS_MIP_SS!X127,referentes!$AO:$AO,0),5),\"\")","v":""}]
[null,null,null,"",{"$f":"IF(J128=\"\",\"\",CONCATENATE(AD128,DIGITADOR!$B$2,DIGITADOR!$M$1,J128))","v":""},{"$f":"IF(J128=\"\",\"\",CONCATENATE(DIGITADOR!$B$2,AD128,DIGITADOR!$M$1,J128,ROW()))","v":""},null,null,null,{"$f":"IF(X128=\"\",\"\", INDEX(referentes!$AN:$AR,MATCH(DATOS_MIP_SS!X128,referentes!$AO:$AO,0),1))","v":""},"",{"$f":"IF(AF128=\"\",\"\", INDEX(referentes!D:E,MATCH(DATOS_MIP_SS!AF128,referentes!$E:$E,0),1))","v":""},{"$f":"IF(AI128=\"\",\"\", INDEX(referentes!A:B,MATCH(DATOS_MIP_SS!AI128,referentes!$B:$B,0),1))","v":""},{"$f":"IF(AJ128=\"\",\"\", INDEX(referentes!G:H,MATCH(DATOS_MIP_SS!AJ128,referentes!$H:$H,0),1))","v":""},{"$f":"IF(AK128=\"\",\"\", INDEX(referentes!$AB$2:$AC$10,MATCH(DATOS_MIP_SS!AK128,referentes!$AC$2:$AC$10,0),1))","v":""},{"$f":"IF(AL128=\"\",\"\", INDEX(referentes!$AH:$AI,MATCH(DATOS_MIP_SS!AL128,referentes!$AI:$AI,0),1))","v":""},{"$f":"IF(AP128=\"\",\"\", INDEX(referentes!$AE$2:$AF$10,MATCH(DATOS_MIP_SS!AP128,referentes!$AF$2:$AF$10,0),1))","v":""},{"$f":"IF(AN128=\"\",\"\", INDEX(referentes!$AK$2:$AL$10,MATCH(DATOS_MIP_SS!AN128,referentes!$AL$2:$AL$10,0),1))","v":""},{"$f":"IF(AQ128=\"\",\"\", INDEX(referentes!J:K,MATCH(DATOS_MIP_SS!AQ128,referentes!$K:$K,0),1))","v":""},{"$f":"IF(AR128=\"\",\"\", INDEX(referentes!$M$2:$N$20,MATCH(DATOS_MIP_SS!AR128,referentes!$N$2:$N$20,0),1))","v":""},{"$f":"IF(AY128=\"\",\"\", INDEX('otras referencias'!O:P,MATCH(AY128,'otras referencias'!$O:$O,0),2))","v":""},null,null,null,null,null,{"$f":"IF(X128<>\"\",INDEX(referentes!$AN:$AR,MATCH(DATOS_MIP_SS!X128,referentes!$AO:$AO,0),5),\"\")","v":""}]
[null,null,null,"",{"$f":"IF(J129=\"\",\"\",CONCATENATE(AD129,DIGITADOR!$B$2,DIGITADOR!$M$1,J129))","v":""},{"$f":"IF(J129=\"\",\"\",CONCATENATE(DIGITADOR!$B$2,AD129,DIGITADOR!$M$1,J129,ROW()))","v":""},null,null,null,{"$f":"IF(X129=\"\",\"\", INDEX(referentes!$AN:$AR,MATCH(DATOS_MIP_SS!X129,referentes!$AO:$AO,0),1))","v":""},"",{"$f":"IF(AF129=\"\",\"\", INDEX(referentes!D:E,MATCH(DATOS_MIP_SS!AF129,referentes!$E:$E,0),1))","v":""},{"$f":"IF(AI129=\"\",\"\", INDEX(referentes!A:B,MATCH(DATOS_MIP_SS!AI129,referentes!$B:$B,0),1))","v":""},{"$f":"IF(AJ129=\"\",\"\", INDEX(referentes!G:H,MATCH(DATOS_MIP_SS!AJ129,referentes!$H:$H,0),1))","v":""},{"$f":"IF(AK129=\"\",\"\", INDEX(referentes!$AB$2:$AC$10,MATCH(DATOS_MIP_SS!AK129,referentes!$AC$2:$AC$10,0),1))","v":""},{"$f":"IF(AL129=\"\",\"\", INDEX(referentes!$AH:$AI,MATCH(DATOS_MIP_SS!AL129,referentes!$AI:$AI,0),1))","v":""},{"$f":"IF(AP129=\"\",\"\", INDEX(referentes!$AE$2:$AF$10,MATCH(DATOS_MIP_SS!AP129,referentes!$AF$2:$AF$10,0),1))","v":""},{"$f":"IF(AN129=\"\",\"\", INDEX(referentes!$AK$2:$AL$10,MATCH(DATOS_MIP_SS!AN129,referentes!$AL$2:$AL$10,0),1))","v":""},{"$f":"IF(AQ129=\"\",\"\", INDEX(referentes!J:K,MATCH(DATOS_MIP_SS!AQ129,referentes!$K:$K,0),1))","v":""},{"$f":"IF(AR129=\"\",\"\", INDEX(referentes!$M$2:$N$20,MATCH(DATOS_MIP_SS!AR129,referentes!$N$2:$N$20,0),1))","v":""},{"$f":"IF(AY129=\"\",\"\", INDEX('otras referencias'!O:P,MATCH(AY129,'otras referencias'!$O:$O,0),2))","v":""},null,null,null,null,null,{"$f":"IF(X129<>\"\",INDEX(referentes!$AN:$AR,MATCH(DATOS_MIP_SS!X129,referentes!$AO:$AO,0),5),\"\")","v":""}]
[null,null,null,"",{"$f":"IF(J130=\"\",\"\",CONCATENATE(AD130,DIGITADOR!$B$2,DIGITADOR!$M$1,J130))","v":""},{"$f":"IF(J130=\"\",\"\",CONCATENATE(DIGITADOR!$B$2,AD130,DIGITADOR!$M$1,J130,ROW()))","v":""},null,null,null,{"$f":"IF(X130=\"\",\"\", INDEX(referentes!$AN:$AR,MATCH(DATOS_MIP_SS!X130,referentes!$AO:$AO,0),1))","v":""},"",{"$f":"IF(AF130=\"\",\"\", INDEX(referentes!D:E,MATCH(DATOS_MIP_SS!AF130,referentes!$E:$E,0),1))","v":""},{"$f":"IF(AI130=\"\",\"\", INDEX(referentes!A:B,MATCH(DATOS_MIP_SS!AI130,referentes!$B:$B,0),1))","v":""},{"$f":"IF(AJ130=\"\",\"\", INDEX(referentes!G:H,MATCH(DATOS_MIP_SS!AJ130,referentes!$H:$H,0),1))","v":""},{"$f":"IF(AK130=\"\",\"\", INDEX(referentes!$AB$2:$AC$10,MATCH(DATOS_MIP_SS!AK130,referentes!$AC$2:$AC$10,0),1))","v":""},{"$f":"IF(AL130=\"\",\"\", INDEX(referentes!$AH:$AI,MATCH(DATOS_MIP_SS!AL130,referentes!$AI:$AI,0),1))","v":""},{"$f":"IF(AP130=\"\",\"\", INDEX(referentes!$AE$2:$AF$10,MATCH(DATOS_MIP_SS!AP130,referentes!$AF$2:$AF$10,0),1))","v":""},{"$f":"IF(AN130=\"\",\"\", INDEX(referentes!$AK$2:$AL$10,MATCH(DATOS_MIP_SS!AN130,referentes!$AL$2:$AL$10,0),1))","v":""},{"$f":"IF(AQ130=\"\",\"\", INDEX(referentes!J:K,MATCH(DATOS_MIP_SS!AQ130,referentes!$K:$K,0),1))","v":""},{"$f":"IF(AR130=\"\",\"\", INDEX(referentes!$M$2:$N$20,MATCH(DATOS_MIP_SS!AR130,referentes!$N$2:$N$20,0),1))","v":""},{"$f":"IF(AY130=\"\",\"\", INDEX('otras referencias'!O:P,MATCH(AY130,'otras referencias'!$O:$O,0),2))","v":""},null,null,null,null,null,{"$f":"IF(X130<>\"\",INDEX(referentes!$AN:$AR,MATCH(DATOS_MIP_SS!X130,referentes!$AO:$AO,0),5),\"\")","v":""}]
[null,null,null,"",{"$f":"IF(J131=\"\",\"\",CONCATENATE(AD131,DIGITADOR!$B$2,DIGITADOR!$M$1,J131))","v":""},{"$f":"IF(J131=\"\",\"\",CONCATENATE(DIGITADOR!$B$2,AD131,DIGITADOR!$M$1,J131,ROW()))","v":""},null,null,null,{"$f":"IF(X131=\"\",\"\", INDEX(referentes!$AN:$AR,MATCH(DATOS_MIP_SS!X131,referentes!$AO:$AO,0),1))","v":""},"",{"$f":"IF(AF131=\"\",\"\", INDEX(referentes!D:E,MATCH(DATOS_MIP_SS!AF131,referentes!$E:$E,0),1))","v":""},{"$f":"IF(AI131=\"\",\"\", INDEX(referentes!A:B,MATCH(DATOS_MIP_SS!AI131,referentes!$B:$B,0),1))","v":""},{"$f":"IF(AJ131=\"\",\"\", INDEX(referentes!G:H,MATCH(DATOS_MIP_SS!AJ131,referentes!$H:$H,0),1))","v":""},{"$f":"IF(AK131=\"\",\"\", INDEX(referentes!$AB$2:$AC$10,MATCH(DATOS_MIP_SS!AK131,referentes!$AC$2:$AC$10,0),1))","v":""},{"$f":"IF(AL131=\"\",\"\", INDEX(referentes!$AH:$AI,MATCH(DATOS_MIP_SS!AL131,referentes!$AI:$AI,0),1))","v":""},{"$f":"IF(AP131=\"\",\"\", INDEX(referentes!$AE$2:$AF$10,MATCH(DATOS_MIP_SS!AP131,referentes!$AF$2:$AF$10,0),1))","v":""},{"$f":"IF(AN131=\"\",\"\", INDEX(referentes!$AK$2:$AL$10,MATCH(DATOS_MIP_SS!AN131,referentes!$AL$2:$AL$10,0),1))","v":""},{"$f":"IF(AQ131=\"\",\"\", INDEX(referentes!J:K,MATCH(DATOS_MIP_SS!AQ131,referentes!$K:$K,0),1))","v":""},{"$f":"IF(AR131=\"\",\"\", INDEX(referentes!$M$2:$N$20,MATCH(DATOS_MIP_SS!AR131,referentes!$N$2:$N$20,0),1))","v":""},{"$f":"IF(AY131=\"\",\"\", INDEX('otras referencias'!O:P,MATCH(AY131,'otras referencias'!$O:$O,0),2))","v":""},null,null,null,null,null,{"$f":"IF(X131<>\"\",INDEX(referentes!$AN:$AR,MATCH(DATOS_MIP_SS!X131,referentes!$AO:$AO,0),5),\"\")","v":""}]
[null,null,null,"",{"$f":"IF(J132=\"\",\"\",CONCATENATE(AD132,DIGITADOR!$B$2,DIGITADOR!$M$1,J132))","v":""},{"$f":"IF(J132=\"\",\"\",CONCATENATE(DIGITADOR!$B$2,AD132,DIGITADOR!$M$1,J132,ROW()))","v":""},null,null,null,{"$f":"IF(X132=\"\",\"\", INDEX(referentes!$AN:$AR,MATCH(DATOS_MIP_SS!X132,referentes!$AO:$AO,0),1))","v":""},"",{"$f":"IF(AF132=\"\",\"\", INDEX(referentes!D:E,MATCH(DATOS_MIP_SS!AF132,referentes!$E:$E,0),1))","v":""},{"$f":"IF(AI132=\"\",\"\", INDEX(referentes!A:B,MATCH(DATOS_MIP_SS!AI132,referentes!$B:$B,0),1))","v":""},{"$f":"IF(AJ132=\"\",\"\", INDEX(referentes!G:H,MATCH(DATOS_MIP_SS!AJ132,referentes!$H:$H,0),1))","v":""},{"$f":"IF(AK132=\"\",\"\", INDEX(referentes!$AB$2:$AC$10,MATCH(DATOS_MIP_SS!AK132,referentes!$AC$2:$AC$10,0),1))","v":""},{"$f":"IF(AL132=\"\",\"\", INDEX(referentes!$AH:$AI,MATCH(DATOS_MIP_SS!AL132,referentes!$AI:$AI,0),1))","v":""},{"$f":"IF(AP132=\"\",\"\", INDEX(referentes!$AE$2:$AF$10,MATCH(DATOS_MIP_SS!AP132,referentes!$AF$2:$AF$10,0),1))","v":""},{"$f":"IF(AN132=\"\",\"\", INDEX(referentes!$AK$2:$AL$10,MATCH(DATOS_MIP_SS!AN132,referentes!$AL$2:$AL$10,0),1))","v":""},{"$f":"IF(AQ132=\"\",\"\", INDEX(referentes!J:K,MATCH(DATOS_MIP_SS!AQ132,referentes!$K:$K,0),1))","v":""},{"$f":"IF(AR132=\"\",\"\", INDEX(referentes!$M$2:$N$20,MATCH(DATOS_MIP_SS!AR132,referentes!$N$2:$N$20,0),1))","v":""},{"$f":"IF(AY132=\"\",\"\", INDEX('otras referencias'!O:P,MATCH(AY132,'otras referencias'!$O:$O,0),2))","v":""},null,null,null,null,null,{"$f":"IF(X132<>\"\",INDEX(referentes!$AN:$AR,MATCH(DATOS_MIP_SS!X132,referentes!$AO:$AO,0),5),\"\")","v":""}]
[null,null,null,"",{"$f":"IF(J133=\"\",\"\",CONCATENATE(AD133,DIGITADOR!$B$2,DIGITADOR!$M$1,J133))","v":""},{"$f":"IF(J133=\"\",\"\",CONCATENATE(DIGITADOR!$B$2,AD133,DIGITADOR!$M$1,J133,ROW()))","v":""},null,null,null,{"$f":"IF(X133=\"\",\"\", INDEX(referentes!$AN:$AR,MATCH(DATOS_MIP_SS!X133,referentes!$AO:$AO,0),1))","v":""},"",{"$f":"IF(AF133=\"\",\"\", INDEX(referentes!D:E,MATCH(DATOS_MIP_SS!AF133,referentes!$E:$E,0),1))","v":""},{"$f":"IF(AI133=\"\",\"\", INDEX(referentes!A:B,MATCH(DATOS_MIP_SS!AI133,referentes!$B:$B,0),1))","v":""},{"$f":"IF(AJ133=\"\",\"\", INDEX(referentes!G:H,MATCH(DATOS_MIP_SS!AJ133,referentes!$H:$H,0),1))","v":""},{"$f":"IF(AK133=\"\",\"\", INDEX(referentes!$AB$2:$AC$10,MATCH(DATOS_MIP_SS!AK133,referentes!$AC$2:$AC$10,0),1))","v":""},{"$f":"IF(AL133=\"\",\"\", INDEX(referentes!$AH:$AI,MATCH(DATOS_MIP_SS!AL133,referentes!$AI:$AI,0),1))","v":""},{"$f":"IF(AP133=\"\",\"\", INDEX(referentes!$AE$2:$AF$10,MATCH(DATOS_MIP_SS!AP133,referentes!$AF$2:$AF$10,0),1))","v":""},{"$f":"IF(AN133=\"\",\"\", INDEX(referentes!$AK$2:$AL$10,MATCH(DATOS_MIP_SS!AN133,referentes!$AL$2:$AL$10,0),1))","v":""},{"$f":"IF(AQ133=\"\",\"\", INDEX(referentes!J:K,MATCH(DATOS_MIP_SS!AQ133,referentes!$K:$K,0),1))","v":""},{"$f":"IF(AR133=\"\",\"\", INDEX(referentes!$M$2:$N$20,MATCH(DATOS_MIP_SS!AR133,referentes!$N$2:$N$20,0),1))","v":""},{"$f":"IF(AY133=\"\",\"\", INDEX('otras referencias'!O:P,MATCH(AY133,'otras referencias'!$O:$O,0),2))","v":""},null,null,null,null,null,{"$f":"IF(X133<>\"\",INDEX(referentes!$AN:$AR,MATCH(DATOS_MIP_SS!X133,referentes!$AO:$AO,0),5),\"\")","v":""}]
[null,null,null,"",{"$f":"IF(J134=\"\",\"\",CONCATENATE(AD134,DIGITADOR!$B$2,DIGITADOR!$M$1,J134))","v":""},{"$f":"IF(J134=\"\",\"\",CONCATENATE(DIGITADOR!$B$2,AD134,DIGITADOR!$M$1,J134,ROW()))","v":""},null,null,null,{"$f":"IF(X134=\"\",\"\", INDEX(referentes!$AN:$AR,MATCH(DATOS_MIP_SS!X134,referentes!$AO:$AO,0),1))","v":""},"",{"$f":"IF(AF134=\"\",\"\", INDEX(referentes!D:E,MATCH(DATOS_MIP_SS!AF134,referentes!$E:$E,0),1))","v":""},{"$f":"IF(AI134=\"\",\"\", INDEX(referentes!A:B,MATCH(DATOS_MIP_SS!AI134,referentes!$B:$B,0),1))","v":""},{"$f":"IF(AJ134=\"\",\"\", INDEX(referentes!G:H,MATCH(DATOS_MIP_SS!AJ134,referentes!$H:$H,0),1))","v":""},{"$f":"IF(AK134=\"\",\"\", INDEX(referentes!$AB$2:$AC$10,MATCH(DATOS_MIP_SS!AK134,referentes!$AC$2:$AC$10,0),1))","v":""},{"$f":"IF(AL134=\"\",\"\", INDEX(referentes!$AH:$AI,MATCH(DATOS_MIP_SS!AL134,referentes!$AI:$AI,0),1))","v":""},{"$f":"IF(AP134=\"\",\"\", INDEX(referentes!$AE$2:$AF$10,MATCH(DATOS_MIP_SS!AP134,referentes!$AF$2:$AF$10,0),1))","v":""},{"$f":"IF(AN134=\"\",\"\", INDEX(referentes!$AK$2:$AL$10,MATCH(DATOS_MIP_SS!AN134,referentes!$AL$2:$AL$10,0),1))","v":""},{"$f":"IF(AQ134=\"\",\"\", INDEX(referentes!J:K,MATCH(DATOS_MIP_SS!AQ134,referentes!$K:$K,0),1))","v":""},{"$f":"IF(AR134=\"\",\"\", INDEX(referentes!$M$2:$N$20,MATCH(DATOS_MIP_SS!AR134,referentes!$N$2:$N$20,0),1))","v":""},{"$f":"IF(AY134=\"\",\"\", INDEX('otras referencias'!O:P,MATCH(AY134,'otras referencias'!$O:$O,0),2))","v":""},null,null,null,null,null,{"$f":"IF(X134<>\"\",INDEX(referentes!$AN:$AR,MATCH(DATOS_MIP_SS!X134,referentes!$AO:$AO,0),5),\"\")","v":""}]
[null,null,null,"",{"$f":"IF(J135=\"\",\"\",CONCATENATE(AD135,DIGITADOR!$B$2,DIGITADOR!$M$1,J135))","v":""},{"$f":"IF(J135=\"\",\"\",CONCATENATE(DIGITADOR!$B$2,AD135,DIGITADOR!$M$1,J135,ROW()))","v":""},null,null,null,{"$f":"IF(X135=\"\",\"\", INDEX(referentes!$AN:$AR,MATCH(DATOS_MIP_SS!X135,referentes!$AO:$AO,0),1))","v":""},"",{"$f":"IF(AF135=\"\",\"\", INDEX(referentes!D:E,MATCH(DATOS_MIP_SS!AF135,referentes!$E:$E,0),1))","v":""},{"$f":"IF(AI135=\"\",\"\", INDEX(referentes!A:B,MATCH(DATOS_MIP_SS!AI135,referentes!$B:$B,0),1))","v":""},{"$f":"IF(AJ135=\"\",\"\", INDEX(referentes!G:H,MATCH(DATOS_MIP_SS!AJ135,referentes!$H:$H,0),1))","v":""},{"$f":"IF(AK135=\"\",\"\", INDEX(referentes!$AB$2:$AC$10,MATCH(DATOS_MIP_SS!AK135,referentes!$AC$2:$AC$10,0),1))","v":""},{"$f":"IF(AL135=\"\",\"\", INDEX(referentes!$AH:$AI,MATCH(DATOS_MIP_SS!AL135,referentes!$AI:$AI,0),1))","v":""},{"$f":"IF(AP135=\"\",\"\", INDEX(referentes!$AE$2:$AF$10,MATCH(DATOS_MIP_SS!AP135,referentes!$AF$2:$AF$10,0),1))","v":""},{"$f":"IF(AN135=\"\",\"\", INDEX(referentes!$AK$2:$AL$10,MATCH(DATOS_MIP_SS!AN135,referentes!$AL$2:$AL$10,0),1))","v":""},{"$f":"IF(AQ135=\"\",\"\", INDEX(referentes!J:K,MATCH(DATOS_MIP_SS!AQ135,referentes!$K:$K,0),1))","v":""},{"$f":"IF(AR135=\"\",\"\", INDEX(referentes!$M$2:$N$20,MATCH(DATOS_MIP_SS!AR135,referentes!$N$2:$N$20,0),1))","v":""},{"$f":"IF(AY135=\"\",\"\", INDEX('otras referencias'!O:P,MATCH(AY135,'otras referencias'!$O:$O,0),2))","v":""},null,null,null,null,null,{"$f":"IF(X135<>\"\",INDEX(referentes!$AN:$AR,MATCH(DATOS_MIP_SS!X135,referentes!$AO:$AO,0),5),\"\")","v":""}]
[null,null,null,"",{"$f":"IF(J136=\"\",\"\",CONCATENATE(AD136,DIGITADOR!$B$2,DIGITADOR!$M$1,J136))","v":""},{"$f":"IF(J136=\"\",\"\",CONCATENATE(DIGITADOR!$B$2,AD136,DIGITADOR!$M$1,J136,ROW()))","v":""},null,null,null,{"$f":"IF(X136=\"\",\"\", INDEX(referentes!$AN:$AR,MATCH(DATOS_MIP_SS!X136,referentes!$AO:$AO,0),1))","v":""},"",{"$f":"IF(AF136=\"\",\"\", INDEX(referentes!D:E,MATCH(DATOS_MIP_SS!AF136,referentes!$E:$E,0),1))","v":""},{"$f":"IF(AI136=\"\",\"\", INDEX(referentes!A:B,MATCH(DATOS_MIP_SS!AI136,referentes!$B:$B,0),1))","v":""},{"$f":"IF(AJ136=\"\",\"\", INDEX(referentes!G:H,MATCH(DATOS_MIP_SS!AJ136,referentes!$H:$H,0),1))","v":""},{"$f":"IF(AK136=\"\",\"\", INDEX(referentes!$AB$2:$AC$10,MATCH(DATOS_MIP_SS!AK136,referentes!$AC$2:$AC$10,0),1))","v":""},{"$f":"IF(AL136=\"\",\"\", INDEX(referentes!$AH:$AI,MATCH(DATOS_MIP_SS!AL136,referentes!$AI:$AI,0),1))","v":""},{"$f":"IF(AP136=\"\",\"\", INDEX(referentes!$AE$2:$AF$10,MATCH(DATOS_MIP_SS!AP136,referentes!$AF$2:$AF$10,0),1))","v":""},{"$f":"IF(AN136=\"\",\"\", INDEX(referentes!$AK$2:$AL$10,MATCH(DATOS_MIP_SS!AN136,referentes!$AL$2:$AL$10,0),1))","v":""},{"$f":"IF(AQ136=\"\",\"\", INDEX(referentes!J:K,MATCH(DATOS_MIP_SS!AQ136,referentes!$K:$K,0),1))","v":""},{"$f":"IF(AR136=\"\",\"\", INDEX(referentes!$M$2:$N$20,MATCH(DATOS_MIP_SS!AR136,referentes!$N$2:$N$20,0),1))","v":""},{"$f":"IF(AY136=\"\",\"\", INDEX('otras referencias'!O:P,MATCH(AY136,'otras referencias'!$O:$O,0),2))","v":""},null,null,null,null,null,{"$f":"IF(X136<>\"\",INDEX(referentes!$AN:$AR,MATCH(DATOS_MIP_SS!X136,referentes!$AO:$AO,0),5),\"\")","v":""}]
[null,null,null,"",{"$f":"IF(J137=\"\",\"\",CONCATENATE(AD137,DIGITADOR!$B$2,DIGITADOR!$M$1,J137))","v":""},{"$f":"IF(J137=\"\",\"\",CONCATENATE(DIGITADOR!$B$2,AD137,DIGITADOR!$M$1,J137,ROW()))","v":""},null,null,null,{"$f":"IF(X137=\"\",\"\", INDEX(referentes!$AN:$AR,MATCH(DATOS_MIP_SS!X137,referentes!$AO:$AO,0),1))","v":""},"",{"$f":"IF(AF137=\"\",\"\", INDEX(referentes!D:E,MATCH(DATOS_MIP_SS!AF137,referentes!$E:$E,0),1))","v":""},{"$f":"IF(AI137=\"\",\"\", INDEX(referentes!A:B,MATCH(DATOS_MIP_SS!AI137,referentes!$B:$B,0),1))","v":""},{"$f":"IF(AJ137=\"\",\"\", INDEX(referentes!G:H,MATCH(DATOS_MIP_SS!AJ137,referentes!$H:$H,0),1))","v":""},{"$f":"IF(AK137=\"\",\"\", INDEX(referentes!$AB$2:$AC$10,MATCH(DATOS_MIP_SS!AK137,referentes!$AC$2:$AC$10,0),1))","v":""},{"$f":"IF(AL137=\"\",\"\", INDEX(referentes!$AH:$AI,MATCH(DATOS_MIP_SS!AL137,referentes!$AI:$AI,0),1))","v":""},{"$f":"IF(AP137=\"\",\"\", INDEX(referentes!$AE$2:$AF$10,MATCH(DATOS_MIP_SS!AP137,referentes!$AF$2:$AF$10,0),1))","v":""},{"$f":"IF(AN137=\"\",\"\", INDEX(referentes!$AK$2:$AL$10,MATCH(DATOS_MIP_SS!AN137,referentes!$AL$2:$AL$10,0),1))","v":""},{"$f":"IF(AQ137=\"\",\"\", INDEX(referentes!J:K,MATCH(DATOS_MIP_SS!AQ137,referentes!$K:$K,0),1))","v":""},{"$f":"IF(AR137=\"\",\"\", INDEX(referentes!$M$2:$N$20,MATCH(DATOS_MIP_SS!AR137,referentes!$N$2:$N$20,0),1))","v":""},{"$f":"IF(AY137=\"\",\"\", INDEX('otras referencias'!O:P,MATCH(AY137,'otras referencias'!$O:$O,0),2))","v":""},null,null,null,null,null,{"$f":"IF(X137<>\"\",INDEX(referentes!$AN:$AR,MATCH(DATOS_MIP_SS!X137,referentes!$AO:$AO,0),5),\"\")","v":""}]
[null,null,null,"",{"$f":"IF(J138=\"\",\"\",CONCATENATE(AD138,DIGITADOR!$B$2,DIGITADOR!$M$1,J138))","v":""},{"$f":"IF(J138=\"\",\"\",CONCATENATE(DIGITADOR!$B$2,AD138,DIGITADOR!$M$1,J138,ROW()))","v":""},null,null,null,{"$f":"IF(X138=\"\",\"\", INDEX(referentes!$AN:$AR,MATCH(DATOS_MIP_SS!X138,referentes!$AO:$AO,0),1))","v":""},"",{"$f":"IF(AF138=\"\",\"\", INDEX(referentes!D:E,MATCH(DATOS_MIP_SS!AF138,referentes!$E:$E,0),1))","v":""},{"$f":"IF(AI138=\"\",\"\", INDEX(referentes!A:B,MATCH(DATOS_MIP_SS!AI138,referentes!$B:$B,0),1))","v":""},{"$f":"IF(AJ138=\"\",\"\", INDEX(referentes!G:H,MATCH(DATOS_MIP_SS!AJ138,referentes!$H:$H,0),1))","v":""},{"$f":"IF(AK138=\"\",\"\", INDEX(referentes!$AB$2:$AC$10,MATCH(DATOS_MIP_SS!AK138,referentes!$AC$2:$AC$10,0),1))","v":""},{"$f":"IF(AL138=\"\",\"\", INDEX(referentes!$AH:$AI,MATCH(DATOS_MIP_SS!AL138,referentes!$AI:$AI,0),1))","v":""},{"$f":"IF(AP138=\"\",\"\", INDEX(referentes!$AE$2:$AF$10,MATCH(DATOS_MIP_SS!AP138,referentes!$AF$2:$AF$10,0),1))","v":""},{"$f":"IF(AN138=\"\",\"\", INDEX(referentes!$AK$2:$AL$10,MATCH(DATOS_MIP_SS!AN138,referentes!$AL$2:$AL$10,0),1))","v":""},{"$f":"IF(AQ138=\"\",\"\", INDEX(referentes!J:K,MATCH(DATOS_MIP_SS!AQ138,referentes!$K:$K,0),1))","v":""},{"$f":"IF(AR138=\"\",\"\", INDEX(referentes!$M$2:$N$20,MATCH(DATOS_MIP_SS!AR138,referentes!$N$2:$N$20,0),1))","v":""},{"$f":"IF(AY138=\"\",\"\", INDEX('otras referencias'!O:P,MATCH(AY138,'otras referencias'!$O:$O,0),2))","v":""},null,null,null,null,null,{"$f":"IF(X138<>\"\",INDEX(referentes!$AN:$AR,MATCH(DATOS_MIP_SS!X138,referentes!$AO:$AO,0),5),\"\")","v":""}]
[null,null,null,"",{"$f":"IF(J139=\"\",\"\",CONCATENATE(AD139,DIGITADOR!$B$2,DIGITADOR!$M$1,J139))","v":""},{"$f":"IF(J139=\"\",\"\",CONCATENATE(DIGITADOR!$B$2,AD139,DIGITADOR!$M$1,J139,ROW()))","v":""},null,null,null,{"$f":"IF(X139=\"\",\"\", INDEX(referentes!$AN:$AR,MATCH(DATOS_MIP_SS!X139,referentes!$AO:$AO,0),1))","v":""},{"$f":"IF(AD139=\"\",\"\",AD139+AE139)","v":""},{"$f":"IF(AF139=\"\",\"\", INDEX(referentes!D:E,MATCH(DATOS_MIP_SS!AF139,referentes!$E:$E,0),1))","v":""},{"$f":"IF(AI139=\"\",\"\", INDEX(referentes!A:B,MATCH(DATOS_MIP_SS!AI139,referentes!$B:$B,0),1))","v":""},{"$f":"IF(AJ139=\"\",\"\", INDEX(referentes!G:H,MATCH(DATOS_MIP_SS!AJ139,referentes!$H:$H,0),1))","v":""},{"$f":"IF(AK139=\"\",\"\", INDEX(referentes!$AB$2:$AC$10,MATCH(DATOS_MIP_SS!AK139,referentes!$AC$2:$AC$10,0),1))","v":""},{"$f":"IF(AL139=\"\",\"\", INDEX(referentes!$AH:$AI,MATCH(DATOS_MIP_SS!AL139,referentes!$AI:$AI,0),1))","v":""},{"$f":"IF(AP139=\"\",\"\", INDEX(referentes!$AE$2:$AF$10,MATCH(DATOS_MIP_SS!AP139,referentes!$AF$2:$AF$10,0),1))","v":""},{"$f":"IF(AN139=\"\",\"\", INDEX(referentes!$AK$2:$AL$10,MATCH(DATOS_MIP_SS!AN139,referentes!$AL$2:$AL$10,0),1))","v":""},{"$f":"IF(AQ139=\"\",\"\", INDEX(referentes!J:K,MATCH(DATOS_MIP_SS!AQ139,referentes!$K:$K,0),1))","v":""},{"$f":"IF(AR139=\"\",\"\", INDEX(referentes!$M$2:$N$20,MATCH(DATOS_MIP_SS!AR139,referentes!$N$2:$N$20,0),1))","v":""},{"$f":"IF(AY139=\"\",\"\", INDEX('otras referencias'!O:P,MATCH(AY139,'otras referencias'!$O:$O,0),2))","v":""},null,null,null,null,null,{"$f":"IF(X139<>\"\",INDEX(referentes!$AN:$AR,MATCH(DATOS_MIP_SS!X139,referentes!$AO:$AO,0),5),\"\")","v":""}]
[null,null,null,{"$f":"IF(E140=\"\",\"\",IF(E140=E139,\"\",E140))","v":""},{"$f":"IF(J140=\"\",\"\",CONCATENATE(AD140,DIGITADOR!$B$2,DIGITADOR!$M$1,J140))","v":""},{"$f":"IF(J140=\"\",\"\",CONCATENATE(DIGITADOR!$B$2,AD140,DIGITADOR!$M$1,J140,ROW()))","v":""},null,null,null,{"$f":"IF(X140=\"\",\"\", INDEX(referentes!$AN:$AR,MATCH(DATOS_MIP_SS!X140,referentes!$AO:$AO,0),1))","v":""},"",{"$f":"IF(AF140=\"\",\"\", INDEX(referentes!D:E,MATCH(DATOS_MIP_SS!AF140,referentes!$E:$E,0),1))","v":""},{"$f":"IF(AI140=\"\",\"\", INDEX(referentes!A:B,MATCH(DATOS_MIP_SS!AI140,referentes!$B:$B,0),1))","v":""},{"$f":"IF(AJ140=\"\",\"\", INDEX(referentes!G:H,MATCH(DATOS_MIP_SS!AJ140,referentes!$H:$H,0),1))","v":""},{"$f":"IF(AK140=\"\",\"\", INDEX(referentes!$AB$2:$AC$10,MATCH(DATOS_MIP_SS!AK140,referentes!$AC$2:$AC$10,0),1))","v":""},{"$f":"IF(AL140=\"\",\"\", INDEX(referentes!$AH:$AI,MATCH(DATOS_MIP_SS!AL140,referentes!$AI:$AI,0),1))","v":""},{"$f":"IF(AP140=\"\",\"\", INDEX(referentes!$AE$2:$AF$10,MATCH(DATOS_MIP_SS!AP140,referentes!$AF$2:$AF$10,0),1))","v":""},{"$f":"IF(AN140=\"\",\"\", INDEX(referentes!$AK$2:$AL$10,MATCH(DATOS_MIP_SS!AN140,referentes!$AL$2:$AL$10,0),1))","v":""},{"$f":"IF(AQ140=\"\",\"\", INDEX(referentes!J:K,MATCH(DATOS_MIP_SS!AQ140,referentes!$K:$K,0),1))","v":""},{"$f":"IF(AR140=\"\",\"\", INDEX(referentes!$M$2:$N$20,MATCH(DATOS_MIP_SS!AR140,referentes!$N$2:$N$20,0),1))","v":""},{"$f":"IF(AY140=\"\",\"\", INDEX('otras referencias'!O:P,MATCH(AY140,'otras referencias'!$O:$O,0),2))","v":""},null,null,null,null,null,{"$f":"IF(X140<>\"\",INDEX(referentes!$AN:$AR,MATCH(DATOS_MIP_SS!X140,referentes!$AO:$AO,0),5),\"\")","v":""}]
[null,null,null,"",{"$f":"IF(J141=\"\",\"\",CONCATENATE(AD141,DIGITADOR!$B$2,DIGITADOR!$M$1,J141))","v":""},{"$f":"IF(J141=\"\",\"\",CONCATENATE(DIGITADOR!$B$2,AD141,DIGITADOR!$M$1,J141,ROW()))","v":""},null,null,null,{"$f":"IF(X141=\"\",\"\", INDEX(referentes!$AN:$AR,MATCH(DATOS_MIP_SS!X141,referentes!$AO:$AO,0),1))","v":""},"",{"$f":"IF(AF141=\"\",\"\", INDEX(referentes!D:E,MATCH(DATOS_MIP_SS!AF141,referentes!$E:$E,0),1))","v":""},{"$f":"IF(AI141=\"\",\"\", INDEX(referentes!A:B,MATCH(DATOS_MIP_SS!AI141,referentes!$B:$B,0),1))","v":""},{"$f":"IF(AJ141=\"\",\"\", INDEX(referentes!G:H,MATCH(DATOS_MIP_SS!AJ141,referentes!$H:$H,0),1))","v":""},{"$f":"IF(AK141=\"\",\"\", INDEX(referentes!$AB$2:$AC$10,MATCH(DATOS_MIP_SS!AK141,referentes!$AC$2:$AC$10,0),1))","v":""},{"$f":"IF(AL141=\"\",\"\", INDEX(referentes!$AH:$AI,MATCH(DATOS_MIP_SS!AL141,referentes!$AI:$AI,0),1))","v":""},{"$f":"IF(AP141=\"\",\"\", INDEX(referentes!$AE$2:$AF$10,MATCH(DATOS_MIP_SS!AP141,referentes!$AF$2:$AF$10,0),1))","v":""},{"$f":"IF(AN141=\"\",\"\", INDEX(referentes!$AK$2:$AL$10,MATCH(DATOS_MIP_SS!AN141,referentes!$AL$2:$AL$10,0),1))","v":""},{"$f":"IF(AQ141=\"\",\"\", INDEX(referentes!J:K,MATCH(DATOS_MIP_SS!AQ141,referentes!$K:$K,0),1))","v":""},{"$f":"IF(AR141=\"\",\"\", INDEX(referentes!$M$2:$N$20,MATCH(DATOS_MIP_SS!AR141,referentes!$N$2:$N$20,0),1))","v":""},{"$f":"IF(AY141=\"\",\"\", INDEX('otras referencias'!O:P,MATCH(AY141,'otras referencias'!$O:$O,0),2))","v":""},null,null,null,null,null,{"$f":"IF(X141<>\"\",INDEX(referentes!$AN:$AR,MATCH(DATOS_MIP_SS!X141,referentes!$AO:$AO,0),5),\"\")","v":""}]
[null,null,null,"",{"$f":"IF(J142=\"\",\"\",CONCATENATE(AD142,DIGITADOR!$B$2,DIGITADOR!$M$1,J142))","v":""},{"$f":"IF(J142=\"\",\"\",CONCATENATE(DIGITADOR!$B$2,AD142,DIGITADOR!$M$1,J142,ROW()))","v":""},null,null,null,{"$f":"IF(X142=\"\",\"\", INDEX(referentes!$AN:$AR,MATCH(DATOS_MIP_SS!X142,referentes!$AO:$AO,0),1))","v":""},"",{"$f":"IF(AF142=\"\",\"\", INDEX(referentes!D:E,MATCH(DATOS_MIP_SS!AF142,referentes!$E:$E,0),1))","v":""},{"$f":"IF(AI142=\"\",\"\", INDEX(referentes!A:B,MATCH(DATOS_MIP_SS!AI142,referentes!$B:$B,0),1))","v":""},{"$f":"IF(AJ142=\"\",\"\", INDEX(referentes!G:H,MATCH(DATOS_MIP_SS!AJ142,referentes!$H:$H,0),1))","v":""},{"$f":"IF(AK142=\"\",\"\", INDEX(referentes!$AB$2:$AC$10,MATCH(DATOS_MIP_SS!AK142,referentes!$AC$2:$AC$10,0),1))","v":""},{"$f":"IF(AL142=\"\",\"\", INDEX(referentes!$AH:$AI,MATCH(DATOS_MIP_SS!AL142,referentes!$AI:$AI,0),1))","v":""},{"$f":"IF(AP142=\"\",\"\", INDEX(referentes!$AE$2:$AF$10,MATCH(DATOS_MIP_SS!AP142,referentes!$AF$2:$AF$10,0),1))","v":""},{"$f":"IF(AN142=\"\",\"\", INDEX(referentes!$AK$2:$AL$10,MATCH(DATOS_MIP_SS!AN142,referentes!$AL$2:$AL$10,0),1))","v":""},{"$f":"IF(AQ142=\"\",\"\", INDEX(referentes!J:K,MATCH(DATOS_MIP_SS!AQ142,referentes!$K:$K,0),1))","v":""},{"$f":"IF(AR142=\"\",\"\", INDEX(referentes!$M$2:$N$20,MATCH(DATOS_MIP_SS!AR142,referentes!$N$2:$N$20,0),1))","v":""},{"$f":"IF(AY142=\"\",\"\", INDEX('otras referencias'!O:P,MATCH(AY142,'otras referencias'!$O:$O,0),2))","v":""},null,null,null,null,null,{"$f":"IF(X142<>\"\",INDEX(referentes!$AN:$AR,MATCH(DATOS_MIP_SS!X142,referentes!$AO:$AO,0),5),\"\")","v":""}]
[null,null,null,"",{"$f":"IF(J143=\"\",\"\",CONCATENATE(AD143,DIGITADOR!$B$2,DIGITADOR!$M$1,J143))","v":""},{"$f":"IF(J143=\"\",\"\",CONCATENATE(DIGITADOR!$B$2,AD143,DIGITADOR!$M$1,J143,ROW()))","v":""},null,null,null,{"$f":"IF(X143=\"\",\"\", INDEX(referentes!$AN:$AR,MATCH(DATOS_MIP_SS!X143,referentes!$AO:$AO,0),1))","v":""},"",{"$f":"IF(AF143=\"\",\"\", INDEX(referentes!D:E,MATCH(DATOS_MIP_SS!AF143,referentes!$E:$E,0),1))","v":""},{"$f":"IF(AI143=\"\",\"\", INDEX(referentes!A:B,MATCH(DATOS_MIP_SS!AI143,referentes!$B:$B,0),1))","v":""},{"$f":"IF(AJ143=\"\",\"\", INDEX(referentes!G:H,MATCH(DATOS_MIP_SS!AJ143,referentes!$H:$H,0),1))","v":""},{"$f":"IF(AK143=\"\",\"\", INDEX(referentes!$AB$2:$AC$10,MATCH(DATOS_MIP_SS!AK143,referentes!$AC$2:$AC$10,0),1))","v":""},{"$f":"IF(AL143=\"\",\"\", INDEX(referentes!$AH:$AI,MATCH(DATOS_MIP_SS!AL143,referentes!$AI:$AI,0),1))","v":""},{"$f":"IF(AP143=\"\",\"\", INDEX(referentes!$AE$2:$AF$10,MATCH(DATOS_MIP_SS!AP143,referentes!$AF$2:$AF$10,0),1))","v":""},{"$f":"IF(AN143=\"\",\"\", INDEX(referentes!$AK$2:$AL$10,MATCH(DATOS_MIP_SS!AN143,referentes!$AL$2:$AL$10,0),1))","v":""},{"$f":"IF(AQ143=\"\",\"\", INDEX(referentes!J:K,MATCH(DATOS_MIP_SS!AQ143,referentes!$K:$K,0),1))","v":""},{"$f":"IF(AR143=\"\",\"\", INDEX(referentes!$M$2:$N$20,MATCH(DATOS_MIP_SS!AR143,referentes!$N$2:$N$20,0),1))","v":""},{"$f":"IF(AY143=\"\",\"\", INDEX('otras referencias'!O:P,MATCH(AY143,'otras referencias'!$O:$O,0),2))","v":""},null,null,null,null,null,{"$f":"IF(X143<>\"\",INDEX(referentes!$AN:$AR,MATCH(DATOS_MIP_SS!X143,referentes!$AO:$AO,0),5),\"\")","v":""}]
[null,null,null,"",{"$f":"IF(J144=\"\",\"\",CONCATENATE(AD144,DIGITADOR!$B$2,DIGITADOR!$M$1,J144))","v":""},{"$f":"IF(J144=\"\",\"\",CONCATENATE(DIGITADOR!$B$2,AD144,DIGITADOR!$M$1,J144,ROW()))","v":""},null,null,null,{"$f":"IF(X144=\"\",\"\", INDEX(referentes!$AN:$AR,MATCH(DATOS_MIP_SS!X144,referentes!$AO:$AO,0),1))","v":""},"",{"$f":"IF(AF144=\"\",\"\", INDEX(referentes!D:E,MATCH(DATOS_MIP_SS!AF144,referentes!$E:$E,0),1))","v":""},{"$f":"IF(AI144=\"\",\"\", INDEX(referentes!A:B,MATCH(DATOS_MIP_SS!AI144,referentes!$B:$B,0),1))","v":""},{"$f":"IF(AJ144=\"\",\"\", INDEX(referentes!G:H,MATCH(DATOS_MIP_SS!AJ144,referentes!$H:$H,0),1))","v":""},{"$f":"IF(AK144=\"\",\"\", INDEX(referentes!$AB$2:$AC$10,MATCH(DATOS_MIP_SS!AK144,referentes!$AC$2:$AC$10,0),1))","v":""},{"$f":"IF(AL144=\"\",\"\", INDEX(referentes!$AH:$AI,MATCH(DATOS_MIP_SS!AL144,referentes!$AI:$AI,0),1))","v":""},{"$f":"IF(AP144=\"\",\"\", INDEX(referentes!$AE$2:$AF$10,MATCH(DATOS_MIP_SS!AP144,referentes!$AF$2:$AF$10,0),1))","v":""},{"$f":"IF(AN144=\"\",\"\", INDEX(referentes!$AK$2:$AL$10,MATCH(DATOS_MIP_SS!AN144,referentes!$AL$2:$AL$10,0),1))","v":""},{"$f":"IF(AQ144=\"\",\"\", INDEX(referentes!J:K,MATCH(DATOS_MIP_SS!AQ144,referentes!$K:$K,0),1))","v":""},{"$f":"IF(AR144=\"\",\"\", INDEX(referentes!$M$2:$N$20,MATCH(DATOS_MIP_SS!AR144,referentes!$N$2:$N$20,0),1))","v":""},{"$f":"IF(AY144=\"\",\"\", INDEX('otras referencias'!O:P,MATCH(AY144,'otras referencias'!$O:$O,0),2))","v":""},null,null,null,null,null,{"$f":"IF(X144<>\"\",INDEX(referentes!$AN:$AR,MATCH(DATOS_MIP_SS!X144,referentes!$AO:$AO,0),5),\"\")","v":""}]
[null,null,null,"",{"$f":"IF(J145=\"\",\"\",CONCATENATE(AD145,DIGITADOR!$B$2,DIGITADOR!$M$1,J145))","v":""},{"$f":"IF(J145=\"\",\"\",CONCATENATE(DIGITADOR!$B$2,AD145,DIGITADOR!$M$1,J145,ROW()))","v":""},null,null,null,{"$f":"IF(X145=\"\",\"\", INDEX(referentes!$AN:$AR,MATCH(DATOS_MIP_SS!X145,referentes!$AO:$AO,0),1))","v":""},"",{"$f":"IF(AF145=\"\",\"\", INDEX(referentes!D:E,MATCH(DATOS_MIP_SS!AF145,referentes!$E:$E,0),1))","v":""},{"$f":"IF(AI145=\"\",\"\", INDEX(referentes!A:B,MATCH(DATOS_MIP_SS!AI145,referentes!$B:$B,0),1))","v":""},{"$f":"IF(AJ145=\"\",\"\", INDEX(referentes!G:H,MATCH(DATOS_MIP_SS!AJ145,referentes!$H:$H,0),1))","v":""},{"$f":"IF(AK145=\"\",\"\", INDEX(referentes!$AB$2:$AC$10,MATCH(DATOS_MIP_SS!AK145,referentes!$AC$2:$AC$10,0),1))","v":""},{"$f":"IF(AL145=\"\",\"\", INDEX(referentes!$AH:$AI,MATCH(DATOS_MIP_SS!AL145,referentes!$AI:$AI,0),1))","v":""},{"$f":"IF(AP145=\"\",\"\", INDEX(referentes!$AE$2:$AF$10,MATCH(DATOS_MIP_SS!AP145,referentes!$AF$2:$AF$10,0),1))","v":""},{"$f":"IF(AN145=\"\",\"\", INDEX(referentes!$AK$2:$AL$10,MATCH(DATOS_MIP_SS!AN145,referentes!$AL$2:$AL$10,0),1))","v":""},{"$f":"IF(AQ145=\"\",\"\", INDEX(referentes!J:K,MATCH(DATOS_MIP_SS!AQ145,referentes!$K:$K,0),1))","v":""},{"$f":"IF(AR145=\"\",\"\", INDEX(referentes!$M$2:$N$20,MATCH(DATOS_MIP_SS!AR145,referentes!$N$2:$N$20,0),1))","v":""},{"$f":"IF(AY145=\"\",\"\", INDEX('otras referencias'!O:P,MATCH(AY145,'otras referencias'!$O:$O,0),2))","v":""},null,null,null,null,null,{"$f":"IF(X145<>\"\",INDEX(referentes!$AN:$AR,MATCH(DATOS_MIP_SS!X145,referentes!$AO:$AO,0),5),\"\")","v":""}]
[null,null,null,"",{"$f":"IF(J146=\"\",\"\",CONCATENATE(AD146,DIGITADOR!$B$2,DIGITADOR!$M$1,J146))","v":""},{"$f":"IF(J146=\"\",\"\",CONCATENATE(DIGITADOR!$B$2,AD146,DIGITADOR!$M$1,J146,ROW()))","v":""},null,null,null,{"$f":"IF(X146=\"\",\"\", INDEX(referentes!$AN:$AR,MATCH(DATOS_MIP_SS!X146,referentes!$AO:$AO,0),1))","v":""},"",{"$f":"IF(AF146=\"\",\"\", INDEX(referentes!D:E,MATCH(DATOS_MIP_SS!AF146,referentes!$E:$E,0),1))","v":""},{"$f":"IF(AI146=\"\",\"\", INDEX(referentes!A:B,MATCH(DATOS_MIP_SS!AI146,referentes!$B:$B,0),1))","v":""},{"$f":"IF(AJ146=\"\",\"\", INDEX(referentes!G:H,MATCH(DATOS_MIP_SS!AJ146,referentes!$H:$H,0),1))","v":""},{"$f":"IF(AK146=\"\",\"\", INDEX(referentes!$AB$2:$AC$10,MATCH(DATOS_MIP_SS!AK146,referentes!$AC$2:$AC$10,0),1))","v":""},{"$f":"IF(AL146=\"\",\"\", INDEX(referentes!$AH:$AI,MATCH(DATOS_MIP_SS!AL146,referentes!$AI:$AI,0),1))","v":""},{"$f":"IF(AP146=\"\",\"\", INDEX(referentes!$AE$2:$AF$10,MATCH(DATOS_MIP_SS!AP146,referentes!$AF$2:$AF$10,0),1))","v":""},{"$f":"IF(AN146=\"\",\"\", INDEX(referentes!$AK$2:$AL$10,MATCH(DATOS_MIP_SS!AN146,referentes!$AL$2:$AL$10,0),1))","v":""},{"$f":"IF(AQ146=\"\",\"\", INDEX(referentes!J:K,MATCH(DATOS_MIP_SS!AQ146,referentes!$K:$K,0),1))","v":""},{"$f":"IF(AR146=\"\",\"\", INDEX(referentes!$M$2:$N$20,MATCH(DATOS_MIP_SS!AR146,referentes!$N$2:$N$20,0),1))","v":""},{"$f":"IF(AY146=\"\",\"\", INDEX('otras referencias'!O:P,MATCH(AY146,'otras referencias'!$O:$O,0),2))","v":""},null,null,null,null,null,{"$f":"IF(X146<>\"\",INDEX(referentes!$AN:$AR,MATCH(DATOS_MIP_SS!X146,referentes!$AO:$AO,0),5),\"\")","v":""}]
[null,null,null,"",{"$f":"IF(J147=\"\",\"\",CONCATENATE(AD147,DIGITADOR!$B$2,DIGITADOR!$M$1,J147))","v":""},{"$f":"IF(J147=\"\",\"\",CONCATENATE(DIGITADOR!$B$2,AD147,DIGITADOR!$M$1,J147,ROW()))","v":""},null,null,null,{"$f":"IF(X147=\"\",\"\", INDEX(referentes!$AN:$AR,MATCH(DATOS_MIP_SS!X147,referentes!$AO:$AO,0),1))","v":""},"",{"$f":"IF(AF147=\"\",\"\", INDEX(referentes!D:E,MATCH(DATOS_MIP_SS!AF147,referentes!$E:$E,0),1))","v":""},{"$f":"IF(AI147=\"\",\"\", INDEX(referentes!A:B,MATCH(DATOS_MIP_SS!AI147,referentes!$B:$B,0),1))","v":""},{"$f":"IF(AJ147=\"\",\"\", INDEX(referentes!G:H,MATCH(DATOS_MIP_SS!AJ147,referentes!$H:$H,0),1))","v":""},{"$f":"IF(AK147=\"\",\"\", INDEX(referentes!$AB$2:$AC$10,MATCH(DATOS_MIP_SS!AK147,referentes!$AC$2:$AC$10,0),1))","v":""},{"$f":"IF(AL147=\"\",\"\", INDEX(referentes!$AH:$AI,MATCH(DATOS_MIP_SS!AL147,referentes!$AI:$AI,0),1))","v":""},{"$f":"IF(AP147=\"\",\"\", INDEX(referentes!$AE$2:$AF$10,MATCH(DATOS_MIP_SS!AP147,referentes!$AF$2:$AF$10,0),1))","v":""},{"$f":"IF(AN147=\"\",\"\", INDEX(referentes!$AK$2:$AL$10,MATCH(DATOS_MIP_SS!AN147,referentes!$AL$2:$AL$10,0),1))","v":""},{"$f":"IF(AQ147=\"\",\"\", INDEX(referentes!J:K,MATCH(DATOS_MIP_SS!AQ147,referentes!$K:$K,0),1))","v":""},{"$f":"IF(AR147=\"\",\"\", INDEX(referentes!$M$2:$N$20,MATCH(DATOS_MIP_SS!AR147,referentes!$N$2:$N$20,0),1))","v":""},{"$f":"IF(AY147=\"\",\"\", INDEX('otras referencias'!O:P,MATCH(AY147,'otras referencias'!$O:$O,0),2))","v":""},null,null,null,null,null,{"$f":"IF(X147<>\"\",INDEX(referentes!$AN:$AR,MATCH(DATOS_MIP_SS!X147,referentes!$AO:$AO,0),5),\"\")","v":""}]
[null,null,null,"",{"$f":"IF(J148=\"\",\"\",CONCATENATE(AD148,DIGITADOR!$B$2,DIGITADOR!$M$1,J148))","v":""},{"$f":"IF(J148=\"\",\"\",CONCATENATE(DIGITADOR!$B$2,AD148,DIGITADOR!$M$1,J148,ROW()))","v":""},null,null,null,{"$f":"IF(X148=\"\",\"\", INDEX(referentes!$AN:$AR,MATCH(DATOS_MIP_SS!X148,referentes!$AO:$AO,0),1))","v":""},"",{"$f":"IF(AF148=\"\",\"\", INDEX(referentes!D:E,MATCH(DATOS_MIP_SS!AF148,referentes!$E:$E,0),1))","v":""},{"$f":"IF(AI148=\"\",\"\", INDEX(referentes!A:B,MATCH(DATOS_MIP_SS!AI148,referentes!$B:$B,0),1))","v":""},{"$f":"IF(AJ148=\"\",\"\", INDEX(referentes!G:H,MATCH(DATOS_MIP_SS!AJ148,referentes!$H:$H,0),1))","v":""},{"$f":"IF(AK148=\"\",\"\", INDEX(referentes!$AB$2:$AC$10,MATCH(DATOS_MIP_SS!AK148,referentes!$AC$2:$AC$10,0),1))","v":""},{"$f":"IF(AL148=\"\",\"\", INDEX(referentes!$AH:$AI,MATCH(DATOS_MIP_SS!AL148,referentes!$AI:$AI,0),1))","v":""},{"$f":"IF(AP148=\"\",\"\", INDEX(referentes!$AE$2:$AF$10,MATCH(DATOS_MIP_SS!AP148,referentes!$AF$2:$AF$10,0),1))","v":""},{"$f":"IF(AN148=\"\",\"\", INDEX(referentes!$AK$2:$AL$10,MATCH(DATOS_MIP_SS!AN148,referentes!$AL$2:$AL$10,0),1))","v":""},{"$f":"IF(AQ148=\"\",\"\", INDEX(referentes!J:K,MATCH(DATOS_MIP_SS!AQ148,referentes!$K:$K,0),1))","v":""},{"$f":"IF(AR148=\"\",\"\", INDEX(referentes!$M$2:$N$20,MATCH(DATOS_MIP_SS!AR148,referentes!$N$2:$N$20,0),1))","v":""},{"$f":"IF(AY148=\"\",\"\", INDEX('otras referencias'!O:P,MATCH(AY148,'otras referencias'!$O:$O,0),2))","v":""},null,null,null,null,null,{"$f":"IF(X148<>\"\",INDEX(referentes!$AN:$AR,MATCH(DATOS_MIP_SS!X148,referentes!$AO:$AO,0),5),\"\")","v":""}]
[null,null,null,"",{"$f":"IF(J149=\"\",\"\",CONCATENATE(AD149,DIGITADOR!$B$2,DIGITADOR!$M$1,J149))","v":""},{"$f":"IF(J149=\"\",\"\",CONCATENATE(DIGITADOR!$B$2,AD149,DIGITADOR!$M$1,J149,ROW()))","v":""},null,null,null,{"$f":"IF(X149=\"\",\"\", INDEX(referentes!$AN:$AR,MATCH(DATOS_MIP_SS!X149,referentes!$AO:$AO,0),1))","v":""},"",{"$f":"IF(AF149=\"\",\"\", INDEX(referentes!D:E,MATCH(DATOS_MIP_SS!AF149,referentes!$E:$E,0),1))","v":""},{"$f":"IF(AI149=\"\",\"\", INDEX(referentes!A:B,MATCH(DATOS_MIP_SS!AI149,referentes!$B:$B,0),1))","v":""},{"$f":"IF(AJ149=\"\",\"\", INDEX(referentes!G:H,MATCH(DATOS_MIP_SS!AJ149,referentes!$H:$H,0),1))","v":""},{"$f":"IF(AK149=\"\",\"\", INDEX(referentes!$AB$2:$AC$10,MATCH(DATOS_MIP_SS!AK149,referentes!$AC$2:$AC$10,0),1))","v":""},{"$f":"IF(AL149=\"\",\"\", INDEX(referentes!$AH:$AI,MATCH(DATOS_MIP_SS!AL149,referentes!$AI:$AI,0),1))","v":""},{"$f":"IF(AP149=\"\",\"\", INDEX(referentes!$AE$2:$AF$10,MATCH(DATOS_MIP_SS!AP149,referentes!$AF$2:$AF$10,0),1))","v":""},{"$f":"IF(AN149=\"\",\"\", INDEX(referentes!$AK$2:$AL$10,MATCH(DATOS_MIP_SS!AN149,referentes!$AL$2:$AL$10,0),1))","v":""},{"$f":"IF(AQ149=\"\",\"\", INDEX(referentes!J:K,MATCH(DATOS_MIP_SS!AQ149,referentes!$K:$K,0),1))","v":""},{"$f":"IF(AR149=\"\",\"\", INDEX(referentes!$M$2:$N$20,MATCH(DATOS_MIP_SS!AR149,referentes!$N$2:$N$20,0),1))","v":""},{"$f":"IF(AY149=\"\",\"\", INDEX('otras referencias'!O:P,MATCH(AY149,'otras referencias'!$O:$O,0),2))","v":""},null,null,null,null,null,{"$f":"IF(X149<>\"\",INDEX(referentes!$AN:$AR,MATCH(DATOS_MIP_SS!X149,referentes!$AO:$AO,0),5),\"\")","v":""}]
[null,null,null,"",{"$f":"IF(J150=\"\",\"\",CONCATENATE(AD150,DIGITADOR!$B$2,DIGITADOR!$M$1,J150))","v":""},{"$f":"IF(J150=\"\",\"\",CONCATENATE(DIGITADOR!$B$2,AD150,DIGITADOR!$M$1,J150,ROW()))","v":""},null,null,null,{"$f":"IF(X150=\"\",\"\", INDEX(referentes!$AN:$AR,MATCH(DATOS_MIP_SS!X150,referentes!$AO:$AO,0),1))","v":""},"",{"$f":"IF(AF150=\"\",\"\", INDEX(referentes!D:E,MATCH(DATOS_MIP_SS!AF150,referentes!$E:$E,0),1))","v":""},{"$f":"IF(AI150=\"\",\"\", INDEX(referentes!A:B,MATCH(DATOS_MIP_SS!AI150,referentes!$B:$B,0),1))","v":""},{"$f":"IF(AJ150=\"\",\"\", INDEX(referentes!G:H,MATCH(DATOS_MIP_SS!AJ150,referentes!$H:$H,0),1))","v":""},{"$f":"IF(AK150=\"\",\"\", INDEX(referentes!$AB$2:$AC$10,MATCH(DATOS_MIP_SS!AK150,referentes!$AC$2:$AC$10,0),1))","v":""},{"$f":"IF(AL150=\"\",\"\", INDEX(referentes!$AH:$AI,MATCH(DATOS_MIP_SS!AL150,referentes!$AI:$AI,0),1))","v":""},{"$f":"IF(AP150=\"\",\"\", INDEX(referentes!$AE$2:$AF$10,MATCH(DATOS_MIP_SS!AP150,referentes!$AF$2:$AF$10,0),1))","v":""},{"$f":"IF(AN150=\"\",\"\", INDEX(referentes!$AK$2:$AL$10,MATCH(DATOS_MIP_SS!AN150,referentes!$AL$2:$AL$10,0),1))","v":""},{"$f":"IF(AQ150=\"\",\"\", INDEX(referentes!J:K,MATCH(DATOS_MIP_SS!AQ150,referentes!$K:$K,0),1))","v":""},{"$f":"IF(AR150=\"\",\"\", INDEX(referentes!$M$2:$N$20,MATCH(DATOS_MIP_SS!AR150,referentes!$N$2:$N$20,0),1))","v":""},{"$f":"IF(AY150=\"\",\"\", INDEX('otras referencias'!O:P,MATCH(AY150,'otras referencias'!$O:$O,0),2))","v":""},null,null,null,null,null,{"$f":"IF(X150<>\"\",INDEX(referentes!$AN:$AR,MATCH(DATOS_MIP_SS!X150,referentes!$AO:$AO,0),5),\"\")","v":""}]
[null,null,null,"",{"$f":"IF(J151=\"\",\"\",CONCATENATE(AD151,DIGITADOR!$B$2,DIGITADOR!$M$1,J151))","v":""},{"$f":"IF(J151=\"\",\"\",CONCATENATE(DIGITADOR!$B$2,AD151,DIGITADOR!$M$1,J151,ROW()))","v":""},null,null,null,{"$f":"IF(X151=\"\",\"\", INDEX(referentes!$AN:$AR,MATCH(DATOS_MIP_SS!X151,referentes!$AO:$AO,0),1))","v":""},"",{"$f":"IF(AF151=\"\",\"\", INDEX(referentes!D:E,MATCH(DATOS_MIP_SS!AF151,referentes!$E:$E,0),1))","v":""},{"$f":"IF(AI151=\"\",\"\", INDEX(referentes!A:B,MATCH(DATOS_MIP_SS!AI151,referentes!$B:$B,0),1))","v":""},{"$f":"IF(AJ151=\"\",\"\", INDEX(referentes!G:H,MATCH(DATOS_MIP_SS!AJ151,referentes!$H:$H,0),1))","v":""},{"$f":"IF(AK151=\"\",\"\", INDEX(referentes!$AB$2:$AC$10,MATCH(DATOS_MIP_SS!AK151,referentes!$AC$2:$AC$10,0),1))","v":""},{"$f":"IF(AL151=\"\",\"\", INDEX(referentes!$AH:$AI,MATCH(DATOS_MIP_SS!AL151,referentes!$AI:$AI,0),1))","v":""},{"$f":"IF(AP151=\"\",\"\", INDEX(referentes!$AE$2:$AF$10,MATCH(DATOS_MIP_SS!AP151,referentes!$AF$2:$AF$10,0),1))","v":""},{"$f":"IF(AN151=\"\",\"\", INDEX(referentes!$AK$2:$AL$10,MATCH(DATOS_MIP_SS!AN151,referentes!$AL$2:$AL$10,0),1))","v":""},{"$f":"IF(AQ151=\"\",\"\", INDEX(referentes!J:K,MATCH(DATOS_MIP_SS!AQ151,referentes!$K:$K,0),1))","v":""},{"$f":"IF(AR151=\"\",\"\", INDEX(referentes!$M$2:$N$20,MATCH(DATOS_MIP_SS!AR151,referentes!$N$2:$N$20,0),1))","v":""},{"$f":"IF(AY151=\"\",\"\", INDEX('otras referencias'!O:P,MATCH(AY151,'otras referencias'!$O:$O,0),2))","v":""},null,null,null,null,null,{"$f":"IF(X151<>\"\",INDEX(referentes!$AN:$AR,MATCH(DATOS_MIP_SS!X151,referentes!$AO:$AO,0),5),\"\")","v":""}]
[null,null,null,"",{"$f":"IF(J152=\"\",\"\",CONCATENATE(AD152,DIGITADOR!$B$2,DIGITADOR!$M$1,J152))","v":""},{"$f":"IF(J152=\"\",\"\",CONCATENATE(DIGITADOR!$B$2,AD152,DIGITADOR!$M$1,J152,ROW()))","v":""},null,null,null,{"$f":"IF(X152=\"\",\"\", INDEX(referentes!$AN:$AR,MATCH(DATOS_MIP_SS!X152,referentes!$AO:$AO,0),1))","v":""},"",{"$f":"IF(AF152=\"\",\"\", INDEX(referentes!D:E,MATCH(DATOS_MIP_SS!AF152,referentes!$E:$E,0),1))","v":""},{"$f":"IF(AI152=\"\",\"\", INDEX(referentes!A:B,MATCH(DATOS_MIP_SS!AI152,referentes!$B:$B,0),1))","v":""},{"$f":"IF(AJ152=\"\",\"\", INDEX(referentes!G:H,MATCH(DATOS_MIP_SS!AJ152,referentes!$H:$H,0),1))","v":""},{"$f":"IF(AK152=\"\",\"\", INDEX(referentes!$AB$2:$AC$10,MATCH(DATOS_MIP_SS!AK152,referentes!$AC$2:$AC$10,0),1))","v":""},{"$f":"IF(AL152=\"\",\"\", INDEX(referentes!$AH:$AI,MATCH(DATOS_MIP_SS!AL152,referentes!$AI:$AI,0),1))","v":""},{"$f":"IF(AP152=\"\",\"\", INDEX(referentes!$AE$2:$AF$10,MATCH(DATOS_MIP_SS!AP152,referentes!$AF$2:$AF$10,0),1))","v":""},{"$f":"IF(AN152=\"\",\"\", INDEX(referentes!$AK$2:$AL$10,MATCH(DATOS_MIP_SS!AN152,referentes!$AL$2:$AL$10,0),1))","v":""},{"$f":"IF(AQ152=\"\",\"\", INDEX(referentes!J:K,MATCH(DATOS_MIP_SS!AQ152,referentes!$K:$K,0),1))","v":""},{"$f":"IF(AR152=\"\",\"\", INDEX(referentes!$M$2:$N$20,MATCH(DATOS_MIP_SS!AR152,referentes!$N$2:$N$20,0),1))","v":""},{"$f":"IF(AY152=\"\",\"\", INDEX('otras referencias'!O:P,MATCH(AY152,'otras referencias'!$O:$O,0),2))","v":""},null,null,null,null,null,{"$f":"IF(X152<>\"\",INDEX(referentes!$AN:$AR,MATCH(DATOS_MIP_SS!X152,referentes!$AO:$AO,0),5),\"\")","v":""}]
[null,null,null,"",{"$f":"IF(J153=\"\",\"\",CONCATENATE(AD153,DIGITADOR!$B$2,DIGITADOR!$M$1,J153))","v":""},{"$f":"IF(J153=\"\",\"\",CONCATENATE(DIGITADOR!$B$2,AD153,DIGITADOR!$M$1,J153,ROW()))","v":""},null,null,null,{"$f":"IF(X153=\"\",\"\", INDEX(referentes!$AN:$AR,MATCH(DATOS_MIP_SS!X153,referentes!$AO:$AO,0),1))","v":""},"",{"$f":"IF(AF153=\"\",\"\", INDEX(referentes!D:E,MATCH(DATOS_MIP_SS!AF153,referentes!$E:$E,0),1))","v":""},{"$f":"IF(AI153=\"\",\"\", INDEX(referentes!A:B,MATCH(DATOS_MIP_SS!AI153,referentes!$B:$B,0),1))","v":""},{"$f":"IF(AJ153=\"\",\"\", INDEX(referentes!G:H,MATCH(DATOS_MIP_SS!AJ153,referentes!$H:$H,0),1))","v":""},{"$f":"IF(AK153=\"\",\"\", INDEX(referentes!$AB$2:$AC$10,MATCH(DATOS_MIP_SS!AK153,referentes!$AC$2:$AC$10,0),1))","v":""},{"$f":"IF(AL153=\"\",\"\", INDEX(referentes!$AH:$AI,MATCH(DATOS_MIP_SS!AL153,referentes!$AI:$AI,0),1))","v":""},{"$f":"IF(AP153=\"\",\"\", INDEX(referentes!$AE$2:$AF$10,MATCH(DATOS_MIP_SS!AP153,referentes!$AF$2:$AF$10,0),1))","v":""},{"$f":"IF(AN153=\"\",\"\", INDEX(referentes!$AK$2:$AL$10,MATCH(DATOS_MIP_SS!AN153,referentes!$AL$2:$AL$10,0),1))","v":""},{"$f":"IF(AQ153=\"\",\"\", INDEX(referentes!J:K,MATCH(DATOS_MIP_SS!AQ153,referentes!$K:$K,0),1))","v":""},{"$f":"IF(AR153=\"\",\"\", INDEX(referentes!$M$2:$N$20,MATCH(DATOS_MIP_SS!AR153,referentes!$N$2:$N$20,0),1))","v":""},{"$f":"IF(AY153=\"\",\"\", INDEX('otras referencias'!O:P,MATCH(AY153,'otras referencias'!$O:$O,0),2))","v":""},null,null,null,null,null,{"$f":"IF(X153<>\"\",INDEX(referentes!$AN:$AR,MATCH(DATOS_MIP_SS!X153,referentes!$AO:$AO,0),5),\"\")","v":""}]
[null,null,null,"",{"$f":"IF(J154=\"\",\"\",CONCATENATE(AD154,DIGITADOR!$B$2,DIGITADOR!$M$1,J154))","v":""},{"$f":"IF(J154=\"\",\"\",CONCATENATE(DIGITADOR!$B$2,AD154,DIGITADOR!$M$1,J154,ROW()))","v":""},null,null,null,{"$f":"IF(X154=\"\",\"\", INDEX(referentes!$AN:$AR,MATCH(DATOS_MIP_SS!X154,referentes!$AO:$AO,0),1))","v":""},"",{"$f":"IF(AF154=\"\",\"\", INDEX(referentes!D:E,MATCH(DATOS_MIP_SS!AF154,referentes!$E:$E,0),1))","v":""},{"$f":"IF(AI154=\"\",\"\", INDEX(referentes!A:B,MATCH(DATOS_MIP_SS!AI154,referentes!$B:$B,0),1))","v":""},{"$f":"IF(AJ154=\"\",\"\", INDEX(referentes!G:H,MATCH(DATOS_MIP_SS!AJ154,referentes!$H:$H,0),1))","v":""},{"$f":"IF(AK154=\"\",\"\", INDEX(referentes!$AB$2:$AC$10,MATCH(DATOS_MIP_SS!AK154,referentes!$AC$2:$AC$10,0),1))","v":""},{"$f":"IF(AL154=\"\",\"\", INDEX(referentes!$AH:$AI,MATCH(DATOS_MIP_SS!AL154,referentes!$AI:$AI,0),1))","v":""},{"$f":"IF(AP154=\"\",\"\", INDEX(referentes!$AE$2:$AF$10,MATCH(DATOS_MIP_SS!AP154,referentes!$AF$2:$AF$10,0),1))","v":""},{"$f":"IF(AN154=\"\",\"\", INDEX(referentes!$AK$2:$AL$10,MATCH(DATOS_MIP_SS!AN154,referentes!$AL$2:$AL$10,0),1))","v":""},{"$f":"IF(AQ154=\"\",\"\", INDEX(referentes!J:K,MATCH(DATOS_MIP_SS!AQ154,referentes!$K:$K,0),1))","v":""},{"$f":"IF(AR154=\"\",\"\", INDEX(referentes!$M$2:$N$20,MATCH(DATOS_MIP_SS!AR154,referentes!$N$2:$N$20,0),1))","v":""},{"$f":"IF(AY154=\"\",\"\", INDEX('otras referencias'!O:P,MATCH(AY154,'otras referencias'!$O:$O,0),2))","v":""},null,null,null,null,null,{"$f":"IF(X154<>\"\",INDEX(referentes!$AN:$AR,MATCH(DATOS_MIP_SS!X154,referentes!$AO:$AO,0),5),\"\")","v":""}]
[null,null,null,"",{"$f":"IF(J155=\"\",\"\",CONCATENATE(AD155,DIGITADOR!$B$2,DIGITADOR!$M$1,J155))","v":""},{"$f":"IF(J155=\"\",\"\",CONCATENATE(DIGITADOR!$B$2,AD155,DIGITADOR!$M$1,J155,ROW()))","v":""},null,null,null,{"$f":"IF(X155=\"\",\"\", INDEX(referentes!$AN:$AR,MATCH(DATOS_MIP_SS!X155,referentes!$AO:$AO,0),1))","v":""},"",{"$f":"IF(AF155=\"\",\"\", INDEX(referentes!D:E,MATCH(DATOS_MIP_SS!AF155,referentes!$E:$E,0),1))","v":""},{"$f":"IF(AI155=\"\",\"\", INDEX(referentes!A:B,MATCH(DATOS_MIP_SS!AI155,referentes!$B:$B,0),1))","v":""},{"$f":"IF(AJ155=\"\",\"\", INDEX(referentes!G:H,MATCH(DATOS_MIP_SS!AJ155,referentes!$H:$H,0),1))","v":""},{"$f":"IF(AK155=\"\",\"\", INDEX(referentes!$AB$2:$AC$10,MATCH(DATOS_MIP_SS!AK155,referentes!$AC$2:$AC$10,0),1))","v":""},{"$f":"IF(AL155=\"\",\"\", INDEX(referentes!$AH:$AI,MATCH(DATOS_MIP_SS!AL155,referentes!$AI:$AI,0),1))","v":""},{"$f":"IF(AP155=\"\",\"\", INDEX(referentes!$AE$2:$AF$10,MATCH(DATOS_MIP_SS!AP155,referentes!$AF$2:$AF$10,0),1))","v":""},{"$f":"IF(AN155=\"\",\"\", INDEX(referentes!$AK$2:$AL$10,MATCH(DATOS_MIP_SS!AN155,referentes!$AL$2:$AL$10,0),1))","v":""},{"$f":"IF(AQ155=\"\",\"\", INDEX(referentes!J:K,MATCH(DATOS_MIP_SS!AQ155,referentes!$K:$K,0),1))","v":""},{"$f":"IF(AR155=\"\",\"\", INDEX(referentes!$M$2:$N$20,MATCH(DATOS_MIP_SS!AR155,referentes!$N$2:$N$20,0),1))","v":""},{"$f":"IF(AY155=\"\",\"\", INDEX('otras referencias'!O:P,MATCH(AY155,'otras referencias'!$O:$O,0),2))","v":""},null,null,null,null,null,{"$f":"IF(X155<>\"\",INDEX(referentes!$AN:$AR,MATCH(DATOS_MIP_SS!X155,referentes!$AO:$AO,0),5),\"\")","v":""}]
[null,null,null,"",{"$f":"IF(J156=\"\",\"\",CONCATENATE(AD156,DIGITADOR!$B$2,DIGITADOR!$M$1,J156))","v":""},{"$f":"IF(J156=\"\",\"\",CONCATENATE(DIGITADOR!$B$2,AD156,DIGITADOR!$M$1,J156,ROW()))","v":""},null,null,null,{"$f":"IF(X156=\"\",\"\", INDEX(referentes!$AN:$AR,MATCH(DATOS_MIP_SS!X156,referentes!$AO:$AO,0),1))","v":""},"",{"$f":"IF(AF156=\"\",\"\", INDEX(referentes!D:E,MATCH(DATOS_MIP_SS!AF156,referentes!$E:$E,0),1))","v":""},{"$f":"IF(AI156=\"\",\"\", INDEX(referentes!A:B,MATCH(DATOS_MIP_SS!AI156,referentes!$B:$B,0),1))","v":""},{"$f":"IF(AJ156=\"\",\"\", INDEX(referentes!G:H,MATCH(DATOS_MIP_SS!AJ156,referentes!$H:$H,0),1))","v":""},{"$f":"IF(AK156=\"\",\"\", INDEX(referentes!$AB$2:$AC$10,MATCH(DATOS_MIP_SS!AK156,referentes!$AC$2:$AC$10,0),1))","v":""},{"$f":"IF(AL156=\"\",\"\", INDEX(referentes!$AH:$AI,MATCH(DATOS_MIP_SS!AL156,referentes!$AI:$AI,0),1))","v":""},{"$f":"IF(AP156=\"\",\"\", INDEX(referentes!$AE$2:$AF$10,MATCH(DATOS_MIP_SS!AP156,referentes!$AF$2:$AF$10,0),1))","v":""},{"$f":"IF(AN156=\"\",\"\", INDEX(referentes!$AK$2:$AL$10,MATCH(DATOS_MIP_SS!AN156,referentes!$AL$2:$AL$10,0),1))","v":""},{"$f":"IF(AQ156=\"\",\"\", INDEX(referentes!J:K,MATCH(DATOS_MIP_SS!AQ156,referentes!$K:$K,0),1))","v":""},{"$f":"IF(AR156=\"\",\"\", INDEX(referentes!$M$2:$N$20,MATCH(DATOS_MIP_SS!AR156,referentes!$N$2:$N$20,0),1))","v":""},{"$f":"IF(AY156=\"\",\"\", INDEX('otras referencias'!O:P,MATCH(AY156,'otras referencias'!$O:$O,0),2))","v":""},null,null,null,null,null,{"$f":"IF(X156<>\"\",INDEX(referentes!$AN:$AR,MATCH(DATOS_MIP_SS!X156,referentes!$AO:$AO,0),5),\"\")","v":""}]
[null,null,null,"",{"$f":"IF(J157=\"\",\"\",CONCATENATE(AD157,DIGITADOR!$B$2,DIGITADOR!$M$1,J157))","v":""},{"$f":"IF(J157=\"\",\"\",CONCATENATE(DIGITADOR!$B$2,AD157,DIGITADOR!$M$1,J157,ROW()))","v":""},null,null,null,{"$f":"IF(X157=\"\",\"\", INDEX(referentes!$AN:$AR,MATCH(DATOS_MIP_SS!X157,referentes!$AO:$AO,0),1))","v":""},"",{"$f":"IF(AF157=\"\",\"\", INDEX(referentes!D:E,MATCH(DATOS_MIP_SS!AF157,referentes!$E:$E,0),1))","v":""},{"$f":"IF(AI157=\"\",\"\", INDEX(referentes!A:B,MATCH(DATOS_MIP_SS!AI157,referentes!$B:$B,0),1))","v":""},{"$f":"IF(AJ157=\"\",\"\", INDEX(referentes!G:H,MATCH(DATOS_MIP_SS!AJ157,referentes!$H:$H,0),1))","v":""},{"$f":"IF(AK157=\"\",\"\", INDEX(referentes!$AB$2:$AC$10,MATCH(DATOS_MIP_SS!AK157,referentes!$AC$2:$AC$10,0),1))","v":""},{"$f":"IF(AL157=\"\",\"\", INDEX(referentes!$AH:$AI,MATCH(DATOS_MIP_SS!AL157,referentes!$AI:$AI,0),1))","v":""},{"$f":"IF(AP157=\"\",\"\", INDEX(referentes!$AE$2:$AF$10,MATCH(DATOS_MIP_SS!AP157,referentes!$AF$2:$AF$10,0),1))","v":""},{"$f":"IF(AN157=\"\",\"\", INDEX(referentes!$AK$2:$AL$10,MATCH(DATOS_MIP_SS!AN157,referentes!$AL$2:$AL$10,0),1))","v":""},{"$f":"IF(AQ157=\"\",\"\", INDEX(referentes!J:K,MATCH(DATOS_MIP_SS!AQ157,referentes!$K:$K,0),1))","v":""},{"$f":"IF(AR157=\"\",\"\", INDEX(referentes!$M$2:$N$20,MATCH(DATOS_MIP_SS!AR157,referentes!$N$2:$N$20,0),1))","v":""},{"$f":"IF(AY157=\"\",\"\", INDEX('otras referencias'!O:P,MATCH(AY157,'otras referencias'!$O:$O,0),2))","v":""},null,null,null,null,null,{"$f":"IF(X157<>\"\",INDEX(referentes!$AN:$AR,MATCH(DATOS_MIP_SS!X157,referentes!$AO:$AO,0),5),\"\")","v":""}]
[null,null,null,"",{"$f":"IF(J158=\"\",\"\",CONCATENATE(AD158,DIGITADOR!$B$2,DIGITADOR!$M$1,J158))","v":""},{"$f":"IF(J158=\"\",\"\",CONCATENATE(DIGITADOR!$B$2,AD158,DIGITADOR!$M$1,J158,ROW()))","v":""},null,null,null,{"$f":"IF(X158=\"\",\"\", INDEX(referentes!$AN:$AR,MATCH(DATOS_MIP_SS!X158,referentes!$AO:$AO,0),1))","v":""},"",{"$f":"IF(AF158=\"\",\"\", INDEX(referentes!D:E,MATCH(DATOS_MIP_SS!AF158,referentes!$E:$E,0),1))","v":""},{"$f":"IF(AI158=\"\",\"\", INDEX(referentes!A:B,MATCH(DATOS_MIP_SS!AI158,referentes!$B:$B,0),1))","v":""},{"$f":"IF(AJ158=\"\",\"\", INDEX(referentes!G:H,MATCH(DATOS_MIP_SS!AJ158,referentes!$H:$H,0),1))","v":""},{"$f":"IF(AK158=\"\",\"\", INDEX(referentes!$AB$2:$AC$10,MATCH(DATOS_MIP_SS!AK158,referentes!$AC$2:$AC$10,0),1))","v":""},{"$f":"IF(AL158=\"\",\"\", INDEX(referentes!$AH:$AI,MATCH(DATOS_MIP_SS!AL158,referentes!$AI:$AI,0),1))","v":""},{"$f":"IF(AP158=\"\",\"\", INDEX(referentes!$AE$2:$AF$10,MATCH(DATOS_MIP_SS!AP158,referentes!$AF$2:$AF$10,0),1))","v":""},{"$f":"IF(AN158=\"\",\"\", INDEX(referentes!$AK$2:$AL$10,MATCH(DATOS_MIP_SS!AN158,referentes!$AL$2:$AL$10,0),1))","v":""},{"$f":"IF(AQ158=\"\",\"\", INDEX(referentes!J:K,MATCH(DATOS_MIP_SS!AQ158,referentes!$K:$K,0),1))","v":""},{"$f":"IF(AR158=\"\",\"\", INDEX(referentes!$M$2:$N$20,MATCH(DATOS_MIP_SS!AR158,referentes!$N$2:$N$20,0),1))","v":""},{"$f":"IF(AY158=\"\",\"\", INDEX('otras referencias'!O:P,MATCH(AY158,'otras referencias'!$O:$O,0),2))","v":""},null,null,null,null,null,{"$f":"IF(X158<>\"\",INDEX(referentes!$AN:$AR,MATCH(DATOS_MIP_SS!X158,referentes!$AO:$AO,0),5),\"\")","v":""}]
[null,null,null,"",{"$f":"IF(J159=\"\",\"\",CONCATENATE(AD159,DIGITADOR!$B$2,DIGITADOR!$M$1,J159))","v":""},{"$f":"IF(J159=\"\",\"\",CONCATENATE(DIGITADOR!$B$2,AD159,DIGITADOR!$M$1,J159,ROW()))","v":""},null,null,null,{"$f":"IF(X159=\"\",\"\", INDEX(referentes!$AN:$AR,MATCH(DATOS_MIP_SS!X159,referentes!$AO:$AO,0),1))","v":""},"",{"$f":"IF(AF159=\"\",\"\", INDEX(referentes!D:E,MATCH(DATOS_MIP_SS!AF159,referentes!$E:$E,0),1))","v":""},{"$f":"IF(AI159=\"\",\"\", INDEX(referentes!A:B,MATCH(DATOS_MIP_SS!AI159,referentes!$B:$B,0),1))","v":""},{"$f":"IF(AJ159=\"\",\"\", INDEX(referentes!G:H,MATCH(DATOS_MIP_SS!AJ159,referentes!$H:$H,0),1))","v":""},{"$f":"IF(AK159=\"\",\"\", INDEX(referentes!$AB$2:$AC$10,MATCH(DATOS_MIP_SS!AK159,referentes!$AC$2:$AC$10,0),1))","v":""},{"$f":"IF(AL159=\"\",\"\", INDEX(referentes!$AH:$AI,MATCH(DATOS_MIP_SS!AL159,referentes!$AI:$AI,0),1))","v":""},{"$f":"IF(AP159=\"\",\"\", INDEX(referentes!$AE$2:$AF$10,MATCH(DATOS_MIP_SS!AP159,referentes!$AF$2:$AF$10,0),1))","v":""},{"$f":"IF(AN159=\"\",\"\", INDEX(referentes!$AK$2:$AL$10,MATCH(DATOS_MIP_SS!AN159,referentes!$AL$2:$AL$10,0),1))","v":""},{"$f":"IF(AQ159=\"\",\"\", INDEX(referentes!J:K,MATCH(DATOS_MIP_SS!AQ159,referentes!$K:$K,0),1))","v":""},{"$f":"IF(AR159=\"\",\"\", INDEX(referentes!$M$2:$N$20,MATCH(DATOS_MIP_SS!AR159,referentes!$N$2:$N$20,0),1))","v":""},{"$f":"IF(AY159=\"\",\"\", INDEX('otras referencias'!O:P,MATCH(AY159,'otras referencias'!$O:$O,0),2))","v":""},null,null,null,null,null,{"$f":"IF(X159<>\"\",INDEX(referentes!$AN:$AR,MATCH(DATOS_MIP_SS!X159,referentes!$AO:$AO,0),5),\"\")","v":""}]
[null,null,null,"",{"$f":"IF(J160=\"\",\"\",CONCATENATE(AD160,DIGITADOR!$B$2,DIGITADOR!$M$1,J160))","v":""},{"$f":"IF(J160=\"\",\"\",CONCATENATE(DIGITADOR!$B$2,AD160,DIGITADOR!$M$1,J160,ROW()))","v":""},null,null,null,{"$f":"IF(X160=\"\",\"\", INDEX(referentes!$AN:$AR,MATCH(DATOS_MIP_SS!X160,referentes!$AO:$AO,0),1))","v":""},"",{"$f":"IF(AF160=\"\",\"\", INDEX(referentes!D:E,MATCH(DATOS_MIP_SS!AF160,referentes!$E:$E,0),1))","v":""},{"$f":"IF(AI160=\"\",\"\", INDEX(referentes!A:B,MATCH(DATOS_MIP_SS!AI160,referentes!$B:$B,0),1))","v":""},{"$f":"IF(AJ160=\"\",\"\", INDEX(referentes!G:H,MATCH(DATOS_MIP_SS!AJ160,referentes!$H:$H,0),1))","v":""},{"$f":"IF(AK160=\"\",\"\", INDEX(referentes!$AB$2:$AC$10,MATCH(DATOS_MIP_SS!AK160,referentes!$AC$2:$AC$10,0),1))","v":""},{"$f":"IF(AL160=\"\",\"\", INDEX(referentes!$AH:$AI,MATCH(DATOS_MIP_SS!AL160,referentes!$AI:$AI,0),1))","v":""},{"$f":"IF(AP160=\"\",\"\", INDEX(referentes!$AE$2:$AF$10,MATCH(DATOS_MIP_SS!AP160,referentes!$AF$2:$AF$10,0),1))","v":""},{"$f":"IF(AN160=\"\",\"\", INDEX(referentes!$AK$2:$AL$10,MATCH(DATOS_MIP_SS!AN160,referentes!$AL$2:$AL$10,0),1))","v":""},{"$f":"IF(AQ160=\"\",\"\", INDEX(referentes!J:K,MATCH(DATOS_MIP_SS!AQ160,referentes!$K:$K,0),1))","v":""},{"$f":"IF(AR160=\"\",\"\", INDEX(referentes!$M$2:$N$20,MATCH(DATOS_MIP_SS!AR160,referentes!$N$2:$N$20,0),1))","v":""},{"$f":"IF(AY160=\"\",\"\", INDEX('otras referencias'!O:P,MATCH(AY160,'otras referencias'!$O:$O,0),2))","v":""},null,null,null,null,null,{"$f":"IF(X160<>\"\",INDEX(referentes!$AN:$AR,MATCH(DATOS_MIP_SS!X160,referentes!$AO:$AO,0),5),\"\")","v":""}]
[null,null,null,"",{"$f":"IF(J161=\"\",\"\",CONCATENATE(AD161,DIGITADOR!$B$2,DIGITADOR!$M$1,J161))","v":""},{"$f":"IF(J161=\"\",\"\",CONCATENATE(DIGITADOR!$B$2,AD161,DIGITADOR!$M$1,J161,ROW()))","v":""},null,null,null,{"$f":"IF(X161=\"\",\"\", INDEX(referentes!$AN:$AR,MATCH(DATOS_MIP_SS!X161,referentes!$AO:$AO,0),1))","v":""},"",{"$f":"IF(AF161=\"\",\"\", INDEX(referentes!D:E,MATCH(DATOS_MIP_SS!AF161,referentes!$E:$E,0),1))","v":""},{"$f":"IF(AI161=\"\",\"\", INDEX(referentes!A:B,MATCH(DATOS_MIP_SS!AI161,referentes!$B:$B,0),1))","v":""},{"$f":"IF(AJ161=\"\",\"\", INDEX(referentes!G:H,MATCH(DATOS_MIP_SS!AJ161,referentes!$H:$H,0),1))","v":""},{"$f":"IF(AK161=\"\",\"\", INDEX(referentes!$AB$2:$AC$10,MATCH(DATOS_MIP_SS!AK161,referentes!$AC$2:$AC$10,0),1))","v":""},{"$f":"IF(AL161=\"\",\"\", INDEX(referentes!$AH:$AI,MATCH(DATOS_MIP_SS!AL161,referentes!$AI:$AI,0),1))","v":""},{"$f":"IF(AP161=\"\",\"\", INDEX(referentes!$AE$2:$AF$10,MATCH(DATOS_MIP_SS!AP161,referentes!$AF$2:$AF$10,0),1))","v":""},{"$f":"IF(AN161=\"\",\"\", INDEX(referentes!$AK$2:$AL$10,MATCH(DATOS_MIP_SS!AN161,referentes!$AL$2:$AL$10,0),1))","v":""},{"$f":"IF(AQ161=\"\",\"\", INDEX(referentes!J:K,MATCH(DATOS_MIP_SS!AQ161,referentes!$K:$K,0),1))","v":""},{"$f":"IF(AR161=\"\",\"\", INDEX(referentes!$M$2:$N$20,MATCH(DATOS_MIP_SS!AR161,referentes!$N$2:$N$20,0),1))","v":""},{"$f":"IF(AY161=\"\",\"\", INDEX('otras referencias'!O:P,MATCH(AY161,'otras referencias'!$O:$O,0),2))","v":""},null,null,null,null,null,{"$f":"IF(X161<>\"\",INDEX(referentes!$AN:$AR,MATCH(DATOS_MIP_SS!X161,referentes!$AO:$AO,0),5),\"\")","v":""}]
[null,null,null,"",{"$f":"IF(J162=\"\",\"\",CONCATENATE(AD162,DIGITADOR!$B$2,DIGITADOR!$M$1,J162))","v":""},{"$f":"IF(J162=\"\",\"\",CONCATENATE(DIGITADOR!$B$2,AD162,DIGITADOR!$M$1,J162,ROW()))","v":""},null,null,null,{"$f":"IF(X162=\"\",\"\", INDEX(referentes!$AN:$AR,MATCH(DATOS_MIP_SS!X162,referentes!$AO:$AO,0),1))","v":""},"",{"$f":"IF(AF162=\"\",\"\", INDEX(referentes!D:E,MATCH(DATOS_MIP_SS!AF162,referentes!$E:$E,0),1))","v":""},{"$f":"IF(AI162=\"\",\"\", INDEX(referentes!A:B,MATCH(DATOS_MIP_SS!AI162,referentes!$B:$B,0),1))","v":""},{"$f":"IF(AJ162=\"\",\"\", INDEX(referentes!G:H,MATCH(DATOS_MIP_SS!AJ162,referentes!$H:$H,0),1))","v":""},{"$f":"IF(AK162=\"\",\"\", INDEX(referentes!$AB$2:$AC$10,MATCH(DATOS_MIP_SS!AK162,referentes!$AC$2:$AC$10,0),1))","v":""},{"$f":"IF(AL162=\"\",\"\", INDEX(referentes!$AH:$AI,MATCH(DATOS_MIP_SS!AL162,referentes!$AI:$AI,0),1))","v":""},{"$f":"IF(AP162=\"\",\"\", INDEX(referentes!$AE$2:$AF$10,MATCH(DATOS_MIP_SS!AP162,referentes!$AF$2:$AF$10,0),1))","v":""},{"$f":"IF(AN162=\"\",\"\", INDEX(referentes!$AK$2:$AL$10,MATCH(DATOS_MIP_SS!AN162,referentes!$AL$2:$AL$10,0),1))","v":""},{"$f":"IF(AQ162=\"\",\"\", INDEX(referentes!J:K,MATCH(DATOS_MIP_SS!AQ162,referentes!$K:$K,0),1))","v":""},{"$f":"IF(AR162=\"\",\"\", INDEX(referentes!$M$2:$N$20,MATCH(DATOS_MIP_SS!AR162,referentes!$N$2:$N$20,0),1))","v":""},{"$f":"IF(AY162=\"\",\"\", INDEX('otras referencias'!O:P,MATCH(AY162,'otras referencias'!$O:$O,0),2))","v":""},null,null,null,null,null,{"$f":"IF(X162<>\"\",INDEX(referentes!$AN:$AR,MATCH(DATOS_MIP_SS!X162,referentes!$AO:$AO,0),5),\"\")","v":""}]
[null,null,null,"",{"$f":"IF(J163=\"\",\"\",CONCATENATE(AD163,DIGITADOR!$B$2,DIGITADOR!$M$1,J163))","v":""},{"$f":"IF(J163=\"\",\"\",CONCATENATE(DIGITADOR!$B$2,AD163,DIGITADOR!$M$1,J163,ROW()))","v":""},null,null,null,{"$f":"IF(X163=\"\",\"\", INDEX(referentes!$AN:$AR,MATCH(DATOS_MIP_SS!X163,referentes!$AO:$AO,0),1))","v":""},"",{"$f":"IF(AF163=\"\",\"\", INDEX(referentes!D:E,MATCH(DATOS_MIP_SS!AF163,referentes!$E:$E,0),1))","v":""},{"$f":"IF(AI163=\"\",\"\", INDEX(referentes!A:B,MATCH(DATOS_MIP_SS!AI163,referentes!$B:$B,0),1))","v":""},{"$f":"IF(AJ163=\"\",\"\", INDEX(referentes!G:H,MATCH(DATOS_MIP_SS!AJ163,referentes!$H:$H,0),1))","v":""},{"$f":"IF(AK163=\"\",\"\", INDEX(referentes!$AB$2:$AC$10,MATCH(DATOS_MIP_SS!AK163,referentes!$AC$2:$AC$10,0),1))","v":""},{"$f":"IF(AL163=\"\",\"\", INDEX(referentes!$AH:$AI,MATCH(DATOS_MIP_SS!AL163,referentes!$AI:$AI,0),1))","v":""},{"$f":"IF(AP163=\"\",\"\", INDEX(referentes!$AE$2:$AF$10,MATCH(DATOS_MIP_SS!AP163,referentes!$AF$2:$AF$10,0),1))","v":""},{"$f":"IF(AN163=\"\",\"\", INDEX(referentes!$AK$2:$AL$10,MATCH(DATOS_MIP_SS!AN163,referentes!$AL$2:$AL$10,0),1))","v":""},{"$f":"IF(AQ163=\"\",\"\", INDEX(referentes!J:K,MATCH(DATOS_MIP_SS!AQ163,referentes!$K:$K,0),1))","v":""},{"$f":"IF(AR163=\"\",\"\", INDEX(referentes!$M$2:$N$20,MATCH(DATOS_MIP_SS!AR163,referentes!$N$2:$N$20,0),1))","v":""},{"$f":"IF(AY163=\"\",\"\", INDEX('otras referencias'!O:P,MATCH(AY163,'otras referencias'!$O:$O,0),2))","v":""},null,null,null,null,null,{"$f":"IF(X163<>\"\",INDEX(referentes!$AN:$AR,MATCH(DATOS_MIP_SS!X163,referentes!$AO:$AO,0),5),\"\")","v":""}]
[null,null,null,"",{"$f":"IF(J164=\"\",\"\",CONCATENATE(AD164,DIGITADOR!$B$2,DIGITADOR!$M$1,J164))","v":""},{"$f":"IF(J164=\"\",\"\",CONCATENATE(DIGITADOR!$B$2,AD164,DIGITADOR!$M$1,J164,ROW()))","v":""},null,null,null,{"$f":"IF(X164=\"\",\"\", INDEX(referentes!$AN:$AR,MATCH(DATOS_MIP_SS!X164,referentes!$AO:$AO,0),1))","v":""},"",{"$f":"IF(AF164=\"\",\"\", INDEX(referentes!D:E,MATCH(DATOS_MIP_SS!AF164,referentes!$E:$E,0),1))","v":""},{"$f":"IF(AI164=\"\",\"\", INDEX(referentes!A:B,MATCH(DATOS_MIP_SS!AI164,referentes!$B:$B,0),1))","v":""},{"$f":"IF(AJ164=\"\",\"\", INDEX(referentes!G:H,MATCH(DATOS_MIP_SS!AJ164,referentes!$H:$H,0),1))","v":""},{"$f":"IF(AK164=\"\",\"\", INDEX(referentes!$AB$2:$AC$10,MATCH(DATOS_MIP_SS!AK164,referentes!$AC$2:$AC$10,0),1))","v":""},{"$f":"IF(AL164=\"\",\"\", INDEX(referentes!$AH:$AI,MATCH(DATOS_MIP_SS!AL164,referentes!$AI:$AI,0),1))","v":""},{"$f":"IF(AP164=\"\",\"\", INDEX(referentes!$AE$2:$AF$10,MATCH(DATOS_MIP_SS!AP164,referentes!$AF$2:$AF$10,0),1))","v":""},{"$f":"IF(AN164=\"\",\"\", INDEX(referentes!$AK$2:$AL$10,MATCH(DATOS_MIP_SS!AN164,referentes!$AL$2:$AL$10,0),1))","v":""},{"$f":"IF(AQ164=\"\",\"\", INDEX(referentes!J:K,MATCH(DATOS_MIP_SS!AQ164,referentes!$K:$K,0),1))","v":""},{"$f":"IF(AR164=\"\",\"\", INDEX(referentes!$M$2:$N$20,MATCH(DATOS_MIP_SS!AR164,referentes!$N$2:$N$20,0),1))","v":""},{"$f":"IF(AY164=\"\",\"\", INDEX('otras referencias'!O:P,MATCH(AY164,'otras referencias'!$O:$O,0),2))","v":""},null,null,null,null,null,{"$f":"IF(X164<>\"\",INDEX(referentes!$AN:$AR,MATCH(DATOS_MIP_SS!X164,referentes!$AO:$AO,0),5),\"\")","v":""}]
[null,null,null,"",{"$f":"IF(J165=\"\",\"\",CONCATENATE(AD165,DIGITADOR!$B$2,DIGITADOR!$M$1,J165))","v":""},{"$f":"IF(J165=\"\",\"\",CONCATENATE(DIGITADOR!$B$2,AD165,DIGITADOR!$M$1,J165,ROW()))","v":""},null,null,null,{"$f":"IF(X165=\"\",\"\", INDEX(referentes!$AN:$AR,MATCH(DATOS_MIP_SS!X165,referentes!$AO:$AO,0),1))","v":""},"",{"$f":"IF(AF165=\"\",\"\", INDEX(referentes!D:E,MATCH(DATOS_MIP_SS!AF165,referentes!$E:$E,0),1))","v":""},{"$f":"IF(AI165=\"\",\"\", INDEX(referentes!A:B,MATCH(DATOS_MIP_SS!AI165,referentes!$B:$B,0),1))","v":""},{"$f":"IF(AJ165=\"\",\"\", INDEX(referentes!G:H,MATCH(DATOS_MIP_SS!AJ165,referentes!$H:$H,0),1))","v":""},{"$f":"IF(AK165=\"\",\"\", INDEX(referentes!$AB$2:$AC$10,MATCH(DATOS_MIP_SS!AK165,referentes!$AC$2:$AC$10,0),1))","v":""},{"$f":"IF(AL165=\"\",\"\", INDEX(referentes!$AH:$AI,MATCH(DATOS_MIP_SS!AL165,referentes!$AI:$AI,0),1))","v":""},{"$f":"IF(AP165=\"\",\"\", INDEX(referentes!$AE$2:$AF$10,MATCH(DATOS_MIP_SS!AP165,referentes!$AF$2:$AF$10,0),1))","v":""},{"$f":"IF(AN165=\"\",\"\", INDEX(referentes!$AK$2:$AL$10,MATCH(DATOS_MIP_SS!AN165,referentes!$AL$2:$AL$10,0),1))","v":""},{"$f":"IF(AQ165=\"\",\"\", INDEX(referentes!J:K,MATCH(DATOS_MIP_SS!AQ165,referentes!$K:$K,0),1))","v":""},{"$f":"IF(AR165=\"\",\"\", INDEX(referentes!$M$2:$N$20,MATCH(DATOS_MIP_SS!AR165,referentes!$N$2:$N$20,0),1))","v":""},{"$f":"IF(AY165=\"\",\"\", INDEX('otras referencias'!O:P,MATCH(AY165,'otras referencias'!$O:$O,0),2))","v":""},null,null,null,null,null,{"$f":"IF(X165<>\"\",INDEX(referentes!$AN:$AR,MATCH(DATOS_MIP_SS!X165,referentes!$AO:$AO,0),5),\"\")","v":""}]
[null,null,null,"",{"$f":"IF(J166=\"\",\"\",CONCATENATE(AD166,DIGITADOR!$B$2,DIGITADOR!$M$1,J166))","v":""},{"$f":"IF(J166=\"\",\"\",CONCATENATE(DIGITADOR!$B$2,AD166,DIGITADOR!$M$1,J166,ROW()))","v":""},null,null,null,{"$f":"IF(X166=\"\",\"\", INDEX(referentes!$AN:$AR,MATCH(DATOS_MIP_SS!X166,referentes!$AO:$AO,0),1))","v":""},"",{"$f":"IF(AF166=\"\",\"\", INDEX(referentes!D:E,MATCH(DATOS_MIP_SS!AF166,referentes!$E:$E,0),1))","v":""},{"$f":"IF(AI166=\"\",\"\", INDEX(referentes!A:B,MATCH(DATOS_MIP_SS!AI166,referentes!$B:$B,0),1))","v":""},{"$f":"IF(AJ166=\"\",\"\", INDEX(referentes!G:H,MATCH(DATOS_MIP_SS!AJ166,referentes!$H:$H,0),1))","v":""},{"$f":"IF(AK166=\"\",\"\", INDEX(referentes!$AB$2:$AC$10,MATCH(DATOS_MIP_SS!AK166,referentes!$AC$2:$AC$10,0),1))","v":""},{"$f":"IF(AL166=\"\",\"\", INDEX(referentes!$AH:$AI,MATCH(DATOS_MIP_SS!AL166,referentes!$AI:$AI,0),1))","v":""},{"$f":"IF(AP166=\"\",\"\", INDEX(referentes!$AE$2:$AF$10,MATCH(DATOS_MIP_SS!AP166,referentes!$AF$2:$AF$10,0),1))","v":""},{"$f":"IF(AN166=\"\",\"\", INDEX(referentes!$AK$2:$AL$10,MATCH(DATOS_MIP_SS!AN166,referentes!$AL$2:$AL$10,0),1))","v":""},{"$f":"IF(AQ166=\"\",\"\", INDEX(referentes!J:K,MATCH(DATOS_MIP_SS!AQ166,referentes!$K:$K,0),1))","v":""},{"$f":"IF(AR166=\"\",\"\", INDEX(referentes!$M$2:$N$20,MATCH(DATOS_MIP_SS!AR166,referentes!$N$2:$N$20,0),1))","v":""},{"$f":"IF(AY166=\"\",\"\", INDEX('otras referencias'!O:P,MATCH(AY166,'otras referencias'!$O:$O,0),2))","v":""},null,null,null,null,null,{"$f":"IF(X166<>\"\",INDEX(referentes!$AN:$AR,MATCH(DATOS_MIP_SS!X166,referentes!$AO:$AO,0),5),\"\")","v":""}]
[null,null,null,"",{"$f":"IF(J167=\"\",\"\",CONCATENATE(AD167,DIGITADOR!$B$2,DIGITADOR!$M$1,J167))","v":""},{"$f":"IF(J167=\"\",\"\",CONCATENATE(DIGITADOR!$B$2,AD167,DIGITADOR!$M$1,J167,ROW()))","v":""},null,null,null,{"$f":"IF(X167=\"\",\"\", INDEX(referentes!$AN:$AR,MATCH(DATOS_MIP_SS!X167,referentes!$AO:$AO,0),1))","v":""},"",{"$f":"IF(AF167=\"\",\"\", INDEX(referentes!D:E,MATCH(DATOS_MIP_SS!AF167,referentes!$E:$E,0),1))","v":""},{"$f":"IF(AI167=\"\",\"\", INDEX(referentes!A:B,MATCH(DATOS_MIP_SS!AI167,referentes!$B:$B,0),1))","v":""},{"$f":"IF(AJ167=\"\",\"\", INDEX(referentes!G:H,MATCH(DATOS_MIP_SS!AJ167,referentes!$H:$H,0),1))","v":""},{"$f":"IF(AK167=\"\",\"\", INDEX(referentes!$AB$2:$AC$10,MATCH(DATOS_MIP_SS!AK167,referentes!$AC$2:$AC$10,0),1))","v":""},{"$f":"IF(AL167=\"\",\"\", INDEX(referentes!$AH:$AI,MATCH(DATOS_MIP_SS!AL167,referentes!$AI:$AI,0),1))","v":""},{"$f":"IF(AP167=\"\",\"\", INDEX(referentes!$AE$2:$AF$10,MATCH(DATOS_MIP_SS!AP167,referentes!$AF$2:$AF$10,0),1))","v":""},{"$f":"IF(AN167=\"\",\"\", INDEX(referentes!$AK$2:$AL$10,MATCH(DATOS_MIP_SS!AN167,referentes!$AL$2:$AL$10,0),1))","v":""},{"$f":"IF(AQ167=\"\",\"\", INDEX(referentes!J:K,MATCH(DATOS_MIP_SS!AQ167,referentes!$K:$K,0),1))","v":""},{"$f":"IF(AR167=\"\",\"\", INDEX(referentes!$M$2:$N$20,MATCH(DATOS_MIP_SS!AR167,referentes!$N$2:$N$20,0),1))","v":""},{"$f":"IF(AY167=\"\",\"\", INDEX('otras referencias'!O:P,MATCH(AY167,'otras referencias'!$O:$O,0),2))","v":""},null,null,null,null,null,{"$f":"IF(X167<>\"\",INDEX(referentes!$AN:$AR,MATCH(DATOS_MIP_SS!X167,referentes!$AO:$AO,0),5),\"\")","v":""}]
[null,null,null,"",{"$f":"IF(J168=\"\",\"\",CONCATENATE(AD168,DIGITADOR!$B$2,DIGITADOR!$M$1,J168))","v":""},{"$f":"IF(J168=\"\",\"\",CONCATENATE(DIGITADOR!$B$2,AD168,DIGITADOR!$M$1,J168,ROW()))","v":""},null,null,null,{"$f":"IF(X168=\"\",\"\", INDEX(referentes!$AN:$AR,MATCH(DATOS_MIP_SS!X168,referentes!$AO:$AO,0),1))","v":""},"",{"$f":"IF(AF168=\"\",\"\", INDEX(referentes!D:E,MATCH(DATOS_MIP_SS!AF168,referentes!$E:$E,0),1))","v":""},{"$f":"IF(AI168=\"\",\"\", INDEX(referentes!A:B,MATCH(DATOS_MIP_SS!AI168,referentes!$B:$B,0),1))","v":""},{"$f":"IF(AJ168=\"\",\"\", INDEX(referentes!G:H,MATCH(DATOS_MIP_SS!AJ168,referentes!$H:$H,0),1))","v":""},{"$f":"IF(AK168=\"\",\"\", INDEX(referentes!$AB$2:$AC$10,MATCH(DATOS_MIP_SS!AK168,referentes!$AC$2:$AC$10,0),1))","v":""},{"$f":"IF(AL168=\"\",\"\", INDEX(referentes!$AH:$AI,MATCH(DATOS_MIP_SS!AL168,referentes!$AI:$AI,0),1))","v":""},{"$f":"IF(AP168=\"\",\"\", INDEX(referentes!$AE$2:$AF$10,MATCH(DATOS_MIP_SS!AP168,referentes!$AF$2:$AF$10,0),1))","v":""},{"$f":"IF(AN168=\"\",\"\", INDEX(referentes!$AK$2:$AL$10,MATCH(DATOS_MIP_SS!AN168,referentes!$AL$2:$AL$10,0),1))","v":""},{"$f":"IF(AQ168=\"\",\"\", INDEX(referentes!J:K,MATCH(DATOS_MIP_SS!AQ168,referentes!$K:$K,0),1))","v":""},{"$f":"IF(AR168=\"\",\"\", INDEX(referentes!$M$2:$N$20,MATCH(DATOS_MIP_SS!AR168,referentes!$N$2:$N$20,0),1))","v":""},{"$f":"IF(AY168=\"\",\"\", INDEX('otras referencias'!O:P,MATCH(AY168,'otras referencias'!$O:$O,0),2))","v":""},null,null,null,null,null,{"$f":"IF(X168<>\"\",INDEX(referentes!$AN:$AR,MATCH(DATOS_MIP_SS!X168,referentes!$AO:$AO,0),5),\"\")","v":""}]
[null,null,null,"",{"$f":"IF(J169=\"\",\"\",CONCATENATE(AD169,DIGITADOR!$B$2,DIGITADOR!$M$1,J169))","v":""},{"$f":"IF(J169=\"\",\"\",CONCATENATE(DIGITADOR!$B$2,AD169,DIGITADOR!$M$1,J169,ROW()))","v":""},null,null,null,{"$f":"IF(X169=\"\",\"\", INDEX(referentes!$AN:$AR,MATCH(DATOS_MIP_SS!X169,referentes!$AO:$AO,0),1))","v":""},"",{"$f":"IF(AF169=\"\",\"\", INDEX(referentes!D:E,MATCH(DATOS_MIP_SS!AF169,referentes!$E:$E,0),1))","v":""},{"$f":"IF(AI169=\"\",\"\", INDEX(referentes!A:B,MATCH(DATOS_MIP_SS!AI169,referentes!$B:$B,0),1))","v":""},{"$f":"IF(AJ169=\"\",\"\", INDEX(referentes!G:H,MATCH(DATOS_MIP_SS!AJ169,referentes!$H:$H,0),1))","v":""},{"$f":"IF(AK169=\"\",\"\", INDEX(referentes!$AB$2:$AC$10,MATCH(DATOS_MIP_SS!AK169,referentes!$AC$2:$AC$10,0),1))","v":""},{"$f":"IF(AL169=\"\",\"\", INDEX(referentes!$AH:$AI,MATCH(DATOS_MIP_SS!AL169,referentes!$AI:$AI,0),1))","v":""},{"$f":"IF(AP169=\"\",\"\", INDEX(referentes!$AE$2:$AF$10,MATCH(DATOS_MIP_SS!AP169,referentes!$AF$2:$AF$10,0),1))","v":""},{"$f":"IF(AN169=\"\",\"\", INDEX(referentes!$AK$2:$AL$10,MATCH(DATOS_MIP_SS!AN169,referentes!$AL$2:$AL$10,0),1))","v":""},{"$f":"IF(AQ169=\"\",\"\", INDEX(referentes!J:K,MATCH(DATOS_MIP_SS!AQ169,referentes!$K:$K,0),1))","v":""},{"$f":"IF(AR169=\"\",\"\", INDEX(referentes!$M$2:$N$20,MATCH(DATOS_MIP_SS!AR169,referentes!$N$2:$N$20,0),1))","v":""},{"$f":"IF(AY169=\"\",\"\", INDEX('otras referencias'!O:P,MATCH(AY169,'otras referencias'!$O:$O,0),2))","v":""},null,null,null,null,null,{"$f":"IF(X169<>\"\",INDEX(referentes!$AN:$AR,MATCH(DATOS_MIP_SS!X169,referentes!$AO:$AO,0),5),\"\")","v":""}]
[null,null,null,"",{"$f":"IF(J170=\"\",\"\",CONCATENATE(AD170,DIGITADOR!$B$2,DIGITADOR!$M$1,J170))","v":""},{"$f":"IF(J170=\"\",\"\",CONCATENATE(DIGITADOR!$B$2,AD170,DIGITADOR!$M$1,J170,ROW()))","v":""},null,null,null,{"$f":"IF(X170=\"\",\"\", INDEX(referentes!$AN:$AR,MATCH(DATOS_MIP_SS!X170,referentes!$AO:$AO,0),1))","v":""},"",{"$f":"IF(AF170=\"\",\"\", INDEX(referentes!D:E,MATCH(DATOS_MIP_SS!AF170,referentes!$E:$E,0),1))","v":""},{"$f":"IF(AI170=\"\",\"\", INDEX(referentes!A:B,MATCH(DATOS_MIP_SS!AI170,referentes!$B:$B,0),1))","v":""},{"$f":"IF(AJ170=\"\",\"\", INDEX(referentes!G:H,MATCH(DATOS_MIP_SS!AJ170,referentes!$H:$H,0),1))","v":""},{"$f":"IF(AK170=\"\",\"\", INDEX(referentes!$AB$2:$AC$10,MATCH(DATOS_MIP_SS!AK170,referentes!$AC$2:$AC$10,0),1))","v":""},{"$f":"IF(AL170=\"\",\"\", INDEX(referentes!$AH:$AI,MATCH(DATOS_MIP_SS!AL170,referentes!$AI:$AI,0),1))","v":""},{"$f":"IF(AP170=\"\",\"\", INDEX(referentes!$AE$2:$AF$10,MATCH(DATOS_MIP_SS!AP170,referentes!$AF$2:$AF$10,0),1))","v":""},{"$f":"IF(AN170=\"\",\"\", INDEX(referentes!$AK$2:$AL$10,MATCH(DATOS_MIP_SS!AN170,referentes!$AL$2:$AL$10,0),1))","v":""},{"$f":"IF(AQ170=\"\",\"\", INDEX(referentes!J:K,MATCH(DATOS_MIP_SS!AQ170,referentes!$K:$K,0),1))","v":""},{"$f":"IF(AR170=\"\",\"\", INDEX(referentes!$M$2:$N$20,MATCH(DATOS_MIP_SS!AR170,referentes!$N$2:$N$20,0),1))","v":""},{"$f":"IF(AY170=\"\",\"\", INDEX('otras referencias'!O:P,MATCH(AY170,'otras referencias'!$O:$O,0),2))","v":""},null,null,null,null,null,{"$f":"IF(X170<>\"\",INDEX(referentes!$AN:$AR,MATCH(DATOS_MIP_SS!X170,referentes!$AO:$AO,0),5),\"\")","v":""}]
[null,null,null,"",{"$f":"IF(J171=\"\",\"\",CONCATENATE(AD171,DIGITADOR!$B$2,DIGITADOR!$M$1,J171))","v":""},{"$f":"IF(J171=\"\",\"\",CONCATENATE(DIGITADOR!$B$2,AD171,DIGITADOR!$M$1,J171,ROW()))","v":""},null,null,null,{"$f":"IF(X171=\"\",\"\", INDEX(referentes!$AN:$AR,MATCH(DATOS_MIP_SS!X171,referentes!$AO:$AO,0),1))","v":""},"",{"$f":"IF(AF171=\"\",\"\", INDEX(referentes!D:E,MATCH(DATOS_MIP_SS!AF171,referentes!$E:$E,0),1))","v":""},{"$f":"IF(AI171=\"\",\"\", INDEX(referentes!A:B,MATCH(DATOS_MIP_SS!AI171,referentes!$B:$B,0),1))","v":""},{"$f":"IF(AJ171=\"\",\"\", INDEX(referentes!G:H,MATCH(DATOS_MIP_SS!AJ171,referentes!$H:$H,0),1))","v":""},{"$f":"IF(AK171=\"\",\"\", INDEX(referentes!$AB$2:$AC$10,MATCH(DATOS_MIP_SS!AK171,referentes!$AC$2:$AC$10,0),1))","v":""},{"$f":"IF(AL171=\"\",\"\", INDEX(referentes!$AH:$AI,MATCH(DATOS_MIP_SS!AL171,referentes!$AI:$AI,0),1))","v":""},{"$f":"IF(AP171=\"\",\"\", INDEX(referentes!$AE$2:$AF$10,MATCH(DATOS_MIP_SS!AP171,referentes!$AF$2:$AF$10,0),1))","v":""},{"$f":"IF(AN171=\"\",\"\", INDEX(referentes!$AK$2:$AL$10,MATCH(DATOS_MIP_SS!AN171,referentes!$AL$2:$AL$10,0),1))","v":""},{"$f":"IF(AQ171=\"\",\"\", INDEX(referentes!J:K,MATCH(DATOS_MIP_SS!AQ171,referentes!$K:$K,0),1))","v":""},{"$f":"IF(AR171=\"\",\"\", INDEX(referentes!$M$2:$N$20,MATCH(DATOS_MIP_SS!AR171,referentes!$N$2:$N$20,0),1))","v":""},{"$f":"IF(AY171=\"\",\"\", INDEX('otras referencias'!O:P,MATCH(AY171,'otras referencias'!$O:$O,0),2))","v":""},null,null,null,null,null,{"$f":"IF(X171<>\"\",INDEX(referentes!$AN:$AR,MATCH(DATOS_MIP_SS!X171,referentes!$AO:$AO,0),5),\"\")","v":""}]
[null,null,null,"",{"$f":"IF(J172=\"\",\"\",CONCATENATE(AD172,DIGITADOR!$B$2,DIGITADOR!$M$1,J172))","v":""},{"$f":"IF(J172=\"\",\"\",CONCATENATE(DIGITADOR!$B$2,AD172,DIGITADOR!$M$1,J172,ROW()))","v":""},null,null,null,{"$f":"IF(X172=\"\",\"\", INDEX(referentes!$AN:$AR,MATCH(DATOS_MIP_SS!X172,referentes!$AO:$AO,0),1))","v":""},"",{"$f":"IF(AF172=\"\",\"\", INDEX(referentes!D:E,MATCH(DATOS_MIP_SS!AF172,referentes!$E:$E,0),1))","v":""},{"$f":"IF(AI172=\"\",\"\", INDEX(referentes!A:B,MATCH(DATOS_MIP_SS!AI172,referentes!$B:$B,0),1))","v":""},{"$f":"IF(AJ172=\"\",\"\", INDEX(referentes!G:H,MATCH(DATOS_MIP_SS!AJ172,referentes!$H:$H,0),1))","v":""},{"$f":"IF(AK172=\"\",\"\", INDEX(referentes!$AB$2:$AC$10,MATCH(DATOS_MIP_SS!AK172,referentes!$AC$2:$AC$10,0),1))","v":""},{"$f":"IF(AL172=\"\",\"\", INDEX(referentes!$AH:$AI,MATCH(DATOS_MIP_SS!AL172,referentes!$AI:$AI,0),1))","v":""},{"$f":"IF(AP172=\"\",\"\", INDEX(referentes!$AE$2:$AF$10,MATCH(DATOS_MIP_SS!AP172,referentes!$AF$2:$AF$10,0),1))","v":""},{"$f":"IF(AN172=\"\",\"\", INDEX(referentes!$AK$2:$AL$10,MATCH(DATOS_MIP_SS!AN172,referentes!$AL$2:$AL$10,0),1))","v":""},{"$f":"IF(AQ172=\"\",\"\", INDEX(referentes!J:K,MATCH(DATOS_MIP_SS!AQ172,referentes!$K:$K,0),1))","v":""},{"$f":"IF(AR172=\"\",\"\", INDEX(referentes!$M$2:$N$20,MATCH(DATOS_MIP_SS!AR172,referentes!$N$2:$N$20,0),1))","v":""},{"$f":"IF(AY172=\"\",\"\", INDEX('otras referencias'!O:P,MATCH(AY172,'otras referencias'!$O:$O,0),2))","v":""},null,null,null,null,null,{"$f":"IF(X172<>\"\",INDEX(referentes!$AN:$AR,MATCH(DATOS_MIP_SS!X172,referentes!$AO:$AO,0),5),\"\")","v":""}]
[null,null,null,"",{"$f":"IF(J173=\"\",\"\",CONCATENATE(AD173,DIGITADOR!$B$2,DIGITADOR!$M$1,J173))","v":""},{"$f":"IF(J173=\"\",\"\",CONCATENATE(DIGITADOR!$B$2,AD173,DIGITADOR!$M$1,J173,ROW()))","v":""},null,null,null,{"$f":"IF(X173=\"\",\"\", INDEX(referentes!$AN:$AR,MATCH(DATOS_MIP_SS!X173,referentes!$AO:$AO,0),1))","v":""},"",{"$f":"IF(AF173=\"\",\"\", INDEX(referentes!D:E,MATCH(DATOS_MIP_SS!AF173,referentes!$E:$E,0),1))","v":""},{"$f":"IF(AI173=\"\",\"\", INDEX(referentes!A:B,MATCH(DATOS_MIP_SS!AI173,referentes!$B:$B,0),1))","v":""},{"$f":"IF(AJ173=\"\",\"\", INDEX(referentes!G:H,MATCH(DATOS_MIP_SS!AJ173,referentes!$H:$H,0),1))","v":""},{"$f":"IF(AK173=\"\",\"\", INDEX(referentes!$AB$2:$AC$10,MATCH(DATOS_MIP_SS!AK173,referentes!$AC$2:$AC$10,0),1))","v":""},{"$f":"IF(AL173=\"\",\"\", INDEX(referentes!$AH:$AI,MATCH(DATOS_MIP_SS!AL173,referentes!$AI:$AI,0),1))","v":""},{"$f":"IF(AP173=\"\",\"\", INDEX(referentes!$AE$2:$AF$10,MATCH(DATOS_MIP_SS!AP173,referentes!$AF$2:$AF$10,0),1))","v":""},{"$f":"IF(AN173=\"\",\"\", INDEX(referentes!$AK$2:$AL$10,MATCH(DATOS_MIP_SS!AN173,referentes!$AL$2:$AL$10,0),1))","v":""},{"$f":"IF(AQ173=\"\",\"\", INDEX(referentes!J:K,MATCH(DATOS_MIP_SS!AQ173,referentes!$K:$K,0),1))","v":""},{"$f":"IF(AR173=\"\",\"\", INDEX(referentes!$M$2:$N$20,MATCH(DATOS_MIP_SS!AR173,referentes!$N$2:$N$20,0),1))","v":""},{"$f":"IF(AY173=\"\",\"\", INDEX('otras referencias'!O:P,MATCH(AY173,'otras referencias'!$O:$O,0),2))","v":""},null,null,null,null,null,{"$f":"IF(X173<>\"\",INDEX(referentes!$AN:$AR,MATCH(DATOS_MIP_SS!X173,referentes!$AO:$AO,0),5),\"\")","v":""}]
[null,null,null,"",{"$f":"IF(J174=\"\",\"\",CONCATENATE(AD174,DIGITADOR!$B$2,DIGITADOR!$M$1,J174))","v":""},{"$f":"IF(J174=\"\",\"\",CONCATENATE(DIGITADOR!$B$2,AD174,DIGITADOR!$M$1,J174,ROW()))","v":""},null,null,null,{"$f":"IF(X174=\"\",\"\", INDEX(referentes!$AN:$AR,MATCH(DATOS_MIP_SS!X174,referentes!$AO:$AO,0),1))","v":""},"",{"$f":"IF(AF174=\"\",\"\", INDEX(referentes!D:E,MATCH(DATOS_MIP_SS!AF174,referentes!$E:$E,0),1))","v":""},{"$f":"IF(AI174=\"\",\"\", INDEX(referentes!A:B,MATCH(DATOS_MIP_SS!AI174,referentes!$B:$B,0),1))","v":""},{"$f":"IF(AJ174=\"\",\"\", INDEX(referentes!G:H,MATCH(DATOS_MIP_SS!AJ174,referentes!$H:$H,0),1))","v":""},{"$f":"IF(AK174=\"\",\"\", INDEX(referentes!$AB$2:$AC$10,MATCH(DATOS_MIP_SS!AK174,referentes!$AC$2:$AC$10,0),1))","v":""},{"$f":"IF(AL174=\"\",\"\", INDEX(referentes!$AH:$AI,MATCH(DATOS_MIP_SS!AL174,referentes!$AI:$AI,0),1))","v":""},{"$f":"IF(AP174=\"\",\"\", INDEX(referentes!$AE$2:$AF$10,MATCH(DATOS_MIP_SS!AP174,referentes!$AF$2:$AF$10,0),1))","v":""},{"$f":"IF(AN174=\"\",\"\", INDEX(referentes!$AK$2:$AL$10,MATCH(DATOS_MIP_SS!AN174,referentes!$AL$2:$AL$10,0),1))","v":""},{"$f":"IF(AQ174=\"\",\"\", INDEX(referentes!J:K,MATCH(DATOS_MIP_SS!AQ174,referentes!$K:$K,0),1))","v":""},{"$f":"IF(AR174=\"\",\"\", INDEX(referentes!$M$2:$N$20,MATCH(DATOS_MIP_SS!AR174,referentes!$N$2:$N$20,0),1))","v":""},{"$f":"IF(AY174=\"\",\"\", INDEX('otras referencias'!O:P,MATCH(AY174,'otras referencias'!$O:$O,0),2))","v":""},null,null,null,null,null,{"$f":"IF(X174<>\"\",INDEX(referentes!$AN:$AR,MATCH(DATOS_MIP_SS!X174,referentes!$AO:$AO,0),5),\"\")","v":""}]
[null,null,null,"",{"$f":"IF(J175=\"\",\"\",CONCATENATE(AD175,DIGITADOR!$B$2,DIGITADOR!$M$1,J175))","v":""},{"$f":"IF(J175=\"\",\"\",CONCATENATE(DIGITADOR!$B$2,AD175,DIGITADOR!$M$1,J175,ROW()))","v":""},null,null,null,{"$f":"IF(X175=\"\",\"\", INDEX(referentes!$AN:$AR,MATCH(DATOS_MIP_SS!X175,referentes!$AO:$AO,0),1))","v":""},"",{"$f":"IF(AF175=\"\",\"\", INDEX(referentes!D:E,MATCH(DATOS_MIP_SS!AF175,referentes!$E:$E,0),1))","v":""},{"$f":"IF(AI175=\"\",\"\", INDEX(referentes!A:B,MATCH(DATOS_MIP_SS!AI175,referentes!$B:$B,0),1))","v":""},{"$f":"IF(AJ175=\"\",\"\", INDEX(referentes!G:H,MATCH(DATOS_MIP_SS!AJ175,referentes!$H:$H,0),1))","v":""},{"$f":"IF(AK175=\"\",\"\", INDEX(referentes!$AB$2:$AC$10,MATCH(DATOS_MIP_SS!AK175,referentes!$AC$2:$AC$10,0),1))","v":""},{"$f":"IF(AL175=\"\",\"\", INDEX(referentes!$AH:$AI,MATCH(DATOS_MIP_SS!AL175,referentes!$AI:$AI,0),1))","v":""},{"$f":"IF(AP175=\"\",\"\", INDEX(referentes!$AE$2:$AF$10,MATCH(DATOS_MIP_SS!AP175,referentes!$AF$2:$AF$10,0),1))","v":""},{"$f":"IF(AN175=\"\",\"\", INDEX(referentes!$AK$2:$AL$10,MATCH(DATOS_MIP_SS!AN175,referentes!$AL$2:$AL$10,0),1))","v":""},{"$f":"IF(AQ175=\"\",\"\", INDEX(referentes!J:K,MATCH(DATOS_MIP_SS!AQ175,referentes!$K:$K,0),1))","v":""},{"$f":"IF(AR175=\"\",\"\", INDEX(referentes!$M$2:$N$20,MATCH(DATOS_MIP_SS!AR175,referentes!$N$2:$N$20,0),1))","v":""},{"$f":"IF(AY175=\"\",\"\", INDEX('otras referencias'!O:P,MATCH(AY175,'otras referencias'!$O:$O,0),2))","v":""},null,null,null,null,null,{"$f":"IF(X175<>\"\",INDEX(referentes!$AN:$AR,MATCH(DATOS_MIP_SS!X175,referentes!$AO:$AO,0),5),\"\")","v":""}]
[null,null,null,"",{"$f":"IF(J176=\"\",\"\",CONCATENATE(AD176,DIGITADOR!$B$2,DIGITADOR!$M$1,J176))","v":""},{"$f":"IF(J176=\"\",\"\",CONCATENATE(DIGITADOR!$B$2,AD176,DIGITADOR!$M$1,J176,ROW()))","v":""},null,null,null,{"$f":"IF(X176=\"\",\"\", INDEX(referentes!$AN:$AR,MATCH(DATOS_MIP_SS!X176,referentes!$AO:$AO,0),1))","v":""},"",{"$f":"IF(AF176=\"\",\"\", INDEX(referentes!D:E,MATCH(DATOS_MIP_SS!AF176,referentes!$E:$E,0),1))","v":""},{"$f":"IF(AI176=\"\",\"\", INDEX(referentes!A:B,MATCH(DATOS_MIP_SS!AI176,referentes!$B:$B,0),1))","v":""},{"$f":"IF(AJ176=\"\",\"\", INDEX(referentes!G:H,MATCH(DATOS_MIP_SS!AJ176,referentes!$H:$H,0),1))","v":""},{"$f":"IF(AK176=\"\",\"\", INDEX(referentes!$AB$2:$AC$10,MATCH(DATOS_MIP_SS!AK176,referentes!$AC$2:$AC$10,0),1))","v":""},{"$f":"IF(AL176=\"\",\"\", INDEX(referentes!$AH:$AI,MATCH(DATOS_MIP_SS!AL176,referentes!$AI:$AI,0),1))","v":""},{"$f":"IF(AP176=\"\",\"\", INDEX(referentes!$AE$2:$AF$10,MATCH(DATOS_MIP_SS!AP176,referentes!$AF$2:$AF$10,0),1))","v":""},{"$f":"IF(AN176=\"\",\"\", INDEX(referentes!$AK$2:$AL$10,MATCH(DATOS_MIP_SS!AN176,referentes!$AL$2:$AL$10,0),1))","v":""},{"$f":"IF(AQ176=\"\",\"\", INDEX(referentes!J:K,MATCH(DATOS_MIP_SS!AQ176,referentes!$K:$K,0),1))","v":""},{"$f":"IF(AR176=\"\",\"\", INDEX(referentes!$M$2:$N$20,MATCH(DATOS_MIP_SS!AR176,referentes!$N$2:$N$20,0),1))","v":""},{"$f":"IF(AY176=\"\",\"\", INDEX('otras referencias'!O:P,MATCH(AY176,'otras referencias'!$O:$O,0),2))","v":""},null,null,null,null,null,{"$f":"IF(X176<>\"\",INDEX(referentes!$AN:$AR,MATCH(DATOS_MIP_SS!X176,referentes!$AO:$AO,0),5),\"\")","v":""}]
[null,null,null,"",{"$f":"IF(J177=\"\",\"\",CONCATENATE(AD177,DIGITADOR!$B$2,DIGITADOR!$M$1,J177))","v":""},{"$f":"IF(J177=\"\",\"\",CONCATENATE(DIGITADOR!$B$2,AD177,DIGITADOR!$M$1,J177,ROW()))","v":""},null,null,null,{"$f":"IF(X177=\"\",\"\", INDEX(referentes!$AN:$AR,MATCH(DATOS_MIP_SS!X177,referentes!$AO:$AO,0),1))","v":""},"",{"$f":"IF(AF177=\"\",\"\", INDEX(referentes!D:E,MATCH(DATOS_MIP_SS!AF177,referentes!$E:$E,0),1))","v":""},{"$f":"IF(AI177=\"\",\"\", INDEX(referentes!A:B,MATCH(DATOS_MIP_SS!AI177,referentes!$B:$B,0),1))","v":""},{"$f":"IF(AJ177=\"\",\"\", INDEX(referentes!G:H,MATCH(DATOS_MIP_SS!AJ177,referentes!$H:$H,0),1))","v":""},{"$f":"IF(AK177=\"\",\"\", INDEX(referentes!$AB$2:$AC$10,MATCH(DATOS_MIP_SS!AK177,referentes!$AC$2:$AC$10,0),1))","v":""},{"$f":"IF(AL177=\"\",\"\", INDEX(referentes!$AH:$AI,MATCH(DATOS_MIP_SS!AL177,referentes!$AI:$AI,0),1))","v":""},{"$f":"IF(AP177=\"\",\"\", INDEX(referentes!$AE$2:$AF$10,MATCH(DATOS_MIP_SS!AP177,referentes!$AF$2:$AF$10,0),1))","v":""},{"$f":"IF(AN177=\"\",\"\", INDEX(referentes!$AK$2:$AL$10,MATCH(DATOS_MIP_SS!AN177,referentes!$AL$2:$AL$10,0),1))","v":""},{"$f":"IF(AQ177=\"\",\"\", INDEX(referentes!J:K,MATCH(DATOS_MIP_SS!AQ177,referentes!$K:$K,0),1))","v":""},{"$f":"IF(AR177=\"\",\"\", INDEX(referentes!$M$2:$N$20,MATCH(DATOS_MIP_SS!AR177,referentes!$N$2:$N$20,0),1))","v":""},{"$f":"IF(AY177=\"\",\"\", INDEX('otras referencias'!O:P,MATCH(AY177,'otras referencias'!$O:$O,0),2))","v":""},null,null,null,null,null,{"$f":"IF(X177<>\"\",INDEX(referentes!$AN:$AR,MATCH(DATOS_MIP_SS!X177,referentes!$AO:$AO,0),5),\"\")","v":""}]
[null,null,null,"",{"$f":"IF(J178=\"\",\"\",CONCATENATE(AD178,DIGITADOR!$B$2,DIGITADOR!$M$1,J178))","v":""},{"$f":"IF(J178=\"\",\"\",CONCATENATE(DIGITADOR!$B$2,AD178,DIGITADOR!$M$1,J178,ROW()))","v":""},null,null,null,{"$f":"IF(X178=\"\",\"\", INDEX(referentes!$AN:$AR,MATCH(DATOS_MIP_SS!X178,referentes!$AO:$AO,0),1))","v":""},"",{"$f":"IF(AF178=\"\",\"\", INDEX(referentes!D:E,MATCH(DATOS_MIP_SS!AF178,referentes!$E:$E,0),1))","v":""},{"$f":"IF(AI178=\"\",\"\", INDEX(referentes!A:B,MATCH(DATOS_MIP_SS!AI178,referentes!$B:$B,0),1))","v":""},{"$f":"IF(AJ178=\"\",\"\", INDEX(referentes!G:H,MATCH(DATOS_MIP_SS!AJ178,referentes!$H:$H,0),1))","v":""},{"$f":"IF(AK178=\"\",\"\", INDEX(referentes!$AB$2:$AC$10,MATCH(DATOS_MIP_SS!AK178,referentes!$AC$2:$AC$10,0),1))","v":""},{"$f":"IF(AL178=\"\",\"\", INDEX(referentes!$AH:$AI,MATCH(DATOS_MIP_SS!AL178,referentes!$AI:$AI,0),1))","v":""},{"$f":"IF(AP178=\"\",\"\", INDEX(referentes!$AE$2:$AF$10,MATCH(DATOS_MIP_SS!AP178,referentes!$AF$2:$AF$10,0),1))","v":""},{"$f":"IF(AN178=\"\",\"\", INDEX(referentes!$AK$2:$AL$10,MATCH(DATOS_MIP_SS!AN178,referentes!$AL$2:$AL$10,0),1))","v":""},{"$f":"IF(AQ178=\"\",\"\", INDEX(referentes!J:K,MATCH(DATOS_MIP_SS!AQ178,referentes!$K:$K,0),1))","v":""},{"$f":"IF(AR178=\"\",\"\", INDEX(referentes!$M$2:$N$20,MATCH(DATOS_MIP_SS!AR178,referentes!$N$2:$N$20,0),1))","v":""},{"$f":"IF(AY178=\"\",\"\", INDEX('otras referencias'!O:P,MATCH(AY178,'otras referencias'!$O:$O,0),2))","v":""},null,null,null,null,null,{"$f":"IF(X178<>\"\",INDEX(referentes!$AN:$AR,MATCH(DATOS_MIP_SS!X178,referentes!$AO:$AO,0),5),\"\")","v":""}]
[null,null,null,"",{"$f":"IF(J179=\"\",\"\",CONCATENATE(AD179,DIGITADOR!$B$2,DIGITADOR!$M$1,J179))","v":""},{"$f":"IF(J179=\"\",\"\",CONCATENATE(DIGITADOR!$B$2,AD179,DIGITADOR!$M$1,J179,ROW()))","v":""},null,null,null,{"$f":"IF(X179=\"\",\"\", INDEX(referentes!$AN:$AR,MATCH(DATOS_MIP_SS!X179,referentes!$AO:$AO,0),1))","v":""},"",{"$f":"IF(AF179=\"\",\"\", INDEX(referentes!D:E,MATCH(DATOS_MIP_SS!AF179,referentes!$E:$E,0),1))","v":""},{"$f":"IF(AI179=\"\",\"\", INDEX(referentes!A:B,MATCH(DATOS_MIP_SS!AI179,referentes!$B:$B,0),1))","v":""},{"$f":"IF(AJ179=\"\",\"\", INDEX(referentes!G:H,MATCH(DATOS_MIP_SS!AJ179,referentes!$H:$H,0),1))","v":""},{"$f":"IF(AK179=\"\",\"\", INDEX(referentes!$AB$2:$AC$10,MATCH(DATOS_MIP_SS!AK179,referentes!$AC$2:$AC$10,0),1))","v":""},{"$f":"IF(AL179=\"\",\"\", INDEX(referentes!$AH:$AI,MATCH(DATOS_MIP_SS!AL179,referentes!$AI:$AI,0),1))","v":""},{"$f":"IF(AP179=\"\",\"\", INDEX(referentes!$AE$2:$AF$10,MATCH(DATOS_MIP_SS!AP179,referentes!$AF$2:$AF$10,0),1))","v":""},{"$f":"IF(AN179=\"\",\"\", INDEX(referentes!$AK$2:$AL$10,MATCH(DATOS_MIP_SS!AN179,referentes!$AL$2:$AL$10,0),1))","v":""},{"$f":"IF(AQ179=\"\",\"\", INDEX(referentes!J:K,MATCH(DATOS_MIP_SS!AQ179,referentes!$K:$K,0),1))","v":""},{"$f":"IF(AR179=\"\",\"\", INDEX(referentes!$M$2:$N$20,MATCH(DATOS_MIP_SS!AR179,referentes!$N$2:$N$20,0),1))","v":""},{"$f":"IF(AY179=\"\",\"\", INDEX('otras referencias'!O:P,MATCH(AY179,'otras referencias'!$O:$O,0),2))","v":""},null,null,null,null,null,{"$f":"IF(X179<>\"\",INDEX(referentes!$AN:$AR,MATCH(DATOS_MIP_SS!X179,referentes!$AO:$AO,0),5),\"\")","v":""}]
[null,null,null,"",{"$f":"IF(J180=\"\",\"\",CONCATENATE(AD180,DIGITADOR!$B$2,DIGITADOR!$M$1,J180))","v":""},{"$f":"IF(J180=\"\",\"\",CONCATENATE(DIGITADOR!$B$2,AD180,DIGITADOR!$M$1,J180,ROW()))","v":""},null,null,null,{"$f":"IF(X180=\"\",\"\", INDEX(referentes!$AN:$AR,MATCH(DATOS_MIP_SS!X180,referentes!$AO:$AO,0),1))","v":""},"",{"$f":"IF(AF180=\"\",\"\", INDEX(referentes!D:E,MATCH(DATOS_MIP_SS!AF180,referentes!$E:$E,0),1))","v":""},{"$f":"IF(AI180=\"\",\"\", INDEX(referentes!A:B,MATCH(DATOS_MIP_SS!AI180,referentes!$B:$B,0),1))","v":""},{"$f":"IF(AJ180=\"\",\"\", INDEX(referentes!G:H,MATCH(DATOS_MIP_SS!AJ180,referentes!$H:$H,0),1))","v":""},{"$f":"IF(AK180=\"\",\"\", INDEX(referentes!$AB$2:$AC$10,MATCH(DATOS_MIP_SS!AK180,referentes!$AC$2:$AC$10,0),1))","v":""},{"$f":"IF(AL180=\"\",\"\", INDEX(referentes!$AH:$AI,MATCH(DATOS_MIP_SS!AL180,referentes!$AI:$AI,0),1))","v":""},{"$f":"IF(AP180=\"\",\"\", INDEX(referentes!$AE$2:$AF$10,MATCH(DATOS_MIP_SS!AP180,referentes!$AF$2:$AF$10,0),1))","v":""},{"$f":"IF(AN180=\"\",\"\", INDEX(referentes!$AK$2:$AL$10,MATCH(DATOS_MIP_SS!AN180,referentes!$AL$2:$AL$10,0),1))","v":""},{"$f":"IF(AQ180=\"\",\"\", INDEX(referentes!J:K,MATCH(DATOS_MIP_SS!AQ180,referentes!$K:$K,0),1))","v":""},{"$f":"IF(AR180=\"\",\"\", INDEX(referentes!$M$2:$N$20,MATCH(DATOS_MIP_SS!AR180,referentes!$N$2:$N$20,0),1))","v":""},{"$f":"IF(AY180=\"\",\"\", INDEX('otras referencias'!O:P,MATCH(AY180,'otras referencias'!$O:$O,0),2))","v":""},null,null,null,null,null,{"$f":"IF(X180<>\"\",INDEX(referentes!$AN:$AR,MATCH(DATOS_MIP_SS!X180,referentes!$AO:$AO,0),5),\"\")","v":""}]
[null,null,null,"",{"$f":"IF(J181=\"\",\"\",CONCATENATE(AD181,DIGITADOR!$B$2,DIGITADOR!$M$1,J181))","v":""},{"$f":"IF(J181=\"\",\"\",CONCATENATE(DIGITADOR!$B$2,AD181,DIGITADOR!$M$1,J181,ROW()))","v":""},null,null,null,{"$f":"IF(X181=\"\",\"\", INDEX(referentes!$AN:$AR,MATCH(DATOS_MIP_SS!X181,referentes!$AO:$AO,0),1))","v":""},"",{"$f":"IF(AF181=\"\",\"\", INDEX(referentes!D:E,MATCH(DATOS_MIP_SS!AF181,referentes!$E:$E,0),1))","v":""},{"$f":"IF(AI181=\"\",\"\", INDEX(referentes!A:B,MATCH(DATOS_MIP_SS!AI181,referentes!$B:$B,0),1))","v":""},{"$f":"IF(AJ181=\"\",\"\", INDEX(referentes!G:H,MATCH(DATOS_MIP_SS!AJ181,referentes!$H:$H,0),1))","v":""},{"$f":"IF(AK181=\"\",\"\", INDEX(referentes!$AB$2:$AC$10,MATCH(DATOS_MIP_SS!AK181,referentes!$AC$2:$AC$10,0),1))","v":""},{"$f":"IF(AL181=\"\",\"\", INDEX(referentes!$AH:$AI,MATCH(DATOS_MIP_SS!AL181,referentes!$AI:$AI,0),1))","v":""},{"$f":"IF(AP181=\"\",\"\", INDEX(referentes!$AE$2:$AF$10,MATCH(DATOS_MIP_SS!AP181,referentes!$AF$2:$AF$10,0),1))","v":""},{"$f":"IF(AN181=\"\",\"\", INDEX(referentes!$AK$2:$AL$10,MATCH(DATOS_MIP_SS!AN181,referentes!$AL$2:$AL$10,0),1))","v":""},{"$f":"IF(AQ181=\"\",\"\", INDEX(referentes!J:K,MATCH(DATOS_MIP_SS!AQ181,referentes!$K:$K,0),1))","v":""},{"$f":"IF(AR181=\"\",\"\", INDEX(referentes!$M$2:$N$20,MATCH(DATOS_MIP_SS!AR181,referentes!$N$2:$N$20,0),1))","v":""},{"$f":"IF(AY181=\"\",\"\", INDEX('otras referencias'!O:P,MATCH(AY181,'otras referencias'!$O:$O,0),2))","v":""},null,null,null,null,null,{"$f":"IF(X181<>\"\",INDEX(referentes!$AN:$AR,MATCH(DATOS_MIP_SS!X181,referentes!$AO:$AO,0),5),\"\")","v":""}]
[null,null,null,"",{"$f":"IF(J182=\"\",\"\",CONCATENATE(AD182,DIGITADOR!$B$2,DIGITADOR!$M$1,J182))","v":""},{"$f":"IF(J182=\"\",\"\",CONCATENATE(DIGITADOR!$B$2,AD182,DIGITADOR!$M$1,J182,ROW()))","v":""},null,null,null,{"$f":"IF(X182=\"\",\"\", INDEX(referentes!$AN:$AR,MATCH(DATOS_MIP_SS!X182,referentes!$AO:$AO,0),1))","v":""},"",{"$f":"IF(AF182=\"\",\"\", INDEX(referentes!D:E,MATCH(DATOS_MIP_SS!AF182,referentes!$E:$E,0),1))","v":""},{"$f":"IF(AI182=\"\",\"\", INDEX(referentes!A:B,MATCH(DATOS_MIP_SS!AI182,referentes!$B:$B,0),1))","v":""},{"$f":"IF(AJ182=\"\",\"\", INDEX(referentes!G:H,MATCH(DATOS_MIP_SS!AJ182,referentes!$H:$H,0),1))","v":""},{"$f":"IF(AK182=\"\",\"\", INDEX(referentes!$AB$2:$AC$10,MATCH(DATOS_MIP_SS!AK182,referentes!$AC$2:$AC$10,0),1))","v":""},{"$f":"IF(AL182=\"\",\"\", INDEX(referentes!$AH:$AI,MATCH(DATOS_MIP_SS!AL182,referentes!$AI:$AI,0),1))","v":""},{"$f":"IF(AP182=\"\",\"\", INDEX(referentes!$AE$2:$AF$10,MATCH(DATOS_MIP_SS!AP182,referentes!$AF$2:$AF$10,0),1))","v":""},{"$f":"IF(AN182=\"\",\"\", INDEX(referentes!$AK$2:$AL$10,MATCH(DATOS_MIP_SS!AN182,referentes!$AL$2:$AL$10,0),1))","v":""},{"$f":"IF(AQ182=\"\",\"\", INDEX(referentes!J:K,MATCH(DATOS_MIP_SS!AQ182,referentes!$K:$K,0),1))","v":""},{"$f":"IF(AR182=\"\",\"\", INDEX(referentes!$M$2:$N$20,MATCH(DATOS_MIP_SS!AR182,referentes!$N$2:$N$20,0),1))","v":""},{"$f":"IF(AY182=\"\",\"\", INDEX('otras referencias'!O:P,MATCH(AY182,'otras referencias'!$O:$O,0),2))","v":""},null,null,null,null,null,{"$f":"IF(X182<>\"\",INDEX(referentes!$AN:$AR,MATCH(DATOS_MIP_SS!X182,referentes!$AO:$AO,0),5),\"\")","v":""}]
[null,null,null,"",{"$f":"IF(J183=\"\",\"\",CONCATENATE(AD183,DIGITADOR!$B$2,DIGITADOR!$M$1,J183))","v":""},{"$f":"IF(J183=\"\",\"\",CONCATENATE(DIGITADOR!$B$2,AD183,DIGITADOR!$M$1,J183,ROW()))","v":""},null,null,null,{"$f":"IF(X183=\"\",\"\", INDEX(referentes!$AN:$AR,MATCH(DATOS_MIP_SS!X183,referentes!$AO:$AO,0),1))","v":""},"",{"$f":"IF(AF183=\"\",\"\", INDEX(referentes!D:E,MATCH(DATOS_MIP_SS!AF183,referentes!$E:$E,0),1))","v":""},{"$f":"IF(AI183=\"\",\"\", INDEX(referentes!A:B,MATCH(DATOS_MIP_SS!AI183,referentes!$B:$B,0),1))","v":""},{"$f":"IF(AJ183=\"\",\"\", INDEX(referentes!G:H,MATCH(DATOS_MIP_SS!AJ183,referentes!$H:$H,0),1))","v":""},{"$f":"IF(AK183=\"\",\"\", INDEX(referentes!$AB$2:$AC$10,MATCH(DATOS_MIP_SS!AK183,referentes!$AC$2:$AC$10,0),1))","v":""},{"$f":"IF(AL183=\"\",\"\", INDEX(referentes!$AH:$AI,MATCH(DATOS_MIP_SS!AL183,referentes!$AI:$AI,0),1))","v":""},{"$f":"IF(AP183=\"\",\"\", INDEX(referentes!$AE$2:$AF$10,MATCH(DATOS_MIP_SS!AP183,referentes!$AF$2:$AF$10,0),1))","v":""},{"$f":"IF(AN183=\"\",\"\", INDEX(referentes!$AK$2:$AL$10,MATCH(DATOS_MIP_SS!AN183,referentes!$AL$2:$AL$10,0),1))","v":""},{"$f":"IF(AQ183=\"\",\"\", INDEX(referentes!J:K,MATCH(DATOS_MIP_SS!AQ183,referentes!$K:$K,0),1))","v":""},{"$f":"IF(AR183=\"\",\"\", INDEX(referentes!$M$2:$N$20,MATCH(DATOS_MIP_SS!AR183,referentes!$N$2:$N$20,0),1))","v":""},{"$f":"IF(AY183=\"\",\"\", INDEX('otras referencias'!O:P,MATCH(AY183,'otras referencias'!$O:$O,0),2))","v":""},null,null,null,null,null,{"$f":"IF(X183<>\"\",INDEX(referentes!$AN:$AR,MATCH(DATOS_MIP_SS!X183,referentes!$AO:$AO,0),5),\"\")","v":""}]
[null,null,null,"",{"$f":"IF(J184=\"\",\"\",CONCATENATE(AD184,DIGITADOR!$B$2,DIGITADOR!$M$1,J184))","v":""},{"$f":"IF(J184=\"\",\"\",CONCATENATE(DIGITADOR!$B$2,AD184,DIGITADOR!$M$1,J184,ROW()))","v":""},null,null,null,{"$f":"IF(X184=\"\",\"\", INDEX(referentes!$AN:$AR,MATCH(DATOS_MIP_SS!X184,referentes!$AO:$AO,0),1))","v":""},"",{"$f":"IF(AF184=\"\",\"\", INDEX(referentes!D:E,MATCH(DATOS_MIP_SS!AF184,referentes!$E:$E,0),1))","v":""},{"$f":"IF(AI184=\"\",\"\", INDEX(referentes!A:B,MATCH(DATOS_MIP_SS!AI184,referentes!$B:$B,0),1))","v":""},{"$f":"IF(AJ184=\"\",\"\", INDEX(referentes!G:H,MATCH(DATOS_MIP_SS!AJ184,referentes!$H:$H,0),1))","v":""},{"$f":"IF(AK184=\"\",\"\", INDEX(referentes!$AB$2:$AC$10,MATCH(DATOS_MIP_SS!AK184,referentes!$AC$2:$AC$10,0),1))","v":""},{"$f":"IF(AL184=\"\",\"\", INDEX(referentes!$AH:$AI,MATCH(DATOS_MIP_SS!AL184,referentes!$AI:$AI,0),1))","v":""},{"$f":"IF(AP184=\"\",\"\", INDEX(referentes!$AE$2:$AF$10,MATCH(DATOS_MIP_SS!AP184,referentes!$AF$2:$AF$10,0),1))","v":""},{"$f":"IF(AN184=\"\",\"\", INDEX(referentes!$AK$2:$AL$10,MATCH(DATOS_MIP_SS!AN184,referentes!$AL$2:$AL$10,0),1))","v":""},{"$f":"IF(AQ184=\"\",\"\", INDEX(referentes!J:K,MATCH(DATOS_MIP_SS!AQ184,referentes!$K:$K,0),1))","v":""},{"$f":"IF(AR184=\"\",\"\", INDEX(referentes!$M$2:$N$20,MATCH(DATOS_MIP_SS!AR184,referentes!$N$2:$N$20,0),1))","v":""},{"$f":"IF(AY184=\"\",\"\", INDEX('otras referencias'!O:P,MATCH(AY184,'otras referencias'!$O:$O,0),2))","v":""},null,null,null,null,null,{"$f":"IF(X184<>\"\",INDEX(referentes!$AN:$AR,MATCH(DATOS_MIP_SS!X184,referentes!$AO:$AO,0),5),\"\")","v":""}]
[null,null,null,"",{"$f":"IF(J185=\"\",\"\",CONCATENATE(AD185,DIGITADOR!$B$2,DIGITADOR!$M$1,J185))","v":""},{"$f":"IF(J185=\"\",\"\",CONCATENATE(DIGITADOR!$B$2,AD185,DIGITADOR!$M$1,J185,ROW()))","v":""},null,null,null,{"$f":"IF(X185=\"\",\"\", INDEX(referentes!$AN:$AR,MATCH(DATOS_MIP_SS!X185,referentes!$AO:$AO,0),1))","v":""},"",{"$f":"IF(AF185=\"\",\"\", INDEX(referentes!D:E,MATCH(DATOS_MIP_SS!AF185,referentes!$E:$E,0),1))","v":""},{"$f":"IF(AI185=\"\",\"\", INDEX(referentes!A:B,MATCH(DATOS_MIP_SS!AI185,referentes!$B:$B,0),1))","v":""},{"$f":"IF(AJ185=\"\",\"\", INDEX(referentes!G:H,MATCH(DATOS_MIP_SS!AJ185,referentes!$H:$H,0),1))","v":""},{"$f":"IF(AK185=\"\",\"\", INDEX(referentes!$AB$2:$AC$10,MATCH(DATOS_MIP_SS!AK185,referentes!$AC$2:$AC$10,0),1))","v":""},{"$f":"IF(AL185=\"\",\"\", INDEX(referentes!$AH:$AI,MATCH(DATOS_MIP_SS!AL185,referentes!$AI:$AI,0),1))","v":""},{"$f":"IF(AP185=\"\",\"\", INDEX(referentes!$AE$2:$AF$10,MATCH(DATOS_MIP_SS!AP185,referentes!$AF$2:$AF$10,0),1))","v":""},{"$f":"IF(AN185=\"\",\"\", INDEX(referentes!$AK$2:$AL$10,MATCH(DATOS_MIP_SS!AN185,referentes!$AL$2:$AL$10,0),1))","v":""},{"$f":"IF(AQ185=\"\",\"\", INDEX(referentes!J:K,MATCH(DATOS_MIP_SS!AQ185,referentes!$K:$K,0),1))","v":""},{"$f":"IF(AR185=\"\",\"\", INDEX(referentes!$M$2:$N$20,MATCH(DATOS_MIP_SS!AR185,referentes!$N$2:$N$20,0),1))","v":""},{"$f":"IF(AY185=\"\",\"\", INDEX('otras referencias'!O:P,MATCH(AY185,'otras referencias'!$O:$O,0),2))","v":""},null,null,null,null,null,{"$f":"IF(X185<>\"\",INDEX(referentes!$AN:$AR,MATCH(DATOS_MIP_SS!X185,referentes!$AO:$AO,0),5),\"\")","v":""}]
[null,null,null,"",{"$f":"IF(J186=\"\",\"\",CONCATENATE(AD186,DIGITADOR!$B$2,DIGITADOR!$M$1,J186))","v":""},{"$f":"IF(J186=\"\",\"\",CONCATENATE(DIGITADOR!$B$2,AD186,DIGITADOR!$M$1,J186,ROW()))","v":""},null,null,null,{"$f":"IF(X186=\"\",\"\", INDEX(referentes!$AN:$AR,MATCH(DATOS_MIP_SS!X186,referentes!$AO:$AO,0),1))","v":""},"",{"$f":"IF(AF186=\"\",\"\", INDEX(referentes!D:E,MATCH(DATOS_MIP_SS!AF186,referentes!$E:$E,0),1))","v":""},{"$f":"IF(AI186=\"\",\"\", INDEX(referentes!A:B,MATCH(DATOS_MIP_SS!AI186,referentes!$B:$B,0),1))","v":""},{"$f":"IF(AJ186=\"\",\"\", INDEX(referentes!G:H,MATCH(DATOS_MIP_SS!AJ186,referentes!$H:$H,0),1))","v":""},{"$f":"IF(AK186=\"\",\"\", INDEX(referentes!$AB$2:$AC$10,MATCH(DATOS_MIP_SS!AK186,referentes!$AC$2:$AC$10,0),1))","v":""},{"$f":"IF(AL186=\"\",\"\", INDEX(referentes!$AH:$AI,MATCH(DATOS_MIP_SS!AL186,referentes!$AI:$AI,0),1))","v":""},{"$f":"IF(AP186=\"\",\"\", INDEX(referentes!$AE$2:$AF$10,MATCH(DATOS_MIP_SS!AP186,referentes!$AF$2:$AF$10,0),1))","v":""},{"$f":"IF(AN186=\"\",\"\", INDEX(referentes!$AK$2:$AL$10,MATCH(DATOS_MIP_SS!AN186,referentes!$AL$2:$AL$10,0),1))","v":""},{"$f":"IF(AQ186=\"\",\"\", INDEX(referentes!J:K,MATCH(DATOS_MIP_SS!AQ186,referentes!$K:$K,0),1))","v":""},{"$f":"IF(AR186=\"\",\"\", INDEX(referentes!$M$2:$N$20,MATCH(DATOS_MIP_SS!AR186,referentes!$N$2:$N$20,0),1))","v":""},{"$f":"IF(AY186=\"\",\"\", INDEX('otras referencias'!O:P,MATCH(AY186,'otras referencias'!$O:$O,0),2))","v":""},null,null,null,null,null,{"$f":"IF(X186<>\"\",INDEX(referentes!$AN:$AR,MATCH(DATOS_MIP_SS!X186,referentes!$AO:$AO,0),5),\"\")","v":""}]
[null,null,null,"",{"$f":"IF(J187=\"\",\"\",CONCATENATE(AD187,DIGITADOR!$B$2,DIGITADOR!$M$1,J187))","v":""},{"$f":"IF(J187=\"\",\"\",CONCATENATE(DIGITADOR!$B$2,AD187,DIGITADOR!$M$1,J187,ROW()))","v":""},null,null,null,{"$f":"IF(X187=\"\",\"\", INDEX(referentes!$AN:$AR,MATCH(DATOS_MIP_SS!X187,referentes!$AO:$AO,0),1))","v":""},"",{"$f":"IF(AF187=\"\",\"\", INDEX(referentes!D:E,MATCH(DATOS_MIP_SS!AF187,referentes!$E:$E,0),1))","v":""},{"$f":"IF(AI187=\"\",\"\", INDEX(referentes!A:B,MATCH(DATOS_MIP_SS!AI187,referentes!$B:$B,0),1))","v":""},{"$f":"IF(AJ187=\"\",\"\", INDEX(referentes!G:H,MATCH(DATOS_MIP_SS!AJ187,referentes!$H:$H,0),1))","v":""},{"$f":"IF(AK187=\"\",\"\", INDEX(referentes!$AB$2:$AC$10,MATCH(DATOS_MIP_SS!AK187,referentes!$AC$2:$AC$10,0),1))","v":""},{"$f":"IF(AL187=\"\",\"\", INDEX(referentes!$AH:$AI,MATCH(DATOS_MIP_SS!AL187,referentes!$AI:$AI,0),1))","v":""},{"$f":"IF(AP187=\"\",\"\", INDEX(referentes!$AE$2:$AF$10,MATCH(DATOS_MIP_SS!AP187,referentes!$AF$2:$AF$10,0),1))","v":""},{"$f":"IF(AN187=\"\",\"\", INDEX(referentes!$AK$2:$AL$10,MATCH(DATOS_MIP_SS!AN187,referentes!$AL$2:$AL$10,0),1))","v":""},{"$f":"IF(AQ187=\"\",\"\", INDEX(referentes!J:K,MATCH(DATOS_MIP_SS!AQ187,referentes!$K:$K,0),1))","v":""},{"$f":"IF(AR187=\"\",\"\", INDEX(referentes!$M$2:$N$20,MATCH(DATOS_MIP_SS!AR187,referentes!$N$2:$N$20,0),1))","v":""},{"$f":"IF(AY187=\"\",\"\", INDEX('otras referencias'!O:P,MATCH(AY187,'otras referencias'!$O:$O,0),2))","v":""},null,null,null,null,null,{"$f":"IF(X187<>\"\",INDEX(referentes!$AN:$AR,MATCH(DATOS_MIP_SS!X187,referentes!$AO:$AO,0),5),\"\")","v":""}]
[null,null,null,"",{"$f":"IF(J188=\"\",\"\",CONCATENATE(AD188,DIGITADOR!$B$2,DIGITADOR!$M$1,J188))","v":""},{"$f":"IF(J188=\"\",\"\",CONCATENATE(DIGITADOR!$B$2,AD188,DIGITADOR!$M$1,J188,ROW()))","v":""},null,null,null,{"$f":"IF(X188=\"\",\"\", INDEX(referentes!$AN:$AR,MATCH(DATOS_MIP_SS!X188,referentes!$AO:$AO,0),1))","v":""},"",{"$f":"IF(AF188=\"\",\"\", INDEX(referentes!D:E,MATCH(DATOS_MIP_SS!AF188,referentes!$E:$E,0),1))","v":""},{"$f":"IF(AI188=\"\",\"\", INDEX(referentes!A:B,MATCH(DATOS_MIP_SS!AI188,referentes!$B:$B,0),1))","v":""},{"$f":"IF(AJ188=\"\",\"\", INDEX(referentes!G:H,MATCH(DATOS_MIP_SS!AJ188,referentes!$H:$H,0),1))","v":""},{"$f":"IF(AK188=\"\",\"\", INDEX(referentes!$AB$2:$AC$10,MATCH(DATOS_MIP_SS!AK188,referentes!$AC$2:$AC$10,0),1))","v":""},{"$f":"IF(AL188=\"\",\"\", INDEX(referentes!$AH:$AI,MATCH(DATOS_MIP_SS!AL188,referentes!$AI:$AI,0),1))","v":""},{"$f":"IF(AP188=\"\",\"\", INDEX(referentes!$AE$2:$AF$10,MATCH(DATOS_MIP_SS!AP188,referentes!$AF$2:$AF$10,0),1))","v":""},{"$f":"IF(AN188=\"\",\"\", INDEX(referentes!$AK$2:$AL$10,MATCH(DATOS_MIP_SS!AN188,referentes!$AL$2:$AL$10,0),1))","v":""},{"$f":"IF(AQ188=\"\",\"\", INDEX(referentes!J:K,MATCH(DATOS_MIP_SS!AQ188,referentes!$K:$K,0),1))","v":""},{"$f":"IF(AR188=\"\",\"\", INDEX(referentes!$M$2:$N$20,MATCH(DATOS_MIP_SS!AR188,referentes!$N$2:$N$20,0),1))","v":""},{"$f":"IF(AY188=\"\",\"\", INDEX('otras referencias'!O:P,MATCH(AY188,'otras referencias'!$O:$O,0),2))","v":""},null,null,null,null,null,{"$f":"IF(X188<>\"\",INDEX(referentes!$AN:$AR,MATCH(DATOS_MIP_SS!X188,referentes!$AO:$AO,0),5),\"\")","v":""}]
[null,null,null,"",{"$f":"IF(J189=\"\",\"\",CONCATENATE(AD189,DIGITADOR!$B$2,DIGITADOR!$M$1,J189))","v":""},{"$f":"IF(J189=\"\",\"\",CONCATENATE(DIGITADOR!$B$2,AD189,DIGITADOR!$M$1,J189,ROW()))","v":""},null,null,null,{"$f":"IF(X189=\"\",\"\", INDEX(referentes!$AN:$AR,MATCH(DATOS_MIP_SS!X189,referentes!$AO:$AO,0),1))","v":""},"",{"$f":"IF(AF189=\"\",\"\", INDEX(referentes!D:E,MATCH(DATOS_MIP_SS!AF189,referentes!$E:$E,0),1))","v":""},{"$f":"IF(AI189=\"\",\"\", INDEX(referentes!A:B,MATCH(DATOS_MIP_SS!AI189,referentes!$B:$B,0),1))","v":""},{"$f":"IF(AJ189=\"\",\"\", INDEX(referentes!G:H,MATCH(DATOS_MIP_SS!AJ189,referentes!$H:$H,0),1))","v":""},{"$f":"IF(AK189=\"\",\"\", INDEX(referentes!$AB$2:$AC$10,MATCH(DATOS_MIP_SS!AK189,referentes!$AC$2:$AC$10,0),1))","v":""},{"$f":"IF(AL189=\"\",\"\", INDEX(referentes!$AH:$AI,MATCH(DATOS_MIP_SS!AL189,referentes!$AI:$AI,0),1))","v":""},{"$f":"IF(AP189=\"\",\"\", INDEX(referentes!$AE$2:$AF$10,MATCH(DATOS_MIP_SS!AP189,referentes!$AF$2:$AF$10,0),1))","v":""},{"$f":"IF(AN189=\"\",\"\", INDEX(referentes!$AK$2:$AL$10,MATCH(DATOS_MIP_SS!AN189,referentes!$AL$2:$AL$10,0),1))","v":""},{"$f":"IF(AQ189=\"\",\"\", INDEX(referentes!J:K,MATCH(DATOS_MIP_SS!AQ189,referentes!$K:$K,0),1))","v":""},{"$f":"IF(AR189=\"\",\"\", INDEX(referentes!$M$2:$N$20,MATCH(DATOS_MIP_SS!AR189,referentes!$N$2:$N$20,0),1))","v":""},{"$f":"IF(AY189=\"\",\"\", INDEX('otras referencias'!O:P,MATCH(AY189,'otras referencias'!$O:$O,0),2))","v":""},null,null,null,null,null,{"$f":"IF(X189<>\"\",INDEX(referentes!$AN:$AR,MATCH(DATOS_MIP_SS!X189,referentes!$AO:$AO,0),5),\"\")","v":""}]
[null,null,null,"",{"$f":"IF(J190=\"\",\"\",CONCATENATE(AD190,DIGITADOR!$B$2,DIGITADOR!$M$1,J190))","v":""},{"$f":"IF(J190=\"\",\"\",CONCATENATE(DIGITADOR!$B$2,AD190,DIGITADOR!$M$1,J190,ROW()))","v":""},null,null,null,{"$f":"IF(X190=\"\",\"\", INDEX(referentes!$AN:$AR,MATCH(DATOS_MIP_SS!X190,referentes!$AO:$AO,0),1))","v":""},"",{"$f":"IF(AF190=\"\",\"\", INDEX(referentes!D:E,MATCH(DATOS_MIP_SS!AF190,referentes!$E:$E,0),1))","v":""},{"$f":"IF(AI190=\"\",\"\", INDEX(referentes!A:B,MATCH(DATOS_MIP_SS!AI190,referentes!$B:$B,0),1))","v":""},{"$f":"IF(AJ190=\"\",\"\", INDEX(referentes!G:H,MATCH(DATOS_MIP_SS!AJ190,referentes!$H:$H,0),1))","v":""},{"$f":"IF(AK190=\"\",\"\", INDEX(referentes!$AB$2:$AC$10,MATCH(DATOS_MIP_SS!AK190,referentes!$AC$2:$AC$10,0),1))","v":""},{"$f":"IF(AL190=\"\",\"\", INDEX(referentes!$AH:$AI,MATCH(DATOS_MIP_SS!AL190,referentes!$AI:$AI,0),1))","v":""},{"$f":"IF(AP190=\"\",\"\", INDEX(referentes!$AE$2:$AF$10,MATCH(DATOS_MIP_SS!AP190,referentes!$AF$2:$AF$10,0),1))","v":""},{"$f":"IF(AN190=\"\",\"\", INDEX(referentes!$AK$2:$AL$10,MATCH(DATOS_MIP_SS!AN190,referentes!$AL$2:$AL$10,0),1))","v":""},{"$f":"IF(AQ190=\"\",\"\", INDEX(referentes!J:K,MATCH(DATOS_MIP_SS!AQ190,referentes!$K:$K,0),1))","v":""},{"$f":"IF(AR190=\"\",\"\", INDEX(referentes!$M$2:$N$20,MATCH(DATOS_MIP_SS!AR190,referentes!$N$2:$N$20,0),1))","v":""},{"$f":"IF(AY190=\"\",\"\", INDEX('otras referencias'!O:P,MATCH(AY190,'otras referencias'!$O:$O,0),2))","v":""},null,null,null,null,null,{"$f":"IF(X190<>\"\",INDEX(referentes!$AN:$AR,MATCH(DATOS_MIP_SS!X190,referentes!$AO:$AO,0),5),\"\")","v":""}]
[null,null,null,"",{"$f":"IF(J191=\"\",\"\",CONCATENATE(AD191,DIGITADOR!$B$2,DIGITADOR!$M$1,J191))","v":""},{"$f":"IF(J191=\"\",\"\",CONCATENATE(DIGITADOR!$B$2,AD191,DIGITADOR!$M$1,J191,ROW()))","v":""},null,null,null,{"$f":"IF(X191=\"\",\"\", INDEX(referentes!$AN:$AR,MATCH(DATOS_MIP_SS!X191,referentes!$AO:$AO,0),1))","v":""},"",{"$f":"IF(AF191=\"\",\"\", INDEX(referentes!D:E,MATCH(DATOS_MIP_SS!AF191,referentes!$E:$E,0),1))","v":""},{"$f":"IF(AI191=\"\",\"\", INDEX(referentes!A:B,MATCH(DATOS_MIP_SS!AI191,referentes!$B:$B,0),1))","v":""},{"$f":"IF(AJ191=\"\",\"\", INDEX(referentes!G:H,MATCH(DATOS_MIP_SS!AJ191,referentes!$H:$H,0),1))","v":""},{"$f":"IF(AK191=\"\",\"\", INDEX(referentes!$AB$2:$AC$10,MATCH(DATOS_MIP_SS!AK191,referentes!$AC$2:$AC$10,0),1))","v":""},{"$f":"IF(AL191=\"\",\"\", INDEX(referentes!$AH:$AI,MATCH(DATOS_MIP_SS!AL191,referentes!$AI:$AI,0),1))","v":""},{"$f":"IF(AP191=\"\",\"\", INDEX(referentes!$AE$2:$AF$10,MATCH(DATOS_MIP_SS!AP191,referentes!$AF$2:$AF$10,0),1))","v":""},{"$f":"IF(AN191=\"\",\"\", INDEX(referentes!$AK$2:$AL$10,MATCH(DATOS_MIP_SS!AN191,referentes!$AL$2:$AL$10,0),1))","v":""},{"$f":"IF(AQ191=\"\",\"\", INDEX(referentes!J:K,MATCH(DATOS_MIP_SS!AQ191,referentes!$K:$K,0),1))","v":""},{"$f":"IF(AR191=\"\",\"\", INDEX(referentes!$M$2:$N$20,MATCH(DATOS_MIP_SS!AR191,referentes!$N$2:$N$20,0),1))","v":""},{"$f":"IF(AY191=\"\",\"\", INDEX('otras referencias'!O:P,MATCH(AY191,'otras referencias'!$O:$O,0),2))","v":""},null,null,null,null,null,{"$f":"IF(X191<>\"\",INDEX(referentes!$AN:$AR,MATCH(DATOS_MIP_SS!X191,referentes!$AO:$AO,0),5),\"\")","v":""}]
[null,null,null,"",{"$f":"IF(J192=\"\",\"\",CONCATENATE(AD192,DIGITADOR!$B$2,DIGITADOR!$M$1,J192))","v":""},{"$f":"IF(J192=\"\",\"\",CONCATENATE(DIGITADOR!$B$2,AD192,DIGITADOR!$M$1,J192,ROW()))","v":""},null,null,null,{"$f":"IF(X192=\"\",\"\", INDEX(referentes!$AN:$AR,MATCH(DATOS_MIP_SS!X192,referentes!$AO:$AO,0),1))","v":""},"",{"$f":"IF(AF192=\"\",\"\", INDEX(referentes!D:E,MATCH(DATOS_MIP_SS!AF192,referentes!$E:$E,0),1))","v":""},{"$f":"IF(AI192=\"\",\"\", INDEX(referentes!A:B,MATCH(DATOS_MIP_SS!AI192,referentes!$B:$B,0),1))","v":""},{"$f":"IF(AJ192=\"\",\"\", INDEX(referentes!G:H,MATCH(DATOS_MIP_SS!AJ192,referentes!$H:$H,0),1))","v":""},{"$f":"IF(AK192=\"\",\"\", INDEX(referentes!$AB$2:$AC$10,MATCH(DATOS_MIP_SS!AK192,referentes!$AC$2:$AC$10,0),1))","v":""},{"$f":"IF(AL192=\"\",\"\", INDEX(referentes!$AH:$AI,MATCH(DATOS_MIP_SS!AL192,referentes!$AI:$AI,0),1))","v":""},{"$f":"IF(AP192=\"\",\"\", INDEX(referentes!$AE$2:$AF$10,MATCH(DATOS_MIP_SS!AP192,referentes!$AF$2:$AF$10,0),1))","v":""},{"$f":"IF(AN192=\"\",\"\", INDEX(referentes!$AK$2:$AL$10,MATCH(DATOS_MIP_SS!AN192,referentes!$AL$2:$AL$10,0),1))","v":""},{"$f":"IF(AQ192=\"\",\"\", INDEX(referentes!J:K,MATCH(DATOS_MIP_SS!AQ192,referentes!$K:$K,0),1))","v":""},{"$f":"IF(AR192=\"\",\"\", INDEX(referentes!$M$2:$N$20,MATCH(DATOS_MIP_SS!AR192,referentes!$N$2:$N$20,0),1))","v":""},{"$f":"IF(AY192=\"\",\"\", INDEX('otras referencias'!O:P,MATCH(AY192,'otras referencias'!$O:$O,0),2))","v":""},null,null,null,null,null,{"$f":"IF(X192<>\"\",INDEX(referentes!$AN:$AR,MATCH(DATOS_MIP_SS!X192,referentes!$AO:$AO,0),5),\"\")","v":""}]
[null,null,null,"",{"$f":"IF(J193=\"\",\"\",CONCATENATE(AD193,DIGITADOR!$B$2,DIGITADOR!$M$1,J193))","v":""},{"$f":"IF(J193=\"\",\"\",CONCATENATE(DIGITADOR!$B$2,AD193,DIGITADOR!$M$1,J193,ROW()))","v":""},null,null,null,{"$f":"IF(X193=\"\",\"\", INDEX(referentes!$AN:$AR,MATCH(DATOS_MIP_SS!X193,referentes!$AO:$AO,0),1))","v":""},"",{"$f":"IF(AF193=\"\",\"\", INDEX(referentes!D:E,MATCH(DATOS_MIP_SS!AF193,referentes!$E:$E,0),1))","v":""},{"$f":"IF(AI193=\"\",\"\", INDEX(referentes!A:B,MATCH(DATOS_MIP_SS!AI193,referentes!$B:$B,0),1))","v":""},{"$f":"IF(AJ193=\"\",\"\", INDEX(referentes!G:H,MATCH(DATOS_MIP_SS!AJ193,referentes!$H:$H,0),1))","v":""},{"$f":"IF(AK193=\"\",\"\", INDEX(referentes!$AB$2:$AC$10,MATCH(DATOS_MIP_SS!AK193,referentes!$AC$2:$AC$10,0),1))","v":""},{"$f":"IF(AL193=\"\",\"\", INDEX(referentes!$AH:$AI,MATCH(DATOS_MIP_SS!AL193,referentes!$AI:$AI,0),1))","v":""},{"$f":"IF(AP193=\"\",\"\", INDEX(referentes!$AE$2:$AF$10,MATCH(DATOS_MIP_SS!AP193,referentes!$AF$2:$AF$10,0),1))","v":""},{"$f":"IF(AN193=\"\",\"\", INDEX(referentes!$AK$2:$AL$10,MATCH(DATOS_MIP_SS!AN193,referentes!$AL$2:$AL$10,0),1))","v":""},{"$f":"IF(AQ193=\"\",\"\", INDEX(referentes!J:K,MATCH(DATOS_MIP_SS!AQ193,referentes!$K:$K,0),1))","v":""},{"$f":"IF(AR193=\"\",\"\", INDEX(referentes!$M$2:$N$20,MATCH(DATOS_MIP_SS!AR193,referentes!$N$2:$N$20,0),1))","v":""},{"$f":"IF(AY193=\"\",\"\", INDEX('otras referencias'!O:P,MATCH(AY193,'otras referencias'!$O:$O,0),2))","v":""},null,null,null,null,null,{"$f":"IF(X193<>\"\",INDEX(referentes!$AN:$AR,MATCH(DATOS_MIP_SS!X193,referentes!$AO:$AO,0),5),\"\")","v":""}]
[null,null,null,"",{"$f":"IF(J194=\"\",\"\",CONCATENATE(AD194,DIGITADOR!$B$2,DIGITADOR!$M$1,J194))","v":""},{"$f":"IF(J194=\"\",\"\",CONCATENATE(DIGITADOR!$B$2,AD194,DIGITADOR!$M$1,J194,ROW()))","v":""},null,null,null,{"$f":"IF(X194=\"\",\"\", INDEX(referentes!$AN:$AR,MATCH(DATOS_MIP_SS!X194,referentes!$AO:$AO,0),1))","v":""},"",{"$f":"IF(AF194=\"\",\"\", INDEX(referentes!D:E,MATCH(DATOS_MIP_SS!AF194,referentes!$E:$E,0),1))","v":""},{"$f":"IF(AI194=\"\",\"\", INDEX(referentes!A:B,MATCH(DATOS_MIP_SS!AI194,referentes!$B:$B,0),1))","v":""},{"$f":"IF(AJ194=\"\",\"\", INDEX(referentes!G:H,MATCH(DATOS_MIP_SS!AJ194,referentes!$H:$H,0),1))","v":""},{"$f":"IF(AK194=\"\",\"\", INDEX(referentes!$AB$2:$AC$10,MATCH(DATOS_MIP_SS!AK194,referentes!$AC$2:$AC$10,0),1))","v":""},{"$f":"IF(AL194=\"\",\"\", INDEX(referentes!$AH:$AI,MATCH(DATOS_MIP_SS!AL194,referentes!$AI:$AI,0),1))","v":""},{"$f":"IF(AP194=\"\",\"\", INDEX(referentes!$AE$2:$AF$10,MATCH(DATOS_MIP_SS!AP194,referentes!$AF$2:$AF$10,0),1))","v":""},{"$f":"IF(AN194=\"\",\"\", INDEX(referentes!$AK$2:$AL$10,MATCH(DATOS_MIP_SS!AN194,referentes!$AL$2:$AL$10,0),1))","v":""},{"$f":"IF(AQ194=\"\",\"\", INDEX(referentes!J:K,MATCH(DATOS_MIP_SS!AQ194,referentes!$K:$K,0),1))","v":""},{"$f":"IF(AR194=\"\",\"\", INDEX(referentes!$M$2:$N$20,MATCH(DATOS_MIP_SS!AR194,referentes!$N$2:$N$20,0),1))","v":""},{"$f":"IF(AY194=\"\",\"\", INDEX('otras referencias'!O:P,MATCH(AY194,'otras referencias'!$O:$O,0),2))","v":""},null,null,null,null,null,{"$f":"IF(X194<>\"\",INDEX(referentes!$AN:$AR,MATCH(DATOS_MIP_SS!X194,referentes!$AO:$AO,0),5),\"\")","v":""}]
[null,null,null,"",{"$f":"IF(J195=\"\",\"\",CONCATENATE(AD195,DIGITADOR!$B$2,DIGITADOR!$M$1,J195))","v":""},{"$f":"IF(J195=\"\",\"\",CONCATENATE(DIGITADOR!$B$2,AD195,DIGITADOR!$M$1,J195,ROW()))","v":""},null,null,null,{"$f":"IF(X195=\"\",\"\", INDEX(referentes!$AN:$AR,MATCH(DATOS_MIP_SS!X195,referentes!$AO:$AO,0),1))","v":""},"",{"$f":"IF(AF195=\"\",\"\", INDEX(referentes!D:E,MATCH(DATOS_MIP_SS!AF195,referentes!$E:$E,0),1))","v":""},{"$f":"IF(AI195=\"\",\"\", INDEX(referentes!A:B,MATCH(DATOS_MIP_SS!AI195,referentes!$B:$B,0),1))","v":""},{"$f":"IF(AJ195=\"\",\"\", INDEX(referentes!G:H,MATCH(DATOS_MIP_SS!AJ195,referentes!$H:$H,0),1))","v":""},{"$f":"IF(AK195=\"\",\"\", INDEX(referentes!$AB$2:$AC$10,MATCH(DATOS_MIP_SS!AK195,referentes!$AC$2:$AC$10,0),1))","v":""},{"$f":"IF(AL195=\"\",\"\", INDEX(referentes!$AH:$AI,MATCH(DATOS_MIP_SS!AL195,referentes!$AI:$AI,0),1))","v":""},{"$f":"IF(AP195=\"\",\"\", INDEX(referentes!$AE$2:$AF$10,MATCH(DATOS_MIP_SS!AP195,referentes!$AF$2:$AF$10,0),1))","v":""},{"$f":"IF(AN195=\"\",\"\", INDEX(referentes!$AK$2:$AL$10,MATCH(DATOS_MIP_SS!AN195,referentes!$AL$2:$AL$10,0),1))","v":""},{"$f":"IF(AQ195=\"\",\"\", INDEX(referentes!J:K,MATCH(DATOS_MIP_SS!AQ195,referentes!$K:$K,0),1))","v":""},{"$f":"IF(AR195=\"\",\"\", INDEX(referentes!$M$2:$N$20,MATCH(DATOS_MIP_SS!AR195,referentes!$N$2:$N$20,0),1))","v":""},{"$f":"IF(AY195=\"\",\"\", INDEX('otras referencias'!O:P,MATCH(AY195,'otras referencias'!$O:$O,0),2))","v":""},null,null,null,null,null,{"$f":"IF(X195<>\"\",INDEX(referentes!$AN:$AR,MATCH(DATOS_MIP_SS!X195,referentes!$AO:$AO,0),5),\"\")","v":""}]
[null,null,null,"",{"$f":"IF(J196=\"\",\"\",CONCATENATE(AD196,DIGITADOR!$B$2,DIGITADOR!$M$1,J196))","v":""},{"$f":"IF(J196=\"\",\"\",CONCATENATE(DIGITADOR!$B$2,AD196,DIGITADOR!$M$1,J196,ROW()))","v":""},null,null,null,{"$f":"IF(X196=\"\",\"\", INDEX(referentes!$AN:$AR,MATCH(DATOS_MIP_SS!X196,referentes!$AO:$AO,0),1))","v":""},"",{"$f":"IF(AF196=\"\",\"\", INDEX(referentes!D:E,MATCH(DATOS_MIP_SS!AF196,referentes!$E:$E,0),1))","v":""},{"$f":"IF(AI196=\"\",\"\", INDEX(referentes!A:B,MATCH(DATOS_MIP_SS!AI196,referentes!$B:$B,0),1))","v":""},{"$f":"IF(AJ196=\"\",\"\", INDEX(referentes!G:H,MATCH(DATOS_MIP_SS!AJ196,referentes!$H:$H,0),1))","v":""},{"$f":"IF(AK196=\"\",\"\", INDEX(referentes!$AB$2:$AC$10,MATCH(DATOS_MIP_SS!AK196,referentes!$AC$2:$AC$10,0),1))","v":""},{"$f":"IF(AL196=\"\",\"\", INDEX(referentes!$AH:$AI,MATCH(DATOS_MIP_SS!AL196,referentes!$AI:$AI,0),1))","v":""},{"$f":"IF(AP196=\"\",\"\", INDEX(referentes!$AE$2:$AF$10,MATCH(DATOS_MIP_SS!AP196,referentes!$AF$2:$AF$10,0),1))","v":""},{"$f":"IF(AN196=\"\",\"\", INDEX(referentes!$AK$2:$AL$10,MATCH(DATOS_MIP_SS!AN196,referentes!$AL$2:$AL$10,0),1))","v":""},{"$f":"IF(AQ196=\"\",\"\", INDEX(referentes!J:K,MATCH(DATOS_MIP_SS!AQ196,referentes!$K:$K,0),1))","v":""},{"$f":"IF(AR196=\"\",\"\", INDEX(referentes!$M$2:$N$20,MATCH(DATOS_MIP_SS!AR196,referentes!$N$2:$N$20,0),1))","v":""},{"$f":"IF(AY196=\"\",\"\", INDEX('otras referencias'!O:P,MATCH(AY196,'otras referencias'!$O:$O,0),2))","v":""},null,null,null,null,null,{"$f":"IF(X196<>\"\",INDEX(referentes!$AN:$AR,MATCH(DATOS_MIP_SS!X196,referentes!$AO:$AO,0),5),\"\")","v":""}]
[null,null,null,"",{"$f":"IF(J197=\"\",\"\",CONCATENATE(AD197,DIGITADOR!$B$2,DIGITADOR!$M$1,J197))","v":""},{"$f":"IF(J197=\"\",\"\",CONCATENATE(DIGITADOR!$B$2,AD197,DIGITADOR!$M$1,J197,ROW()))","v":""},null,null,null,{"$f":"IF(X197=\"\",\"\", INDEX(referentes!$AN:$AR,MATCH(DATOS_MIP_SS!X197,referentes!$AO:$AO,0),1))","v":""},"",{"$f":"IF(AF197=\"\",\"\", INDEX(referentes!D:E,MATCH(DATOS_MIP_SS!AF197,referentes!$E:$E,0),1))","v":""},{"$f":"IF(AI197=\"\",\"\", INDEX(referentes!A:B,MATCH(DATOS_MIP_SS!AI197,referentes!$B:$B,0),1))","v":""},{"$f":"IF(AJ197=\"\",\"\", INDEX(referentes!G:H,MATCH(DATOS_MIP_SS!AJ197,referentes!$H:$H,0),1))","v":""},{"$f":"IF(AK197=\"\",\"\", INDEX(referentes!$AB$2:$AC$10,MATCH(DATOS_MIP_SS!AK197,referentes!$AC$2:$AC$10,0),1))","v":""},{"$f":"IF(AL197=\"\",\"\", INDEX(referentes!$AH:$AI,MATCH(DATOS_MIP_SS!AL197,referentes!$AI:$AI,0),1))","v":""},{"$f":"IF(AP197=\"\",\"\", INDEX(referentes!$AE$2:$AF$10,MATCH(DATOS_MIP_SS!AP197,referentes!$AF$2:$AF$10,0),1))","v":""},{"$f":"IF(AN197=\"\",\"\", INDEX(referentes!$AK$2:$AL$10,MATCH(DATOS_MIP_SS!AN197,referentes!$AL$2:$AL$10,0),1))","v":""},{"$f":"IF(AQ197=\"\",\"\", INDEX(referentes!J:K,MATCH(DATOS_MIP_SS!AQ197,referentes!$K:$K,0),1))","v":""},{"$f":"IF(AR197=\"\",\"\", INDEX(referentes!$M$2:$N$20,MATCH(DATOS_MIP_SS!AR197,referentes!$N$2:$N$20,0),1))","v":""},{"$f":"IF(AY197=\"\",\"\", INDEX('otras referencias'!O:P,MATCH(AY197,'otras referencias'!$O:$O,0),2))","v":""},null,null,null,null,null,{"$f":"IF(X197<>\"\",INDEX(referentes!$AN:$AR,MATCH(DATOS_MIP_SS!X197,referentes!$AO:$AO,0),5),\"\")","v":""}]
[null,null,null,"",{"$f":"IF(J198=\"\",\"\",CONCATENATE(AD198,DIGITADOR!$B$2,DIGITADOR!$M$1,J198))","v":""},{"$f":"IF(J198=\"\",\"\",CONCATENATE(DIGITADOR!$B$2,AD198,DIGITADOR!$M$1,J198,ROW()))","v":""},null,null,null,{"$f":"IF(X198=\"\",\"\", INDEX(referentes!$AN:$AR,MATCH(DATOS_MIP_SS!X198,referentes!$AO:$AO,0),1))","v":""},"",{"$f":"IF(AF198=\"\",\"\", INDEX(referentes!D:E,MATCH(DATOS_MIP_SS!AF198,referentes!$E:$E,0),1))","v":""},{"$f":"IF(AI198=\"\",\"\", INDEX(referentes!A:B,MATCH(DATOS_MIP_SS!AI198,referentes!$B:$B,0),1))","v":""},{"$f":"IF(AJ198=\"\",\"\", INDEX(referentes!G:H,MATCH(DATOS_MIP_SS!AJ198,referentes!$H:$H,0),1))","v":""},{"$f":"IF(AK198=\"\",\"\", INDEX(referentes!$AB$2:$AC$10,MATCH(DATOS_MIP_SS!AK198,referentes!$AC$2:$AC$10,0),1))","v":""},{"$f":"IF(AL198=\"\",\"\", INDEX(referentes!$AH:$AI,MATCH(DATOS_MIP_SS!AL198,referentes!$AI:$AI,0),1))","v":""},{"$f":"IF(AP198=\"\",\"\", INDEX(referentes!$AE$2:$AF$10,MATCH(DATOS_MIP_SS!AP198,referentes!$AF$2:$AF$10,0),1))","v":""},{"$f":"IF(AN198=\"\",\"\", INDEX(referentes!$AK$2:$AL$10,MATCH(DATOS_MIP_SS!AN198,referentes!$AL$2:$AL$10,0),1))","v":""},{"$f":"IF(AQ198=\"\",\"\", INDEX(referentes!J:K,MATCH(DATOS_MIP_SS!AQ198,referentes!$K:$K,0),1))","v":""},{"$f":"IF(AR198=\"\",\"\", INDEX(referentes!$M$2:$N$20,MATCH(DATOS_MIP_SS!AR198,referentes!$N$2:$N$20,0),1))","v":""},{"$f":"IF(AY198=\"\",\"\", INDEX('otras referencias'!O:P,MATCH(AY198,'otras referencias'!$O:$O,0),2))","v":""},null,null,null,null,null,{"$f":"IF(X198<>\"\",INDEX(referentes!$AN:$AR,MATCH(DATOS_MIP_SS!X198,referentes!$AO:$AO,0),5),\"\")","v":""}]
[null,null,null,"",{"$f":"IF(J199=\"\",\"\",CONCATENATE(AD199,DIGITADOR!$B$2,DIGITADOR!$M$1,J199))","v":""},{"$f":"IF(J199=\"\",\"\",CONCATENATE(DIGITADOR!$B$2,AD199,DIGITADOR!$M$1,J199,ROW()))","v":""},null,null,null,{"$f":"IF(X199=\"\",\"\", INDEX(referentes!$AN:$AR,MATCH(DATOS_MIP_SS!X199,referentes!$AO:$AO,0),1))","v":""},"",{"$f":"IF(AF199=\"\",\"\", INDEX(referentes!D:E,MATCH(DATOS_MIP_SS!AF199,referentes!$E:$E,0),1))","v":""},{"$f":"IF(AI199=\"\",\"\", INDEX(referentes!A:B,MATCH(DATOS_MIP_SS!AI199,referentes!$B:$B,0),1))","v":""},{"$f":"IF(AJ199=\"\",\"\", INDEX(referentes!G:H,MATCH(DATOS_MIP_SS!AJ199,referentes!$H:$H,0),1))","v":""},{"$f":"IF(AK199=\"\",\"\", INDEX(referentes!$AB$2:$AC$10,MATCH(DATOS_MIP_SS!AK199,referentes!$AC$2:$AC$10,0),1))","v":""},{"$f":"IF(AL199=\"\",\"\", INDEX(referentes!$AH:$AI,MATCH(DATOS_MIP_SS!AL199,referentes!$AI:$AI,0),1))","v":""},{"$f":"IF(AP199=\"\",\"\", INDEX(referentes!$AE$2:$AF$10,MATCH(DATOS_MIP_SS!AP199,referentes!$AF$2:$AF$10,0),1))","v":""},{"$f":"IF(AN199=\"\",\"\", INDEX(referentes!$AK$2:$AL$10,MATCH(DATOS_MIP_SS!AN199,referentes!$AL$2:$AL$10,0),1))","v":""},{"$f":"IF(AQ199=\"\",\"\", INDEX(referentes!J:K,MATCH(DATOS_MIP_SS!AQ199,referentes!$K:$K,0),1))","v":""},{"$f":"IF(AR199=\"\",\"\", INDEX(referentes!$M$2:$N$20,MATCH(DATOS_MIP_SS!AR199,referentes!$N$2:$N$20,0),1))","v":""},{"$f":"IF(AY199=\"\",\"\", INDEX('otras referencias'!O:P,MATCH(AY199,'otras referencias'!$O:$O,0),2))","v":""},null,null,null,null,null,{"$f":"IF(X199<>\"\",INDEX(referentes!$AN:$AR,MATCH(DATOS_MIP_SS!X199,referentes!$AO:$AO,0),5),\"\")","v":""}]
[null,null,null,"",{"$f":"IF(J200=\"\",\"\",CONCATENATE(AD200,DIGITADOR!$B$2,DIGITADOR!$M$1,J200))","v":""},{"$f":"IF(J200=\"\",\"\",CONCATENATE(DIGITADOR!$B$2,AD200,DIGITADOR!$M$1,J200,ROW()))","v":""},null,null,null,{"$f":"IF(X200=\"\",\"\", INDEX(referentes!$AN:$AR,MATCH(DATOS_MIP_SS!X200,referentes!$AO:$AO,0),1))","v":""},"",{"$f":"IF(AF200=\"\",\"\", INDEX(referentes!D:E,MATCH(DATOS_MIP_SS!AF200,referentes!$E:$E,0),1))","v":""},{"$f":"IF(AI200=\"\",\"\", INDEX(referentes!A:B,MATCH(DATOS_MIP_SS!AI200,referentes!$B:$B,0),1))","v":""},{"$f":"IF(AJ200=\"\",\"\", INDEX(referentes!G:H,MATCH(DATOS_MIP_SS!AJ200,referentes!$H:$H,0),1))","v":""},{"$f":"IF(AK200=\"\",\"\", INDEX(referentes!$AB$2:$AC$10,MATCH(DATOS_MIP_SS!AK200,referentes!$AC$2:$AC$10,0),1))","v":""},{"$f":"IF(AL200=\"\",\"\", INDEX(referentes!$AH:$AI,MATCH(DATOS_MIP_SS!AL200,referentes!$AI:$AI,0),1))","v":""},{"$f":"IF(AP200=\"\",\"\", INDEX(referentes!$AE$2:$AF$10,MATCH(DATOS_MIP_SS!AP200,referentes!$AF$2:$AF$10,0),1))","v":""},{"$f":"IF(AN200=\"\",\"\", INDEX(referentes!$AK$2:$AL$10,MATCH(DATOS_MIP_SS!AN200,referentes!$AL$2:$AL$10,0),1))","v":""},{"$f":"IF(AQ200=\"\",\"\", INDEX(referentes!J:K,MATCH(DATOS_MIP_SS!AQ200,referentes!$K:$K,0),1))","v":""},{"$f":"IF(AR200=\"\",\"\", INDEX(referentes!$M$2:$N$20,MATCH(DATOS_MIP_SS!AR200,referentes!$N$2:$N$20,0),1))","v":""},{"$f":"IF(AY200=\"\",\"\", INDEX('otras referencias'!O:P,MATCH(AY200,'otras referencias'!$O:$O,0),2))","v":""},null,null,null,null,null,{"$f":"IF(X200<>\"\",INDEX(referentes!$AN:$AR,MATCH(DATOS_MIP_SS!X200,referentes!$AO:$AO,0),5),\"\")","v":""}]
[null,null,null,"",{"$f":"IF(J201=\"\",\"\",CONCATENATE(AD201,DIGITADOR!$B$2,DIGITADOR!$M$1,J201))","v":""},{"$f":"IF(J201=\"\",\"\",CONCATENATE(DIGITADOR!$B$2,AD201,DIGITADOR!$M$1,J201,ROW()))","v":""},null,null,null,{"$f":"IF(X201=\"\",\"\", INDEX(referentes!$AN:$AR,MATCH(DATOS_MIP_SS!X201,referentes!$AO:$AO,0),1))","v":""},"",{"$f":"IF(AF201=\"\",\"\", INDEX(referentes!D:E,MATCH(DATOS_MIP_SS!AF201,referentes!$E:$E,0),1))","v":""},{"$f":"IF(AI201=\"\",\"\", INDEX(referentes!A:B,MATCH(DATOS_MIP_SS!AI201,referentes!$B:$B,0),1))","v":""},{"$f":"IF(AJ201=\"\",\"\", INDEX(referentes!G:H,MATCH(DATOS_MIP_SS!AJ201,referentes!$H:$H,0),1))","v":""},{"$f":"IF(AK201=\"\",\"\", INDEX(referentes!$AB$2:$AC$10,MATCH(DATOS_MIP_SS!AK201,referentes!$AC$2:$AC$10,0),1))","v":""},{"$f":"IF(AL201=\"\",\"\", INDEX(referentes!$AH:$AI,MATCH(DATOS_MIP_SS!AL201,referentes!$AI:$AI,0),1))","v":""},{"$f":"IF(AP201=\"\",\"\", INDEX(referentes!$AE$2:$AF$10,MATCH(DATOS_MIP_SS!AP201,referentes!$AF$2:$AF$10,0),1))","v":""},{"$f":"IF(AN201=\"\",\"\", INDEX(referentes!$AK$2:$AL$10,MATCH(DATOS_MIP_SS!AN201,referentes!$AL$2:$AL$10,0),1))","v":""},{"$f":"IF(AQ201=\"\",\"\", INDEX(referentes!J:K,MATCH(DATOS_MIP_SS!AQ201,referentes!$K:$K,0),1))","v":""},{"$f":"IF(AR201=\"\",\"\", INDEX(referentes!$M$2:$N$20,MATCH(DATOS_MIP_SS!AR201,referentes!$N$2:$N$20,0),1))","v":""},{"$f":"IF(AY201=\"\",\"\", INDEX('otras referencias'!O:P,MATCH(AY201,'otras referencias'!$O:$O,0),2))","v":""},null,null,null,null,null,{"$f":"IF(X201<>\"\",INDEX(referentes!$AN:$AR,MATCH(DATOS_MIP_SS!X201,referentes!$AO:$AO,0),5),\"\")","v":""}]
[null,null,null,"",{"$f":"IF(J202=\"\",\"\",CONCATENATE(AD202,DIGITADOR!$B$2,DIGITADOR!$M$1,J202))","v":""},{"$f":"IF(J202=\"\",\"\",CONCATENATE(DIGITADOR!$B$2,AD202,DIGITADOR!$M$1,J202,ROW()))","v":""},null,null,null,{"$f":"IF(X202=\"\",\"\", INDEX(referentes!$AN:$AR,MATCH(DATOS_MIP_SS!X202,referentes!$AO:$AO,0),1))","v":""},"",{"$f":"IF(AF202=\"\",\"\", INDEX(referentes!D:E,MATCH(DATOS_MIP_SS!AF202,referentes!$E:$E,0),1))","v":""},{"$f":"IF(AI202=\"\",\"\", INDEX(referentes!A:B,MATCH(DATOS_MIP_SS!AI202,referentes!$B:$B,0),1))","v":""},{"$f":"IF(AJ202=\"\",\"\", INDEX(referentes!G:H,MATCH(DATOS_MIP_SS!AJ202,referentes!$H:$H,0),1))","v":""},{"$f":"IF(AK202=\"\",\"\", INDEX(referentes!$AB$2:$AC$10,MATCH(DATOS_MIP_SS!AK202,referentes!$AC$2:$AC$10,0),1))","v":""},{"$f":"IF(AL202=\"\",\"\", INDEX(referentes!$AH:$AI,MATCH(DATOS_MIP_SS!AL202,referentes!$AI:$AI,0),1))","v":""},{"$f":"IF(AP202=\"\",\"\", INDEX(referentes!$AE$2:$AF$10,MATCH(DATOS_MIP_SS!AP202,referentes!$AF$2:$AF$10,0),1))","v":""},{"$f":"IF(AN202=\"\",\"\", INDEX(referentes!$AK$2:$AL$10,MATCH(DATOS_MIP_SS!AN202,referentes!$AL$2:$AL$10,0),1))","v":""},{"$f":"IF(AQ202=\"\",\"\", INDEX(referentes!J:K,MATCH(DATOS_MIP_SS!AQ202,referentes!$K:$K,0),1))","v":""},{"$f":"IF(AR202=\"\",\"\", INDEX(referentes!$M$2:$N$20,MATCH(DATOS_MIP_SS!AR202,referentes!$N$2:$N$20,0),1))","v":""},{"$f":"IF(AY202=\"\",\"\", INDEX('otras referencias'!O:P,MATCH(AY202,'otras referencias'!$O:$O,0),2))","v":""},null,null,null,null,null,{"$f":"IF(X202<>\"\",INDEX(referentes!$AN:$AR,MATCH(DATOS_MIP_SS!X202,referentes!$AO:$AO,0),5),\"\")","v":""}]
[null,null,null,"",{"$f":"IF(J203=\"\",\"\",CONCATENATE(AD203,DIGITADOR!$B$2,DIGITADOR!$M$1,J203))","v":""},{"$f":"IF(J203=\"\",\"\",CONCATENATE(DIGITADOR!$B$2,AD203,DIGITADOR!$M$1,J203,ROW()))","v":""},null,null,null,{"$f":"IF(X203=\"\",\"\", INDEX(referentes!$AN:$AR,MATCH(DATOS_MIP_SS!X203,referentes!$AO:$AO,0),1))","v":""},{"$f":"IF(AD203=\"\",\"\",AD203+AE203)","v":""},{"$f":"IF(AF203=\"\",\"\", INDEX(referentes!D:E,MATCH(DATOS_MIP_SS!AF203,referentes!$E:$E,0),1))","v":""},{"$f":"IF(AI203=\"\",\"\", INDEX(referentes!A:B,MATCH(DATOS_MIP_SS!AI203,referentes!$B:$B,0),1))","v":""},{"$f":"IF(AJ203=\"\",\"\", INDEX(referentes!G:H,MATCH(DATOS_MIP_SS!AJ203,referentes!$H:$H,0),1))","v":""},{"$f":"IF(AK203=\"\",\"\", INDEX(referentes!$AB$2:$AC$10,MATCH(DATOS_MIP_SS!AK203,referentes!$AC$2:$AC$10,0),1))","v":""},{"$f":"IF(AL203=\"\",\"\", INDEX(referentes!$AH:$AI,MATCH(DATOS_MIP_SS!AL203,referentes!$AI:$AI,0),1))","v":""},{"$f":"IF(AP203=\"\",\"\", INDEX(referentes!$AE$2:$AF$10,MATCH(DATOS_MIP_SS!AP203,referentes!$AF$2:$AF$10,0),1))","v":""},{"$f":"IF(AN203=\"\",\"\", INDEX(referentes!$AK$2:$AL$10,MATCH(DATOS_MIP_SS!AN203,referentes!$AL$2:$AL$10,0),1))","v":""},{"$f":"IF(AQ203=\"\",\"\", INDEX(referentes!J:K,MATCH(DATOS_MIP_SS!AQ203,referentes!$K:$K,0),1))","v":""},{"$f":"IF(AR203=\"\",\"\", INDEX(referentes!$M$2:$N$20,MATCH(DATOS_MIP_SS!AR203,referentes!$N$2:$N$20,0),1))","v":""},{"$f":"IF(AY203=\"\",\"\", INDEX('otras referencias'!O:P,MATCH(AY203,'otras referencias'!$O:$O,0),2))","v":""},null,null,null,null,null,{"$f":"IF(X203<>\"\",INDEX(referentes!$AN:$AR,MATCH(DATOS_MIP_SS!X203,referentes!$AO:$AO,0),5),\"\")","v":""}]
[null,null,null,{"$f":"IF(E204=\"\",\"\",IF(E204=E203,\"\",E204))","v":""},{"$f":"IF(J204=\"\",\"\",CONCATENATE(AD204,DIGITADOR!$B$2,DIGITADOR!$M$1,J204))","v":""},{"$f":"IF(J204=\"\",\"\",CONCATENATE(DIGITADOR!$B$2,AD204,DIGITADOR!$M$1,J204,ROW()))","v":""},null,null,null,{"$f":"IF(X204=\"\",\"\", INDEX(referentes!$AN:$AR,MATCH(DATOS_MIP_SS!X204,referentes!$AO:$AO,0),1))","v":""},"",{"$f":"IF(AF204=\"\",\"\", INDEX(referentes!D:E,MATCH(DATOS_MIP_SS!AF204,referentes!$E:$E,0),1))","v":""},{"$f":"IF(AI204=\"\",\"\", INDEX(referentes!A:B,MATCH(DATOS_MIP_SS!AI204,referentes!$B:$B,0),1))","v":""},{"$f":"IF(AJ204=\"\",\"\", INDEX(referentes!G:H,MATCH(DATOS_MIP_SS!AJ204,referentes!$H:$H,0),1))","v":""},{"$f":"IF(AK204=\"\",\"\", INDEX(referentes!$AB$2:$AC$10,MATCH(DATOS_MIP_SS!AK204,referentes!$AC$2:$AC$10,0),1))","v":""},{"$f":"IF(AL204=\"\",\"\", INDEX(referentes!$AH:$AI,MATCH(DATOS_MIP_SS!AL204,referentes!$AI:$AI,0),1))","v":""},{"$f":"IF(AP204=\"\",\"\", INDEX(referentes!$AE$2:$AF$10,MATCH(DATOS_MIP_SS!AP204,referentes!$AF$2:$AF$10,0),1))","v":""},{"$f":"IF(AN204=\"\",\"\", INDEX(referentes!$AK$2:$AL$10,MATCH(DATOS_MIP_SS!AN204,referentes!$AL$2:$AL$10,0),1))","v":""},{"$f":"IF(AQ204=\"\",\"\", INDEX(referentes!J:K,MATCH(DATOS_MIP_SS!AQ204,referentes!$K:$K,0),1))","v":""},{"$f":"IF(AR204=\"\",\"\", INDEX(referentes!$M$2:$N$20,MATCH(DATOS_MIP_SS!AR204,referentes!$N$2:$N$20,0),1))","v":""},{"$f":"IF(AY204=\"\",\"\", INDEX('otras referencias'!O:P,MATCH(AY204,'otras referencias'!$O:$O,0),2))","v":""},null,null,null,null,null,{"$f":"IF(X204<>\"\",INDEX(referentes!$AN:$AR,MATCH(DATOS_MIP_SS!X204,referentes!$AO:$AO,0),5),\"\")","v":""}]
[null,null,null,"",{"$f":"IF(J205=\"\",\"\",CONCATENATE(AD205,DIGITADOR!$B$2,DIGITADOR!$M$1,J205))","v":""},{"$f":"IF(J205=\"\",\"\",CONCATENATE(DIGITADOR!$B$2,AD205,DIGITADOR!$M$1,J205,ROW()))","v":""},null,null,null,{"$f":"IF(X205=\"\",\"\", INDEX(referentes!$AN:$AR,MATCH(DATOS_MIP_SS!X205,referentes!$AO:$AO,0),1))","v":""},"",{"$f":"IF(AF205=\"\",\"\", INDEX(referentes!D:E,MATCH(DATOS_MIP_SS!AF205,referentes!$E:$E,0),1))","v":""},{"$f":"IF(AI205=\"\",\"\", INDEX(referentes!A:B,MATCH(DATOS_MIP_SS!AI205,referentes!$B:$B,0),1))","v":""},{"$f":"IF(AJ205=\"\",\"\", INDEX(referentes!G:H,MATCH(DATOS_MIP_SS!AJ205,referentes!$H:$H,0),1))","v":""},{"$f":"IF(AK205=\"\",\"\", INDEX(referentes!$AB$2:$AC$10,MATCH(DATOS_MIP_SS!AK205,referentes!$AC$2:$AC$10,0),1))","v":""},{"$f":"IF(AL205=\"\",\"\", INDEX(referentes!$AH:$AI,MATCH(DATOS_MIP_SS!AL205,referentes!$AI:$AI,0),1))","v":""},{"$f":"IF(AP205=\"\",\"\", INDEX(referentes!$AE$2:$AF$10,MATCH(DATOS_MIP_SS!AP205,referentes!$AF$2:$AF$10,0),1))","v":""},{"$f":"IF(AN205=\"\",\"\", INDEX(referentes!$AK$2:$AL$10,MATCH(DATOS_MIP_SS!AN205,referentes!$AL$2:$AL$10,0),1))","v":""},{"$f":"IF(AQ205=\"\",\"\", INDEX(referentes!J:K,MATCH(DATOS_MIP_SS!AQ205,referentes!$K:$K,0),1))","v":""},{"$f":"IF(AR205=\"\",\"\", INDEX(referentes!$M$2:$N$20,MATCH(DATOS_MIP_SS!AR205,referentes!$N$2:$N$20,0),1))","v":""},{"$f":"IF(AY205=\"\",\"\", INDEX('otras referencias'!O:P,MATCH(AY205,'otras referencias'!$O:$O,0),2))","v":""},null,null,null,null,null,{"$f":"IF(X205<>\"\",INDEX(referentes!$AN:$AR,MATCH(DATOS_MIP_SS!X205,referentes!$AO:$AO,0),5),\"\")","v":""}]
[null,null,null,"",{"$f":"IF(J206=\"\",\"\",CONCATENATE(AD206,DIGITADOR!$B$2,DIGITADOR!$M$1,J206))","v":""},{"$f":"IF(J206=\"\",\"\",CONCATENATE(DIGITADOR!$B$2,AD206,DIGITADOR!$M$1,J206,ROW()))","v":""},null,null,null,{"$f":"IF(X206=\"\",\"\", INDEX(referentes!$AN:$AR,MATCH(DATOS_MIP_SS!X206,referentes!$AO:$AO,0),1))","v":""},"",{"$f":"IF(AF206=\"\",\"\", INDEX(referentes!D:E,MATCH(DATOS_MIP_SS!AF206,referentes!$E:$E,0),1))","v":""},{"$f":"IF(AI206=\"\",\"\", INDEX(referentes!A:B,MATCH(DATOS_MIP_SS!AI206,referentes!$B:$B,0),1))","v":""},{"$f":"IF(AJ206=\"\",\"\", INDEX(referentes!G:H,MATCH(DATOS_MIP_SS!AJ206,referentes!$H:$H,0),1))","v":""},{"$f":"IF(AK206=\"\",\"\", INDEX(referentes!$AB$2:$AC$10,MATCH(DATOS_MIP_SS!AK206,referentes!$AC$2:$AC$10,0),1))","v":""},{"$f":"IF(AL206=\"\",\"\", INDEX(referentes!$AH:$AI,MATCH(DATOS_MIP_SS!AL206,referentes!$AI:$AI,0),1))","v":""},{"$f":"IF(AP206=\"\",\"\", INDEX(referentes!$AE$2:$AF$10,MATCH(DATOS_MIP_SS!AP206,referentes!$AF$2:$AF$10,0),1))","v":""},{"$f":"IF(AN206=\"\",\"\", INDEX(referentes!$AK$2:$AL$10,MATCH(DATOS_MIP_SS!AN206,referentes!$AL$2:$AL$10,0),1))","v":""},{"$f":"IF(AQ206=\"\",\"\", INDEX(referentes!J:K,MATCH(DATOS_MIP_SS!AQ206,referentes!$K:$K,0),1))","v":""},{"$f":"IF(AR206=\"\",\"\", INDEX(referentes!$M$2:$N$20,MATCH(DATOS_MIP_SS!AR206,referentes!$N$2:$N$20,0),1))","v":""},{"$f":"IF(AY206=\"\",\"\", INDEX('otras referencias'!O:P,MATCH(AY206,'otras referencias'!$O:$O,0),2))","v":""},null,null,null,null,null,{"$f":"IF(X206<>\"\",INDEX(referentes!$AN:$AR,MATCH(DATOS_MIP_SS!X206,referentes!$AO:$AO,0),5),\"\")","v":""}]
[null,null,null,"",{"$f":"IF(J207=\"\",\"\",CONCATENATE(AD207,DIGITADOR!$B$2,DIGITADOR!$M$1,J207))","v":""},{"$f":"IF(J207=\"\",\"\",CONCATENATE(DIGITADOR!$B$2,AD207,DIGITADOR!$M$1,J207,ROW()))","v":""},null,null,null,{"$f":"IF(X207=\"\",\"\", INDEX(referentes!$AN:$AR,MATCH(DATOS_MIP_SS!X207,referentes!$AO:$AO,0),1))","v":""},"",{"$f":"IF(AF207=\"\",\"\", INDEX(referentes!D:E,MATCH(DATOS_MIP_SS!AF207,referentes!$E:$E,0),1))","v":""},{"$f":"IF(AI207=\"\",\"\", INDEX(referentes!A:B,MATCH(DATOS_MIP_SS!AI207,referentes!$B:$B,0),1))","v":""},{"$f":"IF(AJ207=\"\",\"\", INDEX(referentes!G:H,MATCH(DATOS_MIP_SS!AJ207,referentes!$H:$H,0),1))","v":""},{"$f":"IF(AK207=\"\",\"\", INDEX(referentes!$AB$2:$AC$10,MATCH(DATOS_MIP_SS!AK207,referentes!$AC$2:$AC$10,0),1))","v":""},{"$f":"IF(AL207=\"\",\"\", INDEX(referentes!$AH:$AI,MATCH(DATOS_MIP_SS!AL207,referentes!$AI:$AI,0),1))","v":""},{"$f":"IF(AP207=\"\",\"\", INDEX(referentes!$AE$2:$AF$10,MATCH(DATOS_MIP_SS!AP207,referentes!$AF$2:$AF$10,0),1))","v":""},{"$f":"IF(AN207=\"\",\"\", INDEX(referentes!$AK$2:$AL$10,MATCH(DATOS_MIP_SS!AN207,referentes!$AL$2:$AL$10,0),1))","v":""},{"$f":"IF(AQ207=\"\",\"\", INDEX(referentes!J:K,MATCH(DATOS_MIP_SS!AQ207,referentes!$K:$K,0),1))","v":""},{"$f":"IF(AR207=\"\",\"\", INDEX(referentes!$M$2:$N$20,MATCH(DATOS_MIP_SS!AR207,referentes!$N$2:$N$20,0),1))","v":""},{"$f":"IF(AY207=\"\",\"\", INDEX('otras referencias'!O:P,MATCH(AY207,'otras referencias'!$O:$O,0),2))","v":""},null,null,null,null,null,{"$f":"IF(X207<>\"\",INDEX(referentes!$AN:$AR,MATCH(DATOS_MIP_SS!X207,referentes!$AO:$AO,0),5),\"\")","v":""}]
[null,null,null,"",{"$f":"IF(J208=\"\",\"\",CONCATENATE(AD208,DIGITADOR!$B$2,DIGITADOR!$M$1,J208))","v":""},{"$f":"IF(J208=\"\",\"\",CONCATENATE(DIGITADOR!$B$2,AD208,DIGITADOR!$M$1,J208,ROW()))","v":""},null,null,null,{"$f":"IF(X208=\"\",\"\", INDEX(referentes!$AN:$AR,MATCH(DATOS_MIP_SS!X208,referentes!$AO:$AO,0),1))","v":""},"",{"$f":"IF(AF208=\"\",\"\", INDEX(referentes!D:E,MATCH(DATOS_MIP_SS!AF208,referentes!$E:$E,0),1))","v":""},{"$f":"IF(AI208=\"\",\"\", INDEX(referentes!A:B,MATCH(DATOS_MIP_SS!AI208,referentes!$B:$B,0),1))","v":""},{"$f":"IF(AJ208=\"\",\"\", INDEX(referentes!G:H,MATCH(DATOS_MIP_SS!AJ208,referentes!$H:$H,0),1))","v":""},{"$f":"IF(AK208=\"\",\"\", INDEX(referentes!$AB$2:$AC$10,MATCH(DATOS_MIP_SS!AK208,referentes!$AC$2:$AC$10,0),1))","v":""},{"$f":"IF(AL208=\"\",\"\", INDEX(referentes!$AH:$AI,MATCH(DATOS_MIP_SS!AL208,referentes!$AI:$AI,0),1))","v":""},{"$f":"IF(AP208=\"\",\"\", INDEX(referentes!$AE$2:$AF$10,MATCH(DATOS_MIP_SS!AP208,referentes!$AF$2:$AF$10,0),1))","v":""},{"$f":"IF(AN208=\"\",\"\", INDEX(referentes!$AK$2:$AL$10,MATCH(DATOS_MIP_SS!AN208,referentes!$AL$2:$AL$10,0),1))","v":""},{"$f":"IF(AQ208=\"\",\"\", INDEX(referentes!J:K,MATCH(DATOS_MIP_SS!AQ208,referentes!$K:$K,0),1))","v":""},{"$f":"IF(AR208=\"\",\"\", INDEX(referentes!$M$2:$N$20,MATCH(DATOS_MIP_SS!AR208,referentes!$N$2:$N$20,0),1))","v":""},{"$f":"IF(AY208=\"\",\"\", INDEX('otras referencias'!O:P,MATCH(AY208,'otras referencias'!$O:$O,0),2))","v":""},null,null,null,null,null,{"$f":"IF(X208<>\"\",INDEX(referentes!$AN:$AR,MATCH(DATOS_MIP_SS!X208,referentes!$AO:$AO,0),5),\"\")","v":""}]
[null,null,null,"",{"$f":"IF(J209=\"\",\"\",CONCATENATE(AD209,DIGITADOR!$B$2,DIGITADOR!$M$1,J209))","v":""},{"$f":"IF(J209=\"\",\"\",CONCATENATE(DIGITADOR!$B$2,AD209,DIGITADOR!$M$1,J209,ROW()))","v":""},null,null,null,{"$f":"IF(X209=\"\",\"\", INDEX(referentes!$AN:$AR,MATCH(DATOS_MIP_SS!X209,referentes!$AO:$AO,0),1))","v":""},"",{"$f":"IF(AF209=\"\",\"\", INDEX(referentes!D:E,MATCH(DATOS_MIP_SS!AF209,referentes!$E:$E,0),1))","v":""},{"$f":"IF(AI209=\"\",\"\", INDEX(referentes!A:B,MATCH(DATOS_MIP_SS!AI209,referentes!$B:$B,0),1))","v":""},{"$f":"IF(AJ209=\"\",\"\", INDEX(referentes!G:H,MATCH(DATOS_MIP_SS!AJ209,referentes!$H:$H,0),1))","v":""},{"$f":"IF(AK209=\"\",\"\", INDEX(referentes!$AB$2:$AC$10,MATCH(DATOS_MIP_SS!AK209,referentes!$AC$2:$AC$10,0),1))","v":""},{"$f":"IF(AL209=\"\",\"\", INDEX(referentes!$AH:$AI,MATCH(DATOS_MIP_SS!AL209,referentes!$AI:$AI,0),1))","v":""},{"$f":"IF(AP209=\"\",\"\", INDEX(referentes!$AE$2:$AF$10,MATCH(DATOS_MIP_SS!AP209,referentes!$AF$2:$AF$10,0),1))","v":""},{"$f":"IF(AN209=\"\",\"\", INDEX(referentes!$AK$2:$AL$10,MATCH(DATOS_MIP_SS!AN209,referentes!$AL$2:$AL$10,0),1))","v":""},{"$f":"IF(AQ209=\"\",\"\", INDEX(referentes!J:K,MATCH(DATOS_MIP_SS!AQ209,referentes!$K:$K,0),1))","v":""},{"$f":"IF(AR209=\"\",\"\", INDEX(referentes!$M$2:$N$20,MATCH(DATOS_MIP_SS!AR209,referentes!$N$2:$N$20,0),1))","v":""},{"$f":"IF(AY209=\"\",\"\", INDEX('otras referencias'!O:P,MATCH(AY209,'otras referencias'!$O:$O,0),2))","v":""},null,null,null,null,null,{"$f":"IF(X209<>\"\",INDEX(referentes!$AN:$AR,MATCH(DATOS_MIP_SS!X209,referentes!$AO:$AO,0),5),\"\")","v":""}]
[null,null,null,"",{"$f":"IF(J210=\"\",\"\",CONCATENATE(AD210,DIGITADOR!$B$2,DIGITADOR!$M$1,J210))","v":""},{"$f":"IF(J210=\"\",\"\",CONCATENATE(DIGITADOR!$B$2,AD210,DIGITADOR!$M$1,J210,ROW()))","v":""},null,null,null,{"$f":"IF(X210=\"\",\"\", INDEX(referentes!$AN:$AR,MATCH(DATOS_MIP_SS!X210,referentes!$AO:$AO,0),1))","v":""},"",{"$f":"IF(AF210=\"\",\"\", INDEX(referentes!D:E,MATCH(DATOS_MIP_SS!AF210,referentes!$E:$E,0),1))","v":""},{"$f":"IF(AI210=\"\",\"\", INDEX(referentes!A:B,MATCH(DATOS_MIP_SS!AI210,referentes!$B:$B,0),1))","v":""},{"$f":"IF(AJ210=\"\",\"\", INDEX(referentes!G:H,MATCH(DATOS_MIP_SS!AJ210,referentes!$H:$H,0),1))","v":""},{"$f":"IF(AK210=\"\",\"\", INDEX(referentes!$AB$2:$AC$10,MATCH(DATOS_MIP_SS!AK210,referentes!$AC$2:$AC$10,0),1))","v":""},{"$f":"IF(AL210=\"\",\"\", INDEX(referentes!$AH:$AI,MATCH(DATOS_MIP_SS!AL210,referentes!$AI:$AI,0),1))","v":""},{"$f":"IF(AP210=\"\",\"\", INDEX(referentes!$AE$2:$AF$10,MATCH(DATOS_MIP_SS!AP210,referentes!$AF$2:$AF$10,0),1))","v":""},{"$f":"IF(AN210=\"\",\"\", INDEX(referentes!$AK$2:$AL$10,MATCH(DATOS_MIP_SS!AN210,referentes!$AL$2:$AL$10,0),1))","v":""},{"$f":"IF(AQ210=\"\",\"\", INDEX(referentes!J:K,MATCH(DATOS_MIP_SS!AQ210,referentes!$K:$K,0),1))","v":""},{"$f":"IF(AR210=\"\",\"\", INDEX(referentes!$M$2:$N$20,MATCH(DATOS_MIP_SS!AR210,referentes!$N$2:$N$20,0),1))","v":""},{"$f":"IF(AY210=\"\",\"\", INDEX('otras referencias'!O:P,MATCH(AY210,'otras referencias'!$O:$O,0),2))","v":""},null,null,null,null,null,{"$f":"IF(X210<>\"\",INDEX(referentes!$AN:$AR,MATCH(DATOS_MIP_SS!X210,referentes!$AO:$AO,0),5),\"\")","v":""}]
[null,null,null,"",{"$f":"IF(J211=\"\",\"\",CONCATENATE(AD211,DIGITADOR!$B$2,DIGITADOR!$M$1,J211))","v":""},{"$f":"IF(J211=\"\",\"\",CONCATENATE(DIGITADOR!$B$2,AD211,DIGITADOR!$M$1,J211,ROW()))","v":""},null,null,null,{"$f":"IF(X211=\"\",\"\", INDEX(referentes!$AN:$AR,MATCH(DATOS_MIP_SS!X211,referentes!$AO:$AO,0),1))","v":""},"",{"$f":"IF(AF211=\"\",\"\", INDEX(referentes!D:E,MATCH(DATOS_MIP_SS!AF211,referentes!$E:$E,0),1))","v":""},{"$f":"IF(AI211=\"\",\"\", INDEX(referentes!A:B,MATCH(DATOS_MIP_SS!AI211,referentes!$B:$B,0),1))","v":""},{"$f":"IF(AJ211=\"\",\"\", INDEX(referentes!G:H,MATCH(DATOS_MIP_SS!AJ211,referentes!$H:$H,0),1))","v":""},{"$f":"IF(AK211=\"\",\"\", INDEX(referentes!$AB$2:$AC$10,MATCH(DATOS_MIP_SS!AK211,referentes!$AC$2:$AC$10,0),1))","v":""},{"$f":"IF(AL211=\"\",\"\", INDEX(referentes!$AH:$AI,MATCH(DATOS_MIP_SS!AL211,referentes!$AI:$AI,0),1))","v":""},{"$f":"IF(AP211=\"\",\"\", INDEX(referentes!$AE$2:$AF$10,MATCH(DATOS_MIP_SS!AP211,referentes!$AF$2:$AF$10,0),1))","v":""},{"$f":"IF(AN211=\"\",\"\", INDEX(referentes!$AK$2:$AL$10,MATCH(DATOS_MIP_SS!AN211,referentes!$AL$2:$AL$10,0),1))","v":""},{"$f":"IF(AQ211=\"\",\"\", INDEX(referentes!J:K,MATCH(DATOS_MIP_SS!AQ211,referentes!$K:$K,0),1))","v":""},{"$f":"IF(AR211=\"\",\"\", INDEX(referentes!$M$2:$N$20,MATCH(DATOS_MIP_SS!AR211,referentes!$N$2:$N$20,0),1))","v":""},{"$f":"IF(AY211=\"\",\"\", INDEX('otras referencias'!O:P,MATCH(AY211,'otras referencias'!$O:$O,0),2))","v":""},null,null,null,null,null,{"$f":"IF(X211<>\"\",INDEX(referentes!$AN:$AR,MATCH(DATOS_MIP_SS!X211,referentes!$AO:$AO,0),5),\"\")","v":""}]
[null,null,null,"",{"$f":"IF(J212=\"\",\"\",CONCATENATE(AD212,DIGITADOR!$B$2,DIGITADOR!$M$1,J212))","v":""},{"$f":"IF(J212=\"\",\"\",CONCATENATE(DIGITADOR!$B$2,AD212,DIGITADOR!$M$1,J212,ROW()))","v":""},null,null,null,{"$f":"IF(X212=\"\",\"\", INDEX(referentes!$AN:$AR,MATCH(DATOS_MIP_SS!X212,referentes!$AO:$AO,0),1))","v":""},"",{"$f":"IF(AF212=\"\",\"\", INDEX(referentes!D:E,MATCH(DATOS_MIP_SS!AF212,referentes!$E:$E,0),1))","v":""},{"$f":"IF(AI212=\"\",\"\", INDEX(referentes!A:B,MATCH(DATOS_MIP_SS!AI212,referentes!$B:$B,0),1))","v":""},{"$f":"IF(AJ212=\"\",\"\", INDEX(referentes!G:H,MATCH(DATOS_MIP_SS!AJ212,referentes!$H:$H,0),1))","v":""},{"$f":"IF(AK212=\"\",\"\", INDEX(referentes!$AB$2:$AC$10,MATCH(DATOS_MIP_SS!AK212,referentes!$AC$2:$AC$10,0),1))","v":""},{"$f":"IF(AL212=\"\",\"\", INDEX(referentes!$AH:$AI,MATCH(DATOS_MIP_SS!AL212,referentes!$AI:$AI,0),1))","v":""},{"$f":"IF(AP212=\"\",\"\", INDEX(referentes!$AE$2:$AF$10,MATCH(DATOS_MIP_SS!AP212,referentes!$AF$2:$AF$10,0),1))","v":""},{"$f":"IF(AN212=\"\",\"\", INDEX(referentes!$AK$2:$AL$10,MATCH(DATOS_MIP_SS!AN212,referentes!$AL$2:$AL$10,0),1))","v":""},{"$f":"IF(AQ212=\"\",\"\", INDEX(referentes!J:K,MATCH(DATOS_MIP_SS!AQ212,referentes!$K:$K,0),1))","v":""},{"$f":"IF(AR212=\"\",\"\", INDEX(referentes!$M$2:$N$20,MATCH(DATOS_MIP_SS!AR212,referentes!$N$2:$N$20,0),1))","v":""},{"$f":"IF(AY212=\"\",\"\", INDEX('otras referencias'!O:P,MATCH(AY212,'otras referencias'!$O:$O,0),2))","v":""},null,null,null,null,null,{"$f":"IF(X212<>\"\",INDEX(referentes!$AN:$AR,MATCH(DATOS_MIP_SS!X212,referentes!$AO:$AO,0),5),\"\")","v":""}]
[null,null,null,"",{"$f":"IF(J213=\"\",\"\",CONCATENATE(AD213,DIGITADOR!$B$2,DIGITADOR!$M$1,J213))","v":""},{"$f":"IF(J213=\"\",\"\",CONCATENATE(DIGITADOR!$B$2,AD213,DIGITADOR!$M$1,J213,ROW()))","v":""},null,null,null,{"$f":"IF(X213=\"\",\"\", INDEX(referentes!$AN:$AR,MATCH(DATOS_MIP_SS!X213,referentes!$AO:$AO,0),1))","v":""},"",{"$f":"IF(AF213=\"\",\"\", INDEX(referentes!D:E,MATCH(DATOS_MIP_SS!AF213,referentes!$E:$E,0),1))","v":""},{"$f":"IF(AI213=\"\",\"\", INDEX(referentes!A:B,MATCH(DATOS_MIP_SS!AI213,referentes!$B:$B,0),1))","v":""},{"$f":"IF(AJ213=\"\",\"\", INDEX(referentes!G:H,MATCH(DATOS_MIP_SS!AJ213,referentes!$H:$H,0),1))","v":""},{"$f":"IF(AK213=\"\",\"\", INDEX(referentes!$AB$2:$AC$10,MATCH(DATOS_MIP_SS!AK213,referentes!$AC$2:$AC$10,0),1))","v":""},{"$f":"IF(AL213=\"\",\"\", INDEX(referentes!$AH:$AI,MATCH(DATOS_MIP_SS!AL213,referentes!$AI:$AI,0),1))","v":""},{"$f":"IF(AP213=\"\",\"\", INDEX(referentes!$AE$2:$AF$10,MATCH(DATOS_MIP_SS!AP213,referentes!$AF$2:$AF$10,0),1))","v":""},{"$f":"IF(AN213=\"\",\"\", INDEX(referentes!$AK$2:$AL$10,MATCH(DATOS_MIP_SS!AN213,referentes!$AL$2:$AL$10,0),1))","v":""},{"$f":"IF(AQ213=\"\",\"\", INDEX(referentes!J:K,MATCH(DATOS_MIP_SS!AQ213,referentes!$K:$K,0),1))","v":""},{"$f":"IF(AR213=\"\",\"\", INDEX(referentes!$M$2:$N$20,MATCH(DATOS_MIP_SS!AR213,referentes!$N$2:$N$20,0),1))","v":""},{"$f":"IF(AY213=\"\",\"\", INDEX('otras referencias'!O:P,MATCH(AY213,'otras referencias'!$O:$O,0),2))","v":""},null,null,null,null,null,{"$f":"IF(X213<>\"\",INDEX(referentes!$AN:$AR,MATCH(DATOS_MIP_SS!X213,referentes!$AO:$AO,0),5),\"\")","v":""}]
[null,null,null,"",{"$f":"IF(J214=\"\",\"\",CONCATENATE(AD214,DIGITADOR!$B$2,DIGITADOR!$M$1,J214))","v":""},{"$f":"IF(J214=\"\",\"\",CONCATENATE(DIGITADOR!$B$2,AD214,DIGITADOR!$M$1,J214,ROW()))","v":""},null,null,null,{"$f":"IF(X214=\"\",\"\", INDEX(referentes!$AN:$AR,MATCH(DATOS_MIP_SS!X214,referentes!$AO:$AO,0),1))","v":""},"",{"$f":"IF(AF214=\"\",\"\", INDEX(referentes!D:E,MATCH(DATOS_MIP_SS!AF214,referentes!$E:$E,0),1))","v":""},{"$f":"IF(AI214=\"\",\"\", INDEX(referentes!A:B,MATCH(DATOS_MIP_SS!AI214,referentes!$B:$B,0),1))","v":""},{"$f":"IF(AJ214=\"\",\"\", INDEX(referentes!G:H,MATCH(DATOS_MIP_SS!AJ214,referentes!$H:$H,0),1))","v":""},{"$f":"IF(AK214=\"\",\"\", INDEX(referentes!$AB$2:$AC$10,MATCH(DATOS_MIP_SS!AK214,referentes!$AC$2:$AC$10,0),1))","v":""},{"$f":"IF(AL214=\"\",\"\", INDEX(referentes!$AH:$AI,MATCH(DATOS_MIP_SS!AL214,referentes!$AI:$AI,0),1))","v":""},{"$f":"IF(AP214=\"\",\"\", INDEX(referentes!$AE$2:$AF$10,MATCH(DATOS_MIP_SS!AP214,referentes!$AF$2:$AF$10,0),1))","v":""},{"$f":"IF(AN214=\"\",\"\", INDEX(referentes!$AK$2:$AL$10,MATCH(DATOS_MIP_SS!AN214,referentes!$AL$2:$AL$10,0),1))","v":""},{"$f":"IF(AQ214=\"\",\"\", INDEX(referentes!J:K,MATCH(DATOS_MIP_SS!AQ214,referentes!$K:$K,0),1))","v":""},{"$f":"IF(AR214=\"\",\"\", INDEX(referentes!$M$2:$N$20,MATCH(DATOS_MIP_SS!AR214,referentes!$N$2:$N$20,0),1))","v":""},{"$f":"IF(AY214=\"\",\"\", INDEX('otras referencias'!O:P,MATCH(AY214,'otras referencias'!$O:$O,0),2))","v":""},null,null,null,null,null,{"$f":"IF(X214<>\"\",INDEX(referentes!$AN:$AR,MATCH(DATOS_MIP_SS!X214,referentes!$AO:$AO,0),5),\"\")","v":""}]
[null,null,null,"",{"$f":"IF(J215=\"\",\"\",CONCATENATE(AD215,DIGITADOR!$B$2,DIGITADOR!$M$1,J215))","v":""},{"$f":"IF(J215=\"\",\"\",CONCATENATE(DIGITADOR!$B$2,AD215,DIGITADOR!$M$1,J215,ROW()))","v":""},null,null,null,{"$f":"IF(X215=\"\",\"\", INDEX(referentes!$AN:$AR,MATCH(DATOS_MIP_SS!X215,referentes!$AO:$AO,0),1))","v":""},"",{"$f":"IF(AF215=\"\",\"\", INDEX(referentes!D:E,MATCH(DATOS_MIP_SS!AF215,referentes!$E:$E,0),1))","v":""},{"$f":"IF(AI215=\"\",\"\", INDEX(referentes!A:B,MATCH(DATOS_MIP_SS!AI215,referentes!$B:$B,0),1))","v":""},{"$f":"IF(AJ215=\"\",\"\", INDEX(referentes!G:H,MATCH(DATOS_MIP_SS!AJ215,referentes!$H:$H,0),1))","v":""},{"$f":"IF(AK215=\"\",\"\", INDEX(referentes!$AB$2:$AC$10,MATCH(DATOS_MIP_SS!AK215,referentes!$AC$2:$AC$10,0),1))","v":""},{"$f":"IF(AL215=\"\",\"\", INDEX(referentes!$AH:$AI,MATCH(DATOS_MIP_SS!AL215,referentes!$AI:$AI,0),1))","v":""},{"$f":"IF(AP215=\"\",\"\", INDEX(referentes!$AE$2:$AF$10,MATCH(DATOS_MIP_SS!AP215,referentes!$AF$2:$AF$10,0),1))","v":""},{"$f":"IF(AN215=\"\",\"\", INDEX(referentes!$AK$2:$AL$10,MATCH(DATOS_MIP_SS!AN215,referentes!$AL$2:$AL$10,0),1))","v":""},{"$f":"IF(AQ215=\"\",\"\", INDEX(referentes!J:K,MATCH(DATOS_MIP_SS!AQ215,referentes!$K:$K,0),1))","v":""},{"$f":"IF(AR215=\"\",\"\", INDEX(referentes!$M$2:$N$20,MATCH(DATOS_MIP_SS!AR215,referentes!$N$2:$N$20,0),1))","v":""},{"$f":"IF(AY215=\"\",\"\", INDEX('otras referencias'!O:P,MATCH(AY215,'otras referencias'!$O:$O,0),2))","v":""},null,null,null,null,null,{"$f":"IF(X215<>\"\",INDEX(referentes!$AN:$AR,MATCH(DATOS_MIP_SS!X215,referentes!$AO:$AO,0),5),\"\")","v":""}]
[null,null,null,"",{"$f":"IF(J216=\"\",\"\",CONCATENATE(AD216,DIGITADOR!$B$2,DIGITADOR!$M$1,J216))","v":""},{"$f":"IF(J216=\"\",\"\",CONCATENATE(DIGITADOR!$B$2,AD216,DIGITADOR!$M$1,J216,ROW()))","v":""},null,null,null,{"$f":"IF(X216=\"\",\"\", INDEX(referentes!$AN:$AR,MATCH(DATOS_MIP_SS!X216,referentes!$AO:$AO,0),1))","v":""},"",{"$f":"IF(AF216=\"\",\"\", INDEX(referentes!D:E,MATCH(DATOS_MIP_SS!AF216,referentes!$E:$E,0),1))","v":""},{"$f":"IF(AI216=\"\",\"\", INDEX(referentes!A:B,MATCH(DATOS_MIP_SS!AI216,referentes!$B:$B,0),1))","v":""},{"$f":"IF(AJ216=\"\",\"\", INDEX(referentes!G:H,MATCH(DATOS_MIP_SS!AJ216,referentes!$H:$H,0),1))","v":""},{"$f":"IF(AK216=\"\",\"\", INDEX(referentes!$AB$2:$AC$10,MATCH(DATOS_MIP_SS!AK216,referentes!$AC$2:$AC$10,0),1))","v":""},{"$f":"IF(AL216=\"\",\"\", INDEX(referentes!$AH:$AI,MATCH(DATOS_MIP_SS!AL216,referentes!$AI:$AI,0),1))","v":""},{"$f":"IF(AP216=\"\",\"\", INDEX(referentes!$AE$2:$AF$10,MATCH(DATOS_MIP_SS!AP216,referentes!$AF$2:$AF$10,0),1))","v":""},{"$f":"IF(AN216=\"\",\"\", INDEX(referentes!$AK$2:$AL$10,MATCH(DATOS_MIP_SS!AN216,referentes!$AL$2:$AL$10,0),1))","v":""},{"$f":"IF(AQ216=\"\",\"\", INDEX(referentes!J:K,MATCH(DATOS_MIP_SS!AQ216,referentes!$K:$K,0),1))","v":""},{"$f":"IF(AR216=\"\",\"\", INDEX(referentes!$M$2:$N$20,MATCH(DATOS_MIP_SS!AR216,referentes!$N$2:$N$20,0),1))","v":""},{"$f":"IF(AY216=\"\",\"\", INDEX('otras referencias'!O:P,MATCH(AY216,'otras referencias'!$O:$O,0),2))","v":""},null,null,null,null,null,{"$f":"IF(X216<>\"\",INDEX(referentes!$AN:$AR,MATCH(DATOS_MIP_SS!X216,referentes!$AO:$AO,0),5),\"\")","v":""}]
[null,null,null,"",{"$f":"IF(J217=\"\",\"\",CONCATENATE(AD217,DIGITADOR!$B$2,DIGITADOR!$M$1,J217))","v":""},{"$f":"IF(J217=\"\",\"\",CONCATENATE(DIGITADOR!$B$2,AD217,DIGITADOR!$M$1,J217,ROW()))","v":""},null,null,null,{"$f":"IF(X217=\"\",\"\", INDEX(referentes!$AN:$AR,MATCH(DATOS_MIP_SS!X217,referentes!$AO:$AO,0),1))","v":""},"",{"$f":"IF(AF217=\"\",\"\", INDEX(referentes!D:E,MATCH(DATOS_MIP_SS!AF217,referentes!$E:$E,0),1))","v":""},{"$f":"IF(AI217=\"\",\"\", INDEX(referentes!A:B,MATCH(DATOS_MIP_SS!AI217,referentes!$B:$B,0),1))","v":""},{"$f":"IF(AJ217=\"\",\"\", INDEX(referentes!G:H,MATCH(DATOS_MIP_SS!AJ217,referentes!$H:$H,0),1))","v":""},{"$f":"IF(AK217=\"\",\"\", INDEX(referentes!$AB$2:$AC$10,MATCH(DATOS_MIP_SS!AK217,referentes!$AC$2:$AC$10,0),1))","v":""},{"$f":"IF(AL217=\"\",\"\", INDEX(referentes!$AH:$AI,MATCH(DATOS_MIP_SS!AL217,referentes!$AI:$AI,0),1))","v":""},{"$f":"IF(AP217=\"\",\"\", INDEX(referentes!$AE$2:$AF$10,MATCH(DATOS_MIP_SS!AP217,referentes!$AF$2:$AF$10,0),1))","v":""},{"$f":"IF(AN217=\"\",\"\", INDEX(referentes!$AK$2:$AL$10,MATCH(DATOS_MIP_SS!AN217,referentes!$AL$2:$AL$10,0),1))","v":""},{"$f":"IF(AQ217=\"\",\"\", INDEX(referentes!J:K,MATCH(DATOS_MIP_SS!AQ217,referentes!$K:$K,0),1))","v":""},{"$f":"IF(AR217=\"\",\"\", INDEX(referentes!$M$2:$N$20,MATCH(DATOS_MIP_SS!AR217,referentes!$N$2:$N$20,0),1))","v":""},{"$f":"IF(AY217=\"\",\"\", INDEX('otras referencias'!O:P,MATCH(AY217,'otras referencias'!$O:$O,0),2))","v":""},null,null,null,null,null,{"$f":"IF(X217<>\"\",INDEX(referentes!$AN:$AR,MATCH(DATOS_MIP_SS!X217,referentes!$AO:$AO,0),5),\"\")","v":""}]
[null,null,null,"",{"$f":"IF(J218=\"\",\"\",CONCATENATE(AD218,DIGITADOR!$B$2,DIGITADOR!$M$1,J218))","v":""},{"$f":"IF(J218=\"\",\"\",CONCATENATE(DIGITADOR!$B$2,AD218,DIGITADOR!$M$1,J218,ROW()))","v":""},null,null,null,{"$f":"IF(X218=\"\",\"\", INDEX(referentes!$AN:$AR,MATCH(DATOS_MIP_SS!X218,referentes!$AO:$AO,0),1))","v":""},"",{"$f":"IF(AF218=\"\",\"\", INDEX(referentes!D:E,MATCH(DATOS_MIP_SS!AF218,referentes!$E:$E,0),1))","v":""},{"$f":"IF(AI218=\"\",\"\", INDEX(referentes!A:B,MATCH(DATOS_MIP_SS!AI218,referentes!$B:$B,0),1))","v":""},{"$f":"IF(AJ218=\"\",\"\", INDEX(referentes!G:H,MATCH(DATOS_MIP_SS!AJ218,referentes!$H:$H,0),1))","v":""},{"$f":"IF(AK218=\"\",\"\", INDEX(referentes!$AB$2:$AC$10,MATCH(DATOS_MIP_SS!AK218,referentes!$AC$2:$AC$10,0),1))","v":""},{"$f":"IF(AL218=\"\",\"\", INDEX(referentes!$AH:$AI,MATCH(DATOS_MIP_SS!AL218,referentes!$AI:$AI,0),1))","v":""},{"$f":"IF(AP218=\"\",\"\", INDEX(referentes!$AE$2:$AF$10,MATCH(DATOS_MIP_SS!AP218,referentes!$AF$2:$AF$10,0),1))","v":""},{"$f":"IF(AN218=\"\",\"\", INDEX(referentes!$AK$2:$AL$10,MATCH(DATOS_MIP_SS!AN218,referentes!$AL$2:$AL$10,0),1))","v":""},{"$f":"IF(AQ218=\"\",\"\", INDEX(referentes!J:K,MATCH(DATOS_MIP_SS!AQ218,referentes!$K:$K,0),1))","v":""},{"$f":"IF(AR218=\"\",\"\", INDEX(referentes!$M$2:$N$20,MATCH(DATOS_MIP_SS!AR218,referentes!$N$2:$N$20,0),1))","v":""},{"$f":"IF(AY218=\"\",\"\", INDEX('otras referencias'!O:P,MATCH(AY218,'otras referencias'!$O:$O,0),2))","v":""},null,null,null,null,null,{"$f":"IF(X218<>\"\",INDEX(referentes!$AN:$AR,MATCH(DATOS_MIP_SS!X218,referentes!$AO:$AO,0),5),\"\")","v":""}]
[null,null,null,"",{"$f":"IF(J219=\"\",\"\",CONCATENATE(AD219,DIGITADOR!$B$2,DIGITADOR!$M$1,J219))","v":""},{"$f":"IF(J219=\"\",\"\",CONCATENATE(DIGITADOR!$B$2,AD219,DIGITADOR!$M$1,J219,ROW()))","v":""},null,null,null,{"$f":"IF(X219=\"\",\"\", INDEX(referentes!$AN:$AR,MATCH(DATOS_MIP_SS!X219,referentes!$AO:$AO,0),1))","v":""},"",{"$f":"IF(AF219=\"\",\"\", INDEX(referentes!D:E,MATCH(DATOS_MIP_SS!AF219,referentes!$E:$E,0),1))","v":""},{"$f":"IF(AI219=\"\",\"\", INDEX(referentes!A:B,MATCH(DATOS_MIP_SS!AI219,referentes!$B:$B,0),1))","v":""},{"$f":"IF(AJ219=\"\",\"\", INDEX(referentes!G:H,MATCH(DATOS_MIP_SS!AJ219,referentes!$H:$H,0),1))","v":""},{"$f":"IF(AK219=\"\",\"\", INDEX(referentes!$AB$2:$AC$10,MATCH(DATOS_MIP_SS!AK219,referentes!$AC$2:$AC$10,0),1))","v":""},{"$f":"IF(AL219=\"\",\"\", INDEX(referentes!$AH:$AI,MATCH(DATOS_MIP_SS!AL219,referentes!$AI:$AI,0),1))","v":""},{"$f":"IF(AP219=\"\",\"\", INDEX(referentes!$AE$2:$AF$10,MATCH(DATOS_MIP_SS!AP219,referentes!$AF$2:$AF$10,0),1))","v":""},{"$f":"IF(AN219=\"\",\"\", INDEX(referentes!$AK$2:$AL$10,MATCH(DATOS_MIP_SS!AN219,referentes!$AL$2:$AL$10,0),1))","v":""},{"$f":"IF(AQ219=\"\",\"\", INDEX(referentes!J:K,MATCH(DATOS_MIP_SS!AQ219,referentes!$K:$K,0),1))","v":""},{"$f":"IF(AR219=\"\",\"\", INDEX(referentes!$M$2:$N$20,MATCH(DATOS_MIP_SS!AR219,referentes!$N$2:$N$20,0),1))","v":""},{"$f":"IF(AY219=\"\",\"\", INDEX('otras referencias'!O:P,MATCH(AY219,'otras referencias'!$O:$O,0),2))","v":""},null,null,null,null,null,{"$f":"IF(X219<>\"\",INDEX(referentes!$AN:$AR,MATCH(DATOS_MIP_SS!X219,referentes!$AO:$AO,0),5),\"\")","v":""}]
[null,null,null,"",{"$f":"IF(J220=\"\",\"\",CONCATENATE(AD220,DIGITADOR!$B$2,DIGITADOR!$M$1,J220))","v":""},{"$f":"IF(J220=\"\",\"\",CONCATENATE(DIGITADOR!$B$2,AD220,DIGITADOR!$M$1,J220,ROW()))","v":""},null,null,null,{"$f":"IF(X220=\"\",\"\", INDEX(referentes!$AN:$AR,MATCH(DATOS_MIP_SS!X220,referentes!$AO:$AO,0),1))","v":""},"",{"$f":"IF(AF220=\"\",\"\", INDEX(referentes!D:E,MATCH(DATOS_MIP_SS!AF220,referentes!$E:$E,0),1))","v":""},{"$f":"IF(AI220=\"\",\"\", INDEX(referentes!A:B,MATCH(DATOS_MIP_SS!AI220,referentes!$B:$B,0),1))","v":""},{"$f":"IF(AJ220=\"\",\"\", INDEX(referentes!G:H,MATCH(DATOS_MIP_SS!AJ220,referentes!$H:$H,0),1))","v":""},{"$f":"IF(AK220=\"\",\"\", INDEX(referentes!$AB$2:$AC$10,MATCH(DATOS_MIP_SS!AK220,referentes!$AC$2:$AC$10,0),1))","v":""},{"$f":"IF(AL220=\"\",\"\", INDEX(referentes!$AH:$AI,MATCH(DATOS_MIP_SS!AL220,referentes!$AI:$AI,0),1))","v":""},{"$f":"IF(AP220=\"\",\"\", INDEX(referentes!$AE$2:$AF$10,MATCH(DATOS_MIP_SS!AP220,referentes!$AF$2:$AF$10,0),1))","v":""},{"$f":"IF(AN220=\"\",\"\", INDEX(referentes!$AK$2:$AL$10,MATCH(DATOS_MIP_SS!AN220,referentes!$AL$2:$AL$10,0),1))","v":""},{"$f":"IF(AQ220=\"\",\"\", INDEX(referentes!J:K,MATCH(DATOS_MIP_SS!AQ220,referentes!$K:$K,0),1))","v":""},{"$f":"IF(AR220=\"\",\"\", INDEX(referentes!$M$2:$N$20,MATCH(DATOS_MIP_SS!AR220,referentes!$N$2:$N$20,0),1))","v":""},{"$f":"IF(AY220=\"\",\"\", INDEX('otras referencias'!O:P,MATCH(AY220,'otras referencias'!$O:$O,0),2))","v":""},null,null,null,null,null,{"$f":"IF(X220<>\"\",INDEX(referentes!$AN:$AR,MATCH(DATOS_MIP_SS!X220,referentes!$AO:$AO,0),5),\"\")","v":""}]
[null,null,null,"",{"$f":"IF(J221=\"\",\"\",CONCATENATE(AD221,DIGITADOR!$B$2,DIGITADOR!$M$1,J221))","v":""},{"$f":"IF(J221=\"\",\"\",CONCATENATE(DIGITADOR!$B$2,AD221,DIGITADOR!$M$1,J221,ROW()))","v":""},null,null,null,{"$f":"IF(X221=\"\",\"\", INDEX(referentes!$AN:$AR,MATCH(DATOS_MIP_SS!X221,referentes!$AO:$AO,0),1))","v":""},"",{"$f":"IF(AF221=\"\",\"\", INDEX(referentes!D:E,MATCH(DATOS_MIP_SS!AF221,referentes!$E:$E,0),1))","v":""},{"$f":"IF(AI221=\"\",\"\", INDEX(referentes!A:B,MATCH(DATOS_MIP_SS!AI221,referentes!$B:$B,0),1))","v":""},{"$f":"IF(AJ221=\"\",\"\", INDEX(referentes!G:H,MATCH(DATOS_MIP_SS!AJ221,referentes!$H:$H,0),1))","v":""},{"$f":"IF(AK221=\"\",\"\", INDEX(referentes!$AB$2:$AC$10,MATCH(DATOS_MIP_SS!AK221,referentes!$AC$2:$AC$10,0),1))","v":""},{"$f":"IF(AL221=\"\",\"\", INDEX(referentes!$AH:$AI,MATCH(DATOS_MIP_SS!AL221,referentes!$AI:$AI,0),1))","v":""},{"$f":"IF(AP221=\"\",\"\", INDEX(referentes!$AE$2:$AF$10,MATCH(DATOS_MIP_SS!AP221,referentes!$AF$2:$AF$10,0),1))","v":""},{"$f":"IF(AN221=\"\",\"\", INDEX(referentes!$AK$2:$AL$10,MATCH(DATOS_MIP_SS!AN221,referentes!$AL$2:$AL$10,0),1))","v":""},{"$f":"IF(AQ221=\"\",\"\", INDEX(referentes!J:K,MATCH(DATOS_MIP_SS!AQ221,referentes!$K:$K,0),1))","v":""},{"$f":"IF(AR221=\"\",\"\", INDEX(referentes!$M$2:$N$20,MATCH(DATOS_MIP_SS!AR221,referentes!$N$2:$N$20,0),1))","v":""},{"$f":"IF(AY221=\"\",\"\", INDEX('otras referencias'!O:P,MATCH(AY221,'otras referencias'!$O:$O,0),2))","v":""},null,null,null,null,null,{"$f":"IF(X221<>\"\",INDEX(referentes!$AN:$AR,MATCH(DATOS_MIP_SS!X221,referentes!$AO:$AO,0),5),\"\")","v":""}]
[null,null,null,"",{"$f":"IF(J222=\"\",\"\",CONCATENATE(AD222,DIGITADOR!$B$2,DIGITADOR!$M$1,J222))","v":""},{"$f":"IF(J222=\"\",\"\",CONCATENATE(DIGITADOR!$B$2,AD222,DIGITADOR!$M$1,J222,ROW()))","v":""},null,null,null,{"$f":"IF(X222=\"\",\"\", INDEX(referentes!$AN:$AR,MATCH(DATOS_MIP_SS!X222,referentes!$AO:$AO,0),1))","v":""},"",{"$f":"IF(AF222=\"\",\"\", INDEX(referentes!D:E,MATCH(DATOS_MIP_SS!AF222,referentes!$E:$E,0),1))","v":""},{"$f":"IF(AI222=\"\",\"\", INDEX(referentes!A:B,MATCH(DATOS_MIP_SS!AI222,referentes!$B:$B,0),1))","v":""},{"$f":"IF(AJ222=\"\",\"\", INDEX(referentes!G:H,MATCH(DATOS_MIP_SS!AJ222,referentes!$H:$H,0),1))","v":""},{"$f":"IF(AK222=\"\",\"\", INDEX(referentes!$AB$2:$AC$10,MATCH(DATOS_MIP_SS!AK222,referentes!$AC$2:$AC$10,0),1))","v":""},{"$f":"IF(AL222=\"\",\"\", INDEX(referentes!$AH:$AI,MATCH(DATOS_MIP_SS!AL222,referentes!$AI:$AI,0),1))","v":""},{"$f":"IF(AP222=\"\",\"\", INDEX(referentes!$AE$2:$AF$10,MATCH(DATOS_MIP_SS!AP222,referentes!$AF$2:$AF$10,0),1))","v":""},{"$f":"IF(AN222=\"\",\"\", INDEX(referentes!$AK$2:$AL$10,MATCH(DATOS_MIP_SS!AN222,referentes!$AL$2:$AL$10,0),1))","v":""},{"$f":"IF(AQ222=\"\",\"\", INDEX(referentes!J:K,MATCH(DATOS_MIP_SS!AQ222,referentes!$K:$K,0),1))","v":""},{"$f":"IF(AR222=\"\",\"\", INDEX(referentes!$M$2:$N$20,MATCH(DATOS_MIP_SS!AR222,referentes!$N$2:$N$20,0),1))","v":""},{"$f":"IF(AY222=\"\",\"\", INDEX('otras referencias'!O:P,MATCH(AY222,'otras referencias'!$O:$O,0),2))","v":""},null,null,null,null,null,{"$f":"IF(X222<>\"\",INDEX(referentes!$AN:$AR,MATCH(DATOS_MIP_SS!X222,referentes!$AO:$AO,0),5),\"\")","v":""}]
[null,null,null,"",{"$f":"IF(J223=\"\",\"\",CONCATENATE(AD223,DIGITADOR!$B$2,DIGITADOR!$M$1,J223))","v":""},{"$f":"IF(J223=\"\",\"\",CONCATENATE(DIGITADOR!$B$2,AD223,DIGITADOR!$M$1,J223,ROW()))","v":""},null,null,null,{"$f":"IF(X223=\"\",\"\", INDEX(referentes!$AN:$AR,MATCH(DATOS_MIP_SS!X223,referentes!$AO:$AO,0),1))","v":""},"",{"$f":"IF(AF223=\"\",\"\", INDEX(referentes!D:E,MATCH(DATOS_MIP_SS!AF223,referentes!$E:$E,0),1))","v":""},{"$f":"IF(AI223=\"\",\"\", INDEX(referentes!A:B,MATCH(DATOS_MIP_SS!AI223,referentes!$B:$B,0),1))","v":""},{"$f":"IF(AJ223=\"\",\"\", INDEX(referentes!G:H,MATCH(DATOS_MIP_SS!AJ223,referentes!$H:$H,0),1))","v":""},{"$f":"IF(AK223=\"\",\"\", INDEX(referentes!$AB$2:$AC$10,MATCH(DATOS_MIP_SS!AK223,referentes!$AC$2:$AC$10,0),1))","v":""},{"$f":"IF(AL223=\"\",\"\", INDEX(referentes!$AH:$AI,MATCH(DATOS_MIP_SS!AL223,referentes!$AI:$AI,0),1))","v":""},{"$f":"IF(AP223=\"\",\"\", INDEX(referentes!$AE$2:$AF$10,MATCH(DATOS_MIP_SS!AP223,referentes!$AF$2:$AF$10,0),1))","v":""},{"$f":"IF(AN223=\"\",\"\", INDEX(referentes!$AK$2:$AL$10,MATCH(DATOS_MIP_SS!AN223,referentes!$AL$2:$AL$10,0),1))","v":""},{"$f":"IF(AQ223=\"\",\"\", INDEX(referentes!J:K,MATCH(DATOS_MIP_SS!AQ223,referentes!$K:$K,0),1))","v":""},{"$f":"IF(AR223=\"\",\"\", INDEX(referentes!$M$2:$N$20,MATCH(DATOS_MIP_SS!AR223,referentes!$N$2:$N$20,0),1))","v":""},{"$f":"IF(AY223=\"\",\"\", INDEX('otras referencias'!O:P,MATCH(AY223,'otras referencias'!$O:$O,0),2))","v":""},null,null,null,null,null,{"$f":"IF(X223<>\"\",INDEX(referentes!$AN:$AR,MATCH(DATOS_MIP_SS!X223,referentes!$AO:$AO,0),5),\"\")","v":""}]
[null,null,null,"",{"$f":"IF(J224=\"\",\"\",CONCATENATE(AD224,DIGITADOR!$B$2,DIGITADOR!$M$1,J224))","v":""},{"$f":"IF(J224=\"\",\"\",CONCATENATE(DIGITADOR!$B$2,AD224,DIGITADOR!$M$1,J224,ROW()))","v":""},null,null,null,{"$f":"IF(X224=\"\",\"\", INDEX(referentes!$AN:$AR,MATCH(DATOS_MIP_SS!X224,referentes!$AO:$AO,0),1))","v":""},"",{"$f":"IF(AF224=\"\",\"\", INDEX(referentes!D:E,MATCH(DATOS_MIP_SS!AF224,referentes!$E:$E,0),1))","v":""},{"$f":"IF(AI224=\"\",\"\", INDEX(referentes!A:B,MATCH(DATOS_MIP_SS!AI224,referentes!$B:$B,0),1))","v":""},{"$f":"IF(AJ224=\"\",\"\", INDEX(referentes!G:H,MATCH(DATOS_MIP_SS!AJ224,referentes!$H:$H,0),1))","v":""},{"$f":"IF(AK224=\"\",\"\", INDEX(referentes!$AB$2:$AC$10,MATCH(DATOS_MIP_SS!AK224,referentes!$AC$2:$AC$10,0),1))","v":""},{"$f":"IF(AL224=\"\",\"\", INDEX(referentes!$AH:$AI,MATCH(DATOS_MIP_SS!AL224,referentes!$AI:$AI,0),1))","v":""},{"$f":"IF(AP224=\"\",\"\", INDEX(referentes!$AE$2:$AF$10,MATCH(DATOS_MIP_SS!AP224,referentes!$AF$2:$AF$10,0),1))","v":""},{"$f":"IF(AN224=\"\",\"\", INDEX(referentes!$AK$2:$AL$10,MATCH(DATOS_MIP_SS!AN224,referentes!$AL$2:$AL$10,0),1))","v":""},{"$f":"IF(AQ224=\"\",\"\", INDEX(referentes!J:K,MATCH(DATOS_MIP_SS!AQ224,referentes!$K:$K,0),1))","v":""},{"$f":"IF(AR224=\"\",\"\", INDEX(referentes!$M$2:$N$20,MATCH(DATOS_MIP_SS!AR224,referentes!$N$2:$N$20,0),1))","v":""},{"$f":"IF(AY224=\"\",\"\", INDEX('otras referencias'!O:P,MATCH(AY224,'otras referencias'!$O:$O,0),2))","v":""},null,null,null,null,null,{"$f":"IF(X224<>\"\",INDEX(referentes!$AN:$AR,MATCH(DATOS_MIP_SS!X224,referentes!$AO:$AO,0),5),\"\")","v":""}]
[null,null,null,"",{"$f":"IF(J225=\"\",\"\",CONCATENATE(AD225,DIGITADOR!$B$2,DIGITADOR!$M$1,J225))","v":""},{"$f":"IF(J225=\"\",\"\",CONCATENATE(DIGITADOR!$B$2,AD225,DIGITADOR!$M$1,J225,ROW()))","v":""},null,null,null,{"$f":"IF(X225=\"\",\"\", INDEX(referentes!$AN:$AR,MATCH(DATOS_MIP_SS!X225,referentes!$AO:$AO,0),1))","v":""},"",{"$f":"IF(AF225=\"\",\"\", INDEX(referentes!D:E,MATCH(DATOS_MIP_SS!AF225,referentes!$E:$E,0),1))","v":""},{"$f":"IF(AI225=\"\",\"\", INDEX(referentes!A:B,MATCH(DATOS_MIP_SS!AI225,referentes!$B:$B,0),1))","v":""},{"$f":"IF(AJ225=\"\",\"\", INDEX(referentes!G:H,MATCH(DATOS_MIP_SS!AJ225,referentes!$H:$H,0),1))","v":""},{"$f":"IF(AK225=\"\",\"\", INDEX(referentes!$AB$2:$AC$10,MATCH(DATOS_MIP_SS!AK225,referentes!$AC$2:$AC$10,0),1))","v":""},{"$f":"IF(AL225=\"\",\"\", INDEX(referentes!$AH:$AI,MATCH(DATOS_MIP_SS!AL225,referentes!$AI:$AI,0),1))","v":""},{"$f":"IF(AP225=\"\",\"\", INDEX(referentes!$AE$2:$AF$10,MATCH(DATOS_MIP_SS!AP225,referentes!$AF$2:$AF$10,0),1))","v":""},{"$f":"IF(AN225=\"\",\"\", INDEX(referentes!$AK$2:$AL$10,MATCH(DATOS_MIP_SS!AN225,referentes!$AL$2:$AL$10,0),1))","v":""},{"$f":"IF(AQ225=\"\",\"\", INDEX(referentes!J:K,MATCH(DATOS_MIP_SS!AQ225,referentes!$K:$K,0),1))","v":""},{"$f":"IF(AR225=\"\",\"\", INDEX(referentes!$M$2:$N$20,MATCH(DATOS_MIP_SS!AR225,referentes!$N$2:$N$20,0),1))","v":""},{"$f":"IF(AY225=\"\",\"\", INDEX('otras referencias'!O:P,MATCH(AY225,'otras referencias'!$O:$O,0),2))","v":""},null,null,null,null,null,{"$f":"IF(X225<>\"\",INDEX(referentes!$AN:$AR,MATCH(DATOS_MIP_SS!X225,referentes!$AO:$AO,0),5),\"\")","v":""}]
[null,null,null,"",{"$f":"IF(J226=\"\",\"\",CONCATENATE(AD226,DIGITADOR!$B$2,DIGITADOR!$M$1,J226))","v":""},{"$f":"IF(J226=\"\",\"\",CONCATENATE(DIGITADOR!$B$2,AD226,DIGITADOR!$M$1,J226,ROW()))","v":""},null,null,null,{"$f":"IF(X226=\"\",\"\", INDEX(referentes!$AN:$AR,MATCH(DATOS_MIP_SS!X226,referentes!$AO:$AO,0),1))","v":""},"",{"$f":"IF(AF226=\"\",\"\", INDEX(referentes!D:E,MATCH(DATOS_MIP_SS!AF226,referentes!$E:$E,0),1))","v":""},{"$f":"IF(AI226=\"\",\"\", INDEX(referentes!A:B,MATCH(DATOS_MIP_SS!AI226,referentes!$B:$B,0),1))","v":""},{"$f":"IF(AJ226=\"\",\"\", INDEX(referentes!G:H,MATCH(DATOS_MIP_SS!AJ226,referentes!$H:$H,0),1))","v":""},{"$f":"IF(AK226=\"\",\"\", INDEX(referentes!$AB$2:$AC$10,MATCH(DATOS_MIP_SS!AK226,referentes!$AC$2:$AC$10,0),1))","v":""},{"$f":"IF(AL226=\"\",\"\", INDEX(referentes!$AH:$AI,MATCH(DATOS_MIP_SS!AL226,referentes!$AI:$AI,0),1))","v":""},{"$f":"IF(AP226=\"\",\"\", INDEX(referentes!$AE$2:$AF$10,MATCH(DATOS_MIP_SS!AP226,referentes!$AF$2:$AF$10,0),1))","v":""},{"$f":"IF(AN226=\"\",\"\", INDEX(referentes!$AK$2:$AL$10,MATCH(DATOS_MIP_SS!AN226,referentes!$AL$2:$AL$10,0),1))","v":""},{"$f":"IF(AQ226=\"\",\"\", INDEX(referentes!J:K,MATCH(DATOS_MIP_SS!AQ226,referentes!$K:$K,0),1))","v":""},{"$f":"IF(AR226=\"\",\"\", INDEX(referentes!$M$2:$N$20,MATCH(DATOS_MIP_SS!AR226,referentes!$N$2:$N$20,0),1))","v":""},{"$f":"IF(AY226=\"\",\"\", INDEX('otras referencias'!O:P,MATCH(AY226,'otras referencias'!$O:$O,0),2))","v":""},null,null,null,null,null,{"$f":"IF(X226<>\"\",INDEX(referentes!$AN:$AR,MATCH(DATOS_MIP_SS!X226,referentes!$AO:$AO,0),5),\"\")","v":""}]
[null,null,null,"",{"$f":"IF(J227=\"\",\"\",CONCATENATE(AD227,DIGITADOR!$B$2,DIGITADOR!$M$1,J227))","v":""},{"$f":"IF(J227=\"\",\"\",CONCATENATE(DIGITADOR!$B$2,AD227,DIGITADOR!$M$1,J227,ROW()))","v":""},null,null,null,{"$f":"IF(X227=\"\",\"\", INDEX(referentes!$AN:$AR,MATCH(DATOS_MIP_SS!X227,referentes!$AO:$AO,0),1))","v":""},"",{"$f":"IF(AF227=\"\",\"\", INDEX(referentes!D:E,MATCH(DATOS_MIP_SS!AF227,referentes!$E:$E,0),1))","v":""},{"$f":"IF(AI227=\"\",\"\", INDEX(referentes!A:B,MATCH(DATOS_MIP_SS!AI227,referentes!$B:$B,0),1))","v":""},{"$f":"IF(AJ227=\"\",\"\", INDEX(referentes!G:H,MATCH(DATOS_MIP_SS!AJ227,referentes!$H:$H,0),1))","v":""},{"$f":"IF(AK227=\"\",\"\", INDEX(referentes!$AB$2:$AC$10,MATCH(DATOS_MIP_SS!AK227,referentes!$AC$2:$AC$10,0),1))","v":""},{"$f":"IF(AL227=\"\",\"\", INDEX(referentes!$AH:$AI,MATCH(DATOS_MIP_SS!AL227,referentes!$AI:$AI,0),1))","v":""},{"$f":"IF(AP227=\"\",\"\", INDEX(referentes!$AE$2:$AF$10,MATCH(DATOS_MIP_SS!AP227,referentes!$AF$2:$AF$10,0),1))","v":""},{"$f":"IF(AN227=\"\",\"\", INDEX(referentes!$AK$2:$AL$10,MATCH(DATOS_MIP_SS!AN227,referentes!$AL$2:$AL$10,0),1))","v":""},{"$f":"IF(AQ227=\"\",\"\", INDEX(referentes!J:K,MATCH(DATOS_MIP_SS!AQ227,referentes!$K:$K,0),1))","v":""},{"$f":"IF(AR227=\"\",\"\", INDEX(referentes!$M$2:$N$20,MATCH(DATOS_MIP_SS!AR227,referentes!$N$2:$N$20,0),1))","v":""},{"$f":"IF(AY227=\"\",\"\", INDEX('otras referencias'!O:P,MATCH(AY227,'otras referencias'!$O:$O,0),2))","v":""},null,null,null,null,null,{"$f":"IF(X227<>\"\",INDEX(referentes!$AN:$AR,MATCH(DATOS_MIP_SS!X227,referentes!$AO:$AO,0),5),\"\")","v":""}]
[null,null,null,"",{"$f":"IF(J228=\"\",\"\",CONCATENATE(AD228,DIGITADOR!$B$2,DIGITADOR!$M$1,J228))","v":""},{"$f":"IF(J228=\"\",\"\",CONCATENATE(DIGITADOR!$B$2,AD228,DIGITADOR!$M$1,J228,ROW()))","v":""},null,null,null,{"$f":"IF(X228=\"\",\"\", INDEX(referentes!$AN:$AR,MATCH(DATOS_MIP_SS!X228,referentes!$AO:$AO,0),1))","v":""},"",{"$f":"IF(AF228=\"\",\"\", INDEX(referentes!D:E,MATCH(DATOS_MIP_SS!AF228,referentes!$E:$E,0),1))","v":""},{"$f":"IF(AI228=\"\",\"\", INDEX(referentes!A:B,MATCH(DATOS_MIP_SS!AI228,referentes!$B:$B,0),1))","v":""},{"$f":"IF(AJ228=\"\",\"\", INDEX(referentes!G:H,MATCH(DATOS_MIP_SS!AJ228,referentes!$H:$H,0),1))","v":""},{"$f":"IF(AK228=\"\",\"\", INDEX(referentes!$AB$2:$AC$10,MATCH(DATOS_MIP_SS!AK228,referentes!$AC$2:$AC$10,0),1))","v":""},{"$f":"IF(AL228=\"\",\"\", INDEX(referentes!$AH:$AI,MATCH(DATOS_MIP_SS!AL228,referentes!$AI:$AI,0),1))","v":""},{"$f":"IF(AP228=\"\",\"\", INDEX(referentes!$AE$2:$AF$10,MATCH(DATOS_MIP_SS!AP228,referentes!$AF$2:$AF$10,0),1))","v":""},{"$f":"IF(AN228=\"\",\"\", INDEX(referentes!$AK$2:$AL$10,MATCH(DATOS_MIP_SS!AN228,referentes!$AL$2:$AL$10,0),1))","v":""},{"$f":"IF(AQ228=\"\",\"\", INDEX(referentes!J:K,MATCH(DATOS_MIP_SS!AQ228,referentes!$K:$K,0),1))","v":""},{"$f":"IF(AR228=\"\",\"\", INDEX(referentes!$M$2:$N$20,MATCH(DATOS_MIP_SS!AR228,referentes!$N$2:$N$20,0),1))","v":""},{"$f":"IF(AY228=\"\",\"\", INDEX('otras referencias'!O:P,MATCH(AY228,'otras referencias'!$O:$O,0),2))","v":""},null,null,null,null,null,{"$f":"IF(X228<>\"\",INDEX(referentes!$AN:$AR,MATCH(DATOS_MIP_SS!X228,referentes!$AO:$AO,0),5),\"\")","v":""}]
[null,null,null,"",{"$f":"IF(J229=\"\",\"\",CONCATENATE(AD229,DIGITADOR!$B$2,DIGITADOR!$M$1,J229))","v":""},{"$f":"IF(J229=\"\",\"\",CONCATENATE(DIGITADOR!$B$2,AD229,DIGITADOR!$M$1,J229,ROW()))","v":""},null,null,null,{"$f":"IF(X229=\"\",\"\", INDEX(referentes!$AN:$AR,MATCH(DATOS_MIP_SS!X229,referentes!$AO:$AO,0),1))","v":""},"",{"$f":"IF(AF229=\"\",\"\", INDEX(referentes!D:E,MATCH(DATOS_MIP_SS!AF229,referentes!$E:$E,0),1))","v":""},{"$f":"IF(AI229=\"\",\"\", INDEX(referentes!A:B,MATCH(DATOS_MIP_SS!AI229,referentes!$B:$B,0),1))","v":""},{"$f":"IF(AJ229=\"\",\"\", INDEX(referentes!G:H,MATCH(DATOS_MIP_SS!AJ229,referentes!$H:$H,0),1))","v":""},{"$f":"IF(AK229=\"\",\"\", INDEX(referentes!$AB$2:$AC$10,MATCH(DATOS_MIP_SS!AK229,referentes!$AC$2:$AC$10,0),1))","v":""},{"$f":"IF(AL229=\"\",\"\", INDEX(referentes!$AH:$AI,MATCH(DATOS_MIP_SS!AL229,referentes!$AI:$AI,0),1))","v":""},{"$f":"IF(AP229=\"\",\"\", INDEX(referentes!$AE$2:$AF$10,MATCH(DATOS_MIP_SS!AP229,referentes!$AF$2:$AF$10,0),1))","v":""},{"$f":"IF(AN229=\"\",\"\", INDEX(referentes!$AK$2:$AL$10,MATCH(DATOS_MIP_SS!AN229,referentes!$AL$2:$AL$10,0),1))","v":""},{"$f":"IF(AQ229=\"\",\"\", INDEX(referentes!J:K,MATCH(DATOS_MIP_SS!AQ229,referentes!$K:$K,0),1))","v":""},{"$f":"IF(AR229=\"\",\"\", INDEX(referentes!$M$2:$N$20,MATCH(DATOS_MIP_SS!AR229,referentes!$N$2:$N$20,0),1))","v":""},{"$f":"IF(AY229=\"\",\"\", INDEX('otras referencias'!O:P,MATCH(AY229,'otras referencias'!$O:$O,0),2))","v":""},null,null,null,null,null,{"$f":"IF(X229<>\"\",INDEX(referentes!$AN:$AR,MATCH(DATOS_MIP_SS!X229,referentes!$AO:$AO,0),5),\"\")","v":""}]
[null,null,null,"",{"$f":"IF(J230=\"\",\"\",CONCATENATE(AD230,DIGITADOR!$B$2,DIGITADOR!$M$1,J230))","v":""},{"$f":"IF(J230=\"\",\"\",CONCATENATE(DIGITADOR!$B$2,AD230,DIGITADOR!$M$1,J230,ROW()))","v":""},null,null,null,{"$f":"IF(X230=\"\",\"\", INDEX(referentes!$AN:$AR,MATCH(DATOS_MIP_SS!X230,referentes!$AO:$AO,0),1))","v":""},"",{"$f":"IF(AF230=\"\",\"\", INDEX(referentes!D:E,MATCH(DATOS_MIP_SS!AF230,referentes!$E:$E,0),1))","v":""},{"$f":"IF(AI230=\"\",\"\", INDEX(referentes!A:B,MATCH(DATOS_MIP_SS!AI230,referentes!$B:$B,0),1))","v":""},{"$f":"IF(AJ230=\"\",\"\", INDEX(referentes!G:H,MATCH(DATOS_MIP_SS!AJ230,referentes!$H:$H,0),1))","v":""},{"$f":"IF(AK230=\"\",\"\", INDEX(referentes!$AB$2:$AC$10,MATCH(DATOS_MIP_SS!AK230,referentes!$AC$2:$AC$10,0),1))","v":""},{"$f":"IF(AL230=\"\",\"\", INDEX(referentes!$AH:$AI,MATCH(DATOS_MIP_SS!AL230,referentes!$AI:$AI,0),1))","v":""},{"$f":"IF(AP230=\"\",\"\", INDEX(referentes!$AE$2:$AF$10,MATCH(DATOS_MIP_SS!AP230,referentes!$AF$2:$AF$10,0),1))","v":""},{"$f":"IF(AN230=\"\",\"\", INDEX(referentes!$AK$2:$AL$10,MATCH(DATOS_MIP_SS!AN230,referentes!$AL$2:$AL$10,0),1))","v":""},{"$f":"IF(AQ230=\"\",\"\", INDEX(referentes!J:K,MATCH(DATOS_MIP_SS!AQ230,referentes!$K:$K,0),1))","v":""},{"$f":"IF(AR230=\"\",\"\", INDEX(referentes!$M$2:$N$20,MATCH(DATOS_MIP_SS!AR230,referentes!$N$2:$N$20,0),1))","v":""},{"$f":"IF(AY230=\"\",\"\", INDEX('otras referencias'!O:P,MATCH(AY230,'otras referencias'!$O:$O,0),2))","v":""},null,null,null,null,null,{"$f":"IF(X230<>\"\",INDEX(referentes!$AN:$AR,MATCH(DATOS_MIP_SS!X230,referentes!$AO:$AO,0),5),\"\")","v":""}]
[null,null,null,"",{"$f":"IF(J231=\"\",\"\",CONCATENATE(AD231,DIGITADOR!$B$2,DIGITADOR!$M$1,J231))","v":""},{"$f":"IF(J231=\"\",\"\",CONCATENATE(DIGITADOR!$B$2,AD231,DIGITADOR!$M$1,J231,ROW()))","v":""},null,null,null,{"$f":"IF(X231=\"\",\"\", INDEX(referentes!$AN:$AR,MATCH(DATOS_MIP_SS!X231,referentes!$AO:$AO,0),1))","v":""},"",{"$f":"IF(AF231=\"\",\"\", INDEX(referentes!D:E,MATCH(DATOS_MIP_SS!AF231,referentes!$E:$E,0),1))","v":""},{"$f":"IF(AI231=\"\",\"\", INDEX(referentes!A:B,MATCH(DATOS_MIP_SS!AI231,referentes!$B:$B,0),1))","v":""},{"$f":"IF(AJ231=\"\",\"\", INDEX(referentes!G:H,MATCH(DATOS_MIP_SS!AJ231,referentes!$H:$H,0),1))","v":""},{"$f":"IF(AK231=\"\",\"\", INDEX(referentes!$AB$2:$AC$10,MATCH(DATOS_MIP_SS!AK231,referentes!$AC$2:$AC$10,0),1))","v":""},{"$f":"IF(AL231=\"\",\"\", INDEX(referentes!$AH:$AI,MATCH(DATOS_MIP_SS!AL231,referentes!$AI:$AI,0),1))","v":""},{"$f":"IF(AP231=\"\",\"\", INDEX(referentes!$AE$2:$AF$10,MATCH(DATOS_MIP_SS!AP231,referentes!$AF$2:$AF$10,0),1))","v":""},{"$f":"IF(AN231=\"\",\"\", INDEX(referentes!$AK$2:$AL$10,MATCH(DATOS_MIP_SS!AN231,referentes!$AL$2:$AL$10,0),1))","v":""},{"$f":"IF(AQ231=\"\",\"\", INDEX(referentes!J:K,MATCH(DATOS_MIP_SS!AQ231,referentes!$K:$K,0),1))","v":""},{"$f":"IF(AR231=\"\",\"\", INDEX(referentes!$M$2:$N$20,MATCH(DATOS_MIP_SS!AR231,referentes!$N$2:$N$20,0),1))","v":""},{"$f":"IF(AY231=\"\",\"\", INDEX('otras referencias'!O:P,MATCH(AY231,'otras referencias'!$O:$O,0),2))","v":""},null,null,null,null,null,{"$f":"IF(X231<>\"\",INDEX(referentes!$AN:$AR,MATCH(DATOS_MIP_SS!X231,referentes!$AO:$AO,0),5),\"\")","v":""}]
[null,null,null,"",{"$f":"IF(J232=\"\",\"\",CONCATENATE(AD232,DIGITADOR!$B$2,DIGITADOR!$M$1,J232))","v":""},{"$f":"IF(J232=\"\",\"\",CONCATENATE(DIGITADOR!$B$2,AD232,DIGITADOR!$M$1,J232,ROW()))","v":""},null,null,null,{"$f":"IF(X232=\"\",\"\", INDEX(referentes!$AN:$AR,MATCH(DATOS_MIP_SS!X232,referentes!$AO:$AO,0),1))","v":""},"",{"$f":"IF(AF232=\"\",\"\", INDEX(referentes!D:E,MATCH(DATOS_MIP_SS!AF232,referentes!$E:$E,0),1))","v":""},{"$f":"IF(AI232=\"\",\"\", INDEX(referentes!A:B,MATCH(DATOS_MIP_SS!AI232,referentes!$B:$B,0),1))","v":""},{"$f":"IF(AJ232=\"\",\"\", INDEX(referentes!G:H,MATCH(DATOS_MIP_SS!AJ232,referentes!$H:$H,0),1))","v":""},{"$f":"IF(AK232=\"\",\"\", INDEX(referentes!$AB$2:$AC$10,MATCH(DATOS_MIP_SS!AK232,referentes!$AC$2:$AC$10,0),1))","v":""},{"$f":"IF(AL232=\"\",\"\", INDEX(referentes!$AH:$AI,MATCH(DATOS_MIP_SS!AL232,referentes!$AI:$AI,0),1))","v":""},{"$f":"IF(AP232=\"\",\"\", INDEX(referentes!$AE$2:$AF$10,MATCH(DATOS_MIP_SS!AP232,referentes!$AF$2:$AF$10,0),1))","v":""},{"$f":"IF(AN232=\"\",\"\", INDEX(referentes!$AK$2:$AL$10,MATCH(DATOS_MIP_SS!AN232,referentes!$AL$2:$AL$10,0),1))","v":""},{"$f":"IF(AQ232=\"\",\"\", INDEX(referentes!J:K,MATCH(DATOS_MIP_SS!AQ232,referentes!$K:$K,0),1))","v":""},{"$f":"IF(AR232=\"\",\"\", INDEX(referentes!$M$2:$N$20,MATCH(DATOS_MIP_SS!AR232,referentes!$N$2:$N$20,0),1))","v":""},{"$f":"IF(AY232=\"\",\"\", INDEX('otras referencias'!O:P,MATCH(AY232,'otras referencias'!$O:$O,0),2))","v":""},null,null,null,null,null,{"$f":"IF(X232<>\"\",INDEX(referentes!$AN:$AR,MATCH(DATOS_MIP_SS!X232,referentes!$AO:$AO,0),5),\"\")","v":""}]
[null,null,null,"",{"$f":"IF(J233=\"\",\"\",CONCATENATE(AD233,DIGITADOR!$B$2,DIGITADOR!$M$1,J233))","v":""},{"$f":"IF(J233=\"\",\"\",CONCATENATE(DIGITADOR!$B$2,AD233,DIGITADOR!$M$1,J233,ROW()))","v":""},null,null,null,{"$f":"IF(X233=\"\",\"\", INDEX(referentes!$AN:$AR,MATCH(DATOS_MIP_SS!X233,referentes!$AO:$AO,0),1))","v":""},"",{"$f":"IF(AF233=\"\",\"\", INDEX(referentes!D:E,MATCH(DATOS_MIP_SS!AF233,referentes!$E:$E,0),1))","v":""},{"$f":"IF(AI233=\"\",\"\", INDEX(referentes!A:B,MATCH(DATOS_MIP_SS!AI233,referentes!$B:$B,0),1))","v":""},{"$f":"IF(AJ233=\"\",\"\", INDEX(referentes!G:H,MATCH(DATOS_MIP_SS!AJ233,referentes!$H:$H,0),1))","v":""},{"$f":"IF(AK233=\"\",\"\", INDEX(referentes!$AB$2:$AC$10,MATCH(DATOS_MIP_SS!AK233,referentes!$AC$2:$AC$10,0),1))","v":""},{"$f":"IF(AL233=\"\",\"\", INDEX(referentes!$AH:$AI,MATCH(DATOS_MIP_SS!AL233,referentes!$AI:$AI,0),1))","v":""},{"$f":"IF(AP233=\"\",\"\", INDEX(referentes!$AE$2:$AF$10,MATCH(DATOS_MIP_SS!AP233,referentes!$AF$2:$AF$10,0),1))","v":""},{"$f":"IF(AN233=\"\",\"\", INDEX(referentes!$AK$2:$AL$10,MATCH(DATOS_MIP_SS!AN233,referentes!$AL$2:$AL$10,0),1))","v":""},{"$f":"IF(AQ233=\"\",\"\", INDEX(referentes!J:K,MATCH(DATOS_MIP_SS!AQ233,referentes!$K:$K,0),1))","v":""},{"$f":"IF(AR233=\"\",\"\", INDEX(referentes!$M$2:$N$20,MATCH(DATOS_MIP_SS!AR233,referentes!$N$2:$N$20,0),1))","v":""},{"$f":"IF(AY233=\"\",\"\", INDEX('otras referencias'!O:P,MATCH(AY233,'otras referencias'!$O:$O,0),2))","v":""},null,null,null,null,null,{"$f":"IF(X233<>\"\",INDEX(referentes!$AN:$AR,MATCH(DATOS_MIP_SS!X233,referentes!$AO:$AO,0),5),\"\")","v":""}]
[null,null,null,"",{"$f":"IF(J234=\"\",\"\",CONCATENATE(AD234,DIGITADOR!$B$2,DIGITADOR!$M$1,J234))","v":""},{"$f":"IF(J234=\"\",\"\",CONCATENATE(DIGITADOR!$B$2,AD234,DIGITADOR!$M$1,J234,ROW()))","v":""},null,null,null,{"$f":"IF(X234=\"\",\"\", INDEX(referentes!$AN:$AR,MATCH(DATOS_MIP_SS!X234,referentes!$AO:$AO,0),1))","v":""},"",{"$f":"IF(AF234=\"\",\"\", INDEX(referentes!D:E,MATCH(DATOS_MIP_SS!AF234,referentes!$E:$E,0),1))","v":""},{"$f":"IF(AI234=\"\",\"\", INDEX(referentes!A:B,MATCH(DATOS_MIP_SS!AI234,referentes!$B:$B,0),1))","v":""},{"$f":"IF(AJ234=\"\",\"\", INDEX(referentes!G:H,MATCH(DATOS_MIP_SS!AJ234,referentes!$H:$H,0),1))","v":""},{"$f":"IF(AK234=\"\",\"\", INDEX(referentes!$AB$2:$AC$10,MATCH(DATOS_MIP_SS!AK234,referentes!$AC$2:$AC$10,0),1))","v":""},{"$f":"IF(AL234=\"\",\"\", INDEX(referentes!$AH:$AI,MATCH(DATOS_MIP_SS!AL234,referentes!$AI:$AI,0),1))","v":""},{"$f":"IF(AP234=\"\",\"\", INDEX(referentes!$AE$2:$AF$10,MATCH(DATOS_MIP_SS!AP234,referentes!$AF$2:$AF$10,0),1))","v":""},{"$f":"IF(AN234=\"\",\"\", INDEX(referentes!$AK$2:$AL$10,MATCH(DATOS_MIP_SS!AN234,referentes!$AL$2:$AL$10,0),1))","v":""},{"$f":"IF(AQ234=\"\",\"\", INDEX(referentes!J:K,MATCH(DATOS_MIP_SS!AQ234,referentes!$K:$K,0),1))","v":""},{"$f":"IF(AR234=\"\",\"\", INDEX(referentes!$M$2:$N$20,MATCH(DATOS_MIP_SS!AR234,referentes!$N$2:$N$20,0),1))","v":""},{"$f":"IF(AY234=\"\",\"\", INDEX('otras referencias'!O:P,MATCH(AY234,'otras referencias'!$O:$O,0),2))","v":""},null,null,null,null,null,{"$f":"IF(X234<>\"\",INDEX(referentes!$AN:$AR,MATCH(DATOS_MIP_SS!X234,referentes!$AO:$AO,0),5),\"\")","v":""}]
[null,null,null,"",{"$f":"IF(J235=\"\",\"\",CONCATENATE(AD235,DIGITADOR!$B$2,DIGITADOR!$M$1,J235))","v":""},{"$f":"IF(J235=\"\",\"\",CONCATENATE(DIGITADOR!$B$2,AD235,DIGITADOR!$M$1,J235,ROW()))","v":""},null,null,null,{"$f":"IF(X235=\"\",\"\", INDEX(referentes!$AN:$AR,MATCH(DATOS_MIP_SS!X235,referentes!$AO:$AO,0),1))","v":""},"",{"$f":"IF(AF235=\"\",\"\", INDEX(referentes!D:E,MATCH(DATOS_MIP_SS!AF235,referentes!$E:$E,0),1))","v":""},{"$f":"IF(AI235=\"\",\"\", INDEX(referentes!A:B,MATCH(DATOS_MIP_SS!AI235,referentes!$B:$B,0),1))","v":""},{"$f":"IF(AJ235=\"\",\"\", INDEX(referentes!G:H,MATCH(DATOS_MIP_SS!AJ235,referentes!$H:$H,0),1))","v":""},{"$f":"IF(AK235=\"\",\"\", INDEX(referentes!$AB$2:$AC$10,MATCH(DATOS_MIP_SS!AK235,referentes!$AC$2:$AC$10,0),1))","v":""},{"$f":"IF(AL235=\"\",\"\", INDEX(referentes!$AH:$AI,MATCH(DATOS_MIP_SS!AL235,referentes!$AI:$AI,0),1))","v":""},{"$f":"IF(AP235=\"\",\"\", INDEX(referentes!$AE$2:$AF$10,MATCH(DATOS_MIP_SS!AP235,referentes!$AF$2:$AF$10,0),1))","v":""},{"$f":"IF(AN235=\"\",\"\", INDEX(referentes!$AK$2:$AL$10,MATCH(DATOS_MIP_SS!AN235,referentes!$AL$2:$AL$10,0),1))","v":""},{"$f":"IF(AQ235=\"\",\"\", INDEX(referentes!J:K,MATCH(DATOS_MIP_SS!AQ235,referentes!$K:$K,0),1))","v":""},{"$f":"IF(AR235=\"\",\"\", INDEX(referentes!$M$2:$N$20,MATCH(DATOS_MIP_SS!AR235,referentes!$N$2:$N$20,0),1))","v":""},{"$f":"IF(AY235=\"\",\"\", INDEX('otras referencias'!O:P,MATCH(AY235,'otras referencias'!$O:$O,0),2))","v":""},null,null,null,null,null,{"$f":"IF(X235<>\"\",INDEX(referentes!$AN:$AR,MATCH(DATOS_MIP_SS!X235,referentes!$AO:$AO,0),5),\"\")","v":""}]
[null,null,null,"",{"$f":"IF(J236=\"\",\"\",CONCATENATE(AD236,DIGITADOR!$B$2,DIGITADOR!$M$1,J236))","v":""},{"$f":"IF(J236=\"\",\"\",CONCATENATE(DIGITADOR!$B$2,AD236,DIGITADOR!$M$1,J236,ROW()))","v":""},null,null,null,{"$f":"IF(X236=\"\",\"\", INDEX(referentes!$AN:$AR,MATCH(DATOS_MIP_SS!X236,referentes!$AO:$AO,0),1))","v":""},"",{"$f":"IF(AF236=\"\",\"\", INDEX(referentes!D:E,MATCH(DATOS_MIP_SS!AF236,referentes!$E:$E,0),1))","v":""},{"$f":"IF(AI236=\"\",\"\", INDEX(referentes!A:B,MATCH(DATOS_MIP_SS!AI236,referentes!$B:$B,0),1))","v":""},{"$f":"IF(AJ236=\"\",\"\", INDEX(referentes!G:H,MATCH(DATOS_MIP_SS!AJ236,referentes!$H:$H,0),1))","v":""},{"$f":"IF(AK236=\"\",\"\", INDEX(referentes!$AB$2:$AC$10,MATCH(DATOS_MIP_SS!AK236,referentes!$AC$2:$AC$10,0),1))","v":""},{"$f":"IF(AL236=\"\",\"\", INDEX(referentes!$AH:$AI,MATCH(DATOS_MIP_SS!AL236,referentes!$AI:$AI,0),1))","v":""},{"$f":"IF(AP236=\"\",\"\", INDEX(referentes!$AE$2:$AF$10,MATCH(DATOS_MIP_SS!AP236,referentes!$AF$2:$AF$10,0),1))","v":""},{"$f":"IF(AN236=\"\",\"\", INDEX(referentes!$AK$2:$AL$10,MATCH(DATOS_MIP_SS!AN236,referentes!$AL$2:$AL$10,0),1))","v":""},{"$f":"IF(AQ236=\"\",\"\", INDEX(referentes!J:K,MATCH(DATOS_MIP_SS!AQ236,referentes!$K:$K,0),1))","v":""},{"$f":"IF(AR236=\"\",\"\", INDEX(referentes!$M$2:$N$20,MATCH(DATOS_MIP_SS!AR236,referentes!$N$2:$N$20,0),1))","v":""},{"$f":"IF(AY236=\"\",\"\", INDEX('otras referencias'!O:P,MATCH(AY236,'otras referencias'!$O:$O,0),2))","v":""},null,null,null,null,null,{"$f":"IF(X236<>\"\",INDEX(referentes!$AN:$AR,MATCH(DATOS_MIP_SS!X236,referentes!$AO:$AO,0),5),\"\")","v":""}]
[null,null,null,"",{"$f":"IF(J237=\"\",\"\",CONCATENATE(AD237,DIGITADOR!$B$2,DIGITADOR!$M$1,J237))","v":""},{"$f":"IF(J237=\"\",\"\",CONCATENATE(DIGITADOR!$B$2,AD237,DIGITADOR!$M$1,J237,ROW()))","v":""},null,null,null,{"$f":"IF(X237=\"\",\"\", INDEX(referentes!$AN:$AR,MATCH(DATOS_MIP_SS!X237,referentes!$AO:$AO,0),1))","v":""},"",{"$f":"IF(AF237=\"\",\"\", INDEX(referentes!D:E,MATCH(DATOS_MIP_SS!AF237,referentes!$E:$E,0),1))","v":""},{"$f":"IF(AI237=\"\",\"\", INDEX(referentes!A:B,MATCH(DATOS_MIP_SS!AI237,referentes!$B:$B,0),1))","v":""},{"$f":"IF(AJ237=\"\",\"\", INDEX(referentes!G:H,MATCH(DATOS_MIP_SS!AJ237,referentes!$H:$H,0),1))","v":""},{"$f":"IF(AK237=\"\",\"\", INDEX(referentes!$AB$2:$AC$10,MATCH(DATOS_MIP_SS!AK237,referentes!$AC$2:$AC$10,0),1))","v":""},{"$f":"IF(AL237=\"\",\"\", INDEX(referentes!$AH:$AI,MATCH(DATOS_MIP_SS!AL237,referentes!$AI:$AI,0),1))","v":""},{"$f":"IF(AP237=\"\",\"\", INDEX(referentes!$AE$2:$AF$10,MATCH(DATOS_MIP_SS!AP237,referentes!$AF$2:$AF$10,0),1))","v":""},{"$f":"IF(AN237=\"\",\"\", INDEX(referentes!$AK$2:$AL$10,MATCH(DATOS_MIP_SS!AN237,referentes!$AL$2:$AL$10,0),1))","v":""},{"$f":"IF(AQ237=\"\",\"\", INDEX(referentes!J:K,MATCH(DATOS_MIP_SS!AQ237,referentes!$K:$K,0),1))","v":""},{"$f":"IF(AR237=\"\",\"\", INDEX(referentes!$M$2:$N$20,MATCH(DATOS_MIP_SS!AR237,referentes!$N$2:$N$20,0),1))","v":""},{"$f":"IF(AY237=\"\",\"\", INDEX('otras referencias'!O:P,MATCH(AY237,'otras referencias'!$O:$O,0),2))","v":""},null,null,null,null,null,{"$f":"IF(X237<>\"\",INDEX(referentes!$AN:$AR,MATCH(DATOS_MIP_SS!X237,referentes!$AO:$AO,0),5),\"\")","v":""}]
[null,null,null,"",{"$f":"IF(J238=\"\",\"\",CONCATENATE(AD238,DIGITADOR!$B$2,DIGITADOR!$M$1,J238))","v":""},{"$f":"IF(J238=\"\",\"\",CONCATENATE(DIGITADOR!$B$2,AD238,DIGITADOR!$M$1,J238,ROW()))","v":""},null,null,null,{"$f":"IF(X238=\"\",\"\", INDEX(referentes!$AN:$AR,MATCH(DATOS_MIP_SS!X238,referentes!$AO:$AO,0),1))","v":""},"",{"$f":"IF(AF238=\"\",\"\", INDEX(referentes!D:E,MATCH(DATOS_MIP_SS!AF238,referentes!$E:$E,0),1))","v":""},{"$f":"IF(AI238=\"\",\"\", INDEX(referentes!A:B,MATCH(DATOS_MIP_SS!AI238,referentes!$B:$B,0),1))","v":""},{"$f":"IF(AJ238=\"\",\"\", INDEX(referentes!G:H,MATCH(DATOS_MIP_SS!AJ238,referentes!$H:$H,0),1))","v":""},{"$f":"IF(AK238=\"\",\"\", INDEX(referentes!$AB$2:$AC$10,MATCH(DATOS_MIP_SS!AK238,referentes!$AC$2:$AC$10,0),1))","v":""},{"$f":"IF(AL238=\"\",\"\", INDEX(referentes!$AH:$AI,MATCH(DATOS_MIP_SS!AL238,referentes!$AI:$AI,0),1))","v":""},{"$f":"IF(AP238=\"\",\"\", INDEX(referentes!$AE$2:$AF$10,MATCH(DATOS_MIP_SS!AP238,referentes!$AF$2:$AF$10,0),1))","v":""},{"$f":"IF(AN238=\"\",\"\", INDEX(referentes!$AK$2:$AL$10,MATCH(DATOS_MIP_SS!AN238,referentes!$AL$2:$AL$10,0),1))","v":""},{"$f":"IF(AQ238=\"\",\"\", INDEX(referentes!J:K,MATCH(DATOS_MIP_SS!AQ238,referentes!$K:$K,0),1))","v":""},{"$f":"IF(AR238=\"\",\"\", INDEX(referentes!$M$2:$N$20,MATCH(DATOS_MIP_SS!AR238,referentes!$N$2:$N$20,0),1))","v":""},{"$f":"IF(AY238=\"\",\"\", INDEX('otras referencias'!O:P,MATCH(AY238,'otras referencias'!$O:$O,0),2))","v":""},null,null,null,null,null,{"$f":"IF(X238<>\"\",INDEX(referentes!$AN:$AR,MATCH(DATOS_MIP_SS!X238,referentes!$AO:$AO,0),5),\"\")","v":""}]
[null,null,null,"",{"$f":"IF(J239=\"\",\"\",CONCATENATE(AD239,DIGITADOR!$B$2,DIGITADOR!$M$1,J239))","v":""},{"$f":"IF(J239=\"\",\"\",CONCATENATE(DIGITADOR!$B$2,AD239,DIGITADOR!$M$1,J239,ROW()))","v":""},null,null,null,{"$f":"IF(X239=\"\",\"\", INDEX(referentes!$AN:$AR,MATCH(DATOS_MIP_SS!X239,referentes!$AO:$AO,0),1))","v":""},"",{"$f":"IF(AF239=\"\",\"\", INDEX(referentes!D:E,MATCH(DATOS_MIP_SS!AF239,referentes!$E:$E,0),1))","v":""},{"$f":"IF(AI239=\"\",\"\", INDEX(referentes!A:B,MATCH(DATOS_MIP_SS!AI239,referentes!$B:$B,0),1))","v":""},{"$f":"IF(AJ239=\"\",\"\", INDEX(referentes!G:H,MATCH(DATOS_MIP_SS!AJ239,referentes!$H:$H,0),1))","v":""},{"$f":"IF(AK239=\"\",\"\", INDEX(referentes!$AB$2:$AC$10,MATCH(DATOS_MIP_SS!AK239,referentes!$AC$2:$AC$10,0),1))","v":""},{"$f":"IF(AL239=\"\",\"\", INDEX(referentes!$AH:$AI,MATCH(DATOS_MIP_SS!AL239,referentes!$AI:$AI,0),1))","v":""},{"$f":"IF(AP239=\"\",\"\", INDEX(referentes!$AE$2:$AF$10,MATCH(DATOS_MIP_SS!AP239,referentes!$AF$2:$AF$10,0),1))","v":""},{"$f":"IF(AN239=\"\",\"\", INDEX(referentes!$AK$2:$AL$10,MATCH(DATOS_MIP_SS!AN239,referentes!$AL$2:$AL$10,0),1))","v":""},{"$f":"IF(AQ239=\"\",\"\", INDEX(referentes!J:K,MATCH(DATOS_MIP_SS!AQ239,referentes!$K:$K,0),1))","v":""},{"$f":"IF(AR239=\"\",\"\", INDEX(referentes!$M$2:$N$20,MATCH(DATOS_MIP_SS!AR239,referentes!$N$2:$N$20,0),1))","v":""},{"$f":"IF(AY239=\"\",\"\", INDEX('otras referencias'!O:P,MATCH(AY239,'otras referencias'!$O:$O,0),2))","v":""},null,null,null,null,null,{"$f":"IF(X239<>\"\",INDEX(referentes!$AN:$AR,MATCH(DATOS_MIP_SS!X239,referentes!$AO:$AO,0),5),\"\")","v":""}]
[null,null,null,"",{"$f":"IF(J240=\"\",\"\",CONCATENATE(AD240,DIGITADOR!$B$2,DIGITADOR!$M$1,J240))","v":""},{"$f":"IF(J240=\"\",\"\",CONCATENATE(DIGITADOR!$B$2,AD240,DIGITADOR!$M$1,J240,ROW()))","v":""},null,null,null,{"$f":"IF(X240=\"\",\"\", INDEX(referentes!$AN:$AR,MATCH(DATOS_MIP_SS!X240,referentes!$AO:$AO,0),1))","v":""},"",{"$f":"IF(AF240=\"\",\"\", INDEX(referentes!D:E,MATCH(DATOS_MIP_SS!AF240,referentes!$E:$E,0),1))","v":""},{"$f":"IF(AI240=\"\",\"\", INDEX(referentes!A:B,MATCH(DATOS_MIP_SS!AI240,referentes!$B:$B,0),1))","v":""},{"$f":"IF(AJ240=\"\",\"\", INDEX(referentes!G:H,MATCH(DATOS_MIP_SS!AJ240,referentes!$H:$H,0),1))","v":""},{"$f":"IF(AK240=\"\",\"\", INDEX(referentes!$AB$2:$AC$10,MATCH(DATOS_MIP_SS!AK240,referentes!$AC$2:$AC$10,0),1))","v":""},{"$f":"IF(AL240=\"\",\"\", INDEX(referentes!$AH:$AI,MATCH(DATOS_MIP_SS!AL240,referentes!$AI:$AI,0),1))","v":""},{"$f":"IF(AP240=\"\",\"\", INDEX(referentes!$AE$2:$AF$10,MATCH(DATOS_MIP_SS!AP240,referentes!$AF$2:$AF$10,0),1))","v":""},{"$f":"IF(AN240=\"\",\"\", INDEX(referentes!$AK$2:$AL$10,MATCH(DATOS_MIP_SS!AN240,referentes!$AL$2:$AL$10,0),1))","v":""},{"$f":"IF(AQ240=\"\",\"\", INDEX(referentes!J:K,MATCH(DATOS_MIP_SS!AQ240,referentes!$K:$K,0),1))","v":""},{"$f":"IF(AR240=\"\",\"\", INDEX(referentes!$M$2:$N$20,MATCH(DATOS_MIP_SS!AR240,referentes!$N$2:$N$20,0),1))","v":""},{"$f":"IF(AY240=\"\",\"\", INDEX('otras referencias'!O:P,MATCH(AY240,'otras referencias'!$O:$O,0),2))","v":""},null,null,null,null,null,{"$f":"IF(X240<>\"\",INDEX(referentes!$AN:$AR,MATCH(DATOS_MIP_SS!X240,referentes!$AO:$AO,0),5),\"\")","v":""}]
[null,null,null,"",{"$f":"IF(J241=\"\",\"\",CONCATENATE(AD241,DIGITADOR!$B$2,DIGITADOR!$M$1,J241))","v":""},{"$f":"IF(J241=\"\",\"\",CONCATENATE(DIGITADOR!$B$2,AD241,DIGITADOR!$M$1,J241,ROW()))","v":""},null,null,null,{"$f":"IF(X241=\"\",\"\", INDEX(referentes!$AN:$AR,MATCH(DATOS_MIP_SS!X241,referentes!$AO:$AO,0),1))","v":""},"",{"$f":"IF(AF241=\"\",\"\", INDEX(referentes!D:E,MATCH(DATOS_MIP_SS!AF241,referentes!$E:$E,0),1))","v":""},{"$f":"IF(AI241=\"\",\"\", INDEX(referentes!A:B,MATCH(DATOS_MIP_SS!AI241,referentes!$B:$B,0),1))","v":""},{"$f":"IF(AJ241=\"\",\"\", INDEX(referentes!G:H,MATCH(DATOS_MIP_SS!AJ241,referentes!$H:$H,0),1))","v":""},{"$f":"IF(AK241=\"\",\"\", INDEX(referentes!$AB$2:$AC$10,MATCH(DATOS_MIP_SS!AK241,referentes!$AC$2:$AC$10,0),1))","v":""},{"$f":"IF(AL241=\"\",\"\", INDEX(referentes!$AH:$AI,MATCH(DATOS_MIP_SS!AL241,referentes!$AI:$AI,0),1))","v":""},{"$f":"IF(AP241=\"\",\"\", INDEX(referentes!$AE$2:$AF$10,MATCH(DATOS_MIP_SS!AP241,referentes!$AF$2:$AF$10,0),1))","v":""},{"$f":"IF(AN241=\"\",\"\", INDEX(referentes!$AK$2:$AL$10,MATCH(DATOS_MIP_SS!AN241,referentes!$AL$2:$AL$10,0),1))","v":""},{"$f":"IF(AQ241=\"\",\"\", INDEX(referentes!J:K,MATCH(DATOS_MIP_SS!AQ241,referentes!$K:$K,0),1))","v":""},{"$f":"IF(AR241=\"\",\"\", INDEX(referentes!$M$2:$N$20,MATCH(DATOS_MIP_SS!AR241,referentes!$N$2:$N$20,0),1))","v":""},{"$f":"IF(AY241=\"\",\"\", INDEX('otras referencias'!O:P,MATCH(AY241,'otras referencias'!$O:$O,0),2))","v":""},null,null,null,null,null,{"$f":"IF(X241<>\"\",INDEX(referentes!$AN:$AR,MATCH(DATOS_MIP_SS!X241,referentes!$AO:$AO,0),5),\"\")","v":""}]
[null,null,null,"",{"$f":"IF(J242=\"\",\"\",CONCATENATE(AD242,DIGITADOR!$B$2,DIGITADOR!$M$1,J242))","v":""},{"$f":"IF(J242=\"\",\"\",CONCATENATE(DIGITADOR!$B$2,AD242,DIGITADOR!$M$1,J242,ROW()))","v":""},null,null,null,{"$f":"IF(X242=\"\",\"\", INDEX(referentes!$AN:$AR,MATCH(DATOS_MIP_SS!X242,referentes!$AO:$AO,0),1))","v":""},"",{"$f":"IF(AF242=\"\",\"\", INDEX(referentes!D:E,MATCH(DATOS_MIP_SS!AF242,referentes!$E:$E,0),1))","v":""},{"$f":"IF(AI242=\"\",\"\", INDEX(referentes!A:B,MATCH(DATOS_MIP_SS!AI242,referentes!$B:$B,0),1))","v":""},{"$f":"IF(AJ242=\"\",\"\", INDEX(referentes!G:H,MATCH(DATOS_MIP_SS!AJ242,referentes!$H:$H,0),1))","v":""},{"$f":"IF(AK242=\"\",\"\", INDEX(referentes!$AB$2:$AC$10,MATCH(DATOS_MIP_SS!AK242,referentes!$AC$2:$AC$10,0),1))","v":""},{"$f":"IF(AL242=\"\",\"\", INDEX(referentes!$AH:$AI,MATCH(DATOS_MIP_SS!AL242,referentes!$AI:$AI,0),1))","v":""},{"$f":"IF(AP242=\"\",\"\", INDEX(referentes!$AE$2:$AF$10,MATCH(DATOS_MIP_SS!AP242,referentes!$AF$2:$AF$10,0),1))","v":""},{"$f":"IF(AN242=\"\",\"\", INDEX(referentes!$AK$2:$AL$10,MATCH(DATOS_MIP_SS!AN242,referentes!$AL$2:$AL$10,0),1))","v":""},{"$f":"IF(AQ242=\"\",\"\", INDEX(referentes!J:K,MATCH(DATOS_MIP_SS!AQ242,referentes!$K:$K,0),1))","v":""},{"$f":"IF(AR242=\"\",\"\", INDEX(referentes!$M$2:$N$20,MATCH(DATOS_MIP_SS!AR242,referentes!$N$2:$N$20,0),1))","v":""},{"$f":"IF(AY242=\"\",\"\", INDEX('otras referencias'!O:P,MATCH(AY242,'otras referencias'!$O:$O,0),2))","v":""},null,null,null,null,null,{"$f":"IF(X242<>\"\",INDEX(referentes!$AN:$AR,MATCH(DATOS_MIP_SS!X242,referentes!$AO:$AO,0),5),\"\")","v":""}]
[null,null,null,"",{"$f":"IF(J243=\"\",\"\",CONCATENATE(AD243,DIGITADOR!$B$2,DIGITADOR!$M$1,J243))","v":""},{"$f":"IF(J243=\"\",\"\",CONCATENATE(DIGITADOR!$B$2,AD243,DIGITADOR!$M$1,J243,ROW()))","v":""},null,null,null,{"$f":"IF(X243=\"\",\"\", INDEX(referentes!$AN:$AR,MATCH(DATOS_MIP_SS!X243,referentes!$AO:$AO,0),1))","v":""},"",{"$f":"IF(AF243=\"\",\"\", INDEX(referentes!D:E,MATCH(DATOS_MIP_SS!AF243,referentes!$E:$E,0),1))","v":""},{"$f":"IF(AI243=\"\",\"\", INDEX(referentes!A:B,MATCH(DATOS_MIP_SS!AI243,referentes!$B:$B,0),1))","v":""},{"$f":"IF(AJ243=\"\",\"\", INDEX(referentes!G:H,MATCH(DATOS_MIP_SS!AJ243,referentes!$H:$H,0),1))","v":""},{"$f":"IF(AK243=\"\",\"\", INDEX(referentes!$AB$2:$AC$10,MATCH(DATOS_MIP_SS!AK243,referentes!$AC$2:$AC$10,0),1))","v":""},{"$f":"IF(AL243=\"\",\"\", INDEX(referentes!$AH:$AI,MATCH(DATOS_MIP_SS!AL243,referentes!$AI:$AI,0),1))","v":""},{"$f":"IF(AP243=\"\",\"\", INDEX(referentes!$AE$2:$AF$10,MATCH(DATOS_MIP_SS!AP243,referentes!$AF$2:$AF$10,0),1))","v":""},{"$f":"IF(AN243=\"\",\"\", INDEX(referentes!$AK$2:$AL$10,MATCH(DATOS_MIP_SS!AN243,referentes!$AL$2:$AL$10,0),1))","v":""},{"$f":"IF(AQ243=\"\",\"\", INDEX(referentes!J:K,MATCH(DATOS_MIP_SS!AQ243,referentes!$K:$K,0),1))","v":""},{"$f":"IF(AR243=\"\",\"\", INDEX(referentes!$M$2:$N$20,MATCH(DATOS_MIP_SS!AR243,referentes!$N$2:$N$20,0),1))","v":""},{"$f":"IF(AY243=\"\",\"\", INDEX('otras referencias'!O:P,MATCH(AY243,'otras referencias'!$O:$O,0),2))","v":""},null,null,null,null,null,{"$f":"IF(X243<>\"\",INDEX(referentes!$AN:$AR,MATCH(DATOS_MIP_SS!X243,referentes!$AO:$AO,0),5),\"\")","v":""}]
[null,null,null,"",{"$f":"IF(J244=\"\",\"\",CONCATENATE(AD244,DIGITADOR!$B$2,DIGITADOR!$M$1,J244))","v":""},{"$f":"IF(J244=\"\",\"\",CONCATENATE(DIGITADOR!$B$2,AD244,DIGITADOR!$M$1,J244,ROW()))","v":""},null,null,null,{"$f":"IF(X244=\"\",\"\", INDEX(referentes!$AN:$AR,MATCH(DATOS_MIP_SS!X244,referentes!$AO:$AO,0),1))","v":""},"",{"$f":"IF(AF244=\"\",\"\", INDEX(referentes!D:E,MATCH(DATOS_MIP_SS!AF244,referentes!$E:$E,0),1))","v":""},{"$f":"IF(AI244=\"\",\"\", INDEX(referentes!A:B,MATCH(DATOS_MIP_SS!AI244,referentes!$B:$B,0),1))","v":""},{"$f":"IF(AJ244=\"\",\"\", INDEX(referentes!G:H,MATCH(DATOS_MIP_SS!AJ244,referentes!$H:$H,0),1))","v":""},{"$f":"IF(AK244=\"\",\"\", INDEX(referentes!$AB$2:$AC$10,MATCH(DATOS_MIP_SS!AK244,referentes!$AC$2:$AC$10,0),1))","v":""},{"$f":"IF(AL244=\"\",\"\", INDEX(referentes!$AH:$AI,MATCH(DATOS_MIP_SS!AL244,referentes!$AI:$AI,0),1))","v":""},{"$f":"IF(AP244=\"\",\"\", INDEX(referentes!$AE$2:$AF$10,MATCH(DATOS_MIP_SS!AP244,referentes!$AF$2:$AF$10,0),1))","v":""},{"$f":"IF(AN244=\"\",\"\", INDEX(referentes!$AK$2:$AL$10,MATCH(DATOS_MIP_SS!AN244,referentes!$AL$2:$AL$10,0),1))","v":""},{"$f":"IF(AQ244=\"\",\"\", INDEX(referentes!J:K,MATCH(DATOS_MIP_SS!AQ244,referentes!$K:$K,0),1))","v":""},{"$f":"IF(AR244=\"\",\"\", INDEX(referentes!$M$2:$N$20,MATCH(DATOS_MIP_SS!AR244,referentes!$N$2:$N$20,0),1))","v":""},{"$f":"IF(AY244=\"\",\"\", INDEX('otras referencias'!O:P,MATCH(AY244,'otras referencias'!$O:$O,0),2))","v":""},null,null,null,null,null,{"$f":"IF(X244<>\"\",INDEX(referentes!$AN:$AR,MATCH(DATOS_MIP_SS!X244,referentes!$AO:$AO,0),5),\"\")","v":""}]
[null,null,null,"",{"$f":"IF(J245=\"\",\"\",CONCATENATE(AD245,DIGITADOR!$B$2,DIGITADOR!$M$1,J245))","v":""},{"$f":"IF(J245=\"\",\"\",CONCATENATE(DIGITADOR!$B$2,AD245,DIGITADOR!$M$1,J245,ROW()))","v":""},null,null,null,{"$f":"IF(X245=\"\",\"\", INDEX(referentes!$AN:$AR,MATCH(DATOS_MIP_SS!X245,referentes!$AO:$AO,0),1))","v":""},"",{"$f":"IF(AF245=\"\",\"\", INDEX(referentes!D:E,MATCH(DATOS_MIP_SS!AF245,referentes!$E:$E,0),1))","v":""},{"$f":"IF(AI245=\"\",\"\", INDEX(referentes!A:B,MATCH(DATOS_MIP_SS!AI245,referentes!$B:$B,0),1))","v":""},{"$f":"IF(AJ245=\"\",\"\", INDEX(referentes!G:H,MATCH(DATOS_MIP_SS!AJ245,referentes!$H:$H,0),1))","v":""},{"$f":"IF(AK245=\"\",\"\", INDEX(referentes!$AB$2:$AC$10,MATCH(DATOS_MIP_SS!AK245,referentes!$AC$2:$AC$10,0),1))","v":""},{"$f":"IF(AL245=\"\",\"\", INDEX(referentes!$AH:$AI,MATCH(DATOS_MIP_SS!AL245,referentes!$AI:$AI,0),1))","v":""},{"$f":"IF(AP245=\"\",\"\", INDEX(referentes!$AE$2:$AF$10,MATCH(DATOS_MIP_SS!AP245,referentes!$AF$2:$AF$10,0),1))","v":""},{"$f":"IF(AN245=\"\",\"\", INDEX(referentes!$AK$2:$AL$10,MATCH(DATOS_MIP_SS!AN245,referentes!$AL$2:$AL$10,0),1))","v":""},{"$f":"IF(AQ245=\"\",\"\", INDEX(referentes!J:K,MATCH(DATOS_MIP_SS!AQ245,referentes!$K:$K,0),1))","v":""},{"$f":"IF(AR245=\"\",\"\", INDEX(referentes!$M$2:$N$20,MATCH(DATOS_MIP_SS!AR245,referentes!$N$2:$N$20,0),1))","v":""},{"$f":"IF(AY245=\"\",\"\", INDEX('otras referencias'!O:P,MATCH(AY245,'otras referencias'!$O:$O,0),2))","v":""},null,null,null,null,null,{"$f":"IF(X245<>\"\",INDEX(referentes!$AN:$AR,MATCH(DATOS_MIP_SS!X245,referentes!$AO:$AO,0),5),\"\")","v":""}]
[null,null,null,"",{"$f":"IF(J246=\"\",\"\",CONCATENATE(AD246,DIGITADOR!$B$2,DIGITADOR!$M$1,J246))","v":""},{"$f":"IF(J246=\"\",\"\",CONCATENATE(DIGITADOR!$B$2,AD246,DIGITADOR!$M$1,J246,ROW()))","v":""},null,null,null,{"$f":"IF(X246=\"\",\"\", INDEX(referentes!$AN:$AR,MATCH(DATOS_MIP_SS!X246,referentes!$AO:$AO,0),1))","v":""},"",{"$f":"IF(AF246=\"\",\"\", INDEX(referentes!D:E,MATCH(DATOS_MIP_SS!AF246,referentes!$E:$E,0),1))","v":""},{"$f":"IF(AI246=\"\",\"\", INDEX(referentes!A:B,MATCH(DATOS_MIP_SS!AI246,referentes!$B:$B,0),1))","v":""},{"$f":"IF(AJ246=\"\",\"\", INDEX(referentes!G:H,MATCH(DATOS_MIP_SS!AJ246,referentes!$H:$H,0),1))","v":""},{"$f":"IF(AK246=\"\",\"\", INDEX(referentes!$AB$2:$AC$10,MATCH(DATOS_MIP_SS!AK246,referentes!$AC$2:$AC$10,0),1))","v":""},{"$f":"IF(AL246=\"\",\"\", INDEX(referentes!$AH:$AI,MATCH(DATOS_MIP_SS!AL246,referentes!$AI:$AI,0),1))","v":""},{"$f":"IF(AP246=\"\",\"\", INDEX(referentes!$AE$2:$AF$10,MATCH(DATOS_MIP_SS!AP246,referentes!$AF$2:$AF$10,0),1))","v":""},{"$f":"IF(AN246=\"\",\"\", INDEX(referentes!$AK$2:$AL$10,MATCH(DATOS_MIP_SS!AN246,referentes!$AL$2:$AL$10,0),1))","v":""},{"$f":"IF(AQ246=\"\",\"\", INDEX(referentes!J:K,MATCH(DATOS_MIP_SS!AQ246,referentes!$K:$K,0),1))","v":""},{"$f":"IF(AR246=\"\",\"\", INDEX(referentes!$M$2:$N$20,MATCH(DATOS_MIP_SS!AR246,referentes!$N$2:$N$20,0),1))","v":""},{"$f":"IF(AY246=\"\",\"\", INDEX('otras referencias'!O:P,MATCH(AY246,'otras referencias'!$O:$O,0),2))","v":""},null,null,null,null,null,{"$f":"IF(X246<>\"\",INDEX(referentes!$AN:$AR,MATCH(DATOS_MIP_SS!X246,referentes!$AO:$AO,0),5),\"\")","v":""}]
[null,null,null,"",{"$f":"IF(J247=\"\",\"\",CONCATENATE(AD247,DIGITADOR!$B$2,DIGITADOR!$M$1,J247))","v":""},{"$f":"IF(J247=\"\",\"\",CONCATENATE(DIGITADOR!$B$2,AD247,DIGITADOR!$M$1,J247,ROW()))","v":""},null,null,null,{"$f":"IF(X247=\"\",\"\", INDEX(referentes!$AN:$AR,MATCH(DATOS_MIP_SS!X247,referentes!$AO:$AO,0),1))","v":""},"",{"$f":"IF(AF247=\"\",\"\", INDEX(referentes!D:E,MATCH(DATOS_MIP_SS!AF247,referentes!$E:$E,0),1))","v":""},{"$f":"IF(AI247=\"\",\"\", INDEX(referentes!A:B,MATCH(DATOS_MIP_SS!AI247,referentes!$B:$B,0),1))","v":""},{"$f":"IF(AJ247=\"\",\"\", INDEX(referentes!G:H,MATCH(DATOS_MIP_SS!AJ247,referentes!$H:$H,0),1))","v":""},{"$f":"IF(AK247=\"\",\"\", INDEX(referentes!$AB$2:$AC$10,MATCH(DATOS_MIP_SS!AK247,referentes!$AC$2:$AC$10,0),1))","v":""},{"$f":"IF(AL247=\"\",\"\", INDEX(referentes!$AH:$AI,MATCH(DATOS_MIP_SS!AL247,referentes!$AI:$AI,0),1))","v":""},{"$f":"IF(AP247=\"\",\"\", INDEX(referentes!$AE$2:$AF$10,MATCH(DATOS_MIP_SS!AP247,referentes!$AF$2:$AF$10,0),1))","v":""},{"$f":"IF(AN247=\"\",\"\", INDEX(referentes!$AK$2:$AL$10,MATCH(DATOS_MIP_SS!AN247,referentes!$AL$2:$AL$10,0),1))","v":""},{"$f":"IF(AQ247=\"\",\"\", INDEX(referentes!J:K,MATCH(DATOS_MIP_SS!AQ247,referentes!$K:$K,0),1))","v":""},{"$f":"IF(AR247=\"\",\"\", INDEX(referentes!$M$2:$N$20,MATCH(DATOS_MIP_SS!AR247,referentes!$N$2:$N$20,0),1))","v":""},{"$f":"IF(AY247=\"\",\"\", INDEX('otras referencias'!O:P,MATCH(AY247,'otras referencias'!$O:$O,0),2))","v":""},null,null,null,null,null,{"$f":"IF(X247<>\"\",INDEX(referentes!$AN:$AR,MATCH(DATOS_MIP_SS!X247,referentes!$AO:$AO,0),5),\"\")","v":""}]
[null,null,null,"",{"$f":"IF(J248=\"\",\"\",CONCATENATE(AD248,DIGITADOR!$B$2,DIGITADOR!$M$1,J248))","v":""},{"$f":"IF(J248=\"\",\"\",CONCATENATE(DIGITADOR!$B$2,AD248,DIGITADOR!$M$1,J248,ROW()))","v":""},null,null,null,{"$f":"IF(X248=\"\",\"\", INDEX(referentes!$AN:$AR,MATCH(DATOS_MIP_SS!X248,referentes!$AO:$AO,0),1))","v":""},"",{"$f":"IF(AF248=\"\",\"\", INDEX(referentes!D:E,MATCH(DATOS_MIP_SS!AF248,referentes!$E:$E,0),1))","v":""},{"$f":"IF(AI248=\"\",\"\", INDEX(referentes!A:B,MATCH(DATOS_MIP_SS!AI248,referentes!$B:$B,0),1))","v":""},{"$f":"IF(AJ248=\"\",\"\", INDEX(referentes!G:H,MATCH(DATOS_MIP_SS!AJ248,referentes!$H:$H,0),1))","v":""},{"$f":"IF(AK248=\"\",\"\", INDEX(referentes!$AB$2:$AC$10,MATCH(DATOS_MIP_SS!AK248,referentes!$AC$2:$AC$10,0),1))","v":""},{"$f":"IF(AL248=\"\",\"\", INDEX(referentes!$AH:$AI,MATCH(DATOS_MIP_SS!AL248,referentes!$AI:$AI,0),1))","v":""},{"$f":"IF(AP248=\"\",\"\", INDEX(referentes!$AE$2:$AF$10,MATCH(DATOS_MIP_SS!AP248,referentes!$AF$2:$AF$10,0),1))","v":""},{"$f":"IF(AN248=\"\",\"\", INDEX(referentes!$AK$2:$AL$10,MATCH(DATOS_MIP_SS!AN248,referentes!$AL$2:$AL$10,0),1))","v":""},{"$f":"IF(AQ248=\"\",\"\", INDEX(referentes!J:K,MATCH(DATOS_MIP_SS!AQ248,referentes!$K:$K,0),1))","v":""},{"$f":"IF(AR248=\"\",\"\", INDEX(referentes!$M$2:$N$20,MATCH(DATOS_MIP_SS!AR248,referentes!$N$2:$N$20,0),1))","v":""},{"$f":"IF(AY248=\"\",\"\", INDEX('otras referencias'!O:P,MATCH(AY248,'otras referencias'!$O:$O,0),2))","v":""},null,null,null,null,null,{"$f":"IF(X248<>\"\",INDEX(referentes!$AN:$AR,MATCH(DATOS_MIP_SS!X248,referentes!$AO:$AO,0),5),\"\")","v":""}]
[null,null,null,"",{"$f":"IF(J249=\"\",\"\",CONCATENATE(AD249,DIGITADOR!$B$2,DIGITADOR!$M$1,J249))","v":""},{"$f":"IF(J249=\"\",\"\",CONCATENATE(DIGITADOR!$B$2,AD249,DIGITADOR!$M$1,J249,ROW()))","v":""},null,null,null,{"$f":"IF(X249=\"\",\"\", INDEX(referentes!$AN:$AR,MATCH(DATOS_MIP_SS!X249,referentes!$AO:$AO,0),1))","v":""},"",{"$f":"IF(AF249=\"\",\"\", INDEX(referentes!D:E,MATCH(DATOS_MIP_SS!AF249,referentes!$E:$E,0),1))","v":""},{"$f":"IF(AI249=\"\",\"\", INDEX(referentes!A:B,MATCH(DATOS_MIP_SS!AI249,referentes!$B:$B,0),1))","v":""},{"$f":"IF(AJ249=\"\",\"\", INDEX(referentes!G:H,MATCH(DATOS_MIP_SS!AJ249,referentes!$H:$H,0),1))","v":""},{"$f":"IF(AK249=\"\",\"\", INDEX(referentes!$AB$2:$AC$10,MATCH(DATOS_MIP_SS!AK249,referentes!$AC$2:$AC$10,0),1))","v":""},{"$f":"IF(AL249=\"\",\"\", INDEX(referentes!$AH:$AI,MATCH(DATOS_MIP_SS!AL249,referentes!$AI:$AI,0),1))","v":""},{"$f":"IF(AP249=\"\",\"\", INDEX(referentes!$AE$2:$AF$10,MATCH(DATOS_MIP_SS!AP249,referentes!$AF$2:$AF$10,0),1))","v":""},{"$f":"IF(AN249=\"\",\"\", INDEX(referentes!$AK$2:$AL$10,MATCH(DATOS_MIP_SS!AN249,referentes!$AL$2:$AL$10,0),1))","v":""},{"$f":"IF(AQ249=\"\",\"\", INDEX(referentes!J:K,MATCH(DATOS_MIP_SS!AQ249,referentes!$K:$K,0),1))","v":""},{"$f":"IF(AR249=\"\",\"\", INDEX(referentes!$M$2:$N$20,MATCH(DATOS_MIP_SS!AR249,referentes!$N$2:$N$20,0),1))","v":""},{"$f":"IF(AY249=\"\",\"\", INDEX('otras referencias'!O:P,MATCH(AY249,'otras referencias'!$O:$O,0),2))","v":""},null,null,null,null,null,{"$f":"IF(X249<>\"\",INDEX(referentes!$AN:$AR,MATCH(DATOS_MIP_SS!X249,referentes!$AO:$AO,0),5),\"\")","v":""}]
[null,null,null,"",{"$f":"IF(J250=\"\",\"\",CONCATENATE(AD250,DIGITADOR!$B$2,DIGITADOR!$M$1,J250))","v":""},{"$f":"IF(J250=\"\",\"\",CONCATENATE(DIGITADOR!$B$2,AD250,DIGITADOR!$M$1,J250,ROW()))","v":""},null,null,null,{"$f":"IF(X250=\"\",\"\", INDEX(referentes!$AN:$AR,MATCH(DATOS_MIP_SS!X250,referentes!$AO:$AO,0),1))","v":""},"",{"$f":"IF(AF250=\"\",\"\", INDEX(referentes!D:E,MATCH(DATOS_MIP_SS!AF250,referentes!$E:$E,0),1))","v":""},{"$f":"IF(AI250=\"\",\"\", INDEX(referentes!A:B,MATCH(DATOS_MIP_SS!AI250,referentes!$B:$B,0),1))","v":""},{"$f":"IF(AJ250=\"\",\"\", INDEX(referentes!G:H,MATCH(DATOS_MIP_SS!AJ250,referentes!$H:$H,0),1))","v":""},{"$f":"IF(AK250=\"\",\"\", INDEX(referentes!$AB$2:$AC$10,MATCH(DATOS_MIP_SS!AK250,referentes!$AC$2:$AC$10,0),1))","v":""},{"$f":"IF(AL250=\"\",\"\", INDEX(referentes!$AH:$AI,MATCH(DATOS_MIP_SS!AL250,referentes!$AI:$AI,0),1))","v":""},{"$f":"IF(AP250=\"\",\"\", INDEX(referentes!$AE$2:$AF$10,MATCH(DATOS_MIP_SS!AP250,referentes!$AF$2:$AF$10,0),1))","v":""},{"$f":"IF(AN250=\"\",\"\", INDEX(referentes!$AK$2:$AL$10,MATCH(DATOS_MIP_SS!AN250,referentes!$AL$2:$AL$10,0),1))","v":""},{"$f":"IF(AQ250=\"\",\"\", INDEX(referentes!J:K,MATCH(DATOS_MIP_SS!AQ250,referentes!$K:$K,0),1))","v":""},{"$f":"IF(AR250=\"\",\"\", INDEX(referentes!$M$2:$N$20,MATCH(DATOS_MIP_SS!AR250,referentes!$N$2:$N$20,0),1))","v":""},{"$f":"IF(AY250=\"\",\"\", INDEX('otras referencias'!O:P,MATCH(AY250,'otras referencias'!$O:$O,0),2))","v":""},null,null,null,null,null,{"$f":"IF(X250<>\"\",INDEX(referentes!$AN:$AR,MATCH(DATOS_MIP_SS!X250,referentes!$AO:$AO,0),5),\"\")","v":""}]
[null,null,null,"",{"$f":"IF(J251=\"\",\"\",CONCATENATE(AD251,DIGITADOR!$B$2,DIGITADOR!$M$1,J251))","v":""},{"$f":"IF(J251=\"\",\"\",CONCATENATE(DIGITADOR!$B$2,AD251,DIGITADOR!$M$1,J251,ROW()))","v":""},null,null,null,{"$f":"IF(X251=\"\",\"\", INDEX(referentes!$AN:$AR,MATCH(DATOS_MIP_SS!X251,referentes!$AO:$AO,0),1))","v":""},"",{"$f":"IF(AF251=\"\",\"\", INDEX(referentes!D:E,MATCH(DATOS_MIP_SS!AF251,referentes!$E:$E,0),1))","v":""},{"$f":"IF(AI251=\"\",\"\", INDEX(referentes!A:B,MATCH(DATOS_MIP_SS!AI251,referentes!$B:$B,0),1))","v":""},{"$f":"IF(AJ251=\"\",\"\", INDEX(referentes!G:H,MATCH(DATOS_MIP_SS!AJ251,referentes!$H:$H,0),1))","v":""},{"$f":"IF(AK251=\"\",\"\", INDEX(referentes!$AB$2:$AC$10,MATCH(DATOS_MIP_SS!AK251,referentes!$AC$2:$AC$10,0),1))","v":""},{"$f":"IF(AL251=\"\",\"\", INDEX(referentes!$AH:$AI,MATCH(DATOS_MIP_SS!AL251,referentes!$AI:$AI,0),1))","v":""},{"$f":"IF(AP251=\"\",\"\", INDEX(referentes!$AE$2:$AF$10,MATCH(DATOS_MIP_SS!AP251,referentes!$AF$2:$AF$10,0),1))","v":""},{"$f":"IF(AN251=\"\",\"\", INDEX(referentes!$AK$2:$AL$10,MATCH(DATOS_MIP_SS!AN251,referentes!$AL$2:$AL$10,0),1))","v":""},{"$f":"IF(AQ251=\"\",\"\", INDEX(referentes!J:K,MATCH(DATOS_MIP_SS!AQ251,referentes!$K:$K,0),1))","v":""},{"$f":"IF(AR251=\"\",\"\", INDEX(referentes!$M$2:$N$20,MATCH(DATOS_MIP_SS!AR251,referentes!$N$2:$N$20,0),1))","v":""},{"$f":"IF(AY251=\"\",\"\", INDEX('otras referencias'!O:P,MATCH(AY251,'otras referencias'!$O:$O,0),2))","v":""},null,null,null,null,null,{"$f":"IF(X251<>\"\",INDEX(referentes!$AN:$AR,MATCH(DATOS_MIP_SS!X251,referentes!$AO:$AO,0),5),\"\")","v":""}]
[null,null,null,"",{"$f":"IF(J252=\"\",\"\",CONCATENATE(AD252,DIGITADOR!$B$2,DIGITADOR!$M$1,J252))","v":""},{"$f":"IF(J252=\"\",\"\",CONCATENATE(DIGITADOR!$B$2,AD252,DIGITADOR!$M$1,J252,ROW()))","v":""},null,null,null,{"$f":"IF(X252=\"\",\"\", INDEX(referentes!$AN:$AR,MATCH(DATOS_MIP_SS!X252,referentes!$AO:$AO,0),1))","v":""},"",{"$f":"IF(AF252=\"\",\"\", INDEX(referentes!D:E,MATCH(DATOS_MIP_SS!AF252,referentes!$E:$E,0),1))","v":""},{"$f":"IF(AI252=\"\",\"\", INDEX(referentes!A:B,MATCH(DATOS_MIP_SS!AI252,referentes!$B:$B,0),1))","v":""},{"$f":"IF(AJ252=\"\",\"\", INDEX(referentes!G:H,MATCH(DATOS_MIP_SS!AJ252,referentes!$H:$H,0),1))","v":""},{"$f":"IF(AK252=\"\",\"\", INDEX(referentes!$AB$2:$AC$10,MATCH(DATOS_MIP_SS!AK252,referentes!$AC$2:$AC$10,0),1))","v":""},{"$f":"IF(AL252=\"\",\"\", INDEX(referentes!$AH:$AI,MATCH(DATOS_MIP_SS!AL252,referentes!$AI:$AI,0),1))","v":""},{"$f":"IF(AP252=\"\",\"\", INDEX(referentes!$AE$2:$AF$10,MATCH(DATOS_MIP_SS!AP252,referentes!$AF$2:$AF$10,0),1))","v":""},{"$f":"IF(AN252=\"\",\"\", INDEX(referentes!$AK$2:$AL$10,MATCH(DATOS_MIP_SS!AN252,referentes!$AL$2:$AL$10,0),1))","v":""},{"$f":"IF(AQ252=\"\",\"\", INDEX(referentes!J:K,MATCH(DATOS_MIP_SS!AQ252,referentes!$K:$K,0),1))","v":""},{"$f":"IF(AR252=\"\",\"\", INDEX(referentes!$M$2:$N$20,MATCH(DATOS_MIP_SS!AR252,referentes!$N$2:$N$20,0),1))","v":""},{"$f":"IF(AY252=\"\",\"\", INDEX('otras referencias'!O:P,MATCH(AY252,'otras referencias'!$O:$O,0),2))","v":""},null,null,null,null,null,{"$f":"IF(X252<>\"\",INDEX(referentes!$AN:$AR,MATCH(DATOS_MIP_SS!X252,referentes!$AO:$AO,0),5),\"\")","v":""}]
[null,null,null,"",{"$f":"IF(J253=\"\",\"\",CONCATENATE(AD253,DIGITADOR!$B$2,DIGITADOR!$M$1,J253))","v":""},{"$f":"IF(J253=\"\",\"\",CONCATENATE(DIGITADOR!$B$2,AD253,DIGITADOR!$M$1,J253,ROW()))","v":""},null,null,null,{"$f":"IF(X253=\"\",\"\", INDEX(referentes!$AN:$AR,MATCH(DATOS_MIP_SS!X253,referentes!$AO:$AO,0),1))","v":""},"",{"$f":"IF(AF253=\"\",\"\", INDEX(referentes!D:E,MATCH(DATOS_MIP_SS!AF253,referentes!$E:$E,0),1))","v":""},{"$f":"IF(AI253=\"\",\"\", INDEX(referentes!A:B,MATCH(DATOS_MIP_SS!AI253,referentes!$B:$B,0),1))","v":""},{"$f":"IF(AJ253=\"\",\"\", INDEX(referentes!G:H,MATCH(DATOS_MIP_SS!AJ253,referentes!$H:$H,0),1))","v":""},{"$f":"IF(AK253=\"\",\"\", INDEX(referentes!$AB$2:$AC$10,MATCH(DATOS_MIP_SS!AK253,referentes!$AC$2:$AC$10,0),1))","v":""},{"$f":"IF(AL253=\"\",\"\", INDEX(referentes!$AH:$AI,MATCH(DATOS_MIP_SS!AL253,referentes!$AI:$AI,0),1))","v":""},{"$f":"IF(AP253=\"\",\"\", INDEX(referentes!$AE$2:$AF$10,MATCH(DATOS_MIP_SS!AP253,referentes!$AF$2:$AF$10,0),1))","v":""},{"$f":"IF(AN253=\"\",\"\", INDEX(referentes!$AK$2:$AL$10,MATCH(DATOS_MIP_SS!AN253,referentes!$AL$2:$AL$10,0),1))","v":""},{"$f":"IF(AQ253=\"\",\"\", INDEX(referentes!J:K,MATCH(DATOS_MIP_SS!AQ253,referentes!$K:$K,0),1))","v":""},{"$f":"IF(AR253=\"\",\"\", INDEX(referentes!$M$2:$N$20,MATCH(DATOS_MIP_SS!AR253,referentes!$N$2:$N$20,0),1))","v":""},{"$f":"IF(AY253=\"\",\"\", INDEX('otras referencias'!O:P,MATCH(AY253,'otras referencias'!$O:$O,0),2))","v":""},null,null,null,null,null,{"$f":"IF(X253<>\"\",INDEX(referentes!$AN:$AR,MATCH(DATOS_MIP_SS!X253,referentes!$AO:$AO,0),5),\"\")","v":""}]
[null,null,null,"",{"$f":"IF(J254=\"\",\"\",CONCATENATE(AD254,DIGITADOR!$B$2,DIGITADOR!$M$1,J254))","v":""},{"$f":"IF(J254=\"\",\"\",CONCATENATE(DIGITADOR!$B$2,AD254,DIGITADOR!$M$1,J254,ROW()))","v":""},null,null,null,{"$f":"IF(X254=\"\",\"\", INDEX(referentes!$AN:$AR,MATCH(DATOS_MIP_SS!X254,referentes!$AO:$AO,0),1))","v":""},"",{"$f":"IF(AF254=\"\",\"\", INDEX(referentes!D:E,MATCH(DATOS_MIP_SS!AF254,referentes!$E:$E,0),1))","v":""},{"$f":"IF(AI254=\"\",\"\", INDEX(referentes!A:B,MATCH(DATOS_MIP_SS!AI254,referentes!$B:$B,0),1))","v":""},{"$f":"IF(AJ254=\"\",\"\", INDEX(referentes!G:H,MATCH(DATOS_MIP_SS!AJ254,referentes!$H:$H,0),1))","v":""},{"$f":"IF(AK254=\"\",\"\", INDEX(referentes!$AB$2:$AC$10,MATCH(DATOS_MIP_SS!AK254,referentes!$AC$2:$AC$10,0),1))","v":""},{"$f":"IF(AL254=\"\",\"\", INDEX(referentes!$AH:$AI,MATCH(DATOS_MIP_SS!AL254,referentes!$AI:$AI,0),1))","v":""},{"$f":"IF(AP254=\"\",\"\", INDEX(referentes!$AE$2:$AF$10,MATCH(DATOS_MIP_SS!AP254,referentes!$AF$2:$AF$10,0),1))","v":""},{"$f":"IF(AN254=\"\",\"\", INDEX(referentes!$AK$2:$AL$10,MATCH(DATOS_MIP_SS!AN254,referentes!$AL$2:$AL$10,0),1))","v":""},{"$f":"IF(AQ254=\"\",\"\", INDEX(referentes!J:K,MATCH(DATOS_MIP_SS!AQ254,referentes!$K:$K,0),1))","v":""},{"$f":"IF(AR254=\"\",\"\", INDEX(referentes!$M$2:$N$20,MATCH(DATOS_MIP_SS!AR254,referentes!$N$2:$N$20,0),1))","v":""},{"$f":"IF(AY254=\"\",\"\", INDEX('otras referencias'!O:P,MATCH(AY254,'otras referencias'!$O:$O,0),2))","v":""},null,null,null,null,null,{"$f":"IF(X254<>\"\",INDEX(referentes!$AN:$AR,MATCH(DATOS_MIP_SS!X254,referentes!$AO:$AO,0),5),\"\")","v":""}]
[null,null,null,"",{"$f":"IF(J255=\"\",\"\",CONCATENATE(AD255,DIGITADOR!$B$2,DIGITADOR!$M$1,J255))","v":""},{"$f":"IF(J255=\"\",\"\",CONCATENATE(DIGITADOR!$B$2,AD255,DIGITADOR!$M$1,J255,ROW()))","v":""},null,null,null,{"$f":"IF(X255=\"\",\"\", INDEX(referentes!$AN:$AR,MATCH(DATOS_MIP_SS!X255,referentes!$AO:$AO,0),1))","v":""},"",{"$f":"IF(AF255=\"\",\"\", INDEX(referentes!D:E,MATCH(DATOS_MIP_SS!AF255,referentes!$E:$E,0),1))","v":""},{"$f":"IF(AI255=\"\",\"\", INDEX(referentes!A:B,MATCH(DATOS_MIP_SS!AI255,referentes!$B:$B,0),1))","v":""},{"$f":"IF(AJ255=\"\",\"\", INDEX(referentes!G:H,MATCH(DATOS_MIP_SS!AJ255,referentes!$H:$H,0),1))","v":""},{"$f":"IF(AK255=\"\",\"\", INDEX(referentes!$AB$2:$AC$10,MATCH(DATOS_MIP_SS!AK255,referentes!$AC$2:$AC$10,0),1))","v":""},{"$f":"IF(AL255=\"\",\"\", INDEX(referentes!$AH:$AI,MATCH(DATOS_MIP_SS!AL255,referentes!$AI:$AI,0),1))","v":""},{"$f":"IF(AP255=\"\",\"\", INDEX(referentes!$AE$2:$AF$10,MATCH(DATOS_MIP_SS!AP255,referentes!$AF$2:$AF$10,0),1))","v":""},{"$f":"IF(AN255=\"\",\"\", INDEX(referentes!$AK$2:$AL$10,MATCH(DATOS_MIP_SS!AN255,referentes!$AL$2:$AL$10,0),1))","v":""},{"$f":"IF(AQ255=\"\",\"\", INDEX(referentes!J:K,MATCH(DATOS_MIP_SS!AQ255,referentes!$K:$K,0),1))","v":""},{"$f":"IF(AR255=\"\",\"\", INDEX(referentes!$M$2:$N$20,MATCH(DATOS_MIP_SS!AR255,referentes!$N$2:$N$20,0),1))","v":""},{"$f":"IF(AY255=\"\",\"\", INDEX('otras referencias'!O:P,MATCH(AY255,'otras referencias'!$O:$O,0),2))","v":""},null,null,null,null,null,{"$f":"IF(X255<>\"\",INDEX(referentes!$AN:$AR,MATCH(DATOS_MIP_SS!X255,referentes!$AO:$AO,0),5),\"\")","v":""}]
[null,null,null,"",{"$f":"IF(J256=\"\",\"\",CONCATENATE(AD256,DIGITADOR!$B$2,DIGITADOR!$M$1,J256))","v":""},{"$f":"IF(J256=\"\",\"\",CONCATENATE(DIGITADOR!$B$2,AD256,DIGITADOR!$M$1,J256,ROW()))","v":""},null,null,null,{"$f":"IF(X256=\"\",\"\", INDEX(referentes!$AN:$AR,MATCH(DATOS_MIP_SS!X256,referentes!$AO:$AO,0),1))","v":""},"",{"$f":"IF(AF256=\"\",\"\", INDEX(referentes!D:E,MATCH(DATOS_MIP_SS!AF256,referentes!$E:$E,0),1))","v":""},{"$f":"IF(AI256=\"\",\"\", INDEX(referentes!A:B,MATCH(DATOS_MIP_SS!AI256,referentes!$B:$B,0),1))","v":""},{"$f":"IF(AJ256=\"\",\"\", INDEX(referentes!G:H,MATCH(DATOS_MIP_SS!AJ256,referentes!$H:$H,0),1))","v":""},{"$f":"IF(AK256=\"\",\"\", INDEX(referentes!$AB$2:$AC$10,MATCH(DATOS_MIP_SS!AK256,referentes!$AC$2:$AC$10,0),1))","v":""},{"$f":"IF(AL256=\"\",\"\", INDEX(referentes!$AH:$AI,MATCH(DATOS_MIP_SS!AL256,referentes!$AI:$AI,0),1))","v":""},{"$f":"IF(AP256=\"\",\"\", INDEX(referentes!$AE$2:$AF$10,MATCH(DATOS_MIP_SS!AP256,referentes!$AF$2:$AF$10,0),1))","v":""},{"$f":"IF(AN256=\"\",\"\", INDEX(referentes!$AK$2:$AL$10,MATCH(DATOS_MIP_SS!AN256,referentes!$AL$2:$AL$10,0),1))","v":""},{"$f":"IF(AQ256=\"\",\"\", INDEX(referentes!J:K,MATCH(DATOS_MIP_SS!AQ256,referentes!$K:$K,0),1))","v":""},{"$f":"IF(AR256=\"\",\"\", INDEX(referentes!$M$2:$N$20,MATCH(DATOS_MIP_SS!AR256,referentes!$N$2:$N$20,0),1))","v":""},{"$f":"IF(AY256=\"\",\"\", INDEX('otras referencias'!O:P,MATCH(AY256,'otras referencias'!$O:$O,0),2))","v":""},null,null,null,null,null,{"$f":"IF(X256<>\"\",INDEX(referentes!$AN:$AR,MATCH(DATOS_MIP_SS!X256,referentes!$AO:$AO,0),5),\"\")","v":""}]
[null,null,null,"",{"$f":"IF(J257=\"\",\"\",CONCATENATE(AD257,DIGITADOR!$B$2,DIGITADOR!$M$1,J257))","v":""},{"$f":"IF(J257=\"\",\"\",CONCATENATE(DIGITADOR!$B$2,AD257,DIGITADOR!$M$1,J257,ROW()))","v":""},null,null,null,{"$f":"IF(X257=\"\",\"\", INDEX(referentes!$AN:$AR,MATCH(DATOS_MIP_SS!X257,referentes!$AO:$AO,0),1))","v":""},"",{"$f":"IF(AF257=\"\",\"\", INDEX(referentes!D:E,MATCH(DATOS_MIP_SS!AF257,referentes!$E:$E,0),1))","v":""},{"$f":"IF(AI257=\"\",\"\", INDEX(referentes!A:B,MATCH(DATOS_MIP_SS!AI257,referentes!$B:$B,0),1))","v":""},{"$f":"IF(AJ257=\"\",\"\", INDEX(referentes!G:H,MATCH(DATOS_MIP_SS!AJ257,referentes!$H:$H,0),1))","v":""},{"$f":"IF(AK257=\"\",\"\", INDEX(referentes!$AB$2:$AC$10,MATCH(DATOS_MIP_SS!AK257,referentes!$AC$2:$AC$10,0),1))","v":""},{"$f":"IF(AL257=\"\",\"\", INDEX(referentes!$AH:$AI,MATCH(DATOS_MIP_SS!AL257,referentes!$AI:$AI,0),1))","v":""},{"$f":"IF(AP257=\"\",\"\", INDEX(referentes!$AE$2:$AF$10,MATCH(DATOS_MIP_SS!AP257,referentes!$AF$2:$AF$10,0),1))","v":""},{"$f":"IF(AN257=\"\",\"\", INDEX(referentes!$AK$2:$AL$10,MATCH(DATOS_MIP_SS!AN257,referentes!$AL$2:$AL$10,0),1))","v":""},{"$f":"IF(AQ257=\"\",\"\", INDEX(referentes!J:K,MATCH(DATOS_MIP_SS!AQ257,referentes!$K:$K,0),1))","v":""},{"$f":"IF(AR257=\"\",\"\", INDEX(referentes!$M$2:$N$20,MATCH(DATOS_MIP_SS!AR257,referentes!$N$2:$N$20,0),1))","v":""},{"$f":"IF(AY257=\"\",\"\", INDEX('otras referencias'!O:P,MATCH(AY257,'otras referencias'!$O:$O,0),2))","v":""},null,null,null,null,null,{"$f":"IF(X257<>\"\",INDEX(referentes!$AN:$AR,MATCH(DATOS_MIP_SS!X257,referentes!$AO:$AO,0),5),\"\")","v":""}]
[null,null,null,"",{"$f":"IF(J258=\"\",\"\",CONCATENATE(AD258,DIGITADOR!$B$2,DIGITADOR!$M$1,J258))","v":""},{"$f":"IF(J258=\"\",\"\",CONCATENATE(DIGITADOR!$B$2,AD258,DIGITADOR!$M$1,J258,ROW()))","v":""},null,null,null,{"$f":"IF(X258=\"\",\"\", INDEX(referentes!$AN:$AR,MATCH(DATOS_MIP_SS!X258,referentes!$AO:$AO,0),1))","v":""},"",{"$f":"IF(AF258=\"\",\"\", INDEX(referentes!D:E,MATCH(DATOS_MIP_SS!AF258,referentes!$E:$E,0),1))","v":""},{"$f":"IF(AI258=\"\",\"\", INDEX(referentes!A:B,MATCH(DATOS_MIP_SS!AI258,referentes!$B:$B,0),1))","v":""},{"$f":"IF(AJ258=\"\",\"\", INDEX(referentes!G:H,MATCH(DATOS_MIP_SS!AJ258,referentes!$H:$H,0),1))","v":""},{"$f":"IF(AK258=\"\",\"\", INDEX(referentes!$AB$2:$AC$10,MATCH(DATOS_MIP_SS!AK258,referentes!$AC$2:$AC$10,0),1))","v":""},{"$f":"IF(AL258=\"\",\"\", INDEX(referentes!$AH:$AI,MATCH(DATOS_MIP_SS!AL258,referentes!$AI:$AI,0),1))","v":""},{"$f":"IF(AP258=\"\",\"\", INDEX(referentes!$AE$2:$AF$10,MATCH(DATOS_MIP_SS!AP258,referentes!$AF$2:$AF$10,0),1))","v":""},{"$f":"IF(AN258=\"\",\"\", INDEX(referentes!$AK$2:$AL$10,MATCH(DATOS_MIP_SS!AN258,referentes!$AL$2:$AL$10,0),1))","v":""},{"$f":"IF(AQ258=\"\",\"\", INDEX(referentes!J:K,MATCH(DATOS_MIP_SS!AQ258,referentes!$K:$K,0),1))","v":""},{"$f":"IF(AR258=\"\",\"\", INDEX(referentes!$M$2:$N$20,MATCH(DATOS_MIP_SS!AR258,referentes!$N$2:$N$20,0),1))","v":""},{"$f":"IF(AY258=\"\",\"\", INDEX('otras referencias'!O:P,MATCH(AY258,'otras referencias'!$O:$O,0),2))","v":""},null,null,null,null,null,{"$f":"IF(X258<>\"\",INDEX(referentes!$AN:$AR,MATCH(DATOS_MIP_SS!X258,referentes!$AO:$AO,0),5),\"\")","v":""}]
[null,null,null,"",{"$f":"IF(J259=\"\",\"\",CONCATENATE(AD259,DIGITADOR!$B$2,DIGITADOR!$M$1,J259))","v":""},{"$f":"IF(J259=\"\",\"\",CONCATENATE(DIGITADOR!$B$2,AD259,DIGITADOR!$M$1,J259,ROW()))","v":""},null,null,null,{"$f":"IF(X259=\"\",\"\", INDEX(referentes!$AN:$AR,MATCH(DATOS_MIP_SS!X259,referentes!$AO:$AO,0),1))","v":""},"",{"$f":"IF(AF259=\"\",\"\", INDEX(referentes!D:E,MATCH(DATOS_MIP_SS!AF259,referentes!$E:$E,0),1))","v":""},{"$f":"IF(AI259=\"\",\"\", INDEX(referentes!A:B,MATCH(DATOS_MIP_SS!AI259,referentes!$B:$B,0),1))","v":""},{"$f":"IF(AJ259=\"\",\"\", INDEX(referentes!G:H,MATCH(DATOS_MIP_SS!AJ259,referentes!$H:$H,0),1))","v":""},{"$f":"IF(AK259=\"\",\"\", INDEX(referentes!$AB$2:$AC$10,MATCH(DATOS_MIP_SS!AK259,referentes!$AC$2:$AC$10,0),1))","v":""},{"$f":"IF(AL259=\"\",\"\", INDEX(referentes!$AH:$AI,MATCH(DATOS_MIP_SS!AL259,referentes!$AI:$AI,0),1))","v":""},{"$f":"IF(AP259=\"\",\"\", INDEX(referentes!$AE$2:$AF$10,MATCH(DATOS_MIP_SS!AP259,referentes!$AF$2:$AF$10,0),1))","v":""},{"$f":"IF(AN259=\"\",\"\", INDEX(referentes!$AK$2:$AL$10,MATCH(DATOS_MIP_SS!AN259,referentes!$AL$2:$AL$10,0),1))","v":""},{"$f":"IF(AQ259=\"\",\"\", INDEX(referentes!J:K,MATCH(DATOS_MIP_SS!AQ259,referentes!$K:$K,0),1))","v":""},{"$f":"IF(AR259=\"\",\"\", INDEX(referentes!$M$2:$N$20,MATCH(DATOS_MIP_SS!AR259,referentes!$N$2:$N$20,0),1))","v":""},{"$f":"IF(AY259=\"\",\"\", INDEX('otras referencias'!O:P,MATCH(AY259,'otras referencias'!$O:$O,0),2))","v":""},null,null,null,null,null,{"$f":"IF(X259<>\"\",INDEX(referentes!$AN:$AR,MATCH(DATOS_MIP_SS!X259,referentes!$AO:$AO,0),5),\"\")","v":""}]
[null,null,null,"",{"$f":"IF(J260=\"\",\"\",CONCATENATE(AD260,DIGITADOR!$B$2,DIGITADOR!$M$1,J260))","v":""},{"$f":"IF(J260=\"\",\"\",CONCATENATE(DIGITADOR!$B$2,AD260,DIGITADOR!$M$1,J260,ROW()))","v":""},null,null,null,{"$f":"IF(X260=\"\",\"\", INDEX(referentes!$AN:$AR,MATCH(DATOS_MIP_SS!X260,referentes!$AO:$AO,0),1))","v":""},"",{"$f":"IF(AF260=\"\",\"\", INDEX(referentes!D:E,MATCH(DATOS_MIP_SS!AF260,referentes!$E:$E,0),1))","v":""},{"$f":"IF(AI260=\"\",\"\", INDEX(referentes!A:B,MATCH(DATOS_MIP_SS!AI260,referentes!$B:$B,0),1))","v":""},{"$f":"IF(AJ260=\"\",\"\", INDEX(referentes!G:H,MATCH(DATOS_MIP_SS!AJ260,referentes!$H:$H,0),1))","v":""},{"$f":"IF(AK260=\"\",\"\", INDEX(referentes!$AB$2:$AC$10,MATCH(DATOS_MIP_SS!AK260,referentes!$AC$2:$AC$10,0),1))","v":""},{"$f":"IF(AL260=\"\",\"\", INDEX(referentes!$AH:$AI,MATCH(DATOS_MIP_SS!AL260,referentes!$AI:$AI,0),1))","v":""},{"$f":"IF(AP260=\"\",\"\", INDEX(referentes!$AE$2:$AF$10,MATCH(DATOS_MIP_SS!AP260,referentes!$AF$2:$AF$10,0),1))","v":""},{"$f":"IF(AN260=\"\",\"\", INDEX(referentes!$AK$2:$AL$10,MATCH(DATOS_MIP_SS!AN260,referentes!$AL$2:$AL$10,0),1))","v":""},{"$f":"IF(AQ260=\"\",\"\", INDEX(referentes!J:K,MATCH(DATOS_MIP_SS!AQ260,referentes!$K:$K,0),1))","v":""},{"$f":"IF(AR260=\"\",\"\", INDEX(referentes!$M$2:$N$20,MATCH(DATOS_MIP_SS!AR260,referentes!$N$2:$N$20,0),1))","v":""},{"$f":"IF(AY260=\"\",\"\", INDEX('otras referencias'!O:P,MATCH(AY260,'otras referencias'!$O:$O,0),2))","v":""},null,null,null,null,null,{"$f":"IF(X260<>\"\",INDEX(referentes!$AN:$AR,MATCH(DATOS_MIP_SS!X260,referentes!$AO:$AO,0),5),\"\")","v":""}]
[null,null,null,"",{"$f":"IF(J261=\"\",\"\",CONCATENATE(AD261,DIGITADOR!$B$2,DIGITADOR!$M$1,J261))","v":""},{"$f":"IF(J261=\"\",\"\",CONCATENATE(DIGITADOR!$B$2,AD261,DIGITADOR!$M$1,J261,ROW()))","v":""},null,null,null,{"$f":"IF(X261=\"\",\"\", INDEX(referentes!$AN:$AR,MATCH(DATOS_MIP_SS!X261,referentes!$AO:$AO,0),1))","v":""},"",{"$f":"IF(AF261=\"\",\"\", INDEX(referentes!D:E,MATCH(DATOS_MIP_SS!AF261,referentes!$E:$E,0),1))","v":""},{"$f":"IF(AI261=\"\",\"\", INDEX(referentes!A:B,MATCH(DATOS_MIP_SS!AI261,referentes!$B:$B,0),1))","v":""},{"$f":"IF(AJ261=\"\",\"\", INDEX(referentes!G:H,MATCH(DATOS_MIP_SS!AJ261,referentes!$H:$H,0),1))","v":""},{"$f":"IF(AK261=\"\",\"\", INDEX(referentes!$AB$2:$AC$10,MATCH(DATOS_MIP_SS!AK261,referentes!$AC$2:$AC$10,0),1))","v":""},{"$f":"IF(AL261=\"\",\"\", INDEX(referentes!$AH:$AI,MATCH(DATOS_MIP_SS!AL261,referentes!$AI:$AI,0),1))","v":""},{"$f":"IF(AP261=\"\",\"\", INDEX(referentes!$AE$2:$AF$10,MATCH(DATOS_MIP_SS!AP261,referentes!$AF$2:$AF$10,0),1))","v":""},{"$f":"IF(AN261=\"\",\"\", INDEX(referentes!$AK$2:$AL$10,MATCH(DATOS_MIP_SS!AN261,referentes!$AL$2:$AL$10,0),1))","v":""},{"$f":"IF(AQ261=\"\",\"\", INDEX(referentes!J:K,MATCH(DATOS_MIP_SS!AQ261,referentes!$K:$K,0),1))","v":""},{"$f":"IF(AR261=\"\",\"\", INDEX(referentes!$M$2:$N$20,MATCH(DATOS_MIP_SS!AR261,referentes!$N$2:$N$20,0),1))","v":""},{"$f":"IF(AY261=\"\",\"\", INDEX('otras referencias'!O:P,MATCH(AY261,'otras referencias'!$O:$O,0),2))","v":""},null,null,null,null,null,{"$f":"IF(X261<>\"\",INDEX(referentes!$AN:$AR,MATCH(DATOS_MIP_SS!X261,referentes!$AO:$AO,0),5),\"\")","v":""}]
[null,null,null,"",{"$f":"IF(J262=\"\",\"\",CONCATENATE(AD262,DIGITADOR!$B$2,DIGITADOR!$M$1,J262))","v":""},{"$f":"IF(J262=\"\",\"\",CONCATENATE(DIGITADOR!$B$2,AD262,DIGITADOR!$M$1,J262,ROW()))","v":""},null,null,null,{"$f":"IF(X262=\"\",\"\", INDEX(referentes!$AN:$AR,MATCH(DATOS_MIP_SS!X262,referentes!$AO:$AO,0),1))","v":""},"",{"$f":"IF(AF262=\"\",\"\", INDEX(referentes!D:E,MATCH(DATOS_MIP_SS!AF262,referentes!$E:$E,0),1))","v":""},{"$f":"IF(AI262=\"\",\"\", INDEX(referentes!A:B,MATCH(DATOS_MIP_SS!AI262,referentes!$B:$B,0),1))","v":""},{"$f":"IF(AJ262=\"\",\"\", INDEX(referentes!G:H,MATCH(DATOS_MIP_SS!AJ262,referentes!$H:$H,0),1))","v":""},{"$f":"IF(AK262=\"\",\"\", INDEX(referentes!$AB$2:$AC$10,MATCH(DATOS_MIP_SS!AK262,referentes!$AC$2:$AC$10,0),1))","v":""},{"$f":"IF(AL262=\"\",\"\", INDEX(referentes!$AH:$AI,MATCH(DATOS_MIP_SS!AL262,referentes!$AI:$AI,0),1))","v":""},{"$f":"IF(AP262=\"\",\"\", INDEX(referentes!$AE$2:$AF$10,MATCH(DATOS_MIP_SS!AP262,referentes!$AF$2:$AF$10,0),1))","v":""},{"$f":"IF(AN262=\"\",\"\", INDEX(referentes!$AK$2:$AL$10,MATCH(DATOS_MIP_SS!AN262,referentes!$AL$2:$AL$10,0),1))","v":""},{"$f":"IF(AQ262=\"\",\"\", INDEX(referentes!J:K,MATCH(DATOS_MIP_SS!AQ262,referentes!$K:$K,0),1))","v":""},{"$f":"IF(AR262=\"\",\"\", INDEX(referentes!$M$2:$N$20,MATCH(DATOS_MIP_SS!AR262,referentes!$N$2:$N$20,0),1))","v":""},{"$f":"IF(AY262=\"\",\"\", INDEX('otras referencias'!O:P,MATCH(AY262,'otras referencias'!$O:$O,0),2))","v":""},null,null,null,null,null,{"$f":"IF(X262<>\"\",INDEX(referentes!$AN:$AR,MATCH(DATOS_MIP_SS!X262,referentes!$AO:$AO,0),5),\"\")","v":""}]
[null,null,null,"",{"$f":"IF(J263=\"\",\"\",CONCATENATE(AD263,DIGITADOR!$B$2,DIGITADOR!$M$1,J263))","v":""},{"$f":"IF(J263=\"\",\"\",CONCATENATE(DIGITADOR!$B$2,AD263,DIGITADOR!$M$1,J263,ROW()))","v":""},null,null,null,{"$f":"IF(X263=\"\",\"\", INDEX(referentes!$AN:$AR,MATCH(DATOS_MIP_SS!X263,referentes!$AO:$AO,0),1))","v":""},"",{"$f":"IF(AF263=\"\",\"\", INDEX(referentes!D:E,MATCH(DATOS_MIP_SS!AF263,referentes!$E:$E,0),1))","v":""},{"$f":"IF(AI263=\"\",\"\", INDEX(referentes!A:B,MATCH(DATOS_MIP_SS!AI263,referentes!$B:$B,0),1))","v":""},{"$f":"IF(AJ263=\"\",\"\", INDEX(referentes!G:H,MATCH(DATOS_MIP_SS!AJ263,referentes!$H:$H,0),1))","v":""},{"$f":"IF(AK263=\"\",\"\", INDEX(referentes!$AB$2:$AC$10,MATCH(DATOS_MIP_SS!AK263,referentes!$AC$2:$AC$10,0),1))","v":""},{"$f":"IF(AL263=\"\",\"\", INDEX(referentes!$AH:$AI,MATCH(DATOS_MIP_SS!AL263,referentes!$AI:$AI,0),1))","v":""},{"$f":"IF(AP263=\"\",\"\", INDEX(referentes!$AE$2:$AF$10,MATCH(DATOS_MIP_SS!AP263,referentes!$AF$2:$AF$10,0),1))","v":""},{"$f":"IF(AN263=\"\",\"\", INDEX(referentes!$AK$2:$AL$10,MATCH(DATOS_MIP_SS!AN263,referentes!$AL$2:$AL$10,0),1))","v":""},{"$f":"IF(AQ263=\"\",\"\", INDEX(referentes!J:K,MATCH(DATOS_MIP_SS!AQ263,referentes!$K:$K,0),1))","v":""},{"$f":"IF(AR263=\"\",\"\", INDEX(referentes!$M$2:$N$20,MATCH(DATOS_MIP_SS!AR263,referentes!$N$2:$N$20,0),1))","v":""},{"$f":"IF(AY263=\"\",\"\", INDEX('otras referencias'!O:P,MATCH(AY263,'otras referencias'!$O:$O,0),2))","v":""},null,null,null,null,null,{"$f":"IF(X263<>\"\",INDEX(referentes!$AN:$AR,MATCH(DATOS_MIP_SS!X263,referentes!$AO:$AO,0),5),\"\")","v":""}]
[null,null,null,"",{"$f":"IF(J264=\"\",\"\",CONCATENATE(AD264,DIGITADOR!$B$2,DIGITADOR!$M$1,J264))","v":""},{"$f":"IF(J264=\"\",\"\",CONCATENATE(DIGITADOR!$B$2,AD264,DIGITADOR!$M$1,J264,ROW()))","v":""},null,null,null,{"$f":"IF(X264=\"\",\"\", INDEX(referentes!$AN:$AR,MATCH(DATOS_MIP_SS!X264,referentes!$AO:$AO,0),1))","v":""},"",{"$f":"IF(AF264=\"\",\"\", INDEX(referentes!D:E,MATCH(DATOS_MIP_SS!AF264,referentes!$E:$E,0),1))","v":""},{"$f":"IF(AI264=\"\",\"\", INDEX(referentes!A:B,MATCH(DATOS_MIP_SS!AI264,referentes!$B:$B,0),1))","v":""},{"$f":"IF(AJ264=\"\",\"\", INDEX(referentes!G:H,MATCH(DATOS_MIP_SS!AJ264,referentes!$H:$H,0),1))","v":""},{"$f":"IF(AK264=\"\",\"\", INDEX(referentes!$AB$2:$AC$10,MATCH(DATOS_MIP_SS!AK264,referentes!$AC$2:$AC$10,0),1))","v":""},{"$f":"IF(AL264=\"\",\"\", INDEX(referentes!$AH:$AI,MATCH(DATOS_MIP_SS!AL264,referentes!$AI:$AI,0),1))","v":""},{"$f":"IF(AP264=\"\",\"\", INDEX(referentes!$AE$2:$AF$10,MATCH(DATOS_MIP_SS!AP264,referentes!$AF$2:$AF$10,0),1))","v":""},{"$f":"IF(AN264=\"\",\"\", INDEX(referentes!$AK$2:$AL$10,MATCH(DATOS_MIP_SS!AN264,referentes!$AL$2:$AL$10,0),1))","v":""},{"$f":"IF(AQ264=\"\",\"\", INDEX(referentes!J:K,MATCH(DATOS_MIP_SS!AQ264,referentes!$K:$K,0),1))","v":""},{"$f":"IF(AR264=\"\",\"\", INDEX(referentes!$M$2:$N$20,MATCH(DATOS_MIP_SS!AR264,referentes!$N$2:$N$20,0),1))","v":""},{"$f":"IF(AY264=\"\",\"\", INDEX('otras referencias'!O:P,MATCH(AY264,'otras referencias'!$O:$O,0),2))","v":""},null,null,null,null,null,{"$f":"IF(X264<>\"\",INDEX(referentes!$AN:$AR,MATCH(DATOS_MIP_SS!X264,referentes!$AO:$AO,0),5),\"\")","v":""}]
[null,null,null,"",{"$f":"IF(J265=\"\",\"\",CONCATENATE(AD265,DIGITADOR!$B$2,DIGITADOR!$M$1,J265))","v":""},{"$f":"IF(J265=\"\",\"\",CONCATENATE(DIGITADOR!$B$2,AD265,DIGITADOR!$M$1,J265,ROW()))","v":""},null,null,null,{"$f":"IF(X265=\"\",\"\", INDEX(referentes!$AN:$AR,MATCH(DATOS_MIP_SS!X265,referentes!$AO:$AO,0),1))","v":""},"",{"$f":"IF(AF265=\"\",\"\", INDEX(referentes!D:E,MATCH(DATOS_MIP_SS!AF265,referentes!$E:$E,0),1))","v":""},{"$f":"IF(AI265=\"\",\"\", INDEX(referentes!A:B,MATCH(DATOS_MIP_SS!AI265,referentes!$B:$B,0),1))","v":""},{"$f":"IF(AJ265=\"\",\"\", INDEX(referentes!G:H,MATCH(DATOS_MIP_SS!AJ265,referentes!$H:$H,0),1))","v":""},{"$f":"IF(AK265=\"\",\"\", INDEX(referentes!$AB$2:$AC$10,MATCH(DATOS_MIP_SS!AK265,referentes!$AC$2:$AC$10,0),1))","v":""},{"$f":"IF(AL265=\"\",\"\", INDEX(referentes!$AH:$AI,MATCH(DATOS_MIP_SS!AL265,referentes!$AI:$AI,0),1))","v":""},{"$f":"IF(AP265=\"\",\"\", INDEX(referentes!$AE$2:$AF$10,MATCH(DATOS_MIP_SS!AP265,referentes!$AF$2:$AF$10,0),1))","v":""},{"$f":"IF(AN265=\"\",\"\", INDEX(referentes!$AK$2:$AL$10,MATCH(DATOS_MIP_SS!AN265,referentes!$AL$2:$AL$10,0),1))","v":""},{"$f":"IF(AQ265=\"\",\"\", INDEX(referentes!J:K,MATCH(DATOS_MIP_SS!AQ265,referentes!$K:$K,0),1))","v":""},{"$f":"IF(AR265=\"\",\"\", INDEX(referentes!$M$2:$N$20,MATCH(DATOS_MIP_SS!AR265,referentes!$N$2:$N$20,0),1))","v":""},{"$f":"IF(AY265=\"\",\"\", INDEX('otras referencias'!O:P,MATCH(AY265,'otras referencias'!$O:$O,0),2))","v":""},null,null,null,null,null,{"$f":"IF(X265<>\"\",INDEX(referentes!$AN:$AR,MATCH(DATOS_MIP_SS!X265,referentes!$AO:$AO,0),5),\"\")","v":""}]
[null,null,null,"",{"$f":"IF(J266=\"\",\"\",CONCATENATE(AD266,DIGITADOR!$B$2,DIGITADOR!$M$1,J266))","v":""},{"$f":"IF(J266=\"\",\"\",CONCATENATE(DIGITADOR!$B$2,AD266,DIGITADOR!$M$1,J266,ROW()))","v":""},null,null,null,{"$f":"IF(X266=\"\",\"\", INDEX(referentes!$AN:$AR,MATCH(DATOS_MIP_SS!X266,referentes!$AO:$AO,0),1))","v":""},"",{"$f":"IF(AF266=\"\",\"\", INDEX(referentes!D:E,MATCH(DATOS_MIP_SS!AF266,referentes!$E:$E,0),1))","v":""},{"$f":"IF(AI266=\"\",\"\", INDEX(referentes!A:B,MATCH(DATOS_MIP_SS!AI266,referentes!$B:$B,0),1))","v":""},{"$f":"IF(AJ266=\"\",\"\", INDEX(referentes!G:H,MATCH(DATOS_MIP_SS!AJ266,referentes!$H:$H,0),1))","v":""},{"$f":"IF(AK266=\"\",\"\", INDEX(referentes!$AB$2:$AC$10,MATCH(DATOS_MIP_SS!AK266,referentes!$AC$2:$AC$10,0),1))","v":""},{"$f":"IF(AL266=\"\",\"\", INDEX(referentes!$AH:$AI,MATCH(DATOS_MIP_SS!AL266,referentes!$AI:$AI,0),1))","v":""},{"$f":"IF(AP266=\"\",\"\", INDEX(referentes!$AE$2:$AF$10,MATCH(DATOS_MIP_SS!AP266,referentes!$AF$2:$AF$10,0),1))","v":""},{"$f":"IF(AN266=\"\",\"\", INDEX(referentes!$AK$2:$AL$10,MATCH(DATOS_MIP_SS!AN266,referentes!$AL$2:$AL$10,0),1))","v":""},{"$f":"IF(AQ266=\"\",\"\", INDEX(referentes!J:K,MATCH(DATOS_MIP_SS!AQ266,referentes!$K:$K,0),1))","v":""},{"$f":"IF(AR266=\"\",\"\", INDEX(referentes!$M$2:$N$20,MATCH(DATOS_MIP_SS!AR266,referentes!$N$2:$N$20,0),1))","v":""},{"$f":"IF(AY266=\"\",\"\", INDEX('otras referencias'!O:P,MATCH(AY266,'otras referencias'!$O:$O,0),2))","v":""},null,null,null,null,null,{"$f":"IF(X266<>\"\",INDEX(referentes!$AN:$AR,MATCH(DATOS_MIP_SS!X266,referentes!$AO:$AO,0),5),\"\")","v":""}]
[null,null,null,"",{"$f":"IF(J267=\"\",\"\",CONCATENATE(AD267,DIGITADOR!$B$2,DIGITADOR!$M$1,J267))","v":""},{"$f":"IF(J267=\"\",\"\",CONCATENATE(DIGITADOR!$B$2,AD267,DIGITADOR!$M$1,J267,ROW()))","v":""},null,null,null,{"$f":"IF(X267=\"\",\"\", INDEX(referentes!$AN:$AR,MATCH(DATOS_MIP_SS!X267,referentes!$AO:$AO,0),1))","v":""},{"$f":"IF(AD267=\"\",\"\",AD267+AE267)","v":""},{"$f":"IF(AF267=\"\",\"\", INDEX(referentes!D:E,MATCH(DATOS_MIP_SS!AF267,referentes!$E:$E,0),1))","v":""},{"$f":"IF(AI267=\"\",\"\", INDEX(referentes!A:B,MATCH(DATOS_MIP_SS!AI267,referentes!$B:$B,0),1))","v":""},{"$f":"IF(AJ267=\"\",\"\", INDEX(referentes!G:H,MATCH(DATOS_MIP_SS!AJ267,referentes!$H:$H,0),1))","v":""},{"$f":"IF(AK267=\"\",\"\", INDEX(referentes!$AB$2:$AC$10,MATCH(DATOS_MIP_SS!AK267,referentes!$AC$2:$AC$10,0),1))","v":""},{"$f":"IF(AL267=\"\",\"\", INDEX(referentes!$AH:$AI,MATCH(DATOS_MIP_SS!AL267,referentes!$AI:$AI,0),1))","v":""},{"$f":"IF(AP267=\"\",\"\", INDEX(referentes!$AE$2:$AF$10,MATCH(DATOS_MIP_SS!AP267,referentes!$AF$2:$AF$10,0),1))","v":""},{"$f":"IF(AN267=\"\",\"\", INDEX(referentes!$AK$2:$AL$10,MATCH(DATOS_MIP_SS!AN267,referentes!$AL$2:$AL$10,0),1))","v":""},{"$f":"IF(AQ267=\"\",\"\", INDEX(referentes!J:K,MATCH(DATOS_MIP_SS!AQ267,referentes!$K:$K,0),1))","v":""},{"$f":"IF(AR267=\"\",\"\", INDEX(referentes!$M$2:$N$20,MATCH(DATOS_MIP_SS!AR267,referentes!$N$2:$N$20,0),1))","v":""},{"$f":"IF(AY267=\"\",\"\", INDEX('otras referencias'!O:P,MATCH(AY267,'otras referencias'!$O:$O,0),2))","v":""},null,null,null,null,null,{"$f":"IF(X267<>\"\",INDEX(referentes!$AN:$AR,MATCH(DATOS_MIP_SS!X267,referentes!$AO:$AO,0),5),\"\")","v":""}]
[null,null,null,{"$f":"IF(E268=\"\",\"\",IF(E268=E267,\"\",E268))","v":""},{"$f":"IF(J268=\"\",\"\",CONCATENATE(AD268,DIGITADOR!$B$2,DIGITADOR!$M$1,J268))","v":""},{"$f":"IF(J268=\"\",\"\",CONCATENATE(DIGITADOR!$B$2,AD268,DIGITADOR!$M$1,J268,ROW()))","v":""},null,null,null,{"$f":"IF(X268=\"\",\"\", INDEX(referentes!$AN:$AR,MATCH(DATOS_MIP_SS!X268,referentes!$AO:$AO,0),1))","v":""},"",{"$f":"IF(AF268=\"\",\"\", INDEX(referentes!D:E,MATCH(DATOS_MIP_SS!AF268,referentes!$E:$E,0),1))","v":""},{"$f":"IF(AI268=\"\",\"\", INDEX(referentes!A:B,MATCH(DATOS_MIP_SS!AI268,referentes!$B:$B,0),1))","v":""},{"$f":"IF(AJ268=\"\",\"\", INDEX(referentes!G:H,MATCH(DATOS_MIP_SS!AJ268,referentes!$H:$H,0),1))","v":""},{"$f":"IF(AK268=\"\",\"\", INDEX(referentes!$AB$2:$AC$10,MATCH(DATOS_MIP_SS!AK268,referentes!$AC$2:$AC$10,0),1))","v":""},{"$f":"IF(AL268=\"\",\"\", INDEX(referentes!$AH:$AI,MATCH(DATOS_MIP_SS!AL268,referentes!$AI:$AI,0),1))","v":""},{"$f":"IF(AP268=\"\",\"\", INDEX(referentes!$AE$2:$AF$10,MATCH(DATOS_MIP_SS!AP268,referentes!$AF$2:$AF$10,0),1))","v":""},{"$f":"IF(AN268=\"\",\"\", INDEX(referentes!$AK$2:$AL$10,MATCH(DATOS_MIP_SS!AN268,referentes!$AL$2:$AL$10,0),1))","v":""},{"$f":"IF(AQ268=\"\",\"\", INDEX(referentes!J:K,MATCH(DATOS_MIP_SS!AQ268,referentes!$K:$K,0),1))","v":""},{"$f":"IF(AR268=\"\",\"\", INDEX(referentes!$M$2:$N$20,MATCH(DATOS_MIP_SS!AR268,referentes!$N$2:$N$20,0),1))","v":""},{"$f":"IF(AY268=\"\",\"\", INDEX('otras referencias'!O:P,MATCH(AY268,'otras referencias'!$O:$O,0),2))","v":""},null,null,null,null,null,{"$f":"IF(X268<>\"\",INDEX(referentes!$AN:$AR,MATCH(DATOS_MIP_SS!X268,referentes!$AO:$AO,0),5),\"\")","v":""}]
[null,null,null,"",{"$f":"IF(J269=\"\",\"\",CONCATENATE(AD269,DIGITADOR!$B$2,DIGITADOR!$M$1,J269))","v":""},{"$f":"IF(J269=\"\",\"\",CONCATENATE(DIGITADOR!$B$2,AD269,DIGITADOR!$M$1,J269,ROW()))","v":""},null,null,null,{"$f":"IF(X269=\"\",\"\", INDEX(referentes!$AN:$AR,MATCH(DATOS_MIP_SS!X269,referentes!$AO:$AO,0),1))","v":""},"",{"$f":"IF(AF269=\"\",\"\", INDEX(referentes!D:E,MATCH(DATOS_MIP_SS!AF269,referentes!$E:$E,0),1))","v":""},{"$f":"IF(AI269=\"\",\"\", INDEX(referentes!A:B,MATCH(DATOS_MIP_SS!AI269,referentes!$B:$B,0),1))","v":""},{"$f":"IF(AJ269=\"\",\"\", INDEX(referentes!G:H,MATCH(DATOS_MIP_SS!AJ269,referentes!$H:$H,0),1))","v":""},{"$f":"IF(AK269=\"\",\"\", INDEX(referentes!$AB$2:$AC$10,MATCH(DATOS_MIP_SS!AK269,referentes!$AC$2:$AC$10,0),1))","v":""},{"$f":"IF(AL269=\"\",\"\", INDEX(referentes!$AH:$AI,MATCH(DATOS_MIP_SS!AL269,referentes!$AI:$AI,0),1))","v":""},{"$f":"IF(AP269=\"\",\"\", INDEX(referentes!$AE$2:$AF$10,MATCH(DATOS_MIP_SS!AP269,referentes!$AF$2:$AF$10,0),1))","v":""},{"$f":"IF(AN269=\"\",\"\", INDEX(referentes!$AK$2:$AL$10,MATCH(DATOS_MIP_SS!AN269,referentes!$AL$2:$AL$10,0),1))","v":""},{"$f":"IF(AQ269=\"\",\"\", INDEX(referentes!J:K,MATCH(DATOS_MIP_SS!AQ269,referentes!$K:$K,0),1))","v":""},{"$f":"IF(AR269=\"\",\"\", INDEX(referentes!$M$2:$N$20,MATCH(DATOS_MIP_SS!AR269,referentes!$N$2:$N$20,0),1))","v":""},{"$f":"IF(AY269=\"\",\"\", INDEX('otras referencias'!O:P,MATCH(AY269,'otras referencias'!$O:$O,0),2))","v":""},null,null,null,null,null,{"$f":"IF(X269<>\"\",INDEX(referentes!$AN:$AR,MATCH(DATOS_MIP_SS!X269,referentes!$AO:$AO,0),5),\"\")","v":""}]
[null,null,null,"",{"$f":"IF(J270=\"\",\"\",CONCATENATE(AD270,DIGITADOR!$B$2,DIGITADOR!$M$1,J270))","v":""},{"$f":"IF(J270=\"\",\"\",CONCATENATE(DIGITADOR!$B$2,AD270,DIGITADOR!$M$1,J270,ROW()))","v":""},null,null,null,{"$f":"IF(X270=\"\",\"\", INDEX(referentes!$AN:$AR,MATCH(DATOS_MIP_SS!X270,referentes!$AO:$AO,0),1))","v":""},"",{"$f":"IF(AF270=\"\",\"\", INDEX(referentes!D:E,MATCH(DATOS_MIP_SS!AF270,referentes!$E:$E,0),1))","v":""},{"$f":"IF(AI270=\"\",\"\", INDEX(referentes!A:B,MATCH(DATOS_MIP_SS!AI270,referentes!$B:$B,0),1))","v":""},{"$f":"IF(AJ270=\"\",\"\", INDEX(referentes!G:H,MATCH(DATOS_MIP_SS!AJ270,referentes!$H:$H,0),1))","v":""},{"$f":"IF(AK270=\"\",\"\", INDEX(referentes!$AB$2:$AC$10,MATCH(DATOS_MIP_SS!AK270,referentes!$AC$2:$AC$10,0),1))","v":""},{"$f":"IF(AL270=\"\",\"\", INDEX(referentes!$AH:$AI,MATCH(DATOS_MIP_SS!AL270,referentes!$AI:$AI,0),1))","v":""},{"$f":"IF(AP270=\"\",\"\", INDEX(referentes!$AE$2:$AF$10,MATCH(DATOS_MIP_SS!AP270,referentes!$AF$2:$AF$10,0),1))","v":""},{"$f":"IF(AN270=\"\",\"\", INDEX(referentes!$AK$2:$AL$10,MATCH(DATOS_MIP_SS!AN270,referentes!$AL$2:$AL$10,0),1))","v":""},{"$f":"IF(AQ270=\"\",\"\", INDEX(referentes!J:K,MATCH(DATOS_MIP_SS!AQ270,referentes!$K:$K,0),1))","v":""},{"$f":"IF(AR270=\"\",\"\", INDEX(referentes!$M$2:$N$20,MATCH(DATOS_MIP_SS!AR270,referentes!$N$2:$N$20,0),1))","v":""},{"$f":"IF(AY270=\"\",\"\", INDEX('otras referencias'!O:P,MATCH(AY270,'otras referencias'!$O:$O,0),2))","v":""},null,null,null,null,null,{"$f":"IF(X270<>\"\",INDEX(referentes!$AN:$AR,MATCH(DATOS_MIP_SS!X270,referentes!$AO:$AO,0),5),\"\")","v":""}]
[null,null,null,"",{"$f":"IF(J271=\"\",\"\",CONCATENATE(AD271,DIGITADOR!$B$2,DIGITADOR!$M$1,J271))","v":""},{"$f":"IF(J271=\"\",\"\",CONCATENATE(DIGITADOR!$B$2,AD271,DIGITADOR!$M$1,J271,ROW()))","v":""},null,null,null,{"$f":"IF(X271=\"\",\"\", INDEX(referentes!$AN:$AR,MATCH(DATOS_MIP_SS!X271,referentes!$AO:$AO,0),1))","v":""},"",{"$f":"IF(AF271=\"\",\"\", INDEX(referentes!D:E,MATCH(DATOS_MIP_SS!AF271,referentes!$E:$E,0),1))","v":""},{"$f":"IF(AI271=\"\",\"\", INDEX(referentes!A:B,MATCH(DATOS_MIP_SS!AI271,referentes!$B:$B,0),1))","v":""},{"$f":"IF(AJ271=\"\",\"\", INDEX(referentes!G:H,MATCH(DATOS_MIP_SS!AJ271,referentes!$H:$H,0),1))","v":""},{"$f":"IF(AK271=\"\",\"\", INDEX(referentes!$AB$2:$AC$10,MATCH(DATOS_MIP_SS!AK271,referentes!$AC$2:$AC$10,0),1))","v":""},{"$f":"IF(AL271=\"\",\"\", INDEX(referentes!$AH:$AI,MATCH(DATOS_MIP_SS!AL271,referentes!$AI:$AI,0),1))","v":""},{"$f":"IF(AP271=\"\",\"\", INDEX(referentes!$AE$2:$AF$10,MATCH(DATOS_MIP_SS!AP271,referentes!$AF$2:$AF$10,0),1))","v":""},{"$f":"IF(AN271=\"\",\"\", INDEX(referentes!$AK$2:$AL$10,MATCH(DATOS_MIP_SS!AN271,referentes!$AL$2:$AL$10,0),1))","v":""},{"$f":"IF(AQ271=\"\",\"\", INDEX(referentes!J:K,MATCH(DATOS_MIP_SS!AQ271,referentes!$K:$K,0),1))","v":""},{"$f":"IF(AR271=\"\",\"\", INDEX(referentes!$M$2:$N$20,MATCH(DATOS_MIP_SS!AR271,referentes!$N$2:$N$20,0),1))","v":""},{"$f":"IF(AY271=\"\",\"\", INDEX('otras referencias'!O:P,MATCH(AY271,'otras referencias'!$O:$O,0),2))","v":""},null,null,null,null,null,{"$f":"IF(X271<>\"\",INDEX(referentes!$AN:$AR,MATCH(DATOS_MIP_SS!X271,referentes!$AO:$AO,0),5),\"\")","v":""}]
[null,null,null,"",{"$f":"IF(J272=\"\",\"\",CONCATENATE(AD272,DIGITADOR!$B$2,DIGITADOR!$M$1,J272))","v":""},{"$f":"IF(J272=\"\",\"\",CONCATENATE(DIGITADOR!$B$2,AD272,DIGITADOR!$M$1,J272,ROW()))","v":""},null,null,null,{"$f":"IF(X272=\"\",\"\", INDEX(referentes!$AN:$AR,MATCH(DATOS_MIP_SS!X272,referentes!$AO:$AO,0),1))","v":""},"",{"$f":"IF(AF272=\"\",\"\", INDEX(referentes!D:E,MATCH(DATOS_MIP_SS!AF272,referentes!$E:$E,0),1))","v":""},{"$f":"IF(AI272=\"\",\"\", INDEX(referentes!A:B,MATCH(DATOS_MIP_SS!AI272,referentes!$B:$B,0),1))","v":""},{"$f":"IF(AJ272=\"\",\"\", INDEX(referentes!G:H,MATCH(DATOS_MIP_SS!AJ272,referentes!$H:$H,0),1))","v":""},{"$f":"IF(AK272=\"\",\"\", INDEX(referentes!$AB$2:$AC$10,MATCH(DATOS_MIP_SS!AK272,referentes!$AC$2:$AC$10,0),1))","v":""},{"$f":"IF(AL272=\"\",\"\", INDEX(referentes!$AH:$AI,MATCH(DATOS_MIP_SS!AL272,referentes!$AI:$AI,0),1))","v":""},{"$f":"IF(AP272=\"\",\"\", INDEX(referentes!$AE$2:$AF$10,MATCH(DATOS_MIP_SS!AP272,referentes!$AF$2:$AF$10,0),1))","v":""},{"$f":"IF(AN272=\"\",\"\", INDEX(referentes!$AK$2:$AL$10,MATCH(DATOS_MIP_SS!AN272,referentes!$AL$2:$AL$10,0),1))","v":""},{"$f":"IF(AQ272=\"\",\"\", INDEX(referentes!J:K,MATCH(DATOS_MIP_SS!AQ272,referentes!$K:$K,0),1))","v":""},{"$f":"IF(AR272=\"\",\"\", INDEX(referentes!$M$2:$N$20,MATCH(DATOS_MIP_SS!AR272,referentes!$N$2:$N$20,0),1))","v":""},{"$f":"IF(AY272=\"\",\"\", INDEX('otras referencias'!O:P,MATCH(AY272,'otras referencias'!$O:$O,0),2))","v":""},null,null,null,null,null,{"$f":"IF(X272<>\"\",INDEX(referentes!$AN:$AR,MATCH(DATOS_MIP_SS!X272,referentes!$AO:$AO,0),5),\"\")","v":""}]
[null,null,null,"",{"$f":"IF(J273=\"\",\"\",CONCATENATE(AD273,DIGITADOR!$B$2,DIGITADOR!$M$1,J273))","v":""},{"$f":"IF(J273=\"\",\"\",CONCATENATE(DIGITADOR!$B$2,AD273,DIGITADOR!$M$1,J273,ROW()))","v":""},null,null,null,{"$f":"IF(X273=\"\",\"\", INDEX(referentes!$AN:$AR,MATCH(DATOS_MIP_SS!X273,referentes!$AO:$AO,0),1))","v":""},"",{"$f":"IF(AF273=\"\",\"\", INDEX(referentes!D:E,MATCH(DATOS_MIP_SS!AF273,referentes!$E:$E,0),1))","v":""},{"$f":"IF(AI273=\"\",\"\", INDEX(referentes!A:B,MATCH(DATOS_MIP_SS!AI273,referentes!$B:$B,0),1))","v":""},{"$f":"IF(AJ273=\"\",\"\", INDEX(referentes!G:H,MATCH(DATOS_MIP_SS!AJ273,referentes!$H:$H,0),1))","v":""},{"$f":"IF(AK273=\"\",\"\", INDEX(referentes!$AB$2:$AC$10,MATCH(DATOS_MIP_SS!AK273,referentes!$AC$2:$AC$10,0),1))","v":""},{"$f":"IF(AL273=\"\",\"\", INDEX(referentes!$AH:$AI,MATCH(DATOS_MIP_SS!AL273,referentes!$AI:$AI,0),1))","v":""},{"$f":"IF(AP273=\"\",\"\", INDEX(referentes!$AE$2:$AF$10,MATCH(DATOS_MIP_SS!AP273,referentes!$AF$2:$AF$10,0),1))","v":""},{"$f":"IF(AN273=\"\",\"\", INDEX(referentes!$AK$2:$AL$10,MATCH(DATOS_MIP_SS!AN273,referentes!$AL$2:$AL$10,0),1))","v":""},{"$f":"IF(AQ273=\"\",\"\", INDEX(referentes!J:K,MATCH(DATOS_MIP_SS!AQ273,referentes!$K:$K,0),1))","v":""},{"$f":"IF(AR273=\"\",\"\", INDEX(referentes!$M$2:$N$20,MATCH(DATOS_MIP_SS!AR273,referentes!$N$2:$N$20,0),1))","v":""},{"$f":"IF(AY273=\"\",\"\", INDEX('otras referencias'!O:P,MATCH(AY273,'otras referencias'!$O:$O,0),2))","v":""},null,null,null,null,null,{"$f":"IF(X273<>\"\",INDEX(referentes!$AN:$AR,MATCH(DATOS_MIP_SS!X273,referentes!$AO:$AO,0),5),\"\")","v":""}]
[null,null,null,"",{"$f":"IF(J274=\"\",\"\",CONCATENATE(AD274,DIGITADOR!$B$2,DIGITADOR!$M$1,J274))","v":""},{"$f":"IF(J274=\"\",\"\",CONCATENATE(DIGITADOR!$B$2,AD274,DIGITADOR!$M$1,J274,ROW()))","v":""},null,null,null,{"$f":"IF(X274=\"\",\"\", INDEX(referentes!$AN:$AR,MATCH(DATOS_MIP_SS!X274,referentes!$AO:$AO,0),1))","v":""},"",{"$f":"IF(AF274=\"\",\"\", INDEX(referentes!D:E,MATCH(DATOS_MIP_SS!AF274,referentes!$E:$E,0),1))","v":""},{"$f":"IF(AI274=\"\",\"\", INDEX(referentes!A:B,MATCH(DATOS_MIP_SS!AI274,referentes!$B:$B,0),1))","v":""},{"$f":"IF(AJ274=\"\",\"\", INDEX(referentes!G:H,MATCH(DATOS_MIP_SS!AJ274,referentes!$H:$H,0),1))","v":""},{"$f":"IF(AK274=\"\",\"\", INDEX(referentes!$AB$2:$AC$10,MATCH(DATOS_MIP_SS!AK274,referentes!$AC$2:$AC$10,0),1))","v":""},{"$f":"IF(AL274=\"\",\"\", INDEX(referentes!$AH:$AI,MATCH(DATOS_MIP_SS!AL274,referentes!$AI:$AI,0),1))","v":""},{"$f":"IF(AP274=\"\",\"\", INDEX(referentes!$AE$2:$AF$10,MATCH(DATOS_MIP_SS!AP274,referentes!$AF$2:$AF$10,0),1))","v":""},{"$f":"IF(AN274=\"\",\"\", INDEX(referentes!$AK$2:$AL$10,MATCH(DATOS_MIP_SS!AN274,referentes!$AL$2:$AL$10,0),1))","v":""},{"$f":"IF(AQ274=\"\",\"\", INDEX(referentes!J:K,MATCH(DATOS_MIP_SS!AQ274,referentes!$K:$K,0),1))","v":""},{"$f":"IF(AR274=\"\",\"\", INDEX(referentes!$M$2:$N$20,MATCH(DATOS_MIP_SS!AR274,referentes!$N$2:$N$20,0),1))","v":""},{"$f":"IF(AY274=\"\",\"\", INDEX('otras referencias'!O:P,MATCH(AY274,'otras referencias'!$O:$O,0),2))","v":""},null,null,null,null,null,{"$f":"IF(X274<>\"\",INDEX(referentes!$AN:$AR,MATCH(DATOS_MIP_SS!X274,referentes!$AO:$AO,0),5),\"\")","v":""}]
[null,null,null,"",{"$f":"IF(J275=\"\",\"\",CONCATENATE(AD275,DIGITADOR!$B$2,DIGITADOR!$M$1,J275))","v":""},{"$f":"IF(J275=\"\",\"\",CONCATENATE(DIGITADOR!$B$2,AD275,DIGITADOR!$M$1,J275,ROW()))","v":""},null,null,null,{"$f":"IF(X275=\"\",\"\", INDEX(referentes!$AN:$AR,MATCH(DATOS_MIP_SS!X275,referentes!$AO:$AO,0),1))","v":""},"",{"$f":"IF(AF275=\"\",\"\", INDEX(referentes!D:E,MATCH(DATOS_MIP_SS!AF275,referentes!$E:$E,0),1))","v":""},{"$f":"IF(AI275=\"\",\"\", INDEX(referentes!A:B,MATCH(DATOS_MIP_SS!AI275,referentes!$B:$B,0),1))","v":""},{"$f":"IF(AJ275=\"\",\"\", INDEX(referentes!G:H,MATCH(DATOS_MIP_SS!AJ275,referentes!$H:$H,0),1))","v":""},{"$f":"IF(AK275=\"\",\"\", INDEX(referentes!$AB$2:$AC$10,MATCH(DATOS_MIP_SS!AK275,referentes!$AC$2:$AC$10,0),1))","v":""},{"$f":"IF(AL275=\"\",\"\", INDEX(referentes!$AH:$AI,MATCH(DATOS_MIP_SS!AL275,referentes!$AI:$AI,0),1))","v":""},{"$f":"IF(AP275=\"\",\"\", INDEX(referentes!$AE$2:$AF$10,MATCH(DATOS_MIP_SS!AP275,referentes!$AF$2:$AF$10,0),1))","v":""},{"$f":"IF(AN275=\"\",\"\", INDEX(referentes!$AK$2:$AL$10,MATCH(DATOS_MIP_SS!AN275,referentes!$AL$2:$AL$10,0),1))","v":""},{"$f":"IF(AQ275=\"\",\"\", INDEX(referentes!J:K,MATCH(DATOS_MIP_SS!AQ275,referentes!$K:$K,0),1))","v":""},{"$f":"IF(AR275=\"\",\"\", INDEX(referentes!$M$2:$N$20,MATCH(DATOS_MIP_SS!AR275,referentes!$N$2:$N$20,0),1))","v":""},{"$f":"IF(AY275=\"\",\"\", INDEX('otras referencias'!O:P,MATCH(AY275,'otras referencias'!$O:$O,0),2))","v":""},null,null,null,null,null,{"$f":"IF(X275<>\"\",INDEX(referentes!$AN:$AR,MATCH(DATOS_MIP_SS!X275,referentes!$AO:$AO,0),5),\"\")","v":""}]
[null,null,null,"",{"$f":"IF(J276=\"\",\"\",CONCATENATE(AD276,DIGITADOR!$B$2,DIGITADOR!$M$1,J276))","v":""},{"$f":"IF(J276=\"\",\"\",CONCATENATE(DIGITADOR!$B$2,AD276,DIGITADOR!$M$1,J276,ROW()))","v":""},null,null,null,{"$f":"IF(X276=\"\",\"\", INDEX(referentes!$AN:$AR,MATCH(DATOS_MIP_SS!X276,referentes!$AO:$AO,0),1))","v":""},"",{"$f":"IF(AF276=\"\",\"\", INDEX(referentes!D:E,MATCH(DATOS_MIP_SS!AF276,referentes!$E:$E,0),1))","v":""},{"$f":"IF(AI276=\"\",\"\", INDEX(referentes!A:B,MATCH(DATOS_MIP_SS!AI276,referentes!$B:$B,0),1))","v":""},{"$f":"IF(AJ276=\"\",\"\", INDEX(referentes!G:H,MATCH(DATOS_MIP_SS!AJ276,referentes!$H:$H,0),1))","v":""},{"$f":"IF(AK276=\"\",\"\", INDEX(referentes!$AB$2:$AC$10,MATCH(DATOS_MIP_SS!AK276,referentes!$AC$2:$AC$10,0),1))","v":""},{"$f":"IF(AL276=\"\",\"\", INDEX(referentes!$AH:$AI,MATCH(DATOS_MIP_SS!AL276,referentes!$AI:$AI,0),1))","v":""},{"$f":"IF(AP276=\"\",\"\", INDEX(referentes!$AE$2:$AF$10,MATCH(DATOS_MIP_SS!AP276,referentes!$AF$2:$AF$10,0),1))","v":""},{"$f":"IF(AN276=\"\",\"\", INDEX(referentes!$AK$2:$AL$10,MATCH(DATOS_MIP_SS!AN276,referentes!$AL$2:$AL$10,0),1))","v":""},{"$f":"IF(AQ276=\"\",\"\", INDEX(referentes!J:K,MATCH(DATOS_MIP_SS!AQ276,referentes!$K:$K,0),1))","v":""},{"$f":"IF(AR276=\"\",\"\", INDEX(referentes!$M$2:$N$20,MATCH(DATOS_MIP_SS!AR276,referentes!$N$2:$N$20,0),1))","v":""},{"$f":"IF(AY276=\"\",\"\", INDEX('otras referencias'!O:P,MATCH(AY276,'otras referencias'!$O:$O,0),2))","v":""},null,null,null,null,null,{"$f":"IF(X276<>\"\",INDEX(referentes!$AN:$AR,MATCH(DATOS_MIP_SS!X276,referentes!$AO:$AO,0),5),\"\")","v":""}]
[null,null,null,"",{"$f":"IF(J277=\"\",\"\",CONCATENATE(AD277,DIGITADOR!$B$2,DIGITADOR!$M$1,J277))","v":""},{"$f":"IF(J277=\"\",\"\",CONCATENATE(DIGITADOR!$B$2,AD277,DIGITADOR!$M$1,J277,ROW()))","v":""},null,null,null,{"$f":"IF(X277=\"\",\"\", INDEX(referentes!$AN:$AR,MATCH(DATOS_MIP_SS!X277,referentes!$AO:$AO,0),1))","v":""},"",{"$f":"IF(AF277=\"\",\"\", INDEX(referentes!D:E,MATCH(DATOS_MIP_SS!AF277,referentes!$E:$E,0),1))","v":""},{"$f":"IF(AI277=\"\",\"\", INDEX(referentes!A:B,MATCH(DATOS_MIP_SS!AI277,referentes!$B:$B,0),1))","v":""},{"$f":"IF(AJ277=\"\",\"\", INDEX(referentes!G:H,MATCH(DATOS_MIP_SS!AJ277,referentes!$H:$H,0),1))","v":""},{"$f":"IF(AK277=\"\",\"\", INDEX(referentes!$AB$2:$AC$10,MATCH(DATOS_MIP_SS!AK277,referentes!$AC$2:$AC$10,0),1))","v":""},{"$f":"IF(AL277=\"\",\"\", INDEX(referentes!$AH:$AI,MATCH(DATOS_MIP_SS!AL277,referentes!$AI:$AI,0),1))","v":""},{"$f":"IF(AP277=\"\",\"\", INDEX(referentes!$AE$2:$AF$10,MATCH(DATOS_MIP_SS!AP277,referentes!$AF$2:$AF$10,0),1))","v":""},{"$f":"IF(AN277=\"\",\"\", INDEX(referentes!$AK$2:$AL$10,MATCH(DATOS_MIP_SS!AN277,referentes!$AL$2:$AL$10,0),1))","v":""},{"$f":"IF(AQ277=\"\",\"\", INDEX(referentes!J:K,MATCH(DATOS_MIP_SS!AQ277,referentes!$K:$K,0),1))","v":""},{"$f":"IF(AR277=\"\",\"\", INDEX(referentes!$M$2:$N$20,MATCH(DATOS_MIP_SS!AR277,referentes!$N$2:$N$20,0),1))","v":""},{"$f":"IF(AY277=\"\",\"\", INDEX('otras referencias'!O:P,MATCH(AY277,'otras referencias'!$O:$O,0),2))","v":""},null,null,null,null,null,{"$f":"IF(X277<>\"\",INDEX(referentes!$AN:$AR,MATCH(DATOS_MIP_SS!X277,referentes!$AO:$AO,0),5),\"\")","v":""}]
[null,null,null,"",{"$f":"IF(J278=\"\",\"\",CONCATENATE(AD278,DIGITADOR!$B$2,DIGITADOR!$M$1,J278))","v":""},{"$f":"IF(J278=\"\",\"\",CONCATENATE(DIGITADOR!$B$2,AD278,DIGITADOR!$M$1,J278,ROW()))","v":""},null,null,null,{"$f":"IF(X278=\"\",\"\", INDEX(referentes!$AN:$AR,MATCH(DATOS_MIP_SS!X278,referentes!$AO:$AO,0),1))","v":""},"",{"$f":"IF(AF278=\"\",\"\", INDEX(referentes!D:E,MATCH(DATOS_MIP_SS!AF278,referentes!$E:$E,0),1))","v":""},{"$f":"IF(AI278=\"\",\"\", INDEX(referentes!A:B,MATCH(DATOS_MIP_SS!AI278,referentes!$B:$B,0),1))","v":""},{"$f":"IF(AJ278=\"\",\"\", INDEX(referentes!G:H,MATCH(DATOS_MIP_SS!AJ278,referentes!$H:$H,0),1))","v":""},{"$f":"IF(AK278=\"\",\"\", INDEX(referentes!$AB$2:$AC$10,MATCH(DATOS_MIP_SS!AK278,referentes!$AC$2:$AC$10,0),1))","v":""},{"$f":"IF(AL278=\"\",\"\", INDEX(referentes!$AH:$AI,MATCH(DATOS_MIP_SS!AL278,referentes!$AI:$AI,0),1))","v":""},{"$f":"IF(AP278=\"\",\"\", INDEX(referentes!$AE$2:$AF$10,MATCH(DATOS_MIP_SS!AP278,referentes!$AF$2:$AF$10,0),1))","v":""},{"$f":"IF(AN278=\"\",\"\", INDEX(referentes!$AK$2:$AL$10,MATCH(DATOS_MIP_SS!AN278,referentes!$AL$2:$AL$10,0),1))","v":""},{"$f":"IF(AQ278=\"\",\"\", INDEX(referentes!J:K,MATCH(DATOS_MIP_SS!AQ278,referentes!$K:$K,0),1))","v":""},{"$f":"IF(AR278=\"\",\"\", INDEX(referentes!$M$2:$N$20,MATCH(DATOS_MIP_SS!AR278,referentes!$N$2:$N$20,0),1))","v":""},{"$f":"IF(AY278=\"\",\"\", INDEX('otras referencias'!O:P,MATCH(AY278,'otras referencias'!$O:$O,0),2))","v":""},null,null,null,null,null,{"$f":"IF(X278<>\"\",INDEX(referentes!$AN:$AR,MATCH(DATOS_MIP_SS!X278,referentes!$AO:$AO,0),5),\"\")","v":""}]
[null,null,null,"",{"$f":"IF(J279=\"\",\"\",CONCATENATE(AD279,DIGITADOR!$B$2,DIGITADOR!$M$1,J279))","v":""},{"$f":"IF(J279=\"\",\"\",CONCATENATE(DIGITADOR!$B$2,AD279,DIGITADOR!$M$1,J279,ROW()))","v":""},null,null,null,{"$f":"IF(X279=\"\",\"\", INDEX(referentes!$AN:$AR,MATCH(DATOS_MIP_SS!X279,referentes!$AO:$AO,0),1))","v":""},"",{"$f":"IF(AF279=\"\",\"\", INDEX(referentes!D:E,MATCH(DATOS_MIP_SS!AF279,referentes!$E:$E,0),1))","v":""},{"$f":"IF(AI279=\"\",\"\", INDEX(referentes!A:B,MATCH(DATOS_MIP_SS!AI279,referentes!$B:$B,0),1))","v":""},{"$f":"IF(AJ279=\"\",\"\", INDEX(referentes!G:H,MATCH(DATOS_MIP_SS!AJ279,referentes!$H:$H,0),1))","v":""},{"$f":"IF(AK279=\"\",\"\", INDEX(referentes!$AB$2:$AC$10,MATCH(DATOS_MIP_SS!AK279,referentes!$AC$2:$AC$10,0),1))","v":""},{"$f":"IF(AL279=\"\",\"\", INDEX(referentes!$AH:$AI,MATCH(DATOS_MIP_SS!AL279,referentes!$AI:$AI,0),1))","v":""},{"$f":"IF(AP279=\"\",\"\", INDEX(referentes!$AE$2:$AF$10,MATCH(DATOS_MIP_SS!AP279,referentes!$AF$2:$AF$10,0),1))","v":""},{"$f":"IF(AN279=\"\",\"\", INDEX(referentes!$AK$2:$AL$10,MATCH(DATOS_MIP_SS!AN279,referentes!$AL$2:$AL$10,0),1))","v":""},{"$f":"IF(AQ279=\"\",\"\", INDEX(referentes!J:K,MATCH(DATOS_MIP_SS!AQ279,referentes!$K:$K,0),1))","v":""},{"$f":"IF(AR279=\"\",\"\", INDEX(referentes!$M$2:$N$20,MATCH(DATOS_MIP_SS!AR279,referentes!$N$2:$N$20,0),1))","v":""},{"$f":"IF(AY279=\"\",\"\", INDEX('otras referencias'!O:P,MATCH(AY279,'otras referencias'!$O:$O,0),2))","v":""},null,null,null,null,null,{"$f":"IF(X279<>\"\",INDEX(referentes!$AN:$AR,MATCH(DATOS_MIP_SS!X279,referentes!$AO:$AO,0),5),\"\")","v":""}]
[null,null,null,"",{"$f":"IF(J280=\"\",\"\",CONCATENATE(AD280,DIGITADOR!$B$2,DIGITADOR!$M$1,J280))","v":""},{"$f":"IF(J280=\"\",\"\",CONCATENATE(DIGITADOR!$B$2,AD280,DIGITADOR!$M$1,J280,ROW()))","v":""},null,null,null,{"$f":"IF(X280=\"\",\"\", INDEX(referentes!$AN:$AR,MATCH(DATOS_MIP_SS!X280,referentes!$AO:$AO,0),1))","v":""},"",{"$f":"IF(AF280=\"\",\"\", INDEX(referentes!D:E,MATCH(DATOS_MIP_SS!AF280,referentes!$E:$E,0),1))","v":""},{"$f":"IF(AI280=\"\",\"\", INDEX(referentes!A:B,MATCH(DATOS_MIP_SS!AI280,referentes!$B:$B,0),1))","v":""},{"$f":"IF(AJ280=\"\",\"\", INDEX(referentes!G:H,MATCH(DATOS_MIP_SS!AJ280,referentes!$H:$H,0),1))","v":""},{"$f":"IF(AK280=\"\",\"\", INDEX(referentes!$AB$2:$AC$10,MATCH(DATOS_MIP_SS!AK280,referentes!$AC$2:$AC$10,0),1))","v":""},{"$f":"IF(AL280=\"\",\"\", INDEX(referentes!$AH:$AI,MATCH(DATOS_MIP_SS!AL280,referentes!$AI:$AI,0),1))","v":""},{"$f":"IF(AP280=\"\",\"\", INDEX(referentes!$AE$2:$AF$10,MATCH(DATOS_MIP_SS!AP280,referentes!$AF$2:$AF$10,0),1))","v":""},{"$f":"IF(AN280=\"\",\"\", INDEX(referentes!$AK$2:$AL$10,MATCH(DATOS_MIP_SS!AN280,referentes!$AL$2:$AL$10,0),1))","v":""},{"$f":"IF(AQ280=\"\",\"\", INDEX(referentes!J:K,MATCH(DATOS_MIP_SS!AQ280,referentes!$K:$K,0),1))","v":""},{"$f":"IF(AR280=\"\",\"\", INDEX(referentes!$M$2:$N$20,MATCH(DATOS_MIP_SS!AR280,referentes!$N$2:$N$20,0),1))","v":""},{"$f":"IF(AY280=\"\",\"\", INDEX('otras referencias'!O:P,MATCH(AY280,'otras referencias'!$O:$O,0),2))","v":""},null,null,null,null,null,{"$f":"IF(X280<>\"\",INDEX(referentes!$AN:$AR,MATCH(DATOS_MIP_SS!X280,referentes!$AO:$AO,0),5),\"\")","v":""}]
[null,null,null,"",{"$f":"IF(J281=\"\",\"\",CONCATENATE(AD281,DIGITADOR!$B$2,DIGITADOR!$M$1,J281))","v":""},{"$f":"IF(J281=\"\",\"\",CONCATENATE(DIGITADOR!$B$2,AD281,DIGITADOR!$M$1,J281,ROW()))","v":""},null,null,null,{"$f":"IF(X281=\"\",\"\", INDEX(referentes!$AN:$AR,MATCH(DATOS_MIP_SS!X281,referentes!$AO:$AO,0),1))","v":""},"",{"$f":"IF(AF281=\"\",\"\", INDEX(referentes!D:E,MATCH(DATOS_MIP_SS!AF281,referentes!$E:$E,0),1))","v":""},{"$f":"IF(AI281=\"\",\"\", INDEX(referentes!A:B,MATCH(DATOS_MIP_SS!AI281,referentes!$B:$B,0),1))","v":""},{"$f":"IF(AJ281=\"\",\"\", INDEX(referentes!G:H,MATCH(DATOS_MIP_SS!AJ281,referentes!$H:$H,0),1))","v":""},{"$f":"IF(AK281=\"\",\"\", INDEX(referentes!$AB$2:$AC$10,MATCH(DATOS_MIP_SS!AK281,referentes!$AC$2:$AC$10,0),1))","v":""},{"$f":"IF(AL281=\"\",\"\", INDEX(referentes!$AH:$AI,MATCH(DATOS_MIP_SS!AL281,referentes!$AI:$AI,0),1))","v":""},{"$f":"IF(AP281=\"\",\"\", INDEX(referentes!$AE$2:$AF$10,MATCH(DATOS_MIP_SS!AP281,referentes!$AF$2:$AF$10,0),1))","v":""},{"$f":"IF(AN281=\"\",\"\", INDEX(referentes!$AK$2:$AL$10,MATCH(DATOS_MIP_SS!AN281,referentes!$AL$2:$AL$10,0),1))","v":""},{"$f":"IF(AQ281=\"\",\"\", INDEX(referentes!J:K,MATCH(DATOS_MIP_SS!AQ281,referentes!$K:$K,0),1))","v":""},{"$f":"IF(AR281=\"\",\"\", INDEX(referentes!$M$2:$N$20,MATCH(DATOS_MIP_SS!AR281,referentes!$N$2:$N$20,0),1))","v":""},{"$f":"IF(AY281=\"\",\"\", INDEX('otras referencias'!O:P,MATCH(AY281,'otras referencias'!$O:$O,0),2))","v":""},null,null,null,null,null,{"$f":"IF(X281<>\"\",INDEX(referentes!$AN:$AR,MATCH(DATOS_MIP_SS!X281,referentes!$AO:$AO,0),5),\"\")","v":""}]
[null,null,null,"",{"$f":"IF(J282=\"\",\"\",CONCATENATE(AD282,DIGITADOR!$B$2,DIGITADOR!$M$1,J282))","v":""},{"$f":"IF(J282=\"\",\"\",CONCATENATE(DIGITADOR!$B$2,AD282,DIGITADOR!$M$1,J282,ROW()))","v":""},null,null,null,{"$f":"IF(X282=\"\",\"\", INDEX(referentes!$AN:$AR,MATCH(DATOS_MIP_SS!X282,referentes!$AO:$AO,0),1))","v":""},"",{"$f":"IF(AF282=\"\",\"\", INDEX(referentes!D:E,MATCH(DATOS_MIP_SS!AF282,referentes!$E:$E,0),1))","v":""},{"$f":"IF(AI282=\"\",\"\", INDEX(referentes!A:B,MATCH(DATOS_MIP_SS!AI282,referentes!$B:$B,0),1))","v":""},{"$f":"IF(AJ282=\"\",\"\", INDEX(referentes!G:H,MATCH(DATOS_MIP_SS!AJ282,referentes!$H:$H,0),1))","v":""},{"$f":"IF(AK282=\"\",\"\", INDEX(referentes!$AB$2:$AC$10,MATCH(DATOS_MIP_SS!AK282,referentes!$AC$2:$AC$10,0),1))","v":""},{"$f":"IF(AL282=\"\",\"\", INDEX(referentes!$AH:$AI,MATCH(DATOS_MIP_SS!AL282,referentes!$AI:$AI,0),1))","v":""},{"$f":"IF(AP282=\"\",\"\", INDEX(referentes!$AE$2:$AF$10,MATCH(DATOS_MIP_SS!AP282,referentes!$AF$2:$AF$10,0),1))","v":""},{"$f":"IF(AN282=\"\",\"\", INDEX(referentes!$AK$2:$AL$10,MATCH(DATOS_MIP_SS!AN282,referentes!$AL$2:$AL$10,0),1))","v":""},{"$f":"IF(AQ282=\"\",\"\", INDEX(referentes!J:K,MATCH(DATOS_MIP_SS!AQ282,referentes!$K:$K,0),1))","v":""},{"$f":"IF(AR282=\"\",\"\", INDEX(referentes!$M$2:$N$20,MATCH(DATOS_MIP_SS!AR282,referentes!$N$2:$N$20,0),1))","v":""},{"$f":"IF(AY282=\"\",\"\", INDEX('otras referencias'!O:P,MATCH(AY282,'otras referencias'!$O:$O,0),2))","v":""},null,null,null,null,null,{"$f":"IF(X282<>\"\",INDEX(referentes!$AN:$AR,MATCH(DATOS_MIP_SS!X282,referentes!$AO:$AO,0),5),\"\")","v":""}]
[null,null,null,"",{"$f":"IF(J283=\"\",\"\",CONCATENATE(AD283,DIGITADOR!$B$2,DIGITADOR!$M$1,J283))","v":""},{"$f":"IF(J283=\"\",\"\",CONCATENATE(DIGITADOR!$B$2,AD283,DIGITADOR!$M$1,J283,ROW()))","v":""},null,null,null,{"$f":"IF(X283=\"\",\"\", INDEX(referentes!$AN:$AR,MATCH(DATOS_MIP_SS!X283,referentes!$AO:$AO,0),1))","v":""},"",{"$f":"IF(AF283=\"\",\"\", INDEX(referentes!D:E,MATCH(DATOS_MIP_SS!AF283,referentes!$E:$E,0),1))","v":""},{"$f":"IF(AI283=\"\",\"\", INDEX(referentes!A:B,MATCH(DATOS_MIP_SS!AI283,referentes!$B:$B,0),1))","v":""},{"$f":"IF(AJ283=\"\",\"\", INDEX(referentes!G:H,MATCH(DATOS_MIP_SS!AJ283,referentes!$H:$H,0),1))","v":""},{"$f":"IF(AK283=\"\",\"\", INDEX(referentes!$AB$2:$AC$10,MATCH(DATOS_MIP_SS!AK283,referentes!$AC$2:$AC$10,0),1))","v":""},{"$f":"IF(AL283=\"\",\"\", INDEX(referentes!$AH:$AI,MATCH(DATOS_MIP_SS!AL283,referentes!$AI:$AI,0),1))","v":""},{"$f":"IF(AP283=\"\",\"\", INDEX(referentes!$AE$2:$AF$10,MATCH(DATOS_MIP_SS!AP283,referentes!$AF$2:$AF$10,0),1))","v":""},{"$f":"IF(AN283=\"\",\"\", INDEX(referentes!$AK$2:$AL$10,MATCH(DATOS_MIP_SS!AN283,referentes!$AL$2:$AL$10,0),1))","v":""},{"$f":"IF(AQ283=\"\",\"\", INDEX(referentes!J:K,MATCH(DATOS_MIP_SS!AQ283,referentes!$K:$K,0),1))","v":""},{"$f":"IF(AR283=\"\",\"\", INDEX(referentes!$M$2:$N$20,MATCH(DATOS_MIP_SS!AR283,referentes!$N$2:$N$20,0),1))","v":""},{"$f":"IF(AY283=\"\",\"\", INDEX('otras referencias'!O:P,MATCH(AY283,'otras referencias'!$O:$O,0),2))","v":""},null,null,null,null,null,{"$f":"IF(X283<>\"\",INDEX(referentes!$AN:$AR,MATCH(DATOS_MIP_SS!X283,referentes!$AO:$AO,0),5),\"\")","v":""}]
[null,null,null,"",{"$f":"IF(J284=\"\",\"\",CONCATENATE(AD284,DIGITADOR!$B$2,DIGITADOR!$M$1,J284))","v":""},{"$f":"IF(J284=\"\",\"\",CONCATENATE(DIGITADOR!$B$2,AD284,DIGITADOR!$M$1,J284,ROW()))","v":""},null,null,null,{"$f":"IF(X284=\"\",\"\", INDEX(referentes!$AN:$AR,MATCH(DATOS_MIP_SS!X284,referentes!$AO:$AO,0),1))","v":""},"",{"$f":"IF(AF284=\"\",\"\", INDEX(referentes!D:E,MATCH(DATOS_MIP_SS!AF284,referentes!$E:$E,0),1))","v":""},{"$f":"IF(AI284=\"\",\"\", INDEX(referentes!A:B,MATCH(DATOS_MIP_SS!AI284,referentes!$B:$B,0),1))","v":""},{"$f":"IF(AJ284=\"\",\"\", INDEX(referentes!G:H,MATCH(DATOS_MIP_SS!AJ284,referentes!$H:$H,0),1))","v":""},{"$f":"IF(AK284=\"\",\"\", INDEX(referentes!$AB$2:$AC$10,MATCH(DATOS_MIP_SS!AK284,referentes!$AC$2:$AC$10,0),1))","v":""},{"$f":"IF(AL284=\"\",\"\", INDEX(referentes!$AH:$AI,MATCH(DATOS_MIP_SS!AL284,referentes!$AI:$AI,0),1))","v":""},{"$f":"IF(AP284=\"\",\"\", INDEX(referentes!$AE$2:$AF$10,MATCH(DATOS_MIP_SS!AP284,referentes!$AF$2:$AF$10,0),1))","v":""},{"$f":"IF(AN284=\"\",\"\", INDEX(referentes!$AK$2:$AL$10,MATCH(DATOS_MIP_SS!AN284,referentes!$AL$2:$AL$10,0),1))","v":""},{"$f":"IF(AQ284=\"\",\"\", INDEX(referentes!J:K,MATCH(DATOS_MIP_SS!AQ284,referentes!$K:$K,0),1))","v":""},{"$f":"IF(AR284=\"\",\"\", INDEX(referentes!$M$2:$N$20,MATCH(DATOS_MIP_SS!AR284,referentes!$N$2:$N$20,0),1))","v":""},{"$f":"IF(AY284=\"\",\"\", INDEX('otras referencias'!O:P,MATCH(AY284,'otras referencias'!$O:$O,0),2))","v":""},null,null,null,null,null,{"$f":"IF(X284<>\"\",INDEX(referentes!$AN:$AR,MATCH(DATOS_MIP_SS!X284,referentes!$AO:$AO,0),5),\"\")","v":""}]
[null,null,null,"",{"$f":"IF(J285=\"\",\"\",CONCATENATE(AD285,DIGITADOR!$B$2,DIGITADOR!$M$1,J285))","v":""},{"$f":"IF(J285=\"\",\"\",CONCATENATE(DIGITADOR!$B$2,AD285,DIGITADOR!$M$1,J285,ROW()))","v":""},null,null,null,{"$f":"IF(X285=\"\",\"\", INDEX(referentes!$AN:$AR,MATCH(DATOS_MIP_SS!X285,referentes!$AO:$AO,0),1))","v":""},"",{"$f":"IF(AF285=\"\",\"\", INDEX(referentes!D:E,MATCH(DATOS_MIP_SS!AF285,referentes!$E:$E,0),1))","v":""},{"$f":"IF(AI285=\"\",\"\", INDEX(referentes!A:B,MATCH(DATOS_MIP_SS!AI285,referentes!$B:$B,0),1))","v":""},{"$f":"IF(AJ285=\"\",\"\", INDEX(referentes!G:H,MATCH(DATOS_MIP_SS!AJ285,referentes!$H:$H,0),1))","v":""},{"$f":"IF(AK285=\"\",\"\", INDEX(referentes!$AB$2:$AC$10,MATCH(DATOS_MIP_SS!AK285,referentes!$AC$2:$AC$10,0),1))","v":""},{"$f":"IF(AL285=\"\",\"\", INDEX(referentes!$AH:$AI,MATCH(DATOS_MIP_SS!AL285,referentes!$AI:$AI,0),1))","v":""},{"$f":"IF(AP285=\"\",\"\", INDEX(referentes!$AE$2:$AF$10,MATCH(DATOS_MIP_SS!AP285,referentes!$AF$2:$AF$10,0),1))","v":""},{"$f":"IF(AN285=\"\",\"\", INDEX(referentes!$AK$2:$AL$10,MATCH(DATOS_MIP_SS!AN285,referentes!$AL$2:$AL$10,0),1))","v":""},{"$f":"IF(AQ285=\"\",\"\", INDEX(referentes!J:K,MATCH(DATOS_MIP_SS!AQ285,referentes!$K:$K,0),1))","v":""},{"$f":"IF(AR285=\"\",\"\", INDEX(referentes!$M$2:$N$20,MATCH(DATOS_MIP_SS!AR285,referentes!$N$2:$N$20,0),1))","v":""},{"$f":"IF(AY285=\"\",\"\", INDEX('otras referencias'!O:P,MATCH(AY285,'otras referencias'!$O:$O,0),2))","v":""},null,null,null,null,null,{"$f":"IF(X285<>\"\",INDEX(referentes!$AN:$AR,MATCH(DATOS_MIP_SS!X285,referentes!$AO:$AO,0),5),\"\")","v":""}]
[null,null,null,"",{"$f":"IF(J286=\"\",\"\",CONCATENATE(AD286,DIGITADOR!$B$2,DIGITADOR!$M$1,J286))","v":""},{"$f":"IF(J286=\"\",\"\",CONCATENATE(DIGITADOR!$B$2,AD286,DIGITADOR!$M$1,J286,ROW()))","v":""},null,null,null,{"$f":"IF(X286=\"\",\"\", INDEX(referentes!$AN:$AR,MATCH(DATOS_MIP_SS!X286,referentes!$AO:$AO,0),1))","v":""},"",{"$f":"IF(AF286=\"\",\"\", INDEX(referentes!D:E,MATCH(DATOS_MIP_SS!AF286,referentes!$E:$E,0),1))","v":""},{"$f":"IF(AI286=\"\",\"\", INDEX(referentes!A:B,MATCH(DATOS_MIP_SS!AI286,referentes!$B:$B,0),1))","v":""},{"$f":"IF(AJ286=\"\",\"\", INDEX(referentes!G:H,MATCH(DATOS_MIP_SS!AJ286,referentes!$H:$H,0),1))","v":""},{"$f":"IF(AK286=\"\",\"\", INDEX(referentes!$AB$2:$AC$10,MATCH(DATOS_MIP_SS!AK286,referentes!$AC$2:$AC$10,0),1))","v":""},{"$f":"IF(AL286=\"\",\"\", INDEX(referentes!$AH:$AI,MATCH(DATOS_MIP_SS!AL286,referentes!$AI:$AI,0),1))","v":""},{"$f":"IF(AP286=\"\",\"\", INDEX(referentes!$AE$2:$AF$10,MATCH(DATOS_MIP_SS!AP286,referentes!$AF$2:$AF$10,0),1))","v":""},{"$f":"IF(AN286=\"\",\"\", INDEX(referentes!$AK$2:$AL$10,MATCH(DATOS_MIP_SS!AN286,referentes!$AL$2:$AL$10,0),1))","v":""},{"$f":"IF(AQ286=\"\",\"\", INDEX(referentes!J:K,MATCH(DATOS_MIP_SS!AQ286,referentes!$K:$K,0),1))","v":""},{"$f":"IF(AR286=\"\",\"\", INDEX(referentes!$M$2:$N$20,MATCH(DATOS_MIP_SS!AR286,referentes!$N$2:$N$20,0),1))","v":""},{"$f":"IF(AY286=\"\",\"\", INDEX('otras referencias'!O:P,MATCH(AY286,'otras referencias'!$O:$O,0),2))","v":""},null,null,null,null,null,{"$f":"IF(X286<>\"\",INDEX(referentes!$AN:$AR,MATCH(DATOS_MIP_SS!X286,referentes!$AO:$AO,0),5),\"\")","v":""}]
[null,null,null,"",{"$f":"IF(J287=\"\",\"\",CONCATENATE(AD287,DIGITADOR!$B$2,DIGITADOR!$M$1,J287))","v":""},{"$f":"IF(J287=\"\",\"\",CONCATENATE(DIGITADOR!$B$2,AD287,DIGITADOR!$M$1,J287,ROW()))","v":""},null,null,null,{"$f":"IF(X287=\"\",\"\", INDEX(referentes!$AN:$AR,MATCH(DATOS_MIP_SS!X287,referentes!$AO:$AO,0),1))","v":""},"",{"$f":"IF(AF287=\"\",\"\", INDEX(referentes!D:E,MATCH(DATOS_MIP_SS!AF287,referentes!$E:$E,0),1))","v":""},{"$f":"IF(AI287=\"\",\"\", INDEX(referentes!A:B,MATCH(DATOS_MIP_SS!AI287,referentes!$B:$B,0),1))","v":""},{"$f":"IF(AJ287=\"\",\"\", INDEX(referentes!G:H,MATCH(DATOS_MIP_SS!AJ287,referentes!$H:$H,0),1))","v":""},{"$f":"IF(AK287=\"\",\"\", INDEX(referentes!$AB$2:$AC$10,MATCH(DATOS_MIP_SS!AK287,referentes!$AC$2:$AC$10,0),1))","v":""},{"$f":"IF(AL287=\"\",\"\", INDEX(referentes!$AH:$AI,MATCH(DATOS_MIP_SS!AL287,referentes!$AI:$AI,0),1))","v":""},{"$f":"IF(AP287=\"\",\"\", INDEX(referentes!$AE$2:$AF$10,MATCH(DATOS_MIP_SS!AP287,referentes!$AF$2:$AF$10,0),1))","v":""},{"$f":"IF(AN287=\"\",\"\", INDEX(referentes!$AK$2:$AL$10,MATCH(DATOS_MIP_SS!AN287,referentes!$AL$2:$AL$10,0),1))","v":""},{"$f":"IF(AQ287=\"\",\"\", INDEX(referentes!J:K,MATCH(DATOS_MIP_SS!AQ287,referentes!$K:$K,0),1))","v":""},{"$f":"IF(AR287=\"\",\"\", INDEX(referentes!$M$2:$N$20,MATCH(DATOS_MIP_SS!AR287,referentes!$N$2:$N$20,0),1))","v":""},{"$f":"IF(AY287=\"\",\"\", INDEX('otras referencias'!O:P,MATCH(AY287,'otras referencias'!$O:$O,0),2))","v":""},null,null,null,null,null,{"$f":"IF(X287<>\"\",INDEX(referentes!$AN:$AR,MATCH(DATOS_MIP_SS!X287,referentes!$AO:$AO,0),5),\"\")","v":""}]
[null,null,null,"",{"$f":"IF(J288=\"\",\"\",CONCATENATE(AD288,DIGITADOR!$B$2,DIGITADOR!$M$1,J288))","v":""},{"$f":"IF(J288=\"\",\"\",CONCATENATE(DIGITADOR!$B$2,AD288,DIGITADOR!$M$1,J288,ROW()))","v":""},null,null,null,{"$f":"IF(X288=\"\",\"\", INDEX(referentes!$AN:$AR,MATCH(DATOS_MIP_SS!X288,referentes!$AO:$AO,0),1))","v":""},"",{"$f":"IF(AF288=\"\",\"\", INDEX(referentes!D:E,MATCH(DATOS_MIP_SS!AF288,referentes!$E:$E,0),1))","v":""},{"$f":"IF(AI288=\"\",\"\", INDEX(referentes!A:B,MATCH(DATOS_MIP_SS!AI288,referentes!$B:$B,0),1))","v":""},{"$f":"IF(AJ288=\"\",\"\", INDEX(referentes!G:H,MATCH(DATOS_MIP_SS!AJ288,referentes!$H:$H,0),1))","v":""},{"$f":"IF(AK288=\"\",\"\", INDEX(referentes!$AB$2:$AC$10,MATCH(DATOS_MIP_SS!AK288,referentes!$AC$2:$AC$10,0),1))","v":""},{"$f":"IF(AL288=\"\",\"\", INDEX(referentes!$AH:$AI,MATCH(DATOS_MIP_SS!AL288,referentes!$AI:$AI,0),1))","v":""},{"$f":"IF(AP288=\"\",\"\", INDEX(referentes!$AE$2:$AF$10,MATCH(DATOS_MIP_SS!AP288,referentes!$AF$2:$AF$10,0),1))","v":""},{"$f":"IF(AN288=\"\",\"\", INDEX(referentes!$AK$2:$AL$10,MATCH(DATOS_MIP_SS!AN288,referentes!$AL$2:$AL$10,0),1))","v":""},{"$f":"IF(AQ288=\"\",\"\", INDEX(referentes!J:K,MATCH(DATOS_MIP_SS!AQ288,referentes!$K:$K,0),1))","v":""},{"$f":"IF(AR288=\"\",\"\", INDEX(referentes!$M$2:$N$20,MATCH(DATOS_MIP_SS!AR288,referentes!$N$2:$N$20,0),1))","v":""},{"$f":"IF(AY288=\"\",\"\", INDEX('otras referencias'!O:P,MATCH(AY288,'otras referencias'!$O:$O,0),2))","v":""},null,null,null,null,null,{"$f":"IF(X288<>\"\",INDEX(referentes!$AN:$AR,MATCH(DATOS_MIP_SS!X288,referentes!$AO:$AO,0),5),\"\")","v":""}]
[null,null,null,"",{"$f":"IF(J289=\"\",\"\",CONCATENATE(AD289,DIGITADOR!$B$2,DIGITADOR!$M$1,J289))","v":""},{"$f":"IF(J289=\"\",\"\",CONCATENATE(DIGITADOR!$B$2,AD289,DIGITADOR!$M$1,J289,ROW()))","v":""},null,null,null,{"$f":"IF(X289=\"\",\"\", INDEX(referentes!$AN:$AR,MATCH(DATOS_MIP_SS!X289,referentes!$AO:$AO,0),1))","v":""},"",{"$f":"IF(AF289=\"\",\"\", INDEX(referentes!D:E,MATCH(DATOS_MIP_SS!AF289,referentes!$E:$E,0),1))","v":""},{"$f":"IF(AI289=\"\",\"\", INDEX(referentes!A:B,MATCH(DATOS_MIP_SS!AI289,referentes!$B:$B,0),1))","v":""},{"$f":"IF(AJ289=\"\",\"\", INDEX(referentes!G:H,MATCH(DATOS_MIP_SS!AJ289,referentes!$H:$H,0),1))","v":""},{"$f":"IF(AK289=\"\",\"\", INDEX(referentes!$AB$2:$AC$10,MATCH(DATOS_MIP_SS!AK289,referentes!$AC$2:$AC$10,0),1))","v":""},{"$f":"IF(AL289=\"\",\"\", INDEX(referentes!$AH:$AI,MATCH(DATOS_MIP_SS!AL289,referentes!$AI:$AI,0),1))","v":""},{"$f":"IF(AP289=\"\",\"\", INDEX(referentes!$AE$2:$AF$10,MATCH(DATOS_MIP_SS!AP289,referentes!$AF$2:$AF$10,0),1))","v":""},{"$f":"IF(AN289=\"\",\"\", INDEX(referentes!$AK$2:$AL$10,MATCH(DATOS_MIP_SS!AN289,referentes!$AL$2:$AL$10,0),1))","v":""},{"$f":"IF(AQ289=\"\",\"\", INDEX(referentes!J:K,MATCH(DATOS_MIP_SS!AQ289,referentes!$K:$K,0),1))","v":""},{"$f":"IF(AR289=\"\",\"\", INDEX(referentes!$M$2:$N$20,MATCH(DATOS_MIP_SS!AR289,referentes!$N$2:$N$20,0),1))","v":""},{"$f":"IF(AY289=\"\",\"\", INDEX('otras referencias'!O:P,MATCH(AY289,'otras referencias'!$O:$O,0),2))","v":""},null,null,null,null,null,{"$f":"IF(X289<>\"\",INDEX(referentes!$AN:$AR,MATCH(DATOS_MIP_SS!X289,referentes!$AO:$AO,0),5),\"\")","v":""}]
[null,null,null,"",{"$f":"IF(J290=\"\",\"\",CONCATENATE(AD290,DIGITADOR!$B$2,DIGITADOR!$M$1,J290))","v":""},{"$f":"IF(J290=\"\",\"\",CONCATENATE(DIGITADOR!$B$2,AD290,DIGITADOR!$M$1,J290,ROW()))","v":""},null,null,null,{"$f":"IF(X290=\"\",\"\", INDEX(referentes!$AN:$AR,MATCH(DATOS_MIP_SS!X290,referentes!$AO:$AO,0),1))","v":""},"",{"$f":"IF(AF290=\"\",\"\", INDEX(referentes!D:E,MATCH(DATOS_MIP_SS!AF290,referentes!$E:$E,0),1))","v":""},{"$f":"IF(AI290=\"\",\"\", INDEX(referentes!A:B,MATCH(DATOS_MIP_SS!AI290,referentes!$B:$B,0),1))","v":""},{"$f":"IF(AJ290=\"\",\"\", INDEX(referentes!G:H,MATCH(DATOS_MIP_SS!AJ290,referentes!$H:$H,0),1))","v":""},{"$f":"IF(AK290=\"\",\"\", INDEX(referentes!$AB$2:$AC$10,MATCH(DATOS_MIP_SS!AK290,referentes!$AC$2:$AC$10,0),1))","v":""},{"$f":"IF(AL290=\"\",\"\", INDEX(referentes!$AH:$AI,MATCH(DATOS_MIP_SS!AL290,referentes!$AI:$AI,0),1))","v":""},{"$f":"IF(AP290=\"\",\"\", INDEX(referentes!$AE$2:$AF$10,MATCH(DATOS_MIP_SS!AP290,referentes!$AF$2:$AF$10,0),1))","v":""},{"$f":"IF(AN290=\"\",\"\", INDEX(referentes!$AK$2:$AL$10,MATCH(DATOS_MIP_SS!AN290,referentes!$AL$2:$AL$10,0),1))","v":""},{"$f":"IF(AQ290=\"\",\"\", INDEX(referentes!J:K,MATCH(DATOS_MIP_SS!AQ290,referentes!$K:$K,0),1))","v":""},{"$f":"IF(AR290=\"\",\"\", INDEX(referentes!$M$2:$N$20,MATCH(DATOS_MIP_SS!AR290,referentes!$N$2:$N$20,0),1))","v":""},{"$f":"IF(AY290=\"\",\"\", INDEX('otras referencias'!O:P,MATCH(AY290,'otras referencias'!$O:$O,0),2))","v":""},null,null,null,null,null,{"$f":"IF(X290<>\"\",INDEX(referentes!$AN:$AR,MATCH(DATOS_MIP_SS!X290,referentes!$AO:$AO,0),5),\"\")","v":""}]
[null,null,null,"",{"$f":"IF(J291=\"\",\"\",CONCATENATE(AD291,DIGITADOR!$B$2,DIGITADOR!$M$1,J291))","v":""},{"$f":"IF(J291=\"\",\"\",CONCATENATE(DIGITADOR!$B$2,AD291,DIGITADOR!$M$1,J291,ROW()))","v":""},null,null,null,{"$f":"IF(X291=\"\",\"\", INDEX(referentes!$AN:$AR,MATCH(DATOS_MIP_SS!X291,referentes!$AO:$AO,0),1))","v":""},"",{"$f":"IF(AF291=\"\",\"\", INDEX(referentes!D:E,MATCH(DATOS_MIP_SS!AF291,referentes!$E:$E,0),1))","v":""},{"$f":"IF(AI291=\"\",\"\", INDEX(referentes!A:B,MATCH(DATOS_MIP_SS!AI291,referentes!$B:$B,0),1))","v":""},{"$f":"IF(AJ291=\"\",\"\", INDEX(referentes!G:H,MATCH(DATOS_MIP_SS!AJ291,referentes!$H:$H,0),1))","v":""},{"$f":"IF(AK291=\"\",\"\", INDEX(referentes!$AB$2:$AC$10,MATCH(DATOS_MIP_SS!AK291,referentes!$AC$2:$AC$10,0),1))","v":""},{"$f":"IF(AL291=\"\",\"\", INDEX(referentes!$AH:$AI,MATCH(DATOS_MIP_SS!AL291,referentes!$AI:$AI,0),1))","v":""},{"$f":"IF(AP291=\"\",\"\", INDEX(referentes!$AE$2:$AF$10,MATCH(DATOS_MIP_SS!AP291,referentes!$AF$2:$AF$10,0),1))","v":""},{"$f":"IF(AN291=\"\",\"\", INDEX(referentes!$AK$2:$AL$10,MATCH(DATOS_MIP_SS!AN291,referentes!$AL$2:$AL$10,0),1))","v":""},{"$f":"IF(AQ291=\"\",\"\", INDEX(referentes!J:K,MATCH(DATOS_MIP_SS!AQ291,referentes!$K:$K,0),1))","v":""},{"$f":"IF(AR291=\"\",\"\", INDEX(referentes!$M$2:$N$20,MATCH(DATOS_MIP_SS!AR291,referentes!$N$2:$N$20,0),1))","v":""},{"$f":"IF(AY291=\"\",\"\", INDEX('otras referencias'!O:P,MATCH(AY291,'otras referencias'!$O:$O,0),2))","v":""},null,null,null,null,null,{"$f":"IF(X291<>\"\",INDEX(referentes!$AN:$AR,MATCH(DATOS_MIP_SS!X291,referentes!$AO:$AO,0),5),\"\")","v":""}]
[null,null,null,"",{"$f":"IF(J292=\"\",\"\",CONCATENATE(AD292,DIGITADOR!$B$2,DIGITADOR!$M$1,J292))","v":""},{"$f":"IF(J292=\"\",\"\",CONCATENATE(DIGITADOR!$B$2,AD292,DIGITADOR!$M$1,J292,ROW()))","v":""},null,null,null,{"$f":"IF(X292=\"\",\"\", INDEX(referentes!$AN:$AR,MATCH(DATOS_MIP_SS!X292,referentes!$AO:$AO,0),1))","v":""},"",{"$f":"IF(AF292=\"\",\"\", INDEX(referentes!D:E,MATCH(DATOS_MIP_SS!AF292,referentes!$E:$E,0),1))","v":""},{"$f":"IF(AI292=\"\",\"\", INDEX(referentes!A:B,MATCH(DATOS_MIP_SS!AI292,referentes!$B:$B,0),1))","v":""},{"$f":"IF(AJ292=\"\",\"\", INDEX(referentes!G:H,MATCH(DATOS_MIP_SS!AJ292,referentes!$H:$H,0),1))","v":""},{"$f":"IF(AK292=\"\",\"\", INDEX(referentes!$AB$2:$AC$10,MATCH(DATOS_MIP_SS!AK292,referentes!$AC$2:$AC$10,0),1))","v":""},{"$f":"IF(AL292=\"\",\"\", INDEX(referentes!$AH:$AI,MATCH(DATOS_MIP_SS!AL292,referentes!$AI:$AI,0),1))","v":""},{"$f":"IF(AP292=\"\",\"\", INDEX(referentes!$AE$2:$AF$10,MATCH(DATOS_MIP_SS!AP292,referentes!$AF$2:$AF$10,0),1))","v":""},{"$f":"IF(AN292=\"\",\"\", INDEX(referentes!$AK$2:$AL$10,MATCH(DATOS_MIP_SS!AN292,referentes!$AL$2:$AL$10,0),1))","v":""},{"$f":"IF(AQ292=\"\",\"\", INDEX(referentes!J:K,MATCH(DATOS_MIP_SS!AQ292,referentes!$K:$K,0),1))","v":""},{"$f":"IF(AR292=\"\",\"\", INDEX(referentes!$M$2:$N$20,MATCH(DATOS_MIP_SS!AR292,referentes!$N$2:$N$20,0),1))","v":""},{"$f":"IF(AY292=\"\",\"\", INDEX('otras referencias'!O:P,MATCH(AY292,'otras referencias'!$O:$O,0),2))","v":""},null,null,null,null,null,{"$f":"IF(X292<>\"\",INDEX(referentes!$AN:$AR,MATCH(DATOS_MIP_SS!X292,referentes!$AO:$AO,0),5),\"\")","v":""}]
[null,null,null,"",{"$f":"IF(J293=\"\",\"\",CONCATENATE(AD293,DIGITADOR!$B$2,DIGITADOR!$M$1,J293))","v":""},{"$f":"IF(J293=\"\",\"\",CONCATENATE(DIGITADOR!$B$2,AD293,DIGITADOR!$M$1,J293,ROW()))","v":""},null,null,null,{"$f":"IF(X293=\"\",\"\", INDEX(referentes!$AN:$AR,MATCH(DATOS_MIP_SS!X293,referentes!$AO:$AO,0),1))","v":""},"",{"$f":"IF(AF293=\"\",\"\", INDEX(referentes!D:E,MATCH(DATOS_MIP_SS!AF293,referentes!$E:$E,0),1))","v":""},{"$f":"IF(AI293=\"\",\"\", INDEX(referentes!A:B,MATCH(DATOS_MIP_SS!AI293,referentes!$B:$B,0),1))","v":""},{"$f":"IF(AJ293=\"\",\"\", INDEX(referentes!G:H,MATCH(DATOS_MIP_SS!AJ293,referentes!$H:$H,0),1))","v":""},{"$f":"IF(AK293=\"\",\"\", INDEX(referentes!$AB$2:$AC$10,MATCH(DATOS_MIP_SS!AK293,referentes!$AC$2:$AC$10,0),1))","v":""},{"$f":"IF(AL293=\"\",\"\", INDEX(referentes!$AH:$AI,MATCH(DATOS_MIP_SS!AL293,referentes!$AI:$AI,0),1))","v":""},{"$f":"IF(AP293=\"\",\"\", INDEX(referentes!$AE$2:$AF$10,MATCH(DATOS_MIP_SS!AP293,referentes!$AF$2:$AF$10,0),1))","v":""},{"$f":"IF(AN293=\"\",\"\", INDEX(referentes!$AK$2:$AL$10,MATCH(DATOS_MIP_SS!AN293,referentes!$AL$2:$AL$10,0),1))","v":""},{"$f":"IF(AQ293=\"\",\"\", INDEX(referentes!J:K,MATCH(DATOS_MIP_SS!AQ293,referentes!$K:$K,0),1))","v":""},{"$f":"IF(AR293=\"\",\"\", INDEX(referentes!$M$2:$N$20,MATCH(DATOS_MIP_SS!AR293,referentes!$N$2:$N$20,0),1))","v":""},{"$f":"IF(AY293=\"\",\"\", INDEX('otras referencias'!O:P,MATCH(AY293,'otras referencias'!$O:$O,0),2))","v":""},null,null,null,null,null,{"$f":"IF(X293<>\"\",INDEX(referentes!$AN:$AR,MATCH(DATOS_MIP_SS!X293,referentes!$AO:$AO,0),5),\"\")","v":""}]
[null,null,null,"",{"$f":"IF(J294=\"\",\"\",CONCATENATE(AD294,DIGITADOR!$B$2,DIGITADOR!$M$1,J294))","v":""},{"$f":"IF(J294=\"\",\"\",CONCATENATE(DIGITADOR!$B$2,AD294,DIGITADOR!$M$1,J294,ROW()))","v":""},null,null,null,{"$f":"IF(X294=\"\",\"\", INDEX(referentes!$AN:$AR,MATCH(DATOS_MIP_SS!X294,referentes!$AO:$AO,0),1))","v":""},"",{"$f":"IF(AF294=\"\",\"\", INDEX(referentes!D:E,MATCH(DATOS_MIP_SS!AF294,referentes!$E:$E,0),1))","v":""},{"$f":"IF(AI294=\"\",\"\", INDEX(referentes!A:B,MATCH(DATOS_MIP_SS!AI294,referentes!$B:$B,0),1))","v":""},{"$f":"IF(AJ294=\"\",\"\", INDEX(referentes!G:H,MATCH(DATOS_MIP_SS!AJ294,referentes!$H:$H,0),1))","v":""},{"$f":"IF(AK294=\"\",\"\", INDEX(referentes!$AB$2:$AC$10,MATCH(DATOS_MIP_SS!AK294,referentes!$AC$2:$AC$10,0),1))","v":""},{"$f":"IF(AL294=\"\",\"\", INDEX(referentes!$AH:$AI,MATCH(DATOS_MIP_SS!AL294,referentes!$AI:$AI,0),1))","v":""},{"$f":"IF(AP294=\"\",\"\", INDEX(referentes!$AE$2:$AF$10,MATCH(DATOS_MIP_SS!AP294,referentes!$AF$2:$AF$10,0),1))","v":""},{"$f":"IF(AN294=\"\",\"\", INDEX(referentes!$AK$2:$AL$10,MATCH(DATOS_MIP_SS!AN294,referentes!$AL$2:$AL$10,0),1))","v":""},{"$f":"IF(AQ294=\"\",\"\", INDEX(referentes!J:K,MATCH(DATOS_MIP_SS!AQ294,referentes!$K:$K,0),1))","v":""},{"$f":"IF(AR294=\"\",\"\", INDEX(referentes!$M$2:$N$20,MATCH(DATOS_MIP_SS!AR294,referentes!$N$2:$N$20,0),1))","v":""},{"$f":"IF(AY294=\"\",\"\", INDEX('otras referencias'!O:P,MATCH(AY294,'otras referencias'!$O:$O,0),2))","v":""},null,null,null,null,null,{"$f":"IF(X294<>\"\",INDEX(referentes!$AN:$AR,MATCH(DATOS_MIP_SS!X294,referentes!$AO:$AO,0),5),\"\")","v":""}]
[null,null,null,"",{"$f":"IF(J295=\"\",\"\",CONCATENATE(AD295,DIGITADOR!$B$2,DIGITADOR!$M$1,J295))","v":""},{"$f":"IF(J295=\"\",\"\",CONCATENATE(DIGITADOR!$B$2,AD295,DIGITADOR!$M$1,J295,ROW()))","v":""},null,null,null,{"$f":"IF(X295=\"\",\"\", INDEX(referentes!$AN:$AR,MATCH(DATOS_MIP_SS!X295,referentes!$AO:$AO,0),1))","v":""},"",{"$f":"IF(AF295=\"\",\"\", INDEX(referentes!D:E,MATCH(DATOS_MIP_SS!AF295,referentes!$E:$E,0),1))","v":""},{"$f":"IF(AI295=\"\",\"\", INDEX(referentes!A:B,MATCH(DATOS_MIP_SS!AI295,referentes!$B:$B,0),1))","v":""},{"$f":"IF(AJ295=\"\",\"\", INDEX(referentes!G:H,MATCH(DATOS_MIP_SS!AJ295,referentes!$H:$H,0),1))","v":""},{"$f":"IF(AK295=\"\",\"\", INDEX(referentes!$AB$2:$AC$10,MATCH(DATOS_MIP_SS!AK295,referentes!$AC$2:$AC$10,0),1))","v":""},{"$f":"IF(AL295=\"\",\"\", INDEX(referentes!$AH:$AI,MATCH(DATOS_MIP_SS!AL295,referentes!$AI:$AI,0),1))","v":""},{"$f":"IF(AP295=\"\",\"\", INDEX(referentes!$AE$2:$AF$10,MATCH(DATOS_MIP_SS!AP295,referentes!$AF$2:$AF$10,0),1))","v":""},{"$f":"IF(AN295=\"\",\"\", INDEX(referentes!$AK$2:$AL$10,MATCH(DATOS_MIP_SS!AN295,referentes!$AL$2:$AL$10,0),1))","v":""},{"$f":"IF(AQ295=\"\",\"\", INDEX(referentes!J:K,MATCH(DATOS_MIP_SS!AQ295,referentes!$K:$K,0),1))","v":""},{"$f":"IF(AR295=\"\",\"\", INDEX(referentes!$M$2:$N$20,MATCH(DATOS_MIP_SS!AR295,referentes!$N$2:$N$20,0),1))","v":""},{"$f":"IF(AY295=\"\",\"\", INDEX('otras referencias'!O:P,MATCH(AY295,'otras referencias'!$O:$O,0),2))","v":""},null,null,null,null,null,{"$f":"IF(X295<>\"\",INDEX(referentes!$AN:$AR,MATCH(DATOS_MIP_SS!X295,referentes!$AO:$AO,0),5),\"\")","v":""}]
[null,null,null,"",{"$f":"IF(J296=\"\",\"\",CONCATENATE(AD296,DIGITADOR!$B$2,DIGITADOR!$M$1,J296))","v":""},{"$f":"IF(J296=\"\",\"\",CONCATENATE(DIGITADOR!$B$2,AD296,DIGITADOR!$M$1,J296,ROW()))","v":""},null,null,null,{"$f":"IF(X296=\"\",\"\", INDEX(referentes!$AN:$AR,MATCH(DATOS_MIP_SS!X296,referentes!$AO:$AO,0),1))","v":""},"",{"$f":"IF(AF296=\"\",\"\", INDEX(referentes!D:E,MATCH(DATOS_MIP_SS!AF296,referentes!$E:$E,0),1))","v":""},{"$f":"IF(AI296=\"\",\"\", INDEX(referentes!A:B,MATCH(DATOS_MIP_SS!AI296,referentes!$B:$B,0),1))","v":""},{"$f":"IF(AJ296=\"\",\"\", INDEX(referentes!G:H,MATCH(DATOS_MIP_SS!AJ296,referentes!$H:$H,0),1))","v":""},{"$f":"IF(AK296=\"\",\"\", INDEX(referentes!$AB$2:$AC$10,MATCH(DATOS_MIP_SS!AK296,referentes!$AC$2:$AC$10,0),1))","v":""},{"$f":"IF(AL296=\"\",\"\", INDEX(referentes!$AH:$AI,MATCH(DATOS_MIP_SS!AL296,referentes!$AI:$AI,0),1))","v":""},{"$f":"IF(AP296=\"\",\"\", INDEX(referentes!$AE$2:$AF$10,MATCH(DATOS_MIP_SS!AP296,referentes!$AF$2:$AF$10,0),1))","v":""},{"$f":"IF(AN296=\"\",\"\", INDEX(referentes!$AK$2:$AL$10,MATCH(DATOS_MIP_SS!AN296,referentes!$AL$2:$AL$10,0),1))","v":""},{"$f":"IF(AQ296=\"\",\"\", INDEX(referentes!J:K,MATCH(DATOS_MIP_SS!AQ296,referentes!$K:$K,0),1))","v":""},{"$f":"IF(AR296=\"\",\"\", INDEX(referentes!$M$2:$N$20,MATCH(DATOS_MIP_SS!AR296,referentes!$N$2:$N$20,0),1))","v":""},{"$f":"IF(AY296=\"\",\"\", INDEX('otras referencias'!O:P,MATCH(AY296,'otras referencias'!$O:$O,0),2))","v":""},null,null,null,null,null,{"$f":"IF(X296<>\"\",INDEX(referentes!$AN:$AR,MATCH(DATOS_MIP_SS!X296,referentes!$AO:$AO,0),5),\"\")","v":""}]
[null,null,null,"",{"$f":"IF(J297=\"\",\"\",CONCATENATE(AD297,DIGITADOR!$B$2,DIGITADOR!$M$1,J297))","v":""},{"$f":"IF(J297=\"\",\"\",CONCATENATE(DIGITADOR!$B$2,AD297,DIGITADOR!$M$1,J297,ROW()))","v":""},null,null,null,{"$f":"IF(X297=\"\",\"\", INDEX(referentes!$AN:$AR,MATCH(DATOS_MIP_SS!X297,referentes!$AO:$AO,0),1))","v":""},"",{"$f":"IF(AF297=\"\",\"\", INDEX(referentes!D:E,MATCH(DATOS_MIP_SS!AF297,referentes!$E:$E,0),1))","v":""},{"$f":"IF(AI297=\"\",\"\", INDEX(referentes!A:B,MATCH(DATOS_MIP_SS!AI297,referentes!$B:$B,0),1))","v":""},{"$f":"IF(AJ297=\"\",\"\", INDEX(referentes!G:H,MATCH(DATOS_MIP_SS!AJ297,referentes!$H:$H,0),1))","v":""},{"$f":"IF(AK297=\"\",\"\", INDEX(referentes!$AB$2:$AC$10,MATCH(DATOS_MIP_SS!AK297,referentes!$AC$2:$AC$10,0),1))","v":""},{"$f":"IF(AL297=\"\",\"\", INDEX(referentes!$AH:$AI,MATCH(DATOS_MIP_SS!AL297,referentes!$AI:$AI,0),1))","v":""},{"$f":"IF(AP297=\"\",\"\", INDEX(referentes!$AE$2:$AF$10,MATCH(DATOS_MIP_SS!AP297,referentes!$AF$2:$AF$10,0),1))","v":""},{"$f":"IF(AN297=\"\",\"\", INDEX(referentes!$AK$2:$AL$10,MATCH(DATOS_MIP_SS!AN297,referentes!$AL$2:$AL$10,0),1))","v":""},{"$f":"IF(AQ297=\"\",\"\", INDEX(referentes!J:K,MATCH(DATOS_MIP_SS!AQ297,referentes!$K:$K,0),1))","v":""},{"$f":"IF(AR297=\"\",\"\", INDEX(referentes!$M$2:$N$20,MATCH(DATOS_MIP_SS!AR297,referentes!$N$2:$N$20,0),1))","v":""},{"$f":"IF(AY297=\"\",\"\", INDEX('otras referencias'!O:P,MATCH(AY297,'otras referencias'!$O:$O,0),2))","v":""},null,null,null,null,null,{"$f":"IF(X297<>\"\",INDEX(referentes!$AN:$AR,MATCH(DATOS_MIP_SS!X297,referentes!$AO:$AO,0),5),\"\")","v":""}]
[null,null,null,"",{"$f":"IF(J298=\"\",\"\",CONCATENATE(AD298,DIGITADOR!$B$2,DIGITADOR!$M$1,J298))","v":""},{"$f":"IF(J298=\"\",\"\",CONCATENATE(DIGITADOR!$B$2,AD298,DIGITADOR!$M$1,J298,ROW()))","v":""},null,null,null,{"$f":"IF(X298=\"\",\"\", INDEX(referentes!$AN:$AR,MATCH(DATOS_MIP_SS!X298,referentes!$AO:$AO,0),1))","v":""},"",{"$f":"IF(AF298=\"\",\"\", INDEX(referentes!D:E,MATCH(DATOS_MIP_SS!AF298,referentes!$E:$E,0),1))","v":""},{"$f":"IF(AI298=\"\",\"\", INDEX(referentes!A:B,MATCH(DATOS_MIP_SS!AI298,referentes!$B:$B,0),1))","v":""},{"$f":"IF(AJ298=\"\",\"\", INDEX(referentes!G:H,MATCH(DATOS_MIP_SS!AJ298,referentes!$H:$H,0),1))","v":""},{"$f":"IF(AK298=\"\",\"\", INDEX(referentes!$AB$2:$AC$10,MATCH(DATOS_MIP_SS!AK298,referentes!$AC$2:$AC$10,0),1))","v":""},{"$f":"IF(AL298=\"\",\"\", INDEX(referentes!$AH:$AI,MATCH(DATOS_MIP_SS!AL298,referentes!$AI:$AI,0),1))","v":""},{"$f":"IF(AP298=\"\",\"\", INDEX(referentes!$AE$2:$AF$10,MATCH(DATOS_MIP_SS!AP298,referentes!$AF$2:$AF$10,0),1))","v":""},{"$f":"IF(AN298=\"\",\"\", INDEX(referentes!$AK$2:$AL$10,MATCH(DATOS_MIP_SS!AN298,referentes!$AL$2:$AL$10,0),1))","v":""},{"$f":"IF(AQ298=\"\",\"\", INDEX(referentes!J:K,MATCH(DATOS_MIP_SS!AQ298,referentes!$K:$K,0),1))","v":""},{"$f":"IF(AR298=\"\",\"\", INDEX(referentes!$M$2:$N$20,MATCH(DATOS_MIP_SS!AR298,referentes!$N$2:$N$20,0),1))","v":""},{"$f":"IF(AY298=\"\",\"\", INDEX('otras referencias'!O:P,MATCH(AY298,'otras referencias'!$O:$O,0),2))","v":""},null,null,null,null,null,{"$f":"IF(X298<>\"\",INDEX(referentes!$AN:$AR,MATCH(DATOS_MIP_SS!X298,referentes!$AO:$AO,0),5),\"\")","v":""}]
[null,null,null,"",{"$f":"IF(J299=\"\",\"\",CONCATENATE(AD299,DIGITADOR!$B$2,DIGITADOR!$M$1,J299))","v":""},{"$f":"IF(J299=\"\",\"\",CONCATENATE(DIGITADOR!$B$2,AD299,DIGITADOR!$M$1,J299,ROW()))","v":""},null,null,null,{"$f":"IF(X299=\"\",\"\", INDEX(referentes!$AN:$AR,MATCH(DATOS_MIP_SS!X299,referentes!$AO:$AO,0),1))","v":""},"",{"$f":"IF(AF299=\"\",\"\", INDEX(referentes!D:E,MATCH(DATOS_MIP_SS!AF299,referentes!$E:$E,0),1))","v":""},{"$f":"IF(AI299=\"\",\"\", INDEX(referentes!A:B,MATCH(DATOS_MIP_SS!AI299,referentes!$B:$B,0),1))","v":""},{"$f":"IF(AJ299=\"\",\"\", INDEX(referentes!G:H,MATCH(DATOS_MIP_SS!AJ299,referentes!$H:$H,0),1))","v":""},{"$f":"IF(AK299=\"\",\"\", INDEX(referentes!$AB$2:$AC$10,MATCH(DATOS_MIP_SS!AK299,referentes!$AC$2:$AC$10,0),1))","v":""},{"$f":"IF(AL299=\"\",\"\", INDEX(referentes!$AH:$AI,MATCH(DATOS_MIP_SS!AL299,referentes!$AI:$AI,0),1))","v":""},{"$f":"IF(AP299=\"\",\"\", INDEX(referentes!$AE$2:$AF$10,MATCH(DATOS_MIP_SS!AP299,referentes!$AF$2:$AF$10,0),1))","v":""},{"$f":"IF(AN299=\"\",\"\", INDEX(referentes!$AK$2:$AL$10,MATCH(DATOS_MIP_SS!AN299,referentes!$AL$2:$AL$10,0),1))","v":""},{"$f":"IF(AQ299=\"\",\"\", INDEX(referentes!J:K,MATCH(DATOS_MIP_SS!AQ299,referentes!$K:$K,0),1))","v":""},{"$f":"IF(AR299=\"\",\"\", INDEX(referentes!$M$2:$N$20,MATCH(DATOS_MIP_SS!AR299,referentes!$N$2:$N$20,0),1))","v":""},{"$f":"IF(AY299=\"\",\"\", INDEX('otras referencias'!O:P,MATCH(AY299,'otras referencias'!$O:$O,0),2))","v":""},null,null,null,null,null,{"$f":"IF(X299<>\"\",INDEX(referentes!$AN:$AR,MATCH(DATOS_MIP_SS!X299,referentes!$AO:$AO,0),5),\"\")","v":""}]
[null,null,null,"",{"$f":"IF(J300=\"\",\"\",CONCATENATE(AD300,DIGITADOR!$B$2,DIGITADOR!$M$1,J300))","v":""},{"$f":"IF(J300=\"\",\"\",CONCATENATE(DIGITADOR!$B$2,AD300,DIGITADOR!$M$1,J300,ROW()))","v":""},null,null,null,{"$f":"IF(X300=\"\",\"\", INDEX(referentes!$AN:$AR,MATCH(DATOS_MIP_SS!X300,referentes!$AO:$AO,0),1))","v":""},"",{"$f":"IF(AF300=\"\",\"\", INDEX(referentes!D:E,MATCH(DATOS_MIP_SS!AF300,referentes!$E:$E,0),1))","v":""},{"$f":"IF(AI300=\"\",\"\", INDEX(referentes!A:B,MATCH(DATOS_MIP_SS!AI300,referentes!$B:$B,0),1))","v":""},{"$f":"IF(AJ300=\"\",\"\", INDEX(referentes!G:H,MATCH(DATOS_MIP_SS!AJ300,referentes!$H:$H,0),1))","v":""},{"$f":"IF(AK300=\"\",\"\", INDEX(referentes!$AB$2:$AC$10,MATCH(DATOS_MIP_SS!AK300,referentes!$AC$2:$AC$10,0),1))","v":""},{"$f":"IF(AL300=\"\",\"\", INDEX(referentes!$AH:$AI,MATCH(DATOS_MIP_SS!AL300,referentes!$AI:$AI,0),1))","v":""},{"$f":"IF(AP300=\"\",\"\", INDEX(referentes!$AE$2:$AF$10,MATCH(DATOS_MIP_SS!AP300,referentes!$AF$2:$AF$10,0),1))","v":""},{"$f":"IF(AN300=\"\",\"\", INDEX(referentes!$AK$2:$AL$10,MATCH(DATOS_MIP_SS!AN300,referentes!$AL$2:$AL$10,0),1))","v":""},{"$f":"IF(AQ300=\"\",\"\", INDEX(referentes!J:K,MATCH(DATOS_MIP_SS!AQ300,referentes!$K:$K,0),1))","v":""},{"$f":"IF(AR300=\"\",\"\", INDEX(referentes!$M$2:$N$20,MATCH(DATOS_MIP_SS!AR300,referentes!$N$2:$N$20,0),1))","v":""},{"$f":"IF(AY300=\"\",\"\", INDEX('otras referencias'!O:P,MATCH(AY300,'otras referencias'!$O:$O,0),2))","v":""},null,null,null,null,null,{"$f":"IF(X300<>\"\",INDEX(referentes!$AN:$AR,MATCH(DATOS_MIP_SS!X300,referentes!$AO:$AO,0),5),\"\")","v":""}]
[null,null,null,"",{"$f":"IF(J301=\"\",\"\",CONCATENATE(AD301,DIGITADOR!$B$2,DIGITADOR!$M$1,J301))","v":""},{"$f":"IF(J301=\"\",\"\",CONCATENATE(DIGITADOR!$B$2,AD301,DIGITADOR!$M$1,J301,ROW()))","v":""},null,null,null,{"$f":"IF(X301=\"\",\"\", INDEX(referentes!$AN:$AR,MATCH(DATOS_MIP_SS!X301,referentes!$AO:$AO,0),1))","v":""},"",{"$f":"IF(AF301=\"\",\"\", INDEX(referentes!D:E,MATCH(DATOS_MIP_SS!AF301,referentes!$E:$E,0),1))","v":""},{"$f":"IF(AI301=\"\",\"\", INDEX(referentes!A:B,MATCH(DATOS_MIP_SS!AI301,referentes!$B:$B,0),1))","v":""},{"$f":"IF(AJ301=\"\",\"\", INDEX(referentes!G:H,MATCH(DATOS_MIP_SS!AJ301,referentes!$H:$H,0),1))","v":""},{"$f":"IF(AK301=\"\",\"\", INDEX(referentes!$AB$2:$AC$10,MATCH(DATOS_MIP_SS!AK301,referentes!$AC$2:$AC$10,0),1))","v":""},{"$f":"IF(AL301=\"\",\"\", INDEX(referentes!$AH:$AI,MATCH(DATOS_MIP_SS!AL301,referentes!$AI:$AI,0),1))","v":""},{"$f":"IF(AP301=\"\",\"\", INDEX(referentes!$AE$2:$AF$10,MATCH(DATOS_MIP_SS!AP301,referentes!$AF$2:$AF$10,0),1))","v":""},{"$f":"IF(AN301=\"\",\"\", INDEX(referentes!$AK$2:$AL$10,MATCH(DATOS_MIP_SS!AN301,referentes!$AL$2:$AL$10,0),1))","v":""},{"$f":"IF(AQ301=\"\",\"\", INDEX(referentes!J:K,MATCH(DATOS_MIP_SS!AQ301,referentes!$K:$K,0),1))","v":""},{"$f":"IF(AR301=\"\",\"\", INDEX(referentes!$M$2:$N$20,MATCH(DATOS_MIP_SS!AR301,referentes!$N$2:$N$20,0),1))","v":""},{"$f":"IF(AY301=\"\",\"\", INDEX('otras referencias'!O:P,MATCH(AY301,'otras referencias'!$O:$O,0),2))","v":""},null,null,null,null,null,{"$f":"IF(X301<>\"\",INDEX(referentes!$AN:$AR,MATCH(DATOS_MIP_SS!X301,referentes!$AO:$AO,0),5),\"\")","v":""}]
[null,null,null,"",{"$f":"IF(J302=\"\",\"\",CONCATENATE(AD302,DIGITADOR!$B$2,DIGITADOR!$M$1,J302))","v":""},{"$f":"IF(J302=\"\",\"\",CONCATENATE(DIGITADOR!$B$2,AD302,DIGITADOR!$M$1,J302,ROW()))","v":""},null,null,null,{"$f":"IF(X302=\"\",\"\", INDEX(referentes!$AN:$AR,MATCH(DATOS_MIP_SS!X302,referentes!$AO:$AO,0),1))","v":""},"",{"$f":"IF(AF302=\"\",\"\", INDEX(referentes!D:E,MATCH(DATOS_MIP_SS!AF302,referentes!$E:$E,0),1))","v":""},{"$f":"IF(AI302=\"\",\"\", INDEX(referentes!A:B,MATCH(DATOS_MIP_SS!AI302,referentes!$B:$B,0),1))","v":""},{"$f":"IF(AJ302=\"\",\"\", INDEX(referentes!G:H,MATCH(DATOS_MIP_SS!AJ302,referentes!$H:$H,0),1))","v":""},{"$f":"IF(AK302=\"\",\"\", INDEX(referentes!$AB$2:$AC$10,MATCH(DATOS_MIP_SS!AK302,referentes!$AC$2:$AC$10,0),1))","v":""},{"$f":"IF(AL302=\"\",\"\", INDEX(referentes!$AH:$AI,MATCH(DATOS_MIP_SS!AL302,referentes!$AI:$AI,0),1))","v":""},{"$f":"IF(AP302=\"\",\"\", INDEX(referentes!$AE$2:$AF$10,MATCH(DATOS_MIP_SS!AP302,referentes!$AF$2:$AF$10,0),1))","v":""},{"$f":"IF(AN302=\"\",\"\", INDEX(referentes!$AK$2:$AL$10,MATCH(DATOS_MIP_SS!AN302,referentes!$AL$2:$AL$10,0),1))","v":""},{"$f":"IF(AQ302=\"\",\"\", INDEX(referentes!J:K,MATCH(DATOS_MIP_SS!AQ302,referentes!$K:$K,0),1))","v":""},{"$f":"IF(AR302=\"\",\"\", INDEX(referentes!$M$2:$N$20,MATCH(DATOS_MIP_SS!AR302,referentes!$N$2:$N$20,0),1))","v":""},{"$f":"IF(AY302=\"\",\"\", INDEX('otras referencias'!O:P,MATCH(AY302,'otras referencias'!$O:$O,0),2))","v":""},null,null,null,null,null,{"$f":"IF(X302<>\"\",INDEX(referentes!$AN:$AR,MATCH(DATOS_MIP_SS!X302,referentes!$AO:$AO,0),5),\"\")","v":""}]
[null,null,null,"",{"$f":"IF(J303=\"\",\"\",CONCATENATE(AD303,DIGITADOR!$B$2,DIGITADOR!$M$1,J303))","v":""},{"$f":"IF(J303=\"\",\"\",CONCATENATE(DIGITADOR!$B$2,AD303,DIGITADOR!$M$1,J303,ROW()))","v":""},null,null,null,{"$f":"IF(X303=\"\",\"\", INDEX(referentes!$AN:$AR,MATCH(DATOS_MIP_SS!X303,referentes!$AO:$AO,0),1))","v":""},"",{"$f":"IF(AF303=\"\",\"\", INDEX(referentes!D:E,MATCH(DATOS_MIP_SS!AF303,referentes!$E:$E,0),1))","v":""},{"$f":"IF(AI303=\"\",\"\", INDEX(referentes!A:B,MATCH(DATOS_MIP_SS!AI303,referentes!$B:$B,0),1))","v":""},{"$f":"IF(AJ303=\"\",\"\", INDEX(referentes!G:H,MATCH(DATOS_MIP_SS!AJ303,referentes!$H:$H,0),1))","v":""},{"$f":"IF(AK303=\"\",\"\", INDEX(referentes!$AB$2:$AC$10,MATCH(DATOS_MIP_SS!AK303,referentes!$AC$2:$AC$10,0),1))","v":""},{"$f":"IF(AL303=\"\",\"\", INDEX(referentes!$AH:$AI,MATCH(DATOS_MIP_SS!AL303,referentes!$AI:$AI,0),1))","v":""},{"$f":"IF(AP303=\"\",\"\", INDEX(referentes!$AE$2:$AF$10,MATCH(DATOS_MIP_SS!AP303,referentes!$AF$2:$AF$10,0),1))","v":""},{"$f":"IF(AN303=\"\",\"\", INDEX(referentes!$AK$2:$AL$10,MATCH(DATOS_MIP_SS!AN303,referentes!$AL$2:$AL$10,0),1))","v":""},{"$f":"IF(AQ303=\"\",\"\", INDEX(referentes!J:K,MATCH(DATOS_MIP_SS!AQ303,referentes!$K:$K,0),1))","v":""},{"$f":"IF(AR303=\"\",\"\", INDEX(referentes!$M$2:$N$20,MATCH(DATOS_MIP_SS!AR303,referentes!$N$2:$N$20,0),1))","v":""},{"$f":"IF(AY303=\"\",\"\", INDEX('otras referencias'!O:P,MATCH(AY303,'otras referencias'!$O:$O,0),2))","v":""},null,null,null,null,null,{"$f":"IF(X303<>\"\",INDEX(referentes!$AN:$AR,MATCH(DATOS_MIP_SS!X303,referentes!$AO:$AO,0),5),\"\")","v":""}]
[null,null,null,"",{"$f":"IF(J304=\"\",\"\",CONCATENATE(AD304,DIGITADOR!$B$2,DIGITADOR!$M$1,J304))","v":""},{"$f":"IF(J304=\"\",\"\",CONCATENATE(DIGITADOR!$B$2,AD304,DIGITADOR!$M$1,J304,ROW()))","v":""},null,null,null,{"$f":"IF(X304=\"\",\"\", INDEX(referentes!$AN:$AR,MATCH(DATOS_MIP_SS!X304,referentes!$AO:$AO,0),1))","v":""},"",{"$f":"IF(AF304=\"\",\"\", INDEX(referentes!D:E,MATCH(DATOS_MIP_SS!AF304,referentes!$E:$E,0),1))","v":""},{"$f":"IF(AI304=\"\",\"\", INDEX(referentes!A:B,MATCH(DATOS_MIP_SS!AI304,referentes!$B:$B,0),1))","v":""},{"$f":"IF(AJ304=\"\",\"\", INDEX(referentes!G:H,MATCH(DATOS_MIP_SS!AJ304,referentes!$H:$H,0),1))","v":""},{"$f":"IF(AK304=\"\",\"\", INDEX(referentes!$AB$2:$AC$10,MATCH(DATOS_MIP_SS!AK304,referentes!$AC$2:$AC$10,0),1))","v":""},{"$f":"IF(AL304=\"\",\"\", INDEX(referentes!$AH:$AI,MATCH(DATOS_MIP_SS!AL304,referentes!$AI:$AI,0),1))","v":""},{"$f":"IF(AP304=\"\",\"\", INDEX(referentes!$AE$2:$AF$10,MATCH(DATOS_MIP_SS!AP304,referentes!$AF$2:$AF$10,0),1))","v":""},{"$f":"IF(AN304=\"\",\"\", INDEX(referentes!$AK$2:$AL$10,MATCH(DATOS_MIP_SS!AN304,referentes!$AL$2:$AL$10,0),1))","v":""},{"$f":"IF(AQ304=\"\",\"\", INDEX(referentes!J:K,MATCH(DATOS_MIP_SS!AQ304,referentes!$K:$K,0),1))","v":""},{"$f":"IF(AR304=\"\",\"\", INDEX(referentes!$M$2:$N$20,MATCH(DATOS_MIP_SS!AR304,referentes!$N$2:$N$20,0),1))","v":""},{"$f":"IF(AY304=\"\",\"\", INDEX('otras referencias'!O:P,MATCH(AY304,'otras referencias'!$O:$O,0),2))","v":""},null,null,null,null,null,{"$f":"IF(X304<>\"\",INDEX(referentes!$AN:$AR,MATCH(DATOS_MIP_SS!X304,referentes!$AO:$AO,0),5),\"\")","v":""}]
[null,null,null,"",{"$f":"IF(J305=\"\",\"\",CONCATENATE(AD305,DIGITADOR!$B$2,DIGITADOR!$M$1,J305))","v":""},{"$f":"IF(J305=\"\",\"\",CONCATENATE(DIGITADOR!$B$2,AD305,DIGITADOR!$M$1,J305,ROW()))","v":""},null,null,null,{"$f":"IF(X305=\"\",\"\", INDEX(referentes!$AN:$AR,MATCH(DATOS_MIP_SS!X305,referentes!$AO:$AO,0),1))","v":""},"",{"$f":"IF(AF305=\"\",\"\", INDEX(referentes!D:E,MATCH(DATOS_MIP_SS!AF305,referentes!$E:$E,0),1))","v":""},{"$f":"IF(AI305=\"\",\"\", INDEX(referentes!A:B,MATCH(DATOS_MIP_SS!AI305,referentes!$B:$B,0),1))","v":""},{"$f":"IF(AJ305=\"\",\"\", INDEX(referentes!G:H,MATCH(DATOS_MIP_SS!AJ305,referentes!$H:$H,0),1))","v":""},{"$f":"IF(AK305=\"\",\"\", INDEX(referentes!$AB$2:$AC$10,MATCH(DATOS_MIP_SS!AK305,referentes!$AC$2:$AC$10,0),1))","v":""},{"$f":"IF(AL305=\"\",\"\", INDEX(referentes!$AH:$AI,MATCH(DATOS_MIP_SS!AL305,referentes!$AI:$AI,0),1))","v":""},{"$f":"IF(AP305=\"\",\"\", INDEX(referentes!$AE$2:$AF$10,MATCH(DATOS_MIP_SS!AP305,referentes!$AF$2:$AF$10,0),1))","v":""},{"$f":"IF(AN305=\"\",\"\", INDEX(referentes!$AK$2:$AL$10,MATCH(DATOS_MIP_SS!AN305,referentes!$AL$2:$AL$10,0),1))","v":""},{"$f":"IF(AQ305=\"\",\"\", INDEX(referentes!J:K,MATCH(DATOS_MIP_SS!AQ305,referentes!$K:$K,0),1))","v":""},{"$f":"IF(AR305=\"\",\"\", INDEX(referentes!$M$2:$N$20,MATCH(DATOS_MIP_SS!AR305,referentes!$N$2:$N$20,0),1))","v":""},{"$f":"IF(AY305=\"\",\"\", INDEX('otras referencias'!O:P,MATCH(AY305,'otras referencias'!$O:$O,0),2))","v":""},null,null,null,null,null,{"$f":"IF(X305<>\"\",INDEX(referentes!$AN:$AR,MATCH(DATOS_MIP_SS!X305,referentes!$AO:$AO,0),5),\"\")","v":""}]
[null,null,null,"",{"$f":"IF(J306=\"\",\"\",CONCATENATE(AD306,DIGITADOR!$B$2,DIGITADOR!$M$1,J306))","v":""},{"$f":"IF(J306=\"\",\"\",CONCATENATE(DIGITADOR!$B$2,AD306,DIGITADOR!$M$1,J306,ROW()))","v":""},null,null,null,{"$f":"IF(X306=\"\",\"\", INDEX(referentes!$AN:$AR,MATCH(DATOS_MIP_SS!X306,referentes!$AO:$AO,0),1))","v":""},"",{"$f":"IF(AF306=\"\",\"\", INDEX(referentes!D:E,MATCH(DATOS_MIP_SS!AF306,referentes!$E:$E,0),1))","v":""},{"$f":"IF(AI306=\"\",\"\", INDEX(referentes!A:B,MATCH(DATOS_MIP_SS!AI306,referentes!$B:$B,0),1))","v":""},{"$f":"IF(AJ306=\"\",\"\", INDEX(referentes!G:H,MATCH(DATOS_MIP_SS!AJ306,referentes!$H:$H,0),1))","v":""},{"$f":"IF(AK306=\"\",\"\", INDEX(referentes!$AB$2:$AC$10,MATCH(DATOS_MIP_SS!AK306,referentes!$AC$2:$AC$10,0),1))","v":""},{"$f":"IF(AL306=\"\",\"\", INDEX(referentes!$AH:$AI,MATCH(DATOS_MIP_SS!AL306,referentes!$AI:$AI,0),1))","v":""},{"$f":"IF(AP306=\"\",\"\", INDEX(referentes!$AE$2:$AF$10,MATCH(DATOS_MIP_SS!AP306,referentes!$AF$2:$AF$10,0),1))","v":""},{"$f":"IF(AN306=\"\",\"\", INDEX(referentes!$AK$2:$AL$10,MATCH(DATOS_MIP_SS!AN306,referentes!$AL$2:$AL$10,0),1))","v":""},{"$f":"IF(AQ306=\"\",\"\", INDEX(referentes!J:K,MATCH(DATOS_MIP_SS!AQ306,referentes!$K:$K,0),1))","v":""},{"$f":"IF(AR306=\"\",\"\", INDEX(referentes!$M$2:$N$20,MATCH(DATOS_MIP_SS!AR306,referentes!$N$2:$N$20,0),1))","v":""},{"$f":"IF(AY306=\"\",\"\", INDEX('otras referencias'!O:P,MATCH(AY306,'otras referencias'!$O:$O,0),2))","v":""},null,null,null,null,null,{"$f":"IF(X306<>\"\",INDEX(referentes!$AN:$AR,MATCH(DATOS_MIP_SS!X306,referentes!$AO:$AO,0),5),\"\")","v":""}]
[null,null,null,"",{"$f":"IF(J307=\"\",\"\",CONCATENATE(AD307,DIGITADOR!$B$2,DIGITADOR!$M$1,J307))","v":""},{"$f":"IF(J307=\"\",\"\",CONCATENATE(DIGITADOR!$B$2,AD307,DIGITADOR!$M$1,J307,ROW()))","v":""},null,null,null,{"$f":"IF(X307=\"\",\"\", INDEX(referentes!$AN:$AR,MATCH(DATOS_MIP_SS!X307,referentes!$AO:$AO,0),1))","v":""},"",{"$f":"IF(AF307=\"\",\"\", INDEX(referentes!D:E,MATCH(DATOS_MIP_SS!AF307,referentes!$E:$E,0),1))","v":""},{"$f":"IF(AI307=\"\",\"\", INDEX(referentes!A:B,MATCH(DATOS_MIP_SS!AI307,referentes!$B:$B,0),1))","v":""},{"$f":"IF(AJ307=\"\",\"\", INDEX(referentes!G:H,MATCH(DATOS_MIP_SS!AJ307,referentes!$H:$H,0),1))","v":""},{"$f":"IF(AK307=\"\",\"\", INDEX(referentes!$AB$2:$AC$10,MATCH(DATOS_MIP_SS!AK307,referentes!$AC$2:$AC$10,0),1))","v":""},{"$f":"IF(AL307=\"\",\"\", INDEX(referentes!$AH:$AI,MATCH(DATOS_MIP_SS!AL307,referentes!$AI:$AI,0),1))","v":""},{"$f":"IF(AP307=\"\",\"\", INDEX(referentes!$AE$2:$AF$10,MATCH(DATOS_MIP_SS!AP307,referentes!$AF$2:$AF$10,0),1))","v":""},{"$f":"IF(AN307=\"\",\"\", INDEX(referentes!$AK$2:$AL$10,MATCH(DATOS_MIP_SS!AN307,referentes!$AL$2:$AL$10,0),1))","v":""},{"$f":"IF(AQ307=\"\",\"\", INDEX(referentes!J:K,MATCH(DATOS_MIP_SS!AQ307,referentes!$K:$K,0),1))","v":""},{"$f":"IF(AR307=\"\",\"\", INDEX(referentes!$M$2:$N$20,MATCH(DATOS_MIP_SS!AR307,referentes!$N$2:$N$20,0),1))","v":""},{"$f":"IF(AY307=\"\",\"\", INDEX('otras referencias'!O:P,MATCH(AY307,'otras referencias'!$O:$O,0),2))","v":""},null,null,null,null,null,{"$f":"IF(X307<>\"\",INDEX(referentes!$AN:$AR,MATCH(DATOS_MIP_SS!X307,referentes!$AO:$AO,0),5),\"\")","v":""}]
[null,null,null,"",{"$f":"IF(J308=\"\",\"\",CONCATENATE(AD308,DIGITADOR!$B$2,DIGITADOR!$M$1,J308))","v":""},{"$f":"IF(J308=\"\",\"\",CONCATENATE(DIGITADOR!$B$2,AD308,DIGITADOR!$M$1,J308,ROW()))","v":""},null,null,null,{"$f":"IF(X308=\"\",\"\", INDEX(referentes!$AN:$AR,MATCH(DATOS_MIP_SS!X308,referentes!$AO:$AO,0),1))","v":""},"",{"$f":"IF(AF308=\"\",\"\", INDEX(referentes!D:E,MATCH(DATOS_MIP_SS!AF308,referentes!$E:$E,0),1))","v":""},{"$f":"IF(AI308=\"\",\"\", INDEX(referentes!A:B,MATCH(DATOS_MIP_SS!AI308,referentes!$B:$B,0),1))","v":""},{"$f":"IF(AJ308=\"\",\"\", INDEX(referentes!G:H,MATCH(DATOS_MIP_SS!AJ308,referentes!$H:$H,0),1))","v":""},{"$f":"IF(AK308=\"\",\"\", INDEX(referentes!$AB$2:$AC$10,MATCH(DATOS_MIP_SS!AK308,referentes!$AC$2:$AC$10,0),1))","v":""},{"$f":"IF(AL308=\"\",\"\", INDEX(referentes!$AH:$AI,MATCH(DATOS_MIP_SS!AL308,referentes!$AI:$AI,0),1))","v":""},{"$f":"IF(AP308=\"\",\"\", INDEX(referentes!$AE$2:$AF$10,MATCH(DATOS_MIP_SS!AP308,referentes!$AF$2:$AF$10,0),1))","v":""},{"$f":"IF(AN308=\"\",\"\", INDEX(referentes!$AK$2:$AL$10,MATCH(DATOS_MIP_SS!AN308,referentes!$AL$2:$AL$10,0),1))","v":""},{"$f":"IF(AQ308=\"\",\"\", INDEX(referentes!J:K,MATCH(DATOS_MIP_SS!AQ308,referentes!$K:$K,0),1))","v":""},{"$f":"IF(AR308=\"\",\"\", INDEX(referentes!$M$2:$N$20,MATCH(DATOS_MIP_SS!AR308,referentes!$N$2:$N$20,0),1))","v":""},{"$f":"IF(AY308=\"\",\"\", INDEX('otras referencias'!O:P,MATCH(AY308,'otras referencias'!$O:$O,0),2))","v":""},null,null,null,null,null,{"$f":"IF(X308<>\"\",INDEX(referentes!$AN:$AR,MATCH(DATOS_MIP_SS!X308,referentes!$AO:$AO,0),5),\"\")","v":""}]
[null,null,null,"",{"$f":"IF(J309=\"\",\"\",CONCATENATE(AD309,DIGITADOR!$B$2,DIGITADOR!$M$1,J309))","v":""},{"$f":"IF(J309=\"\",\"\",CONCATENATE(DIGITADOR!$B$2,AD309,DIGITADOR!$M$1,J309,ROW()))","v":""},null,null,null,{"$f":"IF(X309=\"\",\"\", INDEX(referentes!$AN:$AR,MATCH(DATOS_MIP_SS!X309,referentes!$AO:$AO,0),1))","v":""},"",{"$f":"IF(AF309=\"\",\"\", INDEX(referentes!D:E,MATCH(DATOS_MIP_SS!AF309,referentes!$E:$E,0),1))","v":""},{"$f":"IF(AI309=\"\",\"\", INDEX(referentes!A:B,MATCH(DATOS_MIP_SS!AI309,referentes!$B:$B,0),1))","v":""},{"$f":"IF(AJ309=\"\",\"\", INDEX(referentes!G:H,MATCH(DATOS_MIP_SS!AJ309,referentes!$H:$H,0),1))","v":""},{"$f":"IF(AK309=\"\",\"\", INDEX(referentes!$AB$2:$AC$10,MATCH(DATOS_MIP_SS!AK309,referentes!$AC$2:$AC$10,0),1))","v":""},{"$f":"IF(AL309=\"\",\"\", INDEX(referentes!$AH:$AI,MATCH(DATOS_MIP_SS!AL309,referentes!$AI:$AI,0),1))","v":""},{"$f":"IF(AP309=\"\",\"\", INDEX(referentes!$AE$2:$AF$10,MATCH(DATOS_MIP_SS!AP309,referentes!$AF$2:$AF$10,0),1))","v":""},{"$f":"IF(AN309=\"\",\"\", INDEX(referentes!$AK$2:$AL$10,MATCH(DATOS_MIP_SS!AN309,referentes!$AL$2:$AL$10,0),1))","v":""},{"$f":"IF(AQ309=\"\",\"\", INDEX(referentes!J:K,MATCH(DATOS_MIP_SS!AQ309,referentes!$K:$K,0),1))","v":""},{"$f":"IF(AR309=\"\",\"\", INDEX(referentes!$M$2:$N$20,MATCH(DATOS_MIP_SS!AR309,referentes!$N$2:$N$20,0),1))","v":""},{"$f":"IF(AY309=\"\",\"\", INDEX('otras referencias'!O:P,MATCH(AY309,'otras referencias'!$O:$O,0),2))","v":""},null,null,null,null,null,{"$f":"IF(X309<>\"\",INDEX(referentes!$AN:$AR,MATCH(DATOS_MIP_SS!X309,referentes!$AO:$AO,0),5),\"\")","v":""}]

{"sheet":"DATOS_MIP_SA","index":8,"n_rows":309,"n_cols":52,"rows_kept":309,"cut":false,"hidden":true,"merged":[[1,26,1,30],[2,28,2,29],[3,28,3,29],[4,28,4,29],[5,28,5,29]]}
[]
[null,null,null,null,null,null,null,null,null,null,null,null,null,null,null,null,null,null,null,null,null,null,null,"Entidad"]
[null,null,null,null,null,null,null,null,null,null,null,null,null,null,null,null,null,null,null,null,null,null,null,"Investigador",null,null,null,{"$f":"IF(AA3<>\"\",INDEX(referentes!$AN:$AO,MATCH(DATOS_MIP_SA!AA3,referentes!$AO:$AO,0),1),\"\")","v":""},null,null,{"$f":"IF(AC3<>\"\",INDEX(referentes!$AN:$AO,MATCH(DATOS_MIP_SA!AC3,referentes!$AO:$AO,0),1),\"\")","v":""}]
[null,null,null,null,null,null,null,null,null,null,null,null,null,null,null,null,null,null,null,null,null,null,null,"Rol",null,null,null,{"$f":"IF(AA4<>\"\",INDEX('otras referencias'!$R$7:$S$11,MATCH(DATOS_MIP_SA!AA4,'otras referencias'!$R$7:$R$11,0),2),\"\")","v":""},null,null,{"$f":"IF(AC4<>\"\",INDEX('otras referencias'!$R$7:$S$11,MATCH(DATOS_MIP_SA!AC4,'otras referencias'!$R$7:$R$11,0),2),\"\")","v":""}]
[null,null,null,null,null,null,null,null,null,null,null,null,null,null,null,null,null,null,null,null,null,null,null,"Investigador",null,null,null,{"$f":"IF(AA5<>\"\",INDEX(referentes!$AN:$AO,MATCH(DATOS_MIP_SA!AA5,referentes!$AO:$AO,0),1),\"\")","v":""},null,null,{"$f":"IF(AC5<>\"\",INDEX(referentes!$AN:$AO,MATCH(DATOS_MIP_SA!AC5,referentes!$AO:$AO,0),1),\"\")","v":""}]
[null,null,null,null,null,null,null,null,null,null,null,null,null,null,null,null,null,null,null,null,null,null,null,"Rol",null,null,null,{"$f":"IF(AA6<>\"\",INDEX('otras referencias'!$R$7:$S$11,MATCH(DATOS_MIP_SA!AA6,'otras referencias'!$R$7:$R$11,0),2),\"\")","v":""},null,null,{"$f":"IF(AC6<>\"\",INDEX('otras referencias'!$R$7:$S$11,MATCH(DATOS_MIP_SA!AC6,'otras referencias'!$R$7:$R$11,0),2),\"\")","v":""}]
[]
[null,null,null,null,null,null,null,null,null,null,null,null,null,null,null,null,null,null,null,null,null,null,null,null,null,null,{"$f":"IF(AA2<>\"\",INDEX(referentes!$AE$2:$AF$20,MATCH(DATOS_MIP_SA!AA2,referentes!$AF$2:$AF$20,0),1),\"\")","v":""},{"$f":"IF(AB4<>\"\",1,\"\")","v":""},{"$f":"IF(AE4<>\"\",IF(AE4=AB4,AB8+1,1),\"\")","v":""},{"$f":"IF(AB6<>\"\",IF(AB6=AE4,AC8+1,IF(AB6=AB4,AB8+1,1)),\"\")","v":""},{"$f":"IF(AE6<>\"\",IF(AE6=AB6,AD8+1,IF(AE6=AE4,AC8+1,IF(AE6=AB4,AB8+1,1))),\"\")","v":""},{"$f":"MAX(AB8:AE8)+1","v":1}]
[null,null,null,"ID_AGD_MUESTREO","ID_MUESTREO","ID_MUESTRA","ID_RECOLECTOR","ID_ENTIDAD","columna vacia","ID_ESTACION","DATE","ID_MATRIZ","ID_TEMPORADA_TURISMO","ID_ZONA_MONITOREO","ID_METODO_MUESTREO","ID_TECNICA (PROCEDIMIENTO)","ID_VARIABLE","ID_PROFUNDIDAD_CUALITATIVA","ID_FORMAS_MICROPLASTICOS","ID_COLOR","ID_UNIDAD_PESO_MUESTRA",null,"MUESTREO","ESTACION","columna vacia","columna vacia","NOMBRE ESTACION","LATITUD_INI","LONGITUD_INI","LATIDUD_FIN","LONGITUD_FIN","FECHA","HORA INI\n(ARRASTRE)","HORA FIN\n(ARRASTRE)","MATRIZ","TRANSECTO","TEMPORADA DE TURISMO","PROFUNDIDAD ESTACION (m)","METODO MUESTREO","TECNICA","PROFUNDIDAD CUALITATIVA","PROFUNDIDAD ARRASTRE (m)","VELOCIDAD (NUDO)","AREA RED (m2)","REG. FLUJOMETRO INI (m3)","REG. FLUJOMETRO FIN (m3)","VARIABLE","FORMA MICROPLÁSTICO","COLOR","CANTIDAD",null,"OBSERVACIONES"]
[null,null,null,{"$f":"IF(E10=\"\",\"\",E10)","v":""},{"$f":"IF(J10=\"\",\"\",CONCATENATE(AF10,DIGITADOR!$B$2,DIGITADOR!$M$1,J10))","v":""},{"$f":"IF(J10=\"\",\"\",CONCATENATE(DIGITADOR!$B$2,AF10,DIGITADOR!$M$1,J10,ROW()))","v":""},null,null,null,{"$f":"IF(X10=\"\",\"\", INDEX(referentes!$AH:$AL,MATCH(DATOS_MIP_SA!X10,referentes!$AI:$AI,0),1))","v":""},{"$f":"IF(AF10=\"\",\"\",AF10+AG10)","v":""},{"$f":"IF(AI10=\"\",\"\", INDEX(referentes!$D:$E,MATCH(DATOS_MIP_SA!AI10,referentes!$E:$E,0),1))","v":""},{"$f":"IF(AK10=\"\",\"\", INDEX(referentes!$A:$B,MATCH(DATOS_MIP_SA!AK10,referentes!$B:$B,0),1))","v":""},null,{"$f":"IF(AM10=\"\",\"\", INDEX(referentes!$S:$T,MATCH(AM10,referentes!$T:$T,0),1))","v":""},{"$f":"IF(AN10=\"\",\"\", INDEX(referentes!$Y:$Z,MATCH(AN10,referentes!$Z:$Z,0),1))","v":""},{"$f":"IF(AU10=\"\",\"\", INDEX(referentes!$V:$W,MATCH(DATOS_MIP_SA!AU10,referentes!$W:$W,0),1))","v":""},{"$f":"IF(AO10=\"\",\"\", INDEX(referentes!$AB:$AC,MATCH(DATOS_MIP_SA!AO10,referentes!$AC:$AC,0),1))","v":""},{"$f":"IF(AV10=\"\",\"\", INDEX('otras referencias'!$U:$V,MATCH(DATOS_MIP_SA!AV10,'otras referencias'!$V:$V,0),1))","v":""},{"$f":"IF(AW10=\"\",\"\", INDEX(referentes!$J:$K,MATCH(DATOS_MIP_SA!AW10,referentes!$K:$K,0),1))","v":""},null,null,null,null,null,null,{"$f":"IF(X10<>\"\",INDEX(referentes!$AH:$AL,MATCH(DATOS_MIP_SA!X10,referentes!$AI:$AI,0),5),\"\")","v":""}]
[null,null,null,{"$f":"IF(E11=\"\",\"\",IF(E11=E10,\"\",E11))","v":""},{"$f":"IF(J11=\"\",\"\",CONCATENATE(AF11,DIGITADOR!$B$2,DIGITADOR!$M$1,J11))","v":""},{"$f":"IF(J11=\"\",\"\",CONCATENATE(DIGITADOR!$B$2,AF11,DIGITADOR!$M$1,J11,ROW()))","v":""},null,null,null,{"$f":"IF(X11=\"\",\"\", INDEX(referentes!$AH:$AL,MATCH(DATOS_MIP_SA!X11,referentes!$AI:$AI,0),1))","v":""},{"$f":"IF(AF11=\"\",\"\",AF11+AG11)","v":""},{"$f":"IF(AI11=\"\",\"\", INDEX(referentes!$D:$E,MATCH(DATOS_MIP_SA!AI11,referentes!$E:$E,0),1))","v":""},{"$f":"IF(AK11=\"\",\"\", INDEX(referentes!$A:$B,MATCH(DATOS_MIP_SA!AK11,referentes!$B:$B,0),1))","v":""},null,{"$f":"IF(AM11=\"\",\"\", INDEX(referentes!$S:$T,MATCH(AM11,referentes!$T:$T,0),1))","v":""},{"$f":"IF(AN11=\"\",\"\", INDEX(referentes!$Y:$Z,MATCH(AN11,referentes!$Z:$Z,0),1))","v":""},{"$f":"IF(AU11=\"\",\"\", INDEX(referentes!$V:$W,MATCH(DATOS_MIP_SA!AU11,referentes!$W:$W,0),1))","v":""},{"$f":"IF(AO11=\"\",\"\", INDEX(referentes!$AB:$AC,MATCH(DATOS_MIP_SA!AO11,referentes!$AC:$AC,0),1))","v":""},{"$f":"IF(AV11=\"\",\"\", INDEX('otras referencias'!$U:$V,MATCH(DATOS_MIP_SA!AV11,'otras referencias'!$V:$V,0),1))","v":""},{"$f":"IF(AW11=\"\",\"\", INDEX(referentes!$J:$K,MATCH(DATOS_MIP_SA!AW11,referentes!$K:$K,0),1))","v":""},null,null,null,null,null,null,{"$f":"IF(X11<>\"\",INDEX(referentes!$AH:$AL,MATCH(DATOS_MIP_SA!X11,referentes!$AI:$AI,0),5),\"\")","v":""}]
[null,null,null,{"$f":"IF(E12=\"\",\"\",IF(E12=E11,\"\",E12))","v":""},{"$f":"IF(J12=\"\",\"\",CONCATENATE(AF12,DIGITADOR!$B$2,DIGITADOR!$M$1,J12))","v":""},{"$f":"IF(J12=\"\",\"\",CONCATENATE(DIGITADOR!$B$2,AF12,DIGITADOR!$M$1,J12,ROW()))","v":""},null,null,null,{"$f":"IF(X12=\"\",\"\", INDEX(referentes!$AH:$AL,MATCH(DATOS_MIP_SA!X12,referentes!$AI:$AI,0),1))","v":""},"",{"$f":"IF(AI12=\"\",\"\", INDEX(referentes!$D:$E,MATCH(DATOS_MIP_SA!AI12,referentes!$E:$E,0),1))","v":""},{"$f":"IF(AK12=\"\",\"\", INDEX(referentes!$A:$B,MATCH(DATOS_MIP_SA!AK12,referentes!$B:$B,0),1))","v":""},null,{"$f":"IF(AM12=\"\",\"\", INDEX(referentes!$S:$T,MATCH(AM12,referentes!$T:$T,0),1))","v":""},{"$f":"IF(AN12=\"\",\"\", INDEX(referentes!$Y:$Z,MATCH(AN12,referentes!$Z:$Z,0),1))","v":""},{"$f":"IF(AU12=\"\",\"\", INDEX(referentes!$V:$W,MATCH(DATOS_MIP_SA!AU12,referentes!$W:$W,0),1))","v":""},{"$f":"IF(AO12=\"\",\"\", INDEX(referentes!$AB:$AC,MATCH(DATOS_MIP_SA!AO12,referentes!$AC:$AC,0),1))","v":""},{"$f":"IF(AV12=\"\",\"\", INDEX('otras referencias'!$U:$V,MATCH(DATOS_MIP_SA!AV12,'otras referencias'!$V:$V,0),1))","v":""},{"$f":"IF(AW12=\"\",\"\", INDEX(referentes!$J:$K,MATCH(DATOS_MIP_SA!AW12,referentes!$K:$K,0),1))","v":""},null,null,null,null,null,null,{"$f":"IF(X12<>\"\",INDEX(referentes!$AH:$AL,MATCH(DATOS_MIP_SA!X12,referentes!$AI:$AI,0),5),\"\")","v":""}]
[null,null,null,"",{"$f":"IF(J13=\"\",\"\",CONCATENATE(AF13,DIGITADOR!$B$2,DIGITADOR!$M$1,J13))","v":""},{"$f":"IF(J13=\"\",\"\",CONCATENATE(DIGITADOR!$B$2,AF13,DIGITADOR!$M$1,J13,ROW()))","v":""},null,null,null,{"$f":"IF(X13=\"\",\"\", INDEX(referentes!$AH:$AL,MATCH(DATOS_MIP_SA!X13,referentes!$AI:$AI,0),1))","v":""},"",{"$f":"IF(AI13=\"\",\"\", INDEX(referentes!$D:$E,MATCH(DATOS_MIP_SA!AI13,referentes!$E:$E,0),1))","v":""},{"$f":"IF(AK13=\"\",\"\", INDEX(referentes!$A:$B,MATCH(DATOS_MIP_SA!AK13,referentes!$B:$B,0),1))","v":""},null,{"$f":"IF(AM13=\"\",\"\", INDEX(referentes!$S:$T,MATCH(AM13,referentes!$T:$T,0),1))","v":""},{"$f":"IF(AN13=\"\",\"\", INDEX(referentes!$Y:$Z,MATCH(AN13,referentes!$Z:$Z,0),1))","v":""},{"$f":"IF(AU13=\"\",\"\", INDEX(referentes!$V:$W,MATCH(DATOS_MIP_SA!AU13,referentes!$W:$W,0),1))","v":""},{"$f":"IF(AO13=\"\",\"\", INDEX(referentes!$AB:$AC,MATCH(DATOS_MIP_SA!AO13,referentes!$AC:$AC,0),1))","v":""},{"$f":"IF(AV13=\"\",\"\", INDEX('otras referencias'!$U:$V,MATCH(DATOS_MIP_SA!AV13,'otras referencias'!$V:$V,0),1))","v":""},{"$f":"IF(AW13=\"\",\"\", INDEX(referentes!$J:$K,MATCH(DATOS_MIP_SA!AW13,referentes!$K:$K,0),1))","v":""},null,null,null,null,null,null,{"$f":"IF(X13<>\"\",INDEX(referentes!$AH:$AL,MATCH(DATOS_MIP_SA!X13,referentes!$AI:$AI,0),5),\"\")","v":""}]
[null,null,null,"",{"$f":"IF(J14=\"\",\"\",CONCATENATE(AF14,DIGITADOR!$B$2,DIGITADOR!$M$1,J14))","v":""},{"$f":"IF(J14=\"\",\"\",CONCATENATE(DIGITADOR!$B$2,AF14,DIGITADOR!$M$1,J14,ROW()))","v":""},null,null,null,{"$f":"IF(X14=\"\",\"\", INDEX(referentes!$AH:$AL,MATCH(DATOS_MIP_SA!X14,referentes!$AI:$AI,0),1))","v":""},"",{"$f":"IF(AI14=\"\",\"\", INDEX(referentes!$D:$E,MATCH(DATOS_MIP_SA!AI14,referentes!$E:$E,0),1))","v":""},{"$f":"IF(AK14=\"\",\"\", INDEX(referentes!$A:$B,MATCH(DATOS_MIP_SA!AK14,referentes!$B:$B,0),1))","v":""},null,{"$f":"IF(AM14=\"\",\"\", INDEX(referentes!$S:$T,MATCH(AM14,referentes!$T:$T,0),1))","v":""},{"$f":"IF(AN14=\"\",\"\", INDEX(referentes!$Y:$Z,MATCH(AN14,referentes!$Z:$Z,0),1))","v":""},{"$f":"IF(AU14=\"\",\"\", INDEX(referentes!$V:$W,MATCH(DATOS_MIP_SA!AU14,referentes!$W:$W,0),1))","v":""},{"$f":"IF(AO14=\"\",\"\", INDEX(referentes!$AB:$AC,MATCH(DATOS_MIP_SA!AO14,referentes!$AC:$AC,0),1))","v":""},{"$f":"IF(AV14=\"\",\"\", INDEX('otras referencias'!$U:$V,MATCH(DATOS_MIP_SA!AV14,'otras referencias'!$V:$V,0),1))","v":""},{"$f":"IF(AW14=\"\",\"\", INDEX(referentes!$J:$K,MATCH(DATOS_MIP_SA!AW14,referentes!$K:$K,0),1))","v":""},null,null,null,null,null,null,{"$f":"IF(X14<>\"\",INDEX(referentes!$AH:$AL,MATCH(DATOS_MIP_SA!X14,referentes!$AI:$AI,0),5),\"\")","v":""}]
[null,null,null,"",{"$f":"IF(J15=\"\",\"\",CONCATENATE(AF15,DIGITADOR!$B$2,DIGITADOR!$M$1,J15))","v":""},{"$f":"IF(J15=\"\",\"\",CONCATENATE(DIGITADOR!$B$2,AF15,DIGITADOR!$M$1,J15,ROW()))","v":""},null,null,null,{"$f":"IF(X15=\"\",\"\", INDEX(referentes!$AH:$AL,MATCH(DATOS_MIP_SA!X15,referentes!$AI:$AI,0),1))","v":""},"",{"$f":"IF(AI15=\"\",\"\", INDEX(referentes!$D:$E,MATCH(DATOS_MIP_SA!AI15,referentes!$E:$E,0),1))","v":""},{"$f":"IF(AK15=\"\",\"\", INDEX(referentes!$A:$B,MATCH(DATOS_MIP_SA!AK15,referentes!$B:$B,0),1))","v":""},null,{"$f":"IF(AM15=\"\",\"\", INDEX(referentes!$S:$T,MATCH(AM15,referentes!$T:$T,0),1))","v":""},{"$f":"IF(AN15=\"\",\"\", INDEX(referentes!$Y:$Z,MATCH(AN15,referentes!$Z:$Z,0),1))","v":""},{"$f":"IF(AU15=\"\",\"\", INDEX(referentes!$V:$W,MATCH(DATOS_MIP_SA!AU15,referentes!$W:$W,0),1))","v":""},{"$f":"IF(AO15=\"\",\"\", INDEX(referentes!$AB:$AC,MATCH(DATOS_MIP_SA!AO15,referentes!$AC:$AC,0),1))","v":""},{"$f":"IF(AV15=\"\",\"\", INDEX('otras referencias'!$U:$V,MATCH(DATOS_MIP_SA!AV15,'otras referencias'!$V:$V,0),1))","v":""},{"$f":"IF(AW15=\"\",\"\", INDEX(referentes!$J:$K,MATCH(DATOS_MIP_SA!AW15,referentes!$K:$K,0),1))","v":""},null,null,null,null,null,null,{"$f":"IF(X15<>\"\",INDEX(referentes!$AH:$AL,MATCH(DATOS_MIP_SA!X15,referentes!$AI:$AI,0),5),\"\")","v":""}]
[null,null,null,"",{"$f":"IF(J16=\"\",\"\",CONCATENATE(AF16,DIGITADOR!$B$2,DIGITADOR!$M$1,J16))","v":""},{"$f":"IF(J16=\"\",\"\",CONCATENATE(DIGITADOR!$B$2,AF16,DIGITADOR!$M$1,J16,ROW()))","v":""},null,null,null,{"$f":"IF(X16=\"\",\"\", INDEX(referentes!$AH:$AL,MATCH(DATOS_MIP_SA!X16,referentes!$AI:$AI,0),1))","v":""},"",{"$f":"IF(AI16=\"\",\"\", INDEX(referentes!$D:$E,MATCH(DATOS_MIP_SA!AI16,referentes!$E:$E,0),1))","v":""},{"$f":"IF(AK16=\"\",\"\", INDEX(referentes!$A:$B,MATCH(DATOS_MIP_SA!AK16,referentes!$B:$B,0),1))","v":""},null,{"$f":"IF(AM16=\"\",\"\", INDEX(referentes!$S:$T,MATCH(AM16,referentes!$T:$T,0),1))","v":""},{"$f":"IF(AN16=\"\",\"\", INDEX(referentes!$Y:$Z,MATCH(AN16,referentes!$Z:$Z,0),1))","v":""},{"$f":"IF(AU16=\"\",\"\", INDEX(referentes!$V:$W,MATCH(DATOS_MIP_SA!AU16,referentes!$W:$W,0),1))","v":""},{"$f":"IF(AO16=\"\",\"\", INDEX(referentes!$AB:$AC,MATCH(DATOS_MIP_SA!AO16,referentes!$AC:$AC,0),1))","v":""},{"$f":"IF(AV16=\"\",\"\", INDEX('otras referencias'!$U:$V,MATCH(DATOS_MIP_SA!AV16,'otras referencias'!$V:$V,0),1))","v":""},{"$f":"IF(AW16=\"\",\"\", INDEX(referentes!$J:$K,MATCH(DATOS_MIP_SA!AW16,referentes!$K:$K,0),1))","v":""},null,null,null,null,null,null,{"$f":"IF(X16<>\"\",INDEX(referentes!$AH:$AL,MATCH(DATOS_MIP_SA!X16,referentes!$AI:$AI,0),5),\"\")","v":""}]
[null,null,null,"",{"$f":"IF(J17=\"\",\"\",CONCATENATE(AF17,DIGITADOR!$B$2,DIGITADOR!$M$1,J17))","v":""},{"$f":"IF(J17=\"\",\"\",CONCATENATE(DIGITADOR!$B$2,AF17,DIGITADOR!$M$1,J17,ROW()))","v":""},null,null,null,{"$f":"IF(X17=\"\",\"\", INDEX(referentes!$AH:$AL,MATCH(DATOS_MIP_SA!X17,referentes!$AI:$AI,0),1))","v":""},"",{"$f":"IF(AI17=\"\",\"\", INDEX(referentes!$D:$E,MATCH(DATOS_MIP_SA!AI17,referentes!$E:$E,0),1))","v":""},{"$f":"IF(AK17=\"\",\"\", INDEX(referentes!$A:$B,MATCH(DATOS_MIP_SA!AK17,referentes!$B:$B,0),1))","v":""},null,{"$f":"IF(AM17=\"\",\"\", INDEX(referentes!$S:$T,MATCH(AM17,referentes!$T:$T,0),1))","v":""},{"$f":"IF(AN17=\"\",\"\", INDEX(referentes!$Y:$Z,MATCH(AN17,referentes!$Z:$Z,0),1))","v":""},{"$f":"IF(AU17=\"\",\"\", INDEX(referentes!$V:$W,MATCH(DATOS_MIP_SA!AU17,referentes!$W:$W,0),1))","v":""},{"$f":"IF(AO17=\"\",\"\", INDEX(referentes!$AB:$AC,MATCH(DATOS_MIP_SA!AO17,referentes!$AC:$AC,0),1))","v":""},{"$f":"IF(AV17=\"\",\"\", INDEX('otras referencias'!$U:$V,MATCH(DATOS_MIP_SA!AV17,'otras referencias'!$V:$V,0),1))","v":""},{"$f":"IF(AW17=\"\",\"\", INDEX(referentes!$J:$K,MATCH(DATOS_MIP_SA!AW17,referentes!$K:$K,0),1))","v":""},null,null,null,null,null,null,{"$f":"IF(X17<>\"\",INDEX(referentes!$AH:$AL,MATCH(DATOS_MIP_SA!X17,referentes!$AI:$AI,0),5),\"\")","v":""}]
[null,null,null,"",{"$f":"IF(J18=\"\",\"\",CONCATENATE(AF18,DIGITADOR!$B$2,DIGITADOR!$M$1,J18))","v":""},{"$f":"IF(J18=\"\",\"\",CONCATENATE(DIGITADOR!$B$2,AF18,DIGITADOR!$M$1,J18,ROW()))","v":""},null,null,null,{"$f":"IF(X18=\"\",\"\", INDEX(referentes!$AH:$AL,MATCH(DATOS_MIP_SA!X18,referentes!$AI:$AI,0),1))","v":""},"",{"$f":"IF(AI18=\"\",\"\", INDEX(referentes!$D:$E,MATCH(DATOS_MIP_SA!AI18,referentes!$E:$E,0),1))","v":""},{"$f":"IF(AK18=\"\",\"\", INDEX(referentes!$A:$B,MATCH(DATOS_MIP_SA!AK18,referentes!$B:$B,0),1))","v":""},null,{"$f":"IF(AM18=\"\",\"\", INDEX(referentes!$S:$T,MATCH(AM18,referentes!$T:$T,0),1))","v":""},{"$f":"IF(AN18=\"\",\"\", INDEX(referentes!$Y:$Z,MATCH(AN18,referentes!$Z:$Z,0),1))","v":""},{"$f":"IF(AU18=\"\",\"\", INDEX(referentes!$V:$W,MATCH(DATOS_MIP_SA!AU18,referentes!$W:$W,0),1))","v":""},{"$f":"IF(AO18=\"\",\"\", INDEX(referentes!$AB:$AC,MATCH(DATOS_MIP_SA!AO18,referentes!$AC:$AC,0),1))","v":""},{"$f":"IF(AV18=\"\",\"\", INDEX('otras referencias'!$U:$V,MATCH(DATOS_MIP_SA!AV18,'otras referencias'!$V:$V,0),1))","v":""},{"$f":"IF(AW18=\"\",\"\", INDEX(referentes!$J:$K,MATCH(DATOS_MIP_SA!AW18,referentes!$K:$K,0),1))","v":""},null,null,null,null,null,null,{"$f":"IF(X18<>\"\",INDEX(referentes!$AH:$AL,MATCH(DATOS_MIP_SA!X18,referentes!$AI:$AI,0),5),\"\")","v":""}]
[null,null,null,"",{"$f":"IF(J19=\"\",\"\",CONCATENATE(AF19,DIGITADOR!$B$2,DIGITADOR!$M$1,J19))","v":""},{"$f":"IF(J19=\"\",\"\",CONCATENATE(DIGITADOR!$B$2,AF19,DIGITADOR!$M$1,J19,ROW()))","v":""},null,null,null,{"$f":"IF(X19=\"\",\"\", INDEX(referentes!$AH:$AL,MATCH(DATOS_MIP_SA!X19,referentes!$AI:$AI,0),1))","v":""},"",{"$f":"IF(AI19=\"\",\"\", INDEX(referentes!$D:$E,MATCH(DATOS_MIP_SA!AI19,referentes!$E:$E,0),1))","v":""},{"$f":"IF(AK19=\"\",\"\", INDEX(referentes!$A:$B,MATCH(DATOS_MIP_SA!AK19,referentes!$B:$B,0),1))","v":""},null,{"$f":"IF(AM19=\"\",\"\", INDEX(referentes!$S:$T,MATCH(AM19,referentes!$T:$T,0),1))","v":""},{"$f":"IF(AN19=\"\",\"\", INDEX(referentes!$Y:$Z,MATCH(AN19,referentes!$Z:$Z,0),1))","v":""},{"$f":"IF(AU19=\"\",\"\", INDEX(referentes!$V:$W,MATCH(DATOS_MIP_SA!AU19,referentes!$W:$W,0),1))","v":""},{"$f":"IF(AO19=\"\",\"\", INDEX(referentes!$AB:$AC,MATCH(DATOS_MIP_SA!AO19,referentes!$AC:$AC,0),1))","v":""},{"$f":"IF(AV19=\"\",\"\", INDEX('otras referencias'!$U:$V,MATCH(DATOS_MIP_SA!AV19,'otras referencias'!$V:$V,0),1))","v":""},{"$f":"IF(AW19=\"\",\"\", INDEX(referentes!$J:$K,MATCH(DATOS_MIP_SA!AW19,referentes!$K:$K,0),1))","v":""},null,null,null,null,null,null,{"$f":"IF(X19<>\"\",INDEX(referentes!$AH:$AL,MATCH(DATOS_MIP_SA!X19,referentes!$AI:$AI,0),5),\"\")","v":""}]
[null,null,null,"",{"$f":"IF(J20=\"\",\"\",CONCATENATE(AF20,DIGITADOR!$B$2,DIGITADOR!$M$1,J20))","v":""},{"$f":"IF(J20=\"\",\"\",CONCATENATE(DIGITADOR!$B$2,AF20,DIGITADOR!$M$1,J20,ROW()))","v":""},null,null,null,{"$f":"IF(X20=\"\",\"\", INDEX(referentes!$AH:$AL,MATCH(DATOS_MIP_SA!X20,referentes!$AI:$AI,0),1))","v":""},"",{"$f":"IF(AI20=\"\",\"\", INDEX(referentes!$D:$E,MATCH(DATOS_MIP_SA!AI20,referentes!$E:$E,0),1))","v":""},{"$f":"IF(AK20=\"\",\"\", INDEX(referentes!$A:$B,MATCH(DATOS_MIP_SA!AK20,referentes!$B:$B,0),1))","v":""},null,{"$f":"IF(AM20=\"\",\"\", INDEX(referentes!$S:$T,MATCH(AM20,referentes!$T:$T,0),1))","v":""},{"$f":"IF(AN20=\"\",\"\", INDEX(referentes!$Y:$Z,MATCH(AN20,referentes!$Z:$Z,0),1))","v":""},{"$f":"IF(AU20=\"\",\"\", INDEX(referentes!$V:$W,MATCH(DATOS_MIP_SA!AU20,referentes!$W:$W,0),1))","v":""},{"$f":"IF(AO20=\"\",\"\", INDEX(referentes!$AB:$AC,MATCH(DATOS_MIP_SA!AO20,referentes!$AC:$AC,0),1))","v":""},{"$f":"IF(AV20=\"\",\"\", INDEX('otras referencias'!$U:$V,MATCH(DATOS_MIP_SA!AV20,'otras referencias'!$V:$V,0),1))","v":""},{"$f":"IF(AW20=\"\",\"\", INDEX(referentes!$J:$K,MATCH(DATOS_MIP_SA!AW20,referentes!$K:$K,0),1))","v":""},null,null,null,null,null,null,{"$f":"IF(X20<>\"\",INDEX(referentes!$AH:$AL,MATCH(DATOS_MIP_SA!X20,referentes!$AI:$AI,0),5),\"\")","v":""}]
[null,null,null,"",{"$f":"IF(J21=\"\",\"\",CONCATENATE(AF21,DIGITADOR!$B$2,DIGITADOR!$M$1,J21))","v":""},{"$f":"IF(J21=\"\",\"\",CONCATENATE(DIGITADOR!$B$2,AF21,DIGITADOR!$M$1,J21,ROW()))","v":""},null,null,null,{"$f":"IF(X21=\"\",\"\", INDEX(referentes!$AH:$AL,MATCH(DATOS_MIP_SA!X21,referentes!$AI:$AI,0),1))","v":""},"",{"$f":"IF(AI21=\"\",\"\", INDEX(referentes!$D:$E,MATCH(DATOS_MIP_SA!AI21,referentes!$E:$E,0),1))","v":""},{"$f":"IF(AK21=\"\",\"\", INDEX(referentes!$A:$B,MATCH(DATOS_MIP_SA!AK21,referentes!$B:$B,0),1))","v":""},null,{"$f":"IF(AM21=\"\",\"\", INDEX(referentes!$S:$T,MATCH(AM21,referentes!$T:$T,0),1))","v":""},{"$f":"IF(AN21=\"\",\"\", INDEX(referentes!$Y:$Z,MATCH(AN21,referentes!$Z:$Z,0),1))","v":""},{"$f":"IF(AU21=\"\",\"\", INDEX(referentes!$V:$W,MATCH(DATOS_MIP_SA!AU21,referentes!$W:$W,0),1))","v":""},{"$f":"IF(AO21=\"\",\"\", INDEX(referentes!$AB:$AC,MATCH(DATOS_MIP_SA!AO21,referentes!$AC:$AC,0),1))","v":""},{"$f":"IF(AV21=\"\",\"\", INDEX('otras referencias'!$U:$V,MATCH(DATOS_MIP_SA!AV21,'otras referencias'!$V:$V,0),1))","v":""},{"$f":"IF(AW21=\"\",\"\", INDEX(referentes!$J:$K,MATCH(DATOS_MIP_SA!AW21,referentes!$K:$K,0),1))","v":""},null,null,null,null,null,null,{"$f":"IF(X21<>\"\",INDEX(referentes!$AH:$AL,MATCH(DATOS_MIP_SA!X21,referentes!$AI:$AI,0),5),\"\")","v":""}]
[null,null,null,"",{"$f":"IF(J22=\"\",\"\",CONCATENATE(AF22,DIGITADOR!$B$2,DIGITADOR!$M$1,J22))","v":""},{"$f":"IF(J22=\"\",\"\",CONCATENATE(DIGITADOR!$B$2,AF22,DIGITADOR!$M$1,J22,ROW()))","v":""},null,null,null,{"$f":"IF(X22=\"\",\"\", INDEX(referentes!$AH:$AL,MATCH(DATOS_MIP_SA!X22,referentes!$AI:$AI,0),1))","v":""},"",{"$f":"IF(AI22=\"\",\"\", INDEX(referentes!$D:$E,MATCH(DATOS_MIP_SA!AI22,referentes!$E:$E,0),1))","v":""},{"$f":"IF(AK22=\"\",\"\", INDEX(referentes!$A:$B,MATCH(DATOS_MIP_SA!AK22,referentes!$B:$B,0),1))","v":""},null,{"$f":"IF(AM22=\"\",\"\", INDEX(referentes!$S:$T,MATCH(AM22,referentes!$T:$T,0),1))","v":""},{"$f":"IF(AN22=\"\",\"\", INDEX(referentes!$Y:$Z,MATCH(AN22,referentes!$Z:$Z,0),1))","v":""},{"$f":"IF(AU22=\"\",\"\", INDEX(referentes!$V:$W,MATCH(DATOS_MIP_SA!AU22,referentes!$W:$W,0),1))","v":""},{"$f":"IF(AO22=\"\",\"\", INDEX(referentes!$AB:$AC,MATCH(DATOS_MIP_SA!AO22,referentes!$AC:$AC,0),1))","v":""},{"$f":"IF(AV22=\"\",\"\", INDEX('otras referencias'!$U:$V,MATCH(DATOS_MIP_SA!AV22,'otras referencias'!$V:$V,0),1))","v":""},{"$f":"IF(AW22=\"\",\"\", INDEX(referentes!$J:$K,MATCH(DATOS_MIP_SA!AW22,referentes!$K:$K,0),1))","v":""},null,null,null,null,null,null,{"$f":"IF(X22<>\"\",INDEX(referentes!$AH:$AL,MATCH(DATOS_MIP_SA!X22,referentes!$AI:$AI,0),5),\"\")","v":""}]
[null,null,null,"",{"$f":"IF(J23=\"\",\"\",CONCATENATE(AF23,DIGITADOR!$B$2,DIGITADOR!$M$1,J23))","v":""},{"$f":"IF(J23=\"\",\"\",CONCATENATE(DIGITADOR!$B$2,AF23,DIGITADOR!$M$1,J23,ROW()))","v":""},null,null,null,{"$f":"IF(X23=\"\",\"\", INDEX(referentes!$AH:$AL,MATCH(DATOS_MIP_SA!X23,referentes!$AI:$AI,0),1))","v":""},"",{"$f":"IF(AI23=\"\",\"\", INDEX(referentes!$D:$E,MATCH(DATOS_MIP_SA!AI23,referentes!$E:$E,0),1))","v":""},{"$f":"IF(AK23=\"\",\"\", INDEX(referentes!$A:$B,MATCH(DATOS_MIP_SA!AK23,referentes!$B:$B,0),1))","v":""},null,{"$f":"IF(AM23=\"\",\"\", INDEX(referentes!$S:$T,MATCH(AM23,referentes!$T:$T,0),1))","v":""},{"$f":"IF(AN23=\"\",\"\", INDEX(referentes!$Y:$Z,MATCH(AN23,referentes!$Z:$Z,0),1))","v":""},{"$f":"IF(AU23=\"\",\"\", INDEX(referentes!$V:$W,MATCH(DATOS_MIP_SA!AU23,referentes!$W:$W,0),1))","v":""},{"$f":"IF(AO23=\"\",\"\", INDEX(referentes!$AB:$AC,MATCH(DATOS_MIP_SA!AO23,referentes!$AC:$AC,0),1))","v":""},{"$f":"IF(AV23=\"\",\"\", INDEX('otras referencias'!$U:$V,MATCH(DATOS_MIP_SA!AV23,'otras referencias'!$V:$V,0),1))","v":""},{"$f":"IF(AW23=\"\",\"\", INDEX(referentes!$J:$K,MATCH(DATOS_MIP_SA!AW23,referentes!$K:$K,0),1))","v":""},null,null,null,null,null,null,{"$f":"IF(X23<>\"\",INDEX(referentes!$AH:$AL,MATCH(DATOS_MIP_SA!X23,referentes!$AI:$AI,0),5),\"\")","v":""}]
[null,null,null,"",{"$f":"IF(J24=\"\",\"\",CONCATENATE(AF24,DIGITADOR!$B$2,DIGITADOR!$M$1,J24))","v":""},{"$f":"IF(J24=\"\",\"\",CONCATENATE(DIGITADOR!$B$2,AF24,DIGITADOR!$M$1,J24,ROW()))","v":""},null,null,null,{"$f":"IF(X24=\"\",\"\", INDEX(referentes!$AH:$AL,MATCH(DATOS_MIP_SA!X24,referentes!$AI:$AI,0),1))","v":""},"",{"$f":"IF(AI24=\"\",\"\", INDEX(referentes!$D:$E,MATCH(DATOS_MIP_SA!AI24,referentes!$E:$E,0),1))","v":""},{"$f":"IF(AK24=\"\",\"\", INDEX(referentes!$A:$B,MATCH(DATOS_MIP_SA!AK24,referentes!$B:$B,0),1))","v":""},null,{"$f":"IF(AM24=\"\",\"\", INDEX(referentes!$S:$T,MATCH(AM24,referentes!$T:$T,0),1))","v":""},{"$f":"IF(AN24=\"\",\"\", INDEX(referentes!$Y:$Z,MATCH(AN24,referentes!$Z:$Z,0),1))","v":""},{"$f":"IF(AU24=\"\",\"\", INDEX(referentes!$V:$W,MATCH(DATOS_MIP_SA!AU24,referentes!$W:$W,0),1))","v":""},{"$f":"IF(AO24=\"\",\"\", INDEX(referentes!$AB:$AC,MATCH(DATOS_MIP_SA!AO24,referentes!$AC:$AC,0),1))","v":""},{"$f":"IF(AV24=\"\",\"\", INDEX('otras referencias'!$U:$V,MATCH(DATOS_MIP_SA!AV24,'otras referencias'!$V:$V,0),1))","v":""},{"$f":"IF(AW24=\"\",\"\", INDEX(referentes!$J:$K,MATCH(DATOS_MIP_SA!AW24,referentes!$K:$K,0),1))","v":""},null,null,null,null,null,null,{"$f":"IF(X24<>\"\",INDEX(referentes!$AH:$AL,MATCH(DATOS_MIP_SA!X24,referentes!$AI:$AI,0),5),\"\")","v":""}]
[null,null,null,"",{"$f":"IF(J25=\"\",\"\",CONCATENATE(AF25,DIGITADOR!$B$2,DIGITADOR!$M$1,J25))","v":""},{"$f":"IF(J25=\"\",\"\",CONCATENATE(DIGITADOR!$B$2,AF25,DIGITADOR!$M$1,J25,ROW()))","v":""},null,null,null,{"$f":"IF(X25=\"\",\"\", INDEX(referentes!$AH:$AL,MATCH(DATOS_MIP_SA!X25,referentes!$AI:$AI,0),1))","v":""},"",{"$f":"IF(AI25=\"\",\"\", INDEX(referentes!$D:$E,MATCH(DATOS_MIP_SA!AI25,referentes!$E:$E,0),1))","v":""},{"$f":"IF(AK25=\"\",\"\", INDEX(referentes!$A:$B,MATCH(DATOS_MIP_SA!AK25,referentes!$B:$B,0),1))","v":""},null,{"$f":"IF(AM25=\"\",\"\", INDEX(referentes!$S:$T,MATCH(AM25,referentes!$T:$T,0),1))","v":""},{"$f":"IF(AN25=\"\",\"\", INDEX(referentes!$Y:$Z,MATCH(AN25,referentes!$Z:$Z,0),1))","v":""},{"$f":"IF(AU25=\"\",\"\", INDEX(referentes!$V:$W,MATCH(DATOS_MIP_SA!AU25,referentes!$W:$W,0),1))","v":""},{"$f":"IF(AO25=\"\",\"\", INDEX(referentes!$AB:$AC,MATCH(DATOS_MIP_SA!AO25,referentes!$AC:$AC,0),1))","v":""},{"$f":"IF(AV25=\"\",\"\", INDEX('otras referencias'!$U:$V,MATCH(DATOS_MIP_SA!AV25,'otras referencias'!$V:$V,0),1))","v":""},{"$f":"IF(AW25=\"\",\"\", INDEX(referentes!$J:$K,MATCH(DATOS_MIP_SA!AW25,referentes!$K:$K,0),1))","v":""},null,null,null,null,null,null,{"$f":"IF(X25<>\"\",INDEX(referentes!$AH:$AL,MATCH(DATOS_MIP_SA!X25,referentes!$AI:$AI,0),5),\"\")","v":""}]
[null,null,null,"",{"$f":"IF(J26=\"\",\"\",CONCATENATE(AF26,DIGITADOR!$B$2,DIGITADOR!$M$1,J26))","v":""},{"$f":"IF(J26=\"\",\"\",CONCATENATE(DIGITADOR!$B$2,AF26,DIGITADOR!$M$1,J26,ROW()))","v":""},null,null,null,{"$f":"IF(X26=\"\",\"\", INDEX(referentes!$AH:$AL,MATCH(DATOS_MIP_SA!X26,referentes!$AI:$AI,0),1))","v":""},"",{"$f":"IF(AI26=\"\",\"\", INDEX(referentes!$D:$E,MATCH(DATOS_MIP_SA!AI26,referentes!$E:$E,0),1))","v":""},{"$f":"IF(AK26=\"\",\"\", INDEX(referentes!$A:$B,MATCH(DATOS_MIP_SA!AK26,referentes!$B:$B,0),1))","v":""},null,{"$f":"IF(AM26=\"\",\"\", INDEX(referentes!$S:$T,MATCH(AM26,referentes!$T:$T,0),1))","v":""},{"$f":"IF(AN26=\"\",\"\", INDEX(referentes!$Y:$Z,MATCH(AN26,referentes!$Z:$Z,0),1))","v":""},{"$f":"IF(AU26=\"\",\"\", INDEX(referentes!$V:$W,MATCH(DATOS_MIP_SA!AU26,referentes!$W:$W,0),1))","v":""},{"$f":"IF(AO26=\"\",\"\", INDEX(referentes!$AB:$AC,MATCH(DATOS_MIP_SA!AO26,referentes!$AC:$AC,0),1))","v":""},{"$f":"IF(AV26=\"\",\"\", INDEX('otras referencias'!$U:$V,MATCH(DATOS_MIP_SA!AV26,'otras referencias'!$V:$V,0),1))","v":""},{"$f":"IF(AW26=\"\",\"\", INDEX(referentes!$J:$K,MATCH(DATOS_MIP_SA!AW26,referentes!$K:$K,0),1))","v":""},null,null,null,null,null,null,{"$f":"IF(X26<>\"\",INDEX(referentes!$AH:$AL,MATCH(DATOS_MIP_SA!X26,referentes!$AI:$AI,0),5),\"\")","v":""}]
[null,null,null,"",{"$f":"IF(J27=\"\",\"\",CONCATENATE(AF27,DIGITADOR!$B$2,DIGITADOR!$M$1,J27))","v":""},{"$f":"IF(J27=\"\",\"\",CONCATENATE(DIGITADOR!$B$2,AF27,DIGITADOR!$M$1,J27,ROW()))","v":""},null,null,null,{"$f":"IF(X27=\"\",\"\", INDEX(referentes!$AH:$AL,MATCH(DATOS_MIP_SA!X27,referentes!$AI:$AI,0),1))","v":""},"",{"$f":"IF(AI27=\"\",\"\", INDEX(referentes!$D:$E,MATCH(DATOS_MIP_SA!AI27,referentes!$E:$E,0),1))","v":""},{"$f":"IF(AK27=\"\",\"\", INDEX(referentes!$A:$B,MATCH(DATOS_MIP_SA!AK27,referentes!$B:$B,0),1))","v":""},null,{"$f":"IF(AM27=\"\",\"\", INDEX(referentes!$S:$T,MATCH(AM27,referentes!$T:$T,0),1))","v":""},{"$f":"IF(AN27=\"\",\"\", INDEX(referentes!$Y:$Z,MATCH(AN27,referentes!$Z:$Z,0),1))","v":""},{"$f":"IF(AU27=\"\",\"\", INDEX(referentes!$V:$W,MATCH(DATOS_MIP_SA!AU27,referentes!$W:$W,0),1))","v":""},{"$f":"IF(AO27=\"\",\"\", INDEX(referentes!$AB:$AC,MATCH(DATOS_MIP_SA!AO27,referentes!$AC:$AC,0),1))","v":""},{"$f":"IF(AV27=\"\",\"\", INDEX('otras referencias'!$U:$V,MATCH(DATOS_MIP_SA!AV27,'otras referencias'!$V:$V,0),1))","v":""},{"$f":"IF(AW27=\"\",\"\", INDEX(referentes!$J:$K,MATCH(DATOS_MIP_SA!AW27,referentes!$K:$K,0),1))","v":""},null,null,null,null,null,null,{"$f":"IF(X27<>\"\",INDEX(referentes!$AH:$AL,MATCH(DATOS_MIP_SA!X27,referentes!$AI:$AI,0),5),\"\")","v":""}]
[null,null,null,"",{"$f":"IF(J28=\"\",\"\",CONCATENATE(AF28,DIGITADOR!$B$2,DIGITADOR!$M$1,J28))","v":""},{"$f":"IF(J28=\"\",\"\",CONCATENATE(DIGITADOR!$B$2,AF28,DIGITADOR!$M$1,J28,ROW()))","v":""},null,null,null,{"$f":"IF(X28=\"\",\"\", INDEX(referentes!$AH:$AL,MATCH(DATOS_MIP_SA!X28,referentes!$AI:$AI,0),1))","v":""},"",{"$f":"IF(AI28=\"\",\"\", INDEX(referentes!$D:$E,MATCH(DATOS_MIP_SA!AI28,referentes!$E:$E,0),1))","v":""},{"$f":"IF(AK28=\"\",\"\", INDEX(referentes!$A:$B,MATCH(DATOS_MIP_SA!AK28,referentes!$B:$B,0),1))","v":""},null,{"$f":"IF(AM28=\"\",\"\", INDEX(referentes!$S:$T,MATCH(AM28,referentes!$T:$T,0),1))","v":""},{"$f":"IF(AN28=\"\",\"\", INDEX(referentes!$Y:$Z,MATCH(AN28,referentes!$Z:$Z,0),1))","v":""},{"$f":"IF(AU28=\"\",\"\", INDEX(referentes!$V:$W,MATCH(DATOS_MIP_SA!AU28,referentes!$W:$W,0),1))","v":""},{"$f":"IF(AO28=\"\",\"\", INDEX(referentes!$AB:$AC,MATCH(DATOS_MIP_SA!AO28,referentes!$AC:$AC,0),1))","v":""},{"$f":"IF(AV28=\"\",\"\", INDEX('otras referencias'!$U:$V,MATCH(DATOS_MIP_SA!AV28,'otras referencias'!$V:$V,0),1))","v":""},{"$f":"IF(AW28=\"\",\"\", INDEX(referentes!$J:$K,MATCH(DATOS_MIP_SA!AW28,referentes!$K:$K,0),1))","v":""},null,null,null,null,null,null,{"$f":"IF(X28<>\"\",INDEX(referentes!$AH:$AL,MATCH(DATOS_MIP_SA!X28,referentes!$AI:$AI,0),5),\"\")","v":""}]
[null,null,null,"",{"$f":"IF(J29=\"\",\"\",CONCATENATE(AF29,DIGITADOR!$B$2,DIGITADOR!$M$1,J29))","v":""},{"$f":"IF(J29=\"\",\"\",CONCATENATE(DIGITADOR!$B$2,AF29,DIGITADOR!$M$1,J29,ROW()))","v":""},null,null,null,{"$f":"IF(X29=\"\",\"\", INDEX(referentes!$AH:$AL,MATCH(DATOS_MIP_SA!X29,referentes!$AI:$AI,0),1))","v":""},"",{"$f":"IF(AI29=\"\",\"\", INDEX(referentes!$D:$E,MATCH(DATOS_MIP_SA!AI29,referentes!$E:$E,0),1))","v":""},{"$f":"IF(AK29=\"\",\"\", INDEX(referentes!$A:$B,MATCH(DATOS_MIP_SA!AK29,referentes!$B:$B,0),1))","v":""},null,{"$f":"IF(AM29=\"\",\"\", INDEX(referentes!$S:$T,MATCH(AM29,referentes!$T:$T,0),1))","v":""},{"$f":"IF(AN29=\"\",\"\", INDEX(referentes!$Y:$Z,MATCH(AN29,referentes!$Z:$Z,0),1))","v":""},{"$f":"IF(AU29=\"\",\"\", INDEX(referentes!$V:$W,MATCH(DATOS_MIP_SA!AU29,referentes!$W:$W,0),1))","v":""},{"$f":"IF(AO29=\"\",\"\", INDEX(referentes!$AB:$AC,MATCH(DATOS_MIP_SA!AO29,referentes!$AC:$AC,0),1))","v":""},{"$f":"IF(AV29=\"\",\"\", INDEX('otras referencias'!$U:$V,MATCH(DATOS_MIP_SA!AV29,'otras referencias'!$V:$V,0),1))","v":""},{"$f":"IF(AW29=\"\",\"\", INDEX(referentes!$J:$K,MATCH(DATOS_MIP_SA!AW29,referentes!$K:$K,0),1))","v":""},null,null,null,null,null,null,{"$f":"IF(X29<>\"\",INDEX(referentes!$AH:$AL,MATCH(DATOS_MIP_SA!X29,referentes!$AI:$AI,0),5),\"\")","v":""}]
[null,null,null,"",{"$f":"IF(J30=\"\",\"\",CONCATENATE(AF30,DIGITADOR!$B$2,DIGITADOR!$M$1,J30))","v":""},{"$f":"IF(J30=\"\",\"\",CONCATENATE(DIGITADOR!$B$2,AF30,DIGITADOR!$M$1,J30,ROW()))","v":""},null,null,null,{"$f":"IF(X30=\"\",\"\", INDEX(referentes!$AH:$AL,MATCH(DATOS_MIP_SA!X30,referentes!$AI:$AI,0),1))","v":""},"",{"$f":"IF(AI30=\"\",\"\", INDEX(referentes!$D:$E,MATCH(DATOS_MIP_SA!AI30,referentes!$E:$E,0),1))","v":""},{"$f":"IF(AK30=\"\",\"\", INDEX(referentes!$A:$B,MATCH(DATOS_MIP_SA!AK30,referentes!$B:$B,0),1))","v":""},null,{"$f":"IF(AM30=\"\",\"\", INDEX(referentes!$S:$T,MATCH(AM30,referentes!$T:$T,0),1))","v":""},{"$f":"IF(AN30=\"\",\"\", INDEX(referentes!$Y:$Z,MATCH(AN30,referentes!$Z:$Z,0),1))","v":""},{"$f":"IF(AU30=\"\",\"\", INDEX(referentes!$V:$W,MATCH(DATOS_MIP_SA!AU30,referentes!$W:$W,0),1))","v":""},{"$f":"IF(AO30=\"\",\"\", INDEX(referentes!$AB:$AC,MATCH(DATOS_MIP_SA!AO30,referentes!$AC:$AC,0),1))","v":""},{"$f":"IF(AV30=\"\",\"\", INDEX('otras referencias'!$U:$V,MATCH(DATOS_MIP_SA!AV30,'otras referencias'!$V:$V,0),1))","v":""},{"$f":"IF(AW30=\"\",\"\", INDEX(referentes!$J:$K,MATCH(DATOS_MIP_SA!AW30,referentes!$K:$K,0),1))","v":""},null,null,null,null,null,null,{"$f":"IF(X30<>\"\",INDEX(referentes!$AH:$AL,MATCH(DATOS_MIP_SA!X30,referentes!$AI:$AI,0),5),\"\")","v":""}]
[null,null,null,"",{"$f":"IF(J31=\"\",\"\",CONCATENATE(AF31,DIGITADOR!$B$2,DIGITADOR!$M$1,J31))","v":""},{"$f":"IF(J31=\"\",\"\",CONCATENATE(DIGITADOR!$B$2,AF31,DIGITADOR!$M$1,J31,ROW()))","v":""},null,null,null,{"$f":"IF(X31=\"\",\"\", INDEX(referentes!$AH:$AL,MATCH(DATOS_MIP_SA!X31,referentes!$AI:$AI,0),1))","v":""},"",{"$f":"IF(AI31=\"\",\"\", INDEX(referentes!$D:$E,MATCH(DATOS_MIP_SA!AI31,referentes!$E:$E,0),1))","v":""},{"$f":"IF(AK31=\"\",\"\", INDEX(referentes!$A:$B,MATCH(DATOS_MIP_SA!AK31,referentes!$B:$B,0),1))","v":""},null,{"$f":"IF(AM31=\"\",\"\", INDEX(referentes!$S:$T,MATCH(AM31,referentes!$T:$T,0),1))","v":""},{"$f":"IF(AN31=\"\",\"\", INDEX(referentes!$Y:$Z,MATCH(AN31,referentes!$Z:$Z,0),1))","v":""},{"$f":"IF(AU31=\"\",\"\", INDEX(referentes!$V:$W,MATCH(DATOS_MIP_SA!AU31,referentes!$W:$W,0),1))","v":""},{"$f":"IF(AO31=\"\",\"\", INDEX(referentes!$AB:$AC,MATCH(DATOS_MIP_SA!AO31,referentes!$AC:$AC,0),1))","v":""},{"$f":"IF(AV31=\"\",\"\", INDEX('otras referencias'!$U:$V,MATCH(DATOS_MIP_SA!AV31,'otras referencias'!$V:$V,0),1))","v":""},{"$f":"IF(AW31=\"\",\"\", INDEX(referentes!$J:$K,MATCH(DATOS_MIP_SA!AW31,referentes!$K:$K,0),1))","v":""},null,null,null,null,null,null,{"$f":"IF(X31<>\"\",INDEX(referentes!$AH:$AL,MATCH(DATOS_MIP_SA!X31,referentes!$AI:$AI,0),5),\"\")","v":""}]
[null,null,null,"",{"$f":"IF(J32=\"\",\"\",CONCATENATE(AF32,DIGITADOR!$B$2,DIGITADOR!$M$1,J32))","v":""},{"$f":"IF(J32=\"\",\"\",CONCATENATE(DIGITADOR!$B$2,AF32,DIGITADOR!$M$1,J32,ROW()))","v":""},null,null,null,{"$f":"IF(X32=\"\",\"\", INDEX(referentes!$AH:$AL,MATCH(DATOS_MIP_SA!X32,referentes!$AI:$AI,0),1))","v":""},"",{"$f":"IF(AI32=\"\",\"\", INDEX(referentes!$D:$E,MATCH(DATOS_MIP_SA!AI32,referentes!$E:$E,0),1))","v":""},{"$f":"IF(AK32=\"\",\"\", INDEX(referentes!$A:$B,MATCH(DATOS_MIP_SA!AK32,referentes!$B:$B,0),1))","v":""},null,{"$f":"IF(AM32=\"\",\"\", INDEX(referentes!$S:$T,MATCH(AM32,referentes!$T:$T,0),1))","v":""},{"$f":"IF(AN32=\"\",\"\", INDEX(referentes!$Y:$Z,MATCH(AN32,referentes!$Z:$Z,0),1))","v":""},{"$f":"IF(AU32=\"\",\"\", INDEX(referentes!$V:$W,MATCH(DATOS_MIP_SA!AU32,referentes!$W:$W,0),1))","v":""},{"$f":"IF(AO32=\"\",\"\", INDEX(referentes!$AB:$AC,MATCH(DATOS_MIP_SA!AO32,referentes!$AC:$AC,0),1))","v":""},{"$f":"IF(AV32=\"\",\"\", INDEX('otras referencias'!$U:$V,MATCH(DATOS_MIP_SA!AV32,'otras referencias'!$V:$V,0),1))","v":""},{"$f":"IF(AW32=\"\",\"\", INDEX(referentes!$J:$K,MATCH(DATOS_MIP_SA!AW32,referentes!$K:$K,0),1))","v":""},null,null,null,null,null,null,{"$f":"IF(X32<>\"\",INDEX(referentes!$AH:$AL,MATCH(DATOS_MIP_SA!X32,referentes!$AI:$AI,0),5),\"\")","v":""}]
[null,null,null,"",{"$f":"IF(J33=\"\",\"\",CONCATENATE(AF33,DIGITADOR!$B$2,DIGITADOR!$M$1,J33))","v":""},{"$f":"IF(J33=\"\",\"\",CONCATENATE(DIGITADOR!$B$2,AF33,DIGITADOR!$M$1,J33,ROW()))","v":""},null,null,null,{"$f":"IF(X33=\"\",\"\", INDEX(referentes!$AH:$AL,MATCH(DATOS_MIP_SA!X33,referentes!$AI:$AI,0),1))","v":""},"",{"$f":"IF(AI33=\"\",\"\", INDEX(referentes!$D:$E,MATCH(DATOS_MIP_SA!AI33,referentes!$E:$E,0),1))","v":""},{"$f":"IF(AK33=\"\",\"\", INDEX(referentes!$A:$B,MATCH(DATOS_MIP_SA!AK33,referentes!$B:$B,0),1))","v":""},null,{"$f":"IF(AM33=\"\",\"\", INDEX(referentes!$S:$T,MATCH(AM33,referentes!$T:$T,0),1))","v":""},{"$f":"IF(AN33=\"\",\"\", INDEX(referentes!$Y:$Z,MATCH(AN33,referentes!$Z:$Z,0),1))","v":""},{"$f":"IF(AU33=\"\",\"\", INDEX(referentes!$V:$W,MATCH(DATOS_MIP_SA!AU33,referentes!$W:$W,0),1))","v":""},{"$f":"IF(AO33=\"\",\"\", INDEX(referentes!$AB:$AC,MATCH(DATOS_MIP_SA!AO33,referentes!$AC:$AC,0),1))","v":""},{"$f":"IF(AV33=\"\",\"\", INDEX('otras referencias'!$U:$V,MATCH(DATOS_MIP_SA!AV33,'otras referencias'!$V:$V,0),1))","v":""},{"$f":"IF(AW33=\"\",\"\", INDEX(referentes!$J:$K,MATCH(DATOS_MIP_SA!AW33,referentes!$K:$K,0),1))","v":""},null,null,null,null,null,null,{"$f":"IF(X33<>\"\",INDEX(referentes!$AH:$AL,MATCH(DATOS_MIP_SA!X33,referentes!$AI:$AI,0),5),\"\")","v":""}]
[null,null,null,"",{"$f":"IF(J34=\"\",\"\",CONCATENATE(AF34,DIGITADOR!$B$2,DIGITADOR!$M$1,J34))","v":""},{"$f":"IF(J34=\"\",\"\",CONCATENATE(DIGITADOR!$B$2,AF34,DIGITADOR!$M$1,J34,ROW()))","v":""},null,null,null,{"$f":"IF(X34=\"\",\"\", INDEX(referentes!$AH:$AL,MATCH(DATOS_MIP_SA!X34,referentes!$AI:$AI,0),1))","v":""},"",{"$f":"IF(AI34=\"\",\"\", INDEX(referentes!$D:$E,MATCH(DATOS_MIP_SA!AI34,referentes!$E:$E,0),1))","v":""},{"$f":"IF(AK34=\"\",\"\", INDEX(referentes!$A:$B,MATCH(DATOS_MIP_SA!AK34,referentes!$B:$B,0),1))","v":""},null,{"$f":"IF(AM34=\"\",\"\", INDEX(referentes!$S:$T,MATCH(AM34,referentes!$T:$T,0),1))","v":""},{"$f":"IF(AN34=\"\",\"\", INDEX(referentes!$Y:$Z,MATCH(AN34,referentes!$Z:$Z,0),1))","v":""},{"$f":"IF(AU34=\"\",\"\", INDEX(referentes!$V:$W,MATCH(DATOS_MIP_SA!AU34,referentes!$W:$W,0),1))","v":""},{"$f":"IF(AO34=\"\",\"\", INDEX(referentes!$AB:$AC,MATCH(DATOS_MIP_SA!AO34,referentes!$AC:$AC,0),1))","v":""},{"$f":"IF(AV34=\"\",\"\", INDEX('otras referencias'!$U:$V,MATCH(DATOS_MIP_SA!AV34,'otras referencias'!$V:$V,0),1))","v":""},{"$f":"IF(AW34=\"\",\"\", INDEX(referentes!$J:$K,MATCH(DATOS_MIP_SA!AW34,referentes!$K:$K,0),1))","v":""},null,null,null,null,null,null,{"$f":"IF(X34<>\"\",INDEX(referentes!$AH:$AL,MATCH(DATOS_MIP_SA!X34,referentes!$AI:$AI,0),5),\"\")","v":""}]
[null,null,null,"",{"$f":"IF(J35=\"\",\"\",CONCATENATE(AF35,DIGITADOR!$B$2,DIGITADOR!$M$1,J35))","v":""},{"$f":"IF(J35=\"\",\"\",CONCATENATE(DIGITADOR!$B$2,AF35,DIGITADOR!$M$1,J35,ROW()))","v":""},null,null,null,{"$f":"IF(X35=\"\",\"\", INDEX(referentes!$AH:$AL,MATCH(DATOS_MIP_SA!X35,referentes!$AI:$AI,0),1))","v":""},"",{"$f":"IF(AI35=\"\",\"\", INDEX(referentes!$D:$E,MATCH(DATOS_MIP_SA!AI35,referentes!$E:$E,0),1))","v":""},{"$f":"IF(AK35=\"\",\"\", INDEX(referentes!$A:$B,MATCH(DATOS_MIP_SA!AK35,referentes!$B:$B,0),1))","v":""},null,{"$f":"IF(AM35=\"\",\"\", INDEX(referentes!$S:$T,MATCH(AM35,referentes!$T:$T,0),1))","v":""},{"$f":"IF(AN35=\"\",\"\", INDEX(referentes!$Y:$Z,MATCH(AN35,referentes!$Z:$Z,0),1))","v":""},{"$f":"IF(AU35=\"\",\"\", INDEX(referentes!$V:$W,MATCH(DATOS_MIP_SA!AU35,referentes!$W:$W,0),1))","v":""},{"$f":"IF(AO35=\"\",\"\", INDEX(referentes!$AB:$AC,MATCH(DATOS_MIP_SA!AO35,referentes!$AC:$AC,0),1))","v":""},{"$f":"IF(AV35=\"\",\"\", INDEX('otras referencias'!$U:$V,MATCH(DATOS_MIP_SA!AV35,'otras referencias'!$V:$V,0),1))","v":""},{"$f":"IF(AW35=\"\",\"\", INDEX(referentes!$J:$K,MATCH(DATOS_MIP_SA!AW35,referentes!$K:$K,0),1))","v":""},null,null,null,null,null,null,{"$f":"IF(X35<>\"\",INDEX(referentes!$AH:$AL,MATCH(DATOS_MIP_SA!X35,referentes!$AI:$AI,0),5),\"\")","v":""}]
[null,null,null,"",{"$f":"IF(J36=\"\",\"\",CONCATENATE(AF36,DIGITADOR!$B$2,DIGITADOR!$M$1,J36))","v":""},{"$f":"IF(J36=\"\",\"\",CONCATENATE(DIGITADOR!$B$2,AF36,DIGITADOR!$M$1,J36,ROW()))","v":""},null,null,null,{"$f":"IF(X36=\"\",\"\", INDEX(referentes!$AH:$AL,MATCH(DATOS_MIP_SA!X36,referentes!$AI:$AI,0),1))","v":""},"",{"$f":"IF(AI36=\"\",\"\", INDEX(referentes!$D:$E,MATCH(DATOS_MIP_SA!AI36,referentes!$E:$E,0),1))","v":""},{"$f":"IF(AK36=\"\",\"\", INDEX(referentes!$A:$B,MATCH(DATOS_MIP_SA!AK36,referentes!$B:$B,0),1))","v":""},null,{"$f":"IF(AM36=\"\",\"\", INDEX(referentes!$S:$T,MATCH(AM36,referentes!$T:$T,0),1))","v":""},{"$f":"IF(AN36=\"\",\"\", INDEX(referentes!$Y:$Z,MATCH(AN36,referentes!$Z:$Z,0),1))","v":""},{"$f":"IF(AU36=\"\",\"\", INDEX(referentes!$V:$W,MATCH(DATOS_MIP_SA!AU36,referentes!$W:$W,0),1))","v":""},{"$f":"IF(AO36=\"\",\"\", INDEX(referentes!$AB:$AC,MATCH(DATOS_MIP_SA!AO36,referentes!$AC:$AC,0),1))","v":""},{"$f":"IF(AV36=\"\",\"\", INDEX('otras referencias'!$U:$V,MATCH(DATOS_MIP_SA!AV36,'otras referencias'!$V:$V,0),1))","v":""},{"$f":"IF(AW36=\"\",\"\", INDEX(referentes!$J:$K,MATCH(DATOS_MIP_SA!AW36,referentes!$K:$K,0),1))","v":""},null,null,null,null,null,null,{"$f":"IF(X36<>\"\",INDEX(referentes!$AH:$AL,MATCH(DATOS_MIP_SA!X36,referentes!$AI:$AI,0),5),\"\")","v":""}]
[null,null,null,"",{"$f":"IF(J37=\"\",\"\",CONCATENATE(AF37,DIGITADOR!$B$2,DIGITADOR!$M$1,J37))","v":""},{"$f":"IF(J37=\"\",\"\",CONCATENATE(DIGITADOR!$B$2,AF37,DIGITADOR!$M$1,J37,ROW()))","v":""},null,null,null,{"$f":"IF(X37=\"\",\"\", INDEX(referentes!$AH:$AL,MATCH(DATOS_MIP_SA!X37,referentes!$AI:$AI,0),1))","v":""},"",{"$f":"IF(AI37=\"\",\"\", INDEX(referentes!$D:$E,MATCH(DATOS_MIP_SA!AI37,referentes!$E:$E,0),1))","v":""},{"$f":"IF(AK37=\"\",\"\", INDEX(referentes!$A:$B,MATCH(DATOS_MIP_SA!AK37,referentes!$B:$B,0),1))","v":""},null,{"$f":"IF(AM37=\"\",\"\", INDEX(referentes!$S:$T,MATCH(AM37,referentes!$T:$T,0),1))","v":""},{"$f":"IF(AN37=\"\",\"\", INDEX(referentes!$Y:$Z,MATCH(AN37,referentes!$Z:$Z,0),1))","v":""},{"$f":"IF(AU37=\"\",\"\", INDEX(referentes!$V:$W,MATCH(DATOS_MIP_SA!AU37,referentes!$W:$W,0),1))","v":""},{"$f":"IF(AO37=\"\",\"\", INDEX(referentes!$AB:$AC,MATCH(DATOS_MIP_SA!AO37,referentes!$AC:$AC,0),1))","v":""},{"$f":"IF(AV37=\"\",\"\", INDEX('otras referencias'!$U:$V,MATCH(DATOS_MIP_SA!AV37,'otras referencias'!$V:$V,0),1))","v":""},{"$f":"IF(AW37=\"\",\"\", INDEX(referentes!$J:$K,MATCH(DATOS_MIP_SA!AW37,referentes!$K:$K,0),1))","v":""},null,null,null,null,null,null,{"$f":"IF(X37<>\"\",INDEX(referentes!$AH:$AL,MATCH(DATOS_MIP_SA!X37,referentes!$AI:$AI,0),5),\"\")","v":""}]
[null,null,null,"",{"$f":"IF(J38=\"\",\"\",CONCATENATE(AF38,DIGITADOR!$B$2,DIGITADOR!$M$1,J38))","v":""},{"$f":"IF(J38=\"\",\"\",CONCATENATE(DIGITADOR!$B$2,AF38,DIGITADOR!$M$1,J38,ROW()))","v":""},null,null,null,{"$f":"IF(X38=\"\",\"\", INDEX(referentes!$AH:$AL,MATCH(DATOS_MIP_SA!X38,referentes!$AI:$AI,0),1))","v":""},"",{"$f":"IF(AI38=\"\",\"\", INDEX(referentes!$D:$E,MATCH(DATOS_MIP_SA!AI38,referentes!$E:$E,0),1))","v":""},{"$f":"IF(AK38=\"\",\"\", INDEX(referentes!$A:$B,MATCH(DATOS_MIP_SA!AK38,referentes!$B:$B,0),1))","v":""},null,{"$f":"IF(AM38=\"\",\"\", INDEX(referentes!$S:$T,MATCH(AM38,referentes!$T:$T,0),1))","v":""},{"$f":"IF(AN38=\"\",\"\", INDEX(referentes!$Y:$Z,MATCH(AN38,referentes!$Z:$Z,0),1))","v":""},{"$f":"IF(AU38=\"\",\"\", INDEX(referentes!$V:$W,MATCH(DATOS_MIP_SA!AU38,referentes!$W:$W,0),1))","v":""},{"$f":"IF(AO38=\"\",\"\", INDEX(referentes!$AB:$AC,MATCH(DATOS_MIP_SA!AO38,referentes!$AC:$AC,0),1))","v":""},{"$f":"IF(AV38=\"\",\"\", INDEX('otras referencias'!$U:$V,MATCH(DATOS_MIP_SA!AV38,'otras referencias'!$V:$V,0),1))","v":""},{"$f":"IF(AW38=\"\",\"\", INDEX(referentes!$J:$K,MATCH(DATOS_MIP_SA!AW38,referentes!$K:$K,0),1))","v":""},null,null,null,null,null,null,{"$f":"IF(X38<>\"\",INDEX(referentes!$AH:$AL,MATCH(DATOS_MIP_SA!X38,referentes!$AI:$AI,0),5),\"\")","v":""}]
[null,null,null,"",{"$f":"IF(J39=\"\",\"\",CONCATENATE(AF39,DIGITADOR!$B$2,DIGITADOR!$M$1,J39))","v":""},{"$f":"IF(J39=\"\",\"\",CONCATENATE(DIGITADOR!$B$2,AF39,DIGITADOR!$M$1,J39,ROW()))","v":""},null,null,null,{"$f":"IF(X39=\"\",\"\", INDEX(referentes!$AH:$AL,MATCH(DATOS_MIP_SA!X39,referentes!$AI:$AI,0),1))","v":""},"",{"$f":"IF(AI39=\"\",\"\", INDEX(referentes!$D:$E,MATCH(DATOS_MIP_SA!AI39,referentes!$E:$E,0),1))","v":""},{"$f":"IF(AK39=\"\",\"\", INDEX(referentes!$A:$B,MATCH(DATOS_MIP_SA!AK39,referentes!$B:$B,0),1))","v":""},null,{"$f":"IF(AM39=\"\",\"\", INDEX(referentes!$S:$T,MATCH(AM39,referentes!$T:$T,0),1))","v":""},{"$f":"IF(AN39=\"\",\"\", INDEX(referentes!$Y:$Z,MATCH(AN39,referentes!$Z:$Z,0),1))","v":""},{"$f":"IF(AU39=\"\",\"\", INDEX(referentes!$V:$W,MATCH(DATOS_MIP_SA!AU39,referentes!$W:$W,0),1))","v":""},{"$f":"IF(AO39=\"\",\"\", INDEX(referentes!$AB:$AC,MATCH(DATOS_MIP_SA!AO39,referentes!$AC:$AC,0),1))","v":""},{"$f":"IF(AV39=\"\",\"\", INDEX('otras referencias'!$U:$V,MATCH(DATOS_MIP_SA!AV39,'otras referencias'!$V:$V,0),1))","v":""},{"$f":"IF(AW39=\"\",\"\", INDEX(referentes!$J:$K,MATCH(DATOS_MIP_SA!AW39,referentes!$K:$K,0),1))","v":""},null,null,null,null,null,null,{"$f":"IF(X39<>\"\",INDEX(referentes!$AH:$AL,MATCH(DATOS_MIP_SA!X39,referentes!$AI:$AI,0),5),\"\")","v":""}]
[null,null,null,"",{"$f":"IF(J40=\"\",\"\",CONCATENATE(AF40,DIGITADOR!$B$2,DIGITADOR!$M$1,J40))","v":""},{"$f":"IF(J40=\"\",\"\",CONCATENATE(DIGITADOR!$B$2,AF40,DIGITADOR!$M$1,J40,ROW()))","v":""},null,null,null,{"$f":"IF(X40=\"\",\"\", INDEX(referentes!$AH:$AL,MATCH(DATOS_MIP_SA!X40,referentes!$AI:$AI,0),1))","v":""},"",{"$f":"IF(AI40=\"\",\"\", INDEX(referentes!$D:$E,MATCH(DATOS_MIP_SA!AI40,referentes!$E:$E,0),1))","v":""},{"$f":"IF(AK40=\"\",\"\", INDEX(referentes!$A:$B,MATCH(DATOS_MIP_SA!AK40,referentes!$B:$B,0),1))","v":""},null,{"$f":"IF(AM40=\"\",\"\", INDEX(referentes!$S:$T,MATCH(AM40,referentes!$T:$T,0),1))","v":""},{"$f":"IF(AN40=\"\",\"\", INDEX(referentes!$Y:$Z,MATCH(AN40,referentes!$Z:$Z,0),1))","v":""},{"$f":"IF(AU40=\"\",\"\", INDEX(referentes!$V:$W,MATCH(DATOS_MIP_SA!AU40,referentes!$W:$W,0),1))","v":""},{"$f":"IF(AO40=\"\",\"\", INDEX(referentes!$AB:$AC,MATCH(DATOS_MIP_SA!AO40,referentes!$AC:$AC,0),1))","v":""},{"$f":"IF(AV40=\"\",\"\", INDEX('otras referencias'!$U:$V,MATCH(DATOS_MIP_SA!AV40,'otras referencias'!$V:$V,0),1))","v":""},{"$f":"IF(AW40=\"\",\"\", INDEX(referentes!$J:$K,MATCH(DATOS_MIP_SA!AW40,referentes!$K:$K,0),1))","v":""},null,null,null,null,null,null,{"$f":"IF(X40<>\"\",INDEX(referentes!$AH:$AL,MATCH(DATOS_MIP_SA!X40,referentes!$AI:$AI,0),5),\"\")","v":""}]
[null,null,null,"",{"$f":"IF(J41=\"\",\"\",CONCATENATE(AF41,DIGITADOR!$B$2,DIGITADOR!$M$1,J41))","v":""},{"$f":"IF(J41=\"\",\"\",CONCATENATE(DIGITADOR!$B$2,AF41,DIGITADOR!$M$1,J41,ROW()))","v":""},null,null,null,{"$f":"IF(X41=\"\",\"\", INDEX(referentes!$AH:$AL,MATCH(DATOS_MIP_SA!X41,referentes!$AI:$AI,0),1))","v":""},"",{"$f":"IF(AI41=\"\",\"\", INDEX(referentes!$D:$E,MATCH(DATOS_MIP_SA!AI41,referentes!$E:$E,0),1))","v":""},{"$f":"IF(AK41=\"\",\"\", INDEX(referentes!$A:$B,MATCH(DATOS_MIP_SA!AK41,referentes!$B:$B,0),1))","v":""},null,{"$f":"IF(AM41=\"\",\"\", INDEX(referentes!$S:$T,MATCH(AM41,referentes!$T:$T,0),1))","v":""},{"$f":"IF(AN41=\"\",\"\", INDEX(referentes!$Y:$Z,MATCH(AN41,referentes!$Z:$Z,0),1))","v":""},{"$f":"IF(AU41=\"\",\"\", INDEX(referentes!$V:$W,MATCH(DATOS_MIP_SA!AU41,referentes!$W:$W,0),1))","v":""},{"$f":"IF(AO41=\"\",\"\", INDEX(referentes!$AB:$AC,MATCH(DATOS_MIP_SA!AO41,referentes!$AC:$AC,0),1))","v":""},{"$f":"IF(AV41=\"\",\"\", INDEX('otras referencias'!$U:$V,MATCH(DATOS_MIP_SA!AV41,'otras referencias'!$V:$V,0),1))","v":""},{"$f":"IF(AW41=\"\",\"\", INDEX(referentes!$J:$K,MATCH(DATOS_MIP_SA!AW41,referentes!$K:$K,0),1))","v":""},null,null,null,null,null,null,{"$f":"IF(X41<>\"\",INDEX(referentes!$AH:$AL,MATCH(DATOS_MIP_SA!X41,referentes!$AI:$AI,0),5),\"\")","v":""}]
[null,null,null,"",{"$f":"IF(J42=\"\",\"\",CONCATENATE(AF42,DIGITADOR!$B$2,DIGITADOR!$M$1,J42))","v":""},{"$f":"IF(J42=\"\",\"\",CONCATENATE(DIGITADOR!$B$2,AF42,DIGITADOR!$M$1,J42,ROW()))","v":""},null,null,null,{"$f":"IF(X42=\"\",\"\", INDEX(referentes!$AH:$AL,MATCH(DATOS_MIP_SA!X42,referentes!$AI:$AI,0),1))","v":""},"",{"$f":"IF(AI42=\"\",\"\", INDEX(referentes!$D:$E,MATCH(DATOS_MIP_SA!AI42,referentes!$E:$E,0),1))","v":""},{"$f":"IF(AK42=\"\",\"\", INDEX(referentes!$A:$B,MATCH(DATOS_MIP_SA!AK42,referentes!$B:$B,0),1))","v":""},null,{"$f":"IF(AM42=\"\",\"\", INDEX(referentes!$S:$T,MATCH(AM42,referentes!$T:$T,0),1))","v":""},{"$f":"IF(AN42=\"\",\"\", INDEX(referentes!$Y:$Z,MATCH(AN42,referentes!$Z:$Z,0),1))","v":""},{"$f":"IF(AU42=\"\",\"\", INDEX(referentes!$V:$W,MATCH(DATOS_MIP_SA!AU42,referentes!$W:$W,0),1))","v":""},{"$f":"IF(AO42=\"\",\"\", INDEX(referentes!$AB:$AC,MATCH(DATOS_MIP_SA!AO42,referentes!$AC:$AC,0),1))","v":""},{"$f":"IF(AV42=\"\",\"\", INDEX('otras referencias'!$U:$V,MATCH(DATOS_MIP_SA!AV42,'otras referencias'!$V:$V,0),1))","v":""},{"$f":"IF(AW42=\"\",\"\", INDEX(referentes!$J:$K,MATCH(DATOS_MIP_SA!AW42,referentes!$K:$K,0),1))","v":""},null,null,null,null,null,null,{"$f":"IF(X42<>\"\",INDEX(referentes!$AH:$AL,MATCH(DATOS_MIP_SA!X42,referentes!$AI:$AI,0),5),\"\")","v":""}]
[null,null,null,"",{"$f":"IF(J43=\"\",\"\",CONCATENATE(AF43,DIGITADOR!$B$2,DIGITADOR!$M$1,J43))","v":""},{"$f":"IF(J43=\"\",\"\",CONCATENATE(DIGITADOR!$B$2,AF43,DIGITADOR!$M$1,J43,ROW()))","v":""},null,null,null,{"$f":"IF(X43=\"\",\"\", INDEX(referentes!$AH:$AL,MATCH(DATOS_MIP_SA!X43,referentes!$AI:$AI,0),1))","v":""},"",{"$f":"IF(AI43=\"\",\"\", INDEX(referentes!$D:$E,MATCH(DATOS_MIP_SA!AI43,referentes!$E:$E,0),1))","v":""},{"$f":"IF(AK43=\"\",\"\", INDEX(referentes!$A:$B,MATCH(DATOS_MIP_SA!AK43,referentes!$B:$B,0),1))","v":""},null,{"$f":"IF(AM43=\"\",\"\", INDEX(referentes!$S:$T,MATCH(AM43,referentes!$T:$T,0),1))","v":""},{"$f":"IF(AN43=\"\",\"\", INDEX(referentes!$Y:$Z,MATCH(AN43,referentes!$Z:$Z,0),1))","v":""},{"$f":"IF(AU43=\"\",\"\", INDEX(referentes!$V:$W,MATCH(DATOS_MIP_SA!AU43,referentes!$W:$W,0),1))","v":""},{"$f":"IF(AO43=\"\",\"\", INDEX(referentes!$AB:$AC,MATCH(DATOS_MIP_SA!AO43,referentes!$AC:$AC,0),1))","v":""},{"$f":"IF(AV43=\"\",\"\", INDEX('otras referencias'!$U:$V,MATCH(DATOS_MIP_SA!AV43,'otras referencias'!$V:$V,0),1))","v":""},{"$f":"IF(AW43=\"\",\"\", INDEX(referentes!$J:$K,MATCH(DATOS_MIP_SA!AW43,referentes!$K:$K,0),1))","v":""},null,null,null,null,null,null,{"$f":"IF(X43<>\"\",INDEX(referentes!$AH:$AL,MATCH(DATOS_MIP_SA!X43,referentes!$AI:$AI,0),5),\"\")","v":""}]
[null,null,null,"",{"$f":"IF(J44=\"\",\"\",CONCATENATE(AF44,DIGITADOR!$B$2,DIGITADOR!$M$1,J44))","v":""},{"$f":"IF(J44=\"\",\"\",CONCATENATE(DIGITADOR!$B$2,AF44,DIGITADOR!$M$1,J44,ROW()))","v":""},null,null,null,{"$f":"IF(X44=\"\",\"\", INDEX(referentes!$AH:$AL,MATCH(DATOS_MIP_SA!X44,referentes!$AI:$AI,0),1))","v":""},"",{"$f":"IF(AI44=\"\",\"\", INDEX(referentes!$D:$E,MATCH(DATOS_MIP_SA!AI44,referentes!$E:$E,0),1))","v":""},{"$f":"IF(AK44=\"\",\"\", INDEX(referentes!$A:$B,MATCH(DATOS_MIP_SA!AK44,referentes!$B:$B,0),1))","v":""},null,{"$f":"IF(AM44=\"\",\"\", INDEX(referentes!$S:$T,MATCH(AM44,referentes!$T:$T,0),1))","v":""},{"$f":"IF(AN44=\"\",\"\", INDEX(referentes!$Y:$Z,MATCH(AN44,referentes!$Z:$Z,0),1))","v":""},{"$f":"IF(AU44=\"\",\"\", INDEX(referentes!$V:$W,MATCH(DATOS_MIP_SA!AU44,referentes!$W:$W,0),1))","v":""},{"$f":"IF(AO44=\"\",\"\", INDEX(referentes!$AB:$AC,MATCH(DATOS_MIP_SA!AO44,referentes!$AC:$AC,0),1))","v":""},{"$f":"IF(AV44=\"\",\"\", INDEX('otras referencias'!$U:$V,MATCH(DATOS_MIP_SA!AV44,'otras referencias'!$V:$V,0),1))","v":""},{"$f":"IF(AW44=\"\",\"\", INDEX(referentes!$J:$K,MATCH(DATOS_MIP_SA!AW44,referentes!$K:$K,0),1))","v":""},null,null,null,null,null,null,{"$f":"IF(X44<>\"\",INDEX(referentes!$AH:$AL,MATCH(DATOS_MIP_SA!X44,referentes!$AI:$AI,0),5),\"\")","v":""}]
[null,null,null,"",{"$f":"IF(J45=\"\",\"\",CONCATENATE(AF45,DIGITADOR!$B$2,DIGITADOR!$M$1,J45))","v":""},{"$f":"IF(J45=\"\",\"\",CONCATENATE(DIGITADOR!$B$2,AF45,DIGITADOR!$M$1,J45,ROW()))","v":""},null,null,null,{"$f":"IF(X45=\"\",\"\", INDEX(referentes!$AH:$AL,MATCH(DATOS_MIP_SA!X45,referentes!$AI:$AI,0),1))","v":""},"",{"$f":"IF(AI45=\"\",\"\", INDEX(referentes!$D:$E,MATCH(DATOS_MIP_SA!AI45,referentes!$E:$E,0),1))","v":""},{"$f":"IF(AK45=\"\",\"\", INDEX(referentes!$A:$B,MATCH(DATOS_MIP_SA!AK45,referentes!$B:$B,0),1))","v":""},null,{"$f":"IF(AM45=\"\",\"\", INDEX(referentes!$S:$T,MATCH(AM45,referentes!$T:$T,0),1))","v":""},{"$f":"IF(AN45=\"\",\"\", INDEX(referentes!$Y:$Z,MATCH(AN45,referentes!$Z:$Z,0),1))","v":""},{"$f":"IF(AU45=\"\",\"\", INDEX(referentes!$V:$W,MATCH(DATOS_MIP_SA!AU45,referentes!$W:$W,0),1))","v":""},{"$f":"IF(AO45=\"\",\"\", INDEX(referentes!$AB:$AC,MATCH(DATOS_MIP_SA!AO45,referentes!$AC:$AC,0),1))","v":""},{"$f":"IF(AV45=\"\",\"\", INDEX('otras referencias'!$U:$V,MATCH(DATOS_MIP_SA!AV45,'otras referencias'!$V:$V,0),1))","v":""},{"$f":"IF(AW45=\"\",\"\", INDEX(referentes!$J:$K,MATCH(DATOS_MIP_SA!AW45,referentes!$K:$K,0),1))","v":""},null,null,null,null,null,null,{"$f":"IF(X45<>\"\",INDEX(referentes!$AH:$AL,MATCH(DATOS_MIP_SA!X45,referentes!$AI:$AI,0),5),\"\")","v":""}]
[null,null,null,"",{"$f":"IF(J46=\"\",\"\",CONCATENATE(AF46,DIGITADOR!$B$2,DIGITADOR!$M$1,J46))","v":""},{"$f":"IF(J46=\"\",\"\",CONCATENATE(DIGITADOR!$B$2,AF46,DIGITADOR!$M$1,J46,ROW()))","v":""},null,null,null,{"$f":"IF(X46=\"\",\"\", INDEX(referentes!$AH:$AL,MATCH(DATOS_MIP_SA!X46,referentes!$AI:$AI,0),1))","v":""},"",{"$f":"IF(AI46=\"\",\"\", INDEX(referentes!$D:$E,MATCH(DATOS_MIP_SA!AI46,referentes!$E:$E,0),1))","v":""},{"$f":"IF(AK46=\"\",\"\", INDEX(referentes!$A:$B,MATCH(DATOS_MIP_SA!AK46,referentes!$B:$B,0),1))","v":""},null,{"$f":"IF(AM46=\"\",\"\", INDEX(referentes!$S:$T,MATCH(AM46,referentes!$T:$T,0),1))","v":""},{"$f":"IF(AN46=\"\",\"\", INDEX(referentes!$Y:$Z,MATCH(AN46,referentes!$Z:$Z,0),1))","v":""},{"$f":"IF(AU46=\"\",\"\", INDEX(referentes!$V:$W,MATCH(DATOS_MIP_SA!AU46,referentes!$W:$W,0),1))","v":""},{"$f":"IF(AO46=\"\",\"\", INDEX(referentes!$AB:$AC,MATCH(DATOS_MIP_SA!AO46,referentes!$AC:$AC,0),1))","v":""},{"$f":"IF(AV46=\"\",\"\", INDEX('otras referencias'!$U:$V,MATCH(DATOS_MIP_SA!AV46,'otras referencias'!$V:$V,0),1))","v":""},{"$f":"IF(AW46=\"\",\"\", INDEX(referentes!$J:$K,MATCH(DATOS_MIP_SA!AW46,referentes!$K:$K,0),1))","v":""},null,null,null,null,null,null,{"$f":"IF(X46<>\"\",INDEX(referentes!$AH:$AL,MATCH(DATOS_MIP_SA!X46,referentes!$AI:$AI,0),5),\"\")","v":""}]
[null,null,null,"",{"$f":"IF(J47=\"\",\"\",CONCATENATE(AF47,DIGITADOR!$B$2,DIGITADOR!$M$1,J47))","v":""},{"$f":"IF(J47=\"\",\"\",CONCATENATE(DIGITADOR!$B$2,AF47,DIGITADOR!$M$1,J47,ROW()))","v":""},null,null,null,{"$f":"IF(X47=\"\",\"\", INDEX(referentes!$AH:$AL,MATCH(DATOS_MIP_SA!X47,referentes!$AI:$AI,0),1))","v":""},"",{"$f":"IF(AI47=\"\",\"\", INDEX(referentes!$D:$E,MATCH(DATOS_MIP_SA!AI47,referentes!$E:$E,0),1))","v":""},{"$f":"IF(AK47=\"\",\"\", INDEX(referentes!$A:$B,MATCH(DATOS_MIP_SA!AK47,referentes!$B:$B,0),1))","v":""},null,{"$f":"IF(AM47=\"\",\"\", INDEX(referentes!$S:$T,MATCH(AM47,referentes!$T:$T,0),1))","v":""},{"$f":"IF(AN47=\"\",\"\", INDEX(referentes!$Y:$Z,MATCH(AN47,referentes!$Z:$Z,0),1))","v":""},{"$f":"IF(AU47=\"\",\"\", INDEX(referentes!$V:$W,MATCH(DATOS_MIP_SA!AU47,referentes!$W:$W,0),1))","v":""},{"$f":"IF(AO47=\"\",\"\", INDEX(referentes!$AB:$AC,MATCH(DATOS_MIP_SA!AO47,referentes!$AC:$AC,0),1))","v":""},{"$f":"IF(AV47=\"\",\"\", INDEX('otras referencias'!$U:$V,MATCH(DATOS_MIP_SA!AV47,'otras referencias'!$V:$V,0),1))","v":""},{"$f":"IF(AW47=\"\",\"\", INDEX(referentes!$J:$K,MATCH(DATOS_MIP_SA!AW47,referentes!$K:$K,0),1))","v":""},null,null,null,null,null,null,{"$f":"IF(X47<>\"\",INDEX(referentes!$AH:$AL,MATCH(DATOS_MIP_SA!X47,referentes!$AI:$AI,0),5),\"\")","v":""}]
[null,null,null,"",{"$f":"IF(J48=\"\",\"\",CONCATENATE(AF48,DIGITADOR!$B$2,DIGITADOR!$M$1,J48))","v":""},{"$f":"IF(J48=\"\",\"\",CONCATENATE(DIGITADOR!$B$2,AF48,DIGITADOR!$M$1,J48,ROW()))","v":""},null,null,null,{"$f":"IF(X48=\"\",\"\", INDEX(referentes!$AH:$AL,MATCH(DATOS_MIP_SA!X48,referentes!$AI:$AI,0),1))","v":""},"",{"$f":"IF(AI48=\"\",\"\", INDEX(referentes!$D:$E,MATCH(DATOS_MIP_SA!AI48,referentes!$E:$E,0),1))","v":""},{"$f":"IF(AK48=\"\",\"\", INDEX(referentes!$A:$B,MATCH(DATOS_MIP_SA!AK48,referentes!$B:$B,0),1))","v":""},null,{"$f":"IF(AM48=\"\",\"\", INDEX(referentes!$S:$T,MATCH(AM48,referentes!$T:$T,0),1))","v":""},{"$f":"IF(AN48=\"\",\"\", INDEX(referentes!$Y:$Z,MATCH(AN48,referentes!$Z:$Z,0),1))","v":""},{"$f":"IF(AU48=\"\",\"\", INDEX(referentes!$V:$W,MATCH(DATOS_MIP_SA!AU48,referentes!$W:$W,0),1))","v":""},{"$f":"IF(AO48=\"\",\"\", INDEX(referentes!$AB:$AC,MATCH(DATOS_MIP_SA!AO48,referentes!$AC:$AC,0),1))","v":""},{"$f":"IF(AV48=\"\",\"\", INDEX('otras referencias'!$U:$V,MATCH(DATOS_MIP_SA!AV48,'otras referencias'!$V:$V,0),1))","v":""},{"$f":"IF(AW48=\"\",\"\", INDEX(referentes!$J:$K,MATCH(DATOS_MIP_SA!AW48,referentes!$K:$K,0),1))","v":""},null,null,null,null,null,null,{"$f":"IF(X48<>\"\",INDEX(referentes!$AH:$AL,MATCH(DATOS_MIP_SA!X48,referentes!$AI:$AI,0),5),\"\")","v":""}]
[null,null,null,"",{"$f":"IF(J49=\"\",\"\",CONCATENATE(AF49,DIGITADOR!$B$2,DIGITADOR!$M$1,J49))","v":""},{"$f":"IF(J49=\"\",\"\",CONCATENATE(DIGITADOR!$B$2,AF49,DIGITADOR!$M$1,J49,ROW()))","v":""},null,null,null,{"$f":"IF(X49=\"\",\"\", INDEX(referentes!$AH:$AL,MATCH(DATOS_MIP_SA!X49,referentes!$AI:$AI,0),1))","v":""},"",{"$f":"IF(AI49=\"\",\"\", INDEX(referentes!$D:$E,MATCH(DATOS_MIP_SA!AI49,referentes!$E:$E,0),1))","v":""},{"$f":"IF(AK49=\"\",\"\", INDEX(referentes!$A:$B,MATCH(DATOS_MIP_SA!AK49,referentes!$B:$B,0),1))","v":""},null,{"$f":"IF(AM49=\"\",\"\", INDEX(referentes!$S:$T,MATCH(AM49,referentes!$T:$T,0),1))","v":""},{"$f":"IF(AN49=\"\",\"\", INDEX(referentes!$Y:$Z,MATCH(AN49,referentes!$Z:$Z,0),1))","v":""},{"$f":"IF(AU49=\"\",\"\", INDEX(referentes!$V:$W,MATCH(DATOS_MIP_SA!AU49,referentes!$W:$W,0),1))","v":""},{"$f":"IF(AO49=\"\",\"\", INDEX(referentes!$AB:$AC,MATCH(DATOS_MIP_SA!AO49,referentes!$AC:$AC,0),1))","v":""},{"$f":"IF(AV49=\"\",\"\", INDEX('otras referencias'!$U:$V,MATCH(DATOS_MIP_SA!AV49,'otras referencias'!$V:$V,0),1))","v":""},{"$f":"IF(AW49=\"\",\"\", INDEX(referentes!$J:$K,MATCH(DATOS_MIP_SA!AW49,referentes!$K:$K,0),1))","v":""},null,null,null,null,null,null,{"$f":"IF(X49<>\"\",INDEX(referentes!$AH:$AL,MATCH(DATOS_MIP_SA!X49,referentes!$AI:$AI,0),5),\"\")","v":""}]
[null,null,null,"",{"$f":"IF(J50=\"\",\"\",CONCATENATE(AF50,DIGITADOR!$B$2,DIGITADOR!$M$1,J50))","v":""},{"$f":"IF(J50=\"\",\"\",CONCATENATE(DIGITADOR!$B$2,AF50,DIGITADOR!$M$1,J50,ROW()))","v":""},null,null,null,{"$f":"IF(X50=\"\",\"\", INDEX(referentes!$AH:$AL,MATCH(DATOS_MIP_SA!X50,referentes!$AI:$AI,0),1))","v":""},"",{"$f":"IF(AI50=\"\",\"\", INDEX(referentes!$D:$E,MATCH(DATOS_MIP_SA!AI50,referentes!$E:$E,0),1))","v":""},{"$f":"IF(AK50=\"\",\"\", INDEX(referentes!$A:$B,MATCH(DATOS_MIP_SA!AK50,referentes!$B:$B,0),1))","v":""},null,{"$f":"IF(AM50=\"\",\"\", INDEX(referentes!$S:$T,MATCH(AM50,referentes!$T:$T,0),1))","v":""},{"$f":"IF(AN50=\"\",\"\", INDEX(referentes!$Y:$Z,MATCH(AN50,referentes!$Z:$Z,0),1))","v":""},{"$f":"IF(AU50=\"\",\"\", INDEX(referentes!$V:$W,MATCH(DATOS_MIP_SA!AU50,referentes!$W:$W,0),1))","v":""},{"$f":"IF(AO50=\"\",\"\", INDEX(referentes!$AB:$AC,MATCH(DATOS_MIP_SA!AO50,referentes!$AC:$AC,0),1))","v":""},{"$f":"IF(AV50=\"\",\"\", INDEX('otras referencias'!$U:$V,MATCH(DATOS_MIP_SA!AV50,'otras referencias'!$V:$V,0),1))","v":""},{"$f":"IF(AW50=\"\",\"\", INDEX(referentes!$J:$K,MATCH(DATOS_MIP_SA!AW50,referentes!$K:$K,0),1))","v":""},null,null,null,null,null,null,{"$f":"IF(X50<>\"\",INDEX(referentes!$AH:$AL,MATCH(DATOS_MIP_SA!X50,referentes!$AI:$AI,0),5),\"\")","v":""}]
[null,null,null,"",{"$f":"IF(J51=\"\",\"\",CONCATENATE(AF51,DIGITADOR!$B$2,DIGITADOR!$M$1,J51))","v":""},{"$f":"IF(J51=\"\",\"\",CONCATENATE(DIGITADOR!$B$2,AF51,DIGITADOR!$M$1,J51,ROW()))","v":""},null,null,null,{"$f":"IF(X51=\"\",\"\", INDEX(referentes!$AH:$AL,MATCH(DATOS_MIP_SA!X51,referentes!$AI:$AI,0),1))","v":""},"",{"$f":"IF(AI51=\"\",\"\", INDEX(referentes!$D:$E,MATCH(DATOS_MIP_SA!AI51,referentes!$E:$E,0),1))","v":""},{"$f":"IF(AK51=\"\",\"\", INDEX(referentes!$A:$B,MATCH(DATOS_MIP_SA!AK51,referentes!$B:$B,0),1))","v":""},null,{"$f":"IF(AM51=\"\",\"\", INDEX(referentes!$S:$T,MATCH(AM51,referentes!$T:$T,0),1))","v":""},{"$f":"IF(AN51=\"\",\"\", INDEX(referentes!$Y:$Z,MATCH(AN51,referentes!$Z:$Z,0),1))","v":""},{"$f":"IF(AU51=\"\",\"\", INDEX(referentes!$V:$W,MATCH(DATOS_MIP_SA!AU51,referentes!$W:$W,0),1))","v":""},{"$f":"IF(AO51=\"\",\"\", INDEX(referentes!$AB:$AC,MATCH(DATOS_MIP_SA!AO51,referentes!$AC:$AC,0),1))","v":""},{"$f":"IF(AV51=\"\",\"\", INDEX('otras referencias'!$U:$V,MATCH(DATOS_MIP_SA!AV51,'otras referencias'!$V:$V,0),1))","v":""},{"$f":"IF(AW51=\"\",\"\", INDEX(referentes!$J:$K,MATCH(DATOS_MIP_SA!AW51,referentes!$K:$K,0),1))","v":""},null,null,null,null,null,null,{"$f":"IF(X51<>\"\",INDEX(referentes!$AH:$AL,MATCH(DATOS_MIP_SA!X51,referentes!$AI:$AI,0),5),\"\")","v":""}]
[null,null,null,"",{"$f":"IF(J52=\"\",\"\",CONCATENATE(AF52,DIGITADOR!$B$2,DIGITADOR!$M$1,J52))","v":""},{"$f":"IF(J52=\"\",\"\",CONCATENATE(DIGITADOR!$B$2,AF52,DIGITADOR!$M$1,J52,ROW()))","v":""},null,null,null,{"$f":"IF(X52=\"\",\"\", INDEX(referentes!$AH:$AL,MATCH(DATOS_MIP_SA!X52,referentes!$AI:$AI,0),1))","v":""},"",{"$f":"IF(AI52=\"\",\"\", INDEX(referentes!$D:$E,MATCH(DATOS_MIP_SA!AI52,referentes!$E:$E,0),1))","v":""},{"$f":"IF(AK52=\"\",\"\", INDEX(referentes!$A:$B,MATCH(DATOS_MIP_SA!AK52,referentes!$B:$B,0),1))","v":""},null,{"$f":"IF(AM52=\"\",\"\", INDEX(referentes!$S:$T,MATCH(AM52,referentes!$T:$T,0),1))","v":""},{"$f":"IF(AN52=\"\",\"\", INDEX(referentes!$Y:$Z,MATCH(AN52,referentes!$Z:$Z,0),1))","v":""},{"$f":"IF(AU52=\"\",\"\", INDEX(referentes!$V:$W,MATCH(DATOS_MIP_SA!AU52,referentes!$W:$W,0),1))","v":""},{"$f":"IF(AO52=\"\",\"\", INDEX(referentes!$AB:$AC,MATCH(DATOS_MIP_SA!AO52,referentes!$AC:$AC,0),1))","v":""},{"$f":"IF(AV52=\"\",\"\", INDEX('otras referencias'!$U:$V,MATCH(DATOS_MIP_SA!AV52,'otras referencias'!$V:$V,0),1))","v":""},{"$f":"IF(AW52=\"\",\"\", INDEX(referentes!$J:$K,MATCH(DATOS_MIP_SA!AW52,referentes!$K:$K,0),1))","v":""},null,null,null,null,null,null,{"$f":"IF(X52<>\"\",INDEX(referentes!$AH:$AL,MATCH(DATOS_MIP_SA!X52,referentes!$AI:$AI,0),5),\"\")","v":""}]
[null,null,null,"",{"$f":"IF(J53=\"\",\"\",CONCATENATE(AF53,DIGITADOR!$B$2,DIGITADOR!$M$1,J53))","v":""},{"$f":"IF(J53=\"\",\"\",CONCATENATE(DIGITADOR!$B$2,AF53,DIGITADOR!$M$1,J53,ROW()))","v":""},null,null,null,{"$f":"IF(X53=\"\",\"\", INDEX(referentes!$AH:$AL,MATCH(DATOS_MIP_SA!X53,referentes!$AI:$AI,0),1))","v":""},"",{"$f":"IF(AI53=\"\",\"\", INDEX(referentes!$D:$E,MATCH(DATOS_MIP_SA!AI53,referentes!$E:$E,0),1))","v":""},{"$f":"IF(AK53=\"\",\"\", INDEX(referentes!$A:$B,MATCH(DATOS_MIP_SA!AK53,referentes!$B:$B,0),1))","v":""},null,{"$f":"IF(AM53=\"\",\"\", INDEX(referentes!$S:$T,MATCH(AM53,referentes!$T:$T,0),1))","v":""},{"$f":"IF(AN53=\"\",\"\", INDEX(referentes!$Y:$Z,MATCH(AN53,referentes!$Z:$Z,0),1))","v":""},{"$f":"IF(AU53=\"\",\"\", INDEX(referentes!$V:$W,MATCH(DATOS_MIP_SA!AU53,referentes!$W:$W,0),1))","v":""},{"$f":"IF(AO53=\"\",\"\", INDEX(referentes!$AB:$AC,MATCH(DATOS_MIP_SA!AO53,referentes!$AC:$AC,0),1))","v":""},{"$f":"IF(AV53=\"\",\"\", INDEX('otras referencias'!$U:$V,MATCH(DATOS_MIP_SA!AV53,'otras referencias'!$V:$V,0),1))","v":""},{"$f":"IF(AW53=\"\",\"\", INDEX(referentes!$J:$K,MATCH(DATOS_MIP_SA!AW53,referentes!$K:$K,0),1))","v":""},null,null,null,null,null,null,{"$f":"IF(X53<>\"\",INDEX(referentes!$AH:$AL,MATCH(DATOS_MIP_SA!X53,referentes!$AI:$AI,0),5),\"\")","v":""}]
[null,null,null,"",{"$f":"IF(J54=\"\",\"\",CONCATENATE(AF54,DIGITADOR!$B$2,DIGITADOR!$M$1,J54))","v":""},{"$f":"IF(J54=\"\",\"\",CONCATENATE(DIGITADOR!$B$2,AF54,DIGITADOR!$M$1,J54,ROW()))","v":""},null,null,null,{"$f":"IF(X54=\"\",\"\", INDEX(referentes!$AH:$AL,MATCH(DATOS_MIP_SA!X54,referentes!$AI:$AI,0),1))","v":""},"",{"$f":"IF(AI54=\"\",\"\", INDEX(referentes!$D:$E,MATCH(DATOS_MIP_SA!AI54,referentes!$E:$E,0),1))","v":""},{"$f":"IF(AK54=\"\",\"\", INDEX(referentes!$A:$B,MATCH(DATOS_MIP_SA!AK54,referentes!$B:$B,0),1))","v":""},null,{"$f":"IF(AM54=\"\",\"\", INDEX(referentes!$S:$T,MATCH(AM54,referentes!$T:$T,0),1))","v":""},{"$f":"IF(AN54=\"\",\"\", INDEX(referentes!$Y:$Z,MATCH(AN54,referentes!$Z:$Z,0),1))","v":""},{"$f":"IF(AU54=\"\",\"\", INDEX(referentes!$V:$W,MATCH(DATOS_MIP_SA!AU54,referentes!$W:$W,0),1))","v":""},{"$f":"IF(AO54=\"\",\"\", INDEX(referentes!$AB:$AC,MATCH(DATOS_MIP_SA!AO54,referentes!$AC:$AC,0),1))","v":""},{"$f":"IF(AV54=\"\",\"\", INDEX('otras referencias'!$U:$V,MATCH(DATOS_MIP_SA!AV54,'otras referencias'!$V:$V,0),1))","v":""},{"$f":"IF(AW54=\"\",\"\", INDEX(referentes!$J:$K,MATCH(DATOS_MIP_SA!AW54,referentes!$K:$K,0),1))","v":""},null,null,null,null,null,null,{"$f":"IF(X54<>\"\",INDEX(referentes!$AH:$AL,MATCH(DATOS_MIP_SA!X54,referentes!$AI:$AI,0),5),\"\")","v":""}]
[null,null,null,"",{"$f":"IF(J55=\"\",\"\",CONCATENATE(AF55,DIGITADOR!$B$2,DIGITADOR!$M$1,J55))","v":""},{"$f":"IF(J55=\"\",\"\",CONCATENATE(DIGITADOR!$B$2,AF55,DIGITADOR!$M$1,J55,ROW()))","v":""},null,null,null,{"$f":"IF(X55=\"\",\"\", INDEX(referentes!$AH:$AL,MATCH(DATOS_MIP_SA!X55,referentes!$AI:$AI,0),1))","v":""},"",{"$f":"IF(AI55=\"\",\"\", INDEX(referentes!$D:$E,MATCH(DATOS_MIP_SA!AI55,referentes!$E:$E,0),1))","v":""},{"$f":"IF(AK55=\"\",\"\", INDEX(referentes!$A:$B,MATCH(DATOS_MIP_SA!AK55,referentes!$B:$B,0),1))","v":""},null,{"$f":"IF(AM55=\"\",\"\", INDEX(referentes!$S:$T,MATCH(AM55,referentes!$T:$T,0),1))","v":""},{"$f":"IF(AN55=\"\",\"\", INDEX(referentes!$Y:$Z,MATCH(AN55,referentes!$Z:$Z,0),1))","v":""},{"$f":"IF(AU55=\"\",\"\", INDEX(referentes!$V:$W,MATCH(DATOS_MIP_SA!AU55,referentes!$W:$W,0),1))","v":""},{"$f":"IF(AO55=\"\",\"\", INDEX(referentes!$AB:$AC,MATCH(DATOS_MIP_SA!AO55,referentes!$AC:$AC,0),1))","v":""},{"$f":"IF(AV55=\"\",\"\", INDEX('otras referencias'!$U:$V,MATCH(DATOS_MIP_SA!AV55,'otras referencias'!$V:$V,0),1))","v":""},{"$f":"IF(AW55=\"\",\"\", INDEX(referentes!$J:$K,MATCH(DATOS_MIP_SA!AW55,referentes!$K:$K,0),1))","v":""},null,null,null,null,null,null,{"$f":"IF(X55<>\"\",INDEX(referentes!$AH:$AL,MATCH(DATOS_MIP_SA!X55,referentes!$AI:$AI,0),5),\"\")","v":""}]
[null,null,null,"",{"$f":"IF(J56=\"\",\"\",CONCATENATE(AF56,DIGITADOR!$B$2,DIGITADOR!$M$1,J56))","v":""},{"$f":"IF(J56=\"\",\"\",CONCATENATE(DIGITADOR!$B$2,AF56,DIGITADOR!$M$1,J56,ROW()))","v":""},null,null,null,{"$f":"IF(X56=\"\",\"\", INDEX(referentes!$AH:$AL,MATCH(DATOS_MIP_SA!X56,referentes!$AI:$AI,0),1))","v":""},"",{"$f":"IF(AI56=\"\",\"\", INDEX(referentes!$D:$E,MATCH(DATOS_MIP_SA!AI56,referentes!$E:$E,0),1))","v":""},{"$f":"IF(AK56=\"\",\"\", INDEX(referentes!$A:$B,MATCH(DATOS_MIP_SA!AK56,referentes!$B:$B,0),1))","v":""},null,{"$f":"IF(AM56=\"\",\"\", INDEX(referentes!$S:$T,MATCH(AM56,referentes!$T:$T,0),1))","v":""},{"$f":"IF(AN56=\"\",\"\", INDEX(referentes!$Y:$Z,MATCH(AN56,referentes!$Z:$Z,0),1))","v":""},{"$f":"IF(AU56=\"\",\"\", INDEX(referentes!$V:$W,MATCH(DATOS_MIP_SA!AU56,referentes!$W:$W,0),1))","v":""},{"$f":"IF(AO56=\"\",\"\", INDEX(referentes!$AB:$AC,MATCH(DATOS_MIP_SA!AO56,referentes!$AC:$AC,0),1))","v":""},{"$f":"IF(AV56=\"\",\"\", INDEX('otras referencias'!$U:$V,MATCH(DATOS_MIP_SA!AV56,'otras referencias'!$V:$V,0),1))","v":""},{"$f":"IF(AW56=\"\",\"\", INDEX(referentes!$J:$K,MATCH(DATOS_MIP_SA!AW56,referentes!$K:$K,0),1))","v":""},null,null,null,null,null,null,{"$f":"IF(X56<>\"\",INDEX(referentes!$AH:$AL,MATCH(DATOS_MIP_SA!X56,referentes!$AI:$AI,0),5),\"\")","v":""}]
[null,null,null,"",{"$f":"IF(J57=\"\",\"\",CONCATENATE(AF57,DIGITADOR!$B$2,DIGITADOR!$M$1,J57))","v":""},{"$f":"IF(J57=\"\",\"\",CONCATENATE(DIGITADOR!$B$2,AF57,DIGITADOR!$M$1,J57,ROW()))","v":""},null,null,null,{"$f":"IF(X57=\"\",\"\", INDEX(referentes!$AH:$AL,MATCH(DATOS_MIP_SA!X57,referentes!$AI:$AI,0),1))","v":""},"",{"$f":"IF(AI57=\"\",\"\", INDEX(referentes!$D:$E,MATCH(DATOS_MIP_SA!AI57,referentes!$E:$E,0),1))","v":""},{"$f":"IF(AK57=\"\",\"\", INDEX(referentes!$A:$B,MATCH(DATOS_MIP_SA!AK57,referentes!$B:$B,0),1))","v":""},null,{"$f":"IF(AM57=\"\",\"\", INDEX(referentes!$S:$T,MATCH(AM57,referentes!$T:$T,0),1))","v":""},{"$f":"IF(AN57=\"\",\"\", INDEX(referentes!$Y:$Z,MATCH(AN57,referentes!$Z:$Z,0),1))","v":""},{"$f":"IF(AU57=\"\",\"\", INDEX(referentes!$V:$W,MATCH(DATOS_MIP_SA!AU57,referentes!$W:$W,0),1))","v":""},{"$f":"IF(AO57=\"\",\"\", INDEX(referentes!$AB:$AC,MATCH(DATOS_MIP_SA!AO57,referentes!$AC:$AC,0),1))","v":""},{"$f":"IF(AV57=\"\",\"\", INDEX('otras referencias'!$U:$V,MATCH(DATOS_MIP_SA!AV57,'otras referencias'!$V:$V,0),1))","v":""},{"$f":"IF(AW57=\"\",\"\", INDEX(referentes!$J:$K,MATCH(DATOS_MIP_SA!AW57,referentes!$K:$K,0),1))","v":""},null,null,null,null,null,null,{"$f":"IF(X57<>\"\",INDEX(referentes!$AH:$AL,MATCH(DATOS_MIP_SA!X57,referentes!$AI:$AI,0),5),\"\")","v":""}]
[null,null,null,"",{"$f":"IF(J58=\"\",\"\",CONCATENATE(AF58,DIGITADOR!$B$2,DIGITADOR!$M$1,J58))","v":""},{"$f":"IF(J58=\"\",\"\",CONCATENATE(DIGITADOR!$B$2,AF58,DIGITADOR!$M$1,J58,ROW()))","v":""},null,null,null,{"$f":"IF(X58=\"\",\"\", INDEX(referentes!$AH:$AL,MATCH(DATOS_MIP_SA!X58,referentes!$AI:$AI,0),1))","v":""},"",{"$f":"IF(AI58=\"\",\"\", INDEX(referentes!$D:$E,MATCH(DATOS_MIP_SA!AI58,referentes!$E:$E,0),1))","v":""},{"$f":"IF(AK58=\"\",\"\", INDEX(referentes!$A:$B,MATCH(DATOS_MIP_SA!AK58,referentes!$B:$B,0),1))","v":""},null,{"$f":"IF(AM58=\"\",\"\", INDEX(referentes!$S:$T,MATCH(AM58,referentes!$T:$T,0),1))","v":""},{"$f":"IF(AN58=\"\",\"\", INDEX(referentes!$Y:$Z,MATCH(AN58,referentes!$Z:$Z,0),1))","v":""},{"$f":"IF(AU58=\"\",\"\", INDEX(referentes!$V:$W,MATCH(DATOS_MIP_SA!AU58,referentes!$W:$W,0),1))","v":""},{"$f":"IF(AO58=\"\",\"\", INDEX(referentes!$AB:$AC,MATCH(DATOS_MIP_SA!AO58,referentes!$AC:$AC,0),1))","v":""},{"$f":"IF(AV58=\"\",\"\", INDEX('otras referencias'!$U:$V,MATCH(DATOS_MIP_SA!AV58,'otras referencias'!$V:$V,0),1))","v":""},{"$f":"IF(AW58=\"\",\"\", INDEX(referentes!$J:$K,MATCH(DATOS_MIP_SA!AW58,referentes!$K:$K,0),1))","v":""},null,null,null,null,null,null,{"$f":"IF(X58<>\"\",INDEX(referentes!$AH:$AL,MATCH(DATOS_MIP_SA!X58,referentes!$AI:$AI,0),5),\"\")","v":""}]
[null,null,null,"",{"$f":"IF(J59=\"\",\"\",CONCATENATE(AF59,DIGITADOR!$B$2,DIGITADOR!$M$1,J59))","v":""},{"$f":"IF(J59=\"\",\"\",CONCATENATE(DIGITADOR!$B$2,AF59,DIGITADOR!$M$1,J59,ROW()))","v":""},null,null,null,{"$f":"IF(X59=\"\",\"\", INDEX(referentes!$AH:$AL,MATCH(DATOS_MIP_SA!X59,referentes!$AI:$AI,0),1))","v":""},"",{"$f":"IF(AI59=\"\",\"\", INDEX(referentes!$D:$E,MATCH(DATOS_MIP_SA!AI59,referentes!$E:$E,0),1))","v":""},{"$f":"IF(AK59=\"\",\"\", INDEX(referentes!$A:$B,MATCH(DATOS_MIP_SA!AK59,referentes!$B:$B,0),1))","v":""},null,{"$f":"IF(AM59=\"\",\"\", INDEX(referentes!$S:$T,MATCH(AM59,referentes!$T:$T,0),1))","v":""},{"$f":"IF(AN59=\"\",\"\", INDEX(referentes!$Y:$Z,MATCH(AN59,referentes!$Z:$Z,0),1))","v":""},{"$f":"IF(AU59=\"\",\"\", INDEX(referentes!$V:$W,MATCH(DATOS_MIP_SA!AU59,referentes!$W:$W,0),1))","v":""},{"$f":"IF(AO59=\"\",\"\", INDEX(referentes!$AB:$AC,MATCH(DATOS_MIP_SA!AO59,referentes!$AC:$AC,0),1))","v":""},{"$f":"IF(AV59=\"\",\"\", INDEX('otras referencias'!$U:$V,MATCH(DATOS_MIP_SA!AV59,'otras referencias'!$V:$V,0),1))","v":""},{"$f":"IF(AW59=\"\",\"\", INDEX(referentes!$J:$K,MATCH(DATOS_MIP_SA!AW59,referentes!$K:$K,0),1))","v":""},null,null,null,null,null,null,{"$f":"IF(X59<>\"\",INDEX(referentes!$AH:$AL,MATCH(DATOS_MIP_SA!X59,referentes!$AI:$AI,0),5),\"\")","v":""}]
[null,null,null,"",{"$f":"IF(J60=\"\",\"\",CONCATENATE(AF60,DIGITADOR!$B$2,DIGITADOR!$M$1,J60))","v":""},{"$f":"IF(J60=\"\",\"\",CONCATENATE(DIGITADOR!$B$2,AF60,DIGITADOR!$M$1,J60,ROW()))","v":""},null,null,null,{"$f":"IF(X60=\"\",\"\", INDEX(referentes!$AH:$AL,MATCH(DATOS_MIP_SA!X60,referentes!$AI:$AI,0),1))","v":""},"",{"$f":"IF(AI60=\"\",\"\", INDEX(referentes!$D:$E,MATCH(DATOS_MIP_SA!AI60,referentes!$E:$E,0),1))","v":""},{"$f":"IF(AK60=\"\",\"\", INDEX(referentes!$A:$B,MATCH(DATOS_MIP_SA!AK60,referentes!$B:$B,0),1))","v":""},null,{"$f":"IF(AM60=\"\",\"\", INDEX(referentes!$S:$T,MATCH(AM60,referentes!$T:$T,0),1))","v":""},{"$f":"IF(AN60=\"\",\"\", INDEX(referentes!$Y:$Z,MATCH(AN60,referentes!$Z:$Z,0),1))","v":""},{"$f":"IF(AU60=\"\",\"\", INDEX(referentes!$V:$W,MATCH(DATOS_MIP_SA!AU60,referentes!$W:$W,0),1))","v":""},{"$f":"IF(AO60=\"\",\"\", INDEX(referentes!$AB:$AC,MATCH(DATOS_MIP_SA!AO60,referentes!$AC:$AC,0),1))","v":""},{"$f":"IF(AV60=\"\",\"\", INDEX('otras referencias'!$U:$V,MATCH(DATOS_MIP_SA!AV60,'otras referencias'!$V:$V,0),1))","v":""},{"$f":"IF(AW60=\"\",\"\", INDEX(referentes!$J:$K,MATCH(DATOS_MIP_SA!AW60,referentes!$K:$K,0),1))","v":""},null,null,null,null,null,null,{"$f":"IF(X60<>\"\",INDEX(referentes!$AH:$AL,MATCH(DATOS_MIP_SA!X60,referentes!$AI:$AI,0),5),\"\")","v":""}]
[null,null,null,"",{"$f":"IF(J61=\"\",\"\",CONCATENATE(AF61,DIGITADOR!$B$2,DIGITADOR!$M$1,J61))","v":""},{"$f":"IF(J61=\"\",\"\",CONCATENATE(DIGITADOR!$B$2,AF61,DIGITADOR!$M$1,J61,ROW()))","v":""},null,null,null,{"$f":"IF(X61=\"\",\"\", INDEX(referentes!$AH:$AL,MATCH(DATOS_MIP_SA!X61,referentes!$AI:$AI,0),1))","v":""},"",{"$f":"IF(AI61=\"\",\"\", INDEX(referentes!$D:$E,MATCH(DATOS_MIP_SA!AI61,referentes!$E:$E,0),1))","v":""},{"$f":"IF(AK61=\"\",\"\", INDEX(referentes!$A:$B,MATCH(DATOS_MIP_SA!AK61,referentes!$B:$B,0),1))","v":""},null,{"$f":"IF(AM61=\"\",\"\", INDEX(referentes!$S:$T,MATCH(AM61,referentes!$T:$T,0),1))","v":""},{"$f":"IF(AN61=\"\",\"\", INDEX(referentes!$Y:$Z,MATCH(AN61,referentes!$Z:$Z,0),1))","v":""},{"$f":"IF(AU61=\"\",\"\", INDEX(referentes!$V:$W,MATCH(DATOS_MIP_SA!AU61,referentes!$W:$W,0),1))","v":""},{"$f":"IF(AO61=\"\",\"\", INDEX(referentes!$AB:$AC,MATCH(DATOS_MIP_SA!AO61,referentes!$AC:$AC,0),1))","v":""},{"$f":"IF(AV61=\"\",\"\", INDEX('otras referencias'!$U:$V,MATCH(DATOS_MIP_SA!AV61,'otras referencias'!$V:$V,0),1))","v":""},{"$f":"IF(AW61=\"\",\"\", INDEX(referentes!$J:$K,MATCH(DATOS_MIP_SA!AW61,referentes!$K:$K,0),1))","v":""},null,null,null,null,null,null,{"$f":"IF(X61<>\"\",INDEX(referentes!$AH:$AL,MATCH(DATOS_MIP_SA!X61,referentes!$AI:$AI,0),5),\"\")","v":""}]
[null,null,null,"",{"$f":"IF(J62=\"\",\"\",CONCATENATE(AF62,DIGITADOR!$B$2,DIGITADOR!$M$1,J62))","v":""},{"$f":"IF(J62=\"\",\"\",CONCATENATE(DIGITADOR!$B$2,AF62,DIGITADOR!$M$1,J62,ROW()))","v":""},null,null,null,{"$f":"IF(X62=\"\",\"\", INDEX(referentes!$AH:$AL,MATCH(DATOS_MIP_SA!X62,referentes!$AI:$AI,0),1))","v":""},"",{"$f":"IF(AI62=\"\",\"\", INDEX(referentes!$D:$E,MATCH(DATOS_MIP_SA!AI62,referentes!$E:$E,0),1))","v":""},{"$f":"IF(AK62=\"\",\"\", INDEX(referentes!$A:$B,MATCH(DATOS_MIP_SA!AK62,referentes!$B:$B,0),1))","v":""},null,{"$f":"IF(AM62=\"\",\"\", INDEX(referentes!$S:$T,MATCH(AM62,referentes!$T:$T,0),1))","v":""},{"$f":"IF(AN62=\"\",\"\", INDEX(referentes!$Y:$Z,MATCH(AN62,referentes!$Z:$Z,0),1))","v":""},{"$f":"IF(AU62=\"\",\"\", INDEX(referentes!$V:$W,MATCH(DATOS_MIP_SA!AU62,referentes!$W:$W,0),1))","v":""},{"$f":"IF(AO62=\"\",\"\", INDEX(referentes!$AB:$AC,MATCH(DATOS_MIP_SA!AO62,referentes!$AC:$AC,0),1))","v":""},{"$f":"IF(AV62=\"\",\"\", INDEX('otras referencias'!$U:$V,MATCH(DATOS_MIP_SA!AV62,'otras referencias'!$V:$V,0),1))","v":""},{"$f":"IF(AW62=\"\",\"\", INDEX(referentes!$J:$K,MATCH(DATOS_MIP_SA!AW62,referentes!$K:$K,0),1))","v":""},null,null,null,null,null,null,{"$f":"IF(X62<>\"\",INDEX(referentes!$AH:$AL,MATCH(DATOS_MIP_SA!X62,referentes!$AI:$AI,0),5),\"\")","v":""}]
[null,null,null,"",{"$f":"IF(J63=\"\",\"\",CONCATENATE(AF63,DIGITADOR!$B$2,DIGITADOR!$M$1,J63))","v":""},{"$f":"IF(J63=\"\",\"\",CONCATENATE(DIGITADOR!$B$2,AF63,DIGITADOR!$M$1,J63,ROW()))","v":""},null,null,null,{"$f":"IF(X63=\"\",\"\", INDEX(referentes!$AH:$AL,MATCH(DATOS_MIP_SA!X63,referentes!$AI:$AI,0),1))","v":""},"",{"$f":"IF(AI63=\"\",\"\", INDEX(referentes!$D:$E,MATCH(DATOS_MIP_SA!AI63,referentes!$E:$E,0),1))","v":""},{"$f":"IF(AK63=\"\",\"\", INDEX(referentes!$A:$B,MATCH(DATOS_MIP_SA!AK63,referentes!$B:$B,0),1))","v":""},null,{"$f":"IF(AM63=\"\",\"\", INDEX(referentes!$S:$T,MATCH(AM63,referentes!$T:$T,0),1))","v":""},{"$f":"IF(AN63=\"\",\"\", INDEX(referentes!$Y:$Z,MATCH(AN63,referentes!$Z:$Z,0),1))","v":""},{"$f":"IF(AU63=\"\",\"\", INDEX(referentes!$V:$W,MATCH(DATOS_MIP_SA!AU63,referentes!$W:$W,0),1))","v":""},{"$f":"IF(AO63=\"\",\"\", INDEX(referentes!$AB:$AC,MATCH(DATOS_MIP_SA!AO63,referentes!$AC:$AC,0),1))","v":""},{"$f":"IF(AV63=\"\",\"\", INDEX('otras referencias'!$U:$V,MATCH(DATOS_MIP_SA!AV63,'otras referencias'!$V:$V,0),1))","v":""},{"$f":"IF(AW63=\"\",\"\", INDEX(referentes!$J:$K,MATCH(DATOS_MIP_SA!AW63,referentes!$K:$K,0),1))","v":""},null,null,null,null,null,null,{"$f":"IF(X63<>\"\",INDEX(referentes!$AH:$AL,MATCH(DATOS_MIP_SA!X63,referentes!$AI:$AI,0),5),\"\")","v":""}]
[null,null,null,"",{"$f":"IF(J64=\"\",\"\",CONCATENATE(AF64,DIGITADOR!$B$2,DIGITADOR!$M$1,J64))","v":""},{"$f":"IF(J64=\"\",\"\",CONCATENATE(DIGITADOR!$B$2,AF64,DIGITADOR!$M$1,J64,ROW()))","v":""},null,null,null,{"$f":"IF(X64=\"\",\"\", INDEX(referentes!$AH:$AL,MATCH(DATOS_MIP_SA!X64,referentes!$AI:$AI,0),1))","v":""},"",{"$f":"IF(AI64=\"\",\"\", INDEX(referentes!$D:$E,MATCH(DATOS_MIP_SA!AI64,referentes!$E:$E,0),1))","v":""},{"$f":"IF(AK64=\"\",\"\", INDEX(referentes!$A:$B,MATCH(DATOS_MIP_SA!AK64,referentes!$B:$B,0),1))","v":""},null,{"$f":"IF(AM64=\"\",\"\", INDEX(referentes!$S:$T,MATCH(AM64,referentes!$T:$T,0),1))","v":""},{"$f":"IF(AN64=\"\",\"\", INDEX(referentes!$Y:$Z,MATCH(AN64,referentes!$Z:$Z,0),1))","v":""},{"$f":"IF(AU64=\"\",\"\", INDEX(referentes!$V:$W,MATCH(DATOS_MIP_SA!AU64,referentes!$W:$W,0),1))","v":""},{"$f":"IF(AO64=\"\",\"\", INDEX(referentes!$AB:$AC,MATCH(DATOS_MIP_SA!AO64,referentes!$AC:$AC,0),1))","v":""},{"$f":"IF(AV64=\"\",\"\", INDEX('otras referencias'!$U:$V,MATCH(DATOS_MIP_SA!AV64,'otras referencias'!$V:$V,0),1))","v":""},{"$f":"IF(AW64=\"\",\"\", INDEX(referentes!$J:$K,MATCH(DATOS_MIP_SA!AW64,referentes!$K:$K,0),1))","v":""},null,null,null,null,null,null,{"$f":"IF(X64<>\"\",INDEX(referentes!$AH:$AL,MATCH(DATOS_MIP_SA!X64,referentes!$AI:$AI,0),5),\"\")","v":""}]
[null,null,null,"",{"$f":"IF(J65=\"\",\"\",CONCATENATE(AF65,DIGITADOR!$B$2,DIGITADOR!$M$1,J65))","v":""},{"$f":"IF(J65=\"\",\"\",CONCATENATE(DIGITADOR!$B$2,AF65,DIGITADOR!$M$1,J65,ROW()))","v":""},null,null,null,{"$f":"IF(X65=\"\",\"\", INDEX(referentes!$AH:$AL,MATCH(DATOS_MIP_SA!X65,referentes!$AI:$AI,0),1))","v":""},"",{"$f":"IF(AI65=\"\",\"\", INDEX(referentes!$D:$E,MATCH(DATOS_MIP_SA!AI65,referentes!$E:$E,0),1))","v":""},{"$f":"IF(AK65=\"\",\"\", INDEX(referentes!$A:$B,MATCH(DATOS_MIP_SA!AK65,referentes!$B:$B,0),1))","v":""},null,{"$f":"IF(AM65=\"\",\"\", INDEX(referentes!$S:$T,MATCH(AM65,referentes!$T:$T,0),1))","v":""},{"$f":"IF(AN65=\"\",\"\", INDEX(referentes!$Y:$Z,MATCH(AN65,referentes!$Z:$Z,0),1))","v":""},{"$f":"IF(AU65=\"\",\"\", INDEX(referentes!$V:$W,MATCH(DATOS_MIP_SA!AU65,referentes!$W:$W,0),1))","v":""},{"$f":"IF(AO65=\"\",\"\", INDEX(referentes!$AB:$AC,MATCH(DATOS_MIP_SA!AO65,referentes!$AC:$AC,0),1))","v":""},{"$f":"IF(AV65=\"\",\"\", INDEX('otras referencias'!$U:$V,MATCH(DATOS_MIP_SA!AV65,'otras referencias'!$V:$V,0),1))","v":""},{"$f":"IF(AW65=\"\",\"\", INDEX(referentes!$J:$K,MATCH(DATOS_MIP_SA!AW65,referentes!$K:$K,0),1))","v":""},null,null,null,null,null,null,{"$f":"IF(X65<>\"\",INDEX(referentes!$AH:$AL,MATCH(DATOS_MIP_SA!X65,referentes!$AI:$AI,0),5),\"\")","v":""}]
[null,null,null,"",{"$f":"IF(J66=\"\",\"\",CONCATENATE(AF66,DIGITADOR!$B$2,DIGITADOR!$M$1,J66))","v":""},{"$f":"IF(J66=\"\",\"\",CONCATENATE(DIGITADOR!$B$2,AF66,DIGITADOR!$M$1,J66,ROW()))","v":""},null,null,null,{"$f":"IF(X66=\"\",\"\", INDEX(referentes!$AH:$AL,MATCH(DATOS_MIP_SA!X66,referentes!$AI:$AI,0),1))","v":""},"",{"$f":"IF(AI66=\"\",\"\", INDEX(referentes!$D:$E,MATCH(DATOS_MIP_SA!AI66,referentes!$E:$E,0),1))","v":""},{"$f":"IF(AK66=\"\",\"\", INDEX(referentes!$A:$B,MATCH(DATOS_MIP_SA!AK66,referentes!$B:$B,0),1))","v":""},null,{"$f":"IF(AM66=\"\",\"\", INDEX(referentes!$S:$T,MATCH(AM66,referentes!$T:$T,0),1))","v":""},{"$f":"IF(AN66=\"\",\"\", INDEX(referentes!$Y:$Z,MATCH(AN66,referentes!$Z:$Z,0),1))","v":""},{"$f":"IF(AU66=\"\",\"\", INDEX(referentes!$V:$W,MATCH(DATOS_MIP_SA!AU66,referentes!$W:$W,0),1))","v":""},{"$f":"IF(AO66=\"\",\"\", INDEX(referentes!$AB:$AC,MATCH(DATOS_MIP_SA!AO66,referentes!$AC:$AC,0),1))","v":""},{"$f":"IF(AV66=\"\",\"\", INDEX('otras referencias'!$U:$V,MATCH(DATOS_MIP_SA!AV66,'otras referencias'!$V:$V,0),1))","v":""},{"$f":"IF(AW66=\"\",\"\", INDEX(referentes!$J:$K,MATCH(DATOS_MIP_SA!AW66,referentes!$K:$K,0),1))","v":""},null,null,null,null,null,null,{"$f":"IF(X66<>\"\",INDEX(referentes!$AH:$AL,MATCH(DATOS_MIP_SA!X66,referentes!$AI:$AI,0),5),\"\")","v":""}]
[null,null,null,"",{"$f":"IF(J67=\"\",\"\",CONCATENATE(AF67,DIGITADOR!$B$2,DIGITADOR!$M$1,J67))","v":""},{"$f":"IF(J67=\"\",\"\",CONCATENATE(DIGITADOR!$B$2,AF67,DIGITADOR!$M$1,J67,ROW()))","v":""},null,null,null,{"$f":"IF(X67=\"\",\"\", INDEX(referentes!$AH:$AL,MATCH(DATOS_MIP_SA!X67,referentes!$AI:$AI,0),1))","v":""},"",{"$f":"IF(AI67=\"\",\"\", INDEX(referentes!$D:$E,MATCH(DATOS_MIP_SA!AI67,referentes!$E:$E,0),1))","v":""},{"$f":"IF(AK67=\"\",\"\", INDEX(referentes!$A:$B,MATCH(DATOS_MIP_SA!AK67,referentes!$B:$B,0),1))","v":""},null,{"$f":"IF(AM67=\"\",\"\", INDEX(referentes!$S:$T,MATCH(AM67,referentes!$T:$T,0),1))","v":""},{"$f":"IF(AN67=\"\",\"\", INDEX(referentes!$Y:$Z,MATCH(AN67,referentes!$Z:$Z,0),1))","v":""},{"$f":"IF(AU67=\"\",\"\", INDEX(referentes!$V:$W,MATCH(DATOS_MIP_SA!AU67,referentes!$W:$W,0),1))","v":""},{"$f":"IF(AO67=\"\",\"\", INDEX(referentes!$AB:$AC,MATCH(DATOS_MIP_SA!AO67,referentes!$AC:$AC,0),1))","v":""},{"$f":"IF(AV67=\"\",\"\", INDEX('otras referencias'!$U:$V,MATCH(DATOS_MIP_SA!AV67,'otras referencias'!$V:$V,0),1))","v":""},{"$f":"IF(AW67=\"\",\"\", INDEX(referentes!$J:$K,MATCH(DATOS_MIP_SA!AW67,referentes!$K:$K,0),1))","v":""},null,null,null,null,null,null,{"$f":"IF(X67<>\"\",INDEX(referentes!$AH:$AL,MATCH(DATOS_MIP_SA!X67,referentes!$AI:$AI,0),5),\"\")","v":""}]
[null,null,null,"",{"$f":"IF(J68=\"\",\"\",CONCATENATE(AF68,DIGITADOR!$B$2,DIGITADOR!$M$1,J68))","v":""},{"$f":"IF(J68=\"\",\"\",CONCATENATE(DIGITADOR!$B$2,AF68,DIGITADOR!$M$1,J68,ROW()))","v":""},null,null,null,{"$f":"IF(X68=\"\",\"\", INDEX(referentes!$AH:$AL,MATCH(DATOS_MIP_SA!X68,referentes!$AI:$AI,0),1))","v":""},"",{"$f":"IF(AI68=\"\",\"\", INDEX(referentes!$D:$E,MATCH(DATOS_MIP_SA!AI68,referentes!$E:$E,0),1))","v":""},{"$f":"IF(AK68=\"\",\"\", INDEX(referentes!$A:$B,MATCH(DATOS_MIP_SA!AK68,referentes!$B:$B,0),1))","v":""},null,{"$f":"IF(AM68=\"\",\"\", INDEX(referentes!$S:$T,MATCH(AM68,referentes!$T:$T,0),1))","v":""},{"$f":"IF(AN68=\"\",\"\", INDEX(referentes!$Y:$Z,MATCH(AN68,referentes!$Z:$Z,0),1))","v":""},{"$f":"IF(AU68=\"\",\"\", INDEX(referentes!$V:$W,MATCH(DATOS_MIP_SA!AU68,referentes!$W:$W,0),1))","v":""},{"$f":"IF(AO68=\"\",\"\", INDEX(referentes!$AB:$AC,MATCH(DATOS_MIP_SA!AO68,referentes!$AC:$AC,0),1))","v":""},{"$f":"IF(AV68=\"\",\"\", INDEX('otras referencias'!$U:$V,MATCH(DATOS_MIP_SA!AV68,'otras referencias'!$V:$V,0),1))","v":""},{"$f":"IF(AW68=\"\",\"\", INDEX(referentes!$J:$K,MATCH(DATOS_MIP_SA!AW68,referentes!$K:$K,0),1))","v":""},null,null,null,null,null,null,{"$f":"IF(X68<>\"\",INDEX(referentes!$AH:$AL,MATCH(DATOS_MIP_SA!X68,referentes!$AI:$AI,0),5),\"\")","v":""}]
[null,null,null,"",{"$f":"IF(J69=\"\",\"\",CONCATENATE(AF69,DIGITADOR!$B$2,DIGITADOR!$M$1,J69))","v":""},{"$f":"IF(J69=\"\",\"\",CONCATENATE(DIGITADOR!$B$2,AF69,DIGITADOR!$M$1,J69,ROW()))","v":""},null,null,null,{"$f":"IF(X69=\"\",\"\", INDEX(referentes!$AH:$AL,MATCH(DATOS_MIP_SA!X69,referentes!$AI:$AI,0),1))","v":""},"",{"$f":"IF(AI69=\"\",\"\", INDEX(referentes!$D:$E,MATCH(DATOS_MIP_SA!AI69,referentes!$E:$E,0),1))","v":""},{"$f":"IF(AK69=\"\",\"\", INDEX(referentes!$A:$B,MATCH(DATOS_MIP_SA!AK69,referentes!$B:$B,0),1))","v":""},null,{"$f":"IF(AM69=\"\",\"\", INDEX(referentes!$S:$T,MATCH(AM69,referentes!$T:$T,0),1))","v":""},{"$f":"IF(AN69=\"\",\"\", INDEX(referentes!$Y:$Z,MATCH(AN69,referentes!$Z:$Z,0),1))","v":""},{"$f":"IF(AU69=\"\",\"\", INDEX(referentes!$V:$W,MATCH(DATOS_MIP_SA!AU69,referentes!$W:$W,0),1))","v":""},{"$f":"IF(AO69=\"\",\"\", INDEX(referentes!$AB:$AC,MATCH(DATOS_MIP_SA!AO69,referentes!$AC:$AC,0),1))","v":""},{"$f":"IF(AV69=\"\",\"\", INDEX('otras referencias'!$U:$V,MATCH(DATOS_MIP_SA!AV69,'otras referencias'!$V:$V,0),1))","v":""},{"$f":"IF(AW69=\"\",\"\", INDEX(referentes!$J:$K,MATCH(DATOS_MIP_SA!AW69,referentes!$K:$K,0),1))","v":""},null,null,null,null,null,null,{"$f":"IF(X69<>\"\",INDEX(referentes!$AH:$AL,MATCH(DATOS_MIP_SA!X69,referentes!$AI:$AI,0),5),\"\")","v":""}]
[null,null,null,"",{"$f":"IF(J70=\"\",\"\",CONCATENATE(AF70,DIGITADOR!$B$2,DIGITADOR!$M$1,J70))","v":""},{"$f":"IF(J70=\"\",\"\",CONCATENATE(DIGITADOR!$B$2,AF70,DIGITADOR!$M$1,J70,ROW()))","v":""},null,null,null,{"$f":"IF(X70=\"\",\"\", INDEX(referentes!$AH:$AL,MATCH(DATOS_MIP_SA!X70,referentes!$AI:$AI,0),1))","v":""},"",{"$f":"IF(AI70=\"\",\"\", INDEX(referentes!$D:$E,MATCH(DATOS_MIP_SA!AI70,referentes!$E:$E,0),1))","v":""},{"$f":"IF(AK70=\"\",\"\", INDEX(referentes!$A:$B,MATCH(DATOS_MIP_SA!AK70,referentes!$B:$B,0),1))","v":""},null,{"$f":"IF(AM70=\"\",\"\", INDEX(referentes!$S:$T,MATCH(AM70,referentes!$T:$T,0),1))","v":""},{"$f":"IF(AN70=\"\",\"\", INDEX(referentes!$Y:$Z,MATCH(AN70,referentes!$Z:$Z,0),1))","v":""},{"$f":"IF(AU70=\"\",\"\", INDEX(referentes!$V:$W,MATCH(DATOS_MIP_SA!AU70,referentes!$W:$W,0),1))","v":""},{"$f":"IF(AO70=\"\",\"\", INDEX(referentes!$AB:$AC,MATCH(DATOS_MIP_SA!AO70,referentes!$AC:$AC,0),1))","v":""},{"$f":"IF(AV70=\"\",\"\", INDEX('otras referencias'!$U:$V,MATCH(DATOS_MIP_SA!AV70,'otras referencias'!$V:$V,0),1))","v":""},{"$f":"IF(AW70=\"\",\"\", INDEX(referentes!$J:$K,MATCH(DATOS_MIP_SA!AW70,referentes!$K:$K,0),1))","v":""},null,null,null,null,null,null,{"$f":"IF(X70<>\"\",INDEX(referentes!$AH:$AL,MATCH(DATOS_MIP_SA!X70,referentes!$AI:$AI,0),5),\"\")","v":""}]
[null,null,null,"",{"$f":"IF(J71=\"\",\"\",CONCATENATE(AF71,DIGITADOR!$B$2,DIGITADOR!$M$1,J71))","v":""},{"$f":"IF(J71=\"\",\"\",CONCATENATE(DIGITADOR!$B$2,AF71,DIGITADOR!$M$1,J71,ROW()))","v":""},null,null,null,{"$f":"IF(X71=\"\",\"\", INDEX(referentes!$AH:$AL,MATCH(DATOS_MIP_SA!X71,referentes!$AI:$AI,0),1))","v":""},"",{"$f":"IF(AI71=\"\",\"\", INDEX(referentes!$D:$E,MATCH(DATOS_MIP_SA!AI71,referentes!$E:$E,0),1))","v":""},{"$f":"IF(AK71=\"\",\"\", INDEX(referentes!$A:$B,MATCH(DATOS_MIP_SA!AK71,referentes!$B:$B,0),1))","v":""},null,{"$f":"IF(AM71=\"\",\"\", INDEX(referentes!$S:$T,MATCH(AM71,referentes!$T:$T,0),1))","v":""},{"$f":"IF(AN71=\"\",\"\", INDEX(referentes!$Y:$Z,MATCH(AN71,referentes!$Z:$Z,0),1))","v":""},{"$f":"IF(AU71=\"\",\"\", INDEX(referentes!$V:$W,MATCH(DATOS_MIP_SA!AU71,referentes!$W:$W,0),1))","v":""},{"$f":"IF(AO71=\"\",\"\", INDEX(referentes!$AB:$AC,MATCH(DATOS_MIP_SA!AO71,referentes!$AC:$AC,0),1))","v":""},{"$f":"IF(AV71=\"\",\"\", INDEX('otras referencias'!$U:$V,MATCH(DATOS_MIP_SA!AV71,'otras referencias'!$V:$V,0),1))","v":""},{"$f":"IF(AW71=\"\",\"\", INDEX(referentes!$J:$K,MATCH(DATOS_MIP_SA!AW71,referentes!$K:$K,0),1))","v":""},null,null,null,null,null,null,{"$f":"IF(X71<>\"\",INDEX(referentes!$AH:$AL,MATCH(DATOS_MIP_SA!X71,referentes!$AI:$AI,0),5),\"\")","v":""}]
[null,null,null,"",{"$f":"IF(J72=\"\",\"\",CONCATENATE(AF72,DIGITADOR!$B$2,DIGITADOR!$M$1,J72))","v":""},{"$f":"IF(J72=\"\",\"\",CONCATENATE(DIGITADOR!$B$2,AF72,DIGITADOR!$M$1,J72,ROW()))","v":""},null,null,null,{"$f":"IF(X72=\"\",\"\", INDEX(referentes!$AH:$AL,MATCH(DATOS_MIP_SA!X72,referentes!$AI:$AI,0),1))","v":""},"",{"$f":"IF(AI72=\"\",\"\", INDEX(referentes!$D:$E,MATCH(DATOS_MIP_SA!AI72,referentes!$E:$E,0),1))","v":""},{"$f":"IF(AK72=\"\",\"\", INDEX(referentes!$A:$B,MATCH(DATOS_MIP_SA!AK72,referentes!$B:$B,0),1))","v":""},null,{"$f":"IF(AM72=\"\",\"\", INDEX(referentes!$S:$T,MATCH(AM72,referentes!$T:$T,0),1))","v":""},{"$f":"IF(AN72=\"\",\"\", INDEX(referentes!$Y:$Z,MATCH(AN72,referentes!$Z:$Z,0),1))","v":""},{"$f":"IF(AU72=\"\",\"\", INDEX(referentes!$V:$W,MATCH(DATOS_MIP_SA!AU72,referentes!$W:$W,0),1))","v":""},{"$f":"IF(AO72=\"\",\"\", INDEX(referentes!$AB:$AC,MATCH(DATOS_MIP_SA!AO72,referentes!$AC:$AC,0),1))","v":""},{"$f":"IF(AV72=\"\",\"\", INDEX('otras referencias'!$U:$V,MATCH(DATOS_MIP_SA!AV72,'otras referencias'!$V:$V,0),1))","v":""},{"$f":"IF(AW72=\"\",\"\", INDEX(referentes!$J:$K,MATCH(DATOS_MIP_SA!AW72,referentes!$K:$K,0),1))","v":""},null,null,null,null,null,null,{"$f":"IF(X72<>\"\",INDEX(referentes!$AH:$AL,MATCH(DATOS_MIP_SA!X72,referentes!$AI:$AI,0),5),\"\")","v":""}]
[null,null,null,"",{"$f":"IF(J73=\"\",\"\",CONCATENATE(AF73,DIGITADOR!$B$2,DIGITADOR!$M$1,J73))","v":""},{"$f":"IF(J73=\"\",\"\",CONCATENATE(DIGITADOR!$B$2,AF73,DIGITADOR!$M$1,J73,ROW()))","v":""},null,null,null,{"$f":"IF(X73=\"\",\"\", INDEX(referentes!$AH:$AL,MATCH(DATOS_MIP_SA!X73,referentes!$AI:$AI,0),1))","v":""},"",{"$f":"IF(AI73=\"\",\"\", INDEX(referentes!$D:$E,MATCH(DATOS_MIP_SA!AI73,referentes!$E:$E,0),1))","v":""},{"$f":"IF(AK73=\"\",\"\", INDEX(referentes!$A:$B,MATCH(DATOS_MIP_SA!AK73,referentes!$B:$B,0),1))","v":""},null,{"$f":"IF(AM73=\"\",\"\", INDEX(referentes!$S:$T,MATCH(AM73,referentes!$T:$T,0),1))","v":""},{"$f":"IF(AN73=\"\",\"\", INDEX(referentes!$Y:$Z,MATCH(AN73,referentes!$Z:$Z,0),1))","v":""},{"$f":"IF(AU73=\"\",\"\", INDEX(referentes!$V:$W,MATCH(DATOS_MIP_SA!AU73,referentes!$W:$W,0),1))","v":""},{"$f":"IF(AO73=\"\",\"\", INDEX(referentes!$AB:$AC,MATCH(DATOS_MIP_SA!AO73,referentes!$AC:$AC,0),1))","v":""},{"$f":"IF(AV73=\"\",\"\", INDEX('otras referencias'!$U:$V,MATCH(DATOS_MIP_SA!AV73,'otras referencias'!$V:$V,0),1))","v":""},{"$f":"IF(AW73=\"\",\"\", INDEX(referentes!$J:$K,MATCH(DATOS_MIP_SA!AW73,referentes!$K:$K,0),1))","v":""},null,null,null,null,null,null,{"$f":"IF(X73<>\"\",INDEX(referentes!$AH:$AL,MATCH(DATOS_MIP_SA!X73,referentes!$AI:$AI,0),5),\"\")","v":""}]
[null,null,null,"",{"$f":"IF(J74=\"\",\"\",CONCATENATE(AF74,DIGITADOR!$B$2,DIGITADOR!$M$1,J74))","v":""},{"$f":"IF(J74=\"\",\"\",CONCATENATE(DIGITADOR!$B$2,AF74,DIGITADOR!$M$1,J74,ROW()))","v":""},null,null,null,{"$f":"IF(X74=\"\",\"\", INDEX(referentes!$AH:$AL,MATCH(DATOS_MIP_SA!X74,referentes!$AI:$AI,0),1))","v":""},"",{"$f":"IF(AI74=\"\",\"\", INDEX(referentes!$D:$E,MATCH(DATOS_MIP_SA!AI74,referentes!$E:$E,0),1))","v":""},{"$f":"IF(AK74=\"\",\"\", INDEX(referentes!$A:$B,MATCH(DATOS_MIP_SA!AK74,referentes!$B:$B,0),1))","v":""},null,{"$f":"IF(AM74=\"\",\"\", INDEX(referentes!$S:$T,MATCH(AM74,referentes!$T:$T,0),1))","v":""},{"$f":"IF(AN74=\"\",\"\", INDEX(referentes!$Y:$Z,MATCH(AN74,referentes!$Z:$Z,0),1))","v":""},{"$f":"IF(AU74=\"\",\"\", INDEX(referentes!$V:$W,MATCH(DATOS_MIP_SA!AU74,referentes!$W:$W,0),1))","v":""},{"$f":"IF(AO74=\"\",\"\", INDEX(referentes!$AB:$AC,MATCH(DATOS_MIP_SA!AO74,referentes!$AC:$AC,0),1))","v":""},{"$f":"IF(AV74=\"\",\"\", INDEX('otras referencias'!$U:$V,MATCH(DATOS_MIP_SA!AV74,'otras referencias'!$V:$V,0),1))","v":""},{"$f":"IF(AW74=\"\",\"\", INDEX(referentes!$J:$K,MATCH(DATOS_MIP_SA!AW74,referentes!$K:$K,0),1))","v":""},null,null,null,null,null,null,{"$f":"IF(X74<>\"\",INDEX(referentes!$AH:$AL,MATCH(DATOS_MIP_SA!X74,referentes!$AI:$AI,0),5),\"\")","v":""}]
[null,null,null,"",{"$f":"IF(J75=\"\",\"\",CONCATENATE(AF75,DIGITADOR!$B$2,DIGITADOR!$M$1,J75))","v":""},{"$f":"IF(J75=\"\",\"\",CONCATENATE(DIGITADOR!$B$2,AF75,DIGITADOR!$M$1,J75,ROW()))","v":""},null,null,null,{"$f":"IF(X75=\"\",\"\", INDEX(referentes!$AH:$AL,MATCH(DATOS_MIP_SA!X75,referentes!$AI:$AI,0),1))","v":""},{"$f":"IF(AF75=\"\",\"\",AF75+AG75)","v":""},{"$f":"IF(AI75=\"\",\"\", INDEX(referentes!$D:$E,MATCH(DATOS_MIP_SA!AI75,referentes!$E:$E,0),1))","v":""},{"$f":"IF(AK75=\"\",\"\", INDEX(referentes!$A:$B,MATCH(DATOS_MIP_SA!AK75,referentes!$B:$B,0),1))","v":""},null,{"$f":"IF(AM75=\"\",\"\", INDEX(referentes!$S:$T,MATCH(AM75,referentes!$T:$T,0),1))","v":""},{"$f":"IF(AN75=\"\",\"\", INDEX(referentes!$Y:$Z,MATCH(AN75,referentes!$Z:$Z,0),1))","v":""},{"$f":"IF(AU75=\"\",\"\", INDEX(referentes!$V:$W,MATCH(DATOS_MIP_SA!AU75,referentes!$W:$W,0),1))","v":""},{"$f":"IF(AO75=\"\",\"\", INDEX(referentes!$AB:$AC,MATCH(DATOS_MIP_SA!AO75,referentes!$AC:$AC,0),1))","v":""},{"$f":"IF(AV75=\"\",\"\", INDEX('otras referencias'!$U:$V,MATCH(DATOS_MIP_SA!AV75,'otras referencias'!$V:$V,0),1))","v":""},{"$f":"IF(AW75=\"\",\"\", INDEX(referentes!$J:$K,MATCH(DATOS_MIP_SA!AW75,referentes!$K:$K,0),1))","v":""},null,null,null,null,null,null,{"$f":"IF(X75<>\"\",INDEX(referentes!$AH:$AL,MATCH(DATOS_MIP_SA!X75,referentes!$AI:$AI,0),5),\"\")","v":""}]
[null,null,null,{"$f":"IF(E76=\"\",\"\",IF(E76=E75,\"\",E76))","v":""},{"$f":"IF(J76=\"\",\"\",CONCATENATE(AF76,DIGITADOR!$B$2,DIGITADOR!$M$1,J76))","v":""},{"$f":"IF(J76=\"\",\"\",CONCATENATE(DIGITADOR!$B$2,AF76,DIGITADOR!$M$1,J76,ROW()))","v":""},null,null,null,{"$f":"IF(X76=\"\",\"\", INDEX(referentes!$AH:$AL,MATCH(DATOS_MIP_SA!X76,referentes!$AI:$AI,0),1))","v":""},"",{"$f":"IF(AI76=\"\",\"\", INDEX(referentes!$D:$E,MATCH(DATOS_MIP_SA!AI76,referentes!$E:$E,0),1))","v":""},{"$f":"IF(AK76=\"\",\"\", INDEX(referentes!$A:$B,MATCH(DATOS_MIP_SA!AK76,referentes!$B:$B,0),1))","v":""},null,{"$f":"IF(AM76=\"\",\"\", INDEX(referentes!$S:$T,MATCH(AM76,referentes!$T:$T,0),1))","v":""},{"$f":"IF(AN76=\"\",\"\", INDEX(referentes!$Y:$Z,MATCH(AN76,referentes!$Z:$Z,0),1))","v":""},{"$f":"IF(AU76=\"\",\"\", INDEX(referentes!$V:$W,MATCH(DATOS_MIP_SA!AU76,referentes!$W:$W,0),1))","v":""},{"$f":"IF(AO76=\"\",\"\", INDEX(referentes!$AB:$AC,MATCH(DATOS_MIP_SA!AO76,referentes!$AC:$AC,0),1))","v":""},{"$f":"IF(AV76=\"\",\"\", INDEX('otras referencias'!$U:$V,MATCH(DATOS_MIP_SA!AV76,'otras referencias'!$V:$V,0),1))","v":""},{"$f":"IF(AW76=\"\",\"\", INDEX(referentes!$J:$K,MATCH(DATOS_MIP_SA!AW76,referentes!$K:$K,0),1))","v":""},null,null,null,null,null,null,{"$f":"IF(X76<>\"\",INDEX(referentes!$AH:$AL,MATCH(DATOS_MIP_SA!X76,referentes!$AI:$AI,0),5),\"\")","v":""}]
[null,null,null,"",{"$f":"IF(J77=\"\",\"\",CONCATENATE(AF77,DIGITADOR!$B$2,DIGITADOR!$M$1,J77))","v":""},{"$f":"IF(J77=\"\",\"\",CONCATENATE(DIGITADOR!$B$2,AF77,DIGITADOR!$M$1,J77,ROW()))","v":""},null,null,null,{"$f":"IF(X77=\"\",\"\", INDEX(referentes!$AH:$AL,MATCH(DATOS_MIP_SA!X77,referentes!$AI:$AI,0),1))","v":""},"",{"$f":"IF(AI77=\"\",\"\", INDEX(referentes!$D:$E,MATCH(DATOS_MIP_SA!AI77,referentes!$E:$E,0),1))","v":""},{"$f":"IF(AK77=\"\",\"\", INDEX(referentes!$A:$B,MATCH(DATOS_MIP_SA!AK77,referentes!$B:$B,0),1))","v":""},null,{"$f":"IF(AM77=\"\",\"\", INDEX(referentes!$S:$T,MATCH(AM77,referentes!$T:$T,0),1))","v":""},{"$f":"IF(AN77=\"\",\"\", INDEX(referentes!$Y:$Z,MATCH(AN77,referentes!$Z:$Z,0),1))","v":""},{"$f":"IF(AU77=\"\",\"\", INDEX(referentes!$V:$W,MATCH(DATOS_MIP_SA!AU77,referentes!$W:$W,0),1))","v":""},{"$f":"IF(AO77=\"\",\"\", INDEX(referentes!$AB:$AC,MATCH(DATOS_MIP_SA!AO77,referentes!$AC:$AC,0),1))","v":""},{"$f":"IF(AV77=\"\",\"\", INDEX('otras referencias'!$U:$V,MATCH(DATOS_MIP_SA!AV77,'otras referencias'!$V:$V,0),1))","v":""},{"$f":"IF(AW77=\"\",\"\", INDEX(referentes!$J:$K,MATCH(DATOS_MIP_SA!AW77,referentes!$K:$K,0),1))","v":""},null,null,null,null,null,null,{"$f":"IF(X77<>\"\",INDEX(referentes!$AH:$AL,MATCH(DATOS_MIP_SA!X77,referentes!$AI:$AI,0),5),\"\")","v":""}]
[null,null,null,"",{"$f":"IF(J78=\"\",\"\",CONCATENATE(AF78,DIGITADOR!$B$2,DIGITADOR!$M$1,J78))","v":""},{"$f":"IF(J78=\"\",\"\",CONCATENATE(DIGITADOR!$B$2,AF78,DIGITADOR!$M$1,J78,ROW()))","v":""},null,null,null,{"$f":"IF(X78=\"\",\"\", INDEX(referentes!$AH:$AL,MATCH(DATOS_MIP_SA!X78,referentes!$AI:$AI,0),1))","v":""},"",{"$f":"IF(AI78=\"\",\"\", INDEX(referentes!$D:$E,MATCH(DATOS_MIP_SA!AI78,referentes!$E:$E,0),1))","v":""},{"$f":"IF(AK78=\"\",\"\", INDEX(referentes!$A:$B,MATCH(DATOS_MIP_SA!AK78,referentes!$B:$B,0),1))","v":""},null,{"$f":"IF(AM78=\"\",\"\", INDEX(referentes!$S:$T,MATCH(AM78,referentes!$T:$T,0),1))","v":""},{"$f":"IF(AN78=\"\",\"\", INDEX(referentes!$Y:$Z,MATCH(AN78,referentes!$Z:$Z,0),1))","v":""},{"$f":"IF(AU78=\"\",\"\", INDEX(referentes!$V:$W,MATCH(DATOS_MIP_SA!AU78,referentes!$W:$W,0),1))","v":""},{"$f":"IF(AO78=\"\",\"\", INDEX(referentes!$AB:$AC,MATCH(DATOS_MIP_SA!AO78,referentes!$AC:$AC,0),1))","v":""},{"$f":"IF(AV78=\"\",\"\", INDEX('otras referencias'!$U:$V,MATCH(DATOS_MIP_SA!AV78,'otras referencias'!$V:$V,0),1))","v":""},{"$f":"IF(AW78=\"\",\"\", INDEX(referentes!$J:$K,MATCH(DATOS_MIP_SA!AW78,referentes!$K:$K,0),1))","v":""},null,null,null,null,null,null,{"$f":"IF(X78<>\"\",INDEX(referentes!$AH:$AL,MATCH(DATOS_MIP_SA!X78,referentes!$AI:$AI,0),5),\"\")","v":""}]
[null,null,null,"",{"$f":"IF(J79=\"\",\"\",CONCATENATE(AF79,DIGITADOR!$B$2,DIGITADOR!$M$1,J79))","v":""},{"$f":"IF(J79=\"\",\"\",CONCATENATE(DIGITADOR!$B$2,AF79,DIGITADOR!$M$1,J79,ROW()))","v":""},null,null,null,{"$f":"IF(X79=\"\",\"\", INDEX(referentes!$AH:$AL,MATCH(DATOS_MIP_SA!X79,referentes!$AI:$AI,0),1))","v":""},"",{"$f":"IF(AI79=\"\",\"\", INDEX(referentes!$D:$E,MATCH(DATOS_MIP_SA!AI79,referentes!$E:$E,0),1))","v":""},{"$f":"IF(AK79=\"\",\"\", INDEX(referentes!$A:$B,MATCH(DATOS_MIP_SA!AK79,referentes!$B:$B,0),1))","v":""},null,{"$f":"IF(AM79=\"\",\"\", INDEX(referentes!$S:$T,MATCH(AM79,referentes!$T:$T,0),1))","v":""},{"$f":"IF(AN79=\"\",\"\", INDEX(referentes!$Y:$Z,MATCH(AN79,referentes!$Z:$Z,0),1))","v":""},{"$f":"IF(AU79=\"\",\"\", INDEX(referentes!$V:$W,MATCH(DATOS_MIP_SA!AU79,referentes!$W:$W,0),1))","v":""},{"$f":"IF(AO79=\"\",\"\", INDEX(referentes!$AB:$AC,MATCH(DATOS_MIP_SA!AO79,referentes!$AC:$AC,0),1))","v":""},{"$f":"IF(AV79=\"\",\"\", INDEX('otras referencias'!$U:$V,MATCH(DATOS_MIP_SA!AV79,'otras referencias'!$V:$V,0),1))","v":""},{"$f":"IF(AW79=\"\",\"\", INDEX(referentes!$J:$K,MATCH(DATOS_MIP_SA!AW79,referentes!$K:$K,0),1))","v":""},null,null,null,null,null,null,{"$f":"IF(X79<>\"\",INDEX(referentes!$AH:$AL,MATCH(DATOS_MIP_SA!X79,referentes!$AI:$AI,0),5),\"\")","v":""}]
[null,null,null,"",{"$f":"IF(J80=\"\",\"\",CONCATENATE(AF80,DIGITADOR!$B$2,DIGITADOR!$M$1,J80))","v":""},{"$f":"IF(J80=\"\",\"\",CONCATENATE(DIGITADOR!$B$2,AF80,DIGITADOR!$M$1,J80,ROW()))","v":""},null,null,null,{"$f":"IF(X80=\"\",\"\", INDEX(referentes!$AH:$AL,MATCH(DATOS_MIP_SA!X80,referentes!$AI:$AI,0),1))","v":""},"",{"$f":"IF(AI80=\"\",\"\", INDEX(referentes!$D:$E,MATCH(DATOS_MIP_SA!AI80,referentes!$E:$E,0),1))","v":""},{"$f":"IF(AK80=\"\",\"\", INDEX(referentes!$A:$B,MATCH(DATOS_MIP_SA!AK80,referentes!$B:$B,0),1))","v":""},null,{"$f":"IF(AM80=\"\",\"\", INDEX(referentes!$S:$T,MATCH(AM80,referentes!$T:$T,0),1))","v":""},{"$f":"IF(AN80=\"\",\"\", INDEX(referentes!$Y:$Z,MATCH(AN80,referentes!$Z:$Z,0),1))","v":""},{"$f":"IF(AU80=\"\",\"\", INDEX(referentes!$V:$W,MATCH(DATOS_MIP_SA!AU80,referentes!$W:$W,0),1))","v":""},{"$f":"IF(AO80=\"\",\"\", INDEX(referentes!$AB:$AC,MATCH(DATOS_MIP_SA!AO80,referentes!$AC:$AC,0),1))","v":""},{"$f":"IF(AV80=\"\",\"\", INDEX('otras referencias'!$U:$V,MATCH(DATOS_MIP_SA!AV80,'otras referencias'!$V:$V,0),1))","v":""},{"$f":"IF(AW80=\"\",\"\", INDEX(referentes!$J:$K,MATCH(DATOS_MIP_SA!AW80,referentes!$K:$K,0),1))","v":""},null,null,null,null,null,null,{"$f":"IF(X80<>\"\",INDEX(referentes!$AH:$AL,MATCH(DATOS_MIP_SA!X80,referentes!$AI:$AI,0),5),\"\")","v":""}]
[null,null,null,"",{"$f":"IF(J81=\"\",\"\",CONCATENATE(AF81,DIGITADOR!$B$2,DIGITADOR!$M$1,J81))","v":""},{"$f":"IF(J81=\"\",\"\",CONCATENATE(DIGITADOR!$B$2,AF81,DIGITADOR!$M$1,J81,ROW()))","v":""},null,null,null,{"$f":"IF(X81=\"\",\"\", INDEX(referentes!$AH:$AL,MATCH(DATOS_MIP_SA!X81,referentes!$AI:$AI,0),1))","v":""},"",{"$f":"IF(AI81=\"\",\"\", INDEX(referentes!$D:$E,MATCH(DATOS_MIP_SA!AI81,referentes!$E:$E,0),1))","v":""},{"$f":"IF(AK81=\"\",\"\", INDEX(referentes!$A:$B,MATCH(DATOS_MIP_SA!AK81,referentes!$B:$B,0),1))","v":""},null,{"$f":"IF(AM81=\"\",\"\", INDEX(referentes!$S:$T,MATCH(AM81,referentes!$T:$T,0),1))","v":""},{"$f":"IF(AN81=\"\",\"\", INDEX(referentes!$Y:$Z,MATCH(AN81,referentes!$Z:$Z,0),1))","v":""},{"$f":"IF(AU81=\"\",\"\", INDEX(referentes!$V:$W,MATCH(DATOS_MIP_SA!AU81,referentes!$W:$W,0),1))","v":""},{"$f":"IF(AO81=\"\",\"\", INDEX(referentes!$AB:$AC,MATCH(DATOS_MIP_SA!AO81,referentes!$AC:$AC,0),1))","v":""},{"$f":"IF(AV81=\"\",\"\", INDEX('otras referencias'!$U:$V,MATCH(DATOS_MIP_SA!AV81,'otras referencias'!$V:$V,0),1))","v":""},{"$f":"IF(AW81=\"\",\"\", INDEX(referentes!$J:$K,MATCH(DATOS_MIP_SA!AW81,referentes!$K:$K,0),1))","v":""},null,null,null,null,null,null,{"$f":"IF(X81<>\"\",INDEX(referentes!$AH:$AL,MATCH(DATOS_MIP_SA!X81,referentes!$AI:$AI,0),5),\"\")","v":""}]
[null,null,null,"",{"$f":"IF(J82=\"\",\"\",CONCATENATE(AF82,DIGITADOR!$B$2,DIGITADOR!$M$1,J82))","v":""},{"$f":"IF(J82=\"\",\"\",CONCATENATE(DIGITADOR!$B$2,AF82,DIGITADOR!$M$1,J82,ROW()))","v":""},null,null,null,{"$f":"IF(X82=\"\",\"\", INDEX(referentes!$AH:$AL,MATCH(DATOS_MIP_SA!X82,referentes!$AI:$AI,0),1))","v":""},"",{"$f":"IF(AI82=\"\",\"\", INDEX(referentes!$D:$E,MATCH(DATOS_MIP_SA!AI82,referentes!$E:$E,0),1))","v":""},{"$f":"IF(AK82=\"\",\"\", INDEX(referentes!$A:$B,MATCH(DATOS_MIP_SA!AK82,referentes!$B:$B,0),1))","v":""},null,{"$f":"IF(AM82=\"\",\"\", INDEX(referentes!$S:$T,MATCH(AM82,referentes!$T:$T,0),1))","v":""},{"$f":"IF(AN82=\"\",\"\", INDEX(referentes!$Y:$Z,MATCH(AN82,referentes!$Z:$Z,0),1))","v":""},{"$f":"IF(AU82=\"\",\"\", INDEX(referentes!$V:$W,MATCH(DATOS_MIP_SA!AU82,referentes!$W:$W,0),1))","v":""},{"$f":"IF(AO82=\"\",\"\", INDEX(referentes!$AB:$AC,MATCH(DATOS_MIP_SA!AO82,referentes!$AC:$AC,0),1))","v":""},{"$f":"IF(AV82=\"\",\"\", INDEX('otras referencias'!$U:$V,MATCH(DATOS_MIP_SA!AV82,'otras referencias'!$V:$V,0),1))","v":""},{"$f":"IF(AW82=\"\",\"\", INDEX(referentes!$J:$K,MATCH(DATOS_MIP_SA!AW82,referentes!$K:$K,0),1))","v":""},null,null,null,null,null,null,{"$f":"IF(X82<>\"\",INDEX(referentes!$AH:$AL,MATCH(DATOS_MIP_SA!X82,referentes!$AI:$AI,0),5),\"\")","v":""}]
[null,null,null,"",{"$f":"IF(J83=\"\",\"\",CONCATENATE(AF83,DIGITADOR!$B$2,DIGITADOR!$M$1,J83))","v":""},{"$f":"IF(J83=\"\",\"\",CONCATENATE(DIGITADOR!$B$2,AF83,DIGITADOR!$M$1,J83,ROW()))","v":""},null,null,null,{"$f":"IF(X83=\"\",\"\", INDEX(referentes!$AH:$AL,MATCH(DATOS_MIP_SA!X83,referentes!$AI:$AI,0),1))","v":""},"",{"$f":"IF(AI83=\"\",\"\", INDEX(referentes!$D:$E,MATCH(DATOS_MIP_SA!AI83,referentes!$E:$E,0),1))","v":""},{"$f":"IF(AK83=\"\",\"\", INDEX(referentes!$A:$B,MATCH(DATOS_MIP_SA!AK83,referentes!$B:$B,0),1))","v":""},null,{"$f":"IF(AM83=\"\",\"\", INDEX(referentes!$S:$T,MATCH(AM83,referentes!$T:$T,0),1))","v":""},{"$f":"IF(AN83=\"\",\"\", INDEX(referentes!$Y:$Z,MATCH(AN83,referentes!$Z:$Z,0),1))","v":""},{"$f":"IF(AU83=\"\",\"\", INDEX(referentes!$V:$W,MATCH(DATOS_MIP_SA!AU83,referentes!$W:$W,0),1))","v":""},{"$f":"IF(AO83=\"\",\"\", INDEX(referentes!$AB:$AC,MATCH(DATOS_MIP_SA!AO83,referentes!$AC:$AC,0),1))","v":""},{"$f":"IF(AV83=\"\",\"\", INDEX('otras referencias'!$U:$V,MATCH(DATOS_MIP_SA!AV83,'otras referencias'!$V:$V,0),1))","v":""},{"$f":"IF(AW83=\"\",\"\", INDEX(referentes!$J:$K,MATCH(DATOS_MIP_SA!AW83,referentes!$K:$K,0),1))","v":""},null,null,null,null,null,null,{"$f":"IF(X83<>\"\",INDEX(referentes!$AH:$AL,MATCH(DATOS_MIP_SA!X83,referentes!$AI:$AI,0),5),\"\")","v":""}]
[null,null,null,"",{"$f":"IF(J84=\"\",\"\",CONCATENATE(AF84,DIGITADOR!$B$2,DIGITADOR!$M$1,J84))","v":""},{"$f":"IF(J84=\"\",\"\",CONCATENATE(DIGITADOR!$B$2,AF84,DIGITADOR!$M$1,J84,ROW()))","v":""},null,null,null,{"$f":"IF(X84=\"\",\"\", INDEX(referentes!$AH:$AL,MATCH(DATOS_MIP_SA!X84,referentes!$AI:$AI,0),1))","v":""},"",{"$f":"IF(AI84=\"\",\"\", INDEX(referentes!$D:$E,MATCH(DATOS_MIP_SA!AI84,referentes!$E:$E,0),1))","v":""},{"$f":"IF(AK84=\"\",\"\", INDEX(referentes!$A:$B,MATCH(DATOS_MIP_SA!AK84,referentes!$B:$B,0),1))","v":""},null,{"$f":"IF(AM84=\"\",\"\", INDEX(referentes!$S:$T,MATCH(AM84,referentes!$T:$T,0),1))","v":""},{"$f":"IF(AN84=\"\",\"\", INDEX(referentes!$Y:$Z,MATCH(AN84,referentes!$Z:$Z,0),1))","v":""},{"$f":"IF(AU84=\"\",\"\", INDEX(referentes!$V:$W,MATCH(DATOS_MIP_SA!AU84,referentes!$W:$W,0),1))","v":""},{"$f":"IF(AO84=\"\",\"\", INDEX(referentes!$AB:$AC,MATCH(DATOS_MIP_SA!AO84,referentes!$AC:$AC,0),1))","v":""},{"$f":"IF(AV84=\"\",\"\", INDEX('otras referencias'!$U:$V,MATCH(DATOS_MIP_SA!AV84,'otras referencias'!$V:$V,0),1))","v":""},{"$f":"IF(AW84=\"\",\"\", INDEX(referentes!$J:$K,MATCH(DATOS_MIP_SA!AW84,referentes!$K:$K,0),1))","v":""},null,null,null,null,null,null,{"$f":"IF(X84<>\"\",INDEX(referentes!$AH:$AL,MATCH(DATOS_MIP_SA!X84,referentes!$AI:$AI,0),5),\"\")","v":""}]
[null,null,null,"",{"$f":"IF(J85=\"\",\"\",CONCATENATE(AF85,DIGITADOR!$B$2,DIGITADOR!$M$1,J85))","v":""},{"$f":"IF(J85=\"\",\"\",CONCATENATE(DIGITADOR!$B$2,AF85,DIGITADOR!$M$1,J85,ROW()))","v":""},null,null,null,{"$f":"IF(X85=\"\",\"\", INDEX(referentes!$AH:$AL,MATCH(DATOS_MIP_SA!X85,referentes!$AI:$AI,0),1))","v":""},"",{"$f":"IF(AI85=\"\",\"\", INDEX(referentes!$D:$E,MATCH(DATOS_MIP_SA!AI85,referentes!$E:$E,0),1))","v":""},{"$f":"IF(AK85=\"\",\"\", INDEX(referentes!$A:$B,MATCH(DATOS_MIP_SA!AK85,referentes!$B:$B,0),1))","v":""},null,{"$f":"IF(AM85=\"\",\"\", INDEX(referentes!$S:$T,MATCH(AM85,referentes!$T:$T,0),1))","v":""},{"$f":"IF(AN85=\"\",\"\", INDEX(referentes!$Y:$Z,MATCH(AN85,referentes!$Z:$Z,0),1))","v":""},{"$f":"IF(AU85=\"\",\"\", INDEX(referentes!$V:$W,MATCH(DATOS_MIP_SA!AU85,referentes!$W:$W,0),1))","v":""},{"$f":"IF(AO85=\"\",\"\", INDEX(referentes!$AB:$AC,MATCH(DATOS_MIP_SA!AO85,referentes!$AC:$AC,0),1))","v":""},{"$f":"IF(AV85=\"\",\"\", INDEX('otras referencias'!$U:$V,MATCH(DATOS_MIP_SA!AV85,'otras referencias'!$V:$V,0),1))","v":""},{"$f":"IF(AW85=\"\",\"\", INDEX(referentes!$J:$K,MATCH(DATOS_MIP_SA!AW85,referentes!$K:$K,0),1))","v":""},null,null,null,null,null,null,{"$f":"IF(X85<>\"\",INDEX(referentes!$AH:$AL,MATCH(DATOS_MIP_SA!X85,referentes!$AI:$AI,0),5),\"\")","v":""}]
[null,null,null,"",{"$f":"IF(J86=\"\",\"\",CONCATENATE(AF86,DIGITADOR!$B$2,DIGITADOR!$M$1,J86))","v":""},{"$f":"IF(J86=\"\",\"\",CONCATENATE(DIGITADOR!$B$2,AF86,DIGITADOR!$M$1,J86,ROW()))","v":""},null,null,null,{"$f":"IF(X86=\"\",\"\", INDEX(referentes!$AH:$AL,MATCH(DATOS_MIP_SA!X86,referentes!$AI:$AI,0),1))","v":""},"",{"$f":"IF(AI86=\"\",\"\", INDEX(referentes!$D:$E,MATCH(DATOS_MIP_SA!AI86,referentes!$E:$E,0),1))","v":""},{"$f":"IF(AK86=\"\",\"\", INDEX(referentes!$A:$B,MATCH(DATOS_MIP_SA!AK86,referentes!$B:$B,0),1))","v":""},null,{"$f":"IF(AM86=\"\",\"\", INDEX(referentes!$S:$T,MATCH(AM86,referentes!$T:$T,0),1))","v":""},{"$f":"IF(AN86=\"\",\"\", INDEX(referentes!$Y:$Z,MATCH(AN86,referentes!$Z:$Z,0),1))","v":""},{"$f":"IF(AU86=\"\",\"\", INDEX(referentes!$V:$W,MATCH(DATOS_MIP_SA!AU86,referentes!$W:$W,0),1))","v":""},{"$f":"IF(AO86=\"\",\"\", INDEX(referentes!$AB:$AC,MATCH(DATOS_MIP_SA!AO86,referentes!$AC:$AC,0),1))","v":""},{"$f":"IF(AV86=\"\",\"\", INDEX('otras referencias'!$U:$V,MATCH(DATOS_MIP_SA!AV86,'otras referencias'!$V:$V,0),1))","v":""},{"$f":"IF(AW86=\"\",\"\", INDEX(referentes!$J:$K,MATCH(DATOS_MIP_SA!AW86,referentes!$K:$K,0),1))","v":""},null,null,null,null,null,null,{"$f":"IF(X86<>\"\",INDEX(referentes!$AH:$AL,MATCH(DATOS_MIP_SA!X86,referentes!$AI:$AI,0),5),\"\")","v":""}]
[null,null,null,"",{"$f":"IF(J87=\"\",\"\",CONCATENATE(AF87,DIGITADOR!$B$2,DIGITADOR!$M$1,J87))","v":""},{"$f":"IF(J87=\"\",\"\",CONCATENATE(DIGITADOR!$B$2,AF87,DIGITADOR!$M$1,J87,ROW()))","v":""},null,null,null,{"$f":"IF(X87=\"\",\"\", INDEX(referentes!$AH:$AL,MATCH(DATOS_MIP_SA!X87,referentes!$AI:$AI,0),1))","v":""},"",{"$f":"IF(AI87=\"\",\"\", INDEX(referentes!$D:$E,MATCH(DATOS_MIP_SA!AI87,referentes!$E:$E,0),1))","v":""},{"$f":"IF(AK87=\"\",\"\", INDEX(referentes!$A:$B,MATCH(DATOS_MIP_SA!AK87,referentes!$B:$B,0),1))","v":""},null,{"$f":"IF(AM87=\"\",\"\", INDEX(referentes!$S:$T,MATCH(AM87,referentes!$T:$T,0),1))","v":""},{"$f":"IF(AN87=\"\",\"\", INDEX(referentes!$Y:$Z,MATCH(AN87,referentes!$Z:$Z,0),1))","v":""},{"$f":"IF(AU87=\"\",\"\", INDEX(referentes!$V:$W,MATCH(DATOS_MIP_SA!AU87,referentes!$W:$W,0),1))","v":""},{"$f":"IF(AO87=\"\",\"\", INDEX(referentes!$AB:$AC,MATCH(DATOS_MIP_SA!AO87,referentes!$AC:$AC,0),1))","v":""},{"$f":"IF(AV87=\"\",\"\", INDEX('otras referencias'!$U:$V,MATCH(DATOS_MIP_SA!AV87,'otras referencias'!$V:$V,0),1))","v":""},{"$f":"IF(AW87=\"\",\"\", INDEX(referentes!$J:$K,MATCH(DATOS_MIP_SA!AW87,referentes!$K:$K,0),1))","v":""},null,null,null,null,null,null,{"$f":"IF(X87<>\"\",INDEX(referentes!$AH:$AL,MATCH(DATOS_MIP_SA!X87,referentes!$AI:$AI,0),5),\"\")","v":""}]
[null,null,null,"",{"$f":"IF(J88=\"\",\"\",CONCATENATE(AF88,DIGITADOR!$B$2,DIGITADOR!$M$1,J88))","v":""},{"$f":"IF(J88=\"\",\"\",CONCATENATE(DIGITADOR!$B$2,AF88,DIGITADOR!$M$1,J88,ROW()))","v":""},null,null,null,{"$f":"IF(X88=\"\",\"\", INDEX(referentes!$AH:$AL,MATCH(DATOS_MIP_SA!X88,referentes!$AI:$AI,0),1))","v":""},"",{"$f":"IF(AI88=\"\",\"\", INDEX(referentes!$D:$E,MATCH(DATOS_MIP_SA!AI88,referentes!$E:$E,0),1))","v":""},{"$f":"IF(AK88=\"\",\"\", INDEX(referentes!$A:$B,MATCH(DATOS_MIP_SA!AK88,referentes!$B:$B,0),1))","v":""},null,{"$f":"IF(AM88=\"\",\"\", INDEX(referentes!$S:$T,MATCH(AM88,referentes!$T:$T,0),1))","v":""},{"$f":"IF(AN88=\"\",\"\", INDEX(referentes!$Y:$Z,MATCH(AN88,referentes!$Z:$Z,0),1))","v":""},{"$f":"IF(AU88=\"\",\"\", INDEX(referentes!$V:$W,MATCH(DATOS_MIP_SA!AU88,referentes!$W:$W,0),1))","v":""},{"$f":"IF(AO88=\"\",\"\", INDEX(referentes!$AB:$AC,MATCH(DATOS_MIP_SA!AO88,referentes!$AC:$AC,0),1))","v":""},{"$f":"IF(AV88=\"\",\"\", INDEX('otras referencias'!$U:$V,MATCH(DATOS_MIP_SA!AV88,'otras referencias'!$V:$V,0),1))","v":""},{"$f":"IF(AW88=\"\",\"\", INDEX(referentes!$J:$K,MATCH(DATOS_MIP_SA!AW88,referentes!$K:$K,0),1))","v":""},null,null,null,null,null,null,{"$f":"IF(X88<>\"\",INDEX(referentes!$AH:$AL,MATCH(DATOS_MIP_SA!X88,referentes!$AI:$AI,0),5),\"\")","v":""}]
[null,null,null,"",{"$f":"IF(J89=\"\",\"\",CONCATENATE(AF89,DIGITADOR!$B$2,DIGITADOR!$M$1,J89))","v":""},{"$f":"IF(J89=\"\",\"\",CONCATENATE(DIGITADOR!$B$2,AF89,DIGITADOR!$M$1,J89,ROW()))","v":""},null,null,null,{"$f":"IF(X89=\"\",\"\", INDEX(referentes!$AH:$AL,MATCH(DATOS_MIP_SA!X89,referentes!$AI:$AI,0),1))","v":""},"",{"$f":"IF(AI89=\"\",\"\", INDEX(referentes!$D:$E,MATCH(DATOS_MIP_SA!AI89,referentes!$E:$E,0),1))","v":""},{"$f":"IF(AK89=\"\",\"\", INDEX(referentes!$A:$B,MATCH(DATOS_MIP_SA!AK89,referentes!$B:$B,0),1))","v":""},null,{"$f":"IF(AM89=\"\",\"\", INDEX(referentes!$S:$T,MATCH(AM89,referentes!$T:$T,0),1))","v":""},{"$f":"IF(AN89=\"\",\"\", INDEX(referentes!$Y:$Z,MATCH(AN89,referentes!$Z:$Z,0),1))","v":""},{"$f":"IF(AU89=\"\",\"\", INDEX(referentes!$V:$W,MATCH(DATOS_MIP_SA!AU89,referentes!$W:$W,0),1))","v":""},{"$f":"IF(AO89=\"\",\"\", INDEX(referentes!$AB:$AC,MATCH(DATOS_MIP_SA!AO89,referentes!$AC:$AC,0),1))","v":""},{"$f":"IF(AV89=\"\",\"\", INDEX('otras referencias'!$U:$V,MATCH(DATOS_MIP_SA!AV89,'otras referencias'!$V:$V,0),1))","v":""},{"$f":"IF(AW89=\"\",\"\", INDEX(referentes!$J:$K,MATCH(DATOS_MIP_SA!AW89,referentes!$K:$K,0),1))","v":""},null,null,null,null,null,null,{"$f":"IF(X89<>\"\",INDEX(referentes!$AH:$AL,MATCH(DATOS_MIP_SA!X89,referentes!$AI:$AI,0),5),\"\")","v":""}]
[null,null,null,"",{"$f":"IF(J90=\"\",\"\",CONCATENATE(AF90,DIGITADOR!$B$2,DIGITADOR!$M$1,J90))","v":""},{"$f":"IF(J90=\"\",\"\",CONCATENATE(DIGITADOR!$B$2,AF90,DIGITADOR!$M$1,J90,ROW()))","v":""},null,null,null,{"$f":"IF(X90=\"\",\"\", INDEX(referentes!$AH:$AL,MATCH(DATOS_MIP_SA!X90,referentes!$AI:$AI,0),1))","v":""},"",{"$f":"IF(AI90=\"\",\"\", INDEX(referentes!$D:$E,MATCH(DATOS_MIP_SA!AI90,referentes!$E:$E,0),1))","v":""},{"$f":"IF(AK90=\"\",\"\", INDEX(referentes!$A:$B,MATCH(DATOS_MIP_SA!AK90,referentes!$B:$B,0),1))","v":""},null,{"$f":"IF(AM90=\"\",\"\", INDEX(referentes!$S:$T,MATCH(AM90,referentes!$T:$T,0),1))","v":""},{"$f":"IF(AN90=\"\",\"\", INDEX(referentes!$Y:$Z,MATCH(AN90,referentes!$Z:$Z,0),1))","v":""},{"$f":"IF(AU90=\"\",\"\", INDEX(referentes!$V:$W,MATCH(DATOS_MIP_SA!AU90,referentes!$W:$W,0),1))","v":""},{"$f":"IF(AO90=\"\",\"\", INDEX(referentes!$AB:$AC,MATCH(DATOS_MIP_SA!AO90,referentes!$AC:$AC,0),1))","v":""},{"$f":"IF(AV90=\"\",\"\", INDEX('otras referencias'!$U:$V,MATCH(DATOS_MIP_SA!AV90,'otras referencias'!$V:$V,0),1))","v":""},{"$f":"IF(AW90=\"\",\"\", INDEX(referentes!$J:$K,MATCH(DATOS_MIP_SA!AW90,referentes!$K:$K,0),1))","v":""},null,null,null,null,null,null,{"$f":"IF(X90<>\"\",INDEX(referentes!$AH:$AL,MATCH(DATOS_MIP_SA!X90,referentes!$AI:$AI,0),5),\"\")","v":""}]
[null,null,null,"",{"$f":"IF(J91=\"\",\"\",CONCATENATE(AF91,DIGITADOR!$B$2,DIGITADOR!$M$1,J91))","v":""},{"$f":"IF(J91=\"\",\"\",CONCATENATE(DIGITADOR!$B$2,AF91,DIGITADOR!$M$1,J91,ROW()))","v":""},null,null,null,{"$f":"IF(X91=\"\",\"\", INDEX(referentes!$AH:$AL,MATCH(DATOS_MIP_SA!X91,referentes!$AI:$AI,0),1))","v":""},"",{"$f":"IF(AI91=\"\",\"\", INDEX(referentes!$D:$E,MATCH(DATOS_MIP_SA!AI91,referentes!$E:$E,0),1))","v":""},{"$f":"IF(AK91=\"\",\"\", INDEX(referentes!$A:$B,MATCH(DATOS_MIP_SA!AK91,referentes!$B:$B,0),1))","v":""},null,{"$f":"IF(AM91=\"\",\"\", INDEX(referentes!$S:$T,MATCH(AM91,referentes!$T:$T,0),1))","v":""},{"$f":"IF(AN91=\"\",\"\", INDEX(referentes!$Y:$Z,MATCH(AN91,referentes!$Z:$Z,0),1))","v":""},{"$f":"IF(AU91=\"\",\"\", INDEX(referentes!$V:$W,MATCH(DATOS_MIP_SA!AU91,referentes!$W:$W,0),1))","v":""},{"$f":"IF(AO91=\"\",\"\", INDEX(referentes!$AB:$AC,MATCH(DATOS_MIP_SA!AO91,referentes!$AC:$AC,0),1))","v":""},{"$f":"IF(AV91=\"\",\"\", INDEX('otras referencias'!$U:$V,MATCH(DATOS_MIP_SA!AV91,'otras referencias'!$V:$V,0),1))","v":""},{"$f":"IF(AW91=\"\",\"\", INDEX(referentes!$J:$K,MATCH(DATOS_MIP_SA!AW91,referentes!$K:$K,0),1))","v":""},null,null,null,null,null,null,{"$f":"IF(X91<>\"\",INDEX(referentes!$AH:$AL,MATCH(DATOS_MIP_SA!X91,referentes!$AI:$AI,0),5),\"\")","v":""}]
[null,null,null,"",{"$f":"IF(J92=\"\",\"\",CONCATENATE(AF92,DIGITADOR!$B$2,DIGITADOR!$M$1,J92))","v":""},{"$f":"IF(J92=\"\",\"\",CONCATENATE(DIGITADOR!$B$2,AF92,DIGITADOR!$M$1,J92,ROW()))","v":""},null,null,null,{"$f":"IF(X92=\"\",\"\", INDEX(referentes!$AH:$AL,MATCH(DATOS_MIP_SA!X92,referentes!$AI:$AI,0),1))","v":""},"",{"$f":"IF(AI92=\"\",\"\", INDEX(referentes!$D:$E,MATCH(DATOS_MIP_SA!AI92,referentes!$E:$E,0),1))","v":""},{"$f":"IF(AK92=\"\",\"\", INDEX(referentes!$A:$B,MATCH(DATOS_MIP_SA!AK92,referentes!$B:$B,0),1))","v":""},null,{"$f":"IF(AM92=\"\",\"\", INDEX(referentes!$S:$T,MATCH(AM92,referentes!$T:$T,0),1))","v":""},{"$f":"IF(AN92=\"\",\"\", INDEX(referentes!$Y:$Z,MATCH(AN92,referentes!$Z:$Z,0),1))","v":""},{"$f":"IF(AU92=\"\",\"\", INDEX(referentes!$V:$W,MATCH(DATOS_MIP_SA!AU92,referentes!$W:$W,0),1))","v":""},{"$f":"IF(AO92=\"\",\"\", INDEX(referentes!$AB:$AC,MATCH(DATOS_MIP_SA!AO92,referentes!$AC:$AC,0),1))","v":""},{"$f":"IF(AV92=\"\",\"\", INDEX('otras referencias'!$U:$V,MATCH(DATOS_MIP_SA!AV92,'otras referencias'!$V:$V,0),1))","v":""},{"$f":"IF(AW92=\"\",\"\", INDEX(referentes!$J:$K,MATCH(DATOS_MIP_SA!AW92,referentes!$K:$K,0),1))","v":""},null,null,null,null,null,null,{"$f":"IF(X92<>\"\",INDEX(referentes!$AH:$AL,MATCH(DATOS_MIP_SA!X92,referentes!$AI:$AI,0),5),\"\")","v":""}]
[null,null,null,"",{"$f":"IF(J93=\"\",\"\",CONCATENATE(AF93,DIGITADOR!$B$2,DIGITADOR!$M$1,J93))","v":""},{"$f":"IF(J93=\"\",\"\",CONCATENATE(DIGITADOR!$B$2,AF93,DIGITADOR!$M$1,J93,ROW()))","v":""},null,null,null,{"$f":"IF(X93=\"\",\"\", INDEX(referentes!$AH:$AL,MATCH(DATOS_MIP_SA!X93,referentes!$AI:$AI,0),1))","v":""},"",{"$f":"IF(AI93=\"\",\"\", INDEX(referentes!$D:$E,MATCH(DATOS_MIP_SA!AI93,referentes!$E:$E,0),1))","v":""},{"$f":"IF(AK93=\"\",\"\", INDEX(referentes!$A:$B,MATCH(DATOS_MIP_SA!AK93,referentes!$B:$B,0),1))","v":""},null,{"$f":"IF(AM93=\"\",\"\", INDEX(referentes!$S:$T,MATCH(AM93,referentes!$T:$T,0),1))","v":""},{"$f":"IF(AN93=\"\",\"\", INDEX(referentes!$Y:$Z,MATCH(AN93,referentes!$Z:$Z,0),1))","v":""},{"$f":"IF(AU93=\"\",\"\", INDEX(referentes!$V:$W,MATCH(DATOS_MIP_SA!AU93,referentes!$W:$W,0),1))","v":""},{"$f":"IF(AO93=\"\",\"\", INDEX(referentes!$AB:$AC,MATCH(DATOS_MIP_SA!AO93,referentes!$AC:$AC,0),1))","v":""},{"$f":"IF(AV93=\"\",\"\", INDEX('otras referencias'!$U:$V,MATCH(DATOS_MIP_SA!AV93,'otras referencias'!$V:$V,0),1))","v":""},{"$f":"IF(AW93=\"\",\"\", INDEX(referentes!$J:$K,MATCH(DATOS_MIP_SA!AW93,referentes!$K:$K,0),1))","v":""},null,null,null,null,null,null,{"$f":"IF(X93<>\"\",INDEX(referentes!$AH:$AL,MATCH(DATOS_MIP_SA!X93,referentes!$AI:$AI,0),5),\"\")","v":""}]
[null,null,null,"",{"$f":"IF(J94=\"\",\"\",CONCATENATE(AF94,DIGITADOR!$B$2,DIGITADOR!$M$1,J94))","v":""},{"$f":"IF(J94=\"\",\"\",CONCATENATE(DIGITADOR!$B$2,AF94,DIGITADOR!$M$1,J94,ROW()))","v":""},null,null,null,{"$f":"IF(X94=\"\",\"\", INDEX(referentes!$AH:$AL,MATCH(DATOS_MIP_SA!X94,referentes!$AI:$AI,0),1))","v":""},"",{"$f":"IF(AI94=\"\",\"\", INDEX(referentes!$D:$E,MATCH(DATOS_MIP_SA!AI94,referentes!$E:$E,0),1))","v":""},{"$f":"IF(AK94=\"\",\"\", INDEX(referentes!$A:$B,MATCH(DATOS_MIP_SA!AK94,referentes!$B:$B,0),1))","v":""},null,{"$f":"IF(AM94=\"\",\"\", INDEX(referentes!$S:$T,MATCH(AM94,referentes!$T:$T,0),1))","v":""},{"$f":"IF(AN94=\"\",\"\", INDEX(referentes!$Y:$Z,MATCH(AN94,referentes!$Z:$Z,0),1))","v":""},{"$f":"IF(AU94=\"\",\"\", INDEX(referentes!$V:$W,MATCH(DATOS_MIP_SA!AU94,referentes!$W:$W,0),1))","v":""},{"$f":"IF(AO94=\"\",\"\", INDEX(referentes!$AB:$AC,MATCH(DATOS_MIP_SA!AO94,referentes!$AC:$AC,0),1))","v":""},{"$f":"IF(AV94=\"\",\"\", INDEX('otras referencias'!$U:$V,MATCH(DATOS_MIP_SA!AV94,'otras referencias'!$V:$V,0),1))","v":""},{"$f":"IF(AW94=\"\",\"\", INDEX(referentes!$J:$K,MATCH(DATOS_MIP_SA!AW94,referentes!$K:$K,0),1))","v":""},null,null,null,null,null,null,{"$f":"IF(X94<>\"\",INDEX(referentes!$AH:$AL,MATCH(DATOS_MIP_SA!X94,referentes!$AI:$AI,0),5),\"\")","v":""}]
[null,null,null,"",{"$f":"IF(J95=\"\",\"\",CONCATENATE(AF95,DIGITADOR!$B$2,DIGITADOR!$M$1,J95))","v":""},{"$f":"IF(J95=\"\",\"\",CONCATENATE(DIGITADOR!$B$2,AF95,DIGITADOR!$M$1,J95,ROW()))","v":""},null,null,null,{"$f":"IF(X95=\"\",\"\", INDEX(referentes!$AH:$AL,MATCH(DATOS_MIP_SA!X95,referentes!$AI:$AI,0),1))","v":""},"",{"$f":"IF(AI95=\"\",\"\", INDEX(referentes!$D:$E,MATCH(DATOS_MIP_SA!AI95,referentes!$E:$E,0),1))","v":""},{"$f":"IF(AK95=\"\",\"\", INDEX(referentes!$A:$B,MATCH(DATOS_MIP_SA!AK95,referentes!$B:$B,0),1))","v":""},null,{"$f":"IF(AM95=\"\",\"\", INDEX(referentes!$S:$T,MATCH(AM95,referentes!$T:$T,0),1))","v":""},{"$f":"IF(AN95=\"\",\"\", INDEX(referentes!$Y:$Z,MATCH(AN95,referentes!$Z:$Z,0),1))","v":""},{"$f":"IF(AU95=\"\",\"\", INDEX(referentes!$V:$W,MATCH(DATOS_MIP_SA!AU95,referentes!$W:$W,0),1))","v":""},{"$f":"IF(AO95=\"\",\"\", INDEX(referentes!$AB:$AC,MATCH(DATOS_MIP_SA!AO95,referentes!$AC:$AC,0),1))","v":""},{"$f":"IF(AV95=\"\",\"\", INDEX('otras referencias'!$U:$V,MATCH(DATOS_MIP_SA!AV95,'otras referencias'!$V:$V,0),1))","v":""},{"$f":"IF(AW95=\"\",\"\", INDEX(referentes!$J:$K,MATCH(DATOS_MIP_SA!AW95,referentes!$K:$K,0),1))","v":""},null,null,null,null,null,null,{"$f":"IF(X95<>\"\",INDEX(referentes!$AH:$AL,MATCH(DATOS_MIP_SA!X95,referentes!$AI:$AI,0),5),\"\")","v":""}]
[null,null,null,"",{"$f":"IF(J96=\"\",\"\",CONCATENATE(AF96,DIGITADOR!$B$2,DIGITADOR!$M$1,J96))","v":""},{"$f":"IF(J96=\"\",\"\",CONCATENATE(DIGITADOR!$B$2,AF96,DIGITADOR!$M$1,J96,ROW()))","v":""},null,null,null,{"$f":"IF(X96=\"\",\"\", INDEX(referentes!$AH:$AL,MATCH(DATOS_MIP_SA!X96,referentes!$AI:$AI,0),1))","v":""},"",{"$f":"IF(AI96=\"\",\"\", INDEX(referentes!$D:$E,MATCH(DATOS_MIP_SA!AI96,referentes!$E:$E,0),1))","v":""},{"$f":"IF(AK96=\"\",\"\", INDEX(referentes!$A:$B,MATCH(DATOS_MIP_SA!AK96,referentes!$B:$B,0),1))","v":""},null,{"$f":"IF(AM96=\"\",\"\", INDEX(referentes!$S:$T,MATCH(AM96,referentes!$T:$T,0),1))","v":""},{"$f":"IF(AN96=\"\",\"\", INDEX(referentes!$Y:$Z,MATCH(AN96,referentes!$Z:$Z,0),1))","v":""},{"$f":"IF(AU96=\"\",\"\", INDEX(referentes!$V:$W,MATCH(DATOS_MIP_SA!AU96,referentes!$W:$W,0),1))","v":""},{"$f":"IF(AO96=\"\",\"\", INDEX(referentes!$AB:$AC,MATCH(DATOS_MIP_SA!AO96,referentes!$AC:$AC,0),1))","v":""},{"$f":"IF(AV96=\"\",\"\", INDEX('otras referencias'!$U:$V,MATCH(DATOS_MIP_SA!AV96,'otras referencias'!$V:$V,0),1))","v":""},{"$f":"IF(AW96=\"\",\"\", INDEX(referentes!$J:$K,MATCH(DATOS_MIP_SA!AW96,referentes!$K:$K,0),1))","v":""},null,null,null,null,null,null,{"$f":"IF(X96<>\"\",INDEX(referentes!$AH:$AL,MATCH(DATOS_MIP_SA!X96,referentes!$AI:$AI,0),5),\"\")","v":""}]
[null,null,null,"",{"$f":"IF(J97=\"\",\"\",CONCATENATE(AF97,DIGITADOR!$B$2,DIGITADOR!$M$1,J97))","v":""},{"$f":"IF(J97=\"\",\"\",CONCATENATE(DIGITADOR!$B$2,AF97,DIGITADOR!$M$1,J97,ROW()))","v":""},null,null,null,{"$f":"IF(X97=\"\",\"\", INDEX(referentes!$AH:$AL,MATCH(DATOS_MIP_SA!X97,referentes!$AI:$AI,0),1))","v":""},"",{"$f":"IF(AI97=\"\",\"\", INDEX(referentes!$D:$E,MATCH(DATOS_MIP_SA!AI97,referentes!$E:$E,0),1))","v":""},{"$f":"IF(AK97=\"\",\"\", INDEX(referentes!$A:$B,MATCH(DATOS_MIP_SA!AK97,referentes!$B:$B,0),1))","v":""},null,{"$f":"IF(AM97=\"\",\"\", INDEX(referentes!$S:$T,MATCH(AM97,referentes!$T:$T,0),1))","v":""},{"$f":"IF(AN97=\"\",\"\", INDEX(referentes!$Y:$Z,MATCH(AN97,referentes!$Z:$Z,0),1))","v":""},{"$f":"IF(AU97=\"\",\"\", INDEX(referentes!$V:$W,MATCH(DATOS_MIP_SA!AU97,referentes!$W:$W,0),1))","v":""},{"$f":"IF(AO97=\"\",\"\", INDEX(referentes!$AB:$AC,MATCH(DATOS_MIP_SA!AO97,referentes!$AC:$AC,0),1))","v":""},{"$f":"IF(AV97=\"\",\"\", INDEX('otras referencias'!$U:$V,MATCH(DATOS_MIP_SA!AV97,'otras referencias'!$V:$V,0),1))","v":""},{"$f":"IF(AW97=\"\",\"\", INDEX(referentes!$J:$K,MATCH(DATOS_MIP_SA!AW97,referentes!$K:$K,0),1))","v":""},null,null,null,null,null,null,{"$f":"IF(X97<>\"\",INDEX(referentes!$AH:$AL,MATCH(DATOS_MIP_SA!X97,referentes!$AI:$AI,0),5),\"\")","v":""}]
[null,null,null,"",{"$f":"IF(J98=\"\",\"\",CONCATENATE(AF98,DIGITADOR!$B$2,DIGITADOR!$M$1,J98))","v":""},{"$f":"IF(J98=\"\",\"\",CONCATENATE(DIGITADOR!$B$2,AF98,DIGITADOR!$M$1,J98,ROW()))","v":""},null,null,null,{"$f":"IF(X98=\"\",\"\", INDEX(referentes!$AH:$AL,MATCH(DATOS_MIP_SA!X98,referentes!$AI:$AI,0),1))","v":""},"",{"$f":"IF(AI98=\"\",\"\", INDEX(referentes!$D:$E,MATCH(DATOS_MIP_SA!AI98,referentes!$E:$E,0),1))","v":""},{"$f":"IF(AK98=\"\",\"\", INDEX(referentes!$A:$B,MATCH(DATOS_MIP_SA!AK98,referentes!$B:$B,0),1))","v":""},null,{"$f":"IF(AM98=\"\",\"\", INDEX(referentes!$S:$T,MATCH(AM98,referentes!$T:$T,0),1))","v":""},{"$f":"IF(AN98=\"\",\"\", INDEX(referentes!$Y:$Z,MATCH(AN98,referentes!$Z:$Z,0),1))","v":""},{"$f":"IF(AU98=\"\",\"\", INDEX(referentes!$V:$W,MATCH(DATOS_MIP_SA!AU98,referentes!$W:$W,0),1))","v":""},{"$f":"IF(AO98=\"\",\"\", INDEX(referentes!$AB:$AC,MATCH(DATOS_MIP_SA!AO98,referentes!$AC:$AC,0),1))","v":""},{"$f":"IF(AV98=\"\",\"\", INDEX('otras referencias'!$U:$V,MATCH(DATOS_MIP_SA!AV98,'otras referencias'!$V:$V,0),1))","v":""},{"$f":"IF(AW98=\"\",\"\", INDEX(referentes!$J:$K,MATCH(DATOS_MIP_SA!AW98,referentes!$K:$K,0),1))","v":""},null,null,null,null,null,null,{"$f":"IF(X98<>\"\",INDEX(referentes!$AH:$AL,MATCH(DATOS_MIP_SA!X98,referentes!$AI:$AI,0),5),\"\")","v":""}]
[null,null,null,"",{"$f":"IF(J99=\"\",\"\",CONCATENATE(AF99,DIGITADOR!$B$2,DIGITADOR!$M$1,J99))","v":""},{"$f":"IF(J99=\"\",\"\",CONCATENATE(DIGITADOR!$B$2,AF99,DIGITADOR!$M$1,J99,ROW()))","v":""},null,null,null,{"$f":"IF(X99=\"\",\"\", INDEX(referentes!$AH:$AL,MATCH(DATOS_MIP_SA!X99,referentes!$AI:$AI,0),1))","v":""},"",{"$f":"IF(AI99=\"\",\"\", INDEX(referentes!$D:$E,MATCH(DATOS_MIP_SA!AI99,referentes!$E:$E,0),1))","v":""},{"$f":"IF(AK99=\"\",\"\", INDEX(referentes!$A:$B,MATCH(DATOS_MIP_SA!AK99,referentes!$B:$B,0),1))","v":""},null,{"$f":"IF(AM99=\"\",\"\", INDEX(referentes!$S:$T,MATCH(AM99,referentes!$T:$T,0),1))","v":""},{"$f":"IF(AN99=\"\",\"\", INDEX(referentes!$Y:$Z,MATCH(AN99,referentes!$Z:$Z,0),1))","v":""},{"$f":"IF(AU99=\"\",\"\", INDEX(referentes!$V:$W,MATCH(DATOS_MIP_SA!AU99,referentes!$W:$W,0),1))","v":""},{"$f":"IF(AO99=\"\",\"\", INDEX(referentes!$AB:$AC,MATCH(DATOS_MIP_SA!AO99,referentes!$AC:$AC,0),1))","v":""},{"$f":"IF(AV99=\"\",\"\", INDEX('otras referencias'!$U:$V,MATCH(DATOS_MIP_SA!AV99,'otras referencias'!$V:$V,0),1))","v":""},{"$f":"IF(AW99=\"\",\"\", INDEX(referentes!$J:$K,MATCH(DATOS_MIP_SA!AW99,referentes!$K:$K,0),1))","v":""},null,null,null,null,null,null,{"$f":"IF(X99<>\"\",INDEX(referentes!$AH:$AL,MATCH(DATOS_MIP_SA!X99,referentes!$AI:$AI,0),5),\"\")","v":""}]
[null,null,null,"",{"$f":"IF(J100=\"\",\"\",CONCATENATE(AF100,DIGITADOR!$B$2,DIGITADOR!$M$1,J100))","v":""},{"$f":"IF(J100=\"\",\"\",CONCATENATE(DIGITADOR!$B$2,AF100,DIGITADOR!$M$1,J100,ROW()))","v":""},null,null,null,{"$f":"IF(X100=\"\",\"\", INDEX(referentes!$AH:$AL,MATCH(DATOS_MIP_SA!X100,referentes!$AI:$AI,0),1))","v":""},"",{"$f":"IF(AI100=\"\",\"\", INDEX(referentes!$D:$E,MATCH(DATOS_MIP_SA!AI100,referentes!$E:$E,0),1))","v":""},{"$f":"IF(AK100=\"\",\"\", INDEX(referentes!$A:$B,MATCH(DATOS_MIP_SA!AK100,referentes!$B:$B,0),1))","v":""},null,{"$f":"IF(AM100=\"\",\"\", INDEX(referentes!$S:$T,MATCH(AM100,referentes!$T:$T,0),1))","v":""},{"$f":"IF(AN100=\"\",\"\", INDEX(referentes!$Y:$Z,MATCH(AN100,referentes!$Z:$Z,0),1))","v":""},{"$f":"IF(AU100=\"\",\"\", INDEX(referentes!$V:$W,MATCH(DATOS_MIP_SA!AU100,referentes!$W:$W,0),1))","v":""},{"$f":"IF(AO100=\"\",\"\", INDEX(referentes!$AB:$AC,MATCH(DATOS_MIP_SA!AO100,referentes!$AC:$AC,0),1))","v":""},{"$f":"IF(AV100=\"\",\"\", INDEX('otras referencias'!$U:$V,MATCH(DATOS_MIP_SA!AV100,'otras referencias'!$V:$V,0),1))","v":""},{"$f":"IF(AW100=\"\",\"\", INDEX(referentes!$J:$K,MATCH(DATOS_MIP_SA!AW100,referentes!$K:$K,0),1))","v":""},null,null,null,null,null,null,{"$f":"IF(X100<>\"\",INDEX(referentes!$AH:$AL,MATCH(DATOS_MIP_SA!X100,referentes!$AI:$AI,0),5),\"\")","v":""}]
[null,null,null,"",{"$f":"IF(J101=\"\",\"\",CONCATENATE(AF101,DIGITADOR!$B$2,DIGITADOR!$M$1,J101))","v":""},{"$f":"IF(J101=\"\",\"\",CONCATENATE(DIGITADOR!$B$2,AF101,DIGITADOR!$M$1,J101,ROW()))","v":""},null,null,null,{"$f":"IF(X101=\"\",\"\", INDEX(referentes!$AH:$AL,MATCH(DATOS_MIP_SA!X101,referentes!$AI:$AI,0),1))","v":""},"",{"$f":"IF(AI101=\"\",\"\", INDEX(referentes!$D:$E,MATCH(DATOS_MIP_SA!AI101,referentes!$E:$E,0),1))","v":""},{"$f":"IF(AK101=\"\",\"\", INDEX(referentes!$A:$B,MATCH(DATOS_MIP_SA!AK101,referentes!$B:$B,0),1))","v":""},null,{"$f":"IF(AM101=\"\",\"\", INDEX(referentes!$S:$T,MATCH(AM101,referentes!$T:$T,0),1))","v":""},{"$f":"IF(AN101=\"\",\"\", INDEX(referentes!$Y:$Z,MATCH(AN101,referentes!$Z:$Z,0),1))","v":""},{"$f":"IF(AU101=\"\",\"\", INDEX(referentes!$V:$W,MATCH(DATOS_MIP_SA!AU101,referentes!$W:$W,0),1))","v":""},{"$f":"IF(AO101=\"\",\"\", INDEX(referentes!$AB:$AC,MATCH(DATOS_MIP_SA!AO101,referentes!$AC:$AC,0),1))","v":""},{"$f":"IF(AV101=\"\",\"\", INDEX('otras referencias'!$U:$V,MATCH(DATOS_MIP_SA!AV101,'otras referencias'!$V:$V,0),1))","v":""},{"$f":"IF(AW101=\"\",\"\", INDEX(referentes!$J:$K,MATCH(DATOS_MIP_SA!AW101,referentes!$K:$K,0),1))","v":""},null,null,null,null,null,null,{"$f":"IF(X101<>\"\",INDEX(referentes!$AH:$AL,MATCH(DATOS_MIP_SA!X101,referentes!$AI:$AI,0),5),\"\")","v":""}]
[null,null,null,"",{"$f":"IF(J102=\"\",\"\",CONCATENATE(AF102,DIGITADOR!$B$2,DIGITADOR!$M$1,J102))","v":""},{"$f":"IF(J102=\"\",\"\",CONCATENATE(DIGITADOR!$B$2,AF102,DIGITADOR!$M$1,J102,ROW()))","v":""},null,null,null,{"$f":"IF(X102=\"\",\"\", INDEX(referentes!$AH:$AL,MATCH(DATOS_MIP_SA!X102,referentes!$AI:$AI,0),1))","v":""},"",{"$f":"IF(AI102=\"\",\"\", INDEX(referentes!$D:$E,MATCH(DATOS_MIP_SA!AI102,referentes!$E:$E,0),1))","v":""},{"$f":"IF(AK102=\"\",\"\", INDEX(referentes!$A:$B,MATCH(DATOS_MIP_SA!AK102,referentes!$B:$B,0),1))","v":""},null,{"$f":"IF(AM102=\"\",\"\", INDEX(referentes!$S:$T,MATCH(AM102,referentes!$T:$T,0),1))","v":""},{"$f":"IF(AN102=\"\",\"\", INDEX(referentes!$Y:$Z,MATCH(AN102,referentes!$Z:$Z,0),1))","v":""},{"$f":"IF(AU102=\"\",\"\", INDEX(referentes!$V:$W,MATCH(DATOS_MIP_SA!AU102,referentes!$W:$W,0),1))","v":""},{"$f":"IF(AO102=\"\",\"\", INDEX(referentes!$AB:$AC,MATCH(DATOS_MIP_SA!AO102,referentes!$AC:$AC,0),1))","v":""},{"$f":"IF(AV102=\"\",\"\", INDEX('otras referencias'!$U:$V,MATCH(DATOS_MIP_SA!AV102,'otras referencias'!$V:$V,0),1))","v":""},{"$f":"IF(AW102=\"\",\"\", INDEX(referentes!$J:$K,MATCH(DATOS_MIP_SA!AW102,referentes!$K:$K,0),1))","v":""},null,null,null,null,null,null,{"$f":"IF(X102<>\"\",INDEX(referentes!$AH:$AL,MATCH(DATOS_MIP_SA!X102,referentes!$AI:$AI,0),5),\"\")","v":""}]
[null,null,null,"",{"$f":"IF(J103=\"\",\"\",CONCATENATE(AF103,DIGITADOR!$B$2,DIGITADOR!$M$1,J103))","v":""},{"$f":"IF(J103=\"\",\"\",CONCATENATE(DIGITADOR!$B$2,AF103,DIGITADOR!$M$1,J103,ROW()))","v":""},null,null,null,{"$f":"IF(X103=\"\",\"\", INDEX(referentes!$AH:$AL,MATCH(DATOS_MIP_SA!X103,referentes!$AI:$AI,0),1))","v":""},"",{"$f":"IF(AI103=\"\",\"\", INDEX(referentes!$D:$E,MATCH(DATOS_MIP_SA!AI103,referentes!$E:$E,0),1))","v":""},{"$f":"IF(AK103=\"\",\"\", INDEX(referentes!$A:$B,MATCH(DATOS_MIP_SA!AK103,referentes!$B:$B,0),1))","v":""},null,{"$f":"IF(AM103=\"\",\"\", INDEX(referentes!$S:$T,MATCH(AM103,referentes!$T:$T,0),1))","v":""},{"$f":"IF(AN103=\"\",\"\", INDEX(referentes!$Y:$Z,MATCH(AN103,referentes!$Z:$Z,0),1))","v":""},{"$f":"IF(AU103=\"\",\"\", INDEX(referentes!$V:$W,MATCH(DATOS_MIP_SA!AU103,referentes!$W:$W,0),1))","v":""},{"$f":"IF(AO103=\"\",\"\", INDEX(referentes!$AB:$AC,MATCH(DATOS_MIP_SA!AO103,referentes!$AC:$AC,0),1))","v":""},{"$f":"IF(AV103=\"\",\"\", INDEX('otras referencias'!$U:$V,MATCH(DATOS_MIP_SA!AV103,'otras referencias'!$V:$V,0),1))","v":""},{"$f":"IF(AW103=\"\",\"\", INDEX(referentes!$J:$K,MATCH(DATOS_MIP_SA!AW103,referentes!$K:$K,0),1))","v":""},null,null,null,null,null,null,{"$f":"IF(X103<>\"\",INDEX(referentes!$AH:$AL,MATCH(DATOS_MIP_SA!X103,referentes!$AI:$AI,0),5),\"\")","v":""}]
[null,null,null,"",{"$f":"IF(J104=\"\",\"\",CONCATENATE(AF104,DIGITADOR!$B$2,DIGITADOR!$M$1,J104))","v":""},{"$f":"IF(J104=\"\",\"\",CONCATENATE(DIGITADOR!$B$2,AF104,DIGITADOR!$M$1,J104,ROW()))","v":""},null,null,null,{"$f":"IF(X104=\"\",\"\", INDEX(referentes!$AH:$AL,MATCH(DATOS_MIP_SA!X104,referentes!$AI:$AI,0),1))","v":""},"",{"$f":"IF(AI104=\"\",\"\", INDEX(referentes!$D:$E,MATCH(DATOS_MIP_SA!AI104,referentes!$E:$E,0),1))","v":""},{"$f":"IF(AK104=\"\",\"\", INDEX(referentes!$A:$B,MATCH(DATOS_MIP_SA!AK104,referentes!$B:$B,0),1))","v":""},null,{"$f":"IF(AM104=\"\",\"\", INDEX(referentes!$S:$T,MATCH(AM104,referentes!$T:$T,0),1))","v":""},{"$f":"IF(AN104=\"\",\"\", INDEX(referentes!$Y:$Z,MATCH(AN104,referentes!$Z:$Z,0),1))","v":""},{"$f":"IF(AU104=\"\",\"\", INDEX(referentes!$V:$W,MATCH(DATOS_MIP_SA!AU104,referentes!$W:$W,0),1))","v":""},{"$f":"IF(AO104=\"\",\"\", INDEX(referentes!$AB:$AC,MATCH(DATOS_MIP_SA!AO104,referentes!$AC:$AC,0),1))","v":""},{"$f":"IF(AV104=\"\",\"\", INDEX('otras referencias'!$U:$V,MATCH(DATOS_MIP_SA!AV104,'otras referencias'!$V:$V,0),1))","v":""},{"$f":"IF(AW104=\"\",\"\", INDEX(referentes!$J:$K,MATCH(DATOS_MIP_SA!AW104,referentes!$K:$K,0),1))","v":""},null,null,null,null,null,null,{"$f":"IF(X104<>\"\",INDEX(referentes!$AH:$AL,MATCH(DATOS_MIP_SA!X104,referentes!$AI:$AI,0),5),\"\")","v":""}]
[null,null,null,"",{"$f":"IF(J105=\"\",\"\",CONCATENATE(AF105,DIGITADOR!$B$2,DIGITADOR!$M$1,J105))","v":""},{"$f":"IF(J105=\"\",\"\",CONCATENATE(DIGITADOR!$B$2,AF105,DIGITADOR!$M$1,J105,ROW()))","v":""},null,null,null,{"$f":"IF(X105=\"\",\"\", INDEX(referentes!$AH:$AL,MATCH(DATOS_MIP_SA!X105,referentes!$AI:$AI,0),1))","v":""},"",{"$f":"IF(AI105=\"\",\"\", INDEX(referentes!$D:$E,MATCH(DATOS_MIP_SA!AI105,referentes!$E:$E,0),1))","v":""},{"$f":"IF(AK105=\"\",\"\", INDEX(referentes!$A:$B,MATCH(DATOS_MIP_SA!AK105,referentes!$B:$B,0),1))","v":""},null,{"$f":"IF(AM105=\"\",\"\", INDEX(referentes!$S:$T,MATCH(AM105,referentes!$T:$T,0),1))","v":""},{"$f":"IF(AN105=\"\",\"\", INDEX(referentes!$Y:$Z,MATCH(AN105,referentes!$Z:$Z,0),1))","v":""},{"$f":"IF(AU105=\"\",\"\", INDEX(referentes!$V:$W,MATCH(DATOS_MIP_SA!AU105,referentes!$W:$W,0),1))","v":""},{"$f":"IF(AO105=\"\",\"\", INDEX(referentes!$AB:$AC,MATCH(DATOS_MIP_SA!AO105,referentes!$AC:$AC,0),1))","v":""},{"$f":"IF(AV105=\"\",\"\", INDEX('otras referencias'!$U:$V,MATCH(DATOS_MIP_SA!AV105,'otras referencias'!$V:$V,0),1))","v":""},{"$f":"IF(AW105=\"\",\"\", INDEX(referentes!$J:$K,MATCH(DATOS_MIP_SA!AW105,referentes!$K:$K,0),1))","v":""},null,null,null,null,null,null,{"$f":"IF(X105<>\"\",INDEX(referentes!$AH:$AL,MATCH(DATOS_MIP_SA!X105,referentes!$AI:$AI,0),5),\"\")","v":""}]
[null,null,null,"",{"$f":"IF(J106=\"\",\"\",CONCATENATE(AF106,DIGITADOR!$B$2,DIGITADOR!$M$1,J106))","v":""},{"$f":"IF(J106=\"\",\"\",CONCATENATE(DIGITADOR!$B$2,AF106,DIGITADOR!$M$1,J106,ROW()))","v":""},null,null,null,{"$f":"IF(X106=\"\",\"\", INDEX(referentes!$AH:$AL,MATCH(DATOS_MIP_SA!X106,referentes!$AI:$AI,0),1))","v":""},"",{"$f":"IF(AI106=\"\",\"\", INDEX(referentes!$D:$E,MATCH(DATOS_MIP_SA!AI106,referentes!$E:$E,0),1))","v":""},{"$f":"IF(AK106=\"\",\"\", INDEX(referentes!$A:$B,MATCH(DATOS_MIP_SA!AK106,referentes!$B:$B,0),1))","v":""},null,{"$f":"IF(AM106=\"\",\"\", INDEX(referentes!$S:$T,MATCH(AM106,referentes!$T:$T,0),1))","v":""},{"$f":"IF(AN106=\"\",\"\", INDEX(referentes!$Y:$Z,MATCH(AN106,referentes!$Z:$Z,0),1))","v":""},{"$f":"IF(AU106=\"\",\"\", INDEX(referentes!$V:$W,MATCH(DATOS_MIP_SA!AU106,referentes!$W:$W,0),1))","v":""},{"$f":"IF(AO106=\"\",\"\", INDEX(referentes!$AB:$AC,MATCH(DATOS_MIP_SA!AO106,referentes!$AC:$AC,0),1))","v":""},{"$f":"IF(AV106=\"\",\"\", INDEX('otras referencias'!$U:$V,MATCH(DATOS_MIP_SA!AV106,'otras referencias'!$V:$V,0),1))","v":""},{"$f":"IF(AW106=\"\",\"\", INDEX(referentes!$J:$K,MATCH(DATOS_MIP_SA!AW106,referentes!$K:$K,0),1))","v":""},null,null,null,null,null,null,{"$f":"IF(X106<>\"\",INDEX(referentes!$AH:$AL,MATCH(DATOS_MIP_SA!X106,referentes!$AI:$AI,0),5),\"\")","v":""}]
[null,null,null,"",{"$f":"IF(J107=\"\",\"\",CONCATENATE(AF107,DIGITADOR!$B$2,DIGITADOR!$M$1,J107))","v":""},{"$f":"IF(J107=\"\",\"\",CONCATENATE(DIGITADOR!$B$2,AF107,DIGITADOR!$M$1,J107,ROW()))","v":""},null,null,null,{"$f":"IF(X107=\"\",\"\", INDEX(referentes!$AH:$AL,MATCH(DATOS_MIP_SA!X107,referentes!$AI:$AI,0),1))","v":""},"",{"$f":"IF(AI107=\"\",\"\", INDEX(referentes!$D:$E,MATCH(DATOS_MIP_SA!AI107,referentes!$E:$E,0),1))","v":""},{"$f":"IF(AK107=\"\",\"\", INDEX(referentes!$A:$B,MATCH(DATOS_MIP_SA!AK107,referentes!$B:$B,0),1))","v":""},null,{"$f":"IF(AM107=\"\",\"\", INDEX(referentes!$S:$T,MATCH(AM107,referentes!$T:$T,0),1))","v":""},{"$f":"IF(AN107=\"\",\"\", INDEX(referentes!$Y:$Z,MATCH(AN107,referentes!$Z:$Z,0),1))","v":""},{"$f":"IF(AU107=\"\",\"\", INDEX(referentes!$V:$W,MATCH(DATOS_MIP_SA!AU107,referentes!$W:$W,0),1))","v":""},{"$f":"IF(AO107=\"\",\"\", INDEX(referentes!$AB:$AC,MATCH(DATOS_MIP_SA!AO107,referentes!$AC:$AC,0),1))","v":""},{"$f":"IF(AV107=\"\",\"\", INDEX('otras referencias'!$U:$V,MATCH(DATOS_MIP_SA!AV107,'otras referencias'!$V:$V,0),1))","v":""},{"$f":"IF(AW107=\"\",\"\", INDEX(referentes!$J:$K,MATCH(DATOS_MIP_SA!AW107,referentes!$K:$K,0),1))","v":""},null,null,null,null,null,null,{"$f":"IF(X107<>\"\",INDEX(referentes!$AH:$AL,MATCH(DATOS_MIP_SA!X107,referentes!$AI:$AI,0),5),\"\")","v":""}]
[null,null,null,"",{"$f":"IF(J108=\"\",\"\",CONCATENATE(AF108,DIGITADOR!$B$2,DIGITADOR!$M$1,J108))","v":""},{"$f":"IF(J108=\"\",\"\",CONCATENATE(DIGITADOR!$B$2,AF108,DIGITADOR!$M$1,J108,ROW()))","v":""},null,null,null,{"$f":"IF(X108=\"\",\"\", INDEX(referentes!$AH:$AL,MATCH(DATOS_MIP_SA!X108,referentes!$AI:$AI,0),1))","v":""},"",{"$f":"IF(AI108=\"\",\"\", INDEX(referentes!$D:$E,MATCH(DATOS_MIP_SA!AI108,referentes!$E:$E,0),1))","v":""},{"$f":"IF(AK108=\"\",\"\", INDEX(referentes!$A:$B,MATCH(DATOS_MIP_SA!AK108,referentes!$B:$B,0),1))","v":""},null,{"$f":"IF(AM108=\"\",\"\", INDEX(referentes!$S:$T,MATCH(AM108,referentes!$T:$T,0),1))","v":""},{"$f":"IF(AN108=\"\",\"\", INDEX(referentes!$Y:$Z,MATCH(AN108,referentes!$Z:$Z,0),1))","v":""},{"$f":"IF(AU108=\"\",\"\", INDEX(referentes!$V:$W,MATCH(DATOS_MIP_SA!AU108,referentes!$W:$W,0),1))","v":""},{"$f":"IF(AO108=\"\",\"\", INDEX(referentes!$AB:$AC,MATCH(DATOS_MIP_SA!AO108,referentes!$AC:$AC,0),1))","v":""},{"$f":"IF(AV108=\"\",\"\", INDEX('otras referencias'!$U:$V,MATCH(DATOS_MIP_SA!AV108,'otras referencias'!$V:$V,0),1))","v":""},{"$f":"IF(AW108=\"\",\"\", INDEX(referentes!$J:$K,MATCH(DATOS_MIP_SA!AW108,referentes!$K:$K,0),1))","v":""},null,null,null,null,null,null,{"$f":"IF(X108<>\"\",INDEX(referentes!$AH:$AL,MATCH(DATOS_MIP_SA!X108,referentes!$AI:$AI,0),5),\"\")","v":""}]
[null,null,null,"",{"$f":"IF(J109=\"\",\"\",CONCATENATE(AF109,DIGITADOR!$B$2,DIGITADOR!$M$1,J109))","v":""},{"$f":"IF(J109=\"\",\"\",CONCATENATE(DIGITADOR!$B$2,AF109,DIGITADOR!$M$1,J109,ROW()))","v":""},null,null,null,{"$f":"IF(X109=\"\",\"\", INDEX(referentes!$AH:$AL,MATCH(DATOS_MIP_SA!X109,referentes!$AI:$AI,0),1))","v":""},"",{"$f":"IF(AI109=\"\",\"\", INDEX(referentes!$D:$E,MATCH(DATOS_MIP_SA!AI109,referentes!$E:$E,0),1))","v":""},{"$f":"IF(AK109=\"\",\"\", INDEX(referentes!$A:$B,MATCH(DATOS_MIP_SA!AK109,referentes!$B:$B,0),1))","v":""},null,{"$f":"IF(AM109=\"\",\"\", INDEX(referentes!$S:$T,MATCH(AM109,referentes!$T:$T,0),1))","v":""},{"$f":"IF(AN109=\"\",\"\", INDEX(referentes!$Y:$Z,MATCH(AN109,referentes!$Z:$Z,0),1))","v":""},{"$f":"IF(AU109=\"\",\"\", INDEX(referentes!$V:$W,MATCH(DATOS_MIP_SA!AU109,referentes!$W:$W,0),1))","v":""},{"$f":"IF(AO109=\"\",\"\", INDEX(referentes!$AB:$AC,MATCH(DATOS_MIP_SA!AO109,referentes!$AC:$AC,0),1))","v":""},{"$f":"IF(AV109=\"\",\"\", INDEX('otras referencias'!$U:$V,MATCH(DATOS_MIP_SA!AV109,'otras referencias'!$V:$V,0),1))","v":""},{"$f":"IF(AW109=\"\",\"\", INDEX(referentes!$J:$K,MATCH(DATOS_MIP_SA!AW109,referentes!$K:$K,0),1))","v":""},null,null,null,null,null,null,{"$f":"IF(X109<>\"\",INDEX(referentes!$AH:$AL,MATCH(DATOS_MIP_SA!X109,referentes!$AI:$AI,0),5),\"\")","v":""}]
[null,null,null,"",{"$f":"IF(J110=\"\",\"\",CONCATENATE(AF110,DIGITADOR!$B$2,DIGITADOR!$M$1,J110))","v":""},{"$f":"IF(J110=\"\",\"\",CONCATENATE(DIGITADOR!$B$2,AF110,DIGITADOR!$M$1,J110,ROW()))","v":""},null,null,null,{"$f":"IF(X110=\"\",\"\", INDEX(referentes!$AH:$AL,MATCH(DATOS_MIP_SA!X110,referentes!$AI:$AI,0),1))","v":""},"",{"$f":"IF(AI110=\"\",\"\", INDEX(referentes!$D:$E,MATCH(DATOS_MIP_SA!AI110,referentes!$E:$E,0),1))","v":""},{"$f":"IF(AK110=\"\",\"\", INDEX(referentes!$A:$B,MATCH(DATOS_MIP_SA!AK110,referentes!$B:$B,0),1))","v":""},null,{"$f":"IF(AM110=\"\",\"\", INDEX(referentes!$S:$T,MATCH(AM110,referentes!$T:$T,0),1))","v":""},{"$f":"IF(AN110=\"\",\"\", INDEX(referentes!$Y:$Z,MATCH(AN110,referentes!$Z:$Z,0),1))","v":""},{"$f":"IF(AU110=\"\",\"\", INDEX(referentes!$V:$W,MATCH(DATOS_MIP_SA!AU110,referentes!$W:$W,0),1))","v":""},{"$f":"IF(AO110=\"\",\"\", INDEX(referentes!$AB:$AC,MATCH(DATOS_MIP_SA!AO110,referentes!$AC:$AC,0),1))","v":""},{"$f":"IF(AV110=\"\",\"\", INDEX('otras referencias'!$U:$V,MATCH(DATOS_MIP_SA!AV110,'otras referencias'!$V:$V,0),1))","v":""},{"$f":"IF(AW110=\"\",\"\", INDEX(referentes!$J:$K,MATCH(DATOS_MIP_SA!AW110,referentes!$K:$K,0),1))","v":""},null,null,null,null,null,null,{"$f":"IF(X110<>\"\",INDEX(referentes!$AH:$AL,MATCH(DATOS_MIP_SA!X110,referentes!$AI:$AI,0),5),\"\")","v":""}]
[null,null,null,"",{"$f":"IF(J111=\"\",\"\",CONCATENATE(AF111,DIGITADOR!$B$2,DIGITADOR!$M$1,J111))","v":""},{"$f":"IF(J111=\"\",\"\",CONCATENATE(DIGITADOR!$B$2,AF111,DIGITADOR!$M$1,J111,ROW()))","v":""},null,null,null,{"$f":"IF(X111=\"\",\"\", INDEX(referentes!$AH:$AL,MATCH(DATOS_MIP_SA!X111,referentes!$AI:$AI,0),1))","v":""},"",{"$f":"IF(AI111=\"\",\"\", INDEX(referentes!$D:$E,MATCH(DATOS_MIP_SA!AI111,referentes!$E:$E,0),1))","v":""},{"$f":"IF(AK111=\"\",\"\", INDEX(referentes!$A:$B,MATCH(DATOS_MIP_SA!AK111,referentes!$B:$B,0),1))","v":""},null,{"$f":"IF(AM111=\"\",\"\", INDEX(referentes!$S:$T,MATCH(AM111,referentes!$T:$T,0),1))","v":""},{"$f":"IF(AN111=\"\",\"\", INDEX(referentes!$Y:$Z,MATCH(AN111,referentes!$Z:$Z,0),1))","v":""},{"$f":"IF(AU111=\"\",\"\", INDEX(referentes!$V:$W,MATCH(DATOS_MIP_SA!AU111,referentes!$W:$W,0),1))","v":""},{"$f":"IF(AO111=\"\",\"\", INDEX(referentes!$AB:$AC,MATCH(DATOS_MIP_SA!AO111,referentes!$AC:$AC,0),1))","v":""},{"$f":"IF(AV111=\"\",\"\", INDEX('otras referencias'!$U:$V,MATCH(DATOS_MIP_SA!AV111,'otras referencias'!$V:$V,0),1))","v":""},{"$f":"IF(AW111=\"\",\"\", INDEX(referentes!$J:$K,MATCH(DATOS_MIP_SA!AW111,referentes!$K:$K,0),1))","v":""},null,null,null,null,null,null,{"$f":"IF(X111<>\"\",INDEX(referentes!$AH:$AL,MATCH(DATOS_MIP_SA!X111,referentes!$AI:$AI,0),5),\"\")","v":""}]
[null,null,null,"",{"$f":"IF(J112=\"\",\"\",CONCATENATE(AF112,DIGITADOR!$B$2,DIGITADOR!$M$1,J112))","v":""},{"$f":"IF(J112=\"\",\"\",CONCATENATE(DIGITADOR!$B$2,AF112,DIGITADOR!$M$1,J112,ROW()))","v":""},null,null,null,{"$f":"IF(X112=\"\",\"\", INDEX(referentes!$AH:$AL,MATCH(DATOS_MIP_SA!X112,referentes!$AI:$AI,0),1))","v":""},"",{"$f":"IF(AI112=\"\",\"\", INDEX(referentes!$D:$E,MATCH(DATOS_MIP_SA!AI112,referentes!$E:$E,0),1))","v":""},{"$f":"IF(AK112=\"\",\"\", INDEX(referentes!$A:$B,MATCH(DATOS_MIP_SA!AK112,referentes!$B:$B,0),1))","v":""},null,{"$f":"IF(AM112=\"\",\"\", INDEX(referentes!$S:$T,MATCH(AM112,referentes!$T:$T,0),1))","v":""},{"$f":"IF(AN112=\"\",\"\", INDEX(referentes!$Y:$Z,MATCH(AN112,referentes!$Z:$Z,0),1))","v":""},{"$f":"IF(AU112=\"\",\"\", INDEX(referentes!$V:$W,MATCH(DATOS_MIP_SA!AU112,referentes!$W:$W,0),1))","v":""},{"$f":"IF(AO112=\"\",\"\", INDEX(referentes!$AB:$AC,MATCH(DATOS_MIP_SA!AO112,referentes!$AC:$AC,0),1))","v":""},{"$f":"IF(AV112=\"\",\"\", INDEX('otras referencias'!$U:$V,MATCH(DATOS_MIP_SA!AV112,'otras referencias'!$V:$V,0),1))","v":""},{"$f":"IF(AW112=\"\",\"\", INDEX(referentes!$J:$K,MATCH(DATOS_MIP_SA!AW112,referentes!$K:$K,0),1))","v":""},null,null,null,null,null,null,{"$f":"IF(X112<>\"\",INDEX(referentes!$AH:$AL,MATCH(DATOS_MIP_SA!X112,referentes!$AI:$AI,0),5),\"\")","v":""}]
[null,null,null,"",{"$f":"IF(J113=\"\",\"\",CONCATENATE(AF113,DIGITADOR!$B$2,DIGITADOR!$M$1,J113))","v":""},{"$f":"IF(J113=\"\",\"\",CONCATENATE(DIGITADOR!$B$2,AF113,DIGITADOR!$M$1,J113,ROW()))","v":""},null,null,null,{"$f":"IF(X113=\"\",\"\", INDEX(referentes!$AH:$AL,MATCH(DATOS_MIP_SA!X113,referentes!$AI:$AI,0),1))","v":""},"",{"$f":"IF(AI113=\"\",\"\", INDEX(referentes!$D:$E,MATCH(DATOS_MIP_SA!AI113,referentes!$E:$E,0),1))","v":""},{"$f":"IF(AK113=\"\",\"\", INDEX(referentes!$A:$B,MATCH(DATOS_MIP_SA!AK113,referentes!$B:$B,0),1))","v":""},null,{"$f":"IF(AM113=\"\",\"\", INDEX(referentes!$S:$T,MATCH(AM113,referentes!$T:$T,0),1))","v":""},{"$f":"IF(AN113=\"\",\"\", INDEX(referentes!$Y:$Z,MATCH(AN113,referentes!$Z:$Z,0),1))","v":""},{"$f":"IF(AU113=\"\",\"\", INDEX(referentes!$V:$W,MATCH(DATOS_MIP_SA!AU113,referentes!$W:$W,0),1))","v":""},{"$f":"IF(AO113=\"\",\"\", INDEX(referentes!$AB:$AC,MATCH(DATOS_MIP_SA!AO113,referentes!$AC:$AC,0),1))","v":""},{"$f":"IF(AV113=\"\",\"\", INDEX('otras referencias'!$U:$V,MATCH(DATOS_MIP_SA!AV113,'otras referencias'!$V:$V,0),1))","v":""},{"$f":"IF(AW113=\"\",\"\", INDEX(referentes!$J:$K,MATCH(DATOS_MIP_SA!AW113,referentes!$K:$K,0),1))","v":""},null,null,null,null,null,null,{"$f":"IF(X113<>\"\",INDEX(referentes!$AH:$AL,MATCH(DATOS_MIP_SA!X113,referentes!$AI:$AI,0),5),\"\")","v":""}]
[null,null,null,"",{"$f":"IF(J114=\"\",\"\",CONCATENATE(AF114,DIGITADOR!$B$2,DIGITADOR!$M$1,J114))","v":""},{"$f":"IF(J114=\"\",\"\",CONCATENATE(DIGITADOR!$B$2,AF114,DIGITADOR!$M$1,J114,ROW()))","v":""},null,null,null,{"$f":"IF(X114=\"\",\"\", INDEX(referentes!$AH:$AL,MATCH(DATOS_MIP_SA!X114,referentes!$AI:$AI,0),1))","v":""},"",{"$f":"IF(AI114=\"\",\"\", INDEX(referentes!$D:$E,MATCH(DATOS_MIP_SA!AI114,referentes!$E:$E,0),1))","v":""},{"$f":"IF(AK114=\"\",\"\", INDEX(referentes!$A:$B,MATCH(DATOS_MIP_SA!AK114,referentes!$B:$B,0),1))","v":""},null,{"$f":"IF(AM114=\"\",\"\", INDEX(referentes!$S:$T,MATCH(AM114,referentes!$T:$T,0),1))","v":""},{"$f":"IF(AN114=\"\",\"\", INDEX(referentes!$Y:$Z,MATCH(AN114,referentes!$Z:$Z,0),1))","v":""},{"$f":"IF(AU114=\"\",\"\", INDEX(referentes!$V:$W,MATCH(DATOS_MIP_SA!AU114,referentes!$W:$W,0),1))","v":""},{"$f":"IF(AO114=\"\",\"\", INDEX(referentes!$AB:$AC,MATCH(DATOS_MIP_SA!AO114,referentes!$AC:$AC,0),1))","v":""},{"$f":"IF(AV114=\"\",\"\", INDEX('otras referencias'!$U:$V,MATCH(DATOS_MIP_SA!AV114,'otras referencias'!$V:$V,0),1))","v":""},{"$f":"IF(AW114=\"\",\"\", INDEX(referentes!$J:$K,MATCH(DATOS_MIP_SA!AW114,referentes!$K:$K,0),1))","v":""},null,null,null,null,null,null,{"$f":"IF(X114<>\"\",INDEX(referentes!$AH:$AL,MATCH(DATOS_MIP_SA!X114,referentes!$AI:$AI,0),5),\"\")","v":""}]
[null,null,null,"",{"$f":"IF(J115=\"\",\"\",CONCATENATE(AF115,DIGITADOR!$B$2,DIGITADOR!$M$1,J115))","v":""},{"$f":"IF(J115=\"\",\"\",CONCATENATE(DIGITADOR!$B$2,AF115,DIGITADOR!$M$1,J115,ROW()))","v":""},null,null,null,{"$f":"IF(X115=\"\",\"\", INDEX(referentes!$AH:$AL,MATCH(DATOS_MIP_SA!X115,referentes!$AI:$AI,0),1))","v":""},"",{"$f":"IF(AI115=\"\",\"\", INDEX(referentes!$D:$E,MATCH(DATOS_MIP_SA!AI115,referentes!$E:$E,0),1))","v":""},{"$f":"IF(AK115=\"\",\"\", INDEX(referentes!$A:$B,MATCH(DATOS_MIP_SA!AK115,referentes!$B:$B,0),1))","v":""},null,{"$f":"IF(AM115=\"\",\"\", INDEX(referentes!$S:$T,MATCH(AM115,referentes!$T:$T,0),1))","v":""},{"$f":"IF(AN115=\"\",\"\", INDEX(referentes!$Y:$Z,MATCH(AN115,referentes!$Z:$Z,0),1))","v":""},{"$f":"IF(AU115=\"\",\"\", INDEX(referentes!$V:$W,MATCH(DATOS_MIP_SA!AU115,referentes!$W:$W,0),1))","v":""},{"$f":"IF(AO115=\"\",\"\", INDEX(referentes!$AB:$AC,MATCH(DATOS_MIP_SA!AO115,referentes!$AC:$AC,0),1))","v":""},{"$f":"IF(AV115=\"\",\"\", INDEX('otras referencias'!$U:$V,MATCH(DATOS_MIP_SA!AV115,'otras referencias'!$V:$V,0),1))","v":""},{"$f":"IF(AW115=\"\",\"\", INDEX(referentes!$J:$K,MATCH(DATOS_MIP_SA!AW115,referentes!$K:$K,0),1))","v":""},null,null,null,null,null,null,{"$f":"IF(X115<>\"\",INDEX(referentes!$AH:$AL,MATCH(DATOS_MIP_SA!X115,referentes!$AI:$AI,0),5),\"\")","v":""}]
[null,null,null,"",{"$f":"IF(J116=\"\",\"\",CONCATENATE(AF116,DIGITADOR!$B$2,DIGITADOR!$M$1,J116))","v":""},{"$f":"IF(J116=\"\",\"\",CONCATENATE(DIGITADOR!$B$2,AF116,DIGITADOR!$M$1,J116,ROW()))","v":""},null,null,null,{"$f":"IF(X116=\"\",\"\", INDEX(referentes!$AH:$AL,MATCH(DATOS_MIP_SA!X116,referentes!$AI:$AI,0),1))","v":""},"",{"$f":"IF(AI116=\"\",\"\", INDEX(referentes!$D:$E,MATCH(DATOS_MIP_SA!AI116,referentes!$E:$E,0),1))","v":""},{"$f":"IF(AK116=\"\",\"\", INDEX(referentes!$A:$B,MATCH(DATOS_MIP_SA!AK116,referentes!$B:$B,0),1))","v":""},null,{"$f":"IF(AM116=\"\",\"\", INDEX(referentes!$S:$T,MATCH(AM116,referentes!$T:$T,0),1))","v":""},{"$f":"IF(AN116=\"\",\"\", INDEX(referentes!$Y:$Z,MATCH(AN116,referentes!$Z:$Z,0),1))","v":""},{"$f":"IF(AU116=\"\",\"\", INDEX(referentes!$V:$W,MATCH(DATOS_MIP_SA!AU116,referentes!$W:$W,0),1))","v":""},{"$f":"IF(AO116=\"\",\"\", INDEX(referentes!$AB:$AC,MATCH(DATOS_MIP_SA!AO116,referentes!$AC:$AC,0),1))","v":""},{"$f":"IF(AV116=\"\",\"\", INDEX('otras referencias'!$U:$V,MATCH(DATOS_MIP_SA!AV116,'otras referencias'!$V:$V,0),1))","v":""},{"$f":"IF(AW116=\"\",\"\", INDEX(referentes!$J:$K,MATCH(DATOS_MIP_SA!AW116,referentes!$K:$K,0),1))","v":""},null,null,null,null,null,null,{"$f":"IF(X116<>\"\",INDEX(referentes!$AH:$AL,MATCH(DATOS_MIP_SA!X116,referentes!$AI:$AI,0),5),\"\")","v":""}]
[null,null,null,"",{"$f":"IF(J117=\"\",\"\",CONCATENATE(AF117,DIGITADOR!$B$2,DIGITADOR!$M$1,J117))","v":""},{"$f":"IF(J117=\"\",\"\",CONCATENATE(DIGITADOR!$B$2,AF117,DIGITADOR!$M$1,J117,ROW()))","v":""},null,null,null,{"$f":"IF(X117=\"\",\"\", INDEX(referentes!$AH:$AL,MATCH(DATOS_MIP_SA!X117,referentes!$AI:$AI,0),1))","v":""},"",{"$f":"IF(AI117=\"\",\"\", INDEX(referentes!$D:$E,MATCH(DATOS_MIP_SA!AI117,referentes!$E:$E,0),1))","v":""},{"$f":"IF(AK117=\"\",\"\", INDEX(referentes!$A:$B,MATCH(DATOS_MIP_SA!AK117,referentes!$B:$B,0),1))","v":""},null,{"$f":"IF(AM117=\"\",\"\", INDEX(referentes!$S:$T,MATCH(AM117,referentes!$T:$T,0),1))","v":""},{"$f":"IF(AN117=\"\",\"\", INDEX(referentes!$Y:$Z,MATCH(AN117,referentes!$Z:$Z,0),1))","v":""},{"$f":"IF(AU117=\"\",\"\", INDEX(referentes!$V:$W,MATCH(DATOS_MIP_SA!AU117,referentes!$W:$W,0),1))","v":""},{"$f":"IF(AO117=\"\",\"\", INDEX(referentes!$AB:$AC,MATCH(DATOS_MIP_SA!AO117,referentes!$AC:$AC,0),1))","v":""},{"$f":"IF(AV117=\"\",\"\", INDEX('otras referencias'!$U:$V,MATCH(DATOS_MIP_SA!AV117,'otras referencias'!$V:$V,0),1))","v":""},{"$f":"IF(AW117=\"\",\"\", INDEX(referentes!$J:$K,MATCH(DATOS_MIP_SA!AW117,referentes!$K:$K,0),1))","v":""},null,null,null,null,null,null,{"$f":"IF(X117<>\"\",INDEX(referentes!$AH:$AL,MATCH(DATOS_MIP_SA!X117,referentes!$AI:$AI,0),5),\"\")","v":""}]
[null,null,null,"",{"$f":"IF(J118=\"\",\"\",CONCATENATE(AF118,DIGITADOR!$B$2,DIGITADOR!$M$1,J118))","v":""},{"$f":"IF(J118=\"\",\"\",CONCATENATE(DIGITADOR!$B$2,AF118,DIGITADOR!$M$1,J118,ROW()))","v":""},null,null,null,{"$f":"IF(X118=\"\",\"\", INDEX(referentes!$AH:$AL,MATCH(DATOS_MIP_SA!X118,referentes!$AI:$AI,0),1))","v":""},"",{"$f":"IF(AI118=\"\",\"\", INDEX(referentes!$D:$E,MATCH(DATOS_MIP_SA!AI118,referentes!$E:$E,0),1))","v":""},{"$f":"IF(AK118=\"\",\"\", INDEX(referentes!$A:$B,MATCH(DATOS_MIP_SA!AK118,referentes!$B:$B,0),1))","v":""},null,{"$f":"IF(AM118=\"\",\"\", INDEX(referentes!$S:$T,MATCH(AM118,referentes!$T:$T,0),1))","v":""},{"$f":"IF(AN118=\"\",\"\", INDEX(referentes!$Y:$Z,MATCH(AN118,referentes!$Z:$Z,0),1))","v":""},{"$f":"IF(AU118=\"\",\"\", INDEX(referentes!$V:$W,MATCH(DATOS_MIP_SA!AU118,referentes!$W:$W,0),1))","v":""},{"$f":"IF(AO118=\"\",\"\", INDEX(referentes!$AB:$AC,MATCH(DATOS_MIP_SA!AO118,referentes!$AC:$AC,0),1))","v":""},{"$f":"IF(AV118=\"\",\"\", INDEX('otras referencias'!$U:$V,MATCH(DATOS_MIP_SA!AV118,'otras referencias'!$V:$V,0),1))","v":""},{"$f":"IF(AW118=\"\",\"\", INDEX(referentes!$J:$K,MATCH(DATOS_MIP_SA!AW118,referentes!$K:$K,0),1))","v":""},null,null,null,null,null,null,{"$f":"IF(X118<>\"\",INDEX(referentes!$AH:$AL,MATCH(DATOS_MIP_SA!X118,referentes!$AI:$AI,0),5),\"\")","v":""}]
[null,null,null,"",{"$f":"IF(J119=\"\",\"\",CONCATENATE(AF119,DIGITADOR!$B$2,DIGITADOR!$M$1,J119))","v":""},{"$f":"IF(J119=\"\",\"\",CONCATENATE(DIGITADOR!$B$2,AF119,DIGITADOR!$M$1,J119,ROW()))","v":""},null,null,null,{"$f":"IF(X119=\"\",\"\", INDEX(referentes!$AH:$AL,MATCH(DATOS_MIP_SA!X119,referentes!$AI:$AI,0),1))","v":""},"",{"$f":"IF(AI119=\"\",\"\", INDEX(referentes!$D:$E,MATCH(DATOS_MIP_SA!AI119,referentes!$E:$E,0),1))","v":""},{"$f":"IF(AK119=\"\",\"\", INDEX(referentes!$A:$B,MATCH(DATOS_MIP_SA!AK119,referentes!$B:$B,0),1))","v":""},null,{"$f":"IF(AM119=\"\",\"\", INDEX(referentes!$S:$T,MATCH(AM119,referentes!$T:$T,0),1))","v":""},{"$f":"IF(AN119=\"\",\"\", INDEX(referentes!$Y:$Z,MATCH(AN119,referentes!$Z:$Z,0),1))","v":""},{"$f":"IF(AU119=\"\",\"\", INDEX(referentes!$V:$W,MATCH(DATOS_MIP_SA!AU119,referentes!$W:$W,0),1))","v":""},{"$f":"IF(AO119=\"\",\"\", INDEX(referentes!$AB:$AC,MATCH(DATOS_MIP_SA!AO119,referentes!$AC:$AC,0),1))","v":""},{"$f":"IF(AV119=\"\",\"\", INDEX('otras referencias'!$U:$V,MATCH(DATOS_MIP_SA!AV119,'otras referencias'!$V:$V,0),1))","v":""},{"$f":"IF(AW119=\"\",\"\", INDEX(referentes!$J:$K,MATCH(DATOS_MIP_SA!AW119,referentes!$K:$K,0),1))","v":""},null,null,null,null,null,null,{"$f":"IF(X119<>\"\",INDEX(referentes!$AH:$AL,MATCH(DATOS_MIP_SA!X119,referentes!$AI:$AI,0),5),\"\")","v":""}]
[null,null,null,"",{"$f":"IF(J120=\"\",\"\",CONCATENATE(AF120,DIGITADOR!$B$2,DIGITADOR!$M$1,J120))","v":""},{"$f":"IF(J120=\"\",\"\",CONCATENATE(DIGITADOR!$B$2,AF120,DIGITADOR!$M$1,J120,ROW()))","v":""},null,null,null,{"$f":"IF(X120=\"\",\"\", INDEX(referentes!$AH:$AL,MATCH(DATOS_MIP_SA!X120,referentes!$AI:$AI,0),1))","v":""},"",{"$f":"IF(AI120=\"\",\"\", INDEX(referentes!$D:$E,MATCH(DATOS_MIP_SA!AI120,referentes!$E:$E,0),1))","v":""},{"$f":"IF(AK120=\"\",\"\", INDEX(referentes!$A:$B,MATCH(DATOS_MIP_SA!AK120,referentes!$B:$B,0),1))","v":""},null,{"$f":"IF(AM120=\"\",\"\", INDEX(referentes!$S:$T,MATCH(AM120,referentes!$T:$T,0),1))","v":""},{"$f":"IF(AN120=\"\",\"\", INDEX(referentes!$Y:$Z,MATCH(AN120,referentes!$Z:$Z,0),1))","v":""},{"$f":"IF(AU120=\"\",\"\", INDEX(referentes!$V:$W,MATCH(DATOS_MIP_SA!AU120,referentes!$W:$W,0),1))","v":""},{"$f":"IF(AO120=\"\",\"\", INDEX(referentes!$AB:$AC,MATCH(DATOS_MIP_SA!AO120,referentes!$AC:$AC,0),1))","v":""},{"$f":"IF(AV120=\"\",\"\", INDEX('otras referencias'!$U:$V,MATCH(DATOS_MIP_SA!AV120,'otras referencias'!$V:$V,0),1))","v":""},{"$f":"IF(AW120=\"\",\"\", INDEX(referentes!$J:$K,MATCH(DATOS_MIP_SA!AW120,referentes!$K:$K,0),1))","v":""},null,null,null,null,null,null,{"$f":"IF(X120<>\"\",INDEX(referentes!$AH:$AL,MATCH(DATOS_MIP_SA!X120,referentes!$AI:$AI,0),5),\"\")","v":""}]
[null,null,null,"",{"$f":"IF(J121=\"\",\"\",CONCATENATE(AF121,DIGITADOR!$B$2,DIGITADOR!$M$1,J121))","v":""},{"$f":"IF(J121=\"\",\"\",CONCATENATE(DIGITADOR!$B$2,AF121,DIGITADOR!$M$1,J121,ROW()))","v":""},null,null,null,{"$f":"IF(X121=\"\",\"\", INDEX(referentes!$AH:$AL,MATCH(DATOS_MIP_SA!X121,referentes!$AI:$AI,0),1))","v":""},"",{"$f":"IF(AI121=\"\",\"\", INDEX(referentes!$D:$E,MATCH(DATOS_MIP_SA!AI121,referentes!$E:$E,0),1))","v":""},{"$f":"IF(AK121=\"\",\"\", INDEX(referentes!$A:$B,MATCH(DATOS_MIP_SA!AK121,referentes!$B:$B,0),1))","v":""},null,{"$f":"IF(AM121=\"\",\"\", INDEX(referentes!$S:$T,MATCH(AM121,referentes!$T:$T,0),1))","v":""},{"$f":"IF(AN121=\"\",\"\", INDEX(referentes!$Y:$Z,MATCH(AN121,referentes!$Z:$Z,0),1))","v":""},{"$f":"IF(AU121=\"\",\"\", INDEX(referentes!$V:$W,MATCH(DATOS_MIP_SA!AU121,referentes!$W:$W,0),1))","v":""},{"$f":"IF(AO121=\"\",\"\", INDEX(referentes!$AB:$AC,MATCH(DATOS_MIP_SA!AO121,referentes!$AC:$AC,0),1))","v":""},{"$f":"IF(AV121=\"\",\"\", INDEX('otras referencias'!$U:$V,MATCH(DATOS_MIP_SA!AV121,'otras referencias'!$V:$V,0),1))","v":""},{"$f":"IF(AW121=\"\",\"\", INDEX(referentes!$J:$K,MATCH(DATOS_MIP_SA!AW121,referentes!$K:$K,0),1))","v":""},null,null,null,null,null,null,{"$f":"IF(X121<>\"\",INDEX(referentes!$AH:$AL,MATCH(DATOS_MIP_SA!X121,referentes!$AI:$AI,0),5),\"\")","v":""}]
[null,null,null,"",{"$f":"IF(J122=\"\",\"\",CONCATENATE(AF122,DIGITADOR!$B$2,DIGITADOR!$M$1,J122))","v":""},{"$f":"IF(J122=\"\",\"\",CONCATENATE(DIGITADOR!$B$2,AF122,DIGITADOR!$M$1,J122,ROW()))","v":""},null,null,null,{"$f":"IF(X122=\"\",\"\", INDEX(referentes!$AH:$AL,MATCH(DATOS_MIP_SA!X122,referentes!$AI:$AI,0),1))","v":""},"",{"$f":"IF(AI122=\"\",\"\", INDEX(referentes!$D:$E,MATCH(DATOS_MIP_SA!AI122,referentes!$E:$E,0),1))","v":""},{"$f":"IF(AK122=\"\",\"\", INDEX(referentes!$A:$B,MATCH(DATOS_MIP_SA!AK122,referentes!$B:$B,0),1))","v":""},null,{"$f":"IF(AM122=\"\",\"\", INDEX(referentes!$S:$T,MATCH(AM122,referentes!$T:$T,0),1))","v":""},{"$f":"IF(AN122=\"\",\"\", INDEX(referentes!$Y:$Z,MATCH(AN122,referentes!$Z:$Z,0),1))","v":""},{"$f":"IF(AU122=\"\",\"\", INDEX(referentes!$V:$W,MATCH(DATOS_MIP_SA!AU122,referentes!$W:$W,0),1))","v":""},{"$f":"IF(AO122=\"\",\"\", INDEX(referentes!$AB:$AC,MATCH(DATOS_MIP_SA!AO122,referentes!$AC:$AC,0),1))","v":""},{"$f":"IF(AV122=\"\",\"\", INDEX('otras referencias'!$U:$V,MATCH(DATOS_MIP_SA!AV122,'otras referencias'!$V:$V,0),1))","v":""},{"$f":"IF(AW122=\"\",\"\", INDEX(referentes!$J:$K,MATCH(DATOS_MIP_SA!AW122,referentes!$K:$K,0),1))","v":""},null,null,null,null,null,null,{"$f":"IF(X122<>\"\",INDEX(referentes!$AH:$AL,MATCH(DATOS_MIP_SA!X122,referentes!$AI:$AI,0),5),\"\")","v":""}]
[null,null,null,"",{"$f":"IF(J123=\"\",\"\",CONCATENATE(AF123,DIGITADOR!$B$2,DIGITADOR!$M$1,J123))","v":""},{"$f":"IF(J123=\"\",\"\",CONCATENATE(DIGITADOR!$B$2,AF123,DIGITADOR!$M$1,J123,ROW()))","v":""},null,null,null,{"$f":"IF(X123=\"\",\"\", INDEX(referentes!$AH:$AL,MATCH(DATOS_MIP_SA!X123,referentes!$AI:$AI,0),1))","v":""},"",{"$f":"IF(AI123=\"\",\"\", INDEX(referentes!$D:$E,MATCH(DATOS_MIP_SA!AI123,referentes!$E:$E,0),1))","v":""},{"$f":"IF(AK123=\"\",\"\", INDEX(referentes!$A:$B,MATCH(DATOS_MIP_SA!AK123,referentes!$B:$B,0),1))","v":""},null,{"$f":"IF(AM123=\"\",\"\", INDEX(referentes!$S:$T,MATCH(AM123,referentes!$T:$T,0),1))","v":""},{"$f":"IF(AN123=\"\",\"\", INDEX(referentes!$Y:$Z,MATCH(AN123,referentes!$Z:$Z,0),1))","v":""},{"$f":"IF(AU123=\"\",\"\", INDEX(referentes!$V:$W,MATCH(DATOS_MIP_SA!AU123,referentes!$W:$W,0),1))","v":""},{"$f":"IF(AO123=\"\",\"\", INDEX(referentes!$AB:$AC,MATCH(DATOS_MIP_SA!AO123,referentes!$AC:$AC,0),1))","v":""},{"$f":"IF(AV123=\"\",\"\", INDEX('otras referencias'!$U:$V,MATCH(DATOS_MIP_SA!AV123,'otras referencias'!$V:$V,0),1))","v":""},{"$f":"IF(AW123=\"\",\"\", INDEX(referentes!$J:$K,MATCH(DATOS_MIP_SA!AW123,referentes!$K:$K,0),1))","v":""},null,null,null,null,null,null,{"$f":"IF(X123<>\"\",INDEX(referentes!$AH:$AL,MATCH(DATOS_MIP_SA!X123,referentes!$AI:$AI,0),5),\"\")","v":""}]
[null,null,null,"",{"$f":"IF(J124=\"\",\"\",CONCATENATE(AF124,DIGITADOR!$B$2,DIGITADOR!$M$1,J124))","v":""},{"$f":"IF(J124=\"\",\"\",CONCATENATE(DIGITADOR!$B$2,AF124,DIGITADOR!$M$1,J124,ROW()))","v":""},null,null,null,{"$f":"IF(X124=\"\",\"\", INDEX(referentes!$AH:$AL,MATCH(DATOS_MIP_SA!X124,referentes!$AI:$AI,0),1))","v":""},"",{"$f":"IF(AI124=\"\",\"\", INDEX(referentes!$D:$E,MATCH(DATOS_MIP_SA!AI124,referentes!$E:$E,0),1))","v":""},{"$f":"IF(AK124=\"\",\"\", INDEX(referentes!$A:$B,MATCH(DATOS_MIP_SA!AK124,referentes!$B:$B,0),1))","v":""},null,{"$f":"IF(AM124=\"\",\"\", INDEX(referentes!$S:$T,MATCH(AM124,referentes!$T:$T,0),1))","v":""},{"$f":"IF(AN124=\"\",\"\", INDEX(referentes!$Y:$Z,MATCH(AN124,referentes!$Z:$Z,0),1))","v":""},{"$f":"IF(AU124=\"\",\"\", INDEX(referentes!$V:$W,MATCH(DATOS_MIP_SA!AU124,referentes!$W:$W,0),1))","v":""},{"$f":"IF(AO124=\"\",\"\", INDEX(referentes!$AB:$AC,MATCH(DATOS_MIP_SA!AO124,referentes!$AC:$AC,0),1))","v":""},{"$f":"IF(AV124=\"\",\"\", INDEX('otras referencias'!$U:$V,MATCH(DATOS_MIP_SA!AV124,'otras referencias'!$V:$V,0),1))","v":""},{"$f":"IF(AW124=\"\",\"\", INDEX(referentes!$J:$K,MATCH(DATOS_MIP_SA!AW124,referentes!$K:$K,0),1))","v":""},null,null,null,null,null,null,{"$f":"IF(X124<>\"\",INDEX(referentes!$AH:$AL,MATCH(DATOS_MIP_SA!X124,referentes!$AI:$AI,0),5),\"\")","v":""}]
[null,null,null,"",{"$f":"IF(J125=\"\",\"\",CONCATENATE(AF125,DIGITADOR!$B$2,DIGITADOR!$M$1,J125))","v":""},{"$f":"IF(J125=\"\",\"\",CONCATENATE(DIGITADOR!$B$2,AF125,DIGITADOR!$M$1,J125,ROW()))","v":""},null,null,null,{"$f":"IF(X125=\"\",\"\", INDEX(referentes!$AH:$AL,MATCH(DATOS_MIP_SA!X125,referentes!$AI:$AI,0),1))","v":""},"",{"$f":"IF(AI125=\"\",\"\", INDEX(referentes!$D:$E,MATCH(DATOS_MIP_SA!AI125,referentes!$E:$E,0),1))","v":""},{"$f":"IF(AK125=\"\",\"\", INDEX(referentes!$A:$B,MATCH(DATOS_MIP_SA!AK125,referentes!$B:$B,0),1))","v":""},null,{"$f":"IF(AM125=\"\",\"\", INDEX(referentes!$S:$T,MATCH(AM125,referentes!$T:$T,0),1))","v":""},{"$f":"IF(AN125=\"\",\"\", INDEX(referentes!$Y:$Z,MATCH(AN125,referentes!$Z:$Z,0),1))","v":""},{"$f":"IF(AU125=\"\",\"\", INDEX(referentes!$V:$W,MATCH(DATOS_MIP_SA!AU125,referentes!$W:$W,0),1))","v":""},{"$f":"IF(AO125=\"\",\"\", INDEX(referentes!$AB:$AC,MATCH(DATOS_MIP_SA!AO125,referentes!$AC:$AC,0),1))","v":""},{"$f":"IF(AV125=\"\",\"\", INDEX('otras referencias'!$U:$V,MATCH(DATOS_MIP_SA!AV125,'otras referencias'!$V:$V,0),1))","v":""},{"$f":"IF(AW125=\"\",\"\", INDEX(referentes!$J:$K,MATCH(DATOS_MIP_SA!AW125,referentes!$K:$K,0),1))","v":""},null,null,null,null,null,null,{"$f":"IF(X125<>\"\",INDEX(referentes!$AH:$AL,MATCH(DATOS_MIP_SA!X125,referentes!$AI:$AI,0),5),\"\")","v":""}]
[null,null,null,"",{"$f":"IF(J126=\"\",\"\",CONCATENATE(AF126,DIGITADOR!$B$2,DIGITADOR!$M$1,J126))","v":""},{"$f":"IF(J126=\"\",\"\",CONCATENATE(DIGITADOR!$B$2,AF126,DIGITADOR!$M$1,J126,ROW()))","v":""},null,null,null,{"$f":"IF(X126=\"\",\"\", INDEX(referentes!$AH:$AL,MATCH(DATOS_MIP_SA!X126,referentes!$AI:$AI,0),1))","v":""},"",{"$f":"IF(AI126=\"\",\"\", INDEX(referentes!$D:$E,MATCH(DATOS_MIP_SA!AI126,referentes!$E:$E,0),1))","v":""},{"$f":"IF(AK126=\"\",\"\", INDEX(referentes!$A:$B,MATCH(DATOS_MIP_SA!AK126,referentes!$B:$B,0),1))","v":""},null,{"$f":"IF(AM126=\"\",\"\", INDEX(referentes!$S:$T,MATCH(AM126,referentes!$T:$T,0),1))","v":""},{"$f":"IF(AN126=\"\",\"\", INDEX(referentes!$Y:$Z,MATCH(AN126,referentes!$Z:$Z,0),1))","v":""},{"$f":"IF(AU126=\"\",\"\", INDEX(referentes!$V:$W,MATCH(DATOS_MIP_SA!AU126,referentes!$W:$W,0),1))","v":""},{"$f":"IF(AO126=\"\",\"\", INDEX(referentes!$AB:$AC,MATCH(DATOS_MIP_SA!AO126,referentes!$AC:$AC,0),1))","v":""},{"$f":"IF(AV126=\"\",\"\", INDEX('otras referencias'!$U:$V,MATCH(DATOS_MIP_SA!AV126,'otras referencias'!$V:$V,0),1))","v":""},{"$f":"IF(AW126=\"\",\"\", INDEX(referentes!$J:$K,MATCH(DATOS_MIP_SA!AW126,referentes!$K:$K,0),1))","v":""},null,null,null,null,null,null,{"$f":"IF(X126<>\"\",INDEX(referentes!$AH:$AL,MATCH(DATOS_MIP_SA!X126,referentes!$AI:$AI,0),5),\"\")","v":""}]
[null,null,null,"",{"$f":"IF(J127=\"\",\"\",CONCATENATE(AF127,DIGITADOR!$B$2,DIGITADOR!$M$1,J127))","v":""},{"$f":"IF(J127=\"\",\"\",CONCATENATE(DIGITADOR!$B$2,AF127,DIGITADOR!$M$1,J127,ROW()))","v":""},null,null,null,{"$f":"IF(X127=\"\",\"\", INDEX(referentes!$AH:$AL,MATCH(DATOS_MIP_SA!X127,referentes!$AI:$AI,0),1))","v":""},"",{"$f":"IF(AI127=\"\",\"\", INDEX(referentes!$D:$E,MATCH(DATOS_MIP_SA!AI127,referentes!$E:$E,0),1))","v":""},{"$f":"IF(AK127=\"\",\"\", INDEX(referentes!$A:$B,MATCH(DATOS_MIP_SA!AK127,referentes!$B:$B,0),1))","v":""},null,{"$f":"IF(AM127=\"\",\"\", INDEX(referentes!$S:$T,MATCH(AM127,referentes!$T:$T,0),1))","v":""},{"$f":"IF(AN127=\"\",\"\", INDEX(referentes!$Y:$Z,MATCH(AN127,referentes!$Z:$Z,0),1))","v":""},{"$f":"IF(AU127=\"\",\"\", INDEX(referentes!$V:$W,MATCH(DATOS_MIP_SA!AU127,referentes!$W:$W,0),1))","v":""},{"$f":"IF(AO127=\"\",\"\", INDEX(referentes!$AB:$AC,MATCH(DATOS_MIP_SA!AO127,referentes!$AC:$AC,0),1))","v":""},{"$f":"IF(AV127=\"\",\"\", INDEX('otras referencias'!$U:$V,MATCH(DATOS_MIP_SA!AV127,'otras referencias'!$V:$V,0),1))","v":""},{"$f":"IF(AW127=\"\",\"\", INDEX(referentes!$J:$K,MATCH(DATOS_MIP_SA!AW127,referentes!$K:$K,0),1))","v":""},null,null,null,null,null,null,{"$f":"IF(X127<>\"\",INDEX(referentes!$AH:$AL,MATCH(DATOS_MIP_SA!X127,referentes!$AI:$AI,0),5),\"\")","v":""}]
[null,null,null,"",{"$f":"IF(J128=\"\",\"\",CONCATENATE(AF128,DIGITADOR!$B$2,DIGITADOR!$M$1,J128))","v":""},{"$f":"IF(J128=\"\",\"\",CONCATENATE(DIGITADOR!$B$2,AF128,DIGITADOR!$M$1,J128,ROW()))","v":""},null,null,null,{"$f":"IF(X128=\"\",\"\", INDEX(referentes!$AH:$AL,MATCH(DATOS_MIP_SA!X128,referentes!$AI:$AI,0),1))","v":""},"",{"$f":"IF(AI128=\"\",\"\", INDEX(referentes!$D:$E,MATCH(DATOS_MIP_SA!AI128,referentes!$E:$E,0),1))","v":""},{"$f":"IF(AK128=\"\",\"\", INDEX(referentes!$A:$B,MATCH(DATOS_MIP_SA!AK128,referentes!$B:$B,0),1))","v":""},null,{"$f":"IF(AM128=\"\",\"\", INDEX(referentes!$S:$T,MATCH(AM128,referentes!$T:$T,0),1))","v":""},{"$f":"IF(AN128=\"\",\"\", INDEX(referentes!$Y:$Z,MATCH(AN128,referentes!$Z:$Z,0),1))","v":""},{"$f":"IF(AU128=\"\",\"\", INDEX(referentes!$V:$W,MATCH(DATOS_MIP_SA!AU128,referentes!$W:$W,0),1))","v":""},{"$f":"IF(AO128=\"\",\"\", INDEX(referentes!$AB:$AC,MATCH(DATOS_MIP_SA!AO128,referentes!$AC:$AC,0),1))","v":""},{"$f":"IF(AV128=\"\",\"\", INDEX('otras referencias'!$U:$V,MATCH(DATOS_MIP_SA!AV128,'otras referencias'!$V:$V,0),1))","v":""},{"$f":"IF(AW128=\"\",\"\", INDEX(referentes!$J:$K,MATCH(DATOS_MIP_SA!AW128,referentes!$K:$K,0),1))","v":""},null,null,null,null,null,null,{"$f":"IF(X128<>\"\",INDEX(referentes!$AH:$AL,MATCH(DATOS_MIP_SA!X128,referentes!$AI:$AI,0),5),\"\")","v":""}]
[null,null,null,"",{"$f":"IF(J129=\"\",\"\",CONCATENATE(AF129,DIGITADOR!$B$2,DIGITADOR!$M$1,J129))","v":""},{"$f":"IF(J129=\"\",\"\",CONCATENATE(DIGITADOR!$B$2,AF129,DIGITADOR!$M$1,J129,ROW()))","v":""},null,null,null,{"$f":"IF(X129=\"\",\"\", INDEX(referentes!$AH:$AL,MATCH(DATOS_MIP_SA!X129,referentes!$AI:$AI,0),1))","v":""},"",{"$f":"IF(AI129=\"\",\"\", INDEX(referentes!$D:$E,MATCH(DATOS_MIP_SA!AI129,referentes!$E:$E,0),1))","v":""},{"$f":"IF(AK129=\"\",\"\", INDEX(referentes!$A:$B,MATCH(DATOS_MIP_SA!AK129,referentes!$B:$B,0),1))","v":""},null,{"$f":"IF(AM129=\"\",\"\", INDEX(referentes!$S:$T,MATCH(AM129,referentes!$T:$T,0),1))","v":""},{"$f":"IF(AN129=\"\",\"\", INDEX(referentes!$Y:$Z,MATCH(AN129,referentes!$Z:$Z,0),1))","v":""},{"$f":"IF(AU129=\"\",\"\", INDEX(referentes!$V:$W,MATCH(DATOS_MIP_SA!AU129,referentes!$W:$W,0),1))","v":""},{"$f":"IF(AO129=\"\",\"\", INDEX(referentes!$AB:$AC,MATCH(DATOS_MIP_SA!AO129,referentes!$AC:$AC,0),1))","v":""},{"$f":"IF(AV129=\"\",\"\", INDEX('otras referencias'!$U:$V,MATCH(DATOS_MIP_SA!AV129,'otras referencias'!$V:$V,0),1))","v":""},{"$f":"IF(AW129=\"\",\"\", INDEX(referentes!$J:$K,MATCH(DATOS_MIP_SA!AW129,referentes!$K:$K,0),1))","v":""},null,null,null,null,null,null,{"$f":"IF(X129<>\"\",INDEX(referentes!$AH:$AL,MATCH(DATOS_MIP_SA!X129,referentes!$AI:$AI,0),5),\"\")","v":""}]
[null,null,null,"",{"$f":"IF(J130=\"\",\"\",CONCATENATE(AF130,DIGITADOR!$B$2,DIGITADOR!$M$1,J130))","v":""},{"$f":"IF(J130=\"\",\"\",CONCATENATE(DIGITADOR!$B$2,AF130,DIGITADOR!$M$1,J130,ROW()))","v":""},null,null,null,{"$f":"IF(X130=\"\",\"\", INDEX(referentes!$AH:$AL,MATCH(DATOS_MIP_SA!X130,referentes!$AI:$AI,0),1))","v":""},"",{"$f":"IF(AI130=\"\",\"\", INDEX(referentes!$D:$E,MATCH(DATOS_MIP_SA!AI130,referentes!$E:$E,0),1))","v":""},{"$f":"IF(AK130=\"\",\"\", INDEX(referentes!$A:$B,MATCH(DATOS_MIP_SA!AK130,referentes!$B:$B,0),1))","v":""},null,{"$f":"IF(AM130=\"\",\"\", INDEX(referentes!$S:$T,MATCH(AM130,referentes!$T:$T,0),1))","v":""},{"$f":"IF(AN130=\"\",\"\", INDEX(referentes!$Y:$Z,MATCH(AN130,referentes!$Z:$Z,0),1))","v":""},{"$f":"IF(AU130=\"\",\"\", INDEX(referentes!$V:$W,MATCH(DATOS_MIP_SA!AU130,referentes!$W:$W,0),1))","v":""},{"$f":"IF(AO130=\"\",\"\", INDEX(referentes!$AB:$AC,MATCH(DATOS_MIP_SA!AO130,referentes!$AC:$AC,0),1))","v":""},{"$f":"IF(AV130=\"\",\"\", INDEX('otras referencias'!$U:$V,MATCH(DATOS_MIP_SA!AV130,'otras referencias'!$V:$V,0),1))","v":""},{"$f":"IF(AW130=\"\",\"\", INDEX(referentes!$J:$K,MATCH(DATOS_MIP_SA!AW130,referentes!$K:$K,0),1))","v":""},null,null,null,null,null,null,{"$f":"IF(X130<>\"\",INDEX(referentes!$AH:$AL,MATCH(DATOS_MIP_SA!X130,referentes!$AI:$AI,0),5),\"\")","v":""}]
[null,null,null,"",{"$f":"IF(J131=\"\",\"\",CONCATENATE(AF131,DIGITADOR!$B$2,DIGITADOR!$M$1,J131))","v":""},{"$f":"IF(J131=\"\",\"\",CONCATENATE(DIGITADOR!$B$2,AF131,DIGITADOR!$M$1,J131,ROW()))","v":""},null,null,null,{"$f":"IF(X131=\"\",\"\", INDEX(referentes!$AH:$AL,MATCH(DATOS_MIP_SA!X131,referentes!$AI:$AI,0),1))","v":""},"",{"$f":"IF(AI131=\"\",\"\", INDEX(referentes!$D:$E,MATCH(DATOS_MIP_SA!AI131,referentes!$E:$E,0),1))","v":""},{"$f":"IF(AK131=\"\",\"\", INDEX(referentes!$A:$B,MATCH(DATOS_MIP_SA!AK131,referentes!$B:$B,0),1))","v":""},null,{"$f":"IF(AM131=\"\",\"\", INDEX(referentes!$S:$T,MATCH(AM131,referentes!$T:$T,0),1))","v":""},{"$f":"IF(AN131=\"\",\"\", INDEX(referentes!$Y:$Z,MATCH(AN131,referentes!$Z:$Z,0),1))","v":""},{"$f":"IF(AU131=\"\",\"\", INDEX(referentes!$V:$W,MATCH(DATOS_MIP_SA!AU131,referentes!$W:$W,0),1))","v":""},{"$f":"IF(AO131=\"\",\"\", INDEX(referentes!$AB:$AC,MATCH(DATOS_MIP_SA!AO131,referentes!$AC:$AC,0),1))","v":""},{"$f":"IF(AV131=\"\",\"\", INDEX('otras referencias'!$U:$V,MATCH(DATOS_MIP_SA!AV131,'otras referencias'!$V:$V,0),1))","v":""},{"$f":"IF(AW131=\"\",\"\", INDEX(referentes!$J:$K,MATCH(DATOS_MIP_SA!AW131,referentes!$K:$K,0),1))","v":""},null,null,null,null,null,null,{"$f":"IF(X131<>\"\",INDEX(referentes!$AH:$AL,MATCH(DATOS_MIP_SA!X131,referentes!$AI:$AI,0),5),\"\")","v":""}]
[null,null,null,"",{"$f":"IF(J132=\"\",\"\",CONCATENATE(AF132,DIGITADOR!$B$2,DIGITADOR!$M$1,J132))","v":""},{"$f":"IF(J132=\"\",\"\",CONCATENATE(DIGITADOR!$B$2,AF132,DIGITADOR!$M$1,J132,ROW()))","v":""},null,null,null,{"$f":"IF(X132=\"\",\"\", INDEX(referentes!$AH:$AL,MATCH(DATOS_MIP_SA!X132,referentes!$AI:$AI,0),1))","v":""},"",{"$f":"IF(AI132=\"\",\"\", INDEX(referentes!$D:$E,MATCH(DATOS_MIP_SA!AI132,referentes!$E:$E,0),1))","v":""},{"$f":"IF(AK132=\"\",\"\", INDEX(referentes!$A:$B,MATCH(DATOS_MIP_SA!AK132,referentes!$B:$B,0),1))","v":""},null,{"$f":"IF(AM132=\"\",\"\", INDEX(referentes!$S:$T,MATCH(AM132,referentes!$T:$T,0),1))","v":""},{"$f":"IF(AN132=\"\",\"\", INDEX(referentes!$Y:$Z,MATCH(AN132,referentes!$Z:$Z,0),1))","v":""},{"$f":"IF(AU132=\"\",\"\", INDEX(referentes!$V:$W,MATCH(DATOS_MIP_SA!AU132,referentes!$W:$W,0),1))","v":""},{"$f":"IF(AO132=\"\",\"\", INDEX(referentes!$AB:$AC,MATCH(DATOS_MIP_SA!AO132,referentes!$AC:$AC,0),1))","v":""},{"$f":"IF(AV132=\"\",\"\", INDEX('otras referencias'!$U:$V,MATCH(DATOS_MIP_SA!AV132,'otras referencias'!$V:$V,0),1))","v":""},{"$f":"IF(AW132=\"\",\"\", INDEX(referentes!$J:$K,MATCH(DATOS_MIP_SA!AW132,referentes!$K:$K,0),1))","v":""},null,null,null,null,null,null,{"$f":"IF(X132<>\"\",INDEX(referentes!$AH:$AL,MATCH(DATOS_MIP_SA!X132,referentes!$AI:$AI,0),5),\"\")","v":""}]
[null,null,null,"",{"$f":"IF(J133=\"\",\"\",CONCATENATE(AF133,DIGITADOR!$B$2,DIGITADOR!$M$1,J133))","v":""},{"$f":"IF(J133=\"\",\"\",CONCATENATE(DIGITADOR!$B$2,AF133,DIGITADOR!$M$1,J133,ROW()))","v":""},null,null,null,{"$f":"IF(X133=\"\",\"\", INDEX(referentes!$AH:$AL,MATCH(DATOS_MIP_SA!X133,referentes!$AI:$AI,0),1))","v":""},"",{"$f":"IF(AI133=\"\",\"\", INDEX(referentes!$D:$E,MATCH(DATOS_MIP_SA!AI133,referentes!$E:$E,0),1))","v":""},{"$f":"IF(AK133=\"\",\"\", INDEX(referentes!$A:$B,MATCH(DATOS_MIP_SA!AK133,referentes!$B:$B,0),1))","v":""},null,{"$f":"IF(AM133=\"\",\"\", INDEX(referentes!$S:$T,MATCH(AM133,referentes!$T:$T,0),1))","v":""},{"$f":"IF(AN133=\"\",\"\", INDEX(referentes!$Y:$Z,MATCH(AN133,referentes!$Z:$Z,0),1))","v":""},{"$f":"IF(AU133=\"\",\"\", INDEX(referentes!$V:$W,MATCH(DATOS_MIP_SA!AU133,referentes!$W:$W,0),1))","v":""},{"$f":"IF(AO133=\"\",\"\", INDEX(referentes!$AB:$AC,MATCH(DATOS_MIP_SA!AO133,referentes!$AC:$AC,0),1))","v":""},{"$f":"IF(AV133=\"\",\"\", INDEX('otras referencias'!$U:$V,MATCH(DATOS_MIP_SA!AV133,'otras referencias'!$V:$V,0),1))","v":""},{"$f":"IF(AW133=\"\",\"\", INDEX(referentes!$J:$K,MATCH(DATOS_MIP_SA!AW133,referentes!$K:$K,0),1))","v":""},null,null,null,null,null,null,{"$f":"IF(X133<>\"\",INDEX(referentes!$AH:$AL,MATCH(DATOS_MIP_SA!X133,referentes!$AI:$AI,0),5),\"\")","v":""}]
[null,null,null,"",{"$f":"IF(J134=\"\",\"\",CONCATENATE(AF134,DIGITADOR!$B$2,DIGITADOR!$M$1,J134))","v":""},{"$f":"IF(J134=\"\",\"\",CONCATENATE(DIGITADOR!$B$2,AF134,DIGITADOR!$M$1,J134,ROW()))","v":""},null,null,null,{"$f":"IF(X134=\"\",\"\", INDEX(referentes!$AH:$AL,MATCH(DATOS_MIP_SA!X134,referentes!$AI:$AI,0),1))","v":""},"",{"$f":"IF(AI134=\"\",\"\", INDEX(referentes!$D:$E,MATCH(DATOS_MIP_SA!AI134,referentes!$E:$E,0),1))","v":""},{"$f":"IF(AK134=\"\",\"\", INDEX(referentes!$A:$B,MATCH(DATOS_MIP_SA!AK134,referentes!$B:$B,0),1))","v":""},null,{"$f":"IF(AM134=\"\",\"\", INDEX(referentes!$S:$T,MATCH(AM134,referentes!$T:$T,0),1))","v":""},{"$f":"IF(AN134=\"\",\"\", INDEX(referentes!$Y:$Z,MATCH(AN134,referentes!$Z:$Z,0),1))","v":""},{"$f":"IF(AU134=\"\",\"\", INDEX(referentes!$V:$W,MATCH(DATOS_MIP_SA!AU134,referentes!$W:$W,0),1))","v":""},{"$f":"IF(AO134=\"\",\"\", INDEX(referentes!$AB:$AC,MATCH(DATOS_MIP_SA!AO134,referentes!$AC:$AC,0),1))","v":""},{"$f":"IF(AV134=\"\",\"\", INDEX('otras referencias'!$U:$V,MATCH(DATOS_MIP_SA!AV134,'otras referencias'!$V:$V,0),1))","v":""},{"$f":"IF(AW134=\"\",\"\", INDEX(referentes!$J:$K,MATCH(DATOS_MIP_SA!AW134,referentes!$K:$K,0),1))","v":""},null,null,null,null,null,null,{"$f":"IF(X134<>\"\",INDEX(referentes!$AH:$AL,MATCH(DATOS_MIP_SA!X134,referentes!$AI:$AI,0),5),\"\")","v":""}]
[null,null,null,"",{"$f":"IF(J135=\"\",\"\",CONCATENATE(AF135,DIGITADOR!$B$2,DIGITADOR!$M$1,J135))","v":""},{"$f":"IF(J135=\"\",\"\",CONCATENATE(DIGITADOR!$B$2,AF135,DIGITADOR!$M$1,J135,ROW()))","v":""},null,null,null,{"$f":"IF(X135=\"\",\"\", INDEX(referentes!$AH:$AL,MATCH(DATOS_MIP_SA!X135,referentes!$AI:$AI,0),1))","v":""},"",{"$f":"IF(AI135=\"\",\"\", INDEX(referentes!$D:$E,MATCH(DATOS_MIP_SA!AI135,referentes!$E:$E,0),1))","v":""},{"$f":"IF(AK135=\"\",\"\", INDEX(referentes!$A:$B,MATCH(DATOS_MIP_SA!AK135,referentes!$B:$B,0),1))","v":""},null,{"$f":"IF(AM135=\"\",\"\", INDEX(referentes!$S:$T,MATCH(AM135,referentes!$T:$T,0),1))","v":""},{"$f":"IF(AN135=\"\",\"\", INDEX(referentes!$Y:$Z,MATCH(AN135,referentes!$Z:$Z,0),1))","v":""},{"$f":"IF(AU135=\"\",\"\", INDEX(referentes!$V:$W,MATCH(DATOS_MIP_SA!AU135,referentes!$W:$W,0),1))","v":""},{"$f":"IF(AO135=\"\",\"\", INDEX(referentes!$AB:$AC,MATCH(DATOS_MIP_SA!AO135,referentes!$AC:$AC,0),1))","v":""},{"$f":"IF(AV135=\"\",\"\", INDEX('otras referencias'!$U:$V,MATCH(DATOS_MIP_SA!AV135,'otras referencias'!$V:$V,0),1))","v":""},{"$f":"IF(AW135=\"\",\"\", INDEX(referentes!$J:$K,MATCH(DATOS_MIP_SA!AW135,referentes!$K:$K,0),1))","v":""},null,null,null,null,null,null,{"$f":"IF(X135<>\"\",INDEX(referentes!$AH:$AL,MATCH(DATOS_MIP_SA!X135,referentes!$AI:$AI,0),5),\"\")","v":""}]
[null,null,null,"",{"$f":"IF(J136=\"\",\"\",CONCATENATE(AF136,DIGITADOR!$B$2,DIGITADOR!$M$1,J136))","v":""},{"$f":"IF(J136=\"\",\"\",CONCATENATE(DIGITADOR!$B$2,AF136,DIGITADOR!$M$1,J136,ROW()))","v":""},null,null,null,{"$f":"IF(X136=\"\",\"\", INDEX(referentes!$AH:$AL,MATCH(DATOS_MIP_SA!X136,referentes!$AI:$AI,0),1))","v":""},"",{"$f":"IF(AI136=\"\",\"\", INDEX(referentes!$D:$E,MATCH(DATOS_MIP_SA!AI136,referentes!$E:$E,0),1))","v":""},{"$f":"IF(AK136=\"\",\"\", INDEX(referentes!$A:$B,MATCH(DATOS_MIP_SA!AK136,referentes!$B:$B,0),1))","v":""},null,{"$f":"IF(AM136=\"\",\"\", INDEX(referentes!$S:$T,MATCH(AM136,referentes!$T:$T,0),1))","v":""},{"$f":"IF(AN136=\"\",\"\", INDEX(referentes!$Y:$Z,MATCH(AN136,referentes!$Z:$Z,0),1))","v":""},{"$f":"IF(AU136=\"\",\"\", INDEX(referentes!$V:$W,MATCH(DATOS_MIP_SA!AU136,referentes!$W:$W,0),1))","v":""},{"$f":"IF(AO136=\"\",\"\", INDEX(referentes!$AB:$AC,MATCH(DATOS_MIP_SA!AO136,referentes!$AC:$AC,0),1))","v":""},{"$f":"IF(AV136=\"\",\"\", INDEX('otras referencias'!$U:$V,MATCH(DATOS_MIP_SA!AV136,'otras referencias'!$V:$V,0),1))","v":""},{"$f":"IF(AW136=\"\",\"\", INDEX(referentes!$J:$K,MATCH(DATOS_MIP_SA!AW136,referentes!$K:$K,0),1))","v":""},null,null,null,null,null,null,{"$f":"IF(X136<>\"\",INDEX(referentes!$AH:$AL,MATCH(DATOS_MIP_SA!X136,referentes!$AI:$AI,0),5),\"\")","v":""}]
[null,null,null,"",{"$f":"IF(J137=\"\",\"\",CONCATENATE(AF137,DIGITADOR!$B$2,DIGITADOR!$M$1,J137))","v":""},{"$f":"IF(J137=\"\",\"\",CONCATENATE(DIGITADOR!$B$2,AF137,DIGITADOR!$M$1,J137,ROW()))","v":""},null,null,null,{"$f":"IF(X137=\"\",\"\", INDEX(referentes!$AH:$AL,MATCH(DATOS_MIP_SA!X137,referentes!$AI:$AI,0),1))","v":""},"",{"$f":"IF(AI137=\"\",\"\", INDEX(referentes!$D:$E,MATCH(DATOS_MIP_SA!AI137,referentes!$E:$E,0),1))","v":""},{"$f":"IF(AK137=\"\",\"\", INDEX(referentes!$A:$B,MATCH(DATOS_MIP_SA!AK137,referentes!$B:$B,0),1))","v":""},null,{"$f":"IF(AM137=\"\",\"\", INDEX(referentes!$S:$T,MATCH(AM137,referentes!$T:$T,0),1))","v":""},{"$f":"IF(AN137=\"\",\"\", INDEX(referentes!$Y:$Z,MATCH(AN137,referentes!$Z:$Z,0),1))","v":""},{"$f":"IF(AU137=\"\",\"\", INDEX(referentes!$V:$W,MATCH(DATOS_MIP_SA!AU137,referentes!$W:$W,0),1))","v":""},{"$f":"IF(AO137=\"\",\"\", INDEX(referentes!$AB:$AC,MATCH(DATOS_MIP_SA!AO137,referentes!$AC:$AC,0),1))","v":""},{"$f":"IF(AV137=\"\",\"\", INDEX('otras referencias'!$U:$V,MATCH(DATOS_MIP_SA!AV137,'otras referencias'!$V:$V,0),1))","v":""},{"$f":"IF(AW137=\"\",\"\", INDEX(referentes!$J:$K,MATCH(DATOS_MIP_SA!AW137,referentes!$K:$K,0),1))","v":""},null,null,null,null,null,null,{"$f":"IF(X137<>\"\",INDEX(referentes!$AH:$AL,MATCH(DATOS_MIP_SA!X137,referentes!$AI:$AI,0),5),\"\")","v":""}]
[null,null,null,"",{"$f":"IF(J138=\"\",\"\",CONCATENATE(AF138,DIGITADOR!$B$2,DIGITADOR!$M$1,J138))","v":""},{"$f":"IF(J138=\"\",\"\",CONCATENATE(DIGITADOR!$B$2,AF138,DIGITADOR!$M$1,J138,ROW()))","v":""},null,null,null,{"$f":"IF(X138=\"\",\"\", INDEX(referentes!$AH:$AL,MATCH(DATOS_MIP_SA!X138,referentes!$AI:$AI,0),1))","v":""},"",{"$f":"IF(AI138=\"\",\"\", INDEX(referentes!$D:$E,MATCH(DATOS_MIP_SA!AI138,referentes!$E:$E,0),1))","v":""},{"$f":"IF(AK138=\"\",\"\", INDEX(referentes!$A:$B,MATCH(DATOS_MIP_SA!AK138,referentes!$B:$B,0),1))","v":""},null,{"$f":"IF(AM138=\"\",\"\", INDEX(referentes!$S:$T,MATCH(AM138,referentes!$T:$T,0),1))","v":""},{"$f":"IF(AN138=\"\",\"\", INDEX(referentes!$Y:$Z,MATCH(AN138,referentes!$Z:$Z,0),1))","v":""},{"$f":"IF(AU138=\"\",\"\", INDEX(referentes!$V:$W,MATCH(DATOS_MIP_SA!AU138,referentes!$W:$W,0),1))","v":""},{"$f":"IF(AO138=\"\",\"\", INDEX(referentes!$AB:$AC,MATCH(DATOS_MIP_SA!AO138,referentes!$AC:$AC,0),1))","v":""},{"$f":"IF(AV138=\"\",\"\", INDEX('otras referencias'!$U:$V,MATCH(DATOS_MIP_SA!AV138,'otras referencias'!$V:$V,0),1))","v":""},{"$f":"IF(AW138=\"\",\"\", INDEX(referentes!$J:$K,MATCH(DATOS_MIP_SA!AW138,referentes!$K:$K,0),1))","v":""},null,null,null,null,null,null,{"$f":"IF(X138<>\"\",INDEX(referentes!$AH:$AL,MATCH(DATOS_MIP_SA!X138,referentes!$AI:$AI,0),5),\"\")","v":""}]
[null,null,null,"",{"$f":"IF(J139=\"\",\"\",CONCATENATE(AF139,DIGITADOR!$B$2,DIGITADOR!$M$1,J139))","v":""},{"$f":"IF(J139=\"\",\"\",CONCATENATE(DIGITADOR!$B$2,AF139,DIGITADOR!$M$1,J139,ROW()))","v":""},null,null,null,{"$f":"IF(X139=\"\",\"\", INDEX(referentes!$AH:$AL,MATCH(DATOS_MIP_SA!X139,referentes!$AI:$AI,0),1))","v":""},{"$f":"IF(AF139=\"\",\"\",AF139+AG139)","v":""},{"$f":"IF(AI139=\"\",\"\", INDEX(referentes!$D:$E,MATCH(DATOS_MIP_SA!AI139,referentes!$E:$E,0),1))","v":""},{"$f":"IF(AK139=\"\",\"\", INDEX(referentes!$A:$B,MATCH(DATOS_MIP_SA!AK139,referentes!$B:$B,0),1))","v":""},null,{"$f":"IF(AM139=\"\",\"\", INDEX(referentes!$S:$T,MATCH(AM139,referentes!$T:$T,0),1))","v":""},{"$f":"IF(AN139=\"\",\"\", INDEX(referentes!$Y:$Z,MATCH(AN139,referentes!$Z:$Z,0),1))","v":""},{"$f":"IF(AU139=\"\",\"\", INDEX(referentes!$V:$W,MATCH(DATOS_MIP_SA!AU139,referentes!$W:$W,0),1))","v":""},{"$f":"IF(AO139=\"\",\"\", INDEX(referentes!$AB:$AC,MATCH(DATOS_MIP_SA!AO139,referentes!$AC:$AC,0),1))","v":""},{"$f":"IF(AV139=\"\",\"\", INDEX('otras referencias'!$U:$V,MATCH(DATOS_MIP_SA!AV139,'otras referencias'!$V:$V,0),1))","v":""},{"$f":"IF(AW139=\"\",\"\", INDEX(referentes!$J:$K,MATCH(DATOS_MIP_SA!AW139,referentes!$K:$K,0),1))","v":""},null,null,null,null,null,null,{"$f":"IF(X139<>\"\",INDEX(referentes!$AH:$AL,MATCH(DATOS_MIP_SA!X139,referentes!$AI:$AI,0),5),\"\")","v":""}]
[null,null,null,{"$f":"IF(E140=\"\",\"\",IF(E140=E139,\"\",E140))","v":""},{"$f":"IF(J140=\"\",\"\",CONCATENATE(AF140,DIGITADOR!$B$2,DIGITADOR!$M$1,J140))","v":""},{"$f":"IF(J140=\"\",\"\",CONCATENATE(DIGITADOR!$B$2,AF140,DIGITADOR!$M$1,J140,ROW()))","v":""},null,null,null,{"$f":"IF(X140=\"\",\"\", INDEX(referentes!$AH:$AL,MATCH(DATOS_MIP_SA!X140,referentes!$AI:$AI,0),1))","v":""},"",{"$f":"IF(AI140=\"\",\"\", INDEX(referentes!$D:$E,MATCH(DATOS_MIP_SA!AI140,referentes!$E:$E,0),1))","v":""},{"$f":"IF(AK140=\"\",\"\", INDEX(referentes!$A:$B,MATCH(DATOS_MIP_SA!AK140,referentes!$B:$B,0),1))","v":""},null,{"$f":"IF(AM140=\"\",\"\", INDEX(referentes!$S:$T,MATCH(AM140,referentes!$T:$T,0),1))","v":""},{"$f":"IF(AN140=\"\",\"\", INDEX(referentes!$Y:$Z,MATCH(AN140,referentes!$Z:$Z,0),1))","v":""},{"$f":"IF(AU140=\"\",\"\", INDEX(referentes!$V:$W,MATCH(DATOS_MIP_SA!AU140,referentes!$W:$W,0),1))","v":""},{"$f":"IF(AO140=\"\",\"\", INDEX(referentes!$AB:$AC,MATCH(DATOS_MIP_SA!AO140,referentes!$AC:$AC,0),1))","v":""},{"$f":"IF(AV140=\"\",\"\", INDEX('otras referencias'!$U:$V,MATCH(DATOS_MIP_SA!AV140,'otras referencias'!$V:$V,0),1))","v":""},{"$f":"IF(AW140=\"\",\"\", INDEX(referentes!$J:$K,MATCH(DATOS_MIP_SA!AW140,referentes!$K:$K,0),1))","v":""},null,null,null,null,null,null,{"$f":"IF(X140<>\"\",INDEX(referentes!$AH:$AL,MATCH(DATOS_MIP_SA!X140,referentes!$AI:$AI,0),5),\"\")","v":""}]
[null,null,null,"",{"$f":"IF(J141=\"\",\"\",CONCATENATE(AF141,DIGITADOR!$B$2,DIGITADOR!$M$1,J141))","v":""},{"$f":"IF(J141=\"\",\"\",CONCATENATE(DIGITADOR!$B$2,AF141,DIGITADOR!$M$1,J141,ROW()))","v":""},null,null,null,{"$f":"IF(X141=\"\",\"\", INDEX(referentes!$AH:$AL,MATCH(DATOS_MIP_SA!X141,referentes!$AI:$AI,0),1))","v":""},"",{"$f":"IF(AI141=\"\",\"\", INDEX(referentes!$D:$E,MATCH(DATOS_MIP_SA!AI141,referentes!$E:$E,0),1))","v":""},{"$f":"IF(AK141=\"\",\"\", INDEX(referentes!$A:$B,MATCH(DATOS_MIP_SA!AK141,referentes!$B:$B,0),1))","v":""},null,{"$f":"IF(AM141=\"\",\"\", INDEX(referentes!$S:$T,MATCH(AM141,referentes!$T:$T,0),1))","v":""},{"$f":"IF(AN141=\"\",\"\", INDEX(referentes!$Y:$Z,MATCH(AN141,referentes!$Z:$Z,0),1))","v":""},{"$f":"IF(AU141=\"\",\"\", INDEX(referentes!$V:$W,MATCH(DATOS_MIP_SA!AU141,referentes!$W:$W,0),1))","v":""},{"$f":"IF(AO141=\"\",\"\", INDEX(referentes!$AB:$AC,MATCH(DATOS_MIP_SA!AO141,referentes!$AC:$AC,0),1))","v":""},{"$f":"IF(AV141=\"\",\"\", INDEX('otras referencias'!$U:$V,MATCH(DATOS_MIP_SA!AV141,'otras referencias'!$V:$V,0),1))","v":""},{"$f":"IF(AW141=\"\",\"\", INDEX(referentes!$J:$K,MATCH(DATOS_MIP_SA!AW141,referentes!$K:$K,0),1))","v":""},null,null,null,null,null,null,{"$f":"IF(X141<>\"\",INDEX(referentes!$AH:$AL,MATCH(DATOS_MIP_SA!X141,referentes!$AI:$AI,0),5),\"\")","v":""}]
[null,null,null,"",{"$f":"IF(J142=\"\",\"\",CONCATENATE(AF142,DIGITADOR!$B$2,DIGITADOR!$M$1,J142))","v":""},{"$f":"IF(J142=\"\",\"\",CONCATENATE(DIGITADOR!$B$2,AF142,DIGITADOR!$M$1,J142,ROW()))","v":""},null,null,null,{"$f":"IF(X142=\"\",\"\", INDEX(referentes!$AH:$AL,MATCH(DATOS_MIP_SA!X142,referentes!$AI:$AI,0),1))","v":""},"",{"$f":"IF(AI142=\"\",\"\", INDEX(referentes!$D:$E,MATCH(DATOS_MIP_SA!AI142,referentes!$E:$E,0),1))","v":""},{"$f":"IF(AK142=\"\",\"\", INDEX(referentes!$A:$B,MATCH(DATOS_MIP_SA!AK142,referentes!$B:$B,0),1))","v":""},null,{"$f":"IF(AM142=\"\",\"\", INDEX(referentes!$S:$T,MATCH(AM142,referentes!$T:$T,0),1))","v":""},{"$f":"IF(AN142=\"\",\"\", INDEX(referentes!$Y:$Z,MATCH(AN142,referentes!$Z:$Z,0),1))","v":""},{"$f":"IF(AU142=\"\",\"\", INDEX(referentes!$V:$W,MATCH(DATOS_MIP_SA!AU142,referentes!$W:$W,0),1))","v":""},{"$f":"IF(AO142=\"\",\"\", INDEX(referentes!$AB:$AC,MATCH(DATOS_MIP_SA!AO142,referentes!$AC:$AC,0),1))","v":""},{"$f":"IF(AV142=\"\",\"\", INDEX('otras referencias'!$U:$V,MATCH(DATOS_MIP_SA!AV142,'otras referencias'!$V:$V,0),1))","v":""},{"$f":"IF(AW142=\"\",\"\", INDEX(referentes!$J:$K,MATCH(DATOS_MIP_SA!AW142,referentes!$K:$K,0),1))","v":""},null,null,null,null,null,null,{"$f":"IF(X142<>\"\",INDEX(referentes!$AH:$AL,MATCH(DATOS_MIP_SA!X142,referentes!$AI:$AI,0),5),\"\")","v":""}]
[null,null,null,"",{"$f":"IF(J143=\"\",\"\",CONCATENATE(AF143,DIGITADOR!$B$2,DIGITADOR!$M$1,J143))","v":""},{"$f":"IF(J143=\"\",\"\",CONCATENATE(DIGITADOR!$B$2,AF143,DIGITADOR!$M$1,J143,ROW()))","v":""},null,null,null,{"$f":"IF(X143=\"\",\"\", INDEX(referentes!$AH:$AL,MATCH(DATOS_MIP_SA!X143,referentes!$AI:$AI,0),1))","v":""},"",{"$f":"IF(AI143=\"\",\"\", INDEX(referentes!$D:$E,MATCH(DATOS_MIP_SA!AI143,referentes!$E:$E,0),1))","v":""},{"$f":"IF(AK143=\"\",\"\", INDEX(referentes!$A:$B,MATCH(DATOS_MIP_SA!AK143,referentes!$B:$B,0),1))","v":""},null,{"$f":"IF(AM143=\"\",\"\", INDEX(referentes!$S:$T,MATCH(AM143,referentes!$T:$T,0),1))","v":""},{"$f":"IF(AN143=\"\",\"\", INDEX(referentes!$Y:$Z,MATCH(AN143,referentes!$Z:$Z,0),1))","v":""},{"$f":"IF(AU143=\"\",\"\", INDEX(referentes!$V:$W,MATCH(DATOS_MIP_SA!AU143,referentes!$W:$W,0),1))","v":""},{"$f":"IF(AO143=\"\",\"\", INDEX(referentes!$AB:$AC,MATCH(DATOS_MIP_SA!AO143,referentes!$AC:$AC,0),1))","v":""},{"$f":"IF(AV143=\"\",\"\", INDEX('otras referencias'!$U:$V,MATCH(DATOS_MIP_SA!AV143,'otras referencias'!$V:$V,0),1))","v":""},{"$f":"IF(AW143=\"\",\"\", INDEX(referentes!$J:$K,MATCH(DATOS_MIP_SA!AW143,referentes!$K:$K,0),1))","v":""},null,null,null,null,null,null,{"$f":"IF(X143<>\"\",INDEX(referentes!$AH:$AL,MATCH(DATOS_MIP_SA!X143,referentes!$AI:$AI,0),5),\"\")","v":""}]
[null,null,null,"",{"$f":"IF(J144=\"\",\"\",CONCATENATE(AF144,DIGITADOR!$B$2,DIGITADOR!$M$1,J144))","v":""},{"$f":"IF(J144=\"\",\"\",CONCATENATE(DIGITADOR!$B$2,AF144,DIGITADOR!$M$1,J144,ROW()))","v":""},null,null,null,{"$f":"IF(X144=\"\",\"\", INDEX(referentes!$AH:$AL,MATCH(DATOS_MIP_SA!X144,referentes!$AI:$AI,0),1))","v":""},"",{"$f":"IF(AI144=\"\",\"\", INDEX(referentes!$D:$E,MATCH(DATOS_MIP_SA!AI144,referentes!$E:$E,0),1))","v":""},{"$f":"IF(AK144=\"\",\"\", INDEX(referentes!$A:$B,MATCH(DATOS_MIP_SA!AK144,referentes!$B:$B,0),1))","v":""},null,{"$f":"IF(AM144=\"\",\"\", INDEX(referentes!$S:$T,MATCH(AM144,referentes!$T:$T,0),1))","v":""},{"$f":"IF(AN144=\"\",\"\", INDEX(referentes!$Y:$Z,MATCH(AN144,referentes!$Z:$Z,0),1))","v":""},{"$f":"IF(AU144=\"\",\"\", INDEX(referentes!$V:$W,MATCH(DATOS_MIP_SA!AU144,referentes!$W:$W,0),1))","v":""},{"$f":"IF(AO144=\"\",\"\", INDEX(referentes!$AB:$AC,MATCH(DATOS_MIP_SA!AO144,referentes!$AC:$AC,0),1))","v":""},{"$f":"IF(AV144=\"\",\"\", INDEX('otras referencias'!$U:$V,MATCH(DATOS_MIP_SA!AV144,'otras referencias'!$V:$V,0),1))","v":""},{"$f":"IF(AW144=\"\",\"\", INDEX(referentes!$J:$K,MATCH(DATOS_MIP_SA!AW144,referentes!$K:$K,0),1))","v":""},null,null,null,null,null,null,{"$f":"IF(X144<>\"\",INDEX(referentes!$AH:$AL,MATCH(DATOS_MIP_SA!X144,referentes!$AI:$AI,0),5),\"\")","v":""}]
[null,null,null,"",{"$f":"IF(J145=\"\",\"\",CONCATENATE(AF145,DIGITADOR!$B$2,DIGITADOR!$M$1,J145))","v":""},{"$f":"IF(J145=\"\",\"\",CONCATENATE(DIGITADOR!$B$2,AF145,DIGITADOR!$M$1,J145,ROW()))","v":""},null,null,null,{"$f":"IF(X145=\"\",\"\", INDEX(referentes!$AH:$AL,MATCH(DATOS_MIP_SA!X145,referentes!$AI:$AI,0),1))","v":""},"",{"$f":"IF(AI145=\"\",\"\", INDEX(referentes!$D:$E,MATCH(DATOS_MIP_SA!AI145,referentes!$E:$E,0),1))","v":""},{"$f":"IF(AK145=\"\",\"\", INDEX(referentes!$A:$B,MATCH(DATOS_MIP_SA!AK145,referentes!$B:$B,0),1))","v":""},null,{"$f":"IF(AM145=\"\",\"\", INDEX(referentes!$S:$T,MATCH(AM145,referentes!$T:$T,0),1))","v":""},{"$f":"IF(AN145=\"\",\"\", INDEX(referentes!$Y:$Z,MATCH(AN145,referentes!$Z:$Z,0),1))","v":""},{"$f":"IF(AU145=\"\",\"\", INDEX(referentes!$V:$W,MATCH(DATOS_MIP_SA!AU145,referentes!$W:$W,0),1))","v":""},{"$f":"IF(AO145=\"\",\"\", INDEX(referentes!$AB:$AC,MATCH(DATOS_MIP_SA!AO145,referentes!$AC:$AC,0),1))","v":""},{"$f":"IF(AV145=\"\",\"\", INDEX('otras referencias'!$U:$V,MATCH(DATOS_MIP_SA!AV145,'otras referencias'!$V:$V,0),1))","v":""},{"$f":"IF(AW145=\"\",\"\", INDEX(referentes!$J:$K,MATCH(DATOS_MIP_SA!AW145,referentes!$K:$K,0),1))","v":""},null,null,null,null,null,null,{"$f":"IF(X145<>\"\",INDEX(referentes!$AH:$AL,MATCH(DATOS_MIP_SA!X145,referentes!$AI:$AI,0),5),\"\")","v":""}]
[null,null,null,"",{"$f":"IF(J146=\"\",\"\",CONCATENATE(AF146,DIGITADOR!$B$2,DIGITADOR!$M$1,J146))","v":""},{"$f":"IF(J146=\"\",\"\",CONCATENATE(DIGITADOR!$B$2,AF146,DIGITADOR!$M$1,J146,ROW()))","v":""},null,null,null,{"$f":"IF(X146=\"\",\"\", INDEX(referentes!$AH:$AL,MATCH(DATOS_MIP_SA!X146,referentes!$AI:$AI,0),1))","v":""},"",{"$f":"IF(AI146=\"\",\"\", INDEX(referentes!$D:$E,MATCH(DATOS_MIP_SA!AI146,referentes!$E:$E,0),1))","v":""},{"$f":"IF(AK146=\"\",\"\", INDEX(referentes!$A:$B,MATCH(DATOS_MIP_SA!AK146,referentes!$B:$B,0),1))","v":""},null,{"$f":"IF(AM146=\"\",\"\", INDEX(referentes!$S:$T,MATCH(AM146,referentes!$T:$T,0),1))","v":""},{"$f":"IF(AN146=\"\",\"\", INDEX(referentes!$Y:$Z,MATCH(AN146,referentes!$Z:$Z,0),1))","v":""},{"$f":"IF(AU146=\"\",\"\", INDEX(referentes!$V:$W,MATCH(DATOS_MIP_SA!AU146,referentes!$W:$W,0),1))","v":""},{"$f":"IF(AO146=\"\",\"\", INDEX(referentes!$AB:$AC,MATCH(DATOS_MIP_SA!AO146,referentes!$AC:$AC,0),1))","v":""},{"$f":"IF(AV146=\"\",\"\", INDEX('otras referencias'!$U:$V,MATCH(DATOS_MIP_SA!AV146,'otras referencias'!$V:$V,0),1))","v":""},{"$f":"IF(AW146=\"\",\"\", INDEX(referentes!$J:$K,MATCH(DATOS_MIP_SA!AW146,referentes!$K:$K,0),1))","v":""},null,null,null,null,null,null,{"$f":"IF(X146<>\"\",INDEX(referentes!$AH:$AL,MATCH(DATOS_MIP_SA!X146,referentes!$AI:$AI,0),5),\"\")","v":""}]
[null,null,null,"",{"$f":"IF(J147=\"\",\"\",CONCATENATE(AF147,DIGITADOR!$B$2,DIGITADOR!$M$1,J147))","v":""},{"$f":"IF(J147=\"\",\"\",CONCATENATE(DIGITADOR!$B$2,AF147,DIGITADOR!$M$1,J147,ROW()))","v":""},null,null,null,{"$f":"IF(X147=\"\",\"\", INDEX(referentes!$AH:$AL,MATCH(DATOS_MIP_SA!X147,referentes!$AI:$AI,0),1))","v":""},"",{"$f":"IF(AI147=\"\",\"\", INDEX(referentes!$D:$E,MATCH(DATOS_MIP_SA!AI147,referentes!$E:$E,0),1))","v":""},{"$f":"IF(AK147=\"\",\"\", INDEX(referentes!$A:$B,MATCH(DATOS_MIP_SA!AK147,referentes!$B:$B,0),1))","v":""},null,{"$f":"IF(AM147=\"\",\"\", INDEX(referentes!$S:$T,MATCH(AM147,referentes!$T:$T,0),1))","v":""},{"$f":"IF(AN147=\"\",\"\", INDEX(referentes!$Y:$Z,MATCH(AN147,referentes!$Z:$Z,0),1))","v":""},{"$f":"IF(AU147=\"\",\"\", INDEX(referentes!$V:$W,MATCH(DATOS_MIP_SA!AU147,referentes!$W:$W,0),1))","v":""},{"$f":"IF(AO147=\"\",\"\", INDEX(referentes!$AB:$AC,MATCH(DATOS_MIP_SA!AO147,referentes!$AC:$AC,0),1))","v":""},{"$f":"IF(AV147=\"\",\"\", INDEX('otras referencias'!$U:$V,MATCH(DATOS_MIP_SA!AV147,'otras referencias'!$V:$V,0),1))","v":""},{"$f":"IF(AW147=\"\",\"\", INDEX(referentes!$J:$K,MATCH(DATOS_MIP_SA!AW147,referentes!$K:$K,0),1))","v":""},null,null,null,null,null,null,{"$f":"IF(X147<>\"\",INDEX(referentes!$AH:$AL,MATCH(DATOS_MIP_SA!X147,referentes!$AI:$AI,0),5),\"\")","v":""}]
[null,null,null,"",{"$f":"IF(J148=\"\",\"\",CONCATENATE(AF148,DIGITADOR!$B$2,DIGITADOR!$M$1,J148))","v":""},{"$f":"IF(J148=\"\",\"\",CONCATENATE(DIGITADOR!$B$2,AF148,DIGITADOR!$M$1,J148,ROW()))","v":""},null,null,null,{"$f":"IF(X148=\"\",\"\", INDEX(referentes!$AH:$AL,MATCH(DATOS_MIP_SA!X148,referentes!$AI:$AI,0),1))","v":""},"",{"$f":"IF(AI148=\"\",\"\", INDEX(referentes!$D:$E,MATCH(DATOS_MIP_SA!AI148,referentes!$E:$E,0),1))","v":""},{"$f":"IF(AK148=\"\",\"\", INDEX(referentes!$A:$B,MATCH(DATOS_MIP_SA!AK148,referentes!$B:$B,0),1))","v":""},null,{"$f":"IF(AM148=\"\",\"\", INDEX(referentes!$S:$T,MATCH(AM148,referentes!$T:$T,0),1))","v":""},{"$f":"IF(AN148=\"\",\"\", INDEX(referentes!$Y:$Z,MATCH(AN148,referentes!$Z:$Z,0),1))","v":""},{"$f":"IF(AU148=\"\",\"\", INDEX(referentes!$V:$W,MATCH(DATOS_MIP_SA!AU148,referentes!$W:$W,0),1))","v":""},{"$f":"IF(AO148=\"\",\"\", INDEX(referentes!$AB:$AC,MATCH(DATOS_MIP_SA!AO148,referentes!$AC:$AC,0),1))","v":""},{"$f":"IF(AV148=\"\",\"\", INDEX('otras referencias'!$U:$V,MATCH(DATOS_MIP_SA!AV148,'otras referencias'!$V:$V,0),1))","v":""},{"$f":"IF(AW148=\"\",\"\", INDEX(referentes!$J:$K,MATCH(DATOS_MIP_SA!AW148,referentes!$K:$K,0),1))","v":""},null,null,null,null,null,null,{"$f":"IF(X148<>\"\",INDEX(referentes!$AH:$AL,MATCH(DATOS_MIP_SA!X148,referentes!$AI:$AI,0),5),\"\")","v":""}]
[null,null,null,"",{"$f":"IF(J149=\"\",\"\",CONCATENATE(AF149,DIGITADOR!$B$2,DIGITADOR!$M$1,J149))","v":""},{"$f":"IF(J149=\"\",\"\",CONCATENATE(DIGITADOR!$B$2,AF149,DIGITADOR!$M$1,J149,ROW()))","v":""},null,null,null,{"$f":"IF(X149=\"\",\"\", INDEX(referentes!$AH:$AL,MATCH(DATOS_MIP_SA!X149,referentes!$AI:$AI,0),1))","v":""},"",{"$f":"IF(AI149=\"\",\"\", INDEX(referentes!$D:$E,MATCH(DATOS_MIP_SA!AI149,referentes!$E:$E,0),1))","v":""},{"$f":"IF(AK149=\"\",\"\", INDEX(referentes!$A:$B,MATCH(DATOS_MIP_SA!AK149,referentes!$B:$B,0),1))","v":""},null,{"$f":"IF(AM149=\"\",\"\", INDEX(referentes!$S:$T,MATCH(AM149,referentes!$T:$T,0),1))","v":""},{"$f":"IF(AN149=\"\",\"\", INDEX(referentes!$Y:$Z,MATCH(AN149,referentes!$Z:$Z,0),1))","v":""},{"$f":"IF(AU149=\"\",\"\", INDEX(referentes!$V:$W,MATCH(DATOS_MIP_SA!AU149,referentes!$W:$W,0),1))","v":""},{"$f":"IF(AO149=\"\",\"\", INDEX(referentes!$AB:$AC,MATCH(DATOS_MIP_SA!AO149,referentes!$AC:$AC,0),1))","v":""},{"$f":"IF(AV149=\"\",\"\", INDEX('otras referencias'!$U:$V,MATCH(DATOS_MIP_SA!AV149,'otras referencias'!$V:$V,0),1))","v":""},{"$f":"IF(AW149=\"\",\"\", INDEX(referentes!$J:$K,MATCH(DATOS_MIP_SA!AW149,referentes!$K:$K,0),1))","v":""},null,null,null,null,null,null,{"$f":"IF(X149<>\"\",INDEX(referentes!$AH:$AL,MATCH(DATOS_MIP_SA!X149,referentes!$AI:$AI,0),5),\"\")","v":""}]
[null,null,null,"",{"$f":"IF(J150=\"\",\"\",CONCATENATE(AF150,DIGITADOR!$B$2,DIGITADOR!$M$1,J150))","v":""},{"$f":"IF(J150=\"\",\"\",CONCATENATE(DIGITADOR!$B$2,AF150,DIGITADOR!$M$1,J150,ROW()))","v":""},null,null,null,{"$f":"IF(X150=\"\",\"\", INDEX(referentes!$AH:$AL,MATCH(DATOS_MIP_SA!X150,referentes!$AI:$AI,0),1))","v":""},"",{"$f":"IF(AI150=\"\",\"\", INDEX(referentes!$D:$E,MATCH(DATOS_MIP_SA!AI150,referentes!$E:$E,0),1))","v":""},{"$f":"IF(AK150=\"\",\"\", INDEX(referentes!$A:$B,MATCH(DATOS_MIP_SA!AK150,referentes!$B:$B,0),1))","v":""},null,{"$f":"IF(AM150=\"\",\"\", INDEX(referentes!$S:$T,MATCH(AM150,referentes!$T:$T,0),1))","v":""},{"$f":"IF(AN150=\"\",\"\", INDEX(referentes!$Y:$Z,MATCH(AN150,referentes!$Z:$Z,0),1))","v":""},{"$f":"IF(AU150=\"\",\"\", INDEX(referentes!$V:$W,MATCH(DATOS_MIP_SA!AU150,referentes!$W:$W,0),1))","v":""},{"$f":"IF(AO150=\"\",\"\", INDEX(referentes!$AB:$AC,MATCH(DATOS_MIP_SA!AO150,referentes!$AC:$AC,0),1))","v":""},{"$f":"IF(AV150=\"\",\"\", INDEX('otras referencias'!$U:$V,MATCH(DATOS_MIP_SA!AV150,'otras referencias'!$V:$V,0),1))","v":""},{"$f":"IF(AW150=\"\",\"\", INDEX(referentes!$J:$K,MATCH(DATOS_MIP_SA!AW150,referentes!$K:$K,0),1))","v":""},null,null,null,null,null,null,{"$f":"IF(X150<>\"\",INDEX(referentes!$AH:$AL,MATCH(DATOS_MIP_SA!X150,referentes!$AI:$AI,0),5),\"\")","v":""}]
[null,null,null,"",{"$f":"IF(J151=\"\",\"\",CONCATENATE(AF151,DIGITADOR!$B$2,DIGITADOR!$M$1,J151))","v":""},{"$f":"IF(J151=\"\",\"\",CONCATENATE(DIGITADOR!$B$2,AF151,DIGITADOR!$M$1,J151,ROW()))","v":""},null,null,null,{"$f":"IF(X151=\"\",\"\", INDEX(referentes!$AH:$AL,MATCH(DATOS_MIP_SA!X151,referentes!$AI:$AI,0),1))","v":""},"",{"$f":"IF(AI151=\"\",\"\", INDEX(referentes!$D:$E,MATCH(DATOS_MIP_SA!AI151,referentes!$E:$E,0),1))","v":""},{"$f":"IF(AK151=\"\",\"\", INDEX(referentes!$A:$B,MATCH(DATOS_MIP_SA!AK151,referentes!$B:$B,0),1))","v":""},null,{"$f":"IF(AM151=\"\",\"\", INDEX(referentes!$S:$T,MATCH(AM151,referentes!$T:$T,0),1))","v":""},{"$f":"IF(AN151=\"\",\"\", INDEX(referentes!$Y:$Z,MATCH(AN151,referentes!$Z:$Z,0),1))","v":""},{"$f":"IF(AU151=\"\",\"\", INDEX(referentes!$V:$W,MATCH(DATOS_MIP_SA!AU151,referentes!$W:$W,0),1))","v":""},{"$f":"IF(AO151=\"\",\"\", INDEX(referentes!$AB:$AC,MATCH(DATOS_MIP_SA!AO151,referentes!$AC:$AC,0),1))","v":""},{"$f":"IF(AV151=\"\",\"\", INDEX('otras referencias'!$U:$V,MATCH(DATOS_MIP_SA!AV151,'otras referencias'!$V:$V,0),1))","v":""},{"$f":"IF(AW151=\"\",\"\", INDEX(referentes!$J:$K,MATCH(DATOS_MIP_SA!AW151,referentes!$K:$K,0),1))","v":""},null,null,null,null,null,null,{"$f":"IF(X151<>\"\",INDEX(referentes!$AH:$AL,MATCH(DATOS_MIP_SA!X151,referentes!$AI:$AI,0),5),\"\")","v":""}]
[null,null,null,"",{"$f":"IF(J152=\"\",\"\",CONCATENATE(AF152,DIGITADOR!$B$2,DIGITADOR!$M$1,J152))","v":""},{"$f":"IF(J152=\"\",\"\",CONCATENATE(DIGITADOR!$B$2,AF152,DIGITADOR!$M$1,J152,ROW()))","v":""},null,null,null,{"$f":"IF(X152=\"\",\"\", INDEX(referentes!$AH:$AL,MATCH(DATOS_MIP_SA!X152,referentes!$AI:$AI,0),1))","v":""},"",{"$f":"IF(AI152=\"\",\"\", INDEX(referentes!$D:$E,MATCH(DATOS_MIP_SA!AI152,referentes!$E:$E,0),1))","v":""},{"$f":"IF(AK152=\"\",\"\", INDEX(referentes!$A:$B,MATCH(DATOS_MIP_SA!AK152,referentes!$B:$B,0),1))","v":""},null,{"$f":"IF(AM152=\"\",\"\", INDEX(referentes!$S:$T,MATCH(AM152,referentes!$T:$T,0),1))","v":""},{"$f":"IF(AN152=\"\",\"\", INDEX(referentes!$Y:$Z,MATCH(AN152,referentes!$Z:$Z,0),1))","v":""},{"$f":"IF(AU152=\"\",\"\", INDEX(referentes!$V:$W,MATCH(DATOS_MIP_SA!AU152,referentes!$W:$W,0),1))","v":""},{"$f":"IF(AO152=\"\",\"\", INDEX(referentes!$AB:$AC,MATCH(DATOS_MIP_SA!AO152,referentes!$AC:$AC,0),1))","v":""},{"$f":"IF(AV152=\"\",\"\", INDEX('otras referencias'!$U:$V,MATCH(DATOS_MIP_SA!AV152,'otras referencias'!$V:$V,0),1))","v":""},{"$f":"IF(AW152=\"\",\"\", INDEX(referentes!$J:$K,MATCH(DATOS_MIP_SA!AW152,referentes!$K:$K,0),1))","v":""},null,null,null,null,null,null,{"$f":"IF(X152<>\"\",INDEX(referentes!$AH:$AL,MATCH(DATOS_MIP_SA!X152,referentes!$AI:$AI,0),5),\"\")","v":""}]
[null,null,null,"",{"$f":"IF(J153=\"\",\"\",CONCATENATE(AF153,DIGITADOR!$B$2,DIGITADOR!$M$1,J153))","v":""},{"$f":"IF(J153=\"\",\"\",CONCATENATE(DIGITADOR!$B$2,AF153,DIGITADOR!$M$1,J153,ROW()))","v":""},null,null,null,{"$f":"IF(X153=\"\",\"\", INDEX(referentes!$AH:$AL,MATCH(DATOS_MIP_SA!X153,referentes!$AI:$AI,0),1))","v":""},"",{"$f":"IF(AI153=\"\",\"\", INDEX(referentes!$D:$E,MATCH(DATOS_MIP_SA!AI153,referentes!$E:$E,0),1))","v":""},{"$f":"IF(AK153=\"\",\"\", INDEX(referentes!$A:$B,MATCH(DATOS_MIP_SA!AK153,referentes!$B:$B,0),1))","v":""},null,{"$f":"IF(AM153=\"\",\"\", INDEX(referentes!$S:$T,MATCH(AM153,referentes!$T:$T,0),1))","v":""},{"$f":"IF(AN153=\"\",\"\", INDEX(referentes!$Y:$Z,MATCH(AN153,referentes!$Z:$Z,0),1))","v":""},{"$f":"IF(AU153=\"\",\"\", INDEX(referentes!$V:$W,MATCH(DATOS_MIP_SA!AU153,referentes!$W:$W,0),1))","v":""},{"$f":"IF(AO153=\"\",\"\", INDEX(referentes!$AB:$AC,MATCH(DATOS_MIP_SA!AO153,referentes!$AC:$AC,0),1))","v":""},{"$f":"IF(AV153=\"\",\"\", INDEX('otras referencias'!$U:$V,MATCH(DATOS_MIP_SA!AV153,'otras referencias'!$V:$V,0),1))","v":""},{"$f":"IF(AW153=\"\",\"\", INDEX(referentes!$J:$K,MATCH(DATOS_MIP_SA!AW153,referentes!$K:$K,0),1))","v":""},null,null,null,null,null,null,{"$f":"IF(X153<>\"\",INDEX(referentes!$AH:$AL,MATCH(DATOS_MIP_SA!X153,referentes!$AI:$AI,0),5),\"\")","v":""}]
[null,null,null,"",{"$f":"IF(J154=\"\",\"\",CONCATENATE(AF154,DIGITADOR!$B$2,DIGITADOR!$M$1,J154))","v":""},{"$f":"IF(J154=\"\",\"\",CONCATENATE(DIGITADOR!$B$2,AF154,DIGITADOR!$M$1,J154,ROW()))","v":""},null,null,null,{"$f":"IF(X154=\"\",\"\", INDEX(referentes!$AH:$AL,MATCH(DATOS_MIP_SA!X154,referentes!$AI:$AI,0),1))","v":""},"",{"$f":"IF(AI154=\"\",\"\", INDEX(referentes!$D:$E,MATCH(DATOS_MIP_SA!AI154,referentes!$E:$E,0),1))","v":""},{"$f":"IF(AK154=\"\",\"\", INDEX(referentes!$A:$B,MATCH(DATOS_MIP_SA!AK154,referentes!$B:$B,0),1))","v":""},null,{"$f":"IF(AM154=\"\",\"\", INDEX(referentes!$S:$T,MATCH(AM154,referentes!$T:$T,0),1))","v":""},{"$f":"IF(AN154=\"\",\"\", INDEX(referentes!$Y:$Z,MATCH(AN154,referentes!$Z:$Z,0),1))","v":""},{"$f":"IF(AU154=\"\",\"\", INDEX(referentes!$V:$W,MATCH(DATOS_MIP_SA!AU154,referentes!$W:$W,0),1))","v":""},{"$f":"IF(AO154=\"\",\"\", INDEX(referentes!$AB:$AC,MATCH(DATOS_MIP_SA!AO154,referentes!$AC:$AC,0),1))","v":""},{"$f":"IF(AV154=\"\",\"\", INDEX('otras referencias'!$U:$V,MATCH(DATOS_MIP_SA!AV154,'otras referencias'!$V:$V,0),1))","v":""},{"$f":"IF(AW154=\"\",\"\", INDEX(referentes!$J:$K,MATCH(DATOS_MIP_SA!AW154,referentes!$K:$K,0),1))","v":""},null,null,null,null,null,null,{"$f":"IF(X154<>\"\",INDEX(referentes!$AH:$AL,MATCH(DATOS_MIP_SA!X154,referentes!$AI:$AI,0),5),\"\")","v":""}]
[null,null,null,"",{"$f":"IF(J155=\"\",\"\",CONCATENATE(AF155,DIGITADOR!$B$2,DIGITADOR!$M$1,J155))","v":""},{"$f":"IF(J155=\"\",\"\",CONCATENATE(DIGITADOR!$B$2,AF155,DIGITADOR!$M$1,J155,ROW()))","v":""},null,null,null,{"$f":"IF(X155=\"\",\"\", INDEX(referentes!$AH:$AL,MATCH(DATOS_MIP_SA!X155,referentes!$AI:$AI,0),1))","v":""},"",{"$f":"IF(AI155=\"\",\"\", INDEX(referentes!$D:$E,MATCH(DATOS_MIP_SA!AI155,referentes!$E:$E,0),1))","v":""},{"$f":"IF(AK155=\"\",\"\", INDEX(referentes!$A:$B,MATCH(DATOS_MIP_SA!AK155,referentes!$B:$B,0),1))","v":""},null,{"$f":"IF(AM155=\"\",\"\", INDEX(referentes!$S:$T,MATCH(AM155,referentes!$T:$T,0),1))","v":""},{"$f":"IF(AN155=\"\",\"\", INDEX(referentes!$Y:$Z,MATCH(AN155,referentes!$Z:$Z,0),1))","v":""},{"$f":"IF(AU155=\"\",\"\", INDEX(referentes!$V:$W,MATCH(DATOS_MIP_SA!AU155,referentes!$W:$W,0),1))","v":""},{"$f":"IF(AO155=\"\",\"\", INDEX(referentes!$AB:$AC,MATCH(DATOS_MIP_SA!AO155,referentes!$AC:$AC,0),1))","v":""},{"$f":"IF(AV155=\"\",\"\", INDEX('otras referencias'!$U:$V,MATCH(DATOS_MIP_SA!AV155,'otras referencias'!$V:$V,0),1))","v":""},{"$f":"IF(AW155=\"\",\"\", INDEX(referentes!$J:$K,MATCH(DATOS_MIP_SA!AW155,referentes!$K:$K,0),1))","v":""},null,null,null,null,null,null,{"$f":"IF(X155<>\"\",INDEX(referentes!$AH:$AL,MATCH(DATOS_MIP_SA!X155,referentes!$AI:$AI,0),5),\"\")","v":""}]
[null,null,null,"",{"$f":"IF(J156=\"\",\"\",CONCATENATE(AF156,DIGITADOR!$B$2,DIGITADOR!$M$1,J156))","v":""},{"$f":"IF(J156=\"\",\"\",CONCATENATE(DIGITADOR!$B$2,AF156,DIGITADOR!$M$1,J156,ROW()))","v":""},null,null,null,{"$f":"IF(X156=\"\",\"\", INDEX(referentes!$AH:$AL,MATCH(DATOS_MIP_SA!X156,referentes!$AI:$AI,0),1))","v":""},"",{"$f":"IF(AI156=\"\",\"\", INDEX(referentes!$D:$E,MATCH(DATOS_MIP_SA!AI156,referentes!$E:$E,0),1))","v":""},{"$f":"IF(AK156=\"\",\"\", INDEX(referentes!$A:$B,MATCH(DATOS_MIP_SA!AK156,referentes!$B:$B,0),1))","v":""},null,{"$f":"IF(AM156=\"\",\"\", INDEX(referentes!$S:$T,MATCH(AM156,referentes!$T:$T,0),1))","v":""},{"$f":"IF(AN156=\"\",\"\", INDEX(referentes!$Y:$Z,MATCH(AN156,referentes!$Z:$Z,0),1))","v":""},{"$f":"IF(AU156=\"\",\"\", INDEX(referentes!$V:$W,MATCH(DATOS_MIP_SA!AU156,referentes!$W:$W,0),1))","v":""},{"$f":"IF(AO156=\"\",\"\", INDEX(referentes!$AB:$AC,MATCH(DATOS_MIP_SA!AO156,referentes!$AC:$AC,0),1))","v":""},{"$f":"IF(AV156=\"\",\"\", INDEX('otras referencias'!$U:$V,MATCH(DATOS_MIP_SA!AV156,'otras referencias'!$V:$V,0),1))","v":""},{"$f":"IF(AW156=\"\",\"\", INDEX(referentes!$J:$K,MATCH(DATOS_MIP_SA!AW156,referentes!$K:$K,0),1))","v":""},null,null,null,null,null,null,{"$f":"IF(X156<>\"\",INDEX(referentes!$AH:$AL,MATCH(DATOS_MIP_SA!X156,referentes!$AI:$AI,0),5),\"\")","v":""}]
[null,null,null,"",{"$f":"IF(J157=\"\",\"\",CONCATENATE(AF157,DIGITADOR!$B$2,DIGITADOR!$M$1,J157))","v":""},{"$f":"IF(J157=\"\",\"\",CONCATENATE(DIGITADOR!$B$2,AF157,DIGITADOR!$M$1,J157,ROW()))","v":""},null,null,null,{"$f":"IF(X157=\"\",\"\", INDEX(referentes!$AH:$AL,MATCH(DATOS_MIP_SA!X157,referentes!$AI:$AI,0),1))","v":""},"",{"$f":"IF(AI157=\"\",\"\", INDEX(referentes!$D:$E,MATCH(DATOS_MIP_SA!AI157,referentes!$E:$E,0),1))","v":""},{"$f":"IF(AK157=\"\",\"\", INDEX(referentes!$A:$B,MATCH(DATOS_MIP_SA!AK157,referentes!$B:$B,0),1))","v":""},null,{"$f":"IF(AM157=\"\",\"\", INDEX(referentes!$S:$T,MATCH(AM157,referentes!$T:$T,0),1))","v":""},{"$f":"IF(AN157=\"\",\"\", INDEX(referentes!$Y:$Z,MATCH(AN157,referentes!$Z:$Z,0),1))","v":""},{"$f":"IF(AU157=\"\",\"\", INDEX(referentes!$V:$W,MATCH(DATOS_MIP_SA!AU157,referentes!$W:$W,0),1))","v":""},{"$f":"IF(AO157=\"\",\"\", INDEX(referentes!$AB:$AC,MATCH(DATOS_MIP_SA!AO157,referentes!$AC:$AC,0),1))","v":""},{"$f":"IF(AV157=\"\",\"\", INDEX('otras referencias'!$U:$V,MATCH(DATOS_MIP_SA!AV157,'otras referencias'!$V:$V,0),1))","v":""},{"$f":"IF(AW157=\"\",\"\", INDEX(referentes!$J:$K,MATCH(DATOS_MIP_SA!AW157,referentes!$K:$K,0),1))","v":""},null,null,null,null,null,null,{"$f":"IF(X157<>\"\",INDEX(referentes!$AH:$AL,MATCH(DATOS_MIP_SA!X157,referentes!$AI:$AI,0),5),\"\")","v":""}]
[null,null,null,"",{"$f":"IF(J158=\"\",\"\",CONCATENATE(AF158,DIGITADOR!$B$2,DIGITADOR!$M$1,J158))","v":""},{"$f":"IF(J158=\"\",\"\",CONCATENATE(DIGITADOR!$B$2,AF158,DIGITADOR!$M$1,J158,ROW()))","v":""},null,null,null,{"$f":"IF(X158=\"\",\"\", INDEX(referentes!$AH:$AL,MATCH(DATOS_MIP_SA!X158,referentes!$AI:$AI,0),1))","v":""},"",{"$f":"IF(AI158=\"\",\"\", INDEX(referentes!$D:$E,MATCH(DATOS_MIP_SA!AI158,referentes!$E:$E,0),1))","v":""},{"$f":"IF(AK158=\"\",\"\", INDEX(referentes!$A:$B,MATCH(DATOS_MIP_SA!AK158,referentes!$B:$B,0),1))","v":""},null,{"$f":"IF(AM158=\"\",\"\", INDEX(referentes!$S:$T,MATCH(AM158,referentes!$T:$T,0),1))","v":""},{"$f":"IF(AN158=\"\",\"\", INDEX(referentes!$Y:$Z,MATCH(AN158,referentes!$Z:$Z,0),1))","v":""},{"$f":"IF(AU158=\"\",\"\", INDEX(referentes!$V:$W,MATCH(DATOS_MIP_SA!AU158,referentes!$W:$W,0),1))","v":""},{"$f":"IF(AO158=\"\",\"\", INDEX(referentes!$AB:$AC,MATCH(DATOS_MIP_SA!AO158,referentes!$AC:$AC,0),1))","v":""},{"$f":"IF(AV158=\"\",\"\", INDEX('otras referencias'!$U:$V,MATCH(DATOS_MIP_SA!AV158,'otras referencias'!$V:$V,0),1))","v":""},{"$f":"IF(AW158=\"\",\"\", INDEX(referentes!$J:$K,MATCH(DATOS_MIP_SA!AW158,referentes!$K:$K,0),1))","v":""},null,null,null,null,null,null,{"$f":"IF(X158<>\"\",INDEX(referentes!$AH:$AL,MATCH(DATOS_MIP_SA!X158,referentes!$AI:$AI,0),5),\"\")","v":""}]
[null,null,null,"",{"$f":"IF(J159=\"\",\"\",CONCATENATE(AF159,DIGITADOR!$B$2,DIGITADOR!$M$1,J159))","v":""},{"$f":"IF(J159=\"\",\"\",CONCATENATE(DIGITADOR!$B$2,AF159,DIGITADOR!$M$1,J159,ROW()))","v":""},null,null,null,{"$f":"IF(X159=\"\",\"\", INDEX(referentes!$AH:$AL,MATCH(DATOS_MIP_SA!X159,referentes!$AI:$AI,0),1))","v":""},"",{"$f":"IF(AI159=\"\",\"\", INDEX(referentes!$D:$E,MATCH(DATOS_MIP_SA!AI159,referentes!$E:$E,0),1))","v":""},{"$f":"IF(AK159=\"\",\"\", INDEX(referentes!$A:$B,MATCH(DATOS_MIP_SA!AK159,referentes!$B:$B,0),1))","v":""},null,{"$f":"IF(AM159=\"\",\"\", INDEX(referentes!$S:$T,MATCH(AM159,referentes!$T:$T,0),1))","v":""},{"$f":"IF(AN159=\"\",\"\", INDEX(referentes!$Y:$Z,MATCH(AN159,referentes!$Z:$Z,0),1))","v":""},{"$f":"IF(AU159=\"\",\"\", INDEX(referentes!$V:$W,MATCH(DATOS_MIP_SA!AU159,referentes!$W:$W,0),1))","v":""},{"$f":"IF(AO159=\"\",\"\", INDEX(referentes!$AB:$AC,MATCH(DATOS_MIP_SA!AO159,referentes!$AC:$AC,0),1))","v":""},{"$f":"IF(AV159=\"\",\"\", INDEX('otras referencias'!$U:$V,MATCH(DATOS_MIP_SA!AV159,'otras referencias'!$V:$V,0),1))","v":""},{"$f":"IF(AW159=\"\",\"\", INDEX(referentes!$J:$K,MATCH(DATOS_MIP_SA!AW159,referentes!$K:$K,0),1))","v":""},null,null,null,null,null,null,{"$f":"IF(X159<>\"\",INDEX(referentes!$AH:$AL,MATCH(DATOS_MIP_SA!X159,referentes!$AI:$AI,0),5),\"\")","v":""}]
[null,null,null,"",{"$f":"IF(J160=\"\",\"\",CONCATENATE(AF160,DIGITADOR!$B$2,DIGITADOR!$M$1,J160))","v":""},{"$f":"IF(J160=\"\",\"\",CONCATENATE(DIGITADOR!$B$2,AF160,DIGITADOR!$M$1,J160,ROW()))","v":""},null,null,null,{"$f":"IF(X160=\"\",\"\", INDEX(referentes!$AH:$AL,MATCH(DATOS_MIP_SA!X160,referentes!$AI:$AI,0),1))","v":""},"",{"$f":"IF(AI160=\"\",\"\", INDEX(referentes!$D:$E,MATCH(DATOS_MIP_SA!AI160,referentes!$E:$E,0),1))","v":""},{"$f":"IF(AK160=\"\",\"\", INDEX(referentes!$A:$B,MATCH(DATOS_MIP_SA!AK160,referentes!$B:$B,0),1))","v":""},null,{"$f":"IF(AM160=\"\",\"\", INDEX(referentes!$S:$T,MATCH(AM160,referentes!$T:$T,0),1))","v":""},{"$f":"IF(AN160=\"\",\"\", INDEX(referentes!$Y:$Z,MATCH(AN160,referentes!$Z:$Z,0),1))","v":""},{"$f":"IF(AU160=\"\",\"\", INDEX(referentes!$V:$W,MATCH(DATOS_MIP_SA!AU160,referentes!$W:$W,0),1))","v":""},{"$f":"IF(AO160=\"\",\"\", INDEX(referentes!$AB:$AC,MATCH(DATOS_MIP_SA!AO160,referentes!$AC:$AC,0),1))","v":""},{"$f":"IF(AV160=\"\",\"\", INDEX('otras referencias'!$U:$V,MATCH(DATOS_MIP_SA!AV160,'otras referencias'!$V:$V,0),1))","v":""},{"$f":"IF(AW160=\"\",\"\", INDEX(referentes!$J:$K,MATCH(DATOS_MIP_SA!AW160,referentes!$K:$K,0),1))","v":""},null,null,null,null,null,null,{"$f":"IF(X160<>\"\",INDEX(referentes!$AH:$AL,MATCH(DATOS_MIP_SA!X160,referentes!$AI:$AI,0),5),\"\")","v":""}]
[null,null,null,"",{"$f":"IF(J161=\"\",\"\",CONCATENATE(AF161,DIGITADOR!$B$2,DIGITADOR!$M$1,J161))","v":""},{"$f":"IF(J161=\"\",\"\",CONCATENATE(DIGITADOR!$B$2,AF161,DIGITADOR!$M$1,J161,ROW()))","v":""},null,null,null,{"$f":"IF(X161=\"\",\"\", INDEX(referentes!$AH:$AL,MATCH(DATOS_MIP_SA!X161,referentes!$AI:$AI,0),1))","v":""},"",{"$f":"IF(AI161=\"\",\"\", INDEX(referentes!$D:$E,MATCH(DATOS_MIP_SA!AI161,referentes!$E:$E,0),1))","v":""},{"$f":"IF(AK161=\"\",\"\", INDEX(referentes!$A:$B,MATCH(DATOS_MIP_SA!AK161,referentes!$B:$B,0),1))","v":""},null,{"$f":"IF(AM161=\"\",\"\", INDEX(referentes!$S:$T,MATCH(AM161,referentes!$T:$T,0),1))","v":""},{"$f":"IF(AN161=\"\",\"\", INDEX(referentes!$Y:$Z,MATCH(AN161,referentes!$Z:$Z,0),1))","v":""},{"$f":"IF(AU161=\"\",\"\", INDEX(referentes!$V:$W,MATCH(DATOS_MIP_SA!AU161,referentes!$W:$W,0),1))","v":""},{"$f":"IF(AO161=\"\",\"\", INDEX(referentes!$AB:$AC,MATCH(DATOS_MIP_SA!AO161,referentes!$AC:$AC,0),1))","v":""},{"$f":"IF(AV161=\"\",\"\", INDEX('otras referencias'!$U:$V,MATCH(DATOS_MIP_SA!AV161,'otras referencias'!$V:$V,0),1))","v":""},{"$f":"IF(AW161=\"\",\"\", INDEX(referentes!$J:$K,MATCH(DATOS_MIP_SA!AW161,referentes!$K:$K,0),1))","v":""},null,null,null,null,null,null,{"$f":"IF(X161<>\"\",INDEX(referentes!$AH:$AL,MATCH(DATOS_MIP_SA!X161,referentes!$AI:$AI,0),5),\"\")","v":""}]
[null,null,null,"",{"$f":"IF(J162=\"\",\"\",CONCATENATE(AF162,DIGITADOR!$B$2,DIGITADOR!$M$1,J162))","v":""},{"$f":"IF(J162=\"\",\"\",CONCATENATE(DIGITADOR!$B$2,AF162,DIGITADOR!$M$1,J162,ROW()))","v":""},null,null,null,{"$f":"IF(X162=\"\",\"\", INDEX(referentes!$AH:$AL,MATCH(DATOS_MIP_SA!X162,referentes!$AI:$AI,0),1))","v":""},"",{"$f":"IF(AI162=\"\",\"\", INDEX(referentes!$D:$E,MATCH(DATOS_MIP_SA!AI162,referentes!$E:$E,0),1))","v":""},{"$f":"IF(AK162=\"\",\"\", INDEX(referentes!$A:$B,MATCH(DATOS_MIP_SA!AK162,referentes!$B:$B,0),1))","v":""},null,{"$f":"IF(AM162=\"\",\"\", INDEX(referentes!$S:$T,MATCH(AM162,referentes!$T:$T,0),1))","v":""},{"$f":"IF(AN162=\"\",\"\", INDEX(referentes!$Y:$Z,MATCH(AN162,referentes!$Z:$Z,0),1))","v":""},{"$f":"IF(AU162=\"\",\"\", INDEX(referentes!$V:$W,MATCH(DATOS_MIP_SA!AU162,referentes!$W:$W,0),1))","v":""},{"$f":"IF(AO162=\"\",\"\", INDEX(referentes!$AB:$AC,MATCH(DATOS_MIP_SA!AO162,referentes!$AC:$AC,0),1))","v":""},{"$f":"IF(AV162=\"\",\"\", INDEX('otras referencias'!$U:$V,MATCH(DATOS_MIP_SA!AV162,'otras referencias'!$V:$V,0),1))","v":""},{"$f":"IF(AW162=\"\",\"\", INDEX(referentes!$J:$K,MATCH(DATOS_MIP_SA!AW162,referentes!$K:$K,0),1))","v":""},null,null,null,null,null,null,{"$f":"IF(X162<>\"\",INDEX(referentes!$AH:$AL,MATCH(DATOS_MIP_SA!X162,referentes!$AI:$AI,0),5),\"\")","v":""}]
[null,null,null,"",{"$f":"IF(J163=\"\",\"\",CONCATENATE(AF163,DIGITADOR!$B$2,DIGITADOR!$M$1,J163))","v":""},{"$f":"IF(J163=\"\",\"\",CONCATENATE(DIGITADOR!$B$2,AF163,DIGITADOR!$M$1,J163,ROW()))","v":""},null,null,null,{"$f":"IF(X163=\"\",\"\", INDEX(referentes!$AH:$AL,MATCH(DATOS_MIP_SA!X163,referentes!$AI:$AI,0),1))","v":""},"",{"$f":"IF(AI163=\"\",\"\", INDEX(referentes!$D:$E,MATCH(DATOS_MIP_SA!AI163,referentes!$E:$E,0),1))","v":""},{"$f":"IF(AK163=\"\",\"\", INDEX(referentes!$A:$B,MATCH(DATOS_MIP_SA!AK163,referentes!$B:$B,0),1))","v":""},null,{"$f":"IF(AM163=\"\",\"\", INDEX(referentes!$S:$T,MATCH(AM163,referentes!$T:$T,0),1))","v":""},{"$f":"IF(AN163=\"\",\"\", INDEX(referentes!$Y:$Z,MATCH(AN163,referentes!$Z:$Z,0),1))","v":""},{"$f":"IF(AU163=\"\",\"\", INDEX(referentes!$V:$W,MATCH(DATOS_MIP_SA!AU163,referentes!$W:$W,0),1))","v":""},{"$f":"IF(AO163=\"\",\"\", INDEX(referentes!$AB:$AC,MATCH(DATOS_MIP_SA!AO163,referentes!$AC:$AC,0),1))","v":""},{"$f":"IF(AV163=\"\",\"\", INDEX('otras referencias'!$U:$V,MATCH(DATOS_MIP_SA!AV163,'otras referencias'!$V:$V,0),1))","v":""},{"$f":"IF(AW163=\"\",\"\", INDEX(referentes!$J:$K,MATCH(DATOS_MIP_SA!AW163,referentes!$K:$K,0),1))","v":""},null,null,null,null,null,null,{"$f":"IF(X163<>\"\",INDEX(referentes!$AH:$AL,MATCH(DATOS_MIP_SA!X163,referentes!$AI:$AI,0),5),\"\")","v":""}]
[null,null,null,"",{"$f":"IF(J164=\"\",\"\",CONCATENATE(AF164,DIGITADOR!$B$2,DIGITADOR!$M$1,J164))","v":""},{"$f":"IF(J164=\"\",\"\",CONCATENATE(DIGITADOR!$B$2,AF164,DIGITADOR!$M$1,J164,ROW()))","v":""},null,null,null,{"$f":"IF(X164=\"\",\"\", INDEX(referentes!$AH:$AL,MATCH(DATOS_MIP_SA!X164,referentes!$AI:$AI,0),1))","v":""},"",{"$f":"IF(AI164=\"\",\"\", INDEX(referentes!$D:$E,MATCH(DATOS_MIP_SA!AI164,referentes!$E:$E,0),1))","v":""},{"$f":"IF(AK164=\"\",\"\", INDEX(referentes!$A:$B,MATCH(DATOS_MIP_SA!AK164,referentes!$B:$B,0),1))","v":""},null,{"$f":"IF(AM164=\"\",\"\", INDEX(referentes!$S:$T,MATCH(AM164,referentes!$T:$T,0),1))","v":""},{"$f":"IF(AN164=\"\",\"\", INDEX(referentes!$Y:$Z,MATCH(AN164,referentes!$Z:$Z,0),1))","v":""},{"$f":"IF(AU164=\"\",\"\", INDEX(referentes!$V:$W,MATCH(DATOS_MIP_SA!AU164,referentes!$W:$W,0),1))","v":""},{"$f":"IF(AO164=\"\",\"\", INDEX(referentes!$AB:$AC,MATCH(DATOS_MIP_SA!AO164,referentes!$AC:$AC,0),1))","v":""},{"$f":"IF(AV164=\"\",\"\", INDEX('otras referencias'!$U:$V,MATCH(DATOS_MIP_SA!AV164,'otras referencias'!$V:$V,0),1))","v":""},{"$f":"IF(AW164=\"\",\"\", INDEX(referentes!$J:$K,MATCH(DATOS_MIP_SA!AW164,referentes!$K:$K,0),1))","v":""},null,null,null,null,null,null,{"$f":"IF(X164<>\"\",INDEX(referentes!$AH:$AL,MATCH(DATOS_MIP_SA!X164,referentes!$AI:$AI,0),5),\"\")","v":""}]
[null,null,null,"",{"$f":"IF(J165=\"\",\"\",CONCATENATE(AF165,DIGITADOR!$B$2,DIGITADOR!$M$1,J165))","v":""},{"$f":"IF(J165=\"\",\"\",CONCATENATE(DIGITADOR!$B$2,AF165,DIGITADOR!$M$1,J165,ROW()))","v":""},null,null,null,{"$f":"IF(X165=\"\",\"\", INDEX(referentes!$AH:$AL,MATCH(DATOS_MIP_SA!X165,referentes!$AI:$AI,0),1))","v":""},"",{"$f":"IF(AI165=\"\",\"\", INDEX(referentes!$D:$E,MATCH(DATOS_MIP_SA!AI165,referentes!$E:$E,0),1))","v":""},{"$f":"IF(AK165=\"\",\"\", INDEX(referentes!$A:$B,MATCH(DATOS_MIP_SA!AK165,referentes!$B:$B,0),1))","v":""},null,{"$f":"IF(AM165=\"\",\"\", INDEX(referentes!$S:$T,MATCH(AM165,referentes!$T:$T,0),1))","v":""},{"$f":"IF(AN165=\"\",\"\", INDEX(referentes!$Y:$Z,MATCH(AN165,referentes!$Z:$Z,0),1))","v":""},{"$f":"IF(AU165=\"\",\"\", INDEX(referentes!$V:$W,MATCH(DATOS_MIP_SA!AU165,referentes!$W:$W,0),1))","v":""},{"$f":"IF(AO165=\"\",\"\", INDEX(referentes!$AB:$AC,MATCH(DATOS_MIP_SA!AO165,referentes!$AC:$AC,0),1))","v":""},{"$f":"IF(AV165=\"\",\"\", INDEX('otras referencias'!$U:$V,MATCH(DATOS_MIP_SA!AV165,'otras referencias'!$V:$V,0),1))","v":""},{"$f":"IF(AW165=\"\",\"\", INDEX(referentes!$J:$K,MATCH(DATOS_MIP_SA!AW165,referentes!$K:$K,0),1))","v":""},null,null,null,null,null,null,{"$f":"IF(X165<>\"\",INDEX(referentes!$AH:$AL,MATCH(DATOS_MIP_SA!X165,referentes!$AI:$AI,0),5),\"\")","v":""}]
[null,null,null,"",{"$f":"IF(J166=\"\",\"\",CONCATENATE(AF166,DIGITADOR!$B$2,DIGITADOR!$M$1,J166))","v":""},{"$f":"IF(J166=\"\",\"\",CONCATENATE(DIGITADOR!$B$2,AF166,DIGITADOR!$M$1,J166,ROW()))","v":""},null,null,null,{"$f":"IF(X166=\"\",\"\", INDEX(referentes!$AH:$AL,MATCH(DATOS_MIP_SA!X166,referentes!$AI:$AI,0),1))","v":""},"",{"$f":"IF(AI166=\"\",\"\", INDEX(referentes!$D:$E,MATCH(DATOS_MIP_SA!AI166,referentes!$E:$E,0),1))","v":""},{"$f":"IF(AK166=\"\",\"\", INDEX(referentes!$A:$B,MATCH(DATOS_MIP_SA!AK166,referentes!$B:$B,0),1))","v":""},null,{"$f":"IF(AM166=\"\",\"\", INDEX(referentes!$S:$T,MATCH(AM166,referentes!$T:$T,0),1))","v":""},{"$f":"IF(AN166=\"\",\"\", INDEX(referentes!$Y:$Z,MATCH(AN166,referentes!$Z:$Z,0),1))","v":""},{"$f":"IF(AU166=\"\",\"\", INDEX(referentes!$V:$W,MATCH(DATOS_MIP_SA!AU166,referentes!$W:$W,0),1))","v":""},{"$f":"IF(AO166=\"\",\"\", INDEX(referentes!$AB:$AC,MATCH(DATOS_MIP_SA!AO166,referentes!$AC:$AC,0),1))","v":""},{"$f":"IF(AV166=\"\",\"\", INDEX('otras referencias'!$U:$V,MATCH(DATOS_MIP_SA!AV166,'otras referencias'!$V:$V,0),1))","v":""},{"$f":"IF(AW166=\"\",\"\", INDEX(referentes!$J:$K,MATCH(DATOS_MIP_SA!AW166,referentes!$K:$K,0),1))","v":""},null,null,null,null,null,null,{"$f":"IF(X166<>\"\",INDEX(referentes!$AH:$AL,MATCH(DATOS_MIP_SA!X166,referentes!$AI:$AI,0),5),\"\")","v":""}]
[null,null,null,"",{"$f":"IF(J167=\"\",\"\",CONCATENATE(AF167,DIGITADOR!$B$2,DIGITADOR!$M$1,J167))","v":""},{"$f":"IF(J167=\"\",\"\",CONCATENATE(DIGITADOR!$B$2,AF167,DIGITADOR!$M$1,J167,ROW()))","v":""},null,null,null,{"$f":"IF(X167=\"\",\"\", INDEX(referentes!$AH:$AL,MATCH(DATOS_MIP_SA!X167,referentes!$AI:$AI,0),1))","v":""},"",{"$f":"IF(AI167=\"\",\"\", INDEX(referentes!$D:$E,MATCH(DATOS_MIP_SA!AI167,referentes!$E:$E,0),1))","v":""},{"$f":"IF(AK167=\"\",\"\", INDEX(referentes!$A:$B,MATCH(DATOS_MIP_SA!AK167,referentes!$B:$B,0),1))","v":""},null,{"$f":"IF(AM167=\"\",\"\", INDEX(referentes!$S:$T,MATCH(AM167,referentes!$T:$T,0),1))","v":""},{"$f":"IF(AN167=\"\",\"\", INDEX(referentes!$Y:$Z,MATCH(AN167,referentes!$Z:$Z,0),1))","v":""},{"$f":"IF(AU167=\"\",\"\", INDEX(referentes!$V:$W,MATCH(DATOS_MIP_SA!AU167,referentes!$W:$W,0),1))","v":""},{"$f":"IF(AO167=\"\",\"\", INDEX(referentes!$AB:$AC,MATCH(DATOS_MIP_SA!AO167,referentes!$AC:$AC,0),1))","v":""},{"$f":"IF(AV167=\"\",\"\", INDEX('otras referencias'!$U:$V,MATCH(DATOS_MIP_SA!AV167,'otras referencias'!$V:$V,0),1))","v":""},{"$f":"IF(AW167=\"\",\"\", INDEX(referentes!$J:$K,MATCH(DATOS_MIP_SA!AW167,referentes!$K:$K,0),1))","v":""},null,null,null,null,null,null,{"$f":"IF(X167<>\"\",INDEX(referentes!$AH:$AL,MATCH(DATOS_MIP_SA!X167,referentes!$AI:$AI,0),5),\"\")","v":""}]
[null,null,null,"",{"$f":"IF(J168=\"\",\"\",CONCATENATE(AF168,DIGITADOR!$B$2,DIGITADOR!$M$1,J168))","v":""},{"$f":"IF(J168=\"\",\"\",CONCATENATE(DIGITADOR!$B$2,AF168,DIGITADOR!$M$1,J168,ROW()))","v":""},null,null,null,{"$f":"IF(X168=\"\",\"\", INDEX(referentes!$AH:$AL,MATCH(DATOS_MIP_SA!X168,referentes!$AI:$AI,0),1))","v":""},"",{"$f":"IF(AI168=\"\",\"\", INDEX(referentes!$D:$E,MATCH(DATOS_MIP_SA!AI168,referentes!$E:$E,0),1))","v":""},{"$f":"IF(AK168=\"\",\"\", INDEX(referentes!$A:$B,MATCH(DATOS_MIP_SA!AK168,referentes!$B:$B,0),1))","v":""},null,{"$f":"IF(AM168=\"\",\"\", INDEX(referentes!$S:$T,MATCH(AM168,referentes!$T:$T,0),1))","v":""},{"$f":"IF(AN168=\"\",\"\", INDEX(referentes!$Y:$Z,MATCH(AN168,referentes!$Z:$Z,0),1))","v":""},{"$f":"IF(AU168=\"\",\"\", INDEX(referentes!$V:$W,MATCH(DATOS_MIP_SA!AU168,referentes!$W:$W,0),1))","v":""},{"$f":"IF(AO168=\"\",\"\", INDEX(referentes!$AB:$AC,MATCH(DATOS_MIP_SA!AO168,referentes!$AC:$AC,0),1))","v":""},{"$f":"IF(AV168=\"\",\"\", INDEX('otras referencias'!$U:$V,MATCH(DATOS_MIP_SA!AV168,'otras referencias'!$V:$V,0),1))","v":""},{"$f":"IF(AW168=\"\",\"\", INDEX(referentes!$J:$K,MATCH(DATOS_MIP_SA!AW168,referentes!$K:$K,0),1))","v":""},null,null,null,null,null,null,{"$f":"IF(X168<>\"\",INDEX(referentes!$AH:$AL,MATCH(DATOS_MIP_SA!X168,referentes!$AI:$AI,0),5),\"\")","v":""}]
[null,null,null,"",{"$f":"IF(J169=\"\",\"\",CONCATENATE(AF169,DIGITADOR!$B$2,DIGITADOR!$M$1,J169))","v":""},{"$f":"IF(J169=\"\",\"\",CONCATENATE(DIGITADOR!$B$2,AF169,DIGITADOR!$M$1,J169,ROW()))","v":""},null,null,null,{"$f":"IF(X169=\"\",\"\", INDEX(referentes!$AH:$AL,MATCH(DATOS_MIP_SA!X169,referentes!$AI:$AI,0),1))","v":""},"",{"$f":"IF(AI169=\"\",\"\", INDEX(referentes!$D:$E,MATCH(DATOS_MIP_SA!AI169,referentes!$E:$E,0),1))","v":""},{"$f":"IF(AK169=\"\",\"\", INDEX(referentes!$A:$B,MATCH(DATOS_MIP_SA!AK169,referentes!$B:$B,0),1))","v":""},null,{"$f":"IF(AM169=\"\",\"\", INDEX(referentes!$S:$T,MATCH(AM169,referentes!$T:$T,0),1))","v":""},{"$f":"IF(AN169=\"\",\"\", INDEX(referentes!$Y:$Z,MATCH(AN169,referentes!$Z:$Z,0),1))","v":""},{"$f":"IF(AU169=\"\",\"\", INDEX(referentes!$V:$W,MATCH(DATOS_MIP_SA!AU169,referentes!$W:$W,0),1))","v":""},{"$f":"IF(AO169=\"\",\"\", INDEX(referentes!$AB:$AC,MATCH(DATOS_MIP_SA!AO169,referentes!$AC:$AC,0),1))","v":""},{"$f":"IF(AV169=\"\",\"\", INDEX('otras referencias'!$U:$V,MATCH(DATOS_MIP_SA!AV169,'otras referencias'!$V:$V,0),1))","v":""},{"$f":"IF(AW169=\"\",\"\", INDEX(referentes!$J:$K,MATCH(DATOS_MIP_SA!AW169,referentes!$K:$K,0),1))","v":""},null,null,null,null,null,null,{"$f":"IF(X169<>\"\",INDEX(referentes!$AH:$AL,MATCH(DATOS_MIP_SA!X169,referentes!$AI:$AI,0),5),\"\")","v":""}]
[null,null,null,"",{"$f":"IF(J170=\"\",\"\",CONCATENATE(AF170,DIGITADOR!$B$2,DIGITADOR!$M$1,J170))","v":""},{"$f":"IF(J170=\"\",\"\",CONCATENATE(DIGITADOR!$B$2,AF170,DIGITADOR!$M$1,J170,ROW()))","v":""},null,null,null,{"$f":"IF(X170=\"\",\"\", INDEX(referentes!$AH:$AL,MATCH(DATOS_MIP_SA!X170,referentes!$AI:$AI,0),1))","v":""},"",{"$f":"IF(AI170=\"\",\"\", INDEX(referentes!$D:$E,MATCH(DATOS_MIP_SA!AI170,referentes!$E:$E,0),1))","v":""},{"$f":"IF(AK170=\"\",\"\", INDEX(referentes!$A:$B,MATCH(DATOS_MIP_SA!AK170,referentes!$B:$B,0),1))","v":""},null,{"$f":"IF(AM170=\"\",\"\", INDEX(referentes!$S:$T,MATCH(AM170,referentes!$T:$T,0),1))","v":""},{"$f":"IF(AN170=\"\",\"\", INDEX(referentes!$Y:$Z,MATCH(AN170,referentes!$Z:$Z,0),1))","v":""},{"$f":"IF(AU170=\"\",\"\", INDEX(referentes!$V:$W,MATCH(DATOS_MIP_SA!AU170,referentes!$W:$W,0),1))","v":""},{"$f":"IF(AO170=\"\",\"\", INDEX(referentes!$AB:$AC,MATCH(DATOS_MIP_SA!AO170,referentes!$AC:$AC,0),1))","v":""},{"$f":"IF(AV170=\"\",\"\", INDEX('otras referencias'!$U:$V,MATCH(DATOS_MIP_SA!AV170,'otras referencias'!$V:$V,0),1))","v":""},{"$f":"IF(AW170=\"\",\"\", INDEX(referentes!$J:$K,MATCH(DATOS_MIP_SA!AW170,referentes!$K:$K,0),1))","v":""},null,null,null,null,null,null,{"$f":"IF(X170<>\"\",INDEX(referentes!$AH:$AL,MATCH(DATOS_MIP_SA!X170,referentes!$AI:$AI,0),5),\"\")","v":""}]
[null,null,null,"",{"$f":"IF(J171=\"\",\"\",CONCATENATE(AF171,DIGITADOR!$B$2,DIGITADOR!$M$1,J171))","v":""},{"$f":"IF(J171=\"\",\"\",CONCATENATE(DIGITADOR!$B$2,AF171,DIGITADOR!$M$1,J171,ROW()))","v":""},null,null,null,{"$f":"IF(X171=\"\",\"\", INDEX(referentes!$AH:$AL,MATCH(DATOS_MIP_SA!X171,referentes!$AI:$AI,0),1))","v":""},"",{"$f":"IF(AI171=\"\",\"\", INDEX(referentes!$D:$E,MATCH(DATOS_MIP_SA!AI171,referentes!$E:$E,0),1))","v":""},{"$f":"IF(AK171=\"\",\"\", INDEX(referentes!$A:$B,MATCH(DATOS_MIP_SA!AK171,referentes!$B:$B,0),1))","v":""},null,{"$f":"IF(AM171=\"\",\"\", INDEX(referentes!$S:$T,MATCH(AM171,referentes!$T:$T,0),1))","v":""},{"$f":"IF(AN171=\"\",\"\", INDEX(referentes!$Y:$Z,MATCH(AN171,referentes!$Z:$Z,0),1))","v":""},{"$f":"IF(AU171=\"\",\"\", INDEX(referentes!$V:$W,MATCH(DATOS_MIP_SA!AU171,referentes!$W:$W,0),1))","v":""},{"$f":"IF(AO171=\"\",\"\", INDEX(referentes!$AB:$AC,MATCH(DATOS_MIP_SA!AO171,referentes!$AC:$AC,0),1))","v":""},{"$f":"IF(AV171=\"\",\"\", INDEX('otras referencias'!$U:$V,MATCH(DATOS_MIP_SA!AV171,'otras referencias'!$V:$V,0),1))","v":""},{"$f":"IF(AW171=\"\",\"\", INDEX(referentes!$J:$K,MATCH(DATOS_MIP_SA!AW171,referentes!$K:$K,0),1))","v":""},null,null,null,null,null,null,{"$f":"IF(X171<>\"\",INDEX(referentes!$AH:$AL,MATCH(DATOS_MIP_SA!X171,referentes!$AI:$AI,0),5),\"\")","v":""}]
[null,null,null,"",{"$f":"IF(J172=\"\",\"\",CONCATENATE(AF172,DIGITADOR!$B$2,DIGITADOR!$M$1,J172))","v":""},{"$f":"IF(J172=\"\",\"\",CONCATENATE(DIGITADOR!$B$2,AF172,DIGITADOR!$M$1,J172,ROW()))","v":""},null,null,null,{"$f":"IF(X172=\"\",\"\", INDEX(referentes!$AH:$AL,MATCH(DATOS_MIP_SA!X172,referentes!$AI:$AI,0),1))","v":""},"",{"$f":"IF(AI172=\"\",\"\", INDEX(referentes!$D:$E,MATCH(DATOS_MIP_SA!AI172,referentes!$E:$E,0),1))","v":""},{"$f":"IF(AK172=\"\",\"\", INDEX(referentes!$A:$B,MATCH(DATOS_MIP_SA!AK172,referentes!$B:$B,0),1))","v":""},null,{"$f":"IF(AM172=\"\",\"\", INDEX(referentes!$S:$T,MATCH(AM172,referentes!$T:$T,0),1))","v":""},{"$f":"IF(AN172=\"\",\"\", INDEX(referentes!$Y:$Z,MATCH(AN172,referentes!$Z:$Z,0),1))","v":""},{"$f":"IF(AU172=\"\",\"\", INDEX(referentes!$V:$W,MATCH(DATOS_MIP_SA!AU172,referentes!$W:$W,0),1))","v":""},{"$f":"IF(AO172=\"\",\"\", INDEX(referentes!$AB:$AC,MATCH(DATOS_MIP_SA!AO172,referentes!$AC:$AC,0),1))","v":""},{"$f":"IF(AV172=\"\",\"\", INDEX('otras referencias'!$U:$V,MATCH(DATOS_MIP_SA!AV172,'otras referencias'!$V:$V,0),1))","v":""},{"$f":"IF(AW172=\"\",\"\", INDEX(referentes!$J:$K,MATCH(DATOS_MIP_SA!AW172,referentes!$K:$K,0),1))","v":""},null,null,null,null,null,null,{"$f":"IF(X172<>\"\",INDEX(referentes!$AH:$AL,MATCH(DATOS_MIP_SA!X172,referentes!$AI:$AI,0),5),\"\")","v":""}]
[null,null,null,"",{"$f":"IF(J173=\"\",\"\",CONCATENATE(AF173,DIGITADOR!$B$2,DIGITADOR!$M$1,J173))","v":""},{"$f":"IF(J173=\"\",\"\",CONCATENATE(DIGITADOR!$B$2,AF173,DIGITADOR!$M$1,J173,ROW()))","v":""},null,null,null,{"$f":"IF(X173=\"\",\"\", INDEX(referentes!$AH:$AL,MATCH(DATOS_MIP_SA!X173,referentes!$AI:$AI,0),1))","v":""},"",{"$f":"IF(AI173=\"\",\"\", INDEX(referentes!$D:$E,MATCH(DATOS_MIP_SA!AI173,referentes!$E:$E,0),1))","v":""},{"$f":"IF(AK173=\"\",\"\", INDEX(referentes!$A:$B,MATCH(DATOS_MIP_SA!AK173,referentes!$B:$B,0),1))","v":""},null,{"$f":"IF(AM173=\"\",\"\", INDEX(referentes!$S:$T,MATCH(AM173,referentes!$T:$T,0),1))","v":""},{"$f":"IF(AN173=\"\",\"\", INDEX(referentes!$Y:$Z,MATCH(AN173,referentes!$Z:$Z,0),1))","v":""},{"$f":"IF(AU173=\"\",\"\", INDEX(referentes!$V:$W,MATCH(DATOS_MIP_SA!AU173,referentes!$W:$W,0),1))","v":""},{"$f":"IF(AO173=\"\",\"\", INDEX(referentes!$AB:$AC,MATCH(DATOS_MIP_SA!AO173,referentes!$AC:$AC,0),1))","v":""},{"$f":"IF(AV173=\"\",\"\", INDEX('otras referencias'!$U:$V,MATCH(DATOS_MIP_SA!AV173,'otras referencias'!$V:$V,0),1))","v":""},{"$f":"IF(AW173=\"\",\"\", INDEX(referentes!$J:$K,MATCH(DATOS_MIP_SA!AW173,referentes!$K:$K,0),1))","v":""},null,null,null,null,null,null,{"$f":"IF(X173<>\"\",INDEX(referentes!$AH:$AL,MATCH(DATOS_MIP_SA!X173,referentes!$AI:$AI,0),5),\"\")","v":""}]
[null,null,null,"",{"$f":"IF(J174=\"\",\"\",CONCATENATE(AF174,DIGITADOR!$B$2,DIGITADOR!$M$1,J174))","v":""},{"$f":"IF(J174=\"\",\"\",CONCATENATE(DIGITADOR!$B$2,AF174,DIGITADOR!$M$1,J174,ROW()))","v":""},null,null,null,{"$f":"IF(X174=\"\",\"\", INDEX(referentes!$AH:$AL,MATCH(DATOS_MIP_SA!X174,referentes!$AI:$AI,0),1))","v":""},"",{"$f":"IF(AI174=\"\",\"\", INDEX(referentes!$D:$E,MATCH(DATOS_MIP_SA!AI174,referentes!$E:$E,0),1))","v":""},{"$f":"IF(AK174=\"\",\"\", INDEX(referentes!$A:$B,MATCH(DATOS_MIP_SA!AK174,referentes!$B:$B,0),1))","v":""},null,{"$f":"IF(AM174=\"\",\"\", INDEX(referentes!$S:$T,MATCH(AM174,referentes!$T:$T,0),1))","v":""},{"$f":"IF(AN174=\"\",\"\", INDEX(referentes!$Y:$Z,MATCH(AN174,referentes!$Z:$Z,0),1))","v":""},{"$f":"IF(AU174=\"\",\"\", INDEX(referentes!$V:$W,MATCH(DATOS_MIP_SA!AU174,referentes!$W:$W,0),1))","v":""},{"$f":"IF(AO174=\"\",\"\", INDEX(referentes!$AB:$AC,MATCH(DATOS_MIP_SA!AO174,referentes!$AC:$AC,0),1))","v":""},{"$f":"IF(AV174=\"\",\"\", INDEX('otras referencias'!$U:$V,MATCH(DATOS_MIP_SA!AV174,'otras referencias'!$V:$V,0),1))","v":""},{"$f":"IF(AW174=\"\",\"\", INDEX(referentes!$J:$K,MATCH(DATOS_MIP_SA!AW174,referentes!$K:$K,0),1))","v":""},null,null,null,null,null,null,{"$f":"IF(X174<>\"\",INDEX(referentes!$AH:$AL,MATCH(DATOS_MIP_SA!X174,referentes!$AI:$AI,0),5),\"\")","v":""}]
[null,null,null,"",{"$f":"IF(J175=\"\",\"\",CONCATENATE(AF175,DIGITADOR!$B$2,DIGITADOR!$M$1,J175))","v":""},{"$f":"IF(J175=\"\",\"\",CONCATENATE(DIGITADOR!$B$2,AF175,DIGITADOR!$M$1,J175,ROW()))","v":""},null,null,null,{"$f":"IF(X175=\"\",\"\", INDEX(referentes!$AH:$AL,MATCH(DATOS_MIP_SA!X175,referentes!$AI:$AI,0),1))","v":""},"",{"$f":"IF(AI175=\"\",\"\", INDEX(referentes!$D:$E,MATCH(DATOS_MIP_SA!AI175,referentes!$E:$E,0),1))","v":""},{"$f":"IF(AK175=\"\",\"\", INDEX(referentes!$A:$B,MATCH(DATOS_MIP_SA!AK175,referentes!$B:$B,0),1))","v":""},null,{"$f":"IF(AM175=\"\",\"\", INDEX(referentes!$S:$T,MATCH(AM175,referentes!$T:$T,0),1))","v":""},{"$f":"IF(AN175=\"\",\"\", INDEX(referentes!$Y:$Z,MATCH(AN175,referentes!$Z:$Z,0),1))","v":""},{"$f":"IF(AU175=\"\",\"\", INDEX(referentes!$V:$W,MATCH(DATOS_MIP_SA!AU175,referentes!$W:$W,0),1))","v":""},{"$f":"IF(AO175=\"\",\"\", INDEX(referentes!$AB:$AC,MATCH(DATOS_MIP_SA!AO175,referentes!$AC:$AC,0),1))","v":""},{"$f":"IF(AV175=\"\",\"\", INDEX('otras referencias'!$U:$V,MATCH(DATOS_MIP_SA!AV175,'otras referencias'!$V:$V,0),1))","v":""},{"$f":"IF(AW175=\"\",\"\", INDEX(referentes!$J:$K,MATCH(DATOS_MIP_SA!AW175,referentes!$K:$K,0),1))","v":""},null,null,null,null,null,null,{"$f":"IF(X175<>\"\",INDEX(referentes!$AH:$AL,MATCH(DATOS_MIP_SA!X175,referentes!$AI:$AI,0),5),\"\")","v":""}]
[null,null,null,"",{"$f":"IF(J176=\"\",\"\",CONCATENATE(AF176,DIGITADOR!$B$2,DIGITADOR!$M$1,J176))","v":""},{"$f":"IF(J176=\"\",\"\",CONCATENATE(DIGITADOR!$B$2,AF176,DIGITADOR!$M$1,J176,ROW()))","v":""},null,null,null,{"$f":"IF(X176=\"\",\"\", INDEX(referentes!$AH:$AL,MATCH(DATOS_MIP_SA!X176,referentes!$AI:$AI,0),1))","v":""},"",{"$f":"IF(AI176=\"\",\"\", INDEX(referentes!$D:$E,MATCH(DATOS_MIP_SA!AI176,referentes!$E:$E,0),1))","v":""},{"$f":"IF(AK176=\"\",\"\", INDEX(referentes!$A:$B,MATCH(DATOS_MIP_SA!AK176,referentes!$B:$B,0),1))","v":""},null,{"$f":"IF(AM176=\"\",\"\", INDEX(referentes!$S:$T,MATCH(AM176,referentes!$T:$T,0),1))","v":""},{"$f":"IF(AN176=\"\",\"\", INDEX(referentes!$Y:$Z,MATCH(AN176,referentes!$Z:$Z,0),1))","v":""},{"$f":"IF(AU176=\"\",\"\", INDEX(referentes!$V:$W,MATCH(DATOS_MIP_SA!AU176,referentes!$W:$W,0),1))","v":""},{"$f":"IF(AO176=\"\",\"\", INDEX(referentes!$AB:$AC,MATCH(DATOS_MIP_SA!AO176,referentes!$AC:$AC,0),1))","v":""},{"$f":"IF(AV176=\"\",\"\", INDEX('otras referencias'!$U:$V,MATCH(DATOS_MIP_SA!AV176,'otras referencias'!$V:$V,0),1))","v":""},{"$f":"IF(AW176=\"\",\"\", INDEX(referentes!$J:$K,MATCH(DATOS_MIP_SA!AW176,referentes!$K:$K,0),1))","v":""},null,null,null,null,null,null,{"$f":"IF(X176<>\"\",INDEX(referentes!$AH:$AL,MATCH(DATOS_MIP_SA!X176,referentes!$AI:$AI,0),5),\"\")","v":""}]
[null,null,null,"",{"$f":"IF(J177=\"\",\"\",CONCATENATE(AF177,DIGITADOR!$B$2,DIGITADOR!$M$1,J177))","v":""},{"$f":"IF(J177=\"\",\"\",CONCATENATE(DIGITADOR!$B$2,AF177,DIGITADOR!$M$1,J177,ROW()))","v":""},null,null,null,{"$f":"IF(X177=\"\",\"\", INDEX(referentes!$AH:$AL,MATCH(DATOS_MIP_SA!X177,referentes!$AI:$AI,0),1))","v":""},"",{"$f":"IF(AI177=\"\",\"\", INDEX(referentes!$D:$E,MATCH(DATOS_MIP_SA!AI177,referentes!$E:$E,0),1))","v":""},{"$f":"IF(AK177=\"\",\"\", INDEX(referentes!$A:$B,MATCH(DATOS_MIP_SA!AK177,referentes!$B:$B,0),1))","v":""},null,{"$f":"IF(AM177=\"\",\"\", INDEX(referentes!$S:$T,MATCH(AM177,referentes!$T:$T,0),1))","v":""},{"$f":"IF(AN177=\"\",\"\", INDEX(referentes!$Y:$Z,MATCH(AN177,referentes!$Z:$Z,0),1))","v":""},{"$f":"IF(AU177=\"\",\"\", INDEX(referentes!$V:$W,MATCH(DATOS_MIP_SA!AU177,referentes!$W:$W,0),1))","v":""},{"$f":"IF(AO177=\"\",\"\", INDEX(referentes!$AB:$AC,MATCH(DATOS_MIP_SA!AO177,referentes!$AC:$AC,0),1))","v":""},{"$f":"IF(AV177=\"\",\"\", INDEX('otras referencias'!$U:$V,MATCH(DATOS_MIP_SA!AV177,'otras referencias'!$V:$V,0),1))","v":""},{"$f":"IF(AW177=\"\",\"\", INDEX(referentes!$J:$K,MATCH(DATOS_MIP_SA!AW177,referentes!$K:$K,0),1))","v":""},null,null,null,null,null,null,{"$f":"IF(X177<>\"\",INDEX(referentes!$AH:$AL,MATCH(DATOS_MIP_SA!X177,referentes!$AI:$AI,0),5),\"\")","v":""}]
[null,null,null,"",{"$f":"IF(J178=\"\",\"\",CONCATENATE(AF178,DIGITADOR!$B$2,DIGITADOR!$M$1,J178))","v":""},{"$f":"IF(J178=\"\",\"\",CONCATENATE(DIGITADOR!$B$2,AF178,DIGITADOR!$M$1,J178,ROW()))","v":""},null,null,null,{"$f":"IF(X178=\"\",\"\", INDEX(referentes!$AH:$AL,MATCH(DATOS_MIP_SA!X178,referentes!$AI:$AI,0),1))","v":""},"",{"$f":"IF(AI178=\"\",\"\", INDEX(referentes!$D:$E,MATCH(DATOS_MIP_SA!AI178,referentes!$E:$E,0),1))","v":""},{"$f":"IF(AK178=\"\",\"\", INDEX(referentes!$A:$B,MATCH(DATOS_MIP_SA!AK178,referentes!$B:$B,0),1))","v":""},null,{"$f":"IF(AM178=\"\",\"\", INDEX(referentes!$S:$T,MATCH(AM178,referentes!$T:$T,0),1))","v":""},{"$f":"IF(AN178=\"\",\"\", INDEX(referentes!$Y:$Z,MATCH(AN178,referentes!$Z:$Z,0),1))","v":""},{"$f":"IF(AU178=\"\",\"\", INDEX(referentes!$V:$W,MATCH(DATOS_MIP_SA!AU178,referentes!$W:$W,0),1))","v":""},{"$f":"IF(AO178=\"\",\"\", INDEX(referentes!$AB:$AC,MATCH(DATOS_MIP_SA!AO178,referentes!$AC:$AC,0),1))","v":""},{"$f":"IF(AV178=\"\",\"\", INDEX('otras referencias'!$U:$V,MATCH(DATOS_MIP_SA!AV178,'otras referencias'!$V:$V,0),1))","v":""},{"$f":"IF(AW178=\"\",\"\", INDEX(referentes!$J:$K,MATCH(DATOS_MIP_SA!AW178,referentes!$K:$K,0),1))","v":""},null,null,null,null,null,null,{"$f":"IF(X178<>\"\",INDEX(referentes!$AH:$AL,MATCH(DATOS_MIP_SA!X178,referentes!$AI:$AI,0),5),\"\")","v":""}]
[null,null,null,"",{"$f":"IF(J179=\"\",\"\",CONCATENATE(AF179,DIGITADOR!$B$2,DIGITADOR!$M$1,J179))","v":""},{"$f":"IF(J179=\"\",\"\",CONCATENATE(DIGITADOR!$B$2,AF179,DIGITADOR!$M$1,J179,ROW()))","v":""},null,null,null,{"$f":"IF(X179=\"\",\"\", INDEX(referentes!$AH:$AL,MATCH(DATOS_MIP_SA!X179,referentes!$AI:$AI,0),1))","v":""},"",{"$f":"IF(AI179=\"\",\"\", INDEX(referentes!$D:$E,MATCH(DATOS_MIP_SA!AI179,referentes!$E:$E,0),1))","v":""},{"$f":"IF(AK179=\"\",\"\", INDEX(referentes!$A:$B,MATCH(DATOS_MIP_SA!AK179,referentes!$B:$B,0),1))","v":""},null,{"$f":"IF(AM179=\"\",\"\", INDEX(referentes!$S:$T,MATCH(AM179,referentes!$T:$T,0),1))","v":""},{"$f":"IF(AN179=\"\",\"\", INDEX(referentes!$Y:$Z,MATCH(AN179,referentes!$Z:$Z,0),1))","v":""},{"$f":"IF(AU179=\"\",\"\", INDEX(referentes!$V:$W,MATCH(DATOS_MIP_SA!AU179,referentes!$W:$W,0),1))","v":""},{"$f":"IF(AO179=\"\",\"\", INDEX(referentes!$AB:$AC,MATCH(DATOS_MIP_SA!AO179,referentes!$AC:$AC,0),1))","v":""},{"$f":"IF(AV179=\"\",\"\", INDEX('otras referencias'!$U:$V,MATCH(DATOS_MIP_SA!AV179,'otras referencias'!$V:$V,0),1))","v":""},{"$f":"IF(AW179=\"\",\"\", INDEX(referentes!$J:$K,MATCH(DATOS_MIP_SA!AW179,referentes!$K:$K,0),1))","v":""},null,null,null,null,null,null,{"$f":"IF(X179<>\"\",INDEX(referentes!$AH:$AL,MATCH(DATOS_MIP_SA!X179,referentes!$AI:$AI,0),5),\"\")","v":""}]
[null,null,null,"",{"$f":"IF(J180=\"\",\"\",CONCATENATE(AF180,DIGITADOR!$B$2,DIGITADOR!$M$1,J180))","v":""},{"$f":"IF(J180=\"\",\"\",CONCATENATE(DIGITADOR!$B$2,AF180,DIGITADOR!$M$1,J180,ROW()))","v":""},null,null,null,{"$f":"IF(X180=\"\",\"\", INDEX(referentes!$AH:$AL,MATCH(DATOS_MIP_SA!X180,referentes!$AI:$AI,0),1))","v":""},"",{"$f":"IF(AI180=\"\",\"\", INDEX(referentes!$D:$E,MATCH(DATOS_MIP_SA!AI180,referentes!$E:$E,0),1))","v":""},{"$f":"IF(AK180=\"\",\"\", INDEX(referentes!$A:$B,MATCH(DATOS_MIP_SA!AK180,referentes!$B:$B,0),1))","v":""},null,{"$f":"IF(AM180=\"\",\"\", INDEX(referentes!$S:$T,MATCH(AM180,referentes!$T:$T,0),1))","v":""},{"$f":"IF(AN180=\"\",\"\", INDEX(referentes!$Y:$Z,MATCH(AN180,referentes!$Z:$Z,0),1))","v":""},{"$f":"IF(AU180=\"\",\"\", INDEX(referentes!$V:$W,MATCH(DATOS_MIP_SA!AU180,referentes!$W:$W,0),1))","v":""},{"$f":"IF(AO180=\"\",\"\", INDEX(referentes!$AB:$AC,MATCH(DATOS_MIP_SA!AO180,referentes!$AC:$AC,0),1))","v":""},{"$f":"IF(AV180=\"\",\"\", INDEX('otras referencias'!$U:$V,MATCH(DATOS_MIP_SA!AV180,'otras referencias'!$V:$V,0),1))","v":""},{"$f":"IF(AW180=\"\",\"\", INDEX(referentes!$J:$K,MATCH(DATOS_MIP_SA!AW180,referentes!$K:$K,0),1))","v":""},null,null,null,null,null,null,{"$f":"IF(X180<>\"\",INDEX(referentes!$AH:$AL,MATCH(DATOS_MIP_SA!X180,referentes!$AI:$AI,0),5),\"\")","v":""}]
[null,null,null,"",{"$f":"IF(J181=\"\",\"\",CONCATENATE(AF181,DIGITADOR!$B$2,DIGITADOR!$M$1,J181))","v":""},{"$f":"IF(J181=\"\",\"\",CONCATENATE(DIGITADOR!$B$2,AF181,DIGITADOR!$M$1,J181,ROW()))","v":""},null,null,null,{"$f":"IF(X181=\"\",\"\", INDEX(referentes!$AH:$AL,MATCH(DATOS_MIP_SA!X181,referentes!$AI:$AI,0),1))","v":""},"",{"$f":"IF(AI181=\"\",\"\", INDEX(referentes!$D:$E,MATCH(DATOS_MIP_SA!AI181,referentes!$E:$E,0),1))","v":""},{"$f":"IF(AK181=\"\",\"\", INDEX(referentes!$A:$B,MATCH(DATOS_MIP_SA!AK181,referentes!$B:$B,0),1))","v":""},null,{"$f":"IF(AM181=\"\",\"\", INDEX(referentes!$S:$T,MATCH(AM181,referentes!$T:$T,0),1))","v":""},{"$f":"IF(AN181=\"\",\"\", INDEX(referentes!$Y:$Z,MATCH(AN181,referentes!$Z:$Z,0),1))","v":""},{"$f":"IF(AU181=\"\",\"\", INDEX(referentes!$V:$W,MATCH(DATOS_MIP_SA!AU181,referentes!$W:$W,0),1))","v":""},{"$f":"IF(AO181=\"\",\"\", INDEX(referentes!$AB:$AC,MATCH(DATOS_MIP_SA!AO181,referentes!$AC:$AC,0),1))","v":""},{"$f":"IF(AV181=\"\",\"\", INDEX('otras referencias'!$U:$V,MATCH(DATOS_MIP_SA!AV181,'otras referencias'!$V:$V,0),1))","v":""},{"$f":"IF(AW181=\"\",\"\", INDEX(referentes!$J:$K,MATCH(DATOS_MIP_SA!AW181,referentes!$K:$K,0),1))","v":""},null,null,null,null,null,null,{"$f":"IF(X181<>\"\",INDEX(referentes!$AH:$AL,MATCH(DATOS_MIP_SA!X181,referentes!$AI:$AI,0),5),\"\")","v":""}]
[null,null,null,"",{"$f":"IF(J182=\"\",\"\",CONCATENATE(AF182,DIGITADOR!$B$2,DIGITADOR!$M$1,J182))","v":""},{"$f":"IF(J182=\"\",\"\",CONCATENATE(DIGITADOR!$B$2,AF182,DIGITADOR!$M$1,J182,ROW()))","v":""},null,null,null,{"$f":"IF(X182=\"\",\"\", INDEX(referentes!$AH:$AL,MATCH(DATOS_MIP_SA!X182,referentes!$AI:$AI,0),1))","v":""},"",{"$f":"IF(AI182=\"\",\"\", INDEX(referentes!$D:$E,MATCH(DATOS_MIP_SA!AI182,referentes!$E:$E,0),1))","v":""},{"$f":"IF(AK182=\"\",\"\", INDEX(referentes!$A:$B,MATCH(DATOS_MIP_SA!AK182,referentes!$B:$B,0),1))","v":""},null,{"$f":"IF(AM182=\"\",\"\", INDEX(referentes!$S:$T,MATCH(AM182,referentes!$T:$T,0),1))","v":""},{"$f":"IF(AN182=\"\",\"\", INDEX(referentes!$Y:$Z,MATCH(AN182,referentes!$Z:$Z,0),1))","v":""},{"$f":"IF(AU182=\"\",\"\", INDEX(referentes!$V:$W,MATCH(DATOS_MIP_SA!AU182,referentes!$W:$W,0),1))","v":""},{"$f":"IF(AO182=\"\",\"\", INDEX(referentes!$AB:$AC,MATCH(DATOS_MIP_SA!AO182,referentes!$AC:$AC,0),1))","v":""},{"$f":"IF(AV182=\"\",\"\", INDEX('otras referencias'!$U:$V,MATCH(DATOS_MIP_SA!AV182,'otras referencias'!$V:$V,0),1))","v":""},{"$f":"IF(AW182=\"\",\"\", INDEX(referentes!$J:$K,MATCH(DATOS_MIP_SA!AW182,referentes!$K:$K,0),1))","v":""},null,null,null,null,null,null,{"$f":"IF(X182<>\"\",INDEX(referentes!$AH:$AL,MATCH(DATOS_MIP_SA!X182,referentes!$AI:$AI,0),5),\"\")","v":""}]
[null,null,null,"",{"$f":"IF(J183=\"\",\"\",CONCATENATE(AF183,DIGITADOR!$B$2,DIGITADOR!$M$1,J183))","v":""},{"$f":"IF(J183=\"\",\"\",CONCATENATE(DIGITADOR!$B$2,AF183,DIGITADOR!$M$1,J183,ROW()))","v":""},null,null,null,{"$f":"IF(X183=\"\",\"\", INDEX(referentes!$AH:$AL,MATCH(DATOS_MIP_SA!X183,referentes!$AI:$AI,0),1))","v":""},"",{"$f":"IF(AI183=\"\",\"\", INDEX(referentes!$D:$E,MATCH(DATOS_MIP_SA!AI183,referentes!$E:$E,0),1))","v":""},{"$f":"IF(AK183=\"\",\"\", INDEX(referentes!$A:$B,MATCH(DATOS_MIP_SA!AK183,referentes!$B:$B,0),1))","v":""},null,{"$f":"IF(AM183=\"\",\"\", INDEX(referentes!$S:$T,MATCH(AM183,referentes!$T:$T,0),1))","v":""},{"$f":"IF(AN183=\"\",\"\", INDEX(referentes!$Y:$Z,MATCH(AN183,referentes!$Z:$Z,0),1))","v":""},{"$f":"IF(AU183=\"\",\"\", INDEX(referentes!$V:$W,MATCH(DATOS_MIP_SA!AU183,referentes!$W:$W,0),1))","v":""},{"$f":"IF(AO183=\"\",\"\", INDEX(referentes!$AB:$AC,MATCH(DATOS_MIP_SA!AO183,referentes!$AC:$AC,0),1))","v":""},{"$f":"IF(AV183=\"\",\"\", INDEX('otras referencias'!$U:$V,MATCH(DATOS_MIP_SA!AV183,'otras referencias'!$V:$V,0),1))","v":""},{"$f":"IF(AW183=\"\",\"\", INDEX(referentes!$J:$K,MATCH(DATOS_MIP_SA!AW183,referentes!$K:$K,0),1))","v":""},null,null,null,null,null,null,{"$f":"IF(X183<>\"\",INDEX(referentes!$AH:$AL,MATCH(DATOS_MIP_SA!X183,referentes!$AI:$AI,0),5),\"\")","v":""}]
[null,null,null,"",{"$f":"IF(J184=\"\",\"\",CONCATENATE(AF184,DIGITADOR!$B$2,DIGITADOR!$M$1,J184))","v":""},{"$f":"IF(J184=\"\",\"\",CONCATENATE(DIGITADOR!$B$2,AF184,DIGITADOR!$M$1,J184,ROW()))","v":""},null,null,null,{"$f":"IF(X184=\"\",\"\", INDEX(referentes!$AH:$AL,MATCH(DATOS_MIP_SA!X184,referentes!$AI:$AI,0),1))","v":""},"",{"$f":"IF(AI184=\"\",\"\", INDEX(referentes!$D:$E,MATCH(DATOS_MIP_SA!AI184,referentes!$E:$E,0),1))","v":""},{"$f":"IF(AK184=\"\",\"\", INDEX(referentes!$A:$B,MATCH(DATOS_MIP_SA!AK184,referentes!$B:$B,0),1))","v":""},null,{"$f":"IF(AM184=\"\",\"\", INDEX(referentes!$S:$T,MATCH(AM184,referentes!$T:$T,0),1))","v":""},{"$f":"IF(AN184=\"\",\"\", INDEX(referentes!$Y:$Z,MATCH(AN184,referentes!$Z:$Z,0),1))","v":""},{"$f":"IF(AU184=\"\",\"\", INDEX(referentes!$V:$W,MATCH(DATOS_MIP_SA!AU184,referentes!$W:$W,0),1))","v":""},{"$f":"IF(AO184=\"\",\"\", INDEX(referentes!$AB:$AC,MATCH(DATOS_MIP_SA!AO184,referentes!$AC:$AC,0),1))","v":""},{"$f":"IF(AV184=\"\",\"\", INDEX('otras referencias'!$U:$V,MATCH(DATOS_MIP_SA!AV184,'otras referencias'!$V:$V,0),1))","v":""},{"$f":"IF(AW184=\"\",\"\", INDEX(referentes!$J:$K,MATCH(DATOS_MIP_SA!AW184,referentes!$K:$K,0),1))","v":""},null,null,null,null,null,null,{"$f":"IF(X184<>\"\",INDEX(referentes!$AH:$AL,MATCH(DATOS_MIP_SA!X184,referentes!$AI:$AI,0),5),\"\")","v":""}]
[null,null,null,"",{"$f":"IF(J185=\"\",\"\",CONCATENATE(AF185,DIGITADOR!$B$2,DIGITADOR!$M$1,J185))","v":""},{"$f":"IF(J185=\"\",\"\",CONCATENATE(DIGITADOR!$B$2,AF185,DIGITADOR!$M$1,J185,ROW()))","v":""},null,null,null,{"$f":"IF(X185=\"\",\"\", INDEX(referentes!$AH:$AL,MATCH(DATOS_MIP_SA!X185,referentes!$AI:$AI,0),1))","v":""},"",{"$f":"IF(AI185=\"\",\"\", INDEX(referentes!$D:$E,MATCH(DATOS_MIP_SA!AI185,referentes!$E:$E,0),1))","v":""},{"$f":"IF(AK185=\"\",\"\", INDEX(referentes!$A:$B,MATCH(DATOS_MIP_SA!AK185,referentes!$B:$B,0),1))","v":""},null,{"$f":"IF(AM185=\"\",\"\", INDEX(referentes!$S:$T,MATCH(AM185,referentes!$T:$T,0),1))","v":""},{"$f":"IF(AN185=\"\",\"\", INDEX(referentes!$Y:$Z,MATCH(AN185,referentes!$Z:$Z,0),1))","v":""},{"$f":"IF(AU185=\"\",\"\", INDEX(referentes!$V:$W,MATCH(DATOS_MIP_SA!AU185,referentes!$W:$W,0),1))","v":""},{"$f":"IF(AO185=\"\",\"\", INDEX(referentes!$AB:$AC,MATCH(DATOS_MIP_SA!AO185,referentes!$AC:$AC,0),1))","v":""},{"$f":"IF(AV185=\"\",\"\", INDEX('otras referencias'!$U:$V,MATCH(DATOS_MIP_SA!AV185,'otras referencias'!$V:$V,0),1))","v":""},{"$f":"IF(AW185=\"\",\"\", INDEX(referentes!$J:$K,MATCH(DATOS_MIP_SA!AW185,referentes!$K:$K,0),1))","v":""},null,null,null,null,null,null,{"$f":"IF(X185<>\"\",INDEX(referentes!$AH:$AL,MATCH(DATOS_MIP_SA!X185,referentes!$AI:$AI,0),5),\"\")","v":""}]
[null,null,null,"",{"$f":"IF(J186=\"\",\"\",CONCATENATE(AF186,DIGITADOR!$B$2,DIGITADOR!$M$1,J186))","v":""},{"$f":"IF(J186=\"\",\"\",CONCATENATE(DIGITADOR!$B$2,AF186,DIGITADOR!$M$1,J186,ROW()))","v":""},null,null,null,{"$f":"IF(X186=\"\",\"\", INDEX(referentes!$AH:$AL,MATCH(DATOS_MIP_SA!X186,referentes!$AI:$AI,0),1))","v":""},"",{"$f":"IF(AI186=\"\",\"\", INDEX(referentes!$D:$E,MATCH(DATOS_MIP_SA!AI186,referentes!$E:$E,0),1))","v":""},{"$f":"IF(AK186=\"\",\"\", INDEX(referentes!$A:$B,MATCH(DATOS_MIP_SA!AK186,referentes!$B:$B,0),1))","v":""},null,{"$f":"IF(AM186=\"\",\"\", INDEX(referentes!$S:$T,MATCH(AM186,referentes!$T:$T,0),1))","v":""},{"$f":"IF(AN186=\"\",\"\", INDEX(referentes!$Y:$Z,MATCH(AN186,referentes!$Z:$Z,0),1))","v":""},{"$f":"IF(AU186=\"\",\"\", INDEX(referentes!$V:$W,MATCH(DATOS_MIP_SA!AU186,referentes!$W:$W,0),1))","v":""},{"$f":"IF(AO186=\"\",\"\", INDEX(referentes!$AB:$AC,MATCH(DATOS_MIP_SA!AO186,referentes!$AC:$AC,0),1))","v":""},{"$f":"IF(AV186=\"\",\"\", INDEX('otras referencias'!$U:$V,MATCH(DATOS_MIP_SA!AV186,'otras referencias'!$V:$V,0),1))","v":""},{"$f":"IF(AW186=\"\",\"\", INDEX(referentes!$J:$K,MATCH(DATOS_MIP_SA!AW186,referentes!$K:$K,0),1))","v":""},null,null,null,null,null,null,{"$f":"IF(X186<>\"\",INDEX(referentes!$AH:$AL,MATCH(DATOS_MIP_SA!X186,referentes!$AI:$AI,0),5),\"\")","v":""}]
[null,null,null,"",{"$f":"IF(J187=\"\",\"\",CONCATENATE(AF187,DIGITADOR!$B$2,DIGITADOR!$M$1,J187))","v":""},{"$f":"IF(J187=\"\",\"\",CONCATENATE(DIGITADOR!$B$2,AF187,DIGITADOR!$M$1,J187,ROW()))","v":""},null,null,null,{"$f":"IF(X187=\"\",\"\", INDEX(referentes!$AH:$AL,MATCH(DATOS_MIP_SA!X187,referentes!$AI:$AI,0),1))","v":""},"",{"$f":"IF(AI187=\"\",\"\", INDEX(referentes!$D:$E,MATCH(DATOS_MIP_SA!AI187,referentes!$E:$E,0),1))","v":""},{"$f":"IF(AK187=\"\",\"\", INDEX(referentes!$A:$B,MATCH(DATOS_MIP_SA!AK187,referentes!$B:$B,0),1))","v":""},null,{"$f":"IF(AM187=\"\",\"\", INDEX(referentes!$S:$T,MATCH(AM187,referentes!$T:$T,0),1))","v":""},{"$f":"IF(AN187=\"\",\"\", INDEX(referentes!$Y:$Z,MATCH(AN187,referentes!$Z:$Z,0),1))","v":""},{"$f":"IF(AU187=\"\",\"\", INDEX(referentes!$V:$W,MATCH(DATOS_MIP_SA!AU187,referentes!$W:$W,0),1))","v":""},{"$f":"IF(AO187=\"\",\"\", INDEX(referentes!$AB:$AC,MATCH(DATOS_MIP_SA!AO187,referentes!$AC:$AC,0),1))","v":""},{"$f":"IF(AV187=\"\",\"\", INDEX('otras referencias'!$U:$V,MATCH(DATOS_MIP_SA!AV187,'otras referencias'!$V:$V,0),1))","v":""},{"$f":"IF(AW187=\"\",\"\", INDEX(referentes!$J:$K,MATCH(DATOS_MIP_SA!AW187,referentes!$K:$K,0),1))","v":""},null,null,null,null,null,null,{"$f":"IF(X187<>\"\",INDEX(referentes!$AH:$AL,MATCH(DATOS_MIP_SA!X187,referentes!$AI:$AI,0),5),\"\")","v":""}]
[null,null,null,"",{"$f":"IF(J188=\"\",\"\",CONCATENATE(AF188,DIGITADOR!$B$2,DIGITADOR!$M$1,J188))","v":""},{"$f":"IF(J188=\"\",\"\",CONCATENATE(DIGITADOR!$B$2,AF188,DIGITADOR!$M$1,J188,ROW()))","v":""},null,null,null,{"$f":"IF(X188=\"\",\"\", INDEX(referentes!$AH:$AL,MATCH(DATOS_MIP_SA!X188,referentes!$AI:$AI,0),1))","v":""},"",{"$f":"IF(AI188=\"\",\"\", INDEX(referentes!$D:$E,MATCH(DATOS_MIP_SA!AI188,referentes!$E:$E,0),1))","v":""},{"$f":"IF(AK188=\"\",\"\", INDEX(referentes!$A:$B,MATCH(DATOS_MIP_SA!AK188,referentes!$B:$B,0),1))","v":""},null,{"$f":"IF(AM188=\"\",\"\", INDEX(referentes!$S:$T,MATCH(AM188,referentes!$T:$T,0),1))","v":""},{"$f":"IF(AN188=\"\",\"\", INDEX(referentes!$Y:$Z,MATCH(AN188,referentes!$Z:$Z,0),1))","v":""},{"$f":"IF(AU188=\"\",\"\", INDEX(referentes!$V:$W,MATCH(DATOS_MIP_SA!AU188,referentes!$W:$W,0),1))","v":""},{"$f":"IF(AO188=\"\",\"\", INDEX(referentes!$AB:$AC,MATCH(DATOS_MIP_SA!AO188,referentes!$AC:$AC,0),1))","v":""},{"$f":"IF(AV188=\"\",\"\", INDEX('otras referencias'!$U:$V,MATCH(DATOS_MIP_SA!AV188,'otras referencias'!$V:$V,0),1))","v":""},{"$f":"IF(AW188=\"\",\"\", INDEX(referentes!$J:$K,MATCH(DATOS_MIP_SA!AW188,referentes!$K:$K,0),1))","v":""},null,null,null,null,null,null,{"$f":"IF(X188<>\"\",INDEX(referentes!$AH:$AL,MATCH(DATOS_MIP_SA!X188,referentes!$AI:$AI,0),5),\"\")","v":""}]
[null,null,null,"",{"$f":"IF(J189=\"\",\"\",CONCATENATE(AF189,DIGITADOR!$B$2,DIGITADOR!$M$1,J189))","v":""},{"$f":"IF(J189=\"\",\"\",CONCATENATE(DIGITADOR!$B$2,AF189,DIGITADOR!$M$1,J189,ROW()))","v":""},null,null,null,{"$f":"IF(X189=\"\",\"\", INDEX(referentes!$AH:$AL,MATCH(DATOS_MIP_SA!X189,referentes!$AI:$AI,0),1))","v":""},"",{"$f":"IF(AI189=\"\",\"\", INDEX(referentes!$D:$E,MATCH(DATOS_MIP_SA!AI189,referentes!$E:$E,0),1))","v":""},{"$f":"IF(AK189=\"\",\"\", INDEX(referentes!$A:$B,MATCH(DATOS_MIP_SA!AK189,referentes!$B:$B,0),1))","v":""},null,{"$f":"IF(AM189=\"\",\"\", INDEX(referentes!$S:$T,MATCH(AM189,referentes!$T:$T,0),1))","v":""},{"$f":"IF(AN189=\"\",\"\", INDEX(referentes!$Y:$Z,MATCH(AN189,referentes!$Z:$Z,0),1))","v":""},{"$f":"IF(AU189=\"\",\"\", INDEX(referentes!$V:$W,MATCH(DATOS_MIP_SA!AU189,referentes!$W:$W,0),1))","v":""},{"$f":"IF(AO189=\"\",\"\", INDEX(referentes!$AB:$AC,MATCH(DATOS_MIP_SA!AO189,referentes!$AC:$AC,0),1))","v":""},{"$f":"IF(AV189=\"\",\"\", INDEX('otras referencias'!$U:$V,MATCH(DATOS_MIP_SA!AV189,'otras referencias'!$V:$V,0),1))","v":""},{"$f":"IF(AW189=\"\",\"\", INDEX(referentes!$J:$K,MATCH(DATOS_MIP_SA!AW189,referentes!$K:$K,0),1))","v":""},null,null,null,null,null,null,{"$f":"IF(X189<>\"\",INDEX(referentes!$AH:$AL,MATCH(DATOS_MIP_SA!X189,referentes!$AI:$AI,0),5),\"\")","v":""}]
[null,null,null,"",{"$f":"IF(J190=\"\",\"\",CONCATENATE(AF190,DIGITADOR!$B$2,DIGITADOR!$M$1,J190))","v":""},{"$f":"IF(J190=\"\",\"\",CONCATENATE(DIGITADOR!$B$2,AF190,DIGITADOR!$M$1,J190,ROW()))","v":""},null,null,null,{"$f":"IF(X190=\"\",\"\", INDEX(referentes!$AH:$AL,MATCH(DATOS_MIP_SA!X190,referentes!$AI:$AI,0),1))","v":""},"",{"$f":"IF(AI190=\"\",\"\", INDEX(referentes!$D:$E,MATCH(DATOS_MIP_SA!AI190,referentes!$E:$E,0),1))","v":""},{"$f":"IF(AK190=\"\",\"\", INDEX(referentes!$A:$B,MATCH(DATOS_MIP_SA!AK190,referentes!$B:$B,0),1))","v":""},null,{"$f":"IF(AM190=\"\",\"\", INDEX(referentes!$S:$T,MATCH(AM190,referentes!$T:$T,0),1))","v":""},{"$f":"IF(AN190=\"\",\"\", INDEX(referentes!$Y:$Z,MATCH(AN190,referentes!$Z:$Z,0),1))","v":""},{"$f":"IF(AU190=\"\",\"\", INDEX(referentes!$V:$W,MATCH(DATOS_MIP_SA!AU190,referentes!$W:$W,0),1))","v":""},{"$f":"IF(AO190=\"\",\"\", INDEX(referentes!$AB:$AC,MATCH(DATOS_MIP_SA!AO190,referentes!$AC:$AC,0),1))","v":""},{"$f":"IF(AV190=\"\",\"\", INDEX('otras referencias'!$U:$V,MATCH(DATOS_MIP_SA!AV190,'otras referencias'!$V:$V,0),1))","v":""},{"$f":"IF(AW190=\"\",\"\", INDEX(referentes!$J:$K,MATCH(DATOS_MIP_SA!AW190,referentes!$K:$K,0),1))","v":""},null,null,null,null,null,null,{"$f":"IF(X190<>\"\",INDEX(referentes!$AH:$AL,MATCH(DATOS_MIP_SA!X190,referentes!$AI:$AI,0),5),\"\")","v":""}]
[null,null,null,"",{"$f":"IF(J191=\"\",\"\",CONCATENATE(AF191,DIGITADOR!$B$2,DIGITADOR!$M$1,J191))","v":""},{"$f":"IF(J191=\"\",\"\",CONCATENATE(DIGITADOR!$B$2,AF191,DIGITADOR!$M$1,J191,ROW()))","v":""},null,null,null,{"$f":"IF(X191=\"\",\"\", INDEX(referentes!$AH:$AL,MATCH(DATOS_MIP_SA!X191,referentes!$AI:$AI,0),1))","v":""},"",{"$f":"IF(AI191=\"\",\"\", INDEX(referentes!$D:$E,MATCH(DATOS_MIP_SA!AI191,referentes!$E:$E,0),1))","v":""},{"$f":"IF(AK191=\"\",\"\", INDEX(referentes!$A:$B,MATCH(DATOS_MIP_SA!AK191,referentes!$B:$B,0),1))","v":""},null,{"$f":"IF(AM191=\"\",\"\", INDEX(referentes!$S:$T,MATCH(AM191,referentes!$T:$T,0),1))","v":""},{"$f":"IF(AN191=\"\",\"\", INDEX(referentes!$Y:$Z,MATCH(AN191,referentes!$Z:$Z,0),1))","v":""},{"$f":"IF(AU191=\"\",\"\", INDEX(referentes!$V:$W,MATCH(DATOS_MIP_SA!AU191,referentes!$W:$W,0),1))","v":""},{"$f":"IF(AO191=\"\",\"\", INDEX(referentes!$AB:$AC,MATCH(DATOS_MIP_SA!AO191,referentes!$AC:$AC,0),1))","v":""},{"$f":"IF(AV191=\"\",\"\", INDEX('otras referencias'!$U:$V,MATCH(DATOS_MIP_SA!AV191,'otras referencias'!$V:$V,0),1))","v":""},{"$f":"IF(AW191=\"\",\"\", INDEX(referentes!$J:$K,MATCH(DATOS_MIP_SA!AW191,referentes!$K:$K,0),1))","v":""},null,null,null,null,null,null,{"$f":"IF(X191<>\"\",INDEX(referentes!$AH:$AL,MATCH(DATOS_MIP_SA!X191,referentes!$AI:$AI,0),5),\"\")","v":""}]
[null,null,null,"",{"$f":"IF(J192=\"\",\"\",CONCATENATE(AF192,DIGITADOR!$B$2,DIGITADOR!$M$1,J192))","v":""},{"$f":"IF(J192=\"\",\"\",CONCATENATE(DIGITADOR!$B$2,AF192,DIGITADOR!$M$1,J192,ROW()))","v":""},null,null,null,{"$f":"IF(X192=\"\",\"\", INDEX(referentes!$AH:$AL,MATCH(DATOS_MIP_SA!X192,referentes!$AI:$AI,0),1))","v":""},"",{"$f":"IF(AI192=\"\",\"\", INDEX(referentes!$D:$E,MATCH(DATOS_MIP_SA!AI192,referentes!$E:$E,0),1))","v":""},{"$f":"IF(AK192=\"\",\"\", INDEX(referentes!$A:$B,MATCH(DATOS_MIP_SA!AK192,referentes!$B:$B,0),1))","v":""},null,{"$f":"IF(AM192=\"\",\"\", INDEX(referentes!$S:$T,MATCH(AM192,referentes!$T:$T,0),1))","v":""},{"$f":"IF(AN192=\"\",\"\", INDEX(referentes!$Y:$Z,MATCH(AN192,referentes!$Z:$Z,0),1))","v":""},{"$f":"IF(AU192=\"\",\"\", INDEX(referentes!$V:$W,MATCH(DATOS_MIP_SA!AU192,referentes!$W:$W,0),1))","v":""},{"$f":"IF(AO192=\"\",\"\", INDEX(referentes!$AB:$AC,MATCH(DATOS_MIP_SA!AO192,referentes!$AC:$AC,0),1))","v":""},{"$f":"IF(AV192=\"\",\"\", INDEX('otras referencias'!$U:$V,MATCH(DATOS_MIP_SA!AV192,'otras referencias'!$V:$V,0),1))","v":""},{"$f":"IF(AW192=\"\",\"\", INDEX(referentes!$J:$K,MATCH(DATOS_MIP_SA!AW192,referentes!$K:$K,0),1))","v":""},null,null,null,null,null,null,{"$f":"IF(X192<>\"\",INDEX(referentes!$AH:$AL,MATCH(DATOS_MIP_SA!X192,referentes!$AI:$AI,0),5),\"\")","v":""}]
[null,null,null,"",{"$f":"IF(J193=\"\",\"\",CONCATENATE(AF193,DIGITADOR!$B$2,DIGITADOR!$M$1,J193))","v":""},{"$f":"IF(J193=\"\",\"\",CONCATENATE(DIGITADOR!$B$2,AF193,DIGITADOR!$M$1,J193,ROW()))","v":""},null,null,null,{"$f":"IF(X193=\"\",\"\", INDEX(referentes!$AH:$AL,MATCH(DATOS_MIP_SA!X193,referentes!$AI:$AI,0),1))","v":""},"",{"$f":"IF(AI193=\"\",\"\", INDEX(referentes!$D:$E,MATCH(DATOS_MIP_SA!AI193,referentes!$E:$E,0),1))","v":""},{"$f":"IF(AK193=\"\",\"\", INDEX(referentes!$A:$B,MATCH(DATOS_MIP_SA!AK193,referentes!$B:$B,0),1))","v":""},null,{"$f":"IF(AM193=\"\",\"\", INDEX(referentes!$S:$T,MATCH(AM193,referentes!$T:$T,0),1))","v":""},{"$f":"IF(AN193=\"\",\"\", INDEX(referentes!$Y:$Z,MATCH(AN193,referentes!$Z:$Z,0),1))","v":""},{"$f":"IF(AU193=\"\",\"\", INDEX(referentes!$V:$W,MATCH(DATOS_MIP_SA!AU193,referentes!$W:$W,0),1))","v":""},{"$f":"IF(AO193=\"\",\"\", INDEX(referentes!$AB:$AC,MATCH(DATOS_MIP_SA!AO193,referentes!$AC:$AC,0),1))","v":""},{"$f":"IF(AV193=\"\",\"\", INDEX('otras referencias'!$U:$V,MATCH(DATOS_MIP_SA!AV193,'otras referencias'!$V:$V,0),1))","v":""},{"$f":"IF(AW193=\"\",\"\", INDEX(referentes!$J:$K,MATCH(DATOS_MIP_SA!AW193,referentes!$K:$K,0),1))","v":""},null,null,null,null,null,null,{"$f":"IF(X193<>\"\",INDEX(referentes!$AH:$AL,MATCH(DATOS_MIP_SA!X193,referentes!$AI:$AI,0),5),\"\")","v":""}]
[null,null,null,"",{"$f":"IF(J194=\"\",\"\",CONCATENATE(AF194,DIGITADOR!$B$2,DIGITADOR!$M$1,J194))","v":""},{"$f":"IF(J194=\"\",\"\",CONCATENATE(DIGITADOR!$B$2,AF194,DIGITADOR!$M$1,J194,ROW()))","v":""},null,null,null,{"$f":"IF(X194=\"\",\"\", INDEX(referentes!$AH:$AL,MATCH(DATOS_MIP_SA!X194,referentes!$AI:$AI,0),1))","v":""},"",{"$f":"IF(AI194=\"\",\"\", INDEX(referentes!$D:$E,MATCH(DATOS_MIP_SA!AI194,referentes!$E:$E,0),1))","v":""},{"$f":"IF(AK194=\"\",\"\", INDEX(referentes!$A:$B,MATCH(DATOS_MIP_SA!AK194,referentes!$B:$B,0),1))","v":""},null,{"$f":"IF(AM194=\"\",\"\", INDEX(referentes!$S:$T,MATCH(AM194,referentes!$T:$T,0),1))","v":""},{"$f":"IF(AN194=\"\",\"\", INDEX(referentes!$Y:$Z,MATCH(AN194,referentes!$Z:$Z,0),1))","v":""},{"$f":"IF(AU194=\"\",\"\", INDEX(referentes!$V:$W,MATCH(DATOS_MIP_SA!AU194,referentes!$W:$W,0),1))","v":""},{"$f":"IF(AO194=\"\",\"\", INDEX(referentes!$AB:$AC,MATCH(DATOS_MIP_SA!AO194,referentes!$AC:$AC,0),1))","v":""},{"$f":"IF(AV194=\"\",\"\", INDEX('otras referencias'!$U:$V,MATCH(DATOS_MIP_SA!AV194,'otras referencias'!$V:$V,0),1))","v":""},{"$f":"IF(AW194=\"\",\"\", INDEX(referentes!$J:$K,MATCH(DATOS_MIP_SA!AW194,referentes!$K:$K,0),1))","v":""},null,null,null,null,null,null,{"$f":"IF(X194<>\"\",INDEX(referentes!$AH:$AL,MATCH(DATOS_MIP_SA!X194,referentes!$AI:$AI,0),5),\"\")","v":""}]
[null,null,null,"",{"$f":"IF(J195=\"\",\"\",CONCATENATE(AF195,DIGITADOR!$B$2,DIGITADOR!$M$1,J195))","v":""},{"$f":"IF(J195=\"\",\"\",CONCATENATE(DIGITADOR!$B$2,AF195,DIGITADOR!$M$1,J195,ROW()))","v":""},null,null,null,{"$f":"IF(X195=\"\",\"\", INDEX(referentes!$AH:$AL,MATCH(DATOS_MIP_SA!X195,referentes!$AI:$AI,0),1))","v":""},"",{"$f":"IF(AI195=\"\",\"\", INDEX(referentes!$D:$E,MATCH(DATOS_MIP_SA!AI195,referentes!$E:$E,0),1))","v":""},{"$f":"IF(AK195=\"\",\"\", INDEX(referentes!$A:$B,MATCH(DATOS_MIP_SA!AK195,referentes!$B:$B,0),1))","v":""},null,{"$f":"IF(AM195=\"\",\"\", INDEX(referentes!$S:$T,MATCH(AM195,referentes!$T:$T,0),1))","v":""},{"$f":"IF(AN195=\"\",\"\", INDEX(referentes!$Y:$Z,MATCH(AN195,referentes!$Z:$Z,0),1))","v":""},{"$f":"IF(AU195=\"\",\"\", INDEX(referentes!$V:$W,MATCH(DATOS_MIP_SA!AU195,referentes!$W:$W,0),1))","v":""},{"$f":"IF(AO195=\"\",\"\", INDEX(referentes!$AB:$AC,MATCH(DATOS_MIP_SA!AO195,referentes!$AC:$AC,0),1))","v":""},{"$f":"IF(AV195=\"\",\"\", INDEX('otras referencias'!$U:$V,MATCH(DATOS_MIP_SA!AV195,'otras referencias'!$V:$V,0),1))","v":""},{"$f":"IF(AW195=\"\",\"\", INDEX(referentes!$J:$K,MATCH(DATOS_MIP_SA!AW195,referentes!$K:$K,0),1))","v":""},null,null,null,null,null,null,{"$f":"IF(X195<>\"\",INDEX(referentes!$AH:$AL,MATCH(DATOS_MIP_SA!X195,referentes!$AI:$AI,0),5),\"\")","v":""}]
[null,null,null,"",{"$f":"IF(J196=\"\",\"\",CONCATENATE(AF196,DIGITADOR!$B$2,DIGITADOR!$M$1,J196))","v":""},{"$f":"IF(J196=\"\",\"\",CONCATENATE(DIGITADOR!$B$2,AF196,DIGITADOR!$M$1,J196,ROW()))","v":""},null,null,null,{"$f":"IF(X196=\"\",\"\", INDEX(referentes!$AH:$AL,MATCH(DATOS_MIP_SA!X196,referentes!$AI:$AI,0),1))","v":""},"",{"$f":"IF(AI196=\"\",\"\", INDEX(referentes!$D:$E,MATCH(DATOS_MIP_SA!AI196,referentes!$E:$E,0),1))","v":""},{"$f":"IF(AK196=\"\",\"\", INDEX(referentes!$A:$B,MATCH(DATOS_MIP_SA!AK196,referentes!$B:$B,0),1))","v":""},null,{"$f":"IF(AM196=\"\",\"\", INDEX(referentes!$S:$T,MATCH(AM196,referentes!$T:$T,0),1))","v":""},{"$f":"IF(AN196=\"\",\"\", INDEX(referentes!$Y:$Z,MATCH(AN196,referentes!$Z:$Z,0),1))","v":""},{"$f":"IF(AU196=\"\",\"\", INDEX(referentes!$V:$W,MATCH(DATOS_MIP_SA!AU196,referentes!$W:$W,0),1))","v":""},{"$f":"IF(AO196=\"\",\"\", INDEX(referentes!$AB:$AC,MATCH(DATOS_MIP_SA!AO196,referentes!$AC:$AC,0),1))","v":""},{"$f":"IF(AV196=\"\",\"\", INDEX('otras referencias'!$U:$V,MATCH(DATOS_MIP_SA!AV196,'otras referencias'!$V:$V,0),1))","v":""},{"$f":"IF(AW196=\"\",\"\", INDEX(referentes!$J:$K,MATCH(DATOS_MIP_SA!AW196,referentes!$K:$K,0),1))","v":""},null,null,null,null,null,null,{"$f":"IF(X196<>\"\",INDEX(referentes!$AH:$AL,MATCH(DATOS_MIP_SA!X196,referentes!$AI:$AI,0),5),\"\")","v":""}]
[null,null,null,"",{"$f":"IF(J197=\"\",\"\",CONCATENATE(AF197,DIGITADOR!$B$2,DIGITADOR!$M$1,J197))","v":""},{"$f":"IF(J197=\"\",\"\",CONCATENATE(DIGITADOR!$B$2,AF197,DIGITADOR!$M$1,J197,ROW()))","v":""},null,null,null,{"$f":"IF(X197=\"\",\"\", INDEX(referentes!$AH:$AL,MATCH(DATOS_MIP_SA!X197,referentes!$AI:$AI,0),1))","v":""},"",{"$f":"IF(AI197=\"\",\"\", INDEX(referentes!$D:$E,MATCH(DATOS_MIP_SA!AI197,referentes!$E:$E,0),1))","v":""},{"$f":"IF(AK197=\"\",\"\", INDEX(referentes!$A:$B,MATCH(DATOS_MIP_SA!AK197,referentes!$B:$B,0),1))","v":""},null,{"$f":"IF(AM197=\"\",\"\", INDEX(referentes!$S:$T,MATCH(AM197,referentes!$T:$T,0),1))","v":""},{"$f":"IF(AN197=\"\",\"\", INDEX(referentes!$Y:$Z,MATCH(AN197,referentes!$Z:$Z,0),1))","v":""},{"$f":"IF(AU197=\"\",\"\", INDEX(referentes!$V:$W,MATCH(DATOS_MIP_SA!AU197,referentes!$W:$W,0),1))","v":""},{"$f":"IF(AO197=\"\",\"\", INDEX(referentes!$AB:$AC,MATCH(DATOS_MIP_SA!AO197,referentes!$AC:$AC,0),1))","v":""},{"$f":"IF(AV197=\"\",\"\", INDEX('otras referencias'!$U:$V,MATCH(DATOS_MIP_SA!AV197,'otras referencias'!$V:$V,0),1))","v":""},{"$f":"IF(AW197=\"\",\"\", INDEX(referentes!$J:$K,MATCH(DATOS_MIP_SA!AW197,referentes!$K:$K,0),1))","v":""},null,null,null,null,null,null,{"$f":"IF(X197<>\"\",INDEX(referentes!$AH:$AL,MATCH(DATOS_MIP_SA!X197,referentes!$AI:$AI,0),5),\"\")","v":""}]
[null,null,null,"",{"$f":"IF(J198=\"\",\"\",CONCATENATE(AF198,DIGITADOR!$B$2,DIGITADOR!$M$1,J198))","v":""},{"$f":"IF(J198=\"\",\"\",CONCATENATE(DIGITADOR!$B$2,AF198,DIGITADOR!$M$1,J198,ROW()))","v":""},null,null,null,{"$f":"IF(X198=\"\",\"\", INDEX(referentes!$AH:$AL,MATCH(DATOS_MIP_SA!X198,referentes!$AI:$AI,0),1))","v":""},"",{"$f":"IF(AI198=\"\",\"\", INDEX(referentes!$D:$E,MATCH(DATOS_MIP_SA!AI198,referentes!$E:$E,0),1))","v":""},{"$f":"IF(AK198=\"\",\"\", INDEX(referentes!$A:$B,MATCH(DATOS_MIP_SA!AK198,referentes!$B:$B,0),1))","v":""},null,{"$f":"IF(AM198=\"\",\"\", INDEX(referentes!$S:$T,MATCH(AM198,referentes!$T:$T,0),1))","v":""},{"$f":"IF(AN198=\"\",\"\", INDEX(referentes!$Y:$Z,MATCH(AN198,referentes!$Z:$Z,0),1))","v":""},{"$f":"IF(AU198=\"\",\"\", INDEX(referentes!$V:$W,MATCH(DATOS_MIP_SA!AU198,referentes!$W:$W,0),1))","v":""},{"$f":"IF(AO198=\"\",\"\", INDEX(referentes!$AB:$AC,MATCH(DATOS_MIP_SA!AO198,referentes!$AC:$AC,0),1))","v":""},{"$f":"IF(AV198=\"\",\"\", INDEX('otras referencias'!$U:$V,MATCH(DATOS_MIP_SA!AV198,'otras referencias'!$V:$V,0),1))","v":""},{"$f":"IF(AW198=\"\",\"\", INDEX(referentes!$J:$K,MATCH(DATOS_MIP_SA!AW198,referentes!$K:$K,0),1))","v":""},null,null,null,null,null,null,{"$f":"IF(X198<>\"\",INDEX(referentes!$AH:$AL,MATCH(DATOS_MIP_SA!X198,referentes!$AI:$AI,0),5),\"\")","v":""}]
[null,null,null,"",{"$f":"IF(J199=\"\",\"\",CONCATENATE(AF199,DIGITADOR!$B$2,DIGITADOR!$M$1,J199))","v":""},{"$f":"IF(J199=\"\",\"\",CONCATENATE(DIGITADOR!$B$2,AF199,DIGITADOR!$M$1,J199,ROW()))","v":""},null,null,null,{"$f":"IF(X199=\"\",\"\", INDEX(referentes!$AH:$AL,MATCH(DATOS_MIP_SA!X199,referentes!$AI:$AI,0),1))","v":""},"",{"$f":"IF(AI199=\"\",\"\", INDEX(referentes!$D:$E,MATCH(DATOS_MIP_SA!AI199,referentes!$E:$E,0),1))","v":""},{"$f":"IF(AK199=\"\",\"\", INDEX(referentes!$A:$B,MATCH(DATOS_MIP_SA!AK199,referentes!$B:$B,0),1))","v":""},null,{"$f":"IF(AM199=\"\",\"\", INDEX(referentes!$S:$T,MATCH(AM199,referentes!$T:$T,0),1))","v":""},{"$f":"IF(AN199=\"\",\"\", INDEX(referentes!$Y:$Z,MATCH(AN199,referentes!$Z:$Z,0),1))","v":""},{"$f":"IF(AU199=\"\",\"\", INDEX(referentes!$V:$W,MATCH(DATOS_MIP_SA!AU199,referentes!$W:$W,0),1))","v":""},{"$f":"IF(AO199=\"\",\"\", INDEX(referentes!$AB:$AC,MATCH(DATOS_MIP_SA!AO199,referentes!$AC:$AC,0),1))","v":""},{"$f":"IF(AV199=\"\",\"\", INDEX('otras referencias'!$U:$V,MATCH(DATOS_MIP_SA!AV199,'otras referencias'!$V:$V,0),1))","v":""},{"$f":"IF(AW199=\"\",\"\", INDEX(referentes!$J:$K,MATCH(DATOS_MIP_SA!AW199,referentes!$K:$K,0),1))","v":""},null,null,null,null,null,null,{"$f":"IF(X199<>\"\",INDEX(referentes!$AH:$AL,MATCH(DATOS_MIP_SA!X199,referentes!$AI:$AI,0),5),\"\")","v":""}]
[null,null,null,"",{"$f":"IF(J200=\"\",\"\",CONCATENATE(AF200,DIGITADOR!$B$2,DIGITADOR!$M$1,J200))","v":""},{"$f":"IF(J200=\"\",\"\",CONCATENATE(DIGITADOR!$B$2,AF200,DIGITADOR!$M$1,J200,ROW()))","v":""},null,null,null,{"$f":"IF(X200=\"\",\"\", INDEX(referentes!$AH:$AL,MATCH(DATOS_MIP_SA!X200,referentes!$AI:$AI,0),1))","v":""},"",{"$f":"IF(AI200=\"\",\"\", INDEX(referentes!$D:$E,MATCH(DATOS_MIP_SA!AI200,referentes!$E:$E,0),1))","v":""},{"$f":"IF(AK200=\"\",\"\", INDEX(referentes!$A:$B,MATCH(DATOS_MIP_SA!AK200,referentes!$B:$B,0),1))","v":""},null,{"$f":"IF(AM200=\"\",\"\", INDEX(referentes!$S:$T,MATCH(AM200,referentes!$T:$T,0),1))","v":""},{"$f":"IF(AN200=\"\",\"\", INDEX(referentes!$Y:$Z,MATCH(AN200,referentes!$Z:$Z,0),1))","v":""},{"$f":"IF(AU200=\"\",\"\", INDEX(referentes!$V:$W,MATCH(DATOS_MIP_SA!AU200,referentes!$W:$W,0),1))","v":""},{"$f":"IF(AO200=\"\",\"\", INDEX(referentes!$AB:$AC,MATCH(DATOS_MIP_SA!AO200,referentes!$AC:$AC,0),1))","v":""},{"$f":"IF(AV200=\"\",\"\", INDEX('otras referencias'!$U:$V,MATCH(DATOS_MIP_SA!AV200,'otras referencias'!$V:$V,0),1))","v":""},{"$f":"IF(AW200=\"\",\"\", INDEX(referentes!$J:$K,MATCH(DATOS_MIP_SA!AW200,referentes!$K:$K,0),1))","v":""},null,null,null,null,null,null,{"$f":"IF(X200<>\"\",INDEX(referentes!$AH:$AL,MATCH(DATOS_MIP_SA!X200,referentes!$AI:$AI,0),5),\"\")","v":""}]
[null,null,null,"",{"$f":"IF(J201=\"\",\"\",CONCATENATE(AF201,DIGITADOR!$B$2,DIGITADOR!$M$1,J201))","v":""},{"$f":"IF(J201=\"\",\"\",CONCATENATE(DIGITADOR!$B$2,AF201,DIGITADOR!$M$1,J201,ROW()))","v":""},null,null,null,{"$f":"IF(X201=\"\",\"\", INDEX(referentes!$AH:$AL,MATCH(DATOS_MIP_SA!X201,referentes!$AI:$AI,0),1))","v":""},"",{"$f":"IF(AI201=\"\",\"\", INDEX(referentes!$D:$E,MATCH(DATOS_MIP_SA!AI201,referentes!$E:$E,0),1))","v":""},{"$f":"IF(AK201=\"\",\"\", INDEX(referentes!$A:$B,MATCH(DATOS_MIP_SA!AK201,referentes!$B:$B,0),1))","v":""},null,{"$f":"IF(AM201=\"\",\"\", INDEX(referentes!$S:$T,MATCH(AM201,referentes!$T:$T,0),1))","v":""},{"$f":"IF(AN201=\"\",\"\", INDEX(referentes!$Y:$Z,MATCH(AN201,referentes!$Z:$Z,0),1))","v":""},{"$f":"IF(AU201=\"\",\"\", INDEX(referentes!$V:$W,MATCH(DATOS_MIP_SA!AU201,referentes!$W:$W,0),1))","v":""},{"$f":"IF(AO201=\"\",\"\", INDEX(referentes!$AB:$AC,MATCH(DATOS_MIP_SA!AO201,referentes!$AC:$AC,0),1))","v":""},{"$f":"IF(AV201=\"\",\"\", INDEX('otras referencias'!$U:$V,MATCH(DATOS_MIP_SA!AV201,'otras referencias'!$V:$V,0),1))","v":""},{"$f":"IF(AW201=\"\",\"\", INDEX(referentes!$J:$K,MATCH(DATOS_MIP_SA!AW201,referentes!$K:$K,0),1))","v":""},null,null,null,null,null,null,{"$f":"IF(X201<>\"\",INDEX(referentes!$AH:$AL,MATCH(DATOS_MIP_SA!X201,referentes!$AI:$AI,0),5),\"\")","v":""}]
[null,null,null,"",{"$f":"IF(J202=\"\",\"\",CONCATENATE(AF202,DIGITADOR!$B$2,DIGITADOR!$M$1,J202))","v":""},{"$f":"IF(J202=\"\",\"\",CONCATENATE(DIGITADOR!$B$2,AF202,DIGITADOR!$M$1,J202,ROW()))","v":""},null,null,null,{"$f":"IF(X202=\"\",\"\", INDEX(referentes!$AH:$AL,MATCH(DATOS_MIP_SA!X202,referentes!$AI:$AI,0),1))","v":""},"",{"$f":"IF(AI202=\"\",\"\", INDEX(referentes!$D:$E,MATCH(DATOS_MIP_SA!AI202,referentes!$E:$E,0),1))","v":""},{"$f":"IF(AK202=\"\",\"\", INDEX(referentes!$A:$B,MATCH(DATOS_MIP_SA!AK202,referentes!$B:$B,0),1))","v":""},null,{"$f":"IF(AM202=\"\",\"\", INDEX(referentes!$S:$T,MATCH(AM202,referentes!$T:$T,0),1))","v":""},{"$f":"IF(AN202=\"\",\"\", INDEX(referentes!$Y:$Z,MATCH(AN202,referentes!$Z:$Z,0),1))","v":""},{"$f":"IF(AU202=\"\",\"\", INDEX(referentes!$V:$W,MATCH(DATOS_MIP_SA!AU202,referentes!$W:$W,0),1))","v":""},{"$f":"IF(AO202=\"\",\"\", INDEX(referentes!$AB:$AC,MATCH(DATOS_MIP_SA!AO202,referentes!$AC:$AC,0),1))","v":""},{"$f":"IF(AV202=\"\",\"\", INDEX('otras referencias'!$U:$V,MATCH(DATOS_MIP_SA!AV202,'otras referencias'!$V:$V,0),1))","v":""},{"$f":"IF(AW202=\"\",\"\", INDEX(referentes!$J:$K,MATCH(DATOS_MIP_SA!AW202,referentes!$K:$K,0),1))","v":""},null,null,null,null,null,null,{"$f":"IF(X202<>\"\",INDEX(referentes!$AH:$AL,MATCH(DATOS_MIP_SA!X202,referentes!$AI:$AI,0),5),\"\")","v":""}]
[null,null,null,"",{"$f":"IF(J203=\"\",\"\",CONCATENATE(AF203,DIGITADOR!$B$2,DIGITADOR!$M$1,J203))","v":""},{"$f":"IF(J203=\"\",\"\",CONCATENATE(DIGITADOR!$B$2,AF203,DIGITADOR!$M$1,J203,ROW()))","v":""},null,null,null,{"$f":"IF(X203=\"\",\"\", INDEX(referentes!$AH:$AL,MATCH(DATOS_MIP_SA!X203,referentes!$AI:$AI,0),1))","v":""},{"$f":"IF(AF203=\"\",\"\",AF203+AG203)","v":""},{"$f":"IF(AI203=\"\",\"\", INDEX(referentes!$D:$E,MATCH(DATOS_MIP_SA!AI203,referentes!$E:$E,0),1))","v":""},{"$f":"IF(AK203=\"\",\"\", INDEX(referentes!$A:$B,MATCH(DATOS_MIP_SA!AK203,referentes!$B:$B,0),1))","v":""},null,{"$f":"IF(AM203=\"\",\"\", INDEX(referentes!$S:$T,MATCH(AM203,referentes!$T:$T,0),1))","v":""},{"$f":"IF(AN203=\"\",\"\", INDEX(referentes!$Y:$Z,MATCH(AN203,referentes!$Z:$Z,0),1))","v":""},{"$f":"IF(AU203=\"\",\"\", INDEX(referentes!$V:$W,MATCH(DATOS_MIP_SA!AU203,referentes!$W:$W,0),1))","v":""},{"$f":"IF(AO203=\"\",\"\", INDEX(referentes!$AB:$AC,MATCH(DATOS_MIP_SA!AO203,referentes!$AC:$AC,0),1))","v":""},{"$f":"IF(AV203=\"\",\"\", INDEX('otras referencias'!$U:$V,MATCH(DATOS_MIP_SA!AV203,'otras referencias'!$V:$V,0),1))","v":""},{"$f":"IF(AW203=\"\",\"\", INDEX(referentes!$J:$K,MATCH(DATOS_MIP_SA!AW203,referentes!$K:$K,0),1))","v":""},null,null,null,null,null,null,{"$f":"IF(X203<>\"\",INDEX(referentes!$AH:$AL,MATCH(DATOS_MIP_SA!X203,referentes!$AI:$AI,0),5),\"\")","v":""}]
[null,null,null,{"$f":"IF(E204=\"\",\"\",IF(E204=E203,\"\",E204))","v":""},{"$f":"IF(J204=\"\",\"\",CONCATENATE(AF204,DIGITADOR!$B$2,DIGITADOR!$M$1,J204))","v":""},{"$f":"IF(J204=\"\",\"\",CONCATENATE(DIGITADOR!$B$2,AF204,DIGITADOR!$M$1,J204,ROW()))","v":""},null,null,null,{"$f":"IF(X204=\"\",\"\", INDEX(referentes!$AH:$AL,MATCH(DATOS_MIP_SA!X204,referentes!$AI:$AI,0),1))","v":""},"",{"$f":"IF(AI204=\"\",\"\", INDEX(referentes!$D:$E,MATCH(DATOS_MIP_SA!AI204,referentes!$E:$E,0),1))","v":""},{"$f":"IF(AK204=\"\",\"\", INDEX(referentes!$A:$B,MATCH(DATOS_MIP_SA!AK204,referentes!$B:$B,0),1))","v":""},null,{"$f":"IF(AM204=\"\",\"\", INDEX(referentes!$S:$T,MATCH(AM204,referentes!$T:$T,0),1))","v":""},{"$f":"IF(AN204=\"\",\"\", INDEX(referentes!$Y:$Z,MATCH(AN204,referentes!$Z:$Z,0),1))","v":""},{"$f":"IF(AU204=\"\",\"\", INDEX(referentes!$V:$W,MATCH(DATOS_MIP_SA!AU204,referentes!$W:$W,0),1))","v":""},{"$f":"IF(AO204=\"\",\"\", INDEX(referentes!$AB:$AC,MATCH(DATOS_MIP_SA!AO204,referentes!$AC:$AC,0),1))","v":""},{"$f":"IF(AV204=\"\",\"\", INDEX('otras referencias'!$U:$V,MATCH(DATOS_MIP_SA!AV204,'otras referencias'!$V:$V,0),1))","v":""},{"$f":"IF(AW204=\"\",\"\", INDEX(referentes!$J:$K,MATCH(DATOS_MIP_SA!AW204,referentes!$K:$K,0),1))","v":""},null,null,null,null,null,null,{"$f":"IF(X204<>\"\",INDEX(referentes!$AH:$AL,MATCH(DATOS_MIP_SA!X204,referentes!$AI:$AI,0),5),\"\")","v":""}]
[null,null,null,"",{"$f":"IF(J205=\"\",\"\",CONCATENATE(AF205,DIGITADOR!$B$2,DIGITADOR!$M$1,J205))","v":""},{"$f":"IF(J205=\"\",\"\",CONCATENATE(DIGITADOR!$B$2,AF205,DIGITADOR!$M$1,J205,ROW()))","v":""},null,null,null,{"$f":"IF(X205=\"\",\"\", INDEX(referentes!$AH:$AL,MATCH(DATOS_MIP_SA!X205,referentes!$AI:$AI,0),1))","v":""},"",{"$f":"IF(AI205=\"\",\"\", INDEX(referentes!$D:$E,MATCH(DATOS_MIP_SA!AI205,referentes!$E:$E,0),1))","v":""},{"$f":"IF(AK205=\"\",\"\", INDEX(referentes!$A:$B,MATCH(DATOS_MIP_SA!AK205,referentes!$B:$B,0),1))","v":""},null,{"$f":"IF(AM205=\"\",\"\", INDEX(referentes!$S:$T,MATCH(AM205,referentes!$T:$T,0),1))","v":""},{"$f":"IF(AN205=\"\",\"\", INDEX(referentes!$Y:$Z,MATCH(AN205,referentes!$Z:$Z,0),1))","v":""},{"$f":"IF(AU205=\"\",\"\", INDEX(referentes!$V:$W,MATCH(DATOS_MIP_SA!AU205,referentes!$W:$W,0),1))","v":""},{"$f":"IF(AO205=\"\",\"\", INDEX(referentes!$AB:$AC,MATCH(DATOS_MIP_SA!AO205,referentes!$AC:$AC,0),1))","v":""},{"$f":"IF(AV205=\"\",\"\", INDEX('otras referencias'!$U:$V,MATCH(DATOS_MIP_SA!AV205,'otras referencias'!$V:$V,0),1))","v":""},{"$f":"IF(AW205=\"\",\"\", INDEX(referentes!$J:$K,MATCH(DATOS_MIP_SA!AW205,referentes!$K:$K,0),1))","v":""},null,null,null,null,null,null,{"$f":"IF(X205<>\"\",INDEX(referentes!$AH:$AL,MATCH(DATOS_MIP_SA!X205,referentes!$AI:$AI,0),5),\"\")","v":""}]
[null,null,null,"",{"$f":"IF(J206=\"\",\"\",CONCATENATE(AF206,DIGITADOR!$B$2,DIGITADOR!$M$1,J206))","v":""},{"$f":"IF(J206=\"\",\"\",CONCATENATE(DIGITADOR!$B$2,AF206,DIGITADOR!$M$1,J206,ROW()))","v":""},null,null,null,{"$f":"IF(X206=\"\",\"\", INDEX(referentes!$AH:$AL,MATCH(DATOS_MIP_SA!X206,referentes!$AI:$AI,0),1))","v":""},"",{"$f":"IF(AI206=\"\",\"\", INDEX(referentes!$D:$E,MATCH(DATOS_MIP_SA!AI206,referentes!$E:$E,0),1))","v":""},{"$f":"IF(AK206=\"\",\"\", INDEX(referentes!$A:$B,MATCH(DATOS_MIP_SA!AK206,referentes!$B:$B,0),1))","v":""},null,{"$f":"IF(AM206=\"\",\"\", INDEX(referentes!$S:$T,MATCH(AM206,referentes!$T:$T,0),1))","v":""},{"$f":"IF(AN206=\"\",\"\", INDEX(referentes!$Y:$Z,MATCH(AN206,referentes!$Z:$Z,0),1))","v":""},{"$f":"IF(AU206=\"\",\"\", INDEX(referentes!$V:$W,MATCH(DATOS_MIP_SA!AU206,referentes!$W:$W,0),1))","v":""},{"$f":"IF(AO206=\"\",\"\", INDEX(referentes!$AB:$AC,MATCH(DATOS_MIP_SA!AO206,referentes!$AC:$AC,0),1))","v":""},{"$f":"IF(AV206=\"\",\"\", INDEX('otras referencias'!$U:$V,MATCH(DATOS_MIP_SA!AV206,'otras referencias'!$V:$V,0),1))","v":""},{"$f":"IF(AW206=\"\",\"\", INDEX(referentes!$J:$K,MATCH(DATOS_MIP_SA!AW206,referentes!$K:$K,0),1))","v":""},null,null,null,null,null,null,{"$f":"IF(X206<>\"\",INDEX(referentes!$AH:$AL,MATCH(DATOS_MIP_SA!X206,referentes!$AI:$AI,0),5),\"\")","v":""}]
[null,null,null,"",{"$f":"IF(J207=\"\",\"\",CONCATENATE(AF207,DIGITADOR!$B$2,DIGITADOR!$M$1,J207))","v":""},{"$f":"IF(J207=\"\",\"\",CONCATENATE(DIGITADOR!$B$2,AF207,DIGITADOR!$M$1,J207,ROW()))","v":""},null,null,null,{"$f":"IF(X207=\"\",\"\", INDEX(referentes!$AH:$AL,MATCH(DATOS_MIP_SA!X207,referentes!$AI:$AI,0),1))","v":""},"",{"$f":"IF(AI207=\"\",\"\", INDEX(referentes!$D:$E,MATCH(DATOS_MIP_SA!AI207,referentes!$E:$E,0),1))","v":""},{"$f":"IF(AK207=\"\",\"\", INDEX(referentes!$A:$B,MATCH(DATOS_MIP_SA!AK207,referentes!$B:$B,0),1))","v":""},null,{"$f":"IF(AM207=\"\",\"\", INDEX(referentes!$S:$T,MATCH(AM207,referentes!$T:$T,0),1))","v":""},{"$f":"IF(AN207=\"\",\"\", INDEX(referentes!$Y:$Z,MATCH(AN207,referentes!$Z:$Z,0),1))","v":""},{"$f":"IF(AU207=\"\",\"\", INDEX(referentes!$V:$W,MATCH(DATOS_MIP_SA!AU207,referentes!$W:$W,0),1))","v":""},{"$f":"IF(AO207=\"\",\"\", INDEX(referentes!$AB:$AC,MATCH(DATOS_MIP_SA!AO207,referentes!$AC:$AC,0),1))","v":""},{"$f":"IF(AV207=\"\",\"\", INDEX('otras referencias'!$U:$V,MATCH(DATOS_MIP_SA!AV207,'otras referencias'!$V:$V,0),1))","v":""},{"$f":"IF(AW207=\"\",\"\", INDEX(referentes!$J:$K,MATCH(DATOS_MIP_SA!AW207,referentes!$K:$K,0),1))","v":""},null,null,null,null,null,null,{"$f":"IF(X207<>\"\",INDEX(referentes!$AH:$AL,MATCH(DATOS_MIP_SA!X207,referentes!$AI:$AI,0),5),\"\")","v":""}]
[null,null,null,"",{"$f":"IF(J208=\"\",\"\",CONCATENATE(AF208,DIGITADOR!$B$2,DIGITADOR!$M$1,J208))","v":""},{"$f":"IF(J208=\"\",\"\",CONCATENATE(DIGITADOR!$B$2,AF208,DIGITADOR!$M$1,J208,ROW()))","v":""},null,null,null,{"$f":"IF(X208=\"\",\"\", INDEX(referentes!$AH:$AL,MATCH(DATOS_MIP_SA!X208,referentes!$AI:$AI,0),1))","v":""},"",{"$f":"IF(AI208=\"\",\"\", INDEX(referentes!$D:$E,MATCH(DATOS_MIP_SA!AI208,referentes!$E:$E,0),1))","v":""},{"$f":"IF(AK208=\"\",\"\", INDEX(referentes!$A:$B,MATCH(DATOS_MIP_SA!AK208,referentes!$B:$B,0),1))","v":""},null,{"$f":"IF(AM208=\"\",\"\", INDEX(referentes!$S:$T,MATCH(AM208,referentes!$T:$T,0),1))","v":""},{"$f":"IF(AN208=\"\",\"\", INDEX(referentes!$Y:$Z,MATCH(AN208,referentes!$Z:$Z,0),1))","v":""},{"$f":"IF(AU208=\"\",\"\", INDEX(referentes!$V:$W,MATCH(DATOS_MIP_SA!AU208,referentes!$W:$W,0),1))","v":""},{"$f":"IF(AO208=\"\",\"\", INDEX(referentes!$AB:$AC,MATCH(DATOS_MIP_SA!AO208,referentes!$AC:$AC,0),1))","v":""},{"$f":"IF(AV208=\"\",\"\", INDEX('otras referencias'!$U:$V,MATCH(DATOS_MIP_SA!AV208,'otras referencias'!$V:$V,0),1))","v":""},{"$f":"IF(AW208=\"\",\"\", INDEX(referentes!$J:$K,MATCH(DATOS_MIP_SA!AW208,referentes!$K:$K,0),1))","v":""},null,null,null,null,null,null,{"$f":"IF(X208<>\"\",INDEX(referentes!$AH:$AL,MATCH(DATOS_MIP_SA!X208,referentes!$AI:$AI,0),5),\"\")","v":""}]
[null,null,null,"",{"$f":"IF(J209=\"\",\"\",CONCATENATE(AF209,DIGITADOR!$B$2,DIGITADOR!$M$1,J209))","v":""},{"$f":"IF(J209=\"\",\"\",CONCATENATE(DIGITADOR!$B$2,AF209,DIGITADOR!$M$1,J209,ROW()))","v":""},null,null,null,{"$f":"IF(X209=\"\",\"\", INDEX(referentes!$AH:$AL,MATCH(DATOS_MIP_SA!X209,referentes!$AI:$AI,0),1))","v":""},"",{"$f":"IF(AI209=\"\",\"\", INDEX(referentes!$D:$E,MATCH(DATOS_MIP_SA!AI209,referentes!$E:$E,0),1))","v":""},{"$f":"IF(AK209=\"\",\"\", INDEX(referentes!$A:$B,MATCH(DATOS_MIP_SA!AK209,referentes!$B:$B,0),1))","v":""},null,{"$f":"IF(AM209=\"\",\"\", INDEX(referentes!$S:$T,MATCH(AM209,referentes!$T:$T,0),1))","v":""},{"$f":"IF(AN209=\"\",\"\", INDEX(referentes!$Y:$Z,MATCH(AN209,referentes!$Z:$Z,0),1))","v":""},{"$f":"IF(AU209=\"\",\"\", INDEX(referentes!$V:$W,MATCH(DATOS_MIP_SA!AU209,referentes!$W:$W,0),1))","v":""},{"$f":"IF(AO209=\"\",\"\", INDEX(referentes!$AB:$AC,MATCH(DATOS_MIP_SA!AO209,referentes!$AC:$AC,0),1))","v":""},{"$f":"IF(AV209=\"\",\"\", INDEX('otras referencias'!$U:$V,MATCH(DATOS_MIP_SA!AV209,'otras referencias'!$V:$V,0),1))","v":""},{"$f":"IF(AW209=\"\",\"\", INDEX(referentes!$J:$K,MATCH(DATOS_MIP_SA!AW209,referentes!$K:$K,0),1))","v":""},null,null,null,null,null,null,{"$f":"IF(X209<>\"\",INDEX(referentes!$AH:$AL,MATCH(DATOS_MIP_SA!X209,referentes!$AI:$AI,0),5),\"\")","v":""}]
[null,null,null,"",{"$f":"IF(J210=\"\",\"\",CONCATENATE(AF210,DIGITADOR!$B$2,DIGITADOR!$M$1,J210))","v":""},{"$f":"IF(J210=\"\",\"\",CONCATENATE(DIGITADOR!$B$2,AF210,DIGITADOR!$M$1,J210,ROW()))","v":""},null,null,null,{"$f":"IF(X210=\"\",\"\", INDEX(referentes!$AH:$AL,MATCH(DATOS_MIP_SA!X210,referentes!$AI:$AI,0),1))","v":""},"",{"$f":"IF(AI210=\"\",\"\", INDEX(referentes!$D:$E,MATCH(DATOS_MIP_SA!AI210,referentes!$E:$E,0),1))","v":""},{"$f":"IF(AK210=\"\",\"\", INDEX(referentes!$A:$B,MATCH(DATOS_MIP_SA!AK210,referentes!$B:$B,0),1))","v":""},null,{"$f":"IF(AM210=\"\",\"\", INDEX(referentes!$S:$T,MATCH(AM210,referentes!$T:$T,0),1))","v":""},{"$f":"IF(AN210=\"\",\"\", INDEX(referentes!$Y:$Z,MATCH(AN210,referentes!$Z:$Z,0),1))","v":""},{"$f":"IF(AU210=\"\",\"\", INDEX(referentes!$V:$W,MATCH(DATOS_MIP_SA!AU210,referentes!$W:$W,0),1))","v":""},{"$f":"IF(AO210=\"\",\"\", INDEX(referentes!$AB:$AC,MATCH(DATOS_MIP_SA!AO210,referentes!$AC:$AC,0),1))","v":""},{"$f":"IF(AV210=\"\",\"\", INDEX('otras referencias'!$U:$V,MATCH(DATOS_MIP_SA!AV210,'otras referencias'!$V:$V,0),1))","v":""},{"$f":"IF(AW210=\"\",\"\", INDEX(referentes!$J:$K,MATCH(DATOS_MIP_SA!AW210,referentes!$K:$K,0),1))","v":""},null,null,null,null,null,null,{"$f":"IF(X210<>\"\",INDEX(referentes!$AH:$AL,MATCH(DATOS_MIP_SA!X210,referentes!$AI:$AI,0),5),\"\")","v":""}]
[null,null,null,"",{"$f":"IF(J211=\"\",\"\",CONCATENATE(AF211,DIGITADOR!$B$2,DIGITADOR!$M$1,J211))","v":""},{"$f":"IF(J211=\"\",\"\",CONCATENATE(DIGITADOR!$B$2,AF211,DIGITADOR!$M$1,J211,ROW()))","v":""},null,null,null,{"$f":"IF(X211=\"\",\"\", INDEX(referentes!$AH:$AL,MATCH(DATOS_MIP_SA!X211,referentes!$AI:$AI,0),1))","v":""},"",{"$f":"IF(AI211=\"\",\"\", INDEX(referentes!$D:$E,MATCH(DATOS_MIP_SA!AI211,referentes!$E:$E,0),1))","v":""},{"$f":"IF(AK211=\"\",\"\", INDEX(referentes!$A:$B,MATCH(DATOS_MIP_SA!AK211,referentes!$B:$B,0),1))","v":""},null,{"$f":"IF(AM211=\"\",\"\", INDEX(referentes!$S:$T,MATCH(AM211,referentes!$T:$T,0),1))","v":""},{"$f":"IF(AN211=\"\",\"\", INDEX(referentes!$Y:$Z,MATCH(AN211,referentes!$Z:$Z,0),1))","v":""},{"$f":"IF(AU211=\"\",\"\", INDEX(referentes!$V:$W,MATCH(DATOS_MIP_SA!AU211,referentes!$W:$W,0),1))","v":""},{"$f":"IF(AO211=\"\",\"\", INDEX(referentes!$AB:$AC,MATCH(DATOS_MIP_SA!AO211,referentes!$AC:$AC,0),1))","v":""},{"$f":"IF(AV211=\"\",\"\", INDEX('otras referencias'!$U:$V,MATCH(DATOS_MIP_SA!AV211,'otras referencias'!$V:$V,0),1))","v":""},{"$f":"IF(AW211=\"\",\"\", INDEX(referentes!$J:$K,MATCH(DATOS_MIP_SA!AW211,referentes!$K:$K,0),1))","v":""},null,null,null,null,null,null,{"$f":"IF(X211<>\"\",INDEX(referentes!$AH:$AL,MATCH(DATOS_MIP_SA!X211,referentes!$AI:$AI,0),5),\"\")","v":""}]
[null,null,null,"",{"$f":"IF(J212=\"\",\"\",CONCATENATE(AF212,DIGITADOR!$B$2,DIGITADOR!$M$1,J212))","v":""},{"$f":"IF(J212=\"\",\"\",CONCATENATE(DIGITADOR!$B$2,AF212,DIGITADOR!$M$1,J212,ROW()))","v":""},null,null,null,{"$f":"IF(X212=\"\",\"\", INDEX(referentes!$AH:$AL,MATCH(DATOS_MIP_SA!X212,referentes!$AI:$AI,0),1))","v":""},"",{"$f":"IF(AI212=\"\",\"\", INDEX(referentes!$D:$E,MATCH(DATOS_MIP_SA!AI212,referentes!$E:$E,0),1))","v":""},{"$f":"IF(AK212=\"\",\"\", INDEX(referentes!$A:$B,MATCH(DATOS_MIP_SA!AK212,referentes!$B:$B,0),1))","v":""},null,{"$f":"IF(AM212=\"\",\"\", INDEX(referentes!$S:$T,MATCH(AM212,referentes!$T:$T,0),1))","v":""},{"$f":"IF(AN212=\"\",\"\", INDEX(referentes!$Y:$Z,MATCH(AN212,referentes!$Z:$Z,0),1))","v":""},{"$f":"IF(AU212=\"\",\"\", INDEX(referentes!$V:$W,MATCH(DATOS_MIP_SA!AU212,referentes!$W:$W,0),1))","v":""},{"$f":"IF(AO212=\"\",\"\", INDEX(referentes!$AB:$AC,MATCH(DATOS_MIP_SA!AO212,referentes!$AC:$AC,0),1))","v":""},{"$f":"IF(AV212=\"\",\"\", INDEX('otras referencias'!$U:$V,MATCH(DATOS_MIP_SA!AV212,'otras referencias'!$V:$V,0),1))","v":""},{"$f":"IF(AW212=\"\",\"\", INDEX(referentes!$J:$K,MATCH(DATOS_MIP_SA!AW212,referentes!$K:$K,0),1))","v":""},null,null,null,null,null,null,{"$f":"IF(X212<>\"\",INDEX(referentes!$AH:$AL,MATCH(DATOS_MIP_SA!X212,referentes!$AI:$AI,0),5),\"\")","v":""}]
[null,null,null,"",{"$f":"IF(J213=\"\",\"\",CONCATENATE(AF213,DIGITADOR!$B$2,DIGITADOR!$M$1,J213))","v":""},{"$f":"IF(J213=\"\",\"\",CONCATENATE(DIGITADOR!$B$2,AF213,DIGITADOR!$M$1,J213,ROW()))","v":""},null,null,null,{"$f":"IF(X213=\"\",\"\", INDEX(referentes!$AH:$AL,MATCH(DATOS_MIP_SA!X213,referentes!$AI:$AI,0),1))","v":""},"",{"$f":"IF(AI213=\"\",\"\", INDEX(referentes!$D:$E,MATCH(DATOS_MIP_SA!AI213,referentes!$E:$E,0),1))","v":""},{"$f":"IF(AK213=\"\",\"\", INDEX(referentes!$A:$B,MATCH(DATOS_MIP_SA!AK213,referentes!$B:$B,0),1))","v":""},null,{"$f":"IF(AM213=\"\",\"\", INDEX(referentes!$S:$T,MATCH(AM213,referentes!$T:$T,0),1))","v":""},{"$f":"IF(AN213=\"\",\"\", INDEX(referentes!$Y:$Z,MATCH(AN213,referentes!$Z:$Z,0),1))","v":""},{"$f":"IF(AU213=\"\",\"\", INDEX(referentes!$V:$W,MATCH(DATOS_MIP_SA!AU213,referentes!$W:$W,0),1))","v":""},{"$f":"IF(AO213=\"\",\"\", INDEX(referentes!$AB:$AC,MATCH(DATOS_MIP_SA!AO213,referentes!$AC:$AC,0),1))","v":""},{"$f":"IF(AV213=\"\",\"\", INDEX('otras referencias'!$U:$V,MATCH(DATOS_MIP_SA!AV213,'otras referencias'!$V:$V,0),1))","v":""},{"$f":"IF(AW213=\"\",\"\", INDEX(referentes!$J:$K,MATCH(DATOS_MIP_SA!AW213,referentes!$K:$K,0),1))","v":""},null,null,null,null,null,null,{"$f":"IF(X213<>\"\",INDEX(referentes!$AH:$AL,MATCH(DATOS_MIP_SA!X213,referentes!$AI:$AI,0),5),\"\")","v":""}]
[null,null,null,"",{"$f":"IF(J214=\"\",\"\",CONCATENATE(AF214,DIGITADOR!$B$2,DIGITADOR!$M$1,J214))","v":""},{"$f":"IF(J214=\"\",\"\",CONCATENATE(DIGITADOR!$B$2,AF214,DIGITADOR!$M$1,J214,ROW()))","v":""},null,null,null,{"$f":"IF(X214=\"\",\"\", INDEX(referentes!$AH:$AL,MATCH(DATOS_MIP_SA!X214,referentes!$AI:$AI,0),1))","v":""},"",{"$f":"IF(AI214=\"\",\"\", INDEX(referentes!$D:$E,MATCH(DATOS_MIP_SA!AI214,referentes!$E:$E,0),1))","v":""},{"$f":"IF(AK214=\"\",\"\", INDEX(referentes!$A:$B,MATCH(DATOS_MIP_SA!AK214,referentes!$B:$B,0),1))","v":""},null,{"$f":"IF(AM214=\"\",\"\", INDEX(referentes!$S:$T,MATCH(AM214,referentes!$T:$T,0),1))","v":""},{"$f":"IF(AN214=\"\",\"\", INDEX(referentes!$Y:$Z,MATCH(AN214,referentes!$Z:$Z,0),1))","v":""},{"$f":"IF(AU214=\"\",\"\", INDEX(referentes!$V:$W,MATCH(DATOS_MIP_SA!AU214,referentes!$W:$W,0),1))","v":""},{"$f":"IF(AO214=\"\",\"\", INDEX(referentes!$AB:$AC,MATCH(DATOS_MIP_SA!AO214,referentes!$AC:$AC,0),1))","v":""},{"$f":"IF(AV214=\"\",\"\", INDEX('otras referencias'!$U:$V,MATCH(DATOS_MIP_SA!AV214,'otras referencias'!$V:$V,0),1))","v":""},{"$f":"IF(AW214=\"\",\"\", INDEX(referentes!$J:$K,MATCH(DATOS_MIP_SA!AW214,referentes!$K:$K,0),1))","v":""},null,null,null,null,null,null,{"$f":"IF(X214<>\"\",INDEX(referentes!$AH:$AL,MATCH(DATOS_MIP_SA!X214,referentes!$AI:$AI,0),5),\"\")","v":""}]
[null,null,null,"",{"$f":"IF(J215=\"\",\"\",CONCATENATE(AF215,DIGITADOR!$B$2,DIGITADOR!$M$1,J215))","v":""},{"$f":"IF(J215=\"\",\"\",CONCATENATE(DIGITADOR!$B$2,AF215,DIGITADOR!$M$1,J215,ROW()))","v":""},null,null,null,{"$f":"IF(X215=\"\",\"\", INDEX(referentes!$AH:$AL,MATCH(DATOS_MIP_SA!X215,referentes!$AI:$AI,0),1))","v":""},"",{"$f":"IF(AI215=\"\",\"\", INDEX(referentes!$D:$E,MATCH(DATOS_MIP_SA!AI215,referentes!$E:$E,0),1))","v":""},{"$f":"IF(AK215=\"\",\"\", INDEX(referentes!$A:$B,MATCH(DATOS_MIP_SA!AK215,referentes!$B:$B,0),1))","v":""},null,{"$f":"IF(AM215=\"\",\"\", INDEX(referentes!$S:$T,MATCH(AM215,referentes!$T:$T,0),1))","v":""},{"$f":"IF(AN215=\"\",\"\", INDEX(referentes!$Y:$Z,MATCH(AN215,referentes!$Z:$Z,0),1))","v":""},{"$f":"IF(AU215=\"\",\"\", INDEX(referentes!$V:$W,MATCH(DATOS_MIP_SA!AU215,referentes!$W:$W,0),1))","v":""},{"$f":"IF(AO215=\"\",\"\", INDEX(referentes!$AB:$AC,MATCH(DATOS_MIP_SA!AO215,referentes!$AC:$AC,0),1))","v":""},{"$f":"IF(AV215=\"\",\"\", INDEX('otras referencias'!$U:$V,MATCH(DATOS_MIP_SA!AV215,'otras referencias'!$V:$V,0),1))","v":""},{"$f":"IF(AW215=\"\",\"\", INDEX(referentes!$J:$K,MATCH(DATOS_MIP_SA!AW215,referentes!$K:$K,0),1))","v":""},null,null,null,null,null,null,{"$f":"IF(X215<>\"\",INDEX(referentes!$AH:$AL,MATCH(DATOS_MIP_SA!X215,referentes!$AI:$AI,0),5),\"\")","v":""}]
[null,null,null,"",{"$f":"IF(J216=\"\",\"\",CONCATENATE(AF216,DIGITADOR!$B$2,DIGITADOR!$M$1,J216))","v":""},{"$f":"IF(J216=\"\",\"\",CONCATENATE(DIGITADOR!$B$2,AF216,DIGITADOR!$M$1,J216,ROW()))","v":""},null,null,null,{"$f":"IF(X216=\"\",\"\", INDEX(referentes!$AH:$AL,MATCH(DATOS_MIP_SA!X216,referentes!$AI:$AI,0),1))","v":""},"",{"$f":"IF(AI216=\"\",\"\", INDEX(referentes!$D:$E,MATCH(DATOS_MIP_SA!AI216,referentes!$E:$E,0),1))","v":""},{"$f":"IF(AK216=\"\",\"\", INDEX(referentes!$A:$B,MATCH(DATOS_MIP_SA!AK216,referentes!$B:$B,0),1))","v":""},null,{"$f":"IF(AM216=\"\",\"\", INDEX(referentes!$S:$T,MATCH(AM216,referentes!$T:$T,0),1))","v":""},{"$f":"IF(AN216=\"\",\"\", INDEX(referentes!$Y:$Z,MATCH(AN216,referentes!$Z:$Z,0),1))","v":""},{"$f":"IF(AU216=\"\",\"\", INDEX(referentes!$V:$W,MATCH(DATOS_MIP_SA!AU216,referentes!$W:$W,0),1))","v":""},{"$f":"IF(AO216=\"\",\"\", INDEX(referentes!$AB:$AC,MATCH(DATOS_MIP_SA!AO216,referentes!$AC:$AC,0),1))","v":""},{"$f":"IF(AV216=\"\",\"\", INDEX('otras referencias'!$U:$V,MATCH(DATOS_MIP_SA!AV216,'otras referencias'!$V:$V,0),1))","v":""},{"$f":"IF(AW216=\"\",\"\", INDEX(referentes!$J:$K,MATCH(DATOS_MIP_SA!AW216,referentes!$K:$K,0),1))","v":""},null,null,null,null,null,null,{"$f":"IF(X216<>\"\",INDEX(referentes!$AH:$AL,MATCH(DATOS_MIP_SA!X216,referentes!$AI:$AI,0),5),\"\")","v":""}]
[null,null,null,"",{"$f":"IF(J217=\"\",\"\",CONCATENATE(AF217,DIGITADOR!$B$2,DIGITADOR!$M$1,J217))","v":""},{"$f":"IF(J217=\"\",\"\",CONCATENATE(DIGITADOR!$B$2,AF217,DIGITADOR!$M$1,J217,ROW()))","v":""},null,null,null,{"$f":"IF(X217=\"\",\"\", INDEX(referentes!$AH:$AL,MATCH(DATOS_MIP_SA!X217,referentes!$AI:$AI,0),1))","v":""},"",{"$f":"IF(AI217=\"\",\"\", INDEX(referentes!$D:$E,MATCH(DATOS_MIP_SA!AI217,referentes!$E:$E,0),1))","v":""},{"$f":"IF(AK217=\"\",\"\", INDEX(referentes!$A:$B,MATCH(DATOS_MIP_SA!AK217,referentes!$B:$B,0),1))","v":""},null,{"$f":"IF(AM217=\"\",\"\", INDEX(referentes!$S:$T,MATCH(AM217,referentes!$T:$T,0),1))","v":""},{"$f":"IF(AN217=\"\",\"\", INDEX(referentes!$Y:$Z,MATCH(AN217,referentes!$Z:$Z,0),1))","v":""},{"$f":"IF(AU217=\"\",\"\", INDEX(referentes!$V:$W,MATCH(DATOS_MIP_SA!AU217,referentes!$W:$W,0),1))","v":""},{"$f":"IF(AO217=\"\",\"\", INDEX(referentes!$AB:$AC,MATCH(DATOS_MIP_SA!AO217,referentes!$AC:$AC,0),1))","v":""},{"$f":"IF(AV217=\"\",\"\", INDEX('otras referencias'!$U:$V,MATCH(DATOS_MIP_SA!AV217,'otras referencias'!$V:$V,0),1))","v":""},{"$f":"IF(AW217=\"\",\"\", INDEX(referentes!$J:$K,MATCH(DATOS_MIP_SA!AW217,referentes!$K:$K,0),1))","v":""},null,null,null,null,null,null,{"$f":"IF(X217<>\"\",INDEX(referentes!$AH:$AL,MATCH(DATOS_MIP_SA!X217,referentes!$AI:$AI,0),5),\"\")","v":""}]
[null,null,null,"",{"$f":"IF(J218=\"\",\"\",CONCATENATE(AF218,DIGITADOR!$B$2,DIGITADOR!$M$1,J218))","v":""},{"$f":"IF(J218=\"\",\"\",CONCATENATE(DIGITADOR!$B$2,AF218,DIGITADOR!$M$1,J218,ROW()))","v":""},null,null,null,{"$f":"IF(X218=\"\",\"\", INDEX(referentes!$AH:$AL,MATCH(DATOS_MIP_SA!X218,referentes!$AI:$AI,0),1))","v":""},"",{"$f":"IF(AI218=\"\",\"\", INDEX(referentes!$D:$E,MATCH(DATOS_MIP_SA!AI218,referentes!$E:$E,0),1))","v":""},{"$f":"IF(AK218=\"\",\"\", INDEX(referentes!$A:$B,MATCH(DATOS_MIP_SA!AK218,referentes!$B:$B,0),1))","v":""},null,{"$f":"IF(AM218=\"\",\"\", INDEX(referentes!$S:$T,MATCH(AM218,referentes!$T:$T,0),1))","v":""},{"$f":"IF(AN218=\"\",\"\", INDEX(referentes!$Y:$Z,MATCH(AN218,referentes!$Z:$Z,0),1))","v":""},{"$f":"IF(AU218=\"\",\"\", INDEX(referentes!$V:$W,MATCH(DATOS_MIP_SA!AU218,referentes!$W:$W,0),1))","v":""},{"$f":"IF(AO218=\"\",\"\", INDEX(referentes!$AB:$AC,MATCH(DATOS_MIP_SA!AO218,referentes!$AC:$AC,0),1))","v":""},{"$f":"IF(AV218=\"\",\"\", INDEX('otras referencias'!$U:$V,MATCH(DATOS_MIP_SA!AV218,'otras referencias'!$V:$V,0),1))","v":""},{"$f":"IF(AW218=\"\",\"\", INDEX(referentes!$J:$K,MATCH(DATOS_MIP_SA!AW218,referentes!$K:$K,0),1))","v":""},null,null,null,null,null,null,{"$f":"IF(X218<>\"\",INDEX(referentes!$AH:$AL,MATCH(DATOS_MIP_SA!X218,referentes!$AI:$AI,0),5),\"\")","v":""}]
[null,null,null,"",{"$f":"IF(J219=\"\",\"\",CONCATENATE(AF219,DIGITADOR!$B$2,DIGITADOR!$M$1,J219))","v":""},{"$f":"IF(J219=\"\",\"\",CONCATENATE(DIGITADOR!$B$2,AF219,DIGITADOR!$M$1,J219,ROW()))","v":""},null,null,null,{"$f":"IF(X219=\"\",\"\", INDEX(referentes!$AH:$AL,MATCH(DATOS_MIP_SA!X219,referentes!$AI:$AI,0),1))","v":""},"",{"$f":"IF(AI219=\"\",\"\", INDEX(referentes!$D:$E,MATCH(DATOS_MIP_SA!AI219,referentes!$E:$E,0),1))","v":""},{"$f":"IF(AK219=\"\",\"\", INDEX(referentes!$A:$B,MATCH(DATOS_MIP_SA!AK219,referentes!$B:$B,0),1))","v":""},null,{"$f":"IF(AM219=\"\",\"\", INDEX(referentes!$S:$T,MATCH(AM219,referentes!$T:$T,0),1))","v":""},{"$f":"IF(AN219=\"\",\"\", INDEX(referentes!$Y:$Z,MATCH(AN219,referentes!$Z:$Z,0),1))","v":""},{"$f":"IF(AU219=\"\",\"\", INDEX(referentes!$V:$W,MATCH(DATOS_MIP_SA!AU219,referentes!$W:$W,0),1))","v":""},{"$f":"IF(AO219=\"\",\"\", INDEX(referentes!$AB:$AC,MATCH(DATOS_MIP_SA!AO219,referentes!$AC:$AC,0),1))","v":""},{"$f":"IF(AV219=\"\",\"\", INDEX('otras referencias'!$U:$V,MATCH(DATOS_MIP_SA!AV219,'otras referencias'!$V:$V,0),1))","v":""},{"$f":"IF(AW219=\"\",\"\", INDEX(referentes!$J:$K,MATCH(DATOS_MIP_SA!AW219,referentes!$K:$K,0),1))","v":""},null,null,null,null,null,null,{"$f":"IF(X219<>\"\",INDEX(referentes!$AH:$AL,MATCH(DATOS_MIP_SA!X219,referentes!$AI:$AI,0),5),\"\")","v":""}]
[null,null,null,"",{"$f":"IF(J220=\"\",\"\",CONCATENATE(AF220,DIGITADOR!$B$2,DIGITADOR!$M$1,J220))","v":""},{"$f":"IF(J220=\"\",\"\",CONCATENATE(DIGITADOR!$B$2,AF220,DIGITADOR!$M$1,J220,ROW()))","v":""},null,null,null,{"$f":"IF(X220=\"\",\"\", INDEX(referentes!$AH:$AL,MATCH(DATOS_MIP_SA!X220,referentes!$AI:$AI,0),1))","v":""},"",{"$f":"IF(AI220=\"\",\"\", INDEX(referentes!$D:$E,MATCH(DATOS_MIP_SA!AI220,referentes!$E:$E,0),1))","v":""},{"$f":"IF(AK220=\"\",\"\", INDEX(referentes!$A:$B,MATCH(DATOS_MIP_SA!AK220,referentes!$B:$B,0),1))","v":""},null,{"$f":"IF(AM220=\"\",\"\", INDEX(referentes!$S:$T,MATCH(AM220,referentes!$T:$T,0),1))","v":""},{"$f":"IF(AN220=\"\",\"\", INDEX(referentes!$Y:$Z,MATCH(AN220,referentes!$Z:$Z,0),1))","v":""},{"$f":"IF(AU220=\"\",\"\", INDEX(referentes!$V:$W,MATCH(DATOS_MIP_SA!AU220,referentes!$W:$W,0),1))","v":""},{"$f":"IF(AO220=\"\",\"\", INDEX(referentes!$AB:$AC,MATCH(DATOS_MIP_SA!AO220,referentes!$AC:$AC,0),1))","v":""},{"$f":"IF(AV220=\"\",\"\", INDEX('otras referencias'!$U:$V,MATCH(DATOS_MIP_SA!AV220,'otras referencias'!$V:$V,0),1))","v":""},{"$f":"IF(AW220=\"\",\"\", INDEX(referentes!$J:$K,MATCH(DATOS_MIP_SA!AW220,referentes!$K:$K,0),1))","v":""},null,null,null,null,null,null,{"$f":"IF(X220<>\"\",INDEX(referentes!$AH:$AL,MATCH(DATOS_MIP_SA!X220,referentes!$AI:$AI,0),5),\"\")","v":""}]
[null,null,null,"",{"$f":"IF(J221=\"\",\"\",CONCATENATE(AF221,DIGITADOR!$B$2,DIGITADOR!$M$1,J221))","v":""},{"$f":"IF(J221=\"\",\"\",CONCATENATE(DIGITADOR!$B$2,AF221,DIGITADOR!$M$1,J221,ROW()))","v":""},null,null,null,{"$f":"IF(X221=\"\",\"\", INDEX(referentes!$AH:$AL,MATCH(DATOS_MIP_SA!X221,referentes!$AI:$AI,0),1))","v":""},"",{"$f":"IF(AI221=\"\",\"\", INDEX(referentes!$D:$E,MATCH(DATOS_MIP_SA!AI221,referentes!$E:$E,0),1))","v":""},{"$f":"IF(AK221=\"\",\"\", INDEX(referentes!$A:$B,MATCH(DATOS_MIP_SA!AK221,referentes!$B:$B,0),1))","v":""},null,{"$f":"IF(AM221=\"\",\"\", INDEX(referentes!$S:$T,MATCH(AM221,referentes!$T:$T,0),1))","v":""},{"$f":"IF(AN221=\"\",\"\", INDEX(referentes!$Y:$Z,MATCH(AN221,referentes!$Z:$Z,0),1))","v":""},{"$f":"IF(AU221=\"\",\"\", INDEX(referentes!$V:$W,MATCH(DATOS_MIP_SA!AU221,referentes!$W:$W,0),1))","v":""},{"$f":"IF(AO221=\"\",\"\", INDEX(referentes!$AB:$AC,MATCH(DATOS_MIP_SA!AO221,referentes!$AC:$AC,0),1))","v":""},{"$f":"IF(AV221=\"\",\"\", INDEX('otras referencias'!$U:$V,MATCH(DATOS_MIP_SA!AV221,'otras referencias'!$V:$V,0),1))","v":""},{"$f":"IF(AW221=\"\",\"\", INDEX(referentes!$J:$K,MATCH(DATOS_MIP_SA!AW221,referentes!$K:$K,0),1))","v":""},null,null,null,null,null,null,{"$f":"IF(X221<>\"\",INDEX(referentes!$AH:$AL,MATCH(DATOS_MIP_SA!X221,referentes!$AI:$AI,0),5),\"\")","v":""}]
[null,null,null,"",{"$f":"IF(J222=\"\",\"\",CONCATENATE(AF222,DIGITADOR!$B$2,DIGITADOR!$M$1,J222))","v":""},{"$f":"IF(J222=\"\",\"\",CONCATENATE(DIGITADOR!$B$2,AF222,DIGITADOR!$M$1,J222,ROW()))","v":""},null,null,null,{"$f":"IF(X222=\"\",\"\", INDEX(referentes!$AH:$AL,MATCH(DATOS_MIP_SA!X222,referentes!$AI:$AI,0),1))","v":""},"",{"$f":"IF(AI222=\"\",\"\", INDEX(referentes!$D:$E,MATCH(DATOS_MIP_SA!AI222,referentes!$E:$E,0),1))","v":""},{"$f":"IF(AK222=\"\",\"\", INDEX(referentes!$A:$B,MATCH(DATOS_MIP_SA!AK222,referentes!$B:$B,0),1))","v":""},null,{"$f":"IF(AM222=\"\",\"\", INDEX(referentes!$S:$T,MATCH(AM222,referentes!$T:$T,0),1))","v":""},{"$f":"IF(AN222=\"\",\"\", INDEX(referentes!$Y:$Z,MATCH(AN222,referentes!$Z:$Z,0),1))","v":""},{"$f":"IF(AU222=\"\",\"\", INDEX(referentes!$V:$W,MATCH(DATOS_MIP_SA!AU222,referentes!$W:$W,0),1))","v":""},{"$f":"IF(AO222=\"\",\"\", INDEX(referentes!$AB:$AC,MATCH(DATOS_MIP_SA!AO222,referentes!$AC:$AC,0),1))","v":""},{"$f":"IF(AV222=\"\",\"\", INDEX('otras referencias'!$U:$V,MATCH(DATOS_MIP_SA!AV222,'otras referencias'!$V:$V,0),1))","v":""},{"$f":"IF(AW222=\"\",\"\", INDEX(referentes!$J:$K,MATCH(DATOS_MIP_SA!AW222,referentes!$K:$K,0),1))","v":""},null,null,null,null,null,null,{"$f":"IF(X222<>\"\",INDEX(referentes!$AH:$AL,MATCH(DATOS_MIP_SA!X222,referentes!$AI:$AI,0),5),\"\")","v":""}]
[null,null,null,"",{"$f":"IF(J223=\"\",\"\",CONCATENATE(AF223,DIGITADOR!$B$2,DIGITADOR!$M$1,J223))","v":""},{"$f":"IF(J223=\"\",\"\",CONCATENATE(DIGITADOR!$B$2,AF223,DIGITADOR!$M$1,J223,ROW()))","v":""},null,null,null,{"$f":"IF(X223=\"\",\"\", INDEX(referentes!$AH:$AL,MATCH(DATOS_MIP_SA!X223,referentes!$AI:$AI,0),1))","v":""},"",{"$f":"IF(AI223=\"\",\"\", INDEX(referentes!$D:$E,MATCH(DATOS_MIP_SA!AI223,referentes!$E:$E,0),1))","v":""},{"$f":"IF(AK223=\"\",\"\", INDEX(referentes!$A:$B,MATCH(DATOS_MIP_SA!AK223,referentes!$B:$B,0),1))","v":""},null,{"$f":"IF(AM223=\"\",\"\", INDEX(referentes!$S:$T,MATCH(AM223,referentes!$T:$T,0),1))","v":""},{"$f":"IF(AN223=\"\",\"\", INDEX(referentes!$Y:$Z,MATCH(AN223,referentes!$Z:$Z,0),1))","v":""},{"$f":"IF(AU223=\"\",\"\", INDEX(referentes!$V:$W,MATCH(DATOS_MIP_SA!AU223,referentes!$W:$W,0),1))","v":""},{"$f":"IF(AO223=\"\",\"\", INDEX(referentes!$AB:$AC,MATCH(DATOS_MIP_SA!AO223,referentes!$AC:$AC,0),1))","v":""},{"$f":"IF(AV223=\"\",\"\", INDEX('otras referencias'!$U:$V,MATCH(DATOS_MIP_SA!AV223,'otras referencias'!$V:$V,0),1))","v":""},{"$f":"IF(AW223=\"\",\"\", INDEX(referentes!$J:$K,MATCH(DATOS_MIP_SA!AW223,referentes!$K:$K,0),1))","v":""},null,null,null,null,null,null,{"$f":"IF(X223<>\"\",INDEX(referentes!$AH:$AL,MATCH(DATOS_MIP_SA!X223,referentes!$AI:$AI,0),5),\"\")","v":""}]
[null,null,null,"",{"$f":"IF(J224=\"\",\"\",CONCATENATE(AF224,DIGITADOR!$B$2,DIGITADOR!$M$1,J224))","v":""},{"$f":"IF(J224=\"\",\"\",CONCATENATE(DIGITADOR!$B$2,AF224,DIGITADOR!$M$1,J224,ROW()))","v":""},null,null,null,{"$f":"IF(X224=\"\",\"\", INDEX(referentes!$AH:$AL,MATCH(DATOS_MIP_SA!X224,referentes!$AI:$AI,0),1))","v":""},"",{"$f":"IF(AI224=\"\",\"\", INDEX(referentes!$D:$E,MATCH(DATOS_MIP_SA!AI224,referentes!$E:$E,0),1))","v":""},{"$f":"IF(AK224=\"\",\"\", INDEX(referentes!$A:$B,MATCH(DATOS_MIP_SA!AK224,referentes!$B:$B,0),1))","v":""},null,{"$f":"IF(AM224=\"\",\"\", INDEX(referentes!$S:$T,MATCH(AM224,referentes!$T:$T,0),1))","v":""},{"$f":"IF(AN224=\"\",\"\", INDEX(referentes!$Y:$Z,MATCH(AN224,referentes!$Z:$Z,0),1))","v":""},{"$f":"IF(AU224=\"\",\"\", INDEX(referentes!$V:$W,MATCH(DATOS_MIP_SA!AU224,referentes!$W:$W,0),1))","v":""},{"$f":"IF(AO224=\"\",\"\", INDEX(referentes!$AB:$AC,MATCH(DATOS_MIP_SA!AO224,referentes!$AC:$AC,0),1))","v":""},{"$f":"IF(AV224=\"\",\"\", INDEX('otras referencias'!$U:$V,MATCH(DATOS_MIP_SA!AV224,'otras referencias'!$V:$V,0),1))","v":""},{"$f":"IF(AW224=\"\",\"\", INDEX(referentes!$J:$K,MATCH(DATOS_MIP_SA!AW224,referentes!$K:$K,0),1))","v":""},null,null,null,null,null,null,{"$f":"IF(X224<>\"\",INDEX(referentes!$AH:$AL,MATCH(DATOS_MIP_SA!X224,referentes!$AI:$AI,0),5),\"\")","v":""}]
[null,null,null,"",{"$f":"IF(J225=\"\",\"\",CONCATENATE(AF225,DIGITADOR!$B$2,DIGITADOR!$M$1,J225))","v":""},{"$f":"IF(J225=\"\",\"\",CONCATENATE(DIGITADOR!$B$2,AF225,DIGITADOR!$M$1,J225,ROW()))","v":""},null,null,null,{"$f":"IF(X225=\"\",\"\", INDEX(referentes!$AH:$AL,MATCH(DATOS_MIP_SA!X225,referentes!$AI:$AI,0),1))","v":""},"",{"$f":"IF(AI225=\"\",\"\", INDEX(referentes!$D:$E,MATCH(DATOS_MIP_SA!AI225,referentes!$E:$E,0),1))","v":""},{"$f":"IF(AK225=\"\",\"\", INDEX(referentes!$A:$B,MATCH(DATOS_MIP_SA!AK225,referentes!$B:$B,0),1))","v":""},null,{"$f":"IF(AM225=\"\",\"\", INDEX(referentes!$S:$T,MATCH(AM225,referentes!$T:$T,0),1))","v":""},{"$f":"IF(AN225=\"\",\"\", INDEX(referentes!$Y:$Z,MATCH(AN225,referentes!$Z:$Z,0),1))","v":""},{"$f":"IF(AU225=\"\",\"\", INDEX(referentes!$V:$W,MATCH(DATOS_MIP_SA!AU225,referentes!$W:$W,0),1))","v":""},{"$f":"IF(AO225=\"\",\"\", INDEX(referentes!$AB:$AC,MATCH(DATOS_MIP_SA!AO225,referentes!$AC:$AC,0),1))","v":""},{"$f":"IF(AV225=\"\",\"\", INDEX('otras referencias'!$U:$V,MATCH(DATOS_MIP_SA!AV225,'otras referencias'!$V:$V,0),1))","v":""},{"$f":"IF(AW225=\"\",\"\", INDEX(referentes!$J:$K,MATCH(DATOS_MIP_SA!AW225,referentes!$K:$K,0),1))","v":""},null,null,null,null,null,null,{"$f":"IF(X225<>\"\",INDEX(referentes!$AH:$AL,MATCH(DATOS_MIP_SA!X225,referentes!$AI:$AI,0),5),\"\")","v":""}]
[null,null,null,"",{"$f":"IF(J226=\"\",\"\",CONCATENATE(AF226,DIGITADOR!$B$2,DIGITADOR!$M$1,J226))","v":""},{"$f":"IF(J226=\"\",\"\",CONCATENATE(DIGITADOR!$B$2,AF226,DIGITADOR!$M$1,J226,ROW()))","v":""},null,null,null,{"$f":"IF(X226=\"\",\"\", INDEX(referentes!$AH:$AL,MATCH(DATOS_MIP_SA!X226,referentes!$AI:$AI,0),1))","v":""},"",{"$f":"IF(AI226=\"\",\"\", INDEX(referentes!$D:$E,MATCH(DATOS_MIP_SA!AI226,referentes!$E:$E,0),1))","v":""},{"$f":"IF(AK226=\"\",\"\", INDEX(referentes!$A:$B,MATCH(DATOS_MIP_SA!AK226,referentes!$B:$B,0),1))","v":""},null,{"$f":"IF(AM226=\"\",\"\", INDEX(referentes!$S:$T,MATCH(AM226,referentes!$T:$T,0),1))","v":""},{"$f":"IF(AN226=\"\",\"\", INDEX(referentes!$Y:$Z,MATCH(AN226,referentes!$Z:$Z,0),1))","v":""},{"$f":"IF(AU226=\"\",\"\", INDEX(referentes!$V:$W,MATCH(DATOS_MIP_SA!AU226,referentes!$W:$W,0),1))","v":""},{"$f":"IF(AO226=\"\",\"\", INDEX(referentes!$AB:$AC,MATCH(DATOS_MIP_SA!AO226,referentes!$AC:$AC,0),1))","v":""},{"$f":"IF(AV226=\"\",\"\", INDEX('otras referencias'!$U:$V,MATCH(DATOS_MIP_SA!AV226,'otras referencias'!$V:$V,0),1))","v":""},{"$f":"IF(AW226=\"\",\"\", INDEX(referentes!$J:$K,MATCH(DATOS_MIP_SA!AW226,referentes!$K:$K,0),1))","v":""},null,null,null,null,null,null,{"$f":"IF(X226<>\"\",INDEX(referentes!$AH:$AL,MATCH(DATOS_MIP_SA!X226,referentes!$AI:$AI,0),5),\"\")","v":""}]
[null,null,null,"",{"$f":"IF(J227=\"\",\"\",CONCATENATE(AF227,DIGITADOR!$B$2,DIGITADOR!$M$1,J227))","v":""},{"$f":"IF(J227=\"\",\"\",CONCATENATE(DIGITADOR!$B$2,AF227,DIGITADOR!$M$1,J227,ROW()))","v":""},null,null,null,{"$f":"IF(X227=\"\",\"\", INDEX(referentes!$AH:$AL,MATCH(DATOS_MIP_SA!X227,referentes!$AI:$AI,0),1))","v":""},"",{"$f":"IF(AI227=\"\",\"\", INDEX(referentes!$D:$E,MATCH(DATOS_MIP_SA!AI227,referentes!$E:$E,0),1))","v":""},{"$f":"IF(AK227=\"\",\"\", INDEX(referentes!$A:$B,MATCH(DATOS_MIP_SA!AK227,referentes!$B:$B,0),1))","v":""},null,{"$f":"IF(AM227=\"\",\"\", INDEX(referentes!$S:$T,MATCH(AM227,referentes!$T:$T,0),1))","v":""},{"$f":"IF(AN227=\"\",\"\", INDEX(referentes!$Y:$Z,MATCH(AN227,referentes!$Z:$Z,0),1))","v":""},{"$f":"IF(AU227=\"\",\"\", INDEX(referentes!$V:$W,MATCH(DATOS_MIP_SA!AU227,referentes!$W:$W,0),1))","v":""},{"$f":"IF(AO227=\"\",\"\", INDEX(referentes!$AB:$AC,MATCH(DATOS_MIP_SA!AO227,referentes!$AC:$AC,0),1))","v":""},{"$f":"IF(AV227=\"\",\"\", INDEX('otras referencias'!$U:$V,MATCH(DATOS_MIP_SA!AV227,'otras referencias'!$V:$V,0),1))","v":""},{"$f":"IF(AW227=\"\",\"\", INDEX(referentes!$J:$K,MATCH(DATOS_MIP_SA!AW227,referentes!$K:$K,0),1))","v":""},null,null,null,null,null,null,{"$f":"IF(X227<>\"\",INDEX(referentes!$AH:$AL,MATCH(DATOS_MIP_SA!X227,referentes!$AI:$AI,0),5),\"\")","v":""}]
[null,null,null,"",{"$f":"IF(J228=\"\",\"\",CONCATENATE(AF228,DIGITADOR!$B$2,DIGITADOR!$M$1,J228))","v":""},{"$f":"IF(J228=\"\",\"\",CONCATENATE(DIGITADOR!$B$2,AF228,DIGITADOR!$M$1,J228,ROW()))","v":""},null,null,null,{"$f":"IF(X228=\"\",\"\", INDEX(referentes!$AH:$AL,MATCH(DATOS_MIP_SA!X228,referentes!$AI:$AI,0),1))","v":""},"",{"$f":"IF(AI228=\"\",\"\", INDEX(referentes!$D:$E,MATCH(DATOS_MIP_SA!AI228,referentes!$E:$E,0),1))","v":""},{"$f":"IF(AK228=\"\",\"\", INDEX(referentes!$A:$B,MATCH(DATOS_MIP_SA!AK228,referentes!$B:$B,0),1))","v":""},null,{"$f":"IF(AM228=\"\",\"\", INDEX(referentes!$S:$T,MATCH(AM228,referentes!$T:$T,0),1))","v":""},{"$f":"IF(AN228=\"\",\"\", INDEX(referentes!$Y:$Z,MATCH(AN228,referentes!$Z:$Z,0),1))","v":""},{"$f":"IF(AU228=\"\",\"\", INDEX(referentes!$V:$W,MATCH(DATOS_MIP_SA!AU228,referentes!$W:$W,0),1))","v":""},{"$f":"IF(AO228=\"\",\"\", INDEX(referentes!$AB:$AC,MATCH(DATOS_MIP_SA!AO228,referentes!$AC:$AC,0),1))","v":""},{"$f":"IF(AV228=\"\",\"\", INDEX('otras referencias'!$U:$V,MATCH(DATOS_MIP_SA!AV228,'otras referencias'!$V:$V,0),1))","v":""},{"$f":"IF(AW228=\"\",\"\", INDEX(referentes!$J:$K,MATCH(DATOS_MIP_SA!AW228,referentes!$K:$K,0),1))","v":""},null,null,null,null,null,null,{"$f":"IF(X228<>\"\",INDEX(referentes!$AH:$AL,MATCH(DATOS_MIP_SA!X228,referentes!$AI:$AI,0),5),\"\")","v":""}]
[null,null,null,"",{"$f":"IF(J229=\"\",\"\",CONCATENATE(AF229,DIGITADOR!$B$2,DIGITADOR!$M$1,J229))","v":""},{"$f":"IF(J229=\"\",\"\",CONCATENATE(DIGITADOR!$B$2,AF229,DIGITADOR!$M$1,J229,ROW()))","v":""},null,null,null,{"$f":"IF(X229=\"\",\"\", INDEX(referentes!$AH:$AL,MATCH(DATOS_MIP_SA!X229,referentes!$AI:$AI,0),1))","v":""},"",{"$f":"IF(AI229=\"\",\"\", INDEX(referentes!$D:$E,MATCH(DATOS_MIP_SA!AI229,referentes!$E:$E,0),1))","v":""},{"$f":"IF(AK229=\"\",\"\", INDEX(referentes!$A:$B,MATCH(DATOS_MIP_SA!AK229,referentes!$B:$B,0),1))","v":""},null,{"$f":"IF(AM229=\"\",\"\", INDEX(referentes!$S:$T,MATCH(AM229,referentes!$T:$T,0),1))","v":""},{"$f":"IF(AN229=\"\",\"\", INDEX(referentes!$Y:$Z,MATCH(AN229,referentes!$Z:$Z,0),1))","v":""},{"$f":"IF(AU229=\"\",\"\", INDEX(referentes!$V:$W,MATCH(DATOS_MIP_SA!AU229,referentes!$W:$W,0),1))","v":""},{"$f":"IF(AO229=\"\",\"\", INDEX(referentes!$AB:$AC,MATCH(DATOS_MIP_SA!AO229,referentes!$AC:$AC,0),1))","v":""},{"$f":"IF(AV229=\"\",\"\", INDEX('otras referencias'!$U:$V,MATCH(DATOS_MIP_SA!AV229,'otras referencias'!$V:$V,0),1))","v":""},{"$f":"IF(AW229=\"\",\"\", INDEX(referentes!$J:$K,MATCH(DATOS_MIP_SA!AW229,referentes!$K:$K,0),1))","v":""},null,null,null,null,null,null,{"$f":"IF(X229<>\"\",INDEX(referentes!$AH:$AL,MATCH(DATOS_MIP_SA!X229,referentes!$AI:$AI,0),5),\"\")","v":""}]
[null,null,null,"",{"$f":"IF(J230=\"\",\"\",CONCATENATE(AF230,DIGITADOR!$B$2,DIGITADOR!$M$1,J230))","v":""},{"$f":"IF(J230=\"\",\"\",CONCATENATE(DIGITADOR!$B$2,AF230,DIGITADOR!$M$1,J230,ROW()))","v":""},null,null,null,{"$f":"IF(X230=\"\",\"\", INDEX(referentes!$AH:$AL,MATCH(DATOS_MIP_SA!X230,referentes!$AI:$AI,0),1))","v":""},"",{"$f":"IF(AI230=\"\",\"\", INDEX(referentes!$D:$E,MATCH(DATOS_MIP_SA!AI230,referentes!$E:$E,0),1))","v":""},{"$f":"IF(AK230=\"\",\"\", INDEX(referentes!$A:$B,MATCH(DATOS_MIP_SA!AK230,referentes!$B:$B,0),1))","v":""},null,{"$f":"IF(AM230=\"\",\"\", INDEX(referentes!$S:$T,MATCH(AM230,referentes!$T:$T,0),1))","v":""},{"$f":"IF(AN230=\"\",\"\", INDEX(referentes!$Y:$Z,MATCH(AN230,referentes!$Z:$Z,0),1))","v":""},{"$f":"IF(AU230=\"\",\"\", INDEX(referentes!$V:$W,MATCH(DATOS_MIP_SA!AU230,referentes!$W:$W,0),1))","v":""},{"$f":"IF(AO230=\"\",\"\", INDEX(referentes!$AB:$AC,MATCH(DATOS_MIP_SA!AO230,referentes!$AC:$AC,0),1))","v":""},{"$f":"IF(AV230=\"\",\"\", INDEX('otras referencias'!$U:$V,MATCH(DATOS_MIP_SA!AV230,'otras referencias'!$V:$V,0),1))","v":""},{"$f":"IF(AW230=\"\",\"\", INDEX(referentes!$J:$K,MATCH(DATOS_MIP_SA!AW230,referentes!$K:$K,0),1))","v":""},null,null,null,null,null,null,{"$f":"IF(X230<>\"\",INDEX(referentes!$AH:$AL,MATCH(DATOS_MIP_SA!X230,referentes!$AI:$AI,0),5),\"\")","v":""}]
[null,null,null,"",{"$f":"IF(J231=\"\",\"\",CONCATENATE(AF231,DIGITADOR!$B$2,DIGITADOR!$M$1,J231))","v":""},{"$f":"IF(J231=\"\",\"\",CONCATENATE(DIGITADOR!$B$2,AF231,DIGITADOR!$M$1,J231,ROW()))","v":""},null,null,null,{"$f":"IF(X231=\"\",\"\", INDEX(referentes!$AH:$AL,MATCH(DATOS_MIP_SA!X231,referentes!$AI:$AI,0),1))","v":""},"",{"$f":"IF(AI231=\"\",\"\", INDEX(referentes!$D:$E,MATCH(DATOS_MIP_SA!AI231,referentes!$E:$E,0),1))","v":""},{"$f":"IF(AK231=\"\",\"\", INDEX(referentes!$A:$B,MATCH(DATOS_MIP_SA!AK231,referentes!$B:$B,0),1))","v":""},null,{"$f":"IF(AM231=\"\",\"\", INDEX(referentes!$S:$T,MATCH(AM231,referentes!$T:$T,0),1))","v":""},{"$f":"IF(AN231=\"\",\"\", INDEX(referentes!$Y:$Z,MATCH(AN231,referentes!$Z:$Z,0),1))","v":""},{"$f":"IF(AU231=\"\",\"\", INDEX(referentes!$V:$W,MATCH(DATOS_MIP_SA!AU231,referentes!$W:$W,0),1))","v":""},{"$f":"IF(AO231=\"\",\"\", INDEX(referentes!$AB:$AC,MATCH(DATOS_MIP_SA!AO231,referentes!$AC:$AC,0),1))","v":""},{"$f":"IF(AV231=\"\",\"\", INDEX('otras referencias'!$U:$V,MATCH(DATOS_MIP_SA!AV231,'otras referencias'!$V:$V,0),1))","v":""},{"$f":"IF(AW231=\"\",\"\", INDEX(referentes!$J:$K,MATCH(DATOS_MIP_SA!AW231,referentes!$K:$K,0),1))","v":""},null,null,null,null,null,null,{"$f":"IF(X231<>\"\",INDEX(referentes!$AH:$AL,MATCH(DATOS_MIP_SA!X231,referentes!$AI:$AI,0),5),\"\")","v":""}]
[null,null,null,"",{"$f":"IF(J232=\"\",\"\",CONCATENATE(AF232,DIGITADOR!$B$2,DIGITADOR!$M$1,J232))","v":""},{"$f":"IF(J232=\"\",\"\",CONCATENATE(DIGITADOR!$B$2,AF232,DIGITADOR!$M$1,J232,ROW()))","v":""},null,null,null,{"$f":"IF(X232=\"\",\"\", INDEX(referentes!$AH:$AL,MATCH(DATOS_MIP_SA!X232,referentes!$AI:$AI,0),1))","v":""},"",{"$f":"IF(AI232=\"\",\"\", INDEX(referentes!$D:$E,MATCH(DATOS_MIP_SA!AI232,referentes!$E:$E,0),1))","v":""},{"$f":"IF(AK232=\"\",\"\", INDEX(referentes!$A:$B,MATCH(DATOS_MIP_SA!AK232,referentes!$B:$B,0),1))","v":""},null,{"$f":"IF(AM232=\"\",\"\", INDEX(referentes!$S:$T,MATCH(AM232,referentes!$T:$T,0),1))","v":""},{"$f":"IF(AN232=\"\",\"\", INDEX(referentes!$Y:$Z,MATCH(AN232,referentes!$Z:$Z,0),1))","v":""},{"$f":"IF(AU232=\"\",\"\", INDEX(referentes!$V:$W,MATCH(DATOS_MIP_SA!AU232,referentes!$W:$W,0),1))","v":""},{"$f":"IF(AO232=\"\",\"\", INDEX(referentes!$AB:$AC,MATCH(DATOS_MIP_SA!AO232,referentes!$AC:$AC,0),1))","v":""},{"$f":"IF(AV232=\"\",\"\", INDEX('otras referencias'!$U:$V,MATCH(DATOS_MIP_SA!AV232,'otras referencias'!$V:$V,0),1))","v":""},{"$f":"IF(AW232=\"\",\"\", INDEX(referentes!$J:$K,MATCH(DATOS_MIP_SA!AW232,referentes!$K:$K,0),1))","v":""},null,null,null,null,null,null,{"$f":"IF(X232<>\"\",INDEX(referentes!$AH:$AL,MATCH(DATOS_MIP_SA!X232,referentes!$AI:$AI,0),5),\"\")","v":""}]
[null,null,null,"",{"$f":"IF(J233=\"\",\"\",CONCATENATE(AF233,DIGITADOR!$B$2,DIGITADOR!$M$1,J233))","v":""},{"$f":"IF(J233=\"\",\"\",CONCATENATE(DIGITADOR!$B$2,AF233,DIGITADOR!$M$1,J233,ROW()))","v":""},null,null,null,{"$f":"IF(X233=\"\",\"\", INDEX(referentes!$AH:$AL,MATCH(DATOS_MIP_SA!X233,referentes!$AI:$AI,0),1))","v":""},"",{"$f":"IF(AI233=\"\",\"\", INDEX(referentes!$D:$E,MATCH(DATOS_MIP_SA!AI233,referentes!$E:$E,0),1))","v":""},{"$f":"IF(AK233=\"\",\"\", INDEX(referentes!$A:$B,MATCH(DATOS_MIP_SA!AK233,referentes!$B:$B,0),1))","v":""},null,{"$f":"IF(AM233=\"\",\"\", INDEX(referentes!$S:$T,MATCH(AM233,referentes!$T:$T,0),1))","v":""},{"$f":"IF(AN233=\"\",\"\", INDEX(referentes!$Y:$Z,MATCH(AN233,referentes!$Z:$Z,0),1))","v":""},{"$f":"IF(AU233=\"\",\"\", INDEX(referentes!$V:$W,MATCH(DATOS_MIP_SA!AU233,referentes!$W:$W,0),1))","v":""},{"$f":"IF(AO233=\"\",\"\", INDEX(referentes!$AB:$AC,MATCH(DATOS_MIP_SA!AO233,referentes!$AC:$AC,0),1))","v":""},{"$f":"IF(AV233=\"\",\"\", INDEX('otras referencias'!$U:$V,MATCH(DATOS_MIP_SA!AV233,'otras referencias'!$V:$V,0),1))","v":""},{"$f":"IF(AW233=\"\",\"\", INDEX(referentes!$J:$K,MATCH(DATOS_MIP_SA!AW233,referentes!$K:$K,0),1))","v":""},null,null,null,null,null,null,{"$f":"IF(X233<>\"\",INDEX(referentes!$AH:$AL,MATCH(DATOS_MIP_SA!X233,referentes!$AI:$AI,0),5),\"\")","v":""}]
[null,null,null,"",{"$f":"IF(J234=\"\",\"\",CONCATENATE(AF234,DIGITADOR!$B$2,DIGITADOR!$M$1,J234))","v":""},{"$f":"IF(J234=\"\",\"\",CONCATENATE(DIGITADOR!$B$2,AF234,DIGITADOR!$M$1,J234,ROW()))","v":""},null,null,null,{"$f":"IF(X234=\"\",\"\", INDEX(referentes!$AH:$AL,MATCH(DATOS_MIP_SA!X234,referentes!$AI:$AI,0),1))","v":""},"",{"$f":"IF(AI234=\"\",\"\", INDEX(referentes!$D:$E,MATCH(DATOS_MIP_SA!AI234,referentes!$E:$E,0),1))","v":""},{"$f":"IF(AK234=\"\",\"\", INDEX(referentes!$A:$B,MATCH(DATOS_MIP_SA!AK234,referentes!$B:$B,0),1))","v":""},null,{"$f":"IF(AM234=\"\",\"\", INDEX(referentes!$S:$T,MATCH(AM234,referentes!$T:$T,0),1))","v":""},{"$f":"IF(AN234=\"\",\"\", INDEX(referentes!$Y:$Z,MATCH(AN234,referentes!$Z:$Z,0),1))","v":""},{"$f":"IF(AU234=\"\",\"\", INDEX(referentes!$V:$W,MATCH(DATOS_MIP_SA!AU234,referentes!$W:$W,0),1))","v":""},{"$f":"IF(AO234=\"\",\"\", INDEX(referentes!$AB:$AC,MATCH(DATOS_MIP_SA!AO234,referentes!$AC:$AC,0),1))","v":""},{"$f":"IF(AV234=\"\",\"\", INDEX('otras referencias'!$U:$V,MATCH(DATOS_MIP_SA!AV234,'otras referencias'!$V:$V,0),1))","v":""},{"$f":"IF(AW234=\"\",\"\", INDEX(referentes!$J:$K,MATCH(DATOS_MIP_SA!AW234,referentes!$K:$K,0),1))","v":""},null,null,null,null,null,null,{"$f":"IF(X234<>\"\",INDEX(referentes!$AH:$AL,MATCH(DATOS_MIP_SA!X234,referentes!$AI:$AI,0),5),\"\")","v":""}]
[null,null,null,"",{"$f":"IF(J235=\"\",\"\",CONCATENATE(AF235,DIGITADOR!$B$2,DIGITADOR!$M$1,J235))","v":""},{"$f":"IF(J235=\"\",\"\",CONCATENATE(DIGITADOR!$B$2,AF235,DIGITADOR!$M$1,J235,ROW()))","v":""},null,null,null,{"$f":"IF(X235=\"\",\"\", INDEX(referentes!$AH:$AL,MATCH(DATOS_MIP_SA!X235,referentes!$AI:$AI,0),1))","v":""},"",{"$f":"IF(AI235=\"\",\"\", INDEX(referentes!$D:$E,MATCH(DATOS_MIP_SA!AI235,referentes!$E:$E,0),1))","v":""},{"$f":"IF(AK235=\"\",\"\", INDEX(referentes!$A:$B,MATCH(DATOS_MIP_SA!AK235,referentes!$B:$B,0),1))","v":""},null,{"$f":"IF(AM235=\"\",\"\", INDEX(referentes!$S:$T,MATCH(AM235,referentes!$T:$T,0),1))","v":""},{"$f":"IF(AN235=\"\",\"\", INDEX(referentes!$Y:$Z,MATCH(AN235,referentes!$Z:$Z,0),1))","v":""},{"$f":"IF(AU235=\"\",\"\", INDEX(referentes!$V:$W,MATCH(DATOS_MIP_SA!AU235,referentes!$W:$W,0),1))","v":""},{"$f":"IF(AO235=\"\",\"\", INDEX(referentes!$AB:$AC,MATCH(DATOS_MIP_SA!AO235,referentes!$AC:$AC,0),1))","v":""},{"$f":"IF(AV235=\"\",\"\", INDEX('otras referencias'!$U:$V,MATCH(DATOS_MIP_SA!AV235,'otras referencias'!$V:$V,0),1))","v":""},{"$f":"IF(AW235=\"\",\"\", INDEX(referentes!$J:$K,MATCH(DATOS_MIP_SA!AW235,referentes!$K:$K,0),1))","v":""},null,null,null,null,null,null,{"$f":"IF(X235<>\"\",INDEX(referentes!$AH:$AL,MATCH(DATOS_MIP_SA!X235,referentes!$AI:$AI,0),5),\"\")","v":""}]
[null,null,null,"",{"$f":"IF(J236=\"\",\"\",CONCATENATE(AF236,DIGITADOR!$B$2,DIGITADOR!$M$1,J236))","v":""},{"$f":"IF(J236=\"\",\"\",CONCATENATE(DIGITADOR!$B$2,AF236,DIGITADOR!$M$1,J236,ROW()))","v":""},null,null,null,{"$f":"IF(X236=\"\",\"\", INDEX(referentes!$AH:$AL,MATCH(DATOS_MIP_SA!X236,referentes!$AI:$AI,0),1))","v":""},"",{"$f":"IF(AI236=\"\",\"\", INDEX(referentes!$D:$E,MATCH(DATOS_MIP_SA!AI236,referentes!$E:$E,0),1))","v":""},{"$f":"IF(AK236=\"\",\"\", INDEX(referentes!$A:$B,MATCH(DATOS_MIP_SA!AK236,referentes!$B:$B,0),1))","v":""},null,{"$f":"IF(AM236=\"\",\"\", INDEX(referentes!$S:$T,MATCH(AM236,referentes!$T:$T,0),1))","v":""},{"$f":"IF(AN236=\"\",\"\", INDEX(referentes!$Y:$Z,MATCH(AN236,referentes!$Z:$Z,0),1))","v":""},{"$f":"IF(AU236=\"\",\"\", INDEX(referentes!$V:$W,MATCH(DATOS_MIP_SA!AU236,referentes!$W:$W,0),1))","v":""},{"$f":"IF(AO236=\"\",\"\", INDEX(referentes!$AB:$AC,MATCH(DATOS_MIP_SA!AO236,referentes!$AC:$AC,0),1))","v":""},{"$f":"IF(AV236=\"\",\"\", INDEX('otras referencias'!$U:$V,MATCH(DATOS_MIP_SA!AV236,'otras referencias'!$V:$V,0),1))","v":""},{"$f":"IF(AW236=\"\",\"\", INDEX(referentes!$J:$K,MATCH(DATOS_MIP_SA!AW236,referentes!$K:$K,0),1))","v":""},null,null,null,null,null,null,{"$f":"IF(X236<>\"\",INDEX(referentes!$AH:$AL,MATCH(DATOS_MIP_SA!X236,referentes!$AI:$AI,0),5),\"\")","v":""}]
[null,null,null,"",{"$f":"IF(J237=\"\",\"\",CONCATENATE(AF237,DIGITADOR!$B$2,DIGITADOR!$M$1,J237))","v":""},{"$f":"IF(J237=\"\",\"\",CONCATENATE(DIGITADOR!$B$2,AF237,DIGITADOR!$M$1,J237,ROW()))","v":""},null,null,null,{"$f":"IF(X237=\"\",\"\", INDEX(referentes!$AH:$AL,MATCH(DATOS_MIP_SA!X237,referentes!$AI:$AI,0),1))","v":""},"",{"$f":"IF(AI237=\"\",\"\", INDEX(referentes!$D:$E,MATCH(DATOS_MIP_SA!AI237,referentes!$E:$E,0),1))","v":""},{"$f":"IF(AK237=\"\",\"\", INDEX(referentes!$A:$B,MATCH(DATOS_MIP_SA!AK237,referentes!$B:$B,0),1))","v":""},null,{"$f":"IF(AM237=\"\",\"\", INDEX(referentes!$S:$T,MATCH(AM237,referentes!$T:$T,0),1))","v":""},{"$f":"IF(AN237=\"\",\"\", INDEX(referentes!$Y:$Z,MATCH(AN237,referentes!$Z:$Z,0),1))","v":""},{"$f":"IF(AU237=\"\",\"\", INDEX(referentes!$V:$W,MATCH(DATOS_MIP_SA!AU237,referentes!$W:$W,0),1))","v":""},{"$f":"IF(AO237=\"\",\"\", INDEX(referentes!$AB:$AC,MATCH(DATOS_MIP_SA!AO237,referentes!$AC:$AC,0),1))","v":""},{"$f":"IF(AV237=\"\",\"\", INDEX('otras referencias'!$U:$V,MATCH(DATOS_MIP_SA!AV237,'otras referencias'!$V:$V,0),1))","v":""},{"$f":"IF(AW237=\"\",\"\", INDEX(referentes!$J:$K,MATCH(DATOS_MIP_SA!AW237,referentes!$K:$K,0),1))","v":""},null,null,null,null,null,null,{"$f":"IF(X237<>\"\",INDEX(referentes!$AH:$AL,MATCH(DATOS_MIP_SA!X237,referentes!$AI:$AI,0),5),\"\")","v":""}]
[null,null,null,"",{"$f":"IF(J238=\"\",\"\",CONCATENATE(AF238,DIGITADOR!$B$2,DIGITADOR!$M$1,J238))","v":""},{"$f":"IF(J238=\"\",\"\",CONCATENATE(DIGITADOR!$B$2,AF238,DIGITADOR!$M$1,J238,ROW()))","v":""},null,null,null,{"$f":"IF(X238=\"\",\"\", INDEX(referentes!$AH:$AL,MATCH(DATOS_MIP_SA!X238,referentes!$AI:$AI,0),1))","v":""},"",{"$f":"IF(AI238=\"\",\"\", INDEX(referentes!$D:$E,MATCH(DATOS_MIP_SA!AI238,referentes!$E:$E,0),1))","v":""},{"$f":"IF(AK238=\"\",\"\", INDEX(referentes!$A:$B,MATCH(DATOS_MIP_SA!AK238,referentes!$B:$B,0),1))","v":""},null,{"$f":"IF(AM238=\"\",\"\", INDEX(referentes!$S:$T,MATCH(AM238,referentes!$T:$T,0),1))","v":""},{"$f":"IF(AN238=\"\",\"\", INDEX(referentes!$Y:$Z,MATCH(AN238,referentes!$Z:$Z,0),1))","v":""},{"$f":"IF(AU238=\"\",\"\", INDEX(referentes!$V:$W,MATCH(DATOS_MIP_SA!AU238,referentes!$W:$W,0),1))","v":""},{"$f":"IF(AO238=\"\",\"\", INDEX(referentes!$AB:$AC,MATCH(DATOS_MIP_SA!AO238,referentes!$AC:$AC,0),1))","v":""},{"$f":"IF(AV238=\"\",\"\", INDEX('otras referencias'!$U:$V,MATCH(DATOS_MIP_SA!AV238,'otras referencias'!$V:$V,0),1))","v":""},{"$f":"IF(AW238=\"\",\"\", INDEX(referentes!$J:$K,MATCH(DATOS_MIP_SA!AW238,referentes!$K:$K,0),1))","v":""},null,null,null,null,null,null,{"$f":"IF(X238<>\"\",INDEX(referentes!$AH:$AL,MATCH(DATOS_MIP_SA!X238,referentes!$AI:$AI,0),5),\"\")","v":""}]
[null,null,null,"",{"$f":"IF(J239=\"\",\"\",CONCATENATE(AF239,DIGITADOR!$B$2,DIGITADOR!$M$1,J239))","v":""},{"$f":"IF(J239=\"\",\"\",CONCATENATE(DIGITADOR!$B$2,AF239,DIGITADOR!$M$1,J239,ROW()))","v":""},null,null,null,{"$f":"IF(X239=\"\",\"\", INDEX(referentes!$AH:$AL,MATCH(DATOS_MIP_SA!X239,referentes!$AI:$AI,0),1))","v":""},"",{"$f":"IF(AI239=\"\",\"\", INDEX(referentes!$D:$E,MATCH(DATOS_MIP_SA!AI239,referentes!$E:$E,0),1))","v":""},{"$f":"IF(AK239=\"\",\"\", INDEX(referentes!$A:$B,MATCH(DATOS_MIP_SA!AK239,referentes!$B:$B,0),1))","v":""},null,{"$f":"IF(AM239=\"\",\"\", INDEX(referentes!$S:$T,MATCH(AM239,referentes!$T:$T,0),1))","v":""},{"$f":"IF(AN239=\"\",\"\", INDEX(referentes!$Y:$Z,MATCH(AN239,referentes!$Z:$Z,0),1))","v":""},{"$f":"IF(AU239=\"\",\"\", INDEX(referentes!$V:$W,MATCH(DATOS_MIP_SA!AU239,referentes!$W:$W,0),1))","v":""},{"$f":"IF(AO239=\"\",\"\", INDEX(referentes!$AB:$AC,MATCH(DATOS_MIP_SA!AO239,referentes!$AC:$AC,0),1))","v":""},{"$f":"IF(AV239=\"\",\"\", INDEX('otras referencias'!$U:$V,MATCH(DATOS_MIP_SA!AV239,'otras referencias'!$V:$V,0),1))","v":""},{"$f":"IF(AW239=\"\",\"\", INDEX(referentes!$J:$K,MATCH(DATOS_MIP_SA!AW239,referentes!$K:$K,0),1))","v":""},null,null,null,null,null,null,{"$f":"IF(X239<>\"\",INDEX(referentes!$AH:$AL,MATCH(DATOS_MIP_SA!X239,referentes!$AI:$AI,0),5),\"\")","v":""}]
[null,null,null,"",{"$f":"IF(J240=\"\",\"\",CONCATENATE(AF240,DIGITADOR!$B$2,DIGITADOR!$M$1,J240))","v":""},{"$f":"IF(J240=\"\",\"\",CONCATENATE(DIGITADOR!$B$2,AF240,DIGITADOR!$M$1,J240,ROW()))","v":""},null,null,null,{"$f":"IF(X240=\"\",\"\", INDEX(referentes!$AH:$AL,MATCH(DATOS_MIP_SA!X240,referentes!$AI:$AI,0),1))","v":""},"",{"$f":"IF(AI240=\"\",\"\", INDEX(referentes!$D:$E,MATCH(DATOS_MIP_SA!AI240,referentes!$E:$E,0),1))","v":""},{"$f":"IF(AK240=\"\",\"\", INDEX(referentes!$A:$B,MATCH(DATOS_MIP_SA!AK240,referentes!$B:$B,0),1))","v":""},null,{"$f":"IF(AM240=\"\",\"\", INDEX(referentes!$S:$T,MATCH(AM240,referentes!$T:$T,0),1))","v":""},{"$f":"IF(AN240=\"\",\"\", INDEX(referentes!$Y:$Z,MATCH(AN240,referentes!$Z:$Z,0),1))","v":""},{"$f":"IF(AU240=\"\",\"\", INDEX(referentes!$V:$W,MATCH(DATOS_MIP_SA!AU240,referentes!$W:$W,0),1))","v":""},{"$f":"IF(AO240=\"\",\"\", INDEX(referentes!$AB:$AC,MATCH(DATOS_MIP_SA!AO240,referentes!$AC:$AC,0),1))","v":""},{"$f":"IF(AV240=\"\",\"\", INDEX('otras referencias'!$U:$V,MATCH(DATOS_MIP_SA!AV240,'otras referencias'!$V:$V,0),1))","v":""},{"$f":"IF(AW240=\"\",\"\", INDEX(referentes!$J:$K,MATCH(DATOS_MIP_SA!AW240,referentes!$K:$K,0),1))","v":""},null,null,null,null,null,null,{"$f":"IF(X240<>\"\",INDEX(referentes!$AH:$AL,MATCH(DATOS_MIP_SA!X240,referentes!$AI:$AI,0),5),\"\")","v":""}]
[null,null,null,"",{"$f":"IF(J241=\"\",\"\",CONCATENATE(AF241,DIGITADOR!$B$2,DIGITADOR!$M$1,J241))","v":""},{"$f":"IF(J241=\"\",\"\",CONCATENATE(DIGITADOR!$B$2,AF241,DIGITADOR!$M$1,J241,ROW()))","v":""},null,null,null,{"$f":"IF(X241=\"\",\"\", INDEX(referentes!$AH:$AL,MATCH(DATOS_MIP_SA!X241,referentes!$AI:$AI,0),1))","v":""},"",{"$f":"IF(AI241=\"\",\"\", INDEX(referentes!$D:$E,MATCH(DATOS_MIP_SA!AI241,referentes!$E:$E,0),1))","v":""},{"$f":"IF(AK241=\"\",\"\", INDEX(referentes!$A:$B,MATCH(DATOS_MIP_SA!AK241,referentes!$B:$B,0),1))","v":""},null,{"$f":"IF(AM241=\"\",\"\", INDEX(referentes!$S:$T,MATCH(AM241,referentes!$T:$T,0),1))","v":""},{"$f":"IF(AN241=\"\",\"\", INDEX(referentes!$Y:$Z,MATCH(AN241,referentes!$Z:$Z,0),1))","v":""},{"$f":"IF(AU241=\"\",\"\", INDEX(referentes!$V:$W,MATCH(DATOS_MIP_SA!AU241,referentes!$W:$W,0),1))","v":""},{"$f":"IF(AO241=\"\",\"\", INDEX(referentes!$AB:$AC,MATCH(DATOS_MIP_SA!AO241,referentes!$AC:$AC,0),1))","v":""},{"$f":"IF(AV241=\"\",\"\", INDEX('otras referencias'!$U:$V,MATCH(DATOS_MIP_SA!AV241,'otras referencias'!$V:$V,0),1))","v":""},{"$f":"IF(AW241=\"\",\"\", INDEX(referentes!$J:$K,MATCH(DATOS_MIP_SA!AW241,referentes!$K:$K,0),1))","v":""},null,null,null,null,null,null,{"$f":"IF(X241<>\"\",INDEX(referentes!$AH:$AL,MATCH(DATOS_MIP_SA!X241,referentes!$AI:$AI,0),5),\"\")","v":""}]
[null,null,null,"",{"$f":"IF(J242=\"\",\"\",CONCATENATE(AF242,DIGITADOR!$B$2,DIGITADOR!$M$1,J242))","v":""},{"$f":"IF(J242=\"\",\"\",CONCATENATE(DIGITADOR!$B$2,AF242,DIGITADOR!$M$1,J242,ROW()))","v":""},null,null,null,{"$f":"IF(X242=\"\",\"\", INDEX(referentes!$AH:$AL,MATCH(DATOS_MIP_SA!X242,referentes!$AI:$AI,0),1))","v":""},"",{"$f":"IF(AI242=\"\",\"\", INDEX(referentes!$D:$E,MATCH(DATOS_MIP_SA!AI242,referentes!$E:$E,0),1))","v":""},{"$f":"IF(AK242=\"\",\"\", INDEX(referentes!$A:$B,MATCH(DATOS_MIP_SA!AK242,referentes!$B:$B,0),1))","v":""},null,{"$f":"IF(AM242=\"\",\"\", INDEX(referentes!$S:$T,MATCH(AM242,referentes!$T:$T,0),1))","v":""},{"$f":"IF(AN242=\"\",\"\", INDEX(referentes!$Y:$Z,MATCH(AN242,referentes!$Z:$Z,0),1))","v":""},{"$f":"IF(AU242=\"\",\"\", INDEX(referentes!$V:$W,MATCH(DATOS_MIP_SA!AU242,referentes!$W:$W,0),1))","v":""},{"$f":"IF(AO242=\"\",\"\", INDEX(referentes!$AB:$AC,MATCH(DATOS_MIP_SA!AO242,referentes!$AC:$AC,0),1))","v":""},{"$f":"IF(AV242=\"\",\"\", INDEX('otras referencias'!$U:$V,MATCH(DATOS_MIP_SA!AV242,'otras referencias'!$V:$V,0),1))","v":""},{"$f":"IF(AW242=\"\",\"\", INDEX(referentes!$J:$K,MATCH(DATOS_MIP_SA!AW242,referentes!$K:$K,0),1))","v":""},null,null,null,null,null,null,{"$f":"IF(X242<>\"\",INDEX(referentes!$AH:$AL,MATCH(DATOS_MIP_SA!X242,referentes!$AI:$AI,0),5),\"\")","v":""}]
[null,null,null,"",{"$f":"IF(J243=\"\",\"\",CONCATENATE(AF243,DIGITADOR!$B$2,DIGITADOR!$M$1,J243))","v":""},{"$f":"IF(J243=\"\",\"\",CONCATENATE(DIGITADOR!$B$2,AF243,DIGITADOR!$M$1,J243,ROW()))","v":""},null,null,null,{"$f":"IF(X243=\"\",\"\", INDEX(referentes!$AH:$AL,MATCH(DATOS_MIP_SA!X243,referentes!$AI:$AI,0),1))","v":""},"",{"$f":"IF(AI243=\"\",\"\", INDEX(referentes!$D:$E,MATCH(DATOS_MIP_SA!AI243,referentes!$E:$E,0),1))","v":""},{"$f":"IF(AK243=\"\",\"\", INDEX(referentes!$A:$B,MATCH(DATOS_MIP_SA!AK243,referentes!$B:$B,0),1))","v":""},null,{"$f":"IF(AM243=\"\",\"\", INDEX(referentes!$S:$T,MATCH(AM243,referentes!$T:$T,0),1))","v":""},{"$f":"IF(AN243=\"\",\"\", INDEX(referentes!$Y:$Z,MATCH(AN243,referentes!$Z:$Z,0),1))","v":""},{"$f":"IF(AU243=\"\",\"\", INDEX(referentes!$V:$W,MATCH(DATOS_MIP_SA!AU243,referentes!$W:$W,0),1))","v":""},{"$f":"IF(AO243=\"\",\"\", INDEX(referentes!$AB:$AC,MATCH(DATOS_MIP_SA!AO243,referentes!$AC:$AC,0),1))","v":""},{"$f":"IF(AV243=\"\",\"\", INDEX('otras referencias'!$U:$V,MATCH(DATOS_MIP_SA!AV243,'otras referencias'!$V:$V,0),1))","v":""},{"$f":"IF(AW243=\"\",\"\", INDEX(referentes!$J:$K,MATCH(DATOS_MIP_SA!AW243,referentes!$K:$K,0),1))","v":""},null,null,null,null,null,null,{"$f":"IF(X243<>\"\",INDEX(referentes!$AH:$AL,MATCH(DATOS_MIP_SA!X243,referentes!$AI:$AI,0),5),\"\")","v":""}]
[null,null,null,"",{"$f":"IF(J244=\"\",\"\",CONCATENATE(AF244,DIGITADOR!$B$2,DIGITADOR!$M$1,J244))","v":""},{"$f":"IF(J244=\"\",\"\",CONCATENATE(DIGITADOR!$B$2,AF244,DIGITADOR!$M$1,J244,ROW()))","v":""},null,null,null,{"$f":"IF(X244=\"\",\"\", INDEX(referentes!$AH:$AL,MATCH(DATOS_MIP_SA!X244,referentes!$AI:$AI,0),1))","v":""},"",{"$f":"IF(AI244=\"\",\"\", INDEX(referentes!$D:$E,MATCH(DATOS_MIP_SA!AI244,referentes!$E:$E,0),1))","v":""},{"$f":"IF(AK244=\"\",\"\", INDEX(referentes!$A:$B,MATCH(DATOS_MIP_SA!AK244,referentes!$B:$B,0),1))","v":""},null,{"$f":"IF(AM244=\"\",\"\", INDEX(referentes!$S:$T,MATCH(AM244,referentes!$T:$T,0),1))","v":""},{"$f":"IF(AN244=\"\",\"\", INDEX(referentes!$Y:$Z,MATCH(AN244,referentes!$Z:$Z,0),1))","v":""},{"$f":"IF(AU244=\"\",\"\", INDEX(referentes!$V:$W,MATCH(DATOS_MIP_SA!AU244,referentes!$W:$W,0),1))","v":""},{"$f":"IF(AO244=\"\",\"\", INDEX(referentes!$AB:$AC,MATCH(DATOS_MIP_SA!AO244,referentes!$AC:$AC,0),1))","v":""},{"$f":"IF(AV244=\"\",\"\", INDEX('otras referencias'!$U:$V,MATCH(DATOS_MIP_SA!AV244,'otras referencias'!$V:$V,0),1))","v":""},{"$f":"IF(AW244=\"\",\"\", INDEX(referentes!$J:$K,MATCH(DATOS_MIP_SA!AW244,referentes!$K:$K,0),1))","v":""},null,null,null,null,null,null,{"$f":"IF(X244<>\"\",INDEX(referentes!$AH:$AL,MATCH(DATOS_MIP_SA!X244,referentes!$AI:$AI,0),5),\"\")","v":""}]
[null,null,null,"",{"$f":"IF(J245=\"\",\"\",CONCATENATE(AF245,DIGITADOR!$B$2,DIGITADOR!$M$1,J245))","v":""},{"$f":"IF(J245=\"\",\"\",CONCATENATE(DIGITADOR!$B$2,AF245,DIGITADOR!$M$1,J245,ROW()))","v":""},null,null,null,{"$f":"IF(X245=\"\",\"\", INDEX(referentes!$AH:$AL,MATCH(DATOS_MIP_SA!X245,referentes!$AI:$AI,0),1))","v":""},"",{"$f":"IF(AI245=\"\",\"\", INDEX(referentes!$D:$E,MATCH(DATOS_MIP_SA!AI245,referentes!$E:$E,0),1))","v":""},{"$f":"IF(AK245=\"\",\"\", INDEX(referentes!$A:$B,MATCH(DATOS_MIP_SA!AK245,referentes!$B:$B,0),1))","v":""},null,{"$f":"IF(AM245=\"\",\"\", INDEX(referentes!$S:$T,MATCH(AM245,referentes!$T:$T,0),1))","v":""},{"$f":"IF(AN245=\"\",\"\", INDEX(referentes!$Y:$Z,MATCH(AN245,referentes!$Z:$Z,0),1))","v":""},{"$f":"IF(AU245=\"\",\"\", INDEX(referentes!$V:$W,MATCH(DATOS_MIP_SA!AU245,referentes!$W:$W,0),1))","v":""},{"$f":"IF(AO245=\"\",\"\", INDEX(referentes!$AB:$AC,MATCH(DATOS_MIP_SA!AO245,referentes!$AC:$AC,0),1))","v":""},{"$f":"IF(AV245=\"\",\"\", INDEX('otras referencias'!$U:$V,MATCH(DATOS_MIP_SA!AV245,'otras referencias'!$V:$V,0),1))","v":""},{"$f":"IF(AW245=\"\",\"\", INDEX(referentes!$J:$K,MATCH(DATOS_MIP_SA!AW245,referentes!$K:$K,0),1))","v":""},null,null,null,null,null,null,{"$f":"IF(X245<>\"\",INDEX(referentes!$AH:$AL,MATCH(DATOS_MIP_SA!X245,referentes!$AI:$AI,0),5),\"\")","v":""}]
[null,null,null,"",{"$f":"IF(J246=\"\",\"\",CONCATENATE(AF246,DIGITADOR!$B$2,DIGITADOR!$M$1,J246))","v":""},{"$f":"IF(J246=\"\",\"\",CONCATENATE(DIGITADOR!$B$2,AF246,DIGITADOR!$M$1,J246,ROW()))","v":""},null,null,null,{"$f":"IF(X246=\"\",\"\", INDEX(referentes!$AH:$AL,MATCH(DATOS_MIP_SA!X246,referentes!$AI:$AI,0),1))","v":""},"",{"$f":"IF(AI246=\"\",\"\", INDEX(referentes!$D:$E,MATCH(DATOS_MIP_SA!AI246,referentes!$E:$E,0),1))","v":""},{"$f":"IF(AK246=\"\",\"\", INDEX(referentes!$A:$B,MATCH(DATOS_MIP_SA!AK246,referentes!$B:$B,0),1))","v":""},null,{"$f":"IF(AM246=\"\",\"\", INDEX(referentes!$S:$T,MATCH(AM246,referentes!$T:$T,0),1))","v":""},{"$f":"IF(AN246=\"\",\"\", INDEX(referentes!$Y:$Z,MATCH(AN246,referentes!$Z:$Z,0),1))","v":""},{"$f":"IF(AU246=\"\",\"\", INDEX(referentes!$V:$W,MATCH(DATOS_MIP_SA!AU246,referentes!$W:$W,0),1))","v":""},{"$f":"IF(AO246=\"\",\"\", INDEX(referentes!$AB:$AC,MATCH(DATOS_MIP_SA!AO246,referentes!$AC:$AC,0),1))","v":""},{"$f":"IF(AV246=\"\",\"\", INDEX('otras referencias'!$U:$V,MATCH(DATOS_MIP_SA!AV246,'otras referencias'!$V:$V,0),1))","v":""},{"$f":"IF(AW246=\"\",\"\", INDEX(referentes!$J:$K,MATCH(DATOS_MIP_SA!AW246,referentes!$K:$K,0),1))","v":""},null,null,null,null,null,null,{"$f":"IF(X246<>\"\",INDEX(referentes!$AH:$AL,MATCH(DATOS_MIP_SA!X246,referentes!$AI:$AI,0),5),\"\")","v":""}]
[null,null,null,"",{"$f":"IF(J247=\"\",\"\",CONCATENATE(AF247,DIGITADOR!$B$2,DIGITADOR!$M$1,J247))","v":""},{"$f":"IF(J247=\"\",\"\",CONCATENATE(DIGITADOR!$B$2,AF247,DIGITADOR!$M$1,J247,ROW()))","v":""},null,null,null,{"$f":"IF(X247=\"\",\"\", INDEX(referentes!$AH:$AL,MATCH(DATOS_MIP_SA!X247,referentes!$AI:$AI,0),1))","v":""},"",{"$f":"IF(AI247=\"\",\"\", INDEX(referentes!$D:$E,MATCH(DATOS_MIP_SA!AI247,referentes!$E:$E,0),1))","v":""},{"$f":"IF(AK247=\"\",\"\", INDEX(referentes!$A:$B,MATCH(DATOS_MIP_SA!AK247,referentes!$B:$B,0),1))","v":""},null,{"$f":"IF(AM247=\"\",\"\", INDEX(referentes!$S:$T,MATCH(AM247,referentes!$T:$T,0),1))","v":""},{"$f":"IF(AN247=\"\",\"\", INDEX(referentes!$Y:$Z,MATCH(AN247,referentes!$Z:$Z,0),1))","v":""},{"$f":"IF(AU247=\"\",\"\", INDEX(referentes!$V:$W,MATCH(DATOS_MIP_SA!AU247,referentes!$W:$W,0),1))","v":""},{"$f":"IF(AO247=\"\",\"\", INDEX(referentes!$AB:$AC,MATCH(DATOS_MIP_SA!AO247,referentes!$AC:$AC,0),1))","v":""},{"$f":"IF(AV247=\"\",\"\", INDEX('otras referencias'!$U:$V,MATCH(DATOS_MIP_SA!AV247,'otras referencias'!$V:$V,0),1))","v":""},{"$f":"IF(AW247=\"\",\"\", INDEX(referentes!$J:$K,MATCH(DATOS_MIP_SA!AW247,referentes!$K:$K,0),1))","v":""},null,null,null,null,null,null,{"$f":"IF(X247<>\"\",INDEX(referentes!$AH:$AL,MATCH(DATOS_MIP_SA!X247,referentes!$AI:$AI,0),5),\"\")","v":""}]
[null,null,null,"",{"$f":"IF(J248=\"\",\"\",CONCATENATE(AF248,DIGITADOR!$B$2,DIGITADOR!$M$1,J248))","v":""},{"$f":"IF(J248=\"\",\"\",CONCATENATE(DIGITADOR!$B$2,AF248,DIGITADOR!$M$1,J248,ROW()))","v":""},null,null,null,{"$f":"IF(X248=\"\",\"\", INDEX(referentes!$AH:$AL,MATCH(DATOS_MIP_SA!X248,referentes!$AI:$AI,0),1))","v":""},"",{"$f":"IF(AI248=\"\",\"\", INDEX(referentes!$D:$E,MATCH(DATOS_MIP_SA!AI248,referentes!$E:$E,0),1))","v":""},{"$f":"IF(AK248=\"\",\"\", INDEX(referentes!$A:$B,MATCH(DATOS_MIP_SA!AK248,referentes!$B:$B,0),1))","v":""},null,{"$f":"IF(AM248=\"\",\"\", INDEX(referentes!$S:$T,MATCH(AM248,referentes!$T:$T,0),1))","v":""},{"$f":"IF(AN248=\"\",\"\", INDEX(referentes!$Y:$Z,MATCH(AN248,referentes!$Z:$Z,0),1))","v":""},{"$f":"IF(AU248=\"\",\"\", INDEX(referentes!$V:$W,MATCH(DATOS_MIP_SA!AU248,referentes!$W:$W,0),1))","v":""},{"$f":"IF(AO248=\"\",\"\", INDEX(referentes!$AB:$AC,MATCH(DATOS_MIP_SA!AO248,referentes!$AC:$AC,0),1))","v":""},{"$f":"IF(AV248=\"\",\"\", INDEX('otras referencias'!$U:$V,MATCH(DATOS_MIP_SA!AV248,'otras referencias'!$V:$V,0),1))","v":""},{"$f":"IF(AW248=\"\",\"\", INDEX(referentes!$J:$K,MATCH(DATOS_MIP_SA!AW248,referentes!$K:$K,0),1))","v":""},null,null,null,null,null,null,{"$f":"IF(X248<>\"\",INDEX(referentes!$AH:$AL,MATCH(DATOS_MIP_SA!X248,referentes!$AI:$AI,0),5),\"\")","v":""}]
[null,null,null,"",{"$f":"IF(J249=\"\",\"\",CONCATENATE(AF249,DIGITADOR!$B$2,DIGITADOR!$M$1,J249))","v":""},{"$f":"IF(J249=\"\",\"\",CONCATENATE(DIGITADOR!$B$2,AF249,DIGITADOR!$M$1,J249,ROW()))","v":""},null,null,null,{"$f":"IF(X249=\"\",\"\", INDEX(referentes!$AH:$AL,MATCH(DATOS_MIP_SA!X249,referentes!$AI:$AI,0),1))","v":""},"",{"$f":"IF(AI249=\"\",\"\", INDEX(referentes!$D:$E,MATCH(DATOS_MIP_SA!AI249,referentes!$E:$E,0),1))","v":""},{"$f":"IF(AK249=\"\",\"\", INDEX(referentes!$A:$B,MATCH(DATOS_MIP_SA!AK249,referentes!$B:$B,0),1))","v":""},null,{"$f":"IF(AM249=\"\",\"\", INDEX(referentes!$S:$T,MATCH(AM249,referentes!$T:$T,0),1))","v":""},{"$f":"IF(AN249=\"\",\"\", INDEX(referentes!$Y:$Z,MATCH(AN249,referentes!$Z:$Z,0),1))","v":""},{"$f":"IF(AU249=\"\",\"\", INDEX(referentes!$V:$W,MATCH(DATOS_MIP_SA!AU249,referentes!$W:$W,0),1))","v":""},{"$f":"IF(AO249=\"\",\"\", INDEX(referentes!$AB:$AC,MATCH(DATOS_MIP_SA!AO249,referentes!$AC:$AC,0),1))","v":""},{"$f":"IF(AV249=\"\",\"\", INDEX('otras referencias'!$U:$V,MATCH(DATOS_MIP_SA!AV249,'otras referencias'!$V:$V,0),1))","v":""},{"$f":"IF(AW249=\"\",\"\", INDEX(referentes!$J:$K,MATCH(DATOS_MIP_SA!AW249,referentes!$K:$K,0),1))","v":""},null,null,null,null,null,null,{"$f":"IF(X249<>\"\",INDEX(referentes!$AH:$AL,MATCH(DATOS_MIP_SA!X249,referentes!$AI:$AI,0),5),\"\")","v":""}]
[null,null,null,"",{"$f":"IF(J250=\"\",\"\",CONCATENATE(AF250,DIGITADOR!$B$2,DIGITADOR!$M$1,J250))","v":""},{"$f":"IF(J250=\"\",\"\",CONCATENATE(DIGITADOR!$B$2,AF250,DIGITADOR!$M$1,J250,ROW()))","v":""},null,null,null,{"$f":"IF(X250=\"\",\"\", INDEX(referentes!$AH:$AL,MATCH(DATOS_MIP_SA!X250,referentes!$AI:$AI,0),1))","v":""},"",{"$f":"IF(AI250=\"\",\"\", INDEX(referentes!$D:$E,MATCH(DATOS_MIP_SA!AI250,referentes!$E:$E,0),1))","v":""},{"$f":"IF(AK250=\"\",\"\", INDEX(referentes!$A:$B,MATCH(DATOS_MIP_SA!AK250,referentes!$B:$B,0),1))","v":""},null,{"$f":"IF(AM250=\"\",\"\", INDEX(referentes!$S:$T,MATCH(AM250,referentes!$T:$T,0),1))","v":""},{"$f":"IF(AN250=\"\",\"\", INDEX(referentes!$Y:$Z,MATCH(AN250,referentes!$Z:$Z,0),1))","v":""},{"$f":"IF(AU250=\"\",\"\", INDEX(referentes!$V:$W,MATCH(DATOS_MIP_SA!AU250,referentes!$W:$W,0),1))","v":""},{"$f":"IF(AO250=\"\",\"\", INDEX(referentes!$AB:$AC,MATCH(DATOS_MIP_SA!AO250,referentes!$AC:$AC,0),1))","v":""},{"$f":"IF(AV250=\"\",\"\", INDEX('otras referencias'!$U:$V,MATCH(DATOS_MIP_SA!AV250,'otras referencias'!$V:$V,0),1))","v":""},{"$f":"IF(AW250=\"\",\"\", INDEX(referentes!$J:$K,MATCH(DATOS_MIP_SA!AW250,referentes!$K:$K,0),1))","v":""},null,null,null,null,null,null,{"$f":"IF(X250<>\"\",INDEX(referentes!$AH:$AL,MATCH(DATOS_MIP_SA!X250,referentes!$AI:$AI,0),5),\"\")","v":""}]
[null,null,null,"",{"$f":"IF(J251=\"\",\"\",CONCATENATE(AF251,DIGITADOR!$B$2,DIGITADOR!$M$1,J251))","v":""},{"$f":"IF(J251=\"\",\"\",CONCATENATE(DIGITADOR!$B$2,AF251,DIGITADOR!$M$1,J251,ROW()))","v":""},null,null,null,{"$f":"IF(X251=\"\",\"\", INDEX(referentes!$AH:$AL,MATCH(DATOS_MIP_SA!X251,referentes!$AI:$AI,0),1))","v":""},"",{"$f":"IF(AI251=\"\",\"\", INDEX(referentes!$D:$E,MATCH(DATOS_MIP_SA!AI251,referentes!$E:$E,0),1))","v":""},{"$f":"IF(AK251=\"\",\"\", INDEX(referentes!$A:$B,MATCH(DATOS_MIP_SA!AK251,referentes!$B:$B,0),1))","v":""},null,{"$f":"IF(AM251=\"\",\"\", INDEX(referentes!$S:$T,MATCH(AM251,referentes!$T:$T,0),1))","v":""},{"$f":"IF(AN251=\"\",\"\", INDEX(referentes!$Y:$Z,MATCH(AN251,referentes!$Z:$Z,0),1))","v":""},{"$f":"IF(AU251=\"\",\"\", INDEX(referentes!$V:$W,MATCH(DATOS_MIP_SA!AU251,referentes!$W:$W,0),1))","v":""},{"$f":"IF(AO251=\"\",\"\", INDEX(referentes!$AB:$AC,MATCH(DATOS_MIP_SA!AO251,referentes!$AC:$AC,0),1))","v":""},{"$f":"IF(AV251=\"\",\"\", INDEX('otras referencias'!$U:$V,MATCH(DATOS_MIP_SA!AV251,'otras referencias'!$V:$V,0),1))","v":""},{"$f":"IF(AW251=\"\",\"\", INDEX(referentes!$J:$K,MATCH(DATOS_MIP_SA!AW251,referentes!$K:$K,0),1))","v":""},null,null,null,null,null,null,{"$f":"IF(X251<>\"\",INDEX(referentes!$AH:$AL,MATCH(DATOS_MIP_SA!X251,referentes!$AI:$AI,0),5),\"\")","v":""}]
[null,null,null,"",{"$f":"IF(J252=\"\",\"\",CONCATENATE(AF252,DIGITADOR!$B$2,DIGITADOR!$M$1,J252))","v":""},{"$f":"IF(J252=\"\",\"\",CONCATENATE(DIGITADOR!$B$2,AF252,DIGITADOR!$M$1,J252,ROW()))","v":""},null,null,null,{"$f":"IF(X252=\"\",\"\", INDEX(referentes!$AH:$AL,MATCH(DATOS_MIP_SA!X252,referentes!$AI:$AI,0),1))","v":""},"",{"$f":"IF(AI252=\"\",\"\", INDEX(referentes!$D:$E,MATCH(DATOS_MIP_SA!AI252,referentes!$E:$E,0),1))","v":""},{"$f":"IF(AK252=\"\",\"\", INDEX(referentes!$A:$B,MATCH(DATOS_MIP_SA!AK252,referentes!$B:$B,0),1))","v":""},null,{"$f":"IF(AM252=\"\",\"\", INDEX(referentes!$S:$T,MATCH(AM252,referentes!$T:$T,0),1))","v":""},{"$f":"IF(AN252=\"\",\"\", INDEX(referentes!$Y:$Z,MATCH(AN252,referentes!$Z:$Z,0),1))","v":""},{"$f":"IF(AU252=\"\",\"\", INDEX(referentes!$V:$W,MATCH(DATOS_MIP_SA!AU252,referentes!$W:$W,0),1))","v":""},{"$f":"IF(AO252=\"\",\"\", INDEX(referentes!$AB:$AC,MATCH(DATOS_MIP_SA!AO252,referentes!$AC:$AC,0),1))","v":""},{"$f":"IF(AV252=\"\",\"\", INDEX('otras referencias'!$U:$V,MATCH(DATOS_MIP_SA!AV252,'otras referencias'!$V:$V,0),1))","v":""},{"$f":"IF(AW252=\"\",\"\", INDEX(referentes!$J:$K,MATCH(DATOS_MIP_SA!AW252,referentes!$K:$K,0),1))","v":""},null,null,null,null,null,null,{"$f":"IF(X252<>\"\",INDEX(referentes!$AH:$AL,MATCH(DATOS_MIP_SA!X252,referentes!$AI:$AI,0),5),\"\")","v":""}]
[null,null,null,"",{"$f":"IF(J253=\"\",\"\",CONCATENATE(AF253,DIGITADOR!$B$2,DIGITADOR!$M$1,J253))","v":""},{"$f":"IF(J253=\"\",\"\",CONCATENATE(DIGITADOR!$B$2,AF253,DIGITADOR!$M$1,J253,ROW()))","v":""},null,null,null,{"$f":"IF(X253=\"\",\"\", INDEX(referentes!$AH:$AL,MATCH(DATOS_MIP_SA!X253,referentes!$AI:$AI,0),1))","v":""},"",{"$f":"IF(AI253=\"\",\"\", INDEX(referentes!$D:$E,MATCH(DATOS_MIP_SA!AI253,referentes!$E:$E,0),1))","v":""},{"$f":"IF(AK253=\"\",\"\", INDEX(referentes!$A:$B,MATCH(DATOS_MIP_SA!AK253,referentes!$B:$B,0),1))","v":""},null,{"$f":"IF(AM253=\"\",\"\", INDEX(referentes!$S:$T,MATCH(AM253,referentes!$T:$T,0),1))","v":""},{"$f":"IF(AN253=\"\",\"\", INDEX(referentes!$Y:$Z,MATCH(AN253,referentes!$Z:$Z,0),1))","v":""},{"$f":"IF(AU253=\"\",\"\", INDEX(referentes!$V:$W,MATCH(DATOS_MIP_SA!AU253,referentes!$W:$W,0),1))","v":""},{"$f":"IF(AO253=\"\",\"\", INDEX(referentes!$AB:$AC,MATCH(DATOS_MIP_SA!AO253,referentes!$AC:$AC,0),1))","v":""},{"$f":"IF(AV253=\"\",\"\", INDEX('otras referencias'!$U:$V,MATCH(DATOS_MIP_SA!AV253,'otras referencias'!$V:$V,0),1))","v":""},{"$f":"IF(AW253=\"\",\"\", INDEX(referentes!$J:$K,MATCH(DATOS_MIP_SA!AW253,referentes!$K:$K,0),1))","v":""},null,null,null,null,null,null,{"$f":"IF(X253<>\"\",INDEX(referentes!$AH:$AL,MATCH(DATOS_MIP_SA!X253,referentes!$AI:$AI,0),5),\"\")","v":""}]
[null,null,null,"",{"$f":"IF(J254=\"\",\"\",CONCATENATE(AF254,DIGITADOR!$B$2,DIGITADOR!$M$1,J254))","v":""},{"$f":"IF(J254=\"\",\"\",CONCATENATE(DIGITADOR!$B$2,AF254,DIGITADOR!$M$1,J254,ROW()))","v":""},null,null,null,{"$f":"IF(X254=\"\",\"\", INDEX(referentes!$AH:$AL,MATCH(DATOS_MIP_SA!X254,referentes!$AI:$AI,0),1))","v":""},"",{"$f":"IF(AI254=\"\",\"\", INDEX(referentes!$D:$E,MATCH(DATOS_MIP_SA!AI254,referentes!$E:$E,0),1))","v":""},{"$f":"IF(AK254=\"\",\"\", INDEX(referentes!$A:$B,MATCH(DATOS_MIP_SA!AK254,referentes!$B:$B,0),1))","v":""},null,{"$f":"IF(AM254=\"\",\"\", INDEX(referentes!$S:$T,MATCH(AM254,referentes!$T:$T,0),1))","v":""},{"$f":"IF(AN254=\"\",\"\", INDEX(referentes!$Y:$Z,MATCH(AN254,referentes!$Z:$Z,0),1))","v":""},{"$f":"IF(AU254=\"\",\"\", INDEX(referentes!$V:$W,MATCH(DATOS_MIP_SA!AU254,referentes!$W:$W,0),1))","v":""},{"$f":"IF(AO254=\"\",\"\", INDEX(referentes!$AB:$AC,MATCH(DATOS_MIP_SA!AO254,referentes!$AC:$AC,0),1))","v":""},{"$f":"IF(AV254=\"\",\"\", INDEX('otras referencias'!$U:$V,MATCH(DATOS_MIP_SA!AV254,'otras referencias'!$V:$V,0),1))","v":""},{"$f":"IF(AW254=\"\",\"\", INDEX(referentes!$J:$K,MATCH(DATOS_MIP_SA!AW254,referentes!$K:$K,0),1))","v":""},null,null,null,null,null,null,{"$f":"IF(X254<>\"\",INDEX(referentes!$AH:$AL,MATCH(DATOS_MIP_SA!X254,referentes!$AI:$AI,0),5),\"\")","v":""}]
[null,null,null,"",{"$f":"IF(J255=\"\",\"\",CONCATENATE(AF255,DIGITADOR!$B$2,DIGITADOR!$M$1,J255))","v":""},{"$f":"IF(J255=\"\",\"\",CONCATENATE(DIGITADOR!$B$2,AF255,DIGITADOR!$M$1,J255,ROW()))","v":""},null,null,null,{"$f":"IF(X255=\"\",\"\", INDEX(referentes!$AH:$AL,MATCH(DATOS_MIP_SA!X255,referentes!$AI:$AI,0),1))","v":""},"",{"$f":"IF(AI255=\"\",\"\", INDEX(referentes!$D:$E,MATCH(DATOS_MIP_SA!AI255,referentes!$E:$E,0),1))","v":""},{"$f":"IF(AK255=\"\",\"\", INDEX(referentes!$A:$B,MATCH(DATOS_MIP_SA!AK255,referentes!$B:$B,0),1))","v":""},null,{"$f":"IF(AM255=\"\",\"\", INDEX(referentes!$S:$T,MATCH(AM255,referentes!$T:$T,0),1))","v":""},{"$f":"IF(AN255=\"\",\"\", INDEX(referentes!$Y:$Z,MATCH(AN255,referentes!$Z:$Z,0),1))","v":""},{"$f":"IF(AU255=\"\",\"\", INDEX(referentes!$V:$W,MATCH(DATOS_MIP_SA!AU255,referentes!$W:$W,0),1))","v":""},{"$f":"IF(AO255=\"\",\"\", INDEX(referentes!$AB:$AC,MATCH(DATOS_MIP_SA!AO255,referentes!$AC:$AC,0),1))","v":""},{"$f":"IF(AV255=\"\",\"\", INDEX('otras referencias'!$U:$V,MATCH(DATOS_MIP_SA!AV255,'otras referencias'!$V:$V,0),1))","v":""},{"$f":"IF(AW255=\"\",\"\", INDEX(referentes!$J:$K,MATCH(DATOS_MIP_SA!AW255,referentes!$K:$K,0),1))","v":""},null,null,null,null,null,null,{"$f":"IF(X255<>\"\",INDEX(referentes!$AH:$AL,MATCH(DATOS_MIP_SA!X255,referentes!$AI:$AI,0),5),\"\")","v":""}]
[null,null,null,"",{"$f":"IF(J256=\"\",\"\",CONCATENATE(AF256,DIGITADOR!$B$2,DIGITADOR!$M$1,J256))","v":""},{"$f":"IF(J256=\"\",\"\",CONCATENATE(DIGITADOR!$B$2,AF256,DIGITADOR!$M$1,J256,ROW()))","v":""},null,null,null,{"$f":"IF(X256=\"\",\"\", INDEX(referentes!$AH:$AL,MATCH(DATOS_MIP_SA!X256,referentes!$AI:$AI,0),1))","v":""},"",{"$f":"IF(AI256=\"\",\"\", INDEX(referentes!$D:$E,MATCH(DATOS_MIP_SA!AI256,referentes!$E:$E,0),1))","v":""},{"$f":"IF(AK256=\"\",\"\", INDEX(referentes!$A:$B,MATCH(DATOS_MIP_SA!AK256,referentes!$B:$B,0),1))","v":""},null,{"$f":"IF(AM256=\"\",\"\", INDEX(referentes!$S:$T,MATCH(AM256,referentes!$T:$T,0),1))","v":""},{"$f":"IF(AN256=\"\",\"\", INDEX(referentes!$Y:$Z,MATCH(AN256,referentes!$Z:$Z,0),1))","v":""},{"$f":"IF(AU256=\"\",\"\", INDEX(referentes!$V:$W,MATCH(DATOS_MIP_SA!AU256,referentes!$W:$W,0),1))","v":""},{"$f":"IF(AO256=\"\",\"\", INDEX(referentes!$AB:$AC,MATCH(DATOS_MIP_SA!AO256,referentes!$AC:$AC,0),1))","v":""},{"$f":"IF(AV256=\"\",\"\", INDEX('otras referencias'!$U:$V,MATCH(DATOS_MIP_SA!AV256,'otras referencias'!$V:$V,0),1))","v":""},{"$f":"IF(AW256=\"\",\"\", INDEX(referentes!$J:$K,MATCH(DATOS_MIP_SA!AW256,referentes!$K:$K,0),1))","v":""},null,null,null,null,null,null,{"$f":"IF(X256<>\"\",INDEX(referentes!$AH:$AL,MATCH(DATOS_MIP_SA!X256,referentes!$AI:$AI,0),5),\"\")","v":""}]
[null,null,null,"",{"$f":"IF(J257=\"\",\"\",CONCATENATE(AF257,DIGITADOR!$B$2,DIGITADOR!$M$1,J257))","v":""},{"$f":"IF(J257=\"\",\"\",CONCATENATE(DIGITADOR!$B$2,AF257,DIGITADOR!$M$1,J257,ROW()))","v":""},null,null,null,{"$f":"IF(X257=\"\",\"\", INDEX(referentes!$AH:$AL,MATCH(DATOS_MIP_SA!X257,referentes!$AI:$AI,0),1))","v":""},"",{"$f":"IF(AI257=\"\",\"\", INDEX(referentes!$D:$E,MATCH(DATOS_MIP_SA!AI257,referentes!$E:$E,0),1))","v":""},{"$f":"IF(AK257=\"\",\"\", INDEX(referentes!$A:$B,MATCH(DATOS_MIP_SA!AK257,referentes!$B:$B,0),1))","v":""},null,{"$f":"IF(AM257=\"\",\"\", INDEX(referentes!$S:$T,MATCH(AM257,referentes!$T:$T,0),1))","v":""},{"$f":"IF(AN257=\"\",\"\", INDEX(referentes!$Y:$Z,MATCH(AN257,referentes!$Z:$Z,0),1))","v":""},{"$f":"IF(AU257=\"\",\"\", INDEX(referentes!$V:$W,MATCH(DATOS_MIP_SA!AU257,referentes!$W:$W,0),1))","v":""},{"$f":"IF(AO257=\"\",\"\", INDEX(referentes!$AB:$AC,MATCH(DATOS_MIP_SA!AO257,referentes!$AC:$AC,0),1))","v":""},{"$f":"IF(AV257=\"\",\"\", INDEX('otras referencias'!$U:$V,MATCH(DATOS_MIP_SA!AV257,'otras referencias'!$V:$V,0),1))","v":""},{"$f":"IF(AW257=\"\",\"\", INDEX(referentes!$J:$K,MATCH(DATOS_MIP_SA!AW257,referentes!$K:$K,0),1))","v":""},null,null,null,null,null,null,{"$f":"IF(X257<>\"\",INDEX(referentes!$AH:$AL,MATCH(DATOS_MIP_SA!X257,referentes!$AI:$AI,0),5),\"\")","v":""}]
[null,null,null,"",{"$f":"IF(J258=\"\",\"\",CONCATENATE(AF258,DIGITADOR!$B$2,DIGITADOR!$M$1,J258))","v":""},{"$f":"IF(J258=\"\",\"\",CONCATENATE(DIGITADOR!$B$2,AF258,DIGITADOR!$M$1,J258,ROW()))","v":""},null,null,null,{"$f":"IF(X258=\"\",\"\", INDEX(referentes!$AH:$AL,MATCH(DATOS_MIP_SA!X258,referentes!$AI:$AI,0),1))","v":""},"",{"$f":"IF(AI258=\"\",\"\", INDEX(referentes!$D:$E,MATCH(DATOS_MIP_SA!AI258,referentes!$E:$E,0),1))","v":""},{"$f":"IF(AK258=\"\",\"\", INDEX(referentes!$A:$B,MATCH(DATOS_MIP_SA!AK258,referentes!$B:$B,0),1))","v":""},null,{"$f":"IF(AM258=\"\",\"\", INDEX(referentes!$S:$T,MATCH(AM258,referentes!$T:$T,0),1))","v":""},{"$f":"IF(AN258=\"\",\"\", INDEX(referentes!$Y:$Z,MATCH(AN258,referentes!$Z:$Z,0),1))","v":""},{"$f":"IF(AU258=\"\",\"\", INDEX(referentes!$V:$W,MATCH(DATOS_MIP_SA!AU258,referentes!$W:$W,0),1))","v":""},{"$f":"IF(AO258=\"\",\"\", INDEX(referentes!$AB:$AC,MATCH(DATOS_MIP_SA!AO258,referentes!$AC:$AC,0),1))","v":""},{"$f":"IF(AV258=\"\",\"\", INDEX('otras referencias'!$U:$V,MATCH(DATOS_MIP_SA!AV258,'otras referencias'!$V:$V,0),1))","v":""},{"$f":"IF(AW258=\"\",\"\", INDEX(referentes!$J:$K,MATCH(DATOS_MIP_SA!AW258,referentes!$K:$K,0),1))","v":""},null,null,null,null,null,null,{"$f":"IF(X258<>\"\",INDEX(referentes!$AH:$AL,MATCH(DATOS_MIP_SA!X258,referentes!$AI:$AI,0),5),\"\")","v":""}]
[null,null,null,"",{"$f":"IF(J259=\"\",\"\",CONCATENATE(AF259,DIGITADOR!$B$2,DIGITADOR!$M$1,J259))","v":""},{"$f":"IF(J259=\"\",\"\",CONCATENATE(DIGITADOR!$B$2,AF259,DIGITADOR!$M$1,J259,ROW()))","v":""},null,null,null,{"$f":"IF(X259=\"\",\"\", INDEX(referentes!$AH:$AL,MATCH(DATOS_MIP_SA!X259,referentes!$AI:$AI,0),1))","v":""},"",{"$f":"IF(AI259=\"\",\"\", INDEX(referentes!$D:$E,MATCH(DATOS_MIP_SA!AI259,referentes!$E:$E,0),1))","v":""},{"$f":"IF(AK259=\"\",\"\", INDEX(referentes!$A:$B,MATCH(DATOS_MIP_SA!AK259,referentes!$B:$B,0),1))","v":""},null,{"$f":"IF(AM259=\"\",\"\", INDEX(referentes!$S:$T,MATCH(AM259,referentes!$T:$T,0),1))","v":""},{"$f":"IF(AN259=\"\",\"\", INDEX(referentes!$Y:$Z,MATCH(AN259,referentes!$Z:$Z,0),1))","v":""},{"$f":"IF(AU259=\"\",\"\", INDEX(referentes!$V:$W,MATCH(DATOS_MIP_SA!AU259,referentes!$W:$W,0),1))","v":""},{"$f":"IF(AO259=\"\",\"\", INDEX(referentes!$AB:$AC,MATCH(DATOS_MIP_SA!AO259,referentes!$AC:$AC,0),1))","v":""},{"$f":"IF(AV259=\"\",\"\", INDEX('otras referencias'!$U:$V,MATCH(DATOS_MIP_SA!AV259,'otras referencias'!$V:$V,0),1))","v":""},{"$f":"IF(AW259=\"\",\"\", INDEX(referentes!$J:$K,MATCH(DATOS_MIP_SA!AW259,referentes!$K:$K,0),1))","v":""},null,null,null,null,null,null,{"$f":"IF(X259<>\"\",INDEX(referentes!$AH:$AL,MATCH(DATOS_MIP_SA!X259,referentes!$AI:$AI,0),5),\"\")","v":""}]
[null,null,null,"",{"$f":"IF(J260=\"\",\"\",CONCATENATE(AF260,DIGITADOR!$B$2,DIGITADOR!$M$1,J260))","v":""},{"$f":"IF(J260=\"\",\"\",CONCATENATE(DIGITADOR!$B$2,AF260,DIGITADOR!$M$1,J260,ROW()))","v":""},null,null,null,{"$f":"IF(X260=\"\",\"\", INDEX(referentes!$AH:$AL,MATCH(DATOS_MIP_SA!X260,referentes!$AI:$AI,0),1))","v":""},"",{"$f":"IF(AI260=\"\",\"\", INDEX(referentes!$D:$E,MATCH(DATOS_MIP_SA!AI260,referentes!$E:$E,0),1))","v":""},{"$f":"IF(AK260=\"\",\"\", INDEX(referentes!$A:$B,MATCH(DATOS_MIP_SA!AK260,referentes!$B:$B,0),1))","v":""},null,{"$f":"IF(AM260=\"\",\"\", INDEX(referentes!$S:$T,MATCH(AM260,referentes!$T:$T,0),1))","v":""},{"$f":"IF(AN260=\"\",\"\", INDEX(referentes!$Y:$Z,MATCH(AN260,referentes!$Z:$Z,0),1))","v":""},{"$f":"IF(AU260=\"\",\"\", INDEX(referentes!$V:$W,MATCH(DATOS_MIP_SA!AU260,referentes!$W:$W,0),1))","v":""},{"$f":"IF(AO260=\"\",\"\", INDEX(referentes!$AB:$AC,MATCH(DATOS_MIP_SA!AO260,referentes!$AC:$AC,0),1))","v":""},{"$f":"IF(AV260=\"\",\"\", INDEX('otras referencias'!$U:$V,MATCH(DATOS_MIP_SA!AV260,'otras referencias'!$V:$V,0),1))","v":""},{"$f":"IF(AW260=\"\",\"\", INDEX(referentes!$J:$K,MATCH(DATOS_MIP_SA!AW260,referentes!$K:$K,0),1))","v":""},null,null,null,null,null,null,{"$f":"IF(X260<>\"\",INDEX(referentes!$AH:$AL,MATCH(DATOS_MIP_SA!X260,referentes!$AI:$AI,0),5),\"\")","v":""}]
[null,null,null,"",{"$f":"IF(J261=\"\",\"\",CONCATENATE(AF261,DIGITADOR!$B$2,DIGITADOR!$M$1,J261))","v":""},{"$f":"IF(J261=\"\",\"\",CONCATENATE(DIGITADOR!$B$2,AF261,DIGITADOR!$M$1,J261,ROW()))","v":""},null,null,null,{"$f":"IF(X261=\"\",\"\", INDEX(referentes!$AH:$AL,MATCH(DATOS_MIP_SA!X261,referentes!$AI:$AI,0),1))","v":""},"",{"$f":"IF(AI261=\"\",\"\", INDEX(referentes!$D:$E,MATCH(DATOS_MIP_SA!AI261,referentes!$E:$E,0),1))","v":""},{"$f":"IF(AK261=\"\",\"\", INDEX(referentes!$A:$B,MATCH(DATOS_MIP_SA!AK261,referentes!$B:$B,0),1))","v":""},null,{"$f":"IF(AM261=\"\",\"\", INDEX(referentes!$S:$T,MATCH(AM261,referentes!$T:$T,0),1))","v":""},{"$f":"IF(AN261=\"\",\"\", INDEX(referentes!$Y:$Z,MATCH(AN261,referentes!$Z:$Z,0),1))","v":""},{"$f":"IF(AU261=\"\",\"\", INDEX(referentes!$V:$W,MATCH(DATOS_MIP_SA!AU261,referentes!$W:$W,0),1))","v":""},{"$f":"IF(AO261=\"\",\"\", INDEX(referentes!$AB:$AC,MATCH(DATOS_MIP_SA!AO261,referentes!$AC:$AC,0),1))","v":""},{"$f":"IF(AV261=\"\",\"\", INDEX('otras referencias'!$U:$V,MATCH(DATOS_MIP_SA!AV261,'otras referencias'!$V:$V,0),1))","v":""},{"$f":"IF(AW261=\"\",\"\", INDEX(referentes!$J:$K,MATCH(DATOS_MIP_SA!AW261,referentes!$K:$K,0),1))","v":""},null,null,null,null,null,null,{"$f":"IF(X261<>\"\",INDEX(referentes!$AH:$AL,MATCH(DATOS_MIP_SA!X261,referentes!$AI:$AI,0),5),\"\")","v":""}]
[null,null,null,"",{"$f":"IF(J262=\"\",\"\",CONCATENATE(AF262,DIGITADOR!$B$2,DIGITADOR!$M$1,J262))","v":""},{"$f":"IF(J262=\"\",\"\",CONCATENATE(DIGITADOR!$B$2,AF262,DIGITADOR!$M$1,J262,ROW()))","v":""},null,null,null,{"$f":"IF(X262=\"\",\"\", INDEX(referentes!$AH:$AL,MATCH(DATOS_MIP_SA!X262,referentes!$AI:$AI,0),1))","v":""},"",{"$f":"IF(AI262=\"\",\"\", INDEX(referentes!$D:$E,MATCH(DATOS_MIP_SA!AI262,referentes!$E:$E,0),1))","v":""},{"$f":"IF(AK262=\"\",\"\", INDEX(referentes!$A:$B,MATCH(DATOS_MIP_SA!AK262,referentes!$B:$B,0),1))","v":""},null,{"$f":"IF(AM262=\"\",\"\", INDEX(referentes!$S:$T,MATCH(AM262,referentes!$T:$T,0),1))","v":""},{"$f":"IF(AN262=\"\",\"\", INDEX(referentes!$Y:$Z,MATCH(AN262,referentes!$Z:$Z,0),1))","v":""},{"$f":"IF(AU262=\"\",\"\", INDEX(referentes!$V:$W,MATCH(DATOS_MIP_SA!AU262,referentes!$W:$W,0),1))","v":""},{"$f":"IF(AO262=\"\",\"\", INDEX(referentes!$AB:$AC,MATCH(DATOS_MIP_SA!AO262,referentes!$AC:$AC,0),1))","v":""},{"$f":"IF(AV262=\"\",\"\", INDEX('otras referencias'!$U:$V,MATCH(DATOS_MIP_SA!AV262,'otras referencias'!$V:$V,0),1))","v":""},{"$f":"IF(AW262=\"\",\"\", INDEX(referentes!$J:$K,MATCH(DATOS_MIP_SA!AW262,referentes!$K:$K,0),1))","v":""},null,null,null,null,null,null,{"$f":"IF(X262<>\"\",INDEX(referentes!$AH:$AL,MATCH(DATOS_MIP_SA!X262,referentes!$AI:$AI,0),5),\"\")","v":""}]
[null,null,null,"",{"$f":"IF(J263=\"\",\"\",CONCATENATE(AF263,DIGITADOR!$B$2,DIGITADOR!$M$1,J263))","v":""},{"$f":"IF(J263=\"\",\"\",CONCATENATE(DIGITADOR!$B$2,AF263,DIGITADOR!$M$1,J263,ROW()))","v":""},null,null,null,{"$f":"IF(X263=\"\",\"\", INDEX(referentes!$AH:$AL,MATCH(DATOS_MIP_SA!X263,referentes!$AI:$AI,0),1))","v":""},"",{"$f":"IF(AI263=\"\",\"\", INDEX(referentes!$D:$E,MATCH(DATOS_MIP_SA!AI263,referentes!$E:$E,0),1))","v":""},{"$f":"IF(AK263=\"\",\"\", INDEX(referentes!$A:$B,MATCH(DATOS_MIP_SA!AK263,referentes!$B:$B,0),1))","v":""},null,{"$f":"IF(AM263=\"\",\"\", INDEX(referentes!$S:$T,MATCH(AM263,referentes!$T:$T,0),1))","v":""},{"$f":"IF(AN263=\"\",\"\", INDEX(referentes!$Y:$Z,MATCH(AN263,referentes!$Z:$Z,0),1))","v":""},{"$f":"IF(AU263=\"\",\"\", INDEX(referentes!$V:$W,MATCH(DATOS_MIP_SA!AU263,referentes!$W:$W,0),1))","v":""},{"$f":"IF(AO263=\"\",\"\", INDEX(referentes!$AB:$AC,MATCH(DATOS_MIP_SA!AO263,referentes!$AC:$AC,0),1))","v":""},{"$f":"IF(AV263=\"\",\"\", INDEX('otras referencias'!$U:$V,MATCH(DATOS_MIP_SA!AV263,'otras referencias'!$V:$V,0),1))","v":""},{"$f":"IF(AW263=\"\",\"\", INDEX(referentes!$J:$K,MATCH(DATOS_MIP_SA!AW263,referentes!$K:$K,0),1))","v":""},null,null,null,null,null,null,{"$f":"IF(X263<>\"\",INDEX(referentes!$AH:$AL,MATCH(DATOS_MIP_SA!X263,referentes!$AI:$AI,0),5),\"\")","v":""}]
[null,null,null,"",{"$f":"IF(J264=\"\",\"\",CONCATENATE(AF264,DIGITADOR!$B$2,DIGITADOR!$M$1,J264))","v":""},{"$f":"IF(J264=\"\",\"\",CONCATENATE(DIGITADOR!$B$2,AF264,DIGITADOR!$M$1,J264,ROW()))","v":""},null,null,null,{"$f":"IF(X264=\"\",\"\", INDEX(referentes!$AH:$AL,MATCH(DATOS_MIP_SA!X264,referentes!$AI:$AI,0),1))","v":""},"",{"$f":"IF(AI264=\"\",\"\", INDEX(referentes!$D:$E,MATCH(DATOS_MIP_SA!AI264,referentes!$E:$E,0),1))","v":""},{"$f":"IF(AK264=\"\",\"\", INDEX(referentes!$A:$B,MATCH(DATOS_MIP_SA!AK264,referentes!$B:$B,0),1))","v":""},null,{"$f":"IF(AM264=\"\",\"\", INDEX(referentes!$S:$T,MATCH(AM264,referentes!$T:$T,0),1))","v":""},{"$f":"IF(AN264=\"\",\"\", INDEX(referentes!$Y:$Z,MATCH(AN264,referentes!$Z:$Z,0),1))","v":""},{"$f":"IF(AU264=\"\",\"\", INDEX(referentes!$V:$W,MATCH(DATOS_MIP_SA!AU264,referentes!$W:$W,0),1))","v":""},{"$f":"IF(AO264=\"\",\"\", INDEX(referentes!$AB:$AC,MATCH(DATOS_MIP_SA!AO264,referentes!$AC:$AC,0),1))","v":""},{"$f":"IF(AV264=\"\",\"\", INDEX('otras referencias'!$U:$V,MATCH(DATOS_MIP_SA!AV264,'otras referencias'!$V:$V,0),1))","v":""},{"$f":"IF(AW264=\"\",\"\", INDEX(referentes!$J:$K,MATCH(DATOS_MIP_SA!AW264,referentes!$K:$K,0),1))","v":""},null,null,null,null,null,null,{"$f":"IF(X264<>\"\",INDEX(referentes!$AH:$AL,MATCH(DATOS_MIP_SA!X264,referentes!$AI:$AI,0),5),\"\")","v":""}]
[null,null,null,"",{"$f":"IF(J265=\"\",\"\",CONCATENATE(AF265,DIGITADOR!$B$2,DIGITADOR!$M$1,J265))","v":""},{"$f":"IF(J265=\"\",\"\",CONCATENATE(DIGITADOR!$B$2,AF265,DIGITADOR!$M$1,J265,ROW()))","v":""},null,null,null,{"$f":"IF(X265=\"\",\"\", INDEX(referentes!$AH:$AL,MATCH(DATOS_MIP_SA!X265,referentes!$AI:$AI,0),1))","v":""},"",{"$f":"IF(AI265=\"\",\"\", INDEX(referentes!$D:$E,MATCH(DATOS_MIP_SA!AI265,referentes!$E:$E,0),1))","v":""},{"$f":"IF(AK265=\"\",\"\", INDEX(referentes!$A:$B,MATCH(DATOS_MIP_SA!AK265,referentes!$B:$B,0),1))","v":""},null,{"$f":"IF(AM265=\"\",\"\", INDEX(referentes!$S:$T,MATCH(AM265,referentes!$T:$T,0),1))","v":""},{"$f":"IF(AN265=\"\",\"\", INDEX(referentes!$Y:$Z,MATCH(AN265,referentes!$Z:$Z,0),1))","v":""},{"$f":"IF(AU265=\"\",\"\", INDEX(referentes!$V:$W,MATCH(DATOS_MIP_SA!AU265,referentes!$W:$W,0),1))","v":""},{"$f":"IF(AO265=\"\",\"\", INDEX(referentes!$AB:$AC,MATCH(DATOS_MIP_SA!AO265,referentes!$AC:$AC,0),1))","v":""},{"$f":"IF(AV265=\"\",\"\", INDEX('otras referencias'!$U:$V,MATCH(DATOS_MIP_SA!AV265,'otras referencias'!$V:$V,0),1))","v":""},{"$f":"IF(AW265=\"\",\"\", INDEX(referentes!$J:$K,MATCH(DATOS_MIP_SA!AW265,referentes!$K:$K,0),1))","v":""},null,null,null,null,null,null,{"$f":"IF(X265<>\"\",INDEX(referentes!$AH:$AL,MATCH(DATOS_MIP_SA!X265,referentes!$AI:$AI,0),5),\"\")","v":""}]
[null,null,null,"",{"$f":"IF(J266=\"\",\"\",CONCATENATE(AF266,DIGITADOR!$B$2,DIGITADOR!$M$1,J266))","v":""},{"$f":"IF(J266=\"\",\"\",CONCATENATE(DIGITADOR!$B$2,AF266,DIGITADOR!$M$1,J266,ROW()))","v":""},null,null,null,{"$f":"IF(X266=\"\",\"\", INDEX(referentes!$AH:$AL,MATCH(DATOS_MIP_SA!X266,referentes!$AI:$AI,0),1))","v":""},"",{"$f":"IF(AI266=\"\",\"\", INDEX(referentes!$D:$E,MATCH(DATOS_MIP_SA!AI266,referentes!$E:$E,0),1))","v":""},{"$f":"IF(AK266=\"\",\"\", INDEX(referentes!$A:$B,MATCH(DATOS_MIP_SA!AK266,referentes!$B:$B,0),1))","v":""},null,{"$f":"IF(AM266=\"\",\"\", INDEX(referentes!$S:$T,MATCH(AM266,referentes!$T:$T,0),1))","v":""},{"$f":"IF(AN266=\"\",\"\", INDEX(referentes!$Y:$Z,MATCH(AN266,referentes!$Z:$Z,0),1))","v":""},{"$f":"IF(AU266=\"\",\"\", INDEX(referentes!$V:$W,MATCH(DATOS_MIP_SA!AU266,referentes!$W:$W,0),1))","v":""},{"$f":"IF(AO266=\"\",\"\", INDEX(referentes!$AB:$AC,MATCH(DATOS_MIP_SA!AO266,referentes!$AC:$AC,0),1))","v":""},{"$f":"IF(AV266=\"\",\"\", INDEX('otras referencias'!$U:$V,MATCH(DATOS_MIP_SA!AV266,'otras referencias'!$V:$V,0),1))","v":""},{"$f":"IF(AW266=\"\",\"\", INDEX(referentes!$J:$K,MATCH(DATOS_MIP_SA!AW266,referentes!$K:$K,0),1))","v":""},null,null,null,null,null,null,{"$f":"IF(X266<>\"\",INDEX(referentes!$AH:$AL,MATCH(DATOS_MIP_SA!X266,referentes!$AI:$AI,0),5),\"\")","v":""}]
[null,null,null,"",{"$f":"IF(J267=\"\",\"\",CONCATENATE(AF267,DIGITADOR!$B$2,DIGITADOR!$M$1,J267))","v":""},{"$f":"IF(J267=\"\",\"\",CONCATENATE(DIGITADOR!$B$2,AF267,DIGITADOR!$M$1,J267,ROW()))","v":""},null,null,null,{"$f":"IF(X267=\"\",\"\", INDEX(referentes!$AH:$AL,MATCH(DATOS_MIP_SA!X267,referentes!$AI:$AI,0),1))","v":""},{"$f":"IF(AF267=\"\",\"\",AF267+AG267)","v":""},{"$f":"IF(AI267=\"\",\"\", INDEX(referentes!$D:$E,MATCH(DATOS_MIP_SA!AI267,referentes!$E:$E,0),1))","v":""},{"$f":"IF(AK267=\"\",\"\", INDEX(referentes!$A:$B,MATCH(DATOS_MIP_SA!AK267,referentes!$B:$B,0),1))","v":""},null,{"$f":"IF(AM267=\"\",\"\", INDEX(referentes!$S:$T,MATCH(AM267,referentes!$T:$T,0),1))","v":""},{"$f":"IF(AN267=\"\",\"\", INDEX(referentes!$Y:$Z,MATCH(AN267,referentes!$Z:$Z,0),1))","v":""},{"$f":"IF(AU267=\"\",\"\", INDEX(referentes!$V:$W,MATCH(DATOS_MIP_SA!AU267,referentes!$W:$W,0),1))","v":""},{"$f":"IF(AO267=\"\",\"\", INDEX(referentes!$AB:$AC,MATCH(DATOS_MIP_SA!AO267,referentes!$AC:$AC,0),1))","v":""},{"$f":"IF(AV267=\"\",\"\", INDEX('otras referencias'!$U:$V,MATCH(DATOS_MIP_SA!AV267,'otras referencias'!$V:$V,0),1))","v":""},{"$f":"IF(AW267=\"\",\"\", INDEX(referentes!$J:$K,MATCH(DATOS_MIP_SA!AW267,referentes!$K:$K,0),1))","v":""},null,null,null,null,null,null,{"$f":"IF(X267<>\"\",INDEX(referentes!$AH:$AL,MATCH(DATOS_MIP_SA!X267,referentes!$AI:$AI,0),5),\"\")","v":""}]
[null,null,null,{"$f":"IF(E268=\"\",\"\",IF(E268=E267,\"\",E268))","v":""},{"$f":"IF(J268=\"\",\"\",CONCATENATE(AF268,DIGITADOR!$B$2,DIGITADOR!$M$1,J268))","v":""},{"$f":"IF(J268=\"\",\"\",CONCATENATE(DIGITADOR!$B$2,AF268,DIGITADOR!$M$1,J268,ROW()))","v":""},null,null,null,{"$f":"IF(X268=\"\",\"\", INDEX(referentes!$AH:$AL,MATCH(DATOS_MIP_SA!X268,referentes!$AI:$AI,0),1))","v":""},"",{"$f":"IF(AI268=\"\",\"\", INDEX(referentes!$D:$E,MATCH(DATOS_MIP_SA!AI268,referentes!$E:$E,0),1))","v":""},{"$f":"IF(AK268=\"\",\"\", INDEX(referentes!$A:$B,MATCH(DATOS_MIP_SA!AK268,referentes!$B:$B,0),1))","v":""},null,{"$f":"IF(AM268=\"\",\"\", INDEX(referentes!$S:$T,MATCH(AM268,referentes!$T:$T,0),1))","v":""},{"$f":"IF(AN268=\"\",\"\", INDEX(referentes!$Y:$Z,MATCH(AN268,referentes!$Z:$Z,0),1))","v":""},{"$f":"IF(AU268=\"\",\"\", INDEX(referentes!$V:$W,MATCH(DATOS_MIP_SA!AU268,referentes!$W:$W,0),1))","v":""},{"$f":"IF(AO268=\"\",\"\", INDEX(referentes!$AB:$AC,MATCH(DATOS_MIP_SA!AO268,referentes!$AC:$AC,0),1))","v":""},{"$f":"IF(AV268=\"\",\"\", INDEX('otras referencias'!$U:$V,MATCH(DATOS_MIP_SA!AV268,'otras referencias'!$V:$V,0),1))","v":""},{"$f":"IF(AW268=\"\",\"\", INDEX(referentes!$J:$K,MATCH(DATOS_MIP_SA!AW268,referentes!$K:$K,0),1))","v":""},null,null,null,null,null,null,{"$f":"IF(X268<>\"\",INDEX(referentes!$AH:$AL,MATCH(DATOS_MIP_SA!X268,referentes!$AI:$AI,0),5),\"\")","v":""}]
[null,null,null,"",{"$f":"IF(J269=\"\",\"\",CONCATENATE(AF269,DIGITADOR!$B$2,DIGITADOR!$M$1,J269))","v":""},{"$f":"IF(J269=\"\",\"\",CONCATENATE(DIGITADOR!$B$2,AF269,DIGITADOR!$M$1,J269,ROW()))","v":""},null,null,null,{"$f":"IF(X269=\"\",\"\", INDEX(referentes!$AH:$AL,MATCH(DATOS_MIP_SA!X269,referentes!$AI:$AI,0),1))","v":""},"",{"$f":"IF(AI269=\"\",\"\", INDEX(referentes!$D:$E,MATCH(DATOS_MIP_SA!AI269,referentes!$E:$E,0),1))","v":""},{"$f":"IF(AK269=\"\",\"\", INDEX(referentes!$A:$B,MATCH(DATOS_MIP_SA!AK269,referentes!$B:$B,0),1))","v":""},null,{"$f":"IF(AM269=\"\",\"\", INDEX(referentes!$S:$T,MATCH(AM269,referentes!$T:$T,0),1))","v":""},{"$f":"IF(AN269=\"\",\"\", INDEX(referentes!$Y:$Z,MATCH(AN269,referentes!$Z:$Z,0),1))","v":""},{"$f":"IF(AU269=\"\",\"\", INDEX(referentes!$V:$W,MATCH(DATOS_MIP_SA!AU269,referentes!$W:$W,0),1))","v":""},{"$f":"IF(AO269=\"\",\"\", INDEX(referentes!$AB:$AC,MATCH(DATOS_MIP_SA!AO269,referentes!$AC:$AC,0),1))","v":""},{"$f":"IF(AV269=\"\",\"\", INDEX('otras referencias'!$U:$V,MATCH(DATOS_MIP_SA!AV269,'otras referencias'!$V:$V,0),1))","v":""},{"$f":"IF(AW269=\"\",\"\", INDEX(referentes!$J:$K,MATCH(DATOS_MIP_SA!AW269,referentes!$K:$K,0),1))","v":""},null,null,null,null,null,null,{"$f":"IF(X269<>\"\",INDEX(referentes!$AH:$AL,MATCH(DATOS_MIP_SA!X269,referentes!$AI:$AI,0),5),\"\")","v":""}]
[null,null,null,"",{"$f":"IF(J270=\"\",\"\",CONCATENATE(AF270,DIGITADOR!$B$2,DIGITADOR!$M$1,J270))","v":""},{"$f":"IF(J270=\"\",\"\",CONCATENATE(DIGITADOR!$B$2,AF270,DIGITADOR!$M$1,J270,ROW()))","v":""},null,null,null,{"$f":"IF(X270=\"\",\"\", INDEX(referentes!$AH:$AL,MATCH(DATOS_MIP_SA!X270,referentes!$AI:$AI,0),1))","v":""},"",{"$f":"IF(AI270=\"\",\"\", INDEX(referentes!$D:$E,MATCH(DATOS_MIP_SA!AI270,referentes!$E:$E,0),1))","v":""},{"$f":"IF(AK270=\"\",\"\", INDEX(referentes!$A:$B,MATCH(DATOS_MIP_SA!AK270,referentes!$B:$B,0),1))","v":""},null,{"$f":"IF(AM270=\"\",\"\", INDEX(referentes!$S:$T,MATCH(AM270,referentes!$T:$T,0),1))","v":""},{"$f":"IF(AN270=\"\",\"\", INDEX(referentes!$Y:$Z,MATCH(AN270,referentes!$Z:$Z,0),1))","v":""},{"$f":"IF(AU270=\"\",\"\", INDEX(referentes!$V:$W,MATCH(DATOS_MIP_SA!AU270,referentes!$W:$W,0),1))","v":""},{"$f":"IF(AO270=\"\",\"\", INDEX(referentes!$AB:$AC,MATCH(DATOS_MIP_SA!AO270,referentes!$AC:$AC,0),1))","v":""},{"$f":"IF(AV270=\"\",\"\", INDEX('otras referencias'!$U:$V,MATCH(DATOS_MIP_SA!AV270,'otras referencias'!$V:$V,0),1))","v":""},{"$f":"IF(AW270=\"\",\"\", INDEX(referentes!$J:$K,MATCH(DATOS_MIP_SA!AW270,referentes!$K:$K,0),1))","v":""},null,null,null,null,null,null,{"$f":"IF(X270<>\"\",INDEX(referentes!$AH:$AL,MATCH(DATOS_MIP_SA!X270,referentes!$AI:$AI,0),5),\"\")","v":""}]
[null,null,null,"",{"$f":"IF(J271=\"\",\"\",CONCATENATE(AF271,DIGITADOR!$B$2,DIGITADOR!$M$1,J271))","v":""},{"$f":"IF(J271=\"\",\"\",CONCATENATE(DIGITADOR!$B$2,AF271,DIGITADOR!$M$1,J271,ROW()))","v":""},null,null,null,{"$f":"IF(X271=\"\",\"\", INDEX(referentes!$AH:$AL,MATCH(DATOS_MIP_SA!X271,referentes!$AI:$AI,0),1))","v":""},"",{"$f":"IF(AI271=\"\",\"\", INDEX(referentes!$D:$E,MATCH(DATOS_MIP_SA!AI271,referentes!$E:$E,0),1))","v":""},{"$f":"IF(AK271=\"\",\"\", INDEX(referentes!$A:$B,MATCH(DATOS_MIP_SA!AK271,referentes!$B:$B,0),1))","v":""},null,{"$f":"IF(AM271=\"\",\"\", INDEX(referentes!$S:$T,MATCH(AM271,referentes!$T:$T,0),1))","v":""},{"$f":"IF(AN271=\"\",\"\", INDEX(referentes!$Y:$Z,MATCH(AN271,referentes!$Z:$Z,0),1))","v":""},{"$f":"IF(AU271=\"\",\"\", INDEX(referentes!$V:$W,MATCH(DATOS_MIP_SA!AU271,referentes!$W:$W,0),1))","v":""},{"$f":"IF(AO271=\"\",\"\", INDEX(referentes!$AB:$AC,MATCH(DATOS_MIP_SA!AO271,referentes!$AC:$AC,0),1))","v":""},{"$f":"IF(AV271=\"\",\"\", INDEX('otras referencias'!$U:$V,MATCH(DATOS_MIP_SA!AV271,'otras referencias'!$V:$V,0),1))","v":""},{"$f":"IF(AW271=\"\",\"\", INDEX(referentes!$J:$K,MATCH(DATOS_MIP_SA!AW271,referentes!$K:$K,0),1))","v":""},null,null,null,null,null,null,{"$f":"IF(X271<>\"\",INDEX(referentes!$AH:$AL,MATCH(DATOS_MIP_SA!X271,referentes!$AI:$AI,0),5),\"\")","v":""}]
[null,null,null,"",{"$f":"IF(J272=\"\",\"\",CONCATENATE(AF272,DIGITADOR!$B$2,DIGITADOR!$M$1,J272))","v":""},{"$f":"IF(J272=\"\",\"\",CONCATENATE(DIGITADOR!$B$2,AF272,DIGITADOR!$M$1,J272,ROW()))","v":""},null,null,null,{"$f":"IF(X272=\"\",\"\", INDEX(referentes!$AH:$AL,MATCH(DATOS_MIP_SA!X272,referentes!$AI:$AI,0),1))","v":""},"",{"$f":"IF(AI272=\"\",\"\", INDEX(referentes!$D:$E,MATCH(DATOS_MIP_SA!AI272,referentes!$E:$E,0),1))","v":""},{"$f":"IF(AK272=\"\",\"\", INDEX(referentes!$A:$B,MATCH(DATOS_MIP_SA!AK272,referentes!$B:$B,0),1))","v":""},null,{"$f":"IF(AM272=\"\",\"\", INDEX(referentes!$S:$T,MATCH(AM272,referentes!$T:$T,0),1))","v":""},{"$f":"IF(AN272=\"\",\"\", INDEX(referentes!$Y:$Z,MATCH(AN272,referentes!$Z:$Z,0),1))","v":""},{"$f":"IF(AU272=\"\",\"\", INDEX(referentes!$V:$W,MATCH(DATOS_MIP_SA!AU272,referentes!$W:$W,0),1))","v":""},{"$f":"IF(AO272=\"\",\"\", INDEX(referentes!$AB:$AC,MATCH(DATOS_MIP_SA!AO272,referentes!$AC:$AC,0),1))","v":""},{"$f":"IF(AV272=\"\",\"\", INDEX('otras referencias'!$U:$V,MATCH(DATOS_MIP_SA!AV272,'otras referencias'!$V:$V,0),1))","v":""},{"$f":"IF(AW272=\"\",\"\", INDEX(referentes!$J:$K,MATCH(DATOS_MIP_SA!AW272,referentes!$K:$K,0),1))","v":""},null,null,null,null,null,null,{"$f":"IF(X272<>\"\",INDEX(referentes!$AH:$AL,MATCH(DATOS_MIP_SA!X272,referentes!$AI:$AI,0),5),\"\")","v":""}]
[null,null,null,"",{"$f":"IF(J273=\"\",\"\",CONCATENATE(AF273,DIGITADOR!$B$2,DIGITADOR!$M$1,J273))","v":""},{"$f":"IF(J273=\"\",\"\",CONCATENATE(DIGITADOR!$B$2,AF273,DIGITADOR!$M$1,J273,ROW()))","v":""},null,null,null,{"$f":"IF(X273=\"\",\"\", INDEX(referentes!$AH:$AL,MATCH(DATOS_MIP_SA!X273,referentes!$AI:$AI,0),1))","v":""},"",{"$f":"IF(AI273=\"\",\"\", INDEX(referentes!$D:$E,MATCH(DATOS_MIP_SA!AI273,referentes!$E:$E,0),1))","v":""},{"$f":"IF(AK273=\"\",\"\", INDEX(referentes!$A:$B,MATCH(DATOS_MIP_SA!AK273,referentes!$B:$B,0),1))","v":""},null,{"$f":"IF(AM273=\"\",\"\", INDEX(referentes!$S:$T,MATCH(AM273,referentes!$T:$T,0),1))","v":""},{"$f":"IF(AN273=\"\",\"\", INDEX(referentes!$Y:$Z,MATCH(AN273,referentes!$Z:$Z,0),1))","v":""},{"$f":"IF(AU273=\"\",\"\", INDEX(referentes!$V:$W,MATCH(DATOS_MIP_SA!AU273,referentes!$W:$W,0),1))","v":""},{"$f":"IF(AO273=\"\",\"\", INDEX(referentes!$AB:$AC,MATCH(DATOS_MIP_SA!AO273,referentes!$AC:$AC,0),1))","v":""},{"$f":"IF(AV273=\"\",\"\", INDEX('otras referencias'!$U:$V,MATCH(DATOS_MIP_SA!AV273,'otras referencias'!$V:$V,0),1))","v":""},{"$f":"IF(AW273=\"\",\"\", INDEX(referentes!$J:$K,MATCH(DATOS_MIP_SA!AW273,referentes!$K:$K,0),1))","v":""},null,null,null,null,null,null,{"$f":"IF(X273<>\"\",INDEX(referentes!$AH:$AL,MATCH(DATOS_MIP_SA!X273,referentes!$AI:$AI,0),5),\"\")","v":""}]
[null,null,null,"",{"$f":"IF(J274=\"\",\"\",CONCATENATE(AF274,DIGITADOR!$B$2,DIGITADOR!$M$1,J274))","v":""},{"$f":"IF(J274=\"\",\"\",CONCATENATE(DIGITADOR!$B$2,AF274,DIGITADOR!$M$1,J274,ROW()))","v":""},null,null,null,{"$f":"IF(X274=\"\",\"\", INDEX(referentes!$AH:$AL,MATCH(DATOS_MIP_SA!X274,referentes!$AI:$AI,0),1))","v":""},"",{"$f":"IF(AI274=\"\",\"\", INDEX(referentes!$D:$E,MATCH(DATOS_MIP_SA!AI274,referentes!$E:$E,0),1))","v":""},{"$f":"IF(AK274=\"\",\"\", INDEX(referentes!$A:$B,MATCH(DATOS_MIP_SA!AK274,referentes!$B:$B,0),1))","v":""},null,{"$f":"IF(AM274=\"\",\"\", INDEX(referentes!$S:$T,MATCH(AM274,referentes!$T:$T,0),1))","v":""},{"$f":"IF(AN274=\"\",\"\", INDEX(referentes!$Y:$Z,MATCH(AN274,referentes!$Z:$Z,0),1))","v":""},{"$f":"IF(AU274=\"\",\"\", INDEX(referentes!$V:$W,MATCH(DATOS_MIP_SA!AU274,referentes!$W:$W,0),1))","v":""},{"$f":"IF(AO274=\"\",\"\", INDEX(referentes!$AB:$AC,MATCH(DATOS_MIP_SA!AO274,referentes!$AC:$AC,0),1))","v":""},{"$f":"IF(AV274=\"\",\"\", INDEX('otras referencias'!$U:$V,MATCH(DATOS_MIP_SA!AV274,'otras referencias'!$V:$V,0),1))","v":""},{"$f":"IF(AW274=\"\",\"\", INDEX(referentes!$J:$K,MATCH(DATOS_MIP_SA!AW274,referentes!$K:$K,0),1))","v":""},null,null,null,null,null,null,{"$f":"IF(X274<>\"\",INDEX(referentes!$AH:$AL,MATCH(DATOS_MIP_SA!X274,referentes!$AI:$AI,0),5),\"\")","v":""}]
[null,null,null,"",{"$f":"IF(J275=\"\",\"\",CONCATENATE(AF275,DIGITADOR!$B$2,DIGITADOR!$M$1,J275))","v":""},{"$f":"IF(J275=\"\",\"\",CONCATENATE(DIGITADOR!$B$2,AF275,DIGITADOR!$M$1,J275,ROW()))","v":""},null,null,null,{"$f":"IF(X275=\"\",\"\", INDEX(referentes!$AH:$AL,MATCH(DATOS_MIP_SA!X275,referentes!$AI:$AI,0),1))","v":""},"",{"$f":"IF(AI275=\"\",\"\", INDEX(referentes!$D:$E,MATCH(DATOS_MIP_SA!AI275,referentes!$E:$E,0),1))","v":""},{"$f":"IF(AK275=\"\",\"\", INDEX(referentes!$A:$B,MATCH(DATOS_MIP_SA!AK275,referentes!$B:$B,0),1))","v":""},null,{"$f":"IF(AM275=\"\",\"\", INDEX(referentes!$S:$T,MATCH(AM275,referentes!$T:$T,0),1))","v":""},{"$f":"IF(AN275=\"\",\"\", INDEX(referentes!$Y:$Z,MATCH(AN275,referentes!$Z:$Z,0),1))","v":""},{"$f":"IF(AU275=\"\",\"\", INDEX(referentes!$V:$W,MATCH(DATOS_MIP_SA!AU275,referentes!$W:$W,0),1))","v":""},{"$f":"IF(AO275=\"\",\"\", INDEX(referentes!$AB:$AC,MATCH(DATOS_MIP_SA!AO275,referentes!$AC:$AC,0),1))","v":""},{"$f":"IF(AV275=\"\",\"\", INDEX('otras referencias'!$U:$V,MATCH(DATOS_MIP_SA!AV275,'otras referencias'!$V:$V,0),1))","v":""},{"$f":"IF(AW275=\"\",\"\", INDEX(referentes!$J:$K,MATCH(DATOS_MIP_SA!AW275,referentes!$K:$K,0),1))","v":""},null,null,null,null,null,null,{"$f":"IF(X275<>\"\",INDEX(referentes!$AH:$AL,MATCH(DATOS_MIP_SA!X275,referentes!$AI:$AI,0),5),\"\")","v":""}]
[null,null,null,"",{"$f":"IF(J276=\"\",\"\",CONCATENATE(AF276,DIGITADOR!$B$2,DIGITADOR!$M$1,J276))","v":""},{"$f":"IF(J276=\"\",\"\",CONCATENATE(DIGITADOR!$B$2,AF276,DIGITADOR!$M$1,J276,ROW()))","v":""},null,null,null,{"$f":"IF(X276=\"\",\"\", INDEX(referentes!$AH:$AL,MATCH(DATOS_MIP_SA!X276,referentes!$AI:$AI,0),1))","v":""},"",{"$f":"IF(AI276=\"\",\"\", INDEX(referentes!$D:$E,MATCH(DATOS_MIP_SA!AI276,referentes!$E:$E,0),1))","v":""},{"$f":"IF(AK276=\"\",\"\", INDEX(referentes!$A:$B,MATCH(DATOS_MIP_SA!AK276,referentes!$B:$B,0),1))","v":""},null,{"$f":"IF(AM276=\"\",\"\", INDEX(referentes!$S:$T,MATCH(AM276,referentes!$T:$T,0),1))","v":""},{"$f":"IF(AN276=\"\",\"\", INDEX(referentes!$Y:$Z,MATCH(AN276,referentes!$Z:$Z,0),1))","v":""},{"$f":"IF(AU276=\"\",\"\", INDEX(referentes!$V:$W,MATCH(DATOS_MIP_SA!AU276,referentes!$W:$W,0),1))","v":""},{"$f":"IF(AO276=\"\",\"\", INDEX(referentes!$AB:$AC,MATCH(DATOS_MIP_SA!AO276,referentes!$AC:$AC,0),1))","v":""},{"$f":"IF(AV276=\"\",\"\", INDEX('otras referencias'!$U:$V,MATCH(DATOS_MIP_SA!AV276,'otras referencias'!$V:$V,0),1))","v":""},{"$f":"IF(AW276=\"\",\"\", INDEX(referentes!$J:$K,MATCH(DATOS_MIP_SA!AW276,referentes!$K:$K,0),1))","v":""},null,null,null,null,null,null,{"$f":"IF(X276<>\"\",INDEX(referentes!$AH:$AL,MATCH(DATOS_MIP_SA!X276,referentes!$AI:$AI,0),5),\"\")","v":""}]
[null,null,null,"",{"$f":"IF(J277=\"\",\"\",CONCATENATE(AF277,DIGITADOR!$B$2,DIGITADOR!$M$1,J277))","v":""},{"$f":"IF(J277=\"\",\"\",CONCATENATE(DIGITADOR!$B$2,AF277,DIGITADOR!$M$1,J277,ROW()))","v":""},null,null,null,{"$f":"IF(X277=\"\",\"\", INDEX(referentes!$AH:$AL,MATCH(DATOS_MIP_SA!X277,referentes!$AI:$AI,0),1))","v":""},"",{"$f":"IF(AI277=\"\",\"\", INDEX(referentes!$D:$E,MATCH(DATOS_MIP_SA!AI277,referentes!$E:$E,0),1))","v":""},{"$f":"IF(AK277=\"\",\"\", INDEX(referentes!$A:$B,MATCH(DATOS_MIP_SA!AK277,referentes!$B:$B,0),1))","v":""},null,{"$f":"IF(AM277=\"\",\"\", INDEX(referentes!$S:$T,MATCH(AM277,referentes!$T:$T,0),1))","v":""},{"$f":"IF(AN277=\"\",\"\", INDEX(referentes!$Y:$Z,MATCH(AN277,referentes!$Z:$Z,0),1))","v":""},{"$f":"IF(AU277=\"\",\"\", INDEX(referentes!$V:$W,MATCH(DATOS_MIP_SA!AU277,referentes!$W:$W,0),1))","v":""},{"$f":"IF(AO277=\"\",\"\", INDEX(referentes!$AB:$AC,MATCH(DATOS_MIP_SA!AO277,referentes!$AC:$AC,0),1))","v":""},{"$f":"IF(AV277=\"\",\"\", INDEX('otras referencias'!$U:$V,MATCH(DATOS_MIP_SA!AV277,'otras referencias'!$V:$V,0),1))","v":""},{"$f":"IF(AW277=\"\",\"\", INDEX(referentes!$J:$K,MATCH(DATOS_MIP_SA!AW277,referentes!$K:$K,0),1))","v":""},null,null,null,null,null,null,{"$f":"IF(X277<>\"\",INDEX(referentes!$AH:$AL,MATCH(DATOS_MIP_SA!X277,referentes!$AI:$AI,0),5),\"\")","v":""}]
[null,null,null,"",{"$f":"IF(J278=\"\",\"\",CONCATENATE(AF278,DIGITADOR!$B$2,DIGITADOR!$M$1,J278))","v":""},{"$f":"IF(J278=\"\",\"\",CONCATENATE(DIGITADOR!$B$2,AF278,DIGITADOR!$M$1,J278,ROW()))","v":""},null,null,null,{"$f":"IF(X278=\"\",\"\", INDEX(referentes!$AH:$AL,MATCH(DATOS_MIP_SA!X278,referentes!$AI:$AI,0),1))","v":""},"",{"$f":"IF(AI278=\"\",\"\", INDEX(referentes!$D:$E,MATCH(DATOS_MIP_SA!AI278,referentes!$E:$E,0),1))","v":""},{"$f":"IF(AK278=\"\",\"\", INDEX(referentes!$A:$B,MATCH(DATOS_MIP_SA!AK278,referentes!$B:$B,0),1))","v":""},null,{"$f":"IF(AM278=\"\",\"\", INDEX(referentes!$S:$T,MATCH(AM278,referentes!$T:$T,0),1))","v":""},{"$f":"IF(AN278=\"\",\"\", INDEX(referentes!$Y:$Z,MATCH(AN278,referentes!$Z:$Z,0),1))","v":""},{"$f":"IF(AU278=\"\",\"\", INDEX(referentes!$V:$W,MATCH(DATOS_MIP_SA!AU278,referentes!$W:$W,0),1))","v":""},{"$f":"IF(AO278=\"\",\"\", INDEX(referentes!$AB:$AC,MATCH(DATOS_MIP_SA!AO278,referentes!$AC:$AC,0),1))","v":""},{"$f":"IF(AV278=\"\",\"\", INDEX('otras referencias'!$U:$V,MATCH(DATOS_MIP_SA!AV278,'otras referencias'!$V:$V,0),1))","v":""},{"$f":"IF(AW278=\"\",\"\", INDEX(referentes!$J:$K,MATCH(DATOS_MIP_SA!AW278,referentes!$K:$K,0),1))","v":""},null,null,null,null,null,null,{"$f":"IF(X278<>\"\",INDEX(referentes!$AH:$AL,MATCH(DATOS_MIP_SA!X278,referentes!$AI:$AI,0),5),\"\")","v":""}]
[null,null,null,"",{"$f":"IF(J279=\"\",\"\",CONCATENATE(AF279,DIGITADOR!$B$2,DIGITADOR!$M$1,J279))","v":""},{"$f":"IF(J279=\"\",\"\",CONCATENATE(DIGITADOR!$B$2,AF279,DIGITADOR!$M$1,J279,ROW()))","v":""},null,null,null,{"$f":"IF(X279=\"\",\"\", INDEX(referentes!$AH:$AL,MATCH(DATOS_MIP_SA!X279,referentes!$AI:$AI,0),1))","v":""},"",{"$f":"IF(AI279=\"\",\"\", INDEX(referentes!$D:$E,MATCH(DATOS_MIP_SA!AI279,referentes!$E:$E,0),1))","v":""},{"$f":"IF(AK279=\"\",\"\", INDEX(referentes!$A:$B,MATCH(DATOS_MIP_SA!AK279,referentes!$B:$B,0),1))","v":""},null,{"$f":"IF(AM279=\"\",\"\", INDEX(referentes!$S:$T,MATCH(AM279,referentes!$T:$T,0),1))","v":""},{"$f":"IF(AN279=\"\",\"\", INDEX(referentes!$Y:$Z,MATCH(AN279,referentes!$Z:$Z,0),1))","v":""},{"$f":"IF(AU279=\"\",\"\", INDEX(referentes!$V:$W,MATCH(DATOS_MIP_SA!AU279,referentes!$W:$W,0),1))","v":""},{"$f":"IF(AO279=\"\",\"\", INDEX(referentes!$AB:$AC,MATCH(DATOS_MIP_SA!AO279,referentes!$AC:$AC,0),1))","v":""},{"$f":"IF(AV279=\"\",\"\", INDEX('otras referencias'!$U:$V,MATCH(DATOS_MIP_SA!AV279,'otras referencias'!$V:$V,0),1))","v":""},{"$f":"IF(AW279=\"\",\"\", INDEX(referentes!$J:$K,MATCH(DATOS_MIP_SA!AW279,referentes!$K:$K,0),1))","v":""},null,null,null,null,null,null,{"$f":"IF(X279<>\"\",INDEX(referentes!$AH:$AL,MATCH(DATOS_MIP_SA!X279,referentes!$AI:$AI,0),5),\"\")","v":""}]
[null,null,null,"",{"$f":"IF(J280=\"\",\"\",CONCATENATE(AF280,DIGITADOR!$B$2,DIGITADOR!$M$1,J280))","v":""},{"$f":"IF(J280=\"\",\"\",CONCATENATE(DIGITADOR!$B$2,AF280,DIGITADOR!$M$1,J280,ROW()))","v":""},null,null,null,{"$f":"IF(X280=\"\",\"\", INDEX(referentes!$AH:$AL,MATCH(DATOS_MIP_SA!X280,referentes!$AI:$AI,0),1))","v":""},"",{"$f":"IF(AI280=\"\",\"\", INDEX(referentes!$D:$E,MATCH(DATOS_MIP_SA!AI280,referentes!$E:$E,0),1))","v":""},{"$f":"IF(AK280=\"\",\"\", INDEX(referentes!$A:$B,MATCH(DATOS_MIP_SA!AK280,referentes!$B:$B,0),1))","v":""},null,{"$f":"IF(AM280=\"\",\"\", INDEX(referentes!$S:$T,MATCH(AM280,referentes!$T:$T,0),1))","v":""},{"$f":"IF(AN280=\"\",\"\", INDEX(referentes!$Y:$Z,MATCH(AN280,referentes!$Z:$Z,0),1))","v":""},{"$f":"IF(AU280=\"\",\"\", INDEX(referentes!$V:$W,MATCH(DATOS_MIP_SA!AU280,referentes!$W:$W,0),1))","v":""},{"$f":"IF(AO280=\"\",\"\", INDEX(referentes!$AB:$AC,MATCH(DATOS_MIP_SA!AO280,referentes!$AC:$AC,0),1))","v":""},{"$f":"IF(AV280=\"\",\"\", INDEX('otras referencias'!$U:$V,MATCH(DATOS_MIP_SA!AV280,'otras referencias'!$V:$V,0),1))","v":""},{"$f":"IF(AW280=\"\",\"\", INDEX(referentes!$J:$K,MATCH(DATOS_MIP_SA!AW280,referentes!$K:$K,0),1))","v":""},null,null,null,null,null,null,{"$f":"IF(X280<>\"\",INDEX(referentes!$AH:$AL,MATCH(DATOS_MIP_SA!X280,referentes!$AI:$AI,0),5),\"\")","v":""}]
[null,null,null,"",{"$f":"IF(J281=\"\",\"\",CONCATENATE(AF281,DIGITADOR!$B$2,DIGITADOR!$M$1,J281))","v":""},{"$f":"IF(J281=\"\",\"\",CONCATENATE(DIGITADOR!$B$2,AF281,DIGITADOR!$M$1,J281,ROW()))","v":""},null,null,null,{"$f":"IF(X281=\"\",\"\", INDEX(referentes!$AH:$AL,MATCH(DATOS_MIP_SA!X281,referentes!$AI:$AI,0),1))","v":""},"",{"$f":"IF(AI281=\"\",\"\", INDEX(referentes!$D:$E,MATCH(DATOS_MIP_SA!AI281,referentes!$E:$E,0),1))","v":""},{"$f":"IF(AK281=\"\",\"\", INDEX(referentes!$A:$B,MATCH(DATOS_MIP_SA!AK281,referentes!$B:$B,0),1))","v":""},null,{"$f":"IF(AM281=\"\",\"\", INDEX(referentes!$S:$T,MATCH(AM281,referentes!$T:$T,0),1))","v":""},{"$f":"IF(AN281=\"\",\"\", INDEX(referentes!$Y:$Z,MATCH(AN281,referentes!$Z:$Z,0),1))","v":""},{"$f":"IF(AU281=\"\",\"\", INDEX(referentes!$V:$W,MATCH(DATOS_MIP_SA!AU281,referentes!$W:$W,0),1))","v":""},{"$f":"IF(AO281=\"\",\"\", INDEX(referentes!$AB:$AC,MATCH(DATOS_MIP_SA!AO281,referentes!$AC:$AC,0),1))","v":""},{"$f":"IF(AV281=\"\",\"\", INDEX('otras referencias'!$U:$V,MATCH(DATOS_MIP_SA!AV281,'otras referencias'!$V:$V,0),1))","v":""},{"$f":"IF(AW281=\"\",\"\", INDEX(referentes!$J:$K,MATCH(DATOS_MIP_SA!AW281,referentes!$K:$K,0),1))","v":""},null,null,null,null,null,null,{"$f":"IF(X281<>\"\",INDEX(referentes!$AH:$AL,MATCH(DATOS_MIP_SA!X281,referentes!$AI:$AI,0),5),\"\")","v":""}]
[null,null,null,"",{"$f":"IF(J282=\"\",\"\",CONCATENATE(AF282,DIGITADOR!$B$2,DIGITADOR!$M$1,J282))","v":""},{"$f":"IF(J282=\"\",\"\",CONCATENATE(DIGITADOR!$B$2,AF282,DIGITADOR!$M$1,J282,ROW()))","v":""},null,null,null,{"$f":"IF(X282=\"\",\"\", INDEX(referentes!$AH:$AL,MATCH(DATOS_MIP_SA!X282,referentes!$AI:$AI,0),1))","v":""},"",{"$f":"IF(AI282=\"\",\"\", INDEX(referentes!$D:$E,MATCH(DATOS_MIP_SA!AI282,referentes!$E:$E,0),1))","v":""},{"$f":"IF(AK282=\"\",\"\", INDEX(referentes!$A:$B,MATCH(DATOS_MIP_SA!AK282,referentes!$B:$B,0),1))","v":""},null,{"$f":"IF(AM282=\"\",\"\", INDEX(referentes!$S:$T,MATCH(AM282,referentes!$T:$T,0),1))","v":""},{"$f":"IF(AN282=\"\",\"\", INDEX(referentes!$Y:$Z,MATCH(AN282,referentes!$Z:$Z,0),1))","v":""},{"$f":"IF(AU282=\"\",\"\", INDEX(referentes!$V:$W,MATCH(DATOS_MIP_SA!AU282,referentes!$W:$W,0),1))","v":""},{"$f":"IF(AO282=\"\",\"\", INDEX(referentes!$AB:$AC,MATCH(DATOS_MIP_SA!AO282,referentes!$AC:$AC,0),1))","v":""},{"$f":"IF(AV282=\"\",\"\", INDEX('otras referencias'!$U:$V,MATCH(DATOS_MIP_SA!AV282,'otras referencias'!$V:$V,0),1))","v":""},{"$f":"IF(AW282=\"\",\"\", INDEX(referentes!$J:$K,MATCH(DATOS_MIP_SA!AW282,referentes!$K:$K,0),1))","v":""},null,null,null,null,null,null,{"$f":"IF(X282<>\"\",INDEX(referentes!$AH:$AL,MATCH(DATOS_MIP_SA!X282,referentes!$AI:$AI,0),5),\"\")","v":""}]
[null,null,null,"",{"$f":"IF(J283=\"\",\"\",CONCATENATE(AF283,DIGITADOR!$B$2,DIGITADOR!$M$1,J283))","v":""},{"$f":"IF(J283=\"\",\"\",CONCATENATE(DIGITADOR!$B$2,AF283,DIGITADOR!$M$1,J283,ROW()))","v":""},null,null,null,{"$f":"IF(X283=\"\",\"\", INDEX(referentes!$AH:$AL,MATCH(DATOS_MIP_SA!X283,referentes!$AI:$AI,0),1))","v":""},"",{"$f":"IF(AI283=\"\",\"\", INDEX(referentes!$D:$E,MATCH(DATOS_MIP_SA!AI283,referentes!$E:$E,0),1))","v":""},{"$f":"IF(AK283=\"\",\"\", INDEX(referentes!$A:$B,MATCH(DATOS_MIP_SA!AK283,referentes!$B:$B,0),1))","v":""},null,{"$f":"IF(AM283=\"\",\"\", INDEX(referentes!$S:$T,MATCH(AM283,referentes!$T:$T,0),1))","v":""},{"$f":"IF(AN283=\"\",\"\", INDEX(referentes!$Y:$Z,MATCH(AN283,referentes!$Z:$Z,0),1))","v":""},{"$f":"IF(AU283=\"\",\"\", INDEX(referentes!$V:$W,MATCH(DATOS_MIP_SA!AU283,referentes!$W:$W,0),1))","v":""},{"$f":"IF(AO283=\"\",\"\", INDEX(referentes!$AB:$AC,MATCH(DATOS_MIP_SA!AO283,referentes!$AC:$AC,0),1))","v":""},{"$f":"IF(AV283=\"\",\"\", INDEX('otras referencias'!$U:$V,MATCH(DATOS_MIP_SA!AV283,'otras referencias'!$V:$V,0),1))","v":""},{"$f":"IF(AW283=\"\",\"\", INDEX(referentes!$J:$K,MATCH(DATOS_MIP_SA!AW283,referentes!$K:$K,0),1))","v":""},null,null,null,null,null,null,{"$f":"IF(X283<>\"\",INDEX(referentes!$AH:$AL,MATCH(DATOS_MIP_SA!X283,referentes!$AI:$AI,0),5),\"\")","v":""}]
[null,null,null,"",{"$f":"IF(J284=\"\",\"\",CONCATENATE(AF284,DIGITADOR!$B$2,DIGITADOR!$M$1,J284))","v":""},{"$f":"IF(J284=\"\",\"\",CONCATENATE(DIGITADOR!$B$2,AF284,DIGITADOR!$M$1,J284,ROW()))","v":""},null,null,null,{"$f":"IF(X284=\"\",\"\", INDEX(referentes!$AH:$AL,MATCH(DATOS_MIP_SA!X284,referentes!$AI:$AI,0),1))","v":""},"",{"$f":"IF(AI284=\"\",\"\", INDEX(referentes!$D:$E,MATCH(DATOS_MIP_SA!AI284,referentes!$E:$E,0),1))","v":""},{"$f":"IF(AK284=\"\",\"\", INDEX(referentes!$A:$B,MATCH(DATOS_MIP_SA!AK284,referentes!$B:$B,0),1))","v":""},null,{"$f":"IF(AM284=\"\",\"\", INDEX(referentes!$S:$T,MATCH(AM284,referentes!$T:$T,0),1))","v":""},{"$f":"IF(AN284=\"\",\"\", INDEX(referentes!$Y:$Z,MATCH(AN284,referentes!$Z:$Z,0),1))","v":""},{"$f":"IF(AU284=\"\",\"\", INDEX(referentes!$V:$W,MATCH(DATOS_MIP_SA!AU284,referentes!$W:$W,0),1))","v":""},{"$f":"IF(AO284=\"\",\"\", INDEX(referentes!$AB:$AC,MATCH(DATOS_MIP_SA!AO284,referentes!$AC:$AC,0),1))","v":""},{"$f":"IF(AV284=\"\",\"\", INDEX('otras referencias'!$U:$V,MATCH(DATOS_MIP_SA!AV284,'otras referencias'!$V:$V,0),1))","v":""},{"$f":"IF(AW284=\"\",\"\", INDEX(referentes!$J:$K,MATCH(DATOS_MIP_SA!AW284,referentes!$K:$K,0),1))","v":""},null,null,null,null,null,null,{"$f":"IF(X284<>\"\",INDEX(referentes!$AH:$AL,MATCH(DATOS_MIP_SA!X284,referentes!$AI:$AI,0),5),\"\")","v":""}]
[null,null,null,"",{"$f":"IF(J285=\"\",\"\",CONCATENATE(AF285,DIGITADOR!$B$2,DIGITADOR!$M$1,J285))","v":""},{"$f":"IF(J285=\"\",\"\",CONCATENATE(DIGITADOR!$B$2,AF285,DIGITADOR!$M$1,J285,ROW()))","v":""},null,null,null,{"$f":"IF(X285=\"\",\"\", INDEX(referentes!$AH:$AL,MATCH(DATOS_MIP_SA!X285,referentes!$AI:$AI,0),1))","v":""},"",{"$f":"IF(AI285=\"\",\"\", INDEX(referentes!$D:$E,MATCH(DATOS_MIP_SA!AI285,referentes!$E:$E,0),1))","v":""},{"$f":"IF(AK285=\"\",\"\", INDEX(referentes!$A:$B,MATCH(DATOS_MIP_SA!AK285,referentes!$B:$B,0),1))","v":""},null,{"$f":"IF(AM285=\"\",\"\", INDEX(referentes!$S:$T,MATCH(AM285,referentes!$T:$T,0),1))","v":""},{"$f":"IF(AN285=\"\",\"\", INDEX(referentes!$Y:$Z,MATCH(AN285,referentes!$Z:$Z,0),1))","v":""},{"$f":"IF(AU285=\"\",\"\", INDEX(referentes!$V:$W,MATCH(DATOS_MIP_SA!AU285,referentes!$W:$W,0),1))","v":""},{"$f":"IF(AO285=\"\",\"\", INDEX(referentes!$AB:$AC,MATCH(DATOS_MIP_SA!AO285,referentes!$AC:$AC,0),1))","v":""},{"$f":"IF(AV285=\"\",\"\", INDEX('otras referencias'!$U:$V,MATCH(DATOS_MIP_SA!AV285,'otras referencias'!$V:$V,0),1))","v":""},{"$f":"IF(AW285=\"\",\"\", INDEX(referentes!$J:$K,MATCH(DATOS_MIP_SA!AW285,referentes!$K:$K,0),1))","v":""},null,null,null,null,null,null,{"$f":"IF(X285<>\"\",INDEX(referentes!$AH:$AL,MATCH(DATOS_MIP_SA!X285,referentes!$AI:$AI,0),5),\"\")","v":""}]
[null,null,null,"",{"$f":"IF(J286=\"\",\"\",CONCATENATE(AF286,DIGITADOR!$B$2,DIGITADOR!$M$1,J286))","v":""},{"$f":"IF(J286=\"\",\"\",CONCATENATE(DIGITADOR!$B$2,AF286,DIGITADOR!$M$1,J286,ROW()))","v":""},null,null,null,{"$f":"IF(X286=\"\",\"\", INDEX(referentes!$AH:$AL,MATCH(DATOS_MIP_SA!X286,referentes!$AI:$AI,0),1))","v":""},"",{"$f":"IF(AI286=\"\",\"\", INDEX(referentes!$D:$E,MATCH(DATOS_MIP_SA!AI286,referentes!$E:$E,0),1))","v":""},{"$f":"IF(AK286=\"\",\"\", INDEX(referentes!$A:$B,MATCH(DATOS_MIP_SA!AK286,referentes!$B:$B,0),1))","v":""},null,{"$f":"IF(AM286=\"\",\"\", INDEX(referentes!$S:$T,MATCH(AM286,referentes!$T:$T,0),1))","v":""},{"$f":"IF(AN286=\"\",\"\", INDEX(referentes!$Y:$Z,MATCH(AN286,referentes!$Z:$Z,0),1))","v":""},{"$f":"IF(AU286=\"\",\"\", INDEX(referentes!$V:$W,MATCH(DATOS_MIP_SA!AU286,referentes!$W:$W,0),1))","v":""},{"$f":"IF(AO286=\"\",\"\", INDEX(referentes!$AB:$AC,MATCH(DATOS_MIP_SA!AO286,referentes!$AC:$AC,0),1))","v":""},{"$f":"IF(AV286=\"\",\"\", INDEX('otras referencias'!$U:$V,MATCH(DATOS_MIP_SA!AV286,'otras referencias'!$V:$V,0),1))","v":""},{"$f":"IF(AW286=\"\",\"\", INDEX(referentes!$J:$K,MATCH(DATOS_MIP_SA!AW286,referentes!$K:$K,0),1))","v":""},null,null,null,null,null,null,{"$f":"IF(X286<>\"\",INDEX(referentes!$AH:$AL,MATCH(DATOS_MIP_SA!X286,referentes!$AI:$AI,0),5),\"\")","v":""}]
[null,null,null,"",{"$f":"IF(J287=\"\",\"\",CONCATENATE(AF287,DIGITADOR!$B$2,DIGITADOR!$M$1,J287))","v":""},{"$f":"IF(J287=\"\",\"\",CONCATENATE(DIGITADOR!$B$2,AF287,DIGITADOR!$M$1,J287,ROW()))","v":""},null,null,null,{"$f":"IF(X287=\"\",\"\", INDEX(referentes!$AH:$AL,MATCH(DATOS_MIP_SA!X287,referentes!$AI:$AI,0),1))","v":""},"",{"$f":"IF(AI287=\"\",\"\", INDEX(referentes!$D:$E,MATCH(DATOS_MIP_SA!AI287,referentes!$E:$E,0),1))","v":""},{"$f":"IF(AK287=\"\",\"\", INDEX(referentes!$A:$B,MATCH(DATOS_MIP_SA!AK287,referentes!$B:$B,0),1))","v":""},null,{"$f":"IF(AM287=\"\",\"\", INDEX(referentes!$S:$T,MATCH(AM287,referentes!$T:$T,0),1))","v":""},{"$f":"IF(AN287=\"\",\"\", INDEX(referentes!$Y:$Z,MATCH(AN287,referentes!$Z:$Z,0),1))","v":""},{"$f":"IF(AU287=\"\",\"\", INDEX(referentes!$V:$W,MATCH(DATOS_MIP_SA!AU287,referentes!$W:$W,0),1))","v":""},{"$f":"IF(AO287=\"\",\"\", INDEX(referentes!$AB:$AC,MATCH(DATOS_MIP_SA!AO287,referentes!$AC:$AC,0),1))","v":""},{"$f":"IF(AV287=\"\",\"\", INDEX('otras referencias'!$U:$V,MATCH(DATOS_MIP_SA!AV287,'otras referencias'!$V:$V,0),1))","v":""},{"$f":"IF(AW287=\"\",\"\", INDEX(referentes!$J:$K,MATCH(DATOS_MIP_SA!AW287,referentes!$K:$K,0),1))","v":""},null,null,null,null,null,null,{"$f":"IF(X287<>\"\",INDEX(referentes!$AH:$AL,MATCH(DATOS_MIP_SA!X287,referentes!$AI:$AI,0),5),\"\")","v":""}]
[null,null,null,"",{"$f":"IF(J288=\"\",\"\",CONCATENATE(AF288,DIGITADOR!$B$2,DIGITADOR!$M$1,J288))","v":""},{"$f":"IF(J288=\"\",\"\",CONCATENATE(DIGITADOR!$B$2,AF288,DIGITADOR!$M$1,J288,ROW()))","v":""},null,null,null,{"$f":"IF(X288=\"\",\"\", INDEX(referentes!$AH:$AL,MATCH(DATOS_MIP_SA!X288,referentes!$AI:$AI,0),1))","v":""},"",{"$f":"IF(AI288=\"\",\"\", INDEX(referentes!$D:$E,MATCH(DATOS_MIP_SA!AI288,referentes!$E:$E,0),1))","v":""},{"$f":"IF(AK288=\"\",\"\", INDEX(referentes!$A:$B,MATCH(DATOS_MIP_SA!AK288,referentes!$B:$B,0),1))","v":""},null,{"$f":"IF(AM288=\"\",\"\", INDEX(referentes!$S:$T,MATCH(AM288,referentes!$T:$T,0),1))","v":""},{"$f":"IF(AN288=\"\",\"\", INDEX(referentes!$Y:$Z,MATCH(AN288,referentes!$Z:$Z,0),1))","v":""},{"$f":"IF(AU288=\"\",\"\", INDEX(referentes!$V:$W,MATCH(DATOS_MIP_SA!AU288,referentes!$W:$W,0),1))","v":""},{"$f":"IF(AO288=\"\",\"\", INDEX(referentes!$AB:$AC,MATCH(DATOS_MIP_SA!AO288,referentes!$AC:$AC,0),1))","v":""},{"$f":"IF(AV288=\"\",\"\", INDEX('otras referencias'!$U:$V,MATCH(DATOS_MIP_SA!AV288,'otras referencias'!$V:$V,0),1))","v":""},{"$f":"IF(AW288=\"\",\"\", INDEX(referentes!$J:$K,MATCH(DATOS_MIP_SA!AW288,referentes!$K:$K,0),1))","v":""},null,null,null,null,null,null,{"$f":"IF(X288<>\"\",INDEX(referentes!$AH:$AL,MATCH(DATOS_MIP_SA!X288,referentes!$AI:$AI,0),5),\"\")","v":""}]
[null,null,null,"",{"$f":"IF(J289=\"\",\"\",CONCATENATE(AF289,DIGITADOR!$B$2,DIGITADOR!$M$1,J289))","v":""},{"$f":"IF(J289=\"\",\"\",CONCATENATE(DIGITADOR!$B$2,AF289,DIGITADOR!$M$1,J289,ROW()))","v":""},null,null,null,{"$f":"IF(X289=\"\",\"\", INDEX(referentes!$AH:$AL,MATCH(DATOS_MIP_SA!X289,referentes!$AI:$AI,0),1))","v":""},"",{"$f":"IF(AI289=\"\",\"\", INDEX(referentes!$D:$E,MATCH(DATOS_MIP_SA!AI289,referentes!$E:$E,0),1))","v":""},{"$f":"IF(AK289=\"\",\"\", INDEX(referentes!$A:$B,MATCH(DATOS_MIP_SA!AK289,referentes!$B:$B,0),1))","v":""},null,{"$f":"IF(AM289=\"\",\"\", INDEX(referentes!$S:$T,MATCH(AM289,referentes!$T:$T,0),1))","v":""},{"$f":"IF(AN289=\"\",\"\", INDEX(referentes!$Y:$Z,MATCH(AN289,referentes!$Z:$Z,0),1))","v":""},{"$f":"IF(AU289=\"\",\"\", INDEX(referentes!$V:$W,MATCH(DATOS_MIP_SA!AU289,referentes!$W:$W,0),1))","v":""},{"$f":"IF(AO289=\"\",\"\", INDEX(referentes!$AB:$AC,MATCH(DATOS_MIP_SA!AO289,referentes!$AC:$AC,0),1))","v":""},{"$f":"IF(AV289=\"\",\"\", INDEX('otras referencias'!$U:$V,MATCH(DATOS_MIP_SA!AV289,'otras referencias'!$V:$V,0),1))","v":""},{"$f":"IF(AW289=\"\",\"\", INDEX(referentes!$J:$K,MATCH(DATOS_MIP_SA!AW289,referentes!$K:$K,0),1))","v":""},null,null,null,null,null,null,{"$f":"IF(X289<>\"\",INDEX(referentes!$AH:$AL,MATCH(DATOS_MIP_SA!X289,referentes!$AI:$AI,0),5),\"\")","v":""}]
[null,null,null,"",{"$f":"IF(J290=\"\",\"\",CONCATENATE(AF290,DIGITADOR!$B$2,DIGITADOR!$M$1,J290))","v":""},{"$f":"IF(J290=\"\",\"\",CONCATENATE(DIGITADOR!$B$2,AF290,DIGITADOR!$M$1,J290,ROW()))","v":""},null,null,null,{"$f":"IF(X290=\"\",\"\", INDEX(referentes!$AH:$AL,MATCH(DATOS_MIP_SA!X290,referentes!$AI:$AI,0),1))","v":""},"",{"$f":"IF(AI290=\"\",\"\", INDEX(referentes!$D:$E,MATCH(DATOS_MIP_SA!AI290,referentes!$E:$E,0),1))","v":""},{"$f":"IF(AK290=\"\",\"\", INDEX(referentes!$A:$B,MATCH(DATOS_MIP_SA!AK290,referentes!$B:$B,0),1))","v":""},null,{"$f":"IF(AM290=\"\",\"\", INDEX(referentes!$S:$T,MATCH(AM290,referentes!$T:$T,0),1))","v":""},{"$f":"IF(AN290=\"\",\"\", INDEX(referentes!$Y:$Z,MATCH(AN290,referentes!$Z:$Z,0),1))","v":""},{"$f":"IF(AU290=\"\",\"\", INDEX(referentes!$V:$W,MATCH(DATOS_MIP_SA!AU290,referentes!$W:$W,0),1))","v":""},{"$f":"IF(AO290=\"\",\"\", INDEX(referentes!$AB:$AC,MATCH(DATOS_MIP_SA!AO290,referentes!$AC:$AC,0),1))","v":""},{"$f":"IF(AV290=\"\",\"\", INDEX('otras referencias'!$U:$V,MATCH(DATOS_MIP_SA!AV290,'otras referencias'!$V:$V,0),1))","v":""},{"$f":"IF(AW290=\"\",\"\", INDEX(referentes!$J:$K,MATCH(DATOS_MIP_SA!AW290,referentes!$K:$K,0),1))","v":""},null,null,null,null,null,null,{"$f":"IF(X290<>\"\",INDEX(referentes!$AH:$AL,MATCH(DATOS_MIP_SA!X290,referentes!$AI:$AI,0),5),\"\")","v":""}]
[null,null,null,"",{"$f":"IF(J291=\"\",\"\",CONCATENATE(AF291,DIGITADOR!$B$2,DIGITADOR!$M$1,J291))","v":""},{"$f":"IF(J291=\"\",\"\",CONCATENATE(DIGITADOR!$B$2,AF291,DIGITADOR!$M$1,J291,ROW()))","v":""},null,null,null,{"$f":"IF(X291=\"\",\"\", INDEX(referentes!$AH:$AL,MATCH(DATOS_MIP_SA!X291,referentes!$AI:$AI,0),1))","v":""},"",{"$f":"IF(AI291=\"\",\"\", INDEX(referentes!$D:$E,MATCH(DATOS_MIP_SA!AI291,referentes!$E:$E,0),1))","v":""},{"$f":"IF(AK291=\"\",\"\", INDEX(referentes!$A:$B,MATCH(DATOS_MIP_SA!AK291,referentes!$B:$B,0),1))","v":""},null,{"$f":"IF(AM291=\"\",\"\", INDEX(referentes!$S:$T,MATCH(AM291,referentes!$T:$T,0),1))","v":""},{"$f":"IF(AN291=\"\",\"\", INDEX(referentes!$Y:$Z,MATCH(AN291,referentes!$Z:$Z,0),1))","v":""},{"$f":"IF(AU291=\"\",\"\", INDEX(referentes!$V:$W,MATCH(DATOS_MIP_SA!AU291,referentes!$W:$W,0),1))","v":""},{"$f":"IF(AO291=\"\",\"\", INDEX(referentes!$AB:$AC,MATCH(DATOS_MIP_SA!AO291,referentes!$AC:$AC,0),1))","v":""},{"$f":"IF(AV291=\"\",\"\", INDEX('otras referencias'!$U:$V,MATCH(DATOS_MIP_SA!AV291,'otras referencias'!$V:$V,0),1))","v":""},{"$f":"IF(AW291=\"\",\"\", INDEX(referentes!$J:$K,MATCH(DATOS_MIP_SA!AW291,referentes!$K:$K,0),1))","v":""},null,null,null,null,null,null,{"$f":"IF(X291<>\"\",INDEX(referentes!$AH:$AL,MATCH(DATOS_MIP_SA!X291,referentes!$AI:$AI,0),5),\"\")","v":""}]
[null,null,null,"",{"$f":"IF(J292=\"\",\"\",CONCATENATE(AF292,DIGITADOR!$B$2,DIGITADOR!$M$1,J292))","v":""},{"$f":"IF(J292=\"\",\"\",CONCATENATE(DIGITADOR!$B$2,AF292,DIGITADOR!$M$1,J292,ROW()))","v":""},null,null,null,{"$f":"IF(X292=\"\",\"\", INDEX(referentes!$AH:$AL,MATCH(DATOS_MIP_SA!X292,referentes!$AI:$AI,0),1))","v":""},"",{"$f":"IF(AI292=\"\",\"\", INDEX(referentes!$D:$E,MATCH(DATOS_MIP_SA!AI292,referentes!$E:$E,0),1))","v":""},{"$f":"IF(AK292=\"\",\"\", INDEX(referentes!$A:$B,MATCH(DATOS_MIP_SA!AK292,referentes!$B:$B,0),1))","v":""},null,{"$f":"IF(AM292=\"\",\"\", INDEX(referentes!$S:$T,MATCH(AM292,referentes!$T:$T,0),1))","v":""},{"$f":"IF(AN292=\"\",\"\", INDEX(referentes!$Y:$Z,MATCH(AN292,referentes!$Z:$Z,0),1))","v":""},{"$f":"IF(AU292=\"\",\"\", INDEX(referentes!$V:$W,MATCH(DATOS_MIP_SA!AU292,referentes!$W:$W,0),1))","v":""},{"$f":"IF(AO292=\"\",\"\", INDEX(referentes!$AB:$AC,MATCH(DATOS_MIP_SA!AO292,referentes!$AC:$AC,0),1))","v":""},{"$f":"IF(AV292=\"\",\"\", INDEX('otras referencias'!$U:$V,MATCH(DATOS_MIP_SA!AV292,'otras referencias'!$V:$V,0),1))","v":""},{"$f":"IF(AW292=\"\",\"\", INDEX(referentes!$J:$K,MATCH(DATOS_MIP_SA!AW292,referentes!$K:$K,0),1))","v":""},null,null,null,null,null,null,{"$f":"IF(X292<>\"\",INDEX(referentes!$AH:$AL,MATCH(DATOS_MIP_SA!X292,referentes!$AI:$AI,0),5),\"\")","v":""}]
[null,null,null,"",{"$f":"IF(J293=\"\",\"\",CONCATENATE(AF293,DIGITADOR!$B$2,DIGITADOR!$M$1,J293))","v":""},{"$f":"IF(J293=\"\",\"\",CONCATENATE(DIGITADOR!$B$2,AF293,DIGITADOR!$M$1,J293,ROW()))","v":""},null,null,null,{"$f":"IF(X293=\"\",\"\", INDEX(referentes!$AH:$AL,MATCH(DATOS_MIP_SA!X293,referentes!$AI:$AI,0),1))","v":""},"",{"$f":"IF(AI293=\"\",\"\", INDEX(referentes!$D:$E,MATCH(DATOS_MIP_SA!AI293,referentes!$E:$E,0),1))","v":""},{"$f":"IF(AK293=\"\",\"\", INDEX(referentes!$A:$B,MATCH(DATOS_MIP_SA!AK293,referentes!$B:$B,0),1))","v":""},null,{"$f":"IF(AM293=\"\",\"\", INDEX(referentes!$S:$T,MATCH(AM293,referentes!$T:$T,0),1))","v":""},{"$f":"IF(AN293=\"\",\"\", INDEX(referentes!$Y:$Z,MATCH(AN293,referentes!$Z:$Z,0),1))","v":""},{"$f":"IF(AU293=\"\",\"\", INDEX(referentes!$V:$W,MATCH(DATOS_MIP_SA!AU293,referentes!$W:$W,0),1))","v":""},{"$f":"IF(AO293=\"\",\"\", INDEX(referentes!$AB:$AC,MATCH(DATOS_MIP_SA!AO293,referentes!$AC:$AC,0),1))","v":""},{"$f":"IF(AV293=\"\",\"\", INDEX('otras referencias'!$U:$V,MATCH(DATOS_MIP_SA!AV293,'otras referencias'!$V:$V,0),1))","v":""},{"$f":"IF(AW293=\"\",\"\", INDEX(referentes!$J:$K,MATCH(DATOS_MIP_SA!AW293,referentes!$K:$K,0),1))","v":""},null,null,null,null,null,null,{"$f":"IF(X293<>\"\",INDEX(referentes!$AH:$AL,MATCH(DATOS_MIP_SA!X293,referentes!$AI:$AI,0),5),\"\")","v":""}]
[null,null,null,"",{"$f":"IF(J294=\"\",\"\",CONCATENATE(AF294,DIGITADOR!$B$2,DIGITADOR!$M$1,J294))","v":""},{"$f":"IF(J294=\"\",\"\",CONCATENATE(DIGITADOR!$B$2,AF294,DIGITADOR!$M$1,J294,ROW()))","v":""},null,null,null,{"$f":"IF(X294=\"\",\"\", INDEX(referentes!$AH:$AL,MATCH(DATOS_MIP_SA!X294,referentes!$AI:$AI,0),1))","v":""},"",{"$f":"IF(AI294=\"\",\"\", INDEX(referentes!$D:$E,MATCH(DATOS_MIP_SA!AI294,referentes!$E:$E,0),1))","v":""},{"$f":"IF(AK294=\"\",\"\", INDEX(referentes!$A:$B,MATCH(DATOS_MIP_SA!AK294,referentes!$B:$B,0),1))","v":""},null,{"$f":"IF(AM294=\"\",\"\", INDEX(referentes!$S:$T,MATCH(AM294,referentes!$T:$T,0),1))","v":""},{"$f":"IF(AN294=\"\",\"\", INDEX(referentes!$Y:$Z,MATCH(AN294,referentes!$Z:$Z,0),1))","v":""},{"$f":"IF(AU294=\"\",\"\", INDEX(referentes!$V:$W,MATCH(DATOS_MIP_SA!AU294,referentes!$W:$W,0),1))","v":""},{"$f":"IF(AO294=\"\",\"\", INDEX(referentes!$AB:$AC,MATCH(DATOS_MIP_SA!AO294,referentes!$AC:$AC,0),1))","v":""},{"$f":"IF(AV294=\"\",\"\", INDEX('otras referencias'!$U:$V,MATCH(DATOS_MIP_SA!AV294,'otras referencias'!$V:$V,0),1))","v":""},{"$f":"IF(AW294=\"\",\"\", INDEX(referentes!$J:$K,MATCH(DATOS_MIP_SA!AW294,referentes!$K:$K,0),1))","v":""},null,null,null,null,null,null,{"$f":"IF(X294<>\"\",INDEX(referentes!$AH:$AL,MATCH(DATOS_MIP_SA!X294,referentes!$AI:$AI,0),5),\"\")","v":""}]
[null,null,null,"",{"$f":"IF(J295=\"\",\"\",CONCATENATE(AF295,DIGITADOR!$B$2,DIGITADOR!$M$1,J295))","v":""},{"$f":"IF(J295=\"\",\"\",CONCATENATE(DIGITADOR!$B$2,AF295,DIGITADOR!$M$1,J295,ROW()))","v":""},null,null,null,{"$f":"IF(X295=\"\",\"\", INDEX(referentes!$AH:$AL,MATCH(DATOS_MIP_SA!X295,referentes!$AI:$AI,0),1))","v":""},"",{"$f":"IF(AI295=\"\",\"\", INDEX(referentes!$D:$E,MATCH(DATOS_MIP_SA!AI295,referentes!$E:$E,0),1))","v":""},{"$f":"IF(AK295=\"\",\"\", INDEX(referentes!$A:$B,MATCH(DATOS_MIP_SA!AK295,referentes!$B:$B,0),1))","v":""},null,{"$f":"IF(AM295=\"\",\"\", INDEX(referentes!$S:$T,MATCH(AM295,referentes!$T:$T,0),1))","v":""},{"$f":"IF(AN295=\"\",\"\", INDEX(referentes!$Y:$Z,MATCH(AN295,referentes!$Z:$Z,0),1))","v":""},{"$f":"IF(AU295=\"\",\"\", INDEX(referentes!$V:$W,MATCH(DATOS_MIP_SA!AU295,referentes!$W:$W,0),1))","v":""},{"$f":"IF(AO295=\"\",\"\", INDEX(referentes!$AB:$AC,MATCH(DATOS_MIP_SA!AO295,referentes!$AC:$AC,0),1))","v":""},{"$f":"IF(AV295=\"\",\"\", INDEX('otras referencias'!$U:$V,MATCH(DATOS_MIP_SA!AV295,'otras referencias'!$V:$V,0),1))","v":""},{"$f":"IF(AW295=\"\",\"\", INDEX(referentes!$J:$K,MATCH(DATOS_MIP_SA!AW295,referentes!$K:$K,0),1))","v":""},null,null,null,null,null,null,{"$f":"IF(X295<>\"\",INDEX(referentes!$AH:$AL,MATCH(DATOS_MIP_SA!X295,referentes!$AI:$AI,0),5),\"\")","v":""}]
[null,null,null,"",{"$f":"IF(J296=\"\",\"\",CONCATENATE(AF296,DIGITADOR!$B$2,DIGITADOR!$M$1,J296))","v":""},{"$f":"IF(J296=\"\",\"\",CONCATENATE(DIGITADOR!$B$2,AF296,DIGITADOR!$M$1,J296,ROW()))","v":""},null,null,null,{"$f":"IF(X296=\"\",\"\", INDEX(referentes!$AH:$AL,MATCH(DATOS_MIP_SA!X296,referentes!$AI:$AI,0),1))","v":""},"",{"$f":"IF(AI296=\"\",\"\", INDEX(referentes!$D:$E,MATCH(DATOS_MIP_SA!AI296,referentes!$E:$E,0),1))","v":""},{"$f":"IF(AK296=\"\",\"\", INDEX(referentes!$A:$B,MATCH(DATOS_MIP_SA!AK296,referentes!$B:$B,0),1))","v":""},null,{"$f":"IF(AM296=\"\",\"\", INDEX(referentes!$S:$T,MATCH(AM296,referentes!$T:$T,0),1))","v":""},{"$f":"IF(AN296=\"\",\"\", INDEX(referentes!$Y:$Z,MATCH(AN296,referentes!$Z:$Z,0),1))","v":""},{"$f":"IF(AU296=\"\",\"\", INDEX(referentes!$V:$W,MATCH(DATOS_MIP_SA!AU296,referentes!$W:$W,0),1))","v":""},{"$f":"IF(AO296=\"\",\"\", INDEX(referentes!$AB:$AC,MATCH(DATOS_MIP_SA!AO296,referentes!$AC:$AC,0),1))","v":""},{"$f":"IF(AV296=\"\",\"\", INDEX('otras referencias'!$U:$V,MATCH(DATOS_MIP_SA!AV296,'otras referencias'!$V:$V,0),1))","v":""},{"$f":"IF(AW296=\"\",\"\", INDEX(referentes!$J:$K,MATCH(DATOS_MIP_SA!AW296,referentes!$K:$K,0),1))","v":""},null,null,null,null,null,null,{"$f":"IF(X296<>\"\",INDEX(referentes!$AH:$AL,MATCH(DATOS_MIP_SA!X296,referentes!$AI:$AI,0),5),\"\")","v":""}]
[null,null,null,"",{"$f":"IF(J297=\"\",\"\",CONCATENATE(AF297,DIGITADOR!$B$2,DIGITADOR!$M$1,J297))","v":""},{"$f":"IF(J297=\"\",\"\",CONCATENATE(DIGITADOR!$B$2,AF297,DIGITADOR!$M$1,J297,ROW()))","v":""},null,null,null,{"$f":"IF(X297=\"\",\"\", INDEX(referentes!$AH:$AL,MATCH(DATOS_MIP_SA!X297,referentes!$AI:$AI,0),1))","v":""},"",{"$f":"IF(AI297=\"\",\"\", INDEX(referentes!$D:$E,MATCH(DATOS_MIP_SA!AI297,referentes!$E:$E,0),1))","v":""},{"$f":"IF(AK297=\"\",\"\", INDEX(referentes!$A:$B,MATCH(DATOS_MIP_SA!AK297,referentes!$B:$B,0),1))","v":""},null,{"$f":"IF(AM297=\"\",\"\", INDEX(referentes!$S:$T,MATCH(AM297,referentes!$T:$T,0),1))","v":""},{"$f":"IF(AN297=\"\",\"\", INDEX(referentes!$Y:$Z,MATCH(AN297,referentes!$Z:$Z,0),1))","v":""},{"$f":"IF(AU297=\"\",\"\", INDEX(referentes!$V:$W,MATCH(DATOS_MIP_SA!AU297,referentes!$W:$W,0),1))","v":""},{"$f":"IF(AO297=\"\",\"\", INDEX(referentes!$AB:$AC,MATCH(DATOS_MIP_SA!AO297,referentes!$AC:$AC,0),1))","v":""},{"$f":"IF(AV297=\"\",\"\", INDEX('otras referencias'!$U:$V,MATCH(DATOS_MIP_SA!AV297,'otras referencias'!$V:$V,0),1))","v":""},{"$f":"IF(AW297=\"\",\"\", INDEX(referentes!$J:$K,MATCH(DATOS_MIP_SA!AW297,referentes!$K:$K,0),1))","v":""},null,null,null,null,null,null,{"$f":"IF(X297<>\"\",INDEX(referentes!$AH:$AL,MATCH(DATOS_MIP_SA!X297,referentes!$AI:$AI,0),5),\"\")","v":""}]
[null,null,null,"",{"$f":"IF(J298=\"\",\"\",CONCATENATE(AF298,DIGITADOR!$B$2,DIGITADOR!$M$1,J298))","v":""},{"$f":"IF(J298=\"\",\"\",CONCATENATE(DIGITADOR!$B$2,AF298,DIGITADOR!$M$1,J298,ROW()))","v":""},null,null,null,{"$f":"IF(X298=\"\",\"\", INDEX(referentes!$AH:$AL,MATCH(DATOS_MIP_SA!X298,referentes!$AI:$AI,0),1))","v":""},"",{"$f":"IF(AI298=\"\",\"\", INDEX(referentes!$D:$E,MATCH(DATOS_MIP_SA!AI298,referentes!$E:$E,0),1))","v":""},{"$f":"IF(AK298=\"\",\"\", INDEX(referentes!$A:$B,MATCH(DATOS_MIP_SA!AK298,referentes!$B:$B,0),1))","v":""},null,{"$f":"IF(AM298=\"\",\"\", INDEX(referentes!$S:$T,MATCH(AM298,referentes!$T:$T,0),1))","v":""},{"$f":"IF(AN298=\"\",\"\", INDEX(referentes!$Y:$Z,MATCH(AN298,referentes!$Z:$Z,0),1))","v":""},{"$f":"IF(AU298=\"\",\"\", INDEX(referentes!$V:$W,MATCH(DATOS_MIP_SA!AU298,referentes!$W:$W,0),1))","v":""},{"$f":"IF(AO298=\"\",\"\", INDEX(referentes!$AB:$AC,MATCH(DATOS_MIP_SA!AO298,referentes!$AC:$AC,0),1))","v":""},{"$f":"IF(AV298=\"\",\"\", INDEX('otras referencias'!$U:$V,MATCH(DATOS_MIP_SA!AV298,'otras referencias'!$V:$V,0),1))","v":""},{"$f":"IF(AW298=\"\",\"\", INDEX(referentes!$J:$K,MATCH(DATOS_MIP_SA!AW298,referentes!$K:$K,0),1))","v":""},null,null,null,null,null,null,{"$f":"IF(X298<>\"\",INDEX(referentes!$AH:$AL,MATCH(DATOS_MIP_SA!X298,referentes!$AI:$AI,0),5),\"\")","v":""}]
[null,null,null,"",{"$f":"IF(J299=\"\",\"\",CONCATENATE(AF299,DIGITADOR!$B$2,DIGITADOR!$M$1,J299))","v":""},{"$f":"IF(J299=\"\",\"\",CONCATENATE(DIGITADOR!$B$2,AF299,DIGITADOR!$M$1,J299,ROW()))","v":""},null,null,null,{"$f":"IF(X299=\"\",\"\", INDEX(referentes!$AH:$AL,MATCH(DATOS_MIP_SA!X299,referentes!$AI:$AI,0),1))","v":""},"",{"$f":"IF(AI299=\"\",\"\", INDEX(referentes!$D:$E,MATCH(DATOS_MIP_SA!AI299,referentes!$E:$E,0),1))","v":""},{"$f":"IF(AK299=\"\",\"\", INDEX(referentes!$A:$B,MATCH(DATOS_MIP_SA!AK299,referentes!$B:$B,0),1))","v":""},null,{"$f":"IF(AM299=\"\",\"\", INDEX(referentes!$S:$T,MATCH(AM299,referentes!$T:$T,0),1))","v":""},{"$f":"IF(AN299=\"\",\"\", INDEX(referentes!$Y:$Z,MATCH(AN299,referentes!$Z:$Z,0),1))","v":""},{"$f":"IF(AU299=\"\",\"\", INDEX(referentes!$V:$W,MATCH(DATOS_MIP_SA!AU299,referentes!$W:$W,0),1))","v":""},{"$f":"IF(AO299=\"\",\"\", INDEX(referentes!$AB:$AC,MATCH(DATOS_MIP_SA!AO299,referentes!$AC:$AC,0),1))","v":""},{"$f":"IF(AV299=\"\",\"\", INDEX('otras referencias'!$U:$V,MATCH(DATOS_MIP_SA!AV299,'otras referencias'!$V:$V,0),1))","v":""},{"$f":"IF(AW299=\"\",\"\", INDEX(referentes!$J:$K,MATCH(DATOS_MIP_SA!AW299,referentes!$K:$K,0),1))","v":""},null,null,null,null,null,null,{"$f":"IF(X299<>\"\",INDEX(referentes!$AH:$AL,MATCH(DATOS_MIP_SA!X299,referentes!$AI:$AI,0),5),\"\")","v":""}]
[null,null,null,"",{"$f":"IF(J300=\"\",\"\",CONCATENATE(AF300,DIGITADOR!$B$2,DIGITADOR!$M$1,J300))","v":""},{"$f":"IF(J300=\"\",\"\",CONCATENATE(DIGITADOR!$B$2,AF300,DIGITADOR!$M$1,J300,ROW()))","v":""},null,null,null,{"$f":"IF(X300=\"\",\"\", INDEX(referentes!$AH:$AL,MATCH(DATOS_MIP_SA!X300,referentes!$AI:$AI,0),1))","v":""},"",{"$f":"IF(AI300=\"\",\"\", INDEX(referentes!$D:$E,MATCH(DATOS_MIP_SA!AI300,referentes!$E:$E,0),1))","v":""},{"$f":"IF(AK300=\"\",\"\", INDEX(referentes!$A:$B,MATCH(DATOS_MIP_SA!AK300,referentes!$B:$B,0),1))","v":""},null,{"$f":"IF(AM300=\"\",\"\", INDEX(referentes!$S:$T,MATCH(AM300,referentes!$T:$T,0),1))","v":""},{"$f":"IF(AN300=\"\",\"\", INDEX(referentes!$Y:$Z,MATCH(AN300,referentes!$Z:$Z,0),1))","v":""},{"$f":"IF(AU300=\"\",\"\", INDEX(referentes!$V:$W,MATCH(DATOS_MIP_SA!AU300,referentes!$W:$W,0),1))","v":""},{"$f":"IF(AO300=\"\",\"\", INDEX(referentes!$AB:$AC,MATCH(DATOS_MIP_SA!AO300,referentes!$AC:$AC,0),1))","v":""},{"$f":"IF(AV300=\"\",\"\", INDEX('otras referencias'!$U:$V,MATCH(DATOS_MIP_SA!AV300,'otras referencias'!$V:$V,0),1))","v":""},{"$f":"IF(AW300=\"\",\"\", INDEX(referentes!$J:$K,MATCH(DATOS_MIP_SA!AW300,referentes!$K:$K,0),1))","v":""},null,null,null,null,null,null,{"$f":"IF(X300<>\"\",INDEX(referentes!$AH:$AL,MATCH(DATOS_MIP_SA!X300,referentes!$AI:$AI,0),5),\"\")","v":""}]
[null,null,null,"",{"$f":"IF(J301=\"\",\"\",CONCATENATE(AF301,DIGITADOR!$B$2,DIGITADOR!$M$1,J301))","v":""},{"$f":"IF(J301=\"\",\"\",CONCATENATE(DIGITADOR!$B$2,AF301,DIGITADOR!$M$1,J301,ROW()))","v":""},null,null,null,{"$f":"IF(X301=\"\",\"\", INDEX(referentes!$AH:$AL,MATCH(DATOS_MIP_SA!X301,referentes!$AI:$AI,0),1))","v":""},"",{"$f":"IF(AI301=\"\",\"\", INDEX(referentes!$D:$E,MATCH(DATOS_MIP_SA!AI301,referentes!$E:$E,0),1))","v":""},{"$f":"IF(AK301=\"\",\"\", INDEX(referentes!$A:$B,MATCH(DATOS_MIP_SA!AK301,referentes!$B:$B,0),1))","v":""},null,{"$f":"IF(AM301=\"\",\"\", INDEX(referentes!$S:$T,MATCH(AM301,referentes!$T:$T,0),1))","v":""},{"$f":"IF(AN301=\"\",\"\", INDEX(referentes!$Y:$Z,MATCH(AN301,referentes!$Z:$Z,0),1))","v":""},{"$f":"IF(AU301=\"\",\"\", INDEX(referentes!$V:$W,MATCH(DATOS_MIP_SA!AU301,referentes!$W:$W,0),1))","v":""},{"$f":"IF(AO301=\"\",\"\", INDEX(referentes!$AB:$AC,MATCH(DATOS_MIP_SA!AO301,referentes!$AC:$AC,0),1))","v":""},{"$f":"IF(AV301=\"\",\"\", INDEX('otras referencias'!$U:$V,MATCH(DATOS_MIP_SA!AV301,'otras referencias'!$V:$V,0),1))","v":""},{"$f":"IF(AW301=\"\",\"\", INDEX(referentes!$J:$K,MATCH(DATOS_MIP_SA!AW301,referentes!$K:$K,0),1))","v":""},null,null,null,null,null,null,{"$f":"IF(X301<>\"\",INDEX(referentes!$AH:$AL,MATCH(DATOS_MIP_SA!X301,referentes!$AI:$AI,0),5),\"\")","v":""}]
[null,null,null,"",{"$f":"IF(J302=\"\",\"\",CONCATENATE(AF302,DIGITADOR!$B$2,DIGITADOR!$M$1,J302))","v":""},{"$f":"IF(J302=\"\",\"\",CONCATENATE(DIGITADOR!$B$2,AF302,DIGITADOR!$M$1,J302,ROW()))","v":""},null,null,null,{"$f":"IF(X302=\"\",\"\", INDEX(referentes!$AH:$AL,MATCH(DATOS_MIP_SA!X302,referentes!$AI:$AI,0),1))","v":""},"",{"$f":"IF(AI302=\"\",\"\", INDEX(referentes!$D:$E,MATCH(DATOS_MIP_SA!AI302,referentes!$E:$E,0),1))","v":""},{"$f":"IF(AK302=\"\",\"\", INDEX(referentes!$A:$B,MATCH(DATOS_MIP_SA!AK302,referentes!$B:$B,0),1))","v":""},null,{"$f":"IF(AM302=\"\",\"\", INDEX(referentes!$S:$T,MATCH(AM302,referentes!$T:$T,0),1))","v":""},{"$f":"IF(AN302=\"\",\"\", INDEX(referentes!$Y:$Z,MATCH(AN302,referentes!$Z:$Z,0),1))","v":""},{"$f":"IF(AU302=\"\",\"\", INDEX(referentes!$V:$W,MATCH(DATOS_MIP_SA!AU302,referentes!$W:$W,0),1))","v":""},{"$f":"IF(AO302=\"\",\"\", INDEX(referentes!$AB:$AC,MATCH(DATOS_MIP_SA!AO302,referentes!$AC:$AC,0),1))","v":""},{"$f":"IF(AV302=\"\",\"\", INDEX('otras referencias'!$U:$V,MATCH(DATOS_MIP_SA!AV302,'otras referencias'!$V:$V,0),1))","v":""},{"$f":"IF(AW302=\"\",\"\", INDEX(referentes!$J:$K,MATCH(DATOS_MIP_SA!AW302,referentes!$K:$K,0),1))","v":""},null,null,null,null,null,null,{"$f":"IF(X302<>\"\",INDEX(referentes!$AH:$AL,MATCH(DATOS_MIP_SA!X302,referentes!$AI:$AI,0),5),\"\")","v":""}]
[null,null,null,"",{"$f":"IF(J303=\"\",\"\",CONCATENATE(AF303,DIGITADOR!$B$2,DIGITADOR!$M$1,J303))","v":""},{"$f":"IF(J303=\"\",\"\",CONCATENATE(DIGITADOR!$B$2,AF303,DIGITADOR!$M$1,J303,ROW()))","v":""},null,null,null,{"$f":"IF(X303=\"\",\"\", INDEX(referentes!$AH:$AL,MATCH(DATOS_MIP_SA!X303,referentes!$AI:$AI,0),1))","v":""},"",{"$f":"IF(AI303=\"\",\"\", INDEX(referentes!$D:$E,MATCH(DATOS_MIP_SA!AI303,referentes!$E:$E,0),1))","v":""},{"$f":"IF(AK303=\"\",\"\", INDEX(referentes!$A:$B,MATCH(DATOS_MIP_SA!AK303,referentes!$B:$B,0),1))","v":""},null,{"$f":"IF(AM303=\"\",\"\", INDEX(referentes!$S:$T,MATCH(AM303,referentes!$T:$T,0),1))","v":""},{"$f":"IF(AN303=\"\",\"\", INDEX(referentes!$Y:$Z,MATCH(AN303,referentes!$Z:$Z,0),1))","v":""},{"$f":"IF(AU303=\"\",\"\", INDEX(referentes!$V:$W,MATCH(DATOS_MIP_SA!AU303,referentes!$W:$W,0),1))","v":""},{"$f":"IF(AO303=\"\",\"\", INDEX(referentes!$AB:$AC,MATCH(DATOS_MIP_SA!AO303,referentes!$AC:$AC,0),1))","v":""},{"$f":"IF(AV303=\"\",\"\", INDEX('otras referencias'!$U:$V,MATCH(DATOS_MIP_SA!AV303,'otras referencias'!$V:$V,0),1))","v":""},{"$f":"IF(AW303=\"\",\"\", INDEX(referentes!$J:$K,MATCH(DATOS_MIP_SA!AW303,referentes!$K:$K,0),1))","v":""},null,null,null,null,null,null,{"$f":"IF(X303<>\"\",INDEX(referentes!$AH:$AL,MATCH(DATOS_MIP_SA!X303,referentes!$AI:$AI,0),5),\"\")","v":""}]
[null,null,null,"",{"$f":"IF(J304=\"\",\"\",CONCATENATE(AF304,DIGITADOR!$B$2,DIGITADOR!$M$1,J304))","v":""},{"$f":"IF(J304=\"\",\"\",CONCATENATE(DIGITADOR!$B$2,AF304,DIGITADOR!$M$1,J304,ROW()))","v":""},null,null,null,{"$f":"IF(X304=\"\",\"\", INDEX(referentes!$AH:$AL,MATCH(DATOS_MIP_SA!X304,referentes!$AI:$AI,0),1))","v":""},"",{"$f":"IF(AI304=\"\",\"\", INDEX(referentes!$D:$E,MATCH(DATOS_MIP_SA!AI304,referentes!$E:$E,0),1))","v":""},{"$f":"IF(AK304=\"\",\"\", INDEX(referentes!$A:$B,MATCH(DATOS_MIP_SA!AK304,referentes!$B:$B,0),1))","v":""},null,{"$f":"IF(AM304=\"\",\"\", INDEX(referentes!$S:$T,MATCH(AM304,referentes!$T:$T,0),1))","v":""},{"$f":"IF(AN304=\"\",\"\", INDEX(referentes!$Y:$Z,MATCH(AN304,referentes!$Z:$Z,0),1))","v":""},{"$f":"IF(AU304=\"\",\"\", INDEX(referentes!$V:$W,MATCH(DATOS_MIP_SA!AU304,referentes!$W:$W,0),1))","v":""},{"$f":"IF(AO304=\"\",\"\", INDEX(referentes!$AB:$AC,MATCH(DATOS_MIP_SA!AO304,referentes!$AC:$AC,0),1))","v":""},{"$f":"IF(AV304=\"\",\"\", INDEX('otras referencias'!$U:$V,MATCH(DATOS_MIP_SA!AV304,'otras referencias'!$V:$V,0),1))","v":""},{"$f":"IF(AW304=\"\",\"\", INDEX(referentes!$J:$K,MATCH(DATOS_MIP_SA!AW304,referentes!$K:$K,0),1))","v":""},null,null,null,null,null,null,{"$f":"IF(X304<>\"\",INDEX(referentes!$AH:$AL,MATCH(DATOS_MIP_SA!X304,referentes!$AI:$AI,0),5),\"\")","v":""}]
[null,null,null,"",{"$f":"IF(J305=\"\",\"\",CONCATENATE(AF305,DIGITADOR!$B$2,DIGITADOR!$M$1,J305))","v":""},{"$f":"IF(J305=\"\",\"\",CONCATENATE(DIGITADOR!$B$2,AF305,DIGITADOR!$M$1,J305,ROW()))","v":""},null,null,null,{"$f":"IF(X305=\"\",\"\", INDEX(referentes!$AH:$AL,MATCH(DATOS_MIP_SA!X305,referentes!$AI:$AI,0),1))","v":""},"",{"$f":"IF(AI305=\"\",\"\", INDEX(referentes!$D:$E,MATCH(DATOS_MIP_SA!AI305,referentes!$E:$E,0),1))","v":""},{"$f":"IF(AK305=\"\",\"\", INDEX(referentes!$A:$B,MATCH(DATOS_MIP_SA!AK305,referentes!$B:$B,0),1))","v":""},null,{"$f":"IF(AM305=\"\",\"\", INDEX(referentes!$S:$T,MATCH(AM305,referentes!$T:$T,0),1))","v":""},{"$f":"IF(AN305=\"\",\"\", INDEX(referentes!$Y:$Z,MATCH(AN305,referentes!$Z:$Z,0),1))","v":""},{"$f":"IF(AU305=\"\",\"\", INDEX(referentes!$V:$W,MATCH(DATOS_MIP_SA!AU305,referentes!$W:$W,0),1))","v":""},{"$f":"IF(AO305=\"\",\"\", INDEX(referentes!$AB:$AC,MATCH(DATOS_MIP_SA!AO305,referentes!$AC:$AC,0),1))","v":""},{"$f":"IF(AV305=\"\",\"\", INDEX('otras referencias'!$U:$V,MATCH(DATOS_MIP_SA!AV305,'otras referencias'!$V:$V,0),1))","v":""},{"$f":"IF(AW305=\"\",\"\", INDEX(referentes!$J:$K,MATCH(DATOS_MIP_SA!AW305,referentes!$K:$K,0),1))","v":""},null,null,null,null,null,null,{"$f":"IF(X305<>\"\",INDEX(referentes!$AH:$AL,MATCH(DATOS_MIP_SA!X305,referentes!$AI:$AI,0),5),\"\")","v":""}]
[null,null,null,"",{"$f":"IF(J306=\"\",\"\",CONCATENATE(AF306,DIGITADOR!$B$2,DIGITADOR!$M$1,J306))","v":""},{"$f":"IF(J306=\"\",\"\",CONCATENATE(DIGITADOR!$B$2,AF306,DIGITADOR!$M$1,J306,ROW()))","v":""},null,null,null,{"$f":"IF(X306=\"\",\"\", INDEX(referentes!$AH:$AL,MATCH(DATOS_MIP_SA!X306,referentes!$AI:$AI,0),1))","v":""},"",{"$f":"IF(AI306=\"\",\"\", INDEX(referentes!$D:$E,MATCH(DATOS_MIP_SA!AI306,referentes!$E:$E,0),1))","v":""},{"$f":"IF(AK306=\"\",\"\", INDEX(referentes!$A:$B,MATCH(DATOS_MIP_SA!AK306,referentes!$B:$B,0),1))","v":""},null,{"$f":"IF(AM306=\"\",\"\", INDEX(referentes!$S:$T,MATCH(AM306,referentes!$T:$T,0),1))","v":""},{"$f":"IF(AN306=\"\",\"\", INDEX(referentes!$Y:$Z,MATCH(AN306,referentes!$Z:$Z,0),1))","v":""},{"$f":"IF(AU306=\"\",\"\", INDEX(referentes!$V:$W,MATCH(DATOS_MIP_SA!AU306,referentes!$W:$W,0),1))","v":""},{"$f":"IF(AO306=\"\",\"\", INDEX(referentes!$AB:$AC,MATCH(DATOS_MIP_SA!AO306,referentes!$AC:$AC,0),1))","v":""},{"$f":"IF(AV306=\"\",\"\", INDEX('otras referencias'!$U:$V,MATCH(DATOS_MIP_SA!AV306,'otras referencias'!$V:$V,0),1))","v":""},{"$f":"IF(AW306=\"\",\"\", INDEX(referentes!$J:$K,MATCH(DATOS_MIP_SA!AW306,referentes!$K:$K,0),1))","v":""},null,null,null,null,null,null,{"$f":"IF(X306<>\"\",INDEX(referentes!$AH:$AL,MATCH(DATOS_MIP_SA!X306,referentes!$AI:$AI,0),5),\"\")","v":""}]
[null,null,null,"",{"$f":"IF(J307=\"\",\"\",CONCATENATE(AF307,DIGITADOR!$B$2,DIGITADOR!$M$1,J307))","v":""},{"$f":"IF(J307=\"\",\"\",CONCATENATE(DIGITADOR!$B$2,AF307,DIGITADOR!$M$1,J307,ROW()))","v":""},null,null,null,{"$f":"IF(X307=\"\",\"\", INDEX(referentes!$AH:$AL,MATCH(DATOS_MIP_SA!X307,referentes!$AI:$AI,0),1))","v":""},"",{"$f":"IF(AI307=\"\",\"\", INDEX(referentes!$D:$E,MATCH(DATOS_MIP_SA!AI307,referentes!$E:$E,0),1))","v":""},{"$f":"IF(AK307=\"\",\"\", INDEX(referentes!$A:$B,MATCH(DATOS_MIP_SA!AK307,referentes!$B:$B,0),1))","v":""},null,{"$f":"IF(AM307=\"\",\"\", INDEX(referentes!$S:$T,MATCH(AM307,referentes!$T:$T,0),1))","v":""},{"$f":"IF(AN307=\"\",\"\", INDEX(referentes!$Y:$Z,MATCH(AN307,referentes!$Z:$Z,0),1))","v":""},{"$f":"IF(AU307=\"\",\"\", INDEX(referentes!$V:$W,MATCH(DATOS_MIP_SA!AU307,referentes!$W:$W,0),1))","v":""},{"$f":"IF(AO307=\"\",\"\", INDEX(referentes!$AB:$AC,MATCH(DATOS_MIP_SA!AO307,referentes!$AC:$AC,0),1))","v":""},{"$f":"IF(AV307=\"\",\"\", INDEX('otras referencias'!$U:$V,MATCH(DATOS_MIP_SA!AV307,'otras referencias'!$V:$V,0),1))","v":""},{"$f":"IF(AW307=\"\",\"\", INDEX(referentes!$J:$K,MATCH(DATOS_MIP_SA!AW307,referentes!$K:$K,0),1))","v":""},null,null,null,null,null,null,{"$f":"IF(X307<>\"\",INDEX(referentes!$AH:$AL,MATCH(DATOS_MIP_SA!X307,referentes!$AI:$AI,0),5),\"\")","v":""}]
[null,null,null,"",{"$f":"IF(J308=\"\",\"\",CONCATENATE(AF308,DIGITADOR!$B$2,DIGITADOR!$M$1,J308))","v":""},{"$f":"IF(J308=\"\",\"\",CONCATENATE(DIGITADOR!$B$2,AF308,DIGITADOR!$M$1,J308,ROW()))","v":""},null,null,null,{"$f":"IF(X308=\"\",\"\", INDEX(referentes!$AH:$AL,MATCH(DATOS_MIP_SA!X308,referentes!$AI:$AI,0),1))","v":""},"",{"$f":"IF(AI308=\"\",\"\", INDEX(referentes!$D:$E,MATCH(DATOS_MIP_SA!AI308,referentes!$E:$E,0),1))","v":""},{"$f":"IF(AK308=\"\",\"\", INDEX(referentes!$A:$B,MATCH(DATOS_MIP_SA!AK308,referentes!$B:$B,0),1))","v":""},null,{"$f":"IF(AM308=\"\",\"\", INDEX(referentes!$S:$T,MATCH(AM308,referentes!$T:$T,0),1))","v":""},{"$f":"IF(AN308=\"\",\"\", INDEX(referentes!$Y:$Z,MATCH(AN308,referentes!$Z:$Z,0),1))","v":""},{"$f":"IF(AU308=\"\",\"\", INDEX(referentes!$V:$W,MATCH(DATOS_MIP_SA!AU308,referentes!$W:$W,0),1))","v":""},{"$f":"IF(AO308=\"\",\"\", INDEX(referentes!$AB:$AC,MATCH(DATOS_MIP_SA!AO308,referentes!$AC:$AC,0),1))","v":""},{"$f":"IF(AV308=\"\",\"\", INDEX('otras referencias'!$U:$V,MATCH(DATOS_MIP_SA!AV308,'otras referencias'!$V:$V,0),1))","v":""},{"$f":"IF(AW308=\"\",\"\", INDEX(referentes!$J:$K,MATCH(DATOS_MIP_SA!AW308,referentes!$K:$K,0),1))","v":""},null,null,null,null,null,null,{"$f":"IF(X308<>\"\",INDEX(referentes!$AH:$AL,MATCH(DATOS_MIP_SA!X308,referentes!$AI:$AI,0),5),\"\")","v":""}]
[null,null,null,"",{"$f":"IF(J309=\"\",\"\",CONCATENATE(AF309,DIGITADOR!$B$2,DIGITADOR!$M$1,J309))","v":""},{"$f":"IF(J309=\"\",\"\",CONCATENATE(DIGITADOR!$B$2,AF309,DIGITADOR!$M$1,J309,ROW()))","v":""},null,null,null,{"$f":"IF(X309=\"\",\"\", INDEX(referentes!$AH:$AL,MATCH(DATOS_MIP_SA!X309,referentes!$AI:$AI,0),1))","v":""},"",{"$f":"IF(AI309=\"\",\"\", INDEX(referentes!$D:$E,MATCH(DATOS_MIP_SA!AI309,referentes!$E:$E,0),1))","v":""},{"$f":"IF(AK309=\"\",\"\", INDEX(referentes!$A:$B,MATCH(DATOS_MIP_SA!AK309,referentes!$B:$B,0),1))","v":""},null,{"$f":"IF(AM309=\"\",\"\", INDEX(referentes!$S:$T,MATCH(AM309,referentes!$T:$T,0),1))","v":""},{"$f":"IF(AN309=\"\",\"\", INDEX(referentes!$Y:$Z,MATCH(AN309,referentes!$Z:$Z,0),1))","v":""},{"$f":"IF(AU309=\"\",\"\", INDEX(referentes!$V:$W,MATCH(DATOS_MIP_SA!AU309,referentes!$W:$W,0),1))","v":""},{"$f":"IF(AO309=\"\",\"\", INDEX(referentes!$AB:$AC,MATCH(DATOS_MIP_SA!AO309,referentes!$AC:$AC,0),1))","v":""},{"$f":"IF(AV309=\"\",\"\", INDEX('otras referencias'!$U:$V,MATCH(DATOS_MIP_SA!AV309,'otras referencias'!$V:$V,0),1))","v":""},{"$f":"IF(AW309=\"\",\"\", INDEX(referentes!$J:$K,MATCH(DATOS_MIP_SA!AW309,referentes!$K:$K,0),1))","v":""},null,null,null,null,null,null,{"$f":"IF(X309<>\"\",INDEX(referentes!$AH:$AL,MATCH(DATOS_MIP_SA!X309,referentes!$AI:$AI,0),5),\"\")","v":""}]

{"sheet":"DATOS_MAP","index":9,"n_rows":309,"n_cols":52,"rows_kept":309,"cut":false,"hidden":true,"merged":[[1,26,1,30],[2,28,2,29],[3,28,3,29],[4,28,4,29],[5,28,5,29]]}
[]
[null,null,null,null,null,null,null,null,null,null,null,null,null,null,null,null,null,null,null,null,null,null,null,"Entidad"]
[null,null,null,null,null,null,null,null,null,null,null,null,null,null,null,null,null,null,null,null,null,null,null,"Investigador",null,null,null,{"$f":"IF(AA3<>\"\",INDEX(referentes!$AN:$AO,MATCH(DATOS_MAP!AA3,referentes!$AO:$AO,0),1),\"\")","v":""},null,null,{"$f":"IF(AC3<>\"\",INDEX(referentes!$AN$2:$AO$50,MATCH(DATOS_MAP!AC3,referentes!$AO:$AO,0),1),\"\")","v":""}]
[null,null,null,null,null,null,null,null,null,null,null,null,null,null,null,null,null,null,null,null,null,null,null,"Rol",null,null,null,{"$f":"IF(AA4<>\"\",INDEX('otras referencias'!$R$7:$S$11,MATCH(DATOS_MAP!AA4,'otras referencias'!$R$7:$R$11,0),2),\"\")","v":""},null,null,{"$f":"IF(AC4<>\"\",INDEX('otras referencias'!$R$7:$S$11,MATCH(DATOS_MAP!AC4,'otras referencias'!$R$7:$R$11,0),2),\"\")","v":""}]
[null,null,null,null,null,null,null,null,null,null,null,null,null,null,null,null,null,null,null,null,null,null,null,"Investigador",null,null,null,{"$f":"IF(AA5<>\"\",INDEX(referentes!$AN:$AO,MATCH(DATOS_MAP!AA5,referentes!$AO:$AO,0),1),\"\")","v":""},null,null,{"$f":"IF(AC5<>\"\",INDEX(referentes!$AN:$AO,MATCH(DATOS_MAP!AC5,referentes!$AO:$AO,0),1),\"\")","v":""}]
[null,null,null,null,null,null,null,null,null,null,null,null,null,null,null,null,null,null,null,null,null,null,null,"Rol",null,null,null,{"$f":"IF(AA6<>\"\",INDEX('otras referencias'!$R$7:$S$11,MATCH(DATOS_MAP!AA6,'otras referencias'!$R$7:$R$11,0),2),\"\")","v":""},null,null,{"$f":"IF(AC6<>\"\",INDEX('otras referencias'!$R$7:$S$11,MATCH(DATOS_MAP!AC6,'otras referencias'!$R$7:$R$11,0),2),\"\")","v":""}]
[]
[null,null,null,null,null,null,null,null,null,null,null,null,null,null,null,null,null,null,null,null,null,null,null,null,null,null,{"$f":"IF(AA2<>\"\",INDEX(referentes!$P$2:$Q$50,MATCH(DATOS_MAP!AA2,referentes!$Q$2:$Q$50,0),1),\"\")","v":""},{"$f":"IF(AB4<>\"\",1,\"\")","v":""},{"$f":"IF(AE4<>\"\",IF(AE4=AB4,AB8+1,1),\"\")","v":""},{"$f":"IF(AB6<>\"\",IF(AB6=AE4,AC8+1,IF(AB6=AB4,AB8+1,1)),\"\")","v":""},{"$f":"IF(AE6<>\"\",IF(AE6=AB6,AD8+1,IF(AE6=AE4,AC8+1,IF(AE6=AB4,AB8+1,1))),\"\")","v":""},{"$f":"MAX(AB8:AE8)+1","v":1}]
[null,null,null,"ID_AGD_MUESTREO","ID_MUESTREO","ID_MUESTRA","ID_RECOLECTOR","ID_ENTIDAD","columna vacia","ID_ESTACION","DATE","ID_MATRIZ","ID_TEMPORADA_TURISMO","ID_ZONA_MONITOREO","ID_METODO_MUESTREO","ID_TECNICA (PROCEDIMIENTO)","ID_VARIABLE","ID_PROFUNDIDAD_CUALITATIVA","ID_TIPO_PLASTICO","ID_COLOR","ID_UNIDAD_PESO_BASURA",null,"MUESTREO","ESTACION","columna vacia","columna vacía","NOMBRE ESTACION","LATITUD","LONGITUD","FECHA","HORA","MATRIZ","TRANSECTO","CUADRANTE","TEMPORADA DE TURISMO","ZONA DE MONITOREO","MÉTODO MUESTREO","TÉCNICA","columna vacía","PROFUNDIDAD CUALITATIVA","PROFUNDIDAD (m)","VARIABLE","TIPO PLÁSTICO","columna vacía","CANTIDAD","UNIDAD MICROPLÁSTICOS","AREA MUESTREO (m2)","columna vacía","columna vacía","PESO BASURA","UNIDAD PESO BASURA","OBSERVACIONES"]
[null,null,null,{"$f":"IF(E10=\"\",\"\",E10)","v":""},{"$f":"IF(J10=\"\",\"\",CONCATENATE(AD10,DIGITADOR!$B$2,DIGITADOR!$M$1,J10))","v":""},{"$f":"IF(J10=\"\",\"\",CONCATENATE(DIGITADOR!$B$2,AD10,DIGITADOR!$M$1,J10,ROW()))","v":""},null,null,null,{"$f":"IF(X10=\"\",\"\", INDEX(referentes!$AH:$AL,MATCH(DATOS_MAP!X10,referentes!$AI:$AI,0),1))","v":""},{"$f":"IF(AD10=\"\",\"\",AD10+AE10)","v":""},{"$f":"IF(AF10=\"\",\"\", INDEX(referentes!D:E,MATCH(DATOS_MAP!AF10,referentes!$E:$E,0),1))","v":""},{"$f":"IF(AI10=\"\",\"\", INDEX(referentes!A:B,MATCH(DATOS_MAP!AI10,referentes!$B:$B,0),1))","v":""},{"$f":"IF(AJ10=\"\",\"\", INDEX(referentes!G:H,MATCH(DATOS_MAP!AJ10,referentes!$H:$H,0),1))","v":""},{"$f":"IF(AK10=\"\",\"\", INDEX(referentes!$V$2:$W$10,MATCH(DATOS_MAP!AK10,referentes!$W$2:$W$10,0),1))","v":""},{"$f":"IF(AL10=\"\",\"\", INDEX(referentes!$AB:$AC,MATCH(DATOS_MAP!AL10,referentes!$AC:$AC,0),1))","v":""},{"$f":"IF(AP10=\"\",\"\", INDEX(referentes!$Y$2:$Z$10,MATCH(DATOS_MAP!AP10,referentes!$Z$2:$Z$10,0),1))","v":""},{"$f":"IF(AN10=\"\",\"\", INDEX(referentes!$AE$2:$AF$10,MATCH(DATOS_MAP!AN10,referentes!$AF$2:$AF$10,0),1))","v":""},{"$f":"IF(AQ10=\"\",\"\", INDEX(referentes!J:K,MATCH(DATOS_MAP!AQ10,referentes!$K:$K,0),1))","v":""},null,{"$f":"IF(AY10=\"\",\"\", INDEX('otras referencias'!O:P,MATCH(AY10,'otras referencias'!$O:$O,0),2))","v":""},null,null,null,null,null,{"$f":"IF(X10<>\"\",INDEX(referentes!$AH:$AL,MATCH(DATOS_MAP!X10,referentes!$AI:$AI,0),5),\"\")","v":""}]
[null,null,null,{"$f":"IF(E11=\"\",\"\",IF(E11=E10,\"\",E11))","v":""},{"$f":"IF(J11=\"\",\"\",CONCATENATE(AD11,DIGITADOR!$B$2,DIGITADOR!$M$1,J11))","v":""},{"$f":"IF(J11=\"\",\"\",CONCATENATE(DIGITADOR!$B$2,AD11,DIGITADOR!$M$1,J11,ROW()))","v":""},null,null,null,{"$f":"IF(X11=\"\",\"\", INDEX(referentes!$AH:$AL,MATCH(DATOS_MAP!X11,referentes!$AI:$AI,0),1))","v":""},{"$f":"IF(AD11=\"\",\"\",AD11+AE11)","v":""},{"$f":"IF(AF11=\"\",\"\", INDEX(referentes!D:E,MATCH(DATOS_MAP!AF11,referentes!$E:$E,0),1))","v":""},{"$f":"IF(AI11=\"\",\"\", INDEX(referentes!A:B,MATCH(DATOS_MAP!AI11,referentes!$B:$B,0),1))","v":""},{"$f":"IF(AJ11=\"\",\"\", INDEX(referentes!G:H,MATCH(DATOS_MAP!AJ11,referentes!$H:$H,0),1))","v":""},{"$f":"IF(AK11=\"\",\"\", INDEX(referentes!$V$2:$W$10,MATCH(DATOS_MAP!AK11,referentes!$W$2:$W$10,0),1))","v":""},{"$f":"IF(AL11=\"\",\"\", INDEX(referentes!$AB:$AC,MATCH(DATOS_MAP!AL11,referentes!$AC:$AC,0),1))","v":""},{"$f":"IF(AP11=\"\",\"\", INDEX(referentes!$Y$2:$Z$10,MATCH(DATOS_MAP!AP11,referentes!$Z$2:$Z$10,0),1))","v":""},{"$f":"IF(AN11=\"\",\"\", INDEX(referentes!$AE$2:$AF$10,MATCH(DATOS_MAP!AN11,referentes!$AF$2:$AF$10,0),1))","v":""},{"$f":"IF(AQ11=\"\",\"\", INDEX(referentes!J:K,MATCH(DATOS_MAP!AQ11,referentes!$K:$K,0),1))","v":""},null,{"$f":"IF(AY11=\"\",\"\", INDEX('otras referencias'!O:P,MATCH(AY11,'otras referencias'!$O:$O,0),2))","v":""},null,null,null,null,null,{"$f":"IF(X11<>\"\",INDEX(referentes!$AH:$AL,MATCH(DATOS_MAP!X11,referentes!$AI:$AI,0),5),\"\")","v":""}]
[null,null,null,{"$f":"IF(E12=\"\",\"\",IF(E12=E11,\"\",E12))","v":""},{"$f":"IF(J12=\"\",\"\",CONCATENATE(AD12,DIGITADOR!$B$2,DIGITADOR!$M$1,J12))","v":""},{"$f":"IF(J12=\"\",\"\",CONCATENATE(DIGITADOR!$B$2,AD12,DIGITADOR!$M$1,J12,ROW()))","v":""},null,null,null,{"$f":"IF(X12=\"\",\"\", INDEX(referentes!$AH:$AL,MATCH(DATOS_MAP!X12,referentes!$AI:$AI,0),1))","v":""},"",{"$f":"IF(AF12=\"\",\"\", INDEX(referentes!D:E,MATCH(DATOS_MAP!AF12,referentes!$E:$E,0),1))","v":""},{"$f":"IF(AI12=\"\",\"\", INDEX(referentes!A:B,MATCH(DATOS_MAP!AI12,referentes!$B:$B,0),1))","v":""},{"$f":"IF(AJ12=\"\",\"\", INDEX(referentes!G:H,MATCH(DATOS_MAP!AJ12,referentes!$H:$H,0),1))","v":""},{"$f":"IF(AK12=\"\",\"\", INDEX(referentes!$V$2:$W$10,MATCH(DATOS_MAP!AK12,referentes!$W$2:$W$10,0),1))","v":""},{"$f":"IF(AL12=\"\",\"\", INDEX(referentes!$AB:$AC,MATCH(DATOS_MAP!AL12,referentes!$AC:$AC,0),1))","v":""},{"$f":"IF(AP12=\"\",\"\", INDEX(referentes!$Y$2:$Z$10,MATCH(DATOS_MAP!AP12,referentes!$Z$2:$Z$10,0),1))","v":""},{"$f":"IF(AN12=\"\",\"\", INDEX(referentes!$AE$2:$AF$10,MATCH(DATOS_MAP!AN12,referentes!$AF$2:$AF$10,0),1))","v":""},{"$f":"IF(AQ12=\"\",\"\", INDEX(referentes!J:K,MATCH(DATOS_MAP!AQ12,referentes!$K:$K,0),1))","v":""},null,{"$f":"IF(AY12=\"\",\"\", INDEX('otras referencias'!O:P,MATCH(AY12,'otras referencias'!$O:$O,0),2))","v":""},null,null,null,null,null,{"$f":"IF(X12<>\"\",INDEX(referentes!$AH:$AL,MATCH(DATOS_MAP!X12,referentes!$AI:$AI,0),5),\"\")","v":""}]
[null,null,null,"",{"$f":"IF(J13=\"\",\"\",CONCATENATE(AD13,DIGITADOR!$B$2,DIGITADOR!$M$1,J13))","v":""},{"$f":"IF(J13=\"\",\"\",CONCATENATE(DIGITADOR!$B$2,AD13,DIGITADOR!$M$1,J13,ROW()))","v":""},null,null,null,{"$f":"IF(X13=\"\",\"\", INDEX(referentes!$AH:$AL,MATCH(DATOS_MAP!X13,referentes!$AI:$AI,0),1))","v":""},"",{"$f":"IF(AF13=\"\",\"\", INDEX(referentes!D:E,MATCH(DATOS_MAP!AF13,referentes!$E:$E,0),1))","v":""},{"$f":"IF(AI13=\"\",\"\", INDEX(referentes!A:B,MATCH(DATOS_MAP!AI13,referentes!$B:$B,0),1))","v":""},{"$f":"IF(AJ13=\"\",\"\", INDEX(referentes!G:H,MATCH(DATOS_MAP!AJ13,referentes!$H:$H,0),1))","v":""},{"$f":"IF(AK13=\"\",\"\", INDEX(referentes!$V$2:$W$10,MATCH(DATOS_MAP!AK13,referentes!$W$2:$W$10,0),1))","v":""},{"$f":"IF(AL13=\"\",\"\", INDEX(referentes!$AB:$AC,MATCH(DATOS_MAP!AL13,referentes!$AC:$AC,0),1))","v":""},{"$f":"IF(AP13=\"\",\"\", INDEX(referentes!$Y$2:$Z$10,MATCH(DATOS_MAP!AP13,referentes!$Z$2:$Z$10,0),1))","v":""},{"$f":"IF(AN13=\"\",\"\", INDEX(referentes!$AE$2:$AF$10,MATCH(DATOS_MAP!AN13,referentes!$AF$2:$AF$10,0),1))","v":""},{"$f":"IF(AQ13=\"\",\"\", INDEX(referentes!J:K,MATCH(DATOS_MAP!AQ13,referentes!$K:$K,0),1))","v":""},null,{"$f":"IF(AY13=\"\",\"\", INDEX('otras referencias'!O:P,MATCH(AY13,'otras referencias'!$O:$O,0),2))","v":""},null,null,null,null,null,{"$f":"IF(X13<>\"\",INDEX(referentes!$AH:$AL,MATCH(DATOS_MAP!X13,referentes!$AI:$AI,0),5),\"\")","v":""}]
[null,null,null,"",{"$f":"IF(J14=\"\",\"\",CONCATENATE(AD14,DIGITADOR!$B$2,DIGITADOR!$M$1,J14))","v":""},{"$f":"IF(J14=\"\",\"\",CONCATENATE(DIGITADOR!$B$2,AD14,DIGITADOR!$M$1,J14,ROW()))","v":""},null,null,null,{"$f":"IF(X14=\"\",\"\", INDEX(referentes!$AH:$AL,MATCH(DATOS_MAP!X14,referentes!$AI:$AI,0),1))","v":""},"",{"$f":"IF(AF14=\"\",\"\", INDEX(referentes!D:E,MATCH(DATOS_MAP!AF14,referentes!$E:$E,0),1))","v":""},{"$f":"IF(AI14=\"\",\"\", INDEX(referentes!A:B,MATCH(DATOS_MAP!AI14,referentes!$B:$B,0),1))","v":""},{"$f":"IF(AJ14=\"\",\"\", INDEX(referentes!G:H,MATCH(DATOS_MAP!AJ14,referentes!$H:$H,0),1))","v":""},{"$f":"IF(AK14=\"\",\"\", INDEX(referentes!$V$2:$W$10,MATCH(DATOS_MAP!AK14,referentes!$W$2:$W$10,0),1))","v":""},{"$f":"IF(AL14=\"\",\"\", INDEX(referentes!$AB:$AC,MATCH(DATOS_MAP!AL14,referentes!$AC:$AC,0),1))","v":""},{"$f":"IF(AP14=\"\",\"\", INDEX(referentes!$Y$2:$Z$10,MATCH(DATOS_MAP!AP14,referentes!$Z$2:$Z$10,0),1))","v":""},{"$f":"IF(AN14=\"\",\"\", INDEX(referentes!$AE$2:$AF$10,MATCH(DATOS_MAP!AN14,referentes!$AF$2:$AF$10,0),1))","v":""},{"$f":"IF(AQ14=\"\",\"\", INDEX(referentes!J:K,MATCH(DATOS_MAP!AQ14,referentes!$K:$K,0),1))","v":""},null,{"$f":"IF(AY14=\"\",\"\", INDEX('otras referencias'!O:P,MATCH(AY14,'otras referencias'!$O:$O,0),2))","v":""},null,null,null,null,null,{"$f":"IF(X14<>\"\",INDEX(referentes!$AH:$AL,MATCH(DATOS_MAP!X14,referentes!$AI:$AI,0),5),\"\")","v":""}]
[null,null,null,"",{"$f":"IF(J15=\"\",\"\",CONCATENATE(AD15,DIGITADOR!$B$2,DIGITADOR!$M$1,J15))","v":""},{"$f":"IF(J15=\"\",\"\",CONCATENATE(DIGITADOR!$B$2,AD15,DIGITADOR!$M$1,J15,ROW()))","v":""},null,null,null,{"$f":"IF(X15=\"\",\"\", INDEX(referentes!$AH:$AL,MATCH(DATOS_MAP!X15,referentes!$AI:$AI,0),1))","v":""},"",{"$f":"IF(AF15=\"\",\"\", INDEX(referentes!D:E,MATCH(DATOS_MAP!AF15,referentes!$E:$E,0),1))","v":""},{"$f":"IF(AI15=\"\",\"\", INDEX(referentes!A:B,MATCH(DATOS_MAP!AI15,referentes!$B:$B,0),1))","v":""},{"$f":"IF(AJ15=\"\",\"\", INDEX(referentes!G:H,MATCH(DATOS_MAP!AJ15,referentes!$H:$H,0),1))","v":""},{"$f":"IF(AK15=\"\",\"\", INDEX(referentes!$V$2:$W$10,MATCH(DATOS_MAP!AK15,referentes!$W$2:$W$10,0),1))","v":""},{"$f":"IF(AL15=\"\",\"\", INDEX(referentes!$AB:$AC,MATCH(DATOS_MAP!AL15,referentes!$AC:$AC,0),1))","v":""},{"$f":"IF(AP15=\"\",\"\", INDEX(referentes!$Y$2:$Z$10,MATCH(DATOS_MAP!AP15,referentes!$Z$2:$Z$10,0),1))","v":""},{"$f":"IF(AN15=\"\",\"\", INDEX(referentes!$AE$2:$AF$10,MATCH(DATOS_MAP!AN15,referentes!$AF$2:$AF$10,0),1))","v":""},{"$f":"IF(AQ15=\"\",\"\", INDEX(referentes!J:K,MATCH(DATOS_MAP!AQ15,referentes!$K:$K,0),1))","v":""},null,{"$f":"IF(AY15=\"\",\"\", INDEX('otras referencias'!O:P,MATCH(AY15,'otras referencias'!$O:$O,0),2))","v":""},null,null,null,null,null,{"$f":"IF(X15<>\"\",INDEX(referentes!$AH:$AL,MATCH(DATOS_MAP!X15,referentes!$AI:$AI,0),5),\"\")","v":""}]
[null,null,null,"",{"$f":"IF(J16=\"\",\"\",CONCATENATE(AD16,DIGITADOR!$B$2,DIGITADOR!$M$1,J16))","v":""},{"$f":"IF(J16=\"\",\"\",CONCATENATE(DIGITADOR!$B$2,AD16,DIGITADOR!$M$1,J16,ROW()))","v":""},null,null,null,{"$f":"IF(X16=\"\",\"\", INDEX(referentes!$AH:$AL,MATCH(DATOS_MAP!X16,referentes!$AI:$AI,0),1))","v":""},"",{"$f":"IF(AF16=\"\",\"\", INDEX(referentes!D:E,MATCH(DATOS_MAP!AF16,referentes!$E:$E,0),1))","v":""},{"$f":"IF(AI16=\"\",\"\", INDEX(referentes!A:B,MATCH(DATOS_MAP!AI16,referentes!$B:$B,0),1))","v":""},{"$f":"IF(AJ16=\"\",\"\", INDEX(referentes!G:H,MATCH(DATOS_MAP!AJ16,referentes!$H:$H,0),1))","v":""},{"$f":"IF(AK16=\"\",\"\", INDEX(referentes!$V$2:$W$10,MATCH(DATOS_MAP!AK16,referentes!$W$2:$W$10,0),1))","v":""},{"$f":"IF(AL16=\"\",\"\", INDEX(referentes!$AB:$AC,MATCH(DATOS_MAP!AL16,referentes!$AC:$AC,0),1))","v":""},{"$f":"IF(AP16=\"\",\"\", INDEX(referentes!$Y$2:$Z$10,MATCH(DATOS_MAP!AP16,referentes!$Z$2:$Z$10,0),1))","v":""},{"$f":"IF(AN16=\"\",\"\", INDEX(referentes!$AE$2:$AF$10,MATCH(DATOS_MAP!AN16,referentes!$AF$2:$AF$10,0),1))","v":""},{"$f":"IF(AQ16=\"\",\"\", INDEX(referentes!J:K,MATCH(DATOS_MAP!AQ16,referentes!$K:$K,0),1))","v":""},null,{"$f":"IF(AY16=\"\",\"\", INDEX('otras referencias'!O:P,MATCH(AY16,'otras referencias'!$O:$O,0),2))","v":""},null,null,null,null,null,{"$f":"IF(X16<>\"\",INDEX(referentes!$AH:$AL,MATCH(DATOS_MAP!X16,referentes!$AI:$AI,0),5),\"\")","v":""}]
[null,null,null,"",{"$f":"IF(J17=\"\",\"\",CONCATENATE(AD17,DIGITADOR!$B$2,DIGITADOR!$M$1,J17))","v":""},{"$f":"IF(J17=\"\",\"\",CONCATENATE(DIGITADOR!$B$2,AD17,DIGITADOR!$M$1,J17,ROW()))","v":""},null,null,null,{"$f":"IF(X17=\"\",\"\", INDEX(referentes!$AH:$AL,MATCH(DATOS_MAP!X17,referentes!$AI:$AI,0),1))","v":""},"",{"$f":"IF(AF17=\"\",\"\", INDEX(referentes!D:E,MATCH(DATOS_MAP!AF17,referentes!$E:$E,0),1))","v":""},{"$f":"IF(AI17=\"\",\"\", INDEX(referentes!A:B,MATCH(DATOS_MAP!AI17,referentes!$B:$B,0),1))","v":""},{"$f":"IF(AJ17=\"\",\"\", INDEX(referentes!G:H,MATCH(DATOS_MAP!AJ17,referentes!$H:$H,0),1))","v":""},{"$f":"IF(AK17=\"\",\"\", INDEX(referentes!$V$2:$W$10,MATCH(DATOS_MAP!AK17,referentes!$W$2:$W$10,0),1))","v":""},{"$f":"IF(AL17=\"\",\"\", INDEX(referentes!$AB:$AC,MATCH(DATOS_MAP!AL17,referentes!$AC:$AC,0),1))","v":""},{"$f":"IF(AP17=\"\",\"\", INDEX(referentes!$Y$2:$Z$10,MATCH(DATOS_MAP!AP17,referentes!$Z$2:$Z$10,0),1))","v":""},{"$f":"IF(AN17=\"\",\"\", INDEX(referentes!$AE$2:$AF$10,MATCH(DATOS_MAP!AN17,referentes!$AF$2:$AF$10,0),1))","v":""},{"$f":"IF(AQ17=\"\",\"\", INDEX(referentes!J:K,MATCH(DATOS_MAP!AQ17,referentes!$K:$K,0),1))","v":""},null,{"$f":"IF(AY17=\"\",\"\", INDEX('otras referencias'!O:P,MATCH(AY17,'otras referencias'!$O:$O,0),2))","v":""},null,null,null,null,null,{"$f":"IF(X17<>\"\",INDEX(referentes!$AH:$AL,MATCH(DATOS_MAP!X17,referentes!$AI:$AI,0),5),\"\")","v":""}]
[null,null,null,"",{"$f":"IF(J18=\"\",\"\",CONCATENATE(AD18,DIGITADOR!$B$2,DIGITADOR!$M$1,J18))","v":""},{"$f":"IF(J18=\"\",\"\",CONCATENATE(DIGITADOR!$B$2,AD18,DIGITADOR!$M$1,J18,ROW()))","v":""},null,null,null,{"$f":"IF(X18=\"\",\"\", INDEX(referentes!$AH:$AL,MATCH(DATOS_MAP!X18,referentes!$AI:$AI,0),1))","v":""},"",{"$f":"IF(AF18=\"\",\"\", INDEX(referentes!D:E,MATCH(DATOS_MAP!AF18,referentes!$E:$E,0),1))","v":""},{"$f":"IF(AI18=\"\",\"\", INDEX(referentes!A:B,MATCH(DATOS_MAP!AI18,referentes!$B:$B,0),1))","v":""},{"$f":"IF(AJ18=\"\",\"\", INDEX(referentes!G:H,MATCH(DATOS_MAP!AJ18,referentes!$H:$H,0),1))","v":""},{"$f":"IF(AK18=\"\",\"\", INDEX(referentes!$V$2:$W$10,MATCH(DATOS_MAP!AK18,referentes!$W$2:$W$10,0),1))","v":""},{"$f":"IF(AL18=\"\",\"\", INDEX(referentes!$AB:$AC,MATCH(DATOS_MAP!AL18,referentes!$AC:$AC,0),1))","v":""},{"$f":"IF(AP18=\"\",\"\", INDEX(referentes!$Y$2:$Z$10,MATCH(DATOS_MAP!AP18,referentes!$Z$2:$Z$10,0),1))","v":""},{"$f":"IF(AN18=\"\",\"\", INDEX(referentes!$AE$2:$AF$10,MATCH(DATOS_MAP!AN18,referentes!$AF$2:$AF$10,0),1))","v":""},{"$f":"IF(AQ18=\"\",\"\", INDEX(referentes!J:K,MATCH(DATOS_MAP!AQ18,referentes!$K:$K,0),1))","v":""},null,{"$f":"IF(AY18=\"\",\"\", INDEX('otras referencias'!O:P,MATCH(AY18,'otras referencias'!$O:$O,0),2))","v":""},null,null,null,null,null,{"$f":"IF(X18<>\"\",INDEX(referentes!$AH:$AL,MATCH(DATOS_MAP!X18,referentes!$AI:$AI,0),5),\"\")","v":""}]
[null,null,null,"",{"$f":"IF(J19=\"\",\"\",CONCATENATE(AD19,DIGITADOR!$B$2,DIGITADOR!$M$1,J19))","v":""},{"$f":"IF(J19=\"\",\"\",CONCATENATE(DIGITADOR!$B$2,AD19,DIGITADOR!$M$1,J19,ROW()))","v":""},null,null,null,{"$f":"IF(X19=\"\",\"\", INDEX(referentes!$AH:$AL,MATCH(DATOS_MAP!X19,referentes!$AI:$AI,0),1))","v":""},"",{"$f":"IF(AF19=\"\",\"\", INDEX(referentes!D:E,MATCH(DATOS_MAP!AF19,referentes!$E:$E,0),1))","v":""},{"$f":"IF(AI19=\"\",\"\", INDEX(referentes!A:B,MATCH(DATOS_MAP!AI19,referentes!$B:$B,0),1))","v":""},{"$f":"IF(AJ19=\"\",\"\", INDEX(referentes!G:H,MATCH(DATOS_MAP!AJ19,referentes!$H:$H,0),1))","v":""},{"$f":"IF(AK19=\"\",\"\", INDEX(referentes!$V$2:$W$10,MATCH(DATOS_MAP!AK19,referentes!$W$2:$W$10,0),1))","v":""},{"$f":"IF(AL19=\"\",\"\", INDEX(referentes!$AB:$AC,MATCH(DATOS_MAP!AL19,referentes!$AC:$AC,0),1))","v":""},{"$f":"IF(AP19=\"\",\"\", INDEX(referentes!$Y$2:$Z$10,MATCH(DATOS_MAP!AP19,referentes!$Z$2:$Z$10,0),1))","v":""},{"$f":"IF(AN19=\"\",\"\", INDEX(referentes!$AE$2:$AF$10,MATCH(DATOS_MAP!AN19,referentes!$AF$2:$AF$10,0),1))","v":""},{"$f":"IF(AQ19=\"\",\"\", INDEX(referentes!J:K,MATCH(DATOS_MAP!AQ19,referentes!$K:$K,0),1))","v":""},null,{"$f":"IF(AY19=\"\",\"\", INDEX('otras referencias'!O:P,MATCH(AY19,'otras referencias'!$O:$O,0),2))","v":""},null,null,null,null,null,{"$f":"IF(X19<>\"\",INDEX(referentes!$AH:$AL,MATCH(DATOS_MAP!X19,referentes!$AI:$AI,0),5),\"\")","v":""}]
[null,null,null,"",{"$f":"IF(J20=\"\",\"\",CONCATENATE(AD20,DIGITADOR!$B$2,DIGITADOR!$M$1,J20))","v":""},{"$f":"IF(J20=\"\",\"\",CONCATENATE(DIGITADOR!$B$2,AD20,DIGITADOR!$M$1,J20,ROW()))","v":""},null,null,null,{"$f":"IF(X20=\"\",\"\", INDEX(referentes!$AH:$AL,MATCH(DATOS_MAP!X20,referentes!$AI:$AI,0),1))","v":""},"",{"$f":"IF(AF20=\"\",\"\", INDEX(referentes!D:E,MATCH(DATOS_MAP!AF20,referentes!$E:$E,0),1))","v":""},{"$f":"IF(AI20=\"\",\"\", INDEX(referentes!A:B,MATCH(DATOS_MAP!AI20,referentes!$B:$B,0),1))","v":""},{"$f":"IF(AJ20=\"\",\"\", INDEX(referentes!G:H,MATCH(DATOS_MAP!AJ20,referentes!$H:$H,0),1))","v":""},{"$f":"IF(AK20=\"\",\"\", INDEX(referentes!$V$2:$W$10,MATCH(DATOS_MAP!AK20,referentes!$W$2:$W$10,0),1))","v":""},{"$f":"IF(AL20=\"\",\"\", INDEX(referentes!$AB:$AC,MATCH(DATOS_MAP!AL20,referentes!$AC:$AC,0),1))","v":""},{"$f":"IF(AP20=\"\",\"\", INDEX(referentes!$Y$2:$Z$10,MATCH(DATOS_MAP!AP20,referentes!$Z$2:$Z$10,0),1))","v":""},{"$f":"IF(AN20=\"\",\"\", INDEX(referentes!$AE$2:$AF$10,MATCH(DATOS_MAP!AN20,referentes!$AF$2:$AF$10,0),1))","v":""},{"$f":"IF(AQ20=\"\",\"\", INDEX(referentes!J:K,MATCH(DATOS_MAP!AQ20,referentes!$K:$K,0),1))","v":""},null,{"$f":"IF(AY20=\"\",\"\", INDEX('otras referencias'!O:P,MATCH(AY20,'otras referencias'!$O:$O,0),2))","v":""},null,null,null,null,null,{"$f":"IF(X20<>\"\",INDEX(referentes!$AH:$AL,MATCH(DATOS_MAP!X20,referentes!$AI:$AI,0),5),\"\")","v":""}]
[null,null,null,"",{"$f":"IF(J21=\"\",\"\",CONCATENATE(AD21,DIGITADOR!$B$2,DIGITADOR!$M$1,J21))","v":""},{"$f":"IF(J21=\"\",\"\",CONCATENATE(DIGITADOR!$B$2,AD21,DIGITADOR!$M$1,J21,ROW()))","v":""},null,null,null,{"$f":"IF(X21=\"\",\"\", INDEX(referentes!$AH:$AL,MATCH(DATOS_MAP!X21,referentes!$AI:$AI,0),1))","v":""},"",{"$f":"IF(AF21=\"\",\"\", INDEX(referentes!D:E,MATCH(DATOS_MAP!AF21,referentes!$E:$E,0),1))","v":""},{"$f":"IF(AI21=\"\",\"\", INDEX(referentes!A:B,MATCH(DATOS_MAP!AI21,referentes!$B:$B,0),1))","v":""},{"$f":"IF(AJ21=\"\",\"\", INDEX(referentes!G:H,MATCH(DATOS_MAP!AJ21,referentes!$H:$H,0),1))","v":""},{"$f":"IF(AK21=\"\",\"\", INDEX(referentes!$V$2:$W$10,MATCH(DATOS_MAP!AK21,referentes!$W$2:$W$10,0),1))","v":""},{"$f":"IF(AL21=\"\",\"\", INDEX(referentes!$AB:$AC,MATCH(DATOS_MAP!AL21,referentes!$AC:$AC,0),1))","v":""},{"$f":"IF(AP21=\"\",\"\", INDEX(referentes!$Y$2:$Z$10,MATCH(DATOS_MAP!AP21,referentes!$Z$2:$Z$10,0),1))","v":""},{"$f":"IF(AN21=\"\",\"\", INDEX(referentes!$AE$2:$AF$10,MATCH(DATOS_MAP!AN21,referentes!$AF$2:$AF$10,0),1))","v":""},{"$f":"IF(AQ21=\"\",\"\", INDEX(referentes!J:K,MATCH(DATOS_MAP!AQ21,referentes!$K:$K,0),1))","v":""},null,{"$f":"IF(AY21=\"\",\"\", INDEX('otras referencias'!O:P,MATCH(AY21,'otras referencias'!$O:$O,0),2))","v":""},null,null,null,null,null,{"$f":"IF(X21<>\"\",INDEX(referentes!$AH:$AL,MATCH(DATOS_MAP!X21,referentes!$AI:$AI,0),5),\"\")","v":""}]
[null,null,null,"",{"$f":"IF(J22=\"\",\"\",CONCATENATE(AD22,DIGITADOR!$B$2,DIGITADOR!$M$1,J22))","v":""},{"$f":"IF(J22=\"\",\"\",CONCATENATE(DIGITADOR!$B$2,AD22,DIGITADOR!$M$1,J22,ROW()))","v":""},null,null,null,{"$f":"IF(X22=\"\",\"\", INDEX(referentes!$AH:$AL,MATCH(DATOS_MAP!X22,referentes!$AI:$AI,0),1))","v":""},"",{"$f":"IF(AF22=\"\",\"\", INDEX(referentes!D:E,MATCH(DATOS_MAP!AF22,referentes!$E:$E,0),1))","v":""},{"$f":"IF(AI22=\"\",\"\", INDEX(referentes!A:B,MATCH(DATOS_MAP!AI22,referentes!$B:$B,0),1))","v":""},{"$f":"IF(AJ22=\"\",\"\", INDEX(referentes!G:H,MATCH(DATOS_MAP!AJ22,referentes!$H:$H,0),1))","v":""},{"$f":"IF(AK22=\"\",\"\", INDEX(referentes!$V$2:$W$10,MATCH(DATOS_MAP!AK22,referentes!$W$2:$W$10,0),1))","v":""},{"$f":"IF(AL22=\"\",\"\", INDEX(referentes!$AB:$AC,MATCH(DATOS_MAP!AL22,referentes!$AC:$AC,0),1))","v":""},{"$f":"IF(AP22=\"\",\"\", INDEX(referentes!$Y$2:$Z$10,MATCH(DATOS_MAP!AP22,referentes!$Z$2:$Z$10,0),1))","v":""},{"$f":"IF(AN22=\"\",\"\", INDEX(referentes!$AE$2:$AF$10,MATCH(DATOS_MAP!AN22,referentes!$AF$2:$AF$10,0),1))","v":""},{"$f":"IF(AQ22=\"\",\"\", INDEX(referentes!J:K,MATCH(DATOS_MAP!AQ22,referentes!$K:$K,0),1))","v":""},null,{"$f":"IF(AY22=\"\",\"\", INDEX('otras referencias'!O:P,MATCH(AY22,'otras referencias'!$O:$O,0),2))","v":""},null,null,null,null,null,{"$f":"IF(X22<>\"\",INDEX(referentes!$AH:$AL,MATCH(DATOS_MAP!X22,referentes!$AI:$AI,0),5),\"\")","v":""}]
[null,null,null,"",{"$f":"IF(J23=\"\",\"\",CONCATENATE(AD23,DIGITADOR!$B$2,DIGITADOR!$M$1,J23))","v":""},{"$f":"IF(J23=\"\",\"\",CONCATENATE(DIGITADOR!$B$2,AD23,DIGITADOR!$M$1,J23,ROW()))","v":""},null,null,null,{"$f":"IF(X23=\"\",\"\", INDEX(referentes!$AH:$AL,MATCH(DATOS_MAP!X23,referentes!$AI:$AI,0),1))","v":""},"",{"$f":"IF(AF23=\"\",\"\", INDEX(referentes!D:E,MATCH(DATOS_MAP!AF23,referentes!$E:$E,0),1))","v":""},{"$f":"IF(AI23=\"\",\"\", INDEX(referentes!A:B,MATCH(DATOS_MAP!AI23,referentes!$B:$B,0),1))","v":""},{"$f":"IF(AJ23=\"\",\"\", INDEX(referentes!G:H,MATCH(DATOS_MAP!AJ23,referentes!$H:$H,0),1))","v":""},{"$f":"IF(AK23=\"\",\"\", INDEX(referentes!$V$2:$W$10,MATCH(DATOS_MAP!AK23,referentes!$W$2:$W$10,0),1))","v":""},{"$f":"IF(AL23=\"\",\"\", INDEX(referentes!$AB:$AC,MATCH(DATOS_MAP!AL23,referentes!$AC:$AC,0),1))","v":""},{"$f":"IF(AP23=\"\",\"\", INDEX(referentes!$Y$2:$Z$10,MATCH(DATOS_MAP!AP23,referentes!$Z$2:$Z$10,0),1))","v":""},{"$f":"IF(AN23=\"\",\"\", INDEX(referentes!$AE$2:$AF$10,MATCH(DATOS_MAP!AN23,referentes!$AF$2:$AF$10,0),1))","v":""},{"$f":"IF(AQ23=\"\",\"\", INDEX(referentes!J:K,MATCH(DATOS_MAP!AQ23,referentes!$K:$K,0),1))","v":""},null,{"$f":"IF(AY23=\"\",\"\", INDEX('otras referencias'!O:P,MATCH(AY23,'otras referencias'!$O:$O,0),2))","v":""},null,null,null,null,null,{"$f":"IF(X23<>\"\",INDEX(referentes!$AH:$AL,MATCH(DATOS_MAP!X23,referentes!$AI:$AI,0),5),\"\")","v":""}]
[null,null,null,"",{"$f":"IF(J24=\"\",\"\",CONCATENATE(AD24,DIGITADOR!$B$2,DIGITADOR!$M$1,J24))","v":""},{"$f":"IF(J24=\"\",\"\",CONCATENATE(DIGITADOR!$B$2,AD24,DIGITADOR!$M$1,J24,ROW()))","v":""},null,null,null,{"$f":"IF(X24=\"\",\"\", INDEX(referentes!$AH:$AL,MATCH(DATOS_MAP!X24,referentes!$AI:$AI,0),1))","v":""},"",{"$f":"IF(AF24=\"\",\"\", INDEX(referentes!D:E,MATCH(DATOS_MAP!AF24,referentes!$E:$E,0),1))","v":""},{"$f":"IF(AI24=\"\",\"\", INDEX(referentes!A:B,MATCH(DATOS_MAP!AI24,referentes!$B:$B,0),1))","v":""},{"$f":"IF(AJ24=\"\",\"\", INDEX(referentes!G:H,MATCH(DATOS_MAP!AJ24,referentes!$H:$H,0),1))","v":""},{"$f":"IF(AK24=\"\",\"\", INDEX(referentes!$V$2:$W$10,MATCH(DATOS_MAP!AK24,referentes!$W$2:$W$10,0),1))","v":""},{"$f":"IF(AL24=\"\",\"\", INDEX(referentes!$AB:$AC,MATCH(DATOS_MAP!AL24,referentes!$AC:$AC,0),1))","v":""},{"$f":"IF(AP24=\"\",\"\", INDEX(referentes!$Y$2:$Z$10,MATCH(DATOS_MAP!AP24,referentes!$Z$2:$Z$10,0),1))","v":""},{"$f":"IF(AN24=\"\",\"\", INDEX(referentes!$AE$2:$AF$10,MATCH(DATOS_MAP!AN24,referentes!$AF$2:$AF$10,0),1))","v":""},{"$f":"IF(AQ24=\"\",\"\", INDEX(referentes!J:K,MATCH(DATOS_MAP!AQ24,referentes!$K:$K,0),1))","v":""},null,{"$f":"IF(AY24=\"\",\"\", INDEX('otras referencias'!O:P,MATCH(AY24,'otras referencias'!$O:$O,0),2))","v":""},null,null,null,null,null,{"$f":"IF(X24<>\"\",INDEX(referentes!$AH:$AL,MATCH(DATOS_MAP!X24,referentes!$AI:$AI,0),5),\"\")","v":""}]
[null,null,null,"",{"$f":"IF(J25=\"\",\"\",CONCATENATE(AD25,DIGITADOR!$B$2,DIGITADOR!$M$1,J25))","v":""},{"$f":"IF(J25=\"\",\"\",CONCATENATE(DIGITADOR!$B$2,AD25,DIGITADOR!$M$1,J25,ROW()))","v":""},null,null,null,{"$f":"IF(X25=\"\",\"\", INDEX(referentes!$AH:$AL,MATCH(DATOS_MAP!X25,referentes!$AI:$AI,0),1))","v":""},"",{"$f":"IF(AF25=\"\",\"\", INDEX(referentes!D:E,MATCH(DATOS_MAP!AF25,referentes!$E:$E,0),1))","v":""},{"$f":"IF(AI25=\"\",\"\", INDEX(referentes!A:B,MATCH(DATOS_MAP!AI25,referentes!$B:$B,0),1))","v":""},{"$f":"IF(AJ25=\"\",\"\", INDEX(referentes!G:H,MATCH(DATOS_MAP!AJ25,referentes!$H:$H,0),1))","v":""},{"$f":"IF(AK25=\"\",\"\", INDEX(referentes!$V$2:$W$10,MATCH(DATOS_MAP!AK25,referentes!$W$2:$W$10,0),1))","v":""},{"$f":"IF(AL25=\"\",\"\", INDEX(referentes!$AB:$AC,MATCH(DATOS_MAP!AL25,referentes!$AC:$AC,0),1))","v":""},{"$f":"IF(AP25=\"\",\"\", INDEX(referentes!$Y$2:$Z$10,MATCH(DATOS_MAP!AP25,referentes!$Z$2:$Z$10,0),1))","v":""},{"$f":"IF(AN25=\"\",\"\", INDEX(referentes!$AE$2:$AF$10,MATCH(DATOS_MAP!AN25,referentes!$AF$2:$AF$10,0),1))","v":""},{"$f":"IF(AQ25=\"\",\"\", INDEX(referentes!J:K,MATCH(DATOS_MAP!AQ25,referentes!$K:$K,0),1))","v":""},null,{"$f":"IF(AY25=\"\",\"\", INDEX('otras referencias'!O:P,MATCH(AY25,'otras referencias'!$O:$O,0),2))","v":""},null,null,null,null,null,{"$f":"IF(X25<>\"\",INDEX(referentes!$AH:$AL,MATCH(DATOS_MAP!X25,referentes!$AI:$AI,0),5),\"\")","v":""}]
[null,null,null,"",{"$f":"IF(J26=\"\",\"\",CONCATENATE(AD26,DIGITADOR!$B$2,DIGITADOR!$M$1,J26))","v":""},{"$f":"IF(J26=\"\",\"\",CONCATENATE(DIGITADOR!$B$2,AD26,DIGITADOR!$M$1,J26,ROW()))","v":""},null,null,null,{"$f":"IF(X26=\"\",\"\", INDEX(referentes!$AH:$AL,MATCH(DATOS_MAP!X26,referentes!$AI:$AI,0),1))","v":""},"",{"$f":"IF(AF26=\"\",\"\", INDEX(referentes!D:E,MATCH(DATOS_MAP!AF26,referentes!$E:$E,0),1))","v":""},{"$f":"IF(AI26=\"\",\"\", INDEX(referentes!A:B,MATCH(DATOS_MAP!AI26,referentes!$B:$B,0),1))","v":""},{"$f":"IF(AJ26=\"\",\"\", INDEX(referentes!G:H,MATCH(DATOS_MAP!AJ26,referentes!$H:$H,0),1))","v":""},{"$f":"IF(AK26=\"\",\"\", INDEX(referentes!$V$2:$W$10,MATCH(DATOS_MAP!AK26,referentes!$W$2:$W$10,0),1))","v":""},{"$f":"IF(AL26=\"\",\"\", INDEX(referentes!$AB:$AC,MATCH(DATOS_MAP!AL26,referentes!$AC:$AC,0),1))","v":""},{"$f":"IF(AP26=\"\",\"\", INDEX(referentes!$Y$2:$Z$10,MATCH(DATOS_MAP!AP26,referentes!$Z$2:$Z$10,0),1))","v":""},{"$f":"IF(AN26=\"\",\"\", INDEX(referentes!$AE$2:$AF$10,MATCH(DATOS_MAP!AN26,referentes!$AF$2:$AF$10,0),1))","v":""},{"$f":"IF(AQ26=\"\",\"\", INDEX(referentes!J:K,MATCH(DATOS_MAP!AQ26,referentes!$K:$K,0),1))","v":""},null,{"$f":"IF(AY26=\"\",\"\", INDEX('otras referencias'!O:P,MATCH(AY26,'otras referencias'!$O:$O,0),2))","v":""},null,null,null,null,null,{"$f":"IF(X26<>\"\",INDEX(referentes!$AH:$AL,MATCH(DATOS_MAP!X26,referentes!$AI:$AI,0),5),\"\")","v":""}]
[null,null,null,"",{"$f":"IF(J27=\"\",\"\",CONCATENATE(AD27,DIGITADOR!$B$2,DIGITADOR!$M$1,J27))","v":""},{"$f":"IF(J27=\"\",\"\",CONCATENATE(DIGITADOR!$B$2,AD27,DIGITADOR!$M$1,J27,ROW()))","v":""},null,null,null,{"$f":"IF(X27=\"\",\"\", INDEX(referentes!$AH:$AL,MATCH(DATOS_MAP!X27,referentes!$AI:$AI,0),1))","v":""},"",{"$f":"IF(AF27=\"\",\"\", INDEX(referentes!D:E,MATCH(DATOS_MAP!AF27,referentes!$E:$E,0),1))","v":""},{"$f":"IF(AI27=\"\",\"\", INDEX(referentes!A:B,MATCH(DATOS_MAP!AI27,referentes!$B:$B,0),1))","v":""},{"$f":"IF(AJ27=\"\",\"\", INDEX(referentes!G:H,MATCH(DATOS_MAP!AJ27,referentes!$H:$H,0),1))","v":""},{"$f":"IF(AK27=\"\",\"\", INDEX(referentes!$V$2:$W$10,MATCH(DATOS_MAP!AK27,referentes!$W$2:$W$10,0),1))","v":""},{"$f":"IF(AL27=\"\",\"\", INDEX(referentes!$AB:$AC,MATCH(DATOS_MAP!AL27,referentes!$AC:$AC,0),1))","v":""},{"$f":"IF(AP27=\"\",\"\", INDEX(referentes!$Y$2:$Z$10,MATCH(DATOS_MAP!AP27,referentes!$Z$2:$Z$10,0),1))","v":""},{"$f":"IF(AN27=\"\",\"\", INDEX(referentes!$AE$2:$AF$10,MATCH(DATOS_MAP!AN27,referentes!$AF$2:$AF$10,0),1))","v":""},{"$f":"IF(AQ27=\"\",\"\", INDEX(referentes!J:K,MATCH(DATOS_MAP!AQ27,referentes!$K:$K,0),1))","v":""},null,{"$f":"IF(AY27=\"\",\"\", INDEX('otras referencias'!O:P,MATCH(AY27,'otras referencias'!$O:$O,0),2))","v":""},null,null,null,null,null,{"$f":"IF(X27<>\"\",INDEX(referentes!$AH:$AL,MATCH(DATOS_MAP!X27,referentes!$AI:$AI,0),5),\"\")","v":""}]
[null,null,null,"",{"$f":"IF(J28=\"\",\"\",CONCATENATE(AD28,DIGITADOR!$B$2,DIGITADOR!$M$1,J28))","v":""},{"$f":"IF(J28=\"\",\"\",CONCATENATE(DIGITADOR!$B$2,AD28,DIGITADOR!$M$1,J28,ROW()))","v":""},null,null,null,{"$f":"IF(X28=\"\",\"\", INDEX(referentes!$AH:$AL,MATCH(DATOS_MAP!X28,referentes!$AI:$AI,0),1))","v":""},"",{"$f":"IF(AF28=\"\",\"\", INDEX(referentes!D:E,MATCH(DATOS_MAP!AF28,referentes!$E:$E,0),1))","v":""},{"$f":"IF(AI28=\"\",\"\", INDEX(referentes!A:B,MATCH(DATOS_MAP!AI28,referentes!$B:$B,0),1))","v":""},{"$f":"IF(AJ28=\"\",\"\", INDEX(referentes!G:H,MATCH(DATOS_MAP!AJ28,referentes!$H:$H,0),1))","v":""},{"$f":"IF(AK28=\"\",\"\", INDEX(referentes!$V$2:$W$10,MATCH(DATOS_MAP!AK28,referentes!$W$2:$W$10,0),1))","v":""},{"$f":"IF(AL28=\"\",\"\", INDEX(referentes!$AB:$AC,MATCH(DATOS_MAP!AL28,referentes!$AC:$AC,0),1))","v":""},{"$f":"IF(AP28=\"\",\"\", INDEX(referentes!$Y$2:$Z$10,MATCH(DATOS_MAP!AP28,referentes!$Z$2:$Z$10,0),1))","v":""},{"$f":"IF(AN28=\"\",\"\", INDEX(referentes!$AE$2:$AF$10,MATCH(DATOS_MAP!AN28,referentes!$AF$2:$AF$10,0),1))","v":""},{"$f":"IF(AQ28=\"\",\"\", INDEX(referentes!J:K,MATCH(DATOS_MAP!AQ28,referentes!$K:$K,0),1))","v":""},null,{"$f":"IF(AY28=\"\",\"\", INDEX('otras referencias'!O:P,MATCH(AY28,'otras referencias'!$O:$O,0),2))","v":""},null,null,null,null,null,{"$f":"IF(X28<>\"\",INDEX(referentes!$AH:$AL,MATCH(DATOS_MAP!X28,referentes!$AI:$AI,0),5),\"\")","v":""}]
[null,null,null,"",{"$f":"IF(J29=\"\",\"\",CONCATENATE(AD29,DIGITADOR!$B$2,DIGITADOR!$M$1,J29))","v":""},{"$f":"IF(J29=\"\",\"\",CONCATENATE(DIGITADOR!$B$2,AD29,DIGITADOR!$M$1,J29,ROW()))","v":""},null,null,null,{"$f":"IF(X29=\"\",\"\", INDEX(referentes!$AH:$AL,MATCH(DATOS_MAP!X29,referentes!$AI:$AI,0),1))","v":""},"",{"$f":"IF(AF29=\"\",\"\", INDEX(referentes!D:E,MATCH(DATOS_MAP!AF29,referentes!$E:$E,0),1))","v":""},{"$f":"IF(AI29=\"\",\"\", INDEX(referentes!A:B,MATCH(DATOS_MAP!AI29,referentes!$B:$B,0),1))","v":""},{"$f":"IF(AJ29=\"\",\"\", INDEX(referentes!G:H,MATCH(DATOS_MAP!AJ29,referentes!$H:$H,0),1))","v":""},{"$f":"IF(AK29=\"\",\"\", INDEX(referentes!$V$2:$W$10,MATCH(DATOS_MAP!AK29,referentes!$W$2:$W$10,0),1))","v":""},{"$f":"IF(AL29=\"\",\"\", INDEX(referentes!$AB:$AC,MATCH(DATOS_MAP!AL29,referentes!$AC:$AC,0),1))","v":""},{"$f":"IF(AP29=\"\",\"\", INDEX(referentes!$Y$2:$Z$10,MATCH(DATOS_MAP!AP29,referentes!$Z$2:$Z$10,0),1))","v":""},{"$f":"IF(AN29=\"\",\"\", INDEX(referentes!$AE$2:$AF$10,MATCH(DATOS_MAP!AN29,referentes!$AF$2:$AF$10,0),1))","v":""},{"$f":"IF(AQ29=\"\",\"\", INDEX(referentes!J:K,MATCH(DATOS_MAP!AQ29,referentes!$K:$K,0),1))","v":""},null,{"$f":"IF(AY29=\"\",\"\", INDEX('otras referencias'!O:P,MATCH(AY29,'otras referencias'!$O:$O,0),2))","v":""},null,null,null,null,null,{"$f":"IF(X29<>\"\",INDEX(referentes!$AH:$AL,MATCH(DATOS_MAP!X29,referentes!$AI:$AI,0),5),\"\")","v":""}]
[null,null,null,"",{"$f":"IF(J30=\"\",\"\",CONCATENATE(AD30,DIGITADOR!$B$2,DIGITADOR!$M$1,J30))","v":""},{"$f":"IF(J30=\"\",\"\",CONCATENATE(DIGITADOR!$B$2,AD30,DIGITADOR!$M$1,J30,ROW()))","v":""},null,null,null,{"$f":"IF(X30=\"\",\"\", INDEX(referentes!$AH:$AL,MATCH(DATOS_MAP!X30,referentes!$AI:$AI,0),1))","v":""},"",{"$f":"IF(AF30=\"\",\"\", INDEX(referentes!D:E,MATCH(DATOS_MAP!AF30,referentes!$E:$E,0),1))","v":""},{"$f":"IF(AI30=\"\",\"\", INDEX(referentes!A:B,MATCH(DATOS_MAP!AI30,referentes!$B:$B,0),1))","v":""},{"$f":"IF(AJ30=\"\",\"\", INDEX(referentes!G:H,MATCH(DATOS_MAP!AJ30,referentes!$H:$H,0),1))","v":""},{"$f":"IF(AK30=\"\",\"\", INDEX(referentes!$V$2:$W$10,MATCH(DATOS_MAP!AK30,referentes!$W$2:$W$10,0),1))","v":""},{"$f":"IF(AL30=\"\",\"\", INDEX(referentes!$AB:$AC,MATCH(DATOS_MAP!AL30,referentes!$AC:$AC,0),1))","v":""},{"$f":"IF(AP30=\"\",\"\", INDEX(referentes!$Y$2:$Z$10,MATCH(DATOS_MAP!AP30,referentes!$Z$2:$Z$10,0),1))","v":""},{"$f":"IF(AN30=\"\",\"\", INDEX(referentes!$AE$2:$AF$10,MATCH(DATOS_MAP!AN30,referentes!$AF$2:$AF$10,0),1))","v":""},{"$f":"IF(AQ30=\"\",\"\", INDEX(referentes!J:K,MATCH(DATOS_MAP!AQ30,referentes!$K:$K,0),1))","v":""},null,{"$f":"IF(AY30=\"\",\"\", INDEX('otras referencias'!O:P,MATCH(AY30,'otras referencias'!$O:$O,0),2))","v":""},null,null,null,null,null,{"$f":"IF(X30<>\"\",INDEX(referentes!$AH:$AL,MATCH(DATOS_MAP!X30,referentes!$AI:$AI,0),5),\"\")","v":""}]
[null,null,null,"",{"$f":"IF(J31=\"\",\"\",CONCATENATE(AD31,DIGITADOR!$B$2,DIGITADOR!$M$1,J31))","v":""},{"$f":"IF(J31=\"\",\"\",CONCATENATE(DIGITADOR!$B$2,AD31,DIGITADOR!$M$1,J31,ROW()))","v":""},null,null,null,{"$f":"IF(X31=\"\",\"\", INDEX(referentes!$AH:$AL,MATCH(DATOS_MAP!X31,referentes!$AI:$AI,0),1))","v":""},"",{"$f":"IF(AF31=\"\",\"\", INDEX(referentes!D:E,MATCH(DATOS_MAP!AF31,referentes!$E:$E,0),1))","v":""},{"$f":"IF(AI31=\"\",\"\", INDEX(referentes!A:B,MATCH(DATOS_MAP!AI31,referentes!$B:$B,0),1))","v":""},{"$f":"IF(AJ31=\"\",\"\", INDEX(referentes!G:H,MATCH(DATOS_MAP!AJ31,referentes!$H:$H,0),1))","v":""},{"$f":"IF(AK31=\"\",\"\", INDEX(referentes!$V$2:$W$10,MATCH(DATOS_MAP!AK31,referentes!$W$2:$W$10,0),1))","v":""},{"$f":"IF(AL31=\"\",\"\", INDEX(referentes!$AB:$AC,MATCH(DATOS_MAP!AL31,referentes!$AC:$AC,0),1))","v":""},{"$f":"IF(AP31=\"\",\"\", INDEX(referentes!$Y$2:$Z$10,MATCH(DATOS_MAP!AP31,referentes!$Z$2:$Z$10,0),1))","v":""},{"$f":"IF(AN31=\"\",\"\", INDEX(referentes!$AE$2:$AF$10,MATCH(DATOS_MAP!AN31,referentes!$AF$2:$AF$10,0),1))","v":""},{"$f":"IF(AQ31=\"\",\"\", INDEX(referentes!J:K,MATCH(DATOS_MAP!AQ31,referentes!$K:$K,0),1))","v":""},null,{"$f":"IF(AY31=\"\",\"\", INDEX('otras referencias'!O:P,MATCH(AY31,'otras referencias'!$O:$O,0),2))","v":""},null,null,null,null,null,{"$f":"IF(X31<>\"\",INDEX(referentes!$AH:$AL,MATCH(DATOS_MAP!X31,referentes!$AI:$AI,0),5),\"\")","v":""}]
[null,null,null,"",{"$f":"IF(J32=\"\",\"\",CONCATENATE(AD32,DIGITADOR!$B$2,DIGITADOR!$M$1,J32))","v":""},{"$f":"IF(J32=\"\",\"\",CONCATENATE(DIGITADOR!$B$2,AD32,DIGITADOR!$M$1,J32,ROW()))","v":""},null,null,null,{"$f":"IF(X32=\"\",\"\", INDEX(referentes!$AH:$AL,MATCH(DATOS_MAP!X32,referentes!$AI:$AI,0),1))","v":""},"",{"$f":"IF(AF32=\"\",\"\", INDEX(referentes!D:E,MATCH(DATOS_MAP!AF32,referentes!$E:$E,0),1))","v":""},{"$f":"IF(AI32=\"\",\"\", INDEX(referentes!A:B,MATCH(DATOS_MAP!AI32,referentes!$B:$B,0),1))","v":""},{"$f":"IF(AJ32=\"\",\"\", INDEX(referentes!G:H,MATCH(DATOS_MAP!AJ32,referentes!$H:$H,0),1))","v":""},{"$f":"IF(AK32=\"\",\"\", INDEX(referentes!$V$2:$W$10,MATCH(DATOS_MAP!AK32,referentes!$W$2:$W$10,0),1))","v":""},{"$f":"IF(AL32=\"\",\"\", INDEX(referentes!$AB:$AC,MATCH(DATOS_MAP!AL32,referentes!$AC:$AC,0),1))","v":""},{"$f":"IF(AP32=\"\",\"\", INDEX(referentes!$Y$2:$Z$10,MATCH(DATOS_MAP!AP32,referentes!$Z$2:$Z$10,0),1))","v":""},{"$f":"IF(AN32=\"\",\"\", INDEX(referentes!$AE$2:$AF$10,MATCH(DATOS_MAP!AN32,referentes!$AF$2:$AF$10,0),1))","v":""},{"$f":"IF(AQ32=\"\",\"\", INDEX(referentes!J:K,MATCH(DATOS_MAP!AQ32,referentes!$K:$K,0),1))","v":""},null,{"$f":"IF(AY32=\"\",\"\", INDEX('otras referencias'!O:P,MATCH(AY32,'otras referencias'!$O:$O,0),2))","v":""},null,null,null,null,null,{"$f":"IF(X32<>\"\",INDEX(referentes!$AH:$AL,MATCH(DATOS_MAP!X32,referentes!$AI:$AI,0),5),\"\")","v":""}]
[null,null,null,"",{"$f":"IF(J33=\"\",\"\",CONCATENATE(AD33,DIGITADOR!$B$2,DIGITADOR!$M$1,J33))","v":""},{"$f":"IF(J33=\"\",\"\",CONCATENATE(DIGITADOR!$B$2,AD33,DIGITADOR!$M$1,J33,ROW()))","v":""},null,null,null,{"$f":"IF(X33=\"\",\"\", INDEX(referentes!$AH:$AL,MATCH(DATOS_MAP!X33,referentes!$AI:$AI,0),1))","v":""},"",{"$f":"IF(AF33=\"\",\"\", INDEX(referentes!D:E,MATCH(DATOS_MAP!AF33,referentes!$E:$E,0),1))","v":""},{"$f":"IF(AI33=\"\",\"\", INDEX(referentes!A:B,MATCH(DATOS_MAP!AI33,referentes!$B:$B,0),1))","v":""},{"$f":"IF(AJ33=\"\",\"\", INDEX(referentes!G:H,MATCH(DATOS_MAP!AJ33,referentes!$H:$H,0),1))","v":""},{"$f":"IF(AK33=\"\",\"\", INDEX(referentes!$V$2:$W$10,MATCH(DATOS_MAP!AK33,referentes!$W$2:$W$10,0),1))","v":""},{"$f":"IF(AL33=\"\",\"\", INDEX(referentes!$AB:$AC,MATCH(DATOS_MAP!AL33,referentes!$AC:$AC,0),1))","v":""},{"$f":"IF(AP33=\"\",\"\", INDEX(referentes!$Y$2:$Z$10,MATCH(DATOS_MAP!AP33,referentes!$Z$2:$Z$10,0),1))","v":""},{"$f":"IF(AN33=\"\",\"\", INDEX(referentes!$AE$2:$AF$10,MATCH(DATOS_MAP!AN33,referentes!$AF$2:$AF$10,0),1))","v":""},{"$f":"IF(AQ33=\"\",\"\", INDEX(referentes!J:K,MATCH(DATOS_MAP!AQ33,referentes!$K:$K,0),1))","v":""},null,{"$f":"IF(AY33=\"\",\"\", INDEX('otras referencias'!O:P,MATCH(AY33,'otras referencias'!$O:$O,0),2))","v":""},null,null,null,null,null,{"$f":"IF(X33<>\"\",INDEX(referentes!$AH:$AL,MATCH(DATOS_MAP!X33,referentes!$AI:$AI,0),5),\"\")","v":""}]
[null,null,null,"",{"$f":"IF(J34=\"\",\"\",CONCATENATE(AD34,DIGITADOR!$B$2,DIGITADOR!$M$1,J34))","v":""},{"$f":"IF(J34=\"\",\"\",CONCATENATE(DIGITADOR!$B$2,AD34,DIGITADOR!$M$1,J34,ROW()))","v":""},null,null,null,{"$f":"IF(X34=\"\",\"\", INDEX(referentes!$AH:$AL,MATCH(DATOS_MAP!X34,referentes!$AI:$AI,0),1))","v":""},"",{"$f":"IF(AF34=\"\",\"\", INDEX(referentes!D:E,MATCH(DATOS_MAP!AF34,referentes!$E:$E,0),1))","v":""},{"$f":"IF(AI34=\"\",\"\", INDEX(referentes!A:B,MATCH(DATOS_MAP!AI34,referentes!$B:$B,0),1))","v":""},{"$f":"IF(AJ34=\"\",\"\", INDEX(referentes!G:H,MATCH(DATOS_MAP!AJ34,referentes!$H:$H,0),1))","v":""},{"$f":"IF(AK34=\"\",\"\", INDEX(referentes!$V$2:$W$10,MATCH(DATOS_MAP!AK34,referentes!$W$2:$W$10,0),1))","v":""},{"$f":"IF(AL34=\"\",\"\", INDEX(referentes!$AB:$AC,MATCH(DATOS_MAP!AL34,referentes!$AC:$AC,0),1))","v":""},{"$f":"IF(AP34=\"\",\"\", INDEX(referentes!$Y$2:$Z$10,MATCH(DATOS_MAP!AP34,referentes!$Z$2:$Z$10,0),1))","v":""},{"$f":"IF(AN34=\"\",\"\", INDEX(referentes!$AE$2:$AF$10,MATCH(DATOS_MAP!AN34,referentes!$AF$2:$AF$10,0),1))","v":""},{"$f":"IF(AQ34=\"\",\"\", INDEX(referentes!J:K,MATCH(DATOS_MAP!AQ34,referentes!$K:$K,0),1))","v":""},null,{"$f":"IF(AY34=\"\",\"\", INDEX('otras referencias'!O:P,MATCH(AY34,'otras referencias'!$O:$O,0),2))","v":""},null,null,null,null,null,{"$f":"IF(X34<>\"\",INDEX(referentes!$AH:$AL,MATCH(DATOS_MAP!X34,referentes!$AI:$AI,0),5),\"\")","v":""}]
[null,null,null,"",{"$f":"IF(J35=\"\",\"\",CONCATENATE(AD35,DIGITADOR!$B$2,DIGITADOR!$M$1,J35))","v":""},{"$f":"IF(J35=\"\",\"\",CONCATENATE(DIGITADOR!$B$2,AD35,DIGITADOR!$M$1,J35,ROW()))","v":""},null,null,null,{"$f":"IF(X35=\"\",\"\", INDEX(referentes!$AH:$AL,MATCH(DATOS_MAP!X35,referentes!$AI:$AI,0),1))","v":""},"",{"$f":"IF(AF35=\"\",\"\", INDEX(referentes!D:E,MATCH(DATOS_MAP!AF35,referentes!$E:$E,0),1))","v":""},{"$f":"IF(AI35=\"\",\"\", INDEX(referentes!A:B,MATCH(DATOS_MAP!AI35,referentes!$B:$B,0),1))","v":""},{"$f":"IF(AJ35=\"\",\"\", INDEX(referentes!G:H,MATCH(DATOS_MAP!AJ35,referentes!$H:$H,0),1))","v":""},{"$f":"IF(AK35=\"\",\"\", INDEX(referentes!$V$2:$W$10,MATCH(DATOS_MAP!AK35,referentes!$W$2:$W$10,0),1))","v":""},{"$f":"IF(AL35=\"\",\"\", INDEX(referentes!$AB:$AC,MATCH(DATOS_MAP!AL35,referentes!$AC:$AC,0),1))","v":""},{"$f":"IF(AP35=\"\",\"\", INDEX(referentes!$Y$2:$Z$10,MATCH(DATOS_MAP!AP35,referentes!$Z$2:$Z$10,0),1))","v":""},{"$f":"IF(AN35=\"\",\"\", INDEX(referentes!$AE$2:$AF$10,MATCH(DATOS_MAP!AN35,referentes!$AF$2:$AF$10,0),1))","v":""},{"$f":"IF(AQ35=\"\",\"\", INDEX(referentes!J:K,MATCH(DATOS_MAP!AQ35,referentes!$K:$K,0),1))","v":""},null,{"$f":"IF(AY35=\"\",\"\", INDEX('otras referencias'!O:P,MATCH(AY35,'otras referencias'!$O:$O,0),2))","v":""},null,null,null,null,null,{"$f":"IF(X35<>\"\",INDEX(referentes!$AH:$AL,MATCH(DATOS_MAP!X35,referentes!$AI:$AI,0),5),\"\")","v":""}]
[null,null,null,"",{"$f":"IF(J36=\"\",\"\",CONCATENATE(AD36,DIGITADOR!$B$2,DIGITADOR!$M$1,J36))","v":""},{"$f":"IF(J36=\"\",\"\",CONCATENATE(DIGITADOR!$B$2,AD36,DIGITADOR!$M$1,J36,ROW()))","v":""},null,null,null,{"$f":"IF(X36=\"\",\"\", INDEX(referentes!$AH:$AL,MATCH(DATOS_MAP!X36,referentes!$AI:$AI,0),1))","v":""},"",{"$f":"IF(AF36=\"\",\"\", INDEX(referentes!D:E,MATCH(DATOS_MAP!AF36,referentes!$E:$E,0),1))","v":""},{"$f":"IF(AI36=\"\",\"\", INDEX(referentes!A:B,MATCH(DATOS_MAP!AI36,referentes!$B:$B,0),1))","v":""},{"$f":"IF(AJ36=\"\",\"\", INDEX(referentes!G:H,MATCH(DATOS_MAP!AJ36,referentes!$H:$H,0),1))","v":""},{"$f":"IF(AK36=\"\",\"\", INDEX(referentes!$V$2:$W$10,MATCH(DATOS_MAP!AK36,referentes!$W$2:$W$10,0),1))","v":""},{"$f":"IF(AL36=\"\",\"\", INDEX(referentes!$AB:$AC,MATCH(DATOS_MAP!AL36,referentes!$AC:$AC,0),1))","v":""},{"$f":"IF(AP36=\"\",\"\", INDEX(referentes!$Y$2:$Z$10,MATCH(DATOS_MAP!AP36,referentes!$Z$2:$Z$10,0),1))","v":""},{"$f":"IF(AN36=\"\",\"\", INDEX(referentes!$AE$2:$AF$10,MATCH(DATOS_MAP!AN36,referentes!$AF$2:$AF$10,0),1))","v":""},{"$f":"IF(AQ36=\"\",\"\", INDEX(referentes!J:K,MATCH(DATOS_MAP!AQ36,referentes!$K:$K,0),1))","v":""},null,{"$f":"IF(AY36=\"\",\"\", INDEX('otras referencias'!O:P,MATCH(AY36,'otras referencias'!$O:$O,0),2))","v":""},null,null,null,null,null,{"$f":"IF(X36<>\"\",INDEX(referentes!$AH:$AL,MATCH(DATOS_MAP!X36,referentes!$AI:$AI,0),5),\"\")","v":""}]
[null,null,null,"",{"$f":"IF(J37=\"\",\"\",CONCATENATE(AD37,DIGITADOR!$B$2,DIGITADOR!$M$1,J37))","v":""},{"$f":"IF(J37=\"\",\"\",CONCATENATE(DIGITADOR!$B$2,AD37,DIGITADOR!$M$1,J37,ROW()))","v":""},null,null,null,{"$f":"IF(X37=\"\",\"\", INDEX(referentes!$AH:$AL,MATCH(DATOS_MAP!X37,referentes!$AI:$AI,0),1))","v":""},"",{"$f":"IF(AF37=\"\",\"\", INDEX(referentes!D:E,MATCH(DATOS_MAP!AF37,referentes!$E:$E,0),1))","v":""},{"$f":"IF(AI37=\"\",\"\", INDEX(referentes!A:B,MATCH(DATOS_MAP!AI37,referentes!$B:$B,0),1))","v":""},{"$f":"IF(AJ37=\"\",\"\", INDEX(referentes!G:H,MATCH(DATOS_MAP!AJ37,referentes!$H:$H,0),1))","v":""},{"$f":"IF(AK37=\"\",\"\", INDEX(referentes!$V$2:$W$10,MATCH(DATOS_MAP!AK37,referentes!$W$2:$W$10,0),1))","v":""},{"$f":"IF(AL37=\"\",\"\", INDEX(referentes!$AB:$AC,MATCH(DATOS_MAP!AL37,referentes!$AC:$AC,0),1))","v":""},{"$f":"IF(AP37=\"\",\"\", INDEX(referentes!$Y$2:$Z$10,MATCH(DATOS_MAP!AP37,referentes!$Z$2:$Z$10,0),1))","v":""},{"$f":"IF(AN37=\"\",\"\", INDEX(referentes!$AE$2:$AF$10,MATCH(DATOS_MAP!AN37,referentes!$AF$2:$AF$10,0),1))","v":""},{"$f":"IF(AQ37=\"\",\"\", INDEX(referentes!J:K,MATCH(DATOS_MAP!AQ37,referentes!$K:$K,0),1))","v":""},null,{"$f":"IF(AY37=\"\",\"\", INDEX('otras referencias'!O:P,MATCH(AY37,'otras referencias'!$O:$O,0),2))","v":""},null,null,null,null,null,{"$f":"IF(X37<>\"\",INDEX(referentes!$AH:$AL,MATCH(DATOS_MAP!X37,referentes!$AI:$AI,0),5),\"\")","v":""}]
[null,null,null,"",{"$f":"IF(J38=\"\",\"\",CONCATENATE(AD38,DIGITADOR!$B$2,DIGITADOR!$M$1,J38))","v":""},{"$f":"IF(J38=\"\",\"\",CONCATENATE(DIGITADOR!$B$2,AD38,DIGITADOR!$M$1,J38,ROW()))","v":""},null,null,null,{"$f":"IF(X38=\"\",\"\", INDEX(referentes!$AH:$AL,MATCH(DATOS_MAP!X38,referentes!$AI:$AI,0),1))","v":""},"",{"$f":"IF(AF38=\"\",\"\", INDEX(referentes!D:E,MATCH(DATOS_MAP!AF38,referentes!$E:$E,0),1))","v":""},{"$f":"IF(AI38=\"\",\"\", INDEX(referentes!A:B,MATCH(DATOS_MAP!AI38,referentes!$B:$B,0),1))","v":""},{"$f":"IF(AJ38=\"\",\"\", INDEX(referentes!G:H,MATCH(DATOS_MAP!AJ38,referentes!$H:$H,0),1))","v":""},{"$f":"IF(AK38=\"\",\"\", INDEX(referentes!$V$2:$W$10,MATCH(DATOS_MAP!AK38,referentes!$W$2:$W$10,0),1))","v":""},{"$f":"IF(AL38=\"\",\"\", INDEX(referentes!$AB:$AC,MATCH(DATOS_MAP!AL38,referentes!$AC:$AC,0),1))","v":""},{"$f":"IF(AP38=\"\",\"\", INDEX(referentes!$Y$2:$Z$10,MATCH(DATOS_MAP!AP38,referentes!$Z$2:$Z$10,0),1))","v":""},{"$f":"IF(AN38=\"\",\"\", INDEX(referentes!$AE$2:$AF$10,MATCH(DATOS_MAP!AN38,referentes!$AF$2:$AF$10,0),1))","v":""},{"$f":"IF(AQ38=\"\",\"\", INDEX(referentes!J:K,MATCH(DATOS_MAP!AQ38,referentes!$K:$K,0),1))","v":""},null,{"$f":"IF(AY38=\"\",\"\", INDEX('otras referencias'!O:P,MATCH(AY38,'otras referencias'!$O:$O,0),2))","v":""},null,null,null,null,null,{"$f":"IF(X38<>\"\",INDEX(referentes!$AH:$AL,MATCH(DATOS_MAP!X38,referentes!$AI:$AI,0),5),\"\")","v":""}]
[null,null,null,"",{"$f":"IF(J39=\"\",\"\",CONCATENATE(AD39,DIGITADOR!$B$2,DIGITADOR!$M$1,J39))","v":""},{"$f":"IF(J39=\"\",\"\",CONCATENATE(DIGITADOR!$B$2,AD39,DIGITADOR!$M$1,J39,ROW()))","v":""},null,null,null,{"$f":"IF(X39=\"\",\"\", INDEX(referentes!$AH:$AL,MATCH(DATOS_MAP!X39,referentes!$AI:$AI,0),1))","v":""},"",{"$f":"IF(AF39=\"\",\"\", INDEX(referentes!D:E,MATCH(DATOS_MAP!AF39,referentes!$E:$E,0),1))","v":""},{"$f":"IF(AI39=\"\",\"\", INDEX(referentes!A:B,MATCH(DATOS_MAP!AI39,referentes!$B:$B,0),1))","v":""},{"$f":"IF(AJ39=\"\",\"\", INDEX(referentes!G:H,MATCH(DATOS_MAP!AJ39,referentes!$H:$H,0),1))","v":""},{"$f":"IF(AK39=\"\",\"\", INDEX(referentes!$V$2:$W$10,MATCH(DATOS_MAP!AK39,referentes!$W$2:$W$10,0),1))","v":""},{"$f":"IF(AL39=\"\",\"\", INDEX(referentes!$AB:$AC,MATCH(DATOS_MAP!AL39,referentes!$AC:$AC,0),1))","v":""},{"$f":"IF(AP39=\"\",\"\", INDEX(referentes!$Y$2:$Z$10,MATCH(DATOS_MAP!AP39,referentes!$Z$2:$Z$10,0),1))","v":""},{"$f":"IF(AN39=\"\",\"\", INDEX(referentes!$AE$2:$AF$10,MATCH(DATOS_MAP!AN39,referentes!$AF$2:$AF$10,0),1))","v":""},{"$f":"IF(AQ39=\"\",\"\", INDEX(referentes!J:K,MATCH(DATOS_MAP!AQ39,referentes!$K:$K,0),1))","v":""},null,{"$f":"IF(AY39=\"\",\"\", INDEX('otras referencias'!O:P,MATCH(AY39,'otras referencias'!$O:$O,0),2))","v":""},null,null,null,null,null,{"$f":"IF(X39<>\"\",INDEX(referentes!$AH:$AL,MATCH(DATOS_MAP!X39,referentes!$AI:$AI,0),5),\"\")","v":""}]
[null,null,null,"",{"$f":"IF(J40=\"\",\"\",CONCATENATE(AD40,DIGITADOR!$B$2,DIGITADOR!$M$1,J40))","v":""},{"$f":"IF(J40=\"\",\"\",CONCATENATE(DIGITADOR!$B$2,AD40,DIGITADOR!$M$1,J40,ROW()))","v":""},null,null,null,{"$f":"IF(X40=\"\",\"\", INDEX(referentes!$AH:$AL,MATCH(DATOS_MAP!X40,referentes!$AI:$AI,0),1))","v":""},"",{"$f":"IF(AF40=\"\",\"\", INDEX(referentes!D:E,MATCH(DATOS_MAP!AF40,referentes!$E:$E,0),1))","v":""},{"$f":"IF(AI40=\"\",\"\", INDEX(referentes!A:B,MATCH(DATOS_MAP!AI40,referentes!$B:$B,0),1))","v":""},{"$f":"IF(AJ40=\"\",\"\", INDEX(referentes!G:H,MATCH(DATOS_MAP!AJ40,referentes!$H:$H,0),1))","v":""},{"$f":"IF(AK40=\"\",\"\", INDEX(referentes!$V$2:$W$10,MATCH(DATOS_MAP!AK40,referentes!$W$2:$W$10,0),1))","v":""},{"$f":"IF(AL40=\"\",\"\", INDEX(referentes!$AB:$AC,MATCH(DATOS_MAP!AL40,referentes!$AC:$AC,0),1))","v":""},{"$f":"IF(AP40=\"\",\"\", INDEX(referentes!$Y$2:$Z$10,MATCH(DATOS_MAP!AP40,referentes!$Z$2:$Z$10,0),1))","v":""},{"$f":"IF(AN40=\"\",\"\", INDEX(referentes!$AE$2:$AF$10,MATCH(DATOS_MAP!AN40,referentes!$AF$2:$AF$10,0),1))","v":""},{"$f":"IF(AQ40=\"\",\"\", INDEX(referentes!J:K,MATCH(DATOS_MAP!AQ40,referentes!$K:$K,0),1))","v":""},null,{"$f":"IF(AY40=\"\",\"\", INDEX('otras referencias'!O:P,MATCH(AY40,'otras referencias'!$O:$O,0),2))","v":""},null,null,null,null,null,{"$f":"IF(X40<>\"\",INDEX(referentes!$AH:$AL,MATCH(DATOS_MAP!X40,referentes!$AI:$AI,0),5),\"\")","v":""}]
[null,null,null,"",{"$f":"IF(J41=\"\",\"\",CONCATENATE(AD41,DIGITADOR!$B$2,DIGITADOR!$M$1,J41))","v":""},{"$f":"IF(J41=\"\",\"\",CONCATENATE(DIGITADOR!$B$2,AD41,DIGITADOR!$M$1,J41,ROW()))","v":""},null,null,null,{"$f":"IF(X41=\"\",\"\", INDEX(referentes!$AH:$AL,MATCH(DATOS_MAP!X41,referentes!$AI:$AI,0),1))","v":""},"",{"$f":"IF(AF41=\"\",\"\", INDEX(referentes!D:E,MATCH(DATOS_MAP!AF41,referentes!$E:$E,0),1))","v":""},{"$f":"IF(AI41=\"\",\"\", INDEX(referentes!A:B,MATCH(DATOS_MAP!AI41,referentes!$B:$B,0),1))","v":""},{"$f":"IF(AJ41=\"\",\"\", INDEX(referentes!G:H,MATCH(DATOS_MAP!AJ41,referentes!$H:$H,0),1))","v":""},{"$f":"IF(AK41=\"\",\"\", INDEX(referentes!$V$2:$W$10,MATCH(DATOS_MAP!AK41,referentes!$W$2:$W$10,0),1))","v":""},{"$f":"IF(AL41=\"\",\"\", INDEX(referentes!$AB:$AC,MATCH(DATOS_MAP!AL41,referentes!$AC:$AC,0),1))","v":""},{"$f":"IF(AP41=\"\",\"\", INDEX(referentes!$Y$2:$Z$10,MATCH(DATOS_MAP!AP41,referentes!$Z$2:$Z$10,0),1))","v":""},{"$f":"IF(AN41=\"\",\"\", INDEX(referentes!$AE$2:$AF$10,MATCH(DATOS_MAP!AN41,referentes!$AF$2:$AF$10,0),1))","v":""},{"$f":"IF(AQ41=\"\",\"\", INDEX(referentes!J:K,MATCH(DATOS_MAP!AQ41,referentes!$K:$K,0),1))","v":""},null,{"$f":"IF(AY41=\"\",\"\", INDEX('otras referencias'!O:P,MATCH(AY41,'otras referencias'!$O:$O,0),2))","v":""},null,null,null,null,null,{"$f":"IF(X41<>\"\",INDEX(referentes!$AH:$AL,MATCH(DATOS_MAP!X41,referentes!$AI:$AI,0),5),\"\")","v":""}]
[null,null,null,"",{"$f":"IF(J42=\"\",\"\",CONCATENATE(AD42,DIGITADOR!$B$2,DIGITADOR!$M$1,J42))","v":""},{"$f":"IF(J42=\"\",\"\",CONCATENATE(DIGITADOR!$B$2,AD42,DIGITADOR!$M$1,J42,ROW()))","v":""},null,null,null,{"$f":"IF(X42=\"\",\"\", INDEX(referentes!$AH:$AL,MATCH(DATOS_MAP!X42,referentes!$AI:$AI,0),1))","v":""},"",{"$f":"IF(AF42=\"\",\"\", INDEX(referentes!D:E,MATCH(DATOS_MAP!AF42,referentes!$E:$E,0),1))","v":""},{"$f":"IF(AI42=\"\",\"\", INDEX(referentes!A:B,MATCH(DATOS_MAP!AI42,referentes!$B:$B,0),1))","v":""},{"$f":"IF(AJ42=\"\",\"\", INDEX(referentes!G:H,MATCH(DATOS_MAP!AJ42,referentes!$H:$H,0),1))","v":""},{"$f":"IF(AK42=\"\",\"\", INDEX(referentes!$V$2:$W$10,MATCH(DATOS_MAP!AK42,referentes!$W$2:$W$10,0),1))","v":""},{"$f":"IF(AL42=\"\",\"\", INDEX(referentes!$AB:$AC,MATCH(DATOS_MAP!AL42,referentes!$AC:$AC,0),1))","v":""},{"$f":"IF(AP42=\"\",\"\", INDEX(referentes!$Y$2:$Z$10,MATCH(DATOS_MAP!AP42,referentes!$Z$2:$Z$10,0),1))","v":""},{"$f":"IF(AN42=\"\",\"\", INDEX(referentes!$AE$2:$AF$10,MATCH(DATOS_MAP!AN42,referentes!$AF$2:$AF$10,0),1))","v":""},{"$f":"IF(AQ42=\"\",\"\", INDEX(referentes!J:K,MATCH(DATOS_MAP!AQ42,referentes!$K:$K,0),1))","v":""},null,{"$f":"IF(AY42=\"\",\"\", INDEX('otras referencias'!O:P,MATCH(AY42,'otras referencias'!$O:$O,0),2))","v":""},null,null,null,null,null,{"$f":"IF(X42<>\"\",INDEX(referentes!$AH:$AL,MATCH(DATOS_MAP!X42,referentes!$AI:$AI,0),5),\"\")","v":""}]
[null,null,null,"",{"$f":"IF(J43=\"\",\"\",CONCATENATE(AD43,DIGITADOR!$B$2,DIGITADOR!$M$1,J43))","v":""},{"$f":"IF(J43=\"\",\"\",CONCATENATE(DIGITADOR!$B$2,AD43,DIGITADOR!$M$1,J43,ROW()))","v":""},null,null,null,{"$f":"IF(X43=\"\",\"\", INDEX(referentes!$AH:$AL,MATCH(DATOS_MAP!X43,referentes!$AI:$AI,0),1))","v":""},"",{"$f":"IF(AF43=\"\",\"\", INDEX(referentes!D:E,MATCH(DATOS_MAP!AF43,referentes!$E:$E,0),1))","v":""},{"$f":"IF(AI43=\"\",\"\", INDEX(referentes!A:B,MATCH(DATOS_MAP!AI43,referentes!$B:$B,0),1))","v":""},{"$f":"IF(AJ43=\"\",\"\", INDEX(referentes!G:H,MATCH(DATOS_MAP!AJ43,referentes!$H:$H,0),1))","v":""},{"$f":"IF(AK43=\"\",\"\", INDEX(referentes!$V$2:$W$10,MATCH(DATOS_MAP!AK43,referentes!$W$2:$W$10,0),1))","v":""},{"$f":"IF(AL43=\"\",\"\", INDEX(referentes!$AB:$AC,MATCH(DATOS_MAP!AL43,referentes!$AC:$AC,0),1))","v":""},{"$f":"IF(AP43=\"\",\"\", INDEX(referentes!$Y$2:$Z$10,MATCH(DATOS_MAP!AP43,referentes!$Z$2:$Z$10,0),1))","v":""},{"$f":"IF(AN43=\"\",\"\", INDEX(referentes!$AE$2:$AF$10,MATCH(DATOS_MAP!AN43,referentes!$AF$2:$AF$10,0),1))","v":""},{"$f":"IF(AQ43=\"\",\"\", INDEX(referentes!J:K,MATCH(DATOS_MAP!AQ43,referentes!$K:$K,0),1))","v":""},null,{"$f":"IF(AY43=\"\",\"\", INDEX('otras referencias'!O:P,MATCH(AY43,'otras referencias'!$O:$O,0),2))","v":""},null,null,null,null,null,{"$f":"IF(X43<>\"\",INDEX(referentes!$AH:$AL,MATCH(DATOS_MAP!X43,referentes!$AI:$AI,0),5),\"\")","v":""}]
[null,null,null,"",{"$f":"IF(J44=\"\",\"\",CONCATENATE(AD44,DIGITADOR!$B$2,DIGITADOR!$M$1,J44))","v":""},{"$f":"IF(J44=\"\",\"\",CONCATENATE(DIGITADOR!$B$2,AD44,DIGITADOR!$M$1,J44,ROW()))","v":""},null,null,null,{"$f":"IF(X44=\"\",\"\", INDEX(referentes!$AH:$AL,MATCH(DATOS_MAP!X44,referentes!$AI:$AI,0),1))","v":""},"",{"$f":"IF(AF44=\"\",\"\", INDEX(referentes!D:E,MATCH(DATOS_MAP!AF44,referentes!$E:$E,0),1))","v":""},{"$f":"IF(AI44=\"\",\"\", INDEX(referentes!A:B,MATCH(DATOS_MAP!AI44,referentes!$B:$B,0),1))","v":""},{"$f":"IF(AJ44=\"\",\"\", INDEX(referentes!G:H,MATCH(DATOS_MAP!AJ44,referentes!$H:$H,0),1))","v":""},{"$f":"IF(AK44=\"\",\"\", INDEX(referentes!$V$2:$W$10,MATCH(DATOS_MAP!AK44,referentes!$W$2:$W$10,0),1))","v":""},{"$f":"IF(AL44=\"\",\"\", INDEX(referentes!$AB:$AC,MATCH(DATOS_MAP!AL44,referentes!$AC:$AC,0),1))","v":""},{"$f":"IF(AP44=\"\",\"\", INDEX(referentes!$Y$2:$Z$10,MATCH(DATOS_MAP!AP44,referentes!$Z$2:$Z$10,0),1))","v":""},{"$f":"IF(AN44=\"\",\"\", INDEX(referentes!$AE$2:$AF$10,MATCH(DATOS_MAP!AN44,referentes!$AF$2:$AF$10,0),1))","v":""},{"$f":"IF(AQ44=\"\",\"\", INDEX(referentes!J:K,MATCH(DATOS_MAP!AQ44,referentes!$K:$K,0),1))","v":""},null,{"$f":"IF(AY44=\"\",\"\", INDEX('otras referencias'!O:P,MATCH(AY44,'otras referencias'!$O:$O,0),2))","v":""},null,null,null,null,null,{"$f":"IF(X44<>\"\",INDEX(referentes!$AH:$AL,MATCH(DATOS_MAP!X44,referentes!$AI:$AI,0),5),\"\")","v":""}]
[null,null,null,"",{"$f":"IF(J45=\"\",\"\",CONCATENATE(AD45,DIGITADOR!$B$2,DIGITADOR!$M$1,J45))","v":""},{"$f":"IF(J45=\"\",\"\",CONCATENATE(DIGITADOR!$B$2,AD45,DIGITADOR!$M$1,J45,ROW()))","v":""},null,null,null,{"$f":"IF(X45=\"\",\"\", INDEX(referentes!$AH:$AL,MATCH(DATOS_MAP!X45,referentes!$AI:$AI,0),1))","v":""},"",{"$f":"IF(AF45=\"\",\"\", INDEX(referentes!D:E,MATCH(DATOS_MAP!AF45,referentes!$E:$E,0),1))","v":""},{"$f":"IF(AI45=\"\",\"\", INDEX(referentes!A:B,MATCH(DATOS_MAP!AI45,referentes!$B:$B,0),1))","v":""},{"$f":"IF(AJ45=\"\",\"\", INDEX(referentes!G:H,MATCH(DATOS_MAP!AJ45,referentes!$H:$H,0),1))","v":""},{"$f":"IF(AK45=\"\",\"\", INDEX(referentes!$V$2:$W$10,MATCH(DATOS_MAP!AK45,referentes!$W$2:$W$10,0),1))","v":""},{"$f":"IF(AL45=\"\",\"\", INDEX(referentes!$AB:$AC,MATCH(DATOS_MAP!AL45,referentes!$AC:$AC,0),1))","v":""},{"$f":"IF(AP45=\"\",\"\", INDEX(referentes!$Y$2:$Z$10,MATCH(DATOS_MAP!AP45,referentes!$Z$2:$Z$10,0),1))","v":""},{"$f":"IF(AN45=\"\",\"\", INDEX(referentes!$AE$2:$AF$10,MATCH(DATOS_MAP!AN45,referentes!$AF$2:$AF$10,0),1))","v":""},{"$f":"IF(AQ45=\"\",\"\", INDEX(referentes!J:K,MATCH(DATOS_MAP!AQ45,referentes!$K:$K,0),1))","v":""},null,{"$f":"IF(AY45=\"\",\"\", INDEX('otras referencias'!O:P,MATCH(AY45,'otras referencias'!$O:$O,0),2))","v":""},null,null,null,null,null,{"$f":"IF(X45<>\"\",INDEX(referentes!$AH:$AL,MATCH(DATOS_MAP!X45,referentes!$AI:$AI,0),5),\"\")","v":""}]
[null,null,null,"",{"$f":"IF(J46=\"\",\"\",CONCATENATE(AD46,DIGITADOR!$B$2,DIGITADOR!$M$1,J46))","v":""},{"$f":"IF(J46=\"\",\"\",CONCATENATE(DIGITADOR!$B$2,AD46,DIGITADOR!$M$1,J46,ROW()))","v":""},null,null,null,{"$f":"IF(X46=\"\",\"\", INDEX(referentes!$AH:$AL,MATCH(DATOS_MAP!X46,referentes!$AI:$AI,0),1))","v":""},"",{"$f":"IF(AF46=\"\",\"\", INDEX(referentes!D:E,MATCH(DATOS_MAP!AF46,referentes!$E:$E,0),1))","v":""},{"$f":"IF(AI46=\"\",\"\", INDEX(referentes!A:B,MATCH(DATOS_MAP!AI46,referentes!$B:$B,0),1))","v":""},{"$f":"IF(AJ46=\"\",\"\", INDEX(referentes!G:H,MATCH(DATOS_MAP!AJ46,referentes!$H:$H,0),1))","v":""},{"$f":"IF(AK46=\"\",\"\", INDEX(referentes!$V$2:$W$10,MATCH(DATOS_MAP!AK46,referentes!$W$2:$W$10,0),1))","v":""},{"$f":"IF(AL46=\"\",\"\", INDEX(referentes!$AB:$AC,MATCH(DATOS_MAP!AL46,referentes!$AC:$AC,0),1))","v":""},{"$f":"IF(AP46=\"\",\"\", INDEX(referentes!$Y$2:$Z$10,MATCH(DATOS_MAP!AP46,referentes!$Z$2:$Z$10,0),1))","v":""},{"$f":"IF(AN46=\"\",\"\", INDEX(referentes!$AE$2:$AF$10,MATCH(DATOS_MAP!AN46,referentes!$AF$2:$AF$10,0),1))","v":""},{"$f":"IF(AQ46=\"\",\"\", INDEX(referentes!J:K,MATCH(DATOS_MAP!AQ46,referentes!$K:$K,0),1))","v":""},null,{"$f":"IF(AY46=\"\",\"\", INDEX('otras referencias'!O:P,MATCH(AY46,'otras referencias'!$O:$O,0),2))","v":""},null,null,null,null,null,{"$f":"IF(X46<>\"\",INDEX(referentes!$AH:$AL,MATCH(DATOS_MAP!X46,referentes!$AI:$AI,0),5),\"\")","v":""}]
[null,null,null,"",{"$f":"IF(J47=\"\",\"\",CONCATENATE(AD47,DIGITADOR!$B$2,DIGITADOR!$M$1,J47))","v":""},{"$f":"IF(J47=\"\",\"\",CONCATENATE(DIGITADOR!$B$2,AD47,DIGITADOR!$M$1,J47,ROW()))","v":""},null,null,null,{"$f":"IF(X47=\"\",\"\", INDEX(referentes!$AH:$AL,MATCH(DATOS_MAP!X47,referentes!$AI:$AI,0),1))","v":""},"",{"$f":"IF(AF47=\"\",\"\", INDEX(referentes!D:E,MATCH(DATOS_MAP!AF47,referentes!$E:$E,0),1))","v":""},{"$f":"IF(AI47=\"\",\"\", INDEX(referentes!A:B,MATCH(DATOS_MAP!AI47,referentes!$B:$B,0),1))","v":""},{"$f":"IF(AJ47=\"\",\"\", INDEX(referentes!G:H,MATCH(DATOS_MAP!AJ47,referentes!$H:$H,0),1))","v":""},{"$f":"IF(AK47=\"\",\"\", INDEX(referentes!$V$2:$W$10,MATCH(DATOS_MAP!AK47,referentes!$W$2:$W$10,0),1))","v":""},{"$f":"IF(AL47=\"\",\"\", INDEX(referentes!$AB:$AC,MATCH(DATOS_MAP!AL47,referentes!$AC:$AC,0),1))","v":""},{"$f":"IF(AP47=\"\",\"\", INDEX(referentes!$Y$2:$Z$10,MATCH(DATOS_MAP!AP47,referentes!$Z$2:$Z$10,0),1))","v":""},{"$f":"IF(AN47=\"\",\"\", INDEX(referentes!$AE$2:$AF$10,MATCH(DATOS_MAP!AN47,referentes!$AF$2:$AF$10,0),1))","v":""},{"$f":"IF(AQ47=\"\",\"\", INDEX(referentes!J:K,MATCH(DATOS_MAP!AQ47,referentes!$K:$K,0),1))","v":""},null,{"$f":"IF(AY47=\"\",\"\", INDEX('otras referencias'!O:P,MATCH(AY47,'otras referencias'!$O:$O,0),2))","v":""},null,null,null,null,null,{"$f":"IF(X47<>\"\",INDEX(referentes!$AH:$AL,MATCH(DATOS_MAP!X47,referentes!$AI:$AI,0),5),\"\")","v":""}]
[null,null,null,"",{"$f":"IF(J48=\"\",\"\",CONCATENATE(AD48,DIGITADOR!$B$2,DIGITADOR!$M$1,J48))","v":""},{"$f":"IF(J48=\"\",\"\",CONCATENATE(DIGITADOR!$B$2,AD48,DIGITADOR!$M$1,J48,ROW()))","v":""},null,null,null,{"$f":"IF(X48=\"\",\"\", INDEX(referentes!$AH:$AL,MATCH(DATOS_MAP!X48,referentes!$AI:$AI,0),1))","v":""},"",{"$f":"IF(AF48=\"\",\"\", INDEX(referentes!D:E,MATCH(DATOS_MAP!AF48,referentes!$E:$E,0),1))","v":""},{"$f":"IF(AI48=\"\",\"\", INDEX(referentes!A:B,MATCH(DATOS_MAP!AI48,referentes!$B:$B,0),1))","v":""},{"$f":"IF(AJ48=\"\",\"\", INDEX(referentes!G:H,MATCH(DATOS_MAP!AJ48,referentes!$H:$H,0),1))","v":""},{"$f":"IF(AK48=\"\",\"\", INDEX(referentes!$V$2:$W$10,MATCH(DATOS_MAP!AK48,referentes!$W$2:$W$10,0),1))","v":""},{"$f":"IF(AL48=\"\",\"\", INDEX(referentes!$AB:$AC,MATCH(DATOS_MAP!AL48,referentes!$AC:$AC,0),1))","v":""},{"$f":"IF(AP48=\"\",\"\", INDEX(referentes!$Y$2:$Z$10,MATCH(DATOS_MAP!AP48,referentes!$Z$2:$Z$10,0),1))","v":""},{"$f":"IF(AN48=\"\",\"\", INDEX(referentes!$AE$2:$AF$10,MATCH(DATOS_MAP!AN48,referentes!$AF$2:$AF$10,0),1))","v":""},{"$f":"IF(AQ48=\"\",\"\", INDEX(referentes!J:K,MATCH(DATOS_MAP!AQ48,referentes!$K:$K,0),1))","v":""},null,{"$f":"IF(AY48=\"\",\"\", INDEX('otras referencias'!O:P,MATCH(AY48,'otras referencias'!$O:$O,0),2))","v":""},null,null,null,null,null,{"$f":"IF(X48<>\"\",INDEX(referentes!$AH:$AL,MATCH(DATOS_MAP!X48,referentes!$AI:$AI,0),5),\"\")","v":""}]
[null,null,null,"",{"$f":"IF(J49=\"\",\"\",CONCATENATE(AD49,DIGITADOR!$B$2,DIGITADOR!$M$1,J49))","v":""},{"$f":"IF(J49=\"\",\"\",CONCATENATE(DIGITADOR!$B$2,AD49,DIGITADOR!$M$1,J49,ROW()))","v":""},null,null,null,{"$f":"IF(X49=\"\",\"\", INDEX(referentes!$AH:$AL,MATCH(DATOS_MAP!X49,referentes!$AI:$AI,0),1))","v":""},"",{"$f":"IF(AF49=\"\",\"\", INDEX(referentes!D:E,MATCH(DATOS_MAP!AF49,referentes!$E:$E,0),1))","v":""},{"$f":"IF(AI49=\"\",\"\", INDEX(referentes!A:B,MATCH(DATOS_MAP!AI49,referentes!$B:$B,0),1))","v":""},{"$f":"IF(AJ49=\"\",\"\", INDEX(referentes!G:H,MATCH(DATOS_MAP!AJ49,referentes!$H:$H,0),1))","v":""},{"$f":"IF(AK49=\"\",\"\", INDEX(referentes!$V$2:$W$10,MATCH(DATOS_MAP!AK49,referentes!$W$2:$W$10,0),1))","v":""},{"$f":"IF(AL49=\"\",\"\", INDEX(referentes!$AB:$AC,MATCH(DATOS_MAP!AL49,referentes!$AC:$AC,0),1))","v":""},{"$f":"IF(AP49=\"\",\"\", INDEX(referentes!$Y$2:$Z$10,MATCH(DATOS_MAP!AP49,referentes!$Z$2:$Z$10,0),1))","v":""},{"$f":"IF(AN49=\"\",\"\", INDEX(referentes!$AE$2:$AF$10,MATCH(DATOS_MAP!AN49,referentes!$AF$2:$AF$10,0),1))","v":""},{"$f":"IF(AQ49=\"\",\"\", INDEX(referentes!J:K,MATCH(DATOS_MAP!AQ49,referentes!$K:$K,0),1))","v":""},null,{"$f":"IF(AY49=\"\",\"\", INDEX('otras referencias'!O:P,MATCH(AY49,'otras referencias'!$O:$O,0),2))","v":""},null,null,null,null,null,{"$f":"IF(X49<>\"\",INDEX(referentes!$AH:$AL,MATCH(DATOS_MAP!X49,referentes!$AI:$AI,0),5),\"\")","v":""}]
[null,null,null,"",{"$f":"IF(J50=\"\",\"\",CONCATENATE(AD50,DIGITADOR!$B$2,DIGITADOR!$M$1,J50))","v":""},{"$f":"IF(J50=\"\",\"\",CONCATENATE(DIGITADOR!$B$2,AD50,DIGITADOR!$M$1,J50,ROW()))","v":""},null,null,null,{"$f":"IF(X50=\"\",\"\", INDEX(referentes!$AH:$AL,MATCH(DATOS_MAP!X50,referentes!$AI:$AI,0),1))","v":""},"",{"$f":"IF(AF50=\"\",\"\", INDEX(referentes!D:E,MATCH(DATOS_MAP!AF50,referentes!$E:$E,0),1))","v":""},{"$f":"IF(AI50=\"\",\"\", INDEX(referentes!A:B,MATCH(DATOS_MAP!AI50,referentes!$B:$B,0),1))","v":""},{"$f":"IF(AJ50=\"\",\"\", INDEX(referentes!G:H,MATCH(DATOS_MAP!AJ50,referentes!$H:$H,0),1))","v":""},{"$f":"IF(AK50=\"\",\"\", INDEX(referentes!$V$2:$W$10,MATCH(DATOS_MAP!AK50,referentes!$W$2:$W$10,0),1))","v":""},{"$f":"IF(AL50=\"\",\"\", INDEX(referentes!$AB:$AC,MATCH(DATOS_MAP!AL50,referentes!$AC:$AC,0),1))","v":""},{"$f":"IF(AP50=\"\",\"\", INDEX(referentes!$Y$2:$Z$10,MATCH(DATOS_MAP!AP50,referentes!$Z$2:$Z$10,0),1))","v":""},{"$f":"IF(AN50=\"\",\"\", INDEX(referentes!$AE$2:$AF$10,MATCH(DATOS_MAP!AN50,referentes!$AF$2:$AF$10,0),1))","v":""},{"$f":"IF(AQ50=\"\",\"\", INDEX(referentes!J:K,MATCH(DATOS_MAP!AQ50,referentes!$K:$K,0),1))","v":""},null,{"$f":"IF(AY50=\"\",\"\", INDEX('otras referencias'!O:P,MATCH(AY50,'otras referencias'!$O:$O,0),2))","v":""},null,null,null,null,null,{"$f":"IF(X50<>\"\",INDEX(referentes!$AH:$AL,MATCH(DATOS_MAP!X50,referentes!$AI:$AI,0),5),\"\")","v":""}]
[null,null,null,"",{"$f":"IF(J51=\"\",\"\",CONCATENATE(AD51,DIGITADOR!$B$2,DIGITADOR!$M$1,J51))","v":""},{"$f":"IF(J51=\"\",\"\",CONCATENATE(DIGITADOR!$B$2,AD51,DIGITADOR!$M$1,J51,ROW()))","v":""},null,null,null,{"$f":"IF(X51=\"\",\"\", INDEX(referentes!$AH:$AL,MATCH(DATOS_MAP!X51,referentes!$AI:$AI,0),1))","v":""},"",{"$f":"IF(AF51=\"\",\"\", INDEX(referentes!D:E,MATCH(DATOS_MAP!AF51,referentes!$E:$E,0),1))","v":""},{"$f":"IF(AI51=\"\",\"\", INDEX(referentes!A:B,MATCH(DATOS_MAP!AI51,referentes!$B:$B,0),1))","v":""},{"$f":"IF(AJ51=\"\",\"\", INDEX(referentes!G:H,MATCH(DATOS_MAP!AJ51,referentes!$H:$H,0),1))","v":""},{"$f":"IF(AK51=\"\",\"\", INDEX(referentes!$V$2:$W$10,MATCH(DATOS_MAP!AK51,referentes!$W$2:$W$10,0),1))","v":""},{"$f":"IF(AL51=\"\",\"\", INDEX(referentes!$AB:$AC,MATCH(DATOS_MAP!AL51,referentes!$AC:$AC,0),1))","v":""},{"$f":"IF(AP51=\"\",\"\", INDEX(referentes!$Y$2:$Z$10,MATCH(DATOS_MAP!AP51,referentes!$Z$2:$Z$10,0),1))","v":""},{"$f":"IF(AN51=\"\",\"\", INDEX(referentes!$AE$2:$AF$10,MATCH(DATOS_MAP!AN51,referentes!$AF$2:$AF$10,0),1))","v":""},{"$f":"IF(AQ51=\"\",\"\", INDEX(referentes!J:K,MATCH(DATOS_MAP!AQ51,referentes!$K:$K,0),1))","v":""},null,{"$f":"IF(AY51=\"\",\"\", INDEX('otras referencias'!O:P,MATCH(AY51,'otras referencias'!$O:$O,0),2))","v":""},null,null,null,null,null,{"$f":"IF(X51<>\"\",INDEX(referentes!$AH:$AL,MATCH(DATOS_MAP!X51,referentes!$AI:$AI,0),5),\"\")","v":""}]
[null,null,null,"",{"$f":"IF(J52=\"\",\"\",CONCATENATE(AD52,DIGITADOR!$B$2,DIGITADOR!$M$1,J52))","v":""},{"$f":"IF(J52=\"\",\"\",CONCATENATE(DIGITADOR!$B$2,AD52,DIGITADOR!$M$1,J52,ROW()))","v":""},null,null,null,{"$f":"IF(X52=\"\",\"\", INDEX(referentes!$AH:$AL,MATCH(DATOS_MAP!X52,referentes!$AI:$AI,0),1))","v":""},"",{"$f":"IF(AF52=\"\",\"\", INDEX(referentes!D:E,MATCH(DATOS_MAP!AF52,referentes!$E:$E,0),1))","v":""},{"$f":"IF(AI52=\"\",\"\", INDEX(referentes!A:B,MATCH(DATOS_MAP!AI52,referentes!$B:$B,0),1))","v":""},{"$f":"IF(AJ52=\"\",\"\", INDEX(referentes!G:H,MATCH(DATOS_MAP!AJ52,referentes!$H:$H,0),1))","v":""},{"$f":"IF(AK52=\"\",\"\", INDEX(referentes!$V$2:$W$10,MATCH(DATOS_MAP!AK52,referentes!$W$2:$W$10,0),1))","v":""},{"$f":"IF(AL52=\"\",\"\", INDEX(referentes!$AB:$AC,MATCH(DATOS_MAP!AL52,referentes!$AC:$AC,0),1))","v":""},{"$f":"IF(AP52=\"\",\"\", INDEX(referentes!$Y$2:$Z$10,MATCH(DATOS_MAP!AP52,referentes!$Z$2:$Z$10,0),1))","v":""},{"$f":"IF(AN52=\"\",\"\", INDEX(referentes!$AE$2:$AF$10,MATCH(DATOS_MAP!AN52,referentes!$AF$2:$AF$10,0),1))","v":""},{"$f":"IF(AQ52=\"\",\"\", INDEX(referentes!J:K,MATCH(DATOS_MAP!AQ52,referentes!$K:$K,0),1))","v":""},null,{"$f":"IF(AY52=\"\",\"\", INDEX('otras referencias'!O:P,MATCH(AY52,'otras referencias'!$O:$O,0),2))","v":""},null,null,null,null,null,{"$f":"IF(X52<>\"\",INDEX(referentes!$AH:$AL,MATCH(DATOS_MAP!X52,referentes!$AI:$AI,0),5),\"\")","v":""}]
[null,null,null,"",{"$f":"IF(J53=\"\",\"\",CONCATENATE(AD53,DIGITADOR!$B$2,DIGITADOR!$M$1,J53))","v":""},{"$f":"IF(J53=\"\",\"\",CONCATENATE(DIGITADOR!$B$2,AD53,DIGITADOR!$M$1,J53,ROW()))","v":""},null,null,null,{"$f":"IF(X53=\"\",\"\", INDEX(referentes!$AH:$AL,MATCH(DATOS_MAP!X53,referentes!$AI:$AI,0),1))","v":""},"",{"$f":"IF(AF53=\"\",\"\", INDEX(referentes!D:E,MATCH(DATOS_MAP!AF53,referentes!$E:$E,0),1))","v":""},{"$f":"IF(AI53=\"\",\"\", INDEX(referentes!A:B,MATCH(DATOS_MAP!AI53,referentes!$B:$B,0),1))","v":""},{"$f":"IF(AJ53=\"\",\"\", INDEX(referentes!G:H,MATCH(DATOS_MAP!AJ53,referentes!$H:$H,0),1))","v":""},{"$f":"IF(AK53=\"\",\"\", INDEX(referentes!$V$2:$W$10,MATCH(DATOS_MAP!AK53,referentes!$W$2:$W$10,0),1))","v":""},{"$f":"IF(AL53=\"\",\"\", INDEX(referentes!$AB:$AC,MATCH(DATOS_MAP!AL53,referentes!$AC:$AC,0),1))","v":""},{"$f":"IF(AP53=\"\",\"\", INDEX(referentes!$Y$2:$Z$10,MATCH(DATOS_MAP!AP53,referentes!$Z$2:$Z$10,0),1))","v":""},{"$f":"IF(AN53=\"\",\"\", INDEX(referentes!$AE$2:$AF$10,MATCH(DATOS_MAP!AN53,referentes!$AF$2:$AF$10,0),1))","v":""},{"$f":"IF(AQ53=\"\",\"\", INDEX(referentes!J:K,MATCH(DATOS_MAP!AQ53,referentes!$K:$K,0),1))","v":""},null,{"$f":"IF(AY53=\"\",\"\", INDEX('otras referencias'!O:P,MATCH(AY53,'otras referencias'!$O:$O,0),2))","v":""},null,null,null,null,null,{"$f":"IF(X53<>\"\",INDEX(referentes!$AH:$AL,MATCH(DATOS_MAP!X53,referentes!$AI:$AI,0),5),\"\")","v":""}]
[null,null,null,"",{"$f":"IF(J54=\"\",\"\",CONCATENATE(AD54,DIGITADOR!$B$2,DIGITADOR!$M$1,J54))","v":""},{"$f":"IF(J54=\"\",\"\",CONCATENATE(DIGITADOR!$B$2,AD54,DIGITADOR!$M$1,J54,ROW()))","v":""},null,null,null,{"$f":"IF(X54=\"\",\"\", INDEX(referentes!$AH:$AL,MATCH(DATOS_MAP!X54,referentes!$AI:$AI,0),1))","v":""},"",{"$f":"IF(AF54=\"\",\"\", INDEX(referentes!D:E,MATCH(DATOS_MAP!AF54,referentes!$E:$E,0),1))","v":""},{"$f":"IF(AI54=\"\",\"\", INDEX(referentes!A:B,MATCH(DATOS_MAP!AI54,referentes!$B:$B,0),1))","v":""},{"$f":"IF(AJ54=\"\",\"\", INDEX(referentes!G:H,MATCH(DATOS_MAP!AJ54,referentes!$H:$H,0),1))","v":""},{"$f":"IF(AK54=\"\",\"\", INDEX(referentes!$V$2:$W$10,MATCH(DATOS_MAP!AK54,referentes!$W$2:$W$10,0),1))","v":""},{"$f":"IF(AL54=\"\",\"\", INDEX(referentes!$AB:$AC,MATCH(DATOS_MAP!AL54,referentes!$AC:$AC,0),1))","v":""},{"$f":"IF(AP54=\"\",\"\", INDEX(referentes!$Y$2:$Z$10,MATCH(DATOS_MAP!AP54,referentes!$Z$2:$Z$10,0),1))","v":""},{"$f":"IF(AN54=\"\",\"\", INDEX(referentes!$AE$2:$AF$10,MATCH(DATOS_MAP!AN54,referentes!$AF$2:$AF$10,0),1))","v":""},{"$f":"IF(AQ54=\"\",\"\", INDEX(referentes!J:K,MATCH(DATOS_MAP!AQ54,referentes!$K:$K,0),1))","v":""},null,{"$f":"IF(AY54=\"\",\"\", INDEX('otras referencias'!O:P,MATCH(AY54,'otras referencias'!$O:$O,0),2))","v":""},null,null,null,null,null,{"$f":"IF(X54<>\"\",INDEX(referentes!$AH:$AL,MATCH(DATOS_MAP!X54,referentes!$AI:$AI,0),5),\"\")","v":""}]
[null,null,null,"",{"$f":"IF(J55=\"\",\"\",CONCATENATE(AD55,DIGITADOR!$B$2,DIGITADOR!$M$1,J55))","v":""},{"$f":"IF(J55=\"\",\"\",CONCATENATE(DIGITADOR!$B$2,AD55,DIGITADOR!$M$1,J55,ROW()))","v":""},null,null,null,{"$f":"IF(X55=\"\",\"\", INDEX(referentes!$AH:$AL,MATCH(DATOS_MAP!X55,referentes!$AI:$AI,0),1))","v":""},"",{"$f":"IF(AF55=\"\",\"\", INDEX(referentes!D:E,MATCH(DATOS_MAP!AF55,referentes!$E:$E,0),1))","v":""},{"$f":"IF(AI55=\"\",\"\", INDEX(referentes!A:B,MATCH(DATOS_MAP!AI55,referentes!$B:$B,0),1))","v":""},{"$f":"IF(AJ55=\"\",\"\", INDEX(referentes!G:H,MATCH(DATOS_MAP!AJ55,referentes!$H:$H,0),1))","v":""},{"$f":"IF(AK55=\"\",\"\", INDEX(referentes!$V$2:$W$10,MATCH(DATOS_MAP!AK55,referentes!$W$2:$W$10,0),1))","v":""},{"$f":"IF(AL55=\"\",\"\", INDEX(referentes!$AB:$AC,MATCH(DATOS_MAP!AL55,referentes!$AC:$AC,0),1))","v":""},{"$f":"IF(AP55=\"\",\"\", INDEX(referentes!$Y$2:$Z$10,MATCH(DATOS_MAP!AP55,referentes!$Z$2:$Z$10,0),1))","v":""},{"$f":"IF(AN55=\"\",\"\", INDEX(referentes!$AE$2:$AF$10,MATCH(DATOS_MAP!AN55,referentes!$AF$2:$AF$10,0),1))","v":""},{"$f":"IF(AQ55=\"\",\"\", INDEX(referentes!J:K,MATCH(DATOS_MAP!AQ55,referentes!$K:$K,0),1))","v":""},null,{"$f":"IF(AY55=\"\",\"\", INDEX('otras referencias'!O:P,MATCH(AY55,'otras referencias'!$O:$O,0),2))","v":""},null,null,null,null,null,{"$f":"IF(X55<>\"\",INDEX(referentes!$AH:$AL,MATCH(DATOS_MAP!X55,referentes!$AI:$AI,0),5),\"\")","v":""}]
[null,null,null,"",{"$f":"IF(J56=\"\",\"\",CONCATENATE(AD56,DIGITADOR!$B$2,DIGITADOR!$M$1,J56))","v":""},{"$f":"IF(J56=\"\",\"\",CONCATENATE(DIGITADOR!$B$2,AD56,DIGITADOR!$M$1,J56,ROW()))","v":""},null,null,null,{"$f":"IF(X56=\"\",\"\", INDEX(referentes!$AH:$AL,MATCH(DATOS_MAP!X56,referentes!$AI:$AI,0),1))","v":""},"",{"$f":"IF(AF56=\"\",\"\", INDEX(referentes!D:E,MATCH(DATOS_MAP!AF56,referentes!$E:$E,0),1))","v":""},{"$f":"IF(AI56=\"\",\"\", INDEX(referentes!A:B,MATCH(DATOS_MAP!AI56,referentes!$B:$B,0),1))","v":""},{"$f":"IF(AJ56=\"\",\"\", INDEX(referentes!G:H,MATCH(DATOS_MAP!AJ56,referentes!$H:$H,0),1))","v":""},{"$f":"IF(AK56=\"\",\"\", INDEX(referentes!$V$2:$W$10,MATCH(DATOS_MAP!AK56,referentes!$W$2:$W$10,0),1))","v":""},{"$f":"IF(AL56=\"\",\"\", INDEX(referentes!$AB:$AC,MATCH(DATOS_MAP!AL56,referentes!$AC:$AC,0),1))","v":""},{"$f":"IF(AP56=\"\",\"\", INDEX(referentes!$Y$2:$Z$10,MATCH(DATOS_MAP!AP56,referentes!$Z$2:$Z$10,0),1))","v":""},{"$f":"IF(AN56=\"\",\"\", INDEX(referentes!$AE$2:$AF$10,MATCH(DATOS_MAP!AN56,referentes!$AF$2:$AF$10,0),1))","v":""},{"$f":"IF(AQ56=\"\",\"\", INDEX(referentes!J:K,MATCH(DATOS_MAP!AQ56,referentes!$K:$K,0),1))","v":""},null,{"$f":"IF(AY56=\"\",\"\", INDEX('otras referencias'!O:P,MATCH(AY56,'otras referencias'!$O:$O,0),2))","v":""},null,null,null,null,null,{"$f":"IF(X56<>\"\",INDEX(referentes!$AH:$AL,MATCH(DATOS_MAP!X56,referentes!$AI:$AI,0),5),\"\")","v":""}]
[null,null,null,"",{"$f":"IF(J57=\"\",\"\",CONCATENATE(AD57,DIGITADOR!$B$2,DIGITADOR!$M$1,J57))","v":""},{"$f":"IF(J57=\"\",\"\",CONCATENATE(DIGITADOR!$B$2,AD57,DIGITADOR!$M$1,J57,ROW()))","v":""},null,null,null,{"$f":"IF(X57=\"\",\"\", INDEX(referentes!$AH:$AL,MATCH(DATOS_MAP!X57,referentes!$AI:$AI,0),1))","v":""},"",{"$f":"IF(AF57=\"\",\"\", INDEX(referentes!D:E,MATCH(DATOS_MAP!AF57,referentes!$E:$E,0),1))","v":""},{"$f":"IF(AI57=\"\",\"\", INDEX(referentes!A:B,MATCH(DATOS_MAP!AI57,referentes!$B:$B,0),1))","v":""},{"$f":"IF(AJ57=\"\",\"\", INDEX(referentes!G:H,MATCH(DATOS_MAP!AJ57,referentes!$H:$H,0),1))","v":""},{"$f":"IF(AK57=\"\",\"\", INDEX(referentes!$V$2:$W$10,MATCH(DATOS_MAP!AK57,referentes!$W$2:$W$10,0),1))","v":""},{"$f":"IF(AL57=\"\",\"\", INDEX(referentes!$AB:$AC,MATCH(DATOS_MAP!AL57,referentes!$AC:$AC,0),1))","v":""},{"$f":"IF(AP57=\"\",\"\", INDEX(referentes!$Y$2:$Z$10,MATCH(DATOS_MAP!AP57,referentes!$Z$2:$Z$10,0),1))","v":""},{"$f":"IF(AN57=\"\",\"\", INDEX(referentes!$AE$2:$AF$10,MATCH(DATOS_MAP!AN57,referentes!$AF$2:$AF$10,0),1))","v":""},{"$f":"IF(AQ57=\"\",\"\", INDEX(referentes!J:K,MATCH(DATOS_MAP!AQ57,referentes!$K:$K,0),1))","v":""},null,{"$f":"IF(AY57=\"\",\"\", INDEX('otras referencias'!O:P,MATCH(AY57,'otras referencias'!$O:$O,0),2))","v":""},null,null,null,null,null,{"$f":"IF(X57<>\"\",INDEX(referentes!$AH:$AL,MATCH(DATOS_MAP!X57,referentes!$AI:$AI,0),5),\"\")","v":""}]
[null,null,null,"",{"$f":"IF(J58=\"\",\"\",CONCATENATE(AD58,DIGITADOR!$B$2,DIGITADOR!$M$1,J58))","v":""},{"$f":"IF(J58=\"\",\"\",CONCATENATE(DIGITADOR!$B$2,AD58,DIGITADOR!$M$1,J58,ROW()))","v":""},null,null,null,{"$f":"IF(X58=\"\",\"\", INDEX(referentes!$AH:$AL,MATCH(DATOS_MAP!X58,referentes!$AI:$AI,0),1))","v":""},"",{"$f":"IF(AF58=\"\",\"\", INDEX(referentes!D:E,MATCH(DATOS_MAP!AF58,referentes!$E:$E,0),1))","v":""},{"$f":"IF(AI58=\"\",\"\", INDEX(referentes!A:B,MATCH(DATOS_MAP!AI58,referentes!$B:$B,0),1))","v":""},{"$f":"IF(AJ58=\"\",\"\", INDEX(referentes!G:H,MATCH(DATOS_MAP!AJ58,referentes!$H:$H,0),1))","v":""},{"$f":"IF(AK58=\"\",\"\", INDEX(referentes!$V$2:$W$10,MATCH(DATOS_MAP!AK58,referentes!$W$2:$W$10,0),1))","v":""},{"$f":"IF(AL58=\"\",\"\", INDEX(referentes!$AB:$AC,MATCH(DATOS_MAP!AL58,referentes!$AC:$AC,0),1))","v":""},{"$f":"IF(AP58=\"\",\"\", INDEX(referentes!$Y$2:$Z$10,MATCH(DATOS_MAP!AP58,referentes!$Z$2:$Z$10,0),1))","v":""},{"$f":"IF(AN58=\"\",\"\", INDEX(referentes!$AE$2:$AF$10,MATCH(DATOS_MAP!AN58,referentes!$AF$2:$AF$10,0),1))","v":""},{"$f":"IF(AQ58=\"\",\"\", INDEX(referentes!J:K,MATCH(DATOS_MAP!AQ58,referentes!$K:$K,0),1))","v":""},null,{"$f":"IF(AY58=\"\",\"\", INDEX('otras referencias'!O:P,MATCH(AY58,'otras referencias'!$O:$O,0),2))","v":""},null,null,null,null,null,{"$f":"IF(X58<>\"\",INDEX(referentes!$AH:$AL,MATCH(DATOS_MAP!X58,referentes!$AI:$AI,0),5),\"\")","v":""}]
[null,null,null,"",{"$f":"IF(J59=\"\",\"\",CONCATENATE(AD59,DIGITADOR!$B$2,DIGITADOR!$M$1,J59))","v":""},{"$f":"IF(J59=\"\",\"\",CONCATENATE(DIGITADOR!$B$2,AD59,DIGITADOR!$M$1,J59,ROW()))","v":""},null,null,null,{"$f":"IF(X59=\"\",\"\", INDEX(referentes!$AH:$AL,MATCH(DATOS_MAP!X59,referentes!$AI:$AI,0),1))","v":""},"",{"$f":"IF(AF59=\"\",\"\", INDEX(referentes!D:E,MATCH(DATOS_MAP!AF59,referentes!$E:$E,0),1))","v":""},{"$f":"IF(AI59=\"\",\"\", INDEX(referentes!A:B,MATCH(DATOS_MAP!AI59,referentes!$B:$B,0),1))","v":""},{"$f":"IF(AJ59=\"\",\"\", INDEX(referentes!G:H,MATCH(DATOS_MAP!AJ59,referentes!$H:$H,0),1))","v":""},{"$f":"IF(AK59=\"\",\"\", INDEX(referentes!$V$2:$W$10,MATCH(DATOS_MAP!AK59,referentes!$W$2:$W$10,0),1))","v":""},{"$f":"IF(AL59=\"\",\"\", INDEX(referentes!$AB:$AC,MATCH(DATOS_MAP!AL59,referentes!$AC:$AC,0),1))","v":""},{"$f":"IF(AP59=\"\",\"\", INDEX(referentes!$Y$2:$Z$10,MATCH(DATOS_MAP!AP59,referentes!$Z$2:$Z$10,0),1))","v":""},{"$f":"IF(AN59=\"\",\"\", INDEX(referentes!$AE$2:$AF$10,MATCH(DATOS_MAP!AN59,referentes!$AF$2:$AF$10,0),1))","v":""},{"$f":"IF(AQ59=\"\",\"\", INDEX(referentes!J:K,MATCH(DATOS_MAP!AQ59,referentes!$K:$K,0),1))","v":""},null,{"$f":"IF(AY59=\"\",\"\", INDEX('otras referencias'!O:P,MATCH(AY59,'otras referencias'!$O:$O,0),2))","v":""},null,null,null,null,null,{"$f":"IF(X59<>\"\",INDEX(referentes!$AH:$AL,MATCH(DATOS_MAP!X59,referentes!$AI:$AI,0),5),\"\")","v":""}]
[null,null,null,"",{"$f":"IF(J60=\"\",\"\",CONCATENATE(AD60,DIGITADOR!$B$2,DIGITADOR!$M$1,J60))","v":""},{"$f":"IF(J60=\"\",\"\",CONCATENATE(DIGITADOR!$B$2,AD60,DIGITADOR!$M$1,J60,ROW()))","v":""},null,null,null,{"$f":"IF(X60=\"\",\"\", INDEX(referentes!$AH:$AL,MATCH(DATOS_MAP!X60,referentes!$AI:$AI,0),1))","v":""},"",{"$f":"IF(AF60=\"\",\"\", INDEX(referentes!D:E,MATCH(DATOS_MAP!AF60,referentes!$E:$E,0),1))","v":""},{"$f":"IF(AI60=\"\",\"\", INDEX(referentes!A:B,MATCH(DATOS_MAP!AI60,referentes!$B:$B,0),1))","v":""},{"$f":"IF(AJ60=\"\",\"\", INDEX(referentes!G:H,MATCH(DATOS_MAP!AJ60,referentes!$H:$H,0),1))","v":""},{"$f":"IF(AK60=\"\",\"\", INDEX(referentes!$V$2:$W$10,MATCH(DATOS_MAP!AK60,referentes!$W$2:$W$10,0),1))","v":""},{"$f":"IF(AL60=\"\",\"\", INDEX(referentes!$AB:$AC,MATCH(DATOS_MAP!AL60,referentes!$AC:$AC,0),1))","v":""},{"$f":"IF(AP60=\"\",\"\", INDEX(referentes!$Y$2:$Z$10,MATCH(DATOS_MAP!AP60,referentes!$Z$2:$Z$10,0),1))","v":""},{"$f":"IF(AN60=\"\",\"\", INDEX(referentes!$AE$2:$AF$10,MATCH(DATOS_MAP!AN60,referentes!$AF$2:$AF$10,0),1))","v":""},{"$f":"IF(AQ60=\"\",\"\", INDEX(referentes!J:K,MATCH(DATOS_MAP!AQ60,referentes!$K:$K,0),1))","v":""},null,{"$f":"IF(AY60=\"\",\"\", INDEX('otras referencias'!O:P,MATCH(AY60,'otras referencias'!$O:$O,0),2))","v":""},null,null,null,null,null,{"$f":"IF(X60<>\"\",INDEX(referentes!$AH:$AL,MATCH(DATOS_MAP!X60,referentes!$AI:$AI,0),5),\"\")","v":""}]
[null,null,null,"",{"$f":"IF(J61=\"\",\"\",CONCATENATE(AD61,DIGITADOR!$B$2,DIGITADOR!$M$1,J61))","v":""},{"$f":"IF(J61=\"\",\"\",CONCATENATE(DIGITADOR!$B$2,AD61,DIGITADOR!$M$1,J61,ROW()))","v":""},null,null,null,{"$f":"IF(X61=\"\",\"\", INDEX(referentes!$AH:$AL,MATCH(DATOS_MAP!X61,referentes!$AI:$AI,0),1))","v":""},"",{"$f":"IF(AF61=\"\",\"\", INDEX(referentes!D:E,MATCH(DATOS_MAP!AF61,referentes!$E:$E,0),1))","v":""},{"$f":"IF(AI61=\"\",\"\", INDEX(referentes!A:B,MATCH(DATOS_MAP!AI61,referentes!$B:$B,0),1))","v":""},{"$f":"IF(AJ61=\"\",\"\", INDEX(referentes!G:H,MATCH(DATOS_MAP!AJ61,referentes!$H:$H,0),1))","v":""},{"$f":"IF(AK61=\"\",\"\", INDEX(referentes!$V$2:$W$10,MATCH(DATOS_MAP!AK61,referentes!$W$2:$W$10,0),1))","v":""},{"$f":"IF(AL61=\"\",\"\", INDEX(referentes!$AB:$AC,MATCH(DATOS_MAP!AL61,referentes!$AC:$AC,0),1))","v":""},{"$f":"IF(AP61=\"\",\"\", INDEX(referentes!$Y$2:$Z$10,MATCH(DATOS_MAP!AP61,referentes!$Z$2:$Z$10,0),1))","v":""},{"$f":"IF(AN61=\"\",\"\", INDEX(referentes!$AE$2:$AF$10,MATCH(DATOS_MAP!AN61,referentes!$AF$2:$AF$10,0),1))","v":""},{"$f":"IF(AQ61=\"\",\"\", INDEX(referentes!J:K,MATCH(DATOS_MAP!AQ61,referentes!$K:$K,0),1))","v":""},null,{"$f":"IF(AY61=\"\",\"\", INDEX('otras referencias'!O:P,MATCH(AY61,'otras referencias'!$O:$O,0),2))","v":""},null,null,null,null,null,{"$f":"IF(X61<>\"\",INDEX(referentes!$AH:$AL,MATCH(DATOS_MAP!X61,referentes!$AI:$AI,0),5),\"\")","v":""}]
[null,null,null,"",{"$f":"IF(J62=\"\",\"\",CONCATENATE(AD62,DIGITADOR!$B$2,DIGITADOR!$M$1,J62))","v":""},{"$f":"IF(J62=\"\",\"\",CONCATENATE(DIGITADOR!$B$2,AD62,DIGITADOR!$M$1,J62,ROW()))","v":""},null,null,null,{"$f":"IF(X62=\"\",\"\", INDEX(referentes!$AH:$AL,MATCH(DATOS_MAP!X62,referentes!$AI:$AI,0),1))","v":""},"",{"$f":"IF(AF62=\"\",\"\", INDEX(referentes!D:E,MATCH(DATOS_MAP!AF62,referentes!$E:$E,0),1))","v":""},{"$f":"IF(AI62=\"\",\"\", INDEX(referentes!A:B,MATCH(DATOS_MAP!AI62,referentes!$B:$B,0),1))","v":""},{"$f":"IF(AJ62=\"\",\"\", INDEX(referentes!G:H,MATCH(DATOS_MAP!AJ62,referentes!$H:$H,0),1))","v":""},{"$f":"IF(AK62=\"\",\"\", INDEX(referentes!$V$2:$W$10,MATCH(DATOS_MAP!AK62,referentes!$W$2:$W$10,0),1))","v":""},{"$f":"IF(AL62=\"\",\"\", INDEX(referentes!$AB:$AC,MATCH(DATOS_MAP!AL62,referentes!$AC:$AC,0),1))","v":""},{"$f":"IF(AP62=\"\",\"\", INDEX(referentes!$Y$2:$Z$10,MATCH(DATOS_MAP!AP62,referentes!$Z$2:$Z$10,0),1))","v":""},{"$f":"IF(AN62=\"\",\"\", INDEX(referentes!$AE$2:$AF$10,MATCH(DATOS_MAP!AN62,referentes!$AF$2:$AF$10,0),1))","v":""},{"$f":"IF(AQ62=\"\",\"\", INDEX(referentes!J:K,MATCH(DATOS_MAP!AQ62,referentes!$K:$K,0),1))","v":""},null,{"$f":"IF(AY62=\"\",\"\", INDEX('otras referencias'!O:P,MATCH(AY62,'otras referencias'!$O:$O,0),2))","v":""},null,null,null,null,null,{"$f":"IF(X62<>\"\",INDEX(referentes!$AH:$AL,MATCH(DATOS_MAP!X62,referentes!$AI:$AI,0),5),\"\")","v":""}]
[null,null,null,"",{"$f":"IF(J63=\"\",\"\",CONCATENATE(AD63,DIGITADOR!$B$2,DIGITADOR!$M$1,J63))","v":""},{"$f":"IF(J63=\"\",\"\",CONCATENATE(DIGITADOR!$B$2,AD63,DIGITADOR!$M$1,J63,ROW()))","v":""},null,null,null,{"$f":"IF(X63=\"\",\"\", INDEX(referentes!$AH:$AL,MATCH(DATOS_MAP!X63,referentes!$AI:$AI,0),1))","v":""},"",{"$f":"IF(AF63=\"\",\"\", INDEX(referentes!D:E,MATCH(DATOS_MAP!AF63,referentes!$E:$E,0),1))","v":""},{"$f":"IF(AI63=\"\",\"\", INDEX(referentes!A:B,MATCH(DATOS_MAP!AI63,referentes!$B:$B,0),1))","v":""},{"$f":"IF(AJ63=\"\",\"\", INDEX(referentes!G:H,MATCH(DATOS_MAP!AJ63,referentes!$H:$H,0),1))","v":""},{"$f":"IF(AK63=\"\",\"\", INDEX(referentes!$V$2:$W$10,MATCH(DATOS_MAP!AK63,referentes!$W$2:$W$10,0),1))","v":""},{"$f":"IF(AL63=\"\",\"\", INDEX(referentes!$AB:$AC,MATCH(DATOS_MAP!AL63,referentes!$AC:$AC,0),1))","v":""},{"$f":"IF(AP63=\"\",\"\", INDEX(referentes!$Y$2:$Z$10,MATCH(DATOS_MAP!AP63,referentes!$Z$2:$Z$10,0),1))","v":""},{"$f":"IF(AN63=\"\",\"\", INDEX(referentes!$AE$2:$AF$10,MATCH(DATOS_MAP!AN63,referentes!$AF$2:$AF$10,0),1))","v":""},{"$f":"IF(AQ63=\"\",\"\", INDEX(referentes!J:K,MATCH(DATOS_MAP!AQ63,referentes!$K:$K,0),1))","v":""},null,{"$f":"IF(AY63=\"\",\"\", INDEX('otras referencias'!O:P,MATCH(AY63,'otras referencias'!$O:$O,0),2))","v":""},null,null,null,null,null,{"$f":"IF(X63<>\"\",INDEX(referentes!$AH:$AL,MATCH(DATOS_MAP!X63,referentes!$AI:$AI,0),5),\"\")","v":""}]
[null,null,null,"",{"$f":"IF(J64=\"\",\"\",CONCATENATE(AD64,DIGITADOR!$B$2,DIGITADOR!$M$1,J64))","v":""},{"$f":"IF(J64=\"\",\"\",CONCATENATE(DIGITADOR!$B$2,AD64,DIGITADOR!$M$1,J64,ROW()))","v":""},null,null,null,{"$f":"IF(X64=\"\",\"\", INDEX(referentes!$AH:$AL,MATCH(DATOS_MAP!X64,referentes!$AI:$AI,0),1))","v":""},"",{"$f":"IF(AF64=\"\",\"\", INDEX(referentes!D:E,MATCH(DATOS_MAP!AF64,referentes!$E:$E,0),1))","v":""},{"$f":"IF(AI64=\"\",\"\", INDEX(referentes!A:B,MATCH(DATOS_MAP!AI64,referentes!$B:$B,0),1))","v":""},{"$f":"IF(AJ64=\"\",\"\", INDEX(referentes!G:H,MATCH(DATOS_MAP!AJ64,referentes!$H:$H,0),1))","v":""},{"$f":"IF(AK64=\"\",\"\", INDEX(referentes!$V$2:$W$10,MATCH(DATOS_MAP!AK64,referentes!$W$2:$W$10,0),1))","v":""},{"$f":"IF(AL64=\"\",\"\", INDEX(referentes!$AB:$AC,MATCH(DATOS_MAP!AL64,referentes!$AC:$AC,0),1))","v":""},{"$f":"IF(AP64=\"\",\"\", INDEX(referentes!$Y$2:$Z$10,MATCH(DATOS_MAP!AP64,referentes!$Z$2:$Z$10,0),1))","v":""},{"$f":"IF(AN64=\"\",\"\", INDEX(referentes!$AE$2:$AF$10,MATCH(DATOS_MAP!AN64,referentes!$AF$2:$AF$10,0),1))","v":""},{"$f":"IF(AQ64=\"\",\"\", INDEX(referentes!J:K,MATCH(DATOS_MAP!AQ64,referentes!$K:$K,0),1))","v":""},null,{"$f":"IF(AY64=\"\",\"\", INDEX('otras referencias'!O:P,MATCH(AY64,'otras referencias'!$O:$O,0),2))","v":""},null,null,null,null,null,{"$f":"IF(X64<>\"\",INDEX(referentes!$AH:$AL,MATCH(DATOS_MAP!X64,referentes!$AI:$AI,0),5),\"\")","v":""}]
[null,null,null,"",{"$f":"IF(J65=\"\",\"\",CONCATENATE(AD65,DIGITADOR!$B$2,DIGITADOR!$M$1,J65))","v":""},{"$f":"IF(J65=\"\",\"\",CONCATENATE(DIGITADOR!$B$2,AD65,DIGITADOR!$M$1,J65,ROW()))","v":""},null,null,null,{"$f":"IF(X65=\"\",\"\", INDEX(referentes!$AH:$AL,MATCH(DATOS_MAP!X65,referentes!$AI:$AI,0),1))","v":""},"",{"$f":"IF(AF65=\"\",\"\", INDEX(referentes!D:E,MATCH(DATOS_MAP!AF65,referentes!$E:$E,0),1))","v":""},{"$f":"IF(AI65=\"\",\"\", INDEX(referentes!A:B,MATCH(DATOS_MAP!AI65,referentes!$B:$B,0),1))","v":""},{"$f":"IF(AJ65=\"\",\"\", INDEX(referentes!G:H,MATCH(DATOS_MAP!AJ65,referentes!$H:$H,0),1))","v":""},{"$f":"IF(AK65=\"\",\"\", INDEX(referentes!$V$2:$W$10,MATCH(DATOS_MAP!AK65,referentes!$W$2:$W$10,0),1))","v":""},{"$f":"IF(AL65=\"\",\"\", INDEX(referentes!$AB:$AC,MATCH(DATOS_MAP!AL65,referentes!$AC:$AC,0),1))","v":""},{"$f":"IF(AP65=\"\",\"\", INDEX(referentes!$Y$2:$Z$10,MATCH(DATOS_MAP!AP65,referentes!$Z$2:$Z$10,0),1))","v":""},{"$f":"IF(AN65=\"\",\"\", INDEX(referentes!$AE$2:$AF$10,MATCH(DATOS_MAP!AN65,referentes!$AF$2:$AF$10,0),1))","v":""},{"$f":"IF(AQ65=\"\",\"\", INDEX(referentes!J:K,MATCH(DATOS_MAP!AQ65,referentes!$K:$K,0),1))","v":""},null,{"$f":"IF(AY65=\"\",\"\", INDEX('otras referencias'!O:P,MATCH(AY65,'otras referencias'!$O:$O,0),2))","v":""},null,null,null,null,null,{"$f":"IF(X65<>\"\",INDEX(referentes!$AH:$AL,MATCH(DATOS_MAP!X65,referentes!$AI:$AI,0),5),\"\")","v":""}]
[null,null,null,"",{"$f":"IF(J66=\"\",\"\",CONCATENATE(AD66,DIGITADOR!$B$2,DIGITADOR!$M$1,J66))","v":""},{"$f":"IF(J66=\"\",\"\",CONCATENATE(DIGITADOR!$B$2,AD66,DIGITADOR!$M$1,J66,ROW()))","v":""},null,null,null,{"$f":"IF(X66=\"\",\"\", INDEX(referentes!$AH:$AL,MATCH(DATOS_MAP!X66,referentes!$AI:$AI,0),1))","v":""},"",{"$f":"IF(AF66=\"\",\"\", INDEX(referentes!D:E,MATCH(DATOS_MAP!AF66,referentes!$E:$E,0),1))","v":""},{"$f":"IF(AI66=\"\",\"\", INDEX(referentes!A:B,MATCH(DATOS_MAP!AI66,referentes!$B:$B,0),1))","v":""},{"$f":"IF(AJ66=\"\",\"\", INDEX(referentes!G:H,MATCH(DATOS_MAP!AJ66,referentes!$H:$H,0),1))","v":""},{"$f":"IF(AK66=\"\",\"\", INDEX(referentes!$V$2:$W$10,MATCH(DATOS_MAP!AK66,referentes!$W$2:$W$10,0),1))","v":""},{"$f":"IF(AL66=\"\",\"\", INDEX(referentes!$AB:$AC,MATCH(DATOS_MAP!AL66,referentes!$AC:$AC,0),1))","v":""},{"$f":"IF(AP66=\"\",\"\", INDEX(referentes!$Y$2:$Z$10,MATCH(DATOS_MAP!AP66,referentes!$Z$2:$Z$10,0),1))","v":""},{"$f":"IF(AN66=\"\",\"\", INDEX(referentes!$AE$2:$AF$10,MATCH(DATOS_MAP!AN66,referentes!$AF$2:$AF$10,0),1))","v":""},{"$f":"IF(AQ66=\"\",\"\", INDEX(referentes!J:K,MATCH(DATOS_MAP!AQ66,referentes!$K:$K,0),1))","v":""},null,{"$f":"IF(AY66=\"\",\"\", INDEX('otras referencias'!O:P,MATCH(AY66,'otras referencias'!$O:$O,0),2))","v":""},null,null,null,null,null,{"$f":"IF(X66<>\"\",INDEX(referentes!$AH:$AL,MATCH(DATOS_MAP!X66,referentes!$AI:$AI,0),5),\"\")","v":""}]
[null,null,null,"",{"$f":"IF(J67=\"\",\"\",CONCATENATE(AD67,DIGITADOR!$B$2,DIGITADOR!$M$1,J67))","v":""},{"$f":"IF(J67=\"\",\"\",CONCATENATE(DIGITADOR!$B$2,AD67,DIGITADOR!$M$1,J67,ROW()))","v":""},null,null,null,{"$f":"IF(X67=\"\",\"\", INDEX(referentes!$AH:$AL,MATCH(DATOS_MAP!X67,referentes!$AI:$AI,0),1))","v":""},"",{"$f":"IF(AF67=\"\",\"\", INDEX(referentes!D:E,MATCH(DATOS_MAP!AF67,referentes!$E:$E,0),1))","v":""},{"$f":"IF(AI67=\"\",\"\", INDEX(referentes!A:B,MATCH(DATOS_MAP!AI67,referentes!$B:$B,0),1))","v":""},{"$f":"IF(AJ67=\"\",\"\", INDEX(referentes!G:H,MATCH(DATOS_MAP!AJ67,referentes!$H:$H,0),1))","v":""},{"$f":"IF(AK67=\"\",\"\", INDEX(referentes!$V$2:$W$10,MATCH(DATOS_MAP!AK67,referentes!$W$2:$W$10,0),1))","v":""},{"$f":"IF(AL67=\"\",\"\", INDEX(referentes!$AB:$AC,MATCH(DATOS_MAP!AL67,referentes!$AC:$AC,0),1))","v":""},{"$f":"IF(AP67=\"\",\"\", INDEX(referentes!$Y$2:$Z$10,MATCH(DATOS_MAP!AP67,referentes!$Z$2:$Z$10,0),1))","v":""},{"$f":"IF(AN67=\"\",\"\", INDEX(referentes!$AE$2:$AF$10,MATCH(DATOS_MAP!AN67,referentes!$AF$2:$AF$10,0),1))","v":""},{"$f":"IF(AQ67=\"\",\"\", INDEX(referentes!J:K,MATCH(DATOS_MAP!AQ67,referentes!$K:$K,0),1))","v":""},null,{"$f":"IF(AY67=\"\",\"\", INDEX('otras referencias'!O:P,MATCH(AY67,'otras referencias'!$O:$O,0),2))","v":""},null,null,null,null,null,{"$f":"IF(X67<>\"\",INDEX(referentes!$AH:$AL,MATCH(DATOS_MAP!X67,referentes!$AI:$AI,0),5),\"\")","v":""}]
[null,null,null,"",{"$f":"IF(J68=\"\",\"\",CONCATENATE(AD68,DIGITADOR!$B$2,DIGITADOR!$M$1,J68))","v":""},{"$f":"IF(J68=\"\",\"\",CONCATENATE(DIGITADOR!$B$2,AD68,DIGITADOR!$M$1,J68,ROW()))","v":""},null,null,null,{"$f":"IF(X68=\"\",\"\", INDEX(referentes!$AH:$AL,MATCH(DATOS_MAP!X68,referentes!$AI:$AI,0),1))","v":""},"",{"$f":"IF(AF68=\"\",\"\", INDEX(referentes!D:E,MATCH(DATOS_MAP!AF68,referentes!$E:$E,0),1))","v":""},{"$f":"IF(AI68=\"\",\"\", INDEX(referentes!A:B,MATCH(DATOS_MAP!AI68,referentes!$B:$B,0),1))","v":""},{"$f":"IF(AJ68=\"\",\"\", INDEX(referentes!G:H,MATCH(DATOS_MAP!AJ68,referentes!$H:$H,0),1))","v":""},{"$f":"IF(AK68=\"\",\"\", INDEX(referentes!$V$2:$W$10,MATCH(DATOS_MAP!AK68,referentes!$W$2:$W$10,0),1))","v":""},{"$f":"IF(AL68=\"\",\"\", INDEX(referentes!$AB:$AC,MATCH(DATOS_MAP!AL68,referentes!$AC:$AC,0),1))","v":""},{"$f":"IF(AP68=\"\",\"\", INDEX(referentes!$Y$2:$Z$10,MATCH(DATOS_MAP!AP68,referentes!$Z$2:$Z$10,0),1))","v":""},{"$f":"IF(AN68=\"\",\"\", INDEX(referentes!$AE$2:$AF$10,MATCH(DATOS_MAP!AN68,referentes!$AF$2:$AF$10,0),1))","v":""},{"$f":"IF(AQ68=\"\",\"\", INDEX(referentes!J:K,MATCH(DATOS_MAP!AQ68,referentes!$K:$K,0),1))","v":""},null,{"$f":"IF(AY68=\"\",\"\", INDEX('otras referencias'!O:P,MATCH(AY68,'otras referencias'!$O:$O,0),2))","v":""},null,null,null,null,null,{"$f":"IF(X68<>\"\",INDEX(referentes!$AH:$AL,MATCH(DATOS_MAP!X68,referentes!$AI:$AI,0),5),\"\")","v":""}]
[null,null,null,"",{"$f":"IF(J69=\"\",\"\",CONCATENATE(AD69,DIGITADOR!$B$2,DIGITADOR!$M$1,J69))","v":""},{"$f":"IF(J69=\"\",\"\",CONCATENATE(DIGITADOR!$B$2,AD69,DIGITADOR!$M$1,J69,ROW()))","v":""},null,null,null,{"$f":"IF(X69=\"\",\"\", INDEX(referentes!$AH:$AL,MATCH(DATOS_MAP!X69,referentes!$AI:$AI,0),1))","v":""},"",{"$f":"IF(AF69=\"\",\"\", INDEX(referentes!D:E,MATCH(DATOS_MAP!AF69,referentes!$E:$E,0),1))","v":""},{"$f":"IF(AI69=\"\",\"\", INDEX(referentes!A:B,MATCH(DATOS_MAP!AI69,referentes!$B:$B,0),1))","v":""},{"$f":"IF(AJ69=\"\",\"\", INDEX(referentes!G:H,MATCH(DATOS_MAP!AJ69,referentes!$H:$H,0),1))","v":""},{"$f":"IF(AK69=\"\",\"\", INDEX(referentes!$V$2:$W$10,MATCH(DATOS_MAP!AK69,referentes!$W$2:$W$10,0),1))","v":""},{"$f":"IF(AL69=\"\",\"\", INDEX(referentes!$AB:$AC,MATCH(DATOS_MAP!AL69,referentes!$AC:$AC,0),1))","v":""},{"$f":"IF(AP69=\"\",\"\", INDEX(referentes!$Y$2:$Z$10,MATCH(DATOS_MAP!AP69,referentes!$Z$2:$Z$10,0),1))","v":""},{"$f":"IF(AN69=\"\",\"\", INDEX(referentes!$AE$2:$AF$10,MATCH(DATOS_MAP!AN69,referentes!$AF$2:$AF$10,0),1))","v":""},{"$f":"IF(AQ69=\"\",\"\", INDEX(referentes!J:K,MATCH(DATOS_MAP!AQ69,referentes!$K:$K,0),1))","v":""},null,{"$f":"IF(AY69=\"\",\"\", INDEX('otras referencias'!O:P,MATCH(AY69,'otras referencias'!$O:$O,0),2))","v":""},null,null,null,null,null,{"$f":"IF(X69<>\"\",INDEX(referentes!$AH:$AL,MATCH(DATOS_MAP!X69,referentes!$AI:$AI,0),5),\"\")","v":""}]
[null,null,null,"",{"$f":"IF(J70=\"\",\"\",CONCATENATE(AD70,DIGITADOR!$B$2,DIGITADOR!$M$1,J70))","v":""},{"$f":"IF(J70=\"\",\"\",CONCATENATE(DIGITADOR!$B$2,AD70,DIGITADOR!$M$1,J70,ROW()))","v":""},null,null,null,{"$f":"IF(X70=\"\",\"\", INDEX(referentes!$AH:$AL,MATCH(DATOS_MAP!X70,referentes!$AI:$AI,0),1))","v":""},"",{"$f":"IF(AF70=\"\",\"\", INDEX(referentes!D:E,MATCH(DATOS_MAP!AF70,referentes!$E:$E,0),1))","v":""},{"$f":"IF(AI70=\"\",\"\", INDEX(referentes!A:B,MATCH(DATOS_MAP!AI70,referentes!$B:$B,0),1))","v":""},{"$f":"IF(AJ70=\"\",\"\", INDEX(referentes!G:H,MATCH(DATOS_MAP!AJ70,referentes!$H:$H,0),1))","v":""},{"$f":"IF(AK70=\"\",\"\", INDEX(referentes!$V$2:$W$10,MATCH(DATOS_MAP!AK70,referentes!$W$2:$W$10,0),1))","v":""},{"$f":"IF(AL70=\"\",\"\", INDEX(referentes!$AB:$AC,MATCH(DATOS_MAP!AL70,referentes!$AC:$AC,0),1))","v":""},{"$f":"IF(AP70=\"\",\"\", INDEX(referentes!$Y$2:$Z$10,MATCH(DATOS_MAP!AP70,referentes!$Z$2:$Z$10,0),1))","v":""},{"$f":"IF(AN70=\"\",\"\", INDEX(referentes!$AE$2:$AF$10,MATCH(DATOS_MAP!AN70,referentes!$AF$2:$AF$10,0),1))","v":""},{"$f":"IF(AQ70=\"\",\"\", INDEX(referentes!J:K,MATCH(DATOS_MAP!AQ70,referentes!$K:$K,0),1))","v":""},null,{"$f":"IF(AY70=\"\",\"\", INDEX('otras referencias'!O:P,MATCH(AY70,'otras referencias'!$O:$O,0),2))","v":""},null,null,null,null,null,{"$f":"IF(X70<>\"\",INDEX(referentes!$AH:$AL,MATCH(DATOS_MAP!X70,referentes!$AI:$AI,0),5),\"\")","v":""}]
[null,null,null,"",{"$f":"IF(J71=\"\",\"\",CONCATENATE(AD71,DIGITADOR!$B$2,DIGITADOR!$M$1,J71))","v":""},{"$f":"IF(J71=\"\",\"\",CONCATENATE(DIGITADOR!$B$2,AD71,DIGITADOR!$M$1,J71,ROW()))","v":""},null,null,null,{"$f":"IF(X71=\"\",\"\", INDEX(referentes!$AH:$AL,MATCH(DATOS_MAP!X71,referentes!$AI:$AI,0),1))","v":""},"",{"$f":"IF(AF71=\"\",\"\", INDEX(referentes!D:E,MATCH(DATOS_MAP!AF71,referentes!$E:$E,0),1))","v":""},{"$f":"IF(AI71=\"\",\"\", INDEX(referentes!A:B,MATCH(DATOS_MAP!AI71,referentes!$B:$B,0),1))","v":""},{"$f":"IF(AJ71=\"\",\"\", INDEX(referentes!G:H,MATCH(DATOS_MAP!AJ71,referentes!$H:$H,0),1))","v":""},{"$f":"IF(AK71=\"\",\"\", INDEX(referentes!$V$2:$W$10,MATCH(DATOS_MAP!AK71,referentes!$W$2:$W$10,0),1))","v":""},{"$f":"IF(AL71=\"\",\"\", INDEX(referentes!$AB:$AC,MATCH(DATOS_MAP!AL71,referentes!$AC:$AC,0),1))","v":""},{"$f":"IF(AP71=\"\",\"\", INDEX(referentes!$Y$2:$Z$10,MATCH(DATOS_MAP!AP71,referentes!$Z$2:$Z$10,0),1))","v":""},{"$f":"IF(AN71=\"\",\"\", INDEX(referentes!$AE$2:$AF$10,MATCH(DATOS_MAP!AN71,referentes!$AF$2:$AF$10,0),1))","v":""},{"$f":"IF(AQ71=\"\",\"\", INDEX(referentes!J:K,MATCH(DATOS_MAP!AQ71,referentes!$K:$K,0),1))","v":""},null,{"$f":"IF(AY71=\"\",\"\", INDEX('otras referencias'!O:P,MATCH(AY71,'otras referencias'!$O:$O,0),2))","v":""},null,null,null,null,null,{"$f":"IF(X71<>\"\",INDEX(referentes!$AH:$AL,MATCH(DATOS_MAP!X71,referentes!$AI:$AI,0),5),\"\")","v":""}]
[null,null,null,"",{"$f":"IF(J72=\"\",\"\",CONCATENATE(AD72,DIGITADOR!$B$2,DIGITADOR!$M$1,J72))","v":""},{"$f":"IF(J72=\"\",\"\",CONCATENATE(DIGITADOR!$B$2,AD72,DIGITADOR!$M$1,J72,ROW()))","v":""},null,null,null,{"$f":"IF(X72=\"\",\"\", INDEX(referentes!$AH:$AL,MATCH(DATOS_MAP!X72,referentes!$AI:$AI,0),1))","v":""},"",{"$f":"IF(AF72=\"\",\"\", INDEX(referentes!D:E,MATCH(DATOS_MAP!AF72,referentes!$E:$E,0),1))","v":""},{"$f":"IF(AI72=\"\",\"\", INDEX(referentes!A:B,MATCH(DATOS_MAP!AI72,referentes!$B:$B,0),1))","v":""},{"$f":"IF(AJ72=\"\",\"\", INDEX(referentes!G:H,MATCH(DATOS_MAP!AJ72,referentes!$H:$H,0),1))","v":""},{"$f":"IF(AK72=\"\",\"\", INDEX(referentes!$V$2:$W$10,MATCH(DATOS_MAP!AK72,referentes!$W$2:$W$10,0),1))","v":""},{"$f":"IF(AL72=\"\",\"\", INDEX(referentes!$AB:$AC,MATCH(DATOS_MAP!AL72,referentes!$AC:$AC,0),1))","v":""},{"$f":"IF(AP72=\"\",\"\", INDEX(referentes!$Y$2:$Z$10,MATCH(DATOS_MAP!AP72,referentes!$Z$2:$Z$10,0),1))","v":""},{"$f":"IF(AN72=\"\",\"\", INDEX(referentes!$AE$2:$AF$10,MATCH(DATOS_MAP!AN72,referentes!$AF$2:$AF$10,0),1))","v":""},{"$f":"IF(AQ72=\"\",\"\", INDEX(referentes!J:K,MATCH(DATOS_MAP!AQ72,referentes!$K:$K,0),1))","v":""},null,{"$f":"IF(AY72=\"\",\"\", INDEX('otras referencias'!O:P,MATCH(AY72,'otras referencias'!$O:$O,0),2))","v":""},null,null,null,null,null,{"$f":"IF(X72<>\"\",INDEX(referentes!$AH:$AL,MATCH(DATOS_MAP!X72,referentes!$AI:$AI,0),5),\"\")","v":""}]
[null,null,null,"",{"$f":"IF(J73=\"\",\"\",CONCATENATE(AD73,DIGITADOR!$B$2,DIGITADOR!$M$1,J73))","v":""},{"$f":"IF(J73=\"\",\"\",CONCATENATE(DIGITADOR!$B$2,AD73,DIGITADOR!$M$1,J73,ROW()))","v":""},null,null,null,{"$f":"IF(X73=\"\",\"\", INDEX(referentes!$AH:$AL,MATCH(DATOS_MAP!X73,referentes!$AI:$AI,0),1))","v":""},"",{"$f":"IF(AF73=\"\",\"\", INDEX(referentes!D:E,MATCH(DATOS_MAP!AF73,referentes!$E:$E,0),1))","v":""},{"$f":"IF(AI73=\"\",\"\", INDEX(referentes!A:B,MATCH(DATOS_MAP!AI73,referentes!$B:$B,0),1))","v":""},{"$f":"IF(AJ73=\"\",\"\", INDEX(referentes!G:H,MATCH(DATOS_MAP!AJ73,referentes!$H:$H,0),1))","v":""},{"$f":"IF(AK73=\"\",\"\", INDEX(referentes!$V$2:$W$10,MATCH(DATOS_MAP!AK73,referentes!$W$2:$W$10,0),1))","v":""},{"$f":"IF(AL73=\"\",\"\", INDEX(referentes!$AB:$AC,MATCH(DATOS_MAP!AL73,referentes!$AC:$AC,0),1))","v":""},{"$f":"IF(AP73=\"\",\"\", INDEX(referentes!$Y$2:$Z$10,MATCH(DATOS_MAP!AP73,referentes!$Z$2:$Z$10,0),1))","v":""},{"$f":"IF(AN73=\"\",\"\", INDEX(referentes!$AE$2:$AF$10,MATCH(DATOS_MAP!AN73,referentes!$AF$2:$AF$10,0),1))","v":""},{"$f":"IF(AQ73=\"\",\"\", INDEX(referentes!J:K,MATCH(DATOS_MAP!AQ73,referentes!$K:$K,0),1))","v":""},null,{"$f":"IF(AY73=\"\",\"\", INDEX('otras referencias'!O:P,MATCH(AY73,'otras referencias'!$O:$O,0),2))","v":""},null,null,null,null,null,{"$f":"IF(X73<>\"\",INDEX(referentes!$AH:$AL,MATCH(DATOS_MAP!X73,referentes!$AI:$AI,0),5),\"\")","v":""}]
[null,null,null,"",{"$f":"IF(J74=\"\",\"\",CONCATENATE(AD74,DIGITADOR!$B$2,DIGITADOR!$M$1,J74))","v":""},{"$f":"IF(J74=\"\",\"\",CONCATENATE(DIGITADOR!$B$2,AD74,DIGITADOR!$M$1,J74,ROW()))","v":""},null,null,null,{"$f":"IF(X74=\"\",\"\", INDEX(referentes!$AH:$AL,MATCH(DATOS_MAP!X74,referentes!$AI:$AI,0),1))","v":""},"",{"$f":"IF(AF74=\"\",\"\", INDEX(referentes!D:E,MATCH(DATOS_MAP!AF74,referentes!$E:$E,0),1))","v":""},{"$f":"IF(AI74=\"\",\"\", INDEX(referentes!A:B,MATCH(DATOS_MAP!AI74,referentes!$B:$B,0),1))","v":""},{"$f":"IF(AJ74=\"\",\"\", INDEX(referentes!G:H,MATCH(DATOS_MAP!AJ74,referentes!$H:$H,0),1))","v":""},{"$f":"IF(AK74=\"\",\"\", INDEX(referentes!$V$2:$W$10,MATCH(DATOS_MAP!AK74,referentes!$W$2:$W$10,0),1))","v":""},{"$f":"IF(AL74=\"\",\"\", INDEX(referentes!$AB:$AC,MATCH(DATOS_MAP!AL74,referentes!$AC:$AC,0),1))","v":""},{"$f":"IF(AP74=\"\",\"\", INDEX(referentes!$Y$2:$Z$10,MATCH(DATOS_MAP!AP74,referentes!$Z$2:$Z$10,0),1))","v":""},{"$f":"IF(AN74=\"\",\"\", INDEX(referentes!$AE$2:$AF$10,MATCH(DATOS_MAP!AN74,referentes!$AF$2:$AF$10,0),1))","v":""},{"$f":"IF(AQ74=\"\",\"\", INDEX(referentes!J:K,MATCH(DATOS_MAP!AQ74,referentes!$K:$K,0),1))","v":""},null,{"$f":"IF(AY74=\"\",\"\", INDEX('otras referencias'!O:P,MATCH(AY74,'otras referencias'!$O:$O,0),2))","v":""},null,null,null,null,null,{"$f":"IF(X74<>\"\",INDEX(referentes!$AH:$AL,MATCH(DATOS_MAP!X74,referentes!$AI:$AI,0),5),\"\")","v":""}]
[null,null,null,"",{"$f":"IF(J75=\"\",\"\",CONCATENATE(AD75,DIGITADOR!$B$2,DIGITADOR!$M$1,J75))","v":""},{"$f":"IF(J75=\"\",\"\",CONCATENATE(DIGITADOR!$B$2,AD75,DIGITADOR!$M$1,J75,ROW()))","v":""},null,null,null,{"$f":"IF(X75=\"\",\"\", INDEX(referentes!$AH:$AL,MATCH(DATOS_MAP!X75,referentes!$AI:$AI,0),1))","v":""},{"$f":"IF(AD75=\"\",\"\",AD75+AE75)","v":""},{"$f":"IF(AF75=\"\",\"\", INDEX(referentes!D:E,MATCH(DATOS_MAP!AF75,referentes!$E:$E,0),1))","v":""},{"$f":"IF(AI75=\"\",\"\", INDEX(referentes!A:B,MATCH(DATOS_MAP!AI75,referentes!$B:$B,0),1))","v":""},{"$f":"IF(AJ75=\"\",\"\", INDEX(referentes!G:H,MATCH(DATOS_MAP!AJ75,referentes!$H:$H,0),1))","v":""},{"$f":"IF(AK75=\"\",\"\", INDEX(referentes!$V$2:$W$10,MATCH(DATOS_MAP!AK75,referentes!$W$2:$W$10,0),1))","v":""},{"$f":"IF(AL75=\"\",\"\", INDEX(referentes!$AB:$AC,MATCH(DATOS_MAP!AL75,referentes!$AC:$AC,0),1))","v":""},{"$f":"IF(AP75=\"\",\"\", INDEX(referentes!$Y$2:$Z$10,MATCH(DATOS_MAP!AP75,referentes!$Z$2:$Z$10,0),1))","v":""},{"$f":"IF(AN75=\"\",\"\", INDEX(referentes!$AE$2:$AF$10,MATCH(DATOS_MAP!AN75,referentes!$AF$2:$AF$10,0),1))","v":""},{"$f":"IF(AQ75=\"\",\"\", INDEX(referentes!J:K,MATCH(DATOS_MAP!AQ75,referentes!$K:$K,0),1))","v":""},null,{"$f":"IF(AY75=\"\",\"\", INDEX('otras referencias'!O:P,MATCH(AY75,'otras referencias'!$O:$O,0),2))","v":""},null,null,null,null,null,{"$f":"IF(X75<>\"\",INDEX(referentes!$AH:$AL,MATCH(DATOS_MAP!X75,referentes!$AI:$AI,0),5),\"\")","v":""}]
[null,null,null,{"$f":"IF(E76=\"\",\"\",IF(E76=E75,\"\",E76))","v":""},{"$f":"IF(J76=\"\",\"\",CONCATENATE(AD76,DIGITADOR!$B$2,DIGITADOR!$M$1,J76))","v":""},{"$f":"IF(J76=\"\",\"\",CONCATENATE(DIGITADOR!$B$2,AD76,DIGITADOR!$M$1,J76,ROW()))","v":""},null,null,null,{"$f":"IF(X76=\"\",\"\", INDEX(referentes!$AH:$AL,MATCH(DATOS_MAP!X76,referentes!$AI:$AI,0),1))","v":""},"",{"$f":"IF(AF76=\"\",\"\", INDEX(referentes!D:E,MATCH(DATOS_MAP!AF76,referentes!$E:$E,0),1))","v":""},{"$f":"IF(AI76=\"\",\"\", INDEX(referentes!A:B,MATCH(DATOS_MAP!AI76,referentes!$B:$B,0),1))","v":""},{"$f":"IF(AJ76=\"\",\"\", INDEX(referentes!G:H,MATCH(DATOS_MAP!AJ76,referentes!$H:$H,0),1))","v":""},{"$f":"IF(AK76=\"\",\"\", INDEX(referentes!$V$2:$W$10,MATCH(DATOS_MAP!AK76,referentes!$W$2:$W$10,0),1))","v":""},{"$f":"IF(AL76=\"\",\"\", INDEX(referentes!$AB:$AC,MATCH(DATOS_MAP!AL76,referentes!$AC:$AC,0),1))","v":""},{"$f":"IF(AP76=\"\",\"\", INDEX(referentes!$Y$2:$Z$10,MATCH(DATOS_MAP!AP76,referentes!$Z$2:$Z$10,0),1))","v":""},{"$f":"IF(AN76=\"\",\"\", INDEX(referentes!$AE$2:$AF$10,MATCH(DATOS_MAP!AN76,referentes!$AF$2:$AF$10,0),1))","v":""},{"$f":"IF(AQ76=\"\",\"\", INDEX(referentes!J:K,MATCH(DATOS_MAP!AQ76,referentes!$K:$K,0),1))","v":""},null,{"$f":"IF(AY76=\"\",\"\", INDEX('otras referencias'!O:P,MATCH(AY76,'otras referencias'!$O:$O,0),2))","v":""},null,null,null,null,null,{"$f":"IF(X76<>\"\",INDEX(referentes!$AH:$AL,MATCH(DATOS_MAP!X76,referentes!$AI:$AI,0),5),\"\")","v":""}]
[null,null,null,"",{"$f":"IF(J77=\"\",\"\",CONCATENATE(AD77,DIGITADOR!$B$2,DIGITADOR!$M$1,J77))","v":""},{"$f":"IF(J77=\"\",\"\",CONCATENATE(DIGITADOR!$B$2,AD77,DIGITADOR!$M$1,J77,ROW()))","v":""},null,null,null,{"$f":"IF(X77=\"\",\"\", INDEX(referentes!$AH:$AL,MATCH(DATOS_MAP!X77,referentes!$AI:$AI,0),1))","v":""},"",{"$f":"IF(AF77=\"\",\"\", INDEX(referentes!D:E,MATCH(DATOS_MAP!AF77,referentes!$E:$E,0),1))","v":""},{"$f":"IF(AI77=\"\",\"\", INDEX(referentes!A:B,MATCH(DATOS_MAP!AI77,referentes!$B:$B,0),1))","v":""},{"$f":"IF(AJ77=\"\",\"\", INDEX(referentes!G:H,MATCH(DATOS_MAP!AJ77,referentes!$H:$H,0),1))","v":""},{"$f":"IF(AK77=\"\",\"\", INDEX(referentes!$V$2:$W$10,MATCH(DATOS_MAP!AK77,referentes!$W$2:$W$10,0),1))","v":""},{"$f":"IF(AL77=\"\",\"\", INDEX(referentes!$AB:$AC,MATCH(DATOS_MAP!AL77,referentes!$AC:$AC,0),1))","v":""},{"$f":"IF(AP77=\"\",\"\", INDEX(referentes!$Y$2:$Z$10,MATCH(DATOS_MAP!AP77,referentes!$Z$2:$Z$10,0),1))","v":""},{"$f":"IF(AN77=\"\",\"\", INDEX(referentes!$AE$2:$AF$10,MATCH(DATOS_MAP!AN77,referentes!$AF$2:$AF$10,0),1))","v":""},{"$f":"IF(AQ77=\"\",\"\", INDEX(referentes!J:K,MATCH(DATOS_MAP!AQ77,referentes!$K:$K,0),1))","v":""},null,{"$f":"IF(AY77=\"\",\"\", INDEX('otras referencias'!O:P,MATCH(AY77,'otras referencias'!$O:$O,0),2))","v":""},null,null,null,null,null,{"$f":"IF(X77<>\"\",INDEX(referentes!$AH:$AL,MATCH(DATOS_MAP!X77,referentes!$AI:$AI,0),5),\"\")","v":""}]
[null,null,null,"",{"$f":"IF(J78=\"\",\"\",CONCATENATE(AD78,DIGITADOR!$B$2,DIGITADOR!$M$1,J78))","v":""},{"$f":"IF(J78=\"\",\"\",CONCATENATE(DIGITADOR!$B$2,AD78,DIGITADOR!$M$1,J78,ROW()))","v":""},null,null,null,{"$f":"IF(X78=\"\",\"\", INDEX(referentes!$AH:$AL,MATCH(DATOS_MAP!X78,referentes!$AI:$AI,0),1))","v":""},"",{"$f":"IF(AF78=\"\",\"\", INDEX(referentes!D:E,MATCH(DATOS_MAP!AF78,referentes!$E:$E,0),1))","v":""},{"$f":"IF(AI78=\"\",\"\", INDEX(referentes!A:B,MATCH(DATOS_MAP!AI78,referentes!$B:$B,0),1))","v":""},{"$f":"IF(AJ78=\"\",\"\", INDEX(referentes!G:H,MATCH(DATOS_MAP!AJ78,referentes!$H:$H,0),1))","v":""},{"$f":"IF(AK78=\"\",\"\", INDEX(referentes!$V$2:$W$10,MATCH(DATOS_MAP!AK78,referentes!$W$2:$W$10,0),1))","v":""},{"$f":"IF(AL78=\"\",\"\", INDEX(referentes!$AB:$AC,MATCH(DATOS_MAP!AL78,referentes!$AC:$AC,0),1))","v":""},{"$f":"IF(AP78=\"\",\"\", INDEX(referentes!$Y$2:$Z$10,MATCH(DATOS_MAP!AP78,referentes!$Z$2:$Z$10,0),1))","v":""},{"$f":"IF(AN78=\"\",\"\", INDEX(referentes!$AE$2:$AF$10,MATCH(DATOS_MAP!AN78,referentes!$AF$2:$AF$10,0),1))","v":""},{"$f":"IF(AQ78=\"\",\"\", INDEX(referentes!J:K,MATCH(DATOS_MAP!AQ78,referentes!$K:$K,0),1))","v":""},null,{"$f":"IF(AY78=\"\",\"\", INDEX('otras referencias'!O:P,MATCH(AY78,'otras referencias'!$O:$O,0),2))","v":""},null,null,null,null,null,{"$f":"IF(X78<>\"\",INDEX(referentes!$AH:$AL,MATCH(DATOS_MAP!X78,referentes!$AI:$AI,0),5),\"\")","v":""}]
[null,null,null,"",{"$f":"IF(J79=\"\",\"\",CONCATENATE(AD79,DIGITADOR!$B$2,DIGITADOR!$M$1,J79))","v":""},{"$f":"IF(J79=\"\",\"\",CONCATENATE(DIGITADOR!$B$2,AD79,DIGITADOR!$M$1,J79,ROW()))","v":""},null,null,null,{"$f":"IF(X79=\"\",\"\", INDEX(referentes!$AH:$AL,MATCH(DATOS_MAP!X79,referentes!$AI:$AI,0),1))","v":""},"",{"$f":"IF(AF79=\"\",\"\", INDEX(referentes!D:E,MATCH(DATOS_MAP!AF79,referentes!$E:$E,0),1))","v":""},{"$f":"IF(AI79=\"\",\"\", INDEX(referentes!A:B,MATCH(DATOS_MAP!AI79,referentes!$B:$B,0),1))","v":""},{"$f":"IF(AJ79=\"\",\"\", INDEX(referentes!G:H,MATCH(DATOS_MAP!AJ79,referentes!$H:$H,0),1))","v":""},{"$f":"IF(AK79=\"\",\"\", INDEX(referentes!$V$2:$W$10,MATCH(DATOS_MAP!AK79,referentes!$W$2:$W$10,0),1))","v":""},{"$f":"IF(AL79=\"\",\"\", INDEX(referentes!$AB:$AC,MATCH(DATOS_MAP!AL79,referentes!$AC:$AC,0),1))","v":""},{"$f":"IF(AP79=\"\",\"\", INDEX(referentes!$Y$2:$Z$10,MATCH(DATOS_MAP!AP79,referentes!$Z$2:$Z$10,0),1))","v":""},{"$f":"IF(AN79=\"\",\"\", INDEX(referentes!$AE$2:$AF$10,MATCH(DATOS_MAP!AN79,referentes!$AF$2:$AF$10,0),1))","v":""},{"$f":"IF(AQ79=\"\",\"\", INDEX(referentes!J:K,MATCH(DATOS_MAP!AQ79,referentes!$K:$K,0),1))","v":""},null,{"$f":"IF(AY79=\"\",\"\", INDEX('otras referencias'!O:P,MATCH(AY79,'otras referencias'!$O:$O,0),2))","v":""},null,null,null,null,null,{"$f":"IF(X79<>\"\",INDEX(referentes!$AH:$AL,MATCH(DATOS_MAP!X79,referentes!$AI:$AI,0),5),\"\")","v":""}]
[null,null,null,"",{"$f":"IF(J80=\"\",\"\",CONCATENATE(AD80,DIGITADOR!$B$2,DIGITADOR!$M$1,J80))","v":""},{"$f":"IF(J80=\"\",\"\",CONCATENATE(DIGITADOR!$B$2,AD80,DIGITADOR!$M$1,J80,ROW()))","v":""},null,null,null,{"$f":"IF(X80=\"\",\"\", INDEX(referentes!$AH:$AL,MATCH(DATOS_MAP!X80,referentes!$AI:$AI,0),1))","v":""},"",{"$f":"IF(AF80=\"\",\"\", INDEX(referentes!D:E,MATCH(DATOS_MAP!AF80,referentes!$E:$E,0),1))","v":""},{"$f":"IF(AI80=\"\",\"\", INDEX(referentes!A:B,MATCH(DATOS_MAP!AI80,referentes!$B:$B,0),1))","v":""},{"$f":"IF(AJ80=\"\",\"\", INDEX(referentes!G:H,MATCH(DATOS_MAP!AJ80,referentes!$H:$H,0),1))","v":""},{"$f":"IF(AK80=\"\",\"\", INDEX(referentes!$V$2:$W$10,MATCH(DATOS_MAP!AK80,referentes!$W$2:$W$10,0),1))","v":""},{"$f":"IF(AL80=\"\",\"\", INDEX(referentes!$AB:$AC,MATCH(DATOS_MAP!AL80,referentes!$AC:$AC,0),1))","v":""},{"$f":"IF(AP80=\"\",\"\", INDEX(referentes!$Y$2:$Z$10,MATCH(DATOS_MAP!AP80,referentes!$Z$2:$Z$10,0),1))","v":""},{"$f":"IF(AN80=\"\",\"\", INDEX(referentes!$AE$2:$AF$10,MATCH(DATOS_MAP!AN80,referentes!$AF$2:$AF$10,0),1))","v":""},{"$f":"IF(AQ80=\"\",\"\", INDEX(referentes!J:K,MATCH(DATOS_MAP!AQ80,referentes!$K:$K,0),1))","v":""},null,{"$f":"IF(AY80=\"\",\"\", INDEX('otras referencias'!O:P,MATCH(AY80,'otras referencias'!$O:$O,0),2))","v":""},null,null,null,null,null,{"$f":"IF(X80<>\"\",INDEX(referentes!$AH:$AL,MATCH(DATOS_MAP!X80,referentes!$AI:$AI,0),5),\"\")","v":""}]
[null,null,null,"",{"$f":"IF(J81=\"\",\"\",CONCATENATE(AD81,DIGITADOR!$B$2,DIGITADOR!$M$1,J81))","v":""},{"$f":"IF(J81=\"\",\"\",CONCATENATE(DIGITADOR!$B$2,AD81,DIGITADOR!$M$1,J81,ROW()))","v":""},null,null,null,{"$f":"IF(X81=\"\",\"\", INDEX(referentes!$AH:$AL,MATCH(DATOS_MAP!X81,referentes!$AI:$AI,0),1))","v":""},"",{"$f":"IF(AF81=\"\",\"\", INDEX(referentes!D:E,MATCH(DATOS_MAP!AF81,referentes!$E:$E,0),1))","v":""},{"$f":"IF(AI81=\"\",\"\", INDEX(referentes!A:B,MATCH(DATOS_MAP!AI81,referentes!$B:$B,0),1))","v":""},{"$f":"IF(AJ81=\"\",\"\", INDEX(referentes!G:H,MATCH(DATOS_MAP!AJ81,referentes!$H:$H,0),1))","v":""},{"$f":"IF(AK81=\"\",\"\", INDEX(referentes!$V$2:$W$10,MATCH(DATOS_MAP!AK81,referentes!$W$2:$W$10,0),1))","v":""},{"$f":"IF(AL81=\"\",\"\", INDEX(referentes!$AB:$AC,MATCH(DATOS_MAP!AL81,referentes!$AC:$AC,0),1))","v":""},{"$f":"IF(AP81=\"\",\"\", INDEX(referentes!$Y$2:$Z$10,MATCH(DATOS_MAP!AP81,referentes!$Z$2:$Z$10,0),1))","v":""},{"$f":"IF(AN81=\"\",\"\", INDEX(referentes!$AE$2:$AF$10,MATCH(DATOS_MAP!AN81,referentes!$AF$2:$AF$10,0),1))","v":""},{"$f":"IF(AQ81=\"\",\"\", INDEX(referentes!J:K,MATCH(DATOS_MAP!AQ81,referentes!$K:$K,0),1))","v":""},null,{"$f":"IF(AY81=\"\",\"\", INDEX('otras referencias'!O:P,MATCH(AY81,'otras referencias'!$O:$O,0),2))","v":""},null,null,null,null,null,{"$f":"IF(X81<>\"\",INDEX(referentes!$AH:$AL,MATCH(DATOS_MAP!X81,referentes!$AI:$AI,0),5),\"\")","v":""}]
[null,null,null,"",{"$f":"IF(J82=\"\",\"\",CONCATENATE(AD82,DIGITADOR!$B$2,DIGITADOR!$M$1,J82))","v":""},{"$f":"IF(J82=\"\",\"\",CONCATENATE(DIGITADOR!$B$2,AD82,DIGITADOR!$M$1,J82,ROW()))","v":""},null,null,null,{"$f":"IF(X82=\"\",\"\", INDEX(referentes!$AH:$AL,MATCH(DATOS_MAP!X82,referentes!$AI:$AI,0),1))","v":""},"",{"$f":"IF(AF82=\"\",\"\", INDEX(referentes!D:E,MATCH(DATOS_MAP!AF82,referentes!$E:$E,0),1))","v":""},{"$f":"IF(AI82=\"\",\"\", INDEX(referentes!A:B,MATCH(DATOS_MAP!AI82,referentes!$B:$B,0),1))","v":""},{"$f":"IF(AJ82=\"\",\"\", INDEX(referentes!G:H,MATCH(DATOS_MAP!AJ82,referentes!$H:$H,0),1))","v":""},{"$f":"IF(AK82=\"\",\"\", INDEX(referentes!$V$2:$W$10,MATCH(DATOS_MAP!AK82,referentes!$W$2:$W$10,0),1))","v":""},{"$f":"IF(AL82=\"\",\"\", INDEX(referentes!$AB:$AC,MATCH(DATOS_MAP!AL82,referentes!$AC:$AC,0),1))","v":""},{"$f":"IF(AP82=\"\",\"\", INDEX(referentes!$Y$2:$Z$10,MATCH(DATOS_MAP!AP82,referentes!$Z$2:$Z$10,0),1))","v":""},{"$f":"IF(AN82=\"\",\"\", INDEX(referentes!$AE$2:$AF$10,MATCH(DATOS_MAP!AN82,referentes!$AF$2:$AF$10,0),1))","v":""},{"$f":"IF(AQ82=\"\",\"\", INDEX(referentes!J:K,MATCH(DATOS_MAP!AQ82,referentes!$K:$K,0),1))","v":""},null,{"$f":"IF(AY82=\"\",\"\", INDEX('otras referencias'!O:P,MATCH(AY82,'otras referencias'!$O:$O,0),2))","v":""},null,null,null,null,null,{"$f":"IF(X82<>\"\",INDEX(referentes!$AH:$AL,MATCH(DATOS_MAP!X82,referentes!$AI:$AI,0),5),\"\")","v":""}]
[null,null,null,"",{"$f":"IF(J83=\"\",\"\",CONCATENATE(AD83,DIGITADOR!$B$2,DIGITADOR!$M$1,J83))","v":""},{"$f":"IF(J83=\"\",\"\",CONCATENATE(DIGITADOR!$B$2,AD83,DIGITADOR!$M$1,J83,ROW()))","v":""},null,null,null,{"$f":"IF(X83=\"\",\"\", INDEX(referentes!$AH:$AL,MATCH(DATOS_MAP!X83,referentes!$AI:$AI,0),1))","v":""},"",{"$f":"IF(AF83=\"\",\"\", INDEX(referentes!D:E,MATCH(DATOS_MAP!AF83,referentes!$E:$E,0),1))","v":""},{"$f":"IF(AI83=\"\",\"\", INDEX(referentes!A:B,MATCH(DATOS_MAP!AI83,referentes!$B:$B,0),1))","v":""},{"$f":"IF(AJ83=\"\",\"\", INDEX(referentes!G:H,MATCH(DATOS_MAP!AJ83,referentes!$H:$H,0),1))","v":""},{"$f":"IF(AK83=\"\",\"\", INDEX(referentes!$V$2:$W$10,MATCH(DATOS_MAP!AK83,referentes!$W$2:$W$10,0),1))","v":""},{"$f":"IF(AL83=\"\",\"\", INDEX(referentes!$AB:$AC,MATCH(DATOS_MAP!AL83,referentes!$AC:$AC,0),1))","v":""},{"$f":"IF(AP83=\"\",\"\", INDEX(referentes!$Y$2:$Z$10,MATCH(DATOS_MAP!AP83,referentes!$Z$2:$Z$10,0),1))","v":""},{"$f":"IF(AN83=\"\",\"\", INDEX(referentes!$AE$2:$AF$10,MATCH(DATOS_MAP!AN83,referentes!$AF$2:$AF$10,0),1))","v":""},{"$f":"IF(AQ83=\"\",\"\", INDEX(referentes!J:K,MATCH(DATOS_MAP!AQ83,referentes!$K:$K,0),1))","v":""},null,{"$f":"IF(AY83=\"\",\"\", INDEX('otras referencias'!O:P,MATCH(AY83,'otras referencias'!$O:$O,0),2))","v":""},null,null,null,null,null,{"$f":"IF(X83<>\"\",INDEX(referentes!$AH:$AL,MATCH(DATOS_MAP!X83,referentes!$AI:$AI,0),5),\"\")","v":""}]
[null,null,null,"",{"$f":"IF(J84=\"\",\"\",CONCATENATE(AD84,DIGITADOR!$B$2,DIGITADOR!$M$1,J84))","v":""},{"$f":"IF(J84=\"\",\"\",CONCATENATE(DIGITADOR!$B$2,AD84,DIGITADOR!$M$1,J84,ROW()))","v":""},null,null,null,{"$f":"IF(X84=\"\",\"\", INDEX(referentes!$AH:$AL,MATCH(DATOS_MAP!X84,referentes!$AI:$AI,0),1))","v":""},"",{"$f":"IF(AF84=\"\",\"\", INDEX(referentes!D:E,MATCH(DATOS_MAP!AF84,referentes!$E:$E,0),1))","v":""},{"$f":"IF(AI84=\"\",\"\", INDEX(referentes!A:B,MATCH(DATOS_MAP!AI84,referentes!$B:$B,0),1))","v":""},{"$f":"IF(AJ84=\"\",\"\", INDEX(referentes!G:H,MATCH(DATOS_MAP!AJ84,referentes!$H:$H,0),1))","v":""},{"$f":"IF(AK84=\"\",\"\", INDEX(referentes!$V$2:$W$10,MATCH(DATOS_MAP!AK84,referentes!$W$2:$W$10,0),1))","v":""},{"$f":"IF(AL84=\"\",\"\", INDEX(referentes!$AB:$AC,MATCH(DATOS_MAP!AL84,referentes!$AC:$AC,0),1))","v":""},{"$f":"IF(AP84=\"\",\"\", INDEX(referentes!$Y$2:$Z$10,MATCH(DATOS_MAP!AP84,referentes!$Z$2:$Z$10,0),1))","v":""},{"$f":"IF(AN84=\"\",\"\", INDEX(referentes!$AE$2:$AF$10,MATCH(DATOS_MAP!AN84,referentes!$AF$2:$AF$10,0),1))","v":""},{"$f":"IF(AQ84=\"\",\"\", INDEX(referentes!J:K,MATCH(DATOS_MAP!AQ84,referentes!$K:$K,0),1))","v":""},null,{"$f":"IF(AY84=\"\",\"\", INDEX('otras referencias'!O:P,MATCH(AY84,'otras referencias'!$O:$O,0),2))","v":""},null,null,null,null,null,{"$f":"IF(X84<>\"\",INDEX(referentes!$AH:$AL,MATCH(DATOS_MAP!X84,referentes!$AI:$AI,0),5),\"\")","v":""}]
[null,null,null,"",{"$f":"IF(J85=\"\",\"\",CONCATENATE(AD85,DIGITADOR!$B$2,DIGITADOR!$M$1,J85))","v":""},{"$f":"IF(J85=\"\",\"\",CONCATENATE(DIGITADOR!$B$2,AD85,DIGITADOR!$M$1,J85,ROW()))","v":""},null,null,null,{"$f":"IF(X85=\"\",\"\", INDEX(referentes!$AH:$AL,MATCH(DATOS_MAP!X85,referentes!$AI:$AI,0),1))","v":""},"",{"$f":"IF(AF85=\"\",\"\", INDEX(referentes!D:E,MATCH(DATOS_MAP!AF85,referentes!$E:$E,0),1))","v":""},{"$f":"IF(AI85=\"\",\"\", INDEX(referentes!A:B,MATCH(DATOS_MAP!AI85,referentes!$B:$B,0),1))","v":""},{"$f":"IF(AJ85=\"\",\"\", INDEX(referentes!G:H,MATCH(DATOS_MAP!AJ85,referentes!$H:$H,0),1))","v":""},{"$f":"IF(AK85=\"\",\"\", INDEX(referentes!$V$2:$W$10,MATCH(DATOS_MAP!AK85,referentes!$W$2:$W$10,0),1))","v":""},{"$f":"IF(AL85=\"\",\"\", INDEX(referentes!$AB:$AC,MATCH(DATOS_MAP!AL85,referentes!$AC:$AC,0),1))","v":""},{"$f":"IF(AP85=\"\",\"\", INDEX(referentes!$Y$2:$Z$10,MATCH(DATOS_MAP!AP85,referentes!$Z$2:$Z$10,0),1))","v":""},{"$f":"IF(AN85=\"\",\"\", INDEX(referentes!$AE$2:$AF$10,MATCH(DATOS_MAP!AN85,referentes!$AF$2:$AF$10,0),1))","v":""},{"$f":"IF(AQ85=\"\",\"\", INDEX(referentes!J:K,MATCH(DATOS_MAP!AQ85,referentes!$K:$K,0),1))","v":""},null,{"$f":"IF(AY85=\"\",\"\", INDEX('otras referencias'!O:P,MATCH(AY85,'otras referencias'!$O:$O,0),2))","v":""},null,null,null,null,null,{"$f":"IF(X85<>\"\",INDEX(referentes!$AH:$AL,MATCH(DATOS_MAP!X85,referentes!$AI:$AI,0),5),\"\")","v":""}]
[null,null,null,"",{"$f":"IF(J86=\"\",\"\",CONCATENATE(AD86,DIGITADOR!$B$2,DIGITADOR!$M$1,J86))","v":""},{"$f":"IF(J86=\"\",\"\",CONCATENATE(DIGITADOR!$B$2,AD86,DIGITADOR!$M$1,J86,ROW()))","v":""},null,null,null,{"$f":"IF(X86=\"\",\"\", INDEX(referentes!$AH:$AL,MATCH(DATOS_MAP!X86,referentes!$AI:$AI,0),1))","v":""},"",{"$f":"IF(AF86=\"\",\"\", INDEX(referentes!D:E,MATCH(DATOS_MAP!AF86,referentes!$E:$E,0),1))","v":""},{"$f":"IF(AI86=\"\",\"\", INDEX(referentes!A:B,MATCH(DATOS_MAP!AI86,referentes!$B:$B,0),1))","v":""},{"$f":"IF(AJ86=\"\",\"\", INDEX(referentes!G:H,MATCH(DATOS_MAP!AJ86,referentes!$H:$H,0),1))","v":""},{"$f":"IF(AK86=\"\",\"\", INDEX(referentes!$V$2:$W$10,MATCH(DATOS_MAP!AK86,referentes!$W$2:$W$10,0),1))","v":""},{"$f":"IF(AL86=\"\",\"\", INDEX(referentes!$AB:$AC,MATCH(DATOS_MAP!AL86,referentes!$AC:$AC,0),1))","v":""},{"$f":"IF(AP86=\"\",\"\", INDEX(referentes!$Y$2:$Z$10,MATCH(DATOS_MAP!AP86,referentes!$Z$2:$Z$10,0),1))","v":""},{"$f":"IF(AN86=\"\",\"\", INDEX(referentes!$AE$2:$AF$10,MATCH(DATOS_MAP!AN86,referentes!$AF$2:$AF$10,0),1))","v":""},{"$f":"IF(AQ86=\"\",\"\", INDEX(referentes!J:K,MATCH(DATOS_MAP!AQ86,referentes!$K:$K,0),1))","v":""},null,{"$f":"IF(AY86=\"\",\"\", INDEX('otras referencias'!O:P,MATCH(AY86,'otras referencias'!$O:$O,0),2))","v":""},null,null,null,null,null,{"$f":"IF(X86<>\"\",INDEX(referentes!$AH:$AL,MATCH(DATOS_MAP!X86,referentes!$AI:$AI,0),5),\"\")","v":""}]
[null,null,null,"",{"$f":"IF(J87=\"\",\"\",CONCATENATE(AD87,DIGITADOR!$B$2,DIGITADOR!$M$1,J87))","v":""},{"$f":"IF(J87=\"\",\"\",CONCATENATE(DIGITADOR!$B$2,AD87,DIGITADOR!$M$1,J87,ROW()))","v":""},null,null,null,{"$f":"IF(X87=\"\",\"\", INDEX(referentes!$AH:$AL,MATCH(DATOS_MAP!X87,referentes!$AI:$AI,0),1))","v":""},"",{"$f":"IF(AF87=\"\",\"\", INDEX(referentes!D:E,MATCH(DATOS_MAP!AF87,referentes!$E:$E,0),1))","v":""},{"$f":"IF(AI87=\"\",\"\", INDEX(referentes!A:B,MATCH(DATOS_MAP!AI87,referentes!$B:$B,0),1))","v":""},{"$f":"IF(AJ87=\"\",\"\", INDEX(referentes!G:H,MATCH(DATOS_MAP!AJ87,referentes!$H:$H,0),1))","v":""},{"$f":"IF(AK87=\"\",\"\", INDEX(referentes!$V$2:$W$10,MATCH(DATOS_MAP!AK87,referentes!$W$2:$W$10,0),1))","v":""},{"$f":"IF(AL87=\"\",\"\", INDEX(referentes!$AB:$AC,MATCH(DATOS_MAP!AL87,referentes!$AC:$AC,0),1))","v":""},{"$f":"IF(AP87=\"\",\"\", INDEX(referentes!$Y$2:$Z$10,MATCH(DATOS_MAP!AP87,referentes!$Z$2:$Z$10,0),1))","v":""},{"$f":"IF(AN87=\"\",\"\", INDEX(referentes!$AE$2:$AF$10,MATCH(DATOS_MAP!AN87,referentes!$AF$2:$AF$10,0),1))","v":""},{"$f":"IF(AQ87=\"\",\"\", INDEX(referentes!J:K,MATCH(DATOS_MAP!AQ87,referentes!$K:$K,0),1))","v":""},null,{"$f":"IF(AY87=\"\",\"\", INDEX('otras referencias'!O:P,MATCH(AY87,'otras referencias'!$O:$O,0),2))","v":""},null,null,null,null,null,{"$f":"IF(X87<>\"\",INDEX(referentes!$AH:$AL,MATCH(DATOS_MAP!X87,referentes!$AI:$AI,0),5),\"\")","v":""}]
[null,null,null,"",{"$f":"IF(J88=\"\",\"\",CONCATENATE(AD88,DIGITADOR!$B$2,DIGITADOR!$M$1,J88))","v":""},{"$f":"IF(J88=\"\",\"\",CONCATENATE(DIGITADOR!$B$2,AD88,DIGITADOR!$M$1,J88,ROW()))","v":""},null,null,null,{"$f":"IF(X88=\"\",\"\", INDEX(referentes!$AH:$AL,MATCH(DATOS_MAP!X88,referentes!$AI:$AI,0),1))","v":""},"",{"$f":"IF(AF88=\"\",\"\", INDEX(referentes!D:E,MATCH(DATOS_MAP!AF88,referentes!$E:$E,0),1))","v":""},{"$f":"IF(AI88=\"\",\"\", INDEX(referentes!A:B,MATCH(DATOS_MAP!AI88,referentes!$B:$B,0),1))","v":""},{"$f":"IF(AJ88=\"\",\"\", INDEX(referentes!G:H,MATCH(DATOS_MAP!AJ88,referentes!$H:$H,0),1))","v":""},{"$f":"IF(AK88=\"\",\"\", INDEX(referentes!$V$2:$W$10,MATCH(DATOS_MAP!AK88,referentes!$W$2:$W$10,0),1))","v":""},{"$f":"IF(AL88=\"\",\"\", INDEX(referentes!$AB:$AC,MATCH(DATOS_MAP!AL88,referentes!$AC:$AC,0),1))","v":""},{"$f":"IF(AP88=\"\",\"\", INDEX(referentes!$Y$2:$Z$10,MATCH(DATOS_MAP!AP88,referentes!$Z$2:$Z$10,0),1))","v":""},{"$f":"IF(AN88=\"\",\"\", INDEX(referentes!$AE$2:$AF$10,MATCH(DATOS_MAP!AN88,referentes!$AF$2:$AF$10,0),1))","v":""},{"$f":"IF(AQ88=\"\",\"\", INDEX(referentes!J:K,MATCH(DATOS_MAP!AQ88,referentes!$K:$K,0),1))","v":""},null,{"$f":"IF(AY88=\"\",\"\", INDEX('otras referencias'!O:P,MATCH(AY88,'otras referencias'!$O:$O,0),2))","v":""},null,null,null,null,null,{"$f":"IF(X88<>\"\",INDEX(referentes!$AH:$AL,MATCH(DATOS_MAP!X88,referentes!$AI:$AI,0),5),\"\")","v":""}]
[null,null,null,"",{"$f":"IF(J89=\"\",\"\",CONCATENATE(AD89,DIGITADOR!$B$2,DIGITADOR!$M$1,J89))","v":""},{"$f":"IF(J89=\"\",\"\",CONCATENATE(DIGITADOR!$B$2,AD89,DIGITADOR!$M$1,J89,ROW()))","v":""},null,null,null,{"$f":"IF(X89=\"\",\"\", INDEX(referentes!$AH:$AL,MATCH(DATOS_MAP!X89,referentes!$AI:$AI,0),1))","v":""},"",{"$f":"IF(AF89=\"\",\"\", INDEX(referentes!D:E,MATCH(DATOS_MAP!AF89,referentes!$E:$E,0),1))","v":""},{"$f":"IF(AI89=\"\",\"\", INDEX(referentes!A:B,MATCH(DATOS_MAP!AI89,referentes!$B:$B,0),1))","v":""},{"$f":"IF(AJ89=\"\",\"\", INDEX(referentes!G:H,MATCH(DATOS_MAP!AJ89,referentes!$H:$H,0),1))","v":""},{"$f":"IF(AK89=\"\",\"\", INDEX(referentes!$V$2:$W$10,MATCH(DATOS_MAP!AK89,referentes!$W$2:$W$10,0),1))","v":""},{"$f":"IF(AL89=\"\",\"\", INDEX(referentes!$AB:$AC,MATCH(DATOS_MAP!AL89,referentes!$AC:$AC,0),1))","v":""},{"$f":"IF(AP89=\"\",\"\", INDEX(referentes!$Y$2:$Z$10,MATCH(DATOS_MAP!AP89,referentes!$Z$2:$Z$10,0),1))","v":""},{"$f":"IF(AN89=\"\",\"\", INDEX(referentes!$AE$2:$AF$10,MATCH(DATOS_MAP!AN89,referentes!$AF$2:$AF$10,0),1))","v":""},{"$f":"IF(AQ89=\"\",\"\", INDEX(referentes!J:K,MATCH(DATOS_MAP!AQ89,referentes!$K:$K,0),1))","v":""},null,{"$f":"IF(AY89=\"\",\"\", INDEX('otras referencias'!O:P,MATCH(AY89,'otras referencias'!$O:$O,0),2))","v":""},null,null,null,null,null,{"$f":"IF(X89<>\"\",INDEX(referentes!$AH:$AL,MATCH(DATOS_MAP!X89,referentes!$AI:$AI,0),5),\"\")","v":""}]
[null,null,null,"",{"$f":"IF(J90=\"\",\"\",CONCATENATE(AD90,DIGITADOR!$B$2,DIGITADOR!$M$1,J90))","v":""},{"$f":"IF(J90=\"\",\"\",CONCATENATE(DIGITADOR!$B$2,AD90,DIGITADOR!$M$1,J90,ROW()))","v":""},null,null,null,{"$f":"IF(X90=\"\",\"\", INDEX(referentes!$AH:$AL,MATCH(DATOS_MAP!X90,referentes!$AI:$AI,0),1))","v":""},"",{"$f":"IF(AF90=\"\",\"\", INDEX(referentes!D:E,MATCH(DATOS_MAP!AF90,referentes!$E:$E,0),1))","v":""},{"$f":"IF(AI90=\"\",\"\", INDEX(referentes!A:B,MATCH(DATOS_MAP!AI90,referentes!$B:$B,0),1))","v":""},{"$f":"IF(AJ90=\"\",\"\", INDEX(referentes!G:H,MATCH(DATOS_MAP!AJ90,referentes!$H:$H,0),1))","v":""},{"$f":"IF(AK90=\"\",\"\", INDEX(referentes!$V$2:$W$10,MATCH(DATOS_MAP!AK90,referentes!$W$2:$W$10,0),1))","v":""},{"$f":"IF(AL90=\"\",\"\", INDEX(referentes!$AB:$AC,MATCH(DATOS_MAP!AL90,referentes!$AC:$AC,0),1))","v":""},{"$f":"IF(AP90=\"\",\"\", INDEX(referentes!$Y$2:$Z$10,MATCH(DATOS_MAP!AP90,referentes!$Z$2:$Z$10,0),1))","v":""},{"$f":"IF(AN90=\"\",\"\", INDEX(referentes!$AE$2:$AF$10,MATCH(DATOS_MAP!AN90,referentes!$AF$2:$AF$10,0),1))","v":""},{"$f":"IF(AQ90=\"\",\"\", INDEX(referentes!J:K,MATCH(DATOS_MAP!AQ90,referentes!$K:$K,0),1))","v":""},null,{"$f":"IF(AY90=\"\",\"\", INDEX('otras referencias'!O:P,MATCH(AY90,'otras referencias'!$O:$O,0),2))","v":""},null,null,null,null,null,{"$f":"IF(X90<>\"\",INDEX(referentes!$AH:$AL,MATCH(DATOS_MAP!X90,referentes!$AI:$AI,0),5),\"\")","v":""}]
[null,null,null,"",{"$f":"IF(J91=\"\",\"\",CONCATENATE(AD91,DIGITADOR!$B$2,DIGITADOR!$M$1,J91))","v":""},{"$f":"IF(J91=\"\",\"\",CONCATENATE(DIGITADOR!$B$2,AD91,DIGITADOR!$M$1,J91,ROW()))","v":""},null,null,null,{"$f":"IF(X91=\"\",\"\", INDEX(referentes!$AH:$AL,MATCH(DATOS_MAP!X91,referentes!$AI:$AI,0),1))","v":""},"",{"$f":"IF(AF91=\"\",\"\", INDEX(referentes!D:E,MATCH(DATOS_MAP!AF91,referentes!$E:$E,0),1))","v":""},{"$f":"IF(AI91=\"\",\"\", INDEX(referentes!A:B,MATCH(DATOS_MAP!AI91,referentes!$B:$B,0),1))","v":""},{"$f":"IF(AJ91=\"\",\"\", INDEX(referentes!G:H,MATCH(DATOS_MAP!AJ91,referentes!$H:$H,0),1))","v":""},{"$f":"IF(AK91=\"\",\"\", INDEX(referentes!$V$2:$W$10,MATCH(DATOS_MAP!AK91,referentes!$W$2:$W$10,0),1))","v":""},{"$f":"IF(AL91=\"\",\"\", INDEX(referentes!$AB:$AC,MATCH(DATOS_MAP!AL91,referentes!$AC:$AC,0),1))","v":""},{"$f":"IF(AP91=\"\",\"\", INDEX(referentes!$Y$2:$Z$10,MATCH(DATOS_MAP!AP91,referentes!$Z$2:$Z$10,0),1))","v":""},{"$f":"IF(AN91=\"\",\"\", INDEX(referentes!$AE$2:$AF$10,MATCH(DATOS_MAP!AN91,referentes!$AF$2:$AF$10,0),1))","v":""},{"$f":"IF(AQ91=\"\",\"\", INDEX(referentes!J:K,MATCH(DATOS_MAP!AQ91,referentes!$K:$K,0),1))","v":""},null,{"$f":"IF(AY91=\"\",\"\", INDEX('otras referencias'!O:P,MATCH(AY91,'otras referencias'!$O:$O,0),2))","v":""},null,null,null,null,null,{"$f":"IF(X91<>\"\",INDEX(referentes!$AH:$AL,MATCH(DATOS_MAP!X91,referentes!$AI:$AI,0),5),\"\")","v":""}]
[null,null,null,"",{"$f":"IF(J92=\"\",\"\",CONCATENATE(AD92,DIGITADOR!$B$2,DIGITADOR!$M$1,J92))","v":""},{"$f":"IF(J92=\"\",\"\",CONCATENATE(DIGITADOR!$B$2,AD92,DIGITADOR!$M$1,J92,ROW()))","v":""},null,null,null,{"$f":"IF(X92=\"\",\"\", INDEX(referentes!$AH:$AL,MATCH(DATOS_MAP!X92,referentes!$AI:$AI,0),1))","v":""},"",{"$f":"IF(AF92=\"\",\"\", INDEX(referentes!D:E,MATCH(DATOS_MAP!AF92,referentes!$E:$E,0),1))","v":""},{"$f":"IF(AI92=\"\",\"\", INDEX(referentes!A:B,MATCH(DATOS_MAP!AI92,referentes!$B:$B,0),1))","v":""},{"$f":"IF(AJ92=\"\",\"\", INDEX(referentes!G:H,MATCH(DATOS_MAP!AJ92,referentes!$H:$H,0),1))","v":""},{"$f":"IF(AK92=\"\",\"\", INDEX(referentes!$V$2:$W$10,MATCH(DATOS_MAP!AK92,referentes!$W$2:$W$10,0),1))","v":""},{"$f":"IF(AL92=\"\",\"\", INDEX(referentes!$AB:$AC,MATCH(DATOS_MAP!AL92,referentes!$AC:$AC,0),1))","v":""},{"$f":"IF(AP92=\"\",\"\", INDEX(referentes!$Y$2:$Z$10,MATCH(DATOS_MAP!AP92,referentes!$Z$2:$Z$10,0),1))","v":""},{"$f":"IF(AN92=\"\",\"\", INDEX(referentes!$AE$2:$AF$10,MATCH(DATOS_MAP!AN92,referentes!$AF$2:$AF$10,0),1))","v":""},{"$f":"IF(AQ92=\"\",\"\", INDEX(referentes!J:K,MATCH(DATOS_MAP!AQ92,referentes!$K:$K,0),1))","v":""},null,{"$f":"IF(AY92=\"\",\"\", INDEX('otras referencias'!O:P,MATCH(AY92,'otras referencias'!$O:$O,0),2))","v":""},null,null,null,null,null,{"$f":"IF(X92<>\"\",INDEX(referentes!$AH:$AL,MATCH(DATOS_MAP!X92,referentes!$AI:$AI,0),5),\"\")","v":""}]
[null,null,null,"",{"$f":"IF(J93=\"\",\"\",CONCATENATE(AD93,DIGITADOR!$B$2,DIGITADOR!$M$1,J93))","v":""},{"$f":"IF(J93=\"\",\"\",CONCATENATE(DIGITADOR!$B$2,AD93,DIGITADOR!$M$1,J93,ROW()))","v":""},null,null,null,{"$f":"IF(X93=\"\",\"\", INDEX(referentes!$AH:$AL,MATCH(DATOS_MAP!X93,referentes!$AI:$AI,0),1))","v":""},"",{"$f":"IF(AF93=\"\",\"\", INDEX(referentes!D:E,MATCH(DATOS_MAP!AF93,referentes!$E:$E,0),1))","v":""},{"$f":"IF(AI93=\"\",\"\", INDEX(referentes!A:B,MATCH(DATOS_MAP!AI93,referentes!$B:$B,0),1))","v":""},{"$f":"IF(AJ93=\"\",\"\", INDEX(referentes!G:H,MATCH(DATOS_MAP!AJ93,referentes!$H:$H,0),1))","v":""},{"$f":"IF(AK93=\"\",\"\", INDEX(referentes!$V$2:$W$10,MATCH(DATOS_MAP!AK93,referentes!$W$2:$W$10,0),1))","v":""},{"$f":"IF(AL93=\"\",\"\", INDEX(referentes!$AB:$AC,MATCH(DATOS_MAP!AL93,referentes!$AC:$AC,0),1))","v":""},{"$f":"IF(AP93=\"\",\"\", INDEX(referentes!$Y$2:$Z$10,MATCH(DATOS_MAP!AP93,referentes!$Z$2:$Z$10,0),1))","v":""},{"$f":"IF(AN93=\"\",\"\", INDEX(referentes!$AE$2:$AF$10,MATCH(DATOS_MAP!AN93,referentes!$AF$2:$AF$10,0),1))","v":""},{"$f":"IF(AQ93=\"\",\"\", INDEX(referentes!J:K,MATCH(DATOS_MAP!AQ93,referentes!$K:$K,0),1))","v":""},null,{"$f":"IF(AY93=\"\",\"\", INDEX('otras referencias'!O:P,MATCH(AY93,'otras referencias'!$O:$O,0),2))","v":""},null,null,null,null,null,{"$f":"IF(X93<>\"\",INDEX(referentes!$AH:$AL,MATCH(DATOS_MAP!X93,referentes!$AI:$AI,0),5),\"\")","v":""}]
[null,null,null,"",{"$f":"IF(J94=\"\",\"\",CONCATENATE(AD94,DIGITADOR!$B$2,DIGITADOR!$M$1,J94))","v":""},{"$f":"IF(J94=\"\",\"\",CONCATENATE(DIGITADOR!$B$2,AD94,DIGITADOR!$M$1,J94,ROW()))","v":""},null,null,null,{"$f":"IF(X94=\"\",\"\", INDEX(referentes!$AH:$AL,MATCH(DATOS_MAP!X94,referentes!$AI:$AI,0),1))","v":""},"",{"$f":"IF(AF94=\"\",\"\", INDEX(referentes!D:E,MATCH(DATOS_MAP!AF94,referentes!$E:$E,0),1))","v":""},{"$f":"IF(AI94=\"\",\"\", INDEX(referentes!A:B,MATCH(DATOS_MAP!AI94,referentes!$B:$B,0),1))","v":""},{"$f":"IF(AJ94=\"\",\"\", INDEX(referentes!G:H,MATCH(DATOS_MAP!AJ94,referentes!$H:$H,0),1))","v":""},{"$f":"IF(AK94=\"\",\"\", INDEX(referentes!$V$2:$W$10,MATCH(DATOS_MAP!AK94,referentes!$W$2:$W$10,0),1))","v":""},{"$f":"IF(AL94=\"\",\"\", INDEX(referentes!$AB:$AC,MATCH(DATOS_MAP!AL94,referentes!$AC:$AC,0),1))","v":""},{"$f":"IF(AP94=\"\",\"\", INDEX(referentes!$Y$2:$Z$10,MATCH(DATOS_MAP!AP94,referentes!$Z$2:$Z$10,0),1))","v":""},{"$f":"IF(AN94=\"\",\"\", INDEX(referentes!$AE$2:$AF$10,MATCH(DATOS_MAP!AN94,referentes!$AF$2:$AF$10,0),1))","v":""},{"$f":"IF(AQ94=\"\",\"\", INDEX(referentes!J:K,MATCH(DATOS_MAP!AQ94,referentes!$K:$K,0),1))","v":""},null,{"$f":"IF(AY94=\"\",\"\", INDEX('otras referencias'!O:P,MATCH(AY94,'otras referencias'!$O:$O,0),2))","v":""},null,null,null,null,null,{"$f":"IF(X94<>\"\",INDEX(referentes!$AH:$AL,MATCH(DATOS_MAP!X94,referentes!$AI:$AI,0),5),\"\")","v":""}]
[null,null,null,"",{"$f":"IF(J95=\"\",\"\",CONCATENATE(AD95,DIGITADOR!$B$2,DIGITADOR!$M$1,J95))","v":""},{"$f":"IF(J95=\"\",\"\",CONCATENATE(DIGITADOR!$B$2,AD95,DIGITADOR!$M$1,J95,ROW()))","v":""},null,null,null,{"$f":"IF(X95=\"\",\"\", INDEX(referentes!$AH:$AL,MATCH(DATOS_MAP!X95,referentes!$AI:$AI,0),1))","v":""},"",{"$f":"IF(AF95=\"\",\"\", INDEX(referentes!D:E,MATCH(DATOS_MAP!AF95,referentes!$E:$E,0),1))","v":""},{"$f":"IF(AI95=\"\",\"\", INDEX(referentes!A:B,MATCH(DATOS_MAP!AI95,referentes!$B:$B,0),1))","v":""},{"$f":"IF(AJ95=\"\",\"\", INDEX(referentes!G:H,MATCH(DATOS_MAP!AJ95,referentes!$H:$H,0),1))","v":""},{"$f":"IF(AK95=\"\",\"\", INDEX(referentes!$V$2:$W$10,MATCH(DATOS_MAP!AK95,referentes!$W$2:$W$10,0),1))","v":""},{"$f":"IF(AL95=\"\",\"\", INDEX(referentes!$AB:$AC,MATCH(DATOS_MAP!AL95,referentes!$AC:$AC,0),1))","v":""},{"$f":"IF(AP95=\"\",\"\", INDEX(referentes!$Y$2:$Z$10,MATCH(DATOS_MAP!AP95,referentes!$Z$2:$Z$10,0),1))","v":""},{"$f":"IF(AN95=\"\",\"\", INDEX(referentes!$AE$2:$AF$10,MATCH(DATOS_MAP!AN95,referentes!$AF$2:$AF$10,0),1))","v":""},{"$f":"IF(AQ95=\"\",\"\", INDEX(referentes!J:K,MATCH(DATOS_MAP!AQ95,referentes!$K:$K,0),1))","v":""},null,{"$f":"IF(AY95=\"\",\"\", INDEX('otras referencias'!O:P,MATCH(AY95,'otras referencias'!$O:$O,0),2))","v":""},null,null,null,null,null,{"$f":"IF(X95<>\"\",INDEX(referentes!$AH:$AL,MATCH(DATOS_MAP!X95,referentes!$AI:$AI,0),5),\"\")","v":""}]
[null,null,null,"",{"$f":"IF(J96=\"\",\"\",CONCATENATE(AD96,DIGITADOR!$B$2,DIGITADOR!$M$1,J96))","v":""},{"$f":"IF(J96=\"\",\"\",CONCATENATE(DIGITADOR!$B$2,AD96,DIGITADOR!$M$1,J96,ROW()))","v":""},null,null,null,{"$f":"IF(X96=\"\",\"\", INDEX(referentes!$AH:$AL,MATCH(DATOS_MAP!X96,referentes!$AI:$AI,0),1))","v":""},"",{"$f":"IF(AF96=\"\",\"\", INDEX(referentes!D:E,MATCH(DATOS_MAP!AF96,referentes!$E:$E,0),1))","v":""},{"$f":"IF(AI96=\"\",\"\", INDEX(referentes!A:B,MATCH(DATOS_MAP!AI96,referentes!$B:$B,0),1))","v":""},{"$f":"IF(AJ96=\"\",\"\", INDEX(referentes!G:H,MATCH(DATOS_MAP!AJ96,referentes!$H:$H,0),1))","v":""},{"$f":"IF(AK96=\"\",\"\", INDEX(referentes!$V$2:$W$10,MATCH(DATOS_MAP!AK96,referentes!$W$2:$W$10,0),1))","v":""},{"$f":"IF(AL96=\"\",\"\", INDEX(referentes!$AB:$AC,MATCH(DATOS_MAP!AL96,referentes!$AC:$AC,0),1))","v":""},{"$f":"IF(AP96=\"\",\"\", INDEX(referentes!$Y$2:$Z$10,MATCH(DATOS_MAP!AP96,referentes!$Z$2:$Z$10,0),1))","v":""},{"$f":"IF(AN96=\"\",\"\", INDEX(referentes!$AE$2:$AF$10,MATCH(DATOS_MAP!AN96,referentes!$AF$2:$AF$10,0),1))","v":""},{"$f":"IF(AQ96=\"\",\"\", INDEX(referentes!J:K,MATCH(DATOS_MAP!AQ96,referentes!$K:$K,0),1))","v":""},null,{"$f":"IF(AY96=\"\",\"\", INDEX('otras referencias'!O:P,MATCH(AY96,'otras referencias'!$O:$O,0),2))","v":""},null,null,null,null,null,{"$f":"IF(X96<>\"\",INDEX(referentes!$AH:$AL,MATCH(DATOS_MAP!X96,referentes!$AI:$AI,0),5),\"\")","v":""}]
[null,null,null,"",{"$f":"IF(J97=\"\",\"\",CONCATENATE(AD97,DIGITADOR!$B$2,DIGITADOR!$M$1,J97))","v":""},{"$f":"IF(J97=\"\",\"\",CONCATENATE(DIGITADOR!$B$2,AD97,DIGITADOR!$M$1,J97,ROW()))","v":""},null,null,null,{"$f":"IF(X97=\"\",\"\", INDEX(referentes!$AH:$AL,MATCH(DATOS_MAP!X97,referentes!$AI:$AI,0),1))","v":""},"",{"$f":"IF(AF97=\"\",\"\", INDEX(referentes!D:E,MATCH(DATOS_MAP!AF97,referentes!$E:$E,0),1))","v":""},{"$f":"IF(AI97=\"\",\"\", INDEX(referentes!A:B,MATCH(DATOS_MAP!AI97,referentes!$B:$B,0),1))","v":""},{"$f":"IF(AJ97=\"\",\"\", INDEX(referentes!G:H,MATCH(DATOS_MAP!AJ97,referentes!$H:$H,0),1))","v":""},{"$f":"IF(AK97=\"\",\"\", INDEX(referentes!$V$2:$W$10,MATCH(DATOS_MAP!AK97,referentes!$W$2:$W$10,0),1))","v":""},{"$f":"IF(AL97=\"\",\"\", INDEX(referentes!$AB:$AC,MATCH(DATOS_MAP!AL97,referentes!$AC:$AC,0),1))","v":""},{"$f":"IF(AP97=\"\",\"\", INDEX(referentes!$Y$2:$Z$10,MATCH(DATOS_MAP!AP97,referentes!$Z$2:$Z$10,0),1))","v":""},{"$f":"IF(AN97=\"\",\"\", INDEX(referentes!$AE$2:$AF$10,MATCH(DATOS_MAP!AN97,referentes!$AF$2:$AF$10,0),1))","v":""},{"$f":"IF(AQ97=\"\",\"\", INDEX(referentes!J:K,MATCH(DATOS_MAP!AQ97,referentes!$K:$K,0),1))","v":""},null,{"$f":"IF(AY97=\"\",\"\", INDEX('otras referencias'!O:P,MATCH(AY97,'otras referencias'!$O:$O,0),2))","v":""},null,null,null,null,null,{"$f":"IF(X97<>\"\",INDEX(referentes!$AH:$AL,MATCH(DATOS_MAP!X97,referentes!$AI:$AI,0),5),\"\")","v":""}]
[null,null,null,"",{"$f":"IF(J98=\"\",\"\",CONCATENATE(AD98,DIGITADOR!$B$2,DIGITADOR!$M$1,J98))","v":""},{"$f":"IF(J98=\"\",\"\",CONCATENATE(DIGITADOR!$B$2,AD98,DIGITADOR!$M$1,J98,ROW()))","v":""},null,null,null,{"$f":"IF(X98=\"\",\"\", INDEX(referentes!$AH:$AL,MATCH(DATOS_MAP!X98,referentes!$AI:$AI,0),1))","v":""},"",{"$f":"IF(AF98=\"\",\"\", INDEX(referentes!D:E,MATCH(DATOS_MAP!AF98,referentes!$E:$E,0),1))","v":""},{"$f":"IF(AI98=\"\",\"\", INDEX(referentes!A:B,MATCH(DATOS_MAP!AI98,referentes!$B:$B,0),1))","v":""},{"$f":"IF(AJ98=\"\",\"\", INDEX(referentes!G:H,MATCH(DATOS_MAP!AJ98,referentes!$H:$H,0),1))","v":""},{"$f":"IF(AK98=\"\",\"\", INDEX(referentes!$V$2:$W$10,MATCH(DATOS_MAP!AK98,referentes!$W$2:$W$10,0),1))","v":""},{"$f":"IF(AL98=\"\",\"\", INDEX(referentes!$AB:$AC,MATCH(DATOS_MAP!AL98,referentes!$AC:$AC,0),1))","v":""},{"$f":"IF(AP98=\"\",\"\", INDEX(referentes!$Y$2:$Z$10,MATCH(DATOS_MAP!AP98,referentes!$Z$2:$Z$10,0),1))","v":""},{"$f":"IF(AN98=\"\",\"\", INDEX(referentes!$AE$2:$AF$10,MATCH(DATOS_MAP!AN98,referentes!$AF$2:$AF$10,0),1))","v":""},{"$f":"IF(AQ98=\"\",\"\", INDEX(referentes!J:K,MATCH(DATOS_MAP!AQ98,referentes!$K:$K,0),1))","v":""},null,{"$f":"IF(AY98=\"\",\"\", INDEX('otras referencias'!O:P,MATCH(AY98,'otras referencias'!$O:$O,0),2))","v":""},null,null,null,null,null,{"$f":"IF(X98<>\"\",INDEX(referentes!$AH:$AL,MATCH(DATOS_MAP!X98,referentes!$AI:$AI,0),5),\"\")","v":""}]
[null,null,null,"",{"$f":"IF(J99=\"\",\"\",CONCATENATE(AD99,DIGITADOR!$B$2,DIGITADOR!$M$1,J99))","v":""},{"$f":"IF(J99=\"\",\"\",CONCATENATE(DIGITADOR!$B$2,AD99,DIGITADOR!$M$1,J99,ROW()))","v":""},null,null,null,{"$f":"IF(X99=\"\",\"\", INDEX(referentes!$AH:$AL,MATCH(DATOS_MAP!X99,referentes!$AI:$AI,0),1))","v":""},"",{"$f":"IF(AF99=\"\",\"\", INDEX(referentes!D:E,MATCH(DATOS_MAP!AF99,referentes!$E:$E,0),1))","v":""},{"$f":"IF(AI99=\"\",\"\", INDEX(referentes!A:B,MATCH(DATOS_MAP!AI99,referentes!$B:$B,0),1))","v":""},{"$f":"IF(AJ99=\"\",\"\", INDEX(referentes!G:H,MATCH(DATOS_MAP!AJ99,referentes!$H:$H,0),1))","v":""},{"$f":"IF(AK99=\"\",\"\", INDEX(referentes!$V$2:$W$10,MATCH(DATOS_MAP!AK99,referentes!$W$2:$W$10,0),1))","v":""},{"$f":"IF(AL99=\"\",\"\", INDEX(referentes!$AB:$AC,MATCH(DATOS_MAP!AL99,referentes!$AC:$AC,0),1))","v":""},{"$f":"IF(AP99=\"\",\"\", INDEX(referentes!$Y$2:$Z$10,MATCH(DATOS_MAP!AP99,referentes!$Z$2:$Z$10,0),1))","v":""},{"$f":"IF(AN99=\"\",\"\", INDEX(referentes!$AE$2:$AF$10,MATCH(DATOS_MAP!AN99,referentes!$AF$2:$AF$10,0),1))","v":""},{"$f":"IF(AQ99=\"\",\"\", INDEX(referentes!J:K,MATCH(DATOS_MAP!AQ99,referentes!$K:$K,0),1))","v":""},null,{"$f":"IF(AY99=\"\",\"\", INDEX('otras referencias'!O:P,MATCH(AY99,'otras referencias'!$O:$O,0),2))","v":""},null,null,null,null,null,{"$f":"IF(X99<>\"\",INDEX(referentes!$AH:$AL,MATCH(DATOS_MAP!X99,referentes!$AI:$AI,0),5),\"\")","v":""}]
[null,null,null,"",{"$f":"IF(J100=\"\",\"\",CONCATENATE(AD100,DIGITADOR!$B$2,DIGITADOR!$M$1,J100))","v":""},{"$f":"IF(J100=\"\",\"\",CONCATENATE(DIGITADOR!$B$2,AD100,DIGITADOR!$M$1,J100,ROW()))","v":""},null,null,null,{"$f":"IF(X100=\"\",\"\", INDEX(referentes!$AH:$AL,MATCH(DATOS_MAP!X100,referentes!$AI:$AI,0),1))","v":""},"",{"$f":"IF(AF100=\"\",\"\", INDEX(referentes!D:E,MATCH(DATOS_MAP!AF100,referentes!$E:$E,0),1))","v":""},{"$f":"IF(AI100=\"\",\"\", INDEX(referentes!A:B,MATCH(DATOS_MAP!AI100,referentes!$B:$B,0),1))","v":""},{"$f":"IF(AJ100=\"\",\"\", INDEX(referentes!G:H,MATCH(DATOS_MAP!AJ100,referentes!$H:$H,0),1))","v":""},{"$f":"IF(AK100=\"\",\"\", INDEX(referentes!$V$2:$W$10,MATCH(DATOS_MAP!AK100,referentes!$W$2:$W$10,0),1))","v":""},{"$f":"IF(AL100=\"\",\"\", INDEX(referentes!$AB:$AC,MATCH(DATOS_MAP!AL100,referentes!$AC:$AC,0),1))","v":""},{"$f":"IF(AP100=\"\",\"\", INDEX(referentes!$Y$2:$Z$10,MATCH(DATOS_MAP!AP100,referentes!$Z$2:$Z$10,0),1))","v":""},{"$f":"IF(AN100=\"\",\"\", INDEX(referentes!$AE$2:$AF$10,MATCH(DATOS_MAP!AN100,referentes!$AF$2:$AF$10,0),1))","v":""},{"$f":"IF(AQ100=\"\",\"\", INDEX(referentes!J:K,MATCH(DATOS_MAP!AQ100,referentes!$K:$K,0),1))","v":""},null,{"$f":"IF(AY100=\"\",\"\", INDEX('otras referencias'!O:P,MATCH(AY100,'otras referencias'!$O:$O,0),2))","v":""},null,null,null,null,null,{"$f":"IF(X100<>\"\",INDEX(referentes!$AH:$AL,MATCH(DATOS_MAP!X100,referentes!$AI:$AI,0),5),\"\")","v":""}]
[null,null,null,"",{"$f":"IF(J101=\"\",\"\",CONCATENATE(AD101,DIGITADOR!$B$2,DIGITADOR!$M$1,J101))","v":""},{"$f":"IF(J101=\"\",\"\",CONCATENATE(DIGITADOR!$B$2,AD101,DIGITADOR!$M$1,J101,ROW()))","v":""},null,null,null,{"$f":"IF(X101=\"\",\"\", INDEX(referentes!$AH:$AL,MATCH(DATOS_MAP!X101,referentes!$AI:$AI,0),1))","v":""},"",{"$f":"IF(AF101=\"\",\"\", INDEX(referentes!D:E,MATCH(DATOS_MAP!AF101,referentes!$E:$E,0),1))","v":""},{"$f":"IF(AI101=\"\",\"\", INDEX(referentes!A:B,MATCH(DATOS_MAP!AI101,referentes!$B:$B,0),1))","v":""},{"$f":"IF(AJ101=\"\",\"\", INDEX(referentes!G:H,MATCH(DATOS_MAP!AJ101,referentes!$H:$H,0),1))","v":""},{"$f":"IF(AK101=\"\",\"\", INDEX(referentes!$V$2:$W$10,MATCH(DATOS_MAP!AK101,referentes!$W$2:$W$10,0),1))","v":""},{"$f":"IF(AL101=\"\",\"\", INDEX(referentes!$AB:$AC,MATCH(DATOS_MAP!AL101,referentes!$AC:$AC,0),1))","v":""},{"$f":"IF(AP101=\"\",\"\", INDEX(referentes!$Y$2:$Z$10,MATCH(DATOS_MAP!AP101,referentes!$Z$2:$Z$10,0),1))","v":""},{"$f":"IF(AN101=\"\",\"\", INDEX(referentes!$AE$2:$AF$10,MATCH(DATOS_MAP!AN101,referentes!$AF$2:$AF$10,0),1))","v":""},{"$f":"IF(AQ101=\"\",\"\", INDEX(referentes!J:K,MATCH(DATOS_MAP!AQ101,referentes!$K:$K,0),1))","v":""},null,{"$f":"IF(AY101=\"\",\"\", INDEX('otras referencias'!O:P,MATCH(AY101,'otras referencias'!$O:$O,0),2))","v":""},null,null,null,null,null,{"$f":"IF(X101<>\"\",INDEX(referentes!$AH:$AL,MATCH(DATOS_MAP!X101,referentes!$AI:$AI,0),5),\"\")","v":""}]
[null,null,null,"",{"$f":"IF(J102=\"\",\"\",CONCATENATE(AD102,DIGITADOR!$B$2,DIGITADOR!$M$1,J102))","v":""},{"$f":"IF(J102=\"\",\"\",CONCATENATE(DIGITADOR!$B$2,AD102,DIGITADOR!$M$1,J102,ROW()))","v":""},null,null,null,{"$f":"IF(X102=\"\",\"\", INDEX(referentes!$AH:$AL,MATCH(DATOS_MAP!X102,referentes!$AI:$AI,0),1))","v":""},"",{"$f":"IF(AF102=\"\",\"\", INDEX(referentes!D:E,MATCH(DATOS_MAP!AF102,referentes!$E:$E,0),1))","v":""},{"$f":"IF(AI102=\"\",\"\", INDEX(referentes!A:B,MATCH(DATOS_MAP!AI102,referentes!$B:$B,0),1))","v":""},{"$f":"IF(AJ102=\"\",\"\", INDEX(referentes!G:H,MATCH(DATOS_MAP!AJ102,referentes!$H:$H,0),1))","v":""},{"$f":"IF(AK102=\"\",\"\", INDEX(referentes!$V$2:$W$10,MATCH(DATOS_MAP!AK102,referentes!$W$2:$W$10,0),1))","v":""},{"$f":"IF(AL102=\"\",\"\", INDEX(referentes!$AB:$AC,MATCH(DATOS_MAP!AL102,referentes!$AC:$AC,0),1))","v":""},{"$f":"IF(AP102=\"\",\"\", INDEX(referentes!$Y$2:$Z$10,MATCH(DATOS_MAP!AP102,referentes!$Z$2:$Z$10,0),1))","v":""},{"$f":"IF(AN102=\"\",\"\", INDEX(referentes!$AE$2:$AF$10,MATCH(DATOS_MAP!AN102,referentes!$AF$2:$AF$10,0),1))","v":""},{"$f":"IF(AQ102=\"\",\"\", INDEX(referentes!J:K,MATCH(DATOS_MAP!AQ102,referentes!$K:$K,0),1))","v":""},null,{"$f":"IF(AY102=\"\",\"\", INDEX('otras referencias'!O:P,MATCH(AY102,'otras referencias'!$O:$O,0),2))","v":""},null,null,null,null,null,{"$f":"IF(X102<>\"\",INDEX(referentes!$AH:$AL,MATCH(DATOS_MAP!X102,referentes!$AI:$AI,0),5),\"\")","v":""}]
[null,null,null,"",{"$f":"IF(J103=\"\",\"\",CONCATENATE(AD103,DIGITADOR!$B$2,DIGITADOR!$M$1,J103))","v":""},{"$f":"IF(J103=\"\",\"\",CONCATENATE(DIGITADOR!$B$2,AD103,DIGITADOR!$M$1,J103,ROW()))","v":""},null,null,null,{"$f":"IF(X103=\"\",\"\", INDEX(referentes!$AH:$AL,MATCH(DATOS_MAP!X103,referentes!$AI:$AI,0),1))","v":""},"",{"$f":"IF(AF103=\"\",\"\", INDEX(referentes!D:E,MATCH(DATOS_MAP!AF103,referentes!$E:$E,0),1))","v":""},{"$f":"IF(AI103=\"\",\"\", INDEX(referentes!A:B,MATCH(DATOS_MAP!AI103,referentes!$B:$B,0),1))","v":""},{"$f":"IF(AJ103=\"\",\"\", INDEX(referentes!G:H,MATCH(DATOS_MAP!AJ103,referentes!$H:$H,0),1))","v":""},{"$f":"IF(AK103=\"\",\"\", INDEX(referentes!$V$2:$W$10,MATCH(DATOS_MAP!AK103,referentes!$W$2:$W$10,0),1))","v":""},{"$f":"IF(AL103=\"\",\"\", INDEX(referentes!$AB:$AC,MATCH(DATOS_MAP!AL103,referentes!$AC:$AC,0),1))","v":""},{"$f":"IF(AP103=\"\",\"\", INDEX(referentes!$Y$2:$Z$10,MATCH(DATOS_MAP!AP103,referentes!$Z$2:$Z$10,0),1))","v":""},{"$f":"IF(AN103=\"\",\"\", INDEX(referentes!$AE$2:$AF$10,MATCH(DATOS_MAP!AN103,referentes!$AF$2:$AF$10,0),1))","v":""},{"$f":"IF(AQ103=\"\",\"\", INDEX(referentes!J:K,MATCH(DATOS_MAP!AQ103,referentes!$K:$K,0),1))","v":""},null,{"$f":"IF(AY103=\"\",\"\", INDEX('otras referencias'!O:P,MATCH(AY103,'otras referencias'!$O:$O,0),2))","v":""},null,null,null,null,null,{"$f":"IF(X103<>\"\",INDEX(referentes!$AH:$AL,MATCH(DATOS_MAP!X103,referentes!$AI:$AI,0),5),\"\")","v":""}]
[null,null,null,"",{"$f":"IF(J104=\"\",\"\",CONCATENATE(AD104,DIGITADOR!$B$2,DIGITADOR!$M$1,J104))","v":""},{"$f":"IF(J104=\"\",\"\",CONCATENATE(DIGITADOR!$B$2,AD104,DIGITADOR!$M$1,J104,ROW()))","v":""},null,null,null,{"$f":"IF(X104=\"\",\"\", INDEX(referentes!$AH:$AL,MATCH(DATOS_MAP!X104,referentes!$AI:$AI,0),1))","v":""},"",{"$f":"IF(AF104=\"\",\"\", INDEX(referentes!D:E,MATCH(DATOS_MAP!AF104,referentes!$E:$E,0),1))","v":""},{"$f":"IF(AI104=\"\",\"\", INDEX(referentes!A:B,MATCH(DATOS_MAP!AI104,referentes!$B:$B,0),1))","v":""},{"$f":"IF(AJ104=\"\",\"\", INDEX(referentes!G:H,MATCH(DATOS_MAP!AJ104,referentes!$H:$H,0),1))","v":""},{"$f":"IF(AK104=\"\",\"\", INDEX(referentes!$V$2:$W$10,MATCH(DATOS_MAP!AK104,referentes!$W$2:$W$10,0),1))","v":""},{"$f":"IF(AL104=\"\",\"\", INDEX(referentes!$AB:$AC,MATCH(DATOS_MAP!AL104,referentes!$AC:$AC,0),1))","v":""},{"$f":"IF(AP104=\"\",\"\", INDEX(referentes!$Y$2:$Z$10,MATCH(DATOS_MAP!AP104,referentes!$Z$2:$Z$10,0),1))","v":""},{"$f":"IF(AN104=\"\",\"\", INDEX(referentes!$AE$2:$AF$10,MATCH(DATOS_MAP!AN104,referentes!$AF$2:$AF$10,0),1))","v":""},{"$f":"IF(AQ104=\"\",\"\", INDEX(referentes!J:K,MATCH(DATOS_MAP!AQ104,referentes!$K:$K,0),1))","v":""},null,{"$f":"IF(AY104=\"\",\"\", INDEX('otras referencias'!O:P,MATCH(AY104,'otras referencias'!$O:$O,0),2))","v":""},null,null,null,null,null,{"$f":"IF(X104<>\"\",INDEX(referentes!$AH:$AL,MATCH(DATOS_MAP!X104,referentes!$AI:$AI,0),5),\"\")","v":""}]
[null,null,null,"",{"$f":"IF(J105=\"\",\"\",CONCATENATE(AD105,DIGITADOR!$B$2,DIGITADOR!$M$1,J105))","v":""},{"$f":"IF(J105=\"\",\"\",CONCATENATE(DIGITADOR!$B$2,AD105,DIGITADOR!$M$1,J105,ROW()))","v":""},null,null,null,{"$f":"IF(X105=\"\",\"\", INDEX(referentes!$AH:$AL,MATCH(DATOS_MAP!X105,referentes!$AI:$AI,0),1))","v":""},"",{"$f":"IF(AF105=\"\",\"\", INDEX(referentes!D:E,MATCH(DATOS_MAP!AF105,referentes!$E:$E,0),1))","v":""},{"$f":"IF(AI105=\"\",\"\", INDEX(referentes!A:B,MATCH(DATOS_MAP!AI105,referentes!$B:$B,0),1))","v":""},{"$f":"IF(AJ105=\"\",\"\", INDEX(referentes!G:H,MATCH(DATOS_MAP!AJ105,referentes!$H:$H,0),1))","v":""},{"$f":"IF(AK105=\"\",\"\", INDEX(referentes!$V$2:$W$10,MATCH(DATOS_MAP!AK105,referentes!$W$2:$W$10,0),1))","v":""},{"$f":"IF(AL105=\"\",\"\", INDEX(referentes!$AB:$AC,MATCH(DATOS_MAP!AL105,referentes!$AC:$AC,0),1))","v":""},{"$f":"IF(AP105=\"\",\"\", INDEX(referentes!$Y$2:$Z$10,MATCH(DATOS_MAP!AP105,referentes!$Z$2:$Z$10,0),1))","v":""},{"$f":"IF(AN105=\"\",\"\", INDEX(referentes!$AE$2:$AF$10,MATCH(DATOS_MAP!AN105,referentes!$AF$2:$AF$10,0),1))","v":""},{"$f":"IF(AQ105=\"\",\"\", INDEX(referentes!J:K,MATCH(DATOS_MAP!AQ105,referentes!$K:$K,0),1))","v":""},null,{"$f":"IF(AY105=\"\",\"\", INDEX('otras referencias'!O:P,MATCH(AY105,'otras referencias'!$O:$O,0),2))","v":""},null,null,null,null,null,{"$f":"IF(X105<>\"\",INDEX(referentes!$AH:$AL,MATCH(DATOS_MAP!X105,referentes!$AI:$AI,0),5),\"\")","v":""}]
[null,null,null,"",{"$f":"IF(J106=\"\",\"\",CONCATENATE(AD106,DIGITADOR!$B$2,DIGITADOR!$M$1,J106))","v":""},{"$f":"IF(J106=\"\",\"\",CONCATENATE(DIGITADOR!$B$2,AD106,DIGITADOR!$M$1,J106,ROW()))","v":""},null,null,null,{"$f":"IF(X106=\"\",\"\", INDEX(referentes!$AH:$AL,MATCH(DATOS_MAP!X106,referentes!$AI:$AI,0),1))","v":""},"",{"$f":"IF(AF106=\"\",\"\", INDEX(referentes!D:E,MATCH(DATOS_MAP!AF106,referentes!$E:$E,0),1))","v":""},{"$f":"IF(AI106=\"\",\"\", INDEX(referentes!A:B,MATCH(DATOS_MAP!AI106,referentes!$B:$B,0),1))","v":""},{"$f":"IF(AJ106=\"\",\"\", INDEX(referentes!G:H,MATCH(DATOS_MAP!AJ106,referentes!$H:$H,0),1))","v":""},{"$f":"IF(AK106=\"\",\"\", INDEX(referentes!$V$2:$W$10,MATCH(DATOS_MAP!AK106,referentes!$W$2:$W$10,0),1))","v":""},{"$f":"IF(AL106=\"\",\"\", INDEX(referentes!$AB:$AC,MATCH(DATOS_MAP!AL106,referentes!$AC:$AC,0),1))","v":""},{"$f":"IF(AP106=\"\",\"\", INDEX(referentes!$Y$2:$Z$10,MATCH(DATOS_MAP!AP106,referentes!$Z$2:$Z$10,0),1))","v":""},{"$f":"IF(AN106=\"\",\"\", INDEX(referentes!$AE$2:$AF$10,MATCH(DATOS_MAP!AN106,referentes!$AF$2:$AF$10,0),1))","v":""},{"$f":"IF(AQ106=\"\",\"\", INDEX(referentes!J:K,MATCH(DATOS_MAP!AQ106,referentes!$K:$K,0),1))","v":""},null,{"$f":"IF(AY106=\"\",\"\", INDEX('otras referencias'!O:P,MATCH(AY106,'otras referencias'!$O:$O,0),2))","v":""},null,null,null,null,null,{"$f":"IF(X106<>\"\",INDEX(referentes!$AH:$AL,MATCH(DATOS_MAP!X106,referentes!$AI:$AI,0),5),\"\")","v":""}]
[null,null,null,"",{"$f":"IF(J107=\"\",\"\",CONCATENATE(AD107,DIGITADOR!$B$2,DIGITADOR!$M$1,J107))","v":""},{"$f":"IF(J107=\"\",\"\",CONCATENATE(DIGITADOR!$B$2,AD107,DIGITADOR!$M$1,J107,ROW()))","v":""},null,null,null,{"$f":"IF(X107=\"\",\"\", INDEX(referentes!$AH:$AL,MATCH(DATOS_MAP!X107,referentes!$AI:$AI,0),1))","v":""},"",{"$f":"IF(AF107=\"\",\"\", INDEX(referentes!D:E,MATCH(DATOS_MAP!AF107,referentes!$E:$E,0),1))","v":""},{"$f":"IF(AI107=\"\",\"\", INDEX(referentes!A:B,MATCH(DATOS_MAP!AI107,referentes!$B:$B,0),1))","v":""},{"$f":"IF(AJ107=\"\",\"\", INDEX(referentes!G:H,MATCH(DATOS_MAP!AJ107,referentes!$H:$H,0),1))","v":""},{"$f":"IF(AK107=\"\",\"\", INDEX(referentes!$V$2:$W$10,MATCH(DATOS_MAP!AK107,referentes!$W$2:$W$10,0),1))","v":""},{"$f":"IF(AL107=\"\",\"\", INDEX(referentes!$AB:$AC,MATCH(DATOS_MAP!AL107,referentes!$AC:$AC,0),1))","v":""},{"$f":"IF(AP107=\"\",\"\", INDEX(referentes!$Y$2:$Z$10,MATCH(DATOS_MAP!AP107,referentes!$Z$2:$Z$10,0),1))","v":""},{"$f":"IF(AN107=\"\",\"\", INDEX(referentes!$AE$2:$AF$10,MATCH(DATOS_MAP!AN107,referentes!$AF$2:$AF$10,0),1))","v":""},{"$f":"IF(AQ107=\"\",\"\", INDEX(referentes!J:K,MATCH(DATOS_MAP!AQ107,referentes!$K:$K,0),1))","v":""},null,{"$f":"IF(AY107=\"\",\"\", INDEX('otras referencias'!O:P,MATCH(AY107,'otras referencias'!$O:$O,0),2))","v":""},null,null,null,null,null,{"$f":"IF(X107<>\"\",INDEX(referentes!$AH:$AL,MATCH(DATOS_MAP!X107,referentes!$AI:$AI,0),5),\"\")","v":""}]
[null,null,null,"",{"$f":"IF(J108=\"\",\"\",CONCATENATE(AD108,DIGITADOR!$B$2,DIGITADOR!$M$1,J108))","v":""},{"$f":"IF(J108=\"\",\"\",CONCATENATE(DIGITADOR!$B$2,AD108,DIGITADOR!$M$1,J108,ROW()))","v":""},null,null,null,{"$f":"IF(X108=\"\",\"\", INDEX(referentes!$AH:$AL,MATCH(DATOS_MAP!X108,referentes!$AI:$AI,0),1))","v":""},"",{"$f":"IF(AF108=\"\",\"\", INDEX(referentes!D:E,MATCH(DATOS_MAP!AF108,referentes!$E:$E,0),1))","v":""},{"$f":"IF(AI108=\"\",\"\", INDEX(referentes!A:B,MATCH(DATOS_MAP!AI108,referentes!$B:$B,0),1))","v":""},{"$f":"IF(AJ108=\"\",\"\", INDEX(referentes!G:H,MATCH(DATOS_MAP!AJ108,referentes!$H:$H,0),1))","v":""},{"$f":"IF(AK108=\"\",\"\", INDEX(referentes!$V$2:$W$10,MATCH(DATOS_MAP!AK108,referentes!$W$2:$W$10,0),1))","v":""},{"$f":"IF(AL108=\"\",\"\", INDEX(referentes!$AB:$AC,MATCH(DATOS_MAP!AL108,referentes!$AC:$AC,0),1))","v":""},{"$f":"IF(AP108=\"\",\"\", INDEX(referentes!$Y$2:$Z$10,MATCH(DATOS_MAP!AP108,referentes!$Z$2:$Z$10,0),1))","v":""},{"$f":"IF(AN108=\"\",\"\", INDEX(referentes!$AE$2:$AF$10,MATCH(DATOS_MAP!AN108,referentes!$AF$2:$AF$10,0),1))","v":""},{"$f":"IF(AQ108=\"\",\"\", INDEX(referentes!J:K,MATCH(DATOS_MAP!AQ108,referentes!$K:$K,0),1))","v":""},null,{"$f":"IF(AY108=\"\",\"\", INDEX('otras referencias'!O:P,MATCH(AY108,'otras referencias'!$O:$O,0),2))","v":""},null,null,null,null,null,{"$f":"IF(X108<>\"\",INDEX(referentes!$AH:$AL,MATCH(DATOS_MAP!X108,referentes!$AI:$AI,0),5),\"\")","v":""}]
[null,null,null,"",{"$f":"IF(J109=\"\",\"\",CONCATENATE(AD109,DIGITADOR!$B$2,DIGITADOR!$M$1,J109))","v":""},{"$f":"IF(J109=\"\",\"\",CONCATENATE(DIGITADOR!$B$2,AD109,DIGITADOR!$M$1,J109,ROW()))","v":""},null,null,null,{"$f":"IF(X109=\"\",\"\", INDEX(referentes!$AH:$AL,MATCH(DATOS_MAP!X109,referentes!$AI:$AI,0),1))","v":""},"",{"$f":"IF(AF109=\"\",\"\", INDEX(referentes!D:E,MATCH(DATOS_MAP!AF109,referentes!$E:$E,0),1))","v":""},{"$f":"IF(AI109=\"\",\"\", INDEX(referentes!A:B,MATCH(DATOS_MAP!AI109,referentes!$B:$B,0),1))","v":""},{"$f":"IF(AJ109=\"\",\"\", INDEX(referentes!G:H,MATCH(DATOS_MAP!AJ109,referentes!$H:$H,0),1))","v":""},{"$f":"IF(AK109=\"\",\"\", INDEX(referentes!$V$2:$W$10,MATCH(DATOS_MAP!AK109,referentes!$W$2:$W$10,0),1))","v":""},{"$f":"IF(AL109=\"\",\"\", INDEX(referentes!$AB:$AC,MATCH(DATOS_MAP!AL109,referentes!$AC:$AC,0),1))","v":""},{"$f":"IF(AP109=\"\",\"\", INDEX(referentes!$Y$2:$Z$10,MATCH(DATOS_MAP!AP109,referentes!$Z$2:$Z$10,0),1))","v":""},{"$f":"IF(AN109=\"\",\"\", INDEX(referentes!$AE$2:$AF$10,MATCH(DATOS_MAP!AN109,referentes!$AF$2:$AF$10,0),1))","v":""},{"$f":"IF(AQ109=\"\",\"\", INDEX(referentes!J:K,MATCH(DATOS_MAP!AQ109,referentes!$K:$K,0),1))","v":""},null,{"$f":"IF(AY109=\"\",\"\", INDEX('otras referencias'!O:P,MATCH(AY109,'otras referencias'!$O:$O,0),2))","v":""},null,null,null,null,null,{"$f":"IF(X109<>\"\",INDEX(referentes!$AH:$AL,MATCH(DATOS_MAP!X109,referentes!$AI:$AI,0),5),\"\")","v":""}]
[null,null,null,"",{"$f":"IF(J110=\"\",\"\",CONCATENATE(AD110,DIGITADOR!$B$2,DIGITADOR!$M$1,J110))","v":""},{"$f":"IF(J110=\"\",\"\",CONCATENATE(DIGITADOR!$B$2,AD110,DIGITADOR!$M$1,J110,ROW()))","v":""},null,null,null,{"$f":"IF(X110=\"\",\"\", INDEX(referentes!$AH:$AL,MATCH(DATOS_MAP!X110,referentes!$AI:$AI,0),1))","v":""},"",{"$f":"IF(AF110=\"\",\"\", INDEX(referentes!D:E,MATCH(DATOS_MAP!AF110,referentes!$E:$E,0),1))","v":""},{"$f":"IF(AI110=\"\",\"\", INDEX(referentes!A:B,MATCH(DATOS_MAP!AI110,referentes!$B:$B,0),1))","v":""},{"$f":"IF(AJ110=\"\",\"\", INDEX(referentes!G:H,MATCH(DATOS_MAP!AJ110,referentes!$H:$H,0),1))","v":""},{"$f":"IF(AK110=\"\",\"\", INDEX(referentes!$V$2:$W$10,MATCH(DATOS_MAP!AK110,referentes!$W$2:$W$10,0),1))","v":""},{"$f":"IF(AL110=\"\",\"\", INDEX(referentes!$AB:$AC,MATCH(DATOS_MAP!AL110,referentes!$AC:$AC,0),1))","v":""},{"$f":"IF(AP110=\"\",\"\", INDEX(referentes!$Y$2:$Z$10,MATCH(DATOS_MAP!AP110,referentes!$Z$2:$Z$10,0),1))","v":""},{"$f":"IF(AN110=\"\",\"\", INDEX(referentes!$AE$2:$AF$10,MATCH(DATOS_MAP!AN110,referentes!$AF$2:$AF$10,0),1))","v":""},{"$f":"IF(AQ110=\"\",\"\", INDEX(referentes!J:K,MATCH(DATOS_MAP!AQ110,referentes!$K:$K,0),1))","v":""},null,{"$f":"IF(AY110=\"\",\"\", INDEX('otras referencias'!O:P,MATCH(AY110,'otras referencias'!$O:$O,0),2))","v":""},null,null,null,null,null,{"$f":"IF(X110<>\"\",INDEX(referentes!$AH:$AL,MATCH(DATOS_MAP!X110,referentes!$AI:$AI,0),5),\"\")","v":""}]
[null,null,null,"",{"$f":"IF(J111=\"\",\"\",CONCATENATE(AD111,DIGITADOR!$B$2,DIGITADOR!$M$1,J111))","v":""},{"$f":"IF(J111=\"\",\"\",CONCATENATE(DIGITADOR!$B$2,AD111,DIGITADOR!$M$1,J111,ROW()))","v":""},null,null,null,{"$f":"IF(X111=\"\",\"\", INDEX(referentes!$AH:$AL,MATCH(DATOS_MAP!X111,referentes!$AI:$AI,0),1))","v":""},"",{"$f":"IF(AF111=\"\",\"\", INDEX(referentes!D:E,MATCH(DATOS_MAP!AF111,referentes!$E:$E,0),1))","v":""},{"$f":"IF(AI111=\"\",\"\", INDEX(referentes!A:B,MATCH(DATOS_MAP!AI111,referentes!$B:$B,0),1))","v":""},{"$f":"IF(AJ111=\"\",\"\", INDEX(referentes!G:H,MATCH(DATOS_MAP!AJ111,referentes!$H:$H,0),1))","v":""},{"$f":"IF(AK111=\"\",\"\", INDEX(referentes!$V$2:$W$10,MATCH(DATOS_MAP!AK111,referentes!$W$2:$W$10,0),1))","v":""},{"$f":"IF(AL111=\"\",\"\", INDEX(referentes!$AB:$AC,MATCH(DATOS_MAP!AL111,referentes!$AC:$AC,0),1))","v":""},{"$f":"IF(AP111=\"\",\"\", INDEX(referentes!$Y$2:$Z$10,MATCH(DATOS_MAP!AP111,referentes!$Z$2:$Z$10,0),1))","v":""},{"$f":"IF(AN111=\"\",\"\", INDEX(referentes!$AE$2:$AF$10,MATCH(DATOS_MAP!AN111,referentes!$AF$2:$AF$10,0),1))","v":""},{"$f":"IF(AQ111=\"\",\"\", INDEX(referentes!J:K,MATCH(DATOS_MAP!AQ111,referentes!$K:$K,0),1))","v":""},null,{"$f":"IF(AY111=\"\",\"\", INDEX('otras referencias'!O:P,MATCH(AY111,'otras referencias'!$O:$O,0),2))","v":""},null,null,null,null,null,{"$f":"IF(X111<>\"\",INDEX(referentes!$AH:$AL,MATCH(DATOS_MAP!X111,referentes!$AI:$AI,0),5),\"\")","v":""}]
[null,null,null,"",{"$f":"IF(J112=\"\",\"\",CONCATENATE(AD112,DIGITADOR!$B$2,DIGITADOR!$M$1,J112))","v":""},{"$f":"IF(J112=\"\",\"\",CONCATENATE(DIGITADOR!$B$2,AD112,DIGITADOR!$M$1,J112,ROW()))","v":""},null,null,null,{"$f":"IF(X112=\"\",\"\", INDEX(referentes!$AH:$AL,MATCH(DATOS_MAP!X112,referentes!$AI:$AI,0),1))","v":""},"",{"$f":"IF(AF112=\"\",\"\", INDEX(referentes!D:E,MATCH(DATOS_MAP!AF112,referentes!$E:$E,0),1))","v":""},{"$f":"IF(AI112=\"\",\"\", INDEX(referentes!A:B,MATCH(DATOS_MAP!AI112,referentes!$B:$B,0),1))","v":""},{"$f":"IF(AJ112=\"\",\"\", INDEX(referentes!G:H,MATCH(DATOS_MAP!AJ112,referentes!$H:$H,0),1))","v":""},{"$f":"IF(AK112=\"\",\"\", INDEX(referentes!$V$2:$W$10,MATCH(DATOS_MAP!AK112,referentes!$W$2:$W$10,0),1))","v":""},{"$f":"IF(AL112=\"\",\"\", INDEX(referentes!$AB:$AC,MATCH(DATOS_MAP!AL112,referentes!$AC:$AC,0),1))","v":""},{"$f":"IF(AP112=\"\",\"\", INDEX(referentes!$Y$2:$Z$10,MATCH(DATOS_MAP!AP112,referentes!$Z$2:$Z$10,0),1))","v":""},{"$f":"IF(AN112=\"\",\"\", INDEX(referentes!$AE$2:$AF$10,MATCH(DATOS_MAP!AN112,referentes!$AF$2:$AF$10,0),1))","v":""},{"$f":"IF(AQ112=\"\",\"\", INDEX(referentes!J:K,MATCH(DATOS_MAP!AQ112,referentes!$K:$K,0),1))","v":""},null,{"$f":"IF(AY112=\"\",\"\", INDEX('otras referencias'!O:P,MATCH(AY112,'otras referencias'!$O:$O,0),2))","v":""},null,null,null,null,null,{"$f":"IF(X112<>\"\",INDEX(referentes!$AH:$AL,MATCH(DATOS_MAP!X112,referentes!$AI:$AI,0),5),\"\")","v":""}]
[null,null,null,"",{"$f":"IF(J113=\"\",\"\",CONCATENATE(AD113,DIGITADOR!$B$2,DIGITADOR!$M$1,J113))","v":""},{"$f":"IF(J113=\"\",\"\",CONCATENATE(DIGITADOR!$B$2,AD113,DIGITADOR!$M$1,J113,ROW()))","v":""},null,null,null,{"$f":"IF(X113=\"\",\"\", INDEX(referentes!$AH:$AL,MATCH(DATOS_MAP!X113,referentes!$AI:$AI,0),1))","v":""},"",{"$f":"IF(AF113=\"\",\"\", INDEX(referentes!D:E,MATCH(DATOS_MAP!AF113,referentes!$E:$E,0),1))","v":""},{"$f":"IF(AI113=\"\",\"\", INDEX(referentes!A:B,MATCH(DATOS_MAP!AI113,referentes!$B:$B,0),1))","v":""},{"$f":"IF(AJ113=\"\",\"\", INDEX(referentes!G:H,MATCH(DATOS_MAP!AJ113,referentes!$H:$H,0),1))","v":""},{"$f":"IF(AK113=\"\",\"\", INDEX(referentes!$V$2:$W$10,MATCH(DATOS_MAP!AK113,referentes!$W$2:$W$10,0),1))","v":""},{"$f":"IF(AL113=\"\",\"\", INDEX(referentes!$AB:$AC,MATCH(DATOS_MAP!AL113,referentes!$AC:$AC,0),1))","v":""},{"$f":"IF(AP113=\"\",\"\", INDEX(referentes!$Y$2:$Z$10,MATCH(DATOS_MAP!AP113,referentes!$Z$2:$Z$10,0),1))","v":""},{"$f":"IF(AN113=\"\",\"\", INDEX(referentes!$AE$2:$AF$10,MATCH(DATOS_MAP!AN113,referentes!$AF$2:$AF$10,0),1))","v":""},{"$f":"IF(AQ113=\"\",\"\", INDEX(referentes!J:K,MATCH(DATOS_MAP!AQ113,referentes!$K:$K,0),1))","v":""},null,{"$f":"IF(AY113=\"\",\"\", INDEX('otras referencias'!O:P,MATCH(AY113,'otras referencias'!$O:$O,0),2))","v":""},null,null,null,null,null,{"$f":"IF(X113<>\"\",INDEX(referentes!$AH:$AL,MATCH(DATOS_MAP!X113,referentes!$AI:$AI,0),5),\"\")","v":""}]
[null,null,null,"",{"$f":"IF(J114=\"\",\"\",CONCATENATE(AD114,DIGITADOR!$B$2,DIGITADOR!$M$1,J114))","v":""},{"$f":"IF(J114=\"\",\"\",CONCATENATE(DIGITADOR!$B$2,AD114,DIGITADOR!$M$1,J114,ROW()))","v":""},null,null,null,{"$f":"IF(X114=\"\",\"\", INDEX(referentes!$AH:$AL,MATCH(DATOS_MAP!X114,referentes!$AI:$AI,0),1))","v":""},"",{"$f":"IF(AF114=\"\",\"\", INDEX(referentes!D:E,MATCH(DATOS_MAP!AF114,referentes!$E:$E,0),1))","v":""},{"$f":"IF(AI114=\"\",\"\", INDEX(referentes!A:B,MATCH(DATOS_MAP!AI114,referentes!$B:$B,0),1))","v":""},{"$f":"IF(AJ114=\"\",\"\", INDEX(referentes!G:H,MATCH(DATOS_MAP!AJ114,referentes!$H:$H,0),1))","v":""},{"$f":"IF(AK114=\"\",\"\", INDEX(referentes!$V$2:$W$10,MATCH(DATOS_MAP!AK114,referentes!$W$2:$W$10,0),1))","v":""},{"$f":"IF(AL114=\"\",\"\", INDEX(referentes!$AB:$AC,MATCH(DATOS_MAP!AL114,referentes!$AC:$AC,0),1))","v":""},{"$f":"IF(AP114=\"\",\"\", INDEX(referentes!$Y$2:$Z$10,MATCH(DATOS_MAP!AP114,referentes!$Z$2:$Z$10,0),1))","v":""},{"$f":"IF(AN114=\"\",\"\", INDEX(referentes!$AE$2:$AF$10,MATCH(DATOS_MAP!AN114,referentes!$AF$2:$AF$10,0),1))","v":""},{"$f":"IF(AQ114=\"\",\"\", INDEX(referentes!J:K,MATCH(DATOS_MAP!AQ114,referentes!$K:$K,0),1))","v":""},null,{"$f":"IF(AY114=\"\",\"\", INDEX('otras referencias'!O:P,MATCH(AY114,'otras referencias'!$O:$O,0),2))","v":""},null,null,null,null,null,{"$f":"IF(X114<>\"\",INDEX(referentes!$AH:$AL,MATCH(DATOS_MAP!X114,referentes!$AI:$AI,0),5),\"\")","v":""}]
[null,null,null,"",{"$f":"IF(J115=\"\",\"\",CONCATENATE(AD115,DIGITADOR!$B$2,DIGITADOR!$M$1,J115))","v":""},{"$f":"IF(J115=\"\",\"\",CONCATENATE(DIGITADOR!$B$2,AD115,DIGITADOR!$M$1,J115,ROW()))","v":""},null,null,null,{"$f":"IF(X115=\"\",\"\", INDEX(referentes!$AH:$AL,MATCH(DATOS_MAP!X115,referentes!$AI:$AI,0),1))","v":""},"",{"$f":"IF(AF115=\"\",\"\", INDEX(referentes!D:E,MATCH(DATOS_MAP!AF115,referentes!$E:$E,0),1))","v":""},{"$f":"IF(AI115=\"\",\"\", INDEX(referentes!A:B,MATCH(DATOS_MAP!AI115,referentes!$B:$B,0),1))","v":""},{"$f":"IF(AJ115=\"\",\"\", INDEX(referentes!G:H,MATCH(DATOS_MAP!AJ115,referentes!$H:$H,0),1))","v":""},{"$f":"IF(AK115=\"\",\"\", INDEX(referentes!$V$2:$W$10,MATCH(DATOS_MAP!AK115,referentes!$W$2:$W$10,0),1))","v":""},{"$f":"IF(AL115=\"\",\"\", INDEX(referentes!$AB:$AC,MATCH(DATOS_MAP!AL115,referentes!$AC:$AC,0),1))","v":""},{"$f":"IF(AP115=\"\",\"\", INDEX(referentes!$Y$2:$Z$10,MATCH(DATOS_MAP!AP115,referentes!$Z$2:$Z$10,0),1))","v":""},{"$f":"IF(AN115=\"\",\"\", INDEX(referentes!$AE$2:$AF$10,MATCH(DATOS_MAP!AN115,referentes!$AF$2:$AF$10,0),1))","v":""},{"$f":"IF(AQ115=\"\",\"\", INDEX(referentes!J:K,MATCH(DATOS_MAP!AQ115,referentes!$K:$K,0),1))","v":""},null,{"$f":"IF(AY115=\"\",\"\", INDEX('otras referencias'!O:P,MATCH(AY115,'otras referencias'!$O:$O,0),2))","v":""},null,null,null,null,null,{"$f":"IF(X115<>\"\",INDEX(referentes!$AH:$AL,MATCH(DATOS_MAP!X115,referentes!$AI:$AI,0),5),\"\")","v":""}]
[null,null,null,"",{"$f":"IF(J116=\"\",\"\",CONCATENATE(AD116,DIGITADOR!$B$2,DIGITADOR!$M$1,J116))","v":""},{"$f":"IF(J116=\"\",\"\",CONCATENATE(DIGITADOR!$B$2,AD116,DIGITADOR!$M$1,J116,ROW()))","v":""},null,null,null,{"$f":"IF(X116=\"\",\"\", INDEX(referentes!$AH:$AL,MATCH(DATOS_MAP!X116,referentes!$AI:$AI,0),1))","v":""},"",{"$f":"IF(AF116=\"\",\"\", INDEX(referentes!D:E,MATCH(DATOS_MAP!AF116,referentes!$E:$E,0),1))","v":""},{"$f":"IF(AI116=\"\",\"\", INDEX(referentes!A:B,MATCH(DATOS_MAP!AI116,referentes!$B:$B,0),1))","v":""},{"$f":"IF(AJ116=\"\",\"\", INDEX(referentes!G:H,MATCH(DATOS_MAP!AJ116,referentes!$H:$H,0),1))","v":""},{"$f":"IF(AK116=\"\",\"\", INDEX(referentes!$V$2:$W$10,MATCH(DATOS_MAP!AK116,referentes!$W$2:$W$10,0),1))","v":""},{"$f":"IF(AL116=\"\",\"\", INDEX(referentes!$AB:$AC,MATCH(DATOS_MAP!AL116,referentes!$AC:$AC,0),1))","v":""},{"$f":"IF(AP116=\"\",\"\", INDEX(referentes!$Y$2:$Z$10,MATCH(DATOS_MAP!AP116,referentes!$Z$2:$Z$10,0),1))","v":""},{"$f":"IF(AN116=\"\",\"\", INDEX(referentes!$AE$2:$AF$10,MATCH(DATOS_MAP!AN116,referentes!$AF$2:$AF$10,0),1))","v":""},{"$f":"IF(AQ116=\"\",\"\", INDEX(referentes!J:K,MATCH(DATOS_MAP!AQ116,referentes!$K:$K,0),1))","v":""},null,{"$f":"IF(AY116=\"\",\"\", INDEX('otras referencias'!O:P,MATCH(AY116,'otras referencias'!$O:$O,0),2))","v":""},null,null,null,null,null,{"$f":"IF(X116<>\"\",INDEX(referentes!$AH:$AL,MATCH(DATOS_MAP!X116,referentes!$AI:$AI,0),5),\"\")","v":""}]
[null,null,null,"",{"$f":"IF(J117=\"\",\"\",CONCATENATE(AD117,DIGITADOR!$B$2,DIGITADOR!$M$1,J117))","v":""},{"$f":"IF(J117=\"\",\"\",CONCATENATE(DIGITADOR!$B$2,AD117,DIGITADOR!$M$1,J117,ROW()))","v":""},null,null,null,{"$f":"IF(X117=\"\",\"\", INDEX(referentes!$AH:$AL,MATCH(DATOS_MAP!X117,referentes!$AI:$AI,0),1))","v":""},"",{"$f":"IF(AF117=\"\",\"\", INDEX(referentes!D:E,MATCH(DATOS_MAP!AF117,referentes!$E:$E,0),1))","v":""},{"$f":"IF(AI117=\"\",\"\", INDEX(referentes!A:B,MATCH(DATOS_MAP!AI117,referentes!$B:$B,0),1))","v":""},{"$f":"IF(AJ117=\"\",\"\", INDEX(referentes!G:H,MATCH(DATOS_MAP!AJ117,referentes!$H:$H,0),1))","v":""},{"$f":"IF(AK117=\"\",\"\", INDEX(referentes!$V$2:$W$10,MATCH(DATOS_MAP!AK117,referentes!$W$2:$W$10,0),1))","v":""},{"$f":"IF(AL117=\"\",\"\", INDEX(referentes!$AB:$AC,MATCH(DATOS_MAP!AL117,referentes!$AC:$AC,0),1))","v":""},{"$f":"IF(AP117=\"\",\"\", INDEX(referentes!$Y$2:$Z$10,MATCH(DATOS_MAP!AP117,referentes!$Z$2:$Z$10,0),1))","v":""},{"$f":"IF(AN117=\"\",\"\", INDEX(referentes!$AE$2:$AF$10,MATCH(DATOS_MAP!AN117,referentes!$AF$2:$AF$10,0),1))","v":""},{"$f":"IF(AQ117=\"\",\"\", INDEX(referentes!J:K,MATCH(DATOS_MAP!AQ117,referentes!$K:$K,0),1))","v":""},null,{"$f":"IF(AY117=\"\",\"\", INDEX('otras referencias'!O:P,MATCH(AY117,'otras referencias'!$O:$O,0),2))","v":""},null,null,null,null,null,{"$f":"IF(X117<>\"\",INDEX(referentes!$AH:$AL,MATCH(DATOS_MAP!X117,referentes!$AI:$AI,0),5),\"\")","v":""}]
[null,null,null,"",{"$f":"IF(J118=\"\",\"\",CONCATENATE(AD118,DIGITADOR!$B$2,DIGITADOR!$M$1,J118))","v":""},{"$f":"IF(J118=\"\",\"\",CONCATENATE(DIGITADOR!$B$2,AD118,DIGITADOR!$M$1,J118,ROW()))","v":""},null,null,null,{"$f":"IF(X118=\"\",\"\", INDEX(referentes!$AH:$AL,MATCH(DATOS_MAP!X118,referentes!$AI:$AI,0),1))","v":""},"",{"$f":"IF(AF118=\"\",\"\", INDEX(referentes!D:E,MATCH(DATOS_MAP!AF118,referentes!$E:$E,0),1))","v":""},{"$f":"IF(AI118=\"\",\"\", INDEX(referentes!A:B,MATCH(DATOS_MAP!AI118,referentes!$B:$B,0),1))","v":""},{"$f":"IF(AJ118=\"\",\"\", INDEX(referentes!G:H,MATCH(DATOS_MAP!AJ118,referentes!$H:$H,0),1))","v":""},{"$f":"IF(AK118=\"\",\"\", INDEX(referentes!$V$2:$W$10,MATCH(DATOS_MAP!AK118,referentes!$W$2:$W$10,0),1))","v":""},{"$f":"IF(AL118=\"\",\"\", INDEX(referentes!$AB:$AC,MATCH(DATOS_MAP!AL118,referentes!$AC:$AC,0),1))","v":""},{"$f":"IF(AP118=\"\",\"\", INDEX(referentes!$Y$2:$Z$10,MATCH(DATOS_MAP!AP118,referentes!$Z$2:$Z$10,0),1))","v":""},{"$f":"IF(AN118=\"\",\"\", INDEX(referentes!$AE$2:$AF$10,MATCH(DATOS_MAP!AN118,referentes!$AF$2:$AF$10,0),1))","v":""},{"$f":"IF(AQ118=\"\",\"\", INDEX(referentes!J:K,MATCH(DATOS_MAP!AQ118,referentes!$K:$K,0),1))","v":""},null,{"$f":"IF(AY118=\"\",\"\", INDEX('otras referencias'!O:P,MATCH(AY118,'otras referencias'!$O:$O,0),2))","v":""},null,null,null,null,null,{"$f":"IF(X118<>\"\",INDEX(referentes!$AH:$AL,MATCH(DATOS_MAP!X118,referentes!$AI:$AI,0),5),\"\")","v":""}]
[null,null,null,"",{"$f":"IF(J119=\"\",\"\",CONCATENATE(AD119,DIGITADOR!$B$2,DIGITADOR!$M$1,J119))","v":""},{"$f":"IF(J119=\"\",\"\",CONCATENATE(DIGITADOR!$B$2,AD119,DIGITADOR!$M$1,J119,ROW()))","v":""},null,null,null,{"$f":"IF(X119=\"\",\"\", INDEX(referentes!$AH:$AL,MATCH(DATOS_MAP!X119,referentes!$AI:$AI,0),1))","v":""},"",{"$f":"IF(AF119=\"\",\"\", INDEX(referentes!D:E,MATCH(DATOS_MAP!AF119,referentes!$E:$E,0),1))","v":""},{"$f":"IF(AI119=\"\",\"\", INDEX(referentes!A:B,MATCH(DATOS_MAP!AI119,referentes!$B:$B,0),1))","v":""},{"$f":"IF(AJ119=\"\",\"\", INDEX(referentes!G:H,MATCH(DATOS_MAP!AJ119,referentes!$H:$H,0),1))","v":""},{"$f":"IF(AK119=\"\",\"\", INDEX(referentes!$V$2:$W$10,MATCH(DATOS_MAP!AK119,referentes!$W$2:$W$10,0),1))","v":""},{"$f":"IF(AL119=\"\",\"\", INDEX(referentes!$AB:$AC,MATCH(DATOS_MAP!AL119,referentes!$AC:$AC,0),1))","v":""},{"$f":"IF(AP119=\"\",\"\", INDEX(referentes!$Y$2:$Z$10,MATCH(DATOS_MAP!AP119,referentes!$Z$2:$Z$10,0),1))","v":""},{"$f":"IF(AN119=\"\",\"\", INDEX(referentes!$AE$2:$AF$10,MATCH(DATOS_MAP!AN119,referentes!$AF$2:$AF$10,0),1))","v":""},{"$f":"IF(AQ119=\"\",\"\", INDEX(referentes!J:K,MATCH(DATOS_MAP!AQ119,referentes!$K:$K,0),1))","v":""},null,{"$f":"IF(AY119=\"\",\"\", INDEX('otras referencias'!O:P,MATCH(AY119,'otras referencias'!$O:$O,0),2))","v":""},null,null,null,null,null,{"$f":"IF(X119<>\"\",INDEX(referentes!$AH:$AL,MATCH(DATOS_MAP!X119,referentes!$AI:$AI,0),5),\"\")","v":""}]
[null,null,null,"",{"$f":"IF(J120=\"\",\"\",CONCATENATE(AD120,DIGITADOR!$B$2,DIGITADOR!$M$1,J120))","v":""},{"$f":"IF(J120=\"\",\"\",CONCATENATE(DIGITADOR!$B$2,AD120,DIGITADOR!$M$1,J120,ROW()))","v":""},null,null,null,{"$f":"IF(X120=\"\",\"\", INDEX(referentes!$AH:$AL,MATCH(DATOS_MAP!X120,referentes!$AI:$AI,0),1))","v":""},"",{"$f":"IF(AF120=\"\",\"\", INDEX(referentes!D:E,MATCH(DATOS_MAP!AF120,referentes!$E:$E,0),1))","v":""},{"$f":"IF(AI120=\"\",\"\", INDEX(referentes!A:B,MATCH(DATOS_MAP!AI120,referentes!$B:$B,0),1))","v":""},{"$f":"IF(AJ120=\"\",\"\", INDEX(referentes!G:H,MATCH(DATOS_MAP!AJ120,referentes!$H:$H,0),1))","v":""},{"$f":"IF(AK120=\"\",\"\", INDEX(referentes!$V$2:$W$10,MATCH(DATOS_MAP!AK120,referentes!$W$2:$W$10,0),1))","v":""},{"$f":"IF(AL120=\"\",\"\", INDEX(referentes!$AB:$AC,MATCH(DATOS_MAP!AL120,referentes!$AC:$AC,0),1))","v":""},{"$f":"IF(AP120=\"\",\"\", INDEX(referentes!$Y$2:$Z$10,MATCH(DATOS_MAP!AP120,referentes!$Z$2:$Z$10,0),1))","v":""},{"$f":"IF(AN120=\"\",\"\", INDEX(referentes!$AE$2:$AF$10,MATCH(DATOS_MAP!AN120,referentes!$AF$2:$AF$10,0),1))","v":""},{"$f":"IF(AQ120=\"\",\"\", INDEX(referentes!J:K,MATCH(DATOS_MAP!AQ120,referentes!$K:$K,0),1))","v":""},null,{"$f":"IF(AY120=\"\",\"\", INDEX('otras referencias'!O:P,MATCH(AY120,'otras referencias'!$O:$O,0),2))","v":""},null,null,null,null,null,{"$f":"IF(X120<>\"\",INDEX(referentes!$AH:$AL,MATCH(DATOS_MAP!X120,referentes!$AI:$AI,0),5),\"\")","v":""}]
[null,null,null,"",{"$f":"IF(J121=\"\",\"\",CONCATENATE(AD121,DIGITADOR!$B$2,DIGITADOR!$M$1,J121))","v":""},{"$f":"IF(J121=\"\",\"\",CONCATENATE(DIGITADOR!$B$2,AD121,DIGITADOR!$M$1,J121,ROW()))","v":""},null,null,null,{"$f":"IF(X121=\"\",\"\", INDEX(referentes!$AH:$AL,MATCH(DATOS_MAP!X121,referentes!$AI:$AI,0),1))","v":""},"",{"$f":"IF(AF121=\"\",\"\", INDEX(referentes!D:E,MATCH(DATOS_MAP!AF121,referentes!$E:$E,0),1))","v":""},{"$f":"IF(AI121=\"\",\"\", INDEX(referentes!A:B,MATCH(DATOS_MAP!AI121,referentes!$B:$B,0),1))","v":""},{"$f":"IF(AJ121=\"\",\"\", INDEX(referentes!G:H,MATCH(DATOS_MAP!AJ121,referentes!$H:$H,0),1))","v":""},{"$f":"IF(AK121=\"\",\"\", INDEX(referentes!$V$2:$W$10,MATCH(DATOS_MAP!AK121,referentes!$W$2:$W$10,0),1))","v":""},{"$f":"IF(AL121=\"\",\"\", INDEX(referentes!$AB:$AC,MATCH(DATOS_MAP!AL121,referentes!$AC:$AC,0),1))","v":""},{"$f":"IF(AP121=\"\",\"\", INDEX(referentes!$Y$2:$Z$10,MATCH(DATOS_MAP!AP121,referentes!$Z$2:$Z$10,0),1))","v":""},{"$f":"IF(AN121=\"\",\"\", INDEX(referentes!$AE$2:$AF$10,MATCH(DATOS_MAP!AN121,referentes!$AF$2:$AF$10,0),1))","v":""},{"$f":"IF(AQ121=\"\",\"\", INDEX(referentes!J:K,MATCH(DATOS_MAP!AQ121,referentes!$K:$K,0),1))","v":""},null,{"$f":"IF(AY121=\"\",\"\", INDEX('otras referencias'!O:P,MATCH(AY121,'otras referencias'!$O:$O,0),2))","v":""},null,null,null,null,null,{"$f":"IF(X121<>\"\",INDEX(referentes!$AH:$AL,MATCH(DATOS_MAP!X121,referentes!$AI:$AI,0),5),\"\")","v":""}]
[null,null,null,"",{"$f":"IF(J122=\"\",\"\",CONCATENATE(AD122,DIGITADOR!$B$2,DIGITADOR!$M$1,J122))","v":""},{"$f":"IF(J122=\"\",\"\",CONCATENATE(DIGITADOR!$B$2,AD122,DIGITADOR!$M$1,J122,ROW()))","v":""},null,null,null,{"$f":"IF(X122=\"\",\"\", INDEX(referentes!$AH:$AL,MATCH(DATOS_MAP!X122,referentes!$AI:$AI,0),1))","v":""},"",{"$f":"IF(AF122=\"\",\"\", INDEX(referentes!D:E,MATCH(DATOS_MAP!AF122,referentes!$E:$E,0),1))","v":""},{"$f":"IF(AI122=\"\",\"\", INDEX(referentes!A:B,MATCH(DATOS_MAP!AI122,referentes!$B:$B,0),1))","v":""},{"$f":"IF(AJ122=\"\",\"\", INDEX(referentes!G:H,MATCH(DATOS_MAP!AJ122,referentes!$H:$H,0),1))","v":""},{"$f":"IF(AK122=\"\",\"\", INDEX(referentes!$V$2:$W$10,MATCH(DATOS_MAP!AK122,referentes!$W$2:$W$10,0),1))","v":""},{"$f":"IF(AL122=\"\",\"\", INDEX(referentes!$AB:$AC,MATCH(DATOS_MAP!AL122,referentes!$AC:$AC,0),1))","v":""},{"$f":"IF(AP122=\"\",\"\", INDEX(referentes!$Y$2:$Z$10,MATCH(DATOS_MAP!AP122,referentes!$Z$2:$Z$10,0),1))","v":""},{"$f":"IF(AN122=\"\",\"\", INDEX(referentes!$AE$2:$AF$10,MATCH(DATOS_MAP!AN122,referentes!$AF$2:$AF$10,0),1))","v":""},{"$f":"IF(AQ122=\"\",\"\", INDEX(referentes!J:K,MATCH(DATOS_MAP!AQ122,referentes!$K:$K,0),1))","v":""},null,{"$f":"IF(AY122=\"\",\"\", INDEX('otras referencias'!O:P,MATCH(AY122,'otras referencias'!$O:$O,0),2))","v":""},null,null,null,null,null,{"$f":"IF(X122<>\"\",INDEX(referentes!$AH:$AL,MATCH(DATOS_MAP!X122,referentes!$AI:$AI,0),5),\"\")","v":""}]
[null,null,null,"",{"$f":"IF(J123=\"\",\"\",CONCATENATE(AD123,DIGITADOR!$B$2,DIGITADOR!$M$1,J123))","v":""},{"$f":"IF(J123=\"\",\"\",CONCATENATE(DIGITADOR!$B$2,AD123,DIGITADOR!$M$1,J123,ROW()))","v":""},null,null,null,{"$f":"IF(X123=\"\",\"\", INDEX(referentes!$AH:$AL,MATCH(DATOS_MAP!X123,referentes!$AI:$AI,0),1))","v":""},"",{"$f":"IF(AF123=\"\",\"\", INDEX(referentes!D:E,MATCH(DATOS_MAP!AF123,referentes!$E:$E,0),1))","v":""},{"$f":"IF(AI123=\"\",\"\", INDEX(referentes!A:B,MATCH(DATOS_MAP!AI123,referentes!$B:$B,0),1))","v":""},{"$f":"IF(AJ123=\"\",\"\", INDEX(referentes!G:H,MATCH(DATOS_MAP!AJ123,referentes!$H:$H,0),1))","v":""},{"$f":"IF(AK123=\"\",\"\", INDEX(referentes!$V$2:$W$10,MATCH(DATOS_MAP!AK123,referentes!$W$2:$W$10,0),1))","v":""},{"$f":"IF(AL123=\"\",\"\", INDEX(referentes!$AB:$AC,MATCH(DATOS_MAP!AL123,referentes!$AC:$AC,0),1))","v":""},{"$f":"IF(AP123=\"\",\"\", INDEX(referentes!$Y$2:$Z$10,MATCH(DATOS_MAP!AP123,referentes!$Z$2:$Z$10,0),1))","v":""},{"$f":"IF(AN123=\"\",\"\", INDEX(referentes!$AE$2:$AF$10,MATCH(DATOS_MAP!AN123,referentes!$AF$2:$AF$10,0),1))","v":""},{"$f":"IF(AQ123=\"\",\"\", INDEX(referentes!J:K,MATCH(DATOS_MAP!AQ123,referentes!$K:$K,0),1))","v":""},null,{"$f":"IF(AY123=\"\",\"\", INDEX('otras referencias'!O:P,MATCH(AY123,'otras referencias'!$O:$O,0),2))","v":""},null,null,null,null,null,{"$f":"IF(X123<>\"\",INDEX(referentes!$AH:$AL,MATCH(DATOS_MAP!X123,referentes!$AI:$AI,0),5),\"\")","v":""}]
[null,null,null,"",{"$f":"IF(J124=\"\",\"\",CONCATENATE(AD124,DIGITADOR!$B$2,DIGITADOR!$M$1,J124))","v":""},{"$f":"IF(J124=\"\",\"\",CONCATENATE(DIGITADOR!$B$2,AD124,DIGITADOR!$M$1,J124,ROW()))","v":""},null,null,null,{"$f":"IF(X124=\"\",\"\", INDEX(referentes!$AH:$AL,MATCH(DATOS_MAP!X124,referentes!$AI:$AI,0),1))","v":""},"",{"$f":"IF(AF124=\"\",\"\", INDEX(referentes!D:E,MATCH(DATOS_MAP!AF124,referentes!$E:$E,0),1))","v":""},{"$f":"IF(AI124=\"\",\"\", INDEX(referentes!A:B,MATCH(DATOS_MAP!AI124,referentes!$B:$B,0),1))","v":""},{"$f":"IF(AJ124=\"\",\"\", INDEX(referentes!G:H,MATCH(DATOS_MAP!AJ124,referentes!$H:$H,0),1))","v":""},{"$f":"IF(AK124=\"\",\"\", INDEX(referentes!$V$2:$W$10,MATCH(DATOS_MAP!AK124,referentes!$W$2:$W$10,0),1))","v":""},{"$f":"IF(AL124=\"\",\"\", INDEX(referentes!$AB:$AC,MATCH(DATOS_MAP!AL124,referentes!$AC:$AC,0),1))","v":""},{"$f":"IF(AP124=\"\",\"\", INDEX(referentes!$Y$2:$Z$10,MATCH(DATOS_MAP!AP124,referentes!$Z$2:$Z$10,0),1))","v":""},{"$f":"IF(AN124=\"\",\"\", INDEX(referentes!$AE$2:$AF$10,MATCH(DATOS_MAP!AN124,referentes!$AF$2:$AF$10,0),1))","v":""},{"$f":"IF(AQ124=\"\",\"\", INDEX(referentes!J:K,MATCH(DATOS_MAP!AQ124,referentes!$K:$K,0),1))","v":""},null,{"$f":"IF(AY124=\"\",\"\", INDEX('otras referencias'!O:P,MATCH(AY124,'otras referencias'!$O:$O,0),2))","v":""},null,null,null,null,null,{"$f":"IF(X124<>\"\",INDEX(referentes!$AH:$AL,MATCH(DATOS_MAP!X124,referentes!$AI:$AI,0),5),\"\")","v":""}]
[null,null,null,"",{"$f":"IF(J125=\"\",\"\",CONCATENATE(AD125,DIGITADOR!$B$2,DIGITADOR!$M$1,J125))","v":""},{"$f":"IF(J125=\"\",\"\",CONCATENATE(DIGITADOR!$B$2,AD125,DIGITADOR!$M$1,J125,ROW()))","v":""},null,null,null,{"$f":"IF(X125=\"\",\"\", INDEX(referentes!$AH:$AL,MATCH(DATOS_MAP!X125,referentes!$AI:$AI,0),1))","v":""},"",{"$f":"IF(AF125=\"\",\"\", INDEX(referentes!D:E,MATCH(DATOS_MAP!AF125,referentes!$E:$E,0),1))","v":""},{"$f":"IF(AI125=\"\",\"\", INDEX(referentes!A:B,MATCH(DATOS_MAP!AI125,referentes!$B:$B,0),1))","v":""},{"$f":"IF(AJ125=\"\",\"\", INDEX(referentes!G:H,MATCH(DATOS_MAP!AJ125,referentes!$H:$H,0),1))","v":""},{"$f":"IF(AK125=\"\",\"\", INDEX(referentes!$V$2:$W$10,MATCH(DATOS_MAP!AK125,referentes!$W$2:$W$10,0),1))","v":""},{"$f":"IF(AL125=\"\",\"\", INDEX(referentes!$AB:$AC,MATCH(DATOS_MAP!AL125,referentes!$AC:$AC,0),1))","v":""},{"$f":"IF(AP125=\"\",\"\", INDEX(referentes!$Y$2:$Z$10,MATCH(DATOS_MAP!AP125,referentes!$Z$2:$Z$10,0),1))","v":""},{"$f":"IF(AN125=\"\",\"\", INDEX(referentes!$AE$2:$AF$10,MATCH(DATOS_MAP!AN125,referentes!$AF$2:$AF$10,0),1))","v":""},{"$f":"IF(AQ125=\"\",\"\", INDEX(referentes!J:K,MATCH(DATOS_MAP!AQ125,referentes!$K:$K,0),1))","v":""},null,{"$f":"IF(AY125=\"\",\"\", INDEX('otras referencias'!O:P,MATCH(AY125,'otras referencias'!$O:$O,0),2))","v":""},null,null,null,null,null,{"$f":"IF(X125<>\"\",INDEX(referentes!$AH:$AL,MATCH(DATOS_MAP!X125,referentes!$AI:$AI,0),5),\"\")","v":""}]
[null,null,null,"",{"$f":"IF(J126=\"\",\"\",CONCATENATE(AD126,DIGITADOR!$B$2,DIGITADOR!$M$1,J126))","v":""},{"$f":"IF(J126=\"\",\"\",CONCATENATE(DIGITADOR!$B$2,AD126,DIGITADOR!$M$1,J126,ROW()))","v":""},null,null,null,{"$f":"IF(X126=\"\",\"\", INDEX(referentes!$AH:$AL,MATCH(DATOS_MAP!X126,referentes!$AI:$AI,0),1))","v":""},"",{"$f":"IF(AF126=\"\",\"\", INDEX(referentes!D:E,MATCH(DATOS_MAP!AF126,referentes!$E:$E,0),1))","v":""},{"$f":"IF(AI126=\"\",\"\", INDEX(referentes!A:B,MATCH(DATOS_MAP!AI126,referentes!$B:$B,0),1))","v":""},{"$f":"IF(AJ126=\"\",\"\", INDEX(referentes!G:H,MATCH(DATOS_MAP!AJ126,referentes!$H:$H,0),1))","v":""},{"$f":"IF(AK126=\"\",\"\", INDEX(referentes!$V$2:$W$10,MATCH(DATOS_MAP!AK126,referentes!$W$2:$W$10,0),1))","v":""},{"$f":"IF(AL126=\"\",\"\", INDEX(referentes!$AB:$AC,MATCH(DATOS_MAP!AL126,referentes!$AC:$AC,0),1))","v":""},{"$f":"IF(AP126=\"\",\"\", INDEX(referentes!$Y$2:$Z$10,MATCH(DATOS_MAP!AP126,referentes!$Z$2:$Z$10,0),1))","v":""},{"$f":"IF(AN126=\"\",\"\", INDEX(referentes!$AE$2:$AF$10,MATCH(DATOS_MAP!AN126,referentes!$AF$2:$AF$10,0),1))","v":""},{"$f":"IF(AQ126=\"\",\"\", INDEX(referentes!J:K,MATCH(DATOS_MAP!AQ126,referentes!$K:$K,0),1))","v":""},null,{"$f":"IF(AY126=\"\",\"\", INDEX('otras referencias'!O:P,MATCH(AY126,'otras referencias'!$O:$O,0),2))","v":""},null,null,null,null,null,{"$f":"IF(X126<>\"\",INDEX(referentes!$AH:$AL,MATCH(DATOS_MAP!X126,referentes!$AI:$AI,0),5),\"\")","v":""}]
[null,null,null,"",{"$f":"IF(J127=\"\",\"\",CONCATENATE(AD127,DIGITADOR!$B$2,DIGITADOR!$M$1,J127))","v":""},{"$f":"IF(J127=\"\",\"\",CONCATENATE(DIGITADOR!$B$2,AD127,DIGITADOR!$M$1,J127,ROW()))","v":""},null,null,null,{"$f":"IF(X127=\"\",\"\", INDEX(referentes!$AH:$AL,MATCH(DATOS_MAP!X127,referentes!$AI:$AI,0),1))","v":""},"",{"$f":"IF(AF127=\"\",\"\", INDEX(referentes!D:E,MATCH(DATOS_MAP!AF127,referentes!$E:$E,0),1))","v":""},{"$f":"IF(AI127=\"\",\"\", INDEX(referentes!A:B,MATCH(DATOS_MAP!AI127,referentes!$B:$B,0),1))","v":""},{"$f":"IF(AJ127=\"\",\"\", INDEX(referentes!G:H,MATCH(DATOS_MAP!AJ127,referentes!$H:$H,0),1))","v":""},{"$f":"IF(AK127=\"\",\"\", INDEX(referentes!$V$2:$W$10,MATCH(DATOS_MAP!AK127,referentes!$W$2:$W$10,0),1))","v":""},{"$f":"IF(AL127=\"\",\"\", INDEX(referentes!$AB:$AC,MATCH(DATOS_MAP!AL127,referentes!$AC:$AC,0),1))","v":""},{"$f":"IF(AP127=\"\",\"\", INDEX(referentes!$Y$2:$Z$10,MATCH(DATOS_MAP!AP127,referentes!$Z$2:$Z$10,0),1))","v":""},{"$f":"IF(AN127=\"\",\"\", INDEX(referentes!$AE$2:$AF$10,MATCH(DATOS_MAP!AN127,referentes!$AF$2:$AF$10,0),1))","v":""},{"$f":"IF(AQ127=\"\",\"\", INDEX(referentes!J:K,MATCH(DATOS_MAP!AQ127,referentes!$K:$K,0),1))","v":""},null,{"$f":"IF(AY127=\"\",\"\", INDEX('otras referencias'!O:P,MATCH(AY127,'otras referencias'!$O:$O,0),2))","v":""},null,null,null,null,null,{"$f":"IF(X127<>\"\",INDEX(referentes!$AH:$AL,MATCH(DATOS_MAP!X127,referentes!$AI:$AI,0),5),\"\")","v":""}]
[null,null,null,"",{"$f":"IF(J128=\"\",\"\",CONCATENATE(AD128,DIGITADOR!$B$2,DIGITADOR!$M$1,J128))","v":""},{"$f":"IF(J128=\"\",\"\",CONCATENATE(DIGITADOR!$B$2,AD128,DIGITADOR!$M$1,J128,ROW()))","v":""},null,null,null,{"$f":"IF(X128=\"\",\"\", INDEX(referentes!$AH:$AL,MATCH(DATOS_MAP!X128,referentes!$AI:$AI,0),1))","v":""},"",{"$f":"IF(AF128=\"\",\"\", INDEX(referentes!D:E,MATCH(DATOS_MAP!AF128,referentes!$E:$E,0),1))","v":""},{"$f":"IF(AI128=\"\",\"\", INDEX(referentes!A:B,MATCH(DATOS_MAP!AI128,referentes!$B:$B,0),1))","v":""},{"$f":"IF(AJ128=\"\",\"\", INDEX(referentes!G:H,MATCH(DATOS_MAP!AJ128,referentes!$H:$H,0),1))","v":""},{"$f":"IF(AK128=\"\",\"\", INDEX(referentes!$V$2:$W$10,MATCH(DATOS_MAP!AK128,referentes!$W$2:$W$10,0),1))","v":""},{"$f":"IF(AL128=\"\",\"\", INDEX(referentes!$AB:$AC,MATCH(DATOS_MAP!AL128,referentes!$AC:$AC,0),1))","v":""},{"$f":"IF(AP128=\"\",\"\", INDEX(referentes!$Y$2:$Z$10,MATCH(DATOS_MAP!AP128,referentes!$Z$2:$Z$10,0),1))","v":""},{"$f":"IF(AN128=\"\",\"\", INDEX(referentes!$AE$2:$AF$10,MATCH(DATOS_MAP!AN128,referentes!$AF$2:$AF$10,0),1))","v":""},{"$f":"IF(AQ128=\"\",\"\", INDEX(referentes!J:K,MATCH(DATOS_MAP!AQ128,referentes!$K:$K,0),1))","v":""},null,{"$f":"IF(AY128=\"\",\"\", INDEX('otras referencias'!O:P,MATCH(AY128,'otras referencias'!$O:$O,0),2))","v":""},null,null,null,null,null,{"$f":"IF(X128<>\"\",INDEX(referentes!$AH:$AL,MATCH(DATOS_MAP!X128,referentes!$AI:$AI,0),5),\"\")","v":""}]
[null,null,null,"",{"$f":"IF(J129=\"\",\"\",CONCATENATE(AD129,DIGITADOR!$B$2,DIGITADOR!$M$1,J129))","v":""},{"$f":"IF(J129=\"\",\"\",CONCATENATE(DIGITADOR!$B$2,AD129,DIGITADOR!$M$1,J129,ROW()))","v":""},null,null,null,{"$f":"IF(X129=\"\",\"\", INDEX(referentes!$AH:$AL,MATCH(DATOS_MAP!X129,referentes!$AI:$AI,0),1))","v":""},"",{"$f":"IF(AF129=\"\",\"\", INDEX(referentes!D:E,MATCH(DATOS_MAP!AF129,referentes!$E:$E,0),1))","v":""},{"$f":"IF(AI129=\"\",\"\", INDEX(referentes!A:B,MATCH(DATOS_MAP!AI129,referentes!$B:$B,0),1))","v":""},{"$f":"IF(AJ129=\"\",\"\", INDEX(referentes!G:H,MATCH(DATOS_MAP!AJ129,referentes!$H:$H,0),1))","v":""},{"$f":"IF(AK129=\"\",\"\", INDEX(referentes!$V$2:$W$10,MATCH(DATOS_MAP!AK129,referentes!$W$2:$W$10,0),1))","v":""},{"$f":"IF(AL129=\"\",\"\", INDEX(referentes!$AB:$AC,MATCH(DATOS_MAP!AL129,referentes!$AC:$AC,0),1))","v":""},{"$f":"IF(AP129=\"\",\"\", INDEX(referentes!$Y$2:$Z$10,MATCH(DATOS_MAP!AP129,referentes!$Z$2:$Z$10,0),1))","v":""},{"$f":"IF(AN129=\"\",\"\", INDEX(referentes!$AE$2:$AF$10,MATCH(DATOS_MAP!AN129,referentes!$AF$2:$AF$10,0),1))","v":""},{"$f":"IF(AQ129=\"\",\"\", INDEX(referentes!J:K,MATCH(DATOS_MAP!AQ129,referentes!$K:$K,0),1))","v":""},null,{"$f":"IF(AY129=\"\",\"\", INDEX('otras referencias'!O:P,MATCH(AY129,'otras referencias'!$O:$O,0),2))","v":""},null,null,null,null,null,{"$f":"IF(X129<>\"\",INDEX(referentes!$AH:$AL,MATCH(DATOS_MAP!X129,referentes!$AI:$AI,0),5),\"\")","v":""}]
[null,null,null,"",{"$f":"IF(J130=\"\",\"\",CONCATENATE(AD130,DIGITADOR!$B$2,DIGITADOR!$M$1,J130))","v":""},{"$f":"IF(J130=\"\",\"\",CONCATENATE(DIGITADOR!$B$2,AD130,DIGITADOR!$M$1,J130,ROW()))","v":""},null,null,null,{"$f":"IF(X130=\"\",\"\", INDEX(referentes!$AH:$AL,MATCH(DATOS_MAP!X130,referentes!$AI:$AI,0),1))","v":""},"",{"$f":"IF(AF130=\"\",\"\", INDEX(referentes!D:E,MATCH(DATOS_MAP!AF130,referentes!$E:$E,0),1))","v":""},{"$f":"IF(AI130=\"\",\"\", INDEX(referentes!A:B,MATCH(DATOS_MAP!AI130,referentes!$B:$B,0),1))","v":""},{"$f":"IF(AJ130=\"\",\"\", INDEX(referentes!G:H,MATCH(DATOS_MAP!AJ130,referentes!$H:$H,0),1))","v":""},{"$f":"IF(AK130=\"\",\"\", INDEX(referentes!$V$2:$W$10,MATCH(DATOS_MAP!AK130,referentes!$W$2:$W$10,0),1))","v":""},{"$f":"IF(AL130=\"\",\"\", INDEX(referentes!$AB:$AC,MATCH(DATOS_MAP!AL130,referentes!$AC:$AC,0),1))","v":""},{"$f":"IF(AP130=\"\",\"\", INDEX(referentes!$Y$2:$Z$10,MATCH(DATOS_MAP!AP130,referentes!$Z$2:$Z$10,0),1))","v":""},{"$f":"IF(AN130=\"\",\"\", INDEX(referentes!$AE$2:$AF$10,MATCH(DATOS_MAP!AN130,referentes!$AF$2:$AF$10,0),1))","v":""},{"$f":"IF(AQ130=\"\",\"\", INDEX(referentes!J:K,MATCH(DATOS_MAP!AQ130,referentes!$K:$K,0),1))","v":""},null,{"$f":"IF(AY130=\"\",\"\", INDEX('otras referencias'!O:P,MATCH(AY130,'otras referencias'!$O:$O,0),2))","v":""},null,null,null,null,null,{"$f":"IF(X130<>\"\",INDEX(referentes!$AH:$AL,MATCH(DATOS_MAP!X130,referentes!$AI:$AI,0),5),\"\")","v":""}]
[null,null,null,"",{"$f":"IF(J131=\"\",\"\",CONCATENATE(AD131,DIGITADOR!$B$2,DIGITADOR!$M$1,J131))","v":""},{"$f":"IF(J131=\"\",\"\",CONCATENATE(DIGITADOR!$B$2,AD131,DIGITADOR!$M$1,J131,ROW()))","v":""},null,null,null,{"$f":"IF(X131=\"\",\"\", INDEX(referentes!$AH:$AL,MATCH(DATOS_MAP!X131,referentes!$AI:$AI,0),1))","v":""},"",{"$f":"IF(AF131=\"\",\"\", INDEX(referentes!D:E,MATCH(DATOS_MAP!AF131,referentes!$E:$E,0),1))","v":""},{"$f":"IF(AI131=\"\",\"\", INDEX(referentes!A:B,MATCH(DATOS_MAP!AI131,referentes!$B:$B,0),1))","v":""},{"$f":"IF(AJ131=\"\",\"\", INDEX(referentes!G:H,MATCH(DATOS_MAP!AJ131,referentes!$H:$H,0),1))","v":""},{"$f":"IF(AK131=\"\",\"\", INDEX(referentes!$V$2:$W$10,MATCH(DATOS_MAP!AK131,referentes!$W$2:$W$10,0),1))","v":""},{"$f":"IF(AL131=\"\",\"\", INDEX(referentes!$AB:$AC,MATCH(DATOS_MAP!AL131,referentes!$AC:$AC,0),1))","v":""},{"$f":"IF(AP131=\"\",\"\", INDEX(referentes!$Y$2:$Z$10,MATCH(DATOS_MAP!AP131,referentes!$Z$2:$Z$10,0),1))","v":""},{"$f":"IF(AN131=\"\",\"\", INDEX(referentes!$AE$2:$AF$10,MATCH(DATOS_MAP!AN131,referentes!$AF$2:$AF$10,0),1))","v":""},{"$f":"IF(AQ131=\"\",\"\", INDEX(referentes!J:K,MATCH(DATOS_MAP!AQ131,referentes!$K:$K,0),1))","v":""},null,{"$f":"IF(AY131=\"\",\"\", INDEX('otras referencias'!O:P,MATCH(AY131,'otras referencias'!$O:$O,0),2))","v":""},null,null,null,null,null,{"$f":"IF(X131<>\"\",INDEX(referentes!$AH:$AL,MATCH(DATOS_MAP!X131,referentes!$AI:$AI,0),5),\"\")","v":""}]
[null,null,null,"",{"$f":"IF(J132=\"\",\"\",CONCATENATE(AD132,DIGITADOR!$B$2,DIGITADOR!$M$1,J132))","v":""},{"$f":"IF(J132=\"\",\"\",CONCATENATE(DIGITADOR!$B$2,AD132,DIGITADOR!$M$1,J132,ROW()))","v":""},null,null,null,{"$f":"IF(X132=\"\",\"\", INDEX(referentes!$AH:$AL,MATCH(DATOS_MAP!X132,referentes!$AI:$AI,0),1))","v":""},"",{"$f":"IF(AF132=\"\",\"\", INDEX(referentes!D:E,MATCH(DATOS_MAP!AF132,referentes!$E:$E,0),1))","v":""},{"$f":"IF(AI132=\"\",\"\", INDEX(referentes!A:B,MATCH(DATOS_MAP!AI132,referentes!$B:$B,0),1))","v":""},{"$f":"IF(AJ132=\"\",\"\", INDEX(referentes!G:H,MATCH(DATOS_MAP!AJ132,referentes!$H:$H,0),1))","v":""},{"$f":"IF(AK132=\"\",\"\", INDEX(referentes!$V$2:$W$10,MATCH(DATOS_MAP!AK132,referentes!$W$2:$W$10,0),1))","v":""},{"$f":"IF(AL132=\"\",\"\", INDEX(referentes!$AB:$AC,MATCH(DATOS_MAP!AL132,referentes!$AC:$AC,0),1))","v":""},{"$f":"IF(AP132=\"\",\"\", INDEX(referentes!$Y$2:$Z$10,MATCH(DATOS_MAP!AP132,referentes!$Z$2:$Z$10,0),1))","v":""},{"$f":"IF(AN132=\"\",\"\", INDEX(referentes!$AE$2:$AF$10,MATCH(DATOS_MAP!AN132,referentes!$AF$2:$AF$10,0),1))","v":""},{"$f":"IF(AQ132=\"\",\"\", INDEX(referentes!J:K,MATCH(DATOS_MAP!AQ132,referentes!$K:$K,0),1))","v":""},null,{"$f":"IF(AY132=\"\",\"\", INDEX('otras referencias'!O:P,MATCH(AY132,'otras referencias'!$O:$O,0),2))","v":""},null,null,null,null,null,{"$f":"IF(X132<>\"\",INDEX(referentes!$AH:$AL,MATCH(DATOS_MAP!X132,referentes!$AI:$AI,0),5),\"\")","v":""}]
[null,null,null,"",{"$f":"IF(J133=\"\",\"\",CONCATENATE(AD133,DIGITADOR!$B$2,DIGITADOR!$M$1,J133))","v":""},{"$f":"IF(J133=\"\",\"\",CONCATENATE(DIGITADOR!$B$2,AD133,DIGITADOR!$M$1,J133,ROW()))","v":""},null,null,null,{"$f":"IF(X133=\"\",\"\", INDEX(referentes!$AH:$AL,MATCH(DATOS_MAP!X133,referentes!$AI:$AI,0),1))","v":""},"",{"$f":"IF(AF133=\"\",\"\", INDEX(referentes!D:E,MATCH(DATOS_MAP!AF133,referentes!$E:$E,0),1))","v":""},{"$f":"IF(AI133=\"\",\"\", INDEX(referentes!A:B,MATCH(DATOS_MAP!AI133,referentes!$B:$B,0),1))","v":""},{"$f":"IF(AJ133=\"\",\"\", INDEX(referentes!G:H,MATCH(DATOS_MAP!AJ133,referentes!$H:$H,0),1))","v":""},{"$f":"IF(AK133=\"\",\"\", INDEX(referentes!$V$2:$W$10,MATCH(DATOS_MAP!AK133,referentes!$W$2:$W$10,0),1))","v":""},{"$f":"IF(AL133=\"\",\"\", INDEX(referentes!$AB:$AC,MATCH(DATOS_MAP!AL133,referentes!$AC:$AC,0),1))","v":""},{"$f":"IF(AP133=\"\",\"\", INDEX(referentes!$Y$2:$Z$10,MATCH(DATOS_MAP!AP133,referentes!$Z$2:$Z$10,0),1))","v":""},{"$f":"IF(AN133=\"\",\"\", INDEX(referentes!$AE$2:$AF$10,MATCH(DATOS_MAP!AN133,referentes!$AF$2:$AF$10,0),1))","v":""},{"$f":"IF(AQ133=\"\",\"\", INDEX(referentes!J:K,MATCH(DATOS_MAP!AQ133,referentes!$K:$K,0),1))","v":""},null,{"$f":"IF(AY133=\"\",\"\", INDEX('otras referencias'!O:P,MATCH(AY133,'otras referencias'!$O:$O,0),2))","v":""},null,null,null,null,null,{"$f":"IF(X133<>\"\",INDEX(referentes!$AH:$AL,MATCH(DATOS_MAP!X133,referentes!$AI:$AI,0),5),\"\")","v":""}]
[null,null,null,"",{"$f":"IF(J134=\"\",\"\",CONCATENATE(AD134,DIGITADOR!$B$2,DIGITADOR!$M$1,J134))","v":""},{"$f":"IF(J134=\"\",\"\",CONCATENATE(DIGITADOR!$B$2,AD134,DIGITADOR!$M$1,J134,ROW()))","v":""},null,null,null,{"$f":"IF(X134=\"\",\"\", INDEX(referentes!$AH:$AL,MATCH(DATOS_MAP!X134,referentes!$AI:$AI,0),1))","v":""},"",{"$f":"IF(AF134=\"\",\"\", INDEX(referentes!D:E,MATCH(DATOS_MAP!AF134,referentes!$E:$E,0),1))","v":""},{"$f":"IF(AI134=\"\",\"\", INDEX(referentes!A:B,MATCH(DATOS_MAP!AI134,referentes!$B:$B,0),1))","v":""},{"$f":"IF(AJ134=\"\",\"\", INDEX(referentes!G:H,MATCH(DATOS_MAP!AJ134,referentes!$H:$H,0),1))","v":""},{"$f":"IF(AK134=\"\",\"\", INDEX(referentes!$V$2:$W$10,MATCH(DATOS_MAP!AK134,referentes!$W$2:$W$10,0),1))","v":""},{"$f":"IF(AL134=\"\",\"\", INDEX(referentes!$AB:$AC,MATCH(DATOS_MAP!AL134,referentes!$AC:$AC,0),1))","v":""},{"$f":"IF(AP134=\"\",\"\", INDEX(referentes!$Y$2:$Z$10,MATCH(DATOS_MAP!AP134,referentes!$Z$2:$Z$10,0),1))","v":""},{"$f":"IF(AN134=\"\",\"\", INDEX(referentes!$AE$2:$AF$10,MATCH(DATOS_MAP!AN134,referentes!$AF$2:$AF$10,0),1))","v":""},{"$f":"IF(AQ134=\"\",\"\", INDEX(referentes!J:K,MATCH(DATOS_MAP!AQ134,referentes!$K:$K,0),1))","v":""},null,{"$f":"IF(AY134=\"\",\"\", INDEX('otras referencias'!O:P,MATCH(AY134,'otras referencias'!$O:$O,0),2))","v":""},null,null,null,null,null,{"$f":"IF(X134<>\"\",INDEX(referentes!$AH:$AL,MATCH(DATOS_MAP!X134,referentes!$AI:$AI,0),5),\"\")","v":""}]
[null,null,null,"",{"$f":"IF(J135=\"\",\"\",CONCATENATE(AD135,DIGITADOR!$B$2,DIGITADOR!$M$1,J135))","v":""},{"$f":"IF(J135=\"\",\"\",CONCATENATE(DIGITADOR!$B$2,AD135,DIGITADOR!$M$1,J135,ROW()))","v":""},null,null,null,{"$f":"IF(X135=\"\",\"\", INDEX(referentes!$AH:$AL,MATCH(DATOS_MAP!X135,referentes!$AI:$AI,0),1))","v":""},"",{"$f":"IF(AF135=\"\",\"\", INDEX(referentes!D:E,MATCH(DATOS_MAP!AF135,referentes!$E:$E,0),1))","v":""},{"$f":"IF(AI135=\"\",\"\", INDEX(referentes!A:B,MATCH(DATOS_MAP!AI135,referentes!$B:$B,0),1))","v":""},{"$f":"IF(AJ135=\"\",\"\", INDEX(referentes!G:H,MATCH(DATOS_MAP!AJ135,referentes!$H:$H,0),1))","v":""},{"$f":"IF(AK135=\"\",\"\", INDEX(referentes!$V$2:$W$10,MATCH(DATOS_MAP!AK135,referentes!$W$2:$W$10,0),1))","v":""},{"$f":"IF(AL135=\"\",\"\", INDEX(referentes!$AB:$AC,MATCH(DATOS_MAP!AL135,referentes!$AC:$AC,0),1))","v":""},{"$f":"IF(AP135=\"\",\"\", INDEX(referentes!$Y$2:$Z$10,MATCH(DATOS_MAP!AP135,referentes!$Z$2:$Z$10,0),1))","v":""},{"$f":"IF(AN135=\"\",\"\", INDEX(referentes!$AE$2:$AF$10,MATCH(DATOS_MAP!AN135,referentes!$AF$2:$AF$10,0),1))","v":""},{"$f":"IF(AQ135=\"\",\"\", INDEX(referentes!J:K,MATCH(DATOS_MAP!AQ135,referentes!$K:$K,0),1))","v":""},null,{"$f":"IF(AY135=\"\",\"\", INDEX('otras referencias'!O:P,MATCH(AY135,'otras referencias'!$O:$O,0),2))","v":""},null,null,null,null,null,{"$f":"IF(X135<>\"\",INDEX(referentes!$AH:$AL,MATCH(DATOS_MAP!X135,referentes!$AI:$AI,0),5),\"\")","v":""}]
[null,null,null,"",{"$f":"IF(J136=\"\",\"\",CONCATENATE(AD136,DIGITADOR!$B$2,DIGITADOR!$M$1,J136))","v":""},{"$f":"IF(J136=\"\",\"\",CONCATENATE(DIGITADOR!$B$2,AD136,DIGITADOR!$M$1,J136,ROW()))","v":""},null,null,null,{"$f":"IF(X136=\"\",\"\", INDEX(referentes!$AH:$AL,MATCH(DATOS_MAP!X136,referentes!$AI:$AI,0),1))","v":""},"",{"$f":"IF(AF136=\"\",\"\", INDEX(referentes!D:E,MATCH(DATOS_MAP!AF136,referentes!$E:$E,0),1))","v":""},{"$f":"IF(AI136=\"\",\"\", INDEX(referentes!A:B,MATCH(DATOS_MAP!AI136,referentes!$B:$B,0),1))","v":""},{"$f":"IF(AJ136=\"\",\"\", INDEX(referentes!G:H,MATCH(DATOS_MAP!AJ136,referentes!$H:$H,0),1))","v":""},{"$f":"IF(AK136=\"\",\"\", INDEX(referentes!$V$2:$W$10,MATCH(DATOS_MAP!AK136,referentes!$W$2:$W$10,0),1))","v":""},{"$f":"IF(AL136=\"\",\"\", INDEX(referentes!$AB:$AC,MATCH(DATOS_MAP!AL136,referentes!$AC:$AC,0),1))","v":""},{"$f":"IF(AP136=\"\",\"\", INDEX(referentes!$Y$2:$Z$10,MATCH(DATOS_MAP!AP136,referentes!$Z$2:$Z$10,0),1))","v":""},{"$f":"IF(AN136=\"\",\"\", INDEX(referentes!$AE$2:$AF$10,MATCH(DATOS_MAP!AN136,referentes!$AF$2:$AF$10,0),1))","v":""},{"$f":"IF(AQ136=\"\",\"\", INDEX(referentes!J:K,MATCH(DATOS_MAP!AQ136,referentes!$K:$K,0),1))","v":""},null,{"$f":"IF(AY136=\"\",\"\", INDEX('otras referencias'!O:P,MATCH(AY136,'otras referencias'!$O:$O,0),2))","v":""},null,null,null,null,null,{"$f":"IF(X136<>\"\",INDEX(referentes!$AH:$AL,MATCH(DATOS_MAP!X136,referentes!$AI:$AI,0),5),\"\")","v":""}]
[null,null,null,"",{"$f":"IF(J137=\"\",\"\",CONCATENATE(AD137,DIGITADOR!$B$2,DIGITADOR!$M$1,J137))","v":""},{"$f":"IF(J137=\"\",\"\",CONCATENATE(DIGITADOR!$B$2,AD137,DIGITADOR!$M$1,J137,ROW()))","v":""},null,null,null,{"$f":"IF(X137=\"\",\"\", INDEX(referentes!$AH:$AL,MATCH(DATOS_MAP!X137,referentes!$AI:$AI,0),1))","v":""},"",{"$f":"IF(AF137=\"\",\"\", INDEX(referentes!D:E,MATCH(DATOS_MAP!AF137,referentes!$E:$E,0),1))","v":""},{"$f":"IF(AI137=\"\",\"\", INDEX(referentes!A:B,MATCH(DATOS_MAP!AI137,referentes!$B:$B,0),1))","v":""},{"$f":"IF(AJ137=\"\",\"\", INDEX(referentes!G:H,MATCH(DATOS_MAP!AJ137,referentes!$H:$H,0),1))","v":""},{"$f":"IF(AK137=\"\",\"\", INDEX(referentes!$V$2:$W$10,MATCH(DATOS_MAP!AK137,referentes!$W$2:$W$10,0),1))","v":""},{"$f":"IF(AL137=\"\",\"\", INDEX(referentes!$AB:$AC,MATCH(DATOS_MAP!AL137,referentes!$AC:$AC,0),1))","v":""},{"$f":"IF(AP137=\"\",\"\", INDEX(referentes!$Y$2:$Z$10,MATCH(DATOS_MAP!AP137,referentes!$Z$2:$Z$10,0),1))","v":""},{"$f":"IF(AN137=\"\",\"\", INDEX(referentes!$AE$2:$AF$10,MATCH(DATOS_MAP!AN137,referentes!$AF$2:$AF$10,0),1))","v":""},{"$f":"IF(AQ137=\"\",\"\", INDEX(referentes!J:K,MATCH(DATOS_MAP!AQ137,referentes!$K:$K,0),1))","v":""},null,{"$f":"IF(AY137=\"\",\"\", INDEX('otras referencias'!O:P,MATCH(AY137,'otras referencias'!$O:$O,0),2))","v":""},null,null,null,null,null,{"$f":"IF(X137<>\"\",INDEX(referentes!$AH:$AL,MATCH(DATOS_MAP!X137,referentes!$AI:$AI,0),5),\"\")","v":""}]
[null,null,null,"",{"$f":"IF(J138=\"\",\"\",CONCATENATE(AD138,DIGITADOR!$B$2,DIGITADOR!$M$1,J138))","v":""},{"$f":"IF(J138=\"\",\"\",CONCATENATE(DIGITADOR!$B$2,AD138,DIGITADOR!$M$1,J138,ROW()))","v":""},null,null,null,{"$f":"IF(X138=\"\",\"\", INDEX(referentes!$AH:$AL,MATCH(DATOS_MAP!X138,referentes!$AI:$AI,0),1))","v":""},"",{"$f":"IF(AF138=\"\",\"\", INDEX(referentes!D:E,MATCH(DATOS_MAP!AF138,referentes!$E:$E,0),1))","v":""},{"$f":"IF(AI138=\"\",\"\", INDEX(referentes!A:B,MATCH(DATOS_MAP!AI138,referentes!$B:$B,0),1))","v":""},{"$f":"IF(AJ138=\"\",\"\", INDEX(referentes!G:H,MATCH(DATOS_MAP!AJ138,referentes!$H:$H,0),1))","v":""},{"$f":"IF(AK138=\"\",\"\", INDEX(referentes!$V$2:$W$10,MATCH(DATOS_MAP!AK138,referentes!$W$2:$W$10,0),1))","v":""},{"$f":"IF(AL138=\"\",\"\", INDEX(referentes!$AB:$AC,MATCH(DATOS_MAP!AL138,referentes!$AC:$AC,0),1))","v":""},{"$f":"IF(AP138=\"\",\"\", INDEX(referentes!$Y$2:$Z$10,MATCH(DATOS_MAP!AP138,referentes!$Z$2:$Z$10,0),1))","v":""},{"$f":"IF(AN138=\"\",\"\", INDEX(referentes!$AE$2:$AF$10,MATCH(DATOS_MAP!AN138,referentes!$AF$2:$AF$10,0),1))","v":""},{"$f":"IF(AQ138=\"\",\"\", INDEX(referentes!J:K,MATCH(DATOS_MAP!AQ138,referentes!$K:$K,0),1))","v":""},null,{"$f":"IF(AY138=\"\",\"\", INDEX('otras referencias'!O:P,MATCH(AY138,'otras referencias'!$O:$O,0),2))","v":""},null,null,null,null,null,{"$f":"IF(X138<>\"\",INDEX(referentes!$AH:$AL,MATCH(DATOS_MAP!X138,referentes!$AI:$AI,0),5),\"\")","v":""}]
[null,null,null,"",{"$f":"IF(J139=\"\",\"\",CONCATENATE(AD139,DIGITADOR!$B$2,DIGITADOR!$M$1,J139))","v":""},{"$f":"IF(J139=\"\",\"\",CONCATENATE(DIGITADOR!$B$2,AD139,DIGITADOR!$M$1,J139,ROW()))","v":""},null,null,null,{"$f":"IF(X139=\"\",\"\", INDEX(referentes!$AH:$AL,MATCH(DATOS_MAP!X139,referentes!$AI:$AI,0),1))","v":""},{"$f":"IF(AD139=\"\",\"\",AD139+AE139)","v":""},{"$f":"IF(AF139=\"\",\"\", INDEX(referentes!D:E,MATCH(DATOS_MAP!AF139,referentes!$E:$E,0),1))","v":""},{"$f":"IF(AI139=\"\",\"\", INDEX(referentes!A:B,MATCH(DATOS_MAP!AI139,referentes!$B:$B,0),1))","v":""},{"$f":"IF(AJ139=\"\",\"\", INDEX(referentes!G:H,MATCH(DATOS_MAP!AJ139,referentes!$H:$H,0),1))","v":""},{"$f":"IF(AK139=\"\",\"\", INDEX(referentes!$V$2:$W$10,MATCH(DATOS_MAP!AK139,referentes!$W$2:$W$10,0),1))","v":""},{"$f":"IF(AL139=\"\",\"\", INDEX(referentes!$AB:$AC,MATCH(DATOS_MAP!AL139,referentes!$AC:$AC,0),1))","v":""},{"$f":"IF(AP139=\"\",\"\", INDEX(referentes!$Y$2:$Z$10,MATCH(DATOS_MAP!AP139,referentes!$Z$2:$Z$10,0),1))","v":""},{"$f":"IF(AN139=\"\",\"\", INDEX(referentes!$AE$2:$AF$10,MATCH(DATOS_MAP!AN139,referentes!$AF$2:$AF$10,0),1))","v":""},{"$f":"IF(AQ139=\"\",\"\", INDEX(referentes!J:K,MATCH(DATOS_MAP!AQ139,referentes!$K:$K,0),1))","v":""},null,{"$f":"IF(AY139=\"\",\"\", INDEX('otras referencias'!O:P,MATCH(AY139,'otras referencias'!$O:$O,0),2))","v":""},null,null,null,null,null,{"$f":"IF(X139<>\"\",INDEX(referentes!$AH:$AL,MATCH(DATOS_MAP!X139,referentes!$AI:$AI,0),5),\"\")","v":""}]
[null,null,null,{"$f":"IF(E140=\"\",\"\",IF(E140=E139,\"\",E140))","v":""},{"$f":"IF(J140=\"\",\"\",CONCATENATE(AD140,DIGITADOR!$B$2,DIGITADOR!$M$1,J140))","v":""},{"$f":"IF(J140=\"\",\"\",CONCATENATE(DIGITADOR!$B$2,AD140,DIGITADOR!$M$1,J140,ROW()))","v":""},null,null,null,{"$f":"IF(X140=\"\",\"\", INDEX(referentes!$AH:$AL,MATCH(DATOS_MAP!X140,referentes!$AI:$AI,0),1))","v":""},"",{"$f":"IF(AF140=\"\",\"\", INDEX(referentes!D:E,MATCH(DATOS_MAP!AF140,referentes!$E:$E,0),1))","v":""},{"$f":"IF(AI140=\"\",\"\", INDEX(referentes!A:B,MATCH(DATOS_MAP!AI140,referentes!$B:$B,0),1))","v":""},{"$f":"IF(AJ140=\"\",\"\", INDEX(referentes!G:H,MATCH(DATOS_MAP!AJ140,referentes!$H:$H,0),1))","v":""},{"$f":"IF(AK140=\"\",\"\", INDEX(referentes!$V$2:$W$10,MATCH(DATOS_MAP!AK140,referentes!$W$2:$W$10,0),1))","v":""},{"$f":"IF(AL140=\"\",\"\", INDEX(referentes!$AB:$AC,MATCH(DATOS_MAP!AL140,referentes!$AC:$AC,0),1))","v":""},{"$f":"IF(AP140=\"\",\"\", INDEX(referentes!$Y$2:$Z$10,MATCH(DATOS_MAP!AP140,referentes!$Z$2:$Z$10,0),1))","v":""},{"$f":"IF(AN140=\"\",\"\", INDEX(referentes!$AE$2:$AF$10,MATCH(DATOS_MAP!AN140,referentes!$AF$2:$AF$10,0),1))","v":""},{"$f":"IF(AQ140=\"\",\"\", INDEX(referentes!J:K,MATCH(DATOS_MAP!AQ140,referentes!$K:$K,0),1))","v":""},null,{"$f":"IF(AY140=\"\",\"\", INDEX('otras referencias'!O:P,MATCH(AY140,'otras referencias'!$O:$O,0),2))","v":""},null,null,null,null,null,{"$f":"IF(X140<>\"\",INDEX(referentes!$AH:$AL,MATCH(DATOS_MAP!X140,referentes!$AI:$AI,0),5),\"\")","v":""}]
[null,null,null,"",{"$f":"IF(J141=\"\",\"\",CONCATENATE(AD141,DIGITADOR!$B$2,DIGITADOR!$M$1,J141))","v":""},{"$f":"IF(J141=\"\",\"\",CONCATENATE(DIGITADOR!$B$2,AD141,DIGITADOR!$M$1,J141,ROW()))","v":""},null,null,null,{"$f":"IF(X141=\"\",\"\", INDEX(referentes!$AH:$AL,MATCH(DATOS_MAP!X141,referentes!$AI:$AI,0),1))","v":""},"",{"$f":"IF(AF141=\"\",\"\", INDEX(referentes!D:E,MATCH(DATOS_MAP!AF141,referentes!$E:$E,0),1))","v":""},{"$f":"IF(AI141=\"\",\"\", INDEX(referentes!A:B,MATCH(DATOS_MAP!AI141,referentes!$B:$B,0),1))","v":""},{"$f":"IF(AJ141=\"\",\"\", INDEX(referentes!G:H,MATCH(DATOS_MAP!AJ141,referentes!$H:$H,0),1))","v":""},{"$f":"IF(AK141=\"\",\"\", INDEX(referentes!$V$2:$W$10,MATCH(DATOS_MAP!AK141,referentes!$W$2:$W$10,0),1))","v":""},{"$f":"IF(AL141=\"\",\"\", INDEX(referentes!$AB:$AC,MATCH(DATOS_MAP!AL141,referentes!$AC:$AC,0),1))","v":""},{"$f":"IF(AP141=\"\",\"\", INDEX(referentes!$Y$2:$Z$10,MATCH(DATOS_MAP!AP141,referentes!$Z$2:$Z$10,0),1))","v":""},{"$f":"IF(AN141=\"\",\"\", INDEX(referentes!$AE$2:$AF$10,MATCH(DATOS_MAP!AN141,referentes!$AF$2:$AF$10,0),1))","v":""},{"$f":"IF(AQ141=\"\",\"\", INDEX(referentes!J:K,MATCH(DATOS_MAP!AQ141,referentes!$K:$K,0),1))","v":""},null,{"$f":"IF(AY141=\"\",\"\", INDEX('otras referencias'!O:P,MATCH(AY141,'otras referencias'!$O:$O,0),2))","v":""},null,null,null,null,null,{"$f":"IF(X141<>\"\",INDEX(referentes!$AH:$AL,MATCH(DATOS_MAP!X141,referentes!$AI:$AI,0),5),\"\")","v":""}]
[null,null,null,"",{"$f":"IF(J142=\"\",\"\",CONCATENATE(AD142,DIGITADOR!$B$2,DIGITADOR!$M$1,J142))","v":""},{"$f":"IF(J142=\"\",\"\",CONCATENATE(DIGITADOR!$B$2,AD142,DIGITADOR!$M$1,J142,ROW()))","v":""},null,null,null,{"$f":"IF(X142=\"\",\"\", INDEX(referentes!$AH:$AL,MATCH(DATOS_MAP!X142,referentes!$AI:$AI,0),1))","v":""},"",{"$f":"IF(AF142=\"\",\"\", INDEX(referentes!D:E,MATCH(DATOS_MAP!AF142,referentes!$E:$E,0),1))","v":""},{"$f":"IF(AI142=\"\",\"\", INDEX(referentes!A:B,MATCH(DATOS_MAP!AI142,referentes!$B:$B,0),1))","v":""},{"$f":"IF(AJ142=\"\",\"\", INDEX(referentes!G:H,MATCH(DATOS_MAP!AJ142,referentes!$H:$H,0),1))","v":""},{"$f":"IF(AK142=\"\",\"\", INDEX(referentes!$V$2:$W$10,MATCH(DATOS_MAP!AK142,referentes!$W$2:$W$10,0),1))","v":""},{"$f":"IF(AL142=\"\",\"\", INDEX(referentes!$AB:$AC,MATCH(DATOS_MAP!AL142,referentes!$AC:$AC,0),1))","v":""},{"$f":"IF(AP142=\"\",\"\", INDEX(referentes!$Y$2:$Z$10,MATCH(DATOS_MAP!AP142,referentes!$Z$2:$Z$10,0),1))","v":""},{"$f":"IF(AN142=\"\",\"\", INDEX(referentes!$AE$2:$AF$10,MATCH(DATOS_MAP!AN142,referentes!$AF$2:$AF$10,0),1))","v":""},{"$f":"IF(AQ142=\"\",\"\", INDEX(referentes!J:K,MATCH(DATOS_MAP!AQ142,referentes!$K:$K,0),1))","v":""},null,{"$f":"IF(AY142=\"\",\"\", INDEX('otras referencias'!O:P,MATCH(AY142,'otras referencias'!$O:$O,0),2))","v":""},null,null,null,null,null,{"$f":"IF(X142<>\"\",INDEX(referentes!$AH:$AL,MATCH(DATOS_MAP!X142,referentes!$AI:$AI,0),5),\"\")","v":""}]
[null,null,null,"",{"$f":"IF(J143=\"\",\"\",CONCATENATE(AD143,DIGITADOR!$B$2,DIGITADOR!$M$1,J143))","v":""},{"$f":"IF(J143=\"\",\"\",CONCATENATE(DIGITADOR!$B$2,AD143,DIGITADOR!$M$1,J143,ROW()))","v":""},null,null,null,{"$f":"IF(X143=\"\",\"\", INDEX(referentes!$AH:$AL,MATCH(DATOS_MAP!X143,referentes!$AI:$AI,0),1))","v":""},"",{"$f":"IF(AF143=\"\",\"\", INDEX(referentes!D:E,MATCH(DATOS_MAP!AF143,referentes!$E:$E,0),1))","v":""},{"$f":"IF(AI143=\"\",\"\", INDEX(referentes!A:B,MATCH(DATOS_MAP!AI143,referentes!$B:$B,0),1))","v":""},{"$f":"IF(AJ143=\"\",\"\", INDEX(referentes!G:H,MATCH(DATOS_MAP!AJ143,referentes!$H:$H,0),1))","v":""},{"$f":"IF(AK143=\"\",\"\", INDEX(referentes!$V$2:$W$10,MATCH(DATOS_MAP!AK143,referentes!$W$2:$W$10,0),1))","v":""},{"$f":"IF(AL143=\"\",\"\", INDEX(referentes!$AB:$AC,MATCH(DATOS_MAP!AL143,referentes!$AC:$AC,0),1))","v":""},{"$f":"IF(AP143=\"\",\"\", INDEX(referentes!$Y$2:$Z$10,MATCH(DATOS_MAP!AP143,referentes!$Z$2:$Z$10,0),1))","v":""},{"$f":"IF(AN143=\"\",\"\", INDEX(referentes!$AE$2:$AF$10,MATCH(DATOS_MAP!AN143,referentes!$AF$2:$AF$10,0),1))","v":""},{"$f":"IF(AQ143=\"\",\"\", INDEX(referentes!J:K,MATCH(DATOS_MAP!AQ143,referentes!$K:$K,0),1))","v":""},null,{"$f":"IF(AY143=\"\",\"\", INDEX('otras referencias'!O:P,MATCH(AY143,'otras referencias'!$O:$O,0),2))","v":""},null,null,null,null,null,{"$f":"IF(X143<>\"\",INDEX(referentes!$AH:$AL,MATCH(DATOS_MAP!X143,referentes!$AI:$AI,0),5),\"\")","v":""}]
[null,null,null,"",{"$f":"IF(J144=\"\",\"\",CONCATENATE(AD144,DIGITADOR!$B$2,DIGITADOR!$M$1,J144))","v":""},{"$f":"IF(J144=\"\",\"\",CONCATENATE(DIGITADOR!$B$2,AD144,DIGITADOR!$M$1,J144,ROW()))","v":""},null,null,null,{"$f":"IF(X144=\"\",\"\", INDEX(referentes!$AH:$AL,MATCH(DATOS_MAP!X144,referentes!$AI:$AI,0),1))","v":""},"",{"$f":"IF(AF144=\"\",\"\", INDEX(referentes!D:E,MATCH(DATOS_MAP!AF144,referentes!$E:$E,0),1))","v":""},{"$f":"IF(AI144=\"\",\"\", INDEX(referentes!A:B,MATCH(DATOS_MAP!AI144,referentes!$B:$B,0),1))","v":""},{"$f":"IF(AJ144=\"\",\"\", INDEX(referentes!G:H,MATCH(DATOS_MAP!AJ144,referentes!$H:$H,0),1))","v":""},{"$f":"IF(AK144=\"\",\"\", INDEX(referentes!$V$2:$W$10,MATCH(DATOS_MAP!AK144,referentes!$W$2:$W$10,0),1))","v":""},{"$f":"IF(AL144=\"\",\"\", INDEX(referentes!$AB:$AC,MATCH(DATOS_MAP!AL144,referentes!$AC:$AC,0),1))","v":""},{"$f":"IF(AP144=\"\",\"\", INDEX(referentes!$Y$2:$Z$10,MATCH(DATOS_MAP!AP144,referentes!$Z$2:$Z$10,0),1))","v":""},{"$f":"IF(AN144=\"\",\"\", INDEX(referentes!$AE$2:$AF$10,MATCH(DATOS_MAP!AN144,referentes!$AF$2:$AF$10,0),1))","v":""},{"$f":"IF(AQ144=\"\",\"\", INDEX(referentes!J:K,MATCH(DATOS_MAP!AQ144,referentes!$K:$K,0),1))","v":""},null,{"$f":"IF(AY144=\"\",\"\", INDEX('otras referencias'!O:P,MATCH(AY144,'otras referencias'!$O:$O,0),2))","v":""},null,null,null,null,null,{"$f":"IF(X144<>\"\",INDEX(referentes!$AH:$AL,MATCH(DATOS_MAP!X144,referentes!$AI:$AI,0),5),\"\")","v":""}]
[null,null,null,"",{"$f":"IF(J145=\"\",\"\",CONCATENATE(AD145,DIGITADOR!$B$2,DIGITADOR!$M$1,J145))","v":""},{"$f":"IF(J145=\"\",\"\",CONCATENATE(DIGITADOR!$B$2,AD145,DIGITADOR!$M$1,J145,ROW()))","v":""},null,null,null,{"$f":"IF(X145=\"\",\"\", INDEX(referentes!$AH:$AL,MATCH(DATOS_MAP!X145,referentes!$AI:$AI,0),1))","v":""},"",{"$f":"IF(AF145=\"\",\"\", INDEX(referentes!D:E,MATCH(DATOS_MAP!AF145,referentes!$E:$E,0),1))","v":""},{"$f":"IF(AI145=\"\",\"\", INDEX(referentes!A:B,MATCH(DATOS_MAP!AI145,referentes!$B:$B,0),1))","v":""},{"$f":"IF(AJ145=\"\",\"\", INDEX(referentes!G:H,MATCH(DATOS_MAP!AJ145,referentes!$H:$H,0),1))","v":""},{"$f":"IF(AK145=\"\",\"\", INDEX(referentes!$V$2:$W$10,MATCH(DATOS_MAP!AK145,referentes!$W$2:$W$10,0),1))","v":""},{"$f":"IF(AL145=\"\",\"\", INDEX(referentes!$AB:$AC,MATCH(DATOS_MAP!AL145,referentes!$AC:$AC,0),1))","v":""},{"$f":"IF(AP145=\"\",\"\", INDEX(referentes!$Y$2:$Z$10,MATCH(DATOS_MAP!AP145,referentes!$Z$2:$Z$10,0),1))","v":""},{"$f":"IF(AN145=\"\",\"\", INDEX(referentes!$AE$2:$AF$10,MATCH(DATOS_MAP!AN145,referentes!$AF$2:$AF$10,0),1))","v":""},{"$f":"IF(AQ145=\"\",\"\", INDEX(referentes!J:K,MATCH(DATOS_MAP!AQ145,referentes!$K:$K,0),1))","v":""},null,{"$f":"IF(AY145=\"\",\"\", INDEX('otras referencias'!O:P,MATCH(AY145,'otras referencias'!$O:$O,0),2))","v":""},null,null,null,null,null,{"$f":"IF(X145<>\"\",INDEX(referentes!$AH:$AL,MATCH(DATOS_MAP!X145,referentes!$AI:$AI,0),5),\"\")","v":""}]
[null,null,null,"",{"$f":"IF(J146=\"\",\"\",CONCATENATE(AD146,DIGITADOR!$B$2,DIGITADOR!$M$1,J146))","v":""},{"$f":"IF(J146=\"\",\"\",CONCATENATE(DIGITADOR!$B$2,AD146,DIGITADOR!$M$1,J146,ROW()))","v":""},null,null,null,{"$f":"IF(X146=\"\",\"\", INDEX(referentes!$AH:$AL,MATCH(DATOS_MAP!X146,referentes!$AI:$AI,0),1))","v":""},"",{"$f":"IF(AF146=\"\",\"\", INDEX(referentes!D:E,MATCH(DATOS_MAP!AF146,referentes!$E:$E,0),1))","v":""},{"$f":"IF(AI146=\"\",\"\", INDEX(referentes!A:B,MATCH(DATOS_MAP!AI146,referentes!$B:$B,0),1))","v":""},{"$f":"IF(AJ146=\"\",\"\", INDEX(referentes!G:H,MATCH(DATOS_MAP!AJ146,referentes!$H:$H,0),1))","v":""},{"$f":"IF(AK146=\"\",\"\", INDEX(referentes!$V$2:$W$10,MATCH(DATOS_MAP!AK146,referentes!$W$2:$W$10,0),1))","v":""},{"$f":"IF(AL146=\"\",\"\", INDEX(referentes!$AB:$AC,MATCH(DATOS_MAP!AL146,referentes!$AC:$AC,0),1))","v":""},{"$f":"IF(AP146=\"\",\"\", INDEX(referentes!$Y$2:$Z$10,MATCH(DATOS_MAP!AP146,referentes!$Z$2:$Z$10,0),1))","v":""},{"$f":"IF(AN146=\"\",\"\", INDEX(referentes!$AE$2:$AF$10,MATCH(DATOS_MAP!AN146,referentes!$AF$2:$AF$10,0),1))","v":""},{"$f":"IF(AQ146=\"\",\"\", INDEX(referentes!J:K,MATCH(DATOS_MAP!AQ146,referentes!$K:$K,0),1))","v":""},null,{"$f":"IF(AY146=\"\",\"\", INDEX('otras referencias'!O:P,MATCH(AY146,'otras referencias'!$O:$O,0),2))","v":""},null,null,null,null,null,{"$f":"IF(X146<>\"\",INDEX(referentes!$AH:$AL,MATCH(DATOS_MAP!X146,referentes!$AI:$AI,0),5),\"\")","v":""}]
[null,null,null,"",{"$f":"IF(J147=\"\",\"\",CONCATENATE(AD147,DIGITADOR!$B$2,DIGITADOR!$M$1,J147))","v":""},{"$f":"IF(J147=\"\",\"\",CONCATENATE(DIGITADOR!$B$2,AD147,DIGITADOR!$M$1,J147,ROW()))","v":""},null,null,null,{"$f":"IF(X147=\"\",\"\", INDEX(referentes!$AH:$AL,MATCH(DATOS_MAP!X147,referentes!$AI:$AI,0),1))","v":""},"",{"$f":"IF(AF147=\"\",\"\", INDEX(referentes!D:E,MATCH(DATOS_MAP!AF147,referentes!$E:$E,0),1))","v":""},{"$f":"IF(AI147=\"\",\"\", INDEX(referentes!A:B,MATCH(DATOS_MAP!AI147,referentes!$B:$B,0),1))","v":""},{"$f":"IF(AJ147=\"\",\"\", INDEX(referentes!G:H,MATCH(DATOS_MAP!AJ147,referentes!$H:$H,0),1))","v":""},{"$f":"IF(AK147=\"\",\"\", INDEX(referentes!$V$2:$W$10,MATCH(DATOS_MAP!AK147,referentes!$W$2:$W$10,0),1))","v":""},{"$f":"IF(AL147=\"\",\"\", INDEX(referentes!$AB:$AC,MATCH(DATOS_MAP!AL147,referentes!$AC:$AC,0),1))","v":""},{"$f":"IF(AP147=\"\",\"\", INDEX(referentes!$Y$2:$Z$10,MATCH(DATOS_MAP!AP147,referentes!$Z$2:$Z$10,0),1))","v":""},{"$f":"IF(AN147=\"\",\"\", INDEX(referentes!$AE$2:$AF$10,MATCH(DATOS_MAP!AN147,referentes!$AF$2:$AF$10,0),1))","v":""},{"$f":"IF(AQ147=\"\",\"\", INDEX(referentes!J:K,MATCH(DATOS_MAP!AQ147,referentes!$K:$K,0),1))","v":""},null,{"$f":"IF(AY147=\"\",\"\", INDEX('otras referencias'!O:P,MATCH(AY147,'otras referencias'!$O:$O,0),2))","v":""},null,null,null,null,null,{"$f":"IF(X147<>\"\",INDEX(referentes!$AH:$AL,MATCH(DATOS_MAP!X147,referentes!$AI:$AI,0),5),\"\")","v":""}]
[null,null,null,"",{"$f":"IF(J148=\"\",\"\",CONCATENATE(AD148,DIGITADOR!$B$2,DIGITADOR!$M$1,J148))","v":""},{"$f":"IF(J148=\"\",\"\",CONCATENATE(DIGITADOR!$B$2,AD148,DIGITADOR!$M$1,J148,ROW()))","v":""},null,null,null,{"$f":"IF(X148=\"\",\"\", INDEX(referentes!$AH:$AL,MATCH(DATOS_MAP!X148,referentes!$AI:$AI,0),1))","v":""},"",{"$f":"IF(AF148=\"\",\"\", INDEX(referentes!D:E,MATCH(DATOS_MAP!AF148,referentes!$E:$E,0),1))","v":""},{"$f":"IF(AI148=\"\",\"\", INDEX(referentes!A:B,MATCH(DATOS_MAP!AI148,referentes!$B:$B,0),1))","v":""},{"$f":"IF(AJ148=\"\",\"\", INDEX(referentes!G:H,MATCH(DATOS_MAP!AJ148,referentes!$H:$H,0),1))","v":""},{"$f":"IF(AK148=\"\",\"\", INDEX(referentes!$V$2:$W$10,MATCH(DATOS_MAP!AK148,referentes!$W$2:$W$10,0),1))","v":""},{"$f":"IF(AL148=\"\",\"\", INDEX(referentes!$AB:$AC,MATCH(DATOS_MAP!AL148,referentes!$AC:$AC,0),1))","v":""},{"$f":"IF(AP148=\"\",\"\", INDEX(referentes!$Y$2:$Z$10,MATCH(DATOS_MAP!AP148,referentes!$Z$2:$Z$10,0),1))","v":""},{"$f":"IF(AN148=\"\",\"\", INDEX(referentes!$AE$2:$AF$10,MATCH(DATOS_MAP!AN148,referentes!$AF$2:$AF$10,0),1))","v":""},{"$f":"IF(AQ148=\"\",\"\", INDEX(referentes!J:K,MATCH(DATOS_MAP!AQ148,referentes!$K:$K,0),1))","v":""},null,{"$f":"IF(AY148=\"\",\"\", INDEX('otras referencias'!O:P,MATCH(AY148,'otras referencias'!$O:$O,0),2))","v":""},null,null,null,null,null,{"$f":"IF(X148<>\"\",INDEX(referentes!$AH:$AL,MATCH(DATOS_MAP!X148,referentes!$AI:$AI,0),5),\"\")","v":""}]
[null,null,null,"",{"$f":"IF(J149=\"\",\"\",CONCATENATE(AD149,DIGITADOR!$B$2,DIGITADOR!$M$1,J149))","v":""},{"$f":"IF(J149=\"\",\"\",CONCATENATE(DIGITADOR!$B$2,AD149,DIGITADOR!$M$1,J149,ROW()))","v":""},null,null,null,{"$f":"IF(X149=\"\",\"\", INDEX(referentes!$AH:$AL,MATCH(DATOS_MAP!X149,referentes!$AI:$AI,0),1))","v":""},"",{"$f":"IF(AF149=\"\",\"\", INDEX(referentes!D:E,MATCH(DATOS_MAP!AF149,referentes!$E:$E,0),1))","v":""},{"$f":"IF(AI149=\"\",\"\", INDEX(referentes!A:B,MATCH(DATOS_MAP!AI149,referentes!$B:$B,0),1))","v":""},{"$f":"IF(AJ149=\"\",\"\", INDEX(referentes!G:H,MATCH(DATOS_MAP!AJ149,referentes!$H:$H,0),1))","v":""},{"$f":"IF(AK149=\"\",\"\", INDEX(referentes!$V$2:$W$10,MATCH(DATOS_MAP!AK149,referentes!$W$2:$W$10,0),1))","v":""},{"$f":"IF(AL149=\"\",\"\", INDEX(referentes!$AB:$AC,MATCH(DATOS_MAP!AL149,referentes!$AC:$AC,0),1))","v":""},{"$f":"IF(AP149=\"\",\"\", INDEX(referentes!$Y$2:$Z$10,MATCH(DATOS_MAP!AP149,referentes!$Z$2:$Z$10,0),1))","v":""},{"$f":"IF(AN149=\"\",\"\", INDEX(referentes!$AE$2:$AF$10,MATCH(DATOS_MAP!AN149,referentes!$AF$2:$AF$10,0),1))","v":""},{"$f":"IF(AQ149=\"\",\"\", INDEX(referentes!J:K,MATCH(DATOS_MAP!AQ149,referentes!$K:$K,0),1))","v":""},null,{"$f":"IF(AY149=\"\",\"\", INDEX('otras referencias'!O:P,MATCH(AY149,'otras referencias'!$O:$O,0),2))","v":""},null,null,null,null,null,{"$f":"IF(X149<>\"\",INDEX(referentes!$AH:$AL,MATCH(DATOS_MAP!X149,referentes!$AI:$AI,0),5),\"\")","v":""}]
[null,null,null,"",{"$f":"IF(J150=\"\",\"\",CONCATENATE(AD150,DIGITADOR!$B$2,DIGITADOR!$M$1,J150))","v":""},{"$f":"IF(J150=\"\",\"\",CONCATENATE(DIGITADOR!$B$2,AD150,DIGITADOR!$M$1,J150,ROW()))","v":""},null,null,null,{"$f":"IF(X150=\"\",\"\", INDEX(referentes!$AH:$AL,MATCH(DATOS_MAP!X150,referentes!$AI:$AI,0),1))","v":""},"",{"$f":"IF(AF150=\"\",\"\", INDEX(referentes!D:E,MATCH(DATOS_MAP!AF150,referentes!$E:$E,0),1))","v":""},{"$f":"IF(AI150=\"\",\"\", INDEX(referentes!A:B,MATCH(DATOS_MAP!AI150,referentes!$B:$B,0),1))","v":""},{"$f":"IF(AJ150=\"\",\"\", INDEX(referentes!G:H,MATCH(DATOS_MAP!AJ150,referentes!$H:$H,0),1))","v":""},{"$f":"IF(AK150=\"\",\"\", INDEX(referentes!$V$2:$W$10,MATCH(DATOS_MAP!AK150,referentes!$W$2:$W$10,0),1))","v":""},{"$f":"IF(AL150=\"\",\"\", INDEX(referentes!$AB:$AC,MATCH(DATOS_MAP!AL150,referentes!$AC:$AC,0),1))","v":""},{"$f":"IF(AP150=\"\",\"\", INDEX(referentes!$Y$2:$Z$10,MATCH(DATOS_MAP!AP150,referentes!$Z$2:$Z$10,0),1))","v":""},{"$f":"IF(AN150=\"\",\"\", INDEX(referentes!$AE$2:$AF$10,MATCH(DATOS_MAP!AN150,referentes!$AF$2:$AF$10,0),1))","v":""},{"$f":"IF(AQ150=\"\",\"\", INDEX(referentes!J:K,MATCH(DATOS_MAP!AQ150,referentes!$K:$K,0),1))","v":""},null,{"$f":"IF(AY150=\"\",\"\", INDEX('otras referencias'!O:P,MATCH(AY150,'otras referencias'!$O:$O,0),2))","v":""},null,null,null,null,null,{"$f":"IF(X150<>\"\",INDEX(referentes!$AH:$AL,MATCH(DATOS_MAP!X150,referentes!$AI:$AI,0),5),\"\")","v":""}]
[null,null,null,"",{"$f":"IF(J151=\"\",\"\",CONCATENATE(AD151,DIGITADOR!$B$2,DIGITADOR!$M$1,J151))","v":""},{"$f":"IF(J151=\"\",\"\",CONCATENATE(DIGITADOR!$B$2,AD151,DIGITADOR!$M$1,J151,ROW()))","v":""},null,null,null,{"$f":"IF(X151=\"\",\"\", INDEX(referentes!$AH:$AL,MATCH(DATOS_MAP!X151,referentes!$AI:$AI,0),1))","v":""},"",{"$f":"IF(AF151=\"\",\"\", INDEX(referentes!D:E,MATCH(DATOS_MAP!AF151,referentes!$E:$E,0),1))","v":""},{"$f":"IF(AI151=\"\",\"\", INDEX(referentes!A:B,MATCH(DATOS_MAP!AI151,referentes!$B:$B,0),1))","v":""},{"$f":"IF(AJ151=\"\",\"\", INDEX(referentes!G:H,MATCH(DATOS_MAP!AJ151,referentes!$H:$H,0),1))","v":""},{"$f":"IF(AK151=\"\",\"\", INDEX(referentes!$V$2:$W$10,MATCH(DATOS_MAP!AK151,referentes!$W$2:$W$10,0),1))","v":""},{"$f":"IF(AL151=\"\",\"\", INDEX(referentes!$AB:$AC,MATCH(DATOS_MAP!AL151,referentes!$AC:$AC,0),1))","v":""},{"$f":"IF(AP151=\"\",\"\", INDEX(referentes!$Y$2:$Z$10,MATCH(DATOS_MAP!AP151,referentes!$Z$2:$Z$10,0),1))","v":""},{"$f":"IF(AN151=\"\",\"\", INDEX(referentes!$AE$2:$AF$10,MATCH(DATOS_MAP!AN151,referentes!$AF$2:$AF$10,0),1))","v":""},{"$f":"IF(AQ151=\"\",\"\", INDEX(referentes!J:K,MATCH(DATOS_MAP!AQ151,referentes!$K:$K,0),1))","v":""},null,{"$f":"IF(AY151=\"\",\"\", INDEX('otras referencias'!O:P,MATCH(AY151,'otras referencias'!$O:$O,0),2))","v":""},null,null,null,null,null,{"$f":"IF(X151<>\"\",INDEX(referentes!$AH:$AL,MATCH(DATOS_MAP!X151,referentes!$AI:$AI,0),5),\"\")","v":""}]
[null,null,null,"",{"$f":"IF(J152=\"\",\"\",CONCATENATE(AD152,DIGITADOR!$B$2,DIGITADOR!$M$1,J152))","v":""},{"$f":"IF(J152=\"\",\"\",CONCATENATE(DIGITADOR!$B$2,AD152,DIGITADOR!$M$1,J152,ROW()))","v":""},null,null,null,{"$f":"IF(X152=\"\",\"\", INDEX(referentes!$AH:$AL,MATCH(DATOS_MAP!X152,referentes!$AI:$AI,0),1))","v":""},"",{"$f":"IF(AF152=\"\",\"\", INDEX(referentes!D:E,MATCH(DATOS_MAP!AF152,referentes!$E:$E,0),1))","v":""},{"$f":"IF(AI152=\"\",\"\", INDEX(referentes!A:B,MATCH(DATOS_MAP!AI152,referentes!$B:$B,0),1))","v":""},{"$f":"IF(AJ152=\"\",\"\", INDEX(referentes!G:H,MATCH(DATOS_MAP!AJ152,referentes!$H:$H,0),1))","v":""},{"$f":"IF(AK152=\"\",\"\", INDEX(referentes!$V$2:$W$10,MATCH(DATOS_MAP!AK152,referentes!$W$2:$W$10,0),1))","v":""},{"$f":"IF(AL152=\"\",\"\", INDEX(referentes!$AB:$AC,MATCH(DATOS_MAP!AL152,referentes!$AC:$AC,0),1))","v":""},{"$f":"IF(AP152=\"\",\"\", INDEX(referentes!$Y$2:$Z$10,MATCH(DATOS_MAP!AP152,referentes!$Z$2:$Z$10,0),1))","v":""},{"$f":"IF(AN152=\"\",\"\", INDEX(referentes!$AE$2:$AF$10,MATCH(DATOS_MAP!AN152,referentes!$AF$2:$AF$10,0),1))","v":""},{"$f":"IF(AQ152=\"\",\"\", INDEX(referentes!J:K,MATCH(DATOS_MAP!AQ152,referentes!$K:$K,0),1))","v":""},null,{"$f":"IF(AY152=\"\",\"\", INDEX('otras referencias'!O:P,MATCH(AY152,'otras referencias'!$O:$O,0),2))","v":""},null,null,null,null,null,{"$f":"IF(X152<>\"\",INDEX(referentes!$AH:$AL,MATCH(DATOS_MAP!X152,referentes!$AI:$AI,0),5),\"\")","v":""}]
[null,null,null,"",{"$f":"IF(J153=\"\",\"\",CONCATENATE(AD153,DIGITADOR!$B$2,DIGITADOR!$M$1,J153))","v":""},{"$f":"IF(J153=\"\",\"\",CONCATENATE(DIGITADOR!$B$2,AD153,DIGITADOR!$M$1,J153,ROW()))","v":""},null,null,null,{"$f":"IF(X153=\"\",\"\", INDEX(referentes!$AH:$AL,MATCH(DATOS_MAP!X153,referentes!$AI:$AI,0),1))","v":""},"",{"$f":"IF(AF153=\"\",\"\", INDEX(referentes!D:E,MATCH(DATOS_MAP!AF153,referentes!$E:$E,0),1))","v":""},{"$f":"IF(AI153=\"\",\"\", INDEX(referentes!A:B,MATCH(DATOS_MAP!AI153,referentes!$B:$B,0),1))","v":""},{"$f":"IF(AJ153=\"\",\"\", INDEX(referentes!G:H,MATCH(DATOS_MAP!AJ153,referentes!$H:$H,0),1))","v":""},{"$f":"IF(AK153=\"\",\"\", INDEX(referentes!$V$2:$W$10,MATCH(DATOS_MAP!AK153,referentes!$W$2:$W$10,0),1))","v":""},{"$f":"IF(AL153=\"\",\"\", INDEX(referentes!$AB:$AC,MATCH(DATOS_MAP!AL153,referentes!$AC:$AC,0),1))","v":""},{"$f":"IF(AP153=\"\",\"\", INDEX(referentes!$Y$2:$Z$10,MATCH(DATOS_MAP!AP153,referentes!$Z$2:$Z$10,0),1))","v":""},{"$f":"IF(AN153=\"\",\"\", INDEX(referentes!$AE$2:$AF$10,MATCH(DATOS_MAP!AN153,referentes!$AF$2:$AF$10,0),1))","v":""},{"$f":"IF(AQ153=\"\",\"\", INDEX(referentes!J:K,MATCH(DATOS_MAP!AQ153,referentes!$K:$K,0),1))","v":""},null,{"$f":"IF(AY153=\"\",\"\", INDEX('otras referencias'!O:P,MATCH(AY153,'otras referencias'!$O:$O,0),2))","v":""},null,null,null,null,null,{"$f":"IF(X153<>\"\",INDEX(referentes!$AH:$AL,MATCH(DATOS_MAP!X153,referentes!$AI:$AI,0),5),\"\")","v":""}]
[null,null,null,"",{"$f":"IF(J154=\"\",\"\",CONCATENATE(AD154,DIGITADOR!$B$2,DIGITADOR!$M$1,J154))","v":""},{"$f":"IF(J154=\"\",\"\",CONCATENATE(DIGITADOR!$B$2,AD154,DIGITADOR!$M$1,J154,ROW()))","v":""},null,null,null,{"$f":"IF(X154=\"\",\"\", INDEX(referentes!$AH:$AL,MATCH(DATOS_MAP!X154,referentes!$AI:$AI,0),1))","v":""},"",{"$f":"IF(AF154=\"\",\"\", INDEX(referentes!D:E,MATCH(DATOS_MAP!AF154,referentes!$E:$E,0),1))","v":""},{"$f":"IF(AI154=\"\",\"\", INDEX(referentes!A:B,MATCH(DATOS_MAP!AI154,referentes!$B:$B,0),1))","v":""},{"$f":"IF(AJ154=\"\",\"\", INDEX(referentes!G:H,MATCH(DATOS_MAP!AJ154,referentes!$H:$H,0),1))","v":""},{"$f":"IF(AK154=\"\",\"\", INDEX(referentes!$V$2:$W$10,MATCH(DATOS_MAP!AK154,referentes!$W$2:$W$10,0),1))","v":""},{"$f":"IF(AL154=\"\",\"\", INDEX(referentes!$AB:$AC,MATCH(DATOS_MAP!AL154,referentes!$AC:$AC,0),1))","v":""},{"$f":"IF(AP154=\"\",\"\", INDEX(referentes!$Y$2:$Z$10,MATCH(DATOS_MAP!AP154,referentes!$Z$2:$Z$10,0),1))","v":""},{"$f":"IF(AN154=\"\",\"\", INDEX(referentes!$AE$2:$AF$10,MATCH(DATOS_MAP!AN154,referentes!$AF$2:$AF$10,0),1))","v":""},{"$f":"IF(AQ154=\"\",\"\", INDEX(referentes!J:K,MATCH(DATOS_MAP!AQ154,referentes!$K:$K,0),1))","v":""},null,{"$f":"IF(AY154=\"\",\"\", INDEX('otras referencias'!O:P,MATCH(AY154,'otras referencias'!$O:$O,0),2))","v":""},null,null,null,null,null,{"$f":"IF(X154<>\"\",INDEX(referentes!$AH:$AL,MATCH(DATOS_MAP!X154,referentes!$AI:$AI,0),5),\"\")","v":""}]
[null,null,null,"",{"$f":"IF(J155=\"\",\"\",CONCATENATE(AD155,DIGITADOR!$B$2,DIGITADOR!$M$1,J155))","v":""},{"$f":"IF(J155=\"\",\"\",CONCATENATE(DIGITADOR!$B$2,AD155,DIGITADOR!$M$1,J155,ROW()))","v":""},null,null,null,{"$f":"IF(X155=\"\",\"\", INDEX(referentes!$AH:$AL,MATCH(DATOS_MAP!X155,referentes!$AI:$AI,0),1))","v":""},"",{"$f":"IF(AF155=\"\",\"\", INDEX(referentes!D:E,MATCH(DATOS_MAP!AF155,referentes!$E:$E,0),1))","v":""},{"$f":"IF(AI155=\"\",\"\", INDEX(referentes!A:B,MATCH(DATOS_MAP!AI155,referentes!$B:$B,0),1))","v":""},{"$f":"IF(AJ155=\"\",\"\", INDEX(referentes!G:H,MATCH(DATOS_MAP!AJ155,referentes!$H:$H,0),1))","v":""},{"$f":"IF(AK155=\"\",\"\", INDEX(referentes!$V$2:$W$10,MATCH(DATOS_MAP!AK155,referentes!$W$2:$W$10,0),1))","v":""},{"$f":"IF(AL155=\"\",\"\", INDEX(referentes!$AB:$AC,MATCH(DATOS_MAP!AL155,referentes!$AC:$AC,0),1))","v":""},{"$f":"IF(AP155=\"\",\"\", INDEX(referentes!$Y$2:$Z$10,MATCH(DATOS_MAP!AP155,referentes!$Z$2:$Z$10,0),1))","v":""},{"$f":"IF(AN155=\"\",\"\", INDEX(referentes!$AE$2:$AF$10,MATCH(DATOS_MAP!AN155,referentes!$AF$2:$AF$10,0),1))","v":""},{"$f":"IF(AQ155=\"\",\"\", INDEX(referentes!J:K,MATCH(DATOS_MAP!AQ155,referentes!$K:$K,0),1))","v":""},null,{"$f":"IF(AY155=\"\",\"\", INDEX('otras referencias'!O:P,MATCH(AY155,'otras referencias'!$O:$O,0),2))","v":""},null,null,null,null,null,{"$f":"IF(X155<>\"\",INDEX(referentes!$AH:$AL,MATCH(DATOS_MAP!X155,referentes!$AI:$AI,0),5),\"\")","v":""}]
[null,null,null,"",{"$f":"IF(J156=\"\",\"\",CONCATENATE(AD156,DIGITADOR!$B$2,DIGITADOR!$M$1,J156))","v":""},{"$f":"IF(J156=\"\",\"\",CONCATENATE(DIGITADOR!$B$2,AD156,DIGITADOR!$M$1,J156,ROW()))","v":""},null,null,null,{"$f":"IF(X156=\"\",\"\", INDEX(referentes!$AH:$AL,MATCH(DATOS_MAP!X156,referentes!$AI:$AI,0),1))","v":""},"",{"$f":"IF(AF156=\"\",\"\", INDEX(referentes!D:E,MATCH(DATOS_MAP!AF156,referentes!$E:$E,0),1))","v":""},{"$f":"IF(AI156=\"\",\"\", INDEX(referentes!A:B,MATCH(DATOS_MAP!AI156,referentes!$B:$B,0),1))","v":""},{"$f":"IF(AJ156=\"\",\"\", INDEX(referentes!G:H,MATCH(DATOS_MAP!AJ156,referentes!$H:$H,0),1))","v":""},{"$f":"IF(AK156=\"\",\"\", INDEX(referentes!$V$2:$W$10,MATCH(DATOS_MAP!AK156,referentes!$W$2:$W$10,0),1))","v":""},{"$f":"IF(AL156=\"\",\"\", INDEX(referentes!$AB:$AC,MATCH(DATOS_MAP!AL156,referentes!$AC:$AC,0),1))","v":""},{"$f":"IF(AP156=\"\",\"\", INDEX(referentes!$Y$2:$Z$10,MATCH(DATOS_MAP!AP156,referentes!$Z$2:$Z$10,0),1))","v":""},{"$f":"IF(AN156=\"\",\"\", INDEX(referentes!$AE$2:$AF$10,MATCH(DATOS_MAP!AN156,referentes!$AF$2:$AF$10,0),1))","v":""},{"$f":"IF(AQ156=\"\",\"\", INDEX(referentes!J:K,MATCH(DATOS_MAP!AQ156,referentes!$K:$K,0),1))","v":""},null,{"$f":"IF(AY156=\"\",\"\", INDEX('otras referencias'!O:P,MATCH(AY156,'otras referencias'!$O:$O,0),2))","v":""},null,null,null,null,null,{"$f":"IF(X156<>\"\",INDEX(referentes!$AH:$AL,MATCH(DATOS_MAP!X156,referentes!$AI:$AI,0),5),\"\")","v":""}]
[null,null,null,"",{"$f":"IF(J157=\"\",\"\",CONCATENATE(AD157,DIGITADOR!$B$2,DIGITADOR!$M$1,J157))","v":""},{"$f":"IF(J157=\"\",\"\",CONCATENATE(DIGITADOR!$B$2,AD157,DIGITADOR!$M$1,J157,ROW()))","v":""},null,null,null,{"$f":"IF(X157=\"\",\"\", INDEX(referentes!$AH:$AL,MATCH(DATOS_MAP!X157,referentes!$AI:$AI,0),1))","v":""},"",{"$f":"IF(AF157=\"\",\"\", INDEX(referentes!D:E,MATCH(DATOS_MAP!AF157,referentes!$E:$E,0),1))","v":""},{"$f":"IF(AI157=\"\",\"\", INDEX(referentes!A:B,MATCH(DATOS_MAP!AI157,referentes!$B:$B,0),1))","v":""},{"$f":"IF(AJ157=\"\",\"\", INDEX(referentes!G:H,MATCH(DATOS_MAP!AJ157,referentes!$H:$H,0),1))","v":""},{"$f":"IF(AK157=\"\",\"\", INDEX(referentes!$V$2:$W$10,MATCH(DATOS_MAP!AK157,referentes!$W$2:$W$10,0),1))","v":""},{"$f":"IF(AL157=\"\",\"\", INDEX(referentes!$AB:$AC,MATCH(DATOS_MAP!AL157,referentes!$AC:$AC,0),1))","v":""},{"$f":"IF(AP157=\"\",\"\", INDEX(referentes!$Y$2:$Z$10,MATCH(DATOS_MAP!AP157,referentes!$Z$2:$Z$10,0),1))","v":""},{"$f":"IF(AN157=\"\",\"\", INDEX(referentes!$AE$2:$AF$10,MATCH(DATOS_MAP!AN157,referentes!$AF$2:$AF$10,0),1))","v":""},{"$f":"IF(AQ157=\"\",\"\", INDEX(referentes!J:K,MATCH(DATOS_MAP!AQ157,referentes!$K:$K,0),1))","v":""},null,{"$f":"IF(AY157=\"\",\"\", INDEX('otras referencias'!O:P,MATCH(AY157,'otras referencias'!$O:$O,0),2))","v":""},null,null,null,null,null,{"$f":"IF(X157<>\"\",INDEX(referentes!$AH:$AL,MATCH(DATOS_MAP!X157,referentes!$AI:$AI,0),5),\"\")","v":""}]
[null,null,null,"",{"$f":"IF(J158=\"\",\"\",CONCATENATE(AD158,DIGITADOR!$B$2,DIGITADOR!$M$1,J158))","v":""},{"$f":"IF(J158=\"\",\"\",CONCATENATE(DIGITADOR!$B$2,AD158,DIGITADOR!$M$1,J158,ROW()))","v":""},null,null,null,{"$f":"IF(X158=\"\",\"\", INDEX(referentes!$AH:$AL,MATCH(DATOS_MAP!X158,referentes!$AI:$AI,0),1))","v":""},"",{"$f":"IF(AF158=\"\",\"\", INDEX(referentes!D:E,MATCH(DATOS_MAP!AF158,referentes!$E:$E,0),1))","v":""},{"$f":"IF(AI158=\"\",\"\", INDEX(referentes!A:B,MATCH(DATOS_MAP!AI158,referentes!$B:$B,0),1))","v":""},{"$f":"IF(AJ158=\"\",\"\", INDEX(referentes!G:H,MATCH(DATOS_MAP!AJ158,referentes!$H:$H,0),1))","v":""},{"$f":"IF(AK158=\"\",\"\", INDEX(referentes!$V$2:$W$10,MATCH(DATOS_MAP!AK158,referentes!$W$2:$W$10,0),1))","v":""},{"$f":"IF(AL158=\"\",\"\", INDEX(referentes!$AB:$AC,MATCH(DATOS_MAP!AL158,referentes!$AC:$AC,0),1))","v":""},{"$f":"IF(AP158=\"\",\"\", INDEX(referentes!$Y$2:$Z$10,MATCH(DATOS_MAP!AP158,referentes!$Z$2:$Z$10,0),1))","v":""},{"$f":"IF(AN158=\"\",\"\", INDEX(referentes!$AE$2:$AF$10,MATCH(DATOS_MAP!AN158,referentes!$AF$2:$AF$10,0),1))","v":""},{"$f":"IF(AQ158=\"\",\"\", INDEX(referentes!J:K,MATCH(DATOS_MAP!AQ158,referentes!$K:$K,0),1))","v":""},null,{"$f":"IF(AY158=\"\",\"\", INDEX('otras referencias'!O:P,MATCH(AY158,'otras referencias'!$O:$O,0),2))","v":""},null,null,null,null,null,{"$f":"IF(X158<>\"\",INDEX(referentes!$AH:$AL,MATCH(DATOS_MAP!X158,referentes!$AI:$AI,0),5),\"\")","v":""}]
[null,null,null,"",{"$f":"IF(J159=\"\",\"\",CONCATENATE(AD159,DIGITADOR!$B$2,DIGITADOR!$M$1,J159))","v":""},{"$f":"IF(J159=\"\",\"\",CONCATENATE(DIGITADOR!$B$2,AD159,DIGITADOR!$M$1,J159,ROW()))","v":""},null,null,null,{"$f":"IF(X159=\"\",\"\", INDEX(referentes!$AH:$AL,MATCH(DATOS_MAP!X159,referentes!$AI:$AI,0),1))","v":""},"",{"$f":"IF(AF159=\"\",\"\", INDEX(referentes!D:E,MATCH(DATOS_MAP!AF159,referentes!$E:$E,0),1))","v":""},{"$f":"IF(AI159=\"\",\"\", INDEX(referentes!A:B,MATCH(DATOS_MAP!AI159,referentes!$B:$B,0),1))","v":""},{"$f":"IF(AJ159=\"\",\"\", INDEX(referentes!G:H,MATCH(DATOS_MAP!AJ159,referentes!$H:$H,0),1))","v":""},{"$f":"IF(AK159=\"\",\"\", INDEX(referentes!$V$2:$W$10,MATCH(DATOS_MAP!AK159,referentes!$W$2:$W$10,0),1))","v":""},{"$f":"IF(AL159=\"\",\"\", INDEX(referentes!$AB:$AC,MATCH(DATOS_MAP!AL159,referentes!$AC:$AC,0),1))","v":""},{"$f":"IF(AP159=\"\",\"\", INDEX(referentes!$Y$2:$Z$10,MATCH(DATOS_MAP!AP159,referentes!$Z$2:$Z$10,0),1))","v":""},{"$f":"IF(AN159=\"\",\"\", INDEX(referentes!$AE$2:$AF$10,MATCH(DATOS_MAP!AN159,referentes!$AF$2:$AF$10,0),1))","v":""},{"$f":"IF(AQ159=\"\",\"\", INDEX(referentes!J:K,MATCH(DATOS_MAP!AQ159,referentes!$K:$K,0),1))","v":""},null,{"$f":"IF(AY159=\"\",\"\", INDEX('otras referencias'!O:P,MATCH(AY159,'otras referencias'!$O:$O,0),2))","v":""},null,null,null,null,null,{"$f":"IF(X159<>\"\",INDEX(referentes!$AH:$AL,MATCH(DATOS_MAP!X159,referentes!$AI:$AI,0),5),\"\")","v":""}]
[null,null,null,"",{"$f":"IF(J160=\"\",\"\",CONCATENATE(AD160,DIGITADOR!$B$2,DIGITADOR!$M$1,J160))","v":""},{"$f":"IF(J160=\"\",\"\",CONCATENATE(DIGITADOR!$B$2,AD160,DIGITADOR!$M$1,J160,ROW()))","v":""},null,null,null,{"$f":"IF(X160=\"\",\"\", INDEX(referentes!$AH:$AL,MATCH(DATOS_MAP!X160,referentes!$AI:$AI,0),1))","v":""},"",{"$f":"IF(AF160=\"\",\"\", INDEX(referentes!D:E,MATCH(DATOS_MAP!AF160,referentes!$E:$E,0),1))","v":""},{"$f":"IF(AI160=\"\",\"\", INDEX(referentes!A:B,MATCH(DATOS_MAP!AI160,referentes!$B:$B,0),1))","v":""},{"$f":"IF(AJ160=\"\",\"\", INDEX(referentes!G:H,MATCH(DATOS_MAP!AJ160,referentes!$H:$H,0),1))","v":""},{"$f":"IF(AK160=\"\",\"\", INDEX(referentes!$V$2:$W$10,MATCH(DATOS_MAP!AK160,referentes!$W$2:$W$10,0),1))","v":""},{"$f":"IF(AL160=\"\",\"\", INDEX(referentes!$AB:$AC,MATCH(DATOS_MAP!AL160,referentes!$AC:$AC,0),1))","v":""},{"$f":"IF(AP160=\"\",\"\", INDEX(referentes!$Y$2:$Z$10,MATCH(DATOS_MAP!AP160,referentes!$Z$2:$Z$10,0),1))","v":""},{"$f":"IF(AN160=\"\",\"\", INDEX(referentes!$AE$2:$AF$10,MATCH(DATOS_MAP!AN160,referentes!$AF$2:$AF$10,0),1))","v":""},{"$f":"IF(AQ160=\"\",\"\", INDEX(referentes!J:K,MATCH(DATOS_MAP!AQ160,referentes!$K:$K,0),1))","v":""},null,{"$f":"IF(AY160=\"\",\"\", INDEX('otras referencias'!O:P,MATCH(AY160,'otras referencias'!$O:$O,0),2))","v":""},null,null,null,null,null,{"$f":"IF(X160<>\"\",INDEX(referentes!$AH:$AL,MATCH(DATOS_MAP!X160,referentes!$AI:$AI,0),5),\"\")","v":""}]
[null,null,null,"",{"$f":"IF(J161=\"\",\"\",CONCATENATE(AD161,DIGITADOR!$B$2,DIGITADOR!$M$1,J161))","v":""},{"$f":"IF(J161=\"\",\"\",CONCATENATE(DIGITADOR!$B$2,AD161,DIGITADOR!$M$1,J161,ROW()))","v":""},null,null,null,{"$f":"IF(X161=\"\",\"\", INDEX(referentes!$AH:$AL,MATCH(DATOS_MAP!X161,referentes!$AI:$AI,0),1))","v":""},"",{"$f":"IF(AF161=\"\",\"\", INDEX(referentes!D:E,MATCH(DATOS_MAP!AF161,referentes!$E:$E,0),1))","v":""},{"$f":"IF(AI161=\"\",\"\", INDEX(referentes!A:B,MATCH(DATOS_MAP!AI161,referentes!$B:$B,0),1))","v":""},{"$f":"IF(AJ161=\"\",\"\", INDEX(referentes!G:H,MATCH(DATOS_MAP!AJ161,referentes!$H:$H,0),1))","v":""},{"$f":"IF(AK161=\"\",\"\", INDEX(referentes!$V$2:$W$10,MATCH(DATOS_MAP!AK161,referentes!$W$2:$W$10,0),1))","v":""},{"$f":"IF(AL161=\"\",\"\", INDEX(referentes!$AB:$AC,MATCH(DATOS_MAP!AL161,referentes!$AC:$AC,0),1))","v":""},{"$f":"IF(AP161=\"\",\"\", INDEX(referentes!$Y$2:$Z$10,MATCH(DATOS_MAP!AP161,referentes!$Z$2:$Z$10,0),1))","v":""},{"$f":"IF(AN161=\"\",\"\", INDEX(referentes!$AE$2:$AF$10,MATCH(DATOS_MAP!AN161,referentes!$AF$2:$AF$10,0),1))","v":""},{"$f":"IF(AQ161=\"\",\"\", INDEX(referentes!J:K,MATCH(DATOS_MAP!AQ161,referentes!$K:$K,0),1))","v":""},null,{"$f":"IF(AY161=\"\",\"\", INDEX('otras referencias'!O:P,MATCH(AY161,'otras referencias'!$O:$O,0),2))","v":""},null,null,null,null,null,{"$f":"IF(X161<>\"\",INDEX(referentes!$AH:$AL,MATCH(DATOS_MAP!X161,referentes!$AI:$AI,0),5),\"\")","v":""}]
[null,null,null,"",{"$f":"IF(J162=\"\",\"\",CONCATENATE(AD162,DIGITADOR!$B$2,DIGITADOR!$M$1,J162))","v":""},{"$f":"IF(J162=\"\",\"\",CONCATENATE(DIGITADOR!$B$2,AD162,DIGITADOR!$M$1,J162,ROW()))","v":""},null,null,null,{"$f":"IF(X162=\"\",\"\", INDEX(referentes!$AH:$AL,MATCH(DATOS_MAP!X162,referentes!$AI:$AI,0),1))","v":""},"",{"$f":"IF(AF162=\"\",\"\", INDEX(referentes!D:E,MATCH(DATOS_MAP!AF162,referentes!$E:$E,0),1))","v":""},{"$f":"IF(AI162=\"\",\"\", INDEX(referentes!A:B,MATCH(DATOS_MAP!AI162,referentes!$B:$B,0),1))","v":""},{"$f":"IF(AJ162=\"\",\"\", INDEX(referentes!G:H,MATCH(DATOS_MAP!AJ162,referentes!$H:$H,0),1))","v":""},{"$f":"IF(AK162=\"\",\"\", INDEX(referentes!$V$2:$W$10,MATCH(DATOS_MAP!AK162,referentes!$W$2:$W$10,0),1))","v":""},{"$f":"IF(AL162=\"\",\"\", INDEX(referentes!$AB:$AC,MATCH(DATOS_MAP!AL162,referentes!$AC:$AC,0),1))","v":""},{"$f":"IF(AP162=\"\",\"\", INDEX(referentes!$Y$2:$Z$10,MATCH(DATOS_MAP!AP162,referentes!$Z$2:$Z$10,0),1))","v":""},{"$f":"IF(AN162=\"\",\"\", INDEX(referentes!$AE$2:$AF$10,MATCH(DATOS_MAP!AN162,referentes!$AF$2:$AF$10,0),1))","v":""},{"$f":"IF(AQ162=\"\",\"\", INDEX(referentes!J:K,MATCH(DATOS_MAP!AQ162,referentes!$K:$K,0),1))","v":""},null,{"$f":"IF(AY162=\"\",\"\", INDEX('otras referencias'!O:P,MATCH(AY162,'otras referencias'!$O:$O,0),2))","v":""},null,null,null,null,null,{"$f":"IF(X162<>\"\",INDEX(referentes!$AH:$AL,MATCH(DATOS_MAP!X162,referentes!$AI:$AI,0),5),\"\")","v":""}]
[null,null,null,"",{"$f":"IF(J163=\"\",\"\",CONCATENATE(AD163,DIGITADOR!$B$2,DIGITADOR!$M$1,J163))","v":""},{"$f":"IF(J163=\"\",\"\",CONCATENATE(DIGITADOR!$B$2,AD163,DIGITADOR!$M$1,J163,ROW()))","v":""},null,null,null,{"$f":"IF(X163=\"\",\"\", INDEX(referentes!$AH:$AL,MATCH(DATOS_MAP!X163,referentes!$AI:$AI,0),1))","v":""},"",{"$f":"IF(AF163=\"\",\"\", INDEX(referentes!D:E,MATCH(DATOS_MAP!AF163,referentes!$E:$E,0),1))","v":""},{"$f":"IF(AI163=\"\",\"\", INDEX(referentes!A:B,MATCH(DATOS_MAP!AI163,referentes!$B:$B,0),1))","v":""},{"$f":"IF(AJ163=\"\",\"\", INDEX(referentes!G:H,MATCH(DATOS_MAP!AJ163,referentes!$H:$H,0),1))","v":""},{"$f":"IF(AK163=\"\",\"\", INDEX(referentes!$V$2:$W$10,MATCH(DATOS_MAP!AK163,referentes!$W$2:$W$10,0),1))","v":""},{"$f":"IF(AL163=\"\",\"\", INDEX(referentes!$AB:$AC,MATCH(DATOS_MAP!AL163,referentes!$AC:$AC,0),1))","v":""},{"$f":"IF(AP163=\"\",\"\", INDEX(referentes!$Y$2:$Z$10,MATCH(DATOS_MAP!AP163,referentes!$Z$2:$Z$10,0),1))","v":""},{"$f":"IF(AN163=\"\",\"\", INDEX(referentes!$AE$2:$AF$10,MATCH(DATOS_MAP!AN163,referentes!$AF$2:$AF$10,0),1))","v":""},{"$f":"IF(AQ163=\"\",\"\", INDEX(referentes!J:K,MATCH(DATOS_MAP!AQ163,referentes!$K:$K,0),1))","v":""},null,{"$f":"IF(AY163=\"\",\"\", INDEX('otras referencias'!O:P,MATCH(AY163,'otras referencias'!$O:$O,0),2))","v":""},null,null,null,null,null,{"$f":"IF(X163<>\"\",INDEX(referentes!$AH:$AL,MATCH(DATOS_MAP!X163,referentes!$AI:$AI,0),5),\"\")","v":""}]
[null,null,null,"",{"$f":"IF(J164=\"\",\"\",CONCATENATE(AD164,DIGITADOR!$B$2,DIGITADOR!$M$1,J164))","v":""},{"$f":"IF(J164=\"\",\"\",CONCATENATE(DIGITADOR!$B$2,AD164,DIGITADOR!$M$1,J164,ROW()))","v":""},null,null,null,{"$f":"IF(X164=\"\",\"\", INDEX(referentes!$AH:$AL,MATCH(DATOS_MAP!X164,referentes!$AI:$AI,0),1))","v":""},"",{"$f":"IF(AF164=\"\",\"\", INDEX(referentes!D:E,MATCH(DATOS_MAP!AF164,referentes!$E:$E,0),1))","v":""},{"$f":"IF(AI164=\"\",\"\", INDEX(referentes!A:B,MATCH(DATOS_MAP!AI164,referentes!$B:$B,0),1))","v":""},{"$f":"IF(AJ164=\"\",\"\", INDEX(referentes!G:H,MATCH(DATOS_MAP!AJ164,referentes!$H:$H,0),1))","v":""},{"$f":"IF(AK164=\"\",\"\", INDEX(referentes!$V$2:$W$10,MATCH(DATOS_MAP!AK164,referentes!$W$2:$W$10,0),1))","v":""},{"$f":"IF(AL164=\"\",\"\", INDEX(referentes!$AB:$AC,MATCH(DATOS_MAP!AL164,referentes!$AC:$AC,0),1))","v":""},{"$f":"IF(AP164=\"\",\"\", INDEX(referentes!$Y$2:$Z$10,MATCH(DATOS_MAP!AP164,referentes!$Z$2:$Z$10,0),1))","v":""},{"$f":"IF(AN164=\"\",\"\", INDEX(referentes!$AE$2:$AF$10,MATCH(DATOS_MAP!AN164,referentes!$AF$2:$AF$10,0),1))","v":""},{"$f":"IF(AQ164=\"\",\"\", INDEX(referentes!J:K,MATCH(DATOS_MAP!AQ164,referentes!$K:$K,0),1))","v":""},null,{"$f":"IF(AY164=\"\",\"\", INDEX('otras referencias'!O:P,MATCH(AY164,'otras referencias'!$O:$O,0),2))","v":""},null,null,null,null,null,{"$f":"IF(X164<>\"\",INDEX(referentes!$AH:$AL,MATCH(DATOS_MAP!X164,referentes!$AI:$AI,0),5),\"\")","v":""}]
[null,null,null,"",{"$f":"IF(J165=\"\",\"\",CONCATENATE(AD165,DIGITADOR!$B$2,DIGITADOR!$M$1,J165))","v":""},{"$f":"IF(J165=\"\",\"\",CONCATENATE(DIGITADOR!$B$2,AD165,DIGITADOR!$M$1,J165,ROW()))","v":""},null,null,null,{"$f":"IF(X165=\"\",\"\", INDEX(referentes!$AH:$AL,MATCH(DATOS_MAP!X165,referentes!$AI:$AI,0),1))","v":""},"",{"$f":"IF(AF165=\"\",\"\", INDEX(referentes!D:E,MATCH(DATOS_MAP!AF165,referentes!$E:$E,0),1))","v":""},{"$f":"IF(AI165=\"\",\"\", INDEX(referentes!A:B,MATCH(DATOS_MAP!AI165,referentes!$B:$B,0),1))","v":""},{"$f":"IF(AJ165=\"\",\"\", INDEX(referentes!G:H,MATCH(DATOS_MAP!AJ165,referentes!$H:$H,0),1))","v":""},{"$f":"IF(AK165=\"\",\"\", INDEX(referentes!$V$2:$W$10,MATCH(DATOS_MAP!AK165,referentes!$W$2:$W$10,0),1))","v":""},{"$f":"IF(AL165=\"\",\"\", INDEX(referentes!$AB:$AC,MATCH(DATOS_MAP!AL165,referentes!$AC:$AC,0),1))","v":""},{"$f":"IF(AP165=\"\",\"\", INDEX(referentes!$Y$2:$Z$10,MATCH(DATOS_MAP!AP165,referentes!$Z$2:$Z$10,0),1))","v":""},{"$f":"IF(AN165=\"\",\"\", INDEX(referentes!$AE$2:$AF$10,MATCH(DATOS_MAP!AN165,referentes!$AF$2:$AF$10,0),1))","v":""},{"$f":"IF(AQ165=\"\",\"\", INDEX(referentes!J:K,MATCH(DATOS_MAP!AQ165,referentes!$K:$K,0),1))","v":""},null,{"$f":"IF(AY165=\"\",\"\", INDEX('otras referencias'!O:P,MATCH(AY165,'otras referencias'!$O:$O,0),2))","v":""},null,null,null,null,null,{"$f":"IF(X165<>\"\",INDEX(referentes!$AH:$AL,MATCH(DATOS_MAP!X165,referentes!$AI:$AI,0),5),\"\")","v":""}]
[null,null,null,"",{"$f":"IF(J166=\"\",\"\",CONCATENATE(AD166,DIGITADOR!$B$2,DIGITADOR!$M$1,J166))","v":""},{"$f":"IF(J166=\"\",\"\",CONCATENATE(DIGITADOR!$B$2,AD166,DIGITADOR!$M$1,J166,ROW()))","v":""},null,null,null,{"$f":"IF(X166=\"\",\"\", INDEX(referentes!$AH:$AL,MATCH(DATOS_MAP!X166,referentes!$AI:$AI,0),1))","v":""},"",{"$f":"IF(AF166=\"\",\"\", INDEX(referentes!D:E,MATCH(DATOS_MAP!AF166,referentes!$E:$E,0),1))","v":""},{"$f":"IF(AI166=\"\",\"\", INDEX(referentes!A:B,MATCH(DATOS_MAP!AI166,referentes!$B:$B,0),1))","v":""},{"$f":"IF(AJ166=\"\",\"\", INDEX(referentes!G:H,MATCH(DATOS_MAP!AJ166,referentes!$H:$H,0),1))","v":""},{"$f":"IF(AK166=\"\",\"\", INDEX(referentes!$V$2:$W$10,MATCH(DATOS_MAP!AK166,referentes!$W$2:$W$10,0),1))","v":""},{"$f":"IF(AL166=\"\",\"\", INDEX(referentes!$AB:$AC,MATCH(DATOS_MAP!AL166,referentes!$AC:$AC,0),1))","v":""},{"$f":"IF(AP166=\"\",\"\", INDEX(referentes!$Y$2:$Z$10,MATCH(DATOS_MAP!AP166,referentes!$Z$2:$Z$10,0),1))","v":""},{"$f":"IF(AN166=\"\",\"\", INDEX(referentes!$AE$2:$AF$10,MATCH(DATOS_MAP!AN166,referentes!$AF$2:$AF$10,0),1))","v":""},{"$f":"IF(AQ166=\"\",\"\", INDEX(referentes!J:K,MATCH(DATOS_MAP!AQ166,referentes!$K:$K,0),1))","v":""},null,{"$f":"IF(AY166=\"\",\"\", INDEX('otras referencias'!O:P,MATCH(AY166,'otras referencias'!$O:$O,0),2))","v":""},null,null,null,null,null,{"$f":"IF(X166<>\"\",INDEX(referentes!$AH:$AL,MATCH(DATOS_MAP!X166,referentes!$AI:$AI,0),5),\"\")","v":""}]
[null,null,null,"",{"$f":"IF(J167=\"\",\"\",CONCATENATE(AD167,DIGITADOR!$B$2,DIGITADOR!$M$1,J167))","v":""},{"$f":"IF(J167=\"\",\"\",CONCATENATE(DIGITADOR!$B$2,AD167,DIGITADOR!$M$1,J167,ROW()))","v":""},null,null,null,{"$f":"IF(X167=\"\",\"\", INDEX(referentes!$AH:$AL,MATCH(DATOS_MAP!X167,referentes!$AI:$AI,0),1))","v":""},"",{"$f":"IF(AF167=\"\",\"\", INDEX(referentes!D:E,MATCH(DATOS_MAP!AF167,referentes!$E:$E,0),1))","v":""},{"$f":"IF(AI167=\"\",\"\", INDEX(referentes!A:B,MATCH(DATOS_MAP!AI167,referentes!$B:$B,0),1))","v":""},{"$f":"IF(AJ167=\"\",\"\", INDEX(referentes!G:H,MATCH(DATOS_MAP!AJ167,referentes!$H:$H,0),1))","v":""},{"$f":"IF(AK167=\"\",\"\", INDEX(referentes!$V$2:$W$10,MATCH(DATOS_MAP!AK167,referentes!$W$2:$W$10,0),1))","v":""},{"$f":"IF(AL167=\"\",\"\", INDEX(referentes!$AB:$AC,MATCH(DATOS_MAP!AL167,referentes!$AC:$AC,0),1))","v":""},{"$f":"IF(AP167=\"\",\"\", INDEX(referentes!$Y$2:$Z$10,MATCH(DATOS_MAP!AP167,referentes!$Z$2:$Z$10,0),1))","v":""},{"$f":"IF(AN167=\"\",\"\", INDEX(referentes!$AE$2:$AF$10,MATCH(DATOS_MAP!AN167,referentes!$AF$2:$AF$10,0),1))","v":""},{"$f":"IF(AQ167=\"\",\"\", INDEX(referentes!J:K,MATCH(DATOS_MAP!AQ167,referentes!$K:$K,0),1))","v":""},null,{"$f":"IF(AY167=\"\",\"\", INDEX('otras referencias'!O:P,MATCH(AY167,'otras referencias'!$O:$O,0),2))","v":""},null,null,null,null,null,{"$f":"IF(X167<>\"\",INDEX(referentes!$AH:$AL,MATCH(DATOS_MAP!X167,referentes!$AI:$AI,0),5),\"\")","v":""}]
[null,null,null,"",{"$f":"IF(J168=\"\",\"\",CONCATENATE(AD168,DIGITADOR!$B$2,DIGITADOR!$M$1,J168))","v":""},{"$f":"IF(J168=\"\",\"\",CONCATENATE(DIGITADOR!$B$2,AD168,DIGITADOR!$M$1,J168,ROW()))","v":""},null,null,null,{"$f":"IF(X168=\"\",\"\", INDEX(referentes!$AH:$AL,MATCH(DATOS_MAP!X168,referentes!$AI:$AI,0),1))","v":""},"",{"$f":"IF(AF168=\"\",\"\", INDEX(referentes!D:E,MATCH(DATOS_MAP!AF168,referentes!$E:$E,0),1))","v":""},{"$f":"IF(AI168=\"\",\"\", INDEX(referentes!A:B,MATCH(DATOS_MAP!AI168,referentes!$B:$B,0),1))","v":""},{"$f":"IF(AJ168=\"\",\"\", INDEX(referentes!G:H,MATCH(DATOS_MAP!AJ168,referentes!$H:$H,0),1))","v":""},{"$f":"IF(AK168=\"\",\"\", INDEX(referentes!$V$2:$W$10,MATCH(DATOS_MAP!AK168,referentes!$W$2:$W$10,0),1))","v":""},{"$f":"IF(AL168=\"\",\"\", INDEX(referentes!$AB:$AC,MATCH(DATOS_MAP!AL168,referentes!$AC:$AC,0),1))","v":""},{"$f":"IF(AP168=\"\",\"\", INDEX(referentes!$Y$2:$Z$10,MATCH(DATOS_MAP!AP168,referentes!$Z$2:$Z$10,0),1))","v":""},{"$f":"IF(AN168=\"\",\"\", INDEX(referentes!$AE$2:$AF$10,MATCH(DATOS_MAP!AN168,referentes!$AF$2:$AF$10,0),1))","v":""},{"$f":"IF(AQ168=\"\",\"\", INDEX(referentes!J:K,MATCH(DATOS_MAP!AQ168,referentes!$K:$K,0),1))","v":""},null,{"$f":"IF(AY168=\"\",\"\", INDEX('otras referencias'!O:P,MATCH(AY168,'otras referencias'!$O:$O,0),2))","v":""},null,null,null,null,null,{"$f":"IF(X168<>\"\",INDEX(referentes!$AH:$AL,MATCH(DATOS_MAP!X168,referentes!$AI:$AI,0),5),\"\")","v":""}]
[null,null,null,"",{"$f":"IF(J169=\"\",\"\",CONCATENATE(AD169,DIGITADOR!$B$2,DIGITADOR!$M$1,J169))","v":""},{"$f":"IF(J169=\"\",\"\",CONCATENATE(DIGITADOR!$B$2,AD169,DIGITADOR!$M$1,J169,ROW()))","v":""},null,null,null,{"$f":"IF(X169=\"\",\"\", INDEX(referentes!$AH:$AL,MATCH(DATOS_MAP!X169,referentes!$AI:$AI,0),1))","v":""},"",{"$f":"IF(AF169=\"\",\"\", INDEX(referentes!D:E,MATCH(DATOS_MAP!AF169,referentes!$E:$E,0),1))","v":""},{"$f":"IF(AI169=\"\",\"\", INDEX(referentes!A:B,MATCH(DATOS_MAP!AI169,referentes!$B:$B,0),1))","v":""},{"$f":"IF(AJ169=\"\",\"\", INDEX(referentes!G:H,MATCH(DATOS_MAP!AJ169,referentes!$H:$H,0),1))","v":""},{"$f":"IF(AK169=\"\",\"\", INDEX(referentes!$V$2:$W$10,MATCH(DATOS_MAP!AK169,referentes!$W$2:$W$10,0),1))","v":""},{"$f":"IF(AL169=\"\",\"\", INDEX(referentes!$AB:$AC,MATCH(DATOS_MAP!AL169,referentes!$AC:$AC,0),1))","v":""},{"$f":"IF(AP169=\"\",\"\", INDEX(referentes!$Y$2:$Z$10,MATCH(DATOS_MAP!AP169,referentes!$Z$2:$Z$10,0),1))","v":""},{"$f":"IF(AN169=\"\",\"\", INDEX(referentes!$AE$2:$AF$10,MATCH(DATOS_MAP!AN169,referentes!$AF$2:$AF$10,0),1))","v":""},{"$f":"IF(AQ169=\"\",\"\", INDEX(referentes!J:K,MATCH(DATOS_MAP!AQ169,referentes!$K:$K,0),1))","v":""},null,{"$f":"IF(AY169=\"\",\"\", INDEX('otras referencias'!O:P,MATCH(AY169,'otras referencias'!$O:$O,0),2))","v":""},null,null,null,null,null,{"$f":"IF(X169<>\"\",INDEX(referentes!$AH:$AL,MATCH(DATOS_MAP!X169,referentes!$AI:$AI,0),5),\"\")","v":""}]
[null,null,null,"",{"$f":"IF(J170=\"\",\"\",CONCATENATE(AD170,DIGITADOR!$B$2,DIGITADOR!$M$1,J170))","v":""},{"$f":"IF(J170=\"\",\"\",CONCATENATE(DIGITADOR!$B$2,AD170,DIGITADOR!$M$1,J170,ROW()))","v":""},null,null,null,{"$f":"IF(X170=\"\",\"\", INDEX(referentes!$AH:$AL,MATCH(DATOS_MAP!X170,referentes!$AI:$AI,0),1))","v":""},"",{"$f":"IF(AF170=\"\",\"\", INDEX(referentes!D:E,MATCH(DATOS_MAP!AF170,referentes!$E:$E,0),1))","v":""},{"$f":"IF(AI170=\"\",\"\", INDEX(referentes!A:B,MATCH(DATOS_MAP!AI170,referentes!$B:$B,0),1))","v":""},{"$f":"IF(AJ170=\"\",\"\", INDEX(referentes!G:H,MATCH(DATOS_MAP!AJ170,referentes!$H:$H,0),1))","v":""},{"$f":"IF(AK170=\"\",\"\", INDEX(referentes!$V$2:$W$10,MATCH(DATOS_MAP!AK170,referentes!$W$2:$W$10,0),1))","v":""},{"$f":"IF(AL170=\"\",\"\", INDEX(referentes!$AB:$AC,MATCH(DATOS_MAP!AL170,referentes!$AC:$AC,0),1))","v":""},{"$f":"IF(AP170=\"\",\"\", INDEX(referentes!$Y$2:$Z$10,MATCH(DATOS_MAP!AP170,referentes!$Z$2:$Z$10,0),1))","v":""},{"$f":"IF(AN170=\"\",\"\", INDEX(referentes!$AE$2:$AF$10,MATCH(DATOS_MAP!AN170,referentes!$AF$2:$AF$10,0),1))","v":""},{"$f":"IF(AQ170=\"\",\"\", INDEX(referentes!J:K,MATCH(DATOS_MAP!AQ170,referentes!$K:$K,0),1))","v":""},null,{"$f":"IF(AY170=\"\",\"\", INDEX('otras referencias'!O:P,MATCH(AY170,'otras referencias'!$O:$O,0),2))","v":""},null,null,null,null,null,{"$f":"IF(X170<>\"\",INDEX(referentes!$AH:$AL,MATCH(DATOS_MAP!X170,referentes!$AI:$AI,0),5),\"\")","v":""}]
[null,null,null,"",{"$f":"IF(J171=\"\",\"\",CONCATENATE(AD171,DIGITADOR!$B$2,DIGITADOR!$M$1,J171))","v":""},{"$f":"IF(J171=\"\",\"\",CONCATENATE(DIGITADOR!$B$2,AD171,DIGITADOR!$M$1,J171,ROW()))","v":""},null,null,null,{"$f":"IF(X171=\"\",\"\", INDEX(referentes!$AH:$AL,MATCH(DATOS_MAP!X171,referentes!$AI:$AI,0),1))","v":""},"",{"$f":"IF(AF171=\"\",\"\", INDEX(referentes!D:E,MATCH(DATOS_MAP!AF171,referentes!$E:$E,0),1))","v":""},{"$f":"IF(AI171=\"\",\"\", INDEX(referentes!A:B,MATCH(DATOS_MAP!AI171,referentes!$B:$B,0),1))","v":""},{"$f":"IF(AJ171=\"\",\"\", INDEX(referentes!G:H,MATCH(DATOS_MAP!AJ171,referentes!$H:$H,0),1))","v":""},{"$f":"IF(AK171=\"\",\"\", INDEX(referentes!$V$2:$W$10,MATCH(DATOS_MAP!AK171,referentes!$W$2:$W$10,0),1))","v":""},{"$f":"IF(AL171=\"\",\"\", INDEX(referentes!$AB:$AC,MATCH(DATOS_MAP!AL171,referentes!$AC:$AC,0),1))","v":""},{"$f":"IF(AP171=\"\",\"\", INDEX(referentes!$Y$2:$Z$10,MATCH(DATOS_MAP!AP171,referentes!$Z$2:$Z$10,0),1))","v":""},{"$f":"IF(AN171=\"\",\"\", INDEX(referentes!$AE$2:$AF$10,MATCH(DATOS_MAP!AN171,referentes!$AF$2:$AF$10,0),1))","v":""},{"$f":"IF(AQ171=\"\",\"\", INDEX(referentes!J:K,MATCH(DATOS_MAP!AQ171,referentes!$K:$K,0),1))","v":""},null,{"$f":"IF(AY171=\"\",\"\", INDEX('otras referencias'!O:P,MATCH(AY171,'otras referencias'!$O:$O,0),2))","v":""},null,null,null,null,null,{"$f":"IF(X171<>\"\",INDEX(referentes!$AH:$AL,MATCH(DATOS_MAP!X171,referentes!$AI:$AI,0),5),\"\")","v":""}]
[null,null,null,"",{"$f":"IF(J172=\"\",\"\",CONCATENATE(AD172,DIGITADOR!$B$2,DIGITADOR!$M$1,J172))","v":""},{"$f":"IF(J172=\"\",\"\",CONCATENATE(DIGITADOR!$B$2,AD172,DIGITADOR!$M$1,J172,ROW()))","v":""},null,null,null,{"$f":"IF(X172=\"\",\"\", INDEX(referentes!$AH:$AL,MATCH(DATOS_MAP!X172,referentes!$AI:$AI,0),1))","v":""},"",{"$f":"IF(AF172=\"\",\"\", INDEX(referentes!D:E,MATCH(DATOS_MAP!AF172,referentes!$E:$E,0),1))","v":""},{"$f":"IF(AI172=\"\",\"\", INDEX(referentes!A:B,MATCH(DATOS_MAP!AI172,referentes!$B:$B,0),1))","v":""},{"$f":"IF(AJ172=\"\",\"\", INDEX(referentes!G:H,MATCH(DATOS_MAP!AJ172,referentes!$H:$H,0),1))","v":""},{"$f":"IF(AK172=\"\",\"\", INDEX(referentes!$V$2:$W$10,MATCH(DATOS_MAP!AK172,referentes!$W$2:$W$10,0),1))","v":""},{"$f":"IF(AL172=\"\",\"\", INDEX(referentes!$AB:$AC,MATCH(DATOS_MAP!AL172,referentes!$AC:$AC,0),1))","v":""},{"$f":"IF(AP172=\"\",\"\", INDEX(referentes!$Y$2:$Z$10,MATCH(DATOS_MAP!AP172,referentes!$Z$2:$Z$10,0),1))","v":""},{"$f":"IF(AN172=\"\",\"\", INDEX(referentes!$AE$2:$AF$10,MATCH(DATOS_MAP!AN172,referentes!$AF$2:$AF$10,0),1))","v":""},{"$f":"IF(AQ172=\"\",\"\", INDEX(referentes!J:K,MATCH(DATOS_MAP!AQ172,referentes!$K:$K,0),1))","v":""},null,{"$f":"IF(AY172=\"\",\"\", INDEX('otras referencias'!O:P,MATCH(AY172,'otras referencias'!$O:$O,0),2))","v":""},null,null,null,null,null,{"$f":"IF(X172<>\"\",INDEX(referentes!$AH:$AL,MATCH(DATOS_MAP!X172,referentes!$AI:$AI,0),5),\"\")","v":""}]
[null,null,null,"",{"$f":"IF(J173=\"\",\"\",CONCATENATE(AD173,DIGITADOR!$B$2,DIGITADOR!$M$1,J173))","v":""},{"$f":"IF(J173=\"\",\"\",CONCATENATE(DIGITADOR!$B$2,AD173,DIGITADOR!$M$1,J173,ROW()))","v":""},null,null,null,{"$f":"IF(X173=\"\",\"\", INDEX(referentes!$AH:$AL,MATCH(DATOS_MAP!X173,referentes!$AI:$AI,0),1))","v":""},"",{"$f":"IF(AF173=\"\",\"\", INDEX(referentes!D:E,MATCH(DATOS_MAP!AF173,referentes!$E:$E,0),1))","v":""},{"$f":"IF(AI173=\"\",\"\", INDEX(referentes!A:B,MATCH(DATOS_MAP!AI173,referentes!$B:$B,0),1))","v":""},{"$f":"IF(AJ173=\"\",\"\", INDEX(referentes!G:H,MATCH(DATOS_MAP!AJ173,referentes!$H:$H,0),1))","v":""},{"$f":"IF(AK173=\"\",\"\", INDEX(referentes!$V$2:$W$10,MATCH(DATOS_MAP!AK173,referentes!$W$2:$W$10,0),1))","v":""},{"$f":"IF(AL173=\"\",\"\", INDEX(referentes!$AB:$AC,MATCH(DATOS_MAP!AL173,referentes!$AC:$AC,0),1))","v":""},{"$f":"IF(AP173=\"\",\"\", INDEX(referentes!$Y$2:$Z$10,MATCH(DATOS_MAP!AP173,referentes!$Z$2:$Z$10,0),1))","v":""},{"$f":"IF(AN173=\"\",\"\", INDEX(referentes!$AE$2:$AF$10,MATCH(DATOS_MAP!AN173,referentes!$AF$2:$AF$10,0),1))","v":""},{"$f":"IF(AQ173=\"\",\"\", INDEX(referentes!J:K,MATCH(DATOS_MAP!AQ173,referentes!$K:$K,0),1))","v":""},null,{"$f":"IF(AY173=\"\",\"\", INDEX('otras referencias'!O:P,MATCH(AY173,'otras referencias'!$O:$O,0),2))","v":""},null,null,null,null,null,{"$f":"IF(X173<>\"\",INDEX(referentes!$AH:$AL,MATCH(DATOS_MAP!X173,referentes!$AI:$AI,0),5),\"\")","v":""}]
[null,null,null,"",{"$f":"IF(J174=\"\",\"\",CONCATENATE(AD174,DIGITADOR!$B$2,DIGITADOR!$M$1,J174))","v":""},{"$f":"IF(J174=\"\",\"\",CONCATENATE(DIGITADOR!$B$2,AD174,DIGITADOR!$M$1,J174,ROW()))","v":""},null,null,null,{"$f":"IF(X174=\"\",\"\", INDEX(referentes!$AH:$AL,MATCH(DATOS_MAP!X174,referentes!$AI:$AI,0),1))","v":""},"",{"$f":"IF(AF174=\"\",\"\", INDEX(referentes!D:E,MATCH(DATOS_MAP!AF174,referentes!$E:$E,0),1))","v":""},{"$f":"IF(AI174=\"\",\"\", INDEX(referentes!A:B,MATCH(DATOS_MAP!AI174,referentes!$B:$B,0),1))","v":""},{"$f":"IF(AJ174=\"\",\"\", INDEX(referentes!G:H,MATCH(DATOS_MAP!AJ174,referentes!$H:$H,0),1))","v":""},{"$f":"IF(AK174=\"\",\"\", INDEX(referentes!$V$2:$W$10,MATCH(DATOS_MAP!AK174,referentes!$W$2:$W$10,0),1))","v":""},{"$f":"IF(AL174=\"\",\"\", INDEX(referentes!$AB:$AC,MATCH(DATOS_MAP!AL174,referentes!$AC:$AC,0),1))","v":""},{"$f":"IF(AP174=\"\",\"\", INDEX(referentes!$Y$2:$Z$10,MATCH(DATOS_MAP!AP174,referentes!$Z$2:$Z$10,0),1))","v":""},{"$f":"IF(AN174=\"\",\"\", INDEX(referentes!$AE$2:$AF$10,MATCH(DATOS_MAP!AN174,referentes!$AF$2:$AF$10,0),1))","v":""},{"$f":"IF(AQ174=\"\",\"\", INDEX(referentes!J:K,MATCH(DATOS_MAP!AQ174,referentes!$K:$K,0),1))","v":""},null,{"$f":"IF(AY174=\"\",\"\", INDEX('otras referencias'!O:P,MATCH(AY174,'otras referencias'!$O:$O,0),2))","v":""},null,null,null,null,null,{"$f":"IF(X174<>\"\",INDEX(referentes!$AH:$AL,MATCH(DATOS_MAP!X174,referentes!$AI:$AI,0),5),\"\")","v":""}]
[null,null,null,"",{"$f":"IF(J175=\"\",\"\",CONCATENATE(AD175,DIGITADOR!$B$2,DIGITADOR!$M$1,J175))","v":""},{"$f":"IF(J175=\"\",\"\",CONCATENATE(DIGITADOR!$B$2,AD175,DIGITADOR!$M$1,J175,ROW()))","v":""},null,null,null,{"$f":"IF(X175=\"\",\"\", INDEX(referentes!$AH:$AL,MATCH(DATOS_MAP!X175,referentes!$AI:$AI,0),1))","v":""},"",{"$f":"IF(AF175=\"\",\"\", INDEX(referentes!D:E,MATCH(DATOS_MAP!AF175,referentes!$E:$E,0),1))","v":""},{"$f":"IF(AI175=\"\",\"\", INDEX(referentes!A:B,MATCH(DATOS_MAP!AI175,referentes!$B:$B,0),1))","v":""},{"$f":"IF(AJ175=\"\",\"\", INDEX(referentes!G:H,MATCH(DATOS_MAP!AJ175,referentes!$H:$H,0),1))","v":""},{"$f":"IF(AK175=\"\",\"\", INDEX(referentes!$V$2:$W$10,MATCH(DATOS_MAP!AK175,referentes!$W$2:$W$10,0),1))","v":""},{"$f":"IF(AL175=\"\",\"\", INDEX(referentes!$AB:$AC,MATCH(DATOS_MAP!AL175,referentes!$AC:$AC,0),1))","v":""},{"$f":"IF(AP175=\"\",\"\", INDEX(referentes!$Y$2:$Z$10,MATCH(DATOS_MAP!AP175,referentes!$Z$2:$Z$10,0),1))","v":""},{"$f":"IF(AN175=\"\",\"\", INDEX(referentes!$AE$2:$AF$10,MATCH(DATOS_MAP!AN175,referentes!$AF$2:$AF$10,0),1))","v":""},{"$f":"IF(AQ175=\"\",\"\", INDEX(referentes!J:K,MATCH(DATOS_MAP!AQ175,referentes!$K:$K,0),1))","v":""},null,{"$f":"IF(AY175=\"\",\"\", INDEX('otras referencias'!O:P,MATCH(AY175,'otras referencias'!$O:$O,0),2))","v":""},null,null,null,null,null,{"$f":"IF(X175<>\"\",INDEX(referentes!$AH:$AL,MATCH(DATOS_MAP!X175,referentes!$AI:$AI,0),5),\"\")","v":""}]
[null,null,null,"",{"$f":"IF(J176=\"\",\"\",CONCATENATE(AD176,DIGITADOR!$B$2,DIGITADOR!$M$1,J176))","v":""},{"$f":"IF(J176=\"\",\"\",CONCATENATE(DIGITADOR!$B$2,AD176,DIGITADOR!$M$1,J176,ROW()))","v":""},null,null,null,{"$f":"IF(X176=\"\",\"\", INDEX(referentes!$AH:$AL,MATCH(DATOS_MAP!X176,referentes!$AI:$AI,0),1))","v":""},"",{"$f":"IF(AF176=\"\",\"\", INDEX(referentes!D:E,MATCH(DATOS_MAP!AF176,referentes!$E:$E,0),1))","v":""},{"$f":"IF(AI176=\"\",\"\", INDEX(referentes!A:B,MATCH(DATOS_MAP!AI176,referentes!$B:$B,0),1))","v":""},{"$f":"IF(AJ176=\"\",\"\", INDEX(referentes!G:H,MATCH(DATOS_MAP!AJ176,referentes!$H:$H,0),1))","v":""},{"$f":"IF(AK176=\"\",\"\", INDEX(referentes!$V$2:$W$10,MATCH(DATOS_MAP!AK176,referentes!$W$2:$W$10,0),1))","v":""},{"$f":"IF(AL176=\"\",\"\", INDEX(referentes!$AB:$AC,MATCH(DATOS_MAP!AL176,referentes!$AC:$AC,0),1))","v":""},{"$f":"IF(AP176=\"\",\"\", INDEX(referentes!$Y$2:$Z$10,MATCH(DATOS_MAP!AP176,referentes!$Z$2:$Z$10,0),1))","v":""},{"$f":"IF(AN176=\"\",\"\", INDEX(referentes!$AE$2:$AF$10,MATCH(DATOS_MAP!AN176,referentes!$AF$2:$AF$10,0),1))","v":""},{"$f":"IF(AQ176=\"\",\"\", INDEX(referentes!J:K,MATCH(DATOS_MAP!AQ176,referentes!$K:$K,0),1))","v":""},null,{"$f":"IF(AY176=\"\",\"\", INDEX('otras referencias'!O:P,MATCH(AY176,'otras referencias'!$O:$O,0),2))","v":""},null,null,null,null,null,{"$f":"IF(X176<>\"\",INDEX(referentes!$AH:$AL,MATCH(DATOS_MAP!X176,referentes!$AI:$AI,0),5),\"\")","v":""}]
[null,null,null,"",{"$f":"IF(J177=\"\",\"\",CONCATENATE(AD177,DIGITADOR!$B$2,DIGITADOR!$M$1,J177))","v":""},{"$f":"IF(J177=\"\",\"\",CONCATENATE(DIGITADOR!$B$2,AD177,DIGITADOR!$M$1,J177,ROW()))","v":""},null,null,null,{"$f":"IF(X177=\"\",\"\", INDEX(referentes!$AH:$AL,MATCH(DATOS_MAP!X177,referentes!$AI:$AI,0),1))","v":""},"",{"$f":"IF(AF177=\"\",\"\", INDEX(referentes!D:E,MATCH(DATOS_MAP!AF177,referentes!$E:$E,0),1))","v":""},{"$f":"IF(AI177=\"\",\"\", INDEX(referentes!A:B,MATCH(DATOS_MAP!AI177,referentes!$B:$B,0),1))","v":""},{"$f":"IF(AJ177=\"\",\"\", INDEX(referentes!G:H,MATCH(DATOS_MAP!AJ177,referentes!$H:$H,0),1))","v":""},{"$f":"IF(AK177=\"\",\"\", INDEX(referentes!$V$2:$W$10,MATCH(DATOS_MAP!AK177,referentes!$W$2:$W$10,0),1))","v":""},{"$f":"IF(AL177=\"\",\"\", INDEX(referentes!$AB:$AC,MATCH(DATOS_MAP!AL177,referentes!$AC:$AC,0),1))","v":""},{"$f":"IF(AP177=\"\",\"\", INDEX(referentes!$Y$2:$Z$10,MATCH(DATOS_MAP!AP177,referentes!$Z$2:$Z$10,0),1))","v":""},{"$f":"IF(AN177=\"\",\"\", INDEX(referentes!$AE$2:$AF$10,MATCH(DATOS_MAP!AN177,referentes!$AF$2:$AF$10,0),1))","v":""},{"$f":"IF(AQ177=\"\",\"\", INDEX(referentes!J:K,MATCH(DATOS_MAP!AQ177,referentes!$K:$K,0),1))","v":""},null,{"$f":"IF(AY177=\"\",\"\", INDEX('otras referencias'!O:P,MATCH(AY177,'otras referencias'!$O:$O,0),2))","v":""},null,null,null,null,null,{"$f":"IF(X177<>\"\",INDEX(referentes!$AH:$AL,MATCH(DATOS_MAP!X177,referentes!$AI:$AI,0),5),\"\")","v":""}]
[null,null,null,"",{"$f":"IF(J178=\"\",\"\",CONCATENATE(AD178,DIGITADOR!$B$2,DIGITADOR!$M$1,J178))","v":""},{"$f":"IF(J178=\"\",\"\",CONCATENATE(DIGITADOR!$B$2,AD178,DIGITADOR!$M$1,J178,ROW()))","v":""},null,null,null,{"$f":"IF(X178=\"\",\"\", INDEX(referentes!$AH:$AL,MATCH(DATOS_MAP!X178,referentes!$AI:$AI,0),1))","v":""},"",{"$f":"IF(AF178=\"\",\"\", INDEX(referentes!D:E,MATCH(DATOS_MAP!AF178,referentes!$E:$E,0),1))","v":""},{"$f":"IF(AI178=\"\",\"\", INDEX(referentes!A:B,MATCH(DATOS_MAP!AI178,referentes!$B:$B,0),1))","v":""},{"$f":"IF(AJ178=\"\",\"\", INDEX(referentes!G:H,MATCH(DATOS_MAP!AJ178,referentes!$H:$H,0),1))","v":""},{"$f":"IF(AK178=\"\",\"\", INDEX(referentes!$V$2:$W$10,MATCH(DATOS_MAP!AK178,referentes!$W$2:$W$10,0),1))","v":""},{"$f":"IF(AL178=\"\",\"\", INDEX(referentes!$AB:$AC,MATCH(DATOS_MAP!AL178,referentes!$AC:$AC,0),1))","v":""},{"$f":"IF(AP178=\"\",\"\", INDEX(referentes!$Y$2:$Z$10,MATCH(DATOS_MAP!AP178,referentes!$Z$2:$Z$10,0),1))","v":""},{"$f":"IF(AN178=\"\",\"\", INDEX(referentes!$AE$2:$AF$10,MATCH(DATOS_MAP!AN178,referentes!$AF$2:$AF$10,0),1))","v":""},{"$f":"IF(AQ178=\"\",\"\", INDEX(referentes!J:K,MATCH(DATOS_MAP!AQ178,referentes!$K:$K,0),1))","v":""},null,{"$f":"IF(AY178=\"\",\"\", INDEX('otras referencias'!O:P,MATCH(AY178,'otras referencias'!$O:$O,0),2))","v":""},null,null,null,null,null,{"$f":"IF(X178<>\"\",INDEX(referentes!$AH:$AL,MATCH(DATOS_MAP!X178,referentes!$AI:$AI,0),5),\"\")","v":""}]
[null,null,null,"",{"$f":"IF(J179=\"\",\"\",CONCATENATE(AD179,DIGITADOR!$B$2,DIGITADOR!$M$1,J179))","v":""},{"$f":"IF(J179=\"\",\"\",CONCATENATE(DIGITADOR!$B$2,AD179,DIGITADOR!$M$1,J179,ROW()))","v":""},null,null,null,{"$f":"IF(X179=\"\",\"\", INDEX(referentes!$AH:$AL,MATCH(DATOS_MAP!X179,referentes!$AI:$AI,0),1))","v":""},"",{"$f":"IF(AF179=\"\",\"\", INDEX(referentes!D:E,MATCH(DATOS_MAP!AF179,referentes!$E:$E,0),1))","v":""},{"$f":"IF(AI179=\"\",\"\", INDEX(referentes!A:B,MATCH(DATOS_MAP!AI179,referentes!$B:$B,0),1))","v":""},{"$f":"IF(AJ179=\"\",\"\", INDEX(referentes!G:H,MATCH(DATOS_MAP!AJ179,referentes!$H:$H,0),1))","v":""},{"$f":"IF(AK179=\"\",\"\", INDEX(referentes!$V$2:$W$10,MATCH(DATOS_MAP!AK179,referentes!$W$2:$W$10,0),1))","v":""},{"$f":"IF(AL179=\"\",\"\", INDEX(referentes!$AB:$AC,MATCH(DATOS_MAP!AL179,referentes!$AC:$AC,0),1))","v":""},{"$f":"IF(AP179=\"\",\"\", INDEX(referentes!$Y$2:$Z$10,MATCH(DATOS_MAP!AP179,referentes!$Z$2:$Z$10,0),1))","v":""},{"$f":"IF(AN179=\"\",\"\", INDEX(referentes!$AE$2:$AF$10,MATCH(DATOS_MAP!AN179,referentes!$AF$2:$AF$10,0),1))","v":""},{"$f":"IF(AQ179=\"\",\"\", INDEX(referentes!J:K,MATCH(DATOS_MAP!AQ179,referentes!$K:$K,0),1))","v":""},null,{"$f":"IF(AY179=\"\",\"\", INDEX('otras referencias'!O:P,MATCH(AY179,'otras referencias'!$O:$O,0),2))","v":""},null,null,null,null,null,{"$f":"IF(X179<>\"\",INDEX(referentes!$AH:$AL,MATCH(DATOS_MAP!X179,referentes!$AI:$AI,0),5),\"\")","v":""}]
[null,null,null,"",{"$f":"IF(J180=\"\",\"\",CONCATENATE(AD180,DIGITADOR!$B$2,DIGITADOR!$M$1,J180))","v":""},{"$f":"IF(J180=\"\",\"\",CONCATENATE(DIGITADOR!$B$2,AD180,DIGITADOR!$M$1,J180,ROW()))","v":""},null,null,null,{"$f":"IF(X180=\"\",\"\", INDEX(referentes!$AH:$AL,MATCH(DATOS_MAP!X180,referentes!$AI:$AI,0),1))","v":""},"",{"$f":"IF(AF180=\"\",\"\", INDEX(referentes!D:E,MATCH(DATOS_MAP!AF180,referentes!$E:$E,0),1))","v":""},{"$f":"IF(AI180=\"\",\"\", INDEX(referentes!A:B,MATCH(DATOS_MAP!AI180,referentes!$B:$B,0),1))","v":""},{"$f":"IF(AJ180=\"\",\"\", INDEX(referentes!G:H,MATCH(DATOS_MAP!AJ180,referentes!$H:$H,0),1))","v":""},{"$f":"IF(AK180=\"\",\"\", INDEX(referentes!$V$2:$W$10,MATCH(DATOS_MAP!AK180,referentes!$W$2:$W$10,0),1))","v":""},{"$f":"IF(AL180=\"\",\"\", INDEX(referentes!$AB:$AC,MATCH(DATOS_MAP!AL180,referentes!$AC:$AC,0),1))","v":""},{"$f":"IF(AP180=\"\",\"\", INDEX(referentes!$Y$2:$Z$10,MATCH(DATOS_MAP!AP180,referentes!$Z$2:$Z$10,0),1))","v":""},{"$f":"IF(AN180=\"\",\"\", INDEX(referentes!$AE$2:$AF$10,MATCH(DATOS_MAP!AN180,referentes!$AF$2:$AF$10,0),1))","v":""},{"$f":"IF(AQ180=\"\",\"\", INDEX(referentes!J:K,MATCH(DATOS_MAP!AQ180,referentes!$K:$K,0),1))","v":""},null,{"$f":"IF(AY180=\"\",\"\", INDEX('otras referencias'!O:P,MATCH(AY180,'otras referencias'!$O:$O,0),2))","v":""},null,null,null,null,null,{"$f":"IF(X180<>\"\",INDEX(referentes!$AH:$AL,MATCH(DATOS_MAP!X180,referentes!$AI:$AI,0),5),\"\")","v":""}]
[null,null,null,"",{"$f":"IF(J181=\"\",\"\",CONCATENATE(AD181,DIGITADOR!$B$2,DIGITADOR!$M$1,J181))","v":""},{"$f":"IF(J181=\"\",\"\",CONCATENATE(DIGITADOR!$B$2,AD181,DIGITADOR!$M$1,J181,ROW()))","v":""},null,null,null,{"$f":"IF(X181=\"\",\"\", INDEX(referentes!$AH:$AL,MATCH(DATOS_MAP!X181,referentes!$AI:$AI,0),1))","v":""},"",{"$f":"IF(AF181=\"\",\"\", INDEX(referentes!D:E,MATCH(DATOS_MAP!AF181,referentes!$E:$E,0),1))","v":""},{"$f":"IF(AI181=\"\",\"\", INDEX(referentes!A:B,MATCH(DATOS_MAP!AI181,referentes!$B:$B,0),1))","v":""},{"$f":"IF(AJ181=\"\",\"\", INDEX(referentes!G:H,MATCH(DATOS_MAP!AJ181,referentes!$H:$H,0),1))","v":""},{"$f":"IF(AK181=\"\",\"\", INDEX(referentes!$V$2:$W$10,MATCH(DATOS_MAP!AK181,referentes!$W$2:$W$10,0),1))","v":""},{"$f":"IF(AL181=\"\",\"\", INDEX(referentes!$AB:$AC,MATCH(DATOS_MAP!AL181,referentes!$AC:$AC,0),1))","v":""},{"$f":"IF(AP181=\"\",\"\", INDEX(referentes!$Y$2:$Z$10,MATCH(DATOS_MAP!AP181,referentes!$Z$2:$Z$10,0),1))","v":""},{"$f":"IF(AN181=\"\",\"\", INDEX(referentes!$AE$2:$AF$10,MATCH(DATOS_MAP!AN181,referentes!$AF$2:$AF$10,0),1))","v":""},{"$f":"IF(AQ181=\"\",\"\", INDEX(referentes!J:K,MATCH(DATOS_MAP!AQ181,referentes!$K:$K,0),1))","v":""},null,{"$f":"IF(AY181=\"\",\"\", INDEX('otras referencias'!O:P,MATCH(AY181,'otras referencias'!$O:$O,0),2))","v":""},null,null,null,null,null,{"$f":"IF(X181<>\"\",INDEX(referentes!$AH:$AL,MATCH(DATOS_MAP!X181,referentes!$AI:$AI,0),5),\"\")","v":""}]
[null,null,null,"",{"$f":"IF(J182=\"\",\"\",CONCATENATE(AD182,DIGITADOR!$B$2,DIGITADOR!$M$1,J182))","v":""},{"$f":"IF(J182=\"\",\"\",CONCATENATE(DIGITADOR!$B$2,AD182,DIGITADOR!$M$1,J182,ROW()))","v":""},null,null,null,{"$f":"IF(X182=\"\",\"\", INDEX(referentes!$AH:$AL,MATCH(DATOS_MAP!X182,referentes!$AI:$AI,0),1))","v":""},"",{"$f":"IF(AF182=\"\",\"\", INDEX(referentes!D:E,MATCH(DATOS_MAP!AF182,referentes!$E:$E,0),1))","v":""},{"$f":"IF(AI182=\"\",\"\", INDEX(referentes!A:B,MATCH(DATOS_MAP!AI182,referentes!$B:$B,0),1))","v":""},{"$f":"IF(AJ182=\"\",\"\", INDEX(referentes!G:H,MATCH(DATOS_MAP!AJ182,referentes!$H:$H,0),1))","v":""},{"$f":"IF(AK182=\"\",\"\", INDEX(referentes!$V$2:$W$10,MATCH(DATOS_MAP!AK182,referentes!$W$2:$W$10,0),1))","v":""},{"$f":"IF(AL182=\"\",\"\", INDEX(referentes!$AB:$AC,MATCH(DATOS_MAP!AL182,referentes!$AC:$AC,0),1))","v":""},{"$f":"IF(AP182=\"\",\"\", INDEX(referentes!$Y$2:$Z$10,MATCH(DATOS_MAP!AP182,referentes!$Z$2:$Z$10,0),1))","v":""},{"$f":"IF(AN182=\"\",\"\", INDEX(referentes!$AE$2:$AF$10,MATCH(DATOS_MAP!AN182,referentes!$AF$2:$AF$10,0),1))","v":""},{"$f":"IF(AQ182=\"\",\"\", INDEX(referentes!J:K,MATCH(DATOS_MAP!AQ182,referentes!$K:$K,0),1))","v":""},null,{"$f":"IF(AY182=\"\",\"\", INDEX('otras referencias'!O:P,MATCH(AY182,'otras referencias'!$O:$O,0),2))","v":""},null,null,null,null,null,{"$f":"IF(X182<>\"\",INDEX(referentes!$AH:$AL,MATCH(DATOS_MAP!X182,referentes!$AI:$AI,0),5),\"\")","v":""}]
[null,null,null,"",{"$f":"IF(J183=\"\",\"\",CONCATENATE(AD183,DIGITADOR!$B$2,DIGITADOR!$M$1,J183))","v":""},{"$f":"IF(J183=\"\",\"\",CONCATENATE(DIGITADOR!$B$2,AD183,DIGITADOR!$M$1,J183,ROW()))","v":""},null,null,null,{"$f":"IF(X183=\"\",\"\", INDEX(referentes!$AH:$AL,MATCH(DATOS_MAP!X183,referentes!$AI:$AI,0),1))","v":""},"",{"$f":"IF(AF183=\"\",\"\", INDEX(referentes!D:E,MATCH(DATOS_MAP!AF183,referentes!$E:$E,0),1))","v":""},{"$f":"IF(AI183=\"\",\"\", INDEX(referentes!A:B,MATCH(DATOS_MAP!AI183,referentes!$B:$B,0),1))","v":""},{"$f":"IF(AJ183=\"\",\"\", INDEX(referentes!G:H,MATCH(DATOS_MAP!AJ183,referentes!$H:$H,0),1))","v":""},{"$f":"IF(AK183=\"\",\"\", INDEX(referentes!$V$2:$W$10,MATCH(DATOS_MAP!AK183,referentes!$W$2:$W$10,0),1))","v":""},{"$f":"IF(AL183=\"\",\"\", INDEX(referentes!$AB:$AC,MATCH(DATOS_MAP!AL183,referentes!$AC:$AC,0),1))","v":""},{"$f":"IF(AP183=\"\",\"\", INDEX(referentes!$Y$2:$Z$10,MATCH(DATOS_MAP!AP183,referentes!$Z$2:$Z$10,0),1))","v":""},{"$f":"IF(AN183=\"\",\"\", INDEX(referentes!$AE$2:$AF$10,MATCH(DATOS_MAP!AN183,referentes!$AF$2:$AF$10,0),1))","v":""},{"$f":"IF(AQ183=\"\",\"\", INDEX(referentes!J:K,MATCH(DATOS_MAP!AQ183,referentes!$K:$K,0),1))","v":""},null,{"$f":"IF(AY183=\"\",\"\", INDEX('otras referencias'!O:P,MATCH(AY183,'otras referencias'!$O:$O,0),2))","v":""},null,null,null,null,null,{"$f":"IF(X183<>\"\",INDEX(referentes!$AH:$AL,MATCH(DATOS_MAP!X183,referentes!$AI:$AI,0),5),\"\")","v":""}]
[null,null,null,"",{"$f":"IF(J184=\"\",\"\",CONCATENATE(AD184,DIGITADOR!$B$2,DIGITADOR!$M$1,J184))","v":""},{"$f":"IF(J184=\"\",\"\",CONCATENATE(DIGITADOR!$B$2,AD184,DIGITADOR!$M$1,J184,ROW()))","v":""},null,null,null,{"$f":"IF(X184=\"\",\"\", INDEX(referentes!$AH:$AL,MATCH(DATOS_MAP!X184,referentes!$AI:$AI,0),1))","v":""},"",{"$f":"IF(AF184=\"\",\"\", INDEX(referentes!D:E,MATCH(DATOS_MAP!AF184,referentes!$E:$E,0),1))","v":""},{"$f":"IF(AI184=\"\",\"\", INDEX(referentes!A:B,MATCH(DATOS_MAP!AI184,referentes!$B:$B,0),1))","v":""},{"$f":"IF(AJ184=\"\",\"\", INDEX(referentes!G:H,MATCH(DATOS_MAP!AJ184,referentes!$H:$H,0),1))","v":""},{"$f":"IF(AK184=\"\",\"\", INDEX(referentes!$V$2:$W$10,MATCH(DATOS_MAP!AK184,referentes!$W$2:$W$10,0),1))","v":""},{"$f":"IF(AL184=\"\",\"\", INDEX(referentes!$AB:$AC,MATCH(DATOS_MAP!AL184,referentes!$AC:$AC,0),1))","v":""},{"$f":"IF(AP184=\"\",\"\", INDEX(referentes!$Y$2:$Z$10,MATCH(DATOS_MAP!AP184,referentes!$Z$2:$Z$10,0),1))","v":""},{"$f":"IF(AN184=\"\",\"\", INDEX(referentes!$AE$2:$AF$10,MATCH(DATOS_MAP!AN184,referentes!$AF$2:$AF$10,0),1))","v":""},{"$f":"IF(AQ184=\"\",\"\", INDEX(referentes!J:K,MATCH(DATOS_MAP!AQ184,referentes!$K:$K,0),1))","v":""},null,{"$f":"IF(AY184=\"\",\"\", INDEX('otras referencias'!O:P,MATCH(AY184,'otras referencias'!$O:$O,0),2))","v":""},null,null,null,null,null,{"$f":"IF(X184<>\"\",INDEX(referentes!$AH:$AL,MATCH(DATOS_MAP!X184,referentes!$AI:$AI,0),5),\"\")","v":""}]
[null,null,null,"",{"$f":"IF(J185=\"\",\"\",CONCATENATE(AD185,DIGITADOR!$B$2,DIGITADOR!$M$1,J185))","v":""},{"$f":"IF(J185=\"\",\"\",CONCATENATE(DIGITADOR!$B$2,AD185,DIGITADOR!$M$1,J185,ROW()))","v":""},null,null,null,{"$f":"IF(X185=\"\",\"\", INDEX(referentes!$AH:$AL,MATCH(DATOS_MAP!X185,referentes!$AI:$AI,0),1))","v":""},"",{"$f":"IF(AF185=\"\",\"\", INDEX(referentes!D:E,MATCH(DATOS_MAP!AF185,referentes!$E:$E,0),1))","v":""},{"$f":"IF(AI185=\"\",\"\", INDEX(referentes!A:B,MATCH(DATOS_MAP!AI185,referentes!$B:$B,0),1))","v":""},{"$f":"IF(AJ185=\"\",\"\", INDEX(referentes!G:H,MATCH(DATOS_MAP!AJ185,referentes!$H:$H,0),1))","v":""},{"$f":"IF(AK185=\"\",\"\", INDEX(referentes!$V$2:$W$10,MATCH(DATOS_MAP!AK185,referentes!$W$2:$W$10,0),1))","v":""},{"$f":"IF(AL185=\"\",\"\", INDEX(referentes!$AB:$AC,MATCH(DATOS_MAP!AL185,referentes!$AC:$AC,0),1))","v":""},{"$f":"IF(AP185=\"\",\"\", INDEX(referentes!$Y$2:$Z$10,MATCH(DATOS_MAP!AP185,referentes!$Z$2:$Z$10,0),1))","v":""},{"$f":"IF(AN185=\"\",\"\", INDEX(referentes!$AE$2:$AF$10,MATCH(DATOS_MAP!AN185,referentes!$AF$2:$AF$10,0),1))","v":""},{"$f":"IF(AQ185=\"\",\"\", INDEX(referentes!J:K,MATCH(DATOS_MAP!AQ185,referentes!$K:$K,0),1))","v":""},null,{"$f":"IF(AY185=\"\",\"\", INDEX('otras referencias'!O:P,MATCH(AY185,'otras referencias'!$O:$O,0),2))","v":""},null,null,null,null,null,{"$f":"IF(X185<>\"\",INDEX(referentes!$AH:$AL,MATCH(DATOS_MAP!X185,referentes!$AI:$AI,0),5),\"\")","v":""}]
[null,null,null,"",{"$f":"IF(J186=\"\",\"\",CONCATENATE(AD186,DIGITADOR!$B$2,DIGITADOR!$M$1,J186))","v":""},{"$f":"IF(J186=\"\",\"\",CONCATENATE(DIGITADOR!$B$2,AD186,DIGITADOR!$M$1,J186,ROW()))","v":""},null,null,null,{"$f":"IF(X186=\"\",\"\", INDEX(referentes!$AH:$AL,MATCH(DATOS_MAP!X186,referentes!$AI:$AI,0),1))","v":""},"",{"$f":"IF(AF186=\"\",\"\", INDEX(referentes!D:E,MATCH(DATOS_MAP!AF186,referentes!$E:$E,0),1))","v":""},{"$f":"IF(AI186=\"\",\"\", INDEX(referentes!A:B,MATCH(DATOS_MAP!AI186,referentes!$B:$B,0),1))","v":""},{"$f":"IF(AJ186=\"\",\"\", INDEX(referentes!G:H,MATCH(DATOS_MAP!AJ186,referentes!$H:$H,0),1))","v":""},{"$f":"IF(AK186=\"\",\"\", INDEX(referentes!$V$2:$W$10,MATCH(DATOS_MAP!AK186,referentes!$W$2:$W$10,0),1))","v":""},{"$f":"IF(AL186=\"\",\"\", INDEX(referentes!$AB:$AC,MATCH(DATOS_MAP!AL186,referentes!$AC:$AC,0),1))","v":""},{"$f":"IF(AP186=\"\",\"\", INDEX(referentes!$Y$2:$Z$10,MATCH(DATOS_MAP!AP186,referentes!$Z$2:$Z$10,0),1))","v":""},{"$f":"IF(AN186=\"\",\"\", INDEX(referentes!$AE$2:$AF$10,MATCH(DATOS_MAP!AN186,referentes!$AF$2:$AF$10,0),1))","v":""},{"$f":"IF(AQ186=\"\",\"\", INDEX(referentes!J:K,MATCH(DATOS_MAP!AQ186,referentes!$K:$K,0),1))","v":""},null,{"$f":"IF(AY186=\"\",\"\", INDEX('otras referencias'!O:P,MATCH(AY186,'otras referencias'!$O:$O,0),2))","v":""},null,null,null,null,null,{"$f":"IF(X186<>\"\",INDEX(referentes!$AH:$AL,MATCH(DATOS_MAP!X186,referentes!$AI:$AI,0),5),\"\")","v":""}]
[null,null,null,"",{"$f":"IF(J187=\"\",\"\",CONCATENATE(AD187,DIGITADOR!$B$2,DIGITADOR!$M$1,J187))","v":""},{"$f":"IF(J187=\"\",\"\",CONCATENATE(DIGITADOR!$B$2,AD187,DIGITADOR!$M$1,J187,ROW()))","v":""},null,null,null,{"$f":"IF(X187=\"\",\"\", INDEX(referentes!$AH:$AL,MATCH(DATOS_MAP!X187,referentes!$AI:$AI,0),1))","v":""},"",{"$f":"IF(AF187=\"\",\"\", INDEX(referentes!D:E,MATCH(DATOS_MAP!AF187,referentes!$E:$E,0),1))","v":""},{"$f":"IF(AI187=\"\",\"\", INDEX(referentes!A:B,MATCH(DATOS_MAP!AI187,referentes!$B:$B,0),1))","v":""},{"$f":"IF(AJ187=\"\",\"\", INDEX(referentes!G:H,MATCH(DATOS_MAP!AJ187,referentes!$H:$H,0),1))","v":""},{"$f":"IF(AK187=\"\",\"\", INDEX(referentes!$V$2:$W$10,MATCH(DATOS_MAP!AK187,referentes!$W$2:$W$10,0),1))","v":""},{"$f":"IF(AL187=\"\",\"\", INDEX(referentes!$AB:$AC,MATCH(DATOS_MAP!AL187,referentes!$AC:$AC,0),1))","v":""},{"$f":"IF(AP187=\"\",\"\", INDEX(referentes!$Y$2:$Z$10,MATCH(DATOS_MAP!AP187,referentes!$Z$2:$Z$10,0),1))","v":""},{"$f":"IF(AN187=\"\",\"\", INDEX(referentes!$AE$2:$AF$10,MATCH(DATOS_MAP!AN187,referentes!$AF$2:$AF$10,0),1))","v":""},{"$f":"IF(AQ187=\"\",\"\", INDEX(referentes!J:K,MATCH(DATOS_MAP!AQ187,referentes!$K:$K,0),1))","v":""},null,{"$f":"IF(AY187=\"\",\"\", INDEX('otras referencias'!O:P,MATCH(AY187,'otras referencias'!$O:$O,0),2))","v":""},null,null,null,null,null,{"$f":"IF(X187<>\"\",INDEX(referentes!$AH:$AL,MATCH(DATOS_MAP!X187,referentes!$AI:$AI,0),5),\"\")","v":""}]
[null,null,null,"",{"$f":"IF(J188=\"\",\"\",CONCATENATE(AD188,DIGITADOR!$B$2,DIGITADOR!$M$1,J188))","v":""},{"$f":"IF(J188=\"\",\"\",CONCATENATE(DIGITADOR!$B$2,AD188,DIGITADOR!$M$1,J188,ROW()))","v":""},null,null,null,{"$f":"IF(X188=\"\",\"\", INDEX(referentes!$AH:$AL,MATCH(DATOS_MAP!X188,referentes!$AI:$AI,0),1))","v":""},"",{"$f":"IF(AF188=\"\",\"\", INDEX(referentes!D:E,MATCH(DATOS_MAP!AF188,referentes!$E:$E,0),1))","v":""},{"$f":"IF(AI188=\"\",\"\", INDEX(referentes!A:B,MATCH(DATOS_MAP!AI188,referentes!$B:$B,0),1))","v":""},{"$f":"IF(AJ188=\"\",\"\", INDEX(referentes!G:H,MATCH(DATOS_MAP!AJ188,referentes!$H:$H,0),1))","v":""},{"$f":"IF(AK188=\"\",\"\", INDEX(referentes!$V$2:$W$10,MATCH(DATOS_MAP!AK188,referentes!$W$2:$W$10,0),1))","v":""},{"$f":"IF(AL188=\"\",\"\", INDEX(referentes!$AB:$AC,MATCH(DATOS_MAP!AL188,referentes!$AC:$AC,0),1))","v":""},{"$f":"IF(AP188=\"\",\"\", INDEX(referentes!$Y$2:$Z$10,MATCH(DATOS_MAP!AP188,referentes!$Z$2:$Z$10,0),1))","v":""},{"$f":"IF(AN188=\"\",\"\", INDEX(referentes!$AE$2:$AF$10,MATCH(DATOS_MAP!AN188,referentes!$AF$2:$AF$10,0),1))","v":""},{"$f":"IF(AQ188=\"\",\"\", INDEX(referentes!J:K,MATCH(DATOS_MAP!AQ188,referentes!$K:$K,0),1))","v":""},null,{"$f":"IF(AY188=\"\",\"\", INDEX('otras referencias'!O:P,MATCH(AY188,'otras referencias'!$O:$O,0),2))","v":""},null,null,null,null,null,{"$f":"IF(X188<>\"\",INDEX(referentes!$AH:$AL,MATCH(DATOS_MAP!X188,referentes!$AI:$AI,0),5),\"\")","v":""}]
[null,null,null,"",{"$f":"IF(J189=\"\",\"\",CONCATENATE(AD189,DIGITADOR!$B$2,DIGITADOR!$M$1,J189))","v":""},{"$f":"IF(J189=\"\",\"\",CONCATENATE(DIGITADOR!$B$2,AD189,DIGITADOR!$M$1,J189,ROW()))","v":""},null,null,null,{"$f":"IF(X189=\"\",\"\", INDEX(referentes!$AH:$AL,MATCH(DATOS_MAP!X189,referentes!$AI:$AI,0),1))","v":""},"",{"$f":"IF(AF189=\"\",\"\", INDEX(referentes!D:E,MATCH(DATOS_MAP!AF189,referentes!$E:$E,0),1))","v":""},{"$f":"IF(AI189=\"\",\"\", INDEX(referentes!A:B,MATCH(DATOS_MAP!AI189,referentes!$B:$B,0),1))","v":""},{"$f":"IF(AJ189=\"\",\"\", INDEX(referentes!G:H,MATCH(DATOS_MAP!AJ189,referentes!$H:$H,0),1))","v":""},{"$f":"IF(AK189=\"\",\"\", INDEX(referentes!$V$2:$W$10,MATCH(DATOS_MAP!AK189,referentes!$W$2:$W$10,0),1))","v":""},{"$f":"IF(AL189=\"\",\"\", INDEX(referentes!$AB:$AC,MATCH(DATOS_MAP!AL189,referentes!$AC:$AC,0),1))","v":""},{"$f":"IF(AP189=\"\",\"\", INDEX(referentes!$Y$2:$Z$10,MATCH(DATOS_MAP!AP189,referentes!$Z$2:$Z$10,0),1))","v":""},{"$f":"IF(AN189=\"\",\"\", INDEX(referentes!$AE$2:$AF$10,MATCH(DATOS_MAP!AN189,referentes!$AF$2:$AF$10,0),1))","v":""},{"$f":"IF(AQ189=\"\",\"\", INDEX(referentes!J:K,MATCH(DATOS_MAP!AQ189,referentes!$K:$K,0),1))","v":""},null,{"$f":"IF(AY189=\"\",\"\", INDEX('otras referencias'!O:P,MATCH(AY189,'otras referencias'!$O:$O,0),2))","v":""},null,null,null,null,null,{"$f":"IF(X189<>\"\",INDEX(referentes!$AH:$AL,MATCH(DATOS_MAP!X189,referentes!$AI:$AI,0),5),\"\")","v":""}]
[null,null,null,"",{"$f":"IF(J190=\"\",\"\",CONCATENATE(AD190,DIGITADOR!$B$2,DIGITADOR!$M$1,J190))","v":""},{"$f":"IF(J190=\"\",\"\",CONCATENATE(DIGITADOR!$B$2,AD190,DIGITADOR!$M$1,J190,ROW()))","v":""},null,null,null,{"$f":"IF(X190=\"\",\"\", INDEX(referentes!$AH:$AL,MATCH(DATOS_MAP!X190,referentes!$AI:$AI,0),1))","v":""},"",{"$f":"IF(AF190=\"\",\"\", INDEX(referentes!D:E,MATCH(DATOS_MAP!AF190,referentes!$E:$E,0),1))","v":""},{"$f":"IF(AI190=\"\",\"\", INDEX(referentes!A:B,MATCH(DATOS_MAP!AI190,referentes!$B:$B,0),1))","v":""},{"$f":"IF(AJ190=\"\",\"\", INDEX(referentes!G:H,MATCH(DATOS_MAP!AJ190,referentes!$H:$H,0),1))","v":""},{"$f":"IF(AK190=\"\",\"\", INDEX(referentes!$V$2:$W$10,MATCH(DATOS_MAP!AK190,referentes!$W$2:$W$10,0),1))","v":""},{"$f":"IF(AL190=\"\",\"\", INDEX(referentes!$AB:$AC,MATCH(DATOS_MAP!AL190,referentes!$AC:$AC,0),1))","v":""},{"$f":"IF(AP190=\"\",\"\", INDEX(referentes!$Y$2:$Z$10,MATCH(DATOS_MAP!AP190,referentes!$Z$2:$Z$10,0),1))","v":""},{"$f":"IF(AN190=\"\",\"\", INDEX(referentes!$AE$2:$AF$10,MATCH(DATOS_MAP!AN190,referentes!$AF$2:$AF$10,0),1))","v":""},{"$f":"IF(AQ190=\"\",\"\", INDEX(referentes!J:K,MATCH(DATOS_MAP!AQ190,referentes!$K:$K,0),1))","v":""},null,{"$f":"IF(AY190=\"\",\"\", INDEX('otras referencias'!O:P,MATCH(AY190,'otras referencias'!$O:$O,0),2))","v":""},null,null,null,null,null,{"$f":"IF(X190<>\"\",INDEX(referentes!$AH:$AL,MATCH(DATOS_MAP!X190,referentes!$AI:$AI,0),5),\"\")","v":""}]
[null,null,null,"",{"$f":"IF(J191=\"\",\"\",CONCATENATE(AD191,DIGITADOR!$B$2,DIGITADOR!$M$1,J191))","v":""},{"$f":"IF(J191=\"\",\"\",CONCATENATE(DIGITADOR!$B$2,AD191,DIGITADOR!$M$1,J191,ROW()))","v":""},null,null,null,{"$f":"IF(X191=\"\",\"\", INDEX(referentes!$AH:$AL,MATCH(DATOS_MAP!X191,referentes!$AI:$AI,0),1))","v":""},"",{"$f":"IF(AF191=\"\",\"\", INDEX(referentes!D:E,MATCH(DATOS_MAP!AF191,referentes!$E:$E,0),1))","v":""},{"$f":"IF(AI191=\"\",\"\", INDEX(referentes!A:B,MATCH(DATOS_MAP!AI191,referentes!$B:$B,0),1))","v":""},{"$f":"IF(AJ191=\"\",\"\", INDEX(referentes!G:H,MATCH(DATOS_MAP!AJ191,referentes!$H:$H,0),1))","v":""},{"$f":"IF(AK191=\"\",\"\", INDEX(referentes!$V$2:$W$10,MATCH(DATOS_MAP!AK191,referentes!$W$2:$W$10,0),1))","v":""},{"$f":"IF(AL191=\"\",\"\", INDEX(referentes!$AB:$AC,MATCH(DATOS_MAP!AL191,referentes!$AC:$AC,0),1))","v":""},{"$f":"IF(AP191=\"\",\"\", INDEX(referentes!$Y$2:$Z$10,MATCH(DATOS_MAP!AP191,referentes!$Z$2:$Z$10,0),1))","v":""},{"$f":"IF(AN191=\"\",\"\", INDEX(referentes!$AE$2:$AF$10,MATCH(DATOS_MAP!AN191,referentes!$AF$2:$AF$10,0),1))","v":""},{"$f":"IF(AQ191=\"\",\"\", INDEX(referentes!J:K,MATCH(DATOS_MAP!AQ191,referentes!$K:$K,0),1))","v":""},null,{"$f":"IF(AY191=\"\",\"\", INDEX('otras referencias'!O:P,MATCH(AY191,'otras referencias'!$O:$O,0),2))","v":""},null,null,null,null,null,{"$f":"IF(X191<>\"\",INDEX(referentes!$AH:$AL,MATCH(DATOS_MAP!X191,referentes!$AI:$AI,0),5),\"\")","v":""}]
[null,null,null,"",{"$f":"IF(J192=\"\",\"\",CONCATENATE(AD192,DIGITADOR!$B$2,DIGITADOR!$M$1,J192))","v":""},{"$f":"IF(J192=\"\",\"\",CONCATENATE(DIGITADOR!$B$2,AD192,DIGITADOR!$M$1,J192,ROW()))","v":""},null,null,null,{"$f":"IF(X192=\"\",\"\", INDEX(referentes!$AH:$AL,MATCH(DATOS_MAP!X192,referentes!$AI:$AI,0),1))","v":""},"",{"$f":"IF(AF192=\"\",\"\", INDEX(referentes!D:E,MATCH(DATOS_MAP!AF192,referentes!$E:$E,0),1))","v":""},{"$f":"IF(AI192=\"\",\"\", INDEX(referentes!A:B,MATCH(DATOS_MAP!AI192,referentes!$B:$B,0),1))","v":""},{"$f":"IF(AJ192=\"\",\"\", INDEX(referentes!G:H,MATCH(DATOS_MAP!AJ192,referentes!$H:$H,0),1))","v":""},{"$f":"IF(AK192=\"\",\"\", INDEX(referentes!$V$2:$W$10,MATCH(DATOS_MAP!AK192,referentes!$W$2:$W$10,0),1))","v":""},{"$f":"IF(AL192=\"\",\"\", INDEX(referentes!$AB:$AC,MATCH(DATOS_MAP!AL192,referentes!$AC:$AC,0),1))","v":""},{"$f":"IF(AP192=\"\",\"\", INDEX(referentes!$Y$2:$Z$10,MATCH(DATOS_MAP!AP192,referentes!$Z$2:$Z$10,0),1))","v":""},{"$f":"IF(AN192=\"\",\"\", INDEX(referentes!$AE$2:$AF$10,MATCH(DATOS_MAP!AN192,referentes!$AF$2:$AF$10,0),1))","v":""},{"$f":"IF(AQ192=\"\",\"\", INDEX(referentes!J:K,MATCH(DATOS_MAP!AQ192,referentes!$K:$K,0),1))","v":""},null,{"$f":"IF(AY192=\"\",\"\", INDEX('otras referencias'!O:P,MATCH(AY192,'otras referencias'!$O:$O,0),2))","v":""},null,null,null,null,null,{"$f":"IF(X192<>\"\",INDEX(referentes!$AH:$AL,MATCH(DATOS_MAP!X192,referentes!$AI:$AI,0),5),\"\")","v":""}]
[null,null,null,"",{"$f":"IF(J193=\"\",\"\",CONCATENATE(AD193,DIGITADOR!$B$2,DIGITADOR!$M$1,J193))","v":""},{"$f":"IF(J193=\"\",\"\",CONCATENATE(DIGITADOR!$B$2,AD193,DIGITADOR!$M$1,J193,ROW()))","v":""},null,null,null,{"$f":"IF(X193=\"\",\"\", INDEX(referentes!$AH:$AL,MATCH(DATOS_MAP!X193,referentes!$AI:$AI,0),1))","v":""},"",{"$f":"IF(AF193=\"\",\"\", INDEX(referentes!D:E,MATCH(DATOS_MAP!AF193,referentes!$E:$E,0),1))","v":""},{"$f":"IF(AI193=\"\",\"\", INDEX(referentes!A:B,MATCH(DATOS_MAP!AI193,referentes!$B:$B,0),1))","v":""},{"$f":"IF(AJ193=\"\",\"\", INDEX(referentes!G:H,MATCH(DATOS_MAP!AJ193,referentes!$H:$H,0),1))","v":""},{"$f":"IF(AK193=\"\",\"\", INDEX(referentes!$V$2:$W$10,MATCH(DATOS_MAP!AK193,referentes!$W$2:$W$10,0),1))","v":""},{"$f":"IF(AL193=\"\",\"\", INDEX(referentes!$AB:$AC,MATCH(DATOS_MAP!AL193,referentes!$AC:$AC,0),1))","v":""},{"$f":"IF(AP193=\"\",\"\", INDEX(referentes!$Y$2:$Z$10,MATCH(DATOS_MAP!AP193,referentes!$Z$2:$Z$10,0),1))","v":""},{"$f":"IF(AN193=\"\",\"\", INDEX(referentes!$AE$2:$AF$10,MATCH(DATOS_MAP!AN193,referentes!$AF$2:$AF$10,0),1))","v":""},{"$f":"IF(AQ193=\"\",\"\", INDEX(referentes!J:K,MATCH(DATOS_MAP!AQ193,referentes!$K:$K,0),1))","v":""},null,{"$f":"IF(AY193=\"\",\"\", INDEX('otras referencias'!O:P,MATCH(AY193,'otras referencias'!$O:$O,0),2))","v":""},null,null,null,null,null,{"$f":"IF(X193<>\"\",INDEX(referentes!$AH:$AL,MATCH(DATOS_MAP!X193,referentes!$AI:$AI,0),5),\"\")","v":""}]
[null,null,null,"",{"$f":"IF(J194=\"\",\"\",CONCATENATE(AD194,DIGITADOR!$B$2,DIGITADOR!$M$1,J194))","v":""},{"$f":"IF(J194=\"\",\"\",CONCATENATE(DIGITADOR!$B$2,AD194,DIGITADOR!$M$1,J194,ROW()))","v":""},null,null,null,{"$f":"IF(X194=\"\",\"\", INDEX(referentes!$AH:$AL,MATCH(DATOS_MAP!X194,referentes!$AI:$AI,0),1))","v":""},"",{"$f":"IF(AF194=\"\",\"\", INDEX(referentes!D:E,MATCH(DATOS_MAP!AF194,referentes!$E:$E,0),1))","v":""},{"$f":"IF(AI194=\"\",\"\", INDEX(referentes!A:B,MATCH(DATOS_MAP!AI194,referentes!$B:$B,0),1))","v":""},{"$f":"IF(AJ194=\"\",\"\", INDEX(referentes!G:H,MATCH(DATOS_MAP!AJ194,referentes!$H:$H,0),1))","v":""},{"$f":"IF(AK194=\"\",\"\", INDEX(referentes!$V$2:$W$10,MATCH(DATOS_MAP!AK194,referentes!$W$2:$W$10,0),1))","v":""},{"$f":"IF(AL194=\"\",\"\", INDEX(referentes!$AB:$AC,MATCH(DATOS_MAP!AL194,referentes!$AC:$AC,0),1))","v":""},{"$f":"IF(AP194=\"\",\"\", INDEX(referentes!$Y$2:$Z$10,MATCH(DATOS_MAP!AP194,referentes!$Z$2:$Z$10,0),1))","v":""},{"$f":"IF(AN194=\"\",\"\", INDEX(referentes!$AE$2:$AF$10,MATCH(DATOS_MAP!AN194,referentes!$AF$2:$AF$10,0),1))","v":""},{"$f":"IF(AQ194=\"\",\"\", INDEX(referentes!J:K,MATCH(DATOS_MAP!AQ194,referentes!$K:$K,0),1))","v":""},null,{"$f":"IF(AY194=\"\",\"\", INDEX('otras referencias'!O:P,MATCH(AY194,'otras referencias'!$O:$O,0),2))","v":""},null,null,null,null,null,{"$f":"IF(X194<>\"\",INDEX(referentes!$AH:$AL,MATCH(DATOS_MAP!X194,referentes!$AI:$AI,0),5),\"\")","v":""}]
[null,null,null,"",{"$f":"IF(J195=\"\",\"\",CONCATENATE(AD195,DIGITADOR!$B$2,DIGITADOR!$M$1,J195))","v":""},{"$f":"IF(J195=\"\",\"\",CONCATENATE(DIGITADOR!$B$2,AD195,DIGITADOR!$M$1,J195,ROW()))","v":""},null,null,null,{"$f":"IF(X195=\"\",\"\", INDEX(referentes!$AH:$AL,MATCH(DATOS_MAP!X195,referentes!$AI:$AI,0),1))","v":""},"",{"$f":"IF(AF195=\"\",\"\", INDEX(referentes!D:E,MATCH(DATOS_MAP!AF195,referentes!$E:$E,0),1))","v":""},{"$f":"IF(AI195=\"\",\"\", INDEX(referentes!A:B,MATCH(DATOS_MAP!AI195,referentes!$B:$B,0),1))","v":""},{"$f":"IF(AJ195=\"\",\"\", INDEX(referentes!G:H,MATCH(DATOS_MAP!AJ195,referentes!$H:$H,0),1))","v":""},{"$f":"IF(AK195=\"\",\"\", INDEX(referentes!$V$2:$W$10,MATCH(DATOS_MAP!AK195,referentes!$W$2:$W$10,0),1))","v":""},{"$f":"IF(AL195=\"\",\"\", INDEX(referentes!$AB:$AC,MATCH(DATOS_MAP!AL195,referentes!$AC:$AC,0),1))","v":""},{"$f":"IF(AP195=\"\",\"\", INDEX(referentes!$Y$2:$Z$10,MATCH(DATOS_MAP!AP195,referentes!$Z$2:$Z$10,0),1))","v":""},{"$f":"IF(AN195=\"\",\"\", INDEX(referentes!$AE$2:$AF$10,MATCH(DATOS_MAP!AN195,referentes!$AF$2:$AF$10,0),1))","v":""},{"$f":"IF(AQ195=\"\",\"\", INDEX(referentes!J:K,MATCH(DATOS_MAP!AQ195,referentes!$K:$K,0),1))","v":""},null,{"$f":"IF(AY195=\"\",\"\", INDEX('otras referencias'!O:P,MATCH(AY195,'otras referencias'!$O:$O,0),2))","v":""},null,null,null,null,null,{"$f":"IF(X195<>\"\",INDEX(referentes!$AH:$AL,MATCH(DATOS_MAP!X195,referentes!$AI:$AI,0),5),\"\")","v":""}]
[null,null,null,"",{"$f":"IF(J196=\"\",\"\",CONCATENATE(AD196,DIGITADOR!$B$2,DIGITADOR!$M$1,J196))","v":""},{"$f":"IF(J196=\"\",\"\",CONCATENATE(DIGITADOR!$B$2,AD196,DIGITADOR!$M$1,J196,ROW()))","v":""},null,null,null,{"$f":"IF(X196=\"\",\"\", INDEX(referentes!$AH:$AL,MATCH(DATOS_MAP!X196,referentes!$AI:$AI,0),1))","v":""},"",{"$f":"IF(AF196=\"\",\"\", INDEX(referentes!D:E,MATCH(DATOS_MAP!AF196,referentes!$E:$E,0),1))","v":""},{"$f":"IF(AI196=\"\",\"\", INDEX(referentes!A:B,MATCH(DATOS_MAP!AI196,referentes!$B:$B,0),1))","v":""},{"$f":"IF(AJ196=\"\",\"\", INDEX(referentes!G:H,MATCH(DATOS_MAP!AJ196,referentes!$H:$H,0),1))","v":""},{"$f":"IF(AK196=\"\",\"\", INDEX(referentes!$V$2:$W$10,MATCH(DATOS_MAP!AK196,referentes!$W$2:$W$10,0),1))","v":""},{"$f":"IF(AL196=\"\",\"\", INDEX(referentes!$AB:$AC,MATCH(DATOS_MAP!AL196,referentes!$AC:$AC,0),1))","v":""},{"$f":"IF(AP196=\"\",\"\", INDEX(referentes!$Y$2:$Z$10,MATCH(DATOS_MAP!AP196,referentes!$Z$2:$Z$10,0),1))","v":""},{"$f":"IF(AN196=\"\",\"\", INDEX(referentes!$AE$2:$AF$10,MATCH(DATOS_MAP!AN196,referentes!$AF$2:$AF$10,0),1))","v":""},{"$f":"IF(AQ196=\"\",\"\", INDEX(referentes!J:K,MATCH(DATOS_MAP!AQ196,referentes!$K:$K,0),1))","v":""},null,{"$f":"IF(AY196=\"\",\"\", INDEX('otras referencias'!O:P,MATCH(AY196,'otras referencias'!$O:$O,0),2))","v":""},null,null,null,null,null,{"$f":"IF(X196<>\"\",INDEX(referentes!$AH:$AL,MATCH(DATOS_MAP!X196,referentes!$AI:$AI,0),5),\"\")","v":""}]
[null,null,null,"",{"$f":"IF(J197=\"\",\"\",CONCATENATE(AD197,DIGITADOR!$B$2,DIGITADOR!$M$1,J197))","v":""},{"$f":"IF(J197=\"\",\"\",CONCATENATE(DIGITADOR!$B$2,AD197,DIGITADOR!$M$1,J197,ROW()))","v":""},null,null,null,{"$f":"IF(X197=\"\",\"\", INDEX(referentes!$AH:$AL,MATCH(DATOS_MAP!X197,referentes!$AI:$AI,0),1))","v":""},"",{"$f":"IF(AF197=\"\",\"\", INDEX(referentes!D:E,MATCH(DATOS_MAP!AF197,referentes!$E:$E,0),1))","v":""},{"$f":"IF(AI197=\"\",\"\", INDEX(referentes!A:B,MATCH(DATOS_MAP!AI197,referentes!$B:$B,0),1))","v":""},{"$f":"IF(AJ197=\"\",\"\", INDEX(referentes!G:H,MATCH(DATOS_MAP!AJ197,referentes!$H:$H,0),1))","v":""},{"$f":"IF(AK197=\"\",\"\", INDEX(referentes!$V$2:$W$10,MATCH(DATOS_MAP!AK197,referentes!$W$2:$W$10,0),1))","v":""},{"$f":"IF(AL197=\"\",\"\", INDEX(referentes!$AB:$AC,MATCH(DATOS_MAP!AL197,referentes!$AC:$AC,0),1))","v":""},{"$f":"IF(AP197=\"\",\"\", INDEX(referentes!$Y$2:$Z$10,MATCH(DATOS_MAP!AP197,referentes!$Z$2:$Z$10,0),1))","v":""},{"$f":"IF(AN197=\"\",\"\", INDEX(referentes!$AE$2:$AF$10,MATCH(DATOS_MAP!AN197,referentes!$AF$2:$AF$10,0),1))","v":""},{"$f":"IF(AQ197=\"\",\"\", INDEX(referentes!J:K,MATCH(DATOS_MAP!AQ197,referentes!$K:$K,0),1))","v":""},null,{"$f":"IF(AY197=\"\",\"\", INDEX('otras referencias'!O:P,MATCH(AY197,'otras referencias'!$O:$O,0),2))","v":""},null,null,null,null,null,{"$f":"IF(X197<>\"\",INDEX(referentes!$AH:$AL,MATCH(DATOS_MAP!X197,referentes!$AI:$AI,0),5),\"\")","v":""}]
[null,null,null,"",{"$f":"IF(J198=\"\",\"\",CONCATENATE(AD198,DIGITADOR!$B$2,DIGITADOR!$M$1,J198))","v":""},{"$f":"IF(J198=\"\",\"\",CONCATENATE(DIGITADOR!$B$2,AD198,DIGITADOR!$M$1,J198,ROW()))","v":""},null,null,null,{"$f":"IF(X198=\"\",\"\", INDEX(referentes!$AH:$AL,MATCH(DATOS_MAP!X198,referentes!$AI:$AI,0),1))","v":""},"",{"$f":"IF(AF198=\"\",\"\", INDEX(referentes!D:E,MATCH(DATOS_MAP!AF198,referentes!$E:$E,0),1))","v":""},{"$f":"IF(AI198=\"\",\"\", INDEX(referentes!A:B,MATCH(DATOS_MAP!AI198,referentes!$B:$B,0),1))","v":""},{"$f":"IF(AJ198=\"\",\"\", INDEX(referentes!G:H,MATCH(DATOS_MAP!AJ198,referentes!$H:$H,0),1))","v":""},{"$f":"IF(AK198=\"\",\"\", INDEX(referentes!$V$2:$W$10,MATCH(DATOS_MAP!AK198,referentes!$W$2:$W$10,0),1))","v":""},{"$f":"IF(AL198=\"\",\"\", INDEX(referentes!$AB:$AC,MATCH(DATOS_MAP!AL198,referentes!$AC:$AC,0),1))","v":""},{"$f":"IF(AP198=\"\",\"\", INDEX(referentes!$Y$2:$Z$10,MATCH(DATOS_MAP!AP198,referentes!$Z$2:$Z$10,0),1))","v":""},{"$f":"IF(AN198=\"\",\"\", INDEX(referentes!$AE$2:$AF$10,MATCH(DATOS_MAP!AN198,referentes!$AF$2:$AF$10,0),1))","v":""},{"$f":"IF(AQ198=\"\",\"\", INDEX(referentes!J:K,MATCH(DATOS_MAP!AQ198,referentes!$K:$K,0),1))","v":""},null,{"$f":"IF(AY198=\"\",\"\", INDEX('otras referencias'!O:P,MATCH(AY198,'otras referencias'!$O:$O,0),2))","v":""},null,null,null,null,null,{"$f":"IF(X198<>\"\",INDEX(referentes!$AH:$AL,MATCH(DATOS_MAP!X198,referentes!$AI:$AI,0),5),\"\")","v":""}]
[null,null,null,"",{"$f":"IF(J199=\"\",\"\",CONCATENATE(AD199,DIGITADOR!$B$2,DIGITADOR!$M$1,J199))","v":""},{"$f":"IF(J199=\"\",\"\",CONCATENATE(DIGITADOR!$B$2,AD199,DIGITADOR!$M$1,J199,ROW()))","v":""},null,null,null,{"$f":"IF(X199=\"\",\"\", INDEX(referentes!$AH:$AL,MATCH(DATOS_MAP!X199,referentes!$AI:$AI,0),1))","v":""},"",{"$f":"IF(AF199=\"\",\"\", INDEX(referentes!D:E,MATCH(DATOS_MAP!AF199,referentes!$E:$E,0),1))","v":""},{"$f":"IF(AI199=\"\",\"\", INDEX(referentes!A:B,MATCH(DATOS_MAP!AI199,referentes!$B:$B,0),1))","v":""},{"$f":"IF(AJ199=\"\",\"\", INDEX(referentes!G:H,MATCH(DATOS_MAP!AJ199,referentes!$H:$H,0),1))","v":""},{"$f":"IF(AK199=\"\",\"\", INDEX(referentes!$V$2:$W$10,MATCH(DATOS_MAP!AK199,referentes!$W$2:$W$10,0),1))","v":""},{"$f":"IF(AL199=\"\",\"\", INDEX(referentes!$AB:$AC,MATCH(DATOS_MAP!AL199,referentes!$AC:$AC,0),1))","v":""},{"$f":"IF(AP199=\"\",\"\", INDEX(referentes!$Y$2:$Z$10,MATCH(DATOS_MAP!AP199,referentes!$Z$2:$Z$10,0),1))","v":""},{"$f":"IF(AN199=\"\",\"\", INDEX(referentes!$AE$2:$AF$10,MATCH(DATOS_MAP!AN199,referentes!$AF$2:$AF$10,0),1))","v":""},{"$f":"IF(AQ199=\"\",\"\", INDEX(referentes!J:K,MATCH(DATOS_MAP!AQ199,referentes!$K:$K,0),1))","v":""},null,{"$f":"IF(AY199=\"\",\"\", INDEX('otras referencias'!O:P,MATCH(AY199,'otras referencias'!$O:$O,0),2))","v":""},null,null,null,null,null,{"$f":"IF(X199<>\"\",INDEX(referentes!$AH:$AL,MATCH(DATOS_MAP!X199,referentes!$AI:$AI,0),5),\"\")","v":""}]
[null,null,null,"",{"$f":"IF(J200=\"\",\"\",CONCATENATE(AD200,DIGITADOR!$B$2,DIGITADOR!$M$1,J200))","v":""},{"$f":"IF(J200=\"\",\"\",CONCATENATE(DIGITADOR!$B$2,AD200,DIGITADOR!$M$1,J200,ROW()))","v":""},null,null,null,{"$f":"IF(X200=\"\",\"\", INDEX(referentes!$AH:$AL,MATCH(DATOS_MAP!X200,referentes!$AI:$AI,0),1))","v":""},"",{"$f":"IF(AF200=\"\",\"\", INDEX(referentes!D:E,MATCH(DATOS_MAP!AF200,referentes!$E:$E,0),1))","v":""},{"$f":"IF(AI200=\"\",\"\", INDEX(referentes!A:B,MATCH(DATOS_MAP!AI200,referentes!$B:$B,0),1))","v":""},{"$f":"IF(AJ200=\"\",\"\", INDEX(referentes!G:H,MATCH(DATOS_MAP!AJ200,referentes!$H:$H,0),1))","v":""},{"$f":"IF(AK200=\"\",\"\", INDEX(referentes!$V$2:$W$10,MATCH(DATOS_MAP!AK200,referentes!$W$2:$W$10,0),1))","v":""},{"$f":"IF(AL200=\"\",\"\", INDEX(referentes!$AB:$AC,MATCH(DATOS_MAP!AL200,referentes!$AC:$AC,0),1))","v":""},{"$f":"IF(AP200=\"\",\"\", INDEX(referentes!$Y$2:$Z$10,MATCH(DATOS_MAP!AP200,referentes!$Z$2:$Z$10,0),1))","v":""},{"$f":"IF(AN200=\"\",\"\", INDEX(referentes!$AE$2:$AF$10,MATCH(DATOS_MAP!AN200,referentes!$AF$2:$AF$10,0),1))","v":""},{"$f":"IF(AQ200=\"\",\"\", INDEX(referentes!J:K,MATCH(DATOS_MAP!AQ200,referentes!$K:$K,0),1))","v":""},null,{"$f":"IF(AY200=\"\",\"\", INDEX('otras referencias'!O:P,MATCH(AY200,'otras referencias'!$O:$O,0),2))","v":""},null,null,null,null,null,{"$f":"IF(X200<>\"\",INDEX(referentes!$AH:$AL,MATCH(DATOS_MAP!X200,referentes!$AI:$AI,0),5),\"\")","v":""}]
[null,null,null,"",{"$f":"IF(J201=\"\",\"\",CONCATENATE(AD201,DIGITADOR!$B$2,DIGITADOR!$M$1,J201))","v":""},{"$f":"IF(J201=\"\",\"\",CONCATENATE(DIGITADOR!$B$2,AD201,DIGITADOR!$M$1,J201,ROW()))","v":""},null,null,null,{"$f":"IF(X201=\"\",\"\", INDEX(referentes!$AH:$AL,MATCH(DATOS_MAP!X201,referentes!$AI:$AI,0),1))","v":""},"",{"$f":"IF(AF201=\"\",\"\", INDEX(referentes!D:E,MATCH(DATOS_MAP!AF201,referentes!$E:$E,0),1))","v":""},{"$f":"IF(AI201=\"\",\"\", INDEX(referentes!A:B,MATCH(DATOS_MAP!AI201,referentes!$B:$B,0),1))","v":""},{"$f":"IF(AJ201=\"\",\"\", INDEX(referentes!G:H,MATCH(DATOS_MAP!AJ201,referentes!$H:$H,0),1))","v":""},{"$f":"IF(AK201=\"\",\"\", INDEX(referentes!$V$2:$W$10,MATCH(DATOS_MAP!AK201,referentes!$W$2:$W$10,0),1))","v":""},{"$f":"IF(AL201=\"\",\"\", INDEX(referentes!$AB:$AC,MATCH(DATOS_MAP!AL201,referentes!$AC:$AC,0),1))","v":""},{"$f":"IF(AP201=\"\",\"\", INDEX(referentes!$Y$2:$Z$10,MATCH(DATOS_MAP!AP201,referentes!$Z$2:$Z$10,0),1))","v":""},{"$f":"IF(AN201=\"\",\"\", INDEX(referentes!$AE$2:$AF$10,MATCH(DATOS_MAP!AN201,referentes!$AF$2:$AF$10,0),1))","v":""},{"$f":"IF(AQ201=\"\",\"\", INDEX(referentes!J:K,MATCH(DATOS_MAP!AQ201,referentes!$K:$K,0),1))","v":""},null,{"$f":"IF(AY201=\"\",\"\", INDEX('otras referencias'!O:P,MATCH(AY201,'otras referencias'!$O:$O,0),2))","v":""},null,null,null,null,null,{"$f":"IF(X201<>\"\",INDEX(referentes!$AH:$AL,MATCH(DATOS_MAP!X201,referentes!$AI:$AI,0),5),\"\")","v":""}]
[null,null,null,"",{"$f":"IF(J202=\"\",\"\",CONCATENATE(AD202,DIGITADOR!$B$2,DIGITADOR!$M$1,J202))","v":""},{"$f":"IF(J202=\"\",\"\",CONCATENATE(DIGITADOR!$B$2,AD202,DIGITADOR!$M$1,J202,ROW()))","v":""},null,null,null,{"$f":"IF(X202=\"\",\"\", INDEX(referentes!$AH:$AL,MATCH(DATOS_MAP!X202,referentes!$AI:$AI,0),1))","v":""},"",{"$f":"IF(AF202=\"\",\"\", INDEX(referentes!D:E,MATCH(DATOS_MAP!AF202,referentes!$E:$E,0),1))","v":""},{"$f":"IF(AI202=\"\",\"\", INDEX(referentes!A:B,MATCH(DATOS_MAP!AI202,referentes!$B:$B,0),1))","v":""},{"$f":"IF(AJ202=\"\",\"\", INDEX(referentes!G:H,MATCH(DATOS_MAP!AJ202,referentes!$H:$H,0),1))","v":""},{"$f":"IF(AK202=\"\",\"\", INDEX(referentes!$V$2:$W$10,MATCH(DATOS_MAP!AK202,referentes!$W$2:$W$10,0),1))","v":""},{"$f":"IF(AL202=\"\",\"\", INDEX(referentes!$AB:$AC,MATCH(DATOS_MAP!AL202,referentes!$AC:$AC,0),1))","v":""},{"$f":"IF(AP202=\"\",\"\", INDEX(referentes!$Y$2:$Z$10,MATCH(DATOS_MAP!AP202,referentes!$Z$2:$Z$10,0),1))","v":""},{"$f":"IF(AN202=\"\",\"\", INDEX(referentes!$AE$2:$AF$10,MATCH(DATOS_MAP!AN202,referentes!$AF$2:$AF$10,0),1))","v":""},{"$f":"IF(AQ202=\"\",\"\", INDEX(referentes!J:K,MATCH(DATOS_MAP!AQ202,referentes!$K:$K,0),1))","v":""},null,{"$f":"IF(AY202=\"\",\"\", INDEX('otras referencias'!O:P,MATCH(AY202,'otras referencias'!$O:$O,0),2))","v":""},null,null,null,null,null,{"$f":"IF(X202<>\"\",INDEX(referentes!$AH:$AL,MATCH(DATOS_MAP!X202,referentes!$AI:$AI,0),5),\"\")","v":""}]
[null,null,null,"",{"$f":"IF(J203=\"\",\"\",CONCATENATE(AD203,DIGITADOR!$B$2,DIGITADOR!$M$1,J203))","v":""},{"$f":"IF(J203=\"\",\"\",CONCATENATE(DIGITADOR!$B$2,AD203,DIGITADOR!$M$1,J203,ROW()))","v":""},null,null,null,{"$f":"IF(X203=\"\",\"\", INDEX(referentes!$AH:$AL,MATCH(DATOS_MAP!X203,referentes!$AI:$AI,0),1))","v":""},{"$f":"IF(AD203=\"\",\"\",AD203+AE203)","v":""},{"$f":"IF(AF203=\"\",\"\", INDEX(referentes!D:E,MATCH(DATOS_MAP!AF203,referentes!$E:$E,0),1))","v":""},{"$f":"IF(AI203=\"\",\"\", INDEX(referentes!A:B,MATCH(DATOS_MAP!AI203,referentes!$B:$B,0),1))","v":""},{"$f":"IF(AJ203=\"\",\"\", INDEX(referentes!G:H,MATCH(DATOS_MAP!AJ203,referentes!$H:$H,0),1))","v":""},{"$f":"IF(AK203=\"\",\"\", INDEX(referentes!$V$2:$W$10,MATCH(DATOS_MAP!AK203,referentes!$W$2:$W$10,0),1))","v":""},{"$f":"IF(AL203=\"\",\"\", INDEX(referentes!$AB:$AC,MATCH(DATOS_MAP!AL203,referentes!$AC:$AC,0),1))","v":""},{"$f":"IF(AP203=\"\",\"\", INDEX(referentes!$Y$2:$Z$10,MATCH(DATOS_MAP!AP203,referentes!$Z$2:$Z$10,0),1))","v":""},{"$f":"IF(AN203=\"\",\"\", INDEX(referentes!$AE$2:$AF$10,MATCH(DATOS_MAP!AN203,referentes!$AF$2:$AF$10,0),1))","v":""},{"$f":"IF(AQ203=\"\",\"\", INDEX(referentes!J:K,MATCH(DATOS_MAP!AQ203,referentes!$K:$K,0),1))","v":""},null,{"$f":"IF(AY203=\"\",\"\", INDEX('otras referencias'!O:P,MATCH(AY203,'otras referencias'!$O:$O,0),2))","v":""},null,null,null,null,null,{"$f":"IF(X203<>\"\",INDEX(referentes!$AH:$AL,MATCH(DATOS_MAP!X203,referentes!$AI:$AI,0),5),\"\")","v":""}]
[null,null,null,{"$f":"IF(E204=\"\",\"\",IF(E204=E203,\"\",E204))","v":""},{"$f":"IF(J204=\"\",\"\",CONCATENATE(AD204,DIGITADOR!$B$2,DIGITADOR!$M$1,J204))","v":""},{"$f":"IF(J204=\"\",\"\",CONCATENATE(DIGITADOR!$B$2,AD204,DIGITADOR!$M$1,J204,ROW()))","v":""},null,null,null,{"$f":"IF(X204=\"\",\"\", INDEX(referentes!$AH:$AL,MATCH(DATOS_MAP!X204,referentes!$AI:$AI,0),1))","v":""},"",{"$f":"IF(AF204=\"\",\"\", INDEX(referentes!D:E,MATCH(DATOS_MAP!AF204,referentes!$E:$E,0),1))","v":""},{"$f":"IF(AI204=\"\",\"\", INDEX(referentes!A:B,MATCH(DATOS_MAP!AI204,referentes!$B:$B,0),1))","v":""},{"$f":"IF(AJ204=\"\",\"\", INDEX(referentes!G:H,MATCH(DATOS_MAP!AJ204,referentes!$H:$H,0),1))","v":""},{"$f":"IF(AK204=\"\",\"\", INDEX(referentes!$V$2:$W$10,MATCH(DATOS_MAP!AK204,referentes!$W$2:$W$10,0),1))","v":""},{"$f":"IF(AL204=\"\",\"\", INDEX(referentes!$AB:$AC,MATCH(DATOS_MAP!AL204,referentes!$AC:$AC,0),1))","v":""},{"$f":"IF(AP204=\"\",\"\", INDEX(referentes!$Y$2:$Z$10,MATCH(DATOS_MAP!AP204,referentes!$Z$2:$Z$10,0),1))","v":""},{"$f":"IF(AN204=\"\",\"\", INDEX(referentes!$AE$2:$AF$10,MATCH(DATOS_MAP!AN204,referentes!$AF$2:$AF$10,0),1))","v":""},{"$f":"IF(AQ204=\"\",\"\", INDEX(referentes!J:K,MATCH(DATOS_MAP!AQ204,referentes!$K:$K,0),1))","v":""},null,{"$f":"IF(AY204=\"\",\"\", INDEX('otras referencias'!O:P,MATCH(AY204,'otras referencias'!$O:$O,0),2))","v":""},null,null,null,null,null,{"$f":"IF(X204<>\"\",INDEX(referentes!$AH:$AL,MATCH(DATOS_MAP!X204,referentes!$AI:$AI,0),5),\"\")","v":""}]
[null,null,null,"",{"$f":"IF(J205=\"\",\"\",CONCATENATE(AD205,DIGITADOR!$B$2,DIGITADOR!$M$1,J205))","v":""},{"$f":"IF(J205=\"\",\"\",CONCATENATE(DIGITADOR!$B$2,AD205,DIGITADOR!$M$1,J205,ROW()))","v":""},null,null,null,{"$f":"IF(X205=\"\",\"\", INDEX(referentes!$AH:$AL,MATCH(DATOS_MAP!X205,referentes!$AI:$AI,0),1))","v":""},"",{"$f":"IF(AF205=\"\",\"\", INDEX(referentes!D:E,MATCH(DATOS_MAP!AF205,referentes!$E:$E,0),1))","v":""},{"$f":"IF(AI205=\"\",\"\", INDEX(referentes!A:B,MATCH(DATOS_MAP!AI205,referentes!$B:$B,0),1))","v":""},{"$f":"IF(AJ205=\"\",\"\", INDEX(referentes!G:H,MATCH(DATOS_MAP!AJ205,referentes!$H:$H,0),1))","v":""},{"$f":"IF(AK205=\"\",\"\", INDEX(referentes!$V$2:$W$10,MATCH(DATOS_MAP!AK205,referentes!$W$2:$W$10,0),1))","v":""},{"$f":"IF(AL205=\"\",\"\", INDEX(referentes!$AB:$AC,MATCH(DATOS_MAP!AL205,referentes!$AC:$AC,0),1))","v":""},{"$f":"IF(AP205=\"\",\"\", INDEX(referentes!$Y$2:$Z$10,MATCH(DATOS_MAP!AP205,referentes!$Z$2:$Z$10,0),1))","v":""},{"$f":"IF(AN205=\"\",\"\", INDEX(referentes!$AE$2:$AF$10,MATCH(DATOS_MAP!AN205,referentes!$AF$2:$AF$10,0),1))","v":""},{"$f":"IF(AQ205=\"\",\"\", INDEX(referentes!J:K,MATCH(DATOS_MAP!AQ205,referentes!$K:$K,0),1))","v":""},null,{"$f":"IF(AY205=\"\",\"\", INDEX('otras referencias'!O:P,MATCH(AY205,'otras referencias'!$O:$O,0),2))","v":""},null,null,null,null,null,{"$f":"IF(X205<>\"\",INDEX(referentes!$AH:$AL,MATCH(DATOS_MAP!X205,referentes!$AI:$AI,0),5),\"\")","v":""}]
[null,null,null,"",{"$f":"IF(J206=\"\",\"\",CONCATENATE(AD206,DIGITADOR!$B$2,DIGITADOR!$M$1,J206))","v":""},{"$f":"IF(J206=\"\",\"\",CONCATENATE(DIGITADOR!$B$2,AD206,DIGITADOR!$M$1,J206,ROW()))","v":""},null,null,null,{"$f":"IF(X206=\"\",\"\", INDEX(referentes!$AH:$AL,MATCH(DATOS_MAP!X206,referentes!$AI:$AI,0),1))","v":""},"",{"$f":"IF(AF206=\"\",\"\", INDEX(referentes!D:E,MATCH(DATOS_MAP!AF206,referentes!$E:$E,0),1))","v":""},{"$f":"IF(AI206=\"\",\"\", INDEX(referentes!A:B,MATCH(DATOS_MAP!AI206,referentes!$B:$B,0),1))","v":""},{"$f":"IF(AJ206=\"\",\"\", INDEX(referentes!G:H,MATCH(DATOS_MAP!AJ206,referentes!$H:$H,0),1))","v":""},{"$f":"IF(AK206=\"\",\"\", INDEX(referentes!$V$2:$W$10,MATCH(DATOS_MAP!AK206,referentes!$W$2:$W$10,0),1))","v":""},{"$f":"IF(AL206=\"\",\"\", INDEX(referentes!$AB:$AC,MATCH(DATOS_MAP!AL206,referentes!$AC:$AC,0),1))","v":""},{"$f":"IF(AP206=\"\",\"\", INDEX(referentes!$Y$2:$Z$10,MATCH(DATOS_MAP!AP206,referentes!$Z$2:$Z$10,0),1))","v":""},{"$f":"IF(AN206=\"\",\"\", INDEX(referentes!$AE$2:$AF$10,MATCH(DATOS_MAP!AN206,referentes!$AF$2:$AF$10,0),1))","v":""},{"$f":"IF(AQ206=\"\",\"\", INDEX(referentes!J:K,MATCH(DATOS_MAP!AQ206,referentes!$K:$K,0),1))","v":""},null,{"$f":"IF(AY206=\"\",\"\", INDEX('otras referencias'!O:P,MATCH(AY206,'otras referencias'!$O:$O,0),2))","v":""},null,null,null,null,null,{"$f":"IF(X206<>\"\",INDEX(referentes!$AH:$AL,MATCH(DATOS_MAP!X206,referentes!$AI:$AI,0),5),\"\")","v":""}]
[null,null,null,"",{"$f":"IF(J207=\"\",\"\",CONCATENATE(AD207,DIGITADOR!$B$2,DIGITADOR!$M$1,J207))","v":""},{"$f":"IF(J207=\"\",\"\",CONCATENATE(DIGITADOR!$B$2,AD207,DIGITADOR!$M$1,J207,ROW()))","v":""},null,null,null,{"$f":"IF(X207=\"\",\"\", INDEX(referentes!$AH:$AL,MATCH(DATOS_MAP!X207,referentes!$AI:$AI,0),1))","v":""},"",{"$f":"IF(AF207=\"\",\"\", INDEX(referentes!D:E,MATCH(DATOS_MAP!AF207,referentes!$E:$E,0),1))","v":""},{"$f":"IF(AI207=\"\",\"\", INDEX(referentes!A:B,MATCH(DATOS_MAP!AI207,referentes!$B:$B,0),1))","v":""},{"$f":"IF(AJ207=\"\",\"\", INDEX(referentes!G:H,MATCH(DATOS_MAP!AJ207,referentes!$H:$H,0),1))","v":""},{"$f":"IF(AK207=\"\",\"\", INDEX(referentes!$V$2:$W$10,MATCH(DATOS_MAP!AK207,referentes!$W$2:$W$10,0),1))","v":""},{"$f":"IF(AL207=\"\",\"\", INDEX(referentes!$AB:$AC,MATCH(DATOS_MAP!AL207,referentes!$AC:$AC,0),1))","v":""},{"$f":"IF(AP207=\"\",\"\", INDEX(referentes!$Y$2:$Z$10,MATCH(DATOS_MAP!AP207,referentes!$Z$2:$Z$10,0),1))","v":""},{"$f":"IF(AN207=\"\",\"\", INDEX(referentes!$AE$2:$AF$10,MATCH(DATOS_MAP!AN207,referentes!$AF$2:$AF$10,0),1))","v":""},{"$f":"IF(AQ207=\"\",\"\", INDEX(referentes!J:K,MATCH(DATOS_MAP!AQ207,referentes!$K:$K,0),1))","v":""},null,{"$f":"IF(AY207=\"\",\"\", INDEX('otras referencias'!O:P,MATCH(AY207,'otras referencias'!$O:$O,0),2))","v":""},null,null,null,null,null,{"$f":"IF(X207<>\"\",INDEX(referentes!$AH:$AL,MATCH(DATOS_MAP!X207,referentes!$AI:$AI,0),5),\"\")","v":""}]
[null,null,null,"",{"$f":"IF(J208=\"\",\"\",CONCATENATE(AD208,DIGITADOR!$B$2,DIGITADOR!$M$1,J208))","v":""},{"$f":"IF(J208=\"\",\"\",CONCATENATE(DIGITADOR!$B$2,AD208,DIGITADOR!$M$1,J208,ROW()))","v":""},null,null,null,{"$f":"IF(X208=\"\",\"\", INDEX(referentes!$AH:$AL,MATCH(DATOS_MAP!X208,referentes!$AI:$AI,0),1))","v":""},"",{"$f":"IF(AF208=\"\",\"\", INDEX(referentes!D:E,MATCH(DATOS_MAP!AF208,referentes!$E:$E,0),1))","v":""},{"$f":"IF(AI208=\"\",\"\", INDEX(referentes!A:B,MATCH(DATOS_MAP!AI208,referentes!$B:$B,0),1))","v":""},{"$f":"IF(AJ208=\"\",\"\", INDEX(referentes!G:H,MATCH(DATOS_MAP!AJ208,referentes!$H:$H,0),1))","v":""},{"$f":"IF(AK208=\"\",\"\", INDEX(referentes!$V$2:$W$10,MATCH(DATOS_MAP!AK208,referentes!$W$2:$W$10,0),1))","v":""},{"$f":"IF(AL208=\"\",\"\", INDEX(referentes!$AB:$AC,MATCH(DATOS_MAP!AL208,referentes!$AC:$AC,0),1))","v":""},{"$f":"IF(AP208=\"\",\"\", INDEX(referentes!$Y$2:$Z$10,MATCH(DATOS_MAP!AP208,referentes!$Z$2:$Z$10,0),1))","v":""},{"$f":"IF(AN208=\"\",\"\", INDEX(referentes!$AE$2:$AF$10,MATCH(DATOS_MAP!AN208,referentes!$AF$2:$AF$10,0),1))","v":""},{"$f":"IF(AQ208=\"\",\"\", INDEX(referentes!J:K,MATCH(DATOS_MAP!AQ208,referentes!$K:$K,0),1))","v":""},null,{"$f":"IF(AY208=\"\",\"\", INDEX('otras referencias'!O:P,MATCH(AY208,'otras referencias'!$O:$O,0),2))","v":""},null,null,null,null,null,{"$f":"IF(X208<>\"\",INDEX(referentes!$AH:$AL,MATCH(DATOS_MAP!X208,referentes!$AI:$AI,0),5),\"\")","v":""}]
[null,null,null,"",{"$f":"IF(J209=\"\",\"\",CONCATENATE(AD209,DIGITADOR!$B$2,DIGITADOR!$M$1,J209))","v":""},{"$f":"IF(J209=\"\",\"\",CONCATENATE(DIGITADOR!$B$2,AD209,DIGITADOR!$M$1,J209,ROW()))","v":""},null,null,null,{"$f":"IF(X209=\"\",\"\", INDEX(referentes!$AH:$AL,MATCH(DATOS_MAP!X209,referentes!$AI:$AI,0),1))","v":""},"",{"$f":"IF(AF209=\"\",\"\", INDEX(referentes!D:E,MATCH(DATOS_MAP!AF209,referentes!$E:$E,0),1))","v":""},{"$f":"IF(AI209=\"\",\"\", INDEX(referentes!A:B,MATCH(DATOS_MAP!AI209,referentes!$B:$B,0),1))","v":""},{"$f":"IF(AJ209=\"\",\"\", INDEX(referentes!G:H,MATCH(DATOS_MAP!AJ209,referentes!$H:$H,0),1))","v":""},{"$f":"IF(AK209=\"\",\"\", INDEX(referentes!$V$2:$W$10,MATCH(DATOS_MAP!AK209,referentes!$W$2:$W$10,0),1))","v":""},{"$f":"IF(AL209=\"\",\"\", INDEX(referentes!$AB:$AC,MATCH(DATOS_MAP!AL209,referentes!$AC:$AC,0),1))","v":""},{"$f":"IF(AP209=\"\",\"\", INDEX(referentes!$Y$2:$Z$10,MATCH(DATOS_MAP!AP209,referentes!$Z$2:$Z$10,0),1))","v":""},{"$f":"IF(AN209=\"\",\"\", INDEX(referentes!$AE$2:$AF$10,MATCH(DATOS_MAP!AN209,referentes!$AF$2:$AF$10,0),1))","v":""},{"$f":"IF(AQ209=\"\",\"\", INDEX(referentes!J:K,MATCH(DATOS_MAP!AQ209,referentes!$K:$K,0),1))","v":""},null,{"$f":"IF(AY209=\"\",\"\", INDEX('otras referencias'!O:P,MATCH(AY209,'otras referencias'!$O:$O,0),2))","v":""},null,null,null,null,null,{"$f":"IF(X209<>\"\",INDEX(referentes!$AH:$AL,MATCH(DATOS_MAP!X209,referentes!$AI:$AI,0),5),\"\")","v":""}]
[null,null,null,"",{"$f":"IF(J210=\"\",\"\",CONCATENATE(AD210,DIGITADOR!$B$2,DIGITADOR!$M$1,J210))","v":""},{"$f":"IF(J210=\"\",\"\",CONCATENATE(DIGITADOR!$B$2,AD210,DIGITADOR!$M$1,J210,ROW()))","v":""},null,null,null,{"$f":"IF(X210=\"\",\"\", INDEX(referentes!$AH:$AL,MATCH(DATOS_MAP!X210,referentes!$AI:$AI,0),1))","v":""},"",{"$f":"IF(AF210=\"\",\"\", INDEX(referentes!D:E,MATCH(DATOS_MAP!AF210,referentes!$E:$E,0),1))","v":""},{"$f":"IF(AI210=\"\",\"\", INDEX(referentes!A:B,MATCH(DATOS_MAP!AI210,referentes!$B:$B,0),1))","v":""},{"$f":"IF(AJ210=\"\",\"\", INDEX(referentes!G:H,MATCH(DATOS_MAP!AJ210,referentes!$H:$H,0),1))","v":""},{"$f":"IF(AK210=\"\",\"\", INDEX(referentes!$V$2:$W$10,MATCH(DATOS_MAP!AK210,referentes!$W$2:$W$10,0),1))","v":""},{"$f":"IF(AL210=\"\",\"\", INDEX(referentes!$AB:$AC,MATCH(DATOS_MAP!AL210,referentes!$AC:$AC,0),1))","v":""},{"$f":"IF(AP210=\"\",\"\", INDEX(referentes!$Y$2:$Z$10,MATCH(DATOS_MAP!AP210,referentes!$Z$2:$Z$10,0),1))","v":""},{"$f":"IF(AN210=\"\",\"\", INDEX(referentes!$AE$2:$AF$10,MATCH(DATOS_MAP!AN210,referentes!$AF$2:$AF$10,0),1))","v":""},{"$f":"IF(AQ210=\"\",\"\", INDEX(referentes!J:K,MATCH(DATOS_MAP!AQ210,referentes!$K:$K,0),1))","v":""},null,{"$f":"IF(AY210=\"\",\"\", INDEX('otras referencias'!O:P,MATCH(AY210,'otras referencias'!$O:$O,0),2))","v":""},null,null,null,null,null,{"$f":"IF(X210<>\"\",INDEX(referentes!$AH:$AL,MATCH(DATOS_MAP!X210,referentes!$AI:$AI,0),5),\"\")","v":""}]
[null,null,null,"",{"$f":"IF(J211=\"\",\"\",CONCATENATE(AD211,DIGITADOR!$B$2,DIGITADOR!$M$1,J211))","v":""},{"$f":"IF(J211=\"\",\"\",CONCATENATE(DIGITADOR!$B$2,AD211,DIGITADOR!$M$1,J211,ROW()))","v":""},null,null,null,{"$f":"IF(X211=\"\",\"\", INDEX(referentes!$AH:$AL,MATCH(DATOS_MAP!X211,referentes!$AI:$AI,0),1))","v":""},"",{"$f":"IF(AF211=\"\",\"\", INDEX(referentes!D:E,MATCH(DATOS_MAP!AF211,referentes!$E:$E,0),1))","v":""},{"$f":"IF(AI211=\"\",\"\", INDEX(referentes!A:B,MATCH(DATOS_MAP!AI211,referentes!$B:$B,0),1))","v":""},{"$f":"IF(AJ211=\"\",\"\", INDEX(referentes!G:H,MATCH(DATOS_MAP!AJ211,referentes!$H:$H,0),1))","v":""},{"$f":"IF(AK211=\"\",\"\", INDEX(referentes!$V$2:$W$10,MATCH(DATOS_MAP!AK211,referentes!$W$2:$W$10,0),1))","v":""},{"$f":"IF(AL211=\"\",\"\", INDEX(referentes!$AB:$AC,MATCH(DATOS_MAP!AL211,referentes!$AC:$AC,0),1))","v":""},{"$f":"IF(AP211=\"\",\"\", INDEX(referentes!$Y$2:$Z$10,MATCH(DATOS_MAP!AP211,referentes!$Z$2:$Z$10,0),1))","v":""},{"$f":"IF(AN211=\"\",\"\", INDEX(referentes!$AE$2:$AF$10,MATCH(DATOS_MAP!AN211,referentes!$AF$2:$AF$10,0),1))","v":""},{"$f":"IF(AQ211=\"\",\"\", INDEX(referentes!J:K,MATCH(DATOS_MAP!AQ211,referentes!$K:$K,0),1))","v":""},null,{"$f":"IF(AY211=\"\",\"\", INDEX('otras referencias'!O:P,MATCH(AY211,'otras referencias'!$O:$O,0),2))","v":""},null,null,null,null,null,{"$f":"IF(X211<>\"\",INDEX(referentes!$AH:$AL,MATCH(DATOS_MAP!X211,referentes!$AI:$AI,0),5),\"\")","v":""}]
[null,null,null,"",{"$f":"IF(J212=\"\",\"\",CONCATENATE(AD212,DIGITADOR!$B$2,DIGITADOR!$M$1,J212))","v":""},{"$f":"IF(J212=\"\",\"\",CONCATENATE(DIGITADOR!$B$2,AD212,DIGITADOR!$M$1,J212,ROW()))","v":""},null,null,null,{"$f":"IF(X212=\"\",\"\", INDEX(referentes!$AH:$AL,MATCH(DATOS_MAP!X212,referentes!$AI:$AI,0),1))","v":""},"",{"$f":"IF(AF212=\"\",\"\", INDEX(referentes!D:E,MATCH(DATOS_MAP!AF212,referentes!$E:$E,0),1))","v":""},{"$f":"IF(AI212=\"\",\"\", INDEX(referentes!A:B,MATCH(DATOS_MAP!AI212,referentes!$B:$B,0),1))","v":""},{"$f":"IF(AJ212=\"\",\"\", INDEX(referentes!G:H,MATCH(DATOS_MAP!AJ212,referentes!$H:$H,0),1))","v":""},{"$f":"IF(AK212=\"\",\"\", INDEX(referentes!$V$2:$W$10,MATCH(DATOS_MAP!AK212,referentes!$W$2:$W$10,0),1))","v":""},{"$f":"IF(AL212=\"\",\"\", INDEX(referentes!$AB:$AC,MATCH(DATOS_MAP!AL212,referentes!$AC:$AC,0),1))","v":""},{"$f":"IF(AP212=\"\",\"\", INDEX(referentes!$Y$2:$Z$10,MATCH(DATOS_MAP!AP212,referentes!$Z$2:$Z$10,0),1))","v":""},{"$f":"IF(AN212=\"\",\"\", INDEX(referentes!$AE$2:$AF$10,MATCH(DATOS_MAP!AN212,referentes!$AF$2:$AF$10,0),1))","v":""},{"$f":"IF(AQ212=\"\",\"\", INDEX(referentes!J:K,MATCH(DATOS_MAP!AQ212,referentes!$K:$K,0),1))","v":""},null,{"$f":"IF(AY212=\"\",\"\", INDEX('otras referencias'!O:P,MATCH(AY212,'otras referencias'!$O:$O,0),2))","v":""},null,null,null,null,null,{"$f":"IF(X212<>\"\",INDEX(referentes!$AH:$AL,MATCH(DATOS_MAP!X212,referentes!$AI:$AI,0),5),\"\")","v":""}]
[null,null,null,"",{"$f":"IF(J213=\"\",\"\",CONCATENATE(AD213,DIGITADOR!$B$2,DIGITADOR!$M$1,J213))","v":""},{"$f":"IF(J213=\"\",\"\",CONCATENATE(DIGITADOR!$B$2,AD213,DIGITADOR!$M$1,J213,ROW()))","v":""},null,null,null,{"$f":"IF(X213=\"\",\"\", INDEX(referentes!$AH:$AL,MATCH(DATOS_MAP!X213,referentes!$AI:$AI,0),1))","v":""},"",{"$f":"IF(AF213=\"\",\"\", INDEX(referentes!D:E,MATCH(DATOS_MAP!AF213,referentes!$E:$E,0),1))","v":""},{"$f":"IF(AI213=\"\",\"\", INDEX(referentes!A:B,MATCH(DATOS_MAP!AI213,referentes!$B:$B,0),1))","v":""},{"$f":"IF(AJ213=\"\",\"\", INDEX(referentes!G:H,MATCH(DATOS_MAP!AJ213,referentes!$H:$H,0),1))","v":""},{"$f":"IF(AK213=\"\",\"\", INDEX(referentes!$V$2:$W$10,MATCH(DATOS_MAP!AK213,referentes!$W$2:$W$10,0),1))","v":""},{"$f":"IF(AL213=\"\",\"\", INDEX(referentes!$AB:$AC,MATCH(DATOS_MAP!AL213,referentes!$AC:$AC,0),1))","v":""},{"$f":"IF(AP213=\"\",\"\", INDEX(referentes!$Y$2:$Z$10,MATCH(DATOS_MAP!AP213,referentes!$Z$2:$Z$10,0),1))","v":""},{"$f":"IF(AN213=\"\",\"\", INDEX(referentes!$AE$2:$AF$10,MATCH(DATOS_MAP!AN213,referentes!$AF$2:$AF$10,0),1))","v":""},{"$f":"IF(AQ213=\"\",\"\", INDEX(referentes!J:K,MATCH(DATOS_MAP!AQ213,referentes!$K:$K,0),1))","v":""},null,{"$f":"IF(AY213=\"\",\"\", INDEX('otras referencias'!O:P,MATCH(AY213,'otras referencias'!$O:$O,0),2))","v":""},null,null,null,null,null,{"$f":"IF(X213<>\"\",INDEX(referentes!$AH:$AL,MATCH(DATOS_MAP!X213,referentes!$AI:$AI,0),5),\"\")","v":""}]
[null,null,null,"",{"$f":"IF(J214=\"\",\"\",CONCATENATE(AD214,DIGITADOR!$B$2,DIGITADOR!$M$1,J214))","v":""},{"$f":"IF(J214=\"\",\"\",CONCATENATE(DIGITADOR!$B$2,AD214,DIGITADOR!$M$1,J214,ROW()))","v":""},null,null,null,{"$f":"IF(X214=\"\",\"\", INDEX(referentes!$AH:$AL,MATCH(DATOS_MAP!X214,referentes!$AI:$AI,0),1))","v":""},"",{"$f":"IF(AF214=\"\",\"\", INDEX(referentes!D:E,MATCH(DATOS_MAP!AF214,referentes!$E:$E,0),1))","v":""},{"$f":"IF(AI214=\"\",\"\", INDEX(referentes!A:B,MATCH(DATOS_MAP!AI214,referentes!$B:$B,0),1))","v":""},{"$f":"IF(AJ214=\"\",\"\", INDEX(referentes!G:H,MATCH(DATOS_MAP!AJ214,referentes!$H:$H,0),1))","v":""},{"$f":"IF(AK214=\"\",\"\", INDEX(referentes!$V$2:$W$10,MATCH(DATOS_MAP!AK214,referentes!$W$2:$W$10,0),1))","v":""},{"$f":"IF(AL214=\"\",\"\", INDEX(referentes!$AB:$AC,MATCH(DATOS_MAP!AL214,referentes!$AC:$AC,0),1))","v":""},{"$f":"IF(AP214=\"\",\"\", INDEX(referentes!$Y$2:$Z$10,MATCH(DATOS_MAP!AP214,referentes!$Z$2:$Z$10,0),1))","v":""},{"$f":"IF(AN214=\"\",\"\", INDEX(referentes!$AE$2:$AF$10,MATCH(DATOS_MAP!AN214,referentes!$AF$2:$AF$10,0),1))","v":""},{"$f":"IF(AQ214=\"\",\"\", INDEX(referentes!J:K,MATCH(DATOS_MAP!AQ214,referentes!$K:$K,0),1))","v":""},null,{"$f":"IF(AY214=\"\",\"\", INDEX('otras referencias'!O:P,MATCH(AY214,'otras referencias'!$O:$O,0),2))","v":""},null,null,null,null,null,{"$f":"IF(X214<>\"\",INDEX(referentes!$AH:$AL,MATCH(DATOS_MAP!X214,referentes!$AI:$AI,0),5),\"\")","v":""}]
[null,null,null,"",{"$f":"IF(J215=\"\",\"\",CONCATENATE(AD215,DIGITADOR!$B$2,DIGITADOR!$M$1,J215))","v":""},{"$f":"IF(J215=\"\",\"\",CONCATENATE(DIGITADOR!$B$2,AD215,DIGITADOR!$M$1,J215,ROW()))","v":""},null,null,null,{"$f":"IF(X215=\"\",\"\", INDEX(referentes!$AH:$AL,MATCH(DATOS_MAP!X215,referentes!$AI:$AI,0),1))","v":""},"",{"$f":"IF(AF215=\"\",\"\", INDEX(referentes!D:E,MATCH(DATOS_MAP!AF215,referentes!$E:$E,0),1))","v":""},{"$f":"IF(AI215=\"\",\"\", INDEX(referentes!A:B,MATCH(DATOS_MAP!AI215,referentes!$B:$B,0),1))","v":""},{"$f":"IF(AJ215=\"\",\"\", INDEX(referentes!G:H,MATCH(DATOS_MAP!AJ215,referentes!$H:$H,0),1))","v":""},{"$f":"IF(AK215=\"\",\"\", INDEX(referentes!$V$2:$W$10,MATCH(DATOS_MAP!AK215,referentes!$W$2:$W$10,0),1))","v":""},{"$f":"IF(AL215=\"\",\"\", INDEX(referentes!$AB:$AC,MATCH(DATOS_MAP!AL215,referentes!$AC:$AC,0),1))","v":""},{"$f":"IF(AP215=\"\",\"\", INDEX(referentes!$Y$2:$Z$10,MATCH(DATOS_MAP!AP215,referentes!$Z$2:$Z$10,0),1))","v":""},{"$f":"IF(AN215=\"\",\"\", INDEX(referentes!$AE$2:$AF$10,MATCH(DATOS_MAP!AN215,referentes!$AF$2:$AF$10,0),1))","v":""},{"$f":"IF(AQ215=\"\",\"\", INDEX(referentes!J:K,MATCH(DATOS_MAP!AQ215,referentes!$K:$K,0),1))","v":""},null,{"$f":"IF(AY215=\"\",\"\", INDEX('otras referencias'!O:P,MATCH(AY215,'otras referencias'!$O:$O,0),2))","v":""},null,null,null,null,null,{"$f":"IF(X215<>\"\",INDEX(referentes!$AH:$AL,MATCH(DATOS_MAP!X215,referentes!$AI:$AI,0),5),\"\")","v":""}]
[null,null,null,"",{"$f":"IF(J216=\"\",\"\",CONCATENATE(AD216,DIGITADOR!$B$2,DIGITADOR!$M$1,J216))","v":""},{"$f":"IF(J216=\"\",\"\",CONCATENATE(DIGITADOR!$B$2,AD216,DIGITADOR!$M$1,J216,ROW()))","v":""},null,null,null,{"$f":"IF(X216=\"\",\"\", INDEX(referentes!$AH:$AL,MATCH(DATOS_MAP!X216,referentes!$AI:$AI,0),1))","v":""},"",{"$f":"IF(AF216=\"\",\"\", INDEX(referentes!D:E,MATCH(DATOS_MAP!AF216,referentes!$E:$E,0),1))","v":""},{"$f":"IF(AI216=\"\",\"\", INDEX(referentes!A:B,MATCH(DATOS_MAP!AI216,referentes!$B:$B,0),1))","v":""},{"$f":"IF(AJ216=\"\",\"\", INDEX(referentes!G:H,MATCH(DATOS_MAP!AJ216,referentes!$H:$H,0),1))","v":""},{"$f":"IF(AK216=\"\",\"\", INDEX(referentes!$V$2:$W$10,MATCH(DATOS_MAP!AK216,referentes!$W$2:$W$10,0),1))","v":""},{"$f":"IF(AL216=\"\",\"\", INDEX(referentes!$AB:$AC,MATCH(DATOS_MAP!AL216,referentes!$AC:$AC,0),1))","v":""},{"$f":"IF(AP216=\"\",\"\", INDEX(referentes!$Y$2:$Z$10,MATCH(DATOS_MAP!AP216,referentes!$Z$2:$Z$10,0),1))","v":""},{"$f":"IF(AN216=\"\",\"\", INDEX(referentes!$AE$2:$AF$10,MATCH(DATOS_MAP!AN216,referentes!$AF$2:$AF$10,0),1))","v":""},{"$f":"IF(AQ216=\"\",\"\", INDEX(referentes!J:K,MATCH(DATOS_MAP!AQ216,referentes!$K:$K,0),1))","v":""},null,{"$f":"IF(AY216=\"\",\"\", INDEX('otras referencias'!O:P,MATCH(AY216,'otras referencias'!$O:$O,0),2))","v":""},null,null,null,null,null,{"$f":"IF(X216<>\"\",INDEX(referentes!$AH:$AL,MATCH(DATOS_MAP!X216,referentes!$AI:$AI,0),5),\"\")","v":""}]
[null,null,null,"",{"$f":"IF(J217=\"\",\"\",CONCATENATE(AD217,DIGITADOR!$B$2,DIGITADOR!$M$1,J217))","v":""},{"$f":"IF(J217=\"\",\"\",CONCATENATE(DIGITADOR!$B$2,AD217,DIGITADOR!$M$1,J217,ROW()))","v":""},null,null,null,{"$f":"IF(X217=\"\",\"\", INDEX(referentes!$AH:$AL,MATCH(DATOS_MAP!X217,referentes!$AI:$AI,0),1))","v":""},"",{"$f":"IF(AF217=\"\",\"\", INDEX(referentes!D:E,MATCH(DATOS_MAP!AF217,referentes!$E:$E,0),1))","v":""},{"$f":"IF(AI217=\"\",\"\", INDEX(referentes!A:B,MATCH(DATOS_MAP!AI217,referentes!$B:$B,0),1))","v":""},{"$f":"IF(AJ217=\"\",\"\", INDEX(referentes!G:H,MATCH(DATOS_MAP!AJ217,referentes!$H:$H,0),1))","v":""},{"$f":"IF(AK217=\"\",\"\", INDEX(referentes!$V$2:$W$10,MATCH(DATOS_MAP!AK217,referentes!$W$2:$W$10,0),1))","v":""},{"$f":"IF(AL217=\"\",\"\", INDEX(referentes!$AB:$AC,MATCH(DATOS_MAP!AL217,referentes!$AC:$AC,0),1))","v":""},{"$f":"IF(AP217=\"\",\"\", INDEX(referentes!$Y$2:$Z$10,MATCH(DATOS_MAP!AP217,referentes!$Z$2:$Z$10,0),1))","v":""},{"$f":"IF(AN217=\"\",\"\", INDEX(referentes!$AE$2:$AF$10,MATCH(DATOS_MAP!AN217,referentes!$AF$2:$AF$10,0),1))","v":""},{"$f":"IF(AQ217=\"\",\"\", INDEX(referentes!J:K,MATCH(DATOS_MAP!AQ217,referentes!$K:$K,0),1))","v":""},null,{"$f":"IF(AY217=\"\",\"\", INDEX('otras referencias'!O:P,MATCH(AY217,'otras referencias'!$O:$O,0),2))","v":""},null,null,null,null,null,{"$f":"IF(X217<>\"\",INDEX(referentes!$AH:$AL,MATCH(DATOS_MAP!X217,referentes!$AI:$AI,0),5),\"\")","v":""}]
[null,null,null,"",{"$f":"IF(J218=\"\",\"\",CONCATENATE(AD218,DIGITADOR!$B$2,DIGITADOR!$M$1,J218))","v":""},{"$f":"IF(J218=\"\",\"\",CONCATENATE(DIGITADOR!$B$2,AD218,DIGITADOR!$M$1,J218,ROW()))","v":""},null,null,null,{"$f":"IF(X218=\"\",\"\", INDEX(referentes!$AH:$AL,MATCH(DATOS_MAP!X218,referentes!$AI:$AI,0),1))","v":""},"",{"$f":"IF(AF218=\"\",\"\", INDEX(referentes!D:E,MATCH(DATOS_MAP!AF218,referentes!$E:$E,0),1))","v":""},{"$f":"IF(AI218=\"\",\"\", INDEX(referentes!A:B,MATCH(DATOS_MAP!AI218,referentes!$B:$B,0),1))","v":""},{"$f":"IF(AJ218=\"\",\"\", INDEX(referentes!G:H,MATCH(DATOS_MAP!AJ218,referentes!$H:$H,0),1))","v":""},{"$f":"IF(AK218=\"\",\"\", INDEX(referentes!$V$2:$W$10,MATCH(DATOS_MAP!AK218,referentes!$W$2:$W$10,0),1))","v":""},{"$f":"IF(AL218=\"\",\"\", INDEX(referentes!$AB:$AC,MATCH(DATOS_MAP!AL218,referentes!$AC:$AC,0),1))","v":""},{"$f":"IF(AP218=\"\",\"\", INDEX(referentes!$Y$2:$Z$10,MATCH(DATOS_MAP!AP218,referentes!$Z$2:$Z$10,0),1))","v":""},{"$f":"IF(AN218=\"\",\"\", INDEX(referentes!$AE$2:$AF$10,MATCH(DATOS_MAP!AN218,referentes!$AF$2:$AF$10,0),1))","v":""},{"$f":"IF(AQ218=\"\",\"\", INDEX(referentes!J:K,MATCH(DATOS_MAP!AQ218,referentes!$K:$K,0),1))","v":""},null,{"$f":"IF(AY218=\"\",\"\", INDEX('otras referencias'!O:P,MATCH(AY218,'otras referencias'!$O:$O,0),2))","v":""},null,null,null,null,null,{"$f":"IF(X218<>\"\",INDEX(referentes!$AH:$AL,MATCH(DATOS_MAP!X218,referentes!$AI:$AI,0),5),\"\")","v":""}]
[null,null,null,"",{"$f":"IF(J219=\"\",\"\",CONCATENATE(AD219,DIGITADOR!$B$2,DIGITADOR!$M$1,J219))","v":""},{"$f":"IF(J219=\"\",\"\",CONCATENATE(DIGITADOR!$B$2,AD219,DIGITADOR!$M$1,J219,ROW()))","v":""},null,null,null,{"$f":"IF(X219=\"\",\"\", INDEX(referentes!$AH:$AL,MATCH(DATOS_MAP!X219,referentes!$AI:$AI,0),1))","v":""},"",{"$f":"IF(AF219=\"\",\"\", INDEX(referentes!D:E,MATCH(DATOS_MAP!AF219,referentes!$E:$E,0),1))","v":""},{"$f":"IF(AI219=\"\",\"\", INDEX(referentes!A:B,MATCH(DATOS_MAP!AI219,referentes!$B:$B,0),1))","v":""},{"$f":"IF(AJ219=\"\",\"\", INDEX(referentes!G:H,MATCH(DATOS_MAP!AJ219,referentes!$H:$H,0),1))","v":""},{"$f":"IF(AK219=\"\",\"\", INDEX(referentes!$V$2:$W$10,MATCH(DATOS_MAP!AK219,referentes!$W$2:$W$10,0),1))","v":""},{"$f":"IF(AL219=\"\",\"\", INDEX(referentes!$AB:$AC,MATCH(DATOS_MAP!AL219,referentes!$AC:$AC,0),1))","v":""},{"$f":"IF(AP219=\"\",\"\", INDEX(referentes!$Y$2:$Z$10,MATCH(DATOS_MAP!AP219,referentes!$Z$2:$Z$10,0),1))","v":""},{"$f":"IF(AN219=\"\",\"\", INDEX(referentes!$AE$2:$AF$10,MATCH(DATOS_MAP!AN219,referentes!$AF$2:$AF$10,0),1))","v":""},{"$f":"IF(AQ219=\"\",\"\", INDEX(referentes!J:K,MATCH(DATOS_MAP!AQ219,referentes!$K:$K,0),1))","v":""},null,{"$f":"IF(AY219=\"\",\"\", INDEX('otras referencias'!O:P,MATCH(AY219,'otras referencias'!$O:$O,0),2))","v":""},null,null,null,null,null,{"$f":"IF(X219<>\"\",INDEX(referentes!$AH:$AL,MATCH(DATOS_MAP!X219,referentes!$AI:$AI,0),5),\"\")","v":""}]
[null,null,null,"",{"$f":"IF(J220=\"\",\"\",CONCATENATE(AD220,DIGITADOR!$B$2,DIGITADOR!$M$1,J220))","v":""},{"$f":"IF(J220=\"\",\"\",CONCATENATE(DIGITADOR!$B$2,AD220,DIGITADOR!$M$1,J220,ROW()))","v":""},null,null,null,{"$f":"IF(X220=\"\",\"\", INDEX(referentes!$AH:$AL,MATCH(DATOS_MAP!X220,referentes!$AI:$AI,0),1))","v":""},"",{"$f":"IF(AF220=\"\",\"\", INDEX(referentes!D:E,MATCH(DATOS_MAP!AF220,referentes!$E:$E,0),1))","v":""},{"$f":"IF(AI220=\"\",\"\", INDEX(referentes!A:B,MATCH(DATOS_MAP!AI220,referentes!$B:$B,0),1))","v":""},{"$f":"IF(AJ220=\"\",\"\", INDEX(referentes!G:H,MATCH(DATOS_MAP!AJ220,referentes!$H:$H,0),1))","v":""},{"$f":"IF(AK220=\"\",\"\", INDEX(referentes!$V$2:$W$10,MATCH(DATOS_MAP!AK220,referentes!$W$2:$W$10,0),1))","v":""},{"$f":"IF(AL220=\"\",\"\", INDEX(referentes!$AB:$AC,MATCH(DATOS_MAP!AL220,referentes!$AC:$AC,0),1))","v":""},{"$f":"IF(AP220=\"\",\"\", INDEX(referentes!$Y$2:$Z$10,MATCH(DATOS_MAP!AP220,referentes!$Z$2:$Z$10,0),1))","v":""},{"$f":"IF(AN220=\"\",\"\", INDEX(referentes!$AE$2:$AF$10,MATCH(DATOS_MAP!AN220,referentes!$AF$2:$AF$10,0),1))","v":""},{"$f":"IF(AQ220=\"\",\"\", INDEX(referentes!J:K,MATCH(DATOS_MAP!AQ220,referentes!$K:$K,0),1))","v":""},null,{"$f":"IF(AY220=\"\",\"\", INDEX('otras referencias'!O:P,MATCH(AY220,'otras referencias'!$O:$O,0),2))","v":""},null,null,null,null,null,{"$f":"IF(X220<>\"\",INDEX(referentes!$AH:$AL,MATCH(DATOS_MAP!X220,referentes!$AI:$AI,0),5),\"\")","v":""}]
[null,null,null,"",{"$f":"IF(J221=\"\",\"\",CONCATENATE(AD221,DIGITADOR!$B$2,DIGITADOR!$M$1,J221))","v":""},{"$f":"IF(J221=\"\",\"\",CONCATENATE(DIGITADOR!$B$2,AD221,DIGITADOR!$M$1,J221,ROW()))","v":""},null,null,null,{"$f":"IF(X221=\"\",\"\", INDEX(referentes!$AH:$AL,MATCH(DATOS_MAP!X221,referentes!$AI:$AI,0),1))","v":""},"",{"$f":"IF(AF221=\"\",\"\", INDEX(referentes!D:E,MATCH(DATOS_MAP!AF221,referentes!$E:$E,0),1))","v":""},{"$f":"IF(AI221=\"\",\"\", INDEX(referentes!A:B,MATCH(DATOS_MAP!AI221,referentes!$B:$B,0),1))","v":""},{"$f":"IF(AJ221=\"\",\"\", INDEX(referentes!G:H,MATCH(DATOS_MAP!AJ221,referentes!$H:$H,0),1))","v":""},{"$f":"IF(AK221=\"\",\"\", INDEX(referentes!$V$2:$W$10,MATCH(DATOS_MAP!AK221,referentes!$W$2:$W$10,0),1))","v":""},{"$f":"IF(AL221=\"\",\"\", INDEX(referentes!$AB:$AC,MATCH(DATOS_MAP!AL221,referentes!$AC:$AC,0),1))","v":""},{"$f":"IF(AP221=\"\",\"\", INDEX(referentes!$Y$2:$Z$10,MATCH(DATOS_MAP!AP221,referentes!$Z$2:$Z$10,0),1))","v":""},{"$f":"IF(AN221=\"\",\"\", INDEX(referentes!$AE$2:$AF$10,MATCH(DATOS_MAP!AN221,referentes!$AF$2:$AF$10,0),1))","v":""},{"$f":"IF(AQ221=\"\",\"\", INDEX(referentes!J:K,MATCH(DATOS_MAP!AQ221,referentes!$K:$K,0),1))","v":""},null,{"$f":"IF(AY221=\"\",\"\", INDEX('otras referencias'!O:P,MATCH(AY221,'otras referencias'!$O:$O,0),2))","v":""},null,null,null,null,null,{"$f":"IF(X221<>\"\",INDEX(referentes!$AH:$AL,MATCH(DATOS_MAP!X221,referentes!$AI:$AI,0),5),\"\")","v":""}]
[null,null,null,"",{"$f":"IF(J222=\"\",\"\",CONCATENATE(AD222,DIGITADOR!$B$2,DIGITADOR!$M$1,J222))","v":""},{"$f":"IF(J222=\"\",\"\",CONCATENATE(DIGITADOR!$B$2,AD222,DIGITADOR!$M$1,J222,ROW()))","v":""},null,null,null,{"$f":"IF(X222=\"\",\"\", INDEX(referentes!$AH:$AL,MATCH(DATOS_MAP!X222,referentes!$AI:$AI,0),1))","v":""},"",{"$f":"IF(AF222=\"\",\"\", INDEX(referentes!D:E,MATCH(DATOS_MAP!AF222,referentes!$E:$E,0),1))","v":""},{"$f":"IF(AI222=\"\",\"\", INDEX(referentes!A:B,MATCH(DATOS_MAP!AI222,referentes!$B:$B,0),1))","v":""},{"$f":"IF(AJ222=\"\",\"\", INDEX(referentes!G:H,MATCH(DATOS_MAP!AJ222,referentes!$H:$H,0),1))","v":""},{"$f":"IF(AK222=\"\",\"\", INDEX(referentes!$V$2:$W$10,MATCH(DATOS_MAP!AK222,referentes!$W$2:$W$10,0),1))","v":""},{"$f":"IF(AL222=\"\",\"\", INDEX(referentes!$AB:$AC,MATCH(DATOS_MAP!AL222,referentes!$AC:$AC,0),1))","v":""},{"$f":"IF(AP222=\"\",\"\", INDEX(referentes!$Y$2:$Z$10,MATCH(DATOS_MAP!AP222,referentes!$Z$2:$Z$10,0),1))","v":""},{"$f":"IF(AN222=\"\",\"\", INDEX(referentes!$AE$2:$AF$10,MATCH(DATOS_MAP!AN222,referentes!$AF$2:$AF$10,0),1))","v":""},{"$f":"IF(AQ222=\"\",\"\", INDEX(referentes!J:K,MATCH(DATOS_MAP!AQ222,referentes!$K:$K,0),1))","v":""},null,{"$f":"IF(AY222=\"\",\"\", INDEX('otras referencias'!O:P,MATCH(AY222,'otras referencias'!$O:$O,0),2))","v":""},null,null,null,null,null,{"$f":"IF(X222<>\"\",INDEX(referentes!$AH:$AL,MATCH(DATOS_MAP!X222,referentes!$AI:$AI,0),5),\"\")","v":""}]
[null,null,null,"",{"$f":"IF(J223=\"\",\"\",CONCATENATE(AD223,DIGITADOR!$B$2,DIGITADOR!$M$1,J223))","v":""},{"$f":"IF(J223=\"\",\"\",CONCATENATE(DIGITADOR!$B$2,AD223,DIGITADOR!$M$1,J223,ROW()))","v":""},null,null,null,{"$f":"IF(X223=\"\",\"\", INDEX(referentes!$AH:$AL,MATCH(DATOS_MAP!X223,referentes!$AI:$AI,0),1))","v":""},"",{"$f":"IF(AF223=\"\",\"\", INDEX(referentes!D:E,MATCH(DATOS_MAP!AF223,referentes!$E:$E,0),1))","v":""},{"$f":"IF(AI223=\"\",\"\", INDEX(referentes!A:B,MATCH(DATOS_MAP!AI223,referentes!$B:$B,0),1))","v":""},{"$f":"IF(AJ223=\"\",\"\", INDEX(referentes!G:H,MATCH(DATOS_MAP!AJ223,referentes!$H:$H,0),1))","v":""},{"$f":"IF(AK223=\"\",\"\", INDEX(referentes!$V$2:$W$10,MATCH(DATOS_MAP!AK223,referentes!$W$2:$W$10,0),1))","v":""},{"$f":"IF(AL223=\"\",\"\", INDEX(referentes!$AB:$AC,MATCH(DATOS_MAP!AL223,referentes!$AC:$AC,0),1))","v":""},{"$f":"IF(AP223=\"\",\"\", INDEX(referentes!$Y$2:$Z$10,MATCH(DATOS_MAP!AP223,referentes!$Z$2:$Z$10,0),1))","v":""},{"$f":"IF(AN223=\"\",\"\", INDEX(referentes!$AE$2:$AF$10,MATCH(DATOS_MAP!AN223,referentes!$AF$2:$AF$10,0),1))","v":""},{"$f":"IF(AQ223=\"\",\"\", INDEX(referentes!J:K,MATCH(DATOS_MAP!AQ223,referentes!$K:$K,0),1))","v":""},null,{"$f":"IF(AY223=\"\",\"\", INDEX('otras referencias'!O:P,MATCH(AY223,'otras referencias'!$O:$O,0),2))","v":""},null,null,null,null,null,{"$f":"IF(X223<>\"\",INDEX(referentes!$AH:$AL,MATCH(DATOS_MAP!X223,referentes!$AI:$AI,0),5),\"\")","v":""}]
[null,null,null,"",{"$f":"IF(J224=\"\",\"\",CONCATENATE(AD224,DIGITADOR!$B$2,DIGITADOR!$M$1,J224))","v":""},{"$f":"IF(J224=\"\",\"\",CONCATENATE(DIGITADOR!$B$2,AD224,DIGITADOR!$M$1,J224,ROW()))","v":""},null,null,null,{"$f":"IF(X224=\"\",\"\", INDEX(referentes!$AH:$AL,MATCH(DATOS_MAP!X224,referentes!$AI:$AI,0),1))","v":""},"",{"$f":"IF(AF224=\"\",\"\", INDEX(referentes!D:E,MATCH(DATOS_MAP!AF224,referentes!$E:$E,0),1))","v":""},{"$f":"IF(AI224=\"\",\"\", INDEX(referentes!A:B,MATCH(DATOS_MAP!AI224,referentes!$B:$B,0),1))","v":""},{"$f":"IF(AJ224=\"\",\"\", INDEX(referentes!G:H,MATCH(DATOS_MAP!AJ224,referentes!$H:$H,0),1))","v":""},{"$f":"IF(AK224=\"\",\"\", INDEX(referentes!$V$2:$W$10,MATCH(DATOS_MAP!AK224,referentes!$W$2:$W$10,0),1))","v":""},{"$f":"IF(AL224=\"\",\"\", INDEX(referentes!$AB:$AC,MATCH(DATOS_MAP!AL224,referentes!$AC:$AC,0),1))","v":""},{"$f":"IF(AP224=\"\",\"\", INDEX(referentes!$Y$2:$Z$10,MATCH(DATOS_MAP!AP224,referentes!$Z$2:$Z$10,0),1))","v":""},{"$f":"IF(AN224=\"\",\"\", INDEX(referentes!$AE$2:$AF$10,MATCH(DATOS_MAP!AN224,referentes!$AF$2:$AF$10,0),1))","v":""},{"$f":"IF(AQ224=\"\",\"\", INDEX(referentes!J:K,MATCH(DATOS_MAP!AQ224,referentes!$K:$K,0),1))","v":""},null,{"$f":"IF(AY224=\"\",\"\", INDEX('otras referencias'!O:P,MATCH(AY224,'otras referencias'!$O:$O,0),2))","v":""},null,null,null,null,null,{"$f":"IF(X224<>\"\",INDEX(referentes!$AH:$AL,MATCH(DATOS_MAP!X224,referentes!$AI:$AI,0),5),\"\")","v":""}]
[null,null,null,"",{"$f":"IF(J225=\"\",\"\",CONCATENATE(AD225,DIGITADOR!$B$2,DIGITADOR!$M$1,J225))","v":""},{"$f":"IF(J225=\"\",\"\",CONCATENATE(DIGITADOR!$B$2,AD225,DIGITADOR!$M$1,J225,ROW()))","v":""},null,null,null,{"$f":"IF(X225=\"\",\"\", INDEX(referentes!$AH:$AL,MATCH(DATOS_MAP!X225,referentes!$AI:$AI,0),1))","v":""},"",{"$f":"IF(AF225=\"\",\"\", INDEX(referentes!D:E,MATCH(DATOS_MAP!AF225,referentes!$E:$E,0),1))","v":""},{"$f":"IF(AI225=\"\",\"\", INDEX(referentes!A:B,MATCH(DATOS_MAP!AI225,referentes!$B:$B,0),1))","v":""},{"$f":"IF(AJ225=\"\",\"\", INDEX(referentes!G:H,MATCH(DATOS_MAP!AJ225,referentes!$H:$H,0),1))","v":""},{"$f":"IF(AK225=\"\",\"\", INDEX(referentes!$V$2:$W$10,MATCH(DATOS_MAP!AK225,referentes!$W$2:$W$10,0),1))","v":""},{"$f":"IF(AL225=\"\",\"\", INDEX(referentes!$AB:$AC,MATCH(DATOS_MAP!AL225,referentes!$AC:$AC,0),1))","v":""},{"$f":"IF(AP225=\"\",\"\", INDEX(referentes!$Y$2:$Z$10,MATCH(DATOS_MAP!AP225,referentes!$Z$2:$Z$10,0),1))","v":""},{"$f":"IF(AN225=\"\",\"\", INDEX(referentes!$AE$2:$AF$10,MATCH(DATOS_MAP!AN225,referentes!$AF$2:$AF$10,0),1))","v":""},{"$f":"IF(AQ225=\"\",\"\", INDEX(referentes!J:K,MATCH(DATOS_MAP!AQ225,referentes!$K:$K,0),1))","v":""},null,{"$f":"IF(AY225=\"\",\"\", INDEX('otras referencias'!O:P,MATCH(AY225,'otras referencias'!$O:$O,0),2))","v":""},null,null,null,null,null,{"$f":"IF(X225<>\"\",INDEX(referentes!$AH:$AL,MATCH(DATOS_MAP!X225,referentes!$AI:$AI,0),5),\"\")","v":""}]
[null,null,null,"",{"$f":"IF(J226=\"\",\"\",CONCATENATE(AD226,DIGITADOR!$B$2,DIGITADOR!$M$1,J226))","v":""},{"$f":"IF(J226=\"\",\"\",CONCATENATE(DIGITADOR!$B$2,AD226,DIGITADOR!$M$1,J226,ROW()))","v":""},null,null,null,{"$f":"IF(X226=\"\",\"\", INDEX(referentes!$AH:$AL,MATCH(DATOS_MAP!X226,referentes!$AI:$AI,0),1))","v":""},"",{"$f":"IF(AF226=\"\",\"\", INDEX(referentes!D:E,MATCH(DATOS_MAP!AF226,referentes!$E:$E,0),1))","v":""},{"$f":"IF(AI226=\"\",\"\", INDEX(referentes!A:B,MATCH(DATOS_MAP!AI226,referentes!$B:$B,0),1))","v":""},{"$f":"IF(AJ226=\"\",\"\", INDEX(referentes!G:H,MATCH(DATOS_MAP!AJ226,referentes!$H:$H,0),1))","v":""},{"$f":"IF(AK226=\"\",\"\", INDEX(referentes!$V$2:$W$10,MATCH(DATOS_MAP!AK226,referentes!$W$2:$W$10,0),1))","v":""},{"$f":"IF(AL226=\"\",\"\", INDEX(referentes!$AB:$AC,MATCH(DATOS_MAP!AL226,referentes!$AC:$AC,0),1))","v":""},{"$f":"IF(AP226=\"\",\"\", INDEX(referentes!$Y$2:$Z$10,MATCH(DATOS_MAP!AP226,referentes!$Z$2:$Z$10,0),1))","v":""},{"$f":"IF(AN226=\"\",\"\", INDEX(referentes!$AE$2:$AF$10,MATCH(DATOS_MAP!AN226,referentes!$AF$2:$AF$10,0),1))","v":""},{"$f":"IF(AQ226=\"\",\"\", INDEX(referentes!J:K,MATCH(DATOS_MAP!AQ226,referentes!$K:$K,0),1))","v":""},null,{"$f":"IF(AY226=\"\",\"\", INDEX('otras referencias'!O:P,MATCH(AY226,'otras referencias'!$O:$O,0),2))","v":""},null,null,null,null,null,{"$f":"IF(X226<>\"\",INDEX(referentes!$AH:$AL,MATCH(DATOS_MAP!X226,referentes!$AI:$AI,0),5),\"\")","v":""}]
[null,null,null,"",{"$f":"IF(J227=\"\",\"\",CONCATENATE(AD227,DIGITADOR!$B$2,DIGITADOR!$M$1,J227))","v":""},{"$f":"IF(J227=\"\",\"\",CONCATENATE(DIGITADOR!$B$2,AD227,DIGITADOR!$M$1,J227,ROW()))","v":""},null,null,null,{"$f":"IF(X227=\"\",\"\", INDEX(referentes!$AH:$AL,MATCH(DATOS_MAP!X227,referentes!$AI:$AI,0),1))","v":""},"",{"$f":"IF(AF227=\"\",\"\", INDEX(referentes!D:E,MATCH(DATOS_MAP!AF227,referentes!$E:$E,0),1))","v":""},{"$f":"IF(AI227=\"\",\"\", INDEX(referentes!A:B,MATCH(DATOS_MAP!AI227,referentes!$B:$B,0),1))","v":""},{"$f":"IF(AJ227=\"\",\"\", INDEX(referentes!G:H,MATCH(DATOS_MAP!AJ227,referentes!$H:$H,0),1))","v":""},{"$f":"IF(AK227=\"\",\"\", INDEX(referentes!$V$2:$W$10,MATCH(DATOS_MAP!AK227,referentes!$W$2:$W$10,0),1))","v":""},{"$f":"IF(AL227=\"\",\"\", INDEX(referentes!$AB:$AC,MATCH(DATOS_MAP!AL227,referentes!$AC:$AC,0),1))","v":""},{"$f":"IF(AP227=\"\",\"\", INDEX(referentes!$Y$2:$Z$10,MATCH(DATOS_MAP!AP227,referentes!$Z$2:$Z$10,0),1))","v":""},{"$f":"IF(AN227=\"\",\"\", INDEX(referentes!$AE$2:$AF$10,MATCH(DATOS_MAP!AN227,referentes!$AF$2:$AF$10,0),1))","v":""},{"$f":"IF(AQ227=\"\",\"\", INDEX(referentes!J:K,MATCH(DATOS_MAP!AQ227,referentes!$K:$K,0),1))","v":""},null,{"$f":"IF(AY227=\"\",\"\", INDEX('otras referencias'!O:P,MATCH(AY227,'otras referencias'!$O:$O,0),2))","v":""},null,null,null,null,null,{"$f":"IF(X227<>\"\",INDEX(referentes!$AH:$AL,MATCH(DATOS_MAP!X227,referentes!$AI:$AI,0),5),\"\")","v":""}]
[null,null,null,"",{"$f":"IF(J228=\"\",\"\",CONCATENATE(AD228,DIGITADOR!$B$2,DIGITADOR!$M$1,J228))","v":""},{"$f":"IF(J228=\"\",\"\",CONCATENATE(DIGITADOR!$B$2,AD228,DIGITADOR!$M$1,J228,ROW()))","v":""},null,null,null,{"$f":"IF(X228=\"\",\"\", INDEX(referentes!$AH:$AL,MATCH(DATOS_MAP!X228,referentes!$AI:$AI,0),1))","v":""},"",{"$f":"IF(AF228=\"\",\"\", INDEX(referentes!D:E,MATCH(DATOS_MAP!AF228,referentes!$E:$E,0),1))","v":""},{"$f":"IF(AI228=\"\",\"\", INDEX(referentes!A:B,MATCH(DATOS_MAP!AI228,referentes!$B:$B,0),1))","v":""},{"$f":"IF(AJ228=\"\",\"\", INDEX(referentes!G:H,MATCH(DATOS_MAP!AJ228,referentes!$H:$H,0),1))","v":""},{"$f":"IF(AK228=\"\",\"\", INDEX(referentes!$V$2:$W$10,MATCH(DATOS_MAP!AK228,referentes!$W$2:$W$10,0),1))","v":""},{"$f":"IF(AL228=\"\",\"\", INDEX(referentes!$AB:$AC,MATCH(DATOS_MAP!AL228,referentes!$AC:$AC,0),1))","v":""},{"$f":"IF(AP228=\"\",\"\", INDEX(referentes!$Y$2:$Z$10,MATCH(DATOS_MAP!AP228,referentes!$Z$2:$Z$10,0),1))","v":""},{"$f":"IF(AN228=\"\",\"\", INDEX(referentes!$AE$2:$AF$10,MATCH(DATOS_MAP!AN228,referentes!$AF$2:$AF$10,0),1))","v":""},{"$f":"IF(AQ228=\"\",\"\", INDEX(referentes!J:K,MATCH(DATOS_MAP!AQ228,referentes!$K:$K,0),1))","v":""},null,{"$f":"IF(AY228=\"\",\"\", INDEX('otras referencias'!O:P,MATCH(AY228,'otras referencias'!$O:$O,0),2))","v":""},null,null,null,null,null,{"$f":"IF(X228<>\"\",INDEX(referentes!$AH:$AL,MATCH(DATOS_MAP!X228,referentes!$AI:$AI,0),5),\"\")","v":""}]
[null,null,null,"",{"$f":"IF(J229=\"\",\"\",CONCATENATE(AD229,DIGITADOR!$B$2,DIGITADOR!$M$1,J229))","v":""},{"$f":"IF(J229=\"\",\"\",CONCATENATE(DIGITADOR!$B$2,AD229,DIGITADOR!$M$1,J229,ROW()))","v":""},null,null,null,{"$f":"IF(X229=\"\",\"\", INDEX(referentes!$AH:$AL,MATCH(DATOS_MAP!X229,referentes!$AI:$AI,0),1))","v":""},"",{"$f":"IF(AF229=\"\",\"\", INDEX(referentes!D:E,MATCH(DATOS_MAP!AF229,referentes!$E:$E,0),1))","v":""},{"$f":"IF(AI229=\"\",\"\", INDEX(referentes!A:B,MATCH(DATOS_MAP!AI229,referentes!$B:$B,0),1))","v":""},{"$f":"IF(AJ229=\"\",\"\", INDEX(referentes!G:H,MATCH(DATOS_MAP!AJ229,referentes!$H:$H,0),1))","v":""},{"$f":"IF(AK229=\"\",\"\", INDEX(referentes!$V$2:$W$10,MATCH(DATOS_MAP!AK229,referentes!$W$2:$W$10,0),1))","v":""},{"$f":"IF(AL229=\"\",\"\", INDEX(referentes!$AB:$AC,MATCH(DATOS_MAP!AL229,referentes!$AC:$AC,0),1))","v":""},{"$f":"IF(AP229=\"\",\"\", INDEX(referentes!$Y$2:$Z$10,MATCH(DATOS_MAP!AP229,referentes!$Z$2:$Z$10,0),1))","v":""},{"$f":"IF(AN229=\"\",\"\", INDEX(referentes!$AE$2:$AF$10,MATCH(DATOS_MAP!AN229,referentes!$AF$2:$AF$10,0),1))","v":""},{"$f":"IF(AQ229=\"\",\"\", INDEX(referentes!J:K,MATCH(DATOS_MAP!AQ229,referentes!$K:$K,0),1))","v":""},null,{"$f":"IF(AY229=\"\",\"\", INDEX('otras referencias'!O:P,MATCH(AY229,'otras referencias'!$O:$O,0),2))","v":""},null,null,null,null,null,{"$f":"IF(X229<>\"\",INDEX(referentes!$AH:$AL,MATCH(DATOS_MAP!X229,referentes!$AI:$AI,0),5),\"\")","v":""}]
[null,null,null,"",{"$f":"IF(J230=\"\",\"\",CONCATENATE(AD230,DIGITADOR!$B$2,DIGITADOR!$M$1,J230))","v":""},{"$f":"IF(J230=\"\",\"\",CONCATENATE(DIGITADOR!$B$2,AD230,DIGITADOR!$M$1,J230,ROW()))","v":""},null,null,null,{"$f":"IF(X230=\"\",\"\", INDEX(referentes!$AH:$AL,MATCH(DATOS_MAP!X230,referentes!$AI:$AI,0),1))","v":""},"",{"$f":"IF(AF230=\"\",\"\", INDEX(referentes!D:E,MATCH(DATOS_MAP!AF230,referentes!$E:$E,0),1))","v":""},{"$f":"IF(AI230=\"\",\"\", INDEX(referentes!A:B,MATCH(DATOS_MAP!AI230,referentes!$B:$B,0),1))","v":""},{"$f":"IF(AJ230=\"\",\"\", INDEX(referentes!G:H,MATCH(DATOS_MAP!AJ230,referentes!$H:$H,0),1))","v":""},{"$f":"IF(AK230=\"\",\"\", INDEX(referentes!$V$2:$W$10,MATCH(DATOS_MAP!AK230,referentes!$W$2:$W$10,0),1))","v":""},{"$f":"IF(AL230=\"\",\"\", INDEX(referentes!$AB:$AC,MATCH(DATOS_MAP!AL230,referentes!$AC:$AC,0),1))","v":""},{"$f":"IF(AP230=\"\",\"\", INDEX(referentes!$Y$2:$Z$10,MATCH(DATOS_MAP!AP230,referentes!$Z$2:$Z$10,0),1))","v":""},{"$f":"IF(AN230=\"\",\"\", INDEX(referentes!$AE$2:$AF$10,MATCH(DATOS_MAP!AN230,referentes!$AF$2:$AF$10,0),1))","v":""},{"$f":"IF(AQ230=\"\",\"\", INDEX(referentes!J:K,MATCH(DATOS_MAP!AQ230,referentes!$K:$K,0),1))","v":""},null,{"$f":"IF(AY230=\"\",\"\", INDEX('otras referencias'!O:P,MATCH(AY230,'otras referencias'!$O:$O,0),2))","v":""},null,null,null,null,null,{"$f":"IF(X230<>\"\",INDEX(referentes!$AH:$AL,MATCH(DATOS_MAP!X230,referentes!$AI:$AI,0),5),\"\")","v":""}]
[null,null,null,"",{"$f":"IF(J231=\"\",\"\",CONCATENATE(AD231,DIGITADOR!$B$2,DIGITADOR!$M$1,J231))","v":""},{"$f":"IF(J231=\"\",\"\",CONCATENATE(DIGITADOR!$B$2,AD231,DIGITADOR!$M$1,J231,ROW()))","v":""},null,null,null,{"$f":"IF(X231=\"\",\"\", INDEX(referentes!$AH:$AL,MATCH(DATOS_MAP!X231,referentes!$AI:$AI,0),1))","v":""},"",{"$f":"IF(AF231=\"\",\"\", INDEX(referentes!D:E,MATCH(DATOS_MAP!AF231,referentes!$E:$E,0),1))","v":""},{"$f":"IF(AI231=\"\",\"\", INDEX(referentes!A:B,MATCH(DATOS_MAP!AI231,referentes!$B:$B,0),1))","v":""},{"$f":"IF(AJ231=\"\",\"\", INDEX(referentes!G:H,MATCH(DATOS_MAP!AJ231,referentes!$H:$H,0),1))","v":""},{"$f":"IF(AK231=\"\",\"\", INDEX(referentes!$V$2:$W$10,MATCH(DATOS_MAP!AK231,referentes!$W$2:$W$10,0),1))","v":""},{"$f":"IF(AL231=\"\",\"\", INDEX(referentes!$AB:$AC,MATCH(DATOS_MAP!AL231,referentes!$AC:$AC,0),1))","v":""},{"$f":"IF(AP231=\"\",\"\", INDEX(referentes!$Y$2:$Z$10,MATCH(DATOS_MAP!AP231,referentes!$Z$2:$Z$10,0),1))","v":""},{"$f":"IF(AN231=\"\",\"\", INDEX(referentes!$AE$2:$AF$10,MATCH(DATOS_MAP!AN231,referentes!$AF$2:$AF$10,0),1))","v":""},{"$f":"IF(AQ231=\"\",\"\", INDEX(referentes!J:K,MATCH(DATOS_MAP!AQ231,referentes!$K:$K,0),1))","v":""},null,{"$f":"IF(AY231=\"\",\"\", INDEX('otras referencias'!O:P,MATCH(AY231,'otras referencias'!$O:$O,0),2))","v":""},null,null,null,null,null,{"$f":"IF(X231<>\"\",INDEX(referentes!$AH:$AL,MATCH(DATOS_MAP!X231,referentes!$AI:$AI,0),5),\"\")","v":""}]
[null,null,null,"",{"$f":"IF(J232=\"\",\"\",CONCATENATE(AD232,DIGITADOR!$B$2,DIGITADOR!$M$1,J232))","v":""},{"$f":"IF(J232=\"\",\"\",CONCATENATE(DIGITADOR!$B$2,AD232,DIGITADOR!$M$1,J232,ROW()))","v":""},null,null,null,{"$f":"IF(X232=\"\",\"\", INDEX(referentes!$AH:$AL,MATCH(DATOS_MAP!X232,referentes!$AI:$AI,0),1))","v":""},"",{"$f":"IF(AF232=\"\",\"\", INDEX(referentes!D:E,MATCH(DATOS_MAP!AF232,referentes!$E:$E,0),1))","v":""},{"$f":"IF(AI232=\"\",\"\", INDEX(referentes!A:B,MATCH(DATOS_MAP!AI232,referentes!$B:$B,0),1))","v":""},{"$f":"IF(AJ232=\"\",\"\", INDEX(referentes!G:H,MATCH(DATOS_MAP!AJ232,referentes!$H:$H,0),1))","v":""},{"$f":"IF(AK232=\"\",\"\", INDEX(referentes!$V$2:$W$10,MATCH(DATOS_MAP!AK232,referentes!$W$2:$W$10,0),1))","v":""},{"$f":"IF(AL232=\"\",\"\", INDEX(referentes!$AB:$AC,MATCH(DATOS_MAP!AL232,referentes!$AC:$AC,0),1))","v":""},{"$f":"IF(AP232=\"\",\"\", INDEX(referentes!$Y$2:$Z$10,MATCH(DATOS_MAP!AP232,referentes!$Z$2:$Z$10,0),1))","v":""},{"$f":"IF(AN232=\"\",\"\", INDEX(referentes!$AE$2:$AF$10,MATCH(DATOS_MAP!AN232,referentes!$AF$2:$AF$10,0),1))","v":""},{"$f":"IF(AQ232=\"\",\"\", INDEX(referentes!J:K,MATCH(DATOS_MAP!AQ232,referentes!$K:$K,0),1))","v":""},null,{"$f":"IF(AY232=\"\",\"\", INDEX('otras referencias'!O:P,MATCH(AY232,'otras referencias'!$O:$O,0),2))","v":""},null,null,null,null,null,{"$f":"IF(X232<>\"\",INDEX(referentes!$AH:$AL,MATCH(DATOS_MAP!X232,referentes!$AI:$AI,0),5),\"\")","v":""}]
[null,null,null,"",{"$f":"IF(J233=\"\",\"\",CONCATENATE(AD233,DIGITADOR!$B$2,DIGITADOR!$M$1,J233))","v":""},{"$f":"IF(J233=\"\",\"\",CONCATENATE(DIGITADOR!$B$2,AD233,DIGITADOR!$M$1,J233,ROW()))","v":""},null,null,null,{"$f":"IF(X233=\"\",\"\", INDEX(referentes!$AH:$AL,MATCH(DATOS_MAP!X233,referentes!$AI:$AI,0),1))","v":""},"",{"$f":"IF(AF233=\"\",\"\", INDEX(referentes!D:E,MATCH(DATOS_MAP!AF233,referentes!$E:$E,0),1))","v":""},{"$f":"IF(AI233=\"\",\"\", INDEX(referentes!A:B,MATCH(DATOS_MAP!AI233,referentes!$B:$B,0),1))","v":""},{"$f":"IF(AJ233=\"\",\"\", INDEX(referentes!G:H,MATCH(DATOS_MAP!AJ233,referentes!$H:$H,0),1))","v":""},{"$f":"IF(AK233=\"\",\"\", INDEX(referentes!$V$2:$W$10,MATCH(DATOS_MAP!AK233,referentes!$W$2:$W$10,0),1))","v":""},{"$f":"IF(AL233=\"\",\"\", INDEX(referentes!$AB:$AC,MATCH(DATOS_MAP!AL233,referentes!$AC:$AC,0),1))","v":""},{"$f":"IF(AP233=\"\",\"\", INDEX(referentes!$Y$2:$Z$10,MATCH(DATOS_MAP!AP233,referentes!$Z$2:$Z$10,0),1))","v":""},{"$f":"IF(AN233=\"\",\"\", INDEX(referentes!$AE$2:$AF$10,MATCH(DATOS_MAP!AN233,referentes!$AF$2:$AF$10,0),1))","v":""},{"$f":"IF(AQ233=\"\",\"\", INDEX(referentes!J:K,MATCH(DATOS_MAP!AQ233,referentes!$K:$K,0),1))","v":""},null,{"$f":"IF(AY233=\"\",\"\", INDEX('otras referencias'!O:P,MATCH(AY233,'otras referencias'!$O:$O,0),2))","v":""},null,null,null,null,null,{"$f":"IF(X233<>\"\",INDEX(referentes!$AH:$AL,MATCH(DATOS_MAP!X233,referentes!$AI:$AI,0),5),\"\")","v":""}]
[null,null,null,"",{"$f":"IF(J234=\"\",\"\",CONCATENATE(AD234,DIGITADOR!$B$2,DIGITADOR!$M$1,J234))","v":""},{"$f":"IF(J234=\"\",\"\",CONCATENATE(DIGITADOR!$B$2,AD234,DIGITADOR!$M$1,J234,ROW()))","v":""},null,null,null,{"$f":"IF(X234=\"\",\"\", INDEX(referentes!$AH:$AL,MATCH(DATOS_MAP!X234,referentes!$AI:$AI,0),1))","v":""},"",{"$f":"IF(AF234=\"\",\"\", INDEX(referentes!D:E,MATCH(DATOS_MAP!AF234,referentes!$E:$E,0),1))","v":""},{"$f":"IF(AI234=\"\",\"\", INDEX(referentes!A:B,MATCH(DATOS_MAP!AI234,referentes!$B:$B,0),1))","v":""},{"$f":"IF(AJ234=\"\",\"\", INDEX(referentes!G:H,MATCH(DATOS_MAP!AJ234,referentes!$H:$H,0),1))","v":""},{"$f":"IF(AK234=\"\",\"\", INDEX(referentes!$V$2:$W$10,MATCH(DATOS_MAP!AK234,referentes!$W$2:$W$10,0),1))","v":""},{"$f":"IF(AL234=\"\",\"\", INDEX(referentes!$AB:$AC,MATCH(DATOS_MAP!AL234,referentes!$AC:$AC,0),1))","v":""},{"$f":"IF(AP234=\"\",\"\", INDEX(referentes!$Y$2:$Z$10,MATCH(DATOS_MAP!AP234,referentes!$Z$2:$Z$10,0),1))","v":""},{"$f":"IF(AN234=\"\",\"\", INDEX(referentes!$AE$2:$AF$10,MATCH(DATOS_MAP!AN234,referentes!$AF$2:$AF$10,0),1))","v":""},{"$f":"IF(AQ234=\"\",\"\", INDEX(referentes!J:K,MATCH(DATOS_MAP!AQ234,referentes!$K:$K,0),1))","v":""},null,{"$f":"IF(AY234=\"\",\"\", INDEX('otras referencias'!O:P,MATCH(AY234,'otras referencias'!$O:$O,0),2))","v":""},null,null,null,null,null,{"$f":"IF(X234<>\"\",INDEX(referentes!$AH:$AL,MATCH(DATOS_MAP!X234,referentes!$AI:$AI,0),5),\"\")","v":""}]
[null,null,null,"",{"$f":"IF(J235=\"\",\"\",CONCATENATE(AD235,DIGITADOR!$B$2,DIGITADOR!$M$1,J235))","v":""},{"$f":"IF(J235=\"\",\"\",CONCATENATE(DIGITADOR!$B$2,AD235,DIGITADOR!$M$1,J235,ROW()))","v":""},null,null,null,{"$f":"IF(X235=\"\",\"\", INDEX(referentes!$AH:$AL,MATCH(DATOS_MAP!X235,referentes!$AI:$AI,0),1))","v":""},"",{"$f":"IF(AF235=\"\",\"\", INDEX(referentes!D:E,MATCH(DATOS_MAP!AF235,referentes!$E:$E,0),1))","v":""},{"$f":"IF(AI235=\"\",\"\", INDEX(referentes!A:B,MATCH(DATOS_MAP!AI235,referentes!$B:$B,0),1))","v":""},{"$f":"IF(AJ235=\"\",\"\", INDEX(referentes!G:H,MATCH(DATOS_MAP!AJ235,referentes!$H:$H,0),1))","v":""},{"$f":"IF(AK235=\"\",\"\", INDEX(referentes!$V$2:$W$10,MATCH(DATOS_MAP!AK235,referentes!$W$2:$W$10,0),1))","v":""},{"$f":"IF(AL235=\"\",\"\", INDEX(referentes!$AB:$AC,MATCH(DATOS_MAP!AL235,referentes!$AC:$AC,0),1))","v":""},{"$f":"IF(AP235=\"\",\"\", INDEX(referentes!$Y$2:$Z$10,MATCH(DATOS_MAP!AP235,referentes!$Z$2:$Z$10,0),1))","v":""},{"$f":"IF(AN235=\"\",\"\", INDEX(referentes!$AE$2:$AF$10,MATCH(DATOS_MAP!AN235,referentes!$AF$2:$AF$10,0),1))","v":""},{"$f":"IF(AQ235=\"\",\"\", INDEX(referentes!J:K,MATCH(DATOS_MAP!AQ235,referentes!$K:$K,0),1))","v":""},null,{"$f":"IF(AY235=\"\",\"\", INDEX('otras referencias'!O:P,MATCH(AY235,'otras referencias'!$O:$O,0),2))","v":""},null,null,null,null,null,{"$f":"IF(X235<>\"\",INDEX(referentes!$AH:$AL,MATCH(DATOS_MAP!X235,referentes!$AI:$AI,0),5),\"\")","v":""}]
[null,null,null,"",{"$f":"IF(J236=\"\",\"\",CONCATENATE(AD236,DIGITADOR!$B$2,DIGITADOR!$M$1,J236))","v":""},{"$f":"IF(J236=\"\",\"\",CONCATENATE(DIGITADOR!$B$2,AD236,DIGITADOR!$M$1,J236,ROW()))","v":""},null,null,null,{"$f":"IF(X236=\"\",\"\", INDEX(referentes!$AH:$AL,MATCH(DATOS_MAP!X236,referentes!$AI:$AI,0),1))","v":""},"",{"$f":"IF(AF236=\"\",\"\", INDEX(referentes!D:E,MATCH(DATOS_MAP!AF236,referentes!$E:$E,0),1))","v":""},{"$f":"IF(AI236=\"\",\"\", INDEX(referentes!A:B,MATCH(DATOS_MAP!AI236,referentes!$B:$B,0),1))","v":""},{"$f":"IF(AJ236=\"\",\"\", INDEX(referentes!G:H,MATCH(DATOS_MAP!AJ236,referentes!$H:$H,0),1))","v":""},{"$f":"IF(AK236=\"\",\"\", INDEX(referentes!$V$2:$W$10,MATCH(DATOS_MAP!AK236,referentes!$W$2:$W$10,0),1))","v":""},{"$f":"IF(AL236=\"\",\"\", INDEX(referentes!$AB:$AC,MATCH(DATOS_MAP!AL236,referentes!$AC:$AC,0),1))","v":""},{"$f":"IF(AP236=\"\",\"\", INDEX(referentes!$Y$2:$Z$10,MATCH(DATOS_MAP!AP236,referentes!$Z$2:$Z$10,0),1))","v":""},{"$f":"IF(AN236=\"\",\"\", INDEX(referentes!$AE$2:$AF$10,MATCH(DATOS_MAP!AN236,referentes!$AF$2:$AF$10,0),1))","v":""},{"$f":"IF(AQ236=\"\",\"\", INDEX(referentes!J:K,MATCH(DATOS_MAP!AQ236,referentes!$K:$K,0),1))","v":""},null,{"$f":"IF(AY236=\"\",\"\", INDEX('otras referencias'!O:P,MATCH(AY236,'otras referencias'!$O:$O,0),2))","v":""},null,null,null,null,null,{"$f":"IF(X236<>\"\",INDEX(referentes!$AH:$AL,MATCH(DATOS_MAP!X236,referentes!$AI:$AI,0),5),\"\")","v":""}]
[null,null,null,"",{"$f":"IF(J237=\"\",\"\",CONCATENATE(AD237,DIGITADOR!$B$2,DIGITADOR!$M$1,J237))","v":""},{"$f":"IF(J237=\"\",\"\",CONCATENATE(DIGITADOR!$B$2,AD237,DIGITADOR!$M$1,J237,ROW()))","v":""},null,null,null,{"$f":"IF(X237=\"\",\"\", INDEX(referentes!$AH:$AL,MATCH(DATOS_MAP!X237,referentes!$AI:$AI,0),1))","v":""},"",{"$f":"IF(AF237=\"\",\"\", INDEX(referentes!D:E,MATCH(DATOS_MAP!AF237,referentes!$E:$E,0),1))","v":""},{"$f":"IF(AI237=\"\",\"\", INDEX(referentes!A:B,MATCH(DATOS_MAP!AI237,referentes!$B:$B,0),1))","v":""},{"$f":"IF(AJ237=\"\",\"\", INDEX(referentes!G:H,MATCH(DATOS_MAP!AJ237,referentes!$H:$H,0),1))","v":""},{"$f":"IF(AK237=\"\",\"\", INDEX(referentes!$V$2:$W$10,MATCH(DATOS_MAP!AK237,referentes!$W$2:$W$10,0),1))","v":""},{"$f":"IF(AL237=\"\",\"\", INDEX(referentes!$AB:$AC,MATCH(DATOS_MAP!AL237,referentes!$AC:$AC,0),1))","v":""},{"$f":"IF(AP237=\"\",\"\", INDEX(referentes!$Y$2:$Z$10,MATCH(DATOS_MAP!AP237,referentes!$Z$2:$Z$10,0),1))","v":""},{"$f":"IF(AN237=\"\",\"\", INDEX(referentes!$AE$2:$AF$10,MATCH(DATOS_MAP!AN237,referentes!$AF$2:$AF$10,0),1))","v":""},{"$f":"IF(AQ237=\"\",\"\", INDEX(referentes!J:K,MATCH(DATOS_MAP!AQ237,referentes!$K:$K,0),1))","v":""},null,{"$f":"IF(AY237=\"\",\"\", INDEX('otras referencias'!O:P,MATCH(AY237,'otras referencias'!$O:$O,0),2))","v":""},null,null,null,null,null,{"$f":"IF(X237<>\"\",INDEX(referentes!$AH:$AL,MATCH(DATOS_MAP!X237,referentes!$AI:$AI,0),5),\"\")","v":""}]
[null,null,null,"",{"$f":"IF(J238=\"\",\"\",CONCATENATE(AD238,DIGITADOR!$B$2,DIGITADOR!$M$1,J238))","v":""},{"$f":"IF(J238=\"\",\"\",CONCATENATE(DIGITADOR!$B$2,AD238,DIGITADOR!$M$1,J238,ROW()))","v":""},null,null,null,{"$f":"IF(X238=\"\",\"\", INDEX(referentes!$AH:$AL,MATCH(DATOS_MAP!X238,referentes!$AI:$AI,0),1))","v":""},"",{"$f":"IF(AF238=\"\",\"\", INDEX(referentes!D:E,MATCH(DATOS_MAP!AF238,referentes!$E:$E,0),1))","v":""},{"$f":"IF(AI238=\"\",\"\", INDEX(referentes!A:B,MATCH(DATOS_MAP!AI238,referentes!$B:$B,0),1))","v":""},{"$f":"IF(AJ238=\"\",\"\", INDEX(referentes!G:H,MATCH(DATOS_MAP!AJ238,referentes!$H:$H,0),1))","v":""},{"$f":"IF(AK238=\"\",\"\", INDEX(referentes!$V$2:$W$10,MATCH(DATOS_MAP!AK238,referentes!$W$2:$W$10,0),1))","v":""},{"$f":"IF(AL238=\"\",\"\", INDEX(referentes!$AB:$AC,MATCH(DATOS_MAP!AL238,referentes!$AC:$AC,0),1))","v":""},{"$f":"IF(AP238=\"\",\"\", INDEX(referentes!$Y$2:$Z$10,MATCH(DATOS_MAP!AP238,referentes!$Z$2:$Z$10,0),1))","v":""},{"$f":"IF(AN238=\"\",\"\", INDEX(referentes!$AE$2:$AF$10,MATCH(DATOS_MAP!AN238,referentes!$AF$2:$AF$10,0),1))","v":""},{"$f":"IF(AQ238=\"\",\"\", INDEX(referentes!J:K,MATCH(DATOS_MAP!AQ238,referentes!$K:$K,0),1))","v":""},null,{"$f":"IF(AY238=\"\",\"\", INDEX('otras referencias'!O:P,MATCH(AY238,'otras referencias'!$O:$O,0),2))","v":""},null,null,null,null,null,{"$f":"IF(X238<>\"\",INDEX(referentes!$AH:$AL,MATCH(DATOS_MAP!X238,referentes!$AI:$AI,0),5),\"\")","v":""}]
[null,null,null,"",{"$f":"IF(J239=\"\",\"\",CONCATENATE(AD239,DIGITADOR!$B$2,DIGITADOR!$M$1,J239))","v":""},{"$f":"IF(J239=\"\",\"\",CONCATENATE(DIGITADOR!$B$2,AD239,DIGITADOR!$M$1,J239,ROW()))","v":""},null,null,null,{"$f":"IF(X239=\"\",\"\", INDEX(referentes!$AH:$AL,MATCH(DATOS_MAP!X239,referentes!$AI:$AI,0),1))","v":""},"",{"$f":"IF(AF239=\"\",\"\", INDEX(referentes!D:E,MATCH(DATOS_MAP!AF239,referentes!$E:$E,0),1))","v":""},{"$f":"IF(AI239=\"\",\"\", INDEX(referentes!A:B,MATCH(DATOS_MAP!AI239,referentes!$B:$B,0),1))","v":""},{"$f":"IF(AJ239=\"\",\"\", INDEX(referentes!G:H,MATCH(DATOS_MAP!AJ239,referentes!$H:$H,0),1))","v":""},{"$f":"IF(AK239=\"\",\"\", INDEX(referentes!$V$2:$W$10,MATCH(DATOS_MAP!AK239,referentes!$W$2:$W$10,0),1))","v":""},{"$f":"IF(AL239=\"\",\"\", INDEX(referentes!$AB:$AC,MATCH(DATOS_MAP!AL239,referentes!$AC:$AC,0),1))","v":""},{"$f":"IF(AP239=\"\",\"\", INDEX(referentes!$Y$2:$Z$10,MATCH(DATOS_MAP!AP239,referentes!$Z$2:$Z$10,0),1))","v":""},{"$f":"IF(AN239=\"\",\"\", INDEX(referentes!$AE$2:$AF$10,MATCH(DATOS_MAP!AN239,referentes!$AF$2:$AF$10,0),1))","v":""},{"$f":"IF(AQ239=\"\",\"\", INDEX(referentes!J:K,MATCH(DATOS_MAP!AQ239,referentes!$K:$K,0),1))","v":""},null,{"$f":"IF(AY239=\"\",\"\", INDEX('otras referencias'!O:P,MATCH(AY239,'otras referencias'!$O:$O,0),2))","v":""},null,null,null,null,null,{"$f":"IF(X239<>\"\",INDEX(referentes!$AH:$AL,MATCH(DATOS_MAP!X239,referentes!$AI:$AI,0),5),\"\")","v":""}]
[null,null,null,"",{"$f":"IF(J240=\"\",\"\",CONCATENATE(AD240,DIGITADOR!$B$2,DIGITADOR!$M$1,J240))","v":""},{"$f":"IF(J240=\"\",\"\",CONCATENATE(DIGITADOR!$B$2,AD240,DIGITADOR!$M$1,J240,ROW()))","v":""},null,null,null,{"$f":"IF(X240=\"\",\"\", INDEX(referentes!$AH:$AL,MATCH(DATOS_MAP!X240,referentes!$AI:$AI,0),1))","v":""},"",{"$f":"IF(AF240=\"\",\"\", INDEX(referentes!D:E,MATCH(DATOS_MAP!AF240,referentes!$E:$E,0),1))","v":""},{"$f":"IF(AI240=\"\",\"\", INDEX(referentes!A:B,MATCH(DATOS_MAP!AI240,referentes!$B:$B,0),1))","v":""},{"$f":"IF(AJ240=\"\",\"\", INDEX(referentes!G:H,MATCH(DATOS_MAP!AJ240,referentes!$H:$H,0),1))","v":""},{"$f":"IF(AK240=\"\",\"\", INDEX(referentes!$V$2:$W$10,MATCH(DATOS_MAP!AK240,referentes!$W$2:$W$10,0),1))","v":""},{"$f":"IF(AL240=\"\",\"\", INDEX(referentes!$AB:$AC,MATCH(DATOS_MAP!AL240,referentes!$AC:$AC,0),1))","v":""},{"$f":"IF(AP240=\"\",\"\", INDEX(referentes!$Y$2:$Z$10,MATCH(DATOS_MAP!AP240,referentes!$Z$2:$Z$10,0),1))","v":""},{"$f":"IF(AN240=\"\",\"\", INDEX(referentes!$AE$2:$AF$10,MATCH(DATOS_MAP!AN240,referentes!$AF$2:$AF$10,0),1))","v":""},{"$f":"IF(AQ240=\"\",\"\", INDEX(referentes!J:K,MATCH(DATOS_MAP!AQ240,referentes!$K:$K,0),1))","v":""},null,{"$f":"IF(AY240=\"\",\"\", INDEX('otras referencias'!O:P,MATCH(AY240,'otras referencias'!$O:$O,0),2))","v":""},null,null,null,null,null,{"$f":"IF(X240<>\"\",INDEX(referentes!$AH:$AL,MATCH(DATOS_MAP!X240,referentes!$AI:$AI,0),5),\"\")","v":""}]
[null,null,null,"",{"$f":"IF(J241=\"\",\"\",CONCATENATE(AD241,DIGITADOR!$B$2,DIGITADOR!$M$1,J241))","v":""},{"$f":"IF(J241=\"\",\"\",CONCATENATE(DIGITADOR!$B$2,AD241,DIGITADOR!$M$1,J241,ROW()))","v":""},null,null,null,{"$f":"IF(X241=\"\",\"\", INDEX(referentes!$AH:$AL,MATCH(DATOS_MAP!X241,referentes!$AI:$AI,0),1))","v":""},"",{"$f":"IF(AF241=\"\",\"\", INDEX(referentes!D:E,MATCH(DATOS_MAP!AF241,referentes!$E:$E,0),1))","v":""},{"$f":"IF(AI241=\"\",\"\", INDEX(referentes!A:B,MATCH(DATOS_MAP!AI241,referentes!$B:$B,0),1))","v":""},{"$f":"IF(AJ241=\"\",\"\", INDEX(referentes!G:H,MATCH(DATOS_MAP!AJ241,referentes!$H:$H,0),1))","v":""},{"$f":"IF(AK241=\"\",\"\", INDEX(referentes!$V$2:$W$10,MATCH(DATOS_MAP!AK241,referentes!$W$2:$W$10,0),1))","v":""},{"$f":"IF(AL241=\"\",\"\", INDEX(referentes!$AB:$AC,MATCH(DATOS_MAP!AL241,referentes!$AC:$AC,0),1))","v":""},{"$f":"IF(AP241=\"\",\"\", INDEX(referentes!$Y$2:$Z$10,MATCH(DATOS_MAP!AP241,referentes!$Z$2:$Z$10,0),1))","v":""},{"$f":"IF(AN241=\"\",\"\", INDEX(referentes!$AE$2:$AF$10,MATCH(DATOS_MAP!AN241,referentes!$AF$2:$AF$10,0),1))","v":""},{"$f":"IF(AQ241=\"\",\"\", INDEX(referentes!J:K,MATCH(DATOS_MAP!AQ241,referentes!$K:$K,0),1))","v":""},null,{"$f":"IF(AY241=\"\",\"\", INDEX('otras referencias'!O:P,MATCH(AY241,'otras referencias'!$O:$O,0),2))","v":""},null,null,null,null,null,{"$f":"IF(X241<>\"\",INDEX(referentes!$AH:$AL,MATCH(DATOS_MAP!X241,referentes!$AI:$AI,0),5),\"\")","v":""}]
[null,null,null,"",{"$f":"IF(J242=\"\",\"\",CONCATENATE(AD242,DIGITADOR!$B$2,DIGITADOR!$M$1,J242))","v":""},{"$f":"IF(J242=\"\",\"\",CONCATENATE(DIGITADOR!$B$2,AD242,DIGITADOR!$M$1,J242,ROW()))","v":""},null,null,null,{"$f":"IF(X242=\"\",\"\", INDEX(referentes!$AH:$AL,MATCH(DATOS_MAP!X242,referentes!$AI:$AI,0),1))","v":""},"",{"$f":"IF(AF242=\"\",\"\", INDEX(referentes!D:E,MATCH(DATOS_MAP!AF242,referentes!$E:$E,0),1))","v":""},{"$f":"IF(AI242=\"\",\"\", INDEX(referentes!A:B,MATCH(DATOS_MAP!AI242,referentes!$B:$B,0),1))","v":""},{"$f":"IF(AJ242=\"\",\"\", INDEX(referentes!G:H,MATCH(DATOS_MAP!AJ242,referentes!$H:$H,0),1))","v":""},{"$f":"IF(AK242=\"\",\"\", INDEX(referentes!$V$2:$W$10,MATCH(DATOS_MAP!AK242,referentes!$W$2:$W$10,0),1))","v":""},{"$f":"IF(AL242=\"\",\"\", INDEX(referentes!$AB:$AC,MATCH(DATOS_MAP!AL242,referentes!$AC:$AC,0),1))","v":""},{"$f":"IF(AP242=\"\",\"\", INDEX(referentes!$Y$2:$Z$10,MATCH(DATOS_MAP!AP242,referentes!$Z$2:$Z$10,0),1))","v":""},{"$f":"IF(AN242=\"\",\"\", INDEX(referentes!$AE$2:$AF$10,MATCH(DATOS_MAP!AN242,referentes!$AF$2:$AF$10,0),1))","v":""},{"$f":"IF(AQ242=\"\",\"\", INDEX(referentes!J:K,MATCH(DATOS_MAP!AQ242,referentes!$K:$K,0),1))","v":""},null,{"$f":"IF(AY242=\"\",\"\", INDEX('otras referencias'!O:P,MATCH(AY242,'otras referencias'!$O:$O,0),2))","v":""},null,null,null,null,null,{"$f":"IF(X242<>\"\",INDEX(referentes!$AH:$AL,MATCH(DATOS_MAP!X242,referentes!$AI:$AI,0),5),\"\")","v":""}]
[null,null,null,"",{"$f":"IF(J243=\"\",\"\",CONCATENATE(AD243,DIGITADOR!$B$2,DIGITADOR!$M$1,J243))","v":""},{"$f":"IF(J243=\"\",\"\",CONCATENATE(DIGITADOR!$B$2,AD243,DIGITADOR!$M$1,J243,ROW()))","v":""},null,null,null,{"$f":"IF(X243=\"\",\"\", INDEX(referentes!$AH:$AL,MATCH(DATOS_MAP!X243,referentes!$AI:$AI,0),1))","v":""},"",{"$f":"IF(AF243=\"\",\"\", INDEX(referentes!D:E,MATCH(DATOS_MAP!AF243,referentes!$E:$E,0),1))","v":""},{"$f":"IF(AI243=\"\",\"\", INDEX(referentes!A:B,MATCH(DATOS_MAP!AI243,referentes!$B:$B,0),1))","v":""},{"$f":"IF(AJ243=\"\",\"\", INDEX(referentes!G:H,MATCH(DATOS_MAP!AJ243,referentes!$H:$H,0),1))","v":""},{"$f":"IF(AK243=\"\",\"\", INDEX(referentes!$V$2:$W$10,MATCH(DATOS_MAP!AK243,referentes!$W$2:$W$10,0),1))","v":""},{"$f":"IF(AL243=\"\",\"\", INDEX(referentes!$AB:$AC,MATCH(DATOS_MAP!AL243,referentes!$AC:$AC,0),1))","v":""},{"$f":"IF(AP243=\"\",\"\", INDEX(referentes!$Y$2:$Z$10,MATCH(DATOS_MAP!AP243,referentes!$Z$2:$Z$10,0),1))","v":""},{"$f":"IF(AN243=\"\",\"\", INDEX(referentes!$AE$2:$AF$10,MATCH(DATOS_MAP!AN243,referentes!$AF$2:$AF$10,0),1))","v":""},{"$f":"IF(AQ243=\"\",\"\", INDEX(referentes!J:K,MATCH(DATOS_MAP!AQ243,referentes!$K:$K,0),1))","v":""},null,{"$f":"IF(AY243=\"\",\"\", INDEX('otras referencias'!O:P,MATCH(AY243,'otras referencias'!$O:$O,0),2))","v":""},null,null,null,null,null,{"$f":"IF(X243<>\"\",INDEX(referentes!$AH:$AL,MATCH(DATOS_MAP!X243,referentes!$AI:$AI,0),5),\"\")","v":""}]
[null,null,null,"",{"$f":"IF(J244=\"\",\"\",CONCATENATE(AD244,DIGITADOR!$B$2,DIGITADOR!$M$1,J244))","v":""},{"$f":"IF(J244=\"\",\"\",CONCATENATE(DIGITADOR!$B$2,AD244,DIGITADOR!$M$1,J244,ROW()))","v":""},null,null,null,{"$f":"IF(X244=\"\",\"\", INDEX(referentes!$AH:$AL,MATCH(DATOS_MAP!X244,referentes!$AI:$AI,0),1))","v":""},"",{"$f":"IF(AF244=\"\",\"\", INDEX(referentes!D:E,MATCH(DATOS_MAP!AF244,referentes!$E:$E,0),1))","v":""},{"$f":"IF(AI244=\"\",\"\", INDEX(referentes!A:B,MATCH(DATOS_MAP!AI244,referentes!$B:$B,0),1))","v":""},{"$f":"IF(AJ244=\"\",\"\", INDEX(referentes!G:H,MATCH(DATOS_MAP!AJ244,referentes!$H:$H,0),1))","v":""},{"$f":"IF(AK244=\"\",\"\", INDEX(referentes!$V$2:$W$10,MATCH(DATOS_MAP!AK244,referentes!$W$2:$W$10,0),1))","v":""},{"$f":"IF(AL244=\"\",\"\", INDEX(referentes!$AB:$AC,MATCH(DATOS_MAP!AL244,referentes!$AC:$AC,0),1))","v":""},{"$f":"IF(AP244=\"\",\"\", INDEX(referentes!$Y$2:$Z$10,MATCH(DATOS_MAP!AP244,referentes!$Z$2:$Z$10,0),1))","v":""},{"$f":"IF(AN244=\"\",\"\", INDEX(referentes!$AE$2:$AF$10,MATCH(DATOS_MAP!AN244,referentes!$AF$2:$AF$10,0),1))","v":""},{"$f":"IF(AQ244=\"\",\"\", INDEX(referentes!J:K,MATCH(DATOS_MAP!AQ244,referentes!$K:$K,0),1))","v":""},null,{"$f":"IF(AY244=\"\",\"\", INDEX('otras referencias'!O:P,MATCH(AY244,'otras referencias'!$O:$O,0),2))","v":""},null,null,null,null,null,{"$f":"IF(X244<>\"\",INDEX(referentes!$AH:$AL,MATCH(DATOS_MAP!X244,referentes!$AI:$AI,0),5),\"\")","v":""}]
[null,null,null,"",{"$f":"IF(J245=\"\",\"\",CONCATENATE(AD245,DIGITADOR!$B$2,DIGITADOR!$M$1,J245))","v":""},{"$f":"IF(J245=\"\",\"\",CONCATENATE(DIGITADOR!$B$2,AD245,DIGITADOR!$M$1,J245,ROW()))","v":""},null,null,null,{"$f":"IF(X245=\"\",\"\", INDEX(referentes!$AH:$AL,MATCH(DATOS_MAP!X245,referentes!$AI:$AI,0),1))","v":""},"",{"$f":"IF(AF245=\"\",\"\", INDEX(referentes!D:E,MATCH(DATOS_MAP!AF245,referentes!$E:$E,0),1))","v":""},{"$f":"IF(AI245=\"\",\"\", INDEX(referentes!A:B,MATCH(DATOS_MAP!AI245,referentes!$B:$B,0),1))","v":""},{"$f":"IF(AJ245=\"\",\"\", INDEX(referentes!G:H,MATCH(DATOS_MAP!AJ245,referentes!$H:$H,0),1))","v":""},{"$f":"IF(AK245=\"\",\"\", INDEX(referentes!$V$2:$W$10,MATCH(DATOS_MAP!AK245,referentes!$W$2:$W$10,0),1))","v":""},{"$f":"IF(AL245=\"\",\"\", INDEX(referentes!$AB:$AC,MATCH(DATOS_MAP!AL245,referentes!$AC:$AC,0),1))","v":""},{"$f":"IF(AP245=\"\",\"\", INDEX(referentes!$Y$2:$Z$10,MATCH(DATOS_MAP!AP245,referentes!$Z$2:$Z$10,0),1))","v":""},{"$f":"IF(AN245=\"\",\"\", INDEX(referentes!$AE$2:$AF$10,MATCH(DATOS_MAP!AN245,referentes!$AF$2:$AF$10,0),1))","v":""},{"$f":"IF(AQ245=\"\",\"\", INDEX(referentes!J:K,MATCH(DATOS_MAP!AQ245,referentes!$K:$K,0),1))","v":""},null,{"$f":"IF(AY245=\"\",\"\", INDEX('otras referencias'!O:P,MATCH(AY245,'otras referencias'!$O:$O,0),2))","v":""},null,null,null,null,null,{"$f":"IF(X245<>\"\",INDEX(referentes!$AH:$AL,MATCH(DATOS_MAP!X245,referentes!$AI:$AI,0),5),\"\")","v":""}]
[null,null,null,"",{"$f":"IF(J246=\"\",\"\",CONCATENATE(AD246,DIGITADOR!$B$2,DIGITADOR!$M$1,J246))","v":""},{"$f":"IF(J246=\"\",\"\",CONCATENATE(DIGITADOR!$B$2,AD246,DIGITADOR!$M$1,J246,ROW()))","v":""},null,null,null,{"$f":"IF(X246=\"\",\"\", INDEX(referentes!$AH:$AL,MATCH(DATOS_MAP!X246,referentes!$AI:$AI,0),1))","v":""},"",{"$f":"IF(AF246=\"\",\"\", INDEX(referentes!D:E,MATCH(DATOS_MAP!AF246,referentes!$E:$E,0),1))","v":""},{"$f":"IF(AI246=\"\",\"\", INDEX(referentes!A:B,MATCH(DATOS_MAP!AI246,referentes!$B:$B,0),1))","v":""},{"$f":"IF(AJ246=\"\",\"\", INDEX(referentes!G:H,MATCH(DATOS_MAP!AJ246,referentes!$H:$H,0),1))","v":""},{"$f":"IF(AK246=\"\",\"\", INDEX(referentes!$V$2:$W$10,MATCH(DATOS_MAP!AK246,referentes!$W$2:$W$10,0),1))","v":""},{"$f":"IF(AL246=\"\",\"\", INDEX(referentes!$AB:$AC,MATCH(DATOS_MAP!AL246,referentes!$AC:$AC,0),1))","v":""},{"$f":"IF(AP246=\"\",\"\", INDEX(referentes!$Y$2:$Z$10,MATCH(DATOS_MAP!AP246,referentes!$Z$2:$Z$10,0),1))","v":""},{"$f":"IF(AN246=\"\",\"\", INDEX(referentes!$AE$2:$AF$10,MATCH(DATOS_MAP!AN246,referentes!$AF$2:$AF$10,0),1))","v":""},{"$f":"IF(AQ246=\"\",\"\", INDEX(referentes!J:K,MATCH(DATOS_MAP!AQ246,referentes!$K:$K,0),1))","v":""},null,{"$f":"IF(AY246=\"\",\"\", INDEX('otras referencias'!O:P,MATCH(AY246,'otras referencias'!$O:$O,0),2))","v":""},null,null,null,null,null,{"$f":"IF(X246<>\"\",INDEX(referentes!$AH:$AL,MATCH(DATOS_MAP!X246,referentes!$AI:$AI,0),5),\"\")","v":""}]
[null,null,null,"",{"$f":"IF(J247=\"\",\"\",CONCATENATE(AD247,DIGITADOR!$B$2,DIGITADOR!$M$1,J247))","v":""},{"$f":"IF(J247=\"\",\"\",CONCATENATE(DIGITADOR!$B$2,AD247,DIGITADOR!$M$1,J247,ROW()))","v":""},null,null,null,{"$f":"IF(X247=\"\",\"\", INDEX(referentes!$AH:$AL,MATCH(DATOS_MAP!X247,referentes!$AI:$AI,0),1))","v":""},"",{"$f":"IF(AF247=\"\",\"\", INDEX(referentes!D:E,MATCH(DATOS_MAP!AF247,referentes!$E:$E,0),1))","v":""},{"$f":"IF(AI247=\"\",\"\", INDEX(referentes!A:B,MATCH(DATOS_MAP!AI247,referentes!$B:$B,0),1))","v":""},{"$f":"IF(AJ247=\"\",\"\", INDEX(referentes!G:H,MATCH(DATOS_MAP!AJ247,referentes!$H:$H,0),1))","v":""},{"$f":"IF(AK247=\"\",\"\", INDEX(referentes!$V$2:$W$10,MATCH(DATOS_MAP!AK247,referentes!$W$2:$W$10,0),1))","v":""},{"$f":"IF(AL247=\"\",\"\", INDEX(referentes!$AB:$AC,MATCH(DATOS_MAP!AL247,referentes!$AC:$AC,0),1))","v":""},{"$f":"IF(AP247=\"\",\"\", INDEX(referentes!$Y$2:$Z$10,MATCH(DATOS_MAP!AP247,referentes!$Z$2:$Z$10,0),1))","v":""},{"$f":"IF(AN247=\"\",\"\", INDEX(referentes!$AE$2:$AF$10,MATCH(DATOS_MAP!AN247,referentes!$AF$2:$AF$10,0),1))","v":""},{"$f":"IF(AQ247=\"\",\"\", INDEX(referentes!J:K,MATCH(DATOS_MAP!AQ247,referentes!$K:$K,0),1))","v":""},null,{"$f":"IF(AY247=\"\",\"\", INDEX('otras referencias'!O:P,MATCH(AY247,'otras referencias'!$O:$O,0),2))","v":""},null,null,null,null,null,{"$f":"IF(X247<>\"\",INDEX(referentes!$AH:$AL,MATCH(DATOS_MAP!X247,referentes!$AI:$AI,0),5),\"\")","v":""}]
[null,null,null,"",{"$f":"IF(J248=\"\",\"\",CONCATENATE(AD248,DIGITADOR!$B$2,DIGITADOR!$M$1,J248))","v":""},{"$f":"IF(J248=\"\",\"\",CONCATENATE(DIGITADOR!$B$2,AD248,DIGITADOR!$M$1,J248,ROW()))","v":""},null,null,null,{"$f":"IF(X248=\"\",\"\", INDEX(referentes!$AH:$AL,MATCH(DATOS_MAP!X248,referentes!$AI:$AI,0),1))","v":""},"",{"$f":"IF(AF248=\"\",\"\", INDEX(referentes!D:E,MATCH(DATOS_MAP!AF248,referentes!$E:$E,0),1))","v":""},{"$f":"IF(AI248=\"\",\"\", INDEX(referentes!A:B,MATCH(DATOS_MAP!AI248,referentes!$B:$B,0),1))","v":""},{"$f":"IF(AJ248=\"\",\"\", INDEX(referentes!G:H,MATCH(DATOS_MAP!AJ248,referentes!$H:$H,0),1))","v":""},{"$f":"IF(AK248=\"\",\"\", INDEX(referentes!$V$2:$W$10,MATCH(DATOS_MAP!AK248,referentes!$W$2:$W$10,0),1))","v":""},{"$f":"IF(AL248=\"\",\"\", INDEX(referentes!$AB:$AC,MATCH(DATOS_MAP!AL248,referentes!$AC:$AC,0),1))","v":""},{"$f":"IF(AP248=\"\",\"\", INDEX(referentes!$Y$2:$Z$10,MATCH(DATOS_MAP!AP248,referentes!$Z$2:$Z$10,0),1))","v":""},{"$f":"IF(AN248=\"\",\"\", INDEX(referentes!$AE$2:$AF$10,MATCH(DATOS_MAP!AN248,referentes!$AF$2:$AF$10,0),1))","v":""},{"$f":"IF(AQ248=\"\",\"\", INDEX(referentes!J:K,MATCH(DATOS_MAP!AQ248,referentes!$K:$K,0),1))","v":""},null,{"$f":"IF(AY248=\"\",\"\", INDEX('otras referencias'!O:P,MATCH(AY248,'otras referencias'!$O:$O,0),2))","v":""},null,null,null,null,null,{"$f":"IF(X248<>\"\",INDEX(referentes!$AH:$AL,MATCH(DATOS_MAP!X248,referentes!$AI:$AI,0),5),\"\")","v":""}]
[null,null,null,"",{"$f":"IF(J249=\"\",\"\",CONCATENATE(AD249,DIGITADOR!$B$2,DIGITADOR!$M$1,J249))","v":""},{"$f":"IF(J249=\"\",\"\",CONCATENATE(DIGITADOR!$B$2,AD249,DIGITADOR!$M$1,J249,ROW()))","v":""},null,null,null,{"$f":"IF(X249=\"\",\"\", INDEX(referentes!$AH:$AL,MATCH(DATOS_MAP!X249,referentes!$AI:$AI,0),1))","v":""},"",{"$f":"IF(AF249=\"\",\"\", INDEX(referentes!D:E,MATCH(DATOS_MAP!AF249,referentes!$E:$E,0),1))","v":""},{"$f":"IF(AI249=\"\",\"\", INDEX(referentes!A:B,MATCH(DATOS_MAP!AI249,referentes!$B:$B,0),1))","v":""},{"$f":"IF(AJ249=\"\",\"\", INDEX(referentes!G:H,MATCH(DATOS_MAP!AJ249,referentes!$H:$H,0),1))","v":""},{"$f":"IF(AK249=\"\",\"\", INDEX(referentes!$V$2:$W$10,MATCH(DATOS_MAP!AK249,referentes!$W$2:$W$10,0),1))","v":""},{"$f":"IF(AL249=\"\",\"\", INDEX(referentes!$AB:$AC,MATCH(DATOS_MAP!AL249,referentes!$AC:$AC,0),1))","v":""},{"$f":"IF(AP249=\"\",\"\", INDEX(referentes!$Y$2:$Z$10,MATCH(DATOS_MAP!AP249,referentes!$Z$2:$Z$10,0),1))","v":""},{"$f":"IF(AN249=\"\",\"\", INDEX(referentes!$AE$2:$AF$10,MATCH(DATOS_MAP!AN249,referentes!$AF$2:$AF$10,0),1))","v":""},{"$f":"IF(AQ249=\"\",\"\", INDEX(referentes!J:K,MATCH(DATOS_MAP!AQ249,referentes!$K:$K,0),1))","v":""},null,{"$f":"IF(AY249=\"\",\"\", INDEX('otras referencias'!O:P,MATCH(AY249,'otras referencias'!$O:$O,0),2))","v":""},null,null,null,null,null,{"$f":"IF(X249<>\"\",INDEX(referentes!$AH:$AL,MATCH(DATOS_MAP!X249,referentes!$AI:$AI,0),5),\"\")","v":""}]
[null,null,null,"",{"$f":"IF(J250=\"\",\"\",CONCATENATE(AD250,DIGITADOR!$B$2,DIGITADOR!$M$1,J250))","v":""},{"$f":"IF(J250=\"\",\"\",CONCATENATE(DIGITADOR!$B$2,AD250,DIGITADOR!$M$1,J250,ROW()))","v":""},null,null,null,{"$f":"IF(X250=\"\",\"\", INDEX(referentes!$AH:$AL,MATCH(DATOS_MAP!X250,referentes!$AI:$AI,0),1))","v":""},"",{"$f":"IF(AF250=\"\",\"\", INDEX(referentes!D:E,MATCH(DATOS_MAP!AF250,referentes!$E:$E,0),1))","v":""},{"$f":"IF(AI250=\"\",\"\", INDEX(referentes!A:B,MATCH(DATOS_MAP!AI250,referentes!$B:$B,0),1))","v":""},{"$f":"IF(AJ250=\"\",\"\", INDEX(referentes!G:H,MATCH(DATOS_MAP!AJ250,referentes!$H:$H,0),1))","v":""},{"$f":"IF(AK250=\"\",\"\", INDEX(referentes!$V$2:$W$10,MATCH(DATOS_MAP!AK250,referentes!$W$2:$W$10,0),1))","v":""},{"$f":"IF(AL250=\"\",\"\", INDEX(referentes!$AB:$AC,MATCH(DATOS_MAP!AL250,referentes!$AC:$AC,0),1))","v":""},{"$f":"IF(AP250=\"\",\"\", INDEX(referentes!$Y$2:$Z$10,MATCH(DATOS_MAP!AP250,referentes!$Z$2:$Z$10,0),1))","v":""},{"$f":"IF(AN250=\"\",\"\", INDEX(referentes!$AE$2:$AF$10,MATCH(DATOS_MAP!AN250,referentes!$AF$2:$AF$10,0),1))","v":""},{"$f":"IF(AQ250=\"\",\"\", INDEX(referentes!J:K,MATCH(DATOS_MAP!AQ250,referentes!$K:$K,0),1))","v":""},null,{"$f":"IF(AY250=\"\",\"\", INDEX('otras referencias'!O:P,MATCH(AY250,'otras referencias'!$O:$O,0),2))","v":""},null,null,null,null,null,{"$f":"IF(X250<>\"\",INDEX(referentes!$AH:$AL,MATCH(DATOS_MAP!X250,referentes!$AI:$AI,0),5),\"\")","v":""}]
[null,null,null,"",{"$f":"IF(J251=\"\",\"\",CONCATENATE(AD251,DIGITADOR!$B$2,DIGITADOR!$M$1,J251))","v":""},{"$f":"IF(J251=\"\",\"\",CONCATENATE(DIGITADOR!$B$2,AD251,DIGITADOR!$M$1,J251,ROW()))","v":""},null,null,null,{"$f":"IF(X251=\"\",\"\", INDEX(referentes!$AH:$AL,MATCH(DATOS_MAP!X251,referentes!$AI:$AI,0),1))","v":""},"",{"$f":"IF(AF251=\"\",\"\", INDEX(referentes!D:E,MATCH(DATOS_MAP!AF251,referentes!$E:$E,0),1))","v":""},{"$f":"IF(AI251=\"\",\"\", INDEX(referentes!A:B,MATCH(DATOS_MAP!AI251,referentes!$B:$B,0),1))","v":""},{"$f":"IF(AJ251=\"\",\"\", INDEX(referentes!G:H,MATCH(DATOS_MAP!AJ251,referentes!$H:$H,0),1))","v":""},{"$f":"IF(AK251=\"\",\"\", INDEX(referentes!$V$2:$W$10,MATCH(DATOS_MAP!AK251,referentes!$W$2:$W$10,0),1))","v":""},{"$f":"IF(AL251=\"\",\"\", INDEX(referentes!$AB:$AC,MATCH(DATOS_MAP!AL251,referentes!$AC:$AC,0),1))","v":""},{"$f":"IF(AP251=\"\",\"\", INDEX(referentes!$Y$2:$Z$10,MATCH(DATOS_MAP!AP251,referentes!$Z$2:$Z$10,0),1))","v":""},{"$f":"IF(AN251=\"\",\"\", INDEX(referentes!$AE$2:$AF$10,MATCH(DATOS_MAP!AN251,referentes!$AF$2:$AF$10,0),1))","v":""},{"$f":"IF(AQ251=\"\",\"\", INDEX(referentes!J:K,MATCH(DATOS_MAP!AQ251,referentes!$K:$K,0),1))","v":""},null,{"$f":"IF(AY251=\"\",\"\", INDEX('otras referencias'!O:P,MATCH(AY251,'otras referencias'!$O:$O,0),2))","v":""},null,null,null,null,null,{"$f":"IF(X251<>\"\",INDEX(referentes!$AH:$AL,MATCH(DATOS_MAP!X251,referentes!$AI:$AI,0),5),\"\")","v":""}]
[null,null,null,"",{"$f":"IF(J252=\"\",\"\",CONCATENATE(AD252,DIGITADOR!$B$2,DIGITADOR!$M$1,J252))","v":""},{"$f":"IF(J252=\"\",\"\",CONCATENATE(DIGITADOR!$B$2,AD252,DIGITADOR!$M$1,J252,ROW()))","v":""},null,null,null,{"$f":"IF(X252=\"\",\"\", INDEX(referentes!$AH:$AL,MATCH(DATOS_MAP!X252,referentes!$AI:$AI,0),1))","v":""},"",{"$f":"IF(AF252=\"\",\"\", INDEX(referentes!D:E,MATCH(DATOS_MAP!AF252,referentes!$E:$E,0),1))","v":""},{"$f":"IF(AI252=\"\",\"\", INDEX(referentes!A:B,MATCH(DATOS_MAP!AI252,referentes!$B:$B,0),1))","v":""},{"$f":"IF(AJ252=\"\",\"\", INDEX(referentes!G:H,MATCH(DATOS_MAP!AJ252,referentes!$H:$H,0),1))","v":""},{"$f":"IF(AK252=\"\",\"\", INDEX(referentes!$V$2:$W$10,MATCH(DATOS_MAP!AK252,referentes!$W$2:$W$10,0),1))","v":""},{"$f":"IF(AL252=\"\",\"\", INDEX(referentes!$AB:$AC,MATCH(DATOS_MAP!AL252,referentes!$AC:$AC,0),1))","v":""},{"$f":"IF(AP252=\"\",\"\", INDEX(referentes!$Y$2:$Z$10,MATCH(DATOS_MAP!AP252,referentes!$Z$2:$Z$10,0),1))","v":""},{"$f":"IF(AN252=\"\",\"\", INDEX(referentes!$AE$2:$AF$10,MATCH(DATOS_MAP!AN252,referentes!$AF$2:$AF$10,0),1))","v":""},{"$f":"IF(AQ252=\"\",\"\", INDEX(referentes!J:K,MATCH(DATOS_MAP!AQ252,referentes!$K:$K,0),1))","v":""},null,{"$f":"IF(AY252=\"\",\"\", INDEX('otras referencias'!O:P,MATCH(AY252,'otras referencias'!$O:$O,0),2))","v":""},null,null,null,null,null,{"$f":"IF(X252<>\"\",INDEX(referentes!$AH:$AL,MATCH(DATOS_MAP!X252,referentes!$AI:$AI,0),5),\"\")","v":""}]
[null,null,null,"",{"$f":"IF(J253=\"\",\"\",CONCATENATE(AD253,DIGITADOR!$B$2,DIGITADOR!$M$1,J253))","v":""},{"$f":"IF(J253=\"\",\"\",CONCATENATE(DIGITADOR!$B$2,AD253,DIGITADOR!$M$1,J253,ROW()))","v":""},null,null,null,{"$f":"IF(X253=\"\",\"\", INDEX(referentes!$AH:$AL,MATCH(DATOS_MAP!X253,referentes!$AI:$AI,0),1))","v":""},"",{"$f":"IF(AF253=\"\",\"\", INDEX(referentes!D:E,MATCH(DATOS_MAP!AF253,referentes!$E:$E,0),1))","v":""},{"$f":"IF(AI253=\"\",\"\", INDEX(referentes!A:B,MATCH(DATOS_MAP!AI253,referentes!$B:$B,0),1))","v":""},{"$f":"IF(AJ253=\"\",\"\", INDEX(referentes!G:H,MATCH(DATOS_MAP!AJ253,referentes!$H:$H,0),1))","v":""},{"$f":"IF(AK253=\"\",\"\", INDEX(referentes!$V$2:$W$10,MATCH(DATOS_MAP!AK253,referentes!$W$2:$W$10,0),1))","v":""},{"$f":"IF(AL253=\"\",\"\", INDEX(referentes!$AB:$AC,MATCH(DATOS_MAP!AL253,referentes!$AC:$AC,0),1))","v":""},{"$f":"IF(AP253=\"\",\"\", INDEX(referentes!$Y$2:$Z$10,MATCH(DATOS_MAP!AP253,referentes!$Z$2:$Z$10,0),1))","v":""},{"$f":"IF(AN253=\"\",\"\", INDEX(referentes!$AE$2:$AF$10,MATCH(DATOS_MAP!AN253,referentes!$AF$2:$AF$10,0),1))","v":""},{"$f":"IF(AQ253=\"\",\"\", INDEX(referentes!J:K,MATCH(DATOS_MAP!AQ253,referentes!$K:$K,0),1))","v":""},null,{"$f":"IF(AY253=\"\",\"\", INDEX('otras referencias'!O:P,MATCH(AY253,'otras referencias'!$O:$O,0),2))","v":""},null,null,null,null,null,{"$f":"IF(X253<>\"\",INDEX(referentes!$AH:$AL,MATCH(DATOS_MAP!X253,referentes!$AI:$AI,0),5),\"\")","v":""}]
[null,null,null,"",{"$f":"IF(J254=\"\",\"\",CONCATENATE(AD254,DIGITADOR!$B$2,DIGITADOR!$M$1,J254))","v":""},{"$f":"IF(J254=\"\",\"\",CONCATENATE(DIGITADOR!$B$2,AD254,DIGITADOR!$M$1,J254,ROW()))","v":""},null,null,null,{"$f":"IF(X254=\"\",\"\", INDEX(referentes!$AH:$AL,MATCH(DATOS_MAP!X254,referentes!$AI:$AI,0),1))","v":""},"",{"$f":"IF(AF254=\"\",\"\", INDEX(referentes!D:E,MATCH(DATOS_MAP!AF254,referentes!$E:$E,0),1))","v":""},{"$f":"IF(AI254=\"\",\"\", INDEX(referentes!A:B,MATCH(DATOS_MAP!AI254,referentes!$B:$B,0),1))","v":""},{"$f":"IF(AJ254=\"\",\"\", INDEX(referentes!G:H,MATCH(DATOS_MAP!AJ254,referentes!$H:$H,0),1))","v":""},{"$f":"IF(AK254=\"\",\"\", INDEX(referentes!$V$2:$W$10,MATCH(DATOS_MAP!AK254,referentes!$W$2:$W$10,0),1))","v":""},{"$f":"IF(AL254=\"\",\"\", INDEX(referentes!$AB:$AC,MATCH(DATOS_MAP!AL254,referentes!$AC:$AC,0),1))","v":""},{"$f":"IF(AP254=\"\",\"\", INDEX(referentes!$Y$2:$Z$10,MATCH(DATOS_MAP!AP254,referentes!$Z$2:$Z$10,0),1))","v":""},{"$f":"IF(AN254=\"\",\"\", INDEX(referentes!$AE$2:$AF$10,MATCH(DATOS_MAP!AN254,referentes!$AF$2:$AF$10,0),1))","v":""},{"$f":"IF(AQ254=\"\",\"\", INDEX(referentes!J:K,MATCH(DATOS_MAP!AQ254,referentes!$K:$K,0),1))","v":""},null,{"$f":"IF(AY254=\"\",\"\", INDEX('otras referencias'!O:P,MATCH(AY254,'otras referencias'!$O:$O,0),2))","v":""},null,null,null,null,null,{"$f":"IF(X254<>\"\",INDEX(referentes!$AH:$AL,MATCH(DATOS_MAP!X254,referentes!$AI:$AI,0),5),\"\")","v":""}]
[null,null,null,"",{"$f":"IF(J255=\"\",\"\",CONCATENATE(AD255,DIGITADOR!$B$2,DIGITADOR!$M$1,J255))","v":""},{"$f":"IF(J255=\"\",\"\",CONCATENATE(DIGITADOR!$B$2,AD255,DIGITADOR!$M$1,J255,ROW()))","v":""},null,null,null,{"$f":"IF(X255=\"\",\"\", INDEX(referentes!$AH:$AL,MATCH(DATOS_MAP!X255,referentes!$AI:$AI,0),1))","v":""},"",{"$f":"IF(AF255=\"\",\"\", INDEX(referentes!D:E,MATCH(DATOS_MAP!AF255,referentes!$E:$E,0),1))","v":""},{"$f":"IF(AI255=\"\",\"\", INDEX(referentes!A:B,MATCH(DATOS_MAP!AI255,referentes!$B:$B,0),1))","v":""},{"$f":"IF(AJ255=\"\",\"\", INDEX(referentes!G:H,MATCH(DATOS_MAP!AJ255,referentes!$H:$H,0),1))","v":""},{"$f":"IF(AK255=\"\",\"\", INDEX(referentes!$V$2:$W$10,MATCH(DATOS_MAP!AK255,referentes!$W$2:$W$10,0),1))","v":""},{"$f":"IF(AL255=\"\",\"\", INDEX(referentes!$AB:$AC,MATCH(DATOS_MAP!AL255,referentes!$AC:$AC,0),1))","v":""},{"$f":"IF(AP255=\"\",\"\", INDEX(referentes!$Y$2:$Z$10,MATCH(DATOS_MAP!AP255,referentes!$Z$2:$Z$10,0),1))","v":""},{"$f":"IF(AN255=\"\",\"\", INDEX(referentes!$AE$2:$AF$10,MATCH(DATOS_MAP!AN255,referentes!$AF$2:$AF$10,0),1))","v":""},{"$f":"IF(AQ255=\"\",\"\", INDEX(referentes!J:K,MATCH(DATOS_MAP!AQ255,referentes!$K:$K,0),1))","v":""},null,{"$f":"IF(AY255=\"\",\"\", INDEX('otras referencias'!O:P,MATCH(AY255,'otras referencias'!$O:$O,0),2))","v":""},null,null,null,null,null,{"$f":"IF(X255<>\"\",INDEX(referentes!$AH:$AL,MATCH(DATOS_MAP!X255,referentes!$AI:$AI,0),5),\"\")","v":""}]
[null,null,null,"",{"$f":"IF(J256=\"\",\"\",CONCATENATE(AD256,DIGITADOR!$B$2,DIGITADOR!$M$1,J256))","v":""},{"$f":"IF(J256=\"\",\"\",CONCATENATE(DIGITADOR!$B$2,AD256,DIGITADOR!$M$1,J256,ROW()))","v":""},null,null,null,{"$f":"IF(X256=\"\",\"\", INDEX(referentes!$AH:$AL,MATCH(DATOS_MAP!X256,referentes!$AI:$AI,0),1))","v":""},"",{"$f":"IF(AF256=\"\",\"\", INDEX(referentes!D:E,MATCH(DATOS_MAP!AF256,referentes!$E:$E,0),1))","v":""},{"$f":"IF(AI256=\"\",\"\", INDEX(referentes!A:B,MATCH(DATOS_MAP!AI256,referentes!$B:$B,0),1))","v":""},{"$f":"IF(AJ256=\"\",\"\", INDEX(referentes!G:H,MATCH(DATOS_MAP!AJ256,referentes!$H:$H,0),1))","v":""},{"$f":"IF(AK256=\"\",\"\", INDEX(referentes!$V$2:$W$10,MATCH(DATOS_MAP!AK256,referentes!$W$2:$W$10,0),1))","v":""},{"$f":"IF(AL256=\"\",\"\", INDEX(referentes!$AB:$AC,MATCH(DATOS_MAP!AL256,referentes!$AC:$AC,0),1))","v":""},{"$f":"IF(AP256=\"\",\"\", INDEX(referentes!$Y$2:$Z$10,MATCH(DATOS_MAP!AP256,referentes!$Z$2:$Z$10,0),1))","v":""},{"$f":"IF(AN256=\"\",\"\", INDEX(referentes!$AE$2:$AF$10,MATCH(DATOS_MAP!AN256,referentes!$AF$2:$AF$10,0),1))","v":""},{"$f":"IF(AQ256=\"\",\"\", INDEX(referentes!J:K,MATCH(DATOS_MAP!AQ256,referentes!$K:$K,0),1))","v":""},null,{"$f":"IF(AY256=\"\",\"\", INDEX('otras referencias'!O:P,MATCH(AY256,'otras referencias'!$O:$O,0),2))","v":""},null,null,null,null,null,{"$f":"IF(X256<>\"\",INDEX(referentes!$AH:$AL,MATCH(DATOS_MAP!X256,referentes!$AI:$AI,0),5),\"\")","v":""}]
[null,null,null,"",{"$f":"IF(J257=\"\",\"\",CONCATENATE(AD257,DIGITADOR!$B$2,DIGITADOR!$M$1,J257))","v":""},{"$f":"IF(J257=\"\",\"\",CONCATENATE(DIGITADOR!$B$2,AD257,DIGITADOR!$M$1,J257,ROW()))","v":""},null,null,null,{"$f":"IF(X257=\"\",\"\", INDEX(referentes!$AH:$AL,MATCH(DATOS_MAP!X257,referentes!$AI:$AI,0),1))","v":""},"",{"$f":"IF(AF257=\"\",\"\", INDEX(referentes!D:E,MATCH(DATOS_MAP!AF257,referentes!$E:$E,0),1))","v":""},{"$f":"IF(AI257=\"\",\"\", INDEX(referentes!A:B,MATCH(DATOS_MAP!AI257,referentes!$B:$B,0),1))","v":""},{"$f":"IF(AJ257=\"\",\"\", INDEX(referentes!G:H,MATCH(DATOS_MAP!AJ257,referentes!$H:$H,0),1))","v":""},{"$f":"IF(AK257=\"\",\"\", INDEX(referentes!$V$2:$W$10,MATCH(DATOS_MAP!AK257,referentes!$W$2:$W$10,0),1))","v":""},{"$f":"IF(AL257=\"\",\"\", INDEX(referentes!$AB:$AC,MATCH(DATOS_MAP!AL257,referentes!$AC:$AC,0),1))","v":""},{"$f":"IF(AP257=\"\",\"\", INDEX(referentes!$Y$2:$Z$10,MATCH(DATOS_MAP!AP257,referentes!$Z$2:$Z$10,0),1))","v":""},{"$f":"IF(AN257=\"\",\"\", INDEX(referentes!$AE$2:$AF$10,MATCH(DATOS_MAP!AN257,referentes!$AF$2:$AF$10,0),1))","v":""},{"$f":"IF(AQ257=\"\",\"\", INDEX(referentes!J:K,MATCH(DATOS_MAP!AQ257,referentes!$K:$K,0),1))","v":""},null,{"$f":"IF(AY257=\"\",\"\", INDEX('otras referencias'!O:P,MATCH(AY257,'otras referencias'!$O:$O,0),2))","v":""},null,null,null,null,null,{"$f":"IF(X257<>\"\",INDEX(referentes!$AH:$AL,MATCH(DATOS_MAP!X257,referentes!$AI:$AI,0),5),\"\")","v":""}]
[null,null,null,"",{"$f":"IF(J258=\"\",\"\",CONCATENATE(AD258,DIGITADOR!$B$2,DIGITADOR!$M$1,J258))","v":""},{"$f":"IF(J258=\"\",\"\",CONCATENATE(DIGITADOR!$B$2,AD258,DIGITADOR!$M$1,J258,ROW()))","v":""},null,null,null,{"$f":"IF(X258=\"\",\"\", INDEX(referentes!$AH:$AL,MATCH(DATOS_MAP!X258,referentes!$AI:$AI,0),1))","v":""},"",{"$f":"IF(AF258=\"\",\"\", INDEX(referentes!D:E,MATCH(DATOS_MAP!AF258,referentes!$E:$E,0),1))","v":""},{"$f":"IF(AI258=\"\",\"\", INDEX(referentes!A:B,MATCH(DATOS_MAP!AI258,referentes!$B:$B,0),1))","v":""},{"$f":"IF(AJ258=\"\",\"\", INDEX(referentes!G:H,MATCH(DATOS_MAP!AJ258,referentes!$H:$H,0),1))","v":""},{"$f":"IF(AK258=\"\",\"\", INDEX(referentes!$V$2:$W$10,MATCH(DATOS_MAP!AK258,referentes!$W$2:$W$10,0),1))","v":""},{"$f":"IF(AL258=\"\",\"\", INDEX(referentes!$AB:$AC,MATCH(DATOS_MAP!AL258,referentes!$AC:$AC,0),1))","v":""},{"$f":"IF(AP258=\"\",\"\", INDEX(referentes!$Y$2:$Z$10,MATCH(DATOS_MAP!AP258,referentes!$Z$2:$Z$10,0),1))","v":""},{"$f":"IF(AN258=\"\",\"\", INDEX(referentes!$AE$2:$AF$10,MATCH(DATOS_MAP!AN258,referentes!$AF$2:$AF$10,0),1))","v":""},{"$f":"IF(AQ258=\"\",\"\", INDEX(referentes!J:K,MATCH(DATOS_MAP!AQ258,referentes!$K:$K,0),1))","v":""},null,{"$f":"IF(AY258=\"\",\"\", INDEX('otras referencias'!O:P,MATCH(AY258,'otras referencias'!$O:$O,0),2))","v":""},null,null,null,null,null,{"$f":"IF(X258<>\"\",INDEX(referentes!$AH:$AL,MATCH(DATOS_MAP!X258,referentes!$AI:$AI,0),5),\"\")","v":""}]
[null,null,null,"",{"$f":"IF(J259=\"\",\"\",CONCATENATE(AD259,DIGITADOR!$B$2,DIGITADOR!$M$1,J259))","v":""},{"$f":"IF(J259=\"\",\"\",CONCATENATE(DIGITADOR!$B$2,AD259,DIGITADOR!$M$1,J259,ROW()))","v":""},null,null,null,{"$f":"IF(X259=\"\",\"\", INDEX(referentes!$AH:$AL,MATCH(DATOS_MAP!X259,referentes!$AI:$AI,0),1))","v":""},"",{"$f":"IF(AF259=\"\",\"\", INDEX(referentes!D:E,MATCH(DATOS_MAP!AF259,referentes!$E:$E,0),1))","v":""},{"$f":"IF(AI259=\"\",\"\", INDEX(referentes!A:B,MATCH(DATOS_MAP!AI259,referentes!$B:$B,0),1))","v":""},{"$f":"IF(AJ259=\"\",\"\", INDEX(referentes!G:H,MATCH(DATOS_MAP!AJ259,referentes!$H:$H,0),1))","v":""},{"$f":"IF(AK259=\"\",\"\", INDEX(referentes!$V$2:$W$10,MATCH(DATOS_MAP!AK259,referentes!$W$2:$W$10,0),1))","v":""},{"$f":"IF(AL259=\"\",\"\", INDEX(referentes!$AB:$AC,MATCH(DATOS_MAP!AL259,referentes!$AC:$AC,0),1))","v":""},{"$f":"IF(AP259=\"\",\"\", INDEX(referentes!$Y$2:$Z$10,MATCH(DATOS_MAP!AP259,referentes!$Z$2:$Z$10,0),1))","v":""},{"$f":"IF(AN259=\"\",\"\", INDEX(referentes!$AE$2:$AF$10,MATCH(DATOS_MAP!AN259,referentes!$AF$2:$AF$10,0),1))","v":""},{"$f":"IF(AQ259=\"\",\"\", INDEX(referentes!J:K,MATCH(DATOS_MAP!AQ259,referentes!$K:$K,0),1))","v":""},null,{"$f":"IF(AY259=\"\",\"\", INDEX('otras referencias'!O:P,MATCH(AY259,'otras referencias'!$O:$O,0),2))","v":""},null,null,null,null,null,{"$f":"IF(X259<>\"\",INDEX(referentes!$AH:$AL,MATCH(DATOS_MAP!X259,referentes!$AI:$AI,0),5),\"\")","v":""}]
[null,null,null,"",{"$f":"IF(J260=\"\",\"\",CONCATENATE(AD260,DIGITADOR!$B$2,DIGITADOR!$M$1,J260))","v":""},{"$f":"IF(J260=\"\",\"\",CONCATENATE(DIGITADOR!$B$2,AD260,DIGITADOR!$M$1,J260,ROW()))","v":""},null,null,null,{"$f":"IF(X260=\"\",\"\", INDEX(referentes!$AH:$AL,MATCH(DATOS_MAP!X260,referentes!$AI:$AI,0),1))","v":""},"",{"$f":"IF(AF260=\"\",\"\", INDEX(referentes!D:E,MATCH(DATOS_MAP!AF260,referentes!$E:$E,0),1))","v":""},{"$f":"IF(AI260=\"\",\"\", INDEX(referentes!A:B,MATCH(DATOS_MAP!AI260,referentes!$B:$B,0),1))","v":""},{"$f":"IF(AJ260=\"\",\"\", INDEX(referentes!G:H,MATCH(DATOS_MAP!AJ260,referentes!$H:$H,0),1))","v":""},{"$f":"IF(AK260=\"\",\"\", INDEX(referentes!$V$2:$W$10,MATCH(DATOS_MAP!AK260,referentes!$W$2:$W$10,0),1))","v":""},{"$f":"IF(AL260=\"\",\"\", INDEX(referentes!$AB:$AC,MATCH(DATOS_MAP!AL260,referentes!$AC:$AC,0),1))","v":""},{"$f":"IF(AP260=\"\",\"\", INDEX(referentes!$Y$2:$Z$10,MATCH(DATOS_MAP!AP260,referentes!$Z$2:$Z$10,0),1))","v":""},{"$f":"IF(AN260=\"\",\"\", INDEX(referentes!$AE$2:$AF$10,MATCH(DATOS_MAP!AN260,referentes!$AF$2:$AF$10,0),1))","v":""},{"$f":"IF(AQ260=\"\",\"\", INDEX(referentes!J:K,MATCH(DATOS_MAP!AQ260,referentes!$K:$K,0),1))","v":""},null,{"$f":"IF(AY260=\"\",\"\", INDEX('otras referencias'!O:P,MATCH(AY260,'otras referencias'!$O:$O,0),2))","v":""},null,null,null,null,null,{"$f":"IF(X260<>\"\",INDEX(referentes!$AH:$AL,MATCH(DATOS_MAP!X260,referentes!$AI:$AI,0),5),\"\")","v":""}]
[null,null,null,"",{"$f":"IF(J261=\"\",\"\",CONCATENATE(AD261,DIGITADOR!$B$2,DIGITADOR!$M$1,J261))","v":""},{"$f":"IF(J261=\"\",\"\",CONCATENATE(DIGITADOR!$B$2,AD261,DIGITADOR!$M$1,J261,ROW()))","v":""},null,null,null,{"$f":"IF(X261=\"\",\"\", INDEX(referentes!$AH:$AL,MATCH(DATOS_MAP!X261,referentes!$AI:$AI,0),1))","v":""},"",{"$f":"IF(AF261=\"\",\"\", INDEX(referentes!D:E,MATCH(DATOS_MAP!AF261,referentes!$E:$E,0),1))","v":""},{"$f":"IF(AI261=\"\",\"\", INDEX(referentes!A:B,MATCH(DATOS_MAP!AI261,referentes!$B:$B,0),1))","v":""},{"$f":"IF(AJ261=\"\",\"\", INDEX(referentes!G:H,MATCH(DATOS_MAP!AJ261,referentes!$H:$H,0),1))","v":""},{"$f":"IF(AK261=\"\",\"\", INDEX(referentes!$V$2:$W$10,MATCH(DATOS_MAP!AK261,referentes!$W$2:$W$10,0),1))","v":""},{"$f":"IF(AL261=\"\",\"\", INDEX(referentes!$AB:$AC,MATCH(DATOS_MAP!AL261,referentes!$AC:$AC,0),1))","v":""},{"$f":"IF(AP261=\"\",\"\", INDEX(referentes!$Y$2:$Z$10,MATCH(DATOS_MAP!AP261,referentes!$Z$2:$Z$10,0),1))","v":""},{"$f":"IF(AN261=\"\",\"\", INDEX(referentes!$AE$2:$AF$10,MATCH(DATOS_MAP!AN261,referentes!$AF$2:$AF$10,0),1))","v":""},{"$f":"IF(AQ261=\"\",\"\", INDEX(referentes!J:K,MATCH(DATOS_MAP!AQ261,referentes!$K:$K,0),1))","v":""},null,{"$f":"IF(AY261=\"\",\"\", INDEX('otras referencias'!O:P,MATCH(AY261,'otras referencias'!$O:$O,0),2))","v":""},null,null,null,null,null,{"$f":"IF(X261<>\"\",INDEX(referentes!$AH:$AL,MATCH(DATOS_MAP!X261,referentes!$AI:$AI,0),5),\"\")","v":""}]
[null,null,null,"",{"$f":"IF(J262=\"\",\"\",CONCATENATE(AD262,DIGITADOR!$B$2,DIGITADOR!$M$1,J262))","v":""},{"$f":"IF(J262=\"\",\"\",CONCATENATE(DIGITADOR!$B$2,AD262,DIGITADOR!$M$1,J262,ROW()))","v":""},null,null,null,{"$f":"IF(X262=\"\",\"\", INDEX(referentes!$AH:$AL,MATCH(DATOS_MAP!X262,referentes!$AI:$AI,0),1))","v":""},"",{"$f":"IF(AF262=\"\",\"\", INDEX(referentes!D:E,MATCH(DATOS_MAP!AF262,referentes!$E:$E,0),1))","v":""},{"$f":"IF(AI262=\"\",\"\", INDEX(referentes!A:B,MATCH(DATOS_MAP!AI262,referentes!$B:$B,0),1))","v":""},{"$f":"IF(AJ262=\"\",\"\", INDEX(referentes!G:H,MATCH(DATOS_MAP!AJ262,referentes!$H:$H,0),1))","v":""},{"$f":"IF(AK262=\"\",\"\", INDEX(referentes!$V$2:$W$10,MATCH(DATOS_MAP!AK262,referentes!$W$2:$W$10,0),1))","v":""},{"$f":"IF(AL262=\"\",\"\", INDEX(referentes!$AB:$AC,MATCH(DATOS_MAP!AL262,referentes!$AC:$AC,0),1))","v":""},{"$f":"IF(AP262=\"\",\"\", INDEX(referentes!$Y$2:$Z$10,MATCH(DATOS_MAP!AP262,referentes!$Z$2:$Z$10,0),1))","v":""},{"$f":"IF(AN262=\"\",\"\", INDEX(referentes!$AE$2:$AF$10,MATCH(DATOS_MAP!AN262,referentes!$AF$2:$AF$10,0),1))","v":""},{"$f":"IF(AQ262=\"\",\"\", INDEX(referentes!J:K,MATCH(DATOS_MAP!AQ262,referentes!$K:$K,0),1))","v":""},null,{"$f":"IF(AY262=\"\",\"\", INDEX('otras referencias'!O:P,MATCH(AY262,'otras referencias'!$O:$O,0),2))","v":""},null,null,null,null,null,{"$f":"IF(X262<>\"\",INDEX(referentes!$AH:$AL,MATCH(DATOS_MAP!X262,referentes!$AI:$AI,0),5),\"\")","v":""}]
[null,null,null,"",{"$f":"IF(J263=\"\",\"\",CONCATENATE(AD263,DIGITADOR!$B$2,DIGITADOR!$M$1,J263))","v":""},{"$f":"IF(J263=\"\",\"\",CONCATENATE(DIGITADOR!$B$2,AD263,DIGITADOR!$M$1,J263,ROW()))","v":""},null,null,null,{"$f":"IF(X263=\"\",\"\", INDEX(referentes!$AH:$AL,MATCH(DATOS_MAP!X263,referentes!$AI:$AI,0),1))","v":""},"",{"$f":"IF(AF263=\"\",\"\", INDEX(referentes!D:E,MATCH(DATOS_MAP!AF263,referentes!$E:$E,0),1))","v":""},{"$f":"IF(AI263=\"\",\"\", INDEX(referentes!A:B,MATCH(DATOS_MAP!AI263,referentes!$B:$B,0),1))","v":""},{"$f":"IF(AJ263=\"\",\"\", INDEX(referentes!G:H,MATCH(DATOS_MAP!AJ263,referentes!$H:$H,0),1))","v":""},{"$f":"IF(AK263=\"\",\"\", INDEX(referentes!$V$2:$W$10,MATCH(DATOS_MAP!AK263,referentes!$W$2:$W$10,0),1))","v":""},{"$f":"IF(AL263=\"\",\"\", INDEX(referentes!$AB:$AC,MATCH(DATOS_MAP!AL263,referentes!$AC:$AC,0),1))","v":""},{"$f":"IF(AP263=\"\",\"\", INDEX(referentes!$Y$2:$Z$10,MATCH(DATOS_MAP!AP263,referentes!$Z$2:$Z$10,0),1))","v":""},{"$f":"IF(AN263=\"\",\"\", INDEX(referentes!$AE$2:$AF$10,MATCH(DATOS_MAP!AN263,referentes!$AF$2:$AF$10,0),1))","v":""},{"$f":"IF(AQ263=\"\",\"\", INDEX(referentes!J:K,MATCH(DATOS_MAP!AQ263,referentes!$K:$K,0),1))","v":""},null,{"$f":"IF(AY263=\"\",\"\", INDEX('otras referencias'!O:P,MATCH(AY263,'otras referencias'!$O:$O,0),2))","v":""},null,null,null,null,null,{"$f":"IF(X263<>\"\",INDEX(referentes!$AH:$AL,MATCH(DATOS_MAP!X263,referentes!$AI:$AI,0),5),\"\")","v":""}]
[null,null,null,"",{"$f":"IF(J264=\"\",\"\",CONCATENATE(AD264,DIGITADOR!$B$2,DIGITADOR!$M$1,J264))","v":""},{"$f":"IF(J264=\"\",\"\",CONCATENATE(DIGITADOR!$B$2,AD264,DIGITADOR!$M$1,J264,ROW()))","v":""},null,null,null,{"$f":"IF(X264=\"\",\"\", INDEX(referentes!$AH:$AL,MATCH(DATOS_MAP!X264,referentes!$AI:$AI,0),1))","v":""},"",{"$f":"IF(AF264=\"\",\"\", INDEX(referentes!D:E,MATCH(DATOS_MAP!AF264,referentes!$E:$E,0),1))","v":""},{"$f":"IF(AI264=\"\",\"\", INDEX(referentes!A:B,MATCH(DATOS_MAP!AI264,referentes!$B:$B,0),1))","v":""},{"$f":"IF(AJ264=\"\",\"\", INDEX(referentes!G:H,MATCH(DATOS_MAP!AJ264,referentes!$H:$H,0),1))","v":""},{"$f":"IF(AK264=\"\",\"\", INDEX(referentes!$V$2:$W$10,MATCH(DATOS_MAP!AK264,referentes!$W$2:$W$10,0),1))","v":""},{"$f":"IF(AL264=\"\",\"\", INDEX(referentes!$AB:$AC,MATCH(DATOS_MAP!AL264,referentes!$AC:$AC,0),1))","v":""},{"$f":"IF(AP264=\"\",\"\", INDEX(referentes!$Y$2:$Z$10,MATCH(DATOS_MAP!AP264,referentes!$Z$2:$Z$10,0),1))","v":""},{"$f":"IF(AN264=\"\",\"\", INDEX(referentes!$AE$2:$AF$10,MATCH(DATOS_MAP!AN264,referentes!$AF$2:$AF$10,0),1))","v":""},{"$f":"IF(AQ264=\"\",\"\", INDEX(referentes!J:K,MATCH(DATOS_MAP!AQ264,referentes!$K:$K,0),1))","v":""},null,{"$f":"IF(AY264=\"\",\"\", INDEX('otras referencias'!O:P,MATCH(AY264,'otras referencias'!$O:$O,0),2))","v":""},null,null,null,null,null,{"$f":"IF(X264<>\"\",INDEX(referentes!$AH:$AL,MATCH(DATOS_MAP!X264,referentes!$AI:$AI,0),5),\"\")","v":""}]
[null,null,null,"",{"$f":"IF(J265=\"\",\"\",CONCATENATE(AD265,DIGITADOR!$B$2,DIGITADOR!$M$1,J265))","v":""},{"$f":"IF(J265=\"\",\"\",CONCATENATE(DIGITADOR!$B$2,AD265,DIGITADOR!$M$1,J265,ROW()))","v":""},null,null,null,{"$f":"IF(X265=\"\",\"\", INDEX(referentes!$AH:$AL,MATCH(DATOS_MAP!X265,referentes!$AI:$AI,0),1))","v":""},"",{"$f":"IF(AF265=\"\",\"\", INDEX(referentes!D:E,MATCH(DATOS_MAP!AF265,referentes!$E:$E,0),1))","v":""},{"$f":"IF(AI265=\"\",\"\", INDEX(referentes!A:B,MATCH(DATOS_MAP!AI265,referentes!$B:$B,0),1))","v":""},{"$f":"IF(AJ265=\"\",\"\", INDEX(referentes!G:H,MATCH(DATOS_MAP!AJ265,referentes!$H:$H,0),1))","v":""},{"$f":"IF(AK265=\"\",\"\", INDEX(referentes!$V$2:$W$10,MATCH(DATOS_MAP!AK265,referentes!$W$2:$W$10,0),1))","v":""},{"$f":"IF(AL265=\"\",\"\", INDEX(referentes!$AB:$AC,MATCH(DATOS_MAP!AL265,referentes!$AC:$AC,0),1))","v":""},{"$f":"IF(AP265=\"\",\"\", INDEX(referentes!$Y$2:$Z$10,MATCH(DATOS_MAP!AP265,referentes!$Z$2:$Z$10,0),1))","v":""},{"$f":"IF(AN265=\"\",\"\", INDEX(referentes!$AE$2:$AF$10,MATCH(DATOS_MAP!AN265,referentes!$AF$2:$AF$10,0),1))","v":""},{"$f":"IF(AQ265=\"\",\"\", INDEX(referentes!J:K,MATCH(DATOS_MAP!AQ265,referentes!$K:$K,0),1))","v":""},null,{"$f":"IF(AY265=\"\",\"\", INDEX('otras referencias'!O:P,MATCH(AY265,'otras referencias'!$O:$O,0),2))","v":""},null,null,null,null,null,{"$f":"IF(X265<>\"\",INDEX(referentes!$AH:$AL,MATCH(DATOS_MAP!X265,referentes!$AI:$AI,0),5),\"\")","v":""}]
[null,null,null,"",{"$f":"IF(J266=\"\",\"\",CONCATENATE(AD266,DIGITADOR!$B$2,DIGITADOR!$M$1,J266))","v":""},{"$f":"IF(J266=\"\",\"\",CONCATENATE(DIGITADOR!$B$2,AD266,DIGITADOR!$M$1,J266,ROW()))","v":""},null,null,null,{"$f":"IF(X266=\"\",\"\", INDEX(referentes!$AH:$AL,MATCH(DATOS_MAP!X266,referentes!$AI:$AI,0),1))","v":""},"",{"$f":"IF(AF266=\"\",\"\", INDEX(referentes!D:E,MATCH(DATOS_MAP!AF266,referentes!$E:$E,0),1))","v":""},{"$f":"IF(AI266=\"\",\"\", INDEX(referentes!A:B,MATCH(DATOS_MAP!AI266,referentes!$B:$B,0),1))","v":""},{"$f":"IF(AJ266=\"\",\"\", INDEX(referentes!G:H,MATCH(DATOS_MAP!AJ266,referentes!$H:$H,0),1))","v":""},{"$f":"IF(AK266=\"\",\"\", INDEX(referentes!$V$2:$W$10,MATCH(DATOS_MAP!AK266,referentes!$W$2:$W$10,0),1))","v":""},{"$f":"IF(AL266=\"\",\"\", INDEX(referentes!$AB:$AC,MATCH(DATOS_MAP!AL266,referentes!$AC:$AC,0),1))","v":""},{"$f":"IF(AP266=\"\",\"\", INDEX(referentes!$Y$2:$Z$10,MATCH(DATOS_MAP!AP266,referentes!$Z$2:$Z$10,0),1))","v":""},{"$f":"IF(AN266=\"\",\"\", INDEX(referentes!$AE$2:$AF$10,MATCH(DATOS_MAP!AN266,referentes!$AF$2:$AF$10,0),1))","v":""},{"$f":"IF(AQ266=\"\",\"\", INDEX(referentes!J:K,MATCH(DATOS_MAP!AQ266,referentes!$K:$K,0),1))","v":""},null,{"$f":"IF(AY266=\"\",\"\", INDEX('otras referencias'!O:P,MATCH(AY266,'otras referencias'!$O:$O,0),2))","v":""},null,null,null,null,null,{"$f":"IF(X266<>\"\",INDEX(referentes!$AH:$AL,MATCH(DATOS_MAP!X266,referentes!$AI:$AI,0),5),\"\")","v":""}]
[null,null,null,"",{"$f":"IF(J267=\"\",\"\",CONCATENATE(AD267,DIGITADOR!$B$2,DIGITADOR!$M$1,J267))","v":""},{"$f":"IF(J267=\"\",\"\",CONCATENATE(DIGITADOR!$B$2,AD267,DIGITADOR!$M$1,J267,ROW()))","v":""},null,null,null,{"$f":"IF(X267=\"\",\"\", INDEX(referentes!$AH:$AL,MATCH(DATOS_MAP!X267,referentes!$AI:$AI,0),1))","v":""},{"$f":"IF(AD267=\"\",\"\",AD267+AE267)","v":""},{"$f":"IF(AF267=\"\",\"\", INDEX(referentes!D:E,MATCH(DATOS_MAP!AF267,referentes!$E:$E,0),1))","v":""},{"$f":"IF(AI267=\"\",\"\", INDEX(referentes!A:B,MATCH(DATOS_MAP!AI267,referentes!$B:$B,0),1))","v":""},{"$f":"IF(AJ267=\"\",\"\", INDEX(referentes!G:H,MATCH(DATOS_MAP!AJ267,referentes!$H:$H,0),1))","v":""},{"$f":"IF(AK267=\"\",\"\", INDEX(referentes!$V$2:$W$10,MATCH(DATOS_MAP!AK267,referentes!$W$2:$W$10,0),1))","v":""},{"$f":"IF(AL267=\"\",\"\", INDEX(referentes!$AB:$AC,MATCH(DATOS_MAP!AL267,referentes!$AC:$AC,0),1))","v":""},{"$f":"IF(AP267=\"\",\"\", INDEX(referentes!$Y$2:$Z$10,MATCH(DATOS_MAP!AP267,referentes!$Z$2:$Z$10,0),1))","v":""},{"$f":"IF(AN267=\"\",\"\", INDEX(referentes!$AE$2:$AF$10,MATCH(DATOS_MAP!AN267,referentes!$AF$2:$AF$10,0),1))","v":""},{"$f":"IF(AQ267=\"\",\"\", INDEX(referentes!J:K,MATCH(DATOS_MAP!AQ267,referentes!$K:$K,0),1))","v":""},null,{"$f":"IF(AY267=\"\",\"\", INDEX('otras referencias'!O:P,MATCH(AY267,'otras referencias'!$O:$O,0),2))","v":""},null,null,null,null,null,{"$f":"IF(X267<>\"\",INDEX(referentes!$AH:$AL,MATCH(DATOS_MAP!X267,referentes!$AI:$AI,0),5),\"\")","v":""}]
[null,null,null,{"$f":"IF(E268=\"\",\"\",IF(E268=E267,\"\",E268))","v":""},{"$f":"IF(J268=\"\",\"\",CONCATENATE(AD268,DIGITADOR!$B$2,DIGITADOR!$M$1,J268))","v":""},{"$f":"IF(J268=\"\",\"\",CONCATENATE(DIGITADOR!$B$2,AD268,DIGITADOR!$M$1,J268,ROW()))","v":""},null,null,null,{"$f":"IF(X268=\"\",\"\", INDEX(referentes!$AH:$AL,MATCH(DATOS_MAP!X268,referentes!$AI:$AI,0),1))","v":""},"",{"$f":"IF(AF268=\"\",\"\", INDEX(referentes!D:E,MATCH(DATOS_MAP!AF268,referentes!$E:$E,0),1))","v":""},{"$f":"IF(AI268=\"\",\"\", INDEX(referentes!A:B,MATCH(DATOS_MAP!AI268,referentes!$B:$B,0),1))","v":""},{"$f":"IF(AJ268=\"\",\"\", INDEX(referentes!G:H,MATCH(DATOS_MAP!AJ268,referentes!$H:$H,0),1))","v":""},{"$f":"IF(AK268=\"\",\"\", INDEX(referentes!$V$2:$W$10,MATCH(DATOS_MAP!AK268,referentes!$W$2:$W$10,0),1))","v":""},{"$f":"IF(AL268=\"\",\"\", INDEX(referentes!$AB:$AC,MATCH(DATOS_MAP!AL268,referentes!$AC:$AC,0),1))","v":""},{"$f":"IF(AP268=\"\",\"\", INDEX(referentes!$Y$2:$Z$10,MATCH(DATOS_MAP!AP268,referentes!$Z$2:$Z$10,0),1))","v":""},{"$f":"IF(AN268=\"\",\"\", INDEX(referentes!$AE$2:$AF$10,MATCH(DATOS_MAP!AN268,referentes!$AF$2:$AF$10,0),1))","v":""},{"$f":"IF(AQ268=\"\",\"\", INDEX(referentes!J:K,MATCH(DATOS_MAP!AQ268,referentes!$K:$K,0),1))","v":""},null,{"$f":"IF(AY268=\"\",\"\", INDEX('otras referencias'!O:P,MATCH(AY268,'otras referencias'!$O:$O,0),2))","v":""},null,null,null,null,null,{"$f":"IF(X268<>\"\",INDEX(referentes!$AH:$AL,MATCH(DATOS_MAP!X268,referentes!$AI:$AI,0),5),\"\")","v":""}]
[null,null,null,"",{"$f":"IF(J269=\"\",\"\",CONCATENATE(AD269,DIGITADOR!$B$2,DIGITADOR!$M$1,J269))","v":""},{"$f":"IF(J269=\"\",\"\",CONCATENATE(DIGITADOR!$B$2,AD269,DIGITADOR!$M$1,J269,ROW()))","v":""},null,null,null,{"$f":"IF(X269=\"\",\"\", INDEX(referentes!$AH:$AL,MATCH(DATOS_MAP!X269,referentes!$AI:$AI,0),1))","v":""},"",{"$f":"IF(AF269=\"\",\"\", INDEX(referentes!D:E,MATCH(DATOS_MAP!AF269,referentes!$E:$E,0),1))","v":""},{"$f":"IF(AI269=\"\",\"\", INDEX(referentes!A:B,MATCH(DATOS_MAP!AI269,referentes!$B:$B,0),1))","v":""},{"$f":"IF(AJ269=\"\",\"\", INDEX(referentes!G:H,MATCH(DATOS_MAP!AJ269,referentes!$H:$H,0),1))","v":""},{"$f":"IF(AK269=\"\",\"\", INDEX(referentes!$V$2:$W$10,MATCH(DATOS_MAP!AK269,referentes!$W$2:$W$10,0),1))","v":""},{"$f":"IF(AL269=\"\",\"\", INDEX(referentes!$AB:$AC,MATCH(DATOS_MAP!AL269,referentes!$AC:$AC,0),1))","v":""},{"$f":"IF(AP269=\"\",\"\", INDEX(referentes!$Y$2:$Z$10,MATCH(DATOS_MAP!AP269,referentes!$Z$2:$Z$10,0),1))","v":""},{"$f":"IF(AN269=\"\",\"\", INDEX(referentes!$AE$2:$AF$10,MATCH(DATOS_MAP!AN269,referentes!$AF$2:$AF$10,0),1))","v":""},{"$f":"IF(AQ269=\"\",\"\", INDEX(referentes!J:K,MATCH(DATOS_MAP!AQ269,referentes!$K:$K,0),1))","v":""},null,{"$f":"IF(AY269=\"\",\"\", INDEX('otras referencias'!O:P,MATCH(AY269,'otras referencias'!$O:$O,0),2))","v":""},null,null,null,null,null,{"$f":"IF(X269<>\"\",INDEX(referentes!$AH:$AL,MATCH(DATOS_MAP!X269,referentes!$AI:$AI,0),5),\"\")","v":""}]
[null,null,null,"",{"$f":"IF(J270=\"\",\"\",CONCATENATE(AD270,DIGITADOR!$B$2,DIGITADOR!$M$1,J270))","v":""},{"$f":"IF(J270=\"\",\"\",CONCATENATE(DIGITADOR!$B$2,AD270,DIGITADOR!$M$1,J270,ROW()))","v":""},null,null,null,{"$f":"IF(X270=\"\",\"\", INDEX(referentes!$AH:$AL,MATCH(DATOS_MAP!X270,referentes!$AI:$AI,0),1))","v":""},"",{"$f":"IF(AF270=\"\",\"\", INDEX(referentes!D:E,MATCH(DATOS_MAP!AF270,referentes!$E:$E,0),1))","v":""},{"$f":"IF(AI270=\"\",\"\", INDEX(referentes!A:B,MATCH(DATOS_MAP!AI270,referentes!$B:$B,0),1))","v":""},{"$f":"IF(AJ270=\"\",\"\", INDEX(referentes!G:H,MATCH(DATOS_MAP!AJ270,referentes!$H:$H,0),1))","v":""},{"$f":"IF(AK270=\"\",\"\", INDEX(referentes!$V$2:$W$10,MATCH(DATOS_MAP!AK270,referentes!$W$2:$W$10,0),1))","v":""},{"$f":"IF(AL270=\"\",\"\", INDEX(referentes!$AB:$AC,MATCH(DATOS_MAP!AL270,referentes!$AC:$AC,0),1))","v":""},{"$f":"IF(AP270=\"\",\"\", INDEX(referentes!$Y$2:$Z$10,MATCH(DATOS_MAP!AP270,referentes!$Z$2:$Z$10,0),1))","v":""},{"$f":"IF(AN270=\"\",\"\", INDEX(referentes!$AE$2:$AF$10,MATCH(DATOS_MAP!AN270,referentes!$AF$2:$AF$10,0),1))","v":""},{"$f":"IF(AQ270=\"\",\"\", INDEX(referentes!J:K,MATCH(DATOS_MAP!AQ270,referentes!$K:$K,0),1))","v":""},null,{"$f":"IF(AY270=\"\",\"\", INDEX('otras referencias'!O:P,MATCH(AY270,'otras referencias'!$O:$O,0),2))","v":""},null,null,null,null,null,{"$f":"IF(X270<>\"\",INDEX(referentes!$AH:$AL,MATCH(DATOS_MAP!X270,referentes!$AI:$AI,0),5),\"\")","v":""}]
[null,null,null,"",{"$f":"IF(J271=\"\",\"\",CONCATENATE(AD271,DIGITADOR!$B$2,DIGITADOR!$M$1,J271))","v":""},{"$f":"IF(J271=\"\",\"\",CONCATENATE(DIGITADOR!$B$2,AD271,DIGITADOR!$M$1,J271,ROW()))","v":""},null,null,null,{"$f":"IF(X271=\"\",\"\", INDEX(referentes!$AH:$AL,MATCH(DATOS_MAP!X271,referentes!$AI:$AI,0),1))","v":""},"",{"$f":"IF(AF271=\"\",\"\", INDEX(referentes!D:E,MATCH(DATOS_MAP!AF271,referentes!$E:$E,0),1))","v":""},{"$f":"IF(AI271=\"\",\"\", INDEX(referentes!A:B,MATCH(DATOS_MAP!AI271,referentes!$B:$B,0),1))","v":""},{"$f":"IF(AJ271=\"\",\"\", INDEX(referentes!G:H,MATCH(DATOS_MAP!AJ271,referentes!$H:$H,0),1))","v":""},{"$f":"IF(AK271=\"\",\"\", INDEX(referentes!$V$2:$W$10,MATCH(DATOS_MAP!AK271,referentes!$W$2:$W$10,0),1))","v":""},{"$f":"IF(AL271=\"\",\"\", INDEX(referentes!$AB:$AC,MATCH(DATOS_MAP!AL271,referentes!$AC:$AC,0),1))","v":""},{"$f":"IF(AP271=\"\",\"\", INDEX(referentes!$Y$2:$Z$10,MATCH(DATOS_MAP!AP271,referentes!$Z$2:$Z$10,0),1))","v":""},{"$f":"IF(AN271=\"\",\"\", INDEX(referentes!$AE$2:$AF$10,MATCH(DATOS_MAP!AN271,referentes!$AF$2:$AF$10,0),1))","v":""},{"$f":"IF(AQ271=\"\",\"\", INDEX(referentes!J:K,MATCH(DATOS_MAP!AQ271,referentes!$K:$K,0),1))","v":""},null,{"$f":"IF(AY271=\"\",\"\", INDEX('otras referencias'!O:P,MATCH(AY271,'otras referencias'!$O:$O,0),2))","v":""},null,null,null,null,null,{"$f":"IF(X271<>\"\",INDEX(referentes!$AH:$AL,MATCH(DATOS_MAP!X271,referentes!$AI:$AI,0),5),\"\")","v":""}]
[null,null,null,"",{"$f":"IF(J272=\"\",\"\",CONCATENATE(AD272,DIGITADOR!$B$2,DIGITADOR!$M$1,J272))","v":""},{"$f":"IF(J272=\"\",\"\",CONCATENATE(DIGITADOR!$B$2,AD272,DIGITADOR!$M$1,J272,ROW()))","v":""},null,null,null,{"$f":"IF(X272=\"\",\"\", INDEX(referentes!$AH:$AL,MATCH(DATOS_MAP!X272,referentes!$AI:$AI,0),1))","v":""},"",{"$f":"IF(AF272=\"\",\"\", INDEX(referentes!D:E,MATCH(DATOS_MAP!AF272,referentes!$E:$E,0),1))","v":""},{"$f":"IF(AI272=\"\",\"\", INDEX(referentes!A:B,MATCH(DATOS_MAP!AI272,referentes!$B:$B,0),1))","v":""},{"$f":"IF(AJ272=\"\",\"\", INDEX(referentes!G:H,MATCH(DATOS_MAP!AJ272,referentes!$H:$H,0),1))","v":""},{"$f":"IF(AK272=\"\",\"\", INDEX(referentes!$V$2:$W$10,MATCH(DATOS_MAP!AK272,referentes!$W$2:$W$10,0),1))","v":""},{"$f":"IF(AL272=\"\",\"\", INDEX(referentes!$AB:$AC,MATCH(DATOS_MAP!AL272,referentes!$AC:$AC,0),1))","v":""},{"$f":"IF(AP272=\"\",\"\", INDEX(referentes!$Y$2:$Z$10,MATCH(DATOS_MAP!AP272,referentes!$Z$2:$Z$10,0),1))","v":""},{"$f":"IF(AN272=\"\",\"\", INDEX(referentes!$AE$2:$AF$10,MATCH(DATOS_MAP!AN272,referentes!$AF$2:$AF$10,0),1))","v":""},{"$f":"IF(AQ272=\"\",\"\", INDEX(referentes!J:K,MATCH(DATOS_MAP!AQ272,referentes!$K:$K,0),1))","v":""},null,{"$f":"IF(AY272=\"\",\"\", INDEX('otras referencias'!O:P,MATCH(AY272,'otras referencias'!$O:$O,0),2))","v":""},null,null,null,null,null,{"$f":"IF(X272<>\"\",INDEX(referentes!$AH:$AL,MATCH(DATOS_MAP!X272,referentes!$AI:$AI,0),5),\"\")","v":""}]
[null,null,null,"",{"$f":"IF(J273=\"\",\"\",CONCATENATE(AD273,DIGITADOR!$B$2,DIGITADOR!$M$1,J273))","v":""},{"$f":"IF(J273=\"\",\"\",CONCATENATE(DIGITADOR!$B$2,AD273,DIGITADOR!$M$1,J273,ROW()))","v":""},null,null,null,{"$f":"IF(X273=\"\",\"\", INDEX(referentes!$AH:$AL,MATCH(DATOS_MAP!X273,referentes!$AI:$AI,0),1))","v":""},"",{"$f":"IF(AF273=\"\",\"\", INDEX(referentes!D:E,MATCH(DATOS_MAP!AF273,referentes!$E:$E,0),1))","v":""},{"$f":"IF(AI273=\"\",\"\", INDEX(referentes!A:B,MATCH(DATOS_MAP!AI273,referentes!$B:$B,0),1))","v":""},{"$f":"IF(AJ273=\"\",\"\", INDEX(referentes!G:H,MATCH(DATOS_MAP!AJ273,referentes!$H:$H,0),1))","v":""},{"$f":"IF(AK273=\"\",\"\", INDEX(referentes!$V$2:$W$10,MATCH(DATOS_MAP!AK273,referentes!$W$2:$W$10,0),1))","v":""},{"$f":"IF(AL273=\"\",\"\", INDEX(referentes!$AB:$AC,MATCH(DATOS_MAP!AL273,referentes!$AC:$AC,0),1))","v":""},{"$f":"IF(AP273=\"\",\"\", INDEX(referentes!$Y$2:$Z$10,MATCH(DATOS_MAP!AP273,referentes!$Z$2:$Z$10,0),1))","v":""},{"$f":"IF(AN273=\"\",\"\", INDEX(referentes!$AE$2:$AF$10,MATCH(DATOS_MAP!AN273,referentes!$AF$2:$AF$10,0),1))","v":""},{"$f":"IF(AQ273=\"\",\"\", INDEX(referentes!J:K,MATCH(DATOS_MAP!AQ273,referentes!$K:$K,0),1))","v":""},null,{"$f":"IF(AY273=\"\",\"\", INDEX('otras referencias'!O:P,MATCH(AY273,'otras referencias'!$O:$O,0),2))","v":""},null,null,null,null,null,{"$f":"IF(X273<>\"\",INDEX(referentes!$AH:$AL,MATCH(DATOS_MAP!X273,referentes!$AI:$AI,0),5),\"\")","v":""}]
[null,null,null,"",{"$f":"IF(J274=\"\",\"\",CONCATENATE(AD274,DIGITADOR!$B$2,DIGITADOR!$M$1,J274))","v":""},{"$f":"IF(J274=\"\",\"\",CONCATENATE(DIGITADOR!$B$2,AD274,DIGITADOR!$M$1,J274,ROW()))","v":""},null,null,null,{"$f":"IF(X274=\"\",\"\", INDEX(referentes!$AH:$AL,MATCH(DATOS_MAP!X274,referentes!$AI:$AI,0),1))","v":""},"",{"$f":"IF(AF274=\"\",\"\", INDEX(referentes!D:E,MATCH(DATOS_MAP!AF274,referentes!$E:$E,0),1))","v":""},{"$f":"IF(AI274=\"\",\"\", INDEX(referentes!A:B,MATCH(DATOS_MAP!AI274,referentes!$B:$B,0),1))","v":""},{"$f":"IF(AJ274=\"\",\"\", INDEX(referentes!G:H,MATCH(DATOS_MAP!AJ274,referentes!$H:$H,0),1))","v":""},{"$f":"IF(AK274=\"\",\"\", INDEX(referentes!$V$2:$W$10,MATCH(DATOS_MAP!AK274,referentes!$W$2:$W$10,0),1))","v":""},{"$f":"IF(AL274=\"\",\"\", INDEX(referentes!$AB:$AC,MATCH(DATOS_MAP!AL274,referentes!$AC:$AC,0),1))","v":""},{"$f":"IF(AP274=\"\",\"\", INDEX(referentes!$Y$2:$Z$10,MATCH(DATOS_MAP!AP274,referentes!$Z$2:$Z$10,0),1))","v":""},{"$f":"IF(AN274=\"\",\"\", INDEX(referentes!$AE$2:$AF$10,MATCH(DATOS_MAP!AN274,referentes!$AF$2:$AF$10,0),1))","v":""},{"$f":"IF(AQ274=\"\",\"\", INDEX(referentes!J:K,MATCH(DATOS_MAP!AQ274,referentes!$K:$K,0),1))","v":""},null,{"$f":"IF(AY274=\"\",\"\", INDEX('otras referencias'!O:P,MATCH(AY274,'otras referencias'!$O:$O,0),2))","v":""},null,null,null,null,null,{"$f":"IF(X274<>\"\",INDEX(referentes!$AH:$AL,MATCH(DATOS_MAP!X274,referentes!$AI:$AI,0),5),\"\")","v":""}]
[null,null,null,"",{"$f":"IF(J275=\"\",\"\",CONCATENATE(AD275,DIGITADOR!$B$2,DIGITADOR!$M$1,J275))","v":""},{"$f":"IF(J275=\"\",\"\",CONCATENATE(DIGITADOR!$B$2,AD275,DIGITADOR!$M$1,J275,ROW()))","v":""},null,null,null,{"$f":"IF(X275=\"\",\"\", INDEX(referentes!$AH:$AL,MATCH(DATOS_MAP!X275,referentes!$AI:$AI,0),1))","v":""},"",{"$f":"IF(AF275=\"\",\"\", INDEX(referentes!D:E,MATCH(DATOS_MAP!AF275,referentes!$E:$E,0),1))","v":""},{"$f":"IF(AI275=\"\",\"\", INDEX(referentes!A:B,MATCH(DATOS_MAP!AI275,referentes!$B:$B,0),1))","v":""},{"$f":"IF(AJ275=\"\",\"\", INDEX(referentes!G:H,MATCH(DATOS_MAP!AJ275,referentes!$H:$H,0),1))","v":""},{"$f":"IF(AK275=\"\",\"\", INDEX(referentes!$V$2:$W$10,MATCH(DATOS_MAP!AK275,referentes!$W$2:$W$10,0),1))","v":""},{"$f":"IF(AL275=\"\",\"\", INDEX(referentes!$AB:$AC,MATCH(DATOS_MAP!AL275,referentes!$AC:$AC,0),1))","v":""},{"$f":"IF(AP275=\"\",\"\", INDEX(referentes!$Y$2:$Z$10,MATCH(DATOS_MAP!AP275,referentes!$Z$2:$Z$10,0),1))","v":""},{"$f":"IF(AN275=\"\",\"\", INDEX(referentes!$AE$2:$AF$10,MATCH(DATOS_MAP!AN275,referentes!$AF$2:$AF$10,0),1))","v":""},{"$f":"IF(AQ275=\"\",\"\", INDEX(referentes!J:K,MATCH(DATOS_MAP!AQ275,referentes!$K:$K,0),1))","v":""},null,{"$f":"IF(AY275=\"\",\"\", INDEX('otras referencias'!O:P,MATCH(AY275,'otras referencias'!$O:$O,0),2))","v":""},null,null,null,null,null,{"$f":"IF(X275<>\"\",INDEX(referentes!$AH:$AL,MATCH(DATOS_MAP!X275,referentes!$AI:$AI,0),5),\"\")","v":""}]
[null,null,null,"",{"$f":"IF(J276=\"\",\"\",CONCATENATE(AD276,DIGITADOR!$B$2,DIGITADOR!$M$1,J276))","v":""},{"$f":"IF(J276=\"\",\"\",CONCATENATE(DIGITADOR!$B$2,AD276,DIGITADOR!$M$1,J276,ROW()))","v":""},null,null,null,{"$f":"IF(X276=\"\",\"\", INDEX(referentes!$AH:$AL,MATCH(DATOS_MAP!X276,referentes!$AI:$AI,0),1))","v":""},"",{"$f":"IF(AF276=\"\",\"\", INDEX(referentes!D:E,MATCH(DATOS_MAP!AF276,referentes!$E:$E,0),1))","v":""},{"$f":"IF(AI276=\"\",\"\", INDEX(referentes!A:B,MATCH(DATOS_MAP!AI276,referentes!$B:$B,0),1))","v":""},{"$f":"IF(AJ276=\"\",\"\", INDEX(referentes!G:H,MATCH(DATOS_MAP!AJ276,referentes!$H:$H,0),1))","v":""},{"$f":"IF(AK276=\"\",\"\", INDEX(referentes!$V$2:$W$10,MATCH(DATOS_MAP!AK276,referentes!$W$2:$W$10,0),1))","v":""},{"$f":"IF(AL276=\"\",\"\", INDEX(referentes!$AB:$AC,MATCH(DATOS_MAP!AL276,referentes!$AC:$AC,0),1))","v":""},{"$f":"IF(AP276=\"\",\"\", INDEX(referentes!$Y$2:$Z$10,MATCH(DATOS_MAP!AP276,referentes!$Z$2:$Z$10,0),1))","v":""},{"$f":"IF(AN276=\"\",\"\", INDEX(referentes!$AE$2:$AF$10,MATCH(DATOS_MAP!AN276,referentes!$AF$2:$AF$10,0),1))","v":""},{"$f":"IF(AQ276=\"\",\"\", INDEX(referentes!J:K,MATCH(DATOS_MAP!AQ276,referentes!$K:$K,0),1))","v":""},null,{"$f":"IF(AY276=\"\",\"\", INDEX('otras referencias'!O:P,MATCH(AY276,'otras referencias'!$O:$O,0),2))","v":""},null,null,null,null,null,{"$f":"IF(X276<>\"\",INDEX(referentes!$AH:$AL,MATCH(DATOS_MAP!X276,referentes!$AI:$AI,0),5),\"\")","v":""}]
[null,null,null,"",{"$f":"IF(J277=\"\",\"\",CONCATENATE(AD277,DIGITADOR!$B$2,DIGITADOR!$M$1,J277))","v":""},{"$f":"IF(J277=\"\",\"\",CONCATENATE(DIGITADOR!$B$2,AD277,DIGITADOR!$M$1,J277,ROW()))","v":""},null,null,null,{"$f":"IF(X277=\"\",\"\", INDEX(referentes!$AH:$AL,MATCH(DATOS_MAP!X277,referentes!$AI:$AI,0),1))","v":""},"",{"$f":"IF(AF277=\"\",\"\", INDEX(referentes!D:E,MATCH(DATOS_MAP!AF277,referentes!$E:$E,0),1))","v":""},{"$f":"IF(AI277=\"\",\"\", INDEX(referentes!A:B,MATCH(DATOS_MAP!AI277,referentes!$B:$B,0),1))","v":""},{"$f":"IF(AJ277=\"\",\"\", INDEX(referentes!G:H,MATCH(DATOS_MAP!AJ277,referentes!$H:$H,0),1))","v":""},{"$f":"IF(AK277=\"\",\"\", INDEX(referentes!$V$2:$W$10,MATCH(DATOS_MAP!AK277,referentes!$W$2:$W$10,0),1))","v":""},{"$f":"IF(AL277=\"\",\"\", INDEX(referentes!$AB:$AC,MATCH(DATOS_MAP!AL277,referentes!$AC:$AC,0),1))","v":""},{"$f":"IF(AP277=\"\",\"\", INDEX(referentes!$Y$2:$Z$10,MATCH(DATOS_MAP!AP277,referentes!$Z$2:$Z$10,0),1))","v":""},{"$f":"IF(AN277=\"\",\"\", INDEX(referentes!$AE$2:$AF$10,MATCH(DATOS_MAP!AN277,referentes!$AF$2:$AF$10,0),1))","v":""},{"$f":"IF(AQ277=\"\",\"\", INDEX(referentes!J:K,MATCH(DATOS_MAP!AQ277,referentes!$K:$K,0),1))","v":""},null,{"$f":"IF(AY277=\"\",\"\", INDEX('otras referencias'!O:P,MATCH(AY277,'otras referencias'!$O:$O,0),2))","v":""},null,null,null,null,null,{"$f":"IF(X277<>\"\",INDEX(referentes!$AH:$AL,MATCH(DATOS_MAP!X277,referentes!$AI:$AI,0),5),\"\")","v":""}]
[null,null,null,"",{"$f":"IF(J278=\"\",\"\",CONCATENATE(AD278,DIGITADOR!$B$2,DIGITADOR!$M$1,J278))","v":""},{"$f":"IF(J278=\"\",\"\",CONCATENATE(DIGITADOR!$B$2,AD278,DIGITADOR!$M$1,J278,ROW()))","v":""},null,null,null,{"$f":"IF(X278=\"\",\"\", INDEX(referentes!$AH:$AL,MATCH(DATOS_MAP!X278,referentes!$AI:$AI,0),1))","v":""},"",{"$f":"IF(AF278=\"\",\"\", INDEX(referentes!D:E,MATCH(DATOS_MAP!AF278,referentes!$E:$E,0),1))","v":""},{"$f":"IF(AI278=\"\",\"\", INDEX(referentes!A:B,MATCH(DATOS_MAP!AI278,referentes!$B:$B,0),1))","v":""},{"$f":"IF(AJ278=\"\",\"\", INDEX(referentes!G:H,MATCH(DATOS_MAP!AJ278,referentes!$H:$H,0),1))","v":""},{"$f":"IF(AK278=\"\",\"\", INDEX(referentes!$V$2:$W$10,MATCH(DATOS_MAP!AK278,referentes!$W$2:$W$10,0),1))","v":""},{"$f":"IF(AL278=\"\",\"\", INDEX(referentes!$AB:$AC,MATCH(DATOS_MAP!AL278,referentes!$AC:$AC,0),1))","v":""},{"$f":"IF(AP278=\"\",\"\", INDEX(referentes!$Y$2:$Z$10,MATCH(DATOS_MAP!AP278,referentes!$Z$2:$Z$10,0),1))","v":""},{"$f":"IF(AN278=\"\",\"\", INDEX(referentes!$AE$2:$AF$10,MATCH(DATOS_MAP!AN278,referentes!$AF$2:$AF$10,0),1))","v":""},{"$f":"IF(AQ278=\"\",\"\", INDEX(referentes!J:K,MATCH(DATOS_MAP!AQ278,referentes!$K:$K,0),1))","v":""},null,{"$f":"IF(AY278=\"\",\"\", INDEX('otras referencias'!O:P,MATCH(AY278,'otras referencias'!$O:$O,0),2))","v":""},null,null,null,null,null,{"$f":"IF(X278<>\"\",INDEX(referentes!$AH:$AL,MATCH(DATOS_MAP!X278,referentes!$AI:$AI,0),5),\"\")","v":""}]
[null,null,null,"",{"$f":"IF(J279=\"\",\"\",CONCATENATE(AD279,DIGITADOR!$B$2,DIGITADOR!$M$1,J279))","v":""},{"$f":"IF(J279=\"\",\"\",CONCATENATE(DIGITADOR!$B$2,AD279,DIGITADOR!$M$1,J279,ROW()))","v":""},null,null,null,{"$f":"IF(X279=\"\",\"\", INDEX(referentes!$AH:$AL,MATCH(DATOS_MAP!X279,referentes!$AI:$AI,0),1))","v":""},"",{"$f":"IF(AF279=\"\",\"\", INDEX(referentes!D:E,MATCH(DATOS_MAP!AF279,referentes!$E:$E,0),1))","v":""},{"$f":"IF(AI279=\"\",\"\", INDEX(referentes!A:B,MATCH(DATOS_MAP!AI279,referentes!$B:$B,0),1))","v":""},{"$f":"IF(AJ279=\"\",\"\", INDEX(referentes!G:H,MATCH(DATOS_MAP!AJ279,referentes!$H:$H,0),1))","v":""},{"$f":"IF(AK279=\"\",\"\", INDEX(referentes!$V$2:$W$10,MATCH(DATOS_MAP!AK279,referentes!$W$2:$W$10,0),1))","v":""},{"$f":"IF(AL279=\"\",\"\", INDEX(referentes!$AB:$AC,MATCH(DATOS_MAP!AL279,referentes!$AC:$AC,0),1))","v":""},{"$f":"IF(AP279=\"\",\"\", INDEX(referentes!$Y$2:$Z$10,MATCH(DATOS_MAP!AP279,referentes!$Z$2:$Z$10,0),1))","v":""},{"$f":"IF(AN279=\"\",\"\", INDEX(referentes!$AE$2:$AF$10,MATCH(DATOS_MAP!AN279,referentes!$AF$2:$AF$10,0),1))","v":""},{"$f":"IF(AQ279=\"\",\"\", INDEX(referentes!J:K,MATCH(DATOS_MAP!AQ279,referentes!$K:$K,0),1))","v":""},null,{"$f":"IF(AY279=\"\",\"\", INDEX('otras referencias'!O:P,MATCH(AY279,'otras referencias'!$O:$O,0),2))","v":""},null,null,null,null,null,{"$f":"IF(X279<>\"\",INDEX(referentes!$AH:$AL,MATCH(DATOS_MAP!X279,referentes!$AI:$AI,0),5),\"\")","v":""}]
[null,null,null,"",{"$f":"IF(J280=\"\",\"\",CONCATENATE(AD280,DIGITADOR!$B$2,DIGITADOR!$M$1,J280))","v":""},{"$f":"IF(J280=\"\",\"\",CONCATENATE(DIGITADOR!$B$2,AD280,DIGITADOR!$M$1,J280,ROW()))","v":""},null,null,null,{"$f":"IF(X280=\"\",\"\", INDEX(referentes!$AH:$AL,MATCH(DATOS_MAP!X280,referentes!$AI:$AI,0),1))","v":""},"",{"$f":"IF(AF280=\"\",\"\", INDEX(referentes!D:E,MATCH(DATOS_MAP!AF280,referentes!$E:$E,0),1))","v":""},{"$f":"IF(AI280=\"\",\"\", INDEX(referentes!A:B,MATCH(DATOS_MAP!AI280,referentes!$B:$B,0),1))","v":""},{"$f":"IF(AJ280=\"\",\"\", INDEX(referentes!G:H,MATCH(DATOS_MAP!AJ280,referentes!$H:$H,0),1))","v":""},{"$f":"IF(AK280=\"\",\"\", INDEX(referentes!$V$2:$W$10,MATCH(DATOS_MAP!AK280,referentes!$W$2:$W$10,0),1))","v":""},{"$f":"IF(AL280=\"\",\"\", INDEX(referentes!$AB:$AC,MATCH(DATOS_MAP!AL280,referentes!$AC:$AC,0),1))","v":""},{"$f":"IF(AP280=\"\",\"\", INDEX(referentes!$Y$2:$Z$10,MATCH(DATOS_MAP!AP280,referentes!$Z$2:$Z$10,0),1))","v":""},{"$f":"IF(AN280=\"\",\"\", INDEX(referentes!$AE$2:$AF$10,MATCH(DATOS_MAP!AN280,referentes!$AF$2:$AF$10,0),1))","v":""},{"$f":"IF(AQ280=\"\",\"\", INDEX(referentes!J:K,MATCH(DATOS_MAP!AQ280,referentes!$K:$K,0),1))","v":""},null,{"$f":"IF(AY280=\"\",\"\", INDEX('otras referencias'!O:P,MATCH(AY280,'otras referencias'!$O:$O,0),2))","v":""},null,null,null,null,null,{"$f":"IF(X280<>\"\",INDEX(referentes!$AH:$AL,MATCH(DATOS_MAP!X280,referentes!$AI:$AI,0),5),\"\")","v":""}]
[null,null,null,"",{"$f":"IF(J281=\"\",\"\",CONCATENATE(AD281,DIGITADOR!$B$2,DIGITADOR!$M$1,J281))","v":""},{"$f":"IF(J281=\"\",\"\",CONCATENATE(DIGITADOR!$B$2,AD281,DIGITADOR!$M$1,J281,ROW()))","v":""},null,null,null,{"$f":"IF(X281=\"\",\"\", INDEX(referentes!$AH:$AL,MATCH(DATOS_MAP!X281,referentes!$AI:$AI,0),1))","v":""},"",{"$f":"IF(AF281=\"\",\"\", INDEX(referentes!D:E,MATCH(DATOS_MAP!AF281,referentes!$E:$E,0),1))","v":""},{"$f":"IF(AI281=\"\",\"\", INDEX(referentes!A:B,MATCH(DATOS_MAP!AI281,referentes!$B:$B,0),1))","v":""},{"$f":"IF(AJ281=\"\",\"\", INDEX(referentes!G:H,MATCH(DATOS_MAP!AJ281,referentes!$H:$H,0),1))","v":""},{"$f":"IF(AK281=\"\",\"\", INDEX(referentes!$V$2:$W$10,MATCH(DATOS_MAP!AK281,referentes!$W$2:$W$10,0),1))","v":""},{"$f":"IF(AL281=\"\",\"\", INDEX(referentes!$AB:$AC,MATCH(DATOS_MAP!AL281,referentes!$AC:$AC,0),1))","v":""},{"$f":"IF(AP281=\"\",\"\", INDEX(referentes!$Y$2:$Z$10,MATCH(DATOS_MAP!AP281,referentes!$Z$2:$Z$10,0),1))","v":""},{"$f":"IF(AN281=\"\",\"\", INDEX(referentes!$AE$2:$AF$10,MATCH(DATOS_MAP!AN281,referentes!$AF$2:$AF$10,0),1))","v":""},{"$f":"IF(AQ281=\"\",\"\", INDEX(referentes!J:K,MATCH(DATOS_MAP!AQ281,referentes!$K:$K,0),1))","v":""},null,{"$f":"IF(AY281=\"\",\"\", INDEX('otras referencias'!O:P,MATCH(AY281,'otras referencias'!$O:$O,0),2))","v":""},null,null,null,null,null,{"$f":"IF(X281<>\"\",INDEX(referentes!$AH:$AL,MATCH(DATOS_MAP!X281,referentes!$AI:$AI,0),5),\"\")","v":""}]
[null,null,null,"",{"$f":"IF(J282=\"\",\"\",CONCATENATE(AD282,DIGITADOR!$B$2,DIGITADOR!$M$1,J282))","v":""},{"$f":"IF(J282=\"\",\"\",CONCATENATE(DIGITADOR!$B$2,AD282,DIGITADOR!$M$1,J282,ROW()))","v":""},null,null,null,{"$f":"IF(X282=\"\",\"\", INDEX(referentes!$AH:$AL,MATCH(DATOS_MAP!X282,referentes!$AI:$AI,0),1))","v":""},"",{"$f":"IF(AF282=\"\",\"\", INDEX(referentes!D:E,MATCH(DATOS_MAP!AF282,referentes!$E:$E,0),1))","v":""},{"$f":"IF(AI282=\"\",\"\", INDEX(referentes!A:B,MATCH(DATOS_MAP!AI282,referentes!$B:$B,0),1))","v":""},{"$f":"IF(AJ282=\"\",\"\", INDEX(referentes!G:H,MATCH(DATOS_MAP!AJ282,referentes!$H:$H,0),1))","v":""},{"$f":"IF(AK282=\"\",\"\", INDEX(referentes!$V$2:$W$10,MATCH(DATOS_MAP!AK282,referentes!$W$2:$W$10,0),1))","v":""},{"$f":"IF(AL282=\"\",\"\", INDEX(referentes!$AB:$AC,MATCH(DATOS_MAP!AL282,referentes!$AC:$AC,0),1))","v":""},{"$f":"IF(AP282=\"\",\"\", INDEX(referentes!$Y$2:$Z$10,MATCH(DATOS_MAP!AP282,referentes!$Z$2:$Z$10,0),1))","v":""},{"$f":"IF(AN282=\"\",\"\", INDEX(referentes!$AE$2:$AF$10,MATCH(DATOS_MAP!AN282,referentes!$AF$2:$AF$10,0),1))","v":""},{"$f":"IF(AQ282=\"\",\"\", INDEX(referentes!J:K,MATCH(DATOS_MAP!AQ282,referentes!$K:$K,0),1))","v":""},null,{"$f":"IF(AY282=\"\",\"\", INDEX('otras referencias'!O:P,MATCH(AY282,'otras referencias'!$O:$O,0),2))","v":""},null,null,null,null,null,{"$f":"IF(X282<>\"\",INDEX(referentes!$AH:$AL,MATCH(DATOS_MAP!X282,referentes!$AI:$AI,0),5),\"\")","v":""}]
[null,null,null,"",{"$f":"IF(J283=\"\",\"\",CONCATENATE(AD283,DIGITADOR!$B$2,DIGITADOR!$M$1,J283))","v":""},{"$f":"IF(J283=\"\",\"\",CONCATENATE(DIGITADOR!$B$2,AD283,DIGITADOR!$M$1,J283,ROW()))","v":""},null,null,null,{"$f":"IF(X283=\"\",\"\", INDEX(referentes!$AH:$AL,MATCH(DATOS_MAP!X283,referentes!$AI:$AI,0),1))","v":""},"",{"$f":"IF(AF283=\"\",\"\", INDEX(referentes!D:E,MATCH(DATOS_MAP!AF283,referentes!$E:$E,0),1))","v":""},{"$f":"IF(AI283=\"\",\"\", INDEX(referentes!A:B,MATCH(DATOS_MAP!AI283,referentes!$B:$B,0),1))","v":""},{"$f":"IF(AJ283=\"\",\"\", INDEX(referentes!G:H,MATCH(DATOS_MAP!AJ283,referentes!$H:$H,0),1))","v":""},{"$f":"IF(AK283=\"\",\"\", INDEX(referentes!$V$2:$W$10,MATCH(DATOS_MAP!AK283,referentes!$W$2:$W$10,0),1))","v":""},{"$f":"IF(AL283=\"\",\"\", INDEX(referentes!$AB:$AC,MATCH(DATOS_MAP!AL283,referentes!$AC:$AC,0),1))","v":""},{"$f":"IF(AP283=\"\",\"\", INDEX(referentes!$Y$2:$Z$10,MATCH(DATOS_MAP!AP283,referentes!$Z$2:$Z$10,0),1))","v":""},{"$f":"IF(AN283=\"\",\"\", INDEX(referentes!$AE$2:$AF$10,MATCH(DATOS_MAP!AN283,referentes!$AF$2:$AF$10,0),1))","v":""},{"$f":"IF(AQ283=\"\",\"\", INDEX(referentes!J:K,MATCH(DATOS_MAP!AQ283,referentes!$K:$K,0),1))","v":""},null,{"$f":"IF(AY283=\"\",\"\", INDEX('otras referencias'!O:P,MATCH(AY283,'otras referencias'!$O:$O,0),2))","v":""},null,null,null,null,null,{"$f":"IF(X283<>\"\",INDEX(referentes!$AH:$AL,MATCH(DATOS_MAP!X283,referentes!$AI:$AI,0),5),\"\")","v":""}]
[null,null,null,"",{"$f":"IF(J284=\"\",\"\",CONCATENATE(AD284,DIGITADOR!$B$2,DIGITADOR!$M$1,J284))","v":""},{"$f":"IF(J284=\"\",\"\",CONCATENATE(DIGITADOR!$B$2,AD284,DIGITADOR!$M$1,J284,ROW()))","v":""},null,null,null,{"$f":"IF(X284=\"\",\"\", INDEX(referentes!$AH:$AL,MATCH(DATOS_MAP!X284,referentes!$AI:$AI,0),1))","v":""},"",{"$f":"IF(AF284=\"\",\"\", INDEX(referentes!D:E,MATCH(DATOS_MAP!AF284,referentes!$E:$E,0),1))","v":""},{"$f":"IF(AI284=\"\",\"\", INDEX(referentes!A:B,MATCH(DATOS_MAP!AI284,referentes!$B:$B,0),1))","v":""},{"$f":"IF(AJ284=\"\",\"\", INDEX(referentes!G:H,MATCH(DATOS_MAP!AJ284,referentes!$H:$H,0),1))","v":""},{"$f":"IF(AK284=\"\",\"\", INDEX(referentes!$V$2:$W$10,MATCH(DATOS_MAP!AK284,referentes!$W$2:$W$10,0),1))","v":""},{"$f":"IF(AL284=\"\",\"\", INDEX(referentes!$AB:$AC,MATCH(DATOS_MAP!AL284,referentes!$AC:$AC,0),1))","v":""},{"$f":"IF(AP284=\"\",\"\", INDEX(referentes!$Y$2:$Z$10,MATCH(DATOS_MAP!AP284,referentes!$Z$2:$Z$10,0),1))","v":""},{"$f":"IF(AN284=\"\",\"\", INDEX(referentes!$AE$2:$AF$10,MATCH(DATOS_MAP!AN284,referentes!$AF$2:$AF$10,0),1))","v":""},{"$f":"IF(AQ284=\"\",\"\", INDEX(referentes!J:K,MATCH(DATOS_MAP!AQ284,referentes!$K:$K,0),1))","v":""},null,{"$f":"IF(AY284=\"\",\"\", INDEX('otras referencias'!O:P,MATCH(AY284,'otras referencias'!$O:$O,0),2))","v":""},null,null,null,null,null,{"$f":"IF(X284<>\"\",INDEX(referentes!$AH:$AL,MATCH(DATOS_MAP!X284,referentes!$AI:$AI,0),5),\"\")","v":""}]
[null,null,null,"",{"$f":"IF(J285=\"\",\"\",CONCATENATE(AD285,DIGITADOR!$B$2,DIGITADOR!$M$1,J285))","v":""},{"$f":"IF(J285=\"\",\"\",CONCATENATE(DIGITADOR!$B$2,AD285,DIGITADOR!$M$1,J285,ROW()))","v":""},null,null,null,{"$f":"IF(X285=\"\",\"\", INDEX(referentes!$AH:$AL,MATCH(DATOS_MAP!X285,referentes!$AI:$AI,0),1))","v":""},"",{"$f":"IF(AF285=\"\",\"\", INDEX(referentes!D:E,MATCH(DATOS_MAP!AF285,referentes!$E:$E,0),1))","v":""},{"$f":"IF(AI285=\"\",\"\", INDEX(referentes!A:B,MATCH(DATOS_MAP!AI285,referentes!$B:$B,0),1))","v":""},{"$f":"IF(AJ285=\"\",\"\", INDEX(referentes!G:H,MATCH(DATOS_MAP!AJ285,referentes!$H:$H,0),1))","v":""},{"$f":"IF(AK285=\"\",\"\", INDEX(referentes!$V$2:$W$10,MATCH(DATOS_MAP!AK285,referentes!$W$2:$W$10,0),1))","v":""},{"$f":"IF(AL285=\"\",\"\", INDEX(referentes!$AB:$AC,MATCH(DATOS_MAP!AL285,referentes!$AC:$AC,0),1))","v":""},{"$f":"IF(AP285=\"\",\"\", INDEX(referentes!$Y$2:$Z$10,MATCH(DATOS_MAP!AP285,referentes!$Z$2:$Z$10,0),1))","v":""},{"$f":"IF(AN285=\"\",\"\", INDEX(referentes!$AE$2:$AF$10,MATCH(DATOS_MAP!AN285,referentes!$AF$2:$AF$10,0),1))","v":""},{"$f":"IF(AQ285=\"\",\"\", INDEX(referentes!J:K,MATCH(DATOS_MAP!AQ285,referentes!$K:$K,0),1))","v":""},null,{"$f":"IF(AY285=\"\",\"\", INDEX('otras referencias'!O:P,MATCH(AY285,'otras referencias'!$O:$O,0),2))","v":""},null,null,null,null,null,{"$f":"IF(X285<>\"\",INDEX(referentes!$AH:$AL,MATCH(DATOS_MAP!X285,referentes!$AI:$AI,0),5),\"\")","v":""}]
[null,null,null,"",{"$f":"IF(J286=\"\",\"\",CONCATENATE(AD286,DIGITADOR!$B$2,DIGITADOR!$M$1,J286))","v":""},{"$f":"IF(J286=\"\",\"\",CONCATENATE(DIGITADOR!$B$2,AD286,DIGITADOR!$M$1,J286,ROW()))","v":""},null,null,null,{"$f":"IF(X286=\"\",\"\", INDEX(referentes!$AH:$AL,MATCH(DATOS_MAP!X286,referentes!$AI:$AI,0),1))","v":""},"",{"$f":"IF(AF286=\"\",\"\", INDEX(referentes!D:E,MATCH(DATOS_MAP!AF286,referentes!$E:$E,0),1))","v":""},{"$f":"IF(AI286=\"\",\"\", INDEX(referentes!A:B,MATCH(DATOS_MAP!AI286,referentes!$B:$B,0),1))","v":""},{"$f":"IF(AJ286=\"\",\"\", INDEX(referentes!G:H,MATCH(DATOS_MAP!AJ286,referentes!$H:$H,0),1))","v":""},{"$f":"IF(AK286=\"\",\"\", INDEX(referentes!$V$2:$W$10,MATCH(DATOS_MAP!AK286,referentes!$W$2:$W$10,0),1))","v":""},{"$f":"IF(AL286=\"\",\"\", INDEX(referentes!$AB:$AC,MATCH(DATOS_MAP!AL286,referentes!$AC:$AC,0),1))","v":""},{"$f":"IF(AP286=\"\",\"\", INDEX(referentes!$Y$2:$Z$10,MATCH(DATOS_MAP!AP286,referentes!$Z$2:$Z$10,0),1))","v":""},{"$f":"IF(AN286=\"\",\"\", INDEX(referentes!$AE$2:$AF$10,MATCH(DATOS_MAP!AN286,referentes!$AF$2:$AF$10,0),1))","v":""},{"$f":"IF(AQ286=\"\",\"\", INDEX(referentes!J:K,MATCH(DATOS_MAP!AQ286,referentes!$K:$K,0),1))","v":""},null,{"$f":"IF(AY286=\"\",\"\", INDEX('otras referencias'!O:P,MATCH(AY286,'otras referencias'!$O:$O,0),2))","v":""},null,null,null,null,null,{"$f":"IF(X286<>\"\",INDEX(referentes!$AH:$AL,MATCH(DATOS_MAP!X286,referentes!$AI:$AI,0),5),\"\")","v":""}]
[null,null,null,"",{"$f":"IF(J287=\"\",\"\",CONCATENATE(AD287,DIGITADOR!$B$2,DIGITADOR!$M$1,J287))","v":""},{"$f":"IF(J287=\"\",\"\",CONCATENATE(DIGITADOR!$B$2,AD287,DIGITADOR!$M$1,J287,ROW()))","v":""},null,null,null,{"$f":"IF(X287=\"\",\"\", INDEX(referentes!$AH:$AL,MATCH(DATOS_MAP!X287,referentes!$AI:$AI,0),1))","v":""},"",{"$f":"IF(AF287=\"\",\"\", INDEX(referentes!D:E,MATCH(DATOS_MAP!AF287,referentes!$E:$E,0),1))","v":""},{"$f":"IF(AI287=\"\",\"\", INDEX(referentes!A:B,MATCH(DATOS_MAP!AI287,referentes!$B:$B,0),1))","v":""},{"$f":"IF(AJ287=\"\",\"\", INDEX(referentes!G:H,MATCH(DATOS_MAP!AJ287,referentes!$H:$H,0),1))","v":""},{"$f":"IF(AK287=\"\",\"\", INDEX(referentes!$V$2:$W$10,MATCH(DATOS_MAP!AK287,referentes!$W$2:$W$10,0),1))","v":""},{"$f":"IF(AL287=\"\",\"\", INDEX(referentes!$AB:$AC,MATCH(DATOS_MAP!AL287,referentes!$AC:$AC,0),1))","v":""},{"$f":"IF(AP287=\"\",\"\", INDEX(referentes!$Y$2:$Z$10,MATCH(DATOS_MAP!AP287,referentes!$Z$2:$Z$10,0),1))","v":""},{"$f":"IF(AN287=\"\",\"\", INDEX(referentes!$AE$2:$AF$10,MATCH(DATOS_MAP!AN287,referentes!$AF$2:$AF$10,0),1))","v":""},{"$f":"IF(AQ287=\"\",\"\", INDEX(referentes!J:K,MATCH(DATOS_MAP!AQ287,referentes!$K:$K,0),1))","v":""},null,{"$f":"IF(AY287=\"\",\"\", INDEX('otras referencias'!O:P,MATCH(AY287,'otras referencias'!$O:$O,0),2))","v":""},null,null,null,null,null,{"$f":"IF(X287<>\"\",INDEX(referentes!$AH:$AL,MATCH(DATOS_MAP!X287,referentes!$AI:$AI,0),5),\"\")","v":""}]
[null,null,null,"",{"$f":"IF(J288=\"\",\"\",CONCATENATE(AD288,DIGITADOR!$B$2,DIGITADOR!$M$1,J288))","v":""},{"$f":"IF(J288=\"\",\"\",CONCATENATE(DIGITADOR!$B$2,AD288,DIGITADOR!$M$1,J288,ROW()))","v":""},null,null,null,{"$f":"IF(X288=\"\",\"\", INDEX(referentes!$AH:$AL,MATCH(DATOS_MAP!X288,referentes!$AI:$AI,0),1))","v":""},"",{"$f":"IF(AF288=\"\",\"\", INDEX(referentes!D:E,MATCH(DATOS_MAP!AF288,referentes!$E:$E,0),1))","v":""},{"$f":"IF(AI288=\"\",\"\", INDEX(referentes!A:B,MATCH(DATOS_MAP!AI288,referentes!$B:$B,0),1))","v":""},{"$f":"IF(AJ288=\"\",\"\", INDEX(referentes!G:H,MATCH(DATOS_MAP!AJ288,referentes!$H:$H,0),1))","v":""},{"$f":"IF(AK288=\"\",\"\", INDEX(referentes!$V$2:$W$10,MATCH(DATOS_MAP!AK288,referentes!$W$2:$W$10,0),1))","v":""},{"$f":"IF(AL288=\"\",\"\", INDEX(referentes!$AB:$AC,MATCH(DATOS_MAP!AL288,referentes!$AC:$AC,0),1))","v":""},{"$f":"IF(AP288=\"\",\"\", INDEX(referentes!$Y$2:$Z$10,MATCH(DATOS_MAP!AP288,referentes!$Z$2:$Z$10,0),1))","v":""},{"$f":"IF(AN288=\"\",\"\", INDEX(referentes!$AE$2:$AF$10,MATCH(DATOS_MAP!AN288,referentes!$AF$2:$AF$10,0),1))","v":""},{"$f":"IF(AQ288=\"\",\"\", INDEX(referentes!J:K,MATCH(DATOS_MAP!AQ288,referentes!$K:$K,0),1))","v":""},null,{"$f":"IF(AY288=\"\",\"\", INDEX('otras referencias'!O:P,MATCH(AY288,'otras referencias'!$O:$O,0),2))","v":""},null,null,null,null,null,{"$f":"IF(X288<>\"\",INDEX(referentes!$AH:$AL,MATCH(DATOS_MAP!X288,referentes!$AI:$AI,0),5),\"\")","v":""}]
[null,null,null,"",{"$f":"IF(J289=\"\",\"\",CONCATENATE(AD289,DIGITADOR!$B$2,DIGITADOR!$M$1,J289))","v":""},{"$f":"IF(J289=\"\",\"\",CONCATENATE(DIGITADOR!$B$2,AD289,DIGITADOR!$M$1,J289,ROW()))","v":""},null,null,null,{"$f":"IF(X289=\"\",\"\", INDEX(referentes!$AH:$AL,MATCH(DATOS_MAP!X289,referentes!$AI:$AI,0),1))","v":""},"",{"$f":"IF(AF289=\"\",\"\", INDEX(referentes!D:E,MATCH(DATOS_MAP!AF289,referentes!$E:$E,0),1))","v":""},{"$f":"IF(AI289=\"\",\"\", INDEX(referentes!A:B,MATCH(DATOS_MAP!AI289,referentes!$B:$B,0),1))","v":""},{"$f":"IF(AJ289=\"\",\"\", INDEX(referentes!G:H,MATCH(DATOS_MAP!AJ289,referentes!$H:$H,0),1))","v":""},{"$f":"IF(AK289=\"\",\"\", INDEX(referentes!$V$2:$W$10,MATCH(DATOS_MAP!AK289,referentes!$W$2:$W$10,0),1))","v":""},{"$f":"IF(AL289=\"\",\"\", INDEX(referentes!$AB:$AC,MATCH(DATOS_MAP!AL289,referentes!$AC:$AC,0),1))","v":""},{"$f":"IF(AP289=\"\",\"\", INDEX(referentes!$Y$2:$Z$10,MATCH(DATOS_MAP!AP289,referentes!$Z$2:$Z$10,0),1))","v":""},{"$f":"IF(AN289=\"\",\"\", INDEX(referentes!$AE$2:$AF$10,MATCH(DATOS_MAP!AN289,referentes!$AF$2:$AF$10,0),1))","v":""},{"$f":"IF(AQ289=\"\",\"\", INDEX(referentes!J:K,MATCH(DATOS_MAP!AQ289,referentes!$K:$K,0),1))","v":""},null,{"$f":"IF(AY289=\"\",\"\", INDEX('otras referencias'!O:P,MATCH(AY289,'otras referencias'!$O:$O,0),2))","v":""},null,null,null,null,null,{"$f":"IF(X289<>\"\",INDEX(referentes!$AH:$AL,MATCH(DATOS_MAP!X289,referentes!$AI:$AI,0),5),\"\")","v":""}]
[null,null,null,"",{"$f":"IF(J290=\"\",\"\",CONCATENATE(AD290,DIGITADOR!$B$2,DIGITADOR!$M$1,J290))","v":""},{"$f":"IF(J290=\"\",\"\",CONCATENATE(DIGITADOR!$B$2,AD290,DIGITADOR!$M$1,J290,ROW()))","v":""},null,null,null,{"$f":"IF(X290=\"\",\"\", INDEX(referentes!$AH:$AL,MATCH(DATOS_MAP!X290,referentes!$AI:$AI,0),1))","v":""},"",{"$f":"IF(AF290=\"\",\"\", INDEX(referentes!D:E,MATCH(DATOS_MAP!AF290,referentes!$E:$E,0),1))","v":""},{"$f":"IF(AI290=\"\",\"\", INDEX(referentes!A:B,MATCH(DATOS_MAP!AI290,referentes!$B:$B,0),1))","v":""},{"$f":"IF(AJ290=\"\",\"\", INDEX(referentes!G:H,MATCH(DATOS_MAP!AJ290,referentes!$H:$H,0),1))","v":""},{"$f":"IF(AK290=\"\",\"\", INDEX(referentes!$V$2:$W$10,MATCH(DATOS_MAP!AK290,referentes!$W$2:$W$10,0),1))","v":""},{"$f":"IF(AL290=\"\",\"\", INDEX(referentes!$AB:$AC,MATCH(DATOS_MAP!AL290,referentes!$AC:$AC,0),1))","v":""},{"$f":"IF(AP290=\"\",\"\", INDEX(referentes!$Y$2:$Z$10,MATCH(DATOS_MAP!AP290,referentes!$Z$2:$Z$10,0),1))","v":""},{"$f":"IF(AN290=\"\",\"\", INDEX(referentes!$AE$2:$AF$10,MATCH(DATOS_MAP!AN290,referentes!$AF$2:$AF$10,0),1))","v":""},{"$f":"IF(AQ290=\"\",\"\", INDEX(referentes!J:K,MATCH(DATOS_MAP!AQ290,referentes!$K:$K,0),1))","v":""},null,{"$f":"IF(AY290=\"\",\"\", INDEX('otras referencias'!O:P,MATCH(AY290,'otras referencias'!$O:$O,0),2))","v":""},null,null,null,null,null,{"$f":"IF(X290<>\"\",INDEX(referentes!$AH:$AL,MATCH(DATOS_MAP!X290,referentes!$AI:$AI,0),5),\"\")","v":""}]
[null,null,null,"",{"$f":"IF(J291=\"\",\"\",CONCATENATE(AD291,DIGITADOR!$B$2,DIGITADOR!$M$1,J291))","v":""},{"$f":"IF(J291=\"\",\"\",CONCATENATE(DIGITADOR!$B$2,AD291,DIGITADOR!$M$1,J291,ROW()))","v":""},null,null,null,{"$f":"IF(X291=\"\",\"\", INDEX(referentes!$AH:$AL,MATCH(DATOS_MAP!X291,referentes!$AI:$AI,0),1))","v":""},"",{"$f":"IF(AF291=\"\",\"\", INDEX(referentes!D:E,MATCH(DATOS_MAP!AF291,referentes!$E:$E,0),1))","v":""},{"$f":"IF(AI291=\"\",\"\", INDEX(referentes!A:B,MATCH(DATOS_MAP!AI291,referentes!$B:$B,0),1))","v":""},{"$f":"IF(AJ291=\"\",\"\", INDEX(referentes!G:H,MATCH(DATOS_MAP!AJ291,referentes!$H:$H,0),1))","v":""},{"$f":"IF(AK291=\"\",\"\", INDEX(referentes!$V$2:$W$10,MATCH(DATOS_MAP!AK291,referentes!$W$2:$W$10,0),1))","v":""},{"$f":"IF(AL291=\"\",\"\", INDEX(referentes!$AB:$AC,MATCH(DATOS_MAP!AL291,referentes!$AC:$AC,0),1))","v":""},{"$f":"IF(AP291=\"\",\"\", INDEX(referentes!$Y$2:$Z$10,MATCH(DATOS_MAP!AP291,referentes!$Z$2:$Z$10,0),1))","v":""},{"$f":"IF(AN291=\"\",\"\", INDEX(referentes!$AE$2:$AF$10,MATCH(DATOS_MAP!AN291,referentes!$AF$2:$AF$10,0),1))","v":""},{"$f":"IF(AQ291=\"\",\"\", INDEX(referentes!J:K,MATCH(DATOS_MAP!AQ291,referentes!$K:$K,0),1))","v":""},null,{"$f":"IF(AY291=\"\",\"\", INDEX('otras referencias'!O:P,MATCH(AY291,'otras referencias'!$O:$O,0),2))","v":""},null,null,null,null,null,{"$f":"IF(X291<>\"\",INDEX(referentes!$AH:$AL,MATCH(DATOS_MAP!X291,referentes!$AI:$AI,0),5),\"\")","v":""}]
[null,null,null,"",{"$f":"IF(J292=\"\",\"\",CONCATENATE(AD292,DIGITADOR!$B$2,DIGITADOR!$M$1,J292))","v":""},{"$f":"IF(J292=\"\",\"\",CONCATENATE(DIGITADOR!$B$2,AD292,DIGITADOR!$M$1,J292,ROW()))","v":""},null,null,null,{"$f":"IF(X292=\"\",\"\", INDEX(referentes!$AH:$AL,MATCH(DATOS_MAP!X292,referentes!$AI:$AI,0),1))","v":""},"",{"$f":"IF(AF292=\"\",\"\", INDEX(referentes!D:E,MATCH(DATOS_MAP!AF292,referentes!$E:$E,0),1))","v":""},{"$f":"IF(AI292=\"\",\"\", INDEX(referentes!A:B,MATCH(DATOS_MAP!AI292,referentes!$B:$B,0),1))","v":""},{"$f":"IF(AJ292=\"\",\"\", INDEX(referentes!G:H,MATCH(DATOS_MAP!AJ292,referentes!$H:$H,0),1))","v":""},{"$f":"IF(AK292=\"\",\"\", INDEX(referentes!$V$2:$W$10,MATCH(DATOS_MAP!AK292,referentes!$W$2:$W$10,0),1))","v":""},{"$f":"IF(AL292=\"\",\"\", INDEX(referentes!$AB:$AC,MATCH(DATOS_MAP!AL292,referentes!$AC:$AC,0),1))","v":""},{"$f":"IF(AP292=\"\",\"\", INDEX(referentes!$Y$2:$Z$10,MATCH(DATOS_MAP!AP292,referentes!$Z$2:$Z$10,0),1))","v":""},{"$f":"IF(AN292=\"\",\"\", INDEX(referentes!$AE$2:$AF$10,MATCH(DATOS_MAP!AN292,referentes!$AF$2:$AF$10,0),1))","v":""},{"$f":"IF(AQ292=\"\",\"\", INDEX(referentes!J:K,MATCH(DATOS_MAP!AQ292,referentes!$K:$K,0),1))","v":""},null,{"$f":"IF(AY292=\"\",\"\", INDEX('otras referencias'!O:P,MATCH(AY292,'otras referencias'!$O:$O,0),2))","v":""},null,null,null,null,null,{"$f":"IF(X292<>\"\",INDEX(referentes!$AH:$AL,MATCH(DATOS_MAP!X292,referentes!$AI:$AI,0),5),\"\")","v":""}]
[null,null,null,"",{"$f":"IF(J293=\"\",\"\",CONCATENATE(AD293,DIGITADOR!$B$2,DIGITADOR!$M$1,J293))","v":""},{"$f":"IF(J293=\"\",\"\",CONCATENATE(DIGITADOR!$B$2,AD293,DIGITADOR!$M$1,J293,ROW()))","v":""},null,null,null,{"$f":"IF(X293=\"\",\"\", INDEX(referentes!$AH:$AL,MATCH(DATOS_MAP!X293,referentes!$AI:$AI,0),1))","v":""},"",{"$f":"IF(AF293=\"\",\"\", INDEX(referentes!D:E,MATCH(DATOS_MAP!AF293,referentes!$E:$E,0),1))","v":""},{"$f":"IF(AI293=\"\",\"\", INDEX(referentes!A:B,MATCH(DATOS_MAP!AI293,referentes!$B:$B,0),1))","v":""},{"$f":"IF(AJ293=\"\",\"\", INDEX(referentes!G:H,MATCH(DATOS_MAP!AJ293,referentes!$H:$H,0),1))","v":""},{"$f":"IF(AK293=\"\",\"\", INDEX(referentes!$V$2:$W$10,MATCH(DATOS_MAP!AK293,referentes!$W$2:$W$10,0),1))","v":""},{"$f":"IF(AL293=\"\",\"\", INDEX(referentes!$AB:$AC,MATCH(DATOS_MAP!AL293,referentes!$AC:$AC,0),1))","v":""},{"$f":"IF(AP293=\"\",\"\", INDEX(referentes!$Y$2:$Z$10,MATCH(DATOS_MAP!AP293,referentes!$Z$2:$Z$10,0),1))","v":""},{"$f":"IF(AN293=\"\",\"\", INDEX(referentes!$AE$2:$AF$10,MATCH(DATOS_MAP!AN293,referentes!$AF$2:$AF$10,0),1))","v":""},{"$f":"IF(AQ293=\"\",\"\", INDEX(referentes!J:K,MATCH(DATOS_MAP!AQ293,referentes!$K:$K,0),1))","v":""},null,{"$f":"IF(AY293=\"\",\"\", INDEX('otras referencias'!O:P,MATCH(AY293,'otras referencias'!$O:$O,0),2))","v":""},null,null,null,null,null,{"$f":"IF(X293<>\"\",INDEX(referentes!$AH:$AL,MATCH(DATOS_MAP!X293,referentes!$AI:$AI,0),5),\"\")","v":""}]
[null,null,null,"",{"$f":"IF(J294=\"\",\"\",CONCATENATE(AD294,DIGITADOR!$B$2,DIGITADOR!$M$1,J294))","v":""},{"$f":"IF(J294=\"\",\"\",CONCATENATE(DIGITADOR!$B$2,AD294,DIGITADOR!$M$1,J294,ROW()))","v":""},null,null,null,{"$f":"IF(X294=\"\",\"\", INDEX(referentes!$AH:$AL,MATCH(DATOS_MAP!X294,referentes!$AI:$AI,0),1))","v":""},"",{"$f":"IF(AF294=\"\",\"\", INDEX(referentes!D:E,MATCH(DATOS_MAP!AF294,referentes!$E:$E,0),1))","v":""},{"$f":"IF(AI294=\"\",\"\", INDEX(referentes!A:B,MATCH(DATOS_MAP!AI294,referentes!$B:$B,0),1))","v":""},{"$f":"IF(AJ294=\"\",\"\", INDEX(referentes!G:H,MATCH(DATOS_MAP!AJ294,referentes!$H:$H,0),1))","v":""},{"$f":"IF(AK294=\"\",\"\", INDEX(referentes!$V$2:$W$10,MATCH(DATOS_MAP!AK294,referentes!$W$2:$W$10,0),1))","v":""},{"$f":"IF(AL294=\"\",\"\", INDEX(referentes!$AB:$AC,MATCH(DATOS_MAP!AL294,referentes!$AC:$AC,0),1))","v":""},{"$f":"IF(AP294=\"\",\"\", INDEX(referentes!$Y$2:$Z$10,MATCH(DATOS_MAP!AP294,referentes!$Z$2:$Z$10,0),1))","v":""},{"$f":"IF(AN294=\"\",\"\", INDEX(referentes!$AE$2:$AF$10,MATCH(DATOS_MAP!AN294,referentes!$AF$2:$AF$10,0),1))","v":""},{"$f":"IF(AQ294=\"\",\"\", INDEX(referentes!J:K,MATCH(DATOS_MAP!AQ294,referentes!$K:$K,0),1))","v":""},null,{"$f":"IF(AY294=\"\",\"\", INDEX('otras referencias'!O:P,MATCH(AY294,'otras referencias'!$O:$O,0),2))","v":""},null,null,null,null,null,{"$f":"IF(X294<>\"\",INDEX(referentes!$AH:$AL,MATCH(DATOS_MAP!X294,referentes!$AI:$AI,0),5),\"\")","v":""}]
[null,null,null,"",{"$f":"IF(J295=\"\",\"\",CONCATENATE(AD295,DIGITADOR!$B$2,DIGITADOR!$M$1,J295))","v":""},{"$f":"IF(J295=\"\",\"\",CONCATENATE(DIGITADOR!$B$2,AD295,DIGITADOR!$M$1,J295,ROW()))","v":""},null,null,null,{"$f":"IF(X295=\"\",\"\", INDEX(referentes!$AH:$AL,MATCH(DATOS_MAP!X295,referentes!$AI:$AI,0),1))","v":""},"",{"$f":"IF(AF295=\"\",\"\", INDEX(referentes!D:E,MATCH(DATOS_MAP!AF295,referentes!$E:$E,0),1))","v":""},{"$f":"IF(AI295=\"\",\"\", INDEX(referentes!A:B,MATCH(DATOS_MAP!AI295,referentes!$B:$B,0),1))","v":""},{"$f":"IF(AJ295=\"\",\"\", INDEX(referentes!G:H,MATCH(DATOS_MAP!AJ295,referentes!$H:$H,0),1))","v":""},{"$f":"IF(AK295=\"\",\"\", INDEX(referentes!$V$2:$W$10,MATCH(DATOS_MAP!AK295,referentes!$W$2:$W$10,0),1))","v":""},{"$f":"IF(AL295=\"\",\"\", INDEX(referentes!$AB:$AC,MATCH(DATOS_MAP!AL295,referentes!$AC:$AC,0),1))","v":""},{"$f":"IF(AP295=\"\",\"\", INDEX(referentes!$Y$2:$Z$10,MATCH(DATOS_MAP!AP295,referentes!$Z$2:$Z$10,0),1))","v":""},{"$f":"IF(AN295=\"\",\"\", INDEX(referentes!$AE$2:$AF$10,MATCH(DATOS_MAP!AN295,referentes!$AF$2:$AF$10,0),1))","v":""},{"$f":"IF(AQ295=\"\",\"\", INDEX(referentes!J:K,MATCH(DATOS_MAP!AQ295,referentes!$K:$K,0),1))","v":""},null,{"$f":"IF(AY295=\"\",\"\", INDEX('otras referencias'!O:P,MATCH(AY295,'otras referencias'!$O:$O,0),2))","v":""},null,null,null,null,null,{"$f":"IF(X295<>\"\",INDEX(referentes!$AH:$AL,MATCH(DATOS_MAP!X295,referentes!$AI:$AI,0),5),\"\")","v":""}]
[null,null,null,"",{"$f":"IF(J296=\"\",\"\",CONCATENATE(AD296,DIGITADOR!$B$2,DIGITADOR!$M$1,J296))","v":""},{"$f":"IF(J296=\"\",\"\",CONCATENATE(DIGITADOR!$B$2,AD296,DIGITADOR!$M$1,J296,ROW()))","v":""},null,null,null,{"$f":"IF(X296=\"\",\"\", INDEX(referentes!$AH:$AL,MATCH(DATOS_MAP!X296,referentes!$AI:$AI,0),1))","v":""},"",{"$f":"IF(AF296=\"\",\"\", INDEX(referentes!D:E,MATCH(DATOS_MAP!AF296,referentes!$E:$E,0),1))","v":""},{"$f":"IF(AI296=\"\",\"\", INDEX(referentes!A:B,MATCH(DATOS_MAP!AI296,referentes!$B:$B,0),1))","v":""},{"$f":"IF(AJ296=\"\",\"\", INDEX(referentes!G:H,MATCH(DATOS_MAP!AJ296,referentes!$H:$H,0),1))","v":""},{"$f":"IF(AK296=\"\",\"\", INDEX(referentes!$V$2:$W$10,MATCH(DATOS_MAP!AK296,referentes!$W$2:$W$10,0),1))","v":""},{"$f":"IF(AL296=\"\",\"\", INDEX(referentes!$AB:$AC,MATCH(DATOS_MAP!AL296,referentes!$AC:$AC,0),1))","v":""},{"$f":"IF(AP296=\"\",\"\", INDEX(referentes!$Y$2:$Z$10,MATCH(DATOS_MAP!AP296,referentes!$Z$2:$Z$10,0),1))","v":""},{"$f":"IF(AN296=\"\",\"\", INDEX(referentes!$AE$2:$AF$10,MATCH(DATOS_MAP!AN296,referentes!$AF$2:$AF$10,0),1))","v":""},{"$f":"IF(AQ296=\"\",\"\", INDEX(referentes!J:K,MATCH(DATOS_MAP!AQ296,referentes!$K:$K,0),1))","v":""},null,{"$f":"IF(AY296=\"\",\"\", INDEX('otras referencias'!O:P,MATCH(AY296,'otras referencias'!$O:$O,0),2))","v":""},null,null,null,null,null,{"$f":"IF(X296<>\"\",INDEX(referentes!$AH:$AL,MATCH(DATOS_MAP!X296,referentes!$AI:$AI,0),5),\"\")","v":""}]
[null,null,null,"",{"$f":"IF(J297=\"\",\"\",CONCATENATE(AD297,DIGITADOR!$B$2,DIGITADOR!$M$1,J297))","v":""},{"$f":"IF(J297=\"\",\"\",CONCATENATE(DIGITADOR!$B$2,AD297,DIGITADOR!$M$1,J297,ROW()))","v":""},null,null,null,{"$f":"IF(X297=\"\",\"\", INDEX(referentes!$AH:$AL,MATCH(DATOS_MAP!X297,referentes!$AI:$AI,0),1))","v":""},"",{"$f":"IF(AF297=\"\",\"\", INDEX(referentes!D:E,MATCH(DATOS_MAP!AF297,referentes!$E:$E,0),1))","v":""},{"$f":"IF(AI297=\"\",\"\", INDEX(referentes!A:B,MATCH(DATOS_MAP!AI297,referentes!$B:$B,0),1))","v":""},{"$f":"IF(AJ297=\"\",\"\", INDEX(referentes!G:H,MATCH(DATOS_MAP!AJ297,referentes!$H:$H,0),1))","v":""},{"$f":"IF(AK297=\"\",\"\", INDEX(referentes!$V$2:$W$10,MATCH(DATOS_MAP!AK297,referentes!$W$2:$W$10,0),1))","v":""},{"$f":"IF(AL297=\"\",\"\", INDEX(referentes!$AB:$AC,MATCH(DATOS_MAP!AL297,referentes!$AC:$AC,0),1))","v":""},{"$f":"IF(AP297=\"\",\"\", INDEX(referentes!$Y$2:$Z$10,MATCH(DATOS_MAP!AP297,referentes!$Z$2:$Z$10,0),1))","v":""},{"$f":"IF(AN297=\"\",\"\", INDEX(referentes!$AE$2:$AF$10,MATCH(DATOS_MAP!AN297,referentes!$AF$2:$AF$10,0),1))","v":""},{"$f":"IF(AQ297=\"\",\"\", INDEX(referentes!J:K,MATCH(DATOS_MAP!AQ297,referentes!$K:$K,0),1))","v":""},null,{"$f":"IF(AY297=\"\",\"\", INDEX('otras referencias'!O:P,MATCH(AY297,'otras referencias'!$O:$O,0),2))","v":""},null,null,null,null,null,{"$f":"IF(X297<>\"\",INDEX(referentes!$AH:$AL,MATCH(DATOS_MAP!X297,referentes!$AI:$AI,0),5),\"\")","v":""}]
[null,null,null,"",{"$f":"IF(J298=\"\",\"\",CONCATENATE(AD298,DIGITADOR!$B$2,DIGITADOR!$M$1,J298))","v":""},{"$f":"IF(J298=\"\",\"\",CONCATENATE(DIGITADOR!$B$2,AD298,DIGITADOR!$M$1,J298,ROW()))","v":""},null,null,null,{"$f":"IF(X298=\"\",\"\", INDEX(referentes!$AH:$AL,MATCH(DATOS_MAP!X298,referentes!$AI:$AI,0),1))","v":""},"",{"$f":"IF(AF298=\"\",\"\", INDEX(referentes!D:E,MATCH(DATOS_MAP!AF298,referentes!$E:$E,0),1))","v":""},{"$f":"IF(AI298=\"\",\"\", INDEX(referentes!A:B,MATCH(DATOS_MAP!AI298,referentes!$B:$B,0),1))","v":""},{"$f":"IF(AJ298=\"\",\"\", INDEX(referentes!G:H,MATCH(DATOS_MAP!AJ298,referentes!$H:$H,0),1))","v":""},{"$f":"IF(AK298=\"\",\"\", INDEX(referentes!$V$2:$W$10,MATCH(DATOS_MAP!AK298,referentes!$W$2:$W$10,0),1))","v":""},{"$f":"IF(AL298=\"\",\"\", INDEX(referentes!$AB:$AC,MATCH(DATOS_MAP!AL298,referentes!$AC:$AC,0),1))","v":""},{"$f":"IF(AP298=\"\",\"\", INDEX(referentes!$Y$2:$Z$10,MATCH(DATOS_MAP!AP298,referentes!$Z$2:$Z$10,0),1))","v":""},{"$f":"IF(AN298=\"\",\"\", INDEX(referentes!$AE$2:$AF$10,MATCH(DATOS_MAP!AN298,referentes!$AF$2:$AF$10,0),1))","v":""},{"$f":"IF(AQ298=\"\",\"\", INDEX(referentes!J:K,MATCH(DATOS_MAP!AQ298,referentes!$K:$K,0),1))","v":""},null,{"$f":"IF(AY298=\"\",\"\", INDEX('otras referencias'!O:P,MATCH(AY298,'otras referencias'!$O:$O,0),2))","v":""},null,null,null,null,null,{"$f":"IF(X298<>\"\",INDEX(referentes!$AH:$AL,MATCH(DATOS_MAP!X298,referentes!$AI:$AI,0),5),\"\")","v":""}]
[null,null,null,"",{"$f":"IF(J299=\"\",\"\",CONCATENATE(AD299,DIGITADOR!$B$2,DIGITADOR!$M$1,J299))","v":""},{"$f":"IF(J299=\"\",\"\",CONCATENATE(DIGITADOR!$B$2,AD299,DIGITADOR!$M$1,J299,ROW()))","v":""},null,null,null,{"$f":"IF(X299=\"\",\"\", INDEX(referentes!$AH:$AL,MATCH(DATOS_MAP!X299,referentes!$AI:$AI,0),1))","v":""},"",{"$f":"IF(AF299=\"\",\"\", INDEX(referentes!D:E,MATCH(DATOS_MAP!AF299,referentes!$E:$E,0),1))","v":""},{"$f":"IF(AI299=\"\",\"\", INDEX(referentes!A:B,MATCH(DATOS_MAP!AI299,referentes!$B:$B,0),1))","v":""},{"$f":"IF(AJ299=\"\",\"\", INDEX(referentes!G:H,MATCH(DATOS_MAP!AJ299,referentes!$H:$H,0),1))","v":""},{"$f":"IF(AK299=\"\",\"\", INDEX(referentes!$V$2:$W$10,MATCH(DATOS_MAP!AK299,referentes!$W$2:$W$10,0),1))","v":""},{"$f":"IF(AL299=\"\",\"\", INDEX(referentes!$AB:$AC,MATCH(DATOS_MAP!AL299,referentes!$AC:$AC,0),1))","v":""},{"$f":"IF(AP299=\"\",\"\", INDEX(referentes!$Y$2:$Z$10,MATCH(DATOS_MAP!AP299,referentes!$Z$2:$Z$10,0),1))","v":""},{"$f":"IF(AN299=\"\",\"\", INDEX(referentes!$AE$2:$AF$10,MATCH(DATOS_MAP!AN299,referentes!$AF$2:$AF$10,0),1))","v":""},{"$f":"IF(AQ299=\"\",\"\", INDEX(referentes!J:K,MATCH(DATOS_MAP!AQ299,referentes!$K:$K,0),1))","v":""},null,{"$f":"IF(AY299=\"\",\"\", INDEX('otras referencias'!O:P,MATCH(AY299,'otras referencias'!$O:$O,0),2))","v":""},null,null,null,null,null,{"$f":"IF(X299<>\"\",INDEX(referentes!$AH:$AL,MATCH(DATOS_MAP!X299,referentes!$AI:$AI,0),5),\"\")","v":""}]
[null,null,null,"",{"$f":"IF(J300=\"\",\"\",CONCATENATE(AD300,DIGITADOR!$B$2,DIGITADOR!$M$1,J300))","v":""},{"$f":"IF(J300=\"\",\"\",CONCATENATE(DIGITADOR!$B$2,AD300,DIGITADOR!$M$1,J300,ROW()))","v":""},null,null,null,{"$f":"IF(X300=\"\",\"\", INDEX(referentes!$AH:$AL,MATCH(DATOS_MAP!X300,referentes!$AI:$AI,0),1))","v":""},"",{"$f":"IF(AF300=\"\",\"\", INDEX(referentes!D:E,MATCH(DATOS_MAP!AF300,referentes!$E:$E,0),1))","v":""},{"$f":"IF(AI300=\"\",\"\", INDEX(referentes!A:B,MATCH(DATOS_MAP!AI300,referentes!$B:$B,0),1))","v":""},{"$f":"IF(AJ300=\"\",\"\", INDEX(referentes!G:H,MATCH(DATOS_MAP!AJ300,referentes!$H:$H,0),1))","v":""},{"$f":"IF(AK300=\"\",\"\", INDEX(referentes!$V$2:$W$10,MATCH(DATOS_MAP!AK300,referentes!$W$2:$W$10,0),1))","v":""},{"$f":"IF(AL300=\"\",\"\", INDEX(referentes!$AB:$AC,MATCH(DATOS_MAP!AL300,referentes!$AC:$AC,0),1))","v":""},{"$f":"IF(AP300=\"\",\"\", INDEX(referentes!$Y$2:$Z$10,MATCH(DATOS_MAP!AP300,referentes!$Z$2:$Z$10,0),1))","v":""},{"$f":"IF(AN300=\"\",\"\", INDEX(referentes!$AE$2:$AF$10,MATCH(DATOS_MAP!AN300,referentes!$AF$2:$AF$10,0),1))","v":""},{"$f":"IF(AQ300=\"\",\"\", INDEX(referentes!J:K,MATCH(DATOS_MAP!AQ300,referentes!$K:$K,0),1))","v":""},null,{"$f":"IF(AY300=\"\",\"\", INDEX('otras referencias'!O:P,MATCH(AY300,'otras referencias'!$O:$O,0),2))","v":""},null,null,null,null,null,{"$f":"IF(X300<>\"\",INDEX(referentes!$AH:$AL,MATCH(DATOS_MAP!X300,referentes!$AI:$AI,0),5),\"\")","v":""}]
[null,null,null,"",{"$f":"IF(J301=\"\",\"\",CONCATENATE(AD301,DIGITADOR!$B$2,DIGITADOR!$M$1,J301))","v":""},{"$f":"IF(J301=\"\",\"\",CONCATENATE(DIGITADOR!$B$2,AD301,DIGITADOR!$M$1,J301,ROW()))","v":""},null,null,null,{"$f":"IF(X301=\"\",\"\", INDEX(referentes!$AH:$AL,MATCH(DATOS_MAP!X301,referentes!$AI:$AI,0),1))","v":""},"",{"$f":"IF(AF301=\"\",\"\", INDEX(referentes!D:E,MATCH(DATOS_MAP!AF301,referentes!$E:$E,0),1))","v":""},{"$f":"IF(AI301=\"\",\"\", INDEX(referentes!A:B,MATCH(DATOS_MAP!AI301,referentes!$B:$B,0),1))","v":""},{"$f":"IF(AJ301=\"\",\"\", INDEX(referentes!G:H,MATCH(DATOS_MAP!AJ301,referentes!$H:$H,0),1))","v":""},{"$f":"IF(AK301=\"\",\"\", INDEX(referentes!$V$2:$W$10,MATCH(DATOS_MAP!AK301,referentes!$W$2:$W$10,0),1))","v":""},{"$f":"IF(AL301=\"\",\"\", INDEX(referentes!$AB:$AC,MATCH(DATOS_MAP!AL301,referentes!$AC:$AC,0),1))","v":""},{"$f":"IF(AP301=\"\",\"\", INDEX(referentes!$Y$2:$Z$10,MATCH(DATOS_MAP!AP301,referentes!$Z$2:$Z$10,0),1))","v":""},{"$f":"IF(AN301=\"\",\"\", INDEX(referentes!$AE$2:$AF$10,MATCH(DATOS_MAP!AN301,referentes!$AF$2:$AF$10,0),1))","v":""},{"$f":"IF(AQ301=\"\",\"\", INDEX(referentes!J:K,MATCH(DATOS_MAP!AQ301,referentes!$K:$K,0),1))","v":""},null,{"$f":"IF(AY301=\"\",\"\", INDEX('otras referencias'!O:P,MATCH(AY301,'otras referencias'!$O:$O,0),2))","v":""},null,null,null,null,null,{"$f":"IF(X301<>\"\",INDEX(referentes!$AH:$AL,MATCH(DATOS_MAP!X301,referentes!$AI:$AI,0),5),\"\")","v":""}]
[null,null,null,"",{"$f":"IF(J302=\"\",\"\",CONCATENATE(AD302,DIGITADOR!$B$2,DIGITADOR!$M$1,J302))","v":""},{"$f":"IF(J302=\"\",\"\",CONCATENATE(DIGITADOR!$B$2,AD302,DIGITADOR!$M$1,J302,ROW()))","v":""},null,null,null,{"$f":"IF(X302=\"\",\"\", INDEX(referentes!$AH:$AL,MATCH(DATOS_MAP!X302,referentes!$AI:$AI,0),1))","v":""},"",{"$f":"IF(AF302=\"\",\"\", INDEX(referentes!D:E,MATCH(DATOS_MAP!AF302,referentes!$E:$E,0),1))","v":""},{"$f":"IF(AI302=\"\",\"\", INDEX(referentes!A:B,MATCH(DATOS_MAP!AI302,referentes!$B:$B,0),1))","v":""},{"$f":"IF(AJ302=\"\",\"\", INDEX(referentes!G:H,MATCH(DATOS_MAP!AJ302,referentes!$H:$H,0),1))","v":""},{"$f":"IF(AK302=\"\",\"\", INDEX(referentes!$V$2:$W$10,MATCH(DATOS_MAP!AK302,referentes!$W$2:$W$10,0),1))","v":""},{"$f":"IF(AL302=\"\",\"\", INDEX(referentes!$AB:$AC,MATCH(DATOS_MAP!AL302,referentes!$AC:$AC,0),1))","v":""},{"$f":"IF(AP302=\"\",\"\", INDEX(referentes!$Y$2:$Z$10,MATCH(DATOS_MAP!AP302,referentes!$Z$2:$Z$10,0),1))","v":""},{"$f":"IF(AN302=\"\",\"\", INDEX(referentes!$AE$2:$AF$10,MATCH(DATOS_MAP!AN302,referentes!$AF$2:$AF$10,0),1))","v":""},{"$f":"IF(AQ302=\"\",\"\", INDEX(referentes!J:K,MATCH(DATOS_MAP!AQ302,referentes!$K:$K,0),1))","v":""},null,{"$f":"IF(AY302=\"\",\"\", INDEX('otras referencias'!O:P,MATCH(AY302,'otras referencias'!$O:$O,0),2))","v":""},null,null,null,null,null,{"$f":"IF(X302<>\"\",INDEX(referentes!$AH:$AL,MATCH(DATOS_MAP!X302,referentes!$AI:$AI,0),5),\"\")","v":""}]
[null,null,null,"",{"$f":"IF(J303=\"\",\"\",CONCATENATE(AD303,DIGITADOR!$B$2,DIGITADOR!$M$1,J303))","v":""},{"$f":"IF(J303=\"\",\"\",CONCATENATE(DIGITADOR!$B$2,AD303,DIGITADOR!$M$1,J303,ROW()))","v":""},null,null,null,{"$f":"IF(X303=\"\",\"\", INDEX(referentes!$AH:$AL,MATCH(DATOS_MAP!X303,referentes!$AI:$AI,0),1))","v":""},"",{"$f":"IF(AF303=\"\",\"\", INDEX(referentes!D:E,MATCH(DATOS_MAP!AF303,referentes!$E:$E,0),1))","v":""},{"$f":"IF(AI303=\"\",\"\", INDEX(referentes!A:B,MATCH(DATOS_MAP!AI303,referentes!$B:$B,0),1))","v":""},{"$f":"IF(AJ303=\"\",\"\", INDEX(referentes!G:H,MATCH(DATOS_MAP!AJ303,referentes!$H:$H,0),1))","v":""},{"$f":"IF(AK303=\"\",\"\", INDEX(referentes!$V$2:$W$10,MATCH(DATOS_MAP!AK303,referentes!$W$2:$W$10,0),1))","v":""},{"$f":"IF(AL303=\"\",\"\", INDEX(referentes!$AB:$AC,MATCH(DATOS_MAP!AL303,referentes!$AC:$AC,0),1))","v":""},{"$f":"IF(AP303=\"\",\"\", INDEX(referentes!$Y$2:$Z$10,MATCH(DATOS_MAP!AP303,referentes!$Z$2:$Z$10,0),1))","v":""},{"$f":"IF(AN303=\"\",\"\", INDEX(referentes!$AE$2:$AF$10,MATCH(DATOS_MAP!AN303,referentes!$AF$2:$AF$10,0),1))","v":""},{"$f":"IF(AQ303=\"\",\"\", INDEX(referentes!J:K,MATCH(DATOS_MAP!AQ303,referentes!$K:$K,0),1))","v":""},null,{"$f":"IF(AY303=\"\",\"\", INDEX('otras referencias'!O:P,MATCH(AY303,'otras referencias'!$O:$O,0),2))","v":""},null,null,null,null,null,{"$f":"IF(X303<>\"\",INDEX(referentes!$AH:$AL,MATCH(DATOS_MAP!X303,referentes!$AI:$AI,0),5),\"\")","v":""}]
[null,null,null,"",{"$f":"IF(J304=\"\",\"\",CONCATENATE(AD304,DIGITADOR!$B$2,DIGITADOR!$M$1,J304))","v":""},{"$f":"IF(J304=\"\",\"\",CONCATENATE(DIGITADOR!$B$2,AD304,DIGITADOR!$M$1,J304,ROW()))","v":""},null,null,null,{"$f":"IF(X304=\"\",\"\", INDEX(referentes!$AH:$AL,MATCH(DATOS_MAP!X304,referentes!$AI:$AI,0),1))","v":""},"",{"$f":"IF(AF304=\"\",\"\", INDEX(referentes!D:E,MATCH(DATOS_MAP!AF304,referentes!$E:$E,0),1))","v":""},{"$f":"IF(AI304=\"\",\"\", INDEX(referentes!A:B,MATCH(DATOS_MAP!AI304,referentes!$B:$B,0),1))","v":""},{"$f":"IF(AJ304=\"\",\"\", INDEX(referentes!G:H,MATCH(DATOS_MAP!AJ304,referentes!$H:$H,0),1))","v":""},{"$f":"IF(AK304=\"\",\"\", INDEX(referentes!$V$2:$W$10,MATCH(DATOS_MAP!AK304,referentes!$W$2:$W$10,0),1))","v":""},{"$f":"IF(AL304=\"\",\"\", INDEX(referentes!$AB:$AC,MATCH(DATOS_MAP!AL304,referentes!$AC:$AC,0),1))","v":""},{"$f":"IF(AP304=\"\",\"\", INDEX(referentes!$Y$2:$Z$10,MATCH(DATOS_MAP!AP304,referentes!$Z$2:$Z$10,0),1))","v":""},{"$f":"IF(AN304=\"\",\"\", INDEX(referentes!$AE$2:$AF$10,MATCH(DATOS_MAP!AN304,referentes!$AF$2:$AF$10,0),1))","v":""},{"$f":"IF(AQ304=\"\",\"\", INDEX(referentes!J:K,MATCH(DATOS_MAP!AQ304,referentes!$K:$K,0),1))","v":""},null,{"$f":"IF(AY304=\"\",\"\", INDEX('otras referencias'!O:P,MATCH(AY304,'otras referencias'!$O:$O,0),2))","v":""},null,null,null,null,null,{"$f":"IF(X304<>\"\",INDEX(referentes!$AH:$AL,MATCH(DATOS_MAP!X304,referentes!$AI:$AI,0),5),\"\")","v":""}]
[null,null,null,"",{"$f":"IF(J305=\"\",\"\",CONCATENATE(AD305,DIGITADOR!$B$2,DIGITADOR!$M$1,J305))","v":""},{"$f":"IF(J305=\"\",\"\",CONCATENATE(DIGITADOR!$B$2,AD305,DIGITADOR!$M$1,J305,ROW()))","v":""},null,null,null,{"$f":"IF(X305=\"\",\"\", INDEX(referentes!$AH:$AL,MATCH(DATOS_MAP!X305,referentes!$AI:$AI,0),1))","v":""},"",{"$f":"IF(AF305=\"\",\"\", INDEX(referentes!D:E,MATCH(DATOS_MAP!AF305,referentes!$E:$E,0),1))","v":""},{"$f":"IF(AI305=\"\",\"\", INDEX(referentes!A:B,MATCH(DATOS_MAP!AI305,referentes!$B:$B,0),1))","v":""},{"$f":"IF(AJ305=\"\",\"\", INDEX(referentes!G:H,MATCH(DATOS_MAP!AJ305,referentes!$H:$H,0),1))","v":""},{"$f":"IF(AK305=\"\",\"\", INDEX(referentes!$V$2:$W$10,MATCH(DATOS_MAP!AK305,referentes!$W$2:$W$10,0),1))","v":""},{"$f":"IF(AL305=\"\",\"\", INDEX(referentes!$AB:$AC,MATCH(DATOS_MAP!AL305,referentes!$AC:$AC,0),1))","v":""},{"$f":"IF(AP305=\"\",\"\", INDEX(referentes!$Y$2:$Z$10,MATCH(DATOS_MAP!AP305,referentes!$Z$2:$Z$10,0),1))","v":""},{"$f":"IF(AN305=\"\",\"\", INDEX(referentes!$AE$2:$AF$10,MATCH(DATOS_MAP!AN305,referentes!$AF$2:$AF$10,0),1))","v":""},{"$f":"IF(AQ305=\"\",\"\", INDEX(referentes!J:K,MATCH(DATOS_MAP!AQ305,referentes!$K:$K,0),1))","v":""},null,{"$f":"IF(AY305=\"\",\"\", INDEX('otras referencias'!O:P,MATCH(AY305,'otras referencias'!$O:$O,0),2))","v":""},null,null,null,null,null,{"$f":"IF(X305<>\"\",INDEX(referentes!$AH:$AL,MATCH(DATOS_MAP!X305,referentes!$AI:$AI,0),5),\"\")","v":""}]
[null,null,null,"",{"$f":"IF(J306=\"\",\"\",CONCATENATE(AD306,DIGITADOR!$B$2,DIGITADOR!$M$1,J306))","v":""},{"$f":"IF(J306=\"\",\"\",CONCATENATE(DIGITADOR!$B$2,AD306,DIGITADOR!$M$1,J306,ROW()))","v":""},null,null,null,{"$f":"IF(X306=\"\",\"\", INDEX(referentes!$AH:$AL,MATCH(DATOS_MAP!X306,referentes!$AI:$AI,0),1))","v":""},"",{"$f":"IF(AF306=\"\",\"\", INDEX(referentes!D:E,MATCH(DATOS_MAP!AF306,referentes!$E:$E,0),1))","v":""},{"$f":"IF(AI306=\"\",\"\", INDEX(referentes!A:B,MATCH(DATOS_MAP!AI306,referentes!$B:$B,0),1))","v":""},{"$f":"IF(AJ306=\"\",\"\", INDEX(referentes!G:H,MATCH(DATOS_MAP!AJ306,referentes!$H:$H,0),1))","v":""},{"$f":"IF(AK306=\"\",\"\", INDEX(referentes!$V$2:$W$10,MATCH(DATOS_MAP!AK306,referentes!$W$2:$W$10,0),1))","v":""},{"$f":"IF(AL306=\"\",\"\", INDEX(referentes!$AB:$AC,MATCH(DATOS_MAP!AL306,referentes!$AC:$AC,0),1))","v":""},{"$f":"IF(AP306=\"\",\"\", INDEX(referentes!$Y$2:$Z$10,MATCH(DATOS_MAP!AP306,referentes!$Z$2:$Z$10,0),1))","v":""},{"$f":"IF(AN306=\"\",\"\", INDEX(referentes!$AE$2:$AF$10,MATCH(DATOS_MAP!AN306,referentes!$AF$2:$AF$10,0),1))","v":""},{"$f":"IF(AQ306=\"\",\"\", INDEX(referentes!J:K,MATCH(DATOS_MAP!AQ306,referentes!$K:$K,0),1))","v":""},null,{"$f":"IF(AY306=\"\",\"\", INDEX('otras referencias'!O:P,MATCH(AY306,'otras referencias'!$O:$O,0),2))","v":""},null,null,null,null,null,{"$f":"IF(X306<>\"\",INDEX(referentes!$AH:$AL,MATCH(DATOS_MAP!X306,referentes!$AI:$AI,0),5),\"\")","v":""}]
[null,null,null,"",{"$f":"IF(J307=\"\",\"\",CONCATENATE(AD307,DIGITADOR!$B$2,DIGITADOR!$M$1,J307))","v":""},{"$f":"IF(J307=\"\",\"\",CONCATENATE(DIGITADOR!$B$2,AD307,DIGITADOR!$M$1,J307,ROW()))","v":""},null,null,null,{"$f":"IF(X307=\"\",\"\", INDEX(referentes!$AH:$AL,MATCH(DATOS_MAP!X307,referentes!$AI:$AI,0),1))","v":""},"",{"$f":"IF(AF307=\"\",\"\", INDEX(referentes!D:E,MATCH(DATOS_MAP!AF307,referentes!$E:$E,0),1))","v":""},{"$f":"IF(AI307=\"\",\"\", INDEX(referentes!A:B,MATCH(DATOS_MAP!AI307,referentes!$B:$B,0),1))","v":""},{"$f":"IF(AJ307=\"\",\"\", INDEX(referentes!G:H,MATCH(DATOS_MAP!AJ307,referentes!$H:$H,0),1))","v":""},{"$f":"IF(AK307=\"\",\"\", INDEX(referentes!$V$2:$W$10,MATCH(DATOS_MAP!AK307,referentes!$W$2:$W$10,0),1))","v":""},{"$f":"IF(AL307=\"\",\"\", INDEX(referentes!$AB:$AC,MATCH(DATOS_MAP!AL307,referentes!$AC:$AC,0),1))","v":""},{"$f":"IF(AP307=\"\",\"\", INDEX(referentes!$Y$2:$Z$10,MATCH(DATOS_MAP!AP307,referentes!$Z$2:$Z$10,0),1))","v":""},{"$f":"IF(AN307=\"\",\"\", INDEX(referentes!$AE$2:$AF$10,MATCH(DATOS_MAP!AN307,referentes!$AF$2:$AF$10,0),1))","v":""},{"$f":"IF(AQ307=\"\",\"\", INDEX(referentes!J:K,MATCH(DATOS_MAP!AQ307,referentes!$K:$K,0),1))","v":""},null,{"$f":"IF(AY307=\"\",\"\", INDEX('otras referencias'!O:P,MATCH(AY307,'otras referencias'!$O:$O,0),2))","v":""},null,null,null,null,null,{"$f":"IF(X307<>\"\",INDEX(referentes!$AH:$AL,MATCH(DATOS_MAP!X307,referentes!$AI:$AI,0),5),\"\")","v":""}]
[null,null,null,"",{"$f":"IF(J308=\"\",\"\",CONCATENATE(AD308,DIGITADOR!$B$2,DIGITADOR!$M$1,J308))","v":""},{"$f":"IF(J308=\"\",\"\",CONCATENATE(DIGITADOR!$B$2,AD308,DIGITADOR!$M$1,J308,ROW()))","v":""},null,null,null,{"$f":"IF(X308=\"\",\"\", INDEX(referentes!$AH:$AL,MATCH(DATOS_MAP!X308,referentes!$AI:$AI,0),1))","v":""},"",{"$f":"IF(AF308=\"\",\"\", INDEX(referentes!D:E,MATCH(DATOS_MAP!AF308,referentes!$E:$E,0),1))","v":""},{"$f":"IF(AI308=\"\",\"\", INDEX(referentes!A:B,MATCH(DATOS_MAP!AI308,referentes!$B:$B,0),1))","v":""},{"$f":"IF(AJ308=\"\",\"\", INDEX(referentes!G:H,MATCH(DATOS_MAP!AJ308,referentes!$H:$H,0),1))","v":""},{"$f":"IF(AK308=\"\",\"\", INDEX(referentes!$V$2:$W$10,MATCH(DATOS_MAP!AK308,referentes!$W$2:$W$10,0),1))","v":""},{"$f":"IF(AL308=\"\",\"\", INDEX(referentes!$AB:$AC,MATCH(DATOS_MAP!AL308,referentes!$AC:$AC,0),1))","v":""},{"$f":"IF(AP308=\"\",\"\", INDEX(referentes!$Y$2:$Z$10,MATCH(DATOS_MAP!AP308,referentes!$Z$2:$Z$10,0),1))","v":""},{"$f":"IF(AN308=\"\",\"\", INDEX(referentes!$AE$2:$AF$10,MATCH(DATOS_MAP!AN308,referentes!$AF$2:$AF$10,0),1))","v":""},{"$f":"IF(AQ308=\"\",\"\", INDEX(referentes!J:K,MATCH(DATOS_MAP!AQ308,referentes!$K:$K,0),1))","v":""},null,{"$f":"IF(AY308=\"\",\"\", INDEX('otras referencias'!O:P,MATCH(AY308,'otras referencias'!$O:$O,0),2))","v":""},null,null,null,null,null,{"$f":"IF(X308<>\"\",INDEX(referentes!$AH:$AL,MATCH(DATOS_MAP!X308,referentes!$AI:$AI,0),5),\"\")","v":""}]
[null,null,null,"",{"$f":"IF(J309=\"\",\"\",CONCATENATE(AD309,DIGITADOR!$B$2,DIGITADOR!$M$1,J309))","v":""},{"$f":"IF(J309=\"\",\"\",CONCATENATE(DIGITADOR!$B$2,AD309,DIGITADOR!$M$1,J309,ROW()))","v":""},null,null,null,{"$f":"IF(X309=\"\",\"\", INDEX(referentes!$AH:$AL,MATCH(DATOS_MAP!X309,referentes!$AI:$AI,0),1))","v":""},"",{"$f":"IF(AF309=\"\",\"\", INDEX(referentes!D:E,MATCH(DATOS_MAP!AF309,referentes!$E:$E,0),1))","v":""},{"$f":"IF(AI309=\"\",\"\", INDEX(referentes!A:B,MATCH(DATOS_MAP!AI309,referentes!$B:$B,0),1))","v":""},{"$f":"IF(AJ309=\"\",\"\", INDEX(referentes!G:H,MATCH(DATOS_MAP!AJ309,referentes!$H:$H,0),1))","v":""},{"$f":"IF(AK309=\"\",\"\", INDEX(referentes!$V$2:$W$10,MATCH(DATOS_MAP!AK309,referentes!$W$2:$W$10,0),1))","v":""},{"$f":"IF(AL309=\"\",\"\", INDEX(referentes!$AB:$AC,MATCH(DATOS_MAP!AL309,referentes!$AC:$AC,0),1))","v":""},{"$f":"IF(AP309=\"\",\"\", INDEX(referentes!$Y$2:$Z$10,MATCH(DATOS_MAP!AP309,referentes!$Z$2:$Z$10,0),1))","v":""},{"$f":"IF(AN309=\"\",\"\", INDEX(referentes!$AE$2:$AF$10,MATCH(DATOS_MAP!AN309,referentes!$AF$2:$AF$10,0),1))","v":""},{"$f":"IF(AQ309=\"\",\"\", INDEX(referentes!J:K,MATCH(DATOS_MAP!AQ309,referentes!$K:$K,0),1))","v":""},null,{"$f":"IF(AY309=\"\",\"\", INDEX('otras referencias'!O:P,MATCH(AY309,'otras referencias'!$O:$O,0),2))","v":""},null,null,null,null,null,{"$f":"IF(X309<>\"\",INDEX(referentes!$AH:$AL,MATCH(DATOS_MAP!X309,referentes!$AI:$AI,0),5),\"\")","v":""}]

{"sheet":"MUESTRAS","index":10,"n_rows":10,"n_cols":2,"rows_kept":10,"cut":false,"hidden":true,"merged":[]}
[]
[]
[]
[]
[]
[]
[]
[]
[]
[null,"HYH"]

{"sheet":"AGD_MUESTREOS","index":11,"n_rows":0,"n_cols":0,"rows_kept":0,"cut":false,"hidden":true,"merged":[]}

{"sheet":"AGD_PARAMETRO","index":12,"n_rows":0,"n_cols":0,"rows_kept":0,"cut":false,"hidden":true,"merged":[]}

{"sheet":"AGD_MUESTRAS","index":13,"n_rows":0,"n_cols":0,"rows_kept":0,"cut":false,"hidden":true,"merged":[]}

{"sheet":"AGD_MUESTRAS_VARIABLES","index":14,"n_rows":0,"n_cols":0,"rows_kept":0,"cut":false,"hidden":true,"merged":[]}

{"sheet":"AGD_AUTORIAS","index":15,"n_rows":0,"n_cols":0,"rows_kept":0,"cut":false,"hidden":true,"merged":[]}