{"text_format":"1","workbook":"xlsx","n_sheets":12,"sheets":["Registro de cambios","configuracion","DIGITADOR","DATOS","REFERENTES","OTRAS REFERENCIAS","Resumen","AGD_MUESTREOS","AGD_PARAMETRO","AGD_MUESTRAS","AGD_MUESTRAS_VARIABLES","AGD_AUTORIAS"],"not_rendered":{"charts":0,"images":0,"macros":1,"external_links":1,"defined_names":29,"comments":1,"pivot_tables":1},"unopened":[],"bounds":{"document_bytes":16777216,"sheet_cells":100000,"rows_first":2000,"rows_last":500,"rows_between":2000,"halvings":0,"cell_chars":16384,"cell_head_chars":4096},"cells_cut":0,"cells_raw":0,"read":"whole","date_system":"1900"}

{"sheet":"Registro de cambios","index":0,"n_rows":6,"n_cols":7,"rows_kept":6,"cut":false,"hidden":true,"merged":[[1,3,1,6]]}
[]
[null,null,null,"REGISTRO DE CAMBIOS"]
[null,null,null,"VERSIÓN No.","CAMBIO REALIZADO","AUTOR","VIGENTE DESDE"]
[null,null,null,"20240521i","Actualización del código de la macro.\n\nSe eliminó la URL de la antigua API de portete:\n       http://portete.invemar.org.co:7003/ArgosWebServices-RESTWebService-context-root/rest/1.0\n\nFue reemplazada por la URL de la API de ARGOS:\n       https://argos.invemar.org.co/api/\n\nLa API contiene End Points que permiten tener mayor control, facilitan la descarga de referentes (listas de usuarios, estaciones, especies, etc.) que corresponden a criterios específicos como el proyecto usado en la plantilla para evitar descargar data innecesaria.\n\nDel mismo modo, también permite la carga de información a la BDD del INVEMAR.\n\nLa macro toma los Endpoints desde la hoja configuracion de una tabla llamada \"Configuración referentes\", a la que se le puede modificar las rutas de la API o agregar nuevas. cabe resaltar que se puede \"quemar\" directamente en la macro los Endpoints que lo requieran.","Kevin Moreno","21/05/2024"]
[null,null,null,"20200130i","Para trazabilididad la hoja se incluye el nombre del archivo fuente y la posibilidad de anotar el DOI principal del metadato\nPor usabilidad las pestañas que son de interes para el usuario son las verdes\nSi se define mas de un proyecto los referentes de estaciones e investigadores se descargan consecutivo en las mismas columnas\nSe controla la versión para la plantilla mediante comparación dato en AGLOV de la BD.",null,"2020-01-30"]
[null,null,null,"201820413m","Se modifica la generación de los ID de muestreo y se agrega macro que genera número aleatorio en la hoja DIGITADOR.",null,"2018-04-13"]

{"sheet":"configuracion","index":1,"n_rows":71,"n_cols":7,"rows_kept":71,"cut":false,"hidden":true,"merged":[[61,0,61,2],[28,0,35,0],[37,0,42,0],[45,0,45,1],[0,0,2,0],[3,0,5,0],[7,0,8,0],[9,0,15,0],[17,0,21,0],[23,0,26,0]]}
["general","urlServicio","https://argos.invemar.org.co/api/"]
[null,"fila de inicio",5]
[null,"fila de fin",510]
["metodologias","Metodologias",819]
[null,"Referentes",400]
[null,"Cantidad maxima de referentes ",400]
["estaciones/investigadores","proyectos",{"$f":"DIGITADOR!B9","v":3036}]
["Lista especies","metodologias",819]
[null,"proyectos",{"$f":"DIGITADOR!B9","v":3036}]
["MUESTREOS","ID_MUESTREO","DATOS,L"]
[null,"ID_ESTACION","DATOS,K"]
[null,"ID_PROYECTO","DIGITADOR,B,9"]
[null,"ID_METODOLOGIA",819]
[null,"ID_TEMATICAS",223]
[null,"FECHA","DATOS,G"]
[null,"NOTAS","DIGITADOR,B,16"]
[null,"cantidad",510]
["MUESTREOS PARAMETROS","ID_MUESTREO","DATOS,L","DATOS,L","DATOS,L","DATOS,L"]
[null,"ID_PARAMETRO",1055,1169,1170,127]
[null,"ID_METODOLOGIA",819,819,819,819]
[null,"ID_UNIDAD_MEDIDA",100,100,100,100]
[null,"VALOR","DIGITADOR,B,5","DIGITADOR,B,12","DIGITADOR,B,11","Monitoreo Pastos - BPIN"]
[null,"cantidad",510,510,510]
["MUESTRAS","ID_MUESTRA","DATOS,R"]
[null,"ID_MUESTREO","DATOS,D"]
[null,"NOTAS","DATOS,Y"]
[null,"ES_REPLICA",1]
[null,"cantidad",510]
["MUESTRAS VARIABLES","ID_PARAMETRO",135,849,585,831,828]
[null,"ID_METODOLOGIA",819,819,819,819,819]
[null,"ID_UNIDAD_MEDIDA",100,100,100,19,100]
[null,"ID_MUESTRA","DATOS,R","DATOS,R","DATOS,R","DATOS,R","DATOS,R"]
[null,"ID_METODO",95,732,54,732]
[null,"VALOR","DATOS,W","DATOS,AT","DATOS,AX","DATOS,BA","DATOS,P"]
[null,"QUALITY_FLAG"]
[null,"PRECISION"]
[null,"cantidad",510,510,510,510,510]
["AUTORIAS","ID_FUNCIONARIO","DIGITADOR,B,2","DATOS,N"]
[null,"ID_TAREA",5,4]
[null,"ORDEN",1,2]
[null,"FECHA","DIGITADOR,B,7","DATOS,G"]
[null,"ID_MUESTREO","DATOS,L","DATOS,L"]
[null,"ENTIDAD","DIGITADOR,B,4","DIGITADOR,B,4"]
[null,"cantidad",510,510]
[]
["REGISTROS GENERADOS",null,"REGISTROS CARGADOS"]
["MUESTREOS",null,null,null,135,"Transecto"]
["parametro muestreo",null,null,null,585,"Especie"]
["muestra",null,null,null,828,"Entidad"]
["muestra variable",null,null,null,831,"Cantidad de peces"]
["autoria",null,null,null,849,"Categoría de vida"]
["registros correctos",null,null,null,1055,"Versión plantilla"]
["Fecha de carga",null,null,null,1169,"URL Metadato Conjunto de Datos"]
["json error",null,null,null,1170,"Archivo fuente"]
["error"]
[]
[]
["Atributo","Descripción","Código"]
["Tipo Nodo","Estaciones",{"$f":"VLOOKUP(B59,'OTRAS REFERENCIAS'!A14:C24,2,FALSE)","v":40}]
[]
[]
["CONFIGURACION REFERENTES"]
["Ruta de la API","Endpoint","Descripción"]
["URL - AGM Campo",{"$f":"CONCATENATE(\"parametros/agmcampo/\",$C$4,\"\")","v":"parametros/agmcampo/819"},"Listado de referentes AGM_CAMPO"]
["URL - Especies",{"$f":"IF($C$8=\"\",\"\",CONCATENATE(\"especies/filt/\",$C$9,\",\",$C$8,\"/\"))","v":"especies/filt/3036,819/"},"Especies por proyecto\n(No todos los proyectos tienen asociados una lista de especies)"]
["URL - Estaciones",{"$f":"CONCATENATE(\"estaciones/\", $C$59, \"/\",$C$9,\"\")","v":"estaciones/40/3036"},"Estaciones/parcelas por proyecto, cambia dependiendo del Tipo de Nodo, cuyo estado sea VIGENTE."]
["URL - Usuarios",{"$f":"CONCATENATE(\"parametros/usersByProject/\",$C$7,\"\")","v":"parametros/usersByProject/3036"},"Usuarios por proyecto."]
["URL - Entidades","estaciones/get-entidades","Listado de entidades."]
["Atributos de la API","codigo_in","nombre_in"]
["Rango de atributos de la API","B70:C71","nombre_in"]
["URL - Plantillas","plantillas/","Endpoint para la carga de datos al sistema."]

{"sheet":"DIGITADOR","index":2,"n_rows":27,"n_cols":4,"rows_kept":27,"cut":false,"hidden":false,"merged":[[24,1,24,2],[25,1,25,2],[26,1,26,2],[11,3,13,9],[0,0,0,1],[5,0,6,0],[0,3,5,9],[6,3,8,9],[9,3,10,9],[14,0,14,1]]}
["Plantilla para la Recolección de Datos\nPastos - Invertebrados",null,null,"Recomendaciones generales: \n¡Precaución! No inserte Filas o Columnas.\nEn los casos en que falte un valor a ingresar que provenga de la hoja de referencias, informe para que el administrador del sistema haga las adiciones necesarias.\nEsta es una plantilla programada. Las columnas de color oscuro se llenan automaticamente, principalmente a partir de los contenidos de la hoja de referencias. \nNO UTILICE PUNTO Y COMA (;) en ningun campo, por ser el separador de variables (columnas). Tampoco escriba las unidades de medida, no son necesarias.\nPara el correcto funcionamiento de la hoja debe estar activa la opcion de Excel de ejecutar macros (al abrir la hoja acepte la opcion habilitar macros, mensaje de Excel que aparece en la parte superior de la hoja en un recuadro amarillo). La extensión del archivo debe ser .xlsm\nSe recomienda renombrar el archivo de la siguiente manera: PASTOS_Invertebrados_NombreEstacion_FechaMonitoreo.xlsm"]
["Código Digitador",{"$f":"IF(B3=\"\",\"\",INDEX(REFERENTES!AB:AC,MATCH(B3,REFERENTES!AC:AC,0),1))","v":""}]
["Nombre Digitador"]
["Entidad","INVEMAR"]
["Versión Plantilla",{"$f":"'Registro de cambios'!$D$4","v":"20240521i"}]
["Fecha en la que ingresa los datos en esta hoja","DD/MM/AAAA"]
[null,"3000-12-12",null,"Previamente a iniciar el llenado de la plantilla, debe presionar el botón \"Descargar referentes\" para que los referentes de ésta plantilla sean actualizados. \nLuego de llenar completamente la plantilla, haga clic sobre el botón \"Generar tablas\" para que los datos sean organizados antes de cargarlos al Sistema de Información.\nAntes de presionar el botón \"Generar tablas\" verifique que:\na. No haya celdas con valores como \"#N/A\" o \"#¡REF!\"\nb. No se esten aplicando filtros en la hoja de datos \nPara finalizar, presione el botón \"Cargar datos\"."]
[]
["Código Proyecto",{"$f":"IF(B10=\"\",\"\",INDEX('OTRAS REFERENCIAS'!F:G,MATCH(B10,'OTRAS REFERENCIAS'!F:F,0),2))","v":3036}]
["Nombre Proyecto","Monitoreo de Pastos Marinos de Colombia",null,"Si requiere ayuda contacte a:\nKevin S. Moreno (kevin.moreno@invemar.org.co)  - Apoyo técnico software"]
["Nombre del archivo",{"$f":"MID(CELL(\"FILENAME\",N61),FIND(\"[\",CELL(\"FILENAME\",N61))+1,   FIND(\"]\",CELL(\"FILENAME\",N61))-FIND(\"[\",CELL(\"FILENAME\",N61))-1)","v":"PASTOS_Invertebrados_20240521i.xlsm"}]
["DOI Metadato",null,null,"El custodio de los datos es el único autorizado para distribuir este conjunto de datos. El observador y el digitador se comprometen a tomar las medidas necesarias para salvaguardar este conjunto de datos de modo que copia de los mismos no sean obtenidas y/o usadas por terceros no relacionados con el propósito para la cual se recolectó."]
["Fuente Plantilla","http://cinto.invemar.org.co/download/Plantillas_ARGOS_Plus/"]
[]
["ATRIBUTOS ADICIONALES"]
["Observaciones generales"]
[]
[]
[null,"REGISTROS GENERADOS","REGISTROS CARGADOS"]
["Muestreos",{"$f":"IF(configuracion!B47=\"\",\"\",configuracion!B47)","v":""},{"$f":"IF(configuracion!C47=\"\",\"\",configuracion!C47)","v":""}]
["Parámetros del muestreo",{"$f":"IF(configuracion!B48=\"\",\"\",configuracion!B48)","v":""},{"$f":"IF(configuracion!C48=\"\",\"\",configuracion!C48)","v":""}]
["Muestras",{"$f":"IF(configuracion!B49=\"\",\"\",configuracion!B49)","v":""},{"$f":"IF(configuracion!C49=\"\",\"\",configuracion!C49)","v":""}]
["Variables",{"$f":"IF(configuracion!B50=\"\",\"\",configuracion!B50)","v":""},{"$f":"IF(configuracion!C50=\"\",\"\",configuracion!C50)","v":""}]
["Autores",{"$f":"IF(configuracion!B51=\"\",\"\",configuracion!B51)","v":""},{"$f":"IF(configuracion!C51=\"\",\"\",configuracion!C51)","v":""}]
["Registros correctos",{"$f":"IF(D35=\"\",\"\",IF(D35=0,0,IF(C35-D35=0,D35,\"Fallaron \"&C35-D35&\" registros\")))","v":""}]
["json error",{"$f":"IF(configuracion!B54=\"\",\"\",configuracion!B54)","v":""}]
["error",{"$f":"IF(configuracion!B55=\"\",\"\",configuracion!B55)","v":""}]

{"sheet":"DATOS","index":3,"n_rows":504,"n_cols":53,"rows_kept":504,"cut":false,"hidden":false,"merged":[[1,2,3,2],[2,6,3,6],[3,12,3,13],[2,8,3,8],[1,3,1,6],[1,45,1,50],[1,10,1,24],[2,7,3,7],[2,39,2,44],[3,29,3,30],[3,41,3,42],[1,39,1,44],[2,10,2,24],[3,18,3,20]]}
[{"$f":"DIGITADOR!B7+F5","v":"3000-12-12"}]
[{"$f":"TEXT(A1,\"yyyymmddhhmmss\")","v":"30001212000000"},null,"CODIGO","DATOS GENERALES",null,null,null,null,null,null,null,null,null,null,null,null,null,null,null,null,null,null,null,null,null,null,null,null,null,null,null,null,null,"CANTIDAD DE ESLABONES",null,null,null,null,null,null,null,null,null,null,null,"DATOS DE LA MUESTRA",null,null,null,null,null,null,"Abundancia"]
[null,null,null,null,null,null,"DATE","MES","Muestreo",null,null,null,null,null,null,null,null,null,null,null,null,null,null,null,null,null,null,null,null,null,null,null,null,"CE",null,null,null,null,null,null,null,null,null,null,null,null,null,null,null,null,null,null,"NE"]
[null,null,null,"CODMUESTREO","FECHA","HORA",null,null,null,"ESTACION","COD_ESTACION","ID_MUESTREO (AG_MUESTREO)","DATOS TOMADOS POR",null,null,"ENTIDAD","CONSECUTIVO","ID_MUESTRA",null,null,null,null,"TRANSECTO","UBICACIÓN","Observaciones",null,null,null,null,"UNI",null,"METODO","COD_METODO","VALOR","PROF","UNI",null,"METODO","COD_METODO","VALOR","PROF","UNI",null,"METODO","COD_METODO","CAT_VIDA","Cod_catvida","grupo vida","DESCRIPCIÓN","ESPECIE","COD_SIBM",null,"CANTIDAD"]
[{"$f":"A2","v":"30001212000000"},{"$f":"DIGITADOR!$B$2","v":""},{"$f":"IF(O5=O4,C4,C4+1)","v":0},{"$f":"IF(E5<>\"\",CONCATENATE(B5,A5,DIGITADOR!$M$1,C5),\"\")","v":""},null,null,{"$f":"IF(E5=\"\",\"\",E5+F5)","v":""},{"$f":"IF(G5<>\"\",MONTH(G5),\"\")","v":""},{"$f":"IF(M5=\"\",\"\",1)","v":""},null,{"$f":"IF(J5=\"\",\"\",INDEX(REFERENTES!$V:$W,MATCH(J5,REFERENTES!$W:$W,0),1))","v":""},{"$f":"IF(E5<>\"\",CONCATENATE(B5,A5,DIGITADOR!$M$1,C5),\"\")","v":""},null,{"$f":"IF(M5=\"\",\"\",INDEX(REFERENTES!$AB:$AC,MATCH(M5,REFERENTES!$AC:$AC,0),1))","v":""},{"$f":"IF(M5=\"\",\"\",CONCATENATE(G5,K5,N5,1))","v":""},null,1,{"$f":"IF(D5=\"\",\"\",CONCATENATE(D5,Q5))","v":""},null,null,null,null,null,null,null,null,null,null,null,null,null,null,null,null,null,null,null,null,{"$f":"IF(AL5<>\"\",VLOOKUP(AL5,#REF!,2,FALSE),\"\")","v":""},null,null,null,{"$f":"IF(AP5<>\"\",VLOOKUP(AP5,#REF!,2,TRUE),\"\")","v":""},null,{"$f":"IF(AR5<>\"\",VLOOKUP(AR5,#REF!,2,FALSE),\"\")","v":""},null,null,null,{"$f":"IF(AT5=\"\",\"\",INDEX(REFERENTES!$A:$B,MATCH(AT5,REFERENTES!$A:$A,0),2))","v":""},null,{"$f":"IF(AX5=\"\",\"\",INDEX(REFERENTES!M:O,MATCH(AX5,REFERENTES!M:M,0),3))","v":""}]
[{"$f":"A5","v":"30001212000000"},{"$f":"DIGITADOR!$B$2","v":""},0,{"$f":"IF(E6<>\"\",CONCATENATE(B6,A6,DIGITADOR!$M$1,C6),\"\")","v":""},null,null,{"$f":"IF(E6=\"\",\"\",E6+F6)","v":""},"",{"$f":"IF(M6=\"\",\"\",1)","v":""},null,{"$f":"IF(J6=\"\",\"\",INDEX(REFERENTES!$V:$W,MATCH(J6,REFERENTES!$W:$W,0),1))","v":""},{"$f":"IF(E6=\"\",\"\",IF(O6=O5,\"\",CONCATENATE(B6,A6,DIGITADOR!$M$1,C6)))","v":""},null,{"$f":"IF(M6=\"\",\"\",INDEX(REFERENTES!$AB:$AC,MATCH(M6,REFERENTES!$AC:$AC,0),1))","v":""},{"$f":"IF(M6=\"\",\"\",CONCATENATE(G6,K6,N6,1))","v":""},null,2,{"$f":"IF(D6=\"\",\"\",CONCATENATE(D6,Q6))","v":""},null,null,null,null,null,null,null,null,null,null,null,null,null,null,null,null,null,null,null,null,{"$f":"IF(AL6<>\"\",VLOOKUP(AL6,#REF!,2,FALSE),\"\")","v":""},null,null,null,{"$f":"IF(AP6<>\"\",VLOOKUP(AP6,#REF!,2,TRUE),\"\")","v":""},null,{"$f":"IF(AR6<>\"\",VLOOKUP(AR6,#REF!,2,FALSE),\"\")","v":""},null,null,null,{"$f":"IF(AT6=\"\",\"\",INDEX(REFERENTES!$A:$B,MATCH(AT6,REFERENTES!$A:$A,0),2))","v":""},null,{"$f":"IF(AX6=\"\",\"\",INDEX(REFERENTES!M:O,MATCH(AX6,REFERENTES!M:M,0),3))","v":""}]
["30001212000000",{"$f":"DIGITADOR!$B$2","v":""},0,{"$f":"IF(E7<>\"\",CONCATENATE(B7,A7,DIGITADOR!$M$1,C7),\"\")","v":""},null,null,"","","",null,{"$f":"IF(J7=\"\",\"\",INDEX(REFERENTES!$V:$W,MATCH(J7,REFERENTES!$W:$W,0),1))","v":""},{"$f":"IF(E7=\"\",\"\",IF(O7=O6,\"\",CONCATENATE(B7,A7,DIGITADOR!$M$1,C7)))","v":""},null,{"$f":"IF(M7=\"\",\"\",INDEX(REFERENTES!$AB:$AC,MATCH(M7,REFERENTES!$AC:$AC,0),1))","v":""},"",null,3,"",null,null,null,null,null,null,null,null,null,null,null,null,null,null,null,null,null,null,null,null,{"$f":"IF(AL7<>\"\",VLOOKUP(AL7,#REF!,2,FALSE),\"\")","v":""},null,null,null,{"$f":"IF(AP7<>\"\",VLOOKUP(AP7,#REF!,2,TRUE),\"\")","v":""},null,{"$f":"IF(AR7<>\"\",VLOOKUP(AR7,#REF!,2,FALSE),\"\")","v":""},null,null,null,{"$f":"IF(AT7=\"\",\"\",INDEX(REFERENTES!$A:$B,MATCH(AT7,REFERENTES!$A:$A,0),2))","v":""},null,{"$f":"IF(AX7=\"\",\"\",INDEX(REFERENTES!M:O,MATCH(AX7,REFERENTES!M:M,0),3))","v":""}]
["30001212000000",{"$f":"DIGITADOR!$B$2","v":""},0,{"$f":"IF(E8<>\"\",CONCATENATE(B8,A8,DIGITADOR!$M$1,C8),\"\")","v":""},null,null,"","","",null,{"$f":"IF(J8=\"\",\"\",INDEX(REFERENTES!$V:$W,MATCH(J8,REFERENTES!$W:$W,0),1))","v":""},{"$f":"IF(E8=\"\",\"\",IF(O8=O7,\"\",CONCATENATE(B8,A8,DIGITADOR!$M$1,C8)))","v":""},null,{"$f":"IF(M8=\"\",\"\",INDEX(REFERENTES!$AB:$AC,MATCH(M8,REFERENTES!$AC:$AC,0),1))","v":""},"",null,4,"",null,null,null,null,null,null,null,null,null,null,null,null,null,null,null,null,null,null,null,null,{"$f":"IF(AL8<>\"\",VLOOKUP(AL8,#REF!,2,FALSE),\"\")","v":""},null,null,null,{"$f":"IF(AP8<>\"\",VLOOKUP(AP8,#REF!,2,TRUE),\"\")","v":""},null,{"$f":"IF(AR8<>\"\",VLOOKUP(AR8,#REF!,2,FALSE),\"\")","v":""},null,null,null,{"$f":"IF(AT8=\"\",\"\",INDEX(REFERENTES!$A:$B,MATCH(AT8,REFERENTES!$A:$A,0),2))","v":""},null,{"$f":"IF(AX8=\"\",\"\",INDEX(REFERENTES!M:O,MATCH(AX8,REFERENTES!M:M,0),3))","v":""}]
["30001212000000",{"$f":"DIGITADOR!$B$2","v":""},0,{"$f":"IF(E9<>\"\",CONCATENATE(B9,A9,DIGITADOR!$M$1,C9),\"\")","v":""},null,null,"","","",null,{"$f":"IF(J9=\"\",\"\",INDEX(REFERENTES!$V:$W,MATCH(J9,REFERENTES!$W:$W,0),1))","v":""},{"$f":"IF(E9=\"\",\"\",IF(O9=O8,\"\",CONCATENATE(B9,A9,DIGITADOR!$M$1,C9)))","v":""},null,{"$f":"IF(M9=\"\",\"\",INDEX(REFERENTES!$AB:$AC,MATCH(M9,REFERENTES!$AC:$AC,0),1))","v":""},"",null,5,"",null,null,null,null,null,null,null,null,null,null,null,null,null,null,null,null,null,null,null,null,{"$f":"IF(AL9<>\"\",VLOOKUP(AL9,#REF!,2,FALSE),\"\")","v":""},null,null,null,{"$f":"IF(AP9<>\"\",VLOOKUP(AP9,#REF!,2,TRUE),\"\")","v":""},null,{"$f":"IF(AR9<>\"\",VLOOKUP(AR9,#REF!,2,FALSE),\"\")","v":""},null,null,null,{"$f":"IF(AT9=\"\",\"\",INDEX(REFERENTES!$A:$B,MATCH(AT9,REFERENTES!$A:$A,0),2))","v":""},null,{"$f":"IF(AX9=\"\",\"\",INDEX(REFERENTES!M:O,MATCH(AX9,REFERENTES!M:M,0),3))","v":""}]
["30001212000000",{"$f":"DIGITADOR!$B$2","v":""},0,{"$f":"IF(E10<>\"\",CONCATENATE(B10,A10,DIGITADOR!$M$1,C10),\"\")","v":""},null,null,"","","",null,{"$f":"IF(J10=\"\",\"\",INDEX(REFERENTES!$V:$W,MATCH(J10,REFERENTES!$W:$W,0),1))","v":""},{"$f":"IF(E10=\"\",\"\",IF(O10=O9,\"\",CONCATENATE(B10,A10,DIGITADOR!$M$1,C10)))","v":""},null,{"$f":"IF(M10=\"\",\"\",INDEX(REFERENTES!$AB:$AC,MATCH(M10,REFERENTES!$AC:$AC,0),1))","v":""},"",null,6,"",null,null,null,null,null,null,null,null,null,null,null,null,null,null,null,null,null,null,null,null,{"$f":"IF(AL10<>\"\",VLOOKUP(AL10,#REF!,2,FALSE),\"\")","v":""},null,null,null,{"$f":"IF(AP10<>\"\",VLOOKUP(AP10,#REF!,2,TRUE),\"\")","v":""},null,{"$f":"IF(AR10<>\"\",VLOOKUP(AR10,#REF!,2,FALSE),\"\")","v":""},null,null,null,{"$f":"IF(AT10=\"\",\"\",INDEX(REFERENTES!$A:$B,MATCH(AT10,REFERENTES!$A:$A,0),2))","v":""},null,{"$f":"IF(AX10=\"\",\"\",INDEX(REFERENTES!M:O,MATCH(AX10,REFERENTES!M:M,0),3))","v":""}]
["30001212000000",{"$f":"DIGITADOR!$B$2","v":""},0,{"$f":"IF(E11<>\"\",CONCATENATE(B11,A11,DIGITADOR!$M$1,C11),\"\")","v":""},null,null,"","","",null,{"$f":"IF(J11=\"\",\"\",INDEX(REFERENTES!$V:$W,MATCH(J11,REFERENTES!$W:$W,0),1))","v":""},{"$f":"IF(E11=\"\",\"\",IF(O11=O10,\"\",CONCATENATE(B11,A11,DIGITADOR!$M$1,C11)))","v":""},null,{"$f":"IF(M11=\"\",\"\",INDEX(REFERENTES!$AB:$AC,MATCH(M11,REFERENTES!$AC:$AC,0),1))","v":""},"",null,7,"",null,null,null,null,null,null,null,null,null,null,null,null,null,null,null,null,null,null,null,null,{"$f":"IF(AL11<>\"\",VLOOKUP(AL11,#REF!,2,FALSE),\"\")","v":""},null,null,null,{"$f":"IF(AP11<>\"\",VLOOKUP(AP11,#REF!,2,TRUE),\"\")","v":""},null,{"$f":"IF(AR11<>\"\",VLOOKUP(AR11,#REF!,2,FALSE),\"\")","v":""},null,null,null,{"$f":"IF(AT11=\"\",\"\",INDEX(REFERENTES!$A:$B,MATCH(AT11,REFERENTES!$A:$A,0),2))","v":""},null,{"$f":"IF(AX11=\"\",\"\",INDEX(REFERENTES!M:O,MATCH(AX11,REFERENTES!M:M,0),3))","v":""}]
["30001212000000",{"$f":"DIGITADOR!$B$2","v":""},0,{"$f":"IF(E12<>\"\",CONCATENATE(B12,A12,DIGITADOR!$M$1,C12),\"\")","v":""},null,null,"","","",null,{"$f":"IF(J12=\"\",\"\",INDEX(REFERENTES!$V:$W,MATCH(J12,REFERENTES!$W:$W,0),1))","v":""},{"$f":"IF(E12=\"\",\"\",IF(O12=O11,\"\",CONCATENATE(B12,A12,DIGITADOR!$M$1,C12)))","v":""},null,{"$f":"IF(M12=\"\",\"\",INDEX(REFERENTES!$AB:$AC,MATCH(M12,REFERENTES!$AC:$AC,0),1))","v":""},"",null,8,"",null,null,null,null,null,null,null,null,null,null,null,null,null,null,null,null,null,null,null,null,{"$f":"IF(AL12<>\"\",VLOOKUP(AL12,#REF!,2,FALSE),\"\")","v":""},null,null,null,{"$f":"IF(AP12<>\"\",VLOOKUP(AP12,#REF!,2,TRUE),\"\")","v":""},null,{"$f":"IF(AR12<>\"\",VLOOKUP(AR12,#REF!,2,FALSE),\"\")","v":""},null,null,null,{"$f":"IF(AT12=\"\",\"\",INDEX(REFERENTES!$A:$B,MATCH(AT12,REFERENTES!$A:$A,0),2))","v":""},null,{"$f":"IF(AX12=\"\",\"\",INDEX(REFERENTES!M:O,MATCH(AX12,REFERENTES!M:M,0),3))","v":""}]
["30001212000000",{"$f":"DIGITADOR!$B$2","v":""},0,{"$f":"IF(E13<>\"\",CONCATENATE(B13,A13,DIGITADOR!$M$1,C13),\"\")","v":""},null,null,"","","",null,{"$f":"IF(J13=\"\",\"\",INDEX(REFERENTES!$V:$W,MATCH(J13,REFERENTES!$W:$W,0),1))","v":""},{"$f":"IF(E13=\"\",\"\",IF(O13=O12,\"\",CONCATENATE(B13,A13,DIGITADOR!$M$1,C13)))","v":""},null,{"$f":"IF(M13=\"\",\"\",INDEX(REFERENTES!$AB:$AC,MATCH(M13,REFERENTES!$AC:$AC,0),1))","v":""},"",null,9,"",null,null,null,null,null,null,null,null,null,null,null,null,null,null,null,null,null,null,null,null,{"$f":"IF(AL13<>\"\",VLOOKUP(AL13,#REF!,2,FALSE),\"\")","v":""},null,null,null,{"$f":"IF(AP13<>\"\",VLOOKUP(AP13,#REF!,2,TRUE),\"\")","v":""},null,{"$f":"IF(AR13<>\"\",VLOOKUP(AR13,#REF!,2,FALSE),\"\")","v":""},null,null,null,{"$f":"IF(AT13=\"\",\"\",INDEX(REFERENTES!$A:$B,MATCH(AT13,REFERENTES!$A:$A,0),2))","v":""},null,{"$f":"IF(AX13=\"\",\"\",INDEX(REFERENTES!M:O,MATCH(AX13,REFERENTES!M:M,0),3))","v":""}]
["30001212000000",{"$f":"DIGITADOR!$B$2","v":""},0,{"$f":"IF(E14<>\"\",CONCATENATE(B14,A14,DIGITADOR!$M$1,C14),\"\")","v":""},null,null,"","","",null,{"$f":"IF(J14=\"\",\"\",INDEX(REFERENTES!$V:$W,MATCH(J14,REFERENTES!$W:$W,0),1))","v":""},{"$f":"IF(E14=\"\",\"\",IF(O14=O13,\"\",CONCATENATE(B14,A14,DIGITADOR!$M$1,C14)))","v":""},null,{"$f":"IF(M14=\"\",\"\",INDEX(REFERENTES!$AB:$AC,MATCH(M14,REFERENTES!$AC:$AC,0),1))","v":""},"",null,10,"",null,null,null,null,null,null,null,null,null,null,null,null,null,null,null,null,null,null,null,null,{"$f":"IF(AL14<>\"\",VLOOKUP(AL14,#REF!,2,FALSE),\"\")","v":""},null,null,null,{"$f":"IF(AP14<>\"\",VLOOKUP(AP14,#REF!,2,TRUE),\"\")","v":""},null,{"$f":"IF(AR14<>\"\",VLOOKUP(AR14,#REF!,2,FALSE),\"\")","v":""},null,null,null,{"$f":"IF(AT14=\"\",\"\",INDEX(REFERENTES!$A:$B,MATCH(AT14,REFERENTES!$A:$A,0),2))","v":""},null,{"$f":"IF(AX14=\"\",\"\",INDEX(REFERENTES!M:O,MATCH(AX14,REFERENTES!M:M,0),3))","v":""}]
["30001212000000",{"$f":"DIGITADOR!$B$2","v":""},0,{"$f":"IF(E15<>\"\",CONCATENATE(B15,A15,DIGITADOR!$M$1,C15),\"\")","v":""},null,null,"","","",null,{"$f":"IF(J15=\"\",\"\",INDEX(REFERENTES!$V:$W,MATCH(J15,REFERENTES!$W:$W,0),1))","v":""},{"$f":"IF(E15=\"\",\"\",IF(O15=O14,\"\",CONCATENATE(B15,A15,DIGITADOR!$M$1,C15)))","v":""},null,{"$f":"IF(M15=\"\",\"\",INDEX(REFERENTES!$AB:$AC,MATCH(M15,REFERENTES!$AC:$AC,0),1))","v":""},"",null,11,"",null,null,null,null,null,null,null,null,null,null,null,null,null,null,null,null,null,null,null,null,{"$f":"IF(AL15<>\"\",VLOOKUP(AL15,#REF!,2,FALSE),\"\")","v":""},null,null,null,{"$f":"IF(AP15<>\"\",VLOOKUP(AP15,#REF!,2,TRUE),\"\")","v":""},null,{"$f":"IF(AR15<>\"\",VLOOKUP(AR15,#REF!,2,FALSE),\"\")","v":""},null,null,null,{"$f":"IF(AT15=\"\",\"\",INDEX(REFERENTES!$A:$B,MATCH(AT15,REFERENTES!$A:$A,0),2))","v":""},null,{"$f":"IF(AX15=\"\",\"\",INDEX(REFERENTES!M:O,MATCH(AX15,REFERENTES!M:M,0),3))","v":""}]
["30001212000000",{"$f":"DIGITADOR!$B$2","v":""},0,{"$f":"IF(E16<>\"\",CONCATENATE(B16,A16,DIGITADOR!$M$1,C16),\"\")","v":""},null,null,"","","",null,{"$f":"IF(J16=\"\",\"\",INDEX(REFERENTES!$V:$W,MATCH(J16,REFERENTES!$W:$W,0),1))","v":""},{"$f":"IF(E16=\"\",\"\",IF(O16=O15,\"\",CONCATENATE(B16,A16,DIGITADOR!$M$1,C16)))","v":""},null,{"$f":"IF(M16=\"\",\"\",INDEX(REFERENTES!$AB:$AC,MATCH(M16,REFERENTES!$AC:$AC,0),1))","v":""},"",null,12,"",null,null,null,null,null,null,null,null,null,null,null,null,null,null,null,null,null,null,null,null,{"$f":"IF(AL16<>\"\",VLOOKUP(AL16,#REF!,2,FALSE),\"\")","v":""},null,null,null,{"$f":"IF(AP16<>\"\",VLOOKUP(AP16,#REF!,2,TRUE),\"\")","v":""},null,{"$f":"IF(AR16<>\"\",VLOOKUP(AR16,#REF!,2,FALSE),\"\")","v":""},null,null,null,{"$f":"IF(AT16=\"\",\"\",INDEX(REFERENTES!$A:$B,MATCH(AT16,REFERENTES!$A:$A,0),2))","v":""},null,{"$f":"IF(AX16=\"\",\"\",INDEX(REFERENTES!M:O,MATCH(AX16,REFERENTES!M:M,0),3))","v":""}]
["30001212000000",{"$f":"DIGITADOR!$B$2","v":""},0,{"$f":"IF(E17<>\"\",CONCATENATE(B17,A17,DIGITADOR!$M$1,C17),\"\")","v":""},null,null,"","","",null,{"$f":"IF(J17=\"\",\"\",INDEX(REFERENTES!$V:$W,MATCH(J17,REFERENTES!$W:$W,0),1))","v":""},{"$f":"IF(E17=\"\",\"\",IF(O17=O16,\"\",CONCATENATE(B17,A17,DIGITADOR!$M$1,C17)))","v":""},null,{"$f":"IF(M17=\"\",\"\",INDEX(REFERENTES!$AB:$AC,MATCH(M17,REFERENTES!$AC:$AC,0),1))","v":""},"",null,13,"",null,null,null,null,null,null,null,null,null,null,null,null,null,null,null,null,null,null,null,null,{"$f":"IF(AL17<>\"\",VLOOKUP(AL17,#REF!,2,FALSE),\"\")","v":""},null,null,null,{"$f":"IF(AP17<>\"\",VLOOKUP(AP17,#REF!,2,TRUE),\"\")","v":""},null,{"$f":"IF(AR17<>\"\",VLOOKUP(AR17,#REF!,2,FALSE),\"\")","v":""},null,null,null,{"$f":"IF(AT17=\"\",\"\",INDEX(REFERENTES!$A:$B,MATCH(AT17,REFERENTES!$A:$A,0),2))","v":""},null,{"$f":"IF(AX17=\"\",\"\",INDEX(REFERENTES!M:O,MATCH(AX17,REFERENTES!M:M,0),3))","v":""}]
["30001212000000",{"$f":"DIGITADOR!$B$2","v":""},0,{"$f":"IF(E18<>\"\",CONCATENATE(B18,A18,DIGITADOR!$M$1,C18),\"\")","v":""},null,null,"","","",null,{"$f":"IF(J18=\"\",\"\",INDEX(REFERENTES!$V:$W,MATCH(J18,REFERENTES!$W:$W,0),1))","v":""},{"$f":"IF(E18=\"\",\"\",IF(O18=O17,\"\",CONCATENATE(B18,A18,DIGITADOR!$M$1,C18)))","v":""},null,{"$f":"IF(M18=\"\",\"\",INDEX(REFERENTES!$AB:$AC,MATCH(M18,REFERENTES!$AC:$AC,0),1))","v":""},"",null,14,"",null,null,null,null,null,null,null,null,null,null,null,null,null,null,null,null,null,null,null,null,{"$f":"IF(AL18<>\"\",VLOOKUP(AL18,#REF!,2,FALSE),\"\")","v":""},null,null,null,{"$f":"IF(AP18<>\"\",VLOOKUP(AP18,#REF!,2,TRUE),\"\")","v":""},null,{"$f":"IF(AR18<>\"\",VLOOKUP(AR18,#REF!,2,FALSE),\"\")","v":""},null,null,null,{"$f":"IF(AT18=\"\",\"\",INDEX(REFERENTES!$A:$B,MATCH(AT18,REFERENTES!$A:$A,0),2))","v":""},null,{"$f":"IF(AX18=\"\",\"\",INDEX(REFERENTES!M:O,MATCH(AX18,REFERENTES!M:M,0),3))","v":""}]
["30001212000000",{"$f":"DIGITADOR!$B$2","v":""},0,{"$f":"IF(E19<>\"\",CONCATENATE(B19,A19,DIGITADOR!$M$1,C19),\"\")","v":""},null,null,"","","",null,{"$f":"IF(J19=\"\",\"\",INDEX(REFERENTES!$V:$W,MATCH(J19,REFERENTES!$W:$W,0),1))","v":""},{"$f":"IF(E19=\"\",\"\",IF(O19=O18,\"\",CONCATENATE(B19,A19,DIGITADOR!$M$1,C19)))","v":""},null,{"$f":"IF(M19=\"\",\"\",INDEX(REFERENTES!$AB:$AC,MATCH(M19,REFERENTES!$AC:$AC,0),1))","v":""},"",null,15,"",null,null,null,null,null,null,null,null,null,null,null,null,null,null,null,null,null,null,null,null,{"$f":"IF(AL19<>\"\",VLOOKUP(AL19,#REF!,2,FALSE),\"\")","v":""},null,null,null,{"$f":"IF(AP19<>\"\",VLOOKUP(AP19,#REF!,2,TRUE),\"\")","v":""},null,{"$f":"IF(AR19<>\"\",VLOOKUP(AR19,#REF!,2,FALSE),\"\")","v":""},null,null,null,{"$f":"IF(AT19=\"\",\"\",INDEX(REFERENTES!$A:$B,MATCH(AT19,REFERENTES!$A:$A,0),2))","v":""},null,{"$f":"IF(AX19=\"\",\"\",INDEX(REFERENTES!M:O,MATCH(AX19,REFERENTES!M:M,0),3))","v":""}]
["30001212000000",{"$f":"DIGITADOR!$B$2","v":""},0,{"$f":"IF(E20<>\"\",CONCATENATE(B20,A20,DIGITADOR!$M$1,C20),\"\")","v":""},null,null,"","","",null,{"$f":"IF(J20=\"\",\"\",INDEX(REFERENTES!$V:$W,MATCH(J20,REFERENTES!$W:$W,0),1))","v":""},{"$f":"IF(E20=\"\",\"\",IF(O20=O19,\"\",CONCATENATE(B20,A20,DIGITADOR!$M$1,C20)))","v":""},null,{"$f":"IF(M20=\"\",\"\",INDEX(REFERENTES!$AB:$AC,MATCH(M20,REFERENTES!$AC:$AC,0),1))","v":""},"",null,16,"",null,null,null,null,null,null,null,null,null,null,null,null,null,null,null,null,null,null,null,null,{"$f":"IF(AL20<>\"\",VLOOKUP(AL20,#REF!,2,FALSE),\"\")","v":""},null,null,null,{"$f":"IF(AP20<>\"\",VLOOKUP(AP20,#REF!,2,TRUE),\"\")","v":""},null,{"$f":"IF(AR20<>\"\",VLOOKUP(AR20,#REF!,2,FALSE),\"\")","v":""},null,null,null,{"$f":"IF(AT20=\"\",\"\",INDEX(REFERENTES!$A:$B,MATCH(AT20,REFERENTES!$A:$A,0),2))","v":""},null,{"$f":"IF(AX20=\"\",\"\",INDEX(REFERENTES!M:O,MATCH(AX20,REFERENTES!M:M,0),3))","v":""}]
["30001212000000",{"$f":"DIGITADOR!$B$2","v":""},0,{"$f":"IF(E21<>\"\",CONCATENATE(B21,A21,DIGITADOR!$M$1,C21),\"\")","v":""},null,null,"","","",null,{"$f":"IF(J21=\"\",\"\",INDEX(REFERENTES!$V:$W,MATCH(J21,REFERENTES!$W:$W,0),1))","v":""},{"$f":"IF(E21=\"\",\"\",IF(O21=O20,\"\",CONCATENATE(B21,A21,DIGITADOR!$M$1,C21)))","v":""},null,{"$f":"IF(M21=\"\",\"\",INDEX(REFERENTES!$AB:$AC,MATCH(M21,REFERENTES!$AC:$AC,0),1))","v":""},"",null,17,"",null,null,null,null,null,null,null,null,null,null,null,null,null,null,null,null,null,null,null,null,{"$f":"IF(AL21<>\"\",VLOOKUP(AL21,#REF!,2,FALSE),\"\")","v":""},null,null,null,{"$f":"IF(AP21<>\"\",VLOOKUP(AP21,#REF!,2,TRUE),\"\")","v":""},null,{"$f":"IF(AR21<>\"\",VLOOKUP(AR21,#REF!,2,FALSE),\"\")","v":""},null,null,null,{"$f":"IF(AT21=\"\",\"\",INDEX(REFERENTES!$A:$B,MATCH(AT21,REFERENTES!$A:$A,0),2))","v":""},null,{"$f":"IF(AX21=\"\",\"\",INDEX(REFERENTES!M:O,MATCH(AX21,REFERENTES!M:M,0),3))","v":""}]
["30001212000000",{"$f":"DIGITADOR!$B$2","v":""},0,{"$f":"IF(E22<>\"\",CONCATENATE(B22,A22,DIGITADOR!$M$1,C22),\"\")","v":""},null,null,"","","",null,{"$f":"IF(J22=\"\",\"\",INDEX(REFERENTES!$V:$W,MATCH(J22,REFERENTES!$W:$W,0),1))","v":""},{"$f":"IF(E22=\"\",\"\",IF(O22=O21,\"\",CONCATENATE(B22,A22,DIGITADOR!$M$1,C22)))","v":""},null,{"$f":"IF(M22=\"\",\"\",INDEX(REFERENTES!$AB:$AC,MATCH(M22,REFERENTES!$AC:$AC,0),1))","v":""},"",null,18,"",null,null,null,null,null,null,null,null,null,null,null,null,null,null,null,null,null,null,null,null,{"$f":"IF(AL22<>\"\",VLOOKUP(AL22,#REF!,2,FALSE),\"\")","v":""},null,null,null,{"$f":"IF(AP22<>\"\",VLOOKUP(AP22,#REF!,2,TRUE),\"\")","v":""},null,{"$f":"IF(AR22<>\"\",VLOOKUP(AR22,#REF!,2,FALSE),\"\")","v":""},null,null,null,{"$f":"IF(AT22=\"\",\"\",INDEX(REFERENTES!$A:$B,MATCH(AT22,REFERENTES!$A:$A,0),2))","v":""},null,{"$f":"IF(AX22=\"\",\"\",INDEX(REFERENTES!M:O,MATCH(AX22,REFERENTES!M:M,0),3))","v":""}]
["30001212000000",{"$f":"DIGITADOR!$B$2","v":""},0,{"$f":"IF(E23<>\"\",CONCATENATE(B23,A23,DIGITADOR!$M$1,C23),\"\")","v":""},null,null,"","","",null,{"$f":"IF(J23=\"\",\"\",INDEX(REFERENTES!$V:$W,MATCH(J23,REFERENTES!$W:$W,0),1))","v":""},{"$f":"IF(E23=\"\",\"\",IF(O23=O22,\"\",CONCATENATE(B23,A23,DIGITADOR!$M$1,C23)))","v":""},null,{"$f":"IF(M23=\"\",\"\",INDEX(REFERENTES!$AB:$AC,MATCH(M23,REFERENTES!$AC:$AC,0),1))","v":""},"",null,19,"",null,null,null,null,null,null,null,null,null,null,null,null,null,null,null,null,null,null,null,null,{"$f":"IF(AL23<>\"\",VLOOKUP(AL23,#REF!,2,FALSE),\"\")","v":""},null,null,null,{"$f":"IF(AP23<>\"\",VLOOKUP(AP23,#REF!,2,TRUE),\"\")","v":""},null,{"$f":"IF(AR23<>\"\",VLOOKUP(AR23,#REF!,2,FALSE),\"\")","v":""},null,null,null,{"$f":"IF(AT23=\"\",\"\",INDEX(REFERENTES!$A:$B,MATCH(AT23,REFERENTES!$A:$A,0),2))","v":""},null,{"$f":"IF(AX23=\"\",\"\",INDEX(REFERENTES!M:O,MATCH(AX23,REFERENTES!M:M,0),3))","v":""}]
["30001212000000",{"$f":"DIGITADOR!$B$2","v":""},0,{"$f":"IF(E24<>\"\",CONCATENATE(B24,A24,DIGITADOR!$M$1,C24),\"\")","v":""},null,null,"","","",null,{"$f":"IF(J24=\"\",\"\",INDEX(REFERENTES!$V:$W,MATCH(J24,REFERENTES!$W:$W,0),1))","v":""},{"$f":"IF(E24=\"\",\"\",IF(O24=O23,\"\",CONCATENATE(B24,A24,DIGITADOR!$M$1,C24)))","v":""},null,{"$f":"IF(M24=\"\",\"\",INDEX(REFERENTES!$AB:$AC,MATCH(M24,REFERENTES!$AC:$AC,0),1))","v":""},"",null,20,"",null,null,null,null,null,null,null,null,null,null,null,null,null,null,null,null,null,null,null,null,{"$f":"IF(AL24<>\"\",VLOOKUP(AL24,#REF!,2,FALSE),\"\")","v":""},null,null,null,{"$f":"IF(AP24<>\"\",VLOOKUP(AP24,#REF!,2,TRUE),\"\")","v":""},null,{"$f":"IF(AR24<>\"\",VLOOKUP(AR24,#REF!,2,FALSE),\"\")","v":""},null,null,null,{"$f":"IF(AT24=\"\",\"\",INDEX(REFERENTES!$A:$B,MATCH(AT24,REFERENTES!$A:$A,0),2))","v":""},null,{"$f":"IF(AX24=\"\",\"\",INDEX(REFERENTES!M:O,MATCH(AX24,REFERENTES!M:M,0),3))","v":""}]
["30001212000000",{"$f":"DIGITADOR!$B$2","v":""},0,{"$f":"IF(E25<>\"\",CONCATENATE(B25,A25,DIGITADOR!$M$1,C25),\"\")","v":""},null,null,"","","",null,{"$f":"IF(J25=\"\",\"\",INDEX(REFERENTES!$V:$W,MATCH(J25,REFERENTES!$W:$W,0),1))","v":""},{"$f":"IF(E25=\"\",\"\",IF(O25=O24,\"\",CONCATENATE(B25,A25,DIGITADOR!$M$1,C25)))","v":""},null,{"$f":"IF(M25=\"\",\"\",INDEX(REFERENTES!$AB:$AC,MATCH(M25,REFERENTES!$AC:$AC,0),1))","v":""},"",null,21,"",null,null,null,null,null,null,null,null,null,null,null,null,null,null,null,null,null,null,null,null,{"$f":"IF(AL25<>\"\",VLOOKUP(AL25,#REF!,2,FALSE),\"\")","v":""},null,null,null,{"$f":"IF(AP25<>\"\",VLOOKUP(AP25,#REF!,2,TRUE),\"\")","v":""},null,{"$f":"IF(AR25<>\"\",VLOOKUP(AR25,#REF!,2,FALSE),\"\")","v":""},null,null,null,{"$f":"IF(AT25=\"\",\"\",INDEX(REFERENTES!$A:$B,MATCH(AT25,REFERENTES!$A:$A,0),2))","v":""},null,{"$f":"IF(AX25=\"\",\"\",INDEX(REFERENTES!M:O,MATCH(AX25,REFERENTES!M:M,0),3))","v":""}]
["30001212000000",{"$f":"DIGITADOR!$B$2","v":""},0,{"$f":"IF(E26<>\"\",CONCATENATE(B26,A26,DIGITADOR!$M$1,C26),\"\")","v":""},null,null,"","","",null,{"$f":"IF(J26=\"\",\"\",INDEX(REFERENTES!$V:$W,MATCH(J26,REFERENTES!$W:$W,0),1))","v":""},{"$f":"IF(E26=\"\",\"\",IF(O26=O25,\"\",CONCATENATE(B26,A26,DIGITADOR!$M$1,C26)))","v":""},null,{"$f":"IF(M26=\"\",\"\",INDEX(REFERENTES!$AB:$AC,MATCH(M26,REFERENTES!$AC:$AC,0),1))","v":""},"",null,22,"",null,null,null,null,null,null,null,null,null,null,null,null,null,null,null,null,null,null,null,null,{"$f":"IF(AL26<>\"\",VLOOKUP(AL26,#REF!,2,FALSE),\"\")","v":""},null,null,null,{"$f":"IF(AP26<>\"\",VLOOKUP(AP26,#REF!,2,TRUE),\"\")","v":""},null,{"$f":"IF(AR26<>\"\",VLOOKUP(AR26,#REF!,2,FALSE),\"\")","v":""},null,null,null,{"$f":"IF(AT26=\"\",\"\",INDEX(REFERENTES!$A:$B,MATCH(AT26,REFERENTES!$A:$A,0),2))","v":""},null,{"$f":"IF(AX26=\"\",\"\",INDEX(REFERENTES!M:O,MATCH(AX26,REFERENTES!M:M,0),3))","v":""}]
["30001212000000",{"$f":"DIGITADOR!$B$2","v":""},0,{"$f":"IF(E27<>\"\",CONCATENATE(B27,A27,DIGITADOR!$M$1,C27),\"\")","v":""},null,null,"","","",null,{"$f":"IF(J27=\"\",\"\",INDEX(REFERENTES!$V:$W,MATCH(J27,REFERENTES!$W:$W,0),1))","v":""},{"$f":"IF(E27=\"\",\"\",IF(O27=O26,\"\",CONCATENATE(B27,A27,DIGITADOR!$M$1,C27)))","v":""},null,{"$f":"IF(M27=\"\",\"\",INDEX(REFERENTES!$AB:$AC,MATCH(M27,REFERENTES!$AC:$AC,0),1))","v":""},"",null,23,"",null,null,null,null,null,null,null,null,null,null,null,null,null,null,null,null,null,null,null,null,{"$f":"IF(AL27<>\"\",VLOOKUP(AL27,#REF!,2,FALSE),\"\")","v":""},null,null,null,{"$f":"IF(AP27<>\"\",VLOOKUP(AP27,#REF!,2,TRUE),\"\")","v":""},null,{"$f":"IF(AR27<>\"\",VLOOKUP(AR27,#REF!,2,FALSE),\"\")","v":""},null,null,null,{"$f":"IF(AT27=\"\",\"\",INDEX(REFERENTES!$A:$B,MATCH(AT27,REFERENTES!$A:$A,0),2))","v":""},null,{"$f":"IF(AX27=\"\",\"\",INDEX(REFERENTES!M:O,MATCH(AX27,REFERENTES!M:M,0),3))","v":""}]
["30001212000000",{"$f":"DIGITADOR!$B$2","v":""},0,{"$f":"IF(E28<>\"\",CONCATENATE(B28,A28,DIGITADOR!$M$1,C28),\"\")","v":""},null,null,"","","",null,{"$f":"IF(J28=\"\",\"\",INDEX(REFERENTES!$V:$W,MATCH(J28,REFERENTES!$W:$W,0),1))","v":""},{"$f":"IF(E28=\"\",\"\",IF(O28=O27,\"\",CONCATENATE(B28,A28,DIGITADOR!$M$1,C28)))","v":""},null,{"$f":"IF(M28=\"\",\"\",INDEX(REFERENTES!$AB:$AC,MATCH(M28,REFERENTES!$AC:$AC,0),1))","v":""},"",null,24,"",null,null,null,null,null,null,null,null,null,null,null,null,null,null,null,null,null,null,null,null,{"$f":"IF(AL28<>\"\",VLOOKUP(AL28,#REF!,2,FALSE),\"\")","v":""},null,null,null,{"$f":"IF(AP28<>\"\",VLOOKUP(AP28,#REF!,2,TRUE),\"\")","v":""},null,{"$f":"IF(AR28<>\"\",VLOOKUP(AR28,#REF!,2,FALSE),\"\")","v":""},null,null,null,{"$f":"IF(AT28=\"\",\"\",INDEX(REFERENTES!$A:$B,MATCH(AT28,REFERENTES!$A:$A,0),2))","v":""},null,{"$f":"IF(AX28=\"\",\"\",INDEX(REFERENTES!M:O,MATCH(AX28,REFERENTES!M:M,0),3))","v":""}]
["30001212000000",{"$f":"DIGITADOR!$B$2","v":""},0,{"$f":"IF(E29<>\"\",CONCATENATE(B29,A29,DIGITADOR!$M$1,C29),\"\")","v":""},null,null,"","","",null,{"$f":"IF(J29=\"\",\"\",INDEX(REFERENTES!$V:$W,MATCH(J29,REFERENTES!$W:$W,0),1))","v":""},{"$f":"IF(E29=\"\",\"\",IF(O29=O28,\"\",CONCATENATE(B29,A29,DIGITADOR!$M$1,C29)))","v":""},null,{"$f":"IF(M29=\"\",\"\",INDEX(REFERENTES!$AB:$AC,MATCH(M29,REFERENTES!$AC:$AC,0),1))","v":""},"",null,25,"",null,null,null,null,null,null,null,null,null,null,null,null,null,null,null,null,null,null,null,null,{"$f":"IF(AL29<>\"\",VLOOKUP(AL29,#REF!,2,FALSE),\"\")","v":""},null,null,null,{"$f":"IF(AP29<>\"\",VLOOKUP(AP29,#REF!,2,TRUE),\"\")","v":""},null,{"$f":"IF(AR29<>\"\",VLOOKUP(AR29,#REF!,2,FALSE),\"\")","v":""},null,null,null,{"$f":"IF(AT29=\"\",\"\",INDEX(REFERENTES!$A:$B,MATCH(AT29,REFERENTES!$A:$A,0),2))","v":""},null,{"$f":"IF(AX29=\"\",\"\",INDEX(REFERENTES!M:O,MATCH(AX29,REFERENTES!M:M,0),3))","v":""}]
["30001212000000",{"$f":"DIGITADOR!$B$2","v":""},0,{"$f":"IF(E30<>\"\",CONCATENATE(B30,A30,DIGITADOR!$M$1,C30),\"\")","v":""},null,null,"","","",null,{"$f":"IF(J30=\"\",\"\",INDEX(REFERENTES!$V:$W,MATCH(J30,REFERENTES!$W:$W,0),1))","v":""},{"$f":"IF(E30=\"\",\"\",IF(O30=O29,\"\",CONCATENATE(B30,A30,DIGITADOR!$M$1,C30)))","v":""},null,{"$f":"IF(M30=\"\",\"\",INDEX(REFERENTES!$AB:$AC,MATCH(M30,REFERENTES!$AC:$AC,0),1))","v":""},"",null,26,"",null,null,null,null,null,null,null,null,null,null,null,null,null,null,null,null,null,null,null,null,{"$f":"IF(AL30<>\"\",VLOOKUP(AL30,#REF!,2,FALSE),\"\")","v":""},null,null,null,{"$f":"IF(AP30<>\"\",VLOOKUP(AP30,#REF!,2,TRUE),\"\")","v":""},null,{"$f":"IF(AR30<>\"\",VLOOKUP(AR30,#REF!,2,FALSE),\"\")","v":""},null,null,null,{"$f":"IF(AT30=\"\",\"\",INDEX(REFERENTES!$A:$B,MATCH(AT30,REFERENTES!$A:$A,0),2))","v":""},null,{"$f":"IF(AX30=\"\",\"\",INDEX(REFERENTES!M:O,MATCH(AX30,REFERENTES!M:M,0),3))","v":""}]
["30001212000000",{"$f":"DIGITADOR!$B$2","v":""},0,{"$f":"IF(E31<>\"\",CONCATENATE(B31,A31,DIGITADOR!$M$1,C31),\"\")","v":""},null,null,"","","",null,{"$f":"IF(J31=\"\",\"\",INDEX(REFERENTES!$V:$W,MATCH(J31,REFERENTES!$W:$W,0),1))","v":""},{"$f":"IF(E31=\"\",\"\",IF(O31=O30,\"\",CONCATENATE(B31,A31,DIGITADOR!$M$1,C31)))","v":""},null,{"$f":"IF(M31=\"\",\"\",INDEX(REFERENTES!$AB:$AC,MATCH(M31,REFERENTES!$AC:$AC,0),1))","v":""},"",null,27,"",null,null,null,null,null,null,null,null,null,null,null,null,null,null,null,null,null,null,null,null,{"$f":"IF(AL31<>\"\",VLOOKUP(AL31,#REF!,2,FALSE),\"\")","v":""},null,null,null,{"$f":"IF(AP31<>\"\",VLOOKUP(AP31,#REF!,2,TRUE),\"\")","v":""},null,{"$f":"IF(AR31<>\"\",VLOOKUP(AR31,#REF!,2,FALSE),\"\")","v":""},null,null,null,{"$f":"IF(AT31=\"\",\"\",INDEX(REFERENTES!$A:$B,MATCH(AT31,REFERENTES!$A:$A,0),2))","v":""},null,{"$f":"IF(AX31=\"\",\"\",INDEX(REFERENTES!M:O,MATCH(AX31,REFERENTES!M:M,0),3))","v":""}]
["30001212000000",{"$f":"DIGITADOR!$B$2","v":""},0,{"$f":"IF(E32<>\"\",CONCATENATE(B32,A32,DIGITADOR!$M$1,C32),\"\")","v":""},null,null,"","","",null,{"$f":"IF(J32=\"\",\"\",INDEX(REFERENTES!$V:$W,MATCH(J32,REFERENTES!$W:$W,0),1))","v":""},{"$f":"IF(E32=\"\",\"\",IF(O32=O31,\"\",CONCATENATE(B32,A32,DIGITADOR!$M$1,C32)))","v":""},null,{"$f":"IF(M32=\"\",\"\",INDEX(REFERENTES!$AB:$AC,MATCH(M32,REFERENTES!$AC:$AC,0),1))","v":""},"",null,28,"",null,null,null,null,null,null,null,null,null,null,null,null,null,null,null,null,null,null,null,null,{"$f":"IF(AL32<>\"\",VLOOKUP(AL32,#REF!,2,FALSE),\"\")","v":""},null,null,null,{"$f":"IF(AP32<>\"\",VLOOKUP(AP32,#REF!,2,TRUE),\"\")","v":""},null,{"$f":"IF(AR32<>\"\",VLOOKUP(AR32,#REF!,2,FALSE),\"\")","v":""},null,null,null,{"$f":"IF(AT32=\"\",\"\",INDEX(REFERENTES!$A:$B,MATCH(AT32,REFERENTES!$A:$A,0),2))","v":""},null,{"$f":"IF(AX32=\"\",\"\",INDEX(REFERENTES!M:O,MATCH(AX32,REFERENTES!M:M,0),3))","v":""}]
["30001212000000",{"$f":"DIGITADOR!$B$2","v":""},0,{"$f":"IF(E33<>\"\",CONCATENATE(B33,A33,DIGITADOR!$M$1,C33),\"\")","v":""},null,null,"","","",null,{"$f":"IF(J33=\"\",\"\",INDEX(REFERENTES!$V:$W,MATCH(J33,REFERENTES!$W:$W,0),1))","v":""},{"$f":"IF(E33=\"\",\"\",IF(O33=O32,\"\",CONCATENATE(B33,A33,DIGITADOR!$M$1,C33)))","v":""},null,{"$f":"IF(M33=\"\",\"\",INDEX(REFERENTES!$AB:$AC,MATCH(M33,REFERENTES!$AC:$AC,0),1))","v":""},"",null,29,"",null,null,null,null,null,null,null,null,null,null,null,null,null,null,null,null,null,null,null,null,{"$f":"IF(AL33<>\"\",VLOOKUP(AL33,#REF!,2,FALSE),\"\")","v":""},null,null,null,{"$f":"IF(AP33<>\"\",VLOOKUP(AP33,#REF!,2,TRUE),\"\")","v":""},null,{"$f":"IF(AR33<>\"\",VLOOKUP(AR33,#REF!,2,FALSE),\"\")","v":""},null,null,null,{"$f":"IF(AT33=\"\",\"\",INDEX(REFERENTES!$A:$B,MATCH(AT33,REFERENTES!$A:$A,0),2))","v":""},null,{"$f":"IF(AX33=\"\",\"\",INDEX(REFERENTES!M:O,MATCH(AX33,REFERENTES!M:M,0),3))","v":""}]
["30001212000000",{"$f":"DIGITADOR!$B$2","v":""},0,{"$f":"IF(E34<>\"\",CONCATENATE(B34,A34,DIGITADOR!$M$1,C34),\"\")","v":""},null,null,"","","",null,{"$f":"IF(J34=\"\",\"\",INDEX(REFERENTES!$V:$W,MATCH(J34,REFERENTES!$W:$W,0),1))","v":""},{"$f":"IF(E34=\"\",\"\",IF(O34=O33,\"\",CONCATENATE(B34,A34,DIGITADOR!$M$1,C34)))","v":""},null,{"$f":"IF(M34=\"\",\"\",INDEX(REFERENTES!$AB:$AC,MATCH(M34,REFERENTES!$AC:$AC,0),1))","v":""},"",null,30,"",null,null,null,null,null,null,null,null,null,null,null,null,null,null,null,null,null,null,null,null,{"$f":"IF(AL34<>\"\",VLOOKUP(AL34,#REF!,2,FALSE),\"\")","v":""},null,null,null,{"$f":"IF(AP34<>\"\",VLOOKUP(AP34,#REF!,2,TRUE),\"\")","v":""},null,{"$f":"IF(AR34<>\"\",VLOOKUP(AR34,#REF!,2,FALSE),\"\")","v":""},null,null,null,{"$f":"IF(AT34=\"\",\"\",INDEX(REFERENTES!$A:$B,MATCH(AT34,REFERENTES!$A:$A,0),2))","v":""},null,{"$f":"IF(AX34=\"\",\"\",INDEX(REFERENTES!M:O,MATCH(AX34,REFERENTES!M:M,0),3))","v":""}]
["30001212000000",{"$f":"DIGITADOR!$B$2","v":""},0,{"$f":"IF(E35<>\"\",CONCATENATE(B35,A35,DIGITADOR!$M$1,C35),\"\")","v":""},null,null,"","","",null,{"$f":"IF(J35=\"\",\"\",INDEX(REFERENTES!$V:$W,MATCH(J35,REFERENTES!$W:$W,0),1))","v":""},{"$f":"IF(E35=\"\",\"\",IF(O35=O34,\"\",CONCATENATE(B35,A35,DIGITADOR!$M$1,C35)))","v":""},null,{"$f":"IF(M35=\"\",\"\",INDEX(REFERENTES!$AB:$AC,MATCH(M35,REFERENTES!$AC:$AC,0),1))","v":""},"",null,31,"",null,null,null,null,null,null,null,null,null,null,null,null,null,null,null,null,null,null,null,null,{"$f":"IF(AL35<>\"\",VLOOKUP(AL35,#REF!,2,FALSE),\"\")","v":""},null,null,null,{"$f":"IF(AP35<>\"\",VLOOKUP(AP35,#REF!,2,TRUE),\"\")","v":""},null,{"$f":"IF(AR35<>\"\",VLOOKUP(AR35,#REF!,2,FALSE),\"\")","v":""},null,null,null,{"$f":"IF(AT35=\"\",\"\",INDEX(REFERENTES!$A:$B,MATCH(AT35,REFERENTES!$A:$A,0),2))","v":""},null,{"$f":"IF(AX35=\"\",\"\",INDEX(REFERENTES!M:O,MATCH(AX35,REFERENTES!M:M,0),3))","v":""}]
["30001212000000",{"$f":"DIGITADOR!$B$2","v":""},0,{"$f":"IF(E36<>\"\",CONCATENATE(B36,A36,DIGITADOR!$M$1,C36),\"\")","v":""},null,null,"","","",null,{"$f":"IF(J36=\"\",\"\",INDEX(REFERENTES!$V:$W,MATCH(J36,REFERENTES!$W:$W,0),1))","v":""},{"$f":"IF(E36=\"\",\"\",IF(O36=O35,\"\",CONCATENATE(B36,A36,DIGITADOR!$M$1,C36)))","v":""},null,{"$f":"IF(M36=\"\",\"\",INDEX(REFERENTES!$AB:$AC,MATCH(M36,REFERENTES!$AC:$AC,0),1))","v":""},"",null,32,"",null,null,null,null,null,null,null,null,null,null,null,null,null,null,null,null,null,null,null,null,{"$f":"IF(AL36<>\"\",VLOOKUP(AL36,#REF!,2,FALSE),\"\")","v":""},null,null,null,{"$f":"IF(AP36<>\"\",VLOOKUP(AP36,#REF!,2,TRUE),\"\")","v":""},null,{"$f":"IF(AR36<>\"\",VLOOKUP(AR36,#REF!,2,FALSE),\"\")","v":""},null,null,null,{"$f":"IF(AT36=\"\",\"\",INDEX(REFERENTES!$A:$B,MATCH(AT36,REFERENTES!$A:$A,0),2))","v":""},null,{"$f":"IF(AX36=\"\",\"\",INDEX(REFERENTES!M:O,MATCH(AX36,REFERENTES!M:M,0),3))","v":""}]
["30001212000000",{"$f":"DIGITADOR!$B$2","v":""},0,{"$f":"IF(E37<>\"\",CONCATENATE(B37,A37,DIGITADOR!$M$1,C37),\"\")","v":""},null,null,"","","",null,{"$f":"IF(J37=\"\",\"\",INDEX(REFERENTES!$V:$W,MATCH(J37,REFERENTES!$W:$W,0),1))","v":""},{"$f":"IF(E37=\"\",\"\",IF(O37=O36,\"\",CONCATENATE(B37,A37,DIGITADOR!$M$1,C37)))","v":""},null,{"$f":"IF(M37=\"\",\"\",INDEX(REFERENTES!$AB:$AC,MATCH(M37,REFERENTES!$AC:$AC,0),1))","v":""},"",null,33,"",null,null,null,null,null,null,null,null,null,null,null,null,null,null,null,null,null,null,null,null,{"$f":"IF(AL37<>\"\",VLOOKUP(AL37,#REF!,2,FALSE),\"\")","v":""},null,null,null,{"$f":"IF(AP37<>\"\",VLOOKUP(AP37,#REF!,2,TRUE),\"\")","v":""},null,{"$f":"IF(AR37<>\"\",VLOOKUP(AR37,#REF!,2,FALSE),\"\")","v":""},null,null,null,{"$f":"IF(AT37=\"\",\"\",INDEX(REFERENTES!$A:$B,MATCH(AT37,REFERENTES!$A:$A,0),2))","v":""},null,{"$f":"IF(AX37=\"\",\"\",INDEX(REFERENTES!M:O,MATCH(AX37,REFERENTES!M:M,0),3))","v":""}]
["30001212000000",{"$f":"DIGITADOR!$B$2","v":""},0,{"$f":"IF(E38<>\"\",CONCATENATE(B38,A38,DIGITADOR!$M$1,C38),\"\")","v":""},null,null,"","","",null,{"$f":"IF(J38=\"\",\"\",INDEX(REFERENTES!$V:$W,MATCH(J38,REFERENTES!$W:$W,0),1))","v":""},{"$f":"IF(E38=\"\",\"\",IF(O38=O37,\"\",CONCATENATE(B38,A38,DIGITADOR!$M$1,C38)))","v":""},null,{"$f":"IF(M38=\"\",\"\",INDEX(REFERENTES!$AB:$AC,MATCH(M38,REFERENTES!$AC:$AC,0),1))","v":""},"",null,34,"",null,null,null,null,null,null,null,null,null,null,null,null,null,null,null,null,null,null,null,null,{"$f":"IF(AL38<>\"\",VLOOKUP(AL38,#REF!,2,FALSE),\"\")","v":""},null,null,null,{"$f":"IF(AP38<>\"\",VLOOKUP(AP38,#REF!,2,TRUE),\"\")","v":""},null,{"$f":"IF(AR38<>\"\",VLOOKUP(AR38,#REF!,2,FALSE),\"\")","v":""},null,null,null,{"$f":"IF(AT38=\"\",\"\",INDEX(REFERENTES!$A:$B,MATCH(AT38,REFERENTES!$A:$A,0),2))","v":""},null,{"$f":"IF(AX38=\"\",\"\",INDEX(REFERENTES!M:O,MATCH(AX38,REFERENTES!M:M,0),3))","v":""}]
["30001212000000",{"$f":"DIGITADOR!$B$2","v":""},0,{"$f":"IF(E39<>\"\",CONCATENATE(B39,A39,DIGITADOR!$M$1,C39),\"\")","v":""},null,null,"","","",null,{"$f":"IF(J39=\"\",\"\",INDEX(REFERENTES!$V:$W,MATCH(J39,REFERENTES!$W:$W,0),1))","v":""},{"$f":"IF(E39=\"\",\"\",IF(O39=O38,\"\",CONCATENATE(B39,A39,DIGITADOR!$M$1,C39)))","v":""},null,{"$f":"IF(M39=\"\",\"\",INDEX(REFERENTES!$AB:$AC,MATCH(M39,REFERENTES!$AC:$AC,0),1))","v":""},"",null,35,"",null,null,null,null,null,null,null,null,null,null,null,null,null,null,null,null,null,null,null,null,{"$f":"IF(AL39<>\"\",VLOOKUP(AL39,#REF!,2,FALSE),\"\")","v":""},null,null,null,{"$f":"IF(AP39<>\"\",VLOOKUP(AP39,#REF!,2,TRUE),\"\")","v":""},null,{"$f":"IF(AR39<>\"\",VLOOKUP(AR39,#REF!,2,FALSE),\"\")","v":""},null,null,null,{"$f":"IF(AT39=\"\",\"\",INDEX(REFERENTES!$A:$B,MATCH(AT39,REFERENTES!$A:$A,0),2))","v":""},null,{"$f":"IF(AX39=\"\",\"\",INDEX(REFERENTES!M:O,MATCH(AX39,REFERENTES!M:M,0),3))","v":""}]
["30001212000000",{"$f":"DIGITADOR!$B$2","v":""},0,{"$f":"IF(E40<>\"\",CONCATENATE(B40,A40,DIGITADOR!$M$1,C40),\"\")","v":""},null,null,"","","",null,{"$f":"IF(J40=\"\",\"\",INDEX(REFERENTES!$V:$W,MATCH(J40,REFERENTES!$W:$W,0),1))","v":""},{"$f":"IF(E40=\"\",\"\",IF(O40=O39,\"\",CONCATENATE(B40,A40,DIGITADOR!$M$1,C40)))","v":""},null,{"$f":"IF(M40=\"\",\"\",INDEX(REFERENTES!$AB:$AC,MATCH(M40,REFERENTES!$AC:$AC,0),1))","v":""},"",null,36,"",null,null,null,null,null,null,null,null,null,null,null,null,null,null,null,null,null,null,null,null,{"$f":"IF(AL40<>\"\",VLOOKUP(AL40,#REF!,2,FALSE),\"\")","v":""},null,null,null,{"$f":"IF(AP40<>\"\",VLOOKUP(AP40,#REF!,2,TRUE),\"\")","v":""},null,{"$f":"IF(AR40<>\"\",VLOOKUP(AR40,#REF!,2,FALSE),\"\")","v":""},null,null,null,{"$f":"IF(AT40=\"\",\"\",INDEX(REFERENTES!$A:$B,MATCH(AT40,REFERENTES!$A:$A,0),2))","v":""},null,{"$f":"IF(AX40=\"\",\"\",INDEX(REFERENTES!M:O,MATCH(AX40,REFERENTES!M:M,0),3))","v":""}]
["30001212000000",{"$f":"DIGITADOR!$B$2","v":""},0,{"$f":"IF(E41<>\"\",CONCATENATE(B41,A41,DIGITADOR!$M$1,C41),\"\")","v":""},null,null,"","","",null,{"$f":"IF(J41=\"\",\"\",INDEX(REFERENTES!$V:$W,MATCH(J41,REFERENTES!$W:$W,0),1))","v":""},{"$f":"IF(E41=\"\",\"\",IF(O41=O40,\"\",CONCATENATE(B41,A41,DIGITADOR!$M$1,C41)))","v":""},null,{"$f":"IF(M41=\"\",\"\",INDEX(REFERENTES!$AB:$AC,MATCH(M41,REFERENTES!$AC:$AC,0),1))","v":""},"",null,37,"",null,null,null,null,null,null,null,null,null,null,null,null,null,null,null,null,null,null,null,null,{"$f":"IF(AL41<>\"\",VLOOKUP(AL41,#REF!,2,FALSE),\"\")","v":""},null,null,null,{"$f":"IF(AP41<>\"\",VLOOKUP(AP41,#REF!,2,TRUE),\"\")","v":""},null,{"$f":"IF(AR41<>\"\",VLOOKUP(AR41,#REF!,2,FALSE),\"\")","v":""},null,null,null,{"$f":"IF(AT41=\"\",\"\",INDEX(REFERENTES!$A:$B,MATCH(AT41,REFERENTES!$A:$A,0),2))","v":""},null,{"$f":"IF(AX41=\"\",\"\",INDEX(REFERENTES!M:O,MATCH(AX41,REFERENTES!M:M,0),3))","v":""}]
["30001212000000",{"$f":"DIGITADOR!$B$2","v":""},0,{"$f":"IF(E42<>\"\",CONCATENATE(B42,A42,DIGITADOR!$M$1,C42),\"\")","v":""},null,null,"","","",null,{"$f":"IF(J42=\"\",\"\",INDEX(REFERENTES!$V:$W,MATCH(J42,REFERENTES!$W:$W,0),1))","v":""},{"$f":"IF(E42=\"\",\"\",IF(O42=O41,\"\",CONCATENATE(B42,A42,DIGITADOR!$M$1,C42)))","v":""},null,{"$f":"IF(M42=\"\",\"\",INDEX(REFERENTES!$AB:$AC,MATCH(M42,REFERENTES!$AC:$AC,0),1))","v":""},"",null,38,"",null,null,null,null,null,null,null,null,null,null,null,null,null,null,null,null,null,null,null,null,{"$f":"IF(AL42<>\"\",VLOOKUP(AL42,#REF!,2,FALSE),\"\")","v":""},null,null,null,{"$f":"IF(AP42<>\"\",VLOOKUP(AP42,#REF!,2,TRUE),\"\")","v":""},null,{"$f":"IF(AR42<>\"\",VLOOKUP(AR42,#REF!,2,FALSE),\"\")","v":""},null,null,null,{"$f":"IF(AT42=\"\",\"\",INDEX(REFERENTES!$A:$B,MATCH(AT42,REFERENTES!$A:$A,0),2))","v":""},null,{"$f":"IF(AX42=\"\",\"\",INDEX(REFERENTES!M:O,MATCH(AX42,REFERENTES!M:M,0),3))","v":""}]
["30001212000000",{"$f":"DIGITADOR!$B$2","v":""},0,{"$f":"IF(E43<>\"\",CONCATENATE(B43,A43,DIGITADOR!$M$1,C43),\"\")","v":""},null,null,"","","",null,{"$f":"IF(J43=\"\",\"\",INDEX(REFERENTES!$V:$W,MATCH(J43,REFERENTES!$W:$W,0),1))","v":""},{"$f":"IF(E43=\"\",\"\",IF(O43=O42,\"\",CONCATENATE(B43,A43,DIGITADOR!$M$1,C43)))","v":""},null,{"$f":"IF(M43=\"\",\"\",INDEX(REFERENTES!$AB:$AC,MATCH(M43,REFERENTES!$AC:$AC,0),1))","v":""},"",null,39,"",null,null,null,null,null,null,null,null,null,null,null,null,null,null,null,null,null,null,null,null,{"$f":"IF(AL43<>\"\",VLOOKUP(AL43,#REF!,2,FALSE),\"\")","v":""},null,null,null,{"$f":"IF(AP43<>\"\",VLOOKUP(AP43,#REF!,2,TRUE),\"\")","v":""},null,{"$f":"IF(AR43<>\"\",VLOOKUP(AR43,#REF!,2,FALSE),\"\")","v":""},null,null,null,{"$f":"IF(AT43=\"\",\"\",INDEX(REFERENTES!$A:$B,MATCH(AT43,REFERENTES!$A:$A,0),2))","v":""},null,{"$f":"IF(AX43=\"\",\"\",INDEX(REFERENTES!M:O,MATCH(AX43,REFERENTES!M:M,0),3))","v":""}]
["30001212000000",{"$f":"DIGITADOR!$B$2","v":""},0,{"$f":"IF(E44<>\"\",CONCATENATE(B44,A44,DIGITADOR!$M$1,C44),\"\")","v":""},null,null,"","","",null,{"$f":"IF(J44=\"\",\"\",INDEX(REFERENTES!$V:$W,MATCH(J44,REFERENTES!$W:$W,0),1))","v":""},{"$f":"IF(E44=\"\",\"\",IF(O44=O43,\"\",CONCATENATE(B44,A44,DIGITADOR!$M$1,C44)))","v":""},null,{"$f":"IF(M44=\"\",\"\",INDEX(REFERENTES!$AB:$AC,MATCH(M44,REFERENTES!$AC:$AC,0),1))","v":""},"",null,40,"",null,null,null,null,null,null,null,null,null,null,null,null,null,null,null,null,null,null,null,null,{"$f":"IF(AL44<>\"\",VLOOKUP(AL44,#REF!,2,FALSE),\"\")","v":""},null,null,null,{"$f":"IF(AP44<>\"\",VLOOKUP(AP44,#REF!,2,TRUE),\"\")","v":""},null,{"$f":"IF(AR44<>\"\",VLOOKUP(AR44,#REF!,2,FALSE),\"\")","v":""},null,null,null,{"$f":"IF(AT44=\"\",\"\",INDEX(REFERENTES!$A:$B,MATCH(AT44,REFERENTES!$A:$A,0),2))","v":""},null,{"$f":"IF(AX44=\"\",\"\",INDEX(REFERENTES!M:O,MATCH(AX44,REFERENTES!M:M,0),3))","v":""}]
["30001212000000",{"$f":"DIGITADOR!$B$2","v":""},0,{"$f":"IF(E45<>\"\",CONCATENATE(B45,A45,DIGITADOR!$M$1,C45),\"\")","v":""},null,null,"","","",null,{"$f":"IF(J45=\"\",\"\",INDEX(REFERENTES!$V:$W,MATCH(J45,REFERENTES!$W:$W,0),1))","v":""},{"$f":"IF(E45=\"\",\"\",IF(O45=O44,\"\",CONCATENATE(B45,A45,DIGITADOR!$M$1,C45)))","v":""},null,{"$f":"IF(M45=\"\",\"\",INDEX(REFERENTES!$AB:$AC,MATCH(M45,REFERENTES!$AC:$AC,0),1))","v":""},"",null,41,"",null,null,null,null,null,null,null,null,null,null,null,null,null,null,null,null,null,null,null,null,{"$f":"IF(AL45<>\"\",VLOOKUP(AL45,#REF!,2,FALSE),\"\")","v":""},null,null,null,{"$f":"IF(AP45<>\"\",VLOOKUP(AP45,#REF!,2,TRUE),\"\")","v":""},null,{"$f":"IF(AR45<>\"\",VLOOKUP(AR45,#REF!,2,FALSE),\"\")","v":""},null,null,null,{"$f":"IF(AT45=\"\",\"\",INDEX(REFERENTES!$A:$B,MATCH(AT45,REFERENTES!$A:$A,0),2))","v":""},null,{"$f":"IF(AX45=\"\",\"\",INDEX(REFERENTES!M:O,MATCH(AX45,REFERENTES!M:M,0),3))","v":""}]
["30001212000000",{"$f":"DIGITADOR!$B$2","v":""},0,{"$f":"IF(E46<>\"\",CONCATENATE(B46,A46,DIGITADOR!$M$1,C46),\"\")","v":""},null,null,"","","",null,{"$f":"IF(J46=\"\",\"\",INDEX(REFERENTES!$V:$W,MATCH(J46,REFERENTES!$W:$W,0),1))","v":""},{"$f":"IF(E46=\"\",\"\",IF(O46=O45,\"\",CONCATENATE(B46,A46,DIGITADOR!$M$1,C46)))","v":""},null,{"$f":"IF(M46=\"\",\"\",INDEX(REFERENTES!$AB:$AC,MATCH(M46,REFERENTES!$AC:$AC,0),1))","v":""},"",null,42,"",null,null,null,null,null,null,null,null,null,null,null,null,null,null,null,null,null,null,null,null,{"$f":"IF(AL46<>\"\",VLOOKUP(AL46,#REF!,2,FALSE),\"\")","v":""},null,null,null,{"$f":"IF(AP46<>\"\",VLOOKUP(AP46,#REF!,2,TRUE),\"\")","v":""},null,{"$f":"IF(AR46<>\"\",VLOOKUP(AR46,#REF!,2,FALSE),\"\")","v":""},null,null,null,{"$f":"IF(AT46=\"\",\"\",INDEX(REFERENTES!$A:$B,MATCH(AT46,REFERENTES!$A:$A,0),2))","v":""},null,{"$f":"IF(AX46=\"\",\"\",INDEX(REFERENTES!M:O,MATCH(AX46,REFERENTES!M:M,0),3))","v":""}]
["30001212000000",{"$f":"DIGITADOR!$B$2","v":""},0,{"$f":"IF(E47<>\"\",CONCATENATE(B47,A47,DIGITADOR!$M$1,C47),\"\")","v":""},null,null,"","","",null,{"$f":"IF(J47=\"\",\"\",INDEX(REFERENTES!$V:$W,MATCH(J47,REFERENTES!$W:$W,0),1))","v":""},{"$f":"IF(E47=\"\",\"\",IF(O47=O46,\"\",CONCATENATE(B47,A47,DIGITADOR!$M$1,C47)))","v":""},null,{"$f":"IF(M47=\"\",\"\",INDEX(REFERENTES!$AB:$AC,MATCH(M47,REFERENTES!$AC:$AC,0),1))","v":""},"",null,43,"",null,null,null,null,null,null,null,null,null,null,null,null,null,null,null,null,null,null,null,null,{"$f":"IF(AL47<>\"\",VLOOKUP(AL47,#REF!,2,FALSE),\"\")","v":""},null,null,null,{"$f":"IF(AP47<>\"\",VLOOKUP(AP47,#REF!,2,TRUE),\"\")","v":""},null,{"$f":"IF(AR47<>\"\",VLOOKUP(AR47,#REF!,2,FALSE),\"\")","v":""},null,null,null,{"$f":"IF(AT47=\"\",\"\",INDEX(REFERENTES!$A:$B,MATCH(AT47,REFERENTES!$A:$A,0),2))","v":""},null,{"$f":"IF(AX47=\"\",\"\",INDEX(REFERENTES!M:O,MATCH(AX47,REFERENTES!M:M,0),3))","v":""}]
["30001212000000",{"$f":"DIGITADOR!$B$2","v":""},0,{"$f":"IF(E48<>\"\",CONCATENATE(B48,A48,DIGITADOR!$M$1,C48),\"\")","v":""},null,null,"","","",null,{"$f":"IF(J48=\"\",\"\",INDEX(REFERENTES!$V:$W,MATCH(J48,REFERENTES!$W:$W,0),1))","v":""},{"$f":"IF(E48=\"\",\"\",IF(O48=O47,\"\",CONCATENATE(B48,A48,DIGITADOR!$M$1,C48)))","v":""},null,{"$f":"IF(M48=\"\",\"\",INDEX(REFERENTES!$AB:$AC,MATCH(M48,REFERENTES!$AC:$AC,0),1))","v":""},"",null,44,"",null,null,null,null,null,null,null,null,null,null,null,null,null,null,null,null,null,null,null,null,{"$f":"IF(AL48<>\"\",VLOOKUP(AL48,#REF!,2,FALSE),\"\")","v":""},null,null,null,{"$f":"IF(AP48<>\"\",VLOOKUP(AP48,#REF!,2,TRUE),\"\")","v":""},null,{"$f":"IF(AR48<>\"\",VLOOKUP(AR48,#REF!,2,FALSE),\"\")","v":""},null,null,null,{"$f":"IF(AT48=\"\",\"\",INDEX(REFERENTES!$A:$B,MATCH(AT48,REFERENTES!$A:$A,0),2))","v":""},null,{"$f":"IF(AX48=\"\",\"\",INDEX(REFERENTES!M:O,MATCH(AX48,REFERENTES!M:M,0),3))","v":""}]
["30001212000000",{"$f":"DIGITADOR!$B$2","v":""},0,{"$f":"IF(E49<>\"\",CONCATENATE(B49,A49,DIGITADOR!$M$1,C49),\"\")","v":""},null,null,"","","",null,{"$f":"IF(J49=\"\",\"\",INDEX(REFERENTES!$V:$W,MATCH(J49,REFERENTES!$W:$W,0),1))","v":""},{"$f":"IF(E49=\"\",\"\",IF(O49=O48,\"\",CONCATENATE(B49,A49,DIGITADOR!$M$1,C49)))","v":""},null,{"$f":"IF(M49=\"\",\"\",INDEX(REFERENTES!$AB:$AC,MATCH(M49,REFERENTES!$AC:$AC,0),1))","v":""},"",null,45,"",null,null,null,null,null,null,null,null,null,null,null,null,null,null,null,null,null,null,null,null,{"$f":"IF(AL49<>\"\",VLOOKUP(AL49,#REF!,2,FALSE),\"\")","v":""},null,null,null,{"$f":"IF(AP49<>\"\",VLOOKUP(AP49,#REF!,2,TRUE),\"\")","v":""},null,{"$f":"IF(AR49<>\"\",VLOOKUP(AR49,#REF!,2,FALSE),\"\")","v":""},null,null,null,{"$f":"IF(AT49=\"\",\"\",INDEX(REFERENTES!$A:$B,MATCH(AT49,REFERENTES!$A:$A,0),2))","v":""},null,{"$f":"IF(AX49=\"\",\"\",INDEX(REFERENTES!M:O,MATCH(AX49,REFERENTES!M:M,0),3))","v":""}]
["30001212000000",{"$f":"DIGITADOR!$B$2","v":""},0,{"$f":"IF(E50<>\"\",CONCATENATE(B50,A50,DIGITADOR!$M$1,C50),\"\")","v":""},null,null,"","","",null,{"$f":"IF(J50=\"\",\"\",INDEX(REFERENTES!$V:$W,MATCH(J50,REFERENTES!$W:$W,0),1))","v":""},{"$f":"IF(E50=\"\",\"\",IF(O50=O49,\"\",CONCATENATE(B50,A50,DIGITADOR!$M$1,C50)))","v":""},null,{"$f":"IF(M50=\"\",\"\",INDEX(REFERENTES!$AB:$AC,MATCH(M50,REFERENTES!$AC:$AC,0),1))","v":""},"",null,46,"",null,null,null,null,null,null,null,null,null,null,null,null,null,null,null,null,null,null,null,null,{"$f":"IF(AL50<>\"\",VLOOKUP(AL50,#REF!,2,FALSE),\"\")","v":""},null,null,null,{"$f":"IF(AP50<>\"\",VLOOKUP(AP50,#REF!,2,TRUE),\"\")","v":""},null,{"$f":"IF(AR50<>\"\",VLOOKUP(AR50,#REF!,2,FALSE),\"\")","v":""},null,null,null,{"$f":"IF(AT50=\"\",\"\",INDEX(REFERENTES!$A:$B,MATCH(AT50,REFERENTES!$A:$A,0),2))","v":""},null,{"$f":"IF(AX50=\"\",\"\",INDEX(REFERENTES!M:O,MATCH(AX50,REFERENTES!M:M,0),3))","v":""}]
["30001212000000",{"$f":"DIGITADOR!$B$2","v":""},0,{"$f":"IF(E51<>\"\",CONCATENATE(B51,A51,DIGITADOR!$M$1,C51),\"\")","v":""},null,null,"","","",null,{"$f":"IF(J51=\"\",\"\",INDEX(REFERENTES!$V:$W,MATCH(J51,REFERENTES!$W:$W,0),1))","v":""},{"$f":"IF(E51=\"\",\"\",IF(O51=O50,\"\",CONCATENATE(B51,A51,DIGITADOR!$M$1,C51)))","v":""},null,{"$f":"IF(M51=\"\",\"\",INDEX(REFERENTES!$AB:$AC,MATCH(M51,REFERENTES!$AC:$AC,0),1))","v":""},"",null,47,"",null,null,null,null,null,null,null,null,null,null,null,null,null,null,null,null,null,null,null,null,{"$f":"IF(AL51<>\"\",VLOOKUP(AL51,#REF!,2,FALSE),\"\")","v":""},null,null,null,{"$f":"IF(AP51<>\"\",VLOOKUP(AP51,#REF!,2,TRUE),\"\")","v":""},null,{"$f":"IF(AR51<>\"\",VLOOKUP(AR51,#REF!,2,FALSE),\"\")","v":""},null,null,null,{"$f":"IF(AT51=\"\",\"\",INDEX(REFERENTES!$A:$B,MATCH(AT51,REFERENTES!$A:$A,0),2))","v":""},null,{"$f":"IF(AX51=\"\",\"\",INDEX(REFERENTES!M:O,MATCH(AX51,REFERENTES!M:M,0),3))","v":""}]
["30001212000000",{"$f":"DIGITADOR!$B$2","v":""},0,{"$f":"IF(E52<>\"\",CONCATENATE(B52,A52,DIGITADOR!$M$1,C52),\"\")","v":""},null,null,"","","",null,{"$f":"IF(J52=\"\",\"\",INDEX(REFERENTES!$V:$W,MATCH(J52,REFERENTES!$W:$W,0),1))","v":""},{"$f":"IF(E52=\"\",\"\",IF(O52=O51,\"\",CONCATENATE(B52,A52,DIGITADOR!$M$1,C52)))","v":""},null,{"$f":"IF(M52=\"\",\"\",INDEX(REFERENTES!$AB:$AC,MATCH(M52,REFERENTES!$AC:$AC,0),1))","v":""},"",null,48,"",null,null,null,null,null,null,null,null,null,null,null,null,null,null,null,null,null,null,null,null,{"$f":"IF(AL52<>\"\",VLOOKUP(AL52,#REF!,2,FALSE),\"\")","v":""},null,null,null,{"$f":"IF(AP52<>\"\",VLOOKUP(AP52,#REF!,2,TRUE),\"\")","v":""},null,{"$f":"IF(AR52<>\"\",VLOOKUP(AR52,#REF!,2,FALSE),\"\")","v":""},null,null,null,{"$f":"IF(AT52=\"\",\"\",INDEX(REFERENTES!$A:$B,MATCH(AT52,REFERENTES!$A:$A,0),2))","v":""},null,{"$f":"IF(AX52=\"\",\"\",INDEX(REFERENTES!M:O,MATCH(AX52,REFERENTES!M:M,0),3))","v":""}]
["30001212000000",{"$f":"DIGITADOR!$B$2","v":""},0,{"$f":"IF(E53<>\"\",CONCATENATE(B53,A53,DIGITADOR!$M$1,C53),\"\")","v":""},null,null,"","","",null,{"$f":"IF(J53=\"\",\"\",INDEX(REFERENTES!$V:$W,MATCH(J53,REFERENTES!$W:$W,0),1))","v":""},{"$f":"IF(E53=\"\",\"\",IF(O53=O52,\"\",CONCATENATE(B53,A53,DIGITADOR!$M$1,C53)))","v":""},null,{"$f":"IF(M53=\"\",\"\",INDEX(REFERENTES!$AB:$AC,MATCH(M53,REFERENTES!$AC:$AC,0),1))","v":""},"",null,49,"",null,null,null,null,null,null,null,null,null,null,null,null,null,null,null,null,null,null,null,null,{"$f":"IF(AL53<>\"\",VLOOKUP(AL53,#REF!,2,FALSE),\"\")","v":""},null,null,null,{"$f":"IF(AP53<>\"\",VLOOKUP(AP53,#REF!,2,TRUE),\"\")","v":""},null,{"$f":"IF(AR53<>\"\",VLOOKUP(AR53,#REF!,2,FALSE),\"\")","v":""},null,null,null,{"$f":"IF(AT53=\"\",\"\",INDEX(REFERENTES!$A:$B,MATCH(AT53,REFERENTES!$A:$A,0),2))","v":""},null,{"$f":"IF(AX53=\"\",\"\",INDEX(REFERENTES!M:O,MATCH(AX53,REFERENTES!M:M,0),3))","v":""}]
["30001212000000",{"$f":"DIGITADOR!$B$2","v":""},0,{"$f":"IF(E54<>\"\",CONCATENATE(B54,A54,DIGITADOR!$M$1,C54),\"\")","v":""},null,null,"","","",null,{"$f":"IF(J54=\"\",\"\",INDEX(REFERENTES!$V:$W,MATCH(J54,REFERENTES!$W:$W,0),1))","v":""},{"$f":"IF(E54=\"\",\"\",IF(O54=O53,\"\",CONCATENATE(B54,A54,DIGITADOR!$M$1,C54)))","v":""},null,{"$f":"IF(M54=\"\",\"\",INDEX(REFERENTES!$AB:$AC,MATCH(M54,REFERENTES!$AC:$AC,0),1))","v":""},"",null,50,"",null,null,null,null,null,null,null,null,null,null,null,null,null,null,null,null,null,null,null,null,{"$f":"IF(AL54<>\"\",VLOOKUP(AL54,#REF!,2,FALSE),\"\")","v":""},null,null,null,{"$f":"IF(AP54<>\"\",VLOOKUP(AP54,#REF!,2,TRUE),\"\")","v":""},null,{"$f":"IF(AR54<>\"\",VLOOKUP(AR54,#REF!,2,FALSE),\"\")","v":""},null,null,null,{"$f":"IF(AT54=\"\",\"\",INDEX(REFERENTES!$A:$B,MATCH(AT54,REFERENTES!$A:$A,0),2))","v":""},null,{"$f":"IF(AX54=\"\",\"\",INDEX(REFERENTES!M:O,MATCH(AX54,REFERENTES!M:M,0),3))","v":""}]
["30001212000000",{"$f":"DIGITADOR!$B$2","v":""},0,{"$f":"IF(E55<>\"\",CONCATENATE(B55,A55,DIGITADOR!$M$1,C55),\"\")","v":""},null,null,"","","",null,{"$f":"IF(J55=\"\",\"\",INDEX(REFERENTES!$V:$W,MATCH(J55,REFERENTES!$W:$W,0),1))","v":""},{"$f":"IF(E55=\"\",\"\",IF(O55=O54,\"\",CONCATENATE(B55,A55,DIGITADOR!$M$1,C55)))","v":""},null,{"$f":"IF(M55=\"\",\"\",INDEX(REFERENTES!$AB:$AC,MATCH(M55,REFERENTES!$AC:$AC,0),1))","v":""},"",null,51,"",null,null,null,null,null,null,null,null,null,null,null,null,null,null,null,null,null,null,null,null,{"$f":"IF(AL55<>\"\",VLOOKUP(AL55,#REF!,2,FALSE),\"\")","v":""},null,null,null,{"$f":"IF(AP55<>\"\",VLOOKUP(AP55,#REF!,2,TRUE),\"\")","v":""},null,{"$f":"IF(AR55<>\"\",VLOOKUP(AR55,#REF!,2,FALSE),\"\")","v":""},null,null,null,{"$f":"IF(AT55=\"\",\"\",INDEX(REFERENTES!$A:$B,MATCH(AT55,REFERENTES!$A:$A,0),2))","v":""},null,{"$f":"IF(AX55=\"\",\"\",INDEX(REFERENTES!M:O,MATCH(AX55,REFERENTES!M:M,0),3))","v":""}]
["30001212000000",{"$f":"DIGITADOR!$B$2","v":""},0,{"$f":"IF(E56<>\"\",CONCATENATE(B56,A56,DIGITADOR!$M$1,C56),\"\")","v":""},null,null,"","","",null,{"$f":"IF(J56=\"\",\"\",INDEX(REFERENTES!$V:$W,MATCH(J56,REFERENTES!$W:$W,0),1))","v":""},{"$f":"IF(E56=\"\",\"\",IF(O56=O55,\"\",CONCATENATE(B56,A56,DIGITADOR!$M$1,C56)))","v":""},null,{"$f":"IF(M56=\"\",\"\",INDEX(REFERENTES!$AB:$AC,MATCH(M56,REFERENTES!$AC:$AC,0),1))","v":""},"",null,52,"",null,null,null,null,null,null,null,null,null,null,null,null,null,null,null,null,null,null,null,null,{"$f":"IF(AL56<>\"\",VLOOKUP(AL56,#REF!,2,FALSE),\"\")","v":""},null,null,null,{"$f":"IF(AP56<>\"\",VLOOKUP(AP56,#REF!,2,TRUE),\"\")","v":""},null,{"$f":"IF(AR56<>\"\",VLOOKUP(AR56,#REF!,2,FALSE),\"\")","v":""},null,null,null,{"$f":"IF(AT56=\"\",\"\",INDEX(REFERENTES!$A:$B,MATCH(AT56,REFERENTES!$A:$A,0),2))","v":""},null,{"$f":"IF(AX56=\"\",\"\",INDEX(REFERENTES!M:O,MATCH(AX56,REFERENTES!M:M,0),3))","v":""}]
["30001212000000",{"$f":"DIGITADOR!$B$2","v":""},0,{"$f":"IF(E57<>\"\",CONCATENATE(B57,A57,DIGITADOR!$M$1,C57),\"\")","v":""},null,null,"","","",null,{"$f":"IF(J57=\"\",\"\",INDEX(REFERENTES!$V:$W,MATCH(J57,REFERENTES!$W:$W,0),1))","v":""},{"$f":"IF(E57=\"\",\"\",IF(O57=O56,\"\",CONCATENATE(B57,A57,DIGITADOR!$M$1,C57)))","v":""},null,{"$f":"IF(M57=\"\",\"\",INDEX(REFERENTES!$AB:$AC,MATCH(M57,REFERENTES!$AC:$AC,0),1))","v":""},"",null,53,"",null,null,null,null,null,null,null,null,null,null,null,null,null,null,null,null,null,null,null,null,{"$f":"IF(AL57<>\"\",VLOOKUP(AL57,#REF!,2,FALSE),\"\")","v":""},null,null,null,{"$f":"IF(AP57<>\"\",VLOOKUP(AP57,#REF!,2,TRUE),\"\")","v":""},null,{"$f":"IF(AR57<>\"\",VLOOKUP(AR57,#REF!,2,FALSE),\"\")","v":""},null,null,null,{"$f":"IF(AT57=\"\",\"\",INDEX(REFERENTES!$A:$B,MATCH(AT57,REFERENTES!$A:$A,0),2))","v":""},null,{"$f":"IF(AX57=\"\",\"\",INDEX(REFERENTES!M:O,MATCH(AX57,REFERENTES!M:M,0),3))","v":""}]
["30001212000000",{"$f":"DIGITADOR!$B$2","v":""},0,{"$f":"IF(E58<>\"\",CONCATENATE(B58,A58,DIGITADOR!$M$1,C58),\"\")","v":""},null,null,"","","",null,{"$f":"IF(J58=\"\",\"\",INDEX(REFERENTES!$V:$W,MATCH(J58,REFERENTES!$W:$W,0),1))","v":""},{"$f":"IF(E58=\"\",\"\",IF(O58=O57,\"\",CONCATENATE(B58,A58,DIGITADOR!$M$1,C58)))","v":""},null,{"$f":"IF(M58=\"\",\"\",INDEX(REFERENTES!$AB:$AC,MATCH(M58,REFERENTES!$AC:$AC,0),1))","v":""},"",null,54,"",null,null,null,null,null,null,null,null,null,null,null,null,null,null,null,null,null,null,null,null,{"$f":"IF(AL58<>\"\",VLOOKUP(AL58,#REF!,2,FALSE),\"\")","v":""},null,null,null,{"$f":"IF(AP58<>\"\",VLOOKUP(AP58,#REF!,2,TRUE),\"\")","v":""},null,{"$f":"IF(AR58<>\"\",VLOOKUP(AR58,#REF!,2,FALSE),\"\")","v":""},null,null,null,{"$f":"IF(AT58=\"\",\"\",INDEX(REFERENTES!$A:$B,MATCH(AT58,REFERENTES!$A:$A,0),2))","v":""},null,{"$f":"IF(AX58=\"\",\"\",INDEX(REFERENTES!M:O,MATCH(AX58,REFERENTES!M:M,0),3))","v":""}]
["30001212000000",{"$f":"DIGITADOR!$B$2","v":""},0,{"$f":"IF(E59<>\"\",CONCATENATE(B59,A59,DIGITADOR!$M$1,C59),\"\")","v":""},null,null,"","","",null,{"$f":"IF(J59=\"\",\"\",INDEX(REFERENTES!$V:$W,MATCH(J59,REFERENTES!$W:$W,0),1))","v":""},{"$f":"IF(E59=\"\",\"\",IF(O59=O58,\"\",CONCATENATE(B59,A59,DIGITADOR!$M$1,C59)))","v":""},null,{"$f":"IF(M59=\"\",\"\",INDEX(REFERENTES!$AB:$AC,MATCH(M59,REFERENTES!$AC:$AC,0),1))","v":""},"",null,55,"",null,null,null,null,null,null,null,null,null,null,null,null,null,null,null,null,null,null,null,null,{"$f":"IF(AL59<>\"\",VLOOKUP(AL59,#REF!,2,FALSE),\"\")","v":""},null,null,null,{"$f":"IF(AP59<>\"\",VLOOKUP(AP59,#REF!,2,TRUE),\"\")","v":""},null,{"$f":"IF(AR59<>\"\",VLOOKUP(AR59,#REF!,2,FALSE),\"\")","v":""},null,null,null,{"$f":"IF(AT59=\"\",\"\",INDEX(REFERENTES!$A:$B,MATCH(AT59,REFERENTES!$A:$A,0),2))","v":""},null,{"$f":"IF(AX59=\"\",\"\",INDEX(REFERENTES!M:O,MATCH(AX59,REFERENTES!M:M,0),3))","v":""}]
["30001212000000",{"$f":"DIGITADOR!$B$2","v":""},0,{"$f":"IF(E60<>\"\",CONCATENATE(B60,A60,DIGITADOR!$M$1,C60),\"\")","v":""},null,null,"","","",null,{"$f":"IF(J60=\"\",\"\",INDEX(REFERENTES!$V:$W,MATCH(J60,REFERENTES!$W:$W,0),1))","v":""},{"$f":"IF(E60=\"\",\"\",IF(O60=O59,\"\",CONCATENATE(B60,A60,DIGITADOR!$M$1,C60)))","v":""},null,{"$f":"IF(M60=\"\",\"\",INDEX(REFERENTES!$AB:$AC,MATCH(M60,REFERENTES!$AC:$AC,0),1))","v":""},"",null,56,"",null,null,null,null,null,null,null,null,null,null,null,null,null,null,null,null,null,null,null,null,{"$f":"IF(AL60<>\"\",VLOOKUP(AL60,#REF!,2,FALSE),\"\")","v":""},null,null,null,{"$f":"IF(AP60<>\"\",VLOOKUP(AP60,#REF!,2,TRUE),\"\")","v":""},null,{"$f":"IF(AR60<>\"\",VLOOKUP(AR60,#REF!,2,FALSE),\"\")","v":""},null,null,null,{"$f":"IF(AT60=\"\",\"\",INDEX(REFERENTES!$A:$B,MATCH(AT60,REFERENTES!$A:$A,0),2))","v":""},null,{"$f":"IF(AX60=\"\",\"\",INDEX(REFERENTES!M:O,MATCH(AX60,REFERENTES!M:M,0),3))","v":""}]
["30001212000000",{"$f":"DIGITADOR!$B$2","v":""},0,{"$f":"IF(E61<>\"\",CONCATENATE(B61,A61,DIGITADOR!$M$1,C61),\"\")","v":""},null,null,"","","",null,{"$f":"IF(J61=\"\",\"\",INDEX(REFERENTES!$V:$W,MATCH(J61,REFERENTES!$W:$W,0),1))","v":""},{"$f":"IF(E61=\"\",\"\",IF(O61=O60,\"\",CONCATENATE(B61,A61,DIGITADOR!$M$1,C61)))","v":""},null,{"$f":"IF(M61=\"\",\"\",INDEX(REFERENTES!$AB:$AC,MATCH(M61,REFERENTES!$AC:$AC,0),1))","v":""},"",null,57,"",null,null,null,null,null,null,null,null,null,null,null,null,null,null,null,null,null,null,null,null,{"$f":"IF(AL61<>\"\",VLOOKUP(AL61,#REF!,2,FALSE),\"\")","v":""},null,null,null,{"$f":"IF(AP61<>\"\",VLOOKUP(AP61,#REF!,2,TRUE),\"\")","v":""},null,{"$f":"IF(AR61<>\"\",VLOOKUP(AR61,#REF!,2,FALSE),\"\")","v":""},null,null,null,{"$f":"IF(AT61=\"\",\"\",INDEX(REFERENTES!$A:$B,MATCH(AT61,REFERENTES!$A:$A,0),2))","v":""},null,{"$f":"IF(AX61=\"\",\"\",INDEX(REFERENTES!M:O,MATCH(AX61,REFERENTES!M:M,0),3))","v":""}]
["30001212000000",{"$f":"DIGITADOR!$B$2","v":""},0,{"$f":"IF(E62<>\"\",CONCATENATE(B62,A62,DIGITADOR!$M$1,C62),\"\")","v":""},null,null,"","","",null,{"$f":"IF(J62=\"\",\"\",INDEX(REFERENTES!$V:$W,MATCH(J62,REFERENTES!$W:$W,0),1))","v":""},{"$f":"IF(E62=\"\",\"\",IF(O62=O61,\"\",CONCATENATE(B62,A62,DIGITADOR!$M$1,C62)))","v":""},null,{"$f":"IF(M62=\"\",\"\",INDEX(REFERENTES!$AB:$AC,MATCH(M62,REFERENTES!$AC:$AC,0),1))","v":""},"",null,58,"",null,null,null,null,null,null,null,null,null,null,null,null,null,null,null,null,null,null,null,null,{"$f":"IF(AL62<>\"\",VLOOKUP(AL62,#REF!,2,FALSE),\"\")","v":""},null,null,null,{"$f":"IF(AP62<>\"\",VLOOKUP(AP62,#REF!,2,TRUE),\"\")","v":""},null,{"$f":"IF(AR62<>\"\",VLOOKUP(AR62,#REF!,2,FALSE),\"\")","v":""},null,null,null,{"$f":"IF(AT62=\"\",\"\",INDEX(REFERENTES!$A:$B,MATCH(AT62,REFERENTES!$A:$A,0),2))","v":""},null,{"$f":"IF(AX62=\"\",\"\",INDEX(REFERENTES!M:O,MATCH(AX62,REFERENTES!M:M,0),3))","v":""}]
["30001212000000",{"$f":"DIGITADOR!$B$2","v":""},0,{"$f":"IF(E63<>\"\",CONCATENATE(B63,A63,DIGITADOR!$M$1,C63),\"\")","v":""},null,null,"","","",null,{"$f":"IF(J63=\"\",\"\",INDEX(REFERENTES!$V:$W,MATCH(J63,REFERENTES!$W:$W,0),1))","v":""},{"$f":"IF(E63=\"\",\"\",IF(O63=O62,\"\",CONCATENATE(B63,A63,DIGITADOR!$M$1,C63)))","v":""},null,{"$f":"IF(M63=\"\",\"\",INDEX(REFERENTES!$AB:$AC,MATCH(M63,REFERENTES!$AC:$AC,0),1))","v":""},"",null,59,"",null,null,null,null,null,null,null,null,null,null,null,null,null,null,null,null,null,null,null,null,{"$f":"IF(AL63<>\"\",VLOOKUP(AL63,#REF!,2,FALSE),\"\")","v":""},null,null,null,{"$f":"IF(AP63<>\"\",VLOOKUP(AP63,#REF!,2,TRUE),\"\")","v":""},null,{"$f":"IF(AR63<>\"\",VLOOKUP(AR63,#REF!,2,FALSE),\"\")","v":""},null,null,null,{"$f":"IF(AT63=\"\",\"\",INDEX(REFERENTES!$A:$B,MATCH(AT63,REFERENTES!$A:$A,0),2))","v":""},null,{"$f":"IF(AX63=\"\",\"\",INDEX(REFERENTES!M:O,MATCH(AX63,REFERENTES!M:M,0),3))","v":""}]
["30001212000000",{"$f":"DIGITADOR!$B$2","v":""},0,{"$f":"IF(E64<>\"\",CONCATENATE(B64,A64,DIGITADOR!$M$1,C64),\"\")","v":""},null,null,"","","",null,{"$f":"IF(J64=\"\",\"\",INDEX(REFERENTES!$V:$W,MATCH(J64,REFERENTES!$W:$W,0),1))","v":""},{"$f":"IF(E64=\"\",\"\",IF(O64=O63,\"\",CONCATENATE(B64,A64,DIGITADOR!$M$1,C64)))","v":""},null,{"$f":"IF(M64=\"\",\"\",INDEX(REFERENTES!$AB:$AC,MATCH(M64,REFERENTES!$AC:$AC,0),1))","v":""},"",null,60,"",null,null,null,null,null,null,null,null,null,null,null,null,null,null,null,null,null,null,null,null,{"$f":"IF(AL64<>\"\",VLOOKUP(AL64,#REF!,2,FALSE),\"\")","v":""},null,null,null,{"$f":"IF(AP64<>\"\",VLOOKUP(AP64,#REF!,2,TRUE),\"\")","v":""},null,{"$f":"IF(AR64<>\"\",VLOOKUP(AR64,#REF!,2,FALSE),\"\")","v":""},null,null,null,{"$f":"IF(AT64=\"\",\"\",INDEX(REFERENTES!$A:$B,MATCH(AT64,REFERENTES!$A:$A,0),2))","v":""},null,{"$f":"IF(AX64=\"\",\"\",INDEX(REFERENTES!M:O,MATCH(AX64,REFERENTES!M:M,0),3))","v":""}]
["30001212000000",{"$f":"DIGITADOR!$B$2","v":""},0,{"$f":"IF(E65<>\"\",CONCATENATE(B65,A65,DIGITADOR!$M$1,C65),\"\")","v":""},null,null,"","","",null,{"$f":"IF(J65=\"\",\"\",INDEX(REFERENTES!$V:$W,MATCH(J65,REFERENTES!$W:$W,0),1))","v":""},{"$f":"IF(E65=\"\",\"\",IF(O65=O64,\"\",CONCATENATE(B65,A65,DIGITADOR!$M$1,C65)))","v":""},null,{"$f":"IF(M65=\"\",\"\",INDEX(REFERENTES!$AB:$AC,MATCH(M65,REFERENTES!$AC:$AC,0),1))","v":""},"",null,61,"",null,null,null,null,null,null,null,null,null,null,null,null,null,null,null,null,null,null,null,null,{"$f":"IF(AL65<>\"\",VLOOKUP(AL65,#REF!,2,FALSE),\"\")","v":""},null,null,null,{"$f":"IF(AP65<>\"\",VLOOKUP(AP65,#REF!,2,TRUE),\"\")","v":""},null,{"$f":"IF(AR65<>\"\",VLOOKUP(AR65,#REF!,2,FALSE),\"\")","v":""},null,null,null,{"$f":"IF(AT65=\"\",\"\",INDEX(REFERENTES!$A:$B,MATCH(AT65,REFERENTES!$A:$A,0),2))","v":""},null,{"$f":"IF(AX65=\"\",\"\",INDEX(REFERENTES!M:O,MATCH(AX65,REFERENTES!M:M,0),3))","v":""}]
["30001212000000",{"$f":"DIGITADOR!$B$2","v":""},0,{"$f":"IF(E66<>\"\",CONCATENATE(B66,A66,DIGITADOR!$M$1,C66),\"\")","v":""},null,null,"","","",null,{"$f":"IF(J66=\"\",\"\",INDEX(REFERENTES!$V:$W,MATCH(J66,REFERENTES!$W:$W,0),1))","v":""},{"$f":"IF(E66=\"\",\"\",IF(O66=O65,\"\",CONCATENATE(B66,A66,DIGITADOR!$M$1,C66)))","v":""},null,{"$f":"IF(M66=\"\",\"\",INDEX(REFERENTES!$AB:$AC,MATCH(M66,REFERENTES!$AC:$AC,0),1))","v":""},"",null,62,"",null,null,null,null,null,null,null,null,null,null,null,null,null,null,null,null,null,null,null,null,{"$f":"IF(AL66<>\"\",VLOOKUP(AL66,#REF!,2,FALSE),\"\")","v":""},null,null,null,{"$f":"IF(AP66<>\"\",VLOOKUP(AP66,#REF!,2,TRUE),\"\")","v":""},null,{"$f":"IF(AR66<>\"\",VLOOKUP(AR66,#REF!,2,FALSE),\"\")","v":""},null,null,null,{"$f":"IF(AT66=\"\",\"\",INDEX(REFERENTES!$A:$B,MATCH(AT66,REFERENTES!$A:$A,0),2))","v":""},null,{"$f":"IF(AX66=\"\",\"\",INDEX(REFERENTES!M:O,MATCH(AX66,REFERENTES!M:M,0),3))","v":""}]
["30001212000000",{"$f":"DIGITADOR!$B$2","v":""},0,{"$f":"IF(E67<>\"\",CONCATENATE(B67,A67,DIGITADOR!$M$1,C67),\"\")","v":""},null,null,"","","",null,{"$f":"IF(J67=\"\",\"\",INDEX(REFERENTES!$V:$W,MATCH(J67,REFERENTES!$W:$W,0),1))","v":""},{"$f":"IF(E67=\"\",\"\",IF(O67=O66,\"\",CONCATENATE(B67,A67,DIGITADOR!$M$1,C67)))","v":""},null,{"$f":"IF(M67=\"\",\"\",INDEX(REFERENTES!$AB:$AC,MATCH(M67,REFERENTES!$AC:$AC,0),1))","v":""},"",null,63,"",null,null,null,null,null,null,null,null,null,null,null,null,null,null,null,null,null,null,null,null,{"$f":"IF(AL67<>\"\",VLOOKUP(AL67,#REF!,2,FALSE),\"\")","v":""},null,null,null,{"$f":"IF(AP67<>\"\",VLOOKUP(AP67,#REF!,2,TRUE),\"\")","v":""},null,{"$f":"IF(AR67<>\"\",VLOOKUP(AR67,#REF!,2,FALSE),\"\")","v":""},null,null,null,{"$f":"IF(AT67=\"\",\"\",INDEX(REFERENTES!$A:$B,MATCH(AT67,REFERENTES!$A:$A,0),2))","v":""},null,{"$f":"IF(AX67=\"\",\"\",INDEX(REFERENTES!M:O,MATCH(AX67,REFERENTES!M:M,0),3))","v":""}]
["30001212000000",{"$f":"DIGITADOR!$B$2","v":""},0,{"$f":"IF(E68<>\"\",CONCATENATE(B68,A68,DIGITADOR!$M$1,C68),\"\")","v":""},null,null,"","","",null,{"$f":"IF(J68=\"\",\"\",INDEX(REFERENTES!$V:$W,MATCH(J68,REFERENTES!$W:$W,0),1))","v":""},{"$f":"IF(E68=\"\",\"\",IF(O68=O67,\"\",CONCATENATE(B68,A68,DIGITADOR!$M$1,C68)))","v":""},null,{"$f":"IF(M68=\"\",\"\",INDEX(REFERENTES!$AB:$AC,MATCH(M68,REFERENTES!$AC:$AC,0),1))","v":""},"",null,64,"",null,null,null,null,null,null,null,null,null,null,null,null,null,null,null,null,null,null,null,null,{"$f":"IF(AL68<>\"\",VLOOKUP(AL68,#REF!,2,FALSE),\"\")","v":""},null,null,null,{"$f":"IF(AP68<>\"\",VLOOKUP(AP68,#REF!,2,TRUE),\"\")","v":""},null,{"$f":"IF(AR68<>\"\",VLOOKUP(AR68,#REF!,2,FALSE),\"\")","v":""},null,null,null,{"$f":"IF(AT68=\"\",\"\",INDEX(REFERENTES!$A:$B,MATCH(AT68,REFERENTES!$A:$A,0),2))","v":""},null,{"$f":"IF(AX68=\"\",\"\",INDEX(REFERENTES!M:O,MATCH(AX68,REFERENTES!M:M,0),3))","v":""}]
["30001212000000",{"$f":"DIGITADOR!$B$2","v":""},{"$f":"IF(O69=O68,C68,C68+1)","v":0},{"$f":"IF(E69<>\"\",CONCATENATE(B69,A69,DIGITADOR!$M$1,C69),\"\")","v":""},null,null,"",{"$f":"IF(G69<>\"\",MONTH(G69),\"\")","v":""},"",null,{"$f":"IF(J69=\"\",\"\",INDEX(REFERENTES!$V:$W,MATCH(J69,REFERENTES!$W:$W,0),1))","v":""},{"$f":"IF(E69=\"\",\"\",IF(O69=O68,\"\",CONCATENATE(B69,A69,DIGITADOR!$M$1,C69)))","v":""},null,{"$f":"IF(M69=\"\",\"\",INDEX(REFERENTES!$AB:$AC,MATCH(M69,REFERENTES!$AC:$AC,0),1))","v":""},"",null,65,"",null,null,null,null,null,null,null,null,null,null,null,null,null,null,null,null,null,null,null,null,{"$f":"IF(AL69<>\"\",VLOOKUP(AL69,#REF!,2,FALSE),\"\")","v":""},null,null,null,{"$f":"IF(AP69<>\"\",VLOOKUP(AP69,#REF!,2,TRUE),\"\")","v":""},null,{"$f":"IF(AR69<>\"\",VLOOKUP(AR69,#REF!,2,FALSE),\"\")","v":""},null,null,null,{"$f":"IF(AT69=\"\",\"\",INDEX(REFERENTES!$A:$B,MATCH(AT69,REFERENTES!$A:$A,0),2))","v":""},null,{"$f":"IF(AX69=\"\",\"\",INDEX(REFERENTES!M:O,MATCH(AX69,REFERENTES!M:M,0),3))","v":""}]
[{"$f":"A69","v":"30001212000000"},{"$f":"DIGITADOR!$B$2","v":""},0,{"$f":"IF(E70<>\"\",CONCATENATE(B70,A70,DIGITADOR!$M$1,C70),\"\")","v":""},null,null,{"$f":"IF(E70=\"\",\"\",E70+F70)","v":""},"",{"$f":"IF(M70=\"\",\"\",1)","v":""},null,{"$f":"IF(J70=\"\",\"\",INDEX(REFERENTES!$V:$W,MATCH(J70,REFERENTES!$W:$W,0),1))","v":""},{"$f":"IF(E70=\"\",\"\",IF(O70=O69,\"\",CONCATENATE(B70,A70,DIGITADOR!$M$1,C70)))","v":""},null,{"$f":"IF(M70=\"\",\"\",INDEX(REFERENTES!$AB:$AC,MATCH(M70,REFERENTES!$AC:$AC,0),1))","v":""},{"$f":"IF(M70=\"\",\"\",CONCATENATE(G70,K70,N70,1))","v":""},null,66,{"$f":"IF(D70=\"\",\"\",CONCATENATE(D70,Q70))","v":""},null,null,null,null,null,null,null,null,null,null,null,null,null,null,null,null,null,null,null,null,{"$f":"IF(AL70<>\"\",VLOOKUP(AL70,#REF!,2,FALSE),\"\")","v":""},null,null,null,{"$f":"IF(AP70<>\"\",VLOOKUP(AP70,#REF!,2,TRUE),\"\")","v":""},null,{"$f":"IF(AR70<>\"\",VLOOKUP(AR70,#REF!,2,FALSE),\"\")","v":""},null,null,null,{"$f":"IF(AT70=\"\",\"\",INDEX(REFERENTES!$A:$B,MATCH(AT70,REFERENTES!$A:$A,0),2))","v":""},null,{"$f":"IF(AX70=\"\",\"\",INDEX(REFERENTES!M:O,MATCH(AX70,REFERENTES!M:M,0),3))","v":""}]
["30001212000000",{"$f":"DIGITADOR!$B$2","v":""},0,{"$f":"IF(E71<>\"\",CONCATENATE(B71,A71,DIGITADOR!$M$1,C71),\"\")","v":""},null,null,"","","",null,{"$f":"IF(J71=\"\",\"\",INDEX(REFERENTES!$V:$W,MATCH(J71,REFERENTES!$W:$W,0),1))","v":""},{"$f":"IF(E71=\"\",\"\",IF(O71=O70,\"\",CONCATENATE(B71,A71,DIGITADOR!$M$1,C71)))","v":""},null,{"$f":"IF(M71=\"\",\"\",INDEX(REFERENTES!$AB:$AC,MATCH(M71,REFERENTES!$AC:$AC,0),1))","v":""},"",null,67,"",null,null,null,null,null,null,null,null,null,null,null,null,null,null,null,null,null,null,null,null,{"$f":"IF(AL71<>\"\",VLOOKUP(AL71,#REF!,2,FALSE),\"\")","v":""},null,null,null,{"$f":"IF(AP71<>\"\",VLOOKUP(AP71,#REF!,2,TRUE),\"\")","v":""},null,{"$f":"IF(AR71<>\"\",VLOOKUP(AR71,#REF!,2,FALSE),\"\")","v":""},null,null,null,{"$f":"IF(AT71=\"\",\"\",INDEX(REFERENTES!$A:$B,MATCH(AT71,REFERENTES!$A:$A,0),2))","v":""},null,{"$f":"IF(AX71=\"\",\"\",INDEX(REFERENTES!M:O,MATCH(AX71,REFERENTES!M:M,0),3))","v":""}]
["30001212000000",{"$f":"DIGITADOR!$B$2","v":""},0,{"$f":"IF(E72<>\"\",CONCATENATE(B72,A72,DIGITADOR!$M$1,C72),\"\")","v":""},null,null,"","","",null,{"$f":"IF(J72=\"\",\"\",INDEX(REFERENTES!$V:$W,MATCH(J72,REFERENTES!$W:$W,0),1))","v":""},{"$f":"IF(E72=\"\",\"\",IF(O72=O71,\"\",CONCATENATE(B72,A72,DIGITADOR!$M$1,C72)))","v":""},null,{"$f":"IF(M72=\"\",\"\",INDEX(REFERENTES!$AB:$AC,MATCH(M72,REFERENTES!$AC:$AC,0),1))","v":""},"",null,68,"",null,null,null,null,null,null,null,null,null,null,null,null,null,null,null,null,null,null,null,null,{"$f":"IF(AL72<>\"\",VLOOKUP(AL72,#REF!,2,FALSE),\"\")","v":""},null,null,null,{"$f":"IF(AP72<>\"\",VLOOKUP(AP72,#REF!,2,TRUE),\"\")","v":""},null,{"$f":"IF(AR72<>\"\",VLOOKUP(AR72,#REF!,2,FALSE),\"\")","v":""},null,null,null,{"$f":"IF(AT72=\"\",\"\",INDEX(REFERENTES!$A:$B,MATCH(AT72,REFERENTES!$A:$A,0),2))","v":""},null,{"$f":"IF(AX72=\"\",\"\",INDEX(REFERENTES!M:O,MATCH(AX72,REFERENTES!M:M,0),3))","v":""}]
["30001212000000",{"$f":"DIGITADOR!$B$2","v":""},0,{"$f":"IF(E73<>\"\",CONCATENATE(B73,A73,DIGITADOR!$M$1,C73),\"\")","v":""},null,null,"","","",null,{"$f":"IF(J73=\"\",\"\",INDEX(REFERENTES!$V:$W,MATCH(J73,REFERENTES!$W:$W,0),1))","v":""},{"$f":"IF(E73=\"\",\"\",IF(O73=O72,\"\",CONCATENATE(B73,A73,DIGITADOR!$M$1,C73)))","v":""},null,{"$f":"IF(M73=\"\",\"\",INDEX(REFERENTES!$AB:$AC,MATCH(M73,REFERENTES!$AC:$AC,0),1))","v":""},"",null,69,"",null,null,null,null,null,null,null,null,null,null,null,null,null,null,null,null,null,null,null,null,{"$f":"IF(AL73<>\"\",VLOOKUP(AL73,#REF!,2,FALSE),\"\")","v":""},null,null,null,{"$f":"IF(AP73<>\"\",VLOOKUP(AP73,#REF!,2,TRUE),\"\")","v":""},null,{"$f":"IF(AR73<>\"\",VLOOKUP(AR73,#REF!,2,FALSE),\"\")","v":""},null,null,null,{"$f":"IF(AT73=\"\",\"\",INDEX(REFERENTES!$A:$B,MATCH(AT73,REFERENTES!$A:$A,0),2))","v":""},null,{"$f":"IF(AX73=\"\",\"\",INDEX(REFERENTES!M:O,MATCH(AX73,REFERENTES!M:M,0),3))","v":""}]
["30001212000000",{"$f":"DIGITADOR!$B$2","v":""},0,{"$f":"IF(E74<>\"\",CONCATENATE(B74,A74,DIGITADOR!$M$1,C74),\"\")","v":""},null,null,"","","",null,{"$f":"IF(J74=\"\",\"\",INDEX(REFERENTES!$V:$W,MATCH(J74,REFERENTES!$W:$W,0),1))","v":""},{"$f":"IF(E74=\"\",\"\",IF(O74=O73,\"\",CONCATENATE(B74,A74,DIGITADOR!$M$1,C74)))","v":""},null,{"$f":"IF(M74=\"\",\"\",INDEX(REFERENTES!$AB:$AC,MATCH(M74,REFERENTES!$AC:$AC,0),1))","v":""},"",null,70,"",null,null,null,null,null,null,null,null,null,null,null,null,null,null,null,null,null,null,null,null,{"$f":"IF(AL74<>\"\",VLOOKUP(AL74,#REF!,2,FALSE),\"\")","v":""},null,null,null,{"$f":"IF(AP74<>\"\",VLOOKUP(AP74,#REF!,2,TRUE),\"\")","v":""},null,{"$f":"IF(AR74<>\"\",VLOOKUP(AR74,#REF!,2,FALSE),\"\")","v":""},null,null,null,{"$f":"IF(AT74=\"\",\"\",INDEX(REFERENTES!$A:$B,MATCH(AT74,REFERENTES!$A:$A,0),2))","v":""},null,{"$f":"IF(AX74=\"\",\"\",INDEX(REFERENTES!M:O,MATCH(AX74,REFERENTES!M:M,0),3))","v":""}]
["30001212000000",{"$f":"DIGITADOR!$B$2","v":""},0,{"$f":"IF(E75<>\"\",CONCATENATE(B75,A75,DIGITADOR!$M$1,C75),\"\")","v":""},null,null,"","","",null,{"$f":"IF(J75=\"\",\"\",INDEX(REFERENTES!$V:$W,MATCH(J75,REFERENTES!$W:$W,0),1))","v":""},{"$f":"IF(E75=\"\",\"\",IF(O75=O74,\"\",CONCATENATE(B75,A75,DIGITADOR!$M$1,C75)))","v":""},null,{"$f":"IF(M75=\"\",\"\",INDEX(REFERENTES!$AB:$AC,MATCH(M75,REFERENTES!$AC:$AC,0),1))","v":""},"",null,71,"",null,null,null,null,null,null,null,null,null,null,null,null,null,null,null,null,null,null,null,null,{"$f":"IF(AL75<>\"\",VLOOKUP(AL75,#REF!,2,FALSE),\"\")","v":""},null,null,null,{"$f":"IF(AP75<>\"\",VLOOKUP(AP75,#REF!,2,TRUE),\"\")","v":""},null,{"$f":"IF(AR75<>\"\",VLOOKUP(AR75,#REF!,2,FALSE),\"\")","v":""},null,null,null,{"$f":"IF(AT75=\"\",\"\",INDEX(REFERENTES!$A:$B,MATCH(AT75,REFERENTES!$A:$A,0),2))","v":""},null,{"$f":"IF(AX75=\"\",\"\",INDEX(REFERENTES!M:O,MATCH(AX75,REFERENTES!M:M,0),3))","v":""}]
["30001212000000",{"$f":"DIGITADOR!$B$2","v":""},0,{"$f":"IF(E76<>\"\",CONCATENATE(B76,A76,DIGITADOR!$M$1,C76),\"\")","v":""},null,null,"","","",null,{"$f":"IF(J76=\"\",\"\",INDEX(REFERENTES!$V:$W,MATCH(J76,REFERENTES!$W:$W,0),1))","v":""},{"$f":"IF(E76=\"\",\"\",IF(O76=O75,\"\",CONCATENATE(B76,A76,DIGITADOR!$M$1,C76)))","v":""},null,{"$f":"IF(M76=\"\",\"\",INDEX(REFERENTES!$AB:$AC,MATCH(M76,REFERENTES!$AC:$AC,0),1))","v":""},"",null,72,"",null,null,null,null,null,null,null,null,null,null,null,null,null,null,null,null,null,null,null,null,{"$f":"IF(AL76<>\"\",VLOOKUP(AL76,#REF!,2,FALSE),\"\")","v":""},null,null,null,{"$f":"IF(AP76<>\"\",VLOOKUP(AP76,#REF!,2,TRUE),\"\")","v":""},null,{"$f":"IF(AR76<>\"\",VLOOKUP(AR76,#REF!,2,FALSE),\"\")","v":""},null,null,null,{"$f":"IF(AT76=\"\",\"\",INDEX(REFERENTES!$A:$B,MATCH(AT76,REFERENTES!$A:$A,0),2))","v":""},null,{"$f":"IF(AX76=\"\",\"\",INDEX(REFERENTES!M:O,MATCH(AX76,REFERENTES!M:M,0),3))","v":""}]
["30001212000000",{"$f":"DIGITADOR!$B$2","v":""},0,{"$f":"IF(E77<>\"\",CONCATENATE(B77,A77,DIGITADOR!$M$1,C77),\"\")","v":""},null,null,"","","",null,{"$f":"IF(J77=\"\",\"\",INDEX(REFERENTES!$V:$W,MATCH(J77,REFERENTES!$W:$W,0),1))","v":""},{"$f":"IF(E77=\"\",\"\",IF(O77=O76,\"\",CONCATENATE(B77,A77,DIGITADOR!$M$1,C77)))","v":""},null,{"$f":"IF(M77=\"\",\"\",INDEX(REFERENTES!$AB:$AC,MATCH(M77,REFERENTES!$AC:$AC,0),1))","v":""},"",null,73,"",null,null,null,null,null,null,null,null,null,null,null,null,null,null,null,null,null,null,null,null,{"$f":"IF(AL77<>\"\",VLOOKUP(AL77,#REF!,2,FALSE),\"\")","v":""},null,null,null,{"$f":"IF(AP77<>\"\",VLOOKUP(AP77,#REF!,2,TRUE),\"\")","v":""},null,{"$f":"IF(AR77<>\"\",VLOOKUP(AR77,#REF!,2,FALSE),\"\")","v":""},null,null,null,{"$f":"IF(AT77=\"\",\"\",INDEX(REFERENTES!$A:$B,MATCH(AT77,REFERENTES!$A:$A,0),2))","v":""},null,{"$f":"IF(AX77=\"\",\"\",INDEX(REFERENTES!M:O,MATCH(AX77,REFERENTES!M:M,0),3))","v":""}]
["30001212000000",{"$f":"DIGITADOR!$B$2","v":""},0,{"$f":"IF(E78<>\"\",CONCATENATE(B78,A78,DIGITADOR!$M$1,C78),\"\")","v":""},null,null,"","","",null,{"$f":"IF(J78=\"\",\"\",INDEX(REFERENTES!$V:$W,MATCH(J78,REFERENTES!$W:$W,0),1))","v":""},{"$f":"IF(E78=\"\",\"\",IF(O78=O77,\"\",CONCATENATE(B78,A78,DIGITADOR!$M$1,C78)))","v":""},null,{"$f":"IF(M78=\"\",\"\",INDEX(REFERENTES!$AB:$AC,MATCH(M78,REFERENTES!$AC:$AC,0),1))","v":""},"",null,74,"",null,null,null,null,null,null,null,null,null,null,null,null,null,null,null,null,null,null,null,null,{"$f":"IF(AL78<>\"\",VLOOKUP(AL78,#REF!,2,FALSE),\"\")","v":""},null,null,null,{"$f":"IF(AP78<>\"\",VLOOKUP(AP78,#REF!,2,TRUE),\"\")","v":""},null,{"$f":"IF(AR78<>\"\",VLOOKUP(AR78,#REF!,2,FALSE),\"\")","v":""},null,null,null,{"$f":"IF(AT78=\"\",\"\",INDEX(REFERENTES!$A:$B,MATCH(AT78,REFERENTES!$A:$A,0),2))","v":""},null,{"$f":"IF(AX78=\"\",\"\",INDEX(REFERENTES!M:O,MATCH(AX78,REFERENTES!M:M,0),3))","v":""}]
["30001212000000",{"$f":"DIGITADOR!$B$2","v":""},0,{"$f":"IF(E79<>\"\",CONCATENATE(B79,A79,DIGITADOR!$M$1,C79),\"\")","v":""},null,null,"","","",null,{"$f":"IF(J79=\"\",\"\",INDEX(REFERENTES!$V:$W,MATCH(J79,REFERENTES!$W:$W,0),1))","v":""},{"$f":"IF(E79=\"\",\"\",IF(O79=O78,\"\",CONCATENATE(B79,A79,DIGITADOR!$M$1,C79)))","v":""},null,{"$f":"IF(M79=\"\",\"\",INDEX(REFERENTES!$AB:$AC,MATCH(M79,REFERENTES!$AC:$AC,0),1))","v":""},"",null,75,"",null,null,null,null,null,null,null,null,null,null,null,null,null,null,null,null,null,null,null,null,{"$f":"IF(AL79<>\"\",VLOOKUP(AL79,#REF!,2,FALSE),\"\")","v":""},null,null,null,{"$f":"IF(AP79<>\"\",VLOOKUP(AP79,#REF!,2,TRUE),\"\")","v":""},null,{"$f":"IF(AR79<>\"\",VLOOKUP(AR79,#REF!,2,FALSE),\"\")","v":""},null,null,null,{"$f":"IF(AT79=\"\",\"\",INDEX(REFERENTES!$A:$B,MATCH(AT79,REFERENTES!$A:$A,0),2))","v":""},null,{"$f":"IF(AX79=\"\",\"\",INDEX(REFERENTES!M:O,MATCH(AX79,REFERENTES!M:M,0),3))","v":""}]
["30001212000000",{"$f":"DIGITADOR!$B$2","v":""},0,{"$f":"IF(E80<>\"\",CONCATENATE(B80,A80,DIGITADOR!$M$1,C80),\"\")","v":""},null,null,"","","",null,{"$f":"IF(J80=\"\",\"\",INDEX(REFERENTES!$V:$W,MATCH(J80,REFERENTES!$W:$W,0),1))","v":""},{"$f":"IF(E80=\"\",\"\",IF(O80=O79,\"\",CONCATENATE(B80,A80,DIGITADOR!$M$1,C80)))","v":""},null,{"$f":"IF(M80=\"\",\"\",INDEX(REFERENTES!$AB:$AC,MATCH(M80,REFERENTES!$AC:$AC,0),1))","v":""},"",null,76,"",null,null,null,null,null,null,null,null,null,null,null,null,null,null,null,null,null,null,null,null,{"$f":"IF(AL80<>\"\",VLOOKUP(AL80,#REF!,2,FALSE),\"\")","v":""},null,null,null,{"$f":"IF(AP80<>\"\",VLOOKUP(AP80,#REF!,2,TRUE),\"\")","v":""},null,{"$f":"IF(AR80<>\"\",VLOOKUP(AR80,#REF!,2,FALSE),\"\")","v":""},null,null,null,{"$f":"IF(AT80=\"\",\"\",INDEX(REFERENTES!$A:$B,MATCH(AT80,REFERENTES!$A:$A,0),2))","v":""},null,{"$f":"IF(AX80=\"\",\"\",INDEX(REFERENTES!M:O,MATCH(AX80,REFERENTES!M:M,0),3))","v":""}]
["30001212000000",{"$f":"DIGITADOR!$B$2","v":""},0,{"$f":"IF(E81<>\"\",CONCATENATE(B81,A81,DIGITADOR!$M$1,C81),\"\")","v":""},null,null,"","","",null,{"$f":"IF(J81=\"\",\"\",INDEX(REFERENTES!$V:$W,MATCH(J81,REFERENTES!$W:$W,0),1))","v":""},{"$f":"IF(E81=\"\",\"\",IF(O81=O80,\"\",CONCATENATE(B81,A81,DIGITADOR!$M$1,C81)))","v":""},null,{"$f":"IF(M81=\"\",\"\",INDEX(REFERENTES!$AB:$AC,MATCH(M81,REFERENTES!$AC:$AC,0),1))","v":""},"",null,77,"",null,null,null,null,null,null,null,null,null,null,null,null,null,null,null,null,null,null,null,null,{"$f":"IF(AL81<>\"\",VLOOKUP(AL81,#REF!,2,FALSE),\"\")","v":""},null,null,null,{"$f":"IF(AP81<>\"\",VLOOKUP(AP81,#REF!,2,TRUE),\"\")","v":""},null,{"$f":"IF(AR81<>\"\",VLOOKUP(AR81,#REF!,2,FALSE),\"\")","v":""},null,null,null,{"$f":"IF(AT81=\"\",\"\",INDEX(REFERENTES!$A:$B,MATCH(AT81,REFERENTES!$A:$A,0),2))","v":""},null,{"$f":"IF(AX81=\"\",\"\",INDEX(REFERENTES!M:O,MATCH(AX81,REFERENTES!M:M,0),3))","v":""}]
["30001212000000",{"$f":"DIGITADOR!$B$2","v":""},0,{"$f":"IF(E82<>\"\",CONCATENATE(B82,A82,DIGITADOR!$M$1,C82),\"\")","v":""},null,null,"","","",null,{"$f":"IF(J82=\"\",\"\",INDEX(REFERENTES!$V:$W,MATCH(J82,REFERENTES!$W:$W,0),1))","v":""},{"$f":"IF(E82=\"\",\"\",IF(O82=O81,\"\",CONCATENATE(B82,A82,DIGITADOR!$M$1,C82)))","v":""},null,{"$f":"IF(M82=\"\",\"\",INDEX(REFERENTES!$AB:$AC,MATCH(M82,REFERENTES!$AC:$AC,0),1))","v":""},"",null,78,"",null,null,null,null,null,null,null,null,null,null,null,null,null,null,null,null,null,null,null,null,{"$f":"IF(AL82<>\"\",VLOOKUP(AL82,#REF!,2,FALSE),\"\")","v":""},null,null,null,{"$f":"IF(AP82<>\"\",VLOOKUP(AP82,#REF!,2,TRUE),\"\")","v":""},null,{"$f":"IF(AR82<>\"\",VLOOKUP(AR82,#REF!,2,FALSE),\"\")","v":""},null,null,null,{"$f":"IF(AT82=\"\",\"\",INDEX(REFERENTES!$A:$B,MATCH(AT82,REFERENTES!$A:$A,0),2))","v":""},null,{"$f":"IF(AX82=\"\",\"\",INDEX(REFERENTES!M:O,MATCH(AX82,REFERENTES!M:M,0),3))","v":""}]
["30001212000000",{"$f":"DIGITADOR!$B$2","v":""},0,{"$f":"IF(E83<>\"\",CONCATENATE(B83,A83,DIGITADOR!$M$1,C83),\"\")","v":""},null,null,"","","",null,{"$f":"IF(J83=\"\",\"\",INDEX(REFERENTES!$V:$W,MATCH(J83,REFERENTES!$W:$W,0),1))","v":""},{"$f":"IF(E83=\"\",\"\",IF(O83=O82,\"\",CONCATENATE(B83,A83,DIGITADOR!$M$1,C83)))","v":""},null,{"$f":"IF(M83=\"\",\"\",INDEX(REFERENTES!$AB:$AC,MATCH(M83,REFERENTES!$AC:$AC,0),1))","v":""},"",null,79,"",null,null,null,null,null,null,null,null,null,null,null,null,null,null,null,null,null,null,null,null,{"$f":"IF(AL83<>\"\",VLOOKUP(AL83,#REF!,2,FALSE),\"\")","v":""},null,null,null,{"$f":"IF(AP83<>\"\",VLOOKUP(AP83,#REF!,2,TRUE),\"\")","v":""},null,{"$f":"IF(AR83<>\"\",VLOOKUP(AR83,#REF!,2,FALSE),\"\")","v":""},null,null,null,{"$f":"IF(AT83=\"\",\"\",INDEX(REFERENTES!$A:$B,MATCH(AT83,REFERENTES!$A:$A,0),2))","v":""},null,{"$f":"IF(AX83=\"\",\"\",INDEX(REFERENTES!M:O,MATCH(AX83,REFERENTES!M:M,0),3))","v":""}]
["30001212000000",{"$f":"DIGITADOR!$B$2","v":""},0,{"$f":"IF(E84<>\"\",CONCATENATE(B84,A84,DIGITADOR!$M$1,C84),\"\")","v":""},null,null,"","","",null,{"$f":"IF(J84=\"\",\"\",INDEX(REFERENTES!$V:$W,MATCH(J84,REFERENTES!$W:$W,0),1))","v":""},{"$f":"IF(E84=\"\",\"\",IF(O84=O83,\"\",CONCATENATE(B84,A84,DIGITADOR!$M$1,C84)))","v":""},null,{"$f":"IF(M84=\"\",\"\",INDEX(REFERENTES!$AB:$AC,MATCH(M84,REFERENTES!$AC:$AC,0),1))","v":""},"",null,80,"",null,null,null,null,null,null,null,null,null,null,null,null,null,null,null,null,null,null,null,null,{"$f":"IF(AL84<>\"\",VLOOKUP(AL84,#REF!,2,FALSE),\"\")","v":""},null,null,null,{"$f":"IF(AP84<>\"\",VLOOKUP(AP84,#REF!,2,TRUE),\"\")","v":""},null,{"$f":"IF(AR84<>\"\",VLOOKUP(AR84,#REF!,2,FALSE),\"\")","v":""},null,null,null,{"$f":"IF(AT84=\"\",\"\",INDEX(REFERENTES!$A:$B,MATCH(AT84,REFERENTES!$A:$A,0),2))","v":""},null,{"$f":"IF(AX84=\"\",\"\",INDEX(REFERENTES!M:O,MATCH(AX84,REFERENTES!M:M,0),3))","v":""}]
["30001212000000",{"$f":"DIGITADOR!$B$2","v":""},0,{"$f":"IF(E85<>\"\",CONCATENATE(B85,A85,DIGITADOR!$M$1,C85),\"\")","v":""},null,null,"","","",null,{"$f":"IF(J85=\"\",\"\",INDEX(REFERENTES!$V:$W,MATCH(J85,REFERENTES!$W:$W,0),1))","v":""},{"$f":"IF(E85=\"\",\"\",IF(O85=O84,\"\",CONCATENATE(B85,A85,DIGITADOR!$M$1,C85)))","v":""},null,{"$f":"IF(M85=\"\",\"\",INDEX(REFERENTES!$AB:$AC,MATCH(M85,REFERENTES!$AC:$AC,0),1))","v":""},"",null,81,"",null,null,null,null,null,null,null,null,null,null,null,null,null,null,null,null,null,null,null,null,{"$f":"IF(AL85<>\"\",VLOOKUP(AL85,#REF!,2,FALSE),\"\")","v":""},null,null,null,{"$f":"IF(AP85<>\"\",VLOOKUP(AP85,#REF!,2,TRUE),\"\")","v":""},null,{"$f":"IF(AR85<>\"\",VLOOKUP(AR85,#REF!,2,FALSE),\"\")","v":""},null,null,null,{"$f":"IF(AT85=\"\",\"\",INDEX(REFERENTES!$A:$B,MATCH(AT85,REFERENTES!$A:$A,0),2))","v":""},null,{"$f":"IF(AX85=\"\",\"\",INDEX(REFERENTES!M:O,MATCH(AX85,REFERENTES!M:M,0),3))","v":""}]
["30001212000000",{"$f":"DIGITADOR!$B$2","v":""},0,{"$f":"IF(E86<>\"\",CONCATENATE(B86,A86,DIGITADOR!$M$1,C86),\"\")","v":""},null,null,"","","",null,{"$f":"IF(J86=\"\",\"\",INDEX(REFERENTES!$V:$W,MATCH(J86,REFERENTES!$W:$W,0),1))","v":""},{"$f":"IF(E86=\"\",\"\",IF(O86=O85,\"\",CONCATENATE(B86,A86,DIGITADOR!$M$1,C86)))","v":""},null,{"$f":"IF(M86=\"\",\"\",INDEX(REFERENTES!$AB:$AC,MATCH(M86,REFERENTES!$AC:$AC,0),1))","v":""},"",null,82,"",null,null,null,null,null,null,null,null,null,null,null,null,null,null,null,null,null,null,null,null,{"$f":"IF(AL86<>\"\",VLOOKUP(AL86,#REF!,2,FALSE),\"\")","v":""},null,null,null,{"$f":"IF(AP86<>\"\",VLOOKUP(AP86,#REF!,2,TRUE),\"\")","v":""},null,{"$f":"IF(AR86<>\"\",VLOOKUP(AR86,#REF!,2,FALSE),\"\")","v":""},null,null,null,{"$f":"IF(AT86=\"\",\"\",INDEX(REFERENTES!$A:$B,MATCH(AT86,REFERENTES!$A:$A,0),2))","v":""},null,{"$f":"IF(AX86=\"\",\"\",INDEX(REFERENTES!M:O,MATCH(AX86,REFERENTES!M:M,0),3))","v":""}]
["30001212000000",{"$f":"DIGITADOR!$B$2","v":""},0,{"$f":"IF(E87<>\"\",CONCATENATE(B87,A87,DIGITADOR!$M$1,C87),\"\")","v":""},null,null,"","","",null,{"$f":"IF(J87=\"\",\"\",INDEX(REFERENTES!$V:$W,MATCH(J87,REFERENTES!$W:$W,0),1))","v":""},{"$f":"IF(E87=\"\",\"\",IF(O87=O86,\"\",CONCATENATE(B87,A87,DIGITADOR!$M$1,C87)))","v":""},null,{"$f":"IF(M87=\"\",\"\",INDEX(REFERENTES!$AB:$AC,MATCH(M87,REFERENTES!$AC:$AC,0),1))","v":""},"",null,83,"",null,null,null,null,null,null,null,null,null,null,null,null,null,null,null,null,null,null,null,null,{"$f":"IF(AL87<>\"\",VLOOKUP(AL87,#REF!,2,FALSE),\"\")","v":""},null,null,null,{"$f":"IF(AP87<>\"\",VLOOKUP(AP87,#REF!,2,TRUE),\"\")","v":""},null,{"$f":"IF(AR87<>\"\",VLOOKUP(AR87,#REF!,2,FALSE),\"\")","v":""},null,null,null,{"$f":"IF(AT87=\"\",\"\",INDEX(REFERENTES!$A:$B,MATCH(AT87,REFERENTES!$A:$A,0),2))","v":""},null,{"$f":"IF(AX87=\"\",\"\",INDEX(REFERENTES!M:O,MATCH(AX87,REFERENTES!M:M,0),3))","v":""}]
["30001212000000",{"$f":"DIGITADOR!$B$2","v":""},0,{"$f":"IF(E88<>\"\",CONCATENATE(B88,A88,DIGITADOR!$M$1,C88),\"\")","v":""},null,null,"","","",null,{"$f":"IF(J88=\"\",\"\",INDEX(REFERENTES!$V:$W,MATCH(J88,REFERENTES!$W:$W,0),1))","v":""},{"$f":"IF(E88=\"\",\"\",IF(O88=O87,\"\",CONCATENATE(B88,A88,DIGITADOR!$M$1,C88)))","v":""},null,{"$f":"IF(M88=\"\",\"\",INDEX(REFERENTES!$AB:$AC,MATCH(M88,REFERENTES!$AC:$AC,0),1))","v":""},"",null,84,"",null,null,null,null,null,null,null,null,null,null,null,null,null,null,null,null,null,null,null,null,{"$f":"IF(AL88<>\"\",VLOOKUP(AL88,#REF!,2,FALSE),\"\")","v":""},null,null,null,{"$f":"IF(AP88<>\"\",VLOOKUP(AP88,#REF!,2,TRUE),\"\")","v":""},null,{"$f":"IF(AR88<>\"\",VLOOKUP(AR88,#REF!,2,FALSE),\"\")","v":""},null,null,null,{"$f":"IF(AT88=\"\",\"\",INDEX(REFERENTES!$A:$B,MATCH(AT88,REFERENTES!$A:$A,0),2))","v":""},null,{"$f":"IF(AX88=\"\",\"\",INDEX(REFERENTES!M:O,MATCH(AX88,REFERENTES!M:M,0),3))","v":""}]
["30001212000000",{"$f":"DIGITADOR!$B$2","v":""},0,{"$f":"IF(E89<>\"\",CONCATENATE(B89,A89,DIGITADOR!$M$1,C89),\"\")","v":""},null,null,"","","",null,{"$f":"IF(J89=\"\",\"\",INDEX(REFERENTES!$V:$W,MATCH(J89,REFERENTES!$W:$W,0),1))","v":""},{"$f":"IF(E89=\"\",\"\",IF(O89=O88,\"\",CONCATENATE(B89,A89,DIGITADOR!$M$1,C89)))","v":""},null,{"$f":"IF(M89=\"\",\"\",INDEX(REFERENTES!$AB:$AC,MATCH(M89,REFERENTES!$AC:$AC,0),1))","v":""},"",null,85,"",null,null,null,null,null,null,null,null,null,null,null,null,null,null,null,null,null,null,null,null,{"$f":"IF(AL89<>\"\",VLOOKUP(AL89,#REF!,2,FALSE),\"\")","v":""},null,null,null,{"$f":"IF(AP89<>\"\",VLOOKUP(AP89,#REF!,2,TRUE),\"\")","v":""},null,{"$f":"IF(AR89<>\"\",VLOOKUP(AR89,#REF!,2,FALSE),\"\")","v":""},null,null,null,{"$f":"IF(AT89=\"\",\"\",INDEX(REFERENTES!$A:$B,MATCH(AT89,REFERENTES!$A:$A,0),2))","v":""},null,{"$f":"IF(AX89=\"\",\"\",INDEX(REFERENTES!M:O,MATCH(AX89,REFERENTES!M:M,0),3))","v":""}]
["30001212000000",{"$f":"DIGITADOR!$B$2","v":""},0,{"$f":"IF(E90<>\"\",CONCATENATE(B90,A90,DIGITADOR!$M$1,C90),\"\")","v":""},null,null,"","","",null,{"$f":"IF(J90=\"\",\"\",INDEX(REFERENTES!$V:$W,MATCH(J90,REFERENTES!$W:$W,0),1))","v":""},{"$f":"IF(E90=\"\",\"\",IF(O90=O89,\"\",CONCATENATE(B90,A90,DIGITADOR!$M$1,C90)))","v":""},null,{"$f":"IF(M90=\"\",\"\",INDEX(REFERENTES!$AB:$AC,MATCH(M90,REFERENTES!$AC:$AC,0),1))","v":""},"",null,86,"",null,null,null,null,null,null,null,null,null,null,null,null,null,null,null,null,null,null,null,null,{"$f":"IF(AL90<>\"\",VLOOKUP(AL90,#REF!,2,FALSE),\"\")","v":""},null,null,null,{"$f":"IF(AP90<>\"\",VLOOKUP(AP90,#REF!,2,TRUE),\"\")","v":""},null,{"$f":"IF(AR90<>\"\",VLOOKUP(AR90,#REF!,2,FALSE),\"\")","v":""},null,null,null,{"$f":"IF(AT90=\"\",\"\",INDEX(REFERENTES!$A:$B,MATCH(AT90,REFERENTES!$A:$A,0),2))","v":""},null,{"$f":"IF(AX90=\"\",\"\",INDEX(REFERENTES!M:O,MATCH(AX90,REFERENTES!M:M,0),3))","v":""}]
["30001212000000",{"$f":"DIGITADOR!$B$2","v":""},0,{"$f":"IF(E91<>\"\",CONCATENATE(B91,A91,DIGITADOR!$M$1,C91),\"\")","v":""},null,null,"","","",null,{"$f":"IF(J91=\"\",\"\",INDEX(REFERENTES!$V:$W,MATCH(J91,REFERENTES!$W:$W,0),1))","v":""},{"$f":"IF(E91=\"\",\"\",IF(O91=O90,\"\",CONCATENATE(B91,A91,DIGITADOR!$M$1,C91)))","v":""},null,{"$f":"IF(M91=\"\",\"\",INDEX(REFERENTES!$AB:$AC,MATCH(M91,REFERENTES!$AC:$AC,0),1))","v":""},"",null,87,"",null,null,null,null,null,null,null,null,null,null,null,null,null,null,null,null,null,null,null,null,{"$f":"IF(AL91<>\"\",VLOOKUP(AL91,#REF!,2,FALSE),\"\")","v":""},null,null,null,{"$f":"IF(AP91<>\"\",VLOOKUP(AP91,#REF!,2,TRUE),\"\")","v":""},null,{"$f":"IF(AR91<>\"\",VLOOKUP(AR91,#REF!,2,FALSE),\"\")","v":""},null,null,null,{"$f":"IF(AT91=\"\",\"\",INDEX(REFERENTES!$A:$B,MATCH(AT91,REFERENTES!$A:$A,0),2))","v":""},null,{"$f":"IF(AX91=\"\",\"\",INDEX(REFERENTES!M:O,MATCH(AX91,REFERENTES!M:M,0),3))","v":""}]
["30001212000000",{"$f":"DIGITADOR!$B$2","v":""},0,{"$f":"IF(E92<>\"\",CONCATENATE(B92,A92,DIGITADOR!$M$1,C92),\"\")","v":""},null,null,"","","",null,{"$f":"IF(J92=\"\",\"\",INDEX(REFERENTES!$V:$W,MATCH(J92,REFERENTES!$W:$W,0),1))","v":""},{"$f":"IF(E92=\"\",\"\",IF(O92=O91,\"\",CONCATENATE(B92,A92,DIGITADOR!$M$1,C92)))","v":""},null,{"$f":"IF(M92=\"\",\"\",INDEX(REFERENTES!$AB:$AC,MATCH(M92,REFERENTES!$AC:$AC,0),1))","v":""},"",null,88,"",null,null,null,null,null,null,null,null,null,null,null,null,null,null,null,null,null,null,null,null,{"$f":"IF(AL92<>\"\",VLOOKUP(AL92,#REF!,2,FALSE),\"\")","v":""},null,null,null,{"$f":"IF(AP92<>\"\",VLOOKUP(AP92,#REF!,2,TRUE),\"\")","v":""},null,{"$f":"IF(AR92<>\"\",VLOOKUP(AR92,#REF!,2,FALSE),\"\")","v":""},null,null,null,{"$f":"IF(AT92=\"\",\"\",INDEX(REFERENTES!$A:$B,MATCH(AT92,REFERENTES!$A:$A,0),2))","v":""},null,{"$f":"IF(AX92=\"\",\"\",INDEX(REFERENTES!M:O,MATCH(AX92,REFERENTES!M:M,0),3))","v":""}]
["30001212000000",{"$f":"DIGITADOR!$B$2","v":""},0,{"$f":"IF(E93<>\"\",CONCATENATE(B93,A93,DIGITADOR!$M$1,C93),\"\")","v":""},null,null,"","","",null,{"$f":"IF(J93=\"\",\"\",INDEX(REFERENTES!$V:$W,MATCH(J93,REFERENTES!$W:$W,0),1))","v":""},{"$f":"IF(E93=\"\",\"\",IF(O93=O92,\"\",CONCATENATE(B93,A93,DIGITADOR!$M$1,C93)))","v":""},null,{"$f":"IF(M93=\"\",\"\",INDEX(REFERENTES!$AB:$AC,MATCH(M93,REFERENTES!$AC:$AC,0),1))","v":""},"",null,89,"",null,null,null,null,null,null,null,null,null,null,null,null,null,null,null,null,null,null,null,null,{"$f":"IF(AL93<>\"\",VLOOKUP(AL93,#REF!,2,FALSE),\"\")","v":""},null,null,null,{"$f":"IF(AP93<>\"\",VLOOKUP(AP93,#REF!,2,TRUE),\"\")","v":""},null,{"$f":"IF(AR93<>\"\",VLOOKUP(AR93,#REF!,2,FALSE),\"\")","v":""},null,null,null,{"$f":"IF(AT93=\"\",\"\",INDEX(REFERENTES!$A:$B,MATCH(AT93,REFERENTES!$A:$A,0),2))","v":""},null,{"$f":"IF(AX93=\"\",\"\",INDEX(REFERENTES!M:O,MATCH(AX93,REFERENTES!M:M,0),3))","v":""}]
["30001212000000",{"$f":"DIGITADOR!$B$2","v":""},0,{"$f":"IF(E94<>\"\",CONCATENATE(B94,A94,DIGITADOR!$M$1,C94),\"\")","v":""},null,null,"","","",null,{"$f":"IF(J94=\"\",\"\",INDEX(REFERENTES!$V:$W,MATCH(J94,REFERENTES!$W:$W,0),1))","v":""},{"$f":"IF(E94=\"\",\"\",IF(O94=O93,\"\",CONCATENATE(B94,A94,DIGITADOR!$M$1,C94)))","v":""},null,{"$f":"IF(M94=\"\",\"\",INDEX(REFERENTES!$AB:$AC,MATCH(M94,REFERENTES!$AC:$AC,0),1))","v":""},"",null,90,"",null,null,null,null,null,null,null,null,null,null,null,null,null,null,null,null,null,null,null,null,{"$f":"IF(AL94<>\"\",VLOOKUP(AL94,#REF!,2,FALSE),\"\")","v":""},null,null,null,{"$f":"IF(AP94<>\"\",VLOOKUP(AP94,#REF!,2,TRUE),\"\")","v":""},null,{"$f":"IF(AR94<>\"\",VLOOKUP(AR94,#REF!,2,FALSE),\"\")","v":""},null,null,null,{"$f":"IF(AT94=\"\",\"\",INDEX(REFERENTES!$A:$B,MATCH(AT94,REFERENTES!$A:$A,0),2))","v":""},null,{"$f":"IF(AX94=\"\",\"\",INDEX(REFERENTES!M:O,MATCH(AX94,REFERENTES!M:M,0),3))","v":""}]
["30001212000000",{"$f":"DIGITADOR!$B$2","v":""},0,{"$f":"IF(E95<>\"\",CONCATENATE(B95,A95,DIGITADOR!$M$1,C95),\"\")","v":""},null,null,"","","",null,{"$f":"IF(J95=\"\",\"\",INDEX(REFERENTES!$V:$W,MATCH(J95,REFERENTES!$W:$W,0),1))","v":""},{"$f":"IF(E95=\"\",\"\",IF(O95=O94,\"\",CONCATENATE(B95,A95,DIGITADOR!$M$1,C95)))","v":""},null,{"$f":"IF(M95=\"\",\"\",INDEX(REFERENTES!$AB:$AC,MATCH(M95,REFERENTES!$AC:$AC,0),1))","v":""},"",null,91,"",null,null,null,null,null,null,null,null,null,null,null,null,null,null,null,null,null,null,null,null,{"$f":"IF(AL95<>\"\",VLOOKUP(AL95,#REF!,2,FALSE),\"\")","v":""},null,null,null,{"$f":"IF(AP95<>\"\",VLOOKUP(AP95,#REF!,2,TRUE),\"\")","v":""},null,{"$f":"IF(AR95<>\"\",VLOOKUP(AR95,#REF!,2,FALSE),\"\")","v":""},null,null,null,{"$f":"IF(AT95=\"\",\"\",INDEX(REFERENTES!$A:$B,MATCH(AT95,REFERENTES!$A:$A,0),2))","v":""},null,{"$f":"IF(AX95=\"\",\"\",INDEX(REFERENTES!M:O,MATCH(AX95,REFERENTES!M:M,0),3))","v":""}]
["30001212000000",{"$f":"DIGITADOR!$B$2","v":""},0,{"$f":"IF(E96<>\"\",CONCATENATE(B96,A96,DIGITADOR!$M$1,C96),\"\")","v":""},null,null,"","","",null,{"$f":"IF(J96=\"\",\"\",INDEX(REFERENTES!$V:$W,MATCH(J96,REFERENTES!$W:$W,0),1))","v":""},{"$f":"IF(E96=\"\",\"\",IF(O96=O95,\"\",CONCATENATE(B96,A96,DIGITADOR!$M$1,C96)))","v":""},null,{"$f":"IF(M96=\"\",\"\",INDEX(REFERENTES!$AB:$AC,MATCH(M96,REFERENTES!$AC:$AC,0),1))","v":""},"",null,92,"",null,null,null,null,null,null,null,null,null,null,null,null,null,null,null,null,null,null,null,null,{"$f":"IF(AL96<>\"\",VLOOKUP(AL96,#REF!,2,FALSE),\"\")","v":""},null,null,null,{"$f":"IF(AP96<>\"\",VLOOKUP(AP96,#REF!,2,TRUE),\"\")","v":""},null,{"$f":"IF(AR96<>\"\",VLOOKUP(AR96,#REF!,2,FALSE),\"\")","v":""},null,null,null,{"$f":"IF(AT96=\"\",\"\",INDEX(REFERENTES!$A:$B,MATCH(AT96,REFERENTES!$A:$A,0),2))","v":""},null,{"$f":"IF(AX96=\"\",\"\",INDEX(REFERENTES!M:O,MATCH(AX96,REFERENTES!M:M,0),3))","v":""}]
["30001212000000",{"$f":"DIGITADOR!$B$2","v":""},0,{"$f":"IF(E97<>\"\",CONCATENATE(B97,A97,DIGITADOR!$M$1,C97),\"\")","v":""},null,null,"","","",null,{"$f":"IF(J97=\"\",\"\",INDEX(REFERENTES!$V:$W,MATCH(J97,REFERENTES!$W:$W,0),1))","v":""},{"$f":"IF(E97=\"\",\"\",IF(O97=O96,\"\",CONCATENATE(B97,A97,DIGITADOR!$M$1,C97)))","v":""},null,{"$f":"IF(M97=\"\",\"\",INDEX(REFERENTES!$AB:$AC,MATCH(M97,REFERENTES!$AC:$AC,0),1))","v":""},"",null,93,"",null,null,null,null,null,null,null,null,null,null,null,null,null,null,null,null,null,null,null,null,{"$f":"IF(AL97<>\"\",VLOOKUP(AL97,#REF!,2,FALSE),\"\")","v":""},null,null,null,{"$f":"IF(AP97<>\"\",VLOOKUP(AP97,#REF!,2,TRUE),\"\")","v":""},null,{"$f":"IF(AR97<>\"\",VLOOKUP(AR97,#REF!,2,FALSE),\"\")","v":""},null,null,null,{"$f":"IF(AT97=\"\",\"\",INDEX(REFERENTES!$A:$B,MATCH(AT97,REFERENTES!$A:$A,0),2))","v":""},null,{"$f":"IF(AX97=\"\",\"\",INDEX(REFERENTES!M:O,MATCH(AX97,REFERENTES!M:M,0),3))","v":""}]
["30001212000000",{"$f":"DIGITADOR!$B$2","v":""},0,{"$f":"IF(E98<>\"\",CONCATENATE(B98,A98,DIGITADOR!$M$1,C98),\"\")","v":""},null,null,"","","",null,{"$f":"IF(J98=\"\",\"\",INDEX(REFERENTES!$V:$W,MATCH(J98,REFERENTES!$W:$W,0),1))","v":""},{"$f":"IF(E98=\"\",\"\",IF(O98=O97,\"\",CONCATENATE(B98,A98,DIGITADOR!$M$1,C98)))","v":""},null,{"$f":"IF(M98=\"\",\"\",INDEX(REFERENTES!$AB:$AC,MATCH(M98,REFERENTES!$AC:$AC,0),1))","v":""},"",null,94,"",null,null,null,null,null,null,null,null,null,null,null,null,null,null,null,null,null,null,null,null,{"$f":"IF(AL98<>\"\",VLOOKUP(AL98,#REF!,2,FALSE),\"\")","v":""},null,null,null,{"$f":"IF(AP98<>\"\",VLOOKUP(AP98,#REF!,2,TRUE),\"\")","v":""},null,{"$f":"IF(AR98<>\"\",VLOOKUP(AR98,#REF!,2,FALSE),\"\")","v":""},null,null,null,{"$f":"IF(AT98=\"\",\"\",INDEX(REFERENTES!$A:$B,MATCH(AT98,REFERENTES!$A:$A,0),2))","v":""},null,{"$f":"IF(AX98=\"\",\"\",INDEX(REFERENTES!M:O,MATCH(AX98,REFERENTES!M:M,0),3))","v":""}]
["30001212000000",{"$f":"DIGITADOR!$B$2","v":""},0,{"$f":"IF(E99<>\"\",CONCATENATE(B99,A99,DIGITADOR!$M$1,C99),\"\")","v":""},null,null,"","","",null,{"$f":"IF(J99=\"\",\"\",INDEX(REFERENTES!$V:$W,MATCH(J99,REFERENTES!$W:$W,0),1))","v":""},{"$f":"IF(E99=\"\",\"\",IF(O99=O98,\"\",CONCATENATE(B99,A99,DIGITADOR!$M$1,C99)))","v":""},null,{"$f":"IF(M99=\"\",\"\",INDEX(REFERENTES!$AB:$AC,MATCH(M99,REFERENTES!$AC:$AC,0),1))","v":""},"",null,95,"",null,null,null,null,null,null,null,null,null,null,null,null,null,null,null,null,null,null,null,null,{"$f":"IF(AL99<>\"\",VLOOKUP(AL99,#REF!,2,FALSE),\"\")","v":""},null,null,null,{"$f":"IF(AP99<>\"\",VLOOKUP(AP99,#REF!,2,TRUE),\"\")","v":""},null,{"$f":"IF(AR99<>\"\",VLOOKUP(AR99,#REF!,2,FALSE),\"\")","v":""},null,null,null,{"$f":"IF(AT99=\"\",\"\",INDEX(REFERENTES!$A:$B,MATCH(AT99,REFERENTES!$A:$A,0),2))","v":""},null,{"$f":"IF(AX99=\"\",\"\",INDEX(REFERENTES!M:O,MATCH(AX99,REFERENTES!M:M,0),3))","v":""}]
["30001212000000",{"$f":"DIGITADOR!$B$2","v":""},0,{"$f":"IF(E100<>\"\",CONCATENATE(B100,A100,DIGITADOR!$M$1,C100),\"\")","v":""},null,null,"","","",null,{"$f":"IF(J100=\"\",\"\",INDEX(REFERENTES!$V:$W,MATCH(J100,REFERENTES!$W:$W,0),1))","v":""},{"$f":"IF(E100=\"\",\"\",IF(O100=O99,\"\",CONCATENATE(B100,A100,DIGITADOR!$M$1,C100)))","v":""},null,{"$f":"IF(M100=\"\",\"\",INDEX(REFERENTES!$AB:$AC,MATCH(M100,REFERENTES!$AC:$AC,0),1))","v":""},"",null,96,"",null,null,null,null,null,null,null,null,null,null,null,null,null,null,null,null,null,null,null,null,{"$f":"IF(AL100<>\"\",VLOOKUP(AL100,#REF!,2,FALSE),\"\")","v":""},null,null,null,{"$f":"IF(AP100<>\"\",VLOOKUP(AP100,#REF!,2,TRUE),\"\")","v":""},null,{"$f":"IF(AR100<>\"\",VLOOKUP(AR100,#REF!,2,FALSE),\"\")","v":""},null,null,null,{"$f":"IF(AT100=\"\",\"\",INDEX(REFERENTES!$A:$B,MATCH(AT100,REFERENTES!$A:$A,0),2))","v":""},null,{"$f":"IF(AX100=\"\",\"\",INDEX(REFERENTES!M:O,MATCH(AX100,REFERENTES!M:M,0),3))","v":""}]
["30001212000000",{"$f":"DIGITADOR!$B$2","v":""},0,{"$f":"IF(E101<>\"\",CONCATENATE(B101,A101,DIGITADOR!$M$1,C101),\"\")","v":""},null,null,"","","",null,{"$f":"IF(J101=\"\",\"\",INDEX(REFERENTES!$V:$W,MATCH(J101,REFERENTES!$W:$W,0),1))","v":""},{"$f":"IF(E101=\"\",\"\",IF(O101=O100,\"\",CONCATENATE(B101,A101,DIGITADOR!$M$1,C101)))","v":""},null,{"$f":"IF(M101=\"\",\"\",INDEX(REFERENTES!$AB:$AC,MATCH(M101,REFERENTES!$AC:$AC,0),1))","v":""},"",null,97,"",null,null,null,null,null,null,null,null,null,null,null,null,null,null,null,null,null,null,null,null,{"$f":"IF(AL101<>\"\",VLOOKUP(AL101,#REF!,2,FALSE),\"\")","v":""},null,null,null,{"$f":"IF(AP101<>\"\",VLOOKUP(AP101,#REF!,2,TRUE),\"\")","v":""},null,{"$f":"IF(AR101<>\"\",VLOOKUP(AR101,#REF!,2,FALSE),\"\")","v":""},null,null,null,{"$f":"IF(AT101=\"\",\"\",INDEX(REFERENTES!$A:$B,MATCH(AT101,REFERENTES!$A:$A,0),2))","v":""},null,{"$f":"IF(AX101=\"\",\"\",INDEX(REFERENTES!M:O,MATCH(AX101,REFERENTES!M:M,0),3))","v":""}]
["30001212000000",{"$f":"DIGITADOR!$B$2","v":""},0,{"$f":"IF(E102<>\"\",CONCATENATE(B102,A102,DIGITADOR!$M$1,C102),\"\")","v":""},null,null,"","","",null,{"$f":"IF(J102=\"\",\"\",INDEX(REFERENTES!$V:$W,MATCH(J102,REFERENTES!$W:$W,0),1))","v":""},{"$f":"IF(E102=\"\",\"\",IF(O102=O101,\"\",CONCATENATE(B102,A102,DIGITADOR!$M$1,C102)))","v":""},null,{"$f":"IF(M102=\"\",\"\",INDEX(REFERENTES!$AB:$AC,MATCH(M102,REFERENTES!$AC:$AC,0),1))","v":""},"",null,98,"",null,null,null,null,null,null,null,null,null,null,null,null,null,null,null,null,null,null,null,null,{"$f":"IF(AL102<>\"\",VLOOKUP(AL102,#REF!,2,FALSE),\"\")","v":""},null,null,null,{"$f":"IF(AP102<>\"\",VLOOKUP(AP102,#REF!,2,TRUE),\"\")","v":""},null,{"$f":"IF(AR102<>\"\",VLOOKUP(AR102,#REF!,2,FALSE),\"\")","v":""},null,null,null,{"$f":"IF(AT102=\"\",\"\",INDEX(REFERENTES!$A:$B,MATCH(AT102,REFERENTES!$A:$A,0),2))","v":""},null,{"$f":"IF(AX102=\"\",\"\",INDEX(REFERENTES!M:O,MATCH(AX102,REFERENTES!M:M,0),3))","v":""}]
["30001212000000",{"$f":"DIGITADOR!$B$2","v":""},0,{"$f":"IF(E103<>\"\",CONCATENATE(B103,A103,DIGITADOR!$M$1,C103),\"\")","v":""},null,null,"","","",null,{"$f":"IF(J103=\"\",\"\",INDEX(REFERENTES!$V:$W,MATCH(J103,REFERENTES!$W:$W,0),1))","v":""},{"$f":"IF(E103=\"\",\"\",IF(O103=O102,\"\",CONCATENATE(B103,A103,DIGITADOR!$M$1,C103)))","v":""},null,{"$f":"IF(M103=\"\",\"\",INDEX(REFERENTES!$AB:$AC,MATCH(M103,REFERENTES!$AC:$AC,0),1))","v":""},"",null,99,"",null,null,null,null,null,null,null,null,null,null,null,null,null,null,null,null,null,null,null,null,{"$f":"IF(AL103<>\"\",VLOOKUP(AL103,#REF!,2,FALSE),\"\")","v":""},null,null,null,{"$f":"IF(AP103<>\"\",VLOOKUP(AP103,#REF!,2,TRUE),\"\")","v":""},null,{"$f":"IF(AR103<>\"\",VLOOKUP(AR103,#REF!,2,FALSE),\"\")","v":""},null,null,null,{"$f":"IF(AT103=\"\",\"\",INDEX(REFERENTES!$A:$B,MATCH(AT103,REFERENTES!$A:$A,0),2))","v":""},null,{"$f":"IF(AX103=\"\",\"\",INDEX(REFERENTES!M:O,MATCH(AX103,REFERENTES!M:M,0),3))","v":""}]
["30001212000000",{"$f":"DIGITADOR!$B$2","v":""},0,{"$f":"IF(E104<>\"\",CONCATENATE(B104,A104,DIGITADOR!$M$1,C104),\"\")","v":""},null,null,"","","",null,{"$f":"IF(J104=\"\",\"\",INDEX(REFERENTES!$V:$W,MATCH(J104,REFERENTES!$W:$W,0),1))","v":""},{"$f":"IF(E104=\"\",\"\",IF(O104=O103,\"\",CONCATENATE(B104,A104,DIGITADOR!$M$1,C104)))","v":""},null,{"$f":"IF(M104=\"\",\"\",INDEX(REFERENTES!$AB:$AC,MATCH(M104,REFERENTES!$AC:$AC,0),1))","v":""},"",null,100,"",null,null,null,null,null,null,null,null,null,null,null,null,null,null,null,null,null,null,null,null,{"$f":"IF(AL104<>\"\",VLOOKUP(AL104,#REF!,2,FALSE),\"\")","v":""},null,null,null,{"$f":"IF(AP104<>\"\",VLOOKUP(AP104,#REF!,2,TRUE),\"\")","v":""},null,{"$f":"IF(AR104<>\"\",VLOOKUP(AR104,#REF!,2,FALSE),\"\")","v":""},null,null,null,{"$f":"IF(AT104=\"\",\"\",INDEX(REFERENTES!$A:$B,MATCH(AT104,REFERENTES!$A:$A,0),2))","v":""},null,{"$f":"IF(AX104=\"\",\"\",INDEX(REFERENTES!M:O,MATCH(AX104,REFERENTES!M:M,0),3))","v":""}]
["30001212000000",{"$f":"DIGITADOR!$B$2","v":""},0,{"$f":"IF(E105<>\"\",CONCATENATE(B105,A105,DIGITADOR!$M$1,C105),\"\")","v":""},null,null,"",{"$f":"IF(G105<>\"\",MONTH(G105),\"\")","v":""},"",null,{"$f":"IF(J105=\"\",\"\",INDEX(REFERENTES!$V:$W,MATCH(J105,REFERENTES!$W:$W,0),1))","v":""},{"$f":"IF(E105=\"\",\"\",IF(O105=O104,\"\",CONCATENATE(B105,A105,DIGITADOR!$M$1,C105)))","v":""},null,{"$f":"IF(M105=\"\",\"\",INDEX(REFERENTES!$AB:$AC,MATCH(M105,REFERENTES!$AC:$AC,0),1))","v":""},"",null,101,"",null,null,null,null,null,null,null,null,null,null,null,null,null,null,null,null,null,null,null,null,{"$f":"IF(AL105<>\"\",VLOOKUP(AL105,#REF!,2,FALSE),\"\")","v":""},null,null,null,{"$f":"IF(AP105<>\"\",VLOOKUP(AP105,#REF!,2,TRUE),\"\")","v":""},null,{"$f":"IF(AR105<>\"\",VLOOKUP(AR105,#REF!,2,FALSE),\"\")","v":""},null,null,null,{"$f":"IF(AT105=\"\",\"\",INDEX(REFERENTES!$A:$B,MATCH(AT105,REFERENTES!$A:$A,0),2))","v":""},null,{"$f":"IF(AX105=\"\",\"\",INDEX(REFERENTES!M:O,MATCH(AX105,REFERENTES!M:M,0),3))","v":""}]
["30001212000000",{"$f":"DIGITADOR!$B$2","v":""},0,{"$f":"IF(E106<>\"\",CONCATENATE(B106,A106,DIGITADOR!$M$1,C106),\"\")","v":""},null,null,"","","",null,{"$f":"IF(J106=\"\",\"\",INDEX(REFERENTES!$V:$W,MATCH(J106,REFERENTES!$W:$W,0),1))","v":""},{"$f":"IF(E106=\"\",\"\",IF(O106=O105,\"\",CONCATENATE(B106,A106,DIGITADOR!$M$1,C106)))","v":""},null,{"$f":"IF(M106=\"\",\"\",INDEX(REFERENTES!$AB:$AC,MATCH(M106,REFERENTES!$AC:$AC,0),1))","v":""},"",null,102,"",null,null,null,null,null,null,null,null,null,null,null,null,null,null,null,null,null,null,null,null,{"$f":"IF(AL106<>\"\",VLOOKUP(AL106,#REF!,2,FALSE),\"\")","v":""},null,null,null,{"$f":"IF(AP106<>\"\",VLOOKUP(AP106,#REF!,2,TRUE),\"\")","v":""},null,{"$f":"IF(AR106<>\"\",VLOOKUP(AR106,#REF!,2,FALSE),\"\")","v":""},null,null,null,{"$f":"IF(AT106=\"\",\"\",INDEX(REFERENTES!$A:$B,MATCH(AT106,REFERENTES!$A:$A,0),2))","v":""},null,{"$f":"IF(AX106=\"\",\"\",INDEX(REFERENTES!M:O,MATCH(AX106,REFERENTES!M:M,0),3))","v":""}]
["30001212000000",{"$f":"DIGITADOR!$B$2","v":""},0,{"$f":"IF(E107<>\"\",CONCATENATE(B107,A107,DIGITADOR!$M$1,C107),\"\")","v":""},null,null,"","","",null,{"$f":"IF(J107=\"\",\"\",INDEX(REFERENTES!$V:$W,MATCH(J107,REFERENTES!$W:$W,0),1))","v":""},{"$f":"IF(E107=\"\",\"\",IF(O107=O106,\"\",CONCATENATE(B107,A107,DIGITADOR!$M$1,C107)))","v":""},null,{"$f":"IF(M107=\"\",\"\",INDEX(REFERENTES!$AB:$AC,MATCH(M107,REFERENTES!$AC:$AC,0),1))","v":""},"",null,103,"",null,null,null,null,null,null,null,null,null,null,null,null,null,null,null,null,null,null,null,null,{"$f":"IF(AL107<>\"\",VLOOKUP(AL107,#REF!,2,FALSE),\"\")","v":""},null,null,null,{"$f":"IF(AP107<>\"\",VLOOKUP(AP107,#REF!,2,TRUE),\"\")","v":""},null,{"$f":"IF(AR107<>\"\",VLOOKUP(AR107,#REF!,2,FALSE),\"\")","v":""},null,null,null,{"$f":"IF(AT107=\"\",\"\",INDEX(REFERENTES!$A:$B,MATCH(AT107,REFERENTES!$A:$A,0),2))","v":""},null,{"$f":"IF(AX107=\"\",\"\",INDEX(REFERENTES!M:O,MATCH(AX107,REFERENTES!M:M,0),3))","v":""}]
["30001212000000",{"$f":"DIGITADOR!$B$2","v":""},0,{"$f":"IF(E108<>\"\",CONCATENATE(B108,A108,DIGITADOR!$M$1,C108),\"\")","v":""},null,null,"","","",null,{"$f":"IF(J108=\"\",\"\",INDEX(REFERENTES!$V:$W,MATCH(J108,REFERENTES!$W:$W,0),1))","v":""},{"$f":"IF(E108=\"\",\"\",IF(O108=O107,\"\",CONCATENATE(B108,A108,DIGITADOR!$M$1,C108)))","v":""},null,{"$f":"IF(M108=\"\",\"\",INDEX(REFERENTES!$AB:$AC,MATCH(M108,REFERENTES!$AC:$AC,0),1))","v":""},"",null,104,"",null,null,null,null,null,null,null,null,null,null,null,null,null,null,null,null,null,null,null,null,{"$f":"IF(AL108<>\"\",VLOOKUP(AL108,#REF!,2,FALSE),\"\")","v":""},null,null,null,{"$f":"IF(AP108<>\"\",VLOOKUP(AP108,#REF!,2,TRUE),\"\")","v":""},null,{"$f":"IF(AR108<>\"\",VLOOKUP(AR108,#REF!,2,FALSE),\"\")","v":""},null,null,null,{"$f":"IF(AT108=\"\",\"\",INDEX(REFERENTES!$A:$B,MATCH(AT108,REFERENTES!$A:$A,0),2))","v":""},null,{"$f":"IF(AX108=\"\",\"\",INDEX(REFERENTES!M:O,MATCH(AX108,REFERENTES!M:M,0),3))","v":""}]
["30001212000000",{"$f":"DIGITADOR!$B$2","v":""},0,{"$f":"IF(E109<>\"\",CONCATENATE(B109,A109,DIGITADOR!$M$1,C109),\"\")","v":""},null,null,"","","",null,{"$f":"IF(J109=\"\",\"\",INDEX(REFERENTES!$V:$W,MATCH(J109,REFERENTES!$W:$W,0),1))","v":""},{"$f":"IF(E109=\"\",\"\",IF(O109=O108,\"\",CONCATENATE(B109,A109,DIGITADOR!$M$1,C109)))","v":""},null,{"$f":"IF(M109=\"\",\"\",INDEX(REFERENTES!$AB:$AC,MATCH(M109,REFERENTES!$AC:$AC,0),1))","v":""},"",null,105,"",null,null,null,null,null,null,null,null,null,null,null,null,null,null,null,null,null,null,null,null,{"$f":"IF(AL109<>\"\",VLOOKUP(AL109,#REF!,2,FALSE),\"\")","v":""},null,null,null,{"$f":"IF(AP109<>\"\",VLOOKUP(AP109,#REF!,2,TRUE),\"\")","v":""},null,{"$f":"IF(AR109<>\"\",VLOOKUP(AR109,#REF!,2,FALSE),\"\")","v":""},null,null,null,{"$f":"IF(AT109=\"\",\"\",INDEX(REFERENTES!$A:$B,MATCH(AT109,REFERENTES!$A:$A,0),2))","v":""},null,{"$f":"IF(AX109=\"\",\"\",INDEX(REFERENTES!M:O,MATCH(AX109,REFERENTES!M:M,0),3))","v":""}]
["30001212000000",{"$f":"DIGITADOR!$B$2","v":""},0,{"$f":"IF(E110<>\"\",CONCATENATE(B110,A110,DIGITADOR!$M$1,C110),\"\")","v":""},null,null,"","","",null,{"$f":"IF(J110=\"\",\"\",INDEX(REFERENTES!$V:$W,MATCH(J110,REFERENTES!$W:$W,0),1))","v":""},{"$f":"IF(E110=\"\",\"\",IF(O110=O109,\"\",CONCATENATE(B110,A110,DIGITADOR!$M$1,C110)))","v":""},null,{"$f":"IF(M110=\"\",\"\",INDEX(REFERENTES!$AB:$AC,MATCH(M110,REFERENTES!$AC:$AC,0),1))","v":""},"",null,106,"",null,null,null,null,null,null,null,null,null,null,null,null,null,null,null,null,null,null,null,null,{"$f":"IF(AL110<>\"\",VLOOKUP(AL110,#REF!,2,FALSE),\"\")","v":""},null,null,null,{"$f":"IF(AP110<>\"\",VLOOKUP(AP110,#REF!,2,TRUE),\"\")","v":""},null,{"$f":"IF(AR110<>\"\",VLOOKUP(AR110,#REF!,2,FALSE),\"\")","v":""},null,null,null,{"$f":"IF(AT110=\"\",\"\",INDEX(REFERENTES!$A:$B,MATCH(AT110,REFERENTES!$A:$A,0),2))","v":""},null,{"$f":"IF(AX110=\"\",\"\",INDEX(REFERENTES!M:O,MATCH(AX110,REFERENTES!M:M,0),3))","v":""}]
["30001212000000",{"$f":"DIGITADOR!$B$2","v":""},0,{"$f":"IF(E111<>\"\",CONCATENATE(B111,A111,DIGITADOR!$M$1,C111),\"\")","v":""},null,null,"","","",null,{"$f":"IF(J111=\"\",\"\",INDEX(REFERENTES!$V:$W,MATCH(J111,REFERENTES!$W:$W,0),1))","v":""},{"$f":"IF(E111=\"\",\"\",IF(O111=O110,\"\",CONCATENATE(B111,A111,DIGITADOR!$M$1,C111)))","v":""},null,{"$f":"IF(M111=\"\",\"\",INDEX(REFERENTES!$AB:$AC,MATCH(M111,REFERENTES!$AC:$AC,0),1))","v":""},"",null,107,"",null,null,null,null,null,null,null,null,null,null,null,null,null,null,null,null,null,null,null,null,{"$f":"IF(AL111<>\"\",VLOOKUP(AL111,#REF!,2,FALSE),\"\")","v":""},null,null,null,{"$f":"IF(AP111<>\"\",VLOOKUP(AP111,#REF!,2,TRUE),\"\")","v":""},null,{"$f":"IF(AR111<>\"\",VLOOKUP(AR111,#REF!,2,FALSE),\"\")","v":""},null,null,null,{"$f":"IF(AT111=\"\",\"\",INDEX(REFERENTES!$A:$B,MATCH(AT111,REFERENTES!$A:$A,0),2))","v":""},null,{"$f":"IF(AX111=\"\",\"\",INDEX(REFERENTES!M:O,MATCH(AX111,REFERENTES!M:M,0),3))","v":""}]
["30001212000000",{"$f":"DIGITADOR!$B$2","v":""},0,{"$f":"IF(E112<>\"\",CONCATENATE(B112,A112,DIGITADOR!$M$1,C112),\"\")","v":""},null,null,"","","",null,{"$f":"IF(J112=\"\",\"\",INDEX(REFERENTES!$V:$W,MATCH(J112,REFERENTES!$W:$W,0),1))","v":""},{"$f":"IF(E112=\"\",\"\",IF(O112=O111,\"\",CONCATENATE(B112,A112,DIGITADOR!$M$1,C112)))","v":""},null,{"$f":"IF(M112=\"\",\"\",INDEX(REFERENTES!$AB:$AC,MATCH(M112,REFERENTES!$AC:$AC,0),1))","v":""},"",null,108,"",null,null,null,null,null,null,null,null,null,null,null,null,null,null,null,null,null,null,null,null,{"$f":"IF(AL112<>\"\",VLOOKUP(AL112,#REF!,2,FALSE),\"\")","v":""},null,null,null,{"$f":"IF(AP112<>\"\",VLOOKUP(AP112,#REF!,2,TRUE),\"\")","v":""},null,{"$f":"IF(AR112<>\"\",VLOOKUP(AR112,#REF!,2,FALSE),\"\")","v":""},null,null,null,{"$f":"IF(AT112=\"\",\"\",INDEX(REFERENTES!$A:$B,MATCH(AT112,REFERENTES!$A:$A,0),2))","v":""},null,{"$f":"IF(AX112=\"\",\"\",INDEX(REFERENTES!M:O,MATCH(AX112,REFERENTES!M:M,0),3))","v":""}]
["30001212000000",{"$f":"DIGITADOR!$B$2","v":""},0,{"$f":"IF(E113<>\"\",CONCATENATE(B113,A113,DIGITADOR!$M$1,C113),\"\")","v":""},null,null,"","","",null,{"$f":"IF(J113=\"\",\"\",INDEX(REFERENTES!$V:$W,MATCH(J113,REFERENTES!$W:$W,0),1))","v":""},{"$f":"IF(E113=\"\",\"\",IF(O113=O112,\"\",CONCATENATE(B113,A113,DIGITADOR!$M$1,C113)))","v":""},null,{"$f":"IF(M113=\"\",\"\",INDEX(REFERENTES!$AB:$AC,MATCH(M113,REFERENTES!$AC:$AC,0),1))","v":""},"",null,109,"",null,null,null,null,null,null,null,null,null,null,null,null,null,null,null,null,null,null,null,null,{"$f":"IF(AL113<>\"\",VLOOKUP(AL113,#REF!,2,FALSE),\"\")","v":""},null,null,null,{"$f":"IF(AP113<>\"\",VLOOKUP(AP113,#REF!,2,TRUE),\"\")","v":""},null,{"$f":"IF(AR113<>\"\",VLOOKUP(AR113,#REF!,2,FALSE),\"\")","v":""},null,null,null,{"$f":"IF(AT113=\"\",\"\",INDEX(REFERENTES!$A:$B,MATCH(AT113,REFERENTES!$A:$A,0),2))","v":""},null,{"$f":"IF(AX113=\"\",\"\",INDEX(REFERENTES!M:O,MATCH(AX113,REFERENTES!M:M,0),3))","v":""}]
["30001212000000",{"$f":"DIGITADOR!$B$2","v":""},0,{"$f":"IF(E114<>\"\",CONCATENATE(B114,A114,DIGITADOR!$M$1,C114),\"\")","v":""},null,null,"","","",null,{"$f":"IF(J114=\"\",\"\",INDEX(REFERENTES!$V:$W,MATCH(J114,REFERENTES!$W:$W,0),1))","v":""},{"$f":"IF(E114=\"\",\"\",IF(O114=O113,\"\",CONCATENATE(B114,A114,DIGITADOR!$M$1,C114)))","v":""},null,{"$f":"IF(M114=\"\",\"\",INDEX(REFERENTES!$AB:$AC,MATCH(M114,REFERENTES!$AC:$AC,0),1))","v":""},"",null,110,"",null,null,null,null,null,null,null,null,null,null,null,null,null,null,null,null,null,null,null,null,{"$f":"IF(AL114<>\"\",VLOOKUP(AL114,#REF!,2,FALSE),\"\")","v":""},null,null,null,{"$f":"IF(AP114<>\"\",VLOOKUP(AP114,#REF!,2,TRUE),\"\")","v":""},null,{"$f":"IF(AR114<>\"\",VLOOKUP(AR114,#REF!,2,FALSE),\"\")","v":""},null,null,null,{"$f":"IF(AT114=\"\",\"\",INDEX(REFERENTES!$A:$B,MATCH(AT114,REFERENTES!$A:$A,0),2))","v":""},null,{"$f":"IF(AX114=\"\",\"\",INDEX(REFERENTES!M:O,MATCH(AX114,REFERENTES!M:M,0),3))","v":""}]
["30001212000000",{"$f":"DIGITADOR!$B$2","v":""},0,{"$f":"IF(E115<>\"\",CONCATENATE(B115,A115,DIGITADOR!$M$1,C115),\"\")","v":""},null,null,"","","",null,{"$f":"IF(J115=\"\",\"\",INDEX(REFERENTES!$V:$W,MATCH(J115,REFERENTES!$W:$W,0),1))","v":""},{"$f":"IF(E115=\"\",\"\",IF(O115=O114,\"\",CONCATENATE(B115,A115,DIGITADOR!$M$1,C115)))","v":""},null,{"$f":"IF(M115=\"\",\"\",INDEX(REFERENTES!$AB:$AC,MATCH(M115,REFERENTES!$AC:$AC,0),1))","v":""},"",null,111,"",null,null,null,null,null,null,null,null,null,null,null,null,null,null,null,null,null,null,null,null,{"$f":"IF(AL115<>\"\",VLOOKUP(AL115,#REF!,2,FALSE),\"\")","v":""},null,null,null,{"$f":"IF(AP115<>\"\",VLOOKUP(AP115,#REF!,2,TRUE),\"\")","v":""},null,{"$f":"IF(AR115<>\"\",VLOOKUP(AR115,#REF!,2,FALSE),\"\")","v":""},null,null,null,{"$f":"IF(AT115=\"\",\"\",INDEX(REFERENTES!$A:$B,MATCH(AT115,REFERENTES!$A:$A,0),2))","v":""},null,{"$f":"IF(AX115=\"\",\"\",INDEX(REFERENTES!M:O,MATCH(AX115,REFERENTES!M:M,0),3))","v":""}]
["30001212000000",{"$f":"DIGITADOR!$B$2","v":""},0,{"$f":"IF(E116<>\"\",CONCATENATE(B116,A116,DIGITADOR!$M$1,C116),\"\")","v":""},null,null,"","","",null,{"$f":"IF(J116=\"\",\"\",INDEX(REFERENTES!$V:$W,MATCH(J116,REFERENTES!$W:$W,0),1))","v":""},{"$f":"IF(E116=\"\",\"\",IF(O116=O115,\"\",CONCATENATE(B116,A116,DIGITADOR!$M$1,C116)))","v":""},null,{"$f":"IF(M116=\"\",\"\",INDEX(REFERENTES!$AB:$AC,MATCH(M116,REFERENTES!$AC:$AC,0),1))","v":""},"",null,112,"",null,null,null,null,null,null,null,null,null,null,null,null,null,null,null,null,null,null,null,null,{"$f":"IF(AL116<>\"\",VLOOKUP(AL116,#REF!,2,FALSE),\"\")","v":""},null,null,null,{"$f":"IF(AP116<>\"\",VLOOKUP(AP116,#REF!,2,TRUE),\"\")","v":""},null,{"$f":"IF(AR116<>\"\",VLOOKUP(AR116,#REF!,2,FALSE),\"\")","v":""},null,null,null,{"$f":"IF(AT116=\"\",\"\",INDEX(REFERENTES!$A:$B,MATCH(AT116,REFERENTES!$A:$A,0),2))","v":""},null,{"$f":"IF(AX116=\"\",\"\",INDEX(REFERENTES!M:O,MATCH(AX116,REFERENTES!M:M,0),3))","v":""}]
["30001212000000",{"$f":"DIGITADOR!$B$2","v":""},0,{"$f":"IF(E117<>\"\",CONCATENATE(B117,A117,DIGITADOR!$M$1,C117),\"\")","v":""},null,null,"","","",null,{"$f":"IF(J117=\"\",\"\",INDEX(REFERENTES!$V:$W,MATCH(J117,REFERENTES!$W:$W,0),1))","v":""},{"$f":"IF(E117=\"\",\"\",IF(O117=O116,\"\",CONCATENATE(B117,A117,DIGITADOR!$M$1,C117)))","v":""},null,{"$f":"IF(M117=\"\",\"\",INDEX(REFERENTES!$AB:$AC,MATCH(M117,REFERENTES!$AC:$AC,0),1))","v":""},"",null,113,"",null,null,null,null,null,null,null,null,null,null,null,null,null,null,null,null,null,null,null,null,{"$f":"IF(AL117<>\"\",VLOOKUP(AL117,#REF!,2,FALSE),\"\")","v":""},null,null,null,{"$f":"IF(AP117<>\"\",VLOOKUP(AP117,#REF!,2,TRUE),\"\")","v":""},null,{"$f":"IF(AR117<>\"\",VLOOKUP(AR117,#REF!,2,FALSE),\"\")","v":""},null,null,null,{"$f":"IF(AT117=\"\",\"\",INDEX(REFERENTES!$A:$B,MATCH(AT117,REFERENTES!$A:$A,0),2))","v":""},null,{"$f":"IF(AX117=\"\",\"\",INDEX(REFERENTES!M:O,MATCH(AX117,REFERENTES!M:M,0),3))","v":""}]
["30001212000000",{"$f":"DIGITADOR!$B$2","v":""},0,{"$f":"IF(E118<>\"\",CONCATENATE(B118,A118,DIGITADOR!$M$1,C118),\"\")","v":""},null,null,"","","",null,{"$f":"IF(J118=\"\",\"\",INDEX(REFERENTES!$V:$W,MATCH(J118,REFERENTES!$W:$W,0),1))","v":""},{"$f":"IF(E118=\"\",\"\",IF(O118=O117,\"\",CONCATENATE(B118,A118,DIGITADOR!$M$1,C118)))","v":""},null,{"$f":"IF(M118=\"\",\"\",INDEX(REFERENTES!$AB:$AC,MATCH(M118,REFERENTES!$AC:$AC,0),1))","v":""},"",null,114,"",null,null,null,null,null,null,null,null,null,null,null,null,null,null,null,null,null,null,null,null,{"$f":"IF(AL118<>\"\",VLOOKUP(AL118,#REF!,2,FALSE),\"\")","v":""},null,null,null,{"$f":"IF(AP118<>\"\",VLOOKUP(AP118,#REF!,2,TRUE),\"\")","v":""},null,{"$f":"IF(AR118<>\"\",VLOOKUP(AR118,#REF!,2,FALSE),\"\")","v":""},null,null,null,{"$f":"IF(AT118=\"\",\"\",INDEX(REFERENTES!$A:$B,MATCH(AT118,REFERENTES!$A:$A,0),2))","v":""},null,{"$f":"IF(AX118=\"\",\"\",INDEX(REFERENTES!M:O,MATCH(AX118,REFERENTES!M:M,0),3))","v":""}]
["30001212000000",{"$f":"DIGITADOR!$B$2","v":""},0,{"$f":"IF(E119<>\"\",CONCATENATE(B119,A119,DIGITADOR!$M$1,C119),\"\")","v":""},null,null,"","","",null,{"$f":"IF(J119=\"\",\"\",INDEX(REFERENTES!$V:$W,MATCH(J119,REFERENTES!$W:$W,0),1))","v":""},{"$f":"IF(E119=\"\",\"\",IF(O119=O118,\"\",CONCATENATE(B119,A119,DIGITADOR!$M$1,C119)))","v":""},null,{"$f":"IF(M119=\"\",\"\",INDEX(REFERENTES!$AB:$AC,MATCH(M119,REFERENTES!$AC:$AC,0),1))","v":""},"",null,115,"",null,null,null,null,null,null,null,null,null,null,null,null,null,null,null,null,null,null,null,null,{"$f":"IF(AL119<>\"\",VLOOKUP(AL119,#REF!,2,FALSE),\"\")","v":""},null,null,null,{"$f":"IF(AP119<>\"\",VLOOKUP(AP119,#REF!,2,TRUE),\"\")","v":""},null,{"$f":"IF(AR119<>\"\",VLOOKUP(AR119,#REF!,2,FALSE),\"\")","v":""},null,null,null,{"$f":"IF(AT119=\"\",\"\",INDEX(REFERENTES!$A:$B,MATCH(AT119,REFERENTES!$A:$A,0),2))","v":""},null,{"$f":"IF(AX119=\"\",\"\",INDEX(REFERENTES!M:O,MATCH(AX119,REFERENTES!M:M,0),3))","v":""}]
["30001212000000",{"$f":"DIGITADOR!$B$2","v":""},0,{"$f":"IF(E120<>\"\",CONCATENATE(B120,A120,DIGITADOR!$M$1,C120),\"\")","v":""},null,null,"","","",null,{"$f":"IF(J120=\"\",\"\",INDEX(REFERENTES!$V:$W,MATCH(J120,REFERENTES!$W:$W,0),1))","v":""},{"$f":"IF(E120=\"\",\"\",IF(O120=O119,\"\",CONCATENATE(B120,A120,DIGITADOR!$M$1,C120)))","v":""},null,{"$f":"IF(M120=\"\",\"\",INDEX(REFERENTES!$AB:$AC,MATCH(M120,REFERENTES!$AC:$AC,0),1))","v":""},"",null,116,"",null,null,null,null,null,null,null,null,null,null,null,null,null,null,null,null,null,null,null,null,{"$f":"IF(AL120<>\"\",VLOOKUP(AL120,#REF!,2,FALSE),\"\")","v":""},null,null,null,{"$f":"IF(AP120<>\"\",VLOOKUP(AP120,#REF!,2,TRUE),\"\")","v":""},null,{"$f":"IF(AR120<>\"\",VLOOKUP(AR120,#REF!,2,FALSE),\"\")","v":""},null,null,null,{"$f":"IF(AT120=\"\",\"\",INDEX(REFERENTES!$A:$B,MATCH(AT120,REFERENTES!$A:$A,0),2))","v":""},null,{"$f":"IF(AX120=\"\",\"\",INDEX(REFERENTES!M:O,MATCH(AX120,REFERENTES!M:M,0),3))","v":""}]
["30001212000000",{"$f":"DIGITADOR!$B$2","v":""},0,{"$f":"IF(E121<>\"\",CONCATENATE(B121,A121,DIGITADOR!$M$1,C121),\"\")","v":""},null,null,"","","",null,{"$f":"IF(J121=\"\",\"\",INDEX(REFERENTES!$V:$W,MATCH(J121,REFERENTES!$W:$W,0),1))","v":""},{"$f":"IF(E121=\"\",\"\",IF(O121=O120,\"\",CONCATENATE(B121,A121,DIGITADOR!$M$1,C121)))","v":""},null,{"$f":"IF(M121=\"\",\"\",INDEX(REFERENTES!$AB:$AC,MATCH(M121,REFERENTES!$AC:$AC,0),1))","v":""},"",null,117,"",null,null,null,null,null,null,null,null,null,null,null,null,null,null,null,null,null,null,null,null,{"$f":"IF(AL121<>\"\",VLOOKUP(AL121,#REF!,2,FALSE),\"\")","v":""},null,null,null,{"$f":"IF(AP121<>\"\",VLOOKUP(AP121,#REF!,2,TRUE),\"\")","v":""},null,{"$f":"IF(AR121<>\"\",VLOOKUP(AR121,#REF!,2,FALSE),\"\")","v":""},null,null,null,{"$f":"IF(AT121=\"\",\"\",INDEX(REFERENTES!$A:$B,MATCH(AT121,REFERENTES!$A:$A,0),2))","v":""},null,{"$f":"IF(AX121=\"\",\"\",INDEX(REFERENTES!M:O,MATCH(AX121,REFERENTES!M:M,0),3))","v":""}]
["30001212000000",{"$f":"DIGITADOR!$B$2","v":""},0,{"$f":"IF(E122<>\"\",CONCATENATE(B122,A122,DIGITADOR!$M$1,C122),\"\")","v":""},null,null,"","","",null,{"$f":"IF(J122=\"\",\"\",INDEX(REFERENTES!$V:$W,MATCH(J122,REFERENTES!$W:$W,0),1))","v":""},{"$f":"IF(E122=\"\",\"\",IF(O122=O121,\"\",CONCATENATE(B122,A122,DIGITADOR!$M$1,C122)))","v":""},null,{"$f":"IF(M122=\"\",\"\",INDEX(REFERENTES!$AB:$AC,MATCH(M122,REFERENTES!$AC:$AC,0),1))","v":""},"",null,118,"",null,null,null,null,null,null,null,null,null,null,null,null,null,null,null,null,null,null,null,null,{"$f":"IF(AL122<>\"\",VLOOKUP(AL122,#REF!,2,FALSE),\"\")","v":""},null,null,null,{"$f":"IF(AP122<>\"\",VLOOKUP(AP122,#REF!,2,TRUE),\"\")","v":""},null,{"$f":"IF(AR122<>\"\",VLOOKUP(AR122,#REF!,2,FALSE),\"\")","v":""},null,null,null,{"$f":"IF(AT122=\"\",\"\",INDEX(REFERENTES!$A:$B,MATCH(AT122,REFERENTES!$A:$A,0),2))","v":""},null,{"$f":"IF(AX122=\"\",\"\",INDEX(REFERENTES!M:O,MATCH(AX122,REFERENTES!M:M,0),3))","v":""}]
["30001212000000",{"$f":"DIGITADOR!$B$2","v":""},0,{"$f":"IF(E123<>\"\",CONCATENATE(B123,A123,DIGITADOR!$M$1,C123),\"\")","v":""},null,null,"","","",null,{"$f":"IF(J123=\"\",\"\",INDEX(REFERENTES!$V:$W,MATCH(J123,REFERENTES!$W:$W,0),1))","v":""},{"$f":"IF(E123=\"\",\"\",IF(O123=O122,\"\",CONCATENATE(B123,A123,DIGITADOR!$M$1,C123)))","v":""},null,{"$f":"IF(M123=\"\",\"\",INDEX(REFERENTES!$AB:$AC,MATCH(M123,REFERENTES!$AC:$AC,0),1))","v":""},"",null,119,"",null,null,null,null,null,null,null,null,null,null,null,null,null,null,null,null,null,null,null,null,{"$f":"IF(AL123<>\"\",VLOOKUP(AL123,#REF!,2,FALSE),\"\")","v":""},null,null,null,{"$f":"IF(AP123<>\"\",VLOOKUP(AP123,#REF!,2,TRUE),\"\")","v":""},null,{"$f":"IF(AR123<>\"\",VLOOKUP(AR123,#REF!,2,FALSE),\"\")","v":""},null,null,null,{"$f":"IF(AT123=\"\",\"\",INDEX(REFERENTES!$A:$B,MATCH(AT123,REFERENTES!$A:$A,0),2))","v":""},null,{"$f":"IF(AX123=\"\",\"\",INDEX(REFERENTES!M:O,MATCH(AX123,REFERENTES!M:M,0),3))","v":""}]
["30001212000000",{"$f":"DIGITADOR!$B$2","v":""},0,{"$f":"IF(E124<>\"\",CONCATENATE(B124,A124,DIGITADOR!$M$1,C124),\"\")","v":""},null,null,"","","",null,{"$f":"IF(J124=\"\",\"\",INDEX(REFERENTES!$V:$W,MATCH(J124,REFERENTES!$W:$W,0),1))","v":""},{"$f":"IF(E124=\"\",\"\",IF(O124=O123,\"\",CONCATENATE(B124,A124,DIGITADOR!$M$1,C124)))","v":""},null,{"$f":"IF(M124=\"\",\"\",INDEX(REFERENTES!$AB:$AC,MATCH(M124,REFERENTES!$AC:$AC,0),1))","v":""},"",null,120,"",null,null,null,null,null,null,null,null,null,null,null,null,null,null,null,null,null,null,null,null,{"$f":"IF(AL124<>\"\",VLOOKUP(AL124,#REF!,2,FALSE),\"\")","v":""},null,null,null,{"$f":"IF(AP124<>\"\",VLOOKUP(AP124,#REF!,2,TRUE),\"\")","v":""},null,{"$f":"IF(AR124<>\"\",VLOOKUP(AR124,#REF!,2,FALSE),\"\")","v":""},null,null,null,{"$f":"IF(AT124=\"\",\"\",INDEX(REFERENTES!$A:$B,MATCH(AT124,REFERENTES!$A:$A,0),2))","v":""},null,{"$f":"IF(AX124=\"\",\"\",INDEX(REFERENTES!M:O,MATCH(AX124,REFERENTES!M:M,0),3))","v":""}]
["30001212000000",{"$f":"DIGITADOR!$B$2","v":""},0,{"$f":"IF(E125<>\"\",CONCATENATE(B125,A125,DIGITADOR!$M$1,C125),\"\")","v":""},null,null,"","","",null,{"$f":"IF(J125=\"\",\"\",INDEX(REFERENTES!$V:$W,MATCH(J125,REFERENTES!$W:$W,0),1))","v":""},{"$f":"IF(E125=\"\",\"\",IF(O125=O124,\"\",CONCATENATE(B125,A125,DIGITADOR!$M$1,C125)))","v":""},null,{"$f":"IF(M125=\"\",\"\",INDEX(REFERENTES!$AB:$AC,MATCH(M125,REFERENTES!$AC:$AC,0),1))","v":""},"",null,121,"",null,null,null,null,null,null,null,null,null,null,null,null,null,null,null,null,null,null,null,null,{"$f":"IF(AL125<>\"\",VLOOKUP(AL125,#REF!,2,FALSE),\"\")","v":""},null,null,null,{"$f":"IF(AP125<>\"\",VLOOKUP(AP125,#REF!,2,TRUE),\"\")","v":""},null,{"$f":"IF(AR125<>\"\",VLOOKUP(AR125,#REF!,2,FALSE),\"\")","v":""},null,null,null,{"$f":"IF(AT125=\"\",\"\",INDEX(REFERENTES!$A:$B,MATCH(AT125,REFERENTES!$A:$A,0),2))","v":""},null,{"$f":"IF(AX125=\"\",\"\",INDEX(REFERENTES!M:O,MATCH(AX125,REFERENTES!M:M,0),3))","v":""}]
["30001212000000",{"$f":"DIGITADOR!$B$2","v":""},0,{"$f":"IF(E126<>\"\",CONCATENATE(B126,A126,DIGITADOR!$M$1,C126),\"\")","v":""},null,null,"","","",null,{"$f":"IF(J126=\"\",\"\",INDEX(REFERENTES!$V:$W,MATCH(J126,REFERENTES!$W:$W,0),1))","v":""},{"$f":"IF(E126=\"\",\"\",IF(O126=O125,\"\",CONCATENATE(B126,A126,DIGITADOR!$M$1,C126)))","v":""},null,{"$f":"IF(M126=\"\",\"\",INDEX(REFERENTES!$AB:$AC,MATCH(M126,REFERENTES!$AC:$AC,0),1))","v":""},"",null,122,"",null,null,null,null,null,null,null,null,null,null,null,null,null,null,null,null,null,null,null,null,{"$f":"IF(AL126<>\"\",VLOOKUP(AL126,#REF!,2,FALSE),\"\")","v":""},null,null,null,{"$f":"IF(AP126<>\"\",VLOOKUP(AP126,#REF!,2,TRUE),\"\")","v":""},null,{"$f":"IF(AR126<>\"\",VLOOKUP(AR126,#REF!,2,FALSE),\"\")","v":""},null,null,null,{"$f":"IF(AT126=\"\",\"\",INDEX(REFERENTES!$A:$B,MATCH(AT126,REFERENTES!$A:$A,0),2))","v":""},null,{"$f":"IF(AX126=\"\",\"\",INDEX(REFERENTES!M:O,MATCH(AX126,REFERENTES!M:M,0),3))","v":""}]
["30001212000000",{"$f":"DIGITADOR!$B$2","v":""},0,{"$f":"IF(E127<>\"\",CONCATENATE(B127,A127,DIGITADOR!$M$1,C127),\"\")","v":""},null,null,"","","",null,{"$f":"IF(J127=\"\",\"\",INDEX(REFERENTES!$V:$W,MATCH(J127,REFERENTES!$W:$W,0),1))","v":""},{"$f":"IF(E127=\"\",\"\",IF(O127=O126,\"\",CONCATENATE(B127,A127,DIGITADOR!$M$1,C127)))","v":""},null,{"$f":"IF(M127=\"\",\"\",INDEX(REFERENTES!$AB:$AC,MATCH(M127,REFERENTES!$AC:$AC,0),1))","v":""},"",null,123,"",null,null,null,null,null,null,null,null,null,null,null,null,null,null,null,null,null,null,null,null,{"$f":"IF(AL127<>\"\",VLOOKUP(AL127,#REF!,2,FALSE),\"\")","v":""},null,null,null,{"$f":"IF(AP127<>\"\",VLOOKUP(AP127,#REF!,2,TRUE),\"\")","v":""},null,{"$f":"IF(AR127<>\"\",VLOOKUP(AR127,#REF!,2,FALSE),\"\")","v":""},null,null,null,{"$f":"IF(AT127=\"\",\"\",INDEX(REFERENTES!$A:$B,MATCH(AT127,REFERENTES!$A:$A,0),2))","v":""},null,{"$f":"IF(AX127=\"\",\"\",INDEX(REFERENTES!M:O,MATCH(AX127,REFERENTES!M:M,0),3))","v":""}]
["30001212000000",{"$f":"DIGITADOR!$B$2","v":""},0,{"$f":"IF(E128<>\"\",CONCATENATE(B128,A128,DIGITADOR!$M$1,C128),\"\")","v":""},null,null,"","","",null,{"$f":"IF(J128=\"\",\"\",INDEX(REFERENTES!$V:$W,MATCH(J128,REFERENTES!$W:$W,0),1))","v":""},{"$f":"IF(E128=\"\",\"\",IF(O128=O127,\"\",CONCATENATE(B128,A128,DIGITADOR!$M$1,C128)))","v":""},null,{"$f":"IF(M128=\"\",\"\",INDEX(REFERENTES!$AB:$AC,MATCH(M128,REFERENTES!$AC:$AC,0),1))","v":""},"",null,124,"",null,null,null,null,null,null,null,null,null,null,null,null,null,null,null,null,null,null,null,null,{"$f":"IF(AL128<>\"\",VLOOKUP(AL128,#REF!,2,FALSE),\"\")","v":""},null,null,null,{"$f":"IF(AP128<>\"\",VLOOKUP(AP128,#REF!,2,TRUE),\"\")","v":""},null,{"$f":"IF(AR128<>\"\",VLOOKUP(AR128,#REF!,2,FALSE),\"\")","v":""},null,null,null,{"$f":"IF(AT128=\"\",\"\",INDEX(REFERENTES!$A:$B,MATCH(AT128,REFERENTES!$A:$A,0),2))","v":""},null,{"$f":"IF(AX128=\"\",\"\",INDEX(REFERENTES!M:O,MATCH(AX128,REFERENTES!M:M,0),3))","v":""}]
["30001212000000",{"$f":"DIGITADOR!$B$2","v":""},0,{"$f":"IF(E129<>\"\",CONCATENATE(B129,A129,DIGITADOR!$M$1,C129),\"\")","v":""},null,null,"","","",null,{"$f":"IF(J129=\"\",\"\",INDEX(REFERENTES!$V:$W,MATCH(J129,REFERENTES!$W:$W,0),1))","v":""},{"$f":"IF(E129=\"\",\"\",IF(O129=O128,\"\",CONCATENATE(B129,A129,DIGITADOR!$M$1,C129)))","v":""},null,{"$f":"IF(M129=\"\",\"\",INDEX(REFERENTES!$AB:$AC,MATCH(M129,REFERENTES!$AC:$AC,0),1))","v":""},"",null,125,"",null,null,null,null,null,null,null,null,null,null,null,null,null,null,null,null,null,null,null,null,{"$f":"IF(AL129<>\"\",VLOOKUP(AL129,#REF!,2,FALSE),\"\")","v":""},null,null,null,{"$f":"IF(AP129<>\"\",VLOOKUP(AP129,#REF!,2,TRUE),\"\")","v":""},null,{"$f":"IF(AR129<>\"\",VLOOKUP(AR129,#REF!,2,FALSE),\"\")","v":""},null,null,null,{"$f":"IF(AT129=\"\",\"\",INDEX(REFERENTES!$A:$B,MATCH(AT129,REFERENTES!$A:$A,0),2))","v":""},null,{"$f":"IF(AX129=\"\",\"\",INDEX(REFERENTES!M:O,MATCH(AX129,REFERENTES!M:M,0),3))","v":""}]
["30001212000000",{"$f":"DIGITADOR!$B$2","v":""},0,{"$f":"IF(E130<>\"\",CONCATENATE(B130,A130,DIGITADOR!$M$1,C130),\"\")","v":""},null,null,"","","",null,{"$f":"IF(J130=\"\",\"\",INDEX(REFERENTES!$V:$W,MATCH(J130,REFERENTES!$W:$W,0),1))","v":""},{"$f":"IF(E130=\"\",\"\",IF(O130=O129,\"\",CONCATENATE(B130,A130,DIGITADOR!$M$1,C130)))","v":""},null,{"$f":"IF(M130=\"\",\"\",INDEX(REFERENTES!$AB:$AC,MATCH(M130,REFERENTES!$AC:$AC,0),1))","v":""},"",null,126,"",null,null,null,null,null,null,null,null,null,null,null,null,null,null,null,null,null,null,null,null,{"$f":"IF(AL130<>\"\",VLOOKUP(AL130,#REF!,2,FALSE),\"\")","v":""},null,null,null,{"$f":"IF(AP130<>\"\",VLOOKUP(AP130,#REF!,2,TRUE),\"\")","v":""},null,{"$f":"IF(AR130<>\"\",VLOOKUP(AR130,#REF!,2,FALSE),\"\")","v":""},null,null,null,{"$f":"IF(AT130=\"\",\"\",INDEX(REFERENTES!$A:$B,MATCH(AT130,REFERENTES!$A:$A,0),2))","v":""},null,{"$f":"IF(AX130=\"\",\"\",INDEX(REFERENTES!M:O,MATCH(AX130,REFERENTES!M:M,0),3))","v":""}]
["30001212000000",{"$f":"DIGITADOR!$B$2","v":""},0,{"$f":"IF(E131<>\"\",CONCATENATE(B131,A131,DIGITADOR!$M$1,C131),\"\")","v":""},null,null,"","","",null,{"$f":"IF(J131=\"\",\"\",INDEX(REFERENTES!$V:$W,MATCH(J131,REFERENTES!$W:$W,0),1))","v":""},{"$f":"IF(E131=\"\",\"\",IF(O131=O130,\"\",CONCATENATE(B131,A131,DIGITADOR!$M$1,C131)))","v":""},null,{"$f":"IF(M131=\"\",\"\",INDEX(REFERENTES!$AB:$AC,MATCH(M131,REFERENTES!$AC:$AC,0),1))","v":""},"",null,127,"",null,null,null,null,null,null,null,null,null,null,null,null,null,null,null,null,null,null,null,null,{"$f":"IF(AL131<>\"\",VLOOKUP(AL131,#REF!,2,FALSE),\"\")","v":""},null,null,null,{"$f":"IF(AP131<>\"\",VLOOKUP(AP131,#REF!,2,TRUE),\"\")","v":""},null,{"$f":"IF(AR131<>\"\",VLOOKUP(AR131,#REF!,2,FALSE),\"\")","v":""},null,null,null,{"$f":"IF(AT131=\"\",\"\",INDEX(REFERENTES!$A:$B,MATCH(AT131,REFERENTES!$A:$A,0),2))","v":""},null,{"$f":"IF(AX131=\"\",\"\",INDEX(REFERENTES!M:O,MATCH(AX131,REFERENTES!M:M,0),3))","v":""}]
["30001212000000",{"$f":"DIGITADOR!$B$2","v":""},0,{"$f":"IF(E132<>\"\",CONCATENATE(B132,A132,DIGITADOR!$M$1,C132),\"\")","v":""},null,null,"","","",null,{"$f":"IF(J132=\"\",\"\",INDEX(REFERENTES!$V:$W,MATCH(J132,REFERENTES!$W:$W,0),1))","v":""},{"$f":"IF(E132=\"\",\"\",IF(O132=O131,\"\",CONCATENATE(B132,A132,DIGITADOR!$M$1,C132)))","v":""},null,{"$f":"IF(M132=\"\",\"\",INDEX(REFERENTES!$AB:$AC,MATCH(M132,REFERENTES!$AC:$AC,0),1))","v":""},"",null,128,"",null,null,null,null,null,null,null,null,null,null,null,null,null,null,null,null,null,null,null,null,{"$f":"IF(AL132<>\"\",VLOOKUP(AL132,#REF!,2,FALSE),\"\")","v":""},null,null,null,{"$f":"IF(AP132<>\"\",VLOOKUP(AP132,#REF!,2,TRUE),\"\")","v":""},null,{"$f":"IF(AR132<>\"\",VLOOKUP(AR132,#REF!,2,FALSE),\"\")","v":""},null,null,null,{"$f":"IF(AT132=\"\",\"\",INDEX(REFERENTES!$A:$B,MATCH(AT132,REFERENTES!$A:$A,0),2))","v":""},null,{"$f":"IF(AX132=\"\",\"\",INDEX(REFERENTES!M:O,MATCH(AX132,REFERENTES!M:M,0),3))","v":""}]
["30001212000000",{"$f":"DIGITADOR!$B$2","v":""},{"$f":"IF(O133=O132,C132,C132+1)","v":0},{"$f":"IF(E133<>\"\",CONCATENATE(B133,A133,DIGITADOR!$M$1,C133),\"\")","v":""},null,null,"","","",null,{"$f":"IF(J133=\"\",\"\",INDEX(REFERENTES!$V:$W,MATCH(J133,REFERENTES!$W:$W,0),1))","v":""},{"$f":"IF(E133=\"\",\"\",IF(O133=O132,\"\",CONCATENATE(B133,A133,DIGITADOR!$M$1,C133)))","v":""},null,{"$f":"IF(M133=\"\",\"\",INDEX(REFERENTES!$AB:$AC,MATCH(M133,REFERENTES!$AC:$AC,0),1))","v":""},"",null,129,"",null,null,null,null,null,null,null,null,null,null,null,null,null,null,null,null,null,null,null,null,{"$f":"IF(AL133<>\"\",VLOOKUP(AL133,#REF!,2,FALSE),\"\")","v":""},null,null,null,{"$f":"IF(AP133<>\"\",VLOOKUP(AP133,#REF!,2,TRUE),\"\")","v":""},null,{"$f":"IF(AR133<>\"\",VLOOKUP(AR133,#REF!,2,FALSE),\"\")","v":""},null,null,null,{"$f":"IF(AT133=\"\",\"\",INDEX(REFERENTES!$A:$B,MATCH(AT133,REFERENTES!$A:$A,0),2))","v":""},null,{"$f":"IF(AX133=\"\",\"\",INDEX(REFERENTES!M:O,MATCH(AX133,REFERENTES!M:M,0),3))","v":""}]
[{"$f":"A133","v":"30001212000000"},{"$f":"DIGITADOR!$B$2","v":""},0,{"$f":"IF(E134<>\"\",CONCATENATE(B134,A134,DIGITADOR!$M$1,C134),\"\")","v":""},null,null,{"$f":"IF(E134=\"\",\"\",E134+F134)","v":""},"",{"$f":"IF(M134=\"\",\"\",1)","v":""},null,{"$f":"IF(J134=\"\",\"\",INDEX(REFERENTES!$V:$W,MATCH(J134,REFERENTES!$W:$W,0),1))","v":""},{"$f":"IF(E134=\"\",\"\",IF(O134=O133,\"\",CONCATENATE(B134,A134,DIGITADOR!$M$1,C134)))","v":""},null,{"$f":"IF(M134=\"\",\"\",INDEX(REFERENTES!$AB:$AC,MATCH(M134,REFERENTES!$AC:$AC,0),1))","v":""},{"$f":"IF(M134=\"\",\"\",CONCATENATE(G134,K134,N134,1))","v":""},null,130,{"$f":"IF(D134=\"\",\"\",CONCATENATE(D134,Q134))","v":""},null,null,null,null,null,null,null,null,null,null,null,null,null,null,null,null,null,null,null,null,{"$f":"IF(AL134<>\"\",VLOOKUP(AL134,#REF!,2,FALSE),\"\")","v":""},null,null,null,{"$f":"IF(AP134<>\"\",VLOOKUP(AP134,#REF!,2,TRUE),\"\")","v":""},null,{"$f":"IF(AR134<>\"\",VLOOKUP(AR134,#REF!,2,FALSE),\"\")","v":""},null,null,null,{"$f":"IF(AT134=\"\",\"\",INDEX(REFERENTES!$A:$B,MATCH(AT134,REFERENTES!$A:$A,0),2))","v":""},null,{"$f":"IF(AX134=\"\",\"\",INDEX(REFERENTES!M:O,MATCH(AX134,REFERENTES!M:M,0),3))","v":""}]
["30001212000000",{"$f":"DIGITADOR!$B$2","v":""},0,{"$f":"IF(E135<>\"\",CONCATENATE(B135,A135,DIGITADOR!$M$1,C135),\"\")","v":""},null,null,"","","",null,{"$f":"IF(J135=\"\",\"\",INDEX(REFERENTES!$V:$W,MATCH(J135,REFERENTES!$W:$W,0),1))","v":""},{"$f":"IF(E135=\"\",\"\",IF(O135=O134,\"\",CONCATENATE(B135,A135,DIGITADOR!$M$1,C135)))","v":""},null,{"$f":"IF(M135=\"\",\"\",INDEX(REFERENTES!$AB:$AC,MATCH(M135,REFERENTES!$AC:$AC,0),1))","v":""},"",null,131,"",null,null,null,null,null,null,null,null,null,null,null,null,null,null,null,null,null,null,null,null,{"$f":"IF(AL135<>\"\",VLOOKUP(AL135,#REF!,2,FALSE),\"\")","v":""},null,null,null,{"$f":"IF(AP135<>\"\",VLOOKUP(AP135,#REF!,2,TRUE),\"\")","v":""},null,{"$f":"IF(AR135<>\"\",VLOOKUP(AR135,#REF!,2,FALSE),\"\")","v":""},null,null,null,{"$f":"IF(AT135=\"\",\"\",INDEX(REFERENTES!$A:$B,MATCH(AT135,REFERENTES!$A:$A,0),2))","v":""},null,{"$f":"IF(AX135=\"\",\"\",INDEX(REFERENTES!M:O,MATCH(AX135,REFERENTES!M:M,0),3))","v":""}]
["30001212000000",{"$f":"DIGITADOR!$B$2","v":""},0,{"$f":"IF(E136<>\"\",CONCATENATE(B136,A136,DIGITADOR!$M$1,C136),\"\")","v":""},null,null,"","","",null,{"$f":"IF(J136=\"\",\"\",INDEX(REFERENTES!$V:$W,MATCH(J136,REFERENTES!$W:$W,0),1))","v":""},{"$f":"IF(E136=\"\",\"\",IF(O136=O135,\"\",CONCATENATE(B136,A136,DIGITADOR!$M$1,C136)))","v":""},null,{"$f":"IF(M136=\"\",\"\",INDEX(REFERENTES!$AB:$AC,MATCH(M136,REFERENTES!$AC:$AC,0),1))","v":""},"",null,132,"",null,null,null,null,null,null,null,null,null,null,null,null,null,null,null,null,null,null,null,null,{"$f":"IF(AL136<>\"\",VLOOKUP(AL136,#REF!,2,FALSE),\"\")","v":""},null,null,null,{"$f":"IF(AP136<>\"\",VLOOKUP(AP136,#REF!,2,TRUE),\"\")","v":""},null,{"$f":"IF(AR136<>\"\",VLOOKUP(AR136,#REF!,2,FALSE),\"\")","v":""},null,null,null,{"$f":"IF(AT136=\"\",\"\",INDEX(REFERENTES!$A:$B,MATCH(AT136,REFERENTES!$A:$A,0),2))","v":""},null,{"$f":"IF(AX136=\"\",\"\",INDEX(REFERENTES!M:O,MATCH(AX136,REFERENTES!M:M,0),3))","v":""}]
["30001212000000",{"$f":"DIGITADOR!$B$2","v":""},0,{"$f":"IF(E137<>\"\",CONCATENATE(B137,A137,DIGITADOR!$M$1,C137),\"\")","v":""},null,null,"","","",null,{"$f":"IF(J137=\"\",\"\",INDEX(REFERENTES!$V:$W,MATCH(J137,REFERENTES!$W:$W,0),1))","v":""},{"$f":"IF(E137=\"\",\"\",IF(O137=O136,\"\",CONCATENATE(B137,A137,DIGITADOR!$M$1,C137)))","v":""},null,{"$f":"IF(M137=\"\",\"\",INDEX(REFERENTES!$AB:$AC,MATCH(M137,REFERENTES!$AC:$AC,0),1))","v":""},"",null,133,"",null,null,null,null,null,null,null,null,null,null,null,null,null,null,null,null,null,null,null,null,{"$f":"IF(AL137<>\"\",VLOOKUP(AL137,#REF!,2,FALSE),\"\")","v":""},null,null,null,{"$f":"IF(AP137<>\"\",VLOOKUP(AP137,#REF!,2,TRUE),\"\")","v":""},null,{"$f":"IF(AR137<>\"\",VLOOKUP(AR137,#REF!,2,FALSE),\"\")","v":""},null,null,null,{"$f":"IF(AT137=\"\",\"\",INDEX(REFERENTES!$A:$B,MATCH(AT137,REFERENTES!$A:$A,0),2))","v":""},null,{"$f":"IF(AX137=\"\",\"\",INDEX(REFERENTES!M:O,MATCH(AX137,REFERENTES!M:M,0),3))","v":""}]
["30001212000000",{"$f":"DIGITADOR!$B$2","v":""},0,{"$f":"IF(E138<>\"\",CONCATENATE(B138,A138,DIGITADOR!$M$1,C138),\"\")","v":""},null,null,"","","",null,{"$f":"IF(J138=\"\",\"\",INDEX(REFERENTES!$V:$W,MATCH(J138,REFERENTES!$W:$W,0),1))","v":""},{"$f":"IF(E138=\"\",\"\",IF(O138=O137,\"\",CONCATENATE(B138,A138,DIGITADOR!$M$1,C138)))","v":""},null,{"$f":"IF(M138=\"\",\"\",INDEX(REFERENTES!$AB:$AC,MATCH(M138,REFERENTES!$AC:$AC,0),1))","v":""},"",null,134,"",null,null,null,null,null,null,null,null,null,null,null,null,null,null,null,null,null,null,null,null,{"$f":"IF(AL138<>\"\",VLOOKUP(AL138,#REF!,2,FALSE),\"\")","v":""},null,null,null,{"$f":"IF(AP138<>\"\",VLOOKUP(AP138,#REF!,2,TRUE),\"\")","v":""},null,{"$f":"IF(AR138<>\"\",VLOOKUP(AR138,#REF!,2,FALSE),\"\")","v":""},null,null,null,{"$f":"IF(AT138=\"\",\"\",INDEX(REFERENTES!$A:$B,MATCH(AT138,REFERENTES!$A:$A,0),2))","v":""},null,{"$f":"IF(AX138=\"\",\"\",INDEX(REFERENTES!M:O,MATCH(AX138,REFERENTES!M:M,0),3))","v":""}]
["30001212000000",{"$f":"DIGITADOR!$B$2","v":""},0,{"$f":"IF(E139<>\"\",CONCATENATE(B139,A139,DIGITADOR!$M$1,C139),\"\")","v":""},null,null,"","","",null,{"$f":"IF(J139=\"\",\"\",INDEX(REFERENTES!$V:$W,MATCH(J139,REFERENTES!$W:$W,0),1))","v":""},{"$f":"IF(E139=\"\",\"\",IF(O139=O138,\"\",CONCATENATE(B139,A139,DIGITADOR!$M$1,C139)))","v":""},null,{"$f":"IF(M139=\"\",\"\",INDEX(REFERENTES!$AB:$AC,MATCH(M139,REFERENTES!$AC:$AC,0),1))","v":""},"",null,135,"",null,null,null,null,null,null,null,null,null,null,null,null,null,null,null,null,null,null,null,null,{"$f":"IF(AL139<>\"\",VLOOKUP(AL139,#REF!,2,FALSE),\"\")","v":""},null,null,null,{"$f":"IF(AP139<>\"\",VLOOKUP(AP139,#REF!,2,TRUE),\"\")","v":""},null,{"$f":"IF(AR139<>\"\",VLOOKUP(AR139,#REF!,2,FALSE),\"\")","v":""},null,null,null,{"$f":"IF(AT139=\"\",\"\",INDEX(REFERENTES!$A:$B,MATCH(AT139,REFERENTES!$A:$A,0),2))","v":""},null,{"$f":"IF(AX139=\"\",\"\",INDEX(REFERENTES!M:O,MATCH(AX139,REFERENTES!M:M,0),3))","v":""}]
["30001212000000",{"$f":"DIGITADOR!$B$2","v":""},0,{"$f":"IF(E140<>\"\",CONCATENATE(B140,A140,DIGITADOR!$M$1,C140),\"\")","v":""},null,null,"","","",null,{"$f":"IF(J140=\"\",\"\",INDEX(REFERENTES!$V:$W,MATCH(J140,REFERENTES!$W:$W,0),1))","v":""},{"$f":"IF(E140=\"\",\"\",IF(O140=O139,\"\",CONCATENATE(B140,A140,DIGITADOR!$M$1,C140)))","v":""},null,{"$f":"IF(M140=\"\",\"\",INDEX(REFERENTES!$AB:$AC,MATCH(M140,REFERENTES!$AC:$AC,0),1))","v":""},"",null,136,"",null,null,null,null,null,null,null,null,null,null,null,null,null,null,null,null,null,null,null,null,{"$f":"IF(AL140<>\"\",VLOOKUP(AL140,#REF!,2,FALSE),\"\")","v":""},null,null,null,{"$f":"IF(AP140<>\"\",VLOOKUP(AP140,#REF!,2,TRUE),\"\")","v":""},null,{"$f":"IF(AR140<>\"\",VLOOKUP(AR140,#REF!,2,FALSE),\"\")","v":""},null,null,null,{"$f":"IF(AT140=\"\",\"\",INDEX(REFERENTES!$A:$B,MATCH(AT140,REFERENTES!$A:$A,0),2))","v":""},null,{"$f":"IF(AX140=\"\",\"\",INDEX(REFERENTES!M:O,MATCH(AX140,REFERENTES!M:M,0),3))","v":""}]
["30001212000000",{"$f":"DIGITADOR!$B$2","v":""},0,{"$f":"IF(E141<>\"\",CONCATENATE(B141,A141,DIGITADOR!$M$1,C141),\"\")","v":""},null,null,"","","",null,{"$f":"IF(J141=\"\",\"\",INDEX(REFERENTES!$V:$W,MATCH(J141,REFERENTES!$W:$W,0),1))","v":""},{"$f":"IF(E141=\"\",\"\",IF(O141=O140,\"\",CONCATENATE(B141,A141,DIGITADOR!$M$1,C141)))","v":""},null,{"$f":"IF(M141=\"\",\"\",INDEX(REFERENTES!$AB:$AC,MATCH(M141,REFERENTES!$AC:$AC,0),1))","v":""},"",null,137,"",null,null,null,null,null,null,null,null,null,null,null,null,null,null,null,null,null,null,null,null,{"$f":"IF(AL141<>\"\",VLOOKUP(AL141,#REF!,2,FALSE),\"\")","v":""},null,null,null,{"$f":"IF(AP141<>\"\",VLOOKUP(AP141,#REF!,2,TRUE),\"\")","v":""},null,{"$f":"IF(AR141<>\"\",VLOOKUP(AR141,#REF!,2,FALSE),\"\")","v":""},null,null,null,{"$f":"IF(AT141=\"\",\"\",INDEX(REFERENTES!$A:$B,MATCH(AT141,REFERENTES!$A:$A,0),2))","v":""},null,{"$f":"IF(AX141=\"\",\"\",INDEX(REFERENTES!M:O,MATCH(AX141,REFERENTES!M:M,0),3))","v":""}]
["30001212000000",{"$f":"DIGITADOR!$B$2","v":""},0,{"$f":"IF(E142<>\"\",CONCATENATE(B142,A142,DIGITADOR!$M$1,C142),\"\")","v":""},null,null,"","","",null,{"$f":"IF(J142=\"\",\"\",INDEX(REFERENTES!$V:$W,MATCH(J142,REFERENTES!$W:$W,0),1))","v":""},{"$f":"IF(E142=\"\",\"\",IF(O142=O141,\"\",CONCATENATE(B142,A142,DIGITADOR!$M$1,C142)))","v":""},null,{"$f":"IF(M142=\"\",\"\",INDEX(REFERENTES!$AB:$AC,MATCH(M142,REFERENTES!$AC:$AC,0),1))","v":""},"",null,138,"",null,null,null,null,null,null,null,null,null,null,null,null,null,null,null,null,null,null,null,null,{"$f":"IF(AL142<>\"\",VLOOKUP(AL142,#REF!,2,FALSE),\"\")","v":""},null,null,null,{"$f":"IF(AP142<>\"\",VLOOKUP(AP142,#REF!,2,TRUE),\"\")","v":""},null,{"$f":"IF(AR142<>\"\",VLOOKUP(AR142,#REF!,2,FALSE),\"\")","v":""},null,null,null,{"$f":"IF(AT142=\"\",\"\",INDEX(REFERENTES!$A:$B,MATCH(AT142,REFERENTES!$A:$A,0),2))","v":""},null,{"$f":"IF(AX142=\"\",\"\",INDEX(REFERENTES!M:O,MATCH(AX142,REFERENTES!M:M,0),3))","v":""}]
["30001212000000",{"$f":"DIGITADOR!$B$2","v":""},0,{"$f":"IF(E143<>\"\",CONCATENATE(B143,A143,DIGITADOR!$M$1,C143),\"\")","v":""},null,null,"","","",null,{"$f":"IF(J143=\"\",\"\",INDEX(REFERENTES!$V:$W,MATCH(J143,REFERENTES!$W:$W,0),1))","v":""},{"$f":"IF(E143=\"\",\"\",IF(O143=O142,\"\",CONCATENATE(B143,A143,DIGITADOR!$M$1,C143)))","v":""},null,{"$f":"IF(M143=\"\",\"\",INDEX(REFERENTES!$AB:$AC,MATCH(M143,REFERENTES!$AC:$AC,0),1))","v":""},"",null,139,"",null,null,null,null,null,null,null,null,null,null,null,null,null,null,null,null,null,null,null,null,{"$f":"IF(AL143<>\"\",VLOOKUP(AL143,#REF!,2,FALSE),\"\")","v":""},null,null,null,{"$f":"IF(AP143<>\"\",VLOOKUP(AP143,#REF!,2,TRUE),\"\")","v":""},null,{"$f":"IF(AR143<>\"\",VLOOKUP(AR143,#REF!,2,FALSE),\"\")","v":""},null,null,null,{"$f":"IF(AT143=\"\",\"\",INDEX(REFERENTES!$A:$B,MATCH(AT143,REFERENTES!$A:$A,0),2))","v":""},null,{"$f":"IF(AX143=\"\",\"\",INDEX(REFERENTES!M:O,MATCH(AX143,REFERENTES!M:M,0),3))","v":""}]
["30001212000000",{"$f":"DIGITADOR!$B$2","v":""},0,{"$f":"IF(E144<>\"\",CONCATENATE(B144,A144,DIGITADOR!$M$1,C144),\"\")","v":""},null,null,"","","",null,{"$f":"IF(J144=\"\",\"\",INDEX(REFERENTES!$V:$W,MATCH(J144,REFERENTES!$W:$W,0),1))","v":""},{"$f":"IF(E144=\"\",\"\",IF(O144=O143,\"\",CONCATENATE(B144,A144,DIGITADOR!$M$1,C144)))","v":""},null,{"$f":"IF(M144=\"\",\"\",INDEX(REFERENTES!$AB:$AC,MATCH(M144,REFERENTES!$AC:$AC,0),1))","v":""},"",null,140,"",null,null,null,null,null,null,null,null,null,null,null,null,null,null,null,null,null,null,null,null,{"$f":"IF(AL144<>\"\",VLOOKUP(AL144,#REF!,2,FALSE),\"\")","v":""},null,null,null,{"$f":"IF(AP144<>\"\",VLOOKUP(AP144,#REF!,2,TRUE),\"\")","v":""},null,{"$f":"IF(AR144<>\"\",VLOOKUP(AR144,#REF!,2,FALSE),\"\")","v":""},null,null,null,{"$f":"IF(AT144=\"\",\"\",INDEX(REFERENTES!$A:$B,MATCH(AT144,REFERENTES!$A:$A,0),2))","v":""},null,{"$f":"IF(AX144=\"\",\"\",INDEX(REFERENTES!M:O,MATCH(AX144,REFERENTES!M:M,0),3))","v":""}]
["30001212000000",{"$f":"DIGITADOR!$B$2","v":""},0,{"$f":"IF(E145<>\"\",CONCATENATE(B145,A145,DIGITADOR!$M$1,C145),\"\")","v":""},null,null,"","","",null,{"$f":"IF(J145=\"\",\"\",INDEX(REFERENTES!$V:$W,MATCH(J145,REFERENTES!$W:$W,0),1))","v":""},{"$f":"IF(E145=\"\",\"\",IF(O145=O144,\"\",CONCATENATE(B145,A145,DIGITADOR!$M$1,C145)))","v":""},null,{"$f":"IF(M145=\"\",\"\",INDEX(REFERENTES!$AB:$AC,MATCH(M145,REFERENTES!$AC:$AC,0),1))","v":""},"",null,141,"",null,null,null,null,null,null,null,null,null,null,null,null,null,null,null,null,null,null,null,null,{"$f":"IF(AL145<>\"\",VLOOKUP(AL145,#REF!,2,FALSE),\"\")","v":""},null,null,null,{"$f":"IF(AP145<>\"\",VLOOKUP(AP145,#REF!,2,TRUE),\"\")","v":""},null,{"$f":"IF(AR145<>\"\",VLOOKUP(AR145,#REF!,2,FALSE),\"\")","v":""},null,null,null,{"$f":"IF(AT145=\"\",\"\",INDEX(REFERENTES!$A:$B,MATCH(AT145,REFERENTES!$A:$A,0),2))","v":""},null,{"$f":"IF(AX145=\"\",\"\",INDEX(REFERENTES!M:O,MATCH(AX145,REFERENTES!M:M,0),3))","v":""}]
["30001212000000",{"$f":"DIGITADOR!$B$2","v":""},0,{"$f":"IF(E146<>\"\",CONCATENATE(B146,A146,DIGITADOR!$M$1,C146),\"\")","v":""},null,null,"","","",null,{"$f":"IF(J146=\"\",\"\",INDEX(REFERENTES!$V:$W,MATCH(J146,REFERENTES!$W:$W,0),1))","v":""},{"$f":"IF(E146=\"\",\"\",IF(O146=O145,\"\",CONCATENATE(B146,A146,DIGITADOR!$M$1,C146)))","v":""},null,{"$f":"IF(M146=\"\",\"\",INDEX(REFERENTES!$AB:$AC,MATCH(M146,REFERENTES!$AC:$AC,0),1))","v":""},"",null,142,"",null,null,null,null,null,null,null,null,null,null,null,null,null,null,null,null,null,null,null,null,{"$f":"IF(AL146<>\"\",VLOOKUP(AL146,#REF!,2,FALSE),\"\")","v":""},null,null,null,{"$f":"IF(AP146<>\"\",VLOOKUP(AP146,#REF!,2,TRUE),\"\")","v":""},null,{"$f":"IF(AR146<>\"\",VLOOKUP(AR146,#REF!,2,FALSE),\"\")","v":""},null,null,null,{"$f":"IF(AT146=\"\",\"\",INDEX(REFERENTES!$A:$B,MATCH(AT146,REFERENTES!$A:$A,0),2))","v":""},null,{"$f":"IF(AX146=\"\",\"\",INDEX(REFERENTES!M:O,MATCH(AX146,REFERENTES!M:M,0),3))","v":""}]
["30001212000000",{"$f":"DIGITADOR!$B$2","v":""},0,{"$f":"IF(E147<>\"\",CONCATENATE(B147,A147,DIGITADOR!$M$1,C147),\"\")","v":""},null,null,"","","",null,{"$f":"IF(J147=\"\",\"\",INDEX(REFERENTES!$V:$W,MATCH(J147,REFERENTES!$W:$W,0),1))","v":""},{"$f":"IF(E147=\"\",\"\",IF(O147=O146,\"\",CONCATENATE(B147,A147,DIGITADOR!$M$1,C147)))","v":""},null,{"$f":"IF(M147=\"\",\"\",INDEX(REFERENTES!$AB:$AC,MATCH(M147,REFERENTES!$AC:$AC,0),1))","v":""},"",null,143,"",null,null,null,null,null,null,null,null,null,null,null,null,null,null,null,null,null,null,null,null,{"$f":"IF(AL147<>\"\",VLOOKUP(AL147,#REF!,2,FALSE),\"\")","v":""},null,null,null,{"$f":"IF(AP147<>\"\",VLOOKUP(AP147,#REF!,2,TRUE),\"\")","v":""},null,{"$f":"IF(AR147<>\"\",VLOOKUP(AR147,#REF!,2,FALSE),\"\")","v":""},null,null,null,{"$f":"IF(AT147=\"\",\"\",INDEX(REFERENTES!$A:$B,MATCH(AT147,REFERENTES!$A:$A,0),2))","v":""},null,{"$f":"IF(AX147=\"\",\"\",INDEX(REFERENTES!M:O,MATCH(AX147,REFERENTES!M:M,0),3))","v":""}]
["30001212000000",{"$f":"DIGITADOR!$B$2","v":""},0,{"$f":"IF(E148<>\"\",CONCATENATE(B148,A148,DIGITADOR!$M$1,C148),\"\")","v":""},null,null,"","","",null,{"$f":"IF(J148=\"\",\"\",INDEX(REFERENTES!$V:$W,MATCH(J148,REFERENTES!$W:$W,0),1))","v":""},{"$f":"IF(E148=\"\",\"\",IF(O148=O147,\"\",CONCATENATE(B148,A148,DIGITADOR!$M$1,C148)))","v":""},null,{"$f":"IF(M148=\"\",\"\",INDEX(REFERENTES!$AB:$AC,MATCH(M148,REFERENTES!$AC:$AC,0),1))","v":""},"",null,144,"",null,null,null,null,null,null,null,null,null,null,null,null,null,null,null,null,null,null,null,null,{"$f":"IF(AL148<>\"\",VLOOKUP(AL148,#REF!,2,FALSE),\"\")","v":""},null,null,null,{"$f":"IF(AP148<>\"\",VLOOKUP(AP148,#REF!,2,TRUE),\"\")","v":""},null,{"$f":"IF(AR148<>\"\",VLOOKUP(AR148,#REF!,2,FALSE),\"\")","v":""},null,null,null,{"$f":"IF(AT148=\"\",\"\",INDEX(REFERENTES!$A:$B,MATCH(AT148,REFERENTES!$A:$A,0),2))","v":""},null,{"$f":"IF(AX148=\"\",\"\",INDEX(REFERENTES!M:O,MATCH(AX148,REFERENTES!M:M,0),3))","v":""}]
["30001212000000",{"$f":"DIGITADOR!$B$2","v":""},0,{"$f":"IF(E149<>\"\",CONCATENATE(B149,A149,DIGITADOR!$M$1,C149),\"\")","v":""},null,null,"","","",null,{"$f":"IF(J149=\"\",\"\",INDEX(REFERENTES!$V:$W,MATCH(J149,REFERENTES!$W:$W,0),1))","v":""},{"$f":"IF(E149=\"\",\"\",IF(O149=O148,\"\",CONCATENATE(B149,A149,DIGITADOR!$M$1,C149)))","v":""},null,{"$f":"IF(M149=\"\",\"\",INDEX(REFERENTES!$AB:$AC,MATCH(M149,REFERENTES!$AC:$AC,0),1))","v":""},"",null,145,"",null,null,null,null,null,null,null,null,null,null,null,null,null,null,null,null,null,null,null,null,{"$f":"IF(AL149<>\"\",VLOOKUP(AL149,#REF!,2,FALSE),\"\")","v":""},null,null,null,{"$f":"IF(AP149<>\"\",VLOOKUP(AP149,#REF!,2,TRUE),\"\")","v":""},null,{"$f":"IF(AR149<>\"\",VLOOKUP(AR149,#REF!,2,FALSE),\"\")","v":""},null,null,null,{"$f":"IF(AT149=\"\",\"\",INDEX(REFERENTES!$A:$B,MATCH(AT149,REFERENTES!$A:$A,0),2))","v":""},null,{"$f":"IF(AX149=\"\",\"\",INDEX(REFERENTES!M:O,MATCH(AX149,REFERENTES!M:M,0),3))","v":""}]
["30001212000000",{"$f":"DIGITADOR!$B$2","v":""},0,{"$f":"IF(E150<>\"\",CONCATENATE(B150,A150,DIGITADOR!$M$1,C150),\"\")","v":""},null,null,"","","",null,{"$f":"IF(J150=\"\",\"\",INDEX(REFERENTES!$V:$W,MATCH(J150,REFERENTES!$W:$W,0),1))","v":""},{"$f":"IF(E150=\"\",\"\",IF(O150=O149,\"\",CONCATENATE(B150,A150,DIGITADOR!$M$1,C150)))","v":""},null,{"$f":"IF(M150=\"\",\"\",INDEX(REFERENTES!$AB:$AC,MATCH(M150,REFERENTES!$AC:$AC,0),1))","v":""},"",null,146,"",null,null,null,null,null,null,null,null,null,null,null,null,null,null,null,null,null,null,null,null,{"$f":"IF(AL150<>\"\",VLOOKUP(AL150,#REF!,2,FALSE),\"\")","v":""},null,null,null,{"$f":"IF(AP150<>\"\",VLOOKUP(AP150,#REF!,2,TRUE),\"\")","v":""},null,{"$f":"IF(AR150<>\"\",VLOOKUP(AR150,#REF!,2,FALSE),\"\")","v":""},null,null,null,{"$f":"IF(AT150=\"\",\"\",INDEX(REFERENTES!$A:$B,MATCH(AT150,REFERENTES!$A:$A,0),2))","v":""},null,{"$f":"IF(AX150=\"\",\"\",INDEX(REFERENTES!M:O,MATCH(AX150,REFERENTES!M:M,0),3))","v":""}]
["30001212000000",{"$f":"DIGITADOR!$B$2","v":""},0,{"$f":"IF(E151<>\"\",CONCATENATE(B151,A151,DIGITADOR!$M$1,C151),\"\")","v":""},null,null,"","","",null,{"$f":"IF(J151=\"\",\"\",INDEX(REFERENTES!$V:$W,MATCH(J151,REFERENTES!$W:$W,0),1))","v":""},{"$f":"IF(E151=\"\",\"\",IF(O151=O150,\"\",CONCATENATE(B151,A151,DIGITADOR!$M$1,C151)))","v":""},null,{"$f":"IF(M151=\"\",\"\",INDEX(REFERENTES!$AB:$AC,MATCH(M151,REFERENTES!$AC:$AC,0),1))","v":""},"",null,147,"",null,null,null,null,null,null,null,null,null,null,null,null,null,null,null,null,null,null,null,null,{"$f":"IF(AL151<>\"\",VLOOKUP(AL151,#REF!,2,FALSE),\"\")","v":""},null,null,null,{"$f":"IF(AP151<>\"\",VLOOKUP(AP151,#REF!,2,TRUE),\"\")","v":""},null,{"$f":"IF(AR151<>\"\",VLOOKUP(AR151,#REF!,2,FALSE),\"\")","v":""},null,null,null,{"$f":"IF(AT151=\"\",\"\",INDEX(REFERENTES!$A:$B,MATCH(AT151,REFERENTES!$A:$A,0),2))","v":""},null,{"$f":"IF(AX151=\"\",\"\",INDEX(REFERENTES!M:O,MATCH(AX151,REFERENTES!M:M,0),3))","v":""}]
["30001212000000",{"$f":"DIGITADOR!$B$2","v":""},0,{"$f":"IF(E152<>\"\",CONCATENATE(B152,A152,DIGITADOR!$M$1,C152),\"\")","v":""},null,null,"","","",null,{"$f":"IF(J152=\"\",\"\",INDEX(REFERENTES!$V:$W,MATCH(J152,REFERENTES!$W:$W,0),1))","v":""},{"$f":"IF(E152=\"\",\"\",IF(O152=O151,\"\",CONCATENATE(B152,A152,DIGITADOR!$M$1,C152)))","v":""},null,{"$f":"IF(M152=\"\",\"\",INDEX(REFERENTES!$AB:$AC,MATCH(M152,REFERENTES!$AC:$AC,0),1))","v":""},"",null,148,"",null,null,null,null,null,null,null,null,null,null,null,null,null,null,null,null,null,null,null,null,{"$f":"IF(AL152<>\"\",VLOOKUP(AL152,#REF!,2,FALSE),\"\")","v":""},null,null,null,{"$f":"IF(AP152<>\"\",VLOOKUP(AP152,#REF!,2,TRUE),\"\")","v":""},null,{"$f":"IF(AR152<>\"\",VLOOKUP(AR152,#REF!,2,FALSE),\"\")","v":""},null,null,null,{"$f":"IF(AT152=\"\",\"\",INDEX(REFERENTES!$A:$B,MATCH(AT152,REFERENTES!$A:$A,0),2))","v":""},null,{"$f":"IF(AX152=\"\",\"\",INDEX(REFERENTES!M:O,MATCH(AX152,REFERENTES!M:M,0),3))","v":""}]
["30001212000000",{"$f":"DIGITADOR!$B$2","v":""},0,{"$f":"IF(E153<>\"\",CONCATENATE(B153,A153,DIGITADOR!$M$1,C153),\"\")","v":""},null,null,"","","",null,{"$f":"IF(J153=\"\",\"\",INDEX(REFERENTES!$V:$W,MATCH(J153,REFERENTES!$W:$W,0),1))","v":""},{"$f":"IF(E153=\"\",\"\",IF(O153=O152,\"\",CONCATENATE(B153,A153,DIGITADOR!$M$1,C153)))","v":""},null,{"$f":"IF(M153=\"\",\"\",INDEX(REFERENTES!$AB:$AC,MATCH(M153,REFERENTES!$AC:$AC,0),1))","v":""},"",null,149,"",null,null,null,null,null,null,null,null,null,null,null,null,null,null,null,null,null,null,null,null,{"$f":"IF(AL153<>\"\",VLOOKUP(AL153,#REF!,2,FALSE),\"\")","v":""},null,null,null,{"$f":"IF(AP153<>\"\",VLOOKUP(AP153,#REF!,2,TRUE),\"\")","v":""},null,{"$f":"IF(AR153<>\"\",VLOOKUP(AR153,#REF!,2,FALSE),\"\")","v":""},null,null,null,{"$f":"IF(AT153=\"\",\"\",INDEX(REFERENTES!$A:$B,MATCH(AT153,REFERENTES!$A:$A,0),2))","v":""},null,{"$f":"IF(AX153=\"\",\"\",INDEX(REFERENTES!M:O,MATCH(AX153,REFERENTES!M:M,0),3))","v":""}]
["30001212000000",{"$f":"DIGITADOR!$B$2","v":""},0,{"$f":"IF(E154<>\"\",CONCATENATE(B154,A154,DIGITADOR!$M$1,C154),\"\")","v":""},null,null,"","","",null,{"$f":"IF(J154=\"\",\"\",INDEX(REFERENTES!$V:$W,MATCH(J154,REFERENTES!$W:$W,0),1))","v":""},{"$f":"IF(E154=\"\",\"\",IF(O154=O153,\"\",CONCATENATE(B154,A154,DIGITADOR!$M$1,C154)))","v":""},null,{"$f":"IF(M154=\"\",\"\",INDEX(REFERENTES!$AB:$AC,MATCH(M154,REFERENTES!$AC:$AC,0),1))","v":""},"",null,150,"",null,null,null,null,null,null,null,null,null,null,null,null,null,null,null,null,null,null,null,null,{"$f":"IF(AL154<>\"\",VLOOKUP(AL154,#REF!,2,FALSE),\"\")","v":""},null,null,null,{"$f":"IF(AP154<>\"\",VLOOKUP(AP154,#REF!,2,TRUE),\"\")","v":""},null,{"$f":"IF(AR154<>\"\",VLOOKUP(AR154,#REF!,2,FALSE),\"\")","v":""},null,null,null,{"$f":"IF(AT154=\"\",\"\",INDEX(REFERENTES!$A:$B,MATCH(AT154,REFERENTES!$A:$A,0),2))","v":""},null,{"$f":"IF(AX154=\"\",\"\",INDEX(REFERENTES!M:O,MATCH(AX154,REFERENTES!M:M,0),3))","v":""}]
["30001212000000",{"$f":"DIGITADOR!$B$2","v":""},0,{"$f":"IF(E155<>\"\",CONCATENATE(B155,A155,DIGITADOR!$M$1,C155),\"\")","v":""},null,null,"","","",null,{"$f":"IF(J155=\"\",\"\",INDEX(REFERENTES!$V:$W,MATCH(J155,REFERENTES!$W:$W,0),1))","v":""},{"$f":"IF(E155=\"\",\"\",IF(O155=O154,\"\",CONCATENATE(B155,A155,DIGITADOR!$M$1,C155)))","v":""},null,{"$f":"IF(M155=\"\",\"\",INDEX(REFERENTES!$AB:$AC,MATCH(M155,REFERENTES!$AC:$AC,0),1))","v":""},"",null,151,"",null,null,null,null,null,null,null,null,null,null,null,null,null,null,null,null,null,null,null,null,{"$f":"IF(AL155<>\"\",VLOOKUP(AL155,#REF!,2,FALSE),\"\")","v":""},null,null,null,{"$f":"IF(AP155<>\"\",VLOOKUP(AP155,#REF!,2,TRUE),\"\")","v":""},null,{"$f":"IF(AR155<>\"\",VLOOKUP(AR155,#REF!,2,FALSE),\"\")","v":""},null,null,null,{"$f":"IF(AT155=\"\",\"\",INDEX(REFERENTES!$A:$B,MATCH(AT155,REFERENTES!$A:$A,0),2))","v":""},null,{"$f":"IF(AX155=\"\",\"\",INDEX(REFERENTES!M:O,MATCH(AX155,REFERENTES!M:M,0),3))","v":""}]
["30001212000000",{"$f":"DIGITADOR!$B$2","v":""},0,{"$f":"IF(E156<>\"\",CONCATENATE(B156,A156,DIGITADOR!$M$1,C156),\"\")","v":""},null,null,"","","",null,{"$f":"IF(J156=\"\",\"\",INDEX(REFERENTES!$V:$W,MATCH(J156,REFERENTES!$W:$W,0),1))","v":""},{"$f":"IF(E156=\"\",\"\",IF(O156=O155,\"\",CONCATENATE(B156,A156,DIGITADOR!$M$1,C156)))","v":""},null,{"$f":"IF(M156=\"\",\"\",INDEX(REFERENTES!$AB:$AC,MATCH(M156,REFERENTES!$AC:$AC,0),1))","v":""},"",null,152,"",null,null,null,null,null,null,null,null,null,null,null,null,null,null,null,null,null,null,null,null,{"$f":"IF(AL156<>\"\",VLOOKUP(AL156,#REF!,2,FALSE),\"\")","v":""},null,null,null,{"$f":"IF(AP156<>\"\",VLOOKUP(AP156,#REF!,2,TRUE),\"\")","v":""},null,{"$f":"IF(AR156<>\"\",VLOOKUP(AR156,#REF!,2,FALSE),\"\")","v":""},null,null,null,{"$f":"IF(AT156=\"\",\"\",INDEX(REFERENTES!$A:$B,MATCH(AT156,REFERENTES!$A:$A,0),2))","v":""},null,{"$f":"IF(AX156=\"\",\"\",INDEX(REFERENTES!M:O,MATCH(AX156,REFERENTES!M:M,0),3))","v":""}]
["30001212000000",{"$f":"DIGITADOR!$B$2","v":""},0,{"$f":"IF(E157<>\"\",CONCATENATE(B157,A157,DIGITADOR!$M$1,C157),\"\")","v":""},null,null,"","","",null,{"$f":"IF(J157=\"\",\"\",INDEX(REFERENTES!$V:$W,MATCH(J157,REFERENTES!$W:$W,0),1))","v":""},{"$f":"IF(E157=\"\",\"\",IF(O157=O156,\"\",CONCATENATE(B157,A157,DIGITADOR!$M$1,C157)))","v":""},null,{"$f":"IF(M157=\"\",\"\",INDEX(REFERENTES!$AB:$AC,MATCH(M157,REFERENTES!$AC:$AC,0),1))","v":""},"",null,153,"",null,null,null,null,null,null,null,null,null,null,null,null,null,null,null,null,null,null,null,null,{"$f":"IF(AL157<>\"\",VLOOKUP(AL157,#REF!,2,FALSE),\"\")","v":""},null,null,null,{"$f":"IF(AP157<>\"\",VLOOKUP(AP157,#REF!,2,TRUE),\"\")","v":""},null,{"$f":"IF(AR157<>\"\",VLOOKUP(AR157,#REF!,2,FALSE),\"\")","v":""},null,null,null,{"$f":"IF(AT157=\"\",\"\",INDEX(REFERENTES!$A:$B,MATCH(AT157,REFERENTES!$A:$A,0),2))","v":""},null,{"$f":"IF(AX157=\"\",\"\",INDEX(REFERENTES!M:O,MATCH(AX157,REFERENTES!M:M,0),3))","v":""}]
["30001212000000",{"$f":"DIGITADOR!$B$2","v":""},0,{"$f":"IF(E158<>\"\",CONCATENATE(B158,A158,DIGITADOR!$M$1,C158),\"\")","v":""},null,null,"","","",null,{"$f":"IF(J158=\"\",\"\",INDEX(REFERENTES!$V:$W,MATCH(J158,REFERENTES!$W:$W,0),1))","v":""},{"$f":"IF(E158=\"\",\"\",IF(O158=O157,\"\",CONCATENATE(B158,A158,DIGITADOR!$M$1,C158)))","v":""},null,{"$f":"IF(M158=\"\",\"\",INDEX(REFERENTES!$AB:$AC,MATCH(M158,REFERENTES!$AC:$AC,0),1))","v":""},"",null,154,"",null,null,null,null,null,null,null,null,null,null,null,null,null,null,null,null,null,null,null,null,{"$f":"IF(AL158<>\"\",VLOOKUP(AL158,#REF!,2,FALSE),\"\")","v":""},null,null,null,{"$f":"IF(AP158<>\"\",VLOOKUP(AP158,#REF!,2,TRUE),\"\")","v":""},null,{"$f":"IF(AR158<>\"\",VLOOKUP(AR158,#REF!,2,FALSE),\"\")","v":""},null,null,null,{"$f":"IF(AT158=\"\",\"\",INDEX(REFERENTES!$A:$B,MATCH(AT158,REFERENTES!$A:$A,0),2))","v":""},null,{"$f":"IF(AX158=\"\",\"\",INDEX(REFERENTES!M:O,MATCH(AX158,REFERENTES!M:M,0),3))","v":""}]
["30001212000000",{"$f":"DIGITADOR!$B$2","v":""},0,{"$f":"IF(E159<>\"\",CONCATENATE(B159,A159,DIGITADOR!$M$1,C159),\"\")","v":""},null,null,"","","",null,{"$f":"IF(J159=\"\",\"\",INDEX(REFERENTES!$V:$W,MATCH(J159,REFERENTES!$W:$W,0),1))","v":""},{"$f":"IF(E159=\"\",\"\",IF(O159=O158,\"\",CONCATENATE(B159,A159,DIGITADOR!$M$1,C159)))","v":""},null,{"$f":"IF(M159=\"\",\"\",INDEX(REFERENTES!$AB:$AC,MATCH(M159,REFERENTES!$AC:$AC,0),1))","v":""},"",null,155,"",null,null,null,null,null,null,null,null,null,null,null,null,null,null,null,null,null,null,null,null,{"$f":"IF(AL159<>\"\",VLOOKUP(AL159,#REF!,2,FALSE),\"\")","v":""},null,null,null,{"$f":"IF(AP159<>\"\",VLOOKUP(AP159,#REF!,2,TRUE),\"\")","v":""},null,{"$f":"IF(AR159<>\"\",VLOOKUP(AR159,#REF!,2,FALSE),\"\")","v":""},null,null,null,{"$f":"IF(AT159=\"\",\"\",INDEX(REFERENTES!$A:$B,MATCH(AT159,REFERENTES!$A:$A,0),2))","v":""},null,{"$f":"IF(AX159=\"\",\"\",INDEX(REFERENTES!M:O,MATCH(AX159,REFERENTES!M:M,0),3))","v":""}]
["30001212000000",{"$f":"DIGITADOR!$B$2","v":""},0,{"$f":"IF(E160<>\"\",CONCATENATE(B160,A160,DIGITADOR!$M$1,C160),\"\")","v":""},null,null,"","","",null,{"$f":"IF(J160=\"\",\"\",INDEX(REFERENTES!$V:$W,MATCH(J160,REFERENTES!$W:$W,0),1))","v":""},{"$f":"IF(E160=\"\",\"\",IF(O160=O159,\"\",CONCATENATE(B160,A160,DIGITADOR!$M$1,C160)))","v":""},null,{"$f":"IF(M160=\"\",\"\",INDEX(REFERENTES!$AB:$AC,MATCH(M160,REFERENTES!$AC:$AC,0),1))","v":""},"",null,156,"",null,null,null,null,null,null,null,null,null,null,null,null,null,null,null,null,null,null,null,null,{"$f":"IF(AL160<>\"\",VLOOKUP(AL160,#REF!,2,FALSE),\"\")","v":""},null,null,null,{"$f":"IF(AP160<>\"\",VLOOKUP(AP160,#REF!,2,TRUE),\"\")","v":""},null,{"$f":"IF(AR160<>\"\",VLOOKUP(AR160,#REF!,2,FALSE),\"\")","v":""},null,null,null,{"$f":"IF(AT160=\"\",\"\",INDEX(REFERENTES!$A:$B,MATCH(AT160,REFERENTES!$A:$A,0),2))","v":""},null,{"$f":"IF(AX160=\"\",\"\",INDEX(REFERENTES!M:O,MATCH(AX160,REFERENTES!M:M,0),3))","v":""}]
["30001212000000",{"$f":"DIGITADOR!$B$2","v":""},0,{"$f":"IF(E161<>\"\",CONCATENATE(B161,A161,DIGITADOR!$M$1,C161),\"\")","v":""},null,null,"","","",null,{"$f":"IF(J161=\"\",\"\",INDEX(REFERENTES!$V:$W,MATCH(J161,REFERENTES!$W:$W,0),1))","v":""},{"$f":"IF(E161=\"\",\"\",IF(O161=O160,\"\",CONCATENATE(B161,A161,DIGITADOR!$M$1,C161)))","v":""},null,{"$f":"IF(M161=\"\",\"\",INDEX(REFERENTES!$AB:$AC,MATCH(M161,REFERENTES!$AC:$AC,0),1))","v":""},"",null,157,"",null,null,null,null,null,null,null,null,null,null,null,null,null,null,null,null,null,null,null,null,{"$f":"IF(AL161<>\"\",VLOOKUP(AL161,#REF!,2,FALSE),\"\")","v":""},null,null,null,{"$f":"IF(AP161<>\"\",VLOOKUP(AP161,#REF!,2,TRUE),\"\")","v":""},null,{"$f":"IF(AR161<>\"\",VLOOKUP(AR161,#REF!,2,FALSE),\"\")","v":""},null,null,null,{"$f":"IF(AT161=\"\",\"\",INDEX(REFERENTES!$A:$B,MATCH(AT161,REFERENTES!$A:$A,0),2))","v":""},null,{"$f":"IF(AX161=\"\",\"\",INDEX(REFERENTES!M:O,MATCH(AX161,REFERENTES!M:M,0),3))","v":""}]
["30001212000000",{"$f":"DIGITADOR!$B$2","v":""},0,{"$f":"IF(E162<>\"\",CONCATENATE(B162,A162,DIGITADOR!$M$1,C162),\"\")","v":""},null,null,"","","",null,{"$f":"IF(J162=\"\",\"\",INDEX(REFERENTES!$V:$W,MATCH(J162,REFERENTES!$W:$W,0),1))","v":""},{"$f":"IF(E162=\"\",\"\",IF(O162=O161,\"\",CONCATENATE(B162,A162,DIGITADOR!$M$1,C162)))","v":""},null,{"$f":"IF(M162=\"\",\"\",INDEX(REFERENTES!$AB:$AC,MATCH(M162,REFERENTES!$AC:$AC,0),1))","v":""},"",null,158,"",null,null,null,null,null,null,null,null,null,null,null,null,null,null,null,null,null,null,null,null,{"$f":"IF(AL162<>\"\",VLOOKUP(AL162,#REF!,2,FALSE),\"\")","v":""},null,null,null,{"$f":"IF(AP162<>\"\",VLOOKUP(AP162,#REF!,2,TRUE),\"\")","v":""},null,{"$f":"IF(AR162<>\"\",VLOOKUP(AR162,#REF!,2,FALSE),\"\")","v":""},null,null,null,{"$f":"IF(AT162=\"\",\"\",INDEX(REFERENTES!$A:$B,MATCH(AT162,REFERENTES!$A:$A,0),2))","v":""},null,{"$f":"IF(AX162=\"\",\"\",INDEX(REFERENTES!M:O,MATCH(AX162,REFERENTES!M:M,0),3))","v":""}]
["30001212000000",{"$f":"DIGITADOR!$B$2","v":""},0,{"$f":"IF(E163<>\"\",CONCATENATE(B163,A163,DIGITADOR!$M$1,C163),\"\")","v":""},null,null,"","","",null,{"$f":"IF(J163=\"\",\"\",INDEX(REFERENTES!$V:$W,MATCH(J163,REFERENTES!$W:$W,0),1))","v":""},{"$f":"IF(E163=\"\",\"\",IF(O163=O162,\"\",CONCATENATE(B163,A163,DIGITADOR!$M$1,C163)))","v":""},null,{"$f":"IF(M163=\"\",\"\",INDEX(REFERENTES!$AB:$AC,MATCH(M163,REFERENTES!$AC:$AC,0),1))","v":""},"",null,159,"",null,null,null,null,null,null,null,null,null,null,null,null,null,null,null,null,null,null,null,null,{"$f":"IF(AL163<>\"\",VLOOKUP(AL163,#REF!,2,FALSE),\"\")","v":""},null,null,null,{"$f":"IF(AP163<>\"\",VLOOKUP(AP163,#REF!,2,TRUE),\"\")","v":""},null,{"$f":"IF(AR163<>\"\",VLOOKUP(AR163,#REF!,2,FALSE),\"\")","v":""},null,null,null,{"$f":"IF(AT163=\"\",\"\",INDEX(REFERENTES!$A:$B,MATCH(AT163,REFERENTES!$A:$A,0),2))","v":""},null,{"$f":"IF(AX163=\"\",\"\",INDEX(REFERENTES!M:O,MATCH(AX163,REFERENTES!M:M,0),3))","v":""}]
["30001212000000",{"$f":"DIGITADOR!$B$2","v":""},0,{"$f":"IF(E164<>\"\",CONCATENATE(B164,A164,DIGITADOR!$M$1,C164),\"\")","v":""},null,null,"","","",null,{"$f":"IF(J164=\"\",\"\",INDEX(REFERENTES!$V:$W,MATCH(J164,REFERENTES!$W:$W,0),1))","v":""},{"$f":"IF(E164=\"\",\"\",IF(O164=O163,\"\",CONCATENATE(B164,A164,DIGITADOR!$M$1,C164)))","v":""},null,{"$f":"IF(M164=\"\",\"\",INDEX(REFERENTES!$AB:$AC,MATCH(M164,REFERENTES!$AC:$AC,0),1))","v":""},"",null,160,"",null,null,null,null,null,null,null,null,null,null,null,null,null,null,null,null,null,null,null,null,{"$f":"IF(AL164<>\"\",VLOOKUP(AL164,#REF!,2,FALSE),\"\")","v":""},null,null,null,{"$f":"IF(AP164<>\"\",VLOOKUP(AP164,#REF!,2,TRUE),\"\")","v":""},null,{"$f":"IF(AR164<>\"\",VLOOKUP(AR164,#REF!,2,FALSE),\"\")","v":""},null,null,null,{"$f":"IF(AT164=\"\",\"\",INDEX(REFERENTES!$A:$B,MATCH(AT164,REFERENTES!$A:$A,0),2))","v":""},null,{"$f":"IF(AX164=\"\",\"\",INDEX(REFERENTES!M:O,MATCH(AX164,REFERENTES!M:M,0),3))","v":""}]
["30001212000000",{"$f":"DIGITADOR!$B$2","v":""},0,{"$f":"IF(E165<>\"\",CONCATENATE(B165,A165,DIGITADOR!$M$1,C165),\"\")","v":""},null,null,"","","",null,{"$f":"IF(J165=\"\",\"\",INDEX(REFERENTES!$V:$W,MATCH(J165,REFERENTES!$W:$W,0),1))","v":""},{"$f":"IF(E165=\"\",\"\",IF(O165=O164,\"\",CONCATENATE(B165,A165,DIGITADOR!$M$1,C165)))","v":""},null,{"$f":"IF(M165=\"\",\"\",INDEX(REFERENTES!$AB:$AC,MATCH(M165,REFERENTES!$AC:$AC,0),1))","v":""},"",null,161,"",null,null,null,null,null,null,null,null,null,null,null,null,null,null,null,null,null,null,null,null,{"$f":"IF(AL165<>\"\",VLOOKUP(AL165,#REF!,2,FALSE),\"\")","v":""},null,null,null,{"$f":"IF(AP165<>\"\",VLOOKUP(AP165,#REF!,2,TRUE),\"\")","v":""},null,{"$f":"IF(AR165<>\"\",VLOOKUP(AR165,#REF!,2,FALSE),\"\")","v":""},null,null,null,{"$f":"IF(AT165=\"\",\"\",INDEX(REFERENTES!$A:$B,MATCH(AT165,REFERENTES!$A:$A,0),2))","v":""},null,{"$f":"IF(AX165=\"\",\"\",INDEX(REFERENTES!M:O,MATCH(AX165,REFERENTES!M:M,0),3))","v":""}]
["30001212000000",{"$f":"DIGITADOR!$B$2","v":""},0,{"$f":"IF(E166<>\"\",CONCATENATE(B166,A166,DIGITADOR!$M$1,C166),\"\")","v":""},null,null,"","","",null,{"$f":"IF(J166=\"\",\"\",INDEX(REFERENTES!$V:$W,MATCH(J166,REFERENTES!$W:$W,0),1))","v":""},{"$f":"IF(E166=\"\",\"\",IF(O166=O165,\"\",CONCATENATE(B166,A166,DIGITADOR!$M$1,C166)))","v":""},null,{"$f":"IF(M166=\"\",\"\",INDEX(REFERENTES!$AB:$AC,MATCH(M166,REFERENTES!$AC:$AC,0),1))","v":""},"",null,162,"",null,null,null,null,null,null,null,null,null,null,null,null,null,null,null,null,null,null,null,null,{"$f":"IF(AL166<>\"\",VLOOKUP(AL166,#REF!,2,FALSE),\"\")","v":""},null,null,null,{"$f":"IF(AP166<>\"\",VLOOKUP(AP166,#REF!,2,TRUE),\"\")","v":""},null,{"$f":"IF(AR166<>\"\",VLOOKUP(AR166,#REF!,2,FALSE),\"\")","v":""},null,null,null,{"$f":"IF(AT166=\"\",\"\",INDEX(REFERENTES!$A:$B,MATCH(AT166,REFERENTES!$A:$A,0),2))","v":""},null,{"$f":"IF(AX166=\"\",\"\",INDEX(REFERENTES!M:O,MATCH(AX166,REFERENTES!M:M,0),3))","v":""}]
["30001212000000",{"$f":"DIGITADOR!$B$2","v":""},0,{"$f":"IF(E167<>\"\",CONCATENATE(B167,A167,DIGITADOR!$M$1,C167),\"\")","v":""},null,null,"","","",null,{"$f":"IF(J167=\"\",\"\",INDEX(REFERENTES!$V:$W,MATCH(J167,REFERENTES!$W:$W,0),1))","v":""},{"$f":"IF(E167=\"\",\"\",IF(O167=O166,\"\",CONCATENATE(B167,A167,DIGITADOR!$M$1,C167)))","v":""},null,{"$f":"IF(M167=\"\",\"\",INDEX(REFERENTES!$AB:$AC,MATCH(M167,REFERENTES!$AC:$AC,0),1))","v":""},"",null,163,"",null,null,null,null,null,null,null,null,null,null,null,null,null,null,null,null,null,null,null,null,{"$f":"IF(AL167<>\"\",VLOOKUP(AL167,#REF!,2,FALSE),\"\")","v":""},null,null,null,{"$f":"IF(AP167<>\"\",VLOOKUP(AP167,#REF!,2,TRUE),\"\")","v":""},null,{"$f":"IF(AR167<>\"\",VLOOKUP(AR167,#REF!,2,FALSE),\"\")","v":""},null,null,null,{"$f":"IF(AT167=\"\",\"\",INDEX(REFERENTES!$A:$B,MATCH(AT167,REFERENTES!$A:$A,0),2))","v":""},null,{"$f":"IF(AX167=\"\",\"\",INDEX(REFERENTES!M:O,MATCH(AX167,REFERENTES!M:M,0),3))","v":""}]
["30001212000000",{"$f":"DIGITADOR!$B$2","v":""},0,{"$f":"IF(E168<>\"\",CONCATENATE(B168,A168,DIGITADOR!$M$1,C168),\"\")","v":""},null,null,"","","",null,{"$f":"IF(J168=\"\",\"\",INDEX(REFERENTES!$V:$W,MATCH(J168,REFERENTES!$W:$W,0),1))","v":""},{"$f":"IF(E168=\"\",\"\",IF(O168=O167,\"\",CONCATENATE(B168,A168,DIGITADOR!$M$1,C168)))","v":""},null,{"$f":"IF(M168=\"\",\"\",INDEX(REFERENTES!$AB:$AC,MATCH(M168,REFERENTES!$AC:$AC,0),1))","v":""},"",null,164,"",null,null,null,null,null,null,null,null,null,null,null,null,null,null,null,null,null,null,null,null,{"$f":"IF(AL168<>\"\",VLOOKUP(AL168,#REF!,2,FALSE),\"\")","v":""},null,null,null,{"$f":"IF(AP168<>\"\",VLOOKUP(AP168,#REF!,2,TRUE),\"\")","v":""},null,{"$f":"IF(AR168<>\"\",VLOOKUP(AR168,#REF!,2,FALSE),\"\")","v":""},null,null,null,{"$f":"IF(AT168=\"\",\"\",INDEX(REFERENTES!$A:$B,MATCH(AT168,REFERENTES!$A:$A,0),2))","v":""},null,{"$f":"IF(AX168=\"\",\"\",INDEX(REFERENTES!M:O,MATCH(AX168,REFERENTES!M:M,0),3))","v":""}]
["30001212000000",{"$f":"DIGITADOR!$B$2","v":""},0,{"$f":"IF(E169<>\"\",CONCATENATE(B169,A169,DIGITADOR!$M$1,C169),\"\")","v":""},null,null,"",{"$f":"IF(G169<>\"\",MONTH(G169),\"\")","v":""},"",null,{"$f":"IF(J169=\"\",\"\",INDEX(REFERENTES!$V:$W,MATCH(J169,REFERENTES!$W:$W,0),1))","v":""},{"$f":"IF(E169=\"\",\"\",IF(O169=O168,\"\",CONCATENATE(B169,A169,DIGITADOR!$M$1,C169)))","v":""},null,{"$f":"IF(M169=\"\",\"\",INDEX(REFERENTES!$AB:$AC,MATCH(M169,REFERENTES!$AC:$AC,0),1))","v":""},"",null,165,"",null,null,null,null,null,null,null,null,null,null,null,null,null,null,null,null,null,null,null,null,{"$f":"IF(AL169<>\"\",VLOOKUP(AL169,#REF!,2,FALSE),\"\")","v":""},null,null,null,{"$f":"IF(AP169<>\"\",VLOOKUP(AP169,#REF!,2,TRUE),\"\")","v":""},null,{"$f":"IF(AR169<>\"\",VLOOKUP(AR169,#REF!,2,FALSE),\"\")","v":""},null,null,null,{"$f":"IF(AT169=\"\",\"\",INDEX(REFERENTES!$A:$B,MATCH(AT169,REFERENTES!$A:$A,0),2))","v":""},null,{"$f":"IF(AX169=\"\",\"\",INDEX(REFERENTES!M:O,MATCH(AX169,REFERENTES!M:M,0),3))","v":""}]
["30001212000000",{"$f":"DIGITADOR!$B$2","v":""},0,{"$f":"IF(E170<>\"\",CONCATENATE(B170,A170,DIGITADOR!$M$1,C170),\"\")","v":""},null,null,"","","",null,{"$f":"IF(J170=\"\",\"\",INDEX(REFERENTES!$V:$W,MATCH(J170,REFERENTES!$W:$W,0),1))","v":""},{"$f":"IF(E170=\"\",\"\",IF(O170=O169,\"\",CONCATENATE(B170,A170,DIGITADOR!$M$1,C170)))","v":""},null,{"$f":"IF(M170=\"\",\"\",INDEX(REFERENTES!$AB:$AC,MATCH(M170,REFERENTES!$AC:$AC,0),1))","v":""},"",null,166,"",null,null,null,null,null,null,null,null,null,null,null,null,null,null,null,null,null,null,null,null,{"$f":"IF(AL170<>\"\",VLOOKUP(AL170,#REF!,2,FALSE),\"\")","v":""},null,null,null,{"$f":"IF(AP170<>\"\",VLOOKUP(AP170,#REF!,2,TRUE),\"\")","v":""},null,{"$f":"IF(AR170<>\"\",VLOOKUP(AR170,#REF!,2,FALSE),\"\")","v":""},null,null,null,{"$f":"IF(AT170=\"\",\"\",INDEX(REFERENTES!$A:$B,MATCH(AT170,REFERENTES!$A:$A,0),2))","v":""},null,{"$f":"IF(AX170=\"\",\"\",INDEX(REFERENTES!M:O,MATCH(AX170,REFERENTES!M:M,0),3))","v":""}]
["30001212000000",{"$f":"DIGITADOR!$B$2","v":""},0,{"$f":"IF(E171<>\"\",CONCATENATE(B171,A171,DIGITADOR!$M$1,C171),\"\")","v":""},null,null,"","","",null,{"$f":"IF(J171=\"\",\"\",INDEX(REFERENTES!$V:$W,MATCH(J171,REFERENTES!$W:$W,0),1))","v":""},{"$f":"IF(E171=\"\",\"\",IF(O171=O170,\"\",CONCATENATE(B171,A171,DIGITADOR!$M$1,C171)))","v":""},null,{"$f":"IF(M171=\"\",\"\",INDEX(REFERENTES!$AB:$AC,MATCH(M171,REFERENTES!$AC:$AC,0),1))","v":""},"",null,167,"",null,null,null,null,null,null,null,null,null,null,null,null,null,null,null,null,null,null,null,null,{"$f":"IF(AL171<>\"\",VLOOKUP(AL171,#REF!,2,FALSE),\"\")","v":""},null,null,null,{"$f":"IF(AP171<>\"\",VLOOKUP(AP171,#REF!,2,TRUE),\"\")","v":""},null,{"$f":"IF(AR171<>\"\",VLOOKUP(AR171,#REF!,2,FALSE),\"\")","v":""},null,null,null,{"$f":"IF(AT171=\"\",\"\",INDEX(REFERENTES!$A:$B,MATCH(AT171,REFERENTES!$A:$A,0),2))","v":""},null,{"$f":"IF(AX171=\"\",\"\",INDEX(REFERENTES!M:O,MATCH(AX171,REFERENTES!M:M,0),3))","v":""}]
["30001212000000",{"$f":"DIGITADOR!$B$2","v":""},0,{"$f":"IF(E172<>\"\",CONCATENATE(B172,A172,DIGITADOR!$M$1,C172),\"\")","v":""},null,null,"","","",null,{"$f":"IF(J172=\"\",\"\",INDEX(REFERENTES!$V:$W,MATCH(J172,REFERENTES!$W:$W,0),1))","v":""},{"$f":"IF(E172=\"\",\"\",IF(O172=O171,\"\",CONCATENATE(B172,A172,DIGITADOR!$M$1,C172)))","v":""},null,{"$f":"IF(M172=\"\",\"\",INDEX(REFERENTES!$AB:$AC,MATCH(M172,REFERENTES!$AC:$AC,0),1))","v":""},"",null,168,"",null,null,null,null,null,null,null,null,null,null,null,null,null,null,null,null,null,null,null,null,{"$f":"IF(AL172<>\"\",VLOOKUP(AL172,#REF!,2,FALSE),\"\")","v":""},null,null,null,{"$f":"IF(AP172<>\"\",VLOOKUP(AP172,#REF!,2,TRUE),\"\")","v":""},null,{"$f":"IF(AR172<>\"\",VLOOKUP(AR172,#REF!,2,FALSE),\"\")","v":""},null,null,null,{"$f":"IF(AT172=\"\",\"\",INDEX(REFERENTES!$A:$B,MATCH(AT172,REFERENTES!$A:$A,0),2))","v":""},null,{"$f":"IF(AX172=\"\",\"\",INDEX(REFERENTES!M:O,MATCH(AX172,REFERENTES!M:M,0),3))","v":""}]
["30001212000000",{"$f":"DIGITADOR!$B$2","v":""},0,{"$f":"IF(E173<>\"\",CONCATENATE(B173,A173,DIGITADOR!$M$1,C173),\"\")","v":""},null,null,"","","",null,{"$f":"IF(J173=\"\",\"\",INDEX(REFERENTES!$V:$W,MATCH(J173,REFERENTES!$W:$W,0),1))","v":""},{"$f":"IF(E173=\"\",\"\",IF(O173=O172,\"\",CONCATENATE(B173,A173,DIGITADOR!$M$1,C173)))","v":""},null,{"$f":"IF(M173=\"\",\"\",INDEX(REFERENTES!$AB:$AC,MATCH(M173,REFERENTES!$AC:$AC,0),1))","v":""},"",null,169,"",null,null,null,null,null,null,null,null,null,null,null,null,null,null,null,null,null,null,null,null,{"$f":"IF(AL173<>\"\",VLOOKUP(AL173,#REF!,2,FALSE),\"\")","v":""},null,null,null,{"$f":"IF(AP173<>\"\",VLOOKUP(AP173,#REF!,2,TRUE),\"\")","v":""},null,{"$f":"IF(AR173<>\"\",VLOOKUP(AR173,#REF!,2,FALSE),\"\")","v":""},null,null,null,{"$f":"IF(AT173=\"\",\"\",INDEX(REFERENTES!$A:$B,MATCH(AT173,REFERENTES!$A:$A,0),2))","v":""},null,{"$f":"IF(AX173=\"\",\"\",INDEX(REFERENTES!M:O,MATCH(AX173,REFERENTES!M:M,0),3))","v":""}]
["30001212000000",{"$f":"DIGITADOR!$B$2","v":""},0,{"$f":"IF(E174<>\"\",CONCATENATE(B174,A174,DIGITADOR!$M$1,C174),\"\")","v":""},null,null,"","","",null,{"$f":"IF(J174=\"\",\"\",INDEX(REFERENTES!$V:$W,MATCH(J174,REFERENTES!$W:$W,0),1))","v":""},{"$f":"IF(E174=\"\",\"\",IF(O174=O173,\"\",CONCATENATE(B174,A174,DIGITADOR!$M$1,C174)))","v":""},null,{"$f":"IF(M174=\"\",\"\",INDEX(REFERENTES!$AB:$AC,MATCH(M174,REFERENTES!$AC:$AC,0),1))","v":""},"",null,170,"",null,null,null,null,null,null,null,null,null,null,null,null,null,null,null,null,null,null,null,null,{"$f":"IF(AL174<>\"\",VLOOKUP(AL174,#REF!,2,FALSE),\"\")","v":""},null,null,null,{"$f":"IF(AP174<>\"\",VLOOKUP(AP174,#REF!,2,TRUE),\"\")","v":""},null,{"$f":"IF(AR174<>\"\",VLOOKUP(AR174,#REF!,2,FALSE),\"\")","v":""},null,null,null,{"$f":"IF(AT174=\"\",\"\",INDEX(REFERENTES!$A:$B,MATCH(AT174,REFERENTES!$A:$A,0),2))","v":""},null,{"$f":"IF(AX174=\"\",\"\",INDEX(REFERENTES!M:O,MATCH(AX174,REFERENTES!M:M,0),3))","v":""}]
["30001212000000",{"$f":"DIGITADOR!$B$2","v":""},0,{"$f":"IF(E175<>\"\",CONCATENATE(B175,A175,DIGITADOR!$M$1,C175),\"\")","v":""},null,null,"","","",null,{"$f":"IF(J175=\"\",\"\",INDEX(REFERENTES!$V:$W,MATCH(J175,REFERENTES!$W:$W,0),1))","v":""},{"$f":"IF(E175=\"\",\"\",IF(O175=O174,\"\",CONCATENATE(B175,A175,DIGITADOR!$M$1,C175)))","v":""},null,{"$f":"IF(M175=\"\",\"\",INDEX(REFERENTES!$AB:$AC,MATCH(M175,REFERENTES!$AC:$AC,0),1))","v":""},"",null,171,"",null,null,null,null,null,null,null,null,null,null,null,null,null,null,null,null,null,null,null,null,{"$f":"IF(AL175<>\"\",VLOOKUP(AL175,#REF!,2,FALSE),\"\")","v":""},null,null,null,{"$f":"IF(AP175<>\"\",VLOOKUP(AP175,#REF!,2,TRUE),\"\")","v":""},null,{"$f":"IF(AR175<>\"\",VLOOKUP(AR175,#REF!,2,FALSE),\"\")","v":""},null,null,null,{"$f":"IF(AT175=\"\",\"\",INDEX(REFERENTES!$A:$B,MATCH(AT175,REFERENTES!$A:$A,0),2))","v":""},null,{"$f":"IF(AX175=\"\",\"\",INDEX(REFERENTES!M:O,MATCH(AX175,REFERENTES!M:M,0),3))","v":""}]
["30001212000000",{"$f":"DIGITADOR!$B$2","v":""},0,{"$f":"IF(E176<>\"\",CONCATENATE(B176,A176,DIGITADOR!$M$1,C176),\"\")","v":""},null,null,"","","",null,{"$f":"IF(J176=\"\",\"\",INDEX(REFERENTES!$V:$W,MATCH(J176,REFERENTES!$W:$W,0),1))","v":""},{"$f":"IF(E176=\"\",\"\",IF(O176=O175,\"\",CONCATENATE(B176,A176,DIGITADOR!$M$1,C176)))","v":""},null,{"$f":"IF(M176=\"\",\"\",INDEX(REFERENTES!$AB:$AC,MATCH(M176,REFERENTES!$AC:$AC,0),1))","v":""},"",null,172,"",null,null,null,null,null,null,null,null,null,null,null,null,null,null,null,null,null,null,null,null,{"$f":"IF(AL176<>\"\",VLOOKUP(AL176,#REF!,2,FALSE),\"\")","v":""},null,null,null,{"$f":"IF(AP176<>\"\",VLOOKUP(AP176,#REF!,2,TRUE),\"\")","v":""},null,{"$f":"IF(AR176<>\"\",VLOOKUP(AR176,#REF!,2,FALSE),\"\")","v":""},null,null,null,{"$f":"IF(AT176=\"\",\"\",INDEX(REFERENTES!$A:$B,MATCH(AT176,REFERENTES!$A:$A,0),2))","v":""},null,{"$f":"IF(AX176=\"\",\"\",INDEX(REFERENTES!M:O,MATCH(AX176,REFERENTES!M:M,0),3))","v":""}]
["30001212000000",{"$f":"DIGITADOR!$B$2","v":""},0,{"$f":"IF(E177<>\"\",CONCATENATE(B177,A177,DIGITADOR!$M$1,C177),\"\")","v":""},null,null,"","","",null,{"$f":"IF(J177=\"\",\"\",INDEX(REFERENTES!$V:$W,MATCH(J177,REFERENTES!$W:$W,0),1))","v":""},{"$f":"IF(E177=\"\",\"\",IF(O177=O176,\"\",CONCATENATE(B177,A177,DIGITADOR!$M$1,C177)))","v":""},null,{"$f":"IF(M177=\"\",\"\",INDEX(REFERENTES!$AB:$AC,MATCH(M177,REFERENTES!$AC:$AC,0),1))","v":""},"",null,173,"",null,null,null,null,null,null,null,null,null,null,null,null,null,null,null,null,null,null,null,null,{"$f":"IF(AL177<>\"\",VLOOKUP(AL177,#REF!,2,FALSE),\"\")","v":""},null,null,null,{"$f":"IF(AP177<>\"\",VLOOKUP(AP177,#REF!,2,TRUE),\"\")","v":""},null,{"$f":"IF(AR177<>\"\",VLOOKUP(AR177,#REF!,2,FALSE),\"\")","v":""},null,null,null,{"$f":"IF(AT177=\"\",\"\",INDEX(REFERENTES!$A:$B,MATCH(AT177,REFERENTES!$A:$A,0),2))","v":""},null,{"$f":"IF(AX177=\"\",\"\",INDEX(REFERENTES!M:O,MATCH(AX177,REFERENTES!M:M,0),3))","v":""}]
["30001212000000",{"$f":"DIGITADOR!$B$2","v":""},0,{"$f":"IF(E178<>\"\",CONCATENATE(B178,A178,DIGITADOR!$M$1,C178),\"\")","v":""},null,null,"","","",null,{"$f":"IF(J178=\"\",\"\",INDEX(REFERENTES!$V:$W,MATCH(J178,REFERENTES!$W:$W,0),1))","v":""},{"$f":"IF(E178=\"\",\"\",IF(O178=O177,\"\",CONCATENATE(B178,A178,DIGITADOR!$M$1,C178)))","v":""},null,{"$f":"IF(M178=\"\",\"\",INDEX(REFERENTES!$AB:$AC,MATCH(M178,REFERENTES!$AC:$AC,0),1))","v":""},"",null,174,"",null,null,null,null,null,null,null,null,null,null,null,null,null,null,null,null,null,null,null,null,{"$f":"IF(AL178<>\"\",VLOOKUP(AL178,#REF!,2,FALSE),\"\")","v":""},null,null,null,{"$f":"IF(AP178<>\"\",VLOOKUP(AP178,#REF!,2,TRUE),\"\")","v":""},null,{"$f":"IF(AR178<>\"\",VLOOKUP(AR178,#REF!,2,FALSE),\"\")","v":""},null,null,null,{"$f":"IF(AT178=\"\",\"\",INDEX(REFERENTES!$A:$B,MATCH(AT178,REFERENTES!$A:$A,0),2))","v":""},null,{"$f":"IF(AX178=\"\",\"\",INDEX(REFERENTES!M:O,MATCH(AX178,REFERENTES!M:M,0),3))","v":""}]
["30001212000000",{"$f":"DIGITADOR!$B$2","v":""},0,{"$f":"IF(E179<>\"\",CONCATENATE(B179,A179,DIGITADOR!$M$1,C179),\"\")","v":""},null,null,"","","",null,{"$f":"IF(J179=\"\",\"\",INDEX(REFERENTES!$V:$W,MATCH(J179,REFERENTES!$W:$W,0),1))","v":""},{"$f":"IF(E179=\"\",\"\",IF(O179=O178,\"\",CONCATENATE(B179,A179,DIGITADOR!$M$1,C179)))","v":""},null,{"$f":"IF(M179=\"\",\"\",INDEX(REFERENTES!$AB:$AC,MATCH(M179,REFERENTES!$AC:$AC,0),1))","v":""},"",null,175,"",null,null,null,null,null,null,null,null,null,null,null,null,null,null,null,null,null,null,null,null,{"$f":"IF(AL179<>\"\",VLOOKUP(AL179,#REF!,2,FALSE),\"\")","v":""},null,null,null,{"$f":"IF(AP179<>\"\",VLOOKUP(AP179,#REF!,2,TRUE),\"\")","v":""},null,{"$f":"IF(AR179<>\"\",VLOOKUP(AR179,#REF!,2,FALSE),\"\")","v":""},null,null,null,{"$f":"IF(AT179=\"\",\"\",INDEX(REFERENTES!$A:$B,MATCH(AT179,REFERENTES!$A:$A,0),2))","v":""},null,{"$f":"IF(AX179=\"\",\"\",INDEX(REFERENTES!M:O,MATCH(AX179,REFERENTES!M:M,0),3))","v":""}]
["30001212000000",{"$f":"DIGITADOR!$B$2","v":""},0,{"$f":"IF(E180<>\"\",CONCATENATE(B180,A180,DIGITADOR!$M$1,C180),\"\")","v":""},null,null,"","","",null,{"$f":"IF(J180=\"\",\"\",INDEX(REFERENTES!$V:$W,MATCH(J180,REFERENTES!$W:$W,0),1))","v":""},{"$f":"IF(E180=\"\",\"\",IF(O180=O179,\"\",CONCATENATE(B180,A180,DIGITADOR!$M$1,C180)))","v":""},null,{"$f":"IF(M180=\"\",\"\",INDEX(REFERENTES!$AB:$AC,MATCH(M180,REFERENTES!$AC:$AC,0),1))","v":""},"",null,176,"",null,null,null,null,null,null,null,null,null,null,null,null,null,null,null,null,null,null,null,null,{"$f":"IF(AL180<>\"\",VLOOKUP(AL180,#REF!,2,FALSE),\"\")","v":""},null,null,null,{"$f":"IF(AP180<>\"\",VLOOKUP(AP180,#REF!,2,TRUE),\"\")","v":""},null,{"$f":"IF(AR180<>\"\",VLOOKUP(AR180,#REF!,2,FALSE),\"\")","v":""},null,null,null,{"$f":"IF(AT180=\"\",\"\",INDEX(REFERENTES!$A:$B,MATCH(AT180,REFERENTES!$A:$A,0),2))","v":""},null,{"$f":"IF(AX180=\"\",\"\",INDEX(REFERENTES!M:O,MATCH(AX180,REFERENTES!M:M,0),3))","v":""}]
["30001212000000",{"$f":"DIGITADOR!$B$2","v":""},0,{"$f":"IF(E181<>\"\",CONCATENATE(B181,A181,DIGITADOR!$M$1,C181),\"\")","v":""},null,null,"","","",null,{"$f":"IF(J181=\"\",\"\",INDEX(REFERENTES!$V:$W,MATCH(J181,REFERENTES!$W:$W,0),1))","v":""},{"$f":"IF(E181=\"\",\"\",IF(O181=O180,\"\",CONCATENATE(B181,A181,DIGITADOR!$M$1,C181)))","v":""},null,{"$f":"IF(M181=\"\",\"\",INDEX(REFERENTES!$AB:$AC,MATCH(M181,REFERENTES!$AC:$AC,0),1))","v":""},"",null,177,"",null,null,null,null,null,null,null,null,null,null,null,null,null,null,null,null,null,null,null,null,{"$f":"IF(AL181<>\"\",VLOOKUP(AL181,#REF!,2,FALSE),\"\")","v":""},null,null,null,{"$f":"IF(AP181<>\"\",VLOOKUP(AP181,#REF!,2,TRUE),\"\")","v":""},null,{"$f":"IF(AR181<>\"\",VLOOKUP(AR181,#REF!,2,FALSE),\"\")","v":""},null,null,null,{"$f":"IF(AT181=\"\",\"\",INDEX(REFERENTES!$A:$B,MATCH(AT181,REFERENTES!$A:$A,0),2))","v":""},null,{"$f":"IF(AX181=\"\",\"\",INDEX(REFERENTES!M:O,MATCH(AX181,REFERENTES!M:M,0),3))","v":""}]
["30001212000000",{"$f":"DIGITADOR!$B$2","v":""},0,{"$f":"IF(E182<>\"\",CONCATENATE(B182,A182,DIGITADOR!$M$1,C182),\"\")","v":""},null,null,"","","",null,{"$f":"IF(J182=\"\",\"\",INDEX(REFERENTES!$V:$W,MATCH(J182,REFERENTES!$W:$W,0),1))","v":""},{"$f":"IF(E182=\"\",\"\",IF(O182=O181,\"\",CONCATENATE(B182,A182,DIGITADOR!$M$1,C182)))","v":""},null,{"$f":"IF(M182=\"\",\"\",INDEX(REFERENTES!$AB:$AC,MATCH(M182,REFERENTES!$AC:$AC,0),1))","v":""},"",null,178,"",null,null,null,null,null,null,null,null,null,null,null,null,null,null,null,null,null,null,null,null,{"$f":"IF(AL182<>\"\",VLOOKUP(AL182,#REF!,2,FALSE),\"\")","v":""},null,null,null,{"$f":"IF(AP182<>\"\",VLOOKUP(AP182,#REF!,2,TRUE),\"\")","v":""},null,{"$f":"IF(AR182<>\"\",VLOOKUP(AR182,#REF!,2,FALSE),\"\")","v":""},null,null,null,{"$f":"IF(AT182=\"\",\"\",INDEX(REFERENTES!$A:$B,MATCH(AT182,REFERENTES!$A:$A,0),2))","v":""},null,{"$f":"IF(AX182=\"\",\"\",INDEX(REFERENTES!M:O,MATCH(AX182,REFERENTES!M:M,0),3))","v":""}]
["30001212000000",{"$f":"DIGITADOR!$B$2","v":""},0,{"$f":"IF(E183<>\"\",CONCATENATE(B183,A183,DIGITADOR!$M$1,C183),\"\")","v":""},null,null,"","","",null,{"$f":"IF(J183=\"\",\"\",INDEX(REFERENTES!$V:$W,MATCH(J183,REFERENTES!$W:$W,0),1))","v":""},{"$f":"IF(E183=\"\",\"\",IF(O183=O182,\"\",CONCATENATE(B183,A183,DIGITADOR!$M$1,C183)))","v":""},null,{"$f":"IF(M183=\"\",\"\",INDEX(REFERENTES!$AB:$AC,MATCH(M183,REFERENTES!$AC:$AC,0),1))","v":""},"",null,179,"",null,null,null,null,null,null,null,null,null,null,null,null,null,null,null,null,null,null,null,null,{"$f":"IF(AL183<>\"\",VLOOKUP(AL183,#REF!,2,FALSE),\"\")","v":""},null,null,null,{"$f":"IF(AP183<>\"\",VLOOKUP(AP183,#REF!,2,TRUE),\"\")","v":""},null,{"$f":"IF(AR183<>\"\",VLOOKUP(AR183,#REF!,2,FALSE),\"\")","v":""},null,null,null,{"$f":"IF(AT183=\"\",\"\",INDEX(REFERENTES!$A:$B,MATCH(AT183,REFERENTES!$A:$A,0),2))","v":""},null,{"$f":"IF(AX183=\"\",\"\",INDEX(REFERENTES!M:O,MATCH(AX183,REFERENTES!M:M,0),3))","v":""}]
["30001212000000",{"$f":"DIGITADOR!$B$2","v":""},0,{"$f":"IF(E184<>\"\",CONCATENATE(B184,A184,DIGITADOR!$M$1,C184),\"\")","v":""},null,null,"","","",null,{"$f":"IF(J184=\"\",\"\",INDEX(REFERENTES!$V:$W,MATCH(J184,REFERENTES!$W:$W,0),1))","v":""},{"$f":"IF(E184=\"\",\"\",IF(O184=O183,\"\",CONCATENATE(B184,A184,DIGITADOR!$M$1,C184)))","v":""},null,{"$f":"IF(M184=\"\",\"\",INDEX(REFERENTES!$AB:$AC,MATCH(M184,REFERENTES!$AC:$AC,0),1))","v":""},"",null,180,"",null,null,null,null,null,null,null,null,null,null,null,null,null,null,null,null,null,null,null,null,{"$f":"IF(AL184<>\"\",VLOOKUP(AL184,#REF!,2,FALSE),\"\")","v":""},null,null,null,{"$f":"IF(AP184<>\"\",VLOOKUP(AP184,#REF!,2,TRUE),\"\")","v":""},null,{"$f":"IF(AR184<>\"\",VLOOKUP(AR184,#REF!,2,FALSE),\"\")","v":""},null,null,null,{"$f":"IF(AT184=\"\",\"\",INDEX(REFERENTES!$A:$B,MATCH(AT184,REFERENTES!$A:$A,0),2))","v":""},null,{"$f":"IF(AX184=\"\",\"\",INDEX(REFERENTES!M:O,MATCH(AX184,REFERENTES!M:M,0),3))","v":""}]
["30001212000000",{"$f":"DIGITADOR!$B$2","v":""},0,{"$f":"IF(E185<>\"\",CONCATENATE(B185,A185,DIGITADOR!$M$1,C185),\"\")","v":""},null,null,"","","",null,{"$f":"IF(J185=\"\",\"\",INDEX(REFERENTES!$V:$W,MATCH(J185,REFERENTES!$W:$W,0),1))","v":""},{"$f":"IF(E185=\"\",\"\",IF(O185=O184,\"\",CONCATENATE(B185,A185,DIGITADOR!$M$1,C185)))","v":""},null,{"$f":"IF(M185=\"\",\"\",INDEX(REFERENTES!$AB:$AC,MATCH(M185,REFERENTES!$AC:$AC,0),1))","v":""},"",null,181,"",null,null,null,null,null,null,null,null,null,null,null,null,null,null,null,null,null,null,null,null,{"$f":"IF(AL185<>\"\",VLOOKUP(AL185,#REF!,2,FALSE),\"\")","v":""},null,null,null,{"$f":"IF(AP185<>\"\",VLOOKUP(AP185,#REF!,2,TRUE),\"\")","v":""},null,{"$f":"IF(AR185<>\"\",VLOOKUP(AR185,#REF!,2,FALSE),\"\")","v":""},null,null,null,{"$f":"IF(AT185=\"\",\"\",INDEX(REFERENTES!$A:$B,MATCH(AT185,REFERENTES!$A:$A,0),2))","v":""},null,{"$f":"IF(AX185=\"\",\"\",INDEX(REFERENTES!M:O,MATCH(AX185,REFERENTES!M:M,0),3))","v":""}]
["30001212000000",{"$f":"DIGITADOR!$B$2","v":""},0,{"$f":"IF(E186<>\"\",CONCATENATE(B186,A186,DIGITADOR!$M$1,C186),\"\")","v":""},null,null,"","","",null,{"$f":"IF(J186=\"\",\"\",INDEX(REFERENTES!$V:$W,MATCH(J186,REFERENTES!$W:$W,0),1))","v":""},{"$f":"IF(E186=\"\",\"\",IF(O186=O185,\"\",CONCATENATE(B186,A186,DIGITADOR!$M$1,C186)))","v":""},null,{"$f":"IF(M186=\"\",\"\",INDEX(REFERENTES!$AB:$AC,MATCH(M186,REFERENTES!$AC:$AC,0),1))","v":""},"",null,182,"",null,null,null,null,null,null,null,null,null,null,null,null,null,null,null,null,null,null,null,null,{"$f":"IF(AL186<>\"\",VLOOKUP(AL186,#REF!,2,FALSE),\"\")","v":""},null,null,null,{"$f":"IF(AP186<>\"\",VLOOKUP(AP186,#REF!,2,TRUE),\"\")","v":""},null,{"$f":"IF(AR186<>\"\",VLOOKUP(AR186,#REF!,2,FALSE),\"\")","v":""},null,null,null,{"$f":"IF(AT186=\"\",\"\",INDEX(REFERENTES!$A:$B,MATCH(AT186,REFERENTES!$A:$A,0),2))","v":""},null,{"$f":"IF(AX186=\"\",\"\",INDEX(REFERENTES!M:O,MATCH(AX186,REFERENTES!M:M,0),3))","v":""}]
["30001212000000",{"$f":"DIGITADOR!$B$2","v":""},0,{"$f":"IF(E187<>\"\",CONCATENATE(B187,A187,DIGITADOR!$M$1,C187),\"\")","v":""},null,null,"","","",null,{"$f":"IF(J187=\"\",\"\",INDEX(REFERENTES!$V:$W,MATCH(J187,REFERENTES!$W:$W,0),1))","v":""},{"$f":"IF(E187=\"\",\"\",IF(O187=O186,\"\",CONCATENATE(B187,A187,DIGITADOR!$M$1,C187)))","v":""},null,{"$f":"IF(M187=\"\",\"\",INDEX(REFERENTES!$AB:$AC,MATCH(M187,REFERENTES!$AC:$AC,0),1))","v":""},"",null,183,"",null,null,null,null,null,null,null,null,null,null,null,null,null,null,null,null,null,null,null,null,{"$f":"IF(AL187<>\"\",VLOOKUP(AL187,#REF!,2,FALSE),\"\")","v":""},null,null,null,{"$f":"IF(AP187<>\"\",VLOOKUP(AP187,#REF!,2,TRUE),\"\")","v":""},null,{"$f":"IF(AR187<>\"\",VLOOKUP(AR187,#REF!,2,FALSE),\"\")","v":""},null,null,null,{"$f":"IF(AT187=\"\",\"\",INDEX(REFERENTES!$A:$B,MATCH(AT187,REFERENTES!$A:$A,0),2))","v":""},null,{"$f":"IF(AX187=\"\",\"\",INDEX(REFERENTES!M:O,MATCH(AX187,REFERENTES!M:M,0),3))","v":""}]
["30001212000000",{"$f":"DIGITADOR!$B$2","v":""},0,{"$f":"IF(E188<>\"\",CONCATENATE(B188,A188,DIGITADOR!$M$1,C188),\"\")","v":""},null,null,"","","",null,{"$f":"IF(J188=\"\",\"\",INDEX(REFERENTES!$V:$W,MATCH(J188,REFERENTES!$W:$W,0),1))","v":""},{"$f":"IF(E188=\"\",\"\",IF(O188=O187,\"\",CONCATENATE(B188,A188,DIGITADOR!$M$1,C188)))","v":""},null,{"$f":"IF(M188=\"\",\"\",INDEX(REFERENTES!$AB:$AC,MATCH(M188,REFERENTES!$AC:$AC,0),1))","v":""},"",null,184,"",null,null,null,null,null,null,null,null,null,null,null,null,null,null,null,null,null,null,null,null,{"$f":"IF(AL188<>\"\",VLOOKUP(AL188,#REF!,2,FALSE),\"\")","v":""},null,null,null,{"$f":"IF(AP188<>\"\",VLOOKUP(AP188,#REF!,2,TRUE),\"\")","v":""},null,{"$f":"IF(AR188<>\"\",VLOOKUP(AR188,#REF!,2,FALSE),\"\")","v":""},null,null,null,{"$f":"IF(AT188=\"\",\"\",INDEX(REFERENTES!$A:$B,MATCH(AT188,REFERENTES!$A:$A,0),2))","v":""},null,{"$f":"IF(AX188=\"\",\"\",INDEX(REFERENTES!M:O,MATCH(AX188,REFERENTES!M:M,0),3))","v":""}]
["30001212000000",{"$f":"DIGITADOR!$B$2","v":""},0,{"$f":"IF(E189<>\"\",CONCATENATE(B189,A189,DIGITADOR!$M$1,C189),\"\")","v":""},null,null,"","","",null,{"$f":"IF(J189=\"\",\"\",INDEX(REFERENTES!$V:$W,MATCH(J189,REFERENTES!$W:$W,0),1))","v":""},{"$f":"IF(E189=\"\",\"\",IF(O189=O188,\"\",CONCATENATE(B189,A189,DIGITADOR!$M$1,C189)))","v":""},null,{"$f":"IF(M189=\"\",\"\",INDEX(REFERENTES!$AB:$AC,MATCH(M189,REFERENTES!$AC:$AC,0),1))","v":""},"",null,185,"",null,null,null,null,null,null,null,null,null,null,null,null,null,null,null,null,null,null,null,null,{"$f":"IF(AL189<>\"\",VLOOKUP(AL189,#REF!,2,FALSE),\"\")","v":""},null,null,null,{"$f":"IF(AP189<>\"\",VLOOKUP(AP189,#REF!,2,TRUE),\"\")","v":""},null,{"$f":"IF(AR189<>\"\",VLOOKUP(AR189,#REF!,2,FALSE),\"\")","v":""},null,null,null,{"$f":"IF(AT189=\"\",\"\",INDEX(REFERENTES!$A:$B,MATCH(AT189,REFERENTES!$A:$A,0),2))","v":""},null,{"$f":"IF(AX189=\"\",\"\",INDEX(REFERENTES!M:O,MATCH(AX189,REFERENTES!M:M,0),3))","v":""}]
["30001212000000",{"$f":"DIGITADOR!$B$2","v":""},0,{"$f":"IF(E190<>\"\",CONCATENATE(B190,A190,DIGITADOR!$M$1,C190),\"\")","v":""},null,null,"","","",null,{"$f":"IF(J190=\"\",\"\",INDEX(REFERENTES!$V:$W,MATCH(J190,REFERENTES!$W:$W,0),1))","v":""},{"$f":"IF(E190=\"\",\"\",IF(O190=O189,\"\",CONCATENATE(B190,A190,DIGITADOR!$M$1,C190)))","v":""},null,{"$f":"IF(M190=\"\",\"\",INDEX(REFERENTES!$AB:$AC,MATCH(M190,REFERENTES!$AC:$AC,0),1))","v":""},"",null,186,"",null,null,null,null,null,null,null,null,null,null,null,null,null,null,null,null,null,null,null,null,{"$f":"IF(AL190<>\"\",VLOOKUP(AL190,#REF!,2,FALSE),\"\")","v":""},null,null,null,{"$f":"IF(AP190<>\"\",VLOOKUP(AP190,#REF!,2,TRUE),\"\")","v":""},null,{"$f":"IF(AR190<>\"\",VLOOKUP(AR190,#REF!,2,FALSE),\"\")","v":""},null,null,null,{"$f":"IF(AT190=\"\",\"\",INDEX(REFERENTES!$A:$B,MATCH(AT190,REFERENTES!$A:$A,0),2))","v":""},null,{"$f":"IF(AX190=\"\",\"\",INDEX(REFERENTES!M:O,MATCH(AX190,REFERENTES!M:M,0),3))","v":""}]
["30001212000000",{"$f":"DIGITADOR!$B$2","v":""},0,{"$f":"IF(E191<>\"\",CONCATENATE(B191,A191,DIGITADOR!$M$1,C191),\"\")","v":""},null,null,"","","",null,{"$f":"IF(J191=\"\",\"\",INDEX(REFERENTES!$V:$W,MATCH(J191,REFERENTES!$W:$W,0),1))","v":""},{"$f":"IF(E191=\"\",\"\",IF(O191=O190,\"\",CONCATENATE(B191,A191,DIGITADOR!$M$1,C191)))","v":""},null,{"$f":"IF(M191=\"\",\"\",INDEX(REFERENTES!$AB:$AC,MATCH(M191,REFERENTES!$AC:$AC,0),1))","v":""},"",null,187,"",null,null,null,null,null,null,null,null,null,null,null,null,null,null,null,null,null,null,null,null,{"$f":"IF(AL191<>\"\",VLOOKUP(AL191,#REF!,2,FALSE),\"\")","v":""},null,null,null,{"$f":"IF(AP191<>\"\",VLOOKUP(AP191,#REF!,2,TRUE),\"\")","v":""},null,{"$f":"IF(AR191<>\"\",VLOOKUP(AR191,#REF!,2,FALSE),\"\")","v":""},null,null,null,{"$f":"IF(AT191=\"\",\"\",INDEX(REFERENTES!$A:$B,MATCH(AT191,REFERENTES!$A:$A,0),2))","v":""},null,{"$f":"IF(AX191=\"\",\"\",INDEX(REFERENTES!M:O,MATCH(AX191,REFERENTES!M:M,0),3))","v":""}]
["30001212000000",{"$f":"DIGITADOR!$B$2","v":""},0,{"$f":"IF(E192<>\"\",CONCATENATE(B192,A192,DIGITADOR!$M$1,C192),\"\")","v":""},null,null,"","","",null,{"$f":"IF(J192=\"\",\"\",INDEX(REFERENTES!$V:$W,MATCH(J192,REFERENTES!$W:$W,0),1))","v":""},{"$f":"IF(E192=\"\",\"\",IF(O192=O191,\"\",CONCATENATE(B192,A192,DIGITADOR!$M$1,C192)))","v":""},null,{"$f":"IF(M192=\"\",\"\",INDEX(REFERENTES!$AB:$AC,MATCH(M192,REFERENTES!$AC:$AC,0),1))","v":""},"",null,188,"",null,null,null,null,null,null,null,null,null,null,null,null,null,null,null,null,null,null,null,null,{"$f":"IF(AL192<>\"\",VLOOKUP(AL192,#REF!,2,FALSE),\"\")","v":""},null,null,null,{"$f":"IF(AP192<>\"\",VLOOKUP(AP192,#REF!,2,TRUE),\"\")","v":""},null,{"$f":"IF(AR192<>\"\",VLOOKUP(AR192,#REF!,2,FALSE),\"\")","v":""},null,null,null,{"$f":"IF(AT192=\"\",\"\",INDEX(REFERENTES!$A:$B,MATCH(AT192,REFERENTES!$A:$A,0),2))","v":""},null,{"$f":"IF(AX192=\"\",\"\",INDEX(REFERENTES!M:O,MATCH(AX192,REFERENTES!M:M,0),3))","v":""}]
["30001212000000",{"$f":"DIGITADOR!$B$2","v":""},0,{"$f":"IF(E193<>\"\",CONCATENATE(B193,A193,DIGITADOR!$M$1,C193),\"\")","v":""},null,null,"","","",null,{"$f":"IF(J193=\"\",\"\",INDEX(REFERENTES!$V:$W,MATCH(J193,REFERENTES!$W:$W,0),1))","v":""},{"$f":"IF(E193=\"\",\"\",IF(O193=O192,\"\",CONCATENATE(B193,A193,DIGITADOR!$M$1,C193)))","v":""},null,{"$f":"IF(M193=\"\",\"\",INDEX(REFERENTES!$AB:$AC,MATCH(M193,REFERENTES!$AC:$AC,0),1))","v":""},"",null,189,"",null,null,null,null,null,null,null,null,null,null,null,null,null,null,null,null,null,null,null,null,{"$f":"IF(AL193<>\"\",VLOOKUP(AL193,#REF!,2,FALSE),\"\")","v":""},null,null,null,{"$f":"IF(AP193<>\"\",VLOOKUP(AP193,#REF!,2,TRUE),\"\")","v":""},null,{"$f":"IF(AR193<>\"\",VLOOKUP(AR193,#REF!,2,FALSE),\"\")","v":""},null,null,null,{"$f":"IF(AT193=\"\",\"\",INDEX(REFERENTES!$A:$B,MATCH(AT193,REFERENTES!$A:$A,0),2))","v":""},null,{"$f":"IF(AX193=\"\",\"\",INDEX(REFERENTES!M:O,MATCH(AX193,REFERENTES!M:M,0),3))","v":""}]
["30001212000000",{"$f":"DIGITADOR!$B$2","v":""},0,{"$f":"IF(E194<>\"\",CONCATENATE(B194,A194,DIGITADOR!$M$1,C194),\"\")","v":""},null,null,"","","",null,{"$f":"IF(J194=\"\",\"\",INDEX(REFERENTES!$V:$W,MATCH(J194,REFERENTES!$W:$W,0),1))","v":""},{"$f":"IF(E194=\"\",\"\",IF(O194=O193,\"\",CONCATENATE(B194,A194,DIGITADOR!$M$1,C194)))","v":""},null,{"$f":"IF(M194=\"\",\"\",INDEX(REFERENTES!$AB:$AC,MATCH(M194,REFERENTES!$AC:$AC,0),1))","v":""},"",null,190,"",null,null,null,null,null,null,null,null,null,null,null,null,null,null,null,null,null,null,null,null,{"$f":"IF(AL194<>\"\",VLOOKUP(AL194,#REF!,2,FALSE),\"\")","v":""},null,null,null,{"$f":"IF(AP194<>\"\",VLOOKUP(AP194,#REF!,2,TRUE),\"\")","v":""},null,{"$f":"IF(AR194<>\"\",VLOOKUP(AR194,#REF!,2,FALSE),\"\")","v":""},null,null,null,{"$f":"IF(AT194=\"\",\"\",INDEX(REFERENTES!$A:$B,MATCH(AT194,REFERENTES!$A:$A,0),2))","v":""},null,{"$f":"IF(AX194=\"\",\"\",INDEX(REFERENTES!M:O,MATCH(AX194,REFERENTES!M:M,0),3))","v":""}]
["30001212000000",{"$f":"DIGITADOR!$B$2","v":""},0,{"$f":"IF(E195<>\"\",CONCATENATE(B195,A195,DIGITADOR!$M$1,C195),\"\")","v":""},null,null,"","","",null,{"$f":"IF(J195=\"\",\"\",INDEX(REFERENTES!$V:$W,MATCH(J195,REFERENTES!$W:$W,0),1))","v":""},{"$f":"IF(E195=\"\",\"\",IF(O195=O194,\"\",CONCATENATE(B195,A195,DIGITADOR!$M$1,C195)))","v":""},null,{"$f":"IF(M195=\"\",\"\",INDEX(REFERENTES!$AB:$AC,MATCH(M195,REFERENTES!$AC:$AC,0),1))","v":""},"",null,191,"",null,null,null,null,null,null,null,null,null,null,null,null,null,null,null,null,null,null,null,null,{"$f":"IF(AL195<>\"\",VLOOKUP(AL195,#REF!,2,FALSE),\"\")","v":""},null,null,null,{"$f":"IF(AP195<>\"\",VLOOKUP(AP195,#REF!,2,TRUE),\"\")","v":""},null,{"$f":"IF(AR195<>\"\",VLOOKUP(AR195,#REF!,2,FALSE),\"\")","v":""},null,null,null,{"$f":"IF(AT195=\"\",\"\",INDEX(REFERENTES!$A:$B,MATCH(AT195,REFERENTES!$A:$A,0),2))","v":""},null,{"$f":"IF(AX195=\"\",\"\",INDEX(REFERENTES!M:O,MATCH(AX195,REFERENTES!M:M,0),3))","v":""}]
["30001212000000",{"$f":"DIGITADOR!$B$2","v":""},0,{"$f":"IF(E196<>\"\",CONCATENATE(B196,A196,DIGITADOR!$M$1,C196),\"\")","v":""},null,null,"","","",null,{"$f":"IF(J196=\"\",\"\",INDEX(REFERENTES!$V:$W,MATCH(J196,REFERENTES!$W:$W,0),1))","v":""},{"$f":"IF(E196=\"\",\"\",IF(O196=O195,\"\",CONCATENATE(B196,A196,DIGITADOR!$M$1,C196)))","v":""},null,{"$f":"IF(M196=\"\",\"\",INDEX(REFERENTES!$AB:$AC,MATCH(M196,REFERENTES!$AC:$AC,0),1))","v":""},"",null,192,"",null,null,null,null,null,null,null,null,null,null,null,null,null,null,null,null,null,null,null,null,{"$f":"IF(AL196<>\"\",VLOOKUP(AL196,#REF!,2,FALSE),\"\")","v":""},null,null,null,{"$f":"IF(AP196<>\"\",VLOOKUP(AP196,#REF!,2,TRUE),\"\")","v":""},null,{"$f":"IF(AR196<>\"\",VLOOKUP(AR196,#REF!,2,FALSE),\"\")","v":""},null,null,null,{"$f":"IF(AT196=\"\",\"\",INDEX(REFERENTES!$A:$B,MATCH(AT196,REFERENTES!$A:$A,0),2))","v":""},null,{"$f":"IF(AX196=\"\",\"\",INDEX(REFERENTES!M:O,MATCH(AX196,REFERENTES!M:M,0),3))","v":""}]
["30001212000000",{"$f":"DIGITADOR!$B$2","v":""},{"$f":"IF(O197=O196,C196,C196+1)","v":0},{"$f":"IF(E197<>\"\",CONCATENATE(B197,A197,DIGITADOR!$M$1,C197),\"\")","v":""},null,null,"","","",null,{"$f":"IF(J197=\"\",\"\",INDEX(REFERENTES!$V:$W,MATCH(J197,REFERENTES!$W:$W,0),1))","v":""},{"$f":"IF(E197=\"\",\"\",IF(O197=O196,\"\",CONCATENATE(B197,A197,DIGITADOR!$M$1,C197)))","v":""},null,{"$f":"IF(M197=\"\",\"\",INDEX(REFERENTES!$AB:$AC,MATCH(M197,REFERENTES!$AC:$AC,0),1))","v":""},"",null,193,"",null,null,null,null,null,null,null,null,null,null,null,null,null,null,null,null,null,null,null,null,{"$f":"IF(AL197<>\"\",VLOOKUP(AL197,#REF!,2,FALSE),\"\")","v":""},null,null,null,{"$f":"IF(AP197<>\"\",VLOOKUP(AP197,#REF!,2,TRUE),\"\")","v":""},null,{"$f":"IF(AR197<>\"\",VLOOKUP(AR197,#REF!,2,FALSE),\"\")","v":""},null,null,null,{"$f":"IF(AT197=\"\",\"\",INDEX(REFERENTES!$A:$B,MATCH(AT197,REFERENTES!$A:$A,0),2))","v":""},null,{"$f":"IF(AX197=\"\",\"\",INDEX(REFERENTES!M:O,MATCH(AX197,REFERENTES!M:M,0),3))","v":""}]
[{"$f":"A197","v":"30001212000000"},{"$f":"DIGITADOR!$B$2","v":""},0,{"$f":"IF(E198<>\"\",CONCATENATE(B198,A198,DIGITADOR!$M$1,C198),\"\")","v":""},null,null,{"$f":"IF(E198=\"\",\"\",E198+F198)","v":""},"",{"$f":"IF(M198=\"\",\"\",1)","v":""},null,{"$f":"IF(J198=\"\",\"\",INDEX(REFERENTES!$V:$W,MATCH(J198,REFERENTES!$W:$W,0),1))","v":""},{"$f":"IF(E198=\"\",\"\",IF(O198=O197,\"\",CONCATENATE(B198,A198,DIGITADOR!$M$1,C198)))","v":""},null,{"$f":"IF(M198=\"\",\"\",INDEX(REFERENTES!$AB:$AC,MATCH(M198,REFERENTES!$AC:$AC,0),1))","v":""},{"$f":"IF(M198=\"\",\"\",CONCATENATE(G198,K198,N198,1))","v":""},null,194,{"$f":"IF(D198=\"\",\"\",CONCATENATE(D198,Q198))","v":""},null,null,null,null,null,null,null,null,null,null,null,null,null,null,null,null,null,null,null,null,{"$f":"IF(AL198<>\"\",VLOOKUP(AL198,#REF!,2,FALSE),\"\")","v":""},null,null,null,{"$f":"IF(AP198<>\"\",VLOOKUP(AP198,#REF!,2,TRUE),\"\")","v":""},null,{"$f":"IF(AR198<>\"\",VLOOKUP(AR198,#REF!,2,FALSE),\"\")","v":""},null,null,null,{"$f":"IF(AT198=\"\",\"\",INDEX(REFERENTES!$A:$B,MATCH(AT198,REFERENTES!$A:$A,0),2))","v":""},null,{"$f":"IF(AX198=\"\",\"\",INDEX(REFERENTES!M:O,MATCH(AX198,REFERENTES!M:M,0),3))","v":""}]
["30001212000000",{"$f":"DIGITADOR!$B$2","v":""},0,{"$f":"IF(E199<>\"\",CONCATENATE(B199,A199,DIGITADOR!$M$1,C199),\"\")","v":""},null,null,"","","",null,{"$f":"IF(J199=\"\",\"\",INDEX(REFERENTES!$V:$W,MATCH(J199,REFERENTES!$W:$W,0),1))","v":""},{"$f":"IF(E199=\"\",\"\",IF(O199=O198,\"\",CONCATENATE(B199,A199,DIGITADOR!$M$1,C199)))","v":""},null,{"$f":"IF(M199=\"\",\"\",INDEX(REFERENTES!$AB:$AC,MATCH(M199,REFERENTES!$AC:$AC,0),1))","v":""},"",null,195,"",null,null,null,null,null,null,null,null,null,null,null,null,null,null,null,null,null,null,null,null,{"$f":"IF(AL199<>\"\",VLOOKUP(AL199,#REF!,2,FALSE),\"\")","v":""},null,null,null,{"$f":"IF(AP199<>\"\",VLOOKUP(AP199,#REF!,2,TRUE),\"\")","v":""},null,{"$f":"IF(AR199<>\"\",VLOOKUP(AR199,#REF!,2,FALSE),\"\")","v":""},null,null,null,{"$f":"IF(AT199=\"\",\"\",INDEX(REFERENTES!$A:$B,MATCH(AT199,REFERENTES!$A:$A,0),2))","v":""},null,{"$f":"IF(AX199=\"\",\"\",INDEX(REFERENTES!M:O,MATCH(AX199,REFERENTES!M:M,0),3))","v":""}]
["30001212000000",{"$f":"DIGITADOR!$B$2","v":""},0,{"$f":"IF(E200<>\"\",CONCATENATE(B200,A200,DIGITADOR!$M$1,C200),\"\")","v":""},null,null,"","","",null,{"$f":"IF(J200=\"\",\"\",INDEX(REFERENTES!$V:$W,MATCH(J200,REFERENTES!$W:$W,0),1))","v":""},{"$f":"IF(E200=\"\",\"\",IF(O200=O199,\"\",CONCATENATE(B200,A200,DIGITADOR!$M$1,C200)))","v":""},null,{"$f":"IF(M200=\"\",\"\",INDEX(REFERENTES!$AB:$AC,MATCH(M200,REFERENTES!$AC:$AC,0),1))","v":""},"",null,196,"",null,null,null,null,null,null,null,null,null,null,null,null,null,null,null,null,null,null,null,null,{"$f":"IF(AL200<>\"\",VLOOKUP(AL200,#REF!,2,FALSE),\"\")","v":""},null,null,null,{"$f":"IF(AP200<>\"\",VLOOKUP(AP200,#REF!,2,TRUE),\"\")","v":""},null,{"$f":"IF(AR200<>\"\",VLOOKUP(AR200,#REF!,2,FALSE),\"\")","v":""},null,null,null,{"$f":"IF(AT200=\"\",\"\",INDEX(REFERENTES!$A:$B,MATCH(AT200,REFERENTES!$A:$A,0),2))","v":""},null,{"$f":"IF(AX200=\"\",\"\",INDEX(REFERENTES!M:O,MATCH(AX200,REFERENTES!M:M,0),3))","v":""}]
["30001212000000",{"$f":"DIGITADOR!$B$2","v":""},0,{"$f":"IF(E201<>\"\",CONCATENATE(B201,A201,DIGITADOR!$M$1,C201),\"\")","v":""},null,null,"","","",null,{"$f":"IF(J201=\"\",\"\",INDEX(REFERENTES!$V:$W,MATCH(J201,REFERENTES!$W:$W,0),1))","v":""},{"$f":"IF(E201=\"\",\"\",IF(O201=O200,\"\",CONCATENATE(B201,A201,DIGITADOR!$M$1,C201)))","v":""},null,{"$f":"IF(M201=\"\",\"\",INDEX(REFERENTES!$AB:$AC,MATCH(M201,REFERENTES!$AC:$AC,0),1))","v":""},"",null,197,"",null,null,null,null,null,null,null,null,null,null,null,null,null,null,null,null,null,null,null,null,{"$f":"IF(AL201<>\"\",VLOOKUP(AL201,#REF!,2,FALSE),\"\")","v":""},null,null,null,{"$f":"IF(AP201<>\"\",VLOOKUP(AP201,#REF!,2,TRUE),\"\")","v":""},null,{"$f":"IF(AR201<>\"\",VLOOKUP(AR201,#REF!,2,FALSE),\"\")","v":""},null,null,null,{"$f":"IF(AT201=\"\",\"\",INDEX(REFERENTES!$A:$B,MATCH(AT201,REFERENTES!$A:$A,0),2))","v":""},null,{"$f":"IF(AX201=\"\",\"\",INDEX(REFERENTES!M:O,MATCH(AX201,REFERENTES!M:M,0),3))","v":""}]
["30001212000000",{"$f":"DIGITADOR!$B$2","v":""},0,{"$f":"IF(E202<>\"\",CONCATENATE(B202,A202,DIGITADOR!$M$1,C202),\"\")","v":""},null,null,"","","",null,{"$f":"IF(J202=\"\",\"\",INDEX(REFERENTES!$V:$W,MATCH(J202,REFERENTES!$W:$W,0),1))","v":""},{"$f":"IF(E202=\"\",\"\",IF(O202=O201,\"\",CONCATENATE(B202,A202,DIGITADOR!$M$1,C202)))","v":""},null,{"$f":"IF(M202=\"\",\"\",INDEX(REFERENTES!$AB:$AC,MATCH(M202,REFERENTES!$AC:$AC,0),1))","v":""},"",null,198,"",null,null,null,null,null,null,null,null,null,null,null,null,null,null,null,null,null,null,null,null,{"$f":"IF(AL202<>\"\",VLOOKUP(AL202,#REF!,2,FALSE),\"\")","v":""},null,null,null,{"$f":"IF(AP202<>\"\",VLOOKUP(AP202,#REF!,2,TRUE),\"\")","v":""},null,{"$f":"IF(AR202<>\"\",VLOOKUP(AR202,#REF!,2,FALSE),\"\")","v":""},null,null,null,{"$f":"IF(AT202=\"\",\"\",INDEX(REFERENTES!$A:$B,MATCH(AT202,REFERENTES!$A:$A,0),2))","v":""},null,{"$f":"IF(AX202=\"\",\"\",INDEX(REFERENTES!M:O,MATCH(AX202,REFERENTES!M:M,0),3))","v":""}]
["30001212000000",{"$f":"DIGITADOR!$B$2","v":""},0,{"$f":"IF(E203<>\"\",CONCATENATE(B203,A203,DIGITADOR!$M$1,C203),\"\")","v":""},null,null,"","","",null,{"$f":"IF(J203=\"\",\"\",INDEX(REFERENTES!$V:$W,MATCH(J203,REFERENTES!$W:$W,0),1))","v":""},{"$f":"IF(E203=\"\",\"\",IF(O203=O202,\"\",CONCATENATE(B203,A203,DIGITADOR!$M$1,C203)))","v":""},null,{"$f":"IF(M203=\"\",\"\",INDEX(REFERENTES!$AB:$AC,MATCH(M203,REFERENTES!$AC:$AC,0),1))","v":""},"",null,199,"",null,null,null,null,null,null,null,null,null,null,null,null,null,null,null,null,null,null,null,null,{"$f":"IF(AL203<>\"\",VLOOKUP(AL203,#REF!,2,FALSE),\"\")","v":""},null,null,null,{"$f":"IF(AP203<>\"\",VLOOKUP(AP203,#REF!,2,TRUE),\"\")","v":""},null,{"$f":"IF(AR203<>\"\",VLOOKUP(AR203,#REF!,2,FALSE),\"\")","v":""},null,null,null,{"$f":"IF(AT203=\"\",\"\",INDEX(REFERENTES!$A:$B,MATCH(AT203,REFERENTES!$A:$A,0),2))","v":""},null,{"$f":"IF(AX203=\"\",\"\",INDEX(REFERENTES!M:O,MATCH(AX203,REFERENTES!M:M,0),3))","v":""}]
["30001212000000",{"$f":"DIGITADOR!$B$2","v":""},0,{"$f":"IF(E204<>\"\",CONCATENATE(B204,A204,DIGITADOR!$M$1,C204),\"\")","v":""},null,null,"","","",null,{"$f":"IF(J204=\"\",\"\",INDEX(REFERENTES!$V:$W,MATCH(J204,REFERENTES!$W:$W,0),1))","v":""},{"$f":"IF(E204=\"\",\"\",IF(O204=O203,\"\",CONCATENATE(B204,A204,DIGITADOR!$M$1,C204)))","v":""},null,{"$f":"IF(M204=\"\",\"\",INDEX(REFERENTES!$AB:$AC,MATCH(M204,REFERENTES!$AC:$AC,0),1))","v":""},"",null,200,"",null,null,null,null,null,null,null,null,null,null,null,null,null,null,null,null,null,null,null,null,{"$f":"IF(AL204<>\"\",VLOOKUP(AL204,#REF!,2,FALSE),\"\")","v":""},null,null,null,{"$f":"IF(AP204<>\"\",VLOOKUP(AP204,#REF!,2,TRUE),\"\")","v":""},null,{"$f":"IF(AR204<>\"\",VLOOKUP(AR204,#REF!,2,FALSE),\"\")","v":""},null,null,null,{"$f":"IF(AT204=\"\",\"\",INDEX(REFERENTES!$A:$B,MATCH(AT204,REFERENTES!$A:$A,0),2))","v":""},null,{"$f":"IF(AX204=\"\",\"\",INDEX(REFERENTES!M:O,MATCH(AX204,REFERENTES!M:M,0),3))","v":""}]
["30001212000000",{"$f":"DIGITADOR!$B$2","v":""},0,{"$f":"IF(E205<>\"\",CONCATENATE(B205,A205,DIGITADOR!$M$1,C205),\"\")","v":""},null,null,"","","",null,{"$f":"IF(J205=\"\",\"\",INDEX(REFERENTES!$V:$W,MATCH(J205,REFERENTES!$W:$W,0),1))","v":""},{"$f":"IF(E205=\"\",\"\",IF(O205=O204,\"\",CONCATENATE(B205,A205,DIGITADOR!$M$1,C205)))","v":""},null,{"$f":"IF(M205=\"\",\"\",INDEX(REFERENTES!$AB:$AC,MATCH(M205,REFERENTES!$AC:$AC,0),1))","v":""},"",null,201,"",null,null,null,null,null,null,null,null,null,null,null,null,null,null,null,null,null,null,null,null,{"$f":"IF(AL205<>\"\",VLOOKUP(AL205,#REF!,2,FALSE),\"\")","v":""},null,null,null,{"$f":"IF(AP205<>\"\",VLOOKUP(AP205,#REF!,2,TRUE),\"\")","v":""},null,{"$f":"IF(AR205<>\"\",VLOOKUP(AR205,#REF!,2,FALSE),\"\")","v":""},null,null,null,{"$f":"IF(AT205=\"\",\"\",INDEX(REFERENTES!$A:$B,MATCH(AT205,REFERENTES!$A:$A,0),2))","v":""},null,{"$f":"IF(AX205=\"\",\"\",INDEX(REFERENTES!M:O,MATCH(AX205,REFERENTES!M:M,0),3))","v":""}]
["30001212000000",{"$f":"DIGITADOR!$B$2","v":""},0,{"$f":"IF(E206<>\"\",CONCATENATE(B206,A206,DIGITADOR!$M$1,C206),\"\")","v":""},null,null,"","","",null,{"$f":"IF(J206=\"\",\"\",INDEX(REFERENTES!$V:$W,MATCH(J206,REFERENTES!$W:$W,0),1))","v":""},{"$f":"IF(E206=\"\",\"\",IF(O206=O205,\"\",CONCATENATE(B206,A206,DIGITADOR!$M$1,C206)))","v":""},null,{"$f":"IF(M206=\"\",\"\",INDEX(REFERENTES!$AB:$AC,MATCH(M206,REFERENTES!$AC:$AC,0),1))","v":""},"",null,202,"",null,null,null,null,null,null,null,null,null,null,null,null,null,null,null,null,null,null,null,null,{"$f":"IF(AL206<>\"\",VLOOKUP(AL206,#REF!,2,FALSE),\"\")","v":""},null,null,null,{"$f":"IF(AP206<>\"\",VLOOKUP(AP206,#REF!,2,TRUE),\"\")","v":""},null,{"$f":"IF(AR206<>\"\",VLOOKUP(AR206,#REF!,2,FALSE),\"\")","v":""},null,null,null,{"$f":"IF(AT206=\"\",\"\",INDEX(REFERENTES!$A:$B,MATCH(AT206,REFERENTES!$A:$A,0),2))","v":""},null,{"$f":"IF(AX206=\"\",\"\",INDEX(REFERENTES!M:O,MATCH(AX206,REFERENTES!M:M,0),3))","v":""}]
["30001212000000",{"$f":"DIGITADOR!$B$2","v":""},0,{"$f":"IF(E207<>\"\",CONCATENATE(B207,A207,DIGITADOR!$M$1,C207),\"\")","v":""},null,null,"","","",null,{"$f":"IF(J207=\"\",\"\",INDEX(REFERENTES!$V:$W,MATCH(J207,REFERENTES!$W:$W,0),1))","v":""},{"$f":"IF(E207=\"\",\"\",IF(O207=O206,\"\",CONCATENATE(B207,A207,DIGITADOR!$M$1,C207)))","v":""},null,{"$f":"IF(M207=\"\",\"\",INDEX(REFERENTES!$AB:$AC,MATCH(M207,REFERENTES!$AC:$AC,0),1))","v":""},"",null,203,"",null,null,null,null,null,null,null,null,null,null,null,null,null,null,null,null,null,null,null,null,{"$f":"IF(AL207<>\"\",VLOOKUP(AL207,#REF!,2,FALSE),\"\")","v":""},null,null,null,{"$f":"IF(AP207<>\"\",VLOOKUP(AP207,#REF!,2,TRUE),\"\")","v":""},null,{"$f":"IF(AR207<>\"\",VLOOKUP(AR207,#REF!,2,FALSE),\"\")","v":""},null,null,null,{"$f":"IF(AT207=\"\",\"\",INDEX(REFERENTES!$A:$B,MATCH(AT207,REFERENTES!$A:$A,0),2))","v":""},null,{"$f":"IF(AX207=\"\",\"\",INDEX(REFERENTES!M:O,MATCH(AX207,REFERENTES!M:M,0),3))","v":""}]
["30001212000000",{"$f":"DIGITADOR!$B$2","v":""},0,{"$f":"IF(E208<>\"\",CONCATENATE(B208,A208,DIGITADOR!$M$1,C208),\"\")","v":""},null,null,"","","",null,{"$f":"IF(J208=\"\",\"\",INDEX(REFERENTES!$V:$W,MATCH(J208,REFERENTES!$W:$W,0),1))","v":""},{"$f":"IF(E208=\"\",\"\",IF(O208=O207,\"\",CONCATENATE(B208,A208,DIGITADOR!$M$1,C208)))","v":""},null,{"$f":"IF(M208=\"\",\"\",INDEX(REFERENTES!$AB:$AC,MATCH(M208,REFERENTES!$AC:$AC,0),1))","v":""},"",null,204,"",null,null,null,null,null,null,null,null,null,null,null,null,null,null,null,null,null,null,null,null,{"$f":"IF(AL208<>\"\",VLOOKUP(AL208,#REF!,2,FALSE),\"\")","v":""},null,null,null,{"$f":"IF(AP208<>\"\",VLOOKUP(AP208,#REF!,2,TRUE),\"\")","v":""},null,{"$f":"IF(AR208<>\"\",VLOOKUP(AR208,#REF!,2,FALSE),\"\")","v":""},null,null,null,{"$f":"IF(AT208=\"\",\"\",INDEX(REFERENTES!$A:$B,MATCH(AT208,REFERENTES!$A:$A,0),2))","v":""},null,{"$f":"IF(AX208=\"\",\"\",INDEX(REFERENTES!M:O,MATCH(AX208,REFERENTES!M:M,0),3))","v":""}]
["30001212000000",{"$f":"DIGITADOR!$B$2","v":""},0,{"$f":"IF(E209<>\"\",CONCATENATE(B209,A209,DIGITADOR!$M$1,C209),\"\")","v":""},null,null,"","","",null,{"$f":"IF(J209=\"\",\"\",INDEX(REFERENTES!$V:$W,MATCH(J209,REFERENTES!$W:$W,0),1))","v":""},{"$f":"IF(E209=\"\",\"\",IF(O209=O208,\"\",CONCATENATE(B209,A209,DIGITADOR!$M$1,C209)))","v":""},null,{"$f":"IF(M209=\"\",\"\",INDEX(REFERENTES!$AB:$AC,MATCH(M209,REFERENTES!$AC:$AC,0),1))","v":""},"",null,205,"",null,null,null,null,null,null,null,null,null,null,null,null,null,null,null,null,null,null,null,null,{"$f":"IF(AL209<>\"\",VLOOKUP(AL209,#REF!,2,FALSE),\"\")","v":""},null,null,null,{"$f":"IF(AP209<>\"\",VLOOKUP(AP209,#REF!,2,TRUE),\"\")","v":""},null,{"$f":"IF(AR209<>\"\",VLOOKUP(AR209,#REF!,2,FALSE),\"\")","v":""},null,null,null,{"$f":"IF(AT209=\"\",\"\",INDEX(REFERENTES!$A:$B,MATCH(AT209,REFERENTES!$A:$A,0),2))","v":""},null,{"$f":"IF(AX209=\"\",\"\",INDEX(REFERENTES!M:O,MATCH(AX209,REFERENTES!M:M,0),3))","v":""}]
["30001212000000",{"$f":"DIGITADOR!$B$2","v":""},0,{"$f":"IF(E210<>\"\",CONCATENATE(B210,A210,DIGITADOR!$M$1,C210),\"\")","v":""},null,null,"","","",null,{"$f":"IF(J210=\"\",\"\",INDEX(REFERENTES!$V:$W,MATCH(J210,REFERENTES!$W:$W,0),1))","v":""},{"$f":"IF(E210=\"\",\"\",IF(O210=O209,\"\",CONCATENATE(B210,A210,DIGITADOR!$M$1,C210)))","v":""},null,{"$f":"IF(M210=\"\",\"\",INDEX(REFERENTES!$AB:$AC,MATCH(M210,REFERENTES!$AC:$AC,0),1))","v":""},"",null,206,"",null,null,null,null,null,null,null,null,null,null,null,null,null,null,null,null,null,null,null,null,{"$f":"IF(AL210<>\"\",VLOOKUP(AL210,#REF!,2,FALSE),\"\")","v":""},null,null,null,{"$f":"IF(AP210<>\"\",VLOOKUP(AP210,#REF!,2,TRUE),\"\")","v":""},null,{"$f":"IF(AR210<>\"\",VLOOKUP(AR210,#REF!,2,FALSE),\"\")","v":""},null,null,null,{"$f":"IF(AT210=\"\",\"\",INDEX(REFERENTES!$A:$B,MATCH(AT210,REFERENTES!$A:$A,0),2))","v":""},null,{"$f":"IF(AX210=\"\",\"\",INDEX(REFERENTES!M:O,MATCH(AX210,REFERENTES!M:M,0),3))","v":""}]
["30001212000000",{"$f":"DIGITADOR!$B$2","v":""},0,{"$f":"IF(E211<>\"\",CONCATENATE(B211,A211,DIGITADOR!$M$1,C211),\"\")","v":""},null,null,"","","",null,{"$f":"IF(J211=\"\",\"\",INDEX(REFERENTES!$V:$W,MATCH(J211,REFERENTES!$W:$W,0),1))","v":""},{"$f":"IF(E211=\"\",\"\",IF(O211=O210,\"\",CONCATENATE(B211,A211,DIGITADOR!$M$1,C211)))","v":""},null,{"$f":"IF(M211=\"\",\"\",INDEX(REFERENTES!$AB:$AC,MATCH(M211,REFERENTES!$AC:$AC,0),1))","v":""},"",null,207,"",null,null,null,null,null,null,null,null,null,null,null,null,null,null,null,null,null,null,null,null,{"$f":"IF(AL211<>\"\",VLOOKUP(AL211,#REF!,2,FALSE),\"\")","v":""},null,null,null,{"$f":"IF(AP211<>\"\",VLOOKUP(AP211,#REF!,2,TRUE),\"\")","v":""},null,{"$f":"IF(AR211<>\"\",VLOOKUP(AR211,#REF!,2,FALSE),\"\")","v":""},null,null,null,{"$f":"IF(AT211=\"\",\"\",INDEX(REFERENTES!$A:$B,MATCH(AT211,REFERENTES!$A:$A,0),2))","v":""},null,{"$f":"IF(AX211=\"\",\"\",INDEX(REFERENTES!M:O,MATCH(AX211,REFERENTES!M:M,0),3))","v":""}]
["30001212000000",{"$f":"DIGITADOR!$B$2","v":""},0,{"$f":"IF(E212<>\"\",CONCATENATE(B212,A212,DIGITADOR!$M$1,C212),\"\")","v":""},null,null,"","","",null,{"$f":"IF(J212=\"\",\"\",INDEX(REFERENTES!$V:$W,MATCH(J212,REFERENTES!$W:$W,0),1))","v":""},{"$f":"IF(E212=\"\",\"\",IF(O212=O211,\"\",CONCATENATE(B212,A212,DIGITADOR!$M$1,C212)))","v":""},null,{"$f":"IF(M212=\"\",\"\",INDEX(REFERENTES!$AB:$AC,MATCH(M212,REFERENTES!$AC:$AC,0),1))","v":""},"",null,208,"",null,null,null,null,null,null,null,null,null,null,null,null,null,null,null,null,null,null,null,null,{"$f":"IF(AL212<>\"\",VLOOKUP(AL212,#REF!,2,FALSE),\"\")","v":""},null,null,null,{"$f":"IF(AP212<>\"\",VLOOKUP(AP212,#REF!,2,TRUE),\"\")","v":""},null,{"$f":"IF(AR212<>\"\",VLOOKUP(AR212,#REF!,2,FALSE),\"\")","v":""},null,null,null,{"$f":"IF(AT212=\"\",\"\",INDEX(REFERENTES!$A:$B,MATCH(AT212,REFERENTES!$A:$A,0),2))","v":""},null,{"$f":"IF(AX212=\"\",\"\",INDEX(REFERENTES!M:O,MATCH(AX212,REFERENTES!M:M,0),3))","v":""}]
["30001212000000",{"$f":"DIGITADOR!$B$2","v":""},0,{"$f":"IF(E213<>\"\",CONCATENATE(B213,A213,DIGITADOR!$M$1,C213),\"\")","v":""},null,null,"","","",null,{"$f":"IF(J213=\"\",\"\",INDEX(REFERENTES!$V:$W,MATCH(J213,REFERENTES!$W:$W,0),1))","v":""},{"$f":"IF(E213=\"\",\"\",IF(O213=O212,\"\",CONCATENATE(B213,A213,DIGITADOR!$M$1,C213)))","v":""},null,{"$f":"IF(M213=\"\",\"\",INDEX(REFERENTES!$AB:$AC,MATCH(M213,REFERENTES!$AC:$AC,0),1))","v":""},"",null,209,"",null,null,null,null,null,null,null,null,null,null,null,null,null,null,null,null,null,null,null,null,{"$f":"IF(AL213<>\"\",VLOOKUP(AL213,#REF!,2,FALSE),\"\")","v":""},null,null,null,{"$f":"IF(AP213<>\"\",VLOOKUP(AP213,#REF!,2,TRUE),\"\")","v":""},null,{"$f":"IF(AR213<>\"\",VLOOKUP(AR213,#REF!,2,FALSE),\"\")","v":""},null,null,null,{"$f":"IF(AT213=\"\",\"\",INDEX(REFERENTES!$A:$B,MATCH(AT213,REFERENTES!$A:$A,0),2))","v":""},null,{"$f":"IF(AX213=\"\",\"\",INDEX(REFERENTES!M:O,MATCH(AX213,REFERENTES!M:M,0),3))","v":""}]
["30001212000000",{"$f":"DIGITADOR!$B$2","v":""},0,{"$f":"IF(E214<>\"\",CONCATENATE(B214,A214,DIGITADOR!$M$1,C214),\"\")","v":""},null,null,"","","",null,{"$f":"IF(J214=\"\",\"\",INDEX(REFERENTES!$V:$W,MATCH(J214,REFERENTES!$W:$W,0),1))","v":""},{"$f":"IF(E214=\"\",\"\",IF(O214=O213,\"\",CONCATENATE(B214,A214,DIGITADOR!$M$1,C214)))","v":""},null,{"$f":"IF(M214=\"\",\"\",INDEX(REFERENTES!$AB:$AC,MATCH(M214,REFERENTES!$AC:$AC,0),1))","v":""},"",null,210,"",null,null,null,null,null,null,null,null,null,null,null,null,null,null,null,null,null,null,null,null,{"$f":"IF(AL214<>\"\",VLOOKUP(AL214,#REF!,2,FALSE),\"\")","v":""},null,null,null,{"$f":"IF(AP214<>\"\",VLOOKUP(AP214,#REF!,2,TRUE),\"\")","v":""},null,{"$f":"IF(AR214<>\"\",VLOOKUP(AR214,#REF!,2,FALSE),\"\")","v":""},null,null,null,{"$f":"IF(AT214=\"\",\"\",INDEX(REFERENTES!$A:$B,MATCH(AT214,REFERENTES!$A:$A,0),2))","v":""},null,{"$f":"IF(AX214=\"\",\"\",INDEX(REFERENTES!M:O,MATCH(AX214,REFERENTES!M:M,0),3))","v":""}]
["30001212000000",{"$f":"DIGITADOR!$B$2","v":""},0,{"$f":"IF(E215<>\"\",CONCATENATE(B215,A215,DIGITADOR!$M$1,C215),\"\")","v":""},null,null,"","","",null,{"$f":"IF(J215=\"\",\"\",INDEX(REFERENTES!$V:$W,MATCH(J215,REFERENTES!$W:$W,0),1))","v":""},{"$f":"IF(E215=\"\",\"\",IF(O215=O214,\"\",CONCATENATE(B215,A215,DIGITADOR!$M$1,C215)))","v":""},null,{"$f":"IF(M215=\"\",\"\",INDEX(REFERENTES!$AB:$AC,MATCH(M215,REFERENTES!$AC:$AC,0),1))","v":""},"",null,211,"",null,null,null,null,null,null,null,null,null,null,null,null,null,null,null,null,null,null,null,null,{"$f":"IF(AL215<>\"\",VLOOKUP(AL215,#REF!,2,FALSE),\"\")","v":""},null,null,null,{"$f":"IF(AP215<>\"\",VLOOKUP(AP215,#REF!,2,TRUE),\"\")","v":""},null,{"$f":"IF(AR215<>\"\",VLOOKUP(AR215,#REF!,2,FALSE),\"\")","v":""},null,null,null,{"$f":"IF(AT215=\"\",\"\",INDEX(REFERENTES!$A:$B,MATCH(AT215,REFERENTES!$A:$A,0),2))","v":""},null,{"$f":"IF(AX215=\"\",\"\",INDEX(REFERENTES!M:O,MATCH(AX215,REFERENTES!M:M,0),3))","v":""}]
["30001212000000",{"$f":"DIGITADOR!$B$2","v":""},0,{"$f":"IF(E216<>\"\",CONCATENATE(B216,A216,DIGITADOR!$M$1,C216),\"\")","v":""},null,null,"","","",null,{"$f":"IF(J216=\"\",\"\",INDEX(REFERENTES!$V:$W,MATCH(J216,REFERENTES!$W:$W,0),1))","v":""},{"$f":"IF(E216=\"\",\"\",IF(O216=O215,\"\",CONCATENATE(B216,A216,DIGITADOR!$M$1,C216)))","v":""},null,{"$f":"IF(M216=\"\",\"\",INDEX(REFERENTES!$AB:$AC,MATCH(M216,REFERENTES!$AC:$AC,0),1))","v":""},"",null,212,"",null,null,null,null,null,null,null,null,null,null,null,null,null,null,null,null,null,null,null,null,{"$f":"IF(AL216<>\"\",VLOOKUP(AL216,#REF!,2,FALSE),\"\")","v":""},null,null,null,{"$f":"IF(AP216<>\"\",VLOOKUP(AP216,#REF!,2,TRUE),\"\")","v":""},null,{"$f":"IF(AR216<>\"\",VLOOKUP(AR216,#REF!,2,FALSE),\"\")","v":""},null,null,null,{"$f":"IF(AT216=\"\",\"\",INDEX(REFERENTES!$A:$B,MATCH(AT216,REFERENTES!$A:$A,0),2))","v":""},null,{"$f":"IF(AX216=\"\",\"\",INDEX(REFERENTES!M:O,MATCH(AX216,REFERENTES!M:M,0),3))","v":""}]
["30001212000000",{"$f":"DIGITADOR!$B$2","v":""},0,{"$f":"IF(E217<>\"\",CONCATENATE(B217,A217,DIGITADOR!$M$1,C217),\"\")","v":""},null,null,"","","",null,{"$f":"IF(J217=\"\",\"\",INDEX(REFERENTES!$V:$W,MATCH(J217,REFERENTES!$W:$W,0),1))","v":""},{"$f":"IF(E217=\"\",\"\",IF(O217=O216,\"\",CONCATENATE(B217,A217,DIGITADOR!$M$1,C217)))","v":""},null,{"$f":"IF(M217=\"\",\"\",INDEX(REFERENTES!$AB:$AC,MATCH(M217,REFERENTES!$AC:$AC,0),1))","v":""},"",null,213,"",null,null,null,null,null,null,null,null,null,null,null,null,null,null,null,null,null,null,null,null,{"$f":"IF(AL217<>\"\",VLOOKUP(AL217,#REF!,2,FALSE),\"\")","v":""},null,null,null,{"$f":"IF(AP217<>\"\",VLOOKUP(AP217,#REF!,2,TRUE),\"\")","v":""},null,{"$f":"IF(AR217<>\"\",VLOOKUP(AR217,#REF!,2,FALSE),\"\")","v":""},null,null,null,{"$f":"IF(AT217=\"\",\"\",INDEX(REFERENTES!$A:$B,MATCH(AT217,REFERENTES!$A:$A,0),2))","v":""},null,{"$f":"IF(AX217=\"\",\"\",INDEX(REFERENTES!M:O,MATCH(AX217,REFERENTES!M:M,0),3))","v":""}]
["30001212000000",{"$f":"DIGITADOR!$B$2","v":""},0,{"$f":"IF(E218<>\"\",CONCATENATE(B218,A218,DIGITADOR!$M$1,C218),\"\")","v":""},null,null,"","","",null,{"$f":"IF(J218=\"\",\"\",INDEX(REFERENTES!$V:$W,MATCH(J218,REFERENTES!$W:$W,0),1))","v":""},{"$f":"IF(E218=\"\",\"\",IF(O218=O217,\"\",CONCATENATE(B218,A218,DIGITADOR!$M$1,C218)))","v":""},null,{"$f":"IF(M218=\"\",\"\",INDEX(REFERENTES!$AB:$AC,MATCH(M218,REFERENTES!$AC:$AC,0),1))","v":""},"",null,214,"",null,null,null,null,null,null,null,null,null,null,null,null,null,null,null,null,null,null,null,null,{"$f":"IF(AL218<>\"\",VLOOKUP(AL218,#REF!,2,FALSE),\"\")","v":""},null,null,null,{"$f":"IF(AP218<>\"\",VLOOKUP(AP218,#REF!,2,TRUE),\"\")","v":""},null,{"$f":"IF(AR218<>\"\",VLOOKUP(AR218,#REF!,2,FALSE),\"\")","v":""},null,null,null,{"$f":"IF(AT218=\"\",\"\",INDEX(REFERENTES!$A:$B,MATCH(AT218,REFERENTES!$A:$A,0),2))","v":""},null,{"$f":"IF(AX218=\"\",\"\",INDEX(REFERENTES!M:O,MATCH(AX218,REFERENTES!M:M,0),3))","v":""}]
["30001212000000",{"$f":"DIGITADOR!$B$2","v":""},0,{"$f":"IF(E219<>\"\",CONCATENATE(B219,A219,DIGITADOR!$M$1,C219),\"\")","v":""},null,null,"","","",null,{"$f":"IF(J219=\"\",\"\",INDEX(REFERENTES!$V:$W,MATCH(J219,REFERENTES!$W:$W,0),1))","v":""},{"$f":"IF(E219=\"\",\"\",IF(O219=O218,\"\",CONCATENATE(B219,A219,DIGITADOR!$M$1,C219)))","v":""},null,{"$f":"IF(M219=\"\",\"\",INDEX(REFERENTES!$AB:$AC,MATCH(M219,REFERENTES!$AC:$AC,0),1))","v":""},"",null,215,"",null,null,null,null,null,null,null,null,null,null,null,null,null,null,null,null,null,null,null,null,{"$f":"IF(AL219<>\"\",VLOOKUP(AL219,#REF!,2,FALSE),\"\")","v":""},null,null,null,{"$f":"IF(AP219<>\"\",VLOOKUP(AP219,#REF!,2,TRUE),\"\")","v":""},null,{"$f":"IF(AR219<>\"\",VLOOKUP(AR219,#REF!,2,FALSE),\"\")","v":""},null,null,null,{"$f":"IF(AT219=\"\",\"\",INDEX(REFERENTES!$A:$B,MATCH(AT219,REFERENTES!$A:$A,0),2))","v":""},null,{"$f":"IF(AX219=\"\",\"\",INDEX(REFERENTES!M:O,MATCH(AX219,REFERENTES!M:M,0),3))","v":""}]
["30001212000000",{"$f":"DIGITADOR!$B$2","v":""},0,{"$f":"IF(E220<>\"\",CONCATENATE(B220,A220,DIGITADOR!$M$1,C220),\"\")","v":""},null,null,"","","",null,{"$f":"IF(J220=\"\",\"\",INDEX(REFERENTES!$V:$W,MATCH(J220,REFERENTES!$W:$W,0),1))","v":""},{"$f":"IF(E220=\"\",\"\",IF(O220=O219,\"\",CONCATENATE(B220,A220,DIGITADOR!$M$1,C220)))","v":""},null,{"$f":"IF(M220=\"\",\"\",INDEX(REFERENTES!$AB:$AC,MATCH(M220,REFERENTES!$AC:$AC,0),1))","v":""},"",null,216,"",null,null,null,null,null,null,null,null,null,null,null,null,null,null,null,null,null,null,null,null,{"$f":"IF(AL220<>\"\",VLOOKUP(AL220,#REF!,2,FALSE),\"\")","v":""},null,null,null,{"$f":"IF(AP220<>\"\",VLOOKUP(AP220,#REF!,2,TRUE),\"\")","v":""},null,{"$f":"IF(AR220<>\"\",VLOOKUP(AR220,#REF!,2,FALSE),\"\")","v":""},null,null,null,{"$f":"IF(AT220=\"\",\"\",INDEX(REFERENTES!$A:$B,MATCH(AT220,REFERENTES!$A:$A,0),2))","v":""},null,{"$f":"IF(AX220=\"\",\"\",INDEX(REFERENTES!M:O,MATCH(AX220,REFERENTES!M:M,0),3))","v":""}]
["30001212000000",{"$f":"DIGITADOR!$B$2","v":""},0,{"$f":"IF(E221<>\"\",CONCATENATE(B221,A221,DIGITADOR!$M$1,C221),\"\")","v":""},null,null,"","","",null,{"$f":"IF(J221=\"\",\"\",INDEX(REFERENTES!$V:$W,MATCH(J221,REFERENTES!$W:$W,0),1))","v":""},{"$f":"IF(E221=\"\",\"\",IF(O221=O220,\"\",CONCATENATE(B221,A221,DIGITADOR!$M$1,C221)))","v":""},null,{"$f":"IF(M221=\"\",\"\",INDEX(REFERENTES!$AB:$AC,MATCH(M221,REFERENTES!$AC:$AC,0),1))","v":""},"",null,217,"",null,null,null,null,null,null,null,null,null,null,null,null,null,null,null,null,null,null,null,null,{"$f":"IF(AL221<>\"\",VLOOKUP(AL221,#REF!,2,FALSE),\"\")","v":""},null,null,null,{"$f":"IF(AP221<>\"\",VLOOKUP(AP221,#REF!,2,TRUE),\"\")","v":""},null,{"$f":"IF(AR221<>\"\",VLOOKUP(AR221,#REF!,2,FALSE),\"\")","v":""},null,null,null,{"$f":"IF(AT221=\"\",\"\",INDEX(REFERENTES!$A:$B,MATCH(AT221,REFERENTES!$A:$A,0),2))","v":""},null,{"$f":"IF(AX221=\"\",\"\",INDEX(REFERENTES!M:O,MATCH(AX221,REFERENTES!M:M,0),3))","v":""}]
["30001212000000",{"$f":"DIGITADOR!$B$2","v":""},0,{"$f":"IF(E222<>\"\",CONCATENATE(B222,A222,DIGITADOR!$M$1,C222),\"\")","v":""},null,null,"","","",null,{"$f":"IF(J222=\"\",\"\",INDEX(REFERENTES!$V:$W,MATCH(J222,REFERENTES!$W:$W,0),1))","v":""},{"$f":"IF(E222=\"\",\"\",IF(O222=O221,\"\",CONCATENATE(B222,A222,DIGITADOR!$M$1,C222)))","v":""},null,{"$f":"IF(M222=\"\",\"\",INDEX(REFERENTES!$AB:$AC,MATCH(M222,REFERENTES!$AC:$AC,0),1))","v":""},"",null,218,"",null,null,null,null,null,null,null,null,null,null,null,null,null,null,null,null,null,null,null,null,{"$f":"IF(AL222<>\"\",VLOOKUP(AL222,#REF!,2,FALSE),\"\")","v":""},null,null,null,{"$f":"IF(AP222<>\"\",VLOOKUP(AP222,#REF!,2,TRUE),\"\")","v":""},null,{"$f":"IF(AR222<>\"\",VLOOKUP(AR222,#REF!,2,FALSE),\"\")","v":""},null,null,null,{"$f":"IF(AT222=\"\",\"\",INDEX(REFERENTES!$A:$B,MATCH(AT222,REFERENTES!$A:$A,0),2))","v":""},null,{"$f":"IF(AX222=\"\",\"\",INDEX(REFERENTES!M:O,MATCH(AX222,REFERENTES!M:M,0),3))","v":""}]
["30001212000000",{"$f":"DIGITADOR!$B$2","v":""},0,{"$f":"IF(E223<>\"\",CONCATENATE(B223,A223,DIGITADOR!$M$1,C223),\"\")","v":""},null,null,"","","",null,{"$f":"IF(J223=\"\",\"\",INDEX(REFERENTES!$V:$W,MATCH(J223,REFERENTES!$W:$W,0),1))","v":""},{"$f":"IF(E223=\"\",\"\",IF(O223=O222,\"\",CONCATENATE(B223,A223,DIGITADOR!$M$1,C223)))","v":""},null,{"$f":"IF(M223=\"\",\"\",INDEX(REFERENTES!$AB:$AC,MATCH(M223,REFERENTES!$AC:$AC,0),1))","v":""},"",null,219,"",null,null,null,null,null,null,null,null,null,null,null,null,null,null,null,null,null,null,null,null,{"$f":"IF(AL223<>\"\",VLOOKUP(AL223,#REF!,2,FALSE),\"\")","v":""},null,null,null,{"$f":"IF(AP223<>\"\",VLOOKUP(AP223,#REF!,2,TRUE),\"\")","v":""},null,{"$f":"IF(AR223<>\"\",VLOOKUP(AR223,#REF!,2,FALSE),\"\")","v":""},null,null,null,{"$f":"IF(AT223=\"\",\"\",INDEX(REFERENTES!$A:$B,MATCH(AT223,REFERENTES!$A:$A,0),2))","v":""},null,{"$f":"IF(AX223=\"\",\"\",INDEX(REFERENTES!M:O,MATCH(AX223,REFERENTES!M:M,0),3))","v":""}]
["30001212000000",{"$f":"DIGITADOR!$B$2","v":""},0,{"$f":"IF(E224<>\"\",CONCATENATE(B224,A224,DIGITADOR!$M$1,C224),\"\")","v":""},null,null,"","","",null,{"$f":"IF(J224=\"\",\"\",INDEX(REFERENTES!$V:$W,MATCH(J224,REFERENTES!$W:$W,0),1))","v":""},{"$f":"IF(E224=\"\",\"\",IF(O224=O223,\"\",CONCATENATE(B224,A224,DIGITADOR!$M$1,C224)))","v":""},null,{"$f":"IF(M224=\"\",\"\",INDEX(REFERENTES!$AB:$AC,MATCH(M224,REFERENTES!$AC:$AC,0),1))","v":""},"",null,220,"",null,null,null,null,null,null,null,null,null,null,null,null,null,null,null,null,null,null,null,null,{"$f":"IF(AL224<>\"\",VLOOKUP(AL224,#REF!,2,FALSE),\"\")","v":""},null,null,null,{"$f":"IF(AP224<>\"\",VLOOKUP(AP224,#REF!,2,TRUE),\"\")","v":""},null,{"$f":"IF(AR224<>\"\",VLOOKUP(AR224,#REF!,2,FALSE),\"\")","v":""},null,null,null,{"$f":"IF(AT224=\"\",\"\",INDEX(REFERENTES!$A:$B,MATCH(AT224,REFERENTES!$A:$A,0),2))","v":""},null,{"$f":"IF(AX224=\"\",\"\",INDEX(REFERENTES!M:O,MATCH(AX224,REFERENTES!M:M,0),3))","v":""}]
["30001212000000",{"$f":"DIGITADOR!$B$2","v":""},0,{"$f":"IF(E225<>\"\",CONCATENATE(B225,A225,DIGITADOR!$M$1,C225),\"\")","v":""},null,null,"","","",null,{"$f":"IF(J225=\"\",\"\",INDEX(REFERENTES!$V:$W,MATCH(J225,REFERENTES!$W:$W,0),1))","v":""},{"$f":"IF(E225=\"\",\"\",IF(O225=O224,\"\",CONCATENATE(B225,A225,DIGITADOR!$M$1,C225)))","v":""},null,{"$f":"IF(M225=\"\",\"\",INDEX(REFERENTES!$AB:$AC,MATCH(M225,REFERENTES!$AC:$AC,0),1))","v":""},"",null,221,"",null,null,null,null,null,null,null,null,null,null,null,null,null,null,null,null,null,null,null,null,{"$f":"IF(AL225<>\"\",VLOOKUP(AL225,#REF!,2,FALSE),\"\")","v":""},null,null,null,{"$f":"IF(AP225<>\"\",VLOOKUP(AP225,#REF!,2,TRUE),\"\")","v":""},null,{"$f":"IF(AR225<>\"\",VLOOKUP(AR225,#REF!,2,FALSE),\"\")","v":""},null,null,null,{"$f":"IF(AT225=\"\",\"\",INDEX(REFERENTES!$A:$B,MATCH(AT225,REFERENTES!$A:$A,0),2))","v":""},null,{"$f":"IF(AX225=\"\",\"\",INDEX(REFERENTES!M:O,MATCH(AX225,REFERENTES!M:M,0),3))","v":""}]
["30001212000000",{"$f":"DIGITADOR!$B$2","v":""},0,{"$f":"IF(E226<>\"\",CONCATENATE(B226,A226,DIGITADOR!$M$1,C226),\"\")","v":""},null,null,"","","",null,{"$f":"IF(J226=\"\",\"\",INDEX(REFERENTES!$V:$W,MATCH(J226,REFERENTES!$W:$W,0),1))","v":""},{"$f":"IF(E226=\"\",\"\",IF(O226=O225,\"\",CONCATENATE(B226,A226,DIGITADOR!$M$1,C226)))","v":""},null,{"$f":"IF(M226=\"\",\"\",INDEX(REFERENTES!$AB:$AC,MATCH(M226,REFERENTES!$AC:$AC,0),1))","v":""},"",null,222,"",null,null,null,null,null,null,null,null,null,null,null,null,null,null,null,null,null,null,null,null,{"$f":"IF(AL226<>\"\",VLOOKUP(AL226,#REF!,2,FALSE),\"\")","v":""},null,null,null,{"$f":"IF(AP226<>\"\",VLOOKUP(AP226,#REF!,2,TRUE),\"\")","v":""},null,{"$f":"IF(AR226<>\"\",VLOOKUP(AR226,#REF!,2,FALSE),\"\")","v":""},null,null,null,{"$f":"IF(AT226=\"\",\"\",INDEX(REFERENTES!$A:$B,MATCH(AT226,REFERENTES!$A:$A,0),2))","v":""},null,{"$f":"IF(AX226=\"\",\"\",INDEX(REFERENTES!M:O,MATCH(AX226,REFERENTES!M:M,0),3))","v":""}]
["30001212000000",{"$f":"DIGITADOR!$B$2","v":""},0,{"$f":"IF(E227<>\"\",CONCATENATE(B227,A227,DIGITADOR!$M$1,C227),\"\")","v":""},null,null,"","","",null,{"$f":"IF(J227=\"\",\"\",INDEX(REFERENTES!$V:$W,MATCH(J227,REFERENTES!$W:$W,0),1))","v":""},{"$f":"IF(E227=\"\",\"\",IF(O227=O226,\"\",CONCATENATE(B227,A227,DIGITADOR!$M$1,C227)))","v":""},null,{"$f":"IF(M227=\"\",\"\",INDEX(REFERENTES!$AB:$AC,MATCH(M227,REFERENTES!$AC:$AC,0),1))","v":""},"",null,223,"",null,null,null,null,null,null,null,null,null,null,null,null,null,null,null,null,null,null,null,null,{"$f":"IF(AL227<>\"\",VLOOKUP(AL227,#REF!,2,FALSE),\"\")","v":""},null,null,null,{"$f":"IF(AP227<>\"\",VLOOKUP(AP227,#REF!,2,TRUE),\"\")","v":""},null,{"$f":"IF(AR227<>\"\",VLOOKUP(AR227,#REF!,2,FALSE),\"\")","v":""},null,null,null,{"$f":"IF(AT227=\"\",\"\",INDEX(REFERENTES!$A:$B,MATCH(AT227,REFERENTES!$A:$A,0),2))","v":""},null,{"$f":"IF(AX227=\"\",\"\",INDEX(REFERENTES!M:O,MATCH(AX227,REFERENTES!M:M,0),3))","v":""}]
["30001212000000",{"$f":"DIGITADOR!$B$2","v":""},0,{"$f":"IF(E228<>\"\",CONCATENATE(B228,A228,DIGITADOR!$M$1,C228),\"\")","v":""},null,null,"","","",null,{"$f":"IF(J228=\"\",\"\",INDEX(REFERENTES!$V:$W,MATCH(J228,REFERENTES!$W:$W,0),1))","v":""},{"$f":"IF(E228=\"\",\"\",IF(O228=O227,\"\",CONCATENATE(B228,A228,DIGITADOR!$M$1,C228)))","v":""},null,{"$f":"IF(M228=\"\",\"\",INDEX(REFERENTES!$AB:$AC,MATCH(M228,REFERENTES!$AC:$AC,0),1))","v":""},"",null,224,"",null,null,null,null,null,null,null,null,null,null,null,null,null,null,null,null,null,null,null,null,{"$f":"IF(AL228<>\"\",VLOOKUP(AL228,#REF!,2,FALSE),\"\")","v":""},null,null,null,{"$f":"IF(AP228<>\"\",VLOOKUP(AP228,#REF!,2,TRUE),\"\")","v":""},null,{"$f":"IF(AR228<>\"\",VLOOKUP(AR228,#REF!,2,FALSE),\"\")","v":""},null,null,null,{"$f":"IF(AT228=\"\",\"\",INDEX(REFERENTES!$A:$B,MATCH(AT228,REFERENTES!$A:$A,0),2))","v":""},null,{"$f":"IF(AX228=\"\",\"\",INDEX(REFERENTES!M:O,MATCH(AX228,REFERENTES!M:M,0),3))","v":""}]
["30001212000000",{"$f":"DIGITADOR!$B$2","v":""},0,{"$f":"IF(E229<>\"\",CONCATENATE(B229,A229,DIGITADOR!$M$1,C229),\"\")","v":""},null,null,"","","",null,{"$f":"IF(J229=\"\",\"\",INDEX(REFERENTES!$V:$W,MATCH(J229,REFERENTES!$W:$W,0),1))","v":""},{"$f":"IF(E229=\"\",\"\",IF(O229=O228,\"\",CONCATENATE(B229,A229,DIGITADOR!$M$1,C229)))","v":""},null,{"$f":"IF(M229=\"\",\"\",INDEX(REFERENTES!$AB:$AC,MATCH(M229,REFERENTES!$AC:$AC,0),1))","v":""},"",null,225,"",null,null,null,null,null,null,null,null,null,null,null,null,null,null,null,null,null,null,null,null,{"$f":"IF(AL229<>\"\",VLOOKUP(AL229,#REF!,2,FALSE),\"\")","v":""},null,null,null,{"$f":"IF(AP229<>\"\",VLOOKUP(AP229,#REF!,2,TRUE),\"\")","v":""},null,{"$f":"IF(AR229<>\"\",VLOOKUP(AR229,#REF!,2,FALSE),\"\")","v":""},null,null,null,{"$f":"IF(AT229=\"\",\"\",INDEX(REFERENTES!$A:$B,MATCH(AT229,REFERENTES!$A:$A,0),2))","v":""},null,{"$f":"IF(AX229=\"\",\"\",INDEX(REFERENTES!M:O,MATCH(AX229,REFERENTES!M:M,0),3))","v":""}]
["30001212000000",{"$f":"DIGITADOR!$B$2","v":""},0,{"$f":"IF(E230<>\"\",CONCATENATE(B230,A230,DIGITADOR!$M$1,C230),\"\")","v":""},null,null,"","","",null,{"$f":"IF(J230=\"\",\"\",INDEX(REFERENTES!$V:$W,MATCH(J230,REFERENTES!$W:$W,0),1))","v":""},{"$f":"IF(E230=\"\",\"\",IF(O230=O229,\"\",CONCATENATE(B230,A230,DIGITADOR!$M$1,C230)))","v":""},null,{"$f":"IF(M230=\"\",\"\",INDEX(REFERENTES!$AB:$AC,MATCH(M230,REFERENTES!$AC:$AC,0),1))","v":""},"",null,226,"",null,null,null,null,null,null,null,null,null,null,null,null,null,null,null,null,null,null,null,null,{"$f":"IF(AL230<>\"\",VLOOKUP(AL230,#REF!,2,FALSE),\"\")","v":""},null,null,null,{"$f":"IF(AP230<>\"\",VLOOKUP(AP230,#REF!,2,TRUE),\"\")","v":""},null,{"$f":"IF(AR230<>\"\",VLOOKUP(AR230,#REF!,2,FALSE),\"\")","v":""},null,null,null,{"$f":"IF(AT230=\"\",\"\",INDEX(REFERENTES!$A:$B,MATCH(AT230,REFERENTES!$A:$A,0),2))","v":""},null,{"$f":"IF(AX230=\"\",\"\",INDEX(REFERENTES!M:O,MATCH(AX230,REFERENTES!M:M,0),3))","v":""}]
["30001212000000",{"$f":"DIGITADOR!$B$2","v":""},0,{"$f":"IF(E231<>\"\",CONCATENATE(B231,A231,DIGITADOR!$M$1,C231),\"\")","v":""},null,null,"","","",null,{"$f":"IF(J231=\"\",\"\",INDEX(REFERENTES!$V:$W,MATCH(J231,REFERENTES!$W:$W,0),1))","v":""},{"$f":"IF(E231=\"\",\"\",IF(O231=O230,\"\",CONCATENATE(B231,A231,DIGITADOR!$M$1,C231)))","v":""},null,{"$f":"IF(M231=\"\",\"\",INDEX(REFERENTES!$AB:$AC,MATCH(M231,REFERENTES!$AC:$AC,0),1))","v":""},"",null,227,"",null,null,null,null,null,null,null,null,null,null,null,null,null,null,null,null,null,null,null,null,{"$f":"IF(AL231<>\"\",VLOOKUP(AL231,#REF!,2,FALSE),\"\")","v":""},null,null,null,{"$f":"IF(AP231<>\"\",VLOOKUP(AP231,#REF!,2,TRUE),\"\")","v":""},null,{"$f":"IF(AR231<>\"\",VLOOKUP(AR231,#REF!,2,FALSE),\"\")","v":""},null,null,null,{"$f":"IF(AT231=\"\",\"\",INDEX(REFERENTES!$A:$B,MATCH(AT231,REFERENTES!$A:$A,0),2))","v":""},null,{"$f":"IF(AX231=\"\",\"\",INDEX(REFERENTES!M:O,MATCH(AX231,REFERENTES!M:M,0),3))","v":""}]
["30001212000000",{"$f":"DIGITADOR!$B$2","v":""},0,{"$f":"IF(E232<>\"\",CONCATENATE(B232,A232,DIGITADOR!$M$1,C232),\"\")","v":""},null,null,"","","",null,{"$f":"IF(J232=\"\",\"\",INDEX(REFERENTES!$V:$W,MATCH(J232,REFERENTES!$W:$W,0),1))","v":""},{"$f":"IF(E232=\"\",\"\",IF(O232=O231,\"\",CONCATENATE(B232,A232,DIGITADOR!$M$1,C232)))","v":""},null,{"$f":"IF(M232=\"\",\"\",INDEX(REFERENTES!$AB:$AC,MATCH(M232,REFERENTES!$AC:$AC,0),1))","v":""},"",null,228,"",null,null,null,null,null,null,null,null,null,null,null,null,null,null,null,null,null,null,null,null,{"$f":"IF(AL232<>\"\",VLOOKUP(AL232,#REF!,2,FALSE),\"\")","v":""},null,null,null,{"$f":"IF(AP232<>\"\",VLOOKUP(AP232,#REF!,2,TRUE),\"\")","v":""},null,{"$f":"IF(AR232<>\"\",VLOOKUP(AR232,#REF!,2,FALSE),\"\")","v":""},null,null,null,{"$f":"IF(AT232=\"\",\"\",INDEX(REFERENTES!$A:$B,MATCH(AT232,REFERENTES!$A:$A,0),2))","v":""},null,{"$f":"IF(AX232=\"\",\"\",INDEX(REFERENTES!M:O,MATCH(AX232,REFERENTES!M:M,0),3))","v":""}]
["30001212000000",{"$f":"DIGITADOR!$B$2","v":""},0,{"$f":"IF(E233<>\"\",CONCATENATE(B233,A233,DIGITADOR!$M$1,C233),\"\")","v":""},null,null,"",{"$f":"IF(G233<>\"\",MONTH(G233),\"\")","v":""},"",null,{"$f":"IF(J233=\"\",\"\",INDEX(REFERENTES!$V:$W,MATCH(J233,REFERENTES!$W:$W,0),1))","v":""},{"$f":"IF(E233=\"\",\"\",IF(O233=O232,\"\",CONCATENATE(B233,A233,DIGITADOR!$M$1,C233)))","v":""},null,{"$f":"IF(M233=\"\",\"\",INDEX(REFERENTES!$AB:$AC,MATCH(M233,REFERENTES!$AC:$AC,0),1))","v":""},"",null,229,"",null,null,null,null,null,null,null,null,null,null,null,null,null,null,null,null,null,null,null,null,{"$f":"IF(AL233<>\"\",VLOOKUP(AL233,#REF!,2,FALSE),\"\")","v":""},null,null,null,{"$f":"IF(AP233<>\"\",VLOOKUP(AP233,#REF!,2,TRUE),\"\")","v":""},null,{"$f":"IF(AR233<>\"\",VLOOKUP(AR233,#REF!,2,FALSE),\"\")","v":""},null,null,null,{"$f":"IF(AT233=\"\",\"\",INDEX(REFERENTES!$A:$B,MATCH(AT233,REFERENTES!$A:$A,0),2))","v":""},null,{"$f":"IF(AX233=\"\",\"\",INDEX(REFERENTES!M:O,MATCH(AX233,REFERENTES!M:M,0),3))","v":""}]
["30001212000000",{"$f":"DIGITADOR!$B$2","v":""},0,{"$f":"IF(E234<>\"\",CONCATENATE(B234,A234,DIGITADOR!$M$1,C234),\"\")","v":""},null,null,"","","",null,{"$f":"IF(J234=\"\",\"\",INDEX(REFERENTES!$V:$W,MATCH(J234,REFERENTES!$W:$W,0),1))","v":""},{"$f":"IF(E234=\"\",\"\",IF(O234=O233,\"\",CONCATENATE(B234,A234,DIGITADOR!$M$1,C234)))","v":""},null,{"$f":"IF(M234=\"\",\"\",INDEX(REFERENTES!$AB:$AC,MATCH(M234,REFERENTES!$AC:$AC,0),1))","v":""},"",null,230,"",null,null,null,null,null,null,null,null,null,null,null,null,null,null,null,null,null,null,null,null,{"$f":"IF(AL234<>\"\",VLOOKUP(AL234,#REF!,2,FALSE),\"\")","v":""},null,null,null,{"$f":"IF(AP234<>\"\",VLOOKUP(AP234,#REF!,2,TRUE),\"\")","v":""},null,{"$f":"IF(AR234<>\"\",VLOOKUP(AR234,#REF!,2,FALSE),\"\")","v":""},null,null,null,{"$f":"IF(AT234=\"\",\"\",INDEX(REFERENTES!$A:$B,MATCH(AT234,REFERENTES!$A:$A,0),2))","v":""},null,{"$f":"IF(AX234=\"\",\"\",INDEX(REFERENTES!M:O,MATCH(AX234,REFERENTES!M:M,0),3))","v":""}]
["30001212000000",{"$f":"DIGITADOR!$B$2","v":""},0,{"$f":"IF(E235<>\"\",CONCATENATE(B235,A235,DIGITADOR!$M$1,C235),\"\")","v":""},null,null,"","","",null,{"$f":"IF(J235=\"\",\"\",INDEX(REFERENTES!$V:$W,MATCH(J235,REFERENTES!$W:$W,0),1))","v":""},{"$f":"IF(E235=\"\",\"\",IF(O235=O234,\"\",CONCATENATE(B235,A235,DIGITADOR!$M$1,C235)))","v":""},null,{"$f":"IF(M235=\"\",\"\",INDEX(REFERENTES!$AB:$AC,MATCH(M235,REFERENTES!$AC:$AC,0),1))","v":""},"",null,231,"",null,null,null,null,null,null,null,null,null,null,null,null,null,null,null,null,null,null,null,null,{"$f":"IF(AL235<>\"\",VLOOKUP(AL235,#REF!,2,FALSE),\"\")","v":""},null,null,null,{"$f":"IF(AP235<>\"\",VLOOKUP(AP235,#REF!,2,TRUE),\"\")","v":""},null,{"$f":"IF(AR235<>\"\",VLOOKUP(AR235,#REF!,2,FALSE),\"\")","v":""},null,null,null,{"$f":"IF(AT235=\"\",\"\",INDEX(REFERENTES!$A:$B,MATCH(AT235,REFERENTES!$A:$A,0),2))","v":""},null,{"$f":"IF(AX235=\"\",\"\",INDEX(REFERENTES!M:O,MATCH(AX235,REFERENTES!M:M,0),3))","v":""}]
["30001212000000",{"$f":"DIGITADOR!$B$2","v":""},0,{"$f":"IF(E236<>\"\",CONCATENATE(B236,A236,DIGITADOR!$M$1,C236),\"\")","v":""},null,null,"","","",null,{"$f":"IF(J236=\"\",\"\",INDEX(REFERENTES!$V:$W,MATCH(J236,REFERENTES!$W:$W,0),1))","v":""},{"$f":"IF(E236=\"\",\"\",IF(O236=O235,\"\",CONCATENATE(B236,A236,DIGITADOR!$M$1,C236)))","v":""},null,{"$f":"IF(M236=\"\",\"\",INDEX(REFERENTES!$AB:$AC,MATCH(M236,REFERENTES!$AC:$AC,0),1))","v":""},"",null,232,"",null,null,null,null,null,null,null,null,null,null,null,null,null,null,null,null,null,null,null,null,{"$f":"IF(AL236<>\"\",VLOOKUP(AL236,#REF!,2,FALSE),\"\")","v":""},null,null,null,{"$f":"IF(AP236<>\"\",VLOOKUP(AP236,#REF!,2,TRUE),\"\")","v":""},null,{"$f":"IF(AR236<>\"\",VLOOKUP(AR236,#REF!,2,FALSE),\"\")","v":""},null,null,null,{"$f":"IF(AT236=\"\",\"\",INDEX(REFERENTES!$A:$B,MATCH(AT236,REFERENTES!$A:$A,0),2))","v":""},null,{"$f":"IF(AX236=\"\",\"\",INDEX(REFERENTES!M:O,MATCH(AX236,REFERENTES!M:M,0),3))","v":""}]
["30001212000000",{"$f":"DIGITADOR!$B$2","v":""},0,{"$f":"IF(E237<>\"\",CONCATENATE(B237,A237,DIGITADOR!$M$1,C237),\"\")","v":""},null,null,"","","",null,{"$f":"IF(J237=\"\",\"\",INDEX(REFERENTES!$V:$W,MATCH(J237,REFERENTES!$W:$W,0),1))","v":""},{"$f":"IF(E237=\"\",\"\",IF(O237=O236,\"\",CONCATENATE(B237,A237,DIGITADOR!$M$1,C237)))","v":""},null,{"$f":"IF(M237=\"\",\"\",INDEX(REFERENTES!$AB:$AC,MATCH(M237,REFERENTES!$AC:$AC,0),1))","v":""},"",null,233,"",null,null,null,null,null,null,null,null,null,null,null,null,null,null,null,null,null,null,null,null,{"$f":"IF(AL237<>\"\",VLOOKUP(AL237,#REF!,2,FALSE),\"\")","v":""},null,null,null,{"$f":"IF(AP237<>\"\",VLOOKUP(AP237,#REF!,2,TRUE),\"\")","v":""},null,{"$f":"IF(AR237<>\"\",VLOOKUP(AR237,#REF!,2,FALSE),\"\")","v":""},null,null,null,{"$f":"IF(AT237=\"\",\"\",INDEX(REFERENTES!$A:$B,MATCH(AT237,REFERENTES!$A:$A,0),2))","v":""},null,{"$f":"IF(AX237=\"\",\"\",INDEX(REFERENTES!M:O,MATCH(AX237,REFERENTES!M:M,0),3))","v":""}]
["30001212000000",{"$f":"DIGITADOR!$B$2","v":""},0,{"$f":"IF(E238<>\"\",CONCATENATE(B238,A238,DIGITADOR!$M$1,C238),\"\")","v":""},null,null,"","","",null,{"$f":"IF(J238=\"\",\"\",INDEX(REFERENTES!$V:$W,MATCH(J238,REFERENTES!$W:$W,0),1))","v":""},{"$f":"IF(E238=\"\",\"\",IF(O238=O237,\"\",CONCATENATE(B238,A238,DIGITADOR!$M$1,C238)))","v":""},null,{"$f":"IF(M238=\"\",\"\",INDEX(REFERENTES!$AB:$AC,MATCH(M238,REFERENTES!$AC:$AC,0),1))","v":""},"",null,234,"",null,null,null,null,null,null,null,null,null,null,null,null,null,null,null,null,null,null,null,null,{"$f":"IF(AL238<>\"\",VLOOKUP(AL238,#REF!,2,FALSE),\"\")","v":""},null,null,null,{"$f":"IF(AP238<>\"\",VLOOKUP(AP238,#REF!,2,TRUE),\"\")","v":""},null,{"$f":"IF(AR238<>\"\",VLOOKUP(AR238,#REF!,2,FALSE),\"\")","v":""},null,null,null,{"$f":"IF(AT238=\"\",\"\",INDEX(REFERENTES!$A:$B,MATCH(AT238,REFERENTES!$A:$A,0),2))","v":""},null,{"$f":"IF(AX238=\"\",\"\",INDEX(REFERENTES!M:O,MATCH(AX238,REFERENTES!M:M,0),3))","v":""}]
["30001212000000",{"$f":"DIGITADOR!$B$2","v":""},0,{"$f":"IF(E239<>\"\",CONCATENATE(B239,A239,DIGITADOR!$M$1,C239),\"\")","v":""},null,null,"","","",null,{"$f":"IF(J239=\"\",\"\",INDEX(REFERENTES!$V:$W,MATCH(J239,REFERENTES!$W:$W,0),1))","v":""},{"$f":"IF(E239=\"\",\"\",IF(O239=O238,\"\",CONCATENATE(B239,A239,DIGITADOR!$M$1,C239)))","v":""},null,{"$f":"IF(M239=\"\",\"\",INDEX(REFERENTES!$AB:$AC,MATCH(M239,REFERENTES!$AC:$AC,0),1))","v":""},"",null,235,"",null,null,null,null,null,null,null,null,null,null,null,null,null,null,null,null,null,null,null,null,{"$f":"IF(AL239<>\"\",VLOOKUP(AL239,#REF!,2,FALSE),\"\")","v":""},null,null,null,{"$f":"IF(AP239<>\"\",VLOOKUP(AP239,#REF!,2,TRUE),\"\")","v":""},null,{"$f":"IF(AR239<>\"\",VLOOKUP(AR239,#REF!,2,FALSE),\"\")","v":""},null,null,null,{"$f":"IF(AT239=\"\",\"\",INDEX(REFERENTES!$A:$B,MATCH(AT239,REFERENTES!$A:$A,0),2))","v":""},null,{"$f":"IF(AX239=\"\",\"\",INDEX(REFERENTES!M:O,MATCH(AX239,REFERENTES!M:M,0),3))","v":""}]
["30001212000000",{"$f":"DIGITADOR!$B$2","v":""},0,{"$f":"IF(E240<>\"\",CONCATENATE(B240,A240,DIGITADOR!$M$1,C240),\"\")","v":""},null,null,"","","",null,{"$f":"IF(J240=\"\",\"\",INDEX(REFERENTES!$V:$W,MATCH(J240,REFERENTES!$W:$W,0),1))","v":""},{"$f":"IF(E240=\"\",\"\",IF(O240=O239,\"\",CONCATENATE(B240,A240,DIGITADOR!$M$1,C240)))","v":""},null,{"$f":"IF(M240=\"\",\"\",INDEX(REFERENTES!$AB:$AC,MATCH(M240,REFERENTES!$AC:$AC,0),1))","v":""},"",null,236,"",null,null,null,null,null,null,null,null,null,null,null,null,null,null,null,null,null,null,null,null,{"$f":"IF(AL240<>\"\",VLOOKUP(AL240,#REF!,2,FALSE),\"\")","v":""},null,null,null,{"$f":"IF(AP240<>\"\",VLOOKUP(AP240,#REF!,2,TRUE),\"\")","v":""},null,{"$f":"IF(AR240<>\"\",VLOOKUP(AR240,#REF!,2,FALSE),\"\")","v":""},null,null,null,{"$f":"IF(AT240=\"\",\"\",INDEX(REFERENTES!$A:$B,MATCH(AT240,REFERENTES!$A:$A,0),2))","v":""},null,{"$f":"IF(AX240=\"\",\"\",INDEX(REFERENTES!M:O,MATCH(AX240,REFERENTES!M:M,0),3))","v":""}]
["30001212000000",{"$f":"DIGITADOR!$B$2","v":""},0,{"$f":"IF(E241<>\"\",CONCATENATE(B241,A241,DIGITADOR!$M$1,C241),\"\")","v":""},null,null,"","","",null,{"$f":"IF(J241=\"\",\"\",INDEX(REFERENTES!$V:$W,MATCH(J241,REFERENTES!$W:$W,0),1))","v":""},{"$f":"IF(E241=\"\",\"\",IF(O241=O240,\"\",CONCATENATE(B241,A241,DIGITADOR!$M$1,C241)))","v":""},null,{"$f":"IF(M241=\"\",\"\",INDEX(REFERENTES!$AB:$AC,MATCH(M241,REFERENTES!$AC:$AC,0),1))","v":""},"",null,237,"",null,null,null,null,null,null,null,null,null,null,null,null,null,null,null,null,null,null,null,null,{"$f":"IF(AL241<>\"\",VLOOKUP(AL241,#REF!,2,FALSE),\"\")","v":""},null,null,null,{"$f":"IF(AP241<>\"\",VLOOKUP(AP241,#REF!,2,TRUE),\"\")","v":""},null,{"$f":"IF(AR241<>\"\",VLOOKUP(AR241,#REF!,2,FALSE),\"\")","v":""},null,null,null,{"$f":"IF(AT241=\"\",\"\",INDEX(REFERENTES!$A:$B,MATCH(AT241,REFERENTES!$A:$A,0),2))","v":""},null,{"$f":"IF(AX241=\"\",\"\",INDEX(REFERENTES!M:O,MATCH(AX241,REFERENTES!M:M,0),3))","v":""}]
["30001212000000",{"$f":"DIGITADOR!$B$2","v":""},0,{"$f":"IF(E242<>\"\",CONCATENATE(B242,A242,DIGITADOR!$M$1,C242),\"\")","v":""},null,null,"","","",null,{"$f":"IF(J242=\"\",\"\",INDEX(REFERENTES!$V:$W,MATCH(J242,REFERENTES!$W:$W,0),1))","v":""},{"$f":"IF(E242=\"\",\"\",IF(O242=O241,\"\",CONCATENATE(B242,A242,DIGITADOR!$M$1,C242)))","v":""},null,{"$f":"IF(M242=\"\",\"\",INDEX(REFERENTES!$AB:$AC,MATCH(M242,REFERENTES!$AC:$AC,0),1))","v":""},"",null,238,"",null,null,null,null,null,null,null,null,null,null,null,null,null,null,null,null,null,null,null,null,{"$f":"IF(AL242<>\"\",VLOOKUP(AL242,#REF!,2,FALSE),\"\")","v":""},null,null,null,{"$f":"IF(AP242<>\"\",VLOOKUP(AP242,#REF!,2,TRUE),\"\")","v":""},null,{"$f":"IF(AR242<>\"\",VLOOKUP(AR242,#REF!,2,FALSE),\"\")","v":""},null,null,null,{"$f":"IF(AT242=\"\",\"\",INDEX(REFERENTES!$A:$B,MATCH(AT242,REFERENTES!$A:$A,0),2))","v":""},null,{"$f":"IF(AX242=\"\",\"\",INDEX(REFERENTES!M:O,MATCH(AX242,REFERENTES!M:M,0),3))","v":""}]
["30001212000000",{"$f":"DIGITADOR!$B$2","v":""},0,{"$f":"IF(E243<>\"\",CONCATENATE(B243,A243,DIGITADOR!$M$1,C243),\"\")","v":""},null,null,"","","",null,{"$f":"IF(J243=\"\",\"\",INDEX(REFERENTES!$V:$W,MATCH(J243,REFERENTES!$W:$W,0),1))","v":""},{"$f":"IF(E243=\"\",\"\",IF(O243=O242,\"\",CONCATENATE(B243,A243,DIGITADOR!$M$1,C243)))","v":""},null,{"$f":"IF(M243=\"\",\"\",INDEX(REFERENTES!$AB:$AC,MATCH(M243,REFERENTES!$AC:$AC,0),1))","v":""},"",null,239,"",null,null,null,null,null,null,null,null,null,null,null,null,null,null,null,null,null,null,null,null,{"$f":"IF(AL243<>\"\",VLOOKUP(AL243,#REF!,2,FALSE),\"\")","v":""},null,null,null,{"$f":"IF(AP243<>\"\",VLOOKUP(AP243,#REF!,2,TRUE),\"\")","v":""},null,{"$f":"IF(AR243<>\"\",VLOOKUP(AR243,#REF!,2,FALSE),\"\")","v":""},null,null,null,{"$f":"IF(AT243=\"\",\"\",INDEX(REFERENTES!$A:$B,MATCH(AT243,REFERENTES!$A:$A,0),2))","v":""},null,{"$f":"IF(AX243=\"\",\"\",INDEX(REFERENTES!M:O,MATCH(AX243,REFERENTES!M:M,0),3))","v":""}]
["30001212000000",{"$f":"DIGITADOR!$B$2","v":""},0,{"$f":"IF(E244<>\"\",CONCATENATE(B244,A244,DIGITADOR!$M$1,C244),\"\")","v":""},null,null,"","","",null,{"$f":"IF(J244=\"\",\"\",INDEX(REFERENTES!$V:$W,MATCH(J244,REFERENTES!$W:$W,0),1))","v":""},{"$f":"IF(E244=\"\",\"\",IF(O244=O243,\"\",CONCATENATE(B244,A244,DIGITADOR!$M$1,C244)))","v":""},null,{"$f":"IF(M244=\"\",\"\",INDEX(REFERENTES!$AB:$AC,MATCH(M244,REFERENTES!$AC:$AC,0),1))","v":""},"",null,240,"",null,null,null,null,null,null,null,null,null,null,null,null,null,null,null,null,null,null,null,null,{"$f":"IF(AL244<>\"\",VLOOKUP(AL244,#REF!,2,FALSE),\"\")","v":""},null,null,null,{"$f":"IF(AP244<>\"\",VLOOKUP(AP244,#REF!,2,TRUE),\"\")","v":""},null,{"$f":"IF(AR244<>\"\",VLOOKUP(AR244,#REF!,2,FALSE),\"\")","v":""},null,null,null,{"$f":"IF(AT244=\"\",\"\",INDEX(REFERENTES!$A:$B,MATCH(AT244,REFERENTES!$A:$A,0),2))","v":""},null,{"$f":"IF(AX244=\"\",\"\",INDEX(REFERENTES!M:O,MATCH(AX244,REFERENTES!M:M,0),3))","v":""}]
["30001212000000",{"$f":"DIGITADOR!$B$2","v":""},0,{"$f":"IF(E245<>\"\",CONCATENATE(B245,A245,DIGITADOR!$M$1,C245),\"\")","v":""},null,null,"","","",null,{"$f":"IF(J245=\"\",\"\",INDEX(REFERENTES!$V:$W,MATCH(J245,REFERENTES!$W:$W,0),1))","v":""},{"$f":"IF(E245=\"\",\"\",IF(O245=O244,\"\",CONCATENATE(B245,A245,DIGITADOR!$M$1,C245)))","v":""},null,{"$f":"IF(M245=\"\",\"\",INDEX(REFERENTES!$AB:$AC,MATCH(M245,REFERENTES!$AC:$AC,0),1))","v":""},"",null,241,"",null,null,null,null,null,null,null,null,null,null,null,null,null,null,null,null,null,null,null,null,{"$f":"IF(AL245<>\"\",VLOOKUP(AL245,#REF!,2,FALSE),\"\")","v":""},null,null,null,{"$f":"IF(AP245<>\"\",VLOOKUP(AP245,#REF!,2,TRUE),\"\")","v":""},null,{"$f":"IF(AR245<>\"\",VLOOKUP(AR245,#REF!,2,FALSE),\"\")","v":""},null,null,null,{"$f":"IF(AT245=\"\",\"\",INDEX(REFERENTES!$A:$B,MATCH(AT245,REFERENTES!$A:$A,0),2))","v":""},null,{"$f":"IF(AX245=\"\",\"\",INDEX(REFERENTES!M:O,MATCH(AX245,REFERENTES!M:M,0),3))","v":""}]
["30001212000000",{"$f":"DIGITADOR!$B$2","v":""},0,{"$f":"IF(E246<>\"\",CONCATENATE(B246,A246,DIGITADOR!$M$1,C246),\"\")","v":""},null,null,"","","",null,{"$f":"IF(J246=\"\",\"\",INDEX(REFERENTES!$V:$W,MATCH(J246,REFERENTES!$W:$W,0),1))","v":""},{"$f":"IF(E246=\"\",\"\",IF(O246=O245,\"\",CONCATENATE(B246,A246,DIGITADOR!$M$1,C246)))","v":""},null,{"$f":"IF(M246=\"\",\"\",INDEX(REFERENTES!$AB:$AC,MATCH(M246,REFERENTES!$AC:$AC,0),1))","v":""},"",null,242,"",null,null,null,null,null,null,null,null,null,null,null,null,null,null,null,null,null,null,null,null,{"$f":"IF(AL246<>\"\",VLOOKUP(AL246,#REF!,2,FALSE),\"\")","v":""},null,null,null,{"$f":"IF(AP246<>\"\",VLOOKUP(AP246,#REF!,2,TRUE),\"\")","v":""},null,{"$f":"IF(AR246<>\"\",VLOOKUP(AR246,#REF!,2,FALSE),\"\")","v":""},null,null,null,{"$f":"IF(AT246=\"\",\"\",INDEX(REFERENTES!$A:$B,MATCH(AT246,REFERENTES!$A:$A,0),2))","v":""},null,{"$f":"IF(AX246=\"\",\"\",INDEX(REFERENTES!M:O,MATCH(AX246,REFERENTES!M:M,0),3))","v":""}]
["30001212000000",{"$f":"DIGITADOR!$B$2","v":""},0,{"$f":"IF(E247<>\"\",CONCATENATE(B247,A247,DIGITADOR!$M$1,C247),\"\")","v":""},null,null,"","","",null,{"$f":"IF(J247=\"\",\"\",INDEX(REFERENTES!$V:$W,MATCH(J247,REFERENTES!$W:$W,0),1))","v":""},{"$f":"IF(E247=\"\",\"\",IF(O247=O246,\"\",CONCATENATE(B247,A247,DIGITADOR!$M$1,C247)))","v":""},null,{"$f":"IF(M247=\"\",\"\",INDEX(REFERENTES!$AB:$AC,MATCH(M247,REFERENTES!$AC:$AC,0),1))","v":""},"",null,243,"",null,null,null,null,null,null,null,null,null,null,null,null,null,null,null,null,null,null,null,null,{"$f":"IF(AL247<>\"\",VLOOKUP(AL247,#REF!,2,FALSE),\"\")","v":""},null,null,null,{"$f":"IF(AP247<>\"\",VLOOKUP(AP247,#REF!,2,TRUE),\"\")","v":""},null,{"$f":"IF(AR247<>\"\",VLOOKUP(AR247,#REF!,2,FALSE),\"\")","v":""},null,null,null,{"$f":"IF(AT247=\"\",\"\",INDEX(REFERENTES!$A:$B,MATCH(AT247,REFERENTES!$A:$A,0),2))","v":""},null,{"$f":"IF(AX247=\"\",\"\",INDEX(REFERENTES!M:O,MATCH(AX247,REFERENTES!M:M,0),3))","v":""}]
["30001212000000",{"$f":"DIGITADOR!$B$2","v":""},0,{"$f":"IF(E248<>\"\",CONCATENATE(B248,A248,DIGITADOR!$M$1,C248),\"\")","v":""},null,null,"","","",null,{"$f":"IF(J248=\"\",\"\",INDEX(REFERENTES!$V:$W,MATCH(J248,REFERENTES!$W:$W,0),1))","v":""},{"$f":"IF(E248=\"\",\"\",IF(O248=O247,\"\",CONCATENATE(B248,A248,DIGITADOR!$M$1,C248)))","v":""},null,{"$f":"IF(M248=\"\",\"\",INDEX(REFERENTES!$AB:$AC,MATCH(M248,REFERENTES!$AC:$AC,0),1))","v":""},"",null,244,"",null,null,null,null,null,null,null,null,null,null,null,null,null,null,null,null,null,null,null,null,{"$f":"IF(AL248<>\"\",VLOOKUP(AL248,#REF!,2,FALSE),\"\")","v":""},null,null,null,{"$f":"IF(AP248<>\"\",VLOOKUP(AP248,#REF!,2,TRUE),\"\")","v":""},null,{"$f":"IF(AR248<>\"\",VLOOKUP(AR248,#REF!,2,FALSE),\"\")","v":""},null,null,null,{"$f":"IF(AT248=\"\",\"\",INDEX(REFERENTES!$A:$B,MATCH(AT248,REFERENTES!$A:$A,0),2))","v":""},null,{"$f":"IF(AX248=\"\",\"\",INDEX(REFERENTES!M:O,MATCH(AX248,REFERENTES!M:M,0),3))","v":""}]
["30001212000000",{"$f":"DIGITADOR!$B$2","v":""},0,{"$f":"IF(E249<>\"\",CONCATENATE(B249,A249,DIGITADOR!$M$1,C249),\"\")","v":""},null,null,"","","",null,{"$f":"IF(J249=\"\",\"\",INDEX(REFERENTES!$V:$W,MATCH(J249,REFERENTES!$W:$W,0),1))","v":""},{"$f":"IF(E249=\"\",\"\",IF(O249=O248,\"\",CONCATENATE(B249,A249,DIGITADOR!$M$1,C249)))","v":""},null,{"$f":"IF(M249=\"\",\"\",INDEX(REFERENTES!$AB:$AC,MATCH(M249,REFERENTES!$AC:$AC,0),1))","v":""},"",null,245,"",null,null,null,null,null,null,null,null,null,null,null,null,null,null,null,null,null,null,null,null,{"$f":"IF(AL249<>\"\",VLOOKUP(AL249,#REF!,2,FALSE),\"\")","v":""},null,null,null,{"$f":"IF(AP249<>\"\",VLOOKUP(AP249,#REF!,2,TRUE),\"\")","v":""},null,{"$f":"IF(AR249<>\"\",VLOOKUP(AR249,#REF!,2,FALSE),\"\")","v":""},null,null,null,{"$f":"IF(AT249=\"\",\"\",INDEX(REFERENTES!$A:$B,MATCH(AT249,REFERENTES!$A:$A,0),2))","v":""},null,{"$f":"IF(AX249=\"\",\"\",INDEX(REFERENTES!M:O,MATCH(AX249,REFERENTES!M:M,0),3))","v":""}]
["30001212000000",{"$f":"DIGITADOR!$B$2","v":""},0,{"$f":"IF(E250<>\"\",CONCATENATE(B250,A250,DIGITADOR!$M$1,C250),\"\")","v":""},null,null,"","","",null,{"$f":"IF(J250=\"\",\"\",INDEX(REFERENTES!$V:$W,MATCH(J250,REFERENTES!$W:$W,0),1))","v":""},{"$f":"IF(E250=\"\",\"\",IF(O250=O249,\"\",CONCATENATE(B250,A250,DIGITADOR!$M$1,C250)))","v":""},null,{"$f":"IF(M250=\"\",\"\",INDEX(REFERENTES!$AB:$AC,MATCH(M250,REFERENTES!$AC:$AC,0),1))","v":""},"",null,246,"",null,null,null,null,null,null,null,null,null,null,null,null,null,null,null,null,null,null,null,null,{"$f":"IF(AL250<>\"\",VLOOKUP(AL250,#REF!,2,FALSE),\"\")","v":""},null,null,null,{"$f":"IF(AP250<>\"\",VLOOKUP(AP250,#REF!,2,TRUE),\"\")","v":""},null,{"$f":"IF(AR250<>\"\",VLOOKUP(AR250,#REF!,2,FALSE),\"\")","v":""},null,null,null,{"$f":"IF(AT250=\"\",\"\",INDEX(REFERENTES!$A:$B,MATCH(AT250,REFERENTES!$A:$A,0),2))","v":""},null,{"$f":"IF(AX250=\"\",\"\",INDEX(REFERENTES!M:O,MATCH(AX250,REFERENTES!M:M,0),3))","v":""}]
["30001212000000",{"$f":"DIGITADOR!$B$2","v":""},0,{"$f":"IF(E251<>\"\",CONCATENATE(B251,A251,DIGITADOR!$M$1,C251),\"\")","v":""},null,null,"","","",null,{"$f":"IF(J251=\"\",\"\",INDEX(REFERENTES!$V:$W,MATCH(J251,REFERENTES!$W:$W,0),1))","v":""},{"$f":"IF(E251=\"\",\"\",IF(O251=O250,\"\",CONCATENATE(B251,A251,DIGITADOR!$M$1,C251)))","v":""},null,{"$f":"IF(M251=\"\",\"\",INDEX(REFERENTES!$AB:$AC,MATCH(M251,REFERENTES!$AC:$AC,0),1))","v":""},"",null,247,"",null,null,null,null,null,null,null,null,null,null,null,null,null,null,null,null,null,null,null,null,{"$f":"IF(AL251<>\"\",VLOOKUP(AL251,#REF!,2,FALSE),\"\")","v":""},null,null,null,{"$f":"IF(AP251<>\"\",VLOOKUP(AP251,#REF!,2,TRUE),\"\")","v":""},null,{"$f":"IF(AR251<>\"\",VLOOKUP(AR251,#REF!,2,FALSE),\"\")","v":""},null,null,null,{"$f":"IF(AT251=\"\",\"\",INDEX(REFERENTES!$A:$B,MATCH(AT251,REFERENTES!$A:$A,0),2))","v":""},null,{"$f":"IF(AX251=\"\",\"\",INDEX(REFERENTES!M:O,MATCH(AX251,REFERENTES!M:M,0),3))","v":""}]
["30001212000000",{"$f":"DIGITADOR!$B$2","v":""},0,{"$f":"IF(E252<>\"\",CONCATENATE(B252,A252,DIGITADOR!$M$1,C252),\"\")","v":""},null,null,"","","",null,{"$f":"IF(J252=\"\",\"\",INDEX(REFERENTES!$V:$W,MATCH(J252,REFERENTES!$W:$W,0),1))","v":""},{"$f":"IF(E252=\"\",\"\",IF(O252=O251,\"\",CONCATENATE(B252,A252,DIGITADOR!$M$1,C252)))","v":""},null,{"$f":"IF(M252=\"\",\"\",INDEX(REFERENTES!$AB:$AC,MATCH(M252,REFERENTES!$AC:$AC,0),1))","v":""},"",null,248,"",null,null,null,null,null,null,null,null,null,null,null,null,null,null,null,null,null,null,null,null,{"$f":"IF(AL252<>\"\",VLOOKUP(AL252,#REF!,2,FALSE),\"\")","v":""},null,null,null,{"$f":"IF(AP252<>\"\",VLOOKUP(AP252,#REF!,2,TRUE),\"\")","v":""},null,{"$f":"IF(AR252<>\"\",VLOOKUP(AR252,#REF!,2,FALSE),\"\")","v":""},null,null,null,{"$f":"IF(AT252=\"\",\"\",INDEX(REFERENTES!$A:$B,MATCH(AT252,REFERENTES!$A:$A,0),2))","v":""},null,{"$f":"IF(AX252=\"\",\"\",INDEX(REFERENTES!M:O,MATCH(AX252,REFERENTES!M:M,0),3))","v":""}]
["30001212000000",{"$f":"DIGITADOR!$B$2","v":""},0,{"$f":"IF(E253<>\"\",CONCATENATE(B253,A253,DIGITADOR!$M$1,C253),\"\")","v":""},null,null,"","","",null,{"$f":"IF(J253=\"\",\"\",INDEX(REFERENTES!$V:$W,MATCH(J253,REFERENTES!$W:$W,0),1))","v":""},{"$f":"IF(E253=\"\",\"\",IF(O253=O252,\"\",CONCATENATE(B253,A253,DIGITADOR!$M$1,C253)))","v":""},null,{"$f":"IF(M253=\"\",\"\",INDEX(REFERENTES!$AB:$AC,MATCH(M253,REFERENTES!$AC:$AC,0),1))","v":""},"",null,249,"",null,null,null,null,null,null,null,null,null,null,null,null,null,null,null,null,null,null,null,null,{"$f":"IF(AL253<>\"\",VLOOKUP(AL253,#REF!,2,FALSE),\"\")","v":""},null,null,null,{"$f":"IF(AP253<>\"\",VLOOKUP(AP253,#REF!,2,TRUE),\"\")","v":""},null,{"$f":"IF(AR253<>\"\",VLOOKUP(AR253,#REF!,2,FALSE),\"\")","v":""},null,null,null,{"$f":"IF(AT253=\"\",\"\",INDEX(REFERENTES!$A:$B,MATCH(AT253,REFERENTES!$A:$A,0),2))","v":""},null,{"$f":"IF(AX253=\"\",\"\",INDEX(REFERENTES!M:O,MATCH(AX253,REFERENTES!M:M,0),3))","v":""}]
["30001212000000",{"$f":"DIGITADOR!$B$2","v":""},0,{"$f":"IF(E254<>\"\",CONCATENATE(B254,A254,DIGITADOR!$M$1,C254),\"\")","v":""},null,null,"","","",null,{"$f":"IF(J254=\"\",\"\",INDEX(REFERENTES!$V:$W,MATCH(J254,REFERENTES!$W:$W,0),1))","v":""},{"$f":"IF(E254=\"\",\"\",IF(O254=O253,\"\",CONCATENATE(B254,A254,DIGITADOR!$M$1,C254)))","v":""},null,{"$f":"IF(M254=\"\",\"\",INDEX(REFERENTES!$AB:$AC,MATCH(M254,REFERENTES!$AC:$AC,0),1))","v":""},"",null,250,"",null,null,null,null,null,null,null,null,null,null,null,null,null,null,null,null,null,null,null,null,{"$f":"IF(AL254<>\"\",VLOOKUP(AL254,#REF!,2,FALSE),\"\")","v":""},null,null,null,{"$f":"IF(AP254<>\"\",VLOOKUP(AP254,#REF!,2,TRUE),\"\")","v":""},null,{"$f":"IF(AR254<>\"\",VLOOKUP(AR254,#REF!,2,FALSE),\"\")","v":""},null,null,null,{"$f":"IF(AT254=\"\",\"\",INDEX(REFERENTES!$A:$B,MATCH(AT254,REFERENTES!$A:$A,0),2))","v":""},null,{"$f":"IF(AX254=\"\",\"\",INDEX(REFERENTES!M:O,MATCH(AX254,REFERENTES!M:M,0),3))","v":""}]
["30001212000000",{"$f":"DIGITADOR!$B$2","v":""},0,{"$f":"IF(E255<>\"\",CONCATENATE(B255,A255,DIGITADOR!$M$1,C255),\"\")","v":""},null,null,"","","",null,{"$f":"IF(J255=\"\",\"\",INDEX(REFERENTES!$V:$W,MATCH(J255,REFERENTES!$W:$W,0),1))","v":""},{"$f":"IF(E255=\"\",\"\",IF(O255=O254,\"\",CONCATENATE(B255,A255,DIGITADOR!$M$1,C255)))","v":""},null,{"$f":"IF(M255=\"\",\"\",INDEX(REFERENTES!$AB:$AC,MATCH(M255,REFERENTES!$AC:$AC,0),1))","v":""},"",null,251,"",null,null,null,null,null,null,null,null,null,null,null,null,null,null,null,null,null,null,null,null,{"$f":"IF(AL255<>\"\",VLOOKUP(AL255,#REF!,2,FALSE),\"\")","v":""},null,null,null,{"$f":"IF(AP255<>\"\",VLOOKUP(AP255,#REF!,2,TRUE),\"\")","v":""},null,{"$f":"IF(AR255<>\"\",VLOOKUP(AR255,#REF!,2,FALSE),\"\")","v":""},null,null,null,{"$f":"IF(AT255=\"\",\"\",INDEX(REFERENTES!$A:$B,MATCH(AT255,REFERENTES!$A:$A,0),2))","v":""},null,{"$f":"IF(AX255=\"\",\"\",INDEX(REFERENTES!M:O,MATCH(AX255,REFERENTES!M:M,0),3))","v":""}]
["30001212000000",{"$f":"DIGITADOR!$B$2","v":""},0,{"$f":"IF(E256<>\"\",CONCATENATE(B256,A256,DIGITADOR!$M$1,C256),\"\")","v":""},null,null,"","","",null,{"$f":"IF(J256=\"\",\"\",INDEX(REFERENTES!$V:$W,MATCH(J256,REFERENTES!$W:$W,0),1))","v":""},{"$f":"IF(E256=\"\",\"\",IF(O256=O255,\"\",CONCATENATE(B256,A256,DIGITADOR!$M$1,C256)))","v":""},null,{"$f":"IF(M256=\"\",\"\",INDEX(REFERENTES!$AB:$AC,MATCH(M256,REFERENTES!$AC:$AC,0),1))","v":""},"",null,252,"",null,null,null,null,null,null,null,null,null,null,null,null,null,null,null,null,null,null,null,null,{"$f":"IF(AL256<>\"\",VLOOKUP(AL256,#REF!,2,FALSE),\"\")","v":""},null,null,null,{"$f":"IF(AP256<>\"\",VLOOKUP(AP256,#REF!,2,TRUE),\"\")","v":""},null,{"$f":"IF(AR256<>\"\",VLOOKUP(AR256,#REF!,2,FALSE),\"\")","v":""},null,null,null,{"$f":"IF(AT256=\"\",\"\",INDEX(REFERENTES!$A:$B,MATCH(AT256,REFERENTES!$A:$A,0),2))","v":""},null,{"$f":"IF(AX256=\"\",\"\",INDEX(REFERENTES!M:O,MATCH(AX256,REFERENTES!M:M,0),3))","v":""}]
["30001212000000",{"$f":"DIGITADOR!$B$2","v":""},0,{"$f":"IF(E257<>\"\",CONCATENATE(B257,A257,DIGITADOR!$M$1,C257),\"\")","v":""},null,null,"","","",null,{"$f":"IF(J257=\"\",\"\",INDEX(REFERENTES!$V:$W,MATCH(J257,REFERENTES!$W:$W,0),1))","v":""},{"$f":"IF(E257=\"\",\"\",IF(O257=O256,\"\",CONCATENATE(B257,A257,DIGITADOR!$M$1,C257)))","v":""},null,{"$f":"IF(M257=\"\",\"\",INDEX(REFERENTES!$AB:$AC,MATCH(M257,REFERENTES!$AC:$AC,0),1))","v":""},"",null,253,"",null,null,null,null,null,null,null,null,null,null,null,null,null,null,null,null,null,null,null,null,{"$f":"IF(AL257<>\"\",VLOOKUP(AL257,#REF!,2,FALSE),\"\")","v":""},null,null,null,{"$f":"IF(AP257<>\"\",VLOOKUP(AP257,#REF!,2,TRUE),\"\")","v":""},null,{"$f":"IF(AR257<>\"\",VLOOKUP(AR257,#REF!,2,FALSE),\"\")","v":""},null,null,null,{"$f":"IF(AT257=\"\",\"\",INDEX(REFERENTES!$A:$B,MATCH(AT257,REFERENTES!$A:$A,0),2))","v":""},null,{"$f":"IF(AX257=\"\",\"\",INDEX(REFERENTES!M:O,MATCH(AX257,REFERENTES!M:M,0),3))","v":""}]
["30001212000000",{"$f":"DIGITADOR!$B$2","v":""},0,{"$f":"IF(E258<>\"\",CONCATENATE(B258,A258,DIGITADOR!$M$1,C258),\"\")","v":""},null,null,"","","",null,{"$f":"IF(J258=\"\",\"\",INDEX(REFERENTES!$V:$W,MATCH(J258,REFERENTES!$W:$W,0),1))","v":""},{"$f":"IF(E258=\"\",\"\",IF(O258=O257,\"\",CONCATENATE(B258,A258,DIGITADOR!$M$1,C258)))","v":""},null,{"$f":"IF(M258=\"\",\"\",INDEX(REFERENTES!$AB:$AC,MATCH(M258,REFERENTES!$AC:$AC,0),1))","v":""},"",null,254,"",null,null,null,null,null,null,null,null,null,null,null,null,null,null,null,null,null,null,null,null,{"$f":"IF(AL258<>\"\",VLOOKUP(AL258,#REF!,2,FALSE),\"\")","v":""},null,null,null,{"$f":"IF(AP258<>\"\",VLOOKUP(AP258,#REF!,2,TRUE),\"\")","v":""},null,{"$f":"IF(AR258<>\"\",VLOOKUP(AR258,#REF!,2,FALSE),\"\")","v":""},null,null,null,{"$f":"IF(AT258=\"\",\"\",INDEX(REFERENTES!$A:$B,MATCH(AT258,REFERENTES!$A:$A,0),2))","v":""},null,{"$f":"IF(AX258=\"\",\"\",INDEX(REFERENTES!M:O,MATCH(AX258,REFERENTES!M:M,0),3))","v":""}]
["30001212000000",{"$f":"DIGITADOR!$B$2","v":""},0,{"$f":"IF(E259<>\"\",CONCATENATE(B259,A259,DIGITADOR!$M$1,C259),\"\")","v":""},null,null,"","","",null,{"$f":"IF(J259=\"\",\"\",INDEX(REFERENTES!$V:$W,MATCH(J259,REFERENTES!$W:$W,0),1))","v":""},{"$f":"IF(E259=\"\",\"\",IF(O259=O258,\"\",CONCATENATE(B259,A259,DIGITADOR!$M$1,C259)))","v":""},null,{"$f":"IF(M259=\"\",\"\",INDEX(REFERENTES!$AB:$AC,MATCH(M259,REFERENTES!$AC:$AC,0),1))","v":""},"",null,255,"",null,null,null,null,null,null,null,null,null,null,null,null,null,null,null,null,null,null,null,null,{"$f":"IF(AL259<>\"\",VLOOKUP(AL259,#REF!,2,FALSE),\"\")","v":""},null,null,null,{"$f":"IF(AP259<>\"\",VLOOKUP(AP259,#REF!,2,TRUE),\"\")","v":""},null,{"$f":"IF(AR259<>\"\",VLOOKUP(AR259,#REF!,2,FALSE),\"\")","v":""},null,null,null,{"$f":"IF(AT259=\"\",\"\",INDEX(REFERENTES!$A:$B,MATCH(AT259,REFERENTES!$A:$A,0),2))","v":""},null,{"$f":"IF(AX259=\"\",\"\",INDEX(REFERENTES!M:O,MATCH(AX259,REFERENTES!M:M,0),3))","v":""}]
["30001212000000",{"$f":"DIGITADOR!$B$2","v":""},0,{"$f":"IF(E260<>\"\",CONCATENATE(B260,A260,DIGITADOR!$M$1,C260),\"\")","v":""},null,null,"","","",null,{"$f":"IF(J260=\"\",\"\",INDEX(REFERENTES!$V:$W,MATCH(J260,REFERENTES!$W:$W,0),1))","v":""},{"$f":"IF(E260=\"\",\"\",IF(O260=O259,\"\",CONCATENATE(B260,A260,DIGITADOR!$M$1,C260)))","v":""},null,{"$f":"IF(M260=\"\",\"\",INDEX(REFERENTES!$AB:$AC,MATCH(M260,REFERENTES!$AC:$AC,0),1))","v":""},"",null,256,"",null,null,null,null,null,null,null,null,null,null,null,null,null,null,null,null,null,null,null,null,{"$f":"IF(AL260<>\"\",VLOOKUP(AL260,#REF!,2,FALSE),\"\")","v":""},null,null,null,{"$f":"IF(AP260<>\"\",VLOOKUP(AP260,#REF!,2,TRUE),\"\")","v":""},null,{"$f":"IF(AR260<>\"\",VLOOKUP(AR260,#REF!,2,FALSE),\"\")","v":""},null,null,null,{"$f":"IF(AT260=\"\",\"\",INDEX(REFERENTES!$A:$B,MATCH(AT260,REFERENTES!$A:$A,0),2))","v":""},null,{"$f":"IF(AX260=\"\",\"\",INDEX(REFERENTES!M:O,MATCH(AX260,REFERENTES!M:M,0),3))","v":""}]
["30001212000000",{"$f":"DIGITADOR!$B$2","v":""},{"$f":"IF(O261=O260,C260,C260+1)","v":0},{"$f":"IF(E261<>\"\",CONCATENATE(B261,A261,DIGITADOR!$M$1,C261),\"\")","v":""},null,null,"","","",null,{"$f":"IF(J261=\"\",\"\",INDEX(REFERENTES!$V:$W,MATCH(J261,REFERENTES!$W:$W,0),1))","v":""},{"$f":"IF(E261=\"\",\"\",IF(O261=O260,\"\",CONCATENATE(B261,A261,DIGITADOR!$M$1,C261)))","v":""},null,{"$f":"IF(M261=\"\",\"\",INDEX(REFERENTES!$AB:$AC,MATCH(M261,REFERENTES!$AC:$AC,0),1))","v":""},"",null,257,"",null,null,null,null,null,null,null,null,null,null,null,null,null,null,null,null,null,null,null,null,{"$f":"IF(AL261<>\"\",VLOOKUP(AL261,#REF!,2,FALSE),\"\")","v":""},null,null,null,{"$f":"IF(AP261<>\"\",VLOOKUP(AP261,#REF!,2,TRUE),\"\")","v":""},null,{"$f":"IF(AR261<>\"\",VLOOKUP(AR261,#REF!,2,FALSE),\"\")","v":""},null,null,null,{"$f":"IF(AT261=\"\",\"\",INDEX(REFERENTES!$A:$B,MATCH(AT261,REFERENTES!$A:$A,0),2))","v":""},null,{"$f":"IF(AX261=\"\",\"\",INDEX(REFERENTES!M:O,MATCH(AX261,REFERENTES!M:M,0),3))","v":""}]
[{"$f":"A261","v":"30001212000000"},{"$f":"DIGITADOR!$B$2","v":""},0,{"$f":"IF(E262<>\"\",CONCATENATE(B262,A262,DIGITADOR!$M$1,C262),\"\")","v":""},null,null,{"$f":"IF(E262=\"\",\"\",E262+F262)","v":""},"",{"$f":"IF(M262=\"\",\"\",1)","v":""},null,{"$f":"IF(J262=\"\",\"\",INDEX(REFERENTES!$V:$W,MATCH(J262,REFERENTES!$W:$W,0),1))","v":""},{"$f":"IF(E262=\"\",\"\",IF(O262=O261,\"\",CONCATENATE(B262,A262,DIGITADOR!$M$1,C262)))","v":""},null,{"$f":"IF(M262=\"\",\"\",INDEX(REFERENTES!$AB:$AC,MATCH(M262,REFERENTES!$AC:$AC,0),1))","v":""},{"$f":"IF(M262=\"\",\"\",CONCATENATE(G262,K262,N262,1))","v":""},null,258,{"$f":"IF(D262=\"\",\"\",CONCATENATE(D262,Q262))","v":""},null,null,null,null,null,null,null,null,null,null,null,null,null,null,null,null,null,null,null,null,{"$f":"IF(AL262<>\"\",VLOOKUP(AL262,#REF!,2,FALSE),\"\")","v":""},null,null,null,{"$f":"IF(AP262<>\"\",VLOOKUP(AP262,#REF!,2,TRUE),\"\")","v":""},null,{"$f":"IF(AR262<>\"\",VLOOKUP(AR262,#REF!,2,FALSE),\"\")","v":""},null,null,null,{"$f":"IF(AT262=\"\",\"\",INDEX(REFERENTES!$A:$B,MATCH(AT262,REFERENTES!$A:$A,0),2))","v":""},null,{"$f":"IF(AX262=\"\",\"\",INDEX(REFERENTES!M:O,MATCH(AX262,REFERENTES!M:M,0),3))","v":""}]
["30001212000000",{"$f":"DIGITADOR!$B$2","v":""},0,{"$f":"IF(E263<>\"\",CONCATENATE(B263,A263,DIGITADOR!$M$1,C263),\"\")","v":""},null,null,"","","",null,{"$f":"IF(J263=\"\",\"\",INDEX(REFERENTES!$V:$W,MATCH(J263,REFERENTES!$W:$W,0),1))","v":""},{"$f":"IF(E263=\"\",\"\",IF(O263=O262,\"\",CONCATENATE(B263,A263,DIGITADOR!$M$1,C263)))","v":""},null,{"$f":"IF(M263=\"\",\"\",INDEX(REFERENTES!$AB:$AC,MATCH(M263,REFERENTES!$AC:$AC,0),1))","v":""},"",null,259,"",null,null,null,null,null,null,null,null,null,null,null,null,null,null,null,null,null,null,null,null,{"$f":"IF(AL263<>\"\",VLOOKUP(AL263,#REF!,2,FALSE),\"\")","v":""},null,null,null,{"$f":"IF(AP263<>\"\",VLOOKUP(AP263,#REF!,2,TRUE),\"\")","v":""},null,{"$f":"IF(AR263<>\"\",VLOOKUP(AR263,#REF!,2,FALSE),\"\")","v":""},null,null,null,{"$f":"IF(AT263=\"\",\"\",INDEX(REFERENTES!$A:$B,MATCH(AT263,REFERENTES!$A:$A,0),2))","v":""},null,{"$f":"IF(AX263=\"\",\"\",INDEX(REFERENTES!M:O,MATCH(AX263,REFERENTES!M:M,0),3))","v":""}]
["30001212000000",{"$f":"DIGITADOR!$B$2","v":""},0,{"$f":"IF(E264<>\"\",CONCATENATE(B264,A264,DIGITADOR!$M$1,C264),\"\")","v":""},null,null,"","","",null,{"$f":"IF(J264=\"\",\"\",INDEX(REFERENTES!$V:$W,MATCH(J264,REFERENTES!$W:$W,0),1))","v":""},{"$f":"IF(E264=\"\",\"\",IF(O264=O263,\"\",CONCATENATE(B264,A264,DIGITADOR!$M$1,C264)))","v":""},null,{"$f":"IF(M264=\"\",\"\",INDEX(REFERENTES!$AB:$AC,MATCH(M264,REFERENTES!$AC:$AC,0),1))","v":""},"",null,260,"",null,null,null,null,null,null,null,null,null,null,null,null,null,null,null,null,null,null,null,null,{"$f":"IF(AL264<>\"\",VLOOKUP(AL264,#REF!,2,FALSE),\"\")","v":""},null,null,null,{"$f":"IF(AP264<>\"\",VLOOKUP(AP264,#REF!,2,TRUE),\"\")","v":""},null,{"$f":"IF(AR264<>\"\",VLOOKUP(AR264,#REF!,2,FALSE),\"\")","v":""},null,null,null,{"$f":"IF(AT264=\"\",\"\",INDEX(REFERENTES!$A:$B,MATCH(AT264,REFERENTES!$A:$A,0),2))","v":""},null,{"$f":"IF(AX264=\"\",\"\",INDEX(REFERENTES!M:O,MATCH(AX264,REFERENTES!M:M,0),3))","v":""}]
["30001212000000",{"$f":"DIGITADOR!$B$2","v":""},0,{"$f":"IF(E265<>\"\",CONCATENATE(B265,A265,DIGITADOR!$M$1,C265),\"\")","v":""},null,null,"","","",null,{"$f":"IF(J265=\"\",\"\",INDEX(REFERENTES!$V:$W,MATCH(J265,REFERENTES!$W:$W,0),1))","v":""},{"$f":"IF(E265=\"\",\"\",IF(O265=O264,\"\",CONCATENATE(B265,A265,DIGITADOR!$M$1,C265)))","v":""},null,{"$f":"IF(M265=\"\",\"\",INDEX(REFERENTES!$AB:$AC,MATCH(M265,REFERENTES!$AC:$AC,0),1))","v":""},"",null,261,"",null,null,null,null,null,null,null,null,null,null,null,null,null,null,null,null,null,null,null,null,{"$f":"IF(AL265<>\"\",VLOOKUP(AL265,#REF!,2,FALSE),\"\")","v":""},null,null,null,{"$f":"IF(AP265<>\"\",VLOOKUP(AP265,#REF!,2,TRUE),\"\")","v":""},null,{"$f":"IF(AR265<>\"\",VLOOKUP(AR265,#REF!,2,FALSE),\"\")","v":""},null,null,null,{"$f":"IF(AT265=\"\",\"\",INDEX(REFERENTES!$A:$B,MATCH(AT265,REFERENTES!$A:$A,0),2))","v":""},null,{"$f":"IF(AX265=\"\",\"\",INDEX(REFERENTES!M:O,MATCH(AX265,REFERENTES!M:M,0),3))","v":""}]
["30001212000000",{"$f":"DIGITADOR!$B$2","v":""},0,{"$f":"IF(E266<>\"\",CONCATENATE(B266,A266,DIGITADOR!$M$1,C266),\"\")","v":""},null,null,"","","",null,{"$f":"IF(J266=\"\",\"\",INDEX(REFERENTES!$V:$W,MATCH(J266,REFERENTES!$W:$W,0),1))","v":""},{"$f":"IF(E266=\"\",\"\",IF(O266=O265,\"\",CONCATENATE(B266,A266,DIGITADOR!$M$1,C266)))","v":""},null,{"$f":"IF(M266=\"\",\"\",INDEX(REFERENTES!$AB:$AC,MATCH(M266,REFERENTES!$AC:$AC,0),1))","v":""},"",null,262,"",null,null,null,null,null,null,null,null,null,null,null,null,null,null,null,null,null,null,null,null,{"$f":"IF(AL266<>\"\",VLOOKUP(AL266,#REF!,2,FALSE),\"\")","v":""},null,null,null,{"$f":"IF(AP266<>\"\",VLOOKUP(AP266,#REF!,2,TRUE),\"\")","v":""},null,{"$f":"IF(AR266<>\"\",VLOOKUP(AR266,#REF!,2,FALSE),\"\")","v":""},null,null,null,{"$f":"IF(AT266=\"\",\"\",INDEX(REFERENTES!$A:$B,MATCH(AT266,REFERENTES!$A:$A,0),2))","v":""},null,{"$f":"IF(AX266=\"\",\"\",INDEX(REFERENTES!M:O,MATCH(AX266,REFERENTES!M:M,0),3))","v":""}]
["30001212000000",{"$f":"DIGITADOR!$B$2","v":""},0,{"$f":"IF(E267<>\"\",CONCATENATE(B267,A267,DIGITADOR!$M$1,C267),\"\")","v":""},null,null,"","","",null,{"$f":"IF(J267=\"\",\"\",INDEX(REFERENTES!$V:$W,MATCH(J267,REFERENTES!$W:$W,0),1))","v":""},{"$f":"IF(E267=\"\",\"\",IF(O267=O266,\"\",CONCATENATE(B267,A267,DIGITADOR!$M$1,C267)))","v":""},null,{"$f":"IF(M267=\"\",\"\",INDEX(REFERENTES!$AB:$AC,MATCH(M267,REFERENTES!$AC:$AC,0),1))","v":""},"",null,263,"",null,null,null,null,null,null,null,null,null,null,null,null,null,null,null,null,null,null,null,null,{"$f":"IF(AL267<>\"\",VLOOKUP(AL267,#REF!,2,FALSE),\"\")","v":""},null,null,null,{"$f":"IF(AP267<>\"\",VLOOKUP(AP267,#REF!,2,TRUE),\"\")","v":""},null,{"$f":"IF(AR267<>\"\",VLOOKUP(AR267,#REF!,2,FALSE),\"\")","v":""},null,null,null,{"$f":"IF(AT267=\"\",\"\",INDEX(REFERENTES!$A:$B,MATCH(AT267,REFERENTES!$A:$A,0),2))","v":""},null,{"$f":"IF(AX267=\"\",\"\",INDEX(REFERENTES!M:O,MATCH(AX267,REFERENTES!M:M,0),3))","v":""}]
["30001212000000",{"$f":"DIGITADOR!$B$2","v":""},0,{"$f":"IF(E268<>\"\",CONCATENATE(B268,A268,DIGITADOR!$M$1,C268),\"\")","v":""},null,null,"","","",null,{"$f":"IF(J268=\"\",\"\",INDEX(REFERENTES!$V:$W,MATCH(J268,REFERENTES!$W:$W,0),1))","v":""},{"$f":"IF(E268=\"\",\"\",IF(O268=O267,\"\",CONCATENATE(B268,A268,DIGITADOR!$M$1,C268)))","v":""},null,{"$f":"IF(M268=\"\",\"\",INDEX(REFERENTES!$AB:$AC,MATCH(M268,REFERENTES!$AC:$AC,0),1))","v":""},"",null,264,"",null,null,null,null,null,null,null,null,null,null,null,null,null,null,null,null,null,null,null,null,{"$f":"IF(AL268<>\"\",VLOOKUP(AL268,#REF!,2,FALSE),\"\")","v":""},null,null,null,{"$f":"IF(AP268<>\"\",VLOOKUP(AP268,#REF!,2,TRUE),\"\")","v":""},null,{"$f":"IF(AR268<>\"\",VLOOKUP(AR268,#REF!,2,FALSE),\"\")","v":""},null,null,null,{"$f":"IF(AT268=\"\",\"\",INDEX(REFERENTES!$A:$B,MATCH(AT268,REFERENTES!$A:$A,0),2))","v":""},null,{"$f":"IF(AX268=\"\",\"\",INDEX(REFERENTES!M:O,MATCH(AX268,REFERENTES!M:M,0),3))","v":""}]
["30001212000000",{"$f":"DIGITADOR!$B$2","v":""},0,{"$f":"IF(E269<>\"\",CONCATENATE(B269,A269,DIGITADOR!$M$1,C269),\"\")","v":""},null,null,"","","",null,{"$f":"IF(J269=\"\",\"\",INDEX(REFERENTES!$V:$W,MATCH(J269,REFERENTES!$W:$W,0),1))","v":""},{"$f":"IF(E269=\"\",\"\",IF(O269=O268,\"\",CONCATENATE(B269,A269,DIGITADOR!$M$1,C269)))","v":""},null,{"$f":"IF(M269=\"\",\"\",INDEX(REFERENTES!$AB:$AC,MATCH(M269,REFERENTES!$AC:$AC,0),1))","v":""},"",null,265,"",null,null,null,null,null,null,null,null,null,null,null,null,null,null,null,null,null,null,null,null,{"$f":"IF(AL269<>\"\",VLOOKUP(AL269,#REF!,2,FALSE),\"\")","v":""},null,null,null,{"$f":"IF(AP269<>\"\",VLOOKUP(AP269,#REF!,2,TRUE),\"\")","v":""},null,{"$f":"IF(AR269<>\"\",VLOOKUP(AR269,#REF!,2,FALSE),\"\")","v":""},null,null,null,{"$f":"IF(AT269=\"\",\"\",INDEX(REFERENTES!$A:$B,MATCH(AT269,REFERENTES!$A:$A,0),2))","v":""},null,{"$f":"IF(AX269=\"\",\"\",INDEX(REFERENTES!M:O,MATCH(AX269,REFERENTES!M:M,0),3))","v":""}]
["30001212000000",{"$f":"DIGITADOR!$B$2","v":""},0,{"$f":"IF(E270<>\"\",CONCATENATE(B270,A270,DIGITADOR!$M$1,C270),\"\")","v":""},null,null,"","","",null,{"$f":"IF(J270=\"\",\"\",INDEX(REFERENTES!$V:$W,MATCH(J270,REFERENTES!$W:$W,0),1))","v":""},{"$f":"IF(E270=\"\",\"\",IF(O270=O269,\"\",CONCATENATE(B270,A270,DIGITADOR!$M$1,C270)))","v":""},null,{"$f":"IF(M270=\"\",\"\",INDEX(REFERENTES!$AB:$AC,MATCH(M270,REFERENTES!$AC:$AC,0),1))","v":""},"",null,266,"",null,null,null,null,null,null,null,null,null,null,null,null,null,null,null,null,null,null,null,null,{"$f":"IF(AL270<>\"\",VLOOKUP(AL270,#REF!,2,FALSE),\"\")","v":""},null,null,null,{"$f":"IF(AP270<>\"\",VLOOKUP(AP270,#REF!,2,TRUE),\"\")","v":""},null,{"$f":"IF(AR270<>\"\",VLOOKUP(AR270,#REF!,2,FALSE),\"\")","v":""},null,null,null,{"$f":"IF(AT270=\"\",\"\",INDEX(REFERENTES!$A:$B,MATCH(AT270,REFERENTES!$A:$A,0),2))","v":""},null,{"$f":"IF(AX270=\"\",\"\",INDEX(REFERENTES!M:O,MATCH(AX270,REFERENTES!M:M,0),3))","v":""}]
["30001212000000",{"$f":"DIGITADOR!$B$2","v":""},0,{"$f":"IF(E271<>\"\",CONCATENATE(B271,A271,DIGITADOR!$M$1,C271),\"\")","v":""},null,null,"","","",null,{"$f":"IF(J271=\"\",\"\",INDEX(REFERENTES!$V:$W,MATCH(J271,REFERENTES!$W:$W,0),1))","v":""},{"$f":"IF(E271=\"\",\"\",IF(O271=O270,\"\",CONCATENATE(B271,A271,DIGITADOR!$M$1,C271)))","v":""},null,{"$f":"IF(M271=\"\",\"\",INDEX(REFERENTES!$AB:$AC,MATCH(M271,REFERENTES!$AC:$AC,0),1))","v":""},"",null,267,"",null,null,null,null,null,null,null,null,null,null,null,null,null,null,null,null,null,null,null,null,{"$f":"IF(AL271<>\"\",VLOOKUP(AL271,#REF!,2,FALSE),\"\")","v":""},null,null,null,{"$f":"IF(AP271<>\"\",VLOOKUP(AP271,#REF!,2,TRUE),\"\")","v":""},null,{"$f":"IF(AR271<>\"\",VLOOKUP(AR271,#REF!,2,FALSE),\"\")","v":""},null,null,null,{"$f":"IF(AT271=\"\",\"\",INDEX(REFERENTES!$A:$B,MATCH(AT271,REFERENTES!$A:$A,0),2))","v":""},null,{"$f":"IF(AX271=\"\",\"\",INDEX(REFERENTES!M:O,MATCH(AX271,REFERENTES!M:M,0),3))","v":""}]
["30001212000000",{"$f":"DIGITADOR!$B$2","v":""},0,{"$f":"IF(E272<>\"\",CONCATENATE(B272,A272,DIGITADOR!$M$1,C272),\"\")","v":""},null,null,"","","",null,{"$f":"IF(J272=\"\",\"\",INDEX(REFERENTES!$V:$W,MATCH(J272,REFERENTES!$W:$W,0),1))","v":""},{"$f":"IF(E272=\"\",\"\",IF(O272=O271,\"\",CONCATENATE(B272,A272,DIGITADOR!$M$1,C272)))","v":""},null,{"$f":"IF(M272=\"\",\"\",INDEX(REFERENTES!$AB:$AC,MATCH(M272,REFERENTES!$AC:$AC,0),1))","v":""},"",null,268,"",null,null,null,null,null,null,null,null,null,null,null,null,null,null,null,null,null,null,null,null,{"$f":"IF(AL272<>\"\",VLOOKUP(AL272,#REF!,2,FALSE),\"\")","v":""},null,null,null,{"$f":"IF(AP272<>\"\",VLOOKUP(AP272,#REF!,2,TRUE),\"\")","v":""},null,{"$f":"IF(AR272<>\"\",VLOOKUP(AR272,#REF!,2,FALSE),\"\")","v":""},null,null,null,{"$f":"IF(AT272=\"\",\"\",INDEX(REFERENTES!$A:$B,MATCH(AT272,REFERENTES!$A:$A,0),2))","v":""},null,{"$f":"IF(AX272=\"\",\"\",INDEX(REFERENTES!M:O,MATCH(AX272,REFERENTES!M:M,0),3))","v":""}]
["30001212000000",{"$f":"DIGITADOR!$B$2","v":""},0,{"$f":"IF(E273<>\"\",CONCATENATE(B273,A273,DIGITADOR!$M$1,C273),\"\")","v":""},null,null,"","","",null,{"$f":"IF(J273=\"\",\"\",INDEX(REFERENTES!$V:$W,MATCH(J273,REFERENTES!$W:$W,0),1))","v":""},{"$f":"IF(E273=\"\",\"\",IF(O273=O272,\"\",CONCATENATE(B273,A273,DIGITADOR!$M$1,C273)))","v":""},null,{"$f":"IF(M273=\"\",\"\",INDEX(REFERENTES!$AB:$AC,MATCH(M273,REFERENTES!$AC:$AC,0),1))","v":""},"",null,269,"",null,null,null,null,null,null,null,null,null,null,null,null,null,null,null,null,null,null,null,null,{"$f":"IF(AL273<>\"\",VLOOKUP(AL273,#REF!,2,FALSE),\"\")","v":""},null,null,null,{"$f":"IF(AP273<>\"\",VLOOKUP(AP273,#REF!,2,TRUE),\"\")","v":""},null,{"$f":"IF(AR273<>\"\",VLOOKUP(AR273,#REF!,2,FALSE),\"\")","v":""},null,null,null,{"$f":"IF(AT273=\"\",\"\",INDEX(REFERENTES!$A:$B,MATCH(AT273,REFERENTES!$A:$A,0),2))","v":""},null,{"$f":"IF(AX273=\"\",\"\",INDEX(REFERENTES!M:O,MATCH(AX273,REFERENTES!M:M,0),3))","v":""}]
["30001212000000",{"$f":"DIGITADOR!$B$2","v":""},0,{"$f":"IF(E274<>\"\",CONCATENATE(B274,A274,DIGITADOR!$M$1,C274),\"\")","v":""},null,null,"","","",null,{"$f":"IF(J274=\"\",\"\",INDEX(REFERENTES!$V:$W,MATCH(J274,REFERENTES!$W:$W,0),1))","v":""},{"$f":"IF(E274=\"\",\"\",IF(O274=O273,\"\",CONCATENATE(B274,A274,DIGITADOR!$M$1,C274)))","v":""},null,{"$f":"IF(M274=\"\",\"\",INDEX(REFERENTES!$AB:$AC,MATCH(M274,REFERENTES!$AC:$AC,0),1))","v":""},"",null,270,"",null,null,null,null,null,null,null,null,null,null,null,null,null,null,null,null,null,null,null,null,{"$f":"IF(AL274<>\"\",VLOOKUP(AL274,#REF!,2,FALSE),\"\")","v":""},null,null,null,{"$f":"IF(AP274<>\"\",VLOOKUP(AP274,#REF!,2,TRUE),\"\")","v":""},null,{"$f":"IF(AR274<>\"\",VLOOKUP(AR274,#REF!,2,FALSE),\"\")","v":""},null,null,null,{"$f":"IF(AT274=\"\",\"\",INDEX(REFERENTES!$A:$B,MATCH(AT274,REFERENTES!$A:$A,0),2))","v":""},null,{"$f":"IF(AX274=\"\",\"\",INDEX(REFERENTES!M:O,MATCH(AX274,REFERENTES!M:M,0),3))","v":""}]
["30001212000000",{"$f":"DIGITADOR!$B$2","v":""},0,{"$f":"IF(E275<>\"\",CONCATENATE(B275,A275,DIGITADOR!$M$1,C275),\"\")","v":""},null,null,"","","",null,{"$f":"IF(J275=\"\",\"\",INDEX(REFERENTES!$V:$W,MATCH(J275,REFERENTES!$W:$W,0),1))","v":""},{"$f":"IF(E275=\"\",\"\",IF(O275=O274,\"\",CONCATENATE(B275,A275,DIGITADOR!$M$1,C275)))","v":""},null,{"$f":"IF(M275=\"\",\"\",INDEX(REFERENTES!$AB:$AC,MATCH(M275,REFERENTES!$AC:$AC,0),1))","v":""},"",null,271,"",null,null,null,null,null,null,null,null,null,null,null,null,null,null,null,null,null,null,null,null,{"$f":"IF(AL275<>\"\",VLOOKUP(AL275,#REF!,2,FALSE),\"\")","v":""},null,null,null,{"$f":"IF(AP275<>\"\",VLOOKUP(AP275,#REF!,2,TRUE),\"\")","v":""},null,{"$f":"IF(AR275<>\"\",VLOOKUP(AR275,#REF!,2,FALSE),\"\")","v":""},null,null,null,{"$f":"IF(AT275=\"\",\"\",INDEX(REFERENTES!$A:$B,MATCH(AT275,REFERENTES!$A:$A,0),2))","v":""},null,{"$f":"IF(AX275=\"\",\"\",INDEX(REFERENTES!M:O,MATCH(AX275,REFERENTES!M:M,0),3))","v":""}]
["30001212000000",{"$f":"DIGITADOR!$B$2","v":""},0,{"$f":"IF(E276<>\"\",CONCATENATE(B276,A276,DIGITADOR!$M$1,C276),\"\")","v":""},null,null,"","","",null,{"$f":"IF(J276=\"\",\"\",INDEX(REFERENTES!$V:$W,MATCH(J276,REFERENTES!$W:$W,0),1))","v":""},{"$f":"IF(E276=\"\",\"\",IF(O276=O275,\"\",CONCATENATE(B276,A276,DIGITADOR!$M$1,C276)))","v":""},null,{"$f":"IF(M276=\"\",\"\",INDEX(REFERENTES!$AB:$AC,MATCH(M276,REFERENTES!$AC:$AC,0),1))","v":""},"",null,272,"",null,null,null,null,null,null,null,null,null,null,null,null,null,null,null,null,null,null,null,null,{"$f":"IF(AL276<>\"\",VLOOKUP(AL276,#REF!,2,FALSE),\"\")","v":""},null,null,null,{"$f":"IF(AP276<>\"\",VLOOKUP(AP276,#REF!,2,TRUE),\"\")","v":""},null,{"$f":"IF(AR276<>\"\",VLOOKUP(AR276,#REF!,2,FALSE),\"\")","v":""},null,null,null,{"$f":"IF(AT276=\"\",\"\",INDEX(REFERENTES!$A:$B,MATCH(AT276,REFERENTES!$A:$A,0),2))","v":""},null,{"$f":"IF(AX276=\"\",\"\",INDEX(REFERENTES!M:O,MATCH(AX276,REFERENTES!M:M,0),3))","v":""}]
["30001212000000",{"$f":"DIGITADOR!$B$2","v":""},0,{"$f":"IF(E277<>\"\",CONCATENATE(B277,A277,DIGITADOR!$M$1,C277),\"\")","v":""},null,null,"","","",null,{"$f":"IF(J277=\"\",\"\",INDEX(REFERENTES!$V:$W,MATCH(J277,REFERENTES!$W:$W,0),1))","v":""},{"$f":"IF(E277=\"\",\"\",IF(O277=O276,\"\",CONCATENATE(B277,A277,DIGITADOR!$M$1,C277)))","v":""},null,{"$f":"IF(M277=\"\",\"\",INDEX(REFERENTES!$AB:$AC,MATCH(M277,REFERENTES!$AC:$AC,0),1))","v":""},"",null,273,"",null,null,null,null,null,null,null,null,null,null,null,null,null,null,null,null,null,null,null,null,{"$f":"IF(AL277<>\"\",VLOOKUP(AL277,#REF!,2,FALSE),\"\")","v":""},null,null,null,{"$f":"IF(AP277<>\"\",VLOOKUP(AP277,#REF!,2,TRUE),\"\")","v":""},null,{"$f":"IF(AR277<>\"\",VLOOKUP(AR277,#REF!,2,FALSE),\"\")","v":""},null,null,null,{"$f":"IF(AT277=\"\",\"\",INDEX(REFERENTES!$A:$B,MATCH(AT277,REFERENTES!$A:$A,0),2))","v":""},null,{"$f":"IF(AX277=\"\",\"\",INDEX(REFERENTES!M:O,MATCH(AX277,REFERENTES!M:M,0),3))","v":""}]
["30001212000000",{"$f":"DIGITADOR!$B$2","v":""},0,{"$f":"IF(E278<>\"\",CONCATENATE(B278,A278,DIGITADOR!$M$1,C278),\"\")","v":""},null,null,"","","",null,{"$f":"IF(J278=\"\",\"\",INDEX(REFERENTES!$V:$W,MATCH(J278,REFERENTES!$W:$W,0),1))","v":""},{"$f":"IF(E278=\"\",\"\",IF(O278=O277,\"\",CONCATENATE(B278,A278,DIGITADOR!$M$1,C278)))","v":""},null,{"$f":"IF(M278=\"\",\"\",INDEX(REFERENTES!$AB:$AC,MATCH(M278,REFERENTES!$AC:$AC,0),1))","v":""},"",null,274,"",null,null,null,null,null,null,null,null,null,null,null,null,null,null,null,null,null,null,null,null,{"$f":"IF(AL278<>\"\",VLOOKUP(AL278,#REF!,2,FALSE),\"\")","v":""},null,null,null,{"$f":"IF(AP278<>\"\",VLOOKUP(AP278,#REF!,2,TRUE),\"\")","v":""},null,{"$f":"IF(AR278<>\"\",VLOOKUP(AR278,#REF!,2,FALSE),\"\")","v":""},null,null,null,{"$f":"IF(AT278=\"\",\"\",INDEX(REFERENTES!$A:$B,MATCH(AT278,REFERENTES!$A:$A,0),2))","v":""},null,{"$f":"IF(AX278=\"\",\"\",INDEX(REFERENTES!M:O,MATCH(AX278,REFERENTES!M:M,0),3))","v":""}]
["30001212000000",{"$f":"DIGITADOR!$B$2","v":""},0,{"$f":"IF(E279<>\"\",CONCATENATE(B279,A279,DIGITADOR!$M$1,C279),\"\")","v":""},null,null,"","","",null,{"$f":"IF(J279=\"\",\"\",INDEX(REFERENTES!$V:$W,MATCH(J279,REFERENTES!$W:$W,0),1))","v":""},{"$f":"IF(E279=\"\",\"\",IF(O279=O278,\"\",CONCATENATE(B279,A279,DIGITADOR!$M$1,C279)))","v":""},null,{"$f":"IF(M279=\"\",\"\",INDEX(REFERENTES!$AB:$AC,MATCH(M279,REFERENTES!$AC:$AC,0),1))","v":""},"",null,275,"",null,null,null,null,null,null,null,null,null,null,null,null,null,null,null,null,null,null,null,null,{"$f":"IF(AL279<>\"\",VLOOKUP(AL279,#REF!,2,FALSE),\"\")","v":""},null,null,null,{"$f":"IF(AP279<>\"\",VLOOKUP(AP279,#REF!,2,TRUE),\"\")","v":""},null,{"$f":"IF(AR279<>\"\",VLOOKUP(AR279,#REF!,2,FALSE),\"\")","v":""},null,null,null,{"$f":"IF(AT279=\"\",\"\",INDEX(REFERENTES!$A:$B,MATCH(AT279,REFERENTES!$A:$A,0),2))","v":""},null,{"$f":"IF(AX279=\"\",\"\",INDEX(REFERENTES!M:O,MATCH(AX279,REFERENTES!M:M,0),3))","v":""}]
["30001212000000",{"$f":"DIGITADOR!$B$2","v":""},0,{"$f":"IF(E280<>\"\",CONCATENATE(B280,A280,DIGITADOR!$M$1,C280),\"\")","v":""},null,null,"","","",null,{"$f":"IF(J280=\"\",\"\",INDEX(REFERENTES!$V:$W,MATCH(J280,REFERENTES!$W:$W,0),1))","v":""},{"$f":"IF(E280=\"\",\"\",IF(O280=O279,\"\",CONCATENATE(B280,A280,DIGITADOR!$M$1,C280)))","v":""},null,{"$f":"IF(M280=\"\",\"\",INDEX(REFERENTES!$AB:$AC,MATCH(M280,REFERENTES!$AC:$AC,0),1))","v":""},"",null,276,"",null,null,null,null,null,null,null,null,null,null,null,null,null,null,null,null,null,null,null,null,{"$f":"IF(AL280<>\"\",VLOOKUP(AL280,#REF!,2,FALSE),\"\")","v":""},null,null,null,{"$f":"IF(AP280<>\"\",VLOOKUP(AP280,#REF!,2,TRUE),\"\")","v":""},null,{"$f":"IF(AR280<>\"\",VLOOKUP(AR280,#REF!,2,FALSE),\"\")","v":""},null,null,null,{"$f":"IF(AT280=\"\",\"\",INDEX(REFERENTES!$A:$B,MATCH(AT280,REFERENTES!$A:$A,0),2))","v":""},null,{"$f":"IF(AX280=\"\",\"\",INDEX(REFERENTES!M:O,MATCH(AX280,REFERENTES!M:M,0),3))","v":""}]
["30001212000000",{"$f":"DIGITADOR!$B$2","v":""},0,{"$f":"IF(E281<>\"\",CONCATENATE(B281,A281,DIGITADOR!$M$1,C281),\"\")","v":""},null,null,"","","",null,{"$f":"IF(J281=\"\",\"\",INDEX(REFERENTES!$V:$W,MATCH(J281,REFERENTES!$W:$W,0),1))","v":""},{"$f":"IF(E281=\"\",\"\",IF(O281=O280,\"\",CONCATENATE(B281,A281,DIGITADOR!$M$1,C281)))","v":""},null,{"$f":"IF(M281=\"\",\"\",INDEX(REFERENTES!$AB:$AC,MATCH(M281,REFERENTES!$AC:$AC,0),1))","v":""},"",null,277,"",null,null,null,null,null,null,null,null,null,null,null,null,null,null,null,null,null,null,null,null,{"$f":"IF(AL281<>\"\",VLOOKUP(AL281,#REF!,2,FALSE),\"\")","v":""},null,null,null,{"$f":"IF(AP281<>\"\",VLOOKUP(AP281,#REF!,2,TRUE),\"\")","v":""},null,{"$f":"IF(AR281<>\"\",VLOOKUP(AR281,#REF!,2,FALSE),\"\")","v":""},null,null,null,{"$f":"IF(AT281=\"\",\"\",INDEX(REFERENTES!$A:$B,MATCH(AT281,REFERENTES!$A:$A,0),2))","v":""},null,{"$f":"IF(AX281=\"\",\"\",INDEX(REFERENTES!M:O,MATCH(AX281,REFERENTES!M:M,0),3))","v":""}]
["30001212000000",{"$f":"DIGITADOR!$B$2","v":""},0,{"$f":"IF(E282<>\"\",CONCATENATE(B282,A282,DIGITADOR!$M$1,C282),\"\")","v":""},null,null,"","","",null,{"$f":"IF(J282=\"\",\"\",INDEX(REFERENTES!$V:$W,MATCH(J282,REFERENTES!$W:$W,0),1))","v":""},{"$f":"IF(E282=\"\",\"\",IF(O282=O281,\"\",CONCATENATE(B282,A282,DIGITADOR!$M$1,C282)))","v":""},null,{"$f":"IF(M282=\"\",\"\",INDEX(REFERENTES!$AB:$AC,MATCH(M282,REFERENTES!$AC:$AC,0),1))","v":""},"",null,278,"",null,null,null,null,null,null,null,null,null,null,null,null,null,null,null,null,null,null,null,null,{"$f":"IF(AL282<>\"\",VLOOKUP(AL282,#REF!,2,FALSE),\"\")","v":""},null,null,null,{"$f":"IF(AP282<>\"\",VLOOKUP(AP282,#REF!,2,TRUE),\"\")","v":""},null,{"$f":"IF(AR282<>\"\",VLOOKUP(AR282,#REF!,2,FALSE),\"\")","v":""},null,null,null,{"$f":"IF(AT282=\"\",\"\",INDEX(REFERENTES!$A:$B,MATCH(AT282,REFERENTES!$A:$A,0),2))","v":""},null,{"$f":"IF(AX282=\"\",\"\",INDEX(REFERENTES!M:O,MATCH(AX282,REFERENTES!M:M,0),3))","v":""}]
["30001212000000",{"$f":"DIGITADOR!$B$2","v":""},0,{"$f":"IF(E283<>\"\",CONCATENATE(B283,A283,DIGITADOR!$M$1,C283),\"\")","v":""},null,null,"","","",null,{"$f":"IF(J283=\"\",\"\",INDEX(REFERENTES!$V:$W,MATCH(J283,REFERENTES!$W:$W,0),1))","v":""},{"$f":"IF(E283=\"\",\"\",IF(O283=O282,\"\",CONCATENATE(B283,A283,DIGITADOR!$M$1,C283)))","v":""},null,{"$f":"IF(M283=\"\",\"\",INDEX(REFERENTES!$AB:$AC,MATCH(M283,REFERENTES!$AC:$AC,0),1))","v":""},"",null,279,"",null,null,null,null,null,null,null,null,null,null,null,null,null,null,null,null,null,null,null,null,{"$f":"IF(AL283<>\"\",VLOOKUP(AL283,#REF!,2,FALSE),\"\")","v":""},null,null,null,{"$f":"IF(AP283<>\"\",VLOOKUP(AP283,#REF!,2,TRUE),\"\")","v":""},null,{"$f":"IF(AR283<>\"\",VLOOKUP(AR283,#REF!,2,FALSE),\"\")","v":""},null,null,null,{"$f":"IF(AT283=\"\",\"\",INDEX(REFERENTES!$A:$B,MATCH(AT283,REFERENTES!$A:$A,0),2))","v":""},null,{"$f":"IF(AX283=\"\",\"\",INDEX(REFERENTES!M:O,MATCH(AX283,REFERENTES!M:M,0),3))","v":""}]
["30001212000000",{"$f":"DIGITADOR!$B$2","v":""},0,{"$f":"IF(E284<>\"\",CONCATENATE(B284,A284,DIGITADOR!$M$1,C284),\"\")","v":""},null,null,"","","",null,{"$f":"IF(J284=\"\",\"\",INDEX(REFERENTES!$V:$W,MATCH(J284,REFERENTES!$W:$W,0),1))","v":""},{"$f":"IF(E284=\"\",\"\",IF(O284=O283,\"\",CONCATENATE(B284,A284,DIGITADOR!$M$1,C284)))","v":""},null,{"$f":"IF(M284=\"\",\"\",INDEX(REFERENTES!$AB:$AC,MATCH(M284,REFERENTES!$AC:$AC,0),1))","v":""},"",null,280,"",null,null,null,null,null,null,null,null,null,null,null,null,null,null,null,null,null,null,null,null,{"$f":"IF(AL284<>\"\",VLOOKUP(AL284,#REF!,2,FALSE),\"\")","v":""},null,null,null,{"$f":"IF(AP284<>\"\",VLOOKUP(AP284,#REF!,2,TRUE),\"\")","v":""},null,{"$f":"IF(AR284<>\"\",VLOOKUP(AR284,#REF!,2,FALSE),\"\")","v":""},null,null,null,{"$f":"IF(AT284=\"\",\"\",INDEX(REFERENTES!$A:$B,MATCH(AT284,REFERENTES!$A:$A,0),2))","v":""},null,{"$f":"IF(AX284=\"\",\"\",INDEX(REFERENTES!M:O,MATCH(AX284,REFERENTES!M:M,0),3))","v":""}]
["30001212000000",{"$f":"DIGITADOR!$B$2","v":""},0,{"$f":"IF(E285<>\"\",CONCATENATE(B285,A285,DIGITADOR!$M$1,C285),\"\")","v":""},null,null,"","","",null,{"$f":"IF(J285=\"\",\"\",INDEX(REFERENTES!$V:$W,MATCH(J285,REFERENTES!$W:$W,0),1))","v":""},{"$f":"IF(E285=\"\",\"\",IF(O285=O284,\"\",CONCATENATE(B285,A285,DIGITADOR!$M$1,C285)))","v":""},null,{"$f":"IF(M285=\"\",\"\",INDEX(REFERENTES!$AB:$AC,MATCH(M285,REFERENTES!$AC:$AC,0),1))","v":""},"",null,281,"",null,null,null,null,null,null,null,null,null,null,null,null,null,null,null,null,null,null,null,null,{"$f":"IF(AL285<>\"\",VLOOKUP(AL285,#REF!,2,FALSE),\"\")","v":""},null,null,null,{"$f":"IF(AP285<>\"\",VLOOKUP(AP285,#REF!,2,TRUE),\"\")","v":""},null,{"$f":"IF(AR285<>\"\",VLOOKUP(AR285,#REF!,2,FALSE),\"\")","v":""},null,null,null,{"$f":"IF(AT285=\"\",\"\",INDEX(REFERENTES!$A:$B,MATCH(AT285,REFERENTES!$A:$A,0),2))","v":""},null,{"$f":"IF(AX285=\"\",\"\",INDEX(REFERENTES!M:O,MATCH(AX285,REFERENTES!M:M,0),3))","v":""}]
["30001212000000",{"$f":"DIGITADOR!$B$2","v":""},0,{"$f":"IF(E286<>\"\",CONCATENATE(B286,A286,DIGITADOR!$M$1,C286),\"\")","v":""},null,null,"","","",null,{"$f":"IF(J286=\"\",\"\",INDEX(REFERENTES!$V:$W,MATCH(J286,REFERENTES!$W:$W,0),1))","v":""},{"$f":"IF(E286=\"\",\"\",IF(O286=O285,\"\",CONCATENATE(B286,A286,DIGITADOR!$M$1,C286)))","v":""},null,{"$f":"IF(M286=\"\",\"\",INDEX(REFERENTES!$AB:$AC,MATCH(M286,REFERENTES!$AC:$AC,0),1))","v":""},"",null,282,"",null,null,null,null,null,null,null,null,null,null,null,null,null,null,null,null,null,null,null,null,{"$f":"IF(AL286<>\"\",VLOOKUP(AL286,#REF!,2,FALSE),\"\")","v":""},null,null,null,{"$f":"IF(AP286<>\"\",VLOOKUP(AP286,#REF!,2,TRUE),\"\")","v":""},null,{"$f":"IF(AR286<>\"\",VLOOKUP(AR286,#REF!,2,FALSE),\"\")","v":""},null,null,null,{"$f":"IF(AT286=\"\",\"\",INDEX(REFERENTES!$A:$B,MATCH(AT286,REFERENTES!$A:$A,0),2))","v":""},null,{"$f":"IF(AX286=\"\",\"\",INDEX(REFERENTES!M:O,MATCH(AX286,REFERENTES!M:M,0),3))","v":""}]
["30001212000000",{"$f":"DIGITADOR!$B$2","v":""},0,{"$f":"IF(E287<>\"\",CONCATENATE(B287,A287,DIGITADOR!$M$1,C287),\"\")","v":""},null,null,"","","",null,{"$f":"IF(J287=\"\",\"\",INDEX(REFERENTES!$V:$W,MATCH(J287,REFERENTES!$W:$W,0),1))","v":""},{"$f":"IF(E287=\"\",\"\",IF(O287=O286,\"\",CONCATENATE(B287,A287,DIGITADOR!$M$1,C287)))","v":""},null,{"$f":"IF(M287=\"\",\"\",INDEX(REFERENTES!$AB:$AC,MATCH(M287,REFERENTES!$AC:$AC,0),1))","v":""},"",null,283,"",null,null,null,null,null,null,null,null,null,null,null,null,null,null,null,null,null,null,null,null,{"$f":"IF(AL287<>\"\",VLOOKUP(AL287,#REF!,2,FALSE),\"\")","v":""},null,null,null,{"$f":"IF(AP287<>\"\",VLOOKUP(AP287,#REF!,2,TRUE),\"\")","v":""},null,{"$f":"IF(AR287<>\"\",VLOOKUP(AR287,#REF!,2,FALSE),\"\")","v":""},null,null,null,{"$f":"IF(AT287=\"\",\"\",INDEX(REFERENTES!$A:$B,MATCH(AT287,REFERENTES!$A:$A,0),2))","v":""},null,{"$f":"IF(AX287=\"\",\"\",INDEX(REFERENTES!M:O,MATCH(AX287,REFERENTES!M:M,0),3))","v":""}]
["30001212000000",{"$f":"DIGITADOR!$B$2","v":""},0,{"$f":"IF(E288<>\"\",CONCATENATE(B288,A288,DIGITADOR!$M$1,C288),\"\")","v":""},null,null,"","","",null,{"$f":"IF(J288=\"\",\"\",INDEX(REFERENTES!$V:$W,MATCH(J288,REFERENTES!$W:$W,0),1))","v":""},{"$f":"IF(E288=\"\",\"\",IF(O288=O287,\"\",CONCATENATE(B288,A288,DIGITADOR!$M$1,C288)))","v":""},null,{"$f":"IF(M288=\"\",\"\",INDEX(REFERENTES!$AB:$AC,MATCH(M288,REFERENTES!$AC:$AC,0),1))","v":""},"",null,284,"",null,null,null,null,null,null,null,null,null,null,null,null,null,null,null,null,null,null,null,null,{"$f":"IF(AL288<>\"\",VLOOKUP(AL288,#REF!,2,FALSE),\"\")","v":""},null,null,null,{"$f":"IF(AP288<>\"\",VLOOKUP(AP288,#REF!,2,TRUE),\"\")","v":""},null,{"$f":"IF(AR288<>\"\",VLOOKUP(AR288,#REF!,2,FALSE),\"\")","v":""},null,null,null,{"$f":"IF(AT288=\"\",\"\",INDEX(REFERENTES!$A:$B,MATCH(AT288,REFERENTES!$A:$A,0),2))","v":""},null,{"$f":"IF(AX288=\"\",\"\",INDEX(REFERENTES!M:O,MATCH(AX288,REFERENTES!M:M,0),3))","v":""}]
["30001212000000",{"$f":"DIGITADOR!$B$2","v":""},0,{"$f":"IF(E289<>\"\",CONCATENATE(B289,A289,DIGITADOR!$M$1,C289),\"\")","v":""},null,null,"","","",null,{"$f":"IF(J289=\"\",\"\",INDEX(REFERENTES!$V:$W,MATCH(J289,REFERENTES!$W:$W,0),1))","v":""},{"$f":"IF(E289=\"\",\"\",IF(O289=O288,\"\",CONCATENATE(B289,A289,DIGITADOR!$M$1,C289)))","v":""},null,{"$f":"IF(M289=\"\",\"\",INDEX(REFERENTES!$AB:$AC,MATCH(M289,REFERENTES!$AC:$AC,0),1))","v":""},"",null,285,"",null,null,null,null,null,null,null,null,null,null,null,null,null,null,null,null,null,null,null,null,{"$f":"IF(AL289<>\"\",VLOOKUP(AL289,#REF!,2,FALSE),\"\")","v":""},null,null,null,{"$f":"IF(AP289<>\"\",VLOOKUP(AP289,#REF!,2,TRUE),\"\")","v":""},null,{"$f":"IF(AR289<>\"\",VLOOKUP(AR289,#REF!,2,FALSE),\"\")","v":""},null,null,null,{"$f":"IF(AT289=\"\",\"\",INDEX(REFERENTES!$A:$B,MATCH(AT289,REFERENTES!$A:$A,0),2))","v":""},null,{"$f":"IF(AX289=\"\",\"\",INDEX(REFERENTES!M:O,MATCH(AX289,REFERENTES!M:M,0),3))","v":""}]
["30001212000000",{"$f":"DIGITADOR!$B$2","v":""},0,{"$f":"IF(E290<>\"\",CONCATENATE(B290,A290,DIGITADOR!$M$1,C290),\"\")","v":""},null,null,"","","",null,{"$f":"IF(J290=\"\",\"\",INDEX(REFERENTES!$V:$W,MATCH(J290,REFERENTES!$W:$W,0),1))","v":""},{"$f":"IF(E290=\"\",\"\",IF(O290=O289,\"\",CONCATENATE(B290,A290,DIGITADOR!$M$1,C290)))","v":""},null,{"$f":"IF(M290=\"\",\"\",INDEX(REFERENTES!$AB:$AC,MATCH(M290,REFERENTES!$AC:$AC,0),1))","v":""},"",null,286,"",null,null,null,null,null,null,null,null,null,null,null,null,null,null,null,null,null,null,null,null,{"$f":"IF(AL290<>\"\",VLOOKUP(AL290,#REF!,2,FALSE),\"\")","v":""},null,null,null,{"$f":"IF(AP290<>\"\",VLOOKUP(AP290,#REF!,2,TRUE),\"\")","v":""},null,{"$f":"IF(AR290<>\"\",VLOOKUP(AR290,#REF!,2,FALSE),\"\")","v":""},null,null,null,{"$f":"IF(AT290=\"\",\"\",INDEX(REFERENTES!$A:$B,MATCH(AT290,REFERENTES!$A:$A,0),2))","v":""},null,{"$f":"IF(AX290=\"\",\"\",INDEX(REFERENTES!M:O,MATCH(AX290,REFERENTES!M:M,0),3))","v":""}]
["30001212000000",{"$f":"DIGITADOR!$B$2","v":""},0,{"$f":"IF(E291<>\"\",CONCATENATE(B291,A291,DIGITADOR!$M$1,C291),\"\")","v":""},null,null,"","","",null,{"$f":"IF(J291=\"\",\"\",INDEX(REFERENTES!$V:$W,MATCH(J291,REFERENTES!$W:$W,0),1))","v":""},{"$f":"IF(E291=\"\",\"\",IF(O291=O290,\"\",CONCATENATE(B291,A291,DIGITADOR!$M$1,C291)))","v":""},null,{"$f":"IF(M291=\"\",\"\",INDEX(REFERENTES!$AB:$AC,MATCH(M291,REFERENTES!$AC:$AC,0),1))","v":""},"",null,287,"",null,null,null,null,null,null,null,null,null,null,null,null,null,null,null,null,null,null,null,null,{"$f":"IF(AL291<>\"\",VLOOKUP(AL291,#REF!,2,FALSE),\"\")","v":""},null,null,null,{"$f":"IF(AP291<>\"\",VLOOKUP(AP291,#REF!,2,TRUE),\"\")","v":""},null,{"$f":"IF(AR291<>\"\",VLOOKUP(AR291,#REF!,2,FALSE),\"\")","v":""},null,null,null,{"$f":"IF(AT291=\"\",\"\",INDEX(REFERENTES!$A:$B,MATCH(AT291,REFERENTES!$A:$A,0),2))","v":""},null,{"$f":"IF(AX291=\"\",\"\",INDEX(REFERENTES!M:O,MATCH(AX291,REFERENTES!M:M,0),3))","v":""}]
["30001212000000",{"$f":"DIGITADOR!$B$2","v":""},0,{"$f":"IF(E292<>\"\",CONCATENATE(B292,A292,DIGITADOR!$M$1,C292),\"\")","v":""},null,null,"","","",null,{"$f":"IF(J292=\"\",\"\",INDEX(REFERENTES!$V:$W,MATCH(J292,REFERENTES!$W:$W,0),1))","v":""},{"$f":"IF(E292=\"\",\"\",IF(O292=O291,\"\",CONCATENATE(B292,A292,DIGITADOR!$M$1,C292)))","v":""},null,{"$f":"IF(M292=\"\",\"\",INDEX(REFERENTES!$AB:$AC,MATCH(M292,REFERENTES!$AC:$AC,0),1))","v":""},"",null,288,"",null,null,null,null,null,null,null,null,null,null,null,null,null,null,null,null,null,null,null,null,{"$f":"IF(AL292<>\"\",VLOOKUP(AL292,#REF!,2,FALSE),\"\")","v":""},null,null,null,{"$f":"IF(AP292<>\"\",VLOOKUP(AP292,#REF!,2,TRUE),\"\")","v":""},null,{"$f":"IF(AR292<>\"\",VLOOKUP(AR292,#REF!,2,FALSE),\"\")","v":""},null,null,null,{"$f":"IF(AT292=\"\",\"\",INDEX(REFERENTES!$A:$B,MATCH(AT292,REFERENTES!$A:$A,0),2))","v":""},null,{"$f":"IF(AX292=\"\",\"\",INDEX(REFERENTES!M:O,MATCH(AX292,REFERENTES!M:M,0),3))","v":""}]
["30001212000000",{"$f":"DIGITADOR!$B$2","v":""},0,{"$f":"IF(E293<>\"\",CONCATENATE(B293,A293,DIGITADOR!$M$1,C293),\"\")","v":""},null,null,"","","",null,{"$f":"IF(J293=\"\",\"\",INDEX(REFERENTES!$V:$W,MATCH(J293,REFERENTES!$W:$W,0),1))","v":""},{"$f":"IF(E293=\"\",\"\",IF(O293=O292,\"\",CONCATENATE(B293,A293,DIGITADOR!$M$1,C293)))","v":""},null,{"$f":"IF(M293=\"\",\"\",INDEX(REFERENTES!$AB:$AC,MATCH(M293,REFERENTES!$AC:$AC,0),1))","v":""},"",null,289,"",null,null,null,null,null,null,null,null,null,null,null,null,null,null,null,null,null,null,null,null,{"$f":"IF(AL293<>\"\",VLOOKUP(AL293,#REF!,2,FALSE),\"\")","v":""},null,null,null,{"$f":"IF(AP293<>\"\",VLOOKUP(AP293,#REF!,2,TRUE),\"\")","v":""},null,{"$f":"IF(AR293<>\"\",VLOOKUP(AR293,#REF!,2,FALSE),\"\")","v":""},null,null,null,{"$f":"IF(AT293=\"\",\"\",INDEX(REFERENTES!$A:$B,MATCH(AT293,REFERENTES!$A:$A,0),2))","v":""},null,{"$f":"IF(AX293=\"\",\"\",INDEX(REFERENTES!M:O,MATCH(AX293,REFERENTES!M:M,0),3))","v":""}]
["30001212000000",{"$f":"DIGITADOR!$B$2","v":""},0,{"$f":"IF(E294<>\"\",CONCATENATE(B294,A294,DIGITADOR!$M$1,C294),\"\")","v":""},null,null,"","","",null,{"$f":"IF(J294=\"\",\"\",INDEX(REFERENTES!$V:$W,MATCH(J294,REFERENTES!$W:$W,0),1))","v":""},{"$f":"IF(E294=\"\",\"\",IF(O294=O293,\"\",CONCATENATE(B294,A294,DIGITADOR!$M$1,C294)))","v":""},null,{"$f":"IF(M294=\"\",\"\",INDEX(REFERENTES!$AB:$AC,MATCH(M294,REFERENTES!$AC:$AC,0),1))","v":""},"",null,290,"",null,null,null,null,null,null,null,null,null,null,null,null,null,null,null,null,null,null,null,null,{"$f":"IF(AL294<>\"\",VLOOKUP(AL294,#REF!,2,FALSE),\"\")","v":""},null,null,null,{"$f":"IF(AP294<>\"\",VLOOKUP(AP294,#REF!,2,TRUE),\"\")","v":""},null,{"$f":"IF(AR294<>\"\",VLOOKUP(AR294,#REF!,2,FALSE),\"\")","v":""},null,null,null,{"$f":"IF(AT294=\"\",\"\",INDEX(REFERENTES!$A:$B,MATCH(AT294,REFERENTES!$A:$A,0),2))","v":""},null,{"$f":"IF(AX294=\"\",\"\",INDEX(REFERENTES!M:O,MATCH(AX294,REFERENTES!M:M,0),3))","v":""}]
["30001212000000",{"$f":"DIGITADOR!$B$2","v":""},0,{"$f":"IF(E295<>\"\",CONCATENATE(B295,A295,DIGITADOR!$M$1,C295),\"\")","v":""},null,null,"","","",null,{"$f":"IF(J295=\"\",\"\",INDEX(REFERENTES!$V:$W,MATCH(J295,REFERENTES!$W:$W,0),1))","v":""},{"$f":"IF(E295=\"\",\"\",IF(O295=O294,\"\",CONCATENATE(B295,A295,DIGITADOR!$M$1,C295)))","v":""},null,{"$f":"IF(M295=\"\",\"\",INDEX(REFERENTES!$AB:$AC,MATCH(M295,REFERENTES!$AC:$AC,0),1))","v":""},"",null,291,"",null,null,null,null,null,null,null,null,null,null,null,null,null,null,null,null,null,null,null,null,{"$f":"IF(AL295<>\"\",VLOOKUP(AL295,#REF!,2,FALSE),\"\")","v":""},null,null,null,{"$f":"IF(AP295<>\"\",VLOOKUP(AP295,#REF!,2,TRUE),\"\")","v":""},null,{"$f":"IF(AR295<>\"\",VLOOKUP(AR295,#REF!,2,FALSE),\"\")","v":""},null,null,null,{"$f":"IF(AT295=\"\",\"\",INDEX(REFERENTES!$A:$B,MATCH(AT295,REFERENTES!$A:$A,0),2))","v":""},null,{"$f":"IF(AX295=\"\",\"\",INDEX(REFERENTES!M:O,MATCH(AX295,REFERENTES!M:M,0),3))","v":""}]
["30001212000000",{"$f":"DIGITADOR!$B$2","v":""},0,{"$f":"IF(E296<>\"\",CONCATENATE(B296,A296,DIGITADOR!$M$1,C296),\"\")","v":""},null,null,"","","",null,{"$f":"IF(J296=\"\",\"\",INDEX(REFERENTES!$V:$W,MATCH(J296,REFERENTES!$W:$W,0),1))","v":""},{"$f":"IF(E296=\"\",\"\",IF(O296=O295,\"\",CONCATENATE(B296,A296,DIGITADOR!$M$1,C296)))","v":""},null,{"$f":"IF(M296=\"\",\"\",INDEX(REFERENTES!$AB:$AC,MATCH(M296,REFERENTES!$AC:$AC,0),1))","v":""},"",null,292,"",null,null,null,null,null,null,null,null,null,null,null,null,null,null,null,null,null,null,null,null,{"$f":"IF(AL296<>\"\",VLOOKUP(AL296,#REF!,2,FALSE),\"\")","v":""},null,null,null,{"$f":"IF(AP296<>\"\",VLOOKUP(AP296,#REF!,2,TRUE),\"\")","v":""},null,{"$f":"IF(AR296<>\"\",VLOOKUP(AR296,#REF!,2,FALSE),\"\")","v":""},null,null,null,{"$f":"IF(AT296=\"\",\"\",INDEX(REFERENTES!$A:$B,MATCH(AT296,REFERENTES!$A:$A,0),2))","v":""},null,{"$f":"IF(AX296=\"\",\"\",INDEX(REFERENTES!M:O,MATCH(AX296,REFERENTES!M:M,0),3))","v":""}]
["30001212000000",{"$f":"DIGITADOR!$B$2","v":""},0,{"$f":"IF(E297<>\"\",CONCATENATE(B297,A297,DIGITADOR!$M$1,C297),\"\")","v":""},null,null,"",{"$f":"IF(G297<>\"\",MONTH(G297),\"\")","v":""},"",null,{"$f":"IF(J297=\"\",\"\",INDEX(REFERENTES!$V:$W,MATCH(J297,REFERENTES!$W:$W,0),1))","v":""},{"$f":"IF(E297=\"\",\"\",IF(O297=O296,\"\",CONCATENATE(B297,A297,DIGITADOR!$M$1,C297)))","v":""},null,{"$f":"IF(M297=\"\",\"\",INDEX(REFERENTES!$AB:$AC,MATCH(M297,REFERENTES!$AC:$AC,0),1))","v":""},"",null,293,"",null,null,null,null,null,null,null,null,null,null,null,null,null,null,null,null,null,null,null,null,{"$f":"IF(AL297<>\"\",VLOOKUP(AL297,#REF!,2,FALSE),\"\")","v":""},null,null,null,{"$f":"IF(AP297<>\"\",VLOOKUP(AP297,#REF!,2,TRUE),\"\")","v":""},null,{"$f":"IF(AR297<>\"\",VLOOKUP(AR297,#REF!,2,FALSE),\"\")","v":""},null,null,null,{"$f":"IF(AT297=\"\",\"\",INDEX(REFERENTES!$A:$B,MATCH(AT297,REFERENTES!$A:$A,0),2))","v":""},null,{"$f":"IF(AX297=\"\",\"\",INDEX(REFERENTES!M:O,MATCH(AX297,REFERENTES!M:M,0),3))","v":""}]
["30001212000000",{"$f":"DIGITADOR!$B$2","v":""},0,{"$f":"IF(E298<>\"\",CONCATENATE(B298,A298,DIGITADOR!$M$1,C298),\"\")","v":""},null,null,"","","",null,{"$f":"IF(J298=\"\",\"\",INDEX(REFERENTES!$V:$W,MATCH(J298,REFERENTES!$W:$W,0),1))","v":""},{"$f":"IF(E298=\"\",\"\",IF(O298=O297,\"\",CONCATENATE(B298,A298,DIGITADOR!$M$1,C298)))","v":""},null,{"$f":"IF(M298=\"\",\"\",INDEX(REFERENTES!$AB:$AC,MATCH(M298,REFERENTES!$AC:$AC,0),1))","v":""},"",null,294,"",null,null,null,null,null,null,null,null,null,null,null,null,null,null,null,null,null,null,null,null,{"$f":"IF(AL298<>\"\",VLOOKUP(AL298,#REF!,2,FALSE),\"\")","v":""},null,null,null,{"$f":"IF(AP298<>\"\",VLOOKUP(AP298,#REF!,2,TRUE),\"\")","v":""},null,{"$f":"IF(AR298<>\"\",VLOOKUP(AR298,#REF!,2,FALSE),\"\")","v":""},null,null,null,{"$f":"IF(AT298=\"\",\"\",INDEX(REFERENTES!$A:$B,MATCH(AT298,REFERENTES!$A:$A,0),2))","v":""},null,{"$f":"IF(AX298=\"\",\"\",INDEX(REFERENTES!M:O,MATCH(AX298,REFERENTES!M:M,0),3))","v":""}]
["30001212000000",{"$f":"DIGITADOR!$B$2","v":""},0,{"$f":"IF(E299<>\"\",CONCATENATE(B299,A299,DIGITADOR!$M$1,C299),\"\")","v":""},null,null,"","","",null,{"$f":"IF(J299=\"\",\"\",INDEX(REFERENTES!$V:$W,MATCH(J299,REFERENTES!$W:$W,0),1))","v":""},{"$f":"IF(E299=\"\",\"\",IF(O299=O298,\"\",CONCATENATE(B299,A299,DIGITADOR!$M$1,C299)))","v":""},null,{"$f":"IF(M299=\"\",\"\",INDEX(REFERENTES!$AB:$AC,MATCH(M299,REFERENTES!$AC:$AC,0),1))","v":""},"",null,295,"",null,null,null,null,null,null,null,null,null,null,null,null,null,null,null,null,null,null,null,null,{"$f":"IF(AL299<>\"\",VLOOKUP(AL299,#REF!,2,FALSE),\"\")","v":""},null,null,null,{"$f":"IF(AP299<>\"\",VLOOKUP(AP299,#REF!,2,TRUE),\"\")","v":""},null,{"$f":"IF(AR299<>\"\",VLOOKUP(AR299,#REF!,2,FALSE),\"\")","v":""},null,null,null,{"$f":"IF(AT299=\"\",\"\",INDEX(REFERENTES!$A:$B,MATCH(AT299,REFERENTES!$A:$A,0),2))","v":""},null,{"$f":"IF(AX299=\"\",\"\",INDEX(REFERENTES!M:O,MATCH(AX299,REFERENTES!M:M,0),3))","v":""}]
["30001212000000",{"$f":"DIGITADOR!$B$2","v":""},0,{"$f":"IF(E300<>\"\",CONCATENATE(B300,A300,DIGITADOR!$M$1,C300),\"\")","v":""},null,null,"","","",null,{"$f":"IF(J300=\"\",\"\",INDEX(REFERENTES!$V:$W,MATCH(J300,REFERENTES!$W:$W,0),1))","v":""},{"$f":"IF(E300=\"\",\"\",IF(O300=O299,\"\",CONCATENATE(B300,A300,DIGITADOR!$M$1,C300)))","v":""},null,{"$f":"IF(M300=\"\",\"\",INDEX(REFERENTES!$AB:$AC,MATCH(M300,REFERENTES!$AC:$AC,0),1))","v":""},"",null,296,"",null,null,null,null,null,null,null,null,null,null,null,null,null,null,null,null,null,null,null,null,{"$f":"IF(AL300<>\"\",VLOOKUP(AL300,#REF!,2,FALSE),\"\")","v":""},null,null,null,{"$f":"IF(AP300<>\"\",VLOOKUP(AP300,#REF!,2,TRUE),\"\")","v":""},null,{"$f":"IF(AR300<>\"\",VLOOKUP(AR300,#REF!,2,FALSE),\"\")","v":""},null,null,null,{"$f":"IF(AT300=\"\",\"\",INDEX(REFERENTES!$A:$B,MATCH(AT300,REFERENTES!$A:$A,0),2))","v":""},null,{"$f":"IF(AX300=\"\",\"\",INDEX(REFERENTES!M:O,MATCH(AX300,REFERENTES!M:M,0),3))","v":""}]
["30001212000000",{"$f":"DIGITADOR!$B$2","v":""},0,{"$f":"IF(E301<>\"\",CONCATENATE(B301,A301,DIGITADOR!$M$1,C301),\"\")","v":""},null,null,"","","",null,{"$f":"IF(J301=\"\",\"\",INDEX(REFERENTES!$V:$W,MATCH(J301,REFERENTES!$W:$W,0),1))","v":""},{"$f":"IF(E301=\"\",\"\",IF(O301=O300,\"\",CONCATENATE(B301,A301,DIGITADOR!$M$1,C301)))","v":""},null,{"$f":"IF(M301=\"\",\"\",INDEX(REFERENTES!$AB:$AC,MATCH(M301,REFERENTES!$AC:$AC,0),1))","v":""},"",null,297,"",null,null,null,null,null,null,null,null,null,null,null,null,null,null,null,null,null,null,null,null,{"$f":"IF(AL301<>\"\",VLOOKUP(AL301,#REF!,2,FALSE),\"\")","v":""},null,null,null,{"$f":"IF(AP301<>\"\",VLOOKUP(AP301,#REF!,2,TRUE),\"\")","v":""},null,{"$f":"IF(AR301<>\"\",VLOOKUP(AR301,#REF!,2,FALSE),\"\")","v":""},null,null,null,{"$f":"IF(AT301=\"\",\"\",INDEX(REFERENTES!$A:$B,MATCH(AT301,REFERENTES!$A:$A,0),2))","v":""},null,{"$f":"IF(AX301=\"\",\"\",INDEX(REFERENTES!M:O,MATCH(AX301,REFERENTES!M:M,0),3))","v":""}]
["30001212000000",{"$f":"DIGITADOR!$B$2","v":""},0,{"$f":"IF(E302<>\"\",CONCATENATE(B302,A302,DIGITADOR!$M$1,C302),\"\")","v":""},null,null,"","","",null,{"$f":"IF(J302=\"\",\"\",INDEX(REFERENTES!$V:$W,MATCH(J302,REFERENTES!$W:$W,0),1))","v":""},{"$f":"IF(E302=\"\",\"\",IF(O302=O301,\"\",CONCATENATE(B302,A302,DIGITADOR!$M$1,C302)))","v":""},null,{"$f":"IF(M302=\"\",\"\",INDEX(REFERENTES!$AB:$AC,MATCH(M302,REFERENTES!$AC:$AC,0),1))","v":""},"",null,298,"",null,null,null,null,null,null,null,null,null,null,null,null,null,null,null,null,null,null,null,null,{"$f":"IF(AL302<>\"\",VLOOKUP(AL302,#REF!,2,FALSE),\"\")","v":""},null,null,null,{"$f":"IF(AP302<>\"\",VLOOKUP(AP302,#REF!,2,TRUE),\"\")","v":""},null,{"$f":"IF(AR302<>\"\",VLOOKUP(AR302,#REF!,2,FALSE),\"\")","v":""},null,null,null,{"$f":"IF(AT302=\"\",\"\",INDEX(REFERENTES!$A:$B,MATCH(AT302,REFERENTES!$A:$A,0),2))","v":""},null,{"$f":"IF(AX302=\"\",\"\",INDEX(REFERENTES!M:O,MATCH(AX302,REFERENTES!M:M,0),3))","v":""}]
["30001212000000",{"$f":"DIGITADOR!$B$2","v":""},0,{"$f":"IF(E303<>\"\",CONCATENATE(B303,A303,DIGITADOR!$M$1,C303),\"\")","v":""},null,null,"","","",null,{"$f":"IF(J303=\"\",\"\",INDEX(REFERENTES!$V:$W,MATCH(J303,REFERENTES!$W:$W,0),1))","v":""},{"$f":"IF(E303=\"\",\"\",IF(O303=O302,\"\",CONCATENATE(B303,A303,DIGITADOR!$M$1,C303)))","v":""},null,{"$f":"IF(M303=\"\",\"\",INDEX(REFERENTES!$AB:$AC,MATCH(M303,REFERENTES!$AC:$AC,0),1))","v":""},"",null,299,"",null,null,null,null,null,null,null,null,null,null,null,null,null,null,null,null,null,null,null,null,{"$f":"IF(AL303<>\"\",VLOOKUP(AL303,#REF!,2,FALSE),\"\")","v":""},null,null,null,{"$f":"IF(AP303<>\"\",VLOOKUP(AP303,#REF!,2,TRUE),\"\")","v":""},null,{"$f":"IF(AR303<>\"\",VLOOKUP(AR303,#REF!,2,FALSE),\"\")","v":""},null,null,null,{"$f":"IF(AT303=\"\",\"\",INDEX(REFERENTES!$A:$B,MATCH(AT303,REFERENTES!$A:$A,0),2))","v":""},null,{"$f":"IF(AX303=\"\",\"\",INDEX(REFERENTES!M:O,MATCH(AX303,REFERENTES!M:M,0),3))","v":""}]
["30001212000000",{"$f":"DIGITADOR!$B$2","v":""},0,{"$f":"IF(E304<>\"\",CONCATENATE(B304,A304,DIGITADOR!$M$1,C304),\"\")","v":""},null,null,"","","",null,{"$f":"IF(J304=\"\",\"\",INDEX(REFERENTES!$V:$W,MATCH(J304,REFERENTES!$W:$W,0),1))","v":""},{"$f":"IF(E304=\"\",\"\",IF(O304=O303,\"\",CONCATENATE(B304,A304,DIGITADOR!$M$1,C304)))","v":""},null,{"$f":"IF(M304=\"\",\"\",INDEX(REFERENTES!$AB:$AC,MATCH(M304,REFERENTES!$AC:$AC,0),1))","v":""},"",null,300,"",null,null,null,null,null,null,null,null,null,null,null,null,null,null,null,null,null,null,null,null,{"$f":"IF(AL304<>\"\",VLOOKUP(AL304,#REF!,2,FALSE),\"\")","v":""},null,null,null,{"$f":"IF(AP304<>\"\",VLOOKUP(AP304,#REF!,2,TRUE),\"\")","v":""},null,{"$f":"IF(AR304<>\"\",VLOOKUP(AR304,#REF!,2,FALSE),\"\")","v":""},null,null,null,{"$f":"IF(AT304=\"\",\"\",INDEX(REFERENTES!$A:$B,MATCH(AT304,REFERENTES!$A:$A,0),2))","v":""},null,{"$f":"IF(AX304=\"\",\"\",INDEX(REFERENTES!M:O,MATCH(AX304,REFERENTES!M:M,0),3))","v":""}]
["30001212000000",{"$f":"DIGITADOR!$B$2","v":""},0,{"$f":"IF(E305<>\"\",CONCATENATE(B305,A305,DIGITADOR!$M$1,C305),\"\")","v":""},null,null,"","","",null,{"$f":"IF(J305=\"\",\"\",INDEX(REFERENTES!$V:$W,MATCH(J305,REFERENTES!$W:$W,0),1))","v":""},{"$f":"IF(E305=\"\",\"\",IF(O305=O304,\"\",CONCATENATE(B305,A305,DIGITADOR!$M$1,C305)))","v":""},null,{"$f":"IF(M305=\"\",\"\",INDEX(REFERENTES!$AB:$AC,MATCH(M305,REFERENTES!$AC:$AC,0),1))","v":""},"",null,301,"",null,null,null,null,null,null,null,null,null,null,null,null,null,null,null,null,null,null,null,null,{"$f":"IF(AL305<>\"\",VLOOKUP(AL305,#REF!,2,FALSE),\"\")","v":""},null,null,null,{"$f":"IF(AP305<>\"\",VLOOKUP(AP305,#REF!,2,TRUE),\"\")","v":""},null,{"$f":"IF(AR305<>\"\",VLOOKUP(AR305,#REF!,2,FALSE),\"\")","v":""},null,null,null,{"$f":"IF(AT305=\"\",\"\",INDEX(REFERENTES!$A:$B,MATCH(AT305,REFERENTES!$A:$A,0),2))","v":""},null,{"$f":"IF(AX305=\"\",\"\",INDEX(REFERENTES!M:O,MATCH(AX305,REFERENTES!M:M,0),3))","v":""}]
["30001212000000",{"$f":"DIGITADOR!$B$2","v":""},0,{"$f":"IF(E306<>\"\",CONCATENATE(B306,A306,DIGITADOR!$M$1,C306),\"\")","v":""},null,null,"","","",null,{"$f":"IF(J306=\"\",\"\",INDEX(REFERENTES!$V:$W,MATCH(J306,REFERENTES!$W:$W,0),1))","v":""},{"$f":"IF(E306=\"\",\"\",IF(O306=O305,\"\",CONCATENATE(B306,A306,DIGITADOR!$M$1,C306)))","v":""},null,{"$f":"IF(M306=\"\",\"\",INDEX(REFERENTES!$AB:$AC,MATCH(M306,REFERENTES!$AC:$AC,0),1))","v":""},"",null,302,"",null,null,null,null,null,null,null,null,null,null,null,null,null,null,null,null,null,null,null,null,{"$f":"IF(AL306<>\"\",VLOOKUP(AL306,#REF!,2,FALSE),\"\")","v":""},null,null,null,{"$f":"IF(AP306<>\"\",VLOOKUP(AP306,#REF!,2,TRUE),\"\")","v":""},null,{"$f":"IF(AR306<>\"\",VLOOKUP(AR306,#REF!,2,FALSE),\"\")","v":""},null,null,null,{"$f":"IF(AT306=\"\",\"\",INDEX(REFERENTES!$A:$B,MATCH(AT306,REFERENTES!$A:$A,0),2))","v":""},null,{"$f":"IF(AX306=\"\",\"\",INDEX(REFERENTES!M:O,MATCH(AX306,REFERENTES!M:M,0),3))","v":""}]
["30001212000000",{"$f":"DIGITADOR!$B$2","v":""},0,{"$f":"IF(E307<>\"\",CONCATENATE(B307,A307,DIGITADOR!$M$1,C307),\"\")","v":""},null,null,"","","",null,{"$f":"IF(J307=\"\",\"\",INDEX(REFERENTES!$V:$W,MATCH(J307,REFERENTES!$W:$W,0),1))","v":""},{"$f":"IF(E307=\"\",\"\",IF(O307=O306,\"\",CONCATENATE(B307,A307,DIGITADOR!$M$1,C307)))","v":""},null,{"$f":"IF(M307=\"\",\"\",INDEX(REFERENTES!$AB:$AC,MATCH(M307,REFERENTES!$AC:$AC,0),1))","v":""},"",null,303,"",null,null,null,null,null,null,null,null,null,null,null,null,null,null,null,null,null,null,null,null,{"$f":"IF(AL307<>\"\",VLOOKUP(AL307,#REF!,2,FALSE),\"\")","v":""},null,null,null,{"$f":"IF(AP307<>\"\",VLOOKUP(AP307,#REF!,2,TRUE),\"\")","v":""},null,{"$f":"IF(AR307<>\"\",VLOOKUP(AR307,#REF!,2,FALSE),\"\")","v":""},null,null,null,{"$f":"IF(AT307=\"\",\"\",INDEX(REFERENTES!$A:$B,MATCH(AT307,REFERENTES!$A:$A,0),2))","v":""},null,{"$f":"IF(AX307=\"\",\"\",INDEX(REFERENTES!M:O,MATCH(AX307,REFERENTES!M:M,0),3))","v":""}]
["30001212000000",{"$f":"DIGITADOR!$B$2","v":""},0,{"$f":"IF(E308<>\"\",CONCATENATE(B308,A308,DIGITADOR!$M$1,C308),\"\")","v":""},null,null,"","","",null,{"$f":"IF(J308=\"\",\"\",INDEX(REFERENTES!$V:$W,MATCH(J308,REFERENTES!$W:$W,0),1))","v":""},{"$f":"IF(E308=\"\",\"\",IF(O308=O307,\"\",CONCATENATE(B308,A308,DIGITADOR!$M$1,C308)))","v":""},null,{"$f":"IF(M308=\"\",\"\",INDEX(REFERENTES!$AB:$AC,MATCH(M308,REFERENTES!$AC:$AC,0),1))","v":""},"",null,304,"",null,null,null,null,null,null,null,null,null,null,null,null,null,null,null,null,null,null,null,null,{"$f":"IF(AL308<>\"\",VLOOKUP(AL308,#REF!,2,FALSE),\"\")","v":""},null,null,null,{"$f":"IF(AP308<>\"\",VLOOKUP(AP308,#REF!,2,TRUE),\"\")","v":""},null,{"$f":"IF(AR308<>\"\",VLOOKUP(AR308,#REF!,2,FALSE),\"\")","v":""},null,null,null,{"$f":"IF(AT308=\"\",\"\",INDEX(REFERENTES!$A:$B,MATCH(AT308,REFERENTES!$A:$A,0),2))","v":""},null,{"$f":"IF(AX308=\"\",\"\",INDEX(REFERENTES!M:O,MATCH(AX308,REFERENTES!M:M,0),3))","v":""}]
["30001212000000",{"$f":"DIGITADOR!$B$2","v":""},0,{"$f":"IF(E309<>\"\",CONCATENATE(B309,A309,DIGITADOR!$M$1,C309),\"\")","v":""},null,null,"","","",null,{"$f":"IF(J309=\"\",\"\",INDEX(REFERENTES!$V:$W,MATCH(J309,REFERENTES!$W:$W,0),1))","v":""},{"$f":"IF(E309=\"\",\"\",IF(O309=O308,\"\",CONCATENATE(B309,A309,DIGITADOR!$M$1,C309)))","v":""},null,{"$f":"IF(M309=\"\",\"\",INDEX(REFERENTES!$AB:$AC,MATCH(M309,REFERENTES!$AC:$AC,0),1))","v":""},"",null,305,"",null,null,null,null,null,null,null,null,null,null,null,null,null,null,null,null,null,null,null,null,{"$f":"IF(AL309<>\"\",VLOOKUP(AL309,#REF!,2,FALSE),\"\")","v":""},null,null,null,{"$f":"IF(AP309<>\"\",VLOOKUP(AP309,#REF!,2,TRUE),\"\")","v":""},null,{"$f":"IF(AR309<>\"\",VLOOKUP(AR309,#REF!,2,FALSE),\"\")","v":""},null,null,null,{"$f":"IF(AT309=\"\",\"\",INDEX(REFERENTES!$A:$B,MATCH(AT309,REFERENTES!$A:$A,0),2))","v":""},null,{"$f":"IF(AX309=\"\",\"\",INDEX(REFERENTES!M:O,MATCH(AX309,REFERENTES!M:M,0),3))","v":""}]
["30001212000000",{"$f":"DIGITADOR!$B$2","v":""},0,{"$f":"IF(E310<>\"\",CONCATENATE(B310,A310,DIGITADOR!$M$1,C310),\"\")","v":""},null,null,"","","",null,{"$f":"IF(J310=\"\",\"\",INDEX(REFERENTES!$V:$W,MATCH(J310,REFERENTES!$W:$W,0),1))","v":""},{"$f":"IF(E310=\"\",\"\",IF(O310=O309,\"\",CONCATENATE(B310,A310,DIGITADOR!$M$1,C310)))","v":""},null,{"$f":"IF(M310=\"\",\"\",INDEX(REFERENTES!$AB:$AC,MATCH(M310,REFERENTES!$AC:$AC,0),1))","v":""},"",null,306,"",null,null,null,null,null,null,null,null,null,null,null,null,null,null,null,null,null,null,null,null,{"$f":"IF(AL310<>\"\",VLOOKUP(AL310,#REF!,2,FALSE),\"\")","v":""},null,null,null,{"$f":"IF(AP310<>\"\",VLOOKUP(AP310,#REF!,2,TRUE),\"\")","v":""},null,{"$f":"IF(AR310<>\"\",VLOOKUP(AR310,#REF!,2,FALSE),\"\")","v":""},null,null,null,{"$f":"IF(AT310=\"\",\"\",INDEX(REFERENTES!$A:$B,MATCH(AT310,REFERENTES!$A:$A,0),2))","v":""},null,{"$f":"IF(AX310=\"\",\"\",INDEX(REFERENTES!M:O,MATCH(AX310,REFERENTES!M:M,0),3))","v":""}]
["30001212000000",{"$f":"DIGITADOR!$B$2","v":""},0,{"$f":"IF(E311<>\"\",CONCATENATE(B311,A311,DIGITADOR!$M$1,C311),\"\")","v":""},null,null,"","","",null,{"$f":"IF(J311=\"\",\"\",INDEX(REFERENTES!$V:$W,MATCH(J311,REFERENTES!$W:$W,0),1))","v":""},{"$f":"IF(E311=\"\",\"\",IF(O311=O310,\"\",CONCATENATE(B311,A311,DIGITADOR!$M$1,C311)))","v":""},null,{"$f":"IF(M311=\"\",\"\",INDEX(REFERENTES!$AB:$AC,MATCH(M311,REFERENTES!$AC:$AC,0),1))","v":""},"",null,307,"",null,null,null,null,null,null,null,null,null,null,null,null,null,null,null,null,null,null,null,null,{"$f":"IF(AL311<>\"\",VLOOKUP(AL311,#REF!,2,FALSE),\"\")","v":""},null,null,null,{"$f":"IF(AP311<>\"\",VLOOKUP(AP311,#REF!,2,TRUE),\"\")","v":""},null,{"$f":"IF(AR311<>\"\",VLOOKUP(AR311,#REF!,2,FALSE),\"\")","v":""},null,null,null,{"$f":"IF(AT311=\"\",\"\",INDEX(REFERENTES!$A:$B,MATCH(AT311,REFERENTES!$A:$A,0),2))","v":""},null,{"$f":"IF(AX311=\"\",\"\",INDEX(REFERENTES!M:O,MATCH(AX311,REFERENTES!M:M,0),3))","v":""}]
["30001212000000",{"$f":"DIGITADOR!$B$2","v":""},0,{"$f":"IF(E312<>\"\",CONCATENATE(B312,A312,DIGITADOR!$M$1,C312),\"\")","v":""},null,null,"","","",null,{"$f":"IF(J312=\"\",\"\",INDEX(REFERENTES!$V:$W,MATCH(J312,REFERENTES!$W:$W,0),1))","v":""},{"$f":"IF(E312=\"\",\"\",IF(O312=O311,\"\",CONCATENATE(B312,A312,DIGITADOR!$M$1,C312)))","v":""},null,{"$f":"IF(M312=\"\",\"\",INDEX(REFERENTES!$AB:$AC,MATCH(M312,REFERENTES!$AC:$AC,0),1))","v":""},"",null,308,"",null,null,null,null,null,null,null,null,null,null,null,null,null,null,null,null,null,null,null,null,{"$f":"IF(AL312<>\"\",VLOOKUP(AL312,#REF!,2,FALSE),\"\")","v":""},null,null,null,{"$f":"IF(AP312<>\"\",VLOOKUP(AP312,#REF!,2,TRUE),\"\")","v":""},null,{"$f":"IF(AR312<>\"\",VLOOKUP(AR312,#REF!,2,FALSE),\"\")","v":""},null,null,null,{"$f":"IF(AT312=\"\",\"\",INDEX(REFERENTES!$A:$B,MATCH(AT312,REFERENTES!$A:$A,0),2))","v":""},null,{"$f":"IF(AX312=\"\",\"\",INDEX(REFERENTES!M:O,MATCH(AX312,REFERENTES!M:M,0),3))","v":""}]
["30001212000000",{"$f":"DIGITADOR!$B$2","v":""},0,{"$f":"IF(E313<>\"\",CONCATENATE(B313,A313,DIGITADOR!$M$1,C313),\"\")","v":""},null,null,"","","",null,{"$f":"IF(J313=\"\",\"\",INDEX(REFERENTES!$V:$W,MATCH(J313,REFERENTES!$W:$W,0),1))","v":""},{"$f":"IF(E313=\"\",\"\",IF(O313=O312,\"\",CONCATENATE(B313,A313,DIGITADOR!$M$1,C313)))","v":""},null,{"$f":"IF(M313=\"\",\"\",INDEX(REFERENTES!$AB:$AC,MATCH(M313,REFERENTES!$AC:$AC,0),1))","v":""},"",null,309,"",null,null,null,null,null,null,null,null,null,null,null,null,null,null,null,null,null,null,null,null,{"$f":"IF(AL313<>\"\",VLOOKUP(AL313,#REF!,2,FALSE),\"\")","v":""},null,null,null,{"$f":"IF(AP313<>\"\",VLOOKUP(AP313,#REF!,2,TRUE),\"\")","v":""},null,{"$f":"IF(AR313<>\"\",VLOOKUP(AR313,#REF!,2,FALSE),\"\")","v":""},null,null,null,{"$f":"IF(AT313=\"\",\"\",INDEX(REFERENTES!$A:$B,MATCH(AT313,REFERENTES!$A:$A,0),2))","v":""},null,{"$f":"IF(AX313=\"\",\"\",INDEX(REFERENTES!M:O,MATCH(AX313,REFERENTES!M:M,0),3))","v":""}]
["30001212000000",{"$f":"DIGITADOR!$B$2","v":""},0,{"$f":"IF(E314<>\"\",CONCATENATE(B314,A314,DIGITADOR!$M$1,C314),\"\")","v":""},null,null,"","","",null,{"$f":"IF(J314=\"\",\"\",INDEX(REFERENTES!$V:$W,MATCH(J314,REFERENTES!$W:$W,0),1))","v":""},{"$f":"IF(E314=\"\",\"\",IF(O314=O313,\"\",CONCATENATE(B314,A314,DIGITADOR!$M$1,C314)))","v":""},null,{"$f":"IF(M314=\"\",\"\",INDEX(REFERENTES!$AB:$AC,MATCH(M314,REFERENTES!$AC:$AC,0),1))","v":""},"",null,310,"",null,null,null,null,null,null,null,null,null,null,null,null,null,null,null,null,null,null,null,null,{"$f":"IF(AL314<>\"\",VLOOKUP(AL314,#REF!,2,FALSE),\"\")","v":""},null,null,null,{"$f":"IF(AP314<>\"\",VLOOKUP(AP314,#REF!,2,TRUE),\"\")","v":""},null,{"$f":"IF(AR314<>\"\",VLOOKUP(AR314,#REF!,2,FALSE),\"\")","v":""},null,null,null,{"$f":"IF(AT314=\"\",\"\",INDEX(REFERENTES!$A:$B,MATCH(AT314,REFERENTES!$A:$A,0),2))","v":""},null,{"$f":"IF(AX314=\"\",\"\",INDEX(REFERENTES!M:O,MATCH(AX314,REFERENTES!M:M,0),3))","v":""}]
["30001212000000",{"$f":"DIGITADOR!$B$2","v":""},0,{"$f":"IF(E315<>\"\",CONCATENATE(B315,A315,DIGITADOR!$M$1,C315),\"\")","v":""},null,null,"","","",null,{"$f":"IF(J315=\"\",\"\",INDEX(REFERENTES!$V:$W,MATCH(J315,REFERENTES!$W:$W,0),1))","v":""},{"$f":"IF(E315=\"\",\"\",IF(O315=O314,\"\",CONCATENATE(B315,A315,DIGITADOR!$M$1,C315)))","v":""},null,{"$f":"IF(M315=\"\",\"\",INDEX(REFERENTES!$AB:$AC,MATCH(M315,REFERENTES!$AC:$AC,0),1))","v":""},"",null,311,"",null,null,null,null,null,null,null,null,null,null,null,null,null,null,null,null,null,null,null,null,{"$f":"IF(AL315<>\"\",VLOOKUP(AL315,#REF!,2,FALSE),\"\")","v":""},null,null,null,{"$f":"IF(AP315<>\"\",VLOOKUP(AP315,#REF!,2,TRUE),\"\")","v":""},null,{"$f":"IF(AR315<>\"\",VLOOKUP(AR315,#REF!,2,FALSE),\"\")","v":""},null,null,null,{"$f":"IF(AT315=\"\",\"\",INDEX(REFERENTES!$A:$B,MATCH(AT315,REFERENTES!$A:$A,0),2))","v":""},null,{"$f":"IF(AX315=\"\",\"\",INDEX(REFERENTES!M:O,MATCH(AX315,REFERENTES!M:M,0),3))","v":""}]
["30001212000000",{"$f":"DIGITADOR!$B$2","v":""},0,{"$f":"IF(E316<>\"\",CONCATENATE(B316,A316,DIGITADOR!$M$1,C316),\"\")","v":""},null,null,"","","",null,{"$f":"IF(J316=\"\",\"\",INDEX(REFERENTES!$V:$W,MATCH(J316,REFERENTES!$W:$W,0),1))","v":""},{"$f":"IF(E316=\"\",\"\",IF(O316=O315,\"\",CONCATENATE(B316,A316,DIGITADOR!$M$1,C316)))","v":""},null,{"$f":"IF(M316=\"\",\"\",INDEX(REFERENTES!$AB:$AC,MATCH(M316,REFERENTES!$AC:$AC,0),1))","v":""},"",null,312,"",null,null,null,null,null,null,null,null,null,null,null,null,null,null,null,null,null,null,null,null,{"$f":"IF(AL316<>\"\",VLOOKUP(AL316,#REF!,2,FALSE),\"\")","v":""},null,null,null,{"$f":"IF(AP316<>\"\",VLOOKUP(AP316,#REF!,2,TRUE),\"\")","v":""},null,{"$f":"IF(AR316<>\"\",VLOOKUP(AR316,#REF!,2,FALSE),\"\")","v":""},null,null,null,{"$f":"IF(AT316=\"\",\"\",INDEX(REFERENTES!$A:$B,MATCH(AT316,REFERENTES!$A:$A,0),2))","v":""},null,{"$f":"IF(AX316=\"\",\"\",INDEX(REFERENTES!M:O,MATCH(AX316,REFERENTES!M:M,0),3))","v":""}]
["30001212000000",{"$f":"DIGITADOR!$B$2","v":""},0,{"$f":"IF(E317<>\"\",CONCATENATE(B317,A317,DIGITADOR!$M$1,C317),\"\")","v":""},null,null,"","","",null,{"$f":"IF(J317=\"\",\"\",INDEX(REFERENTES!$V:$W,MATCH(J317,REFERENTES!$W:$W,0),1))","v":""},{"$f":"IF(E317=\"\",\"\",IF(O317=O316,\"\",CONCATENATE(B317,A317,DIGITADOR!$M$1,C317)))","v":""},null,{"$f":"IF(M317=\"\",\"\",INDEX(REFERENTES!$AB:$AC,MATCH(M317,REFERENTES!$AC:$AC,0),1))","v":""},"",null,313,"",null,null,null,null,null,null,null,null,null,null,null,null,null,null,null,null,null,null,null,null,{"$f":"IF(AL317<>\"\",VLOOKUP(AL317,#REF!,2,FALSE),\"\")","v":""},null,null,null,{"$f":"IF(AP317<>\"\",VLOOKUP(AP317,#REF!,2,TRUE),\"\")","v":""},null,{"$f":"IF(AR317<>\"\",VLOOKUP(AR317,#REF!,2,FALSE),\"\")","v":""},null,null,null,{"$f":"IF(AT317=\"\",\"\",INDEX(REFERENTES!$A:$B,MATCH(AT317,REFERENTES!$A:$A,0),2))","v":""},null,{"$f":"IF(AX317=\"\",\"\",INDEX(REFERENTES!M:O,MATCH(AX317,REFERENTES!M:M,0),3))","v":""}]
["30001212000000",{"$f":"DIGITADOR!$B$2","v":""},0,{"$f":"IF(E318<>\"\",CONCATENATE(B318,A318,DIGITADOR!$M$1,C318),\"\")","v":""},null,null,"","","",null,{"$f":"IF(J318=\"\",\"\",INDEX(REFERENTES!$V:$W,MATCH(J318,REFERENTES!$W:$W,0),1))","v":""},{"$f":"IF(E318=\"\",\"\",IF(O318=O317,\"\",CONCATENATE(B318,A318,DIGITADOR!$M$1,C318)))","v":""},null,{"$f":"IF(M318=\"\",\"\",INDEX(REFERENTES!$AB:$AC,MATCH(M318,REFERENTES!$AC:$AC,0),1))","v":""},"",null,314,"",null,null,null,null,null,null,null,null,null,null,null,null,null,null,null,null,null,null,null,null,{"$f":"IF(AL318<>\"\",VLOOKUP(AL318,#REF!,2,FALSE),\"\")","v":""},null,null,null,{"$f":"IF(AP318<>\"\",VLOOKUP(AP318,#REF!,2,TRUE),\"\")","v":""},null,{"$f":"IF(AR318<>\"\",VLOOKUP(AR318,#REF!,2,FALSE),\"\")","v":""},null,null,null,{"$f":"IF(AT318=\"\",\"\",INDEX(REFERENTES!$A:$B,MATCH(AT318,REFERENTES!$A:$A,0),2))","v":""},null,{"$f":"IF(AX318=\"\",\"\",INDEX(REFERENTES!M:O,MATCH(AX318,REFERENTES!M:M,0),3))","v":""}]
["30001212000000",{"$f":"DIGITADOR!$B$2","v":""},0,{"$f":"IF(E319<>\"\",CONCATENATE(B319,A319,DIGITADOR!$M$1,C319),\"\")","v":""},null,null,"","","",null,{"$f":"IF(J319=\"\",\"\",INDEX(REFERENTES!$V:$W,MATCH(J319,REFERENTES!$W:$W,0),1))","v":""},{"$f":"IF(E319=\"\",\"\",IF(O319=O318,\"\",CONCATENATE(B319,A319,DIGITADOR!$M$1,C319)))","v":""},null,{"$f":"IF(M319=\"\",\"\",INDEX(REFERENTES!$AB:$AC,MATCH(M319,REFERENTES!$AC:$AC,0),1))","v":""},"",null,315,"",null,null,null,null,null,null,null,null,null,null,null,null,null,null,null,null,null,null,null,null,{"$f":"IF(AL319<>\"\",VLOOKUP(AL319,#REF!,2,FALSE),\"\")","v":""},null,null,null,{"$f":"IF(AP319<>\"\",VLOOKUP(AP319,#REF!,2,TRUE),\"\")","v":""},null,{"$f":"IF(AR319<>\"\",VLOOKUP(AR319,#REF!,2,FALSE),\"\")","v":""},null,null,null,{"$f":"IF(AT319=\"\",\"\",INDEX(REFERENTES!$A:$B,MATCH(AT319,REFERENTES!$A:$A,0),2))","v":""},null,{"$f":"IF(AX319=\"\",\"\",INDEX(REFERENTES!M:O,MATCH(AX319,REFERENTES!M:M,0),3))","v":""}]
["30001212000000",{"$f":"DIGITADOR!$B$2","v":""},0,{"$f":"IF(E320<>\"\",CONCATENATE(B320,A320,DIGITADOR!$M$1,C320),\"\")","v":""},null,null,"","","",null,{"$f":"IF(J320=\"\",\"\",INDEX(REFERENTES!$V:$W,MATCH(J320,REFERENTES!$W:$W,0),1))","v":""},{"$f":"IF(E320=\"\",\"\",IF(O320=O319,\"\",CONCATENATE(B320,A320,DIGITADOR!$M$1,C320)))","v":""},null,{"$f":"IF(M320=\"\",\"\",INDEX(REFERENTES!$AB:$AC,MATCH(M320,REFERENTES!$AC:$AC,0),1))","v":""},"",null,316,"",null,null,null,null,null,null,null,null,null,null,null,null,null,null,null,null,null,null,null,null,{"$f":"IF(AL320<>\"\",VLOOKUP(AL320,#REF!,2,FALSE),\"\")","v":""},null,null,null,{"$f":"IF(AP320<>\"\",VLOOKUP(AP320,#REF!,2,TRUE),\"\")","v":""},null,{"$f":"IF(AR320<>\"\",VLOOKUP(AR320,#REF!,2,FALSE),\"\")","v":""},null,null,null,{"$f":"IF(AT320=\"\",\"\",INDEX(REFERENTES!$A:$B,MATCH(AT320,REFERENTES!$A:$A,0),2))","v":""},null,{"$f":"IF(AX320=\"\",\"\",INDEX(REFERENTES!M:O,MATCH(AX320,REFERENTES!M:M,0),3))","v":""}]
["30001212000000",{"$f":"DIGITADOR!$B$2","v":""},0,{"$f":"IF(E321<>\"\",CONCATENATE(B321,A321,DIGITADOR!$M$1,C321),\"\")","v":""},null,null,"","","",null,{"$f":"IF(J321=\"\",\"\",INDEX(REFERENTES!$V:$W,MATCH(J321,REFERENTES!$W:$W,0),1))","v":""},{"$f":"IF(E321=\"\",\"\",IF(O321=O320,\"\",CONCATENATE(B321,A321,DIGITADOR!$M$1,C321)))","v":""},null,{"$f":"IF(M321=\"\",\"\",INDEX(REFERENTES!$AB:$AC,MATCH(M321,REFERENTES!$AC:$AC,0),1))","v":""},"",null,317,"",null,null,null,null,null,null,null,null,null,null,null,null,null,null,null,null,null,null,null,null,{"$f":"IF(AL321<>\"\",VLOOKUP(AL321,#REF!,2,FALSE),\"\")","v":""},null,null,null,{"$f":"IF(AP321<>\"\",VLOOKUP(AP321,#REF!,2,TRUE),\"\")","v":""},null,{"$f":"IF(AR321<>\"\",VLOOKUP(AR321,#REF!,2,FALSE),\"\")","v":""},null,null,null,{"$f":"IF(AT321=\"\",\"\",INDEX(REFERENTES!$A:$B,MATCH(AT321,REFERENTES!$A:$A,0),2))","v":""},null,{"$f":"IF(AX321=\"\",\"\",INDEX(REFERENTES!M:O,MATCH(AX321,REFERENTES!M:M,0),3))","v":""}]
["30001212000000",{"$f":"DIGITADOR!$B$2","v":""},0,{"$f":"IF(E322<>\"\",CONCATENATE(B322,A322,DIGITADOR!$M$1,C322),\"\")","v":""},null,null,"","","",null,{"$f":"IF(J322=\"\",\"\",INDEX(REFERENTES!$V:$W,MATCH(J322,REFERENTES!$W:$W,0),1))","v":""},{"$f":"IF(E322=\"\",\"\",IF(O322=O321,\"\",CONCATENATE(B322,A322,DIGITADOR!$M$1,C322)))","v":""},null,{"$f":"IF(M322=\"\",\"\",INDEX(REFERENTES!$AB:$AC,MATCH(M322,REFERENTES!$AC:$AC,0),1))","v":""},"",null,318,"",null,null,null,null,null,null,null,null,null,null,null,null,null,null,null,null,null,null,null,null,{"$f":"IF(AL322<>\"\",VLOOKUP(AL322,#REF!,2,FALSE),\"\")","v":""},null,null,null,{"$f":"IF(AP322<>\"\",VLOOKUP(AP322,#REF!,2,TRUE),\"\")","v":""},null,{"$f":"IF(AR322<>\"\",VLOOKUP(AR322,#REF!,2,FALSE),\"\")","v":""},null,null,null,{"$f":"IF(AT322=\"\",\"\",INDEX(REFERENTES!$A:$B,MATCH(AT322,REFERENTES!$A:$A,0),2))","v":""},null,{"$f":"IF(AX322=\"\",\"\",INDEX(REFERENTES!M:O,MATCH(AX322,REFERENTES!M:M,0),3))","v":""}]
["30001212000000",{"$f":"DIGITADOR!$B$2","v":""},0,{"$f":"IF(E323<>\"\",CONCATENATE(B323,A323,DIGITADOR!$M$1,C323),\"\")","v":""},null,null,"","","",null,{"$f":"IF(J323=\"\",\"\",INDEX(REFERENTES!$V:$W,MATCH(J323,REFERENTES!$W:$W,0),1))","v":""},{"$f":"IF(E323=\"\",\"\",IF(O323=O322,\"\",CONCATENATE(B323,A323,DIGITADOR!$M$1,C323)))","v":""},null,{"$f":"IF(M323=\"\",\"\",INDEX(REFERENTES!$AB:$AC,MATCH(M323,REFERENTES!$AC:$AC,0),1))","v":""},"",null,319,"",null,null,null,null,null,null,null,null,null,null,null,null,null,null,null,null,null,null,null,null,{"$f":"IF(AL323<>\"\",VLOOKUP(AL323,#REF!,2,FALSE),\"\")","v":""},null,null,null,{"$f":"IF(AP323<>\"\",VLOOKUP(AP323,#REF!,2,TRUE),\"\")","v":""},null,{"$f":"IF(AR323<>\"\",VLOOKUP(AR323,#REF!,2,FALSE),\"\")","v":""},null,null,null,{"$f":"IF(AT323=\"\",\"\",INDEX(REFERENTES!$A:$B,MATCH(AT323,REFERENTES!$A:$A,0),2))","v":""},null,{"$f":"IF(AX323=\"\",\"\",INDEX(REFERENTES!M:O,MATCH(AX323,REFERENTES!M:M,0),3))","v":""}]
["30001212000000",{"$f":"DIGITADOR!$B$2","v":""},0,{"$f":"IF(E324<>\"\",CONCATENATE(B324,A324,DIGITADOR!$M$1,C324),\"\")","v":""},null,null,"","","",null,{"$f":"IF(J324=\"\",\"\",INDEX(REFERENTES!$V:$W,MATCH(J324,REFERENTES!$W:$W,0),1))","v":""},{"$f":"IF(E324=\"\",\"\",IF(O324=O323,\"\",CONCATENATE(B324,A324,DIGITADOR!$M$1,C324)))","v":""},null,{"$f":"IF(M324=\"\",\"\",INDEX(REFERENTES!$AB:$AC,MATCH(M324,REFERENTES!$AC:$AC,0),1))","v":""},"",null,320,"",null,null,null,null,null,null,null,null,null,null,null,null,null,null,null,null,null,null,null,null,{"$f":"IF(AL324<>\"\",VLOOKUP(AL324,#REF!,2,FALSE),\"\")","v":""},null,null,null,{"$f":"IF(AP324<>\"\",VLOOKUP(AP324,#REF!,2,TRUE),\"\")","v":""},null,{"$f":"IF(AR324<>\"\",VLOOKUP(AR324,#REF!,2,FALSE),\"\")","v":""},null,null,null,{"$f":"IF(AT324=\"\",\"\",INDEX(REFERENTES!$A:$B,MATCH(AT324,REFERENTES!$A:$A,0),2))","v":""},null,{"$f":"IF(AX324=\"\",\"\",INDEX(REFERENTES!M:O,MATCH(AX324,REFERENTES!M:M,0),3))","v":""}]
["30001212000000",{"$f":"DIGITADOR!$B$2","v":""},{"$f":"IF(O325=O324,C324,C324+1)","v":0},{"$f":"IF(E325<>\"\",CONCATENATE(B325,A325,DIGITADOR!$M$1,C325),\"\")","v":""},null,null,"","","",null,{"$f":"IF(J325=\"\",\"\",INDEX(REFERENTES!$V:$W,MATCH(J325,REFERENTES!$W:$W,0),1))","v":""},{"$f":"IF(E325=\"\",\"\",IF(O325=O324,\"\",CONCATENATE(B325,A325,DIGITADOR!$M$1,C325)))","v":""},null,{"$f":"IF(M325=\"\",\"\",INDEX(REFERENTES!$AB:$AC,MATCH(M325,REFERENTES!$AC:$AC,0),1))","v":""},"",null,321,"",null,null,null,null,null,null,null,null,null,null,null,null,null,null,null,null,null,null,null,null,{"$f":"IF(AL325<>\"\",VLOOKUP(AL325,#REF!,2,FALSE),\"\")","v":""},null,null,null,{"$f":"IF(AP325<>\"\",VLOOKUP(AP325,#REF!,2,TRUE),\"\")","v":""},null,{"$f":"IF(AR325<>\"\",VLOOKUP(AR325,#REF!,2,FALSE),\"\")","v":""},null,null,null,{"$f":"IF(AT325=\"\",\"\",INDEX(REFERENTES!$A:$B,MATCH(AT325,REFERENTES!$A:$A,0),2))","v":""},null,{"$f":"IF(AX325=\"\",\"\",INDEX(REFERENTES!M:O,MATCH(AX325,REFERENTES!M:M,0),3))","v":""}]
[{"$f":"A325","v":"30001212000000"},{"$f":"DIGITADOR!$B$2","v":""},0,{"$f":"IF(E326<>\"\",CONCATENATE(B326,A326,DIGITADOR!$M$1,C326),\"\")","v":""},null,null,{"$f":"IF(E326=\"\",\"\",E326+F326)","v":""},"",{"$f":"IF(M326=\"\",\"\",1)","v":""},null,{"$f":"IF(J326=\"\",\"\",INDEX(REFERENTES!$V:$W,MATCH(J326,REFERENTES!$W:$W,0),1))","v":""},{"$f":"IF(E326=\"\",\"\",IF(O326=O325,\"\",CONCATENATE(B326,A326,DIGITADOR!$M$1,C326)))","v":""},null,{"$f":"IF(M326=\"\",\"\",INDEX(REFERENTES!$AB:$AC,MATCH(M326,REFERENTES!$AC:$AC,0),1))","v":""},{"$f":"IF(M326=\"\",\"\",CONCATENATE(G326,K326,N326,1))","v":""},null,322,{"$f":"IF(D326=\"\",\"\",CONCATENATE(D326,Q326))","v":""},null,null,null,null,null,null,null,null,null,null,null,null,null,null,null,null,null,null,null,null,{"$f":"IF(AL326<>\"\",VLOOKUP(AL326,#REF!,2,FALSE),\"\")","v":""},null,null,null,{"$f":"IF(AP326<>\"\",VLOOKUP(AP326,#REF!,2,TRUE),\"\")","v":""},null,{"$f":"IF(AR326<>\"\",VLOOKUP(AR326,#REF!,2,FALSE),\"\")","v":""},null,null,null,{"$f":"IF(AT326=\"\",\"\",INDEX(REFERENTES!$A:$B,MATCH(AT326,REFERENTES!$A:$A,0),2))","v":""},null,{"$f":"IF(AX326=\"\",\"\",INDEX(REFERENTES!M:O,MATCH(AX326,REFERENTES!M:M,0),3))","v":""}]
["30001212000000",{"$f":"DIGITADOR!$B$2","v":""},0,{"$f":"IF(E327<>\"\",CONCATENATE(B327,A327,DIGITADOR!$M$1,C327),\"\")","v":""},null,null,"","","",null,{"$f":"IF(J327=\"\",\"\",INDEX(REFERENTES!$V:$W,MATCH(J327,REFERENTES!$W:$W,0),1))","v":""},{"$f":"IF(E327=\"\",\"\",IF(O327=O326,\"\",CONCATENATE(B327,A327,DIGITADOR!$M$1,C327)))","v":""},null,{"$f":"IF(M327=\"\",\"\",INDEX(REFERENTES!$AB:$AC,MATCH(M327,REFERENTES!$AC:$AC,0),1))","v":""},"",null,323,"",null,null,null,null,null,null,null,null,null,null,null,null,null,null,null,null,null,null,null,null,{"$f":"IF(AL327<>\"\",VLOOKUP(AL327,#REF!,2,FALSE),\"\")","v":""},null,null,null,{"$f":"IF(AP327<>\"\",VLOOKUP(AP327,#REF!,2,TRUE),\"\")","v":""},null,{"$f":"IF(AR327<>\"\",VLOOKUP(AR327,#REF!,2,FALSE),\"\")","v":""},null,null,null,{"$f":"IF(AT327=\"\",\"\",INDEX(REFERENTES!$A:$B,MATCH(AT327,REFERENTES!$A:$A,0),2))","v":""},null,{"$f":"IF(AX327=\"\",\"\",INDEX(REFERENTES!M:O,MATCH(AX327,REFERENTES!M:M,0),3))","v":""}]
["30001212000000",{"$f":"DIGITADOR!$B$2","v":""},0,{"$f":"IF(E328<>\"\",CONCATENATE(B328,A328,DIGITADOR!$M$1,C328),\"\")","v":""},null,null,"","","",null,{"$f":"IF(J328=\"\",\"\",INDEX(REFERENTES!$V:$W,MATCH(J328,REFERENTES!$W:$W,0),1))","v":""},{"$f":"IF(E328=\"\",\"\",IF(O328=O327,\"\",CONCATENATE(B328,A328,DIGITADOR!$M$1,C328)))","v":""},null,{"$f":"IF(M328=\"\",\"\",INDEX(REFERENTES!$AB:$AC,MATCH(M328,REFERENTES!$AC:$AC,0),1))","v":""},"",null,324,"",null,null,null,null,null,null,null,null,null,null,null,null,null,null,null,null,null,null,null,null,{"$f":"IF(AL328<>\"\",VLOOKUP(AL328,#REF!,2,FALSE),\"\")","v":""},null,null,null,{"$f":"IF(AP328<>\"\",VLOOKUP(AP328,#REF!,2,TRUE),\"\")","v":""},null,{"$f":"IF(AR328<>\"\",VLOOKUP(AR328,#REF!,2,FALSE),\"\")","v":""},null,null,null,{"$f":"IF(AT328=\"\",\"\",INDEX(REFERENTES!$A:$B,MATCH(AT328,REFERENTES!$A:$A,0),2))","v":""},null,{"$f":"IF(AX328=\"\",\"\",INDEX(REFERENTES!M:O,MATCH(AX328,REFERENTES!M:M,0),3))","v":""}]
["30001212000000",{"$f":"DIGITADOR!$B$2","v":""},0,{"$f":"IF(E329<>\"\",CONCATENATE(B329,A329,DIGITADOR!$M$1,C329),\"\")","v":""},null,null,"","","",null,{"$f":"IF(J329=\"\",\"\",INDEX(REFERENTES!$V:$W,MATCH(J329,REFERENTES!$W:$W,0),1))","v":""},{"$f":"IF(E329=\"\",\"\",IF(O329=O328,\"\",CONCATENATE(B329,A329,DIGITADOR!$M$1,C329)))","v":""},null,{"$f":"IF(M329=\"\",\"\",INDEX(REFERENTES!$AB:$AC,MATCH(M329,REFERENTES!$AC:$AC,0),1))","v":""},"",null,325,"",null,null,null,null,null,null,null,null,null,null,null,null,null,null,null,null,null,null,null,null,{"$f":"IF(AL329<>\"\",VLOOKUP(AL329,#REF!,2,FALSE),\"\")","v":""},null,null,null,{"$f":"IF(AP329<>\"\",VLOOKUP(AP329,#REF!,2,TRUE),\"\")","v":""},null,{"$f":"IF(AR329<>\"\",VLOOKUP(AR329,#REF!,2,FALSE),\"\")","v":""},null,null,null,{"$f":"IF(AT329=\"\",\"\",INDEX(REFERENTES!$A:$B,MATCH(AT329,REFERENTES!$A:$A,0),2))","v":""},null,{"$f":"IF(AX329=\"\",\"\",INDEX(REFERENTES!M:O,MATCH(AX329,REFERENTES!M:M,0),3))","v":""}]
["30001212000000",{"$f":"DIGITADOR!$B$2","v":""},0,{"$f":"IF(E330<>\"\",CONCATENATE(B330,A330,DIGITADOR!$M$1,C330),\"\")","v":""},null,null,"","","",null,{"$f":"IF(J330=\"\",\"\",INDEX(REFERENTES!$V:$W,MATCH(J330,REFERENTES!$W:$W,0),1))","v":""},{"$f":"IF(E330=\"\",\"\",IF(O330=O329,\"\",CONCATENATE(B330,A330,DIGITADOR!$M$1,C330)))","v":""},null,{"$f":"IF(M330=\"\",\"\",INDEX(REFERENTES!$AB:$AC,MATCH(M330,REFERENTES!$AC:$AC,0),1))","v":""},"",null,326,"",null,null,null,null,null,null,null,null,null,null,null,null,null,null,null,null,null,null,null,null,{"$f":"IF(AL330<>\"\",VLOOKUP(AL330,#REF!,2,FALSE),\"\")","v":""},null,null,null,{"$f":"IF(AP330<>\"\",VLOOKUP(AP330,#REF!,2,TRUE),\"\")","v":""},null,{"$f":"IF(AR330<>\"\",VLOOKUP(AR330,#REF!,2,FALSE),\"\")","v":""},null,null,null,{"$f":"IF(AT330=\"\",\"\",INDEX(REFERENTES!$A:$B,MATCH(AT330,REFERENTES!$A:$A,0),2))","v":""},null,{"$f":"IF(AX330=\"\",\"\",INDEX(REFERENTES!M:O,MATCH(AX330,REFERENTES!M:M,0),3))","v":""}]
["30001212000000",{"$f":"DIGITADOR!$B$2","v":""},0,{"$f":"IF(E331<>\"\",CONCATENATE(B331,A331,DIGITADOR!$M$1,C331),\"\")","v":""},null,null,"","","",null,{"$f":"IF(J331=\"\",\"\",INDEX(REFERENTES!$V:$W,MATCH(J331,REFERENTES!$W:$W,0),1))","v":""},{"$f":"IF(E331=\"\",\"\",IF(O331=O330,\"\",CONCATENATE(B331,A331,DIGITADOR!$M$1,C331)))","v":""},null,{"$f":"IF(M331=\"\",\"\",INDEX(REFERENTES!$AB:$AC,MATCH(M331,REFERENTES!$AC:$AC,0),1))","v":""},"",null,327,"",null,null,null,null,null,null,null,null,null,null,null,null,null,null,null,null,null,null,null,null,{"$f":"IF(AL331<>\"\",VLOOKUP(AL331,#REF!,2,FALSE),\"\")","v":""},null,null,null,{"$f":"IF(AP331<>\"\",VLOOKUP(AP331,#REF!,2,TRUE),\"\")","v":""},null,{"$f":"IF(AR331<>\"\",VLOOKUP(AR331,#REF!,2,FALSE),\"\")","v":""},null,null,null,{"$f":"IF(AT331=\"\",\"\",INDEX(REFERENTES!$A:$B,MATCH(AT331,REFERENTES!$A:$A,0),2))","v":""},null,{"$f":"IF(AX331=\"\",\"\",INDEX(REFERENTES!M:O,MATCH(AX331,REFERENTES!M:M,0),3))","v":""}]
["30001212000000",{"$f":"DIGITADOR!$B$2","v":""},0,{"$f":"IF(E332<>\"\",CONCATENATE(B332,A332,DIGITADOR!$M$1,C332),\"\")","v":""},null,null,"","","",null,{"$f":"IF(J332=\"\",\"\",INDEX(REFERENTES!$V:$W,MATCH(J332,REFERENTES!$W:$W,0),1))","v":""},{"$f":"IF(E332=\"\",\"\",IF(O332=O331,\"\",CONCATENATE(B332,A332,DIGITADOR!$M$1,C332)))","v":""},null,{"$f":"IF(M332=\"\",\"\",INDEX(REFERENTES!$AB:$AC,MATCH(M332,REFERENTES!$AC:$AC,0),1))","v":""},"",null,328,"",null,null,null,null,null,null,null,null,null,null,null,null,null,null,null,null,null,null,null,null,{"$f":"IF(AL332<>\"\",VLOOKUP(AL332,#REF!,2,FALSE),\"\")","v":""},null,null,null,{"$f":"IF(AP332<>\"\",VLOOKUP(AP332,#REF!,2,TRUE),\"\")","v":""},null,{"$f":"IF(AR332<>\"\",VLOOKUP(AR332,#REF!,2,FALSE),\"\")","v":""},null,null,null,{"$f":"IF(AT332=\"\",\"\",INDEX(REFERENTES!$A:$B,MATCH(AT332,REFERENTES!$A:$A,0),2))","v":""},null,{"$f":"IF(AX332=\"\",\"\",INDEX(REFERENTES!M:O,MATCH(AX332,REFERENTES!M:M,0),3))","v":""}]
["30001212000000",{"$f":"DIGITADOR!$B$2","v":""},0,{"$f":"IF(E333<>\"\",CONCATENATE(B333,A333,DIGITADOR!$M$1,C333),\"\")","v":""},null,null,"","","",null,{"$f":"IF(J333=\"\",\"\",INDEX(REFERENTES!$V:$W,MATCH(J333,REFERENTES!$W:$W,0),1))","v":""},{"$f":"IF(E333=\"\",\"\",IF(O333=O332,\"\",CONCATENATE(B333,A333,DIGITADOR!$M$1,C333)))","v":""},null,{"$f":"IF(M333=\"\",\"\",INDEX(REFERENTES!$AB:$AC,MATCH(M333,REFERENTES!$AC:$AC,0),1))","v":""},"",null,329,"",null,null,null,null,null,null,null,null,null,null,null,null,null,null,null,null,null,null,null,null,{"$f":"IF(AL333<>\"\",VLOOKUP(AL333,#REF!,2,FALSE),\"\")","v":""},null,null,null,{"$f":"IF(AP333<>\"\",VLOOKUP(AP333,#REF!,2,TRUE),\"\")","v":""},null,{"$f":"IF(AR333<>\"\",VLOOKUP(AR333,#REF!,2,FALSE),\"\")","v":""},null,null,null,{"$f":"IF(AT333=\"\",\"\",INDEX(REFERENTES!$A:$B,MATCH(AT333,REFERENTES!$A:$A,0),2))","v":""},null,{"$f":"IF(AX333=\"\",\"\",INDEX(REFERENTES!M:O,MATCH(AX333,REFERENTES!M:M,0),3))","v":""}]
["30001212000000",{"$f":"DIGITADOR!$B$2","v":""},0,{"$f":"IF(E334<>\"\",CONCATENATE(B334,A334,DIGITADOR!$M$1,C334),\"\")","v":""},null,null,"","","",null,{"$f":"IF(J334=\"\",\"\",INDEX(REFERENTES!$V:$W,MATCH(J334,REFERENTES!$W:$W,0),1))","v":""},{"$f":"IF(E334=\"\",\"\",IF(O334=O333,\"\",CONCATENATE(B334,A334,DIGITADOR!$M$1,C334)))","v":""},null,{"$f":"IF(M334=\"\",\"\",INDEX(REFERENTES!$AB:$AC,MATCH(M334,REFERENTES!$AC:$AC,0),1))","v":""},"",null,330,"",null,null,null,null,null,null,null,null,null,null,null,null,null,null,null,null,null,null,null,null,{"$f":"IF(AL334<>\"\",VLOOKUP(AL334,#REF!,2,FALSE),\"\")","v":""},null,null,null,{"$f":"IF(AP334<>\"\",VLOOKUP(AP334,#REF!,2,TRUE),\"\")","v":""},null,{"$f":"IF(AR334<>\"\",VLOOKUP(AR334,#REF!,2,FALSE),\"\")","v":""},null,null,null,{"$f":"IF(AT334=\"\",\"\",INDEX(REFERENTES!$A:$B,MATCH(AT334,REFERENTES!$A:$A,0),2))","v":""},null,{"$f":"IF(AX334=\"\",\"\",INDEX(REFERENTES!M:O,MATCH(AX334,REFERENTES!M:M,0),3))","v":""}]
["30001212000000",{"$f":"DIGITADOR!$B$2","v":""},0,{"$f":"IF(E335<>\"\",CONCATENATE(B335,A335,DIGITADOR!$M$1,C335),\"\")","v":""},null,null,"","","",null,{"$f":"IF(J335=\"\",\"\",INDEX(REFERENTES!$V:$W,MATCH(J335,REFERENTES!$W:$W,0),1))","v":""},{"$f":"IF(E335=\"\",\"\",IF(O335=O334,\"\",CONCATENATE(B335,A335,DIGITADOR!$M$1,C335)))","v":""},null,{"$f":"IF(M335=\"\",\"\",INDEX(REFERENTES!$AB:$AC,MATCH(M335,REFERENTES!$AC:$AC,0),1))","v":""},"",null,331,"",null,null,null,null,null,null,null,null,null,null,null,null,null,null,null,null,null,null,null,null,{"$f":"IF(AL335<>\"\",VLOOKUP(AL335,#REF!,2,FALSE),\"\")","v":""},null,null,null,{"$f":"IF(AP335<>\"\",VLOOKUP(AP335,#REF!,2,TRUE),\"\")","v":""},null,{"$f":"IF(AR335<>\"\",VLOOKUP(AR335,#REF!,2,FALSE),\"\")","v":""},null,null,null,{"$f":"IF(AT335=\"\",\"\",INDEX(REFERENTES!$A:$B,MATCH(AT335,REFERENTES!$A:$A,0),2))","v":""},null,{"$f":"IF(AX335=\"\",\"\",INDEX(REFERENTES!M:O,MATCH(AX335,REFERENTES!M:M,0),3))","v":""}]
["30001212000000",{"$f":"DIGITADOR!$B$2","v":""},0,{"$f":"IF(E336<>\"\",CONCATENATE(B336,A336,DIGITADOR!$M$1,C336),\"\")","v":""},null,null,"","","",null,{"$f":"IF(J336=\"\",\"\",INDEX(REFERENTES!$V:$W,MATCH(J336,REFERENTES!$W:$W,0),1))","v":""},{"$f":"IF(E336=\"\",\"\",IF(O336=O335,\"\",CONCATENATE(B336,A336,DIGITADOR!$M$1,C336)))","v":""},null,{"$f":"IF(M336=\"\",\"\",INDEX(REFERENTES!$AB:$AC,MATCH(M336,REFERENTES!$AC:$AC,0),1))","v":""},"",null,332,"",null,null,null,null,null,null,null,null,null,null,null,null,null,null,null,null,null,null,null,null,{"$f":"IF(AL336<>\"\",VLOOKUP(AL336,#REF!,2,FALSE),\"\")","v":""},null,null,null,{"$f":"IF(AP336<>\"\",VLOOKUP(AP336,#REF!,2,TRUE),\"\")","v":""},null,{"$f":"IF(AR336<>\"\",VLOOKUP(AR336,#REF!,2,FALSE),\"\")","v":""},null,null,null,{"$f":"IF(AT336=\"\",\"\",INDEX(REFERENTES!$A:$B,MATCH(AT336,REFERENTES!$A:$A,0),2))","v":""},null,{"$f":"IF(AX336=\"\",\"\",INDEX(REFERENTES!M:O,MATCH(AX336,REFERENTES!M:M,0),3))","v":""}]
["30001212000000",{"$f":"DIGITADOR!$B$2","v":""},0,{"$f":"IF(E337<>\"\",CONCATENATE(B337,A337,DIGITADOR!$M$1,C337),\"\")","v":""},null,null,"","","",null,{"$f":"IF(J337=\"\",\"\",INDEX(REFERENTES!$V:$W,MATCH(J337,REFERENTES!$W:$W,0),1))","v":""},{"$f":"IF(E337=\"\",\"\",IF(O337=O336,\"\",CONCATENATE(B337,A337,DIGITADOR!$M$1,C337)))","v":""},null,{"$f":"IF(M337=\"\",\"\",INDEX(REFERENTES!$AB:$AC,MATCH(M337,REFERENTES!$AC:$AC,0),1))","v":""},"",null,333,"",null,null,null,null,null,null,null,null,null,null,null,null,null,null,null,null,null,null,null,null,{"$f":"IF(AL337<>\"\",VLOOKUP(AL337,#REF!,2,FALSE),\"\")","v":""},null,null,null,{"$f":"IF(AP337<>\"\",VLOOKUP(AP337,#REF!,2,TRUE),\"\")","v":""},null,{"$f":"IF(AR337<>\"\",VLOOKUP(AR337,#REF!,2,FALSE),\"\")","v":""},null,null,null,{"$f":"IF(AT337=\"\",\"\",INDEX(REFERENTES!$A:$B,MATCH(AT337,REFERENTES!$A:$A,0),2))","v":""},null,{"$f":"IF(AX337=\"\",\"\",INDEX(REFERENTES!M:O,MATCH(AX337,REFERENTES!M:M,0),3))","v":""}]
["30001212000000",{"$f":"DIGITADOR!$B$2","v":""},0,{"$f":"IF(E338<>\"\",CONCATENATE(B338,A338,DIGITADOR!$M$1,C338),\"\")","v":""},null,null,"","","",null,{"$f":"IF(J338=\"\",\"\",INDEX(REFERENTES!$V:$W,MATCH(J338,REFERENTES!$W:$W,0),1))","v":""},{"$f":"IF(E338=\"\",\"\",IF(O338=O337,\"\",CONCATENATE(B338,A338,DIGITADOR!$M$1,C338)))","v":""},null,{"$f":"IF(M338=\"\",\"\",INDEX(REFERENTES!$AB:$AC,MATCH(M338,REFERENTES!$AC:$AC,0),1))","v":""},"",null,334,"",null,null,null,null,null,null,null,null,null,null,null,null,null,null,null,null,null,null,null,null,{"$f":"IF(AL338<>\"\",VLOOKUP(AL338,#REF!,2,FALSE),\"\")","v":""},null,null,null,{"$f":"IF(AP338<>\"\",VLOOKUP(AP338,#REF!,2,TRUE),\"\")","v":""},null,{"$f":"IF(AR338<>\"\",VLOOKUP(AR338,#REF!,2,FALSE),\"\")","v":""},null,null,null,{"$f":"IF(AT338=\"\",\"\",INDEX(REFERENTES!$A:$B,MATCH(AT338,REFERENTES!$A:$A,0),2))","v":""},null,{"$f":"IF(AX338=\"\",\"\",INDEX(REFERENTES!M:O,MATCH(AX338,REFERENTES!M:M,0),3))","v":""}]
["30001212000000",{"$f":"DIGITADOR!$B$2","v":""},0,{"$f":"IF(E339<>\"\",CONCATENATE(B339,A339,DIGITADOR!$M$1,C339),\"\")","v":""},null,null,"","","",null,{"$f":"IF(J339=\"\",\"\",INDEX(REFERENTES!$V:$W,MATCH(J339,REFERENTES!$W:$W,0),1))","v":""},{"$f":"IF(E339=\"\",\"\",IF(O339=O338,\"\",CONCATENATE(B339,A339,DIGITADOR!$M$1,C339)))","v":""},null,{"$f":"IF(M339=\"\",\"\",INDEX(REFERENTES!$AB:$AC,MATCH(M339,REFERENTES!$AC:$AC,0),1))","v":""},"",null,335,"",null,null,null,null,null,null,null,null,null,null,null,null,null,null,null,null,null,null,null,null,{"$f":"IF(AL339<>\"\",VLOOKUP(AL339,#REF!,2,FALSE),\"\")","v":""},null,null,null,{"$f":"IF(AP339<>\"\",VLOOKUP(AP339,#REF!,2,TRUE),\"\")","v":""},null,{"$f":"IF(AR339<>\"\",VLOOKUP(AR339,#REF!,2,FALSE),\"\")","v":""},null,null,null,{"$f":"IF(AT339=\"\",\"\",INDEX(REFERENTES!$A:$B,MATCH(AT339,REFERENTES!$A:$A,0),2))","v":""},null,{"$f":"IF(AX339=\"\",\"\",INDEX(REFERENTES!M:O,MATCH(AX339,REFERENTES!M:M,0),3))","v":""}]
["30001212000000",{"$f":"DIGITADOR!$B$2","v":""},0,{"$f":"IF(E340<>\"\",CONCATENATE(B340,A340,DIGITADOR!$M$1,C340),\"\")","v":""},null,null,"","","",null,{"$f":"IF(J340=\"\",\"\",INDEX(REFERENTES!$V:$W,MATCH(J340,REFERENTES!$W:$W,0),1))","v":""},{"$f":"IF(E340=\"\",\"\",IF(O340=O339,\"\",CONCATENATE(B340,A340,DIGITADOR!$M$1,C340)))","v":""},null,{"$f":"IF(M340=\"\",\"\",INDEX(REFERENTES!$AB:$AC,MATCH(M340,REFERENTES!$AC:$AC,0),1))","v":""},"",null,336,"",null,null,null,null,null,null,null,null,null,null,null,null,null,null,null,null,null,null,null,null,{"$f":"IF(AL340<>\"\",VLOOKUP(AL340,#REF!,2,FALSE),\"\")","v":""},null,null,null,{"$f":"IF(AP340<>\"\",VLOOKUP(AP340,#REF!,2,TRUE),\"\")","v":""},null,{"$f":"IF(AR340<>\"\",VLOOKUP(AR340,#REF!,2,FALSE),\"\")","v":""},null,null,null,{"$f":"IF(AT340=\"\",\"\",INDEX(REFERENTES!$A:$B,MATCH(AT340,REFERENTES!$A:$A,0),2))","v":""},null,{"$f":"IF(AX340=\"\",\"\",INDEX(REFERENTES!M:O,MATCH(AX340,REFERENTES!M:M,0),3))","v":""}]
["30001212000000",{"$f":"DIGITADOR!$B$2","v":""},0,{"$f":"IF(E341<>\"\",CONCATENATE(B341,A341,DIGITADOR!$M$1,C341),\"\")","v":""},null,null,"","","",null,{"$f":"IF(J341=\"\",\"\",INDEX(REFERENTES!$V:$W,MATCH(J341,REFERENTES!$W:$W,0),1))","v":""},{"$f":"IF(E341=\"\",\"\",IF(O341=O340,\"\",CONCATENATE(B341,A341,DIGITADOR!$M$1,C341)))","v":""},null,{"$f":"IF(M341=\"\",\"\",INDEX(REFERENTES!$AB:$AC,MATCH(M341,REFERENTES!$AC:$AC,0),1))","v":""},"",null,337,"",null,null,null,null,null,null,null,null,null,null,null,null,null,null,null,null,null,null,null,null,{"$f":"IF(AL341<>\"\",VLOOKUP(AL341,#REF!,2,FALSE),\"\")","v":""},null,null,null,{"$f":"IF(AP341<>\"\",VLOOKUP(AP341,#REF!,2,TRUE),\"\")","v":""},null,{"$f":"IF(AR341<>\"\",VLOOKUP(AR341,#REF!,2,FALSE),\"\")","v":""},null,null,null,{"$f":"IF(AT341=\"\",\"\",INDEX(REFERENTES!$A:$B,MATCH(AT341,REFERENTES!$A:$A,0),2))","v":""},null,{"$f":"IF(AX341=\"\",\"\",INDEX(REFERENTES!M:O,MATCH(AX341,REFERENTES!M:M,0),3))","v":""}]
["30001212000000",{"$f":"DIGITADOR!$B$2","v":""},0,{"$f":"IF(E342<>\"\",CONCATENATE(B342,A342,DIGITADOR!$M$1,C342),\"\")","v":""},null,null,"","","",null,{"$f":"IF(J342=\"\",\"\",INDEX(REFERENTES!$V:$W,MATCH(J342,REFERENTES!$W:$W,0),1))","v":""},{"$f":"IF(E342=\"\",\"\",IF(O342=O341,\"\",CONCATENATE(B342,A342,DIGITADOR!$M$1,C342)))","v":""},null,{"$f":"IF(M342=\"\",\"\",INDEX(REFERENTES!$AB:$AC,MATCH(M342,REFERENTES!$AC:$AC,0),1))","v":""},"",null,338,"",null,null,null,null,null,null,null,null,null,null,null,null,null,null,null,null,null,null,null,null,{"$f":"IF(AL342<>\"\",VLOOKUP(AL342,#REF!,2,FALSE),\"\")","v":""},null,null,null,{"$f":"IF(AP342<>\"\",VLOOKUP(AP342,#REF!,2,TRUE),\"\")","v":""},null,{"$f":"IF(AR342<>\"\",VLOOKUP(AR342,#REF!,2,FALSE),\"\")","v":""},null,null,null,{"$f":"IF(AT342=\"\",\"\",INDEX(REFERENTES!$A:$B,MATCH(AT342,REFERENTES!$A:$A,0),2))","v":""},null,{"$f":"IF(AX342=\"\",\"\",INDEX(REFERENTES!M:O,MATCH(AX342,REFERENTES!M:M,0),3))","v":""}]
["30001212000000",{"$f":"DIGITADOR!$B$2","v":""},0,{"$f":"IF(E343<>\"\",CONCATENATE(B343,A343,DIGITADOR!$M$1,C343),\"\")","v":""},null,null,"","","",null,{"$f":"IF(J343=\"\",\"\",INDEX(REFERENTES!$V:$W,MATCH(J343,REFERENTES!$W:$W,0),1))","v":""},{"$f":"IF(E343=\"\",\"\",IF(O343=O342,\"\",CONCATENATE(B343,A343,DIGITADOR!$M$1,C343)))","v":""},null,{"$f":"IF(M343=\"\",\"\",INDEX(REFERENTES!$AB:$AC,MATCH(M343,REFERENTES!$AC:$AC,0),1))","v":""},"",null,339,"",null,null,null,null,null,null,null,null,null,null,null,null,null,null,null,null,null,null,null,null,{"$f":"IF(AL343<>\"\",VLOOKUP(AL343,#REF!,2,FALSE),\"\")","v":""},null,null,null,{"$f":"IF(AP343<>\"\",VLOOKUP(AP343,#REF!,2,TRUE),\"\")","v":""},null,{"$f":"IF(AR343<>\"\",VLOOKUP(AR343,#REF!,2,FALSE),\"\")","v":""},null,null,null,{"$f":"IF(AT343=\"\",\"\",INDEX(REFERENTES!$A:$B,MATCH(AT343,REFERENTES!$A:$A,0),2))","v":""},null,{"$f":"IF(AX343=\"\",\"\",INDEX(REFERENTES!M:O,MATCH(AX343,REFERENTES!M:M,0),3))","v":""}]
["30001212000000",{"$f":"DIGITADOR!$B$2","v":""},0,{"$f":"IF(E344<>\"\",CONCATENATE(B344,A344,DIGITADOR!$M$1,C344),\"\")","v":""},null,null,"","","",null,{"$f":"IF(J344=\"\",\"\",INDEX(REFERENTES!$V:$W,MATCH(J344,REFERENTES!$W:$W,0),1))","v":""},{"$f":"IF(E344=\"\",\"\",IF(O344=O343,\"\",CONCATENATE(B344,A344,DIGITADOR!$M$1,C344)))","v":""},null,{"$f":"IF(M344=\"\",\"\",INDEX(REFERENTES!$AB:$AC,MATCH(M344,REFERENTES!$AC:$AC,0),1))","v":""},"",null,340,"",null,null,null,null,null,null,null,null,null,null,null,null,null,null,null,null,null,null,null,null,{"$f":"IF(AL344<>\"\",VLOOKUP(AL344,#REF!,2,FALSE),\"\")","v":""},null,null,null,{"$f":"IF(AP344<>\"\",VLOOKUP(AP344,#REF!,2,TRUE),\"\")","v":""},null,{"$f":"IF(AR344<>\"\",VLOOKUP(AR344,#REF!,2,FALSE),\"\")","v":""},null,null,null,{"$f":"IF(AT344=\"\",\"\",INDEX(REFERENTES!$A:$B,MATCH(AT344,REFERENTES!$A:$A,0),2))","v":""},null,{"$f":"IF(AX344=\"\",\"\",INDEX(REFERENTES!M:O,MATCH(AX344,REFERENTES!M:M,0),3))","v":""}]
["30001212000000",{"$f":"DIGITADOR!$B$2","v":""},0,{"$f":"IF(E345<>\"\",CONCATENATE(B345,A345,DIGITADOR!$M$1,C345),\"\")","v":""},null,null,"","","",null,{"$f":"IF(J345=\"\",\"\",INDEX(REFERENTES!$V:$W,MATCH(J345,REFERENTES!$W:$W,0),1))","v":""},{"$f":"IF(E345=\"\",\"\",IF(O345=O344,\"\",CONCATENATE(B345,A345,DIGITADOR!$M$1,C345)))","v":""},null,{"$f":"IF(M345=\"\",\"\",INDEX(REFERENTES!$AB:$AC,MATCH(M345,REFERENTES!$AC:$AC,0),1))","v":""},"",null,341,"",null,null,null,null,null,null,null,null,null,null,null,null,null,null,null,null,null,null,null,null,{"$f":"IF(AL345<>\"\",VLOOKUP(AL345,#REF!,2,FALSE),\"\")","v":""},null,null,null,{"$f":"IF(AP345<>\"\",VLOOKUP(AP345,#REF!,2,TRUE),\"\")","v":""},null,{"$f":"IF(AR345<>\"\",VLOOKUP(AR345,#REF!,2,FALSE),\"\")","v":""},null,null,null,{"$f":"IF(AT345=\"\",\"\",INDEX(REFERENTES!$A:$B,MATCH(AT345,REFERENTES!$A:$A,0),2))","v":""},null,{"$f":"IF(AX345=\"\",\"\",INDEX(REFERENTES!M:O,MATCH(AX345,REFERENTES!M:M,0),3))","v":""}]
["30001212000000",{"$f":"DIGITADOR!$B$2","v":""},0,{"$f":"IF(E346<>\"\",CONCATENATE(B346,A346,DIGITADOR!$M$1,C346),\"\")","v":""},null,null,"","","",null,{"$f":"IF(J346=\"\",\"\",INDEX(REFERENTES!$V:$W,MATCH(J346,REFERENTES!$W:$W,0),1))","v":""},{"$f":"IF(E346=\"\",\"\",IF(O346=O345,\"\",CONCATENATE(B346,A346,DIGITADOR!$M$1,C346)))","v":""},null,{"$f":"IF(M346=\"\",\"\",INDEX(REFERENTES!$AB:$AC,MATCH(M346,REFERENTES!$AC:$AC,0),1))","v":""},"",null,342,"",null,null,null,null,null,null,null,null,null,null,null,null,null,null,null,null,null,null,null,null,{"$f":"IF(AL346<>\"\",VLOOKUP(AL346,#REF!,2,FALSE),\"\")","v":""},null,null,null,{"$f":"IF(AP346<>\"\",VLOOKUP(AP346,#REF!,2,TRUE),\"\")","v":""},null,{"$f":"IF(AR346<>\"\",VLOOKUP(AR346,#REF!,2,FALSE),\"\")","v":""},null,null,null,{"$f":"IF(AT346=\"\",\"\",INDEX(REFERENTES!$A:$B,MATCH(AT346,REFERENTES!$A:$A,0),2))","v":""},null,{"$f":"IF(AX346=\"\",\"\",INDEX(REFERENTES!M:O,MATCH(AX346,REFERENTES!M:M,0),3))","v":""}]
["30001212000000",{"$f":"DIGITADOR!$B$2","v":""},0,{"$f":"IF(E347<>\"\",CONCATENATE(B347,A347,DIGITADOR!$M$1,C347),\"\")","v":""},null,null,"","","",null,{"$f":"IF(J347=\"\",\"\",INDEX(REFERENTES!$V:$W,MATCH(J347,REFERENTES!$W:$W,0),1))","v":""},{"$f":"IF(E347=\"\",\"\",IF(O347=O346,\"\",CONCATENATE(B347,A347,DIGITADOR!$M$1,C347)))","v":""},null,{"$f":"IF(M347=\"\",\"\",INDEX(REFERENTES!$AB:$AC,MATCH(M347,REFERENTES!$AC:$AC,0),1))","v":""},"",null,343,"",null,null,null,null,null,null,null,null,null,null,null,null,null,null,null,null,null,null,null,null,{"$f":"IF(AL347<>\"\",VLOOKUP(AL347,#REF!,2,FALSE),\"\")","v":""},null,null,null,{"$f":"IF(AP347<>\"\",VLOOKUP(AP347,#REF!,2,TRUE),\"\")","v":""},null,{"$f":"IF(AR347<>\"\",VLOOKUP(AR347,#REF!,2,FALSE),\"\")","v":""},null,null,null,{"$f":"IF(AT347=\"\",\"\",INDEX(REFERENTES!$A:$B,MATCH(AT347,REFERENTES!$A:$A,0),2))","v":""},null,{"$f":"IF(AX347=\"\",\"\",INDEX(REFERENTES!M:O,MATCH(AX347,REFERENTES!M:M,0),3))","v":""}]
["30001212000000",{"$f":"DIGITADOR!$B$2","v":""},0,{"$f":"IF(E348<>\"\",CONCATENATE(B348,A348,DIGITADOR!$M$1,C348),\"\")","v":""},null,null,"","","",null,{"$f":"IF(J348=\"\",\"\",INDEX(REFERENTES!$V:$W,MATCH(J348,REFERENTES!$W:$W,0),1))","v":""},{"$f":"IF(E348=\"\",\"\",IF(O348=O347,\"\",CONCATENATE(B348,A348,DIGITADOR!$M$1,C348)))","v":""},null,{"$f":"IF(M348=\"\",\"\",INDEX(REFERENTES!$AB:$AC,MATCH(M348,REFERENTES!$AC:$AC,0),1))","v":""},"",null,344,"",null,null,null,null,null,null,null,null,null,null,null,null,null,null,null,null,null,null,null,null,{"$f":"IF(AL348<>\"\",VLOOKUP(AL348,#REF!,2,FALSE),\"\")","v":""},null,null,null,{"$f":"IF(AP348<>\"\",VLOOKUP(AP348,#REF!,2,TRUE),\"\")","v":""},null,{"$f":"IF(AR348<>\"\",VLOOKUP(AR348,#REF!,2,FALSE),\"\")","v":""},null,null,null,{"$f":"IF(AT348=\"\",\"\",INDEX(REFERENTES!$A:$B,MATCH(AT348,REFERENTES!$A:$A,0),2))","v":""},null,{"$f":"IF(AX348=\"\",\"\",INDEX(REFERENTES!M:O,MATCH(AX348,REFERENTES!M:M,0),3))","v":""}]
["30001212000000",{"$f":"DIGITADOR!$B$2","v":""},0,{"$f":"IF(E349<>\"\",CONCATENATE(B349,A349,DIGITADOR!$M$1,C349),\"\")","v":""},null,null,"","","",null,{"$f":"IF(J349=\"\",\"\",INDEX(REFERENTES!$V:$W,MATCH(J349,REFERENTES!$W:$W,0),1))","v":""},{"$f":"IF(E349=\"\",\"\",IF(O349=O348,\"\",CONCATENATE(B349,A349,DIGITADOR!$M$1,C349)))","v":""},null,{"$f":"IF(M349=\"\",\"\",INDEX(REFERENTES!$AB:$AC,MATCH(M349,REFERENTES!$AC:$AC,0),1))","v":""},"",null,345,"",null,null,null,null,null,null,null,null,null,null,null,null,null,null,null,null,null,null,null,null,{"$f":"IF(AL349<>\"\",VLOOKUP(AL349,#REF!,2,FALSE),\"\")","v":""},null,null,null,{"$f":"IF(AP349<>\"\",VLOOKUP(AP349,#REF!,2,TRUE),\"\")","v":""},null,{"$f":"IF(AR349<>\"\",VLOOKUP(AR349,#REF!,2,FALSE),\"\")","v":""},null,null,null,{"$f":"IF(AT349=\"\",\"\",INDEX(REFERENTES!$A:$B,MATCH(AT349,REFERENTES!$A:$A,0),2))","v":""},null,{"$f":"IF(AX349=\"\",\"\",INDEX(REFERENTES!M:O,MATCH(AX349,REFERENTES!M:M,0),3))","v":""}]
["30001212000000",{"$f":"DIGITADOR!$B$2","v":""},0,{"$f":"IF(E350<>\"\",CONCATENATE(B350,A350,DIGITADOR!$M$1,C350),\"\")","v":""},null,null,"","","",null,{"$f":"IF(J350=\"\",\"\",INDEX(REFERENTES!$V:$W,MATCH(J350,REFERENTES!$W:$W,0),1))","v":""},{"$f":"IF(E350=\"\",\"\",IF(O350=O349,\"\",CONCATENATE(B350,A350,DIGITADOR!$M$1,C350)))","v":""},null,{"$f":"IF(M350=\"\",\"\",INDEX(REFERENTES!$AB:$AC,MATCH(M350,REFERENTES!$AC:$AC,0),1))","v":""},"",null,346,"",null,null,null,null,null,null,null,null,null,null,null,null,null,null,null,null,null,null,null,null,{"$f":"IF(AL350<>\"\",VLOOKUP(AL350,#REF!,2,FALSE),\"\")","v":""},null,null,null,{"$f":"IF(AP350<>\"\",VLOOKUP(AP350,#REF!,2,TRUE),\"\")","v":""},null,{"$f":"IF(AR350<>\"\",VLOOKUP(AR350,#REF!,2,FALSE),\"\")","v":""},null,null,null,{"$f":"IF(AT350=\"\",\"\",INDEX(REFERENTES!$A:$B,MATCH(AT350,REFERENTES!$A:$A,0),2))","v":""},null,{"$f":"IF(AX350=\"\",\"\",INDEX(REFERENTES!M:O,MATCH(AX350,REFERENTES!M:M,0),3))","v":""}]
["30001212000000",{"$f":"DIGITADOR!$B$2","v":""},0,{"$f":"IF(E351<>\"\",CONCATENATE(B351,A351,DIGITADOR!$M$1,C351),\"\")","v":""},null,null,"","","",null,{"$f":"IF(J351=\"\",\"\",INDEX(REFERENTES!$V:$W,MATCH(J351,REFERENTES!$W:$W,0),1))","v":""},{"$f":"IF(E351=\"\",\"\",IF(O351=O350,\"\",CONCATENATE(B351,A351,DIGITADOR!$M$1,C351)))","v":""},null,{"$f":"IF(M351=\"\",\"\",INDEX(REFERENTES!$AB:$AC,MATCH(M351,REFERENTES!$AC:$AC,0),1))","v":""},"",null,347,"",null,null,null,null,null,null,null,null,null,null,null,null,null,null,null,null,null,null,null,null,{"$f":"IF(AL351<>\"\",VLOOKUP(AL351,#REF!,2,FALSE),\"\")","v":""},null,null,null,{"$f":"IF(AP351<>\"\",VLOOKUP(AP351,#REF!,2,TRUE),\"\")","v":""},null,{"$f":"IF(AR351<>\"\",VLOOKUP(AR351,#REF!,2,FALSE),\"\")","v":""},null,null,null,{"$f":"IF(AT351=\"\",\"\",INDEX(REFERENTES!$A:$B,MATCH(AT351,REFERENTES!$A:$A,0),2))","v":""},null,{"$f":"IF(AX351=\"\",\"\",INDEX(REFERENTES!M:O,MATCH(AX351,REFERENTES!M:M,0),3))","v":""}]
["30001212000000",{"$f":"DIGITADOR!$B$2","v":""},0,{"$f":"IF(E352<>\"\",CONCATENATE(B352,A352,DIGITADOR!$M$1,C352),\"\")","v":""},null,null,"","","",null,{"$f":"IF(J352=\"\",\"\",INDEX(REFERENTES!$V:$W,MATCH(J352,REFERENTES!$W:$W,0),1))","v":""},{"$f":"IF(E352=\"\",\"\",IF(O352=O351,\"\",CONCATENATE(B352,A352,DIGITADOR!$M$1,C352)))","v":""},null,{"$f":"IF(M352=\"\",\"\",INDEX(REFERENTES!$AB:$AC,MATCH(M352,REFERENTES!$AC:$AC,0),1))","v":""},"",null,348,"",null,null,null,null,null,null,null,null,null,null,null,null,null,null,null,null,null,null,null,null,{"$f":"IF(AL352<>\"\",VLOOKUP(AL352,#REF!,2,FALSE),\"\")","v":""},null,null,null,{"$f":"IF(AP352<>\"\",VLOOKUP(AP352,#REF!,2,TRUE),\"\")","v":""},null,{"$f":"IF(AR352<>\"\",VLOOKUP(AR352,#REF!,2,FALSE),\"\")","v":""},null,null,null,{"$f":"IF(AT352=\"\",\"\",INDEX(REFERENTES!$A:$B,MATCH(AT352,REFERENTES!$A:$A,0),2))","v":""},null,{"$f":"IF(AX352=\"\",\"\",INDEX(REFERENTES!M:O,MATCH(AX352,REFERENTES!M:M,0),3))","v":""}]
["30001212000000",{"$f":"DIGITADOR!$B$2","v":""},0,{"$f":"IF(E353<>\"\",CONCATENATE(B353,A353,DIGITADOR!$M$1,C353),\"\")","v":""},null,null,"","","",null,{"$f":"IF(J353=\"\",\"\",INDEX(REFERENTES!$V:$W,MATCH(J353,REFERENTES!$W:$W,0),1))","v":""},{"$f":"IF(E353=\"\",\"\",IF(O353=O352,\"\",CONCATENATE(B353,A353,DIGITADOR!$M$1,C353)))","v":""},null,{"$f":"IF(M353=\"\",\"\",INDEX(REFERENTES!$AB:$AC,MATCH(M353,REFERENTES!$AC:$AC,0),1))","v":""},"",null,349,"",null,null,null,null,null,null,null,null,null,null,null,null,null,null,null,null,null,null,null,null,{"$f":"IF(AL353<>\"\",VLOOKUP(AL353,#REF!,2,FALSE),\"\")","v":""},null,null,null,{"$f":"IF(AP353<>\"\",VLOOKUP(AP353,#REF!,2,TRUE),\"\")","v":""},null,{"$f":"IF(AR353<>\"\",VLOOKUP(AR353,#REF!,2,FALSE),\"\")","v":""},null,null,null,{"$f":"IF(AT353=\"\",\"\",INDEX(REFERENTES!$A:$B,MATCH(AT353,REFERENTES!$A:$A,0),2))","v":""},null,{"$f":"IF(AX353=\"\",\"\",INDEX(REFERENTES!M:O,MATCH(AX353,REFERENTES!M:M,0),3))","v":""}]
["30001212000000",{"$f":"DIGITADOR!$B$2","v":""},0,{"$f":"IF(E354<>\"\",CONCATENATE(B354,A354,DIGITADOR!$M$1,C354),\"\")","v":""},null,null,"","","",null,{"$f":"IF(J354=\"\",\"\",INDEX(REFERENTES!$V:$W,MATCH(J354,REFERENTES!$W:$W,0),1))","v":""},{"$f":"IF(E354=\"\",\"\",IF(O354=O353,\"\",CONCATENATE(B354,A354,DIGITADOR!$M$1,C354)))","v":""},null,{"$f":"IF(M354=\"\",\"\",INDEX(REFERENTES!$AB:$AC,MATCH(M354,REFERENTES!$AC:$AC,0),1))","v":""},"",null,350,"",null,null,null,null,null,null,null,null,null,null,null,null,null,null,null,null,null,null,null,null,{"$f":"IF(AL354<>\"\",VLOOKUP(AL354,#REF!,2,FALSE),\"\")","v":""},null,null,null,{"$f":"IF(AP354<>\"\",VLOOKUP(AP354,#REF!,2,TRUE),\"\")","v":""},null,{"$f":"IF(AR354<>\"\",VLOOKUP(AR354,#REF!,2,FALSE),\"\")","v":""},null,null,null,{"$f":"IF(AT354=\"\",\"\",INDEX(REFERENTES!$A:$B,MATCH(AT354,REFERENTES!$A:$A,0),2))","v":""},null,{"$f":"IF(AX354=\"\",\"\",INDEX(REFERENTES!M:O,MATCH(AX354,REFERENTES!M:M,0),3))","v":""}]
["30001212000000",{"$f":"DIGITADOR!$B$2","v":""},0,{"$f":"IF(E355<>\"\",CONCATENATE(B355,A355,DIGITADOR!$M$1,C355),\"\")","v":""},null,null,"","","",null,{"$f":"IF(J355=\"\",\"\",INDEX(REFERENTES!$V:$W,MATCH(J355,REFERENTES!$W:$W,0),1))","v":""},{"$f":"IF(E355=\"\",\"\",IF(O355=O354,\"\",CONCATENATE(B355,A355,DIGITADOR!$M$1,C355)))","v":""},null,{"$f":"IF(M355=\"\",\"\",INDEX(REFERENTES!$AB:$AC,MATCH(M355,REFERENTES!$AC:$AC,0),1))","v":""},"",null,351,"",null,null,null,null,null,null,null,null,null,null,null,null,null,null,null,null,null,null,null,null,{"$f":"IF(AL355<>\"\",VLOOKUP(AL355,#REF!,2,FALSE),\"\")","v":""},null,null,null,{"$f":"IF(AP355<>\"\",VLOOKUP(AP355,#REF!,2,TRUE),\"\")","v":""},null,{"$f":"IF(AR355<>\"\",VLOOKUP(AR355,#REF!,2,FALSE),\"\")","v":""},null,null,null,{"$f":"IF(AT355=\"\",\"\",INDEX(REFERENTES!$A:$B,MATCH(AT355,REFERENTES!$A:$A,0),2))","v":""},null,{"$f":"IF(AX355=\"\",\"\",INDEX(REFERENTES!M:O,MATCH(AX355,REFERENTES!M:M,0),3))","v":""}]
["30001212000000",{"$f":"DIGITADOR!$B$2","v":""},0,{"$f":"IF(E356<>\"\",CONCATENATE(B356,A356,DIGITADOR!$M$1,C356),\"\")","v":""},null,null,"","","",null,{"$f":"IF(J356=\"\",\"\",INDEX(REFERENTES!$V:$W,MATCH(J356,REFERENTES!$W:$W,0),1))","v":""},{"$f":"IF(E356=\"\",\"\",IF(O356=O355,\"\",CONCATENATE(B356,A356,DIGITADOR!$M$1,C356)))","v":""},null,{"$f":"IF(M356=\"\",\"\",INDEX(REFERENTES!$AB:$AC,MATCH(M356,REFERENTES!$AC:$AC,0),1))","v":""},"",null,352,"",null,null,null,null,null,null,null,null,null,null,null,null,null,null,null,null,null,null,null,null,{"$f":"IF(AL356<>\"\",VLOOKUP(AL356,#REF!,2,FALSE),\"\")","v":""},null,null,null,{"$f":"IF(AP356<>\"\",VLOOKUP(AP356,#REF!,2,TRUE),\"\")","v":""},null,{"$f":"IF(AR356<>\"\",VLOOKUP(AR356,#REF!,2,FALSE),\"\")","v":""},null,null,null,{"$f":"IF(AT356=\"\",\"\",INDEX(REFERENTES!$A:$B,MATCH(AT356,REFERENTES!$A:$A,0),2))","v":""},null,{"$f":"IF(AX356=\"\",\"\",INDEX(REFERENTES!M:O,MATCH(AX356,REFERENTES!M:M,0),3))","v":""}]
["30001212000000",{"$f":"DIGITADOR!$B$2","v":""},0,{"$f":"IF(E357<>\"\",CONCATENATE(B357,A357,DIGITADOR!$M$1,C357),\"\")","v":""},null,null,"","","",null,{"$f":"IF(J357=\"\",\"\",INDEX(REFERENTES!$V:$W,MATCH(J357,REFERENTES!$W:$W,0),1))","v":""},{"$f":"IF(E357=\"\",\"\",IF(O357=O356,\"\",CONCATENATE(B357,A357,DIGITADOR!$M$1,C357)))","v":""},null,{"$f":"IF(M357=\"\",\"\",INDEX(REFERENTES!$AB:$AC,MATCH(M357,REFERENTES!$AC:$AC,0),1))","v":""},"",null,353,"",null,null,null,null,null,null,null,null,null,null,null,null,null,null,null,null,null,null,null,null,{"$f":"IF(AL357<>\"\",VLOOKUP(AL357,#REF!,2,FALSE),\"\")","v":""},null,null,null,{"$f":"IF(AP357<>\"\",VLOOKUP(AP357,#REF!,2,TRUE),\"\")","v":""},null,{"$f":"IF(AR357<>\"\",VLOOKUP(AR357,#REF!,2,FALSE),\"\")","v":""},null,null,null,{"$f":"IF(AT357=\"\",\"\",INDEX(REFERENTES!$A:$B,MATCH(AT357,REFERENTES!$A:$A,0),2))","v":""},null,{"$f":"IF(AX357=\"\",\"\",INDEX(REFERENTES!M:O,MATCH(AX357,REFERENTES!M:M,0),3))","v":""}]
["30001212000000",{"$f":"DIGITADOR!$B$2","v":""},0,{"$f":"IF(E358<>\"\",CONCATENATE(B358,A358,DIGITADOR!$M$1,C358),\"\")","v":""},null,null,"","","",null,{"$f":"IF(J358=\"\",\"\",INDEX(REFERENTES!$V:$W,MATCH(J358,REFERENTES!$W:$W,0),1))","v":""},{"$f":"IF(E358=\"\",\"\",IF(O358=O357,\"\",CONCATENATE(B358,A358,DIGITADOR!$M$1,C358)))","v":""},null,{"$f":"IF(M358=\"\",\"\",INDEX(REFERENTES!$AB:$AC,MATCH(M358,REFERENTES!$AC:$AC,0),1))","v":""},"",null,354,"",null,null,null,null,null,null,null,null,null,null,null,null,null,null,null,null,null,null,null,null,{"$f":"IF(AL358<>\"\",VLOOKUP(AL358,#REF!,2,FALSE),\"\")","v":""},null,null,null,{"$f":"IF(AP358<>\"\",VLOOKUP(AP358,#REF!,2,TRUE),\"\")","v":""},null,{"$f":"IF(AR358<>\"\",VLOOKUP(AR358,#REF!,2,FALSE),\"\")","v":""},null,null,null,{"$f":"IF(AT358=\"\",\"\",INDEX(REFERENTES!$A:$B,MATCH(AT358,REFERENTES!$A:$A,0),2))","v":""},null,{"$f":"IF(AX358=\"\",\"\",INDEX(REFERENTES!M:O,MATCH(AX358,REFERENTES!M:M,0),3))","v":""}]
["30001212000000",{"$f":"DIGITADOR!$B$2","v":""},0,{"$f":"IF(E359<>\"\",CONCATENATE(B359,A359,DIGITADOR!$M$1,C359),\"\")","v":""},null,null,"","","",null,{"$f":"IF(J359=\"\",\"\",INDEX(REFERENTES!$V:$W,MATCH(J359,REFERENTES!$W:$W,0),1))","v":""},{"$f":"IF(E359=\"\",\"\",IF(O359=O358,\"\",CONCATENATE(B359,A359,DIGITADOR!$M$1,C359)))","v":""},null,{"$f":"IF(M359=\"\",\"\",INDEX(REFERENTES!$AB:$AC,MATCH(M359,REFERENTES!$AC:$AC,0),1))","v":""},"",null,355,"",null,null,null,null,null,null,null,null,null,null,null,null,null,null,null,null,null,null,null,null,{"$f":"IF(AL359<>\"\",VLOOKUP(AL359,#REF!,2,FALSE),\"\")","v":""},null,null,null,{"$f":"IF(AP359<>\"\",VLOOKUP(AP359,#REF!,2,TRUE),\"\")","v":""},null,{"$f":"IF(AR359<>\"\",VLOOKUP(AR359,#REF!,2,FALSE),\"\")","v":""},null,null,null,{"$f":"IF(AT359=\"\",\"\",INDEX(REFERENTES!$A:$B,MATCH(AT359,REFERENTES!$A:$A,0),2))","v":""},null,{"$f":"IF(AX359=\"\",\"\",INDEX(REFERENTES!M:O,MATCH(AX359,REFERENTES!M:M,0),3))","v":""}]
["30001212000000",{"$f":"DIGITADOR!$B$2","v":""},0,{"$f":"IF(E360<>\"\",CONCATENATE(B360,A360,DIGITADOR!$M$1,C360),\"\")","v":""},null,null,"","","",null,{"$f":"IF(J360=\"\",\"\",INDEX(REFERENTES!$V:$W,MATCH(J360,REFERENTES!$W:$W,0),1))","v":""},{"$f":"IF(E360=\"\",\"\",IF(O360=O359,\"\",CONCATENATE(B360,A360,DIGITADOR!$M$1,C360)))","v":""},null,{"$f":"IF(M360=\"\",\"\",INDEX(REFERENTES!$AB:$AC,MATCH(M360,REFERENTES!$AC:$AC,0),1))","v":""},"",null,356,"",null,null,null,null,null,null,null,null,null,null,null,null,null,null,null,null,null,null,null,null,{"$f":"IF(AL360<>\"\",VLOOKUP(AL360,#REF!,2,FALSE),\"\")","v":""},null,null,null,{"$f":"IF(AP360<>\"\",VLOOKUP(AP360,#REF!,2,TRUE),\"\")","v":""},null,{"$f":"IF(AR360<>\"\",VLOOKUP(AR360,#REF!,2,FALSE),\"\")","v":""},null,null,null,{"$f":"IF(AT360=\"\",\"\",INDEX(REFERENTES!$A:$B,MATCH(AT360,REFERENTES!$A:$A,0),2))","v":""},null,{"$f":"IF(AX360=\"\",\"\",INDEX(REFERENTES!M:O,MATCH(AX360,REFERENTES!M:M,0),3))","v":""}]
["30001212000000",{"$f":"DIGITADOR!$B$2","v":""},0,{"$f":"IF(E361<>\"\",CONCATENATE(B361,A361,DIGITADOR!$M$1,C361),\"\")","v":""},null,null,"",{"$f":"IF(G361<>\"\",MONTH(G361),\"\")","v":""},"",null,{"$f":"IF(J361=\"\",\"\",INDEX(REFERENTES!$V:$W,MATCH(J361,REFERENTES!$W:$W,0),1))","v":""},{"$f":"IF(E361=\"\",\"\",IF(O361=O360,\"\",CONCATENATE(B361,A361,DIGITADOR!$M$1,C361)))","v":""},null,{"$f":"IF(M361=\"\",\"\",INDEX(REFERENTES!$AB:$AC,MATCH(M361,REFERENTES!$AC:$AC,0),1))","v":""},"",null,357,"",null,null,null,null,null,null,null,null,null,null,null,null,null,null,null,null,null,null,null,null,{"$f":"IF(AL361<>\"\",VLOOKUP(AL361,#REF!,2,FALSE),\"\")","v":""},null,null,null,{"$f":"IF(AP361<>\"\",VLOOKUP(AP361,#REF!,2,TRUE),\"\")","v":""},null,{"$f":"IF(AR361<>\"\",VLOOKUP(AR361,#REF!,2,FALSE),\"\")","v":""},null,null,null,{"$f":"IF(AT361=\"\",\"\",INDEX(REFERENTES!$A:$B,MATCH(AT361,REFERENTES!$A:$A,0),2))","v":""},null,{"$f":"IF(AX361=\"\",\"\",INDEX(REFERENTES!M:O,MATCH(AX361,REFERENTES!M:M,0),3))","v":""}]
["30001212000000",{"$f":"DIGITADOR!$B$2","v":""},0,{"$f":"IF(E362<>\"\",CONCATENATE(B362,A362,DIGITADOR!$M$1,C362),\"\")","v":""},null,null,"","","",null,{"$f":"IF(J362=\"\",\"\",INDEX(REFERENTES!$V:$W,MATCH(J362,REFERENTES!$W:$W,0),1))","v":""},{"$f":"IF(E362=\"\",\"\",IF(O362=O361,\"\",CONCATENATE(B362,A362,DIGITADOR!$M$1,C362)))","v":""},null,{"$f":"IF(M362=\"\",\"\",INDEX(REFERENTES!$AB:$AC,MATCH(M362,REFERENTES!$AC:$AC,0),1))","v":""},"",null,358,"",null,null,null,null,null,null,null,null,null,null,null,null,null,null,null,null,null,null,null,null,{"$f":"IF(AL362<>\"\",VLOOKUP(AL362,#REF!,2,FALSE),\"\")","v":""},null,null,null,{"$f":"IF(AP362<>\"\",VLOOKUP(AP362,#REF!,2,TRUE),\"\")","v":""},null,{"$f":"IF(AR362<>\"\",VLOOKUP(AR362,#REF!,2,FALSE),\"\")","v":""},null,null,null,{"$f":"IF(AT362=\"\",\"\",INDEX(REFERENTES!$A:$B,MATCH(AT362,REFERENTES!$A:$A,0),2))","v":""},null,{"$f":"IF(AX362=\"\",\"\",INDEX(REFERENTES!M:O,MATCH(AX362,REFERENTES!M:M,0),3))","v":""}]
["30001212000000",{"$f":"DIGITADOR!$B$2","v":""},0,{"$f":"IF(E363<>\"\",CONCATENATE(B363,A363,DIGITADOR!$M$1,C363),\"\")","v":""},null,null,"","","",null,{"$f":"IF(J363=\"\",\"\",INDEX(REFERENTES!$V:$W,MATCH(J363,REFERENTES!$W:$W,0),1))","v":""},{"$f":"IF(E363=\"\",\"\",IF(O363=O362,\"\",CONCATENATE(B363,A363,DIGITADOR!$M$1,C363)))","v":""},null,{"$f":"IF(M363=\"\",\"\",INDEX(REFERENTES!$AB:$AC,MATCH(M363,REFERENTES!$AC:$AC,0),1))","v":""},"",null,359,"",null,null,null,null,null,null,null,null,null,null,null,null,null,null,null,null,null,null,null,null,{"$f":"IF(AL363<>\"\",VLOOKUP(AL363,#REF!,2,FALSE),\"\")","v":""},null,null,null,{"$f":"IF(AP363<>\"\",VLOOKUP(AP363,#REF!,2,TRUE),\"\")","v":""},null,{"$f":"IF(AR363<>\"\",VLOOKUP(AR363,#REF!,2,FALSE),\"\")","v":""},null,null,null,{"$f":"IF(AT363=\"\",\"\",INDEX(REFERENTES!$A:$B,MATCH(AT363,REFERENTES!$A:$A,0),2))","v":""},null,{"$f":"IF(AX363=\"\",\"\",INDEX(REFERENTES!M:O,MATCH(AX363,REFERENTES!M:M,0),3))","v":""}]
["30001212000000",{"$f":"DIGITADOR!$B$2","v":""},0,{"$f":"IF(E364<>\"\",CONCATENATE(B364,A364,DIGITADOR!$M$1,C364),\"\")","v":""},null,null,"","","",null,{"$f":"IF(J364=\"\",\"\",INDEX(REFERENTES!$V:$W,MATCH(J364,REFERENTES!$W:$W,0),1))","v":""},{"$f":"IF(E364=\"\",\"\",IF(O364=O363,\"\",CONCATENATE(B364,A364,DIGITADOR!$M$1,C364)))","v":""},null,{"$f":"IF(M364=\"\",\"\",INDEX(REFERENTES!$AB:$AC,MATCH(M364,REFERENTES!$AC:$AC,0),1))","v":""},"",null,360,"",null,null,null,null,null,null,null,null,null,null,null,null,null,null,null,null,null,null,null,null,{"$f":"IF(AL364<>\"\",VLOOKUP(AL364,#REF!,2,FALSE),\"\")","v":""},null,null,null,{"$f":"IF(AP364<>\"\",VLOOKUP(AP364,#REF!,2,TRUE),\"\")","v":""},null,{"$f":"IF(AR364<>\"\",VLOOKUP(AR364,#REF!,2,FALSE),\"\")","v":""},null,null,null,{"$f":"IF(AT364=\"\",\"\",INDEX(REFERENTES!$A:$B,MATCH(AT364,REFERENTES!$A:$A,0),2))","v":""},null,{"$f":"IF(AX364=\"\",\"\",INDEX(REFERENTES!M:O,MATCH(AX364,REFERENTES!M:M,0),3))","v":""}]
["30001212000000",{"$f":"DIGITADOR!$B$2","v":""},0,{"$f":"IF(E365<>\"\",CONCATENATE(B365,A365,DIGITADOR!$M$1,C365),\"\")","v":""},null,null,"","","",null,{"$f":"IF(J365=\"\",\"\",INDEX(REFERENTES!$V:$W,MATCH(J365,REFERENTES!$W:$W,0),1))","v":""},{"$f":"IF(E365=\"\",\"\",IF(O365=O364,\"\",CONCATENATE(B365,A365,DIGITADOR!$M$1,C365)))","v":""},null,{"$f":"IF(M365=\"\",\"\",INDEX(REFERENTES!$AB:$AC,MATCH(M365,REFERENTES!$AC:$AC,0),1))","v":""},"",null,361,"",null,null,null,null,null,null,null,null,null,null,null,null,null,null,null,null,null,null,null,null,{"$f":"IF(AL365<>\"\",VLOOKUP(AL365,#REF!,2,FALSE),\"\")","v":""},null,null,null,{"$f":"IF(AP365<>\"\",VLOOKUP(AP365,#REF!,2,TRUE),\"\")","v":""},null,{"$f":"IF(AR365<>\"\",VLOOKUP(AR365,#REF!,2,FALSE),\"\")","v":""},null,null,null,{"$f":"IF(AT365=\"\",\"\",INDEX(REFERENTES!$A:$B,MATCH(AT365,REFERENTES!$A:$A,0),2))","v":""},null,{"$f":"IF(AX365=\"\",\"\",INDEX(REFERENTES!M:O,MATCH(AX365,REFERENTES!M:M,0),3))","v":""}]
["30001212000000",{"$f":"DIGITADOR!$B$2","v":""},0,{"$f":"IF(E366<>\"\",CONCATENATE(B366,A366,DIGITADOR!$M$1,C366),\"\")","v":""},null,null,"","","",null,{"$f":"IF(J366=\"\",\"\",INDEX(REFERENTES!$V:$W,MATCH(J366,REFERENTES!$W:$W,0),1))","v":""},{"$f":"IF(E366=\"\",\"\",IF(O366=O365,\"\",CONCATENATE(B366,A366,DIGITADOR!$M$1,C366)))","v":""},null,{"$f":"IF(M366=\"\",\"\",INDEX(REFERENTES!$AB:$AC,MATCH(M366,REFERENTES!$AC:$AC,0),1))","v":""},"",null,362,"",null,null,null,null,null,null,null,null,null,null,null,null,null,null,null,null,null,null,null,null,{"$f":"IF(AL366<>\"\",VLOOKUP(AL366,#REF!,2,FALSE),\"\")","v":""},null,null,null,{"$f":"IF(AP366<>\"\",VLOOKUP(AP366,#REF!,2,TRUE),\"\")","v":""},null,{"$f":"IF(AR366<>\"\",VLOOKUP(AR366,#REF!,2,FALSE),\"\")","v":""},null,null,null,{"$f":"IF(AT366=\"\",\"\",INDEX(REFERENTES!$A:$B,MATCH(AT366,REFERENTES!$A:$A,0),2))","v":""},null,{"$f":"IF(AX366=\"\",\"\",INDEX(REFERENTES!M:O,MATCH(AX366,REFERENTES!M:M,0),3))","v":""}]
["30001212000000",{"$f":"DIGITADOR!$B$2","v":""},0,{"$f":"IF(E367<>\"\",CONCATENATE(B367,A367,DIGITADOR!$M$1,C367),\"\")","v":""},null,null,"","","",null,{"$f":"IF(J367=\"\",\"\",INDEX(REFERENTES!$V:$W,MATCH(J367,REFERENTES!$W:$W,0),1))","v":""},{"$f":"IF(E367=\"\",\"\",IF(O367=O366,\"\",CONCATENATE(B367,A367,DIGITADOR!$M$1,C367)))","v":""},null,{"$f":"IF(M367=\"\",\"\",INDEX(REFERENTES!$AB:$AC,MATCH(M367,REFERENTES!$AC:$AC,0),1))","v":""},"",null,363,"",null,null,null,null,null,null,null,null,null,null,null,null,null,null,null,null,null,null,null,null,{"$f":"IF(AL367<>\"\",VLOOKUP(AL367,#REF!,2,FALSE),\"\")","v":""},null,null,null,{"$f":"IF(AP367<>\"\",VLOOKUP(AP367,#REF!,2,TRUE),\"\")","v":""},null,{"$f":"IF(AR367<>\"\",VLOOKUP(AR367,#REF!,2,FALSE),\"\")","v":""},null,null,null,{"$f":"IF(AT367=\"\",\"\",INDEX(REFERENTES!$A:$B,MATCH(AT367,REFERENTES!$A:$A,0),2))","v":""},null,{"$f":"IF(AX367=\"\",\"\",INDEX(REFERENTES!M:O,MATCH(AX367,REFERENTES!M:M,0),3))","v":""}]
["30001212000000",{"$f":"DIGITADOR!$B$2","v":""},0,{"$f":"IF(E368<>\"\",CONCATENATE(B368,A368,DIGITADOR!$M$1,C368),\"\")","v":""},null,null,"","","",null,{"$f":"IF(J368=\"\",\"\",INDEX(REFERENTES!$V:$W,MATCH(J368,REFERENTES!$W:$W,0),1))","v":""},{"$f":"IF(E368=\"\",\"\",IF(O368=O367,\"\",CONCATENATE(B368,A368,DIGITADOR!$M$1,C368)))","v":""},null,{"$f":"IF(M368=\"\",\"\",INDEX(REFERENTES!$AB:$AC,MATCH(M368,REFERENTES!$AC:$AC,0),1))","v":""},"",null,364,"",null,null,null,null,null,null,null,null,null,null,null,null,null,null,null,null,null,null,null,null,{"$f":"IF(AL368<>\"\",VLOOKUP(AL368,#REF!,2,FALSE),\"\")","v":""},null,null,null,{"$f":"IF(AP368<>\"\",VLOOKUP(AP368,#REF!,2,TRUE),\"\")","v":""},null,{"$f":"IF(AR368<>\"\",VLOOKUP(AR368,#REF!,2,FALSE),\"\")","v":""},null,null,null,{"$f":"IF(AT368=\"\",\"\",INDEX(REFERENTES!$A:$B,MATCH(AT368,REFERENTES!$A:$A,0),2))","v":""},null,{"$f":"IF(AX368=\"\",\"\",INDEX(REFERENTES!M:O,MATCH(AX368,REFERENTES!M:M,0),3))","v":""}]
["30001212000000",{"$f":"DIGITADOR!$B$2","v":""},0,{"$f":"IF(E369<>\"\",CONCATENATE(B369,A369,DIGITADOR!$M$1,C369),\"\")","v":""},null,null,"","","",null,{"$f":"IF(J369=\"\",\"\",INDEX(REFERENTES!$V:$W,MATCH(J369,REFERENTES!$W:$W,0),1))","v":""},{"$f":"IF(E369=\"\",\"\",IF(O369=O368,\"\",CONCATENATE(B369,A369,DIGITADOR!$M$1,C369)))","v":""},null,{"$f":"IF(M369=\"\",\"\",INDEX(REFERENTES!$AB:$AC,MATCH(M369,REFERENTES!$AC:$AC,0),1))","v":""},"",null,365,"",null,null,null,null,null,null,null,null,null,null,null,null,null,null,null,null,null,null,null,null,{"$f":"IF(AL369<>\"\",VLOOKUP(AL369,#REF!,2,FALSE),\"\")","v":""},null,null,null,{"$f":"IF(AP369<>\"\",VLOOKUP(AP369,#REF!,2,TRUE),\"\")","v":""},null,{"$f":"IF(AR369<>\"\",VLOOKUP(AR369,#REF!,2,FALSE),\"\")","v":""},null,null,null,{"$f":"IF(AT369=\"\",\"\",INDEX(REFERENTES!$A:$B,MATCH(AT369,REFERENTES!$A:$A,0),2))","v":""},null,{"$f":"IF(AX369=\"\",\"\",INDEX(REFERENTES!M:O,MATCH(AX369,REFERENTES!M:M,0),3))","v":""}]
["30001212000000",{"$f":"DIGITADOR!$B$2","v":""},0,{"$f":"IF(E370<>\"\",CONCATENATE(B370,A370,DIGITADOR!$M$1,C370),\"\")","v":""},null,null,"","","",null,{"$f":"IF(J370=\"\",\"\",INDEX(REFERENTES!$V:$W,MATCH(J370,REFERENTES!$W:$W,0),1))","v":""},{"$f":"IF(E370=\"\",\"\",IF(O370=O369,\"\",CONCATENATE(B370,A370,DIGITADOR!$M$1,C370)))","v":""},null,{"$f":"IF(M370=\"\",\"\",INDEX(REFERENTES!$AB:$AC,MATCH(M370,REFERENTES!$AC:$AC,0),1))","v":""},"",null,366,"",null,null,null,null,null,null,null,null,null,null,null,null,null,null,null,null,null,null,null,null,{"$f":"IF(AL370<>\"\",VLOOKUP(AL370,#REF!,2,FALSE),\"\")","v":""},null,null,null,{"$f":"IF(AP370<>\"\",VLOOKUP(AP370,#REF!,2,TRUE),\"\")","v":""},null,{"$f":"IF(AR370<>\"\",VLOOKUP(AR370,#REF!,2,FALSE),\"\")","v":""},null,null,null,{"$f":"IF(AT370=\"\",\"\",INDEX(REFERENTES!$A:$B,MATCH(AT370,REFERENTES!$A:$A,0),2))","v":""},null,{"$f":"IF(AX370=\"\",\"\",INDEX(REFERENTES!M:O,MATCH(AX370,REFERENTES!M:M,0),3))","v":""}]
["30001212000000",{"$f":"DIGITADOR!$B$2","v":""},0,{"$f":"IF(E371<>\"\",CONCATENATE(B371,A371,DIGITADOR!$M$1,C371),\"\")","v":""},null,null,"","","",null,{"$f":"IF(J371=\"\",\"\",INDEX(REFERENTES!$V:$W,MATCH(J371,REFERENTES!$W:$W,0),1))","v":""},{"$f":"IF(E371=\"\",\"\",IF(O371=O370,\"\",CONCATENATE(B371,A371,DIGITADOR!$M$1,C371)))","v":""},null,{"$f":"IF(M371=\"\",\"\",INDEX(REFERENTES!$AB:$AC,MATCH(M371,REFERENTES!$AC:$AC,0),1))","v":""},"",null,367,"",null,null,null,null,null,null,null,null,null,null,null,null,null,null,null,null,null,null,null,null,{"$f":"IF(AL371<>\"\",VLOOKUP(AL371,#REF!,2,FALSE),\"\")","v":""},null,null,null,{"$f":"IF(AP371<>\"\",VLOOKUP(AP371,#REF!,2,TRUE),\"\")","v":""},null,{"$f":"IF(AR371<>\"\",VLOOKUP(AR371,#REF!,2,FALSE),\"\")","v":""},null,null,null,{"$f":"IF(AT371=\"\",\"\",INDEX(REFERENTES!$A:$B,MATCH(AT371,REFERENTES!$A:$A,0),2))","v":""},null,{"$f":"IF(AX371=\"\",\"\",INDEX(REFERENTES!M:O,MATCH(AX371,REFERENTES!M:M,0),3))","v":""}]
["30001212000000",{"$f":"DIGITADOR!$B$2","v":""},0,{"$f":"IF(E372<>\"\",CONCATENATE(B372,A372,DIGITADOR!$M$1,C372),\"\")","v":""},null,null,"","","",null,{"$f":"IF(J372=\"\",\"\",INDEX(REFERENTES!$V:$W,MATCH(J372,REFERENTES!$W:$W,0),1))","v":""},{"$f":"IF(E372=\"\",\"\",IF(O372=O371,\"\",CONCATENATE(B372,A372,DIGITADOR!$M$1,C372)))","v":""},null,{"$f":"IF(M372=\"\",\"\",INDEX(REFERENTES!$AB:$AC,MATCH(M372,REFERENTES!$AC:$AC,0),1))","v":""},"",null,368,"",null,null,null,null,null,null,null,null,null,null,null,null,null,null,null,null,null,null,null,null,{"$f":"IF(AL372<>\"\",VLOOKUP(AL372,#REF!,2,FALSE),\"\")","v":""},null,null,null,{"$f":"IF(AP372<>\"\",VLOOKUP(AP372,#REF!,2,TRUE),\"\")","v":""},null,{"$f":"IF(AR372<>\"\",VLOOKUP(AR372,#REF!,2,FALSE),\"\")","v":""},null,null,null,{"$f":"IF(AT372=\"\",\"\",INDEX(REFERENTES!$A:$B,MATCH(AT372,REFERENTES!$A:$A,0),2))","v":""},null,{"$f":"IF(AX372=\"\",\"\",INDEX(REFERENTES!M:O,MATCH(AX372,REFERENTES!M:M,0),3))","v":""}]
["30001212000000",{"$f":"DIGITADOR!$B$2","v":""},0,{"$f":"IF(E373<>\"\",CONCATENATE(B373,A373,DIGITADOR!$M$1,C373),\"\")","v":""},null,null,"","","",null,{"$f":"IF(J373=\"\",\"\",INDEX(REFERENTES!$V:$W,MATCH(J373,REFERENTES!$W:$W,0),1))","v":""},{"$f":"IF(E373=\"\",\"\",IF(O373=O372,\"\",CONCATENATE(B373,A373,DIGITADOR!$M$1,C373)))","v":""},null,{"$f":"IF(M373=\"\",\"\",INDEX(REFERENTES!$AB:$AC,MATCH(M373,REFERENTES!$AC:$AC,0),1))","v":""},"",null,369,"",null,null,null,null,null,null,null,null,null,null,null,null,null,null,null,null,null,null,null,null,{"$f":"IF(AL373<>\"\",VLOOKUP(AL373,#REF!,2,FALSE),\"\")","v":""},null,null,null,{"$f":"IF(AP373<>\"\",VLOOKUP(AP373,#REF!,2,TRUE),\"\")","v":""},null,{"$f":"IF(AR373<>\"\",VLOOKUP(AR373,#REF!,2,FALSE),\"\")","v":""},null,null,null,{"$f":"IF(AT373=\"\",\"\",INDEX(REFERENTES!$A:$B,MATCH(AT373,REFERENTES!$A:$A,0),2))","v":""},null,{"$f":"IF(AX373=\"\",\"\",INDEX(REFERENTES!M:O,MATCH(AX373,REFERENTES!M:M,0),3))","v":""}]
["30001212000000",{"$f":"DIGITADOR!$B$2","v":""},0,{"$f":"IF(E374<>\"\",CONCATENATE(B374,A374,DIGITADOR!$M$1,C374),\"\")","v":""},null,null,"","","",null,{"$f":"IF(J374=\"\",\"\",INDEX(REFERENTES!$V:$W,MATCH(J374,REFERENTES!$W:$W,0),1))","v":""},{"$f":"IF(E374=\"\",\"\",IF(O374=O373,\"\",CONCATENATE(B374,A374,DIGITADOR!$M$1,C374)))","v":""},null,{"$f":"IF(M374=\"\",\"\",INDEX(REFERENTES!$AB:$AC,MATCH(M374,REFERENTES!$AC:$AC,0),1))","v":""},"",null,370,"",null,null,null,null,null,null,null,null,null,null,null,null,null,null,null,null,null,null,null,null,{"$f":"IF(AL374<>\"\",VLOOKUP(AL374,#REF!,2,FALSE),\"\")","v":""},null,null,null,{"$f":"IF(AP374<>\"\",VLOOKUP(AP374,#REF!,2,TRUE),\"\")","v":""},null,{"$f":"IF(AR374<>\"\",VLOOKUP(AR374,#REF!,2,FALSE),\"\")","v":""},null,null,null,{"$f":"IF(AT374=\"\",\"\",INDEX(REFERENTES!$A:$B,MATCH(AT374,REFERENTES!$A:$A,0),2))","v":""},null,{"$f":"IF(AX374=\"\",\"\",INDEX(REFERENTES!M:O,MATCH(AX374,REFERENTES!M:M,0),3))","v":""}]
["30001212000000",{"$f":"DIGITADOR!$B$2","v":""},0,{"$f":"IF(E375<>\"\",CONCATENATE(B375,A375,DIGITADOR!$M$1,C375),\"\")","v":""},null,null,"","","",null,{"$f":"IF(J375=\"\",\"\",INDEX(REFERENTES!$V:$W,MATCH(J375,REFERENTES!$W:$W,0),1))","v":""},{"$f":"IF(E375=\"\",\"\",IF(O375=O374,\"\",CONCATENATE(B375,A375,DIGITADOR!$M$1,C375)))","v":""},null,{"$f":"IF(M375=\"\",\"\",INDEX(REFERENTES!$AB:$AC,MATCH(M375,REFERENTES!$AC:$AC,0),1))","v":""},"",null,371,"",null,null,null,null,null,null,null,null,null,null,null,null,null,null,null,null,null,null,null,null,{"$f":"IF(AL375<>\"\",VLOOKUP(AL375,#REF!,2,FALSE),\"\")","v":""},null,null,null,{"$f":"IF(AP375<>\"\",VLOOKUP(AP375,#REF!,2,TRUE),\"\")","v":""},null,{"$f":"IF(AR375<>\"\",VLOOKUP(AR375,#REF!,2,FALSE),\"\")","v":""},null,null,null,{"$f":"IF(AT375=\"\",\"\",INDEX(REFERENTES!$A:$B,MATCH(AT375,REFERENTES!$A:$A,0),2))","v":""},null,{"$f":"IF(AX375=\"\",\"\",INDEX(REFERENTES!M:O,MATCH(AX375,REFERENTES!M:M,0),3))","v":""}]
["30001212000000",{"$f":"DIGITADOR!$B$2","v":""},0,{"$f":"IF(E376<>\"\",CONCATENATE(B376,A376,DIGITADOR!$M$1,C376),\"\")","v":""},null,null,"","","",null,{"$f":"IF(J376=\"\",\"\",INDEX(REFERENTES!$V:$W,MATCH(J376,REFERENTES!$W:$W,0),1))","v":""},{"$f":"IF(E376=\"\",\"\",IF(O376=O375,\"\",CONCATENATE(B376,A376,DIGITADOR!$M$1,C376)))","v":""},null,{"$f":"IF(M376=\"\",\"\",INDEX(REFERENTES!$AB:$AC,MATCH(M376,REFERENTES!$AC:$AC,0),1))","v":""},"",null,372,"",null,null,null,null,null,null,null,null,null,null,null,null,null,null,null,null,null,null,null,null,{"$f":"IF(AL376<>\"\",VLOOKUP(AL376,#REF!,2,FALSE),\"\")","v":""},null,null,null,{"$f":"IF(AP376<>\"\",VLOOKUP(AP376,#REF!,2,TRUE),\"\")","v":""},null,{"$f":"IF(AR376<>\"\",VLOOKUP(AR376,#REF!,2,FALSE),\"\")","v":""},null,null,null,{"$f":"IF(AT376=\"\",\"\",INDEX(REFERENTES!$A:$B,MATCH(AT376,REFERENTES!$A:$A,0),2))","v":""},null,{"$f":"IF(AX376=\"\",\"\",INDEX(REFERENTES!M:O,MATCH(AX376,REFERENTES!M:M,0),3))","v":""}]
["30001212000000",{"$f":"DIGITADOR!$B$2","v":""},0,{"$f":"IF(E377<>\"\",CONCATENATE(B377,A377,DIGITADOR!$M$1,C377),\"\")","v":""},null,null,"","","",null,{"$f":"IF(J377=\"\",\"\",INDEX(REFERENTES!$V:$W,MATCH(J377,REFERENTES!$W:$W,0),1))","v":""},{"$f":"IF(E377=\"\",\"\",IF(O377=O376,\"\",CONCATENATE(B377,A377,DIGITADOR!$M$1,C377)))","v":""},null,{"$f":"IF(M377=\"\",\"\",INDEX(REFERENTES!$AB:$AC,MATCH(M377,REFERENTES!$AC:$AC,0),1))","v":""},"",null,373,"",null,null,null,null,null,null,null,null,null,null,null,null,null,null,null,null,null,null,null,null,{"$f":"IF(AL377<>\"\",VLOOKUP(AL377,#REF!,2,FALSE),\"\")","v":""},null,null,null,{"$f":"IF(AP377<>\"\",VLOOKUP(AP377,#REF!,2,TRUE),\"\")","v":""},null,{"$f":"IF(AR377<>\"\",VLOOKUP(AR377,#REF!,2,FALSE),\"\")","v":""},null,null,null,{"$f":"IF(AT377=\"\",\"\",INDEX(REFERENTES!$A:$B,MATCH(AT377,REFERENTES!$A:$A,0),2))","v":""},null,{"$f":"IF(AX377=\"\",\"\",INDEX(REFERENTES!M:O,MATCH(AX377,REFERENTES!M:M,0),3))","v":""}]
["30001212000000",{"$f":"DIGITADOR!$B$2","v":""},0,{"$f":"IF(E378<>\"\",CONCATENATE(B378,A378,DIGITADOR!$M$1,C378),\"\")","v":""},null,null,"","","",null,{"$f":"IF(J378=\"\",\"\",INDEX(REFERENTES!$V:$W,MATCH(J378,REFERENTES!$W:$W,0),1))","v":""},{"$f":"IF(E378=\"\",\"\",IF(O378=O377,\"\",CONCATENATE(B378,A378,DIGITADOR!$M$1,C378)))","v":""},null,{"$f":"IF(M378=\"\",\"\",INDEX(REFERENTES!$AB:$AC,MATCH(M378,REFERENTES!$AC:$AC,0),1))","v":""},"",null,374,"",null,null,null,null,null,null,null,null,null,null,null,null,null,null,null,null,null,null,null,null,{"$f":"IF(AL378<>\"\",VLOOKUP(AL378,#REF!,2,FALSE),\"\")","v":""},null,null,null,{"$f":"IF(AP378<>\"\",VLOOKUP(AP378,#REF!,2,TRUE),\"\")","v":""},null,{"$f":"IF(AR378<>\"\",VLOOKUP(AR378,#REF!,2,FALSE),\"\")","v":""},null,null,null,{"$f":"IF(AT378=\"\",\"\",INDEX(REFERENTES!$A:$B,MATCH(AT378,REFERENTES!$A:$A,0),2))","v":""},null,{"$f":"IF(AX378=\"\",\"\",INDEX(REFERENTES!M:O,MATCH(AX378,REFERENTES!M:M,0),3))","v":""}]
["30001212000000",{"$f":"DIGITADOR!$B$2","v":""},0,{"$f":"IF(E379<>\"\",CONCATENATE(B379,A379,DIGITADOR!$M$1,C379),\"\")","v":""},null,null,"","","",null,{"$f":"IF(J379=\"\",\"\",INDEX(REFERENTES!$V:$W,MATCH(J379,REFERENTES!$W:$W,0),1))","v":""},{"$f":"IF(E379=\"\",\"\",IF(O379=O378,\"\",CONCATENATE(B379,A379,DIGITADOR!$M$1,C379)))","v":""},null,{"$f":"IF(M379=\"\",\"\",INDEX(REFERENTES!$AB:$AC,MATCH(M379,REFERENTES!$AC:$AC,0),1))","v":""},"",null,375,"",null,null,null,null,null,null,null,null,null,null,null,null,null,null,null,null,null,null,null,null,{"$f":"IF(AL379<>\"\",VLOOKUP(AL379,#REF!,2,FALSE),\"\")","v":""},null,null,null,{"$f":"IF(AP379<>\"\",VLOOKUP(AP379,#REF!,2,TRUE),\"\")","v":""},null,{"$f":"IF(AR379<>\"\",VLOOKUP(AR379,#REF!,2,FALSE),\"\")","v":""},null,null,null,{"$f":"IF(AT379=\"\",\"\",INDEX(REFERENTES!$A:$B,MATCH(AT379,REFERENTES!$A:$A,0),2))","v":""},null,{"$f":"IF(AX379=\"\",\"\",INDEX(REFERENTES!M:O,MATCH(AX379,REFERENTES!M:M,0),3))","v":""}]
["30001212000000",{"$f":"DIGITADOR!$B$2","v":""},0,{"$f":"IF(E380<>\"\",CONCATENATE(B380,A380,DIGITADOR!$M$1,C380),\"\")","v":""},null,null,"","","",null,{"$f":"IF(J380=\"\",\"\",INDEX(REFERENTES!$V:$W,MATCH(J380,REFERENTES!$W:$W,0),1))","v":""},{"$f":"IF(E380=\"\",\"\",IF(O380=O379,\"\",CONCATENATE(B380,A380,DIGITADOR!$M$1,C380)))","v":""},null,{"$f":"IF(M380=\"\",\"\",INDEX(REFERENTES!$AB:$AC,MATCH(M380,REFERENTES!$AC:$AC,0),1))","v":""},"",null,376,"",null,null,null,null,null,null,null,null,null,null,null,null,null,null,null,null,null,null,null,null,{"$f":"IF(AL380<>\"\",VLOOKUP(AL380,#REF!,2,FALSE),\"\")","v":""},null,null,null,{"$f":"IF(AP380<>\"\",VLOOKUP(AP380,#REF!,2,TRUE),\"\")","v":""},null,{"$f":"IF(AR380<>\"\",VLOOKUP(AR380,#REF!,2,FALSE),\"\")","v":""},null,null,null,{"$f":"IF(AT380=\"\",\"\",INDEX(REFERENTES!$A:$B,MATCH(AT380,REFERENTES!$A:$A,0),2))","v":""},null,{"$f":"IF(AX380=\"\",\"\",INDEX(REFERENTES!M:O,MATCH(AX380,REFERENTES!M:M,0),3))","v":""}]
["30001212000000",{"$f":"DIGITADOR!$B$2","v":""},0,{"$f":"IF(E381<>\"\",CONCATENATE(B381,A381,DIGITADOR!$M$1,C381),\"\")","v":""},null,null,"","","",null,{"$f":"IF(J381=\"\",\"\",INDEX(REFERENTES!$V:$W,MATCH(J381,REFERENTES!$W:$W,0),1))","v":""},{"$f":"IF(E381=\"\",\"\",IF(O381=O380,\"\",CONCATENATE(B381,A381,DIGITADOR!$M$1,C381)))","v":""},null,{"$f":"IF(M381=\"\",\"\",INDEX(REFERENTES!$AB:$AC,MATCH(M381,REFERENTES!$AC:$AC,0),1))","v":""},"",null,377,"",null,null,null,null,null,null,null,null,null,null,null,null,null,null,null,null,null,null,null,null,{"$f":"IF(AL381<>\"\",VLOOKUP(AL381,#REF!,2,FALSE),\"\")","v":""},null,null,null,{"$f":"IF(AP381<>\"\",VLOOKUP(AP381,#REF!,2,TRUE),\"\")","v":""},null,{"$f":"IF(AR381<>\"\",VLOOKUP(AR381,#REF!,2,FALSE),\"\")","v":""},null,null,null,{"$f":"IF(AT381=\"\",\"\",INDEX(REFERENTES!$A:$B,MATCH(AT381,REFERENTES!$A:$A,0),2))","v":""},null,{"$f":"IF(AX381=\"\",\"\",INDEX(REFERENTES!M:O,MATCH(AX381,REFERENTES!M:M,0),3))","v":""}]
["30001212000000",{"$f":"DIGITADOR!$B$2","v":""},0,{"$f":"IF(E382<>\"\",CONCATENATE(B382,A382,DIGITADOR!$M$1,C382),\"\")","v":""},null,null,"","","",null,{"$f":"IF(J382=\"\",\"\",INDEX(REFERENTES!$V:$W,MATCH(J382,REFERENTES!$W:$W,0),1))","v":""},{"$f":"IF(E382=\"\",\"\",IF(O382=O381,\"\",CONCATENATE(B382,A382,DIGITADOR!$M$1,C382)))","v":""},null,{"$f":"IF(M382=\"\",\"\",INDEX(REFERENTES!$AB:$AC,MATCH(M382,REFERENTES!$AC:$AC,0),1))","v":""},"",null,378,"",null,null,null,null,null,null,null,null,null,null,null,null,null,null,null,null,null,null,null,null,{"$f":"IF(AL382<>\"\",VLOOKUP(AL382,#REF!,2,FALSE),\"\")","v":""},null,null,null,{"$f":"IF(AP382<>\"\",VLOOKUP(AP382,#REF!,2,TRUE),\"\")","v":""},null,{"$f":"IF(AR382<>\"\",VLOOKUP(AR382,#REF!,2,FALSE),\"\")","v":""},null,null,null,{"$f":"IF(AT382=\"\",\"\",INDEX(REFERENTES!$A:$B,MATCH(AT382,REFERENTES!$A:$A,0),2))","v":""},null,{"$f":"IF(AX382=\"\",\"\",INDEX(REFERENTES!M:O,MATCH(AX382,REFERENTES!M:M,0),3))","v":""}]
["30001212000000",{"$f":"DIGITADOR!$B$2","v":""},0,{"$f":"IF(E383<>\"\",CONCATENATE(B383,A383,DIGITADOR!$M$1,C383),\"\")","v":""},null,null,"","","",null,{"$f":"IF(J383=\"\",\"\",INDEX(REFERENTES!$V:$W,MATCH(J383,REFERENTES!$W:$W,0),1))","v":""},{"$f":"IF(E383=\"\",\"\",IF(O383=O382,\"\",CONCATENATE(B383,A383,DIGITADOR!$M$1,C383)))","v":""},null,{"$f":"IF(M383=\"\",\"\",INDEX(REFERENTES!$AB:$AC,MATCH(M383,REFERENTES!$AC:$AC,0),1))","v":""},"",null,379,"",null,null,null,null,null,null,null,null,null,null,null,null,null,null,null,null,null,null,null,null,{"$f":"IF(AL383<>\"\",VLOOKUP(AL383,#REF!,2,FALSE),\"\")","v":""},null,null,null,{"$f":"IF(AP383<>\"\",VLOOKUP(AP383,#REF!,2,TRUE),\"\")","v":""},null,{"$f":"IF(AR383<>\"\",VLOOKUP(AR383,#REF!,2,FALSE),\"\")","v":""},null,null,null,{"$f":"IF(AT383=\"\",\"\",INDEX(REFERENTES!$A:$B,MATCH(AT383,REFERENTES!$A:$A,0),2))","v":""},null,{"$f":"IF(AX383=\"\",\"\",INDEX(REFERENTES!M:O,MATCH(AX383,REFERENTES!M:M,0),3))","v":""}]
["30001212000000",{"$f":"DIGITADOR!$B$2","v":""},0,{"$f":"IF(E384<>\"\",CONCATENATE(B384,A384,DIGITADOR!$M$1,C384),\"\")","v":""},null,null,"","","",null,{"$f":"IF(J384=\"\",\"\",INDEX(REFERENTES!$V:$W,MATCH(J384,REFERENTES!$W:$W,0),1))","v":""},{"$f":"IF(E384=\"\",\"\",IF(O384=O383,\"\",CONCATENATE(B384,A384,DIGITADOR!$M$1,C384)))","v":""},null,{"$f":"IF(M384=\"\",\"\",INDEX(REFERENTES!$AB:$AC,MATCH(M384,REFERENTES!$AC:$AC,0),1))","v":""},"",null,380,"",null,null,null,null,null,null,null,null,null,null,null,null,null,null,null,null,null,null,null,null,{"$f":"IF(AL384<>\"\",VLOOKUP(AL384,#REF!,2,FALSE),\"\")","v":""},null,null,null,{"$f":"IF(AP384<>\"\",VLOOKUP(AP384,#REF!,2,TRUE),\"\")","v":""},null,{"$f":"IF(AR384<>\"\",VLOOKUP(AR384,#REF!,2,FALSE),\"\")","v":""},null,null,null,{"$f":"IF(AT384=\"\",\"\",INDEX(REFERENTES!$A:$B,MATCH(AT384,REFERENTES!$A:$A,0),2))","v":""},null,{"$f":"IF(AX384=\"\",\"\",INDEX(REFERENTES!M:O,MATCH(AX384,REFERENTES!M:M,0),3))","v":""}]
["30001212000000",{"$f":"DIGITADOR!$B$2","v":""},0,{"$f":"IF(E385<>\"\",CONCATENATE(B385,A385,DIGITADOR!$M$1,C385),\"\")","v":""},null,null,"","","",null,{"$f":"IF(J385=\"\",\"\",INDEX(REFERENTES!$V:$W,MATCH(J385,REFERENTES!$W:$W,0),1))","v":""},{"$f":"IF(E385=\"\",\"\",IF(O385=O384,\"\",CONCATENATE(B385,A385,DIGITADOR!$M$1,C385)))","v":""},null,{"$f":"IF(M385=\"\",\"\",INDEX(REFERENTES!$AB:$AC,MATCH(M385,REFERENTES!$AC:$AC,0),1))","v":""},"",null,381,"",null,null,null,null,null,null,null,null,null,null,null,null,null,null,null,null,null,null,null,null,{"$f":"IF(AL385<>\"\",VLOOKUP(AL385,#REF!,2,FALSE),\"\")","v":""},null,null,null,{"$f":"IF(AP385<>\"\",VLOOKUP(AP385,#REF!,2,TRUE),\"\")","v":""},null,{"$f":"IF(AR385<>\"\",VLOOKUP(AR385,#REF!,2,FALSE),\"\")","v":""},null,null,null,{"$f":"IF(AT385=\"\",\"\",INDEX(REFERENTES!$A:$B,MATCH(AT385,REFERENTES!$A:$A,0),2))","v":""},null,{"$f":"IF(AX385=\"\",\"\",INDEX(REFERENTES!M:O,MATCH(AX385,REFERENTES!M:M,0),3))","v":""}]
["30001212000000",{"$f":"DIGITADOR!$B$2","v":""},0,{"$f":"IF(E386<>\"\",CONCATENATE(B386,A386,DIGITADOR!$M$1,C386),\"\")","v":""},null,null,"","","",null,{"$f":"IF(J386=\"\",\"\",INDEX(REFERENTES!$V:$W,MATCH(J386,REFERENTES!$W:$W,0),1))","v":""},{"$f":"IF(E386=\"\",\"\",IF(O386=O385,\"\",CONCATENATE(B386,A386,DIGITADOR!$M$1,C386)))","v":""},null,{"$f":"IF(M386=\"\",\"\",INDEX(REFERENTES!$AB:$AC,MATCH(M386,REFERENTES!$AC:$AC,0),1))","v":""},"",null,382,"",null,null,null,null,null,null,null,null,null,null,null,null,null,null,null,null,null,null,null,null,{"$f":"IF(AL386<>\"\",VLOOKUP(AL386,#REF!,2,FALSE),\"\")","v":""},null,null,null,{"$f":"IF(AP386<>\"\",VLOOKUP(AP386,#REF!,2,TRUE),\"\")","v":""},null,{"$f":"IF(AR386<>\"\",VLOOKUP(AR386,#REF!,2,FALSE),\"\")","v":""},null,null,null,{"$f":"IF(AT386=\"\",\"\",INDEX(REFERENTES!$A:$B,MATCH(AT386,REFERENTES!$A:$A,0),2))","v":""},null,{"$f":"IF(AX386=\"\",\"\",INDEX(REFERENTES!M:O,MATCH(AX386,REFERENTES!M:M,0),3))","v":""}]
["30001212000000",{"$f":"DIGITADOR!$B$2","v":""},0,{"$f":"IF(E387<>\"\",CONCATENATE(B387,A387,DIGITADOR!$M$1,C387),\"\")","v":""},null,null,"","","",null,{"$f":"IF(J387=\"\",\"\",INDEX(REFERENTES!$V:$W,MATCH(J387,REFERENTES!$W:$W,0),1))","v":""},{"$f":"IF(E387=\"\",\"\",IF(O387=O386,\"\",CONCATENATE(B387,A387,DIGITADOR!$M$1,C387)))","v":""},null,{"$f":"IF(M387=\"\",\"\",INDEX(REFERENTES!$AB:$AC,MATCH(M387,REFERENTES!$AC:$AC,0),1))","v":""},"",null,383,"",null,null,null,null,null,null,null,null,null,null,null,null,null,null,null,null,null,null,null,null,{"$f":"IF(AL387<>\"\",VLOOKUP(AL387,#REF!,2,FALSE),\"\")","v":""},null,null,null,{"$f":"IF(AP387<>\"\",VLOOKUP(AP387,#REF!,2,TRUE),\"\")","v":""},null,{"$f":"IF(AR387<>\"\",VLOOKUP(AR387,#REF!,2,FALSE),\"\")","v":""},null,null,null,{"$f":"IF(AT387=\"\",\"\",INDEX(REFERENTES!$A:$B,MATCH(AT387,REFERENTES!$A:$A,0),2))","v":""},null,{"$f":"IF(AX387=\"\",\"\",INDEX(REFERENTES!M:O,MATCH(AX387,REFERENTES!M:M,0),3))","v":""}]
["30001212000000",{"$f":"DIGITADOR!$B$2","v":""},0,{"$f":"IF(E388<>\"\",CONCATENATE(B388,A388,DIGITADOR!$M$1,C388),\"\")","v":""},null,null,"","","",null,{"$f":"IF(J388=\"\",\"\",INDEX(REFERENTES!$V:$W,MATCH(J388,REFERENTES!$W:$W,0),1))","v":""},{"$f":"IF(E388=\"\",\"\",IF(O388=O387,\"\",CONCATENATE(B388,A388,DIGITADOR!$M$1,C388)))","v":""},null,{"$f":"IF(M388=\"\",\"\",INDEX(REFERENTES!$AB:$AC,MATCH(M388,REFERENTES!$AC:$AC,0),1))","v":""},"",null,384,"",null,null,null,null,null,null,null,null,null,null,null,null,null,null,null,null,null,null,null,null,{"$f":"IF(AL388<>\"\",VLOOKUP(AL388,#REF!,2,FALSE),\"\")","v":""},null,null,null,{"$f":"IF(AP388<>\"\",VLOOKUP(AP388,#REF!,2,TRUE),\"\")","v":""},null,{"$f":"IF(AR388<>\"\",VLOOKUP(AR388,#REF!,2,FALSE),\"\")","v":""},null,null,null,{"$f":"IF(AT388=\"\",\"\",INDEX(REFERENTES!$A:$B,MATCH(AT388,REFERENTES!$A:$A,0),2))","v":""},null,{"$f":"IF(AX388=\"\",\"\",INDEX(REFERENTES!M:O,MATCH(AX388,REFERENTES!M:M,0),3))","v":""}]
["30001212000000",{"$f":"DIGITADOR!$B$2","v":""},{"$f":"IF(O389=O388,C388,C388+1)","v":0},{"$f":"IF(E389<>\"\",CONCATENATE(B389,A389,DIGITADOR!$M$1,C389),\"\")","v":""},null,null,"","","",null,{"$f":"IF(J389=\"\",\"\",INDEX(REFERENTES!$V:$W,MATCH(J389,REFERENTES!$W:$W,0),1))","v":""},{"$f":"IF(E389=\"\",\"\",IF(O389=O388,\"\",CONCATENATE(B389,A389,DIGITADOR!$M$1,C389)))","v":""},null,{"$f":"IF(M389=\"\",\"\",INDEX(REFERENTES!$AB:$AC,MATCH(M389,REFERENTES!$AC:$AC,0),1))","v":""},"",null,385,"",null,null,null,null,null,null,null,null,null,null,null,null,null,null,null,null,null,null,null,null,{"$f":"IF(AL389<>\"\",VLOOKUP(AL389,#REF!,2,FALSE),\"\")","v":""},null,null,null,{"$f":"IF(AP389<>\"\",VLOOKUP(AP389,#REF!,2,TRUE),\"\")","v":""},null,{"$f":"IF(AR389<>\"\",VLOOKUP(AR389,#REF!,2,FALSE),\"\")","v":""},null,null,null,{"$f":"IF(AT389=\"\",\"\",INDEX(REFERENTES!$A:$B,MATCH(AT389,REFERENTES!$A:$A,0),2))","v":""},null,{"$f":"IF(AX389=\"\",\"\",INDEX(REFERENTES!M:O,MATCH(AX389,REFERENTES!M:M,0),3))","v":""}]
[{"$f":"A389","v":"30001212000000"},{"$f":"DIGITADOR!$B$2","v":""},0,{"$f":"IF(E390<>\"\",CONCATENATE(B390,A390,DIGITADOR!$M$1,C390),\"\")","v":""},null,null,{"$f":"IF(E390=\"\",\"\",E390+F390)","v":""},"",{"$f":"IF(M390=\"\",\"\",1)","v":""},null,{"$f":"IF(J390=\"\",\"\",INDEX(REFERENTES!$V:$W,MATCH(J390,REFERENTES!$W:$W,0),1))","v":""},{"$f":"IF(E390=\"\",\"\",IF(O390=O389,\"\",CONCATENATE(B390,A390,DIGITADOR!$M$1,C390)))","v":""},null,{"$f":"IF(M390=\"\",\"\",INDEX(REFERENTES!$AB:$AC,MATCH(M390,REFERENTES!$AC:$AC,0),1))","v":""},{"$f":"IF(M390=\"\",\"\",CONCATENATE(G390,K390,N390,1))","v":""},null,386,{"$f":"IF(D390=\"\",\"\",CONCATENATE(D390,Q390))","v":""},null,null,null,null,null,null,null,null,null,null,null,null,null,null,null,null,null,null,null,null,{"$f":"IF(AL390<>\"\",VLOOKUP(AL390,#REF!,2,FALSE),\"\")","v":""},null,null,null,{"$f":"IF(AP390<>\"\",VLOOKUP(AP390,#REF!,2,TRUE),\"\")","v":""},null,{"$f":"IF(AR390<>\"\",VLOOKUP(AR390,#REF!,2,FALSE),\"\")","v":""},null,null,null,{"$f":"IF(AT390=\"\",\"\",INDEX(REFERENTES!$A:$B,MATCH(AT390,REFERENTES!$A:$A,0),2))","v":""},null,{"$f":"IF(AX390=\"\",\"\",INDEX(REFERENTES!M:O,MATCH(AX390,REFERENTES!M:M,0),3))","v":""}]
["30001212000000",{"$f":"DIGITADOR!$B$2","v":""},0,{"$f":"IF(E391<>\"\",CONCATENATE(B391,A391,DIGITADOR!$M$1,C391),\"\")","v":""},null,null,"","","",null,{"$f":"IF(J391=\"\",\"\",INDEX(REFERENTES!$V:$W,MATCH(J391,REFERENTES!$W:$W,0),1))","v":""},{"$f":"IF(E391=\"\",\"\",IF(O391=O390,\"\",CONCATENATE(B391,A391,DIGITADOR!$M$1,C391)))","v":""},null,{"$f":"IF(M391=\"\",\"\",INDEX(REFERENTES!$AB:$AC,MATCH(M391,REFERENTES!$AC:$AC,0),1))","v":""},"",null,387,"",null,null,null,null,null,null,null,null,null,null,null,null,null,null,null,null,null,null,null,null,{"$f":"IF(AL391<>\"\",VLOOKUP(AL391,#REF!,2,FALSE),\"\")","v":""},null,null,null,{"$f":"IF(AP391<>\"\",VLOOKUP(AP391,#REF!,2,TRUE),\"\")","v":""},null,{"$f":"IF(AR391<>\"\",VLOOKUP(AR391,#REF!,2,FALSE),\"\")","v":""},null,null,null,{"$f":"IF(AT391=\"\",\"\",INDEX(REFERENTES!$A:$B,MATCH(AT391,REFERENTES!$A:$A,0),2))","v":""},null,{"$f":"IF(AX391=\"\",\"\",INDEX(REFERENTES!M:O,MATCH(AX391,REFERENTES!M:M,0),3))","v":""}]
["30001212000000",{"$f":"DIGITADOR!$B$2","v":""},0,{"$f":"IF(E392<>\"\",CONCATENATE(B392,A392,DIGITADOR!$M$1,C392),\"\")","v":""},null,null,"","","",null,{"$f":"IF(J392=\"\",\"\",INDEX(REFERENTES!$V:$W,MATCH(J392,REFERENTES!$W:$W,0),1))","v":""},{"$f":"IF(E392=\"\",\"\",IF(O392=O391,\"\",CONCATENATE(B392,A392,DIGITADOR!$M$1,C392)))","v":""},null,{"$f":"IF(M392=\"\",\"\",INDEX(REFERENTES!$AB:$AC,MATCH(M392,REFERENTES!$AC:$AC,0),1))","v":""},"",null,388,"",null,null,null,null,null,null,null,null,null,null,null,null,null,null,null,null,null,null,null,null,{"$f":"IF(AL392<>\"\",VLOOKUP(AL392,#REF!,2,FALSE),\"\")","v":""},null,null,null,{"$f":"IF(AP392<>\"\",VLOOKUP(AP392,#REF!,2,TRUE),\"\")","v":""},null,{"$f":"IF(AR392<>\"\",VLOOKUP(AR392,#REF!,2,FALSE),\"\")","v":""},null,null,null,{"$f":"IF(AT392=\"\",\"\",INDEX(REFERENTES!$A:$B,MATCH(AT392,REFERENTES!$A:$A,0),2))","v":""},null,{"$f":"IF(AX392=\"\",\"\",INDEX(REFERENTES!M:O,MATCH(AX392,REFERENTES!M:M,0),3))","v":""}]
["30001212000000",{"$f":"DIGITADOR!$B$2","v":""},0,{"$f":"IF(E393<>\"\",CONCATENATE(B393,A393,DIGITADOR!$M$1,C393),\"\")","v":""},null,null,"","","",null,{"$f":"IF(J393=\"\",\"\",INDEX(REFERENTES!$V:$W,MATCH(J393,REFERENTES!$W:$W,0),1))","v":""},{"$f":"IF(E393=\"\",\"\",IF(O393=O392,\"\",CONCATENATE(B393,A393,DIGITADOR!$M$1,C393)))","v":""},null,{"$f":"IF(M393=\"\",\"\",INDEX(REFERENTES!$AB:$AC,MATCH(M393,REFERENTES!$AC:$AC,0),1))","v":""},"",null,389,"",null,null,null,null,null,null,null,null,null,null,null,null,null,null,null,null,null,null,null,null,{"$f":"IF(AL393<>\"\",VLOOKUP(AL393,#REF!,2,FALSE),\"\")","v":""},null,null,null,{"$f":"IF(AP393<>\"\",VLOOKUP(AP393,#REF!,2,TRUE),\"\")","v":""},null,{"$f":"IF(AR393<>\"\",VLOOKUP(AR393,#REF!,2,FALSE),\"\")","v":""},null,null,null,{"$f":"IF(AT393=\"\",\"\",INDEX(REFERENTES!$A:$B,MATCH(AT393,REFERENTES!$A:$A,0),2))","v":""},null,{"$f":"IF(AX393=\"\",\"\",INDEX(REFERENTES!M:O,MATCH(AX393,REFERENTES!M:M,0),3))","v":""}]
["30001212000000",{"$f":"DIGITADOR!$B$2","v":""},0,{"$f":"IF(E394<>\"\",CONCATENATE(B394,A394,DIGITADOR!$M$1,C394),\"\")","v":""},null,null,"","","",null,{"$f":"IF(J394=\"\",\"\",INDEX(REFERENTES!$V:$W,MATCH(J394,REFERENTES!$W:$W,0),1))","v":""},{"$f":"IF(E394=\"\",\"\",IF(O394=O393,\"\",CONCATENATE(B394,A394,DIGITADOR!$M$1,C394)))","v":""},null,{"$f":"IF(M394=\"\",\"\",INDEX(REFERENTES!$AB:$AC,MATCH(M394,REFERENTES!$AC:$AC,0),1))","v":""},"",null,390,"",null,null,null,null,null,null,null,null,null,null,null,null,null,null,null,null,null,null,null,null,{"$f":"IF(AL394<>\"\",VLOOKUP(AL394,#REF!,2,FALSE),\"\")","v":""},null,null,null,{"$f":"IF(AP394<>\"\",VLOOKUP(AP394,#REF!,2,TRUE),\"\")","v":""},null,{"$f":"IF(AR394<>\"\",VLOOKUP(AR394,#REF!,2,FALSE),\"\")","v":""},null,null,null,{"$f":"IF(AT394=\"\",\"\",INDEX(REFERENTES!$A:$B,MATCH(AT394,REFERENTES!$A:$A,0),2))","v":""},null,{"$f":"IF(AX394=\"\",\"\",INDEX(REFERENTES!M:O,MATCH(AX394,REFERENTES!M:M,0),3))","v":""}]
["30001212000000",{"$f":"DIGITADOR!$B$2","v":""},0,{"$f":"IF(E395<>\"\",CONCATENATE(B395,A395,DIGITADOR!$M$1,C395),\"\")","v":""},null,null,"","","",null,{"$f":"IF(J395=\"\",\"\",INDEX(REFERENTES!$V:$W,MATCH(J395,REFERENTES!$W:$W,0),1))","v":""},{"$f":"IF(E395=\"\",\"\",IF(O395=O394,\"\",CONCATENATE(B395,A395,DIGITADOR!$M$1,C395)))","v":""},null,{"$f":"IF(M395=\"\",\"\",INDEX(REFERENTES!$AB:$AC,MATCH(M395,REFERENTES!$AC:$AC,0),1))","v":""},"",null,391,"",null,null,null,null,null,null,null,null,null,null,null,null,null,null,null,null,null,null,null,null,{"$f":"IF(AL395<>\"\",VLOOKUP(AL395,#REF!,2,FALSE),\"\")","v":""},null,null,null,{"$f":"IF(AP395<>\"\",VLOOKUP(AP395,#REF!,2,TRUE),\"\")","v":""},null,{"$f":"IF(AR395<>\"\",VLOOKUP(AR395,#REF!,2,FALSE),\"\")","v":""},null,null,null,{"$f":"IF(AT395=\"\",\"\",INDEX(REFERENTES!$A:$B,MATCH(AT395,REFERENTES!$A:$A,0),2))","v":""},null,{"$f":"IF(AX395=\"\",\"\",INDEX(REFERENTES!M:O,MATCH(AX395,REFERENTES!M:M,0),3))","v":""}]
["30001212000000",{"$f":"DIGITADOR!$B$2","v":""},0,{"$f":"IF(E396<>\"\",CONCATENATE(B396,A396,DIGITADOR!$M$1,C396),\"\")","v":""},null,null,"","","",null,{"$f":"IF(J396=\"\",\"\",INDEX(REFERENTES!$V:$W,MATCH(J396,REFERENTES!$W:$W,0),1))","v":""},{"$f":"IF(E396=\"\",\"\",IF(O396=O395,\"\",CONCATENATE(B396,A396,DIGITADOR!$M$1,C396)))","v":""},null,{"$f":"IF(M396=\"\",\"\",INDEX(REFERENTES!$AB:$AC,MATCH(M396,REFERENTES!$AC:$AC,0),1))","v":""},"",null,392,"",null,null,null,null,null,null,null,null,null,null,null,null,null,null,null,null,null,null,null,null,{"$f":"IF(AL396<>\"\",VLOOKUP(AL396,#REF!,2,FALSE),\"\")","v":""},null,null,null,{"$f":"IF(AP396<>\"\",VLOOKUP(AP396,#REF!,2,TRUE),\"\")","v":""},null,{"$f":"IF(AR396<>\"\",VLOOKUP(AR396,#REF!,2,FALSE),\"\")","v":""},null,null,null,{"$f":"IF(AT396=\"\",\"\",INDEX(REFERENTES!$A:$B,MATCH(AT396,REFERENTES!$A:$A,0),2))","v":""},null,{"$f":"IF(AX396=\"\",\"\",INDEX(REFERENTES!M:O,MATCH(AX396,REFERENTES!M:M,0),3))","v":""}]
["30001212000000",{"$f":"DIGITADOR!$B$2","v":""},0,{"$f":"IF(E397<>\"\",CONCATENATE(B397,A397,DIGITADOR!$M$1,C397),\"\")","v":""},null,null,"","","",null,{"$f":"IF(J397=\"\",\"\",INDEX(REFERENTES!$V:$W,MATCH(J397,REFERENTES!$W:$W,0),1))","v":""},{"$f":"IF(E397=\"\",\"\",IF(O397=O396,\"\",CONCATENATE(B397,A397,DIGITADOR!$M$1,C397)))","v":""},null,{"$f":"IF(M397=\"\",\"\",INDEX(REFERENTES!$AB:$AC,MATCH(M397,REFERENTES!$AC:$AC,0),1))","v":""},"",null,393,"",null,null,null,null,null,null,null,null,null,null,null,null,null,null,null,null,null,null,null,null,{"$f":"IF(AL397<>\"\",VLOOKUP(AL397,#REF!,2,FALSE),\"\")","v":""},null,null,null,{"$f":"IF(AP397<>\"\",VLOOKUP(AP397,#REF!,2,TRUE),\"\")","v":""},null,{"$f":"IF(AR397<>\"\",VLOOKUP(AR397,#REF!,2,FALSE),\"\")","v":""},null,null,null,{"$f":"IF(AT397=\"\",\"\",INDEX(REFERENTES!$A:$B,MATCH(AT397,REFERENTES!$A:$A,0),2))","v":""},null,{"$f":"IF(AX397=\"\",\"\",INDEX(REFERENTES!M:O,MATCH(AX397,REFERENTES!M:M,0),3))","v":""}]
["30001212000000",{"$f":"DIGITADOR!$B$2","v":""},0,{"$f":"IF(E398<>\"\",CONCATENATE(B398,A398,DIGITADOR!$M$1,C398),\"\")","v":""},null,null,"","","",null,{"$f":"IF(J398=\"\",\"\",INDEX(REFERENTES!$V:$W,MATCH(J398,REFERENTES!$W:$W,0),1))","v":""},{"$f":"IF(E398=\"\",\"\",IF(O398=O397,\"\",CONCATENATE(B398,A398,DIGITADOR!$M$1,C398)))","v":""},null,{"$f":"IF(M398=\"\",\"\",INDEX(REFERENTES!$AB:$AC,MATCH(M398,REFERENTES!$AC:$AC,0),1))","v":""},"",null,394,"",null,null,null,null,null,null,null,null,null,null,null,null,null,null,null,null,null,null,null,null,{"$f":"IF(AL398<>\"\",VLOOKUP(AL398,#REF!,2,FALSE),\"\")","v":""},null,null,null,{"$f":"IF(AP398<>\"\",VLOOKUP(AP398,#REF!,2,TRUE),\"\")","v":""},null,{"$f":"IF(AR398<>\"\",VLOOKUP(AR398,#REF!,2,FALSE),\"\")","v":""},null,null,null,{"$f":"IF(AT398=\"\",\"\",INDEX(REFERENTES!$A:$B,MATCH(AT398,REFERENTES!$A:$A,0),2))","v":""},null,{"$f":"IF(AX398=\"\",\"\",INDEX(REFERENTES!M:O,MATCH(AX398,REFERENTES!M:M,0),3))","v":""}]
["30001212000000",{"$f":"DIGITADOR!$B$2","v":""},0,{"$f":"IF(E399<>\"\",CONCATENATE(B399,A399,DIGITADOR!$M$1,C399),\"\")","v":""},null,null,"","","",null,{"$f":"IF(J399=\"\",\"\",INDEX(REFERENTES!$V:$W,MATCH(J399,REFERENTES!$W:$W,0),1))","v":""},{"$f":"IF(E399=\"\",\"\",IF(O399=O398,\"\",CONCATENATE(B399,A399,DIGITADOR!$M$1,C399)))","v":""},null,{"$f":"IF(M399=\"\",\"\",INDEX(REFERENTES!$AB:$AC,MATCH(M399,REFERENTES!$AC:$AC,0),1))","v":""},"",null,395,"",null,null,null,null,null,null,null,null,null,null,null,null,null,null,null,null,null,null,null,null,{"$f":"IF(AL399<>\"\",VLOOKUP(AL399,#REF!,2,FALSE),\"\")","v":""},null,null,null,{"$f":"IF(AP399<>\"\",VLOOKUP(AP399,#REF!,2,TRUE),\"\")","v":""},null,{"$f":"IF(AR399<>\"\",VLOOKUP(AR399,#REF!,2,FALSE),\"\")","v":""},null,null,null,{"$f":"IF(AT399=\"\",\"\",INDEX(REFERENTES!$A:$B,MATCH(AT399,REFERENTES!$A:$A,0),2))","v":""},null,{"$f":"IF(AX399=\"\",\"\",INDEX(REFERENTES!M:O,MATCH(AX399,REFERENTES!M:M,0),3))","v":""}]
["30001212000000",{"$f":"DIGITADOR!$B$2","v":""},0,{"$f":"IF(E400<>\"\",CONCATENATE(B400,A400,DIGITADOR!$M$1,C400),\"\")","v":""},null,null,"","","",null,{"$f":"IF(J400=\"\",\"\",INDEX(REFERENTES!$V:$W,MATCH(J400,REFERENTES!$W:$W,0),1))","v":""},{"$f":"IF(E400=\"\",\"\",IF(O400=O399,\"\",CONCATENATE(B400,A400,DIGITADOR!$M$1,C400)))","v":""},null,{"$f":"IF(M400=\"\",\"\",INDEX(REFERENTES!$AB:$AC,MATCH(M400,REFERENTES!$AC:$AC,0),1))","v":""},"",null,396,"",null,null,null,null,null,null,null,null,null,null,null,null,null,null,null,null,null,null,null,null,{"$f":"IF(AL400<>\"\",VLOOKUP(AL400,#REF!,2,FALSE),\"\")","v":""},null,null,null,{"$f":"IF(AP400<>\"\",VLOOKUP(AP400,#REF!,2,TRUE),\"\")","v":""},null,{"$f":"IF(AR400<>\"\",VLOOKUP(AR400,#REF!,2,FALSE),\"\")","v":""},null,null,null,{"$f":"IF(AT400=\"\",\"\",INDEX(REFERENTES!$A:$B,MATCH(AT400,REFERENTES!$A:$A,0),2))","v":""},null,{"$f":"IF(AX400=\"\",\"\",INDEX(REFERENTES!M:O,MATCH(AX400,REFERENTES!M:M,0),3))","v":""}]
["30001212000000",{"$f":"DIGITADOR!$B$2","v":""},0,{"$f":"IF(E401<>\"\",CONCATENATE(B401,A401,DIGITADOR!$M$1,C401),\"\")","v":""},null,null,"","","",null,{"$f":"IF(J401=\"\",\"\",INDEX(REFERENTES!$V:$W,MATCH(J401,REFERENTES!$W:$W,0),1))","v":""},{"$f":"IF(E401=\"\",\"\",IF(O401=O400,\"\",CONCATENATE(B401,A401,DIGITADOR!$M$1,C401)))","v":""},null,{"$f":"IF(M401=\"\",\"\",INDEX(REFERENTES!$AB:$AC,MATCH(M401,REFERENTES!$AC:$AC,0),1))","v":""},"",null,397,"",null,null,null,null,null,null,null,null,null,null,null,null,null,null,null,null,null,null,null,null,{"$f":"IF(AL401<>\"\",VLOOKUP(AL401,#REF!,2,FALSE),\"\")","v":""},null,null,null,{"$f":"IF(AP401<>\"\",VLOOKUP(AP401,#REF!,2,TRUE),\"\")","v":""},null,{"$f":"IF(AR401<>\"\",VLOOKUP(AR401,#REF!,2,FALSE),\"\")","v":""},null,null,null,{"$f":"IF(AT401=\"\",\"\",INDEX(REFERENTES!$A:$B,MATCH(AT401,REFERENTES!$A:$A,0),2))","v":""},null,{"$f":"IF(AX401=\"\",\"\",INDEX(REFERENTES!M:O,MATCH(AX401,REFERENTES!M:M,0),3))","v":""}]
["30001212000000",{"$f":"DIGITADOR!$B$2","v":""},0,{"$f":"IF(E402<>\"\",CONCATENATE(B402,A402,DIGITADOR!$M$1,C402),\"\")","v":""},null,null,"","","",null,{"$f":"IF(J402=\"\",\"\",INDEX(REFERENTES!$V:$W,MATCH(J402,REFERENTES!$W:$W,0),1))","v":""},{"$f":"IF(E402=\"\",\"\",IF(O402=O401,\"\",CONCATENATE(B402,A402,DIGITADOR!$M$1,C402)))","v":""},null,{"$f":"IF(M402=\"\",\"\",INDEX(REFERENTES!$AB:$AC,MATCH(M402,REFERENTES!$AC:$AC,0),1))","v":""},"",null,398,"",null,null,null,null,null,null,null,null,null,null,null,null,null,null,null,null,null,null,null,null,{"$f":"IF(AL402<>\"\",VLOOKUP(AL402,#REF!,2,FALSE),\"\")","v":""},null,null,null,{"$f":"IF(AP402<>\"\",VLOOKUP(AP402,#REF!,2,TRUE),\"\")","v":""},null,{"$f":"IF(AR402<>\"\",VLOOKUP(AR402,#REF!,2,FALSE),\"\")","v":""},null,null,null,{"$f":"IF(AT402=\"\",\"\",INDEX(REFERENTES!$A:$B,MATCH(AT402,REFERENTES!$A:$A,0),2))","v":""},null,{"$f":"IF(AX402=\"\",\"\",INDEX(REFERENTES!M:O,MATCH(AX402,REFERENTES!M:M,0),3))","v":""}]
["30001212000000",{"$f":"DIGITADOR!$B$2","v":""},0,{"$f":"IF(E403<>\"\",CONCATENATE(B403,A403,DIGITADOR!$M$1,C403),\"\")","v":""},null,null,"","","",null,{"$f":"IF(J403=\"\",\"\",INDEX(REFERENTES!$V:$W,MATCH(J403,REFERENTES!$W:$W,0),1))","v":""},{"$f":"IF(E403=\"\",\"\",IF(O403=O402,\"\",CONCATENATE(B403,A403,DIGITADOR!$M$1,C403)))","v":""},null,{"$f":"IF(M403=\"\",\"\",INDEX(REFERENTES!$AB:$AC,MATCH(M403,REFERENTES!$AC:$AC,0),1))","v":""},"",null,399,"",null,null,null,null,null,null,null,null,null,null,null,null,null,null,null,null,null,null,null,null,{"$f":"IF(AL403<>\"\",VLOOKUP(AL403,#REF!,2,FALSE),\"\")","v":""},null,null,null,{"$f":"IF(AP403<>\"\",VLOOKUP(AP403,#REF!,2,TRUE),\"\")","v":""},null,{"$f":"IF(AR403<>\"\",VLOOKUP(AR403,#REF!,2,FALSE),\"\")","v":""},null,null,null,{"$f":"IF(AT403=\"\",\"\",INDEX(REFERENTES!$A:$B,MATCH(AT403,REFERENTES!$A:$A,0),2))","v":""},null,{"$f":"IF(AX403=\"\",\"\",INDEX(REFERENTES!M:O,MATCH(AX403,REFERENTES!M:M,0),3))","v":""}]
["30001212000000",{"$f":"DIGITADOR!$B$2","v":""},0,{"$f":"IF(E404<>\"\",CONCATENATE(B404,A404,DIGITADOR!$M$1,C404),\"\")","v":""},null,null,"","","",null,{"$f":"IF(J404=\"\",\"\",INDEX(REFERENTES!$V:$W,MATCH(J404,REFERENTES!$W:$W,0),1))","v":""},{"$f":"IF(E404=\"\",\"\",IF(O404=O403,\"\",CONCATENATE(B404,A404,DIGITADOR!$M$1,C404)))","v":""},null,{"$f":"IF(M404=\"\",\"\",INDEX(REFERENTES!$AB:$AC,MATCH(M404,REFERENTES!$AC:$AC,0),1))","v":""},"",null,400,"",null,null,null,null,null,null,null,null,null,null,null,null,null,null,null,null,null,null,null,null,{"$f":"IF(AL404<>\"\",VLOOKUP(AL404,#REF!,2,FALSE),\"\")","v":""},null,null,null,{"$f":"IF(AP404<>\"\",VLOOKUP(AP404,#REF!,2,TRUE),\"\")","v":""},null,{"$f":"IF(AR404<>\"\",VLOOKUP(AR404,#REF!,2,FALSE),\"\")","v":""},null,null,null,{"$f":"IF(AT404=\"\",\"\",INDEX(REFERENTES!$A:$B,MATCH(AT404,REFERENTES!$A:$A,0),2))","v":""},null,{"$f":"IF(AX404=\"\",\"\",INDEX(REFERENTES!M:O,MATCH(AX404,REFERENTES!M:M,0),3))","v":""}]
["30001212000000",{"$f":"DIGITADOR!$B$2","v":""},0,{"$f":"IF(E405<>\"\",CONCATENATE(B405,A405,DIGITADOR!$M$1,C405),\"\")","v":""},null,null,"","","",null,{"$f":"IF(J405=\"\",\"\",INDEX(REFERENTES!$V:$W,MATCH(J405,REFERENTES!$W:$W,0),1))","v":""},{"$f":"IF(E405=\"\",\"\",IF(O405=O404,\"\",CONCATENATE(B405,A405,DIGITADOR!$M$1,C405)))","v":""},null,{"$f":"IF(M405=\"\",\"\",INDEX(REFERENTES!$AB:$AC,MATCH(M405,REFERENTES!$AC:$AC,0),1))","v":""},"",null,401,"",null,null,null,null,null,null,null,null,null,null,null,null,null,null,null,null,null,null,null,null,{"$f":"IF(AL405<>\"\",VLOOKUP(AL405,#REF!,2,FALSE),\"\")","v":""},null,null,null,{"$f":"IF(AP405<>\"\",VLOOKUP(AP405,#REF!,2,TRUE),\"\")","v":""},null,{"$f":"IF(AR405<>\"\",VLOOKUP(AR405,#REF!,2,FALSE),\"\")","v":""},null,null,null,{"$f":"IF(AT405=\"\",\"\",INDEX(REFERENTES!$A:$B,MATCH(AT405,REFERENTES!$A:$A,0),2))","v":""},null,{"$f":"IF(AX405=\"\",\"\",INDEX(REFERENTES!M:O,MATCH(AX405,REFERENTES!M:M,0),3))","v":""}]
["30001212000000",{"$f":"DIGITADOR!$B$2","v":""},0,{"$f":"IF(E406<>\"\",CONCATENATE(B406,A406,DIGITADOR!$M$1,C406),\"\")","v":""},null,null,"","","",null,{"$f":"IF(J406=\"\",\"\",INDEX(REFERENTES!$V:$W,MATCH(J406,REFERENTES!$W:$W,0),1))","v":""},{"$f":"IF(E406=\"\",\"\",IF(O406=O405,\"\",CONCATENATE(B406,A406,DIGITADOR!$M$1,C406)))","v":""},null,{"$f":"IF(M406=\"\",\"\",INDEX(REFERENTES!$AB:$AC,MATCH(M406,REFERENTES!$AC:$AC,0),1))","v":""},"",null,402,"",null,null,null,null,null,null,null,null,null,null,null,null,null,null,null,null,null,null,null,null,{"$f":"IF(AL406<>\"\",VLOOKUP(AL406,#REF!,2,FALSE),\"\")","v":""},null,null,null,{"$f":"IF(AP406<>\"\",VLOOKUP(AP406,#REF!,2,TRUE),\"\")","v":""},null,{"$f":"IF(AR406<>\"\",VLOOKUP(AR406,#REF!,2,FALSE),\"\")","v":""},null,null,null,{"$f":"IF(AT406=\"\",\"\",INDEX(REFERENTES!$A:$B,MATCH(AT406,REFERENTES!$A:$A,0),2))","v":""},null,{"$f":"IF(AX406=\"\",\"\",INDEX(REFERENTES!M:O,MATCH(AX406,REFERENTES!M:M,0),3))","v":""}]
["30001212000000",{"$f":"DIGITADOR!$B$2","v":""},0,{"$f":"IF(E407<>\"\",CONCATENATE(B407,A407,DIGITADOR!$M$1,C407),\"\")","v":""},null,null,"","","",null,{"$f":"IF(J407=\"\",\"\",INDEX(REFERENTES!$V:$W,MATCH(J407,REFERENTES!$W:$W,0),1))","v":""},{"$f":"IF(E407=\"\",\"\",IF(O407=O406,\"\",CONCATENATE(B407,A407,DIGITADOR!$M$1,C407)))","v":""},null,{"$f":"IF(M407=\"\",\"\",INDEX(REFERENTES!$AB:$AC,MATCH(M407,REFERENTES!$AC:$AC,0),1))","v":""},"",null,403,"",null,null,null,null,null,null,null,null,null,null,null,null,null,null,null,null,null,null,null,null,{"$f":"IF(AL407<>\"\",VLOOKUP(AL407,#REF!,2,FALSE),\"\")","v":""},null,null,null,{"$f":"IF(AP407<>\"\",VLOOKUP(AP407,#REF!,2,TRUE),\"\")","v":""},null,{"$f":"IF(AR407<>\"\",VLOOKUP(AR407,#REF!,2,FALSE),\"\")","v":""},null,null,null,{"$f":"IF(AT407=\"\",\"\",INDEX(REFERENTES!$A:$B,MATCH(AT407,REFERENTES!$A:$A,0),2))","v":""},null,{"$f":"IF(AX407=\"\",\"\",INDEX(REFERENTES!M:O,MATCH(AX407,REFERENTES!M:M,0),3))","v":""}]
["30001212000000",{"$f":"DIGITADOR!$B$2","v":""},0,{"$f":"IF(E408<>\"\",CONCATENATE(B408,A408,DIGITADOR!$M$1,C408),\"\")","v":""},null,null,"","","",null,{"$f":"IF(J408=\"\",\"\",INDEX(REFERENTES!$V:$W,MATCH(J408,REFERENTES!$W:$W,0),1))","v":""},{"$f":"IF(E408=\"\",\"\",IF(O408=O407,\"\",CONCATENATE(B408,A408,DIGITADOR!$M$1,C408)))","v":""},null,{"$f":"IF(M408=\"\",\"\",INDEX(REFERENTES!$AB:$AC,MATCH(M408,REFERENTES!$AC:$AC,0),1))","v":""},"",null,404,"",null,null,null,null,null,null,null,null,null,null,null,null,null,null,null,null,null,null,null,null,{"$f":"IF(AL408<>\"\",VLOOKUP(AL408,#REF!,2,FALSE),\"\")","v":""},null,null,null,{"$f":"IF(AP408<>\"\",VLOOKUP(AP408,#REF!,2,TRUE),\"\")","v":""},null,{"$f":"IF(AR408<>\"\",VLOOKUP(AR408,#REF!,2,FALSE),\"\")","v":""},null,null,null,{"$f":"IF(AT408=\"\",\"\",INDEX(REFERENTES!$A:$B,MATCH(AT408,REFERENTES!$A:$A,0),2))","v":""},null,{"$f":"IF(AX408=\"\",\"\",INDEX(REFERENTES!M:O,MATCH(AX408,REFERENTES!M:M,0),3))","v":""}]
["30001212000000",{"$f":"DIGITADOR!$B$2","v":""},0,{"$f":"IF(E409<>\"\",CONCATENATE(B409,A409,DIGITADOR!$M$1,C409),\"\")","v":""},null,null,"","","",null,{"$f":"IF(J409=\"\",\"\",INDEX(REFERENTES!$V:$W,MATCH(J409,REFERENTES!$W:$W,0),1))","v":""},{"$f":"IF(E409=\"\",\"\",IF(O409=O408,\"\",CONCATENATE(B409,A409,DIGITADOR!$M$1,C409)))","v":""},null,{"$f":"IF(M409=\"\",\"\",INDEX(REFERENTES!$AB:$AC,MATCH(M409,REFERENTES!$AC:$AC,0),1))","v":""},"",null,405,"",null,null,null,null,null,null,null,null,null,null,null,null,null,null,null,null,null,null,null,null,{"$f":"IF(AL409<>\"\",VLOOKUP(AL409,#REF!,2,FALSE),\"\")","v":""},null,null,null,{"$f":"IF(AP409<>\"\",VLOOKUP(AP409,#REF!,2,TRUE),\"\")","v":""},null,{"$f":"IF(AR409<>\"\",VLOOKUP(AR409,#REF!,2,FALSE),\"\")","v":""},null,null,null,{"$f":"IF(AT409=\"\",\"\",INDEX(REFERENTES!$A:$B,MATCH(AT409,REFERENTES!$A:$A,0),2))","v":""},null,{"$f":"IF(AX409=\"\",\"\",INDEX(REFERENTES!M:O,MATCH(AX409,REFERENTES!M:M,0),3))","v":""}]
["30001212000000",{"$f":"DIGITADOR!$B$2","v":""},0,{"$f":"IF(E410<>\"\",CONCATENATE(B410,A410,DIGITADOR!$M$1,C410),\"\")","v":""},null,null,"","","",null,{"$f":"IF(J410=\"\",\"\",INDEX(REFERENTES!$V:$W,MATCH(J410,REFERENTES!$W:$W,0),1))","v":""},{"$f":"IF(E410=\"\",\"\",IF(O410=O409,\"\",CONCATENATE(B410,A410,DIGITADOR!$M$1,C410)))","v":""},null,{"$f":"IF(M410=\"\",\"\",INDEX(REFERENTES!$AB:$AC,MATCH(M410,REFERENTES!$AC:$AC,0),1))","v":""},"",null,406,"",null,null,null,null,null,null,null,null,null,null,null,null,null,null,null,null,null,null,null,null,{"$f":"IF(AL410<>\"\",VLOOKUP(AL410,#REF!,2,FALSE),\"\")","v":""},null,null,null,{"$f":"IF(AP410<>\"\",VLOOKUP(AP410,#REF!,2,TRUE),\"\")","v":""},null,{"$f":"IF(AR410<>\"\",VLOOKUP(AR410,#REF!,2,FALSE),\"\")","v":""},null,null,null,{"$f":"IF(AT410=\"\",\"\",INDEX(REFERENTES!$A:$B,MATCH(AT410,REFERENTES!$A:$A,0),2))","v":""},null,{"$f":"IF(AX410=\"\",\"\",INDEX(REFERENTES!M:O,MATCH(AX410,REFERENTES!M:M,0),3))","v":""}]
["30001212000000",{"$f":"DIGITADOR!$B$2","v":""},0,{"$f":"IF(E411<>\"\",CONCATENATE(B411,A411,DIGITADOR!$M$1,C411),\"\")","v":""},null,null,"","","",null,{"$f":"IF(J411=\"\",\"\",INDEX(REFERENTES!$V:$W,MATCH(J411,REFERENTES!$W:$W,0),1))","v":""},{"$f":"IF(E411=\"\",\"\",IF(O411=O410,\"\",CONCATENATE(B411,A411,DIGITADOR!$M$1,C411)))","v":""},null,{"$f":"IF(M411=\"\",\"\",INDEX(REFERENTES!$AB:$AC,MATCH(M411,REFERENTES!$AC:$AC,0),1))","v":""},"",null,407,"",null,null,null,null,null,null,null,null,null,null,null,null,null,null,null,null,null,null,null,null,{"$f":"IF(AL411<>\"\",VLOOKUP(AL411,#REF!,2,FALSE),\"\")","v":""},null,null,null,{"$f":"IF(AP411<>\"\",VLOOKUP(AP411,#REF!,2,TRUE),\"\")","v":""},null,{"$f":"IF(AR411<>\"\",VLOOKUP(AR411,#REF!,2,FALSE),\"\")","v":""},null,null,null,{"$f":"IF(AT411=\"\",\"\",INDEX(REFERENTES!$A:$B,MATCH(AT411,REFERENTES!$A:$A,0),2))","v":""},null,{"$f":"IF(AX411=\"\",\"\",INDEX(REFERENTES!M:O,MATCH(AX411,REFERENTES!M:M,0),3))","v":""}]
["30001212000000",{"$f":"DIGITADOR!$B$2","v":""},0,{"$f":"IF(E412<>\"\",CONCATENATE(B412,A412,DIGITADOR!$M$1,C412),\"\")","v":""},null,null,"","","",null,{"$f":"IF(J412=\"\",\"\",INDEX(REFERENTES!$V:$W,MATCH(J412,REFERENTES!$W:$W,0),1))","v":""},{"$f":"IF(E412=\"\",\"\",IF(O412=O411,\"\",CONCATENATE(B412,A412,DIGITADOR!$M$1,C412)))","v":""},null,{"$f":"IF(M412=\"\",\"\",INDEX(REFERENTES!$AB:$AC,MATCH(M412,REFERENTES!$AC:$AC,0),1))","v":""},"",null,408,"",null,null,null,null,null,null,null,null,null,null,null,null,null,null,null,null,null,null,null,null,{"$f":"IF(AL412<>\"\",VLOOKUP(AL412,#REF!,2,FALSE),\"\")","v":""},null,null,null,{"$f":"IF(AP412<>\"\",VLOOKUP(AP412,#REF!,2,TRUE),\"\")","v":""},null,{"$f":"IF(AR412<>\"\",VLOOKUP(AR412,#REF!,2,FALSE),\"\")","v":""},null,null,null,{"$f":"IF(AT412=\"\",\"\",INDEX(REFERENTES!$A:$B,MATCH(AT412,REFERENTES!$A:$A,0),2))","v":""},null,{"$f":"IF(AX412=\"\",\"\",INDEX(REFERENTES!M:O,MATCH(AX412,REFERENTES!M:M,0),3))","v":""}]
["30001212000000",{"$f":"DIGITADOR!$B$2","v":""},0,{"$f":"IF(E413<>\"\",CONCATENATE(B413,A413,DIGITADOR!$M$1,C413),\"\")","v":""},null,null,"","","",null,{"$f":"IF(J413=\"\",\"\",INDEX(REFERENTES!$V:$W,MATCH(J413,REFERENTES!$W:$W,0),1))","v":""},{"$f":"IF(E413=\"\",\"\",IF(O413=O412,\"\",CONCATENATE(B413,A413,DIGITADOR!$M$1,C413)))","v":""},null,{"$f":"IF(M413=\"\",\"\",INDEX(REFERENTES!$AB:$AC,MATCH(M413,REFERENTES!$AC:$AC,0),1))","v":""},"",null,409,"",null,null,null,null,null,null,null,null,null,null,null,null,null,null,null,null,null,null,null,null,{"$f":"IF(AL413<>\"\",VLOOKUP(AL413,#REF!,2,FALSE),\"\")","v":""},null,null,null,{"$f":"IF(AP413<>\"\",VLOOKUP(AP413,#REF!,2,TRUE),\"\")","v":""},null,{"$f":"IF(AR413<>\"\",VLOOKUP(AR413,#REF!,2,FALSE),\"\")","v":""},null,null,null,{"$f":"IF(AT413=\"\",\"\",INDEX(REFERENTES!$A:$B,MATCH(AT413,REFERENTES!$A:$A,0),2))","v":""},null,{"$f":"IF(AX413=\"\",\"\",INDEX(REFERENTES!M:O,MATCH(AX413,REFERENTES!M:M,0),3))","v":""}]
["30001212000000",{"$f":"DIGITADOR!$B$2","v":""},0,{"$f":"IF(E414<>\"\",CONCATENATE(B414,A414,DIGITADOR!$M$1,C414),\"\")","v":""},null,null,"","","",null,{"$f":"IF(J414=\"\",\"\",INDEX(REFERENTES!$V:$W,MATCH(J414,REFERENTES!$W:$W,0),1))","v":""},{"$f":"IF(E414=\"\",\"\",IF(O414=O413,\"\",CONCATENATE(B414,A414,DIGITADOR!$M$1,C414)))","v":""},null,{"$f":"IF(M414=\"\",\"\",INDEX(REFERENTES!$AB:$AC,MATCH(M414,REFERENTES!$AC:$AC,0),1))","v":""},"",null,410,"",null,null,null,null,null,null,null,null,null,null,null,null,null,null,null,null,null,null,null,null,{"$f":"IF(AL414<>\"\",VLOOKUP(AL414,#REF!,2,FALSE),\"\")","v":""},null,null,null,{"$f":"IF(AP414<>\"\",VLOOKUP(AP414,#REF!,2,TRUE),\"\")","v":""},null,{"$f":"IF(AR414<>\"\",VLOOKUP(AR414,#REF!,2,FALSE),\"\")","v":""},null,null,null,{"$f":"IF(AT414=\"\",\"\",INDEX(REFERENTES!$A:$B,MATCH(AT414,REFERENTES!$A:$A,0),2))","v":""},null,{"$f":"IF(AX414=\"\",\"\",INDEX(REFERENTES!M:O,MATCH(AX414,REFERENTES!M:M,0),3))","v":""}]
["30001212000000",{"$f":"DIGITADOR!$B$2","v":""},0,{"$f":"IF(E415<>\"\",CONCATENATE(B415,A415,DIGITADOR!$M$1,C415),\"\")","v":""},null,null,"","","",null,{"$f":"IF(J415=\"\",\"\",INDEX(REFERENTES!$V:$W,MATCH(J415,REFERENTES!$W:$W,0),1))","v":""},{"$f":"IF(E415=\"\",\"\",IF(O415=O414,\"\",CONCATENATE(B415,A415,DIGITADOR!$M$1,C415)))","v":""},null,{"$f":"IF(M415=\"\",\"\",INDEX(REFERENTES!$AB:$AC,MATCH(M415,REFERENTES!$AC:$AC,0),1))","v":""},"",null,411,"",null,null,null,null,null,null,null,null,null,null,null,null,null,null,null,null,null,null,null,null,{"$f":"IF(AL415<>\"\",VLOOKUP(AL415,#REF!,2,FALSE),\"\")","v":""},null,null,null,{"$f":"IF(AP415<>\"\",VLOOKUP(AP415,#REF!,2,TRUE),\"\")","v":""},null,{"$f":"IF(AR415<>\"\",VLOOKUP(AR415,#REF!,2,FALSE),\"\")","v":""},null,null,null,{"$f":"IF(AT415=\"\",\"\",INDEX(REFERENTES!$A:$B,MATCH(AT415,REFERENTES!$A:$A,0),2))","v":""},null,{"$f":"IF(AX415=\"\",\"\",INDEX(REFERENTES!M:O,MATCH(AX415,REFERENTES!M:M,0),3))","v":""}]
["30001212000000",{"$f":"DIGITADOR!$B$2","v":""},0,{"$f":"IF(E416<>\"\",CONCATENATE(B416,A416,DIGITADOR!$M$1,C416),\"\")","v":""},null,null,"","","",null,{"$f":"IF(J416=\"\",\"\",INDEX(REFERENTES!$V:$W,MATCH(J416,REFERENTES!$W:$W,0),1))","v":""},{"$f":"IF(E416=\"\",\"\",IF(O416=O415,\"\",CONCATENATE(B416,A416,DIGITADOR!$M$1,C416)))","v":""},null,{"$f":"IF(M416=\"\",\"\",INDEX(REFERENTES!$AB:$AC,MATCH(M416,REFERENTES!$AC:$AC,0),1))","v":""},"",null,412,"",null,null,null,null,null,null,null,null,null,null,null,null,null,null,null,null,null,null,null,null,{"$f":"IF(AL416<>\"\",VLOOKUP(AL416,#REF!,2,FALSE),\"\")","v":""},null,null,null,{"$f":"IF(AP416<>\"\",VLOOKUP(AP416,#REF!,2,TRUE),\"\")","v":""},null,{"$f":"IF(AR416<>\"\",VLOOKUP(AR416,#REF!,2,FALSE),\"\")","v":""},null,null,null,{"$f":"IF(AT416=\"\",\"\",INDEX(REFERENTES!$A:$B,MATCH(AT416,REFERENTES!$A:$A,0),2))","v":""},null,{"$f":"IF(AX416=\"\",\"\",INDEX(REFERENTES!M:O,MATCH(AX416,REFERENTES!M:M,0),3))","v":""}]
["30001212000000",{"$f":"DIGITADOR!$B$2","v":""},0,{"$f":"IF(E417<>\"\",CONCATENATE(B417,A417,DIGITADOR!$M$1,C417),\"\")","v":""},null,null,"","","",null,{"$f":"IF(J417=\"\",\"\",INDEX(REFERENTES!$V:$W,MATCH(J417,REFERENTES!$W:$W,0),1))","v":""},{"$f":"IF(E417=\"\",\"\",IF(O417=O416,\"\",CONCATENATE(B417,A417,DIGITADOR!$M$1,C417)))","v":""},null,{"$f":"IF(M417=\"\",\"\",INDEX(REFERENTES!$AB:$AC,MATCH(M417,REFERENTES!$AC:$AC,0),1))","v":""},"",null,413,"",null,null,null,null,null,null,null,null,null,null,null,null,null,null,null,null,null,null,null,null,{"$f":"IF(AL417<>\"\",VLOOKUP(AL417,#REF!,2,FALSE),\"\")","v":""},null,null,null,{"$f":"IF(AP417<>\"\",VLOOKUP(AP417,#REF!,2,TRUE),\"\")","v":""},null,{"$f":"IF(AR417<>\"\",VLOOKUP(AR417,#REF!,2,FALSE),\"\")","v":""},null,null,null,{"$f":"IF(AT417=\"\",\"\",INDEX(REFERENTES!$A:$B,MATCH(AT417,REFERENTES!$A:$A,0),2))","v":""},null,{"$f":"IF(AX417=\"\",\"\",INDEX(REFERENTES!M:O,MATCH(AX417,REFERENTES!M:M,0),3))","v":""}]
["30001212000000",{"$f":"DIGITADOR!$B$2","v":""},0,{"$f":"IF(E418<>\"\",CONCATENATE(B418,A418,DIGITADOR!$M$1,C418),\"\")","v":""},null,null,"","","",null,{"$f":"IF(J418=\"\",\"\",INDEX(REFERENTES!$V:$W,MATCH(J418,REFERENTES!$W:$W,0),1))","v":""},{"$f":"IF(E418=\"\",\"\",IF(O418=O417,\"\",CONCATENATE(B418,A418,DIGITADOR!$M$1,C418)))","v":""},null,{"$f":"IF(M418=\"\",\"\",INDEX(REFERENTES!$AB:$AC,MATCH(M418,REFERENTES!$AC:$AC,0),1))","v":""},"",null,414,"",null,null,null,null,null,null,null,null,null,null,null,null,null,null,null,null,null,null,null,null,{"$f":"IF(AL418<>\"\",VLOOKUP(AL418,#REF!,2,FALSE),\"\")","v":""},null,null,null,{"$f":"IF(AP418<>\"\",VLOOKUP(AP418,#REF!,2,TRUE),\"\")","v":""},null,{"$f":"IF(AR418<>\"\",VLOOKUP(AR418,#REF!,2,FALSE),\"\")","v":""},null,null,null,{"$f":"IF(AT418=\"\",\"\",INDEX(REFERENTES!$A:$B,MATCH(AT418,REFERENTES!$A:$A,0),2))","v":""},null,{"$f":"IF(AX418=\"\",\"\",INDEX(REFERENTES!M:O,MATCH(AX418,REFERENTES!M:M,0),3))","v":""}]
["30001212000000",{"$f":"DIGITADOR!$B$2","v":""},0,{"$f":"IF(E419<>\"\",CONCATENATE(B419,A419,DIGITADOR!$M$1,C419),\"\")","v":""},null,null,"","","",null,{"$f":"IF(J419=\"\",\"\",INDEX(REFERENTES!$V:$W,MATCH(J419,REFERENTES!$W:$W,0),1))","v":""},{"$f":"IF(E419=\"\",\"\",IF(O419=O418,\"\",CONCATENATE(B419,A419,DIGITADOR!$M$1,C419)))","v":""},null,{"$f":"IF(M419=\"\",\"\",INDEX(REFERENTES!$AB:$AC,MATCH(M419,REFERENTES!$AC:$AC,0),1))","v":""},"",null,415,"",null,null,null,null,null,null,null,null,null,null,null,null,null,null,null,null,null,null,null,null,{"$f":"IF(AL419<>\"\",VLOOKUP(AL419,#REF!,2,FALSE),\"\")","v":""},null,null,null,{"$f":"IF(AP419<>\"\",VLOOKUP(AP419,#REF!,2,TRUE),\"\")","v":""},null,{"$f":"IF(AR419<>\"\",VLOOKUP(AR419,#REF!,2,FALSE),\"\")","v":""},null,null,null,{"$f":"IF(AT419=\"\",\"\",INDEX(REFERENTES!$A:$B,MATCH(AT419,REFERENTES!$A:$A,0),2))","v":""},null,{"$f":"IF(AX419=\"\",\"\",INDEX(REFERENTES!M:O,MATCH(AX419,REFERENTES!M:M,0),3))","v":""}]
["30001212000000",{"$f":"DIGITADOR!$B$2","v":""},0,{"$f":"IF(E420<>\"\",CONCATENATE(B420,A420,DIGITADOR!$M$1,C420),\"\")","v":""},null,null,"","","",null,{"$f":"IF(J420=\"\",\"\",INDEX(REFERENTES!$V:$W,MATCH(J420,REFERENTES!$W:$W,0),1))","v":""},{"$f":"IF(E420=\"\",\"\",IF(O420=O419,\"\",CONCATENATE(B420,A420,DIGITADOR!$M$1,C420)))","v":""},null,{"$f":"IF(M420=\"\",\"\",INDEX(REFERENTES!$AB:$AC,MATCH(M420,REFERENTES!$AC:$AC,0),1))","v":""},"",null,416,"",null,null,null,null,null,null,null,null,null,null,null,null,null,null,null,null,null,null,null,null,{"$f":"IF(AL420<>\"\",VLOOKUP(AL420,#REF!,2,FALSE),\"\")","v":""},null,null,null,{"$f":"IF(AP420<>\"\",VLOOKUP(AP420,#REF!,2,TRUE),\"\")","v":""},null,{"$f":"IF(AR420<>\"\",VLOOKUP(AR420,#REF!,2,FALSE),\"\")","v":""},null,null,null,{"$f":"IF(AT420=\"\",\"\",INDEX(REFERENTES!$A:$B,MATCH(AT420,REFERENTES!$A:$A,0),2))","v":""},null,{"$f":"IF(AX420=\"\",\"\",INDEX(REFERENTES!M:O,MATCH(AX420,REFERENTES!M:M,0),3))","v":""}]
["30001212000000",{"$f":"DIGITADOR!$B$2","v":""},0,{"$f":"IF(E421<>\"\",CONCATENATE(B421,A421,DIGITADOR!$M$1,C421),\"\")","v":""},null,null,"","","",null,{"$f":"IF(J421=\"\",\"\",INDEX(REFERENTES!$V:$W,MATCH(J421,REFERENTES!$W:$W,0),1))","v":""},{"$f":"IF(E421=\"\",\"\",IF(O421=O420,\"\",CONCATENATE(B421,A421,DIGITADOR!$M$1,C421)))","v":""},null,{"$f":"IF(M421=\"\",\"\",INDEX(REFERENTES!$AB:$AC,MATCH(M421,REFERENTES!$AC:$AC,0),1))","v":""},"",null,417,"",null,null,null,null,null,null,null,null,null,null,null,null,null,null,null,null,null,null,null,null,{"$f":"IF(AL421<>\"\",VLOOKUP(AL421,#REF!,2,FALSE),\"\")","v":""},null,null,null,{"$f":"IF(AP421<>\"\",VLOOKUP(AP421,#REF!,2,TRUE),\"\")","v":""},null,{"$f":"IF(AR421<>\"\",VLOOKUP(AR421,#REF!,2,FALSE),\"\")","v":""},null,null,null,{"$f":"IF(AT421=\"\",\"\",INDEX(REFERENTES!$A:$B,MATCH(AT421,REFERENTES!$A:$A,0),2))","v":""},null,{"$f":"IF(AX421=\"\",\"\",INDEX(REFERENTES!M:O,MATCH(AX421,REFERENTES!M:M,0),3))","v":""}]
["30001212000000",{"$f":"DIGITADOR!$B$2","v":""},0,{"$f":"IF(E422<>\"\",CONCATENATE(B422,A422,DIGITADOR!$M$1,C422),\"\")","v":""},null,null,"","","",null,{"$f":"IF(J422=\"\",\"\",INDEX(REFERENTES!$V:$W,MATCH(J422,REFERENTES!$W:$W,0),1))","v":""},{"$f":"IF(E422=\"\",\"\",IF(O422=O421,\"\",CONCATENATE(B422,A422,DIGITADOR!$M$1,C422)))","v":""},null,{"$f":"IF(M422=\"\",\"\",INDEX(REFERENTES!$AB:$AC,MATCH(M422,REFERENTES!$AC:$AC,0),1))","v":""},"",null,418,"",null,null,null,null,null,null,null,null,null,null,null,null,null,null,null,null,null,null,null,null,{"$f":"IF(AL422<>\"\",VLOOKUP(AL422,#REF!,2,FALSE),\"\")","v":""},null,null,null,{"$f":"IF(AP422<>\"\",VLOOKUP(AP422,#REF!,2,TRUE),\"\")","v":""},null,{"$f":"IF(AR422<>\"\",VLOOKUP(AR422,#REF!,2,FALSE),\"\")","v":""},null,null,null,{"$f":"IF(AT422=\"\",\"\",INDEX(REFERENTES!$A:$B,MATCH(AT422,REFERENTES!$A:$A,0),2))","v":""},null,{"$f":"IF(AX422=\"\",\"\",INDEX(REFERENTES!M:O,MATCH(AX422,REFERENTES!M:M,0),3))","v":""}]
["30001212000000",{"$f":"DIGITADOR!$B$2","v":""},0,{"$f":"IF(E423<>\"\",CONCATENATE(B423,A423,DIGITADOR!$M$1,C423),\"\")","v":""},null,null,"","","",null,{"$f":"IF(J423=\"\",\"\",INDEX(REFERENTES!$V:$W,MATCH(J423,REFERENTES!$W:$W,0),1))","v":""},{"$f":"IF(E423=\"\",\"\",IF(O423=O422,\"\",CONCATENATE(B423,A423,DIGITADOR!$M$1,C423)))","v":""},null,{"$f":"IF(M423=\"\",\"\",INDEX(REFERENTES!$AB:$AC,MATCH(M423,REFERENTES!$AC:$AC,0),1))","v":""},"",null,419,"",null,null,null,null,null,null,null,null,null,null,null,null,null,null,null,null,null,null,null,null,{"$f":"IF(AL423<>\"\",VLOOKUP(AL423,#REF!,2,FALSE),\"\")","v":""},null,null,null,{"$f":"IF(AP423<>\"\",VLOOKUP(AP423,#REF!,2,TRUE),\"\")","v":""},null,{"$f":"IF(AR423<>\"\",VLOOKUP(AR423,#REF!,2,FALSE),\"\")","v":""},null,null,null,{"$f":"IF(AT423=\"\",\"\",INDEX(REFERENTES!$A:$B,MATCH(AT423,REFERENTES!$A:$A,0),2))","v":""},null,{"$f":"IF(AX423=\"\",\"\",INDEX(REFERENTES!M:O,MATCH(AX423,REFERENTES!M:M,0),3))","v":""}]
["30001212000000",{"$f":"DIGITADOR!$B$2","v":""},0,{"$f":"IF(E424<>\"\",CONCATENATE(B424,A424,DIGITADOR!$M$1,C424),\"\")","v":""},null,null,"","","",null,{"$f":"IF(J424=\"\",\"\",INDEX(REFERENTES!$V:$W,MATCH(J424,REFERENTES!$W:$W,0),1))","v":""},{"$f":"IF(E424=\"\",\"\",IF(O424=O423,\"\",CONCATENATE(B424,A424,DIGITADOR!$M$1,C424)))","v":""},null,{"$f":"IF(M424=\"\",\"\",INDEX(REFERENTES!$AB:$AC,MATCH(M424,REFERENTES!$AC:$AC,0),1))","v":""},"",null,420,"",null,null,null,null,null,null,null,null,null,null,null,null,null,null,null,null,null,null,null,null,{"$f":"IF(AL424<>\"\",VLOOKUP(AL424,#REF!,2,FALSE),\"\")","v":""},null,null,null,{"$f":"IF(AP424<>\"\",VLOOKUP(AP424,#REF!,2,TRUE),\"\")","v":""},null,{"$f":"IF(AR424<>\"\",VLOOKUP(AR424,#REF!,2,FALSE),\"\")","v":""},null,null,null,{"$f":"IF(AT424=\"\",\"\",INDEX(REFERENTES!$A:$B,MATCH(AT424,REFERENTES!$A:$A,0),2))","v":""},null,{"$f":"IF(AX424=\"\",\"\",INDEX(REFERENTES!M:O,MATCH(AX424,REFERENTES!M:M,0),3))","v":""}]
["30001212000000",{"$f":"DIGITADOR!$B$2","v":""},0,{"$f":"IF(E425<>\"\",CONCATENATE(B425,A425,DIGITADOR!$M$1,C425),\"\")","v":""},null,null,"",{"$f":"IF(G425<>\"\",MONTH(G425),\"\")","v":""},"",null,{"$f":"IF(J425=\"\",\"\",INDEX(REFERENTES!$V:$W,MATCH(J425,REFERENTES!$W:$W,0),1))","v":""},{"$f":"IF(E425=\"\",\"\",IF(O425=O424,\"\",CONCATENATE(B425,A425,DIGITADOR!$M$1,C425)))","v":""},null,{"$f":"IF(M425=\"\",\"\",INDEX(REFERENTES!$AB:$AC,MATCH(M425,REFERENTES!$AC:$AC,0),1))","v":""},"",null,421,"",null,null,null,null,null,null,null,null,null,null,null,null,null,null,null,null,null,null,null,null,{"$f":"IF(AL425<>\"\",VLOOKUP(AL425,#REF!,2,FALSE),\"\")","v":""},null,null,null,{"$f":"IF(AP425<>\"\",VLOOKUP(AP425,#REF!,2,TRUE),\"\")","v":""},null,{"$f":"IF(AR425<>\"\",VLOOKUP(AR425,#REF!,2,FALSE),\"\")","v":""},null,null,null,{"$f":"IF(AT425=\"\",\"\",INDEX(REFERENTES!$A:$B,MATCH(AT425,REFERENTES!$A:$A,0),2))","v":""},null,{"$f":"IF(AX425=\"\",\"\",INDEX(REFERENTES!M:O,MATCH(AX425,REFERENTES!M:M,0),3))","v":""}]
["30001212000000",{"$f":"DIGITADOR!$B$2","v":""},0,{"$f":"IF(E426<>\"\",CONCATENATE(B426,A426,DIGITADOR!$M$1,C426),\"\")","v":""},null,null,"","","",null,{"$f":"IF(J426=\"\",\"\",INDEX(REFERENTES!$V:$W,MATCH(J426,REFERENTES!$W:$W,0),1))","v":""},{"$f":"IF(E426=\"\",\"\",IF(O426=O425,\"\",CONCATENATE(B426,A426,DIGITADOR!$M$1,C426)))","v":""},null,{"$f":"IF(M426=\"\",\"\",INDEX(REFERENTES!$AB:$AC,MATCH(M426,REFERENTES!$AC:$AC,0),1))","v":""},"",null,422,"",null,null,null,null,null,null,null,null,null,null,null,null,null,null,null,null,null,null,null,null,{"$f":"IF(AL426<>\"\",VLOOKUP(AL426,#REF!,2,FALSE),\"\")","v":""},null,null,null,{"$f":"IF(AP426<>\"\",VLOOKUP(AP426,#REF!,2,TRUE),\"\")","v":""},null,{"$f":"IF(AR426<>\"\",VLOOKUP(AR426,#REF!,2,FALSE),\"\")","v":""},null,null,null,{"$f":"IF(AT426=\"\",\"\",INDEX(REFERENTES!$A:$B,MATCH(AT426,REFERENTES!$A:$A,0),2))","v":""},null,{"$f":"IF(AX426=\"\",\"\",INDEX(REFERENTES!M:O,MATCH(AX426,REFERENTES!M:M,0),3))","v":""}]
["30001212000000",{"$f":"DIGITADOR!$B$2","v":""},0,{"$f":"IF(E427<>\"\",CONCATENATE(B427,A427,DIGITADOR!$M$1,C427),\"\")","v":""},null,null,"","","",null,{"$f":"IF(J427=\"\",\"\",INDEX(REFERENTES!$V:$W,MATCH(J427,REFERENTES!$W:$W,0),1))","v":""},{"$f":"IF(E427=\"\",\"\",IF(O427=O426,\"\",CONCATENATE(B427,A427,DIGITADOR!$M$1,C427)))","v":""},null,{"$f":"IF(M427=\"\",\"\",INDEX(REFERENTES!$AB:$AC,MATCH(M427,REFERENTES!$AC:$AC,0),1))","v":""},"",null,423,"",null,null,null,null,null,null,null,null,null,null,null,null,null,null,null,null,null,null,null,null,{"$f":"IF(AL427<>\"\",VLOOKUP(AL427,#REF!,2,FALSE),\"\")","v":""},null,null,null,{"$f":"IF(AP427<>\"\",VLOOKUP(AP427,#REF!,2,TRUE),\"\")","v":""},null,{"$f":"IF(AR427<>\"\",VLOOKUP(AR427,#REF!,2,FALSE),\"\")","v":""},null,null,null,{"$f":"IF(AT427=\"\",\"\",INDEX(REFERENTES!$A:$B,MATCH(AT427,REFERENTES!$A:$A,0),2))","v":""},null,{"$f":"IF(AX427=\"\",\"\",INDEX(REFERENTES!M:O,MATCH(AX427,REFERENTES!M:M,0),3))","v":""}]
["30001212000000",{"$f":"DIGITADOR!$B$2","v":""},0,{"$f":"IF(E428<>\"\",CONCATENATE(B428,A428,DIGITADOR!$M$1,C428),\"\")","v":""},null,null,"","","",null,{"$f":"IF(J428=\"\",\"\",INDEX(REFERENTES!$V:$W,MATCH(J428,REFERENTES!$W:$W,0),1))","v":""},{"$f":"IF(E428=\"\",\"\",IF(O428=O427,\"\",CONCATENATE(B428,A428,DIGITADOR!$M$1,C428)))","v":""},null,{"$f":"IF(M428=\"\",\"\",INDEX(REFERENTES!$AB:$AC,MATCH(M428,REFERENTES!$AC:$AC,0),1))","v":""},"",null,424,"",null,null,null,null,null,null,null,null,null,null,null,null,null,null,null,null,null,null,null,null,{"$f":"IF(AL428<>\"\",VLOOKUP(AL428,#REF!,2,FALSE),\"\")","v":""},null,null,null,{"$f":"IF(AP428<>\"\",VLOOKUP(AP428,#REF!,2,TRUE),\"\")","v":""},null,{"$f":"IF(AR428<>\"\",VLOOKUP(AR428,#REF!,2,FALSE),\"\")","v":""},null,null,null,{"$f":"IF(AT428=\"\",\"\",INDEX(REFERENTES!$A:$B,MATCH(AT428,REFERENTES!$A:$A,0),2))","v":""},null,{"$f":"IF(AX428=\"\",\"\",INDEX(REFERENTES!M:O,MATCH(AX428,REFERENTES!M:M,0),3))","v":""}]
["30001212000000",{"$f":"DIGITADOR!$B$2","v":""},0,{"$f":"IF(E429<>\"\",CONCATENATE(B429,A429,DIGITADOR!$M$1,C429),\"\")","v":""},null,null,"","","",null,{"$f":"IF(J429=\"\",\"\",INDEX(REFERENTES!$V:$W,MATCH(J429,REFERENTES!$W:$W,0),1))","v":""},{"$f":"IF(E429=\"\",\"\",IF(O429=O428,\"\",CONCATENATE(B429,A429,DIGITADOR!$M$1,C429)))","v":""},null,{"$f":"IF(M429=\"\",\"\",INDEX(REFERENTES!$AB:$AC,MATCH(M429,REFERENTES!$AC:$AC,0),1))","v":""},"",null,425,"",null,null,null,null,null,null,null,null,null,null,null,null,null,null,null,null,null,null,null,null,{"$f":"IF(AL429<>\"\",VLOOKUP(AL429,#REF!,2,FALSE),\"\")","v":""},null,null,null,{"$f":"IF(AP429<>\"\",VLOOKUP(AP429,#REF!,2,TRUE),\"\")","v":""},null,{"$f":"IF(AR429<>\"\",VLOOKUP(AR429,#REF!,2,FALSE),\"\")","v":""},null,null,null,{"$f":"IF(AT429=\"\",\"\",INDEX(REFERENTES!$A:$B,MATCH(AT429,REFERENTES!$A:$A,0),2))","v":""},null,{"$f":"IF(AX429=\"\",\"\",INDEX(REFERENTES!M:O,MATCH(AX429,REFERENTES!M:M,0),3))","v":""}]
["30001212000000",{"$f":"DIGITADOR!$B$2","v":""},0,{"$f":"IF(E430<>\"\",CONCATENATE(B430,A430,DIGITADOR!$M$1,C430),\"\")","v":""},null,null,"","","",null,{"$f":"IF(J430=\"\",\"\",INDEX(REFERENTES!$V:$W,MATCH(J430,REFERENTES!$W:$W,0),1))","v":""},{"$f":"IF(E430=\"\",\"\",IF(O430=O429,\"\",CONCATENATE(B430,A430,DIGITADOR!$M$1,C430)))","v":""},null,{"$f":"IF(M430=\"\",\"\",INDEX(REFERENTES!$AB:$AC,MATCH(M430,REFERENTES!$AC:$AC,0),1))","v":""},"",null,426,"",null,null,null,null,null,null,null,null,null,null,null,null,null,null,null,null,null,null,null,null,{"$f":"IF(AL430<>\"\",VLOOKUP(AL430,#REF!,2,FALSE),\"\")","v":""},null,null,null,{"$f":"IF(AP430<>\"\",VLOOKUP(AP430,#REF!,2,TRUE),\"\")","v":""},null,{"$f":"IF(AR430<>\"\",VLOOKUP(AR430,#REF!,2,FALSE),\"\")","v":""},null,null,null,{"$f":"IF(AT430=\"\",\"\",INDEX(REFERENTES!$A:$B,MATCH(AT430,REFERENTES!$A:$A,0),2))","v":""},null,{"$f":"IF(AX430=\"\",\"\",INDEX(REFERENTES!M:O,MATCH(AX430,REFERENTES!M:M,0),3))","v":""}]
["30001212000000",{"$f":"DIGITADOR!$B$2","v":""},0,{"$f":"IF(E431<>\"\",CONCATENATE(B431,A431,DIGITADOR!$M$1,C431),\"\")","v":""},null,null,"","","",null,{"$f":"IF(J431=\"\",\"\",INDEX(REFERENTES!$V:$W,MATCH(J431,REFERENTES!$W:$W,0),1))","v":""},{"$f":"IF(E431=\"\",\"\",IF(O431=O430,\"\",CONCATENATE(B431,A431,DIGITADOR!$M$1,C431)))","v":""},null,{"$f":"IF(M431=\"\",\"\",INDEX(REFERENTES!$AB:$AC,MATCH(M431,REFERENTES!$AC:$AC,0),1))","v":""},"",null,427,"",null,null,null,null,null,null,null,null,null,null,null,null,null,null,null,null,null,null,null,null,{"$f":"IF(AL431<>\"\",VLOOKUP(AL431,#REF!,2,FALSE),\"\")","v":""},null,null,null,{"$f":"IF(AP431<>\"\",VLOOKUP(AP431,#REF!,2,TRUE),\"\")","v":""},null,{"$f":"IF(AR431<>\"\",VLOOKUP(AR431,#REF!,2,FALSE),\"\")","v":""},null,null,null,{"$f":"IF(AT431=\"\",\"\",INDEX(REFERENTES!$A:$B,MATCH(AT431,REFERENTES!$A:$A,0),2))","v":""},null,{"$f":"IF(AX431=\"\",\"\",INDEX(REFERENTES!M:O,MATCH(AX431,REFERENTES!M:M,0),3))","v":""}]
["30001212000000",{"$f":"DIGITADOR!$B$2","v":""},0,{"$f":"IF(E432<>\"\",CONCATENATE(B432,A432,DIGITADOR!$M$1,C432),\"\")","v":""},null,null,"","","",null,{"$f":"IF(J432=\"\",\"\",INDEX(REFERENTES!$V:$W,MATCH(J432,REFERENTES!$W:$W,0),1))","v":""},{"$f":"IF(E432=\"\",\"\",IF(O432=O431,\"\",CONCATENATE(B432,A432,DIGITADOR!$M$1,C432)))","v":""},null,{"$f":"IF(M432=\"\",\"\",INDEX(REFERENTES!$AB:$AC,MATCH(M432,REFERENTES!$AC:$AC,0),1))","v":""},"",null,428,"",null,null,null,null,null,null,null,null,null,null,null,null,null,null,null,null,null,null,null,null,{"$f":"IF(AL432<>\"\",VLOOKUP(AL432,#REF!,2,FALSE),\"\")","v":""},null,null,null,{"$f":"IF(AP432<>\"\",VLOOKUP(AP432,#REF!,2,TRUE),\"\")","v":""},null,{"$f":"IF(AR432<>\"\",VLOOKUP(AR432,#REF!,2,FALSE),\"\")","v":""},null,null,null,{"$f":"IF(AT432=\"\",\"\",INDEX(REFERENTES!$A:$B,MATCH(AT432,REFERENTES!$A:$A,0),2))","v":""},null,{"$f":"IF(AX432=\"\",\"\",INDEX(REFERENTES!M:O,MATCH(AX432,REFERENTES!M:M,0),3))","v":""}]
["30001212000000",{"$f":"DIGITADOR!$B$2","v":""},0,{"$f":"IF(E433<>\"\",CONCATENATE(B433,A433,DIGITADOR!$M$1,C433),\"\")","v":""},null,null,"","","",null,{"$f":"IF(J433=\"\",\"\",INDEX(REFERENTES!$V:$W,MATCH(J433,REFERENTES!$W:$W,0),1))","v":""},{"$f":"IF(E433=\"\",\"\",IF(O433=O432,\"\",CONCATENATE(B433,A433,DIGITADOR!$M$1,C433)))","v":""},null,{"$f":"IF(M433=\"\",\"\",INDEX(REFERENTES!$AB:$AC,MATCH(M433,REFERENTES!$AC:$AC,0),1))","v":""},"",null,429,"",null,null,null,null,null,null,null,null,null,null,null,null,null,null,null,null,null,null,null,null,{"$f":"IF(AL433<>\"\",VLOOKUP(AL433,#REF!,2,FALSE),\"\")","v":""},null,null,null,{"$f":"IF(AP433<>\"\",VLOOKUP(AP433,#REF!,2,TRUE),\"\")","v":""},null,{"$f":"IF(AR433<>\"\",VLOOKUP(AR433,#REF!,2,FALSE),\"\")","v":""},null,null,null,{"$f":"IF(AT433=\"\",\"\",INDEX(REFERENTES!$A:$B,MATCH(AT433,REFERENTES!$A:$A,0),2))","v":""},null,{"$f":"IF(AX433=\"\",\"\",INDEX(REFERENTES!M:O,MATCH(AX433,REFERENTES!M:M,0),3))","v":""}]
["30001212000000",{"$f":"DIGITADOR!$B$2","v":""},0,{"$f":"IF(E434<>\"\",CONCATENATE(B434,A434,DIGITADOR!$M$1,C434),\"\")","v":""},null,null,"","","",null,{"$f":"IF(J434=\"\",\"\",INDEX(REFERENTES!$V:$W,MATCH(J434,REFERENTES!$W:$W,0),1))","v":""},{"$f":"IF(E434=\"\",\"\",IF(O434=O433,\"\",CONCATENATE(B434,A434,DIGITADOR!$M$1,C434)))","v":""},null,{"$f":"IF(M434=\"\",\"\",INDEX(REFERENTES!$AB:$AC,MATCH(M434,REFERENTES!$AC:$AC,0),1))","v":""},"",null,430,"",null,null,null,null,null,null,null,null,null,null,null,null,null,null,null,null,null,null,null,null,{"$f":"IF(AL434<>\"\",VLOOKUP(AL434,#REF!,2,FALSE),\"\")","v":""},null,null,null,{"$f":"IF(AP434<>\"\",VLOOKUP(AP434,#REF!,2,TRUE),\"\")","v":""},null,{"$f":"IF(AR434<>\"\",VLOOKUP(AR434,#REF!,2,FALSE),\"\")","v":""},null,null,null,{"$f":"IF(AT434=\"\",\"\",INDEX(REFERENTES!$A:$B,MATCH(AT434,REFERENTES!$A:$A,0),2))","v":""},null,{"$f":"IF(AX434=\"\",\"\",INDEX(REFERENTES!M:O,MATCH(AX434,REFERENTES!M:M,0),3))","v":""}]
["30001212000000",{"$f":"DIGITADOR!$B$2","v":""},0,{"$f":"IF(E435<>\"\",CONCATENATE(B435,A435,DIGITADOR!$M$1,C435),\"\")","v":""},null,null,"","","",null,{"$f":"IF(J435=\"\",\"\",INDEX(REFERENTES!$V:$W,MATCH(J435,REFERENTES!$W:$W,0),1))","v":""},{"$f":"IF(E435=\"\",\"\",IF(O435=O434,\"\",CONCATENATE(B435,A435,DIGITADOR!$M$1,C435)))","v":""},null,{"$f":"IF(M435=\"\",\"\",INDEX(REFERENTES!$AB:$AC,MATCH(M435,REFERENTES!$AC:$AC,0),1))","v":""},"",null,431,"",null,null,null,null,null,null,null,null,null,null,null,null,null,null,null,null,null,null,null,null,{"$f":"IF(AL435<>\"\",VLOOKUP(AL435,#REF!,2,FALSE),\"\")","v":""},null,null,null,{"$f":"IF(AP435<>\"\",VLOOKUP(AP435,#REF!,2,TRUE),\"\")","v":""},null,{"$f":"IF(AR435<>\"\",VLOOKUP(AR435,#REF!,2,FALSE),\"\")","v":""},null,null,null,{"$f":"IF(AT435=\"\",\"\",INDEX(REFERENTES!$A:$B,MATCH(AT435,REFERENTES!$A:$A,0),2))","v":""},null,{"$f":"IF(AX435=\"\",\"\",INDEX(REFERENTES!M:O,MATCH(AX435,REFERENTES!M:M,0),3))","v":""}]
["30001212000000",{"$f":"DIGITADOR!$B$2","v":""},0,{"$f":"IF(E436<>\"\",CONCATENATE(B436,A436,DIGITADOR!$M$1,C436),\"\")","v":""},null,null,"","","",null,{"$f":"IF(J436=\"\",\"\",INDEX(REFERENTES!$V:$W,MATCH(J436,REFERENTES!$W:$W,0),1))","v":""},{"$f":"IF(E436=\"\",\"\",IF(O436=O435,\"\",CONCATENATE(B436,A436,DIGITADOR!$M$1,C436)))","v":""},null,{"$f":"IF(M436=\"\",\"\",INDEX(REFERENTES!$AB:$AC,MATCH(M436,REFERENTES!$AC:$AC,0),1))","v":""},"",null,432,"",null,null,null,null,null,null,null,null,null,null,null,null,null,null,null,null,null,null,null,null,{"$f":"IF(AL436<>\"\",VLOOKUP(AL436,#REF!,2,FALSE),\"\")","v":""},null,null,null,{"$f":"IF(AP436<>\"\",VLOOKUP(AP436,#REF!,2,TRUE),\"\")","v":""},null,{"$f":"IF(AR436<>\"\",VLOOKUP(AR436,#REF!,2,FALSE),\"\")","v":""},null,null,null,{"$f":"IF(AT436=\"\",\"\",INDEX(REFERENTES!$A:$B,MATCH(AT436,REFERENTES!$A:$A,0),2))","v":""},null,{"$f":"IF(AX436=\"\",\"\",INDEX(REFERENTES!M:O,MATCH(AX436,REFERENTES!M:M,0),3))","v":""}]
["30001212000000",{"$f":"DIGITADOR!$B$2","v":""},0,{"$f":"IF(E437<>\"\",CONCATENATE(B437,A437,DIGITADOR!$M$1,C437),\"\")","v":""},null,null,"","","",null,{"$f":"IF(J437=\"\",\"\",INDEX(REFERENTES!$V:$W,MATCH(J437,REFERENTES!$W:$W,0),1))","v":""},{"$f":"IF(E437=\"\",\"\",IF(O437=O436,\"\",CONCATENATE(B437,A437,DIGITADOR!$M$1,C437)))","v":""},null,{"$f":"IF(M437=\"\",\"\",INDEX(REFERENTES!$AB:$AC,MATCH(M437,REFERENTES!$AC:$AC,0),1))","v":""},"",null,433,"",null,null,null,null,null,null,null,null,null,null,null,null,null,null,null,null,null,null,null,null,{"$f":"IF(AL437<>\"\",VLOOKUP(AL437,#REF!,2,FALSE),\"\")","v":""},null,null,null,{"$f":"IF(AP437<>\"\",VLOOKUP(AP437,#REF!,2,TRUE),\"\")","v":""},null,{"$f":"IF(AR437<>\"\",VLOOKUP(AR437,#REF!,2,FALSE),\"\")","v":""},null,null,null,{"$f":"IF(AT437=\"\",\"\",INDEX(REFERENTES!$A:$B,MATCH(AT437,REFERENTES!$A:$A,0),2))","v":""},null,{"$f":"IF(AX437=\"\",\"\",INDEX(REFERENTES!M:O,MATCH(AX437,REFERENTES!M:M,0),3))","v":""}]
["30001212000000",{"$f":"DIGITADOR!$B$2","v":""},0,{"$f":"IF(E438<>\"\",CONCATENATE(B438,A438,DIGITADOR!$M$1,C438),\"\")","v":""},null,null,"","","",null,{"$f":"IF(J438=\"\",\"\",INDEX(REFERENTES!$V:$W,MATCH(J438,REFERENTES!$W:$W,0),1))","v":""},{"$f":"IF(E438=\"\",\"\",IF(O438=O437,\"\",CONCATENATE(B438,A438,DIGITADOR!$M$1,C438)))","v":""},null,{"$f":"IF(M438=\"\",\"\",INDEX(REFERENTES!$AB:$AC,MATCH(M438,REFERENTES!$AC:$AC,0),1))","v":""},"",null,434,"",null,null,null,null,null,null,null,null,null,null,null,null,null,null,null,null,null,null,null,null,{"$f":"IF(AL438<>\"\",VLOOKUP(AL438,#REF!,2,FALSE),\"\")","v":""},null,null,null,{"$f":"IF(AP438<>\"\",VLOOKUP(AP438,#REF!,2,TRUE),\"\")","v":""},null,{"$f":"IF(AR438<>\"\",VLOOKUP(AR438,#REF!,2,FALSE),\"\")","v":""},null,null,null,{"$f":"IF(AT438=\"\",\"\",INDEX(REFERENTES!$A:$B,MATCH(AT438,REFERENTES!$A:$A,0),2))","v":""},null,{"$f":"IF(AX438=\"\",\"\",INDEX(REFERENTES!M:O,MATCH(AX438,REFERENTES!M:M,0),3))","v":""}]
["30001212000000",{"$f":"DIGITADOR!$B$2","v":""},0,{"$f":"IF(E439<>\"\",CONCATENATE(B439,A439,DIGITADOR!$M$1,C439),\"\")","v":""},null,null,"","","",null,{"$f":"IF(J439=\"\",\"\",INDEX(REFERENTES!$V:$W,MATCH(J439,REFERENTES!$W:$W,0),1))","v":""},{"$f":"IF(E439=\"\",\"\",IF(O439=O438,\"\",CONCATENATE(B439,A439,DIGITADOR!$M$1,C439)))","v":""},null,{"$f":"IF(M439=\"\",\"\",INDEX(REFERENTES!$AB:$AC,MATCH(M439,REFERENTES!$AC:$AC,0),1))","v":""},"",null,435,"",null,null,null,null,null,null,null,null,null,null,null,null,null,null,null,null,null,null,null,null,{"$f":"IF(AL439<>\"\",VLOOKUP(AL439,#REF!,2,FALSE),\"\")","v":""},null,null,null,{"$f":"IF(AP439<>\"\",VLOOKUP(AP439,#REF!,2,TRUE),\"\")","v":""},null,{"$f":"IF(AR439<>\"\",VLOOKUP(AR439,#REF!,2,FALSE),\"\")","v":""},null,null,null,{"$f":"IF(AT439=\"\",\"\",INDEX(REFERENTES!$A:$B,MATCH(AT439,REFERENTES!$A:$A,0),2))","v":""},null,{"$f":"IF(AX439=\"\",\"\",INDEX(REFERENTES!M:O,MATCH(AX439,REFERENTES!M:M,0),3))","v":""}]
["30001212000000",{"$f":"DIGITADOR!$B$2","v":""},0,{"$f":"IF(E440<>\"\",CONCATENATE(B440,A440,DIGITADOR!$M$1,C440),\"\")","v":""},null,null,"","","",null,{"$f":"IF(J440=\"\",\"\",INDEX(REFERENTES!$V:$W,MATCH(J440,REFERENTES!$W:$W,0),1))","v":""},{"$f":"IF(E440=\"\",\"\",IF(O440=O439,\"\",CONCATENATE(B440,A440,DIGITADOR!$M$1,C440)))","v":""},null,{"$f":"IF(M440=\"\",\"\",INDEX(REFERENTES!$AB:$AC,MATCH(M440,REFERENTES!$AC:$AC,0),1))","v":""},"",null,436,"",null,null,null,null,null,null,null,null,null,null,null,null,null,null,null,null,null,null,null,null,{"$f":"IF(AL440<>\"\",VLOOKUP(AL440,#REF!,2,FALSE),\"\")","v":""},null,null,null,{"$f":"IF(AP440<>\"\",VLOOKUP(AP440,#REF!,2,TRUE),\"\")","v":""},null,{"$f":"IF(AR440<>\"\",VLOOKUP(AR440,#REF!,2,FALSE),\"\")","v":""},null,null,null,{"$f":"IF(AT440=\"\",\"\",INDEX(REFERENTES!$A:$B,MATCH(AT440,REFERENTES!$A:$A,0),2))","v":""},null,{"$f":"IF(AX440=\"\",\"\",INDEX(REFERENTES!M:O,MATCH(AX440,REFERENTES!M:M,0),3))","v":""}]
["30001212000000",{"$f":"DIGITADOR!$B$2","v":""},0,{"$f":"IF(E441<>\"\",CONCATENATE(B441,A441,DIGITADOR!$M$1,C441),\"\")","v":""},null,null,"","","",null,{"$f":"IF(J441=\"\",\"\",INDEX(REFERENTES!$V:$W,MATCH(J441,REFERENTES!$W:$W,0),1))","v":""},{"$f":"IF(E441=\"\",\"\",IF(O441=O440,\"\",CONCATENATE(B441,A441,DIGITADOR!$M$1,C441)))","v":""},null,{"$f":"IF(M441=\"\",\"\",INDEX(REFERENTES!$AB:$AC,MATCH(M441,REFERENTES!$AC:$AC,0),1))","v":""},"",null,437,"",null,null,null,null,null,null,null,null,null,null,null,null,null,null,null,null,null,null,null,null,{"$f":"IF(AL441<>\"\",VLOOKUP(AL441,#REF!,2,FALSE),\"\")","v":""},null,null,null,{"$f":"IF(AP441<>\"\",VLOOKUP(AP441,#REF!,2,TRUE),\"\")","v":""},null,{"$f":"IF(AR441<>\"\",VLOOKUP(AR441,#REF!,2,FALSE),\"\")","v":""},null,null,null,{"$f":"IF(AT441=\"\",\"\",INDEX(REFERENTES!$A:$B,MATCH(AT441,REFERENTES!$A:$A,0),2))","v":""},null,{"$f":"IF(AX441=\"\",\"\",INDEX(REFERENTES!M:O,MATCH(AX441,REFERENTES!M:M,0),3))","v":""}]
["30001212000000",{"$f":"DIGITADOR!$B$2","v":""},0,{"$f":"IF(E442<>\"\",CONCATENATE(B442,A442,DIGITADOR!$M$1,C442),\"\")","v":""},null,null,"","","",null,{"$f":"IF(J442=\"\",\"\",INDEX(REFERENTES!$V:$W,MATCH(J442,REFERENTES!$W:$W,0),1))","v":""},{"$f":"IF(E442=\"\",\"\",IF(O442=O441,\"\",CONCATENATE(B442,A442,DIGITADOR!$M$1,C442)))","v":""},null,{"$f":"IF(M442=\"\",\"\",INDEX(REFERENTES!$AB:$AC,MATCH(M442,REFERENTES!$AC:$AC,0),1))","v":""},"",null,438,"",null,null,null,null,null,null,null,null,null,null,null,null,null,null,null,null,null,null,null,null,{"$f":"IF(AL442<>\"\",VLOOKUP(AL442,#REF!,2,FALSE),\"\")","v":""},null,null,null,{"$f":"IF(AP442<>\"\",VLOOKUP(AP442,#REF!,2,TRUE),\"\")","v":""},null,{"$f":"IF(AR442<>\"\",VLOOKUP(AR442,#REF!,2,FALSE),\"\")","v":""},null,null,null,{"$f":"IF(AT442=\"\",\"\",INDEX(REFERENTES!$A:$B,MATCH(AT442,REFERENTES!$A:$A,0),2))","v":""},null,{"$f":"IF(AX442=\"\",\"\",INDEX(REFERENTES!M:O,MATCH(AX442,REFERENTES!M:M,0),3))","v":""}]
["30001212000000",{"$f":"DIGITADOR!$B$2","v":""},0,{"$f":"IF(E443<>\"\",CONCATENATE(B443,A443,DIGITADOR!$M$1,C443),\"\")","v":""},null,null,"","","",null,{"$f":"IF(J443=\"\",\"\",INDEX(REFERENTES!$V:$W,MATCH(J443,REFERENTES!$W:$W,0),1))","v":""},{"$f":"IF(E443=\"\",\"\",IF(O443=O442,\"\",CONCATENATE(B443,A443,DIGITADOR!$M$1,C443)))","v":""},null,{"$f":"IF(M443=\"\",\"\",INDEX(REFERENTES!$AB:$AC,MATCH(M443,REFERENTES!$AC:$AC,0),1))","v":""},"",null,439,"",null,null,null,null,null,null,null,null,null,null,null,null,null,null,null,null,null,null,null,null,{"$f":"IF(AL443<>\"\",VLOOKUP(AL443,#REF!,2,FALSE),\"\")","v":""},null,null,null,{"$f":"IF(AP443<>\"\",VLOOKUP(AP443,#REF!,2,TRUE),\"\")","v":""},null,{"$f":"IF(AR443<>\"\",VLOOKUP(AR443,#REF!,2,FALSE),\"\")","v":""},null,null,null,{"$f":"IF(AT443=\"\",\"\",INDEX(REFERENTES!$A:$B,MATCH(AT443,REFERENTES!$A:$A,0),2))","v":""},null,{"$f":"IF(AX443=\"\",\"\",INDEX(REFERENTES!M:O,MATCH(AX443,REFERENTES!M:M,0),3))","v":""}]
["30001212000000",{"$f":"DIGITADOR!$B$2","v":""},0,{"$f":"IF(E444<>\"\",CONCATENATE(B444,A444,DIGITADOR!$M$1,C444),\"\")","v":""},null,null,"","","",null,{"$f":"IF(J444=\"\",\"\",INDEX(REFERENTES!$V:$W,MATCH(J444,REFERENTES!$W:$W,0),1))","v":""},{"$f":"IF(E444=\"\",\"\",IF(O444=O443,\"\",CONCATENATE(B444,A444,DIGITADOR!$M$1,C444)))","v":""},null,{"$f":"IF(M444=\"\",\"\",INDEX(REFERENTES!$AB:$AC,MATCH(M444,REFERENTES!$AC:$AC,0),1))","v":""},"",null,440,"",null,null,null,null,null,null,null,null,null,null,null,null,null,null,null,null,null,null,null,null,{"$f":"IF(AL444<>\"\",VLOOKUP(AL444,#REF!,2,FALSE),\"\")","v":""},null,null,null,{"$f":"IF(AP444<>\"\",VLOOKUP(AP444,#REF!,2,TRUE),\"\")","v":""},null,{"$f":"IF(AR444<>\"\",VLOOKUP(AR444,#REF!,2,FALSE),\"\")","v":""},null,null,null,{"$f":"IF(AT444=\"\",\"\",INDEX(REFERENTES!$A:$B,MATCH(AT444,REFERENTES!$A:$A,0),2))","v":""},null,{"$f":"IF(AX444=\"\",\"\",INDEX(REFERENTES!M:O,MATCH(AX444,REFERENTES!M:M,0),3))","v":""}]
["30001212000000",{"$f":"DIGITADOR!$B$2","v":""},0,{"$f":"IF(E445<>\"\",CONCATENATE(B445,A445,DIGITADOR!$M$1,C445),\"\")","v":""},null,null,"","","",null,{"$f":"IF(J445=\"\",\"\",INDEX(REFERENTES!$V:$W,MATCH(J445,REFERENTES!$W:$W,0),1))","v":""},{"$f":"IF(E445=\"\",\"\",IF(O445=O444,\"\",CONCATENATE(B445,A445,DIGITADOR!$M$1,C445)))","v":""},null,{"$f":"IF(M445=\"\",\"\",INDEX(REFERENTES!$AB:$AC,MATCH(M445,REFERENTES!$AC:$AC,0),1))","v":""},"",null,441,"",null,null,null,null,null,null,null,null,null,null,null,null,null,null,null,null,null,null,null,null,{"$f":"IF(AL445<>\"\",VLOOKUP(AL445,#REF!,2,FALSE),\"\")","v":""},null,null,null,{"$f":"IF(AP445<>\"\",VLOOKUP(AP445,#REF!,2,TRUE),\"\")","v":""},null,{"$f":"IF(AR445<>\"\",VLOOKUP(AR445,#REF!,2,FALSE),\"\")","v":""},null,null,null,{"$f":"IF(AT445=\"\",\"\",INDEX(REFERENTES!$A:$B,MATCH(AT445,REFERENTES!$A:$A,0),2))","v":""},null,{"$f":"IF(AX445=\"\",\"\",INDEX(REFERENTES!M:O,MATCH(AX445,REFERENTES!M:M,0),3))","v":""}]
["30001212000000",{"$f":"DIGITADOR!$B$2","v":""},0,{"$f":"IF(E446<>\"\",CONCATENATE(B446,A446,DIGITADOR!$M$1,C446),\"\")","v":""},null,null,"","","",null,{"$f":"IF(J446=\"\",\"\",INDEX(REFERENTES!$V:$W,MATCH(J446,REFERENTES!$W:$W,0),1))","v":""},{"$f":"IF(E446=\"\",\"\",IF(O446=O445,\"\",CONCATENATE(B446,A446,DIGITADOR!$M$1,C446)))","v":""},null,{"$f":"IF(M446=\"\",\"\",INDEX(REFERENTES!$AB:$AC,MATCH(M446,REFERENTES!$AC:$AC,0),1))","v":""},"",null,442,"",null,null,null,null,null,null,null,null,null,null,null,null,null,null,null,null,null,null,null,null,{"$f":"IF(AL446<>\"\",VLOOKUP(AL446,#REF!,2,FALSE),\"\")","v":""},null,null,null,{"$f":"IF(AP446<>\"\",VLOOKUP(AP446,#REF!,2,TRUE),\"\")","v":""},null,{"$f":"IF(AR446<>\"\",VLOOKUP(AR446,#REF!,2,FALSE),\"\")","v":""},null,null,null,{"$f":"IF(AT446=\"\",\"\",INDEX(REFERENTES!$A:$B,MATCH(AT446,REFERENTES!$A:$A,0),2))","v":""},null,{"$f":"IF(AX446=\"\",\"\",INDEX(REFERENTES!M:O,MATCH(AX446,REFERENTES!M:M,0),3))","v":""}]
["30001212000000",{"$f":"DIGITADOR!$B$2","v":""},0,{"$f":"IF(E447<>\"\",CONCATENATE(B447,A447,DIGITADOR!$M$1,C447),\"\")","v":""},null,null,"","","",null,{"$f":"IF(J447=\"\",\"\",INDEX(REFERENTES!$V:$W,MATCH(J447,REFERENTES!$W:$W,0),1))","v":""},{"$f":"IF(E447=\"\",\"\",IF(O447=O446,\"\",CONCATENATE(B447,A447,DIGITADOR!$M$1,C447)))","v":""},null,{"$f":"IF(M447=\"\",\"\",INDEX(REFERENTES!$AB:$AC,MATCH(M447,REFERENTES!$AC:$AC,0),1))","v":""},"",null,443,"",null,null,null,null,null,null,null,null,null,null,null,null,null,null,null,null,null,null,null,null,{"$f":"IF(AL447<>\"\",VLOOKUP(AL447,#REF!,2,FALSE),\"\")","v":""},null,null,null,{"$f":"IF(AP447<>\"\",VLOOKUP(AP447,#REF!,2,TRUE),\"\")","v":""},null,{"$f":"IF(AR447<>\"\",VLOOKUP(AR447,#REF!,2,FALSE),\"\")","v":""},null,null,null,{"$f":"IF(AT447=\"\",\"\",INDEX(REFERENTES!$A:$B,MATCH(AT447,REFERENTES!$A:$A,0),2))","v":""},null,{"$f":"IF(AX447=\"\",\"\",INDEX(REFERENTES!M:O,MATCH(AX447,REFERENTES!M:M,0),3))","v":""}]
["30001212000000",{"$f":"DIGITADOR!$B$2","v":""},0,{"$f":"IF(E448<>\"\",CONCATENATE(B448,A448,DIGITADOR!$M$1,C448),\"\")","v":""},null,null,"","","",null,{"$f":"IF(J448=\"\",\"\",INDEX(REFERENTES!$V:$W,MATCH(J448,REFERENTES!$W:$W,0),1))","v":""},{"$f":"IF(E448=\"\",\"\",IF(O448=O447,\"\",CONCATENATE(B448,A448,DIGITADOR!$M$1,C448)))","v":""},null,{"$f":"IF(M448=\"\",\"\",INDEX(REFERENTES!$AB:$AC,MATCH(M448,REFERENTES!$AC:$AC,0),1))","v":""},"",null,444,"",null,null,null,null,null,null,null,null,null,null,null,null,null,null,null,null,null,null,null,null,{"$f":"IF(AL448<>\"\",VLOOKUP(AL448,#REF!,2,FALSE),\"\")","v":""},null,null,null,{"$f":"IF(AP448<>\"\",VLOOKUP(AP448,#REF!,2,TRUE),\"\")","v":""},null,{"$f":"IF(AR448<>\"\",VLOOKUP(AR448,#REF!,2,FALSE),\"\")","v":""},null,null,null,{"$f":"IF(AT448=\"\",\"\",INDEX(REFERENTES!$A:$B,MATCH(AT448,REFERENTES!$A:$A,0),2))","v":""},null,{"$f":"IF(AX448=\"\",\"\",INDEX(REFERENTES!M:O,MATCH(AX448,REFERENTES!M:M,0),3))","v":""}]
["30001212000000",{"$f":"DIGITADOR!$B$2","v":""},0,{"$f":"IF(E449<>\"\",CONCATENATE(B449,A449,DIGITADOR!$M$1,C449),\"\")","v":""},null,null,"","","",null,{"$f":"IF(J449=\"\",\"\",INDEX(REFERENTES!$V:$W,MATCH(J449,REFERENTES!$W:$W,0),1))","v":""},{"$f":"IF(E449=\"\",\"\",IF(O449=O448,\"\",CONCATENATE(B449,A449,DIGITADOR!$M$1,C449)))","v":""},null,{"$f":"IF(M449=\"\",\"\",INDEX(REFERENTES!$AB:$AC,MATCH(M449,REFERENTES!$AC:$AC,0),1))","v":""},"",null,445,"",null,null,null,null,null,null,null,null,null,null,null,null,null,null,null,null,null,null,null,null,{"$f":"IF(AL449<>\"\",VLOOKUP(AL449,#REF!,2,FALSE),\"\")","v":""},null,null,null,{"$f":"IF(AP449<>\"\",VLOOKUP(AP449,#REF!,2,TRUE),\"\")","v":""},null,{"$f":"IF(AR449<>\"\",VLOOKUP(AR449,#REF!,2,FALSE),\"\")","v":""},null,null,null,{"$f":"IF(AT449=\"\",\"\",INDEX(REFERENTES!$A:$B,MATCH(AT449,REFERENTES!$A:$A,0),2))","v":""},null,{"$f":"IF(AX449=\"\",\"\",INDEX(REFERENTES!M:O,MATCH(AX449,REFERENTES!M:M,0),3))","v":""}]
["30001212000000",{"$f":"DIGITADOR!$B$2","v":""},0,{"$f":"IF(E450<>\"\",CONCATENATE(B450,A450,DIGITADOR!$M$1,C450),\"\")","v":""},null,null,"","","",null,{"$f":"IF(J450=\"\",\"\",INDEX(REFERENTES!$V:$W,MATCH(J450,REFERENTES!$W:$W,0),1))","v":""},{"$f":"IF(E450=\"\",\"\",IF(O450=O449,\"\",CONCATENATE(B450,A450,DIGITADOR!$M$1,C450)))","v":""},null,{"$f":"IF(M450=\"\",\"\",INDEX(REFERENTES!$AB:$AC,MATCH(M450,REFERENTES!$AC:$AC,0),1))","v":""},"",null,446,"",null,null,null,null,null,null,null,null,null,null,null,null,null,null,null,null,null,null,null,null,{"$f":"IF(AL450<>\"\",VLOOKUP(AL450,#REF!,2,FALSE),\"\")","v":""},null,null,null,{"$f":"IF(AP450<>\"\",VLOOKUP(AP450,#REF!,2,TRUE),\"\")","v":""},null,{"$f":"IF(AR450<>\"\",VLOOKUP(AR450,#REF!,2,FALSE),\"\")","v":""},null,null,null,{"$f":"IF(AT450=\"\",\"\",INDEX(REFERENTES!$A:$B,MATCH(AT450,REFERENTES!$A:$A,0),2))","v":""},null,{"$f":"IF(AX450=\"\",\"\",INDEX(REFERENTES!M:O,MATCH(AX450,REFERENTES!M:M,0),3))","v":""}]
["30001212000000",{"$f":"DIGITADOR!$B$2","v":""},0,{"$f":"IF(E451<>\"\",CONCATENATE(B451,A451,DIGITADOR!$M$1,C451),\"\")","v":""},null,null,"","","",null,{"$f":"IF(J451=\"\",\"\",INDEX(REFERENTES!$V:$W,MATCH(J451,REFERENTES!$W:$W,0),1))","v":""},{"$f":"IF(E451=\"\",\"\",IF(O451=O450,\"\",CONCATENATE(B451,A451,DIGITADOR!$M$1,C451)))","v":""},null,{"$f":"IF(M451=\"\",\"\",INDEX(REFERENTES!$AB:$AC,MATCH(M451,REFERENTES!$AC:$AC,0),1))","v":""},"",null,447,"",null,null,null,null,null,null,null,null,null,null,null,null,null,null,null,null,null,null,null,null,{"$f":"IF(AL451<>\"\",VLOOKUP(AL451,#REF!,2,FALSE),\"\")","v":""},null,null,null,{"$f":"IF(AP451<>\"\",VLOOKUP(AP451,#REF!,2,TRUE),\"\")","v":""},null,{"$f":"IF(AR451<>\"\",VLOOKUP(AR451,#REF!,2,FALSE),\"\")","v":""},null,null,null,{"$f":"IF(AT451=\"\",\"\",INDEX(REFERENTES!$A:$B,MATCH(AT451,REFERENTES!$A:$A,0),2))","v":""},null,{"$f":"IF(AX451=\"\",\"\",INDEX(REFERENTES!M:O,MATCH(AX451,REFERENTES!M:M,0),3))","v":""}]
["30001212000000",{"$f":"DIGITADOR!$B$2","v":""},0,{"$f":"IF(E452<>\"\",CONCATENATE(B452,A452,DIGITADOR!$M$1,C452),\"\")","v":""},null,null,"","","",null,{"$f":"IF(J452=\"\",\"\",INDEX(REFERENTES!$V:$W,MATCH(J452,REFERENTES!$W:$W,0),1))","v":""},{"$f":"IF(E452=\"\",\"\",IF(O452=O451,\"\",CONCATENATE(B452,A452,DIGITADOR!$M$1,C452)))","v":""},null,{"$f":"IF(M452=\"\",\"\",INDEX(REFERENTES!$AB:$AC,MATCH(M452,REFERENTES!$AC:$AC,0),1))","v":""},"",null,448,"",null,null,null,null,null,null,null,null,null,null,null,null,null,null,null,null,null,null,null,null,{"$f":"IF(AL452<>\"\",VLOOKUP(AL452,#REF!,2,FALSE),\"\")","v":""},null,null,null,{"$f":"IF(AP452<>\"\",VLOOKUP(AP452,#REF!,2,TRUE),\"\")","v":""},null,{"$f":"IF(AR452<>\"\",VLOOKUP(AR452,#REF!,2,FALSE),\"\")","v":""},null,null,null,{"$f":"IF(AT452=\"\",\"\",INDEX(REFERENTES!$A:$B,MATCH(AT452,REFERENTES!$A:$A,0),2))","v":""},null,{"$f":"IF(AX452=\"\",\"\",INDEX(REFERENTES!M:O,MATCH(AX452,REFERENTES!M:M,0),3))","v":""}]
["30001212000000",{"$f":"DIGITADOR!$B$2","v":""},{"$f":"IF(O453=O452,C452,C452+1)","v":0},{"$f":"IF(E453<>\"\",CONCATENATE(B453,A453,DIGITADOR!$M$1,C453),\"\")","v":""},null,null,"","","",null,{"$f":"IF(J453=\"\",\"\",INDEX(REFERENTES!$V:$W,MATCH(J453,REFERENTES!$W:$W,0),1))","v":""},{"$f":"IF(E453=\"\",\"\",IF(O453=O452,\"\",CONCATENATE(B453,A453,DIGITADOR!$M$1,C453)))","v":""},null,{"$f":"IF(M453=\"\",\"\",INDEX(REFERENTES!$AB:$AC,MATCH(M453,REFERENTES!$AC:$AC,0),1))","v":""},"",null,449,"",null,null,null,null,null,null,null,null,null,null,null,null,null,null,null,null,null,null,null,null,{"$f":"IF(AL453<>\"\",VLOOKUP(AL453,#REF!,2,FALSE),\"\")","v":""},null,null,null,{"$f":"IF(AP453<>\"\",VLOOKUP(AP453,#REF!,2,TRUE),\"\")","v":""},null,{"$f":"IF(AR453<>\"\",VLOOKUP(AR453,#REF!,2,FALSE),\"\")","v":""},null,null,null,{"$f":"IF(AT453=\"\",\"\",INDEX(REFERENTES!$A:$B,MATCH(AT453,REFERENTES!$A:$A,0),2))","v":""},null,{"$f":"IF(AX453=\"\",\"\",INDEX(REFERENTES!M:O,MATCH(AX453,REFERENTES!M:M,0),3))","v":""}]
[{"$f":"A453","v":"30001212000000"},{"$f":"DIGITADOR!$B$2","v":""},0,{"$f":"IF(E454<>\"\",CONCATENATE(B454,A454,DIGITADOR!$M$1,C454),\"\")","v":""},null,null,{"$f":"IF(E454=\"\",\"\",E454+F454)","v":""},"",{"$f":"IF(M454=\"\",\"\",1)","v":""},null,{"$f":"IF(J454=\"\",\"\",INDEX(REFERENTES!$V:$W,MATCH(J454,REFERENTES!$W:$W,0),1))","v":""},{"$f":"IF(E454=\"\",\"\",IF(O454=O453,\"\",CONCATENATE(B454,A454,DIGITADOR!$M$1,C454)))","v":""},null,{"$f":"IF(M454=\"\",\"\",INDEX(REFERENTES!$AB:$AC,MATCH(M454,REFERENTES!$AC:$AC,0),1))","v":""},{"$f":"IF(M454=\"\",\"\",CONCATENATE(G454,K454,N454,1))","v":""},null,450,{"$f":"IF(D454=\"\",\"\",CONCATENATE(D454,Q454))","v":""},null,null,null,null,null,null,null,null,null,null,null,null,null,null,null,null,null,null,null,null,{"$f":"IF(AL454<>\"\",VLOOKUP(AL454,#REF!,2,FALSE),\"\")","v":""},null,null,null,{"$f":"IF(AP454<>\"\",VLOOKUP(AP454,#REF!,2,TRUE),\"\")","v":""},null,{"$f":"IF(AR454<>\"\",VLOOKUP(AR454,#REF!,2,FALSE),\"\")","v":""},null,null,null,{"$f":"IF(AT454=\"\",\"\",INDEX(REFERENTES!$A:$B,MATCH(AT454,REFERENTES!$A:$A,0),2))","v":""},null,{"$f":"IF(AX454=\"\",\"\",INDEX(REFERENTES!M:O,MATCH(AX454,REFERENTES!M:M,0),3))","v":""}]
["30001212000000",{"$f":"DIGITADOR!$B$2","v":""},0,{"$f":"IF(E455<>\"\",CONCATENATE(B455,A455,DIGITADOR!$M$1,C455),\"\")","v":""},null,null,"","","",null,{"$f":"IF(J455=\"\",\"\",INDEX(REFERENTES!$V:$W,MATCH(J455,REFERENTES!$W:$W,0),1))","v":""},{"$f":"IF(E455=\"\",\"\",IF(O455=O454,\"\",CONCATENATE(B455,A455,DIGITADOR!$M$1,C455)))","v":""},null,{"$f":"IF(M455=\"\",\"\",INDEX(REFERENTES!$AB:$AC,MATCH(M455,REFERENTES!$AC:$AC,0),1))","v":""},"",null,451,"",null,null,null,null,null,null,null,null,null,null,null,null,null,null,null,null,null,null,null,null,{"$f":"IF(AL455<>\"\",VLOOKUP(AL455,#REF!,2,FALSE),\"\")","v":""},null,null,null,{"$f":"IF(AP455<>\"\",VLOOKUP(AP455,#REF!,2,TRUE),\"\")","v":""},null,{"$f":"IF(AR455<>\"\",VLOOKUP(AR455,#REF!,2,FALSE),\"\")","v":""},null,null,null,{"$f":"IF(AT455=\"\",\"\",INDEX(REFERENTES!$A:$B,MATCH(AT455,REFERENTES!$A:$A,0),2))","v":""},null,{"$f":"IF(AX455=\"\",\"\",INDEX(REFERENTES!M:O,MATCH(AX455,REFERENTES!M:M,0),3))","v":""}]
["30001212000000",{"$f":"DIGITADOR!$B$2","v":""},0,{"$f":"IF(E456<>\"\",CONCATENATE(B456,A456,DIGITADOR!$M$1,C456),\"\")","v":""},null,null,"","","",null,{"$f":"IF(J456=\"\",\"\",INDEX(REFERENTES!$V:$W,MATCH(J456,REFERENTES!$W:$W,0),1))","v":""},{"$f":"IF(E456=\"\",\"\",IF(O456=O455,\"\",CONCATENATE(B456,A456,DIGITADOR!$M$1,C456)))","v":""},null,{"$f":"IF(M456=\"\",\"\",INDEX(REFERENTES!$AB:$AC,MATCH(M456,REFERENTES!$AC:$AC,0),1))","v":""},"",null,452,"",null,null,null,null,null,null,null,null,null,null,null,null,null,null,null,null,null,null,null,null,{"$f":"IF(AL456<>\"\",VLOOKUP(AL456,#REF!,2,FALSE),\"\")","v":""},null,null,null,{"$f":"IF(AP456<>\"\",VLOOKUP(AP456,#REF!,2,TRUE),\"\")","v":""},null,{"$f":"IF(AR456<>\"\",VLOOKUP(AR456,#REF!,2,FALSE),\"\")","v":""},null,null,null,{"$f":"IF(AT456=\"\",\"\",INDEX(REFERENTES!$A:$B,MATCH(AT456,REFERENTES!$A:$A,0),2))","v":""},null,{"$f":"IF(AX456=\"\",\"\",INDEX(REFERENTES!M:O,MATCH(AX456,REFERENTES!M:M,0),3))","v":""}]
["30001212000000",{"$f":"DIGITADOR!$B$2","v":""},0,{"$f":"IF(E457<>\"\",CONCATENATE(B457,A457,DIGITADOR!$M$1,C457),\"\")","v":""},null,null,"","","",null,{"$f":"IF(J457=\"\",\"\",INDEX(REFERENTES!$V:$W,MATCH(J457,REFERENTES!$W:$W,0),1))","v":""},{"$f":"IF(E457=\"\",\"\",IF(O457=O456,\"\",CONCATENATE(B457,A457,DIGITADOR!$M$1,C457)))","v":""},null,{"$f":"IF(M457=\"\",\"\",INDEX(REFERENTES!$AB:$AC,MATCH(M457,REFERENTES!$AC:$AC,0),1))","v":""},"",null,453,"",null,null,null,null,null,null,null,null,null,null,null,null,null,null,null,null,null,null,null,null,{"$f":"IF(AL457<>\"\",VLOOKUP(AL457,#REF!,2,FALSE),\"\")","v":""},null,null,null,{"$f":"IF(AP457<>\"\",VLOOKUP(AP457,#REF!,2,TRUE),\"\")","v":""},null,{"$f":"IF(AR457<>\"\",VLOOKUP(AR457,#REF!,2,FALSE),\"\")","v":""},null,null,null,{"$f":"IF(AT457=\"\",\"\",INDEX(REFERENTES!$A:$B,MATCH(AT457,REFERENTES!$A:$A,0),2))","v":""},null,{"$f":"IF(AX457=\"\",\"\",INDEX(REFERENTES!M:O,MATCH(AX457,REFERENTES!M:M,0),3))","v":""}]
["30001212000000",{"$f":"DIGITADOR!$B$2","v":""},0,{"$f":"IF(E458<>\"\",CONCATENATE(B458,A458,DIGITADOR!$M$1,C458),\"\")","v":""},null,null,"","","",null,{"$f":"IF(J458=\"\",\"\",INDEX(REFERENTES!$V:$W,MATCH(J458,REFERENTES!$W:$W,0),1))","v":""},{"$f":"IF(E458=\"\",\"\",IF(O458=O457,\"\",CONCATENATE(B458,A458,DIGITADOR!$M$1,C458)))","v":""},null,{"$f":"IF(M458=\"\",\"\",INDEX(REFERENTES!$AB:$AC,MATCH(M458,REFERENTES!$AC:$AC,0),1))","v":""},"",null,454,"",null,null,null,null,null,null,null,null,null,null,null,null,null,null,null,null,null,null,null,null,{"$f":"IF(AL458<>\"\",VLOOKUP(AL458,#REF!,2,FALSE),\"\")","v":""},null,null,null,{"$f":"IF(AP458<>\"\",VLOOKUP(AP458,#REF!,2,TRUE),\"\")","v":""},null,{"$f":"IF(AR458<>\"\",VLOOKUP(AR458,#REF!,2,FALSE),\"\")","v":""},null,null,null,{"$f":"IF(AT458=\"\",\"\",INDEX(REFERENTES!$A:$B,MATCH(AT458,REFERENTES!$A:$A,0),2))","v":""},null,{"$f":"IF(AX458=\"\",\"\",INDEX(REFERENTES!M:O,MATCH(AX458,REFERENTES!M:M,0),3))","v":""}]
["30001212000000",{"$f":"DIGITADOR!$B$2","v":""},0,{"$f":"IF(E459<>\"\",CONCATENATE(B459,A459,DIGITADOR!$M$1,C459),\"\")","v":""},null,null,"","","",null,{"$f":"IF(J459=\"\",\"\",INDEX(REFERENTES!$V:$W,MATCH(J459,REFERENTES!$W:$W,0),1))","v":""},{"$f":"IF(E459=\"\",\"\",IF(O459=O458,\"\",CONCATENATE(B459,A459,DIGITADOR!$M$1,C459)))","v":""},null,{"$f":"IF(M459=\"\",\"\",INDEX(REFERENTES!$AB:$AC,MATCH(M459,REFERENTES!$AC:$AC,0),1))","v":""},"",null,455,"",null,null,null,null,null,null,null,null,null,null,null,null,null,null,null,null,null,null,null,null,{"$f":"IF(AL459<>\"\",VLOOKUP(AL459,#REF!,2,FALSE),\"\")","v":""},null,null,null,{"$f":"IF(AP459<>\"\",VLOOKUP(AP459,#REF!,2,TRUE),\"\")","v":""},null,{"$f":"IF(AR459<>\"\",VLOOKUP(AR459,#REF!,2,FALSE),\"\")","v":""},null,null,null,{"$f":"IF(AT459=\"\",\"\",INDEX(REFERENTES!$A:$B,MATCH(AT459,REFERENTES!$A:$A,0),2))","v":""},null,{"$f":"IF(AX459=\"\",\"\",INDEX(REFERENTES!M:O,MATCH(AX459,REFERENTES!M:M,0),3))","v":""}]
["30001212000000",{"$f":"DIGITADOR!$B$2","v":""},0,{"$f":"IF(E460<>\"\",CONCATENATE(B460,A460,DIGITADOR!$M$1,C460),\"\")","v":""},null,null,"","","",null,{"$f":"IF(J460=\"\",\"\",INDEX(REFERENTES!$V:$W,MATCH(J460,REFERENTES!$W:$W,0),1))","v":""},{"$f":"IF(E460=\"\",\"\",IF(O460=O459,\"\",CONCATENATE(B460,A460,DIGITADOR!$M$1,C460)))","v":""},null,{"$f":"IF(M460=\"\",\"\",INDEX(REFERENTES!$AB:$AC,MATCH(M460,REFERENTES!$AC:$AC,0),1))","v":""},"",null,456,"",null,null,null,null,null,null,null,null,null,null,null,null,null,null,null,null,null,null,null,null,{"$f":"IF(AL460<>\"\",VLOOKUP(AL460,#REF!,2,FALSE),\"\")","v":""},null,null,null,{"$f":"IF(AP460<>\"\",VLOOKUP(AP460,#REF!,2,TRUE),\"\")","v":""},null,{"$f":"IF(AR460<>\"\",VLOOKUP(AR460,#REF!,2,FALSE),\"\")","v":""},null,null,null,{"$f":"IF(AT460=\"\",\"\",INDEX(REFERENTES!$A:$B,MATCH(AT460,REFERENTES!$A:$A,0),2))","v":""},null,{"$f":"IF(AX460=\"\",\"\",INDEX(REFERENTES!M:O,MATCH(AX460,REFERENTES!M:M,0),3))","v":""}]
["30001212000000",{"$f":"DIGITADOR!$B$2","v":""},0,{"$f":"IF(E461<>\"\",CONCATENATE(B461,A461,DIGITADOR!$M$1,C461),\"\")","v":""},null,null,"","","",null,{"$f":"IF(J461=\"\",\"\",INDEX(REFERENTES!$V:$W,MATCH(J461,REFERENTES!$W:$W,0),1))","v":""},{"$f":"IF(E461=\"\",\"\",IF(O461=O460,\"\",CONCATENATE(B461,A461,DIGITADOR!$M$1,C461)))","v":""},null,{"$f":"IF(M461=\"\",\"\",INDEX(REFERENTES!$AB:$AC,MATCH(M461,REFERENTES!$AC:$AC,0),1))","v":""},"",null,457,"",null,null,null,null,null,null,null,null,null,null,null,null,null,null,null,null,null,null,null,null,{"$f":"IF(AL461<>\"\",VLOOKUP(AL461,#REF!,2,FALSE),\"\")","v":""},null,null,null,{"$f":"IF(AP461<>\"\",VLOOKUP(AP461,#REF!,2,TRUE),\"\")","v":""},null,{"$f":"IF(AR461<>\"\",VLOOKUP(AR461,#REF!,2,FALSE),\"\")","v":""},null,null,null,{"$f":"IF(AT461=\"\",\"\",INDEX(REFERENTES!$A:$B,MATCH(AT461,REFERENTES!$A:$A,0),2))","v":""},null,{"$f":"IF(AX461=\"\",\"\",INDEX(REFERENTES!M:O,MATCH(AX461,REFERENTES!M:M,0),3))","v":""}]
["30001212000000",{"$f":"DIGITADOR!$B$2","v":""},0,{"$f":"IF(E462<>\"\",CONCATENATE(B462,A462,DIGITADOR!$M$1,C462),\"\")","v":""},null,null,"","","",null,{"$f":"IF(J462=\"\",\"\",INDEX(REFERENTES!$V:$W,MATCH(J462,REFERENTES!$W:$W,0),1))","v":""},{"$f":"IF(E462=\"\",\"\",IF(O462=O461,\"\",CONCATENATE(B462,A462,DIGITADOR!$M$1,C462)))","v":""},null,{"$f":"IF(M462=\"\",\"\",INDEX(REFERENTES!$AB:$AC,MATCH(M462,REFERENTES!$AC:$AC,0),1))","v":""},"",null,458,"",null,null,null,null,null,null,null,null,null,null,null,null,null,null,null,null,null,null,null,null,{"$f":"IF(AL462<>\"\",VLOOKUP(AL462,#REF!,2,FALSE),\"\")","v":""},null,null,null,{"$f":"IF(AP462<>\"\",VLOOKUP(AP462,#REF!,2,TRUE),\"\")","v":""},null,{"$f":"IF(AR462<>\"\",VLOOKUP(AR462,#REF!,2,FALSE),\"\")","v":""},null,null,null,{"$f":"IF(AT462=\"\",\"\",INDEX(REFERENTES!$A:$B,MATCH(AT462,REFERENTES!$A:$A,0),2))","v":""},null,{"$f":"IF(AX462=\"\",\"\",INDEX(REFERENTES!M:O,MATCH(AX462,REFERENTES!M:M,0),3))","v":""}]
["30001212000000",{"$f":"DIGITADOR!$B$2","v":""},0,{"$f":"IF(E463<>\"\",CONCATENATE(B463,A463,DIGITADOR!$M$1,C463),\"\")","v":""},null,null,"","","",null,{"$f":"IF(J463=\"\",\"\",INDEX(REFERENTES!$V:$W,MATCH(J463,REFERENTES!$W:$W,0),1))","v":""},{"$f":"IF(E463=\"\",\"\",IF(O463=O462,\"\",CONCATENATE(B463,A463,DIGITADOR!$M$1,C463)))","v":""},null,{"$f":"IF(M463=\"\",\"\",INDEX(REFERENTES!$AB:$AC,MATCH(M463,REFERENTES!$AC:$AC,0),1))","v":""},"",null,459,"",null,null,null,null,null,null,null,null,null,null,null,null,null,null,null,null,null,null,null,null,{"$f":"IF(AL463<>\"\",VLOOKUP(AL463,#REF!,2,FALSE),\"\")","v":""},null,null,null,{"$f":"IF(AP463<>\"\",VLOOKUP(AP463,#REF!,2,TRUE),\"\")","v":""},null,{"$f":"IF(AR463<>\"\",VLOOKUP(AR463,#REF!,2,FALSE),\"\")","v":""},null,null,null,{"$f":"IF(AT463=\"\",\"\",INDEX(REFERENTES!$A:$B,MATCH(AT463,REFERENTES!$A:$A,0),2))","v":""},null,{"$f":"IF(AX463=\"\",\"\",INDEX(REFERENTES!M:O,MATCH(AX463,REFERENTES!M:M,0),3))","v":""}]
["30001212000000",{"$f":"DIGITADOR!$B$2","v":""},0,{"$f":"IF(E464<>\"\",CONCATENATE(B464,A464,DIGITADOR!$M$1,C464),\"\")","v":""},null,null,"","","",null,{"$f":"IF(J464=\"\",\"\",INDEX(REFERENTES!$V:$W,MATCH(J464,REFERENTES!$W:$W,0),1))","v":""},{"$f":"IF(E464=\"\",\"\",IF(O464=O463,\"\",CONCATENATE(B464,A464,DIGITADOR!$M$1,C464)))","v":""},null,{"$f":"IF(M464=\"\",\"\",INDEX(REFERENTES!$AB:$AC,MATCH(M464,REFERENTES!$AC:$AC,0),1))","v":""},"",null,460,"",null,null,null,null,null,null,null,null,null,null,null,null,null,null,null,null,null,null,null,null,{"$f":"IF(AL464<>\"\",VLOOKUP(AL464,#REF!,2,FALSE),\"\")","v":""},null,null,null,{"$f":"IF(AP464<>\"\",VLOOKUP(AP464,#REF!,2,TRUE),\"\")","v":""},null,{"$f":"IF(AR464<>\"\",VLOOKUP(AR464,#REF!,2,FALSE),\"\")","v":""},null,null,null,{"$f":"IF(AT464=\"\",\"\",INDEX(REFERENTES!$A:$B,MATCH(AT464,REFERENTES!$A:$A,0),2))","v":""},null,{"$f":"IF(AX464=\"\",\"\",INDEX(REFERENTES!M:O,MATCH(AX464,REFERENTES!M:M,0),3))","v":""}]
["30001212000000",{"$f":"DIGITADOR!$B$2","v":""},0,{"$f":"IF(E465<>\"\",CONCATENATE(B465,A465,DIGITADOR!$M$1,C465),\"\")","v":""},null,null,"","","",null,{"$f":"IF(J465=\"\",\"\",INDEX(REFERENTES!$V:$W,MATCH(J465,REFERENTES!$W:$W,0),1))","v":""},{"$f":"IF(E465=\"\",\"\",IF(O465=O464,\"\",CONCATENATE(B465,A465,DIGITADOR!$M$1,C465)))","v":""},null,{"$f":"IF(M465=\"\",\"\",INDEX(REFERENTES!$AB:$AC,MATCH(M465,REFERENTES!$AC:$AC,0),1))","v":""},"",null,461,"",null,null,null,null,null,null,null,null,null,null,null,null,null,null,null,null,null,null,null,null,{"$f":"IF(AL465<>\"\",VLOOKUP(AL465,#REF!,2,FALSE),\"\")","v":""},null,null,null,{"$f":"IF(AP465<>\"\",VLOOKUP(AP465,#REF!,2,TRUE),\"\")","v":""},null,{"$f":"IF(AR465<>\"\",VLOOKUP(AR465,#REF!,2,FALSE),\"\")","v":""},null,null,null,{"$f":"IF(AT465=\"\",\"\",INDEX(REFERENTES!$A:$B,MATCH(AT465,REFERENTES!$A:$A,0),2))","v":""},null,{"$f":"IF(AX465=\"\",\"\",INDEX(REFERENTES!M:O,MATCH(AX465,REFERENTES!M:M,0),3))","v":""}]
["30001212000000",{"$f":"DIGITADOR!$B$2","v":""},0,{"$f":"IF(E466<>\"\",CONCATENATE(B466,A466,DIGITADOR!$M$1,C466),\"\")","v":""},null,null,"","","",null,{"$f":"IF(J466=\"\",\"\",INDEX(REFERENTES!$V:$W,MATCH(J466,REFERENTES!$W:$W,0),1))","v":""},{"$f":"IF(E466=\"\",\"\",IF(O466=O465,\"\",CONCATENATE(B466,A466,DIGITADOR!$M$1,C466)))","v":""},null,{"$f":"IF(M466=\"\",\"\",INDEX(REFERENTES!$AB:$AC,MATCH(M466,REFERENTES!$AC:$AC,0),1))","v":""},"",null,462,"",null,null,null,null,null,null,null,null,null,null,null,null,null,null,null,null,null,null,null,null,{"$f":"IF(AL466<>\"\",VLOOKUP(AL466,#REF!,2,FALSE),\"\")","v":""},null,null,null,{"$f":"IF(AP466<>\"\",VLOOKUP(AP466,#REF!,2,TRUE),\"\")","v":""},null,{"$f":"IF(AR466<>\"\",VLOOKUP(AR466,#REF!,2,FALSE),\"\")","v":""},null,null,null,{"$f":"IF(AT466=\"\",\"\",INDEX(REFERENTES!$A:$B,MATCH(AT466,REFERENTES!$A:$A,0),2))","v":""},null,{"$f":"IF(AX466=\"\",\"\",INDEX(REFERENTES!M:O,MATCH(AX466,REFERENTES!M:M,0),3))","v":""}]
["30001212000000",{"$f":"DIGITADOR!$B$2","v":""},0,{"$f":"IF(E467<>\"\",CONCATENATE(B467,A467,DIGITADOR!$M$1,C467),\"\")","v":""},null,null,"","","",null,{"$f":"IF(J467=\"\",\"\",INDEX(REFERENTES!$V:$W,MATCH(J467,REFERENTES!$W:$W,0),1))","v":""},{"$f":"IF(E467=\"\",\"\",IF(O467=O466,\"\",CONCATENATE(B467,A467,DIGITADOR!$M$1,C467)))","v":""},null,{"$f":"IF(M467=\"\",\"\",INDEX(REFERENTES!$AB:$AC,MATCH(M467,REFERENTES!$AC:$AC,0),1))","v":""},"",null,463,"",null,null,null,null,null,null,null,null,null,null,null,null,null,null,null,null,null,null,null,null,{"$f":"IF(AL467<>\"\",VLOOKUP(AL467,#REF!,2,FALSE),\"\")","v":""},null,null,null,{"$f":"IF(AP467<>\"\",VLOOKUP(AP467,#REF!,2,TRUE),\"\")","v":""},null,{"$f":"IF(AR467<>\"\",VLOOKUP(AR467,#REF!,2,FALSE),\"\")","v":""},null,null,null,{"$f":"IF(AT467=\"\",\"\",INDEX(REFERENTES!$A:$B,MATCH(AT467,REFERENTES!$A:$A,0),2))","v":""},null,{"$f":"IF(AX467=\"\",\"\",INDEX(REFERENTES!M:O,MATCH(AX467,REFERENTES!M:M,0),3))","v":""}]
["30001212000000",{"$f":"DIGITADOR!$B$2","v":""},0,{"$f":"IF(E468<>\"\",CONCATENATE(B468,A468,DIGITADOR!$M$1,C468),\"\")","v":""},null,null,"","","",null,{"$f":"IF(J468=\"\",\"\",INDEX(REFERENTES!$V:$W,MATCH(J468,REFERENTES!$W:$W,0),1))","v":""},{"$f":"IF(E468=\"\",\"\",IF(O468=O467,\"\",CONCATENATE(B468,A468,DIGITADOR!$M$1,C468)))","v":""},null,{"$f":"IF(M468=\"\",\"\",INDEX(REFERENTES!$AB:$AC,MATCH(M468,REFERENTES!$AC:$AC,0),1))","v":""},"",null,464,"",null,null,null,null,null,null,null,null,null,null,null,null,null,null,null,null,null,null,null,null,{"$f":"IF(AL468<>\"\",VLOOKUP(AL468,#REF!,2,FALSE),\"\")","v":""},null,null,null,{"$f":"IF(AP468<>\"\",VLOOKUP(AP468,#REF!,2,TRUE),\"\")","v":""},null,{"$f":"IF(AR468<>\"\",VLOOKUP(AR468,#REF!,2,FALSE),\"\")","v":""},null,null,null,{"$f":"IF(AT468=\"\",\"\",INDEX(REFERENTES!$A:$B,MATCH(AT468,REFERENTES!$A:$A,0),2))","v":""},null,{"$f":"IF(AX468=\"\",\"\",INDEX(REFERENTES!M:O,MATCH(AX468,REFERENTES!M:M,0),3))","v":""}]
["30001212000000",{"$f":"DIGITADOR!$B$2","v":""},0,{"$f":"IF(E469<>\"\",CONCATENATE(B469,A469,DIGITADOR!$M$1,C469),\"\")","v":""},null,null,"","","",null,{"$f":"IF(J469=\"\",\"\",INDEX(REFERENTES!$V:$W,MATCH(J469,REFERENTES!$W:$W,0),1))","v":""},{"$f":"IF(E469=\"\",\"\",IF(O469=O468,\"\",CONCATENATE(B469,A469,DIGITADOR!$M$1,C469)))","v":""},null,{"$f":"IF(M469=\"\",\"\",INDEX(REFERENTES!$AB:$AC,MATCH(M469,REFERENTES!$AC:$AC,0),1))","v":""},"",null,465,"",null,null,null,null,null,null,null,null,null,null,null,null,null,null,null,null,null,null,null,null,{"$f":"IF(AL469<>\"\",VLOOKUP(AL469,#REF!,2,FALSE),\"\")","v":""},null,null,null,{"$f":"IF(AP469<>\"\",VLOOKUP(AP469,#REF!,2,TRUE),\"\")","v":""},null,{"$f":"IF(AR469<>\"\",VLOOKUP(AR469,#REF!,2,FALSE),\"\")","v":""},null,null,null,{"$f":"IF(AT469=\"\",\"\",INDEX(REFERENTES!$A:$B,MATCH(AT469,REFERENTES!$A:$A,0),2))","v":""},null,{"$f":"IF(AX469=\"\",\"\",INDEX(REFERENTES!M:O,MATCH(AX469,REFERENTES!M:M,0),3))","v":""}]
["30001212000000",{"$f":"DIGITADOR!$B$2","v":""},0,{"$f":"IF(E470<>\"\",CONCATENATE(B470,A470,DIGITADOR!$M$1,C470),\"\")","v":""},null,null,"","","",null,{"$f":"IF(J470=\"\",\"\",INDEX(REFERENTES!$V:$W,MATCH(J470,REFERENTES!$W:$W,0),1))","v":""},{"$f":"IF(E470=\"\",\"\",IF(O470=O469,\"\",CONCATENATE(B470,A470,DIGITADOR!$M$1,C470)))","v":""},null,{"$f":"IF(M470=\"\",\"\",INDEX(REFERENTES!$AB:$AC,MATCH(M470,REFERENTES!$AC:$AC,0),1))","v":""},"",null,466,"",null,null,null,null,null,null,null,null,null,null,null,null,null,null,null,null,null,null,null,null,{"$f":"IF(AL470<>\"\",VLOOKUP(AL470,#REF!,2,FALSE),\"\")","v":""},null,null,null,{"$f":"IF(AP470<>\"\",VLOOKUP(AP470,#REF!,2,TRUE),\"\")","v":""},null,{"$f":"IF(AR470<>\"\",VLOOKUP(AR470,#REF!,2,FALSE),\"\")","v":""},null,null,null,{"$f":"IF(AT470=\"\",\"\",INDEX(REFERENTES!$A:$B,MATCH(AT470,REFERENTES!$A:$A,0),2))","v":""},null,{"$f":"IF(AX470=\"\",\"\",INDEX(REFERENTES!M:O,MATCH(AX470,REFERENTES!M:M,0),3))","v":""}]
["30001212000000",{"$f":"DIGITADOR!$B$2","v":""},0,{"$f":"IF(E471<>\"\",CONCATENATE(B471,A471,DIGITADOR!$M$1,C471),\"\")","v":""},null,null,"","","",null,{"$f":"IF(J471=\"\",\"\",INDEX(REFERENTES!$V:$W,MATCH(J471,REFERENTES!$W:$W,0),1))","v":""},{"$f":"IF(E471=\"\",\"\",IF(O471=O470,\"\",CONCATENATE(B471,A471,DIGITADOR!$M$1,C471)))","v":""},null,{"$f":"IF(M471=\"\",\"\",INDEX(REFERENTES!$AB:$AC,MATCH(M471,REFERENTES!$AC:$AC,0),1))","v":""},"",null,467,"",null,null,null,null,null,null,null,null,null,null,null,null,null,null,null,null,null,null,null,null,{"$f":"IF(AL471<>\"\",VLOOKUP(AL471,#REF!,2,FALSE),\"\")","v":""},null,null,null,{"$f":"IF(AP471<>\"\",VLOOKUP(AP471,#REF!,2,TRUE),\"\")","v":""},null,{"$f":"IF(AR471<>\"\",VLOOKUP(AR471,#REF!,2,FALSE),\"\")","v":""},null,null,null,{"$f":"IF(AT471=\"\",\"\",INDEX(REFERENTES!$A:$B,MATCH(AT471,REFERENTES!$A:$A,0),2))","v":""},null,{"$f":"IF(AX471=\"\",\"\",INDEX(REFERENTES!M:O,MATCH(AX471,REFERENTES!M:M,0),3))","v":""}]
["30001212000000",{"$f":"DIGITADOR!$B$2","v":""},0,{"$f":"IF(E472<>\"\",CONCATENATE(B472,A472,DIGITADOR!$M$1,C472),\"\")","v":""},null,null,"","","",null,{"$f":"IF(J472=\"\",\"\",INDEX(REFERENTES!$V:$W,MATCH(J472,REFERENTES!$W:$W,0),1))","v":""},{"$f":"IF(E472=\"\",\"\",IF(O472=O471,\"\",CONCATENATE(B472,A472,DIGITADOR!$M$1,C472)))","v":""},null,{"$f":"IF(M472=\"\",\"\",INDEX(REFERENTES!$AB:$AC,MATCH(M472,REFERENTES!$AC:$AC,0),1))","v":""},"",null,468,"",null,null,null,null,null,null,null,null,null,null,null,null,null,null,null,null,null,null,null,null,{"$f":"IF(AL472<>\"\",VLOOKUP(AL472,#REF!,2,FALSE),\"\")","v":""},null,null,null,{"$f":"IF(AP472<>\"\",VLOOKUP(AP472,#REF!,2,TRUE),\"\")","v":""},null,{"$f":"IF(AR472<>\"\",VLOOKUP(AR472,#REF!,2,FALSE),\"\")","v":""},null,null,null,{"$f":"IF(AT472=\"\",\"\",INDEX(REFERENTES!$A:$B,MATCH(AT472,REFERENTES!$A:$A,0),2))","v":""},null,{"$f":"IF(AX472=\"\",\"\",INDEX(REFERENTES!M:O,MATCH(AX472,REFERENTES!M:M,0),3))","v":""}]
["30001212000000",{"$f":"DIGITADOR!$B$2","v":""},0,{"$f":"IF(E473<>\"\",CONCATENATE(B473,A473,DIGITADOR!$M$1,C473),\"\")","v":""},null,null,"","","",null,{"$f":"IF(J473=\"\",\"\",INDEX(REFERENTES!$V:$W,MATCH(J473,REFERENTES!$W:$W,0),1))","v":""},{"$f":"IF(E473=\"\",\"\",IF(O473=O472,\"\",CONCATENATE(B473,A473,DIGITADOR!$M$1,C473)))","v":""},null,{"$f":"IF(M473=\"\",\"\",INDEX(REFERENTES!$AB:$AC,MATCH(M473,REFERENTES!$AC:$AC,0),1))","v":""},"",null,469,"",null,null,null,null,null,null,null,null,null,null,null,null,null,null,null,null,null,null,null,null,{"$f":"IF(AL473<>\"\",VLOOKUP(AL473,#REF!,2,FALSE),\"\")","v":""},null,null,null,{"$f":"IF(AP473<>\"\",VLOOKUP(AP473,#REF!,2,TRUE),\"\")","v":""},null,{"$f":"IF(AR473<>\"\",VLOOKUP(AR473,#REF!,2,FALSE),\"\")","v":""},null,null,null,{"$f":"IF(AT473=\"\",\"\",INDEX(REFERENTES!$A:$B,MATCH(AT473,REFERENTES!$A:$A,0),2))","v":""},null,{"$f":"IF(AX473=\"\",\"\",INDEX(REFERENTES!M:O,MATCH(AX473,REFERENTES!M:M,0),3))","v":""}]
["30001212000000",{"$f":"DIGITADOR!$B$2","v":""},0,{"$f":"IF(E474<>\"\",CONCATENATE(B474,A474,DIGITADOR!$M$1,C474),\"\")","v":""},null,null,"","","",null,{"$f":"IF(J474=\"\",\"\",INDEX(REFERENTES!$V:$W,MATCH(J474,REFERENTES!$W:$W,0),1))","v":""},{"$f":"IF(E474=\"\",\"\",IF(O474=O473,\"\",CONCATENATE(B474,A474,DIGITADOR!$M$1,C474)))","v":""},null,{"$f":"IF(M474=\"\",\"\",INDEX(REFERENTES!$AB:$AC,MATCH(M474,REFERENTES!$AC:$AC,0),1))","v":""},"",null,470,"",null,null,null,null,null,null,null,null,null,null,null,null,null,null,null,null,null,null,null,null,{"$f":"IF(AL474<>\"\",VLOOKUP(AL474,#REF!,2,FALSE),\"\")","v":""},null,null,null,{"$f":"IF(AP474<>\"\",VLOOKUP(AP474,#REF!,2,TRUE),\"\")","v":""},null,{"$f":"IF(AR474<>\"\",VLOOKUP(AR474,#REF!,2,FALSE),\"\")","v":""},null,null,null,{"$f":"IF(AT474=\"\",\"\",INDEX(REFERENTES!$A:$B,MATCH(AT474,REFERENTES!$A:$A,0),2))","v":""},null,{"$f":"IF(AX474=\"\",\"\",INDEX(REFERENTES!M:O,MATCH(AX474,REFERENTES!M:M,0),3))","v":""}]
["30001212000000",{"$f":"DIGITADOR!$B$2","v":""},0,{"$f":"IF(E475<>\"\",CONCATENATE(B475,A475,DIGITADOR!$M$1,C475),\"\")","v":""},null,null,"","","",null,{"$f":"IF(J475=\"\",\"\",INDEX(REFERENTES!$V:$W,MATCH(J475,REFERENTES!$W:$W,0),1))","v":""},{"$f":"IF(E475=\"\",\"\",IF(O475=O474,\"\",CONCATENATE(B475,A475,DIGITADOR!$M$1,C475)))","v":""},null,{"$f":"IF(M475=\"\",\"\",INDEX(REFERENTES!$AB:$AC,MATCH(M475,REFERENTES!$AC:$AC,0),1))","v":""},"",null,471,"",null,null,null,null,null,null,null,null,null,null,null,null,null,null,null,null,null,null,null,null,{"$f":"IF(AL475<>\"\",VLOOKUP(AL475,#REF!,2,FALSE),\"\")","v":""},null,null,null,{"$f":"IF(AP475<>\"\",VLOOKUP(AP475,#REF!,2,TRUE),\"\")","v":""},null,{"$f":"IF(AR475<>\"\",VLOOKUP(AR475,#REF!,2,FALSE),\"\")","v":""},null,null,null,{"$f":"IF(AT475=\"\",\"\",INDEX(REFERENTES!$A:$B,MATCH(AT475,REFERENTES!$A:$A,0),2))","v":""},null,{"$f":"IF(AX475=\"\",\"\",INDEX(REFERENTES!M:O,MATCH(AX475,REFERENTES!M:M,0),3))","v":""}]
["30001212000000",{"$f":"DIGITADOR!$B$2","v":""},0,{"$f":"IF(E476<>\"\",CONCATENATE(B476,A476,DIGITADOR!$M$1,C476),\"\")","v":""},null,null,"","","",null,{"$f":"IF(J476=\"\",\"\",INDEX(REFERENTES!$V:$W,MATCH(J476,REFERENTES!$W:$W,0),1))","v":""},{"$f":"IF(E476=\"\",\"\",IF(O476=O475,\"\",CONCATENATE(B476,A476,DIGITADOR!$M$1,C476)))","v":""},null,{"$f":"IF(M476=\"\",\"\",INDEX(REFERENTES!$AB:$AC,MATCH(M476,REFERENTES!$AC:$AC,0),1))","v":""},"",null,472,"",null,null,null,null,null,null,null,null,null,null,null,null,null,null,null,null,null,null,null,null,{"$f":"IF(AL476<>\"\",VLOOKUP(AL476,#REF!,2,FALSE),\"\")","v":""},null,null,null,{"$f":"IF(AP476<>\"\",VLOOKUP(AP476,#REF!,2,TRUE),\"\")","v":""},null,{"$f":"IF(AR476<>\"\",VLOOKUP(AR476,#REF!,2,FALSE),\"\")","v":""},null,null,null,{"$f":"IF(AT476=\"\",\"\",INDEX(REFERENTES!$A:$B,MATCH(AT476,REFERENTES!$A:$A,0),2))","v":""},null,{"$f":"IF(AX476=\"\",\"\",INDEX(REFERENTES!M:O,MATCH(AX476,REFERENTES!M:M,0),3))","v":""}]
["30001212000000",{"$f":"DIGITADOR!$B$2","v":""},0,{"$f":"IF(E477<>\"\",CONCATENATE(B477,A477,DIGITADOR!$M$1,C477),\"\")","v":""},null,null,"","","",null,{"$f":"IF(J477=\"\",\"\",INDEX(REFERENTES!$V:$W,MATCH(J477,REFERENTES!$W:$W,0),1))","v":""},{"$f":"IF(E477=\"\",\"\",IF(O477=O476,\"\",CONCATENATE(B477,A477,DIGITADOR!$M$1,C477)))","v":""},null,{"$f":"IF(M477=\"\",\"\",INDEX(REFERENTES!$AB:$AC,MATCH(M477,REFERENTES!$AC:$AC,0),1))","v":""},"",null,473,"",null,null,null,null,null,null,null,null,null,null,null,null,null,null,null,null,null,null,null,null,{"$f":"IF(AL477<>\"\",VLOOKUP(AL477,#REF!,2,FALSE),\"\")","v":""},null,null,null,{"$f":"IF(AP477<>\"\",VLOOKUP(AP477,#REF!,2,TRUE),\"\")","v":""},null,{"$f":"IF(AR477<>\"\",VLOOKUP(AR477,#REF!,2,FALSE),\"\")","v":""},null,null,null,{"$f":"IF(AT477=\"\",\"\",INDEX(REFERENTES!$A:$B,MATCH(AT477,REFERENTES!$A:$A,0),2))","v":""},null,{"$f":"IF(AX477=\"\",\"\",INDEX(REFERENTES!M:O,MATCH(AX477,REFERENTES!M:M,0),3))","v":""}]
["30001212000000",{"$f":"DIGITADOR!$B$2","v":""},0,{"$f":"IF(E478<>\"\",CONCATENATE(B478,A478,DIGITADOR!$M$1,C478),\"\")","v":""},null,null,"","","",null,{"$f":"IF(J478=\"\",\"\",INDEX(REFERENTES!$V:$W,MATCH(J478,REFERENTES!$W:$W,0),1))","v":""},{"$f":"IF(E478=\"\",\"\",IF(O478=O477,\"\",CONCATENATE(B478,A478,DIGITADOR!$M$1,C478)))","v":""},null,{"$f":"IF(M478=\"\",\"\",INDEX(REFERENTES!$AB:$AC,MATCH(M478,REFERENTES!$AC:$AC,0),1))","v":""},"",null,474,"",null,null,null,null,null,null,null,null,null,null,null,null,null,null,null,null,null,null,null,null,{"$f":"IF(AL478<>\"\",VLOOKUP(AL478,#REF!,2,FALSE),\"\")","v":""},null,null,null,{"$f":"IF(AP478<>\"\",VLOOKUP(AP478,#REF!,2,TRUE),\"\")","v":""},null,{"$f":"IF(AR478<>\"\",VLOOKUP(AR478,#REF!,2,FALSE),\"\")","v":""},null,null,null,{"$f":"IF(AT478=\"\",\"\",INDEX(REFERENTES!$A:$B,MATCH(AT478,REFERENTES!$A:$A,0),2))","v":""},null,{"$f":"IF(AX478=\"\",\"\",INDEX(REFERENTES!M:O,MATCH(AX478,REFERENTES!M:M,0),3))","v":""}]
["30001212000000",{"$f":"DIGITADOR!$B$2","v":""},0,{"$f":"IF(E479<>\"\",CONCATENATE(B479,A479,DIGITADOR!$M$1,C479),\"\")","v":""},null,null,"","","",null,{"$f":"IF(J479=\"\",\"\",INDEX(REFERENTES!$V:$W,MATCH(J479,REFERENTES!$W:$W,0),1))","v":""},{"$f":"IF(E479=\"\",\"\",IF(O479=O478,\"\",CONCATENATE(B479,A479,DIGITADOR!$M$1,C479)))","v":""},null,{"$f":"IF(M479=\"\",\"\",INDEX(REFERENTES!$AB:$AC,MATCH(M479,REFERENTES!$AC:$AC,0),1))","v":""},"",null,475,"",null,null,null,null,null,null,null,null,null,null,null,null,null,null,null,null,null,null,null,null,{"$f":"IF(AL479<>\"\",VLOOKUP(AL479,#REF!,2,FALSE),\"\")","v":""},null,null,null,{"$f":"IF(AP479<>\"\",VLOOKUP(AP479,#REF!,2,TRUE),\"\")","v":""},null,{"$f":"IF(AR479<>\"\",VLOOKUP(AR479,#REF!,2,FALSE),\"\")","v":""},null,null,null,{"$f":"IF(AT479=\"\",\"\",INDEX(REFERENTES!$A:$B,MATCH(AT479,REFERENTES!$A:$A,0),2))","v":""},null,{"$f":"IF(AX479=\"\",\"\",INDEX(REFERENTES!M:O,MATCH(AX479,REFERENTES!M:M,0),3))","v":""}]
["30001212000000",{"$f":"DIGITADOR!$B$2","v":""},0,{"$f":"IF(E480<>\"\",CONCATENATE(B480,A480,DIGITADOR!$M$1,C480),\"\")","v":""},null,null,"","","",null,{"$f":"IF(J480=\"\",\"\",INDEX(REFERENTES!$V:$W,MATCH(J480,REFERENTES!$W:$W,0),1))","v":""},{"$f":"IF(E480=\"\",\"\",IF(O480=O479,\"\",CONCATENATE(B480,A480,DIGITADOR!$M$1,C480)))","v":""},null,{"$f":"IF(M480=\"\",\"\",INDEX(REFERENTES!$AB:$AC,MATCH(M480,REFERENTES!$AC:$AC,0),1))","v":""},"",null,476,"",null,null,null,null,null,null,null,null,null,null,null,null,null,null,null,null,null,null,null,null,{"$f":"IF(AL480<>\"\",VLOOKUP(AL480,#REF!,2,FALSE),\"\")","v":""},null,null,null,{"$f":"IF(AP480<>\"\",VLOOKUP(AP480,#REF!,2,TRUE),\"\")","v":""},null,{"$f":"IF(AR480<>\"\",VLOOKUP(AR480,#REF!,2,FALSE),\"\")","v":""},null,null,null,{"$f":"IF(AT480=\"\",\"\",INDEX(REFERENTES!$A:$B,MATCH(AT480,REFERENTES!$A:$A,0),2))","v":""},null,{"$f":"IF(AX480=\"\",\"\",INDEX(REFERENTES!M:O,MATCH(AX480,REFERENTES!M:M,0),3))","v":""}]
["30001212000000",{"$f":"DIGITADOR!$B$2","v":""},0,{"$f":"IF(E481<>\"\",CONCATENATE(B481,A481,DIGITADOR!$M$1,C481),\"\")","v":""},null,null,"","","",null,{"$f":"IF(J481=\"\",\"\",INDEX(REFERENTES!$V:$W,MATCH(J481,REFERENTES!$W:$W,0),1))","v":""},{"$f":"IF(E481=\"\",\"\",IF(O481=O480,\"\",CONCATENATE(B481,A481,DIGITADOR!$M$1,C481)))","v":""},null,{"$f":"IF(M481=\"\",\"\",INDEX(REFERENTES!$AB:$AC,MATCH(M481,REFERENTES!$AC:$AC,0),1))","v":""},"",null,477,"",null,null,null,null,null,null,null,null,null,null,null,null,null,null,null,null,null,null,null,null,{"$f":"IF(AL481<>\"\",VLOOKUP(AL481,#REF!,2,FALSE),\"\")","v":""},null,null,null,{"$f":"IF(AP481<>\"\",VLOOKUP(AP481,#REF!,2,TRUE),\"\")","v":""},null,{"$f":"IF(AR481<>\"\",VLOOKUP(AR481,#REF!,2,FALSE),\"\")","v":""},null,null,null,{"$f":"IF(AT481=\"\",\"\",INDEX(REFERENTES!$A:$B,MATCH(AT481,REFERENTES!$A:$A,0),2))","v":""},null,{"$f":"IF(AX481=\"\",\"\",INDEX(REFERENTES!M:O,MATCH(AX481,REFERENTES!M:M,0),3))","v":""}]
["30001212000000",{"$f":"DIGITADOR!$B$2","v":""},0,{"$f":"IF(E482<>\"\",CONCATENATE(B482,A482,DIGITADOR!$M$1,C482),\"\")","v":""},null,null,"","","",null,{"$f":"IF(J482=\"\",\"\",INDEX(REFERENTES!$V:$W,MATCH(J482,REFERENTES!$W:$W,0),1))","v":""},{"$f":"IF(E482=\"\",\"\",IF(O482=O481,\"\",CONCATENATE(B482,A482,DIGITADOR!$M$1,C482)))","v":""},null,{"$f":"IF(M482=\"\",\"\",INDEX(REFERENTES!$AB:$AC,MATCH(M482,REFERENTES!$AC:$AC,0),1))","v":""},"",null,478,"",null,null,null,null,null,null,null,null,null,null,null,null,null,null,null,null,null,null,null,null,{"$f":"IF(AL482<>\"\",VLOOKUP(AL482,#REF!,2,FALSE),\"\")","v":""},null,null,null,{"$f":"IF(AP482<>\"\",VLOOKUP(AP482,#REF!,2,TRUE),\"\")","v":""},null,{"$f":"IF(AR482<>\"\",VLOOKUP(AR482,#REF!,2,FALSE),\"\")","v":""},null,null,null,{"$f":"IF(AT482=\"\",\"\",INDEX(REFERENTES!$A:$B,MATCH(AT482,REFERENTES!$A:$A,0),2))","v":""},null,{"$f":"IF(AX482=\"\",\"\",INDEX(REFERENTES!M:O,MATCH(AX482,REFERENTES!M:M,0),3))","v":""}]
["30001212000000",{"$f":"DIGITADOR!$B$2","v":""},0,{"$f":"IF(E483<>\"\",CONCATENATE(B483,A483,DIGITADOR!$M$1,C483),\"\")","v":""},null,null,"","","",null,{"$f":"IF(J483=\"\",\"\",INDEX(REFERENTES!$V:$W,MATCH(J483,REFERENTES!$W:$W,0),1))","v":""},{"$f":"IF(E483=\"\",\"\",IF(O483=O482,\"\",CONCATENATE(B483,A483,DIGITADOR!$M$1,C483)))","v":""},null,{"$f":"IF(M483=\"\",\"\",INDEX(REFERENTES!$AB:$AC,MATCH(M483,REFERENTES!$AC:$AC,0),1))","v":""},"",null,479,"",null,null,null,null,null,null,null,null,null,null,null,null,null,null,null,null,null,null,null,null,{"$f":"IF(AL483<>\"\",VLOOKUP(AL483,#REF!,2,FALSE),\"\")","v":""},null,null,null,{"$f":"IF(AP483<>\"\",VLOOKUP(AP483,#REF!,2,TRUE),\"\")","v":""},null,{"$f":"IF(AR483<>\"\",VLOOKUP(AR483,#REF!,2,FALSE),\"\")","v":""},null,null,null,{"$f":"IF(AT483=\"\",\"\",INDEX(REFERENTES!$A:$B,MATCH(AT483,REFERENTES!$A:$A,0),2))","v":""},null,{"$f":"IF(AX483=\"\",\"\",INDEX(REFERENTES!M:O,MATCH(AX483,REFERENTES!M:M,0),3))","v":""}]
["30001212000000",{"$f":"DIGITADOR!$B$2","v":""},0,{"$f":"IF(E484<>\"\",CONCATENATE(B484,A484,DIGITADOR!$M$1,C484),\"\")","v":""},null,null,"","","",null,{"$f":"IF(J484=\"\",\"\",INDEX(REFERENTES!$V:$W,MATCH(J484,REFERENTES!$W:$W,0),1))","v":""},{"$f":"IF(E484=\"\",\"\",IF(O484=O483,\"\",CONCATENATE(B484,A484,DIGITADOR!$M$1,C484)))","v":""},null,{"$f":"IF(M484=\"\",\"\",INDEX(REFERENTES!$AB:$AC,MATCH(M484,REFERENTES!$AC:$AC,0),1))","v":""},"",null,480,"",null,null,null,null,null,null,null,null,null,null,null,null,null,null,null,null,null,null,null,null,{"$f":"IF(AL484<>\"\",VLOOKUP(AL484,#REF!,2,FALSE),\"\")","v":""},null,null,null,{"$f":"IF(AP484<>\"\",VLOOKUP(AP484,#REF!,2,TRUE),\"\")","v":""},null,{"$f":"IF(AR484<>\"\",VLOOKUP(AR484,#REF!,2,FALSE),\"\")","v":""},null,null,null,{"$f":"IF(AT484=\"\",\"\",INDEX(REFERENTES!$A:$B,MATCH(AT484,REFERENTES!$A:$A,0),2))","v":""},null,{"$f":"IF(AX484=\"\",\"\",INDEX(REFERENTES!M:O,MATCH(AX484,REFERENTES!M:M,0),3))","v":""}]
["30001212000000",{"$f":"DIGITADOR!$B$2","v":""},0,{"$f":"IF(E485<>\"\",CONCATENATE(B485,A485,DIGITADOR!$M$1,C485),\"\")","v":""},null,null,"","","",null,{"$f":"IF(J485=\"\",\"\",INDEX(REFERENTES!$V:$W,MATCH(J485,REFERENTES!$W:$W,0),1))","v":""},{"$f":"IF(E485=\"\",\"\",IF(O485=O484,\"\",CONCATENATE(B485,A485,DIGITADOR!$M$1,C485)))","v":""},null,{"$f":"IF(M485=\"\",\"\",INDEX(REFERENTES!$AB:$AC,MATCH(M485,REFERENTES!$AC:$AC,0),1))","v":""},"",null,481,"",null,null,null,null,null,null,null,null,null,null,null,null,null,null,null,null,null,null,null,null,{"$f":"IF(AL485<>\"\",VLOOKUP(AL485,#REF!,2,FALSE),\"\")","v":""},null,null,null,{"$f":"IF(AP485<>\"\",VLOOKUP(AP485,#REF!,2,TRUE),\"\")","v":""},null,{"$f":"IF(AR485<>\"\",VLOOKUP(AR485,#REF!,2,FALSE),\"\")","v":""},null,null,null,{"$f":"IF(AT485=\"\",\"\",INDEX(REFERENTES!$A:$B,MATCH(AT485,REFERENTES!$A:$A,0),2))","v":""},null,{"$f":"IF(AX485=\"\",\"\",INDEX(REFERENTES!M:O,MATCH(AX485,REFERENTES!M:M,0),3))","v":""}]
["30001212000000",{"$f":"DIGITADOR!$B$2","v":""},0,{"$f":"IF(E486<>\"\",CONCATENATE(B486,A486,DIGITADOR!$M$1,C486),\"\")","v":""},null,null,"","","",null,{"$f":"IF(J486=\"\",\"\",INDEX(REFERENTES!$V:$W,MATCH(J486,REFERENTES!$W:$W,0),1))","v":""},{"$f":"IF(E486=\"\",\"\",IF(O486=O485,\"\",CONCATENATE(B486,A486,DIGITADOR!$M$1,C486)))","v":""},null,{"$f":"IF(M486=\"\",\"\",INDEX(REFERENTES!$AB:$AC,MATCH(M486,REFERENTES!$AC:$AC,0),1))","v":""},"",null,482,"",null,null,null,null,null,null,null,null,null,null,null,null,null,null,null,null,null,null,null,null,{"$f":"IF(AL486<>\"\",VLOOKUP(AL486,#REF!,2,FALSE),\"\")","v":""},null,null,null,{"$f":"IF(AP486<>\"\",VLOOKUP(AP486,#REF!,2,TRUE),\"\")","v":""},null,{"$f":"IF(AR486<>\"\",VLOOKUP(AR486,#REF!,2,FALSE),\"\")","v":""},null,null,null,{"$f":"IF(AT486=\"\",\"\",INDEX(REFERENTES!$A:$B,MATCH(AT486,REFERENTES!$A:$A,0),2))","v":""},null,{"$f":"IF(AX486=\"\",\"\",INDEX(REFERENTES!M:O,MATCH(AX486,REFERENTES!M:M,0),3))","v":""}]
["30001212000000",{"$f":"DIGITADOR!$B$2","v":""},0,{"$f":"IF(E487<>\"\",CONCATENATE(B487,A487,DIGITADOR!$M$1,C487),\"\")","v":""},null,null,"","","",null,{"$f":"IF(J487=\"\",\"\",INDEX(REFERENTES!$V:$W,MATCH(J487,REFERENTES!$W:$W,0),1))","v":""},{"$f":"IF(E487=\"\",\"\",IF(O487=O486,\"\",CONCATENATE(B487,A487,DIGITADOR!$M$1,C487)))","v":""},null,{"$f":"IF(M487=\"\",\"\",INDEX(REFERENTES!$AB:$AC,MATCH(M487,REFERENTES!$AC:$AC,0),1))","v":""},"",null,483,"",null,null,null,null,null,null,null,null,null,null,null,null,null,null,null,null,null,null,null,null,{"$f":"IF(AL487<>\"\",VLOOKUP(AL487,#REF!,2,FALSE),\"\")","v":""},null,null,null,{"$f":"IF(AP487<>\"\",VLOOKUP(AP487,#REF!,2,TRUE),\"\")","v":""},null,{"$f":"IF(AR487<>\"\",VLOOKUP(AR487,#REF!,2,FALSE),\"\")","v":""},null,null,null,{"$f":"IF(AT487=\"\",\"\",INDEX(REFERENTES!$A:$B,MATCH(AT487,REFERENTES!$A:$A,0),2))","v":""},null,{"$f":"IF(AX487=\"\",\"\",INDEX(REFERENTES!M:O,MATCH(AX487,REFERENTES!M:M,0),3))","v":""}]
["30001212000000",{"$f":"DIGITADOR!$B$2","v":""},0,{"$f":"IF(E488<>\"\",CONCATENATE(B488,A488,DIGITADOR!$M$1,C488),\"\")","v":""},null,null,"","","",null,{"$f":"IF(J488=\"\",\"\",INDEX(REFERENTES!$V:$W,MATCH(J488,REFERENTES!$W:$W,0),1))","v":""},{"$f":"IF(E488=\"\",\"\",IF(O488=O487,\"\",CONCATENATE(B488,A488,DIGITADOR!$M$1,C488)))","v":""},null,{"$f":"IF(M488=\"\",\"\",INDEX(REFERENTES!$AB:$AC,MATCH(M488,REFERENTES!$AC:$AC,0),1))","v":""},"",null,484,"",null,null,null,null,null,null,null,null,null,null,null,null,null,null,null,null,null,null,null,null,{"$f":"IF(AL488<>\"\",VLOOKUP(AL488,#REF!,2,FALSE),\"\")","v":""},null,null,null,{"$f":"IF(AP488<>\"\",VLOOKUP(AP488,#REF!,2,TRUE),\"\")","v":""},null,{"$f":"IF(AR488<>\"\",VLOOKUP(AR488,#REF!,2,FALSE),\"\")","v":""},null,null,null,{"$f":"IF(AT488=\"\",\"\",INDEX(REFERENTES!$A:$B,MATCH(AT488,REFERENTES!$A:$A,0),2))","v":""},null,{"$f":"IF(AX488=\"\",\"\",INDEX(REFERENTES!M:O,MATCH(AX488,REFERENTES!M:M,0),3))","v":""}]
["30001212000000",{"$f":"DIGITADOR!$B$2","v":""},0,{"$f":"IF(E489<>\"\",CONCATENATE(B489,A489,DIGITADOR!$M$1,C489),\"\")","v":""},null,null,"",{"$f":"IF(G489<>\"\",MONTH(G489),\"\")","v":""},"",null,{"$f":"IF(J489=\"\",\"\",INDEX(REFERENTES!$V:$W,MATCH(J489,REFERENTES!$W:$W,0),1))","v":""},{"$f":"IF(E489=\"\",\"\",IF(O489=O488,\"\",CONCATENATE(B489,A489,DIGITADOR!$M$1,C489)))","v":""},null,{"$f":"IF(M489=\"\",\"\",INDEX(REFERENTES!$AB:$AC,MATCH(M489,REFERENTES!$AC:$AC,0),1))","v":""},"",null,485,"",null,null,null,null,null,null,null,null,null,null,null,null,null,null,null,null,null,null,null,null,{"$f":"IF(AL489<>\"\",VLOOKUP(AL489,#REF!,2,FALSE),\"\")","v":""},null,null,null,{"$f":"IF(AP489<>\"\",VLOOKUP(AP489,#REF!,2,TRUE),\"\")","v":""},null,{"$f":"IF(AR489<>\"\",VLOOKUP(AR489,#REF!,2,FALSE),\"\")","v":""},null,null,null,{"$f":"IF(AT489=\"\",\"\",INDEX(REFERENTES!$A:$B,MATCH(AT489,REFERENTES!$A:$A,0),2))","v":""},null,{"$f":"IF(AX489=\"\",\"\",INDEX(REFERENTES!M:O,MATCH(AX489,REFERENTES!M:M,0),3))","v":""}]
["30001212000000",{"$f":"DIGITADOR!$B$2","v":""},0,{"$f":"IF(E490<>\"\",CONCATENATE(B490,A490,DIGITADOR!$M$1,C490),\"\")","v":""},null,null,"","","",null,{"$f":"IF(J490=\"\",\"\",INDEX(REFERENTES!$V:$W,MATCH(J490,REFERENTES!$W:$W,0),1))","v":""},{"$f":"IF(E490=\"\",\"\",IF(O490=O489,\"\",CONCATENATE(B490,A490,DIGITADOR!$M$1,C490)))","v":""},null,{"$f":"IF(M490=\"\",\"\",INDEX(REFERENTES!$AB:$AC,MATCH(M490,REFERENTES!$AC:$AC,0),1))","v":""},"",null,486,"",null,null,null,null,null,null,null,null,null,null,null,null,null,null,null,null,null,null,null,null,{"$f":"IF(AL490<>\"\",VLOOKUP(AL490,#REF!,2,FALSE),\"\")","v":""},null,null,null,{"$f":"IF(AP490<>\"\",VLOOKUP(AP490,#REF!,2,TRUE),\"\")","v":""},null,{"$f":"IF(AR490<>\"\",VLOOKUP(AR490,#REF!,2,FALSE),\"\")","v":""},null,null,null,{"$f":"IF(AT490=\"\",\"\",INDEX(REFERENTES!$A:$B,MATCH(AT490,REFERENTES!$A:$A,0),2))","v":""},null,{"$f":"IF(AX490=\"\",\"\",INDEX(REFERENTES!M:O,MATCH(AX490,REFERENTES!M:M,0),3))","v":""}]
["30001212000000",{"$f":"DIGITADOR!$B$2","v":""},0,{"$f":"IF(E491<>\"\",CONCATENATE(B491,A491,DIGITADOR!$M$1,C491),\"\")","v":""},null,null,"","","",null,{"$f":"IF(J491=\"\",\"\",INDEX(REFERENTES!$V:$W,MATCH(J491,REFERENTES!$W:$W,0),1))","v":""},{"$f":"IF(E491=\"\",\"\",IF(O491=O490,\"\",CONCATENATE(B491,A491,DIGITADOR!$M$1,C491)))","v":""},null,{"$f":"IF(M491=\"\",\"\",INDEX(REFERENTES!$AB:$AC,MATCH(M491,REFERENTES!$AC:$AC,0),1))","v":""},"",null,487,"",null,null,null,null,null,null,null,null,null,null,null,null,null,null,null,null,null,null,null,null,{"$f":"IF(AL491<>\"\",VLOOKUP(AL491,#REF!,2,FALSE),\"\")","v":""},null,null,null,{"$f":"IF(AP491<>\"\",VLOOKUP(AP491,#REF!,2,TRUE),\"\")","v":""},null,{"$f":"IF(AR491<>\"\",VLOOKUP(AR491,#REF!,2,FALSE),\"\")","v":""},null,null,null,{"$f":"IF(AT491=\"\",\"\",INDEX(REFERENTES!$A:$B,MATCH(AT491,REFERENTES!$A:$A,0),2))","v":""},null,{"$f":"IF(AX491=\"\",\"\",INDEX(REFERENTES!M:O,MATCH(AX491,REFERENTES!M:M,0),3))","v":""}]
["30001212000000",{"$f":"DIGITADOR!$B$2","v":""},0,{"$f":"IF(E492<>\"\",CONCATENATE(B492,A492,DIGITADOR!$M$1,C492),\"\")","v":""},null,null,"","","",null,{"$f":"IF(J492=\"\",\"\",INDEX(REFERENTES!$V:$W,MATCH(J492,REFERENTES!$W:$W,0),1))","v":""},{"$f":"IF(E492=\"\",\"\",IF(O492=O491,\"\",CONCATENATE(B492,A492,DIGITADOR!$M$1,C492)))","v":""},null,{"$f":"IF(M492=\"\",\"\",INDEX(REFERENTES!$AB:$AC,MATCH(M492,REFERENTES!$AC:$AC,0),1))","v":""},"",null,488,"",null,null,null,null,null,null,null,null,null,null,null,null,null,null,null,null,null,null,null,null,{"$f":"IF(AL492<>\"\",VLOOKUP(AL492,#REF!,2,FALSE),\"\")","v":""},null,null,null,{"$f":"IF(AP492<>\"\",VLOOKUP(AP492,#REF!,2,TRUE),\"\")","v":""},null,{"$f":"IF(AR492<>\"\",VLOOKUP(AR492,#REF!,2,FALSE),\"\")","v":""},null,null,null,{"$f":"IF(AT492=\"\",\"\",INDEX(REFERENTES!$A:$B,MATCH(AT492,REFERENTES!$A:$A,0),2))","v":""},null,{"$f":"IF(AX492=\"\",\"\",INDEX(REFERENTES!M:O,MATCH(AX492,REFERENTES!M:M,0),3))","v":""}]
["30001212000000",{"$f":"DIGITADOR!$B$2","v":""},0,{"$f":"IF(E493<>\"\",CONCATENATE(B493,A493,DIGITADOR!$M$1,C493),\"\")","v":""},null,null,"","","",null,{"$f":"IF(J493=\"\",\"\",INDEX(REFERENTES!$V:$W,MATCH(J493,REFERENTES!$W:$W,0),1))","v":""},{"$f":"IF(E493=\"\",\"\",IF(O493=O492,\"\",CONCATENATE(B493,A493,DIGITADOR!$M$1,C493)))","v":""},null,{"$f":"IF(M493=\"\",\"\",INDEX(REFERENTES!$AB:$AC,MATCH(M493,REFERENTES!$AC:$AC,0),1))","v":""},"",null,489,"",null,null,null,null,null,null,null,null,null,null,null,null,null,null,null,null,null,null,null,null,{"$f":"IF(AL493<>\"\",VLOOKUP(AL493,#REF!,2,FALSE),\"\")","v":""},null,null,null,{"$f":"IF(AP493<>\"\",VLOOKUP(AP493,#REF!,2,TRUE),\"\")","v":""},null,{"$f":"IF(AR493<>\"\",VLOOKUP(AR493,#REF!,2,FALSE),\"\")","v":""},null,null,null,{"$f":"IF(AT493=\"\",\"\",INDEX(REFERENTES!$A:$B,MATCH(AT493,REFERENTES!$A:$A,0),2))","v":""},null,{"$f":"IF(AX493=\"\",\"\",INDEX(REFERENTES!M:O,MATCH(AX493,REFERENTES!M:M,0),3))","v":""}]
["30001212000000",{"$f":"DIGITADOR!$B$2","v":""},0,{"$f":"IF(E494<>\"\",CONCATENATE(B494,A494,DIGITADOR!$M$1,C494),\"\")","v":""},null,null,"","","",null,{"$f":"IF(J494=\"\",\"\",INDEX(REFERENTES!$V:$W,MATCH(J494,REFERENTES!$W:$W,0),1))","v":""},{"$f":"IF(E494=\"\",\"\",IF(O494=O493,\"\",CONCATENATE(B494,A494,DIGITADOR!$M$1,C494)))","v":""},null,{"$f":"IF(M494=\"\",\"\",INDEX(REFERENTES!$AB:$AC,MATCH(M494,REFERENTES!$AC:$AC,0),1))","v":""},"",null,490,"",null,null,null,null,null,null,null,null,null,null,null,null,null,null,null,null,null,null,null,null,{"$f":"IF(AL494<>\"\",VLOOKUP(AL494,#REF!,2,FALSE),\"\")","v":""},null,null,null,{"$f":"IF(AP494<>\"\",VLOOKUP(AP494,#REF!,2,TRUE),\"\")","v":""},null,{"$f":"IF(AR494<>\"\",VLOOKUP(AR494,#REF!,2,FALSE),\"\")","v":""},null,null,null,{"$f":"IF(AT494=\"\",\"\",INDEX(REFERENTES!$A:$B,MATCH(AT494,REFERENTES!$A:$A,0),2))","v":""},null,{"$f":"IF(AX494=\"\",\"\",INDEX(REFERENTES!M:O,MATCH(AX494,REFERENTES!M:M,0),3))","v":""}]
["30001212000000",{"$f":"DIGITADOR!$B$2","v":""},0,{"$f":"IF(E495<>\"\",CONCATENATE(B495,A495,DIGITADOR!$M$1,C495),\"\")","v":""},null,null,"","","",null,{"$f":"IF(J495=\"\",\"\",INDEX(REFERENTES!$V:$W,MATCH(J495,REFERENTES!$W:$W,0),1))","v":""},{"$f":"IF(E495=\"\",\"\",IF(O495=O494,\"\",CONCATENATE(B495,A495,DIGITADOR!$M$1,C495)))","v":""},null,{"$f":"IF(M495=\"\",\"\",INDEX(REFERENTES!$AB:$AC,MATCH(M495,REFERENTES!$AC:$AC,0),1))","v":""},"",null,491,"",null,null,null,null,null,null,null,null,null,null,null,null,null,null,null,null,null,null,null,null,{"$f":"IF(AL495<>\"\",VLOOKUP(AL495,#REF!,2,FALSE),\"\")","v":""},null,null,null,{"$f":"IF(AP495<>\"\",VLOOKUP(AP495,#REF!,2,TRUE),\"\")","v":""},null,{"$f":"IF(AR495<>\"\",VLOOKUP(AR495,#REF!,2,FALSE),\"\")","v":""},null,null,null,{"$f":"IF(AT495=\"\",\"\",INDEX(REFERENTES!$A:$B,MATCH(AT495,REFERENTES!$A:$A,0),2))","v":""},null,{"$f":"IF(AX495=\"\",\"\",INDEX(REFERENTES!M:O,MATCH(AX495,REFERENTES!M:M,0),3))","v":""}]
["30001212000000",{"$f":"DIGITADOR!$B$2","v":""},0,{"$f":"IF(E496<>\"\",CONCATENATE(B496,A496,DIGITADOR!$M$1,C496),\"\")","v":""},null,null,"","","",null,{"$f":"IF(J496=\"\",\"\",INDEX(REFERENTES!$V:$W,MATCH(J496,REFERENTES!$W:$W,0),1))","v":""},{"$f":"IF(E496=\"\",\"\",IF(O496=O495,\"\",CONCATENATE(B496,A496,DIGITADOR!$M$1,C496)))","v":""},null,{"$f":"IF(M496=\"\",\"\",INDEX(REFERENTES!$AB:$AC,MATCH(M496,REFERENTES!$AC:$AC,0),1))","v":""},"",null,492,"",null,null,null,null,null,null,null,null,null,null,null,null,null,null,null,null,null,null,null,null,{"$f":"IF(AL496<>\"\",VLOOKUP(AL496,#REF!,2,FALSE),\"\")","v":""},null,null,null,{"$f":"IF(AP496<>\"\",VLOOKUP(AP496,#REF!,2,TRUE),\"\")","v":""},null,{"$f":"IF(AR496<>\"\",VLOOKUP(AR496,#REF!,2,FALSE),\"\")","v":""},null,null,null,{"$f":"IF(AT496=\"\",\"\",INDEX(REFERENTES!$A:$B,MATCH(AT496,REFERENTES!$A:$A,0),2))","v":""},null,{"$f":"IF(AX496=\"\",\"\",INDEX(REFERENTES!M:O,MATCH(AX496,REFERENTES!M:M,0),3))","v":""}]
["30001212000000",{"$f":"DIGITADOR!$B$2","v":""},0,{"$f":"IF(E497<>\"\",CONCATENATE(B497,A497,DIGITADOR!$M$1,C497),\"\")","v":""},null,null,"","","",null,{"$f":"IF(J497=\"\",\"\",INDEX(REFERENTES!$V:$W,MATCH(J497,REFERENTES!$W:$W,0),1))","v":""},{"$f":"IF(E497=\"\",\"\",IF(O497=O496,\"\",CONCATENATE(B497,A497,DIGITADOR!$M$1,C497)))","v":""},null,{"$f":"IF(M497=\"\",\"\",INDEX(REFERENTES!$AB:$AC,MATCH(M497,REFERENTES!$AC:$AC,0),1))","v":""},"",null,493,"",null,null,null,null,null,null,null,null,null,null,null,null,null,null,null,null,null,null,null,null,{"$f":"IF(AL497<>\"\",VLOOKUP(AL497,#REF!,2,FALSE),\"\")","v":""},null,null,null,{"$f":"IF(AP497<>\"\",VLOOKUP(AP497,#REF!,2,TRUE),\"\")","v":""},null,{"$f":"IF(AR497<>\"\",VLOOKUP(AR497,#REF!,2,FALSE),\"\")","v":""},null,null,null,{"$f":"IF(AT497=\"\",\"\",INDEX(REFERENTES!$A:$B,MATCH(AT497,REFERENTES!$A:$A,0),2))","v":""},null,{"$f":"IF(AX497=\"\",\"\",INDEX(REFERENTES!M:O,MATCH(AX497,REFERENTES!M:M,0),3))","v":""}]
["30001212000000",{"$f":"DIGITADOR!$B$2","v":""},0,{"$f":"IF(E498<>\"\",CONCATENATE(B498,A498,DIGITADOR!$M$1,C498),\"\")","v":""},null,null,"","","",null,{"$f":"IF(J498=\"\",\"\",INDEX(REFERENTES!$V:$W,MATCH(J498,REFERENTES!$W:$W,0),1))","v":""},{"$f":"IF(E498=\"\",\"\",IF(O498=O497,\"\",CONCATENATE(B498,A498,DIGITADOR!$M$1,C498)))","v":""},null,{"$f":"IF(M498=\"\",\"\",INDEX(REFERENTES!$AB:$AC,MATCH(M498,REFERENTES!$AC:$AC,0),1))","v":""},"",null,494,"",null,null,null,null,null,null,null,null,null,null,null,null,null,null,null,null,null,null,null,null,{"$f":"IF(AL498<>\"\",VLOOKUP(AL498,#REF!,2,FALSE),\"\")","v":""},null,null,null,{"$f":"IF(AP498<>\"\",VLOOKUP(AP498,#REF!,2,TRUE),\"\")","v":""},null,{"$f":"IF(AR498<>\"\",VLOOKUP(AR498,#REF!,2,FALSE),\"\")","v":""},null,null,null,{"$f":"IF(AT498=\"\",\"\",INDEX(REFERENTES!$A:$B,MATCH(AT498,REFERENTES!$A:$A,0),2))","v":""},null,{"$f":"IF(AX498=\"\",\"\",INDEX(REFERENTES!M:O,MATCH(AX498,REFERENTES!M:M,0),3))","v":""}]
["30001212000000",{"$f":"DIGITADOR!$B$2","v":""},0,{"$f":"IF(E499<>\"\",CONCATENATE(B499,A499,DIGITADOR!$M$1,C499),\"\")","v":""},null,null,"","","",null,{"$f":"IF(J499=\"\",\"\",INDEX(REFERENTES!$V:$W,MATCH(J499,REFERENTES!$W:$W,0),1))","v":""},{"$f":"IF(E499=\"\",\"\",IF(O499=O498,\"\",CONCATENATE(B499,A499,DIGITADOR!$M$1,C499)))","v":""},null,{"$f":"IF(M499=\"\",\"\",INDEX(REFERENTES!$AB:$AC,MATCH(M499,REFERENTES!$AC:$AC,0),1))","v":""},"",null,495,"",null,null,null,null,null,null,null,null,null,null,null,null,null,null,null,null,null,null,null,null,{"$f":"IF(AL499<>\"\",VLOOKUP(AL499,#REF!,2,FALSE),\"\")","v":""},null,null,null,{"$f":"IF(AP499<>\"\",VLOOKUP(AP499,#REF!,2,TRUE),\"\")","v":""},null,{"$f":"IF(AR499<>\"\",VLOOKUP(AR499,#REF!,2,FALSE),\"\")","v":""},null,null,null,{"$f":"IF(AT499=\"\",\"\",INDEX(REFERENTES!$A:$B,MATCH(AT499,REFERENTES!$A:$A,0),2))","v":""},null,{"$f":"IF(AX499=\"\",\"\",INDEX(REFERENTES!M:O,MATCH(AX499,REFERENTES!M:M,0),3))","v":""}]
["30001212000000",{"$f":"DIGITADOR!$B$2","v":""},0,{"$f":"IF(E500<>\"\",CONCATENATE(B500,A500,DIGITADOR!$M$1,C500),\"\")","v":""},null,null,"","","",null,{"$f":"IF(J500=\"\",\"\",INDEX(REFERENTES!$V:$W,MATCH(J500,REFERENTES!$W:$W,0),1))","v":""},{"$f":"IF(E500=\"\",\"\",IF(O500=O499,\"\",CONCATENATE(B500,A500,DIGITADOR!$M$1,C500)))","v":""},null,{"$f":"IF(M500=\"\",\"\",INDEX(REFERENTES!$AB:$AC,MATCH(M500,REFERENTES!$AC:$AC,0),1))","v":""},"",null,496,"",null,null,null,null,null,null,null,null,null,null,null,null,null,null,null,null,null,null,null,null,{"$f":"IF(AL500<>\"\",VLOOKUP(AL500,#REF!,2,FALSE),\"\")","v":""},null,null,null,{"$f":"IF(AP500<>\"\",VLOOKUP(AP500,#REF!,2,TRUE),\"\")","v":""},null,{"$f":"IF(AR500<>\"\",VLOOKUP(AR500,#REF!,2,FALSE),\"\")","v":""},null,null,null,{"$f":"IF(AT500=\"\",\"\",INDEX(REFERENTES!$A:$B,MATCH(AT500,REFERENTES!$A:$A,0),2))","v":""},null,{"$f":"IF(AX500=\"\",\"\",INDEX(REFERENTES!M:O,MATCH(AX500,REFERENTES!M:M,0),3))","v":""}]
["30001212000000",{"$f":"DIGITADOR!$B$2","v":""},0,{"$f":"IF(E501<>\"\",CONCATENATE(B501,A501,DIGITADOR!$M$1,C501),\"\")","v":""},null,null,"","","",null,{"$f":"IF(J501=\"\",\"\",INDEX(REFERENTES!$V:$W,MATCH(J501,REFERENTES!$W:$W,0),1))","v":""},{"$f":"IF(E501=\"\",\"\",IF(O501=O500,\"\",CONCATENATE(B501,A501,DIGITADOR!$M$1,C501)))","v":""},null,{"$f":"IF(M501=\"\",\"\",INDEX(REFERENTES!$AB:$AC,MATCH(M501,REFERENTES!$AC:$AC,0),1))","v":""},"",null,497,"",null,null,null,null,null,null,null,null,null,null,null,null,null,null,null,null,null,null,null,null,{"$f":"IF(AL501<>\"\",VLOOKUP(AL501,#REF!,2,FALSE),\"\")","v":""},null,null,null,{"$f":"IF(AP501<>\"\",VLOOKUP(AP501,#REF!,2,TRUE),\"\")","v":""},null,{"$f":"IF(AR501<>\"\",VLOOKUP(AR501,#REF!,2,FALSE),\"\")","v":""},null,null,null,{"$f":"IF(AT501=\"\",\"\",INDEX(REFERENTES!$A:$B,MATCH(AT501,REFERENTES!$A:$A,0),2))","v":""},null,{"$f":"IF(AX501=\"\",\"\",INDEX(REFERENTES!M:O,MATCH(AX501,REFERENTES!M:M,0),3))","v":""}]
["30001212000000",{"$f":"DIGITADOR!$B$2","v":""},0,{"$f":"IF(E502<>\"\",CONCATENATE(B502,A502,DIGITADOR!$M$1,C502),\"\")","v":""},null,null,"","","",null,{"$f":"IF(J502=\"\",\"\",INDEX(REFERENTES!$V:$W,MATCH(J502,REFERENTES!$W:$W,0),1))","v":""},{"$f":"IF(E502=\"\",\"\",IF(O502=O501,\"\",CONCATENATE(B502,A502,DIGITADOR!$M$1,C502)))","v":""},null,{"$f":"IF(M502=\"\",\"\",INDEX(REFERENTES!$AB:$AC,MATCH(M502,REFERENTES!$AC:$AC,0),1))","v":""},"",null,498,"",null,null,null,null,null,null,null,null,null,null,null,null,null,null,null,null,null,null,null,null,{"$f":"IF(AL502<>\"\",VLOOKUP(AL502,#REF!,2,FALSE),\"\")","v":""},null,null,null,{"$f":"IF(AP502<>\"\",VLOOKUP(AP502,#REF!,2,TRUE),\"\")","v":""},null,{"$f":"IF(AR502<>\"\",VLOOKUP(AR502,#REF!,2,FALSE),\"\")","v":""},null,null,null,{"$f":"IF(AT502=\"\",\"\",INDEX(REFERENTES!$A:$B,MATCH(AT502,REFERENTES!$A:$A,0),2))","v":""},null,{"$f":"IF(AX502=\"\",\"\",INDEX(REFERENTES!M:O,MATCH(AX502,REFERENTES!M:M,0),3))","v":""}]
["30001212000000",{"$f":"DIGITADOR!$B$2","v":""},0,{"$f":"IF(E503<>\"\",CONCATENATE(B503,A503,DIGITADOR!$M$1,C503),\"\")","v":""},null,null,"","","",null,{"$f":"IF(J503=\"\",\"\",INDEX(REFERENTES!$V:$W,MATCH(J503,REFERENTES!$W:$W,0),1))","v":""},{"$f":"IF(E503=\"\",\"\",IF(O503=O502,\"\",CONCATENATE(B503,A503,DIGITADOR!$M$1,C503)))","v":""},null,{"$f":"IF(M503=\"\",\"\",INDEX(REFERENTES!$AB:$AC,MATCH(M503,REFERENTES!$AC:$AC,0),1))","v":""},"",null,499,"",null,null,null,null,null,null,null,null,null,null,null,null,null,null,null,null,null,null,null,null,{"$f":"IF(AL503<>\"\",VLOOKUP(AL503,#REF!,2,FALSE),\"\")","v":""},null,null,null,{"$f":"IF(AP503<>\"\",VLOOKUP(AP503,#REF!,2,TRUE),\"\")","v":""},null,{"$f":"IF(AR503<>\"\",VLOOKUP(AR503,#REF!,2,FALSE),\"\")","v":""},null,null,null,{"$f":"IF(AT503=\"\",\"\",INDEX(REFERENTES!$A:$B,MATCH(AT503,REFERENTES!$A:$A,0),2))","v":""},null,{"$f":"IF(AX503=\"\",\"\",INDEX(REFERENTES!M:O,MATCH(AX503,REFERENTES!M:M,0),3))","v":""}]
["30001212000000",{"$f":"DIGITADOR!$B$2","v":""},0,{"$f":"IF(E504<>\"\",CONCATENATE(B504,A504,DIGITADOR!$M$1,C504),\"\")","v":""},null,null,"","","",null,{"$f":"IF(J504=\"\",\"\",INDEX(REFERENTES!$V:$W,MATCH(J504,REFERENTES!$W:$W,0),1))","v":""},{"$f":"IF(E504=\"\",\"\",IF(O504=O503,\"\",CONCATENATE(B504,A504,DIGITADOR!$M$1,C504)))","v":""},null,{"$f":"IF(M504=\"\",\"\",INDEX(REFERENTES!$AB:$AC,MATCH(M504,REFERENTES!$AC:$AC,0),1))","v":""},"",null,500,"",null,null,null,null,null,null,null,null,null,null,null,null,null,null,null,null,null,null,null,null,{"$f":"IF(AL504<>\"\",VLOOKUP(AL504,#REF!,2,FALSE),\"\")","v":""},null,null,null,{"$f":"IF(AP504<>\"\",VLOOKUP(AP504,#REF!,2,TRUE),\"\")","v":""},null,{"$f":"IF(AR504<>\"\",VLOOKUP(AR504,#REF!,2,FALSE),\"\")","v":""},null,null,null,{"$f":"IF(AT504=\"\",\"\",INDEX(REFERENTES!$A:$B,MATCH(AT504,REFERENTES!$A:$A,0),2))","v":""},null,{"$f":"IF(AX504=\"\",\"\",INDEX(REFERENTES!M:O,MATCH(AX504,REFERENTES!M:M,0),3))","v":""}]

{"sheet":"REFERENTES","index":4,"n_rows":364,"n_cols":29,"rows_kept":364,"cut":false,"hidden":false,"merged":[]}
["codigo","descripcion",null,"codigo","descripcion",null,"codigo","descripcion",null,"codigo","descripcion",null,"cod_letras","descripcion","clave_sibm","phylum","clase","orden","familia","genero",null,"secuencia_loc","prefijo_cdg_est_loc","codigo_estacion_loc","descripcion_estacion_loc","lugar",null,"codigo","nombre"]
["INVE","Invertebrados",null,"Msis","Muriceopsis sp.",null,"CORALINA","CORALINA",null,3343,"ANH Pastos Guajira Choco (3343)",null,"AMVI","Amphimedon viridis",null,null,null,null,null,null,null,57180,"AHUY",1,"MN-Ahuyama","Ahuyama",null,3907,"Ameth  Vargas Campo"]
["CAMA","Camarón",null,"Mspi","Mythrax spinosissimus",null,"F. Malpelo","Fundacion Malpelo",null,3422,"Coralina 02 2018 (3422)",null,"Aafe","Alphestes afer",null,null,null,null,null,null,null,43727,"BPOR",3,"MN-Bahía Portete","Bahía Portete",null,593,"Andrea Polanco"]
["CANG","Cangreja",null,"Msqu","Millepora squarrosa",null,"INVEMAR","Instituto de Investigaciones Marinas y Costeras",null,"Monitoreo Pastos - BPIN","Monitoreo Pastos - BPIN (COD_ALFABETICO anterior: 3494)",null,"Aaga","Agaricia agaricites","8.55.2460","CNIDARIA",null,null,null,null,null,48586,"BALL",1,"MN-Ballenas","Ballenas",null,4408,"Andres Felipe Acosta Chaparro"]
["CARA","Caracol",null,"Mula","Muricea laxa",null,"ParquesNacionales","Parques Nacionales",null,3304,"ANH Pastos Marinos. PRY-BEM-012-15_T2",null,"Aatl","Antipathes atlantica","8.55.1300","CNIDARIA",null,null,null,null,null,48584,"CVEL",3,"MN-Cabo de la Vela","Cabo de la Vela",null,4109,"Angélica Rodríguez"]
["ERIZ","Erizo",null,"Muri","Muricea sp.",null,"PNN_GORGONA","PNN_GORGONA",null,null,null,null,"Abar","Antipathes barbadensis","8.55.6730","CNIDARIA",null,null,null,null,null,49303,"CVNU",2,"MN-Cabo Nuevo","Cabo de la Vela",null,3956,"Carlos Aponte"]
["LANG","Langosta",null,"Myce","Mycetophyllia sp.",null,"UJTL","UJTL",null,null,null,null,"Aber","Actinia bermudensis","8.55.1680","CNIDARIA",null,null,null,null,null,57179,"CPLA",1,"MN-Cabo playa","Cabo playa",null,3147,"Christian Michael Díaz Sánchez"]
["POLI","Poliqueto",null,"Nbra","Narcine brasiliensis",null,"UNal","Universidad Nacional",null,null,null,null,"Acer","Acropora cervicornis","8.55.2380","CNIDARIA",null,null,null,null,null,57178,"CARR",1,"MN-Carrizal","Carrizal",null,4407,"Cristian Camilo Salinas zapata"]
["PULP","Pulpo",null,"Nere","Niphates erecta",null,"UNIVALLE","Universidad del Valle",null,null,null,null,"Acla","Agelas clathrodes","4.55.196",null,null,null,null,null,null,43120,"CHEN",2,"MN-Chengue","Chengue",null,3829,"Diana Carolina Ballesteros Contreras"]
[null,null,null,"Ngor","Nicella goreaui",null,null,null,null,null,null,null,"Acon","Agelas conifera","4.55.197",null,null,null,null,null,null,43121,"CINT",3,"MN-Cinto","Cinto",null,1834,"Diana Isabel Gómez López"]
[null,null,null,"Nice","Nicella sp.",null,null,null,null,null,null,null,"Acro","Acropora sp.","8.46.820","CNIDARIA",null,null,null,null,null,48964,"CCAY",1,"MN-Cotton Cay","Cotton Cay",null,3957,"Diana Vergara"]
[null,null,null,"Niph","Niphates sp.",null,null,null,null,null,null,null,"Adis","Agelas dispar","4.55.198",null,null,null,null,null,null,43118,"IMAN",2,"MN-Isla Mangle","Isla Mangle",null,1775,"Diego Duque"]
[null,null,null,"Npor","Neospongodes portoricensis",null,null,null,null,null,null,null,"Aele","Actinoporus elegans","8.55.6819","CNIDARIA",null,null,null,null,null,43117,"IROS",1,"MN-Isla Rosario","Isla Rosario",null,3646,"Elizabeth Galeano Galeano"]
[null,null,null,"Nsch","Nicella schmitti",null,null,null,null,null,null,null,"Afra","Agaricia fragilis","8.55.2520","CNIDARIA",null,null,null,null,null,48966,"ISLE",1,"MN-Isleño","Isleño",null,3809,"Esteban Zarza"]
[null,null,null,"Octo","Octopus sp.",null,null,null,null,null,null,null,"Aful","Aplysina fulva","4.55.149",null,null,null,null,null,null,51465,"KAUR",1,"MN-Kaurrele","Manaure",null,4106,"Johana Vega"]
[null,null,null,"Ocul","Oculina sp.",null,null,null,null,null,null,null,"Agar","Agaricia sp.","8.46.830","CNIDARIA",null,null,null,null,null,48585,"MANA",2,"MN-Manaure","Manaure",null,3905,"Juan David González Corredor"]
[null,null,null,"Odif","Oculina diffusa",null,null,null,null,null,null,null,"Agel","Agelas sp.","4.46.440",null,null,null,null,null,null,48965,"MARA",1,"MN-Marazul","Marazul",null,3505,"Juan Manuel Rodriguez Pineda"]
[null,null,null,"Ophi","Ophioderma sp.",null,null,null,null,null,null,null,"Agra","Agaricia grahamae","8.55.6396","CNIDARIA",null,null,null,null,null,43123,"MBAY",1,"MN-Mauricio Bay","Mauricio Bay",null,4409,"Karen Melissa Serna Rodriguez"]
[null,null,null,"Orob","Oculina robusta",null,null,null,null,null,null,null,"Ahir","Antipathes hirta","8.55.6630","CNIDARIA",null,null,null,null,null,43119,"NEGU",1,"MN-Neguanje","Neguanje",null,4107,"Kelly Gómez"]
[null,null,null,"Oten","Oculina tenella",null,null,null,null,null,null,null,"Ahum","Agaricia humilis","8.55.6398","CNIDARIA",null,null,null,null,null,43122,"OCRE",2,"MN-Oyster Creek","Oyster Creek",null,8265,"Kevin Samuel Moreno"]
[null,null,null,"Oval","Oculina valenciennesi",null,null,null,null,null,null,null,"Akre","Anthopleura krebsi","8.55.6822","CNIDARIA",null,null,null,null,null,48582,"PINO",2,"MN-Pinorroa","Pinorroa",null,5020,"Laura Alejandra Londoño"]
[null,null,null,"Ovar","Oculina varicosa",null,null,null,null,null,null,null,"Alam","Agaricia lamarcki","8.55.2500","CNIDARIA",null,null,null,null,null,52866,"PBLA",1,"MN-Playa Blanca-Barú","Playa Blanca-Barú (PNN Corales del Rosario y San Bernardo)",null,3647,"Laura Muñoz Escobar"]
[null,null,null,"Pace","Pseudopterogorgia acerosa",null,null,null,null,null,null,null,"Alen","Antipathes lenta","8.55.5980","CNIDARIA",null,null,null,null,null,48583,"TRIG",1,"MN-Trigana","Trigana",null,4227,"Laura Sanchez Valencia"]
[null,null,null,"Pali","Palinurellus sp.",null,null,null,null,null,null,null,"Amir","Alicia mirabilis","8.55.1640","CNIDARIA",null,null,null,null,null,null,null,null,null,null,null,3281,"Leonardo José Arias Alemán (2022)"]
[null,null,null,"Paly","Palythoa sp.",null,null,null,null,null,null,null,"Angr","Antipathes gracilis","8.55.1280","CNIDARIA",null,null,null,null,null,null,null,null,null,null,null,287,"Marcela Cano Correa"]
[null,null,null,"Panc","Pterogorgia anceps",null,null,null,null,null,null,null,"Anoc","Arachnanthus nocturnus","8.18.80","CNIDARIA",null,null,null,null,null,null,null,null,null,null,null,5021,"Maria Juliana Vanegas Gonzalez"]
[null,null,null,"Panu","Panulirus sp.",null,null,null,null,null,null,null,"Anti","Antipathes sp.","8.46.510","CNIDARIA",null,null,null,null,null,null,null,null,null,null,null,3810,"Maria Paula Molina"]
[null,null,null,"Para","Parazoanthus sp.",null,null,null,null,null,null,null,"Apal","Acropora palmata","8.55.2400","CNIDARIA",null,null,null,null,null,null,null,null,null,null,null,3401,"Maria del Pilar Parrado Cortes"]
[null,null,null,"Parg","Panulirus argus",null,null,null,null,null,null,null,"Apar","Aplysina archeri","4.55.146",null,null,null,null,null,null,null,null,null,null,null,null,3139,"Milena Marrugo"]
[null,null,null,"Past","Porites astreoides",null,null,null,null,null,null,null,"Apen","Antipathes pennacea","8.55.1320","CNIDARIA",null,null,null,null,null,null,null,null,null,null,null,1809,"Raul Navas Camacho"]
[null,null,null,"Pavo","Pavona sp.",null,null,null,null,null,null,null,"Aply","Aplysina sp.","4.46.320",null,null,null,null,null,null,null,null,null,null,null,null,4754,"Sandra Torres"]
[null,null,null,"Pbra","Porites branneri",null,null,null,null,null,null,null,"Apro","Acropora prolifera","8.55.2420","CNIDARIA",null,null,null,null,null,null,null,null,null,null,null,4167,"Santiago Millan"]
[null,null,null,"Pcal","Porites californica",null,null,null,null,null,null,null,"Apul","Astropiga pulvinata","60.55.2140",null,null,null,null,null,null,null,null,null,null,null,null,5749,"Shanly Carolina Coneo Gómez"]
[null,null,null,"Pcap","Pocillopora capitata",null,null,null,null,null,null,null,"Asch","Agelas schmidti","4.55.233",null,null,null,null,null,null,null,null,null,null,null,null,4995,"Simon Robledo Cardona"]
[null,null,null,"Pcar","Palythoa caribaeorum",null,null,null,null,null,null,null,"Asem","Atrina seminuda",null,null,null,null,null,null,null,null,null,null,null,null,null,4108,"Tomás López"]
[null,null,null,"Pchi","Pavona chirriquiensis",null,null,null,null,null,null,null,"Aser","Anachis sertulariarum",null,null,null,null,null,null,null,null,null,null,null,null,null,6956,"Violeta Posada Riaño"]
[null,null,null,"Pcit","Pterogorgia citrina",null,null,null,null,null,null,null,"Asol","Astrangia solitaria","8.55.3400","CNIDARIA",null,null,null,null,null,null,null,null,null,null,null,8266,"Zulay Saudith González Herrera"]
[null,null,null,"Pcla","Pavona clavus",null,null,null,null,null,null,null,"Atag","Aiptasia tagetes","8.55.6820","CNIDARIA"]
[null,null,null,"Pcol","Porites colonensis",null,null,null,null,null,null,null,"Atan","Antipathes tanacetum","8.55.6632","CNIDARIA"]
[null,null,null,"Pcor","Phormidium corallyticum",null,null,null,null,null,null,null,"Aten","Agaricia tenuifolia","8.55.2480","CNIDARIA"]
[null,null,null,"Pcru","Pseudoplexaura crucis",null,null,null,null,null,null,null,"Aund","Agaricia undata","8.55.2540","CNIDARIA"]
[null,null,null,"Pdam","Pocillopora damicornis",null,null,null,null,null,null,null,"Awie","Agelas wiedenmyeri","4.55.202"]
[null,null,null,"Pdic","Plexaurella dichotoma",null,null,null,null,null,null,null,"Bala","Balanophyllia sp.","8.46.1300","CNIDARIA"]
[null,null,null,"Pdiv","Porites divaricata",null,null,null,null,null,null,null,"Bann","Bartholomea annulata","8.55.1900","CNIDARIA"]
[null,null,null,"Pele","Pocillopora elegans",null,null,null,null,null,null,null,"Bart","Bartholomea sp.","8.46.720","CNIDARIA"]
[null,null,null,"Peli","Pseudopterogorgia elizabethae",null,null,null,null,null,null,null,"Basb","Briareum asbestinum","8.55.60","CNIDARIA"]
[null,null,null,"Peyd","Pocillopora eydouxi",null,null,null,null,null,null,null,"Bflo","Balanophyllia floridana","8.55.6832","CNIDARIA"]
[null,null,null,"Pfla","Pseudoplexaura flagellosa",null,null,null,null,null,null,null,"Bgra","Bunodosoma granuliferum","8.55.1720","CNIDARIA"]
[null,null,null,"Pfle","Plexaura flexuosa",null,null,null,null,null,null,null,"Bria","Briareum sp.","8.46.50","CNIDARIA"]
[null,null,null,"Pfro","Pavona frondifera",null,null,null,null,null,null,null,"CANT","Clibanarius antillensis"]
[null,null,null,"Pfur","Porites furcata",null,null,null,null,null,null,null,"CROS","Clypeaster rosaceus"]
[null,null,null,"Pgig","Pavona gigantea",null,null,null,null,null,null,null,"Call","Cinachyra alloclada","4.55.238"]
[null,null,null,"Pgra","Palythoa grandis",null,null,null,null,null,null,null,"Cama","Caryophyllia maculata","8.46.1140","CNIDARIA"]
[null,null,null,"Pgri","Plexaurella grisea",null,null,null,null,null,null,null,"Cara","Caranx sp."]
[null,null,null,"Pgua","Pterogorgia guadalupensis",null,null,null,null,null,null,null,"Carb","Cladocora arbuscula","8.55.3200","CNIDARIA"]
[null,null,null,"Pgut","Panulirus guttatus",null,null,null,null,null,null,null,"Cary","Caryophyllia sp.","8.46.1140","CNIDARIA"]
[null,null,null,"Phcr","Phymanthus crucifer",null,null,null,null,null,null,null,"Cass","Cassiopea sp"]
[null,null,null,"Phfl","Phyllactis flosculifera",null,null,null,null,null,null,null,"Cbre","Colpophyllia breviserialis","8.55.2980","CNIDARIA"]
[null,null,null,"Phom","Plexaura homomalla",null,null,null,null,null,null,null,"Ccar","Chondrilla caribensis"]
[null,null,null,"Pinn","Pinna sp",null,null,null,null,null,null,null,"Ceco","Centrostephanus coronatus","60.55.3460"]
[null,null,null,"Plex","Plexaura sp.",null,null,null,null,null,null,null,"Ceri","Cerithium sp."]
[null,null,null,"Plla","Plexaurella sp.",null,null,null,null,null,null,null,"Cflo","Caryophyllia flos","8.55.6460","CNIDARIA"]
[null,null,null,"Plob","Porites lobata",null,null,null,null,null,null,null,"Cgib","Cyphoma gibbosum","52.55.2400"]
[null,null,null,"Pmal","Pavona maldiviensis",null,null,null,null,null,null,null,"Cgig","Condylactis gigantea","8.55.1740","CNIDARIA"]
[null,null,null,"Pmam","Palythoa mammillosa",null,null,null,null,null,null,null,"Cimm","Colangia immersa","8.55.6486","CNIDARIA"]
[null,null,null,"Pmea","Pocillopora meandrites",null,null,null,null,null,null,null,"Cina","Cinachyra sp.","4.46.469"]
[null,null,null,"Pnin","Plexaura nina",null,null,null,null,null,null,null,"Clad","Cladopsammia sp.","8.46.1915","CNIDARIA"]
[null,null,null,"Pnut","Plexaurella nutans",null,null,null,null,null,null,null,"Cldo","Cladocora sp.","8.46.970","CNIDARIA"]
[null,null,null,"Poci","Pocillopora sp.",null,null,null,null,null,null,null,"Cleu","Cirrhipathes leutkeni","8.55.1360","CNIDARIA"]
[null,null,null,"Pora","Psammocora sp.",null,null,null,null,null,null,null,"Clio","Cliona sp.","4.46.375"]
[null,null,null,"Pori","Porites sp.",null,null,null,null,null,null,null,"Cmad","Cassis madagascariensis"]
[null,null,null,"Ppan","Porites panamensis",null,null,null,null,null,null,null,"Cnat","Colpophyllia natans","8.55.3000","CNIDARIA"]
[null,null,null,"Ppar","Parazoanthus parasiticus",null,null,null,null,null,null,null,"Coen","Coenocyathus sp.","8.46.1250","CNIDARIA"]
[null,null,null,"Pped","Periclemenes pedersoni",null,null,null,null,null,null,null,"Cola","Colangia sp.","8.46.1900","CNIDARIA"]
[null,null,null,"Ppor","Porites porites",null,null,null,null,null,null,null,"Colp","Colpophyllia sp.","8.46.950","CNIDARIA"]
[null,null,null,"Ppue","Parazoanthus puertoricense",null,null,null,null,null,null,null,"Cond","Condylactis sp.","8.46.660","CNIDARIA"]
[null,null,null,"Psam","Pseudopterogorgia americana",null,null,null,null,null,null,null,"Crii","Carijoa riisei","8.55.40","CNIDARIA"]
[null,null,null,"Psbi","Pseudopterogorgia bipinnata",null,null,null,null,null,null,null,"Csim","Colangia simplex","8.55.6834","CNIDARIA"]
[null,null,null,"Psca","Pseudocorynactis caribbeorum",null,null,null,null,null,null,null,"Ctes","Callinectes sp.","58.46.1570"]
[null,null,null,"Pseu","Pseudoceratina sp.",null,null,null,null,null,null,null,"Ctri","Calliactis tricolor","8.55.1880","CNIDARIA"]
[null,null,null,"Psia","Pseudopterogorgia sp.",null,null,null,null,null,null,null,"Ctub","Cassis cf. tuberosa"]
[null,null,null,"Pspo","Pseudoplexaura porosa",null,null,null,null,null,null,null,"Danc","Desmapsamma anchorata"]
[null,null,null,"Psra","Pseudoplexaura sp.",null,null,null,null,null,null,null,"Dant","Diadema antillarum","60.55.2150"]
[null,null,null,"Pste","Psammocora stellata",null,null,null,null,null,null,null,"Dcar","Discosoma carlgreni","8.55.4500","CNIDARIA"]
[null,null,null,"Pswi","Parazoanthus swiftii",null,null,null,null,null,null,null,"Dcli","Diploria clivosa","8.55.2860","CNIDARIA"]
[null,null,null,"Pter","Pterogorgia sp.",null,null,null,null,null,null,null,"Dcyl","Dendrogyra cylindricus","8.55.3580","CNIDARIA"]
[null,null,null,"Ptun","Parazoanthus tunicans",null,null,null,null,null,null,null,"Diad","Diadema sp.","60.46.1135"]
[null,null,null,"Pvar","Pavona varians",null,null,null,null,null,null,null,"Dich","Dichocoenia sp.","8.46.1070","CNIDARIA"]
[null,null,null,"Pwag","Pseudoplexaura wagenaari",null,null,null,null,null,null,null,"Dipl","Diploria sp.","8.46.930","CNIDARIA"]
[null,null,null,"Rflo","Ricordia florida",null,null,null,null,null,null,null,"Disc","Discosoma sp.","8.46.1340","CNIDARIA"]
[null,null,null,"Rico","Ricordia sp.",null,null,null,null,null,null,null,"Dist","Dichocoenia stokesii","8.55.3540"]
[null,null,null,"Rsan","Rhodactis sanctithomae",null,null,null,null,null,null,null,"Dlab","Diploria labyrinthiformis","8.55.2900","CNIDARIA"]
[null,null,null,"Sbou","Solenastrea bournoni",null,null,null,null,null,null,null,"Dmex","Diadema mexicanum","60.55.2160"]
[null,null,null,"Scol","Scolymia sp.",null,null,null,null,null,null,null,"Dneg","Discosoma neglecta","8.55.4460","CNIDARIA"]
[null,null,null,"Scru","Selar crumenophthalmus",null,null,null,null,null,null,null,"Dnod","Diodogorgia nodulifera","8.55.100","CNIDARIA"]
[null,null,null,"ScSp","Scarus sp",null,null,null,null,null,null,null,"Dsan","Discosoma sanctithomae","8.55.4480","CNIDARIA"]
[null,null,null,"Scub","Scolymia cubensis",null,null,null,null,null,null,null,"Dste","Dichocoenia stellaris","8.55.3560","CNIDARIA"]
[null,null,null,"Scyl","Scyllarides sp.",null,null,null,null,null,null,null,"Dsto","Dichocoenia stokesii","8.55.3540","CNIDARIA"]
[null,null,null,"Sexs","Swiftia exserta",null,null,null,null,null,null,null,"Dstr","Diploria strigosa","8.55.2920","CNIDARIA"]
[null,null,null,"Sfil","Syringodium filiforme",null,null,null,null,null,null,null,"Ebar","Ellisella barbadensis","8.55.1180","CNIDARIA"]
[null,null,null,"SFil","Syringodium filiforme",null,null,null,null,null,null,null,"Ecal","Eunicea calyculata","8.55.420","CNIDARIA"]
[null,null,null,"Shel","Stichodactyla helianthus",null,null,null,null,null,null,null,"Ecar","Erythropodium caribaeorum","8.55.120","CNIDARIA"]
[null,null,null,"Shya","Solenastrea hyades",null,null,null,null,null,null,null,"Ecfe","Ectyoplasia ferox","4.55.76"]
[null,null,null,"Side","Siderastrea sp.",null,null,null,null,null,null,null,"Echi","Echinometra sp.","60.46.1185"]
[null,null,null,"Sint","Stephanocoenia intersepta",null,null,null,null,null,null,null,"Ecla","Eunicea clavigera","8.55.500","CNIDARIA"]
[null,null,null,"Slac","Scolymia lacera",null,null,null,null,null,null,null,"Ecru","Epicystis crucifer","8.55.1780","CNIDARIA"]
[null,null,null,"Slut","Stichopathes lutkeni",null,null,null,null,null,null,null,"Eelo","Ellisella elongata","8.55.1160","CNIDARIA"]
[null,null,null,"Smel","Stomolophus meleagris",null,null,null,null,null,null,null,"Efas","Eusmilia fastigiata","8.55.4000","CNIDARIA"]
[null,null,null,"Smic","Stephanocoenia michelini",null,null,null,null,null,null,null,"Efus","Eunicea fusca","8.55.520","CNIDARIA"]
[null,null,null,"Sole","Solenastrea sp.",null,null,null,null,null,null,null,"Elac","Eunicea laciniata","8.55.480","CNIDARIA"]
[null,null,null,"Spba","Sphyraena barracuda",null,null,null,null,null,null,null,"Elli","Ellisella sp.","8.46.430","CNIDARIA"]
[null,null,null,"Spug","Strombus pugilis",null,null,null,null,null,null,null,"Eluc","Echinometra lucunter","60.55.2280"]
[null,null,null,"Srad","Siderastrea radians",null,null,null,null,null,null,null,"Emam","Eunicea mammosa","8.55.400","CNIDARIA"]
[null,null,null,"Sros","Stylaster roseus",null,null,null,null,null,null,null,"Epal","Eunicea palmeri","8.55.6836","CNIDARIA"]
[null,null,null,"Srue","Stelletta sp.",null,null,null,null,null,null,null,"Epin","Eunicea pinta","8.55.6838","CNIDARIA"]
[null,null,null,"Ssid","Siderastrea siderea",null,null,null,null,null,null,null,"Eryt","Erythropodium sp.","8.46.100","CNIDARIA"]
[null,null,null,"Stco","Stereotelesto corallina",null,null,null,null,null,null,null,"Esuc","Eunicea succinea","8.55.340","CNIDARIA"]
[null,null,null,"Step","Stephanocoenia sp.",null,null,null,null,null,null,null,"Etou","Eunicea tourneforti","8.55.440","CNIDARIA"]
[null,null,null,"Stgi","Strombus gigas",null,null,null,null,null,null,null,"Etri","Eucidaris tribuloides","60.55.1950"]
[null,null,null,"Sthe","Stoichactis helianthus",null,null,null,null,null,null,null,"EuSp","Eucinostomus sp."]
[null,null,null,"Sthi","Stenopus hispidus",null,null,null,null,null,null,null,"Euci","Eucidaris sp.","60.46.1110"]
[null,null,null,"stic","Stichodactyla sp.",null,null,null,null,null,null,null,"Euni","Eunicea sp.","8.46.310","CNIDARIA"]
[null,null,null,"Stoi","Stoichactis sp.",null,null,null,null,null,null,null,"Eusm","Eusmilia sp.","8.46.1180","CNIDARIA"]
[null,null,null,"Stub","Spongia tubilifera",null,null,null,null,null,null,null,"Eust","Eustrombus sp"]
[null,null,null,"Styl","Stylaster sp.",null,null,null,null,null,null,null,"Evan","Echinometra vanbrunti","60.55.2300"]
[null,null,null,"Swel","Scolymia wellsi",null,null,null,null,null,null,null,"Evir","Echinometra viridis","60.55.2270"]
[null,null,null,"Swif","Swiftia sp.",null,null,null,null,null,null,null,"Favi","Favia sp.","8.46.920","CNIDARIA"]
[null,null,null,"szea","Svenzea zeai",null,null,null,null,null,null,null,"Ffra","Favia fragum","8.55.2840","CNIDARIA"]
[null,null,null,"Tame","Telmatactis americana",null,null,null,null,null,null,null,"Gard","Gardineroseris sp.","8.46.870","CNIDARIA"]
[null,null,null,"Tang","Turbinella cf. angullata",null,null,null,null,null,null,null,"Gfla","Gorgonia flabellum","8.55.1080","CNIDARIA"]
[null,null,null,"Taur","Tubastraea aurea",null,null,null,null,null,null,null,"Goma","Gorgonia mariae","8.55.6840","CNIDARIA"]
[null,null,null,"Tcoc","Tubastraea coccinea",null,null,null,null,null,null,null,"Gorg","Gorgonia sp.","8.46.400","CNIDARIA"]
[null,null,null,"Tele","Telesto sp.",null,null,null,null,null,null,null,"Gpla","Gardineroseris planulata","8.55.2680","CNIDARIA"]
[null,null,null,"Telm","Telmatactis sp.",null,null,null,null,null,null,null,"Gven","Gorgonia ventalina","8.55.1040","CNIDARIA"]
[null,null,null,"Tfru","Telesto fruticulosa",null,null,null,null,null,null,null,"HaSp","Haliclona sp."]
[null,null,null,"Tniv","Thesea nivea",null,null,null,null,null,null,null,"Hast","Hesperacidaris asteriscus","60.55.3388"]
[null,null,null,"Trde","Tripneustes depressus",null,null,null,null,null,null,null,"Hata","Hermodice carunculata","54.55.50"]
[null,null,null,"Tros","Toxopneustes roseus",null,null,null,null,null,null,null,"Hbai","Halophila baillonis","2040.55.1005"]
[null,null,null,"Trve","Tripneustes ventricosus",null,null,null,null,null,null,null,"Hcuc","Helioseris cucullata","8.55.2580","CNIDARIA"]
[null,null,null,"TTes","Thalassia testudinum",null,null,null,null,null,null,null,"Hdes","Halophila decipiens","2040.55.1010"]
[null,null,null,"Tuba","Tubastraea sp.",null,null,null,null,null,null,null,"Heli","Helioseris sp.","8.46.850","CNIDARIA"]
[null,null,null,"Uhis","Ulosa hispida",null,null,null,null,null,null,null,"Herm","Hermodice sp.","54.46.41"]
[null,null,null,"Vglo","Viatrix globulifera",null,null,null,null,null,null,null,"Hesp","Hesperacidaris sp.","60.46.1832"]
[null,null,null,"Viat","Viatrix sp.",null,null,null,null,null,null,null,"Hmex","Holothuria mexicana"]
[null,null,null,"Vmur","Vasum muricatum",null,null,null,null,null,null,null,"Holo","Holothuria sp"]
[null,null,null,"Xmut","Xestospongia muta",null,null,null,null,null,null,null,"Hpen","Hypnogorgia pendula","8.55.6660","CNIDARIA"]
[null,null,null,"Zoan","Zoanthus sp.",null,null,null,null,null,null,null,"Huat","Heterogorgia uatumani","8.55.6842","CNIDARIA"]
[null,null,null,"Zpul","Zoanthus pulchellus",null,null,null,null,null,null,null,"Ibad","Isostichopus badionotus"]
[null,null,null,"Zsoc","Zoanthus sociatus",null,null,null,null,null,null,null,"Ibir","Iotrochota birotulata","4.55.55","Porifera",null,null,"IOTROCHOTIDAE"]
[null,null,null,"Aafe","Alphestes afer",null,null,null,null,null,null,null,"Icil","Iciligorgia sp.","8.46.60","CNIDARIA"]
[null,null,null,"Aaga","Agaricia agaricites",null,null,null,null,null,null,null,"Iobi","Iotrochota birotulata","4.55.55"]
[null,null,null,"Aatl","Antipathes atlantica",null,null,null,null,null,null,null,"Irci","Ircinia sp.","4.46.475"]
[null,null,null,"Abar","Antipathes barbadensis",null,null,null,null,null,null,null,"Irig","Isophyllastrea rigida","8.55.3700","CNIDARIA"]
[null,null,null,"Aber","Actinia bermudensis",null,null,null,null,null,null,null,"Isch","Iciligorgia schrammi","8.55.80","CNIDARIA"]
[null,null,null,"Acer","Acropora cervicornis",null,null,null,null,null,null,null,"Isia","Isophyllia sp.","8.46.1110","CNIDARIA"]
[null,null,null,"Acla","Agelas clathrodes",null,null,null,null,null,null,null,"Isin","Isophyllia sinuosa","8.55.3680","CNIDARIA"]
[null,null,null,"Acon","Agelas conifera",null,null,null,null,null,null,null,"Isop","Isophyllastrea sp.","8.46.1120","CNIDARIA"]
[null,null,null,"Acro","Acropora sp.",null,null,null,null,null,null,null,"Istr","Ircinia strobilina","4.55.131"]
[null,null,null,"Adis","Agelas dispar",null,null,null,null,null,null,null,"Lalb","Lophogorgia alba","8.55.6848","CNIDARIA"]
[null,null,null,"Aele","Actinoporus elegans",null,null,null,null,null,null,null,"Lcor","Lebrunia coralligens","8.55.1600","CNIDARIA"]
[null,null,null,"Afra","Agaricia fragilis",null,null,null,null,null,null,null,"Lcuc","Leptoseris cucullata","8.55.2580","CNIDARIA"]
[null,null,null,"Aful","Aplysina fulva",null,null,null,null,null,null,null,"Ldan","Lebrunia danae","8.55.1620","CNIDARIA"]
[null,null,null,"Agar","Agaricia sp.",null,null,null,null,null,null,null,"Lebr","Lebrunia sp.","8.46.580","CNIDARIA"]
[null,null,null,"Agel","Agelas sp.",null,null,null,null,null,null,null,"Lept","Leptoseris sp.","8.46.840","CNIDARIA"]
[null,null,null,"Agra","Agaricia grahamae",null,null,null,null,null,null,null,"Lgia","Lophogorgia sp.","8.46.360","CNIDARIA"]
[null,null,null,"Ahir","Antipathes hirta",null,null,null,null,null,null,null,"Lgig","Lobatus gigas "]
[null,null,null,"Ahum","Agaricia humilis",null,null,null,null,null,null,null,"Lgra","Lysmata grabhami","58.55.120"]
[null,null,null,"Akre","Anthopleura krebsi",null,null,null,null,null,null,null,"Lheb","Lophogorgia hebes","8.55.6844","CNIDARIA"]
[null,null,null,"Alam","Agaricia lamarcki",null,null,null,null,null,null,null,"Lmin","Lophogorgia miniata","8.55.860","CNIDARIA"]
[null,null,null,"Alen","Antipathes lenta",null,null,null,null,null,null,null,"Lnuc","Labrisomus nuchipinnis"]
[null,null,null,"Amir","Alicia mirabilis",null,null,null,null,null,null,null,"Loph","Lophogorgi sp.","8.46.360","CNIDARIA"]
[null,null,null,"Angr","Antipathes gracilis",null,null,null,null,null,null,null,"Ltus","Lytechinus variegatus","60.55.2230"]
[null,null,null,"Anoc","Arachnanthus nocturnus",null,null,null,null,null,null,null,"Lvir","Lophogorgia virgulata","8.55.6846","CNIDARIA"]
[null,null,null,"Anti","Antipathes sp.",null,null,null,null,null,null,null,"Lwil","Lytechinus williamsi","60.55.2240"]
[null,null,null,"Apal","Acropora palmata",null,null,null,null,null,null,null,"Lyte","Lytechinus sp.","60.46.1160"]
[null,null,null,"Apar","Aplysina archeri",null,null,null,null,null,null,null,"Lyva","Lytechinus variegatus","60.55.2230"]
[null,null,null,"Apen","Antipathes pennacea",null,null,null,null,null,null,null,"Madr","Madracis sp.","8.46.800","CNIDARIA"]
[null,null,null,"Aply","Aplysina sp.",null,null,null,null,null,null,null,"Malc","Millepora alcicornis","8.55.5600","CNIDARIA"]
[null,null,null,"Apro","Acropora prolifera",null,null,null,null,null,null,null,"Mali","Mycetophyllia aliciae","8.55.3800","CNIDARIA"]
[null,null,null,"Apul","Astropiga pulvinata",null,null,null,null,null,null,null,"Mang","Mussa angulosa","8.55.3640","CNIDARIA"]
[null,null,null,"Asch","Agelas schmidti",null,null,null,null,null,null,null,"Mani","Manicina sp.","8.46.940","CNIDARIA"]
[null,null,null,"Asol","Astrangia solitaria",null,null,null,null,null,null,null,"Mann","Montastraea annularis","8.55.3120","CNIDARIA"]
[null,null,null,"Atag","Aiptasia tagetes",null,null,null,null,null,null,null,"Mare","Manicina areolata","8.55.2940","CNIDARIA"]
[null,null,null,"Atan","Antipathes tanacetum",null,null,null,null,null,null,null,"Matl","Muricea atlantica","8.55.740","CNIDARIA"]
[null,null,null,"Aten","Agaricia tenuifolia",null,null,null,null,null,null,null,"Mbic","Microphrys bicornutus"]
[null,null,null,"Aund","Agaricia undata",null,null,null,null,null,null,null,"Mcav","Montastraea cavernosa","8.55.3140","CNIDARIA"]
[null,null,null,"Awie","Agelas wiedenmyeri",null,null,null,null,null,null,null,"Mcom","Millepora complanata","8.55.5620","CNIDARIA"]
[null,null,null,"Bala","Balanophyllia sp.",null,null,null,null,null,null,null,"Mdan","Mycetophyllia danaana","8.55.3820","CNIDARIA"]
[null,null,null,"Bann","Bartholomea annulata",null,null,null,null,null,null,null,"Mdec","Madracis decactis","8.55.2140","CNIDARIA"]
[null,null,null,"Bart","Bartholomea sp.",null,null,null,null,null,null,null,"Mean","Meandrina sp.","8.46.1060","CNIDARIA"]
[null,null,null,"Basb","Briareum asbestinum",null,null,null,null,null,null,null,"Melo","Muricea elongata","8.55.720","CNIDARIA"]
[null,null,null,"Bflo","Balanophyllia floridana",null,null,null,null,null,null,null,"Mfav","Montastraea faveolata","8.55.3160","CNIDARIA"]
[null,null,null,"Bgra","Bunodosoma granuliferum",null,null,null,null,null,null,null,"Mfer","Mycetophyllia ferox","8.55.3720","CNIDARIA"]
[null,null,null,"Bria","Briareum sp.",null,null,null,null,null,null,null,"Mfla","Muriceopsis flavida","8.55.560","CNIDARIA"]
[null,null,null,"Call","Cinachyra alloclada",null,null,null,null,null,null,null,"Mfor","Madracis formosa","8.55.2120","CNIDARIA"]
[null,null,null,"Cama","Caryophyllia maculata",null,null,null,null,null,null,null,"Mfra","Montastraea franksi","8.55.3180","CNIDARIA"]
[null,null,null,"Cara","Caranx sp.",null,null,null,null,null,null,null,"Mill","Millepora sp.","8.46.1720","CNIDARIA"]
[null,null,null,"Carb","Cladocora arbuscula",null,null,null,null,null,null,null,"Mitr","Mythrax sp.","58.46.1390"]
[null,null,null,"Cary","Caryophyllia sp.",null,null,null,null,null,null,null,"Mjak","Meandrina jacksoni","8.46.1060"]
[null,null,null,"Cass","Cassiopea sp",null,null,null,null,null,null,null,"Mlam","Mycetophyllia lamarckiana","8.55.3840","CNIDARIA"]
[null,null,null,"Cbre","Colpophyllia breviserialis",null,null,null,null,null,null,null,"Mmay","Manicina mayori","8.55.6850","CNIDARIA"]
[null,null,null,"Ccar","Chondrilla caribensis",null,null,null,null,null,null,null,"Mmea","Meandrina meandrites","8.55.3520","CNIDARIA"]
[null,null,null,"Ceco","Centrostephanus coronatus",null,null,null,null,null,null,null,"Mmir","Madracis mirabilis","8.55.2160","CNIDARIA"]
[null,null,null,"Ceri","Cerithium sp.",null,null,null,null,null,null,null,"Mmur","Muricea muricata","8.55.800","CNIDARIA"]
[null,null,null,"Cflo","Caryophyllia flos",null,null,null,null,null,null,null,"Mont","Montastraea sp.","8.46.960","CNIDARIA"]
[null,null,null,"Cgib","Cyphoma gibbosum",null,null,null,null,null,null,null,"Mpen","Muricea pendula","8.55.780","CNIDARIA"]
[null,null,null,"Cgig","Condylactis gigantea",null,null,null,null,null,null,null,"Mpet","Muriceopsis petila","8.55.6852","CNIDARIA"]
[null,null,null,"Cimm","Colangia immersa",null,null,null,null,null,null,null,"Mpha","Madracis pharensis","8.55.2180","CNIDARIA"]
[null,null,null,"Cina","Cinachyra sp.",null,null,null,null,null,null,null,"Mpin","Muricea pinnata","8.55.700","CNIDARIA"]
[null,null,null,"Clad","Cladopsammia sp.",null,null,null,null,null,null,null,"Mree","Mycetophyllia reesi","8.55.3860","CNIDARIA"]
[null,null,null,"Cldo","Cladocora sp.",null,null,null,null,null,null,null,"Msen","Madracis senaria","8.55.2220","CNIDARIA"]
[null,null,null,"Cleu","Cirrhipathes leutkeni",null,null,null,null,null,null,null,"Msis","Muriceopsis sp.","8.46.320","CNIDARIA"]
[null,null,null,"Clio","Cliona sp.",null,null,null,null,null,null,null,"Mspi","Mythrax spinosissimus","58.55.330"]
[null,null,null,"Cmad","Cassis madagascariensis",null,null,null,null,null,null,null,"Msqu","Millepora squarrosa","8.55.5640","CNIDARIA"]
[null,null,null,"Cnat","Colpophyllia natans",null,null,null,null,null,null,null,"Mula","Muricea laxa","8.55.760","CNIDARIA"]
[null,null,null,"Coen","Coenocyathus sp.",null,null,null,null,null,null,null,"Muri","Muricea sp.","8.46.340","CNIDARIA"]
[null,null,null,"Cola","Colangia sp.",null,null,null,null,null,null,null,"Mven","Meoma ventricosa"]
[null,null,null,"Colp","Colpophyllia sp.",null,null,null,null,null,null,null,"Myce","Mycetophyllia sp.","8.46.1130","CNIDARIA"]
[null,null,null,"Cond","Condylactis sp.",null,null,null,null,null,null,null,"Nbra","Narcine brasiliensis"]
[null,null,null,"Crii","Carijoa riisei",null,null,null,null,null,null,null,"Nere","Niphates erecta","4.55.97"]
[null,null,null,"Csim","Colangia simplex",null,null,null,null,null,null,null,"Ngor","Nicella goreaui","8.55.6854","CNIDARIA"]
[null,null,null,"Ctes","Callinectes sp.",null,null,null,null,null,null,null,"Nice","Nicella sp.","8.46.440","CNIDARIA"]
[null,null,null,"Ctri","Calliactis tricolor",null,null,null,null,null,null,null,"Niph","Niphates sp.","4.46.220"]
[null,null,null,"Ctub","Cassis cf. tuberosa",null,null,null,null,null,null,null,"Nnit","Nitidella nitida"]
[null,null,null,"Danc","Desmapsamma anchorata",null,null,null,null,null,null,null,"Npor","Neospongodes portoricensis","8.55.6210","CNIDARIA"]
[null,null,null,"Dant","Diadema antillarum",null,null,null,null,null,null,null,"Nsch","Nicella schmitti","8.55.1200","CNIDARIA"]
[null,null,null,"Dcar","Discosoma carlgreni",null,null,null,null,null,null,null,"Octo","Octopus sp.","52.46.4770"]
[null,null,null,"Dcli","Diploria clivosa",null,null,null,null,null,null,null,"Ocul","Oculina sp.","8.46.1040","CNIDARIA"]
[null,null,null,"Dcyl","Dendrogyra cylindricus",null,null,null,null,null,null,null,"Odif","Oculina diffusa","8.55.3480","CNIDARIA"]
[null,null,null,"Diad","Diadema sp.",null,null,null,null,null,null,null,"Ophc","Ophiocoma sp."]
[null,null,null,"Dich","Dichocoenia sp.",null,null,null,null,null,null,null,"Ophi","Ophioderma sp."]
[null,null,null,"Dipl","Diploria sp.",null,null,null,null,null,null,null,"Oret","Oreaster reticulatus"]
[null,null,null,"Disc","Discosoma sp.",null,null,null,null,null,null,null,"Orob","Oculina robusta","8.55.6856","CNIDARIA"]
[null,null,null,"Dist","Dichocoenia stokesii",null,null,null,null,null,null,null,"Oten","Oculina tenella","8.55.6568","CNIDARIA"]
[null,null,null,"Dlab","Diploria labyrinthiformis",null,null,null,null,null,null,null,"Oval","Oculina valenciennesi","8.55.6858","CNIDARIA"]
[null,null,null,"Dmex","Diadema mexicanum",null,null,null,null,null,null,null,"Ovar","Oculina varicosa","8.55.6570","CNIDARIA"]
[null,null,null,"Dneg","Discosoma neglecta",null,null,null,null,null,null,null,"Pace","Pseudopterogorgia acerosa","8.55.980","CNIDARIA"]
[null,null,null,"Dnod","Diodogorgia nodulifera",null,null,null,null,null,null,null,"Pali","Palinurellus sp.","58.46.750"]
[null,null,null,"Dsan","Discosoma sanctithomae",null,null,null,null,null,null,null,"Paly","Palythoa sp.","8.46.570","CNIDARIA"]
[null,null,null,"Dste","Dichocoenia stellaris",null,null,null,null,null,null,null,"Panc","Pterogorgia anceps","8.55.1120","CNIDARIA"]
[null,null,null,"Dsto","Dichocoenia stokesii",null,null,null,null,null,null,null,"Panu","Panulirus sp.","58.46.710"]
[null,null,null,"Dstr","Diploria strigosa",null,null,null,null,null,null,null,"Para","Parazoanthus sp.","8.46.530","CNIDARIA"]
[null,null,null,"Ebar","Ellisella barbadensis",null,null,null,null,null,null,null,"Parg","Panulirus argus","58.55.164"]
[null,null,null,"Ecal","Eunicea calyculata",null,null,null,null,null,null,null,"Past","Porites astreoides","8.55.5960","CNIDARIA"]
[null,null,null,"Ecar","Erythropodium caribaeorum",null,null,null,null,null,null,null,"Pavo","Pavona sp.","8.46.860","CNIDARIA"]
[null,null,null,"Ecfe","Ectyoplasia ferox",null,null,null,null,null,null,null,"Pbra","Porites branneri","8.55.2780","CNIDARIA"]
[null,null,null,"Echi","Echinometra sp.",null,null,null,null,null,null,null,"Pcal","Porites californica","8.55.2820","CNIDARIA"]
[null,null,null,"Ecla","Eunicea clavigera",null,null,null,null,null,null,null,"Pcap","Pocillopora capitata","8.55.2300","CNIDARIA"]
[null,null,null,"Ecru","Epicystis crucifer",null,null,null,null,null,null,null,"Pcar","Palythoa caribaeorum","8.55.1560","CNIDARIA"]
[null,null,null,"Eelo","Ellisella elongata",null,null,null,null,null,null,null,"Pchi","Pavona chirriquiensis","8.55.6640","CNIDARIA"]
[null,null,null,"Efas","Eusmilia fastigiata",null,null,null,null,null,null,null,"Pcit","Pterogorgia citrina","8.55.1140","CNIDARIA"]
[null,null,null,"Efus","Eunicea fusca",null,null,null,null,null,null,null,"Pcla","Pavona clavus","8.55.2600","CNIDARIA"]
[null,null,null,"Elac","Eunicea laciniata",null,null,null,null,null,null,null,"Pcol","Porites colonensis","8.55.6582","CNIDARIA"]
[null,null,null,"Elli","Ellisella sp.",null,null,null,null,null,null,null,"Pcor","Phormidium corallyticum","5040.55.40"]
[null,null,null,"Eluc","Echinometra lucunter",null,null,null,null,null,null,null,"Pcru","Pseudoplexaura crucis","8.55.6866","CNIDARIA"]
[null,null,null,"Emam","Eunicea mammosa",null,null,null,null,null,null,null,"Pdam","Pocillopora damicornis","8.55.2260","CNIDARIA"]
[null,null,null,"Epal","Eunicea palmeri",null,null,null,null,null,null,null,"Pdic","Plexaurella dichotoma","8.55.640","CNIDARIA"]
[null,null,null,"Epin","Eunicea pinta",null,null,null,null,null,null,null,"Pdiv","Porites divaricata","8.55.6584","CNIDARIA"]
[null,null,null,"Eryt","Erythropodium sp.",null,null,null,null,null,null,null,"Pele","Pocillopora elegans","8.55.2340","CNIDARIA"]
[null,null,null,"Esuc","Eunicea succinea",null,null,null,null,null,null,null,"Peli","Pseudopterogorgia elizabethae","8.55.6722","CNIDARIA"]
[null,null,null,"Etou","Eunicea tourneforti",null,null,null,null,null,null,null,"Peyd","Pocillopora eydouxi","8.55.2360","CNIDARIA"]
[null,null,null,"Etri","Eucidaris tribuloides",null,null,null,null,null,null,null,"Pfla","Pseudoplexaura flagellosa","8.55.320","CNIDARIA"]
[null,null,null,"Euci","Eucidaris sp.",null,null,null,null,null,null,null,"Pfle","Plexaura flexuosa","8.55.180","CNIDARIA"]
[null,null,null,"Euni","Eunicea sp.",null,null,null,null,null,null,null,"Pfro","Pavona frondifera","8.55.6862","CNIDARIA"]
[null,null,null,"Eusm","Eusmilia sp.",null,null,null,null,null,null,null,"Pfur","Porites furcata","8.55.6586","CNIDARIA"]
[null,null,null,"EuSp","Eucinostomus sp.",null,null,null,null,null,null,null,"Pgig","Pavona gigantea","8.55.2620","CNIDARIA"]
[null,null,null,"Eust","Eustrombus sp",null,null,null,null,null,null,null,"Pgra","Palythoa grandis","8.55.1580","CNIDARIA"]
[null,null,null,"Evan","Echinometra vanbrunti",null,null,null,null,null,null,null,"Pgri","Plexaurella grisea","8.55.680","CNIDARIA"]
[null,null,null,"Evir","Echinometra viridis",null,null,null,null,null,null,null,"Pgua","Pterogorgia guadalupensis","8.55.1100","CNIDARIA"]
[null,null,null,"Favi","Favia sp.",null,null,null,null,null,null,null,"Pgut","Panulirus guttatus","58.55.1088"]
[null,null,null,"Ffra","Favia fragum",null,null,null,null,null,null,null,"Phcr","Phymanthus crucifer","8.55.1780","CNIDARIA"]
[null,null,null,"Gard","Gardineroseris sp.",null,null,null,null,null,null,null,"Phfl","Phyllactis flosculifera","8.55.6864","CNIDARIA"]
[null,null,null,"Gfla","Gorgonia flabellum",null,null,null,null,null,null,null,"Phom","Plexaura homomalla","8.55.200","CNIDARIA"]
[null,null,null,"Goma","Gorgonia mariae",null,null,null,null,null,null,null,"Pinn","Pinna sp"]
[null,null,null,"Gorg","Gorgonia sp.",null,null,null,null,null,null,null,"Plex","Plexaura sp.","8.46.280","CNIDARIA"]
[null,null,null,"Gpla","Gardineroseris planulata",null,null,null,null,null,null,null,"Plla","Plexaurella sp.","8.46.330","CNIDARIA"]
[null,null,null,"Gven","Gorgonia ventalina",null,null,null,null,null,null,null,"Plob","Porites lobata","8.55.2790","CNIDARIA"]
[null,null,null,"HaSp","Haliclona sp.",null,null,null,null,null,null,null,"Pmal","Pavona maldiviensis","8.55.2600","CNIDARIA"]
[null,null,null,"Hast","Hesperacidaris asteriscus",null,null,null,null,null,null,null,"Pmam","Palythoa mammillosa","8.55.1540","CNIDARIA"]
[null,null,null,"Hata","Hermodice carunculata",null,null,null,null,null,null,null,"Pmea","Pocillopora meandrites","8.55.6814","CNIDARIA"]
[null,null,null,"Hbai","Halophila baillonis",null,null,null,null,null,null,null,"Pnin","Plexaura nina","8.55.260","CNIDARIA"]
[null,null,null,"Hcuc","Helioseris cucullata",null,null,null,null,null,null,null,"Pnut","Plexaurella nutans","8.55.620","CNIDARIA"]
[null,null,null,"Hdes","Halophila decipiens",null,null,null,null,null,null,null,"Poci","Pocillopora sp.","8.46.810","CNIDARIA"]
[null,null,null,"Heli","Helioseris sp.",null,null,null,null,null,null,null,"Pora","Psammocora sp.","8.46.790","CNIDARIA"]
[null,null,null,"Herm","Hermodice sp.",null,null,null,null,null,null,null,"Pori","Porites sp.","8.46.910","CNIDARIA"]
[null,null,null,"Hesp","Hesperacidaris sp.",null,null,null,null,null,null,null,"Ppan","Porites panamensis","8.55.2800","CNIDARIA"]
[null,null,null,"Hmex","Holothuria mexicana",null,null,null,null,null,null,null,"Ppar","Parazoanthus parasiticus","8.55.1420","CNIDARIA"]
[null,null,null,"Holo","Holothuria sp",null,null,null,null,null,null,null,"Pped","Periclemenes pedersoni","58.55.51"]
[null,null,null,"Hpen","Hypnogorgia pendula",null,null,null,null,null,null,null,"Ppor","Porites porites","8.55.2760","CNIDARIA"]
[null,null,null,"Huat","Heterogorgia uatumani",null,null,null,null,null,null,null,"Ppue","Parazoanthus puertoricense","8.55.1440","CNIDARIA"]
[null,null,null,"Ibad","Isostichopus badionotus",null,null,null,null,null,null,null,"Psam","Pseudopterogorgia americana","8.55.920","CNIDARIA"]
[null,null,null,"Ibir","Iotrochota birotulata",null,null,null,null,null,null,null,"Psbi","Pseudopterogorgia bipinnata","8.55.960","CNIDARIA"]
[null,null,null,"Icil","Iciligorgia sp.",null,null,null,null,null,null,null,"Psca","Pseudocorynactis caribbeorum","8.55.4440","CNIDARIA"]
[null,null,null,"Iobi","Iotrochota birotulata",null,null,null,null,null,null,null,"Pseu","Pseudoceratina sp.","4.46.310"]
[null,null,null,"Irci","Ircinia sp.",null,null,null,null,null,null,null,"Psia","Pseudopterogorgia sp.","8.46.390","CNIDARIA"]
[null,null,null,"Irig","Isophyllastrea rigida",null,null,null,null,null,null,null,"Pspo","Pseudoplexaura porosa","8.55.280","CNIDARIA"]
[null,null,null,"Isch","Iciligorgia schrammi",null,null,null,null,null,null,null,"Psra","Pseudoplexaura sp.","8.46.290","CNIDARIA"]
[null,null,null,"Isia","Isophyllia sp.",null,null,null,null,null,null,null,"Pste","Psammocora stellata","8.55.2000","CNIDARIA"]
[null,null,null,"Isin","Isophyllia sinuosa",null,null,null,null,null,null,null,"Pswi","Parazoanthus swiftii","8.55.1380","CNIDARIA"]
[null,null,null,"Isop","Isophyllastrea sp.",null,null,null,null,null,null,null,"Pter","Pterogorgia sp.","8.46.420","CNIDARIA"]
[null,null,null,"Istr","Ircinia strobilina",null,null,null,null,null,null,null,"Ptun","Parazoanthus tunicans","8.55.6860","CNIDARIA"]
[null,null,null,"Lalb","Lophogorgia alba",null,null,null,null,null,null,null,"Pvar","Pavona varians","8.55.2640","CNIDARIA"]
[null,null,null,"Lcor","Lebrunia coralligens",null,null,null,null,null,null,null,"Pwag","Pseudoplexaura wagenaari","8.55.300","CNIDARIA"]
[null,null,null,"Lcuc","Leptoseris cucullata",null,null,null,null,null,null,null,"Rflo","Ricordia florida","8.55.4500","CNIDARIA"]
[null,null,null,"Ldan","Lebrunia danae",null,null,null,null,null,null,null,"Rico","Ricordia sp.","8.46.1350","CNIDARIA"]
[null,null,null,"Lebr","Lebrunia sp.",null,null,null,null,null,null,null,"Rsan","Rhodactis sanctithomae","8.55.4480","CNIDARIA"]
[null,null,null,"Lept","Leptoseris sp.",null,null,null,null,null,null,null,"SFil","Syringodium filiforme","2040.55.1015"]
[null,null,null,"Lgia","Lophogorgia sp.",null,null,null,null,null,null,null,"Sbou","Solenastrea bournoni","8.55.3240","CNIDARIA"]
[null,null,null,"Lgra","Lysmata grabhami",null,null,null,null,null,null,null,"ScSp","Scarus sp","70.46.275"]
[null,null,null,"Lheb","Lophogorgia hebes",null,null,null,null,null,null,null,"Scol","Scolymia sp.","8.46.1090","CNIDARIA"]
[null,null,null,"Lmin","Lophogorgia miniata",null,null,null,null,null,null,null,"Scru","Selar crumenophthalmus"]
[null,null,null,"Lnuc","Labrisomus nuchipinnis",null,null,null,null,null,null,null,"Scub","Scolymia cubensis","8.55.3600","CNIDARIA"]
[null,null,null,"Loph","Lophogorgi sp.",null,null,null,null,null,null,null,"Scyl","Scyllarides sp.","58.46.730"]
[null,null,null,"Ltus","Lytechinus variegatus",null,null,null,null,null,null,null,"Sexs","Swiftia exserta","8.55.6662","CNIDARIA"]
[null,null,null,"Lvir","Lophogorgia virgulata",null,null,null,null,null,null,null,"Sfil","Syringodium filiforme","2040.55.1015"]
[null,null,null,"Lwil","Lytechinus williamsi",null,null,null,null,null,null,null,"Shel","Stichodactyla helianthus","8.40.650","CNIDARIA"]
[null,null,null,"Lyte","Lytechinus sp.",null,null,null,null,null,null,null,"Shya","Solenastrea hyades","8.55.3220","CNIDARIA"]
[null,null,null,"Lyva","Lytechinus variegatus",null,null,null,null,null,null,null,"Side","Siderastrea sp.","8.46.900","CNIDARIA"]
[null,null,null,"Madr","Madracis sp.",null,null,null,null,null,null,null,"Sint","Stephanocoenia intersepta","8.55.1980","CNIDARIA"]
[null,null,null,"Malc","Millepora alcicornis",null,null,null,null,null,null,null,"Slac","Scolymia lacera","8.55.3620","CNIDARIA"]
[null,null,null,"Mali","Mycetophyllia aliciae",null,null,null,null,null,null,null,"Slut","Stichopathes lutkeni","8.55.1360","CNIDARIA"]
[null,null,null,"Mang","Mussa angulosa",null,null,null,null,null,null,null,"Smel","Stomolophus meleagris"]
[null,null,null,"Mani","Manicina sp.",null,null,null,null,null,null,null,"Smic","Stephanocoenia michelini","8.55.1960","CNIDARIA"]
[null,null,null,"Mann","Montastraea annularis",null,null,null,null,null,null,null,"Sole","Solenastrea sp.","8.46.980","CNIDARIA"]
[null,null,null,"Mare","Manicina areolata",null,null,null,null,null,null,null,"Spba","Sphyraena barracuda","70.55.669"]
[null,null,null,"Matl","Muricea atlantica",null,null,null,null,null,null,null,"Spug","Strombus pugilis"]
[null,null,null,"Mcav","Montastraea cavernosa",null,null,null,null,null,null,null,"Srad","Siderastrea radians","8.55.2740","CNIDARIA"]
[null,null,null,"Mcom","Millepora complanata",null,null,null,null,null,null,null,"Sros","Stylaster roseus","8.55.5900","CNIDARIA"]
[null,null,null,"Mdan","Mycetophyllia danaana",null,null,null,null,null,null,null,"Srue","Stelletta sp."]
[null,null,null,"Mdec","Madracis decactis",null,null,null,null,null,null,null,"Ssid","Siderastrea siderea","8.55.2720","CNIDARIA"]
[null,null,null,"Mean","Meandrina sp.",null,null,null,null,null,null,null,"Stco","Stereotelesto corallina","8.55.6870","CNIDARIA"]
[null,null,null,"Melo","Muricea elongata",null,null,null,null,null,null,null,"Step","Stephanocoenia sp.","8.46.780","CNIDARIA"]
[null,null,null,"Mfav","Montastraea faveolata",null,null,null,null,null,null,null,"Stgi","Strombus gigas","52.55.2130"]
[null,null,null,"Mfer","Mycetophyllia ferox",null,null,null,null,null,null,null,"Sthe","Stoichactis helianthus","8.55.1820","CNIDARIA"]
[null,null,null,"Mfla","Muriceopsis flavida",null,null,null,null,null,null,null,"Sthi","Stenopus hispidus","58.55.24"]
[null,null,null,"Mfor","Madracis formosa",null,null,null,null,null,null,null,"Stoi","Stoichactis sp.","8.46.680","CNIDARIA"]
[null,null,null,"Mfra","Montastraea franksi",null,null,null,null,null,null,null,"Stub","Spongia tubilifera"]
[null,null,null,"Mill","Millepora sp.",null,null,null,null,null,null,null,"Styl","Stylaster sp.","8.46.1750","CNIDARIA"]
[null,null,null,"Mitr","Mythrax sp.",null,null,null,null,null,null,null,"Swel","Scolymia wellsi","8.55.6562","CNIDARIA"]
[null,null,null,"Mjak","Meandrina jacksoni",null,null,null,null,null,null,null,"Swif","Swiftia sp.","8.46.250","CNIDARIA"]
[null,null,null,"Mlam","Mycetophyllia lamarckiana",null,null,null,null,null,null,null,"TTes","Thalassia testudinum","2040.55.1500"]
[null,null,null,"Mmay","Manicina mayori",null,null,null,null,null,null,null,"Tame","Telmatactis americana","8.55.1860","CNIDARIA"]
[null,null,null,"Mmea","Meandrina meandrites",null,null,null,null,null,null,null,"Tang","Turbinella cf. angullata"]
[null,null,null,"Mmir","Madracis mirabilis",null,null,null,null,null,null,null,"Taur","Tubastraea aurea","8.55.4260","CNIDARIA"]
[null,null,null,"Mmur","Muricea muricata",null,null,null,null,null,null,null,"Tcoc","Tubastraea coccinea","8.55.4280","CNIDARIA"]
[null,null,null,"Mont","Montastraea sp.",null,null,null,null,null,null,null,"Tele","Telesto sp.","8.46.10","CNIDARIA"]
[null,null,null,"Mpen","Muricea pendula",null,null,null,null,null,null,null,"Telm","Telmatactis sp.","8.46.700","CNIDARIA"]
[null,null,null,"Mpet","Muriceopsis petila",null,null,null,null,null,null,null,"Tfru","Telesto fruticulosa","8.55.6872","CNIDARIA"]
[null,null,null,"Mpha","Madracis pharensis",null,null,null,null,null,null,null,"Tniv","Thesea nivea","8.55.6874","CNIDARIA"]
[null,null,null,"Mpin","Muricea pinnata",null,null,null,null,null,null,null,"Trde","Tripneustes depressus","60.46.1170"]
[null,null,null,"Mree","Mycetophyllia reesi",null,null,null,null,null,null,null,"Tros","Toxopneustes roseus","60.55.3462"]
[null,null,null,"Msen","Madracis senaria",null,null,null,null,null,null,null,"Trve","Tripneustes ventricosus","60.55.2250"]
[null,null,null,"UJAM","Urobatis jamaicensis",null,null,null,null,null,null,null,"Tuba","Tubastraea sp.","8.46.1280","CNIDARIA"]
[null,null,null,"AMVI","Amphimedon viridis",null,null,null,null,null,null,null,"UJAM","Urobatis jamaicensis","70.55.38"]
[null,null,null,"Asem","Atrina seminuda",null,null,null,null,null,null,null,"Uhis","Ulosa hispida","4.55.247"]
[null,null,null,"Aser","Anachis sertulariarum",null,null,null,null,null,null,null,"Vglo","Viatrix globulifera","8.55.6391","CNIDARIA"]
[null,null,null,"CANT","Clibanarius antillensis",null,null,null,null,null,null,null,"Viat","Viatrix sp.","8.46.2062","CNIDARIA"]
[null,null,null,"CROS","Clypeaster rosaceus",null,null,null,null,null,null,null,"Vmur","Vasum muricatum"]
[null,null,null,"Lgig","Lobatus gigas ",null,null,null,null,null,null,null,"Xmut","Xestospongia muta","4.55.118"]
[null,null,null,"Mbic","Microphrys bicornutus",null,null,null,null,null,null,null,"Zoan","Zoanthus sp.","8.46.540","CNIDARIA"]
[null,null,null,"Mven","Meoma ventricosa",null,null,null,null,null,null,null,"Zpul","Zoanthus pulchellus","8.55.1500","CNIDARIA"]
[null,null,null,"Nnit","Nitidella nitida",null,null,null,null,null,null,null,"Zsoc","Zoanthus sociatus","8.55.1480","CNIDARIA"]
[null,null,null,"Ophc","Ophiocoma sp.",null,null,null,null,null,null,null,"stic","Stichodactyla sp.","8.40.650","CNIDARIA"]
[null,null,null,"Oret","Oreaster reticulatus",null,null,null,null,null,null,null,"szea","Svenzea zeai","4.55.267"]

{"sheet":"OTRAS REFERENCIAS","index":5,"n_rows":24,"n_cols":7,"rows_kept":24,"cut":false,"hidden":false,"merged":[[0,0,2,10],[4,0,4,1],[4,5,4,6],[11,0,11,2]]}
["Estas son listas para variables con valores que no se encuentran codificados, pero que deben manejarse de manera estandarizada. \nSi se requiere agregar un valor nuevo hagalo debajo de la lista correspondiente"]
[]
[]
[]
["PROFUNDIDAD",null,null,"METODOS",null,"PROYECTOS"]
["Descripcion","Codigo",null,"NOMBRE_MT","CODIGO","Descripcion","Codigo"]
["Somero","S",null,"Manual de métodos de SIMAC: Cadena rotulada cada diez eslabones","Car","Monitoreo de Pastos Marinos de Colombia",3036]
["Medio","M",null,null,null,"LEVANTAMIENTO DE INFORMACIÓN AMBIENTAL DE SISTEMAS MARINOS Y COSTEROS SOBRE EL CARIBE COLOMBIANO. FASE II. TEMÁTICA 2.  ZONA MARINO-COSTERA DEL DEPARTAMENTO DE LA GUAJIRA Y CHOCÓ CARIBE",3343]
["Profundo","P",null,null,null,"CORALINA 002-18",3422]
[]
[]
["CODIGOS LOV"]
["DESCRIPCIÓN","CÓDIGO","GRUPO"]
["Departamento",10,2]
["Sector",20,2]
["Punto",30,2]
["Parcela",35,2]
["Estaciones",40,2]
["Region",50,2]
["Unidad_de_Manejo",60,2]
["Unidad_Ambiental_Costera",70,2]
["Localidad",80,2]
["Bloque_Exploracion",85,2]
["Area",90,2]

{"sheet":"Resumen","index":6,"n_rows":502,"n_cols":9,"rows_kept":502,"cut":false,"hidden":false,"merged":[[0,8,2,12]]}
["estacion","nivel","transecto","Cuenta de transecto","Etiquetas de columna",null,null,null,"Esta tabla debe ser actualizada cada vez que introduzca nuevos datos, para ello debe hacer clic sobre cualquier parte de la tabla y presionar las teclas ALT + F5 de manera conjunta."]
[{"$f":"IF(DATOS!K5<>\"\",DATOS!K5,\"\")","v":""},{"$f":"IF(DATOS!V5<>\"\",DATOS!V5,\"\")","v":""},{"$f":"IF(DATOS!W5<>\"\",DATOS!W5,\"\")","v":""},null,"","Total ","Total general"]
[{"$f":"IF(DATOS!K6<>\"\",DATOS!K6,\"\")","v":""},{"$f":"IF(DATOS!V6<>\"\",DATOS!V6,\"\")","v":""},{"$f":"IF(DATOS!W6<>\"\",DATOS!W6,\"\")","v":""},"Etiquetas de fila"]
[{"$f":"IF(DATOS!K7<>\"\",DATOS!K7,\"\")","v":""},{"$f":"IF(DATOS!V7<>\"\",DATOS!V7,\"\")","v":""},{"$f":"IF(DATOS!W7<>\"\",DATOS!W7,\"\")","v":""},null,500,500,500]
[{"$f":"IF(DATOS!K8<>\"\",DATOS!K8,\"\")","v":""},{"$f":"IF(DATOS!V8<>\"\",DATOS!V8,\"\")","v":""},{"$f":"IF(DATOS!W8<>\"\",DATOS!W8,\"\")","v":""},"Total general",500,500,500]
[{"$f":"IF(DATOS!K9<>\"\",DATOS!K9,\"\")","v":""},{"$f":"IF(DATOS!V9<>\"\",DATOS!V9,\"\")","v":""},{"$f":"IF(DATOS!W9<>\"\",DATOS!W9,\"\")","v":""}]
[{"$f":"IF(DATOS!K10<>\"\",DATOS!K10,\"\")","v":""},{"$f":"IF(DATOS!V10<>\"\",DATOS!V10,\"\")","v":""},{"$f":"IF(DATOS!W10<>\"\",DATOS!W10,\"\")","v":""}]
[{"$f":"IF(DATOS!K11<>\"\",DATOS!K11,\"\")","v":""},{"$f":"IF(DATOS!V11<>\"\",DATOS!V11,\"\")","v":""},{"$f":"IF(DATOS!W11<>\"\",DATOS!W11,\"\")","v":""}]
[{"$f":"IF(DATOS!K12<>\"\",DATOS!K12,\"\")","v":""},{"$f":"IF(DATOS!V12<>\"\",DATOS!V12,\"\")","v":""},{"$f":"IF(DATOS!W12<>\"\",DATOS!W12,\"\")","v":""}]
[{"$f":"IF(DATOS!K13<>\"\",DATOS!K13,\"\")","v":""},{"$f":"IF(DATOS!V13<>\"\",DATOS!V13,\"\")","v":""},{"$f":"IF(DATOS!W13<>\"\",DATOS!W13,\"\")","v":""}]
[{"$f":"IF(DATOS!K14<>\"\",DATOS!K14,\"\")","v":""},{"$f":"IF(DATOS!V14<>\"\",DATOS!V14,\"\")","v":""},{"$f":"IF(DATOS!W14<>\"\",DATOS!W14,\"\")","v":""}]
[{"$f":"IF(DATOS!K15<>\"\",DATOS!K15,\"\")","v":""},{"$f":"IF(DATOS!V15<>\"\",DATOS!V15,\"\")","v":""},{"$f":"IF(DATOS!W15<>\"\",DATOS!W15,\"\")","v":""}]
[{"$f":"IF(DATOS!K16<>\"\",DATOS!K16,\"\")","v":""},{"$f":"IF(DATOS!V16<>\"\",DATOS!V16,\"\")","v":""},{"$f":"IF(DATOS!W16<>\"\",DATOS!W16,\"\")","v":""}]
[{"$f":"IF(DATOS!K17<>\"\",DATOS!K17,\"\")","v":""},{"$f":"IF(DATOS!V17<>\"\",DATOS!V17,\"\")","v":""},{"$f":"IF(DATOS!W17<>\"\",DATOS!W17,\"\")","v":""}]
[{"$f":"IF(DATOS!K18<>\"\",DATOS!K18,\"\")","v":""},{"$f":"IF(DATOS!V18<>\"\",DATOS!V18,\"\")","v":""},{"$f":"IF(DATOS!W18<>\"\",DATOS!W18,\"\")","v":""}]
[{"$f":"IF(DATOS!K19<>\"\",DATOS!K19,\"\")","v":""},{"$f":"IF(DATOS!V19<>\"\",DATOS!V19,\"\")","v":""},{"$f":"IF(DATOS!W19<>\"\",DATOS!W19,\"\")","v":""}]
[{"$f":"IF(DATOS!K20<>\"\",DATOS!K20,\"\")","v":""},{"$f":"IF(DATOS!V20<>\"\",DATOS!V20,\"\")","v":""},{"$f":"IF(DATOS!W20<>\"\",DATOS!W20,\"\")","v":""}]
[{"$f":"IF(DATOS!K21<>\"\",DATOS!K21,\"\")","v":""},{"$f":"IF(DATOS!V21<>\"\",DATOS!V21,\"\")","v":""},{"$f":"IF(DATOS!W21<>\"\",DATOS!W21,\"\")","v":""}]
[{"$f":"IF(DATOS!K22<>\"\",DATOS!K22,\"\")","v":""},{"$f":"IF(DATOS!V22<>\"\",DATOS!V22,\"\")","v":""},{"$f":"IF(DATOS!W22<>\"\",DATOS!W22,\"\")","v":""}]
[{"$f":"IF(DATOS!K23<>\"\",DATOS!K23,\"\")","v":""},{"$f":"IF(DATOS!V23<>\"\",DATOS!V23,\"\")","v":""},{"$f":"IF(DATOS!W23<>\"\",DATOS!W23,\"\")","v":""}]
[{"$f":"IF(DATOS!K24<>\"\",DATOS!K24,\"\")","v":""},{"$f":"IF(DATOS!V24<>\"\",DATOS!V24,\"\")","v":""},{"$f":"IF(DATOS!W24<>\"\",DATOS!W24,\"\")","v":""}]
[{"$f":"IF(DATOS!K25<>\"\",DATOS!K25,\"\")","v":""},{"$f":"IF(DATOS!V25<>\"\",DATOS!V25,\"\")","v":""},{"$f":"IF(DATOS!W25<>\"\",DATOS!W25,\"\")","v":""}]
[{"$f":"IF(DATOS!K26<>\"\",DATOS!K26,\"\")","v":""},{"$f":"IF(DATOS!V26<>\"\",DATOS!V26,\"\")","v":""},{"$f":"IF(DATOS!W26<>\"\",DATOS!W26,\"\")","v":""}]
[{"$f":"IF(DATOS!K27<>\"\",DATOS!K27,\"\")","v":""},{"$f":"IF(DATOS!V27<>\"\",DATOS!V27,\"\")","v":""},{"$f":"IF(DATOS!W27<>\"\",DATOS!W27,\"\")","v":""}]
[{"$f":"IF(DATOS!K28<>\"\",DATOS!K28,\"\")","v":""},{"$f":"IF(DATOS!V28<>\"\",DATOS!V28,\"\")","v":""},{"$f":"IF(DATOS!W28<>\"\",DATOS!W28,\"\")","v":""}]
[{"$f":"IF(DATOS!K29<>\"\",DATOS!K29,\"\")","v":""},{"$f":"IF(DATOS!V29<>\"\",DATOS!V29,\"\")","v":""},{"$f":"IF(DATOS!W29<>\"\",DATOS!W29,\"\")","v":""}]
[{"$f":"IF(DATOS!K30<>\"\",DATOS!K30,\"\")","v":""},{"$f":"IF(DATOS!V30<>\"\",DATOS!V30,\"\")","v":""},{"$f":"IF(DATOS!W30<>\"\",DATOS!W30,\"\")","v":""}]
[{"$f":"IF(DATOS!K31<>\"\",DATOS!K31,\"\")","v":""},{"$f":"IF(DATOS!V31<>\"\",DATOS!V31,\"\")","v":""},{"$f":"IF(DATOS!W31<>\"\",DATOS!W31,\"\")","v":""}]
[{"$f":"IF(DATOS!K32<>\"\",DATOS!K32,\"\")","v":""},{"$f":"IF(DATOS!V32<>\"\",DATOS!V32,\"\")","v":""},{"$f":"IF(DATOS!W32<>\"\",DATOS!W32,\"\")","v":""}]
[{"$f":"IF(DATOS!K33<>\"\",DATOS!K33,\"\")","v":""},{"$f":"IF(DATOS!V33<>\"\",DATOS!V33,\"\")","v":""},{"$f":"IF(DATOS!W33<>\"\",DATOS!W33,\"\")","v":""}]
[{"$f":"IF(DATOS!K34<>\"\",DATOS!K34,\"\")","v":""},{"$f":"IF(DATOS!V34<>\"\",DATOS!V34,\"\")","v":""},{"$f":"IF(DATOS!W34<>\"\",DATOS!W34,\"\")","v":""}]
[{"$f":"IF(DATOS!K35<>\"\",DATOS!K35,\"\")","v":""},{"$f":"IF(DATOS!V35<>\"\",DATOS!V35,\"\")","v":""},{"$f":"IF(DATOS!W35<>\"\",DATOS!W35,\"\")","v":""}]
[{"$f":"IF(DATOS!K36<>\"\",DATOS!K36,\"\")","v":""},{"$f":"IF(DATOS!V36<>\"\",DATOS!V36,\"\")","v":""},{"$f":"IF(DATOS!W36<>\"\",DATOS!W36,\"\")","v":""}]
[{"$f":"IF(DATOS!K37<>\"\",DATOS!K37,\"\")","v":""},{"$f":"IF(DATOS!V37<>\"\",DATOS!V37,\"\")","v":""},{"$f":"IF(DATOS!W37<>\"\",DATOS!W37,\"\")","v":""}]
[{"$f":"IF(DATOS!K38<>\"\",DATOS!K38,\"\")","v":""},{"$f":"IF(DATOS!V38<>\"\",DATOS!V38,\"\")","v":""},{"$f":"IF(DATOS!W38<>\"\",DATOS!W38,\"\")","v":""}]
[{"$f":"IF(DATOS!K39<>\"\",DATOS!K39,\"\")","v":""},{"$f":"IF(DATOS!V39<>\"\",DATOS!V39,\"\")","v":""},{"$f":"IF(DATOS!W39<>\"\",DATOS!W39,\"\")","v":""}]
[{"$f":"IF(DATOS!K40<>\"\",DATOS!K40,\"\")","v":""},{"$f":"IF(DATOS!V40<>\"\",DATOS!V40,\"\")","v":""},{"$f":"IF(DATOS!W40<>\"\",DATOS!W40,\"\")","v":""}]
[{"$f":"IF(DATOS!K41<>\"\",DATOS!K41,\"\")","v":""},{"$f":"IF(DATOS!V41<>\"\",DATOS!V41,\"\")","v":""},{"$f":"IF(DATOS!W41<>\"\",DATOS!W41,\"\")","v":""}]
[{"$f":"IF(DATOS!K42<>\"\",DATOS!K42,\"\")","v":""},{"$f":"IF(DATOS!V42<>\"\",DATOS!V42,\"\")","v":""},{"$f":"IF(DATOS!W42<>\"\",DATOS!W42,\"\")","v":""}]
[{"$f":"IF(DATOS!K43<>\"\",DATOS!K43,\"\")","v":""},{"$f":"IF(DATOS!V43<>\"\",DATOS!V43,\"\")","v":""},{"$f":"IF(DATOS!W43<>\"\",DATOS!W43,\"\")","v":""}]
[{"$f":"IF(DATOS!K44<>\"\",DATOS!K44,\"\")","v":""},{"$f":"IF(DATOS!V44<>\"\",DATOS!V44,\"\")","v":""},{"$f":"IF(DATOS!W44<>\"\",DATOS!W44,\"\")","v":""}]
[{"$f":"IF(DATOS!K45<>\"\",DATOS!K45,\"\")","v":""},{"$f":"IF(DATOS!V45<>\"\",DATOS!V45,\"\")","v":""},{"$f":"IF(DATOS!W45<>\"\",DATOS!W45,\"\")","v":""}]
[{"$f":"IF(DATOS!K46<>\"\",DATOS!K46,\"\")","v":""},{"$f":"IF(DATOS!V46<>\"\",DATOS!V46,\"\")","v":""},{"$f":"IF(DATOS!W46<>\"\",DATOS!W46,\"\")","v":""}]
[{"$f":"IF(DATOS!K47<>\"\",DATOS!K47,\"\")","v":""},{"$f":"IF(DATOS!V47<>\"\",DATOS!V47,\"\")","v":""},{"$f":"IF(DATOS!W47<>\"\",DATOS!W47,\"\")","v":""}]
[{"$f":"IF(DATOS!K48<>\"\",DATOS!K48,\"\")","v":""},{"$f":"IF(DATOS!V48<>\"\",DATOS!V48,\"\")","v":""},{"$f":"IF(DATOS!W48<>\"\",DATOS!W48,\"\")","v":""}]
[{"$f":"IF(DATOS!K49<>\"\",DATOS!K49,\"\")","v":""},{"$f":"IF(DATOS!V49<>\"\",DATOS!V49,\"\")","v":""},{"$f":"IF(DATOS!W49<>\"\",DATOS!W49,\"\")","v":""}]
[{"$f":"IF(DATOS!K50<>\"\",DATOS!K50,\"\")","v":""},{"$f":"IF(DATOS!V50<>\"\",DATOS!V50,\"\")","v":""},{"$f":"IF(DATOS!W50<>\"\",DATOS!W50,\"\")","v":""}]
[{"$f":"IF(DATOS!K51<>\"\",DATOS!K51,\"\")","v":""},{"$f":"IF(DATOS!V51<>\"\",DATOS!V51,\"\")","v":""},{"$f":"IF(DATOS!W51<>\"\",DATOS!W51,\"\")","v":""}]
[{"$f":"IF(DATOS!K52<>\"\",DATOS!K52,\"\")","v":""},{"$f":"IF(DATOS!V52<>\"\",DATOS!V52,\"\")","v":""},{"$f":"IF(DATOS!W52<>\"\",DATOS!W52,\"\")","v":""}]
[{"$f":"IF(DATOS!K53<>\"\",DATOS!K53,\"\")","v":""},{"$f":"IF(DATOS!V53<>\"\",DATOS!V53,\"\")","v":""},{"$f":"IF(DATOS!W53<>\"\",DATOS!W53,\"\")","v":""}]
[{"$f":"IF(DATOS!K54<>\"\",DATOS!K54,\"\")","v":""},{"$f":"IF(DATOS!V54<>\"\",DATOS!V54,\"\")","v":""},{"$f":"IF(DATOS!W54<>\"\",DATOS!W54,\"\")","v":""}]
[{"$f":"IF(DATOS!K55<>\"\",DATOS!K55,\"\")","v":""},{"$f":"IF(DATOS!V55<>\"\",DATOS!V55,\"\")","v":""},{"$f":"IF(DATOS!W55<>\"\",DATOS!W55,\"\")","v":""}]
[{"$f":"IF(DATOS!K56<>\"\",DATOS!K56,\"\")","v":""},{"$f":"IF(DATOS!V56<>\"\",DATOS!V56,\"\")","v":""},{"$f":"IF(DATOS!W56<>\"\",DATOS!W56,\"\")","v":""}]
[{"$f":"IF(DATOS!K57<>\"\",DATOS!K57,\"\")","v":""},{"$f":"IF(DATOS!V57<>\"\",DATOS!V57,\"\")","v":""},{"$f":"IF(DATOS!W57<>\"\",DATOS!W57,\"\")","v":""}]
[{"$f":"IF(DATOS!K58<>\"\",DATOS!K58,\"\")","v":""},{"$f":"IF(DATOS!V58<>\"\",DATOS!V58,\"\")","v":""},{"$f":"IF(DATOS!W58<>\"\",DATOS!W58,\"\")","v":""}]
[{"$f":"IF(DATOS!K59<>\"\",DATOS!K59,\"\")","v":""},{"$f":"IF(DATOS!V59<>\"\",DATOS!V59,\"\")","v":""},{"$f":"IF(DATOS!W59<>\"\",DATOS!W59,\"\")","v":""}]
[{"$f":"IF(DATOS!K60<>\"\",DATOS!K60,\"\")","v":""},{"$f":"IF(DATOS!V60<>\"\",DATOS!V60,\"\")","v":""},{"$f":"IF(DATOS!W60<>\"\",DATOS!W60,\"\")","v":""}]
[{"$f":"IF(DATOS!K61<>\"\",DATOS!K61,\"\")","v":""},{"$f":"IF(DATOS!V61<>\"\",DATOS!V61,\"\")","v":""},{"$f":"IF(DATOS!W61<>\"\",DATOS!W61,\"\")","v":""}]
[{"$f":"IF(DATOS!K62<>\"\",DATOS!K62,\"\")","v":""},{"$f":"IF(DATOS!V62<>\"\",DATOS!V62,\"\")","v":""},{"$f":"IF(DATOS!W62<>\"\",DATOS!W62,\"\")","v":""}]
[{"$f":"IF(DATOS!K63<>\"\",DATOS!K63,\"\")","v":""},{"$f":"IF(DATOS!V63<>\"\",DATOS!V63,\"\")","v":""},{"$f":"IF(DATOS!W63<>\"\",DATOS!W63,\"\")","v":""}]
[{"$f":"IF(DATOS!K64<>\"\",DATOS!K64,\"\")","v":""},{"$f":"IF(DATOS!V64<>\"\",DATOS!V64,\"\")","v":""},{"$f":"IF(DATOS!W64<>\"\",DATOS!W64,\"\")","v":""}]
[{"$f":"IF(DATOS!K65<>\"\",DATOS!K65,\"\")","v":""},{"$f":"IF(DATOS!V65<>\"\",DATOS!V65,\"\")","v":""},{"$f":"IF(DATOS!W65<>\"\",DATOS!W65,\"\")","v":""}]
[{"$f":"IF(DATOS!K66<>\"\",DATOS!K66,\"\")","v":""},{"$f":"IF(DATOS!V66<>\"\",DATOS!V66,\"\")","v":""},{"$f":"IF(DATOS!W66<>\"\",DATOS!W66,\"\")","v":""}]
[{"$f":"IF(DATOS!K67<>\"\",DATOS!K67,\"\")","v":""},{"$f":"IF(DATOS!V67<>\"\",DATOS!V67,\"\")","v":""},{"$f":"IF(DATOS!W67<>\"\",DATOS!W67,\"\")","v":""}]
[{"$f":"IF(DATOS!K68<>\"\",DATOS!K68,\"\")","v":""},{"$f":"IF(DATOS!V68<>\"\",DATOS!V68,\"\")","v":""},{"$f":"IF(DATOS!W68<>\"\",DATOS!W68,\"\")","v":""}]
[{"$f":"IF(DATOS!K69<>\"\",DATOS!K69,\"\")","v":""},{"$f":"IF(DATOS!V69<>\"\",DATOS!V69,\"\")","v":""},{"$f":"IF(DATOS!W69<>\"\",DATOS!W69,\"\")","v":""}]
[{"$f":"IF(DATOS!K70<>\"\",DATOS!K70,\"\")","v":""},{"$f":"IF(DATOS!V70<>\"\",DATOS!V70,\"\")","v":""},{"$f":"IF(DATOS!W70<>\"\",DATOS!W70,\"\")","v":""}]
[{"$f":"IF(DATOS!K71<>\"\",DATOS!K71,\"\")","v":""},{"$f":"IF(DATOS!V71<>\"\",DATOS!V71,\"\")","v":""},{"$f":"IF(DATOS!W71<>\"\",DATOS!W71,\"\")","v":""}]
[{"$f":"IF(DATOS!K72<>\"\",DATOS!K72,\"\")","v":""},{"$f":"IF(DATOS!V72<>\"\",DATOS!V72,\"\")","v":""},{"$f":"IF(DATOS!W72<>\"\",DATOS!W72,\"\")","v":""}]
[{"$f":"IF(DATOS!K73<>\"\",DATOS!K73,\"\")","v":""},{"$f":"IF(DATOS!V73<>\"\",DATOS!V73,\"\")","v":""},{"$f":"IF(DATOS!W73<>\"\",DATOS!W73,\"\")","v":""}]
[{"$f":"IF(DATOS!K74<>\"\",DATOS!K74,\"\")","v":""},{"$f":"IF(DATOS!V74<>\"\",DATOS!V74,\"\")","v":""},{"$f":"IF(DATOS!W74<>\"\",DATOS!W74,\"\")","v":""}]
[{"$f":"IF(DATOS!K75<>\"\",DATOS!K75,\"\")","v":""},{"$f":"IF(DATOS!V75<>\"\",DATOS!V75,\"\")","v":""},{"$f":"IF(DATOS!W75<>\"\",DATOS!W75,\"\")","v":""}]
[{"$f":"IF(DATOS!K76<>\"\",DATOS!K76,\"\")","v":""},{"$f":"IF(DATOS!V76<>\"\",DATOS!V76,\"\")","v":""},{"$f":"IF(DATOS!W76<>\"\",DATOS!W76,\"\")","v":""}]
[{"$f":"IF(DATOS!K77<>\"\",DATOS!K77,\"\")","v":""},{"$f":"IF(DATOS!V77<>\"\",DATOS!V77,\"\")","v":""},{"$f":"IF(DATOS!W77<>\"\",DATOS!W77,\"\")","v":""}]
[{"$f":"IF(DATOS!K78<>\"\",DATOS!K78,\"\")","v":""},{"$f":"IF(DATOS!V78<>\"\",DATOS!V78,\"\")","v":""},{"$f":"IF(DATOS!W78<>\"\",DATOS!W78,\"\")","v":""}]
[{"$f":"IF(DATOS!K79<>\"\",DATOS!K79,\"\")","v":""},{"$f":"IF(DATOS!V79<>\"\",DATOS!V79,\"\")","v":""},{"$f":"IF(DATOS!W79<>\"\",DATOS!W79,\"\")","v":""}]
[{"$f":"IF(DATOS!K80<>\"\",DATOS!K80,\"\")","v":""},{"$f":"IF(DATOS!V80<>\"\",DATOS!V80,\"\")","v":""},{"$f":"IF(DATOS!W80<>\"\",DATOS!W80,\"\")","v":""}]
[{"$f":"IF(DATOS!K81<>\"\",DATOS!K81,\"\")","v":""},{"$f":"IF(DATOS!V81<>\"\",DATOS!V81,\"\")","v":""},{"$f":"IF(DATOS!W81<>\"\",DATOS!W81,\"\")","v":""}]
[{"$f":"IF(DATOS!K82<>\"\",DATOS!K82,\"\")","v":""},{"$f":"IF(DATOS!V82<>\"\",DATOS!V82,\"\")","v":""},{"$f":"IF(DATOS!W82<>\"\",DATOS!W82,\"\")","v":""}]
[{"$f":"IF(DATOS!K83<>\"\",DATOS!K83,\"\")","v":""},{"$f":"IF(DATOS!V83<>\"\",DATOS!V83,\"\")","v":""},{"$f":"IF(DATOS!W83<>\"\",DATOS!W83,\"\")","v":""}]
[{"$f":"IF(DATOS!K84<>\"\",DATOS!K84,\"\")","v":""},{"$f":"IF(DATOS!V84<>\"\",DATOS!V84,\"\")","v":""},{"$f":"IF(DATOS!W84<>\"\",DATOS!W84,\"\")","v":""}]
[{"$f":"IF(DATOS!K85<>\"\",DATOS!K85,\"\")","v":""},{"$f":"IF(DATOS!V85<>\"\",DATOS!V85,\"\")","v":""},{"$f":"IF(DATOS!W85<>\"\",DATOS!W85,\"\")","v":""}]
[{"$f":"IF(DATOS!K86<>\"\",DATOS!K86,\"\")","v":""},{"$f":"IF(DATOS!V86<>\"\",DATOS!V86,\"\")","v":""},{"$f":"IF(DATOS!W86<>\"\",DATOS!W86,\"\")","v":""}]
[{"$f":"IF(DATOS!K87<>\"\",DATOS!K87,\"\")","v":""},{"$f":"IF(DATOS!V87<>\"\",DATOS!V87,\"\")","v":""},{"$f":"IF(DATOS!W87<>\"\",DATOS!W87,\"\")","v":""}]
[{"$f":"IF(DATOS!K88<>\"\",DATOS!K88,\"\")","v":""},{"$f":"IF(DATOS!V88<>\"\",DATOS!V88,\"\")","v":""},{"$f":"IF(DATOS!W88<>\"\",DATOS!W88,\"\")","v":""}]
[{"$f":"IF(DATOS!K89<>\"\",DATOS!K89,\"\")","v":""},{"$f":"IF(DATOS!V89<>\"\",DATOS!V89,\"\")","v":""},{"$f":"IF(DATOS!W89<>\"\",DATOS!W89,\"\")","v":""}]
[{"$f":"IF(DATOS!K90<>\"\",DATOS!K90,\"\")","v":""},{"$f":"IF(DATOS!V90<>\"\",DATOS!V90,\"\")","v":""},{"$f":"IF(DATOS!W90<>\"\",DATOS!W90,\"\")","v":""}]
[{"$f":"IF(DATOS!K91<>\"\",DATOS!K91,\"\")","v":""},{"$f":"IF(DATOS!V91<>\"\",DATOS!V91,\"\")","v":""},{"$f":"IF(DATOS!W91<>\"\",DATOS!W91,\"\")","v":""}]
[{"$f":"IF(DATOS!K92<>\"\",DATOS!K92,\"\")","v":""},{"$f":"IF(DATOS!V92<>\"\",DATOS!V92,\"\")","v":""},{"$f":"IF(DATOS!W92<>\"\",DATOS!W92,\"\")","v":""}]
[{"$f":"IF(DATOS!K93<>\"\",DATOS!K93,\"\")","v":""},{"$f":"IF(DATOS!V93<>\"\",DATOS!V93,\"\")","v":""},{"$f":"IF(DATOS!W93<>\"\",DATOS!W93,\"\")","v":""}]
[{"$f":"IF(DATOS!K94<>\"\",DATOS!K94,\"\")","v":""},{"$f":"IF(DATOS!V94<>\"\",DATOS!V94,\"\")","v":""},{"$f":"IF(DATOS!W94<>\"\",DATOS!W94,\"\")","v":""}]
[{"$f":"IF(DATOS!K95<>\"\",DATOS!K95,\"\")","v":""},{"$f":"IF(DATOS!V95<>\"\",DATOS!V95,\"\")","v":""},{"$f":"IF(DATOS!W95<>\"\",DATOS!W95,\"\")","v":""}]
[{"$f":"IF(DATOS!K96<>\"\",DATOS!K96,\"\")","v":""},{"$f":"IF(DATOS!V96<>\"\",DATOS!V96,\"\")","v":""},{"$f":"IF(DATOS!W96<>\"\",DATOS!W96,\"\")","v":""}]
[{"$f":"IF(DATOS!K97<>\"\",DATOS!K97,\"\")","v":""},{"$f":"IF(DATOS!V97<>\"\",DATOS!V97,\"\")","v":""},{"$f":"IF(DATOS!W97<>\"\",DATOS!W97,\"\")","v":""}]
[{"$f":"IF(DATOS!K98<>\"\",DATOS!K98,\"\")","v":""},{"$f":"IF(DATOS!V98<>\"\",DATOS!V98,\"\")","v":""},{"$f":"IF(DATOS!W98<>\"\",DATOS!W98,\"\")","v":""}]
[{"$f":"IF(DATOS!K99<>\"\",DATOS!K99,\"\")","v":""},{"$f":"IF(DATOS!V99<>\"\",DATOS!V99,\"\")","v":""},{"$f":"IF(DATOS!W99<>\"\",DATOS!W99,\"\")","v":""}]
[{"$f":"IF(DATOS!K100<>\"\",DATOS!K100,\"\")","v":""},{"$f":"IF(DATOS!V100<>\"\",DATOS!V100,\"\")","v":""},{"$f":"IF(DATOS!W100<>\"\",DATOS!W100,\"\")","v":""}]
[{"$f":"IF(DATOS!K101<>\"\",DATOS!K101,\"\")","v":""},{"$f":"IF(DATOS!V101<>\"\",DATOS!V101,\"\")","v":""},{"$f":"IF(DATOS!W101<>\"\",DATOS!W101,\"\")","v":""}]
[{"$f":"IF(DATOS!K102<>\"\",DATOS!K102,\"\")","v":""},{"$f":"IF(DATOS!V102<>\"\",DATOS!V102,\"\")","v":""},{"$f":"IF(DATOS!W102<>\"\",DATOS!W102,\"\")","v":""}]
[{"$f":"IF(DATOS!K103<>\"\",DATOS!K103,\"\")","v":""},{"$f":"IF(DATOS!V103<>\"\",DATOS!V103,\"\")","v":""},{"$f":"IF(DATOS!W103<>\"\",DATOS!W103,\"\")","v":""}]
[{"$f":"IF(DATOS!K104<>\"\",DATOS!K104,\"\")","v":""},{"$f":"IF(DATOS!V104<>\"\",DATOS!V104,\"\")","v":""},{"$f":"IF(DATOS!W104<>\"\",DATOS!W104,\"\")","v":""}]
[{"$f":"IF(DATOS!K105<>\"\",DATOS!K105,\"\")","v":""},{"$f":"IF(DATOS!V105<>\"\",DATOS!V105,\"\")","v":""},{"$f":"IF(DATOS!W105<>\"\",DATOS!W105,\"\")","v":""}]
[{"$f":"IF(DATOS!K106<>\"\",DATOS!K106,\"\")","v":""},{"$f":"IF(DATOS!V106<>\"\",DATOS!V106,\"\")","v":""},{"$f":"IF(DATOS!W106<>\"\",DATOS!W106,\"\")","v":""}]
[{"$f":"IF(DATOS!K107<>\"\",DATOS!K107,\"\")","v":""},{"$f":"IF(DATOS!V107<>\"\",DATOS!V107,\"\")","v":""},{"$f":"IF(DATOS!W107<>\"\",DATOS!W107,\"\")","v":""}]
[{"$f":"IF(DATOS!K108<>\"\",DATOS!K108,\"\")","v":""},{"$f":"IF(DATOS!V108<>\"\",DATOS!V108,\"\")","v":""},{"$f":"IF(DATOS!W108<>\"\",DATOS!W108,\"\")","v":""}]
[{"$f":"IF(DATOS!K109<>\"\",DATOS!K109,\"\")","v":""},{"$f":"IF(DATOS!V109<>\"\",DATOS!V109,\"\")","v":""},{"$f":"IF(DATOS!W109<>\"\",DATOS!W109,\"\")","v":""}]
[{"$f":"IF(DATOS!K110<>\"\",DATOS!K110,\"\")","v":""},{"$f":"IF(DATOS!V110<>\"\",DATOS!V110,\"\")","v":""},{"$f":"IF(DATOS!W110<>\"\",DATOS!W110,\"\")","v":""}]
[{"$f":"IF(DATOS!K111<>\"\",DATOS!K111,\"\")","v":""},{"$f":"IF(DATOS!V111<>\"\",DATOS!V111,\"\")","v":""},{"$f":"IF(DATOS!W111<>\"\",DATOS!W111,\"\")","v":""}]
[{"$f":"IF(DATOS!K112<>\"\",DATOS!K112,\"\")","v":""},{"$f":"IF(DATOS!V112<>\"\",DATOS!V112,\"\")","v":""},{"$f":"IF(DATOS!W112<>\"\",DATOS!W112,\"\")","v":""}]
[{"$f":"IF(DATOS!K113<>\"\",DATOS!K113,\"\")","v":""},{"$f":"IF(DATOS!V113<>\"\",DATOS!V113,\"\")","v":""},{"$f":"IF(DATOS!W113<>\"\",DATOS!W113,\"\")","v":""}]
[{"$f":"IF(DATOS!K114<>\"\",DATOS!K114,\"\")","v":""},{"$f":"IF(DATOS!V114<>\"\",DATOS!V114,\"\")","v":""},{"$f":"IF(DATOS!W114<>\"\",DATOS!W114,\"\")","v":""}]
[{"$f":"IF(DATOS!K115<>\"\",DATOS!K115,\"\")","v":""},{"$f":"IF(DATOS!V115<>\"\",DATOS!V115,\"\")","v":""},{"$f":"IF(DATOS!W115<>\"\",DATOS!W115,\"\")","v":""}]
[{"$f":"IF(DATOS!K116<>\"\",DATOS!K116,\"\")","v":""},{"$f":"IF(DATOS!V116<>\"\",DATOS!V116,\"\")","v":""},{"$f":"IF(DATOS!W116<>\"\",DATOS!W116,\"\")","v":""}]
[{"$f":"IF(DATOS!K117<>\"\",DATOS!K117,\"\")","v":""},{"$f":"IF(DATOS!V117<>\"\",DATOS!V117,\"\")","v":""},{"$f":"IF(DATOS!W117<>\"\",DATOS!W117,\"\")","v":""}]
[{"$f":"IF(DATOS!K118<>\"\",DATOS!K118,\"\")","v":""},{"$f":"IF(DATOS!V118<>\"\",DATOS!V118,\"\")","v":""},{"$f":"IF(DATOS!W118<>\"\",DATOS!W118,\"\")","v":""}]
[{"$f":"IF(DATOS!K119<>\"\",DATOS!K119,\"\")","v":""},{"$f":"IF(DATOS!V119<>\"\",DATOS!V119,\"\")","v":""},{"$f":"IF(DATOS!W119<>\"\",DATOS!W119,\"\")","v":""}]
[{"$f":"IF(DATOS!K120<>\"\",DATOS!K120,\"\")","v":""},{"$f":"IF(DATOS!V120<>\"\",DATOS!V120,\"\")","v":""},{"$f":"IF(DATOS!W120<>\"\",DATOS!W120,\"\")","v":""}]
[{"$f":"IF(DATOS!K121<>\"\",DATOS!K121,\"\")","v":""},{"$f":"IF(DATOS!V121<>\"\",DATOS!V121,\"\")","v":""},{"$f":"IF(DATOS!W121<>\"\",DATOS!W121,\"\")","v":""}]
[{"$f":"IF(DATOS!K122<>\"\",DATOS!K122,\"\")","v":""},{"$f":"IF(DATOS!V122<>\"\",DATOS!V122,\"\")","v":""},{"$f":"IF(DATOS!W122<>\"\",DATOS!W122,\"\")","v":""}]
[{"$f":"IF(DATOS!K123<>\"\",DATOS!K123,\"\")","v":""},{"$f":"IF(DATOS!V123<>\"\",DATOS!V123,\"\")","v":""},{"$f":"IF(DATOS!W123<>\"\",DATOS!W123,\"\")","v":""}]
[{"$f":"IF(DATOS!K124<>\"\",DATOS!K124,\"\")","v":""},{"$f":"IF(DATOS!V124<>\"\",DATOS!V124,\"\")","v":""},{"$f":"IF(DATOS!W124<>\"\",DATOS!W124,\"\")","v":""}]
[{"$f":"IF(DATOS!K125<>\"\",DATOS!K125,\"\")","v":""},{"$f":"IF(DATOS!V125<>\"\",DATOS!V125,\"\")","v":""},{"$f":"IF(DATOS!W125<>\"\",DATOS!W125,\"\")","v":""}]
[{"$f":"IF(DATOS!K126<>\"\",DATOS!K126,\"\")","v":""},{"$f":"IF(DATOS!V126<>\"\",DATOS!V126,\"\")","v":""},{"$f":"IF(DATOS!W126<>\"\",DATOS!W126,\"\")","v":""}]
[{"$f":"IF(DATOS!K127<>\"\",DATOS!K127,\"\")","v":""},{"$f":"IF(DATOS!V127<>\"\",DATOS!V127,\"\")","v":""},{"$f":"IF(DATOS!W127<>\"\",DATOS!W127,\"\")","v":""}]
[{"$f":"IF(DATOS!K128<>\"\",DATOS!K128,\"\")","v":""},{"$f":"IF(DATOS!V128<>\"\",DATOS!V128,\"\")","v":""},{"$f":"IF(DATOS!W128<>\"\",DATOS!W128,\"\")","v":""}]
[{"$f":"IF(DATOS!K129<>\"\",DATOS!K129,\"\")","v":""},{"$f":"IF(DATOS!V129<>\"\",DATOS!V129,\"\")","v":""},{"$f":"IF(DATOS!W129<>\"\",DATOS!W129,\"\")","v":""}]
[{"$f":"IF(DATOS!K130<>\"\",DATOS!K130,\"\")","v":""},{"$f":"IF(DATOS!V130<>\"\",DATOS!V130,\"\")","v":""},{"$f":"IF(DATOS!W130<>\"\",DATOS!W130,\"\")","v":""}]
[{"$f":"IF(DATOS!K131<>\"\",DATOS!K131,\"\")","v":""},{"$f":"IF(DATOS!V131<>\"\",DATOS!V131,\"\")","v":""},{"$f":"IF(DATOS!W131<>\"\",DATOS!W131,\"\")","v":""}]
[{"$f":"IF(DATOS!K132<>\"\",DATOS!K132,\"\")","v":""},{"$f":"IF(DATOS!V132<>\"\",DATOS!V132,\"\")","v":""},{"$f":"IF(DATOS!W132<>\"\",DATOS!W132,\"\")","v":""}]
[{"$f":"IF(DATOS!K133<>\"\",DATOS!K133,\"\")","v":""},{"$f":"IF(DATOS!V133<>\"\",DATOS!V133,\"\")","v":""},{"$f":"IF(DATOS!W133<>\"\",DATOS!W133,\"\")","v":""}]
[{"$f":"IF(DATOS!K134<>\"\",DATOS!K134,\"\")","v":""},{"$f":"IF(DATOS!V134<>\"\",DATOS!V134,\"\")","v":""},{"$f":"IF(DATOS!W134<>\"\",DATOS!W134,\"\")","v":""}]
[{"$f":"IF(DATOS!K135<>\"\",DATOS!K135,\"\")","v":""},{"$f":"IF(DATOS!V135<>\"\",DATOS!V135,\"\")","v":""},{"$f":"IF(DATOS!W135<>\"\",DATOS!W135,\"\")","v":""}]
[{"$f":"IF(DATOS!K136<>\"\",DATOS!K136,\"\")","v":""},{"$f":"IF(DATOS!V136<>\"\",DATOS!V136,\"\")","v":""},{"$f":"IF(DATOS!W136<>\"\",DATOS!W136,\"\")","v":""}]
[{"$f":"IF(DATOS!K137<>\"\",DATOS!K137,\"\")","v":""},{"$f":"IF(DATOS!V137<>\"\",DATOS!V137,\"\")","v":""},{"$f":"IF(DATOS!W137<>\"\",DATOS!W137,\"\")","v":""}]
[{"$f":"IF(DATOS!K138<>\"\",DATOS!K138,\"\")","v":""},{"$f":"IF(DATOS!V138<>\"\",DATOS!V138,\"\")","v":""},{"$f":"IF(DATOS!W138<>\"\",DATOS!W138,\"\")","v":""}]
[{"$f":"IF(DATOS!K139<>\"\",DATOS!K139,\"\")","v":""},{"$f":"IF(DATOS!V139<>\"\",DATOS!V139,\"\")","v":""},{"$f":"IF(DATOS!W139<>\"\",DATOS!W139,\"\")","v":""}]
[{"$f":"IF(DATOS!K140<>\"\",DATOS!K140,\"\")","v":""},{"$f":"IF(DATOS!V140<>\"\",DATOS!V140,\"\")","v":""},{"$f":"IF(DATOS!W140<>\"\",DATOS!W140,\"\")","v":""}]
[{"$f":"IF(DATOS!K141<>\"\",DATOS!K141,\"\")","v":""},{"$f":"IF(DATOS!V141<>\"\",DATOS!V141,\"\")","v":""},{"$f":"IF(DATOS!W141<>\"\",DATOS!W141,\"\")","v":""}]
[{"$f":"IF(DATOS!K142<>\"\",DATOS!K142,\"\")","v":""},{"$f":"IF(DATOS!V142<>\"\",DATOS!V142,\"\")","v":""},{"$f":"IF(DATOS!W142<>\"\",DATOS!W142,\"\")","v":""}]
[{"$f":"IF(DATOS!K143<>\"\",DATOS!K143,\"\")","v":""},{"$f":"IF(DATOS!V143<>\"\",DATOS!V143,\"\")","v":""},{"$f":"IF(DATOS!W143<>\"\",DATOS!W143,\"\")","v":""}]
[{"$f":"IF(DATOS!K144<>\"\",DATOS!K144,\"\")","v":""},{"$f":"IF(DATOS!V144<>\"\",DATOS!V144,\"\")","v":""},{"$f":"IF(DATOS!W144<>\"\",DATOS!W144,\"\")","v":""}]
[{"$f":"IF(DATOS!K145<>\"\",DATOS!K145,\"\")","v":""},{"$f":"IF(DATOS!V145<>\"\",DATOS!V145,\"\")","v":""},{"$f":"IF(DATOS!W145<>\"\",DATOS!W145,\"\")","v":""}]
[{"$f":"IF(DATOS!K146<>\"\",DATOS!K146,\"\")","v":""},{"$f":"IF(DATOS!V146<>\"\",DATOS!V146,\"\")","v":""},{"$f":"IF(DATOS!W146<>\"\",DATOS!W146,\"\")","v":""}]
[{"$f":"IF(DATOS!K147<>\"\",DATOS!K147,\"\")","v":""},{"$f":"IF(DATOS!V147<>\"\",DATOS!V147,\"\")","v":""},{"$f":"IF(DATOS!W147<>\"\",DATOS!W147,\"\")","v":""}]
[{"$f":"IF(DATOS!K148<>\"\",DATOS!K148,\"\")","v":""},{"$f":"IF(DATOS!V148<>\"\",DATOS!V148,\"\")","v":""},{"$f":"IF(DATOS!W148<>\"\",DATOS!W148,\"\")","v":""}]
[{"$f":"IF(DATOS!K149<>\"\",DATOS!K149,\"\")","v":""},{"$f":"IF(DATOS!V149<>\"\",DATOS!V149,\"\")","v":""},{"$f":"IF(DATOS!W149<>\"\",DATOS!W149,\"\")","v":""}]
[{"$f":"IF(DATOS!K150<>\"\",DATOS!K150,\"\")","v":""},{"$f":"IF(DATOS!V150<>\"\",DATOS!V150,\"\")","v":""},{"$f":"IF(DATOS!W150<>\"\",DATOS!W150,\"\")","v":""}]
[{"$f":"IF(DATOS!K151<>\"\",DATOS!K151,\"\")","v":""},{"$f":"IF(DATOS!V151<>\"\",DATOS!V151,\"\")","v":""},{"$f":"IF(DATOS!W151<>\"\",DATOS!W151,\"\")","v":""}]
[{"$f":"IF(DATOS!K152<>\"\",DATOS!K152,\"\")","v":""},{"$f":"IF(DATOS!V152<>\"\",DATOS!V152,\"\")","v":""},{"$f":"IF(DATOS!W152<>\"\",DATOS!W152,\"\")","v":""}]
[{"$f":"IF(DATOS!K153<>\"\",DATOS!K153,\"\")","v":""},{"$f":"IF(DATOS!V153<>\"\",DATOS!V153,\"\")","v":""},{"$f":"IF(DATOS!W153<>\"\",DATOS!W153,\"\")","v":""}]
[{"$f":"IF(DATOS!K154<>\"\",DATOS!K154,\"\")","v":""},{"$f":"IF(DATOS!V154<>\"\",DATOS!V154,\"\")","v":""},{"$f":"IF(DATOS!W154<>\"\",DATOS!W154,\"\")","v":""}]
[{"$f":"IF(DATOS!K155<>\"\",DATOS!K155,\"\")","v":""},{"$f":"IF(DATOS!V155<>\"\",DATOS!V155,\"\")","v":""},{"$f":"IF(DATOS!W155<>\"\",DATOS!W155,\"\")","v":""}]
[{"$f":"IF(DATOS!K156<>\"\",DATOS!K156,\"\")","v":""},{"$f":"IF(DATOS!V156<>\"\",DATOS!V156,\"\")","v":""},{"$f":"IF(DATOS!W156<>\"\",DATOS!W156,\"\")","v":""}]
[{"$f":"IF(DATOS!K157<>\"\",DATOS!K157,\"\")","v":""},{"$f":"IF(DATOS!V157<>\"\",DATOS!V157,\"\")","v":""},{"$f":"IF(DATOS!W157<>\"\",DATOS!W157,\"\")","v":""}]
[{"$f":"IF(DATOS!K158<>\"\",DATOS!K158,\"\")","v":""},{"$f":"IF(DATOS!V158<>\"\",DATOS!V158,\"\")","v":""},{"$f":"IF(DATOS!W158<>\"\",DATOS!W158,\"\")","v":""}]
[{"$f":"IF(DATOS!K159<>\"\",DATOS!K159,\"\")","v":""},{"$f":"IF(DATOS!V159<>\"\",DATOS!V159,\"\")","v":""},{"$f":"IF(DATOS!W159<>\"\",DATOS!W159,\"\")","v":""}]
[{"$f":"IF(DATOS!K160<>\"\",DATOS!K160,\"\")","v":""},{"$f":"IF(DATOS!V160<>\"\",DATOS!V160,\"\")","v":""},{"$f":"IF(DATOS!W160<>\"\",DATOS!W160,\"\")","v":""}]
[{"$f":"IF(DATOS!K161<>\"\",DATOS!K161,\"\")","v":""},{"$f":"IF(DATOS!V161<>\"\",DATOS!V161,\"\")","v":""},{"$f":"IF(DATOS!W161<>\"\",DATOS!W161,\"\")","v":""}]
[{"$f":"IF(DATOS!K162<>\"\",DATOS!K162,\"\")","v":""},{"$f":"IF(DATOS!V162<>\"\",DATOS!V162,\"\")","v":""},{"$f":"IF(DATOS!W162<>\"\",DATOS!W162,\"\")","v":""}]
[{"$f":"IF(DATOS!K163<>\"\",DATOS!K163,\"\")","v":""},{"$f":"IF(DATOS!V163<>\"\",DATOS!V163,\"\")","v":""},{"$f":"IF(DATOS!W163<>\"\",DATOS!W163,\"\")","v":""}]
[{"$f":"IF(DATOS!K164<>\"\",DATOS!K164,\"\")","v":""},{"$f":"IF(DATOS!V164<>\"\",DATOS!V164,\"\")","v":""},{"$f":"IF(DATOS!W164<>\"\",DATOS!W164,\"\")","v":""}]
[{"$f":"IF(DATOS!K165<>\"\",DATOS!K165,\"\")","v":""},{"$f":"IF(DATOS!V165<>\"\",DATOS!V165,\"\")","v":""},{"$f":"IF(DATOS!W165<>\"\",DATOS!W165,\"\")","v":""}]
[{"$f":"IF(DATOS!K166<>\"\",DATOS!K166,\"\")","v":""},{"$f":"IF(DATOS!V166<>\"\",DATOS!V166,\"\")","v":""},{"$f":"IF(DATOS!W166<>\"\",DATOS!W166,\"\")","v":""}]
[{"$f":"IF(DATOS!K167<>\"\",DATOS!K167,\"\")","v":""},{"$f":"IF(DATOS!V167<>\"\",DATOS!V167,\"\")","v":""},{"$f":"IF(DATOS!W167<>\"\",DATOS!W167,\"\")","v":""}]
[{"$f":"IF(DATOS!K168<>\"\",DATOS!K168,\"\")","v":""},{"$f":"IF(DATOS!V168<>\"\",DATOS!V168,\"\")","v":""},{"$f":"IF(DATOS!W168<>\"\",DATOS!W168,\"\")","v":""}]
[{"$f":"IF(DATOS!K169<>\"\",DATOS!K169,\"\")","v":""},{"$f":"IF(DATOS!V169<>\"\",DATOS!V169,\"\")","v":""},{"$f":"IF(DATOS!W169<>\"\",DATOS!W169,\"\")","v":""}]
[{"$f":"IF(DATOS!K170<>\"\",DATOS!K170,\"\")","v":""},{"$f":"IF(DATOS!V170<>\"\",DATOS!V170,\"\")","v":""},{"$f":"IF(DATOS!W170<>\"\",DATOS!W170,\"\")","v":""}]
[{"$f":"IF(DATOS!K171<>\"\",DATOS!K171,\"\")","v":""},{"$f":"IF(DATOS!V171<>\"\",DATOS!V171,\"\")","v":""},{"$f":"IF(DATOS!W171<>\"\",DATOS!W171,\"\")","v":""}]
[{"$f":"IF(DATOS!K172<>\"\",DATOS!K172,\"\")","v":""},{"$f":"IF(DATOS!V172<>\"\",DATOS!V172,\"\")","v":""},{"$f":"IF(DATOS!W172<>\"\",DATOS!W172,\"\")","v":""}]
[{"$f":"IF(DATOS!K173<>\"\",DATOS!K173,\"\")","v":""},{"$f":"IF(DATOS!V173<>\"\",DATOS!V173,\"\")","v":""},{"$f":"IF(DATOS!W173<>\"\",DATOS!W173,\"\")","v":""}]
[{"$f":"IF(DATOS!K174<>\"\",DATOS!K174,\"\")","v":""},{"$f":"IF(DATOS!V174<>\"\",DATOS!V174,\"\")","v":""},{"$f":"IF(DATOS!W174<>\"\",DATOS!W174,\"\")","v":""}]
[{"$f":"IF(DATOS!K175<>\"\",DATOS!K175,\"\")","v":""},{"$f":"IF(DATOS!V175<>\"\",DATOS!V175,\"\")","v":""},{"$f":"IF(DATOS!W175<>\"\",DATOS!W175,\"\")","v":""}]
[{"$f":"IF(DATOS!K176<>\"\",DATOS!K176,\"\")","v":""},{"$f":"IF(DATOS!V176<>\"\",DATOS!V176,\"\")","v":""},{"$f":"IF(DATOS!W176<>\"\",DATOS!W176,\"\")","v":""}]
[{"$f":"IF(DATOS!K177<>\"\",DATOS!K177,\"\")","v":""},{"$f":"IF(DATOS!V177<>\"\",DATOS!V177,\"\")","v":""},{"$f":"IF(DATOS!W177<>\"\",DATOS!W177,\"\")","v":""}]
[{"$f":"IF(DATOS!K178<>\"\",DATOS!K178,\"\")","v":""},{"$f":"IF(DATOS!V178<>\"\",DATOS!V178,\"\")","v":""},{"$f":"IF(DATOS!W178<>\"\",DATOS!W178,\"\")","v":""}]
[{"$f":"IF(DATOS!K179<>\"\",DATOS!K179,\"\")","v":""},{"$f":"IF(DATOS!V179<>\"\",DATOS!V179,\"\")","v":""},{"$f":"IF(DATOS!W179<>\"\",DATOS!W179,\"\")","v":""}]
[{"$f":"IF(DATOS!K180<>\"\",DATOS!K180,\"\")","v":""},{"$f":"IF(DATOS!V180<>\"\",DATOS!V180,\"\")","v":""},{"$f":"IF(DATOS!W180<>\"\",DATOS!W180,\"\")","v":""}]
[{"$f":"IF(DATOS!K181<>\"\",DATOS!K181,\"\")","v":""},{"$f":"IF(DATOS!V181<>\"\",DATOS!V181,\"\")","v":""},{"$f":"IF(DATOS!W181<>\"\",DATOS!W181,\"\")","v":""}]
[{"$f":"IF(DATOS!K182<>\"\",DATOS!K182,\"\")","v":""},{"$f":"IF(DATOS!V182<>\"\",DATOS!V182,\"\")","v":""},{"$f":"IF(DATOS!W182<>\"\",DATOS!W182,\"\")","v":""}]
[{"$f":"IF(DATOS!K183<>\"\",DATOS!K183,\"\")","v":""},{"$f":"IF(DATOS!V183<>\"\",DATOS!V183,\"\")","v":""},{"$f":"IF(DATOS!W183<>\"\",DATOS!W183,\"\")","v":""}]
[{"$f":"IF(DATOS!K184<>\"\",DATOS!K184,\"\")","v":""},{"$f":"IF(DATOS!V184<>\"\",DATOS!V184,\"\")","v":""},{"$f":"IF(DATOS!W184<>\"\",DATOS!W184,\"\")","v":""}]
[{"$f":"IF(DATOS!K185<>\"\",DATOS!K185,\"\")","v":""},{"$f":"IF(DATOS!V185<>\"\",DATOS!V185,\"\")","v":""},{"$f":"IF(DATOS!W185<>\"\",DATOS!W185,\"\")","v":""}]
[{"$f":"IF(DATOS!K186<>\"\",DATOS!K186,\"\")","v":""},{"$f":"IF(DATOS!V186<>\"\",DATOS!V186,\"\")","v":""},{"$f":"IF(DATOS!W186<>\"\",DATOS!W186,\"\")","v":""}]
[{"$f":"IF(DATOS!K187<>\"\",DATOS!K187,\"\")","v":""},{"$f":"IF(DATOS!V187<>\"\",DATOS!V187,\"\")","v":""},{"$f":"IF(DATOS!W187<>\"\",DATOS!W187,\"\")","v":""}]
[{"$f":"IF(DATOS!K188<>\"\",DATOS!K188,\"\")","v":""},{"$f":"IF(DATOS!V188<>\"\",DATOS!V188,\"\")","v":""},{"$f":"IF(DATOS!W188<>\"\",DATOS!W188,\"\")","v":""}]
[{"$f":"IF(DATOS!K189<>\"\",DATOS!K189,\"\")","v":""},{"$f":"IF(DATOS!V189<>\"\",DATOS!V189,\"\")","v":""},{"$f":"IF(DATOS!W189<>\"\",DATOS!W189,\"\")","v":""}]
[{"$f":"IF(DATOS!K190<>\"\",DATOS!K190,\"\")","v":""},{"$f":"IF(DATOS!V190<>\"\",DATOS!V190,\"\")","v":""},{"$f":"IF(DATOS!W190<>\"\",DATOS!W190,\"\")","v":""}]
[{"$f":"IF(DATOS!K191<>\"\",DATOS!K191,\"\")","v":""},{"$f":"IF(DATOS!V191<>\"\",DATOS!V191,\"\")","v":""},{"$f":"IF(DATOS!W191<>\"\",DATOS!W191,\"\")","v":""}]
[{"$f":"IF(DATOS!K192<>\"\",DATOS!K192,\"\")","v":""},{"$f":"IF(DATOS!V192<>\"\",DATOS!V192,\"\")","v":""},{"$f":"IF(DATOS!W192<>\"\",DATOS!W192,\"\")","v":""}]
[{"$f":"IF(DATOS!K193<>\"\",DATOS!K193,\"\")","v":""},{"$f":"IF(DATOS!V193<>\"\",DATOS!V193,\"\")","v":""},{"$f":"IF(DATOS!W193<>\"\",DATOS!W193,\"\")","v":""}]
[{"$f":"IF(DATOS!K194<>\"\",DATOS!K194,\"\")","v":""},{"$f":"IF(DATOS!V194<>\"\",DATOS!V194,\"\")","v":""},{"$f":"IF(DATOS!W194<>\"\",DATOS!W194,\"\")","v":""}]
[{"$f":"IF(DATOS!K195<>\"\",DATOS!K195,\"\")","v":""},{"$f":"IF(DATOS!V195<>\"\",DATOS!V195,\"\")","v":""},{"$f":"IF(DATOS!W195<>\"\",DATOS!W195,\"\")","v":""}]
[{"$f":"IF(DATOS!K196<>\"\",DATOS!K196,\"\")","v":""},{"$f":"IF(DATOS!V196<>\"\",DATOS!V196,\"\")","v":""},{"$f":"IF(DATOS!W196<>\"\",DATOS!W196,\"\")","v":""}]
[{"$f":"IF(DATOS!K197<>\"\",DATOS!K197,\"\")","v":""},{"$f":"IF(DATOS!V197<>\"\",DATOS!V197,\"\")","v":""},{"$f":"IF(DATOS!W197<>\"\",DATOS!W197,\"\")","v":""}]
[{"$f":"IF(DATOS!K198<>\"\",DATOS!K198,\"\")","v":""},{"$f":"IF(DATOS!V198<>\"\",DATOS!V198,\"\")","v":""},{"$f":"IF(DATOS!W198<>\"\",DATOS!W198,\"\")","v":""}]
[{"$f":"IF(DATOS!K199<>\"\",DATOS!K199,\"\")","v":""},{"$f":"IF(DATOS!V199<>\"\",DATOS!V199,\"\")","v":""},{"$f":"IF(DATOS!W199<>\"\",DATOS!W199,\"\")","v":""}]
[{"$f":"IF(DATOS!K200<>\"\",DATOS!K200,\"\")","v":""},{"$f":"IF(DATOS!V200<>\"\",DATOS!V200,\"\")","v":""},{"$f":"IF(DATOS!W200<>\"\",DATOS!W200,\"\")","v":""}]
[{"$f":"IF(DATOS!K201<>\"\",DATOS!K201,\"\")","v":""},{"$f":"IF(DATOS!V201<>\"\",DATOS!V201,\"\")","v":""},{"$f":"IF(DATOS!W201<>\"\",DATOS!W201,\"\")","v":""}]
[{"$f":"IF(DATOS!K202<>\"\",DATOS!K202,\"\")","v":""},{"$f":"IF(DATOS!V202<>\"\",DATOS!V202,\"\")","v":""},{"$f":"IF(DATOS!W202<>\"\",DATOS!W202,\"\")","v":""}]
[{"$f":"IF(DATOS!K203<>\"\",DATOS!K203,\"\")","v":""},{"$f":"IF(DATOS!V203<>\"\",DATOS!V203,\"\")","v":""},{"$f":"IF(DATOS!W203<>\"\",DATOS!W203,\"\")","v":""}]
[{"$f":"IF(DATOS!K204<>\"\",DATOS!K204,\"\")","v":""},{"$f":"IF(DATOS!V204<>\"\",DATOS!V204,\"\")","v":""},{"$f":"IF(DATOS!W204<>\"\",DATOS!W204,\"\")","v":""}]
[{"$f":"IF(DATOS!K205<>\"\",DATOS!K205,\"\")","v":""},{"$f":"IF(DATOS!V205<>\"\",DATOS!V205,\"\")","v":""},{"$f":"IF(DATOS!W205<>\"\",DATOS!W205,\"\")","v":""}]
[{"$f":"IF(DATOS!K206<>\"\",DATOS!K206,\"\")","v":""},{"$f":"IF(DATOS!V206<>\"\",DATOS!V206,\"\")","v":""},{"$f":"IF(DATOS!W206<>\"\",DATOS!W206,\"\")","v":""}]
[{"$f":"IF(DATOS!K207<>\"\",DATOS!K207,\"\")","v":""},{"$f":"IF(DATOS!V207<>\"\",DATOS!V207,\"\")","v":""},{"$f":"IF(DATOS!W207<>\"\",DATOS!W207,\"\")","v":""}]
[{"$f":"IF(DATOS!K208<>\"\",DATOS!K208,\"\")","v":""},{"$f":"IF(DATOS!V208<>\"\",DATOS!V208,\"\")","v":""},{"$f":"IF(DATOS!W208<>\"\",DATOS!W208,\"\")","v":""}]
[{"$f":"IF(DATOS!K209<>\"\",DATOS!K209,\"\")","v":""},{"$f":"IF(DATOS!V209<>\"\",DATOS!V209,\"\")","v":""},{"$f":"IF(DATOS!W209<>\"\",DATOS!W209,\"\")","v":""}]
[{"$f":"IF(DATOS!K210<>\"\",DATOS!K210,\"\")","v":""},{"$f":"IF(DATOS!V210<>\"\",DATOS!V210,\"\")","v":""},{"$f":"IF(DATOS!W210<>\"\",DATOS!W210,\"\")","v":""}]
[{"$f":"IF(DATOS!K211<>\"\",DATOS!K211,\"\")","v":""},{"$f":"IF(DATOS!V211<>\"\",DATOS!V211,\"\")","v":""},{"$f":"IF(DATOS!W211<>\"\",DATOS!W211,\"\")","v":""}]
[{"$f":"IF(DATOS!K212<>\"\",DATOS!K212,\"\")","v":""},{"$f":"IF(DATOS!V212<>\"\",DATOS!V212,\"\")","v":""},{"$f":"IF(DATOS!W212<>\"\",DATOS!W212,\"\")","v":""}]
[{"$f":"IF(DATOS!K213<>\"\",DATOS!K213,\"\")","v":""},{"$f":"IF(DATOS!V213<>\"\",DATOS!V213,\"\")","v":""},{"$f":"IF(DATOS!W213<>\"\",DATOS!W213,\"\")","v":""}]
[{"$f":"IF(DATOS!K214<>\"\",DATOS!K214,\"\")","v":""},{"$f":"IF(DATOS!V214<>\"\",DATOS!V214,\"\")","v":""},{"$f":"IF(DATOS!W214<>\"\",DATOS!W214,\"\")","v":""}]
[{"$f":"IF(DATOS!K215<>\"\",DATOS!K215,\"\")","v":""},{"$f":"IF(DATOS!V215<>\"\",DATOS!V215,\"\")","v":""},{"$f":"IF(DATOS!W215<>\"\",DATOS!W215,\"\")","v":""}]
[{"$f":"IF(DATOS!K216<>\"\",DATOS!K216,\"\")","v":""},{"$f":"IF(DATOS!V216<>\"\",DATOS!V216,\"\")","v":""},{"$f":"IF(DATOS!W216<>\"\",DATOS!W216,\"\")","v":""}]
[{"$f":"IF(DATOS!K217<>\"\",DATOS!K217,\"\")","v":""},{"$f":"IF(DATOS!V217<>\"\",DATOS!V217,\"\")","v":""},{"$f":"IF(DATOS!W217<>\"\",DATOS!W217,\"\")","v":""}]
[{"$f":"IF(DATOS!K218<>\"\",DATOS!K218,\"\")","v":""},{"$f":"IF(DATOS!V218<>\"\",DATOS!V218,\"\")","v":""},{"$f":"IF(DATOS!W218<>\"\",DATOS!W218,\"\")","v":""}]
[{"$f":"IF(DATOS!K219<>\"\",DATOS!K219,\"\")","v":""},{"$f":"IF(DATOS!V219<>\"\",DATOS!V219,\"\")","v":""},{"$f":"IF(DATOS!W219<>\"\",DATOS!W219,\"\")","v":""}]
[{"$f":"IF(DATOS!K220<>\"\",DATOS!K220,\"\")","v":""},{"$f":"IF(DATOS!V220<>\"\",DATOS!V220,\"\")","v":""},{"$f":"IF(DATOS!W220<>\"\",DATOS!W220,\"\")","v":""}]
[{"$f":"IF(DATOS!K221<>\"\",DATOS!K221,\"\")","v":""},{"$f":"IF(DATOS!V221<>\"\",DATOS!V221,\"\")","v":""},{"$f":"IF(DATOS!W221<>\"\",DATOS!W221,\"\")","v":""}]
[{"$f":"IF(DATOS!K222<>\"\",DATOS!K222,\"\")","v":""},{"$f":"IF(DATOS!V222<>\"\",DATOS!V222,\"\")","v":""},{"$f":"IF(DATOS!W222<>\"\",DATOS!W222,\"\")","v":""}]
[{"$f":"IF(DATOS!K223<>\"\",DATOS!K223,\"\")","v":""},{"$f":"IF(DATOS!V223<>\"\",DATOS!V223,\"\")","v":""},{"$f":"IF(DATOS!W223<>\"\",DATOS!W223,\"\")","v":""}]
[{"$f":"IF(DATOS!K224<>\"\",DATOS!K224,\"\")","v":""},{"$f":"IF(DATOS!V224<>\"\",DATOS!V224,\"\")","v":""},{"$f":"IF(DATOS!W224<>\"\",DATOS!W224,\"\")","v":""}]
[{"$f":"IF(DATOS!K225<>\"\",DATOS!K225,\"\")","v":""},{"$f":"IF(DATOS!V225<>\"\",DATOS!V225,\"\")","v":""},{"$f":"IF(DATOS!W225<>\"\",DATOS!W225,\"\")","v":""}]
[{"$f":"IF(DATOS!K226<>\"\",DATOS!K226,\"\")","v":""},{"$f":"IF(DATOS!V226<>\"\",DATOS!V226,\"\")","v":""},{"$f":"IF(DATOS!W226<>\"\",DATOS!W226,\"\")","v":""}]
[{"$f":"IF(DATOS!K227<>\"\",DATOS!K227,\"\")","v":""},{"$f":"IF(DATOS!V227<>\"\",DATOS!V227,\"\")","v":""},{"$f":"IF(DATOS!W227<>\"\",DATOS!W227,\"\")","v":""}]
[{"$f":"IF(DATOS!K228<>\"\",DATOS!K228,\"\")","v":""},{"$f":"IF(DATOS!V228<>\"\",DATOS!V228,\"\")","v":""},{"$f":"IF(DATOS!W228<>\"\",DATOS!W228,\"\")","v":""}]
[{"$f":"IF(DATOS!K229<>\"\",DATOS!K229,\"\")","v":""},{"$f":"IF(DATOS!V229<>\"\",DATOS!V229,\"\")","v":""},{"$f":"IF(DATOS!W229<>\"\",DATOS!W229,\"\")","v":""}]
[{"$f":"IF(DATOS!K230<>\"\",DATOS!K230,\"\")","v":""},{"$f":"IF(DATOS!V230<>\"\",DATOS!V230,\"\")","v":""},{"$f":"IF(DATOS!W230<>\"\",DATOS!W230,\"\")","v":""}]
[{"$f":"IF(DATOS!K231<>\"\",DATOS!K231,\"\")","v":""},{"$f":"IF(DATOS!V231<>\"\",DATOS!V231,\"\")","v":""},{"$f":"IF(DATOS!W231<>\"\",DATOS!W231,\"\")","v":""}]
[{"$f":"IF(DATOS!K232<>\"\",DATOS!K232,\"\")","v":""},{"$f":"IF(DATOS!V232<>\"\",DATOS!V232,\"\")","v":""},{"$f":"IF(DATOS!W232<>\"\",DATOS!W232,\"\")","v":""}]
[{"$f":"IF(DATOS!K233<>\"\",DATOS!K233,\"\")","v":""},{"$f":"IF(DATOS!V233<>\"\",DATOS!V233,\"\")","v":""},{"$f":"IF(DATOS!W233<>\"\",DATOS!W233,\"\")","v":""}]
[{"$f":"IF(DATOS!K234<>\"\",DATOS!K234,\"\")","v":""},{"$f":"IF(DATOS!V234<>\"\",DATOS!V234,\"\")","v":""},{"$f":"IF(DATOS!W234<>\"\",DATOS!W234,\"\")","v":""}]
[{"$f":"IF(DATOS!K235<>\"\",DATOS!K235,\"\")","v":""},{"$f":"IF(DATOS!V235<>\"\",DATOS!V235,\"\")","v":""},{"$f":"IF(DATOS!W235<>\"\",DATOS!W235,\"\")","v":""}]
[{"$f":"IF(DATOS!K236<>\"\",DATOS!K236,\"\")","v":""},{"$f":"IF(DATOS!V236<>\"\",DATOS!V236,\"\")","v":""},{"$f":"IF(DATOS!W236<>\"\",DATOS!W236,\"\")","v":""}]
[{"$f":"IF(DATOS!K237<>\"\",DATOS!K237,\"\")","v":""},{"$f":"IF(DATOS!V237<>\"\",DATOS!V237,\"\")","v":""},{"$f":"IF(DATOS!W237<>\"\",DATOS!W237,\"\")","v":""}]
[{"$f":"IF(DATOS!K238<>\"\",DATOS!K238,\"\")","v":""},{"$f":"IF(DATOS!V238<>\"\",DATOS!V238,\"\")","v":""},{"$f":"IF(DATOS!W238<>\"\",DATOS!W238,\"\")","v":""}]
[{"$f":"IF(DATOS!K239<>\"\",DATOS!K239,\"\")","v":""},{"$f":"IF(DATOS!V239<>\"\",DATOS!V239,\"\")","v":""},{"$f":"IF(DATOS!W239<>\"\",DATOS!W239,\"\")","v":""}]
[{"$f":"IF(DATOS!K240<>\"\",DATOS!K240,\"\")","v":""},{"$f":"IF(DATOS!V240<>\"\",DATOS!V240,\"\")","v":""},{"$f":"IF(DATOS!W240<>\"\",DATOS!W240,\"\")","v":""}]
[{"$f":"IF(DATOS!K241<>\"\",DATOS!K241,\"\")","v":""},{"$f":"IF(DATOS!V241<>\"\",DATOS!V241,\"\")","v":""},{"$f":"IF(DATOS!W241<>\"\",DATOS!W241,\"\")","v":""}]
[{"$f":"IF(DATOS!K242<>\"\",DATOS!K242,\"\")","v":""},{"$f":"IF(DATOS!V242<>\"\",DATOS!V242,\"\")","v":""},{"$f":"IF(DATOS!W242<>\"\",DATOS!W242,\"\")","v":""}]
[{"$f":"IF(DATOS!K243<>\"\",DATOS!K243,\"\")","v":""},{"$f":"IF(DATOS!V243<>\"\",DATOS!V243,\"\")","v":""},{"$f":"IF(DATOS!W243<>\"\",DATOS!W243,\"\")","v":""}]
[{"$f":"IF(DATOS!K244<>\"\",DATOS!K244,\"\")","v":""},{"$f":"IF(DATOS!V244<>\"\",DATOS!V244,\"\")","v":""},{"$f":"IF(DATOS!W244<>\"\",DATOS!W244,\"\")","v":""}]
[{"$f":"IF(DATOS!K245<>\"\",DATOS!K245,\"\")","v":""},{"$f":"IF(DATOS!V245<>\"\",DATOS!V245,\"\")","v":""},{"$f":"IF(DATOS!W245<>\"\",DATOS!W245,\"\")","v":""}]
[{"$f":"IF(DATOS!K246<>\"\",DATOS!K246,\"\")","v":""},{"$f":"IF(DATOS!V246<>\"\",DATOS!V246,\"\")","v":""},{"$f":"IF(DATOS!W246<>\"\",DATOS!W246,\"\")","v":""}]
[{"$f":"IF(DATOS!K247<>\"\",DATOS!K247,\"\")","v":""},{"$f":"IF(DATOS!V247<>\"\",DATOS!V247,\"\")","v":""},{"$f":"IF(DATOS!W247<>\"\",DATOS!W247,\"\")","v":""}]
[{"$f":"IF(DATOS!K248<>\"\",DATOS!K248,\"\")","v":""},{"$f":"IF(DATOS!V248<>\"\",DATOS!V248,\"\")","v":""},{"$f":"IF(DATOS!W248<>\"\",DATOS!W248,\"\")","v":""}]
[{"$f":"IF(DATOS!K249<>\"\",DATOS!K249,\"\")","v":""},{"$f":"IF(DATOS!V249<>\"\",DATOS!V249,\"\")","v":""},{"$f":"IF(DATOS!W249<>\"\",DATOS!W249,\"\")","v":""}]
[{"$f":"IF(DATOS!K250<>\"\",DATOS!K250,\"\")","v":""},{"$f":"IF(DATOS!V250<>\"\",DATOS!V250,\"\")","v":""},{"$f":"IF(DATOS!W250<>\"\",DATOS!W250,\"\")","v":""}]
[{"$f":"IF(DATOS!K251<>\"\",DATOS!K251,\"\")","v":""},{"$f":"IF(DATOS!V251<>\"\",DATOS!V251,\"\")","v":""},{"$f":"IF(DATOS!W251<>\"\",DATOS!W251,\"\")","v":""}]
[{"$f":"IF(DATOS!K252<>\"\",DATOS!K252,\"\")","v":""},{"$f":"IF(DATOS!V252<>\"\",DATOS!V252,\"\")","v":""},{"$f":"IF(DATOS!W252<>\"\",DATOS!W252,\"\")","v":""}]
[{"$f":"IF(DATOS!K253<>\"\",DATOS!K253,\"\")","v":""},{"$f":"IF(DATOS!V253<>\"\",DATOS!V253,\"\")","v":""},{"$f":"IF(DATOS!W253<>\"\",DATOS!W253,\"\")","v":""}]
[{"$f":"IF(DATOS!K254<>\"\",DATOS!K254,\"\")","v":""},{"$f":"IF(DATOS!V254<>\"\",DATOS!V254,\"\")","v":""},{"$f":"IF(DATOS!W254<>\"\",DATOS!W254,\"\")","v":""}]
[{"$f":"IF(DATOS!K255<>\"\",DATOS!K255,\"\")","v":""},{"$f":"IF(DATOS!V255<>\"\",DATOS!V255,\"\")","v":""},{"$f":"IF(DATOS!W255<>\"\",DATOS!W255,\"\")","v":""}]
[{"$f":"IF(DATOS!K256<>\"\",DATOS!K256,\"\")","v":""},{"$f":"IF(DATOS!V256<>\"\",DATOS!V256,\"\")","v":""},{"$f":"IF(DATOS!W256<>\"\",DATOS!W256,\"\")","v":""}]
[{"$f":"IF(DATOS!K257<>\"\",DATOS!K257,\"\")","v":""},{"$f":"IF(DATOS!V257<>\"\",DATOS!V257,\"\")","v":""},{"$f":"IF(DATOS!W257<>\"\",DATOS!W257,\"\")","v":""}]
[{"$f":"IF(DATOS!K258<>\"\",DATOS!K258,\"\")","v":""},{"$f":"IF(DATOS!V258<>\"\",DATOS!V258,\"\")","v":""},{"$f":"IF(DATOS!W258<>\"\",DATOS!W258,\"\")","v":""}]
[{"$f":"IF(DATOS!K259<>\"\",DATOS!K259,\"\")","v":""},{"$f":"IF(DATOS!V259<>\"\",DATOS!V259,\"\")","v":""},{"$f":"IF(DATOS!W259<>\"\",DATOS!W259,\"\")","v":""}]
[{"$f":"IF(DATOS!K260<>\"\",DATOS!K260,\"\")","v":""},{"$f":"IF(DATOS!V260<>\"\",DATOS!V260,\"\")","v":""},{"$f":"IF(DATOS!W260<>\"\",DATOS!W260,\"\")","v":""}]
[{"$f":"IF(DATOS!K261<>\"\",DATOS!K261,\"\")","v":""},{"$f":"IF(DATOS!V261<>\"\",DATOS!V261,\"\")","v":""},{"$f":"IF(DATOS!W261<>\"\",DATOS!W261,\"\")","v":""}]
[{"$f":"IF(DATOS!K262<>\"\",DATOS!K262,\"\")","v":""},{"$f":"IF(DATOS!V262<>\"\",DATOS!V262,\"\")","v":""},{"$f":"IF(DATOS!W262<>\"\",DATOS!W262,\"\")","v":""}]
[{"$f":"IF(DATOS!K263<>\"\",DATOS!K263,\"\")","v":""},{"$f":"IF(DATOS!V263<>\"\",DATOS!V263,\"\")","v":""},{"$f":"IF(DATOS!W263<>\"\",DATOS!W263,\"\")","v":""}]
[{"$f":"IF(DATOS!K264<>\"\",DATOS!K264,\"\")","v":""},{"$f":"IF(DATOS!V264<>\"\",DATOS!V264,\"\")","v":""},{"$f":"IF(DATOS!W264<>\"\",DATOS!W264,\"\")","v":""}]
[{"$f":"IF(DATOS!K265<>\"\",DATOS!K265,\"\")","v":""},{"$f":"IF(DATOS!V265<>\"\",DATOS!V265,\"\")","v":""},{"$f":"IF(DATOS!W265<>\"\",DATOS!W265,\"\")","v":""}]
[{"$f":"IF(DATOS!K266<>\"\",DATOS!K266,\"\")","v":""},{"$f":"IF(DATOS!V266<>\"\",DATOS!V266,\"\")","v":""},{"$f":"IF(DATOS!W266<>\"\",DATOS!W266,\"\")","v":""}]
[{"$f":"IF(DATOS!K267<>\"\",DATOS!K267,\"\")","v":""},{"$f":"IF(DATOS!V267<>\"\",DATOS!V267,\"\")","v":""},{"$f":"IF(DATOS!W267<>\"\",DATOS!W267,\"\")","v":""}]
[{"$f":"IF(DATOS!K268<>\"\",DATOS!K268,\"\")","v":""},{"$f":"IF(DATOS!V268<>\"\",DATOS!V268,\"\")","v":""},{"$f":"IF(DATOS!W268<>\"\",DATOS!W268,\"\")","v":""}]
[{"$f":"IF(DATOS!K269<>\"\",DATOS!K269,\"\")","v":""},{"$f":"IF(DATOS!V269<>\"\",DATOS!V269,\"\")","v":""},{"$f":"IF(DATOS!W269<>\"\",DATOS!W269,\"\")","v":""}]
[{"$f":"IF(DATOS!K270<>\"\",DATOS!K270,\"\")","v":""},{"$f":"IF(DATOS!V270<>\"\",DATOS!V270,\"\")","v":""},{"$f":"IF(DATOS!W270<>\"\",DATOS!W270,\"\")","v":""}]
[{"$f":"IF(DATOS!K271<>\"\",DATOS!K271,\"\")","v":""},{"$f":"IF(DATOS!V271<>\"\",DATOS!V271,\"\")","v":""},{"$f":"IF(DATOS!W271<>\"\",DATOS!W271,\"\")","v":""}]
[{"$f":"IF(DATOS!K272<>\"\",DATOS!K272,\"\")","v":""},{"$f":"IF(DATOS!V272<>\"\",DATOS!V272,\"\")","v":""},{"$f":"IF(DATOS!W272<>\"\",DATOS!W272,\"\")","v":""}]
[{"$f":"IF(DATOS!K273<>\"\",DATOS!K273,\"\")","v":""},{"$f":"IF(DATOS!V273<>\"\",DATOS!V273,\"\")","v":""},{"$f":"IF(DATOS!W273<>\"\",DATOS!W273,\"\")","v":""}]
[{"$f":"IF(DATOS!K274<>\"\",DATOS!K274,\"\")","v":""},{"$f":"IF(DATOS!V274<>\"\",DATOS!V274,\"\")","v":""},{"$f":"IF(DATOS!W274<>\"\",DATOS!W274,\"\")","v":""}]
[{"$f":"IF(DATOS!K275<>\"\",DATOS!K275,\"\")","v":""},{"$f":"IF(DATOS!V275<>\"\",DATOS!V275,\"\")","v":""},{"$f":"IF(DATOS!W275<>\"\",DATOS!W275,\"\")","v":""}]
[{"$f":"IF(DATOS!K276<>\"\",DATOS!K276,\"\")","v":""},{"$f":"IF(DATOS!V276<>\"\",DATOS!V276,\"\")","v":""},{"$f":"IF(DATOS!W276<>\"\",DATOS!W276,\"\")","v":""}]
[{"$f":"IF(DATOS!K277<>\"\",DATOS!K277,\"\")","v":""},{"$f":"IF(DATOS!V277<>\"\",DATOS!V277,\"\")","v":""},{"$f":"IF(DATOS!W277<>\"\",DATOS!W277,\"\")","v":""}]
[{"$f":"IF(DATOS!K278<>\"\",DATOS!K278,\"\")","v":""},{"$f":"IF(DATOS!V278<>\"\",DATOS!V278,\"\")","v":""},{"$f":"IF(DATOS!W278<>\"\",DATOS!W278,\"\")","v":""}]
[{"$f":"IF(DATOS!K279<>\"\",DATOS!K279,\"\")","v":""},{"$f":"IF(DATOS!V279<>\"\",DATOS!V279,\"\")","v":""},{"$f":"IF(DATOS!W279<>\"\",DATOS!W279,\"\")","v":""}]
[{"$f":"IF(DATOS!K280<>\"\",DATOS!K280,\"\")","v":""},{"$f":"IF(DATOS!V280<>\"\",DATOS!V280,\"\")","v":""},{"$f":"IF(DATOS!W280<>\"\",DATOS!W280,\"\")","v":""}]
[{"$f":"IF(DATOS!K281<>\"\",DATOS!K281,\"\")","v":""},{"$f":"IF(DATOS!V281<>\"\",DATOS!V281,\"\")","v":""},{"$f":"IF(DATOS!W281<>\"\",DATOS!W281,\"\")","v":""}]
[{"$f":"IF(DATOS!K282<>\"\",DATOS!K282,\"\")","v":""},{"$f":"IF(DATOS!V282<>\"\",DATOS!V282,\"\")","v":""},{"$f":"IF(DATOS!W282<>\"\",DATOS!W282,\"\")","v":""}]
[{"$f":"IF(DATOS!K283<>\"\",DATOS!K283,\"\")","v":""},{"$f":"IF(DATOS!V283<>\"\",DATOS!V283,\"\")","v":""},{"$f":"IF(DATOS!W283<>\"\",DATOS!W283,\"\")","v":""}]
[{"$f":"IF(DATOS!K284<>\"\",DATOS!K284,\"\")","v":""},{"$f":"IF(DATOS!V284<>\"\",DATOS!V284,\"\")","v":""},{"$f":"IF(DATOS!W284<>\"\",DATOS!W284,\"\")","v":""}]
[{"$f":"IF(DATOS!K285<>\"\",DATOS!K285,\"\")","v":""},{"$f":"IF(DATOS!V285<>\"\",DATOS!V285,\"\")","v":""},{"$f":"IF(DATOS!W285<>\"\",DATOS!W285,\"\")","v":""}]
[{"$f":"IF(DATOS!K286<>\"\",DATOS!K286,\"\")","v":""},{"$f":"IF(DATOS!V286<>\"\",DATOS!V286,\"\")","v":""},{"$f":"IF(DATOS!W286<>\"\",DATOS!W286,\"\")","v":""}]
[{"$f":"IF(DATOS!K287<>\"\",DATOS!K287,\"\")","v":""},{"$f":"IF(DATOS!V287<>\"\",DATOS!V287,\"\")","v":""},{"$f":"IF(DATOS!W287<>\"\",DATOS!W287,\"\")","v":""}]
[{"$f":"IF(DATOS!K288<>\"\",DATOS!K288,\"\")","v":""},{"$f":"IF(DATOS!V288<>\"\",DATOS!V288,\"\")","v":""},{"$f":"IF(DATOS!W288<>\"\",DATOS!W288,\"\")","v":""}]
[{"$f":"IF(DATOS!K289<>\"\",DATOS!K289,\"\")","v":""},{"$f":"IF(DATOS!V289<>\"\",DATOS!V289,\"\")","v":""},{"$f":"IF(DATOS!W289<>\"\",DATOS!W289,\"\")","v":""}]
[{"$f":"IF(DATOS!K290<>\"\",DATOS!K290,\"\")","v":""},{"$f":"IF(DATOS!V290<>\"\",DATOS!V290,\"\")","v":""},{"$f":"IF(DATOS!W290<>\"\",DATOS!W290,\"\")","v":""}]
[{"$f":"IF(DATOS!K291<>\"\",DATOS!K291,\"\")","v":""},{"$f":"IF(DATOS!V291<>\"\",DATOS!V291,\"\")","v":""},{"$f":"IF(DATOS!W291<>\"\",DATOS!W291,\"\")","v":""}]
[{"$f":"IF(DATOS!K292<>\"\",DATOS!K292,\"\")","v":""},{"$f":"IF(DATOS!V292<>\"\",DATOS!V292,\"\")","v":""},{"$f":"IF(DATOS!W292<>\"\",DATOS!W292,\"\")","v":""}]
[{"$f":"IF(DATOS!K293<>\"\",DATOS!K293,\"\")","v":""},{"$f":"IF(DATOS!V293<>\"\",DATOS!V293,\"\")","v":""},{"$f":"IF(DATOS!W293<>\"\",DATOS!W293,\"\")","v":""}]
[{"$f":"IF(DATOS!K294<>\"\",DATOS!K294,\"\")","v":""},{"$f":"IF(DATOS!V294<>\"\",DATOS!V294,\"\")","v":""},{"$f":"IF(DATOS!W294<>\"\",DATOS!W294,\"\")","v":""}]
[{"$f":"IF(DATOS!K295<>\"\",DATOS!K295,\"\")","v":""},{"$f":"IF(DATOS!V295<>\"\",DATOS!V295,\"\")","v":""},{"$f":"IF(DATOS!W295<>\"\",DATOS!W295,\"\")","v":""}]
[{"$f":"IF(DATOS!K296<>\"\",DATOS!K296,\"\")","v":""},{"$f":"IF(DATOS!V296<>\"\",DATOS!V296,\"\")","v":""},{"$f":"IF(DATOS!W296<>\"\",DATOS!W296,\"\")","v":""}]
[{"$f":"IF(DATOS!K297<>\"\",DATOS!K297,\"\")","v":""},{"$f":"IF(DATOS!V297<>\"\",DATOS!V297,\"\")","v":""},{"$f":"IF(DATOS!W297<>\"\",DATOS!W297,\"\")","v":""}]
[{"$f":"IF(DATOS!K298<>\"\",DATOS!K298,\"\")","v":""},{"$f":"IF(DATOS!V298<>\"\",DATOS!V298,\"\")","v":""},{"$f":"IF(DATOS!W298<>\"\",DATOS!W298,\"\")","v":""}]
[{"$f":"IF(DATOS!K299<>\"\",DATOS!K299,\"\")","v":""},{"$f":"IF(DATOS!V299<>\"\",DATOS!V299,\"\")","v":""},{"$f":"IF(DATOS!W299<>\"\",DATOS!W299,\"\")","v":""}]
[{"$f":"IF(DATOS!K300<>\"\",DATOS!K300,\"\")","v":""},{"$f":"IF(DATOS!V300<>\"\",DATOS!V300,\"\")","v":""},{"$f":"IF(DATOS!W300<>\"\",DATOS!W300,\"\")","v":""}]
[{"$f":"IF(DATOS!K301<>\"\",DATOS!K301,\"\")","v":""},{"$f":"IF(DATOS!V301<>\"\",DATOS!V301,\"\")","v":""},{"$f":"IF(DATOS!W301<>\"\",DATOS!W301,\"\")","v":""}]
[{"$f":"IF(DATOS!K302<>\"\",DATOS!K302,\"\")","v":""},{"$f":"IF(DATOS!V302<>\"\",DATOS!V302,\"\")","v":""},{"$f":"IF(DATOS!W302<>\"\",DATOS!W302,\"\")","v":""}]
[{"$f":"IF(DATOS!K303<>\"\",DATOS!K303,\"\")","v":""},{"$f":"IF(DATOS!V303<>\"\",DATOS!V303,\"\")","v":""},{"$f":"IF(DATOS!W303<>\"\",DATOS!W303,\"\")","v":""}]
[{"$f":"IF(DATOS!K304<>\"\",DATOS!K304,\"\")","v":""},{"$f":"IF(DATOS!V304<>\"\",DATOS!V304,\"\")","v":""},{"$f":"IF(DATOS!W304<>\"\",DATOS!W304,\"\")","v":""}]
[{"$f":"IF(DATOS!K305<>\"\",DATOS!K305,\"\")","v":""},{"$f":"IF(DATOS!V305<>\"\",DATOS!V305,\"\")","v":""},{"$f":"IF(DATOS!W305<>\"\",DATOS!W305,\"\")","v":""}]
[{"$f":"IF(DATOS!K306<>\"\",DATOS!K306,\"\")","v":""},{"$f":"IF(DATOS!V306<>\"\",DATOS!V306,\"\")","v":""},{"$f":"IF(DATOS!W306<>\"\",DATOS!W306,\"\")","v":""}]
[{"$f":"IF(DATOS!K307<>\"\",DATOS!K307,\"\")","v":""},{"$f":"IF(DATOS!V307<>\"\",DATOS!V307,\"\")","v":""},{"$f":"IF(DATOS!W307<>\"\",DATOS!W307,\"\")","v":""}]
[{"$f":"IF(DATOS!K308<>\"\",DATOS!K308,\"\")","v":""},{"$f":"IF(DATOS!V308<>\"\",DATOS!V308,\"\")","v":""},{"$f":"IF(DATOS!W308<>\"\",DATOS!W308,\"\")","v":""}]
[{"$f":"IF(DATOS!K309<>\"\",DATOS!K309,\"\")","v":""},{"$f":"IF(DATOS!V309<>\"\",DATOS!V309,\"\")","v":""},{"$f":"IF(DATOS!W309<>\"\",DATOS!W309,\"\")","v":""}]
[{"$f":"IF(DATOS!K310<>\"\",DATOS!K310,\"\")","v":""},{"$f":"IF(DATOS!V310<>\"\",DATOS!V310,\"\")","v":""},{"$f":"IF(DATOS!W310<>\"\",DATOS!W310,\"\")","v":""}]
[{"$f":"IF(DATOS!K311<>\"\",DATOS!K311,\"\")","v":""},{"$f":"IF(DATOS!V311<>\"\",DATOS!V311,\"\")","v":""},{"$f":"IF(DATOS!W311<>\"\",DATOS!W311,\"\")","v":""}]
[{"$f":"IF(DATOS!K312<>\"\",DATOS!K312,\"\")","v":""},{"$f":"IF(DATOS!V312<>\"\",DATOS!V312,\"\")","v":""},{"$f":"IF(DATOS!W312<>\"\",DATOS!W312,\"\")","v":""}]
[{"$f":"IF(DATOS!K313<>\"\",DATOS!K313,\"\")","v":""},{"$f":"IF(DATOS!V313<>\"\",DATOS!V313,\"\")","v":""},{"$f":"IF(DATOS!W313<>\"\",DATOS!W313,\"\")","v":""}]
[{"$f":"IF(DATOS!K314<>\"\",DATOS!K314,\"\")","v":""},{"$f":"IF(DATOS!V314<>\"\",DATOS!V314,\"\")","v":""},{"$f":"IF(DATOS!W314<>\"\",DATOS!W314,\"\")","v":""}]
[{"$f":"IF(DATOS!K315<>\"\",DATOS!K315,\"\")","v":""},{"$f":"IF(DATOS!V315<>\"\",DATOS!V315,\"\")","v":""},{"$f":"IF(DATOS!W315<>\"\",DATOS!W315,\"\")","v":""}]
[{"$f":"IF(DATOS!K316<>\"\",DATOS!K316,\"\")","v":""},{"$f":"IF(DATOS!V316<>\"\",DATOS!V316,\"\")","v":""},{"$f":"IF(DATOS!W316<>\"\",DATOS!W316,\"\")","v":""}]
[{"$f":"IF(DATOS!K317<>\"\",DATOS!K317,\"\")","v":""},{"$f":"IF(DATOS!V317<>\"\",DATOS!V317,\"\")","v":""},{"$f":"IF(DATOS!W317<>\"\",DATOS!W317,\"\")","v":""}]
[{"$f":"IF(DATOS!K318<>\"\",DATOS!K318,\"\")","v":""},{"$f":"IF(DATOS!V318<>\"\",DATOS!V318,\"\")","v":""},{"$f":"IF(DATOS!W318<>\"\",DATOS!W318,\"\")","v":""}]
[{"$f":"IF(DATOS!K319<>\"\",DATOS!K319,\"\")","v":""},{"$f":"IF(DATOS!V319<>\"\",DATOS!V319,\"\")","v":""},{"$f":"IF(DATOS!W319<>\"\",DATOS!W319,\"\")","v":""}]
[{"$f":"IF(DATOS!K320<>\"\",DATOS!K320,\"\")","v":""},{"$f":"IF(DATOS!V320<>\"\",DATOS!V320,\"\")","v":""},{"$f":"IF(DATOS!W320<>\"\",DATOS!W320,\"\")","v":""}]
[{"$f":"IF(DATOS!K321<>\"\",DATOS!K321,\"\")","v":""},{"$f":"IF(DATOS!V321<>\"\",DATOS!V321,\"\")","v":""},{"$f":"IF(DATOS!W321<>\"\",DATOS!W321,\"\")","v":""}]
[{"$f":"IF(DATOS!K322<>\"\",DATOS!K322,\"\")","v":""},{"$f":"IF(DATOS!V322<>\"\",DATOS!V322,\"\")","v":""},{"$f":"IF(DATOS!W322<>\"\",DATOS!W322,\"\")","v":""}]
[{"$f":"IF(DATOS!K323<>\"\",DATOS!K323,\"\")","v":""},{"$f":"IF(DATOS!V323<>\"\",DATOS!V323,\"\")","v":""},{"$f":"IF(DATOS!W323<>\"\",DATOS!W323,\"\")","v":""}]
[{"$f":"IF(DATOS!K324<>\"\",DATOS!K324,\"\")","v":""},{"$f":"IF(DATOS!V324<>\"\",DATOS!V324,\"\")","v":""},{"$f":"IF(DATOS!W324<>\"\",DATOS!W324,\"\")","v":""}]
[{"$f":"IF(DATOS!K325<>\"\",DATOS!K325,\"\")","v":""},{"$f":"IF(DATOS!V325<>\"\",DATOS!V325,\"\")","v":""},{"$f":"IF(DATOS!W325<>\"\",DATOS!W325,\"\")","v":""}]
[{"$f":"IF(DATOS!K326<>\"\",DATOS!K326,\"\")","v":""},{"$f":"IF(DATOS!V326<>\"\",DATOS!V326,\"\")","v":""},{"$f":"IF(DATOS!W326<>\"\",DATOS!W326,\"\")","v":""}]
[{"$f":"IF(DATOS!K327<>\"\",DATOS!K327,\"\")","v":""},{"$f":"IF(DATOS!V327<>\"\",DATOS!V327,\"\")","v":""},{"$f":"IF(DATOS!W327<>\"\",DATOS!W327,\"\")","v":""}]
[{"$f":"IF(DATOS!K328<>\"\",DATOS!K328,\"\")","v":""},{"$f":"IF(DATOS!V328<>\"\",DATOS!V328,\"\")","v":""},{"$f":"IF(DATOS!W328<>\"\",DATOS!W328,\"\")","v":""}]
[{"$f":"IF(DATOS!K329<>\"\",DATOS!K329,\"\")","v":""},{"$f":"IF(DATOS!V329<>\"\",DATOS!V329,\"\")","v":""},{"$f":"IF(DATOS!W329<>\"\",DATOS!W329,\"\")","v":""}]
[{"$f":"IF(DATOS!K330<>\"\",DATOS!K330,\"\")","v":""},{"$f":"IF(DATOS!V330<>\"\",DATOS!V330,\"\")","v":""},{"$f":"IF(DATOS!W330<>\"\",DATOS!W330,\"\")","v":""}]
[{"$f":"IF(DATOS!K331<>\"\",DATOS!K331,\"\")","v":""},{"$f":"IF(DATOS!V331<>\"\",DATOS!V331,\"\")","v":""},{"$f":"IF(DATOS!W331<>\"\",DATOS!W331,\"\")","v":""}]
[{"$f":"IF(DATOS!K332<>\"\",DATOS!K332,\"\")","v":""},{"$f":"IF(DATOS!V332<>\"\",DATOS!V332,\"\")","v":""},{"$f":"IF(DATOS!W332<>\"\",DATOS!W332,\"\")","v":""}]
[{"$f":"IF(DATOS!K333<>\"\",DATOS!K333,\"\")","v":""},{"$f":"IF(DATOS!V333<>\"\",DATOS!V333,\"\")","v":""},{"$f":"IF(DATOS!W333<>\"\",DATOS!W333,\"\")","v":""}]
[{"$f":"IF(DATOS!K334<>\"\",DATOS!K334,\"\")","v":""},{"$f":"IF(DATOS!V334<>\"\",DATOS!V334,\"\")","v":""},{"$f":"IF(DATOS!W334<>\"\",DATOS!W334,\"\")","v":""}]
[{"$f":"IF(DATOS!K335<>\"\",DATOS!K335,\"\")","v":""},{"$f":"IF(DATOS!V335<>\"\",DATOS!V335,\"\")","v":""},{"$f":"IF(DATOS!W335<>\"\",DATOS!W335,\"\")","v":""}]
[{"$f":"IF(DATOS!K336<>\"\",DATOS!K336,\"\")","v":""},{"$f":"IF(DATOS!V336<>\"\",DATOS!V336,\"\")","v":""},{"$f":"IF(DATOS!W336<>\"\",DATOS!W336,\"\")","v":""}]
[{"$f":"IF(DATOS!K337<>\"\",DATOS!K337,\"\")","v":""},{"$f":"IF(DATOS!V337<>\"\",DATOS!V337,\"\")","v":""},{"$f":"IF(DATOS!W337<>\"\",DATOS!W337,\"\")","v":""}]
[{"$f":"IF(DATOS!K338<>\"\",DATOS!K338,\"\")","v":""},{"$f":"IF(DATOS!V338<>\"\",DATOS!V338,\"\")","v":""},{"$f":"IF(DATOS!W338<>\"\",DATOS!W338,\"\")","v":""}]
[{"$f":"IF(DATOS!K339<>\"\",DATOS!K339,\"\")","v":""},{"$f":"IF(DATOS!V339<>\"\",DATOS!V339,\"\")","v":""},{"$f":"IF(DATOS!W339<>\"\",DATOS!W339,\"\")","v":""}]
[{"$f":"IF(DATOS!K340<>\"\",DATOS!K340,\"\")","v":""},{"$f":"IF(DATOS!V340<>\"\",DATOS!V340,\"\")","v":""},{"$f":"IF(DATOS!W340<>\"\",DATOS!W340,\"\")","v":""}]
[{"$f":"IF(DATOS!K341<>\"\",DATOS!K341,\"\")","v":""},{"$f":"IF(DATOS!V341<>\"\",DATOS!V341,\"\")","v":""},{"$f":"IF(DATOS!W341<>\"\",DATOS!W341,\"\")","v":""}]
[{"$f":"IF(DATOS!K342<>\"\",DATOS!K342,\"\")","v":""},{"$f":"IF(DATOS!V342<>\"\",DATOS!V342,\"\")","v":""},{"$f":"IF(DATOS!W342<>\"\",DATOS!W342,\"\")","v":""}]
[{"$f":"IF(DATOS!K343<>\"\",DATOS!K343,\"\")","v":""},{"$f":"IF(DATOS!V343<>\"\",DATOS!V343,\"\")","v":""},{"$f":"IF(DATOS!W343<>\"\",DATOS!W343,\"\")","v":""}]
[{"$f":"IF(DATOS!K344<>\"\",DATOS!K344,\"\")","v":""},{"$f":"IF(DATOS!V344<>\"\",DATOS!V344,\"\")","v":""},{"$f":"IF(DATOS!W344<>\"\",DATOS!W344,\"\")","v":""}]
[{"$f":"IF(DATOS!K345<>\"\",DATOS!K345,\"\")","v":""},{"$f":"IF(DATOS!V345<>\"\",DATOS!V345,\"\")","v":""},{"$f":"IF(DATOS!W345<>\"\",DATOS!W345,\"\")","v":""}]
[{"$f":"IF(DATOS!K346<>\"\",DATOS!K346,\"\")","v":""},{"$f":"IF(DATOS!V346<>\"\",DATOS!V346,\"\")","v":""},{"$f":"IF(DATOS!W346<>\"\",DATOS!W346,\"\")","v":""}]
[{"$f":"IF(DATOS!K347<>\"\",DATOS!K347,\"\")","v":""},{"$f":"IF(DATOS!V347<>\"\",DATOS!V347,\"\")","v":""},{"$f":"IF(DATOS!W347<>\"\",DATOS!W347,\"\")","v":""}]
[{"$f":"IF(DATOS!K348<>\"\",DATOS!K348,\"\")","v":""},{"$f":"IF(DATOS!V348<>\"\",DATOS!V348,\"\")","v":""},{"$f":"IF(DATOS!W348<>\"\",DATOS!W348,\"\")","v":""}]
[{"$f":"IF(DATOS!K349<>\"\",DATOS!K349,\"\")","v":""},{"$f":"IF(DATOS!V349<>\"\",DATOS!V349,\"\")","v":""},{"$f":"IF(DATOS!W349<>\"\",DATOS!W349,\"\")","v":""}]
[{"$f":"IF(DATOS!K350<>\"\",DATOS!K350,\"\")","v":""},{"$f":"IF(DATOS!V350<>\"\",DATOS!V350,\"\")","v":""},{"$f":"IF(DATOS!W350<>\"\",DATOS!W350,\"\")","v":""}]
[{"$f":"IF(DATOS!K351<>\"\",DATOS!K351,\"\")","v":""},{"$f":"IF(DATOS!V351<>\"\",DATOS!V351,\"\")","v":""},{"$f":"IF(DATOS!W351<>\"\",DATOS!W351,\"\")","v":""}]
[{"$f":"IF(DATOS!K352<>\"\",DATOS!K352,\"\")","v":""},{"$f":"IF(DATOS!V352<>\"\",DATOS!V352,\"\")","v":""},{"$f":"IF(DATOS!W352<>\"\",DATOS!W352,\"\")","v":""}]
[{"$f":"IF(DATOS!K353<>\"\",DATOS!K353,\"\")","v":""},{"$f":"IF(DATOS!V353<>\"\",DATOS!V353,\"\")","v":""},{"$f":"IF(DATOS!W353<>\"\",DATOS!W353,\"\")","v":""}]
[{"$f":"IF(DATOS!K354<>\"\",DATOS!K354,\"\")","v":""},{"$f":"IF(DATOS!V354<>\"\",DATOS!V354,\"\")","v":""},{"$f":"IF(DATOS!W354<>\"\",DATOS!W354,\"\")","v":""}]
[{"$f":"IF(DATOS!K355<>\"\",DATOS!K355,\"\")","v":""},{"$f":"IF(DATOS!V355<>\"\",DATOS!V355,\"\")","v":""},{"$f":"IF(DATOS!W355<>\"\",DATOS!W355,\"\")","v":""}]
[{"$f":"IF(DATOS!K356<>\"\",DATOS!K356,\"\")","v":""},{"$f":"IF(DATOS!V356<>\"\",DATOS!V356,\"\")","v":""},{"$f":"IF(DATOS!W356<>\"\",DATOS!W356,\"\")","v":""}]
[{"$f":"IF(DATOS!K357<>\"\",DATOS!K357,\"\")","v":""},{"$f":"IF(DATOS!V357<>\"\",DATOS!V357,\"\")","v":""},{"$f":"IF(DATOS!W357<>\"\",DATOS!W357,\"\")","v":""}]
[{"$f":"IF(DATOS!K358<>\"\",DATOS!K358,\"\")","v":""},{"$f":"IF(DATOS!V358<>\"\",DATOS!V358,\"\")","v":""},{"$f":"IF(DATOS!W358<>\"\",DATOS!W358,\"\")","v":""}]
[{"$f":"IF(DATOS!K359<>\"\",DATOS!K359,\"\")","v":""},{"$f":"IF(DATOS!V359<>\"\",DATOS!V359,\"\")","v":""},{"$f":"IF(DATOS!W359<>\"\",DATOS!W359,\"\")","v":""}]
[{"$f":"IF(DATOS!K360<>\"\",DATOS!K360,\"\")","v":""},{"$f":"IF(DATOS!V360<>\"\",DATOS!V360,\"\")","v":""},{"$f":"IF(DATOS!W360<>\"\",DATOS!W360,\"\")","v":""}]
[{"$f":"IF(DATOS!K361<>\"\",DATOS!K361,\"\")","v":""},{"$f":"IF(DATOS!V361<>\"\",DATOS!V361,\"\")","v":""},{"$f":"IF(DATOS!W361<>\"\",DATOS!W361,\"\")","v":""}]
[{"$f":"IF(DATOS!K362<>\"\",DATOS!K362,\"\")","v":""},{"$f":"IF(DATOS!V362<>\"\",DATOS!V362,\"\")","v":""},{"$f":"IF(DATOS!W362<>\"\",DATOS!W362,\"\")","v":""}]
[{"$f":"IF(DATOS!K363<>\"\",DATOS!K363,\"\")","v":""},{"$f":"IF(DATOS!V363<>\"\",DATOS!V363,\"\")","v":""},{"$f":"IF(DATOS!W363<>\"\",DATOS!W363,\"\")","v":""}]
[{"$f":"IF(DATOS!K364<>\"\",DATOS!K364,\"\")","v":""},{"$f":"IF(DATOS!V364<>\"\",DATOS!V364,\"\")","v":""},{"$f":"IF(DATOS!W364<>\"\",DATOS!W364,\"\")","v":""}]
[{"$f":"IF(DATOS!K365<>\"\",DATOS!K365,\"\")","v":""},{"$f":"IF(DATOS!V365<>\"\",DATOS!V365,\"\")","v":""},{"$f":"IF(DATOS!W365<>\"\",DATOS!W365,\"\")","v":""}]
[{"$f":"IF(DATOS!K366<>\"\",DATOS!K366,\"\")","v":""},{"$f":"IF(DATOS!V366<>\"\",DATOS!V366,\"\")","v":""},{"$f":"IF(DATOS!W366<>\"\",DATOS!W366,\"\")","v":""}]
[{"$f":"IF(DATOS!K367<>\"\",DATOS!K367,\"\")","v":""},{"$f":"IF(DATOS!V367<>\"\",DATOS!V367,\"\")","v":""},{"$f":"IF(DATOS!W367<>\"\",DATOS!W367,\"\")","v":""}]
[{"$f":"IF(DATOS!K368<>\"\",DATOS!K368,\"\")","v":""},{"$f":"IF(DATOS!V368<>\"\",DATOS!V368,\"\")","v":""},{"$f":"IF(DATOS!W368<>\"\",DATOS!W368,\"\")","v":""}]
[{"$f":"IF(DATOS!K369<>\"\",DATOS!K369,\"\")","v":""},{"$f":"IF(DATOS!V369<>\"\",DATOS!V369,\"\")","v":""},{"$f":"IF(DATOS!W369<>\"\",DATOS!W369,\"\")","v":""}]
[{"$f":"IF(DATOS!K370<>\"\",DATOS!K370,\"\")","v":""},{"$f":"IF(DATOS!V370<>\"\",DATOS!V370,\"\")","v":""},{"$f":"IF(DATOS!W370<>\"\",DATOS!W370,\"\")","v":""}]
[{"$f":"IF(DATOS!K371<>\"\",DATOS!K371,\"\")","v":""},{"$f":"IF(DATOS!V371<>\"\",DATOS!V371,\"\")","v":""},{"$f":"IF(DATOS!W371<>\"\",DATOS!W371,\"\")","v":""}]
[{"$f":"IF(DATOS!K372<>\"\",DATOS!K372,\"\")","v":""},{"$f":"IF(DATOS!V372<>\"\",DATOS!V372,\"\")","v":""},{"$f":"IF(DATOS!W372<>\"\",DATOS!W372,\"\")","v":""}]
[{"$f":"IF(DATOS!K373<>\"\",DATOS!K373,\"\")","v":""},{"$f":"IF(DATOS!V373<>\"\",DATOS!V373,\"\")","v":""},{"$f":"IF(DATOS!W373<>\"\",DATOS!W373,\"\")","v":""}]
[{"$f":"IF(DATOS!K374<>\"\",DATOS!K374,\"\")","v":""},{"$f":"IF(DATOS!V374<>\"\",DATOS!V374,\"\")","v":""},{"$f":"IF(DATOS!W374<>\"\",DATOS!W374,\"\")","v":""}]
[{"$f":"IF(DATOS!K375<>\"\",DATOS!K375,\"\")","v":""},{"$f":"IF(DATOS!V375<>\"\",DATOS!V375,\"\")","v":""},{"$f":"IF(DATOS!W375<>\"\",DATOS!W375,\"\")","v":""}]
[{"$f":"IF(DATOS!K376<>\"\",DATOS!K376,\"\")","v":""},{"$f":"IF(DATOS!V376<>\"\",DATOS!V376,\"\")","v":""},{"$f":"IF(DATOS!W376<>\"\",DATOS!W376,\"\")","v":""}]
[{"$f":"IF(DATOS!K377<>\"\",DATOS!K377,\"\")","v":""},{"$f":"IF(DATOS!V377<>\"\",DATOS!V377,\"\")","v":""},{"$f":"IF(DATOS!W377<>\"\",DATOS!W377,\"\")","v":""}]
[{"$f":"IF(DATOS!K378<>\"\",DATOS!K378,\"\")","v":""},{"$f":"IF(DATOS!V378<>\"\",DATOS!V378,\"\")","v":""},{"$f":"IF(DATOS!W378<>\"\",DATOS!W378,\"\")","v":""}]
[{"$f":"IF(DATOS!K379<>\"\",DATOS!K379,\"\")","v":""},{"$f":"IF(DATOS!V379<>\"\",DATOS!V379,\"\")","v":""},{"$f":"IF(DATOS!W379<>\"\",DATOS!W379,\"\")","v":""}]
[{"$f":"IF(DATOS!K380<>\"\",DATOS!K380,\"\")","v":""},{"$f":"IF(DATOS!V380<>\"\",DATOS!V380,\"\")","v":""},{"$f":"IF(DATOS!W380<>\"\",DATOS!W380,\"\")","v":""}]
[{"$f":"IF(DATOS!K381<>\"\",DATOS!K381,\"\")","v":""},{"$f":"IF(DATOS!V381<>\"\",DATOS!V381,\"\")","v":""},{"$f":"IF(DATOS!W381<>\"\",DATOS!W381,\"\")","v":""}]
[{"$f":"IF(DATOS!K382<>\"\",DATOS!K382,\"\")","v":""},{"$f":"IF(DATOS!V382<>\"\",DATOS!V382,\"\")","v":""},{"$f":"IF(DATOS!W382<>\"\",DATOS!W382,\"\")","v":""}]
[{"$f":"IF(DATOS!K383<>\"\",DATOS!K383,\"\")","v":""},{"$f":"IF(DATOS!V383<>\"\",DATOS!V383,\"\")","v":""},{"$f":"IF(DATOS!W383<>\"\",DATOS!W383,\"\")","v":""}]
[{"$f":"IF(DATOS!K384<>\"\",DATOS!K384,\"\")","v":""},{"$f":"IF(DATOS!V384<>\"\",DATOS!V384,\"\")","v":""},{"$f":"IF(DATOS!W384<>\"\",DATOS!W384,\"\")","v":""}]
[{"$f":"IF(DATOS!K385<>\"\",DATOS!K385,\"\")","v":""},{"$f":"IF(DATOS!V385<>\"\",DATOS!V385,\"\")","v":""},{"$f":"IF(DATOS!W385<>\"\",DATOS!W385,\"\")","v":""}]
[{"$f":"IF(DATOS!K386<>\"\",DATOS!K386,\"\")","v":""},{"$f":"IF(DATOS!V386<>\"\",DATOS!V386,\"\")","v":""},{"$f":"IF(DATOS!W386<>\"\",DATOS!W386,\"\")","v":""}]
[{"$f":"IF(DATOS!K387<>\"\",DATOS!K387,\"\")","v":""},{"$f":"IF(DATOS!V387<>\"\",DATOS!V387,\"\")","v":""},{"$f":"IF(DATOS!W387<>\"\",DATOS!W387,\"\")","v":""}]
[{"$f":"IF(DATOS!K388<>\"\",DATOS!K388,\"\")","v":""},{"$f":"IF(DATOS!V388<>\"\",DATOS!V388,\"\")","v":""},{"$f":"IF(DATOS!W388<>\"\",DATOS!W388,\"\")","v":""}]
[{"$f":"IF(DATOS!K389<>\"\",DATOS!K389,\"\")","v":""},{"$f":"IF(DATOS!V389<>\"\",DATOS!V389,\"\")","v":""},{"$f":"IF(DATOS!W389<>\"\",DATOS!W389,\"\")","v":""}]
[{"$f":"IF(DATOS!K390<>\"\",DATOS!K390,\"\")","v":""},{"$f":"IF(DATOS!V390<>\"\",DATOS!V390,\"\")","v":""},{"$f":"IF(DATOS!W390<>\"\",DATOS!W390,\"\")","v":""}]
[{"$f":"IF(DATOS!K391<>\"\",DATOS!K391,\"\")","v":""},{"$f":"IF(DATOS!V391<>\"\",DATOS!V391,\"\")","v":""},{"$f":"IF(DATOS!W391<>\"\",DATOS!W391,\"\")","v":""}]
[{"$f":"IF(DATOS!K392<>\"\",DATOS!K392,\"\")","v":""},{"$f":"IF(DATOS!V392<>\"\",DATOS!V392,\"\")","v":""},{"$f":"IF(DATOS!W392<>\"\",DATOS!W392,\"\")","v":""}]
[{"$f":"IF(DATOS!K393<>\"\",DATOS!K393,\"\")","v":""},{"$f":"IF(DATOS!V393<>\"\",DATOS!V393,\"\")","v":""},{"$f":"IF(DATOS!W393<>\"\",DATOS!W393,\"\")","v":""}]
[{"$f":"IF(DATOS!K394<>\"\",DATOS!K394,\"\")","v":""},{"$f":"IF(DATOS!V394<>\"\",DATOS!V394,\"\")","v":""},{"$f":"IF(DATOS!W394<>\"\",DATOS!W394,\"\")","v":""}]
[{"$f":"IF(DATOS!K395<>\"\",DATOS!K395,\"\")","v":""},{"$f":"IF(DATOS!V395<>\"\",DATOS!V395,\"\")","v":""},{"$f":"IF(DATOS!W395<>\"\",DATOS!W395,\"\")","v":""}]
[{"$f":"IF(DATOS!K396<>\"\",DATOS!K396,\"\")","v":""},{"$f":"IF(DATOS!V396<>\"\",DATOS!V396,\"\")","v":""},{"$f":"IF(DATOS!W396<>\"\",DATOS!W396,\"\")","v":""}]
[{"$f":"IF(DATOS!K397<>\"\",DATOS!K397,\"\")","v":""},{"$f":"IF(DATOS!V397<>\"\",DATOS!V397,\"\")","v":""},{"$f":"IF(DATOS!W397<>\"\",DATOS!W397,\"\")","v":""}]
[{"$f":"IF(DATOS!K398<>\"\",DATOS!K398,\"\")","v":""},{"$f":"IF(DATOS!V398<>\"\",DATOS!V398,\"\")","v":""},{"$f":"IF(DATOS!W398<>\"\",DATOS!W398,\"\")","v":""}]
[{"$f":"IF(DATOS!K399<>\"\",DATOS!K399,\"\")","v":""},{"$f":"IF(DATOS!V399<>\"\",DATOS!V399,\"\")","v":""},{"$f":"IF(DATOS!W399<>\"\",DATOS!W399,\"\")","v":""}]
[{"$f":"IF(DATOS!K400<>\"\",DATOS!K400,\"\")","v":""},{"$f":"IF(DATOS!V400<>\"\",DATOS!V400,\"\")","v":""},{"$f":"IF(DATOS!W400<>\"\",DATOS!W400,\"\")","v":""}]
[{"$f":"IF(DATOS!K401<>\"\",DATOS!K401,\"\")","v":""},{"$f":"IF(DATOS!V401<>\"\",DATOS!V401,\"\")","v":""},{"$f":"IF(DATOS!W401<>\"\",DATOS!W401,\"\")","v":""}]
[{"$f":"IF(DATOS!K402<>\"\",DATOS!K402,\"\")","v":""},{"$f":"IF(DATOS!V402<>\"\",DATOS!V402,\"\")","v":""},{"$f":"IF(DATOS!W402<>\"\",DATOS!W402,\"\")","v":""}]
[{"$f":"IF(DATOS!K403<>\"\",DATOS!K403,\"\")","v":""},{"$f":"IF(DATOS!V403<>\"\",DATOS!V403,\"\")","v":""},{"$f":"IF(DATOS!W403<>\"\",DATOS!W403,\"\")","v":""}]
[{"$f":"IF(DATOS!K404<>\"\",DATOS!K404,\"\")","v":""},{"$f":"IF(DATOS!V404<>\"\",DATOS!V404,\"\")","v":""},{"$f":"IF(DATOS!W404<>\"\",DATOS!W404,\"\")","v":""}]
[{"$f":"IF(DATOS!K405<>\"\",DATOS!K405,\"\")","v":""},{"$f":"IF(DATOS!V405<>\"\",DATOS!V405,\"\")","v":""},{"$f":"IF(DATOS!W405<>\"\",DATOS!W405,\"\")","v":""}]
[{"$f":"IF(DATOS!K406<>\"\",DATOS!K406,\"\")","v":""},{"$f":"IF(DATOS!V406<>\"\",DATOS!V406,\"\")","v":""},{"$f":"IF(DATOS!W406<>\"\",DATOS!W406,\"\")","v":""}]
[{"$f":"IF(DATOS!K407<>\"\",DATOS!K407,\"\")","v":""},{"$f":"IF(DATOS!V407<>\"\",DATOS!V407,\"\")","v":""},{"$f":"IF(DATOS!W407<>\"\",DATOS!W407,\"\")","v":""}]
[{"$f":"IF(DATOS!K408<>\"\",DATOS!K408,\"\")","v":""},{"$f":"IF(DATOS!V408<>\"\",DATOS!V408,\"\")","v":""},{"$f":"IF(DATOS!W408<>\"\",DATOS!W408,\"\")","v":""}]
[{"$f":"IF(DATOS!K409<>\"\",DATOS!K409,\"\")","v":""},{"$f":"IF(DATOS!V409<>\"\",DATOS!V409,\"\")","v":""},{"$f":"IF(DATOS!W409<>\"\",DATOS!W409,\"\")","v":""}]
[{"$f":"IF(DATOS!K410<>\"\",DATOS!K410,\"\")","v":""},{"$f":"IF(DATOS!V410<>\"\",DATOS!V410,\"\")","v":""},{"$f":"IF(DATOS!W410<>\"\",DATOS!W410,\"\")","v":""}]
[{"$f":"IF(DATOS!K411<>\"\",DATOS!K411,\"\")","v":""},{"$f":"IF(DATOS!V411<>\"\",DATOS!V411,\"\")","v":""},{"$f":"IF(DATOS!W411<>\"\",DATOS!W411,\"\")","v":""}]
[{"$f":"IF(DATOS!K412<>\"\",DATOS!K412,\"\")","v":""},{"$f":"IF(DATOS!V412<>\"\",DATOS!V412,\"\")","v":""},{"$f":"IF(DATOS!W412<>\"\",DATOS!W412,\"\")","v":""}]
[{"$f":"IF(DATOS!K413<>\"\",DATOS!K413,\"\")","v":""},{"$f":"IF(DATOS!V413<>\"\",DATOS!V413,\"\")","v":""},{"$f":"IF(DATOS!W413<>\"\",DATOS!W413,\"\")","v":""}]
[{"$f":"IF(DATOS!K414<>\"\",DATOS!K414,\"\")","v":""},{"$f":"IF(DATOS!V414<>\"\",DATOS!V414,\"\")","v":""},{"$f":"IF(DATOS!W414<>\"\",DATOS!W414,\"\")","v":""}]
[{"$f":"IF(DATOS!K415<>\"\",DATOS!K415,\"\")","v":""},{"$f":"IF(DATOS!V415<>\"\",DATOS!V415,\"\")","v":""},{"$f":"IF(DATOS!W415<>\"\",DATOS!W415,\"\")","v":""}]
[{"$f":"IF(DATOS!K416<>\"\",DATOS!K416,\"\")","v":""},{"$f":"IF(DATOS!V416<>\"\",DATOS!V416,\"\")","v":""},{"$f":"IF(DATOS!W416<>\"\",DATOS!W416,\"\")","v":""}]
[{"$f":"IF(DATOS!K417<>\"\",DATOS!K417,\"\")","v":""},{"$f":"IF(DATOS!V417<>\"\",DATOS!V417,\"\")","v":""},{"$f":"IF(DATOS!W417<>\"\",DATOS!W417,\"\")","v":""}]
[{"$f":"IF(DATOS!K418<>\"\",DATOS!K418,\"\")","v":""},{"$f":"IF(DATOS!V418<>\"\",DATOS!V418,\"\")","v":""},{"$f":"IF(DATOS!W418<>\"\",DATOS!W418,\"\")","v":""}]
[{"$f":"IF(DATOS!K419<>\"\",DATOS!K419,\"\")","v":""},{"$f":"IF(DATOS!V419<>\"\",DATOS!V419,\"\")","v":""},{"$f":"IF(DATOS!W419<>\"\",DATOS!W419,\"\")","v":""}]
[{"$f":"IF(DATOS!K420<>\"\",DATOS!K420,\"\")","v":""},{"$f":"IF(DATOS!V420<>\"\",DATOS!V420,\"\")","v":""},{"$f":"IF(DATOS!W420<>\"\",DATOS!W420,\"\")","v":""}]
[{"$f":"IF(DATOS!K421<>\"\",DATOS!K421,\"\")","v":""},{"$f":"IF(DATOS!V421<>\"\",DATOS!V421,\"\")","v":""},{"$f":"IF(DATOS!W421<>\"\",DATOS!W421,\"\")","v":""}]
[{"$f":"IF(DATOS!K422<>\"\",DATOS!K422,\"\")","v":""},{"$f":"IF(DATOS!V422<>\"\",DATOS!V422,\"\")","v":""},{"$f":"IF(DATOS!W422<>\"\",DATOS!W422,\"\")","v":""}]
[{"$f":"IF(DATOS!K423<>\"\",DATOS!K423,\"\")","v":""},{"$f":"IF(DATOS!V423<>\"\",DATOS!V423,\"\")","v":""},{"$f":"IF(DATOS!W423<>\"\",DATOS!W423,\"\")","v":""}]
[{"$f":"IF(DATOS!K424<>\"\",DATOS!K424,\"\")","v":""},{"$f":"IF(DATOS!V424<>\"\",DATOS!V424,\"\")","v":""},{"$f":"IF(DATOS!W424<>\"\",DATOS!W424,\"\")","v":""}]
[{"$f":"IF(DATOS!K425<>\"\",DATOS!K425,\"\")","v":""},{"$f":"IF(DATOS!V425<>\"\",DATOS!V425,\"\")","v":""},{"$f":"IF(DATOS!W425<>\"\",DATOS!W425,\"\")","v":""}]
[{"$f":"IF(DATOS!K426<>\"\",DATOS!K426,\"\")","v":""},{"$f":"IF(DATOS!V426<>\"\",DATOS!V426,\"\")","v":""},{"$f":"IF(DATOS!W426<>\"\",DATOS!W426,\"\")","v":""}]
[{"$f":"IF(DATOS!K427<>\"\",DATOS!K427,\"\")","v":""},{"$f":"IF(DATOS!V427<>\"\",DATOS!V427,\"\")","v":""},{"$f":"IF(DATOS!W427<>\"\",DATOS!W427,\"\")","v":""}]
[{"$f":"IF(DATOS!K428<>\"\",DATOS!K428,\"\")","v":""},{"$f":"IF(DATOS!V428<>\"\",DATOS!V428,\"\")","v":""},{"$f":"IF(DATOS!W428<>\"\",DATOS!W428,\"\")","v":""}]
[{"$f":"IF(DATOS!K429<>\"\",DATOS!K429,\"\")","v":""},{"$f":"IF(DATOS!V429<>\"\",DATOS!V429,\"\")","v":""},{"$f":"IF(DATOS!W429<>\"\",DATOS!W429,\"\")","v":""}]
[{"$f":"IF(DATOS!K430<>\"\",DATOS!K430,\"\")","v":""},{"$f":"IF(DATOS!V430<>\"\",DATOS!V430,\"\")","v":""},{"$f":"IF(DATOS!W430<>\"\",DATOS!W430,\"\")","v":""}]
[{"$f":"IF(DATOS!K431<>\"\",DATOS!K431,\"\")","v":""},{"$f":"IF(DATOS!V431<>\"\",DATOS!V431,\"\")","v":""},{"$f":"IF(DATOS!W431<>\"\",DATOS!W431,\"\")","v":""}]
[{"$f":"IF(DATOS!K432<>\"\",DATOS!K432,\"\")","v":""},{"$f":"IF(DATOS!V432<>\"\",DATOS!V432,\"\")","v":""},{"$f":"IF(DATOS!W432<>\"\",DATOS!W432,\"\")","v":""}]
[{"$f":"IF(DATOS!K433<>\"\",DATOS!K433,\"\")","v":""},{"$f":"IF(DATOS!V433<>\"\",DATOS!V433,\"\")","v":""},{"$f":"IF(DATOS!W433<>\"\",DATOS!W433,\"\")","v":""}]
[{"$f":"IF(DATOS!K434<>\"\",DATOS!K434,\"\")","v":""},{"$f":"IF(DATOS!V434<>\"\",DATOS!V434,\"\")","v":""},{"$f":"IF(DATOS!W434<>\"\",DATOS!W434,\"\")","v":""}]
[{"$f":"IF(DATOS!K435<>\"\",DATOS!K435,\"\")","v":""},{"$f":"IF(DATOS!V435<>\"\",DATOS!V435,\"\")","v":""},{"$f":"IF(DATOS!W435<>\"\",DATOS!W435,\"\")","v":""}]
[{"$f":"IF(DATOS!K436<>\"\",DATOS!K436,\"\")","v":""},{"$f":"IF(DATOS!V436<>\"\",DATOS!V436,\"\")","v":""},{"$f":"IF(DATOS!W436<>\"\",DATOS!W436,\"\")","v":""}]
[{"$f":"IF(DATOS!K437<>\"\",DATOS!K437,\"\")","v":""},{"$f":"IF(DATOS!V437<>\"\",DATOS!V437,\"\")","v":""},{"$f":"IF(DATOS!W437<>\"\",DATOS!W437,\"\")","v":""}]
[{"$f":"IF(DATOS!K438<>\"\",DATOS!K438,\"\")","v":""},{"$f":"IF(DATOS!V438<>\"\",DATOS!V438,\"\")","v":""},{"$f":"IF(DATOS!W438<>\"\",DATOS!W438,\"\")","v":""}]
[{"$f":"IF(DATOS!K439<>\"\",DATOS!K439,\"\")","v":""},{"$f":"IF(DATOS!V439<>\"\",DATOS!V439,\"\")","v":""},{"$f":"IF(DATOS!W439<>\"\",DATOS!W439,\"\")","v":""}]
[{"$f":"IF(DATOS!K440<>\"\",DATOS!K440,\"\")","v":""},{"$f":"IF(DATOS!V440<>\"\",DATOS!V440,\"\")","v":""},{"$f":"IF(DATOS!W440<>\"\",DATOS!W440,\"\")","v":""}]
[{"$f":"IF(DATOS!K441<>\"\",DATOS!K441,\"\")","v":""},{"$f":"IF(DATOS!V441<>\"\",DATOS!V441,\"\")","v":""},{"$f":"IF(DATOS!W441<>\"\",DATOS!W441,\"\")","v":""}]
[{"$f":"IF(DATOS!K442<>\"\",DATOS!K442,\"\")","v":""},{"$f":"IF(DATOS!V442<>\"\",DATOS!V442,\"\")","v":""},{"$f":"IF(DATOS!W442<>\"\",DATOS!W442,\"\")","v":""}]
[{"$f":"IF(DATOS!K443<>\"\",DATOS!K443,\"\")","v":""},{"$f":"IF(DATOS!V443<>\"\",DATOS!V443,\"\")","v":""},{"$f":"IF(DATOS!W443<>\"\",DATOS!W443,\"\")","v":""}]
[{"$f":"IF(DATOS!K444<>\"\",DATOS!K444,\"\")","v":""},{"$f":"IF(DATOS!V444<>\"\",DATOS!V444,\"\")","v":""},{"$f":"IF(DATOS!W444<>\"\",DATOS!W444,\"\")","v":""}]
[{"$f":"IF(DATOS!K445<>\"\",DATOS!K445,\"\")","v":""},{"$f":"IF(DATOS!V445<>\"\",DATOS!V445,\"\")","v":""},{"$f":"IF(DATOS!W445<>\"\",DATOS!W445,\"\")","v":""}]
[{"$f":"IF(DATOS!K446<>\"\",DATOS!K446,\"\")","v":""},{"$f":"IF(DATOS!V446<>\"\",DATOS!V446,\"\")","v":""},{"$f":"IF(DATOS!W446<>\"\",DATOS!W446,\"\")","v":""}]
[{"$f":"IF(DATOS!K447<>\"\",DATOS!K447,\"\")","v":""},{"$f":"IF(DATOS!V447<>\"\",DATOS!V447,\"\")","v":""},{"$f":"IF(DATOS!W447<>\"\",DATOS!W447,\"\")","v":""}]
[{"$f":"IF(DATOS!K448<>\"\",DATOS!K448,\"\")","v":""},{"$f":"IF(DATOS!V448<>\"\",DATOS!V448,\"\")","v":""},{"$f":"IF(DATOS!W448<>\"\",DATOS!W448,\"\")","v":""}]
[{"$f":"IF(DATOS!K449<>\"\",DATOS!K449,\"\")","v":""},{"$f":"IF(DATOS!V449<>\"\",DATOS!V449,\"\")","v":""},{"$f":"IF(DATOS!W449<>\"\",DATOS!W449,\"\")","v":""}]
[{"$f":"IF(DATOS!K450<>\"\",DATOS!K450,\"\")","v":""},{"$f":"IF(DATOS!V450<>\"\",DATOS!V450,\"\")","v":""},{"$f":"IF(DATOS!W450<>\"\",DATOS!W450,\"\")","v":""}]
[{"$f":"IF(DATOS!K451<>\"\",DATOS!K451,\"\")","v":""},{"$f":"IF(DATOS!V451<>\"\",DATOS!V451,\"\")","v":""},{"$f":"IF(DATOS!W451<>\"\",DATOS!W451,\"\")","v":""}]
[{"$f":"IF(DATOS!K452<>\"\",DATOS!K452,\"\")","v":""},{"$f":"IF(DATOS!V452<>\"\",DATOS!V452,\"\")","v":""},{"$f":"IF(DATOS!W452<>\"\",DATOS!W452,\"\")","v":""}]
[{"$f":"IF(DATOS!K453<>\"\",DATOS!K453,\"\")","v":""},{"$f":"IF(DATOS!V453<>\"\",DATOS!V453,\"\")","v":""},{"$f":"IF(DATOS!W453<>\"\",DATOS!W453,\"\")","v":""}]
[{"$f":"IF(DATOS!K454<>\"\",DATOS!K454,\"\")","v":""},{"$f":"IF(DATOS!V454<>\"\",DATOS!V454,\"\")","v":""},{"$f":"IF(DATOS!W454<>\"\",DATOS!W454,\"\")","v":""}]
[{"$f":"IF(DATOS!K455<>\"\",DATOS!K455,\"\")","v":""},{"$f":"IF(DATOS!V455<>\"\",DATOS!V455,\"\")","v":""},{"$f":"IF(DATOS!W455<>\"\",DATOS!W455,\"\")","v":""}]
[{"$f":"IF(DATOS!K456<>\"\",DATOS!K456,\"\")","v":""},{"$f":"IF(DATOS!V456<>\"\",DATOS!V456,\"\")","v":""},{"$f":"IF(DATOS!W456<>\"\",DATOS!W456,\"\")","v":""}]
[{"$f":"IF(DATOS!K457<>\"\",DATOS!K457,\"\")","v":""},{"$f":"IF(DATOS!V457<>\"\",DATOS!V457,\"\")","v":""},{"$f":"IF(DATOS!W457<>\"\",DATOS!W457,\"\")","v":""}]
[{"$f":"IF(DATOS!K458<>\"\",DATOS!K458,\"\")","v":""},{"$f":"IF(DATOS!V458<>\"\",DATOS!V458,\"\")","v":""},{"$f":"IF(DATOS!W458<>\"\",DATOS!W458,\"\")","v":""}]
[{"$f":"IF(DATOS!K459<>\"\",DATOS!K459,\"\")","v":""},{"$f":"IF(DATOS!V459<>\"\",DATOS!V459,\"\")","v":""},{"$f":"IF(DATOS!W459<>\"\",DATOS!W459,\"\")","v":""}]
[{"$f":"IF(DATOS!K460<>\"\",DATOS!K460,\"\")","v":""},{"$f":"IF(DATOS!V460<>\"\",DATOS!V460,\"\")","v":""},{"$f":"IF(DATOS!W460<>\"\",DATOS!W460,\"\")","v":""}]
[{"$f":"IF(DATOS!K461<>\"\",DATOS!K461,\"\")","v":""},{"$f":"IF(DATOS!V461<>\"\",DATOS!V461,\"\")","v":""},{"$f":"IF(DATOS!W461<>\"\",DATOS!W461,\"\")","v":""}]
[{"$f":"IF(DATOS!K462<>\"\",DATOS!K462,\"\")","v":""},{"$f":"IF(DATOS!V462<>\"\",DATOS!V462,\"\")","v":""},{"$f":"IF(DATOS!W462<>\"\",DATOS!W462,\"\")","v":""}]
[{"$f":"IF(DATOS!K463<>\"\",DATOS!K463,\"\")","v":""},{"$f":"IF(DATOS!V463<>\"\",DATOS!V463,\"\")","v":""},{"$f":"IF(DATOS!W463<>\"\",DATOS!W463,\"\")","v":""}]
[{"$f":"IF(DATOS!K464<>\"\",DATOS!K464,\"\")","v":""},{"$f":"IF(DATOS!V464<>\"\",DATOS!V464,\"\")","v":""},{"$f":"IF(DATOS!W464<>\"\",DATOS!W464,\"\")","v":""}]
[{"$f":"IF(DATOS!K465<>\"\",DATOS!K465,\"\")","v":""},{"$f":"IF(DATOS!V465<>\"\",DATOS!V465,\"\")","v":""},{"$f":"IF(DATOS!W465<>\"\",DATOS!W465,\"\")","v":""}]
[{"$f":"IF(DATOS!K466<>\"\",DATOS!K466,\"\")","v":""},{"$f":"IF(DATOS!V466<>\"\",DATOS!V466,\"\")","v":""},{"$f":"IF(DATOS!W466<>\"\",DATOS!W466,\"\")","v":""}]
[{"$f":"IF(DATOS!K467<>\"\",DATOS!K467,\"\")","v":""},{"$f":"IF(DATOS!V467<>\"\",DATOS!V467,\"\")","v":""},{"$f":"IF(DATOS!W467<>\"\",DATOS!W467,\"\")","v":""}]
[{"$f":"IF(DATOS!K468<>\"\",DATOS!K468,\"\")","v":""},{"$f":"IF(DATOS!V468<>\"\",DATOS!V468,\"\")","v":""},{"$f":"IF(DATOS!W468<>\"\",DATOS!W468,\"\")","v":""}]
[{"$f":"IF(DATOS!K469<>\"\",DATOS!K469,\"\")","v":""},{"$f":"IF(DATOS!V469<>\"\",DATOS!V469,\"\")","v":""},{"$f":"IF(DATOS!W469<>\"\",DATOS!W469,\"\")","v":""}]
[{"$f":"IF(DATOS!K470<>\"\",DATOS!K470,\"\")","v":""},{"$f":"IF(DATOS!V470<>\"\",DATOS!V470,\"\")","v":""},{"$f":"IF(DATOS!W470<>\"\",DATOS!W470,\"\")","v":""}]
[{"$f":"IF(DATOS!K471<>\"\",DATOS!K471,\"\")","v":""},{"$f":"IF(DATOS!V471<>\"\",DATOS!V471,\"\")","v":""},{"$f":"IF(DATOS!W471<>\"\",DATOS!W471,\"\")","v":""}]
[{"$f":"IF(DATOS!K472<>\"\",DATOS!K472,\"\")","v":""},{"$f":"IF(DATOS!V472<>\"\",DATOS!V472,\"\")","v":""},{"$f":"IF(DATOS!W472<>\"\",DATOS!W472,\"\")","v":""}]
[{"$f":"IF(DATOS!K473<>\"\",DATOS!K473,\"\")","v":""},{"$f":"IF(DATOS!V473<>\"\",DATOS!V473,\"\")","v":""},{"$f":"IF(DATOS!W473<>\"\",DATOS!W473,\"\")","v":""}]
[{"$f":"IF(DATOS!K474<>\"\",DATOS!K474,\"\")","v":""},{"$f":"IF(DATOS!V474<>\"\",DATOS!V474,\"\")","v":""},{"$f":"IF(DATOS!W474<>\"\",DATOS!W474,\"\")","v":""}]
[{"$f":"IF(DATOS!K475<>\"\",DATOS!K475,\"\")","v":""},{"$f":"IF(DATOS!V475<>\"\",DATOS!V475,\"\")","v":""},{"$f":"IF(DATOS!W475<>\"\",DATOS!W475,\"\")","v":""}]
[{"$f":"IF(DATOS!K476<>\"\",DATOS!K476,\"\")","v":""},{"$f":"IF(DATOS!V476<>\"\",DATOS!V476,\"\")","v":""},{"$f":"IF(DATOS!W476<>\"\",DATOS!W476,\"\")","v":""}]
[{"$f":"IF(DATOS!K477<>\"\",DATOS!K477,\"\")","v":""},{"$f":"IF(DATOS!V477<>\"\",DATOS!V477,\"\")","v":""},{"$f":"IF(DATOS!W477<>\"\",DATOS!W477,\"\")","v":""}]
[{"$f":"IF(DATOS!K478<>\"\",DATOS!K478,\"\")","v":""},{"$f":"IF(DATOS!V478<>\"\",DATOS!V478,\"\")","v":""},{"$f":"IF(DATOS!W478<>\"\",DATOS!W478,\"\")","v":""}]
[{"$f":"IF(DATOS!K479<>\"\",DATOS!K479,\"\")","v":""},{"$f":"IF(DATOS!V479<>\"\",DATOS!V479,\"\")","v":""},{"$f":"IF(DATOS!W479<>\"\",DATOS!W479,\"\")","v":""}]
[{"$f":"IF(DATOS!K480<>\"\",DATOS!K480,\"\")","v":""},{"$f":"IF(DATOS!V480<>\"\",DATOS!V480,\"\")","v":""},{"$f":"IF(DATOS!W480<>\"\",DATOS!W480,\"\")","v":""}]
[{"$f":"IF(DATOS!K481<>\"\",DATOS!K481,\"\")","v":""},{"$f":"IF(DATOS!V481<>\"\",DATOS!V481,\"\")","v":""},{"$f":"IF(DATOS!W481<>\"\",DATOS!W481,\"\")","v":""}]
[{"$f":"IF(DATOS!K482<>\"\",DATOS!K482,\"\")","v":""},{"$f":"IF(DATOS!V482<>\"\",DATOS!V482,\"\")","v":""},{"$f":"IF(DATOS!W482<>\"\",DATOS!W482,\"\")","v":""}]
[{"$f":"IF(DATOS!K483<>\"\",DATOS!K483,\"\")","v":""},{"$f":"IF(DATOS!V483<>\"\",DATOS!V483,\"\")","v":""},{"$f":"IF(DATOS!W483<>\"\",DATOS!W483,\"\")","v":""}]
[{"$f":"IF(DATOS!K484<>\"\",DATOS!K484,\"\")","v":""},{"$f":"IF(DATOS!V484<>\"\",DATOS!V484,\"\")","v":""},{"$f":"IF(DATOS!W484<>\"\",DATOS!W484,\"\")","v":""}]
[{"$f":"IF(DATOS!K485<>\"\",DATOS!K485,\"\")","v":""},{"$f":"IF(DATOS!V485<>\"\",DATOS!V485,\"\")","v":""},{"$f":"IF(DATOS!W485<>\"\",DATOS!W485,\"\")","v":""}]
[{"$f":"IF(DATOS!K486<>\"\",DATOS!K486,\"\")","v":""},{"$f":"IF(DATOS!V486<>\"\",DATOS!V486,\"\")","v":""},{"$f":"IF(DATOS!W486<>\"\",DATOS!W486,\"\")","v":""}]
[{"$f":"IF(DATOS!K487<>\"\",DATOS!K487,\"\")","v":""},{"$f":"IF(DATOS!V487<>\"\",DATOS!V487,\"\")","v":""},{"$f":"IF(DATOS!W487<>\"\",DATOS!W487,\"\")","v":""}]
[{"$f":"IF(DATOS!K488<>\"\",DATOS!K488,\"\")","v":""},{"$f":"IF(DATOS!V488<>\"\",DATOS!V488,\"\")","v":""},{"$f":"IF(DATOS!W488<>\"\",DATOS!W488,\"\")","v":""}]
[{"$f":"IF(DATOS!K489<>\"\",DATOS!K489,\"\")","v":""},{"$f":"IF(DATOS!V489<>\"\",DATOS!V489,\"\")","v":""},{"$f":"IF(DATOS!W489<>\"\",DATOS!W489,\"\")","v":""}]
[{"$f":"IF(DATOS!K490<>\"\",DATOS!K490,\"\")","v":""},{"$f":"IF(DATOS!V490<>\"\",DATOS!V490,\"\")","v":""},{"$f":"IF(DATOS!W490<>\"\",DATOS!W490,\"\")","v":""}]
[{"$f":"IF(DATOS!K491<>\"\",DATOS!K491,\"\")","v":""},{"$f":"IF(DATOS!V491<>\"\",DATOS!V491,\"\")","v":""},{"$f":"IF(DATOS!W491<>\"\",DATOS!W491,\"\")","v":""}]
[{"$f":"IF(DATOS!K492<>\"\",DATOS!K492,\"\")","v":""},{"$f":"IF(DATOS!V492<>\"\",DATOS!V492,\"\")","v":""},{"$f":"IF(DATOS!W492<>\"\",DATOS!W492,\"\")","v":""}]
[{"$f":"IF(DATOS!K493<>\"\",DATOS!K493,\"\")","v":""},{"$f":"IF(DATOS!V493<>\"\",DATOS!V493,\"\")","v":""},{"$f":"IF(DATOS!W493<>\"\",DATOS!W493,\"\")","v":""}]
[{"$f":"IF(DATOS!K494<>\"\",DATOS!K494,\"\")","v":""},{"$f":"IF(DATOS!V494<>\"\",DATOS!V494,\"\")","v":""},{"$f":"IF(DATOS!W494<>\"\",DATOS!W494,\"\")","v":""}]
[{"$f":"IF(DATOS!K495<>\"\",DATOS!K495,\"\")","v":""},{"$f":"IF(DATOS!V495<>\"\",DATOS!V495,\"\")","v":""},{"$f":"IF(DATOS!W495<>\"\",DATOS!W495,\"\")","v":""}]
[{"$f":"IF(DATOS!K496<>\"\",DATOS!K496,\"\")","v":""},{"$f":"IF(DATOS!V496<>\"\",DATOS!V496,\"\")","v":""},{"$f":"IF(DATOS!W496<>\"\",DATOS!W496,\"\")","v":""}]
[{"$f":"IF(DATOS!K497<>\"\",DATOS!K497,\"\")","v":""},{"$f":"IF(DATOS!V497<>\"\",DATOS!V497,\"\")","v":""},{"$f":"IF(DATOS!W497<>\"\",DATOS!W497,\"\")","v":""}]
[{"$f":"IF(DATOS!K498<>\"\",DATOS!K498,\"\")","v":""},{"$f":"IF(DATOS!V498<>\"\",DATOS!V498,\"\")","v":""},{"$f":"IF(DATOS!W498<>\"\",DATOS!W498,\"\")","v":""}]
[{"$f":"IF(DATOS!K499<>\"\",DATOS!K499,\"\")","v":""},{"$f":"IF(DATOS!V499<>\"\",DATOS!V499,\"\")","v":""},{"$f":"IF(DATOS!W499<>\"\",DATOS!W499,\"\")","v":""}]
[{"$f":"IF(DATOS!K500<>\"\",DATOS!K500,\"\")","v":""},{"$f":"IF(DATOS!V500<>\"\",DATOS!V500,\"\")","v":""},{"$f":"IF(DATOS!W500<>\"\",DATOS!W500,\"\")","v":""}]
[{"$f":"IF(DATOS!K501<>\"\",DATOS!K501,\"\")","v":""},{"$f":"IF(DATOS!V501<>\"\",DATOS!V501,\"\")","v":""},{"$f":"IF(DATOS!W501<>\"\",DATOS!W501,\"\")","v":""}]
[{"$f":"IF(DATOS!K502<>\"\",DATOS!K502,\"\")","v":""},{"$f":"IF(DATOS!V502<>\"\",DATOS!V502,\"\")","v":""},{"$f":"IF(DATOS!W502<>\"\",DATOS!W502,\"\")","v":""}]
[{"$f":"IF(DATOS!K503<>\"\",DATOS!K503,\"\")","v":""},{"$f":"IF(DATOS!V503<>\"\",DATOS!V503,\"\")","v":""},{"$f":"IF(DATOS!W503<>\"\",DATOS!W503,\"\")","v":""}]
[{"$f":"IF(DATOS!K504<>\"\",DATOS!K504,\"\")","v":""},{"$f":"IF(DATOS!V504<>\"\",DATOS!V504,\"\")","v":""},{"$f":"IF(DATOS!W504<>\"\",DATOS!W504,\"\")","v":""}]
[null,null,{"$f":"IF(DATOS!W505<>\"\",DATOS!W505,\"\")","v":""}]

{"sheet":"AGD_MUESTREOS","index":7,"n_rows":0,"n_cols":0,"rows_kept":0,"cut":false,"hidden":true,"merged":[]}

{"sheet":"AGD_PARAMETRO","index":8,"n_rows":0,"n_cols":0,"rows_kept":0,"cut":false,"hidden":true,"merged":[]}

{"sheet":"AGD_MUESTRAS","index":9,"n_rows":0,"n_cols":0,"rows_kept":0,"cut":false,"hidden":true,"merged":[]}

{"sheet":"AGD_MUESTRAS_VARIABLES","index":10,"n_rows":0,"n_cols":0,"rows_kept":0,"cut":false,"hidden":true,"merged":[]}

{"sheet":"AGD_AUTORIAS","index":11,"n_rows":0,"n_cols":0,"rows_kept":0,"cut":false,"hidden":true,"merged":[]}